{"text_format":"1","workbook":"xlsx","n_sheets":13,"sheets":["INTRO","COUNTRY_INFO","MDA1","MDA2","MDA3","T1","T2","T3_R1","T3_R2","DISTRICT","SUMMARY","PROFILE","DATA_POLICY"],"not_rendered":{"charts":8,"images":3,"macros":1,"external_links":0,"defined_names":7,"comments":11,"pivot_tables":0},"unopened":[],"bounds":{"document_bytes":16777216,"sheet_cells":100000,"rows_first":2000,"rows_last":500,"rows_between":2000,"halvings":0,"cell_chars":16384,"cell_head_chars":4096},"cells_cut":0,"cells_raw":0,"read":"whole","date_system":"1900"}

{"sheet":"INTRO","index":0,"n_rows":50,"n_cols":5,"rows_kept":50,"cut":false,"hidden":false,"merged":[[45,1,45,2],[10,2,10,4],[41,1,41,2],[43,1,43,2],[46,1,46,4],[33,1,33,2],[35,1,35,2],[26,2,27,4],[37,1,37,2],[39,1,39,2],[28,1,28,4],[29,2,29,4],[30,1,30,4],[31,1,31,4],[20,1,20,4],[21,2,21,4],[22,1,22,4],[23,2,24,4],[25,1,25,4],[15,1,15,4],[16,1,16,4],[17,1,17,4],[18,1,18,4],[19,2,19,4],[9,2,9,4],[11,2,11,4],[12,1,12,4],[13,1,13,4],[14,1,14,4],[7,2,7,4],[8,2,8,4],[0,1,0,4],[1,1,1,4],[2,1,2,4],[3,1,3,4],[4,1,4,4],[5,1,5,4]]}
[]
[null,"PC Joint Reporting Form v.3.1"]
[]
[null,"The purpose of this template Joint Reporting Form (JRF) - available as an Excel file - is to provide national health authorities and data managers with a standardized tool to address these reporting challenges, facilitate  integration and thereby further contribute to improving overall programme management. This template aims to standardize national reporting of programme implementation outcomes, improve availability and coordination of preventive chemotherapy data across the World Health Organization regions. \nNational authorities are requested to complete this form for submission to the World Health Organization any time before 15 August of the current year for reporting data on PC interventions implemented during the previous year."]
[]
[null,"Structure of the application (worksheets):"]
[]
[null,"INTRO","This worksheet includes guides on how to complete the joint reporting form and information about status of PC for endemic diseases in the country"]
[null,"COUNTRY_INFO","This worksheet includes information about administrative structure of the country, population by age group, status of endemicity for each disease, population requiring PC, planned interventions and interventions implemented"]
[null,"MDA1, MDA2, MDA3, T1, T2 and T3","These worksheets include information about endemic districts targeted for treatment with specified PC medicines, treatment plan, and number of people who received treatment by age group"]
[null,"DISTRICT","This worksheet includes summary of people treated by disease at the level of implementation. If data by gender is available, it requires to enter."]
[null,"SUMMARY","This worksheet includes summary of people treated by disease and by PC intervention. Before generating the report (run macros) please select the disease for which you need the report. Follow the same rule to generate various reports.\nThis worksheet should be printed and submitted as a Joint Report (see the instruction for submission in the SUMMARY worksheet)."]
[]
[null,"Instruction for data entry"]
[]
[null,"Most of the cells in the above-mentioned worksheets include formula that are calculated automatically according to the treatment policy recommended by WHO for each disease.\nSee the link http://www.who.int/neglected_diseases/preventive_chemotherapy/pct_manual/en/index.html"]
[]
[null,"Please enter your data into the cells according to their colour code:"]
[]
[null,null,"White - cell is not protected. Please enter the value of the requested indicator."]
[]
[null,null,"Yellow - cell is protected and includes name of indicator. No data entry required."]
[]
[null,null,"Orange - cell is not protected and includes a drop-down menu. Please select the value from the drop-down list."]
[]
[]
[null,null,"Green - cell is not protected and includes formula. Please change the value only if your data are different from those that are calculated automatically."]
[]
[]
[null,null,"Blue - cell is protected and includes formula. No data entry required."]
[]
[null,"Country data"]
[]
[null,"COUNTRY",null,null,"Mozambique"]
[]
[null,"Year of reporting data",null,null,2019]
[]
[null,"Is country endemic for lymphatic filariasis (LF)?",null,null,"Endemic"]
[]
[null,"Is country endemic for onchocerciasis (ONCHO)?",null,null,"Endemic but PC is not required"]
[]
[null,"Is country endemic for soil-transmitted helminthiases (STH)?",null,null,"Endemic"]
[]
[null,"Is country endemic for schistosomiasis (SCH)?",null,null,"Endemic"]
[]
[null,"How many administrative units in the country?",null,null,161]
[null,"If demographical data at the second administrative level are not available by age group, please enter the proportion (%) of population by age group in the country. If data are available, please leave these cells blank."]
[null,"1-4 years age","Preschool-age children (PreSAC)",null,0.11600000000000001]
[null,"5-14 years age","School-age children (SAC)",null,0.28000000000000003]
[null,"15 years +","Adults",null,0.57499999999999996]

{"sheet":"COUNTRY_INFO","index":1,"n_rows":170,"n_cols":66,"rows_kept":170,"cut":false,"hidden":false,"merged":[[3,0,3,2],[3,7,3,10],[3,19,3,20],[5,0,5,2],[3,15,3,18],[5,15,5,18],[3,21,3,22],[5,21,5,22],[5,3,5,6],[5,7,5,10],[5,11,5,14],[5,19,5,20]]}
["COUNTRY INFORMATION"]
["Administrative structure, population by age group, endemicity status, planned interventions and interventions implemented"]
[]
["TOTAL",null,null,{"$f":"SUM(D$9:D$1000)","v":28584507.258740943},{"$f":"SUM(E$9:E$1000)","v":3315798},{"$f":"SUM(F$9:F$1000)","v":8003658},{"$f":"SUM(G$9:G$1000)","v":16436093},null,null,null,null,{"$f":"SUM(L$9:L$1000)","v":18059542.021553796},{"$f":"SUM(M$9:M$1000)","v":0},{"$f":"SUM(N$9:N$1000)","v":10862269},{"$f":"SUM(O$9:O$1000)","v":15726917.080000002}]
[]
["Country administrative structure",null,null,"Population",null,null,null,"Endemicity",null,null,null,"Population requiring PC",null,null,null,"Number of treatment\nrounds planned for the year",null,null,null,"PC implemented",null,"Click to see the recommended strategy"]
["Country","Province/State","District","Total","PreSAC","SAC","Adults","LF","Oncho","STH","SCH","LF","Oncho","STH","SCH","LF","Oncho","STH","SCH","ROUND 1","ROUND2",null,null,"IU_ID","IU_Name",null,null,null,null,"JRSM2020",null,null,null,null,null,null,null,null,null,null,"JRSM2019",null,null,null,null,null,null,null,null,null,"MDA1","T1","T2",null,null,"lf","sth","sch"]
[]
[{"$f":"IF(INTRO!$E$34<>0,INTRO!$E$34,\"\")","v":"Mozambique"},"Cabo Delgado","Cid. Pemba",238679.57495053884,{"$f":"IF(INTRO!$E$48=\"\",\"\",ROUND($D9*INTRO!$E$48,0))","v":27687},{"$f":"IF(INTRO!$E$49=\"\",\"\",ROUND($D9*INTRO!$E$49,0))","v":66830},{"$f":"IF(INTRO!$E$50=\"\",\"\",ROUND($D9*INTRO!$E$50,0))","v":137241},1,4,3,1,{"$f":"IF(INTRO!$E$38=\"Endemic\", IF($H9>0, IF($H9=4,\"Unknown\", IF($H9=99,\"Stopped\", $D9)), 0),\"Not required\")","v":238679.57495053884},{"$f":"IF(INTRO!$E$40=\"Endemic\", IF($I9>0, IF($I9=4,\"Unknown\",IF($I9=99,\"Stopped\", $D9)), 0),\"Not required\")","v":"Not required"},{"$f":"IF(INTRO!$E$42=\"Endemic\", IF(AND($J9>1,$J9<5), IF($J9=4, \"Unknown\", E9+F9), 0),\"Not required\")","v":94517},{"$f":"IF(INTRO!$E$44=\"Endemic\", IF(AND($K9>0,$K9<5), IF($K9=4,\"Unknown\", IF($K9=1, $F9*0.33, IF($K9=2, $F9*0.5+$G9*0.2, SUM(F9:G9)))), 0),\"Not required\")","v":22053.9},0,null,0,0,null,null,"MDA 1","T1",33103,"Cid. Pemba",null,{"$f":"AC9=C9","v":true},"Cabo Delgado","Cid. Pemba",1,4,3,1,{"$f":"AD9=H9","v":true},{"$f":"AE9=I9","v":true},true,true,null,null,null,1,null,3,1,{"$f":"AO9=H9","v":true},null,{"$f":"AQ9=J9","v":true},true,null,null,{"$f":"'MDA1'!M9","v":0},{"$f":"'T1'!O9","v":0},{"$f":"'T2'!M9","v":0},null,null,{"$f":"DISTRICT!H8:H9","v":0},{"$f":"DISTRICT!X9","v":0},{"$f":"DISTRICT!AH9","v":0},null,null,2,0,{"$f":"BI9=R9","v":false},{"$f":"BJ9=S9","v":true},"Cid. Pemba",{"$f":"BM9=C9","v":true}]
[{"$f":"IF(INTRO!$E$34<>0,INTRO!$E$34,\"\")","v":"Mozambique"},"Cabo Delgado","Ancuabe",124186.22527155356,{"$f":"IF(INTRO!$E$48=\"\",\"\",ROUND($D10*INTRO!$E$48,0))","v":14406},{"$f":"IF(INTRO!$E$49=\"\",\"\",ROUND($D10*INTRO!$E$49,0))","v":34772},{"$f":"IF(INTRO!$E$50=\"\",\"\",ROUND($D10*INTRO!$E$50,0))","v":71407},1,4,3,3,{"$f":"IF(INTRO!$E$38=\"Endemic\", IF($H10>0, IF($H10=4,\"Unknown\", IF($H10=99,\"Stopped\", $D10)), 0),\"Not required\")","v":124186.22527155356},{"$f":"IF(INTRO!$E$40=\"Endemic\", IF($I10>0, IF($I10=4,\"Unknown\",IF($I10=99,\"Stopped\", $D10)), 0),\"Not required\")","v":"Not required"},{"$f":"IF(INTRO!$E$42=\"Endemic\", IF(AND($J10>1,$J10<5), IF($J10=4, \"Unknown\", E10+F10), 0),\"Not required\")","v":49178},{"$f":"IF(INTRO!$E$44=\"Endemic\", IF(AND($K10>0,$K10<5), IF($K10=4,\"Unknown\", IF($K10=1, $F10*0.33, IF($K10=2, $F10*0.5+$G10*0.2, SUM(F10:G10)))), 0),\"Not required\")","v":106179},0,null,0,1,null,null,"MDA 1","T1",33100,"Ancuabe",null,{"$f":"AC10=C10","v":true},"Cabo Delgado","Ancuabe",1,4,3,3,{"$f":"AD10=H10","v":true},{"$f":"AE10=I10","v":true},{"$f":"AF10=J10","v":true},{"$f":"AG10=K10","v":true},null,null,null,1,null,3,3,{"$f":"AO10=H10","v":true},null,true,true,null,null,{"$f":"'MDA1'!M10","v":0},{"$f":"'T1'!O10","v":0},{"$f":"'T2'!M10","v":0},null,null,{"$f":"DISTRICT!H9:H10","v":0},{"$f":"DISTRICT!X10","v":0},{"$f":"DISTRICT!AH10","v":0},null,null,2,1,{"$f":"BI10=R10","v":false},{"$f":"BJ10=S10","v":true},"Ancuabe",{"$f":"BM10=C10","v":true}]
[{"$f":"IF(INTRO!$E$34<>0,INTRO!$E$34,\"\")","v":"Mozambique"},"Cabo Delgado","Balama",147681.71688970109,{"$f":"IF(INTRO!$E$48=\"\",\"\",ROUND($D11*INTRO!$E$48,0))","v":17131},{"$f":"IF(INTRO!$E$49=\"\",\"\",ROUND($D11*INTRO!$E$49,0))","v":41351},{"$f":"IF(INTRO!$E$50=\"\",\"\",ROUND($D11*INTRO!$E$50,0))","v":84917},1,4,3,3,{"$f":"IF(INTRO!$E$38=\"Endemic\", IF($H11>0, IF($H11=4,\"Unknown\", IF($H11=99,\"Stopped\", $D11)), 0),\"Not required\")","v":147681.71688970109},{"$f":"IF(INTRO!$E$40=\"Endemic\", IF($I11>0, IF($I11=4,\"Unknown\",IF($I11=99,\"Stopped\", $D11)), 0),\"Not required\")","v":"Not required"},{"$f":"IF(INTRO!$E$42=\"Endemic\", IF(AND($J11>1,$J11<5), IF($J11=4, \"Unknown\", E11+F11), 0),\"Not required\")","v":58482},{"$f":"IF(INTRO!$E$44=\"Endemic\", IF(AND($K11>0,$K11<5), IF($K11=4,\"Unknown\", IF($K11=1, $F11*0.33, IF($K11=2, $F11*0.5+$G11*0.2, SUM(F11:G11)))), 0),\"Not required\")","v":126268},0,null,0,1,null,null,"MDA 1","T1",33101,"Balama",null,true,"Cabo Delgado","Balama",1,4,3,3,true,true,true,true,null,null,null,1,null,3,3,true,null,true,true,null,null,{"$f":"'MDA1'!M11","v":0},{"$f":"'T1'!O11","v":0},{"$f":"'T2'!M11","v":0},null,null,{"$f":"DISTRICT!H10:H11","v":0},{"$f":"DISTRICT!X11","v":0},{"$f":"DISTRICT!AH11","v":0},null,null,2,1,false,true,"Balama",true]
[{"$f":"IF(INTRO!$E$34<>0,INTRO!$E$34,\"\")","v":"Mozambique"},"Cabo Delgado","Chiure",260658.85493739988,{"$f":"IF(INTRO!$E$48=\"\",\"\",ROUND($D12*INTRO!$E$48,0))","v":30236},{"$f":"IF(INTRO!$E$49=\"\",\"\",ROUND($D12*INTRO!$E$49,0))","v":72984},{"$f":"IF(INTRO!$E$50=\"\",\"\",ROUND($D12*INTRO!$E$50,0))","v":149879},1,4,3,3,{"$f":"IF(INTRO!$E$38=\"Endemic\", IF($H12>0, IF($H12=4,\"Unknown\", IF($H12=99,\"Stopped\", $D12)), 0),\"Not required\")","v":260658.85493739988},{"$f":"IF(INTRO!$E$40=\"Endemic\", IF($I12>0, IF($I12=4,\"Unknown\",IF($I12=99,\"Stopped\", $D12)), 0),\"Not required\")","v":"Not required"},{"$f":"IF(INTRO!$E$42=\"Endemic\", IF(AND($J12>1,$J12<5), IF($J12=4, \"Unknown\", E12+F12), 0),\"Not required\")","v":103220},{"$f":"IF(INTRO!$E$44=\"Endemic\", IF(AND($K12>0,$K12<5), IF($K12=4,\"Unknown\", IF($K12=1, $F12*0.33, IF($K12=2, $F12*0.5+$G12*0.2, SUM(F12:G12)))), 0),\"Not required\")","v":222863},0,null,0,1,null,null,"MDA 1","T1",33102,"Chiure",null,true,"Cabo Delgado","Chiure",1,4,3,3,true,true,true,true,null,null,null,1,null,3,3,true,null,true,true,null,null,{"$f":"'MDA1'!M12","v":0},{"$f":"'T1'!O12","v":0},{"$f":"'T2'!M12","v":0},null,null,{"$f":"DISTRICT!H11:H12","v":0},{"$f":"DISTRICT!X12","v":0},{"$f":"DISTRICT!AH12","v":0},null,null,2,1,false,true,"Chiure",true]
[{"$f":"IF(INTRO!$E$34<>0,INTRO!$E$34,\"\")","v":"Mozambique"},"Cabo Delgado","Ibo",13084.411204714805,{"$f":"IF(INTRO!$E$48=\"\",\"\",ROUND($D13*INTRO!$E$48,0))","v":1518},{"$f":"IF(INTRO!$E$49=\"\",\"\",ROUND($D13*INTRO!$E$49,0))","v":3664},{"$f":"IF(INTRO!$E$50=\"\",\"\",ROUND($D13*INTRO!$E$50,0))","v":7524},1,4,3,2,{"$f":"IF(INTRO!$E$38=\"Endemic\", IF($H13>0, IF($H13=4,\"Unknown\", IF($H13=99,\"Stopped\", $D13)), 0),\"Not required\")","v":13084.411204714805},{"$f":"IF(INTRO!$E$40=\"Endemic\", IF($I13>0, IF($I13=4,\"Unknown\",IF($I13=99,\"Stopped\", $D13)), 0),\"Not required\")","v":"Not required"},{"$f":"IF(INTRO!$E$42=\"Endemic\", IF(AND($J13>1,$J13<5), IF($J13=4, \"Unknown\", E13+F13), 0),\"Not required\")","v":5182},{"$f":"IF(INTRO!$E$44=\"Endemic\", IF(AND($K13>0,$K13<5), IF($K13=4,\"Unknown\", IF($K13=1, $F13*0.33, IF($K13=2, $F13*0.5+$G13*0.2, SUM(F13:G13)))), 0),\"Not required\")","v":3336.8},0,null,0,0,null,null,"MDA 1","T1",33104,"Ibo",null,true,"Cabo Delgado","Ibo",1,4,3,2,true,true,true,true,null,null,null,1,null,3,2,true,null,true,true,null,null,{"$f":"'MDA1'!M13","v":0},{"$f":"'T1'!O13","v":0},{"$f":"'T2'!M13","v":0},null,null,{"$f":"DISTRICT!H12:H13","v":0},{"$f":"DISTRICT!X13","v":0},{"$f":"DISTRICT!AH13","v":0},null,null,2,0,false,true,"Ibo",true]
[{"$f":"IF(INTRO!$E$34<>0,INTRO!$E$34,\"\")","v":"Mozambique"},"Cabo Delgado","Macomia",95696.303705885337,{"$f":"IF(INTRO!$E$48=\"\",\"\",ROUND($D14*INTRO!$E$48,0))","v":11101},{"$f":"IF(INTRO!$E$49=\"\",\"\",ROUND($D14*INTRO!$E$49,0))","v":26795},{"$f":"IF(INTRO!$E$50=\"\",\"\",ROUND($D14*INTRO!$E$50,0))","v":55025},1,4,3,2,{"$f":"IF(INTRO!$E$38=\"Endemic\", IF($H14>0, IF($H14=4,\"Unknown\", IF($H14=99,\"Stopped\", $D14)), 0),\"Not required\")","v":95696.303705885337},{"$f":"IF(INTRO!$E$40=\"Endemic\", IF($I14>0, IF($I14=4,\"Unknown\",IF($I14=99,\"Stopped\", $D14)), 0),\"Not required\")","v":"Not required"},{"$f":"IF(INTRO!$E$42=\"Endemic\", IF(AND($J14>1,$J14<5), IF($J14=4, \"Unknown\", E14+F14), 0),\"Not required\")","v":37896},{"$f":"IF(INTRO!$E$44=\"Endemic\", IF(AND($K14>0,$K14<5), IF($K14=4,\"Unknown\", IF($K14=1, $F14*0.33, IF($K14=2, $F14*0.5+$G14*0.2, SUM(F14:G14)))), 0),\"Not required\")","v":24402.5},0,null,0,1,null,null,"MDA 1","T1",33105,"Macomia",null,true,"Cabo Delgado","Macomia",1,4,3,2,true,true,true,true,null,null,null,1,null,3,2,true,null,true,true,null,null,{"$f":"'MDA1'!M14","v":0},{"$f":"'T1'!O14","v":0},{"$f":"'T2'!M14","v":0},null,null,{"$f":"DISTRICT!H13:H14","v":0},{"$f":"DISTRICT!X14","v":0},{"$f":"DISTRICT!AH14","v":0},null,null,2,1,false,true,"Macomia",true]
[{"$f":"IF(INTRO!$E$34<>0,INTRO!$E$34,\"\")","v":"Mozambique"},"Cabo Delgado","Mecufi",49409.548376532592,{"$f":"IF(INTRO!$E$48=\"\",\"\",ROUND($D15*INTRO!$E$48,0))","v":5732},{"$f":"IF(INTRO!$E$49=\"\",\"\",ROUND($D15*INTRO!$E$49,0))","v":13835},{"$f":"IF(INTRO!$E$50=\"\",\"\",ROUND($D15*INTRO!$E$50,0))","v":28410},1,4,3,2,{"$f":"IF(INTRO!$E$38=\"Endemic\", IF($H15>0, IF($H15=4,\"Unknown\", IF($H15=99,\"Stopped\", $D15)), 0),\"Not required\")","v":49409.548376532592},{"$f":"IF(INTRO!$E$40=\"Endemic\", IF($I15>0, IF($I15=4,\"Unknown\",IF($I15=99,\"Stopped\", $D15)), 0),\"Not required\")","v":"Not required"},{"$f":"IF(INTRO!$E$42=\"Endemic\", IF(AND($J15>1,$J15<5), IF($J15=4, \"Unknown\", E15+F15), 0),\"Not required\")","v":19567},{"$f":"IF(INTRO!$E$44=\"Endemic\", IF(AND($K15>0,$K15<5), IF($K15=4,\"Unknown\", IF($K15=1, $F15*0.33, IF($K15=2, $F15*0.5+$G15*0.2, SUM(F15:G15)))), 0),\"Not required\")","v":12599.5},0,null,0,1,null,null,"MDA 1","T1",33106,"Mecufi",null,true,"Cabo Delgado","Mecufi",1,4,3,2,true,true,true,true,null,null,null,1,null,3,2,true,null,true,true,null,null,{"$f":"'MDA1'!M15","v":0},{"$f":"'T1'!O15","v":0},{"$f":"'T2'!M15","v":0},null,null,{"$f":"DISTRICT!H14:H15","v":0},{"$f":"DISTRICT!X15","v":0},{"$f":"DISTRICT!AH15","v":0},null,null,2,1,false,true,"Mecufi",true]
[{"$f":"IF(INTRO!$E$34<>0,INTRO!$E$34,\"\")","v":"Mozambique"},"Cabo Delgado","Meluco",26281.171360739347,{"$f":"IF(INTRO!$E$48=\"\",\"\",ROUND($D16*INTRO!$E$48,0))","v":3049},{"$f":"IF(INTRO!$E$49=\"\",\"\",ROUND($D16*INTRO!$E$49,0))","v":7359},{"$f":"IF(INTRO!$E$50=\"\",\"\",ROUND($D16*INTRO!$E$50,0))","v":15112},1,4,3,3,{"$f":"IF(INTRO!$E$38=\"Endemic\", IF($H16>0, IF($H16=4,\"Unknown\", IF($H16=99,\"Stopped\", $D16)), 0),\"Not required\")","v":26281.171360739347},{"$f":"IF(INTRO!$E$40=\"Endemic\", IF($I16>0, IF($I16=4,\"Unknown\",IF($I16=99,\"Stopped\", $D16)), 0),\"Not required\")","v":"Not required"},{"$f":"IF(INTRO!$E$42=\"Endemic\", IF(AND($J16>1,$J16<5), IF($J16=4, \"Unknown\", E16+F16), 0),\"Not required\")","v":10408},{"$f":"IF(INTRO!$E$44=\"Endemic\", IF(AND($K16>0,$K16<5), IF($K16=4,\"Unknown\", IF($K16=1, $F16*0.33, IF($K16=2, $F16*0.5+$G16*0.2, SUM(F16:G16)))), 0),\"Not required\")","v":22471},0,null,0,1,null,null,"MDA 1","T1",33107,"Meluco",null,true,"Cabo Delgado","Meluco",1,4,3,3,true,true,true,true,null,null,null,1,null,3,3,true,null,true,true,null,null,{"$f":"'MDA1'!M16","v":0},{"$f":"'T1'!O16","v":0},{"$f":"'T2'!M16","v":0},null,null,{"$f":"DISTRICT!H15:H16","v":0},{"$f":"DISTRICT!X16","v":0},{"$f":"DISTRICT!AH16","v":0},null,null,2,1,false,true,"Meluco",true]
[{"$f":"IF(INTRO!$E$34<>0,INTRO!$E$34,\"\")","v":"Mozambique"},"Cabo Delgado","Moc Praia",117161.90394744731,{"$f":"IF(INTRO!$E$48=\"\",\"\",ROUND($D17*INTRO!$E$48,0))","v":13591},{"$f":"IF(INTRO!$E$49=\"\",\"\",ROUND($D17*INTRO!$E$49,0))","v":32805},{"$f":"IF(INTRO!$E$50=\"\",\"\",ROUND($D17*INTRO!$E$50,0))","v":67368},1,4,3,2,{"$f":"IF(INTRO!$E$38=\"Endemic\", IF($H17>0, IF($H17=4,\"Unknown\", IF($H17=99,\"Stopped\", $D17)), 0),\"Not required\")","v":117161.90394744731},{"$f":"IF(INTRO!$E$40=\"Endemic\", IF($I17>0, IF($I17=4,\"Unknown\",IF($I17=99,\"Stopped\", $D17)), 0),\"Not required\")","v":"Not required"},{"$f":"IF(INTRO!$E$42=\"Endemic\", IF(AND($J17>1,$J17<5), IF($J17=4, \"Unknown\", E17+F17), 0),\"Not required\")","v":46396},{"$f":"IF(INTRO!$E$44=\"Endemic\", IF(AND($K17>0,$K17<5), IF($K17=4,\"Unknown\", IF($K17=1, $F17*0.33, IF($K17=2, $F17*0.5+$G17*0.2, SUM(F17:G17)))), 0),\"Not required\")","v":29876.1},0,null,0,0,null,null,"MDA 1","T1",33108,"Moc Praia",null,true,"Cabo Delgado","Moc Praia",1,4,3,2,true,true,true,true,null,null,null,1,null,3,2,true,null,true,true,null,null,{"$f":"'MDA1'!M17","v":0},{"$f":"'T1'!O17","v":0},{"$f":"'T2'!M17","v":0},null,null,{"$f":"DISTRICT!H16:H17","v":0},{"$f":"DISTRICT!X17","v":0},{"$f":"DISTRICT!AH17","v":0},null,null,2,0,false,true,"Moc Praia",true]
[{"$f":"IF(INTRO!$E$34<>0,INTRO!$E$34,\"\")","v":"Mozambique"},"Cabo Delgado","Montepuez",244976.24103630916,{"$f":"IF(INTRO!$E$48=\"\",\"\",ROUND($D18*INTRO!$E$48,0))","v":28417},{"$f":"IF(INTRO!$E$49=\"\",\"\",ROUND($D18*INTRO!$E$49,0))","v":68593},{"$f":"IF(INTRO!$E$50=\"\",\"\",ROUND($D18*INTRO!$E$50,0))","v":140861},1,4,2,3,{"$f":"IF(INTRO!$E$38=\"Endemic\", IF($H18>0, IF($H18=4,\"Unknown\", IF($H18=99,\"Stopped\", $D18)), 0),\"Not required\")","v":244976.24103630916},{"$f":"IF(INTRO!$E$40=\"Endemic\", IF($I18>0, IF($I18=4,\"Unknown\",IF($I18=99,\"Stopped\", $D18)), 0),\"Not required\")","v":"Not required"},{"$f":"IF(INTRO!$E$42=\"Endemic\", IF(AND($J18>1,$J18<5), IF($J18=4, \"Unknown\", E18+F18), 0),\"Not required\")","v":97010},{"$f":"IF(INTRO!$E$44=\"Endemic\", IF(AND($K18>0,$K18<5), IF($K18=4,\"Unknown\", IF($K18=1, $F18*0.33, IF($K18=2, $F18*0.5+$G18*0.2, SUM(F18:G18)))), 0),\"Not required\")","v":209454},0,null,0,1,null,null,"MDA 1","T2",33109,"Montepuez",null,true,"Cabo Delgado","Montepuez",1,4,2,3,true,true,true,true,null,null,null,1,null,2,3,true,null,true,true,null,null,{"$f":"'MDA1'!M18","v":0},{"$f":"'T1'!O18","v":0},{"$f":"'T2'!M18","v":0},null,null,{"$f":"DISTRICT!H17:H18","v":0},{"$f":"DISTRICT!X18","v":0},{"$f":"DISTRICT!AH18","v":0},null,null,1,1,false,true,"Montepuez",true]
[{"$f":"IF(INTRO!$E$34<>0,INTRO!$E$34,\"\")","v":"Mozambique"},"Cabo Delgado","Mueda",133995.12381617023,{"$f":"IF(INTRO!$E$48=\"\",\"\",ROUND($D19*INTRO!$E$48,0))","v":15543},{"$f":"IF(INTRO!$E$49=\"\",\"\",ROUND($D19*INTRO!$E$49,0))","v":37519},{"$f":"IF(INTRO!$E$50=\"\",\"\",ROUND($D19*INTRO!$E$50,0))","v":77047},1,4,3,2,{"$f":"IF(INTRO!$E$38=\"Endemic\", IF($H19>0, IF($H19=4,\"Unknown\", IF($H19=99,\"Stopped\", $D19)), 0),\"Not required\")","v":133995.12381617023},{"$f":"IF(INTRO!$E$40=\"Endemic\", IF($I19>0, IF($I19=4,\"Unknown\",IF($I19=99,\"Stopped\", $D19)), 0),\"Not required\")","v":"Not required"},{"$f":"IF(INTRO!$E$42=\"Endemic\", IF(AND($J19>1,$J19<5), IF($J19=4, \"Unknown\", E19+F19), 0),\"Not required\")","v":53062},{"$f":"IF(INTRO!$E$44=\"Endemic\", IF(AND($K19>0,$K19<5), IF($K19=4,\"Unknown\", IF($K19=1, $F19*0.33, IF($K19=2, $F19*0.5+$G19*0.2, SUM(F19:G19)))), 0),\"Not required\")","v":34168.9},0,null,0,1,null,null,"MDA 1","T1",33110,"Mueda",null,true,"Cabo Delgado","Mueda",1,4,3,2,true,true,true,true,null,null,null,1,null,3,2,true,null,true,true,null,null,{"$f":"'MDA1'!M19","v":0},{"$f":"'T1'!O19","v":0},{"$f":"'T2'!M19","v":0},null,null,{"$f":"DISTRICT!H18:H19","v":0},{"$f":"DISTRICT!X19","v":0},{"$f":"DISTRICT!AH19","v":0},null,null,2,0,false,false,"Mueda",true]
[{"$f":"IF(INTRO!$E$34<>0,INTRO!$E$34,\"\")","v":"Mozambique"},"Cabo Delgado","Muidumbe",78963.353292598418,{"$f":"IF(INTRO!$E$48=\"\",\"\",ROUND($D20*INTRO!$E$48,0))","v":9160},{"$f":"IF(INTRO!$E$49=\"\",\"\",ROUND($D20*INTRO!$E$49,0))","v":22110},{"$f":"IF(INTRO!$E$50=\"\",\"\",ROUND($D20*INTRO!$E$50,0))","v":45404},1,4,3,2,{"$f":"IF(INTRO!$E$38=\"Endemic\", IF($H20>0, IF($H20=4,\"Unknown\", IF($H20=99,\"Stopped\", $D20)), 0),\"Not required\")","v":78963.353292598418},{"$f":"IF(INTRO!$E$40=\"Endemic\", IF($I20>0, IF($I20=4,\"Unknown\",IF($I20=99,\"Stopped\", $D20)), 0),\"Not required\")","v":"Not required"},{"$f":"IF(INTRO!$E$42=\"Endemic\", IF(AND($J20>1,$J20<5), IF($J20=4, \"Unknown\", E20+F20), 0),\"Not required\")","v":31270},{"$f":"IF(INTRO!$E$44=\"Endemic\", IF(AND($K20>0,$K20<5), IF($K20=4,\"Unknown\", IF($K20=1, $F20*0.33, IF($K20=2, $F20*0.5+$G20*0.2, SUM(F20:G20)))), 0),\"Not required\")","v":20135.800000000003},0,null,0,0,null,null,"MDA 1","T1",33111,"Muidumbe",null,true,"Cabo Delgado","Muidumbe",1,4,3,2,true,true,true,true,null,null,null,1,null,3,2,true,null,true,true,null,null,{"$f":"'MDA1'!M20","v":0},{"$f":"'T1'!O20","v":0},{"$f":"'T2'!M20","v":0},null,null,{"$f":"DISTRICT!H19:H20","v":0},{"$f":"DISTRICT!X20","v":0},{"$f":"DISTRICT!AH20","v":0},null,null,2,0,false,true,"Muidumbe",true]
[{"$f":"IF(INTRO!$E$34<>0,INTRO!$E$34,\"\")","v":"Mozambique"},"Cabo Delgado","Namuno",221348.79631695885,{"$f":"IF(INTRO!$E$48=\"\",\"\",ROUND($D21*INTRO!$E$48,0))","v":25676},{"$f":"IF(INTRO!$E$49=\"\",\"\",ROUND($D21*INTRO!$E$49,0))","v":61978},{"$f":"IF(INTRO!$E$50=\"\",\"\",ROUND($D21*INTRO!$E$50,0))","v":127276},1,4,2,3,{"$f":"IF(INTRO!$E$38=\"Endemic\", IF($H21>0, IF($H21=4,\"Unknown\", IF($H21=99,\"Stopped\", $D21)), 0),\"Not required\")","v":221348.79631695885},{"$f":"IF(INTRO!$E$40=\"Endemic\", IF($I21>0, IF($I21=4,\"Unknown\",IF($I21=99,\"Stopped\", $D21)), 0),\"Not required\")","v":"Not required"},{"$f":"IF(INTRO!$E$42=\"Endemic\", IF(AND($J21>1,$J21<5), IF($J21=4, \"Unknown\", E21+F21), 0),\"Not required\")","v":87654},{"$f":"IF(INTRO!$E$44=\"Endemic\", IF(AND($K21>0,$K21<5), IF($K21=4,\"Unknown\", IF($K21=1, $F21*0.33, IF($K21=2, $F21*0.5+$G21*0.2, SUM(F21:G21)))), 0),\"Not required\")","v":189254},0,null,0,1,null,null,"MDA 1","T2",33112,"Namuno",null,true,"Cabo Delgado","Namuno",1,4,2,3,true,true,true,true,null,null,null,1,null,2,3,true,null,true,true,null,null,{"$f":"'MDA1'!M21","v":0},{"$f":"'T1'!O21","v":0},{"$f":"'T2'!M21","v":0},null,null,{"$f":"DISTRICT!H20:H21","v":0},{"$f":"DISTRICT!X21","v":0},{"$f":"DISTRICT!AH21","v":0},null,null,1,1,false,true,"Namuno",true]
[{"$f":"IF(INTRO!$E$34<>0,INTRO!$E$34,\"\")","v":"Mozambique"},"Cabo Delgado","Nangade",73600.052980286186,{"$f":"IF(INTRO!$E$48=\"\",\"\",ROUND($D22*INTRO!$E$48,0))","v":8538},{"$f":"IF(INTRO!$E$49=\"\",\"\",ROUND($D22*INTRO!$E$49,0))","v":20608},{"$f":"IF(INTRO!$E$50=\"\",\"\",ROUND($D22*INTRO!$E$50,0))","v":42320},1,4,3,2,{"$f":"IF(INTRO!$E$38=\"Endemic\", IF($H22>0, IF($H22=4,\"Unknown\", IF($H22=99,\"Stopped\", $D22)), 0),\"Not required\")","v":73600.052980286186},{"$f":"IF(INTRO!$E$40=\"Endemic\", IF($I22>0, IF($I22=4,\"Unknown\",IF($I22=99,\"Stopped\", $D22)), 0),\"Not required\")","v":"Not required"},{"$f":"IF(INTRO!$E$42=\"Endemic\", IF(AND($J22>1,$J22<5), IF($J22=4, \"Unknown\", E22+F22), 0),\"Not required\")","v":29146},{"$f":"IF(INTRO!$E$44=\"Endemic\", IF(AND($K22>0,$K22<5), IF($K22=4,\"Unknown\", IF($K22=1, $F22*0.33, IF($K22=2, $F22*0.5+$G22*0.2, SUM(F22:G22)))), 0),\"Not required\")","v":18768},0,null,0,0,null,null,"MDA 1","T1",33113,"Nangade",null,true,"Cabo Delgado","Nangade",1,4,3,2,true,true,true,true,null,null,null,1,null,3,2,true,null,true,true,null,null,{"$f":"'MDA1'!M22","v":0},{"$f":"'T1'!O22","v":0},{"$f":"'T2'!M22","v":0},null,null,{"$f":"DISTRICT!H21:H22","v":0},{"$f":"DISTRICT!X22","v":0},{"$f":"DISTRICT!AH22","v":0},null,null,2,0,false,true,"Nangade",true]
[{"$f":"IF(INTRO!$E$34<>0,INTRO!$E$34,\"\")","v":"Mozambique"},"Cabo Delgado","Palma",52441.031830374872,{"$f":"IF(INTRO!$E$48=\"\",\"\",ROUND($D23*INTRO!$E$48,0))","v":6083},{"$f":"IF(INTRO!$E$49=\"\",\"\",ROUND($D23*INTRO!$E$49,0))","v":14683},{"$f":"IF(INTRO!$E$50=\"\",\"\",ROUND($D23*INTRO!$E$50,0))","v":30154},1,4,3,3,{"$f":"IF(INTRO!$E$38=\"Endemic\", IF($H23>0, IF($H23=4,\"Unknown\", IF($H23=99,\"Stopped\", $D23)), 0),\"Not required\")","v":52441.031830374872},{"$f":"IF(INTRO!$E$40=\"Endemic\", IF($I23>0, IF($I23=4,\"Unknown\",IF($I23=99,\"Stopped\", $D23)), 0),\"Not required\")","v":"Not required"},{"$f":"IF(INTRO!$E$42=\"Endemic\", IF(AND($J23>1,$J23<5), IF($J23=4, \"Unknown\", E23+F23), 0),\"Not required\")","v":20766},{"$f":"IF(INTRO!$E$44=\"Endemic\", IF(AND($K23>0,$K23<5), IF($K23=4,\"Unknown\", IF($K23=1, $F23*0.33, IF($K23=2, $F23*0.5+$G23*0.2, SUM(F23:G23)))), 0),\"Not required\")","v":44837},0,null,0,1,null,null,"MDA 1","T1",33114,"Palma",null,true,"Cabo Delgado","Palma",1,4,3,3,true,true,true,true,null,null,null,1,null,3,3,true,null,true,true,null,null,{"$f":"'MDA1'!M23","v":0},{"$f":"'T1'!O23","v":0},{"$f":"'T2'!M23","v":0},null,null,{"$f":"DISTRICT!H22:H23","v":0},{"$f":"DISTRICT!X23","v":0},{"$f":"DISTRICT!AH23","v":0},null,null,2,1,false,true,"Palma",true]
[{"$f":"IF(INTRO!$E$34<>0,INTRO!$E$34,\"\")","v":"Mozambique"},"Cabo Delgado","Pemba Metuge",90158.37825329593,{"$f":"IF(INTRO!$E$48=\"\",\"\",ROUND($D24*INTRO!$E$48,0))","v":10458},{"$f":"IF(INTRO!$E$49=\"\",\"\",ROUND($D24*INTRO!$E$49,0))","v":25244},{"$f":"IF(INTRO!$E$50=\"\",\"\",ROUND($D24*INTRO!$E$50,0))","v":51841},1,4,3,2,{"$f":"IF(INTRO!$E$38=\"Endemic\", IF($H24>0, IF($H24=4,\"Unknown\", IF($H24=99,\"Stopped\", $D24)), 0),\"Not required\")","v":90158.37825329593},{"$f":"IF(INTRO!$E$40=\"Endemic\", IF($I24>0, IF($I24=4,\"Unknown\",IF($I24=99,\"Stopped\", $D24)), 0),\"Not required\")","v":"Not required"},{"$f":"IF(INTRO!$E$42=\"Endemic\", IF(AND($J24>1,$J24<5), IF($J24=4, \"Unknown\", E24+F24), 0),\"Not required\")","v":35702},{"$f":"IF(INTRO!$E$44=\"Endemic\", IF(AND($K24>0,$K24<5), IF($K24=4,\"Unknown\", IF($K24=1, $F24*0.33, IF($K24=2, $F24*0.5+$G24*0.2, SUM(F24:G24)))), 0),\"Not required\")","v":22990.2},0,null,0,1,null,null,"MDA 1","T1",33115,"Pemba Metuge",null,true,"Cabo Delgado","Pemba Metuge",1,4,3,2,true,true,true,true,null,null,null,1,null,3,2,true,null,true,true,null,null,{"$f":"'MDA1'!M24","v":0},{"$f":"'T1'!O24","v":0},{"$f":"'T2'!M24","v":0},null,null,{"$f":"DISTRICT!H23:H24","v":0},{"$f":"DISTRICT!X24","v":0},{"$f":"DISTRICT!AH24","v":0},null,null,2,1,false,true,"Pemba Metuge",true]
[{"$f":"IF(INTRO!$E$34<>0,INTRO!$E$34,\"\")","v":"Mozambique"},"Cabo Delgado","Quissanga",40565.311829493447,{"$f":"IF(INTRO!$E$48=\"\",\"\",ROUND($D25*INTRO!$E$48,0))","v":4706},{"$f":"IF(INTRO!$E$49=\"\",\"\",ROUND($D25*INTRO!$E$49,0))","v":11358},{"$f":"IF(INTRO!$E$50=\"\",\"\",ROUND($D25*INTRO!$E$50,0))","v":23325},1,4,3,2,{"$f":"IF(INTRO!$E$38=\"Endemic\", IF($H25>0, IF($H25=4,\"Unknown\", IF($H25=99,\"Stopped\", $D25)), 0),\"Not required\")","v":40565.311829493447},{"$f":"IF(INTRO!$E$40=\"Endemic\", IF($I25>0, IF($I25=4,\"Unknown\",IF($I25=99,\"Stopped\", $D25)), 0),\"Not required\")","v":"Not required"},{"$f":"IF(INTRO!$E$42=\"Endemic\", IF(AND($J25>1,$J25<5), IF($J25=4, \"Unknown\", E25+F25), 0),\"Not required\")","v":16064},{"$f":"IF(INTRO!$E$44=\"Endemic\", IF(AND($K25>0,$K25<5), IF($K25=4,\"Unknown\", IF($K25=1, $F25*0.33, IF($K25=2, $F25*0.5+$G25*0.2, SUM(F25:G25)))), 0),\"Not required\")","v":10344},0,null,0,1,null,null,"MDA 1","T1",33116,"Quissanga",null,true,"Cabo Delgado","Quissanga",1,4,3,2,true,true,true,true,null,null,null,1,null,3,2,true,null,{"$f":"AQ25=J25","v":true},{"$f":"AR25=K25","v":true},null,null,{"$f":"'MDA1'!M25","v":0},{"$f":"'T1'!O25","v":0},{"$f":"'T2'!M25","v":0},null,null,{"$f":"DISTRICT!H24:H25","v":0},{"$f":"DISTRICT!X25","v":0},{"$f":"DISTRICT!AH25","v":0},null,null,2,1,false,true,"Quissanga",true]
[{"$f":"IF(INTRO!$E$34<>0,INTRO!$E$34,\"\")","v":"Mozambique"},"Niassa","Cidade de Lichinga",257301.5951691026,{"$f":"IF(INTRO!$E$48=\"\",\"\",ROUND($D26*INTRO!$E$48,0))","v":29847},{"$f":"IF(INTRO!$E$49=\"\",\"\",ROUND($D26*INTRO!$E$49,0))","v":72044},{"$f":"IF(INTRO!$E$50=\"\",\"\",ROUND($D26*INTRO!$E$50,0))","v":147948},99,4,1,2,{"$f":"IF(INTRO!$E$38=\"Endemic\", IF($H26>0, IF($H26=4,\"Unknown\", IF($H26=99,\"Stopped\", $D26)), 0),\"Not required\")","v":"Stopped"},{"$f":"IF(INTRO!$E$40=\"Endemic\", IF($I26>0, IF($I26=4,\"Unknown\",IF($I26=99,\"Stopped\", $D26)), 0),\"Not required\")","v":"Not required"},{"$f":"IF(INTRO!$E$42=\"Endemic\", IF(AND($J26>1,$J26<5), IF($J26=4, \"Unknown\", E26+F26), 0),\"Not required\")","v":0},{"$f":"IF(INTRO!$E$44=\"Endemic\", IF(AND($K26>0,$K26<5), IF($K26=4,\"Unknown\", IF($K26=1, $F26*0.33, IF($K26=2, $F26*0.5+$G26*0.2, SUM(F26:G26)))), 0),\"Not required\")","v":65611.600000000006},0,null,0,1,"T1 (PZQ+ALB/MBD)",null," ","T2",33194,"Distrito de Lichinga",null,true,"Niassa","Cidade de Lichinga",99,4,1,2,true,true,true,true,null,null,null,1,null,1,2,false,null,true,true,null,null,{"$f":"'MDA1'!M26","v":0},{"$f":"'T1'!O26","v":67640},{"$f":"'T2'!M26","v":0},null,null,{"$f":"DISTRICT!H25:H26","v":0},{"$f":"DISTRICT!X26","v":0},{"$f":"DISTRICT!AH26","v":36022},null,null,0,0,true,false,"Cidade de Lichinga",true]
[{"$f":"IF(INTRO!$E$34<>0,INTRO!$E$34,\"\")","v":"Mozambique"},"Niassa","Cuamba",272705.33646841894,{"$f":"IF(INTRO!$E$48=\"\",\"\",ROUND($D27*INTRO!$E$48,0))","v":31634},{"$f":"IF(INTRO!$E$49=\"\",\"\",ROUND($D27*INTRO!$E$49,0))","v":76357},{"$f":"IF(INTRO!$E$50=\"\",\"\",ROUND($D27*INTRO!$E$50,0))","v":156806},1,4,3,3,{"$f":"IF(INTRO!$E$38=\"Endemic\", IF($H27>0, IF($H27=4,\"Unknown\", IF($H27=99,\"Stopped\", $D27)), 0),\"Not required\")","v":272705.33646841894},{"$f":"IF(INTRO!$E$40=\"Endemic\", IF($I27>0, IF($I27=4,\"Unknown\",IF($I27=99,\"Stopped\", $D27)), 0),\"Not required\")","v":"Not required"},{"$f":"IF(INTRO!$E$42=\"Endemic\", IF(AND($J27>1,$J27<5), IF($J27=4, \"Unknown\", E27+F27), 0),\"Not required\")","v":107991},{"$f":"IF(INTRO!$E$44=\"Endemic\", IF(AND($K27>0,$K27<5), IF($K27=4,\"Unknown\", IF($K27=1, $F27*0.33, IF($K27=2, $F27*0.5+$G27*0.2, SUM(F27:G27)))), 0),\"Not required\")","v":233163},1,null,1,1,"MDA1 (IVM+ALB)","T2 (PZQ)","MDA 1","T1",33195,"Cuamba",null,true,"Niassa","Cuamba",1,4,3,3,true,true,true,true,null,null,null,1,null,3,3,true,null,true,true,null,null,{"$f":"'MDA1'!M27","v":209919},{"$f":"'T1'!O27","v":0},{"$f":"'T2'!M27","v":105477},null,null,{"$f":"DISTRICT!H26:H27","v":209919},{"$f":"DISTRICT!X27","v":76357},{"$f":"DISTRICT!AH27","v":76357},null,null,2,1,false,true,"Cuamba",true]
[{"$f":"IF(INTRO!$E$34<>0,INTRO!$E$34,\"\")","v":"Mozambique"},"Niassa","Chimbonila",126375.03898657375,{"$f":"IF(INTRO!$E$48=\"\",\"\",ROUND($D28*INTRO!$E$48,0))","v":14660},{"$f":"IF(INTRO!$E$49=\"\",\"\",ROUND($D28*INTRO!$E$49,0))","v":35385},{"$f":"IF(INTRO!$E$50=\"\",\"\",ROUND($D28*INTRO!$E$50,0))","v":72666},0,4,2,2,{"$f":"IF(INTRO!$E$38=\"Endemic\", IF($H28>0, IF($H28=4,\"Unknown\", IF($H28=99,\"Stopped\", $D28)), 0),\"Not required\")","v":0},{"$f":"IF(INTRO!$E$40=\"Endemic\", IF($I28>0, IF($I28=4,\"Unknown\",IF($I28=99,\"Stopped\", $D28)), 0),\"Not required\")","v":"Not required"},{"$f":"IF(INTRO!$E$42=\"Endemic\", IF(AND($J28>1,$J28<5), IF($J28=4, \"Unknown\", E28+F28), 0),\"Not required\")","v":50045},{"$f":"IF(INTRO!$E$44=\"Endemic\", IF(AND($K28>0,$K28<5), IF($K28=4,\"Unknown\", IF($K28=1, $F28*0.33, IF($K28=2, $F28*0.5+$G28*0.2, SUM(F28:G28)))), 0),\"Not required\")","v":32225.7},0,null,1,1,"T1 (PZQ+ALB/MBD)",null," ","T1",33197,"Chimbonila",null,true,"Niassa","Chimbonila",0,4,2,2,true,true,true,true,null,null,null,0,null,2,2,true,null,true,true,null,null,{"$f":"'MDA1'!M28","v":0},{"$f":"'T1'!O28","v":29444},{"$f":"'T2'!M28","v":0},null,null,{"$f":"DISTRICT!H27:H28","v":0},{"$f":"DISTRICT!X28","v":29444},{"$f":"DISTRICT!AH28","v":17692.5},null,null,1,0,true,false,"Chimbonila",true]
[{"$f":"IF(INTRO!$E$34<>0,INTRO!$E$34,\"\")","v":"Mozambique"},"Niassa","Lago",137733,{"$f":"IF(INTRO!$E$48=\"\",\"\",ROUND($D29*INTRO!$E$48,0))","v":15977},{"$f":"IF(INTRO!$E$49=\"\",\"\",ROUND($D29*INTRO!$E$49,0))","v":38565},{"$f":"IF(INTRO!$E$50=\"\",\"\",ROUND($D29*INTRO!$E$50,0))","v":79196},0,4,2,2,{"$f":"IF(INTRO!$E$38=\"Endemic\", IF($H29>0, IF($H29=4,\"Unknown\", IF($H29=99,\"Stopped\", $D29)), 0),\"Not required\")","v":0},{"$f":"IF(INTRO!$E$40=\"Endemic\", IF($I29>0, IF($I29=4,\"Unknown\",IF($I29=99,\"Stopped\", $D29)), 0),\"Not required\")","v":"Not required"},{"$f":"IF(INTRO!$E$42=\"Endemic\", IF(AND($J29>1,$J29<5), IF($J29=4, \"Unknown\", E29+F29), 0),\"Not required\")","v":54542},{"$f":"IF(INTRO!$E$44=\"Endemic\", IF(AND($K29>0,$K29<5), IF($K29=4,\"Unknown\", IF($K29=1, $F29*0.33, IF($K29=2, $F29*0.5+$G29*0.2, SUM(F29:G29)))), 0),\"Not required\")","v":35121.699999999997},0,null,1,1,"T1 (PZQ+ALB/MBD)",null," ","T1",33196,"Lago",null,true,"Niassa","Lago",0,4,2,2,true,true,true,true,null,null,null,0,null,2,2,true,null,true,true,null,null,{"$f":"'MDA1'!M29","v":0},{"$f":"'T1'!O29","v":34988},{"$f":"'T2'!M29","v":0},null,null,{"$f":"DISTRICT!H28:H29","v":0},{"$f":"DISTRICT!X29","v":34988},{"$f":"DISTRICT!AH29","v":19282.5},null,null,1,1,true,true,"Lago",true]
[{"$f":"IF(INTRO!$E$34<>0,INTRO!$E$34,\"\")","v":"Mozambique"},"Niassa","Majune",42208.008738129633,{"$f":"IF(INTRO!$E$48=\"\",\"\",ROUND($D30*INTRO!$E$48,0))","v":4896},{"$f":"IF(INTRO!$E$49=\"\",\"\",ROUND($D30*INTRO!$E$49,0))","v":11818},{"$f":"IF(INTRO!$E$50=\"\",\"\",ROUND($D30*INTRO!$E$50,0))","v":24270},0,4,2,3,{"$f":"IF(INTRO!$E$38=\"Endemic\", IF($H30>0, IF($H30=4,\"Unknown\", IF($H30=99,\"Stopped\", $D30)), 0),\"Not required\")","v":0},{"$f":"IF(INTRO!$E$40=\"Endemic\", IF($I30>0, IF($I30=4,\"Unknown\",IF($I30=99,\"Stopped\", $D30)), 0),\"Not required\")","v":"Not required"},{"$f":"IF(INTRO!$E$42=\"Endemic\", IF(AND($J30>1,$J30<5), IF($J30=4, \"Unknown\", E30+F30), 0),\"Not required\")","v":16714},{"$f":"IF(INTRO!$E$44=\"Endemic\", IF(AND($K30>0,$K30<5), IF($K30=4,\"Unknown\", IF($K30=1, $F30*0.33, IF($K30=2, $F30*0.5+$G30*0.2, SUM(F30:G30)))), 0),\"Not required\")","v":36088},0,null,1,1,"T1 (PZQ+ALB/MBD)",null," ","T1",33198,"Majune",null,true,"Niassa","Majune",0,4,2,3,true,true,true,true,null,null,null,0,null,2,3,true,null,true,true,null,null,{"$f":"'MDA1'!M30","v":0},{"$f":"'T1'!O30","v":10317},{"$f":"'T2'!M30","v":0},null,null,{"$f":"DISTRICT!H29:H30","v":0},{"$f":"DISTRICT!X30","v":10317},{"$f":"DISTRICT!AH30","v":10317},null,null,1,1,true,true,"Majune",true]
[{"$f":"IF(INTRO!$E$34<>0,INTRO!$E$34,\"\")","v":"Mozambique"},"Niassa","Mandimba",206710.14189314193,{"$f":"IF(INTRO!$E$48=\"\",\"\",ROUND($D31*INTRO!$E$48,0))","v":23978},{"$f":"IF(INTRO!$E$49=\"\",\"\",ROUND($D31*INTRO!$E$49,0))","v":57879},{"$f":"IF(INTRO!$E$50=\"\",\"\",ROUND($D31*INTRO!$E$50,0))","v":118858},0,4,3,3,{"$f":"IF(INTRO!$E$38=\"Endemic\", IF($H31>0, IF($H31=4,\"Unknown\", IF($H31=99,\"Stopped\", $D31)), 0),\"Not required\")","v":0},{"$f":"IF(INTRO!$E$40=\"Endemic\", IF($I31>0, IF($I31=4,\"Unknown\",IF($I31=99,\"Stopped\", $D31)), 0),\"Not required\")","v":"Not required"},{"$f":"IF(INTRO!$E$42=\"Endemic\", IF(AND($J31>1,$J31<5), IF($J31=4, \"Unknown\", E31+F31), 0),\"Not required\")","v":81857},{"$f":"IF(INTRO!$E$44=\"Endemic\", IF(AND($K31>0,$K31<5), IF($K31=4,\"Unknown\", IF($K31=1, $F31*0.33, IF($K31=2, $F31*0.5+$G31*0.2, SUM(F31:G31)))), 0),\"Not required\")","v":176737},0,null,1,1,"T1 (PZQ+ALB/MBD)",null,"T1","T3",33199,"Mandimba",null,true,"Niassa","Mandimba",0,4,3,3,true,true,true,true,null,null,null,0,null,3,3,true,null,true,true,null,null,{"$f":"'MDA1'!M31","v":0},{"$f":"'T1'!O31","v":50429},{"$f":"'T2'!M31","v":0},null,null,{"$f":"DISTRICT!H30:H31","v":0},{"$f":"DISTRICT!X31","v":50429},{"$f":"DISTRICT!AH31","v":50429},null,null,2,1,false,true,"Mandimba",true]
[{"$f":"IF(INTRO!$E$34<>0,INTRO!$E$34,\"\")","v":"Mozambique"},"Niassa","Marrupa",75664.847625524082,{"$f":"IF(INTRO!$E$48=\"\",\"\",ROUND($D32*INTRO!$E$48,0))","v":8777},{"$f":"IF(INTRO!$E$49=\"\",\"\",ROUND($D32*INTRO!$E$49,0))","v":21186},{"$f":"IF(INTRO!$E$50=\"\",\"\",ROUND($D32*INTRO!$E$50,0))","v":43507},99,4,3,3,{"$f":"IF(INTRO!$E$38=\"Endemic\", IF($H32>0, IF($H32=4,\"Unknown\", IF($H32=99,\"Stopped\", $D32)), 0),\"Not required\")","v":"Stopped"},{"$f":"IF(INTRO!$E$40=\"Endemic\", IF($I32>0, IF($I32=4,\"Unknown\",IF($I32=99,\"Stopped\", $D32)), 0),\"Not required\")","v":"Not required"},{"$f":"IF(INTRO!$E$42=\"Endemic\", IF(AND($J32>1,$J32<5), IF($J32=4, \"Unknown\", E32+F32), 0),\"Not required\")","v":29963},{"$f":"IF(INTRO!$E$44=\"Endemic\", IF(AND($K32>0,$K32<5), IF($K32=4,\"Unknown\", IF($K32=1, $F32*0.33, IF($K32=2, $F32*0.5+$G32*0.2, SUM(F32:G32)))), 0),\"Not required\")","v":64693},0,null,1,1,"T1 (PZQ+ALB/MBD)",null,"T1","T3",33200,"Marrupa",null,true,"Niassa","Marrupa",99,4,3,3,true,true,true,true,null,null,null,1,null,3,3,false,null,true,true,null,null,{"$f":"'MDA1'!M32","v":0},{"$f":"'T1'!O32","v":20579},{"$f":"'T2'!M32","v":0},null,null,{"$f":"DISTRICT!H31:H32","v":0},{"$f":"DISTRICT!X32","v":20579},{"$f":"DISTRICT!AH32","v":20579},null,null,2,1,false,true,"Marrupa",true]
[{"$f":"IF(INTRO!$E$34<>0,INTRO!$E$34,\"\")","v":"Mozambique"},"Niassa","Maúa",68587.595573039929,{"$f":"IF(INTRO!$E$48=\"\",\"\",ROUND($D33*INTRO!$E$48,0))","v":7956},{"$f":"IF(INTRO!$E$49=\"\",\"\",ROUND($D33*INTRO!$E$49,0))","v":19205},{"$f":"IF(INTRO!$E$50=\"\",\"\",ROUND($D33*INTRO!$E$50,0))","v":39438},99,4,3,3,{"$f":"IF(INTRO!$E$38=\"Endemic\", IF($H33>0, IF($H33=4,\"Unknown\", IF($H33=99,\"Stopped\", $D33)), 0),\"Not required\")","v":"Stopped"},{"$f":"IF(INTRO!$E$40=\"Endemic\", IF($I33>0, IF($I33=4,\"Unknown\",IF($I33=99,\"Stopped\", $D33)), 0),\"Not required\")","v":"Not required"},{"$f":"IF(INTRO!$E$42=\"Endemic\", IF(AND($J33>1,$J33<5), IF($J33=4, \"Unknown\", E33+F33), 0),\"Not required\")","v":27161},{"$f":"IF(INTRO!$E$44=\"Endemic\", IF(AND($K33>0,$K33<5), IF($K33=4,\"Unknown\", IF($K33=1, $F33*0.33, IF($K33=2, $F33*0.5+$G33*0.2, SUM(F33:G33)))), 0),\"Not required\")","v":58643},0,null,1,1,"T1 (PZQ+ALB/MBD)",null,"T1","T3",33202,"Maúa",null,true,"Niassa","Maúa",99,4,3,3,true,true,true,true,null,null,null,1,null,3,3,false,null,true,true,null,null,{"$f":"'MDA1'!M33","v":0},{"$f":"'T1'!O33","v":17600},{"$f":"'T2'!M33","v":0},null,null,{"$f":"DISTRICT!H32:H33","v":0},{"$f":"DISTRICT!X33","v":17600},{"$f":"DISTRICT!AH33","v":17600},null,null,2,1,false,true,"Maúa",true]
[{"$f":"IF(INTRO!$E$34<>0,INTRO!$E$34,\"\")","v":"Mozambique"},"Niassa","Mavago",31744.961852067514,{"$f":"IF(INTRO!$E$48=\"\",\"\",ROUND($D34*INTRO!$E$48,0))","v":3682},{"$f":"IF(INTRO!$E$49=\"\",\"\",ROUND($D34*INTRO!$E$49,0))","v":8889},{"$f":"IF(INTRO!$E$50=\"\",\"\",ROUND($D34*INTRO!$E$50,0))","v":18253},0,4,3,3,{"$f":"IF(INTRO!$E$38=\"Endemic\", IF($H34>0, IF($H34=4,\"Unknown\", IF($H34=99,\"Stopped\", $D34)), 0),\"Not required\")","v":0},{"$f":"IF(INTRO!$E$40=\"Endemic\", IF($I34>0, IF($I34=4,\"Unknown\",IF($I34=99,\"Stopped\", $D34)), 0),\"Not required\")","v":"Not required"},{"$f":"IF(INTRO!$E$42=\"Endemic\", IF(AND($J34>1,$J34<5), IF($J34=4, \"Unknown\", E34+F34), 0),\"Not required\")","v":12571},{"$f":"IF(INTRO!$E$44=\"Endemic\", IF(AND($K34>0,$K34<5), IF($K34=4,\"Unknown\", IF($K34=1, $F34*0.33, IF($K34=2, $F34*0.5+$G34*0.2, SUM(F34:G34)))), 0),\"Not required\")","v":27142},0,null,1,1,"T1 (PZQ+ALB/MBD)",null,"T1","T3",33201,"Mavago",null,true,"Niassa","Mavago",0,4,3,3,true,true,true,true,null,null,null,0,null,3,3,true,null,true,true,null,null,{"$f":"'MDA1'!M34","v":0},{"$f":"'T1'!O34","v":8878},{"$f":"'T2'!M34","v":0},null,null,{"$f":"DISTRICT!H33:H34","v":0},{"$f":"DISTRICT!X34","v":8878},{"$f":"DISTRICT!AH34","v":8878},null,null,2,1,false,true,"Mavago",true]
[{"$f":"IF(INTRO!$E$34<>0,INTRO!$E$34,\"\")","v":"Mozambique"},"Niassa","Mecanhelas",325692.60134881915,{"$f":"IF(INTRO!$E$48=\"\",\"\",ROUND($D35*INTRO!$E$48,0))","v":37780},{"$f":"IF(INTRO!$E$49=\"\",\"\",ROUND($D35*INTRO!$E$49,0))","v":91194},{"$f":"IF(INTRO!$E$50=\"\",\"\",ROUND($D35*INTRO!$E$50,0))","v":187273},1,4,3,3,{"$f":"IF(INTRO!$E$38=\"Endemic\", IF($H35>0, IF($H35=4,\"Unknown\", IF($H35=99,\"Stopped\", $D35)), 0),\"Not required\")","v":325692.60134881915},{"$f":"IF(INTRO!$E$40=\"Endemic\", IF($I35>0, IF($I35=4,\"Unknown\",IF($I35=99,\"Stopped\", $D35)), 0),\"Not required\")","v":"Not required"},{"$f":"IF(INTRO!$E$42=\"Endemic\", IF(AND($J35>1,$J35<5), IF($J35=4, \"Unknown\", E35+F35), 0),\"Not required\")","v":128974},{"$f":"IF(INTRO!$E$44=\"Endemic\", IF(AND($K35>0,$K35<5), IF($K35=4,\"Unknown\", IF($K35=1, $F35*0.33, IF($K35=2, $F35*0.5+$G35*0.2, SUM(F35:G35)))), 0),\"Not required\")","v":278467},1,null,1,1,"MDA1 (IVM+ALB)","T2 (PZQ)","MDA 1","T1",33203,"Mecanhelas",null,true,"Niassa","Mecanhelas",1,4,3,3,true,true,true,true,null,null,null,1,null,3,3,true,null,true,true,null,null,{"$f":"'MDA1'!M35","v":271416},{"$f":"'T1'!O35","v":0},{"$f":"'T2'!M35","v":90612},null,null,{"$f":"DISTRICT!H34:H35","v":271416},{"$f":"DISTRICT!X35","v":91194},{"$f":"DISTRICT!AH35","v":90612},null,null,2,1,false,true,"Mecanhelas",true]
[{"$f":"IF(INTRO!$E$34<>0,INTRO!$E$34,\"\")","v":"Mozambique"},"Niassa","Mecula",19086.020749705887,{"$f":"IF(INTRO!$E$48=\"\",\"\",ROUND($D36*INTRO!$E$48,0))","v":2214},{"$f":"IF(INTRO!$E$49=\"\",\"\",ROUND($D36*INTRO!$E$49,0))","v":5344},{"$f":"IF(INTRO!$E$50=\"\",\"\",ROUND($D36*INTRO!$E$50,0))","v":10974},99,4,2,3,{"$f":"IF(INTRO!$E$38=\"Endemic\", IF($H36>0, IF($H36=4,\"Unknown\", IF($H36=99,\"Stopped\", $D36)), 0),\"Not required\")","v":"Stopped"},{"$f":"IF(INTRO!$E$40=\"Endemic\", IF($I36>0, IF($I36=4,\"Unknown\",IF($I36=99,\"Stopped\", $D36)), 0),\"Not required\")","v":"Not required"},{"$f":"IF(INTRO!$E$42=\"Endemic\", IF(AND($J36>1,$J36<5), IF($J36=4, \"Unknown\", E36+F36), 0),\"Not required\")","v":7558},{"$f":"IF(INTRO!$E$44=\"Endemic\", IF(AND($K36>0,$K36<5), IF($K36=4,\"Unknown\", IF($K36=1, $F36*0.33, IF($K36=2, $F36*0.5+$G36*0.2, SUM(F36:G36)))), 0),\"Not required\")","v":16318},0,null,1,1,"T1 (PZQ+ALB/MBD)",null," ","T1",33204,"Mecula",null,true,"Niassa","Mecula",99,4,2,3,true,true,true,true,null,null,null,1,null,2,3,false,null,true,true,null,null,{"$f":"'MDA1'!M36","v":0},{"$f":"'T1'!O36","v":5009},{"$f":"'T2'!M36","v":0},null,null,{"$f":"DISTRICT!H35:H36","v":0},{"$f":"DISTRICT!X36","v":5009},{"$f":"DISTRICT!AH36","v":5009},null,null,1,1,true,true,"Mecula",true]
[{"$f":"IF(INTRO!$E$34<>0,INTRO!$E$34,\"\")","v":"Mozambique"},"Niassa","Metarica",82272.50292814539,{"$f":"IF(INTRO!$E$48=\"\",\"\",ROUND($D37*INTRO!$E$48,0))","v":9544},{"$f":"IF(INTRO!$E$49=\"\",\"\",ROUND($D37*INTRO!$E$49,0))","v":23036},{"$f":"IF(INTRO!$E$50=\"\",\"\",ROUND($D37*INTRO!$E$50,0))","v":47307},1,4,3,3,{"$f":"IF(INTRO!$E$38=\"Endemic\", IF($H37>0, IF($H37=4,\"Unknown\", IF($H37=99,\"Stopped\", $D37)), 0),\"Not required\")","v":82272.50292814539},{"$f":"IF(INTRO!$E$40=\"Endemic\", IF($I37>0, IF($I37=4,\"Unknown\",IF($I37=99,\"Stopped\", $D37)), 0),\"Not required\")","v":"Not required"},{"$f":"IF(INTRO!$E$42=\"Endemic\", IF(AND($J37>1,$J37<5), IF($J37=4, \"Unknown\", E37+F37), 0),\"Not required\")","v":32580},{"$f":"IF(INTRO!$E$44=\"Endemic\", IF(AND($K37>0,$K37<5), IF($K37=4,\"Unknown\", IF($K37=1, $F37*0.33, IF($K37=2, $F37*0.5+$G37*0.2, SUM(F37:G37)))), 0),\"Not required\")","v":70343},1,null,1,1,"MDA1 (IVM+ALB)","T2 (PZQ)","MDA 1","T1",33205,"Metarica",null,true,"Niassa","Metarica",99,4,3,3,false,true,true,true,null,null,null,1,null,3,3,true,null,true,true,null,null,{"$f":"'MDA1'!M37","v":56526},{"$f":"'T1'!O37","v":0},{"$f":"'T2'!M37","v":29321},null,null,{"$f":"DISTRICT!H36:H37","v":56526},{"$f":"DISTRICT!X37","v":23036},{"$f":"DISTRICT!AH37","v":23036},null,null,2,1,false,true,"Metarica",true]
[{"$f":"IF(INTRO!$E$34<>0,INTRO!$E$34,\"\")","v":"Mozambique"},"Niassa","Muembe",41945.34365486593,{"$f":"IF(INTRO!$E$48=\"\",\"\",ROUND($D38*INTRO!$E$48,0))","v":4866},{"$f":"IF(INTRO!$E$49=\"\",\"\",ROUND($D38*INTRO!$E$49,0))","v":11745},{"$f":"IF(INTRO!$E$50=\"\",\"\",ROUND($D38*INTRO!$E$50,0))","v":24119},0,4,2,2,{"$f":"IF(INTRO!$E$38=\"Endemic\", IF($H38>0, IF($H38=4,\"Unknown\", IF($H38=99,\"Stopped\", $D38)), 0),\"Not required\")","v":0},{"$f":"IF(INTRO!$E$40=\"Endemic\", IF($I38>0, IF($I38=4,\"Unknown\",IF($I38=99,\"Stopped\", $D38)), 0),\"Not required\")","v":"Not required"},{"$f":"IF(INTRO!$E$42=\"Endemic\", IF(AND($J38>1,$J38<5), IF($J38=4, \"Unknown\", E38+F38), 0),\"Not required\")","v":16611},{"$f":"IF(INTRO!$E$44=\"Endemic\", IF(AND($K38>0,$K38<5), IF($K38=4,\"Unknown\", IF($K38=1, $F38*0.33, IF($K38=2, $F38*0.5+$G38*0.2, SUM(F38:G38)))), 0),\"Not required\")","v":10696.3},0,null,1,1,"T1 (PZQ+ALB/MBD)",null," ","T1",33206,"Muembe",null,true,"Niassa","Muembe",0,4,2,2,true,true,true,true,null,null,null,0,null,2,2,true,null,true,true,null,null,{"$f":"'MDA1'!M38","v":0},{"$f":"'T1'!O38","v":11341},{"$f":"'T2'!M38","v":0},null,null,{"$f":"DISTRICT!H37:H38","v":0},{"$f":"DISTRICT!X38","v":11341},{"$f":"DISTRICT!AH38","v":5872.5},null,null,1,0,true,false,"Muembe",true]
[{"$f":"IF(INTRO!$E$34<>0,INTRO!$E$34,\"\")","v":"Mozambique"},"Niassa","N'Gaúma",119703.73823208096,{"$f":"IF(INTRO!$E$48=\"\",\"\",ROUND($D39*INTRO!$E$48,0))","v":13886},{"$f":"IF(INTRO!$E$49=\"\",\"\",ROUND($D39*INTRO!$E$49,0))","v":33517},{"$f":"IF(INTRO!$E$50=\"\",\"\",ROUND($D39*INTRO!$E$50,0))","v":68830},0,4,3,2,{"$f":"IF(INTRO!$E$38=\"Endemic\", IF($H39>0, IF($H39=4,\"Unknown\", IF($H39=99,\"Stopped\", $D39)), 0),\"Not required\")","v":0},{"$f":"IF(INTRO!$E$40=\"Endemic\", IF($I39>0, IF($I39=4,\"Unknown\",IF($I39=99,\"Stopped\", $D39)), 0),\"Not required\")","v":"Not required"},{"$f":"IF(INTRO!$E$42=\"Endemic\", IF(AND($J39>1,$J39<5), IF($J39=4, \"Unknown\", E39+F39), 0),\"Not required\")","v":47403},{"$f":"IF(INTRO!$E$44=\"Endemic\", IF(AND($K39>0,$K39<5), IF($K39=4,\"Unknown\", IF($K39=1, $F39*0.33, IF($K39=2, $F39*0.5+$G39*0.2, SUM(F39:G39)))), 0),\"Not required\")","v":30524.5},0,null,1,1,"T1 (PZQ+ALB/MBD)",null,"T1","T3",33207,"N'Gaúma",null,true,"Niassa","N'Gaúma",0,4,3,2,true,true,true,true,null,null,null,0,null,3,2,true,null,true,true,null,null,{"$f":"'MDA1'!M39","v":0},{"$f":"'T1'!O39","v":32556},{"$f":"'T2'!M39","v":0},null,null,{"$f":"DISTRICT!H38:H39","v":0},{"$f":"DISTRICT!X39","v":32556},{"$f":"DISTRICT!AH39","v":16758.5},null,null,2,0,false,false,"N'Gaúma",true]
[{"$f":"IF(INTRO!$E$34<>0,INTRO!$E$34,\"\")","v":"Mozambique"},"Niassa","Nipepe",41329.443025392669,{"$f":"IF(INTRO!$E$48=\"\",\"\",ROUND($D40*INTRO!$E$48,0))","v":4794},{"$f":"IF(INTRO!$E$49=\"\",\"\",ROUND($D40*INTRO!$E$49,0))","v":11572},{"$f":"IF(INTRO!$E$50=\"\",\"\",ROUND($D40*INTRO!$E$50,0))","v":23764},1,4,3,3,{"$f":"IF(INTRO!$E$38=\"Endemic\", IF($H40>0, IF($H40=4,\"Unknown\", IF($H40=99,\"Stopped\", $D40)), 0),\"Not required\")","v":41329.443025392669},{"$f":"IF(INTRO!$E$40=\"Endemic\", IF($I40>0, IF($I40=4,\"Unknown\",IF($I40=99,\"Stopped\", $D40)), 0),\"Not required\")","v":"Not required"},{"$f":"IF(INTRO!$E$42=\"Endemic\", IF(AND($J40>1,$J40<5), IF($J40=4, \"Unknown\", E40+F40), 0),\"Not required\")","v":16366},{"$f":"IF(INTRO!$E$44=\"Endemic\", IF(AND($K40>0,$K40<5), IF($K40=4,\"Unknown\", IF($K40=1, $F40*0.33, IF($K40=2, $F40*0.5+$G40*0.2, SUM(F40:G40)))), 0),\"Not required\")","v":35336},1,null,1,1,"MDA1 (IVM+ALB)",null,"MDA 1","T1",33208,"Nipepe",null,true,"Niassa","Nipepe",99,4,3,3,false,true,true,true,null,null,null,1,null,3,3,true,null,true,true,null,null,{"$f":"'MDA1'!M40","v":32527},{"$f":"'T1'!O40","v":0},{"$f":"'T2'!M40","v":0},null,null,{"$f":"DISTRICT!H39:H40","v":32527},{"$f":"DISTRICT!X40","v":11572},{"$f":"DISTRICT!AH40","v":0},null,null,2,1,false,true,"Nipepe",true]
[{"$f":"IF(INTRO!$E$34<>0,INTRO!$E$34,\"\")","v":"Mozambique"},"Niassa","Sanga",78277.50273051385,{"$f":"IF(INTRO!$E$48=\"\",\"\",ROUND($D41*INTRO!$E$48,0))","v":9080},{"$f":"IF(INTRO!$E$49=\"\",\"\",ROUND($D41*INTRO!$E$49,0))","v":21918},{"$f":"IF(INTRO!$E$50=\"\",\"\",ROUND($D41*INTRO!$E$50,0))","v":45010},0,4,2,3,{"$f":"IF(INTRO!$E$38=\"Endemic\", IF($H41>0, IF($H41=4,\"Unknown\", IF($H41=99,\"Stopped\", $D41)), 0),\"Not required\")","v":0},{"$f":"IF(INTRO!$E$40=\"Endemic\", IF($I41>0, IF($I41=4,\"Unknown\",IF($I41=99,\"Stopped\", $D41)), 0),\"Not required\")","v":"Not required"},{"$f":"IF(INTRO!$E$42=\"Endemic\", IF(AND($J41>1,$J41<5), IF($J41=4, \"Unknown\", E41+F41), 0),\"Not required\")","v":30998},{"$f":"IF(INTRO!$E$44=\"Endemic\", IF(AND($K41>0,$K41<5), IF($K41=4,\"Unknown\", IF($K41=1, $F41*0.33, IF($K41=2, $F41*0.5+$G41*0.2, SUM(F41:G41)))), 0),\"Not required\")","v":66928},0,null,1,1,"T1 (PZQ+ALB/MBD)",null," ","T1",33209,"Sanga",null,true,"Niassa","Sanga",0,4,2,3,true,true,true,true,null,null,null,0,null,2,3,true,null,true,true,null,null,{"$f":"'MDA1'!M41","v":0},{"$f":"'T1'!O41","v":18070},{"$f":"'T2'!M41","v":0},null,null,{"$f":"DISTRICT!H40:H41","v":0},{"$f":"DISTRICT!X41","v":18070},{"$f":"DISTRICT!AH41","v":18070},null,null,1,1,true,true,"Sanga",true]
[{"$f":"IF(INTRO!$E$34<>0,INTRO!$E$34,\"\")","v":"Mozambique"},"Nampula","Cid. Nampula",758047,{"$f":"IF(INTRO!$E$48=\"\",\"\",ROUND($D42*INTRO!$E$48,0))","v":87933},{"$f":"IF(INTRO!$E$49=\"\",\"\",ROUND($D42*INTRO!$E$49,0))","v":212253},{"$f":"IF(INTRO!$E$50=\"\",\"\",ROUND($D42*INTRO!$E$50,0))","v":435877},1,4,3,3,{"$f":"IF(INTRO!$E$38=\"Endemic\", IF($H42>0, IF($H42=4,\"Unknown\", IF($H42=99,\"Stopped\", $D42)), 0),\"Not required\")","v":758047},{"$f":"IF(INTRO!$E$40=\"Endemic\", IF($I42>0, IF($I42=4,\"Unknown\",IF($I42=99,\"Stopped\", $D42)), 0),\"Not required\")","v":"Not required"},{"$f":"IF(INTRO!$E$42=\"Endemic\", IF(AND($J42>1,$J42<5), IF($J42=4, \"Unknown\", E42+F42), 0),\"Not required\")","v":300186},{"$f":"IF(INTRO!$E$44=\"Endemic\", IF(AND($K42>0,$K42<5), IF($K42=4,\"Unknown\", IF($K42=1, $F42*0.33, IF($K42=2, $F42*0.5+$G42*0.2, SUM(F42:G42)))), 0),\"Not required\")","v":648130},1,null,2,1,"MDA1 (IVM+ALB)","T1 (PZQ+ALB/MBD)","MDA 1","T1",33172,"Cid. Nampula",null,true,"Nampula","Cid. Nampula",1,4,3,3,true,true,true,true,null,null,null,1,null,3,3,true,null,true,true,null,null,{"$f":"'MDA1'!M42","v":688180},{"$f":"'T1'!O42","v":171493},{"$f":"'T2'!M42","v":0},null,null,{"$f":"DISTRICT!H41:H42","v":688180},{"$f":"DISTRICT!X42","v":212253},{"$f":"DISTRICT!AH42","v":171493},null,null,2,1,true,true,"Cid. Nampula",true]
[{"$f":"IF(INTRO!$E$34<>0,INTRO!$E$34,\"\")","v":"Mozambique"},"Nampula","Angoche",346694,{"$f":"IF(INTRO!$E$48=\"\",\"\",ROUND($D43*INTRO!$E$48,0))","v":40217},{"$f":"IF(INTRO!$E$49=\"\",\"\",ROUND($D43*INTRO!$E$49,0))","v":97074},{"$f":"IF(INTRO!$E$50=\"\",\"\",ROUND($D43*INTRO!$E$50,0))","v":199349},1,4,3,3,{"$f":"IF(INTRO!$E$38=\"Endemic\", IF($H43>0, IF($H43=4,\"Unknown\", IF($H43=99,\"Stopped\", $D43)), 0),\"Not required\")","v":346694},{"$f":"IF(INTRO!$E$40=\"Endemic\", IF($I43>0, IF($I43=4,\"Unknown\",IF($I43=99,\"Stopped\", $D43)), 0),\"Not required\")","v":"Not required"},{"$f":"IF(INTRO!$E$42=\"Endemic\", IF(AND($J43>1,$J43<5), IF($J43=4, \"Unknown\", E43+F43), 0),\"Not required\")","v":137291},{"$f":"IF(INTRO!$E$44=\"Endemic\", IF(AND($K43>0,$K43<5), IF($K43=4,\"Unknown\", IF($K43=1, $F43*0.33, IF($K43=2, $F43*0.5+$G43*0.2, SUM(F43:G43)))), 0),\"Not required\")","v":296423},1,null,2,1,"MDA1 (IVM+ALB)","T1 (PZQ+ALB/MBD)","MDA 1","T1",33171,"Angoche",null,true,"Nampula","Angoche",1,4,3,3,true,true,true,true,null,null,null,1,null,3,3,true,null,true,true,null,null,{"$f":"'MDA1'!M43","v":274391},{"$f":"'T1'!O43","v":78708},{"$f":"'T2'!M43","v":0},null,null,{"$f":"DISTRICT!H42:H43","v":274391},{"$f":"DISTRICT!X43","v":97074},{"$f":"DISTRICT!AH43","v":78708},null,null,2,1,true,true,"Angoche",true]
[{"$f":"IF(INTRO!$E$34<>0,INTRO!$E$34,\"\")","v":"Mozambique"},"Nampula","Erati",336592,{"$f":"IF(INTRO!$E$48=\"\",\"\",ROUND($D44*INTRO!$E$48,0))","v":39045},{"$f":"IF(INTRO!$E$49=\"\",\"\",ROUND($D44*INTRO!$E$49,0))","v":94246},{"$f":"IF(INTRO!$E$50=\"\",\"\",ROUND($D44*INTRO!$E$50,0))","v":193540},1,4,3,3,{"$f":"IF(INTRO!$E$38=\"Endemic\", IF($H44>0, IF($H44=4,\"Unknown\", IF($H44=99,\"Stopped\", $D44)), 0),\"Not required\")","v":336592},{"$f":"IF(INTRO!$E$40=\"Endemic\", IF($I44>0, IF($I44=4,\"Unknown\",IF($I44=99,\"Stopped\", $D44)), 0),\"Not required\")","v":"Not required"},{"$f":"IF(INTRO!$E$42=\"Endemic\", IF(AND($J44>1,$J44<5), IF($J44=4, \"Unknown\", E44+F44), 0),\"Not required\")","v":133291},{"$f":"IF(INTRO!$E$44=\"Endemic\", IF(AND($K44>0,$K44<5), IF($K44=4,\"Unknown\", IF($K44=1, $F44*0.33, IF($K44=2, $F44*0.5+$G44*0.2, SUM(F44:G44)))), 0),\"Not required\")","v":287786},1,null,2,1,"MDA1 (IVM+ALB)","T1 (PZQ+ALB/MBD)","MDA 1","T1",33173,"Erati",null,true,"Nampula","Erati",1,4,3,3,true,true,true,true,null,null,null,1,null,3,3,true,null,true,true,null,null,{"$f":"'MDA1'!M44","v":294487},{"$f":"'T1'!O44","v":71299},{"$f":"'T2'!M44","v":0},null,null,{"$f":"DISTRICT!H43:H44","v":294487},{"$f":"DISTRICT!X44","v":94246},{"$f":"DISTRICT!AH44","v":71299},null,null,2,1,true,true,"Erati",true]
[{"$f":"IF(INTRO!$E$34<>0,INTRO!$E$34,\"\")","v":"Mozambique"},"Nampula","Ilha Moc.",57969,{"$f":"IF(INTRO!$E$48=\"\",\"\",ROUND($D45*INTRO!$E$48,0))","v":6724},{"$f":"IF(INTRO!$E$49=\"\",\"\",ROUND($D45*INTRO!$E$49,0))","v":16231},{"$f":"IF(INTRO!$E$50=\"\",\"\",ROUND($D45*INTRO!$E$50,0))","v":33332},1,4,3,2,{"$f":"IF(INTRO!$E$38=\"Endemic\", IF($H45>0, IF($H45=4,\"Unknown\", IF($H45=99,\"Stopped\", $D45)), 0),\"Not required\")","v":57969},{"$f":"IF(INTRO!$E$40=\"Endemic\", IF($I45>0, IF($I45=4,\"Unknown\",IF($I45=99,\"Stopped\", $D45)), 0),\"Not required\")","v":"Not required"},{"$f":"IF(INTRO!$E$42=\"Endemic\", IF(AND($J45>1,$J45<5), IF($J45=4, \"Unknown\", E45+F45), 0),\"Not required\")","v":22955},{"$f":"IF(INTRO!$E$44=\"Endemic\", IF(AND($K45>0,$K45<5), IF($K45=4,\"Unknown\", IF($K45=1, $F45*0.33, IF($K45=2, $F45*0.5+$G45*0.2, SUM(F45:G45)))), 0),\"Not required\")","v":14781.900000000001},1,null,1,0,"MDA1 (IVM+ALB)",null,"MDA 1","T1",33174,"Ilha Moc.",null,true,"Nampula","Ilha Moc.",1,4,3,2,true,true,true,true,null,null,null,1,null,3,2,true,null,true,true,null,null,{"$f":"'MDA1'!M45","v":51175},{"$f":"'T1'!O45","v":0},{"$f":"'T2'!M45","v":0},null,null,{"$f":"DISTRICT!H44:H45","v":51175},{"$f":"DISTRICT!X45","v":16231},{"$f":"DISTRICT!AH45","v":0},null,null,2,0,false,true,"Ilha Moc.",true]
[{"$f":"IF(INTRO!$E$34<>0,INTRO!$E$34,\"\")","v":"Mozambique"},"Nampula","Lalaua",92638,{"$f":"IF(INTRO!$E$48=\"\",\"\",ROUND($D46*INTRO!$E$48,0))","v":10746},{"$f":"IF(INTRO!$E$49=\"\",\"\",ROUND($D46*INTRO!$E$49,0))","v":25939},{"$f":"IF(INTRO!$E$50=\"\",\"\",ROUND($D46*INTRO!$E$50,0))","v":53267},1,4,2,3,{"$f":"IF(INTRO!$E$38=\"Endemic\", IF($H46>0, IF($H46=4,\"Unknown\", IF($H46=99,\"Stopped\", $D46)), 0),\"Not required\")","v":92638},{"$f":"IF(INTRO!$E$40=\"Endemic\", IF($I46>0, IF($I46=4,\"Unknown\",IF($I46=99,\"Stopped\", $D46)), 0),\"Not required\")","v":"Not required"},{"$f":"IF(INTRO!$E$42=\"Endemic\", IF(AND($J46>1,$J46<5), IF($J46=4, \"Unknown\", E46+F46), 0),\"Not required\")","v":36685},{"$f":"IF(INTRO!$E$44=\"Endemic\", IF(AND($K46>0,$K46<5), IF($K46=4,\"Unknown\", IF($K46=1, $F46*0.33, IF($K46=2, $F46*0.5+$G46*0.2, SUM(F46:G46)))), 0),\"Not required\")","v":79206},1,null,1,1,"MDA1 (IVM+ALB)","T2 (PZQ)","MDA 1","T2",33175,"Lalaua",null,true,"Nampula","Lalaua",1,4,2,3,true,true,true,true,null,null,null,1,null,2,3,true,null,true,true,null,null,{"$f":"'MDA1'!M46","v":80858},{"$f":"'T1'!O46","v":0},{"$f":"'T2'!M46","v":23521},null,null,{"$f":"DISTRICT!H45:H46","v":80858},{"$f":"DISTRICT!X46","v":25939},{"$f":"DISTRICT!AH46","v":23521},null,null,1,1,true,true,"Lalaua",true]
[{"$f":"IF(INTRO!$E$34<>0,INTRO!$E$34,\"\")","v":"Mozambique"},"Nampula","Larde",95395.374105604555,{"$f":"IF(INTRO!$E$48=\"\",\"\",ROUND($D47*INTRO!$E$48,0))","v":11066},{"$f":"IF(INTRO!$E$49=\"\",\"\",ROUND($D47*INTRO!$E$49,0))","v":26711},{"$f":"IF(INTRO!$E$50=\"\",\"\",ROUND($D47*INTRO!$E$50,0))","v":54852},1,4,3,3,{"$f":"IF(INTRO!$E$38=\"Endemic\", IF($H47>0, IF($H47=4,\"Unknown\", IF($H47=99,\"Stopped\", $D47)), 0),\"Not required\")","v":95395.374105604555},{"$f":"IF(INTRO!$E$40=\"Endemic\", IF($I47>0, IF($I47=4,\"Unknown\",IF($I47=99,\"Stopped\", $D47)), 0),\"Not required\")","v":"Not required"},{"$f":"IF(INTRO!$E$42=\"Endemic\", IF(AND($J47>1,$J47<5), IF($J47=4, \"Unknown\", E47+F47), 0),\"Not required\")","v":37777},{"$f":"IF(INTRO!$E$44=\"Endemic\", IF(AND($K47>0,$K47<5), IF($K47=4,\"Unknown\", IF($K47=1, $F47*0.33, IF($K47=2, $F47*0.5+$G47*0.2, SUM(F47:G47)))), 0),\"Not required\")","v":81563},1,null,2,1,"MDA1 (IVM+ALB)","T1 (PZQ+ALB/MBD)","MDA 1","T1",33176,"Larde",null,true,"Nampula","Larde",1,4,3,3,true,true,true,true,null,null,null,1,null,3,3,true,null,true,true,null,null,{"$f":"'MDA1'!M47","v":83803},{"$f":"'T1'!O47","v":23671},{"$f":"'T2'!M47","v":0},null,null,{"$f":"DISTRICT!H46:H47","v":83803},{"$f":"DISTRICT!X47","v":26711},{"$f":"DISTRICT!AH47","v":23671},null,null,2,1,true,true,"Larde",true]
[{"$f":"IF(INTRO!$E$34<>0,INTRO!$E$34,\"\")","v":"Mozambique"},"Nampula","Liupo",88360,{"$f":"IF(INTRO!$E$48=\"\",\"\",ROUND($D48*INTRO!$E$48,0))","v":10250},{"$f":"IF(INTRO!$E$49=\"\",\"\",ROUND($D48*INTRO!$E$49,0))","v":24741},{"$f":"IF(INTRO!$E$50=\"\",\"\",ROUND($D48*INTRO!$E$50,0))","v":50807},1,4,3,3,{"$f":"IF(INTRO!$E$38=\"Endemic\", IF($H48>0, IF($H48=4,\"Unknown\", IF($H48=99,\"Stopped\", $D48)), 0),\"Not required\")","v":88360},{"$f":"IF(INTRO!$E$40=\"Endemic\", IF($I48>0, IF($I48=4,\"Unknown\",IF($I48=99,\"Stopped\", $D48)), 0),\"Not required\")","v":"Not required"},{"$f":"IF(INTRO!$E$42=\"Endemic\", IF(AND($J48>1,$J48<5), IF($J48=4, \"Unknown\", E48+F48), 0),\"Not required\")","v":34991},{"$f":"IF(INTRO!$E$44=\"Endemic\", IF(AND($K48>0,$K48<5), IF($K48=4,\"Unknown\", IF($K48=1, $F48*0.33, IF($K48=2, $F48*0.5+$G48*0.2, SUM(F48:G48)))), 0),\"Not required\")","v":75548},1,null,2,1,"MDA1 (IVM+ALB)","T1 (PZQ+ALB/MBD)","MDA 1","T1",33177,"Liupo",null,true,"Nampula","Liupo",1,4,3,3,true,true,true,true,null,null,null,1,null,3,3,true,null,true,true,null,null,{"$f":"'MDA1'!M48","v":73763},{"$f":"'T1'!O48","v":20543},{"$f":"'T2'!M48","v":0},null,null,{"$f":"DISTRICT!H47:H48","v":73763},{"$f":"DISTRICT!X48","v":24741},{"$f":"DISTRICT!AH48","v":20543},null,null,2,1,true,true,"Liupo",true]
[{"$f":"IF(INTRO!$E$34<>0,INTRO!$E$34,\"\")","v":"Mozambique"},"Nampula","Malema",205924,{"$f":"IF(INTRO!$E$48=\"\",\"\",ROUND($D49*INTRO!$E$48,0))","v":23887},{"$f":"IF(INTRO!$E$49=\"\",\"\",ROUND($D49*INTRO!$E$49,0))","v":57659},{"$f":"IF(INTRO!$E$50=\"\",\"\",ROUND($D49*INTRO!$E$50,0))","v":118406},1,4,3,3,{"$f":"IF(INTRO!$E$38=\"Endemic\", IF($H49>0, IF($H49=4,\"Unknown\", IF($H49=99,\"Stopped\", $D49)), 0),\"Not required\")","v":205924},{"$f":"IF(INTRO!$E$40=\"Endemic\", IF($I49>0, IF($I49=4,\"Unknown\",IF($I49=99,\"Stopped\", $D49)), 0),\"Not required\")","v":"Not required"},{"$f":"IF(INTRO!$E$42=\"Endemic\", IF(AND($J49>1,$J49<5), IF($J49=4, \"Unknown\", E49+F49), 0),\"Not required\")","v":81546},{"$f":"IF(INTRO!$E$44=\"Endemic\", IF(AND($K49>0,$K49<5), IF($K49=4,\"Unknown\", IF($K49=1, $F49*0.33, IF($K49=2, $F49*0.5+$G49*0.2, SUM(F49:G49)))), 0),\"Not required\")","v":176065},1,null,2,1,"MDA1 (IVM+ALB)","T1 (PZQ+ALB/MBD)","MDA 1","T1",33178,"Malema",null,true,"Nampula","Malema",1,4,3,3,true,true,true,true,null,null,null,1,null,3,3,true,null,true,true,null,null,{"$f":"'MDA1'!M49","v":182813},{"$f":"'T1'!O49","v":56051},{"$f":"'T2'!M49","v":0},null,null,{"$f":"DISTRICT!H48:H49","v":182813},{"$f":"DISTRICT!X49","v":57659},{"$f":"DISTRICT!AH49","v":56051},null,null,2,1,true,true,"Malema",true]
[{"$f":"IF(INTRO!$E$34<>0,INTRO!$E$34,\"\")","v":"Mozambique"},"Nampula","Meconta",206462,{"$f":"IF(INTRO!$E$48=\"\",\"\",ROUND($D50*INTRO!$E$48,0))","v":23950},{"$f":"IF(INTRO!$E$49=\"\",\"\",ROUND($D50*INTRO!$E$49,0))","v":57809},{"$f":"IF(INTRO!$E$50=\"\",\"\",ROUND($D50*INTRO!$E$50,0))","v":118716},1,4,3,3,{"$f":"IF(INTRO!$E$38=\"Endemic\", IF($H50>0, IF($H50=4,\"Unknown\", IF($H50=99,\"Stopped\", $D50)), 0),\"Not required\")","v":206462},{"$f":"IF(INTRO!$E$40=\"Endemic\", IF($I50>0, IF($I50=4,\"Unknown\",IF($I50=99,\"Stopped\", $D50)), 0),\"Not required\")","v":"Not required"},{"$f":"IF(INTRO!$E$42=\"Endemic\", IF(AND($J50>1,$J50<5), IF($J50=4, \"Unknown\", E50+F50), 0),\"Not required\")","v":81759},{"$f":"IF(INTRO!$E$44=\"Endemic\", IF(AND($K50>0,$K50<5), IF($K50=4,\"Unknown\", IF($K50=1, $F50*0.33, IF($K50=2, $F50*0.5+$G50*0.2, SUM(F50:G50)))), 0),\"Not required\")","v":176525},1,null,2,1,"MDA1 (IVM+ALB)","T1 (PZQ+ALB/MBD)","MDA 1","T1",33179,"Meconta",null,true,"Nampula","Meconta",1,4,3,3,true,true,true,true,null,null,null,1,null,3,3,true,null,true,true,null,null,{"$f":"'MDA1'!M50","v":169880},{"$f":"'T1'!O50","v":48249},{"$f":"'T2'!M50","v":0},null,null,{"$f":"DISTRICT!H49:H50","v":169880},{"$f":"DISTRICT!X50","v":57809},{"$f":"DISTRICT!AH50","v":48249},null,null,2,1,true,true,"Meconta",true]
[{"$f":"IF(INTRO!$E$34<>0,INTRO!$E$34,\"\")","v":"Mozambique"},"Nampula","Mecuburi",195250,{"$f":"IF(INTRO!$E$48=\"\",\"\",ROUND($D51*INTRO!$E$48,0))","v":22649},{"$f":"IF(INTRO!$E$49=\"\",\"\",ROUND($D51*INTRO!$E$49,0))","v":54670},{"$f":"IF(INTRO!$E$50=\"\",\"\",ROUND($D51*INTRO!$E$50,0))","v":112269},1,4,3,3,{"$f":"IF(INTRO!$E$38=\"Endemic\", IF($H51>0, IF($H51=4,\"Unknown\", IF($H51=99,\"Stopped\", $D51)), 0),\"Not required\")","v":195250},{"$f":"IF(INTRO!$E$40=\"Endemic\", IF($I51>0, IF($I51=4,\"Unknown\",IF($I51=99,\"Stopped\", $D51)), 0),\"Not required\")","v":"Not required"},{"$f":"IF(INTRO!$E$42=\"Endemic\", IF(AND($J51>1,$J51<5), IF($J51=4, \"Unknown\", E51+F51), 0),\"Not required\")","v":77319},{"$f":"IF(INTRO!$E$44=\"Endemic\", IF(AND($K51>0,$K51<5), IF($K51=4,\"Unknown\", IF($K51=1, $F51*0.33, IF($K51=2, $F51*0.5+$G51*0.2, SUM(F51:G51)))), 0),\"Not required\")","v":166939},1,null,2,1,"MDA1 (IVM+ALB)","T1 (PZQ+ALB/MBD)","MDA 1","T1",33180,"Mecuburi",null,true,"Nampula","Mecuburi",1,4,3,3,true,true,true,true,null,null,null,1,null,3,3,true,null,true,true,null,null,{"$f":"'MDA1'!M51","v":162135},{"$f":"'T1'!O51","v":44162},{"$f":"'T2'!M51","v":0},null,null,{"$f":"DISTRICT!H50:H51","v":162135},{"$f":"DISTRICT!X51","v":54670},{"$f":"DISTRICT!AH51","v":44162},null,null,2,1,true,true,"Mecuburi",true]
[{"$f":"IF(INTRO!$E$34<>0,INTRO!$E$34,\"\")","v":"Mozambique"},"Nampula","Memba",274409,{"$f":"IF(INTRO!$E$48=\"\",\"\",ROUND($D52*INTRO!$E$48,0))","v":31831},{"$f":"IF(INTRO!$E$49=\"\",\"\",ROUND($D52*INTRO!$E$49,0))","v":76835},{"$f":"IF(INTRO!$E$50=\"\",\"\",ROUND($D52*INTRO!$E$50,0))","v":157785},1,4,3,3,{"$f":"IF(INTRO!$E$38=\"Endemic\", IF($H52>0, IF($H52=4,\"Unknown\", IF($H52=99,\"Stopped\", $D52)), 0),\"Not required\")","v":274409},{"$f":"IF(INTRO!$E$40=\"Endemic\", IF($I52>0, IF($I52=4,\"Unknown\",IF($I52=99,\"Stopped\", $D52)), 0),\"Not required\")","v":"Not required"},{"$f":"IF(INTRO!$E$42=\"Endemic\", IF(AND($J52>1,$J52<5), IF($J52=4, \"Unknown\", E52+F52), 0),\"Not required\")","v":108666},{"$f":"IF(INTRO!$E$44=\"Endemic\", IF(AND($K52>0,$K52<5), IF($K52=4,\"Unknown\", IF($K52=1, $F52*0.33, IF($K52=2, $F52*0.5+$G52*0.2, SUM(F52:G52)))), 0),\"Not required\")","v":234620},1,null,2,1,"MDA1 (IVM+ALB)","T1 (PZQ+ALB/MBD)","MDA 1","T1",33181,"Memba",null,true,"Nampula","Memba",1,4,3,3,true,true,true,true,null,null,null,1,null,3,3,true,null,true,true,null,null,{"$f":"'MDA1'!M52","v":235848},{"$f":"'T1'!O52","v":63362},{"$f":"'T2'!M52","v":0},null,null,{"$f":"DISTRICT!H51:H52","v":235848},{"$f":"DISTRICT!X52","v":76835},{"$f":"DISTRICT!AH52","v":63362},null,null,2,1,true,true,"Memba",true]
[{"$f":"IF(INTRO!$E$34<>0,INTRO!$E$34,\"\")","v":"Mozambique"},"Nampula","Mogincual",91661.918736030013,{"$f":"IF(INTRO!$E$48=\"\",\"\",ROUND($D53*INTRO!$E$48,0))","v":10633},{"$f":"IF(INTRO!$E$49=\"\",\"\",ROUND($D53*INTRO!$E$49,0))","v":25665},{"$f":"IF(INTRO!$E$50=\"\",\"\",ROUND($D53*INTRO!$E$50,0))","v":52706},1,4,3,3,{"$f":"IF(INTRO!$E$38=\"Endemic\", IF($H53>0, IF($H53=4,\"Unknown\", IF($H53=99,\"Stopped\", $D53)), 0),\"Not required\")","v":91661.918736030013},{"$f":"IF(INTRO!$E$40=\"Endemic\", IF($I53>0, IF($I53=4,\"Unknown\",IF($I53=99,\"Stopped\", $D53)), 0),\"Not required\")","v":"Not required"},{"$f":"IF(INTRO!$E$42=\"Endemic\", IF(AND($J53>1,$J53<5), IF($J53=4, \"Unknown\", E53+F53), 0),\"Not required\")","v":36298},{"$f":"IF(INTRO!$E$44=\"Endemic\", IF(AND($K53>0,$K53<5), IF($K53=4,\"Unknown\", IF($K53=1, $F53*0.33, IF($K53=2, $F53*0.5+$G53*0.2, SUM(F53:G53)))), 0),\"Not required\")","v":78371},1,null,2,1,"MDA1 (IVM+ALB)","T1 (PZQ+ALB/MBD)","MDA 1","T1",33182,"Mogincual",null,true,"Nampula","Mogincual",1,4,3,3,true,true,true,true,null,null,null,1,null,3,3,true,null,true,true,null,null,{"$f":"'MDA1'!M53","v":80070},{"$f":"'T1'!O53","v":24230},{"$f":"'T2'!M53","v":0},null,null,{"$f":"DISTRICT!H52:H53","v":80070},{"$f":"DISTRICT!X53","v":25665},{"$f":"DISTRICT!AH53","v":24230},null,null,2,1,true,true,"Mogincual",true]
[{"$f":"IF(INTRO!$E$34<>0,INTRO!$E$34,\"\")","v":"Mozambique"},"Nampula","Mogovolas",554054.05617117707,{"$f":"IF(INTRO!$E$48=\"\",\"\",ROUND($D54*INTRO!$E$48,0))","v":64270},{"$f":"IF(INTRO!$E$49=\"\",\"\",ROUND($D54*INTRO!$E$49,0))","v":155135},{"$f":"IF(INTRO!$E$50=\"\",\"\",ROUND($D54*INTRO!$E$50,0))","v":318581},1,4,3,3,{"$f":"IF(INTRO!$E$38=\"Endemic\", IF($H54>0, IF($H54=4,\"Unknown\", IF($H54=99,\"Stopped\", $D54)), 0),\"Not required\")","v":554054.05617117707},{"$f":"IF(INTRO!$E$40=\"Endemic\", IF($I54>0, IF($I54=4,\"Unknown\",IF($I54=99,\"Stopped\", $D54)), 0),\"Not required\")","v":"Not required"},{"$f":"IF(INTRO!$E$42=\"Endemic\", IF(AND($J54>1,$J54<5), IF($J54=4, \"Unknown\", E54+F54), 0),\"Not required\")","v":219405},{"$f":"IF(INTRO!$E$44=\"Endemic\", IF(AND($K54>0,$K54<5), IF($K54=4,\"Unknown\", IF($K54=1, $F54*0.33, IF($K54=2, $F54*0.5+$G54*0.2, SUM(F54:G54)))), 0),\"Not required\")","v":473716},1,null,2,1,"MDA1 (IVM+ALB)","T1 (PZQ+ALB/MBD)","MDA 1","T1",33183,"Mogovolas",null,true,"Nampula","Mogovolas",1,4,3,3,true,true,true,true,null,null,null,1,null,3,3,true,null,true,true,null,null,{"$f":"'MDA1'!M54","v":464824},{"$f":"'T1'!O54","v":128218},{"$f":"'T2'!M54","v":0},null,null,{"$f":"DISTRICT!H53:H54","v":464824},{"$f":"DISTRICT!X54","v":155135},{"$f":"DISTRICT!AH54","v":128218},null,null,2,1,true,true,"Mogovolas",true]
[{"$f":"IF(INTRO!$E$34<>0,INTRO!$E$34,\"\")","v":"Mozambique"},"Nampula","Moma",334955.11273604119,{"$f":"IF(INTRO!$E$48=\"\",\"\",ROUND($D55*INTRO!$E$48,0))","v":38855},{"$f":"IF(INTRO!$E$49=\"\",\"\",ROUND($D55*INTRO!$E$49,0))","v":93787},{"$f":"IF(INTRO!$E$50=\"\",\"\",ROUND($D55*INTRO!$E$50,0))","v":192599},1,4,3,3,{"$f":"IF(INTRO!$E$38=\"Endemic\", IF($H55>0, IF($H55=4,\"Unknown\", IF($H55=99,\"Stopped\", $D55)), 0),\"Not required\")","v":334955.11273604119},{"$f":"IF(INTRO!$E$40=\"Endemic\", IF($I55>0, IF($I55=4,\"Unknown\",IF($I55=99,\"Stopped\", $D55)), 0),\"Not required\")","v":"Not required"},{"$f":"IF(INTRO!$E$42=\"Endemic\", IF(AND($J55>1,$J55<5), IF($J55=4, \"Unknown\", E55+F55), 0),\"Not required\")","v":132642},{"$f":"IF(INTRO!$E$44=\"Endemic\", IF(AND($K55>0,$K55<5), IF($K55=4,\"Unknown\", IF($K55=1, $F55*0.33, IF($K55=2, $F55*0.5+$G55*0.2, SUM(F55:G55)))), 0),\"Not required\")","v":286386},1,null,2,1,"MDA1 (IVM+ALB)","T1 (PZQ+ALB/MBD)","MDA 1","T1",33184,"Moma",null,true,"Nampula","Moma",1,4,3,3,true,true,true,true,null,null,null,1,null,3,3,true,null,true,true,null,null,{"$f":"'MDA1'!M55","v":290367},{"$f":"'T1'!O55","v":83815},{"$f":"'T2'!M55","v":0},null,null,{"$f":"DISTRICT!H54:H55","v":290367},{"$f":"DISTRICT!X55","v":93787},{"$f":"DISTRICT!AH55","v":83815},null,null,2,1,true,true,"Moma",true]
[{"$f":"IF(INTRO!$E$34<>0,INTRO!$E$34,\"\")","v":"Mozambique"},"Nampula","Monapo",406154.43122013431,{"$f":"IF(INTRO!$E$48=\"\",\"\",ROUND($D56*INTRO!$E$48,0))","v":47114},{"$f":"IF(INTRO!$E$49=\"\",\"\",ROUND($D56*INTRO!$E$49,0))","v":113723},{"$f":"IF(INTRO!$E$50=\"\",\"\",ROUND($D56*INTRO!$E$50,0))","v":233539},1,4,3,3,{"$f":"IF(INTRO!$E$38=\"Endemic\", IF($H56>0, IF($H56=4,\"Unknown\", IF($H56=99,\"Stopped\", $D56)), 0),\"Not required\")","v":406154.43122013431},{"$f":"IF(INTRO!$E$40=\"Endemic\", IF($I56>0, IF($I56=4,\"Unknown\",IF($I56=99,\"Stopped\", $D56)), 0),\"Not required\")","v":"Not required"},{"$f":"IF(INTRO!$E$42=\"Endemic\", IF(AND($J56>1,$J56<5), IF($J56=4, \"Unknown\", E56+F56), 0),\"Not required\")","v":160837},{"$f":"IF(INTRO!$E$44=\"Endemic\", IF(AND($K56>0,$K56<5), IF($K56=4,\"Unknown\", IF($K56=1, $F56*0.33, IF($K56=2, $F56*0.5+$G56*0.2, SUM(F56:G56)))), 0),\"Not required\")","v":347262},1,null,2,1,"MDA1 (IVM+ALB)","T1 (PZQ+ALB/MBD)","MDA 1","T1",33185,"Monapo",null,true,"Nampula","Monapo",1,4,3,3,true,true,true,true,null,null,null,1,null,3,3,true,null,true,true,null,null,{"$f":"'MDA1'!M56","v":318325},{"$f":"'T1'!O56","v":103915},{"$f":"'T2'!M56","v":0},null,null,{"$f":"DISTRICT!H55:H56","v":318325},{"$f":"DISTRICT!X56","v":113723},{"$f":"DISTRICT!AH56","v":103915},null,null,2,1,true,true,"Monapo",true]
[{"$f":"IF(INTRO!$E$34<>0,INTRO!$E$34,\"\")","v":"Mozambique"},"Nampula","Mossuril",146071.31499931266,{"$f":"IF(INTRO!$E$48=\"\",\"\",ROUND($D57*INTRO!$E$48,0))","v":16944},{"$f":"IF(INTRO!$E$49=\"\",\"\",ROUND($D57*INTRO!$E$49,0))","v":40900},{"$f":"IF(INTRO!$E$50=\"\",\"\",ROUND($D57*INTRO!$E$50,0))","v":83991},1,4,2,2,{"$f":"IF(INTRO!$E$38=\"Endemic\", IF($H57>0, IF($H57=4,\"Unknown\", IF($H57=99,\"Stopped\", $D57)), 0),\"Not required\")","v":146071.31499931266},{"$f":"IF(INTRO!$E$40=\"Endemic\", IF($I57>0, IF($I57=4,\"Unknown\",IF($I57=99,\"Stopped\", $D57)), 0),\"Not required\")","v":"Not required"},{"$f":"IF(INTRO!$E$42=\"Endemic\", IF(AND($J57>1,$J57<5), IF($J57=4, \"Unknown\", E57+F57), 0),\"Not required\")","v":57844},{"$f":"IF(INTRO!$E$44=\"Endemic\", IF(AND($K57>0,$K57<5), IF($K57=4,\"Unknown\", IF($K57=1, $F57*0.33, IF($K57=2, $F57*0.5+$G57*0.2, SUM(F57:G57)))), 0),\"Not required\")","v":37248.199999999997},1,null,1,0,"MDA1 (IVM+ALB)",null,"MDA 1","T2",33186,"Mossuril",null,true,"Nampula","Mossuril",1,4,2,2,true,true,true,true,null,null,null,1,null,2,2,true,null,true,true,null,null,{"$f":"'MDA1'!M57","v":115158},{"$f":"'T1'!O57","v":0},{"$f":"'T2'!M57","v":0},null,null,{"$f":"DISTRICT!H56:H57","v":115158},{"$f":"DISTRICT!X57","v":40900},{"$f":"DISTRICT!AH57","v":0},null,null,1,0,true,true,"Mossuril",true]
[{"$f":"IF(INTRO!$E$34<>0,INTRO!$E$34,\"\")","v":"Mozambique"},"Nampula","Muecate",121906.24087011465,{"$f":"IF(INTRO!$E$48=\"\",\"\",ROUND($D58*INTRO!$E$48,0))","v":14141},{"$f":"IF(INTRO!$E$49=\"\",\"\",ROUND($D58*INTRO!$E$49,0))","v":34134},{"$f":"IF(INTRO!$E$50=\"\",\"\",ROUND($D58*INTRO!$E$50,0))","v":70096},1,4,3,3,{"$f":"IF(INTRO!$E$38=\"Endemic\", IF($H58>0, IF($H58=4,\"Unknown\", IF($H58=99,\"Stopped\", $D58)), 0),\"Not required\")","v":121906.24087011465},{"$f":"IF(INTRO!$E$40=\"Endemic\", IF($I58>0, IF($I58=4,\"Unknown\",IF($I58=99,\"Stopped\", $D58)), 0),\"Not required\")","v":"Not required"},{"$f":"IF(INTRO!$E$42=\"Endemic\", IF(AND($J58>1,$J58<5), IF($J58=4, \"Unknown\", E58+F58), 0),\"Not required\")","v":48275},{"$f":"IF(INTRO!$E$44=\"Endemic\", IF(AND($K58>0,$K58<5), IF($K58=4,\"Unknown\", IF($K58=1, $F58*0.33, IF($K58=2, $F58*0.5+$G58*0.2, SUM(F58:G58)))), 0),\"Not required\")","v":104230},1,null,2,1,"MDA1 (IVM+ALB)","T1 (PZQ+ALB/MBD)","MDA 1","T1",33187,"Muecate",null,true,"Nampula","Muecate",1,4,3,3,true,true,true,true,null,null,null,1,null,3,3,true,null,true,true,null,null,{"$f":"'MDA1'!M58","v":112279},{"$f":"'T1'!O58","v":29052},{"$f":"'T2'!M58","v":0},null,null,{"$f":"DISTRICT!H57:H58","v":112279},{"$f":"DISTRICT!X58","v":34134},{"$f":"DISTRICT!AH58","v":29052},null,null,2,1,true,true,"Muecate",true]
[{"$f":"IF(INTRO!$E$34<>0,INTRO!$E$34,\"\")","v":"Mozambique"},"Nampula","Murrupula",187392.22992534589,{"$f":"IF(INTRO!$E$48=\"\",\"\",ROUND($D59*INTRO!$E$48,0))","v":21737},{"$f":"IF(INTRO!$E$49=\"\",\"\",ROUND($D59*INTRO!$E$49,0))","v":52470},{"$f":"IF(INTRO!$E$50=\"\",\"\",ROUND($D59*INTRO!$E$50,0))","v":107751},1,4,3,3,{"$f":"IF(INTRO!$E$38=\"Endemic\", IF($H59>0, IF($H59=4,\"Unknown\", IF($H59=99,\"Stopped\", $D59)), 0),\"Not required\")","v":187392.22992534589},{"$f":"IF(INTRO!$E$40=\"Endemic\", IF($I59>0, IF($I59=4,\"Unknown\",IF($I59=99,\"Stopped\", $D59)), 0),\"Not required\")","v":"Not required"},{"$f":"IF(INTRO!$E$42=\"Endemic\", IF(AND($J59>1,$J59<5), IF($J59=4, \"Unknown\", E59+F59), 0),\"Not required\")","v":74207},{"$f":"IF(INTRO!$E$44=\"Endemic\", IF(AND($K59>0,$K59<5), IF($K59=4,\"Unknown\", IF($K59=1, $F59*0.33, IF($K59=2, $F59*0.5+$G59*0.2, SUM(F59:G59)))), 0),\"Not required\")","v":160221},1,null,2,1,"MDA1 (IVM+ALB)","T1 (PZQ+ALB/MBD)","MDA 1","T1",33188,"Murrupula",null,true,"Nampula","Murrupula",1,4,3,3,true,true,true,true,null,null,null,1,null,3,3,true,null,true,true,null,null,{"$f":"'MDA1'!M59","v":153979},{"$f":"'T1'!O59","v":42751},{"$f":"'T2'!M59","v":0},null,null,{"$f":"DISTRICT!H58:H59","v":153979},{"$f":"DISTRICT!X59","v":52470},{"$f":"DISTRICT!AH59","v":42751},null,null,2,1,true,true,"Murrupula",true]
[{"$f":"IF(INTRO!$E$34<>0,INTRO!$E$34,\"\")","v":"Mozambique"},"Nampula","Nacala Porto",251122.46165777018,{"$f":"IF(INTRO!$E$48=\"\",\"\",ROUND($D60*INTRO!$E$48,0))","v":29130},{"$f":"IF(INTRO!$E$49=\"\",\"\",ROUND($D60*INTRO!$E$49,0))","v":70314},{"$f":"IF(INTRO!$E$50=\"\",\"\",ROUND($D60*INTRO!$E$50,0))","v":144395},1,4,3,2,{"$f":"IF(INTRO!$E$38=\"Endemic\", IF($H60>0, IF($H60=4,\"Unknown\", IF($H60=99,\"Stopped\", $D60)), 0),\"Not required\")","v":251122.46165777018},{"$f":"IF(INTRO!$E$40=\"Endemic\", IF($I60>0, IF($I60=4,\"Unknown\",IF($I60=99,\"Stopped\", $D60)), 0),\"Not required\")","v":"Not required"},{"$f":"IF(INTRO!$E$42=\"Endemic\", IF(AND($J60>1,$J60<5), IF($J60=4, \"Unknown\", E60+F60), 0),\"Not required\")","v":99444},{"$f":"IF(INTRO!$E$44=\"Endemic\", IF(AND($K60>0,$K60<5), IF($K60=4,\"Unknown\", IF($K60=1, $F60*0.33, IF($K60=2, $F60*0.5+$G60*0.2, SUM(F60:G60)))), 0),\"Not required\")","v":64036},1,null,1,0,"MDA1 (IVM+ALB)",null,"MDA 1","T1",33189,"Nacala Porto",null,true,"Nampula","Nacala Porto",1,4,3,2,true,true,true,true,null,null,null,1,null,3,2,true,null,true,true,null,null,{"$f":"'MDA1'!M60","v":214281},{"$f":"'T1'!O60","v":0},{"$f":"'T2'!M60","v":0},null,null,{"$f":"DISTRICT!H59:H60","v":214281},{"$f":"DISTRICT!X60","v":70314},{"$f":"DISTRICT!AH60","v":0},null,null,2,0,false,true,"Nacala Porto",true]
[{"$f":"IF(INTRO!$E$34<>0,INTRO!$E$34,\"\")","v":"Mozambique"},"Nampula","Nacala Velha",139439.51746364753,{"$f":"IF(INTRO!$E$48=\"\",\"\",ROUND($D61*INTRO!$E$48,0))","v":16175},{"$f":"IF(INTRO!$E$49=\"\",\"\",ROUND($D61*INTRO!$E$49,0))","v":39043},{"$f":"IF(INTRO!$E$50=\"\",\"\",ROUND($D61*INTRO!$E$50,0))","v":80178},1,4,3,3,{"$f":"IF(INTRO!$E$38=\"Endemic\", IF($H61>0, IF($H61=4,\"Unknown\", IF($H61=99,\"Stopped\", $D61)), 0),\"Not required\")","v":139439.51746364753},{"$f":"IF(INTRO!$E$40=\"Endemic\", IF($I61>0, IF($I61=4,\"Unknown\",IF($I61=99,\"Stopped\", $D61)), 0),\"Not required\")","v":"Not required"},{"$f":"IF(INTRO!$E$42=\"Endemic\", IF(AND($J61>1,$J61<5), IF($J61=4, \"Unknown\", E61+F61), 0),\"Not required\")","v":55218},{"$f":"IF(INTRO!$E$44=\"Endemic\", IF(AND($K61>0,$K61<5), IF($K61=4,\"Unknown\", IF($K61=1, $F61*0.33, IF($K61=2, $F61*0.5+$G61*0.2, SUM(F61:G61)))), 0),\"Not required\")","v":119221},1,null,2,1,"MDA1 (IVM+ALB)","T1 (PZQ+ALB/MBD)","MDA 1","T1",33190,"Nacala Velha",null,true,"Nampula","Nacala Velha",1,4,3,3,true,true,true,true,null,null,null,1,null,3,3,true,null,true,true,null,null,{"$f":"'MDA1'!M61","v":122740},{"$f":"'T1'!O61","v":33693},{"$f":"'T2'!M61","v":0},null,null,{"$f":"DISTRICT!H60:H61","v":122740},{"$f":"DISTRICT!X61","v":39043},{"$f":"DISTRICT!AH61","v":33693},null,null,2,1,true,true,"Nacala Velha",true]
[{"$f":"IF(INTRO!$E$34<>0,INTRO!$E$34,\"\")","v":"Mozambique"},"Nampula","Nacaroa",131741.38478836263,{"$f":"IF(INTRO!$E$48=\"\",\"\",ROUND($D62*INTRO!$E$48,0))","v":15282},{"$f":"IF(INTRO!$E$49=\"\",\"\",ROUND($D62*INTRO!$E$49,0))","v":36888},{"$f":"IF(INTRO!$E$50=\"\",\"\",ROUND($D62*INTRO!$E$50,0))","v":75751},1,4,3,3,{"$f":"IF(INTRO!$E$38=\"Endemic\", IF($H62>0, IF($H62=4,\"Unknown\", IF($H62=99,\"Stopped\", $D62)), 0),\"Not required\")","v":131741.38478836263},{"$f":"IF(INTRO!$E$40=\"Endemic\", IF($I62>0, IF($I62=4,\"Unknown\",IF($I62=99,\"Stopped\", $D62)), 0),\"Not required\")","v":"Not required"},{"$f":"IF(INTRO!$E$42=\"Endemic\", IF(AND($J62>1,$J62<5), IF($J62=4, \"Unknown\", E62+F62), 0),\"Not required\")","v":52170},{"$f":"IF(INTRO!$E$44=\"Endemic\", IF(AND($K62>0,$K62<5), IF($K62=4,\"Unknown\", IF($K62=1, $F62*0.33, IF($K62=2, $F62*0.5+$G62*0.2, SUM(F62:G62)))), 0),\"Not required\")","v":112639},1,null,2,1,"MDA1 (IVM+ALB)","T1 (PZQ+ALB/MBD)","MDA 1","T1",33191,"Nacaroa",null,true,"Nampula","Nacaroa",1,4,3,3,true,true,true,true,null,null,null,1,null,3,3,true,null,true,true,null,null,{"$f":"'MDA1'!M62","v":112176},{"$f":"'T1'!O62","v":35161},{"$f":"'T2'!M62","v":0},null,null,{"$f":"DISTRICT!H61:H62","v":112176},{"$f":"DISTRICT!X62","v":36888},{"$f":"DISTRICT!AH62","v":35161},null,null,2,1,true,true,"Nacaroa",true]
[{"$f":"IF(INTRO!$E$34<>0,INTRO!$E$34,\"\")","v":"Mozambique"},"Nampula","Nampula Dist.",177559.72238686206,{"$f":"IF(INTRO!$E$48=\"\",\"\",ROUND($D63*INTRO!$E$48,0))","v":20597},{"$f":"IF(INTRO!$E$49=\"\",\"\",ROUND($D63*INTRO!$E$49,0))","v":49717},{"$f":"IF(INTRO!$E$50=\"\",\"\",ROUND($D63*INTRO!$E$50,0))","v":102097},1,4,2,3,{"$f":"IF(INTRO!$E$38=\"Endemic\", IF($H63>0, IF($H63=4,\"Unknown\", IF($H63=99,\"Stopped\", $D63)), 0),\"Not required\")","v":177559.72238686206},{"$f":"IF(INTRO!$E$40=\"Endemic\", IF($I63>0, IF($I63=4,\"Unknown\",IF($I63=99,\"Stopped\", $D63)), 0),\"Not required\")","v":"Not required"},{"$f":"IF(INTRO!$E$42=\"Endemic\", IF(AND($J63>1,$J63<5), IF($J63=4, \"Unknown\", E63+F63), 0),\"Not required\")","v":70314},{"$f":"IF(INTRO!$E$44=\"Endemic\", IF(AND($K63>0,$K63<5), IF($K63=4,\"Unknown\", IF($K63=1, $F63*0.33, IF($K63=2, $F63*0.5+$G63*0.2, SUM(F63:G63)))), 0),\"Not required\")","v":151814},1,null,1,1,"MDA1 (IVM+ALB)","T2 (PZQ)","MDA 1","T2",33192,"Nampula Dist.",null,true,"Nampula","Nampula Dist.",1,4,2,3,true,true,true,true,null,null,null,1,null,2,3,true,null,true,true,null,null,{"$f":"'MDA1'!M63","v":165500},{"$f":"'T1'!O63","v":0},{"$f":"'T2'!M63","v":39518},null,null,{"$f":"DISTRICT!H62:H63","v":165500},{"$f":"DISTRICT!X63","v":49717},{"$f":"DISTRICT!AH63","v":39518},null,null,1,1,true,true,"Nampula Dist.",true]
[{"$f":"IF(INTRO!$E$34<>0,INTRO!$E$34,\"\")","v":"Mozambique"},"Nampula","Ribaué",295477.59598869417,{"$f":"IF(INTRO!$E$48=\"\",\"\",ROUND($D64*INTRO!$E$48,0))","v":34275},{"$f":"IF(INTRO!$E$49=\"\",\"\",ROUND($D64*INTRO!$E$49,0))","v":82734},{"$f":"IF(INTRO!$E$50=\"\",\"\",ROUND($D64*INTRO!$E$50,0))","v":169900},1,4,2,3,{"$f":"IF(INTRO!$E$38=\"Endemic\", IF($H64>0, IF($H64=4,\"Unknown\", IF($H64=99,\"Stopped\", $D64)), 0),\"Not required\")","v":295477.59598869417},{"$f":"IF(INTRO!$E$40=\"Endemic\", IF($I64>0, IF($I64=4,\"Unknown\",IF($I64=99,\"Stopped\", $D64)), 0),\"Not required\")","v":"Not required"},{"$f":"IF(INTRO!$E$42=\"Endemic\", IF(AND($J64>1,$J64<5), IF($J64=4, \"Unknown\", E64+F64), 0),\"Not required\")","v":117009},{"$f":"IF(INTRO!$E$44=\"Endemic\", IF(AND($K64>0,$K64<5), IF($K64=4,\"Unknown\", IF($K64=1, $F64*0.33, IF($K64=2, $F64*0.5+$G64*0.2, SUM(F64:G64)))), 0),\"Not required\")","v":252634},1,null,1,1,"MDA1 (IVM+ALB)","T2 (PZQ)","MDA 1","T2",33193,"Ribaué",null,true,"Nampula","Ribaué",1,4,2,3,true,true,true,true,null,null,null,1,null,2,3,true,null,true,true,null,null,{"$f":"'MDA1'!M64","v":224140},{"$f":"'T1'!O64","v":0},{"$f":"'T2'!M64","v":70090},null,null,{"$f":"DISTRICT!H63:H64","v":224140},{"$f":"DISTRICT!X64","v":82734},{"$f":"DISTRICT!AH64","v":70090},null,null,1,1,true,true,"Ribaué",true]
[{"$f":"IF(INTRO!$E$34<>0,INTRO!$E$34,\"\")","v":"Mozambique"},"Zambezia","Quelimane",408480,{"$f":"IF(INTRO!$E$48=\"\",\"\",ROUND($D65*INTRO!$E$48,0))","v":47384},{"$f":"IF(INTRO!$E$49=\"\",\"\",ROUND($D65*INTRO!$E$49,0))","v":114374},{"$f":"IF(INTRO!$E$50=\"\",\"\",ROUND($D65*INTRO!$E$50,0))","v":234876},1,4,3,2,{"$f":"IF(INTRO!$E$38=\"Endemic\", IF($H65>0, IF($H65=4,\"Unknown\", IF($H65=99,\"Stopped\", $D65)), 0),\"Not required\")","v":408480},{"$f":"IF(INTRO!$E$40=\"Endemic\", IF($I65>0, IF($I65=4,\"Unknown\",IF($I65=99,\"Stopped\", $D65)), 0),\"Not required\")","v":"Not required"},{"$f":"IF(INTRO!$E$42=\"Endemic\", IF(AND($J65>1,$J65<5), IF($J65=4, \"Unknown\", E65+F65), 0),\"Not required\")","v":161758},{"$f":"IF(INTRO!$E$44=\"Endemic\", IF(AND($K65>0,$K65<5), IF($K65=4,\"Unknown\", IF($K65=1, $F65*0.33, IF($K65=2, $F65*0.5+$G65*0.2, SUM(F65:G65)))), 0),\"Not required\")","v":104162.20000000001},0,null,0,0,null,null,"MDA 1","T1",33239,"Quelimane",null,true,"Zambezia","Quelimane",1,4,3,2,true,true,true,true,null,null,null,1,null,3,2,true,null,true,true,null,null,{"$f":"'MDA1'!M65","v":0},{"$f":"'T1'!O65","v":0},{"$f":"'T2'!M65","v":0},null,null,{"$f":"DISTRICT!H64:H65","v":0},{"$f":"DISTRICT!X65","v":0},{"$f":"DISTRICT!AH65","v":0},null,null,2,0,false,true,"Quelimane",true]
[{"$f":"IF(INTRO!$E$34<>0,INTRO!$E$34,\"\")","v":"Mozambique"},"Zambezia","Alto Molocué",433616,{"$f":"IF(INTRO!$E$48=\"\",\"\",ROUND($D66*INTRO!$E$48,0))","v":50299},{"$f":"IF(INTRO!$E$49=\"\",\"\",ROUND($D66*INTRO!$E$49,0))","v":121412},{"$f":"IF(INTRO!$E$50=\"\",\"\",ROUND($D66*INTRO!$E$50,0))","v":249329},1,4,2,3,{"$f":"IF(INTRO!$E$38=\"Endemic\", IF($H66>0, IF($H66=4,\"Unknown\", IF($H66=99,\"Stopped\", $D66)), 0),\"Not required\")","v":433616},{"$f":"IF(INTRO!$E$40=\"Endemic\", IF($I66>0, IF($I66=4,\"Unknown\",IF($I66=99,\"Stopped\", $D66)), 0),\"Not required\")","v":"Not required"},{"$f":"IF(INTRO!$E$42=\"Endemic\", IF(AND($J66>1,$J66<5), IF($J66=4, \"Unknown\", E66+F66), 0),\"Not required\")","v":171711},{"$f":"IF(INTRO!$E$44=\"Endemic\", IF(AND($K66>0,$K66<5), IF($K66=4,\"Unknown\", IF($K66=1, $F66*0.33, IF($K66=2, $F66*0.5+$G66*0.2, SUM(F66:G66)))), 0),\"Not required\")","v":370741},0,null,0,1,null,null,"MDA 1","T2",33251,"Alto Molocué",null,true,"Zambezia","Alto Molocué",1,4,2,3,true,true,true,true,null,null,null,1,null,2,3,true,null,true,true,null,null,{"$f":"'MDA1'!M66","v":0},{"$f":"'T1'!O66","v":0},{"$f":"'T2'!M66","v":0},null,null,{"$f":"DISTRICT!H65:H66","v":0},{"$f":"DISTRICT!X66","v":0},{"$f":"DISTRICT!AH66","v":0},null,null,1,1,false,true,"Alto Molocué",true]
[{"$f":"IF(INTRO!$E$34<>0,INTRO!$E$34,\"\")","v":"Mozambique"},"Zambezia","Chinde",100998,{"$f":"IF(INTRO!$E$48=\"\",\"\",ROUND($D67*INTRO!$E$48,0))","v":11716},{"$f":"IF(INTRO!$E$49=\"\",\"\",ROUND($D67*INTRO!$E$49,0))","v":28279},{"$f":"IF(INTRO!$E$50=\"\",\"\",ROUND($D67*INTRO!$E$50,0))","v":58074},1,4,3,2,{"$f":"IF(INTRO!$E$38=\"Endemic\", IF($H67>0, IF($H67=4,\"Unknown\", IF($H67=99,\"Stopped\", $D67)), 0),\"Not required\")","v":100998},{"$f":"IF(INTRO!$E$40=\"Endemic\", IF($I67>0, IF($I67=4,\"Unknown\",IF($I67=99,\"Stopped\", $D67)), 0),\"Not required\")","v":"Not required"},{"$f":"IF(INTRO!$E$42=\"Endemic\", IF(AND($J67>1,$J67<5), IF($J67=4, \"Unknown\", E67+F67), 0),\"Not required\")","v":39995},{"$f":"IF(INTRO!$E$44=\"Endemic\", IF(AND($K67>0,$K67<5), IF($K67=4,\"Unknown\", IF($K67=1, $F67*0.33, IF($K67=2, $F67*0.5+$G67*0.2, SUM(F67:G67)))), 0),\"Not required\")","v":25754.300000000003},0,null,0,0,null,null,"MDA 1","T1",33238,"Chinde",null,true,"Zambezia","Chinde",1,4,3,2,true,true,true,true,null,null,null,1,null,3,2,true,null,true,true,null,null,{"$f":"'MDA1'!M67","v":0},{"$f":"'T1'!O67","v":0},{"$f":"'T2'!M67","v":0},null,null,{"$f":"DISTRICT!H66:H67","v":0},{"$f":"DISTRICT!X67","v":0},{"$f":"DISTRICT!AH67","v":0},null,null,2,0,false,true,"Chinde",true]
[{"$f":"IF(INTRO!$E$34<>0,INTRO!$E$34,\"\")","v":"Mozambique"},"Zambezia","Derre",97877,{"$f":"IF(INTRO!$E$48=\"\",\"\",ROUND($D68*INTRO!$E$48,0))","v":11354},{"$f":"IF(INTRO!$E$49=\"\",\"\",ROUND($D68*INTRO!$E$49,0))","v":27406},{"$f":"IF(INTRO!$E$50=\"\",\"\",ROUND($D68*INTRO!$E$50,0))","v":56279},1,4,3,3,{"$f":"IF(INTRO!$E$38=\"Endemic\", IF($H68>0, IF($H68=4,\"Unknown\", IF($H68=99,\"Stopped\", $D68)), 0),\"Not required\")","v":97877},{"$f":"IF(INTRO!$E$40=\"Endemic\", IF($I68>0, IF($I68=4,\"Unknown\",IF($I68=99,\"Stopped\", $D68)), 0),\"Not required\")","v":"Not required"},{"$f":"IF(INTRO!$E$42=\"Endemic\", IF(AND($J68>1,$J68<5), IF($J68=4, \"Unknown\", E68+F68), 0),\"Not required\")","v":38760},{"$f":"IF(INTRO!$E$44=\"Endemic\", IF(AND($K68>0,$K68<5), IF($K68=4,\"Unknown\", IF($K68=1, $F68*0.33, IF($K68=2, $F68*0.5+$G68*0.2, SUM(F68:G68)))), 0),\"Not required\")","v":83685},0,null,0,1,null,null,"MDA 1","T1",33240,"Derre",null,true,"Zambezia","Derre",1,4,3,3,true,true,true,true,null,null,null,1,null,3,3,true,null,true,true,null,null,{"$f":"'MDA1'!M68","v":0},{"$f":"'T1'!O68","v":0},{"$f":"'T2'!M68","v":0},null,null,{"$f":"DISTRICT!H67:H68","v":0},{"$f":"DISTRICT!X68","v":0},{"$f":"DISTRICT!AH68","v":0},null,null,2,1,false,true,"Derre",true]
[{"$f":"IF(INTRO!$E$34<>0,INTRO!$E$34,\"\")","v":"Mozambique"},"Zambezia","Gilé",205104,{"$f":"IF(INTRO!$E$48=\"\",\"\",ROUND($D69*INTRO!$E$48,0))","v":23792},{"$f":"IF(INTRO!$E$49=\"\",\"\",ROUND($D69*INTRO!$E$49,0))","v":57429},{"$f":"IF(INTRO!$E$50=\"\",\"\",ROUND($D69*INTRO!$E$50,0))","v":117935},1,4,3,3,{"$f":"IF(INTRO!$E$38=\"Endemic\", IF($H69>0, IF($H69=4,\"Unknown\", IF($H69=99,\"Stopped\", $D69)), 0),\"Not required\")","v":205104},{"$f":"IF(INTRO!$E$40=\"Endemic\", IF($I69>0, IF($I69=4,\"Unknown\",IF($I69=99,\"Stopped\", $D69)), 0),\"Not required\")","v":"Not required"},{"$f":"IF(INTRO!$E$42=\"Endemic\", IF(AND($J69>1,$J69<5), IF($J69=4, \"Unknown\", E69+F69), 0),\"Not required\")","v":81221},{"$f":"IF(INTRO!$E$44=\"Endemic\", IF(AND($K69>0,$K69<5), IF($K69=4,\"Unknown\", IF($K69=1, $F69*0.33, IF($K69=2, $F69*0.5+$G69*0.2, SUM(F69:G69)))), 0),\"Not required\")","v":175364},0,null,0,1,null,null,"MDA 1","T1",33241,"Gilé",null,true,"Zambezia","Gilé",1,4,3,3,true,true,true,true,null,null,null,1,null,3,3,true,null,true,true,null,null,{"$f":"'MDA1'!M69","v":0},{"$f":"'T1'!O69","v":0},{"$f":"'T2'!M69","v":0},null,null,{"$f":"DISTRICT!H68:H69","v":0},{"$f":"DISTRICT!X69","v":0},{"$f":"DISTRICT!AH69","v":0},null,null,2,1,false,true,"Gilé",true]
[{"$f":"IF(INTRO!$E$34<>0,INTRO!$E$34,\"\")","v":"Mozambique"},"Zambezia","Gurué",368703.05250215484,{"$f":"IF(INTRO!$E$48=\"\",\"\",ROUND($D70*INTRO!$E$48,0))","v":42770},{"$f":"IF(INTRO!$E$49=\"\",\"\",ROUND($D70*INTRO!$E$49,0))","v":103237},{"$f":"IF(INTRO!$E$50=\"\",\"\",ROUND($D70*INTRO!$E$50,0))","v":212004},1,4,2,3,{"$f":"IF(INTRO!$E$38=\"Endemic\", IF($H70>0, IF($H70=4,\"Unknown\", IF($H70=99,\"Stopped\", $D70)), 0),\"Not required\")","v":368703.05250215484},{"$f":"IF(INTRO!$E$40=\"Endemic\", IF($I70>0, IF($I70=4,\"Unknown\",IF($I70=99,\"Stopped\", $D70)), 0),\"Not required\")","v":"Not required"},{"$f":"IF(INTRO!$E$42=\"Endemic\", IF(AND($J70>1,$J70<5), IF($J70=4, \"Unknown\", E70+F70), 0),\"Not required\")","v":146007},{"$f":"IF(INTRO!$E$44=\"Endemic\", IF(AND($K70>0,$K70<5), IF($K70=4,\"Unknown\", IF($K70=1, $F70*0.33, IF($K70=2, $F70*0.5+$G70*0.2, SUM(F70:G70)))), 0),\"Not required\")","v":315241},0,null,0,1,null,null,"MDA 1","T2",33242,"Gurué",null,true,"Zambezia","Gurué",1,4,2,3,true,true,true,true,null,null,null,1,null,2,3,true,null,true,true,null,null,{"$f":"'MDA1'!M70","v":0},{"$f":"'T1'!O70","v":0},{"$f":"'T2'!M70","v":0},null,null,{"$f":"DISTRICT!H69:H70","v":0},{"$f":"DISTRICT!X70","v":0},{"$f":"DISTRICT!AH70","v":0},null,null,1,1,false,true,"Gurué",true]
[{"$f":"IF(INTRO!$E$34<>0,INTRO!$E$34,\"\")","v":"Mozambique"},"Zambezia","Ile",289889.35917157482,{"$f":"IF(INTRO!$E$48=\"\",\"\",ROUND($D71*INTRO!$E$48,0))","v":33627},{"$f":"IF(INTRO!$E$49=\"\",\"\",ROUND($D71*INTRO!$E$49,0))","v":81169},{"$f":"IF(INTRO!$E$50=\"\",\"\",ROUND($D71*INTRO!$E$50,0))","v":166686},1,4,2,3,{"$f":"IF(INTRO!$E$38=\"Endemic\", IF($H71>0, IF($H71=4,\"Unknown\", IF($H71=99,\"Stopped\", $D71)), 0),\"Not required\")","v":289889.35917157482},{"$f":"IF(INTRO!$E$40=\"Endemic\", IF($I71>0, IF($I71=4,\"Unknown\",IF($I71=99,\"Stopped\", $D71)), 0),\"Not required\")","v":"Not required"},{"$f":"IF(INTRO!$E$42=\"Endemic\", IF(AND($J71>1,$J71<5), IF($J71=4, \"Unknown\", E71+F71), 0),\"Not required\")","v":114796},{"$f":"IF(INTRO!$E$44=\"Endemic\", IF(AND($K71>0,$K71<5), IF($K71=4,\"Unknown\", IF($K71=1, $F71*0.33, IF($K71=2, $F71*0.5+$G71*0.2, SUM(F71:G71)))), 0),\"Not required\")","v":247855},0,null,0,1,null,null,"MDA 1","T2",33243,"Ile",null,true,"Zambezia","Ile",1,4,2,3,true,true,true,true,null,null,null,1,null,2,3,true,null,true,true,null,null,{"$f":"'MDA1'!M71","v":0},{"$f":"'T1'!O71","v":0},{"$f":"'T2'!M71","v":0},null,null,{"$f":"DISTRICT!H70:H71","v":0},{"$f":"DISTRICT!X71","v":0},{"$f":"DISTRICT!AH71","v":0},null,null,1,1,false,true,"Ile",true]
[{"$f":"IF(INTRO!$E$34<>0,INTRO!$E$34,\"\")","v":"Mozambique"},"Zambezia","Inhassunge",103117.64880706414,{"$f":"IF(INTRO!$E$48=\"\",\"\",ROUND($D72*INTRO!$E$48,0))","v":11962},{"$f":"IF(INTRO!$E$49=\"\",\"\",ROUND($D72*INTRO!$E$49,0))","v":28873},{"$f":"IF(INTRO!$E$50=\"\",\"\",ROUND($D72*INTRO!$E$50,0))","v":59293},1,4,3,3,{"$f":"IF(INTRO!$E$38=\"Endemic\", IF($H72>0, IF($H72=4,\"Unknown\", IF($H72=99,\"Stopped\", $D72)), 0),\"Not required\")","v":103117.64880706414},{"$f":"IF(INTRO!$E$40=\"Endemic\", IF($I72>0, IF($I72=4,\"Unknown\",IF($I72=99,\"Stopped\", $D72)), 0),\"Not required\")","v":"Not required"},{"$f":"IF(INTRO!$E$42=\"Endemic\", IF(AND($J72>1,$J72<5), IF($J72=4, \"Unknown\", E72+F72), 0),\"Not required\")","v":40835},{"$f":"IF(INTRO!$E$44=\"Endemic\", IF(AND($K72>0,$K72<5), IF($K72=4,\"Unknown\", IF($K72=1, $F72*0.33, IF($K72=2, $F72*0.5+$G72*0.2, SUM(F72:G72)))), 0),\"Not required\")","v":88166},0,null,0,1,null,null,"MDA 1","T1",33244,"Inhassunge",null,true,"Zambezia","Inhassunge",1,4,3,3,true,true,true,true,null,null,null,1,null,3,3,true,null,true,true,null,null,{"$f":"'MDA1'!M72","v":0},{"$f":"'T1'!O72","v":0},{"$f":"'T2'!M72","v":0},null,null,{"$f":"DISTRICT!H71:H72","v":0},{"$f":"DISTRICT!X72","v":0},{"$f":"DISTRICT!AH72","v":0},null,null,2,1,false,true,"Inhassunge",true]
[{"$f":"IF(INTRO!$E$34<>0,INTRO!$E$34,\"\")","v":"Mozambique"},"Zambezia","Luabo",59554,{"$f":"IF(INTRO!$E$48=\"\",\"\",ROUND($D73*INTRO!$E$48,0))","v":6908},{"$f":"IF(INTRO!$E$49=\"\",\"\",ROUND($D73*INTRO!$E$49,0))","v":16675},{"$f":"IF(INTRO!$E$50=\"\",\"\",ROUND($D73*INTRO!$E$50,0))","v":34244},1,4,3,2,{"$f":"IF(INTRO!$E$38=\"Endemic\", IF($H73>0, IF($H73=4,\"Unknown\", IF($H73=99,\"Stopped\", $D73)), 0),\"Not required\")","v":59554},{"$f":"IF(INTRO!$E$40=\"Endemic\", IF($I73>0, IF($I73=4,\"Unknown\",IF($I73=99,\"Stopped\", $D73)), 0),\"Not required\")","v":"Not required"},{"$f":"IF(INTRO!$E$42=\"Endemic\", IF(AND($J73>1,$J73<5), IF($J73=4, \"Unknown\", E73+F73), 0),\"Not required\")","v":23583},{"$f":"IF(INTRO!$E$44=\"Endemic\", IF(AND($K73>0,$K73<5), IF($K73=4,\"Unknown\", IF($K73=1, $F73*0.33, IF($K73=2, $F73*0.5+$G73*0.2, SUM(F73:G73)))), 0),\"Not required\")","v":15186.3},0,null,0,0,null,null,"MDA 1","T1",33245,"Luabo",null,true,"Zambezia","Luabo",1,4,3,2,true,true,true,true,null,null,null,1,null,3,2,true,null,true,true,null,null,{"$f":"'MDA1'!M73","v":0},{"$f":"'T1'!O73","v":0},{"$f":"'T2'!M73","v":0},null,null,{"$f":"DISTRICT!H72:H73","v":0},{"$f":"DISTRICT!X73","v":0},{"$f":"DISTRICT!AH73","v":0},null,null,2,0,false,true,"Luabo",true]
[{"$f":"IF(INTRO!$E$34<>0,INTRO!$E$34,\"\")","v":"Mozambique"},"Zambezia","Lugela",156847.90194866707,{"$f":"IF(INTRO!$E$48=\"\",\"\",ROUND($D74*INTRO!$E$48,0))","v":18194},{"$f":"IF(INTRO!$E$49=\"\",\"\",ROUND($D74*INTRO!$E$49,0))","v":43917},{"$f":"IF(INTRO!$E$50=\"\",\"\",ROUND($D74*INTRO!$E$50,0))","v":90188},1,4,2,3,{"$f":"IF(INTRO!$E$38=\"Endemic\", IF($H74>0, IF($H74=4,\"Unknown\", IF($H74=99,\"Stopped\", $D74)), 0),\"Not required\")","v":156847.90194866707},{"$f":"IF(INTRO!$E$40=\"Endemic\", IF($I74>0, IF($I74=4,\"Unknown\",IF($I74=99,\"Stopped\", $D74)), 0),\"Not required\")","v":"Not required"},{"$f":"IF(INTRO!$E$42=\"Endemic\", IF(AND($J74>1,$J74<5), IF($J74=4, \"Unknown\", E74+F74), 0),\"Not required\")","v":62111},{"$f":"IF(INTRO!$E$44=\"Endemic\", IF(AND($K74>0,$K74<5), IF($K74=4,\"Unknown\", IF($K74=1, $F74*0.33, IF($K74=2, $F74*0.5+$G74*0.2, SUM(F74:G74)))), 0),\"Not required\")","v":134105},0,null,0,1,null,null,"MDA 1","T2",33246,"Lugela",null,{"$f":"AC74=C74","v":true},"Zambezia","Lugela",1,4,2,3,{"$f":"AD74=H74","v":true},{"$f":"AE74=I74","v":true},{"$f":"AF74=J74","v":true},{"$f":"AG74=K74","v":true},null,null,null,1,null,2,3,{"$f":"AO74=H74","v":true},null,true,true,null,null,{"$f":"'MDA1'!M74","v":0},{"$f":"'T1'!O74","v":0},{"$f":"'T2'!M74","v":0},null,null,{"$f":"DISTRICT!H73:H74","v":0},{"$f":"DISTRICT!X74","v":0},{"$f":"DISTRICT!AH74","v":0},null,null,1,1,{"$f":"BI74=R74","v":false},{"$f":"BJ74=S74","v":true},"Lugela",{"$f":"BM74=C74","v":true}]
[{"$f":"IF(INTRO!$E$34<>0,INTRO!$E$34,\"\")","v":"Mozambique"},"Zambezia","Maganja da Costa",231150.18842979905,{"$f":"IF(INTRO!$E$48=\"\",\"\",ROUND($D75*INTRO!$E$48,0))","v":26813},{"$f":"IF(INTRO!$E$49=\"\",\"\",ROUND($D75*INTRO!$E$49,0))","v":64722},{"$f":"IF(INTRO!$E$50=\"\",\"\",ROUND($D75*INTRO!$E$50,0))","v":132911},1,4,2,3,{"$f":"IF(INTRO!$E$38=\"Endemic\", IF($H75>0, IF($H75=4,\"Unknown\", IF($H75=99,\"Stopped\", $D75)), 0),\"Not required\")","v":231150.18842979905},{"$f":"IF(INTRO!$E$40=\"Endemic\", IF($I75>0, IF($I75=4,\"Unknown\",IF($I75=99,\"Stopped\", $D75)), 0),\"Not required\")","v":"Not required"},{"$f":"IF(INTRO!$E$42=\"Endemic\", IF(AND($J75>1,$J75<5), IF($J75=4, \"Unknown\", E75+F75), 0),\"Not required\")","v":91535},{"$f":"IF(INTRO!$E$44=\"Endemic\", IF(AND($K75>0,$K75<5), IF($K75=4,\"Unknown\", IF($K75=1, $F75*0.33, IF($K75=2, $F75*0.5+$G75*0.2, SUM(F75:G75)))), 0),\"Not required\")","v":197633},0,null,0,1,null,null,"MDA 1","T2",33247,"Maganja da Costa",null,true,"Zambezia","Maganja da Costa",1,4,2,3,true,true,true,true,null,null,null,1,null,2,3,true,null,true,true,null,null,{"$f":"'MDA1'!M75","v":0},{"$f":"'T1'!O75","v":0},{"$f":"'T2'!M75","v":0},null,null,{"$f":"DISTRICT!H74:H75","v":0},{"$f":"DISTRICT!X75","v":0},{"$f":"DISTRICT!AH75","v":0},null,null,1,1,false,true,"Maganja da Costa",true]
[{"$f":"IF(INTRO!$E$34<>0,INTRO!$E$34,\"\")","v":"Mozambique"},"Zambezia","Milange",555188,{"$f":"IF(INTRO!$E$48=\"\",\"\",ROUND($D76*INTRO!$E$48,0))","v":64402},{"$f":"IF(INTRO!$E$49=\"\",\"\",ROUND($D76*INTRO!$E$49,0))","v":155453},{"$f":"IF(INTRO!$E$50=\"\",\"\",ROUND($D76*INTRO!$E$50,0))","v":319233},1,4,2,3,{"$f":"IF(INTRO!$E$38=\"Endemic\", IF($H76>0, IF($H76=4,\"Unknown\", IF($H76=99,\"Stopped\", $D76)), 0),\"Not required\")","v":555188},{"$f":"IF(INTRO!$E$40=\"Endemic\", IF($I76>0, IF($I76=4,\"Unknown\",IF($I76=99,\"Stopped\", $D76)), 0),\"Not required\")","v":"Not required"},{"$f":"IF(INTRO!$E$42=\"Endemic\", IF(AND($J76>1,$J76<5), IF($J76=4, \"Unknown\", E76+F76), 0),\"Not required\")","v":219855},{"$f":"IF(INTRO!$E$44=\"Endemic\", IF(AND($K76>0,$K76<5), IF($K76=4,\"Unknown\", IF($K76=1, $F76*0.33, IF($K76=2, $F76*0.5+$G76*0.2, SUM(F76:G76)))), 0),\"Not required\")","v":474686},0,null,0,1,null,null,"MDA 1","T2",33248,"Milange",null,true,"Zambezia","Milange",1,4,2,3,true,true,true,true,null,null,null,1,null,2,3,true,null,true,true,null,null,{"$f":"'MDA1'!M76","v":0},{"$f":"'T1'!O76","v":0},{"$f":"'T2'!M76","v":0},null,null,{"$f":"DISTRICT!H75:H76","v":0},{"$f":"DISTRICT!X76","v":0},{"$f":"DISTRICT!AH76","v":0},null,null,1,1,false,true,"Milange",true]
[{"$f":"IF(INTRO!$E$34<>0,INTRO!$E$34,\"\")","v":"Mozambique"},"Zambezia","Mocuba",413841,{"$f":"IF(INTRO!$E$48=\"\",\"\",ROUND($D77*INTRO!$E$48,0))","v":48006},{"$f":"IF(INTRO!$E$49=\"\",\"\",ROUND($D77*INTRO!$E$49,0))","v":115875},{"$f":"IF(INTRO!$E$50=\"\",\"\",ROUND($D77*INTRO!$E$50,0))","v":237959},1,4,3,3,{"$f":"IF(INTRO!$E$38=\"Endemic\", IF($H77>0, IF($H77=4,\"Unknown\", IF($H77=99,\"Stopped\", $D77)), 0),\"Not required\")","v":413841},{"$f":"IF(INTRO!$E$40=\"Endemic\", IF($I77>0, IF($I77=4,\"Unknown\",IF($I77=99,\"Stopped\", $D77)), 0),\"Not required\")","v":"Not required"},{"$f":"IF(INTRO!$E$42=\"Endemic\", IF(AND($J77>1,$J77<5), IF($J77=4, \"Unknown\", E77+F77), 0),\"Not required\")","v":163881},{"$f":"IF(INTRO!$E$44=\"Endemic\", IF(AND($K77>0,$K77<5), IF($K77=4,\"Unknown\", IF($K77=1, $F77*0.33, IF($K77=2, $F77*0.5+$G77*0.2, SUM(F77:G77)))), 0),\"Not required\")","v":353834},0,null,0,0,null,null,"MDA 1","T1",33249,"Mocuba",null,true,"Zambezia","Mocuba",1,4,3,3,true,true,true,true,null,null,null,1,null,3,3,true,null,true,true,null,null,{"$f":"'MDA1'!M77","v":0},{"$f":"'T1'!O77","v":0},{"$f":"'T2'!M77","v":0},null,null,{"$f":"DISTRICT!H76:H77","v":0},{"$f":"DISTRICT!X77","v":0},{"$f":"DISTRICT!AH77","v":0},null,null,2,1,false,false,"Mocuba",true]
[{"$f":"IF(INTRO!$E$34<>0,INTRO!$E$34,\"\")","v":"Mozambique"},"Zambezia","Mocubela",141791,{"$f":"IF(INTRO!$E$48=\"\",\"\",ROUND($D78*INTRO!$E$48,0))","v":16448},{"$f":"IF(INTRO!$E$49=\"\",\"\",ROUND($D78*INTRO!$E$49,0))","v":39701},{"$f":"IF(INTRO!$E$50=\"\",\"\",ROUND($D78*INTRO!$E$50,0))","v":81530},1,4,2,3,{"$f":"IF(INTRO!$E$38=\"Endemic\", IF($H78>0, IF($H78=4,\"Unknown\", IF($H78=99,\"Stopped\", $D78)), 0),\"Not required\")","v":141791},{"$f":"IF(INTRO!$E$40=\"Endemic\", IF($I78>0, IF($I78=4,\"Unknown\",IF($I78=99,\"Stopped\", $D78)), 0),\"Not required\")","v":"Not required"},{"$f":"IF(INTRO!$E$42=\"Endemic\", IF(AND($J78>1,$J78<5), IF($J78=4, \"Unknown\", E78+F78), 0),\"Not required\")","v":56149},{"$f":"IF(INTRO!$E$44=\"Endemic\", IF(AND($K78>0,$K78<5), IF($K78=4,\"Unknown\", IF($K78=1, $F78*0.33, IF($K78=2, $F78*0.5+$G78*0.2, SUM(F78:G78)))), 0),\"Not required\")","v":121231},0,null,0,0,null,null,"MDA 1","T2",33250,"Mocubela",null,true,"Zambezia","Mocubela",1,4,2,3,true,true,true,true,null,null,null,1,null,2,3,true,null,true,true,null,null,{"$f":"'MDA1'!M78","v":0},{"$f":"'T1'!O78","v":0},{"$f":"'T2'!M78","v":0},null,null,{"$f":"DISTRICT!H77:H78","v":0},{"$f":"DISTRICT!X78","v":0},{"$f":"DISTRICT!AH78","v":0},null,null,1,1,false,false,"Mocubela",true]
[{"$f":"IF(INTRO!$E$34<>0,INTRO!$E$34,\"\")","v":"Mozambique"},"Zambezia","Molumbo",149098,{"$f":"IF(INTRO!$E$48=\"\",\"\",ROUND($D79*INTRO!$E$48,0))","v":17295},{"$f":"IF(INTRO!$E$49=\"\",\"\",ROUND($D79*INTRO!$E$49,0))","v":41747},{"$f":"IF(INTRO!$E$50=\"\",\"\",ROUND($D79*INTRO!$E$50,0))","v":85731},1,4,2,3,{"$f":"IF(INTRO!$E$38=\"Endemic\", IF($H79>0, IF($H79=4,\"Unknown\", IF($H79=99,\"Stopped\", $D79)), 0),\"Not required\")","v":149098},{"$f":"IF(INTRO!$E$40=\"Endemic\", IF($I79>0, IF($I79=4,\"Unknown\",IF($I79=99,\"Stopped\", $D79)), 0),\"Not required\")","v":"Not required"},{"$f":"IF(INTRO!$E$42=\"Endemic\", IF(AND($J79>1,$J79<5), IF($J79=4, \"Unknown\", E79+F79), 0),\"Not required\")","v":59042},{"$f":"IF(INTRO!$E$44=\"Endemic\", IF(AND($K79>0,$K79<5), IF($K79=4,\"Unknown\", IF($K79=1, $F79*0.33, IF($K79=2, $F79*0.5+$G79*0.2, SUM(F79:G79)))), 0),\"Not required\")","v":127478},0,null,0,0,null,null,"MDA 1","T2",33252,"Molumbo",null,true,"Zambezia","Molumbo",1,4,2,3,true,true,true,true,null,null,null,1,null,2,3,true,null,true,true,null,null,{"$f":"'MDA1'!M79","v":0},{"$f":"'T1'!O79","v":0},{"$f":"'T2'!M79","v":0},null,null,{"$f":"DISTRICT!H78:H79","v":0},{"$f":"DISTRICT!X79","v":0},{"$f":"DISTRICT!AH79","v":0},null,null,1,1,false,false,"Molumbo",true]
[{"$f":"IF(INTRO!$E$34<>0,INTRO!$E$34,\"\")","v":"Mozambique"},"Zambezia","Mopeia",174763.36601192338,{"$f":"IF(INTRO!$E$48=\"\",\"\",ROUND($D80*INTRO!$E$48,0))","v":20273},{"$f":"IF(INTRO!$E$49=\"\",\"\",ROUND($D80*INTRO!$E$49,0))","v":48934},{"$f":"IF(INTRO!$E$50=\"\",\"\",ROUND($D80*INTRO!$E$50,0))","v":100489},1,4,2,3,{"$f":"IF(INTRO!$E$38=\"Endemic\", IF($H80>0, IF($H80=4,\"Unknown\", IF($H80=99,\"Stopped\", $D80)), 0),\"Not required\")","v":174763.36601192338},{"$f":"IF(INTRO!$E$40=\"Endemic\", IF($I80>0, IF($I80=4,\"Unknown\",IF($I80=99,\"Stopped\", $D80)), 0),\"Not required\")","v":"Not required"},{"$f":"IF(INTRO!$E$42=\"Endemic\", IF(AND($J80>1,$J80<5), IF($J80=4, \"Unknown\", E80+F80), 0),\"Not required\")","v":69207},{"$f":"IF(INTRO!$E$44=\"Endemic\", IF(AND($K80>0,$K80<5), IF($K80=4,\"Unknown\", IF($K80=1, $F80*0.33, IF($K80=2, $F80*0.5+$G80*0.2, SUM(F80:G80)))), 0),\"Not required\")","v":149423},0,null,0,0,null,null,"MDA 1","T2",33253,"Mopeia",null,true,"Zambezia","Mopeia",1,4,2,3,true,true,true,true,null,null,null,1,null,2,3,true,null,true,true,null,null,{"$f":"'MDA1'!M80","v":0},{"$f":"'T1'!O80","v":0},{"$f":"'T2'!M80","v":0},null,null,{"$f":"DISTRICT!H79:H80","v":0},{"$f":"DISTRICT!X80","v":0},{"$f":"DISTRICT!AH80","v":0},null,null,1,1,false,false,"Mopeia",true]
[{"$f":"IF(INTRO!$E$34<>0,INTRO!$E$34,\"\")","v":"Mozambique"},"Zambezia","Morrumbala",385582.70530641312,{"$f":"IF(INTRO!$E$48=\"\",\"\",ROUND($D81*INTRO!$E$48,0))","v":44728},{"$f":"IF(INTRO!$E$49=\"\",\"\",ROUND($D81*INTRO!$E$49,0))","v":107963},{"$f":"IF(INTRO!$E$50=\"\",\"\",ROUND($D81*INTRO!$E$50,0))","v":221710},1,4,3,3,{"$f":"IF(INTRO!$E$38=\"Endemic\", IF($H81>0, IF($H81=4,\"Unknown\", IF($H81=99,\"Stopped\", $D81)), 0),\"Not required\")","v":385582.70530641312},{"$f":"IF(INTRO!$E$40=\"Endemic\", IF($I81>0, IF($I81=4,\"Unknown\",IF($I81=99,\"Stopped\", $D81)), 0),\"Not required\")","v":"Not required"},{"$f":"IF(INTRO!$E$42=\"Endemic\", IF(AND($J81>1,$J81<5), IF($J81=4, \"Unknown\", E81+F81), 0),\"Not required\")","v":152691},{"$f":"IF(INTRO!$E$44=\"Endemic\", IF(AND($K81>0,$K81<5), IF($K81=4,\"Unknown\", IF($K81=1, $F81*0.33, IF($K81=2, $F81*0.5+$G81*0.2, SUM(F81:G81)))), 0),\"Not required\")","v":329673},0,null,0,0,null,null,"MDA 1","T1",33254,"Morrumbala",null,true,"Zambezia","Morrumbala",1,4,3,3,true,true,true,true,null,null,null,1,null,3,3,true,null,true,true,null,null,{"$f":"'MDA1'!M81","v":0},{"$f":"'T1'!O81","v":0},{"$f":"'T2'!M81","v":0},null,null,{"$f":"DISTRICT!H80:H81","v":0},{"$f":"DISTRICT!X81","v":0},{"$f":"DISTRICT!AH81","v":0},null,null,2,1,false,false,"Morrumbala",true]
[{"$f":"IF(INTRO!$E$34<>0,INTRO!$E$34,\"\")","v":"Mozambique"},"Zambezia","Mulevala",100572,{"$f":"IF(INTRO!$E$48=\"\",\"\",ROUND($D82*INTRO!$E$48,0))","v":11666},{"$f":"IF(INTRO!$E$49=\"\",\"\",ROUND($D82*INTRO!$E$49,0))","v":28160},{"$f":"IF(INTRO!$E$50=\"\",\"\",ROUND($D82*INTRO!$E$50,0))","v":57829},1,4,2,3,{"$f":"IF(INTRO!$E$38=\"Endemic\", IF($H82>0, IF($H82=4,\"Unknown\", IF($H82=99,\"Stopped\", $D82)), 0),\"Not required\")","v":100572},{"$f":"IF(INTRO!$E$40=\"Endemic\", IF($I82>0, IF($I82=4,\"Unknown\",IF($I82=99,\"Stopped\", $D82)), 0),\"Not required\")","v":"Not required"},{"$f":"IF(INTRO!$E$42=\"Endemic\", IF(AND($J82>1,$J82<5), IF($J82=4, \"Unknown\", E82+F82), 0),\"Not required\")","v":39826},{"$f":"IF(INTRO!$E$44=\"Endemic\", IF(AND($K82>0,$K82<5), IF($K82=4,\"Unknown\", IF($K82=1, $F82*0.33, IF($K82=2, $F82*0.5+$G82*0.2, SUM(F82:G82)))), 0),\"Not required\")","v":85989},0,null,0,0,null,null,"MDA 1","T2",33255,"Mulevala",null,true,"Zambezia","Mulevala",1,4,2,3,true,true,true,true,null,null,null,1,null,2,3,true,null,true,true,null,null,{"$f":"'MDA1'!M82","v":0},{"$f":"'T1'!O82","v":0},{"$f":"'T2'!M82","v":0},null,null,{"$f":"DISTRICT!H81:H82","v":0},{"$f":"DISTRICT!X82","v":0},{"$f":"DISTRICT!AH82","v":0},null,null,1,1,false,false,"Mulevala",true]
[{"$f":"IF(INTRO!$E$34<>0,INTRO!$E$34,\"\")","v":"Mozambique"},"Zambezia","Namacurra",354086.7561481531,{"$f":"IF(INTRO!$E$48=\"\",\"\",ROUND($D83*INTRO!$E$48,0))","v":41074},{"$f":"IF(INTRO!$E$49=\"\",\"\",ROUND($D83*INTRO!$E$49,0))","v":99144},{"$f":"IF(INTRO!$E$50=\"\",\"\",ROUND($D83*INTRO!$E$50,0))","v":203600},1,4,2,2,{"$f":"IF(INTRO!$E$38=\"Endemic\", IF($H83>0, IF($H83=4,\"Unknown\", IF($H83=99,\"Stopped\", $D83)), 0),\"Not required\")","v":354086.7561481531},{"$f":"IF(INTRO!$E$40=\"Endemic\", IF($I83>0, IF($I83=4,\"Unknown\",IF($I83=99,\"Stopped\", $D83)), 0),\"Not required\")","v":"Not required"},{"$f":"IF(INTRO!$E$42=\"Endemic\", IF(AND($J83>1,$J83<5), IF($J83=4, \"Unknown\", E83+F83), 0),\"Not required\")","v":140218},{"$f":"IF(INTRO!$E$44=\"Endemic\", IF(AND($K83>0,$K83<5), IF($K83=4,\"Unknown\", IF($K83=1, $F83*0.33, IF($K83=2, $F83*0.5+$G83*0.2, SUM(F83:G83)))), 0),\"Not required\")","v":90292},0,null,0,0,null,null,"MDA 1","T2",33256,"Namacurra",null,true,"Zambezia","Namacurra",1,4,2,2,true,true,true,true,null,null,null,1,null,2,2,true,null,true,true,null,null,{"$f":"'MDA1'!M83","v":0},{"$f":"'T1'!O83","v":0},{"$f":"'T2'!M83","v":0},null,null,{"$f":"DISTRICT!H82:H83","v":0},{"$f":"DISTRICT!X83","v":0},{"$f":"DISTRICT!AH83","v":0},null,null,1,0,false,true,"Namacurra",true]
[{"$f":"IF(INTRO!$E$34<>0,INTRO!$E$34,\"\")","v":"Mozambique"},"Zambezia","Namarrói",154489.64865313802,{"$f":"IF(INTRO!$E$48=\"\",\"\",ROUND($D84*INTRO!$E$48,0))","v":17921},{"$f":"IF(INTRO!$E$49=\"\",\"\",ROUND($D84*INTRO!$E$49,0))","v":43257},{"$f":"IF(INTRO!$E$50=\"\",\"\",ROUND($D84*INTRO!$E$50,0))","v":88832},1,4,3,3,{"$f":"IF(INTRO!$E$38=\"Endemic\", IF($H84>0, IF($H84=4,\"Unknown\", IF($H84=99,\"Stopped\", $D84)), 0),\"Not required\")","v":154489.64865313802},{"$f":"IF(INTRO!$E$40=\"Endemic\", IF($I84>0, IF($I84=4,\"Unknown\",IF($I84=99,\"Stopped\", $D84)), 0),\"Not required\")","v":"Not required"},{"$f":"IF(INTRO!$E$42=\"Endemic\", IF(AND($J84>1,$J84<5), IF($J84=4, \"Unknown\", E84+F84), 0),\"Not required\")","v":61178},{"$f":"IF(INTRO!$E$44=\"Endemic\", IF(AND($K84>0,$K84<5), IF($K84=4,\"Unknown\", IF($K84=1, $F84*0.33, IF($K84=2, $F84*0.5+$G84*0.2, SUM(F84:G84)))), 0),\"Not required\")","v":132089},0,null,0,0,null,null,"MDA 1","T1",33257,"Namarrói",null,true,"Zambezia","Namarrói",1,4,3,3,true,true,true,true,null,null,null,1,null,3,3,true,null,true,true,null,null,{"$f":"'MDA1'!M84","v":0},{"$f":"'T1'!O84","v":0},{"$f":"'T2'!M84","v":0},null,null,{"$f":"DISTRICT!H83:H84","v":0},{"$f":"DISTRICT!X84","v":0},{"$f":"DISTRICT!AH84","v":0},null,null,2,1,false,false,"Namarrói",true]
[{"$f":"IF(INTRO!$E$34<>0,INTRO!$E$34,\"\")","v":"Mozambique"},"Zambezia","Nicoadala",164276.66884209815,{"$f":"IF(INTRO!$E$48=\"\",\"\",ROUND($D85*INTRO!$E$48,0))","v":19056},{"$f":"IF(INTRO!$E$49=\"\",\"\",ROUND($D85*INTRO!$E$49,0))","v":45997},{"$f":"IF(INTRO!$E$50=\"\",\"\",ROUND($D85*INTRO!$E$50,0))","v":94459},1,4,3,2,{"$f":"IF(INTRO!$E$38=\"Endemic\", IF($H85>0, IF($H85=4,\"Unknown\", IF($H85=99,\"Stopped\", $D85)), 0),\"Not required\")","v":164276.66884209815},{"$f":"IF(INTRO!$E$40=\"Endemic\", IF($I85>0, IF($I85=4,\"Unknown\",IF($I85=99,\"Stopped\", $D85)), 0),\"Not required\")","v":"Not required"},{"$f":"IF(INTRO!$E$42=\"Endemic\", IF(AND($J85>1,$J85<5), IF($J85=4, \"Unknown\", E85+F85), 0),\"Not required\")","v":65053},{"$f":"IF(INTRO!$E$44=\"Endemic\", IF(AND($K85>0,$K85<5), IF($K85=4,\"Unknown\", IF($K85=1, $F85*0.33, IF($K85=2, $F85*0.5+$G85*0.2, SUM(F85:G85)))), 0),\"Not required\")","v":41890.300000000003},0,null,0,0,null,null,"MDA 1","T1",33258,"Nicoadala",null,true,"Zambezia","Nicoadala",1,4,3,2,true,true,true,true,null,null,null,1,null,3,2,true,null,true,true,null,null,{"$f":"'MDA1'!M85","v":0},{"$f":"'T1'!O85","v":0},{"$f":"'T2'!M85","v":0},null,null,{"$f":"DISTRICT!H84:H85","v":0},{"$f":"DISTRICT!X85","v":0},{"$f":"DISTRICT!AH85","v":0},null,null,2,0,false,true,"Nicoadala",true]
[{"$f":"IF(INTRO!$E$34<>0,INTRO!$E$34,\"\")","v":"Mozambique"},"Zambezia","Pebane",235976.23866435431,{"$f":"IF(INTRO!$E$48=\"\",\"\",ROUND($D86*INTRO!$E$48,0))","v":27373},{"$f":"IF(INTRO!$E$49=\"\",\"\",ROUND($D86*INTRO!$E$49,0))","v":66073},{"$f":"IF(INTRO!$E$50=\"\",\"\",ROUND($D86*INTRO!$E$50,0))","v":135686},1,4,3,3,{"$f":"IF(INTRO!$E$38=\"Endemic\", IF($H86>0, IF($H86=4,\"Unknown\", IF($H86=99,\"Stopped\", $D86)), 0),\"Not required\")","v":235976.23866435431},{"$f":"IF(INTRO!$E$40=\"Endemic\", IF($I86>0, IF($I86=4,\"Unknown\",IF($I86=99,\"Stopped\", $D86)), 0),\"Not required\")","v":"Not required"},{"$f":"IF(INTRO!$E$42=\"Endemic\", IF(AND($J86>1,$J86<5), IF($J86=4, \"Unknown\", E86+F86), 0),\"Not required\")","v":93446},{"$f":"IF(INTRO!$E$44=\"Endemic\", IF(AND($K86>0,$K86<5), IF($K86=4,\"Unknown\", IF($K86=1, $F86*0.33, IF($K86=2, $F86*0.5+$G86*0.2, SUM(F86:G86)))), 0),\"Not required\")","v":201759},0,null,0,0,null,null,"MDA 1","T1",33259,"Pebane",null,true,"Zambezia","Pebane",1,4,3,3,true,true,true,true,null,null,null,1,null,3,3,true,null,true,true,null,null,{"$f":"'MDA1'!M86","v":0},{"$f":"'T1'!O86","v":0},{"$f":"'T2'!M86","v":0},null,null,{"$f":"DISTRICT!H85:H86","v":0},{"$f":"DISTRICT!X86","v":0},{"$f":"DISTRICT!AH86","v":0},null,null,2,1,false,false,"Pebane",true]
[{"$f":"IF(INTRO!$E$34<>0,INTRO!$E$34,\"\")","v":"Mozambique"},"Tete","Cid Tete",241374.42848286586,{"$f":"IF(INTRO!$E$48=\"\",\"\",ROUND($D87*INTRO!$E$48,0))","v":27999},{"$f":"IF(INTRO!$E$49=\"\",\"\",ROUND($D87*INTRO!$E$49,0))","v":67585},{"$f":"IF(INTRO!$E$50=\"\",\"\",ROUND($D87*INTRO!$E$50,0))","v":138790},99,4,2,2,{"$f":"IF(INTRO!$E$38=\"Endemic\", IF($H87>0, IF($H87=4,\"Unknown\", IF($H87=99,\"Stopped\", $D87)), 0),\"Not required\")","v":"Stopped"},{"$f":"IF(INTRO!$E$40=\"Endemic\", IF($I87>0, IF($I87=4,\"Unknown\",IF($I87=99,\"Stopped\", $D87)), 0),\"Not required\")","v":"Not required"},{"$f":"IF(INTRO!$E$42=\"Endemic\", IF(AND($J87>1,$J87<5), IF($J87=4, \"Unknown\", E87+F87), 0),\"Not required\")","v":95584},{"$f":"IF(INTRO!$E$44=\"Endemic\", IF(AND($K87>0,$K87<5), IF($K87=4,\"Unknown\", IF($K87=1, $F87*0.33, IF($K87=2, $F87*0.5+$G87*0.2, SUM(F87:G87)))), 0),\"Not required\")","v":61550.5},0,null,1,1,"T1 (PZQ+ALB/MBD)",null," ","T1",33228,"Cid Tete",null,true,"Tete","Cid Tete",99,4,2,2,true,true,true,true,null,null,null,1,null,2,2,false,null,true,true,null,null,{"$f":"'MDA1'!M87","v":0},{"$f":"'T1'!O87","v":75520},{"$f":"'T2'!M87","v":0},null,null,{"$f":"DISTRICT!H86:H87","v":0},{"$f":"DISTRICT!X87","v":67585},{"$f":"DISTRICT!AH87","v":33792.5},null,null,1,0,true,false,"Cid Tete",true]
[{"$f":"IF(INTRO!$E$34<>0,INTRO!$E$34,\"\")","v":"Mozambique"},"Tete","Angónia",413741.75971033057,{"$f":"IF(INTRO!$E$48=\"\",\"\",ROUND($D88*INTRO!$E$48,0))","v":47994},{"$f":"IF(INTRO!$E$49=\"\",\"\",ROUND($D88*INTRO!$E$49,0))","v":115848},{"$f":"IF(INTRO!$E$50=\"\",\"\",ROUND($D88*INTRO!$E$50,0))","v":237902},99,4,2,2,{"$f":"IF(INTRO!$E$38=\"Endemic\", IF($H88>0, IF($H88=4,\"Unknown\", IF($H88=99,\"Stopped\", $D88)), 0),\"Not required\")","v":"Stopped"},{"$f":"IF(INTRO!$E$40=\"Endemic\", IF($I88>0, IF($I88=4,\"Unknown\",IF($I88=99,\"Stopped\", $D88)), 0),\"Not required\")","v":"Not required"},{"$f":"IF(INTRO!$E$42=\"Endemic\", IF(AND($J88>1,$J88<5), IF($J88=4, \"Unknown\", E88+F88), 0),\"Not required\")","v":163842},{"$f":"IF(INTRO!$E$44=\"Endemic\", IF(AND($K88>0,$K88<5), IF($K88=4,\"Unknown\", IF($K88=1, $F88*0.33, IF($K88=2, $F88*0.5+$G88*0.2, SUM(F88:G88)))), 0),\"Not required\")","v":105504.4},0,null,1,1,"T1 (PZQ+ALB/MBD)",null," ","T1",33223,"Angónia",null,true,"Tete","Angónia",99,4,2,2,true,true,true,true,null,null,null,1,null,2,2,false,null,true,true,null,null,{"$f":"'MDA1'!M88","v":0},{"$f":"'T1'!O88","v":111154},{"$f":"'T2'!M88","v":0},null,null,{"$f":"DISTRICT!H87:H88","v":0},{"$f":"DISTRICT!X88","v":111154},{"$f":"DISTRICT!AH88","v":57924},null,null,1,0,true,false,"Angónia",true]
[{"$f":"IF(INTRO!$E$34<>0,INTRO!$E$34,\"\")","v":"Mozambique"},"Tete","Cahora Bassa",145357.29113875394,{"$f":"IF(INTRO!$E$48=\"\",\"\",ROUND($D89*INTRO!$E$48,0))","v":16861},{"$f":"IF(INTRO!$E$49=\"\",\"\",ROUND($D89*INTRO!$E$49,0))","v":40700},{"$f":"IF(INTRO!$E$50=\"\",\"\",ROUND($D89*INTRO!$E$50,0))","v":83580},99,4,2,2,{"$f":"IF(INTRO!$E$38=\"Endemic\", IF($H89>0, IF($H89=4,\"Unknown\", IF($H89=99,\"Stopped\", $D89)), 0),\"Not required\")","v":"Stopped"},{"$f":"IF(INTRO!$E$40=\"Endemic\", IF($I89>0, IF($I89=4,\"Unknown\",IF($I89=99,\"Stopped\", $D89)), 0),\"Not required\")","v":"Not required"},{"$f":"IF(INTRO!$E$42=\"Endemic\", IF(AND($J89>1,$J89<5), IF($J89=4, \"Unknown\", E89+F89), 0),\"Not required\")","v":57561},{"$f":"IF(INTRO!$E$44=\"Endemic\", IF(AND($K89>0,$K89<5), IF($K89=4,\"Unknown\", IF($K89=1, $F89*0.33, IF($K89=2, $F89*0.5+$G89*0.2, SUM(F89:G89)))), 0),\"Not required\")","v":37066},0,null,1,1,"T1 (PZQ+ALB/MBD)",null," ","T1",33224,"Cahora Bassa",null,true,"Tete","Cahora Bassa",99,4,2,2,true,true,true,true,null,null,null,1,null,2,2,false,null,{"$f":"AQ89=J89","v":true},{"$f":"AR89=K89","v":true},null,null,{"$f":"'MDA1'!M89","v":0},{"$f":"'T1'!O89","v":38619.5},{"$f":"'T2'!M89","v":0},null,null,{"$f":"DISTRICT!H88:H89","v":0},{"$f":"DISTRICT!X89","v":38619.5},{"$f":"DISTRICT!AH89","v":20350},null,null,1,0,true,false,"Cahora Bassa",true]
[{"$f":"IF(INTRO!$E$34<>0,INTRO!$E$34,\"\")","v":"Mozambique"},"Tete","Changara ",149032.74300729952,{"$f":"IF(INTRO!$E$48=\"\",\"\",ROUND($D90*INTRO!$E$48,0))","v":17288},{"$f":"IF(INTRO!$E$49=\"\",\"\",ROUND($D90*INTRO!$E$49,0))","v":41729},{"$f":"IF(INTRO!$E$50=\"\",\"\",ROUND($D90*INTRO!$E$50,0))","v":85694},99,4,2,2,{"$f":"IF(INTRO!$E$38=\"Endemic\", IF($H90>0, IF($H90=4,\"Unknown\", IF($H90=99,\"Stopped\", $D90)), 0),\"Not required\")","v":"Stopped"},{"$f":"IF(INTRO!$E$40=\"Endemic\", IF($I90>0, IF($I90=4,\"Unknown\",IF($I90=99,\"Stopped\", $D90)), 0),\"Not required\")","v":"Not required"},{"$f":"IF(INTRO!$E$42=\"Endemic\", IF(AND($J90>1,$J90<5), IF($J90=4, \"Unknown\", E90+F90), 0),\"Not required\")","v":59017},{"$f":"IF(INTRO!$E$44=\"Endemic\", IF(AND($K90>0,$K90<5), IF($K90=4,\"Unknown\", IF($K90=1, $F90*0.33, IF($K90=2, $F90*0.5+$G90*0.2, SUM(F90:G90)))), 0),\"Not required\")","v":38003.300000000003},0,null,1,1,"T1 (PZQ+ALB/MBD)",null," ","T1",33225,"Changara ",null,true,"Tete","Changara ",99,4,2,2,true,true,true,true,null,null,null,1,null,2,2,false,null,true,true,null,null,{"$f":"'MDA1'!M90","v":0},{"$f":"'T1'!O90","v":39780},{"$f":"'T2'!M90","v":0},null,null,{"$f":"DISTRICT!H89:H90","v":0},{"$f":"DISTRICT!X90","v":39780},{"$f":"DISTRICT!AH90","v":20864.5},null,null,1,0,true,false,"Changara ",true]
[{"$f":"IF(INTRO!$E$34<>0,INTRO!$E$34,\"\")","v":"Mozambique"},"Tete","Chifunde",199377.32080914086,{"$f":"IF(INTRO!$E$48=\"\",\"\",ROUND($D91*INTRO!$E$48,0))","v":23128},{"$f":"IF(INTRO!$E$49=\"\",\"\",ROUND($D91*INTRO!$E$49,0))","v":55826},{"$f":"IF(INTRO!$E$50=\"\",\"\",ROUND($D91*INTRO!$E$50,0))","v":114642},1,4,3,2,{"$f":"IF(INTRO!$E$38=\"Endemic\", IF($H91>0, IF($H91=4,\"Unknown\", IF($H91=99,\"Stopped\", $D91)), 0),\"Not required\")","v":199377.32080914086},{"$f":"IF(INTRO!$E$40=\"Endemic\", IF($I91>0, IF($I91=4,\"Unknown\",IF($I91=99,\"Stopped\", $D91)), 0),\"Not required\")","v":"Not required"},{"$f":"IF(INTRO!$E$42=\"Endemic\", IF(AND($J91>1,$J91<5), IF($J91=4, \"Unknown\", E91+F91), 0),\"Not required\")","v":78954},{"$f":"IF(INTRO!$E$44=\"Endemic\", IF(AND($K91>0,$K91<5), IF($K91=4,\"Unknown\", IF($K91=1, $F91*0.33, IF($K91=2, $F91*0.5+$G91*0.2, SUM(F91:G91)))), 0),\"Not required\")","v":50841.4},1,null,1,1,"MDA1 (IVM+ALB)","T2 (PZQ)","MDA 1","T1",33226,"Chifunde",null,true,"Tete","Chifunde",99,4,3,2,false,true,true,true,null,null,null,1,null,3,2,true,null,true,true,null,null,{"$f":"'MDA1'!M91","v":131460},{"$f":"'T1'!O91","v":0},{"$f":"'T2'!M91","v":63974},null,null,{"$f":"DISTRICT!H90:H91","v":131460},{"$f":"DISTRICT!X91","v":55826},{"$f":"DISTRICT!AH91","v":27913},null,null,2,0,false,false,"Chifunde",true]
[{"$f":"IF(INTRO!$E$34<>0,INTRO!$E$34,\"\")","v":"Mozambique"},"Tete","Chiúta",106260.71948862763,{"$f":"IF(INTRO!$E$48=\"\",\"\",ROUND($D92*INTRO!$E$48,0))","v":12326},{"$f":"IF(INTRO!$E$49=\"\",\"\",ROUND($D92*INTRO!$E$49,0))","v":29753},{"$f":"IF(INTRO!$E$50=\"\",\"\",ROUND($D92*INTRO!$E$50,0))","v":61100},99,4,2,2,{"$f":"IF(INTRO!$E$38=\"Endemic\", IF($H92>0, IF($H92=4,\"Unknown\", IF($H92=99,\"Stopped\", $D92)), 0),\"Not required\")","v":"Stopped"},{"$f":"IF(INTRO!$E$40=\"Endemic\", IF($I92>0, IF($I92=4,\"Unknown\",IF($I92=99,\"Stopped\", $D92)), 0),\"Not required\")","v":"Not required"},{"$f":"IF(INTRO!$E$42=\"Endemic\", IF(AND($J92>1,$J92<5), IF($J92=4, \"Unknown\", E92+F92), 0),\"Not required\")","v":42079},{"$f":"IF(INTRO!$E$44=\"Endemic\", IF(AND($K92>0,$K92<5), IF($K92=4,\"Unknown\", IF($K92=1, $F92*0.33, IF($K92=2, $F92*0.5+$G92*0.2, SUM(F92:G92)))), 0),\"Not required\")","v":27096.5},0,null,1,1,"T1 (PZQ+ALB/MBD)",null," ","T1",33227,"Chiúta",null,true,"Tete","Chiúta",99,4,2,2,true,true,true,true,null,null,null,1,null,2,2,false,null,true,true,null,null,{"$f":"'MDA1'!M92","v":0},{"$f":"'T1'!O92","v":27342},{"$f":"'T2'!M92","v":0},null,null,{"$f":"DISTRICT!H91:H92","v":0},{"$f":"DISTRICT!X92","v":27342},{"$f":"DISTRICT!AH92","v":14876.5},null,null,1,0,true,false,"Chiúta",true]
[{"$f":"IF(INTRO!$E$34<>0,INTRO!$E$34,\"\")","v":"Mozambique"},"Tete","Doa",108912.82578916306,{"$f":"IF(INTRO!$E$48=\"\",\"\",ROUND($D93*INTRO!$E$48,0))","v":12634},{"$f":"IF(INTRO!$E$49=\"\",\"\",ROUND($D93*INTRO!$E$49,0))","v":30496},{"$f":"IF(INTRO!$E$50=\"\",\"\",ROUND($D93*INTRO!$E$50,0))","v":62625},1,4,2,3,{"$f":"IF(INTRO!$E$38=\"Endemic\", IF($H93>0, IF($H93=4,\"Unknown\", IF($H93=99,\"Stopped\", $D93)), 0),\"Not required\")","v":108912.82578916306},{"$f":"IF(INTRO!$E$40=\"Endemic\", IF($I93>0, IF($I93=4,\"Unknown\",IF($I93=99,\"Stopped\", $D93)), 0),\"Not required\")","v":"Not required"},{"$f":"IF(INTRO!$E$42=\"Endemic\", IF(AND($J93>1,$J93<5), IF($J93=4, \"Unknown\", E93+F93), 0),\"Not required\")","v":43130},{"$f":"IF(INTRO!$E$44=\"Endemic\", IF(AND($K93>0,$K93<5), IF($K93=4,\"Unknown\", IF($K93=1, $F93*0.33, IF($K93=2, $F93*0.5+$G93*0.2, SUM(F93:G93)))), 0),\"Not required\")","v":93121},1,null,1,1,"MDA1 (IVM+ALB)","T2 (PZQ)","MDA 1","T2",33229,"Doa",null,true,"Tete","Doa",99,4,2,3,false,true,true,true,null,null,null,1,null,2,3,true,null,true,true,null,null,{"$f":"'MDA1'!M93","v":80041},{"$f":"'T1'!O93","v":0},{"$f":"'T2'!M93","v":28234},null,null,{"$f":"DISTRICT!H92:H93","v":80041},{"$f":"DISTRICT!X93","v":28253},{"$f":"DISTRICT!AH93","v":28234},null,null,1,1,true,true,"Doa",true]
[{"$f":"IF(INTRO!$E$34<>0,INTRO!$E$34,\"\")","v":"Mozambique"},"Tete","Macanga",258714.6186062741,{"$f":"IF(INTRO!$E$48=\"\",\"\",ROUND($D94*INTRO!$E$48,0))","v":30011},{"$f":"IF(INTRO!$E$49=\"\",\"\",ROUND($D94*INTRO!$E$49,0))","v":72440},{"$f":"IF(INTRO!$E$50=\"\",\"\",ROUND($D94*INTRO!$E$50,0))","v":148761},99,4,3,2,{"$f":"IF(INTRO!$E$38=\"Endemic\", IF($H94>0, IF($H94=4,\"Unknown\", IF($H94=99,\"Stopped\", $D94)), 0),\"Not required\")","v":"Stopped"},{"$f":"IF(INTRO!$E$40=\"Endemic\", IF($I94>0, IF($I94=4,\"Unknown\",IF($I94=99,\"Stopped\", $D94)), 0),\"Not required\")","v":"Not required"},{"$f":"IF(INTRO!$E$42=\"Endemic\", IF(AND($J94>1,$J94<5), IF($J94=4, \"Unknown\", E94+F94), 0),\"Not required\")","v":102451},{"$f":"IF(INTRO!$E$44=\"Endemic\", IF(AND($K94>0,$K94<5), IF($K94=4,\"Unknown\", IF($K94=1, $F94*0.33, IF($K94=2, $F94*0.5+$G94*0.2, SUM(F94:G94)))), 0),\"Not required\")","v":65972.2},0,null,1,1,"T1 (PZQ+ALB/MBD)",null,"T1","T3",33230,"Macanga",null,true,"Tete","Macanga",99,4,3,2,true,true,true,true,null,null,null,1,null,3,2,false,null,true,true,null,null,{"$f":"'MDA1'!M94","v":0},{"$f":"'T1'!O94","v":68701},{"$f":"'T2'!M94","v":0},null,null,{"$f":"DISTRICT!H93:H94","v":0},{"$f":"DISTRICT!X94","v":68701},{"$f":"DISTRICT!AH94","v":36220},null,null,2,0,false,false,"Macanga",true]
[{"$f":"IF(INTRO!$E$34<>0,INTRO!$E$34,\"\")","v":"Mozambique"},"Tete","Magoe",113268.9098578054,{"$f":"IF(INTRO!$E$48=\"\",\"\",ROUND($D95*INTRO!$E$48,0))","v":13139},{"$f":"IF(INTRO!$E$49=\"\",\"\",ROUND($D95*INTRO!$E$49,0))","v":31715},{"$f":"IF(INTRO!$E$50=\"\",\"\",ROUND($D95*INTRO!$E$50,0))","v":65130},99,4,2,2,{"$f":"IF(INTRO!$E$38=\"Endemic\", IF($H95>0, IF($H95=4,\"Unknown\", IF($H95=99,\"Stopped\", $D95)), 0),\"Not required\")","v":"Stopped"},{"$f":"IF(INTRO!$E$40=\"Endemic\", IF($I95>0, IF($I95=4,\"Unknown\",IF($I95=99,\"Stopped\", $D95)), 0),\"Not required\")","v":"Not required"},{"$f":"IF(INTRO!$E$42=\"Endemic\", IF(AND($J95>1,$J95<5), IF($J95=4, \"Unknown\", E95+F95), 0),\"Not required\")","v":44854},{"$f":"IF(INTRO!$E$44=\"Endemic\", IF(AND($K95>0,$K95<5), IF($K95=4,\"Unknown\", IF($K95=1, $F95*0.33, IF($K95=2, $F95*0.5+$G95*0.2, SUM(F95:G95)))), 0),\"Not required\")","v":28883.5},0,null,1,1,"T1 (PZQ+ALB/MBD)",null," ","T1",33231,"Magoe",null,true,"Tete","Magoe",99,4,2,2,true,true,true,true,null,null,null,1,null,2,2,false,null,true,true,null,null,{"$f":"'MDA1'!M95","v":0},{"$f":"'T1'!O95","v":34144},{"$f":"'T2'!M95","v":0},null,null,{"$f":"DISTRICT!H94:H95","v":0},{"$f":"DISTRICT!X95","v":31715},{"$f":"DISTRICT!AH95","v":15857.5},null,null,1,0,true,false,"Magoe",true]
[{"$f":"IF(INTRO!$E$34<>0,INTRO!$E$34,\"\")","v":"Mozambique"},"Tete","Marávia",119154.48898965778,{"$f":"IF(INTRO!$E$48=\"\",\"\",ROUND($D96*INTRO!$E$48,0))","v":13822},{"$f":"IF(INTRO!$E$49=\"\",\"\",ROUND($D96*INTRO!$E$49,0))","v":33363},{"$f":"IF(INTRO!$E$50=\"\",\"\",ROUND($D96*INTRO!$E$50,0))","v":68514},0,4,3,2,{"$f":"IF(INTRO!$E$38=\"Endemic\", IF($H96>0, IF($H96=4,\"Unknown\", IF($H96=99,\"Stopped\", $D96)), 0),\"Not required\")","v":0},{"$f":"IF(INTRO!$E$40=\"Endemic\", IF($I96>0, IF($I96=4,\"Unknown\",IF($I96=99,\"Stopped\", $D96)), 0),\"Not required\")","v":"Not required"},{"$f":"IF(INTRO!$E$42=\"Endemic\", IF(AND($J96>1,$J96<5), IF($J96=4, \"Unknown\", E96+F96), 0),\"Not required\")","v":47185},{"$f":"IF(INTRO!$E$44=\"Endemic\", IF(AND($K96>0,$K96<5), IF($K96=4,\"Unknown\", IF($K96=1, $F96*0.33, IF($K96=2, $F96*0.5+$G96*0.2, SUM(F96:G96)))), 0),\"Not required\")","v":30384.300000000003},0,null,1,1,"T1 (PZQ+ALB/MBD)",null,"T1","T3",33233,"Marávia",null,true,"Tete","Marávia",0,4,3,2,true,true,true,true,null,null,null,0,null,3,2,true,null,true,true,null,null,{"$f":"'MDA1'!M96","v":0},{"$f":"'T1'!O96","v":29667},{"$f":"'T2'!M96","v":0},null,null,{"$f":"DISTRICT!H95:H96","v":0},{"$f":"DISTRICT!X96","v":29667},{"$f":"DISTRICT!AH96","v":16681.5},null,null,2,0,false,false,"Marávia",true]
[{"$f":"IF(INTRO!$E$34<>0,INTRO!$E$34,\"\")","v":"Mozambique"},"Tete","Marara",103112.43405144084,{"$f":"IF(INTRO!$E$48=\"\",\"\",ROUND($D97*INTRO!$E$48,0))","v":11961},{"$f":"IF(INTRO!$E$49=\"\",\"\",ROUND($D97*INTRO!$E$49,0))","v":28871},{"$f":"IF(INTRO!$E$50=\"\",\"\",ROUND($D97*INTRO!$E$50,0))","v":59290},99,4,2,2,{"$f":"IF(INTRO!$E$38=\"Endemic\", IF($H97>0, IF($H97=4,\"Unknown\", IF($H97=99,\"Stopped\", $D97)), 0),\"Not required\")","v":"Stopped"},{"$f":"IF(INTRO!$E$40=\"Endemic\", IF($I97>0, IF($I97=4,\"Unknown\",IF($I97=99,\"Stopped\", $D97)), 0),\"Not required\")","v":"Not required"},{"$f":"IF(INTRO!$E$42=\"Endemic\", IF(AND($J97>1,$J97<5), IF($J97=4, \"Unknown\", E97+F97), 0),\"Not required\")","v":40832},{"$f":"IF(INTRO!$E$44=\"Endemic\", IF(AND($K97>0,$K97<5), IF($K97=4,\"Unknown\", IF($K97=1, $F97*0.33, IF($K97=2, $F97*0.5+$G97*0.2, SUM(F97:G97)))), 0),\"Not required\")","v":26293.5},0,null,1,1,"T1 (PZQ+ALB/MBD)",null," ","T1",33232,"Marara",null,true,"Tete","Marara",99,4,2,2,true,true,true,true,null,null,null,1,null,2,2,false,null,true,true,null,null,{"$f":"'MDA1'!M97","v":0},{"$f":"'T1'!O97","v":32860},{"$f":"'T2'!M97","v":0},null,null,{"$f":"DISTRICT!H96:H97","v":0},{"$f":"DISTRICT!X97","v":28871},{"$f":"DISTRICT!AH97","v":14435.5},null,null,1,0,true,false,"Marara",true]
[{"$f":"IF(INTRO!$E$34<>0,INTRO!$E$34,\"\")","v":"Mozambique"},"Tete","Moatize",418663.13738623657,{"$f":"IF(INTRO!$E$48=\"\",\"\",ROUND($D98*INTRO!$E$48,0))","v":48565},{"$f":"IF(INTRO!$E$49=\"\",\"\",ROUND($D98*INTRO!$E$49,0))","v":117226},{"$f":"IF(INTRO!$E$50=\"\",\"\",ROUND($D98*INTRO!$E$50,0))","v":240731},99,4,2,2,{"$f":"IF(INTRO!$E$38=\"Endemic\", IF($H98>0, IF($H98=4,\"Unknown\", IF($H98=99,\"Stopped\", $D98)), 0),\"Not required\")","v":"Stopped"},{"$f":"IF(INTRO!$E$40=\"Endemic\", IF($I98>0, IF($I98=4,\"Unknown\",IF($I98=99,\"Stopped\", $D98)), 0),\"Not required\")","v":"Not required"},{"$f":"IF(INTRO!$E$42=\"Endemic\", IF(AND($J98>1,$J98<5), IF($J98=4, \"Unknown\", E98+F98), 0),\"Not required\")","v":165791},{"$f":"IF(INTRO!$E$44=\"Endemic\", IF(AND($K98>0,$K98<5), IF($K98=4,\"Unknown\", IF($K98=1, $F98*0.33, IF($K98=2, $F98*0.5+$G98*0.2, SUM(F98:G98)))), 0),\"Not required\")","v":106759.20000000001},0,null,1,1,"T1 (PZQ+ALB/MBD)",null," ","T1",33234,"Moatize",null,true,"Tete","Moatize",99,4,2,2,true,true,true,true,null,null,null,1,null,2,2,false,null,true,true,null,null,{"$f":"'MDA1'!M98","v":0},{"$f":"'T1'!O98","v":108851},{"$f":"'T2'!M98","v":0},null,null,{"$f":"DISTRICT!H97:H98","v":0},{"$f":"DISTRICT!X98","v":108851},{"$f":"DISTRICT!AH98","v":58613},null,null,1,0,true,false,"Moatize",true]
[{"$f":"IF(INTRO!$E$34<>0,INTRO!$E$34,\"\")","v":"Mozambique"},"Tete","Mutarara",224516.74537543274,{"$f":"IF(INTRO!$E$48=\"\",\"\",ROUND($D99*INTRO!$E$48,0))","v":26044},{"$f":"IF(INTRO!$E$49=\"\",\"\",ROUND($D99*INTRO!$E$49,0))","v":62865},{"$f":"IF(INTRO!$E$50=\"\",\"\",ROUND($D99*INTRO!$E$50,0))","v":129097},1,4,2,3,{"$f":"IF(INTRO!$E$38=\"Endemic\", IF($H99>0, IF($H99=4,\"Unknown\", IF($H99=99,\"Stopped\", $D99)), 0),\"Not required\")","v":224516.74537543274},{"$f":"IF(INTRO!$E$40=\"Endemic\", IF($I99>0, IF($I99=4,\"Unknown\",IF($I99=99,\"Stopped\", $D99)), 0),\"Not required\")","v":"Not required"},{"$f":"IF(INTRO!$E$42=\"Endemic\", IF(AND($J99>1,$J99<5), IF($J99=4, \"Unknown\", E99+F99), 0),\"Not required\")","v":88909},{"$f":"IF(INTRO!$E$44=\"Endemic\", IF(AND($K99>0,$K99<5), IF($K99=4,\"Unknown\", IF($K99=1, $F99*0.33, IF($K99=2, $F99*0.5+$G99*0.2, SUM(F99:G99)))), 0),\"Not required\")","v":191962},1,null,1,1,"MDA1 (IVM+ALB)","T2 (PZQ)","MDA 1","T2",33235,"Mutarara",null,true,"Tete","Mutarara",99,4,2,3,false,true,true,true,null,null,null,1,null,2,3,true,null,true,true,null,null,{"$f":"'MDA1'!M99","v":180751},{"$f":"'T1'!O99","v":0},{"$f":"'T2'!M99","v":64230},null,null,{"$f":"DISTRICT!H98:H99","v":180751},{"$f":"DISTRICT!X99","v":62865},{"$f":"DISTRICT!AH99","v":62865},null,null,1,1,true,true,"Mutarara",true]
[{"$f":"IF(INTRO!$E$34<>0,INTRO!$E$34,\"\")","v":"Mozambique"},"Tete","Tsangano",248062.72555328908,{"$f":"IF(INTRO!$E$48=\"\",\"\",ROUND($D100*INTRO!$E$48,0))","v":28775},{"$f":"IF(INTRO!$E$49=\"\",\"\",ROUND($D100*INTRO!$E$49,0))","v":69458},{"$f":"IF(INTRO!$E$50=\"\",\"\",ROUND($D100*INTRO!$E$50,0))","v":142636},99,4,3,2,{"$f":"IF(INTRO!$E$38=\"Endemic\", IF($H100>0, IF($H100=4,\"Unknown\", IF($H100=99,\"Stopped\", $D100)), 0),\"Not required\")","v":"Stopped"},{"$f":"IF(INTRO!$E$40=\"Endemic\", IF($I100>0, IF($I100=4,\"Unknown\",IF($I100=99,\"Stopped\", $D100)), 0),\"Not required\")","v":"Not required"},{"$f":"IF(INTRO!$E$42=\"Endemic\", IF(AND($J100>1,$J100<5), IF($J100=4, \"Unknown\", E100+F100), 0),\"Not required\")","v":98233},{"$f":"IF(INTRO!$E$44=\"Endemic\", IF(AND($K100>0,$K100<5), IF($K100=4,\"Unknown\", IF($K100=1, $F100*0.33, IF($K100=2, $F100*0.5+$G100*0.2, SUM(F100:G100)))), 0),\"Not required\")","v":63256.2},0,null,1,1,"T1 (PZQ+ALB/MBD)",null,"T1","T3",33236,"Tsangano",null,true,"Tete","Tsangano",99,4,3,2,true,true,true,true,null,null,null,1,null,3,2,false,null,true,true,null,null,{"$f":"'MDA1'!M100","v":0},{"$f":"'T1'!O100","v":69432},{"$f":"'T2'!M100","v":0},null,null,{"$f":"DISTRICT!H99:H100","v":0},{"$f":"DISTRICT!X100","v":69432},{"$f":"DISTRICT!AH100","v":34729},null,null,2,0,false,false,"Tsangano",true]
[{"$f":"IF(INTRO!$E$34<>0,INTRO!$E$34,\"\")","v":"Mozambique"},"Tete","Zumbu",88971.851753682742,{"$f":"IF(INTRO!$E$48=\"\",\"\",ROUND($D101*INTRO!$E$48,0))","v":10321},{"$f":"IF(INTRO!$E$49=\"\",\"\",ROUND($D101*INTRO!$E$49,0))","v":24912},{"$f":"IF(INTRO!$E$50=\"\",\"\",ROUND($D101*INTRO!$E$50,0))","v":51159},99,4,2,2,{"$f":"IF(INTRO!$E$38=\"Endemic\", IF($H101>0, IF($H101=4,\"Unknown\", IF($H101=99,\"Stopped\", $D101)), 0),\"Not required\")","v":"Stopped"},{"$f":"IF(INTRO!$E$40=\"Endemic\", IF($I101>0, IF($I101=4,\"Unknown\",IF($I101=99,\"Stopped\", $D101)), 0),\"Not required\")","v":"Not required"},{"$f":"IF(INTRO!$E$42=\"Endemic\", IF(AND($J101>1,$J101<5), IF($J101=4, \"Unknown\", E101+F101), 0),\"Not required\")","v":35233},{"$f":"IF(INTRO!$E$44=\"Endemic\", IF(AND($K101>0,$K101<5), IF($K101=4,\"Unknown\", IF($K101=1, $F101*0.33, IF($K101=2, $F101*0.5+$G101*0.2, SUM(F101:G101)))), 0),\"Not required\")","v":22687.800000000003},0,null,1,1,"T1 (PZQ+ALB/MBD)",null," ","T1",33237,"Zumbu",null,true,"Tete","Zumbu",99,4,2,2,true,true,true,true,null,null,null,1,null,2,2,false,null,true,true,null,null,{"$f":"'MDA1'!M101","v":0},{"$f":"'T1'!O101","v":22676},{"$f":"'T2'!M101","v":0},null,null,{"$f":"DISTRICT!H100:H101","v":0},{"$f":"DISTRICT!X101","v":22676},{"$f":"DISTRICT!AH101","v":12456},null,null,1,0,true,false,"Zumbu",true]
[{"$f":"IF(INTRO!$E$34<>0,INTRO!$E$34,\"\")","v":"Mozambique"},"Sofala","Cid Beira",465917.95422993129,{"$f":"IF(INTRO!$E$48=\"\",\"\",ROUND($D102*INTRO!$E$48,0))","v":54046},{"$f":"IF(INTRO!$E$49=\"\",\"\",ROUND($D102*INTRO!$E$49,0))","v":130457},{"$f":"IF(INTRO!$E$50=\"\",\"\",ROUND($D102*INTRO!$E$50,0))","v":267903},1,4,2,3,{"$f":"IF(INTRO!$E$38=\"Endemic\", IF($H102>0, IF($H102=4,\"Unknown\", IF($H102=99,\"Stopped\", $D102)), 0),\"Not required\")","v":465917.95422993129},{"$f":"IF(INTRO!$E$40=\"Endemic\", IF($I102>0, IF($I102=4,\"Unknown\",IF($I102=99,\"Stopped\", $D102)), 0),\"Not required\")","v":"Not required"},{"$f":"IF(INTRO!$E$42=\"Endemic\", IF(AND($J102>1,$J102<5), IF($J102=4, \"Unknown\", E102+F102), 0),\"Not required\")","v":184503},{"$f":"IF(INTRO!$E$44=\"Endemic\", IF(AND($K102>0,$K102<5), IF($K102=4,\"Unknown\", IF($K102=1, $F102*0.33, IF($K102=2, $F102*0.5+$G102*0.2, SUM(F102:G102)))), 0),\"Not required\")","v":398360},1,null,1,1,"MDA1 (IVM+ALB)","T2 (PZQ)","MDA 1","T2",33215,"Cid Beira",null,true,"Sofala","Cid Beira",1,4,2,3,true,true,true,true,null,null,null,1,null,2,3,true,null,true,true,null,null,{"$f":"'MDA1'!M102","v":303768},{"$f":"'T1'!O102","v":0},{"$f":"'T2'!M102","v":158912},null,null,{"$f":"DISTRICT!H101:H102","v":303768},{"$f":"DISTRICT!X102","v":130457},{"$f":"DISTRICT!AH102","v":130457},null,null,1,1,true,true,"Cid Beira",true]
[{"$f":"IF(INTRO!$E$34<>0,INTRO!$E$34,\"\")","v":"Mozambique"},"Sofala","Buzi",207630.93167045829,{"$f":"IF(INTRO!$E$48=\"\",\"\",ROUND($D103*INTRO!$E$48,0))","v":24085},{"$f":"IF(INTRO!$E$49=\"\",\"\",ROUND($D103*INTRO!$E$49,0))","v":58137},{"$f":"IF(INTRO!$E$50=\"\",\"\",ROUND($D103*INTRO!$E$50,0))","v":119388},0,4,2,2,{"$f":"IF(INTRO!$E$38=\"Endemic\", IF($H103>0, IF($H103=4,\"Unknown\", IF($H103=99,\"Stopped\", $D103)), 0),\"Not required\")","v":0},{"$f":"IF(INTRO!$E$40=\"Endemic\", IF($I103>0, IF($I103=4,\"Unknown\",IF($I103=99,\"Stopped\", $D103)), 0),\"Not required\")","v":"Not required"},{"$f":"IF(INTRO!$E$42=\"Endemic\", IF(AND($J103>1,$J103<5), IF($J103=4, \"Unknown\", E103+F103), 0),\"Not required\")","v":82222},{"$f":"IF(INTRO!$E$44=\"Endemic\", IF(AND($K103>0,$K103<5), IF($K103=4,\"Unknown\", IF($K103=1, $F103*0.33, IF($K103=2, $F103*0.5+$G103*0.2, SUM(F103:G103)))), 0),\"Not required\")","v":52946.100000000006},0,null,1,1,"T1 (PZQ+ALB/MBD)",null," ","T1",33210,"Buzi",null,true,"Sofala","Buzi",0,4,2,2,true,true,true,true,null,null,null,0,null,2,2,true,null,true,true,null,null,{"$f":"'MDA1'!M103","v":0},{"$f":"'T1'!O103","v":37218},{"$f":"'T2'!M103","v":0},null,null,{"$f":"DISTRICT!H102:H103","v":0},{"$f":"DISTRICT!X103","v":37218},{"$f":"DISTRICT!AH103","v":29068.5},null,null,1,1,true,true,"Buzi",true]
[{"$f":"IF(INTRO!$E$34<>0,INTRO!$E$34,\"\")","v":"Mozambique"},"Sofala","Caia",163881.15737419899,{"$f":"IF(INTRO!$E$48=\"\",\"\",ROUND($D104*INTRO!$E$48,0))","v":19010},{"$f":"IF(INTRO!$E$49=\"\",\"\",ROUND($D104*INTRO!$E$49,0))","v":45887},{"$f":"IF(INTRO!$E$50=\"\",\"\",ROUND($D104*INTRO!$E$50,0))","v":94232},1,4,2,2,{"$f":"IF(INTRO!$E$38=\"Endemic\", IF($H104>0, IF($H104=4,\"Unknown\", IF($H104=99,\"Stopped\", $D104)), 0),\"Not required\")","v":163881.15737419899},{"$f":"IF(INTRO!$E$40=\"Endemic\", IF($I104>0, IF($I104=4,\"Unknown\",IF($I104=99,\"Stopped\", $D104)), 0),\"Not required\")","v":"Not required"},{"$f":"IF(INTRO!$E$42=\"Endemic\", IF(AND($J104>1,$J104<5), IF($J104=4, \"Unknown\", E104+F104), 0),\"Not required\")","v":64897},{"$f":"IF(INTRO!$E$44=\"Endemic\", IF(AND($K104>0,$K104<5), IF($K104=4,\"Unknown\", IF($K104=1, $F104*0.33, IF($K104=2, $F104*0.5+$G104*0.2, SUM(F104:G104)))), 0),\"Not required\")","v":41789.9},1,null,1,1,"MDA1 (IVM+ALB)","T2 (PZQ)","MDA 1","T2",33211,"Caia",null,true,"Sofala","Caia",1,4,2,2,true,true,true,true,null,null,null,1,null,2,2,true,null,true,true,null,null,{"$f":"'MDA1'!M104","v":151584},{"$f":"'T1'!O104","v":0},{"$f":"'T2'!M104","v":74026},null,null,{"$f":"DISTRICT!H103:H104","v":151584},{"$f":"DISTRICT!X104","v":45887},{"$f":"DISTRICT!AH104","v":22943.5},null,null,1,1,true,true,"Caia",true]
[{"$f":"IF(INTRO!$E$34<>0,INTRO!$E$34,\"\")","v":"Mozambique"},"Sofala","Chemba",85725.9868697239,{"$f":"IF(INTRO!$E$48=\"\",\"\",ROUND($D105*INTRO!$E$48,0))","v":9944},{"$f":"IF(INTRO!$E$49=\"\",\"\",ROUND($D105*INTRO!$E$49,0))","v":24003},{"$f":"IF(INTRO!$E$50=\"\",\"\",ROUND($D105*INTRO!$E$50,0))","v":49292},1,4,2,3,{"$f":"IF(INTRO!$E$38=\"Endemic\", IF($H105>0, IF($H105=4,\"Unknown\", IF($H105=99,\"Stopped\", $D105)), 0),\"Not required\")","v":85725.9868697239},{"$f":"IF(INTRO!$E$40=\"Endemic\", IF($I105>0, IF($I105=4,\"Unknown\",IF($I105=99,\"Stopped\", $D105)), 0),\"Not required\")","v":"Not required"},{"$f":"IF(INTRO!$E$42=\"Endemic\", IF(AND($J105>1,$J105<5), IF($J105=4, \"Unknown\", E105+F105), 0),\"Not required\")","v":33947},{"$f":"IF(INTRO!$E$44=\"Endemic\", IF(AND($K105>0,$K105<5), IF($K105=4,\"Unknown\", IF($K105=1, $F105*0.33, IF($K105=2, $F105*0.5+$G105*0.2, SUM(F105:G105)))), 0),\"Not required\")","v":73295},1,null,1,1,"MDA1 (IVM+ALB)","T2 (PZQ)","MDA 1","T2",33212,"Chemba",null,true,"Sofala","Chemba",1,4,2,3,true,true,true,true,null,null,null,1,null,2,3,true,null,true,true,null,null,{"$f":"'MDA1'!M105","v":72871},{"$f":"'T1'!O105","v":0},{"$f":"'T2'!M105","v":24225},null,null,{"$f":"DISTRICT!H104:H105","v":72871},{"$f":"DISTRICT!X105","v":24003},{"$f":"DISTRICT!AH105","v":24003},null,null,1,1,true,true,"Chemba",true]
[{"$f":"IF(INTRO!$E$34<>0,INTRO!$E$34,\"\")","v":"Mozambique"},"Sofala","Cheringoma",82934.651721928385,{"$f":"IF(INTRO!$E$48=\"\",\"\",ROUND($D106*INTRO!$E$48,0))","v":9620},{"$f":"IF(INTRO!$E$49=\"\",\"\",ROUND($D106*INTRO!$E$49,0))","v":23222},{"$f":"IF(INTRO!$E$50=\"\",\"\",ROUND($D106*INTRO!$E$50,0))","v":47687},1,4,2,3,{"$f":"IF(INTRO!$E$38=\"Endemic\", IF($H106>0, IF($H106=4,\"Unknown\", IF($H106=99,\"Stopped\", $D106)), 0),\"Not required\")","v":82934.651721928385},{"$f":"IF(INTRO!$E$40=\"Endemic\", IF($I106>0, IF($I106=4,\"Unknown\",IF($I106=99,\"Stopped\", $D106)), 0),\"Not required\")","v":"Not required"},{"$f":"IF(INTRO!$E$42=\"Endemic\", IF(AND($J106>1,$J106<5), IF($J106=4, \"Unknown\", E106+F106), 0),\"Not required\")","v":32842},{"$f":"IF(INTRO!$E$44=\"Endemic\", IF(AND($K106>0,$K106<5), IF($K106=4,\"Unknown\", IF($K106=1, $F106*0.33, IF($K106=2, $F106*0.5+$G106*0.2, SUM(F106:G106)))), 0),\"Not required\")","v":70909},1,null,1,1,"MDA1 (IVM+ALB)","T2 (PZQ)","MDA 1","T2",33213,"Cheringoma",null,true,"Sofala","Cheringoma",1,4,2,3,true,true,true,true,null,null,null,1,null,2,3,true,null,true,true,null,null,{"$f":"'MDA1'!M106","v":65987},{"$f":"'T1'!O106","v":0},{"$f":"'T2'!M106","v":23098},null,null,{"$f":"DISTRICT!H105:H106","v":65987},{"$f":"DISTRICT!X106","v":23099},{"$f":"DISTRICT!AH106","v":23098},null,null,1,1,true,true,"Cheringoma",true]
[{"$f":"IF(INTRO!$E$34<>0,INTRO!$E$34,\"\")","v":"Mozambique"},"Sofala","Chibabava",147715.96124567091,{"$f":"IF(INTRO!$E$48=\"\",\"\",ROUND($D107*INTRO!$E$48,0))","v":17135},{"$f":"IF(INTRO!$E$49=\"\",\"\",ROUND($D107*INTRO!$E$49,0))","v":41360},{"$f":"IF(INTRO!$E$50=\"\",\"\",ROUND($D107*INTRO!$E$50,0))","v":84937},1,4,2,3,{"$f":"IF(INTRO!$E$38=\"Endemic\", IF($H107>0, IF($H107=4,\"Unknown\", IF($H107=99,\"Stopped\", $D107)), 0),\"Not required\")","v":147715.96124567091},{"$f":"IF(INTRO!$E$40=\"Endemic\", IF($I107>0, IF($I107=4,\"Unknown\",IF($I107=99,\"Stopped\", $D107)), 0),\"Not required\")","v":"Not required"},{"$f":"IF(INTRO!$E$42=\"Endemic\", IF(AND($J107>1,$J107<5), IF($J107=4, \"Unknown\", E107+F107), 0),\"Not required\")","v":58495},{"$f":"IF(INTRO!$E$44=\"Endemic\", IF(AND($K107>0,$K107<5), IF($K107=4,\"Unknown\", IF($K107=1, $F107*0.33, IF($K107=2, $F107*0.5+$G107*0.2, SUM(F107:G107)))), 0),\"Not required\")","v":126297},1,null,1,1,"MDA1 (IVM+ALB)","T2 (PZQ)","MDA 1","T2",33214,"Chibabava",null,true,"Sofala","Chibabava",1,4,2,3,true,true,true,true,null,null,null,1,null,2,3,true,null,true,true,null,null,{"$f":"'MDA1'!M107","v":77230},{"$f":"'T1'!O107","v":0},{"$f":"'T2'!M107","v":39066},null,null,{"$f":"DISTRICT!H106:H107","v":77230},{"$f":"DISTRICT!X107","v":38948},{"$f":"DISTRICT!AH107","v":39066},null,null,1,1,true,true,"Chibabava",true]
[{"$f":"IF(INTRO!$E$34<>0,INTRO!$E$34,\"\")","v":"Mozambique"},"Sofala","Dondo",189259.44907636536,{"$f":"IF(INTRO!$E$48=\"\",\"\",ROUND($D108*INTRO!$E$48,0))","v":21954},{"$f":"IF(INTRO!$E$49=\"\",\"\",ROUND($D108*INTRO!$E$49,0))","v":52993},{"$f":"IF(INTRO!$E$50=\"\",\"\",ROUND($D108*INTRO!$E$50,0))","v":108824},1,4,1,2,{"$f":"IF(INTRO!$E$38=\"Endemic\", IF($H108>0, IF($H108=4,\"Unknown\", IF($H108=99,\"Stopped\", $D108)), 0),\"Not required\")","v":189259.44907636536},{"$f":"IF(INTRO!$E$40=\"Endemic\", IF($I108>0, IF($I108=4,\"Unknown\",IF($I108=99,\"Stopped\", $D108)), 0),\"Not required\")","v":"Not required"},{"$f":"IF(INTRO!$E$42=\"Endemic\", IF(AND($J108>1,$J108<5), IF($J108=4, \"Unknown\", E108+F108), 0),\"Not required\")","v":0},{"$f":"IF(INTRO!$E$44=\"Endemic\", IF(AND($K108>0,$K108<5), IF($K108=4,\"Unknown\", IF($K108=1, $F108*0.33, IF($K108=2, $F108*0.5+$G108*0.2, SUM(F108:G108)))), 0),\"Not required\")","v":48261.3},1,null,0,1,"MDA1 (IVM+ALB)","T2 (PZQ)","MDA 1","T2",33216,"Dondo",null,true,"Sofala","Dondo",1,4,1,2,true,true,true,true,null,null,null,1,null,1,2,true,null,true,true,null,null,{"$f":"'MDA1'!M108","v":135302.23205237265},{"$f":"'T1'!O108","v":0},{"$f":"'T2'!M108","v":44031},null,null,{"$f":"DISTRICT!H107:H108","v":135302.23205237265},{"$f":"DISTRICT!X108","v":0},{"$f":"DISTRICT!AH108","v":26496.5},null,null,0,1,true,true,"Dondo",true]
[{"$f":"IF(INTRO!$E$34<>0,INTRO!$E$34,\"\")","v":"Mozambique"},"Sofala","Gorongosa",182189.25571719519,{"$f":"IF(INTRO!$E$48=\"\",\"\",ROUND($D109*INTRO!$E$48,0))","v":21134},{"$f":"IF(INTRO!$E$49=\"\",\"\",ROUND($D109*INTRO!$E$49,0))","v":51013},{"$f":"IF(INTRO!$E$50=\"\",\"\",ROUND($D109*INTRO!$E$50,0))","v":104759},1,4,2,3,{"$f":"IF(INTRO!$E$38=\"Endemic\", IF($H109>0, IF($H109=4,\"Unknown\", IF($H109=99,\"Stopped\", $D109)), 0),\"Not required\")","v":182189.25571719519},{"$f":"IF(INTRO!$E$40=\"Endemic\", IF($I109>0, IF($I109=4,\"Unknown\",IF($I109=99,\"Stopped\", $D109)), 0),\"Not required\")","v":"Not required"},{"$f":"IF(INTRO!$E$42=\"Endemic\", IF(AND($J109>1,$J109<5), IF($J109=4, \"Unknown\", E109+F109), 0),\"Not required\")","v":72147},{"$f":"IF(INTRO!$E$44=\"Endemic\", IF(AND($K109>0,$K109<5), IF($K109=4,\"Unknown\", IF($K109=1, $F109*0.33, IF($K109=2, $F109*0.5+$G109*0.2, SUM(F109:G109)))), 0),\"Not required\")","v":155772},1,null,1,1,"MDA1 (IVM+ALB)","T2 (PZQ)","MDA 1","T2",33217,"Gorongosa",null,true,"Sofala","Gorongosa",1,4,2,3,true,true,true,true,null,null,null,1,null,2,3,true,null,true,true,null,null,{"$f":"'MDA1'!M109","v":153297},{"$f":"'T1'!O109","v":0},{"$f":"'T2'!M109","v":63175},null,null,{"$f":"DISTRICT!H108:H109","v":153297},{"$f":"DISTRICT!X109","v":51013},{"$f":"DISTRICT!AH109","v":51013},null,null,1,1,true,true,"Gorongosa",true]
[{"$f":"IF(INTRO!$E$34<>0,INTRO!$E$34,\"\")","v":"Mozambique"},"Sofala","Machanga",68633.362176051247,{"$f":"IF(INTRO!$E$48=\"\",\"\",ROUND($D110*INTRO!$E$48,0))","v":7961},{"$f":"IF(INTRO!$E$49=\"\",\"\",ROUND($D110*INTRO!$E$49,0))","v":19217},{"$f":"IF(INTRO!$E$50=\"\",\"\",ROUND($D110*INTRO!$E$50,0))","v":39464},1,4,2,2,{"$f":"IF(INTRO!$E$38=\"Endemic\", IF($H110>0, IF($H110=4,\"Unknown\", IF($H110=99,\"Stopped\", $D110)), 0),\"Not required\")","v":68633.362176051247},{"$f":"IF(INTRO!$E$40=\"Endemic\", IF($I110>0, IF($I110=4,\"Unknown\",IF($I110=99,\"Stopped\", $D110)), 0),\"Not required\")","v":"Not required"},{"$f":"IF(INTRO!$E$42=\"Endemic\", IF(AND($J110>1,$J110<5), IF($J110=4, \"Unknown\", E110+F110), 0),\"Not required\")","v":27178},{"$f":"IF(INTRO!$E$44=\"Endemic\", IF(AND($K110>0,$K110<5), IF($K110=4,\"Unknown\", IF($K110=1, $F110*0.33, IF($K110=2, $F110*0.5+$G110*0.2, SUM(F110:G110)))), 0),\"Not required\")","v":17501.3},1,null,1,1,"MDA1 (IVM+ALB)","T2 (PZQ)","MDA 1","T2",33218,"Machanga",null,true,"Sofala","Machanga",1,4,2,2,true,true,true,true,null,null,null,1,null,2,2,true,null,true,true,null,null,{"$f":"'MDA1'!M110","v":56362},{"$f":"'T1'!O110","v":0},{"$f":"'T2'!M110","v":19682},null,null,{"$f":"DISTRICT!H109:H110","v":56362},{"$f":"DISTRICT!X110","v":19217},{"$f":"DISTRICT!AH110","v":9608.5},null,null,1,1,true,true,"Machanga",true]
[{"$f":"IF(INTRO!$E$34<>0,INTRO!$E$34,\"\")","v":"Mozambique"},"Sofala","Maringue",101762.00279174968,{"$f":"IF(INTRO!$E$48=\"\",\"\",ROUND($D111*INTRO!$E$48,0))","v":11804},{"$f":"IF(INTRO!$E$49=\"\",\"\",ROUND($D111*INTRO!$E$49,0))","v":28493},{"$f":"IF(INTRO!$E$50=\"\",\"\",ROUND($D111*INTRO!$E$50,0))","v":58513},1,4,2,2,{"$f":"IF(INTRO!$E$38=\"Endemic\", IF($H111>0, IF($H111=4,\"Unknown\", IF($H111=99,\"Stopped\", $D111)), 0),\"Not required\")","v":101762.00279174968},{"$f":"IF(INTRO!$E$40=\"Endemic\", IF($I111>0, IF($I111=4,\"Unknown\",IF($I111=99,\"Stopped\", $D111)), 0),\"Not required\")","v":"Not required"},{"$f":"IF(INTRO!$E$42=\"Endemic\", IF(AND($J111>1,$J111<5), IF($J111=4, \"Unknown\", E111+F111), 0),\"Not required\")","v":40297},{"$f":"IF(INTRO!$E$44=\"Endemic\", IF(AND($K111>0,$K111<5), IF($K111=4,\"Unknown\", IF($K111=1, $F111*0.33, IF($K111=2, $F111*0.5+$G111*0.2, SUM(F111:G111)))), 0),\"Not required\")","v":25949.1},1,null,1,1,"MDA1 (IVM+ALB)","T2 (PZQ)","MDA 1","T2",33219,"Maringue",null,true,"Sofala","Maringue",1,4,2,2,true,true,true,true,null,null,null,1,null,2,2,true,null,true,true,null,null,{"$f":"'MDA1'!M111","v":95833},{"$f":"'T1'!O111","v":0},{"$f":"'T2'!M111","v":30948},null,null,{"$f":"DISTRICT!H110:H111","v":95833},{"$f":"DISTRICT!X111","v":28493},{"$f":"DISTRICT!AH111","v":14246.5},null,null,1,1,true,true,"Maringue",true]
[{"$f":"IF(INTRO!$E$34<>0,INTRO!$E$34,\"\")","v":"Mozambique"},"Sofala","Marromeu",196403.02035270637,{"$f":"IF(INTRO!$E$48=\"\",\"\",ROUND($D112*INTRO!$E$48,0))","v":22783},{"$f":"IF(INTRO!$E$49=\"\",\"\",ROUND($D112*INTRO!$E$49,0))","v":54993},{"$f":"IF(INTRO!$E$50=\"\",\"\",ROUND($D112*INTRO!$E$50,0))","v":112932},1,4,2,3,{"$f":"IF(INTRO!$E$38=\"Endemic\", IF($H112>0, IF($H112=4,\"Unknown\", IF($H112=99,\"Stopped\", $D112)), 0),\"Not required\")","v":196403.02035270637},{"$f":"IF(INTRO!$E$40=\"Endemic\", IF($I112>0, IF($I112=4,\"Unknown\",IF($I112=99,\"Stopped\", $D112)), 0),\"Not required\")","v":"Not required"},{"$f":"IF(INTRO!$E$42=\"Endemic\", IF(AND($J112>1,$J112<5), IF($J112=4, \"Unknown\", E112+F112), 0),\"Not required\")","v":77776},{"$f":"IF(INTRO!$E$44=\"Endemic\", IF(AND($K112>0,$K112<5), IF($K112=4,\"Unknown\", IF($K112=1, $F112*0.33, IF($K112=2, $F112*0.5+$G112*0.2, SUM(F112:G112)))), 0),\"Not required\")","v":167925},1,null,1,1,"MDA1 (IVM+ALB)","T2 (PZQ)","MDA 1","T2",33220,"Marromeu",null,true,"Sofala","Marromeu",1,4,2,3,true,true,true,true,null,null,null,1,null,2,3,true,null,true,true,null,null,{"$f":"'MDA1'!M112","v":152208},{"$f":"'T1'!O112","v":0},{"$f":"'T2'!M112","v":59413},null,null,{"$f":"DISTRICT!H111:H112","v":152208},{"$f":"DISTRICT!X112","v":54993},{"$f":"DISTRICT!AH112","v":54993},null,null,1,1,true,true,"Marromeu",true]
[{"$f":"IF(INTRO!$E$34<>0,INTRO!$E$34,\"\")","v":"Mozambique"},"Sofala","Muanza",43785.427066230834,{"$f":"IF(INTRO!$E$48=\"\",\"\",ROUND($D113*INTRO!$E$48,0))","v":5079},{"$f":"IF(INTRO!$E$49=\"\",\"\",ROUND($D113*INTRO!$E$49,0))","v":12260},{"$f":"IF(INTRO!$E$50=\"\",\"\",ROUND($D113*INTRO!$E$50,0))","v":25177},1,4,3,2,{"$f":"IF(INTRO!$E$38=\"Endemic\", IF($H113>0, IF($H113=4,\"Unknown\", IF($H113=99,\"Stopped\", $D113)), 0),\"Not required\")","v":43785.427066230834},{"$f":"IF(INTRO!$E$40=\"Endemic\", IF($I113>0, IF($I113=4,\"Unknown\",IF($I113=99,\"Stopped\", $D113)), 0),\"Not required\")","v":"Not required"},{"$f":"IF(INTRO!$E$42=\"Endemic\", IF(AND($J113>1,$J113<5), IF($J113=4, \"Unknown\", E113+F113), 0),\"Not required\")","v":17339},{"$f":"IF(INTRO!$E$44=\"Endemic\", IF(AND($K113>0,$K113<5), IF($K113=4,\"Unknown\", IF($K113=1, $F113*0.33, IF($K113=2, $F113*0.5+$G113*0.2, SUM(F113:G113)))), 0),\"Not required\")","v":11165.400000000001},1,null,1,1,"MDA1 (IVM+ALB)","T2 (PZQ)","MDA 1","T1",33221,"Muanza",null,true,"Sofala","Muanza",1,4,3,2,true,true,true,true,null,null,null,1,null,3,2,true,null,true,true,null,null,{"$f":"'MDA1'!M113","v":28460},{"$f":"'T1'!O113","v":0},{"$f":"'T2'!M113","v":13420},null,null,{"$f":"DISTRICT!H112:H113","v":28460},{"$f":"DISTRICT!X113","v":12260},{"$f":"DISTRICT!AH113","v":6130},null,null,2,0,false,false,"Muanza",true]
[{"$f":"IF(INTRO!$E$34<>0,INTRO!$E$34,\"\")","v":"Mozambique"},"Sofala","Nhamatanda",322510.83970778942,{"$f":"IF(INTRO!$E$48=\"\",\"\",ROUND($D114*INTRO!$E$48,0))","v":37411},{"$f":"IF(INTRO!$E$49=\"\",\"\",ROUND($D114*INTRO!$E$49,0))","v":90303},{"$f":"IF(INTRO!$E$50=\"\",\"\",ROUND($D114*INTRO!$E$50,0))","v":185444},1,4,2,2,{"$f":"IF(INTRO!$E$38=\"Endemic\", IF($H114>0, IF($H114=4,\"Unknown\", IF($H114=99,\"Stopped\", $D114)), 0),\"Not required\")","v":322510.83970778942},{"$f":"IF(INTRO!$E$40=\"Endemic\", IF($I114>0, IF($I114=4,\"Unknown\",IF($I114=99,\"Stopped\", $D114)), 0),\"Not required\")","v":"Not required"},{"$f":"IF(INTRO!$E$42=\"Endemic\", IF(AND($J114>1,$J114<5), IF($J114=4, \"Unknown\", E114+F114), 0),\"Not required\")","v":127714},{"$f":"IF(INTRO!$E$44=\"Endemic\", IF(AND($K114>0,$K114<5), IF($K114=4,\"Unknown\", IF($K114=1, $F114*0.33, IF($K114=2, $F114*0.5+$G114*0.2, SUM(F114:G114)))), 0),\"Not required\")","v":82240.3},1,null,1,1,"MDA1 (IVM+ALB)","T2 (PZQ)","MDA 1","T2",33222,"Nhamatanda",null,true,"Sofala","Nhamatanda",1,4,2,2,true,true,true,true,null,null,null,1,null,2,2,true,null,true,true,null,null,{"$f":"'MDA1'!M114","v":215548},{"$f":"'T1'!O114","v":0},{"$f":"'T2'!M114","v":113214},null,null,{"$f":"DISTRICT!H113:H114","v":215548},{"$f":"DISTRICT!X114","v":90303},{"$f":"DISTRICT!AH114","v":45151.5},null,null,1,0,true,false,"Nhamatanda",true]
[{"$f":"IF(INTRO!$E$34<>0,INTRO!$E$34,\"\")","v":"Mozambique"},"Manica","Cid. Chimoio",348778.74829355872,{"$f":"IF(INTRO!$E$48=\"\",\"\",ROUND($D115*INTRO!$E$48,0))","v":40458},{"$f":"IF(INTRO!$E$49=\"\",\"\",ROUND($D115*INTRO!$E$49,0))","v":97658},{"$f":"IF(INTRO!$E$50=\"\",\"\",ROUND($D115*INTRO!$E$50,0))","v":200548},0,4,3,3,{"$f":"IF(INTRO!$E$38=\"Endemic\", IF($H115>0, IF($H115=4,\"Unknown\", IF($H115=99,\"Stopped\", $D115)), 0),\"Not required\")","v":0},{"$f":"IF(INTRO!$E$40=\"Endemic\", IF($I115>0, IF($I115=4,\"Unknown\",IF($I115=99,\"Stopped\", $D115)), 0),\"Not required\")","v":"Not required"},{"$f":"IF(INTRO!$E$42=\"Endemic\", IF(AND($J115>1,$J115<5), IF($J115=4, \"Unknown\", E115+F115), 0),\"Not required\")","v":138116},{"$f":"IF(INTRO!$E$44=\"Endemic\", IF(AND($K115>0,$K115<5), IF($K115=4,\"Unknown\", IF($K115=1, $F115*0.33, IF($K115=2, $F115*0.5+$G115*0.2, SUM(F115:G115)))), 0),\"Not required\")","v":298206},0,null,1,1,"T1 (PZQ+ALB/MBD)",null,"T1","T3",33151,"Cid. Chimoio",null,true,"Manica","Cid. Chimoio",0,4,3,3,true,true,true,true,null,null,null,0,null,3,3,true,null,true,true,null,null,{"$f":"'MDA1'!M115","v":0},{"$f":"'T1'!O115","v":106092},{"$f":"'T2'!M115","v":0},null,null,{"$f":"DISTRICT!H114:H115","v":0},{"$f":"DISTRICT!X115","v":97658},{"$f":"DISTRICT!AH115","v":97658},null,null,2,1,false,true,"Cid. Chimoio",true]
[{"$f":"IF(INTRO!$E$34<>0,INTRO!$E$34,\"\")","v":"Mozambique"},"Manica","Barué",276038.75225983566,{"$f":"IF(INTRO!$E$48=\"\",\"\",ROUND($D116*INTRO!$E$48,0))","v":32020},{"$f":"IF(INTRO!$E$49=\"\",\"\",ROUND($D116*INTRO!$E$49,0))","v":77291},{"$f":"IF(INTRO!$E$50=\"\",\"\",ROUND($D116*INTRO!$E$50,0))","v":158722},1,4,2,3,{"$f":"IF(INTRO!$E$38=\"Endemic\", IF($H116>0, IF($H116=4,\"Unknown\", IF($H116=99,\"Stopped\", $D116)), 0),\"Not required\")","v":276038.75225983566},{"$f":"IF(INTRO!$E$40=\"Endemic\", IF($I116>0, IF($I116=4,\"Unknown\",IF($I116=99,\"Stopped\", $D116)), 0),\"Not required\")","v":"Not required"},{"$f":"IF(INTRO!$E$42=\"Endemic\", IF(AND($J116>1,$J116<5), IF($J116=4, \"Unknown\", E116+F116), 0),\"Not required\")","v":109311},{"$f":"IF(INTRO!$E$44=\"Endemic\", IF(AND($K116>0,$K116<5), IF($K116=4,\"Unknown\", IF($K116=1, $F116*0.33, IF($K116=2, $F116*0.5+$G116*0.2, SUM(F116:G116)))), 0),\"Not required\")","v":236013},1,null,1,1,"MDA1 (IVM+ALB)","T2 (PZQ)","MDA 1","T2",33150,"Barué",null,true,"Manica","Barué",1,4,2,3,true,true,true,true,null,null,null,1,null,2,3,true,null,true,true,null,null,{"$f":"'MDA1'!M116","v":205500},{"$f":"'T1'!O116","v":0},{"$f":"'T2'!M116","v":73628},null,null,{"$f":"DISTRICT!H115:H116","v":205500},{"$f":"DISTRICT!X116","v":77291},{"$f":"DISTRICT!AH116","v":73628},null,null,1,1,true,true,"Barué",true]
[{"$f":"IF(INTRO!$E$34<>0,INTRO!$E$34,\"\")","v":"Mozambique"},"Manica","Gondola",226961.12853070785,{"$f":"IF(INTRO!$E$48=\"\",\"\",ROUND($D117*INTRO!$E$48,0))","v":26327},{"$f":"IF(INTRO!$E$49=\"\",\"\",ROUND($D117*INTRO!$E$49,0))","v":63549},{"$f":"IF(INTRO!$E$50=\"\",\"\",ROUND($D117*INTRO!$E$50,0))","v":130503},0,4,2,2,{"$f":"IF(INTRO!$E$38=\"Endemic\", IF($H117>0, IF($H117=4,\"Unknown\", IF($H117=99,\"Stopped\", $D117)), 0),\"Not required\")","v":0},{"$f":"IF(INTRO!$E$40=\"Endemic\", IF($I117>0, IF($I117=4,\"Unknown\",IF($I117=99,\"Stopped\", $D117)), 0),\"Not required\")","v":"Not required"},{"$f":"IF(INTRO!$E$42=\"Endemic\", IF(AND($J117>1,$J117<5), IF($J117=4, \"Unknown\", E117+F117), 0),\"Not required\")","v":89876},{"$f":"IF(INTRO!$E$44=\"Endemic\", IF(AND($K117>0,$K117<5), IF($K117=4,\"Unknown\", IF($K117=1, $F117*0.33, IF($K117=2, $F117*0.5+$G117*0.2, SUM(F117:G117)))), 0),\"Not required\")","v":57875.100000000006},0,null,1,1,"T1 (PZQ+ALB/MBD)",null," ","T1",33152,"Gondola",null,true,"Manica","Gondola",0,4,2,2,true,true,true,true,null,null,null,0,null,2,2,true,null,true,true,null,null,{"$f":"'MDA1'!M117","v":0},{"$f":"'T1'!O117","v":61590},{"$f":"'T2'!M117","v":0},null,null,{"$f":"DISTRICT!H116:H117","v":0},{"$f":"DISTRICT!X117","v":61590},{"$f":"DISTRICT!AH117","v":31774.5},null,null,1,0,true,false,"Gondola",true]
[{"$f":"IF(INTRO!$E$34<>0,INTRO!$E$34,\"\")","v":"Mozambique"},"Manica","Guro",103497.51361067995,{"$f":"IF(INTRO!$E$48=\"\",\"\",ROUND($D118*INTRO!$E$48,0))","v":12006},{"$f":"IF(INTRO!$E$49=\"\",\"\",ROUND($D118*INTRO!$E$49,0))","v":28979},{"$f":"IF(INTRO!$E$50=\"\",\"\",ROUND($D118*INTRO!$E$50,0))","v":59511},1,4,1,2,{"$f":"IF(INTRO!$E$38=\"Endemic\", IF($H118>0, IF($H118=4,\"Unknown\", IF($H118=99,\"Stopped\", $D118)), 0),\"Not required\")","v":103497.51361067995},{"$f":"IF(INTRO!$E$40=\"Endemic\", IF($I118>0, IF($I118=4,\"Unknown\",IF($I118=99,\"Stopped\", $D118)), 0),\"Not required\")","v":"Not required"},{"$f":"IF(INTRO!$E$42=\"Endemic\", IF(AND($J118>1,$J118<5), IF($J118=4, \"Unknown\", E118+F118), 0),\"Not required\")","v":0},{"$f":"IF(INTRO!$E$44=\"Endemic\", IF(AND($K118>0,$K118<5), IF($K118=4,\"Unknown\", IF($K118=1, $F118*0.33, IF($K118=2, $F118*0.5+$G118*0.2, SUM(F118:G118)))), 0),\"Not required\")","v":26391.7},1,null,0,1,"MDA1 (IVM+ALB)","T2 (PZQ)","MDA 1","T2",33153,"Guro",null,true,"Manica","Guro",1,4,1,2,true,true,true,true,null,null,null,1,null,1,2,true,null,true,true,null,null,{"$f":"'MDA1'!M118","v":85959},{"$f":"'T1'!O118","v":0},{"$f":"'T2'!M118","v":29822},null,null,{"$f":"DISTRICT!H117:H118","v":85959},{"$f":"DISTRICT!X118","v":0},{"$f":"DISTRICT!AH118","v":14489.5},null,null,0,0,true,false,"Guro",true]
[{"$f":"IF(INTRO!$E$34<>0,INTRO!$E$34,\"\")","v":"Mozambique"},"Manica","Macate",113323.32567475908,{"$f":"IF(INTRO!$E$48=\"\",\"\",ROUND($D119*INTRO!$E$48,0))","v":13146},{"$f":"IF(INTRO!$E$49=\"\",\"\",ROUND($D119*INTRO!$E$49,0))","v":31731},{"$f":"IF(INTRO!$E$50=\"\",\"\",ROUND($D119*INTRO!$E$50,0))","v":65161},0,4,2,2,{"$f":"IF(INTRO!$E$38=\"Endemic\", IF($H119>0, IF($H119=4,\"Unknown\", IF($H119=99,\"Stopped\", $D119)), 0),\"Not required\")","v":0},{"$f":"IF(INTRO!$E$40=\"Endemic\", IF($I119>0, IF($I119=4,\"Unknown\",IF($I119=99,\"Stopped\", $D119)), 0),\"Not required\")","v":"Not required"},{"$f":"IF(INTRO!$E$42=\"Endemic\", IF(AND($J119>1,$J119<5), IF($J119=4, \"Unknown\", E119+F119), 0),\"Not required\")","v":44877},{"$f":"IF(INTRO!$E$44=\"Endemic\", IF(AND($K119>0,$K119<5), IF($K119=4,\"Unknown\", IF($K119=1, $F119*0.33, IF($K119=2, $F119*0.5+$G119*0.2, SUM(F119:G119)))), 0),\"Not required\")","v":28897.7},0,null,1,1,"T1 (PZQ+ALB/MBD)",null," ","T1",33154,"Macate",null,true,"Manica","Macate",0,4,2,2,true,true,true,true,null,null,null,0,null,2,2,true,null,true,true,null,null,{"$f":"'MDA1'!M119","v":0},{"$f":"'T1'!O119","v":33938},{"$f":"'T2'!M119","v":0},null,null,{"$f":"DISTRICT!H118:H119","v":0},{"$f":"DISTRICT!X119","v":31731},{"$f":"DISTRICT!AH119","v":15865.5},null,null,1,0,true,false,"Macate",true]
[{"$f":"IF(INTRO!$E$34<>0,INTRO!$E$34,\"\")","v":"Mozambique"},"Manica","Machaze",147422.88773249683,{"$f":"IF(INTRO!$E$48=\"\",\"\",ROUND($D120*INTRO!$E$48,0))","v":17101},{"$f":"IF(INTRO!$E$49=\"\",\"\",ROUND($D120*INTRO!$E$49,0))","v":41278},{"$f":"IF(INTRO!$E$50=\"\",\"\",ROUND($D120*INTRO!$E$50,0))","v":84768},0,4,2,2,{"$f":"IF(INTRO!$E$38=\"Endemic\", IF($H120>0, IF($H120=4,\"Unknown\", IF($H120=99,\"Stopped\", $D120)), 0),\"Not required\")","v":0},{"$f":"IF(INTRO!$E$40=\"Endemic\", IF($I120>0, IF($I120=4,\"Unknown\",IF($I120=99,\"Stopped\", $D120)), 0),\"Not required\")","v":"Not required"},{"$f":"IF(INTRO!$E$42=\"Endemic\", IF(AND($J120>1,$J120<5), IF($J120=4, \"Unknown\", E120+F120), 0),\"Not required\")","v":58379},{"$f":"IF(INTRO!$E$44=\"Endemic\", IF(AND($K120>0,$K120<5), IF($K120=4,\"Unknown\", IF($K120=1, $F120*0.33, IF($K120=2, $F120*0.5+$G120*0.2, SUM(F120:G120)))), 0),\"Not required\")","v":37592.600000000006},0,null,1,1,"T1 (PZQ+ALB/MBD)",null," ","T1",33155,"Machaze",null,true,"Manica","Machaze",0,4,2,2,true,true,true,true,null,null,null,0,null,2,2,true,null,true,true,null,null,{"$f":"'MDA1'!M120","v":0},{"$f":"'T1'!O120","v":41134},{"$f":"'T2'!M120","v":0},null,null,{"$f":"DISTRICT!H119:H120","v":0},{"$f":"DISTRICT!X120","v":41134},{"$f":"DISTRICT!AH120","v":20639},null,null,1,0,true,false,"Machaze",true]
[{"$f":"IF(INTRO!$E$34<>0,INTRO!$E$34,\"\")","v":"Mozambique"},"Manica","Macossa",56139.067658422653,{"$f":"IF(INTRO!$E$48=\"\",\"\",ROUND($D121*INTRO!$E$48,0))","v":6512},{"$f":"IF(INTRO!$E$49=\"\",\"\",ROUND($D121*INTRO!$E$49,0))","v":15719},{"$f":"IF(INTRO!$E$50=\"\",\"\",ROUND($D121*INTRO!$E$50,0))","v":32280},1,4,2,3,{"$f":"IF(INTRO!$E$38=\"Endemic\", IF($H121>0, IF($H121=4,\"Unknown\", IF($H121=99,\"Stopped\", $D121)), 0),\"Not required\")","v":56139.067658422653},{"$f":"IF(INTRO!$E$40=\"Endemic\", IF($I121>0, IF($I121=4,\"Unknown\",IF($I121=99,\"Stopped\", $D121)), 0),\"Not required\")","v":"Not required"},{"$f":"IF(INTRO!$E$42=\"Endemic\", IF(AND($J121>1,$J121<5), IF($J121=4, \"Unknown\", E121+F121), 0),\"Not required\")","v":22231},{"$f":"IF(INTRO!$E$44=\"Endemic\", IF(AND($K121>0,$K121<5), IF($K121=4,\"Unknown\", IF($K121=1, $F121*0.33, IF($K121=2, $F121*0.5+$G121*0.2, SUM(F121:G121)))), 0),\"Not required\")","v":47999},1,null,1,1,"MDA1 (IVM+ALB)","T2 (PZQ)","MDA 1","T2",33156,"Macossa",null,true,"Manica","Macossa",1,4,2,3,true,true,true,true,null,null,null,1,null,2,3,true,null,true,true,null,null,{"$f":"'MDA1'!M121","v":46456},{"$f":"'T1'!O121","v":0},{"$f":"'T2'!M121","v":15252},null,null,{"$f":"DISTRICT!H120:H121","v":46456},{"$f":"DISTRICT!X121","v":15719},{"$f":"DISTRICT!AH121","v":15252},null,null,1,1,true,true,"Macossa",true]
[{"$f":"IF(INTRO!$E$34<>0,INTRO!$E$34,\"\")","v":"Mozambique"},"Manica","Manica",237845.10570404393,{"$f":"IF(INTRO!$E$48=\"\",\"\",ROUND($D122*INTRO!$E$48,0))","v":27590},{"$f":"IF(INTRO!$E$49=\"\",\"\",ROUND($D122*INTRO!$E$49,0))","v":66597},{"$f":"IF(INTRO!$E$50=\"\",\"\",ROUND($D122*INTRO!$E$50,0))","v":136761},0,4,3,2,{"$f":"IF(INTRO!$E$38=\"Endemic\", IF($H122>0, IF($H122=4,\"Unknown\", IF($H122=99,\"Stopped\", $D122)), 0),\"Not required\")","v":0},{"$f":"IF(INTRO!$E$40=\"Endemic\", IF($I122>0, IF($I122=4,\"Unknown\",IF($I122=99,\"Stopped\", $D122)), 0),\"Not required\")","v":"Not required"},{"$f":"IF(INTRO!$E$42=\"Endemic\", IF(AND($J122>1,$J122<5), IF($J122=4, \"Unknown\", E122+F122), 0),\"Not required\")","v":94187},{"$f":"IF(INTRO!$E$44=\"Endemic\", IF(AND($K122>0,$K122<5), IF($K122=4,\"Unknown\", IF($K122=1, $F122*0.33, IF($K122=2, $F122*0.5+$G122*0.2, SUM(F122:G122)))), 0),\"Not required\")","v":60650.7},0,null,1,1,"T1 (PZQ+ALB/MBD)",null,"T1","T3",33157,"Manica",null,true,"Manica","Manica",0,4,3,2,true,true,true,true,null,null,null,0,null,3,2,true,null,true,true,null,null,{"$f":"'MDA1'!M122","v":0},{"$f":"'T1'!O122","v":69122},{"$f":"'T2'!M122","v":0},null,null,{"$f":"DISTRICT!H121:H122","v":0},{"$f":"DISTRICT!X122","v":66597},{"$f":"DISTRICT!AH122","v":33298.5},null,null,2,0,false,false,"Manica",true]
[{"$f":"IF(INTRO!$E$34<>0,INTRO!$E$34,\"\")","v":"Mozambique"},"Manica","Mossurize",316201.00030010543,{"$f":"IF(INTRO!$E$48=\"\",\"\",ROUND($D123*INTRO!$E$48,0))","v":36679},{"$f":"IF(INTRO!$E$49=\"\",\"\",ROUND($D123*INTRO!$E$49,0))","v":88536},{"$f":"IF(INTRO!$E$50=\"\",\"\",ROUND($D123*INTRO!$E$50,0))","v":181816},0,4,2,3,{"$f":"IF(INTRO!$E$38=\"Endemic\", IF($H123>0, IF($H123=4,\"Unknown\", IF($H123=99,\"Stopped\", $D123)), 0),\"Not required\")","v":0},{"$f":"IF(INTRO!$E$40=\"Endemic\", IF($I123>0, IF($I123=4,\"Unknown\",IF($I123=99,\"Stopped\", $D123)), 0),\"Not required\")","v":"Not required"},{"$f":"IF(INTRO!$E$42=\"Endemic\", IF(AND($J123>1,$J123<5), IF($J123=4, \"Unknown\", E123+F123), 0),\"Not required\")","v":125215},{"$f":"IF(INTRO!$E$44=\"Endemic\", IF(AND($K123>0,$K123<5), IF($K123=4,\"Unknown\", IF($K123=1, $F123*0.33, IF($K123=2, $F123*0.5+$G123*0.2, SUM(F123:G123)))), 0),\"Not required\")","v":270352},0,null,1,1,"T1 (PZQ+ALB/MBD)",null," ","T1",33158,"Mossurize",null,true,"Manica","Mossurize",0,4,2,3,true,true,true,true,null,null,null,0,null,2,3,true,null,true,true,null,null,{"$f":"'MDA1'!M123","v":0},{"$f":"'T1'!O123","v":85726},{"$f":"'T2'!M123","v":0},null,null,{"$f":"DISTRICT!H122:H123","v":0},{"$f":"DISTRICT!X123","v":85726},{"$f":"DISTRICT!AH123","v":85726},null,null,1,1,true,true,"Mossurize",true]
[{"$f":"IF(INTRO!$E$34<>0,INTRO!$E$34,\"\")","v":"Mozambique"},"Manica","Sussundenga",178436.86774308735,{"$f":"IF(INTRO!$E$48=\"\",\"\",ROUND($D124*INTRO!$E$48,0))","v":20699},{"$f":"IF(INTRO!$E$49=\"\",\"\",ROUND($D124*INTRO!$E$49,0))","v":49962},{"$f":"IF(INTRO!$E$50=\"\",\"\",ROUND($D124*INTRO!$E$50,0))","v":102601},1,4,3,3,{"$f":"IF(INTRO!$E$38=\"Endemic\", IF($H124>0, IF($H124=4,\"Unknown\", IF($H124=99,\"Stopped\", $D124)), 0),\"Not required\")","v":178436.86774308735},{"$f":"IF(INTRO!$E$40=\"Endemic\", IF($I124>0, IF($I124=4,\"Unknown\",IF($I124=99,\"Stopped\", $D124)), 0),\"Not required\")","v":"Not required"},{"$f":"IF(INTRO!$E$42=\"Endemic\", IF(AND($J124>1,$J124<5), IF($J124=4, \"Unknown\", E124+F124), 0),\"Not required\")","v":70661},{"$f":"IF(INTRO!$E$44=\"Endemic\", IF(AND($K124>0,$K124<5), IF($K124=4,\"Unknown\", IF($K124=1, $F124*0.33, IF($K124=2, $F124*0.5+$G124*0.2, SUM(F124:G124)))), 0),\"Not required\")","v":152563},1,null,1,1,"MDA1 (IVM+ALB)","T2 (PZQ)","MDA 1","T1",33159,"Sussundenga",null,true,"Manica","Sussundenga",1,4,3,3,true,true,true,true,null,null,null,1,null,3,3,true,null,true,true,null,null,{"$f":"'MDA1'!M124","v":147374},{"$f":"'T1'!O124","v":0},{"$f":"'T2'!M124","v":47289},null,null,{"$f":"DISTRICT!H123:H124","v":147374},{"$f":"DISTRICT!X124","v":47289},{"$f":"DISTRICT!AH124","v":47289},null,null,2,1,false,true,"Sussundenga",true]
[{"$f":"IF(INTRO!$E$34<>0,INTRO!$E$34,\"\")","v":"Mozambique"},"Manica","Tambara",59631.993578704467,{"$f":"IF(INTRO!$E$48=\"\",\"\",ROUND($D125*INTRO!$E$48,0))","v":6917},{"$f":"IF(INTRO!$E$49=\"\",\"\",ROUND($D125*INTRO!$E$49,0))","v":16697},{"$f":"IF(INTRO!$E$50=\"\",\"\",ROUND($D125*INTRO!$E$50,0))","v":34288},1,4,2,2,{"$f":"IF(INTRO!$E$38=\"Endemic\", IF($H125>0, IF($H125=4,\"Unknown\", IF($H125=99,\"Stopped\", $D125)), 0),\"Not required\")","v":59631.993578704467},{"$f":"IF(INTRO!$E$40=\"Endemic\", IF($I125>0, IF($I125=4,\"Unknown\",IF($I125=99,\"Stopped\", $D125)), 0),\"Not required\")","v":"Not required"},{"$f":"IF(INTRO!$E$42=\"Endemic\", IF(AND($J125>1,$J125<5), IF($J125=4, \"Unknown\", E125+F125), 0),\"Not required\")","v":23614},{"$f":"IF(INTRO!$E$44=\"Endemic\", IF(AND($K125>0,$K125<5), IF($K125=4,\"Unknown\", IF($K125=1, $F125*0.33, IF($K125=2, $F125*0.5+$G125*0.2, SUM(F125:G125)))), 0),\"Not required\")","v":15206.1},1,null,1,1,"MDA1 (IVM+ALB)","T2 (PZQ)","MDA 1","T2",33160,"Tambara",null,true,"Manica","Tambara",1,4,2,2,true,true,true,true,null,null,null,1,null,2,2,true,null,true,true,null,null,{"$f":"'MDA1'!M125","v":47685},{"$f":"'T1'!O125","v":0},{"$f":"'T2'!M125","v":15994},null,null,{"$f":"DISTRICT!H124:H125","v":47685},{"$f":"DISTRICT!X125","v":15733},{"$f":"DISTRICT!AH125","v":8348.5},null,null,1,1,true,true,"Tambara",true]
[{"$f":"IF(INTRO!$E$34<>0,INTRO!$E$34,\"\")","v":"Mozambique"},"Manica","Vanduze",149605.6089135978,{"$f":"IF(INTRO!$E$48=\"\",\"\",ROUND($D126*INTRO!$E$48,0))","v":17354},{"$f":"IF(INTRO!$E$49=\"\",\"\",ROUND($D126*INTRO!$E$49,0))","v":41890},{"$f":"IF(INTRO!$E$50=\"\",\"\",ROUND($D126*INTRO!$E$50,0))","v":86023},0,4,3,2,{"$f":"IF(INTRO!$E$38=\"Endemic\", IF($H126>0, IF($H126=4,\"Unknown\", IF($H126=99,\"Stopped\", $D126)), 0),\"Not required\")","v":0},{"$f":"IF(INTRO!$E$40=\"Endemic\", IF($I126>0, IF($I126=4,\"Unknown\",IF($I126=99,\"Stopped\", $D126)), 0),\"Not required\")","v":"Not required"},{"$f":"IF(INTRO!$E$42=\"Endemic\", IF(AND($J126>1,$J126<5), IF($J126=4, \"Unknown\", E126+F126), 0),\"Not required\")","v":59244},{"$f":"IF(INTRO!$E$44=\"Endemic\", IF(AND($K126>0,$K126<5), IF($K126=4,\"Unknown\", IF($K126=1, $F126*0.33, IF($K126=2, $F126*0.5+$G126*0.2, SUM(F126:G126)))), 0),\"Not required\")","v":38149.600000000006},0,null,1,1,"T1 (PZQ+ALB/MBD)",null,"T1","T3",33161,"Vanduze",null,true,"Manica","Vanduze",0,4,3,2,true,true,true,true,null,null,null,0,null,3,2,true,null,true,true,null,null,{"$f":"'MDA1'!M126","v":0},{"$f":"'T1'!O126","v":41363},{"$f":"'T2'!M126","v":0},null,null,{"$f":"DISTRICT!H125:H126","v":0},{"$f":"DISTRICT!X126","v":41363},{"$f":"DISTRICT!AH126","v":20945},null,null,2,0,false,false,"Vanduze",true]
[{"$f":"IF(INTRO!$E$34<>0,INTRO!$E$34,\"\")","v":"Mozambique"},"Inhambane","Cid. I'bane",84842.123589063325,{"$f":"IF(INTRO!$E$48=\"\",\"\",ROUND($D127*INTRO!$E$48,0))","v":9842},{"$f":"IF(INTRO!$E$49=\"\",\"\",ROUND($D127*INTRO!$E$49,0))","v":23756},{"$f":"IF(INTRO!$E$50=\"\",\"\",ROUND($D127*INTRO!$E$50,0))","v":48784},1,4,2,1,{"$f":"IF(INTRO!$E$38=\"Endemic\", IF($H127>0, IF($H127=4,\"Unknown\", IF($H127=99,\"Stopped\", $D127)), 0),\"Not required\")","v":84842.123589063325},{"$f":"IF(INTRO!$E$40=\"Endemic\", IF($I127>0, IF($I127=4,\"Unknown\",IF($I127=99,\"Stopped\", $D127)), 0),\"Not required\")","v":"Not required"},{"$f":"IF(INTRO!$E$42=\"Endemic\", IF(AND($J127>1,$J127<5), IF($J127=4, \"Unknown\", E127+F127), 0),\"Not required\")","v":33598},{"$f":"IF(INTRO!$E$44=\"Endemic\", IF(AND($K127>0,$K127<5), IF($K127=4,\"Unknown\", IF($K127=1, $F127*0.33, IF($K127=2, $F127*0.5+$G127*0.2, SUM(F127:G127)))), 0),\"Not required\")","v":7839.4800000000005},1,null,1,1,"MDA1 (IVM+ALB)","T2 (PZQ)","MDA 1","T2",33139,"Cid. I'bane",null,true,"Inhambane","Cid. I'bane",1,4,2,1,true,true,true,true,null,null,null,1,null,2,1,true,null,true,true,null,null,{"$f":"'MDA1'!M127","v":62038},{"$f":"'T1'!O127","v":0},{"$f":"'T2'!M127","v":23138},null,null,{"$f":"DISTRICT!H126:H127","v":62038},{"$f":"DISTRICT!X127","v":23756},{"$f":"DISTRICT!AH127","v":7839.4800000000005},null,null,1,1,true,true,"Cid. I'bane",true]
[{"$f":"IF(INTRO!$E$34<>0,INTRO!$E$34,\"\")","v":"Mozambique"},"Inhambane","Funhalouro",52070.596186326089,{"$f":"IF(INTRO!$E$48=\"\",\"\",ROUND($D128*INTRO!$E$48,0))","v":6040},{"$f":"IF(INTRO!$E$49=\"\",\"\",ROUND($D128*INTRO!$E$49,0))","v":14580},{"$f":"IF(INTRO!$E$50=\"\",\"\",ROUND($D128*INTRO!$E$50,0))","v":29941},0,4,2,2,{"$f":"IF(INTRO!$E$38=\"Endemic\", IF($H128>0, IF($H128=4,\"Unknown\", IF($H128=99,\"Stopped\", $D128)), 0),\"Not required\")","v":0},{"$f":"IF(INTRO!$E$40=\"Endemic\", IF($I128>0, IF($I128=4,\"Unknown\",IF($I128=99,\"Stopped\", $D128)), 0),\"Not required\")","v":"Not required"},{"$f":"IF(INTRO!$E$42=\"Endemic\", IF(AND($J128>1,$J128<5), IF($J128=4, \"Unknown\", E128+F128), 0),\"Not required\")","v":20620},{"$f":"IF(INTRO!$E$44=\"Endemic\", IF(AND($K128>0,$K128<5), IF($K128=4,\"Unknown\", IF($K128=1, $F128*0.33, IF($K128=2, $F128*0.5+$G128*0.2, SUM(F128:G128)))), 0),\"Not required\")","v":13278.2},0,null,1,1,"T1 (PZQ+ALB/MBD)",null," ","T1",33136,"Funhalouro",null,true,"Inhambane","Funhalouro",0,4,2,2,true,true,true,true,null,null,null,0,null,2,2,true,null,true,true,null,null,{"$f":"'MDA1'!M128","v":0},{"$f":"'T1'!O128","v":15272},{"$f":"'T2'!M128","v":0},null,null,{"$f":"DISTRICT!H127:H128","v":0},{"$f":"DISTRICT!X128","v":14580},{"$f":"DISTRICT!AH128","v":7290},null,null,1,0,true,false,"Funhalouro",true]
[{"$f":"IF(INTRO!$E$34<>0,INTRO!$E$34,\"\")","v":"Mozambique"},"Inhambane","Govuro",44596.669136159937,{"$f":"IF(INTRO!$E$48=\"\",\"\",ROUND($D129*INTRO!$E$48,0))","v":5173},{"$f":"IF(INTRO!$E$49=\"\",\"\",ROUND($D129*INTRO!$E$49,0))","v":12487},{"$f":"IF(INTRO!$E$50=\"\",\"\",ROUND($D129*INTRO!$E$50,0))","v":25643},1,4,3,3,{"$f":"IF(INTRO!$E$38=\"Endemic\", IF($H129>0, IF($H129=4,\"Unknown\", IF($H129=99,\"Stopped\", $D129)), 0),\"Not required\")","v":44596.669136159937},{"$f":"IF(INTRO!$E$40=\"Endemic\", IF($I129>0, IF($I129=4,\"Unknown\",IF($I129=99,\"Stopped\", $D129)), 0),\"Not required\")","v":"Not required"},{"$f":"IF(INTRO!$E$42=\"Endemic\", IF(AND($J129>1,$J129<5), IF($J129=4, \"Unknown\", E129+F129), 0),\"Not required\")","v":17660},{"$f":"IF(INTRO!$E$44=\"Endemic\", IF(AND($K129>0,$K129<5), IF($K129=4,\"Unknown\", IF($K129=1, $F129*0.33, IF($K129=2, $F129*0.5+$G129*0.2, SUM(F129:G129)))), 0),\"Not required\")","v":38130},1,null,1,1,"MDA1 (IVM+ALB)","T2 (PZQ)","MDA 1","T1",33137,"Govuro",null,true,"Inhambane","Govuro",1,4,3,3,true,true,true,true,null,null,null,1,null,3,3,true,null,true,true,null,null,{"$f":"'MDA1'!M129","v":35846},{"$f":"'T1'!O129","v":0},{"$f":"'T2'!M129","v":11712},null,null,{"$f":"DISTRICT!H128:H129","v":35846},{"$f":"DISTRICT!X129","v":11765},{"$f":"DISTRICT!AH129","v":11712},null,null,2,1,false,true,"Govuro",true]
[{"$f":"IF(INTRO!$E$34<>0,INTRO!$E$34,\"\")","v":"Mozambique"},"Inhambane","Homoíne",135610.13472533153,{"$f":"IF(INTRO!$E$48=\"\",\"\",ROUND($D130*INTRO!$E$48,0))","v":15731},{"$f":"IF(INTRO!$E$49=\"\",\"\",ROUND($D130*INTRO!$E$49,0))","v":37971},{"$f":"IF(INTRO!$E$50=\"\",\"\",ROUND($D130*INTRO!$E$50,0))","v":77976},1,4,2,1,{"$f":"IF(INTRO!$E$38=\"Endemic\", IF($H130>0, IF($H130=4,\"Unknown\", IF($H130=99,\"Stopped\", $D130)), 0),\"Not required\")","v":135610.13472533153},{"$f":"IF(INTRO!$E$40=\"Endemic\", IF($I130>0, IF($I130=4,\"Unknown\",IF($I130=99,\"Stopped\", $D130)), 0),\"Not required\")","v":"Not required"},{"$f":"IF(INTRO!$E$42=\"Endemic\", IF(AND($J130>1,$J130<5), IF($J130=4, \"Unknown\", E130+F130), 0),\"Not required\")","v":53702},{"$f":"IF(INTRO!$E$44=\"Endemic\", IF(AND($K130>0,$K130<5), IF($K130=4,\"Unknown\", IF($K130=1, $F130*0.33, IF($K130=2, $F130*0.5+$G130*0.2, SUM(F130:G130)))), 0),\"Not required\")","v":12530.43},1,null,1,1,"MDA1 (IVM+ALB)","T2 (PZQ)","MDA 1","T2",33138,"Homoíne",null,true,"Inhambane","Homoíne",1,4,2,1,true,true,true,true,null,null,null,1,null,2,1,true,null,true,true,null,null,{"$f":"'MDA1'!M130","v":119311},{"$f":"'T1'!O130","v":0},{"$f":"'T2'!M130","v":42255},null,null,{"$f":"DISTRICT!H129:H130","v":119311},{"$f":"DISTRICT!X130","v":37971},{"$f":"DISTRICT!AH130","v":12530.43},null,null,1,1,true,true,"Homoíne",true]
[{"$f":"IF(INTRO!$E$34<>0,INTRO!$E$34,\"\")","v":"Mozambique"},"Inhambane","Inharrime",140201.58979836543,{"$f":"IF(INTRO!$E$48=\"\",\"\",ROUND($D131*INTRO!$E$48,0))","v":16263},{"$f":"IF(INTRO!$E$49=\"\",\"\",ROUND($D131*INTRO!$E$49,0))","v":39256},{"$f":"IF(INTRO!$E$50=\"\",\"\",ROUND($D131*INTRO!$E$50,0))","v":80616},0,4,1,2,{"$f":"IF(INTRO!$E$38=\"Endemic\", IF($H131>0, IF($H131=4,\"Unknown\", IF($H131=99,\"Stopped\", $D131)), 0),\"Not required\")","v":0},{"$f":"IF(INTRO!$E$40=\"Endemic\", IF($I131>0, IF($I131=4,\"Unknown\",IF($I131=99,\"Stopped\", $D131)), 0),\"Not required\")","v":"Not required"},{"$f":"IF(INTRO!$E$42=\"Endemic\", IF(AND($J131>1,$J131<5), IF($J131=4, \"Unknown\", E131+F131), 0),\"Not required\")","v":0},{"$f":"IF(INTRO!$E$44=\"Endemic\", IF(AND($K131>0,$K131<5), IF($K131=4,\"Unknown\", IF($K131=1, $F131*0.33, IF($K131=2, $F131*0.5+$G131*0.2, SUM(F131:G131)))), 0),\"Not required\")","v":35751.199999999997},0,null,0,1,"T2 (PZQ)",null," ","T2",33140,"Inharrime",null,true,"Inhambane","Inharrime",0,4,1,2,true,true,true,true,null,null,null,0,null,1,2,true,null,true,true,null,null,{"$f":"'MDA1'!M131","v":0},{"$f":"'T1'!O131","v":0},{"$f":"'T2'!M131","v":39923},null,null,{"$f":"DISTRICT!H130:H131","v":0},{"$f":"DISTRICT!X131","v":0},{"$f":"DISTRICT!AH131","v":19628},null,null,0,0,true,false,"Inharrime",true]
[{"$f":"IF(INTRO!$E$34<>0,INTRO!$E$34,\"\")","v":"Mozambique"},"Inhambane","Inhassoro",67976.488389035541,{"$f":"IF(INTRO!$E$48=\"\",\"\",ROUND($D132*INTRO!$E$48,0))","v":7885},{"$f":"IF(INTRO!$E$49=\"\",\"\",ROUND($D132*INTRO!$E$49,0))","v":19033},{"$f":"IF(INTRO!$E$50=\"\",\"\",ROUND($D132*INTRO!$E$50,0))","v":39086},1,4,3,2,{"$f":"IF(INTRO!$E$38=\"Endemic\", IF($H132>0, IF($H132=4,\"Unknown\", IF($H132=99,\"Stopped\", $D132)), 0),\"Not required\")","v":67976.488389035541},{"$f":"IF(INTRO!$E$40=\"Endemic\", IF($I132>0, IF($I132=4,\"Unknown\",IF($I132=99,\"Stopped\", $D132)), 0),\"Not required\")","v":"Not required"},{"$f":"IF(INTRO!$E$42=\"Endemic\", IF(AND($J132>1,$J132<5), IF($J132=4, \"Unknown\", E132+F132), 0),\"Not required\")","v":26918},{"$f":"IF(INTRO!$E$44=\"Endemic\", IF(AND($K132>0,$K132<5), IF($K132=4,\"Unknown\", IF($K132=1, $F132*0.33, IF($K132=2, $F132*0.5+$G132*0.2, SUM(F132:G132)))), 0),\"Not required\")","v":17333.7},1,null,1,1,"MDA1 (IVM+ALB)","T2 (PZQ)","MDA 1","T1",33141,"Inhassoro",null,true,"Inhambane","Inhassoro",1,4,3,2,true,true,true,true,null,null,null,1,null,3,2,true,null,true,true,null,null,{"$f":"'MDA1'!M132","v":53894},{"$f":"'T1'!O132","v":0},{"$f":"'T2'!M132","v":18182},null,null,{"$f":"DISTRICT!H131:H132","v":53894},{"$f":"DISTRICT!X132","v":19033},{"$f":"DISTRICT!AH132","v":9516.5},null,null,2,0,false,false,"Inhassoro",true]
[{"$f":"IF(INTRO!$E$34<>0,INTRO!$E$34,\"\")","v":"Mozambique"},"Inhambane","Jangamo",116529.40701582913,{"$f":"IF(INTRO!$E$48=\"\",\"\",ROUND($D133*INTRO!$E$48,0))","v":13517},{"$f":"IF(INTRO!$E$49=\"\",\"\",ROUND($D133*INTRO!$E$49,0))","v":32628},{"$f":"IF(INTRO!$E$50=\"\",\"\",ROUND($D133*INTRO!$E$50,0))","v":67004},1,4,1,2,{"$f":"IF(INTRO!$E$38=\"Endemic\", IF($H133>0, IF($H133=4,\"Unknown\", IF($H133=99,\"Stopped\", $D133)), 0),\"Not required\")","v":116529.40701582913},{"$f":"IF(INTRO!$E$40=\"Endemic\", IF($I133>0, IF($I133=4,\"Unknown\",IF($I133=99,\"Stopped\", $D133)), 0),\"Not required\")","v":"Not required"},{"$f":"IF(INTRO!$E$42=\"Endemic\", IF(AND($J133>1,$J133<5), IF($J133=4, \"Unknown\", E133+F133), 0),\"Not required\")","v":0},{"$f":"IF(INTRO!$E$44=\"Endemic\", IF(AND($K133>0,$K133<5), IF($K133=4,\"Unknown\", IF($K133=1, $F133*0.33, IF($K133=2, $F133*0.5+$G133*0.2, SUM(F133:G133)))), 0),\"Not required\")","v":29714.800000000003},1,null,0,1,"MDA1 (IVM+ALB)","T2 (PZQ)","MDA 1","T2",33142,"Jangamo",null,true,"Inhambane","Jangamo",1,4,1,2,true,true,true,true,null,null,null,1,null,1,2,true,null,true,true,null,null,{"$f":"'MDA1'!M133","v":96228},{"$f":"'T1'!O133","v":0},{"$f":"'T2'!M133","v":42927},null,null,{"$f":"DISTRICT!H132:H133","v":96228},{"$f":"DISTRICT!X133","v":0},{"$f":"DISTRICT!AH133","v":16314},null,null,0,0,true,false,"Jangamo",true]
[{"$f":"IF(INTRO!$E$34<>0,INTRO!$E$34,\"\")","v":"Mozambique"},"Inhambane","Mabote",54703.57047240375,{"$f":"IF(INTRO!$E$48=\"\",\"\",ROUND($D134*INTRO!$E$48,0))","v":6346},{"$f":"IF(INTRO!$E$49=\"\",\"\",ROUND($D134*INTRO!$E$49,0))","v":15317},{"$f":"IF(INTRO!$E$50=\"\",\"\",ROUND($D134*INTRO!$E$50,0))","v":31455},1,4,2,2,{"$f":"IF(INTRO!$E$38=\"Endemic\", IF($H134>0, IF($H134=4,\"Unknown\", IF($H134=99,\"Stopped\", $D134)), 0),\"Not required\")","v":54703.57047240375},{"$f":"IF(INTRO!$E$40=\"Endemic\", IF($I134>0, IF($I134=4,\"Unknown\",IF($I134=99,\"Stopped\", $D134)), 0),\"Not required\")","v":"Not required"},{"$f":"IF(INTRO!$E$42=\"Endemic\", IF(AND($J134>1,$J134<5), IF($J134=4, \"Unknown\", E134+F134), 0),\"Not required\")","v":21663},{"$f":"IF(INTRO!$E$44=\"Endemic\", IF(AND($K134>0,$K134<5), IF($K134=4,\"Unknown\", IF($K134=1, $F134*0.33, IF($K134=2, $F134*0.5+$G134*0.2, SUM(F134:G134)))), 0),\"Not required\")","v":13949.5},1,null,1,1,"MDA1 (IVM+ALB)","T2 (PZQ)","MDA 1","T2",33143,"Mabote",null,true,"Inhambane","Mabote",1,4,2,2,true,true,true,true,null,null,null,1,null,2,2,true,null,true,true,null,null,{"$f":"'MDA1'!M134","v":53074},{"$f":"'T1'!O134","v":0},{"$f":"'T2'!M134","v":21465},null,null,{"$f":"DISTRICT!H133:H134","v":53074},{"$f":"DISTRICT!X134","v":15317},{"$f":"DISTRICT!AH134","v":7658.5},null,null,1,0,true,false,"Mabote",true]
[{"$f":"IF(INTRO!$E$34<>0,INTRO!$E$34,\"\")","v":"Mozambique"},"Inhambane","Massinga",209467.78962076415,{"$f":"IF(INTRO!$E$48=\"\",\"\",ROUND($D135*INTRO!$E$48,0))","v":24298},{"$f":"IF(INTRO!$E$49=\"\",\"\",ROUND($D135*INTRO!$E$49,0))","v":58651},{"$f":"IF(INTRO!$E$50=\"\",\"\",ROUND($D135*INTRO!$E$50,0))","v":120444},1,4,3,2,{"$f":"IF(INTRO!$E$38=\"Endemic\", IF($H135>0, IF($H135=4,\"Unknown\", IF($H135=99,\"Stopped\", $D135)), 0),\"Not required\")","v":209467.78962076415},{"$f":"IF(INTRO!$E$40=\"Endemic\", IF($I135>0, IF($I135=4,\"Unknown\",IF($I135=99,\"Stopped\", $D135)), 0),\"Not required\")","v":"Not required"},{"$f":"IF(INTRO!$E$42=\"Endemic\", IF(AND($J135>1,$J135<5), IF($J135=4, \"Unknown\", E135+F135), 0),\"Not required\")","v":82949},{"$f":"IF(INTRO!$E$44=\"Endemic\", IF(AND($K135>0,$K135<5), IF($K135=4,\"Unknown\", IF($K135=1, $F135*0.33, IF($K135=2, $F135*0.5+$G135*0.2, SUM(F135:G135)))), 0),\"Not required\")","v":53414.3},1,null,1,1,"MDA1 (IVM+ALB)","T2 (PZQ)","MDA 1","T1",33144,"Massinga",null,true,"Inhambane","Massinga",1,4,3,2,true,true,true,true,null,null,null,1,null,3,2,true,null,true,true,null,null,{"$f":"'MDA1'!M135","v":180483},{"$f":"'T1'!O135","v":0},{"$f":"'T2'!M135","v":57253},null,null,{"$f":"DISTRICT!H134:H135","v":180483},{"$f":"DISTRICT!X135","v":58651},{"$f":"DISTRICT!AH135","v":29325.5},null,null,2,0,false,false,"Massinga",true]
[{"$f":"IF(INTRO!$E$34<>0,INTRO!$E$34,\"\")","v":"Mozambique"},"Inhambane","Maxixe",136685.64806726345,{"$f":"IF(INTRO!$E$48=\"\",\"\",ROUND($D136*INTRO!$E$48,0))","v":15856},{"$f":"IF(INTRO!$E$49=\"\",\"\",ROUND($D136*INTRO!$E$49,0))","v":38272},{"$f":"IF(INTRO!$E$50=\"\",\"\",ROUND($D136*INTRO!$E$50,0))","v":78594},1,4,1,2,{"$f":"IF(INTRO!$E$38=\"Endemic\", IF($H136>0, IF($H136=4,\"Unknown\", IF($H136=99,\"Stopped\", $D136)), 0),\"Not required\")","v":136685.64806726345},{"$f":"IF(INTRO!$E$40=\"Endemic\", IF($I136>0, IF($I136=4,\"Unknown\",IF($I136=99,\"Stopped\", $D136)), 0),\"Not required\")","v":"Not required"},{"$f":"IF(INTRO!$E$42=\"Endemic\", IF(AND($J136>1,$J136<5), IF($J136=4, \"Unknown\", E136+F136), 0),\"Not required\")","v":0},{"$f":"IF(INTRO!$E$44=\"Endemic\", IF(AND($K136>0,$K136<5), IF($K136=4,\"Unknown\", IF($K136=1, $F136*0.33, IF($K136=2, $F136*0.5+$G136*0.2, SUM(F136:G136)))), 0),\"Not required\")","v":34854.800000000003},1,null,0,1,"MDA1 (IVM+ALB)","T2 (PZQ)","MDA 1","T2",33145,"Maxixe",null,true,"Inhambane","Maxixe",1,4,1,2,true,true,true,true,null,null,null,1,null,1,2,true,null,true,true,null,null,{"$f":"'MDA1'!M136","v":142044},{"$f":"'T1'!O136","v":0},{"$f":"'T2'!M136","v":57329},null,null,{"$f":"DISTRICT!H135:H136","v":136685.64806726345},{"$f":"DISTRICT!X136","v":0},{"$f":"DISTRICT!AH136","v":19136},null,null,0,0,true,false,"Maxixe",true]
[{"$f":"IF(INTRO!$E$34<>0,INTRO!$E$34,\"\")","v":"Mozambique"},"Inhambane","Morrumbene",157307.89382282901,{"$f":"IF(INTRO!$E$48=\"\",\"\",ROUND($D137*INTRO!$E$48,0))","v":18248},{"$f":"IF(INTRO!$E$49=\"\",\"\",ROUND($D137*INTRO!$E$49,0))","v":44046},{"$f":"IF(INTRO!$E$50=\"\",\"\",ROUND($D137*INTRO!$E$50,0))","v":90452},1,4,1,1,{"$f":"IF(INTRO!$E$38=\"Endemic\", IF($H137>0, IF($H137=4,\"Unknown\", IF($H137=99,\"Stopped\", $D137)), 0),\"Not required\")","v":157307.89382282901},{"$f":"IF(INTRO!$E$40=\"Endemic\", IF($I137>0, IF($I137=4,\"Unknown\",IF($I137=99,\"Stopped\", $D137)), 0),\"Not required\")","v":"Not required"},{"$f":"IF(INTRO!$E$42=\"Endemic\", IF(AND($J137>1,$J137<5), IF($J137=4, \"Unknown\", E137+F137), 0),\"Not required\")","v":0},{"$f":"IF(INTRO!$E$44=\"Endemic\", IF(AND($K137>0,$K137<5), IF($K137=4,\"Unknown\", IF($K137=1, $F137*0.33, IF($K137=2, $F137*0.5+$G137*0.2, SUM(F137:G137)))), 0),\"Not required\")","v":14535.18},1,null,0,0,"MDA1 (IVM+ALB)",null,"MDA 1","T2",33146,"Morrumbene",null,true,"Inhambane","Morrumbene",1,4,1,1,true,true,true,true,null,null,null,1,null,1,1,true,null,true,true,null,null,{"$f":"'MDA1'!M137","v":140611},{"$f":"'T1'!O137","v":0},{"$f":"'T2'!M137","v":0},null,null,{"$f":"DISTRICT!H136:H137","v":140611},{"$f":"DISTRICT!X137","v":0},{"$f":"DISTRICT!AH137","v":0},null,null,0,1,true,false,"Morrumbene",true]
[{"$f":"IF(INTRO!$E$34<>0,INTRO!$E$34,\"\")","v":"Mozambique"},"Inhambane","Panda",53731.984515104843,{"$f":"IF(INTRO!$E$48=\"\",\"\",ROUND($D138*INTRO!$E$48,0))","v":6233},{"$f":"IF(INTRO!$E$49=\"\",\"\",ROUND($D138*INTRO!$E$49,0))","v":15045},{"$f":"IF(INTRO!$E$50=\"\",\"\",ROUND($D138*INTRO!$E$50,0))","v":30896},0,4,1,2,{"$f":"IF(INTRO!$E$38=\"Endemic\", IF($H138>0, IF($H138=4,\"Unknown\", IF($H138=99,\"Stopped\", $D138)), 0),\"Not required\")","v":0},{"$f":"IF(INTRO!$E$40=\"Endemic\", IF($I138>0, IF($I138=4,\"Unknown\",IF($I138=99,\"Stopped\", $D138)), 0),\"Not required\")","v":"Not required"},{"$f":"IF(INTRO!$E$42=\"Endemic\", IF(AND($J138>1,$J138<5), IF($J138=4, \"Unknown\", E138+F138), 0),\"Not required\")","v":0},{"$f":"IF(INTRO!$E$44=\"Endemic\", IF(AND($K138>0,$K138<5), IF($K138=4,\"Unknown\", IF($K138=1, $F138*0.33, IF($K138=2, $F138*0.5+$G138*0.2, SUM(F138:G138)))), 0),\"Not required\")","v":13701.7},0,null,0,1,"T2 (PZQ)",null," ","T2",33147,"Panda",null,{"$f":"AC138=C138","v":true},"Inhambane","Panda",0,4,1,2,{"$f":"AD138=H138","v":true},{"$f":"AE138=I138","v":true},{"$f":"AF138=J138","v":true},{"$f":"AG138=K138","v":true},null,null,null,0,null,1,2,{"$f":"AO138=H138","v":true},null,true,true,null,null,{"$f":"'MDA1'!M138","v":0},{"$f":"'T1'!O138","v":0},{"$f":"'T2'!M138","v":14179},null,null,{"$f":"DISTRICT!H137:H138","v":0},{"$f":"DISTRICT!X138","v":0},{"$f":"DISTRICT!AH138","v":7522.5},null,null,0,0,{"$f":"BI138=R138","v":true},{"$f":"BJ138=S138","v":false},"Panda",{"$f":"BM138=C138","v":true}]
[{"$f":"IF(INTRO!$E$34<>0,INTRO!$E$34,\"\")","v":"Mozambique"},"Inhambane","Vilanculos",176050.41528661601,{"$f":"IF(INTRO!$E$48=\"\",\"\",ROUND($D139*INTRO!$E$48,0))","v":20422},{"$f":"IF(INTRO!$E$49=\"\",\"\",ROUND($D139*INTRO!$E$49,0))","v":49294},{"$f":"IF(INTRO!$E$50=\"\",\"\",ROUND($D139*INTRO!$E$50,0))","v":101229},1,4,2,2,{"$f":"IF(INTRO!$E$38=\"Endemic\", IF($H139>0, IF($H139=4,\"Unknown\", IF($H139=99,\"Stopped\", $D139)), 0),\"Not required\")","v":176050.41528661601},{"$f":"IF(INTRO!$E$40=\"Endemic\", IF($I139>0, IF($I139=4,\"Unknown\",IF($I139=99,\"Stopped\", $D139)), 0),\"Not required\")","v":"Not required"},{"$f":"IF(INTRO!$E$42=\"Endemic\", IF(AND($J139>1,$J139<5), IF($J139=4, \"Unknown\", E139+F139), 0),\"Not required\")","v":69716},{"$f":"IF(INTRO!$E$44=\"Endemic\", IF(AND($K139>0,$K139<5), IF($K139=4,\"Unknown\", IF($K139=1, $F139*0.33, IF($K139=2, $F139*0.5+$G139*0.2, SUM(F139:G139)))), 0),\"Not required\")","v":44892.800000000003},1,null,1,1,"MDA1 (IVM+ALB)","T2 (PZQ)","MDA 1","T2",33148,"Vilanculos",null,true,"Inhambane","Vilanculos",1,4,2,2,true,true,true,true,null,null,null,1,null,2,2,true,null,true,true,null,null,{"$f":"'MDA1'!M139","v":138739},{"$f":"'T1'!O139","v":0},{"$f":"'T2'!M139","v":85347},null,null,{"$f":"DISTRICT!H138:H139","v":138739},{"$f":"DISTRICT!X139","v":49294},{"$f":"DISTRICT!AH139","v":24647},null,null,1,0,true,false,"Vilanculos",true]
[{"$f":"IF(INTRO!$E$34<>0,INTRO!$E$34,\"\")","v":"Mozambique"},"Inhambane","Zavala",167597.6893749079,{"$f":"IF(INTRO!$E$48=\"\",\"\",ROUND($D140*INTRO!$E$48,0))","v":19441},{"$f":"IF(INTRO!$E$49=\"\",\"\",ROUND($D140*INTRO!$E$49,0))","v":46927},{"$f":"IF(INTRO!$E$50=\"\",\"\",ROUND($D140*INTRO!$E$50,0))","v":96369},0,4,3,1,{"$f":"IF(INTRO!$E$38=\"Endemic\", IF($H140>0, IF($H140=4,\"Unknown\", IF($H140=99,\"Stopped\", $D140)), 0),\"Not required\")","v":0},{"$f":"IF(INTRO!$E$40=\"Endemic\", IF($I140>0, IF($I140=4,\"Unknown\",IF($I140=99,\"Stopped\", $D140)), 0),\"Not required\")","v":"Not required"},{"$f":"IF(INTRO!$E$42=\"Endemic\", IF(AND($J140>1,$J140<5), IF($J140=4, \"Unknown\", E140+F140), 0),\"Not required\")","v":66368},{"$f":"IF(INTRO!$E$44=\"Endemic\", IF(AND($K140>0,$K140<5), IF($K140=4,\"Unknown\", IF($K140=1, $F140*0.33, IF($K140=2, $F140*0.5+$G140*0.2, SUM(F140:G140)))), 0),\"Not required\")","v":15485.91},0,null,1,1,"T1 (PZQ+ALB/MBD)",null,"T1","T3",33149,"Zavala",null,true,"Inhambane","Zavala",0,4,3,1,true,true,true,true,null,null,null,0,null,3,1,true,null,true,true,null,null,{"$f":"'MDA1'!M140","v":0},{"$f":"'T1'!O140","v":46711},{"$f":"'T2'!M140","v":0},null,null,{"$f":"DISTRICT!H139:H140","v":0},{"$f":"DISTRICT!X140","v":46711},{"$f":"DISTRICT!AH140","v":15485.91},null,null,2,1,false,true,"Zavala",true]
[{"$f":"IF(INTRO!$E$34<>0,INTRO!$E$34,\"\")","v":"Mozambique"},"Gaza","Cid Xai Xai",151847.11064635491,{"$f":"IF(INTRO!$E$48=\"\",\"\",ROUND($D141*INTRO!$E$48,0))","v":17614},{"$f":"IF(INTRO!$E$49=\"\",\"\",ROUND($D141*INTRO!$E$49,0))","v":42517},{"$f":"IF(INTRO!$E$50=\"\",\"\",ROUND($D141*INTRO!$E$50,0))","v":87312},0,4,2,1,{"$f":"IF(INTRO!$E$38=\"Endemic\", IF($H141>0, IF($H141=4,\"Unknown\", IF($H141=99,\"Stopped\", $D141)), 0),\"Not required\")","v":0},{"$f":"IF(INTRO!$E$40=\"Endemic\", IF($I141>0, IF($I141=4,\"Unknown\",IF($I141=99,\"Stopped\", $D141)), 0),\"Not required\")","v":"Not required"},{"$f":"IF(INTRO!$E$42=\"Endemic\", IF(AND($J141>1,$J141<5), IF($J141=4, \"Unknown\", E141+F141), 0),\"Not required\")","v":60131},{"$f":"IF(INTRO!$E$44=\"Endemic\", IF(AND($K141>0,$K141<5), IF($K141=4,\"Unknown\", IF($K141=1, $F141*0.33, IF($K141=2, $F141*0.5+$G141*0.2, SUM(F141:G141)))), 0),\"Not required\")","v":14030.61},0,null,1,1,"T1 (PZQ+ALB/MBD)",null," ","T1",33128,"Cid Xai Xai",null,true,"Gaza","Cid Xai Xai",0,4,2,1,true,true,true,true,null,null,null,0,null,2,1,true,null,true,true,null,null,{"$f":"'MDA1'!M141","v":0},{"$f":"'T1'!O141","v":42345},{"$f":"'T2'!M141","v":0},null,null,{"$f":"DISTRICT!H140:H141","v":0},{"$f":"DISTRICT!X141","v":42345},{"$f":"DISTRICT!AH141","v":14030.61},null,null,1,1,true,true,"Cid Xai Xai",true]
[{"$f":"IF(INTRO!$E$34<>0,INTRO!$E$34,\"\")","v":"Mozambique"},"Gaza","Bilene Macia",159725.48974520239,{"$f":"IF(INTRO!$E$48=\"\",\"\",ROUND($D142*INTRO!$E$48,0))","v":18528},{"$f":"IF(INTRO!$E$49=\"\",\"\",ROUND($D142*INTRO!$E$49,0))","v":44723},{"$f":"IF(INTRO!$E$50=\"\",\"\",ROUND($D142*INTRO!$E$50,0))","v":91842},0,0,3,2,{"$f":"IF(INTRO!$E$38=\"Endemic\", IF($H142>0, IF($H142=4,\"Unknown\", IF($H142=99,\"Stopped\", $D142)), 0),\"Not required\")","v":0},{"$f":"IF(INTRO!$E$40=\"Endemic\", IF($I142>0, IF($I142=4,\"Unknown\",IF($I142=99,\"Stopped\", $D142)), 0),\"Not required\")","v":"Not required"},{"$f":"IF(INTRO!$E$42=\"Endemic\", IF(AND($J142>1,$J142<5), IF($J142=4, \"Unknown\", E142+F142), 0),\"Not required\")","v":63251},{"$f":"IF(INTRO!$E$44=\"Endemic\", IF(AND($K142>0,$K142<5), IF($K142=4,\"Unknown\", IF($K142=1, $F142*0.33, IF($K142=2, $F142*0.5+$G142*0.2, SUM(F142:G142)))), 0),\"Not required\")","v":40729.9},0,null,1,1,"T1 (PZQ+ALB/MBD)",null,"T1","T3",33131,"Bilene Macia",null,true,"Gaza","Bilene Macia",0,0,3,2,true,true,true,true,null,null,null,0,null,3,2,true,null,true,true,null,null,{"$f":"'MDA1'!M142","v":0},{"$f":"'T1'!O142","v":42613},{"$f":"'T2'!M142","v":0},null,null,{"$f":"DISTRICT!H141:H142","v":0},{"$f":"DISTRICT!X142","v":42613},{"$f":"DISTRICT!AH142","v":22361.5},null,null,2,0,false,false,"Bilene Macia",true]
[{"$f":"IF(INTRO!$E$34<>0,INTRO!$E$34,\"\")","v":"Mozambique"},"Gaza","Chibuto",234441.72007316194,{"$f":"IF(INTRO!$E$48=\"\",\"\",ROUND($D143*INTRO!$E$48,0))","v":27195},{"$f":"IF(INTRO!$E$49=\"\",\"\",ROUND($D143*INTRO!$E$49,0))","v":65644},{"$f":"IF(INTRO!$E$50=\"\",\"\",ROUND($D143*INTRO!$E$50,0))","v":134804},0,0,2,2,{"$f":"IF(INTRO!$E$38=\"Endemic\", IF($H143>0, IF($H143=4,\"Unknown\", IF($H143=99,\"Stopped\", $D143)), 0),\"Not required\")","v":0},{"$f":"IF(INTRO!$E$40=\"Endemic\", IF($I143>0, IF($I143=4,\"Unknown\",IF($I143=99,\"Stopped\", $D143)), 0),\"Not required\")","v":"Not required"},{"$f":"IF(INTRO!$E$42=\"Endemic\", IF(AND($J143>1,$J143<5), IF($J143=4, \"Unknown\", E143+F143), 0),\"Not required\")","v":92839},{"$f":"IF(INTRO!$E$44=\"Endemic\", IF(AND($K143>0,$K143<5), IF($K143=4,\"Unknown\", IF($K143=1, $F143*0.33, IF($K143=2, $F143*0.5+$G143*0.2, SUM(F143:G143)))), 0),\"Not required\")","v":59782.8},0,null,1,1,"T1 (PZQ+ALB/MBD)",null," ","T1",33124,"Chibuto",null,true,"Gaza","Chibuto",0,0,2,2,true,true,true,true,null,null,null,0,null,2,2,true,null,true,true,null,null,{"$f":"'MDA1'!M143","v":0},{"$f":"'T1'!O143","v":59262},{"$f":"'T2'!M143","v":0},null,null,{"$f":"DISTRICT!H142:H143","v":0},{"$f":"DISTRICT!X143","v":59262},{"$f":"DISTRICT!AH143","v":32822},null,null,1,0,true,false,"Chibuto",true]
[{"$f":"IF(INTRO!$E$34<>0,INTRO!$E$34,\"\")","v":"Mozambique"},"Gaza","Chicualacuala",29128.572116611158,{"$f":"IF(INTRO!$E$48=\"\",\"\",ROUND($D144*INTRO!$E$48,0))","v":3379},{"$f":"IF(INTRO!$E$49=\"\",\"\",ROUND($D144*INTRO!$E$49,0))","v":8156},{"$f":"IF(INTRO!$E$50=\"\",\"\",ROUND($D144*INTRO!$E$50,0))","v":16749},1,0,3,2,{"$f":"IF(INTRO!$E$38=\"Endemic\", IF($H144>0, IF($H144=4,\"Unknown\", IF($H144=99,\"Stopped\", $D144)), 0),\"Not required\")","v":29128.572116611158},{"$f":"IF(INTRO!$E$40=\"Endemic\", IF($I144>0, IF($I144=4,\"Unknown\",IF($I144=99,\"Stopped\", $D144)), 0),\"Not required\")","v":"Not required"},{"$f":"IF(INTRO!$E$42=\"Endemic\", IF(AND($J144>1,$J144<5), IF($J144=4, \"Unknown\", E144+F144), 0),\"Not required\")","v":11535},{"$f":"IF(INTRO!$E$44=\"Endemic\", IF(AND($K144>0,$K144<5), IF($K144=4,\"Unknown\", IF($K144=1, $F144*0.33, IF($K144=2, $F144*0.5+$G144*0.2, SUM(F144:G144)))), 0),\"Not required\")","v":7427.8},1,null,1,1,"MDA1 (IVM+ALB)","T2 (PZQ)","MDA 1","T1",33125,"Chicualacuala",null,true,"Gaza","Chicualacuala",1,0,3,2,true,true,true,true,null,null,null,1,null,3,2,true,null,true,true,null,null,{"$f":"'MDA1'!M144","v":22031},{"$f":"'T1'!O144","v":0},{"$f":"'T2'!M144","v":7936},null,null,{"$f":"DISTRICT!H143:H144","v":22031},{"$f":"DISTRICT!X144","v":7919},{"$f":"DISTRICT!AH144","v":4078},null,null,2,0,false,false,"Chicualacuala",true]
[{"$f":"IF(INTRO!$E$34<>0,INTRO!$E$34,\"\")","v":"Mozambique"},"Gaza","Chigubo",24663.167103542379,{"$f":"IF(INTRO!$E$48=\"\",\"\",ROUND($D145*INTRO!$E$48,0))","v":2861},{"$f":"IF(INTRO!$E$49=\"\",\"\",ROUND($D145*INTRO!$E$49,0))","v":6906},{"$f":"IF(INTRO!$E$50=\"\",\"\",ROUND($D145*INTRO!$E$50,0))","v":14181},0,0,2,2,{"$f":"IF(INTRO!$E$38=\"Endemic\", IF($H145>0, IF($H145=4,\"Unknown\", IF($H145=99,\"Stopped\", $D145)), 0),\"Not required\")","v":0},{"$f":"IF(INTRO!$E$40=\"Endemic\", IF($I145>0, IF($I145=4,\"Unknown\",IF($I145=99,\"Stopped\", $D145)), 0),\"Not required\")","v":"Not required"},{"$f":"IF(INTRO!$E$42=\"Endemic\", IF(AND($J145>1,$J145<5), IF($J145=4, \"Unknown\", E145+F145), 0),\"Not required\")","v":9767},{"$f":"IF(INTRO!$E$44=\"Endemic\", IF(AND($K145>0,$K145<5), IF($K145=4,\"Unknown\", IF($K145=1, $F145*0.33, IF($K145=2, $F145*0.5+$G145*0.2, SUM(F145:G145)))), 0),\"Not required\")","v":6289.2000000000007},0,null,1,1,"T1 (PZQ+ALB/MBD)",null," ","T1",33126,"Chigubo",null,true,"Gaza","Chigubo",0,0,2,2,true,true,true,true,null,null,null,0,null,2,2,true,null,true,true,null,null,{"$f":"'MDA1'!M145","v":0},{"$f":"'T1'!O145","v":6264},{"$f":"'T2'!M145","v":0},null,null,{"$f":"DISTRICT!H144:H145","v":0},{"$f":"DISTRICT!X145","v":6264},{"$f":"DISTRICT!AH145","v":3453},null,null,1,0,true,false,"Chigubo",true]
[{"$f":"IF(INTRO!$E$34<>0,INTRO!$E$34,\"\")","v":"Mozambique"},"Gaza","Chokwé",254879.24969344155,{"$f":"IF(INTRO!$E$48=\"\",\"\",ROUND($D146*INTRO!$E$48,0))","v":29566},{"$f":"IF(INTRO!$E$49=\"\",\"\",ROUND($D146*INTRO!$E$49,0))","v":71366},{"$f":"IF(INTRO!$E$50=\"\",\"\",ROUND($D146*INTRO!$E$50,0))","v":146556},0,0,2,2,{"$f":"IF(INTRO!$E$38=\"Endemic\", IF($H146>0, IF($H146=4,\"Unknown\", IF($H146=99,\"Stopped\", $D146)), 0),\"Not required\")","v":0},{"$f":"IF(INTRO!$E$40=\"Endemic\", IF($I146>0, IF($I146=4,\"Unknown\",IF($I146=99,\"Stopped\", $D146)), 0),\"Not required\")","v":"Not required"},{"$f":"IF(INTRO!$E$42=\"Endemic\", IF(AND($J146>1,$J146<5), IF($J146=4, \"Unknown\", E146+F146), 0),\"Not required\")","v":100932},{"$f":"IF(INTRO!$E$44=\"Endemic\", IF(AND($K146>0,$K146<5), IF($K146=4,\"Unknown\", IF($K146=1, $F146*0.33, IF($K146=2, $F146*0.5+$G146*0.2, SUM(F146:G146)))), 0),\"Not required\")","v":64994.2},0,null,1,1,"T1 (PZQ+ALB/MBD)",null," ","T1",33127,"Chokwé",null,true,"Gaza","Chokwé",0,0,2,2,true,true,true,true,null,null,null,0,null,2,2,true,null,true,true,null,null,{"$f":"'MDA1'!M146","v":0},{"$f":"'T1'!O146","v":57027},{"$f":"'T2'!M146","v":0},null,null,{"$f":"DISTRICT!H145:H146","v":0},{"$f":"DISTRICT!X146","v":57027},{"$f":"DISTRICT!AH146","v":35683},null,null,1,0,true,false,"Chokwé",true]
[{"$f":"IF(INTRO!$E$34<>0,INTRO!$E$34,\"\")","v":"Mozambique"},"Gaza","Chongoene",128896,{"$f":"IF(INTRO!$E$48=\"\",\"\",ROUND($D147*INTRO!$E$48,0))","v":14952},{"$f":"IF(INTRO!$E$49=\"\",\"\",ROUND($D147*INTRO!$E$49,0))","v":36091},{"$f":"IF(INTRO!$E$50=\"\",\"\",ROUND($D147*INTRO!$E$50,0))","v":74115},0,0,2,1,{"$f":"IF(INTRO!$E$38=\"Endemic\", IF($H147>0, IF($H147=4,\"Unknown\", IF($H147=99,\"Stopped\", $D147)), 0),\"Not required\")","v":0},{"$f":"IF(INTRO!$E$40=\"Endemic\", IF($I147>0, IF($I147=4,\"Unknown\",IF($I147=99,\"Stopped\", $D147)), 0),\"Not required\")","v":"Not required"},{"$f":"IF(INTRO!$E$42=\"Endemic\", IF(AND($J147>1,$J147<5), IF($J147=4, \"Unknown\", E147+F147), 0),\"Not required\")","v":51043},{"$f":"IF(INTRO!$E$44=\"Endemic\", IF(AND($K147>0,$K147<5), IF($K147=4,\"Unknown\", IF($K147=1, $F147*0.33, IF($K147=2, $F147*0.5+$G147*0.2, SUM(F147:G147)))), 0),\"Not required\")","v":11910.03},0,null,1,1,"T1 (PZQ+ALB/MBD)",null," ","T1",33260,"Chongoene (Distrito de Xai Xai",null,false,"Gaza","Chongoene (Distrito de Xai Xai",0,0,2,1,true,true,true,true,null,null,null,0,null,2,1,true,null,true,true,null,null,{"$f":"'MDA1'!M147","v":0},{"$f":"'T1'!O147","v":33961},{"$f":"'T2'!M147","v":0},null,null,{"$f":"DISTRICT!H146:H147","v":0},{"$f":"DISTRICT!X147","v":33961},{"$f":"DISTRICT!AH147","v":11910.03},null,null,1,1,true,true,"Chongoene (Distrito de Xai Xai",false]
[{"$f":"IF(INTRO!$E$34<>0,INTRO!$E$34,\"\")","v":"Mozambique"},"Gaza","Guijá",99650,{"$f":"IF(INTRO!$E$48=\"\",\"\",ROUND($D148*INTRO!$E$48,0))","v":11559},{"$f":"IF(INTRO!$E$49=\"\",\"\",ROUND($D148*INTRO!$E$49,0))","v":27902},{"$f":"IF(INTRO!$E$50=\"\",\"\",ROUND($D148*INTRO!$E$50,0))","v":57299},0,0,2,2,{"$f":"IF(INTRO!$E$38=\"Endemic\", IF($H148>0, IF($H148=4,\"Unknown\", IF($H148=99,\"Stopped\", $D148)), 0),\"Not required\")","v":0},{"$f":"IF(INTRO!$E$40=\"Endemic\", IF($I148>0, IF($I148=4,\"Unknown\",IF($I148=99,\"Stopped\", $D148)), 0),\"Not required\")","v":"Not required"},{"$f":"IF(INTRO!$E$42=\"Endemic\", IF(AND($J148>1,$J148<5), IF($J148=4, \"Unknown\", E148+F148), 0),\"Not required\")","v":39461},{"$f":"IF(INTRO!$E$44=\"Endemic\", IF(AND($K148>0,$K148<5), IF($K148=4,\"Unknown\", IF($K148=1, $F148*0.33, IF($K148=2, $F148*0.5+$G148*0.2, SUM(F148:G148)))), 0),\"Not required\")","v":25410.800000000003},0,null,1,1,"T1 (PZQ+ALB/MBD)",null," ","T1",33129,"Guijá",null,true,"Gaza","Guijá",0,0,2,2,true,true,true,true,null,null,null,0,null,2,2,true,null,true,true,null,null,{"$f":"'MDA1'!M148","v":0},{"$f":"'T1'!O148","v":27499},{"$f":"'T2'!M148","v":0},null,null,{"$f":"DISTRICT!H147:H148","v":0},{"$f":"DISTRICT!X148","v":27499},{"$f":"DISTRICT!AH148","v":13951},null,null,1,0,true,false,"Guijá",true]
[{"$f":"IF(INTRO!$E$34<>0,INTRO!$E$34,\"\")","v":"Mozambique"},"Gaza","Limpopo",161316,{"$f":"IF(INTRO!$E$48=\"\",\"\",ROUND($D149*INTRO!$E$48,0))","v":18713},{"$f":"IF(INTRO!$E$49=\"\",\"\",ROUND($D149*INTRO!$E$49,0))","v":45168},{"$f":"IF(INTRO!$E$50=\"\",\"\",ROUND($D149*INTRO!$E$50,0))","v":92757},0,0,2,1,{"$f":"IF(INTRO!$E$38=\"Endemic\", IF($H149>0, IF($H149=4,\"Unknown\", IF($H149=99,\"Stopped\", $D149)), 0),\"Not required\")","v":0},{"$f":"IF(INTRO!$E$40=\"Endemic\", IF($I149>0, IF($I149=4,\"Unknown\",IF($I149=99,\"Stopped\", $D149)), 0),\"Not required\")","v":"Not required"},{"$f":"IF(INTRO!$E$42=\"Endemic\", IF(AND($J149>1,$J149<5), IF($J149=4, \"Unknown\", E149+F149), 0),\"Not required\")","v":63881},{"$f":"IF(INTRO!$E$44=\"Endemic\", IF(AND($K149>0,$K149<5), IF($K149=4,\"Unknown\", IF($K149=1, $F149*0.33, IF($K149=2, $F149*0.5+$G149*0.2, SUM(F149:G149)))), 0),\"Not required\")","v":14905.44},0,null,1,1,"T1 (PZQ+ALB/MBD)",null," ","T1",33261,"Limpopo (Distrito de Xai Xai)",null,false,"Gaza","Limpopo (Distrito de Xai Xai)",0,0,2,1,true,true,true,true,null,null,null,0,null,2,1,true,null,true,true,null,null,{"$f":"'MDA1'!M149","v":0},{"$f":"'T1'!O149","v":39484},{"$f":"'T2'!M149","v":0},null,null,{"$f":"DISTRICT!H148:H149","v":0},{"$f":"DISTRICT!X149","v":39484},{"$f":"DISTRICT!AH149","v":14905.44},null,null,1,1,true,true,"Limpopo (Distrito de Xai Xai)",false]
[{"$f":"IF(INTRO!$E$34<>0,INTRO!$E$34,\"\")","v":"Mozambique"},"Gaza","Mabalane",46556,{"$f":"IF(INTRO!$E$48=\"\",\"\",ROUND($D150*INTRO!$E$48,0))","v":5400},{"$f":"IF(INTRO!$E$49=\"\",\"\",ROUND($D150*INTRO!$E$49,0))","v":13036},{"$f":"IF(INTRO!$E$50=\"\",\"\",ROUND($D150*INTRO!$E$50,0))","v":26770},1,0,3,2,{"$f":"IF(INTRO!$E$38=\"Endemic\", IF($H150>0, IF($H150=4,\"Unknown\", IF($H150=99,\"Stopped\", $D150)), 0),\"Not required\")","v":46556},{"$f":"IF(INTRO!$E$40=\"Endemic\", IF($I150>0, IF($I150=4,\"Unknown\",IF($I150=99,\"Stopped\", $D150)), 0),\"Not required\")","v":"Not required"},{"$f":"IF(INTRO!$E$42=\"Endemic\", IF(AND($J150>1,$J150<5), IF($J150=4, \"Unknown\", E150+F150), 0),\"Not required\")","v":18436},{"$f":"IF(INTRO!$E$44=\"Endemic\", IF(AND($K150>0,$K150<5), IF($K150=4,\"Unknown\", IF($K150=1, $F150*0.33, IF($K150=2, $F150*0.5+$G150*0.2, SUM(F150:G150)))), 0),\"Not required\")","v":11872},1,null,1,1,"MDA1 (IVM+ALB)","T2 (PZQ)","MDA 1","T1",33130,"Mabalane",null,true,"Gaza","Mabalane",1,0,3,2,true,true,true,true,null,null,null,1,null,3,2,true,null,true,true,null,null,{"$f":"'MDA1'!M150","v":38088},{"$f":"'T1'!O150","v":0},{"$f":"'T2'!M150","v":13085},null,null,{"$f":"DISTRICT!H149:H150","v":38088},{"$f":"DISTRICT!X150","v":13036},{"$f":"DISTRICT!AH150","v":6518},null,null,1,0,true,false,"Mabalane",true]
[{"$f":"IF(INTRO!$E$34<>0,INTRO!$E$34,\"\")","v":"Mozambique"},"Gaza","Manjacaze",149152,{"$f":"IF(INTRO!$E$48=\"\",\"\",ROUND($D151*INTRO!$E$48,0))","v":17302},{"$f":"IF(INTRO!$E$49=\"\",\"\",ROUND($D151*INTRO!$E$49,0))","v":41763},{"$f":"IF(INTRO!$E$50=\"\",\"\",ROUND($D151*INTRO!$E$50,0))","v":85762},0,4,2,2,{"$f":"IF(INTRO!$E$38=\"Endemic\", IF($H151>0, IF($H151=4,\"Unknown\", IF($H151=99,\"Stopped\", $D151)), 0),\"Not required\")","v":0},{"$f":"IF(INTRO!$E$40=\"Endemic\", IF($I151>0, IF($I151=4,\"Unknown\",IF($I151=99,\"Stopped\", $D151)), 0),\"Not required\")","v":"Not required"},{"$f":"IF(INTRO!$E$42=\"Endemic\", IF(AND($J151>1,$J151<5), IF($J151=4, \"Unknown\", E151+F151), 0),\"Not required\")","v":59065},{"$f":"IF(INTRO!$E$44=\"Endemic\", IF(AND($K151>0,$K151<5), IF($K151=4,\"Unknown\", IF($K151=1, $F151*0.33, IF($K151=2, $F151*0.5+$G151*0.2, SUM(F151:G151)))), 0),\"Not required\")","v":38033.9},0,null,1,1,"T1 (PZQ+ALB/MBD)",null," ","T1",33132,"Manjacaze",null,true,"Gaza","Manjacaze",0,4,2,2,true,true,true,true,null,null,null,0,null,2,2,true,null,true,true,null,null,{"$f":"'MDA1'!M151","v":0},{"$f":"'T1'!O151","v":39045},{"$f":"'T2'!M151","v":0},null,null,{"$f":"DISTRICT!H150:H151","v":0},{"$f":"DISTRICT!X151","v":39045},{"$f":"DISTRICT!AH151","v":20881.5},null,null,1,0,true,false,"Manjacaze",true]
[{"$f":"IF(INTRO!$E$34<>0,INTRO!$E$34,\"\")","v":"Mozambique"},"Gaza","Mapai",31650.374852668298,{"$f":"IF(INTRO!$E$48=\"\",\"\",ROUND($D152*INTRO!$E$48,0))","v":3671},{"$f":"IF(INTRO!$E$49=\"\",\"\",ROUND($D152*INTRO!$E$49,0))","v":8862},{"$f":"IF(INTRO!$E$50=\"\",\"\",ROUND($D152*INTRO!$E$50,0))","v":18199},1,4,3,2,{"$f":"IF(INTRO!$E$38=\"Endemic\", IF($H152>0, IF($H152=4,\"Unknown\", IF($H152=99,\"Stopped\", $D152)), 0),\"Not required\")","v":31650.374852668298},{"$f":"IF(INTRO!$E$40=\"Endemic\", IF($I152>0, IF($I152=4,\"Unknown\",IF($I152=99,\"Stopped\", $D152)), 0),\"Not required\")","v":"Not required"},{"$f":"IF(INTRO!$E$42=\"Endemic\", IF(AND($J152>1,$J152<5), IF($J152=4, \"Unknown\", E152+F152), 0),\"Not required\")","v":12533},{"$f":"IF(INTRO!$E$44=\"Endemic\", IF(AND($K152>0,$K152<5), IF($K152=4,\"Unknown\", IF($K152=1, $F152*0.33, IF($K152=2, $F152*0.5+$G152*0.2, SUM(F152:G152)))), 0),\"Not required\")","v":8070.8},1,null,1,1,"MDA1 (IVM+ALB)","T2 (PZQ)","MDA 1","T1",33262,"Mapai (Chicualacuala)",null,false,"Gaza","Mapai (Chicualacuala)",1,4,3,2,true,true,true,true,null,null,null,1,null,3,2,true,null,true,true,null,null,{"$f":"'MDA1'!M152","v":24253},{"$f":"'T1'!O152","v":0},{"$f":"'T2'!M152","v":8172},null,null,{"$f":"DISTRICT!H151:H152","v":24253},{"$f":"DISTRICT!X152","v":7128},{"$f":"DISTRICT!AH152","v":4431},null,null,1,0,true,false,"Mapai (Chicualacuala)",false]
[{"$f":"IF(INTRO!$E$34<>0,INTRO!$E$34,\"\")","v":"Mozambique"},"Gaza","Massangena",23303,{"$f":"IF(INTRO!$E$48=\"\",\"\",ROUND($D153*INTRO!$E$48,0))","v":2703},{"$f":"IF(INTRO!$E$49=\"\",\"\",ROUND($D153*INTRO!$E$49,0))","v":6525},{"$f":"IF(INTRO!$E$50=\"\",\"\",ROUND($D153*INTRO!$E$50,0))","v":13399},0,0,2,2,{"$f":"IF(INTRO!$E$38=\"Endemic\", IF($H153>0, IF($H153=4,\"Unknown\", IF($H153=99,\"Stopped\", $D153)), 0),\"Not required\")","v":0},{"$f":"IF(INTRO!$E$40=\"Endemic\", IF($I153>0, IF($I153=4,\"Unknown\",IF($I153=99,\"Stopped\", $D153)), 0),\"Not required\")","v":"Not required"},{"$f":"IF(INTRO!$E$42=\"Endemic\", IF(AND($J153>1,$J153<5), IF($J153=4, \"Unknown\", E153+F153), 0),\"Not required\")","v":9228},{"$f":"IF(INTRO!$E$44=\"Endemic\", IF(AND($K153>0,$K153<5), IF($K153=4,\"Unknown\", IF($K153=1, $F153*0.33, IF($K153=2, $F153*0.5+$G153*0.2, SUM(F153:G153)))), 0),\"Not required\")","v":5942.3},0,null,1,1,"T1 (PZQ+ALB/MBD)",null," ","T1",33133,"Massangena",null,true,"Gaza","Massangena",0,0,2,2,true,true,true,true,null,null,null,0,null,2,2,true,null,{"$f":"AQ153=J153","v":true},{"$f":"AR153=K153","v":true},null,null,{"$f":"'MDA1'!M153","v":0},{"$f":"'T1'!O153","v":6580},{"$f":"'T2'!M153","v":0},null,null,{"$f":"DISTRICT!H152:H153","v":0},{"$f":"DISTRICT!X153","v":6525},{"$f":"DISTRICT!AH153","v":3262.5},null,null,1,1,true,true,"Massangena",true]
[{"$f":"IF(INTRO!$E$34<>0,INTRO!$E$34,\"\")","v":"Mozambique"},"Gaza","Massingir",39572,{"$f":"IF(INTRO!$E$48=\"\",\"\",ROUND($D154*INTRO!$E$48,0))","v":4590},{"$f":"IF(INTRO!$E$49=\"\",\"\",ROUND($D154*INTRO!$E$49,0))","v":11080},{"$f":"IF(INTRO!$E$50=\"\",\"\",ROUND($D154*INTRO!$E$50,0))","v":22754},0,0,2,2,{"$f":"IF(INTRO!$E$38=\"Endemic\", IF($H154>0, IF($H154=4,\"Unknown\", IF($H154=99,\"Stopped\", $D154)), 0),\"Not required\")","v":0},{"$f":"IF(INTRO!$E$40=\"Endemic\", IF($I154>0, IF($I154=4,\"Unknown\",IF($I154=99,\"Stopped\", $D154)), 0),\"Not required\")","v":"Not required"},{"$f":"IF(INTRO!$E$42=\"Endemic\", IF(AND($J154>1,$J154<5), IF($J154=4, \"Unknown\", E154+F154), 0),\"Not required\")","v":15670},{"$f":"IF(INTRO!$E$44=\"Endemic\", IF(AND($K154>0,$K154<5), IF($K154=4,\"Unknown\", IF($K154=1, $F154*0.33, IF($K154=2, $F154*0.5+$G154*0.2, SUM(F154:G154)))), 0),\"Not required\")","v":10090.799999999999},0,null,1,1,"T1 (PZQ+ALB/MBD)",null," ","T1",33134,"Massingir",null,true,"Gaza","Massingir",0,0,2,2,true,true,true,true,null,null,null,0,null,2,2,true,null,true,true,null,null,{"$f":"'MDA1'!M154","v":0},{"$f":"'T1'!O154","v":10735},{"$f":"'T2'!M154","v":0},null,null,{"$f":"DISTRICT!H153:H154","v":0},{"$f":"DISTRICT!X154","v":10735},{"$f":"DISTRICT!AH154","v":5540},null,null,1,0,true,false,"Massingir",true]
[{"$f":"IF(INTRO!$E$34<>0,INTRO!$E$34,\"\")","v":"Mozambique"},"Maputo Provincia","Matola",1071099.9009517594,{"$f":"IF(INTRO!$E$48=\"\",\"\",ROUND($D155*INTRO!$E$48,0))","v":124248},{"$f":"IF(INTRO!$E$49=\"\",\"\",ROUND($D155*INTRO!$E$49,0))","v":299908},{"$f":"IF(INTRO!$E$50=\"\",\"\",ROUND($D155*INTRO!$E$50,0))","v":615882},0,0,2,2,{"$f":"IF(INTRO!$E$38=\"Endemic\", IF($H155>0, IF($H155=4,\"Unknown\", IF($H155=99,\"Stopped\", $D155)), 0),\"Not required\")","v":0},{"$f":"IF(INTRO!$E$40=\"Endemic\", IF($I155>0, IF($I155=4,\"Unknown\",IF($I155=99,\"Stopped\", $D155)), 0),\"Not required\")","v":"Not required"},{"$f":"IF(INTRO!$E$42=\"Endemic\", IF(AND($J155>1,$J155<5), IF($J155=4, \"Unknown\", E155+F155), 0),\"Not required\")","v":424156},{"$f":"IF(INTRO!$E$44=\"Endemic\", IF(AND($K155>0,$K155<5), IF($K155=4,\"Unknown\", IF($K155=1, $F155*0.33, IF($K155=2, $F155*0.5+$G155*0.2, SUM(F155:G155)))), 0),\"Not required\")","v":273130.40000000002},0,null,1,1,"T1 (PZQ+ALB/MBD)",null," ","T1",33163,"Matola",null,true,"Maputo Provincia","Matola",0,0,2,2,true,true,true,true,null,null,null,0,null,2,2,true,null,true,true,null,null,{"$f":"'MDA1'!M155","v":0},{"$f":"'T1'!O155","v":331562},{"$f":"'T2'!M155","v":0},null,null,{"$f":"DISTRICT!H154:H155","v":0},{"$f":"DISTRICT!X155","v":299908},{"$f":"DISTRICT!AH155","v":149954},null,null,1,1,true,true,"Matola",true]
[{"$f":"IF(INTRO!$E$34<>0,INTRO!$E$34,\"\")","v":"Mozambique"},"Maputo Provincia","Boane",182403.09904313128,{"$f":"IF(INTRO!$E$48=\"\",\"\",ROUND($D156*INTRO!$E$48,0))","v":21159},{"$f":"IF(INTRO!$E$49=\"\",\"\",ROUND($D156*INTRO!$E$49,0))","v":51073},{"$f":"IF(INTRO!$E$50=\"\",\"\",ROUND($D156*INTRO!$E$50,0))","v":104882},0,0,2,2,{"$f":"IF(INTRO!$E$38=\"Endemic\", IF($H156>0, IF($H156=4,\"Unknown\", IF($H156=99,\"Stopped\", $D156)), 0),\"Not required\")","v":0},{"$f":"IF(INTRO!$E$40=\"Endemic\", IF($I156>0, IF($I156=4,\"Unknown\",IF($I156=99,\"Stopped\", $D156)), 0),\"Not required\")","v":"Not required"},{"$f":"IF(INTRO!$E$42=\"Endemic\", IF(AND($J156>1,$J156<5), IF($J156=4, \"Unknown\", E156+F156), 0),\"Not required\")","v":72232},{"$f":"IF(INTRO!$E$44=\"Endemic\", IF(AND($K156>0,$K156<5), IF($K156=4,\"Unknown\", IF($K156=1, $F156*0.33, IF($K156=2, $F156*0.5+$G156*0.2, SUM(F156:G156)))), 0),\"Not required\")","v":46512.9},0,null,1,1,"T1 (PZQ+ALB/MBD)",null," ","T1",33162,"Boane",null,true,"Maputo Provincia","Boane",0,0,2,2,true,true,true,true,null,null,null,0,null,2,2,true,null,true,true,null,null,{"$f":"'MDA1'!M156","v":0},{"$f":"'T1'!O156","v":53758},{"$f":"'T2'!M156","v":0},null,null,{"$f":"DISTRICT!H155:H156","v":0},{"$f":"DISTRICT!X156","v":51073},{"$f":"DISTRICT!AH156","v":25536.5},null,null,1,0,true,false,"Boane",true]
[{"$f":"IF(INTRO!$E$34<>0,INTRO!$E$34,\"\")","v":"Mozambique"},"Maputo Provincia","Magude",65674.26192543986,{"$f":"IF(INTRO!$E$48=\"\",\"\",ROUND($D157*INTRO!$E$48,0))","v":7618},{"$f":"IF(INTRO!$E$49=\"\",\"\",ROUND($D157*INTRO!$E$49,0))","v":18389},{"$f":"IF(INTRO!$E$50=\"\",\"\",ROUND($D157*INTRO!$E$50,0))","v":37763},0,0,2,3,{"$f":"IF(INTRO!$E$38=\"Endemic\", IF($H157>0, IF($H157=4,\"Unknown\", IF($H157=99,\"Stopped\", $D157)), 0),\"Not required\")","v":0},{"$f":"IF(INTRO!$E$40=\"Endemic\", IF($I157>0, IF($I157=4,\"Unknown\",IF($I157=99,\"Stopped\", $D157)), 0),\"Not required\")","v":"Not required"},{"$f":"IF(INTRO!$E$42=\"Endemic\", IF(AND($J157>1,$J157<5), IF($J157=4, \"Unknown\", E157+F157), 0),\"Not required\")","v":26007},{"$f":"IF(INTRO!$E$44=\"Endemic\", IF(AND($K157>0,$K157<5), IF($K157=4,\"Unknown\", IF($K157=1, $F157*0.33, IF($K157=2, $F157*0.5+$G157*0.2, SUM(F157:G157)))), 0),\"Not required\")","v":56152},0,null,1,1,"T1 (PZQ+ALB/MBD)",null," ","T1",33164,"Magude",null,true,"Maputo Provincia","Magude",0,0,2,3,true,true,true,true,null,null,null,0,null,2,3,true,null,true,true,null,null,{"$f":"'MDA1'!M157","v":0},{"$f":"'T1'!O157","v":18283},{"$f":"'T2'!M157","v":0},null,null,{"$f":"DISTRICT!H156:H157","v":0},{"$f":"DISTRICT!X157","v":18283},{"$f":"DISTRICT!AH157","v":18283},null,null,1,1,true,true,"Magude",true]
[{"$f":"IF(INTRO!$E$34<>0,INTRO!$E$34,\"\")","v":"Mozambique"},"Maputo Provincia","Manhica",354030.99709244276,{"$f":"IF(INTRO!$E$48=\"\",\"\",ROUND($D158*INTRO!$E$48,0))","v":41068},{"$f":"IF(INTRO!$E$49=\"\",\"\",ROUND($D158*INTRO!$E$49,0))","v":99129},{"$f":"IF(INTRO!$E$50=\"\",\"\",ROUND($D158*INTRO!$E$50,0))","v":203568},0,0,2,2,{"$f":"IF(INTRO!$E$38=\"Endemic\", IF($H158>0, IF($H158=4,\"Unknown\", IF($H158=99,\"Stopped\", $D158)), 0),\"Not required\")","v":0},{"$f":"IF(INTRO!$E$40=\"Endemic\", IF($I158>0, IF($I158=4,\"Unknown\",IF($I158=99,\"Stopped\", $D158)), 0),\"Not required\")","v":"Not required"},{"$f":"IF(INTRO!$E$42=\"Endemic\", IF(AND($J158>1,$J158<5), IF($J158=4, \"Unknown\", E158+F158), 0),\"Not required\")","v":140197},{"$f":"IF(INTRO!$E$44=\"Endemic\", IF(AND($K158>0,$K158<5), IF($K158=4,\"Unknown\", IF($K158=1, $F158*0.33, IF($K158=2, $F158*0.5+$G158*0.2, SUM(F158:G158)))), 0),\"Not required\")","v":90278.1},0,null,1,1,"T1 (PZQ+ALB/MBD)",null," ","T1",33165,"Manhica",null,true,"Maputo Provincia","Manhica",0,0,2,2,true,true,true,true,null,null,null,0,null,2,2,true,null,true,true,null,null,{"$f":"'MDA1'!M158","v":0},{"$f":"'T1'!O158","v":99655},{"$f":"'T2'!M158","v":0},null,null,{"$f":"DISTRICT!H157:H158","v":0},{"$f":"DISTRICT!X158","v":99129},{"$f":"DISTRICT!AH158","v":49564.5},null,null,1,0,true,false,"Manhica",true]
[{"$f":"IF(INTRO!$E$34<>0,INTRO!$E$34,\"\")","v":"Mozambique"},"Maputo Provincia","Marracuene",175395.89297938882,{"$f":"IF(INTRO!$E$48=\"\",\"\",ROUND($D159*INTRO!$E$48,0))","v":20346},{"$f":"IF(INTRO!$E$49=\"\",\"\",ROUND($D159*INTRO!$E$49,0))","v":49111},{"$f":"IF(INTRO!$E$50=\"\",\"\",ROUND($D159*INTRO!$E$50,0))","v":100853},0,0,3,2,{"$f":"IF(INTRO!$E$38=\"Endemic\", IF($H159>0, IF($H159=4,\"Unknown\", IF($H159=99,\"Stopped\", $D159)), 0),\"Not required\")","v":0},{"$f":"IF(INTRO!$E$40=\"Endemic\", IF($I159>0, IF($I159=4,\"Unknown\",IF($I159=99,\"Stopped\", $D159)), 0),\"Not required\")","v":"Not required"},{"$f":"IF(INTRO!$E$42=\"Endemic\", IF(AND($J159>1,$J159<5), IF($J159=4, \"Unknown\", E159+F159), 0),\"Not required\")","v":69457},{"$f":"IF(INTRO!$E$44=\"Endemic\", IF(AND($K159>0,$K159<5), IF($K159=4,\"Unknown\", IF($K159=1, $F159*0.33, IF($K159=2, $F159*0.5+$G159*0.2, SUM(F159:G159)))), 0),\"Not required\")","v":44726.100000000006},0,null,1,1,"T1 (PZQ+ALB/MBD)",null,"T1","T3",33166,"Marracuene",null,true,"Maputo Provincia","Marracuene",0,0,3,2,true,true,true,true,null,null,null,0,null,3,2,true,null,true,true,null,null,{"$f":"'MDA1'!M159","v":0},{"$f":"'T1'!O159","v":52711},{"$f":"'T2'!M159","v":0},null,null,{"$f":"DISTRICT!H158:H159","v":0},{"$f":"DISTRICT!X159","v":49111},{"$f":"DISTRICT!AH159","v":24555.5},null,null,1,0,true,false,"Marracuene",true]
[{"$f":"IF(INTRO!$E$34<>0,INTRO!$E$34,\"\")","v":"Mozambique"},"Maputo Provincia","Matutuíne",42485.965985329596,{"$f":"IF(INTRO!$E$48=\"\",\"\",ROUND($D160*INTRO!$E$48,0))","v":4928},{"$f":"IF(INTRO!$E$49=\"\",\"\",ROUND($D160*INTRO!$E$49,0))","v":11896},{"$f":"IF(INTRO!$E$50=\"\",\"\",ROUND($D160*INTRO!$E$50,0))","v":24429},0,0,3,2,{"$f":"IF(INTRO!$E$38=\"Endemic\", IF($H160>0, IF($H160=4,\"Unknown\", IF($H160=99,\"Stopped\", $D160)), 0),\"Not required\")","v":0},{"$f":"IF(INTRO!$E$40=\"Endemic\", IF($I160>0, IF($I160=4,\"Unknown\",IF($I160=99,\"Stopped\", $D160)), 0),\"Not required\")","v":"Not required"},{"$f":"IF(INTRO!$E$42=\"Endemic\", IF(AND($J160>1,$J160<5), IF($J160=4, \"Unknown\", E160+F160), 0),\"Not required\")","v":16824},{"$f":"IF(INTRO!$E$44=\"Endemic\", IF(AND($K160>0,$K160<5), IF($K160=4,\"Unknown\", IF($K160=1, $F160*0.33, IF($K160=2, $F160*0.5+$G160*0.2, SUM(F160:G160)))), 0),\"Not required\")","v":10833.8},0,null,1,1,"T1 (PZQ+ALB/MBD)",null,"T1","T3",33167,"Matutuíne",null,true,"Maputo Provincia","Matutuíne",0,0,3,2,true,true,true,true,null,null,null,0,null,3,2,true,null,true,true,null,null,{"$f":"'MDA1'!M160","v":0},{"$f":"'T1'!O160","v":13821},{"$f":"'T2'!M160","v":0},null,null,{"$f":"DISTRICT!H159:H160","v":0},{"$f":"DISTRICT!X160","v":11896},{"$f":"DISTRICT!AH160","v":5948},null,null,1,0,true,false,"Matutuíne",true]
[{"$f":"IF(INTRO!$E$34<>0,INTRO!$E$34,\"\")","v":"Mozambique"},"Maputo Provincia","Moamba",73838.398395647499,{"$f":"IF(INTRO!$E$48=\"\",\"\",ROUND($D161*INTRO!$E$48,0))","v":8565},{"$f":"IF(INTRO!$E$49=\"\",\"\",ROUND($D161*INTRO!$E$49,0))","v":20675},{"$f":"IF(INTRO!$E$50=\"\",\"\",ROUND($D161*INTRO!$E$50,0))","v":42457},0,0,2,2,{"$f":"IF(INTRO!$E$38=\"Endemic\", IF($H161>0, IF($H161=4,\"Unknown\", IF($H161=99,\"Stopped\", $D161)), 0),\"Not required\")","v":0},{"$f":"IF(INTRO!$E$40=\"Endemic\", IF($I161>0, IF($I161=4,\"Unknown\",IF($I161=99,\"Stopped\", $D161)), 0),\"Not required\")","v":"Not required"},{"$f":"IF(INTRO!$E$42=\"Endemic\", IF(AND($J161>1,$J161<5), IF($J161=4, \"Unknown\", E161+F161), 0),\"Not required\")","v":29240},{"$f":"IF(INTRO!$E$44=\"Endemic\", IF(AND($K161>0,$K161<5), IF($K161=4,\"Unknown\", IF($K161=1, $F161*0.33, IF($K161=2, $F161*0.5+$G161*0.2, SUM(F161:G161)))), 0),\"Not required\")","v":18828.900000000001},0,null,1,1,"T1 (PZQ+ALB/MBD)",null," ","T1",33168,"Moamba",null,true,"Maputo Provincia","Moamba",0,0,2,2,true,true,true,true,null,null,null,0,null,2,2,true,null,true,true,null,null,{"$f":"'MDA1'!M161","v":0},{"$f":"'T1'!O161","v":22749},{"$f":"'T2'!M161","v":0},null,null,{"$f":"DISTRICT!H160:H161","v":0},{"$f":"DISTRICT!X161","v":20675},{"$f":"DISTRICT!AH161","v":10337.5},null,null,1,0,true,false,"Moamba",true]
[{"$f":"IF(INTRO!$E$34<>0,INTRO!$E$34,\"\")","v":"Mozambique"},"Maputo Provincia","Namaacha",55631.483626860827,{"$f":"IF(INTRO!$E$48=\"\",\"\",ROUND($D162*INTRO!$E$48,0))","v":6453},{"$f":"IF(INTRO!$E$49=\"\",\"\",ROUND($D162*INTRO!$E$49,0))","v":15577},{"$f":"IF(INTRO!$E$50=\"\",\"\",ROUND($D162*INTRO!$E$50,0))","v":31988},0,0,2,3,{"$f":"IF(INTRO!$E$38=\"Endemic\", IF($H162>0, IF($H162=4,\"Unknown\", IF($H162=99,\"Stopped\", $D162)), 0),\"Not required\")","v":0},{"$f":"IF(INTRO!$E$40=\"Endemic\", IF($I162>0, IF($I162=4,\"Unknown\",IF($I162=99,\"Stopped\", $D162)), 0),\"Not required\")","v":"Not required"},{"$f":"IF(INTRO!$E$42=\"Endemic\", IF(AND($J162>1,$J162<5), IF($J162=4, \"Unknown\", E162+F162), 0),\"Not required\")","v":22030},{"$f":"IF(INTRO!$E$44=\"Endemic\", IF(AND($K162>0,$K162<5), IF($K162=4,\"Unknown\", IF($K162=1, $F162*0.33, IF($K162=2, $F162*0.5+$G162*0.2, SUM(F162:G162)))), 0),\"Not required\")","v":47565},0,null,1,1,"T1 (PZQ+ALB/MBD)",null," ","T1",33169,"Namaacha",null,true,"Maputo Provincia","Namaacha",0,0,2,3,true,true,true,true,null,null,null,0,null,2,3,true,null,true,true,null,null,{"$f":"'MDA1'!M162","v":0},{"$f":"'T1'!O162","v":15537},{"$f":"'T2'!M162","v":0},null,null,{"$f":"DISTRICT!H161:H162","v":0},{"$f":"DISTRICT!X162","v":15537},{"$f":"DISTRICT!AH162","v":15537},null,null,1,1,true,true,"Namaacha",true]
[{"$f":"IF(INTRO!$E$34<>0,INTRO!$E$34,\"\")","v":"Mozambique"},"Cidade de Maputo","Kampfumu",112944.58640848885,{"$f":"IF(INTRO!$E$48=\"\",\"\",ROUND($D163*INTRO!$E$48,0))","v":13102},{"$f":"IF(INTRO!$E$49=\"\",\"\",ROUND($D163*INTRO!$E$49,0))","v":31624},{"$f":"IF(INTRO!$E$50=\"\",\"\",ROUND($D163*INTRO!$E$50,0))","v":64943},0,0,2,2,{"$f":"IF(INTRO!$E$38=\"Endemic\", IF($H163>0, IF($H163=4,\"Unknown\", IF($H163=99,\"Stopped\", $D163)), 0),\"Not required\")","v":0},{"$f":"IF(INTRO!$E$40=\"Endemic\", IF($I163>0, IF($I163=4,\"Unknown\",IF($I163=99,\"Stopped\", $D163)), 0),\"Not required\")","v":"Not required"},{"$f":"IF(INTRO!$E$42=\"Endemic\", IF(AND($J163>1,$J163<5), IF($J163=4, \"Unknown\", E163+F163), 0),\"Not required\")","v":44726},{"$f":"IF(INTRO!$E$44=\"Endemic\", IF(AND($K163>0,$K163<5), IF($K163=4,\"Unknown\", IF($K163=1, $F163*0.33, IF($K163=2, $F163*0.5+$G163*0.2, SUM(F163:G163)))), 0),\"Not required\")","v":28800.6},0,null,1,1,"T1 (PZQ+ALB/MBD)",null," ","T1",33119,"Kampfumu",null,true,"Cidade de Maputo","Kampfumu",0,0,2,2,true,true,true,true,null,null,null,0,null,2,2,true,null,true,true,null,null,{"$f":"'MDA1'!M163","v":0},{"$f":"'T1'!O163","v":31898},{"$f":"'T2'!M163","v":0},null,null,{"$f":"DISTRICT!H162:H163","v":0},{"$f":"DISTRICT!X163","v":31624},{"$f":"DISTRICT!AH163","v":15812},null,null,1,0,true,false,"Kampfumu",true]
[{"$f":"IF(INTRO!$E$34<>0,INTRO!$E$34,\"\")","v":"Mozambique"},"Cidade de Maputo","Nhlamankulu",161823.19573024713,{"$f":"IF(INTRO!$E$48=\"\",\"\",ROUND($D164*INTRO!$E$48,0))","v":18771},{"$f":"IF(INTRO!$E$49=\"\",\"\",ROUND($D164*INTRO!$E$49,0))","v":45310},{"$f":"IF(INTRO!$E$50=\"\",\"\",ROUND($D164*INTRO!$E$50,0))","v":93048},0,0,2,2,{"$f":"IF(INTRO!$E$38=\"Endemic\", IF($H164>0, IF($H164=4,\"Unknown\", IF($H164=99,\"Stopped\", $D164)), 0),\"Not required\")","v":0},{"$f":"IF(INTRO!$E$40=\"Endemic\", IF($I164>0, IF($I164=4,\"Unknown\",IF($I164=99,\"Stopped\", $D164)), 0),\"Not required\")","v":"Not required"},{"$f":"IF(INTRO!$E$42=\"Endemic\", IF(AND($J164>1,$J164<5), IF($J164=4, \"Unknown\", E164+F164), 0),\"Not required\")","v":64081},{"$f":"IF(INTRO!$E$44=\"Endemic\", IF(AND($K164>0,$K164<5), IF($K164=4,\"Unknown\", IF($K164=1, $F164*0.33, IF($K164=2, $F164*0.5+$G164*0.2, SUM(F164:G164)))), 0),\"Not required\")","v":41264.600000000006},0,null,1,1,"T1 (PZQ+ALB/MBD)",null," ","T1",33123,"Nhlamankulu",null,true,"Cidade de Maputo","Nhlamankulu",0,0,2,2,true,true,true,true,null,null,null,0,null,2,2,true,null,true,true,null,null,{"$f":"'MDA1'!M164","v":0},{"$f":"'T1'!O164","v":49752},{"$f":"'T2'!M164","v":0},null,null,{"$f":"DISTRICT!H163:H164","v":0},{"$f":"DISTRICT!X164","v":45310},{"$f":"DISTRICT!AH164","v":22655},null,null,1,0,true,false,"Nhlamankulu",true]
[{"$f":"IF(INTRO!$E$34<>0,INTRO!$E$34,\"\")","v":"Mozambique"},"Cidade de Maputo","Kamaxakani",233892.7804740608,{"$f":"IF(INTRO!$E$48=\"\",\"\",ROUND($D165*INTRO!$E$48,0))","v":27132},{"$f":"IF(INTRO!$E$49=\"\",\"\",ROUND($D165*INTRO!$E$49,0))","v":65490},{"$f":"IF(INTRO!$E$50=\"\",\"\",ROUND($D165*INTRO!$E$50,0))","v":134488},0,0,2,2,{"$f":"IF(INTRO!$E$38=\"Endemic\", IF($H165>0, IF($H165=4,\"Unknown\", IF($H165=99,\"Stopped\", $D165)), 0),\"Not required\")","v":0},{"$f":"IF(INTRO!$E$40=\"Endemic\", IF($I165>0, IF($I165=4,\"Unknown\",IF($I165=99,\"Stopped\", $D165)), 0),\"Not required\")","v":"Not required"},{"$f":"IF(INTRO!$E$42=\"Endemic\", IF(AND($J165>1,$J165<5), IF($J165=4, \"Unknown\", E165+F165), 0),\"Not required\")","v":92622},{"$f":"IF(INTRO!$E$44=\"Endemic\", IF(AND($K165>0,$K165<5), IF($K165=4,\"Unknown\", IF($K165=1, $F165*0.33, IF($K165=2, $F165*0.5+$G165*0.2, SUM(F165:G165)))), 0),\"Not required\")","v":59642.600000000006},0,null,1,1,"T1 (PZQ+ALB/MBD)",null," ","T1",33118,"Kamaxakani",null,true,"Cidade de Maputo","Kamaxakani",0,0,2,2,true,true,true,true,null,null,null,0,null,2,2,true,null,true,true,null,null,{"$f":"'MDA1'!M165","v":0},{"$f":"'T1'!O165","v":65128},{"$f":"'T2'!M165","v":0},null,null,{"$f":"DISTRICT!H164:H165","v":0},{"$f":"DISTRICT!X165","v":65128},{"$f":"DISTRICT!AH165","v":32745},null,null,1,0,true,false,"Kamaxakani",true]
[{"$f":"IF(INTRO!$E$34<>0,INTRO!$E$34,\"\")","v":"Mozambique"},"Cidade de Maputo","Kamavota",370986.02876584593,{"$f":"IF(INTRO!$E$48=\"\",\"\",ROUND($D166*INTRO!$E$48,0))","v":43034},{"$f":"IF(INTRO!$E$49=\"\",\"\",ROUND($D166*INTRO!$E$49,0))","v":103876},{"$f":"IF(INTRO!$E$50=\"\",\"\",ROUND($D166*INTRO!$E$50,0))","v":213317},0,0,2,2,{"$f":"IF(INTRO!$E$38=\"Endemic\", IF($H166>0, IF($H166=4,\"Unknown\", IF($H166=99,\"Stopped\", $D166)), 0),\"Not required\")","v":0},{"$f":"IF(INTRO!$E$40=\"Endemic\", IF($I166>0, IF($I166=4,\"Unknown\",IF($I166=99,\"Stopped\", $D166)), 0),\"Not required\")","v":"Not required"},{"$f":"IF(INTRO!$E$42=\"Endemic\", IF(AND($J166>1,$J166<5), IF($J166=4, \"Unknown\", E166+F166), 0),\"Not required\")","v":146910},{"$f":"IF(INTRO!$E$44=\"Endemic\", IF(AND($K166>0,$K166<5), IF($K166=4,\"Unknown\", IF($K166=1, $F166*0.33, IF($K166=2, $F166*0.5+$G166*0.2, SUM(F166:G166)))), 0),\"Not required\")","v":94601.4},0,null,1,1,"T1 (PZQ+ALB/MBD)",null," ","T1",33117,"Kamavota",null,true,"Cidade de Maputo","Kamavota",0,0,2,2,true,true,true,true,null,null,null,0,null,2,2,true,null,true,true,null,null,{"$f":"'MDA1'!M166","v":0},{"$f":"'T1'!O166","v":111934},{"$f":"'T2'!M166","v":0},null,null,{"$f":"DISTRICT!H165:H166","v":0},{"$f":"DISTRICT!X166","v":103876},{"$f":"DISTRICT!AH166","v":51938},null,null,1,0,true,false,"Kamavota",true]
[{"$f":"IF(INTRO!$E$34<>0,INTRO!$E$34,\"\")","v":"Mozambique"},"Cidade de Maputo","Kamubukwana",395927.53284037695,{"$f":"IF(INTRO!$E$48=\"\",\"\",ROUND($D167*INTRO!$E$48,0))","v":45928},{"$f":"IF(INTRO!$E$49=\"\",\"\",ROUND($D167*INTRO!$E$49,0))","v":110860},{"$f":"IF(INTRO!$E$50=\"\",\"\",ROUND($D167*INTRO!$E$50,0))","v":227658},0,0,2,2,{"$f":"IF(INTRO!$E$38=\"Endemic\", IF($H167>0, IF($H167=4,\"Unknown\", IF($H167=99,\"Stopped\", $D167)), 0),\"Not required\")","v":0},{"$f":"IF(INTRO!$E$40=\"Endemic\", IF($I167>0, IF($I167=4,\"Unknown\",IF($I167=99,\"Stopped\", $D167)), 0),\"Not required\")","v":"Not required"},{"$f":"IF(INTRO!$E$42=\"Endemic\", IF(AND($J167>1,$J167<5), IF($J167=4, \"Unknown\", E167+F167), 0),\"Not required\")","v":156788},{"$f":"IF(INTRO!$E$44=\"Endemic\", IF(AND($K167>0,$K167<5), IF($K167=4,\"Unknown\", IF($K167=1, $F167*0.33, IF($K167=2, $F167*0.5+$G167*0.2, SUM(F167:G167)))), 0),\"Not required\")","v":100961.60000000001},0,null,1,1,"T1 (PZQ+ALB/MBD)",null," ","T1",33120,"Kamubukwana",null,true,"Cidade de Maputo","Kamubukwana",0,0,2,2,true,true,true,true,null,null,null,0,null,2,2,true,null,true,true,null,null,{"$f":"'MDA1'!M167","v":0},{"$f":"'T1'!O167","v":108495},{"$f":"'T2'!M167","v":0},null,null,{"$f":"DISTRICT!H166:H167","v":0},{"$f":"DISTRICT!X167","v":108495},{"$f":"DISTRICT!AH167","v":55430},null,null,1,0,true,false,"Kamubukwana",true]
[{"$f":"IF(INTRO!$E$34<>0,INTRO!$E$34,\"\")","v":"Mozambique"},"Cidade de Maputo","Katembe",23245.870542605422,{"$f":"IF(INTRO!$E$48=\"\",\"\",ROUND($D168*INTRO!$E$48,0))","v":2697},{"$f":"IF(INTRO!$E$49=\"\",\"\",ROUND($D168*INTRO!$E$49,0))","v":6509},{"$f":"IF(INTRO!$E$50=\"\",\"\",ROUND($D168*INTRO!$E$50,0))","v":13366},0,0,2,2,{"$f":"IF(INTRO!$E$38=\"Endemic\", IF($H168>0, IF($H168=4,\"Unknown\", IF($H168=99,\"Stopped\", $D168)), 0),\"Not required\")","v":0},{"$f":"IF(INTRO!$E$40=\"Endemic\", IF($I168>0, IF($I168=4,\"Unknown\",IF($I168=99,\"Stopped\", $D168)), 0),\"Not required\")","v":"Not required"},{"$f":"IF(INTRO!$E$42=\"Endemic\", IF(AND($J168>1,$J168<5), IF($J168=4, \"Unknown\", E168+F168), 0),\"Not required\")","v":9206},{"$f":"IF(INTRO!$E$44=\"Endemic\", IF(AND($K168>0,$K168<5), IF($K168=4,\"Unknown\", IF($K168=1, $F168*0.33, IF($K168=2, $F168*0.5+$G168*0.2, SUM(F168:G168)))), 0),\"Not required\")","v":5927.7000000000007},0,null,1,1,"T1 (PZQ+ALB/MBD)",null," ","T1",33122,"Katembe",null,true,"Cidade de Maputo","Katembe",0,0,2,2,true,true,true,true,null,null,null,0,null,2,2,true,null,true,true,null,null,{"$f":"'MDA1'!M168","v":0},{"$f":"'T1'!O168","v":6657},{"$f":"'T2'!M168","v":0},null,null,{"$f":"DISTRICT!H167:H168","v":0},{"$f":"DISTRICT!X168","v":6509},{"$f":"DISTRICT!AH168","v":3254.5},null,null,1,0,true,false,"Katembe",true]
[{"$f":"IF(INTRO!$E$34<>0,INTRO!$E$34,\"\")","v":"Mozambique"},"Cidade de Maputo","Kanyaca",5716.0052383748207,{"$f":"IF(INTRO!$E$48=\"\",\"\",ROUND($D169*INTRO!$E$48,0))","v":663},{"$f":"IF(INTRO!$E$49=\"\",\"\",ROUND($D169*INTRO!$E$49,0))","v":1600},{"$f":"IF(INTRO!$E$50=\"\",\"\",ROUND($D169*INTRO!$E$50,0))","v":3287},0,0,2,2,{"$f":"IF(INTRO!$E$38=\"Endemic\", IF($H169>0, IF($H169=4,\"Unknown\", IF($H169=99,\"Stopped\", $D169)), 0),\"Not required\")","v":0},{"$f":"IF(INTRO!$E$40=\"Endemic\", IF($I169>0, IF($I169=4,\"Unknown\",IF($I169=99,\"Stopped\", $D169)), 0),\"Not required\")","v":"Not required"},{"$f":"IF(INTRO!$E$42=\"Endemic\", IF(AND($J169>1,$J169<5), IF($J169=4, \"Unknown\", E169+F169), 0),\"Not required\")","v":2263},{"$f":"IF(INTRO!$E$44=\"Endemic\", IF(AND($K169>0,$K169<5), IF($K169=4,\"Unknown\", IF($K169=1, $F169*0.33, IF($K169=2, $F169*0.5+$G169*0.2, SUM(F169:G169)))), 0),\"Not required\")","v":1457.4},0,null,1,1,"T1 (PZQ+ALB/MBD)",null," ","T1",33121,"Kanyaca",null,true,"Cidade de Maputo","Kanyaca",0,0,2,2,true,true,true,true,null,null,null,0,null,2,2,true,null,true,true,null,null,{"$f":"'MDA1'!M169","v":0},{"$f":"'T1'!O169","v":1804},{"$f":"'T2'!M169","v":0},null,null,{"$f":"DISTRICT!H168:H169","v":0},{"$f":"DISTRICT!X169","v":1600},{"$f":"DISTRICT!AH169","v":800},null,null,1,0,true,false,"Kanyaca",true]
[null,null,null,null,null,null,null,null,null,null,null,null,null,null,null,null,null,null,null,null,null," "," "]

{"sheet":"MDA1","index":2,"n_rows":169,"n_cols":17,"rows_kept":169,"cut":false,"hidden":false,"merged":[[5,13,5,16],[3,0,3,2],[5,0,5,2],[5,5,5,8],[5,9,5,12],[5,3,6,3],[5,4,6,4]]}
["MDA 1 - Ivermectin (IVM) and Albendazole (ALB)"]
["Administrative structure, population requiring PC by age group, population treated by age group and coverage"]
[]
["TOTAL",null,null,null,null,null,{"$f":"SUM(G$9:G$1000)","v":3014382},{"$f":"SUM(H$9:H$1000)","v":6190249},{"$f":"SUM(I$9:I$1000)","v":9204631},null,{"$f":"SUM(K$9:K$1000)","v":4126666},{"$f":"SUM(L$9:L$1000)","v":4655210.2320523728},{"$f":"SUM(M$9:M$1000)","v":8781876.2320523728},null,{"$f":"IF(G4<>0, IF(K4/G4*100=0, \"-\", K4/G4*100), \" \")","v":136.89923838451796},{"$f":"IF(H4<>0, IF(L4/H4*100=0, \"-\", L4/H4*100), \" \")","v":75.202309827155148},{"$f":"IF(I4<>0, IF(M4/I4*100=0, \"-\", M4/I4*100), \" \")","v":95.407151379043569}]
[]
[null,null,null,"PC implemented","Date","Population targeted for MDA 1",null,null,null,"Population treated",null,null,null,"Programme coverage (%)"]
["Country","Province/State","District",null,null,"PreSAC","SAC","Adults","Total","PreSAC","SAC","Adults","Total","PreSAC","SAC","Adults","Total"]
[]
[{"$f":"IF(COUNTRY_INFO!A9=0,\" \",COUNTRY_INFO!A9)","v":"Mozambique"},{"$f":"IF(COUNTRY_INFO!B9=0,\" \",COUNTRY_INFO!B9)","v":"Cabo Delgado"},{"$f":"IF(COUNTRY_INFO!C9=0,\" \",COUNTRY_INFO!C9)","v":"Cid. Pemba"},{"$f":"IF(COUNTRY_INFO!$T$9:$T$1000=\"MDA1 (IVM+ALB)\", COUNTRY_INFO!$T$9:$T$1000, \" \")","v":" "},null,null,null,null,{"$f":"SUM(F9:H9)","v":0},null,null,null,{"$f":"SUM(J9:L9)","v":0},null,{"$f":"IF(G9<>0, IF(K9/G9*100=0, \"-\", K9/G9*100), \" \")","v":" "},{"$f":"IF(H9<>0, IF(L9/H9*100=0, \"-\", L9/H9*100), \" \")","v":" "}," "]
[{"$f":"IF(COUNTRY_INFO!A10=0,\" \",COUNTRY_INFO!A10)","v":"Mozambique"},{"$f":"IF(COUNTRY_INFO!B10=0,\" \",COUNTRY_INFO!B10)","v":"Cabo Delgado"},{"$f":"IF(COUNTRY_INFO!C10=0,\" \",COUNTRY_INFO!C10)","v":"Ancuabe"},{"$f":"IF(COUNTRY_INFO!$T$9:$T$1000=\"MDA1 (IVM+ALB)\", COUNTRY_INFO!$T$9:$T$1000, \" \")","v":" "},null,null,null,null,{"$f":"SUM(F10:H10)","v":0},null,null,null,{"$f":"SUM(J10:L10)","v":0},null,{"$f":"IF(G10<>0, IF(K10/G10*100=0, \"-\", K10/G10*100), \" \")","v":" "},{"$f":"IF(H10<>0, IF(L10/H10*100=0, \"-\", L10/H10*100), \" \")","v":" "},{"$f":"IF(I10<>0, IF(M10/I10*100=0, \"-\", M10/I10*100), \" \")","v":" "}]
[{"$f":"IF(COUNTRY_INFO!A11=0,\" \",COUNTRY_INFO!A11)","v":"Mozambique"},{"$f":"IF(COUNTRY_INFO!B11=0,\" \",COUNTRY_INFO!B11)","v":"Cabo Delgado"},{"$f":"IF(COUNTRY_INFO!C11=0,\" \",COUNTRY_INFO!C11)","v":"Balama"},{"$f":"IF(COUNTRY_INFO!$T$9:$T$1000=\"MDA1 (IVM+ALB)\", COUNTRY_INFO!$T$9:$T$1000, \" \")","v":" "},null,null,null,null,0,null,null,null,0,null," "," "," "]
[{"$f":"IF(COUNTRY_INFO!A12=0,\" \",COUNTRY_INFO!A12)","v":"Mozambique"},{"$f":"IF(COUNTRY_INFO!B12=0,\" \",COUNTRY_INFO!B12)","v":"Cabo Delgado"},{"$f":"IF(COUNTRY_INFO!C12=0,\" \",COUNTRY_INFO!C12)","v":"Chiure"},{"$f":"IF(COUNTRY_INFO!$T$9:$T$1000=\"MDA1 (IVM+ALB)\", COUNTRY_INFO!$T$9:$T$1000, \" \")","v":" "},null,null,null,null,0,null,null,null,0,null," "," "," "]
[{"$f":"IF(COUNTRY_INFO!A13=0,\" \",COUNTRY_INFO!A13)","v":"Mozambique"},{"$f":"IF(COUNTRY_INFO!B13=0,\" \",COUNTRY_INFO!B13)","v":"Cabo Delgado"},{"$f":"IF(COUNTRY_INFO!C13=0,\" \",COUNTRY_INFO!C13)","v":"Ibo"},{"$f":"IF(COUNTRY_INFO!$T$9:$T$1000=\"MDA1 (IVM+ALB)\", COUNTRY_INFO!$T$9:$T$1000, \" \")","v":" "},null,null,null,null,0,null,null,null,0,null," "," "," "]
[{"$f":"IF(COUNTRY_INFO!A14=0,\" \",COUNTRY_INFO!A14)","v":"Mozambique"},{"$f":"IF(COUNTRY_INFO!B14=0,\" \",COUNTRY_INFO!B14)","v":"Cabo Delgado"},{"$f":"IF(COUNTRY_INFO!C14=0,\" \",COUNTRY_INFO!C14)","v":"Macomia"},{"$f":"IF(COUNTRY_INFO!$T$9:$T$1000=\"MDA1 (IVM+ALB)\", COUNTRY_INFO!$T$9:$T$1000, \" \")","v":" "},null,null,null,null,0,null,null,null,0,null," "," "," "]
[{"$f":"IF(COUNTRY_INFO!A15=0,\" \",COUNTRY_INFO!A15)","v":"Mozambique"},{"$f":"IF(COUNTRY_INFO!B15=0,\" \",COUNTRY_INFO!B15)","v":"Cabo Delgado"},{"$f":"IF(COUNTRY_INFO!C15=0,\" \",COUNTRY_INFO!C15)","v":"Mecufi"},{"$f":"IF(COUNTRY_INFO!$T$9:$T$1000=\"MDA1 (IVM+ALB)\", COUNTRY_INFO!$T$9:$T$1000, \" \")","v":" "},null,null,null,null,0,null,null,null,0,null," "," "," "]
[{"$f":"IF(COUNTRY_INFO!A16=0,\" \",COUNTRY_INFO!A16)","v":"Mozambique"},{"$f":"IF(COUNTRY_INFO!B16=0,\" \",COUNTRY_INFO!B16)","v":"Cabo Delgado"},{"$f":"IF(COUNTRY_INFO!C16=0,\" \",COUNTRY_INFO!C16)","v":"Meluco"},{"$f":"IF(COUNTRY_INFO!$T$9:$T$1000=\"MDA1 (IVM+ALB)\", COUNTRY_INFO!$T$9:$T$1000, \" \")","v":" "},null,null,null,null,0,null,null,null,0,null," "," "," "]
[{"$f":"IF(COUNTRY_INFO!A17=0,\" \",COUNTRY_INFO!A17)","v":"Mozambique"},{"$f":"IF(COUNTRY_INFO!B17=0,\" \",COUNTRY_INFO!B17)","v":"Cabo Delgado"},{"$f":"IF(COUNTRY_INFO!C17=0,\" \",COUNTRY_INFO!C17)","v":"Moc Praia"},{"$f":"IF(COUNTRY_INFO!$T$9:$T$1000=\"MDA1 (IVM+ALB)\", COUNTRY_INFO!$T$9:$T$1000, \" \")","v":" "},null,null,null,null,0,null,null,null,0,null," "," "," "]
[{"$f":"IF(COUNTRY_INFO!A18=0,\" \",COUNTRY_INFO!A18)","v":"Mozambique"},{"$f":"IF(COUNTRY_INFO!B18=0,\" \",COUNTRY_INFO!B18)","v":"Cabo Delgado"},{"$f":"IF(COUNTRY_INFO!C18=0,\" \",COUNTRY_INFO!C18)","v":"Montepuez"},{"$f":"IF(COUNTRY_INFO!$T$9:$T$1000=\"MDA1 (IVM+ALB)\", COUNTRY_INFO!$T$9:$T$1000, \" \")","v":" "},null,null,null,null,0,null,null,null,0,null," "," "," "]
[{"$f":"IF(COUNTRY_INFO!A19=0,\" \",COUNTRY_INFO!A19)","v":"Mozambique"},{"$f":"IF(COUNTRY_INFO!B19=0,\" \",COUNTRY_INFO!B19)","v":"Cabo Delgado"},{"$f":"IF(COUNTRY_INFO!C19=0,\" \",COUNTRY_INFO!C19)","v":"Mueda"},{"$f":"IF(COUNTRY_INFO!$T$9:$T$1000=\"MDA1 (IVM+ALB)\", COUNTRY_INFO!$T$9:$T$1000, \" \")","v":" "},null,null,null,null,0,null,null,null,0,null," "," "," "]
[{"$f":"IF(COUNTRY_INFO!A20=0,\" \",COUNTRY_INFO!A20)","v":"Mozambique"},{"$f":"IF(COUNTRY_INFO!B20=0,\" \",COUNTRY_INFO!B20)","v":"Cabo Delgado"},{"$f":"IF(COUNTRY_INFO!C20=0,\" \",COUNTRY_INFO!C20)","v":"Muidumbe"},{"$f":"IF(COUNTRY_INFO!$T$9:$T$1000=\"MDA1 (IVM+ALB)\", COUNTRY_INFO!$T$9:$T$1000, \" \")","v":" "},null,null,null,null,0,null,null,null,0,null," "," "," "]
[{"$f":"IF(COUNTRY_INFO!A21=0,\" \",COUNTRY_INFO!A21)","v":"Mozambique"},{"$f":"IF(COUNTRY_INFO!B21=0,\" \",COUNTRY_INFO!B21)","v":"Cabo Delgado"},{"$f":"IF(COUNTRY_INFO!C21=0,\" \",COUNTRY_INFO!C21)","v":"Namuno"},{"$f":"IF(COUNTRY_INFO!$T$9:$T$1000=\"MDA1 (IVM+ALB)\", COUNTRY_INFO!$T$9:$T$1000, \" \")","v":" "},null,null,null,null,0,null,null,null,0,null," "," "," "]
[{"$f":"IF(COUNTRY_INFO!A22=0,\" \",COUNTRY_INFO!A22)","v":"Mozambique"},{"$f":"IF(COUNTRY_INFO!B22=0,\" \",COUNTRY_INFO!B22)","v":"Cabo Delgado"},{"$f":"IF(COUNTRY_INFO!C22=0,\" \",COUNTRY_INFO!C22)","v":"Nangade"},{"$f":"IF(COUNTRY_INFO!$T$9:$T$1000=\"MDA1 (IVM+ALB)\", COUNTRY_INFO!$T$9:$T$1000, \" \")","v":" "},null,null,null,null,0,null,null,null,0,null," "," "," "]
[{"$f":"IF(COUNTRY_INFO!A23=0,\" \",COUNTRY_INFO!A23)","v":"Mozambique"},{"$f":"IF(COUNTRY_INFO!B23=0,\" \",COUNTRY_INFO!B23)","v":"Cabo Delgado"},{"$f":"IF(COUNTRY_INFO!C23=0,\" \",COUNTRY_INFO!C23)","v":"Palma"},{"$f":"IF(COUNTRY_INFO!$T$9:$T$1000=\"MDA1 (IVM+ALB)\", COUNTRY_INFO!$T$9:$T$1000, \" \")","v":" "},null,null,null,null,0,null,null,null,0,null," "," "," "]
[{"$f":"IF(COUNTRY_INFO!A24=0,\" \",COUNTRY_INFO!A24)","v":"Mozambique"},{"$f":"IF(COUNTRY_INFO!B24=0,\" \",COUNTRY_INFO!B24)","v":"Cabo Delgado"},{"$f":"IF(COUNTRY_INFO!C24=0,\" \",COUNTRY_INFO!C24)","v":"Pemba Metuge"},{"$f":"IF(COUNTRY_INFO!$T$9:$T$1000=\"MDA1 (IVM+ALB)\", COUNTRY_INFO!$T$9:$T$1000, \" \")","v":" "},null,null,null,null,0,null,null,null,0,null," "," "," "]
[{"$f":"IF(COUNTRY_INFO!A25=0,\" \",COUNTRY_INFO!A25)","v":"Mozambique"},{"$f":"IF(COUNTRY_INFO!B25=0,\" \",COUNTRY_INFO!B25)","v":"Cabo Delgado"},{"$f":"IF(COUNTRY_INFO!C25=0,\" \",COUNTRY_INFO!C25)","v":"Quissanga"},{"$f":"IF(COUNTRY_INFO!$T$9:$T$1000=\"MDA1 (IVM+ALB)\", COUNTRY_INFO!$T$9:$T$1000, \" \")","v":" "},null,null,null,null,0,null,null,null,0,null," "," "," "]
[{"$f":"IF(COUNTRY_INFO!A26=0,\" \",COUNTRY_INFO!A26)","v":"Mozambique"},{"$f":"IF(COUNTRY_INFO!B26=0,\" \",COUNTRY_INFO!B26)","v":"Niassa"},{"$f":"IF(COUNTRY_INFO!C26=0,\" \",COUNTRY_INFO!C26)","v":"Cidade de Lichinga"},{"$f":"IF(COUNTRY_INFO!$T$9:$T$1000=\"MDA1 (IVM+ALB)\", COUNTRY_INFO!$T$9:$T$1000, \" \")","v":" "},null,null,null,null,0,null,null,null,0,null," "," "," "]
[{"$f":"IF(COUNTRY_INFO!A27=0,\" \",COUNTRY_INFO!A27)","v":"Mozambique"},{"$f":"IF(COUNTRY_INFO!B27=0,\" \",COUNTRY_INFO!B27)","v":"Niassa"},{"$f":"IF(COUNTRY_INFO!C27=0,\" \",COUNTRY_INFO!C27)","v":"Cuamba"},{"$f":"IF(COUNTRY_INFO!$T$9:$T$1000=\"MDA1 (IVM+ALB)\", COUNTRY_INFO!$T$9:$T$1000, \" \")","v":"MDA1 (IVM+ALB)"},"March 2019",null,76357,156806,233163,null,103971,105948,209919,null,136.16433332896787,67.566292106169414,90.031008350381498]
[{"$f":"IF(COUNTRY_INFO!A28=0,\" \",COUNTRY_INFO!A28)","v":"Mozambique"},{"$f":"IF(COUNTRY_INFO!B28=0,\" \",COUNTRY_INFO!B28)","v":"Niassa"},{"$f":"IF(COUNTRY_INFO!C28=0,\" \",COUNTRY_INFO!C28)","v":"Chimbonila"},{"$f":"IF(COUNTRY_INFO!$T$9:$T$1000=\"MDA1 (IVM+ALB)\", COUNTRY_INFO!$T$9:$T$1000, \" \")","v":" "},null,null,null,null,0,null,null,null,0,null," "," "," "]
[{"$f":"IF(COUNTRY_INFO!A29=0,\" \",COUNTRY_INFO!A29)","v":"Mozambique"},{"$f":"IF(COUNTRY_INFO!B29=0,\" \",COUNTRY_INFO!B29)","v":"Niassa"},{"$f":"IF(COUNTRY_INFO!C29=0,\" \",COUNTRY_INFO!C29)","v":"Lago"},{"$f":"IF(COUNTRY_INFO!$T$9:$T$1000=\"MDA1 (IVM+ALB)\", COUNTRY_INFO!$T$9:$T$1000, \" \")","v":" "},null,null,null,null,0,null,null,null,0,null," "," "," "]
[{"$f":"IF(COUNTRY_INFO!A30=0,\" \",COUNTRY_INFO!A30)","v":"Mozambique"},{"$f":"IF(COUNTRY_INFO!B30=0,\" \",COUNTRY_INFO!B30)","v":"Niassa"},{"$f":"IF(COUNTRY_INFO!C30=0,\" \",COUNTRY_INFO!C30)","v":"Majune"},{"$f":"IF(COUNTRY_INFO!$T$9:$T$1000=\"MDA1 (IVM+ALB)\", COUNTRY_INFO!$T$9:$T$1000, \" \")","v":" "},null,null,null,null,0,null,null,null,0,null," "," "," "]
[{"$f":"IF(COUNTRY_INFO!A31=0,\" \",COUNTRY_INFO!A31)","v":"Mozambique"},{"$f":"IF(COUNTRY_INFO!B31=0,\" \",COUNTRY_INFO!B31)","v":"Niassa"},{"$f":"IF(COUNTRY_INFO!C31=0,\" \",COUNTRY_INFO!C31)","v":"Mandimba"},{"$f":"IF(COUNTRY_INFO!$T$9:$T$1000=\"MDA1 (IVM+ALB)\", COUNTRY_INFO!$T$9:$T$1000, \" \")","v":" "},null,null,null,null,0,null,null,null,0,null," "," "," "]
[{"$f":"IF(COUNTRY_INFO!A32=0,\" \",COUNTRY_INFO!A32)","v":"Mozambique"},{"$f":"IF(COUNTRY_INFO!B32=0,\" \",COUNTRY_INFO!B32)","v":"Niassa"},{"$f":"IF(COUNTRY_INFO!C32=0,\" \",COUNTRY_INFO!C32)","v":"Marrupa"},{"$f":"IF(COUNTRY_INFO!$T$9:$T$1000=\"MDA1 (IVM+ALB)\", COUNTRY_INFO!$T$9:$T$1000, \" \")","v":" "},null,null,null,null,0,null,null,null,0,null," "," "," "]
[{"$f":"IF(COUNTRY_INFO!A33=0,\" \",COUNTRY_INFO!A33)","v":"Mozambique"},{"$f":"IF(COUNTRY_INFO!B33=0,\" \",COUNTRY_INFO!B33)","v":"Niassa"},{"$f":"IF(COUNTRY_INFO!C33=0,\" \",COUNTRY_INFO!C33)","v":"Maúa"},{"$f":"IF(COUNTRY_INFO!$T$9:$T$1000=\"MDA1 (IVM+ALB)\", COUNTRY_INFO!$T$9:$T$1000, \" \")","v":" "},null,null,null,null,0,null,null,null,0,null," "," "," "]
[{"$f":"IF(COUNTRY_INFO!A34=0,\" \",COUNTRY_INFO!A34)","v":"Mozambique"},{"$f":"IF(COUNTRY_INFO!B34=0,\" \",COUNTRY_INFO!B34)","v":"Niassa"},{"$f":"IF(COUNTRY_INFO!C34=0,\" \",COUNTRY_INFO!C34)","v":"Mavago"},{"$f":"IF(COUNTRY_INFO!$T$9:$T$1000=\"MDA1 (IVM+ALB)\", COUNTRY_INFO!$T$9:$T$1000, \" \")","v":" "},null,null,null,null,0,null,null,null,0,null," "," "," "]
[{"$f":"IF(COUNTRY_INFO!A35=0,\" \",COUNTRY_INFO!A35)","v":"Mozambique"},{"$f":"IF(COUNTRY_INFO!B35=0,\" \",COUNTRY_INFO!B35)","v":"Niassa"},{"$f":"IF(COUNTRY_INFO!C35=0,\" \",COUNTRY_INFO!C35)","v":"Mecanhelas"},{"$f":"IF(COUNTRY_INFO!$T$9:$T$1000=\"MDA1 (IVM+ALB)\", COUNTRY_INFO!$T$9:$T$1000, \" \")","v":"MDA1 (IVM+ALB)"},"March 2019",null,91194,187273,278467,null,98652,172764,271416,null,108.17816961642212,92.252487010941238,97.467922590468532]
[{"$f":"IF(COUNTRY_INFO!A36=0,\" \",COUNTRY_INFO!A36)","v":"Mozambique"},{"$f":"IF(COUNTRY_INFO!B36=0,\" \",COUNTRY_INFO!B36)","v":"Niassa"},{"$f":"IF(COUNTRY_INFO!C36=0,\" \",COUNTRY_INFO!C36)","v":"Mecula"},{"$f":"IF(COUNTRY_INFO!$T$9:$T$1000=\"MDA1 (IVM+ALB)\", COUNTRY_INFO!$T$9:$T$1000, \" \")","v":" "},null,null,null,null,0,null,null,null,0,null," "," "," "]
[{"$f":"IF(COUNTRY_INFO!A37=0,\" \",COUNTRY_INFO!A37)","v":"Mozambique"},{"$f":"IF(COUNTRY_INFO!B37=0,\" \",COUNTRY_INFO!B37)","v":"Niassa"},{"$f":"IF(COUNTRY_INFO!C37=0,\" \",COUNTRY_INFO!C37)","v":"Metarica"},{"$f":"IF(COUNTRY_INFO!$T$9:$T$1000=\"MDA1 (IVM+ALB)\", COUNTRY_INFO!$T$9:$T$1000, \" \")","v":"MDA1 (IVM+ALB)"},"March 2019",null,23036,47307,70343,null,29521,27005,56526,null,128.15158881750304,57.084575221426007,80.357675959228345]
[{"$f":"IF(COUNTRY_INFO!A38=0,\" \",COUNTRY_INFO!A38)","v":"Mozambique"},{"$f":"IF(COUNTRY_INFO!B38=0,\" \",COUNTRY_INFO!B38)","v":"Niassa"},{"$f":"IF(COUNTRY_INFO!C38=0,\" \",COUNTRY_INFO!C38)","v":"Muembe"},{"$f":"IF(COUNTRY_INFO!$T$9:$T$1000=\"MDA1 (IVM+ALB)\", COUNTRY_INFO!$T$9:$T$1000, \" \")","v":" "},null,null,null,null,0,null,null,null,0,null," "," "," "]
[{"$f":"IF(COUNTRY_INFO!A39=0,\" \",COUNTRY_INFO!A39)","v":"Mozambique"},{"$f":"IF(COUNTRY_INFO!B39=0,\" \",COUNTRY_INFO!B39)","v":"Niassa"},{"$f":"IF(COUNTRY_INFO!C39=0,\" \",COUNTRY_INFO!C39)","v":"N'Gaúma"},{"$f":"IF(COUNTRY_INFO!$T$9:$T$1000=\"MDA1 (IVM+ALB)\", COUNTRY_INFO!$T$9:$T$1000, \" \")","v":" "},null,null,null,null,0,null,null,null,0,null," "," "," "]
[{"$f":"IF(COUNTRY_INFO!A40=0,\" \",COUNTRY_INFO!A40)","v":"Mozambique"},{"$f":"IF(COUNTRY_INFO!B40=0,\" \",COUNTRY_INFO!B40)","v":"Niassa"},{"$f":"IF(COUNTRY_INFO!C40=0,\" \",COUNTRY_INFO!C40)","v":"Nipepe"},{"$f":"IF(COUNTRY_INFO!$T$9:$T$1000=\"MDA1 (IVM+ALB)\", COUNTRY_INFO!$T$9:$T$1000, \" \")","v":"MDA1 (IVM+ALB)"},"March 2019",null,11572,23764,35336,null,12808,19719,32527,null,110.68095402696163,82.978454805588285,92.050599954720397]
[{"$f":"IF(COUNTRY_INFO!A41=0,\" \",COUNTRY_INFO!A41)","v":"Mozambique"},{"$f":"IF(COUNTRY_INFO!B41=0,\" \",COUNTRY_INFO!B41)","v":"Niassa"},{"$f":"IF(COUNTRY_INFO!C41=0,\" \",COUNTRY_INFO!C41)","v":"Sanga"},{"$f":"IF(COUNTRY_INFO!$T$9:$T$1000=\"MDA1 (IVM+ALB)\", COUNTRY_INFO!$T$9:$T$1000, \" \")","v":" "},null,null,null,null,0,null,null,null,0,null," "," "," "]
[{"$f":"IF(COUNTRY_INFO!A42=0,\" \",COUNTRY_INFO!A42)","v":"Mozambique"},{"$f":"IF(COUNTRY_INFO!B42=0,\" \",COUNTRY_INFO!B42)","v":"Nampula"},{"$f":"IF(COUNTRY_INFO!C42=0,\" \",COUNTRY_INFO!C42)","v":"Cid. Nampula"},{"$f":"IF(COUNTRY_INFO!$T$9:$T$1000=\"MDA1 (IVM+ALB)\", COUNTRY_INFO!$T$9:$T$1000, \" \")","v":"MDA1 (IVM+ALB)"},"March 2019",null,212253,435877,648130,null,365462,322718,688180,null,172.18225419664267,74.038776994427323,106.17931587798743]
[{"$f":"IF(COUNTRY_INFO!A43=0,\" \",COUNTRY_INFO!A43)","v":"Mozambique"},{"$f":"IF(COUNTRY_INFO!B43=0,\" \",COUNTRY_INFO!B43)","v":"Nampula"},{"$f":"IF(COUNTRY_INFO!C43=0,\" \",COUNTRY_INFO!C43)","v":"Angoche"},{"$f":"IF(COUNTRY_INFO!$T$9:$T$1000=\"MDA1 (IVM+ALB)\", COUNTRY_INFO!$T$9:$T$1000, \" \")","v":"MDA1 (IVM+ALB)"},"March 2019",null,97074,199349,296423,null,111533,162858,274391,null,114.89482250654139,81.694916954687514,92.567378374822468]
[{"$f":"IF(COUNTRY_INFO!A44=0,\" \",COUNTRY_INFO!A44)","v":"Mozambique"},{"$f":"IF(COUNTRY_INFO!B44=0,\" \",COUNTRY_INFO!B44)","v":"Nampula"},{"$f":"IF(COUNTRY_INFO!C44=0,\" \",COUNTRY_INFO!C44)","v":"Erati"},{"$f":"IF(COUNTRY_INFO!$T$9:$T$1000=\"MDA1 (IVM+ALB)\", COUNTRY_INFO!$T$9:$T$1000, \" \")","v":"MDA1 (IVM+ALB)"},"March 2019",null,94246,193540,287786,null,158269,136218,294487,null,167.93179551386797,70.382349901829073,102.32846629092451]
[{"$f":"IF(COUNTRY_INFO!A45=0,\" \",COUNTRY_INFO!A45)","v":"Mozambique"},{"$f":"IF(COUNTRY_INFO!B45=0,\" \",COUNTRY_INFO!B45)","v":"Nampula"},{"$f":"IF(COUNTRY_INFO!C45=0,\" \",COUNTRY_INFO!C45)","v":"Ilha Moc."},{"$f":"IF(COUNTRY_INFO!$T$9:$T$1000=\"MDA1 (IVM+ALB)\", COUNTRY_INFO!$T$9:$T$1000, \" \")","v":"MDA1 (IVM+ALB)"},"March 2019",null,16231,33332,49563,null,28936,22239,51175,null,178.27613825395846,66.71966878675147,103.25242620503199]
[{"$f":"IF(COUNTRY_INFO!A46=0,\" \",COUNTRY_INFO!A46)","v":"Mozambique"},{"$f":"IF(COUNTRY_INFO!B46=0,\" \",COUNTRY_INFO!B46)","v":"Nampula"},{"$f":"IF(COUNTRY_INFO!C46=0,\" \",COUNTRY_INFO!C46)","v":"Lalaua"},{"$f":"IF(COUNTRY_INFO!$T$9:$T$1000=\"MDA1 (IVM+ALB)\", COUNTRY_INFO!$T$9:$T$1000, \" \")","v":"MDA1 (IVM+ALB)"},"March 2019",null,25939,53267,79206,null,41340,39518,80858,null,159.37391572535563,74.188521974205415,102.08570057823903]
[{"$f":"IF(COUNTRY_INFO!A47=0,\" \",COUNTRY_INFO!A47)","v":"Mozambique"},{"$f":"IF(COUNTRY_INFO!B47=0,\" \",COUNTRY_INFO!B47)","v":"Nampula"},{"$f":"IF(COUNTRY_INFO!C47=0,\" \",COUNTRY_INFO!C47)","v":"Larde"},{"$f":"IF(COUNTRY_INFO!$T$9:$T$1000=\"MDA1 (IVM+ALB)\", COUNTRY_INFO!$T$9:$T$1000, \" \")","v":"MDA1 (IVM+ALB)"},"March 2019",null,26711,54852,81563,null,40116,43687,83803,null,150.18531691063606,79.645227156712608,102.74634331743559]
[{"$f":"IF(COUNTRY_INFO!A48=0,\" \",COUNTRY_INFO!A48)","v":"Mozambique"},{"$f":"IF(COUNTRY_INFO!B48=0,\" \",COUNTRY_INFO!B48)","v":"Nampula"},{"$f":"IF(COUNTRY_INFO!C48=0,\" \",COUNTRY_INFO!C48)","v":"Liupo"},{"$f":"IF(COUNTRY_INFO!$T$9:$T$1000=\"MDA1 (IVM+ALB)\", COUNTRY_INFO!$T$9:$T$1000, \" \")","v":"MDA1 (IVM+ALB)"},"March 2019",null,24741,50807,75548,null,36267,37496,73763,null,146.58663756517524,73.80085421300214,97.637263726372638]
[{"$f":"IF(COUNTRY_INFO!A49=0,\" \",COUNTRY_INFO!A49)","v":"Mozambique"},{"$f":"IF(COUNTRY_INFO!B49=0,\" \",COUNTRY_INFO!B49)","v":"Nampula"},{"$f":"IF(COUNTRY_INFO!C49=0,\" \",COUNTRY_INFO!C49)","v":"Malema"},{"$f":"IF(COUNTRY_INFO!$T$9:$T$1000=\"MDA1 (IVM+ALB)\", COUNTRY_INFO!$T$9:$T$1000, \" \")","v":"MDA1 (IVM+ALB)"},"March 2019",null,57659,118406,176065,null,97905,84908,182813,null,169.80003121802321,71.709203925476743,103.83267543236873]
[{"$f":"IF(COUNTRY_INFO!A50=0,\" \",COUNTRY_INFO!A50)","v":"Mozambique"},{"$f":"IF(COUNTRY_INFO!B50=0,\" \",COUNTRY_INFO!B50)","v":"Nampula"},{"$f":"IF(COUNTRY_INFO!C50=0,\" \",COUNTRY_INFO!C50)","v":"Meconta"},{"$f":"IF(COUNTRY_INFO!$T$9:$T$1000=\"MDA1 (IVM+ALB)\", COUNTRY_INFO!$T$9:$T$1000, \" \")","v":"MDA1 (IVM+ALB)"},"March 2019",null,57809,118716,176525,null,77824,92056,169880,null,134.62263661367606,77.543043903096461,96.235660671293019]
[{"$f":"IF(COUNTRY_INFO!A51=0,\" \",COUNTRY_INFO!A51)","v":"Mozambique"},{"$f":"IF(COUNTRY_INFO!B51=0,\" \",COUNTRY_INFO!B51)","v":"Nampula"},{"$f":"IF(COUNTRY_INFO!C51=0,\" \",COUNTRY_INFO!C51)","v":"Mecuburi"},{"$f":"IF(COUNTRY_INFO!$T$9:$T$1000=\"MDA1 (IVM+ALB)\", COUNTRY_INFO!$T$9:$T$1000, \" \")","v":"MDA1 (IVM+ALB)"},"March 2019",null,54670,112269,166939,null,82256,79879,162135,null,150.4591183464423,71.149649502534089,97.122302158273371]
[{"$f":"IF(COUNTRY_INFO!A52=0,\" \",COUNTRY_INFO!A52)","v":"Mozambique"},{"$f":"IF(COUNTRY_INFO!B52=0,\" \",COUNTRY_INFO!B52)","v":"Nampula"},{"$f":"IF(COUNTRY_INFO!C52=0,\" \",COUNTRY_INFO!C52)","v":"Memba"},{"$f":"IF(COUNTRY_INFO!$T$9:$T$1000=\"MDA1 (IVM+ALB)\", COUNTRY_INFO!$T$9:$T$1000, \" \")","v":"MDA1 (IVM+ALB)"},"March 2019",null,76835,157785,234620,null,109664,126184,235848,null,142.72662198216958,79.97211395253035,100.52339953968119]
[{"$f":"IF(COUNTRY_INFO!A53=0,\" \",COUNTRY_INFO!A53)","v":"Mozambique"},{"$f":"IF(COUNTRY_INFO!B53=0,\" \",COUNTRY_INFO!B53)","v":"Nampula"},{"$f":"IF(COUNTRY_INFO!C53=0,\" \",COUNTRY_INFO!C53)","v":"Mogincual"},{"$f":"IF(COUNTRY_INFO!$T$9:$T$1000=\"MDA1 (IVM+ALB)\", COUNTRY_INFO!$T$9:$T$1000, \" \")","v":"MDA1 (IVM+ALB)"},"March 2019",null,25665,52706,78371,null,41114,38956,80070,null,160.19481784531465,73.911888589534399,102.16789373620345]
[{"$f":"IF(COUNTRY_INFO!A54=0,\" \",COUNTRY_INFO!A54)","v":"Mozambique"},{"$f":"IF(COUNTRY_INFO!B54=0,\" \",COUNTRY_INFO!B54)","v":"Nampula"},{"$f":"IF(COUNTRY_INFO!C54=0,\" \",COUNTRY_INFO!C54)","v":"Mogovolas"},{"$f":"IF(COUNTRY_INFO!$T$9:$T$1000=\"MDA1 (IVM+ALB)\", COUNTRY_INFO!$T$9:$T$1000, \" \")","v":"MDA1 (IVM+ALB)"},"March 2019",null,155135,318581,473716,null,230594,234230,464824,null,148.64086118541914,73.522903123538441,98.122925972523618]
[{"$f":"IF(COUNTRY_INFO!A55=0,\" \",COUNTRY_INFO!A55)","v":"Mozambique"},{"$f":"IF(COUNTRY_INFO!B55=0,\" \",COUNTRY_INFO!B55)","v":"Nampula"},{"$f":"IF(COUNTRY_INFO!C55=0,\" \",COUNTRY_INFO!C55)","v":"Moma"},{"$f":"IF(COUNTRY_INFO!$T$9:$T$1000=\"MDA1 (IVM+ALB)\", COUNTRY_INFO!$T$9:$T$1000, \" \")","v":"MDA1 (IVM+ALB)"},"March 2019",null,93787,192599,286386,null,148443,141924,290367,null,158.27673344919873,73.688856120748298,101.39008191741216]
[{"$f":"IF(COUNTRY_INFO!A56=0,\" \",COUNTRY_INFO!A56)","v":"Mozambique"},{"$f":"IF(COUNTRY_INFO!B56=0,\" \",COUNTRY_INFO!B56)","v":"Nampula"},{"$f":"IF(COUNTRY_INFO!C56=0,\" \",COUNTRY_INFO!C56)","v":"Monapo"},{"$f":"IF(COUNTRY_INFO!$T$9:$T$1000=\"MDA1 (IVM+ALB)\", COUNTRY_INFO!$T$9:$T$1000, \" \")","v":"MDA1 (IVM+ALB)"},"March 2019",null,113723,233539,347262,null,181157,137168,318325,null,159.29671218662889,58.734515434252955,91.667098617182418]
[{"$f":"IF(COUNTRY_INFO!A57=0,\" \",COUNTRY_INFO!A57)","v":"Mozambique"},{"$f":"IF(COUNTRY_INFO!B57=0,\" \",COUNTRY_INFO!B57)","v":"Nampula"},{"$f":"IF(COUNTRY_INFO!C57=0,\" \",COUNTRY_INFO!C57)","v":"Mossuril"},{"$f":"IF(COUNTRY_INFO!$T$9:$T$1000=\"MDA1 (IVM+ALB)\", COUNTRY_INFO!$T$9:$T$1000, \" \")","v":"MDA1 (IVM+ALB)"},"March 2019",null,40900,83991,124891,null,47623,67535,115158,null,116.43765281173594,80.407424605017212,92.206804333378713]
[{"$f":"IF(COUNTRY_INFO!A58=0,\" \",COUNTRY_INFO!A58)","v":"Mozambique"},{"$f":"IF(COUNTRY_INFO!B58=0,\" \",COUNTRY_INFO!B58)","v":"Nampula"},{"$f":"IF(COUNTRY_INFO!C58=0,\" \",COUNTRY_INFO!C58)","v":"Muecate"},{"$f":"IF(COUNTRY_INFO!$T$9:$T$1000=\"MDA1 (IVM+ALB)\", COUNTRY_INFO!$T$9:$T$1000, \" \")","v":"MDA1 (IVM+ALB)"},"March 2019",null,34134,70096,104230,null,59993,52286,112279,null,175.75730942755024,74.591988130563806,107.72234481435288]
[{"$f":"IF(COUNTRY_INFO!A59=0,\" \",COUNTRY_INFO!A59)","v":"Mozambique"},{"$f":"IF(COUNTRY_INFO!B59=0,\" \",COUNTRY_INFO!B59)","v":"Nampula"},{"$f":"IF(COUNTRY_INFO!C59=0,\" \",COUNTRY_INFO!C59)","v":"Murrupula"},{"$f":"IF(COUNTRY_INFO!$T$9:$T$1000=\"MDA1 (IVM+ALB)\", COUNTRY_INFO!$T$9:$T$1000, \" \")","v":"MDA1 (IVM+ALB)"},"March 2019",null,52470,107751,160221,null,80990,72989,153979,null,154.35486944920908,67.738582472552451,96.104131168823059]
[{"$f":"IF(COUNTRY_INFO!A60=0,\" \",COUNTRY_INFO!A60)","v":"Mozambique"},{"$f":"IF(COUNTRY_INFO!B60=0,\" \",COUNTRY_INFO!B60)","v":"Nampula"},{"$f":"IF(COUNTRY_INFO!C60=0,\" \",COUNTRY_INFO!C60)","v":"Nacala Porto"},{"$f":"IF(COUNTRY_INFO!$T$9:$T$1000=\"MDA1 (IVM+ALB)\", COUNTRY_INFO!$T$9:$T$1000, \" \")","v":"MDA1 (IVM+ALB)"},"March 2019",null,70314,144395,214709,null,140519,73762,214281,null,199.84498108484797,51.083486270300213,99.800660428766378]
[{"$f":"IF(COUNTRY_INFO!A61=0,\" \",COUNTRY_INFO!A61)","v":"Mozambique"},{"$f":"IF(COUNTRY_INFO!B61=0,\" \",COUNTRY_INFO!B61)","v":"Nampula"},{"$f":"IF(COUNTRY_INFO!C61=0,\" \",COUNTRY_INFO!C61)","v":"Nacala Velha"},{"$f":"IF(COUNTRY_INFO!$T$9:$T$1000=\"MDA1 (IVM+ALB)\", COUNTRY_INFO!$T$9:$T$1000, \" \")","v":"MDA1 (IVM+ALB)"},"March 2019",null,39043,80178,119221,null,61427,61313,122740,null,157.33165996465434,76.471101798498339,102.9516612006274]
[{"$f":"IF(COUNTRY_INFO!A62=0,\" \",COUNTRY_INFO!A62)","v":"Mozambique"},{"$f":"IF(COUNTRY_INFO!B62=0,\" \",COUNTRY_INFO!B62)","v":"Nampula"},{"$f":"IF(COUNTRY_INFO!C62=0,\" \",COUNTRY_INFO!C62)","v":"Nacaroa"},{"$f":"IF(COUNTRY_INFO!$T$9:$T$1000=\"MDA1 (IVM+ALB)\", COUNTRY_INFO!$T$9:$T$1000, \" \")","v":"MDA1 (IVM+ALB)"},"March 2019",null,36888,75751,112639,null,60785,51391,112176,null,164.78258512253308,67.842008686353978,99.588952316693153]
[{"$f":"IF(COUNTRY_INFO!A63=0,\" \",COUNTRY_INFO!A63)","v":"Mozambique"},{"$f":"IF(COUNTRY_INFO!B63=0,\" \",COUNTRY_INFO!B63)","v":"Nampula"},{"$f":"IF(COUNTRY_INFO!C63=0,\" \",COUNTRY_INFO!C63)","v":"Nampula Dist."},{"$f":"IF(COUNTRY_INFO!$T$9:$T$1000=\"MDA1 (IVM+ALB)\", COUNTRY_INFO!$T$9:$T$1000, \" \")","v":"MDA1 (IVM+ALB)"},"March 2019",null,49717,102097,151814,null,72858,92642,165500,null,146.54544723132932,90.739198997032233,109.01497885570501]
[{"$f":"IF(COUNTRY_INFO!A64=0,\" \",COUNTRY_INFO!A64)","v":"Mozambique"},{"$f":"IF(COUNTRY_INFO!B64=0,\" \",COUNTRY_INFO!B64)","v":"Nampula"},{"$f":"IF(COUNTRY_INFO!C64=0,\" \",COUNTRY_INFO!C64)","v":"Ribaué"},{"$f":"IF(COUNTRY_INFO!$T$9:$T$1000=\"MDA1 (IVM+ALB)\", COUNTRY_INFO!$T$9:$T$1000, \" \")","v":"MDA1 (IVM+ALB)"},"March 2019",null,82734,169900,252634,null,107792,116348,224140,null,130.28742717625158,68.480282519128906,88.721233088182899]
[{"$f":"IF(COUNTRY_INFO!A65=0,\" \",COUNTRY_INFO!A65)","v":"Mozambique"},{"$f":"IF(COUNTRY_INFO!B65=0,\" \",COUNTRY_INFO!B65)","v":"Zambezia"},{"$f":"IF(COUNTRY_INFO!C65=0,\" \",COUNTRY_INFO!C65)","v":"Quelimane"},{"$f":"IF(COUNTRY_INFO!$T$9:$T$1000=\"MDA1 (IVM+ALB)\", COUNTRY_INFO!$T$9:$T$1000, \" \")","v":" "},null,null,null,null,0,null,null,null,0,null," "," "," "]
[{"$f":"IF(COUNTRY_INFO!A66=0,\" \",COUNTRY_INFO!A66)","v":"Mozambique"},{"$f":"IF(COUNTRY_INFO!B66=0,\" \",COUNTRY_INFO!B66)","v":"Zambezia"},{"$f":"IF(COUNTRY_INFO!C66=0,\" \",COUNTRY_INFO!C66)","v":"Alto Molocué"},{"$f":"IF(COUNTRY_INFO!$T$9:$T$1000=\"MDA1 (IVM+ALB)\", COUNTRY_INFO!$T$9:$T$1000, \" \")","v":" "},null,null,null,null,0,null,null,null,0,null," "," "," "]
[{"$f":"IF(COUNTRY_INFO!A67=0,\" \",COUNTRY_INFO!A67)","v":"Mozambique"},{"$f":"IF(COUNTRY_INFO!B67=0,\" \",COUNTRY_INFO!B67)","v":"Zambezia"},{"$f":"IF(COUNTRY_INFO!C67=0,\" \",COUNTRY_INFO!C67)","v":"Chinde"},{"$f":"IF(COUNTRY_INFO!$T$9:$T$1000=\"MDA1 (IVM+ALB)\", COUNTRY_INFO!$T$9:$T$1000, \" \")","v":" "},null,null,null,null,0,null,null,null,0,null," "," "," "]
[{"$f":"IF(COUNTRY_INFO!A68=0,\" \",COUNTRY_INFO!A68)","v":"Mozambique"},{"$f":"IF(COUNTRY_INFO!B68=0,\" \",COUNTRY_INFO!B68)","v":"Zambezia"},{"$f":"IF(COUNTRY_INFO!C68=0,\" \",COUNTRY_INFO!C68)","v":"Derre"},{"$f":"IF(COUNTRY_INFO!$T$9:$T$1000=\"MDA1 (IVM+ALB)\", COUNTRY_INFO!$T$9:$T$1000, \" \")","v":" "},null,null,null,null,0,null,null,null,0,null," "," "," "]
[{"$f":"IF(COUNTRY_INFO!A69=0,\" \",COUNTRY_INFO!A69)","v":"Mozambique"},{"$f":"IF(COUNTRY_INFO!B69=0,\" \",COUNTRY_INFO!B69)","v":"Zambezia"},{"$f":"IF(COUNTRY_INFO!C69=0,\" \",COUNTRY_INFO!C69)","v":"Gilé"},{"$f":"IF(COUNTRY_INFO!$T$9:$T$1000=\"MDA1 (IVM+ALB)\", COUNTRY_INFO!$T$9:$T$1000, \" \")","v":" "},null,null,null,null,0,null,null,null,0,null," "," "," "]
[{"$f":"IF(COUNTRY_INFO!A70=0,\" \",COUNTRY_INFO!A70)","v":"Mozambique"},{"$f":"IF(COUNTRY_INFO!B70=0,\" \",COUNTRY_INFO!B70)","v":"Zambezia"},{"$f":"IF(COUNTRY_INFO!C70=0,\" \",COUNTRY_INFO!C70)","v":"Gurué"},{"$f":"IF(COUNTRY_INFO!$T$9:$T$1000=\"MDA1 (IVM+ALB)\", COUNTRY_INFO!$T$9:$T$1000, \" \")","v":" "},null,null,null,null,0,null,null,null,0,null," "," "," "]
[{"$f":"IF(COUNTRY_INFO!A71=0,\" \",COUNTRY_INFO!A71)","v":"Mozambique"},{"$f":"IF(COUNTRY_INFO!B71=0,\" \",COUNTRY_INFO!B71)","v":"Zambezia"},{"$f":"IF(COUNTRY_INFO!C71=0,\" \",COUNTRY_INFO!C71)","v":"Ile"},{"$f":"IF(COUNTRY_INFO!$T$9:$T$1000=\"MDA1 (IVM+ALB)\", COUNTRY_INFO!$T$9:$T$1000, \" \")","v":" "},null,null,null,null,0,null,null,null,0,null," "," "," "]
[{"$f":"IF(COUNTRY_INFO!A72=0,\" \",COUNTRY_INFO!A72)","v":"Mozambique"},{"$f":"IF(COUNTRY_INFO!B72=0,\" \",COUNTRY_INFO!B72)","v":"Zambezia"},{"$f":"IF(COUNTRY_INFO!C72=0,\" \",COUNTRY_INFO!C72)","v":"Inhassunge"},{"$f":"IF(COUNTRY_INFO!$T$9:$T$1000=\"MDA1 (IVM+ALB)\", COUNTRY_INFO!$T$9:$T$1000, \" \")","v":" "},null,null,null,null,0,null,null,null,0,null," "," "," "]
[{"$f":"IF(COUNTRY_INFO!A73=0,\" \",COUNTRY_INFO!A73)","v":"Mozambique"},{"$f":"IF(COUNTRY_INFO!B73=0,\" \",COUNTRY_INFO!B73)","v":"Zambezia"},{"$f":"IF(COUNTRY_INFO!C73=0,\" \",COUNTRY_INFO!C73)","v":"Luabo"},{"$f":"IF(COUNTRY_INFO!$T$9:$T$1000=\"MDA1 (IVM+ALB)\", COUNTRY_INFO!$T$9:$T$1000, \" \")","v":" "},null,null,null,null,0,null,null,null,0,null," "," "," "]
[{"$f":"IF(COUNTRY_INFO!A74=0,\" \",COUNTRY_INFO!A74)","v":"Mozambique"},{"$f":"IF(COUNTRY_INFO!B74=0,\" \",COUNTRY_INFO!B74)","v":"Zambezia"},{"$f":"IF(COUNTRY_INFO!C74=0,\" \",COUNTRY_INFO!C74)","v":"Lugela"},{"$f":"IF(COUNTRY_INFO!$T$9:$T$1000=\"MDA1 (IVM+ALB)\", COUNTRY_INFO!$T$9:$T$1000, \" \")","v":" "},null,null,null,null,{"$f":"SUM(F74:H74)","v":0},null,null,null,{"$f":"SUM(J74:L74)","v":0},null,{"$f":"IF(G74<>0, IF(K74/G74*100=0, \"-\", K74/G74*100), \" \")","v":" "},{"$f":"IF(H74<>0, IF(L74/H74*100=0, \"-\", L74/H74*100), \" \")","v":" "},{"$f":"IF(I74<>0, IF(M74/I74*100=0, \"-\", M74/I74*100), \" \")","v":" "}]
[{"$f":"IF(COUNTRY_INFO!A75=0,\" \",COUNTRY_INFO!A75)","v":"Mozambique"},{"$f":"IF(COUNTRY_INFO!B75=0,\" \",COUNTRY_INFO!B75)","v":"Zambezia"},{"$f":"IF(COUNTRY_INFO!C75=0,\" \",COUNTRY_INFO!C75)","v":"Maganja da Costa"},{"$f":"IF(COUNTRY_INFO!$T$9:$T$1000=\"MDA1 (IVM+ALB)\", COUNTRY_INFO!$T$9:$T$1000, \" \")","v":" "},null,null,null,null,0,null,null,null,0,null," "," "," "]
[{"$f":"IF(COUNTRY_INFO!A76=0,\" \",COUNTRY_INFO!A76)","v":"Mozambique"},{"$f":"IF(COUNTRY_INFO!B76=0,\" \",COUNTRY_INFO!B76)","v":"Zambezia"},{"$f":"IF(COUNTRY_INFO!C76=0,\" \",COUNTRY_INFO!C76)","v":"Milange"},{"$f":"IF(COUNTRY_INFO!$T$9:$T$1000=\"MDA1 (IVM+ALB)\", COUNTRY_INFO!$T$9:$T$1000, \" \")","v":" "},null,null,null,null,0,null,null,null,0,null," "," "," "]
[{"$f":"IF(COUNTRY_INFO!A77=0,\" \",COUNTRY_INFO!A77)","v":"Mozambique"},{"$f":"IF(COUNTRY_INFO!B77=0,\" \",COUNTRY_INFO!B77)","v":"Zambezia"},{"$f":"IF(COUNTRY_INFO!C77=0,\" \",COUNTRY_INFO!C77)","v":"Mocuba"},{"$f":"IF(COUNTRY_INFO!$T$9:$T$1000=\"MDA1 (IVM+ALB)\", COUNTRY_INFO!$T$9:$T$1000, \" \")","v":" "},null,null,null,null,0,null,null,null,0,null," "," "," "]
[{"$f":"IF(COUNTRY_INFO!A78=0,\" \",COUNTRY_INFO!A78)","v":"Mozambique"},{"$f":"IF(COUNTRY_INFO!B78=0,\" \",COUNTRY_INFO!B78)","v":"Zambezia"},{"$f":"IF(COUNTRY_INFO!C78=0,\" \",COUNTRY_INFO!C78)","v":"Mocubela"},{"$f":"IF(COUNTRY_INFO!$T$9:$T$1000=\"MDA1 (IVM+ALB)\", COUNTRY_INFO!$T$9:$T$1000, \" \")","v":" "},null,null,null,null,0,null,null,null,0,null," "," "," "]
[{"$f":"IF(COUNTRY_INFO!A79=0,\" \",COUNTRY_INFO!A79)","v":"Mozambique"},{"$f":"IF(COUNTRY_INFO!B79=0,\" \",COUNTRY_INFO!B79)","v":"Zambezia"},{"$f":"IF(COUNTRY_INFO!C79=0,\" \",COUNTRY_INFO!C79)","v":"Molumbo"},{"$f":"IF(COUNTRY_INFO!$T$9:$T$1000=\"MDA1 (IVM+ALB)\", COUNTRY_INFO!$T$9:$T$1000, \" \")","v":" "},null,null,null,null,0,null,null,null,0,null," "," "," "]
[{"$f":"IF(COUNTRY_INFO!A80=0,\" \",COUNTRY_INFO!A80)","v":"Mozambique"},{"$f":"IF(COUNTRY_INFO!B80=0,\" \",COUNTRY_INFO!B80)","v":"Zambezia"},{"$f":"IF(COUNTRY_INFO!C80=0,\" \",COUNTRY_INFO!C80)","v":"Mopeia"},{"$f":"IF(COUNTRY_INFO!$T$9:$T$1000=\"MDA1 (IVM+ALB)\", COUNTRY_INFO!$T$9:$T$1000, \" \")","v":" "},null,null,null,null,0,null,null,null,0,null," "," "," "]
[{"$f":"IF(COUNTRY_INFO!A81=0,\" \",COUNTRY_INFO!A81)","v":"Mozambique"},{"$f":"IF(COUNTRY_INFO!B81=0,\" \",COUNTRY_INFO!B81)","v":"Zambezia"},{"$f":"IF(COUNTRY_INFO!C81=0,\" \",COUNTRY_INFO!C81)","v":"Morrumbala"},{"$f":"IF(COUNTRY_INFO!$T$9:$T$1000=\"MDA1 (IVM+ALB)\", COUNTRY_INFO!$T$9:$T$1000, \" \")","v":" "},null,null,null,null,0,null,null,null,0,null," "," "," "]
[{"$f":"IF(COUNTRY_INFO!A82=0,\" \",COUNTRY_INFO!A82)","v":"Mozambique"},{"$f":"IF(COUNTRY_INFO!B82=0,\" \",COUNTRY_INFO!B82)","v":"Zambezia"},{"$f":"IF(COUNTRY_INFO!C82=0,\" \",COUNTRY_INFO!C82)","v":"Mulevala"},{"$f":"IF(COUNTRY_INFO!$T$9:$T$1000=\"MDA1 (IVM+ALB)\", COUNTRY_INFO!$T$9:$T$1000, \" \")","v":" "},null,null,null,null,0,null,null,null,0,null," "," "," "]
[{"$f":"IF(COUNTRY_INFO!A83=0,\" \",COUNTRY_INFO!A83)","v":"Mozambique"},{"$f":"IF(COUNTRY_INFO!B83=0,\" \",COUNTRY_INFO!B83)","v":"Zambezia"},{"$f":"IF(COUNTRY_INFO!C83=0,\" \",COUNTRY_INFO!C83)","v":"Namacurra"},{"$f":"IF(COUNTRY_INFO!$T$9:$T$1000=\"MDA1 (IVM+ALB)\", COUNTRY_INFO!$T$9:$T$1000, \" \")","v":" "},null,null,null,null,0,null,null,null,0,null," "," "," "]
[{"$f":"IF(COUNTRY_INFO!A84=0,\" \",COUNTRY_INFO!A84)","v":"Mozambique"},{"$f":"IF(COUNTRY_INFO!B84=0,\" \",COUNTRY_INFO!B84)","v":"Zambezia"},{"$f":"IF(COUNTRY_INFO!C84=0,\" \",COUNTRY_INFO!C84)","v":"Namarrói"},{"$f":"IF(COUNTRY_INFO!$T$9:$T$1000=\"MDA1 (IVM+ALB)\", COUNTRY_INFO!$T$9:$T$1000, \" \")","v":" "},null,null,null,null,0,null,null,null,0,null," "," "," "]
[{"$f":"IF(COUNTRY_INFO!A85=0,\" \",COUNTRY_INFO!A85)","v":"Mozambique"},{"$f":"IF(COUNTRY_INFO!B85=0,\" \",COUNTRY_INFO!B85)","v":"Zambezia"},{"$f":"IF(COUNTRY_INFO!C85=0,\" \",COUNTRY_INFO!C85)","v":"Nicoadala"},{"$f":"IF(COUNTRY_INFO!$T$9:$T$1000=\"MDA1 (IVM+ALB)\", COUNTRY_INFO!$T$9:$T$1000, \" \")","v":" "},null,null,null,null,0,null,null,null,0,null," "," "," "]
[{"$f":"IF(COUNTRY_INFO!A86=0,\" \",COUNTRY_INFO!A86)","v":"Mozambique"},{"$f":"IF(COUNTRY_INFO!B86=0,\" \",COUNTRY_INFO!B86)","v":"Zambezia"},{"$f":"IF(COUNTRY_INFO!C86=0,\" \",COUNTRY_INFO!C86)","v":"Pebane"},{"$f":"IF(COUNTRY_INFO!$T$9:$T$1000=\"MDA1 (IVM+ALB)\", COUNTRY_INFO!$T$9:$T$1000, \" \")","v":" "},null,null,null,null,0,null,null,null,0,null," "," "," "]
[{"$f":"IF(COUNTRY_INFO!A87=0,\" \",COUNTRY_INFO!A87)","v":"Mozambique"},{"$f":"IF(COUNTRY_INFO!B87=0,\" \",COUNTRY_INFO!B87)","v":"Tete"},{"$f":"IF(COUNTRY_INFO!C87=0,\" \",COUNTRY_INFO!C87)","v":"Cid Tete"},{"$f":"IF(COUNTRY_INFO!$T$9:$T$1000=\"MDA1 (IVM+ALB)\", COUNTRY_INFO!$T$9:$T$1000, \" \")","v":" "},null,null,null,null,0,null,null,null,0,null," "," "," "]
[{"$f":"IF(COUNTRY_INFO!A88=0,\" \",COUNTRY_INFO!A88)","v":"Mozambique"},{"$f":"IF(COUNTRY_INFO!B88=0,\" \",COUNTRY_INFO!B88)","v":"Tete"},{"$f":"IF(COUNTRY_INFO!C88=0,\" \",COUNTRY_INFO!C88)","v":"Angónia"},{"$f":"IF(COUNTRY_INFO!$T$9:$T$1000=\"MDA1 (IVM+ALB)\", COUNTRY_INFO!$T$9:$T$1000, \" \")","v":" "},null,null,null,null,0,null,null,null,0,null," "," "," "]
[{"$f":"IF(COUNTRY_INFO!A89=0,\" \",COUNTRY_INFO!A89)","v":"Mozambique"},{"$f":"IF(COUNTRY_INFO!B89=0,\" \",COUNTRY_INFO!B89)","v":"Tete"},{"$f":"IF(COUNTRY_INFO!C89=0,\" \",COUNTRY_INFO!C89)","v":"Cahora Bassa"},{"$f":"IF(COUNTRY_INFO!$T$9:$T$1000=\"MDA1 (IVM+ALB)\", COUNTRY_INFO!$T$9:$T$1000, \" \")","v":" "},null,null,null,null,0,null,null,null,0,null," "," "," "]
[{"$f":"IF(COUNTRY_INFO!A90=0,\" \",COUNTRY_INFO!A90)","v":"Mozambique"},{"$f":"IF(COUNTRY_INFO!B90=0,\" \",COUNTRY_INFO!B90)","v":"Tete"},{"$f":"IF(COUNTRY_INFO!C90=0,\" \",COUNTRY_INFO!C90)","v":"Changara "},{"$f":"IF(COUNTRY_INFO!$T$9:$T$1000=\"MDA1 (IVM+ALB)\", COUNTRY_INFO!$T$9:$T$1000, \" \")","v":" "},null,null,null,null,0,null,null,null,0,null," "," "," "]
[{"$f":"IF(COUNTRY_INFO!A91=0,\" \",COUNTRY_INFO!A91)","v":"Mozambique"},{"$f":"IF(COUNTRY_INFO!B91=0,\" \",COUNTRY_INFO!B91)","v":"Tete"},{"$f":"IF(COUNTRY_INFO!C91=0,\" \",COUNTRY_INFO!C91)","v":"Chifunde"},{"$f":"IF(COUNTRY_INFO!$T$9:$T$1000=\"MDA1 (IVM+ALB)\", COUNTRY_INFO!$T$9:$T$1000, \" \")","v":"MDA1 (IVM+ALB)"},"April 2019",null,55826,114642,170468,null,63334,68126,131460,null,113.44893060581092,59.424992585614348,77.117112889222611]
[{"$f":"IF(COUNTRY_INFO!A92=0,\" \",COUNTRY_INFO!A92)","v":"Mozambique"},{"$f":"IF(COUNTRY_INFO!B92=0,\" \",COUNTRY_INFO!B92)","v":"Tete"},{"$f":"IF(COUNTRY_INFO!C92=0,\" \",COUNTRY_INFO!C92)","v":"Chiúta"},{"$f":"IF(COUNTRY_INFO!$T$9:$T$1000=\"MDA1 (IVM+ALB)\", COUNTRY_INFO!$T$9:$T$1000, \" \")","v":" "},null,null,null,null,0,null,null,null,0,null," "," "," "]
[{"$f":"IF(COUNTRY_INFO!A93=0,\" \",COUNTRY_INFO!A93)","v":"Mozambique"},{"$f":"IF(COUNTRY_INFO!B93=0,\" \",COUNTRY_INFO!B93)","v":"Tete"},{"$f":"IF(COUNTRY_INFO!C93=0,\" \",COUNTRY_INFO!C93)","v":"Doa"},{"$f":"IF(COUNTRY_INFO!$T$9:$T$1000=\"MDA1 (IVM+ALB)\", COUNTRY_INFO!$T$9:$T$1000, \" \")","v":"MDA1 (IVM+ALB)"},"April 2019",null,30496,62625,93121,null,28253,51788,80041,null,92.644937040923409,82.69540918163672,85.953759087638659]
[{"$f":"IF(COUNTRY_INFO!A94=0,\" \",COUNTRY_INFO!A94)","v":"Mozambique"},{"$f":"IF(COUNTRY_INFO!B94=0,\" \",COUNTRY_INFO!B94)","v":"Tete"},{"$f":"IF(COUNTRY_INFO!C94=0,\" \",COUNTRY_INFO!C94)","v":"Macanga"},{"$f":"IF(COUNTRY_INFO!$T$9:$T$1000=\"MDA1 (IVM+ALB)\", COUNTRY_INFO!$T$9:$T$1000, \" \")","v":" "},null,null,null,null,0,null,null,null,0,null," "," "," "]
[{"$f":"IF(COUNTRY_INFO!A95=0,\" \",COUNTRY_INFO!A95)","v":"Mozambique"},{"$f":"IF(COUNTRY_INFO!B95=0,\" \",COUNTRY_INFO!B95)","v":"Tete"},{"$f":"IF(COUNTRY_INFO!C95=0,\" \",COUNTRY_INFO!C95)","v":"Magoe"},{"$f":"IF(COUNTRY_INFO!$T$9:$T$1000=\"MDA1 (IVM+ALB)\", COUNTRY_INFO!$T$9:$T$1000, \" \")","v":" "},null,null,null,null,0,null,null,null,0,null," "," "," "]
[{"$f":"IF(COUNTRY_INFO!A96=0,\" \",COUNTRY_INFO!A96)","v":"Mozambique"},{"$f":"IF(COUNTRY_INFO!B96=0,\" \",COUNTRY_INFO!B96)","v":"Tete"},{"$f":"IF(COUNTRY_INFO!C96=0,\" \",COUNTRY_INFO!C96)","v":"Marávia"},{"$f":"IF(COUNTRY_INFO!$T$9:$T$1000=\"MDA1 (IVM+ALB)\", COUNTRY_INFO!$T$9:$T$1000, \" \")","v":" "},null,null,null,null,0,null,null,null,0,null," "," "," "]
[{"$f":"IF(COUNTRY_INFO!A97=0,\" \",COUNTRY_INFO!A97)","v":"Mozambique"},{"$f":"IF(COUNTRY_INFO!B97=0,\" \",COUNTRY_INFO!B97)","v":"Tete"},{"$f":"IF(COUNTRY_INFO!C97=0,\" \",COUNTRY_INFO!C97)","v":"Marara"},{"$f":"IF(COUNTRY_INFO!$T$9:$T$1000=\"MDA1 (IVM+ALB)\", COUNTRY_INFO!$T$9:$T$1000, \" \")","v":" "},null,null,null,null,0,null,null,null,0,null," "," "," "]
[{"$f":"IF(COUNTRY_INFO!A98=0,\" \",COUNTRY_INFO!A98)","v":"Mozambique"},{"$f":"IF(COUNTRY_INFO!B98=0,\" \",COUNTRY_INFO!B98)","v":"Tete"},{"$f":"IF(COUNTRY_INFO!C98=0,\" \",COUNTRY_INFO!C98)","v":"Moatize"},{"$f":"IF(COUNTRY_INFO!$T$9:$T$1000=\"MDA1 (IVM+ALB)\", COUNTRY_INFO!$T$9:$T$1000, \" \")","v":" "},null,null,null,null,0,null,null,null,0,null," "," "," "]
[{"$f":"IF(COUNTRY_INFO!A99=0,\" \",COUNTRY_INFO!A99)","v":"Mozambique"},{"$f":"IF(COUNTRY_INFO!B99=0,\" \",COUNTRY_INFO!B99)","v":"Tete"},{"$f":"IF(COUNTRY_INFO!C99=0,\" \",COUNTRY_INFO!C99)","v":"Mutarara"},{"$f":"IF(COUNTRY_INFO!$T$9:$T$1000=\"MDA1 (IVM+ALB)\", COUNTRY_INFO!$T$9:$T$1000, \" \")","v":"MDA1 (IVM+ALB)"},"April 2019",null,62865,129097,191962,null,64230,116521,180751,null,102.17131949415415,90.258487803744472,94.159781623446307]
[{"$f":"IF(COUNTRY_INFO!A100=0,\" \",COUNTRY_INFO!A100)","v":"Mozambique"},{"$f":"IF(COUNTRY_INFO!B100=0,\" \",COUNTRY_INFO!B100)","v":"Tete"},{"$f":"IF(COUNTRY_INFO!C100=0,\" \",COUNTRY_INFO!C100)","v":"Tsangano"},{"$f":"IF(COUNTRY_INFO!$T$9:$T$1000=\"MDA1 (IVM+ALB)\", COUNTRY_INFO!$T$9:$T$1000, \" \")","v":" "},null,null,null,null,0,null,null,null,0,null," "," "," "]
[{"$f":"IF(COUNTRY_INFO!A101=0,\" \",COUNTRY_INFO!A101)","v":"Mozambique"},{"$f":"IF(COUNTRY_INFO!B101=0,\" \",COUNTRY_INFO!B101)","v":"Tete"},{"$f":"IF(COUNTRY_INFO!C101=0,\" \",COUNTRY_INFO!C101)","v":"Zumbu"},{"$f":"IF(COUNTRY_INFO!$T$9:$T$1000=\"MDA1 (IVM+ALB)\", COUNTRY_INFO!$T$9:$T$1000, \" \")","v":" "},null,null,null,null,0,null,null,null,0,null," "," "," "]
[{"$f":"IF(COUNTRY_INFO!A102=0,\" \",COUNTRY_INFO!A102)","v":"Mozambique"},{"$f":"IF(COUNTRY_INFO!B102=0,\" \",COUNTRY_INFO!B102)","v":"Sofala"},{"$f":"IF(COUNTRY_INFO!C102=0,\" \",COUNTRY_INFO!C102)","v":"Cid Beira"},{"$f":"IF(COUNTRY_INFO!$T$9:$T$1000=\"MDA1 (IVM+ALB)\", COUNTRY_INFO!$T$9:$T$1000, \" \")","v":"MDA1 (IVM+ALB)"},"May 2019",null,130457,267903,398360,null,159219,144549,303768,null,122.04711130870709,53.955722780260018,76.254644040566319]
[{"$f":"IF(COUNTRY_INFO!A103=0,\" \",COUNTRY_INFO!A103)","v":"Mozambique"},{"$f":"IF(COUNTRY_INFO!B103=0,\" \",COUNTRY_INFO!B103)","v":"Sofala"},{"$f":"IF(COUNTRY_INFO!C103=0,\" \",COUNTRY_INFO!C103)","v":"Buzi"},{"$f":"IF(COUNTRY_INFO!$T$9:$T$1000=\"MDA1 (IVM+ALB)\", COUNTRY_INFO!$T$9:$T$1000, \" \")","v":" "},null,null,null,null,0,null,null,null,0,null," "," "," "]
[{"$f":"IF(COUNTRY_INFO!A104=0,\" \",COUNTRY_INFO!A104)","v":"Mozambique"},{"$f":"IF(COUNTRY_INFO!B104=0,\" \",COUNTRY_INFO!B104)","v":"Sofala"},{"$f":"IF(COUNTRY_INFO!C104=0,\" \",COUNTRY_INFO!C104)","v":"Caia"},{"$f":"IF(COUNTRY_INFO!$T$9:$T$1000=\"MDA1 (IVM+ALB)\", COUNTRY_INFO!$T$9:$T$1000, \" \")","v":"MDA1 (IVM+ALB)"},"May 2019",null,45887,94232,140119,null,72617,78967,151584,null,158.25179244666245,83.800619747007389,108.18233073316253]
[{"$f":"IF(COUNTRY_INFO!A105=0,\" \",COUNTRY_INFO!A105)","v":"Mozambique"},{"$f":"IF(COUNTRY_INFO!B105=0,\" \",COUNTRY_INFO!B105)","v":"Sofala"},{"$f":"IF(COUNTRY_INFO!C105=0,\" \",COUNTRY_INFO!C105)","v":"Chemba"},{"$f":"IF(COUNTRY_INFO!$T$9:$T$1000=\"MDA1 (IVM+ALB)\", COUNTRY_INFO!$T$9:$T$1000, \" \")","v":"MDA1 (IVM+ALB)"},"May 2019",null,24003,49292,73295,null,24225,48646,72871,null,100.92488438945131,98.689442505883306,99.421515792346]
[{"$f":"IF(COUNTRY_INFO!A106=0,\" \",COUNTRY_INFO!A106)","v":"Mozambique"},{"$f":"IF(COUNTRY_INFO!B106=0,\" \",COUNTRY_INFO!B106)","v":"Sofala"},{"$f":"IF(COUNTRY_INFO!C106=0,\" \",COUNTRY_INFO!C106)","v":"Cheringoma"},{"$f":"IF(COUNTRY_INFO!$T$9:$T$1000=\"MDA1 (IVM+ALB)\", COUNTRY_INFO!$T$9:$T$1000, \" \")","v":"MDA1 (IVM+ALB)"},"May 2019",null,23222,47687,70909,null,23099,42888,65987,null,99.470329859615873,89.936460670623021,93.058709049626984]
[{"$f":"IF(COUNTRY_INFO!A107=0,\" \",COUNTRY_INFO!A107)","v":"Mozambique"},{"$f":"IF(COUNTRY_INFO!B107=0,\" \",COUNTRY_INFO!B107)","v":"Sofala"},{"$f":"IF(COUNTRY_INFO!C107=0,\" \",COUNTRY_INFO!C107)","v":"Chibabava"},{"$f":"IF(COUNTRY_INFO!$T$9:$T$1000=\"MDA1 (IVM+ALB)\", COUNTRY_INFO!$T$9:$T$1000, \" \")","v":"MDA1 (IVM+ALB)"},"May 2019",null,41360,84937,126297,null,38948,38282,77230,null,94.168278529980654,45.071052662561662,61.149512656674347]
[{"$f":"IF(COUNTRY_INFO!A108=0,\" \",COUNTRY_INFO!A108)","v":"Mozambique"},{"$f":"IF(COUNTRY_INFO!B108=0,\" \",COUNTRY_INFO!B108)","v":"Sofala"},{"$f":"IF(COUNTRY_INFO!C108=0,\" \",COUNTRY_INFO!C108)","v":"Dondo"},{"$f":"IF(COUNTRY_INFO!$T$9:$T$1000=\"MDA1 (IVM+ALB)\", COUNTRY_INFO!$T$9:$T$1000, \" \")","v":"MDA1 (IVM+ALB)"},"May 2019",null,52993,108824,161817,null,42585,92717.232052372667,135302.23205237265,null,80.359670145113498,85.199250213530718,83.61434957536764]
[{"$f":"IF(COUNTRY_INFO!A109=0,\" \",COUNTRY_INFO!A109)","v":"Mozambique"},{"$f":"IF(COUNTRY_INFO!B109=0,\" \",COUNTRY_INFO!B109)","v":"Sofala"},{"$f":"IF(COUNTRY_INFO!C109=0,\" \",COUNTRY_INFO!C109)","v":"Gorongosa"},{"$f":"IF(COUNTRY_INFO!$T$9:$T$1000=\"MDA1 (IVM+ALB)\", COUNTRY_INFO!$T$9:$T$1000, \" \")","v":"MDA1 (IVM+ALB)"},"May 2019",null,51013,104759,155772,null,63175,90122,153297,null,123.84098171054436,86.027930774444201,98.411139357522543]
[{"$f":"IF(COUNTRY_INFO!A110=0,\" \",COUNTRY_INFO!A110)","v":"Mozambique"},{"$f":"IF(COUNTRY_INFO!B110=0,\" \",COUNTRY_INFO!B110)","v":"Sofala"},{"$f":"IF(COUNTRY_INFO!C110=0,\" \",COUNTRY_INFO!C110)","v":"Machanga"},{"$f":"IF(COUNTRY_INFO!$T$9:$T$1000=\"MDA1 (IVM+ALB)\", COUNTRY_INFO!$T$9:$T$1000, \" \")","v":"MDA1 (IVM+ALB)"},"May 2019",null,19217,39464,58681,null,25576,30786,56362,null,133.09049279283965,78.010338536387593,96.048124605920151]
[{"$f":"IF(COUNTRY_INFO!A111=0,\" \",COUNTRY_INFO!A111)","v":"Mozambique"},{"$f":"IF(COUNTRY_INFO!B111=0,\" \",COUNTRY_INFO!B111)","v":"Sofala"},{"$f":"IF(COUNTRY_INFO!C111=0,\" \",COUNTRY_INFO!C111)","v":"Maringue"},{"$f":"IF(COUNTRY_INFO!$T$9:$T$1000=\"MDA1 (IVM+ALB)\", COUNTRY_INFO!$T$9:$T$1000, \" \")","v":"MDA1 (IVM+ALB)"},"May 2019",null,28493,58513,87006,null,31221,64612,95833,null,109.57428140244971,110.42332473125632,110.14527733719515]
[{"$f":"IF(COUNTRY_INFO!A112=0,\" \",COUNTRY_INFO!A112)","v":"Mozambique"},{"$f":"IF(COUNTRY_INFO!B112=0,\" \",COUNTRY_INFO!B112)","v":"Sofala"},{"$f":"IF(COUNTRY_INFO!C112=0,\" \",COUNTRY_INFO!C112)","v":"Marromeu"},{"$f":"IF(COUNTRY_INFO!$T$9:$T$1000=\"MDA1 (IVM+ALB)\", COUNTRY_INFO!$T$9:$T$1000, \" \")","v":"MDA1 (IVM+ALB)"},"May 2019",null,54993,112932,167925,null,59413,92795,152208,null,108.03738657647337,82.168915807742721,90.64046449307726]
[{"$f":"IF(COUNTRY_INFO!A113=0,\" \",COUNTRY_INFO!A113)","v":"Mozambique"},{"$f":"IF(COUNTRY_INFO!B113=0,\" \",COUNTRY_INFO!B113)","v":"Sofala"},{"$f":"IF(COUNTRY_INFO!C113=0,\" \",COUNTRY_INFO!C113)","v":"Muanza"},{"$f":"IF(COUNTRY_INFO!$T$9:$T$1000=\"MDA1 (IVM+ALB)\", COUNTRY_INFO!$T$9:$T$1000, \" \")","v":"MDA1 (IVM+ALB)"},"May 2019",null,12260,25177,37437,null,13423,15037,28460,null,109.48613376835237,59.725145966556781,76.021048695141175]
[{"$f":"IF(COUNTRY_INFO!A114=0,\" \",COUNTRY_INFO!A114)","v":"Mozambique"},{"$f":"IF(COUNTRY_INFO!B114=0,\" \",COUNTRY_INFO!B114)","v":"Sofala"},{"$f":"IF(COUNTRY_INFO!C114=0,\" \",COUNTRY_INFO!C114)","v":"Nhamatanda"},{"$f":"IF(COUNTRY_INFO!$T$9:$T$1000=\"MDA1 (IVM+ALB)\", COUNTRY_INFO!$T$9:$T$1000, \" \")","v":"MDA1 (IVM+ALB)"},"May 2019",null,90303,185444,275747,null,113214,102334,215548,null,125.37125012458057,55.183235909492886,78.168756142405897]
[{"$f":"IF(COUNTRY_INFO!A115=0,\" \",COUNTRY_INFO!A115)","v":"Mozambique"},{"$f":"IF(COUNTRY_INFO!B115=0,\" \",COUNTRY_INFO!B115)","v":"Manica"},{"$f":"IF(COUNTRY_INFO!C115=0,\" \",COUNTRY_INFO!C115)","v":"Cid. Chimoio"},{"$f":"IF(COUNTRY_INFO!$T$9:$T$1000=\"MDA1 (IVM+ALB)\", COUNTRY_INFO!$T$9:$T$1000, \" \")","v":" "},null,null,null,null,0,null,null,null,0,null," "," "," "]
[{"$f":"IF(COUNTRY_INFO!A116=0,\" \",COUNTRY_INFO!A116)","v":"Mozambique"},{"$f":"IF(COUNTRY_INFO!B116=0,\" \",COUNTRY_INFO!B116)","v":"Manica"},{"$f":"IF(COUNTRY_INFO!C116=0,\" \",COUNTRY_INFO!C116)","v":"Barué"},{"$f":"IF(COUNTRY_INFO!$T$9:$T$1000=\"MDA1 (IVM+ALB)\", COUNTRY_INFO!$T$9:$T$1000, \" \")","v":"MDA1 (IVM+ALB)"},"April 2019",null,77291,158722,236013,null,102479,103021,205500,null,132.58852906547983,64.906566197502542,87.071474876383931]
[{"$f":"IF(COUNTRY_INFO!A117=0,\" \",COUNTRY_INFO!A117)","v":"Mozambique"},{"$f":"IF(COUNTRY_INFO!B117=0,\" \",COUNTRY_INFO!B117)","v":"Manica"},{"$f":"IF(COUNTRY_INFO!C117=0,\" \",COUNTRY_INFO!C117)","v":"Gondola"},{"$f":"IF(COUNTRY_INFO!$T$9:$T$1000=\"MDA1 (IVM+ALB)\", COUNTRY_INFO!$T$9:$T$1000, \" \")","v":" "},null,null,null,null,0,null,null,null,0,null," "," "," "]
[{"$f":"IF(COUNTRY_INFO!A118=0,\" \",COUNTRY_INFO!A118)","v":"Mozambique"},{"$f":"IF(COUNTRY_INFO!B118=0,\" \",COUNTRY_INFO!B118)","v":"Manica"},{"$f":"IF(COUNTRY_INFO!C118=0,\" \",COUNTRY_INFO!C118)","v":"Guro"},{"$f":"IF(COUNTRY_INFO!$T$9:$T$1000=\"MDA1 (IVM+ALB)\", COUNTRY_INFO!$T$9:$T$1000, \" \")","v":"MDA1 (IVM+ALB)"},"April 2019",null,28979,59511,88490,null,29822,56137,85959,null,102.90900307118949,94.330459914973702,97.139789806757832]
[{"$f":"IF(COUNTRY_INFO!A119=0,\" \",COUNTRY_INFO!A119)","v":"Mozambique"},{"$f":"IF(COUNTRY_INFO!B119=0,\" \",COUNTRY_INFO!B119)","v":"Manica"},{"$f":"IF(COUNTRY_INFO!C119=0,\" \",COUNTRY_INFO!C119)","v":"Macate"},{"$f":"IF(COUNTRY_INFO!$T$9:$T$1000=\"MDA1 (IVM+ALB)\", COUNTRY_INFO!$T$9:$T$1000, \" \")","v":" "},null,null,null,null,0,null,null,null,0,null," "," "," "]
[{"$f":"IF(COUNTRY_INFO!A120=0,\" \",COUNTRY_INFO!A120)","v":"Mozambique"},{"$f":"IF(COUNTRY_INFO!B120=0,\" \",COUNTRY_INFO!B120)","v":"Manica"},{"$f":"IF(COUNTRY_INFO!C120=0,\" \",COUNTRY_INFO!C120)","v":"Machaze"},{"$f":"IF(COUNTRY_INFO!$T$9:$T$1000=\"MDA1 (IVM+ALB)\", COUNTRY_INFO!$T$9:$T$1000, \" \")","v":" "},null,null,null,null,0,null,null,null,0,null," "," "," "]
[{"$f":"IF(COUNTRY_INFO!A121=0,\" \",COUNTRY_INFO!A121)","v":"Mozambique"},{"$f":"IF(COUNTRY_INFO!B121=0,\" \",COUNTRY_INFO!B121)","v":"Manica"},{"$f":"IF(COUNTRY_INFO!C121=0,\" \",COUNTRY_INFO!C121)","v":"Macossa"},{"$f":"IF(COUNTRY_INFO!$T$9:$T$1000=\"MDA1 (IVM+ALB)\", COUNTRY_INFO!$T$9:$T$1000, \" \")","v":"MDA1 (IVM+ALB)"},"April 2019",null,15719,32280,47999,null,16165,30291,46456,null,102.83733061899612,93.838289962825286,96.78534969478531]
[{"$f":"IF(COUNTRY_INFO!A122=0,\" \",COUNTRY_INFO!A122)","v":"Mozambique"},{"$f":"IF(COUNTRY_INFO!B122=0,\" \",COUNTRY_INFO!B122)","v":"Manica"},{"$f":"IF(COUNTRY_INFO!C122=0,\" \",COUNTRY_INFO!C122)","v":"Manica"},{"$f":"IF(COUNTRY_INFO!$T$9:$T$1000=\"MDA1 (IVM+ALB)\", COUNTRY_INFO!$T$9:$T$1000, \" \")","v":" "},null,null,null,null,0,null,null,null,0,null," "," "," "]
[{"$f":"IF(COUNTRY_INFO!A123=0,\" \",COUNTRY_INFO!A123)","v":"Mozambique"},{"$f":"IF(COUNTRY_INFO!B123=0,\" \",COUNTRY_INFO!B123)","v":"Manica"},{"$f":"IF(COUNTRY_INFO!C123=0,\" \",COUNTRY_INFO!C123)","v":"Mossurize"},{"$f":"IF(COUNTRY_INFO!$T$9:$T$1000=\"MDA1 (IVM+ALB)\", COUNTRY_INFO!$T$9:$T$1000, \" \")","v":" "},null,null,null,null,0,null,null,null,0,null," "," "," "]
[{"$f":"IF(COUNTRY_INFO!A124=0,\" \",COUNTRY_INFO!A124)","v":"Mozambique"},{"$f":"IF(COUNTRY_INFO!B124=0,\" \",COUNTRY_INFO!B124)","v":"Manica"},{"$f":"IF(COUNTRY_INFO!C124=0,\" \",COUNTRY_INFO!C124)","v":"Sussundenga"},{"$f":"IF(COUNTRY_INFO!$T$9:$T$1000=\"MDA1 (IVM+ALB)\", COUNTRY_INFO!$T$9:$T$1000, \" \")","v":"MDA1 (IVM+ALB)"},"April 2019",null,49962,102601,152563,null,47289,100085,147374,null,94.649933949801849,97.547782185358827,96.598782142459186]
[{"$f":"IF(COUNTRY_INFO!A125=0,\" \",COUNTRY_INFO!A125)","v":"Mozambique"},{"$f":"IF(COUNTRY_INFO!B125=0,\" \",COUNTRY_INFO!B125)","v":"Manica"},{"$f":"IF(COUNTRY_INFO!C125=0,\" \",COUNTRY_INFO!C125)","v":"Tambara"},{"$f":"IF(COUNTRY_INFO!$T$9:$T$1000=\"MDA1 (IVM+ALB)\", COUNTRY_INFO!$T$9:$T$1000, \" \")","v":"MDA1 (IVM+ALB)"},"April 2019",null,16697,34288,50985,null,15733,31952,47685,null,94.226507755884299,93.187120858609433,93.527508090614887]
[{"$f":"IF(COUNTRY_INFO!A126=0,\" \",COUNTRY_INFO!A126)","v":"Mozambique"},{"$f":"IF(COUNTRY_INFO!B126=0,\" \",COUNTRY_INFO!B126)","v":"Manica"},{"$f":"IF(COUNTRY_INFO!C126=0,\" \",COUNTRY_INFO!C126)","v":"Vanduze"},{"$f":"IF(COUNTRY_INFO!$T$9:$T$1000=\"MDA1 (IVM+ALB)\", COUNTRY_INFO!$T$9:$T$1000, \" \")","v":" "},null,null,null,null,0,null,null,null,0,null," "," "," "]
[{"$f":"IF(COUNTRY_INFO!A127=0,\" \",COUNTRY_INFO!A127)","v":"Mozambique"},{"$f":"IF(COUNTRY_INFO!B127=0,\" \",COUNTRY_INFO!B127)","v":"Inhambane"},{"$f":"IF(COUNTRY_INFO!C127=0,\" \",COUNTRY_INFO!C127)","v":"Cid. I'bane"},{"$f":"IF(COUNTRY_INFO!$T$9:$T$1000=\"MDA1 (IVM+ALB)\", COUNTRY_INFO!$T$9:$T$1000, \" \")","v":"MDA1 (IVM+ALB)"},"March 2019",null,23756,48784,72540,null,24610,37428,62038,null,103.594881293147,76.721876024926203,85.522470361180041]
[{"$f":"IF(COUNTRY_INFO!A128=0,\" \",COUNTRY_INFO!A128)","v":"Mozambique"},{"$f":"IF(COUNTRY_INFO!B128=0,\" \",COUNTRY_INFO!B128)","v":"Inhambane"},{"$f":"IF(COUNTRY_INFO!C128=0,\" \",COUNTRY_INFO!C128)","v":"Funhalouro"},{"$f":"IF(COUNTRY_INFO!$T$9:$T$1000=\"MDA1 (IVM+ALB)\", COUNTRY_INFO!$T$9:$T$1000, \" \")","v":" "},null,null,null,null,0,null,null,null,0,null," "," "," "]
[{"$f":"IF(COUNTRY_INFO!A129=0,\" \",COUNTRY_INFO!A129)","v":"Mozambique"},{"$f":"IF(COUNTRY_INFO!B129=0,\" \",COUNTRY_INFO!B129)","v":"Inhambane"},{"$f":"IF(COUNTRY_INFO!C129=0,\" \",COUNTRY_INFO!C129)","v":"Govuro"},{"$f":"IF(COUNTRY_INFO!$T$9:$T$1000=\"MDA1 (IVM+ALB)\", COUNTRY_INFO!$T$9:$T$1000, \" \")","v":"MDA1 (IVM+ALB)"},"March 2019",null,12487,25643,38130,null,11765,24081,35846,null,94.217986706174415,93.908669032484511,94.009965906110665]
[{"$f":"IF(COUNTRY_INFO!A130=0,\" \",COUNTRY_INFO!A130)","v":"Mozambique"},{"$f":"IF(COUNTRY_INFO!B130=0,\" \",COUNTRY_INFO!B130)","v":"Inhambane"},{"$f":"IF(COUNTRY_INFO!C130=0,\" \",COUNTRY_INFO!C130)","v":"Homoíne"},{"$f":"IF(COUNTRY_INFO!$T$9:$T$1000=\"MDA1 (IVM+ALB)\", COUNTRY_INFO!$T$9:$T$1000, \" \")","v":"MDA1 (IVM+ALB)"},"March 2019",null,37971,77976,115947,null,44097,75214,119311,null,116.13336493639883,96.457884477275059,102.90132560566465]
[{"$f":"IF(COUNTRY_INFO!A131=0,\" \",COUNTRY_INFO!A131)","v":"Mozambique"},{"$f":"IF(COUNTRY_INFO!B131=0,\" \",COUNTRY_INFO!B131)","v":"Inhambane"},{"$f":"IF(COUNTRY_INFO!C131=0,\" \",COUNTRY_INFO!C131)","v":"Inharrime"},{"$f":"IF(COUNTRY_INFO!$T$9:$T$1000=\"MDA1 (IVM+ALB)\", COUNTRY_INFO!$T$9:$T$1000, \" \")","v":" "},null,null,null,null,0,null,null,null,0,null," "," "," "]
[{"$f":"IF(COUNTRY_INFO!A132=0,\" \",COUNTRY_INFO!A132)","v":"Mozambique"},{"$f":"IF(COUNTRY_INFO!B132=0,\" \",COUNTRY_INFO!B132)","v":"Inhambane"},{"$f":"IF(COUNTRY_INFO!C132=0,\" \",COUNTRY_INFO!C132)","v":"Inhassoro"},{"$f":"IF(COUNTRY_INFO!$T$9:$T$1000=\"MDA1 (IVM+ALB)\", COUNTRY_INFO!$T$9:$T$1000, \" \")","v":"MDA1 (IVM+ALB)"},"March 2019",null,19033,39086,58119,null,19243,34651,53894,null,101.10334681868333,88.653226219106585,92.730432388719692]
[{"$f":"IF(COUNTRY_INFO!A133=0,\" \",COUNTRY_INFO!A133)","v":"Mozambique"},{"$f":"IF(COUNTRY_INFO!B133=0,\" \",COUNTRY_INFO!B133)","v":"Inhambane"},{"$f":"IF(COUNTRY_INFO!C133=0,\" \",COUNTRY_INFO!C133)","v":"Jangamo"},{"$f":"IF(COUNTRY_INFO!$T$9:$T$1000=\"MDA1 (IVM+ALB)\", COUNTRY_INFO!$T$9:$T$1000, \" \")","v":"MDA1 (IVM+ALB)"},"March 2019",null,32628,67004,99632,null,42036,54192,96228,null,128.8341301949246,80.878753507253293,96.583427011401952]
[{"$f":"IF(COUNTRY_INFO!A134=0,\" \",COUNTRY_INFO!A134)","v":"Mozambique"},{"$f":"IF(COUNTRY_INFO!B134=0,\" \",COUNTRY_INFO!B134)","v":"Inhambane"},{"$f":"IF(COUNTRY_INFO!C134=0,\" \",COUNTRY_INFO!C134)","v":"Mabote"},{"$f":"IF(COUNTRY_INFO!$T$9:$T$1000=\"MDA1 (IVM+ALB)\", COUNTRY_INFO!$T$9:$T$1000, \" \")","v":"MDA1 (IVM+ALB)"},"March 2019",null,15317,31455,46772,null,20477,32597,53074,null,133.68805901939024,103.63058337307265,113.47387325750449]
[{"$f":"IF(COUNTRY_INFO!A135=0,\" \",COUNTRY_INFO!A135)","v":"Mozambique"},{"$f":"IF(COUNTRY_INFO!B135=0,\" \",COUNTRY_INFO!B135)","v":"Inhambane"},{"$f":"IF(COUNTRY_INFO!C135=0,\" \",COUNTRY_INFO!C135)","v":"Massinga"},{"$f":"IF(COUNTRY_INFO!$T$9:$T$1000=\"MDA1 (IVM+ALB)\", COUNTRY_INFO!$T$9:$T$1000, \" \")","v":"MDA1 (IVM+ALB)"},"March 2019",null,58651,120444,179095,null,95735,84748,180483,null,163.2282484527118,70.362990269336791,100.7750076774896]
[{"$f":"IF(COUNTRY_INFO!A136=0,\" \",COUNTRY_INFO!A136)","v":"Mozambique"},{"$f":"IF(COUNTRY_INFO!B136=0,\" \",COUNTRY_INFO!B136)","v":"Inhambane"},{"$f":"IF(COUNTRY_INFO!C136=0,\" \",COUNTRY_INFO!C136)","v":"Maxixe"},{"$f":"IF(COUNTRY_INFO!$T$9:$T$1000=\"MDA1 (IVM+ALB)\", COUNTRY_INFO!$T$9:$T$1000, \" \")","v":"MDA1 (IVM+ALB)"},"March 2019",null,38272,78594,116866,null,55540,86504,142044,null,145.11914715719064,110.06438150494948,121.54433282562935]
[{"$f":"IF(COUNTRY_INFO!A137=0,\" \",COUNTRY_INFO!A137)","v":"Mozambique"},{"$f":"IF(COUNTRY_INFO!B137=0,\" \",COUNTRY_INFO!B137)","v":"Inhambane"},{"$f":"IF(COUNTRY_INFO!C137=0,\" \",COUNTRY_INFO!C137)","v":"Morrumbene"},{"$f":"IF(COUNTRY_INFO!$T$9:$T$1000=\"MDA1 (IVM+ALB)\", COUNTRY_INFO!$T$9:$T$1000, \" \")","v":"MDA1 (IVM+ALB)"},"March 2019",null,44046,90452,134498,null,68306,72305,140611,null,155.07878127412252,79.937425374784425,104.54504899701111]
[{"$f":"IF(COUNTRY_INFO!A138=0,\" \",COUNTRY_INFO!A138)","v":"Mozambique"},{"$f":"IF(COUNTRY_INFO!B138=0,\" \",COUNTRY_INFO!B138)","v":"Inhambane"},{"$f":"IF(COUNTRY_INFO!C138=0,\" \",COUNTRY_INFO!C138)","v":"Panda"},{"$f":"IF(COUNTRY_INFO!$T$9:$T$1000=\"MDA1 (IVM+ALB)\", COUNTRY_INFO!$T$9:$T$1000, \" \")","v":" "},null,null,null,null,{"$f":"SUM(F138:H138)","v":0},null,null,null,{"$f":"SUM(J138:L138)","v":0},null,{"$f":"IF(G138<>0, IF(K138/G138*100=0, \"-\", K138/G138*100), \" \")","v":" "},{"$f":"IF(H138<>0, IF(L138/H138*100=0, \"-\", L138/H138*100), \" \")","v":" "},{"$f":"IF(I138<>0, IF(M138/I138*100=0, \"-\", M138/I138*100), \" \")","v":" "}]
[{"$f":"IF(COUNTRY_INFO!A139=0,\" \",COUNTRY_INFO!A139)","v":"Mozambique"},{"$f":"IF(COUNTRY_INFO!B139=0,\" \",COUNTRY_INFO!B139)","v":"Inhambane"},{"$f":"IF(COUNTRY_INFO!C139=0,\" \",COUNTRY_INFO!C139)","v":"Vilanculos"},{"$f":"IF(COUNTRY_INFO!$T$9:$T$1000=\"MDA1 (IVM+ALB)\", COUNTRY_INFO!$T$9:$T$1000, \" \")","v":"MDA1 (IVM+ALB)"},"March 2019",null,49294,101229,150523,null,54886,83853,138739,null,111.34417981904492,82.834958361734294,92.171296080997593]
[{"$f":"IF(COUNTRY_INFO!A140=0,\" \",COUNTRY_INFO!A140)","v":"Mozambique"},{"$f":"IF(COUNTRY_INFO!B140=0,\" \",COUNTRY_INFO!B140)","v":"Inhambane"},{"$f":"IF(COUNTRY_INFO!C140=0,\" \",COUNTRY_INFO!C140)","v":"Zavala"},{"$f":"IF(COUNTRY_INFO!$T$9:$T$1000=\"MDA1 (IVM+ALB)\", COUNTRY_INFO!$T$9:$T$1000, \" \")","v":" "},null,null,null,null,0,null,null,null,0,null," "," "," "]
[{"$f":"IF(COUNTRY_INFO!A141=0,\" \",COUNTRY_INFO!A141)","v":"Mozambique"},{"$f":"IF(COUNTRY_INFO!B141=0,\" \",COUNTRY_INFO!B141)","v":"Gaza"},{"$f":"IF(COUNTRY_INFO!C141=0,\" \",COUNTRY_INFO!C141)","v":"Cid Xai Xai"},{"$f":"IF(COUNTRY_INFO!$T$9:$T$1000=\"MDA1 (IVM+ALB)\", COUNTRY_INFO!$T$9:$T$1000, \" \")","v":" "},null,null,null,null,0,null,null,null,0,null," "," "," "]
[{"$f":"IF(COUNTRY_INFO!A142=0,\" \",COUNTRY_INFO!A142)","v":"Mozambique"},{"$f":"IF(COUNTRY_INFO!B142=0,\" \",COUNTRY_INFO!B142)","v":"Gaza"},{"$f":"IF(COUNTRY_INFO!C142=0,\" \",COUNTRY_INFO!C142)","v":"Bilene Macia"},{"$f":"IF(COUNTRY_INFO!$T$9:$T$1000=\"MDA1 (IVM+ALB)\", COUNTRY_INFO!$T$9:$T$1000, \" \")","v":" "},null,null,null,null,0,null,null,null,0,null," "," "," "]
[{"$f":"IF(COUNTRY_INFO!A143=0,\" \",COUNTRY_INFO!A143)","v":"Mozambique"},{"$f":"IF(COUNTRY_INFO!B143=0,\" \",COUNTRY_INFO!B143)","v":"Gaza"},{"$f":"IF(COUNTRY_INFO!C143=0,\" \",COUNTRY_INFO!C143)","v":"Chibuto"},{"$f":"IF(COUNTRY_INFO!$T$9:$T$1000=\"MDA1 (IVM+ALB)\", COUNTRY_INFO!$T$9:$T$1000, \" \")","v":" "},null,null,null,null,0,null,null,null,0,null," "," "," "]
[{"$f":"IF(COUNTRY_INFO!A144=0,\" \",COUNTRY_INFO!A144)","v":"Mozambique"},{"$f":"IF(COUNTRY_INFO!B144=0,\" \",COUNTRY_INFO!B144)","v":"Gaza"},{"$f":"IF(COUNTRY_INFO!C144=0,\" \",COUNTRY_INFO!C144)","v":"Chicualacuala"},{"$f":"IF(COUNTRY_INFO!$T$9:$T$1000=\"MDA1 (IVM+ALB)\", COUNTRY_INFO!$T$9:$T$1000, \" \")","v":"MDA1 (IVM+ALB)"},"March 2019",null,8156,16749,24905,null,7919,14112,22031,null,97.094163805787147,84.255776464266518,88.460148564545278]
[{"$f":"IF(COUNTRY_INFO!A145=0,\" \",COUNTRY_INFO!A145)","v":"Mozambique"},{"$f":"IF(COUNTRY_INFO!B145=0,\" \",COUNTRY_INFO!B145)","v":"Gaza"},{"$f":"IF(COUNTRY_INFO!C145=0,\" \",COUNTRY_INFO!C145)","v":"Chigubo"},{"$f":"IF(COUNTRY_INFO!$T$9:$T$1000=\"MDA1 (IVM+ALB)\", COUNTRY_INFO!$T$9:$T$1000, \" \")","v":" "},null,null,null,null,0,null,null,null,0,null," "," "," "]
[{"$f":"IF(COUNTRY_INFO!A146=0,\" \",COUNTRY_INFO!A146)","v":"Mozambique"},{"$f":"IF(COUNTRY_INFO!B146=0,\" \",COUNTRY_INFO!B146)","v":"Gaza"},{"$f":"IF(COUNTRY_INFO!C146=0,\" \",COUNTRY_INFO!C146)","v":"Chokwé"},{"$f":"IF(COUNTRY_INFO!$T$9:$T$1000=\"MDA1 (IVM+ALB)\", COUNTRY_INFO!$T$9:$T$1000, \" \")","v":" "},null,null,null,null,0,null,null,null,0,null," "," "," "]
[{"$f":"IF(COUNTRY_INFO!A147=0,\" \",COUNTRY_INFO!A147)","v":"Mozambique"},{"$f":"IF(COUNTRY_INFO!B147=0,\" \",COUNTRY_INFO!B147)","v":"Gaza"},{"$f":"IF(COUNTRY_INFO!C147=0,\" \",COUNTRY_INFO!C147)","v":"Chongoene"},{"$f":"IF(COUNTRY_INFO!$T$9:$T$1000=\"MDA1 (IVM+ALB)\", COUNTRY_INFO!$T$9:$T$1000, \" \")","v":" "},null,null,null,null,0,null,null,null,0,null," "," "," "]
[{"$f":"IF(COUNTRY_INFO!A148=0,\" \",COUNTRY_INFO!A148)","v":"Mozambique"},{"$f":"IF(COUNTRY_INFO!B148=0,\" \",COUNTRY_INFO!B148)","v":"Gaza"},{"$f":"IF(COUNTRY_INFO!C148=0,\" \",COUNTRY_INFO!C148)","v":"Guijá"},{"$f":"IF(COUNTRY_INFO!$T$9:$T$1000=\"MDA1 (IVM+ALB)\", COUNTRY_INFO!$T$9:$T$1000, \" \")","v":" "},null,null,null,null,0,null,null,null,0,null," "," "," "]
[{"$f":"IF(COUNTRY_INFO!A149=0,\" \",COUNTRY_INFO!A149)","v":"Mozambique"},{"$f":"IF(COUNTRY_INFO!B149=0,\" \",COUNTRY_INFO!B149)","v":"Gaza"},{"$f":"IF(COUNTRY_INFO!C149=0,\" \",COUNTRY_INFO!C149)","v":"Limpopo"},{"$f":"IF(COUNTRY_INFO!$T$9:$T$1000=\"MDA1 (IVM+ALB)\", COUNTRY_INFO!$T$9:$T$1000, \" \")","v":" "},null,null,null,null,0,null,null,null,0,null," "," "," "]
[{"$f":"IF(COUNTRY_INFO!A150=0,\" \",COUNTRY_INFO!A150)","v":"Mozambique"},{"$f":"IF(COUNTRY_INFO!B150=0,\" \",COUNTRY_INFO!B150)","v":"Gaza"},{"$f":"IF(COUNTRY_INFO!C150=0,\" \",COUNTRY_INFO!C150)","v":"Mabalane"},{"$f":"IF(COUNTRY_INFO!$T$9:$T$1000=\"MDA1 (IVM+ALB)\", COUNTRY_INFO!$T$9:$T$1000, \" \")","v":"MDA1 (IVM+ALB)"},"March 2019",null,13036,26770,39806,null,13085,25003,38088,null,100.37588217244553,93.399327605528583,95.684067728483143]
[{"$f":"IF(COUNTRY_INFO!A151=0,\" \",COUNTRY_INFO!A151)","v":"Mozambique"},{"$f":"IF(COUNTRY_INFO!B151=0,\" \",COUNTRY_INFO!B151)","v":"Gaza"},{"$f":"IF(COUNTRY_INFO!C151=0,\" \",COUNTRY_INFO!C151)","v":"Manjacaze"},{"$f":"IF(COUNTRY_INFO!$T$9:$T$1000=\"MDA1 (IVM+ALB)\", COUNTRY_INFO!$T$9:$T$1000, \" \")","v":" "},null,null,null,null,0,null,null,null,0,null," "," "," "]
[{"$f":"IF(COUNTRY_INFO!A152=0,\" \",COUNTRY_INFO!A152)","v":"Mozambique"},{"$f":"IF(COUNTRY_INFO!B152=0,\" \",COUNTRY_INFO!B152)","v":"Gaza"},{"$f":"IF(COUNTRY_INFO!C152=0,\" \",COUNTRY_INFO!C152)","v":"Mapai"},{"$f":"IF(COUNTRY_INFO!$T$9:$T$1000=\"MDA1 (IVM+ALB)\", COUNTRY_INFO!$T$9:$T$1000, \" \")","v":"MDA1 (IVM+ALB)"},"March 2019",null,8862,18199,27061,null,7128,17125,24253,null,80.43331076506432,94.098576844881592,89.623443331732005]
[{"$f":"IF(COUNTRY_INFO!A153=0,\" \",COUNTRY_INFO!A153)","v":"Mozambique"},{"$f":"IF(COUNTRY_INFO!B153=0,\" \",COUNTRY_INFO!B153)","v":"Gaza"},{"$f":"IF(COUNTRY_INFO!C153=0,\" \",COUNTRY_INFO!C153)","v":"Massangena"},{"$f":"IF(COUNTRY_INFO!$T$9:$T$1000=\"MDA1 (IVM+ALB)\", COUNTRY_INFO!$T$9:$T$1000, \" \")","v":" "},null,null,null,null,0,null,null,null,0,null," "," "," "]
[{"$f":"IF(COUNTRY_INFO!A154=0,\" \",COUNTRY_INFO!A154)","v":"Mozambique"},{"$f":"IF(COUNTRY_INFO!B154=0,\" \",COUNTRY_INFO!B154)","v":"Gaza"},{"$f":"IF(COUNTRY_INFO!C154=0,\" \",COUNTRY_INFO!C154)","v":"Massingir"},{"$f":"IF(COUNTRY_INFO!$T$9:$T$1000=\"MDA1 (IVM+ALB)\", COUNTRY_INFO!$T$9:$T$1000, \" \")","v":" "},null,null,null,null,0,null,null,null,0,null," "," "," "]
[{"$f":"IF(COUNTRY_INFO!A155=0,\" \",COUNTRY_INFO!A155)","v":"Mozambique"},{"$f":"IF(COUNTRY_INFO!B155=0,\" \",COUNTRY_INFO!B155)","v":"Maputo Provincia"},{"$f":"IF(COUNTRY_INFO!C155=0,\" \",COUNTRY_INFO!C155)","v":"Matola"},{"$f":"IF(COUNTRY_INFO!$T$9:$T$1000=\"MDA1 (IVM+ALB)\", COUNTRY_INFO!$T$9:$T$1000, \" \")","v":" "},null,null,null,null,0,null,null,null,0,null," "," "," "]
[{"$f":"IF(COUNTRY_INFO!A156=0,\" \",COUNTRY_INFO!A156)","v":"Mozambique"},{"$f":"IF(COUNTRY_INFO!B156=0,\" \",COUNTRY_INFO!B156)","v":"Maputo Provincia"},{"$f":"IF(COUNTRY_INFO!C156=0,\" \",COUNTRY_INFO!C156)","v":"Boane"},{"$f":"IF(COUNTRY_INFO!$T$9:$T$1000=\"MDA1 (IVM+ALB)\", COUNTRY_INFO!$T$9:$T$1000, \" \")","v":" "},null,null,null,null,0,null,null,null,0,null," "," "," "]
[{"$f":"IF(COUNTRY_INFO!A157=0,\" \",COUNTRY_INFO!A157)","v":"Mozambique"},{"$f":"IF(COUNTRY_INFO!B157=0,\" \",COUNTRY_INFO!B157)","v":"Maputo Provincia"},{"$f":"IF(COUNTRY_INFO!C157=0,\" \",COUNTRY_INFO!C157)","v":"Magude"},{"$f":"IF(COUNTRY_INFO!$T$9:$T$1000=\"MDA1 (IVM+ALB)\", COUNTRY_INFO!$T$9:$T$1000, \" \")","v":" "},null,null,null,null,0,null,null,null,0,null," "," "," "]
[{"$f":"IF(COUNTRY_INFO!A158=0,\" \",COUNTRY_INFO!A158)","v":"Mozambique"},{"$f":"IF(COUNTRY_INFO!B158=0,\" \",COUNTRY_INFO!B158)","v":"Maputo Provincia"},{"$f":"IF(COUNTRY_INFO!C158=0,\" \",COUNTRY_INFO!C158)","v":"Manhica"},{"$f":"IF(COUNTRY_INFO!$T$9:$T$1000=\"MDA1 (IVM+ALB)\", COUNTRY_INFO!$T$9:$T$1000, \" \")","v":" "},null,null,null,null,0,null,null,null,0,null," "," "," "]
[{"$f":"IF(COUNTRY_INFO!A159=0,\" \",COUNTRY_INFO!A159)","v":"Mozambique"},{"$f":"IF(COUNTRY_INFO!B159=0,\" \",COUNTRY_INFO!B159)","v":"Maputo Provincia"},{"$f":"IF(COUNTRY_INFO!C159=0,\" \",COUNTRY_INFO!C159)","v":"Marracuene"},{"$f":"IF(COUNTRY_INFO!$T$9:$T$1000=\"MDA1 (IVM+ALB)\", COUNTRY_INFO!$T$9:$T$1000, \" \")","v":" "},null,null,null,null,0,null,null,null,0,null," "," "," "]
[{"$f":"IF(COUNTRY_INFO!A160=0,\" \",COUNTRY_INFO!A160)","v":"Mozambique"},{"$f":"IF(COUNTRY_INFO!B160=0,\" \",COUNTRY_INFO!B160)","v":"Maputo Provincia"},{"$f":"IF(COUNTRY_INFO!C160=0,\" \",COUNTRY_INFO!C160)","v":"Matutuíne"},{"$f":"IF(COUNTRY_INFO!$T$9:$T$1000=\"MDA1 (IVM+ALB)\", COUNTRY_INFO!$T$9:$T$1000, \" \")","v":" "},null,null,null,null,0,null,null,null,0,null," "," "," "]
[{"$f":"IF(COUNTRY_INFO!A161=0,\" \",COUNTRY_INFO!A161)","v":"Mozambique"},{"$f":"IF(COUNTRY_INFO!B161=0,\" \",COUNTRY_INFO!B161)","v":"Maputo Provincia"},{"$f":"IF(COUNTRY_INFO!C161=0,\" \",COUNTRY_INFO!C161)","v":"Moamba"},{"$f":"IF(COUNTRY_INFO!$T$9:$T$1000=\"MDA1 (IVM+ALB)\", COUNTRY_INFO!$T$9:$T$1000, \" \")","v":" "},null,null,null,null,0,null,null,null,0,null," "," "," "]
[{"$f":"IF(COUNTRY_INFO!A162=0,\" \",COUNTRY_INFO!A162)","v":"Mozambique"},{"$f":"IF(COUNTRY_INFO!B162=0,\" \",COUNTRY_INFO!B162)","v":"Maputo Provincia"},{"$f":"IF(COUNTRY_INFO!C162=0,\" \",COUNTRY_INFO!C162)","v":"Namaacha"},{"$f":"IF(COUNTRY_INFO!$T$9:$T$1000=\"MDA1 (IVM+ALB)\", COUNTRY_INFO!$T$9:$T$1000, \" \")","v":" "},null,null,null,null,0,null,null,null,0,null," "," "," "]
[{"$f":"IF(COUNTRY_INFO!A163=0,\" \",COUNTRY_INFO!A163)","v":"Mozambique"},{"$f":"IF(COUNTRY_INFO!B163=0,\" \",COUNTRY_INFO!B163)","v":"Cidade de Maputo"},{"$f":"IF(COUNTRY_INFO!C163=0,\" \",COUNTRY_INFO!C163)","v":"Kampfumu"},{"$f":"IF(COUNTRY_INFO!$T$9:$T$1000=\"MDA1 (IVM+ALB)\", COUNTRY_INFO!$T$9:$T$1000, \" \")","v":" "},null,null,null,null,0,null,null,null,0,null," "," "," "]
[{"$f":"IF(COUNTRY_INFO!A164=0,\" \",COUNTRY_INFO!A164)","v":"Mozambique"},{"$f":"IF(COUNTRY_INFO!B164=0,\" \",COUNTRY_INFO!B164)","v":"Cidade de Maputo"},{"$f":"IF(COUNTRY_INFO!C164=0,\" \",COUNTRY_INFO!C164)","v":"Nhlamankulu"},{"$f":"IF(COUNTRY_INFO!$T$9:$T$1000=\"MDA1 (IVM+ALB)\", COUNTRY_INFO!$T$9:$T$1000, \" \")","v":" "},null,null,null,null,0,null,null,null,0,null," "," "," "]
[{"$f":"IF(COUNTRY_INFO!A165=0,\" \",COUNTRY_INFO!A165)","v":"Mozambique"},{"$f":"IF(COUNTRY_INFO!B165=0,\" \",COUNTRY_INFO!B165)","v":"Cidade de Maputo"},{"$f":"IF(COUNTRY_INFO!C165=0,\" \",COUNTRY_INFO!C165)","v":"Kamaxakani"},{"$f":"IF(COUNTRY_INFO!$T$9:$T$1000=\"MDA1 (IVM+ALB)\", COUNTRY_INFO!$T$9:$T$1000, \" \")","v":" "},null,null,null,null,0,null,null,null,0,null," "," "," "]
[{"$f":"IF(COUNTRY_INFO!A166=0,\" \",COUNTRY_INFO!A166)","v":"Mozambique"},{"$f":"IF(COUNTRY_INFO!B166=0,\" \",COUNTRY_INFO!B166)","v":"Cidade de Maputo"},{"$f":"IF(COUNTRY_INFO!C166=0,\" \",COUNTRY_INFO!C166)","v":"Kamavota"},{"$f":"IF(COUNTRY_INFO!$T$9:$T$1000=\"MDA1 (IVM+ALB)\", COUNTRY_INFO!$T$9:$T$1000, \" \")","v":" "},null,null,null,null,0,null,null,null,0,null," "," "," "]
[{"$f":"IF(COUNTRY_INFO!A167=0,\" \",COUNTRY_INFO!A167)","v":"Mozambique"},{"$f":"IF(COUNTRY_INFO!B167=0,\" \",COUNTRY_INFO!B167)","v":"Cidade de Maputo"},{"$f":"IF(COUNTRY_INFO!C167=0,\" \",COUNTRY_INFO!C167)","v":"Kamubukwana"},{"$f":"IF(COUNTRY_INFO!$T$9:$T$1000=\"MDA1 (IVM+ALB)\", COUNTRY_INFO!$T$9:$T$1000, \" \")","v":" "},null,null,null,null,0,null,null,null,0,null," "," "," "]
[{"$f":"IF(COUNTRY_INFO!A168=0,\" \",COUNTRY_INFO!A168)","v":"Mozambique"},{"$f":"IF(COUNTRY_INFO!B168=0,\" \",COUNTRY_INFO!B168)","v":"Cidade de Maputo"},{"$f":"IF(COUNTRY_INFO!C168=0,\" \",COUNTRY_INFO!C168)","v":"Katembe"},{"$f":"IF(COUNTRY_INFO!$T$9:$T$1000=\"MDA1 (IVM+ALB)\", COUNTRY_INFO!$T$9:$T$1000, \" \")","v":" "},null,null,null,null,0,null,null,null,0,null," "," "," "]
[{"$f":"IF(COUNTRY_INFO!A169=0,\" \",COUNTRY_INFO!A169)","v":"Mozambique"},{"$f":"IF(COUNTRY_INFO!B169=0,\" \",COUNTRY_INFO!B169)","v":"Cidade de Maputo"},{"$f":"IF(COUNTRY_INFO!C169=0,\" \",COUNTRY_INFO!C169)","v":"Kanyaca"},{"$f":"IF(COUNTRY_INFO!$T$9:$T$1000=\"MDA1 (IVM+ALB)\", COUNTRY_INFO!$T$9:$T$1000, \" \")","v":" "},null,null,null,null,0,null,null,null,0,null," "," "," "]

{"sheet":"MDA2","index":3,"n_rows":169,"n_cols":17,"rows_kept":169,"cut":false,"hidden":true,"merged":[[5,5,5,8],[5,9,5,12],[5,13,5,16],[3,0,3,2],[5,0,5,2],[5,3,6,3],[5,4,6,4]]}
["MDA 2 - Diethylcarbamazine citrate (DEC) + Albendazole (ALB)"]
["Administrative structure, population requiring PC by age group, population treated by age group and coverage"]
[]
["TOTAL",null,null,null,null,{"$f":"SUM(F$9:F$1000)","v":0},{"$f":"SUM(G$9:G$1000)","v":0},0,0,0,0,0,0,{"$f":"IF(F4<>0, IF(J4/F4*100=0, \"-\", J4/F4*100), \" \")","v":" "},{"$f":"IF(G4<>0, IF(K4/G4*100=0, \"-\", K4/G4*100), \" \")","v":" "},{"$f":"IF(H4<>0, IF(L4/H4*100=0, \"-\", L4/H4*100), \" \")","v":" "},{"$f":"IF(I4<>0, IF(M4/I4*100=0, \"-\", M4/I4*100), \" \")","v":" "}]
[]
[null,null,null,"PC implemented","Date","Population targeted for MDA 2",null,null,null,"Population treated",null,null,null,"Programme coverage (%)"]
["Country","Province/State","District",null,null,"PreSAC","SAC","Adults","Total","PreSAC","SAC","Adults","Total","PreSAC","SAC","Adults","Total"]
[]
[{"$f":"IF(COUNTRY_INFO!A9=0,\" \",COUNTRY_INFO!A9)","v":"Mozambique"},{"$f":"IF(COUNTRY_INFO!B9=0,\" \",COUNTRY_INFO!B9)","v":"Cabo Delgado"},{"$f":"IF(COUNTRY_INFO!C9=0,\" \",COUNTRY_INFO!C9)","v":"Cid. Pemba"},{"$f":"IF(COUNTRY_INFO!$T$9:$T$1000=\"MDA2 (DEC+ALB)\", COUNTRY_INFO!$T$9:$T$1000, \" \")","v":" "},null,null,null,null,{"$f":"SUM(F9:H9)","v":0},null,null,null,{"$f":"SUM(J9:L9)","v":0},{"$f":"IF(F9<>0, IF(J9/F9*100=0, \"-\", J9/F9*100), \" \")","v":" "}," "," "," "]
[{"$f":"IF(COUNTRY_INFO!A10=0,\" \",COUNTRY_INFO!A10)","v":"Mozambique"},{"$f":"IF(COUNTRY_INFO!B10=0,\" \",COUNTRY_INFO!B10)","v":"Cabo Delgado"},{"$f":"IF(COUNTRY_INFO!C10=0,\" \",COUNTRY_INFO!C10)","v":"Ancuabe"},{"$f":"IF(COUNTRY_INFO!$T$9:$T$1000=\"MDA2 (DEC+ALB)\", COUNTRY_INFO!$T$9:$T$1000, \" \")","v":" "},null,null,null,null,{"$f":"SUM(F10:H10)","v":0},null,null,null,{"$f":"SUM(J10:L10)","v":0},{"$f":"IF(F10<>0, IF(J10/F10*100=0, \"-\", J10/F10*100), \" \")","v":" "},{"$f":"IF(G10<>0, IF(K10/G10*100=0, \"-\", K10/G10*100), \" \")","v":" "},{"$f":"IF(H10<>0, IF(L10/H10*100=0, \"-\", L10/H10*100), \" \")","v":" "},{"$f":"IF(I10<>0, IF(M10/I10*100=0, \"-\", M10/I10*100), \" \")","v":" "}]
[{"$f":"IF(COUNTRY_INFO!A11=0,\" \",COUNTRY_INFO!A11)","v":"Mozambique"},{"$f":"IF(COUNTRY_INFO!B11=0,\" \",COUNTRY_INFO!B11)","v":"Cabo Delgado"},{"$f":"IF(COUNTRY_INFO!C11=0,\" \",COUNTRY_INFO!C11)","v":"Balama"},{"$f":"IF(COUNTRY_INFO!$T$9:$T$1000=\"MDA2 (DEC+ALB)\", COUNTRY_INFO!$T$9:$T$1000, \" \")","v":" "},null,null,null,null,0,null,null,null,0," "," "," "," "]
[{"$f":"IF(COUNTRY_INFO!A12=0,\" \",COUNTRY_INFO!A12)","v":"Mozambique"},{"$f":"IF(COUNTRY_INFO!B12=0,\" \",COUNTRY_INFO!B12)","v":"Cabo Delgado"},{"$f":"IF(COUNTRY_INFO!C12=0,\" \",COUNTRY_INFO!C12)","v":"Chiure"},{"$f":"IF(COUNTRY_INFO!$T$9:$T$1000=\"MDA2 (DEC+ALB)\", COUNTRY_INFO!$T$9:$T$1000, \" \")","v":" "},null,null,null,null,0,null,null,null,0," "," "," "," "]
[{"$f":"IF(COUNTRY_INFO!A13=0,\" \",COUNTRY_INFO!A13)","v":"Mozambique"},{"$f":"IF(COUNTRY_INFO!B13=0,\" \",COUNTRY_INFO!B13)","v":"Cabo Delgado"},{"$f":"IF(COUNTRY_INFO!C13=0,\" \",COUNTRY_INFO!C13)","v":"Ibo"},{"$f":"IF(COUNTRY_INFO!$T$9:$T$1000=\"MDA2 (DEC+ALB)\", COUNTRY_INFO!$T$9:$T$1000, \" \")","v":" "},null,null,null,null,0,null,null,null,0," "," "," "," "]
[{"$f":"IF(COUNTRY_INFO!A14=0,\" \",COUNTRY_INFO!A14)","v":"Mozambique"},{"$f":"IF(COUNTRY_INFO!B14=0,\" \",COUNTRY_INFO!B14)","v":"Cabo Delgado"},{"$f":"IF(COUNTRY_INFO!C14=0,\" \",COUNTRY_INFO!C14)","v":"Macomia"},{"$f":"IF(COUNTRY_INFO!$T$9:$T$1000=\"MDA2 (DEC+ALB)\", COUNTRY_INFO!$T$9:$T$1000, \" \")","v":" "},null,null,null,null,0,null,null,null,0," "," "," "," "]
[{"$f":"IF(COUNTRY_INFO!A15=0,\" \",COUNTRY_INFO!A15)","v":"Mozambique"},{"$f":"IF(COUNTRY_INFO!B15=0,\" \",COUNTRY_INFO!B15)","v":"Cabo Delgado"},{"$f":"IF(COUNTRY_INFO!C15=0,\" \",COUNTRY_INFO!C15)","v":"Mecufi"},{"$f":"IF(COUNTRY_INFO!$T$9:$T$1000=\"MDA2 (DEC+ALB)\", COUNTRY_INFO!$T$9:$T$1000, \" \")","v":" "},null,null,null,null,0,null,null,null,0," "," "," "," "]
[{"$f":"IF(COUNTRY_INFO!A16=0,\" \",COUNTRY_INFO!A16)","v":"Mozambique"},{"$f":"IF(COUNTRY_INFO!B16=0,\" \",COUNTRY_INFO!B16)","v":"Cabo Delgado"},{"$f":"IF(COUNTRY_INFO!C16=0,\" \",COUNTRY_INFO!C16)","v":"Meluco"},{"$f":"IF(COUNTRY_INFO!$T$9:$T$1000=\"MDA2 (DEC+ALB)\", COUNTRY_INFO!$T$9:$T$1000, \" \")","v":" "},null,null,null,null,0,null,null,null,0," "," "," "," "]
[{"$f":"IF(COUNTRY_INFO!A17=0,\" \",COUNTRY_INFO!A17)","v":"Mozambique"},{"$f":"IF(COUNTRY_INFO!B17=0,\" \",COUNTRY_INFO!B17)","v":"Cabo Delgado"},{"$f":"IF(COUNTRY_INFO!C17=0,\" \",COUNTRY_INFO!C17)","v":"Moc Praia"},{"$f":"IF(COUNTRY_INFO!$T$9:$T$1000=\"MDA2 (DEC+ALB)\", COUNTRY_INFO!$T$9:$T$1000, \" \")","v":" "},null,null,null,null,0,null,null,null,0," "," "," "," "]
[{"$f":"IF(COUNTRY_INFO!A18=0,\" \",COUNTRY_INFO!A18)","v":"Mozambique"},{"$f":"IF(COUNTRY_INFO!B18=0,\" \",COUNTRY_INFO!B18)","v":"Cabo Delgado"},{"$f":"IF(COUNTRY_INFO!C18=0,\" \",COUNTRY_INFO!C18)","v":"Montepuez"},{"$f":"IF(COUNTRY_INFO!$T$9:$T$1000=\"MDA2 (DEC+ALB)\", COUNTRY_INFO!$T$9:$T$1000, \" \")","v":" "},null,null,null,null,0,null,null,null,0," "," "," "," "]
[{"$f":"IF(COUNTRY_INFO!A19=0,\" \",COUNTRY_INFO!A19)","v":"Mozambique"},{"$f":"IF(COUNTRY_INFO!B19=0,\" \",COUNTRY_INFO!B19)","v":"Cabo Delgado"},{"$f":"IF(COUNTRY_INFO!C19=0,\" \",COUNTRY_INFO!C19)","v":"Mueda"},{"$f":"IF(COUNTRY_INFO!$T$9:$T$1000=\"MDA2 (DEC+ALB)\", COUNTRY_INFO!$T$9:$T$1000, \" \")","v":" "},null,null,null,null,0,null,null,null,0," "," "," "," "]
[{"$f":"IF(COUNTRY_INFO!A20=0,\" \",COUNTRY_INFO!A20)","v":"Mozambique"},{"$f":"IF(COUNTRY_INFO!B20=0,\" \",COUNTRY_INFO!B20)","v":"Cabo Delgado"},{"$f":"IF(COUNTRY_INFO!C20=0,\" \",COUNTRY_INFO!C20)","v":"Muidumbe"},{"$f":"IF(COUNTRY_INFO!$T$9:$T$1000=\"MDA2 (DEC+ALB)\", COUNTRY_INFO!$T$9:$T$1000, \" \")","v":" "},null,null,null,null,0,null,null,null,0," "," "," "," "]
[{"$f":"IF(COUNTRY_INFO!A21=0,\" \",COUNTRY_INFO!A21)","v":"Mozambique"},{"$f":"IF(COUNTRY_INFO!B21=0,\" \",COUNTRY_INFO!B21)","v":"Cabo Delgado"},{"$f":"IF(COUNTRY_INFO!C21=0,\" \",COUNTRY_INFO!C21)","v":"Namuno"},{"$f":"IF(COUNTRY_INFO!$T$9:$T$1000=\"MDA2 (DEC+ALB)\", COUNTRY_INFO!$T$9:$T$1000, \" \")","v":" "},null,null,null,null,0,null,null,null,0," "," "," "," "]
[{"$f":"IF(COUNTRY_INFO!A22=0,\" \",COUNTRY_INFO!A22)","v":"Mozambique"},{"$f":"IF(COUNTRY_INFO!B22=0,\" \",COUNTRY_INFO!B22)","v":"Cabo Delgado"},{"$f":"IF(COUNTRY_INFO!C22=0,\" \",COUNTRY_INFO!C22)","v":"Nangade"},{"$f":"IF(COUNTRY_INFO!$T$9:$T$1000=\"MDA2 (DEC+ALB)\", COUNTRY_INFO!$T$9:$T$1000, \" \")","v":" "},null,null,null,null,0,null,null,null,0," "," "," "," "]
[{"$f":"IF(COUNTRY_INFO!A23=0,\" \",COUNTRY_INFO!A23)","v":"Mozambique"},{"$f":"IF(COUNTRY_INFO!B23=0,\" \",COUNTRY_INFO!B23)","v":"Cabo Delgado"},{"$f":"IF(COUNTRY_INFO!C23=0,\" \",COUNTRY_INFO!C23)","v":"Palma"},{"$f":"IF(COUNTRY_INFO!$T$9:$T$1000=\"MDA2 (DEC+ALB)\", COUNTRY_INFO!$T$9:$T$1000, \" \")","v":" "},null,null,null,null,0,null,null,null,0," "," "," "," "]
[{"$f":"IF(COUNTRY_INFO!A24=0,\" \",COUNTRY_INFO!A24)","v":"Mozambique"},{"$f":"IF(COUNTRY_INFO!B24=0,\" \",COUNTRY_INFO!B24)","v":"Cabo Delgado"},{"$f":"IF(COUNTRY_INFO!C24=0,\" \",COUNTRY_INFO!C24)","v":"Pemba Metuge"},{"$f":"IF(COUNTRY_INFO!$T$9:$T$1000=\"MDA2 (DEC+ALB)\", COUNTRY_INFO!$T$9:$T$1000, \" \")","v":" "},null,null,null,null,0,null,null,null,0," "," "," "," "]
[{"$f":"IF(COUNTRY_INFO!A25=0,\" \",COUNTRY_INFO!A25)","v":"Mozambique"},{"$f":"IF(COUNTRY_INFO!B25=0,\" \",COUNTRY_INFO!B25)","v":"Cabo Delgado"},{"$f":"IF(COUNTRY_INFO!C25=0,\" \",COUNTRY_INFO!C25)","v":"Quissanga"},{"$f":"IF(COUNTRY_INFO!$T$9:$T$1000=\"MDA2 (DEC+ALB)\", COUNTRY_INFO!$T$9:$T$1000, \" \")","v":" "},null,null,null,null,0,null,null,null,0," "," "," "," "]
[{"$f":"IF(COUNTRY_INFO!A26=0,\" \",COUNTRY_INFO!A26)","v":"Mozambique"},{"$f":"IF(COUNTRY_INFO!B26=0,\" \",COUNTRY_INFO!B26)","v":"Niassa"},{"$f":"IF(COUNTRY_INFO!C26=0,\" \",COUNTRY_INFO!C26)","v":"Cidade de Lichinga"},{"$f":"IF(COUNTRY_INFO!$T$9:$T$1000=\"MDA2 (DEC+ALB)\", COUNTRY_INFO!$T$9:$T$1000, \" \")","v":" "},null,null,null,null,0,null,null,null,0," "," "," "," "]
[{"$f":"IF(COUNTRY_INFO!A27=0,\" \",COUNTRY_INFO!A27)","v":"Mozambique"},{"$f":"IF(COUNTRY_INFO!B27=0,\" \",COUNTRY_INFO!B27)","v":"Niassa"},{"$f":"IF(COUNTRY_INFO!C27=0,\" \",COUNTRY_INFO!C27)","v":"Cuamba"},{"$f":"IF(COUNTRY_INFO!$T$9:$T$1000=\"MDA2 (DEC+ALB)\", COUNTRY_INFO!$T$9:$T$1000, \" \")","v":" "},null,null,null,null,0,null,null,null,0," "," "," "," "]
[{"$f":"IF(COUNTRY_INFO!A28=0,\" \",COUNTRY_INFO!A28)","v":"Mozambique"},{"$f":"IF(COUNTRY_INFO!B28=0,\" \",COUNTRY_INFO!B28)","v":"Niassa"},{"$f":"IF(COUNTRY_INFO!C28=0,\" \",COUNTRY_INFO!C28)","v":"Chimbonila"},{"$f":"IF(COUNTRY_INFO!$T$9:$T$1000=\"MDA2 (DEC+ALB)\", COUNTRY_INFO!$T$9:$T$1000, \" \")","v":" "},null,null,null,null,0,null,null,null,0," "," "," "," "]
[{"$f":"IF(COUNTRY_INFO!A29=0,\" \",COUNTRY_INFO!A29)","v":"Mozambique"},{"$f":"IF(COUNTRY_INFO!B29=0,\" \",COUNTRY_INFO!B29)","v":"Niassa"},{"$f":"IF(COUNTRY_INFO!C29=0,\" \",COUNTRY_INFO!C29)","v":"Lago"},{"$f":"IF(COUNTRY_INFO!$T$9:$T$1000=\"MDA2 (DEC+ALB)\", COUNTRY_INFO!$T$9:$T$1000, \" \")","v":" "},null,null,null,null,0,null,null,null,0," "," "," "," "]
[{"$f":"IF(COUNTRY_INFO!A30=0,\" \",COUNTRY_INFO!A30)","v":"Mozambique"},{"$f":"IF(COUNTRY_INFO!B30=0,\" \",COUNTRY_INFO!B30)","v":"Niassa"},{"$f":"IF(COUNTRY_INFO!C30=0,\" \",COUNTRY_INFO!C30)","v":"Majune"},{"$f":"IF(COUNTRY_INFO!$T$9:$T$1000=\"MDA2 (DEC+ALB)\", COUNTRY_INFO!$T$9:$T$1000, \" \")","v":" "},null,null,null,null,0,null,null,null,0," "," "," "," "]
[{"$f":"IF(COUNTRY_INFO!A31=0,\" \",COUNTRY_INFO!A31)","v":"Mozambique"},{"$f":"IF(COUNTRY_INFO!B31=0,\" \",COUNTRY_INFO!B31)","v":"Niassa"},{"$f":"IF(COUNTRY_INFO!C31=0,\" \",COUNTRY_INFO!C31)","v":"Mandimba"},{"$f":"IF(COUNTRY_INFO!$T$9:$T$1000=\"MDA2 (DEC+ALB)\", COUNTRY_INFO!$T$9:$T$1000, \" \")","v":" "},null,null,null,null,0,null,null,null,0," "," "," "," "]
[{"$f":"IF(COUNTRY_INFO!A32=0,\" \",COUNTRY_INFO!A32)","v":"Mozambique"},{"$f":"IF(COUNTRY_INFO!B32=0,\" \",COUNTRY_INFO!B32)","v":"Niassa"},{"$f":"IF(COUNTRY_INFO!C32=0,\" \",COUNTRY_INFO!C32)","v":"Marrupa"},{"$f":"IF(COUNTRY_INFO!$T$9:$T$1000=\"MDA2 (DEC+ALB)\", COUNTRY_INFO!$T$9:$T$1000, \" \")","v":" "},null,null,null,null,0,null,null,null,0," "," "," "," "]
[{"$f":"IF(COUNTRY_INFO!A33=0,\" \",COUNTRY_INFO!A33)","v":"Mozambique"},{"$f":"IF(COUNTRY_INFO!B33=0,\" \",COUNTRY_INFO!B33)","v":"Niassa"},{"$f":"IF(COUNTRY_INFO!C33=0,\" \",COUNTRY_INFO!C33)","v":"Maúa"},{"$f":"IF(COUNTRY_INFO!$T$9:$T$1000=\"MDA2 (DEC+ALB)\", COUNTRY_INFO!$T$9:$T$1000, \" \")","v":" "},null,null,null,null,0,null,null,null,0," "," "," "," "]
[{"$f":"IF(COUNTRY_INFO!A34=0,\" \",COUNTRY_INFO!A34)","v":"Mozambique"},{"$f":"IF(COUNTRY_INFO!B34=0,\" \",COUNTRY_INFO!B34)","v":"Niassa"},{"$f":"IF(COUNTRY_INFO!C34=0,\" \",COUNTRY_INFO!C34)","v":"Mavago"},{"$f":"IF(COUNTRY_INFO!$T$9:$T$1000=\"MDA2 (DEC+ALB)\", COUNTRY_INFO!$T$9:$T$1000, \" \")","v":" "},null,null,null,null,0,null,null,null,0," "," "," "," "]
[{"$f":"IF(COUNTRY_INFO!A35=0,\" \",COUNTRY_INFO!A35)","v":"Mozambique"},{"$f":"IF(COUNTRY_INFO!B35=0,\" \",COUNTRY_INFO!B35)","v":"Niassa"},{"$f":"IF(COUNTRY_INFO!C35=0,\" \",COUNTRY_INFO!C35)","v":"Mecanhelas"},{"$f":"IF(COUNTRY_INFO!$T$9:$T$1000=\"MDA2 (DEC+ALB)\", COUNTRY_INFO!$T$9:$T$1000, \" \")","v":" "},null,null,null,null,0,null,null,null,0," "," "," "," "]
[{"$f":"IF(COUNTRY_INFO!A36=0,\" \",COUNTRY_INFO!A36)","v":"Mozambique"},{"$f":"IF(COUNTRY_INFO!B36=0,\" \",COUNTRY_INFO!B36)","v":"Niassa"},{"$f":"IF(COUNTRY_INFO!C36=0,\" \",COUNTRY_INFO!C36)","v":"Mecula"},{"$f":"IF(COUNTRY_INFO!$T$9:$T$1000=\"MDA2 (DEC+ALB)\", COUNTRY_INFO!$T$9:$T$1000, \" \")","v":" "},null,null,null,null,0,null,null,null,0," "," "," "," "]
[{"$f":"IF(COUNTRY_INFO!A37=0,\" \",COUNTRY_INFO!A37)","v":"Mozambique"},{"$f":"IF(COUNTRY_INFO!B37=0,\" \",COUNTRY_INFO!B37)","v":"Niassa"},{"$f":"IF(COUNTRY_INFO!C37=0,\" \",COUNTRY_INFO!C37)","v":"Metarica"},{"$f":"IF(COUNTRY_INFO!$T$9:$T$1000=\"MDA2 (DEC+ALB)\", COUNTRY_INFO!$T$9:$T$1000, \" \")","v":" "},null,null,null,null,0,null,null,null,0," "," "," "," "]
[{"$f":"IF(COUNTRY_INFO!A38=0,\" \",COUNTRY_INFO!A38)","v":"Mozambique"},{"$f":"IF(COUNTRY_INFO!B38=0,\" \",COUNTRY_INFO!B38)","v":"Niassa"},{"$f":"IF(COUNTRY_INFO!C38=0,\" \",COUNTRY_INFO!C38)","v":"Muembe"},{"$f":"IF(COUNTRY_INFO!$T$9:$T$1000=\"MDA2 (DEC+ALB)\", COUNTRY_INFO!$T$9:$T$1000, \" \")","v":" "},null,null,null,null,0,null,null,null,0," "," "," "," "]
[{"$f":"IF(COUNTRY_INFO!A39=0,\" \",COUNTRY_INFO!A39)","v":"Mozambique"},{"$f":"IF(COUNTRY_INFO!B39=0,\" \",COUNTRY_INFO!B39)","v":"Niassa"},{"$f":"IF(COUNTRY_INFO!C39=0,\" \",COUNTRY_INFO!C39)","v":"N'Gaúma"},{"$f":"IF(COUNTRY_INFO!$T$9:$T$1000=\"MDA2 (DEC+ALB)\", COUNTRY_INFO!$T$9:$T$1000, \" \")","v":" "},null,null,null,null,0,null,null,null,0," "," "," "," "]
[{"$f":"IF(COUNTRY_INFO!A40=0,\" \",COUNTRY_INFO!A40)","v":"Mozambique"},{"$f":"IF(COUNTRY_INFO!B40=0,\" \",COUNTRY_INFO!B40)","v":"Niassa"},{"$f":"IF(COUNTRY_INFO!C40=0,\" \",COUNTRY_INFO!C40)","v":"Nipepe"},{"$f":"IF(COUNTRY_INFO!$T$9:$T$1000=\"MDA2 (DEC+ALB)\", COUNTRY_INFO!$T$9:$T$1000, \" \")","v":" "},null,null,null,null,0,null,null,null,0," "," "," "," "]
[{"$f":"IF(COUNTRY_INFO!A41=0,\" \",COUNTRY_INFO!A41)","v":"Mozambique"},{"$f":"IF(COUNTRY_INFO!B41=0,\" \",COUNTRY_INFO!B41)","v":"Niassa"},{"$f":"IF(COUNTRY_INFO!C41=0,\" \",COUNTRY_INFO!C41)","v":"Sanga"},{"$f":"IF(COUNTRY_INFO!$T$9:$T$1000=\"MDA2 (DEC+ALB)\", COUNTRY_INFO!$T$9:$T$1000, \" \")","v":" "},null,null,null,null,0,null,null,null,0," "," "," "," "]
[{"$f":"IF(COUNTRY_INFO!A42=0,\" \",COUNTRY_INFO!A42)","v":"Mozambique"},{"$f":"IF(COUNTRY_INFO!B42=0,\" \",COUNTRY_INFO!B42)","v":"Nampula"},{"$f":"IF(COUNTRY_INFO!C42=0,\" \",COUNTRY_INFO!C42)","v":"Cid. Nampula"},{"$f":"IF(COUNTRY_INFO!$T$9:$T$1000=\"MDA2 (DEC+ALB)\", COUNTRY_INFO!$T$9:$T$1000, \" \")","v":" "},null,null,null,null,0,null,null,null,0," "," "," "," "]
[{"$f":"IF(COUNTRY_INFO!A43=0,\" \",COUNTRY_INFO!A43)","v":"Mozambique"},{"$f":"IF(COUNTRY_INFO!B43=0,\" \",COUNTRY_INFO!B43)","v":"Nampula"},{"$f":"IF(COUNTRY_INFO!C43=0,\" \",COUNTRY_INFO!C43)","v":"Angoche"},{"$f":"IF(COUNTRY_INFO!$T$9:$T$1000=\"MDA2 (DEC+ALB)\", COUNTRY_INFO!$T$9:$T$1000, \" \")","v":" "},null,null,null,null,0,null,null,null,0," "," "," "," "]
[{"$f":"IF(COUNTRY_INFO!A44=0,\" \",COUNTRY_INFO!A44)","v":"Mozambique"},{"$f":"IF(COUNTRY_INFO!B44=0,\" \",COUNTRY_INFO!B44)","v":"Nampula"},{"$f":"IF(COUNTRY_INFO!C44=0,\" \",COUNTRY_INFO!C44)","v":"Erati"},{"$f":"IF(COUNTRY_INFO!$T$9:$T$1000=\"MDA2 (DEC+ALB)\", COUNTRY_INFO!$T$9:$T$1000, \" \")","v":" "},null,null,null,null,0,null,null,null,0," "," "," "," "]
[{"$f":"IF(COUNTRY_INFO!A45=0,\" \",COUNTRY_INFO!A45)","v":"Mozambique"},{"$f":"IF(COUNTRY_INFO!B45=0,\" \",COUNTRY_INFO!B45)","v":"Nampula"},{"$f":"IF(COUNTRY_INFO!C45=0,\" \",COUNTRY_INFO!C45)","v":"Ilha Moc."},{"$f":"IF(COUNTRY_INFO!$T$9:$T$1000=\"MDA2 (DEC+ALB)\", COUNTRY_INFO!$T$9:$T$1000, \" \")","v":" "},null,null,null,null,0,null,null,null,0," "," "," "," "]
[{"$f":"IF(COUNTRY_INFO!A46=0,\" \",COUNTRY_INFO!A46)","v":"Mozambique"},{"$f":"IF(COUNTRY_INFO!B46=0,\" \",COUNTRY_INFO!B46)","v":"Nampula"},{"$f":"IF(COUNTRY_INFO!C46=0,\" \",COUNTRY_INFO!C46)","v":"Lalaua"},{"$f":"IF(COUNTRY_INFO!$T$9:$T$1000=\"MDA2 (DEC+ALB)\", COUNTRY_INFO!$T$9:$T$1000, \" \")","v":" "},null,null,null,null,0,null,null,null,0," "," "," "," "]
[{"$f":"IF(COUNTRY_INFO!A47=0,\" \",COUNTRY_INFO!A47)","v":"Mozambique"},{"$f":"IF(COUNTRY_INFO!B47=0,\" \",COUNTRY_INFO!B47)","v":"Nampula"},{"$f":"IF(COUNTRY_INFO!C47=0,\" \",COUNTRY_INFO!C47)","v":"Larde"},{"$f":"IF(COUNTRY_INFO!$T$9:$T$1000=\"MDA2 (DEC+ALB)\", COUNTRY_INFO!$T$9:$T$1000, \" \")","v":" "},null,null,null,null,0,null,null,null,0," "," "," "," "]
[{"$f":"IF(COUNTRY_INFO!A48=0,\" \",COUNTRY_INFO!A48)","v":"Mozambique"},{"$f":"IF(COUNTRY_INFO!B48=0,\" \",COUNTRY_INFO!B48)","v":"Nampula"},{"$f":"IF(COUNTRY_INFO!C48=0,\" \",COUNTRY_INFO!C48)","v":"Liupo"},{"$f":"IF(COUNTRY_INFO!$T$9:$T$1000=\"MDA2 (DEC+ALB)\", COUNTRY_INFO!$T$9:$T$1000, \" \")","v":" "},null,null,null,null,0,null,null,null,0," "," "," "," "]
[{"$f":"IF(COUNTRY_INFO!A49=0,\" \",COUNTRY_INFO!A49)","v":"Mozambique"},{"$f":"IF(COUNTRY_INFO!B49=0,\" \",COUNTRY_INFO!B49)","v":"Nampula"},{"$f":"IF(COUNTRY_INFO!C49=0,\" \",COUNTRY_INFO!C49)","v":"Malema"},{"$f":"IF(COUNTRY_INFO!$T$9:$T$1000=\"MDA2 (DEC+ALB)\", COUNTRY_INFO!$T$9:$T$1000, \" \")","v":" "},null,null,null,null,0,null,null,null,0," "," "," "," "]
[{"$f":"IF(COUNTRY_INFO!A50=0,\" \",COUNTRY_INFO!A50)","v":"Mozambique"},{"$f":"IF(COUNTRY_INFO!B50=0,\" \",COUNTRY_INFO!B50)","v":"Nampula"},{"$f":"IF(COUNTRY_INFO!C50=0,\" \",COUNTRY_INFO!C50)","v":"Meconta"},{"$f":"IF(COUNTRY_INFO!$T$9:$T$1000=\"MDA2 (DEC+ALB)\", COUNTRY_INFO!$T$9:$T$1000, \" \")","v":" "},null,null,null,null,0,null,null,null,0," "," "," "," "]
[{"$f":"IF(COUNTRY_INFO!A51=0,\" \",COUNTRY_INFO!A51)","v":"Mozambique"},{"$f":"IF(COUNTRY_INFO!B51=0,\" \",COUNTRY_INFO!B51)","v":"Nampula"},{"$f":"IF(COUNTRY_INFO!C51=0,\" \",COUNTRY_INFO!C51)","v":"Mecuburi"},{"$f":"IF(COUNTRY_INFO!$T$9:$T$1000=\"MDA2 (DEC+ALB)\", COUNTRY_INFO!$T$9:$T$1000, \" \")","v":" "},null,null,null,null,0,null,null,null,0," "," "," "," "]
[{"$f":"IF(COUNTRY_INFO!A52=0,\" \",COUNTRY_INFO!A52)","v":"Mozambique"},{"$f":"IF(COUNTRY_INFO!B52=0,\" \",COUNTRY_INFO!B52)","v":"Nampula"},{"$f":"IF(COUNTRY_INFO!C52=0,\" \",COUNTRY_INFO!C52)","v":"Memba"},{"$f":"IF(COUNTRY_INFO!$T$9:$T$1000=\"MDA2 (DEC+ALB)\", COUNTRY_INFO!$T$9:$T$1000, \" \")","v":" "},null,null,null,null,0,null,null,null,0," "," "," "," "]
[{"$f":"IF(COUNTRY_INFO!A53=0,\" \",COUNTRY_INFO!A53)","v":"Mozambique"},{"$f":"IF(COUNTRY_INFO!B53=0,\" \",COUNTRY_INFO!B53)","v":"Nampula"},{"$f":"IF(COUNTRY_INFO!C53=0,\" \",COUNTRY_INFO!C53)","v":"Mogincual"},{"$f":"IF(COUNTRY_INFO!$T$9:$T$1000=\"MDA2 (DEC+ALB)\", COUNTRY_INFO!$T$9:$T$1000, \" \")","v":" "},null,null,null,null,0,null,null,null,0," "," "," "," "]
[{"$f":"IF(COUNTRY_INFO!A54=0,\" \",COUNTRY_INFO!A54)","v":"Mozambique"},{"$f":"IF(COUNTRY_INFO!B54=0,\" \",COUNTRY_INFO!B54)","v":"Nampula"},{"$f":"IF(COUNTRY_INFO!C54=0,\" \",COUNTRY_INFO!C54)","v":"Mogovolas"},{"$f":"IF(COUNTRY_INFO!$T$9:$T$1000=\"MDA2 (DEC+ALB)\", COUNTRY_INFO!$T$9:$T$1000, \" \")","v":" "},null,null,null,null,0,null,null,null,0," "," "," "," "]
[{"$f":"IF(COUNTRY_INFO!A55=0,\" \",COUNTRY_INFO!A55)","v":"Mozambique"},{"$f":"IF(COUNTRY_INFO!B55=0,\" \",COUNTRY_INFO!B55)","v":"Nampula"},{"$f":"IF(COUNTRY_INFO!C55=0,\" \",COUNTRY_INFO!C55)","v":"Moma"},{"$f":"IF(COUNTRY_INFO!$T$9:$T$1000=\"MDA2 (DEC+ALB)\", COUNTRY_INFO!$T$9:$T$1000, \" \")","v":" "},null,null,null,null,0,null,null,null,0," "," "," "," "]
[{"$f":"IF(COUNTRY_INFO!A56=0,\" \",COUNTRY_INFO!A56)","v":"Mozambique"},{"$f":"IF(COUNTRY_INFO!B56=0,\" \",COUNTRY_INFO!B56)","v":"Nampula"},{"$f":"IF(COUNTRY_INFO!C56=0,\" \",COUNTRY_INFO!C56)","v":"Monapo"},{"$f":"IF(COUNTRY_INFO!$T$9:$T$1000=\"MDA2 (DEC+ALB)\", COUNTRY_INFO!$T$9:$T$1000, \" \")","v":" "},null,null,null,null,0,null,null,null,0," "," "," "," "]
[{"$f":"IF(COUNTRY_INFO!A57=0,\" \",COUNTRY_INFO!A57)","v":"Mozambique"},{"$f":"IF(COUNTRY_INFO!B57=0,\" \",COUNTRY_INFO!B57)","v":"Nampula"},{"$f":"IF(COUNTRY_INFO!C57=0,\" \",COUNTRY_INFO!C57)","v":"Mossuril"},{"$f":"IF(COUNTRY_INFO!$T$9:$T$1000=\"MDA2 (DEC+ALB)\", COUNTRY_INFO!$T$9:$T$1000, \" \")","v":" "},null,null,null,null,0,null,null,null,0," "," "," "," "]
[{"$f":"IF(COUNTRY_INFO!A58=0,\" \",COUNTRY_INFO!A58)","v":"Mozambique"},{"$f":"IF(COUNTRY_INFO!B58=0,\" \",COUNTRY_INFO!B58)","v":"Nampula"},{"$f":"IF(COUNTRY_INFO!C58=0,\" \",COUNTRY_INFO!C58)","v":"Muecate"},{"$f":"IF(COUNTRY_INFO!$T$9:$T$1000=\"MDA2 (DEC+ALB)\", COUNTRY_INFO!$T$9:$T$1000, \" \")","v":" "},null,null,null,null,0,null,null,null,0," "," "," "," "]
[{"$f":"IF(COUNTRY_INFO!A59=0,\" \",COUNTRY_INFO!A59)","v":"Mozambique"},{"$f":"IF(COUNTRY_INFO!B59=0,\" \",COUNTRY_INFO!B59)","v":"Nampula"},{"$f":"IF(COUNTRY_INFO!C59=0,\" \",COUNTRY_INFO!C59)","v":"Murrupula"},{"$f":"IF(COUNTRY_INFO!$T$9:$T$1000=\"MDA2 (DEC+ALB)\", COUNTRY_INFO!$T$9:$T$1000, \" \")","v":" "},null,null,null,null,0,null,null,null,0," "," "," "," "]
[{"$f":"IF(COUNTRY_INFO!A60=0,\" \",COUNTRY_INFO!A60)","v":"Mozambique"},{"$f":"IF(COUNTRY_INFO!B60=0,\" \",COUNTRY_INFO!B60)","v":"Nampula"},{"$f":"IF(COUNTRY_INFO!C60=0,\" \",COUNTRY_INFO!C60)","v":"Nacala Porto"},{"$f":"IF(COUNTRY_INFO!$T$9:$T$1000=\"MDA2 (DEC+ALB)\", COUNTRY_INFO!$T$9:$T$1000, \" \")","v":" "},null,null,null,null,0,null,null,null,0," "," "," "," "]
[{"$f":"IF(COUNTRY_INFO!A61=0,\" \",COUNTRY_INFO!A61)","v":"Mozambique"},{"$f":"IF(COUNTRY_INFO!B61=0,\" \",COUNTRY_INFO!B61)","v":"Nampula"},{"$f":"IF(COUNTRY_INFO!C61=0,\" \",COUNTRY_INFO!C61)","v":"Nacala Velha"},{"$f":"IF(COUNTRY_INFO!$T$9:$T$1000=\"MDA2 (DEC+ALB)\", COUNTRY_INFO!$T$9:$T$1000, \" \")","v":" "},null,null,null,null,0,null,null,null,0," "," "," "," "]
[{"$f":"IF(COUNTRY_INFO!A62=0,\" \",COUNTRY_INFO!A62)","v":"Mozambique"},{"$f":"IF(COUNTRY_INFO!B62=0,\" \",COUNTRY_INFO!B62)","v":"Nampula"},{"$f":"IF(COUNTRY_INFO!C62=0,\" \",COUNTRY_INFO!C62)","v":"Nacaroa"},{"$f":"IF(COUNTRY_INFO!$T$9:$T$1000=\"MDA2 (DEC+ALB)\", COUNTRY_INFO!$T$9:$T$1000, \" \")","v":" "},null,null,null,null,0,null,null,null,0," "," "," "," "]
[{"$f":"IF(COUNTRY_INFO!A63=0,\" \",COUNTRY_INFO!A63)","v":"Mozambique"},{"$f":"IF(COUNTRY_INFO!B63=0,\" \",COUNTRY_INFO!B63)","v":"Nampula"},{"$f":"IF(COUNTRY_INFO!C63=0,\" \",COUNTRY_INFO!C63)","v":"Nampula Dist."},{"$f":"IF(COUNTRY_INFO!$T$9:$T$1000=\"MDA2 (DEC+ALB)\", COUNTRY_INFO!$T$9:$T$1000, \" \")","v":" "},null,null,null,null,0,null,null,null,0," "," "," "," "]
[{"$f":"IF(COUNTRY_INFO!A64=0,\" \",COUNTRY_INFO!A64)","v":"Mozambique"},{"$f":"IF(COUNTRY_INFO!B64=0,\" \",COUNTRY_INFO!B64)","v":"Nampula"},{"$f":"IF(COUNTRY_INFO!C64=0,\" \",COUNTRY_INFO!C64)","v":"Ribaué"},{"$f":"IF(COUNTRY_INFO!$T$9:$T$1000=\"MDA2 (DEC+ALB)\", COUNTRY_INFO!$T$9:$T$1000, \" \")","v":" "},null,null,null,null,0,null,null,null,0," "," "," "," "]
[{"$f":"IF(COUNTRY_INFO!A65=0,\" \",COUNTRY_INFO!A65)","v":"Mozambique"},{"$f":"IF(COUNTRY_INFO!B65=0,\" \",COUNTRY_INFO!B65)","v":"Zambezia"},{"$f":"IF(COUNTRY_INFO!C65=0,\" \",COUNTRY_INFO!C65)","v":"Quelimane"},{"$f":"IF(COUNTRY_INFO!$T$9:$T$1000=\"MDA2 (DEC+ALB)\", COUNTRY_INFO!$T$9:$T$1000, \" \")","v":" "},null,null,null,null,0,null,null,null,0," "," "," "," "]
[{"$f":"IF(COUNTRY_INFO!A66=0,\" \",COUNTRY_INFO!A66)","v":"Mozambique"},{"$f":"IF(COUNTRY_INFO!B66=0,\" \",COUNTRY_INFO!B66)","v":"Zambezia"},{"$f":"IF(COUNTRY_INFO!C66=0,\" \",COUNTRY_INFO!C66)","v":"Alto Molocué"},{"$f":"IF(COUNTRY_INFO!$T$9:$T$1000=\"MDA2 (DEC+ALB)\", COUNTRY_INFO!$T$9:$T$1000, \" \")","v":" "},null,null,null,null,0,null,null,null,0," "," "," "," "]
[{"$f":"IF(COUNTRY_INFO!A67=0,\" \",COUNTRY_INFO!A67)","v":"Mozambique"},{"$f":"IF(COUNTRY_INFO!B67=0,\" \",COUNTRY_INFO!B67)","v":"Zambezia"},{"$f":"IF(COUNTRY_INFO!C67=0,\" \",COUNTRY_INFO!C67)","v":"Chinde"},{"$f":"IF(COUNTRY_INFO!$T$9:$T$1000=\"MDA2 (DEC+ALB)\", COUNTRY_INFO!$T$9:$T$1000, \" \")","v":" "},null,null,null,null,0,null,null,null,0," "," "," "," "]
[{"$f":"IF(COUNTRY_INFO!A68=0,\" \",COUNTRY_INFO!A68)","v":"Mozambique"},{"$f":"IF(COUNTRY_INFO!B68=0,\" \",COUNTRY_INFO!B68)","v":"Zambezia"},{"$f":"IF(COUNTRY_INFO!C68=0,\" \",COUNTRY_INFO!C68)","v":"Derre"},{"$f":"IF(COUNTRY_INFO!$T$9:$T$1000=\"MDA2 (DEC+ALB)\", COUNTRY_INFO!$T$9:$T$1000, \" \")","v":" "},null,null,null,null,0,null,null,null,0," "," "," "," "]
[{"$f":"IF(COUNTRY_INFO!A69=0,\" \",COUNTRY_INFO!A69)","v":"Mozambique"},{"$f":"IF(COUNTRY_INFO!B69=0,\" \",COUNTRY_INFO!B69)","v":"Zambezia"},{"$f":"IF(COUNTRY_INFO!C69=0,\" \",COUNTRY_INFO!C69)","v":"Gilé"},{"$f":"IF(COUNTRY_INFO!$T$9:$T$1000=\"MDA2 (DEC+ALB)\", COUNTRY_INFO!$T$9:$T$1000, \" \")","v":" "},null,null,null,null,0,null,null,null,0," "," "," "," "]
[{"$f":"IF(COUNTRY_INFO!A70=0,\" \",COUNTRY_INFO!A70)","v":"Mozambique"},{"$f":"IF(COUNTRY_INFO!B70=0,\" \",COUNTRY_INFO!B70)","v":"Zambezia"},{"$f":"IF(COUNTRY_INFO!C70=0,\" \",COUNTRY_INFO!C70)","v":"Gurué"},{"$f":"IF(COUNTRY_INFO!$T$9:$T$1000=\"MDA2 (DEC+ALB)\", COUNTRY_INFO!$T$9:$T$1000, \" \")","v":" "},null,null,null,null,0,null,null,null,0," "," "," "," "]
[{"$f":"IF(COUNTRY_INFO!A71=0,\" \",COUNTRY_INFO!A71)","v":"Mozambique"},{"$f":"IF(COUNTRY_INFO!B71=0,\" \",COUNTRY_INFO!B71)","v":"Zambezia"},{"$f":"IF(COUNTRY_INFO!C71=0,\" \",COUNTRY_INFO!C71)","v":"Ile"},{"$f":"IF(COUNTRY_INFO!$T$9:$T$1000=\"MDA2 (DEC+ALB)\", COUNTRY_INFO!$T$9:$T$1000, \" \")","v":" "},null,null,null,null,0,null,null,null,0," "," "," "," "]
[{"$f":"IF(COUNTRY_INFO!A72=0,\" \",COUNTRY_INFO!A72)","v":"Mozambique"},{"$f":"IF(COUNTRY_INFO!B72=0,\" \",COUNTRY_INFO!B72)","v":"Zambezia"},{"$f":"IF(COUNTRY_INFO!C72=0,\" \",COUNTRY_INFO!C72)","v":"Inhassunge"},{"$f":"IF(COUNTRY_INFO!$T$9:$T$1000=\"MDA2 (DEC+ALB)\", COUNTRY_INFO!$T$9:$T$1000, \" \")","v":" "},null,null,null,null,0,null,null,null,0," "," "," "," "]
[{"$f":"IF(COUNTRY_INFO!A73=0,\" \",COUNTRY_INFO!A73)","v":"Mozambique"},{"$f":"IF(COUNTRY_INFO!B73=0,\" \",COUNTRY_INFO!B73)","v":"Zambezia"},{"$f":"IF(COUNTRY_INFO!C73=0,\" \",COUNTRY_INFO!C73)","v":"Luabo"},{"$f":"IF(COUNTRY_INFO!$T$9:$T$1000=\"MDA2 (DEC+ALB)\", COUNTRY_INFO!$T$9:$T$1000, \" \")","v":" "},null,null,null,null,0,null,null,null,0," "," "," "," "]
[{"$f":"IF(COUNTRY_INFO!A74=0,\" \",COUNTRY_INFO!A74)","v":"Mozambique"},{"$f":"IF(COUNTRY_INFO!B74=0,\" \",COUNTRY_INFO!B74)","v":"Zambezia"},{"$f":"IF(COUNTRY_INFO!C74=0,\" \",COUNTRY_INFO!C74)","v":"Lugela"},{"$f":"IF(COUNTRY_INFO!$T$9:$T$1000=\"MDA2 (DEC+ALB)\", COUNTRY_INFO!$T$9:$T$1000, \" \")","v":" "},null,null,null,null,{"$f":"SUM(F74:H74)","v":0},null,null,null,{"$f":"SUM(J74:L74)","v":0},{"$f":"IF(F74<>0, IF(J74/F74*100=0, \"-\", J74/F74*100), \" \")","v":" "},{"$f":"IF(G74<>0, IF(K74/G74*100=0, \"-\", K74/G74*100), \" \")","v":" "},{"$f":"IF(H74<>0, IF(L74/H74*100=0, \"-\", L74/H74*100), \" \")","v":" "},{"$f":"IF(I74<>0, IF(M74/I74*100=0, \"-\", M74/I74*100), \" \")","v":" "}]
[{"$f":"IF(COUNTRY_INFO!A75=0,\" \",COUNTRY_INFO!A75)","v":"Mozambique"},{"$f":"IF(COUNTRY_INFO!B75=0,\" \",COUNTRY_INFO!B75)","v":"Zambezia"},{"$f":"IF(COUNTRY_INFO!C75=0,\" \",COUNTRY_INFO!C75)","v":"Maganja da Costa"},{"$f":"IF(COUNTRY_INFO!$T$9:$T$1000=\"MDA2 (DEC+ALB)\", COUNTRY_INFO!$T$9:$T$1000, \" \")","v":" "},null,null,null,null,0,null,null,null,0," "," "," "," "]
[{"$f":"IF(COUNTRY_INFO!A76=0,\" \",COUNTRY_INFO!A76)","v":"Mozambique"},{"$f":"IF(COUNTRY_INFO!B76=0,\" \",COUNTRY_INFO!B76)","v":"Zambezia"},{"$f":"IF(COUNTRY_INFO!C76=0,\" \",COUNTRY_INFO!C76)","v":"Milange"},{"$f":"IF(COUNTRY_INFO!$T$9:$T$1000=\"MDA2 (DEC+ALB)\", COUNTRY_INFO!$T$9:$T$1000, \" \")","v":" "},null,null,null,null,0,null,null,null,0," "," "," "," "]
[{"$f":"IF(COUNTRY_INFO!A77=0,\" \",COUNTRY_INFO!A77)","v":"Mozambique"},{"$f":"IF(COUNTRY_INFO!B77=0,\" \",COUNTRY_INFO!B77)","v":"Zambezia"},{"$f":"IF(COUNTRY_INFO!C77=0,\" \",COUNTRY_INFO!C77)","v":"Mocuba"},{"$f":"IF(COUNTRY_INFO!$T$9:$T$1000=\"MDA2 (DEC+ALB)\", COUNTRY_INFO!$T$9:$T$1000, \" \")","v":" "},null,null,null,null,0,null,null,null,0," "," "," "," "]
[{"$f":"IF(COUNTRY_INFO!A78=0,\" \",COUNTRY_INFO!A78)","v":"Mozambique"},{"$f":"IF(COUNTRY_INFO!B78=0,\" \",COUNTRY_INFO!B78)","v":"Zambezia"},{"$f":"IF(COUNTRY_INFO!C78=0,\" \",COUNTRY_INFO!C78)","v":"Mocubela"},{"$f":"IF(COUNTRY_INFO!$T$9:$T$1000=\"MDA2 (DEC+ALB)\", COUNTRY_INFO!$T$9:$T$1000, \" \")","v":" "},null,null,null,null,0,null,null,null,0," "," "," "," "]
[{"$f":"IF(COUNTRY_INFO!A79=0,\" \",COUNTRY_INFO!A79)","v":"Mozambique"},{"$f":"IF(COUNTRY_INFO!B79=0,\" \",COUNTRY_INFO!B79)","v":"Zambezia"},{"$f":"IF(COUNTRY_INFO!C79=0,\" \",COUNTRY_INFO!C79)","v":"Molumbo"},{"$f":"IF(COUNTRY_INFO!$T$9:$T$1000=\"MDA2 (DEC+ALB)\", COUNTRY_INFO!$T$9:$T$1000, \" \")","v":" "},null,null,null,null,0,null,null,null,0," "," "," "," "]
[{"$f":"IF(COUNTRY_INFO!A80=0,\" \",COUNTRY_INFO!A80)","v":"Mozambique"},{"$f":"IF(COUNTRY_INFO!B80=0,\" \",COUNTRY_INFO!B80)","v":"Zambezia"},{"$f":"IF(COUNTRY_INFO!C80=0,\" \",COUNTRY_INFO!C80)","v":"Mopeia"},{"$f":"IF(COUNTRY_INFO!$T$9:$T$1000=\"MDA2 (DEC+ALB)\", COUNTRY_INFO!$T$9:$T$1000, \" \")","v":" "},null,null,null,null,0,null,null,null,0," "," "," "," "]
[{"$f":"IF(COUNTRY_INFO!A81=0,\" \",COUNTRY_INFO!A81)","v":"Mozambique"},{"$f":"IF(COUNTRY_INFO!B81=0,\" \",COUNTRY_INFO!B81)","v":"Zambezia"},{"$f":"IF(COUNTRY_INFO!C81=0,\" \",COUNTRY_INFO!C81)","v":"Morrumbala"},{"$f":"IF(COUNTRY_INFO!$T$9:$T$1000=\"MDA2 (DEC+ALB)\", COUNTRY_INFO!$T$9:$T$1000, \" \")","v":" "},null,null,null,null,0,null,null,null,0," "," "," "," "]
[{"$f":"IF(COUNTRY_INFO!A82=0,\" \",COUNTRY_INFO!A82)","v":"Mozambique"},{"$f":"IF(COUNTRY_INFO!B82=0,\" \",COUNTRY_INFO!B82)","v":"Zambezia"},{"$f":"IF(COUNTRY_INFO!C82=0,\" \",COUNTRY_INFO!C82)","v":"Mulevala"},{"$f":"IF(COUNTRY_INFO!$T$9:$T$1000=\"MDA2 (DEC+ALB)\", COUNTRY_INFO!$T$9:$T$1000, \" \")","v":" "},null,null,null,null,0,null,null,null,0," "," "," "," "]
[{"$f":"IF(COUNTRY_INFO!A83=0,\" \",COUNTRY_INFO!A83)","v":"Mozambique"},{"$f":"IF(COUNTRY_INFO!B83=0,\" \",COUNTRY_INFO!B83)","v":"Zambezia"},{"$f":"IF(COUNTRY_INFO!C83=0,\" \",COUNTRY_INFO!C83)","v":"Namacurra"},{"$f":"IF(COUNTRY_INFO!$T$9:$T$1000=\"MDA2 (DEC+ALB)\", COUNTRY_INFO!$T$9:$T$1000, \" \")","v":" "},null,null,null,null,0,null,null,null,0," "," "," "," "]
[{"$f":"IF(COUNTRY_INFO!A84=0,\" \",COUNTRY_INFO!A84)","v":"Mozambique"},{"$f":"IF(COUNTRY_INFO!B84=0,\" \",COUNTRY_INFO!B84)","v":"Zambezia"},{"$f":"IF(COUNTRY_INFO!C84=0,\" \",COUNTRY_INFO!C84)","v":"Namarrói"},{"$f":"IF(COUNTRY_INFO!$T$9:$T$1000=\"MDA2 (DEC+ALB)\", COUNTRY_INFO!$T$9:$T$1000, \" \")","v":" "},null,null,null,null,0,null,null,null,0," "," "," "," "]
[{"$f":"IF(COUNTRY_INFO!A85=0,\" \",COUNTRY_INFO!A85)","v":"Mozambique"},{"$f":"IF(COUNTRY_INFO!B85=0,\" \",COUNTRY_INFO!B85)","v":"Zambezia"},{"$f":"IF(COUNTRY_INFO!C85=0,\" \",COUNTRY_INFO!C85)","v":"Nicoadala"},{"$f":"IF(COUNTRY_INFO!$T$9:$T$1000=\"MDA2 (DEC+ALB)\", COUNTRY_INFO!$T$9:$T$1000, \" \")","v":" "},null,null,null,null,0,null,null,null,0," "," "," "," "]
[{"$f":"IF(COUNTRY_INFO!A86=0,\" \",COUNTRY_INFO!A86)","v":"Mozambique"},{"$f":"IF(COUNTRY_INFO!B86=0,\" \",COUNTRY_INFO!B86)","v":"Zambezia"},{"$f":"IF(COUNTRY_INFO!C86=0,\" \",COUNTRY_INFO!C86)","v":"Pebane"},{"$f":"IF(COUNTRY_INFO!$T$9:$T$1000=\"MDA2 (DEC+ALB)\", COUNTRY_INFO!$T$9:$T$1000, \" \")","v":" "},null,null,null,null,0,null,null,null,0," "," "," "," "]
[{"$f":"IF(COUNTRY_INFO!A87=0,\" \",COUNTRY_INFO!A87)","v":"Mozambique"},{"$f":"IF(COUNTRY_INFO!B87=0,\" \",COUNTRY_INFO!B87)","v":"Tete"},{"$f":"IF(COUNTRY_INFO!C87=0,\" \",COUNTRY_INFO!C87)","v":"Cid Tete"},{"$f":"IF(COUNTRY_INFO!$T$9:$T$1000=\"MDA2 (DEC+ALB)\", COUNTRY_INFO!$T$9:$T$1000, \" \")","v":" "},null,null,null,null,0,null,null,null,0," "," "," "," "]
[{"$f":"IF(COUNTRY_INFO!A88=0,\" \",COUNTRY_INFO!A88)","v":"Mozambique"},{"$f":"IF(COUNTRY_INFO!B88=0,\" \",COUNTRY_INFO!B88)","v":"Tete"},{"$f":"IF(COUNTRY_INFO!C88=0,\" \",COUNTRY_INFO!C88)","v":"Angónia"},{"$f":"IF(COUNTRY_INFO!$T$9:$T$1000=\"MDA2 (DEC+ALB)\", COUNTRY_INFO!$T$9:$T$1000, \" \")","v":" "},null,null,null,null,0,null,null,null,0," "," "," "," "]
[{"$f":"IF(COUNTRY_INFO!A89=0,\" \",COUNTRY_INFO!A89)","v":"Mozambique"},{"$f":"IF(COUNTRY_INFO!B89=0,\" \",COUNTRY_INFO!B89)","v":"Tete"},{"$f":"IF(COUNTRY_INFO!C89=0,\" \",COUNTRY_INFO!C89)","v":"Cahora Bassa"},{"$f":"IF(COUNTRY_INFO!$T$9:$T$1000=\"MDA2 (DEC+ALB)\", COUNTRY_INFO!$T$9:$T$1000, \" \")","v":" "},null,null,null,null,0,null,null,null,0," "," "," "," "]
[{"$f":"IF(COUNTRY_INFO!A90=0,\" \",COUNTRY_INFO!A90)","v":"Mozambique"},{"$f":"IF(COUNTRY_INFO!B90=0,\" \",COUNTRY_INFO!B90)","v":"Tete"},{"$f":"IF(COUNTRY_INFO!C90=0,\" \",COUNTRY_INFO!C90)","v":"Changara "},{"$f":"IF(COUNTRY_INFO!$T$9:$T$1000=\"MDA2 (DEC+ALB)\", COUNTRY_INFO!$T$9:$T$1000, \" \")","v":" "},null,null,null,null,0,null,null,null,0," "," "," "," "]
[{"$f":"IF(COUNTRY_INFO!A91=0,\" \",COUNTRY_INFO!A91)","v":"Mozambique"},{"$f":"IF(COUNTRY_INFO!B91=0,\" \",COUNTRY_INFO!B91)","v":"Tete"},{"$f":"IF(COUNTRY_INFO!C91=0,\" \",COUNTRY_INFO!C91)","v":"Chifunde"},{"$f":"IF(COUNTRY_INFO!$T$9:$T$1000=\"MDA2 (DEC+ALB)\", COUNTRY_INFO!$T$9:$T$1000, \" \")","v":" "},null,null,null,null,0,null,null,null,0," "," "," "," "]
[{"$f":"IF(COUNTRY_INFO!A92=0,\" \",COUNTRY_INFO!A92)","v":"Mozambique"},{"$f":"IF(COUNTRY_INFO!B92=0,\" \",COUNTRY_INFO!B92)","v":"Tete"},{"$f":"IF(COUNTRY_INFO!C92=0,\" \",COUNTRY_INFO!C92)","v":"Chiúta"},{"$f":"IF(COUNTRY_INFO!$T$9:$T$1000=\"MDA2 (DEC+ALB)\", COUNTRY_INFO!$T$9:$T$1000, \" \")","v":" "},null,null,null,null,0,null,null,null,0," "," "," "," "]
[{"$f":"IF(COUNTRY_INFO!A93=0,\" \",COUNTRY_INFO!A93)","v":"Mozambique"},{"$f":"IF(COUNTRY_INFO!B93=0,\" \",COUNTRY_INFO!B93)","v":"Tete"},{"$f":"IF(COUNTRY_INFO!C93=0,\" \",COUNTRY_INFO!C93)","v":"Doa"},{"$f":"IF(COUNTRY_INFO!$T$9:$T$1000=\"MDA2 (DEC+ALB)\", COUNTRY_INFO!$T$9:$T$1000, \" \")","v":" "},null,null,null,null,0,null,null,null,0," "," "," "," "]
[{"$f":"IF(COUNTRY_INFO!A94=0,\" \",COUNTRY_INFO!A94)","v":"Mozambique"},{"$f":"IF(COUNTRY_INFO!B94=0,\" \",COUNTRY_INFO!B94)","v":"Tete"},{"$f":"IF(COUNTRY_INFO!C94=0,\" \",COUNTRY_INFO!C94)","v":"Macanga"},{"$f":"IF(COUNTRY_INFO!$T$9:$T$1000=\"MDA2 (DEC+ALB)\", COUNTRY_INFO!$T$9:$T$1000, \" \")","v":" "},null,null,null,null,0,null,null,null,0," "," "," "," "]
[{"$f":"IF(COUNTRY_INFO!A95=0,\" \",COUNTRY_INFO!A95)","v":"Mozambique"},{"$f":"IF(COUNTRY_INFO!B95=0,\" \",COUNTRY_INFO!B95)","v":"Tete"},{"$f":"IF(COUNTRY_INFO!C95=0,\" \",COUNTRY_INFO!C95)","v":"Magoe"},{"$f":"IF(COUNTRY_INFO!$T$9:$T$1000=\"MDA2 (DEC+ALB)\", COUNTRY_INFO!$T$9:$T$1000, \" \")","v":" "},null,null,null,null,0,null,null,null,0," "," "," "," "]
[{"$f":"IF(COUNTRY_INFO!A96=0,\" \",COUNTRY_INFO!A96)","v":"Mozambique"},{"$f":"IF(COUNTRY_INFO!B96=0,\" \",COUNTRY_INFO!B96)","v":"Tete"},{"$f":"IF(COUNTRY_INFO!C96=0,\" \",COUNTRY_INFO!C96)","v":"Marávia"},{"$f":"IF(COUNTRY_INFO!$T$9:$T$1000=\"MDA2 (DEC+ALB)\", COUNTRY_INFO!$T$9:$T$1000, \" \")","v":" "},null,null,null,null,0,null,null,null,0," "," "," "," "]
[{"$f":"IF(COUNTRY_INFO!A97=0,\" \",COUNTRY_INFO!A97)","v":"Mozambique"},{"$f":"IF(COUNTRY_INFO!B97=0,\" \",COUNTRY_INFO!B97)","v":"Tete"},{"$f":"IF(COUNTRY_INFO!C97=0,\" \",COUNTRY_INFO!C97)","v":"Marara"},{"$f":"IF(COUNTRY_INFO!$T$9:$T$1000=\"MDA2 (DEC+ALB)\", COUNTRY_INFO!$T$9:$T$1000, \" \")","v":" "},null,null,null,null,0,null,null,null,0," "," "," "," "]
[{"$f":"IF(COUNTRY_INFO!A98=0,\" \",COUNTRY_INFO!A98)","v":"Mozambique"},{"$f":"IF(COUNTRY_INFO!B98=0,\" \",COUNTRY_INFO!B98)","v":"Tete"},{"$f":"IF(COUNTRY_INFO!C98=0,\" \",COUNTRY_INFO!C98)","v":"Moatize"},{"$f":"IF(COUNTRY_INFO!$T$9:$T$1000=\"MDA2 (DEC+ALB)\", COUNTRY_INFO!$T$9:$T$1000, \" \")","v":" "},null,null,null,null,0,null,null,null,0," "," "," "," "]
[{"$f":"IF(COUNTRY_INFO!A99=0,\" \",COUNTRY_INFO!A99)","v":"Mozambique"},{"$f":"IF(COUNTRY_INFO!B99=0,\" \",COUNTRY_INFO!B99)","v":"Tete"},{"$f":"IF(COUNTRY_INFO!C99=0,\" \",COUNTRY_INFO!C99)","v":"Mutarara"},{"$f":"IF(COUNTRY_INFO!$T$9:$T$1000=\"MDA2 (DEC+ALB)\", COUNTRY_INFO!$T$9:$T$1000, \" \")","v":" "},null,null,null,null,0,null,null,null,0," "," "," "," "]
[{"$f":"IF(COUNTRY_INFO!A100=0,\" \",COUNTRY_INFO!A100)","v":"Mozambique"},{"$f":"IF(COUNTRY_INFO!B100=0,\" \",COUNTRY_INFO!B100)","v":"Tete"},{"$f":"IF(COUNTRY_INFO!C100=0,\" \",COUNTRY_INFO!C100)","v":"Tsangano"},{"$f":"IF(COUNTRY_INFO!$T$9:$T$1000=\"MDA2 (DEC+ALB)\", COUNTRY_INFO!$T$9:$T$1000, \" \")","v":" "},null,null,null,null,0,null,null,null,0," "," "," "," "]
[{"$f":"IF(COUNTRY_INFO!A101=0,\" \",COUNTRY_INFO!A101)","v":"Mozambique"},{"$f":"IF(COUNTRY_INFO!B101=0,\" \",COUNTRY_INFO!B101)","v":"Tete"},{"$f":"IF(COUNTRY_INFO!C101=0,\" \",COUNTRY_INFO!C101)","v":"Zumbu"},{"$f":"IF(COUNTRY_INFO!$T$9:$T$1000=\"MDA2 (DEC+ALB)\", COUNTRY_INFO!$T$9:$T$1000, \" \")","v":" "},null,null,null,null,0,null,null,null,0," "," "," "," "]
[{"$f":"IF(COUNTRY_INFO!A102=0,\" \",COUNTRY_INFO!A102)","v":"Mozambique"},{"$f":"IF(COUNTRY_INFO!B102=0,\" \",COUNTRY_INFO!B102)","v":"Sofala"},{"$f":"IF(COUNTRY_INFO!C102=0,\" \",COUNTRY_INFO!C102)","v":"Cid Beira"},{"$f":"IF(COUNTRY_INFO!$T$9:$T$1000=\"MDA2 (DEC+ALB)\", COUNTRY_INFO!$T$9:$T$1000, \" \")","v":" "},null,null,null,null,0,null,null,null,0," "," "," "," "]
[{"$f":"IF(COUNTRY_INFO!A103=0,\" \",COUNTRY_INFO!A103)","v":"Mozambique"},{"$f":"IF(COUNTRY_INFO!B103=0,\" \",COUNTRY_INFO!B103)","v":"Sofala"},{"$f":"IF(COUNTRY_INFO!C103=0,\" \",COUNTRY_INFO!C103)","v":"Buzi"},{"$f":"IF(COUNTRY_INFO!$T$9:$T$1000=\"MDA2 (DEC+ALB)\", COUNTRY_INFO!$T$9:$T$1000, \" \")","v":" "},null,null,null,null,0,null,null,null,0," "," "," "," "]
[{"$f":"IF(COUNTRY_INFO!A104=0,\" \",COUNTRY_INFO!A104)","v":"Mozambique"},{"$f":"IF(COUNTRY_INFO!B104=0,\" \",COUNTRY_INFO!B104)","v":"Sofala"},{"$f":"IF(COUNTRY_INFO!C104=0,\" \",COUNTRY_INFO!C104)","v":"Caia"},{"$f":"IF(COUNTRY_INFO!$T$9:$T$1000=\"MDA2 (DEC+ALB)\", COUNTRY_INFO!$T$9:$T$1000, \" \")","v":" "},null,null,null,null,0,null,null,null,0," "," "," "," "]
[{"$f":"IF(COUNTRY_INFO!A105=0,\" \",COUNTRY_INFO!A105)","v":"Mozambique"},{"$f":"IF(COUNTRY_INFO!B105=0,\" \",COUNTRY_INFO!B105)","v":"Sofala"},{"$f":"IF(COUNTRY_INFO!C105=0,\" \",COUNTRY_INFO!C105)","v":"Chemba"},{"$f":"IF(COUNTRY_INFO!$T$9:$T$1000=\"MDA2 (DEC+ALB)\", COUNTRY_INFO!$T$9:$T$1000, \" \")","v":" "},null,null,null,null,0,null,null,null,0," "," "," "," "]
[{"$f":"IF(COUNTRY_INFO!A106=0,\" \",COUNTRY_INFO!A106)","v":"Mozambique"},{"$f":"IF(COUNTRY_INFO!B106=0,\" \",COUNTRY_INFO!B106)","v":"Sofala"},{"$f":"IF(COUNTRY_INFO!C106=0,\" \",COUNTRY_INFO!C106)","v":"Cheringoma"},{"$f":"IF(COUNTRY_INFO!$T$9:$T$1000=\"MDA2 (DEC+ALB)\", COUNTRY_INFO!$T$9:$T$1000, \" \")","v":" "},null,null,null,null,0,null,null,null,0," "," "," "," "]
[{"$f":"IF(COUNTRY_INFO!A107=0,\" \",COUNTRY_INFO!A107)","v":"Mozambique"},{"$f":"IF(COUNTRY_INFO!B107=0,\" \",COUNTRY_INFO!B107)","v":"Sofala"},{"$f":"IF(COUNTRY_INFO!C107=0,\" \",COUNTRY_INFO!C107)","v":"Chibabava"},{"$f":"IF(COUNTRY_INFO!$T$9:$T$1000=\"MDA2 (DEC+ALB)\", COUNTRY_INFO!$T$9:$T$1000, \" \")","v":" "},null,null,null,null,0,null,null,null,0," "," "," "," "]
[{"$f":"IF(COUNTRY_INFO!A108=0,\" \",COUNTRY_INFO!A108)","v":"Mozambique"},{"$f":"IF(COUNTRY_INFO!B108=0,\" \",COUNTRY_INFO!B108)","v":"Sofala"},{"$f":"IF(COUNTRY_INFO!C108=0,\" \",COUNTRY_INFO!C108)","v":"Dondo"},{"$f":"IF(COUNTRY_INFO!$T$9:$T$1000=\"MDA2 (DEC+ALB)\", COUNTRY_INFO!$T$9:$T$1000, \" \")","v":" "},null,null,null,null,0,null,null,null,0," "," "," "," "]
[{"$f":"IF(COUNTRY_INFO!A109=0,\" \",COUNTRY_INFO!A109)","v":"Mozambique"},{"$f":"IF(COUNTRY_INFO!B109=0,\" \",COUNTRY_INFO!B109)","v":"Sofala"},{"$f":"IF(COUNTRY_INFO!C109=0,\" \",COUNTRY_INFO!C109)","v":"Gorongosa"},{"$f":"IF(COUNTRY_INFO!$T$9:$T$1000=\"MDA2 (DEC+ALB)\", COUNTRY_INFO!$T$9:$T$1000, \" \")","v":" "},null,null,null,null,0,null,null,null,0," "," "," "," "]
[{"$f":"IF(COUNTRY_INFO!A110=0,\" \",COUNTRY_INFO!A110)","v":"Mozambique"},{"$f":"IF(COUNTRY_INFO!B110=0,\" \",COUNTRY_INFO!B110)","v":"Sofala"},{"$f":"IF(COUNTRY_INFO!C110=0,\" \",COUNTRY_INFO!C110)","v":"Machanga"},{"$f":"IF(COUNTRY_INFO!$T$9:$T$1000=\"MDA2 (DEC+ALB)\", COUNTRY_INFO!$T$9:$T$1000, \" \")","v":" "},null,null,null,null,0,null,null,null,0," "," "," "," "]
[{"$f":"IF(COUNTRY_INFO!A111=0,\" \",COUNTRY_INFO!A111)","v":"Mozambique"},{"$f":"IF(COUNTRY_INFO!B111=0,\" \",COUNTRY_INFO!B111)","v":"Sofala"},{"$f":"IF(COUNTRY_INFO!C111=0,\" \",COUNTRY_INFO!C111)","v":"Maringue"},{"$f":"IF(COUNTRY_INFO!$T$9:$T$1000=\"MDA2 (DEC+ALB)\", COUNTRY_INFO!$T$9:$T$1000, \" \")","v":" "},null,null,null,null,0,null,null,null,0," "," "," "," "]
[{"$f":"IF(COUNTRY_INFO!A112=0,\" \",COUNTRY_INFO!A112)","v":"Mozambique"},{"$f":"IF(COUNTRY_INFO!B112=0,\" \",COUNTRY_INFO!B112)","v":"Sofala"},{"$f":"IF(COUNTRY_INFO!C112=0,\" \",COUNTRY_INFO!C112)","v":"Marromeu"},{"$f":"IF(COUNTRY_INFO!$T$9:$T$1000=\"MDA2 (DEC+ALB)\", COUNTRY_INFO!$T$9:$T$1000, \" \")","v":" "},null,null,null,null,0,null,null,null,0," "," "," "," "]
[{"$f":"IF(COUNTRY_INFO!A113=0,\" \",COUNTRY_INFO!A113)","v":"Mozambique"},{"$f":"IF(COUNTRY_INFO!B113=0,\" \",COUNTRY_INFO!B113)","v":"Sofala"},{"$f":"IF(COUNTRY_INFO!C113=0,\" \",COUNTRY_INFO!C113)","v":"Muanza"},{"$f":"IF(COUNTRY_INFO!$T$9:$T$1000=\"MDA2 (DEC+ALB)\", COUNTRY_INFO!$T$9:$T$1000, \" \")","v":" "},null,null,null,null,0,null,null,null,0," "," "," "," "]
[{"$f":"IF(COUNTRY_INFO!A114=0,\" \",COUNTRY_INFO!A114)","v":"Mozambique"},{"$f":"IF(COUNTRY_INFO!B114=0,\" \",COUNTRY_INFO!B114)","v":"Sofala"},{"$f":"IF(COUNTRY_INFO!C114=0,\" \",COUNTRY_INFO!C114)","v":"Nhamatanda"},{"$f":"IF(COUNTRY_INFO!$T$9:$T$1000=\"MDA2 (DEC+ALB)\", COUNTRY_INFO!$T$9:$T$1000, \" \")","v":" "},null,null,null,null,0,null,null,null,0," "," "," "," "]
[{"$f":"IF(COUNTRY_INFO!A115=0,\" \",COUNTRY_INFO!A115)","v":"Mozambique"},{"$f":"IF(COUNTRY_INFO!B115=0,\" \",COUNTRY_INFO!B115)","v":"Manica"},{"$f":"IF(COUNTRY_INFO!C115=0,\" \",COUNTRY_INFO!C115)","v":"Cid. Chimoio"},{"$f":"IF(COUNTRY_INFO!$T$9:$T$1000=\"MDA2 (DEC+ALB)\", COUNTRY_INFO!$T$9:$T$1000, \" \")","v":" "},null,null,null,null,0,null,null,null,0," "," "," "," "]
[{"$f":"IF(COUNTRY_INFO!A116=0,\" \",COUNTRY_INFO!A116)","v":"Mozambique"},{"$f":"IF(COUNTRY_INFO!B116=0,\" \",COUNTRY_INFO!B116)","v":"Manica"},{"$f":"IF(COUNTRY_INFO!C116=0,\" \",COUNTRY_INFO!C116)","v":"Barué"},{"$f":"IF(COUNTRY_INFO!$T$9:$T$1000=\"MDA2 (DEC+ALB)\", COUNTRY_INFO!$T$9:$T$1000, \" \")","v":" "},null,null,null,null,0,null,null,null,0," "," "," "," "]
[{"$f":"IF(COUNTRY_INFO!A117=0,\" \",COUNTRY_INFO!A117)","v":"Mozambique"},{"$f":"IF(COUNTRY_INFO!B117=0,\" \",COUNTRY_INFO!B117)","v":"Manica"},{"$f":"IF(COUNTRY_INFO!C117=0,\" \",COUNTRY_INFO!C117)","v":"Gondola"},{"$f":"IF(COUNTRY_INFO!$T$9:$T$1000=\"MDA2 (DEC+ALB)\", COUNTRY_INFO!$T$9:$T$1000, \" \")","v":" "},null,null,null,null,0,null,null,null,0," "," "," "," "]
[{"$f":"IF(COUNTRY_INFO!A118=0,\" \",COUNTRY_INFO!A118)","v":"Mozambique"},{"$f":"IF(COUNTRY_INFO!B118=0,\" \",COUNTRY_INFO!B118)","v":"Manica"},{"$f":"IF(COUNTRY_INFO!C118=0,\" \",COUNTRY_INFO!C118)","v":"Guro"},{"$f":"IF(COUNTRY_INFO!$T$9:$T$1000=\"MDA2 (DEC+ALB)\", COUNTRY_INFO!$T$9:$T$1000, \" \")","v":" "},null,null,null,null,0,null,null,null,0," "," "," "," "]
[{"$f":"IF(COUNTRY_INFO!A119=0,\" \",COUNTRY_INFO!A119)","v":"Mozambique"},{"$f":"IF(COUNTRY_INFO!B119=0,\" \",COUNTRY_INFO!B119)","v":"Manica"},{"$f":"IF(COUNTRY_INFO!C119=0,\" \",COUNTRY_INFO!C119)","v":"Macate"},{"$f":"IF(COUNTRY_INFO!$T$9:$T$1000=\"MDA2 (DEC+ALB)\", COUNTRY_INFO!$T$9:$T$1000, \" \")","v":" "},null,null,null,null,0,null,null,null,0," "," "," "," "]
[{"$f":"IF(COUNTRY_INFO!A120=0,\" \",COUNTRY_INFO!A120)","v":"Mozambique"},{"$f":"IF(COUNTRY_INFO!B120=0,\" \",COUNTRY_INFO!B120)","v":"Manica"},{"$f":"IF(COUNTRY_INFO!C120=0,\" \",COUNTRY_INFO!C120)","v":"Machaze"},{"$f":"IF(COUNTRY_INFO!$T$9:$T$1000=\"MDA2 (DEC+ALB)\", COUNTRY_INFO!$T$9:$T$1000, \" \")","v":" "},null,null,null,null,0,null,null,null,0," "," "," "," "]
[{"$f":"IF(COUNTRY_INFO!A121=0,\" \",COUNTRY_INFO!A121)","v":"Mozambique"},{"$f":"IF(COUNTRY_INFO!B121=0,\" \",COUNTRY_INFO!B121)","v":"Manica"},{"$f":"IF(COUNTRY_INFO!C121=0,\" \",COUNTRY_INFO!C121)","v":"Macossa"},{"$f":"IF(COUNTRY_INFO!$T$9:$T$1000=\"MDA2 (DEC+ALB)\", COUNTRY_INFO!$T$9:$T$1000, \" \")","v":" "},null,null,null,null,0,null,null,null,0," "," "," "," "]
[{"$f":"IF(COUNTRY_INFO!A122=0,\" \",COUNTRY_INFO!A122)","v":"Mozambique"},{"$f":"IF(COUNTRY_INFO!B122=0,\" \",COUNTRY_INFO!B122)","v":"Manica"},{"$f":"IF(COUNTRY_INFO!C122=0,\" \",COUNTRY_INFO!C122)","v":"Manica"},{"$f":"IF(COUNTRY_INFO!$T$9:$T$1000=\"MDA2 (DEC+ALB)\", COUNTRY_INFO!$T$9:$T$1000, \" \")","v":" "},null,null,null,null,0,null,null,null,0," "," "," "," "]
[{"$f":"IF(COUNTRY_INFO!A123=0,\" \",COUNTRY_INFO!A123)","v":"Mozambique"},{"$f":"IF(COUNTRY_INFO!B123=0,\" \",COUNTRY_INFO!B123)","v":"Manica"},{"$f":"IF(COUNTRY_INFO!C123=0,\" \",COUNTRY_INFO!C123)","v":"Mossurize"},{"$f":"IF(COUNTRY_INFO!$T$9:$T$1000=\"MDA2 (DEC+ALB)\", COUNTRY_INFO!$T$9:$T$1000, \" \")","v":" "},null,null,null,null,0,null,null,null,0," "," "," "," "]
[{"$f":"IF(COUNTRY_INFO!A124=0,\" \",COUNTRY_INFO!A124)","v":"Mozambique"},{"$f":"IF(COUNTRY_INFO!B124=0,\" \",COUNTRY_INFO!B124)","v":"Manica"},{"$f":"IF(COUNTRY_INFO!C124=0,\" \",COUNTRY_INFO!C124)","v":"Sussundenga"},{"$f":"IF(COUNTRY_INFO!$T$9:$T$1000=\"MDA2 (DEC+ALB)\", COUNTRY_INFO!$T$9:$T$1000, \" \")","v":" "},null,null,null,null,0,null,null,null,0," "," "," "," "]
[{"$f":"IF(COUNTRY_INFO!A125=0,\" \",COUNTRY_INFO!A125)","v":"Mozambique"},{"$f":"IF(COUNTRY_INFO!B125=0,\" \",COUNTRY_INFO!B125)","v":"Manica"},{"$f":"IF(COUNTRY_INFO!C125=0,\" \",COUNTRY_INFO!C125)","v":"Tambara"},{"$f":"IF(COUNTRY_INFO!$T$9:$T$1000=\"MDA2 (DEC+ALB)\", COUNTRY_INFO!$T$9:$T$1000, \" \")","v":" "},null,null,null,null,0,null,null,null,0," "," "," "," "]
[{"$f":"IF(COUNTRY_INFO!A126=0,\" \",COUNTRY_INFO!A126)","v":"Mozambique"},{"$f":"IF(COUNTRY_INFO!B126=0,\" \",COUNTRY_INFO!B126)","v":"Manica"},{"$f":"IF(COUNTRY_INFO!C126=0,\" \",COUNTRY_INFO!C126)","v":"Vanduze"},{"$f":"IF(COUNTRY_INFO!$T$9:$T$1000=\"MDA2 (DEC+ALB)\", COUNTRY_INFO!$T$9:$T$1000, \" \")","v":" "},null,null,null,null,0,null,null,null,0," "," "," "," "]
[{"$f":"IF(COUNTRY_INFO!A127=0,\" \",COUNTRY_INFO!A127)","v":"Mozambique"},{"$f":"IF(COUNTRY_INFO!B127=0,\" \",COUNTRY_INFO!B127)","v":"Inhambane"},{"$f":"IF(COUNTRY_INFO!C127=0,\" \",COUNTRY_INFO!C127)","v":"Cid. I'bane"},{"$f":"IF(COUNTRY_INFO!$T$9:$T$1000=\"MDA2 (DEC+ALB)\", COUNTRY_INFO!$T$9:$T$1000, \" \")","v":" "},null,null,null,null,0,null,null,null,0," "," "," "," "]
[{"$f":"IF(COUNTRY_INFO!A128=0,\" \",COUNTRY_INFO!A128)","v":"Mozambique"},{"$f":"IF(COUNTRY_INFO!B128=0,\" \",COUNTRY_INFO!B128)","v":"Inhambane"},{"$f":"IF(COUNTRY_INFO!C128=0,\" \",COUNTRY_INFO!C128)","v":"Funhalouro"},{"$f":"IF(COUNTRY_INFO!$T$9:$T$1000=\"MDA2 (DEC+ALB)\", COUNTRY_INFO!$T$9:$T$1000, \" \")","v":" "},null,null,null,null,0,null,null,null,0," "," "," "," "]
[{"$f":"IF(COUNTRY_INFO!A129=0,\" \",COUNTRY_INFO!A129)","v":"Mozambique"},{"$f":"IF(COUNTRY_INFO!B129=0,\" \",COUNTRY_INFO!B129)","v":"Inhambane"},{"$f":"IF(COUNTRY_INFO!C129=0,\" \",COUNTRY_INFO!C129)","v":"Govuro"},{"$f":"IF(COUNTRY_INFO!$T$9:$T$1000=\"MDA2 (DEC+ALB)\", COUNTRY_INFO!$T$9:$T$1000, \" \")","v":" "},null,null,null,null,0,null,null,null,0," "," "," "," "]
[{"$f":"IF(COUNTRY_INFO!A130=0,\" \",COUNTRY_INFO!A130)","v":"Mozambique"},{"$f":"IF(COUNTRY_INFO!B130=0,\" \",COUNTRY_INFO!B130)","v":"Inhambane"},{"$f":"IF(COUNTRY_INFO!C130=0,\" \",COUNTRY_INFO!C130)","v":"Homoíne"},{"$f":"IF(COUNTRY_INFO!$T$9:$T$1000=\"MDA2 (DEC+ALB)\", COUNTRY_INFO!$T$9:$T$1000, \" \")","v":" "},null,null,null,null,0,null,null,null,0," "," "," "," "]
[{"$f":"IF(COUNTRY_INFO!A131=0,\" \",COUNTRY_INFO!A131)","v":"Mozambique"},{"$f":"IF(COUNTRY_INFO!B131=0,\" \",COUNTRY_INFO!B131)","v":"Inhambane"},{"$f":"IF(COUNTRY_INFO!C131=0,\" \",COUNTRY_INFO!C131)","v":"Inharrime"},{"$f":"IF(COUNTRY_INFO!$T$9:$T$1000=\"MDA2 (DEC+ALB)\", COUNTRY_INFO!$T$9:$T$1000, \" \")","v":" "},null,null,null,null,0,null,null,null,0," "," "," "," "]
[{"$f":"IF(COUNTRY_INFO!A132=0,\" \",COUNTRY_INFO!A132)","v":"Mozambique"},{"$f":"IF(COUNTRY_INFO!B132=0,\" \",COUNTRY_INFO!B132)","v":"Inhambane"},{"$f":"IF(COUNTRY_INFO!C132=0,\" \",COUNTRY_INFO!C132)","v":"Inhassoro"},{"$f":"IF(COUNTRY_INFO!$T$9:$T$1000=\"MDA2 (DEC+ALB)\", COUNTRY_INFO!$T$9:$T$1000, \" \")","v":" "},null,null,null,null,0,null,null,null,0," "," "," "," "]
[{"$f":"IF(COUNTRY_INFO!A133=0,\" \",COUNTRY_INFO!A133)","v":"Mozambique"},{"$f":"IF(COUNTRY_INFO!B133=0,\" \",COUNTRY_INFO!B133)","v":"Inhambane"},{"$f":"IF(COUNTRY_INFO!C133=0,\" \",COUNTRY_INFO!C133)","v":"Jangamo"},{"$f":"IF(COUNTRY_INFO!$T$9:$T$1000=\"MDA2 (DEC+ALB)\", COUNTRY_INFO!$T$9:$T$1000, \" \")","v":" "},null,null,null,null,0,null,null,null,0," "," "," "," "]
[{"$f":"IF(COUNTRY_INFO!A134=0,\" \",COUNTRY_INFO!A134)","v":"Mozambique"},{"$f":"IF(COUNTRY_INFO!B134=0,\" \",COUNTRY_INFO!B134)","v":"Inhambane"},{"$f":"IF(COUNTRY_INFO!C134=0,\" \",COUNTRY_INFO!C134)","v":"Mabote"},{"$f":"IF(COUNTRY_INFO!$T$9:$T$1000=\"MDA2 (DEC+ALB)\", COUNTRY_INFO!$T$9:$T$1000, \" \")","v":" "},null,null,null,null,0,null,null,null,0," "," "," "," "]
[{"$f":"IF(COUNTRY_INFO!A135=0,\" \",COUNTRY_INFO!A135)","v":"Mozambique"},{"$f":"IF(COUNTRY_INFO!B135=0,\" \",COUNTRY_INFO!B135)","v":"Inhambane"},{"$f":"IF(COUNTRY_INFO!C135=0,\" \",COUNTRY_INFO!C135)","v":"Massinga"},{"$f":"IF(COUNTRY_INFO!$T$9:$T$1000=\"MDA2 (DEC+ALB)\", COUNTRY_INFO!$T$9:$T$1000, \" \")","v":" "},null,null,null,null,0,null,null,null,0," "," "," "," "]
[{"$f":"IF(COUNTRY_INFO!A136=0,\" \",COUNTRY_INFO!A136)","v":"Mozambique"},{"$f":"IF(COUNTRY_INFO!B136=0,\" \",COUNTRY_INFO!B136)","v":"Inhambane"},{"$f":"IF(COUNTRY_INFO!C136=0,\" \",COUNTRY_INFO!C136)","v":"Maxixe"},{"$f":"IF(COUNTRY_INFO!$T$9:$T$1000=\"MDA2 (DEC+ALB)\", COUNTRY_INFO!$T$9:$T$1000, \" \")","v":" "},null,null,null,null,0,null,null,null,0," "," "," "," "]
[{"$f":"IF(COUNTRY_INFO!A137=0,\" \",COUNTRY_INFO!A137)","v":"Mozambique"},{"$f":"IF(COUNTRY_INFO!B137=0,\" \",COUNTRY_INFO!B137)","v":"Inhambane"},{"$f":"IF(COUNTRY_INFO!C137=0,\" \",COUNTRY_INFO!C137)","v":"Morrumbene"},{"$f":"IF(COUNTRY_INFO!$T$9:$T$1000=\"MDA2 (DEC+ALB)\", COUNTRY_INFO!$T$9:$T$1000, \" \")","v":" "},null,null,null,null,0,null,null,null,0," "," "," "," "]
[{"$f":"IF(COUNTRY_INFO!A138=0,\" \",COUNTRY_INFO!A138)","v":"Mozambique"},{"$f":"IF(COUNTRY_INFO!B138=0,\" \",COUNTRY_INFO!B138)","v":"Inhambane"},{"$f":"IF(COUNTRY_INFO!C138=0,\" \",COUNTRY_INFO!C138)","v":"Panda"},{"$f":"IF(COUNTRY_INFO!$T$9:$T$1000=\"MDA2 (DEC+ALB)\", COUNTRY_INFO!$T$9:$T$1000, \" \")","v":" "},null,null,null,null,{"$f":"SUM(F138:H138)","v":0},null,null,null,{"$f":"SUM(J138:L138)","v":0},{"$f":"IF(F138<>0, IF(J138/F138*100=0, \"-\", J138/F138*100), \" \")","v":" "},{"$f":"IF(G138<>0, IF(K138/G138*100=0, \"-\", K138/G138*100), \" \")","v":" "},{"$f":"IF(H138<>0, IF(L138/H138*100=0, \"-\", L138/H138*100), \" \")","v":" "},{"$f":"IF(I138<>0, IF(M138/I138*100=0, \"-\", M138/I138*100), \" \")","v":" "}]
[{"$f":"IF(COUNTRY_INFO!A139=0,\" \",COUNTRY_INFO!A139)","v":"Mozambique"},{"$f":"IF(COUNTRY_INFO!B139=0,\" \",COUNTRY_INFO!B139)","v":"Inhambane"},{"$f":"IF(COUNTRY_INFO!C139=0,\" \",COUNTRY_INFO!C139)","v":"Vilanculos"},{"$f":"IF(COUNTRY_INFO!$T$9:$T$1000=\"MDA2 (DEC+ALB)\", COUNTRY_INFO!$T$9:$T$1000, \" \")","v":" "},null,null,null,null,0,null,null,null,0," "," "," "," "]
[{"$f":"IF(COUNTRY_INFO!A140=0,\" \",COUNTRY_INFO!A140)","v":"Mozambique"},{"$f":"IF(COUNTRY_INFO!B140=0,\" \",COUNTRY_INFO!B140)","v":"Inhambane"},{"$f":"IF(COUNTRY_INFO!C140=0,\" \",COUNTRY_INFO!C140)","v":"Zavala"},{"$f":"IF(COUNTRY_INFO!$T$9:$T$1000=\"MDA2 (DEC+ALB)\", COUNTRY_INFO!$T$9:$T$1000, \" \")","v":" "},null,null,null,null,0,null,null,null,0," "," "," "," "]
[{"$f":"IF(COUNTRY_INFO!A141=0,\" \",COUNTRY_INFO!A141)","v":"Mozambique"},{"$f":"IF(COUNTRY_INFO!B141=0,\" \",COUNTRY_INFO!B141)","v":"Gaza"},{"$f":"IF(COUNTRY_INFO!C141=0,\" \",COUNTRY_INFO!C141)","v":"Cid Xai Xai"},{"$f":"IF(COUNTRY_INFO!$T$9:$T$1000=\"MDA2 (DEC+ALB)\", COUNTRY_INFO!$T$9:$T$1000, \" \")","v":" "},null,null,null,null,0,null,null,null,0," "," "," "," "]
[{"$f":"IF(COUNTRY_INFO!A142=0,\" \",COUNTRY_INFO!A142)","v":"Mozambique"},{"$f":"IF(COUNTRY_INFO!B142=0,\" \",COUNTRY_INFO!B142)","v":"Gaza"},{"$f":"IF(COUNTRY_INFO!C142=0,\" \",COUNTRY_INFO!C142)","v":"Bilene Macia"},{"$f":"IF(COUNTRY_INFO!$T$9:$T$1000=\"MDA2 (DEC+ALB)\", COUNTRY_INFO!$T$9:$T$1000, \" \")","v":" "},null,null,null,null,0,null,null,null,0," "," "," "," "]
[{"$f":"IF(COUNTRY_INFO!A143=0,\" \",COUNTRY_INFO!A143)","v":"Mozambique"},{"$f":"IF(COUNTRY_INFO!B143=0,\" \",COUNTRY_INFO!B143)","v":"Gaza"},{"$f":"IF(COUNTRY_INFO!C143=0,\" \",COUNTRY_INFO!C143)","v":"Chibuto"},{"$f":"IF(COUNTRY_INFO!$T$9:$T$1000=\"MDA2 (DEC+ALB)\", COUNTRY_INFO!$T$9:$T$1000, \" \")","v":" "},null,null,null,null,0,null,null,null,0," "," "," "," "]
[{"$f":"IF(COUNTRY_INFO!A144=0,\" \",COUNTRY_INFO!A144)","v":"Mozambique"},{"$f":"IF(COUNTRY_INFO!B144=0,\" \",COUNTRY_INFO!B144)","v":"Gaza"},{"$f":"IF(COUNTRY_INFO!C144=0,\" \",COUNTRY_INFO!C144)","v":"Chicualacuala"},{"$f":"IF(COUNTRY_INFO!$T$9:$T$1000=\"MDA2 (DEC+ALB)\", COUNTRY_INFO!$T$9:$T$1000, \" \")","v":" "},null,null,null,null,0,null,null,null,0," "," "," "," "]
[{"$f":"IF(COUNTRY_INFO!A145=0,\" \",COUNTRY_INFO!A145)","v":"Mozambique"},{"$f":"IF(COUNTRY_INFO!B145=0,\" \",COUNTRY_INFO!B145)","v":"Gaza"},{"$f":"IF(COUNTRY_INFO!C145=0,\" \",COUNTRY_INFO!C145)","v":"Chigubo"},{"$f":"IF(COUNTRY_INFO!$T$9:$T$1000=\"MDA2 (DEC+ALB)\", COUNTRY_INFO!$T$9:$T$1000, \" \")","v":" "},null,null,null,null,0,null,null,null,0," "," "," "," "]
[{"$f":"IF(COUNTRY_INFO!A146=0,\" \",COUNTRY_INFO!A146)","v":"Mozambique"},{"$f":"IF(COUNTRY_INFO!B146=0,\" \",COUNTRY_INFO!B146)","v":"Gaza"},{"$f":"IF(COUNTRY_INFO!C146=0,\" \",COUNTRY_INFO!C146)","v":"Chokwé"},{"$f":"IF(COUNTRY_INFO!$T$9:$T$1000=\"MDA2 (DEC+ALB)\", COUNTRY_INFO!$T$9:$T$1000, \" \")","v":" "},null,null,null,null,0,null,null,null,0," "," "," "," "]
[{"$f":"IF(COUNTRY_INFO!A147=0,\" \",COUNTRY_INFO!A147)","v":"Mozambique"},{"$f":"IF(COUNTRY_INFO!B147=0,\" \",COUNTRY_INFO!B147)","v":"Gaza"},{"$f":"IF(COUNTRY_INFO!C147=0,\" \",COUNTRY_INFO!C147)","v":"Chongoene"},{"$f":"IF(COUNTRY_INFO!$T$9:$T$1000=\"MDA2 (DEC+ALB)\", COUNTRY_INFO!$T$9:$T$1000, \" \")","v":" "},null,null,null,null,0,null,null,null,0," "," "," "," "]
[{"$f":"IF(COUNTRY_INFO!A148=0,\" \",COUNTRY_INFO!A148)","v":"Mozambique"},{"$f":"IF(COUNTRY_INFO!B148=0,\" \",COUNTRY_INFO!B148)","v":"Gaza"},{"$f":"IF(COUNTRY_INFO!C148=0,\" \",COUNTRY_INFO!C148)","v":"Guijá"},{"$f":"IF(COUNTRY_INFO!$T$9:$T$1000=\"MDA2 (DEC+ALB)\", COUNTRY_INFO!$T$9:$T$1000, \" \")","v":" "},null,null,null,null,0,null,null,null,0," "," "," "," "]
[{"$f":"IF(COUNTRY_INFO!A149=0,\" \",COUNTRY_INFO!A149)","v":"Mozambique"},{"$f":"IF(COUNTRY_INFO!B149=0,\" \",COUNTRY_INFO!B149)","v":"Gaza"},{"$f":"IF(COUNTRY_INFO!C149=0,\" \",COUNTRY_INFO!C149)","v":"Limpopo"},{"$f":"IF(COUNTRY_INFO!$T$9:$T$1000=\"MDA2 (DEC+ALB)\", COUNTRY_INFO!$T$9:$T$1000, \" \")","v":" "},null,null,null,null,0,null,null,null,0," "," "," "," "]
[{"$f":"IF(COUNTRY_INFO!A150=0,\" \",COUNTRY_INFO!A150)","v":"Mozambique"},{"$f":"IF(COUNTRY_INFO!B150=0,\" \",COUNTRY_INFO!B150)","v":"Gaza"},{"$f":"IF(COUNTRY_INFO!C150=0,\" \",COUNTRY_INFO!C150)","v":"Mabalane"},{"$f":"IF(COUNTRY_INFO!$T$9:$T$1000=\"MDA2 (DEC+ALB)\", COUNTRY_INFO!$T$9:$T$1000, \" \")","v":" "},null,null,null,null,0,null,null,null,0," "," "," "," "]
[{"$f":"IF(COUNTRY_INFO!A151=0,\" \",COUNTRY_INFO!A151)","v":"Mozambique"},{"$f":"IF(COUNTRY_INFO!B151=0,\" \",COUNTRY_INFO!B151)","v":"Gaza"},{"$f":"IF(COUNTRY_INFO!C151=0,\" \",COUNTRY_INFO!C151)","v":"Manjacaze"},{"$f":"IF(COUNTRY_INFO!$T$9:$T$1000=\"MDA2 (DEC+ALB)\", COUNTRY_INFO!$T$9:$T$1000, \" \")","v":" "},null,null,null,null,0,null,null,null,0," "," "," "," "]
[{"$f":"IF(COUNTRY_INFO!A152=0,\" \",COUNTRY_INFO!A152)","v":"Mozambique"},{"$f":"IF(COUNTRY_INFO!B152=0,\" \",COUNTRY_INFO!B152)","v":"Gaza"},{"$f":"IF(COUNTRY_INFO!C152=0,\" \",COUNTRY_INFO!C152)","v":"Mapai"},{"$f":"IF(COUNTRY_INFO!$T$9:$T$1000=\"MDA2 (DEC+ALB)\", COUNTRY_INFO!$T$9:$T$1000, \" \")","v":" "},null,null,null,null,0,null,null,null,0," "," "," "," "]
[{"$f":"IF(COUNTRY_INFO!A153=0,\" \",COUNTRY_INFO!A153)","v":"Mozambique"},{"$f":"IF(COUNTRY_INFO!B153=0,\" \",COUNTRY_INFO!B153)","v":"Gaza"},{"$f":"IF(COUNTRY_INFO!C153=0,\" \",COUNTRY_INFO!C153)","v":"Massangena"},{"$f":"IF(COUNTRY_INFO!$T$9:$T$1000=\"MDA2 (DEC+ALB)\", COUNTRY_INFO!$T$9:$T$1000, \" \")","v":" "},null,null,null,null,0,null,null,null,0," "," "," "," "]
[{"$f":"IF(COUNTRY_INFO!A154=0,\" \",COUNTRY_INFO!A154)","v":"Mozambique"},{"$f":"IF(COUNTRY_INFO!B154=0,\" \",COUNTRY_INFO!B154)","v":"Gaza"},{"$f":"IF(COUNTRY_INFO!C154=0,\" \",COUNTRY_INFO!C154)","v":"Massingir"},{"$f":"IF(COUNTRY_INFO!$T$9:$T$1000=\"MDA2 (DEC+ALB)\", COUNTRY_INFO!$T$9:$T$1000, \" \")","v":" "},null,null,null,null,0,null,null,null,0," "," "," "," "]
[{"$f":"IF(COUNTRY_INFO!A155=0,\" \",COUNTRY_INFO!A155)","v":"Mozambique"},{"$f":"IF(COUNTRY_INFO!B155=0,\" \",COUNTRY_INFO!B155)","v":"Maputo Provincia"},{"$f":"IF(COUNTRY_INFO!C155=0,\" \",COUNTRY_INFO!C155)","v":"Matola"},{"$f":"IF(COUNTRY_INFO!$T$9:$T$1000=\"MDA2 (DEC+ALB)\", COUNTRY_INFO!$T$9:$T$1000, \" \")","v":" "},null,null,null,null,0,null,null,null,0," "," "," "," "]
[{"$f":"IF(COUNTRY_INFO!A156=0,\" \",COUNTRY_INFO!A156)","v":"Mozambique"},{"$f":"IF(COUNTRY_INFO!B156=0,\" \",COUNTRY_INFO!B156)","v":"Maputo Provincia"},{"$f":"IF(COUNTRY_INFO!C156=0,\" \",COUNTRY_INFO!C156)","v":"Boane"},{"$f":"IF(COUNTRY_INFO!$T$9:$T$1000=\"MDA2 (DEC+ALB)\", COUNTRY_INFO!$T$9:$T$1000, \" \")","v":" "},null,null,null,null,0,null,null,null,0," "," "," "," "]
[{"$f":"IF(COUNTRY_INFO!A157=0,\" \",COUNTRY_INFO!A157)","v":"Mozambique"},{"$f":"IF(COUNTRY_INFO!B157=0,\" \",COUNTRY_INFO!B157)","v":"Maputo Provincia"},{"$f":"IF(COUNTRY_INFO!C157=0,\" \",COUNTRY_INFO!C157)","v":"Magude"},{"$f":"IF(COUNTRY_INFO!$T$9:$T$1000=\"MDA2 (DEC+ALB)\", COUNTRY_INFO!$T$9:$T$1000, \" \")","v":" "},null,null,null,null,0,null,null,null,0," "," "," "," "]
[{"$f":"IF(COUNTRY_INFO!A158=0,\" \",COUNTRY_INFO!A158)","v":"Mozambique"},{"$f":"IF(COUNTRY_INFO!B158=0,\" \",COUNTRY_INFO!B158)","v":"Maputo Provincia"},{"$f":"IF(COUNTRY_INFO!C158=0,\" \",COUNTRY_INFO!C158)","v":"Manhica"},{"$f":"IF(COUNTRY_INFO!$T$9:$T$1000=\"MDA2 (DEC+ALB)\", COUNTRY_INFO!$T$9:$T$1000, \" \")","v":" "},null,null,null,null,0,null,null,null,0," "," "," "," "]
[{"$f":"IF(COUNTRY_INFO!A159=0,\" \",COUNTRY_INFO!A159)","v":"Mozambique"},{"$f":"IF(COUNTRY_INFO!B159=0,\" \",COUNTRY_INFO!B159)","v":"Maputo Provincia"},{"$f":"IF(COUNTRY_INFO!C159=0,\" \",COUNTRY_INFO!C159)","v":"Marracuene"},{"$f":"IF(COUNTRY_INFO!$T$9:$T$1000=\"MDA2 (DEC+ALB)\", COUNTRY_INFO!$T$9:$T$1000, \" \")","v":" "},null,null,null,null,0,null,null,null,0," "," "," "," "]
[{"$f":"IF(COUNTRY_INFO!A160=0,\" \",COUNTRY_INFO!A160)","v":"Mozambique"},{"$f":"IF(COUNTRY_INFO!B160=0,\" \",COUNTRY_INFO!B160)","v":"Maputo Provincia"},{"$f":"IF(COUNTRY_INFO!C160=0,\" \",COUNTRY_INFO!C160)","v":"Matutuíne"},{"$f":"IF(COUNTRY_INFO!$T$9:$T$1000=\"MDA2 (DEC+ALB)\", COUNTRY_INFO!$T$9:$T$1000, \" \")","v":" "},null,null,null,null,0,null,null,null,0," "," "," "," "]
[{"$f":"IF(COUNTRY_INFO!A161=0,\" \",COUNTRY_INFO!A161)","v":"Mozambique"},{"$f":"IF(COUNTRY_INFO!B161=0,\" \",COUNTRY_INFO!B161)","v":"Maputo Provincia"},{"$f":"IF(COUNTRY_INFO!C161=0,\" \",COUNTRY_INFO!C161)","v":"Moamba"},{"$f":"IF(COUNTRY_INFO!$T$9:$T$1000=\"MDA2 (DEC+ALB)\", COUNTRY_INFO!$T$9:$T$1000, \" \")","v":" "},null,null,null,null,0,null,null,null,0," "," "," "," "]
[{"$f":"IF(COUNTRY_INFO!A162=0,\" \",COUNTRY_INFO!A162)","v":"Mozambique"},{"$f":"IF(COUNTRY_INFO!B162=0,\" \",COUNTRY_INFO!B162)","v":"Maputo Provincia"},{"$f":"IF(COUNTRY_INFO!C162=0,\" \",COUNTRY_INFO!C162)","v":"Namaacha"},{"$f":"IF(COUNTRY_INFO!$T$9:$T$1000=\"MDA2 (DEC+ALB)\", COUNTRY_INFO!$T$9:$T$1000, \" \")","v":" "},null,null,null,null,0,null,null,null,0," "," "," "," "]
[{"$f":"IF(COUNTRY_INFO!A163=0,\" \",COUNTRY_INFO!A163)","v":"Mozambique"},{"$f":"IF(COUNTRY_INFO!B163=0,\" \",COUNTRY_INFO!B163)","v":"Cidade de Maputo"},{"$f":"IF(COUNTRY_INFO!C163=0,\" \",COUNTRY_INFO!C163)","v":"Kampfumu"},{"$f":"IF(COUNTRY_INFO!$T$9:$T$1000=\"MDA2 (DEC+ALB)\", COUNTRY_INFO!$T$9:$T$1000, \" \")","v":" "},null,null,null,null,0,null,null,null,0," "," "," "," "]
[{"$f":"IF(COUNTRY_INFO!A164=0,\" \",COUNTRY_INFO!A164)","v":"Mozambique"},{"$f":"IF(COUNTRY_INFO!B164=0,\" \",COUNTRY_INFO!B164)","v":"Cidade de Maputo"},{"$f":"IF(COUNTRY_INFO!C164=0,\" \",COUNTRY_INFO!C164)","v":"Nhlamankulu"},{"$f":"IF(COUNTRY_INFO!$T$9:$T$1000=\"MDA2 (DEC+ALB)\", COUNTRY_INFO!$T$9:$T$1000, \" \")","v":" "},null,null,null,null,0,null,null,null,0," "," "," "," "]
[{"$f":"IF(COUNTRY_INFO!A165=0,\" \",COUNTRY_INFO!A165)","v":"Mozambique"},{"$f":"IF(COUNTRY_INFO!B165=0,\" \",COUNTRY_INFO!B165)","v":"Cidade de Maputo"},{"$f":"IF(COUNTRY_INFO!C165=0,\" \",COUNTRY_INFO!C165)","v":"Kamaxakani"},{"$f":"IF(COUNTRY_INFO!$T$9:$T$1000=\"MDA2 (DEC+ALB)\", COUNTRY_INFO!$T$9:$T$1000, \" \")","v":" "},null,null,null,null,0,null,null,null,0," "," "," "," "]
[{"$f":"IF(COUNTRY_INFO!A166=0,\" \",COUNTRY_INFO!A166)","v":"Mozambique"},{"$f":"IF(COUNTRY_INFO!B166=0,\" \",COUNTRY_INFO!B166)","v":"Cidade de Maputo"},{"$f":"IF(COUNTRY_INFO!C166=0,\" \",COUNTRY_INFO!C166)","v":"Kamavota"},{"$f":"IF(COUNTRY_INFO!$T$9:$T$1000=\"MDA2 (DEC+ALB)\", COUNTRY_INFO!$T$9:$T$1000, \" \")","v":" "},null,null,null,null,0,null,null,null,0," "," "," "," "]
[{"$f":"IF(COUNTRY_INFO!A167=0,\" \",COUNTRY_INFO!A167)","v":"Mozambique"},{"$f":"IF(COUNTRY_INFO!B167=0,\" \",COUNTRY_INFO!B167)","v":"Cidade de Maputo"},{"$f":"IF(COUNTRY_INFO!C167=0,\" \",COUNTRY_INFO!C167)","v":"Kamubukwana"},{"$f":"IF(COUNTRY_INFO!$T$9:$T$1000=\"MDA2 (DEC+ALB)\", COUNTRY_INFO!$T$9:$T$1000, \" \")","v":" "},null,null,null,null,0,null,null,null,0," "," "," "," "]
[{"$f":"IF(COUNTRY_INFO!A168=0,\" \",COUNTRY_INFO!A168)","v":"Mozambique"},{"$f":"IF(COUNTRY_INFO!B168=0,\" \",COUNTRY_INFO!B168)","v":"Cidade de Maputo"},{"$f":"IF(COUNTRY_INFO!C168=0,\" \",COUNTRY_INFO!C168)","v":"Katembe"},{"$f":"IF(COUNTRY_INFO!$T$9:$T$1000=\"MDA2 (DEC+ALB)\", COUNTRY_INFO!$T$9:$T$1000, \" \")","v":" "},null,null,null,null,0,null,null,null,0," "," "," "," "]
[{"$f":"IF(COUNTRY_INFO!A169=0,\" \",COUNTRY_INFO!A169)","v":"Mozambique"},{"$f":"IF(COUNTRY_INFO!B169=0,\" \",COUNTRY_INFO!B169)","v":"Cidade de Maputo"},{"$f":"IF(COUNTRY_INFO!C169=0,\" \",COUNTRY_INFO!C169)","v":"Kanyaca"},{"$f":"IF(COUNTRY_INFO!$T$9:$T$1000=\"MDA2 (DEC+ALB)\", COUNTRY_INFO!$T$9:$T$1000, \" \")","v":" "},null,null,null,null,0,null,null,null,0," "," "," "," "]

{"sheet":"MDA3","index":4,"n_rows":169,"n_cols":20,"rows_kept":169,"cut":false,"hidden":true,"merged":[[5,5,5,7],[5,17,5,19],[3,0,3,2],[5,0,5,2],[5,3,6,3],[5,4,6,4],[5,8,5,10],[5,11,5,13],[5,14,5,16]]}
["MDA 3 - Ivermectin (IVM) "]
["Administrative structure, population requiring PC by age group, population treated by age group and coverage"]
[]
["TOTAL",null,null,null,null,{"$f":"SUM(F$9:F$1000)","v":0},0,0,0,0,0,0,0,0,0,0,0,{"$f":"IF(F4<>0, IF(O4/F4*100=0, \"-\", O4/F4*100), \" \")","v":" "},{"$f":"IF(G4<>0, IF(P4/G4*100=0, \"-\", P4/G4*100), \" \")","v":" "},{"$f":"IF(H4<>0, IF(Q4/H4*100=0, \"-\", Q4/H4*100), \" \")","v":" "}]
[]
[null,null,null,"PC implemented","Date","Population targeted for MDA 3",null,null,"Population treated - 1st round",null,null,"Population treated - 2nd round",null,null,"Population treated",null,null,"Programme coverage (%)"]
["Country","Province/State","District",null,null,"SAC","Adults","Total","SAC","Adults","Total","SAC","Adults","Total","SAC","Adults","Total","SAC","Adults","Total"]
[]
[{"$f":"IF(COUNTRY_INFO!A9=0,\" \",COUNTRY_INFO!A9)","v":"Mozambique"},{"$f":"IF(COUNTRY_INFO!B9=0,\" \",COUNTRY_INFO!B9)","v":"Cabo Delgado"},{"$f":"IF(COUNTRY_INFO!C9=0,\" \",COUNTRY_INFO!C9)","v":"Cid. Pemba"},{"$f":"IF(COUNTRY_INFO!$T$9:$T$1000=\"MDA3 (IVM)\", COUNTRY_INFO!$T$9:$T$1000, \" \")","v":" "},null,null,null,{"$f":"SUM(F9:G9)","v":0},null,null,{"$f":"SUM(I9:J9)","v":0},null,null,{"$f":"SUM(L9:M9)","v":0},{"$f":"MAX(I9,L9)","v":0},0,{"$f":"SUM(O9:P9)","v":0},{"$f":"IF(F9<>0, IF(MAX(I9,L9)/F9*100=0, \"-\", MAX(I9,L9)/F9*100), \" \")","v":" "}," ",{"$f":"IF(H9<>0, IF((MAX(I9,L9)+MAX(J9,M9))/H9*100=0, \"-\",(MAX(I9,L9)+MAX(J9,M9))/H9*100), \" \")","v":" "}]
[{"$f":"IF(COUNTRY_INFO!A10=0,\" \",COUNTRY_INFO!A10)","v":"Mozambique"},{"$f":"IF(COUNTRY_INFO!B10=0,\" \",COUNTRY_INFO!B10)","v":"Cabo Delgado"},{"$f":"IF(COUNTRY_INFO!C10=0,\" \",COUNTRY_INFO!C10)","v":"Ancuabe"},{"$f":"IF(COUNTRY_INFO!$T$9:$T$1000=\"MDA3 (IVM)\", COUNTRY_INFO!$T$9:$T$1000, \" \")","v":" "},null,null,null,{"$f":"SUM(F10:G10)","v":0},null,null,{"$f":"SUM(I10:J10)","v":0},null,null,{"$f":"SUM(L10:M10)","v":0},{"$f":"MAX(I10,L10)","v":0},{"$f":"MAX(J10,M10)","v":0},{"$f":"SUM(O10:P10)","v":0},{"$f":"IF(F10<>0, IF(MAX(I10,L10)/F10*100=0, \"-\", MAX(I10,L10)/F10*100), \" \")","v":" "},{"$f":"IF(G10<>0, IF(MAX(J10,M10)/G10*100=0, \"-\", MAX(J10,M10)/G10*100), \" \")","v":" "},{"$f":"IF(H10<>0, IF((MAX(I10,L10)+MAX(J10,M10))/H10*100=0, \"-\",(MAX(I10,L10)+MAX(J10,M10))/H10*100), \" \")","v":" "}]
[{"$f":"IF(COUNTRY_INFO!A11=0,\" \",COUNTRY_INFO!A11)","v":"Mozambique"},{"$f":"IF(COUNTRY_INFO!B11=0,\" \",COUNTRY_INFO!B11)","v":"Cabo Delgado"},{"$f":"IF(COUNTRY_INFO!C11=0,\" \",COUNTRY_INFO!C11)","v":"Balama"},{"$f":"IF(COUNTRY_INFO!$T$9:$T$1000=\"MDA3 (IVM)\", COUNTRY_INFO!$T$9:$T$1000, \" \")","v":" "},null,null,null,0,null,null,0,null,null,0,0,0,0," "," "," "]
[{"$f":"IF(COUNTRY_INFO!A12=0,\" \",COUNTRY_INFO!A12)","v":"Mozambique"},{"$f":"IF(COUNTRY_INFO!B12=0,\" \",COUNTRY_INFO!B12)","v":"Cabo Delgado"},{"$f":"IF(COUNTRY_INFO!C12=0,\" \",COUNTRY_INFO!C12)","v":"Chiure"},{"$f":"IF(COUNTRY_INFO!$T$9:$T$1000=\"MDA3 (IVM)\", COUNTRY_INFO!$T$9:$T$1000, \" \")","v":" "},null,null,null,0,null,null,0,null,null,0,0,0,0," "," "," "]
[{"$f":"IF(COUNTRY_INFO!A13=0,\" \",COUNTRY_INFO!A13)","v":"Mozambique"},{"$f":"IF(COUNTRY_INFO!B13=0,\" \",COUNTRY_INFO!B13)","v":"Cabo Delgado"},{"$f":"IF(COUNTRY_INFO!C13=0,\" \",COUNTRY_INFO!C13)","v":"Ibo"},{"$f":"IF(COUNTRY_INFO!$T$9:$T$1000=\"MDA3 (IVM)\", COUNTRY_INFO!$T$9:$T$1000, \" \")","v":" "},null,null,null,0,null,null,0,null,null,0,0,0,0," "," "," "]
[{"$f":"IF(COUNTRY_INFO!A14=0,\" \",COUNTRY_INFO!A14)","v":"Mozambique"},{"$f":"IF(COUNTRY_INFO!B14=0,\" \",COUNTRY_INFO!B14)","v":"Cabo Delgado"},{"$f":"IF(COUNTRY_INFO!C14=0,\" \",COUNTRY_INFO!C14)","v":"Macomia"},{"$f":"IF(COUNTRY_INFO!$T$9:$T$1000=\"MDA3 (IVM)\", COUNTRY_INFO!$T$9:$T$1000, \" \")","v":" "},null,null,null,0,null,null,0,null,null,0,0,0,0," "," "," "]
[{"$f":"IF(COUNTRY_INFO!A15=0,\" \",COUNTRY_INFO!A15)","v":"Mozambique"},{"$f":"IF(COUNTRY_INFO!B15=0,\" \",COUNTRY_INFO!B15)","v":"Cabo Delgado"},{"$f":"IF(COUNTRY_INFO!C15=0,\" \",COUNTRY_INFO!C15)","v":"Mecufi"},{"$f":"IF(COUNTRY_INFO!$T$9:$T$1000=\"MDA3 (IVM)\", COUNTRY_INFO!$T$9:$T$1000, \" \")","v":" "},null,null,null,0,null,null,0,null,null,0,0,0,0," "," "," "]
[{"$f":"IF(COUNTRY_INFO!A16=0,\" \",COUNTRY_INFO!A16)","v":"Mozambique"},{"$f":"IF(COUNTRY_INFO!B16=0,\" \",COUNTRY_INFO!B16)","v":"Cabo Delgado"},{"$f":"IF(COUNTRY_INFO!C16=0,\" \",COUNTRY_INFO!C16)","v":"Meluco"},{"$f":"IF(COUNTRY_INFO!$T$9:$T$1000=\"MDA3 (IVM)\", COUNTRY_INFO!$T$9:$T$1000, \" \")","v":" "},null,null,null,0,null,null,0,null,null,0,0,0,0," "," "," "]
[{"$f":"IF(COUNTRY_INFO!A17=0,\" \",COUNTRY_INFO!A17)","v":"Mozambique"},{"$f":"IF(COUNTRY_INFO!B17=0,\" \",COUNTRY_INFO!B17)","v":"Cabo Delgado"},{"$f":"IF(COUNTRY_INFO!C17=0,\" \",COUNTRY_INFO!C17)","v":"Moc Praia"},{"$f":"IF(COUNTRY_INFO!$T$9:$T$1000=\"MDA3 (IVM)\", COUNTRY_INFO!$T$9:$T$1000, \" \")","v":" "},null,null,null,0,null,null,0,null,null,0,0,0,0," "," "," "]
[{"$f":"IF(COUNTRY_INFO!A18=0,\" \",COUNTRY_INFO!A18)","v":"Mozambique"},{"$f":"IF(COUNTRY_INFO!B18=0,\" \",COUNTRY_INFO!B18)","v":"Cabo Delgado"},{"$f":"IF(COUNTRY_INFO!C18=0,\" \",COUNTRY_INFO!C18)","v":"Montepuez"},{"$f":"IF(COUNTRY_INFO!$T$9:$T$1000=\"MDA3 (IVM)\", COUNTRY_INFO!$T$9:$T$1000, \" \")","v":" "},null,null,null,0,null,null,0,null,null,0,0,0,0," "," "," "]
[{"$f":"IF(COUNTRY_INFO!A19=0,\" \",COUNTRY_INFO!A19)","v":"Mozambique"},{"$f":"IF(COUNTRY_INFO!B19=0,\" \",COUNTRY_INFO!B19)","v":"Cabo Delgado"},{"$f":"IF(COUNTRY_INFO!C19=0,\" \",COUNTRY_INFO!C19)","v":"Mueda"},{"$f":"IF(COUNTRY_INFO!$T$9:$T$1000=\"MDA3 (IVM)\", COUNTRY_INFO!$T$9:$T$1000, \" \")","v":" "},null,null,null,0,null,null,0,null,null,0,0,0,0," "," "," "]
[{"$f":"IF(COUNTRY_INFO!A20=0,\" \",COUNTRY_INFO!A20)","v":"Mozambique"},{"$f":"IF(COUNTRY_INFO!B20=0,\" \",COUNTRY_INFO!B20)","v":"Cabo Delgado"},{"$f":"IF(COUNTRY_INFO!C20=0,\" \",COUNTRY_INFO!C20)","v":"Muidumbe"},{"$f":"IF(COUNTRY_INFO!$T$9:$T$1000=\"MDA3 (IVM)\", COUNTRY_INFO!$T$9:$T$1000, \" \")","v":" "},null,null,null,0,null,null,0,null,null,0,0,0,0," "," "," "]
[{"$f":"IF(COUNTRY_INFO!A21=0,\" \",COUNTRY_INFO!A21)","v":"Mozambique"},{"$f":"IF(COUNTRY_INFO!B21=0,\" \",COUNTRY_INFO!B21)","v":"Cabo Delgado"},{"$f":"IF(COUNTRY_INFO!C21=0,\" \",COUNTRY_INFO!C21)","v":"Namuno"},{"$f":"IF(COUNTRY_INFO!$T$9:$T$1000=\"MDA3 (IVM)\", COUNTRY_INFO!$T$9:$T$1000, \" \")","v":" "},null,null,null,0,null,null,0,null,null,0,0,0,0," "," "," "]
[{"$f":"IF(COUNTRY_INFO!A22=0,\" \",COUNTRY_INFO!A22)","v":"Mozambique"},{"$f":"IF(COUNTRY_INFO!B22=0,\" \",COUNTRY_INFO!B22)","v":"Cabo Delgado"},{"$f":"IF(COUNTRY_INFO!C22=0,\" \",COUNTRY_INFO!C22)","v":"Nangade"},{"$f":"IF(COUNTRY_INFO!$T$9:$T$1000=\"MDA3 (IVM)\", COUNTRY_INFO!$T$9:$T$1000, \" \")","v":" "},null,null,null,0,null,null,0,null,null,0,0,0,0," "," "," "]
[{"$f":"IF(COUNTRY_INFO!A23=0,\" \",COUNTRY_INFO!A23)","v":"Mozambique"},{"$f":"IF(COUNTRY_INFO!B23=0,\" \",COUNTRY_INFO!B23)","v":"Cabo Delgado"},{"$f":"IF(COUNTRY_INFO!C23=0,\" \",COUNTRY_INFO!C23)","v":"Palma"},{"$f":"IF(COUNTRY_INFO!$T$9:$T$1000=\"MDA3 (IVM)\", COUNTRY_INFO!$T$9:$T$1000, \" \")","v":" "},null,null,null,0,null,null,0,null,null,0,0,0,0," "," "," "]
[{"$f":"IF(COUNTRY_INFO!A24=0,\" \",COUNTRY_INFO!A24)","v":"Mozambique"},{"$f":"IF(COUNTRY_INFO!B24=0,\" \",COUNTRY_INFO!B24)","v":"Cabo Delgado"},{"$f":"IF(COUNTRY_INFO!C24=0,\" \",COUNTRY_INFO!C24)","v":"Pemba Metuge"},{"$f":"IF(COUNTRY_INFO!$T$9:$T$1000=\"MDA3 (IVM)\", COUNTRY_INFO!$T$9:$T$1000, \" \")","v":" "},null,null,null,0,null,null,0,null,null,0,0,0,0," "," "," "]
[{"$f":"IF(COUNTRY_INFO!A25=0,\" \",COUNTRY_INFO!A25)","v":"Mozambique"},{"$f":"IF(COUNTRY_INFO!B25=0,\" \",COUNTRY_INFO!B25)","v":"Cabo Delgado"},{"$f":"IF(COUNTRY_INFO!C25=0,\" \",COUNTRY_INFO!C25)","v":"Quissanga"},{"$f":"IF(COUNTRY_INFO!$T$9:$T$1000=\"MDA3 (IVM)\", COUNTRY_INFO!$T$9:$T$1000, \" \")","v":" "},null,null,null,0,null,null,0,null,null,0,0,0,0," "," "," "]
[{"$f":"IF(COUNTRY_INFO!A26=0,\" \",COUNTRY_INFO!A26)","v":"Mozambique"},{"$f":"IF(COUNTRY_INFO!B26=0,\" \",COUNTRY_INFO!B26)","v":"Niassa"},{"$f":"IF(COUNTRY_INFO!C26=0,\" \",COUNTRY_INFO!C26)","v":"Cidade de Lichinga"},{"$f":"IF(COUNTRY_INFO!$T$9:$T$1000=\"MDA3 (IVM)\", COUNTRY_INFO!$T$9:$T$1000, \" \")","v":" "},null,null,null,0,null,null,0,null,null,0,0,0,0," "," "," "]
[{"$f":"IF(COUNTRY_INFO!A27=0,\" \",COUNTRY_INFO!A27)","v":"Mozambique"},{"$f":"IF(COUNTRY_INFO!B27=0,\" \",COUNTRY_INFO!B27)","v":"Niassa"},{"$f":"IF(COUNTRY_INFO!C27=0,\" \",COUNTRY_INFO!C27)","v":"Cuamba"},{"$f":"IF(COUNTRY_INFO!$T$9:$T$1000=\"MDA3 (IVM)\", COUNTRY_INFO!$T$9:$T$1000, \" \")","v":" "},null,null,null,0,null,null,0,null,null,0,0,0,0," "," "," "]
[{"$f":"IF(COUNTRY_INFO!A28=0,\" \",COUNTRY_INFO!A28)","v":"Mozambique"},{"$f":"IF(COUNTRY_INFO!B28=0,\" \",COUNTRY_INFO!B28)","v":"Niassa"},{"$f":"IF(COUNTRY_INFO!C28=0,\" \",COUNTRY_INFO!C28)","v":"Chimbonila"},{"$f":"IF(COUNTRY_INFO!$T$9:$T$1000=\"MDA3 (IVM)\", COUNTRY_INFO!$T$9:$T$1000, \" \")","v":" "},null,null,null,0,null,null,0,null,null,0,0,0,0," "," "," "]
[{"$f":"IF(COUNTRY_INFO!A29=0,\" \",COUNTRY_INFO!A29)","v":"Mozambique"},{"$f":"IF(COUNTRY_INFO!B29=0,\" \",COUNTRY_INFO!B29)","v":"Niassa"},{"$f":"IF(COUNTRY_INFO!C29=0,\" \",COUNTRY_INFO!C29)","v":"Lago"},{"$f":"IF(COUNTRY_INFO!$T$9:$T$1000=\"MDA3 (IVM)\", COUNTRY_INFO!$T$9:$T$1000, \" \")","v":" "},null,null,null,0,null,null,0,null,null,0,0,0,0," "," "," "]
[{"$f":"IF(COUNTRY_INFO!A30=0,\" \",COUNTRY_INFO!A30)","v":"Mozambique"},{"$f":"IF(COUNTRY_INFO!B30=0,\" \",COUNTRY_INFO!B30)","v":"Niassa"},{"$f":"IF(COUNTRY_INFO!C30=0,\" \",COUNTRY_INFO!C30)","v":"Majune"},{"$f":"IF(COUNTRY_INFO!$T$9:$T$1000=\"MDA3 (IVM)\", COUNTRY_INFO!$T$9:$T$1000, \" \")","v":" "},null,null,null,0,null,null,0,null,null,0,0,0,0," "," "," "]
[{"$f":"IF(COUNTRY_INFO!A31=0,\" \",COUNTRY_INFO!A31)","v":"Mozambique"},{"$f":"IF(COUNTRY_INFO!B31=0,\" \",COUNTRY_INFO!B31)","v":"Niassa"},{"$f":"IF(COUNTRY_INFO!C31=0,\" \",COUNTRY_INFO!C31)","v":"Mandimba"},{"$f":"IF(COUNTRY_INFO!$T$9:$T$1000=\"MDA3 (IVM)\", COUNTRY_INFO!$T$9:$T$1000, \" \")","v":" "},null,null,null,0,null,null,0,null,null,0,0,0,0," "," "," "]
[{"$f":"IF(COUNTRY_INFO!A32=0,\" \",COUNTRY_INFO!A32)","v":"Mozambique"},{"$f":"IF(COUNTRY_INFO!B32=0,\" \",COUNTRY_INFO!B32)","v":"Niassa"},{"$f":"IF(COUNTRY_INFO!C32=0,\" \",COUNTRY_INFO!C32)","v":"Marrupa"},{"$f":"IF(COUNTRY_INFO!$T$9:$T$1000=\"MDA3 (IVM)\", COUNTRY_INFO!$T$9:$T$1000, \" \")","v":" "},null,null,null,0,null,null,0,null,null,0,0,0,0," "," "," "]
[{"$f":"IF(COUNTRY_INFO!A33=0,\" \",COUNTRY_INFO!A33)","v":"Mozambique"},{"$f":"IF(COUNTRY_INFO!B33=0,\" \",COUNTRY_INFO!B33)","v":"Niassa"},{"$f":"IF(COUNTRY_INFO!C33=0,\" \",COUNTRY_INFO!C33)","v":"Maúa"},{"$f":"IF(COUNTRY_INFO!$T$9:$T$1000=\"MDA3 (IVM)\", COUNTRY_INFO!$T$9:$T$1000, \" \")","v":" "},null,null,null,0,null,null,0,null,null,0,0,0,0," "," "," "]
[{"$f":"IF(COUNTRY_INFO!A34=0,\" \",COUNTRY_INFO!A34)","v":"Mozambique"},{"$f":"IF(COUNTRY_INFO!B34=0,\" \",COUNTRY_INFO!B34)","v":"Niassa"},{"$f":"IF(COUNTRY_INFO!C34=0,\" \",COUNTRY_INFO!C34)","v":"Mavago"},{"$f":"IF(COUNTRY_INFO!$T$9:$T$1000=\"MDA3 (IVM)\", COUNTRY_INFO!$T$9:$T$1000, \" \")","v":" "},null,null,null,0,null,null,0,null,null,0,0,0,0," "," "," "]
[{"$f":"IF(COUNTRY_INFO!A35=0,\" \",COUNTRY_INFO!A35)","v":"Mozambique"},{"$f":"IF(COUNTRY_INFO!B35=0,\" \",COUNTRY_INFO!B35)","v":"Niassa"},{"$f":"IF(COUNTRY_INFO!C35=0,\" \",COUNTRY_INFO!C35)","v":"Mecanhelas"},{"$f":"IF(COUNTRY_INFO!$T$9:$T$1000=\"MDA3 (IVM)\", COUNTRY_INFO!$T$9:$T$1000, \" \")","v":" "},null,null,null,0,null,null,0,null,null,0,0,0,0," "," "," "]
[{"$f":"IF(COUNTRY_INFO!A36=0,\" \",COUNTRY_INFO!A36)","v":"Mozambique"},{"$f":"IF(COUNTRY_INFO!B36=0,\" \",COUNTRY_INFO!B36)","v":"Niassa"},{"$f":"IF(COUNTRY_INFO!C36=0,\" \",COUNTRY_INFO!C36)","v":"Mecula"},{"$f":"IF(COUNTRY_INFO!$T$9:$T$1000=\"MDA3 (IVM)\", COUNTRY_INFO!$T$9:$T$1000, \" \")","v":" "},null,null,null,0,null,null,0,null,null,0,0,0,0," "," "," "]
[{"$f":"IF(COUNTRY_INFO!A37=0,\" \",COUNTRY_INFO!A37)","v":"Mozambique"},{"$f":"IF(COUNTRY_INFO!B37=0,\" \",COUNTRY_INFO!B37)","v":"Niassa"},{"$f":"IF(COUNTRY_INFO!C37=0,\" \",COUNTRY_INFO!C37)","v":"Metarica"},{"$f":"IF(COUNTRY_INFO!$T$9:$T$1000=\"MDA3 (IVM)\", COUNTRY_INFO!$T$9:$T$1000, \" \")","v":" "},null,null,null,0,null,null,0,null,null,0,0,0,0," "," "," "]
[{"$f":"IF(COUNTRY_INFO!A38=0,\" \",COUNTRY_INFO!A38)","v":"Mozambique"},{"$f":"IF(COUNTRY_INFO!B38=0,\" \",COUNTRY_INFO!B38)","v":"Niassa"},{"$f":"IF(COUNTRY_INFO!C38=0,\" \",COUNTRY_INFO!C38)","v":"Muembe"},{"$f":"IF(COUNTRY_INFO!$T$9:$T$1000=\"MDA3 (IVM)\", COUNTRY_INFO!$T$9:$T$1000, \" \")","v":" "},null,null,null,0,null,null,0,null,null,0,0,0,0," "," "," "]
[{"$f":"IF(COUNTRY_INFO!A39=0,\" \",COUNTRY_INFO!A39)","v":"Mozambique"},{"$f":"IF(COUNTRY_INFO!B39=0,\" \",COUNTRY_INFO!B39)","v":"Niassa"},{"$f":"IF(COUNTRY_INFO!C39=0,\" \",COUNTRY_INFO!C39)","v":"N'Gaúma"},{"$f":"IF(COUNTRY_INFO!$T$9:$T$1000=\"MDA3 (IVM)\", COUNTRY_INFO!$T$9:$T$1000, \" \")","v":" "},null,null,null,0,null,null,0,null,null,0,0,0,0," "," "," "]
[{"$f":"IF(COUNTRY_INFO!A40=0,\" \",COUNTRY_INFO!A40)","v":"Mozambique"},{"$f":"IF(COUNTRY_INFO!B40=0,\" \",COUNTRY_INFO!B40)","v":"Niassa"},{"$f":"IF(COUNTRY_INFO!C40=0,\" \",COUNTRY_INFO!C40)","v":"Nipepe"},{"$f":"IF(COUNTRY_INFO!$T$9:$T$1000=\"MDA3 (IVM)\", COUNTRY_INFO!$T$9:$T$1000, \" \")","v":" "},null,null,null,0,null,null,0,null,null,0,0,0,0," "," "," "]
[{"$f":"IF(COUNTRY_INFO!A41=0,\" \",COUNTRY_INFO!A41)","v":"Mozambique"},{"$f":"IF(COUNTRY_INFO!B41=0,\" \",COUNTRY_INFO!B41)","v":"Niassa"},{"$f":"IF(COUNTRY_INFO!C41=0,\" \",COUNTRY_INFO!C41)","v":"Sanga"},{"$f":"IF(COUNTRY_INFO!$T$9:$T$1000=\"MDA3 (IVM)\", COUNTRY_INFO!$T$9:$T$1000, \" \")","v":" "},null,null,null,0,null,null,0,null,null,0,0,0,0," "," "," "]
[{"$f":"IF(COUNTRY_INFO!A42=0,\" \",COUNTRY_INFO!A42)","v":"Mozambique"},{"$f":"IF(COUNTRY_INFO!B42=0,\" \",COUNTRY_INFO!B42)","v":"Nampula"},{"$f":"IF(COUNTRY_INFO!C42=0,\" \",COUNTRY_INFO!C42)","v":"Cid. Nampula"},{"$f":"IF(COUNTRY_INFO!$T$9:$T$1000=\"MDA3 (IVM)\", COUNTRY_INFO!$T$9:$T$1000, \" \")","v":" "},null,null,null,0,null,null,0,null,null,0,0,0,0," "," "," "]
[{"$f":"IF(COUNTRY_INFO!A43=0,\" \",COUNTRY_INFO!A43)","v":"Mozambique"},{"$f":"IF(COUNTRY_INFO!B43=0,\" \",COUNTRY_INFO!B43)","v":"Nampula"},{"$f":"IF(COUNTRY_INFO!C43=0,\" \",COUNTRY_INFO!C43)","v":"Angoche"},{"$f":"IF(COUNTRY_INFO!$T$9:$T$1000=\"MDA3 (IVM)\", COUNTRY_INFO!$T$9:$T$1000, \" \")","v":" "},null,null,null,0,null,null,0,null,null,0,0,0,0," "," "," "]
[{"$f":"IF(COUNTRY_INFO!A44=0,\" \",COUNTRY_INFO!A44)","v":"Mozambique"},{"$f":"IF(COUNTRY_INFO!B44=0,\" \",COUNTRY_INFO!B44)","v":"Nampula"},{"$f":"IF(COUNTRY_INFO!C44=0,\" \",COUNTRY_INFO!C44)","v":"Erati"},{"$f":"IF(COUNTRY_INFO!$T$9:$T$1000=\"MDA3 (IVM)\", COUNTRY_INFO!$T$9:$T$1000, \" \")","v":" "},null,null,null,0,null,null,0,null,null,0,0,0,0," "," "," "]
[{"$f":"IF(COUNTRY_INFO!A45=0,\" \",COUNTRY_INFO!A45)","v":"Mozambique"},{"$f":"IF(COUNTRY_INFO!B45=0,\" \",COUNTRY_INFO!B45)","v":"Nampula"},{"$f":"IF(COUNTRY_INFO!C45=0,\" \",COUNTRY_INFO!C45)","v":"Ilha Moc."},{"$f":"IF(COUNTRY_INFO!$T$9:$T$1000=\"MDA3 (IVM)\", COUNTRY_INFO!$T$9:$T$1000, \" \")","v":" "},null,null,null,0,null,null,0,null,null,0,0,0,0," "," "," "]
[{"$f":"IF(COUNTRY_INFO!A46=0,\" \",COUNTRY_INFO!A46)","v":"Mozambique"},{"$f":"IF(COUNTRY_INFO!B46=0,\" \",COUNTRY_INFO!B46)","v":"Nampula"},{"$f":"IF(COUNTRY_INFO!C46=0,\" \",COUNTRY_INFO!C46)","v":"Lalaua"},{"$f":"IF(COUNTRY_INFO!$T$9:$T$1000=\"MDA3 (IVM)\", COUNTRY_INFO!$T$9:$T$1000, \" \")","v":" "},null,null,null,0,null,null,0,null,null,0,0,0,0," "," "," "]
[{"$f":"IF(COUNTRY_INFO!A47=0,\" \",COUNTRY_INFO!A47)","v":"Mozambique"},{"$f":"IF(COUNTRY_INFO!B47=0,\" \",COUNTRY_INFO!B47)","v":"Nampula"},{"$f":"IF(COUNTRY_INFO!C47=0,\" \",COUNTRY_INFO!C47)","v":"Larde"},{"$f":"IF(COUNTRY_INFO!$T$9:$T$1000=\"MDA3 (IVM)\", COUNTRY_INFO!$T$9:$T$1000, \" \")","v":" "},null,null,null,0,null,null,0,null,null,0,0,0,0," "," "," "]
[{"$f":"IF(COUNTRY_INFO!A48=0,\" \",COUNTRY_INFO!A48)","v":"Mozambique"},{"$f":"IF(COUNTRY_INFO!B48=0,\" \",COUNTRY_INFO!B48)","v":"Nampula"},{"$f":"IF(COUNTRY_INFO!C48=0,\" \",COUNTRY_INFO!C48)","v":"Liupo"},{"$f":"IF(COUNTRY_INFO!$T$9:$T$1000=\"MDA3 (IVM)\", COUNTRY_INFO!$T$9:$T$1000, \" \")","v":" "},null,null,null,0,null,null,0,null,null,0,0,0,0," "," "," "]
[{"$f":"IF(COUNTRY_INFO!A49=0,\" \",COUNTRY_INFO!A49)","v":"Mozambique"},{"$f":"IF(COUNTRY_INFO!B49=0,\" \",COUNTRY_INFO!B49)","v":"Nampula"},{"$f":"IF(COUNTRY_INFO!C49=0,\" \",COUNTRY_INFO!C49)","v":"Malema"},{"$f":"IF(COUNTRY_INFO!$T$9:$T$1000=\"MDA3 (IVM)\", COUNTRY_INFO!$T$9:$T$1000, \" \")","v":" "},null,null,null,0,null,null,0,null,null,0,0,0,0," "," "," "]
[{"$f":"IF(COUNTRY_INFO!A50=0,\" \",COUNTRY_INFO!A50)","v":"Mozambique"},{"$f":"IF(COUNTRY_INFO!B50=0,\" \",COUNTRY_INFO!B50)","v":"Nampula"},{"$f":"IF(COUNTRY_INFO!C50=0,\" \",COUNTRY_INFO!C50)","v":"Meconta"},{"$f":"IF(COUNTRY_INFO!$T$9:$T$1000=\"MDA3 (IVM)\", COUNTRY_INFO!$T$9:$T$1000, \" \")","v":" "},null,null,null,0,null,null,0,null,null,0,0,0,0," "," "," "]
[{"$f":"IF(COUNTRY_INFO!A51=0,\" \",COUNTRY_INFO!A51)","v":"Mozambique"},{"$f":"IF(COUNTRY_INFO!B51=0,\" \",COUNTRY_INFO!B51)","v":"Nampula"},{"$f":"IF(COUNTRY_INFO!C51=0,\" \",COUNTRY_INFO!C51)","v":"Mecuburi"},{"$f":"IF(COUNTRY_INFO!$T$9:$T$1000=\"MDA3 (IVM)\", COUNTRY_INFO!$T$9:$T$1000, \" \")","v":" "},null,null,null,0,null,null,0,null,null,0,0,0,0," "," "," "]
[{"$f":"IF(COUNTRY_INFO!A52=0,\" \",COUNTRY_INFO!A52)","v":"Mozambique"},{"$f":"IF(COUNTRY_INFO!B52=0,\" \",COUNTRY_INFO!B52)","v":"Nampula"},{"$f":"IF(COUNTRY_INFO!C52=0,\" \",COUNTRY_INFO!C52)","v":"Memba"},{"$f":"IF(COUNTRY_INFO!$T$9:$T$1000=\"MDA3 (IVM)\", COUNTRY_INFO!$T$9:$T$1000, \" \")","v":" "},null,null,null,0,null,null,0,null,null,0,0,0,0," "," "," "]
[{"$f":"IF(COUNTRY_INFO!A53=0,\" \",COUNTRY_INFO!A53)","v":"Mozambique"},{"$f":"IF(COUNTRY_INFO!B53=0,\" \",COUNTRY_INFO!B53)","v":"Nampula"},{"$f":"IF(COUNTRY_INFO!C53=0,\" \",COUNTRY_INFO!C53)","v":"Mogincual"},{"$f":"IF(COUNTRY_INFO!$T$9:$T$1000=\"MDA3 (IVM)\", COUNTRY_INFO!$T$9:$T$1000, \" \")","v":" "},null,null,null,0,null,null,0,null,null,0,0,0,0," "," "," "]
[{"$f":"IF(COUNTRY_INFO!A54=0,\" \",COUNTRY_INFO!A54)","v":"Mozambique"},{"$f":"IF(COUNTRY_INFO!B54=0,\" \",COUNTRY_INFO!B54)","v":"Nampula"},{"$f":"IF(COUNTRY_INFO!C54=0,\" \",COUNTRY_INFO!C54)","v":"Mogovolas"},{"$f":"IF(COUNTRY_INFO!$T$9:$T$1000=\"MDA3 (IVM)\", COUNTRY_INFO!$T$9:$T$1000, \" \")","v":" "},null,null,null,0,null,null,0,null,null,0,0,0,0," "," "," "]
[{"$f":"IF(COUNTRY_INFO!A55=0,\" \",COUNTRY_INFO!A55)","v":"Mozambique"},{"$f":"IF(COUNTRY_INFO!B55=0,\" \",COUNTRY_INFO!B55)","v":"Nampula"},{"$f":"IF(COUNTRY_INFO!C55=0,\" \",COUNTRY_INFO!C55)","v":"Moma"},{"$f":"IF(COUNTRY_INFO!$T$9:$T$1000=\"MDA3 (IVM)\", COUNTRY_INFO!$T$9:$T$1000, \" \")","v":" "},null,null,null,0,null,null,0,null,null,0,0,0,0," "," "," "]
[{"$f":"IF(COUNTRY_INFO!A56=0,\" \",COUNTRY_INFO!A56)","v":"Mozambique"},{"$f":"IF(COUNTRY_INFO!B56=0,\" \",COUNTRY_INFO!B56)","v":"Nampula"},{"$f":"IF(COUNTRY_INFO!C56=0,\" \",COUNTRY_INFO!C56)","v":"Monapo"},{"$f":"IF(COUNTRY_INFO!$T$9:$T$1000=\"MDA3 (IVM)\", COUNTRY_INFO!$T$9:$T$1000, \" \")","v":" "},null,null,null,0,null,null,0,null,null,0,0,0,0," "," "," "]
[{"$f":"IF(COUNTRY_INFO!A57=0,\" \",COUNTRY_INFO!A57)","v":"Mozambique"},{"$f":"IF(COUNTRY_INFO!B57=0,\" \",COUNTRY_INFO!B57)","v":"Nampula"},{"$f":"IF(COUNTRY_INFO!C57=0,\" \",COUNTRY_INFO!C57)","v":"Mossuril"},{"$f":"IF(COUNTRY_INFO!$T$9:$T$1000=\"MDA3 (IVM)\", COUNTRY_INFO!$T$9:$T$1000, \" \")","v":" "},null,null,null,0,null,null,0,null,null,0,0,0,0," "," "," "]
[{"$f":"IF(COUNTRY_INFO!A58=0,\" \",COUNTRY_INFO!A58)","v":"Mozambique"},{"$f":"IF(COUNTRY_INFO!B58=0,\" \",COUNTRY_INFO!B58)","v":"Nampula"},{"$f":"IF(COUNTRY_INFO!C58=0,\" \",COUNTRY_INFO!C58)","v":"Muecate"},{"$f":"IF(COUNTRY_INFO!$T$9:$T$1000=\"MDA3 (IVM)\", COUNTRY_INFO!$T$9:$T$1000, \" \")","v":" "},null,null,null,0,null,null,0,null,null,0,0,0,0," "," "," "]
[{"$f":"IF(COUNTRY_INFO!A59=0,\" \",COUNTRY_INFO!A59)","v":"Mozambique"},{"$f":"IF(COUNTRY_INFO!B59=0,\" \",COUNTRY_INFO!B59)","v":"Nampula"},{"$f":"IF(COUNTRY_INFO!C59=0,\" \",COUNTRY_INFO!C59)","v":"Murrupula"},{"$f":"IF(COUNTRY_INFO!$T$9:$T$1000=\"MDA3 (IVM)\", COUNTRY_INFO!$T$9:$T$1000, \" \")","v":" "},null,null,null,0,null,null,0,null,null,0,0,0,0," "," "," "]
[{"$f":"IF(COUNTRY_INFO!A60=0,\" \",COUNTRY_INFO!A60)","v":"Mozambique"},{"$f":"IF(COUNTRY_INFO!B60=0,\" \",COUNTRY_INFO!B60)","v":"Nampula"},{"$f":"IF(COUNTRY_INFO!C60=0,\" \",COUNTRY_INFO!C60)","v":"Nacala Porto"},{"$f":"IF(COUNTRY_INFO!$T$9:$T$1000=\"MDA3 (IVM)\", COUNTRY_INFO!$T$9:$T$1000, \" \")","v":" "},null,null,null,0,null,null,0,null,null,0,0,0,0," "," "," "]
[{"$f":"IF(COUNTRY_INFO!A61=0,\" \",COUNTRY_INFO!A61)","v":"Mozambique"},{"$f":"IF(COUNTRY_INFO!B61=0,\" \",COUNTRY_INFO!B61)","v":"Nampula"},{"$f":"IF(COUNTRY_INFO!C61=0,\" \",COUNTRY_INFO!C61)","v":"Nacala Velha"},{"$f":"IF(COUNTRY_INFO!$T$9:$T$1000=\"MDA3 (IVM)\", COUNTRY_INFO!$T$9:$T$1000, \" \")","v":" "},null,null,null,0,null,null,0,null,null,0,0,0,0," "," "," "]
[{"$f":"IF(COUNTRY_INFO!A62=0,\" \",COUNTRY_INFO!A62)","v":"Mozambique"},{"$f":"IF(COUNTRY_INFO!B62=0,\" \",COUNTRY_INFO!B62)","v":"Nampula"},{"$f":"IF(COUNTRY_INFO!C62=0,\" \",COUNTRY_INFO!C62)","v":"Nacaroa"},{"$f":"IF(COUNTRY_INFO!$T$9:$T$1000=\"MDA3 (IVM)\", COUNTRY_INFO!$T$9:$T$1000, \" \")","v":" "},null,null,null,0,null,null,0,null,null,0,0,0,0," "," "," "]
[{"$f":"IF(COUNTRY_INFO!A63=0,\" \",COUNTRY_INFO!A63)","v":"Mozambique"},{"$f":"IF(COUNTRY_INFO!B63=0,\" \",COUNTRY_INFO!B63)","v":"Nampula"},{"$f":"IF(COUNTRY_INFO!C63=0,\" \",COUNTRY_INFO!C63)","v":"Nampula Dist."},{"$f":"IF(COUNTRY_INFO!$T$9:$T$1000=\"MDA3 (IVM)\", COUNTRY_INFO!$T$9:$T$1000, \" \")","v":" "},null,null,null,0,null,null,0,null,null,0,0,0,0," "," "," "]
[{"$f":"IF(COUNTRY_INFO!A64=0,\" \",COUNTRY_INFO!A64)","v":"Mozambique"},{"$f":"IF(COUNTRY_INFO!B64=0,\" \",COUNTRY_INFO!B64)","v":"Nampula"},{"$f":"IF(COUNTRY_INFO!C64=0,\" \",COUNTRY_INFO!C64)","v":"Ribaué"},{"$f":"IF(COUNTRY_INFO!$T$9:$T$1000=\"MDA3 (IVM)\", COUNTRY_INFO!$T$9:$T$1000, \" \")","v":" "},null,null,null,0,null,null,0,null,null,0,0,0,0," "," "," "]
[{"$f":"IF(COUNTRY_INFO!A65=0,\" \",COUNTRY_INFO!A65)","v":"Mozambique"},{"$f":"IF(COUNTRY_INFO!B65=0,\" \",COUNTRY_INFO!B65)","v":"Zambezia"},{"$f":"IF(COUNTRY_INFO!C65=0,\" \",COUNTRY_INFO!C65)","v":"Quelimane"},{"$f":"IF(COUNTRY_INFO!$T$9:$T$1000=\"MDA3 (IVM)\", COUNTRY_INFO!$T$9:$T$1000, \" \")","v":" "},null,null,null,0,null,null,0,null,null,0,0,0,0," "," "," "]
[{"$f":"IF(COUNTRY_INFO!A66=0,\" \",COUNTRY_INFO!A66)","v":"Mozambique"},{"$f":"IF(COUNTRY_INFO!B66=0,\" \",COUNTRY_INFO!B66)","v":"Zambezia"},{"$f":"IF(COUNTRY_INFO!C66=0,\" \",COUNTRY_INFO!C66)","v":"Alto Molocué"},{"$f":"IF(COUNTRY_INFO!$T$9:$T$1000=\"MDA3 (IVM)\", COUNTRY_INFO!$T$9:$T$1000, \" \")","v":" "},null,null,null,0,null,null,0,null,null,0,0,0,0," "," "," "]
[{"$f":"IF(COUNTRY_INFO!A67=0,\" \",COUNTRY_INFO!A67)","v":"Mozambique"},{"$f":"IF(COUNTRY_INFO!B67=0,\" \",COUNTRY_INFO!B67)","v":"Zambezia"},{"$f":"IF(COUNTRY_INFO!C67=0,\" \",COUNTRY_INFO!C67)","v":"Chinde"},{"$f":"IF(COUNTRY_INFO!$T$9:$T$1000=\"MDA3 (IVM)\", COUNTRY_INFO!$T$9:$T$1000, \" \")","v":" "},null,null,null,0,null,null,0,null,null,0,0,0,0," "," "," "]
[{"$f":"IF(COUNTRY_INFO!A68=0,\" \",COUNTRY_INFO!A68)","v":"Mozambique"},{"$f":"IF(COUNTRY_INFO!B68=0,\" \",COUNTRY_INFO!B68)","v":"Zambezia"},{"$f":"IF(COUNTRY_INFO!C68=0,\" \",COUNTRY_INFO!C68)","v":"Derre"},{"$f":"IF(COUNTRY_INFO!$T$9:$T$1000=\"MDA3 (IVM)\", COUNTRY_INFO!$T$9:$T$1000, \" \")","v":" "},null,null,null,0,null,null,0,null,null,0,0,0,0," "," "," "]
[{"$f":"IF(COUNTRY_INFO!A69=0,\" \",COUNTRY_INFO!A69)","v":"Mozambique"},{"$f":"IF(COUNTRY_INFO!B69=0,\" \",COUNTRY_INFO!B69)","v":"Zambezia"},{"$f":"IF(COUNTRY_INFO!C69=0,\" \",COUNTRY_INFO!C69)","v":"Gilé"},{"$f":"IF(COUNTRY_INFO!$T$9:$T$1000=\"MDA3 (IVM)\", COUNTRY_INFO!$T$9:$T$1000, \" \")","v":" "},null,null,null,0,null,null,0,null,null,0,0,0,0," "," "," "]
[{"$f":"IF(COUNTRY_INFO!A70=0,\" \",COUNTRY_INFO!A70)","v":"Mozambique"},{"$f":"IF(COUNTRY_INFO!B70=0,\" \",COUNTRY_INFO!B70)","v":"Zambezia"},{"$f":"IF(COUNTRY_INFO!C70=0,\" \",COUNTRY_INFO!C70)","v":"Gurué"},{"$f":"IF(COUNTRY_INFO!$T$9:$T$1000=\"MDA3 (IVM)\", COUNTRY_INFO!$T$9:$T$1000, \" \")","v":" "},null,null,null,0,null,null,0,null,null,0,0,0,0," "," "," "]
[{"$f":"IF(COUNTRY_INFO!A71=0,\" \",COUNTRY_INFO!A71)","v":"Mozambique"},{"$f":"IF(COUNTRY_INFO!B71=0,\" \",COUNTRY_INFO!B71)","v":"Zambezia"},{"$f":"IF(COUNTRY_INFO!C71=0,\" \",COUNTRY_INFO!C71)","v":"Ile"},{"$f":"IF(COUNTRY_INFO!$T$9:$T$1000=\"MDA3 (IVM)\", COUNTRY_INFO!$T$9:$T$1000, \" \")","v":" "},null,null,null,0,null,null,0,null,null,0,0,0,0," "," "," "]
[{"$f":"IF(COUNTRY_INFO!A72=0,\" \",COUNTRY_INFO!A72)","v":"Mozambique"},{"$f":"IF(COUNTRY_INFO!B72=0,\" \",COUNTRY_INFO!B72)","v":"Zambezia"},{"$f":"IF(COUNTRY_INFO!C72=0,\" \",COUNTRY_INFO!C72)","v":"Inhassunge"},{"$f":"IF(COUNTRY_INFO!$T$9:$T$1000=\"MDA3 (IVM)\", COUNTRY_INFO!$T$9:$T$1000, \" \")","v":" "},null,null,null,0,null,null,0,null,null,0,0,0,0," "," "," "]
[{"$f":"IF(COUNTRY_INFO!A73=0,\" \",COUNTRY_INFO!A73)","v":"Mozambique"},{"$f":"IF(COUNTRY_INFO!B73=0,\" \",COUNTRY_INFO!B73)","v":"Zambezia"},{"$f":"IF(COUNTRY_INFO!C73=0,\" \",COUNTRY_INFO!C73)","v":"Luabo"},{"$f":"IF(COUNTRY_INFO!$T$9:$T$1000=\"MDA3 (IVM)\", COUNTRY_INFO!$T$9:$T$1000, \" \")","v":" "},null,null,null,0,null,null,0,null,null,0,0,0,0," "," "," "]
[{"$f":"IF(COUNTRY_INFO!A74=0,\" \",COUNTRY_INFO!A74)","v":"Mozambique"},{"$f":"IF(COUNTRY_INFO!B74=0,\" \",COUNTRY_INFO!B74)","v":"Zambezia"},{"$f":"IF(COUNTRY_INFO!C74=0,\" \",COUNTRY_INFO!C74)","v":"Lugela"},{"$f":"IF(COUNTRY_INFO!$T$9:$T$1000=\"MDA3 (IVM)\", COUNTRY_INFO!$T$9:$T$1000, \" \")","v":" "},null,null,null,{"$f":"SUM(F74:G74)","v":0},null,null,{"$f":"SUM(I74:J74)","v":0},null,null,{"$f":"SUM(L74:M74)","v":0},{"$f":"MAX(I74,L74)","v":0},{"$f":"MAX(J74,M74)","v":0},{"$f":"SUM(O74:P74)","v":0},{"$f":"IF(F74<>0, IF(MAX(I74,L74)/F74*100=0, \"-\", MAX(I74,L74)/F74*100), \" \")","v":" "},{"$f":"IF(G74<>0, IF(MAX(J74,M74)/G74*100=0, \"-\", MAX(J74,M74)/G74*100), \" \")","v":" "},{"$f":"IF(H74<>0, IF((MAX(I74,L74)+MAX(J74,M74))/H74*100=0, \"-\",(MAX(I74,L74)+MAX(J74,M74))/H74*100), \" \")","v":" "}]
[{"$f":"IF(COUNTRY_INFO!A75=0,\" \",COUNTRY_INFO!A75)","v":"Mozambique"},{"$f":"IF(COUNTRY_INFO!B75=0,\" \",COUNTRY_INFO!B75)","v":"Zambezia"},{"$f":"IF(COUNTRY_INFO!C75=0,\" \",COUNTRY_INFO!C75)","v":"Maganja da Costa"},{"$f":"IF(COUNTRY_INFO!$T$9:$T$1000=\"MDA3 (IVM)\", COUNTRY_INFO!$T$9:$T$1000, \" \")","v":" "},null,null,null,0,null,null,0,null,null,0,0,0,0," "," "," "]
[{"$f":"IF(COUNTRY_INFO!A76=0,\" \",COUNTRY_INFO!A76)","v":"Mozambique"},{"$f":"IF(COUNTRY_INFO!B76=0,\" \",COUNTRY_INFO!B76)","v":"Zambezia"},{"$f":"IF(COUNTRY_INFO!C76=0,\" \",COUNTRY_INFO!C76)","v":"Milange"},{"$f":"IF(COUNTRY_INFO!$T$9:$T$1000=\"MDA3 (IVM)\", COUNTRY_INFO!$T$9:$T$1000, \" \")","v":" "},null,null,null,0,null,null,0,null,null,0,0,0,0," "," "," "]
[{"$f":"IF(COUNTRY_INFO!A77=0,\" \",COUNTRY_INFO!A77)","v":"Mozambique"},{"$f":"IF(COUNTRY_INFO!B77=0,\" \",COUNTRY_INFO!B77)","v":"Zambezia"},{"$f":"IF(COUNTRY_INFO!C77=0,\" \",COUNTRY_INFO!C77)","v":"Mocuba"},{"$f":"IF(COUNTRY_INFO!$T$9:$T$1000=\"MDA3 (IVM)\", COUNTRY_INFO!$T$9:$T$1000, \" \")","v":" "},null,null,null,0,null,null,0,null,null,0,0,0,0," "," "," "]
[{"$f":"IF(COUNTRY_INFO!A78=0,\" \",COUNTRY_INFO!A78)","v":"Mozambique"},{"$f":"IF(COUNTRY_INFO!B78=0,\" \",COUNTRY_INFO!B78)","v":"Zambezia"},{"$f":"IF(COUNTRY_INFO!C78=0,\" \",COUNTRY_INFO!C78)","v":"Mocubela"},{"$f":"IF(COUNTRY_INFO!$T$9:$T$1000=\"MDA3 (IVM)\", COUNTRY_INFO!$T$9:$T$1000, \" \")","v":" "},null,null,null,0,null,null,0,null,null,0,0,0,0," "," "," "]
[{"$f":"IF(COUNTRY_INFO!A79=0,\" \",COUNTRY_INFO!A79)","v":"Mozambique"},{"$f":"IF(COUNTRY_INFO!B79=0,\" \",COUNTRY_INFO!B79)","v":"Zambezia"},{"$f":"IF(COUNTRY_INFO!C79=0,\" \",COUNTRY_INFO!C79)","v":"Molumbo"},{"$f":"IF(COUNTRY_INFO!$T$9:$T$1000=\"MDA3 (IVM)\", COUNTRY_INFO!$T$9:$T$1000, \" \")","v":" "},null,null,null,0,null,null,0,null,null,0,0,0,0," "," "," "]
[{"$f":"IF(COUNTRY_INFO!A80=0,\" \",COUNTRY_INFO!A80)","v":"Mozambique"},{"$f":"IF(COUNTRY_INFO!B80=0,\" \",COUNTRY_INFO!B80)","v":"Zambezia"},{"$f":"IF(COUNTRY_INFO!C80=0,\" \",COUNTRY_INFO!C80)","v":"Mopeia"},{"$f":"IF(COUNTRY_INFO!$T$9:$T$1000=\"MDA3 (IVM)\", COUNTRY_INFO!$T$9:$T$1000, \" \")","v":" "},null,null,null,0,null,null,0,null,null,0,0,0,0," "," "," "]
[{"$f":"IF(COUNTRY_INFO!A81=0,\" \",COUNTRY_INFO!A81)","v":"Mozambique"},{"$f":"IF(COUNTRY_INFO!B81=0,\" \",COUNTRY_INFO!B81)","v":"Zambezia"},{"$f":"IF(COUNTRY_INFO!C81=0,\" \",COUNTRY_INFO!C81)","v":"Morrumbala"},{"$f":"IF(COUNTRY_INFO!$T$9:$T$1000=\"MDA3 (IVM)\", COUNTRY_INFO!$T$9:$T$1000, \" \")","v":" "},null,null,null,0,null,null,0,null,null,0,0,0,0," "," "," "]
[{"$f":"IF(COUNTRY_INFO!A82=0,\" \",COUNTRY_INFO!A82)","v":"Mozambique"},{"$f":"IF(COUNTRY_INFO!B82=0,\" \",COUNTRY_INFO!B82)","v":"Zambezia"},{"$f":"IF(COUNTRY_INFO!C82=0,\" \",COUNTRY_INFO!C82)","v":"Mulevala"},{"$f":"IF(COUNTRY_INFO!$T$9:$T$1000=\"MDA3 (IVM)\", COUNTRY_INFO!$T$9:$T$1000, \" \")","v":" "},null,null,null,0,null,null,0,null,null,0,0,0,0," "," "," "]
[{"$f":"IF(COUNTRY_INFO!A83=0,\" \",COUNTRY_INFO!A83)","v":"Mozambique"},{"$f":"IF(COUNTRY_INFO!B83=0,\" \",COUNTRY_INFO!B83)","v":"Zambezia"},{"$f":"IF(COUNTRY_INFO!C83=0,\" \",COUNTRY_INFO!C83)","v":"Namacurra"},{"$f":"IF(COUNTRY_INFO!$T$9:$T$1000=\"MDA3 (IVM)\", COUNTRY_INFO!$T$9:$T$1000, \" \")","v":" "},null,null,null,0,null,null,0,null,null,0,0,0,0," "," "," "]
[{"$f":"IF(COUNTRY_INFO!A84=0,\" \",COUNTRY_INFO!A84)","v":"Mozambique"},{"$f":"IF(COUNTRY_INFO!B84=0,\" \",COUNTRY_INFO!B84)","v":"Zambezia"},{"$f":"IF(COUNTRY_INFO!C84=0,\" \",COUNTRY_INFO!C84)","v":"Namarrói"},{"$f":"IF(COUNTRY_INFO!$T$9:$T$1000=\"MDA3 (IVM)\", COUNTRY_INFO!$T$9:$T$1000, \" \")","v":" "},null,null,null,0,null,null,0,null,null,0,0,0,0," "," "," "]
[{"$f":"IF(COUNTRY_INFO!A85=0,\" \",COUNTRY_INFO!A85)","v":"Mozambique"},{"$f":"IF(COUNTRY_INFO!B85=0,\" \",COUNTRY_INFO!B85)","v":"Zambezia"},{"$f":"IF(COUNTRY_INFO!C85=0,\" \",COUNTRY_INFO!C85)","v":"Nicoadala"},{"$f":"IF(COUNTRY_INFO!$T$9:$T$1000=\"MDA3 (IVM)\", COUNTRY_INFO!$T$9:$T$1000, \" \")","v":" "},null,null,null,0,null,null,0,null,null,0,0,0,0," "," "," "]
[{"$f":"IF(COUNTRY_INFO!A86=0,\" \",COUNTRY_INFO!A86)","v":"Mozambique"},{"$f":"IF(COUNTRY_INFO!B86=0,\" \",COUNTRY_INFO!B86)","v":"Zambezia"},{"$f":"IF(COUNTRY_INFO!C86=0,\" \",COUNTRY_INFO!C86)","v":"Pebane"},{"$f":"IF(COUNTRY_INFO!$T$9:$T$1000=\"MDA3 (IVM)\", COUNTRY_INFO!$T$9:$T$1000, \" \")","v":" "},null,null,null,0,null,null,0,null,null,0,0,0,0," "," "," "]
[{"$f":"IF(COUNTRY_INFO!A87=0,\" \",COUNTRY_INFO!A87)","v":"Mozambique"},{"$f":"IF(COUNTRY_INFO!B87=0,\" \",COUNTRY_INFO!B87)","v":"Tete"},{"$f":"IF(COUNTRY_INFO!C87=0,\" \",COUNTRY_INFO!C87)","v":"Cid Tete"},{"$f":"IF(COUNTRY_INFO!$T$9:$T$1000=\"MDA3 (IVM)\", COUNTRY_INFO!$T$9:$T$1000, \" \")","v":" "},null,null,null,0,null,null,0,null,null,0,0,0,0," "," "," "]
[{"$f":"IF(COUNTRY_INFO!A88=0,\" \",COUNTRY_INFO!A88)","v":"Mozambique"},{"$f":"IF(COUNTRY_INFO!B88=0,\" \",COUNTRY_INFO!B88)","v":"Tete"},{"$f":"IF(COUNTRY_INFO!C88=0,\" \",COUNTRY_INFO!C88)","v":"Angónia"},{"$f":"IF(COUNTRY_INFO!$T$9:$T$1000=\"MDA3 (IVM)\", COUNTRY_INFO!$T$9:$T$1000, \" \")","v":" "},null,null,null,0,null,null,0,null,null,0,0,0,0," "," "," "]
[{"$f":"IF(COUNTRY_INFO!A89=0,\" \",COUNTRY_INFO!A89)","v":"Mozambique"},{"$f":"IF(COUNTRY_INFO!B89=0,\" \",COUNTRY_INFO!B89)","v":"Tete"},{"$f":"IF(COUNTRY_INFO!C89=0,\" \",COUNTRY_INFO!C89)","v":"Cahora Bassa"},{"$f":"IF(COUNTRY_INFO!$T$9:$T$1000=\"MDA3 (IVM)\", COUNTRY_INFO!$T$9:$T$1000, \" \")","v":" "},null,null,null,0,null,null,0,null,null,0,0,0,0," "," "," "]
[{"$f":"IF(COUNTRY_INFO!A90=0,\" \",COUNTRY_INFO!A90)","v":"Mozambique"},{"$f":"IF(COUNTRY_INFO!B90=0,\" \",COUNTRY_INFO!B90)","v":"Tete"},{"$f":"IF(COUNTRY_INFO!C90=0,\" \",COUNTRY_INFO!C90)","v":"Changara "},{"$f":"IF(COUNTRY_INFO!$T$9:$T$1000=\"MDA3 (IVM)\", COUNTRY_INFO!$T$9:$T$1000, \" \")","v":" "},null,null,null,0,null,null,0,null,null,0,0,0,0," "," "," "]
[{"$f":"IF(COUNTRY_INFO!A91=0,\" \",COUNTRY_INFO!A91)","v":"Mozambique"},{"$f":"IF(COUNTRY_INFO!B91=0,\" \",COUNTRY_INFO!B91)","v":"Tete"},{"$f":"IF(COUNTRY_INFO!C91=0,\" \",COUNTRY_INFO!C91)","v":"Chifunde"},{"$f":"IF(COUNTRY_INFO!$T$9:$T$1000=\"MDA3 (IVM)\", COUNTRY_INFO!$T$9:$T$1000, \" \")","v":" "},null,null,null,0,null,null,0,null,null,0,0,0,0," "," "," "]
[{"$f":"IF(COUNTRY_INFO!A92=0,\" \",COUNTRY_INFO!A92)","v":"Mozambique"},{"$f":"IF(COUNTRY_INFO!B92=0,\" \",COUNTRY_INFO!B92)","v":"Tete"},{"$f":"IF(COUNTRY_INFO!C92=0,\" \",COUNTRY_INFO!C92)","v":"Chiúta"},{"$f":"IF(COUNTRY_INFO!$T$9:$T$1000=\"MDA3 (IVM)\", COUNTRY_INFO!$T$9:$T$1000, \" \")","v":" "},null,null,null,0,null,null,0,null,null,0,0,0,0," "," "," "]
[{"$f":"IF(COUNTRY_INFO!A93=0,\" \",COUNTRY_INFO!A93)","v":"Mozambique"},{"$f":"IF(COUNTRY_INFO!B93=0,\" \",COUNTRY_INFO!B93)","v":"Tete"},{"$f":"IF(COUNTRY_INFO!C93=0,\" \",COUNTRY_INFO!C93)","v":"Doa"},{"$f":"IF(COUNTRY_INFO!$T$9:$T$1000=\"MDA3 (IVM)\", COUNTRY_INFO!$T$9:$T$1000, \" \")","v":" "},null,null,null,0,null,null,0,null,null,0,0,0,0," "," "," "]
[{"$f":"IF(COUNTRY_INFO!A94=0,\" \",COUNTRY_INFO!A94)","v":"Mozambique"},{"$f":"IF(COUNTRY_INFO!B94=0,\" \",COUNTRY_INFO!B94)","v":"Tete"},{"$f":"IF(COUNTRY_INFO!C94=0,\" \",COUNTRY_INFO!C94)","v":"Macanga"},{"$f":"IF(COUNTRY_INFO!$T$9:$T$1000=\"MDA3 (IVM)\", COUNTRY_INFO!$T$9:$T$1000, \" \")","v":" "},null,null,null,0,null,null,0,null,null,0,0,0,0," "," "," "]
[{"$f":"IF(COUNTRY_INFO!A95=0,\" \",COUNTRY_INFO!A95)","v":"Mozambique"},{"$f":"IF(COUNTRY_INFO!B95=0,\" \",COUNTRY_INFO!B95)","v":"Tete"},{"$f":"IF(COUNTRY_INFO!C95=0,\" \",COUNTRY_INFO!C95)","v":"Magoe"},{"$f":"IF(COUNTRY_INFO!$T$9:$T$1000=\"MDA3 (IVM)\", COUNTRY_INFO!$T$9:$T$1000, \" \")","v":" "},null,null,null,0,null,null,0,null,null,0,0,0,0," "," "," "]
[{"$f":"IF(COUNTRY_INFO!A96=0,\" \",COUNTRY_INFO!A96)","v":"Mozambique"},{"$f":"IF(COUNTRY_INFO!B96=0,\" \",COUNTRY_INFO!B96)","v":"Tete"},{"$f":"IF(COUNTRY_INFO!C96=0,\" \",COUNTRY_INFO!C96)","v":"Marávia"},{"$f":"IF(COUNTRY_INFO!$T$9:$T$1000=\"MDA3 (IVM)\", COUNTRY_INFO!$T$9:$T$1000, \" \")","v":" "},null,null,null,0,null,null,0,null,null,0,0,0,0," "," "," "]
[{"$f":"IF(COUNTRY_INFO!A97=0,\" \",COUNTRY_INFO!A97)","v":"Mozambique"},{"$f":"IF(COUNTRY_INFO!B97=0,\" \",COUNTRY_INFO!B97)","v":"Tete"},{"$f":"IF(COUNTRY_INFO!C97=0,\" \",COUNTRY_INFO!C97)","v":"Marara"},{"$f":"IF(COUNTRY_INFO!$T$9:$T$1000=\"MDA3 (IVM)\", COUNTRY_INFO!$T$9:$T$1000, \" \")","v":" "},null,null,null,0,null,null,0,null,null,0,0,0,0," "," "," "]
[{"$f":"IF(COUNTRY_INFO!A98=0,\" \",COUNTRY_INFO!A98)","v":"Mozambique"},{"$f":"IF(COUNTRY_INFO!B98=0,\" \",COUNTRY_INFO!B98)","v":"Tete"},{"$f":"IF(COUNTRY_INFO!C98=0,\" \",COUNTRY_INFO!C98)","v":"Moatize"},{"$f":"IF(COUNTRY_INFO!$T$9:$T$1000=\"MDA3 (IVM)\", COUNTRY_INFO!$T$9:$T$1000, \" \")","v":" "},null,null,null,0,null,null,0,null,null,0,0,0,0," "," "," "]
[{"$f":"IF(COUNTRY_INFO!A99=0,\" \",COUNTRY_INFO!A99)","v":"Mozambique"},{"$f":"IF(COUNTRY_INFO!B99=0,\" \",COUNTRY_INFO!B99)","v":"Tete"},{"$f":"IF(COUNTRY_INFO!C99=0,\" \",COUNTRY_INFO!C99)","v":"Mutarara"},{"$f":"IF(COUNTRY_INFO!$T$9:$T$1000=\"MDA3 (IVM)\", COUNTRY_INFO!$T$9:$T$1000, \" \")","v":" "},null,null,null,0,null,null,0,null,null,0,0,0,0," "," "," "]
[{"$f":"IF(COUNTRY_INFO!A100=0,\" \",COUNTRY_INFO!A100)","v":"Mozambique"},{"$f":"IF(COUNTRY_INFO!B100=0,\" \",COUNTRY_INFO!B100)","v":"Tete"},{"$f":"IF(COUNTRY_INFO!C100=0,\" \",COUNTRY_INFO!C100)","v":"Tsangano"},{"$f":"IF(COUNTRY_INFO!$T$9:$T$1000=\"MDA3 (IVM)\", COUNTRY_INFO!$T$9:$T$1000, \" \")","v":" "},null,null,null,0,null,null,0,null,null,0,0,0,0," "," "," "]
[{"$f":"IF(COUNTRY_INFO!A101=0,\" \",COUNTRY_INFO!A101)","v":"Mozambique"},{"$f":"IF(COUNTRY_INFO!B101=0,\" \",COUNTRY_INFO!B101)","v":"Tete"},{"$f":"IF(COUNTRY_INFO!C101=0,\" \",COUNTRY_INFO!C101)","v":"Zumbu"},{"$f":"IF(COUNTRY_INFO!$T$9:$T$1000=\"MDA3 (IVM)\", COUNTRY_INFO!$T$9:$T$1000, \" \")","v":" "},null,null,null,0,null,null,0,null,null,0,0,0,0," "," "," "]
[{"$f":"IF(COUNTRY_INFO!A102=0,\" \",COUNTRY_INFO!A102)","v":"Mozambique"},{"$f":"IF(COUNTRY_INFO!B102=0,\" \",COUNTRY_INFO!B102)","v":"Sofala"},{"$f":"IF(COUNTRY_INFO!C102=0,\" \",COUNTRY_INFO!C102)","v":"Cid Beira"},{"$f":"IF(COUNTRY_INFO!$T$9:$T$1000=\"MDA3 (IVM)\", COUNTRY_INFO!$T$9:$T$1000, \" \")","v":" "},null,null,null,0,null,null,0,null,null,0,0,0,0," "," "," "]
[{"$f":"IF(COUNTRY_INFO!A103=0,\" \",COUNTRY_INFO!A103)","v":"Mozambique"},{"$f":"IF(COUNTRY_INFO!B103=0,\" \",COUNTRY_INFO!B103)","v":"Sofala"},{"$f":"IF(COUNTRY_INFO!C103=0,\" \",COUNTRY_INFO!C103)","v":"Buzi"},{"$f":"IF(COUNTRY_INFO!$T$9:$T$1000=\"MDA3 (IVM)\", COUNTRY_INFO!$T$9:$T$1000, \" \")","v":" "},null,null,null,0,null,null,0,null,null,0,0,0,0," "," "," "]
[{"$f":"IF(COUNTRY_INFO!A104=0,\" \",COUNTRY_INFO!A104)","v":"Mozambique"},{"$f":"IF(COUNTRY_INFO!B104=0,\" \",COUNTRY_INFO!B104)","v":"Sofala"},{"$f":"IF(COUNTRY_INFO!C104=0,\" \",COUNTRY_INFO!C104)","v":"Caia"},{"$f":"IF(COUNTRY_INFO!$T$9:$T$1000=\"MDA3 (IVM)\", COUNTRY_INFO!$T$9:$T$1000, \" \")","v":" "},null,null,null,0,null,null,0,null,null,0,0,0,0," "," "," "]
[{"$f":"IF(COUNTRY_INFO!A105=0,\" \",COUNTRY_INFO!A105)","v":"Mozambique"},{"$f":"IF(COUNTRY_INFO!B105=0,\" \",COUNTRY_INFO!B105)","v":"Sofala"},{"$f":"IF(COUNTRY_INFO!C105=0,\" \",COUNTRY_INFO!C105)","v":"Chemba"},{"$f":"IF(COUNTRY_INFO!$T$9:$T$1000=\"MDA3 (IVM)\", COUNTRY_INFO!$T$9:$T$1000, \" \")","v":" "},null,null,null,0,null,null,0,null,null,0,0,0,0," "," "," "]
[{"$f":"IF(COUNTRY_INFO!A106=0,\" \",COUNTRY_INFO!A106)","v":"Mozambique"},{"$f":"IF(COUNTRY_INFO!B106=0,\" \",COUNTRY_INFO!B106)","v":"Sofala"},{"$f":"IF(COUNTRY_INFO!C106=0,\" \",COUNTRY_INFO!C106)","v":"Cheringoma"},{"$f":"IF(COUNTRY_INFO!$T$9:$T$1000=\"MDA3 (IVM)\", COUNTRY_INFO!$T$9:$T$1000, \" \")","v":" "},null,null,null,0,null,null,0,null,null,0,0,0,0," "," "," "]
[{"$f":"IF(COUNTRY_INFO!A107=0,\" \",COUNTRY_INFO!A107)","v":"Mozambique"},{"$f":"IF(COUNTRY_INFO!B107=0,\" \",COUNTRY_INFO!B107)","v":"Sofala"},{"$f":"IF(COUNTRY_INFO!C107=0,\" \",COUNTRY_INFO!C107)","v":"Chibabava"},{"$f":"IF(COUNTRY_INFO!$T$9:$T$1000=\"MDA3 (IVM)\", COUNTRY_INFO!$T$9:$T$1000, \" \")","v":" "},null,null,null,0,null,null,0,null,null,0,0,0,0," "," "," "]
[{"$f":"IF(COUNTRY_INFO!A108=0,\" \",COUNTRY_INFO!A108)","v":"Mozambique"},{"$f":"IF(COUNTRY_INFO!B108=0,\" \",COUNTRY_INFO!B108)","v":"Sofala"},{"$f":"IF(COUNTRY_INFO!C108=0,\" \",COUNTRY_INFO!C108)","v":"Dondo"},{"$f":"IF(COUNTRY_INFO!$T$9:$T$1000=\"MDA3 (IVM)\", COUNTRY_INFO!$T$9:$T$1000, \" \")","v":" "},null,null,null,0,null,null,0,null,null,0,0,0,0," "," "," "]
[{"$f":"IF(COUNTRY_INFO!A109=0,\" \",COUNTRY_INFO!A109)","v":"Mozambique"},{"$f":"IF(COUNTRY_INFO!B109=0,\" \",COUNTRY_INFO!B109)","v":"Sofala"},{"$f":"IF(COUNTRY_INFO!C109=0,\" \",COUNTRY_INFO!C109)","v":"Gorongosa"},{"$f":"IF(COUNTRY_INFO!$T$9:$T$1000=\"MDA3 (IVM)\", COUNTRY_INFO!$T$9:$T$1000, \" \")","v":" "},null,null,null,0,null,null,0,null,null,0,0,0,0," "," "," "]
[{"$f":"IF(COUNTRY_INFO!A110=0,\" \",COUNTRY_INFO!A110)","v":"Mozambique"},{"$f":"IF(COUNTRY_INFO!B110=0,\" \",COUNTRY_INFO!B110)","v":"Sofala"},{"$f":"IF(COUNTRY_INFO!C110=0,\" \",COUNTRY_INFO!C110)","v":"Machanga"},{"$f":"IF(COUNTRY_INFO!$T$9:$T$1000=\"MDA3 (IVM)\", COUNTRY_INFO!$T$9:$T$1000, \" \")","v":" "},null,null,null,0,null,null,0,null,null,0,0,0,0," "," "," "]
[{"$f":"IF(COUNTRY_INFO!A111=0,\" \",COUNTRY_INFO!A111)","v":"Mozambique"},{"$f":"IF(COUNTRY_INFO!B111=0,\" \",COUNTRY_INFO!B111)","v":"Sofala"},{"$f":"IF(COUNTRY_INFO!C111=0,\" \",COUNTRY_INFO!C111)","v":"Maringue"},{"$f":"IF(COUNTRY_INFO!$T$9:$T$1000=\"MDA3 (IVM)\", COUNTRY_INFO!$T$9:$T$1000, \" \")","v":" "},null,null,null,0,null,null,0,null,null,0,0,0,0," "," "," "]
[{"$f":"IF(COUNTRY_INFO!A112=0,\" \",COUNTRY_INFO!A112)","v":"Mozambique"},{"$f":"IF(COUNTRY_INFO!B112=0,\" \",COUNTRY_INFO!B112)","v":"Sofala"},{"$f":"IF(COUNTRY_INFO!C112=0,\" \",COUNTRY_INFO!C112)","v":"Marromeu"},{"$f":"IF(COUNTRY_INFO!$T$9:$T$1000=\"MDA3 (IVM)\", COUNTRY_INFO!$T$9:$T$1000, \" \")","v":" "},null,null,null,0,null,null,0,null,null,0,0,0,0," "," "," "]
[{"$f":"IF(COUNTRY_INFO!A113=0,\" \",COUNTRY_INFO!A113)","v":"Mozambique"},{"$f":"IF(COUNTRY_INFO!B113=0,\" \",COUNTRY_INFO!B113)","v":"Sofala"},{"$f":"IF(COUNTRY_INFO!C113=0,\" \",COUNTRY_INFO!C113)","v":"Muanza"},{"$f":"IF(COUNTRY_INFO!$T$9:$T$1000=\"MDA3 (IVM)\", COUNTRY_INFO!$T$9:$T$1000, \" \")","v":" "},null,null,null,0,null,null,0,null,null,0,0,0,0," "," "," "]
[{"$f":"IF(COUNTRY_INFO!A114=0,\" \",COUNTRY_INFO!A114)","v":"Mozambique"},{"$f":"IF(COUNTRY_INFO!B114=0,\" \",COUNTRY_INFO!B114)","v":"Sofala"},{"$f":"IF(COUNTRY_INFO!C114=0,\" \",COUNTRY_INFO!C114)","v":"Nhamatanda"},{"$f":"IF(COUNTRY_INFO!$T$9:$T$1000=\"MDA3 (IVM)\", COUNTRY_INFO!$T$9:$T$1000, \" \")","v":" "},null,null,null,0,null,null,0,null,null,0,0,0,0," "," "," "]
[{"$f":"IF(COUNTRY_INFO!A115=0,\" \",COUNTRY_INFO!A115)","v":"Mozambique"},{"$f":"IF(COUNTRY_INFO!B115=0,\" \",COUNTRY_INFO!B115)","v":"Manica"},{"$f":"IF(COUNTRY_INFO!C115=0,\" \",COUNTRY_INFO!C115)","v":"Cid. Chimoio"},{"$f":"IF(COUNTRY_INFO!$T$9:$T$1000=\"MDA3 (IVM)\", COUNTRY_INFO!$T$9:$T$1000, \" \")","v":" "},null,null,null,0,null,null,0,null,null,0,0,0,0," "," "," "]
[{"$f":"IF(COUNTRY_INFO!A116=0,\" \",COUNTRY_INFO!A116)","v":"Mozambique"},{"$f":"IF(COUNTRY_INFO!B116=0,\" \",COUNTRY_INFO!B116)","v":"Manica"},{"$f":"IF(COUNTRY_INFO!C116=0,\" \",COUNTRY_INFO!C116)","v":"Barué"},{"$f":"IF(COUNTRY_INFO!$T$9:$T$1000=\"MDA3 (IVM)\", COUNTRY_INFO!$T$9:$T$1000, \" \")","v":" "},null,null,null,0,null,null,0,null,null,0,0,0,0," "," "," "]
[{"$f":"IF(COUNTRY_INFO!A117=0,\" \",COUNTRY_INFO!A117)","v":"Mozambique"},{"$f":"IF(COUNTRY_INFO!B117=0,\" \",COUNTRY_INFO!B117)","v":"Manica"},{"$f":"IF(COUNTRY_INFO!C117=0,\" \",COUNTRY_INFO!C117)","v":"Gondola"},{"$f":"IF(COUNTRY_INFO!$T$9:$T$1000=\"MDA3 (IVM)\", COUNTRY_INFO!$T$9:$T$1000, \" \")","v":" "},null,null,null,0,null,null,0,null,null,0,0,0,0," "," "," "]
[{"$f":"IF(COUNTRY_INFO!A118=0,\" \",COUNTRY_INFO!A118)","v":"Mozambique"},{"$f":"IF(COUNTRY_INFO!B118=0,\" \",COUNTRY_INFO!B118)","v":"Manica"},{"$f":"IF(COUNTRY_INFO!C118=0,\" \",COUNTRY_INFO!C118)","v":"Guro"},{"$f":"IF(COUNTRY_INFO!$T$9:$T$1000=\"MDA3 (IVM)\", COUNTRY_INFO!$T$9:$T$1000, \" \")","v":" "},null,null,null,0,null,null,0,null,null,0,0,0,0," "," "," "]
[{"$f":"IF(COUNTRY_INFO!A119=0,\" \",COUNTRY_INFO!A119)","v":"Mozambique"},{"$f":"IF(COUNTRY_INFO!B119=0,\" \",COUNTRY_INFO!B119)","v":"Manica"},{"$f":"IF(COUNTRY_INFO!C119=0,\" \",COUNTRY_INFO!C119)","v":"Macate"},{"$f":"IF(COUNTRY_INFO!$T$9:$T$1000=\"MDA3 (IVM)\", COUNTRY_INFO!$T$9:$T$1000, \" \")","v":" "},null,null,null,0,null,null,0,null,null,0,0,0,0," "," "," "]
[{"$f":"IF(COUNTRY_INFO!A120=0,\" \",COUNTRY_INFO!A120)","v":"Mozambique"},{"$f":"IF(COUNTRY_INFO!B120=0,\" \",COUNTRY_INFO!B120)","v":"Manica"},{"$f":"IF(COUNTRY_INFO!C120=0,\" \",COUNTRY_INFO!C120)","v":"Machaze"},{"$f":"IF(COUNTRY_INFO!$T$9:$T$1000=\"MDA3 (IVM)\", COUNTRY_INFO!$T$9:$T$1000, \" \")","v":" "},null,null,null,0,null,null,0,null,null,0,0,0,0," "," "," "]
[{"$f":"IF(COUNTRY_INFO!A121=0,\" \",COUNTRY_INFO!A121)","v":"Mozambique"},{"$f":"IF(COUNTRY_INFO!B121=0,\" \",COUNTRY_INFO!B121)","v":"Manica"},{"$f":"IF(COUNTRY_INFO!C121=0,\" \",COUNTRY_INFO!C121)","v":"Macossa"},{"$f":"IF(COUNTRY_INFO!$T$9:$T$1000=\"MDA3 (IVM)\", COUNTRY_INFO!$T$9:$T$1000, \" \")","v":" "},null,null,null,0,null,null,0,null,null,0,0,0,0," "," "," "]
[{"$f":"IF(COUNTRY_INFO!A122=0,\" \",COUNTRY_INFO!A122)","v":"Mozambique"},{"$f":"IF(COUNTRY_INFO!B122=0,\" \",COUNTRY_INFO!B122)","v":"Manica"},{"$f":"IF(COUNTRY_INFO!C122=0,\" \",COUNTRY_INFO!C122)","v":"Manica"},{"$f":"IF(COUNTRY_INFO!$T$9:$T$1000=\"MDA3 (IVM)\", COUNTRY_INFO!$T$9:$T$1000, \" \")","v":" "},null,null,null,0,null,null,0,null,null,0,0,0,0," "," "," "]
[{"$f":"IF(COUNTRY_INFO!A123=0,\" \",COUNTRY_INFO!A123)","v":"Mozambique"},{"$f":"IF(COUNTRY_INFO!B123=0,\" \",COUNTRY_INFO!B123)","v":"Manica"},{"$f":"IF(COUNTRY_INFO!C123=0,\" \",COUNTRY_INFO!C123)","v":"Mossurize"},{"$f":"IF(COUNTRY_INFO!$T$9:$T$1000=\"MDA3 (IVM)\", COUNTRY_INFO!$T$9:$T$1000, \" \")","v":" "},null,null,null,0,null,null,0,null,null,0,0,0,0," "," "," "]
[{"$f":"IF(COUNTRY_INFO!A124=0,\" \",COUNTRY_INFO!A124)","v":"Mozambique"},{"$f":"IF(COUNTRY_INFO!B124=0,\" \",COUNTRY_INFO!B124)","v":"Manica"},{"$f":"IF(COUNTRY_INFO!C124=0,\" \",COUNTRY_INFO!C124)","v":"Sussundenga"},{"$f":"IF(COUNTRY_INFO!$T$9:$T$1000=\"MDA3 (IVM)\", COUNTRY_INFO!$T$9:$T$1000, \" \")","v":" "},null,null,null,0,null,null,0,null,null,0,0,0,0," "," "," "]
[{"$f":"IF(COUNTRY_INFO!A125=0,\" \",COUNTRY_INFO!A125)","v":"Mozambique"},{"$f":"IF(COUNTRY_INFO!B125=0,\" \",COUNTRY_INFO!B125)","v":"Manica"},{"$f":"IF(COUNTRY_INFO!C125=0,\" \",COUNTRY_INFO!C125)","v":"Tambara"},{"$f":"IF(COUNTRY_INFO!$T$9:$T$1000=\"MDA3 (IVM)\", COUNTRY_INFO!$T$9:$T$1000, \" \")","v":" "},null,null,null,0,null,null,0,null,null,0,0,0,0," "," "," "]
[{"$f":"IF(COUNTRY_INFO!A126=0,\" \",COUNTRY_INFO!A126)","v":"Mozambique"},{"$f":"IF(COUNTRY_INFO!B126=0,\" \",COUNTRY_INFO!B126)","v":"Manica"},{"$f":"IF(COUNTRY_INFO!C126=0,\" \",COUNTRY_INFO!C126)","v":"Vanduze"},{"$f":"IF(COUNTRY_INFO!$T$9:$T$1000=\"MDA3 (IVM)\", COUNTRY_INFO!$T$9:$T$1000, \" \")","v":" "},null,null,null,0,null,null,0,null,null,0,0,0,0," "," "," "]
[{"$f":"IF(COUNTRY_INFO!A127=0,\" \",COUNTRY_INFO!A127)","v":"Mozambique"},{"$f":"IF(COUNTRY_INFO!B127=0,\" \",COUNTRY_INFO!B127)","v":"Inhambane"},{"$f":"IF(COUNTRY_INFO!C127=0,\" \",COUNTRY_INFO!C127)","v":"Cid. I'bane"},{"$f":"IF(COUNTRY_INFO!$T$9:$T$1000=\"MDA3 (IVM)\", COUNTRY_INFO!$T$9:$T$1000, \" \")","v":" "},null,null,null,0,null,null,0,null,null,0,0,0,0," "," "," "]
[{"$f":"IF(COUNTRY_INFO!A128=0,\" \",COUNTRY_INFO!A128)","v":"Mozambique"},{"$f":"IF(COUNTRY_INFO!B128=0,\" \",COUNTRY_INFO!B128)","v":"Inhambane"},{"$f":"IF(COUNTRY_INFO!C128=0,\" \",COUNTRY_INFO!C128)","v":"Funhalouro"},{"$f":"IF(COUNTRY_INFO!$T$9:$T$1000=\"MDA3 (IVM)\", COUNTRY_INFO!$T$9:$T$1000, \" \")","v":" "},null,null,null,0,null,null,0,null,null,0,0,0,0," "," "," "]
[{"$f":"IF(COUNTRY_INFO!A129=0,\" \",COUNTRY_INFO!A129)","v":"Mozambique"},{"$f":"IF(COUNTRY_INFO!B129=0,\" \",COUNTRY_INFO!B129)","v":"Inhambane"},{"$f":"IF(COUNTRY_INFO!C129=0,\" \",COUNTRY_INFO!C129)","v":"Govuro"},{"$f":"IF(COUNTRY_INFO!$T$9:$T$1000=\"MDA3 (IVM)\", COUNTRY_INFO!$T$9:$T$1000, \" \")","v":" "},null,null,null,0,null,null,0,null,null,0,0,0,0," "," "," "]
[{"$f":"IF(COUNTRY_INFO!A130=0,\" \",COUNTRY_INFO!A130)","v":"Mozambique"},{"$f":"IF(COUNTRY_INFO!B130=0,\" \",COUNTRY_INFO!B130)","v":"Inhambane"},{"$f":"IF(COUNTRY_INFO!C130=0,\" \",COUNTRY_INFO!C130)","v":"Homoíne"},{"$f":"IF(COUNTRY_INFO!$T$9:$T$1000=\"MDA3 (IVM)\", COUNTRY_INFO!$T$9:$T$1000, \" \")","v":" "},null,null,null,0,null,null,0,null,null,0,0,0,0," "," "," "]
[{"$f":"IF(COUNTRY_INFO!A131=0,\" \",COUNTRY_INFO!A131)","v":"Mozambique"},{"$f":"IF(COUNTRY_INFO!B131=0,\" \",COUNTRY_INFO!B131)","v":"Inhambane"},{"$f":"IF(COUNTRY_INFO!C131=0,\" \",COUNTRY_INFO!C131)","v":"Inharrime"},{"$f":"IF(COUNTRY_INFO!$T$9:$T$1000=\"MDA3 (IVM)\", COUNTRY_INFO!$T$9:$T$1000, \" \")","v":" "},null,null,null,0,null,null,0,null,null,0,0,0,0," "," "," "]
[{"$f":"IF(COUNTRY_INFO!A132=0,\" \",COUNTRY_INFO!A132)","v":"Mozambique"},{"$f":"IF(COUNTRY_INFO!B132=0,\" \",COUNTRY_INFO!B132)","v":"Inhambane"},{"$f":"IF(COUNTRY_INFO!C132=0,\" \",COUNTRY_INFO!C132)","v":"Inhassoro"},{"$f":"IF(COUNTRY_INFO!$T$9:$T$1000=\"MDA3 (IVM)\", COUNTRY_INFO!$T$9:$T$1000, \" \")","v":" "},null,null,null,0,null,null,0,null,null,0,0,0,0," "," "," "]
[{"$f":"IF(COUNTRY_INFO!A133=0,\" \",COUNTRY_INFO!A133)","v":"Mozambique"},{"$f":"IF(COUNTRY_INFO!B133=0,\" \",COUNTRY_INFO!B133)","v":"Inhambane"},{"$f":"IF(COUNTRY_INFO!C133=0,\" \",COUNTRY_INFO!C133)","v":"Jangamo"},{"$f":"IF(COUNTRY_INFO!$T$9:$T$1000=\"MDA3 (IVM)\", COUNTRY_INFO!$T$9:$T$1000, \" \")","v":" "},null,null,null,0,null,null,0,null,null,0,0,0,0," "," "," "]
[{"$f":"IF(COUNTRY_INFO!A134=0,\" \",COUNTRY_INFO!A134)","v":"Mozambique"},{"$f":"IF(COUNTRY_INFO!B134=0,\" \",COUNTRY_INFO!B134)","v":"Inhambane"},{"$f":"IF(COUNTRY_INFO!C134=0,\" \",COUNTRY_INFO!C134)","v":"Mabote"},{"$f":"IF(COUNTRY_INFO!$T$9:$T$1000=\"MDA3 (IVM)\", COUNTRY_INFO!$T$9:$T$1000, \" \")","v":" "},null,null,null,0,null,null,0,null,null,0,0,0,0," "," "," "]
[{"$f":"IF(COUNTRY_INFO!A135=0,\" \",COUNTRY_INFO!A135)","v":"Mozambique"},{"$f":"IF(COUNTRY_INFO!B135=0,\" \",COUNTRY_INFO!B135)","v":"Inhambane"},{"$f":"IF(COUNTRY_INFO!C135=0,\" \",COUNTRY_INFO!C135)","v":"Massinga"},{"$f":"IF(COUNTRY_INFO!$T$9:$T$1000=\"MDA3 (IVM)\", COUNTRY_INFO!$T$9:$T$1000, \" \")","v":" "},null,null,null,0,null,null,0,null,null,0,0,0,0," "," "," "]
[{"$f":"IF(COUNTRY_INFO!A136=0,\" \",COUNTRY_INFO!A136)","v":"Mozambique"},{"$f":"IF(COUNTRY_INFO!B136=0,\" \",COUNTRY_INFO!B136)","v":"Inhambane"},{"$f":"IF(COUNTRY_INFO!C136=0,\" \",COUNTRY_INFO!C136)","v":"Maxixe"},{"$f":"IF(COUNTRY_INFO!$T$9:$T$1000=\"MDA3 (IVM)\", COUNTRY_INFO!$T$9:$T$1000, \" \")","v":" "},null,null,null,0,null,null,0,null,null,0,0,0,0," "," "," "]
[{"$f":"IF(COUNTRY_INFO!A137=0,\" \",COUNTRY_INFO!A137)","v":"Mozambique"},{"$f":"IF(COUNTRY_INFO!B137=0,\" \",COUNTRY_INFO!B137)","v":"Inhambane"},{"$f":"IF(COUNTRY_INFO!C137=0,\" \",COUNTRY_INFO!C137)","v":"Morrumbene"},{"$f":"IF(COUNTRY_INFO!$T$9:$T$1000=\"MDA3 (IVM)\", COUNTRY_INFO!$T$9:$T$1000, \" \")","v":" "},null,null,null,0,null,null,0,null,null,0,0,0,0," "," "," "]
[{"$f":"IF(COUNTRY_INFO!A138=0,\" \",COUNTRY_INFO!A138)","v":"Mozambique"},{"$f":"IF(COUNTRY_INFO!B138=0,\" \",COUNTRY_INFO!B138)","v":"Inhambane"},{"$f":"IF(COUNTRY_INFO!C138=0,\" \",COUNTRY_INFO!C138)","v":"Panda"},{"$f":"IF(COUNTRY_INFO!$T$9:$T$1000=\"MDA3 (IVM)\", COUNTRY_INFO!$T$9:$T$1000, \" \")","v":" "},null,null,null,{"$f":"SUM(F138:G138)","v":0},null,null,{"$f":"SUM(I138:J138)","v":0},null,null,{"$f":"SUM(L138:M138)","v":0},{"$f":"MAX(I138,L138)","v":0},{"$f":"MAX(J138,M138)","v":0},{"$f":"SUM(O138:P138)","v":0},{"$f":"IF(F138<>0, IF(MAX(I138,L138)/F138*100=0, \"-\", MAX(I138,L138)/F138*100), \" \")","v":" "},{"$f":"IF(G138<>0, IF(MAX(J138,M138)/G138*100=0, \"-\", MAX(J138,M138)/G138*100), \" \")","v":" "},{"$f":"IF(H138<>0, IF((MAX(I138,L138)+MAX(J138,M138))/H138*100=0, \"-\",(MAX(I138,L138)+MAX(J138,M138))/H138*100), \" \")","v":" "}]
[{"$f":"IF(COUNTRY_INFO!A139=0,\" \",COUNTRY_INFO!A139)","v":"Mozambique"},{"$f":"IF(COUNTRY_INFO!B139=0,\" \",COUNTRY_INFO!B139)","v":"Inhambane"},{"$f":"IF(COUNTRY_INFO!C139=0,\" \",COUNTRY_INFO!C139)","v":"Vilanculos"},{"$f":"IF(COUNTRY_INFO!$T$9:$T$1000=\"MDA3 (IVM)\", COUNTRY_INFO!$T$9:$T$1000, \" \")","v":" "},null,null,null,0,null,null,0,null,null,0,0,0,0," "," "," "]
[{"$f":"IF(COUNTRY_INFO!A140=0,\" \",COUNTRY_INFO!A140)","v":"Mozambique"},{"$f":"IF(COUNTRY_INFO!B140=0,\" \",COUNTRY_INFO!B140)","v":"Inhambane"},{"$f":"IF(COUNTRY_INFO!C140=0,\" \",COUNTRY_INFO!C140)","v":"Zavala"},{"$f":"IF(COUNTRY_INFO!$T$9:$T$1000=\"MDA3 (IVM)\", COUNTRY_INFO!$T$9:$T$1000, \" \")","v":" "},null,null,null,0,null,null,0,null,null,0,0,0,0," "," "," "]
[{"$f":"IF(COUNTRY_INFO!A141=0,\" \",COUNTRY_INFO!A141)","v":"Mozambique"},{"$f":"IF(COUNTRY_INFO!B141=0,\" \",COUNTRY_INFO!B141)","v":"Gaza"},{"$f":"IF(COUNTRY_INFO!C141=0,\" \",COUNTRY_INFO!C141)","v":"Cid Xai Xai"},{"$f":"IF(COUNTRY_INFO!$T$9:$T$1000=\"MDA3 (IVM)\", COUNTRY_INFO!$T$9:$T$1000, \" \")","v":" "},null,null,null,0,null,null,0,null,null,0,0,0,0," "," "," "]
[{"$f":"IF(COUNTRY_INFO!A142=0,\" \",COUNTRY_INFO!A142)","v":"Mozambique"},{"$f":"IF(COUNTRY_INFO!B142=0,\" \",COUNTRY_INFO!B142)","v":"Gaza"},{"$f":"IF(COUNTRY_INFO!C142=0,\" \",COUNTRY_INFO!C142)","v":"Bilene Macia"},{"$f":"IF(COUNTRY_INFO!$T$9:$T$1000=\"MDA3 (IVM)\", COUNTRY_INFO!$T$9:$T$1000, \" \")","v":" "},null,null,null,0,null,null,0,null,null,0,0,0,0," "," "," "]
[{"$f":"IF(COUNTRY_INFO!A143=0,\" \",COUNTRY_INFO!A143)","v":"Mozambique"},{"$f":"IF(COUNTRY_INFO!B143=0,\" \",COUNTRY_INFO!B143)","v":"Gaza"},{"$f":"IF(COUNTRY_INFO!C143=0,\" \",COUNTRY_INFO!C143)","v":"Chibuto"},{"$f":"IF(COUNTRY_INFO!$T$9:$T$1000=\"MDA3 (IVM)\", COUNTRY_INFO!$T$9:$T$1000, \" \")","v":" "},null,null,null,0,null,null,0,null,null,0,0,0,0," "," "," "]
[{"$f":"IF(COUNTRY_INFO!A144=0,\" \",COUNTRY_INFO!A144)","v":"Mozambique"},{"$f":"IF(COUNTRY_INFO!B144=0,\" \",COUNTRY_INFO!B144)","v":"Gaza"},{"$f":"IF(COUNTRY_INFO!C144=0,\" \",COUNTRY_INFO!C144)","v":"Chicualacuala"},{"$f":"IF(COUNTRY_INFO!$T$9:$T$1000=\"MDA3 (IVM)\", COUNTRY_INFO!$T$9:$T$1000, \" \")","v":" "},null,null,null,0,null,null,0,null,null,0,0,0,0," "," "," "]
[{"$f":"IF(COUNTRY_INFO!A145=0,\" \",COUNTRY_INFO!A145)","v":"Mozambique"},{"$f":"IF(COUNTRY_INFO!B145=0,\" \",COUNTRY_INFO!B145)","v":"Gaza"},{"$f":"IF(COUNTRY_INFO!C145=0,\" \",COUNTRY_INFO!C145)","v":"Chigubo"},{"$f":"IF(COUNTRY_INFO!$T$9:$T$1000=\"MDA3 (IVM)\", COUNTRY_INFO!$T$9:$T$1000, \" \")","v":" "},null,null,null,0,null,null,0,null,null,0,0,0,0," "," "," "]
[{"$f":"IF(COUNTRY_INFO!A146=0,\" \",COUNTRY_INFO!A146)","v":"Mozambique"},{"$f":"IF(COUNTRY_INFO!B146=0,\" \",COUNTRY_INFO!B146)","v":"Gaza"},{"$f":"IF(COUNTRY_INFO!C146=0,\" \",COUNTRY_INFO!C146)","v":"Chokwé"},{"$f":"IF(COUNTRY_INFO!$T$9:$T$1000=\"MDA3 (IVM)\", COUNTRY_INFO!$T$9:$T$1000, \" \")","v":" "},null,null,null,0,null,null,0,null,null,0,0,0,0," "," "," "]
[{"$f":"IF(COUNTRY_INFO!A147=0,\" \",COUNTRY_INFO!A147)","v":"Mozambique"},{"$f":"IF(COUNTRY_INFO!B147=0,\" \",COUNTRY_INFO!B147)","v":"Gaza"},{"$f":"IF(COUNTRY_INFO!C147=0,\" \",COUNTRY_INFO!C147)","v":"Chongoene"},{"$f":"IF(COUNTRY_INFO!$T$9:$T$1000=\"MDA3 (IVM)\", COUNTRY_INFO!$T$9:$T$1000, \" \")","v":" "},null,null,null,0,null,null,0,null,null,0,0,0,0," "," "," "]
[{"$f":"IF(COUNTRY_INFO!A148=0,\" \",COUNTRY_INFO!A148)","v":"Mozambique"},{"$f":"IF(COUNTRY_INFO!B148=0,\" \",COUNTRY_INFO!B148)","v":"Gaza"},{"$f":"IF(COUNTRY_INFO!C148=0,\" \",COUNTRY_INFO!C148)","v":"Guijá"},{"$f":"IF(COUNTRY_INFO!$T$9:$T$1000=\"MDA3 (IVM)\", COUNTRY_INFO!$T$9:$T$1000, \" \")","v":" "},null,null,null,0,null,null,0,null,null,0,0,0,0," "," "," "]
[{"$f":"IF(COUNTRY_INFO!A149=0,\" \",COUNTRY_INFO!A149)","v":"Mozambique"},{"$f":"IF(COUNTRY_INFO!B149=0,\" \",COUNTRY_INFO!B149)","v":"Gaza"},{"$f":"IF(COUNTRY_INFO!C149=0,\" \",COUNTRY_INFO!C149)","v":"Limpopo"},{"$f":"IF(COUNTRY_INFO!$T$9:$T$1000=\"MDA3 (IVM)\", COUNTRY_INFO!$T$9:$T$1000, \" \")","v":" "},null,null,null,0,null,null,0,null,null,0,0,0,0," "," "," "]
[{"$f":"IF(COUNTRY_INFO!A150=0,\" \",COUNTRY_INFO!A150)","v":"Mozambique"},{"$f":"IF(COUNTRY_INFO!B150=0,\" \",COUNTRY_INFO!B150)","v":"Gaza"},{"$f":"IF(COUNTRY_INFO!C150=0,\" \",COUNTRY_INFO!C150)","v":"Mabalane"},{"$f":"IF(COUNTRY_INFO!$T$9:$T$1000=\"MDA3 (IVM)\", COUNTRY_INFO!$T$9:$T$1000, \" \")","v":" "},null,null,null,0,null,null,0,null,null,0,0,0,0," "," "," "]
[{"$f":"IF(COUNTRY_INFO!A151=0,\" \",COUNTRY_INFO!A151)","v":"Mozambique"},{"$f":"IF(COUNTRY_INFO!B151=0,\" \",COUNTRY_INFO!B151)","v":"Gaza"},{"$f":"IF(COUNTRY_INFO!C151=0,\" \",COUNTRY_INFO!C151)","v":"Manjacaze"},{"$f":"IF(COUNTRY_INFO!$T$9:$T$1000=\"MDA3 (IVM)\", COUNTRY_INFO!$T$9:$T$1000, \" \")","v":" "},null,null,null,0,null,null,0,null,null,0,0,0,0," "," "," "]
[{"$f":"IF(COUNTRY_INFO!A152=0,\" \",COUNTRY_INFO!A152)","v":"Mozambique"},{"$f":"IF(COUNTRY_INFO!B152=0,\" \",COUNTRY_INFO!B152)","v":"Gaza"},{"$f":"IF(COUNTRY_INFO!C152=0,\" \",COUNTRY_INFO!C152)","v":"Mapai"},{"$f":"IF(COUNTRY_INFO!$T$9:$T$1000=\"MDA3 (IVM)\", COUNTRY_INFO!$T$9:$T$1000, \" \")","v":" "},null,null,null,0,null,null,0,null,null,0,0,0,0," "," "," "]
[{"$f":"IF(COUNTRY_INFO!A153=0,\" \",COUNTRY_INFO!A153)","v":"Mozambique"},{"$f":"IF(COUNTRY_INFO!B153=0,\" \",COUNTRY_INFO!B153)","v":"Gaza"},{"$f":"IF(COUNTRY_INFO!C153=0,\" \",COUNTRY_INFO!C153)","v":"Massangena"},{"$f":"IF(COUNTRY_INFO!$T$9:$T$1000=\"MDA3 (IVM)\", COUNTRY_INFO!$T$9:$T$1000, \" \")","v":" "},null,null,null,0,null,null,0,null,null,0,0,0,0," "," "," "]
[{"$f":"IF(COUNTRY_INFO!A154=0,\" \",COUNTRY_INFO!A154)","v":"Mozambique"},{"$f":"IF(COUNTRY_INFO!B154=0,\" \",COUNTRY_INFO!B154)","v":"Gaza"},{"$f":"IF(COUNTRY_INFO!C154=0,\" \",COUNTRY_INFO!C154)","v":"Massingir"},{"$f":"IF(COUNTRY_INFO!$T$9:$T$1000=\"MDA3 (IVM)\", COUNTRY_INFO!$T$9:$T$1000, \" \")","v":" "},null,null,null,0,null,null,0,null,null,0,0,0,0," "," "," "]
[{"$f":"IF(COUNTRY_INFO!A155=0,\" \",COUNTRY_INFO!A155)","v":"Mozambique"},{"$f":"IF(COUNTRY_INFO!B155=0,\" \",COUNTRY_INFO!B155)","v":"Maputo Provincia"},{"$f":"IF(COUNTRY_INFO!C155=0,\" \",COUNTRY_INFO!C155)","v":"Matola"},{"$f":"IF(COUNTRY_INFO!$T$9:$T$1000=\"MDA3 (IVM)\", COUNTRY_INFO!$T$9:$T$1000, \" \")","v":" "},null,null,null,0,null,null,0,null,null,0,0,0,0," "," "," "]
[{"$f":"IF(COUNTRY_INFO!A156=0,\" \",COUNTRY_INFO!A156)","v":"Mozambique"},{"$f":"IF(COUNTRY_INFO!B156=0,\" \",COUNTRY_INFO!B156)","v":"Maputo Provincia"},{"$f":"IF(COUNTRY_INFO!C156=0,\" \",COUNTRY_INFO!C156)","v":"Boane"},{"$f":"IF(COUNTRY_INFO!$T$9:$T$1000=\"MDA3 (IVM)\", COUNTRY_INFO!$T$9:$T$1000, \" \")","v":" "},null,null,null,0,null,null,0,null,null,0,0,0,0," "," "," "]
[{"$f":"IF(COUNTRY_INFO!A157=0,\" \",COUNTRY_INFO!A157)","v":"Mozambique"},{"$f":"IF(COUNTRY_INFO!B157=0,\" \",COUNTRY_INFO!B157)","v":"Maputo Provincia"},{"$f":"IF(COUNTRY_INFO!C157=0,\" \",COUNTRY_INFO!C157)","v":"Magude"},{"$f":"IF(COUNTRY_INFO!$T$9:$T$1000=\"MDA3 (IVM)\", COUNTRY_INFO!$T$9:$T$1000, \" \")","v":" "},null,null,null,0,null,null,0,null,null,0,0,0,0," "," "," "]
[{"$f":"IF(COUNTRY_INFO!A158=0,\" \",COUNTRY_INFO!A158)","v":"Mozambique"},{"$f":"IF(COUNTRY_INFO!B158=0,\" \",COUNTRY_INFO!B158)","v":"Maputo Provincia"},{"$f":"IF(COUNTRY_INFO!C158=0,\" \",COUNTRY_INFO!C158)","v":"Manhica"},{"$f":"IF(COUNTRY_INFO!$T$9:$T$1000=\"MDA3 (IVM)\", COUNTRY_INFO!$T$9:$T$1000, \" \")","v":" "},null,null,null,0,null,null,0,null,null,0,0,0,0," "," "," "]
[{"$f":"IF(COUNTRY_INFO!A159=0,\" \",COUNTRY_INFO!A159)","v":"Mozambique"},{"$f":"IF(COUNTRY_INFO!B159=0,\" \",COUNTRY_INFO!B159)","v":"Maputo Provincia"},{"$f":"IF(COUNTRY_INFO!C159=0,\" \",COUNTRY_INFO!C159)","v":"Marracuene"},{"$f":"IF(COUNTRY_INFO!$T$9:$T$1000=\"MDA3 (IVM)\", COUNTRY_INFO!$T$9:$T$1000, \" \")","v":" "},null,null,null,0,null,null,0,null,null,0,0,0,0," "," "," "]
[{"$f":"IF(COUNTRY_INFO!A160=0,\" \",COUNTRY_INFO!A160)","v":"Mozambique"},{"$f":"IF(COUNTRY_INFO!B160=0,\" \",COUNTRY_INFO!B160)","v":"Maputo Provincia"},{"$f":"IF(COUNTRY_INFO!C160=0,\" \",COUNTRY_INFO!C160)","v":"Matutuíne"},{"$f":"IF(COUNTRY_INFO!$T$9:$T$1000=\"MDA3 (IVM)\", COUNTRY_INFO!$T$9:$T$1000, \" \")","v":" "},null,null,null,0,null,null,0,null,null,0,0,0,0," "," "," "]
[{"$f":"IF(COUNTRY_INFO!A161=0,\" \",COUNTRY_INFO!A161)","v":"Mozambique"},{"$f":"IF(COUNTRY_INFO!B161=0,\" \",COUNTRY_INFO!B161)","v":"Maputo Provincia"},{"$f":"IF(COUNTRY_INFO!C161=0,\" \",COUNTRY_INFO!C161)","v":"Moamba"},{"$f":"IF(COUNTRY_INFO!$T$9:$T$1000=\"MDA3 (IVM)\", COUNTRY_INFO!$T$9:$T$1000, \" \")","v":" "},null,null,null,0,null,null,0,null,null,0,0,0,0," "," "," "]
[{"$f":"IF(COUNTRY_INFO!A162=0,\" \",COUNTRY_INFO!A162)","v":"Mozambique"},{"$f":"IF(COUNTRY_INFO!B162=0,\" \",COUNTRY_INFO!B162)","v":"Maputo Provincia"},{"$f":"IF(COUNTRY_INFO!C162=0,\" \",COUNTRY_INFO!C162)","v":"Namaacha"},{"$f":"IF(COUNTRY_INFO!$T$9:$T$1000=\"MDA3 (IVM)\", COUNTRY_INFO!$T$9:$T$1000, \" \")","v":" "},null,null,null,0,null,null,0,null,null,0,0,0,0," "," "," "]
[{"$f":"IF(COUNTRY_INFO!A163=0,\" \",COUNTRY_INFO!A163)","v":"Mozambique"},{"$f":"IF(COUNTRY_INFO!B163=0,\" \",COUNTRY_INFO!B163)","v":"Cidade de Maputo"},{"$f":"IF(COUNTRY_INFO!C163=0,\" \",COUNTRY_INFO!C163)","v":"Kampfumu"},{"$f":"IF(COUNTRY_INFO!$T$9:$T$1000=\"MDA3 (IVM)\", COUNTRY_INFO!$T$9:$T$1000, \" \")","v":" "},null,null,null,0,null,null,0,null,null,0,0,0,0," "," "," "]
[{"$f":"IF(COUNTRY_INFO!A164=0,\" \",COUNTRY_INFO!A164)","v":"Mozambique"},{"$f":"IF(COUNTRY_INFO!B164=0,\" \",COUNTRY_INFO!B164)","v":"Cidade de Maputo"},{"$f":"IF(COUNTRY_INFO!C164=0,\" \",COUNTRY_INFO!C164)","v":"Nhlamankulu"},{"$f":"IF(COUNTRY_INFO!$T$9:$T$1000=\"MDA3 (IVM)\", COUNTRY_INFO!$T$9:$T$1000, \" \")","v":" "},null,null,null,0,null,null,0,null,null,0,0,0,0," "," "," "]
[{"$f":"IF(COUNTRY_INFO!A165=0,\" \",COUNTRY_INFO!A165)","v":"Mozambique"},{"$f":"IF(COUNTRY_INFO!B165=0,\" \",COUNTRY_INFO!B165)","v":"Cidade de Maputo"},{"$f":"IF(COUNTRY_INFO!C165=0,\" \",COUNTRY_INFO!C165)","v":"Kamaxakani"},{"$f":"IF(COUNTRY_INFO!$T$9:$T$1000=\"MDA3 (IVM)\", COUNTRY_INFO!$T$9:$T$1000, \" \")","v":" "},null,null,null,0,null,null,0,null,null,0,0,0,0," "," "," "]
[{"$f":"IF(COUNTRY_INFO!A166=0,\" \",COUNTRY_INFO!A166)","v":"Mozambique"},{"$f":"IF(COUNTRY_INFO!B166=0,\" \",COUNTRY_INFO!B166)","v":"Cidade de Maputo"},{"$f":"IF(COUNTRY_INFO!C166=0,\" \",COUNTRY_INFO!C166)","v":"Kamavota"},{"$f":"IF(COUNTRY_INFO!$T$9:$T$1000=\"MDA3 (IVM)\", COUNTRY_INFO!$T$9:$T$1000, \" \")","v":" "},null,null,null,0,null,null,0,null,null,0,0,0,0," "," "," "]
[{"$f":"IF(COUNTRY_INFO!A167=0,\" \",COUNTRY_INFO!A167)","v":"Mozambique"},{"$f":"IF(COUNTRY_INFO!B167=0,\" \",COUNTRY_INFO!B167)","v":"Cidade de Maputo"},{"$f":"IF(COUNTRY_INFO!C167=0,\" \",COUNTRY_INFO!C167)","v":"Kamubukwana"},{"$f":"IF(COUNTRY_INFO!$T$9:$T$1000=\"MDA3 (IVM)\", COUNTRY_INFO!$T$9:$T$1000, \" \")","v":" "},null,null,null,0,null,null,0,null,null,0,0,0,0," "," "," "]
[{"$f":"IF(COUNTRY_INFO!A168=0,\" \",COUNTRY_INFO!A168)","v":"Mozambique"},{"$f":"IF(COUNTRY_INFO!B168=0,\" \",COUNTRY_INFO!B168)","v":"Cidade de Maputo"},{"$f":"IF(COUNTRY_INFO!C168=0,\" \",COUNTRY_INFO!C168)","v":"Katembe"},{"$f":"IF(COUNTRY_INFO!$T$9:$T$1000=\"MDA3 (IVM)\", COUNTRY_INFO!$T$9:$T$1000, \" \")","v":" "},null,null,null,0,null,null,0,null,null,0,0,0,0," "," "," "]
[{"$f":"IF(COUNTRY_INFO!A169=0,\" \",COUNTRY_INFO!A169)","v":"Mozambique"},{"$f":"IF(COUNTRY_INFO!B169=0,\" \",COUNTRY_INFO!B169)","v":"Cidade de Maputo"},{"$f":"IF(COUNTRY_INFO!C169=0,\" \",COUNTRY_INFO!C169)","v":"Kanyaca"},{"$f":"IF(COUNTRY_INFO!$T$9:$T$1000=\"MDA3 (IVM)\", COUNTRY_INFO!$T$9:$T$1000, \" \")","v":" "},null,null,null,0,null,null,0,null,null,0,0,0,0," "," "," "]

{"sheet":"T1","index":5,"n_rows":169,"n_cols":19,"rows_kept":169,"cut":false,"hidden":false,"merged":[[5,6,5,10],[5,11,5,14],[5,15,5,18],[3,0,3,2],[5,0,5,2],[5,3,6,3],[5,5,6,5],[5,4,6,4]]}
["T 1 - Praziquantel (PZQ) and Albendazole (ALB) or Mebendazole (MBD)"]
["Administrative structure, population requiring PC by age group, population treated by age group and coverage"]
[]
["TOTAL",null,null,null,null,null,{"$f":"SUM(G$9:G$1000)","v":0},4145533,2853367.9899999998,0,{"$f":"SUM(K$9:K$1000)","v":4145533},0,3910695.5,0,3910695.5,{"$f":"IF(G4<>0, IF(L4/G4*100=0, \"-\", L4/G4*100), \" \")","v":" "},{"$f":"IF(OR(I4<>0,H4<>0), IF(M4/MAX(H4,I4)*100=0, \"-\", M4/MAX(H4,I4)*100), \" \")","v":94.335167516456877},{"$f":"IF(J4<>0, IF(N4/J4*100=0, \"-\", N4/J4*100), \" \")","v":" "},{"$f":"IF(K4<>0, IF(O4/K4*100=0, \"-\", O4/K4*100), \" \")","v":94.335167516456877}]
[]
[null,null,null,"PC implemented","Medicine","Date","Population targeted for T1",null,null,null,null,"Population treated",null,null,null,"Programme coverage (%)"]
["Country","Province/State","District",null,null,null,"PreSAC (ALB)","SAC (ALB)","SAC (PZQ)","Adults (PZQ)","Total","PreSAC","SAC","Adults","Total","PreSAC","SAC","Adults","Total"]
[]
[{"$f":"IF(COUNTRY_INFO!A9=0,\" \",COUNTRY_INFO!A9)","v":"Mozambique"},{"$f":"IF(COUNTRY_INFO!B9=0,\" \",COUNTRY_INFO!B9)","v":"Cabo Delgado"},{"$f":"IF(COUNTRY_INFO!C9=0,\" \",COUNTRY_INFO!C9)","v":"Cid. Pemba"},{"$f":"IF(OR(COUNTRY_INFO!$T$9:$T$1000=\"T1 (PZQ+ALB/MBD)\",COUNTRY_INFO!$U$9:$U$1000=\"T1 (PZQ+ALB/MBD)\"), \"T1 (PZQ+ALB/MBD)\", \" \")","v":" "},null,null,null,null,null,null,{"$f":"MAX(H9:I9)+G9+J9","v":0},null,null,null,{"$f":"SUM(L9:N9)","v":0},{"$f":"IF(G9<>0, IF(L9/G9*100=0, \"-\", L9/G9*100), \" \")","v":" "},{"$f":"IF(OR(I9<>0,H9<>0), IF(M9/MAX(H9,I9)*100=0, \"-\", M9/MAX(H9,I9)*100), \" \")","v":" "},{"$f":"IF(J9<>0, IF(N9/J9*100=0, \"-\", N9/J9*100), \" \")","v":" "}," "]
[{"$f":"IF(COUNTRY_INFO!A10=0,\" \",COUNTRY_INFO!A10)","v":"Mozambique"},{"$f":"IF(COUNTRY_INFO!B10=0,\" \",COUNTRY_INFO!B10)","v":"Cabo Delgado"},{"$f":"IF(COUNTRY_INFO!C10=0,\" \",COUNTRY_INFO!C10)","v":"Ancuabe"},{"$f":"IF(OR(COUNTRY_INFO!$T$9:$T$1000=\"T1 (PZQ+ALB/MBD)\",COUNTRY_INFO!$U$9:$U$1000=\"T1 (PZQ+ALB/MBD)\"), \"T1 (PZQ+ALB/MBD)\", \" \")","v":" "},null,null,null,null,null,null,{"$f":"MAX(H10:I10)+G10+J10","v":0},null,null,null,{"$f":"SUM(L10:N10)","v":0},{"$f":"IF(G10<>0, IF(L10/G10*100=0, \"-\", L10/G10*100), \" \")","v":" "},{"$f":"IF(OR(I10<>0,H10<>0), IF(M10/MAX(H10,I10)*100=0, \"-\", M10/MAX(H10,I10)*100), \" \")","v":" "},{"$f":"IF(J10<>0, IF(N10/J10*100=0, \"-\", N10/J10*100), \" \")","v":" "},{"$f":"IF(K10<>0, IF(O10/K10*100=0, \"-\", O10/K10*100), \" \")","v":" "}]
[{"$f":"IF(COUNTRY_INFO!A11=0,\" \",COUNTRY_INFO!A11)","v":"Mozambique"},{"$f":"IF(COUNTRY_INFO!B11=0,\" \",COUNTRY_INFO!B11)","v":"Cabo Delgado"},{"$f":"IF(COUNTRY_INFO!C11=0,\" \",COUNTRY_INFO!C11)","v":"Balama"},{"$f":"IF(OR(COUNTRY_INFO!$T$9:$T$1000=\"T1 (PZQ+ALB/MBD)\",COUNTRY_INFO!$U$9:$U$1000=\"T1 (PZQ+ALB/MBD)\"), \"T1 (PZQ+ALB/MBD)\", \" \")","v":" "},null,null,null,null,null,null,0,null,null,null,0," "," "," "," "]
[{"$f":"IF(COUNTRY_INFO!A12=0,\" \",COUNTRY_INFO!A12)","v":"Mozambique"},{"$f":"IF(COUNTRY_INFO!B12=0,\" \",COUNTRY_INFO!B12)","v":"Cabo Delgado"},{"$f":"IF(COUNTRY_INFO!C12=0,\" \",COUNTRY_INFO!C12)","v":"Chiure"},{"$f":"IF(OR(COUNTRY_INFO!$T$9:$T$1000=\"T1 (PZQ+ALB/MBD)\",COUNTRY_INFO!$U$9:$U$1000=\"T1 (PZQ+ALB/MBD)\"), \"T1 (PZQ+ALB/MBD)\", \" \")","v":" "},null,null,null,null,null,null,0,null,null,null,0," "," "," "," "]
[{"$f":"IF(COUNTRY_INFO!A13=0,\" \",COUNTRY_INFO!A13)","v":"Mozambique"},{"$f":"IF(COUNTRY_INFO!B13=0,\" \",COUNTRY_INFO!B13)","v":"Cabo Delgado"},{"$f":"IF(COUNTRY_INFO!C13=0,\" \",COUNTRY_INFO!C13)","v":"Ibo"},{"$f":"IF(OR(COUNTRY_INFO!$T$9:$T$1000=\"T1 (PZQ+ALB/MBD)\",COUNTRY_INFO!$U$9:$U$1000=\"T1 (PZQ+ALB/MBD)\"), \"T1 (PZQ+ALB/MBD)\", \" \")","v":" "},null,null,null,null,null,null,0,null,null,null,0," "," "," "," "]
[{"$f":"IF(COUNTRY_INFO!A14=0,\" \",COUNTRY_INFO!A14)","v":"Mozambique"},{"$f":"IF(COUNTRY_INFO!B14=0,\" \",COUNTRY_INFO!B14)","v":"Cabo Delgado"},{"$f":"IF(COUNTRY_INFO!C14=0,\" \",COUNTRY_INFO!C14)","v":"Macomia"},{"$f":"IF(OR(COUNTRY_INFO!$T$9:$T$1000=\"T1 (PZQ+ALB/MBD)\",COUNTRY_INFO!$U$9:$U$1000=\"T1 (PZQ+ALB/MBD)\"), \"T1 (PZQ+ALB/MBD)\", \" \")","v":" "},null,null,null,null,null,null,0,null,null,null,0," "," "," "," "]
[{"$f":"IF(COUNTRY_INFO!A15=0,\" \",COUNTRY_INFO!A15)","v":"Mozambique"},{"$f":"IF(COUNTRY_INFO!B15=0,\" \",COUNTRY_INFO!B15)","v":"Cabo Delgado"},{"$f":"IF(COUNTRY_INFO!C15=0,\" \",COUNTRY_INFO!C15)","v":"Mecufi"},{"$f":"IF(OR(COUNTRY_INFO!$T$9:$T$1000=\"T1 (PZQ+ALB/MBD)\",COUNTRY_INFO!$U$9:$U$1000=\"T1 (PZQ+ALB/MBD)\"), \"T1 (PZQ+ALB/MBD)\", \" \")","v":" "},null,null,null,null,null,null,0,null,null,null,0," "," "," "," "]
[{"$f":"IF(COUNTRY_INFO!A16=0,\" \",COUNTRY_INFO!A16)","v":"Mozambique"},{"$f":"IF(COUNTRY_INFO!B16=0,\" \",COUNTRY_INFO!B16)","v":"Cabo Delgado"},{"$f":"IF(COUNTRY_INFO!C16=0,\" \",COUNTRY_INFO!C16)","v":"Meluco"},{"$f":"IF(OR(COUNTRY_INFO!$T$9:$T$1000=\"T1 (PZQ+ALB/MBD)\",COUNTRY_INFO!$U$9:$U$1000=\"T1 (PZQ+ALB/MBD)\"), \"T1 (PZQ+ALB/MBD)\", \" \")","v":" "},null,null,null,null,null,null,0,null,null,null,0," "," "," "," "]
[{"$f":"IF(COUNTRY_INFO!A17=0,\" \",COUNTRY_INFO!A17)","v":"Mozambique"},{"$f":"IF(COUNTRY_INFO!B17=0,\" \",COUNTRY_INFO!B17)","v":"Cabo Delgado"},{"$f":"IF(COUNTRY_INFO!C17=0,\" \",COUNTRY_INFO!C17)","v":"Moc Praia"},{"$f":"IF(OR(COUNTRY_INFO!$T$9:$T$1000=\"T1 (PZQ+ALB/MBD)\",COUNTRY_INFO!$U$9:$U$1000=\"T1 (PZQ+ALB/MBD)\"), \"T1 (PZQ+ALB/MBD)\", \" \")","v":" "},null,null,null,null,null,null,0,null,null,null,0," "," "," "," "]
[{"$f":"IF(COUNTRY_INFO!A18=0,\" \",COUNTRY_INFO!A18)","v":"Mozambique"},{"$f":"IF(COUNTRY_INFO!B18=0,\" \",COUNTRY_INFO!B18)","v":"Cabo Delgado"},{"$f":"IF(COUNTRY_INFO!C18=0,\" \",COUNTRY_INFO!C18)","v":"Montepuez"},{"$f":"IF(OR(COUNTRY_INFO!$T$9:$T$1000=\"T1 (PZQ+ALB/MBD)\",COUNTRY_INFO!$U$9:$U$1000=\"T1 (PZQ+ALB/MBD)\"), \"T1 (PZQ+ALB/MBD)\", \" \")","v":" "},null,null,null,null,null,null,0,null,null,null,0," "," "," "," "]
[{"$f":"IF(COUNTRY_INFO!A19=0,\" \",COUNTRY_INFO!A19)","v":"Mozambique"},{"$f":"IF(COUNTRY_INFO!B19=0,\" \",COUNTRY_INFO!B19)","v":"Cabo Delgado"},{"$f":"IF(COUNTRY_INFO!C19=0,\" \",COUNTRY_INFO!C19)","v":"Mueda"},{"$f":"IF(OR(COUNTRY_INFO!$T$9:$T$1000=\"T1 (PZQ+ALB/MBD)\",COUNTRY_INFO!$U$9:$U$1000=\"T1 (PZQ+ALB/MBD)\"), \"T1 (PZQ+ALB/MBD)\", \" \")","v":" "},null,null,null,null,null,null,0,null,null,null,0," "," "," "," "]
[{"$f":"IF(COUNTRY_INFO!A20=0,\" \",COUNTRY_INFO!A20)","v":"Mozambique"},{"$f":"IF(COUNTRY_INFO!B20=0,\" \",COUNTRY_INFO!B20)","v":"Cabo Delgado"},{"$f":"IF(COUNTRY_INFO!C20=0,\" \",COUNTRY_INFO!C20)","v":"Muidumbe"},{"$f":"IF(OR(COUNTRY_INFO!$T$9:$T$1000=\"T1 (PZQ+ALB/MBD)\",COUNTRY_INFO!$U$9:$U$1000=\"T1 (PZQ+ALB/MBD)\"), \"T1 (PZQ+ALB/MBD)\", \" \")","v":" "},null,null,null,null,null,null,0,null,null,null,0," "," "," "," "]
[{"$f":"IF(COUNTRY_INFO!A21=0,\" \",COUNTRY_INFO!A21)","v":"Mozambique"},{"$f":"IF(COUNTRY_INFO!B21=0,\" \",COUNTRY_INFO!B21)","v":"Cabo Delgado"},{"$f":"IF(COUNTRY_INFO!C21=0,\" \",COUNTRY_INFO!C21)","v":"Namuno"},{"$f":"IF(OR(COUNTRY_INFO!$T$9:$T$1000=\"T1 (PZQ+ALB/MBD)\",COUNTRY_INFO!$U$9:$U$1000=\"T1 (PZQ+ALB/MBD)\"), \"T1 (PZQ+ALB/MBD)\", \" \")","v":" "},null,null,null,null,null,null,0,null,null,null,0," "," "," "," "]
[{"$f":"IF(COUNTRY_INFO!A22=0,\" \",COUNTRY_INFO!A22)","v":"Mozambique"},{"$f":"IF(COUNTRY_INFO!B22=0,\" \",COUNTRY_INFO!B22)","v":"Cabo Delgado"},{"$f":"IF(COUNTRY_INFO!C22=0,\" \",COUNTRY_INFO!C22)","v":"Nangade"},{"$f":"IF(OR(COUNTRY_INFO!$T$9:$T$1000=\"T1 (PZQ+ALB/MBD)\",COUNTRY_INFO!$U$9:$U$1000=\"T1 (PZQ+ALB/MBD)\"), \"T1 (PZQ+ALB/MBD)\", \" \")","v":" "},null,null,null,null,null,null,0,null,null,null,0," "," "," "," "]
[{"$f":"IF(COUNTRY_INFO!A23=0,\" \",COUNTRY_INFO!A23)","v":"Mozambique"},{"$f":"IF(COUNTRY_INFO!B23=0,\" \",COUNTRY_INFO!B23)","v":"Cabo Delgado"},{"$f":"IF(COUNTRY_INFO!C23=0,\" \",COUNTRY_INFO!C23)","v":"Palma"},{"$f":"IF(OR(COUNTRY_INFO!$T$9:$T$1000=\"T1 (PZQ+ALB/MBD)\",COUNTRY_INFO!$U$9:$U$1000=\"T1 (PZQ+ALB/MBD)\"), \"T1 (PZQ+ALB/MBD)\", \" \")","v":" "},null,null,null,null,null,null,0,null,null,null,0," "," "," "," "]
[{"$f":"IF(COUNTRY_INFO!A24=0,\" \",COUNTRY_INFO!A24)","v":"Mozambique"},{"$f":"IF(COUNTRY_INFO!B24=0,\" \",COUNTRY_INFO!B24)","v":"Cabo Delgado"},{"$f":"IF(COUNTRY_INFO!C24=0,\" \",COUNTRY_INFO!C24)","v":"Pemba Metuge"},{"$f":"IF(OR(COUNTRY_INFO!$T$9:$T$1000=\"T1 (PZQ+ALB/MBD)\",COUNTRY_INFO!$U$9:$U$1000=\"T1 (PZQ+ALB/MBD)\"), \"T1 (PZQ+ALB/MBD)\", \" \")","v":" "},null,null,null,null,null,null,0,null,null,null,0," "," "," "," "]
[{"$f":"IF(COUNTRY_INFO!A25=0,\" \",COUNTRY_INFO!A25)","v":"Mozambique"},{"$f":"IF(COUNTRY_INFO!B25=0,\" \",COUNTRY_INFO!B25)","v":"Cabo Delgado"},{"$f":"IF(COUNTRY_INFO!C25=0,\" \",COUNTRY_INFO!C25)","v":"Quissanga"},{"$f":"IF(OR(COUNTRY_INFO!$T$9:$T$1000=\"T1 (PZQ+ALB/MBD)\",COUNTRY_INFO!$U$9:$U$1000=\"T1 (PZQ+ALB/MBD)\"), \"T1 (PZQ+ALB/MBD)\", \" \")","v":" "},null,null,null,null,null,null,0,null,null,null,0," "," "," "," "]
[{"$f":"IF(COUNTRY_INFO!A26=0,\" \",COUNTRY_INFO!A26)","v":"Mozambique"},{"$f":"IF(COUNTRY_INFO!B26=0,\" \",COUNTRY_INFO!B26)","v":"Niassa"},{"$f":"IF(COUNTRY_INFO!C26=0,\" \",COUNTRY_INFO!C26)","v":"Cidade de Lichinga"},{"$f":"IF(OR(COUNTRY_INFO!$T$9:$T$1000=\"T1 (PZQ+ALB/MBD)\",COUNTRY_INFO!$U$9:$U$1000=\"T1 (PZQ+ALB/MBD)\"), \"T1 (PZQ+ALB/MBD)\", \" \")","v":"T1 (PZQ+ALB/MBD)"},null,"March 2019",null,72044,36022,null,72044,null,67640,null,67640," ",93.88706901338071," ",93.88706901338071]
[{"$f":"IF(COUNTRY_INFO!A27=0,\" \",COUNTRY_INFO!A27)","v":"Mozambique"},{"$f":"IF(COUNTRY_INFO!B27=0,\" \",COUNTRY_INFO!B27)","v":"Niassa"},{"$f":"IF(COUNTRY_INFO!C27=0,\" \",COUNTRY_INFO!C27)","v":"Cuamba"},{"$f":"IF(OR(COUNTRY_INFO!$T$9:$T$1000=\"T1 (PZQ+ALB/MBD)\",COUNTRY_INFO!$U$9:$U$1000=\"T1 (PZQ+ALB/MBD)\"), \"T1 (PZQ+ALB/MBD)\", \" \")","v":" "},null,null,null,null,null,null,0,null,null,null,0," "," "," "," "]
[{"$f":"IF(COUNTRY_INFO!A28=0,\" \",COUNTRY_INFO!A28)","v":"Mozambique"},{"$f":"IF(COUNTRY_INFO!B28=0,\" \",COUNTRY_INFO!B28)","v":"Niassa"},{"$f":"IF(COUNTRY_INFO!C28=0,\" \",COUNTRY_INFO!C28)","v":"Chimbonila"},{"$f":"IF(OR(COUNTRY_INFO!$T$9:$T$1000=\"T1 (PZQ+ALB/MBD)\",COUNTRY_INFO!$U$9:$U$1000=\"T1 (PZQ+ALB/MBD)\"), \"T1 (PZQ+ALB/MBD)\", \" \")","v":"T1 (PZQ+ALB/MBD)"},"PZQ+ALB","March 2019",null,35385,17692.5,null,35385,null,29444,null,29444," ",83.210399886957759," ",83.210399886957759]
[{"$f":"IF(COUNTRY_INFO!A29=0,\" \",COUNTRY_INFO!A29)","v":"Mozambique"},{"$f":"IF(COUNTRY_INFO!B29=0,\" \",COUNTRY_INFO!B29)","v":"Niassa"},{"$f":"IF(COUNTRY_INFO!C29=0,\" \",COUNTRY_INFO!C29)","v":"Lago"},{"$f":"IF(OR(COUNTRY_INFO!$T$9:$T$1000=\"T1 (PZQ+ALB/MBD)\",COUNTRY_INFO!$U$9:$U$1000=\"T1 (PZQ+ALB/MBD)\"), \"T1 (PZQ+ALB/MBD)\", \" \")","v":"T1 (PZQ+ALB/MBD)"},"PZQ+ALB","March 2019",null,38565,19282.5,null,38565,null,34988,null,34988," ",90.724750421366522," ",90.724750421366522]
[{"$f":"IF(COUNTRY_INFO!A30=0,\" \",COUNTRY_INFO!A30)","v":"Mozambique"},{"$f":"IF(COUNTRY_INFO!B30=0,\" \",COUNTRY_INFO!B30)","v":"Niassa"},{"$f":"IF(COUNTRY_INFO!C30=0,\" \",COUNTRY_INFO!C30)","v":"Majune"},{"$f":"IF(OR(COUNTRY_INFO!$T$9:$T$1000=\"T1 (PZQ+ALB/MBD)\",COUNTRY_INFO!$U$9:$U$1000=\"T1 (PZQ+ALB/MBD)\"), \"T1 (PZQ+ALB/MBD)\", \" \")","v":"T1 (PZQ+ALB/MBD)"},"PZQ+ALB","March 2019",null,11818,11818,null,11818,null,10317,null,10317," ",87.299035369774927," ",87.299035369774927]
[{"$f":"IF(COUNTRY_INFO!A31=0,\" \",COUNTRY_INFO!A31)","v":"Mozambique"},{"$f":"IF(COUNTRY_INFO!B31=0,\" \",COUNTRY_INFO!B31)","v":"Niassa"},{"$f":"IF(COUNTRY_INFO!C31=0,\" \",COUNTRY_INFO!C31)","v":"Mandimba"},{"$f":"IF(OR(COUNTRY_INFO!$T$9:$T$1000=\"T1 (PZQ+ALB/MBD)\",COUNTRY_INFO!$U$9:$U$1000=\"T1 (PZQ+ALB/MBD)\"), \"T1 (PZQ+ALB/MBD)\", \" \")","v":"T1 (PZQ+ALB/MBD)"},"PZQ+ALB","March 2019",null,57879,57879,null,57879,null,50429,null,50429," ",87.128319425007334," ",87.128319425007334]
[{"$f":"IF(COUNTRY_INFO!A32=0,\" \",COUNTRY_INFO!A32)","v":"Mozambique"},{"$f":"IF(COUNTRY_INFO!B32=0,\" \",COUNTRY_INFO!B32)","v":"Niassa"},{"$f":"IF(COUNTRY_INFO!C32=0,\" \",COUNTRY_INFO!C32)","v":"Marrupa"},{"$f":"IF(OR(COUNTRY_INFO!$T$9:$T$1000=\"T1 (PZQ+ALB/MBD)\",COUNTRY_INFO!$U$9:$U$1000=\"T1 (PZQ+ALB/MBD)\"), \"T1 (PZQ+ALB/MBD)\", \" \")","v":"T1 (PZQ+ALB/MBD)"},"PZQ+ALB","March 2019",null,21186,21186,null,21186,null,20579,null,20579," ",97.134900405928448," ",97.134900405928448]
[{"$f":"IF(COUNTRY_INFO!A33=0,\" \",COUNTRY_INFO!A33)","v":"Mozambique"},{"$f":"IF(COUNTRY_INFO!B33=0,\" \",COUNTRY_INFO!B33)","v":"Niassa"},{"$f":"IF(COUNTRY_INFO!C33=0,\" \",COUNTRY_INFO!C33)","v":"Maúa"},{"$f":"IF(OR(COUNTRY_INFO!$T$9:$T$1000=\"T1 (PZQ+ALB/MBD)\",COUNTRY_INFO!$U$9:$U$1000=\"T1 (PZQ+ALB/MBD)\"), \"T1 (PZQ+ALB/MBD)\", \" \")","v":"T1 (PZQ+ALB/MBD)"},"PZQ+ALB","March 2019",null,19205,19205,null,19205,null,17600,null,17600," ",91.642801353814107," ",91.642801353814107]
[{"$f":"IF(COUNTRY_INFO!A34=0,\" \",COUNTRY_INFO!A34)","v":"Mozambique"},{"$f":"IF(COUNTRY_INFO!B34=0,\" \",COUNTRY_INFO!B34)","v":"Niassa"},{"$f":"IF(COUNTRY_INFO!C34=0,\" \",COUNTRY_INFO!C34)","v":"Mavago"},{"$f":"IF(OR(COUNTRY_INFO!$T$9:$T$1000=\"T1 (PZQ+ALB/MBD)\",COUNTRY_INFO!$U$9:$U$1000=\"T1 (PZQ+ALB/MBD)\"), \"T1 (PZQ+ALB/MBD)\", \" \")","v":"T1 (PZQ+ALB/MBD)"},"PZQ+ALB","March 2019",null,8889,8889,null,8889,null,8878,null,8878," ",99.87625154685567," ",99.87625154685567]
[{"$f":"IF(COUNTRY_INFO!A35=0,\" \",COUNTRY_INFO!A35)","v":"Mozambique"},{"$f":"IF(COUNTRY_INFO!B35=0,\" \",COUNTRY_INFO!B35)","v":"Niassa"},{"$f":"IF(COUNTRY_INFO!C35=0,\" \",COUNTRY_INFO!C35)","v":"Mecanhelas"},{"$f":"IF(OR(COUNTRY_INFO!$T$9:$T$1000=\"T1 (PZQ+ALB/MBD)\",COUNTRY_INFO!$U$9:$U$1000=\"T1 (PZQ+ALB/MBD)\"), \"T1 (PZQ+ALB/MBD)\", \" \")","v":" "},null,null,null,null,null,null,0,null,null,null,0," "," "," "," "]
[{"$f":"IF(COUNTRY_INFO!A36=0,\" \",COUNTRY_INFO!A36)","v":"Mozambique"},{"$f":"IF(COUNTRY_INFO!B36=0,\" \",COUNTRY_INFO!B36)","v":"Niassa"},{"$f":"IF(COUNTRY_INFO!C36=0,\" \",COUNTRY_INFO!C36)","v":"Mecula"},{"$f":"IF(OR(COUNTRY_INFO!$T$9:$T$1000=\"T1 (PZQ+ALB/MBD)\",COUNTRY_INFO!$U$9:$U$1000=\"T1 (PZQ+ALB/MBD)\"), \"T1 (PZQ+ALB/MBD)\", \" \")","v":"T1 (PZQ+ALB/MBD)"},"PZQ+ALB","March 2019",null,5344,5344,null,5344,null,5009,null,5009," ",93.731287425149702," ",93.731287425149702]
[{"$f":"IF(COUNTRY_INFO!A37=0,\" \",COUNTRY_INFO!A37)","v":"Mozambique"},{"$f":"IF(COUNTRY_INFO!B37=0,\" \",COUNTRY_INFO!B37)","v":"Niassa"},{"$f":"IF(COUNTRY_INFO!C37=0,\" \",COUNTRY_INFO!C37)","v":"Metarica"},{"$f":"IF(OR(COUNTRY_INFO!$T$9:$T$1000=\"T1 (PZQ+ALB/MBD)\",COUNTRY_INFO!$U$9:$U$1000=\"T1 (PZQ+ALB/MBD)\"), \"T1 (PZQ+ALB/MBD)\", \" \")","v":" "},null,null,null,null,null,null,0,null,null,null,0," "," "," "," "]
[{"$f":"IF(COUNTRY_INFO!A38=0,\" \",COUNTRY_INFO!A38)","v":"Mozambique"},{"$f":"IF(COUNTRY_INFO!B38=0,\" \",COUNTRY_INFO!B38)","v":"Niassa"},{"$f":"IF(COUNTRY_INFO!C38=0,\" \",COUNTRY_INFO!C38)","v":"Muembe"},{"$f":"IF(OR(COUNTRY_INFO!$T$9:$T$1000=\"T1 (PZQ+ALB/MBD)\",COUNTRY_INFO!$U$9:$U$1000=\"T1 (PZQ+ALB/MBD)\"), \"T1 (PZQ+ALB/MBD)\", \" \")","v":"T1 (PZQ+ALB/MBD)"},"PZQ+ALB","March 2019",null,11745,5872.5,null,11745,null,11341,null,11341," ",96.560238399318848," ",96.560238399318848]
[{"$f":"IF(COUNTRY_INFO!A39=0,\" \",COUNTRY_INFO!A39)","v":"Mozambique"},{"$f":"IF(COUNTRY_INFO!B39=0,\" \",COUNTRY_INFO!B39)","v":"Niassa"},{"$f":"IF(COUNTRY_INFO!C39=0,\" \",COUNTRY_INFO!C39)","v":"N'Gaúma"},{"$f":"IF(OR(COUNTRY_INFO!$T$9:$T$1000=\"T1 (PZQ+ALB/MBD)\",COUNTRY_INFO!$U$9:$U$1000=\"T1 (PZQ+ALB/MBD)\"), \"T1 (PZQ+ALB/MBD)\", \" \")","v":"T1 (PZQ+ALB/MBD)"},"PZQ+ALB","March 2019",null,33517,16758.5,null,33517,null,32556,null,32556," ",97.132798281469107," ",97.132798281469107]
[{"$f":"IF(COUNTRY_INFO!A40=0,\" \",COUNTRY_INFO!A40)","v":"Mozambique"},{"$f":"IF(COUNTRY_INFO!B40=0,\" \",COUNTRY_INFO!B40)","v":"Niassa"},{"$f":"IF(COUNTRY_INFO!C40=0,\" \",COUNTRY_INFO!C40)","v":"Nipepe"},{"$f":"IF(OR(COUNTRY_INFO!$T$9:$T$1000=\"T1 (PZQ+ALB/MBD)\",COUNTRY_INFO!$U$9:$U$1000=\"T1 (PZQ+ALB/MBD)\"), \"T1 (PZQ+ALB/MBD)\", \" \")","v":" "},null,null,null,null,null,null,0,null,null,null,0," "," "," "," "]
[{"$f":"IF(COUNTRY_INFO!A41=0,\" \",COUNTRY_INFO!A41)","v":"Mozambique"},{"$f":"IF(COUNTRY_INFO!B41=0,\" \",COUNTRY_INFO!B41)","v":"Niassa"},{"$f":"IF(COUNTRY_INFO!C41=0,\" \",COUNTRY_INFO!C41)","v":"Sanga"},{"$f":"IF(OR(COUNTRY_INFO!$T$9:$T$1000=\"T1 (PZQ+ALB/MBD)\",COUNTRY_INFO!$U$9:$U$1000=\"T1 (PZQ+ALB/MBD)\"), \"T1 (PZQ+ALB/MBD)\", \" \")","v":"T1 (PZQ+ALB/MBD)"},"PZQ+ALB","March 2019",null,21918,21918,null,21918,null,18070,null,18070," ",82.443653618030837," ",82.443653618030837]
[{"$f":"IF(COUNTRY_INFO!A42=0,\" \",COUNTRY_INFO!A42)","v":"Mozambique"},{"$f":"IF(COUNTRY_INFO!B42=0,\" \",COUNTRY_INFO!B42)","v":"Nampula"},{"$f":"IF(COUNTRY_INFO!C42=0,\" \",COUNTRY_INFO!C42)","v":"Cid. Nampula"},{"$f":"IF(OR(COUNTRY_INFO!$T$9:$T$1000=\"T1 (PZQ+ALB/MBD)\",COUNTRY_INFO!$U$9:$U$1000=\"T1 (PZQ+ALB/MBD)\"), \"T1 (PZQ+ALB/MBD)\", \" \")","v":"T1 (PZQ+ALB/MBD)"},"PZQ+ALB","November 2019",null,212253,212253,null,212253,null,171493,null,171493," ",80.796502287364603," ",80.796502287364603]
[{"$f":"IF(COUNTRY_INFO!A43=0,\" \",COUNTRY_INFO!A43)","v":"Mozambique"},{"$f":"IF(COUNTRY_INFO!B43=0,\" \",COUNTRY_INFO!B43)","v":"Nampula"},{"$f":"IF(COUNTRY_INFO!C43=0,\" \",COUNTRY_INFO!C43)","v":"Angoche"},{"$f":"IF(OR(COUNTRY_INFO!$T$9:$T$1000=\"T1 (PZQ+ALB/MBD)\",COUNTRY_INFO!$U$9:$U$1000=\"T1 (PZQ+ALB/MBD)\"), \"T1 (PZQ+ALB/MBD)\", \" \")","v":"T1 (PZQ+ALB/MBD)"},"PZQ+ALB","November 2019",null,97074,97074,null,97074,null,78708,null,78708," ",81.080412880894997," ",81.080412880894997]
[{"$f":"IF(COUNTRY_INFO!A44=0,\" \",COUNTRY_INFO!A44)","v":"Mozambique"},{"$f":"IF(COUNTRY_INFO!B44=0,\" \",COUNTRY_INFO!B44)","v":"Nampula"},{"$f":"IF(COUNTRY_INFO!C44=0,\" \",COUNTRY_INFO!C44)","v":"Erati"},{"$f":"IF(OR(COUNTRY_INFO!$T$9:$T$1000=\"T1 (PZQ+ALB/MBD)\",COUNTRY_INFO!$U$9:$U$1000=\"T1 (PZQ+ALB/MBD)\"), \"T1 (PZQ+ALB/MBD)\", \" \")","v":"T1 (PZQ+ALB/MBD)"},"PZQ+ALB","November 2019",null,94246,94246,null,94246,null,71299,null,71299," ",75.652017061732053," ",75.652017061732053]
[{"$f":"IF(COUNTRY_INFO!A45=0,\" \",COUNTRY_INFO!A45)","v":"Mozambique"},{"$f":"IF(COUNTRY_INFO!B45=0,\" \",COUNTRY_INFO!B45)","v":"Nampula"},{"$f":"IF(COUNTRY_INFO!C45=0,\" \",COUNTRY_INFO!C45)","v":"Ilha Moc."},{"$f":"IF(OR(COUNTRY_INFO!$T$9:$T$1000=\"T1 (PZQ+ALB/MBD)\",COUNTRY_INFO!$U$9:$U$1000=\"T1 (PZQ+ALB/MBD)\"), \"T1 (PZQ+ALB/MBD)\", \" \")","v":" "},null,null,null,null,null,null,0,null,null,null,0," "," "," "," "]
[{"$f":"IF(COUNTRY_INFO!A46=0,\" \",COUNTRY_INFO!A46)","v":"Mozambique"},{"$f":"IF(COUNTRY_INFO!B46=0,\" \",COUNTRY_INFO!B46)","v":"Nampula"},{"$f":"IF(COUNTRY_INFO!C46=0,\" \",COUNTRY_INFO!C46)","v":"Lalaua"},{"$f":"IF(OR(COUNTRY_INFO!$T$9:$T$1000=\"T1 (PZQ+ALB/MBD)\",COUNTRY_INFO!$U$9:$U$1000=\"T1 (PZQ+ALB/MBD)\"), \"T1 (PZQ+ALB/MBD)\", \" \")","v":" "},"PZQ+ALB",null,null,null,null,null,0,null,null,null,0," "," "," "," "]
[{"$f":"IF(COUNTRY_INFO!A47=0,\" \",COUNTRY_INFO!A47)","v":"Mozambique"},{"$f":"IF(COUNTRY_INFO!B47=0,\" \",COUNTRY_INFO!B47)","v":"Nampula"},{"$f":"IF(COUNTRY_INFO!C47=0,\" \",COUNTRY_INFO!C47)","v":"Larde"},{"$f":"IF(OR(COUNTRY_INFO!$T$9:$T$1000=\"T1 (PZQ+ALB/MBD)\",COUNTRY_INFO!$U$9:$U$1000=\"T1 (PZQ+ALB/MBD)\"), \"T1 (PZQ+ALB/MBD)\", \" \")","v":"T1 (PZQ+ALB/MBD)"},"PZQ+ALB","November 2019",null,26711,26711,null,26711,null,23671,null,23671," ",88.618921043764743," ",88.618921043764743]
[{"$f":"IF(COUNTRY_INFO!A48=0,\" \",COUNTRY_INFO!A48)","v":"Mozambique"},{"$f":"IF(COUNTRY_INFO!B48=0,\" \",COUNTRY_INFO!B48)","v":"Nampula"},{"$f":"IF(COUNTRY_INFO!C48=0,\" \",COUNTRY_INFO!C48)","v":"Liupo"},{"$f":"IF(OR(COUNTRY_INFO!$T$9:$T$1000=\"T1 (PZQ+ALB/MBD)\",COUNTRY_INFO!$U$9:$U$1000=\"T1 (PZQ+ALB/MBD)\"), \"T1 (PZQ+ALB/MBD)\", \" \")","v":"T1 (PZQ+ALB/MBD)"},"PZQ+ALB","November 2019",null,24741,24741,null,24741,null,20543,null,20543," ",83.032213734287225," ",83.032213734287225]
[{"$f":"IF(COUNTRY_INFO!A49=0,\" \",COUNTRY_INFO!A49)","v":"Mozambique"},{"$f":"IF(COUNTRY_INFO!B49=0,\" \",COUNTRY_INFO!B49)","v":"Nampula"},{"$f":"IF(COUNTRY_INFO!C49=0,\" \",COUNTRY_INFO!C49)","v":"Malema"},{"$f":"IF(OR(COUNTRY_INFO!$T$9:$T$1000=\"T1 (PZQ+ALB/MBD)\",COUNTRY_INFO!$U$9:$U$1000=\"T1 (PZQ+ALB/MBD)\"), \"T1 (PZQ+ALB/MBD)\", \" \")","v":"T1 (PZQ+ALB/MBD)"},"PZQ+ALB","November 2019",null,57659,57659,null,57659,null,56051,null,56051," ",97.211189926984503," ",97.211189926984503]
[{"$f":"IF(COUNTRY_INFO!A50=0,\" \",COUNTRY_INFO!A50)","v":"Mozambique"},{"$f":"IF(COUNTRY_INFO!B50=0,\" \",COUNTRY_INFO!B50)","v":"Nampula"},{"$f":"IF(COUNTRY_INFO!C50=0,\" \",COUNTRY_INFO!C50)","v":"Meconta"},{"$f":"IF(OR(COUNTRY_INFO!$T$9:$T$1000=\"T1 (PZQ+ALB/MBD)\",COUNTRY_INFO!$U$9:$U$1000=\"T1 (PZQ+ALB/MBD)\"), \"T1 (PZQ+ALB/MBD)\", \" \")","v":"T1 (PZQ+ALB/MBD)"},"PZQ+ALB","November 2019",null,57809,57809,null,57809,null,48249,null,48249," ",83.462782611704057," ",83.462782611704057]
[{"$f":"IF(COUNTRY_INFO!A51=0,\" \",COUNTRY_INFO!A51)","v":"Mozambique"},{"$f":"IF(COUNTRY_INFO!B51=0,\" \",COUNTRY_INFO!B51)","v":"Nampula"},{"$f":"IF(COUNTRY_INFO!C51=0,\" \",COUNTRY_INFO!C51)","v":"Mecuburi"},{"$f":"IF(OR(COUNTRY_INFO!$T$9:$T$1000=\"T1 (PZQ+ALB/MBD)\",COUNTRY_INFO!$U$9:$U$1000=\"T1 (PZQ+ALB/MBD)\"), \"T1 (PZQ+ALB/MBD)\", \" \")","v":"T1 (PZQ+ALB/MBD)"},"PZQ+ALB","November 2019",null,54670,54670,null,54670,null,44162,null,44162," ",80.779220779220779," ",80.779220779220779]
[{"$f":"IF(COUNTRY_INFO!A52=0,\" \",COUNTRY_INFO!A52)","v":"Mozambique"},{"$f":"IF(COUNTRY_INFO!B52=0,\" \",COUNTRY_INFO!B52)","v":"Nampula"},{"$f":"IF(COUNTRY_INFO!C52=0,\" \",COUNTRY_INFO!C52)","v":"Memba"},{"$f":"IF(OR(COUNTRY_INFO!$T$9:$T$1000=\"T1 (PZQ+ALB/MBD)\",COUNTRY_INFO!$U$9:$U$1000=\"T1 (PZQ+ALB/MBD)\"), \"T1 (PZQ+ALB/MBD)\", \" \")","v":"T1 (PZQ+ALB/MBD)"},"PZQ+ALB","November 2019",null,76835,76835,null,76835,null,63362,null,63362," ",82.465022450706059," ",82.465022450706059]
[{"$f":"IF(COUNTRY_INFO!A53=0,\" \",COUNTRY_INFO!A53)","v":"Mozambique"},{"$f":"IF(COUNTRY_INFO!B53=0,\" \",COUNTRY_INFO!B53)","v":"Nampula"},{"$f":"IF(COUNTRY_INFO!C53=0,\" \",COUNTRY_INFO!C53)","v":"Mogincual"},{"$f":"IF(OR(COUNTRY_INFO!$T$9:$T$1000=\"T1 (PZQ+ALB/MBD)\",COUNTRY_INFO!$U$9:$U$1000=\"T1 (PZQ+ALB/MBD)\"), \"T1 (PZQ+ALB/MBD)\", \" \")","v":"T1 (PZQ+ALB/MBD)"},"PZQ+ALB","November 2019",null,25665,25665,null,25665,null,24230,null,24230," ",94.408727839470103," ",94.408727839470103]
[{"$f":"IF(COUNTRY_INFO!A54=0,\" \",COUNTRY_INFO!A54)","v":"Mozambique"},{"$f":"IF(COUNTRY_INFO!B54=0,\" \",COUNTRY_INFO!B54)","v":"Nampula"},{"$f":"IF(COUNTRY_INFO!C54=0,\" \",COUNTRY_INFO!C54)","v":"Mogovolas"},{"$f":"IF(OR(COUNTRY_INFO!$T$9:$T$1000=\"T1 (PZQ+ALB/MBD)\",COUNTRY_INFO!$U$9:$U$1000=\"T1 (PZQ+ALB/MBD)\"), \"T1 (PZQ+ALB/MBD)\", \" \")","v":"T1 (PZQ+ALB/MBD)"},"PZQ+ALB","November 2019",null,155135,155135,null,155135,null,128218,null,128218," ",82.649305443645858," ",82.649305443645858]
[{"$f":"IF(COUNTRY_INFO!A55=0,\" \",COUNTRY_INFO!A55)","v":"Mozambique"},{"$f":"IF(COUNTRY_INFO!B55=0,\" \",COUNTRY_INFO!B55)","v":"Nampula"},{"$f":"IF(COUNTRY_INFO!C55=0,\" \",COUNTRY_INFO!C55)","v":"Moma"},{"$f":"IF(OR(COUNTRY_INFO!$T$9:$T$1000=\"T1 (PZQ+ALB/MBD)\",COUNTRY_INFO!$U$9:$U$1000=\"T1 (PZQ+ALB/MBD)\"), \"T1 (PZQ+ALB/MBD)\", \" \")","v":"T1 (PZQ+ALB/MBD)"},"PZQ+ALB","November 2019",null,93787,93787,null,93787,null,83815,null,83815," ",89.367396334246749," ",89.367396334246749]
[{"$f":"IF(COUNTRY_INFO!A56=0,\" \",COUNTRY_INFO!A56)","v":"Mozambique"},{"$f":"IF(COUNTRY_INFO!B56=0,\" \",COUNTRY_INFO!B56)","v":"Nampula"},{"$f":"IF(COUNTRY_INFO!C56=0,\" \",COUNTRY_INFO!C56)","v":"Monapo"},{"$f":"IF(OR(COUNTRY_INFO!$T$9:$T$1000=\"T1 (PZQ+ALB/MBD)\",COUNTRY_INFO!$U$9:$U$1000=\"T1 (PZQ+ALB/MBD)\"), \"T1 (PZQ+ALB/MBD)\", \" \")","v":"T1 (PZQ+ALB/MBD)"},"PZQ+ALB","November 2019",null,113723,113723,null,113723,null,103915,null,103915," ",91.375535291893456," ",91.375535291893456]
[{"$f":"IF(COUNTRY_INFO!A57=0,\" \",COUNTRY_INFO!A57)","v":"Mozambique"},{"$f":"IF(COUNTRY_INFO!B57=0,\" \",COUNTRY_INFO!B57)","v":"Nampula"},{"$f":"IF(COUNTRY_INFO!C57=0,\" \",COUNTRY_INFO!C57)","v":"Mossuril"},{"$f":"IF(OR(COUNTRY_INFO!$T$9:$T$1000=\"T1 (PZQ+ALB/MBD)\",COUNTRY_INFO!$U$9:$U$1000=\"T1 (PZQ+ALB/MBD)\"), \"T1 (PZQ+ALB/MBD)\", \" \")","v":" "},null,null,null,null,null,null,0,null,null,null,0," "," "," "," "]
[{"$f":"IF(COUNTRY_INFO!A58=0,\" \",COUNTRY_INFO!A58)","v":"Mozambique"},{"$f":"IF(COUNTRY_INFO!B58=0,\" \",COUNTRY_INFO!B58)","v":"Nampula"},{"$f":"IF(COUNTRY_INFO!C58=0,\" \",COUNTRY_INFO!C58)","v":"Muecate"},{"$f":"IF(OR(COUNTRY_INFO!$T$9:$T$1000=\"T1 (PZQ+ALB/MBD)\",COUNTRY_INFO!$U$9:$U$1000=\"T1 (PZQ+ALB/MBD)\"), \"T1 (PZQ+ALB/MBD)\", \" \")","v":"T1 (PZQ+ALB/MBD)"},"PZQ+ALB","November 2019",null,34134,34134,null,34134,null,29052,null,29052," ",85.111618913693093," ",85.111618913693093]
[{"$f":"IF(COUNTRY_INFO!A59=0,\" \",COUNTRY_INFO!A59)","v":"Mozambique"},{"$f":"IF(COUNTRY_INFO!B59=0,\" \",COUNTRY_INFO!B59)","v":"Nampula"},{"$f":"IF(COUNTRY_INFO!C59=0,\" \",COUNTRY_INFO!C59)","v":"Murrupula"},{"$f":"IF(OR(COUNTRY_INFO!$T$9:$T$1000=\"T1 (PZQ+ALB/MBD)\",COUNTRY_INFO!$U$9:$U$1000=\"T1 (PZQ+ALB/MBD)\"), \"T1 (PZQ+ALB/MBD)\", \" \")","v":"T1 (PZQ+ALB/MBD)"},"PZQ+ALB","November 2019",null,52470,52470,null,52470,null,42751,null,42751," ",81.477034495902416," ",81.477034495902416]
[{"$f":"IF(COUNTRY_INFO!A60=0,\" \",COUNTRY_INFO!A60)","v":"Mozambique"},{"$f":"IF(COUNTRY_INFO!B60=0,\" \",COUNTRY_INFO!B60)","v":"Nampula"},{"$f":"IF(COUNTRY_INFO!C60=0,\" \",COUNTRY_INFO!C60)","v":"Nacala Porto"},{"$f":"IF(OR(COUNTRY_INFO!$T$9:$T$1000=\"T1 (PZQ+ALB/MBD)\",COUNTRY_INFO!$U$9:$U$1000=\"T1 (PZQ+ALB/MBD)\"), \"T1 (PZQ+ALB/MBD)\", \" \")","v":" "},null,null,null,null,null,null,0,null,null,null,0," "," "," "," "]
[{"$f":"IF(COUNTRY_INFO!A61=0,\" \",COUNTRY_INFO!A61)","v":"Mozambique"},{"$f":"IF(COUNTRY_INFO!B61=0,\" \",COUNTRY_INFO!B61)","v":"Nampula"},{"$f":"IF(COUNTRY_INFO!C61=0,\" \",COUNTRY_INFO!C61)","v":"Nacala Velha"},{"$f":"IF(OR(COUNTRY_INFO!$T$9:$T$1000=\"T1 (PZQ+ALB/MBD)\",COUNTRY_INFO!$U$9:$U$1000=\"T1 (PZQ+ALB/MBD)\"), \"T1 (PZQ+ALB/MBD)\", \" \")","v":"T1 (PZQ+ALB/MBD)"},"PZQ+ALB","November 2019",null,39043,39043,null,39043,null,33693,null,33693," ",86.297159542043389," ",86.297159542043389]
[{"$f":"IF(COUNTRY_INFO!A62=0,\" \",COUNTRY_INFO!A62)","v":"Mozambique"},{"$f":"IF(COUNTRY_INFO!B62=0,\" \",COUNTRY_INFO!B62)","v":"Nampula"},{"$f":"IF(COUNTRY_INFO!C62=0,\" \",COUNTRY_INFO!C62)","v":"Nacaroa"},{"$f":"IF(OR(COUNTRY_INFO!$T$9:$T$1000=\"T1 (PZQ+ALB/MBD)\",COUNTRY_INFO!$U$9:$U$1000=\"T1 (PZQ+ALB/MBD)\"), \"T1 (PZQ+ALB/MBD)\", \" \")","v":"T1 (PZQ+ALB/MBD)"},"PZQ+ALB","November 2019",null,36888,36888,null,36888,null,35161,null,35161," ",95.318260680980259," ",95.318260680980259]
[{"$f":"IF(COUNTRY_INFO!A63=0,\" \",COUNTRY_INFO!A63)","v":"Mozambique"},{"$f":"IF(COUNTRY_INFO!B63=0,\" \",COUNTRY_INFO!B63)","v":"Nampula"},{"$f":"IF(COUNTRY_INFO!C63=0,\" \",COUNTRY_INFO!C63)","v":"Nampula Dist."},{"$f":"IF(OR(COUNTRY_INFO!$T$9:$T$1000=\"T1 (PZQ+ALB/MBD)\",COUNTRY_INFO!$U$9:$U$1000=\"T1 (PZQ+ALB/MBD)\"), \"T1 (PZQ+ALB/MBD)\", \" \")","v":" "},null,null,null,null,null,null,0,null,null,null,0," "," "," "," "]
[{"$f":"IF(COUNTRY_INFO!A64=0,\" \",COUNTRY_INFO!A64)","v":"Mozambique"},{"$f":"IF(COUNTRY_INFO!B64=0,\" \",COUNTRY_INFO!B64)","v":"Nampula"},{"$f":"IF(COUNTRY_INFO!C64=0,\" \",COUNTRY_INFO!C64)","v":"Ribaué"},{"$f":"IF(OR(COUNTRY_INFO!$T$9:$T$1000=\"T1 (PZQ+ALB/MBD)\",COUNTRY_INFO!$U$9:$U$1000=\"T1 (PZQ+ALB/MBD)\"), \"T1 (PZQ+ALB/MBD)\", \" \")","v":" "},null,null,null,null,null,null,0,null,null,null,0," "," "," "," "]
[{"$f":"IF(COUNTRY_INFO!A65=0,\" \",COUNTRY_INFO!A65)","v":"Mozambique"},{"$f":"IF(COUNTRY_INFO!B65=0,\" \",COUNTRY_INFO!B65)","v":"Zambezia"},{"$f":"IF(COUNTRY_INFO!C65=0,\" \",COUNTRY_INFO!C65)","v":"Quelimane"},{"$f":"IF(OR(COUNTRY_INFO!$T$9:$T$1000=\"T1 (PZQ+ALB/MBD)\",COUNTRY_INFO!$U$9:$U$1000=\"T1 (PZQ+ALB/MBD)\"), \"T1 (PZQ+ALB/MBD)\", \" \")","v":" "},null,null,null,null,null,null,0,null,null,null,0," "," "," "," "]
[{"$f":"IF(COUNTRY_INFO!A66=0,\" \",COUNTRY_INFO!A66)","v":"Mozambique"},{"$f":"IF(COUNTRY_INFO!B66=0,\" \",COUNTRY_INFO!B66)","v":"Zambezia"},{"$f":"IF(COUNTRY_INFO!C66=0,\" \",COUNTRY_INFO!C66)","v":"Alto Molocué"},{"$f":"IF(OR(COUNTRY_INFO!$T$9:$T$1000=\"T1 (PZQ+ALB/MBD)\",COUNTRY_INFO!$U$9:$U$1000=\"T1 (PZQ+ALB/MBD)\"), \"T1 (PZQ+ALB/MBD)\", \" \")","v":" "},null,null,null,null,null,null,0,null,null,null,0," "," "," "," "]
[{"$f":"IF(COUNTRY_INFO!A67=0,\" \",COUNTRY_INFO!A67)","v":"Mozambique"},{"$f":"IF(COUNTRY_INFO!B67=0,\" \",COUNTRY_INFO!B67)","v":"Zambezia"},{"$f":"IF(COUNTRY_INFO!C67=0,\" \",COUNTRY_INFO!C67)","v":"Chinde"},{"$f":"IF(OR(COUNTRY_INFO!$T$9:$T$1000=\"T1 (PZQ+ALB/MBD)\",COUNTRY_INFO!$U$9:$U$1000=\"T1 (PZQ+ALB/MBD)\"), \"T1 (PZQ+ALB/MBD)\", \" \")","v":" "},null,null,null,null,null,null,0,null,null,null,0," "," "," "," "]
[{"$f":"IF(COUNTRY_INFO!A68=0,\" \",COUNTRY_INFO!A68)","v":"Mozambique"},{"$f":"IF(COUNTRY_INFO!B68=0,\" \",COUNTRY_INFO!B68)","v":"Zambezia"},{"$f":"IF(COUNTRY_INFO!C68=0,\" \",COUNTRY_INFO!C68)","v":"Derre"},{"$f":"IF(OR(COUNTRY_INFO!$T$9:$T$1000=\"T1 (PZQ+ALB/MBD)\",COUNTRY_INFO!$U$9:$U$1000=\"T1 (PZQ+ALB/MBD)\"), \"T1 (PZQ+ALB/MBD)\", \" \")","v":" "},null,null,null,null,null,null,0,null,null,null,0," "," "," "," "]
[{"$f":"IF(COUNTRY_INFO!A69=0,\" \",COUNTRY_INFO!A69)","v":"Mozambique"},{"$f":"IF(COUNTRY_INFO!B69=0,\" \",COUNTRY_INFO!B69)","v":"Zambezia"},{"$f":"IF(COUNTRY_INFO!C69=0,\" \",COUNTRY_INFO!C69)","v":"Gilé"},{"$f":"IF(OR(COUNTRY_INFO!$T$9:$T$1000=\"T1 (PZQ+ALB/MBD)\",COUNTRY_INFO!$U$9:$U$1000=\"T1 (PZQ+ALB/MBD)\"), \"T1 (PZQ+ALB/MBD)\", \" \")","v":" "},null,null,null,null,null,null,0,null,null,null,0," "," "," "," "]
[{"$f":"IF(COUNTRY_INFO!A70=0,\" \",COUNTRY_INFO!A70)","v":"Mozambique"},{"$f":"IF(COUNTRY_INFO!B70=0,\" \",COUNTRY_INFO!B70)","v":"Zambezia"},{"$f":"IF(COUNTRY_INFO!C70=0,\" \",COUNTRY_INFO!C70)","v":"Gurué"},{"$f":"IF(OR(COUNTRY_INFO!$T$9:$T$1000=\"T1 (PZQ+ALB/MBD)\",COUNTRY_INFO!$U$9:$U$1000=\"T1 (PZQ+ALB/MBD)\"), \"T1 (PZQ+ALB/MBD)\", \" \")","v":" "},null,null,null,null,null,null,0,null,null,null,0," "," "," "," "]
[{"$f":"IF(COUNTRY_INFO!A71=0,\" \",COUNTRY_INFO!A71)","v":"Mozambique"},{"$f":"IF(COUNTRY_INFO!B71=0,\" \",COUNTRY_INFO!B71)","v":"Zambezia"},{"$f":"IF(COUNTRY_INFO!C71=0,\" \",COUNTRY_INFO!C71)","v":"Ile"},{"$f":"IF(OR(COUNTRY_INFO!$T$9:$T$1000=\"T1 (PZQ+ALB/MBD)\",COUNTRY_INFO!$U$9:$U$1000=\"T1 (PZQ+ALB/MBD)\"), \"T1 (PZQ+ALB/MBD)\", \" \")","v":" "},null,null,null,null,null,null,0,null,null,null,0," "," "," "," "]
[{"$f":"IF(COUNTRY_INFO!A72=0,\" \",COUNTRY_INFO!A72)","v":"Mozambique"},{"$f":"IF(COUNTRY_INFO!B72=0,\" \",COUNTRY_INFO!B72)","v":"Zambezia"},{"$f":"IF(COUNTRY_INFO!C72=0,\" \",COUNTRY_INFO!C72)","v":"Inhassunge"},{"$f":"IF(OR(COUNTRY_INFO!$T$9:$T$1000=\"T1 (PZQ+ALB/MBD)\",COUNTRY_INFO!$U$9:$U$1000=\"T1 (PZQ+ALB/MBD)\"), \"T1 (PZQ+ALB/MBD)\", \" \")","v":" "},null,null,null,null,null,null,0,null,null,null,0," "," "," "," "]
[{"$f":"IF(COUNTRY_INFO!A73=0,\" \",COUNTRY_INFO!A73)","v":"Mozambique"},{"$f":"IF(COUNTRY_INFO!B73=0,\" \",COUNTRY_INFO!B73)","v":"Zambezia"},{"$f":"IF(COUNTRY_INFO!C73=0,\" \",COUNTRY_INFO!C73)","v":"Luabo"},{"$f":"IF(OR(COUNTRY_INFO!$T$9:$T$1000=\"T1 (PZQ+ALB/MBD)\",COUNTRY_INFO!$U$9:$U$1000=\"T1 (PZQ+ALB/MBD)\"), \"T1 (PZQ+ALB/MBD)\", \" \")","v":" "},null,null,null,null,null,null,0,null,null,null,0," "," "," "," "]
[{"$f":"IF(COUNTRY_INFO!A74=0,\" \",COUNTRY_INFO!A74)","v":"Mozambique"},{"$f":"IF(COUNTRY_INFO!B74=0,\" \",COUNTRY_INFO!B74)","v":"Zambezia"},{"$f":"IF(COUNTRY_INFO!C74=0,\" \",COUNTRY_INFO!C74)","v":"Lugela"},{"$f":"IF(OR(COUNTRY_INFO!$T$9:$T$1000=\"T1 (PZQ+ALB/MBD)\",COUNTRY_INFO!$U$9:$U$1000=\"T1 (PZQ+ALB/MBD)\"), \"T1 (PZQ+ALB/MBD)\", \" \")","v":" "},null,null,null,null,null,null,{"$f":"MAX(H74:I74)+G74+J74","v":0},null,null,null,{"$f":"SUM(L74:N74)","v":0},{"$f":"IF(G74<>0, IF(L74/G74*100=0, \"-\", L74/G74*100), \" \")","v":" "},{"$f":"IF(OR(I74<>0,H74<>0), IF(M74/MAX(H74,I74)*100=0, \"-\", M74/MAX(H74,I74)*100), \" \")","v":" "},{"$f":"IF(J74<>0, IF(N74/J74*100=0, \"-\", N74/J74*100), \" \")","v":" "},{"$f":"IF(K74<>0, IF(O74/K74*100=0, \"-\", O74/K74*100), \" \")","v":" "}]
[{"$f":"IF(COUNTRY_INFO!A75=0,\" \",COUNTRY_INFO!A75)","v":"Mozambique"},{"$f":"IF(COUNTRY_INFO!B75=0,\" \",COUNTRY_INFO!B75)","v":"Zambezia"},{"$f":"IF(COUNTRY_INFO!C75=0,\" \",COUNTRY_INFO!C75)","v":"Maganja da Costa"},{"$f":"IF(OR(COUNTRY_INFO!$T$9:$T$1000=\"T1 (PZQ+ALB/MBD)\",COUNTRY_INFO!$U$9:$U$1000=\"T1 (PZQ+ALB/MBD)\"), \"T1 (PZQ+ALB/MBD)\", \" \")","v":" "},null,null,null,null,null,null,0,null,null,null,0," "," "," "," "]
[{"$f":"IF(COUNTRY_INFO!A76=0,\" \",COUNTRY_INFO!A76)","v":"Mozambique"},{"$f":"IF(COUNTRY_INFO!B76=0,\" \",COUNTRY_INFO!B76)","v":"Zambezia"},{"$f":"IF(COUNTRY_INFO!C76=0,\" \",COUNTRY_INFO!C76)","v":"Milange"},{"$f":"IF(OR(COUNTRY_INFO!$T$9:$T$1000=\"T1 (PZQ+ALB/MBD)\",COUNTRY_INFO!$U$9:$U$1000=\"T1 (PZQ+ALB/MBD)\"), \"T1 (PZQ+ALB/MBD)\", \" \")","v":" "},null,null,null,null,null,null,0,null,null,null,0," "," "," "," "]
[{"$f":"IF(COUNTRY_INFO!A77=0,\" \",COUNTRY_INFO!A77)","v":"Mozambique"},{"$f":"IF(COUNTRY_INFO!B77=0,\" \",COUNTRY_INFO!B77)","v":"Zambezia"},{"$f":"IF(COUNTRY_INFO!C77=0,\" \",COUNTRY_INFO!C77)","v":"Mocuba"},{"$f":"IF(OR(COUNTRY_INFO!$T$9:$T$1000=\"T1 (PZQ+ALB/MBD)\",COUNTRY_INFO!$U$9:$U$1000=\"T1 (PZQ+ALB/MBD)\"), \"T1 (PZQ+ALB/MBD)\", \" \")","v":" "},null,null,null,null,null,null,0,null,null,null,0," "," "," "," "]
[{"$f":"IF(COUNTRY_INFO!A78=0,\" \",COUNTRY_INFO!A78)","v":"Mozambique"},{"$f":"IF(COUNTRY_INFO!B78=0,\" \",COUNTRY_INFO!B78)","v":"Zambezia"},{"$f":"IF(COUNTRY_INFO!C78=0,\" \",COUNTRY_INFO!C78)","v":"Mocubela"},{"$f":"IF(OR(COUNTRY_INFO!$T$9:$T$1000=\"T1 (PZQ+ALB/MBD)\",COUNTRY_INFO!$U$9:$U$1000=\"T1 (PZQ+ALB/MBD)\"), \"T1 (PZQ+ALB/MBD)\", \" \")","v":" "},null,null,null,null,null,null,0,null,null,null,0," "," "," "," "]
[{"$f":"IF(COUNTRY_INFO!A79=0,\" \",COUNTRY_INFO!A79)","v":"Mozambique"},{"$f":"IF(COUNTRY_INFO!B79=0,\" \",COUNTRY_INFO!B79)","v":"Zambezia"},{"$f":"IF(COUNTRY_INFO!C79=0,\" \",COUNTRY_INFO!C79)","v":"Molumbo"},{"$f":"IF(OR(COUNTRY_INFO!$T$9:$T$1000=\"T1 (PZQ+ALB/MBD)\",COUNTRY_INFO!$U$9:$U$1000=\"T1 (PZQ+ALB/MBD)\"), \"T1 (PZQ+ALB/MBD)\", \" \")","v":" "},null,null,null,null,null,null,0,null,null,null,0," "," "," "," "]
[{"$f":"IF(COUNTRY_INFO!A80=0,\" \",COUNTRY_INFO!A80)","v":"Mozambique"},{"$f":"IF(COUNTRY_INFO!B80=0,\" \",COUNTRY_INFO!B80)","v":"Zambezia"},{"$f":"IF(COUNTRY_INFO!C80=0,\" \",COUNTRY_INFO!C80)","v":"Mopeia"},{"$f":"IF(OR(COUNTRY_INFO!$T$9:$T$1000=\"T1 (PZQ+ALB/MBD)\",COUNTRY_INFO!$U$9:$U$1000=\"T1 (PZQ+ALB/MBD)\"), \"T1 (PZQ+ALB/MBD)\", \" \")","v":" "},null,null,null,null,null,null,0,null,null,null,0," "," "," "," "]
[{"$f":"IF(COUNTRY_INFO!A81=0,\" \",COUNTRY_INFO!A81)","v":"Mozambique"},{"$f":"IF(COUNTRY_INFO!B81=0,\" \",COUNTRY_INFO!B81)","v":"Zambezia"},{"$f":"IF(COUNTRY_INFO!C81=0,\" \",COUNTRY_INFO!C81)","v":"Morrumbala"},{"$f":"IF(OR(COUNTRY_INFO!$T$9:$T$1000=\"T1 (PZQ+ALB/MBD)\",COUNTRY_INFO!$U$9:$U$1000=\"T1 (PZQ+ALB/MBD)\"), \"T1 (PZQ+ALB/MBD)\", \" \")","v":" "},null,null,null,null,null,null,0,null,null,null,0," "," "," "," "]
[{"$f":"IF(COUNTRY_INFO!A82=0,\" \",COUNTRY_INFO!A82)","v":"Mozambique"},{"$f":"IF(COUNTRY_INFO!B82=0,\" \",COUNTRY_INFO!B82)","v":"Zambezia"},{"$f":"IF(COUNTRY_INFO!C82=0,\" \",COUNTRY_INFO!C82)","v":"Mulevala"},{"$f":"IF(OR(COUNTRY_INFO!$T$9:$T$1000=\"T1 (PZQ+ALB/MBD)\",COUNTRY_INFO!$U$9:$U$1000=\"T1 (PZQ+ALB/MBD)\"), \"T1 (PZQ+ALB/MBD)\", \" \")","v":" "},null,null,null,null,null,null,0,null,null,null,0," "," "," "," "]
[{"$f":"IF(COUNTRY_INFO!A83=0,\" \",COUNTRY_INFO!A83)","v":"Mozambique"},{"$f":"IF(COUNTRY_INFO!B83=0,\" \",COUNTRY_INFO!B83)","v":"Zambezia"},{"$f":"IF(COUNTRY_INFO!C83=0,\" \",COUNTRY_INFO!C83)","v":"Namacurra"},{"$f":"IF(OR(COUNTRY_INFO!$T$9:$T$1000=\"T1 (PZQ+ALB/MBD)\",COUNTRY_INFO!$U$9:$U$1000=\"T1 (PZQ+ALB/MBD)\"), \"T1 (PZQ+ALB/MBD)\", \" \")","v":" "},null,null,null,null,null,null,0,null,null,null,0," "," "," "," "]
[{"$f":"IF(COUNTRY_INFO!A84=0,\" \",COUNTRY_INFO!A84)","v":"Mozambique"},{"$f":"IF(COUNTRY_INFO!B84=0,\" \",COUNTRY_INFO!B84)","v":"Zambezia"},{"$f":"IF(COUNTRY_INFO!C84=0,\" \",COUNTRY_INFO!C84)","v":"Namarrói"},{"$f":"IF(OR(COUNTRY_INFO!$T$9:$T$1000=\"T1 (PZQ+ALB/MBD)\",COUNTRY_INFO!$U$9:$U$1000=\"T1 (PZQ+ALB/MBD)\"), \"T1 (PZQ+ALB/MBD)\", \" \")","v":" "},null,null,null,null,null,null,0,null,null,null,0," "," "," "," "]
[{"$f":"IF(COUNTRY_INFO!A85=0,\" \",COUNTRY_INFO!A85)","v":"Mozambique"},{"$f":"IF(COUNTRY_INFO!B85=0,\" \",COUNTRY_INFO!B85)","v":"Zambezia"},{"$f":"IF(COUNTRY_INFO!C85=0,\" \",COUNTRY_INFO!C85)","v":"Nicoadala"},{"$f":"IF(OR(COUNTRY_INFO!$T$9:$T$1000=\"T1 (PZQ+ALB/MBD)\",COUNTRY_INFO!$U$9:$U$1000=\"T1 (PZQ+ALB/MBD)\"), \"T1 (PZQ+ALB/MBD)\", \" \")","v":" "},null,null,null,null,null,null,0,null,null,null,0," "," "," "," "]
[{"$f":"IF(COUNTRY_INFO!A86=0,\" \",COUNTRY_INFO!A86)","v":"Mozambique"},{"$f":"IF(COUNTRY_INFO!B86=0,\" \",COUNTRY_INFO!B86)","v":"Zambezia"},{"$f":"IF(COUNTRY_INFO!C86=0,\" \",COUNTRY_INFO!C86)","v":"Pebane"},{"$f":"IF(OR(COUNTRY_INFO!$T$9:$T$1000=\"T1 (PZQ+ALB/MBD)\",COUNTRY_INFO!$U$9:$U$1000=\"T1 (PZQ+ALB/MBD)\"), \"T1 (PZQ+ALB/MBD)\", \" \")","v":" "},null,null,null,null,null,null,0,null,null,null,0," "," "," "," "]
[{"$f":"IF(COUNTRY_INFO!A87=0,\" \",COUNTRY_INFO!A87)","v":"Mozambique"},{"$f":"IF(COUNTRY_INFO!B87=0,\" \",COUNTRY_INFO!B87)","v":"Tete"},{"$f":"IF(COUNTRY_INFO!C87=0,\" \",COUNTRY_INFO!C87)","v":"Cid Tete"},{"$f":"IF(OR(COUNTRY_INFO!$T$9:$T$1000=\"T1 (PZQ+ALB/MBD)\",COUNTRY_INFO!$U$9:$U$1000=\"T1 (PZQ+ALB/MBD)\"), \"T1 (PZQ+ALB/MBD)\", \" \")","v":"T1 (PZQ+ALB/MBD)"},"PZQ+ALB","April 2019",null,67585,33792.5,null,67585,null,75520,null,75520," ",111.74077088111267," ",111.74077088111267]
[{"$f":"IF(COUNTRY_INFO!A88=0,\" \",COUNTRY_INFO!A88)","v":"Mozambique"},{"$f":"IF(COUNTRY_INFO!B88=0,\" \",COUNTRY_INFO!B88)","v":"Tete"},{"$f":"IF(COUNTRY_INFO!C88=0,\" \",COUNTRY_INFO!C88)","v":"Angónia"},{"$f":"IF(OR(COUNTRY_INFO!$T$9:$T$1000=\"T1 (PZQ+ALB/MBD)\",COUNTRY_INFO!$U$9:$U$1000=\"T1 (PZQ+ALB/MBD)\"), \"T1 (PZQ+ALB/MBD)\", \" \")","v":"T1 (PZQ+ALB/MBD)"},"PZQ+ALB","April 2019",null,115848,57924,null,115848,null,111154,null,111154," ",95.948138940680892," ",95.948138940680892]
[{"$f":"IF(COUNTRY_INFO!A89=0,\" \",COUNTRY_INFO!A89)","v":"Mozambique"},{"$f":"IF(COUNTRY_INFO!B89=0,\" \",COUNTRY_INFO!B89)","v":"Tete"},{"$f":"IF(COUNTRY_INFO!C89=0,\" \",COUNTRY_INFO!C89)","v":"Cahora Bassa"},{"$f":"IF(OR(COUNTRY_INFO!$T$9:$T$1000=\"T1 (PZQ+ALB/MBD)\",COUNTRY_INFO!$U$9:$U$1000=\"T1 (PZQ+ALB/MBD)\"), \"T1 (PZQ+ALB/MBD)\", \" \")","v":"T1 (PZQ+ALB/MBD)"},"PZQ+ALB","April 2019",null,40700,20350,null,40700,null,38619.5,null,38619.5," ",94.888206388206385," ",94.888206388206385]
[{"$f":"IF(COUNTRY_INFO!A90=0,\" \",COUNTRY_INFO!A90)","v":"Mozambique"},{"$f":"IF(COUNTRY_INFO!B90=0,\" \",COUNTRY_INFO!B90)","v":"Tete"},{"$f":"IF(COUNTRY_INFO!C90=0,\" \",COUNTRY_INFO!C90)","v":"Changara "},{"$f":"IF(OR(COUNTRY_INFO!$T$9:$T$1000=\"T1 (PZQ+ALB/MBD)\",COUNTRY_INFO!$U$9:$U$1000=\"T1 (PZQ+ALB/MBD)\"), \"T1 (PZQ+ALB/MBD)\", \" \")","v":"T1 (PZQ+ALB/MBD)"},"PZQ+ALB","April 2019",null,41729,20864.5,null,41729,null,39780,null,39780," ",95.329387236693904," ",95.329387236693904]
[{"$f":"IF(COUNTRY_INFO!A91=0,\" \",COUNTRY_INFO!A91)","v":"Mozambique"},{"$f":"IF(COUNTRY_INFO!B91=0,\" \",COUNTRY_INFO!B91)","v":"Tete"},{"$f":"IF(COUNTRY_INFO!C91=0,\" \",COUNTRY_INFO!C91)","v":"Chifunde"},{"$f":"IF(OR(COUNTRY_INFO!$T$9:$T$1000=\"T1 (PZQ+ALB/MBD)\",COUNTRY_INFO!$U$9:$U$1000=\"T1 (PZQ+ALB/MBD)\"), \"T1 (PZQ+ALB/MBD)\", \" \")","v":" "},null,null,null,null,null,null,0,null,null,null,0," "," "," "," "]
[{"$f":"IF(COUNTRY_INFO!A92=0,\" \",COUNTRY_INFO!A92)","v":"Mozambique"},{"$f":"IF(COUNTRY_INFO!B92=0,\" \",COUNTRY_INFO!B92)","v":"Tete"},{"$f":"IF(COUNTRY_INFO!C92=0,\" \",COUNTRY_INFO!C92)","v":"Chiúta"},{"$f":"IF(OR(COUNTRY_INFO!$T$9:$T$1000=\"T1 (PZQ+ALB/MBD)\",COUNTRY_INFO!$U$9:$U$1000=\"T1 (PZQ+ALB/MBD)\"), \"T1 (PZQ+ALB/MBD)\", \" \")","v":"T1 (PZQ+ALB/MBD)"},"PZQ+ALB","April 2019",null,29753,14876.5,null,29753,null,27342,null,27342," ",91.896615467347829," ",91.896615467347829]
[{"$f":"IF(COUNTRY_INFO!A93=0,\" \",COUNTRY_INFO!A93)","v":"Mozambique"},{"$f":"IF(COUNTRY_INFO!B93=0,\" \",COUNTRY_INFO!B93)","v":"Tete"},{"$f":"IF(COUNTRY_INFO!C93=0,\" \",COUNTRY_INFO!C93)","v":"Doa"},{"$f":"IF(OR(COUNTRY_INFO!$T$9:$T$1000=\"T1 (PZQ+ALB/MBD)\",COUNTRY_INFO!$U$9:$U$1000=\"T1 (PZQ+ALB/MBD)\"), \"T1 (PZQ+ALB/MBD)\", \" \")","v":" "},null,null,null,null,null,null,0,null,null,null,0," "," "," "," "]
[{"$f":"IF(COUNTRY_INFO!A94=0,\" \",COUNTRY_INFO!A94)","v":"Mozambique"},{"$f":"IF(COUNTRY_INFO!B94=0,\" \",COUNTRY_INFO!B94)","v":"Tete"},{"$f":"IF(COUNTRY_INFO!C94=0,\" \",COUNTRY_INFO!C94)","v":"Macanga"},{"$f":"IF(OR(COUNTRY_INFO!$T$9:$T$1000=\"T1 (PZQ+ALB/MBD)\",COUNTRY_INFO!$U$9:$U$1000=\"T1 (PZQ+ALB/MBD)\"), \"T1 (PZQ+ALB/MBD)\", \" \")","v":"T1 (PZQ+ALB/MBD)"},"PZQ+ALB","April 2019",null,72440,36220,null,72440,null,68701,null,68701," ",94.838487023743795," ",94.838487023743795]
[{"$f":"IF(COUNTRY_INFO!A95=0,\" \",COUNTRY_INFO!A95)","v":"Mozambique"},{"$f":"IF(COUNTRY_INFO!B95=0,\" \",COUNTRY_INFO!B95)","v":"Tete"},{"$f":"IF(COUNTRY_INFO!C95=0,\" \",COUNTRY_INFO!C95)","v":"Magoe"},{"$f":"IF(OR(COUNTRY_INFO!$T$9:$T$1000=\"T1 (PZQ+ALB/MBD)\",COUNTRY_INFO!$U$9:$U$1000=\"T1 (PZQ+ALB/MBD)\"), \"T1 (PZQ+ALB/MBD)\", \" \")","v":"T1 (PZQ+ALB/MBD)"},"PZQ+ALB","April 2019",null,31715,15857.5,null,31715,null,34144,null,34144," ",107.65883651269115," ",107.65883651269115]
[{"$f":"IF(COUNTRY_INFO!A96=0,\" \",COUNTRY_INFO!A96)","v":"Mozambique"},{"$f":"IF(COUNTRY_INFO!B96=0,\" \",COUNTRY_INFO!B96)","v":"Tete"},{"$f":"IF(COUNTRY_INFO!C96=0,\" \",COUNTRY_INFO!C96)","v":"Marávia"},{"$f":"IF(OR(COUNTRY_INFO!$T$9:$T$1000=\"T1 (PZQ+ALB/MBD)\",COUNTRY_INFO!$U$9:$U$1000=\"T1 (PZQ+ALB/MBD)\"), \"T1 (PZQ+ALB/MBD)\", \" \")","v":"T1 (PZQ+ALB/MBD)"},"PZQ+ALB","April 2019",null,33363,16681.5,null,33363,null,29667,null,29667," ",88.921859545004949," ",88.921859545004949]
[{"$f":"IF(COUNTRY_INFO!A97=0,\" \",COUNTRY_INFO!A97)","v":"Mozambique"},{"$f":"IF(COUNTRY_INFO!B97=0,\" \",COUNTRY_INFO!B97)","v":"Tete"},{"$f":"IF(COUNTRY_INFO!C97=0,\" \",COUNTRY_INFO!C97)","v":"Marara"},{"$f":"IF(OR(COUNTRY_INFO!$T$9:$T$1000=\"T1 (PZQ+ALB/MBD)\",COUNTRY_INFO!$U$9:$U$1000=\"T1 (PZQ+ALB/MBD)\"), \"T1 (PZQ+ALB/MBD)\", \" \")","v":"T1 (PZQ+ALB/MBD)"},"PZQ+ALB","April 2019",null,28871,14435.5,null,28871,null,32860,null,32860," ",113.81663260711441," ",113.81663260711441]
[{"$f":"IF(COUNTRY_INFO!A98=0,\" \",COUNTRY_INFO!A98)","v":"Mozambique"},{"$f":"IF(COUNTRY_INFO!B98=0,\" \",COUNTRY_INFO!B98)","v":"Tete"},{"$f":"IF(COUNTRY_INFO!C98=0,\" \",COUNTRY_INFO!C98)","v":"Moatize"},{"$f":"IF(OR(COUNTRY_INFO!$T$9:$T$1000=\"T1 (PZQ+ALB/MBD)\",COUNTRY_INFO!$U$9:$U$1000=\"T1 (PZQ+ALB/MBD)\"), \"T1 (PZQ+ALB/MBD)\", \" \")","v":"T1 (PZQ+ALB/MBD)"},"PZQ+ALB","April 2019",null,117226,58613,null,117226,null,108851,null,108851," ",92.855680480439489," ",92.855680480439489]
[{"$f":"IF(COUNTRY_INFO!A99=0,\" \",COUNTRY_INFO!A99)","v":"Mozambique"},{"$f":"IF(COUNTRY_INFO!B99=0,\" \",COUNTRY_INFO!B99)","v":"Tete"},{"$f":"IF(COUNTRY_INFO!C99=0,\" \",COUNTRY_INFO!C99)","v":"Mutarara"},{"$f":"IF(OR(COUNTRY_INFO!$T$9:$T$1000=\"T1 (PZQ+ALB/MBD)\",COUNTRY_INFO!$U$9:$U$1000=\"T1 (PZQ+ALB/MBD)\"), \"T1 (PZQ+ALB/MBD)\", \" \")","v":" "},null,null,null,null,null,null,0,null,null,null,0," "," "," "," "]
[{"$f":"IF(COUNTRY_INFO!A100=0,\" \",COUNTRY_INFO!A100)","v":"Mozambique"},{"$f":"IF(COUNTRY_INFO!B100=0,\" \",COUNTRY_INFO!B100)","v":"Tete"},{"$f":"IF(COUNTRY_INFO!C100=0,\" \",COUNTRY_INFO!C100)","v":"Tsangano"},{"$f":"IF(OR(COUNTRY_INFO!$T$9:$T$1000=\"T1 (PZQ+ALB/MBD)\",COUNTRY_INFO!$U$9:$U$1000=\"T1 (PZQ+ALB/MBD)\"), \"T1 (PZQ+ALB/MBD)\", \" \")","v":"T1 (PZQ+ALB/MBD)"},"PZQ+ALB","April 2019",null,69458,34729,null,69458,null,69432,null,69432," ",99.9625673068617," ",99.9625673068617]
[{"$f":"IF(COUNTRY_INFO!A101=0,\" \",COUNTRY_INFO!A101)","v":"Mozambique"},{"$f":"IF(COUNTRY_INFO!B101=0,\" \",COUNTRY_INFO!B101)","v":"Tete"},{"$f":"IF(COUNTRY_INFO!C101=0,\" \",COUNTRY_INFO!C101)","v":"Zumbu"},{"$f":"IF(OR(COUNTRY_INFO!$T$9:$T$1000=\"T1 (PZQ+ALB/MBD)\",COUNTRY_INFO!$U$9:$U$1000=\"T1 (PZQ+ALB/MBD)\"), \"T1 (PZQ+ALB/MBD)\", \" \")","v":"T1 (PZQ+ALB/MBD)"},"PZQ+ALB","April 2019",null,24912,12456,null,24912,null,22676,null,22676," ",91.024405908798983," ",91.024405908798983]
[{"$f":"IF(COUNTRY_INFO!A102=0,\" \",COUNTRY_INFO!A102)","v":"Mozambique"},{"$f":"IF(COUNTRY_INFO!B102=0,\" \",COUNTRY_INFO!B102)","v":"Sofala"},{"$f":"IF(COUNTRY_INFO!C102=0,\" \",COUNTRY_INFO!C102)","v":"Cid Beira"},{"$f":"IF(OR(COUNTRY_INFO!$T$9:$T$1000=\"T1 (PZQ+ALB/MBD)\",COUNTRY_INFO!$U$9:$U$1000=\"T1 (PZQ+ALB/MBD)\"), \"T1 (PZQ+ALB/MBD)\", \" \")","v":" "},null,null,null,null,null,null,0,null,null,null,0," "," "," "," "]
[{"$f":"IF(COUNTRY_INFO!A103=0,\" \",COUNTRY_INFO!A103)","v":"Mozambique"},{"$f":"IF(COUNTRY_INFO!B103=0,\" \",COUNTRY_INFO!B103)","v":"Sofala"},{"$f":"IF(COUNTRY_INFO!C103=0,\" \",COUNTRY_INFO!C103)","v":"Buzi"},{"$f":"IF(OR(COUNTRY_INFO!$T$9:$T$1000=\"T1 (PZQ+ALB/MBD)\",COUNTRY_INFO!$U$9:$U$1000=\"T1 (PZQ+ALB/MBD)\"), \"T1 (PZQ+ALB/MBD)\", \" \")","v":"T1 (PZQ+ALB/MBD)"},"PZQ+ALB","March 2019",null,58137,29068.5,null,58137,null,37218,null,37218," ",64.017751173951183," ",64.017751173951183]
[{"$f":"IF(COUNTRY_INFO!A104=0,\" \",COUNTRY_INFO!A104)","v":"Mozambique"},{"$f":"IF(COUNTRY_INFO!B104=0,\" \",COUNTRY_INFO!B104)","v":"Sofala"},{"$f":"IF(COUNTRY_INFO!C104=0,\" \",COUNTRY_INFO!C104)","v":"Caia"},{"$f":"IF(OR(COUNTRY_INFO!$T$9:$T$1000=\"T1 (PZQ+ALB/MBD)\",COUNTRY_INFO!$U$9:$U$1000=\"T1 (PZQ+ALB/MBD)\"), \"T1 (PZQ+ALB/MBD)\", \" \")","v":" "},null,null,null,null,null,null,0,null,null,null,0," "," "," "," "]
[{"$f":"IF(COUNTRY_INFO!A105=0,\" \",COUNTRY_INFO!A105)","v":"Mozambique"},{"$f":"IF(COUNTRY_INFO!B105=0,\" \",COUNTRY_INFO!B105)","v":"Sofala"},{"$f":"IF(COUNTRY_INFO!C105=0,\" \",COUNTRY_INFO!C105)","v":"Chemba"},{"$f":"IF(OR(COUNTRY_INFO!$T$9:$T$1000=\"T1 (PZQ+ALB/MBD)\",COUNTRY_INFO!$U$9:$U$1000=\"T1 (PZQ+ALB/MBD)\"), \"T1 (PZQ+ALB/MBD)\", \" \")","v":" "},null,null,null,null,null,null,0,null,null,null,0," "," "," "," "]
[{"$f":"IF(COUNTRY_INFO!A106=0,\" \",COUNTRY_INFO!A106)","v":"Mozambique"},{"$f":"IF(COUNTRY_INFO!B106=0,\" \",COUNTRY_INFO!B106)","v":"Sofala"},{"$f":"IF(COUNTRY_INFO!C106=0,\" \",COUNTRY_INFO!C106)","v":"Cheringoma"},{"$f":"IF(OR(COUNTRY_INFO!$T$9:$T$1000=\"T1 (PZQ+ALB/MBD)\",COUNTRY_INFO!$U$9:$U$1000=\"T1 (PZQ+ALB/MBD)\"), \"T1 (PZQ+ALB/MBD)\", \" \")","v":" "},null,null,null,null,null,null,0,null,null,null,0," "," "," "," "]
[{"$f":"IF(COUNTRY_INFO!A107=0,\" \",COUNTRY_INFO!A107)","v":"Mozambique"},{"$f":"IF(COUNTRY_INFO!B107=0,\" \",COUNTRY_INFO!B107)","v":"Sofala"},{"$f":"IF(COUNTRY_INFO!C107=0,\" \",COUNTRY_INFO!C107)","v":"Chibabava"},{"$f":"IF(OR(COUNTRY_INFO!$T$9:$T$1000=\"T1 (PZQ+ALB/MBD)\",COUNTRY_INFO!$U$9:$U$1000=\"T1 (PZQ+ALB/MBD)\"), \"T1 (PZQ+ALB/MBD)\", \" \")","v":" "},null,null,null,null,null,null,0,null,null,null,0," "," "," "," "]
[{"$f":"IF(COUNTRY_INFO!A108=0,\" \",COUNTRY_INFO!A108)","v":"Mozambique"},{"$f":"IF(COUNTRY_INFO!B108=0,\" \",COUNTRY_INFO!B108)","v":"Sofala"},{"$f":"IF(COUNTRY_INFO!C108=0,\" \",COUNTRY_INFO!C108)","v":"Dondo"},{"$f":"IF(OR(COUNTRY_INFO!$T$9:$T$1000=\"T1 (PZQ+ALB/MBD)\",COUNTRY_INFO!$U$9:$U$1000=\"T1 (PZQ+ALB/MBD)\"), \"T1 (PZQ+ALB/MBD)\", \" \")","v":" "},null,null,null,null,null,null,0,null,null,null,0," "," "," "," "]
[{"$f":"IF(COUNTRY_INFO!A109=0,\" \",COUNTRY_INFO!A109)","v":"Mozambique"},{"$f":"IF(COUNTRY_INFO!B109=0,\" \",COUNTRY_INFO!B109)","v":"Sofala"},{"$f":"IF(COUNTRY_INFO!C109=0,\" \",COUNTRY_INFO!C109)","v":"Gorongosa"},{"$f":"IF(OR(COUNTRY_INFO!$T$9:$T$1000=\"T1 (PZQ+ALB/MBD)\",COUNTRY_INFO!$U$9:$U$1000=\"T1 (PZQ+ALB/MBD)\"), \"T1 (PZQ+ALB/MBD)\", \" \")","v":" "},null,null,null,null,null,null,0,null,null,null,0," "," "," "," "]
[{"$f":"IF(COUNTRY_INFO!A110=0,\" \",COUNTRY_INFO!A110)","v":"Mozambique"},{"$f":"IF(COUNTRY_INFO!B110=0,\" \",COUNTRY_INFO!B110)","v":"Sofala"},{"$f":"IF(COUNTRY_INFO!C110=0,\" \",COUNTRY_INFO!C110)","v":"Machanga"},{"$f":"IF(OR(COUNTRY_INFO!$T$9:$T$1000=\"T1 (PZQ+ALB/MBD)\",COUNTRY_INFO!$U$9:$U$1000=\"T1 (PZQ+ALB/MBD)\"), \"T1 (PZQ+ALB/MBD)\", \" \")","v":" "},null,null,null,null,null,null,0,null,null,null,0," "," "," "," "]
[{"$f":"IF(COUNTRY_INFO!A111=0,\" \",COUNTRY_INFO!A111)","v":"Mozambique"},{"$f":"IF(COUNTRY_INFO!B111=0,\" \",COUNTRY_INFO!B111)","v":"Sofala"},{"$f":"IF(COUNTRY_INFO!C111=0,\" \",COUNTRY_INFO!C111)","v":"Maringue"},{"$f":"IF(OR(COUNTRY_INFO!$T$9:$T$1000=\"T1 (PZQ+ALB/MBD)\",COUNTRY_INFO!$U$9:$U$1000=\"T1 (PZQ+ALB/MBD)\"), \"T1 (PZQ+ALB/MBD)\", \" \")","v":" "},null,null,null,null,null,null,0,null,null,null,0," "," "," "," "]
[{"$f":"IF(COUNTRY_INFO!A112=0,\" \",COUNTRY_INFO!A112)","v":"Mozambique"},{"$f":"IF(COUNTRY_INFO!B112=0,\" \",COUNTRY_INFO!B112)","v":"Sofala"},{"$f":"IF(COUNTRY_INFO!C112=0,\" \",COUNTRY_INFO!C112)","v":"Marromeu"},{"$f":"IF(OR(COUNTRY_INFO!$T$9:$T$1000=\"T1 (PZQ+ALB/MBD)\",COUNTRY_INFO!$U$9:$U$1000=\"T1 (PZQ+ALB/MBD)\"), \"T1 (PZQ+ALB/MBD)\", \" \")","v":" "},null,null,null,null,null,null,0,null,null,null,0," "," "," "," "]
[{"$f":"IF(COUNTRY_INFO!A113=0,\" \",COUNTRY_INFO!A113)","v":"Mozambique"},{"$f":"IF(COUNTRY_INFO!B113=0,\" \",COUNTRY_INFO!B113)","v":"Sofala"},{"$f":"IF(COUNTRY_INFO!C113=0,\" \",COUNTRY_INFO!C113)","v":"Muanza"},{"$f":"IF(OR(COUNTRY_INFO!$T$9:$T$1000=\"T1 (PZQ+ALB/MBD)\",COUNTRY_INFO!$U$9:$U$1000=\"T1 (PZQ+ALB/MBD)\"), \"T1 (PZQ+ALB/MBD)\", \" \")","v":" "},null,null,null,null,null,null,0,null,null,null,0," "," "," "," "]
[{"$f":"IF(COUNTRY_INFO!A114=0,\" \",COUNTRY_INFO!A114)","v":"Mozambique"},{"$f":"IF(COUNTRY_INFO!B114=0,\" \",COUNTRY_INFO!B114)","v":"Sofala"},{"$f":"IF(COUNTRY_INFO!C114=0,\" \",COUNTRY_INFO!C114)","v":"Nhamatanda"},{"$f":"IF(OR(COUNTRY_INFO!$T$9:$T$1000=\"T1 (PZQ+ALB/MBD)\",COUNTRY_INFO!$U$9:$U$1000=\"T1 (PZQ+ALB/MBD)\"), \"T1 (PZQ+ALB/MBD)\", \" \")","v":" "},null,null,null,null,null,null,0,null,null,null,0," "," "," "," "]
[{"$f":"IF(COUNTRY_INFO!A115=0,\" \",COUNTRY_INFO!A115)","v":"Mozambique"},{"$f":"IF(COUNTRY_INFO!B115=0,\" \",COUNTRY_INFO!B115)","v":"Manica"},{"$f":"IF(COUNTRY_INFO!C115=0,\" \",COUNTRY_INFO!C115)","v":"Cid. Chimoio"},{"$f":"IF(OR(COUNTRY_INFO!$T$9:$T$1000=\"T1 (PZQ+ALB/MBD)\",COUNTRY_INFO!$U$9:$U$1000=\"T1 (PZQ+ALB/MBD)\"), \"T1 (PZQ+ALB/MBD)\", \" \")","v":"T1 (PZQ+ALB/MBD)"},"PZQ+ALB","April 2019",null,97658,97658,null,97658,null,106092,null,106092," ",108.6362612381986," ",108.6362612381986]
[{"$f":"IF(COUNTRY_INFO!A116=0,\" \",COUNTRY_INFO!A116)","v":"Mozambique"},{"$f":"IF(COUNTRY_INFO!B116=0,\" \",COUNTRY_INFO!B116)","v":"Manica"},{"$f":"IF(COUNTRY_INFO!C116=0,\" \",COUNTRY_INFO!C116)","v":"Barué"},{"$f":"IF(OR(COUNTRY_INFO!$T$9:$T$1000=\"T1 (PZQ+ALB/MBD)\",COUNTRY_INFO!$U$9:$U$1000=\"T1 (PZQ+ALB/MBD)\"), \"T1 (PZQ+ALB/MBD)\", \" \")","v":" "},null,null,null,null,null,null,0,null,null,null,0," "," "," "," "]
[{"$f":"IF(COUNTRY_INFO!A117=0,\" \",COUNTRY_INFO!A117)","v":"Mozambique"},{"$f":"IF(COUNTRY_INFO!B117=0,\" \",COUNTRY_INFO!B117)","v":"Manica"},{"$f":"IF(COUNTRY_INFO!C117=0,\" \",COUNTRY_INFO!C117)","v":"Gondola"},{"$f":"IF(OR(COUNTRY_INFO!$T$9:$T$1000=\"T1 (PZQ+ALB/MBD)\",COUNTRY_INFO!$U$9:$U$1000=\"T1 (PZQ+ALB/MBD)\"), \"T1 (PZQ+ALB/MBD)\", \" \")","v":"T1 (PZQ+ALB/MBD)"},"PZQ+ALB","April 2019",null,63549,31774.5,null,63549,null,61590,null,61590," ",96.917339375914651," ",96.917339375914651]
[{"$f":"IF(COUNTRY_INFO!A118=0,\" \",COUNTRY_INFO!A118)","v":"Mozambique"},{"$f":"IF(COUNTRY_INFO!B118=0,\" \",COUNTRY_INFO!B118)","v":"Manica"},{"$f":"IF(COUNTRY_INFO!C118=0,\" \",COUNTRY_INFO!C118)","v":"Guro"},{"$f":"IF(OR(COUNTRY_INFO!$T$9:$T$1000=\"T1 (PZQ+ALB/MBD)\",COUNTRY_INFO!$U$9:$U$1000=\"T1 (PZQ+ALB/MBD)\"), \"T1 (PZQ+ALB/MBD)\", \" \")","v":" "},null,null,null,null,null,null,0,null,null,null,0," "," "," "," "]
[{"$f":"IF(COUNTRY_INFO!A119=0,\" \",COUNTRY_INFO!A119)","v":"Mozambique"},{"$f":"IF(COUNTRY_INFO!B119=0,\" \",COUNTRY_INFO!B119)","v":"Manica"},{"$f":"IF(COUNTRY_INFO!C119=0,\" \",COUNTRY_INFO!C119)","v":"Macate"},{"$f":"IF(OR(COUNTRY_INFO!$T$9:$T$1000=\"T1 (PZQ+ALB/MBD)\",COUNTRY_INFO!$U$9:$U$1000=\"T1 (PZQ+ALB/MBD)\"), \"T1 (PZQ+ALB/MBD)\", \" \")","v":"T1 (PZQ+ALB/MBD)"},"PZQ+ALB","April 2019",null,31731,15865.5,null,31731,null,33938,null,33938," ",106.95534335507864," ",106.95534335507864]
[{"$f":"IF(COUNTRY_INFO!A120=0,\" \",COUNTRY_INFO!A120)","v":"Mozambique"},{"$f":"IF(COUNTRY_INFO!B120=0,\" \",COUNTRY_INFO!B120)","v":"Manica"},{"$f":"IF(COUNTRY_INFO!C120=0,\" \",COUNTRY_INFO!C120)","v":"Machaze"},{"$f":"IF(OR(COUNTRY_INFO!$T$9:$T$1000=\"T1 (PZQ+ALB/MBD)\",COUNTRY_INFO!$U$9:$U$1000=\"T1 (PZQ+ALB/MBD)\"), \"T1 (PZQ+ALB/MBD)\", \" \")","v":"T1 (PZQ+ALB/MBD)"},"PZQ+ALB","April 2019",null,41278,20639,null,41278,null,41134,null,41134," ",99.651145888851204," ",99.651145888851204]
[{"$f":"IF(COUNTRY_INFO!A121=0,\" \",COUNTRY_INFO!A121)","v":"Mozambique"},{"$f":"IF(COUNTRY_INFO!B121=0,\" \",COUNTRY_INFO!B121)","v":"Manica"},{"$f":"IF(COUNTRY_INFO!C121=0,\" \",COUNTRY_INFO!C121)","v":"Macossa"},{"$f":"IF(OR(COUNTRY_INFO!$T$9:$T$1000=\"T1 (PZQ+ALB/MBD)\",COUNTRY_INFO!$U$9:$U$1000=\"T1 (PZQ+ALB/MBD)\"), \"T1 (PZQ+ALB/MBD)\", \" \")","v":" "},null,null,null,null,null,null,0,null,null,null,0," "," "," "," "]
[{"$f":"IF(COUNTRY_INFO!A122=0,\" \",COUNTRY_INFO!A122)","v":"Mozambique"},{"$f":"IF(COUNTRY_INFO!B122=0,\" \",COUNTRY_INFO!B122)","v":"Manica"},{"$f":"IF(COUNTRY_INFO!C122=0,\" \",COUNTRY_INFO!C122)","v":"Manica"},{"$f":"IF(OR(COUNTRY_INFO!$T$9:$T$1000=\"T1 (PZQ+ALB/MBD)\",COUNTRY_INFO!$U$9:$U$1000=\"T1 (PZQ+ALB/MBD)\"), \"T1 (PZQ+ALB/MBD)\", \" \")","v":"T1 (PZQ+ALB/MBD)"},"PZQ+ALB","April 2019",null,66597,33298.5,null,66597,null,69122,null,69122," ",103.79146207787137," ",103.79146207787137]
[{"$f":"IF(COUNTRY_INFO!A123=0,\" \",COUNTRY_INFO!A123)","v":"Mozambique"},{"$f":"IF(COUNTRY_INFO!B123=0,\" \",COUNTRY_INFO!B123)","v":"Manica"},{"$f":"IF(COUNTRY_INFO!C123=0,\" \",COUNTRY_INFO!C123)","v":"Mossurize"},{"$f":"IF(OR(COUNTRY_INFO!$T$9:$T$1000=\"T1 (PZQ+ALB/MBD)\",COUNTRY_INFO!$U$9:$U$1000=\"T1 (PZQ+ALB/MBD)\"), \"T1 (PZQ+ALB/MBD)\", \" \")","v":"T1 (PZQ+ALB/MBD)"},"PZQ+ALB","April 2019",null,88536,88536,null,88536,null,85726,null,85726," ",96.826149814764619," ",96.826149814764619]
[{"$f":"IF(COUNTRY_INFO!A124=0,\" \",COUNTRY_INFO!A124)","v":"Mozambique"},{"$f":"IF(COUNTRY_INFO!B124=0,\" \",COUNTRY_INFO!B124)","v":"Manica"},{"$f":"IF(COUNTRY_INFO!C124=0,\" \",COUNTRY_INFO!C124)","v":"Sussundenga"},{"$f":"IF(OR(COUNTRY_INFO!$T$9:$T$1000=\"T1 (PZQ+ALB/MBD)\",COUNTRY_INFO!$U$9:$U$1000=\"T1 (PZQ+ALB/MBD)\"), \"T1 (PZQ+ALB/MBD)\", \" \")","v":" "},null,null,null,null,null,null,0,null,null,null,0," "," "," "," "]
[{"$f":"IF(COUNTRY_INFO!A125=0,\" \",COUNTRY_INFO!A125)","v":"Mozambique"},{"$f":"IF(COUNTRY_INFO!B125=0,\" \",COUNTRY_INFO!B125)","v":"Manica"},{"$f":"IF(COUNTRY_INFO!C125=0,\" \",COUNTRY_INFO!C125)","v":"Tambara"},{"$f":"IF(OR(COUNTRY_INFO!$T$9:$T$1000=\"T1 (PZQ+ALB/MBD)\",COUNTRY_INFO!$U$9:$U$1000=\"T1 (PZQ+ALB/MBD)\"), \"T1 (PZQ+ALB/MBD)\", \" \")","v":" "},null,null,null,null,null,null,0,null,null,null,0," "," "," "," "]
[{"$f":"IF(COUNTRY_INFO!A126=0,\" \",COUNTRY_INFO!A126)","v":"Mozambique"},{"$f":"IF(COUNTRY_INFO!B126=0,\" \",COUNTRY_INFO!B126)","v":"Manica"},{"$f":"IF(COUNTRY_INFO!C126=0,\" \",COUNTRY_INFO!C126)","v":"Vanduze"},{"$f":"IF(OR(COUNTRY_INFO!$T$9:$T$1000=\"T1 (PZQ+ALB/MBD)\",COUNTRY_INFO!$U$9:$U$1000=\"T1 (PZQ+ALB/MBD)\"), \"T1 (PZQ+ALB/MBD)\", \" \")","v":"T1 (PZQ+ALB/MBD)"},"PZQ+ALB","April 2019",null,41890,20945,null,41890,null,41363,null,41363," ",98.741943184530911," ",98.741943184530911]
[{"$f":"IF(COUNTRY_INFO!A127=0,\" \",COUNTRY_INFO!A127)","v":"Mozambique"},{"$f":"IF(COUNTRY_INFO!B127=0,\" \",COUNTRY_INFO!B127)","v":"Inhambane"},{"$f":"IF(COUNTRY_INFO!C127=0,\" \",COUNTRY_INFO!C127)","v":"Cid. I'bane"},{"$f":"IF(OR(COUNTRY_INFO!$T$9:$T$1000=\"T1 (PZQ+ALB/MBD)\",COUNTRY_INFO!$U$9:$U$1000=\"T1 (PZQ+ALB/MBD)\"), \"T1 (PZQ+ALB/MBD)\", \" \")","v":" "},null,null,null,null,null,null,0,null,null,null,0," "," "," "," "]
[{"$f":"IF(COUNTRY_INFO!A128=0,\" \",COUNTRY_INFO!A128)","v":"Mozambique"},{"$f":"IF(COUNTRY_INFO!B128=0,\" \",COUNTRY_INFO!B128)","v":"Inhambane"},{"$f":"IF(COUNTRY_INFO!C128=0,\" \",COUNTRY_INFO!C128)","v":"Funhalouro"},{"$f":"IF(OR(COUNTRY_INFO!$T$9:$T$1000=\"T1 (PZQ+ALB/MBD)\",COUNTRY_INFO!$U$9:$U$1000=\"T1 (PZQ+ALB/MBD)\"), \"T1 (PZQ+ALB/MBD)\", \" \")","v":"T1 (PZQ+ALB/MBD)"},"PZQ+ALB","March 2019",null,14580,7290,null,14580,null,15272,null,15272," ",104.74622770919066," ",104.74622770919066]
[{"$f":"IF(COUNTRY_INFO!A129=0,\" \",COUNTRY_INFO!A129)","v":"Mozambique"},{"$f":"IF(COUNTRY_INFO!B129=0,\" \",COUNTRY_INFO!B129)","v":"Inhambane"},{"$f":"IF(COUNTRY_INFO!C129=0,\" \",COUNTRY_INFO!C129)","v":"Govuro"},{"$f":"IF(OR(COUNTRY_INFO!$T$9:$T$1000=\"T1 (PZQ+ALB/MBD)\",COUNTRY_INFO!$U$9:$U$1000=\"T1 (PZQ+ALB/MBD)\"), \"T1 (PZQ+ALB/MBD)\", \" \")","v":" "},null,null,null,null,null,null,0,null,null,null,0," "," "," "," "]
[{"$f":"IF(COUNTRY_INFO!A130=0,\" \",COUNTRY_INFO!A130)","v":"Mozambique"},{"$f":"IF(COUNTRY_INFO!B130=0,\" \",COUNTRY_INFO!B130)","v":"Inhambane"},{"$f":"IF(COUNTRY_INFO!C130=0,\" \",COUNTRY_INFO!C130)","v":"Homoíne"},{"$f":"IF(OR(COUNTRY_INFO!$T$9:$T$1000=\"T1 (PZQ+ALB/MBD)\",COUNTRY_INFO!$U$9:$U$1000=\"T1 (PZQ+ALB/MBD)\"), \"T1 (PZQ+ALB/MBD)\", \" \")","v":" "},null,null,null,null,null,null,0,null,null,null,0," "," "," "," "]
[{"$f":"IF(COUNTRY_INFO!A131=0,\" \",COUNTRY_INFO!A131)","v":"Mozambique"},{"$f":"IF(COUNTRY_INFO!B131=0,\" \",COUNTRY_INFO!B131)","v":"Inhambane"},{"$f":"IF(COUNTRY_INFO!C131=0,\" \",COUNTRY_INFO!C131)","v":"Inharrime"},{"$f":"IF(OR(COUNTRY_INFO!$T$9:$T$1000=\"T1 (PZQ+ALB/MBD)\",COUNTRY_INFO!$U$9:$U$1000=\"T1 (PZQ+ALB/MBD)\"), \"T1 (PZQ+ALB/MBD)\", \" \")","v":" "},null,null,null,null,null,null,0,null,null,null,0," "," "," "," "]
[{"$f":"IF(COUNTRY_INFO!A132=0,\" \",COUNTRY_INFO!A132)","v":"Mozambique"},{"$f":"IF(COUNTRY_INFO!B132=0,\" \",COUNTRY_INFO!B132)","v":"Inhambane"},{"$f":"IF(COUNTRY_INFO!C132=0,\" \",COUNTRY_INFO!C132)","v":"Inhassoro"},{"$f":"IF(OR(COUNTRY_INFO!$T$9:$T$1000=\"T1 (PZQ+ALB/MBD)\",COUNTRY_INFO!$U$9:$U$1000=\"T1 (PZQ+ALB/MBD)\"), \"T1 (PZQ+ALB/MBD)\", \" \")","v":" "},null,null,null,null,null,null,0,null,null,null,0," "," "," "," "]
[{"$f":"IF(COUNTRY_INFO!A133=0,\" \",COUNTRY_INFO!A133)","v":"Mozambique"},{"$f":"IF(COUNTRY_INFO!B133=0,\" \",COUNTRY_INFO!B133)","v":"Inhambane"},{"$f":"IF(COUNTRY_INFO!C133=0,\" \",COUNTRY_INFO!C133)","v":"Jangamo"},{"$f":"IF(OR(COUNTRY_INFO!$T$9:$T$1000=\"T1 (PZQ+ALB/MBD)\",COUNTRY_INFO!$U$9:$U$1000=\"T1 (PZQ+ALB/MBD)\"), \"T1 (PZQ+ALB/MBD)\", \" \")","v":" "},null,null,null,null,null,null,0,null,null,null,0," "," "," "," "]
[{"$f":"IF(COUNTRY_INFO!A134=0,\" \",COUNTRY_INFO!A134)","v":"Mozambique"},{"$f":"IF(COUNTRY_INFO!B134=0,\" \",COUNTRY_INFO!B134)","v":"Inhambane"},{"$f":"IF(COUNTRY_INFO!C134=0,\" \",COUNTRY_INFO!C134)","v":"Mabote"},{"$f":"IF(OR(COUNTRY_INFO!$T$9:$T$1000=\"T1 (PZQ+ALB/MBD)\",COUNTRY_INFO!$U$9:$U$1000=\"T1 (PZQ+ALB/MBD)\"), \"T1 (PZQ+ALB/MBD)\", \" \")","v":" "},null,null,null,null,null,null,0,null,null,null,0," "," "," "," "]
[{"$f":"IF(COUNTRY_INFO!A135=0,\" \",COUNTRY_INFO!A135)","v":"Mozambique"},{"$f":"IF(COUNTRY_INFO!B135=0,\" \",COUNTRY_INFO!B135)","v":"Inhambane"},{"$f":"IF(COUNTRY_INFO!C135=0,\" \",COUNTRY_INFO!C135)","v":"Massinga"},{"$f":"IF(OR(COUNTRY_INFO!$T$9:$T$1000=\"T1 (PZQ+ALB/MBD)\",COUNTRY_INFO!$U$9:$U$1000=\"T1 (PZQ+ALB/MBD)\"), \"T1 (PZQ+ALB/MBD)\", \" \")","v":" "},null,null,null,null,null,null,0,null,null,null,0," "," "," "," "]
[{"$f":"IF(COUNTRY_INFO!A136=0,\" \",COUNTRY_INFO!A136)","v":"Mozambique"},{"$f":"IF(COUNTRY_INFO!B136=0,\" \",COUNTRY_INFO!B136)","v":"Inhambane"},{"$f":"IF(COUNTRY_INFO!C136=0,\" \",COUNTRY_INFO!C136)","v":"Maxixe"},{"$f":"IF(OR(COUNTRY_INFO!$T$9:$T$1000=\"T1 (PZQ+ALB/MBD)\",COUNTRY_INFO!$U$9:$U$1000=\"T1 (PZQ+ALB/MBD)\"), \"T1 (PZQ+ALB/MBD)\", \" \")","v":" "},null,null,null,null,null,null,0,null,null,null,0," "," "," "," "]
[{"$f":"IF(COUNTRY_INFO!A137=0,\" \",COUNTRY_INFO!A137)","v":"Mozambique"},{"$f":"IF(COUNTRY_INFO!B137=0,\" \",COUNTRY_INFO!B137)","v":"Inhambane"},{"$f":"IF(COUNTRY_INFO!C137=0,\" \",COUNTRY_INFO!C137)","v":"Morrumbene"},{"$f":"IF(OR(COUNTRY_INFO!$T$9:$T$1000=\"T1 (PZQ+ALB/MBD)\",COUNTRY_INFO!$U$9:$U$1000=\"T1 (PZQ+ALB/MBD)\"), \"T1 (PZQ+ALB/MBD)\", \" \")","v":" "},null,null,null,null,null,null,0,null,null,null,0," "," "," "," "]
[{"$f":"IF(COUNTRY_INFO!A138=0,\" \",COUNTRY_INFO!A138)","v":"Mozambique"},{"$f":"IF(COUNTRY_INFO!B138=0,\" \",COUNTRY_INFO!B138)","v":"Inhambane"},{"$f":"IF(COUNTRY_INFO!C138=0,\" \",COUNTRY_INFO!C138)","v":"Panda"},{"$f":"IF(OR(COUNTRY_INFO!$T$9:$T$1000=\"T1 (PZQ+ALB/MBD)\",COUNTRY_INFO!$U$9:$U$1000=\"T1 (PZQ+ALB/MBD)\"), \"T1 (PZQ+ALB/MBD)\", \" \")","v":" "},null,null,null,null,null,null,{"$f":"MAX(H138:I138)+G138+J138","v":0},null,null,null,{"$f":"SUM(L138:N138)","v":0},{"$f":"IF(G138<>0, IF(L138/G138*100=0, \"-\", L138/G138*100), \" \")","v":" "},{"$f":"IF(OR(I138<>0,H138<>0), IF(M138/MAX(H138,I138)*100=0, \"-\", M138/MAX(H138,I138)*100), \" \")","v":" "},{"$f":"IF(J138<>0, IF(N138/J138*100=0, \"-\", N138/J138*100), \" \")","v":" "},{"$f":"IF(K138<>0, IF(O138/K138*100=0, \"-\", O138/K138*100), \" \")","v":" "}]
[{"$f":"IF(COUNTRY_INFO!A139=0,\" \",COUNTRY_INFO!A139)","v":"Mozambique"},{"$f":"IF(COUNTRY_INFO!B139=0,\" \",COUNTRY_INFO!B139)","v":"Inhambane"},{"$f":"IF(COUNTRY_INFO!C139=0,\" \",COUNTRY_INFO!C139)","v":"Vilanculos"},{"$f":"IF(OR(COUNTRY_INFO!$T$9:$T$1000=\"T1 (PZQ+ALB/MBD)\",COUNTRY_INFO!$U$9:$U$1000=\"T1 (PZQ+ALB/MBD)\"), \"T1 (PZQ+ALB/MBD)\", \" \")","v":" "},null,null,null,null,null,null,0,null,null,null,0," "," "," "," "]
[{"$f":"IF(COUNTRY_INFO!A140=0,\" \",COUNTRY_INFO!A140)","v":"Mozambique"},{"$f":"IF(COUNTRY_INFO!B140=0,\" \",COUNTRY_INFO!B140)","v":"Inhambane"},{"$f":"IF(COUNTRY_INFO!C140=0,\" \",COUNTRY_INFO!C140)","v":"Zavala"},{"$f":"IF(OR(COUNTRY_INFO!$T$9:$T$1000=\"T1 (PZQ+ALB/MBD)\",COUNTRY_INFO!$U$9:$U$1000=\"T1 (PZQ+ALB/MBD)\"), \"T1 (PZQ+ALB/MBD)\", \" \")","v":"T1 (PZQ+ALB/MBD)"},"PZQ+ALB","March 2019",null,46927,15485.91,null,46927,null,46711,null,46711," ",99.539710614358469," ",99.539710614358469]
[{"$f":"IF(COUNTRY_INFO!A141=0,\" \",COUNTRY_INFO!A141)","v":"Mozambique"},{"$f":"IF(COUNTRY_INFO!B141=0,\" \",COUNTRY_INFO!B141)","v":"Gaza"},{"$f":"IF(COUNTRY_INFO!C141=0,\" \",COUNTRY_INFO!C141)","v":"Cid Xai Xai"},{"$f":"IF(OR(COUNTRY_INFO!$T$9:$T$1000=\"T1 (PZQ+ALB/MBD)\",COUNTRY_INFO!$U$9:$U$1000=\"T1 (PZQ+ALB/MBD)\"), \"T1 (PZQ+ALB/MBD)\", \" \")","v":"T1 (PZQ+ALB/MBD)"},"PZQ+ALB","March 2019",null,42517,14030.61,null,42517,null,42345,null,42345," ",99.595455935272952," ",99.595455935272952]
[{"$f":"IF(COUNTRY_INFO!A142=0,\" \",COUNTRY_INFO!A142)","v":"Mozambique"},{"$f":"IF(COUNTRY_INFO!B142=0,\" \",COUNTRY_INFO!B142)","v":"Gaza"},{"$f":"IF(COUNTRY_INFO!C142=0,\" \",COUNTRY_INFO!C142)","v":"Bilene Macia"},{"$f":"IF(OR(COUNTRY_INFO!$T$9:$T$1000=\"T1 (PZQ+ALB/MBD)\",COUNTRY_INFO!$U$9:$U$1000=\"T1 (PZQ+ALB/MBD)\"), \"T1 (PZQ+ALB/MBD)\", \" \")","v":"T1 (PZQ+ALB/MBD)"},"PZQ+ALB","March 2019",null,44723,22361.5,null,44723,null,42613,null,42613," ",95.282069628602727," ",95.282069628602727]
[{"$f":"IF(COUNTRY_INFO!A143=0,\" \",COUNTRY_INFO!A143)","v":"Mozambique"},{"$f":"IF(COUNTRY_INFO!B143=0,\" \",COUNTRY_INFO!B143)","v":"Gaza"},{"$f":"IF(COUNTRY_INFO!C143=0,\" \",COUNTRY_INFO!C143)","v":"Chibuto"},{"$f":"IF(OR(COUNTRY_INFO!$T$9:$T$1000=\"T1 (PZQ+ALB/MBD)\",COUNTRY_INFO!$U$9:$U$1000=\"T1 (PZQ+ALB/MBD)\"), \"T1 (PZQ+ALB/MBD)\", \" \")","v":"T1 (PZQ+ALB/MBD)"},"PZQ+ALB","March 2019",null,65644,32822,null,65644,null,59262,null,59262," ",90.277862409359571," ",90.277862409359571]
[{"$f":"IF(COUNTRY_INFO!A144=0,\" \",COUNTRY_INFO!A144)","v":"Mozambique"},{"$f":"IF(COUNTRY_INFO!B144=0,\" \",COUNTRY_INFO!B144)","v":"Gaza"},{"$f":"IF(COUNTRY_INFO!C144=0,\" \",COUNTRY_INFO!C144)","v":"Chicualacuala"},{"$f":"IF(OR(COUNTRY_INFO!$T$9:$T$1000=\"T1 (PZQ+ALB/MBD)\",COUNTRY_INFO!$U$9:$U$1000=\"T1 (PZQ+ALB/MBD)\"), \"T1 (PZQ+ALB/MBD)\", \" \")","v":" "},null,null,null,null,null,null,0,null,null,null,0," "," "," "," "]
[{"$f":"IF(COUNTRY_INFO!A145=0,\" \",COUNTRY_INFO!A145)","v":"Mozambique"},{"$f":"IF(COUNTRY_INFO!B145=0,\" \",COUNTRY_INFO!B145)","v":"Gaza"},{"$f":"IF(COUNTRY_INFO!C145=0,\" \",COUNTRY_INFO!C145)","v":"Chigubo"},{"$f":"IF(OR(COUNTRY_INFO!$T$9:$T$1000=\"T1 (PZQ+ALB/MBD)\",COUNTRY_INFO!$U$9:$U$1000=\"T1 (PZQ+ALB/MBD)\"), \"T1 (PZQ+ALB/MBD)\", \" \")","v":"T1 (PZQ+ALB/MBD)"},"PZQ+ALB","March 2019",null,6906,3453,null,6906,null,6264,null,6264," ",90.70373588184188," ",90.70373588184188]
[{"$f":"IF(COUNTRY_INFO!A146=0,\" \",COUNTRY_INFO!A146)","v":"Mozambique"},{"$f":"IF(COUNTRY_INFO!B146=0,\" \",COUNTRY_INFO!B146)","v":"Gaza"},{"$f":"IF(COUNTRY_INFO!C146=0,\" \",COUNTRY_INFO!C146)","v":"Chokwé"},{"$f":"IF(OR(COUNTRY_INFO!$T$9:$T$1000=\"T1 (PZQ+ALB/MBD)\",COUNTRY_INFO!$U$9:$U$1000=\"T1 (PZQ+ALB/MBD)\"), \"T1 (PZQ+ALB/MBD)\", \" \")","v":"T1 (PZQ+ALB/MBD)"},"PZQ+ALB","March 2019",null,71366,35683,null,71366,null,57027,null,57027," ",79.907799232127346," ",79.907799232127346]
[{"$f":"IF(COUNTRY_INFO!A147=0,\" \",COUNTRY_INFO!A147)","v":"Mozambique"},{"$f":"IF(COUNTRY_INFO!B147=0,\" \",COUNTRY_INFO!B147)","v":"Gaza"},{"$f":"IF(COUNTRY_INFO!C147=0,\" \",COUNTRY_INFO!C147)","v":"Chongoene"},{"$f":"IF(OR(COUNTRY_INFO!$T$9:$T$1000=\"T1 (PZQ+ALB/MBD)\",COUNTRY_INFO!$U$9:$U$1000=\"T1 (PZQ+ALB/MBD)\"), \"T1 (PZQ+ALB/MBD)\", \" \")","v":"T1 (PZQ+ALB/MBD)"},"PZQ+ALB","March 2019",null,36091,11910.03,null,36091,null,33961,null,33961," ",94.098251641683518," ",94.098251641683518]
[{"$f":"IF(COUNTRY_INFO!A148=0,\" \",COUNTRY_INFO!A148)","v":"Mozambique"},{"$f":"IF(COUNTRY_INFO!B148=0,\" \",COUNTRY_INFO!B148)","v":"Gaza"},{"$f":"IF(COUNTRY_INFO!C148=0,\" \",COUNTRY_INFO!C148)","v":"Guijá"},{"$f":"IF(OR(COUNTRY_INFO!$T$9:$T$1000=\"T1 (PZQ+ALB/MBD)\",COUNTRY_INFO!$U$9:$U$1000=\"T1 (PZQ+ALB/MBD)\"), \"T1 (PZQ+ALB/MBD)\", \" \")","v":"T1 (PZQ+ALB/MBD)"},"PZQ+ALB","March 2019",null,27902,13951,null,27902,null,27499,null,27499," ",98.555659092538178," ",98.555659092538178]
[{"$f":"IF(COUNTRY_INFO!A149=0,\" \",COUNTRY_INFO!A149)","v":"Mozambique"},{"$f":"IF(COUNTRY_INFO!B149=0,\" \",COUNTRY_INFO!B149)","v":"Gaza"},{"$f":"IF(COUNTRY_INFO!C149=0,\" \",COUNTRY_INFO!C149)","v":"Limpopo"},{"$f":"IF(OR(COUNTRY_INFO!$T$9:$T$1000=\"T1 (PZQ+ALB/MBD)\",COUNTRY_INFO!$U$9:$U$1000=\"T1 (PZQ+ALB/MBD)\"), \"T1 (PZQ+ALB/MBD)\", \" \")","v":"T1 (PZQ+ALB/MBD)"},"PZQ+ALB","March 2019",null,45168,14905.44,null,45168,null,39484,null,39484," ",87.415869642224592," ",87.415869642224592]
[{"$f":"IF(COUNTRY_INFO!A150=0,\" \",COUNTRY_INFO!A150)","v":"Mozambique"},{"$f":"IF(COUNTRY_INFO!B150=0,\" \",COUNTRY_INFO!B150)","v":"Gaza"},{"$f":"IF(COUNTRY_INFO!C150=0,\" \",COUNTRY_INFO!C150)","v":"Mabalane"},{"$f":"IF(OR(COUNTRY_INFO!$T$9:$T$1000=\"T1 (PZQ+ALB/MBD)\",COUNTRY_INFO!$U$9:$U$1000=\"T1 (PZQ+ALB/MBD)\"), \"T1 (PZQ+ALB/MBD)\", \" \")","v":" "},null,null,null,null,null,null,0,null,null,null,0," "," "," "," "]
[{"$f":"IF(COUNTRY_INFO!A151=0,\" \",COUNTRY_INFO!A151)","v":"Mozambique"},{"$f":"IF(COUNTRY_INFO!B151=0,\" \",COUNTRY_INFO!B151)","v":"Gaza"},{"$f":"IF(COUNTRY_INFO!C151=0,\" \",COUNTRY_INFO!C151)","v":"Manjacaze"},{"$f":"IF(OR(COUNTRY_INFO!$T$9:$T$1000=\"T1 (PZQ+ALB/MBD)\",COUNTRY_INFO!$U$9:$U$1000=\"T1 (PZQ+ALB/MBD)\"), \"T1 (PZQ+ALB/MBD)\", \" \")","v":"T1 (PZQ+ALB/MBD)"},"PZQ+ALB","March 2019",null,41763,20881.5,null,41763,null,39045,null,39045," ",93.491846850082609," ",93.491846850082609]
[{"$f":"IF(COUNTRY_INFO!A152=0,\" \",COUNTRY_INFO!A152)","v":"Mozambique"},{"$f":"IF(COUNTRY_INFO!B152=0,\" \",COUNTRY_INFO!B152)","v":"Gaza"},{"$f":"IF(COUNTRY_INFO!C152=0,\" \",COUNTRY_INFO!C152)","v":"Mapai"},{"$f":"IF(OR(COUNTRY_INFO!$T$9:$T$1000=\"T1 (PZQ+ALB/MBD)\",COUNTRY_INFO!$U$9:$U$1000=\"T1 (PZQ+ALB/MBD)\"), \"T1 (PZQ+ALB/MBD)\", \" \")","v":" "},null,null,null,null,null,null,0,null,null,null,0," "," "," "," "]
[{"$f":"IF(COUNTRY_INFO!A153=0,\" \",COUNTRY_INFO!A153)","v":"Mozambique"},{"$f":"IF(COUNTRY_INFO!B153=0,\" \",COUNTRY_INFO!B153)","v":"Gaza"},{"$f":"IF(COUNTRY_INFO!C153=0,\" \",COUNTRY_INFO!C153)","v":"Massangena"},{"$f":"IF(OR(COUNTRY_INFO!$T$9:$T$1000=\"T1 (PZQ+ALB/MBD)\",COUNTRY_INFO!$U$9:$U$1000=\"T1 (PZQ+ALB/MBD)\"), \"T1 (PZQ+ALB/MBD)\", \" \")","v":"T1 (PZQ+ALB/MBD)"},"PZQ+ALB","March 2019",null,6525,3262.5,null,6525,null,6580,null,6580," ",100.84291187739463," ",100.84291187739463]
[{"$f":"IF(COUNTRY_INFO!A154=0,\" \",COUNTRY_INFO!A154)","v":"Mozambique"},{"$f":"IF(COUNTRY_INFO!B154=0,\" \",COUNTRY_INFO!B154)","v":"Gaza"},{"$f":"IF(COUNTRY_INFO!C154=0,\" \",COUNTRY_INFO!C154)","v":"Massingir"},{"$f":"IF(OR(COUNTRY_INFO!$T$9:$T$1000=\"T1 (PZQ+ALB/MBD)\",COUNTRY_INFO!$U$9:$U$1000=\"T1 (PZQ+ALB/MBD)\"), \"T1 (PZQ+ALB/MBD)\", \" \")","v":"T1 (PZQ+ALB/MBD)"},"PZQ+ALB","March 2019",null,11080,5540,null,11080,null,10735,null,10735," ",96.886281588447659," ",96.886281588447659]
[{"$f":"IF(COUNTRY_INFO!A155=0,\" \",COUNTRY_INFO!A155)","v":"Mozambique"},{"$f":"IF(COUNTRY_INFO!B155=0,\" \",COUNTRY_INFO!B155)","v":"Maputo Provincia"},{"$f":"IF(COUNTRY_INFO!C155=0,\" \",COUNTRY_INFO!C155)","v":"Matola"},{"$f":"IF(OR(COUNTRY_INFO!$T$9:$T$1000=\"T1 (PZQ+ALB/MBD)\",COUNTRY_INFO!$U$9:$U$1000=\"T1 (PZQ+ALB/MBD)\"), \"T1 (PZQ+ALB/MBD)\", \" \")","v":"T1 (PZQ+ALB/MBD)"},"PZQ+ALB","March 2019",null,299908,149954,null,299908,null,331562,null,331562," ",110.55457006815423," ",110.55457006815423]
[{"$f":"IF(COUNTRY_INFO!A156=0,\" \",COUNTRY_INFO!A156)","v":"Mozambique"},{"$f":"IF(COUNTRY_INFO!B156=0,\" \",COUNTRY_INFO!B156)","v":"Maputo Provincia"},{"$f":"IF(COUNTRY_INFO!C156=0,\" \",COUNTRY_INFO!C156)","v":"Boane"},{"$f":"IF(OR(COUNTRY_INFO!$T$9:$T$1000=\"T1 (PZQ+ALB/MBD)\",COUNTRY_INFO!$U$9:$U$1000=\"T1 (PZQ+ALB/MBD)\"), \"T1 (PZQ+ALB/MBD)\", \" \")","v":"T1 (PZQ+ALB/MBD)"},"PZQ+ALB","March 2019",null,51073,25536.5,null,51073,null,53758,null,53758," ",105.25718089793041," ",105.25718089793041]
[{"$f":"IF(COUNTRY_INFO!A157=0,\" \",COUNTRY_INFO!A157)","v":"Mozambique"},{"$f":"IF(COUNTRY_INFO!B157=0,\" \",COUNTRY_INFO!B157)","v":"Maputo Provincia"},{"$f":"IF(COUNTRY_INFO!C157=0,\" \",COUNTRY_INFO!C157)","v":"Magude"},{"$f":"IF(OR(COUNTRY_INFO!$T$9:$T$1000=\"T1 (PZQ+ALB/MBD)\",COUNTRY_INFO!$U$9:$U$1000=\"T1 (PZQ+ALB/MBD)\"), \"T1 (PZQ+ALB/MBD)\", \" \")","v":"T1 (PZQ+ALB/MBD)"},"PZQ+ALB","March 2019",null,18389,18389,null,18389,null,18283,null,18283," ",99.423568437652946," ",99.423568437652946]
[{"$f":"IF(COUNTRY_INFO!A158=0,\" \",COUNTRY_INFO!A158)","v":"Mozambique"},{"$f":"IF(COUNTRY_INFO!B158=0,\" \",COUNTRY_INFO!B158)","v":"Maputo Provincia"},{"$f":"IF(COUNTRY_INFO!C158=0,\" \",COUNTRY_INFO!C158)","v":"Manhica"},{"$f":"IF(OR(COUNTRY_INFO!$T$9:$T$1000=\"T1 (PZQ+ALB/MBD)\",COUNTRY_INFO!$U$9:$U$1000=\"T1 (PZQ+ALB/MBD)\"), \"T1 (PZQ+ALB/MBD)\", \" \")","v":"T1 (PZQ+ALB/MBD)"},"PZQ+ALB","March 2019",null,99129,49564.5,null,99129,null,99655,null,99655," ",100.53062171513886," ",100.53062171513886]
[{"$f":"IF(COUNTRY_INFO!A159=0,\" \",COUNTRY_INFO!A159)","v":"Mozambique"},{"$f":"IF(COUNTRY_INFO!B159=0,\" \",COUNTRY_INFO!B159)","v":"Maputo Provincia"},{"$f":"IF(COUNTRY_INFO!C159=0,\" \",COUNTRY_INFO!C159)","v":"Marracuene"},{"$f":"IF(OR(COUNTRY_INFO!$T$9:$T$1000=\"T1 (PZQ+ALB/MBD)\",COUNTRY_INFO!$U$9:$U$1000=\"T1 (PZQ+ALB/MBD)\"), \"T1 (PZQ+ALB/MBD)\", \" \")","v":"T1 (PZQ+ALB/MBD)"},"PZQ+ALB","March 2019",null,49111,24555.5,null,49111,null,52711,null,52711," ",107.33033332654598," ",107.33033332654598]
[{"$f":"IF(COUNTRY_INFO!A160=0,\" \",COUNTRY_INFO!A160)","v":"Mozambique"},{"$f":"IF(COUNTRY_INFO!B160=0,\" \",COUNTRY_INFO!B160)","v":"Maputo Provincia"},{"$f":"IF(COUNTRY_INFO!C160=0,\" \",COUNTRY_INFO!C160)","v":"Matutuíne"},{"$f":"IF(OR(COUNTRY_INFO!$T$9:$T$1000=\"T1 (PZQ+ALB/MBD)\",COUNTRY_INFO!$U$9:$U$1000=\"T1 (PZQ+ALB/MBD)\"), \"T1 (PZQ+ALB/MBD)\", \" \")","v":"T1 (PZQ+ALB/MBD)"},"PZQ+ALB","March 2019",null,11896,5948,null,11896,null,13821,null,13821," ",116.18190988567585," ",116.18190988567585]
[{"$f":"IF(COUNTRY_INFO!A161=0,\" \",COUNTRY_INFO!A161)","v":"Mozambique"},{"$f":"IF(COUNTRY_INFO!B161=0,\" \",COUNTRY_INFO!B161)","v":"Maputo Provincia"},{"$f":"IF(COUNTRY_INFO!C161=0,\" \",COUNTRY_INFO!C161)","v":"Moamba"},{"$f":"IF(OR(COUNTRY_INFO!$T$9:$T$1000=\"T1 (PZQ+ALB/MBD)\",COUNTRY_INFO!$U$9:$U$1000=\"T1 (PZQ+ALB/MBD)\"), \"T1 (PZQ+ALB/MBD)\", \" \")","v":"T1 (PZQ+ALB/MBD)"},"PZQ+ALB","March 2019",null,20675,10337.5,null,20675,null,22749,null,22749," ",110.03143893591294," ",110.03143893591294]
[{"$f":"IF(COUNTRY_INFO!A162=0,\" \",COUNTRY_INFO!A162)","v":"Mozambique"},{"$f":"IF(COUNTRY_INFO!B162=0,\" \",COUNTRY_INFO!B162)","v":"Maputo Provincia"},{"$f":"IF(COUNTRY_INFO!C162=0,\" \",COUNTRY_INFO!C162)","v":"Namaacha"},{"$f":"IF(OR(COUNTRY_INFO!$T$9:$T$1000=\"T1 (PZQ+ALB/MBD)\",COUNTRY_INFO!$U$9:$U$1000=\"T1 (PZQ+ALB/MBD)\"), \"T1 (PZQ+ALB/MBD)\", \" \")","v":"T1 (PZQ+ALB/MBD)"},"PZQ+ALB","March 2019",null,15577,15577,null,15577,null,15537,null,15537," ",99.743211144636319," ",99.743211144636319]
[{"$f":"IF(COUNTRY_INFO!A163=0,\" \",COUNTRY_INFO!A163)","v":"Mozambique"},{"$f":"IF(COUNTRY_INFO!B163=0,\" \",COUNTRY_INFO!B163)","v":"Cidade de Maputo"},{"$f":"IF(COUNTRY_INFO!C163=0,\" \",COUNTRY_INFO!C163)","v":"Kampfumu"},{"$f":"IF(OR(COUNTRY_INFO!$T$9:$T$1000=\"T1 (PZQ+ALB/MBD)\",COUNTRY_INFO!$U$9:$U$1000=\"T1 (PZQ+ALB/MBD)\"), \"T1 (PZQ+ALB/MBD)\", \" \")","v":"T1 (PZQ+ALB/MBD)"},"PZQ+ALB","March 2019",null,31624,15812,null,31624,null,31898,null,31898," ",100.86643055906906," ",100.86643055906906]
[{"$f":"IF(COUNTRY_INFO!A164=0,\" \",COUNTRY_INFO!A164)","v":"Mozambique"},{"$f":"IF(COUNTRY_INFO!B164=0,\" \",COUNTRY_INFO!B164)","v":"Cidade de Maputo"},{"$f":"IF(COUNTRY_INFO!C164=0,\" \",COUNTRY_INFO!C164)","v":"Nhlamankulu"},{"$f":"IF(OR(COUNTRY_INFO!$T$9:$T$1000=\"T1 (PZQ+ALB/MBD)\",COUNTRY_INFO!$U$9:$U$1000=\"T1 (PZQ+ALB/MBD)\"), \"T1 (PZQ+ALB/MBD)\", \" \")","v":"T1 (PZQ+ALB/MBD)"},"PZQ+ALB","March 2019",null,45310,22655,null,45310,null,49752,null,49752," ",109.80357536967557," ",109.80357536967557]
[{"$f":"IF(COUNTRY_INFO!A165=0,\" \",COUNTRY_INFO!A165)","v":"Mozambique"},{"$f":"IF(COUNTRY_INFO!B165=0,\" \",COUNTRY_INFO!B165)","v":"Cidade de Maputo"},{"$f":"IF(COUNTRY_INFO!C165=0,\" \",COUNTRY_INFO!C165)","v":"Kamaxakani"},{"$f":"IF(OR(COUNTRY_INFO!$T$9:$T$1000=\"T1 (PZQ+ALB/MBD)\",COUNTRY_INFO!$U$9:$U$1000=\"T1 (PZQ+ALB/MBD)\"), \"T1 (PZQ+ALB/MBD)\", \" \")","v":"T1 (PZQ+ALB/MBD)"},"PZQ+ALB","March 2019",null,65490,32745,null,65490,null,65128,null,65128," ",99.447243854023512," ",99.447243854023512]
[{"$f":"IF(COUNTRY_INFO!A166=0,\" \",COUNTRY_INFO!A166)","v":"Mozambique"},{"$f":"IF(COUNTRY_INFO!B166=0,\" \",COUNTRY_INFO!B166)","v":"Cidade de Maputo"},{"$f":"IF(COUNTRY_INFO!C166=0,\" \",COUNTRY_INFO!C166)","v":"Kamavota"},{"$f":"IF(OR(COUNTRY_INFO!$T$9:$T$1000=\"T1 (PZQ+ALB/MBD)\",COUNTRY_INFO!$U$9:$U$1000=\"T1 (PZQ+ALB/MBD)\"), \"T1 (PZQ+ALB/MBD)\", \" \")","v":"T1 (PZQ+ALB/MBD)"},"PZQ+ALB","March 2019",null,103876,51938,null,103876,null,111934,null,111934," ",107.75732604258926," ",107.75732604258926]
[{"$f":"IF(COUNTRY_INFO!A167=0,\" \",COUNTRY_INFO!A167)","v":"Mozambique"},{"$f":"IF(COUNTRY_INFO!B167=0,\" \",COUNTRY_INFO!B167)","v":"Cidade de Maputo"},{"$f":"IF(COUNTRY_INFO!C167=0,\" \",COUNTRY_INFO!C167)","v":"Kamubukwana"},{"$f":"IF(OR(COUNTRY_INFO!$T$9:$T$1000=\"T1 (PZQ+ALB/MBD)\",COUNTRY_INFO!$U$9:$U$1000=\"T1 (PZQ+ALB/MBD)\"), \"T1 (PZQ+ALB/MBD)\", \" \")","v":"T1 (PZQ+ALB/MBD)"},"PZQ+ALB","March 2019",null,110860,55430,null,110860,null,108495,null,108495," ",97.866678693848101," ",97.866678693848101]
[{"$f":"IF(COUNTRY_INFO!A168=0,\" \",COUNTRY_INFO!A168)","v":"Mozambique"},{"$f":"IF(COUNTRY_INFO!B168=0,\" \",COUNTRY_INFO!B168)","v":"Cidade de Maputo"},{"$f":"IF(COUNTRY_INFO!C168=0,\" \",COUNTRY_INFO!C168)","v":"Katembe"},{"$f":"IF(OR(COUNTRY_INFO!$T$9:$T$1000=\"T1 (PZQ+ALB/MBD)\",COUNTRY_INFO!$U$9:$U$1000=\"T1 (PZQ+ALB/MBD)\"), \"T1 (PZQ+ALB/MBD)\", \" \")","v":"T1 (PZQ+ALB/MBD)"},"PZQ+ALB","March 2019",null,6509,3254.5,null,6509,null,6657,null,6657," ",102.27377477339068," ",102.27377477339068]
[{"$f":"IF(COUNTRY_INFO!A169=0,\" \",COUNTRY_INFO!A169)","v":"Mozambique"},{"$f":"IF(COUNTRY_INFO!B169=0,\" \",COUNTRY_INFO!B169)","v":"Cidade de Maputo"},{"$f":"IF(COUNTRY_INFO!C169=0,\" \",COUNTRY_INFO!C169)","v":"Kanyaca"},{"$f":"IF(OR(COUNTRY_INFO!$T$9:$T$1000=\"T1 (PZQ+ALB/MBD)\",COUNTRY_INFO!$U$9:$U$1000=\"T1 (PZQ+ALB/MBD)\"), \"T1 (PZQ+ALB/MBD)\", \" \")","v":"T1 (PZQ+ALB/MBD)"},"PZQ+ALB","March 2019",null,1600,800,null,1600,null,1804,null,1804," ",112.75," ",112.75]

{"sheet":"T2","index":6,"n_rows":169,"n_cols":17,"rows_kept":169,"cut":false,"hidden":false,"merged":[[5,5,5,8],[5,9,5,12],[5,13,5,16],[3,0,3,2],[5,0,5,2],[5,3,6,3],[5,4,6,4]]}
["T 2 - Praziquantel (PZQ) "]
["Administrative structure, population requiring PC by age group, population treated by age group and coverage"]
[]
["TOTAL",null,null,null,null,{"$f":"SUM(F$9:F$1000)","v":0},1267317.4099999999,0,1267317.4099999999,0,1803075,0,1803075,{"$f":"IF(F4<>0, IF(J4/F4*100=0, \"-\", J4/F4*100), \" \")","v":" "},{"$f":"IF(G4<>0, IF(K4/G4*100=0, \"-\", K4/G4*100), \" \")","v":142.27493331761301},{"$f":"IF(H4<>0, IF(L4/H4*100=0, \"-\", L4/H4*100), \" \")","v":" "},{"$f":"IF(I4<>0, IF(M4/I4*100=0, \"-\", M4/I4*100), \" \")","v":142.27493331761301}]
[]
[null,null,null,"PC implemented","Date","Population targeted for T2",null,null,null,"Population treated",null,null,null,"Programme coverage (%)"]
["Country","Province/State","District",null,null,"PreSAC","SAC","Adults","Total","PreSAC","SAC","Adults","Total","PreSAC","SAC","Adults","Total"]
[]
[{"$f":"IF(COUNTRY_INFO!A9=0,\" \",COUNTRY_INFO!A9)","v":"Mozambique"},{"$f":"IF(COUNTRY_INFO!B9=0,\" \",COUNTRY_INFO!B9)","v":"Cabo Delgado"},{"$f":"IF(COUNTRY_INFO!C9=0,\" \",COUNTRY_INFO!C9)","v":"Cid. Pemba"},{"$f":"IF(OR(COUNTRY_INFO!$T$9:$T$1000=\"T2 (PZQ)\",COUNTRY_INFO!$U$9:$U$1000=\"T2 (PZQ)\"), \"T2 (PZQ)\", \" \")","v":" "},null,null,null,null,{"$f":"SUM(F9:H9)","v":0},null,null,null,{"$f":"SUM(J9:L9)","v":0},{"$f":"IF(F9<>0, IF(J9/F9*100=0, \"-\", J9/F9*100), \" \")","v":" "}," "," "," "]
[{"$f":"IF(COUNTRY_INFO!A10=0,\" \",COUNTRY_INFO!A10)","v":"Mozambique"},{"$f":"IF(COUNTRY_INFO!B10=0,\" \",COUNTRY_INFO!B10)","v":"Cabo Delgado"},{"$f":"IF(COUNTRY_INFO!C10=0,\" \",COUNTRY_INFO!C10)","v":"Ancuabe"},{"$f":"IF(OR(COUNTRY_INFO!$T$9:$T$1000=\"T2 (PZQ)\",COUNTRY_INFO!$U$9:$U$1000=\"T2 (PZQ)\"), \"T2 (PZQ)\", \" \")","v":" "},null,null,null,null,{"$f":"SUM(F10:H10)","v":0},null,null,null,{"$f":"SUM(J10:L10)","v":0},{"$f":"IF(F10<>0, IF(J10/F10*100=0, \"-\", J10/F10*100), \" \")","v":" "},{"$f":"IF(G10<>0, IF(K10/G10*100=0, \"-\", K10/G10*100), \" \")","v":" "},{"$f":"IF(H10<>0, IF(L10/H10*100=0, \"-\", L10/H10*100), \" \")","v":" "},{"$f":"IF(I10<>0, IF(M10/I10*100=0, \"-\", M10/I10*100), \" \")","v":" "}]
[{"$f":"IF(COUNTRY_INFO!A11=0,\" \",COUNTRY_INFO!A11)","v":"Mozambique"},{"$f":"IF(COUNTRY_INFO!B11=0,\" \",COUNTRY_INFO!B11)","v":"Cabo Delgado"},{"$f":"IF(COUNTRY_INFO!C11=0,\" \",COUNTRY_INFO!C11)","v":"Balama"},{"$f":"IF(OR(COUNTRY_INFO!$T$9:$T$1000=\"T2 (PZQ)\",COUNTRY_INFO!$U$9:$U$1000=\"T2 (PZQ)\"), \"T2 (PZQ)\", \" \")","v":" "},null,null,null,null,0,null,null,null,0," "," "," "," "]
[{"$f":"IF(COUNTRY_INFO!A12=0,\" \",COUNTRY_INFO!A12)","v":"Mozambique"},{"$f":"IF(COUNTRY_INFO!B12=0,\" \",COUNTRY_INFO!B12)","v":"Cabo Delgado"},{"$f":"IF(COUNTRY_INFO!C12=0,\" \",COUNTRY_INFO!C12)","v":"Chiure"},{"$f":"IF(OR(COUNTRY_INFO!$T$9:$T$1000=\"T2 (PZQ)\",COUNTRY_INFO!$U$9:$U$1000=\"T2 (PZQ)\"), \"T2 (PZQ)\", \" \")","v":" "},null,null,null,null,0,null,null,null,0," "," "," "," "]
[{"$f":"IF(COUNTRY_INFO!A13=0,\" \",COUNTRY_INFO!A13)","v":"Mozambique"},{"$f":"IF(COUNTRY_INFO!B13=0,\" \",COUNTRY_INFO!B13)","v":"Cabo Delgado"},{"$f":"IF(COUNTRY_INFO!C13=0,\" \",COUNTRY_INFO!C13)","v":"Ibo"},{"$f":"IF(OR(COUNTRY_INFO!$T$9:$T$1000=\"T2 (PZQ)\",COUNTRY_INFO!$U$9:$U$1000=\"T2 (PZQ)\"), \"T2 (PZQ)\", \" \")","v":" "},null,null,null,null,0,null,null,null,0," "," "," "," "]
[{"$f":"IF(COUNTRY_INFO!A14=0,\" \",COUNTRY_INFO!A14)","v":"Mozambique"},{"$f":"IF(COUNTRY_INFO!B14=0,\" \",COUNTRY_INFO!B14)","v":"Cabo Delgado"},{"$f":"IF(COUNTRY_INFO!C14=0,\" \",COUNTRY_INFO!C14)","v":"Macomia"},{"$f":"IF(OR(COUNTRY_INFO!$T$9:$T$1000=\"T2 (PZQ)\",COUNTRY_INFO!$U$9:$U$1000=\"T2 (PZQ)\"), \"T2 (PZQ)\", \" \")","v":" "},null,null,null,null,0,null,null,null,0," "," "," "," "]
[{"$f":"IF(COUNTRY_INFO!A15=0,\" \",COUNTRY_INFO!A15)","v":"Mozambique"},{"$f":"IF(COUNTRY_INFO!B15=0,\" \",COUNTRY_INFO!B15)","v":"Cabo Delgado"},{"$f":"IF(COUNTRY_INFO!C15=0,\" \",COUNTRY_INFO!C15)","v":"Mecufi"},{"$f":"IF(OR(COUNTRY_INFO!$T$9:$T$1000=\"T2 (PZQ)\",COUNTRY_INFO!$U$9:$U$1000=\"T2 (PZQ)\"), \"T2 (PZQ)\", \" \")","v":" "},null,null,null,null,0,null,null,null,0," "," "," "," "]
[{"$f":"IF(COUNTRY_INFO!A16=0,\" \",COUNTRY_INFO!A16)","v":"Mozambique"},{"$f":"IF(COUNTRY_INFO!B16=0,\" \",COUNTRY_INFO!B16)","v":"Cabo Delgado"},{"$f":"IF(COUNTRY_INFO!C16=0,\" \",COUNTRY_INFO!C16)","v":"Meluco"},{"$f":"IF(OR(COUNTRY_INFO!$T$9:$T$1000=\"T2 (PZQ)\",COUNTRY_INFO!$U$9:$U$1000=\"T2 (PZQ)\"), \"T2 (PZQ)\", \" \")","v":" "},null,null,null,null,0,null,null,null,0," "," "," "," "]
[{"$f":"IF(COUNTRY_INFO!A17=0,\" \",COUNTRY_INFO!A17)","v":"Mozambique"},{"$f":"IF(COUNTRY_INFO!B17=0,\" \",COUNTRY_INFO!B17)","v":"Cabo Delgado"},{"$f":"IF(COUNTRY_INFO!C17=0,\" \",COUNTRY_INFO!C17)","v":"Moc Praia"},{"$f":"IF(OR(COUNTRY_INFO!$T$9:$T$1000=\"T2 (PZQ)\",COUNTRY_INFO!$U$9:$U$1000=\"T2 (PZQ)\"), \"T2 (PZQ)\", \" \")","v":" "},null,null,null,null,0,null,null,null,0," "," "," "," "]
[{"$f":"IF(COUNTRY_INFO!A18=0,\" \",COUNTRY_INFO!A18)","v":"Mozambique"},{"$f":"IF(COUNTRY_INFO!B18=0,\" \",COUNTRY_INFO!B18)","v":"Cabo Delgado"},{"$f":"IF(COUNTRY_INFO!C18=0,\" \",COUNTRY_INFO!C18)","v":"Montepuez"},{"$f":"IF(OR(COUNTRY_INFO!$T$9:$T$1000=\"T2 (PZQ)\",COUNTRY_INFO!$U$9:$U$1000=\"T2 (PZQ)\"), \"T2 (PZQ)\", \" \")","v":" "},null,null,null,null,0,null,null,null,0," "," "," "," "]
[{"$f":"IF(COUNTRY_INFO!A19=0,\" \",COUNTRY_INFO!A19)","v":"Mozambique"},{"$f":"IF(COUNTRY_INFO!B19=0,\" \",COUNTRY_INFO!B19)","v":"Cabo Delgado"},{"$f":"IF(COUNTRY_INFO!C19=0,\" \",COUNTRY_INFO!C19)","v":"Mueda"},{"$f":"IF(OR(COUNTRY_INFO!$T$9:$T$1000=\"T2 (PZQ)\",COUNTRY_INFO!$U$9:$U$1000=\"T2 (PZQ)\"), \"T2 (PZQ)\", \" \")","v":" "},null,null,null,null,0,null,null,null,0," "," "," "," "]
[{"$f":"IF(COUNTRY_INFO!A20=0,\" \",COUNTRY_INFO!A20)","v":"Mozambique"},{"$f":"IF(COUNTRY_INFO!B20=0,\" \",COUNTRY_INFO!B20)","v":"Cabo Delgado"},{"$f":"IF(COUNTRY_INFO!C20=0,\" \",COUNTRY_INFO!C20)","v":"Muidumbe"},{"$f":"IF(OR(COUNTRY_INFO!$T$9:$T$1000=\"T2 (PZQ)\",COUNTRY_INFO!$U$9:$U$1000=\"T2 (PZQ)\"), \"T2 (PZQ)\", \" \")","v":" "},null,null,null,null,0,null,null,null,0," "," "," "," "]
[{"$f":"IF(COUNTRY_INFO!A21=0,\" \",COUNTRY_INFO!A21)","v":"Mozambique"},{"$f":"IF(COUNTRY_INFO!B21=0,\" \",COUNTRY_INFO!B21)","v":"Cabo Delgado"},{"$f":"IF(COUNTRY_INFO!C21=0,\" \",COUNTRY_INFO!C21)","v":"Namuno"},{"$f":"IF(OR(COUNTRY_INFO!$T$9:$T$1000=\"T2 (PZQ)\",COUNTRY_INFO!$U$9:$U$1000=\"T2 (PZQ)\"), \"T2 (PZQ)\", \" \")","v":" "},null,null,null,null,0,null,null,null,0," "," "," "," "]
[{"$f":"IF(COUNTRY_INFO!A22=0,\" \",COUNTRY_INFO!A22)","v":"Mozambique"},{"$f":"IF(COUNTRY_INFO!B22=0,\" \",COUNTRY_INFO!B22)","v":"Cabo Delgado"},{"$f":"IF(COUNTRY_INFO!C22=0,\" \",COUNTRY_INFO!C22)","v":"Nangade"},{"$f":"IF(OR(COUNTRY_INFO!$T$9:$T$1000=\"T2 (PZQ)\",COUNTRY_INFO!$U$9:$U$1000=\"T2 (PZQ)\"), \"T2 (PZQ)\", \" \")","v":" "},null,null,null,null,0,null,null,null,0," "," "," "," "]
[{"$f":"IF(COUNTRY_INFO!A23=0,\" \",COUNTRY_INFO!A23)","v":"Mozambique"},{"$f":"IF(COUNTRY_INFO!B23=0,\" \",COUNTRY_INFO!B23)","v":"Cabo Delgado"},{"$f":"IF(COUNTRY_INFO!C23=0,\" \",COUNTRY_INFO!C23)","v":"Palma"},{"$f":"IF(OR(COUNTRY_INFO!$T$9:$T$1000=\"T2 (PZQ)\",COUNTRY_INFO!$U$9:$U$1000=\"T2 (PZQ)\"), \"T2 (PZQ)\", \" \")","v":" "},null,null,null,null,0,null,null,null,0," "," "," "," "]
[{"$f":"IF(COUNTRY_INFO!A24=0,\" \",COUNTRY_INFO!A24)","v":"Mozambique"},{"$f":"IF(COUNTRY_INFO!B24=0,\" \",COUNTRY_INFO!B24)","v":"Cabo Delgado"},{"$f":"IF(COUNTRY_INFO!C24=0,\" \",COUNTRY_INFO!C24)","v":"Pemba Metuge"},{"$f":"IF(OR(COUNTRY_INFO!$T$9:$T$1000=\"T2 (PZQ)\",COUNTRY_INFO!$U$9:$U$1000=\"T2 (PZQ)\"), \"T2 (PZQ)\", \" \")","v":" "},null,null,null,null,0,null,null,null,0," "," "," "," "]
[{"$f":"IF(COUNTRY_INFO!A25=0,\" \",COUNTRY_INFO!A25)","v":"Mozambique"},{"$f":"IF(COUNTRY_INFO!B25=0,\" \",COUNTRY_INFO!B25)","v":"Cabo Delgado"},{"$f":"IF(COUNTRY_INFO!C25=0,\" \",COUNTRY_INFO!C25)","v":"Quissanga"},{"$f":"IF(OR(COUNTRY_INFO!$T$9:$T$1000=\"T2 (PZQ)\",COUNTRY_INFO!$U$9:$U$1000=\"T2 (PZQ)\"), \"T2 (PZQ)\", \" \")","v":" "},null,null,null,null,0,null,null,null,0," "," "," "," "]
[{"$f":"IF(COUNTRY_INFO!A26=0,\" \",COUNTRY_INFO!A26)","v":"Mozambique"},{"$f":"IF(COUNTRY_INFO!B26=0,\" \",COUNTRY_INFO!B26)","v":"Niassa"},{"$f":"IF(COUNTRY_INFO!C26=0,\" \",COUNTRY_INFO!C26)","v":"Cidade de Lichinga"},{"$f":"IF(OR(COUNTRY_INFO!$T$9:$T$1000=\"T2 (PZQ)\",COUNTRY_INFO!$U$9:$U$1000=\"T2 (PZQ)\"), \"T2 (PZQ)\", \" \")","v":" "},null,null,null,null,0,null,null,null,0," ",{"$f":"IF(G26<>0, IF('T1'!M26/G26*100=0, \"-\", 'T1'!M26/G26*100), \" \")","v":" "}," "," "]
[{"$f":"IF(COUNTRY_INFO!A27=0,\" \",COUNTRY_INFO!A27)","v":"Mozambique"},{"$f":"IF(COUNTRY_INFO!B27=0,\" \",COUNTRY_INFO!B27)","v":"Niassa"},{"$f":"IF(COUNTRY_INFO!C27=0,\" \",COUNTRY_INFO!C27)","v":"Cuamba"},{"$f":"IF(OR(COUNTRY_INFO!$T$9:$T$1000=\"T2 (PZQ)\",COUNTRY_INFO!$U$9:$U$1000=\"T2 (PZQ)\"), \"T2 (PZQ)\", \" \")","v":"T2 (PZQ)"},"March 2019",null,76357,null,76357,null,105477,null,105477," ",{"$f":"IF(G27<>0, IF(K27/G27*100=0, \"-\", K27/G27*100), \" \")","v":138.13664758961195}," ",138.13664758961195]
[{"$f":"IF(COUNTRY_INFO!A28=0,\" \",COUNTRY_INFO!A28)","v":"Mozambique"},{"$f":"IF(COUNTRY_INFO!B28=0,\" \",COUNTRY_INFO!B28)","v":"Niassa"},{"$f":"IF(COUNTRY_INFO!C28=0,\" \",COUNTRY_INFO!C28)","v":"Chimbonila"},{"$f":"IF(OR(COUNTRY_INFO!$T$9:$T$1000=\"T2 (PZQ)\",COUNTRY_INFO!$U$9:$U$1000=\"T2 (PZQ)\"), \"T2 (PZQ)\", \" \")","v":" "},null,null,null,null,0,null,null,null,0," "," "," "," "]
[{"$f":"IF(COUNTRY_INFO!A29=0,\" \",COUNTRY_INFO!A29)","v":"Mozambique"},{"$f":"IF(COUNTRY_INFO!B29=0,\" \",COUNTRY_INFO!B29)","v":"Niassa"},{"$f":"IF(COUNTRY_INFO!C29=0,\" \",COUNTRY_INFO!C29)","v":"Lago"},{"$f":"IF(OR(COUNTRY_INFO!$T$9:$T$1000=\"T2 (PZQ)\",COUNTRY_INFO!$U$9:$U$1000=\"T2 (PZQ)\"), \"T2 (PZQ)\", \" \")","v":" "},null,null,null,null,0,null,null,null,0," "," "," "," "]
[{"$f":"IF(COUNTRY_INFO!A30=0,\" \",COUNTRY_INFO!A30)","v":"Mozambique"},{"$f":"IF(COUNTRY_INFO!B30=0,\" \",COUNTRY_INFO!B30)","v":"Niassa"},{"$f":"IF(COUNTRY_INFO!C30=0,\" \",COUNTRY_INFO!C30)","v":"Majune"},{"$f":"IF(OR(COUNTRY_INFO!$T$9:$T$1000=\"T2 (PZQ)\",COUNTRY_INFO!$U$9:$U$1000=\"T2 (PZQ)\"), \"T2 (PZQ)\", \" \")","v":" "},null,null,null,null,0,null,null,null,0," "," "," "," "]
[{"$f":"IF(COUNTRY_INFO!A31=0,\" \",COUNTRY_INFO!A31)","v":"Mozambique"},{"$f":"IF(COUNTRY_INFO!B31=0,\" \",COUNTRY_INFO!B31)","v":"Niassa"},{"$f":"IF(COUNTRY_INFO!C31=0,\" \",COUNTRY_INFO!C31)","v":"Mandimba"},{"$f":"IF(OR(COUNTRY_INFO!$T$9:$T$1000=\"T2 (PZQ)\",COUNTRY_INFO!$U$9:$U$1000=\"T2 (PZQ)\"), \"T2 (PZQ)\", \" \")","v":" "},null,null,null,null,0,null,null,null,0," "," "," "," "]
[{"$f":"IF(COUNTRY_INFO!A32=0,\" \",COUNTRY_INFO!A32)","v":"Mozambique"},{"$f":"IF(COUNTRY_INFO!B32=0,\" \",COUNTRY_INFO!B32)","v":"Niassa"},{"$f":"IF(COUNTRY_INFO!C32=0,\" \",COUNTRY_INFO!C32)","v":"Marrupa"},{"$f":"IF(OR(COUNTRY_INFO!$T$9:$T$1000=\"T2 (PZQ)\",COUNTRY_INFO!$U$9:$U$1000=\"T2 (PZQ)\"), \"T2 (PZQ)\", \" \")","v":" "},null,null,null,null,0,null,null,null,0," "," "," "," "]
[{"$f":"IF(COUNTRY_INFO!A33=0,\" \",COUNTRY_INFO!A33)","v":"Mozambique"},{"$f":"IF(COUNTRY_INFO!B33=0,\" \",COUNTRY_INFO!B33)","v":"Niassa"},{"$f":"IF(COUNTRY_INFO!C33=0,\" \",COUNTRY_INFO!C33)","v":"Maúa"},{"$f":"IF(OR(COUNTRY_INFO!$T$9:$T$1000=\"T2 (PZQ)\",COUNTRY_INFO!$U$9:$U$1000=\"T2 (PZQ)\"), \"T2 (PZQ)\", \" \")","v":" "},null,null,null,null,0,null,null,null,0," "," "," "," "]
[{"$f":"IF(COUNTRY_INFO!A34=0,\" \",COUNTRY_INFO!A34)","v":"Mozambique"},{"$f":"IF(COUNTRY_INFO!B34=0,\" \",COUNTRY_INFO!B34)","v":"Niassa"},{"$f":"IF(COUNTRY_INFO!C34=0,\" \",COUNTRY_INFO!C34)","v":"Mavago"},{"$f":"IF(OR(COUNTRY_INFO!$T$9:$T$1000=\"T2 (PZQ)\",COUNTRY_INFO!$U$9:$U$1000=\"T2 (PZQ)\"), \"T2 (PZQ)\", \" \")","v":" "},null,null,null,null,0,null,null,null,0," "," "," "," "]
[{"$f":"IF(COUNTRY_INFO!A35=0,\" \",COUNTRY_INFO!A35)","v":"Mozambique"},{"$f":"IF(COUNTRY_INFO!B35=0,\" \",COUNTRY_INFO!B35)","v":"Niassa"},{"$f":"IF(COUNTRY_INFO!C35=0,\" \",COUNTRY_INFO!C35)","v":"Mecanhelas"},{"$f":"IF(OR(COUNTRY_INFO!$T$9:$T$1000=\"T2 (PZQ)\",COUNTRY_INFO!$U$9:$U$1000=\"T2 (PZQ)\"), \"T2 (PZQ)\", \" \")","v":"T2 (PZQ)"},"March 2019",null,91194,null,91194,null,90612,null,90612," ",99.361800118428846," ",99.361800118428846]
[{"$f":"IF(COUNTRY_INFO!A36=0,\" \",COUNTRY_INFO!A36)","v":"Mozambique"},{"$f":"IF(COUNTRY_INFO!B36=0,\" \",COUNTRY_INFO!B36)","v":"Niassa"},{"$f":"IF(COUNTRY_INFO!C36=0,\" \",COUNTRY_INFO!C36)","v":"Mecula"},{"$f":"IF(OR(COUNTRY_INFO!$T$9:$T$1000=\"T2 (PZQ)\",COUNTRY_INFO!$U$9:$U$1000=\"T2 (PZQ)\"), \"T2 (PZQ)\", \" \")","v":" "},null,null,null,null,0,null,null,null,0," "," "," "," "]
[{"$f":"IF(COUNTRY_INFO!A37=0,\" \",COUNTRY_INFO!A37)","v":"Mozambique"},{"$f":"IF(COUNTRY_INFO!B37=0,\" \",COUNTRY_INFO!B37)","v":"Niassa"},{"$f":"IF(COUNTRY_INFO!C37=0,\" \",COUNTRY_INFO!C37)","v":"Metarica"},{"$f":"IF(OR(COUNTRY_INFO!$T$9:$T$1000=\"T2 (PZQ)\",COUNTRY_INFO!$U$9:$U$1000=\"T2 (PZQ)\"), \"T2 (PZQ)\", \" \")","v":"T2 (PZQ)"},"March 2019",null,23036,null,23036,null,29321,null,29321," ",127.28338253168954," ",127.28338253168954]
[{"$f":"IF(COUNTRY_INFO!A38=0,\" \",COUNTRY_INFO!A38)","v":"Mozambique"},{"$f":"IF(COUNTRY_INFO!B38=0,\" \",COUNTRY_INFO!B38)","v":"Niassa"},{"$f":"IF(COUNTRY_INFO!C38=0,\" \",COUNTRY_INFO!C38)","v":"Muembe"},{"$f":"IF(OR(COUNTRY_INFO!$T$9:$T$1000=\"T2 (PZQ)\",COUNTRY_INFO!$U$9:$U$1000=\"T2 (PZQ)\"), \"T2 (PZQ)\", \" \")","v":" "},null,null,null,null,0,null,null,null,0," "," "," "," "]
[{"$f":"IF(COUNTRY_INFO!A39=0,\" \",COUNTRY_INFO!A39)","v":"Mozambique"},{"$f":"IF(COUNTRY_INFO!B39=0,\" \",COUNTRY_INFO!B39)","v":"Niassa"},{"$f":"IF(COUNTRY_INFO!C39=0,\" \",COUNTRY_INFO!C39)","v":"N'Gaúma"},{"$f":"IF(OR(COUNTRY_INFO!$T$9:$T$1000=\"T2 (PZQ)\",COUNTRY_INFO!$U$9:$U$1000=\"T2 (PZQ)\"), \"T2 (PZQ)\", \" \")","v":" "},null,null,null,null,0,null,null,null,0," "," "," "," "]
[{"$f":"IF(COUNTRY_INFO!A40=0,\" \",COUNTRY_INFO!A40)","v":"Mozambique"},{"$f":"IF(COUNTRY_INFO!B40=0,\" \",COUNTRY_INFO!B40)","v":"Niassa"},{"$f":"IF(COUNTRY_INFO!C40=0,\" \",COUNTRY_INFO!C40)","v":"Nipepe"},{"$f":"IF(OR(COUNTRY_INFO!$T$9:$T$1000=\"T2 (PZQ)\",COUNTRY_INFO!$U$9:$U$1000=\"T2 (PZQ)\"), \"T2 (PZQ)\", \" \")","v":" "},null,null,null,null,0,null,null,null,0," "," "," "," "]
[{"$f":"IF(COUNTRY_INFO!A41=0,\" \",COUNTRY_INFO!A41)","v":"Mozambique"},{"$f":"IF(COUNTRY_INFO!B41=0,\" \",COUNTRY_INFO!B41)","v":"Niassa"},{"$f":"IF(COUNTRY_INFO!C41=0,\" \",COUNTRY_INFO!C41)","v":"Sanga"},{"$f":"IF(OR(COUNTRY_INFO!$T$9:$T$1000=\"T2 (PZQ)\",COUNTRY_INFO!$U$9:$U$1000=\"T2 (PZQ)\"), \"T2 (PZQ)\", \" \")","v":" "},null,null,null,null,0,null,null,null,0," "," "," "," "]
[{"$f":"IF(COUNTRY_INFO!A42=0,\" \",COUNTRY_INFO!A42)","v":"Mozambique"},{"$f":"IF(COUNTRY_INFO!B42=0,\" \",COUNTRY_INFO!B42)","v":"Nampula"},{"$f":"IF(COUNTRY_INFO!C42=0,\" \",COUNTRY_INFO!C42)","v":"Cid. Nampula"},{"$f":"IF(OR(COUNTRY_INFO!$T$9:$T$1000=\"T2 (PZQ)\",COUNTRY_INFO!$U$9:$U$1000=\"T2 (PZQ)\"), \"T2 (PZQ)\", \" \")","v":" "},null,null,null,null,0,null,null,null,{"$f":"SUM(J42:L42)","v":0}," "," "," "," "]
[{"$f":"IF(COUNTRY_INFO!A43=0,\" \",COUNTRY_INFO!A43)","v":"Mozambique"},{"$f":"IF(COUNTRY_INFO!B43=0,\" \",COUNTRY_INFO!B43)","v":"Nampula"},{"$f":"IF(COUNTRY_INFO!C43=0,\" \",COUNTRY_INFO!C43)","v":"Angoche"},{"$f":"IF(OR(COUNTRY_INFO!$T$9:$T$1000=\"T2 (PZQ)\",COUNTRY_INFO!$U$9:$U$1000=\"T2 (PZQ)\"), \"T2 (PZQ)\", \" \")","v":" "},null,null,null,null,0,null,null,null,0," "," "," "," "]
[{"$f":"IF(COUNTRY_INFO!A44=0,\" \",COUNTRY_INFO!A44)","v":"Mozambique"},{"$f":"IF(COUNTRY_INFO!B44=0,\" \",COUNTRY_INFO!B44)","v":"Nampula"},{"$f":"IF(COUNTRY_INFO!C44=0,\" \",COUNTRY_INFO!C44)","v":"Erati"},{"$f":"IF(OR(COUNTRY_INFO!$T$9:$T$1000=\"T2 (PZQ)\",COUNTRY_INFO!$U$9:$U$1000=\"T2 (PZQ)\"), \"T2 (PZQ)\", \" \")","v":" "},null,null,null,null,0,null,null,null,0," "," "," "," "]
[{"$f":"IF(COUNTRY_INFO!A45=0,\" \",COUNTRY_INFO!A45)","v":"Mozambique"},{"$f":"IF(COUNTRY_INFO!B45=0,\" \",COUNTRY_INFO!B45)","v":"Nampula"},{"$f":"IF(COUNTRY_INFO!C45=0,\" \",COUNTRY_INFO!C45)","v":"Ilha Moc."},{"$f":"IF(OR(COUNTRY_INFO!$T$9:$T$1000=\"T2 (PZQ)\",COUNTRY_INFO!$U$9:$U$1000=\"T2 (PZQ)\"), \"T2 (PZQ)\", \" \")","v":" "},null,null,null,null,0,null,null,null,0," "," "," "," "]
[{"$f":"IF(COUNTRY_INFO!A46=0,\" \",COUNTRY_INFO!A46)","v":"Mozambique"},{"$f":"IF(COUNTRY_INFO!B46=0,\" \",COUNTRY_INFO!B46)","v":"Nampula"},{"$f":"IF(COUNTRY_INFO!C46=0,\" \",COUNTRY_INFO!C46)","v":"Lalaua"},{"$f":"IF(OR(COUNTRY_INFO!$T$9:$T$1000=\"T2 (PZQ)\",COUNTRY_INFO!$U$9:$U$1000=\"T2 (PZQ)\"), \"T2 (PZQ)\", \" \")","v":"T2 (PZQ)"},"November 2019",null,25939,null,25939,null,23521,null,23521," ",90.678129457573547," ",90.678129457573547]
[{"$f":"IF(COUNTRY_INFO!A47=0,\" \",COUNTRY_INFO!A47)","v":"Mozambique"},{"$f":"IF(COUNTRY_INFO!B47=0,\" \",COUNTRY_INFO!B47)","v":"Nampula"},{"$f":"IF(COUNTRY_INFO!C47=0,\" \",COUNTRY_INFO!C47)","v":"Larde"},{"$f":"IF(OR(COUNTRY_INFO!$T$9:$T$1000=\"T2 (PZQ)\",COUNTRY_INFO!$U$9:$U$1000=\"T2 (PZQ)\"), \"T2 (PZQ)\", \" \")","v":" "},null,null,null,null,0,null,null,null,0," "," "," "," "]
[{"$f":"IF(COUNTRY_INFO!A48=0,\" \",COUNTRY_INFO!A48)","v":"Mozambique"},{"$f":"IF(COUNTRY_INFO!B48=0,\" \",COUNTRY_INFO!B48)","v":"Nampula"},{"$f":"IF(COUNTRY_INFO!C48=0,\" \",COUNTRY_INFO!C48)","v":"Liupo"},{"$f":"IF(OR(COUNTRY_INFO!$T$9:$T$1000=\"T2 (PZQ)\",COUNTRY_INFO!$U$9:$U$1000=\"T2 (PZQ)\"), \"T2 (PZQ)\", \" \")","v":" "},null,null,null,null,0,null,null,null,0," "," "," "," "]
[{"$f":"IF(COUNTRY_INFO!A49=0,\" \",COUNTRY_INFO!A49)","v":"Mozambique"},{"$f":"IF(COUNTRY_INFO!B49=0,\" \",COUNTRY_INFO!B49)","v":"Nampula"},{"$f":"IF(COUNTRY_INFO!C49=0,\" \",COUNTRY_INFO!C49)","v":"Malema"},{"$f":"IF(OR(COUNTRY_INFO!$T$9:$T$1000=\"T2 (PZQ)\",COUNTRY_INFO!$U$9:$U$1000=\"T2 (PZQ)\"), \"T2 (PZQ)\", \" \")","v":" "},null,null,null,null,0,null,null,null,0," "," "," "," "]
[{"$f":"IF(COUNTRY_INFO!A50=0,\" \",COUNTRY_INFO!A50)","v":"Mozambique"},{"$f":"IF(COUNTRY_INFO!B50=0,\" \",COUNTRY_INFO!B50)","v":"Nampula"},{"$f":"IF(COUNTRY_INFO!C50=0,\" \",COUNTRY_INFO!C50)","v":"Meconta"},{"$f":"IF(OR(COUNTRY_INFO!$T$9:$T$1000=\"T2 (PZQ)\",COUNTRY_INFO!$U$9:$U$1000=\"T2 (PZQ)\"), \"T2 (PZQ)\", \" \")","v":" "},null,null,null,null,0,null,null,null,0," "," "," "," "]
[{"$f":"IF(COUNTRY_INFO!A51=0,\" \",COUNTRY_INFO!A51)","v":"Mozambique"},{"$f":"IF(COUNTRY_INFO!B51=0,\" \",COUNTRY_INFO!B51)","v":"Nampula"},{"$f":"IF(COUNTRY_INFO!C51=0,\" \",COUNTRY_INFO!C51)","v":"Mecuburi"},{"$f":"IF(OR(COUNTRY_INFO!$T$9:$T$1000=\"T2 (PZQ)\",COUNTRY_INFO!$U$9:$U$1000=\"T2 (PZQ)\"), \"T2 (PZQ)\", \" \")","v":" "},null,null,null,null,0,null,null,null,0," "," "," "," "]
[{"$f":"IF(COUNTRY_INFO!A52=0,\" \",COUNTRY_INFO!A52)","v":"Mozambique"},{"$f":"IF(COUNTRY_INFO!B52=0,\" \",COUNTRY_INFO!B52)","v":"Nampula"},{"$f":"IF(COUNTRY_INFO!C52=0,\" \",COUNTRY_INFO!C52)","v":"Memba"},{"$f":"IF(OR(COUNTRY_INFO!$T$9:$T$1000=\"T2 (PZQ)\",COUNTRY_INFO!$U$9:$U$1000=\"T2 (PZQ)\"), \"T2 (PZQ)\", \" \")","v":" "},null,null,null,null,0,null,null,null,0," "," "," "," "]
[{"$f":"IF(COUNTRY_INFO!A53=0,\" \",COUNTRY_INFO!A53)","v":"Mozambique"},{"$f":"IF(COUNTRY_INFO!B53=0,\" \",COUNTRY_INFO!B53)","v":"Nampula"},{"$f":"IF(COUNTRY_INFO!C53=0,\" \",COUNTRY_INFO!C53)","v":"Mogincual"},{"$f":"IF(OR(COUNTRY_INFO!$T$9:$T$1000=\"T2 (PZQ)\",COUNTRY_INFO!$U$9:$U$1000=\"T2 (PZQ)\"), \"T2 (PZQ)\", \" \")","v":" "},null,null,null,null,0,null,null,null,0," "," "," "," "]
[{"$f":"IF(COUNTRY_INFO!A54=0,\" \",COUNTRY_INFO!A54)","v":"Mozambique"},{"$f":"IF(COUNTRY_INFO!B54=0,\" \",COUNTRY_INFO!B54)","v":"Nampula"},{"$f":"IF(COUNTRY_INFO!C54=0,\" \",COUNTRY_INFO!C54)","v":"Mogovolas"},{"$f":"IF(OR(COUNTRY_INFO!$T$9:$T$1000=\"T2 (PZQ)\",COUNTRY_INFO!$U$9:$U$1000=\"T2 (PZQ)\"), \"T2 (PZQ)\", \" \")","v":" "},null,null,null,null,0,null,null,null,0," "," "," "," "]
[{"$f":"IF(COUNTRY_INFO!A55=0,\" \",COUNTRY_INFO!A55)","v":"Mozambique"},{"$f":"IF(COUNTRY_INFO!B55=0,\" \",COUNTRY_INFO!B55)","v":"Nampula"},{"$f":"IF(COUNTRY_INFO!C55=0,\" \",COUNTRY_INFO!C55)","v":"Moma"},{"$f":"IF(OR(COUNTRY_INFO!$T$9:$T$1000=\"T2 (PZQ)\",COUNTRY_INFO!$U$9:$U$1000=\"T2 (PZQ)\"), \"T2 (PZQ)\", \" \")","v":" "},null,null,null,null,0,null,null,null,0," "," "," "," "]
[{"$f":"IF(COUNTRY_INFO!A56=0,\" \",COUNTRY_INFO!A56)","v":"Mozambique"},{"$f":"IF(COUNTRY_INFO!B56=0,\" \",COUNTRY_INFO!B56)","v":"Nampula"},{"$f":"IF(COUNTRY_INFO!C56=0,\" \",COUNTRY_INFO!C56)","v":"Monapo"},{"$f":"IF(OR(COUNTRY_INFO!$T$9:$T$1000=\"T2 (PZQ)\",COUNTRY_INFO!$U$9:$U$1000=\"T2 (PZQ)\"), \"T2 (PZQ)\", \" \")","v":" "},null,null,null,null,0,null,null,null,0," "," "," "," "]
[{"$f":"IF(COUNTRY_INFO!A57=0,\" \",COUNTRY_INFO!A57)","v":"Mozambique"},{"$f":"IF(COUNTRY_INFO!B57=0,\" \",COUNTRY_INFO!B57)","v":"Nampula"},{"$f":"IF(COUNTRY_INFO!C57=0,\" \",COUNTRY_INFO!C57)","v":"Mossuril"},{"$f":"IF(OR(COUNTRY_INFO!$T$9:$T$1000=\"T2 (PZQ)\",COUNTRY_INFO!$U$9:$U$1000=\"T2 (PZQ)\"), \"T2 (PZQ)\", \" \")","v":" "},null,null,null,null,0,null,null,null,0," "," "," "," "]
[{"$f":"IF(COUNTRY_INFO!A58=0,\" \",COUNTRY_INFO!A58)","v":"Mozambique"},{"$f":"IF(COUNTRY_INFO!B58=0,\" \",COUNTRY_INFO!B58)","v":"Nampula"},{"$f":"IF(COUNTRY_INFO!C58=0,\" \",COUNTRY_INFO!C58)","v":"Muecate"},{"$f":"IF(OR(COUNTRY_INFO!$T$9:$T$1000=\"T2 (PZQ)\",COUNTRY_INFO!$U$9:$U$1000=\"T2 (PZQ)\"), \"T2 (PZQ)\", \" \")","v":" "},null,null,null,null,0,null,null,null,0," "," "," "," "]
[{"$f":"IF(COUNTRY_INFO!A59=0,\" \",COUNTRY_INFO!A59)","v":"Mozambique"},{"$f":"IF(COUNTRY_INFO!B59=0,\" \",COUNTRY_INFO!B59)","v":"Nampula"},{"$f":"IF(COUNTRY_INFO!C59=0,\" \",COUNTRY_INFO!C59)","v":"Murrupula"},{"$f":"IF(OR(COUNTRY_INFO!$T$9:$T$1000=\"T2 (PZQ)\",COUNTRY_INFO!$U$9:$U$1000=\"T2 (PZQ)\"), \"T2 (PZQ)\", \" \")","v":" "},null,null,null,null,0,null,null,null,0," "," "," "," "]
[{"$f":"IF(COUNTRY_INFO!A60=0,\" \",COUNTRY_INFO!A60)","v":"Mozambique"},{"$f":"IF(COUNTRY_INFO!B60=0,\" \",COUNTRY_INFO!B60)","v":"Nampula"},{"$f":"IF(COUNTRY_INFO!C60=0,\" \",COUNTRY_INFO!C60)","v":"Nacala Porto"},{"$f":"IF(OR(COUNTRY_INFO!$T$9:$T$1000=\"T2 (PZQ)\",COUNTRY_INFO!$U$9:$U$1000=\"T2 (PZQ)\"), \"T2 (PZQ)\", \" \")","v":" "},null,null,null,null,0,null,null,null,0," "," "," "," "]
[{"$f":"IF(COUNTRY_INFO!A61=0,\" \",COUNTRY_INFO!A61)","v":"Mozambique"},{"$f":"IF(COUNTRY_INFO!B61=0,\" \",COUNTRY_INFO!B61)","v":"Nampula"},{"$f":"IF(COUNTRY_INFO!C61=0,\" \",COUNTRY_INFO!C61)","v":"Nacala Velha"},{"$f":"IF(OR(COUNTRY_INFO!$T$9:$T$1000=\"T2 (PZQ)\",COUNTRY_INFO!$U$9:$U$1000=\"T2 (PZQ)\"), \"T2 (PZQ)\", \" \")","v":" "},null,null,null,null,0,null,null,null,0," "," "," "," "]
[{"$f":"IF(COUNTRY_INFO!A62=0,\" \",COUNTRY_INFO!A62)","v":"Mozambique"},{"$f":"IF(COUNTRY_INFO!B62=0,\" \",COUNTRY_INFO!B62)","v":"Nampula"},{"$f":"IF(COUNTRY_INFO!C62=0,\" \",COUNTRY_INFO!C62)","v":"Nacaroa"},{"$f":"IF(OR(COUNTRY_INFO!$T$9:$T$1000=\"T2 (PZQ)\",COUNTRY_INFO!$U$9:$U$1000=\"T2 (PZQ)\"), \"T2 (PZQ)\", \" \")","v":" "},null,null,null,null,0,null,null,null,0," "," "," "," "]
[{"$f":"IF(COUNTRY_INFO!A63=0,\" \",COUNTRY_INFO!A63)","v":"Mozambique"},{"$f":"IF(COUNTRY_INFO!B63=0,\" \",COUNTRY_INFO!B63)","v":"Nampula"},{"$f":"IF(COUNTRY_INFO!C63=0,\" \",COUNTRY_INFO!C63)","v":"Nampula Dist."},{"$f":"IF(OR(COUNTRY_INFO!$T$9:$T$1000=\"T2 (PZQ)\",COUNTRY_INFO!$U$9:$U$1000=\"T2 (PZQ)\"), \"T2 (PZQ)\", \" \")","v":"T2 (PZQ)"},"November 2019",null,49717,null,49717,null,39518,null,39518," ",79.485890138182114," ",79.485890138182114]
[{"$f":"IF(COUNTRY_INFO!A64=0,\" \",COUNTRY_INFO!A64)","v":"Mozambique"},{"$f":"IF(COUNTRY_INFO!B64=0,\" \",COUNTRY_INFO!B64)","v":"Nampula"},{"$f":"IF(COUNTRY_INFO!C64=0,\" \",COUNTRY_INFO!C64)","v":"Ribaué"},{"$f":"IF(OR(COUNTRY_INFO!$T$9:$T$1000=\"T2 (PZQ)\",COUNTRY_INFO!$U$9:$U$1000=\"T2 (PZQ)\"), \"T2 (PZQ)\", \" \")","v":"T2 (PZQ)"},"November 2019",null,82734,null,82734,null,70090,null,70090," ",84.717286726134361," ",84.717286726134361]
[{"$f":"IF(COUNTRY_INFO!A65=0,\" \",COUNTRY_INFO!A65)","v":"Mozambique"},{"$f":"IF(COUNTRY_INFO!B65=0,\" \",COUNTRY_INFO!B65)","v":"Zambezia"},{"$f":"IF(COUNTRY_INFO!C65=0,\" \",COUNTRY_INFO!C65)","v":"Quelimane"},{"$f":"IF(OR(COUNTRY_INFO!$T$9:$T$1000=\"T2 (PZQ)\",COUNTRY_INFO!$U$9:$U$1000=\"T2 (PZQ)\"), \"T2 (PZQ)\", \" \")","v":" "},null,null,null,null,0,null,null,null,0," "," "," "," "]
[{"$f":"IF(COUNTRY_INFO!A66=0,\" \",COUNTRY_INFO!A66)","v":"Mozambique"},{"$f":"IF(COUNTRY_INFO!B66=0,\" \",COUNTRY_INFO!B66)","v":"Zambezia"},{"$f":"IF(COUNTRY_INFO!C66=0,\" \",COUNTRY_INFO!C66)","v":"Alto Molocué"},{"$f":"IF(OR(COUNTRY_INFO!$T$9:$T$1000=\"T2 (PZQ)\",COUNTRY_INFO!$U$9:$U$1000=\"T2 (PZQ)\"), \"T2 (PZQ)\", \" \")","v":" "},null,null,null,null,0,null,null,null,0," "," "," "," "]
[{"$f":"IF(COUNTRY_INFO!A67=0,\" \",COUNTRY_INFO!A67)","v":"Mozambique"},{"$f":"IF(COUNTRY_INFO!B67=0,\" \",COUNTRY_INFO!B67)","v":"Zambezia"},{"$f":"IF(COUNTRY_INFO!C67=0,\" \",COUNTRY_INFO!C67)","v":"Chinde"},{"$f":"IF(OR(COUNTRY_INFO!$T$9:$T$1000=\"T2 (PZQ)\",COUNTRY_INFO!$U$9:$U$1000=\"T2 (PZQ)\"), \"T2 (PZQ)\", \" \")","v":" "},null,null,null,null,0,null,null,null,0," "," "," "," "]
[{"$f":"IF(COUNTRY_INFO!A68=0,\" \",COUNTRY_INFO!A68)","v":"Mozambique"},{"$f":"IF(COUNTRY_INFO!B68=0,\" \",COUNTRY_INFO!B68)","v":"Zambezia"},{"$f":"IF(COUNTRY_INFO!C68=0,\" \",COUNTRY_INFO!C68)","v":"Derre"},{"$f":"IF(OR(COUNTRY_INFO!$T$9:$T$1000=\"T2 (PZQ)\",COUNTRY_INFO!$U$9:$U$1000=\"T2 (PZQ)\"), \"T2 (PZQ)\", \" \")","v":" "},null,null,null,null,0,null,null,null,0," "," "," "," "]
[{"$f":"IF(COUNTRY_INFO!A69=0,\" \",COUNTRY_INFO!A69)","v":"Mozambique"},{"$f":"IF(COUNTRY_INFO!B69=0,\" \",COUNTRY_INFO!B69)","v":"Zambezia"},{"$f":"IF(COUNTRY_INFO!C69=0,\" \",COUNTRY_INFO!C69)","v":"Gilé"},{"$f":"IF(OR(COUNTRY_INFO!$T$9:$T$1000=\"T2 (PZQ)\",COUNTRY_INFO!$U$9:$U$1000=\"T2 (PZQ)\"), \"T2 (PZQ)\", \" \")","v":" "},null,null,null,null,0,null,null,null,0," "," "," "," "]
[{"$f":"IF(COUNTRY_INFO!A70=0,\" \",COUNTRY_INFO!A70)","v":"Mozambique"},{"$f":"IF(COUNTRY_INFO!B70=0,\" \",COUNTRY_INFO!B70)","v":"Zambezia"},{"$f":"IF(COUNTRY_INFO!C70=0,\" \",COUNTRY_INFO!C70)","v":"Gurué"},{"$f":"IF(OR(COUNTRY_INFO!$T$9:$T$1000=\"T2 (PZQ)\",COUNTRY_INFO!$U$9:$U$1000=\"T2 (PZQ)\"), \"T2 (PZQ)\", \" \")","v":" "},null,null,null,null,0,null,null,null,0," "," "," "," "]
[{"$f":"IF(COUNTRY_INFO!A71=0,\" \",COUNTRY_INFO!A71)","v":"Mozambique"},{"$f":"IF(COUNTRY_INFO!B71=0,\" \",COUNTRY_INFO!B71)","v":"Zambezia"},{"$f":"IF(COUNTRY_INFO!C71=0,\" \",COUNTRY_INFO!C71)","v":"Ile"},{"$f":"IF(OR(COUNTRY_INFO!$T$9:$T$1000=\"T2 (PZQ)\",COUNTRY_INFO!$U$9:$U$1000=\"T2 (PZQ)\"), \"T2 (PZQ)\", \" \")","v":" "},null,null,null,null,0,null,null,null,0," "," "," "," "]
[{"$f":"IF(COUNTRY_INFO!A72=0,\" \",COUNTRY_INFO!A72)","v":"Mozambique"},{"$f":"IF(COUNTRY_INFO!B72=0,\" \",COUNTRY_INFO!B72)","v":"Zambezia"},{"$f":"IF(COUNTRY_INFO!C72=0,\" \",COUNTRY_INFO!C72)","v":"Inhassunge"},{"$f":"IF(OR(COUNTRY_INFO!$T$9:$T$1000=\"T2 (PZQ)\",COUNTRY_INFO!$U$9:$U$1000=\"T2 (PZQ)\"), \"T2 (PZQ)\", \" \")","v":" "},null,null,null,null,0,null,null,null,0," "," "," "," "]
[{"$f":"IF(COUNTRY_INFO!A73=0,\" \",COUNTRY_INFO!A73)","v":"Mozambique"},{"$f":"IF(COUNTRY_INFO!B73=0,\" \",COUNTRY_INFO!B73)","v":"Zambezia"},{"$f":"IF(COUNTRY_INFO!C73=0,\" \",COUNTRY_INFO!C73)","v":"Luabo"},{"$f":"IF(OR(COUNTRY_INFO!$T$9:$T$1000=\"T2 (PZQ)\",COUNTRY_INFO!$U$9:$U$1000=\"T2 (PZQ)\"), \"T2 (PZQ)\", \" \")","v":" "},null,null,null,null,0,null,null,null,0," "," "," "," "]
[{"$f":"IF(COUNTRY_INFO!A74=0,\" \",COUNTRY_INFO!A74)","v":"Mozambique"},{"$f":"IF(COUNTRY_INFO!B74=0,\" \",COUNTRY_INFO!B74)","v":"Zambezia"},{"$f":"IF(COUNTRY_INFO!C74=0,\" \",COUNTRY_INFO!C74)","v":"Lugela"},{"$f":"IF(OR(COUNTRY_INFO!$T$9:$T$1000=\"T2 (PZQ)\",COUNTRY_INFO!$U$9:$U$1000=\"T2 (PZQ)\"), \"T2 (PZQ)\", \" \")","v":" "},null,null,null,null,{"$f":"SUM(F74:H74)","v":0},null,null,null,{"$f":"SUM(J74:L74)","v":0},{"$f":"IF(F74<>0, IF(J74/F74*100=0, \"-\", J74/F74*100), \" \")","v":" "},{"$f":"IF(G74<>0, IF(K74/G74*100=0, \"-\", K74/G74*100), \" \")","v":" "},{"$f":"IF(H74<>0, IF(L74/H74*100=0, \"-\", L74/H74*100), \" \")","v":" "},{"$f":"IF(I74<>0, IF(M74/I74*100=0, \"-\", M74/I74*100), \" \")","v":" "}]
[{"$f":"IF(COUNTRY_INFO!A75=0,\" \",COUNTRY_INFO!A75)","v":"Mozambique"},{"$f":"IF(COUNTRY_INFO!B75=0,\" \",COUNTRY_INFO!B75)","v":"Zambezia"},{"$f":"IF(COUNTRY_INFO!C75=0,\" \",COUNTRY_INFO!C75)","v":"Maganja da Costa"},{"$f":"IF(OR(COUNTRY_INFO!$T$9:$T$1000=\"T2 (PZQ)\",COUNTRY_INFO!$U$9:$U$1000=\"T2 (PZQ)\"), \"T2 (PZQ)\", \" \")","v":" "},null,null,null,null,0,null,null,null,0," "," "," "," "]
[{"$f":"IF(COUNTRY_INFO!A76=0,\" \",COUNTRY_INFO!A76)","v":"Mozambique"},{"$f":"IF(COUNTRY_INFO!B76=0,\" \",COUNTRY_INFO!B76)","v":"Zambezia"},{"$f":"IF(COUNTRY_INFO!C76=0,\" \",COUNTRY_INFO!C76)","v":"Milange"},{"$f":"IF(OR(COUNTRY_INFO!$T$9:$T$1000=\"T2 (PZQ)\",COUNTRY_INFO!$U$9:$U$1000=\"T2 (PZQ)\"), \"T2 (PZQ)\", \" \")","v":" "},null,null,null,null,0,null,null,null,0," "," "," "," "]
[{"$f":"IF(COUNTRY_INFO!A77=0,\" \",COUNTRY_INFO!A77)","v":"Mozambique"},{"$f":"IF(COUNTRY_INFO!B77=0,\" \",COUNTRY_INFO!B77)","v":"Zambezia"},{"$f":"IF(COUNTRY_INFO!C77=0,\" \",COUNTRY_INFO!C77)","v":"Mocuba"},{"$f":"IF(OR(COUNTRY_INFO!$T$9:$T$1000=\"T2 (PZQ)\",COUNTRY_INFO!$U$9:$U$1000=\"T2 (PZQ)\"), \"T2 (PZQ)\", \" \")","v":" "},null,null,null,null,0,null,null,null,0," "," "," "," "]
[{"$f":"IF(COUNTRY_INFO!A78=0,\" \",COUNTRY_INFO!A78)","v":"Mozambique"},{"$f":"IF(COUNTRY_INFO!B78=0,\" \",COUNTRY_INFO!B78)","v":"Zambezia"},{"$f":"IF(COUNTRY_INFO!C78=0,\" \",COUNTRY_INFO!C78)","v":"Mocubela"},{"$f":"IF(OR(COUNTRY_INFO!$T$9:$T$1000=\"T2 (PZQ)\",COUNTRY_INFO!$U$9:$U$1000=\"T2 (PZQ)\"), \"T2 (PZQ)\", \" \")","v":" "},null,null,null,null,0,null,null,null,0," "," "," "," "]
[{"$f":"IF(COUNTRY_INFO!A79=0,\" \",COUNTRY_INFO!A79)","v":"Mozambique"},{"$f":"IF(COUNTRY_INFO!B79=0,\" \",COUNTRY_INFO!B79)","v":"Zambezia"},{"$f":"IF(COUNTRY_INFO!C79=0,\" \",COUNTRY_INFO!C79)","v":"Molumbo"},{"$f":"IF(OR(COUNTRY_INFO!$T$9:$T$1000=\"T2 (PZQ)\",COUNTRY_INFO!$U$9:$U$1000=\"T2 (PZQ)\"), \"T2 (PZQ)\", \" \")","v":" "},null,null,null,null,0,null,null,null,0," "," "," "," "]
[{"$f":"IF(COUNTRY_INFO!A80=0,\" \",COUNTRY_INFO!A80)","v":"Mozambique"},{"$f":"IF(COUNTRY_INFO!B80=0,\" \",COUNTRY_INFO!B80)","v":"Zambezia"},{"$f":"IF(COUNTRY_INFO!C80=0,\" \",COUNTRY_INFO!C80)","v":"Mopeia"},{"$f":"IF(OR(COUNTRY_INFO!$T$9:$T$1000=\"T2 (PZQ)\",COUNTRY_INFO!$U$9:$U$1000=\"T2 (PZQ)\"), \"T2 (PZQ)\", \" \")","v":" "},null,null,null,null,0,null,null,null,0," "," "," "," "]
[{"$f":"IF(COUNTRY_INFO!A81=0,\" \",COUNTRY_INFO!A81)","v":"Mozambique"},{"$f":"IF(COUNTRY_INFO!B81=0,\" \",COUNTRY_INFO!B81)","v":"Zambezia"},{"$f":"IF(COUNTRY_INFO!C81=0,\" \",COUNTRY_INFO!C81)","v":"Morrumbala"},{"$f":"IF(OR(COUNTRY_INFO!$T$9:$T$1000=\"T2 (PZQ)\",COUNTRY_INFO!$U$9:$U$1000=\"T2 (PZQ)\"), \"T2 (PZQ)\", \" \")","v":" "},null,null,null,null,0,null,null,null,0," "," "," "," "]
[{"$f":"IF(COUNTRY_INFO!A82=0,\" \",COUNTRY_INFO!A82)","v":"Mozambique"},{"$f":"IF(COUNTRY_INFO!B82=0,\" \",COUNTRY_INFO!B82)","v":"Zambezia"},{"$f":"IF(COUNTRY_INFO!C82=0,\" \",COUNTRY_INFO!C82)","v":"Mulevala"},{"$f":"IF(OR(COUNTRY_INFO!$T$9:$T$1000=\"T2 (PZQ)\",COUNTRY_INFO!$U$9:$U$1000=\"T2 (PZQ)\"), \"T2 (PZQ)\", \" \")","v":" "},null,null,null,null,0,null,null,null,0," "," "," "," "]
[{"$f":"IF(COUNTRY_INFO!A83=0,\" \",COUNTRY_INFO!A83)","v":"Mozambique"},{"$f":"IF(COUNTRY_INFO!B83=0,\" \",COUNTRY_INFO!B83)","v":"Zambezia"},{"$f":"IF(COUNTRY_INFO!C83=0,\" \",COUNTRY_INFO!C83)","v":"Namacurra"},{"$f":"IF(OR(COUNTRY_INFO!$T$9:$T$1000=\"T2 (PZQ)\",COUNTRY_INFO!$U$9:$U$1000=\"T2 (PZQ)\"), \"T2 (PZQ)\", \" \")","v":" "},null,null,null,null,0,null,null,null,0," "," "," "," "]
[{"$f":"IF(COUNTRY_INFO!A84=0,\" \",COUNTRY_INFO!A84)","v":"Mozambique"},{"$f":"IF(COUNTRY_INFO!B84=0,\" \",COUNTRY_INFO!B84)","v":"Zambezia"},{"$f":"IF(COUNTRY_INFO!C84=0,\" \",COUNTRY_INFO!C84)","v":"Namarrói"},{"$f":"IF(OR(COUNTRY_INFO!$T$9:$T$1000=\"T2 (PZQ)\",COUNTRY_INFO!$U$9:$U$1000=\"T2 (PZQ)\"), \"T2 (PZQ)\", \" \")","v":" "},null,null,null,null,0,null,null,null,0," "," "," "," "]
[{"$f":"IF(COUNTRY_INFO!A85=0,\" \",COUNTRY_INFO!A85)","v":"Mozambique"},{"$f":"IF(COUNTRY_INFO!B85=0,\" \",COUNTRY_INFO!B85)","v":"Zambezia"},{"$f":"IF(COUNTRY_INFO!C85=0,\" \",COUNTRY_INFO!C85)","v":"Nicoadala"},{"$f":"IF(OR(COUNTRY_INFO!$T$9:$T$1000=\"T2 (PZQ)\",COUNTRY_INFO!$U$9:$U$1000=\"T2 (PZQ)\"), \"T2 (PZQ)\", \" \")","v":" "},null,null,null,null,0,null,null,null,0," "," "," "," "]
[{"$f":"IF(COUNTRY_INFO!A86=0,\" \",COUNTRY_INFO!A86)","v":"Mozambique"},{"$f":"IF(COUNTRY_INFO!B86=0,\" \",COUNTRY_INFO!B86)","v":"Zambezia"},{"$f":"IF(COUNTRY_INFO!C86=0,\" \",COUNTRY_INFO!C86)","v":"Pebane"},{"$f":"IF(OR(COUNTRY_INFO!$T$9:$T$1000=\"T2 (PZQ)\",COUNTRY_INFO!$U$9:$U$1000=\"T2 (PZQ)\"), \"T2 (PZQ)\", \" \")","v":" "},null,null,null,null,0,null,null,null,0," "," "," "," "]
[{"$f":"IF(COUNTRY_INFO!A87=0,\" \",COUNTRY_INFO!A87)","v":"Mozambique"},{"$f":"IF(COUNTRY_INFO!B87=0,\" \",COUNTRY_INFO!B87)","v":"Tete"},{"$f":"IF(COUNTRY_INFO!C87=0,\" \",COUNTRY_INFO!C87)","v":"Cid Tete"},{"$f":"IF(OR(COUNTRY_INFO!$T$9:$T$1000=\"T2 (PZQ)\",COUNTRY_INFO!$U$9:$U$1000=\"T2 (PZQ)\"), \"T2 (PZQ)\", \" \")","v":" "},null,null,null,null,0,null,null,null,0," "," "," "," "]
[{"$f":"IF(COUNTRY_INFO!A88=0,\" \",COUNTRY_INFO!A88)","v":"Mozambique"},{"$f":"IF(COUNTRY_INFO!B88=0,\" \",COUNTRY_INFO!B88)","v":"Tete"},{"$f":"IF(COUNTRY_INFO!C88=0,\" \",COUNTRY_INFO!C88)","v":"Angónia"},{"$f":"IF(OR(COUNTRY_INFO!$T$9:$T$1000=\"T2 (PZQ)\",COUNTRY_INFO!$U$9:$U$1000=\"T2 (PZQ)\"), \"T2 (PZQ)\", \" \")","v":" "},null,null,null,null,0,null,null,null,0," "," "," "," "]
[{"$f":"IF(COUNTRY_INFO!A89=0,\" \",COUNTRY_INFO!A89)","v":"Mozambique"},{"$f":"IF(COUNTRY_INFO!B89=0,\" \",COUNTRY_INFO!B89)","v":"Tete"},{"$f":"IF(COUNTRY_INFO!C89=0,\" \",COUNTRY_INFO!C89)","v":"Cahora Bassa"},{"$f":"IF(OR(COUNTRY_INFO!$T$9:$T$1000=\"T2 (PZQ)\",COUNTRY_INFO!$U$9:$U$1000=\"T2 (PZQ)\"), \"T2 (PZQ)\", \" \")","v":" "},null,null,null,null,0,null,null,null,0," "," "," "," "]
[{"$f":"IF(COUNTRY_INFO!A90=0,\" \",COUNTRY_INFO!A90)","v":"Mozambique"},{"$f":"IF(COUNTRY_INFO!B90=0,\" \",COUNTRY_INFO!B90)","v":"Tete"},{"$f":"IF(COUNTRY_INFO!C90=0,\" \",COUNTRY_INFO!C90)","v":"Changara "},{"$f":"IF(OR(COUNTRY_INFO!$T$9:$T$1000=\"T2 (PZQ)\",COUNTRY_INFO!$U$9:$U$1000=\"T2 (PZQ)\"), \"T2 (PZQ)\", \" \")","v":" "},null,null,null,null,0,null,null,null,0," "," "," "," "]
[{"$f":"IF(COUNTRY_INFO!A91=0,\" \",COUNTRY_INFO!A91)","v":"Mozambique"},{"$f":"IF(COUNTRY_INFO!B91=0,\" \",COUNTRY_INFO!B91)","v":"Tete"},{"$f":"IF(COUNTRY_INFO!C91=0,\" \",COUNTRY_INFO!C91)","v":"Chifunde"},{"$f":"IF(OR(COUNTRY_INFO!$T$9:$T$1000=\"T2 (PZQ)\",COUNTRY_INFO!$U$9:$U$1000=\"T2 (PZQ)\"), \"T2 (PZQ)\", \" \")","v":"T2 (PZQ)"},"April 2019",null,27913,null,27913,null,63974,null,63974," ",229.19069967398701," ",229.19069967398701]
[{"$f":"IF(COUNTRY_INFO!A92=0,\" \",COUNTRY_INFO!A92)","v":"Mozambique"},{"$f":"IF(COUNTRY_INFO!B92=0,\" \",COUNTRY_INFO!B92)","v":"Tete"},{"$f":"IF(COUNTRY_INFO!C92=0,\" \",COUNTRY_INFO!C92)","v":"Chiúta"},{"$f":"IF(OR(COUNTRY_INFO!$T$9:$T$1000=\"T2 (PZQ)\",COUNTRY_INFO!$U$9:$U$1000=\"T2 (PZQ)\"), \"T2 (PZQ)\", \" \")","v":" "},null,null,null,null,0,null,null,null,0," "," "," "," "]
[{"$f":"IF(COUNTRY_INFO!A93=0,\" \",COUNTRY_INFO!A93)","v":"Mozambique"},{"$f":"IF(COUNTRY_INFO!B93=0,\" \",COUNTRY_INFO!B93)","v":"Tete"},{"$f":"IF(COUNTRY_INFO!C93=0,\" \",COUNTRY_INFO!C93)","v":"Doa"},{"$f":"IF(OR(COUNTRY_INFO!$T$9:$T$1000=\"T2 (PZQ)\",COUNTRY_INFO!$U$9:$U$1000=\"T2 (PZQ)\"), \"T2 (PZQ)\", \" \")","v":"T2 (PZQ)"},"April 2019",null,30496,null,30496,null,28234,null,28234," ",92.582633788037768," ",92.582633788037768]
[{"$f":"IF(COUNTRY_INFO!A94=0,\" \",COUNTRY_INFO!A94)","v":"Mozambique"},{"$f":"IF(COUNTRY_INFO!B94=0,\" \",COUNTRY_INFO!B94)","v":"Tete"},{"$f":"IF(COUNTRY_INFO!C94=0,\" \",COUNTRY_INFO!C94)","v":"Macanga"},{"$f":"IF(OR(COUNTRY_INFO!$T$9:$T$1000=\"T2 (PZQ)\",COUNTRY_INFO!$U$9:$U$1000=\"T2 (PZQ)\"), \"T2 (PZQ)\", \" \")","v":" "},null,null,null,null,0,null,null,null,0," "," "," "," "]
[{"$f":"IF(COUNTRY_INFO!A95=0,\" \",COUNTRY_INFO!A95)","v":"Mozambique"},{"$f":"IF(COUNTRY_INFO!B95=0,\" \",COUNTRY_INFO!B95)","v":"Tete"},{"$f":"IF(COUNTRY_INFO!C95=0,\" \",COUNTRY_INFO!C95)","v":"Magoe"},{"$f":"IF(OR(COUNTRY_INFO!$T$9:$T$1000=\"T2 (PZQ)\",COUNTRY_INFO!$U$9:$U$1000=\"T2 (PZQ)\"), \"T2 (PZQ)\", \" \")","v":" "},null,null,null,null,0,null,null,null,0," "," "," "," "]
[{"$f":"IF(COUNTRY_INFO!A96=0,\" \",COUNTRY_INFO!A96)","v":"Mozambique"},{"$f":"IF(COUNTRY_INFO!B96=0,\" \",COUNTRY_INFO!B96)","v":"Tete"},{"$f":"IF(COUNTRY_INFO!C96=0,\" \",COUNTRY_INFO!C96)","v":"Marávia"},{"$f":"IF(OR(COUNTRY_INFO!$T$9:$T$1000=\"T2 (PZQ)\",COUNTRY_INFO!$U$9:$U$1000=\"T2 (PZQ)\"), \"T2 (PZQ)\", \" \")","v":" "},null,null,null,null,0,null,null,null,0," "," "," "," "]
[{"$f":"IF(COUNTRY_INFO!A97=0,\" \",COUNTRY_INFO!A97)","v":"Mozambique"},{"$f":"IF(COUNTRY_INFO!B97=0,\" \",COUNTRY_INFO!B97)","v":"Tete"},{"$f":"IF(COUNTRY_INFO!C97=0,\" \",COUNTRY_INFO!C97)","v":"Marara"},{"$f":"IF(OR(COUNTRY_INFO!$T$9:$T$1000=\"T2 (PZQ)\",COUNTRY_INFO!$U$9:$U$1000=\"T2 (PZQ)\"), \"T2 (PZQ)\", \" \")","v":" "},null,null,null,null,0,null,null,null,0," "," "," "," "]
[{"$f":"IF(COUNTRY_INFO!A98=0,\" \",COUNTRY_INFO!A98)","v":"Mozambique"},{"$f":"IF(COUNTRY_INFO!B98=0,\" \",COUNTRY_INFO!B98)","v":"Tete"},{"$f":"IF(COUNTRY_INFO!C98=0,\" \",COUNTRY_INFO!C98)","v":"Moatize"},{"$f":"IF(OR(COUNTRY_INFO!$T$9:$T$1000=\"T2 (PZQ)\",COUNTRY_INFO!$U$9:$U$1000=\"T2 (PZQ)\"), \"T2 (PZQ)\", \" \")","v":" "},null,null,null,null,0,null,null,null,0," "," "," "," "]
[{"$f":"IF(COUNTRY_INFO!A99=0,\" \",COUNTRY_INFO!A99)","v":"Mozambique"},{"$f":"IF(COUNTRY_INFO!B99=0,\" \",COUNTRY_INFO!B99)","v":"Tete"},{"$f":"IF(COUNTRY_INFO!C99=0,\" \",COUNTRY_INFO!C99)","v":"Mutarara"},{"$f":"IF(OR(COUNTRY_INFO!$T$9:$T$1000=\"T2 (PZQ)\",COUNTRY_INFO!$U$9:$U$1000=\"T2 (PZQ)\"), \"T2 (PZQ)\", \" \")","v":"T2 (PZQ)"},"April 2019",null,62865,null,62865,null,64230,null,64230," ",102.17131949415415," ",102.17131949415415]
[{"$f":"IF(COUNTRY_INFO!A100=0,\" \",COUNTRY_INFO!A100)","v":"Mozambique"},{"$f":"IF(COUNTRY_INFO!B100=0,\" \",COUNTRY_INFO!B100)","v":"Tete"},{"$f":"IF(COUNTRY_INFO!C100=0,\" \",COUNTRY_INFO!C100)","v":"Tsangano"},{"$f":"IF(OR(COUNTRY_INFO!$T$9:$T$1000=\"T2 (PZQ)\",COUNTRY_INFO!$U$9:$U$1000=\"T2 (PZQ)\"), \"T2 (PZQ)\", \" \")","v":" "},null,null,null,null,0,null,null,null,0," "," "," "," "]
[{"$f":"IF(COUNTRY_INFO!A101=0,\" \",COUNTRY_INFO!A101)","v":"Mozambique"},{"$f":"IF(COUNTRY_INFO!B101=0,\" \",COUNTRY_INFO!B101)","v":"Tete"},{"$f":"IF(COUNTRY_INFO!C101=0,\" \",COUNTRY_INFO!C101)","v":"Zumbu"},{"$f":"IF(OR(COUNTRY_INFO!$T$9:$T$1000=\"T2 (PZQ)\",COUNTRY_INFO!$U$9:$U$1000=\"T2 (PZQ)\"), \"T2 (PZQ)\", \" \")","v":" "},null,null,null,null,0,null,null,null,0," "," "," "," "]
[{"$f":"IF(COUNTRY_INFO!A102=0,\" \",COUNTRY_INFO!A102)","v":"Mozambique"},{"$f":"IF(COUNTRY_INFO!B102=0,\" \",COUNTRY_INFO!B102)","v":"Sofala"},{"$f":"IF(COUNTRY_INFO!C102=0,\" \",COUNTRY_INFO!C102)","v":"Cid Beira"},{"$f":"IF(OR(COUNTRY_INFO!$T$9:$T$1000=\"T2 (PZQ)\",COUNTRY_INFO!$U$9:$U$1000=\"T2 (PZQ)\"), \"T2 (PZQ)\", \" \")","v":"T2 (PZQ)"},"March 2019",null,130457,null,130457,null,158912,null,158912," ",121.81178472600168," ",121.81178472600168]
[{"$f":"IF(COUNTRY_INFO!A103=0,\" \",COUNTRY_INFO!A103)","v":"Mozambique"},{"$f":"IF(COUNTRY_INFO!B103=0,\" \",COUNTRY_INFO!B103)","v":"Sofala"},{"$f":"IF(COUNTRY_INFO!C103=0,\" \",COUNTRY_INFO!C103)","v":"Buzi"},{"$f":"IF(OR(COUNTRY_INFO!$T$9:$T$1000=\"T2 (PZQ)\",COUNTRY_INFO!$U$9:$U$1000=\"T2 (PZQ)\"), \"T2 (PZQ)\", \" \")","v":" "},null,null,null,null,0,null,null,null,0," "," "," "," "]
[{"$f":"IF(COUNTRY_INFO!A104=0,\" \",COUNTRY_INFO!A104)","v":"Mozambique"},{"$f":"IF(COUNTRY_INFO!B104=0,\" \",COUNTRY_INFO!B104)","v":"Sofala"},{"$f":"IF(COUNTRY_INFO!C104=0,\" \",COUNTRY_INFO!C104)","v":"Caia"},{"$f":"IF(OR(COUNTRY_INFO!$T$9:$T$1000=\"T2 (PZQ)\",COUNTRY_INFO!$U$9:$U$1000=\"T2 (PZQ)\"), \"T2 (PZQ)\", \" \")","v":"T2 (PZQ)"},"March 2019",null,22943.5,null,22943.5,null,74026,null,74026," ",322.6447577745331," ",322.6447577745331]
[{"$f":"IF(COUNTRY_INFO!A105=0,\" \",COUNTRY_INFO!A105)","v":"Mozambique"},{"$f":"IF(COUNTRY_INFO!B105=0,\" \",COUNTRY_INFO!B105)","v":"Sofala"},{"$f":"IF(COUNTRY_INFO!C105=0,\" \",COUNTRY_INFO!C105)","v":"Chemba"},{"$f":"IF(OR(COUNTRY_INFO!$T$9:$T$1000=\"T2 (PZQ)\",COUNTRY_INFO!$U$9:$U$1000=\"T2 (PZQ)\"), \"T2 (PZQ)\", \" \")","v":"T2 (PZQ)"},"March 2019",null,24003,null,24003,null,24225,null,24225," ",100.92488438945131," ",100.92488438945131]
[{"$f":"IF(COUNTRY_INFO!A106=0,\" \",COUNTRY_INFO!A106)","v":"Mozambique"},{"$f":"IF(COUNTRY_INFO!B106=0,\" \",COUNTRY_INFO!B106)","v":"Sofala"},{"$f":"IF(COUNTRY_INFO!C106=0,\" \",COUNTRY_INFO!C106)","v":"Cheringoma"},{"$f":"IF(OR(COUNTRY_INFO!$T$9:$T$1000=\"T2 (PZQ)\",COUNTRY_INFO!$U$9:$U$1000=\"T2 (PZQ)\"), \"T2 (PZQ)\", \" \")","v":"T2 (PZQ)"},"March 2019",null,23222,null,23222,null,23098,null,23098," ",99.466023598311949," ",99.466023598311949]
[{"$f":"IF(COUNTRY_INFO!A107=0,\" \",COUNTRY_INFO!A107)","v":"Mozambique"},{"$f":"IF(COUNTRY_INFO!B107=0,\" \",COUNTRY_INFO!B107)","v":"Sofala"},{"$f":"IF(COUNTRY_INFO!C107=0,\" \",COUNTRY_INFO!C107)","v":"Chibabava"},{"$f":"IF(OR(COUNTRY_INFO!$T$9:$T$1000=\"T2 (PZQ)\",COUNTRY_INFO!$U$9:$U$1000=\"T2 (PZQ)\"), \"T2 (PZQ)\", \" \")","v":"T2 (PZQ)"},"March 2019",null,41360,null,41360,null,39066,null,39066," ",94.453578336557058," ",94.453578336557058]
[{"$f":"IF(COUNTRY_INFO!A108=0,\" \",COUNTRY_INFO!A108)","v":"Mozambique"},{"$f":"IF(COUNTRY_INFO!B108=0,\" \",COUNTRY_INFO!B108)","v":"Sofala"},{"$f":"IF(COUNTRY_INFO!C108=0,\" \",COUNTRY_INFO!C108)","v":"Dondo"},{"$f":"IF(OR(COUNTRY_INFO!$T$9:$T$1000=\"T2 (PZQ)\",COUNTRY_INFO!$U$9:$U$1000=\"T2 (PZQ)\"), \"T2 (PZQ)\", \" \")","v":"T2 (PZQ)"},"March 2019",null,26496.5,null,26496.5,null,44031,null,44031," ",166.17666484252638," ",166.17666484252638]
[{"$f":"IF(COUNTRY_INFO!A109=0,\" \",COUNTRY_INFO!A109)","v":"Mozambique"},{"$f":"IF(COUNTRY_INFO!B109=0,\" \",COUNTRY_INFO!B109)","v":"Sofala"},{"$f":"IF(COUNTRY_INFO!C109=0,\" \",COUNTRY_INFO!C109)","v":"Gorongosa"},{"$f":"IF(OR(COUNTRY_INFO!$T$9:$T$1000=\"T2 (PZQ)\",COUNTRY_INFO!$U$9:$U$1000=\"T2 (PZQ)\"), \"T2 (PZQ)\", \" \")","v":"T2 (PZQ)"},"March 2019",null,51013,null,51013,null,63175,null,63175," ",123.84098171054436," ",123.84098171054436]
[{"$f":"IF(COUNTRY_INFO!A110=0,\" \",COUNTRY_INFO!A110)","v":"Mozambique"},{"$f":"IF(COUNTRY_INFO!B110=0,\" \",COUNTRY_INFO!B110)","v":"Sofala"},{"$f":"IF(COUNTRY_INFO!C110=0,\" \",COUNTRY_INFO!C110)","v":"Machanga"},{"$f":"IF(OR(COUNTRY_INFO!$T$9:$T$1000=\"T2 (PZQ)\",COUNTRY_INFO!$U$9:$U$1000=\"T2 (PZQ)\"), \"T2 (PZQ)\", \" \")","v":"T2 (PZQ)"},"March 2019",null,9608.5,null,9608.5,null,19682,null,19682," ",204.83946505698077," ",204.83946505698077]
[{"$f":"IF(COUNTRY_INFO!A111=0,\" \",COUNTRY_INFO!A111)","v":"Mozambique"},{"$f":"IF(COUNTRY_INFO!B111=0,\" \",COUNTRY_INFO!B111)","v":"Sofala"},{"$f":"IF(COUNTRY_INFO!C111=0,\" \",COUNTRY_INFO!C111)","v":"Maringue"},{"$f":"IF(OR(COUNTRY_INFO!$T$9:$T$1000=\"T2 (PZQ)\",COUNTRY_INFO!$U$9:$U$1000=\"T2 (PZQ)\"), \"T2 (PZQ)\", \" \")","v":"T2 (PZQ)"},"March 2019",null,14246.5,null,14246.5,null,30948,null,30948," ",217.23230267083142," ",217.23230267083142]
[{"$f":"IF(COUNTRY_INFO!A112=0,\" \",COUNTRY_INFO!A112)","v":"Mozambique"},{"$f":"IF(COUNTRY_INFO!B112=0,\" \",COUNTRY_INFO!B112)","v":"Sofala"},{"$f":"IF(COUNTRY_INFO!C112=0,\" \",COUNTRY_INFO!C112)","v":"Marromeu"},{"$f":"IF(OR(COUNTRY_INFO!$T$9:$T$1000=\"T2 (PZQ)\",COUNTRY_INFO!$U$9:$U$1000=\"T2 (PZQ)\"), \"T2 (PZQ)\", \" \")","v":"T2 (PZQ)"},"March 2019",null,54993,null,54993,null,59413,null,59413," ",108.03738657647337," ",108.03738657647337]
[{"$f":"IF(COUNTRY_INFO!A113=0,\" \",COUNTRY_INFO!A113)","v":"Mozambique"},{"$f":"IF(COUNTRY_INFO!B113=0,\" \",COUNTRY_INFO!B113)","v":"Sofala"},{"$f":"IF(COUNTRY_INFO!C113=0,\" \",COUNTRY_INFO!C113)","v":"Muanza"},{"$f":"IF(OR(COUNTRY_INFO!$T$9:$T$1000=\"T2 (PZQ)\",COUNTRY_INFO!$U$9:$U$1000=\"T2 (PZQ)\"), \"T2 (PZQ)\", \" \")","v":"T2 (PZQ)"},"March 2019",null,6130,null,6130,null,13420,null,13420," ",218.92332789559546," ",218.92332789559546]
[{"$f":"IF(COUNTRY_INFO!A114=0,\" \",COUNTRY_INFO!A114)","v":"Mozambique"},{"$f":"IF(COUNTRY_INFO!B114=0,\" \",COUNTRY_INFO!B114)","v":"Sofala"},{"$f":"IF(COUNTRY_INFO!C114=0,\" \",COUNTRY_INFO!C114)","v":"Nhamatanda"},{"$f":"IF(OR(COUNTRY_INFO!$T$9:$T$1000=\"T2 (PZQ)\",COUNTRY_INFO!$U$9:$U$1000=\"T2 (PZQ)\"), \"T2 (PZQ)\", \" \")","v":"T2 (PZQ)"},"March 2019",null,45151.5,null,45151.5,null,113214,null,113214," ",250.74250024916114," ",250.74250024916114]
[{"$f":"IF(COUNTRY_INFO!A115=0,\" \",COUNTRY_INFO!A115)","v":"Mozambique"},{"$f":"IF(COUNTRY_INFO!B115=0,\" \",COUNTRY_INFO!B115)","v":"Manica"},{"$f":"IF(COUNTRY_INFO!C115=0,\" \",COUNTRY_INFO!C115)","v":"Cid. Chimoio"},{"$f":"IF(OR(COUNTRY_INFO!$T$9:$T$1000=\"T2 (PZQ)\",COUNTRY_INFO!$U$9:$U$1000=\"T2 (PZQ)\"), \"T2 (PZQ)\", \" \")","v":" "},null,null,null,null,0,null,null,null,0," "," "," "," "]
[{"$f":"IF(COUNTRY_INFO!A116=0,\" \",COUNTRY_INFO!A116)","v":"Mozambique"},{"$f":"IF(COUNTRY_INFO!B116=0,\" \",COUNTRY_INFO!B116)","v":"Manica"},{"$f":"IF(COUNTRY_INFO!C116=0,\" \",COUNTRY_INFO!C116)","v":"Barué"},{"$f":"IF(OR(COUNTRY_INFO!$T$9:$T$1000=\"T2 (PZQ)\",COUNTRY_INFO!$U$9:$U$1000=\"T2 (PZQ)\"), \"T2 (PZQ)\", \" \")","v":"T2 (PZQ)"},"April 2019",null,77291,null,77291,null,73628,null,73628," ",95.260767747861976," ",95.260767747861976]
[{"$f":"IF(COUNTRY_INFO!A117=0,\" \",COUNTRY_INFO!A117)","v":"Mozambique"},{"$f":"IF(COUNTRY_INFO!B117=0,\" \",COUNTRY_INFO!B117)","v":"Manica"},{"$f":"IF(COUNTRY_INFO!C117=0,\" \",COUNTRY_INFO!C117)","v":"Gondola"},{"$f":"IF(OR(COUNTRY_INFO!$T$9:$T$1000=\"T2 (PZQ)\",COUNTRY_INFO!$U$9:$U$1000=\"T2 (PZQ)\"), \"T2 (PZQ)\", \" \")","v":" "},null,null,null,null,0,null,null,null,0," "," "," "," "]
[{"$f":"IF(COUNTRY_INFO!A118=0,\" \",COUNTRY_INFO!A118)","v":"Mozambique"},{"$f":"IF(COUNTRY_INFO!B118=0,\" \",COUNTRY_INFO!B118)","v":"Manica"},{"$f":"IF(COUNTRY_INFO!C118=0,\" \",COUNTRY_INFO!C118)","v":"Guro"},{"$f":"IF(OR(COUNTRY_INFO!$T$9:$T$1000=\"T2 (PZQ)\",COUNTRY_INFO!$U$9:$U$1000=\"T2 (PZQ)\"), \"T2 (PZQ)\", \" \")","v":"T2 (PZQ)"},"April 2019",null,14489.5,null,14489.5,null,29822,null,29822," ",205.81800614237898," ",205.81800614237898]
[{"$f":"IF(COUNTRY_INFO!A119=0,\" \",COUNTRY_INFO!A119)","v":"Mozambique"},{"$f":"IF(COUNTRY_INFO!B119=0,\" \",COUNTRY_INFO!B119)","v":"Manica"},{"$f":"IF(COUNTRY_INFO!C119=0,\" \",COUNTRY_INFO!C119)","v":"Macate"},{"$f":"IF(OR(COUNTRY_INFO!$T$9:$T$1000=\"T2 (PZQ)\",COUNTRY_INFO!$U$9:$U$1000=\"T2 (PZQ)\"), \"T2 (PZQ)\", \" \")","v":" "},null,null,null,null,0,null,null,null,0," "," "," "," "]
[{"$f":"IF(COUNTRY_INFO!A120=0,\" \",COUNTRY_INFO!A120)","v":"Mozambique"},{"$f":"IF(COUNTRY_INFO!B120=0,\" \",COUNTRY_INFO!B120)","v":"Manica"},{"$f":"IF(COUNTRY_INFO!C120=0,\" \",COUNTRY_INFO!C120)","v":"Machaze"},{"$f":"IF(OR(COUNTRY_INFO!$T$9:$T$1000=\"T2 (PZQ)\",COUNTRY_INFO!$U$9:$U$1000=\"T2 (PZQ)\"), \"T2 (PZQ)\", \" \")","v":" "},null,null,null,null,0,null,null,null,0," "," "," "," "]
[{"$f":"IF(COUNTRY_INFO!A121=0,\" \",COUNTRY_INFO!A121)","v":"Mozambique"},{"$f":"IF(COUNTRY_INFO!B121=0,\" \",COUNTRY_INFO!B121)","v":"Manica"},{"$f":"IF(COUNTRY_INFO!C121=0,\" \",COUNTRY_INFO!C121)","v":"Macossa"},{"$f":"IF(OR(COUNTRY_INFO!$T$9:$T$1000=\"T2 (PZQ)\",COUNTRY_INFO!$U$9:$U$1000=\"T2 (PZQ)\"), \"T2 (PZQ)\", \" \")","v":"T2 (PZQ)"},"April 2019",null,15719,null,15719,null,15252,null,15252," ",97.029073096252944," ",97.029073096252944]
[{"$f":"IF(COUNTRY_INFO!A122=0,\" \",COUNTRY_INFO!A122)","v":"Mozambique"},{"$f":"IF(COUNTRY_INFO!B122=0,\" \",COUNTRY_INFO!B122)","v":"Manica"},{"$f":"IF(COUNTRY_INFO!C122=0,\" \",COUNTRY_INFO!C122)","v":"Manica"},{"$f":"IF(OR(COUNTRY_INFO!$T$9:$T$1000=\"T2 (PZQ)\",COUNTRY_INFO!$U$9:$U$1000=\"T2 (PZQ)\"), \"T2 (PZQ)\", \" \")","v":" "},null,null,null,null,0,null,null,null,0," "," "," "," "]
[{"$f":"IF(COUNTRY_INFO!A123=0,\" \",COUNTRY_INFO!A123)","v":"Mozambique"},{"$f":"IF(COUNTRY_INFO!B123=0,\" \",COUNTRY_INFO!B123)","v":"Manica"},{"$f":"IF(COUNTRY_INFO!C123=0,\" \",COUNTRY_INFO!C123)","v":"Mossurize"},{"$f":"IF(OR(COUNTRY_INFO!$T$9:$T$1000=\"T2 (PZQ)\",COUNTRY_INFO!$U$9:$U$1000=\"T2 (PZQ)\"), \"T2 (PZQ)\", \" \")","v":" "},null,null,null,null,0,null,null,null,0," "," "," "," "]
[{"$f":"IF(COUNTRY_INFO!A124=0,\" \",COUNTRY_INFO!A124)","v":"Mozambique"},{"$f":"IF(COUNTRY_INFO!B124=0,\" \",COUNTRY_INFO!B124)","v":"Manica"},{"$f":"IF(COUNTRY_INFO!C124=0,\" \",COUNTRY_INFO!C124)","v":"Sussundenga"},{"$f":"IF(OR(COUNTRY_INFO!$T$9:$T$1000=\"T2 (PZQ)\",COUNTRY_INFO!$U$9:$U$1000=\"T2 (PZQ)\"), \"T2 (PZQ)\", \" \")","v":"T2 (PZQ)"},"April 2019",null,49962,null,49962,null,47289,null,47289," ",94.649933949801849," ",94.649933949801849]
[{"$f":"IF(COUNTRY_INFO!A125=0,\" \",COUNTRY_INFO!A125)","v":"Mozambique"},{"$f":"IF(COUNTRY_INFO!B125=0,\" \",COUNTRY_INFO!B125)","v":"Manica"},{"$f":"IF(COUNTRY_INFO!C125=0,\" \",COUNTRY_INFO!C125)","v":"Tambara"},{"$f":"IF(OR(COUNTRY_INFO!$T$9:$T$1000=\"T2 (PZQ)\",COUNTRY_INFO!$U$9:$U$1000=\"T2 (PZQ)\"), \"T2 (PZQ)\", \" \")","v":"T2 (PZQ)"},"April 2019",null,8348.5,null,8348.5,null,15994,null,15994," ",191.5793256273582," ",191.5793256273582]
[{"$f":"IF(COUNTRY_INFO!A126=0,\" \",COUNTRY_INFO!A126)","v":"Mozambique"},{"$f":"IF(COUNTRY_INFO!B126=0,\" \",COUNTRY_INFO!B126)","v":"Manica"},{"$f":"IF(COUNTRY_INFO!C126=0,\" \",COUNTRY_INFO!C126)","v":"Vanduze"},{"$f":"IF(OR(COUNTRY_INFO!$T$9:$T$1000=\"T2 (PZQ)\",COUNTRY_INFO!$U$9:$U$1000=\"T2 (PZQ)\"), \"T2 (PZQ)\", \" \")","v":" "},null,null,null,null,0,null,null,null,0," "," "," "," "]
[{"$f":"IF(COUNTRY_INFO!A127=0,\" \",COUNTRY_INFO!A127)","v":"Mozambique"},{"$f":"IF(COUNTRY_INFO!B127=0,\" \",COUNTRY_INFO!B127)","v":"Inhambane"},{"$f":"IF(COUNTRY_INFO!C127=0,\" \",COUNTRY_INFO!C127)","v":"Cid. I'bane"},{"$f":"IF(OR(COUNTRY_INFO!$T$9:$T$1000=\"T2 (PZQ)\",COUNTRY_INFO!$U$9:$U$1000=\"T2 (PZQ)\"), \"T2 (PZQ)\", \" \")","v":"T2 (PZQ)"},"March 2019",null,7839.4800000000005,null,7839.4800000000005,null,23138,null,23138," ",295.14712710536924," ",295.14712710536924]
[{"$f":"IF(COUNTRY_INFO!A128=0,\" \",COUNTRY_INFO!A128)","v":"Mozambique"},{"$f":"IF(COUNTRY_INFO!B128=0,\" \",COUNTRY_INFO!B128)","v":"Inhambane"},{"$f":"IF(COUNTRY_INFO!C128=0,\" \",COUNTRY_INFO!C128)","v":"Funhalouro"},{"$f":"IF(OR(COUNTRY_INFO!$T$9:$T$1000=\"T2 (PZQ)\",COUNTRY_INFO!$U$9:$U$1000=\"T2 (PZQ)\"), \"T2 (PZQ)\", \" \")","v":" "},null,null,null,null,0,null,null,null,0," "," "," "," "]
[{"$f":"IF(COUNTRY_INFO!A129=0,\" \",COUNTRY_INFO!A129)","v":"Mozambique"},{"$f":"IF(COUNTRY_INFO!B129=0,\" \",COUNTRY_INFO!B129)","v":"Inhambane"},{"$f":"IF(COUNTRY_INFO!C129=0,\" \",COUNTRY_INFO!C129)","v":"Govuro"},{"$f":"IF(OR(COUNTRY_INFO!$T$9:$T$1000=\"T2 (PZQ)\",COUNTRY_INFO!$U$9:$U$1000=\"T2 (PZQ)\"), \"T2 (PZQ)\", \" \")","v":"T2 (PZQ)"},"March 2019",null,12487,null,12487,null,11712,null,11712," ",93.793545287098581," ",93.793545287098581]
[{"$f":"IF(COUNTRY_INFO!A130=0,\" \",COUNTRY_INFO!A130)","v":"Mozambique"},{"$f":"IF(COUNTRY_INFO!B130=0,\" \",COUNTRY_INFO!B130)","v":"Inhambane"},{"$f":"IF(COUNTRY_INFO!C130=0,\" \",COUNTRY_INFO!C130)","v":"Homoíne"},{"$f":"IF(OR(COUNTRY_INFO!$T$9:$T$1000=\"T2 (PZQ)\",COUNTRY_INFO!$U$9:$U$1000=\"T2 (PZQ)\"), \"T2 (PZQ)\", \" \")","v":"T2 (PZQ)"},"March 2019",null,12530.43,null,12530.43,null,42255,null,42255," ",337.21907388653062," ",337.21907388653062]
[{"$f":"IF(COUNTRY_INFO!A131=0,\" \",COUNTRY_INFO!A131)","v":"Mozambique"},{"$f":"IF(COUNTRY_INFO!B131=0,\" \",COUNTRY_INFO!B131)","v":"Inhambane"},{"$f":"IF(COUNTRY_INFO!C131=0,\" \",COUNTRY_INFO!C131)","v":"Inharrime"},{"$f":"IF(OR(COUNTRY_INFO!$T$9:$T$1000=\"T2 (PZQ)\",COUNTRY_INFO!$U$9:$U$1000=\"T2 (PZQ)\"), \"T2 (PZQ)\", \" \")","v":"T2 (PZQ)"},"March 2019",null,19628,null,19628,null,39923,null,39923," ",203.3982066435704," ",203.3982066435704]
[{"$f":"IF(COUNTRY_INFO!A132=0,\" \",COUNTRY_INFO!A132)","v":"Mozambique"},{"$f":"IF(COUNTRY_INFO!B132=0,\" \",COUNTRY_INFO!B132)","v":"Inhambane"},{"$f":"IF(COUNTRY_INFO!C132=0,\" \",COUNTRY_INFO!C132)","v":"Inhassoro"},{"$f":"IF(OR(COUNTRY_INFO!$T$9:$T$1000=\"T2 (PZQ)\",COUNTRY_INFO!$U$9:$U$1000=\"T2 (PZQ)\"), \"T2 (PZQ)\", \" \")","v":"T2 (PZQ)"},"March 2019",null,9516.5,null,9516.5,null,18182,null,18182," ",191.05763673619504," ",191.05763673619504]
[{"$f":"IF(COUNTRY_INFO!A133=0,\" \",COUNTRY_INFO!A133)","v":"Mozambique"},{"$f":"IF(COUNTRY_INFO!B133=0,\" \",COUNTRY_INFO!B133)","v":"Inhambane"},{"$f":"IF(COUNTRY_INFO!C133=0,\" \",COUNTRY_INFO!C133)","v":"Jangamo"},{"$f":"IF(OR(COUNTRY_INFO!$T$9:$T$1000=\"T2 (PZQ)\",COUNTRY_INFO!$U$9:$U$1000=\"T2 (PZQ)\"), \"T2 (PZQ)\", \" \")","v":"T2 (PZQ)"},"March 2019",null,16314,null,16314,null,42927,null,42927," ",263.12982714233175," ",263.12982714233175]
[{"$f":"IF(COUNTRY_INFO!A134=0,\" \",COUNTRY_INFO!A134)","v":"Mozambique"},{"$f":"IF(COUNTRY_INFO!B134=0,\" \",COUNTRY_INFO!B134)","v":"Inhambane"},{"$f":"IF(COUNTRY_INFO!C134=0,\" \",COUNTRY_INFO!C134)","v":"Mabote"},{"$f":"IF(OR(COUNTRY_INFO!$T$9:$T$1000=\"T2 (PZQ)\",COUNTRY_INFO!$U$9:$U$1000=\"T2 (PZQ)\"), \"T2 (PZQ)\", \" \")","v":"T2 (PZQ)"},"March 2019",null,7658.5,null,7658.5,null,21465,null,21465," ",280.27681660899651," ",280.27681660899651]
[{"$f":"IF(COUNTRY_INFO!A135=0,\" \",COUNTRY_INFO!A135)","v":"Mozambique"},{"$f":"IF(COUNTRY_INFO!B135=0,\" \",COUNTRY_INFO!B135)","v":"Inhambane"},{"$f":"IF(COUNTRY_INFO!C135=0,\" \",COUNTRY_INFO!C135)","v":"Massinga"},{"$f":"IF(OR(COUNTRY_INFO!$T$9:$T$1000=\"T2 (PZQ)\",COUNTRY_INFO!$U$9:$U$1000=\"T2 (PZQ)\"), \"T2 (PZQ)\", \" \")","v":"T2 (PZQ)"},"March 2019",null,29325.5,null,29325.5,null,57253,null,57253," ",195.23281785476803," ",195.23281785476803]
[{"$f":"IF(COUNTRY_INFO!A136=0,\" \",COUNTRY_INFO!A136)","v":"Mozambique"},{"$f":"IF(COUNTRY_INFO!B136=0,\" \",COUNTRY_INFO!B136)","v":"Inhambane"},{"$f":"IF(COUNTRY_INFO!C136=0,\" \",COUNTRY_INFO!C136)","v":"Maxixe"},{"$f":"IF(OR(COUNTRY_INFO!$T$9:$T$1000=\"T2 (PZQ)\",COUNTRY_INFO!$U$9:$U$1000=\"T2 (PZQ)\"), \"T2 (PZQ)\", \" \")","v":"T2 (PZQ)"},"March 2019",null,19136,null,19136,null,57329,null,57329," ",299.58716555183946," ",299.58716555183946]
[{"$f":"IF(COUNTRY_INFO!A137=0,\" \",COUNTRY_INFO!A137)","v":"Mozambique"},{"$f":"IF(COUNTRY_INFO!B137=0,\" \",COUNTRY_INFO!B137)","v":"Inhambane"},{"$f":"IF(COUNTRY_INFO!C137=0,\" \",COUNTRY_INFO!C137)","v":"Morrumbene"},{"$f":"IF(OR(COUNTRY_INFO!$T$9:$T$1000=\"T2 (PZQ)\",COUNTRY_INFO!$U$9:$U$1000=\"T2 (PZQ)\"), \"T2 (PZQ)\", \" \")","v":" "},null,null,null,null,0,null,null,null,0," "," "," "," "]
[{"$f":"IF(COUNTRY_INFO!A138=0,\" \",COUNTRY_INFO!A138)","v":"Mozambique"},{"$f":"IF(COUNTRY_INFO!B138=0,\" \",COUNTRY_INFO!B138)","v":"Inhambane"},{"$f":"IF(COUNTRY_INFO!C138=0,\" \",COUNTRY_INFO!C138)","v":"Panda"},{"$f":"IF(OR(COUNTRY_INFO!$T$9:$T$1000=\"T2 (PZQ)\",COUNTRY_INFO!$U$9:$U$1000=\"T2 (PZQ)\"), \"T2 (PZQ)\", \" \")","v":"T2 (PZQ)"},"March 2019",null,7522.5,null,{"$f":"SUM(F138:H138)","v":7522.5},null,14179,null,{"$f":"SUM(J138:L138)","v":14179},{"$f":"IF(F138<>0, IF(J138/F138*100=0, \"-\", J138/F138*100), \" \")","v":" "},{"$f":"IF(G138<>0, IF(K138/G138*100=0, \"-\", K138/G138*100), \" \")","v":188.48786972416084},{"$f":"IF(H138<>0, IF(L138/H138*100=0, \"-\", L138/H138*100), \" \")","v":" "},{"$f":"IF(I138<>0, IF(M138/I138*100=0, \"-\", M138/I138*100), \" \")","v":188.48786972416084}]
[{"$f":"IF(COUNTRY_INFO!A139=0,\" \",COUNTRY_INFO!A139)","v":"Mozambique"},{"$f":"IF(COUNTRY_INFO!B139=0,\" \",COUNTRY_INFO!B139)","v":"Inhambane"},{"$f":"IF(COUNTRY_INFO!C139=0,\" \",COUNTRY_INFO!C139)","v":"Vilanculos"},{"$f":"IF(OR(COUNTRY_INFO!$T$9:$T$1000=\"T2 (PZQ)\",COUNTRY_INFO!$U$9:$U$1000=\"T2 (PZQ)\"), \"T2 (PZQ)\", \" \")","v":"T2 (PZQ)"},"March 2019",null,24647,null,24647,null,85347,null,85347," ",346.27743741631838," ",346.27743741631838]
[{"$f":"IF(COUNTRY_INFO!A140=0,\" \",COUNTRY_INFO!A140)","v":"Mozambique"},{"$f":"IF(COUNTRY_INFO!B140=0,\" \",COUNTRY_INFO!B140)","v":"Inhambane"},{"$f":"IF(COUNTRY_INFO!C140=0,\" \",COUNTRY_INFO!C140)","v":"Zavala"},{"$f":"IF(OR(COUNTRY_INFO!$T$9:$T$1000=\"T2 (PZQ)\",COUNTRY_INFO!$U$9:$U$1000=\"T2 (PZQ)\"), \"T2 (PZQ)\", \" \")","v":" "},null,null,null,null,0,null,null,null,0," "," "," "," "]
[{"$f":"IF(COUNTRY_INFO!A141=0,\" \",COUNTRY_INFO!A141)","v":"Mozambique"},{"$f":"IF(COUNTRY_INFO!B141=0,\" \",COUNTRY_INFO!B141)","v":"Gaza"},{"$f":"IF(COUNTRY_INFO!C141=0,\" \",COUNTRY_INFO!C141)","v":"Cid Xai Xai"},{"$f":"IF(OR(COUNTRY_INFO!$T$9:$T$1000=\"T2 (PZQ)\",COUNTRY_INFO!$U$9:$U$1000=\"T2 (PZQ)\"), \"T2 (PZQ)\", \" \")","v":" "},null,null,null,null,0,null,null,null,0," "," "," "," "]
[{"$f":"IF(COUNTRY_INFO!A142=0,\" \",COUNTRY_INFO!A142)","v":"Mozambique"},{"$f":"IF(COUNTRY_INFO!B142=0,\" \",COUNTRY_INFO!B142)","v":"Gaza"},{"$f":"IF(COUNTRY_INFO!C142=0,\" \",COUNTRY_INFO!C142)","v":"Bilene Macia"},{"$f":"IF(OR(COUNTRY_INFO!$T$9:$T$1000=\"T2 (PZQ)\",COUNTRY_INFO!$U$9:$U$1000=\"T2 (PZQ)\"), \"T2 (PZQ)\", \" \")","v":" "},null,null,null,null,0,null,null,null,0," "," "," "," "]
[{"$f":"IF(COUNTRY_INFO!A143=0,\" \",COUNTRY_INFO!A143)","v":"Mozambique"},{"$f":"IF(COUNTRY_INFO!B143=0,\" \",COUNTRY_INFO!B143)","v":"Gaza"},{"$f":"IF(COUNTRY_INFO!C143=0,\" \",COUNTRY_INFO!C143)","v":"Chibuto"},{"$f":"IF(OR(COUNTRY_INFO!$T$9:$T$1000=\"T2 (PZQ)\",COUNTRY_INFO!$U$9:$U$1000=\"T2 (PZQ)\"), \"T2 (PZQ)\", \" \")","v":" "},null,null,null,null,0,null,null,null,0," "," "," "," "]
[{"$f":"IF(COUNTRY_INFO!A144=0,\" \",COUNTRY_INFO!A144)","v":"Mozambique"},{"$f":"IF(COUNTRY_INFO!B144=0,\" \",COUNTRY_INFO!B144)","v":"Gaza"},{"$f":"IF(COUNTRY_INFO!C144=0,\" \",COUNTRY_INFO!C144)","v":"Chicualacuala"},{"$f":"IF(OR(COUNTRY_INFO!$T$9:$T$1000=\"T2 (PZQ)\",COUNTRY_INFO!$U$9:$U$1000=\"T2 (PZQ)\"), \"T2 (PZQ)\", \" \")","v":"T2 (PZQ)"},"March 2019",null,4078,null,4078,null,7936,null,7936," ",194.60519862677782," ",194.60519862677782]
[{"$f":"IF(COUNTRY_INFO!A145=0,\" \",COUNTRY_INFO!A145)","v":"Mozambique"},{"$f":"IF(COUNTRY_INFO!B145=0,\" \",COUNTRY_INFO!B145)","v":"Gaza"},{"$f":"IF(COUNTRY_INFO!C145=0,\" \",COUNTRY_INFO!C145)","v":"Chigubo"},{"$f":"IF(OR(COUNTRY_INFO!$T$9:$T$1000=\"T2 (PZQ)\",COUNTRY_INFO!$U$9:$U$1000=\"T2 (PZQ)\"), \"T2 (PZQ)\", \" \")","v":" "},null,null,null,null,0,null,null,null,0," "," "," "," "]
[{"$f":"IF(COUNTRY_INFO!A146=0,\" \",COUNTRY_INFO!A146)","v":"Mozambique"},{"$f":"IF(COUNTRY_INFO!B146=0,\" \",COUNTRY_INFO!B146)","v":"Gaza"},{"$f":"IF(COUNTRY_INFO!C146=0,\" \",COUNTRY_INFO!C146)","v":"Chokwé"},{"$f":"IF(OR(COUNTRY_INFO!$T$9:$T$1000=\"T2 (PZQ)\",COUNTRY_INFO!$U$9:$U$1000=\"T2 (PZQ)\"), \"T2 (PZQ)\", \" \")","v":" "},null,null,null,null,0,null,null,null,0," "," "," "," "]
[{"$f":"IF(COUNTRY_INFO!A147=0,\" \",COUNTRY_INFO!A147)","v":"Mozambique"},{"$f":"IF(COUNTRY_INFO!B147=0,\" \",COUNTRY_INFO!B147)","v":"Gaza"},{"$f":"IF(COUNTRY_INFO!C147=0,\" \",COUNTRY_INFO!C147)","v":"Chongoene"},{"$f":"IF(OR(COUNTRY_INFO!$T$9:$T$1000=\"T2 (PZQ)\",COUNTRY_INFO!$U$9:$U$1000=\"T2 (PZQ)\"), \"T2 (PZQ)\", \" \")","v":" "},null,null,null,null,0,null,null,null,0," "," "," "," "]
[{"$f":"IF(COUNTRY_INFO!A148=0,\" \",COUNTRY_INFO!A148)","v":"Mozambique"},{"$f":"IF(COUNTRY_INFO!B148=0,\" \",COUNTRY_INFO!B148)","v":"Gaza"},{"$f":"IF(COUNTRY_INFO!C148=0,\" \",COUNTRY_INFO!C148)","v":"Guijá"},{"$f":"IF(OR(COUNTRY_INFO!$T$9:$T$1000=\"T2 (PZQ)\",COUNTRY_INFO!$U$9:$U$1000=\"T2 (PZQ)\"), \"T2 (PZQ)\", \" \")","v":" "},null,null,null,null,0,null,null,null,0," "," "," "," "]
[{"$f":"IF(COUNTRY_INFO!A149=0,\" \",COUNTRY_INFO!A149)","v":"Mozambique"},{"$f":"IF(COUNTRY_INFO!B149=0,\" \",COUNTRY_INFO!B149)","v":"Gaza"},{"$f":"IF(COUNTRY_INFO!C149=0,\" \",COUNTRY_INFO!C149)","v":"Limpopo"},{"$f":"IF(OR(COUNTRY_INFO!$T$9:$T$1000=\"T2 (PZQ)\",COUNTRY_INFO!$U$9:$U$1000=\"T2 (PZQ)\"), \"T2 (PZQ)\", \" \")","v":" "},null,null,null,null,0,null,null,null,0," "," "," "," "]
[{"$f":"IF(COUNTRY_INFO!A150=0,\" \",COUNTRY_INFO!A150)","v":"Mozambique"},{"$f":"IF(COUNTRY_INFO!B150=0,\" \",COUNTRY_INFO!B150)","v":"Gaza"},{"$f":"IF(COUNTRY_INFO!C150=0,\" \",COUNTRY_INFO!C150)","v":"Mabalane"},{"$f":"IF(OR(COUNTRY_INFO!$T$9:$T$1000=\"T2 (PZQ)\",COUNTRY_INFO!$U$9:$U$1000=\"T2 (PZQ)\"), \"T2 (PZQ)\", \" \")","v":"T2 (PZQ)"},"March 2019",null,6518,null,6518,null,13085,null,13085," ",200.75176434489106," ",200.75176434489106]
[{"$f":"IF(COUNTRY_INFO!A151=0,\" \",COUNTRY_INFO!A151)","v":"Mozambique"},{"$f":"IF(COUNTRY_INFO!B151=0,\" \",COUNTRY_INFO!B151)","v":"Gaza"},{"$f":"IF(COUNTRY_INFO!C151=0,\" \",COUNTRY_INFO!C151)","v":"Manjacaze"},{"$f":"IF(OR(COUNTRY_INFO!$T$9:$T$1000=\"T2 (PZQ)\",COUNTRY_INFO!$U$9:$U$1000=\"T2 (PZQ)\"), \"T2 (PZQ)\", \" \")","v":" "},null,null,null,null,0,null,null,null,0," "," "," "," "]
[{"$f":"IF(COUNTRY_INFO!A152=0,\" \",COUNTRY_INFO!A152)","v":"Mozambique"},{"$f":"IF(COUNTRY_INFO!B152=0,\" \",COUNTRY_INFO!B152)","v":"Gaza"},{"$f":"IF(COUNTRY_INFO!C152=0,\" \",COUNTRY_INFO!C152)","v":"Mapai"},{"$f":"IF(OR(COUNTRY_INFO!$T$9:$T$1000=\"T2 (PZQ)\",COUNTRY_INFO!$U$9:$U$1000=\"T2 (PZQ)\"), \"T2 (PZQ)\", \" \")","v":"T2 (PZQ)"},"March 2019",null,4431,null,4431,null,8172,null,8172," ",184.42789438050102," ",184.42789438050102]
[{"$f":"IF(COUNTRY_INFO!A153=0,\" \",COUNTRY_INFO!A153)","v":"Mozambique"},{"$f":"IF(COUNTRY_INFO!B153=0,\" \",COUNTRY_INFO!B153)","v":"Gaza"},{"$f":"IF(COUNTRY_INFO!C153=0,\" \",COUNTRY_INFO!C153)","v":"Massangena"},{"$f":"IF(OR(COUNTRY_INFO!$T$9:$T$1000=\"T2 (PZQ)\",COUNTRY_INFO!$U$9:$U$1000=\"T2 (PZQ)\"), \"T2 (PZQ)\", \" \")","v":" "},null,null,null,null,0,null,null,null,0," "," "," "," "]
[{"$f":"IF(COUNTRY_INFO!A154=0,\" \",COUNTRY_INFO!A154)","v":"Mozambique"},{"$f":"IF(COUNTRY_INFO!B154=0,\" \",COUNTRY_INFO!B154)","v":"Gaza"},{"$f":"IF(COUNTRY_INFO!C154=0,\" \",COUNTRY_INFO!C154)","v":"Massingir"},{"$f":"IF(OR(COUNTRY_INFO!$T$9:$T$1000=\"T2 (PZQ)\",COUNTRY_INFO!$U$9:$U$1000=\"T2 (PZQ)\"), \"T2 (PZQ)\", \" \")","v":" "},null,null,null,null,0,null,null,null,0," "," "," "," "]
[{"$f":"IF(COUNTRY_INFO!A155=0,\" \",COUNTRY_INFO!A155)","v":"Mozambique"},{"$f":"IF(COUNTRY_INFO!B155=0,\" \",COUNTRY_INFO!B155)","v":"Maputo Provincia"},{"$f":"IF(COUNTRY_INFO!C155=0,\" \",COUNTRY_INFO!C155)","v":"Matola"},{"$f":"IF(OR(COUNTRY_INFO!$T$9:$T$1000=\"T2 (PZQ)\",COUNTRY_INFO!$U$9:$U$1000=\"T2 (PZQ)\"), \"T2 (PZQ)\", \" \")","v":" "},null,null,null,null,0,null,null,null,0," "," "," "," "]
[{"$f":"IF(COUNTRY_INFO!A156=0,\" \",COUNTRY_INFO!A156)","v":"Mozambique"},{"$f":"IF(COUNTRY_INFO!B156=0,\" \",COUNTRY_INFO!B156)","v":"Maputo Provincia"},{"$f":"IF(COUNTRY_INFO!C156=0,\" \",COUNTRY_INFO!C156)","v":"Boane"},{"$f":"IF(OR(COUNTRY_INFO!$T$9:$T$1000=\"T2 (PZQ)\",COUNTRY_INFO!$U$9:$U$1000=\"T2 (PZQ)\"), \"T2 (PZQ)\", \" \")","v":" "},null,null,null,null,0,null,null,null,0," "," "," "," "]
[{"$f":"IF(COUNTRY_INFO!A157=0,\" \",COUNTRY_INFO!A157)","v":"Mozambique"},{"$f":"IF(COUNTRY_INFO!B157=0,\" \",COUNTRY_INFO!B157)","v":"Maputo Provincia"},{"$f":"IF(COUNTRY_INFO!C157=0,\" \",COUNTRY_INFO!C157)","v":"Magude"},{"$f":"IF(OR(COUNTRY_INFO!$T$9:$T$1000=\"T2 (PZQ)\",COUNTRY_INFO!$U$9:$U$1000=\"T2 (PZQ)\"), \"T2 (PZQ)\", \" \")","v":" "},null,null,null,null,0,null,null,null,0," "," "," "," "]
[{"$f":"IF(COUNTRY_INFO!A158=0,\" \",COUNTRY_INFO!A158)","v":"Mozambique"},{"$f":"IF(COUNTRY_INFO!B158=0,\" \",COUNTRY_INFO!B158)","v":"Maputo Provincia"},{"$f":"IF(COUNTRY_INFO!C158=0,\" \",COUNTRY_INFO!C158)","v":"Manhica"},{"$f":"IF(OR(COUNTRY_INFO!$T$9:$T$1000=\"T2 (PZQ)\",COUNTRY_INFO!$U$9:$U$1000=\"T2 (PZQ)\"), \"T2 (PZQ)\", \" \")","v":" "},null,null,null,null,0,null,null,null,0," "," "," "," "]
[{"$f":"IF(COUNTRY_INFO!A159=0,\" \",COUNTRY_INFO!A159)","v":"Mozambique"},{"$f":"IF(COUNTRY_INFO!B159=0,\" \",COUNTRY_INFO!B159)","v":"Maputo Provincia"},{"$f":"IF(COUNTRY_INFO!C159=0,\" \",COUNTRY_INFO!C159)","v":"Marracuene"},{"$f":"IF(OR(COUNTRY_INFO!$T$9:$T$1000=\"T2 (PZQ)\",COUNTRY_INFO!$U$9:$U$1000=\"T2 (PZQ)\"), \"T2 (PZQ)\", \" \")","v":" "},null,null,null,null,0,null,null,null,0," "," "," "," "]
[{"$f":"IF(COUNTRY_INFO!A160=0,\" \",COUNTRY_INFO!A160)","v":"Mozambique"},{"$f":"IF(COUNTRY_INFO!B160=0,\" \",COUNTRY_INFO!B160)","v":"Maputo Provincia"},{"$f":"IF(COUNTRY_INFO!C160=0,\" \",COUNTRY_INFO!C160)","v":"Matutuíne"},{"$f":"IF(OR(COUNTRY_INFO!$T$9:$T$1000=\"T2 (PZQ)\",COUNTRY_INFO!$U$9:$U$1000=\"T2 (PZQ)\"), \"T2 (PZQ)\", \" \")","v":" "},null,null,null,null,0,null,null,null,0," "," "," "," "]
[{"$f":"IF(COUNTRY_INFO!A161=0,\" \",COUNTRY_INFO!A161)","v":"Mozambique"},{"$f":"IF(COUNTRY_INFO!B161=0,\" \",COUNTRY_INFO!B161)","v":"Maputo Provincia"},{"$f":"IF(COUNTRY_INFO!C161=0,\" \",COUNTRY_INFO!C161)","v":"Moamba"},{"$f":"IF(OR(COUNTRY_INFO!$T$9:$T$1000=\"T2 (PZQ)\",COUNTRY_INFO!$U$9:$U$1000=\"T2 (PZQ)\"), \"T2 (PZQ)\", \" \")","v":" "},null,null,null,null,0,null,null,null,0," "," "," "," "]
[{"$f":"IF(COUNTRY_INFO!A162=0,\" \",COUNTRY_INFO!A162)","v":"Mozambique"},{"$f":"IF(COUNTRY_INFO!B162=0,\" \",COUNTRY_INFO!B162)","v":"Maputo Provincia"},{"$f":"IF(COUNTRY_INFO!C162=0,\" \",COUNTRY_INFO!C162)","v":"Namaacha"},{"$f":"IF(OR(COUNTRY_INFO!$T$9:$T$1000=\"T2 (PZQ)\",COUNTRY_INFO!$U$9:$U$1000=\"T2 (PZQ)\"), \"T2 (PZQ)\", \" \")","v":" "},null,null,null,null,0,null,null,null,0," "," "," "," "]
[{"$f":"IF(COUNTRY_INFO!A163=0,\" \",COUNTRY_INFO!A163)","v":"Mozambique"},{"$f":"IF(COUNTRY_INFO!B163=0,\" \",COUNTRY_INFO!B163)","v":"Cidade de Maputo"},{"$f":"IF(COUNTRY_INFO!C163=0,\" \",COUNTRY_INFO!C163)","v":"Kampfumu"},{"$f":"IF(OR(COUNTRY_INFO!$T$9:$T$1000=\"T2 (PZQ)\",COUNTRY_INFO!$U$9:$U$1000=\"T2 (PZQ)\"), \"T2 (PZQ)\", \" \")","v":" "},null,null,null,null,0,null,null,null,0," "," "," "," "]
[{"$f":"IF(COUNTRY_INFO!A164=0,\" \",COUNTRY_INFO!A164)","v":"Mozambique"},{"$f":"IF(COUNTRY_INFO!B164=0,\" \",COUNTRY_INFO!B164)","v":"Cidade de Maputo"},{"$f":"IF(COUNTRY_INFO!C164=0,\" \",COUNTRY_INFO!C164)","v":"Nhlamankulu"},{"$f":"IF(OR(COUNTRY_INFO!$T$9:$T$1000=\"T2 (PZQ)\",COUNTRY_INFO!$U$9:$U$1000=\"T2 (PZQ)\"), \"T2 (PZQ)\", \" \")","v":" "},null,null,null,null,0,null,null,null,0," "," "," "," "]
[{"$f":"IF(COUNTRY_INFO!A165=0,\" \",COUNTRY_INFO!A165)","v":"Mozambique"},{"$f":"IF(COUNTRY_INFO!B165=0,\" \",COUNTRY_INFO!B165)","v":"Cidade de Maputo"},{"$f":"IF(COUNTRY_INFO!C165=0,\" \",COUNTRY_INFO!C165)","v":"Kamaxakani"},{"$f":"IF(OR(COUNTRY_INFO!$T$9:$T$1000=\"T2 (PZQ)\",COUNTRY_INFO!$U$9:$U$1000=\"T2 (PZQ)\"), \"T2 (PZQ)\", \" \")","v":" "},null,null,null,null,0,null,null,null,0," "," "," "," "]
[{"$f":"IF(COUNTRY_INFO!A166=0,\" \",COUNTRY_INFO!A166)","v":"Mozambique"},{"$f":"IF(COUNTRY_INFO!B166=0,\" \",COUNTRY_INFO!B166)","v":"Cidade de Maputo"},{"$f":"IF(COUNTRY_INFO!C166=0,\" \",COUNTRY_INFO!C166)","v":"Kamavota"},{"$f":"IF(OR(COUNTRY_INFO!$T$9:$T$1000=\"T2 (PZQ)\",COUNTRY_INFO!$U$9:$U$1000=\"T2 (PZQ)\"), \"T2 (PZQ)\", \" \")","v":" "},null,null,null,null,0,null,null,null,0," "," "," "," "]
[{"$f":"IF(COUNTRY_INFO!A167=0,\" \",COUNTRY_INFO!A167)","v":"Mozambique"},{"$f":"IF(COUNTRY_INFO!B167=0,\" \",COUNTRY_INFO!B167)","v":"Cidade de Maputo"},{"$f":"IF(COUNTRY_INFO!C167=0,\" \",COUNTRY_INFO!C167)","v":"Kamubukwana"},{"$f":"IF(OR(COUNTRY_INFO!$T$9:$T$1000=\"T2 (PZQ)\",COUNTRY_INFO!$U$9:$U$1000=\"T2 (PZQ)\"), \"T2 (PZQ)\", \" \")","v":" "},null,null,null,null,0,null,null,null,0," "," "," "," "]
[{"$f":"IF(COUNTRY_INFO!A168=0,\" \",COUNTRY_INFO!A168)","v":"Mozambique"},{"$f":"IF(COUNTRY_INFO!B168=0,\" \",COUNTRY_INFO!B168)","v":"Cidade de Maputo"},{"$f":"IF(COUNTRY_INFO!C168=0,\" \",COUNTRY_INFO!C168)","v":"Katembe"},{"$f":"IF(OR(COUNTRY_INFO!$T$9:$T$1000=\"T2 (PZQ)\",COUNTRY_INFO!$U$9:$U$1000=\"T2 (PZQ)\"), \"T2 (PZQ)\", \" \")","v":" "},null,null,null,null,0,null,null,null,0," "," "," "," "]
[{"$f":"IF(COUNTRY_INFO!A169=0,\" \",COUNTRY_INFO!A169)","v":"Mozambique"},{"$f":"IF(COUNTRY_INFO!B169=0,\" \",COUNTRY_INFO!B169)","v":"Cidade de Maputo"},{"$f":"IF(COUNTRY_INFO!C169=0,\" \",COUNTRY_INFO!C169)","v":"Kanyaca"},{"$f":"IF(OR(COUNTRY_INFO!$T$9:$T$1000=\"T2 (PZQ)\",COUNTRY_INFO!$U$9:$U$1000=\"T2 (PZQ)\"), \"T2 (PZQ)\", \" \")","v":" "},null,null,null,null,0,null,null,null,0," "," "," "," "]

{"sheet":"T3_R1","index":7,"n_rows":169,"n_cols":18,"rows_kept":169,"cut":false,"hidden":false,"merged":[[5,6,5,9],[5,10,5,13],[5,14,5,17],[3,0,3,2],[5,0,5,2],[5,3,6,3],[5,5,6,5],[5,4,6,4]]}
["T 3 - Albendazole (ALB) or Mebendazole (MBD) - Round 1"]
["Administrative structure, population requiring PC by age group, population treated by age group and coverage"]
[]
["TOTAL",null,null,null,null,null,{"$f":"SUM(G$9:G$1000)","v":0},0,0,0,0,0,0,0,{"$f":"IF(G4<>0, IF(K4/G4*100=0, \"-\", K4/G4*100), \" \")","v":" "},{"$f":"IF(H4<>0, IF(L4/H4*100=0, \"-\", L4/H4*100), \" \")","v":" "},{"$f":"IF(I4<>0, IF(M4/I4*100=0, \"-\", M4/I4*100), \" \")","v":" "},{"$f":"IF(J4<>0, IF(N4/J4*100=0, \"-\", N4/J4*100), \" \")","v":" "}]
[]
[null,null,null,"PC implemented","Medicine","Date","Population targeted for T3",null,null,null,"Population treated",null,null,null,"Programme coverage (%)"]
["Country","Province/State","District",null,null,null,"PreSAC","SAC","Adults","Total","PreSAC","SAC","Adults","Total","PreSAC","SAC","Adults","Total"]
[]
[{"$f":"IF(COUNTRY_INFO!A9=0,\" \",COUNTRY_INFO!A9)","v":"Mozambique"},{"$f":"IF(COUNTRY_INFO!B9=0,\" \",COUNTRY_INFO!B9)","v":"Cabo Delgado"},{"$f":"IF(COUNTRY_INFO!C9=0,\" \",COUNTRY_INFO!C9)","v":"Cid. Pemba"},{"$f":"IF(OR(COUNTRY_INFO!$T$9:$T$1000=\"T3 (ALB/MBD)\",COUNTRY_INFO!$U$9:$U$1000=\"T3 (ALB/MBD)\"), \"T3 (ALB/MBD)\", \" \")","v":" "},null,null,null,null,null,{"$f":"SUM(G9:I9)","v":0},null,null,null,{"$f":"SUM(K9:M9)","v":0},{"$f":"IF(G9<>0, IF(K9/G9*100=0, \"-\", K9/G9*100), \" \")","v":" "}," "," "," "]
[{"$f":"IF(COUNTRY_INFO!A10=0,\" \",COUNTRY_INFO!A10)","v":"Mozambique"},{"$f":"IF(COUNTRY_INFO!B10=0,\" \",COUNTRY_INFO!B10)","v":"Cabo Delgado"},{"$f":"IF(COUNTRY_INFO!C10=0,\" \",COUNTRY_INFO!C10)","v":"Ancuabe"},{"$f":"IF(OR(COUNTRY_INFO!$T$9:$T$1000=\"T3 (ALB/MBD)\",COUNTRY_INFO!$U$9:$U$1000=\"T3 (ALB/MBD)\"), \"T3 (ALB/MBD)\", \" \")","v":" "},null,null,null,null,null,{"$f":"SUM(G10:I10)","v":0},null,null,null,{"$f":"SUM(K10:M10)","v":0},{"$f":"IF(G10<>0, IF(K10/G10*100=0, \"-\", K10/G10*100), \" \")","v":" "},{"$f":"IF(H10<>0, IF(L10/H10*100=0, \"-\", L10/H10*100), \" \")","v":" "},{"$f":"IF(I10<>0, IF(M10/I10*100=0, \"-\", M10/I10*100), \" \")","v":" "},{"$f":"IF(J10<>0, IF(N10/J10*100=0, \"-\", N10/J10*100), \" \")","v":" "}]
[{"$f":"IF(COUNTRY_INFO!A11=0,\" \",COUNTRY_INFO!A11)","v":"Mozambique"},{"$f":"IF(COUNTRY_INFO!B11=0,\" \",COUNTRY_INFO!B11)","v":"Cabo Delgado"},{"$f":"IF(COUNTRY_INFO!C11=0,\" \",COUNTRY_INFO!C11)","v":"Balama"},{"$f":"IF(OR(COUNTRY_INFO!$T$9:$T$1000=\"T3 (ALB/MBD)\",COUNTRY_INFO!$U$9:$U$1000=\"T3 (ALB/MBD)\"), \"T3 (ALB/MBD)\", \" \")","v":" "},null,null,null,null,null,0,null,null,null,0," "," "," "," "]
[{"$f":"IF(COUNTRY_INFO!A12=0,\" \",COUNTRY_INFO!A12)","v":"Mozambique"},{"$f":"IF(COUNTRY_INFO!B12=0,\" \",COUNTRY_INFO!B12)","v":"Cabo Delgado"},{"$f":"IF(COUNTRY_INFO!C12=0,\" \",COUNTRY_INFO!C12)","v":"Chiure"},{"$f":"IF(OR(COUNTRY_INFO!$T$9:$T$1000=\"T3 (ALB/MBD)\",COUNTRY_INFO!$U$9:$U$1000=\"T3 (ALB/MBD)\"), \"T3 (ALB/MBD)\", \" \")","v":" "},null,null,null,null,null,0,null,null,null,0," "," "," "," "]
[{"$f":"IF(COUNTRY_INFO!A13=0,\" \",COUNTRY_INFO!A13)","v":"Mozambique"},{"$f":"IF(COUNTRY_INFO!B13=0,\" \",COUNTRY_INFO!B13)","v":"Cabo Delgado"},{"$f":"IF(COUNTRY_INFO!C13=0,\" \",COUNTRY_INFO!C13)","v":"Ibo"},{"$f":"IF(OR(COUNTRY_INFO!$T$9:$T$1000=\"T3 (ALB/MBD)\",COUNTRY_INFO!$U$9:$U$1000=\"T3 (ALB/MBD)\"), \"T3 (ALB/MBD)\", \" \")","v":" "},null,null,null,null,null,0,null,null,null,0," "," "," "," "]
[{"$f":"IF(COUNTRY_INFO!A14=0,\" \",COUNTRY_INFO!A14)","v":"Mozambique"},{"$f":"IF(COUNTRY_INFO!B14=0,\" \",COUNTRY_INFO!B14)","v":"Cabo Delgado"},{"$f":"IF(COUNTRY_INFO!C14=0,\" \",COUNTRY_INFO!C14)","v":"Macomia"},{"$f":"IF(OR(COUNTRY_INFO!$T$9:$T$1000=\"T3 (ALB/MBD)\",COUNTRY_INFO!$U$9:$U$1000=\"T3 (ALB/MBD)\"), \"T3 (ALB/MBD)\", \" \")","v":" "},null,null,null,null,null,0,null,null,null,0," "," "," "," "]
[{"$f":"IF(COUNTRY_INFO!A15=0,\" \",COUNTRY_INFO!A15)","v":"Mozambique"},{"$f":"IF(COUNTRY_INFO!B15=0,\" \",COUNTRY_INFO!B15)","v":"Cabo Delgado"},{"$f":"IF(COUNTRY_INFO!C15=0,\" \",COUNTRY_INFO!C15)","v":"Mecufi"},{"$f":"IF(OR(COUNTRY_INFO!$T$9:$T$1000=\"T3 (ALB/MBD)\",COUNTRY_INFO!$U$9:$U$1000=\"T3 (ALB/MBD)\"), \"T3 (ALB/MBD)\", \" \")","v":" "},null,null,null,null,null,0,null,null,null,0," "," "," "," "]
[{"$f":"IF(COUNTRY_INFO!A16=0,\" \",COUNTRY_INFO!A16)","v":"Mozambique"},{"$f":"IF(COUNTRY_INFO!B16=0,\" \",COUNTRY_INFO!B16)","v":"Cabo Delgado"},{"$f":"IF(COUNTRY_INFO!C16=0,\" \",COUNTRY_INFO!C16)","v":"Meluco"},{"$f":"IF(OR(COUNTRY_INFO!$T$9:$T$1000=\"T3 (ALB/MBD)\",COUNTRY_INFO!$U$9:$U$1000=\"T3 (ALB/MBD)\"), \"T3 (ALB/MBD)\", \" \")","v":" "},null,null,null,null,null,0,null,null,null,0," "," "," "," "]
[{"$f":"IF(COUNTRY_INFO!A17=0,\" \",COUNTRY_INFO!A17)","v":"Mozambique"},{"$f":"IF(COUNTRY_INFO!B17=0,\" \",COUNTRY_INFO!B17)","v":"Cabo Delgado"},{"$f":"IF(COUNTRY_INFO!C17=0,\" \",COUNTRY_INFO!C17)","v":"Moc Praia"},{"$f":"IF(OR(COUNTRY_INFO!$T$9:$T$1000=\"T3 (ALB/MBD)\",COUNTRY_INFO!$U$9:$U$1000=\"T3 (ALB/MBD)\"), \"T3 (ALB/MBD)\", \" \")","v":" "},null,null,null,null,null,0,null,null,null,0," "," "," "," "]
[{"$f":"IF(COUNTRY_INFO!A18=0,\" \",COUNTRY_INFO!A18)","v":"Mozambique"},{"$f":"IF(COUNTRY_INFO!B18=0,\" \",COUNTRY_INFO!B18)","v":"Cabo Delgado"},{"$f":"IF(COUNTRY_INFO!C18=0,\" \",COUNTRY_INFO!C18)","v":"Montepuez"},{"$f":"IF(OR(COUNTRY_INFO!$T$9:$T$1000=\"T3 (ALB/MBD)\",COUNTRY_INFO!$U$9:$U$1000=\"T3 (ALB/MBD)\"), \"T3 (ALB/MBD)\", \" \")","v":" "},null,null,null,null,null,0,null,null,null,0," "," "," "," "]
[{"$f":"IF(COUNTRY_INFO!A19=0,\" \",COUNTRY_INFO!A19)","v":"Mozambique"},{"$f":"IF(COUNTRY_INFO!B19=0,\" \",COUNTRY_INFO!B19)","v":"Cabo Delgado"},{"$f":"IF(COUNTRY_INFO!C19=0,\" \",COUNTRY_INFO!C19)","v":"Mueda"},{"$f":"IF(OR(COUNTRY_INFO!$T$9:$T$1000=\"T3 (ALB/MBD)\",COUNTRY_INFO!$U$9:$U$1000=\"T3 (ALB/MBD)\"), \"T3 (ALB/MBD)\", \" \")","v":" "},null,null,null,null,null,0,null,null,null,0," "," "," "," "]
[{"$f":"IF(COUNTRY_INFO!A20=0,\" \",COUNTRY_INFO!A20)","v":"Mozambique"},{"$f":"IF(COUNTRY_INFO!B20=0,\" \",COUNTRY_INFO!B20)","v":"Cabo Delgado"},{"$f":"IF(COUNTRY_INFO!C20=0,\" \",COUNTRY_INFO!C20)","v":"Muidumbe"},{"$f":"IF(OR(COUNTRY_INFO!$T$9:$T$1000=\"T3 (ALB/MBD)\",COUNTRY_INFO!$U$9:$U$1000=\"T3 (ALB/MBD)\"), \"T3 (ALB/MBD)\", \" \")","v":" "},null,null,null,null,null,0,null,null,null,0," "," "," "," "]
[{"$f":"IF(COUNTRY_INFO!A21=0,\" \",COUNTRY_INFO!A21)","v":"Mozambique"},{"$f":"IF(COUNTRY_INFO!B21=0,\" \",COUNTRY_INFO!B21)","v":"Cabo Delgado"},{"$f":"IF(COUNTRY_INFO!C21=0,\" \",COUNTRY_INFO!C21)","v":"Namuno"},{"$f":"IF(OR(COUNTRY_INFO!$T$9:$T$1000=\"T3 (ALB/MBD)\",COUNTRY_INFO!$U$9:$U$1000=\"T3 (ALB/MBD)\"), \"T3 (ALB/MBD)\", \" \")","v":" "},null,null,null,null,null,0,null,null,null,0," "," "," "," "]
[{"$f":"IF(COUNTRY_INFO!A22=0,\" \",COUNTRY_INFO!A22)","v":"Mozambique"},{"$f":"IF(COUNTRY_INFO!B22=0,\" \",COUNTRY_INFO!B22)","v":"Cabo Delgado"},{"$f":"IF(COUNTRY_INFO!C22=0,\" \",COUNTRY_INFO!C22)","v":"Nangade"},{"$f":"IF(OR(COUNTRY_INFO!$T$9:$T$1000=\"T3 (ALB/MBD)\",COUNTRY_INFO!$U$9:$U$1000=\"T3 (ALB/MBD)\"), \"T3 (ALB/MBD)\", \" \")","v":" "},null,null,null,null,null,0,null,null,null,0," "," "," "," "]
[{"$f":"IF(COUNTRY_INFO!A23=0,\" \",COUNTRY_INFO!A23)","v":"Mozambique"},{"$f":"IF(COUNTRY_INFO!B23=0,\" \",COUNTRY_INFO!B23)","v":"Cabo Delgado"},{"$f":"IF(COUNTRY_INFO!C23=0,\" \",COUNTRY_INFO!C23)","v":"Palma"},{"$f":"IF(OR(COUNTRY_INFO!$T$9:$T$1000=\"T3 (ALB/MBD)\",COUNTRY_INFO!$U$9:$U$1000=\"T3 (ALB/MBD)\"), \"T3 (ALB/MBD)\", \" \")","v":" "},null,null,null,null,null,0,null,null,null,0," "," "," "," "]
[{"$f":"IF(COUNTRY_INFO!A24=0,\" \",COUNTRY_INFO!A24)","v":"Mozambique"},{"$f":"IF(COUNTRY_INFO!B24=0,\" \",COUNTRY_INFO!B24)","v":"Cabo Delgado"},{"$f":"IF(COUNTRY_INFO!C24=0,\" \",COUNTRY_INFO!C24)","v":"Pemba Metuge"},{"$f":"IF(OR(COUNTRY_INFO!$T$9:$T$1000=\"T3 (ALB/MBD)\",COUNTRY_INFO!$U$9:$U$1000=\"T3 (ALB/MBD)\"), \"T3 (ALB/MBD)\", \" \")","v":" "},null,null,null,null,null,0,null,null,null,0," "," "," "," "]
[{"$f":"IF(COUNTRY_INFO!A25=0,\" \",COUNTRY_INFO!A25)","v":"Mozambique"},{"$f":"IF(COUNTRY_INFO!B25=0,\" \",COUNTRY_INFO!B25)","v":"Cabo Delgado"},{"$f":"IF(COUNTRY_INFO!C25=0,\" \",COUNTRY_INFO!C25)","v":"Quissanga"},{"$f":"IF(OR(COUNTRY_INFO!$T$9:$T$1000=\"T3 (ALB/MBD)\",COUNTRY_INFO!$U$9:$U$1000=\"T3 (ALB/MBD)\"), \"T3 (ALB/MBD)\", \" \")","v":" "},null,null,null,null,null,0,null,null,null,0," "," "," "," "]
[{"$f":"IF(COUNTRY_INFO!A26=0,\" \",COUNTRY_INFO!A26)","v":"Mozambique"},{"$f":"IF(COUNTRY_INFO!B26=0,\" \",COUNTRY_INFO!B26)","v":"Niassa"},{"$f":"IF(COUNTRY_INFO!C26=0,\" \",COUNTRY_INFO!C26)","v":"Cidade de Lichinga"},{"$f":"IF(OR(COUNTRY_INFO!$T$9:$T$1000=\"T3 (ALB/MBD)\",COUNTRY_INFO!$U$9:$U$1000=\"T3 (ALB/MBD)\"), \"T3 (ALB/MBD)\", \" \")","v":" "},null,null,null,null,null,0,null,null,null,0," "," "," "," "]
[{"$f":"IF(COUNTRY_INFO!A27=0,\" \",COUNTRY_INFO!A27)","v":"Mozambique"},{"$f":"IF(COUNTRY_INFO!B27=0,\" \",COUNTRY_INFO!B27)","v":"Niassa"},{"$f":"IF(COUNTRY_INFO!C27=0,\" \",COUNTRY_INFO!C27)","v":"Cuamba"},{"$f":"IF(OR(COUNTRY_INFO!$T$9:$T$1000=\"T3 (ALB/MBD)\",COUNTRY_INFO!$U$9:$U$1000=\"T3 (ALB/MBD)\"), \"T3 (ALB/MBD)\", \" \")","v":" "},null,null,null,null,null,0,null,null,null,0," "," "," "," "]
[{"$f":"IF(COUNTRY_INFO!A28=0,\" \",COUNTRY_INFO!A28)","v":"Mozambique"},{"$f":"IF(COUNTRY_INFO!B28=0,\" \",COUNTRY_INFO!B28)","v":"Niassa"},{"$f":"IF(COUNTRY_INFO!C28=0,\" \",COUNTRY_INFO!C28)","v":"Chimbonila"},{"$f":"IF(OR(COUNTRY_INFO!$T$9:$T$1000=\"T3 (ALB/MBD)\",COUNTRY_INFO!$U$9:$U$1000=\"T3 (ALB/MBD)\"), \"T3 (ALB/MBD)\", \" \")","v":" "},null,null,null,null,null,0,null,null,null,0," "," "," "," "]
[{"$f":"IF(COUNTRY_INFO!A29=0,\" \",COUNTRY_INFO!A29)","v":"Mozambique"},{"$f":"IF(COUNTRY_INFO!B29=0,\" \",COUNTRY_INFO!B29)","v":"Niassa"},{"$f":"IF(COUNTRY_INFO!C29=0,\" \",COUNTRY_INFO!C29)","v":"Lago"},{"$f":"IF(OR(COUNTRY_INFO!$T$9:$T$1000=\"T3 (ALB/MBD)\",COUNTRY_INFO!$U$9:$U$1000=\"T3 (ALB/MBD)\"), \"T3 (ALB/MBD)\", \" \")","v":" "},null,null,null,null,null,0,null,null,null,0," "," "," "," "]
[{"$f":"IF(COUNTRY_INFO!A30=0,\" \",COUNTRY_INFO!A30)","v":"Mozambique"},{"$f":"IF(COUNTRY_INFO!B30=0,\" \",COUNTRY_INFO!B30)","v":"Niassa"},{"$f":"IF(COUNTRY_INFO!C30=0,\" \",COUNTRY_INFO!C30)","v":"Majune"},{"$f":"IF(OR(COUNTRY_INFO!$T$9:$T$1000=\"T3 (ALB/MBD)\",COUNTRY_INFO!$U$9:$U$1000=\"T3 (ALB/MBD)\"), \"T3 (ALB/MBD)\", \" \")","v":" "},null,null,null,null,null,0,null,null,null,0," "," "," "," "]
[{"$f":"IF(COUNTRY_INFO!A31=0,\" \",COUNTRY_INFO!A31)","v":"Mozambique"},{"$f":"IF(COUNTRY_INFO!B31=0,\" \",COUNTRY_INFO!B31)","v":"Niassa"},{"$f":"IF(COUNTRY_INFO!C31=0,\" \",COUNTRY_INFO!C31)","v":"Mandimba"},{"$f":"IF(OR(COUNTRY_INFO!$T$9:$T$1000=\"T3 (ALB/MBD)\",COUNTRY_INFO!$U$9:$U$1000=\"T3 (ALB/MBD)\"), \"T3 (ALB/MBD)\", \" \")","v":" "},null,null,null,null,null,0,null,null,null,0," "," "," "," "]
[{"$f":"IF(COUNTRY_INFO!A32=0,\" \",COUNTRY_INFO!A32)","v":"Mozambique"},{"$f":"IF(COUNTRY_INFO!B32=0,\" \",COUNTRY_INFO!B32)","v":"Niassa"},{"$f":"IF(COUNTRY_INFO!C32=0,\" \",COUNTRY_INFO!C32)","v":"Marrupa"},{"$f":"IF(OR(COUNTRY_INFO!$T$9:$T$1000=\"T3 (ALB/MBD)\",COUNTRY_INFO!$U$9:$U$1000=\"T3 (ALB/MBD)\"), \"T3 (ALB/MBD)\", \" \")","v":" "},null,null,null,null,null,0,null,null,null,0," "," "," "," "]
[{"$f":"IF(COUNTRY_INFO!A33=0,\" \",COUNTRY_INFO!A33)","v":"Mozambique"},{"$f":"IF(COUNTRY_INFO!B33=0,\" \",COUNTRY_INFO!B33)","v":"Niassa"},{"$f":"IF(COUNTRY_INFO!C33=0,\" \",COUNTRY_INFO!C33)","v":"Maúa"},{"$f":"IF(OR(COUNTRY_INFO!$T$9:$T$1000=\"T3 (ALB/MBD)\",COUNTRY_INFO!$U$9:$U$1000=\"T3 (ALB/MBD)\"), \"T3 (ALB/MBD)\", \" \")","v":" "},null,null,null,null,null,0,null,null,null,0," "," "," "," "]
[{"$f":"IF(COUNTRY_INFO!A34=0,\" \",COUNTRY_INFO!A34)","v":"Mozambique"},{"$f":"IF(COUNTRY_INFO!B34=0,\" \",COUNTRY_INFO!B34)","v":"Niassa"},{"$f":"IF(COUNTRY_INFO!C34=0,\" \",COUNTRY_INFO!C34)","v":"Mavago"},{"$f":"IF(OR(COUNTRY_INFO!$T$9:$T$1000=\"T3 (ALB/MBD)\",COUNTRY_INFO!$U$9:$U$1000=\"T3 (ALB/MBD)\"), \"T3 (ALB/MBD)\", \" \")","v":" "},null,null,null,null,null,0,null,null,null,0," "," "," "," "]
[{"$f":"IF(COUNTRY_INFO!A35=0,\" \",COUNTRY_INFO!A35)","v":"Mozambique"},{"$f":"IF(COUNTRY_INFO!B35=0,\" \",COUNTRY_INFO!B35)","v":"Niassa"},{"$f":"IF(COUNTRY_INFO!C35=0,\" \",COUNTRY_INFO!C35)","v":"Mecanhelas"},{"$f":"IF(OR(COUNTRY_INFO!$T$9:$T$1000=\"T3 (ALB/MBD)\",COUNTRY_INFO!$U$9:$U$1000=\"T3 (ALB/MBD)\"), \"T3 (ALB/MBD)\", \" \")","v":" "},null,null,null,null,null,0,null,null,null,0," "," "," "," "]
[{"$f":"IF(COUNTRY_INFO!A36=0,\" \",COUNTRY_INFO!A36)","v":"Mozambique"},{"$f":"IF(COUNTRY_INFO!B36=0,\" \",COUNTRY_INFO!B36)","v":"Niassa"},{"$f":"IF(COUNTRY_INFO!C36=0,\" \",COUNTRY_INFO!C36)","v":"Mecula"},{"$f":"IF(OR(COUNTRY_INFO!$T$9:$T$1000=\"T3 (ALB/MBD)\",COUNTRY_INFO!$U$9:$U$1000=\"T3 (ALB/MBD)\"), \"T3 (ALB/MBD)\", \" \")","v":" "},null,null,null,null,null,0,null,null,null,0," "," "," "," "]
[{"$f":"IF(COUNTRY_INFO!A37=0,\" \",COUNTRY_INFO!A37)","v":"Mozambique"},{"$f":"IF(COUNTRY_INFO!B37=0,\" \",COUNTRY_INFO!B37)","v":"Niassa"},{"$f":"IF(COUNTRY_INFO!C37=0,\" \",COUNTRY_INFO!C37)","v":"Metarica"},{"$f":"IF(OR(COUNTRY_INFO!$T$9:$T$1000=\"T3 (ALB/MBD)\",COUNTRY_INFO!$U$9:$U$1000=\"T3 (ALB/MBD)\"), \"T3 (ALB/MBD)\", \" \")","v":" "},null,null,null,null,null,0,null,null,null,0," "," "," "," "]
[{"$f":"IF(COUNTRY_INFO!A38=0,\" \",COUNTRY_INFO!A38)","v":"Mozambique"},{"$f":"IF(COUNTRY_INFO!B38=0,\" \",COUNTRY_INFO!B38)","v":"Niassa"},{"$f":"IF(COUNTRY_INFO!C38=0,\" \",COUNTRY_INFO!C38)","v":"Muembe"},{"$f":"IF(OR(COUNTRY_INFO!$T$9:$T$1000=\"T3 (ALB/MBD)\",COUNTRY_INFO!$U$9:$U$1000=\"T3 (ALB/MBD)\"), \"T3 (ALB/MBD)\", \" \")","v":" "},null,null,null,null,null,0,null,null,null,0," "," "," "," "]
[{"$f":"IF(COUNTRY_INFO!A39=0,\" \",COUNTRY_INFO!A39)","v":"Mozambique"},{"$f":"IF(COUNTRY_INFO!B39=0,\" \",COUNTRY_INFO!B39)","v":"Niassa"},{"$f":"IF(COUNTRY_INFO!C39=0,\" \",COUNTRY_INFO!C39)","v":"N'Gaúma"},{"$f":"IF(OR(COUNTRY_INFO!$T$9:$T$1000=\"T3 (ALB/MBD)\",COUNTRY_INFO!$U$9:$U$1000=\"T3 (ALB/MBD)\"), \"T3 (ALB/MBD)\", \" \")","v":" "},null,null,null,null,null,0,null,null,null,0," "," "," "," "]
[{"$f":"IF(COUNTRY_INFO!A40=0,\" \",COUNTRY_INFO!A40)","v":"Mozambique"},{"$f":"IF(COUNTRY_INFO!B40=0,\" \",COUNTRY_INFO!B40)","v":"Niassa"},{"$f":"IF(COUNTRY_INFO!C40=0,\" \",COUNTRY_INFO!C40)","v":"Nipepe"},{"$f":"IF(OR(COUNTRY_INFO!$T$9:$T$1000=\"T3 (ALB/MBD)\",COUNTRY_INFO!$U$9:$U$1000=\"T3 (ALB/MBD)\"), \"T3 (ALB/MBD)\", \" \")","v":" "},null,null,null,null,null,0,null,null,null,0," "," "," "," "]
[{"$f":"IF(COUNTRY_INFO!A41=0,\" \",COUNTRY_INFO!A41)","v":"Mozambique"},{"$f":"IF(COUNTRY_INFO!B41=0,\" \",COUNTRY_INFO!B41)","v":"Niassa"},{"$f":"IF(COUNTRY_INFO!C41=0,\" \",COUNTRY_INFO!C41)","v":"Sanga"},{"$f":"IF(OR(COUNTRY_INFO!$T$9:$T$1000=\"T3 (ALB/MBD)\",COUNTRY_INFO!$U$9:$U$1000=\"T3 (ALB/MBD)\"), \"T3 (ALB/MBD)\", \" \")","v":" "},null,null,null,null,null,0,null,null,null,0," "," "," "," "]
[{"$f":"IF(COUNTRY_INFO!A42=0,\" \",COUNTRY_INFO!A42)","v":"Mozambique"},{"$f":"IF(COUNTRY_INFO!B42=0,\" \",COUNTRY_INFO!B42)","v":"Nampula"},{"$f":"IF(COUNTRY_INFO!C42=0,\" \",COUNTRY_INFO!C42)","v":"Cid. Nampula"},{"$f":"IF(OR(COUNTRY_INFO!$T$9:$T$1000=\"T3 (ALB/MBD)\",COUNTRY_INFO!$U$9:$U$1000=\"T3 (ALB/MBD)\"), \"T3 (ALB/MBD)\", \" \")","v":" "},null,null,null,null,null,0,null,null,null,0," "," "," "," "]
[{"$f":"IF(COUNTRY_INFO!A43=0,\" \",COUNTRY_INFO!A43)","v":"Mozambique"},{"$f":"IF(COUNTRY_INFO!B43=0,\" \",COUNTRY_INFO!B43)","v":"Nampula"},{"$f":"IF(COUNTRY_INFO!C43=0,\" \",COUNTRY_INFO!C43)","v":"Angoche"},{"$f":"IF(OR(COUNTRY_INFO!$T$9:$T$1000=\"T3 (ALB/MBD)\",COUNTRY_INFO!$U$9:$U$1000=\"T3 (ALB/MBD)\"), \"T3 (ALB/MBD)\", \" \")","v":" "},null,null,null,null,null,0,null,null,null,0," "," "," "," "]
[{"$f":"IF(COUNTRY_INFO!A44=0,\" \",COUNTRY_INFO!A44)","v":"Mozambique"},{"$f":"IF(COUNTRY_INFO!B44=0,\" \",COUNTRY_INFO!B44)","v":"Nampula"},{"$f":"IF(COUNTRY_INFO!C44=0,\" \",COUNTRY_INFO!C44)","v":"Erati"},{"$f":"IF(OR(COUNTRY_INFO!$T$9:$T$1000=\"T3 (ALB/MBD)\",COUNTRY_INFO!$U$9:$U$1000=\"T3 (ALB/MBD)\"), \"T3 (ALB/MBD)\", \" \")","v":" "},null,null,null,null,null,0,null,null,null,0," "," "," "," "]
[{"$f":"IF(COUNTRY_INFO!A45=0,\" \",COUNTRY_INFO!A45)","v":"Mozambique"},{"$f":"IF(COUNTRY_INFO!B45=0,\" \",COUNTRY_INFO!B45)","v":"Nampula"},{"$f":"IF(COUNTRY_INFO!C45=0,\" \",COUNTRY_INFO!C45)","v":"Ilha Moc."},{"$f":"IF(OR(COUNTRY_INFO!$T$9:$T$1000=\"T3 (ALB/MBD)\",COUNTRY_INFO!$U$9:$U$1000=\"T3 (ALB/MBD)\"), \"T3 (ALB/MBD)\", \" \")","v":" "},null,null,null,null,null,0,null,null,null,0," "," "," "," "]
[{"$f":"IF(COUNTRY_INFO!A46=0,\" \",COUNTRY_INFO!A46)","v":"Mozambique"},{"$f":"IF(COUNTRY_INFO!B46=0,\" \",COUNTRY_INFO!B46)","v":"Nampula"},{"$f":"IF(COUNTRY_INFO!C46=0,\" \",COUNTRY_INFO!C46)","v":"Lalaua"},{"$f":"IF(OR(COUNTRY_INFO!$T$9:$T$1000=\"T3 (ALB/MBD)\",COUNTRY_INFO!$U$9:$U$1000=\"T3 (ALB/MBD)\"), \"T3 (ALB/MBD)\", \" \")","v":" "},null,null,null,null,null,0,null,null,null,0," "," "," "," "]
[{"$f":"IF(COUNTRY_INFO!A47=0,\" \",COUNTRY_INFO!A47)","v":"Mozambique"},{"$f":"IF(COUNTRY_INFO!B47=0,\" \",COUNTRY_INFO!B47)","v":"Nampula"},{"$f":"IF(COUNTRY_INFO!C47=0,\" \",COUNTRY_INFO!C47)","v":"Larde"},{"$f":"IF(OR(COUNTRY_INFO!$T$9:$T$1000=\"T3 (ALB/MBD)\",COUNTRY_INFO!$U$9:$U$1000=\"T3 (ALB/MBD)\"), \"T3 (ALB/MBD)\", \" \")","v":" "},null,null,null,null,null,0,null,null,null,0," "," "," "," "]
[{"$f":"IF(COUNTRY_INFO!A48=0,\" \",COUNTRY_INFO!A48)","v":"Mozambique"},{"$f":"IF(COUNTRY_INFO!B48=0,\" \",COUNTRY_INFO!B48)","v":"Nampula"},{"$f":"IF(COUNTRY_INFO!C48=0,\" \",COUNTRY_INFO!C48)","v":"Liupo"},{"$f":"IF(OR(COUNTRY_INFO!$T$9:$T$1000=\"T3 (ALB/MBD)\",COUNTRY_INFO!$U$9:$U$1000=\"T3 (ALB/MBD)\"), \"T3 (ALB/MBD)\", \" \")","v":" "},null,null,null,null,null,0,null,null,null,0," "," "," "," "]
[{"$f":"IF(COUNTRY_INFO!A49=0,\" \",COUNTRY_INFO!A49)","v":"Mozambique"},{"$f":"IF(COUNTRY_INFO!B49=0,\" \",COUNTRY_INFO!B49)","v":"Nampula"},{"$f":"IF(COUNTRY_INFO!C49=0,\" \",COUNTRY_INFO!C49)","v":"Malema"},{"$f":"IF(OR(COUNTRY_INFO!$T$9:$T$1000=\"T3 (ALB/MBD)\",COUNTRY_INFO!$U$9:$U$1000=\"T3 (ALB/MBD)\"), \"T3 (ALB/MBD)\", \" \")","v":" "},null,null,null,null,null,0,null,null,null,0," "," "," "," "]
[{"$f":"IF(COUNTRY_INFO!A50=0,\" \",COUNTRY_INFO!A50)","v":"Mozambique"},{"$f":"IF(COUNTRY_INFO!B50=0,\" \",COUNTRY_INFO!B50)","v":"Nampula"},{"$f":"IF(COUNTRY_INFO!C50=0,\" \",COUNTRY_INFO!C50)","v":"Meconta"},{"$f":"IF(OR(COUNTRY_INFO!$T$9:$T$1000=\"T3 (ALB/MBD)\",COUNTRY_INFO!$U$9:$U$1000=\"T3 (ALB/MBD)\"), \"T3 (ALB/MBD)\", \" \")","v":" "},null,null,null,null,null,0,null,null,null,0," "," "," "," "]
[{"$f":"IF(COUNTRY_INFO!A51=0,\" \",COUNTRY_INFO!A51)","v":"Mozambique"},{"$f":"IF(COUNTRY_INFO!B51=0,\" \",COUNTRY_INFO!B51)","v":"Nampula"},{"$f":"IF(COUNTRY_INFO!C51=0,\" \",COUNTRY_INFO!C51)","v":"Mecuburi"},{"$f":"IF(OR(COUNTRY_INFO!$T$9:$T$1000=\"T3 (ALB/MBD)\",COUNTRY_INFO!$U$9:$U$1000=\"T3 (ALB/MBD)\"), \"T3 (ALB/MBD)\", \" \")","v":" "},null,null,null,null,null,0,null,null,null,0," "," "," "," "]
[{"$f":"IF(COUNTRY_INFO!A52=0,\" \",COUNTRY_INFO!A52)","v":"Mozambique"},{"$f":"IF(COUNTRY_INFO!B52=0,\" \",COUNTRY_INFO!B52)","v":"Nampula"},{"$f":"IF(COUNTRY_INFO!C52=0,\" \",COUNTRY_INFO!C52)","v":"Memba"},{"$f":"IF(OR(COUNTRY_INFO!$T$9:$T$1000=\"T3 (ALB/MBD)\",COUNTRY_INFO!$U$9:$U$1000=\"T3 (ALB/MBD)\"), \"T3 (ALB/MBD)\", \" \")","v":" "},null,null,null,null,null,0,null,null,null,0," "," "," "," "]
[{"$f":"IF(COUNTRY_INFO!A53=0,\" \",COUNTRY_INFO!A53)","v":"Mozambique"},{"$f":"IF(COUNTRY_INFO!B53=0,\" \",COUNTRY_INFO!B53)","v":"Nampula"},{"$f":"IF(COUNTRY_INFO!C53=0,\" \",COUNTRY_INFO!C53)","v":"Mogincual"},{"$f":"IF(OR(COUNTRY_INFO!$T$9:$T$1000=\"T3 (ALB/MBD)\",COUNTRY_INFO!$U$9:$U$1000=\"T3 (ALB/MBD)\"), \"T3 (ALB/MBD)\", \" \")","v":" "},null,null,null,null,null,0,null,null,null,0," "," "," "," "]
[{"$f":"IF(COUNTRY_INFO!A54=0,\" \",COUNTRY_INFO!A54)","v":"Mozambique"},{"$f":"IF(COUNTRY_INFO!B54=0,\" \",COUNTRY_INFO!B54)","v":"Nampula"},{"$f":"IF(COUNTRY_INFO!C54=0,\" \",COUNTRY_INFO!C54)","v":"Mogovolas"},{"$f":"IF(OR(COUNTRY_INFO!$T$9:$T$1000=\"T3 (ALB/MBD)\",COUNTRY_INFO!$U$9:$U$1000=\"T3 (ALB/MBD)\"), \"T3 (ALB/MBD)\", \" \")","v":" "},null,null,null,null,null,0,null,null,null,0," "," "," "," "]
[{"$f":"IF(COUNTRY_INFO!A55=0,\" \",COUNTRY_INFO!A55)","v":"Mozambique"},{"$f":"IF(COUNTRY_INFO!B55=0,\" \",COUNTRY_INFO!B55)","v":"Nampula"},{"$f":"IF(COUNTRY_INFO!C55=0,\" \",COUNTRY_INFO!C55)","v":"Moma"},{"$f":"IF(OR(COUNTRY_INFO!$T$9:$T$1000=\"T3 (ALB/MBD)\",COUNTRY_INFO!$U$9:$U$1000=\"T3 (ALB/MBD)\"), \"T3 (ALB/MBD)\", \" \")","v":" "},null,null,null,null,null,0,null,null,null,0," "," "," "," "]
[{"$f":"IF(COUNTRY_INFO!A56=0,\" \",COUNTRY_INFO!A56)","v":"Mozambique"},{"$f":"IF(COUNTRY_INFO!B56=0,\" \",COUNTRY_INFO!B56)","v":"Nampula"},{"$f":"IF(COUNTRY_INFO!C56=0,\" \",COUNTRY_INFO!C56)","v":"Monapo"},{"$f":"IF(OR(COUNTRY_INFO!$T$9:$T$1000=\"T3 (ALB/MBD)\",COUNTRY_INFO!$U$9:$U$1000=\"T3 (ALB/MBD)\"), \"T3 (ALB/MBD)\", \" \")","v":" "},null,null,null,null,null,0,null,null,null,0," "," "," "," "]
[{"$f":"IF(COUNTRY_INFO!A57=0,\" \",COUNTRY_INFO!A57)","v":"Mozambique"},{"$f":"IF(COUNTRY_INFO!B57=0,\" \",COUNTRY_INFO!B57)","v":"Nampula"},{"$f":"IF(COUNTRY_INFO!C57=0,\" \",COUNTRY_INFO!C57)","v":"Mossuril"},{"$f":"IF(OR(COUNTRY_INFO!$T$9:$T$1000=\"T3 (ALB/MBD)\",COUNTRY_INFO!$U$9:$U$1000=\"T3 (ALB/MBD)\"), \"T3 (ALB/MBD)\", \" \")","v":" "},null,null,null,null,null,0,null,null,null,0," "," "," "," "]
[{"$f":"IF(COUNTRY_INFO!A58=0,\" \",COUNTRY_INFO!A58)","v":"Mozambique"},{"$f":"IF(COUNTRY_INFO!B58=0,\" \",COUNTRY_INFO!B58)","v":"Nampula"},{"$f":"IF(COUNTRY_INFO!C58=0,\" \",COUNTRY_INFO!C58)","v":"Muecate"},{"$f":"IF(OR(COUNTRY_INFO!$T$9:$T$1000=\"T3 (ALB/MBD)\",COUNTRY_INFO!$U$9:$U$1000=\"T3 (ALB/MBD)\"), \"T3 (ALB/MBD)\", \" \")","v":" "},null,null,null,null,null,0,null,null,null,0," "," "," "," "]
[{"$f":"IF(COUNTRY_INFO!A59=0,\" \",COUNTRY_INFO!A59)","v":"Mozambique"},{"$f":"IF(COUNTRY_INFO!B59=0,\" \",COUNTRY_INFO!B59)","v":"Nampula"},{"$f":"IF(COUNTRY_INFO!C59=0,\" \",COUNTRY_INFO!C59)","v":"Murrupula"},{"$f":"IF(OR(COUNTRY_INFO!$T$9:$T$1000=\"T3 (ALB/MBD)\",COUNTRY_INFO!$U$9:$U$1000=\"T3 (ALB/MBD)\"), \"T3 (ALB/MBD)\", \" \")","v":" "},null,null,null,null,null,0,null,null,null,0," "," "," "," "]
[{"$f":"IF(COUNTRY_INFO!A60=0,\" \",COUNTRY_INFO!A60)","v":"Mozambique"},{"$f":"IF(COUNTRY_INFO!B60=0,\" \",COUNTRY_INFO!B60)","v":"Nampula"},{"$f":"IF(COUNTRY_INFO!C60=0,\" \",COUNTRY_INFO!C60)","v":"Nacala Porto"},{"$f":"IF(OR(COUNTRY_INFO!$T$9:$T$1000=\"T3 (ALB/MBD)\",COUNTRY_INFO!$U$9:$U$1000=\"T3 (ALB/MBD)\"), \"T3 (ALB/MBD)\", \" \")","v":" "},null,null,null,null,null,0,null,null,null,0," "," "," "," "]
[{"$f":"IF(COUNTRY_INFO!A61=0,\" \",COUNTRY_INFO!A61)","v":"Mozambique"},{"$f":"IF(COUNTRY_INFO!B61=0,\" \",COUNTRY_INFO!B61)","v":"Nampula"},{"$f":"IF(COUNTRY_INFO!C61=0,\" \",COUNTRY_INFO!C61)","v":"Nacala Velha"},{"$f":"IF(OR(COUNTRY_INFO!$T$9:$T$1000=\"T3 (ALB/MBD)\",COUNTRY_INFO!$U$9:$U$1000=\"T3 (ALB/MBD)\"), \"T3 (ALB/MBD)\", \" \")","v":" "},null,null,null,null,null,0,null,null,null,0," "," "," "," "]
[{"$f":"IF(COUNTRY_INFO!A62=0,\" \",COUNTRY_INFO!A62)","v":"Mozambique"},{"$f":"IF(COUNTRY_INFO!B62=0,\" \",COUNTRY_INFO!B62)","v":"Nampula"},{"$f":"IF(COUNTRY_INFO!C62=0,\" \",COUNTRY_INFO!C62)","v":"Nacaroa"},{"$f":"IF(OR(COUNTRY_INFO!$T$9:$T$1000=\"T3 (ALB/MBD)\",COUNTRY_INFO!$U$9:$U$1000=\"T3 (ALB/MBD)\"), \"T3 (ALB/MBD)\", \" \")","v":" "},null,null,null,null,null,0,null,null,null,0," "," "," "," "]
[{"$f":"IF(COUNTRY_INFO!A63=0,\" \",COUNTRY_INFO!A63)","v":"Mozambique"},{"$f":"IF(COUNTRY_INFO!B63=0,\" \",COUNTRY_INFO!B63)","v":"Nampula"},{"$f":"IF(COUNTRY_INFO!C63=0,\" \",COUNTRY_INFO!C63)","v":"Nampula Dist."},{"$f":"IF(OR(COUNTRY_INFO!$T$9:$T$1000=\"T3 (ALB/MBD)\",COUNTRY_INFO!$U$9:$U$1000=\"T3 (ALB/MBD)\"), \"T3 (ALB/MBD)\", \" \")","v":" "},null,null,null,null,null,0,null,null,null,0," "," "," "," "]
[{"$f":"IF(COUNTRY_INFO!A64=0,\" \",COUNTRY_INFO!A64)","v":"Mozambique"},{"$f":"IF(COUNTRY_INFO!B64=0,\" \",COUNTRY_INFO!B64)","v":"Nampula"},{"$f":"IF(COUNTRY_INFO!C64=0,\" \",COUNTRY_INFO!C64)","v":"Ribaué"},{"$f":"IF(OR(COUNTRY_INFO!$T$9:$T$1000=\"T3 (ALB/MBD)\",COUNTRY_INFO!$U$9:$U$1000=\"T3 (ALB/MBD)\"), \"T3 (ALB/MBD)\", \" \")","v":" "},null,null,null,null,null,0,null,null,null,0," "," "," "," "]
[{"$f":"IF(COUNTRY_INFO!A65=0,\" \",COUNTRY_INFO!A65)","v":"Mozambique"},{"$f":"IF(COUNTRY_INFO!B65=0,\" \",COUNTRY_INFO!B65)","v":"Zambezia"},{"$f":"IF(COUNTRY_INFO!C65=0,\" \",COUNTRY_INFO!C65)","v":"Quelimane"},{"$f":"IF(OR(COUNTRY_INFO!$T$9:$T$1000=\"T3 (ALB/MBD)\",COUNTRY_INFO!$U$9:$U$1000=\"T3 (ALB/MBD)\"), \"T3 (ALB/MBD)\", \" \")","v":" "},null,null,null,null,null,0,null,null,null,0," "," "," "," "]
[{"$f":"IF(COUNTRY_INFO!A66=0,\" \",COUNTRY_INFO!A66)","v":"Mozambique"},{"$f":"IF(COUNTRY_INFO!B66=0,\" \",COUNTRY_INFO!B66)","v":"Zambezia"},{"$f":"IF(COUNTRY_INFO!C66=0,\" \",COUNTRY_INFO!C66)","v":"Alto Molocué"},{"$f":"IF(OR(COUNTRY_INFO!$T$9:$T$1000=\"T3 (ALB/MBD)\",COUNTRY_INFO!$U$9:$U$1000=\"T3 (ALB/MBD)\"), \"T3 (ALB/MBD)\", \" \")","v":" "},null,null,null,null,null,0,null,null,null,0," "," "," "," "]
[{"$f":"IF(COUNTRY_INFO!A67=0,\" \",COUNTRY_INFO!A67)","v":"Mozambique"},{"$f":"IF(COUNTRY_INFO!B67=0,\" \",COUNTRY_INFO!B67)","v":"Zambezia"},{"$f":"IF(COUNTRY_INFO!C67=0,\" \",COUNTRY_INFO!C67)","v":"Chinde"},{"$f":"IF(OR(COUNTRY_INFO!$T$9:$T$1000=\"T3 (ALB/MBD)\",COUNTRY_INFO!$U$9:$U$1000=\"T3 (ALB/MBD)\"), \"T3 (ALB/MBD)\", \" \")","v":" "},null,null,null,null,null,0,null,null,null,0," "," "," "," "]
[{"$f":"IF(COUNTRY_INFO!A68=0,\" \",COUNTRY_INFO!A68)","v":"Mozambique"},{"$f":"IF(COUNTRY_INFO!B68=0,\" \",COUNTRY_INFO!B68)","v":"Zambezia"},{"$f":"IF(COUNTRY_INFO!C68=0,\" \",COUNTRY_INFO!C68)","v":"Derre"},{"$f":"IF(OR(COUNTRY_INFO!$T$9:$T$1000=\"T3 (ALB/MBD)\",COUNTRY_INFO!$U$9:$U$1000=\"T3 (ALB/MBD)\"), \"T3 (ALB/MBD)\", \" \")","v":" "},null,null,null,null,null,0,null,null,null,0," "," "," "," "]
[{"$f":"IF(COUNTRY_INFO!A69=0,\" \",COUNTRY_INFO!A69)","v":"Mozambique"},{"$f":"IF(COUNTRY_INFO!B69=0,\" \",COUNTRY_INFO!B69)","v":"Zambezia"},{"$f":"IF(COUNTRY_INFO!C69=0,\" \",COUNTRY_INFO!C69)","v":"Gilé"},{"$f":"IF(OR(COUNTRY_INFO!$T$9:$T$1000=\"T3 (ALB/MBD)\",COUNTRY_INFO!$U$9:$U$1000=\"T3 (ALB/MBD)\"), \"T3 (ALB/MBD)\", \" \")","v":" "},null,null,null,null,null,0,null,null,null,0," "," "," "," "]
[{"$f":"IF(COUNTRY_INFO!A70=0,\" \",COUNTRY_INFO!A70)","v":"Mozambique"},{"$f":"IF(COUNTRY_INFO!B70=0,\" \",COUNTRY_INFO!B70)","v":"Zambezia"},{"$f":"IF(COUNTRY_INFO!C70=0,\" \",COUNTRY_INFO!C70)","v":"Gurué"},{"$f":"IF(OR(COUNTRY_INFO!$T$9:$T$1000=\"T3 (ALB/MBD)\",COUNTRY_INFO!$U$9:$U$1000=\"T3 (ALB/MBD)\"), \"T3 (ALB/MBD)\", \" \")","v":" "},null,null,null,null,null,0,null,null,null,0," "," "," "," "]
[{"$f":"IF(COUNTRY_INFO!A71=0,\" \",COUNTRY_INFO!A71)","v":"Mozambique"},{"$f":"IF(COUNTRY_INFO!B71=0,\" \",COUNTRY_INFO!B71)","v":"Zambezia"},{"$f":"IF(COUNTRY_INFO!C71=0,\" \",COUNTRY_INFO!C71)","v":"Ile"},{"$f":"IF(OR(COUNTRY_INFO!$T$9:$T$1000=\"T3 (ALB/MBD)\",COUNTRY_INFO!$U$9:$U$1000=\"T3 (ALB/MBD)\"), \"T3 (ALB/MBD)\", \" \")","v":" "},null,null,null,null,null,0,null,null,null,0," "," "," "," "]
[{"$f":"IF(COUNTRY_INFO!A72=0,\" \",COUNTRY_INFO!A72)","v":"Mozambique"},{"$f":"IF(COUNTRY_INFO!B72=0,\" \",COUNTRY_INFO!B72)","v":"Zambezia"},{"$f":"IF(COUNTRY_INFO!C72=0,\" \",COUNTRY_INFO!C72)","v":"Inhassunge"},{"$f":"IF(OR(COUNTRY_INFO!$T$9:$T$1000=\"T3 (ALB/MBD)\",COUNTRY_INFO!$U$9:$U$1000=\"T3 (ALB/MBD)\"), \"T3 (ALB/MBD)\", \" \")","v":" "},null,null,null,null,null,0,null,null,null,0," "," "," "," "]
[{"$f":"IF(COUNTRY_INFO!A73=0,\" \",COUNTRY_INFO!A73)","v":"Mozambique"},{"$f":"IF(COUNTRY_INFO!B73=0,\" \",COUNTRY_INFO!B73)","v":"Zambezia"},{"$f":"IF(COUNTRY_INFO!C73=0,\" \",COUNTRY_INFO!C73)","v":"Luabo"},{"$f":"IF(OR(COUNTRY_INFO!$T$9:$T$1000=\"T3 (ALB/MBD)\",COUNTRY_INFO!$U$9:$U$1000=\"T3 (ALB/MBD)\"), \"T3 (ALB/MBD)\", \" \")","v":" "},null,null,null,null,null,0,null,null,null,0," "," "," "," "]
[{"$f":"IF(COUNTRY_INFO!A74=0,\" \",COUNTRY_INFO!A74)","v":"Mozambique"},{"$f":"IF(COUNTRY_INFO!B74=0,\" \",COUNTRY_INFO!B74)","v":"Zambezia"},{"$f":"IF(COUNTRY_INFO!C74=0,\" \",COUNTRY_INFO!C74)","v":"Lugela"},{"$f":"IF(OR(COUNTRY_INFO!$T$9:$T$1000=\"T3 (ALB/MBD)\",COUNTRY_INFO!$U$9:$U$1000=\"T3 (ALB/MBD)\"), \"T3 (ALB/MBD)\", \" \")","v":" "},null,null,null,null,null,{"$f":"SUM(G74:I74)","v":0},null,null,null,{"$f":"SUM(K74:M74)","v":0},{"$f":"IF(G74<>0, IF(K74/G74*100=0, \"-\", K74/G74*100), \" \")","v":" "},{"$f":"IF(H74<>0, IF(L74/H74*100=0, \"-\", L74/H74*100), \" \")","v":" "},{"$f":"IF(I74<>0, IF(M74/I74*100=0, \"-\", M74/I74*100), \" \")","v":" "},{"$f":"IF(J74<>0, IF(N74/J74*100=0, \"-\", N74/J74*100), \" \")","v":" "}]
[{"$f":"IF(COUNTRY_INFO!A75=0,\" \",COUNTRY_INFO!A75)","v":"Mozambique"},{"$f":"IF(COUNTRY_INFO!B75=0,\" \",COUNTRY_INFO!B75)","v":"Zambezia"},{"$f":"IF(COUNTRY_INFO!C75=0,\" \",COUNTRY_INFO!C75)","v":"Maganja da Costa"},{"$f":"IF(OR(COUNTRY_INFO!$T$9:$T$1000=\"T3 (ALB/MBD)\",COUNTRY_INFO!$U$9:$U$1000=\"T3 (ALB/MBD)\"), \"T3 (ALB/MBD)\", \" \")","v":" "},null,null,null,null,null,0,null,null,null,0," "," "," "," "]
[{"$f":"IF(COUNTRY_INFO!A76=0,\" \",COUNTRY_INFO!A76)","v":"Mozambique"},{"$f":"IF(COUNTRY_INFO!B76=0,\" \",COUNTRY_INFO!B76)","v":"Zambezia"},{"$f":"IF(COUNTRY_INFO!C76=0,\" \",COUNTRY_INFO!C76)","v":"Milange"},{"$f":"IF(OR(COUNTRY_INFO!$T$9:$T$1000=\"T3 (ALB/MBD)\",COUNTRY_INFO!$U$9:$U$1000=\"T3 (ALB/MBD)\"), \"T3 (ALB/MBD)\", \" \")","v":" "},null,null,null,null,null,0,null,null,null,0," "," "," "," "]
[{"$f":"IF(COUNTRY_INFO!A77=0,\" \",COUNTRY_INFO!A77)","v":"Mozambique"},{"$f":"IF(COUNTRY_INFO!B77=0,\" \",COUNTRY_INFO!B77)","v":"Zambezia"},{"$f":"IF(COUNTRY_INFO!C77=0,\" \",COUNTRY_INFO!C77)","v":"Mocuba"},{"$f":"IF(OR(COUNTRY_INFO!$T$9:$T$1000=\"T3 (ALB/MBD)\",COUNTRY_INFO!$U$9:$U$1000=\"T3 (ALB/MBD)\"), \"T3 (ALB/MBD)\", \" \")","v":" "},null,null,null,null,null,0,null,null,null,0," "," "," "," "]
[{"$f":"IF(COUNTRY_INFO!A78=0,\" \",COUNTRY_INFO!A78)","v":"Mozambique"},{"$f":"IF(COUNTRY_INFO!B78=0,\" \",COUNTRY_INFO!B78)","v":"Zambezia"},{"$f":"IF(COUNTRY_INFO!C78=0,\" \",COUNTRY_INFO!C78)","v":"Mocubela"},{"$f":"IF(OR(COUNTRY_INFO!$T$9:$T$1000=\"T3 (ALB/MBD)\",COUNTRY_INFO!$U$9:$U$1000=\"T3 (ALB/MBD)\"), \"T3 (ALB/MBD)\", \" \")","v":" "},null,null,null,null,null,0,null,null,null,0," "," "," "," "]
[{"$f":"IF(COUNTRY_INFO!A79=0,\" \",COUNTRY_INFO!A79)","v":"Mozambique"},{"$f":"IF(COUNTRY_INFO!B79=0,\" \",COUNTRY_INFO!B79)","v":"Zambezia"},{"$f":"IF(COUNTRY_INFO!C79=0,\" \",COUNTRY_INFO!C79)","v":"Molumbo"},{"$f":"IF(OR(COUNTRY_INFO!$T$9:$T$1000=\"T3 (ALB/MBD)\",COUNTRY_INFO!$U$9:$U$1000=\"T3 (ALB/MBD)\"), \"T3 (ALB/MBD)\", \" \")","v":" "},null,null,null,null,null,0,null,null,null,0," "," "," "," "]
[{"$f":"IF(COUNTRY_INFO!A80=0,\" \",COUNTRY_INFO!A80)","v":"Mozambique"},{"$f":"IF(COUNTRY_INFO!B80=0,\" \",COUNTRY_INFO!B80)","v":"Zambezia"},{"$f":"IF(COUNTRY_INFO!C80=0,\" \",COUNTRY_INFO!C80)","v":"Mopeia"},{"$f":"IF(OR(COUNTRY_INFO!$T$9:$T$1000=\"T3 (ALB/MBD)\",COUNTRY_INFO!$U$9:$U$1000=\"T3 (ALB/MBD)\"), \"T3 (ALB/MBD)\", \" \")","v":" "},null,null,null,null,null,0,null,null,null,0," "," "," "," "]
[{"$f":"IF(COUNTRY_INFO!A81=0,\" \",COUNTRY_INFO!A81)","v":"Mozambique"},{"$f":"IF(COUNTRY_INFO!B81=0,\" \",COUNTRY_INFO!B81)","v":"Zambezia"},{"$f":"IF(COUNTRY_INFO!C81=0,\" \",COUNTRY_INFO!C81)","v":"Morrumbala"},{"$f":"IF(OR(COUNTRY_INFO!$T$9:$T$1000=\"T3 (ALB/MBD)\",COUNTRY_INFO!$U$9:$U$1000=\"T3 (ALB/MBD)\"), \"T3 (ALB/MBD)\", \" \")","v":" "},null,null,null,null,null,0,null,null,null,0," "," "," "," "]
[{"$f":"IF(COUNTRY_INFO!A82=0,\" \",COUNTRY_INFO!A82)","v":"Mozambique"},{"$f":"IF(COUNTRY_INFO!B82=0,\" \",COUNTRY_INFO!B82)","v":"Zambezia"},{"$f":"IF(COUNTRY_INFO!C82=0,\" \",COUNTRY_INFO!C82)","v":"Mulevala"},{"$f":"IF(OR(COUNTRY_INFO!$T$9:$T$1000=\"T3 (ALB/MBD)\",COUNTRY_INFO!$U$9:$U$1000=\"T3 (ALB/MBD)\"), \"T3 (ALB/MBD)\", \" \")","v":" "},null,null,null,null,null,0,null,null,null,0," "," "," "," "]
[{"$f":"IF(COUNTRY_INFO!A83=0,\" \",COUNTRY_INFO!A83)","v":"Mozambique"},{"$f":"IF(COUNTRY_INFO!B83=0,\" \",COUNTRY_INFO!B83)","v":"Zambezia"},{"$f":"IF(COUNTRY_INFO!C83=0,\" \",COUNTRY_INFO!C83)","v":"Namacurra"},{"$f":"IF(OR(COUNTRY_INFO!$T$9:$T$1000=\"T3 (ALB/MBD)\",COUNTRY_INFO!$U$9:$U$1000=\"T3 (ALB/MBD)\"), \"T3 (ALB/MBD)\", \" \")","v":" "},null,null,null,null,null,0,null,null,null,0," "," "," "," "]
[{"$f":"IF(COUNTRY_INFO!A84=0,\" \",COUNTRY_INFO!A84)","v":"Mozambique"},{"$f":"IF(COUNTRY_INFO!B84=0,\" \",COUNTRY_INFO!B84)","v":"Zambezia"},{"$f":"IF(COUNTRY_INFO!C84=0,\" \",COUNTRY_INFO!C84)","v":"Namarrói"},{"$f":"IF(OR(COUNTRY_INFO!$T$9:$T$1000=\"T3 (ALB/MBD)\",COUNTRY_INFO!$U$9:$U$1000=\"T3 (ALB/MBD)\"), \"T3 (ALB/MBD)\", \" \")","v":" "},null,null,null,null,null,0,null,null,null,0," "," "," "," "]
[{"$f":"IF(COUNTRY_INFO!A85=0,\" \",COUNTRY_INFO!A85)","v":"Mozambique"},{"$f":"IF(COUNTRY_INFO!B85=0,\" \",COUNTRY_INFO!B85)","v":"Zambezia"},{"$f":"IF(COUNTRY_INFO!C85=0,\" \",COUNTRY_INFO!C85)","v":"Nicoadala"},{"$f":"IF(OR(COUNTRY_INFO!$T$9:$T$1000=\"T3 (ALB/MBD)\",COUNTRY_INFO!$U$9:$U$1000=\"T3 (ALB/MBD)\"), \"T3 (ALB/MBD)\", \" \")","v":" "},null,null,null,null,null,0,null,null,null,0," "," "," "," "]
[{"$f":"IF(COUNTRY_INFO!A86=0,\" \",COUNTRY_INFO!A86)","v":"Mozambique"},{"$f":"IF(COUNTRY_INFO!B86=0,\" \",COUNTRY_INFO!B86)","v":"Zambezia"},{"$f":"IF(COUNTRY_INFO!C86=0,\" \",COUNTRY_INFO!C86)","v":"Pebane"},{"$f":"IF(OR(COUNTRY_INFO!$T$9:$T$1000=\"T3 (ALB/MBD)\",COUNTRY_INFO!$U$9:$U$1000=\"T3 (ALB/MBD)\"), \"T3 (ALB/MBD)\", \" \")","v":" "},null,null,null,null,null,0,null,null,null,0," "," "," "," "]
[{"$f":"IF(COUNTRY_INFO!A87=0,\" \",COUNTRY_INFO!A87)","v":"Mozambique"},{"$f":"IF(COUNTRY_INFO!B87=0,\" \",COUNTRY_INFO!B87)","v":"Tete"},{"$f":"IF(COUNTRY_INFO!C87=0,\" \",COUNTRY_INFO!C87)","v":"Cid Tete"},{"$f":"IF(OR(COUNTRY_INFO!$T$9:$T$1000=\"T3 (ALB/MBD)\",COUNTRY_INFO!$U$9:$U$1000=\"T3 (ALB/MBD)\"), \"T3 (ALB/MBD)\", \" \")","v":" "},null,null,null,null,null,0,null,null,null,0," "," "," "," "]
[{"$f":"IF(COUNTRY_INFO!A88=0,\" \",COUNTRY_INFO!A88)","v":"Mozambique"},{"$f":"IF(COUNTRY_INFO!B88=0,\" \",COUNTRY_INFO!B88)","v":"Tete"},{"$f":"IF(COUNTRY_INFO!C88=0,\" \",COUNTRY_INFO!C88)","v":"Angónia"},{"$f":"IF(OR(COUNTRY_INFO!$T$9:$T$1000=\"T3 (ALB/MBD)\",COUNTRY_INFO!$U$9:$U$1000=\"T3 (ALB/MBD)\"), \"T3 (ALB/MBD)\", \" \")","v":" "},null,null,null,null,null,0,null,null,null,0," "," "," "," "]
[{"$f":"IF(COUNTRY_INFO!A89=0,\" \",COUNTRY_INFO!A89)","v":"Mozambique"},{"$f":"IF(COUNTRY_INFO!B89=0,\" \",COUNTRY_INFO!B89)","v":"Tete"},{"$f":"IF(COUNTRY_INFO!C89=0,\" \",COUNTRY_INFO!C89)","v":"Cahora Bassa"},{"$f":"IF(OR(COUNTRY_INFO!$T$9:$T$1000=\"T3 (ALB/MBD)\",COUNTRY_INFO!$U$9:$U$1000=\"T3 (ALB/MBD)\"), \"T3 (ALB/MBD)\", \" \")","v":" "},null,null,null,null,null,0,null,null,null,0," "," "," "," "]
[{"$f":"IF(COUNTRY_INFO!A90=0,\" \",COUNTRY_INFO!A90)","v":"Mozambique"},{"$f":"IF(COUNTRY_INFO!B90=0,\" \",COUNTRY_INFO!B90)","v":"Tete"},{"$f":"IF(COUNTRY_INFO!C90=0,\" \",COUNTRY_INFO!C90)","v":"Changara "},{"$f":"IF(OR(COUNTRY_INFO!$T$9:$T$1000=\"T3 (ALB/MBD)\",COUNTRY_INFO!$U$9:$U$1000=\"T3 (ALB/MBD)\"), \"T3 (ALB/MBD)\", \" \")","v":" "},null,null,null,null,null,0,null,null,null,0," "," "," "," "]
[{"$f":"IF(COUNTRY_INFO!A91=0,\" \",COUNTRY_INFO!A91)","v":"Mozambique"},{"$f":"IF(COUNTRY_INFO!B91=0,\" \",COUNTRY_INFO!B91)","v":"Tete"},{"$f":"IF(COUNTRY_INFO!C91=0,\" \",COUNTRY_INFO!C91)","v":"Chifunde"},{"$f":"IF(OR(COUNTRY_INFO!$T$9:$T$1000=\"T3 (ALB/MBD)\",COUNTRY_INFO!$U$9:$U$1000=\"T3 (ALB/MBD)\"), \"T3 (ALB/MBD)\", \" \")","v":" "},null,null,null,null,null,0,null,null,null,0," "," "," "," "]
[{"$f":"IF(COUNTRY_INFO!A92=0,\" \",COUNTRY_INFO!A92)","v":"Mozambique"},{"$f":"IF(COUNTRY_INFO!B92=0,\" \",COUNTRY_INFO!B92)","v":"Tete"},{"$f":"IF(COUNTRY_INFO!C92=0,\" \",COUNTRY_INFO!C92)","v":"Chiúta"},{"$f":"IF(OR(COUNTRY_INFO!$T$9:$T$1000=\"T3 (ALB/MBD)\",COUNTRY_INFO!$U$9:$U$1000=\"T3 (ALB/MBD)\"), \"T3 (ALB/MBD)\", \" \")","v":" "},null,null,null,null,null,0,null,null,null,0," "," "," "," "]
[{"$f":"IF(COUNTRY_INFO!A93=0,\" \",COUNTRY_INFO!A93)","v":"Mozambique"},{"$f":"IF(COUNTRY_INFO!B93=0,\" \",COUNTRY_INFO!B93)","v":"Tete"},{"$f":"IF(COUNTRY_INFO!C93=0,\" \",COUNTRY_INFO!C93)","v":"Doa"},{"$f":"IF(OR(COUNTRY_INFO!$T$9:$T$1000=\"T3 (ALB/MBD)\",COUNTRY_INFO!$U$9:$U$1000=\"T3 (ALB/MBD)\"), \"T3 (ALB/MBD)\", \" \")","v":" "},null,null,null,null,null,0,null,null,null,0," "," "," "," "]
[{"$f":"IF(COUNTRY_INFO!A94=0,\" \",COUNTRY_INFO!A94)","v":"Mozambique"},{"$f":"IF(COUNTRY_INFO!B94=0,\" \",COUNTRY_INFO!B94)","v":"Tete"},{"$f":"IF(COUNTRY_INFO!C94=0,\" \",COUNTRY_INFO!C94)","v":"Macanga"},{"$f":"IF(OR(COUNTRY_INFO!$T$9:$T$1000=\"T3 (ALB/MBD)\",COUNTRY_INFO!$U$9:$U$1000=\"T3 (ALB/MBD)\"), \"T3 (ALB/MBD)\", \" \")","v":" "},null,null,null,null,null,0,null,null,null,0," "," "," "," "]
[{"$f":"IF(COUNTRY_INFO!A95=0,\" \",COUNTRY_INFO!A95)","v":"Mozambique"},{"$f":"IF(COUNTRY_INFO!B95=0,\" \",COUNTRY_INFO!B95)","v":"Tete"},{"$f":"IF(COUNTRY_INFO!C95=0,\" \",COUNTRY_INFO!C95)","v":"Magoe"},{"$f":"IF(OR(COUNTRY_INFO!$T$9:$T$1000=\"T3 (ALB/MBD)\",COUNTRY_INFO!$U$9:$U$1000=\"T3 (ALB/MBD)\"), \"T3 (ALB/MBD)\", \" \")","v":" "},null,null,null,null,null,0,null,null,null,0," "," "," "," "]
[{"$f":"IF(COUNTRY_INFO!A96=0,\" \",COUNTRY_INFO!A96)","v":"Mozambique"},{"$f":"IF(COUNTRY_INFO!B96=0,\" \",COUNTRY_INFO!B96)","v":"Tete"},{"$f":"IF(COUNTRY_INFO!C96=0,\" \",COUNTRY_INFO!C96)","v":"Marávia"},{"$f":"IF(OR(COUNTRY_INFO!$T$9:$T$1000=\"T3 (ALB/MBD)\",COUNTRY_INFO!$U$9:$U$1000=\"T3 (ALB/MBD)\"), \"T3 (ALB/MBD)\", \" \")","v":" "},null,null,null,null,null,0,null,null,null,0," "," "," "," "]
[{"$f":"IF(COUNTRY_INFO!A97=0,\" \",COUNTRY_INFO!A97)","v":"Mozambique"},{"$f":"IF(COUNTRY_INFO!B97=0,\" \",COUNTRY_INFO!B97)","v":"Tete"},{"$f":"IF(COUNTRY_INFO!C97=0,\" \",COUNTRY_INFO!C97)","v":"Marara"},{"$f":"IF(OR(COUNTRY_INFO!$T$9:$T$1000=\"T3 (ALB/MBD)\",COUNTRY_INFO!$U$9:$U$1000=\"T3 (ALB/MBD)\"), \"T3 (ALB/MBD)\", \" \")","v":" "},null,null,null,null,null,0,null,null,null,0," "," "," "," "]
[{"$f":"IF(COUNTRY_INFO!A98=0,\" \",COUNTRY_INFO!A98)","v":"Mozambique"},{"$f":"IF(COUNTRY_INFO!B98=0,\" \",COUNTRY_INFO!B98)","v":"Tete"},{"$f":"IF(COUNTRY_INFO!C98=0,\" \",COUNTRY_INFO!C98)","v":"Moatize"},{"$f":"IF(OR(COUNTRY_INFO!$T$9:$T$1000=\"T3 (ALB/MBD)\",COUNTRY_INFO!$U$9:$U$1000=\"T3 (ALB/MBD)\"), \"T3 (ALB/MBD)\", \" \")","v":" "},null,null,null,null,null,0,null,null,null,0," "," "," "," "]
[{"$f":"IF(COUNTRY_INFO!A99=0,\" \",COUNTRY_INFO!A99)","v":"Mozambique"},{"$f":"IF(COUNTRY_INFO!B99=0,\" \",COUNTRY_INFO!B99)","v":"Tete"},{"$f":"IF(COUNTRY_INFO!C99=0,\" \",COUNTRY_INFO!C99)","v":"Mutarara"},{"$f":"IF(OR(COUNTRY_INFO!$T$9:$T$1000=\"T3 (ALB/MBD)\",COUNTRY_INFO!$U$9:$U$1000=\"T3 (ALB/MBD)\"), \"T3 (ALB/MBD)\", \" \")","v":" "},null,null,null,null,null,0,null,null,null,0," "," "," "," "]
[{"$f":"IF(COUNTRY_INFO!A100=0,\" \",COUNTRY_INFO!A100)","v":"Mozambique"},{"$f":"IF(COUNTRY_INFO!B100=0,\" \",COUNTRY_INFO!B100)","v":"Tete"},{"$f":"IF(COUNTRY_INFO!C100=0,\" \",COUNTRY_INFO!C100)","v":"Tsangano"},{"$f":"IF(OR(COUNTRY_INFO!$T$9:$T$1000=\"T3 (ALB/MBD)\",COUNTRY_INFO!$U$9:$U$1000=\"T3 (ALB/MBD)\"), \"T3 (ALB/MBD)\", \" \")","v":" "},null,null,null,null,null,0,null,null,null,0," "," "," "," "]
[{"$f":"IF(COUNTRY_INFO!A101=0,\" \",COUNTRY_INFO!A101)","v":"Mozambique"},{"$f":"IF(COUNTRY_INFO!B101=0,\" \",COUNTRY_INFO!B101)","v":"Tete"},{"$f":"IF(COUNTRY_INFO!C101=0,\" \",COUNTRY_INFO!C101)","v":"Zumbu"},{"$f":"IF(OR(COUNTRY_INFO!$T$9:$T$1000=\"T3 (ALB/MBD)\",COUNTRY_INFO!$U$9:$U$1000=\"T3 (ALB/MBD)\"), \"T3 (ALB/MBD)\", \" \")","v":" "},null,null,null,null,null,0,null,null,null,0," "," "," "," "]
[{"$f":"IF(COUNTRY_INFO!A102=0,\" \",COUNTRY_INFO!A102)","v":"Mozambique"},{"$f":"IF(COUNTRY_INFO!B102=0,\" \",COUNTRY_INFO!B102)","v":"Sofala"},{"$f":"IF(COUNTRY_INFO!C102=0,\" \",COUNTRY_INFO!C102)","v":"Cid Beira"},{"$f":"IF(OR(COUNTRY_INFO!$T$9:$T$1000=\"T3 (ALB/MBD)\",COUNTRY_INFO!$U$9:$U$1000=\"T3 (ALB/MBD)\"), \"T3 (ALB/MBD)\", \" \")","v":" "},null,null,null,null,null,0,null,null,null,0," "," "," "," "]
[{"$f":"IF(COUNTRY_INFO!A103=0,\" \",COUNTRY_INFO!A103)","v":"Mozambique"},{"$f":"IF(COUNTRY_INFO!B103=0,\" \",COUNTRY_INFO!B103)","v":"Sofala"},{"$f":"IF(COUNTRY_INFO!C103=0,\" \",COUNTRY_INFO!C103)","v":"Buzi"},{"$f":"IF(OR(COUNTRY_INFO!$T$9:$T$1000=\"T3 (ALB/MBD)\",COUNTRY_INFO!$U$9:$U$1000=\"T3 (ALB/MBD)\"), \"T3 (ALB/MBD)\", \" \")","v":" "},null,null,null,null,null,0,null,null,null,0," "," "," "," "]
[{"$f":"IF(COUNTRY_INFO!A104=0,\" \",COUNTRY_INFO!A104)","v":"Mozambique"},{"$f":"IF(COUNTRY_INFO!B104=0,\" \",COUNTRY_INFO!B104)","v":"Sofala"},{"$f":"IF(COUNTRY_INFO!C104=0,\" \",COUNTRY_INFO!C104)","v":"Caia"},{"$f":"IF(OR(COUNTRY_INFO!$T$9:$T$1000=\"T3 (ALB/MBD)\",COUNTRY_INFO!$U$9:$U$1000=\"T3 (ALB/MBD)\"), \"T3 (ALB/MBD)\", \" \")","v":" "},null,null,null,null,null,0,null,null,null,0," "," "," "," "]
[{"$f":"IF(COUNTRY_INFO!A105=0,\" \",COUNTRY_INFO!A105)","v":"Mozambique"},{"$f":"IF(COUNTRY_INFO!B105=0,\" \",COUNTRY_INFO!B105)","v":"Sofala"},{"$f":"IF(COUNTRY_INFO!C105=0,\" \",COUNTRY_INFO!C105)","v":"Chemba"},{"$f":"IF(OR(COUNTRY_INFO!$T$9:$T$1000=\"T3 (ALB/MBD)\",COUNTRY_INFO!$U$9:$U$1000=\"T3 (ALB/MBD)\"), \"T3 (ALB/MBD)\", \" \")","v":" "},null,null,null,null,null,0,null,null,null,0," "," "," "," "]
[{"$f":"IF(COUNTRY_INFO!A106=0,\" \",COUNTRY_INFO!A106)","v":"Mozambique"},{"$f":"IF(COUNTRY_INFO!B106=0,\" \",COUNTRY_INFO!B106)","v":"Sofala"},{"$f":"IF(COUNTRY_INFO!C106=0,\" \",COUNTRY_INFO!C106)","v":"Cheringoma"},{"$f":"IF(OR(COUNTRY_INFO!$T$9:$T$1000=\"T3 (ALB/MBD)\",COUNTRY_INFO!$U$9:$U$1000=\"T3 (ALB/MBD)\"), \"T3 (ALB/MBD)\", \" \")","v":" "},null,null,null,null,null,0,null,null,null,0," "," "," "," "]
[{"$f":"IF(COUNTRY_INFO!A107=0,\" \",COUNTRY_INFO!A107)","v":"Mozambique"},{"$f":"IF(COUNTRY_INFO!B107=0,\" \",COUNTRY_INFO!B107)","v":"Sofala"},{"$f":"IF(COUNTRY_INFO!C107=0,\" \",COUNTRY_INFO!C107)","v":"Chibabava"},{"$f":"IF(OR(COUNTRY_INFO!$T$9:$T$1000=\"T3 (ALB/MBD)\",COUNTRY_INFO!$U$9:$U$1000=\"T3 (ALB/MBD)\"), \"T3 (ALB/MBD)\", \" \")","v":" "},null,null,null,null,null,0,null,null,null,0," "," "," "," "]
[{"$f":"IF(COUNTRY_INFO!A108=0,\" \",COUNTRY_INFO!A108)","v":"Mozambique"},{"$f":"IF(COUNTRY_INFO!B108=0,\" \",COUNTRY_INFO!B108)","v":"Sofala"},{"$f":"IF(COUNTRY_INFO!C108=0,\" \",COUNTRY_INFO!C108)","v":"Dondo"},{"$f":"IF(OR(COUNTRY_INFO!$T$9:$T$1000=\"T3 (ALB/MBD)\",COUNTRY_INFO!$U$9:$U$1000=\"T3 (ALB/MBD)\"), \"T3 (ALB/MBD)\", \" \")","v":" "},null,null,null,null,null,0,null,null,null,0," "," "," "," "]
[{"$f":"IF(COUNTRY_INFO!A109=0,\" \",COUNTRY_INFO!A109)","v":"Mozambique"},{"$f":"IF(COUNTRY_INFO!B109=0,\" \",COUNTRY_INFO!B109)","v":"Sofala"},{"$f":"IF(COUNTRY_INFO!C109=0,\" \",COUNTRY_INFO!C109)","v":"Gorongosa"},{"$f":"IF(OR(COUNTRY_INFO!$T$9:$T$1000=\"T3 (ALB/MBD)\",COUNTRY_INFO!$U$9:$U$1000=\"T3 (ALB/MBD)\"), \"T3 (ALB/MBD)\", \" \")","v":" "},null,null,null,null,null,0,null,null,null,0," "," "," "," "]
[{"$f":"IF(COUNTRY_INFO!A110=0,\" \",COUNTRY_INFO!A110)","v":"Mozambique"},{"$f":"IF(COUNTRY_INFO!B110=0,\" \",COUNTRY_INFO!B110)","v":"Sofala"},{"$f":"IF(COUNTRY_INFO!C110=0,\" \",COUNTRY_INFO!C110)","v":"Machanga"},{"$f":"IF(OR(COUNTRY_INFO!$T$9:$T$1000=\"T3 (ALB/MBD)\",COUNTRY_INFO!$U$9:$U$1000=\"T3 (ALB/MBD)\"), \"T3 (ALB/MBD)\", \" \")","v":" "},null,null,null,null,null,0,null,null,null,0," "," "," "," "]
[{"$f":"IF(COUNTRY_INFO!A111=0,\" \",COUNTRY_INFO!A111)","v":"Mozambique"},{"$f":"IF(COUNTRY_INFO!B111=0,\" \",COUNTRY_INFO!B111)","v":"Sofala"},{"$f":"IF(COUNTRY_INFO!C111=0,\" \",COUNTRY_INFO!C111)","v":"Maringue"},{"$f":"IF(OR(COUNTRY_INFO!$T$9:$T$1000=\"T3 (ALB/MBD)\",COUNTRY_INFO!$U$9:$U$1000=\"T3 (ALB/MBD)\"), \"T3 (ALB/MBD)\", \" \")","v":" "},null,null,null,null,null,0,null,null,null,0," "," "," "," "]
[{"$f":"IF(COUNTRY_INFO!A112=0,\" \",COUNTRY_INFO!A112)","v":"Mozambique"},{"$f":"IF(COUNTRY_INFO!B112=0,\" \",COUNTRY_INFO!B112)","v":"Sofala"},{"$f":"IF(COUNTRY_INFO!C112=0,\" \",COUNTRY_INFO!C112)","v":"Marromeu"},{"$f":"IF(OR(COUNTRY_INFO!$T$9:$T$1000=\"T3 (ALB/MBD)\",COUNTRY_INFO!$U$9:$U$1000=\"T3 (ALB/MBD)\"), \"T3 (ALB/MBD)\", \" \")","v":" "},null,null,null,null,null,0,null,null,null,0," "," "," "," "]
[{"$f":"IF(COUNTRY_INFO!A113=0,\" \",COUNTRY_INFO!A113)","v":"Mozambique"},{"$f":"IF(COUNTRY_INFO!B113=0,\" \",COUNTRY_INFO!B113)","v":"Sofala"},{"$f":"IF(COUNTRY_INFO!C113=0,\" \",COUNTRY_INFO!C113)","v":"Muanza"},{"$f":"IF(OR(COUNTRY_INFO!$T$9:$T$1000=\"T3 (ALB/MBD)\",COUNTRY_INFO!$U$9:$U$1000=\"T3 (ALB/MBD)\"), \"T3 (ALB/MBD)\", \" \")","v":" "},null,null,null,null,null,0,null,null,null,0," "," "," "," "]
[{"$f":"IF(COUNTRY_INFO!A114=0,\" \",COUNTRY_INFO!A114)","v":"Mozambique"},{"$f":"IF(COUNTRY_INFO!B114=0,\" \",COUNTRY_INFO!B114)","v":"Sofala"},{"$f":"IF(COUNTRY_INFO!C114=0,\" \",COUNTRY_INFO!C114)","v":"Nhamatanda"},{"$f":"IF(OR(COUNTRY_INFO!$T$9:$T$1000=\"T3 (ALB/MBD)\",COUNTRY_INFO!$U$9:$U$1000=\"T3 (ALB/MBD)\"), \"T3 (ALB/MBD)\", \" \")","v":" "},null,null,null,null,null,0,null,null,null,0," "," "," "," "]
[{"$f":"IF(COUNTRY_INFO!A115=0,\" \",COUNTRY_INFO!A115)","v":"Mozambique"},{"$f":"IF(COUNTRY_INFO!B115=0,\" \",COUNTRY_INFO!B115)","v":"Manica"},{"$f":"IF(COUNTRY_INFO!C115=0,\" \",COUNTRY_INFO!C115)","v":"Cid. Chimoio"},{"$f":"IF(OR(COUNTRY_INFO!$T$9:$T$1000=\"T3 (ALB/MBD)\",COUNTRY_INFO!$U$9:$U$1000=\"T3 (ALB/MBD)\"), \"T3 (ALB/MBD)\", \" \")","v":" "},null,null,null,null,null,0,null,null,null,0," "," "," "," "]
[{"$f":"IF(COUNTRY_INFO!A116=0,\" \",COUNTRY_INFO!A116)","v":"Mozambique"},{"$f":"IF(COUNTRY_INFO!B116=0,\" \",COUNTRY_INFO!B116)","v":"Manica"},{"$f":"IF(COUNTRY_INFO!C116=0,\" \",COUNTRY_INFO!C116)","v":"Barué"},{"$f":"IF(OR(COUNTRY_INFO!$T$9:$T$1000=\"T3 (ALB/MBD)\",COUNTRY_INFO!$U$9:$U$1000=\"T3 (ALB/MBD)\"), \"T3 (ALB/MBD)\", \" \")","v":" "},null,null,null,null,null,0,null,null,null,0," "," "," "," "]
[{"$f":"IF(COUNTRY_INFO!A117=0,\" \",COUNTRY_INFO!A117)","v":"Mozambique"},{"$f":"IF(COUNTRY_INFO!B117=0,\" \",COUNTRY_INFO!B117)","v":"Manica"},{"$f":"IF(COUNTRY_INFO!C117=0,\" \",COUNTRY_INFO!C117)","v":"Gondola"},{"$f":"IF(OR(COUNTRY_INFO!$T$9:$T$1000=\"T3 (ALB/MBD)\",COUNTRY_INFO!$U$9:$U$1000=\"T3 (ALB/MBD)\"), \"T3 (ALB/MBD)\", \" \")","v":" "},null,null,null,null,null,0,null,null,null,0," "," "," "," "]
[{"$f":"IF(COUNTRY_INFO!A118=0,\" \",COUNTRY_INFO!A118)","v":"Mozambique"},{"$f":"IF(COUNTRY_INFO!B118=0,\" \",COUNTRY_INFO!B118)","v":"Manica"},{"$f":"IF(COUNTRY_INFO!C118=0,\" \",COUNTRY_INFO!C118)","v":"Guro"},{"$f":"IF(OR(COUNTRY_INFO!$T$9:$T$1000=\"T3 (ALB/MBD)\",COUNTRY_INFO!$U$9:$U$1000=\"T3 (ALB/MBD)\"), \"T3 (ALB/MBD)\", \" \")","v":" "},null,null,null,null,null,0,null,null,null,0," "," "," "," "]
[{"$f":"IF(COUNTRY_INFO!A119=0,\" \",COUNTRY_INFO!A119)","v":"Mozambique"},{"$f":"IF(COUNTRY_INFO!B119=0,\" \",COUNTRY_INFO!B119)","v":"Manica"},{"$f":"IF(COUNTRY_INFO!C119=0,\" \",COUNTRY_INFO!C119)","v":"Macate"},{"$f":"IF(OR(COUNTRY_INFO!$T$9:$T$1000=\"T3 (ALB/MBD)\",COUNTRY_INFO!$U$9:$U$1000=\"T3 (ALB/MBD)\"), \"T3 (ALB/MBD)\", \" \")","v":" "},null,null,null,null,null,0,null,null,null,0," "," "," "," "]
[{"$f":"IF(COUNTRY_INFO!A120=0,\" \",COUNTRY_INFO!A120)","v":"Mozambique"},{"$f":"IF(COUNTRY_INFO!B120=0,\" \",COUNTRY_INFO!B120)","v":"Manica"},{"$f":"IF(COUNTRY_INFO!C120=0,\" \",COUNTRY_INFO!C120)","v":"Machaze"},{"$f":"IF(OR(COUNTRY_INFO!$T$9:$T$1000=\"T3 (ALB/MBD)\",COUNTRY_INFO!$U$9:$U$1000=\"T3 (ALB/MBD)\"), \"T3 (ALB/MBD)\", \" \")","v":" "},null,null,null,null,null,0,null,null,null,0," "," "," "," "]
[{"$f":"IF(COUNTRY_INFO!A121=0,\" \",COUNTRY_INFO!A121)","v":"Mozambique"},{"$f":"IF(COUNTRY_INFO!B121=0,\" \",COUNTRY_INFO!B121)","v":"Manica"},{"$f":"IF(COUNTRY_INFO!C121=0,\" \",COUNTRY_INFO!C121)","v":"Macossa"},{"$f":"IF(OR(COUNTRY_INFO!$T$9:$T$1000=\"T3 (ALB/MBD)\",COUNTRY_INFO!$U$9:$U$1000=\"T3 (ALB/MBD)\"), \"T3 (ALB/MBD)\", \" \")","v":" "},null,null,null,null,null,0,null,null,null,0," "," "," "," "]
[{"$f":"IF(COUNTRY_INFO!A122=0,\" \",COUNTRY_INFO!A122)","v":"Mozambique"},{"$f":"IF(COUNTRY_INFO!B122=0,\" \",COUNTRY_INFO!B122)","v":"Manica"},{"$f":"IF(COUNTRY_INFO!C122=0,\" \",COUNTRY_INFO!C122)","v":"Manica"},{"$f":"IF(OR(COUNTRY_INFO!$T$9:$T$1000=\"T3 (ALB/MBD)\",COUNTRY_INFO!$U$9:$U$1000=\"T3 (ALB/MBD)\"), \"T3 (ALB/MBD)\", \" \")","v":" "},null,null,null,null,null,0,null,null,null,0," "," "," "," "]
[{"$f":"IF(COUNTRY_INFO!A123=0,\" \",COUNTRY_INFO!A123)","v":"Mozambique"},{"$f":"IF(COUNTRY_INFO!B123=0,\" \",COUNTRY_INFO!B123)","v":"Manica"},{"$f":"IF(COUNTRY_INFO!C123=0,\" \",COUNTRY_INFO!C123)","v":"Mossurize"},{"$f":"IF(OR(COUNTRY_INFO!$T$9:$T$1000=\"T3 (ALB/MBD)\",COUNTRY_INFO!$U$9:$U$1000=\"T3 (ALB/MBD)\"), \"T3 (ALB/MBD)\", \" \")","v":" "},null,null,null,null,null,0,null,null,null,0," "," "," "," "]
[{"$f":"IF(COUNTRY_INFO!A124=0,\" \",COUNTRY_INFO!A124)","v":"Mozambique"},{"$f":"IF(COUNTRY_INFO!B124=0,\" \",COUNTRY_INFO!B124)","v":"Manica"},{"$f":"IF(COUNTRY_INFO!C124=0,\" \",COUNTRY_INFO!C124)","v":"Sussundenga"},{"$f":"IF(OR(COUNTRY_INFO!$T$9:$T$1000=\"T3 (ALB/MBD)\",COUNTRY_INFO!$U$9:$U$1000=\"T3 (ALB/MBD)\"), \"T3 (ALB/MBD)\", \" \")","v":" "},null,null,null,null,null,0,null,null,null,0," "," "," "," "]
[{"$f":"IF(COUNTRY_INFO!A125=0,\" \",COUNTRY_INFO!A125)","v":"Mozambique"},{"$f":"IF(COUNTRY_INFO!B125=0,\" \",COUNTRY_INFO!B125)","v":"Manica"},{"$f":"IF(COUNTRY_INFO!C125=0,\" \",COUNTRY_INFO!C125)","v":"Tambara"},{"$f":"IF(OR(COUNTRY_INFO!$T$9:$T$1000=\"T3 (ALB/MBD)\",COUNTRY_INFO!$U$9:$U$1000=\"T3 (ALB/MBD)\"), \"T3 (ALB/MBD)\", \" \")","v":" "},null,null,null,null,null,0,null,null,null,0," "," "," "," "]
[{"$f":"IF(COUNTRY_INFO!A126=0,\" \",COUNTRY_INFO!A126)","v":"Mozambique"},{"$f":"IF(COUNTRY_INFO!B126=0,\" \",COUNTRY_INFO!B126)","v":"Manica"},{"$f":"IF(COUNTRY_INFO!C126=0,\" \",COUNTRY_INFO!C126)","v":"Vanduze"},{"$f":"IF(OR(COUNTRY_INFO!$T$9:$T$1000=\"T3 (ALB/MBD)\",COUNTRY_INFO!$U$9:$U$1000=\"T3 (ALB/MBD)\"), \"T3 (ALB/MBD)\", \" \")","v":" "},null,null,null,null,null,0,null,null,null,0," "," "," "," "]
[{"$f":"IF(COUNTRY_INFO!A127=0,\" \",COUNTRY_INFO!A127)","v":"Mozambique"},{"$f":"IF(COUNTRY_INFO!B127=0,\" \",COUNTRY_INFO!B127)","v":"Inhambane"},{"$f":"IF(COUNTRY_INFO!C127=0,\" \",COUNTRY_INFO!C127)","v":"Cid. I'bane"},{"$f":"IF(OR(COUNTRY_INFO!$T$9:$T$1000=\"T3 (ALB/MBD)\",COUNTRY_INFO!$U$9:$U$1000=\"T3 (ALB/MBD)\"), \"T3 (ALB/MBD)\", \" \")","v":" "},null,null,null,null,null,0,null,null,null,0," "," "," "," "]
[{"$f":"IF(COUNTRY_INFO!A128=0,\" \",COUNTRY_INFO!A128)","v":"Mozambique"},{"$f":"IF(COUNTRY_INFO!B128=0,\" \",COUNTRY_INFO!B128)","v":"Inhambane"},{"$f":"IF(COUNTRY_INFO!C128=0,\" \",COUNTRY_INFO!C128)","v":"Funhalouro"},{"$f":"IF(OR(COUNTRY_INFO!$T$9:$T$1000=\"T3 (ALB/MBD)\",COUNTRY_INFO!$U$9:$U$1000=\"T3 (ALB/MBD)\"), \"T3 (ALB/MBD)\", \" \")","v":" "},null,null,null,null,null,0,null,null,null,0," "," "," "," "]
[{"$f":"IF(COUNTRY_INFO!A129=0,\" \",COUNTRY_INFO!A129)","v":"Mozambique"},{"$f":"IF(COUNTRY_INFO!B129=0,\" \",COUNTRY_INFO!B129)","v":"Inhambane"},{"$f":"IF(COUNTRY_INFO!C129=0,\" \",COUNTRY_INFO!C129)","v":"Govuro"},{"$f":"IF(OR(COUNTRY_INFO!$T$9:$T$1000=\"T3 (ALB/MBD)\",COUNTRY_INFO!$U$9:$U$1000=\"T3 (ALB/MBD)\"), \"T3 (ALB/MBD)\", \" \")","v":" "},null,null,null,null,null,0,null,null,null,0," "," "," "," "]
[{"$f":"IF(COUNTRY_INFO!A130=0,\" \",COUNTRY_INFO!A130)","v":"Mozambique"},{"$f":"IF(COUNTRY_INFO!B130=0,\" \",COUNTRY_INFO!B130)","v":"Inhambane"},{"$f":"IF(COUNTRY_INFO!C130=0,\" \",COUNTRY_INFO!C130)","v":"Homoíne"},{"$f":"IF(OR(COUNTRY_INFO!$T$9:$T$1000=\"T3 (ALB/MBD)\",COUNTRY_INFO!$U$9:$U$1000=\"T3 (ALB/MBD)\"), \"T3 (ALB/MBD)\", \" \")","v":" "},null,null,null,null,null,0,null,null,null,0," "," "," "," "]
[{"$f":"IF(COUNTRY_INFO!A131=0,\" \",COUNTRY_INFO!A131)","v":"Mozambique"},{"$f":"IF(COUNTRY_INFO!B131=0,\" \",COUNTRY_INFO!B131)","v":"Inhambane"},{"$f":"IF(COUNTRY_INFO!C131=0,\" \",COUNTRY_INFO!C131)","v":"Inharrime"},{"$f":"IF(OR(COUNTRY_INFO!$T$9:$T$1000=\"T3 (ALB/MBD)\",COUNTRY_INFO!$U$9:$U$1000=\"T3 (ALB/MBD)\"), \"T3 (ALB/MBD)\", \" \")","v":" "},null,null,null,null,null,0,null,null,null,0," "," "," "," "]
[{"$f":"IF(COUNTRY_INFO!A132=0,\" \",COUNTRY_INFO!A132)","v":"Mozambique"},{"$f":"IF(COUNTRY_INFO!B132=0,\" \",COUNTRY_INFO!B132)","v":"Inhambane"},{"$f":"IF(COUNTRY_INFO!C132=0,\" \",COUNTRY_INFO!C132)","v":"Inhassoro"},{"$f":"IF(OR(COUNTRY_INFO!$T$9:$T$1000=\"T3 (ALB/MBD)\",COUNTRY_INFO!$U$9:$U$1000=\"T3 (ALB/MBD)\"), \"T3 (ALB/MBD)\", \" \")","v":" "},null,null,null,null,null,0,null,null,null,0," "," "," "," "]
[{"$f":"IF(COUNTRY_INFO!A133=0,\" \",COUNTRY_INFO!A133)","v":"Mozambique"},{"$f":"IF(COUNTRY_INFO!B133=0,\" \",COUNTRY_INFO!B133)","v":"Inhambane"},{"$f":"IF(COUNTRY_INFO!C133=0,\" \",COUNTRY_INFO!C133)","v":"Jangamo"},{"$f":"IF(OR(COUNTRY_INFO!$T$9:$T$1000=\"T3 (ALB/MBD)\",COUNTRY_INFO!$U$9:$U$1000=\"T3 (ALB/MBD)\"), \"T3 (ALB/MBD)\", \" \")","v":" "},null,null,null,null,null,0,null,null,null,0," "," "," "," "]
[{"$f":"IF(COUNTRY_INFO!A134=0,\" \",COUNTRY_INFO!A134)","v":"Mozambique"},{"$f":"IF(COUNTRY_INFO!B134=0,\" \",COUNTRY_INFO!B134)","v":"Inhambane"},{"$f":"IF(COUNTRY_INFO!C134=0,\" \",COUNTRY_INFO!C134)","v":"Mabote"},{"$f":"IF(OR(COUNTRY_INFO!$T$9:$T$1000=\"T3 (ALB/MBD)\",COUNTRY_INFO!$U$9:$U$1000=\"T3 (ALB/MBD)\"), \"T3 (ALB/MBD)\", \" \")","v":" "},null,null,null,null,null,0,null,null,null,0," "," "," "," "]
[{"$f":"IF(COUNTRY_INFO!A135=0,\" \",COUNTRY_INFO!A135)","v":"Mozambique"},{"$f":"IF(COUNTRY_INFO!B135=0,\" \",COUNTRY_INFO!B135)","v":"Inhambane"},{"$f":"IF(COUNTRY_INFO!C135=0,\" \",COUNTRY_INFO!C135)","v":"Massinga"},{"$f":"IF(OR(COUNTRY_INFO!$T$9:$T$1000=\"T3 (ALB/MBD)\",COUNTRY_INFO!$U$9:$U$1000=\"T3 (ALB/MBD)\"), \"T3 (ALB/MBD)\", \" \")","v":" "},null,null,null,null,null,0,null,null,null,0," "," "," "," "]
[{"$f":"IF(COUNTRY_INFO!A136=0,\" \",COUNTRY_INFO!A136)","v":"Mozambique"},{"$f":"IF(COUNTRY_INFO!B136=0,\" \",COUNTRY_INFO!B136)","v":"Inhambane"},{"$f":"IF(COUNTRY_INFO!C136=0,\" \",COUNTRY_INFO!C136)","v":"Maxixe"},{"$f":"IF(OR(COUNTRY_INFO!$T$9:$T$1000=\"T3 (ALB/MBD)\",COUNTRY_INFO!$U$9:$U$1000=\"T3 (ALB/MBD)\"), \"T3 (ALB/MBD)\", \" \")","v":" "},null,null,null,null,null,0,null,null,null,0," "," "," "," "]
[{"$f":"IF(COUNTRY_INFO!A137=0,\" \",COUNTRY_INFO!A137)","v":"Mozambique"},{"$f":"IF(COUNTRY_INFO!B137=0,\" \",COUNTRY_INFO!B137)","v":"Inhambane"},{"$f":"IF(COUNTRY_INFO!C137=0,\" \",COUNTRY_INFO!C137)","v":"Morrumbene"},{"$f":"IF(OR(COUNTRY_INFO!$T$9:$T$1000=\"T3 (ALB/MBD)\",COUNTRY_INFO!$U$9:$U$1000=\"T3 (ALB/MBD)\"), \"T3 (ALB/MBD)\", \" \")","v":" "},null,null,null,null,null,0,null,null,null,0," "," "," "," "]
[{"$f":"IF(COUNTRY_INFO!A138=0,\" \",COUNTRY_INFO!A138)","v":"Mozambique"},{"$f":"IF(COUNTRY_INFO!B138=0,\" \",COUNTRY_INFO!B138)","v":"Inhambane"},{"$f":"IF(COUNTRY_INFO!C138=0,\" \",COUNTRY_INFO!C138)","v":"Panda"},{"$f":"IF(OR(COUNTRY_INFO!$T$9:$T$1000=\"T3 (ALB/MBD)\",COUNTRY_INFO!$U$9:$U$1000=\"T3 (ALB/MBD)\"), \"T3 (ALB/MBD)\", \" \")","v":" "},null,null,null,null,null,{"$f":"SUM(G138:I138)","v":0},null,null,null,{"$f":"SUM(K138:M138)","v":0},{"$f":"IF(G138<>0, IF(K138/G138*100=0, \"-\", K138/G138*100), \" \")","v":" "},{"$f":"IF(H138<>0, IF(L138/H138*100=0, \"-\", L138/H138*100), \" \")","v":" "},{"$f":"IF(I138<>0, IF(M138/I138*100=0, \"-\", M138/I138*100), \" \")","v":" "},{"$f":"IF(J138<>0, IF(N138/J138*100=0, \"-\", N138/J138*100), \" \")","v":" "}]
[{"$f":"IF(COUNTRY_INFO!A139=0,\" \",COUNTRY_INFO!A139)","v":"Mozambique"},{"$f":"IF(COUNTRY_INFO!B139=0,\" \",COUNTRY_INFO!B139)","v":"Inhambane"},{"$f":"IF(COUNTRY_INFO!C139=0,\" \",COUNTRY_INFO!C139)","v":"Vilanculos"},{"$f":"IF(OR(COUNTRY_INFO!$T$9:$T$1000=\"T3 (ALB/MBD)\",COUNTRY_INFO!$U$9:$U$1000=\"T3 (ALB/MBD)\"), \"T3 (ALB/MBD)\", \" \")","v":" "},null,null,null,null,null,0,null,null,null,0," "," "," "," "]
[{"$f":"IF(COUNTRY_INFO!A140=0,\" \",COUNTRY_INFO!A140)","v":"Mozambique"},{"$f":"IF(COUNTRY_INFO!B140=0,\" \",COUNTRY_INFO!B140)","v":"Inhambane"},{"$f":"IF(COUNTRY_INFO!C140=0,\" \",COUNTRY_INFO!C140)","v":"Zavala"},{"$f":"IF(OR(COUNTRY_INFO!$T$9:$T$1000=\"T3 (ALB/MBD)\",COUNTRY_INFO!$U$9:$U$1000=\"T3 (ALB/MBD)\"), \"T3 (ALB/MBD)\", \" \")","v":" "},null,null,null,null,null,0,null,null,null,0," "," "," "," "]
[{"$f":"IF(COUNTRY_INFO!A141=0,\" \",COUNTRY_INFO!A141)","v":"Mozambique"},{"$f":"IF(COUNTRY_INFO!B141=0,\" \",COUNTRY_INFO!B141)","v":"Gaza"},{"$f":"IF(COUNTRY_INFO!C141=0,\" \",COUNTRY_INFO!C141)","v":"Cid Xai Xai"},{"$f":"IF(OR(COUNTRY_INFO!$T$9:$T$1000=\"T3 (ALB/MBD)\",COUNTRY_INFO!$U$9:$U$1000=\"T3 (ALB/MBD)\"), \"T3 (ALB/MBD)\", \" \")","v":" "},null,null,null,null,null,0,null,null,null,0," "," "," "," "]
[{"$f":"IF(COUNTRY_INFO!A142=0,\" \",COUNTRY_INFO!A142)","v":"Mozambique"},{"$f":"IF(COUNTRY_INFO!B142=0,\" \",COUNTRY_INFO!B142)","v":"Gaza"},{"$f":"IF(COUNTRY_INFO!C142=0,\" \",COUNTRY_INFO!C142)","v":"Bilene Macia"},{"$f":"IF(OR(COUNTRY_INFO!$T$9:$T$1000=\"T3 (ALB/MBD)\",COUNTRY_INFO!$U$9:$U$1000=\"T3 (ALB/MBD)\"), \"T3 (ALB/MBD)\", \" \")","v":" "},null,null,null,null,null,0,null,null,null,0," "," "," "," "]
[{"$f":"IF(COUNTRY_INFO!A143=0,\" \",COUNTRY_INFO!A143)","v":"Mozambique"},{"$f":"IF(COUNTRY_INFO!B143=0,\" \",COUNTRY_INFO!B143)","v":"Gaza"},{"$f":"IF(COUNTRY_INFO!C143=0,\" \",COUNTRY_INFO!C143)","v":"Chibuto"},{"$f":"IF(OR(COUNTRY_INFO!$T$9:$T$1000=\"T3 (ALB/MBD)\",COUNTRY_INFO!$U$9:$U$1000=\"T3 (ALB/MBD)\"), \"T3 (ALB/MBD)\", \" \")","v":" "},null,null,null,null,null,0,null,null,null,0," "," "," "," "]
[{"$f":"IF(COUNTRY_INFO!A144=0,\" \",COUNTRY_INFO!A144)","v":"Mozambique"},{"$f":"IF(COUNTRY_INFO!B144=0,\" \",COUNTRY_INFO!B144)","v":"Gaza"},{"$f":"IF(COUNTRY_INFO!C144=0,\" \",COUNTRY_INFO!C144)","v":"Chicualacuala"},{"$f":"IF(OR(COUNTRY_INFO!$T$9:$T$1000=\"T3 (ALB/MBD)\",COUNTRY_INFO!$U$9:$U$1000=\"T3 (ALB/MBD)\"), \"T3 (ALB/MBD)\", \" \")","v":" "},null,null,null,null,null,0,null,null,null,0," "," "," "," "]
[{"$f":"IF(COUNTRY_INFO!A145=0,\" \",COUNTRY_INFO!A145)","v":"Mozambique"},{"$f":"IF(COUNTRY_INFO!B145=0,\" \",COUNTRY_INFO!B145)","v":"Gaza"},{"$f":"IF(COUNTRY_INFO!C145=0,\" \",COUNTRY_INFO!C145)","v":"Chigubo"},{"$f":"IF(OR(COUNTRY_INFO!$T$9:$T$1000=\"T3 (ALB/MBD)\",COUNTRY_INFO!$U$9:$U$1000=\"T3 (ALB/MBD)\"), \"T3 (ALB/MBD)\", \" \")","v":" "},null,null,null,null,null,0,null,null,null,0," "," "," "," "]
[{"$f":"IF(COUNTRY_INFO!A146=0,\" \",COUNTRY_INFO!A146)","v":"Mozambique"},{"$f":"IF(COUNTRY_INFO!B146=0,\" \",COUNTRY_INFO!B146)","v":"Gaza"},{"$f":"IF(COUNTRY_INFO!C146=0,\" \",COUNTRY_INFO!C146)","v":"Chokwé"},{"$f":"IF(OR(COUNTRY_INFO!$T$9:$T$1000=\"T3 (ALB/MBD)\",COUNTRY_INFO!$U$9:$U$1000=\"T3 (ALB/MBD)\"), \"T3 (ALB/MBD)\", \" \")","v":" "},null,null,null,null,null,0,null,null,null,0," "," "," "," "]
[{"$f":"IF(COUNTRY_INFO!A147=0,\" \",COUNTRY_INFO!A147)","v":"Mozambique"},{"$f":"IF(COUNTRY_INFO!B147=0,\" \",COUNTRY_INFO!B147)","v":"Gaza"},{"$f":"IF(COUNTRY_INFO!C147=0,\" \",COUNTRY_INFO!C147)","v":"Chongoene"},{"$f":"IF(OR(COUNTRY_INFO!$T$9:$T$1000=\"T3 (ALB/MBD)\",COUNTRY_INFO!$U$9:$U$1000=\"T3 (ALB/MBD)\"), \"T3 (ALB/MBD)\", \" \")","v":" "},null,null,null,null,null,0,null,null,null,0," "," "," "," "]
[{"$f":"IF(COUNTRY_INFO!A148=0,\" \",COUNTRY_INFO!A148)","v":"Mozambique"},{"$f":"IF(COUNTRY_INFO!B148=0,\" \",COUNTRY_INFO!B148)","v":"Gaza"},{"$f":"IF(COUNTRY_INFO!C148=0,\" \",COUNTRY_INFO!C148)","v":"Guijá"},{"$f":"IF(OR(COUNTRY_INFO!$T$9:$T$1000=\"T3 (ALB/MBD)\",COUNTRY_INFO!$U$9:$U$1000=\"T3 (ALB/MBD)\"), \"T3 (ALB/MBD)\", \" \")","v":" "},null,null,null,null,null,0,null,null,null,0," "," "," "," "]
[{"$f":"IF(COUNTRY_INFO!A149=0,\" \",COUNTRY_INFO!A149)","v":"Mozambique"},{"$f":"IF(COUNTRY_INFO!B149=0,\" \",COUNTRY_INFO!B149)","v":"Gaza"},{"$f":"IF(COUNTRY_INFO!C149=0,\" \",COUNTRY_INFO!C149)","v":"Limpopo"},{"$f":"IF(OR(COUNTRY_INFO!$T$9:$T$1000=\"T3 (ALB/MBD)\",COUNTRY_INFO!$U$9:$U$1000=\"T3 (ALB/MBD)\"), \"T3 (ALB/MBD)\", \" \")","v":" "},null,null,null,null,null,0,null,null,null,0," "," "," "," "]
[{"$f":"IF(COUNTRY_INFO!A150=0,\" \",COUNTRY_INFO!A150)","v":"Mozambique"},{"$f":"IF(COUNTRY_INFO!B150=0,\" \",COUNTRY_INFO!B150)","v":"Gaza"},{"$f":"IF(COUNTRY_INFO!C150=0,\" \",COUNTRY_INFO!C150)","v":"Mabalane"},{"$f":"IF(OR(COUNTRY_INFO!$T$9:$T$1000=\"T3 (ALB/MBD)\",COUNTRY_INFO!$U$9:$U$1000=\"T3 (ALB/MBD)\"), \"T3 (ALB/MBD)\", \" \")","v":" "},null,null,null,null,null,0,null,null,null,0," "," "," "," "]
[{"$f":"IF(COUNTRY_INFO!A151=0,\" \",COUNTRY_INFO!A151)","v":"Mozambique"},{"$f":"IF(COUNTRY_INFO!B151=0,\" \",COUNTRY_INFO!B151)","v":"Gaza"},{"$f":"IF(COUNTRY_INFO!C151=0,\" \",COUNTRY_INFO!C151)","v":"Manjacaze"},{"$f":"IF(OR(COUNTRY_INFO!$T$9:$T$1000=\"T3 (ALB/MBD)\",COUNTRY_INFO!$U$9:$U$1000=\"T3 (ALB/MBD)\"), \"T3 (ALB/MBD)\", \" \")","v":" "},null,null,null,null,null,0,null,null,null,0," "," "," "," "]
[{"$f":"IF(COUNTRY_INFO!A152=0,\" \",COUNTRY_INFO!A152)","v":"Mozambique"},{"$f":"IF(COUNTRY_INFO!B152=0,\" \",COUNTRY_INFO!B152)","v":"Gaza"},{"$f":"IF(COUNTRY_INFO!C152=0,\" \",COUNTRY_INFO!C152)","v":"Mapai"},{"$f":"IF(OR(COUNTRY_INFO!$T$9:$T$1000=\"T3 (ALB/MBD)\",COUNTRY_INFO!$U$9:$U$1000=\"T3 (ALB/MBD)\"), \"T3 (ALB/MBD)\", \" \")","v":" "},null,null,null,null,null,0,null,null,null,0," "," "," "," "]
[{"$f":"IF(COUNTRY_INFO!A153=0,\" \",COUNTRY_INFO!A153)","v":"Mozambique"},{"$f":"IF(COUNTRY_INFO!B153=0,\" \",COUNTRY_INFO!B153)","v":"Gaza"},{"$f":"IF(COUNTRY_INFO!C153=0,\" \",COUNTRY_INFO!C153)","v":"Massangena"},{"$f":"IF(OR(COUNTRY_INFO!$T$9:$T$1000=\"T3 (ALB/MBD)\",COUNTRY_INFO!$U$9:$U$1000=\"T3 (ALB/MBD)\"), \"T3 (ALB/MBD)\", \" \")","v":" "},null,null,null,null,null,0,null,null,null,0," "," "," "," "]
[{"$f":"IF(COUNTRY_INFO!A154=0,\" \",COUNTRY_INFO!A154)","v":"Mozambique"},{"$f":"IF(COUNTRY_INFO!B154=0,\" \",COUNTRY_INFO!B154)","v":"Gaza"},{"$f":"IF(COUNTRY_INFO!C154=0,\" \",COUNTRY_INFO!C154)","v":"Massingir"},{"$f":"IF(OR(COUNTRY_INFO!$T$9:$T$1000=\"T3 (ALB/MBD)\",COUNTRY_INFO!$U$9:$U$1000=\"T3 (ALB/MBD)\"), \"T3 (ALB/MBD)\", \" \")","v":" "},null,null,null,null,null,0,null,null,null,0," "," "," "," "]
[{"$f":"IF(COUNTRY_INFO!A155=0,\" \",COUNTRY_INFO!A155)","v":"Mozambique"},{"$f":"IF(COUNTRY_INFO!B155=0,\" \",COUNTRY_INFO!B155)","v":"Maputo Provincia"},{"$f":"IF(COUNTRY_INFO!C155=0,\" \",COUNTRY_INFO!C155)","v":"Matola"},{"$f":"IF(OR(COUNTRY_INFO!$T$9:$T$1000=\"T3 (ALB/MBD)\",COUNTRY_INFO!$U$9:$U$1000=\"T3 (ALB/MBD)\"), \"T3 (ALB/MBD)\", \" \")","v":" "},null,null,null,null,null,0,null,null,null,0," "," "," "," "]
[{"$f":"IF(COUNTRY_INFO!A156=0,\" \",COUNTRY_INFO!A156)","v":"Mozambique"},{"$f":"IF(COUNTRY_INFO!B156=0,\" \",COUNTRY_INFO!B156)","v":"Maputo Provincia"},{"$f":"IF(COUNTRY_INFO!C156=0,\" \",COUNTRY_INFO!C156)","v":"Boane"},{"$f":"IF(OR(COUNTRY_INFO!$T$9:$T$1000=\"T3 (ALB/MBD)\",COUNTRY_INFO!$U$9:$U$1000=\"T3 (ALB/MBD)\"), \"T3 (ALB/MBD)\", \" \")","v":" "},null,null,null,null,null,0,null,null,null,0," "," "," "," "]
[{"$f":"IF(COUNTRY_INFO!A157=0,\" \",COUNTRY_INFO!A157)","v":"Mozambique"},{"$f":"IF(COUNTRY_INFO!B157=0,\" \",COUNTRY_INFO!B157)","v":"Maputo Provincia"},{"$f":"IF(COUNTRY_INFO!C157=0,\" \",COUNTRY_INFO!C157)","v":"Magude"},{"$f":"IF(OR(COUNTRY_INFO!$T$9:$T$1000=\"T3 (ALB/MBD)\",COUNTRY_INFO!$U$9:$U$1000=\"T3 (ALB/MBD)\"), \"T3 (ALB/MBD)\", \" \")","v":" "},null,null,null,null,null,0,null,null,null,0," "," "," "," "]
[{"$f":"IF(COUNTRY_INFO!A158=0,\" \",COUNTRY_INFO!A158)","v":"Mozambique"},{"$f":"IF(COUNTRY_INFO!B158=0,\" \",COUNTRY_INFO!B158)","v":"Maputo Provincia"},{"$f":"IF(COUNTRY_INFO!C158=0,\" \",COUNTRY_INFO!C158)","v":"Manhica"},{"$f":"IF(OR(COUNTRY_INFO!$T$9:$T$1000=\"T3 (ALB/MBD)\",COUNTRY_INFO!$U$9:$U$1000=\"T3 (ALB/MBD)\"), \"T3 (ALB/MBD)\", \" \")","v":" "},null,null,null,null,null,0,null,null,null,0," "," "," "," "]
[{"$f":"IF(COUNTRY_INFO!A159=0,\" \",COUNTRY_INFO!A159)","v":"Mozambique"},{"$f":"IF(COUNTRY_INFO!B159=0,\" \",COUNTRY_INFO!B159)","v":"Maputo Provincia"},{"$f":"IF(COUNTRY_INFO!C159=0,\" \",COUNTRY_INFO!C159)","v":"Marracuene"},{"$f":"IF(OR(COUNTRY_INFO!$T$9:$T$1000=\"T3 (ALB/MBD)\",COUNTRY_INFO!$U$9:$U$1000=\"T3 (ALB/MBD)\"), \"T3 (ALB/MBD)\", \" \")","v":" "},null,null,null,null,null,0,null,null,null,0," "," "," "," "]
[{"$f":"IF(COUNTRY_INFO!A160=0,\" \",COUNTRY_INFO!A160)","v":"Mozambique"},{"$f":"IF(COUNTRY_INFO!B160=0,\" \",COUNTRY_INFO!B160)","v":"Maputo Provincia"},{"$f":"IF(COUNTRY_INFO!C160=0,\" \",COUNTRY_INFO!C160)","v":"Matutuíne"},{"$f":"IF(OR(COUNTRY_INFO!$T$9:$T$1000=\"T3 (ALB/MBD)\",COUNTRY_INFO!$U$9:$U$1000=\"T3 (ALB/MBD)\"), \"T3 (ALB/MBD)\", \" \")","v":" "},null,null,null,null,null,0,null,null,null,0," "," "," "," "]
[{"$f":"IF(COUNTRY_INFO!A161=0,\" \",COUNTRY_INFO!A161)","v":"Mozambique"},{"$f":"IF(COUNTRY_INFO!B161=0,\" \",COUNTRY_INFO!B161)","v":"Maputo Provincia"},{"$f":"IF(COUNTRY_INFO!C161=0,\" \",COUNTRY_INFO!C161)","v":"Moamba"},{"$f":"IF(OR(COUNTRY_INFO!$T$9:$T$1000=\"T3 (ALB/MBD)\",COUNTRY_INFO!$U$9:$U$1000=\"T3 (ALB/MBD)\"), \"T3 (ALB/MBD)\", \" \")","v":" "},null,null,null,null,null,0,null,null,null,0," "," "," "," "]
[{"$f":"IF(COUNTRY_INFO!A162=0,\" \",COUNTRY_INFO!A162)","v":"Mozambique"},{"$f":"IF(COUNTRY_INFO!B162=0,\" \",COUNTRY_INFO!B162)","v":"Maputo Provincia"},{"$f":"IF(COUNTRY_INFO!C162=0,\" \",COUNTRY_INFO!C162)","v":"Namaacha"},{"$f":"IF(OR(COUNTRY_INFO!$T$9:$T$1000=\"T3 (ALB/MBD)\",COUNTRY_INFO!$U$9:$U$1000=\"T3 (ALB/MBD)\"), \"T3 (ALB/MBD)\", \" \")","v":" "},null,null,null,null,null,0,null,null,null,0," "," "," "," "]
[{"$f":"IF(COUNTRY_INFO!A163=0,\" \",COUNTRY_INFO!A163)","v":"Mozambique"},{"$f":"IF(COUNTRY_INFO!B163=0,\" \",COUNTRY_INFO!B163)","v":"Cidade de Maputo"},{"$f":"IF(COUNTRY_INFO!C163=0,\" \",COUNTRY_INFO!C163)","v":"Kampfumu"},{"$f":"IF(OR(COUNTRY_INFO!$T$9:$T$1000=\"T3 (ALB/MBD)\",COUNTRY_INFO!$U$9:$U$1000=\"T3 (ALB/MBD)\"), \"T3 (ALB/MBD)\", \" \")","v":" "},null,null,null,null,null,0,null,null,null,0," "," "," "," "]
[{"$f":"IF(COUNTRY_INFO!A164=0,\" \",COUNTRY_INFO!A164)","v":"Mozambique"},{"$f":"IF(COUNTRY_INFO!B164=0,\" \",COUNTRY_INFO!B164)","v":"Cidade de Maputo"},{"$f":"IF(COUNTRY_INFO!C164=0,\" \",COUNTRY_INFO!C164)","v":"Nhlamankulu"},{"$f":"IF(OR(COUNTRY_INFO!$T$9:$T$1000=\"T3 (ALB/MBD)\",COUNTRY_INFO!$U$9:$U$1000=\"T3 (ALB/MBD)\"), \"T3 (ALB/MBD)\", \" \")","v":" "},null,null,null,null,null,0,null,null,null,0," "," "," "," "]
[{"$f":"IF(COUNTRY_INFO!A165=0,\" \",COUNTRY_INFO!A165)","v":"Mozambique"},{"$f":"IF(COUNTRY_INFO!B165=0,\" \",COUNTRY_INFO!B165)","v":"Cidade de Maputo"},{"$f":"IF(COUNTRY_INFO!C165=0,\" \",COUNTRY_INFO!C165)","v":"Kamaxakani"},{"$f":"IF(OR(COUNTRY_INFO!$T$9:$T$1000=\"T3 (ALB/MBD)\",COUNTRY_INFO!$U$9:$U$1000=\"T3 (ALB/MBD)\"), \"T3 (ALB/MBD)\", \" \")","v":" "},null,null,null,null,null,0,null,null,null,0," "," "," "," "]
[{"$f":"IF(COUNTRY_INFO!A166=0,\" \",COUNTRY_INFO!A166)","v":"Mozambique"},{"$f":"IF(COUNTRY_INFO!B166=0,\" \",COUNTRY_INFO!B166)","v":"Cidade de Maputo"},{"$f":"IF(COUNTRY_INFO!C166=0,\" \",COUNTRY_INFO!C166)","v":"Kamavota"},{"$f":"IF(OR(COUNTRY_INFO!$T$9:$T$1000=\"T3 (ALB/MBD)\",COUNTRY_INFO!$U$9:$U$1000=\"T3 (ALB/MBD)\"), \"T3 (ALB/MBD)\", \" \")","v":" "},null,null,null,null,null,0,null,null,null,0," "," "," "," "]
[{"$f":"IF(COUNTRY_INFO!A167=0,\" \",COUNTRY_INFO!A167)","v":"Mozambique"},{"$f":"IF(COUNTRY_INFO!B167=0,\" \",COUNTRY_INFO!B167)","v":"Cidade de Maputo"},{"$f":"IF(COUNTRY_INFO!C167=0,\" \",COUNTRY_INFO!C167)","v":"Kamubukwana"},{"$f":"IF(OR(COUNTRY_INFO!$T$9:$T$1000=\"T3 (ALB/MBD)\",COUNTRY_INFO!$U$9:$U$1000=\"T3 (ALB/MBD)\"), \"T3 (ALB/MBD)\", \" \")","v":" "},null,null,null,null,null,0,null,null,null,0," "," "," "," "]
[{"$f":"IF(COUNTRY_INFO!A168=0,\" \",COUNTRY_INFO!A168)","v":"Mozambique"},{"$f":"IF(COUNTRY_INFO!B168=0,\" \",COUNTRY_INFO!B168)","v":"Cidade de Maputo"},{"$f":"IF(COUNTRY_INFO!C168=0,\" \",COUNTRY_INFO!C168)","v":"Katembe"},{"$f":"IF(OR(COUNTRY_INFO!$T$9:$T$1000=\"T3 (ALB/MBD)\",COUNTRY_INFO!$U$9:$U$1000=\"T3 (ALB/MBD)\"), \"T3 (ALB/MBD)\", \" \")","v":" "},null,null,null,null,null,0,null,null,null,0," "," "," "," "]
[{"$f":"IF(COUNTRY_INFO!A169=0,\" \",COUNTRY_INFO!A169)","v":"Mozambique"},{"$f":"IF(COUNTRY_INFO!B169=0,\" \",COUNTRY_INFO!B169)","v":"Cidade de Maputo"},{"$f":"IF(COUNTRY_INFO!C169=0,\" \",COUNTRY_INFO!C169)","v":"Kanyaca"},{"$f":"IF(OR(COUNTRY_INFO!$T$9:$T$1000=\"T3 (ALB/MBD)\",COUNTRY_INFO!$U$9:$U$1000=\"T3 (ALB/MBD)\"), \"T3 (ALB/MBD)\", \" \")","v":" "},null,null,null,null,null,0,null,null,null,0," "," "," "," "]

{"sheet":"T3_R2","index":8,"n_rows":169,"n_cols":18,"rows_kept":169,"cut":false,"hidden":false,"merged":[[5,6,5,9],[5,10,5,13],[5,14,5,17],[3,0,3,2],[5,0,5,2],[5,3,6,3],[5,5,6,5],[5,4,6,4]]}
["T 3 - Albendazole (ALB) or Mebendazole (MBD) - Round 2"]
["Administrative structure, population requiring PC by age group, population treated by age group and coverage"]
[]
["TOTAL",null,null,null,null,null,{"$f":"SUM(G$9:G$1000)","v":0},0,0,0,0,0,0,0,{"$f":"IF(G4<>0, IF(K4/G4*100=0, \"-\", K4/G4*100), \" \")","v":" "},{"$f":"IF(H4<>0, IF(L4/H4*100=0, \"-\", L4/H4*100), \" \")","v":" "},{"$f":"IF(I4<>0, IF(M4/I4*100=0, \"-\", M4/I4*100), \" \")","v":" "},{"$f":"IF(J4<>0, IF(N4/J4*100=0, \"-\", N4/J4*100), \" \")","v":" "}]
[]
[null,null,null,"PC implemented","Medicine","Date","Population targeted for T3",null,null,null,"Population treated",null,null,null,"Programme coverage (%)"]
["Country","Province/State","District",null,null,null,"PreSAC","SAC","Adults","Total","PreSAC","SAC","Adults","Total","PreSAC","SAC","Adults","Total"]
[]
[{"$f":"IF(COUNTRY_INFO!A9=0,\" \",COUNTRY_INFO!A9)","v":"Mozambique"},{"$f":"IF(COUNTRY_INFO!B9=0,\" \",COUNTRY_INFO!B9)","v":"Cabo Delgado"},{"$f":"IF(COUNTRY_INFO!C9=0,\" \",COUNTRY_INFO!C9)","v":"Cid. Pemba"},{"$f":"IF(AND(COUNTRY_INFO!$T$9:$T$1000=\"T3 (ALB/MBD)\",COUNTRY_INFO!$U$9:$U$1000=\"T3 (ALB/MBD)\"), \"T3 (ALB/MBD)\", \" \")","v":" "},null,null,null,null,null,{"$f":"SUM(G9:I9)","v":0},null,null,null,{"$f":"SUM(K9:M9)","v":0},{"$f":"IF(G9<>0, IF(K9/G9*100=0, \"-\", K9/G9*100), \" \")","v":" "}," "," "," "]
[{"$f":"IF(COUNTRY_INFO!A10=0,\" \",COUNTRY_INFO!A10)","v":"Mozambique"},{"$f":"IF(COUNTRY_INFO!B10=0,\" \",COUNTRY_INFO!B10)","v":"Cabo Delgado"},{"$f":"IF(COUNTRY_INFO!C10=0,\" \",COUNTRY_INFO!C10)","v":"Ancuabe"},{"$f":"IF(AND(COUNTRY_INFO!$T$9:$T$1000=\"T3 (ALB/MBD)\",COUNTRY_INFO!$U$9:$U$1000=\"T3 (ALB/MBD)\"), \"T3 (ALB/MBD)\", \" \")","v":" "},null,null,null,null,null,{"$f":"SUM(G10:I10)","v":0},null,null,null,{"$f":"SUM(K10:M10)","v":0},{"$f":"IF(G10<>0, IF(K10/G10*100=0, \"-\", K10/G10*100), \" \")","v":" "},{"$f":"IF(H10<>0, IF(L10/H10*100=0, \"-\", L10/H10*100), \" \")","v":" "},{"$f":"IF(I10<>0, IF(M10/I10*100=0, \"-\", M10/I10*100), \" \")","v":" "},{"$f":"IF(J10<>0, IF(N10/J10*100=0, \"-\", N10/J10*100), \" \")","v":" "}]
[{"$f":"IF(COUNTRY_INFO!A11=0,\" \",COUNTRY_INFO!A11)","v":"Mozambique"},{"$f":"IF(COUNTRY_INFO!B11=0,\" \",COUNTRY_INFO!B11)","v":"Cabo Delgado"},{"$f":"IF(COUNTRY_INFO!C11=0,\" \",COUNTRY_INFO!C11)","v":"Balama"},{"$f":"IF(AND(COUNTRY_INFO!$T$9:$T$1000=\"T3 (ALB/MBD)\",COUNTRY_INFO!$U$9:$U$1000=\"T3 (ALB/MBD)\"), \"T3 (ALB/MBD)\", \" \")","v":" "},null,null,null,null,null,0,null,null,null,0," "," "," "," "]
[{"$f":"IF(COUNTRY_INFO!A12=0,\" \",COUNTRY_INFO!A12)","v":"Mozambique"},{"$f":"IF(COUNTRY_INFO!B12=0,\" \",COUNTRY_INFO!B12)","v":"Cabo Delgado"},{"$f":"IF(COUNTRY_INFO!C12=0,\" \",COUNTRY_INFO!C12)","v":"Chiure"},{"$f":"IF(AND(COUNTRY_INFO!$T$9:$T$1000=\"T3 (ALB/MBD)\",COUNTRY_INFO!$U$9:$U$1000=\"T3 (ALB/MBD)\"), \"T3 (ALB/MBD)\", \" \")","v":" "},null,null,null,null,null,0,null,null,null,0," "," "," "," "]
[{"$f":"IF(COUNTRY_INFO!A13=0,\" \",COUNTRY_INFO!A13)","v":"Mozambique"},{"$f":"IF(COUNTRY_INFO!B13=0,\" \",COUNTRY_INFO!B13)","v":"Cabo Delgado"},{"$f":"IF(COUNTRY_INFO!C13=0,\" \",COUNTRY_INFO!C13)","v":"Ibo"},{"$f":"IF(AND(COUNTRY_INFO!$T$9:$T$1000=\"T3 (ALB/MBD)\",COUNTRY_INFO!$U$9:$U$1000=\"T3 (ALB/MBD)\"), \"T3 (ALB/MBD)\", \" \")","v":" "},null,null,null,null,null,0,null,null,null,0," "," "," "," "]
[{"$f":"IF(COUNTRY_INFO!A14=0,\" \",COUNTRY_INFO!A14)","v":"Mozambique"},{"$f":"IF(COUNTRY_INFO!B14=0,\" \",COUNTRY_INFO!B14)","v":"Cabo Delgado"},{"$f":"IF(COUNTRY_INFO!C14=0,\" \",COUNTRY_INFO!C14)","v":"Macomia"},{"$f":"IF(AND(COUNTRY_INFO!$T$9:$T$1000=\"T3 (ALB/MBD)\",COUNTRY_INFO!$U$9:$U$1000=\"T3 (ALB/MBD)\"), \"T3 (ALB/MBD)\", \" \")","v":" "},null,null,null,null,null,0,null,null,null,0," "," "," "," "]
[{"$f":"IF(COUNTRY_INFO!A15=0,\" \",COUNTRY_INFO!A15)","v":"Mozambique"},{"$f":"IF(COUNTRY_INFO!B15=0,\" \",COUNTRY_INFO!B15)","v":"Cabo Delgado"},{"$f":"IF(COUNTRY_INFO!C15=0,\" \",COUNTRY_INFO!C15)","v":"Mecufi"},{"$f":"IF(AND(COUNTRY_INFO!$T$9:$T$1000=\"T3 (ALB/MBD)\",COUNTRY_INFO!$U$9:$U$1000=\"T3 (ALB/MBD)\"), \"T3 (ALB/MBD)\", \" \")","v":" "},null,null,null,null,null,0,null,null,null,0," "," "," "," "]
[{"$f":"IF(COUNTRY_INFO!A16=0,\" \",COUNTRY_INFO!A16)","v":"Mozambique"},{"$f":"IF(COUNTRY_INFO!B16=0,\" \",COUNTRY_INFO!B16)","v":"Cabo Delgado"},{"$f":"IF(COUNTRY_INFO!C16=0,\" \",COUNTRY_INFO!C16)","v":"Meluco"},{"$f":"IF(AND(COUNTRY_INFO!$T$9:$T$1000=\"T3 (ALB/MBD)\",COUNTRY_INFO!$U$9:$U$1000=\"T3 (ALB/MBD)\"), \"T3 (ALB/MBD)\", \" \")","v":" "},null,null,null,null,null,0,null,null,null,0," "," "," "," "]
[{"$f":"IF(COUNTRY_INFO!A17=0,\" \",COUNTRY_INFO!A17)","v":"Mozambique"},{"$f":"IF(COUNTRY_INFO!B17=0,\" \",COUNTRY_INFO!B17)","v":"Cabo Delgado"},{"$f":"IF(COUNTRY_INFO!C17=0,\" \",COUNTRY_INFO!C17)","v":"Moc Praia"},{"$f":"IF(AND(COUNTRY_INFO!$T$9:$T$1000=\"T3 (ALB/MBD)\",COUNTRY_INFO!$U$9:$U$1000=\"T3 (ALB/MBD)\"), \"T3 (ALB/MBD)\", \" \")","v":" "},null,null,null,null,null,0,null,null,null,0," "," "," "," "]
[{"$f":"IF(COUNTRY_INFO!A18=0,\" \",COUNTRY_INFO!A18)","v":"Mozambique"},{"$f":"IF(COUNTRY_INFO!B18=0,\" \",COUNTRY_INFO!B18)","v":"Cabo Delgado"},{"$f":"IF(COUNTRY_INFO!C18=0,\" \",COUNTRY_INFO!C18)","v":"Montepuez"},{"$f":"IF(AND(COUNTRY_INFO!$T$9:$T$1000=\"T3 (ALB/MBD)\",COUNTRY_INFO!$U$9:$U$1000=\"T3 (ALB/MBD)\"), \"T3 (ALB/MBD)\", \" \")","v":" "},null,null,null,null,null,0,null,null,null,0," "," "," "," "]
[{"$f":"IF(COUNTRY_INFO!A19=0,\" \",COUNTRY_INFO!A19)","v":"Mozambique"},{"$f":"IF(COUNTRY_INFO!B19=0,\" \",COUNTRY_INFO!B19)","v":"Cabo Delgado"},{"$f":"IF(COUNTRY_INFO!C19=0,\" \",COUNTRY_INFO!C19)","v":"Mueda"},{"$f":"IF(AND(COUNTRY_INFO!$T$9:$T$1000=\"T3 (ALB/MBD)\",COUNTRY_INFO!$U$9:$U$1000=\"T3 (ALB/MBD)\"), \"T3 (ALB/MBD)\", \" \")","v":" "},null,null,null,null,null,0,null,null,null,0," "," "," "," "]
[{"$f":"IF(COUNTRY_INFO!A20=0,\" \",COUNTRY_INFO!A20)","v":"Mozambique"},{"$f":"IF(COUNTRY_INFO!B20=0,\" \",COUNTRY_INFO!B20)","v":"Cabo Delgado"},{"$f":"IF(COUNTRY_INFO!C20=0,\" \",COUNTRY_INFO!C20)","v":"Muidumbe"},{"$f":"IF(AND(COUNTRY_INFO!$T$9:$T$1000=\"T3 (ALB/MBD)\",COUNTRY_INFO!$U$9:$U$1000=\"T3 (ALB/MBD)\"), \"T3 (ALB/MBD)\", \" \")","v":" "},null,null,null,null,null,0,null,null,null,0," "," "," "," "]
[{"$f":"IF(COUNTRY_INFO!A21=0,\" \",COUNTRY_INFO!A21)","v":"Mozambique"},{"$f":"IF(COUNTRY_INFO!B21=0,\" \",COUNTRY_INFO!B21)","v":"Cabo Delgado"},{"$f":"IF(COUNTRY_INFO!C21=0,\" \",COUNTRY_INFO!C21)","v":"Namuno"},{"$f":"IF(AND(COUNTRY_INFO!$T$9:$T$1000=\"T3 (ALB/MBD)\",COUNTRY_INFO!$U$9:$U$1000=\"T3 (ALB/MBD)\"), \"T3 (ALB/MBD)\", \" \")","v":" "},null,null,null,null,null,0,null,null,null,0," "," "," "," "]
[{"$f":"IF(COUNTRY_INFO!A22=0,\" \",COUNTRY_INFO!A22)","v":"Mozambique"},{"$f":"IF(COUNTRY_INFO!B22=0,\" \",COUNTRY_INFO!B22)","v":"Cabo Delgado"},{"$f":"IF(COUNTRY_INFO!C22=0,\" \",COUNTRY_INFO!C22)","v":"Nangade"},{"$f":"IF(AND(COUNTRY_INFO!$T$9:$T$1000=\"T3 (ALB/MBD)\",COUNTRY_INFO!$U$9:$U$1000=\"T3 (ALB/MBD)\"), \"T3 (ALB/MBD)\", \" \")","v":" "},null,null,null,null,null,0,null,null,null,0," "," "," "," "]
[{"$f":"IF(COUNTRY_INFO!A23=0,\" \",COUNTRY_INFO!A23)","v":"Mozambique"},{"$f":"IF(COUNTRY_INFO!B23=0,\" \",COUNTRY_INFO!B23)","v":"Cabo Delgado"},{"$f":"IF(COUNTRY_INFO!C23=0,\" \",COUNTRY_INFO!C23)","v":"Palma"},{"$f":"IF(AND(COUNTRY_INFO!$T$9:$T$1000=\"T3 (ALB/MBD)\",COUNTRY_INFO!$U$9:$U$1000=\"T3 (ALB/MBD)\"), \"T3 (ALB/MBD)\", \" \")","v":" "},null,null,null,null,null,0,null,null,null,0," "," "," "," "]
[{"$f":"IF(COUNTRY_INFO!A24=0,\" \",COUNTRY_INFO!A24)","v":"Mozambique"},{"$f":"IF(COUNTRY_INFO!B24=0,\" \",COUNTRY_INFO!B24)","v":"Cabo Delgado"},{"$f":"IF(COUNTRY_INFO!C24=0,\" \",COUNTRY_INFO!C24)","v":"Pemba Metuge"},{"$f":"IF(AND(COUNTRY_INFO!$T$9:$T$1000=\"T3 (ALB/MBD)\",COUNTRY_INFO!$U$9:$U$1000=\"T3 (ALB/MBD)\"), \"T3 (ALB/MBD)\", \" \")","v":" "},null,null,null,null,null,0,null,null,null,0," "," "," "," "]
[{"$f":"IF(COUNTRY_INFO!A25=0,\" \",COUNTRY_INFO!A25)","v":"Mozambique"},{"$f":"IF(COUNTRY_INFO!B25=0,\" \",COUNTRY_INFO!B25)","v":"Cabo Delgado"},{"$f":"IF(COUNTRY_INFO!C25=0,\" \",COUNTRY_INFO!C25)","v":"Quissanga"},{"$f":"IF(AND(COUNTRY_INFO!$T$9:$T$1000=\"T3 (ALB/MBD)\",COUNTRY_INFO!$U$9:$U$1000=\"T3 (ALB/MBD)\"), \"T3 (ALB/MBD)\", \" \")","v":" "},null,null,null,null,null,0,null,null,null,0," "," "," "," "]
[{"$f":"IF(COUNTRY_INFO!A26=0,\" \",COUNTRY_INFO!A26)","v":"Mozambique"},{"$f":"IF(COUNTRY_INFO!B26=0,\" \",COUNTRY_INFO!B26)","v":"Niassa"},{"$f":"IF(COUNTRY_INFO!C26=0,\" \",COUNTRY_INFO!C26)","v":"Cidade de Lichinga"},{"$f":"IF(AND(COUNTRY_INFO!$T$9:$T$1000=\"T3 (ALB/MBD)\",COUNTRY_INFO!$U$9:$U$1000=\"T3 (ALB/MBD)\"), \"T3 (ALB/MBD)\", \" \")","v":" "},null,null,null,null,null,0,null,null,null,0," "," "," "," "]
[{"$f":"IF(COUNTRY_INFO!A27=0,\" \",COUNTRY_INFO!A27)","v":"Mozambique"},{"$f":"IF(COUNTRY_INFO!B27=0,\" \",COUNTRY_INFO!B27)","v":"Niassa"},{"$f":"IF(COUNTRY_INFO!C27=0,\" \",COUNTRY_INFO!C27)","v":"Cuamba"},{"$f":"IF(AND(COUNTRY_INFO!$T$9:$T$1000=\"T3 (ALB/MBD)\",COUNTRY_INFO!$U$9:$U$1000=\"T3 (ALB/MBD)\"), \"T3 (ALB/MBD)\", \" \")","v":" "},null,null,null,null,null,0,null,null,null,0," "," "," "," "]
[{"$f":"IF(COUNTRY_INFO!A28=0,\" \",COUNTRY_INFO!A28)","v":"Mozambique"},{"$f":"IF(COUNTRY_INFO!B28=0,\" \",COUNTRY_INFO!B28)","v":"Niassa"},{"$f":"IF(COUNTRY_INFO!C28=0,\" \",COUNTRY_INFO!C28)","v":"Chimbonila"},{"$f":"IF(AND(COUNTRY_INFO!$T$9:$T$1000=\"T3 (ALB/MBD)\",COUNTRY_INFO!$U$9:$U$1000=\"T3 (ALB/MBD)\"), \"T3 (ALB/MBD)\", \" \")","v":" "},null,null,null,null,null,0,null,null,null,0," "," "," "," "]
[{"$f":"IF(COUNTRY_INFO!A29=0,\" \",COUNTRY_INFO!A29)","v":"Mozambique"},{"$f":"IF(COUNTRY_INFO!B29=0,\" \",COUNTRY_INFO!B29)","v":"Niassa"},{"$f":"IF(COUNTRY_INFO!C29=0,\" \",COUNTRY_INFO!C29)","v":"Lago"},{"$f":"IF(AND(COUNTRY_INFO!$T$9:$T$1000=\"T3 (ALB/MBD)\",COUNTRY_INFO!$U$9:$U$1000=\"T3 (ALB/MBD)\"), \"T3 (ALB/MBD)\", \" \")","v":" "},null,null,null,null,null,0,null,null,null,0," "," "," "," "]
[{"$f":"IF(COUNTRY_INFO!A30=0,\" \",COUNTRY_INFO!A30)","v":"Mozambique"},{"$f":"IF(COUNTRY_INFO!B30=0,\" \",COUNTRY_INFO!B30)","v":"Niassa"},{"$f":"IF(COUNTRY_INFO!C30=0,\" \",COUNTRY_INFO!C30)","v":"Majune"},{"$f":"IF(AND(COUNTRY_INFO!$T$9:$T$1000=\"T3 (ALB/MBD)\",COUNTRY_INFO!$U$9:$U$1000=\"T3 (ALB/MBD)\"), \"T3 (ALB/MBD)\", \" \")","v":" "},null,null,null,null,null,0,null,null,null,0," "," "," "," "]
[{"$f":"IF(COUNTRY_INFO!A31=0,\" \",COUNTRY_INFO!A31)","v":"Mozambique"},{"$f":"IF(COUNTRY_INFO!B31=0,\" \",COUNTRY_INFO!B31)","v":"Niassa"},{"$f":"IF(COUNTRY_INFO!C31=0,\" \",COUNTRY_INFO!C31)","v":"Mandimba"},{"$f":"IF(AND(COUNTRY_INFO!$T$9:$T$1000=\"T3 (ALB/MBD)\",COUNTRY_INFO!$U$9:$U$1000=\"T3 (ALB/MBD)\"), \"T3 (ALB/MBD)\", \" \")","v":" "},null,null,null,null,null,0,null,null,null,0," "," "," "," "]
[{"$f":"IF(COUNTRY_INFO!A32=0,\" \",COUNTRY_INFO!A32)","v":"Mozambique"},{"$f":"IF(COUNTRY_INFO!B32=0,\" \",COUNTRY_INFO!B32)","v":"Niassa"},{"$f":"IF(COUNTRY_INFO!C32=0,\" \",COUNTRY_INFO!C32)","v":"Marrupa"},{"$f":"IF(AND(COUNTRY_INFO!$T$9:$T$1000=\"T3 (ALB/MBD)\",COUNTRY_INFO!$U$9:$U$1000=\"T3 (ALB/MBD)\"), \"T3 (ALB/MBD)\", \" \")","v":" "},null,null,null,null,null,0,null,null,null,0," "," "," "," "]
[{"$f":"IF(COUNTRY_INFO!A33=0,\" \",COUNTRY_INFO!A33)","v":"Mozambique"},{"$f":"IF(COUNTRY_INFO!B33=0,\" \",COUNTRY_INFO!B33)","v":"Niassa"},{"$f":"IF(COUNTRY_INFO!C33=0,\" \",COUNTRY_INFO!C33)","v":"Maúa"},{"$f":"IF(AND(COUNTRY_INFO!$T$9:$T$1000=\"T3 (ALB/MBD)\",COUNTRY_INFO!$U$9:$U$1000=\"T3 (ALB/MBD)\"), \"T3 (ALB/MBD)\", \" \")","v":" "},null,null,null,null,null,0,null,null,null,0," "," "," "," "]
[{"$f":"IF(COUNTRY_INFO!A34=0,\" \",COUNTRY_INFO!A34)","v":"Mozambique"},{"$f":"IF(COUNTRY_INFO!B34=0,\" \",COUNTRY_INFO!B34)","v":"Niassa"},{"$f":"IF(COUNTRY_INFO!C34=0,\" \",COUNTRY_INFO!C34)","v":"Mavago"},{"$f":"IF(AND(COUNTRY_INFO!$T$9:$T$1000=\"T3 (ALB/MBD)\",COUNTRY_INFO!$U$9:$U$1000=\"T3 (ALB/MBD)\"), \"T3 (ALB/MBD)\", \" \")","v":" "},null,null,null,null,null,0,null,null,null,0," "," "," "," "]
[{"$f":"IF(COUNTRY_INFO!A35=0,\" \",COUNTRY_INFO!A35)","v":"Mozambique"},{"$f":"IF(COUNTRY_INFO!B35=0,\" \",COUNTRY_INFO!B35)","v":"Niassa"},{"$f":"IF(COUNTRY_INFO!C35=0,\" \",COUNTRY_INFO!C35)","v":"Mecanhelas"},{"$f":"IF(AND(COUNTRY_INFO!$T$9:$T$1000=\"T3 (ALB/MBD)\",COUNTRY_INFO!$U$9:$U$1000=\"T3 (ALB/MBD)\"), \"T3 (ALB/MBD)\", \" \")","v":" "},null,null,null,null,null,0,null,null,null,0," "," "," "," "]
[{"$f":"IF(COUNTRY_INFO!A36=0,\" \",COUNTRY_INFO!A36)","v":"Mozambique"},{"$f":"IF(COUNTRY_INFO!B36=0,\" \",COUNTRY_INFO!B36)","v":"Niassa"},{"$f":"IF(COUNTRY_INFO!C36=0,\" \",COUNTRY_INFO!C36)","v":"Mecula"},{"$f":"IF(AND(COUNTRY_INFO!$T$9:$T$1000=\"T3 (ALB/MBD)\",COUNTRY_INFO!$U$9:$U$1000=\"T3 (ALB/MBD)\"), \"T3 (ALB/MBD)\", \" \")","v":" "},null,null,null,null,null,0,null,null,null,0," "," "," "," "]
[{"$f":"IF(COUNTRY_INFO!A37=0,\" \",COUNTRY_INFO!A37)","v":"Mozambique"},{"$f":"IF(COUNTRY_INFO!B37=0,\" \",COUNTRY_INFO!B37)","v":"Niassa"},{"$f":"IF(COUNTRY_INFO!C37=0,\" \",COUNTRY_INFO!C37)","v":"Metarica"},{"$f":"IF(AND(COUNTRY_INFO!$T$9:$T$1000=\"T3 (ALB/MBD)\",COUNTRY_INFO!$U$9:$U$1000=\"T3 (ALB/MBD)\"), \"T3 (ALB/MBD)\", \" \")","v":" "},null,null,null,null,null,0,null,null,null,0," "," "," "," "]
[{"$f":"IF(COUNTRY_INFO!A38=0,\" \",COUNTRY_INFO!A38)","v":"Mozambique"},{"$f":"IF(COUNTRY_INFO!B38=0,\" \",COUNTRY_INFO!B38)","v":"Niassa"},{"$f":"IF(COUNTRY_INFO!C38=0,\" \",COUNTRY_INFO!C38)","v":"Muembe"},{"$f":"IF(AND(COUNTRY_INFO!$T$9:$T$1000=\"T3 (ALB/MBD)\",COUNTRY_INFO!$U$9:$U$1000=\"T3 (ALB/MBD)\"), \"T3 (ALB/MBD)\", \" \")","v":" "},null,null,null,null,null,0,null,null,null,0," "," "," "," "]
[{"$f":"IF(COUNTRY_INFO!A39=0,\" \",COUNTRY_INFO!A39)","v":"Mozambique"},{"$f":"IF(COUNTRY_INFO!B39=0,\" \",COUNTRY_INFO!B39)","v":"Niassa"},{"$f":"IF(COUNTRY_INFO!C39=0,\" \",COUNTRY_INFO!C39)","v":"N'Gaúma"},{"$f":"IF(AND(COUNTRY_INFO!$T$9:$T$1000=\"T3 (ALB/MBD)\",COUNTRY_INFO!$U$9:$U$1000=\"T3 (ALB/MBD)\"), \"T3 (ALB/MBD)\", \" \")","v":" "},null,null,null,null,null,0,null,null,null,0," "," "," "," "]
[{"$f":"IF(COUNTRY_INFO!A40=0,\" \",COUNTRY_INFO!A40)","v":"Mozambique"},{"$f":"IF(COUNTRY_INFO!B40=0,\" \",COUNTRY_INFO!B40)","v":"Niassa"},{"$f":"IF(COUNTRY_INFO!C40=0,\" \",COUNTRY_INFO!C40)","v":"Nipepe"},{"$f":"IF(AND(COUNTRY_INFO!$T$9:$T$1000=\"T3 (ALB/MBD)\",COUNTRY_INFO!$U$9:$U$1000=\"T3 (ALB/MBD)\"), \"T3 (ALB/MBD)\", \" \")","v":" "},null,null,null,null,null,0,null,null,null,0," "," "," "," "]
[{"$f":"IF(COUNTRY_INFO!A41=0,\" \",COUNTRY_INFO!A41)","v":"Mozambique"},{"$f":"IF(COUNTRY_INFO!B41=0,\" \",COUNTRY_INFO!B41)","v":"Niassa"},{"$f":"IF(COUNTRY_INFO!C41=0,\" \",COUNTRY_INFO!C41)","v":"Sanga"},{"$f":"IF(AND(COUNTRY_INFO!$T$9:$T$1000=\"T3 (ALB/MBD)\",COUNTRY_INFO!$U$9:$U$1000=\"T3 (ALB/MBD)\"), \"T3 (ALB/MBD)\", \" \")","v":" "},null,null,null,null,null,0,null,null,null,0," "," "," "," "]
[{"$f":"IF(COUNTRY_INFO!A42=0,\" \",COUNTRY_INFO!A42)","v":"Mozambique"},{"$f":"IF(COUNTRY_INFO!B42=0,\" \",COUNTRY_INFO!B42)","v":"Nampula"},{"$f":"IF(COUNTRY_INFO!C42=0,\" \",COUNTRY_INFO!C42)","v":"Cid. Nampula"},{"$f":"IF(AND(COUNTRY_INFO!$T$9:$T$1000=\"T3 (ALB/MBD)\",COUNTRY_INFO!$U$9:$U$1000=\"T3 (ALB/MBD)\"), \"T3 (ALB/MBD)\", \" \")","v":" "},null,null,null,null,null,0,null,null,null,0," "," "," "," "]
[{"$f":"IF(COUNTRY_INFO!A43=0,\" \",COUNTRY_INFO!A43)","v":"Mozambique"},{"$f":"IF(COUNTRY_INFO!B43=0,\" \",COUNTRY_INFO!B43)","v":"Nampula"},{"$f":"IF(COUNTRY_INFO!C43=0,\" \",COUNTRY_INFO!C43)","v":"Angoche"},{"$f":"IF(AND(COUNTRY_INFO!$T$9:$T$1000=\"T3 (ALB/MBD)\",COUNTRY_INFO!$U$9:$U$1000=\"T3 (ALB/MBD)\"), \"T3 (ALB/MBD)\", \" \")","v":" "},null,null,null,null,null,0,null,null,null,0," "," "," "," "]
[{"$f":"IF(COUNTRY_INFO!A44=0,\" \",COUNTRY_INFO!A44)","v":"Mozambique"},{"$f":"IF(COUNTRY_INFO!B44=0,\" \",COUNTRY_INFO!B44)","v":"Nampula"},{"$f":"IF(COUNTRY_INFO!C44=0,\" \",COUNTRY_INFO!C44)","v":"Erati"},{"$f":"IF(AND(COUNTRY_INFO!$T$9:$T$1000=\"T3 (ALB/MBD)\",COUNTRY_INFO!$U$9:$U$1000=\"T3 (ALB/MBD)\"), \"T3 (ALB/MBD)\", \" \")","v":" "},null,null,null,null,null,0,null,null,null,0," "," "," "," "]
[{"$f":"IF(COUNTRY_INFO!A45=0,\" \",COUNTRY_INFO!A45)","v":"Mozambique"},{"$f":"IF(COUNTRY_INFO!B45=0,\" \",COUNTRY_INFO!B45)","v":"Nampula"},{"$f":"IF(COUNTRY_INFO!C45=0,\" \",COUNTRY_INFO!C45)","v":"Ilha Moc."},{"$f":"IF(AND(COUNTRY_INFO!$T$9:$T$1000=\"T3 (ALB/MBD)\",COUNTRY_INFO!$U$9:$U$1000=\"T3 (ALB/MBD)\"), \"T3 (ALB/MBD)\", \" \")","v":" "},null,null,null,null,null,0,null,null,null,0," "," "," "," "]
[{"$f":"IF(COUNTRY_INFO!A46=0,\" \",COUNTRY_INFO!A46)","v":"Mozambique"},{"$f":"IF(COUNTRY_INFO!B46=0,\" \",COUNTRY_INFO!B46)","v":"Nampula"},{"$f":"IF(COUNTRY_INFO!C46=0,\" \",COUNTRY_INFO!C46)","v":"Lalaua"},{"$f":"IF(AND(COUNTRY_INFO!$T$9:$T$1000=\"T3 (ALB/MBD)\",COUNTRY_INFO!$U$9:$U$1000=\"T3 (ALB/MBD)\"), \"T3 (ALB/MBD)\", \" \")","v":" "},null,null,null,null,null,0,null,null,null,0," "," "," "," "]
[{"$f":"IF(COUNTRY_INFO!A47=0,\" \",COUNTRY_INFO!A47)","v":"Mozambique"},{"$f":"IF(COUNTRY_INFO!B47=0,\" \",COUNTRY_INFO!B47)","v":"Nampula"},{"$f":"IF(COUNTRY_INFO!C47=0,\" \",COUNTRY_INFO!C47)","v":"Larde"},{"$f":"IF(AND(COUNTRY_INFO!$T$9:$T$1000=\"T3 (ALB/MBD)\",COUNTRY_INFO!$U$9:$U$1000=\"T3 (ALB/MBD)\"), \"T3 (ALB/MBD)\", \" \")","v":" "},null,null,null,null,null,0,null,null,null,0," "," "," "," "]
[{"$f":"IF(COUNTRY_INFO!A48=0,\" \",COUNTRY_INFO!A48)","v":"Mozambique"},{"$f":"IF(COUNTRY_INFO!B48=0,\" \",COUNTRY_INFO!B48)","v":"Nampula"},{"$f":"IF(COUNTRY_INFO!C48=0,\" \",COUNTRY_INFO!C48)","v":"Liupo"},{"$f":"IF(AND(COUNTRY_INFO!$T$9:$T$1000=\"T3 (ALB/MBD)\",COUNTRY_INFO!$U$9:$U$1000=\"T3 (ALB/MBD)\"), \"T3 (ALB/MBD)\", \" \")","v":" "},null,null,null,null,null,0,null,null,null,0," "," "," "," "]
[{"$f":"IF(COUNTRY_INFO!A49=0,\" \",COUNTRY_INFO!A49)","v":"Mozambique"},{"$f":"IF(COUNTRY_INFO!B49=0,\" \",COUNTRY_INFO!B49)","v":"Nampula"},{"$f":"IF(COUNTRY_INFO!C49=0,\" \",COUNTRY_INFO!C49)","v":"Malema"},{"$f":"IF(AND(COUNTRY_INFO!$T$9:$T$1000=\"T3 (ALB/MBD)\",COUNTRY_INFO!$U$9:$U$1000=\"T3 (ALB/MBD)\"), \"T3 (ALB/MBD)\", \" \")","v":" "},null,null,null,null,null,0,null,null,null,0," "," "," "," "]
[{"$f":"IF(COUNTRY_INFO!A50=0,\" \",COUNTRY_INFO!A50)","v":"Mozambique"},{"$f":"IF(COUNTRY_INFO!B50=0,\" \",COUNTRY_INFO!B50)","v":"Nampula"},{"$f":"IF(COUNTRY_INFO!C50=0,\" \",COUNTRY_INFO!C50)","v":"Meconta"},{"$f":"IF(AND(COUNTRY_INFO!$T$9:$T$1000=\"T3 (ALB/MBD)\",COUNTRY_INFO!$U$9:$U$1000=\"T3 (ALB/MBD)\"), \"T3 (ALB/MBD)\", \" \")","v":" "},null,null,null,null,null,0,null,null,null,0," "," "," "," "]
[{"$f":"IF(COUNTRY_INFO!A51=0,\" \",COUNTRY_INFO!A51)","v":"Mozambique"},{"$f":"IF(COUNTRY_INFO!B51=0,\" \",COUNTRY_INFO!B51)","v":"Nampula"},{"$f":"IF(COUNTRY_INFO!C51=0,\" \",COUNTRY_INFO!C51)","v":"Mecuburi"},{"$f":"IF(AND(COUNTRY_INFO!$T$9:$T$1000=\"T3 (ALB/MBD)\",COUNTRY_INFO!$U$9:$U$1000=\"T3 (ALB/MBD)\"), \"T3 (ALB/MBD)\", \" \")","v":" "},null,null,null,null,null,0,null,null,null,0," "," "," "," "]
[{"$f":"IF(COUNTRY_INFO!A52=0,\" \",COUNTRY_INFO!A52)","v":"Mozambique"},{"$f":"IF(COUNTRY_INFO!B52=0,\" \",COUNTRY_INFO!B52)","v":"Nampula"},{"$f":"IF(COUNTRY_INFO!C52=0,\" \",COUNTRY_INFO!C52)","v":"Memba"},{"$f":"IF(AND(COUNTRY_INFO!$T$9:$T$1000=\"T3 (ALB/MBD)\",COUNTRY_INFO!$U$9:$U$1000=\"T3 (ALB/MBD)\"), \"T3 (ALB/MBD)\", \" \")","v":" "},null,null,null,null,null,0,null,null,null,0," "," "," "," "]
[{"$f":"IF(COUNTRY_INFO!A53=0,\" \",COUNTRY_INFO!A53)","v":"Mozambique"},{"$f":"IF(COUNTRY_INFO!B53=0,\" \",COUNTRY_INFO!B53)","v":"Nampula"},{"$f":"IF(COUNTRY_INFO!C53=0,\" \",COUNTRY_INFO!C53)","v":"Mogincual"},{"$f":"IF(AND(COUNTRY_INFO!$T$9:$T$1000=\"T3 (ALB/MBD)\",COUNTRY_INFO!$U$9:$U$1000=\"T3 (ALB/MBD)\"), \"T3 (ALB/MBD)\", \" \")","v":" "},null,null,null,null,null,0,null,null,null,0," "," "," "," "]
[{"$f":"IF(COUNTRY_INFO!A54=0,\" \",COUNTRY_INFO!A54)","v":"Mozambique"},{"$f":"IF(COUNTRY_INFO!B54=0,\" \",COUNTRY_INFO!B54)","v":"Nampula"},{"$f":"IF(COUNTRY_INFO!C54=0,\" \",COUNTRY_INFO!C54)","v":"Mogovolas"},{"$f":"IF(AND(COUNTRY_INFO!$T$9:$T$1000=\"T3 (ALB/MBD)\",COUNTRY_INFO!$U$9:$U$1000=\"T3 (ALB/MBD)\"), \"T3 (ALB/MBD)\", \" \")","v":" "},null,null,null,null,null,0,null,null,null,0," "," "," "," "]
[{"$f":"IF(COUNTRY_INFO!A55=0,\" \",COUNTRY_INFO!A55)","v":"Mozambique"},{"$f":"IF(COUNTRY_INFO!B55=0,\" \",COUNTRY_INFO!B55)","v":"Nampula"},{"$f":"IF(COUNTRY_INFO!C55=0,\" \",COUNTRY_INFO!C55)","v":"Moma"},{"$f":"IF(AND(COUNTRY_INFO!$T$9:$T$1000=\"T3 (ALB/MBD)\",COUNTRY_INFO!$U$9:$U$1000=\"T3 (ALB/MBD)\"), \"T3 (ALB/MBD)\", \" \")","v":" "},null,null,null,null,null,0,null,null,null,0," "," "," "," "]
[{"$f":"IF(COUNTRY_INFO!A56=0,\" \",COUNTRY_INFO!A56)","v":"Mozambique"},{"$f":"IF(COUNTRY_INFO!B56=0,\" \",COUNTRY_INFO!B56)","v":"Nampula"},{"$f":"IF(COUNTRY_INFO!C56=0,\" \",COUNTRY_INFO!C56)","v":"Monapo"},{"$f":"IF(AND(COUNTRY_INFO!$T$9:$T$1000=\"T3 (ALB/MBD)\",COUNTRY_INFO!$U$9:$U$1000=\"T3 (ALB/MBD)\"), \"T3 (ALB/MBD)\", \" \")","v":" "},null,null,null,null,null,0,null,null,null,0," "," "," "," "]
[{"$f":"IF(COUNTRY_INFO!A57=0,\" \",COUNTRY_INFO!A57)","v":"Mozambique"},{"$f":"IF(COUNTRY_INFO!B57=0,\" \",COUNTRY_INFO!B57)","v":"Nampula"},{"$f":"IF(COUNTRY_INFO!C57=0,\" \",COUNTRY_INFO!C57)","v":"Mossuril"},{"$f":"IF(AND(COUNTRY_INFO!$T$9:$T$1000=\"T3 (ALB/MBD)\",COUNTRY_INFO!$U$9:$U$1000=\"T3 (ALB/MBD)\"), \"T3 (ALB/MBD)\", \" \")","v":" "},null,null,null,null,null,0,null,null,null,0," "," "," "," "]
[{"$f":"IF(COUNTRY_INFO!A58=0,\" \",COUNTRY_INFO!A58)","v":"Mozambique"},{"$f":"IF(COUNTRY_INFO!B58=0,\" \",COUNTRY_INFO!B58)","v":"Nampula"},{"$f":"IF(COUNTRY_INFO!C58=0,\" \",COUNTRY_INFO!C58)","v":"Muecate"},{"$f":"IF(AND(COUNTRY_INFO!$T$9:$T$1000=\"T3 (ALB/MBD)\",COUNTRY_INFO!$U$9:$U$1000=\"T3 (ALB/MBD)\"), \"T3 (ALB/MBD)\", \" \")","v":" "},null,null,null,null,null,0,null,null,null,0," "," "," "," "]
[{"$f":"IF(COUNTRY_INFO!A59=0,\" \",COUNTRY_INFO!A59)","v":"Mozambique"},{"$f":"IF(COUNTRY_INFO!B59=0,\" \",COUNTRY_INFO!B59)","v":"Nampula"},{"$f":"IF(COUNTRY_INFO!C59=0,\" \",COUNTRY_INFO!C59)","v":"Murrupula"},{"$f":"IF(AND(COUNTRY_INFO!$T$9:$T$1000=\"T3 (ALB/MBD)\",COUNTRY_INFO!$U$9:$U$1000=\"T3 (ALB/MBD)\"), \"T3 (ALB/MBD)\", \" \")","v":" "},null,null,null,null,null,0,null,null,null,0," "," "," "," "]
[{"$f":"IF(COUNTRY_INFO!A60=0,\" \",COUNTRY_INFO!A60)","v":"Mozambique"},{"$f":"IF(COUNTRY_INFO!B60=0,\" \",COUNTRY_INFO!B60)","v":"Nampula"},{"$f":"IF(COUNTRY_INFO!C60=0,\" \",COUNTRY_INFO!C60)","v":"Nacala Porto"},{"$f":"IF(AND(COUNTRY_INFO!$T$9:$T$1000=\"T3 (ALB/MBD)\",COUNTRY_INFO!$U$9:$U$1000=\"T3 (ALB/MBD)\"), \"T3 (ALB/MBD)\", \" \")","v":" "},null,null,null,null,null,0,null,null,null,0," "," "," "," "]
[{"$f":"IF(COUNTRY_INFO!A61=0,\" \",COUNTRY_INFO!A61)","v":"Mozambique"},{"$f":"IF(COUNTRY_INFO!B61=0,\" \",COUNTRY_INFO!B61)","v":"Nampula"},{"$f":"IF(COUNTRY_INFO!C61=0,\" \",COUNTRY_INFO!C61)","v":"Nacala Velha"},{"$f":"IF(AND(COUNTRY_INFO!$T$9:$T$1000=\"T3 (ALB/MBD)\",COUNTRY_INFO!$U$9:$U$1000=\"T3 (ALB/MBD)\"), \"T3 (ALB/MBD)\", \" \")","v":" "},null,null,null,null,null,0,null,null,null,0," "," "," "," "]
[{"$f":"IF(COUNTRY_INFO!A62=0,\" \",COUNTRY_INFO!A62)","v":"Mozambique"},{"$f":"IF(COUNTRY_INFO!B62=0,\" \",COUNTRY_INFO!B62)","v":"Nampula"},{"$f":"IF(COUNTRY_INFO!C62=0,\" \",COUNTRY_INFO!C62)","v":"Nacaroa"},{"$f":"IF(AND(COUNTRY_INFO!$T$9:$T$1000=\"T3 (ALB/MBD)\",COUNTRY_INFO!$U$9:$U$1000=\"T3 (ALB/MBD)\"), \"T3 (ALB/MBD)\", \" \")","v":" "},null,null,null,null,null,0,null,null,null,0," "," "," "," "]
[{"$f":"IF(COUNTRY_INFO!A63=0,\" \",COUNTRY_INFO!A63)","v":"Mozambique"},{"$f":"IF(COUNTRY_INFO!B63=0,\" \",COUNTRY_INFO!B63)","v":"Nampula"},{"$f":"IF(COUNTRY_INFO!C63=0,\" \",COUNTRY_INFO!C63)","v":"Nampula Dist."},{"$f":"IF(AND(COUNTRY_INFO!$T$9:$T$1000=\"T3 (ALB/MBD)\",COUNTRY_INFO!$U$9:$U$1000=\"T3 (ALB/MBD)\"), \"T3 (ALB/MBD)\", \" \")","v":" "},null,null,null,null,null,0,null,null,null,0," "," "," "," "]
[{"$f":"IF(COUNTRY_INFO!A64=0,\" \",COUNTRY_INFO!A64)","v":"Mozambique"},{"$f":"IF(COUNTRY_INFO!B64=0,\" \",COUNTRY_INFO!B64)","v":"Nampula"},{"$f":"IF(COUNTRY_INFO!C64=0,\" \",COUNTRY_INFO!C64)","v":"Ribaué"},{"$f":"IF(AND(COUNTRY_INFO!$T$9:$T$1000=\"T3 (ALB/MBD)\",COUNTRY_INFO!$U$9:$U$1000=\"T3 (ALB/MBD)\"), \"T3 (ALB/MBD)\", \" \")","v":" "},null,null,null,null,null,0,null,null,null,0," "," "," "," "]
[{"$f":"IF(COUNTRY_INFO!A65=0,\" \",COUNTRY_INFO!A65)","v":"Mozambique"},{"$f":"IF(COUNTRY_INFO!B65=0,\" \",COUNTRY_INFO!B65)","v":"Zambezia"},{"$f":"IF(COUNTRY_INFO!C65=0,\" \",COUNTRY_INFO!C65)","v":"Quelimane"},{"$f":"IF(AND(COUNTRY_INFO!$T$9:$T$1000=\"T3 (ALB/MBD)\",COUNTRY_INFO!$U$9:$U$1000=\"T3 (ALB/MBD)\"), \"T3 (ALB/MBD)\", \" \")","v":" "},null,null,null,null,null,0,null,null,null,0," "," "," "," "]
[{"$f":"IF(COUNTRY_INFO!A66=0,\" \",COUNTRY_INFO!A66)","v":"Mozambique"},{"$f":"IF(COUNTRY_INFO!B66=0,\" \",COUNTRY_INFO!B66)","v":"Zambezia"},{"$f":"IF(COUNTRY_INFO!C66=0,\" \",COUNTRY_INFO!C66)","v":"Alto Molocué"},{"$f":"IF(AND(COUNTRY_INFO!$T$9:$T$1000=\"T3 (ALB/MBD)\",COUNTRY_INFO!$U$9:$U$1000=\"T3 (ALB/MBD)\"), \"T3 (ALB/MBD)\", \" \")","v":" "},null,null,null,null,null,0,null,null,null,0," "," "," "," "]
[{"$f":"IF(COUNTRY_INFO!A67=0,\" \",COUNTRY_INFO!A67)","v":"Mozambique"},{"$f":"IF(COUNTRY_INFO!B67=0,\" \",COUNTRY_INFO!B67)","v":"Zambezia"},{"$f":"IF(COUNTRY_INFO!C67=0,\" \",COUNTRY_INFO!C67)","v":"Chinde"},{"$f":"IF(AND(COUNTRY_INFO!$T$9:$T$1000=\"T3 (ALB/MBD)\",COUNTRY_INFO!$U$9:$U$1000=\"T3 (ALB/MBD)\"), \"T3 (ALB/MBD)\", \" \")","v":" "},null,null,null,null,null,0,null,null,null,0," "," "," "," "]
[{"$f":"IF(COUNTRY_INFO!A68=0,\" \",COUNTRY_INFO!A68)","v":"Mozambique"},{"$f":"IF(COUNTRY_INFO!B68=0,\" \",COUNTRY_INFO!B68)","v":"Zambezia"},{"$f":"IF(COUNTRY_INFO!C68=0,\" \",COUNTRY_INFO!C68)","v":"Derre"},{"$f":"IF(AND(COUNTRY_INFO!$T$9:$T$1000=\"T3 (ALB/MBD)\",COUNTRY_INFO!$U$9:$U$1000=\"T3 (ALB/MBD)\"), \"T3 (ALB/MBD)\", \" \")","v":" "},null,null,null,null,null,0,null,null,null,0," "," "," "," "]
[{"$f":"IF(COUNTRY_INFO!A69=0,\" \",COUNTRY_INFO!A69)","v":"Mozambique"},{"$f":"IF(COUNTRY_INFO!B69=0,\" \",COUNTRY_INFO!B69)","v":"Zambezia"},{"$f":"IF(COUNTRY_INFO!C69=0,\" \",COUNTRY_INFO!C69)","v":"Gilé"},{"$f":"IF(AND(COUNTRY_INFO!$T$9:$T$1000=\"T3 (ALB/MBD)\",COUNTRY_INFO!$U$9:$U$1000=\"T3 (ALB/MBD)\"), \"T3 (ALB/MBD)\", \" \")","v":" "},null,null,null,null,null,0,null,null,null,0," "," "," "," "]
[{"$f":"IF(COUNTRY_INFO!A70=0,\" \",COUNTRY_INFO!A70)","v":"Mozambique"},{"$f":"IF(COUNTRY_INFO!B70=0,\" \",COUNTRY_INFO!B70)","v":"Zambezia"},{"$f":"IF(COUNTRY_INFO!C70=0,\" \",COUNTRY_INFO!C70)","v":"Gurué"},{"$f":"IF(AND(COUNTRY_INFO!$T$9:$T$1000=\"T3 (ALB/MBD)\",COUNTRY_INFO!$U$9:$U$1000=\"T3 (ALB/MBD)\"), \"T3 (ALB/MBD)\", \" \")","v":" "},null,null,null,null,null,0,null,null,null,0," "," "," "," "]
[{"$f":"IF(COUNTRY_INFO!A71=0,\" \",COUNTRY_INFO!A71)","v":"Mozambique"},{"$f":"IF(COUNTRY_INFO!B71=0,\" \",COUNTRY_INFO!B71)","v":"Zambezia"},{"$f":"IF(COUNTRY_INFO!C71=0,\" \",COUNTRY_INFO!C71)","v":"Ile"},{"$f":"IF(AND(COUNTRY_INFO!$T$9:$T$1000=\"T3 (ALB/MBD)\",COUNTRY_INFO!$U$9:$U$1000=\"T3 (ALB/MBD)\"), \"T3 (ALB/MBD)\", \" \")","v":" "},null,null,null,null,null,0,null,null,null,0," "," "," "," "]
[{"$f":"IF(COUNTRY_INFO!A72=0,\" \",COUNTRY_INFO!A72)","v":"Mozambique"},{"$f":"IF(COUNTRY_INFO!B72=0,\" \",COUNTRY_INFO!B72)","v":"Zambezia"},{"$f":"IF(COUNTRY_INFO!C72=0,\" \",COUNTRY_INFO!C72)","v":"Inhassunge"},{"$f":"IF(AND(COUNTRY_INFO!$T$9:$T$1000=\"T3 (ALB/MBD)\",COUNTRY_INFO!$U$9:$U$1000=\"T3 (ALB/MBD)\"), \"T3 (ALB/MBD)\", \" \")","v":" "},null,null,null,null,null,0,null,null,null,0," "," "," "," "]
[{"$f":"IF(COUNTRY_INFO!A73=0,\" \",COUNTRY_INFO!A73)","v":"Mozambique"},{"$f":"IF(COUNTRY_INFO!B73=0,\" \",COUNTRY_INFO!B73)","v":"Zambezia"},{"$f":"IF(COUNTRY_INFO!C73=0,\" \",COUNTRY_INFO!C73)","v":"Luabo"},{"$f":"IF(AND(COUNTRY_INFO!$T$9:$T$1000=\"T3 (ALB/MBD)\",COUNTRY_INFO!$U$9:$U$1000=\"T3 (ALB/MBD)\"), \"T3 (ALB/MBD)\", \" \")","v":" "},null,null,null,null,null,0,null,null,null,0," "," "," "," "]
[{"$f":"IF(COUNTRY_INFO!A74=0,\" \",COUNTRY_INFO!A74)","v":"Mozambique"},{"$f":"IF(COUNTRY_INFO!B74=0,\" \",COUNTRY_INFO!B74)","v":"Zambezia"},{"$f":"IF(COUNTRY_INFO!C74=0,\" \",COUNTRY_INFO!C74)","v":"Lugela"},{"$f":"IF(AND(COUNTRY_INFO!$T$9:$T$1000=\"T3 (ALB/MBD)\",COUNTRY_INFO!$U$9:$U$1000=\"T3 (ALB/MBD)\"), \"T3 (ALB/MBD)\", \" \")","v":" "},null,null,null,null,null,{"$f":"SUM(G74:I74)","v":0},null,null,null,{"$f":"SUM(K74:M74)","v":0},{"$f":"IF(G74<>0, IF(K74/G74*100=0, \"-\", K74/G74*100), \" \")","v":" "},{"$f":"IF(H74<>0, IF(L74/H74*100=0, \"-\", L74/H74*100), \" \")","v":" "},{"$f":"IF(I74<>0, IF(M74/I74*100=0, \"-\", M74/I74*100), \" \")","v":" "},{"$f":"IF(J74<>0, IF(N74/J74*100=0, \"-\", N74/J74*100), \" \")","v":" "}]
[{"$f":"IF(COUNTRY_INFO!A75=0,\" \",COUNTRY_INFO!A75)","v":"Mozambique"},{"$f":"IF(COUNTRY_INFO!B75=0,\" \",COUNTRY_INFO!B75)","v":"Zambezia"},{"$f":"IF(COUNTRY_INFO!C75=0,\" \",COUNTRY_INFO!C75)","v":"Maganja da Costa"},{"$f":"IF(AND(COUNTRY_INFO!$T$9:$T$1000=\"T3 (ALB/MBD)\",COUNTRY_INFO!$U$9:$U$1000=\"T3 (ALB/MBD)\"), \"T3 (ALB/MBD)\", \" \")","v":" "},null,null,null,null,null,0,null,null,null,0," "," "," "," "]
[{"$f":"IF(COUNTRY_INFO!A76=0,\" \",COUNTRY_INFO!A76)","v":"Mozambique"},{"$f":"IF(COUNTRY_INFO!B76=0,\" \",COUNTRY_INFO!B76)","v":"Zambezia"},{"$f":"IF(COUNTRY_INFO!C76=0,\" \",COUNTRY_INFO!C76)","v":"Milange"},{"$f":"IF(AND(COUNTRY_INFO!$T$9:$T$1000=\"T3 (ALB/MBD)\",COUNTRY_INFO!$U$9:$U$1000=\"T3 (ALB/MBD)\"), \"T3 (ALB/MBD)\", \" \")","v":" "},null,null,null,null,null,0,null,null,null,0," "," "," "," "]
[{"$f":"IF(COUNTRY_INFO!A77=0,\" \",COUNTRY_INFO!A77)","v":"Mozambique"},{"$f":"IF(COUNTRY_INFO!B77=0,\" \",COUNTRY_INFO!B77)","v":"Zambezia"},{"$f":"IF(COUNTRY_INFO!C77=0,\" \",COUNTRY_INFO!C77)","v":"Mocuba"},{"$f":"IF(AND(COUNTRY_INFO!$T$9:$T$1000=\"T3 (ALB/MBD)\",COUNTRY_INFO!$U$9:$U$1000=\"T3 (ALB/MBD)\"), \"T3 (ALB/MBD)\", \" \")","v":" "},null,null,null,null,null,0,null,null,null,0," "," "," "," "]
[{"$f":"IF(COUNTRY_INFO!A78=0,\" \",COUNTRY_INFO!A78)","v":"Mozambique"},{"$f":"IF(COUNTRY_INFO!B78=0,\" \",COUNTRY_INFO!B78)","v":"Zambezia"},{"$f":"IF(COUNTRY_INFO!C78=0,\" \",COUNTRY_INFO!C78)","v":"Mocubela"},{"$f":"IF(AND(COUNTRY_INFO!$T$9:$T$1000=\"T3 (ALB/MBD)\",COUNTRY_INFO!$U$9:$U$1000=\"T3 (ALB/MBD)\"), \"T3 (ALB/MBD)\", \" \")","v":" "},null,null,null,null,null,0,null,null,null,0," "," "," "," "]
[{"$f":"IF(COUNTRY_INFO!A79=0,\" \",COUNTRY_INFO!A79)","v":"Mozambique"},{"$f":"IF(COUNTRY_INFO!B79=0,\" \",COUNTRY_INFO!B79)","v":"Zambezia"},{"$f":"IF(COUNTRY_INFO!C79=0,\" \",COUNTRY_INFO!C79)","v":"Molumbo"},{"$f":"IF(AND(COUNTRY_INFO!$T$9:$T$1000=\"T3 (ALB/MBD)\",COUNTRY_INFO!$U$9:$U$1000=\"T3 (ALB/MBD)\"), \"T3 (ALB/MBD)\", \" \")","v":" "},null,null,null,null,null,0,null,null,null,0," "," "," "," "]
[{"$f":"IF(COUNTRY_INFO!A80=0,\" \",COUNTRY_INFO!A80)","v":"Mozambique"},{"$f":"IF(COUNTRY_INFO!B80=0,\" \",COUNTRY_INFO!B80)","v":"Zambezia"},{"$f":"IF(COUNTRY_INFO!C80=0,\" \",COUNTRY_INFO!C80)","v":"Mopeia"},{"$f":"IF(AND(COUNTRY_INFO!$T$9:$T$1000=\"T3 (ALB/MBD)\",COUNTRY_INFO!$U$9:$U$1000=\"T3 (ALB/MBD)\"), \"T3 (ALB/MBD)\", \" \")","v":" "},null,null,null,null,null,0,null,null,null,0," "," "," "," "]
[{"$f":"IF(COUNTRY_INFO!A81=0,\" \",COUNTRY_INFO!A81)","v":"Mozambique"},{"$f":"IF(COUNTRY_INFO!B81=0,\" \",COUNTRY_INFO!B81)","v":"Zambezia"},{"$f":"IF(COUNTRY_INFO!C81=0,\" \",COUNTRY_INFO!C81)","v":"Morrumbala"},{"$f":"IF(AND(COUNTRY_INFO!$T$9:$T$1000=\"T3 (ALB/MBD)\",COUNTRY_INFO!$U$9:$U$1000=\"T3 (ALB/MBD)\"), \"T3 (ALB/MBD)\", \" \")","v":" "},null,null,null,null,null,0,null,null,null,0," "," "," "," "]
[{"$f":"IF(COUNTRY_INFO!A82=0,\" \",COUNTRY_INFO!A82)","v":"Mozambique"},{"$f":"IF(COUNTRY_INFO!B82=0,\" \",COUNTRY_INFO!B82)","v":"Zambezia"},{"$f":"IF(COUNTRY_INFO!C82=0,\" \",COUNTRY_INFO!C82)","v":"Mulevala"},{"$f":"IF(AND(COUNTRY_INFO!$T$9:$T$1000=\"T3 (ALB/MBD)\",COUNTRY_INFO!$U$9:$U$1000=\"T3 (ALB/MBD)\"), \"T3 (ALB/MBD)\", \" \")","v":" "},null,null,null,null,null,0,null,null,null,0," "," "," "," "]
[{"$f":"IF(COUNTRY_INFO!A83=0,\" \",COUNTRY_INFO!A83)","v":"Mozambique"},{"$f":"IF(COUNTRY_INFO!B83=0,\" \",COUNTRY_INFO!B83)","v":"Zambezia"},{"$f":"IF(COUNTRY_INFO!C83=0,\" \",COUNTRY_INFO!C83)","v":"Namacurra"},{"$f":"IF(AND(COUNTRY_INFO!$T$9:$T$1000=\"T3 (ALB/MBD)\",COUNTRY_INFO!$U$9:$U$1000=\"T3 (ALB/MBD)\"), \"T3 (ALB/MBD)\", \" \")","v":" "},null,null,null,null,null,0,null,null,null,0," "," "," "," "]
[{"$f":"IF(COUNTRY_INFO!A84=0,\" \",COUNTRY_INFO!A84)","v":"Mozambique"},{"$f":"IF(COUNTRY_INFO!B84=0,\" \",COUNTRY_INFO!B84)","v":"Zambezia"},{"$f":"IF(COUNTRY_INFO!C84=0,\" \",COUNTRY_INFO!C84)","v":"Namarrói"},{"$f":"IF(AND(COUNTRY_INFO!$T$9:$T$1000=\"T3 (ALB/MBD)\",COUNTRY_INFO!$U$9:$U$1000=\"T3 (ALB/MBD)\"), \"T3 (ALB/MBD)\", \" \")","v":" "},null,null,null,null,null,0,null,null,null,0," "," "," "," "]
[{"$f":"IF(COUNTRY_INFO!A85=0,\" \",COUNTRY_INFO!A85)","v":"Mozambique"},{"$f":"IF(COUNTRY_INFO!B85=0,\" \",COUNTRY_INFO!B85)","v":"Zambezia"},{"$f":"IF(COUNTRY_INFO!C85=0,\" \",COUNTRY_INFO!C85)","v":"Nicoadala"},{"$f":"IF(AND(COUNTRY_INFO!$T$9:$T$1000=\"T3 (ALB/MBD)\",COUNTRY_INFO!$U$9:$U$1000=\"T3 (ALB/MBD)\"), \"T3 (ALB/MBD)\", \" \")","v":" "},null,null,null,null,null,0,null,null,null,0," "," "," "," "]
[{"$f":"IF(COUNTRY_INFO!A86=0,\" \",COUNTRY_INFO!A86)","v":"Mozambique"},{"$f":"IF(COUNTRY_INFO!B86=0,\" \",COUNTRY_INFO!B86)","v":"Zambezia"},{"$f":"IF(COUNTRY_INFO!C86=0,\" \",COUNTRY_INFO!C86)","v":"Pebane"},{"$f":"IF(AND(COUNTRY_INFO!$T$9:$T$1000=\"T3 (ALB/MBD)\",COUNTRY_INFO!$U$9:$U$1000=\"T3 (ALB/MBD)\"), \"T3 (ALB/MBD)\", \" \")","v":" "},null,null,null,null,null,0,null,null,null,0," "," "," "," "]
[{"$f":"IF(COUNTRY_INFO!A87=0,\" \",COUNTRY_INFO!A87)","v":"Mozambique"},{"$f":"IF(COUNTRY_INFO!B87=0,\" \",COUNTRY_INFO!B87)","v":"Tete"},{"$f":"IF(COUNTRY_INFO!C87=0,\" \",COUNTRY_INFO!C87)","v":"Cid Tete"},{"$f":"IF(AND(COUNTRY_INFO!$T$9:$T$1000=\"T3 (ALB/MBD)\",COUNTRY_INFO!$U$9:$U$1000=\"T3 (ALB/MBD)\"), \"T3 (ALB/MBD)\", \" \")","v":" "},null,null,null,null,null,0,null,null,null,0," "," "," "," "]
[{"$f":"IF(COUNTRY_INFO!A88=0,\" \",COUNTRY_INFO!A88)","v":"Mozambique"},{"$f":"IF(COUNTRY_INFO!B88=0,\" \",COUNTRY_INFO!B88)","v":"Tete"},{"$f":"IF(COUNTRY_INFO!C88=0,\" \",COUNTRY_INFO!C88)","v":"Angónia"},{"$f":"IF(AND(COUNTRY_INFO!$T$9:$T$1000=\"T3 (ALB/MBD)\",COUNTRY_INFO!$U$9:$U$1000=\"T3 (ALB/MBD)\"), \"T3 (ALB/MBD)\", \" \")","v":" "},null,null,null,null,null,0,null,null,null,0," "," "," "," "]
[{"$f":"IF(COUNTRY_INFO!A89=0,\" \",COUNTRY_INFO!A89)","v":"Mozambique"},{"$f":"IF(COUNTRY_INFO!B89=0,\" \",COUNTRY_INFO!B89)","v":"Tete"},{"$f":"IF(COUNTRY_INFO!C89=0,\" \",COUNTRY_INFO!C89)","v":"Cahora Bassa"},{"$f":"IF(AND(COUNTRY_INFO!$T$9:$T$1000=\"T3 (ALB/MBD)\",COUNTRY_INFO!$U$9:$U$1000=\"T3 (ALB/MBD)\"), \"T3 (ALB/MBD)\", \" \")","v":" "},null,null,null,null,null,0,null,null,null,0," "," "," "," "]
[{"$f":"IF(COUNTRY_INFO!A90=0,\" \",COUNTRY_INFO!A90)","v":"Mozambique"},{"$f":"IF(COUNTRY_INFO!B90=0,\" \",COUNTRY_INFO!B90)","v":"Tete"},{"$f":"IF(COUNTRY_INFO!C90=0,\" \",COUNTRY_INFO!C90)","v":"Changara "},{"$f":"IF(AND(COUNTRY_INFO!$T$9:$T$1000=\"T3 (ALB/MBD)\",COUNTRY_INFO!$U$9:$U$1000=\"T3 (ALB/MBD)\"), \"T3 (ALB/MBD)\", \" \")","v":" "},null,null,null,null,null,0,null,null,null,0," "," "," "," "]
[{"$f":"IF(COUNTRY_INFO!A91=0,\" \",COUNTRY_INFO!A91)","v":"Mozambique"},{"$f":"IF(COUNTRY_INFO!B91=0,\" \",COUNTRY_INFO!B91)","v":"Tete"},{"$f":"IF(COUNTRY_INFO!C91=0,\" \",COUNTRY_INFO!C91)","v":"Chifunde"},{"$f":"IF(AND(COUNTRY_INFO!$T$9:$T$1000=\"T3 (ALB/MBD)\",COUNTRY_INFO!$U$9:$U$1000=\"T3 (ALB/MBD)\"), \"T3 (ALB/MBD)\", \" \")","v":" "},null,null,null,null,null,0,null,null,null,0," "," "," "," "]
[{"$f":"IF(COUNTRY_INFO!A92=0,\" \",COUNTRY_INFO!A92)","v":"Mozambique"},{"$f":"IF(COUNTRY_INFO!B92=0,\" \",COUNTRY_INFO!B92)","v":"Tete"},{"$f":"IF(COUNTRY_INFO!C92=0,\" \",COUNTRY_INFO!C92)","v":"Chiúta"},{"$f":"IF(AND(COUNTRY_INFO!$T$9:$T$1000=\"T3 (ALB/MBD)\",COUNTRY_INFO!$U$9:$U$1000=\"T3 (ALB/MBD)\"), \"T3 (ALB/MBD)\", \" \")","v":" "},null,null,null,null,null,0,null,null,null,0," "," "," "," "]
[{"$f":"IF(COUNTRY_INFO!A93=0,\" \",COUNTRY_INFO!A93)","v":"Mozambique"},{"$f":"IF(COUNTRY_INFO!B93=0,\" \",COUNTRY_INFO!B93)","v":"Tete"},{"$f":"IF(COUNTRY_INFO!C93=0,\" \",COUNTRY_INFO!C93)","v":"Doa"},{"$f":"IF(AND(COUNTRY_INFO!$T$9:$T$1000=\"T3 (ALB/MBD)\",COUNTRY_INFO!$U$9:$U$1000=\"T3 (ALB/MBD)\"), \"T3 (ALB/MBD)\", \" \")","v":" "},null,null,null,null,null,0,null,null,null,0," "," "," "," "]
[{"$f":"IF(COUNTRY_INFO!A94=0,\" \",COUNTRY_INFO!A94)","v":"Mozambique"},{"$f":"IF(COUNTRY_INFO!B94=0,\" \",COUNTRY_INFO!B94)","v":"Tete"},{"$f":"IF(COUNTRY_INFO!C94=0,\" \",COUNTRY_INFO!C94)","v":"Macanga"},{"$f":"IF(AND(COUNTRY_INFO!$T$9:$T$1000=\"T3 (ALB/MBD)\",COUNTRY_INFO!$U$9:$U$1000=\"T3 (ALB/MBD)\"), \"T3 (ALB/MBD)\", \" \")","v":" "},null,null,null,null,null,0,null,null,null,0," "," "," "," "]
[{"$f":"IF(COUNTRY_INFO!A95=0,\" \",COUNTRY_INFO!A95)","v":"Mozambique"},{"$f":"IF(COUNTRY_INFO!B95=0,\" \",COUNTRY_INFO!B95)","v":"Tete"},{"$f":"IF(COUNTRY_INFO!C95=0,\" \",COUNTRY_INFO!C95)","v":"Magoe"},{"$f":"IF(AND(COUNTRY_INFO!$T$9:$T$1000=\"T3 (ALB/MBD)\",COUNTRY_INFO!$U$9:$U$1000=\"T3 (ALB/MBD)\"), \"T3 (ALB/MBD)\", \" \")","v":" "},null,null,null,null,null,0,null,null,null,0," "," "," "," "]
[{"$f":"IF(COUNTRY_INFO!A96=0,\" \",COUNTRY_INFO!A96)","v":"Mozambique"},{"$f":"IF(COUNTRY_INFO!B96=0,\" \",COUNTRY_INFO!B96)","v":"Tete"},{"$f":"IF(COUNTRY_INFO!C96=0,\" \",COUNTRY_INFO!C96)","v":"Marávia"},{"$f":"IF(AND(COUNTRY_INFO!$T$9:$T$1000=\"T3 (ALB/MBD)\",COUNTRY_INFO!$U$9:$U$1000=\"T3 (ALB/MBD)\"), \"T3 (ALB/MBD)\", \" \")","v":" "},null,null,null,null,null,0,null,null,null,0," "," "," "," "]
[{"$f":"IF(COUNTRY_INFO!A97=0,\" \",COUNTRY_INFO!A97)","v":"Mozambique"},{"$f":"IF(COUNTRY_INFO!B97=0,\" \",COUNTRY_INFO!B97)","v":"Tete"},{"$f":"IF(COUNTRY_INFO!C97=0,\" \",COUNTRY_INFO!C97)","v":"Marara"},{"$f":"IF(AND(COUNTRY_INFO!$T$9:$T$1000=\"T3 (ALB/MBD)\",COUNTRY_INFO!$U$9:$U$1000=\"T3 (ALB/MBD)\"), \"T3 (ALB/MBD)\", \" \")","v":" "},null,null,null,null,null,0,null,null,null,0," "," "," "," "]
[{"$f":"IF(COUNTRY_INFO!A98=0,\" \",COUNTRY_INFO!A98)","v":"Mozambique"},{"$f":"IF(COUNTRY_INFO!B98=0,\" \",COUNTRY_INFO!B98)","v":"Tete"},{"$f":"IF(COUNTRY_INFO!C98=0,\" \",COUNTRY_INFO!C98)","v":"Moatize"},{"$f":"IF(AND(COUNTRY_INFO!$T$9:$T$1000=\"T3 (ALB/MBD)\",COUNTRY_INFO!$U$9:$U$1000=\"T3 (ALB/MBD)\"), \"T3 (ALB/MBD)\", \" \")","v":" "},null,null,null,null,null,0,null,null,null,0," "," "," "," "]
[{"$f":"IF(COUNTRY_INFO!A99=0,\" \",COUNTRY_INFO!A99)","v":"Mozambique"},{"$f":"IF(COUNTRY_INFO!B99=0,\" \",COUNTRY_INFO!B99)","v":"Tete"},{"$f":"IF(COUNTRY_INFO!C99=0,\" \",COUNTRY_INFO!C99)","v":"Mutarara"},{"$f":"IF(AND(COUNTRY_INFO!$T$9:$T$1000=\"T3 (ALB/MBD)\",COUNTRY_INFO!$U$9:$U$1000=\"T3 (ALB/MBD)\"), \"T3 (ALB/MBD)\", \" \")","v":" "},null,null,null,null,null,0,null,null,null,0," "," "," "," "]
[{"$f":"IF(COUNTRY_INFO!A100=0,\" \",COUNTRY_INFO!A100)","v":"Mozambique"},{"$f":"IF(COUNTRY_INFO!B100=0,\" \",COUNTRY_INFO!B100)","v":"Tete"},{"$f":"IF(COUNTRY_INFO!C100=0,\" \",COUNTRY_INFO!C100)","v":"Tsangano"},{"$f":"IF(AND(COUNTRY_INFO!$T$9:$T$1000=\"T3 (ALB/MBD)\",COUNTRY_INFO!$U$9:$U$1000=\"T3 (ALB/MBD)\"), \"T3 (ALB/MBD)\", \" \")","v":" "},null,null,null,null,null,0,null,null,null,0," "," "," "," "]
[{"$f":"IF(COUNTRY_INFO!A101=0,\" \",COUNTRY_INFO!A101)","v":"Mozambique"},{"$f":"IF(COUNTRY_INFO!B101=0,\" \",COUNTRY_INFO!B101)","v":"Tete"},{"$f":"IF(COUNTRY_INFO!C101=0,\" \",COUNTRY_INFO!C101)","v":"Zumbu"},{"$f":"IF(AND(COUNTRY_INFO!$T$9:$T$1000=\"T3 (ALB/MBD)\",COUNTRY_INFO!$U$9:$U$1000=\"T3 (ALB/MBD)\"), \"T3 (ALB/MBD)\", \" \")","v":" "},null,null,null,null,null,0,null,null,null,0," "," "," "," "]
[{"$f":"IF(COUNTRY_INFO!A102=0,\" \",COUNTRY_INFO!A102)","v":"Mozambique"},{"$f":"IF(COUNTRY_INFO!B102=0,\" \",COUNTRY_INFO!B102)","v":"Sofala"},{"$f":"IF(COUNTRY_INFO!C102=0,\" \",COUNTRY_INFO!C102)","v":"Cid Beira"},{"$f":"IF(AND(COUNTRY_INFO!$T$9:$T$1000=\"T3 (ALB/MBD)\",COUNTRY_INFO!$U$9:$U$1000=\"T3 (ALB/MBD)\"), \"T3 (ALB/MBD)\", \" \")","v":" "},null,null,null,null,null,0,null,null,null,0," "," "," "," "]
[{"$f":"IF(COUNTRY_INFO!A103=0,\" \",COUNTRY_INFO!A103)","v":"Mozambique"},{"$f":"IF(COUNTRY_INFO!B103=0,\" \",COUNTRY_INFO!B103)","v":"Sofala"},{"$f":"IF(COUNTRY_INFO!C103=0,\" \",COUNTRY_INFO!C103)","v":"Buzi"},{"$f":"IF(AND(COUNTRY_INFO!$T$9:$T$1000=\"T3 (ALB/MBD)\",COUNTRY_INFO!$U$9:$U$1000=\"T3 (ALB/MBD)\"), \"T3 (ALB/MBD)\", \" \")","v":" "},null,null,null,null,null,0,null,null,null,0," "," "," "," "]
[{"$f":"IF(COUNTRY_INFO!A104=0,\" \",COUNTRY_INFO!A104)","v":"Mozambique"},{"$f":"IF(COUNTRY_INFO!B104=0,\" \",COUNTRY_INFO!B104)","v":"Sofala"},{"$f":"IF(COUNTRY_INFO!C104=0,\" \",COUNTRY_INFO!C104)","v":"Caia"},{"$f":"IF(AND(COUNTRY_INFO!$T$9:$T$1000=\"T3 (ALB/MBD)\",COUNTRY_INFO!$U$9:$U$1000=\"T3 (ALB/MBD)\"), \"T3 (ALB/MBD)\", \" \")","v":" "},null,null,null,null,null,0,null,null,null,0," "," "," "," "]
[{"$f":"IF(COUNTRY_INFO!A105=0,\" \",COUNTRY_INFO!A105)","v":"Mozambique"},{"$f":"IF(COUNTRY_INFO!B105=0,\" \",COUNTRY_INFO!B105)","v":"Sofala"},{"$f":"IF(COUNTRY_INFO!C105=0,\" \",COUNTRY_INFO!C105)","v":"Chemba"},{"$f":"IF(AND(COUNTRY_INFO!$T$9:$T$1000=\"T3 (ALB/MBD)\",COUNTRY_INFO!$U$9:$U$1000=\"T3 (ALB/MBD)\"), \"T3 (ALB/MBD)\", \" \")","v":" "},null,null,null,null,null,0,null,null,null,0," "," "," "," "]
[{"$f":"IF(COUNTRY_INFO!A106=0,\" \",COUNTRY_INFO!A106)","v":"Mozambique"},{"$f":"IF(COUNTRY_INFO!B106=0,\" \",COUNTRY_INFO!B106)","v":"Sofala"},{"$f":"IF(COUNTRY_INFO!C106=0,\" \",COUNTRY_INFO!C106)","v":"Cheringoma"},{"$f":"IF(AND(COUNTRY_INFO!$T$9:$T$1000=\"T3 (ALB/MBD)\",COUNTRY_INFO!$U$9:$U$1000=\"T3 (ALB/MBD)\"), \"T3 (ALB/MBD)\", \" \")","v":" "},null,null,null,null,null,0,null,null,null,0," "," "," "," "]
[{"$f":"IF(COUNTRY_INFO!A107=0,\" \",COUNTRY_INFO!A107)","v":"Mozambique"},{"$f":"IF(COUNTRY_INFO!B107=0,\" \",COUNTRY_INFO!B107)","v":"Sofala"},{"$f":"IF(COUNTRY_INFO!C107=0,\" \",COUNTRY_INFO!C107)","v":"Chibabava"},{"$f":"IF(AND(COUNTRY_INFO!$T$9:$T$1000=\"T3 (ALB/MBD)\",COUNTRY_INFO!$U$9:$U$1000=\"T3 (ALB/MBD)\"), \"T3 (ALB/MBD)\", \" \")","v":" "},null,null,null,null,null,0,null,null,null,0," "," "," "," "]
[{"$f":"IF(COUNTRY_INFO!A108=0,\" \",COUNTRY_INFO!A108)","v":"Mozambique"},{"$f":"IF(COUNTRY_INFO!B108=0,\" \",COUNTRY_INFO!B108)","v":"Sofala"},{"$f":"IF(COUNTRY_INFO!C108=0,\" \",COUNTRY_INFO!C108)","v":"Dondo"},{"$f":"IF(AND(COUNTRY_INFO!$T$9:$T$1000=\"T3 (ALB/MBD)\",COUNTRY_INFO!$U$9:$U$1000=\"T3 (ALB/MBD)\"), \"T3 (ALB/MBD)\", \" \")","v":" "},null,null,null,null,null,0,null,null,null,0," "," "," "," "]
[{"$f":"IF(COUNTRY_INFO!A109=0,\" \",COUNTRY_INFO!A109)","v":"Mozambique"},{"$f":"IF(COUNTRY_INFO!B109=0,\" \",COUNTRY_INFO!B109)","v":"Sofala"},{"$f":"IF(COUNTRY_INFO!C109=0,\" \",COUNTRY_INFO!C109)","v":"Gorongosa"},{"$f":"IF(AND(COUNTRY_INFO!$T$9:$T$1000=\"T3 (ALB/MBD)\",COUNTRY_INFO!$U$9:$U$1000=\"T3 (ALB/MBD)\"), \"T3 (ALB/MBD)\", \" \")","v":" "},null,null,null,null,null,0,null,null,null,0," "," "," "," "]
[{"$f":"IF(COUNTRY_INFO!A110=0,\" \",COUNTRY_INFO!A110)","v":"Mozambique"},{"$f":"IF(COUNTRY_INFO!B110=0,\" \",COUNTRY_INFO!B110)","v":"Sofala"},{"$f":"IF(COUNTRY_INFO!C110=0,\" \",COUNTRY_INFO!C110)","v":"Machanga"},{"$f":"IF(AND(COUNTRY_INFO!$T$9:$T$1000=\"T3 (ALB/MBD)\",COUNTRY_INFO!$U$9:$U$1000=\"T3 (ALB/MBD)\"), \"T3 (ALB/MBD)\", \" \")","v":" "},null,null,null,null,null,0,null,null,null,0," "," "," "," "]
[{"$f":"IF(COUNTRY_INFO!A111=0,\" \",COUNTRY_INFO!A111)","v":"Mozambique"},{"$f":"IF(COUNTRY_INFO!B111=0,\" \",COUNTRY_INFO!B111)","v":"Sofala"},{"$f":"IF(COUNTRY_INFO!C111=0,\" \",COUNTRY_INFO!C111)","v":"Maringue"},{"$f":"IF(AND(COUNTRY_INFO!$T$9:$T$1000=\"T3 (ALB/MBD)\",COUNTRY_INFO!$U$9:$U$1000=\"T3 (ALB/MBD)\"), \"T3 (ALB/MBD)\", \" \")","v":" "},null,null,null,null,null,0,null,null,null,0," "," "," "," "]
[{"$f":"IF(COUNTRY_INFO!A112=0,\" \",COUNTRY_INFO!A112)","v":"Mozambique"},{"$f":"IF(COUNTRY_INFO!B112=0,\" \",COUNTRY_INFO!B112)","v":"Sofala"},{"$f":"IF(COUNTRY_INFO!C112=0,\" \",COUNTRY_INFO!C112)","v":"Marromeu"},{"$f":"IF(AND(COUNTRY_INFO!$T$9:$T$1000=\"T3 (ALB/MBD)\",COUNTRY_INFO!$U$9:$U$1000=\"T3 (ALB/MBD)\"), \"T3 (ALB/MBD)\", \" \")","v":" "},null,null,null,null,null,0,null,null,null,0," "," "," "," "]
[{"$f":"IF(COUNTRY_INFO!A113=0,\" \",COUNTRY_INFO!A113)","v":"Mozambique"},{"$f":"IF(COUNTRY_INFO!B113=0,\" \",COUNTRY_INFO!B113)","v":"Sofala"},{"$f":"IF(COUNTRY_INFO!C113=0,\" \",COUNTRY_INFO!C113)","v":"Muanza"},{"$f":"IF(AND(COUNTRY_INFO!$T$9:$T$1000=\"T3 (ALB/MBD)\",COUNTRY_INFO!$U$9:$U$1000=\"T3 (ALB/MBD)\"), \"T3 (ALB/MBD)\", \" \")","v":" "},null,null,null,null,null,0,null,null,null,0," "," "," "," "]
[{"$f":"IF(COUNTRY_INFO!A114=0,\" \",COUNTRY_INFO!A114)","v":"Mozambique"},{"$f":"IF(COUNTRY_INFO!B114=0,\" \",COUNTRY_INFO!B114)","v":"Sofala"},{"$f":"IF(COUNTRY_INFO!C114=0,\" \",COUNTRY_INFO!C114)","v":"Nhamatanda"},{"$f":"IF(AND(COUNTRY_INFO!$T$9:$T$1000=\"T3 (ALB/MBD)\",COUNTRY_INFO!$U$9:$U$1000=\"T3 (ALB/MBD)\"), \"T3 (ALB/MBD)\", \" \")","v":" "},null,null,null,null,null,0,null,null,null,0," "," "," "," "]
[{"$f":"IF(COUNTRY_INFO!A115=0,\" \",COUNTRY_INFO!A115)","v":"Mozambique"},{"$f":"IF(COUNTRY_INFO!B115=0,\" \",COUNTRY_INFO!B115)","v":"Manica"},{"$f":"IF(COUNTRY_INFO!C115=0,\" \",COUNTRY_INFO!C115)","v":"Cid. Chimoio"},{"$f":"IF(AND(COUNTRY_INFO!$T$9:$T$1000=\"T3 (ALB/MBD)\",COUNTRY_INFO!$U$9:$U$1000=\"T3 (ALB/MBD)\"), \"T3 (ALB/MBD)\", \" \")","v":" "},null,null,null,null,null,0,null,null,null,0," "," "," "," "]
[{"$f":"IF(COUNTRY_INFO!A116=0,\" \",COUNTRY_INFO!A116)","v":"Mozambique"},{"$f":"IF(COUNTRY_INFO!B116=0,\" \",COUNTRY_INFO!B116)","v":"Manica"},{"$f":"IF(COUNTRY_INFO!C116=0,\" \",COUNTRY_INFO!C116)","v":"Barué"},{"$f":"IF(AND(COUNTRY_INFO!$T$9:$T$1000=\"T3 (ALB/MBD)\",COUNTRY_INFO!$U$9:$U$1000=\"T3 (ALB/MBD)\"), \"T3 (ALB/MBD)\", \" \")","v":" "},null,null,null,null,null,0,null,null,null,0," "," "," "," "]
[{"$f":"IF(COUNTRY_INFO!A117=0,\" \",COUNTRY_INFO!A117)","v":"Mozambique"},{"$f":"IF(COUNTRY_INFO!B117=0,\" \",COUNTRY_INFO!B117)","v":"Manica"},{"$f":"IF(COUNTRY_INFO!C117=0,\" \",COUNTRY_INFO!C117)","v":"Gondola"},{"$f":"IF(AND(COUNTRY_INFO!$T$9:$T$1000=\"T3 (ALB/MBD)\",COUNTRY_INFO!$U$9:$U$1000=\"T3 (ALB/MBD)\"), \"T3 (ALB/MBD)\", \" \")","v":" "},null,null,null,null,null,0,null,null,null,0," "," "," "," "]
[{"$f":"IF(COUNTRY_INFO!A118=0,\" \",COUNTRY_INFO!A118)","v":"Mozambique"},{"$f":"IF(COUNTRY_INFO!B118=0,\" \",COUNTRY_INFO!B118)","v":"Manica"},{"$f":"IF(COUNTRY_INFO!C118=0,\" \",COUNTRY_INFO!C118)","v":"Guro"},{"$f":"IF(AND(COUNTRY_INFO!$T$9:$T$1000=\"T3 (ALB/MBD)\",COUNTRY_INFO!$U$9:$U$1000=\"T3 (ALB/MBD)\"), \"T3 (ALB/MBD)\", \" \")","v":" "},null,null,null,null,null,0,null,null,null,0," "," "," "," "]
[{"$f":"IF(COUNTRY_INFO!A119=0,\" \",COUNTRY_INFO!A119)","v":"Mozambique"},{"$f":"IF(COUNTRY_INFO!B119=0,\" \",COUNTRY_INFO!B119)","v":"Manica"},{"$f":"IF(COUNTRY_INFO!C119=0,\" \",COUNTRY_INFO!C119)","v":"Macate"},{"$f":"IF(AND(COUNTRY_INFO!$T$9:$T$1000=\"T3 (ALB/MBD)\",COUNTRY_INFO!$U$9:$U$1000=\"T3 (ALB/MBD)\"), \"T3 (ALB/MBD)\", \" \")","v":" "},null,null,null,null,null,0,null,null,null,0," "," "," "," "]
[{"$f":"IF(COUNTRY_INFO!A120=0,\" \",COUNTRY_INFO!A120)","v":"Mozambique"},{"$f":"IF(COUNTRY_INFO!B120=0,\" \",COUNTRY_INFO!B120)","v":"Manica"},{"$f":"IF(COUNTRY_INFO!C120=0,\" \",COUNTRY_INFO!C120)","v":"Machaze"},{"$f":"IF(AND(COUNTRY_INFO!$T$9:$T$1000=\"T3 (ALB/MBD)\",COUNTRY_INFO!$U$9:$U$1000=\"T3 (ALB/MBD)\"), \"T3 (ALB/MBD)\", \" \")","v":" "},null,null,null,null,null,0,null,null,null,0," "," "," "," "]
[{"$f":"IF(COUNTRY_INFO!A121=0,\" \",COUNTRY_INFO!A121)","v":"Mozambique"},{"$f":"IF(COUNTRY_INFO!B121=0,\" \",COUNTRY_INFO!B121)","v":"Manica"},{"$f":"IF(COUNTRY_INFO!C121=0,\" \",COUNTRY_INFO!C121)","v":"Macossa"},{"$f":"IF(AND(COUNTRY_INFO!$T$9:$T$1000=\"T3 (ALB/MBD)\",COUNTRY_INFO!$U$9:$U$1000=\"T3 (ALB/MBD)\"), \"T3 (ALB/MBD)\", \" \")","v":" "},null,null,null,null,null,0,null,null,null,0," "," "," "," "]
[{"$f":"IF(COUNTRY_INFO!A122=0,\" \",COUNTRY_INFO!A122)","v":"Mozambique"},{"$f":"IF(COUNTRY_INFO!B122=0,\" \",COUNTRY_INFO!B122)","v":"Manica"},{"$f":"IF(COUNTRY_INFO!C122=0,\" \",COUNTRY_INFO!C122)","v":"Manica"},{"$f":"IF(AND(COUNTRY_INFO!$T$9:$T$1000=\"T3 (ALB/MBD)\",COUNTRY_INFO!$U$9:$U$1000=\"T3 (ALB/MBD)\"), \"T3 (ALB/MBD)\", \" \")","v":" "},null,null,null,null,null,0,null,null,null,0," "," "," "," "]
[{"$f":"IF(COUNTRY_INFO!A123=0,\" \",COUNTRY_INFO!A123)","v":"Mozambique"},{"$f":"IF(COUNTRY_INFO!B123=0,\" \",COUNTRY_INFO!B123)","v":"Manica"},{"$f":"IF(COUNTRY_INFO!C123=0,\" \",COUNTRY_INFO!C123)","v":"Mossurize"},{"$f":"IF(AND(COUNTRY_INFO!$T$9:$T$1000=\"T3 (ALB/MBD)\",COUNTRY_INFO!$U$9:$U$1000=\"T3 (ALB/MBD)\"), \"T3 (ALB/MBD)\", \" \")","v":" "},null,null,null,null,null,0,null,null,null,0," "," "," "," "]
[{"$f":"IF(COUNTRY_INFO!A124=0,\" \",COUNTRY_INFO!A124)","v":"Mozambique"},{"$f":"IF(COUNTRY_INFO!B124=0,\" \",COUNTRY_INFO!B124)","v":"Manica"},{"$f":"IF(COUNTRY_INFO!C124=0,\" \",COUNTRY_INFO!C124)","v":"Sussundenga"},{"$f":"IF(AND(COUNTRY_INFO!$T$9:$T$1000=\"T3 (ALB/MBD)\",COUNTRY_INFO!$U$9:$U$1000=\"T3 (ALB/MBD)\"), \"T3 (ALB/MBD)\", \" \")","v":" "},null,null,null,null,null,0,null,null,null,0," "," "," "," "]
[{"$f":"IF(COUNTRY_INFO!A125=0,\" \",COUNTRY_INFO!A125)","v":"Mozambique"},{"$f":"IF(COUNTRY_INFO!B125=0,\" \",COUNTRY_INFO!B125)","v":"Manica"},{"$f":"IF(COUNTRY_INFO!C125=0,\" \",COUNTRY_INFO!C125)","v":"Tambara"},{"$f":"IF(AND(COUNTRY_INFO!$T$9:$T$1000=\"T3 (ALB/MBD)\",COUNTRY_INFO!$U$9:$U$1000=\"T3 (ALB/MBD)\"), \"T3 (ALB/MBD)\", \" \")","v":" "},null,null,null,null,null,0,null,null,null,0," "," "," "," "]
[{"$f":"IF(COUNTRY_INFO!A126=0,\" \",COUNTRY_INFO!A126)","v":"Mozambique"},{"$f":"IF(COUNTRY_INFO!B126=0,\" \",COUNTRY_INFO!B126)","v":"Manica"},{"$f":"IF(COUNTRY_INFO!C126=0,\" \",COUNTRY_INFO!C126)","v":"Vanduze"},{"$f":"IF(AND(COUNTRY_INFO!$T$9:$T$1000=\"T3 (ALB/MBD)\",COUNTRY_INFO!$U$9:$U$1000=\"T3 (ALB/MBD)\"), \"T3 (ALB/MBD)\", \" \")","v":" "},null,null,null,null,null,0,null,null,null,0," "," "," "," "]
[{"$f":"IF(COUNTRY_INFO!A127=0,\" \",COUNTRY_INFO!A127)","v":"Mozambique"},{"$f":"IF(COUNTRY_INFO!B127=0,\" \",COUNTRY_INFO!B127)","v":"Inhambane"},{"$f":"IF(COUNTRY_INFO!C127=0,\" \",COUNTRY_INFO!C127)","v":"Cid. I'bane"},{"$f":"IF(AND(COUNTRY_INFO!$T$9:$T$1000=\"T3 (ALB/MBD)\",COUNTRY_INFO!$U$9:$U$1000=\"T3 (ALB/MBD)\"), \"T3 (ALB/MBD)\", \" \")","v":" "},null,null,null,null,null,0,null,null,null,0," "," "," "," "]
[{"$f":"IF(COUNTRY_INFO!A128=0,\" \",COUNTRY_INFO!A128)","v":"Mozambique"},{"$f":"IF(COUNTRY_INFO!B128=0,\" \",COUNTRY_INFO!B128)","v":"Inhambane"},{"$f":"IF(COUNTRY_INFO!C128=0,\" \",COUNTRY_INFO!C128)","v":"Funhalouro"},{"$f":"IF(AND(COUNTRY_INFO!$T$9:$T$1000=\"T3 (ALB/MBD)\",COUNTRY_INFO!$U$9:$U$1000=\"T3 (ALB/MBD)\"), \"T3 (ALB/MBD)\", \" \")","v":" "},null,null,null,null,null,0,null,null,null,0," "," "," "," "]
[{"$f":"IF(COUNTRY_INFO!A129=0,\" \",COUNTRY_INFO!A129)","v":"Mozambique"},{"$f":"IF(COUNTRY_INFO!B129=0,\" \",COUNTRY_INFO!B129)","v":"Inhambane"},{"$f":"IF(COUNTRY_INFO!C129=0,\" \",COUNTRY_INFO!C129)","v":"Govuro"},{"$f":"IF(AND(COUNTRY_INFO!$T$9:$T$1000=\"T3 (ALB/MBD)\",COUNTRY_INFO!$U$9:$U$1000=\"T3 (ALB/MBD)\"), \"T3 (ALB/MBD)\", \" \")","v":" "},null,null,null,null,null,0,null,null,null,0," "," "," "," "]
[{"$f":"IF(COUNTRY_INFO!A130=0,\" \",COUNTRY_INFO!A130)","v":"Mozambique"},{"$f":"IF(COUNTRY_INFO!B130=0,\" \",COUNTRY_INFO!B130)","v":"Inhambane"},{"$f":"IF(COUNTRY_INFO!C130=0,\" \",COUNTRY_INFO!C130)","v":"Homoíne"},{"$f":"IF(AND(COUNTRY_INFO!$T$9:$T$1000=\"T3 (ALB/MBD)\",COUNTRY_INFO!$U$9:$U$1000=\"T3 (ALB/MBD)\"), \"T3 (ALB/MBD)\", \" \")","v":" "},null,null,null,null,null,0,null,null,null,0," "," "," "," "]
[{"$f":"IF(COUNTRY_INFO!A131=0,\" \",COUNTRY_INFO!A131)","v":"Mozambique"},{"$f":"IF(COUNTRY_INFO!B131=0,\" \",COUNTRY_INFO!B131)","v":"Inhambane"},{"$f":"IF(COUNTRY_INFO!C131=0,\" \",COUNTRY_INFO!C131)","v":"Inharrime"},{"$f":"IF(AND(COUNTRY_INFO!$T$9:$T$1000=\"T3 (ALB/MBD)\",COUNTRY_INFO!$U$9:$U$1000=\"T3 (ALB/MBD)\"), \"T3 (ALB/MBD)\", \" \")","v":" "},null,null,null,null,null,0,null,null,null,0," "," "," "," "]
[{"$f":"IF(COUNTRY_INFO!A132=0,\" \",COUNTRY_INFO!A132)","v":"Mozambique"},{"$f":"IF(COUNTRY_INFO!B132=0,\" \",COUNTRY_INFO!B132)","v":"Inhambane"},{"$f":"IF(COUNTRY_INFO!C132=0,\" \",COUNTRY_INFO!C132)","v":"Inhassoro"},{"$f":"IF(AND(COUNTRY_INFO!$T$9:$T$1000=\"T3 (ALB/MBD)\",COUNTRY_INFO!$U$9:$U$1000=\"T3 (ALB/MBD)\"), \"T3 (ALB/MBD)\", \" \")","v":" "},null,null,null,null,null,0,null,null,null,0," "," "," "," "]
[{"$f":"IF(COUNTRY_INFO!A133=0,\" \",COUNTRY_INFO!A133)","v":"Mozambique"},{"$f":"IF(COUNTRY_INFO!B133=0,\" \",COUNTRY_INFO!B133)","v":"Inhambane"},{"$f":"IF(COUNTRY_INFO!C133=0,\" \",COUNTRY_INFO!C133)","v":"Jangamo"},{"$f":"IF(AND(COUNTRY_INFO!$T$9:$T$1000=\"T3 (ALB/MBD)\",COUNTRY_INFO!$U$9:$U$1000=\"T3 (ALB/MBD)\"), \"T3 (ALB/MBD)\", \" \")","v":" "},null,null,null,null,null,0,null,null,null,0," "," "," "," "]
[{"$f":"IF(COUNTRY_INFO!A134=0,\" \",COUNTRY_INFO!A134)","v":"Mozambique"},{"$f":"IF(COUNTRY_INFO!B134=0,\" \",COUNTRY_INFO!B134)","v":"Inhambane"},{"$f":"IF(COUNTRY_INFO!C134=0,\" \",COUNTRY_INFO!C134)","v":"Mabote"},{"$f":"IF(AND(COUNTRY_INFO!$T$9:$T$1000=\"T3 (ALB/MBD)\",COUNTRY_INFO!$U$9:$U$1000=\"T3 (ALB/MBD)\"), \"T3 (ALB/MBD)\", \" \")","v":" "},null,null,null,null,null,0,null,null,null,0," "," "," "," "]
[{"$f":"IF(COUNTRY_INFO!A135=0,\" \",COUNTRY_INFO!A135)","v":"Mozambique"},{"$f":"IF(COUNTRY_INFO!B135=0,\" \",COUNTRY_INFO!B135)","v":"Inhambane"},{"$f":"IF(COUNTRY_INFO!C135=0,\" \",COUNTRY_INFO!C135)","v":"Massinga"},{"$f":"IF(AND(COUNTRY_INFO!$T$9:$T$1000=\"T3 (ALB/MBD)\",COUNTRY_INFO!$U$9:$U$1000=\"T3 (ALB/MBD)\"), \"T3 (ALB/MBD)\", \" \")","v":" "},null,null,null,null,null,0,null,null,null,0," "," "," "," "]
[{"$f":"IF(COUNTRY_INFO!A136=0,\" \",COUNTRY_INFO!A136)","v":"Mozambique"},{"$f":"IF(COUNTRY_INFO!B136=0,\" \",COUNTRY_INFO!B136)","v":"Inhambane"},{"$f":"IF(COUNTRY_INFO!C136=0,\" \",COUNTRY_INFO!C136)","v":"Maxixe"},{"$f":"IF(AND(COUNTRY_INFO!$T$9:$T$1000=\"T3 (ALB/MBD)\",COUNTRY_INFO!$U$9:$U$1000=\"T3 (ALB/MBD)\"), \"T3 (ALB/MBD)\", \" \")","v":" "},null,null,null,null,null,0,null,null,null,0," "," "," "," "]
[{"$f":"IF(COUNTRY_INFO!A137=0,\" \",COUNTRY_INFO!A137)","v":"Mozambique"},{"$f":"IF(COUNTRY_INFO!B137=0,\" \",COUNTRY_INFO!B137)","v":"Inhambane"},{"$f":"IF(COUNTRY_INFO!C137=0,\" \",COUNTRY_INFO!C137)","v":"Morrumbene"},{"$f":"IF(AND(COUNTRY_INFO!$T$9:$T$1000=\"T3 (ALB/MBD)\",COUNTRY_INFO!$U$9:$U$1000=\"T3 (ALB/MBD)\"), \"T3 (ALB/MBD)\", \" \")","v":" "},null,null,null,null,null,0,null,null,null,0," "," "," "," "]
[{"$f":"IF(COUNTRY_INFO!A138=0,\" \",COUNTRY_INFO!A138)","v":"Mozambique"},{"$f":"IF(COUNTRY_INFO!B138=0,\" \",COUNTRY_INFO!B138)","v":"Inhambane"},{"$f":"IF(COUNTRY_INFO!C138=0,\" \",COUNTRY_INFO!C138)","v":"Panda"},{"$f":"IF(AND(COUNTRY_INFO!$T$9:$T$1000=\"T3 (ALB/MBD)\",COUNTRY_INFO!$U$9:$U$1000=\"T3 (ALB/MBD)\"), \"T3 (ALB/MBD)\", \" \")","v":" "},null,null,null,null,null,{"$f":"SUM(G138:I138)","v":0},null,null,null,{"$f":"SUM(K138:M138)","v":0},{"$f":"IF(G138<>0, IF(K138/G138*100=0, \"-\", K138/G138*100), \" \")","v":" "},{"$f":"IF(H138<>0, IF(L138/H138*100=0, \"-\", L138/H138*100), \" \")","v":" "},{"$f":"IF(I138<>0, IF(M138/I138*100=0, \"-\", M138/I138*100), \" \")","v":" "},{"$f":"IF(J138<>0, IF(N138/J138*100=0, \"-\", N138/J138*100), \" \")","v":" "}]
[{"$f":"IF(COUNTRY_INFO!A139=0,\" \",COUNTRY_INFO!A139)","v":"Mozambique"},{"$f":"IF(COUNTRY_INFO!B139=0,\" \",COUNTRY_INFO!B139)","v":"Inhambane"},{"$f":"IF(COUNTRY_INFO!C139=0,\" \",COUNTRY_INFO!C139)","v":"Vilanculos"},{"$f":"IF(AND(COUNTRY_INFO!$T$9:$T$1000=\"T3 (ALB/MBD)\",COUNTRY_INFO!$U$9:$U$1000=\"T3 (ALB/MBD)\"), \"T3 (ALB/MBD)\", \" \")","v":" "},null,null,null,null,null,0,null,null,null,0," "," "," "," "]
[{"$f":"IF(COUNTRY_INFO!A140=0,\" \",COUNTRY_INFO!A140)","v":"Mozambique"},{"$f":"IF(COUNTRY_INFO!B140=0,\" \",COUNTRY_INFO!B140)","v":"Inhambane"},{"$f":"IF(COUNTRY_INFO!C140=0,\" \",COUNTRY_INFO!C140)","v":"Zavala"},{"$f":"IF(AND(COUNTRY_INFO!$T$9:$T$1000=\"T3 (ALB/MBD)\",COUNTRY_INFO!$U$9:$U$1000=\"T3 (ALB/MBD)\"), \"T3 (ALB/MBD)\", \" \")","v":" "},null,null,null,null,null,0,null,null,null,0," "," "," "," "]
[{"$f":"IF(COUNTRY_INFO!A141=0,\" \",COUNTRY_INFO!A141)","v":"Mozambique"},{"$f":"IF(COUNTRY_INFO!B141=0,\" \",COUNTRY_INFO!B141)","v":"Gaza"},{"$f":"IF(COUNTRY_INFO!C141=0,\" \",COUNTRY_INFO!C141)","v":"Cid Xai Xai"},{"$f":"IF(AND(COUNTRY_INFO!$T$9:$T$1000=\"T3 (ALB/MBD)\",COUNTRY_INFO!$U$9:$U$1000=\"T3 (ALB/MBD)\"), \"T3 (ALB/MBD)\", \" \")","v":" "},null,null,null,null,null,0,null,null,null,0," "," "," "," "]
[{"$f":"IF(COUNTRY_INFO!A142=0,\" \",COUNTRY_INFO!A142)","v":"Mozambique"},{"$f":"IF(COUNTRY_INFO!B142=0,\" \",COUNTRY_INFO!B142)","v":"Gaza"},{"$f":"IF(COUNTRY_INFO!C142=0,\" \",COUNTRY_INFO!C142)","v":"Bilene Macia"},{"$f":"IF(AND(COUNTRY_INFO!$T$9:$T$1000=\"T3 (ALB/MBD)\",COUNTRY_INFO!$U$9:$U$1000=\"T3 (ALB/MBD)\"), \"T3 (ALB/MBD)\", \" \")","v":" "},null,null,null,null,null,0,null,null,null,0," "," "," "," "]
[{"$f":"IF(COUNTRY_INFO!A143=0,\" \",COUNTRY_INFO!A143)","v":"Mozambique"},{"$f":"IF(COUNTRY_INFO!B143=0,\" \",COUNTRY_INFO!B143)","v":"Gaza"},{"$f":"IF(COUNTRY_INFO!C143=0,\" \",COUNTRY_INFO!C143)","v":"Chibuto"},{"$f":"IF(AND(COUNTRY_INFO!$T$9:$T$1000=\"T3 (ALB/MBD)\",COUNTRY_INFO!$U$9:$U$1000=\"T3 (ALB/MBD)\"), \"T3 (ALB/MBD)\", \" \")","v":" "},null,null,null,null,null,0,null,null,null,0," "," "," "," "]
[{"$f":"IF(COUNTRY_INFO!A144=0,\" \",COUNTRY_INFO!A144)","v":"Mozambique"},{"$f":"IF(COUNTRY_INFO!B144=0,\" \",COUNTRY_INFO!B144)","v":"Gaza"},{"$f":"IF(COUNTRY_INFO!C144=0,\" \",COUNTRY_INFO!C144)","v":"Chicualacuala"},{"$f":"IF(AND(COUNTRY_INFO!$T$9:$T$1000=\"T3 (ALB/MBD)\",COUNTRY_INFO!$U$9:$U$1000=\"T3 (ALB/MBD)\"), \"T3 (ALB/MBD)\", \" \")","v":" "},null,null,null,null,null,0,null,null,null,0," "," "," "," "]
[{"$f":"IF(COUNTRY_INFO!A145=0,\" \",COUNTRY_INFO!A145)","v":"Mozambique"},{"$f":"IF(COUNTRY_INFO!B145=0,\" \",COUNTRY_INFO!B145)","v":"Gaza"},{"$f":"IF(COUNTRY_INFO!C145=0,\" \",COUNTRY_INFO!C145)","v":"Chigubo"},{"$f":"IF(AND(COUNTRY_INFO!$T$9:$T$1000=\"T3 (ALB/MBD)\",COUNTRY_INFO!$U$9:$U$1000=\"T3 (ALB/MBD)\"), \"T3 (ALB/MBD)\", \" \")","v":" "},null,null,null,null,null,0,null,null,null,0," "," "," "," "]
[{"$f":"IF(COUNTRY_INFO!A146=0,\" \",COUNTRY_INFO!A146)","v":"Mozambique"},{"$f":"IF(COUNTRY_INFO!B146=0,\" \",COUNTRY_INFO!B146)","v":"Gaza"},{"$f":"IF(COUNTRY_INFO!C146=0,\" \",COUNTRY_INFO!C146)","v":"Chokwé"},{"$f":"IF(AND(COUNTRY_INFO!$T$9:$T$1000=\"T3 (ALB/MBD)\",COUNTRY_INFO!$U$9:$U$1000=\"T3 (ALB/MBD)\"), \"T3 (ALB/MBD)\", \" \")","v":" "},null,null,null,null,null,0,null,null,null,0," "," "," "," "]
[{"$f":"IF(COUNTRY_INFO!A147=0,\" \",COUNTRY_INFO!A147)","v":"Mozambique"},{"$f":"IF(COUNTRY_INFO!B147=0,\" \",COUNTRY_INFO!B147)","v":"Gaza"},{"$f":"IF(COUNTRY_INFO!C147=0,\" \",COUNTRY_INFO!C147)","v":"Chongoene"},{"$f":"IF(AND(COUNTRY_INFO!$T$9:$T$1000=\"T3 (ALB/MBD)\",COUNTRY_INFO!$U$9:$U$1000=\"T3 (ALB/MBD)\"), \"T3 (ALB/MBD)\", \" \")","v":" "},null,null,null,null,null,0,null,null,null,0," "," "," "," "]
[{"$f":"IF(COUNTRY_INFO!A148=0,\" \",COUNTRY_INFO!A148)","v":"Mozambique"},{"$f":"IF(COUNTRY_INFO!B148=0,\" \",COUNTRY_INFO!B148)","v":"Gaza"},{"$f":"IF(COUNTRY_INFO!C148=0,\" \",COUNTRY_INFO!C148)","v":"Guijá"},{"$f":"IF(AND(COUNTRY_INFO!$T$9:$T$1000=\"T3 (ALB/MBD)\",COUNTRY_INFO!$U$9:$U$1000=\"T3 (ALB/MBD)\"), \"T3 (ALB/MBD)\", \" \")","v":" "},null,null,null,null,null,0,null,null,null,0," "," "," "," "]
[{"$f":"IF(COUNTRY_INFO!A149=0,\" \",COUNTRY_INFO!A149)","v":"Mozambique"},{"$f":"IF(COUNTRY_INFO!B149=0,\" \",COUNTRY_INFO!B149)","v":"Gaza"},{"$f":"IF(COUNTRY_INFO!C149=0,\" \",COUNTRY_INFO!C149)","v":"Limpopo"},{"$f":"IF(AND(COUNTRY_INFO!$T$9:$T$1000=\"T3 (ALB/MBD)\",COUNTRY_INFO!$U$9:$U$1000=\"T3 (ALB/MBD)\"), \"T3 (ALB/MBD)\", \" \")","v":" "},null,null,null,null,null,0,null,null,null,0," "," "," "," "]
[{"$f":"IF(COUNTRY_INFO!A150=0,\" \",COUNTRY_INFO!A150)","v":"Mozambique"},{"$f":"IF(COUNTRY_INFO!B150=0,\" \",COUNTRY_INFO!B150)","v":"Gaza"},{"$f":"IF(COUNTRY_INFO!C150=0,\" \",COUNTRY_INFO!C150)","v":"Mabalane"},{"$f":"IF(AND(COUNTRY_INFO!$T$9:$T$1000=\"T3 (ALB/MBD)\",COUNTRY_INFO!$U$9:$U$1000=\"T3 (ALB/MBD)\"), \"T3 (ALB/MBD)\", \" \")","v":" "},null,null,null,null,null,0,null,null,null,0," "," "," "," "]
[{"$f":"IF(COUNTRY_INFO!A151=0,\" \",COUNTRY_INFO!A151)","v":"Mozambique"},{"$f":"IF(COUNTRY_INFO!B151=0,\" \",COUNTRY_INFO!B151)","v":"Gaza"},{"$f":"IF(COUNTRY_INFO!C151=0,\" \",COUNTRY_INFO!C151)","v":"Manjacaze"},{"$f":"IF(AND(COUNTRY_INFO!$T$9:$T$1000=\"T3 (ALB/MBD)\",COUNTRY_INFO!$U$9:$U$1000=\"T3 (ALB/MBD)\"), \"T3 (ALB/MBD)\", \" \")","v":" "},null,null,null,null,null,0,null,null,null,0," "," "," "," "]
[{"$f":"IF(COUNTRY_INFO!A152=0,\" \",COUNTRY_INFO!A152)","v":"Mozambique"},{"$f":"IF(COUNTRY_INFO!B152=0,\" \",COUNTRY_INFO!B152)","v":"Gaza"},{"$f":"IF(COUNTRY_INFO!C152=0,\" \",COUNTRY_INFO!C152)","v":"Mapai"},{"$f":"IF(AND(COUNTRY_INFO!$T$9:$T$1000=\"T3 (ALB/MBD)\",COUNTRY_INFO!$U$9:$U$1000=\"T3 (ALB/MBD)\"), \"T3 (ALB/MBD)\", \" \")","v":" "},null,null,null,null,null,0,null,null,null,0," "," "," "," "]
[{"$f":"IF(COUNTRY_INFO!A153=0,\" \",COUNTRY_INFO!A153)","v":"Mozambique"},{"$f":"IF(COUNTRY_INFO!B153=0,\" \",COUNTRY_INFO!B153)","v":"Gaza"},{"$f":"IF(COUNTRY_INFO!C153=0,\" \",COUNTRY_INFO!C153)","v":"Massangena"},{"$f":"IF(AND(COUNTRY_INFO!$T$9:$T$1000=\"T3 (ALB/MBD)\",COUNTRY_INFO!$U$9:$U$1000=\"T3 (ALB/MBD)\"), \"T3 (ALB/MBD)\", \" \")","v":" "},null,null,null,null,null,0,null,null,null,0," "," "," "," "]
[{"$f":"IF(COUNTRY_INFO!A154=0,\" \",COUNTRY_INFO!A154)","v":"Mozambique"},{"$f":"IF(COUNTRY_INFO!B154=0,\" \",COUNTRY_INFO!B154)","v":"Gaza"},{"$f":"IF(COUNTRY_INFO!C154=0,\" \",COUNTRY_INFO!C154)","v":"Massingir"},{"$f":"IF(AND(COUNTRY_INFO!$T$9:$T$1000=\"T3 (ALB/MBD)\",COUNTRY_INFO!$U$9:$U$1000=\"T3 (ALB/MBD)\"), \"T3 (ALB/MBD)\", \" \")","v":" "},null,null,null,null,null,0,null,null,null,0," "," "," "," "]
[{"$f":"IF(COUNTRY_INFO!A155=0,\" \",COUNTRY_INFO!A155)","v":"Mozambique"},{"$f":"IF(COUNTRY_INFO!B155=0,\" \",COUNTRY_INFO!B155)","v":"Maputo Provincia"},{"$f":"IF(COUNTRY_INFO!C155=0,\" \",COUNTRY_INFO!C155)","v":"Matola"},{"$f":"IF(AND(COUNTRY_INFO!$T$9:$T$1000=\"T3 (ALB/MBD)\",COUNTRY_INFO!$U$9:$U$1000=\"T3 (ALB/MBD)\"), \"T3 (ALB/MBD)\", \" \")","v":" "},null,null,null,null,null,0,null,null,null,0," "," "," "," "]
[{"$f":"IF(COUNTRY_INFO!A156=0,\" \",COUNTRY_INFO!A156)","v":"Mozambique"},{"$f":"IF(COUNTRY_INFO!B156=0,\" \",COUNTRY_INFO!B156)","v":"Maputo Provincia"},{"$f":"IF(COUNTRY_INFO!C156=0,\" \",COUNTRY_INFO!C156)","v":"Boane"},{"$f":"IF(AND(COUNTRY_INFO!$T$9:$T$1000=\"T3 (ALB/MBD)\",COUNTRY_INFO!$U$9:$U$1000=\"T3 (ALB/MBD)\"), \"T3 (ALB/MBD)\", \" \")","v":" "},null,null,null,null,null,0,null,null,null,0," "," "," "," "]
[{"$f":"IF(COUNTRY_INFO!A157=0,\" \",COUNTRY_INFO!A157)","v":"Mozambique"},{"$f":"IF(COUNTRY_INFO!B157=0,\" \",COUNTRY_INFO!B157)","v":"Maputo Provincia"},{"$f":"IF(COUNTRY_INFO!C157=0,\" \",COUNTRY_INFO!C157)","v":"Magude"},{"$f":"IF(AND(COUNTRY_INFO!$T$9:$T$1000=\"T3 (ALB/MBD)\",COUNTRY_INFO!$U$9:$U$1000=\"T3 (ALB/MBD)\"), \"T3 (ALB/MBD)\", \" \")","v":" "},null,null,null,null,null,0,null,null,null,0," "," "," "," "]
[{"$f":"IF(COUNTRY_INFO!A158=0,\" \",COUNTRY_INFO!A158)","v":"Mozambique"},{"$f":"IF(COUNTRY_INFO!B158=0,\" \",COUNTRY_INFO!B158)","v":"Maputo Provincia"},{"$f":"IF(COUNTRY_INFO!C158=0,\" \",COUNTRY_INFO!C158)","v":"Manhica"},{"$f":"IF(AND(COUNTRY_INFO!$T$9:$T$1000=\"T3 (ALB/MBD)\",COUNTRY_INFO!$U$9:$U$1000=\"T3 (ALB/MBD)\"), \"T3 (ALB/MBD)\", \" \")","v":" "},null,null,null,null,null,0,null,null,null,0," "," "," "," "]
[{"$f":"IF(COUNTRY_INFO!A159=0,\" \",COUNTRY_INFO!A159)","v":"Mozambique"},{"$f":"IF(COUNTRY_INFO!B159=0,\" \",COUNTRY_INFO!B159)","v":"Maputo Provincia"},{"$f":"IF(COUNTRY_INFO!C159=0,\" \",COUNTRY_INFO!C159)","v":"Marracuene"},{"$f":"IF(AND(COUNTRY_INFO!$T$9:$T$1000=\"T3 (ALB/MBD)\",COUNTRY_INFO!$U$9:$U$1000=\"T3 (ALB/MBD)\"), \"T3 (ALB/MBD)\", \" \")","v":" "},null,null,null,null,null,0,null,null,null,0," "," "," "," "]
[{"$f":"IF(COUNTRY_INFO!A160=0,\" \",COUNTRY_INFO!A160)","v":"Mozambique"},{"$f":"IF(COUNTRY_INFO!B160=0,\" \",COUNTRY_INFO!B160)","v":"Maputo Provincia"},{"$f":"IF(COUNTRY_INFO!C160=0,\" \",COUNTRY_INFO!C160)","v":"Matutuíne"},{"$f":"IF(AND(COUNTRY_INFO!$T$9:$T$1000=\"T3 (ALB/MBD)\",COUNTRY_INFO!$U$9:$U$1000=\"T3 (ALB/MBD)\"), \"T3 (ALB/MBD)\", \" \")","v":" "},null,null,null,null,null,0,null,null,null,0," "," "," "," "]
[{"$f":"IF(COUNTRY_INFO!A161=0,\" \",COUNTRY_INFO!A161)","v":"Mozambique"},{"$f":"IF(COUNTRY_INFO!B161=0,\" \",COUNTRY_INFO!B161)","v":"Maputo Provincia"},{"$f":"IF(COUNTRY_INFO!C161=0,\" \",COUNTRY_INFO!C161)","v":"Moamba"},{"$f":"IF(AND(COUNTRY_INFO!$T$9:$T$1000=\"T3 (ALB/MBD)\",COUNTRY_INFO!$U$9:$U$1000=\"T3 (ALB/MBD)\"), \"T3 (ALB/MBD)\", \" \")","v":" "},null,null,null,null,null,0,null,null,null,0," "," "," "," "]
[{"$f":"IF(COUNTRY_INFO!A162=0,\" \",COUNTRY_INFO!A162)","v":"Mozambique"},{"$f":"IF(COUNTRY_INFO!B162=0,\" \",COUNTRY_INFO!B162)","v":"Maputo Provincia"},{"$f":"IF(COUNTRY_INFO!C162=0,\" \",COUNTRY_INFO!C162)","v":"Namaacha"},{"$f":"IF(AND(COUNTRY_INFO!$T$9:$T$1000=\"T3 (ALB/MBD)\",COUNTRY_INFO!$U$9:$U$1000=\"T3 (ALB/MBD)\"), \"T3 (ALB/MBD)\", \" \")","v":" "},null,null,null,null,null,0,null,null,null,0," "," "," "," "]
[{"$f":"IF(COUNTRY_INFO!A163=0,\" \",COUNTRY_INFO!A163)","v":"Mozambique"},{"$f":"IF(COUNTRY_INFO!B163=0,\" \",COUNTRY_INFO!B163)","v":"Cidade de Maputo"},{"$f":"IF(COUNTRY_INFO!C163=0,\" \",COUNTRY_INFO!C163)","v":"Kampfumu"},{"$f":"IF(AND(COUNTRY_INFO!$T$9:$T$1000=\"T3 (ALB/MBD)\",COUNTRY_INFO!$U$9:$U$1000=\"T3 (ALB/MBD)\"), \"T3 (ALB/MBD)\", \" \")","v":" "},null,null,null,null,null,0,null,null,null,0," "," "," "," "]
[{"$f":"IF(COUNTRY_INFO!A164=0,\" \",COUNTRY_INFO!A164)","v":"Mozambique"},{"$f":"IF(COUNTRY_INFO!B164=0,\" \",COUNTRY_INFO!B164)","v":"Cidade de Maputo"},{"$f":"IF(COUNTRY_INFO!C164=0,\" \",COUNTRY_INFO!C164)","v":"Nhlamankulu"},{"$f":"IF(AND(COUNTRY_INFO!$T$9:$T$1000=\"T3 (ALB/MBD)\",COUNTRY_INFO!$U$9:$U$1000=\"T3 (ALB/MBD)\"), \"T3 (ALB/MBD)\", \" \")","v":" "},null,null,null,null,null,0,null,null,null,0," "," "," "," "]
[{"$f":"IF(COUNTRY_INFO!A165=0,\" \",COUNTRY_INFO!A165)","v":"Mozambique"},{"$f":"IF(COUNTRY_INFO!B165=0,\" \",COUNTRY_INFO!B165)","v":"Cidade de Maputo"},{"$f":"IF(COUNTRY_INFO!C165=0,\" \",COUNTRY_INFO!C165)","v":"Kamaxakani"},{"$f":"IF(AND(COUNTRY_INFO!$T$9:$T$1000=\"T3 (ALB/MBD)\",COUNTRY_INFO!$U$9:$U$1000=\"T3 (ALB/MBD)\"), \"T3 (ALB/MBD)\", \" \")","v":" "},null,null,null,null,null,0,null,null,null,0," "," "," "," "]
[{"$f":"IF(COUNTRY_INFO!A166=0,\" \",COUNTRY_INFO!A166)","v":"Mozambique"},{"$f":"IF(COUNTRY_INFO!B166=0,\" \",COUNTRY_INFO!B166)","v":"Cidade de Maputo"},{"$f":"IF(COUNTRY_INFO!C166=0,\" \",COUNTRY_INFO!C166)","v":"Kamavota"},{"$f":"IF(AND(COUNTRY_INFO!$T$9:$T$1000=\"T3 (ALB/MBD)\",COUNTRY_INFO!$U$9:$U$1000=\"T3 (ALB/MBD)\"), \"T3 (ALB/MBD)\", \" \")","v":" "},null,null,null,null,null,0,null,null,null,0," "," "," "," "]
[{"$f":"IF(COUNTRY_INFO!A167=0,\" \",COUNTRY_INFO!A167)","v":"Mozambique"},{"$f":"IF(COUNTRY_INFO!B167=0,\" \",COUNTRY_INFO!B167)","v":"Cidade de Maputo"},{"$f":"IF(COUNTRY_INFO!C167=0,\" \",COUNTRY_INFO!C167)","v":"Kamubukwana"},{"$f":"IF(AND(COUNTRY_INFO!$T$9:$T$1000=\"T3 (ALB/MBD)\",COUNTRY_INFO!$U$9:$U$1000=\"T3 (ALB/MBD)\"), \"T3 (ALB/MBD)\", \" \")","v":" "},null,null,null,null,null,0,null,null,null,0," "," "," "," "]
[{"$f":"IF(COUNTRY_INFO!A168=0,\" \",COUNTRY_INFO!A168)","v":"Mozambique"},{"$f":"IF(COUNTRY_INFO!B168=0,\" \",COUNTRY_INFO!B168)","v":"Cidade de Maputo"},{"$f":"IF(COUNTRY_INFO!C168=0,\" \",COUNTRY_INFO!C168)","v":"Katembe"},{"$f":"IF(AND(COUNTRY_INFO!$T$9:$T$1000=\"T3 (ALB/MBD)\",COUNTRY_INFO!$U$9:$U$1000=\"T3 (ALB/MBD)\"), \"T3 (ALB/MBD)\", \" \")","v":" "},null,null,null,null,null,0,null,null,null,0," "," "," "," "]
[{"$f":"IF(COUNTRY_INFO!A169=0,\" \",COUNTRY_INFO!A169)","v":"Mozambique"},{"$f":"IF(COUNTRY_INFO!B169=0,\" \",COUNTRY_INFO!B169)","v":"Cidade de Maputo"},{"$f":"IF(COUNTRY_INFO!C169=0,\" \",COUNTRY_INFO!C169)","v":"Kanyaca"},{"$f":"IF(AND(COUNTRY_INFO!$T$9:$T$1000=\"T3 (ALB/MBD)\",COUNTRY_INFO!$U$9:$U$1000=\"T3 (ALB/MBD)\"), \"T3 (ALB/MBD)\", \" \")","v":" "},null,null,null,null,null,0,null,null,null,0," "," "," "," "]

{"sheet":"DISTRICT","index":9,"n_rows":169,"n_cols":56,"rows_kept":169,"cut":false,"hidden":false,"merged":[[5,26,5,34],[5,3,6,3],[5,9,6,9],[5,15,6,15],[5,25,6,25],[3,0,3,2],[5,0,5,2],[5,4,5,8],[5,10,5,14],[5,16,5,24]]}
["Number of individuals treated"]
["Administrative structure, population treated by age group and gender"]
[]
["TOTAL",null,null,{"$f":"SUM(D$9:D$1000)","v":18059542.021553796},{"$f":"SUM(E$9:E$1000)","v":0},{"$f":"SUM(F$9:F$1000)","v":0},{"$f":"SUM(G$9:G$1000)","v":8781876.2320523728},{"$f":"SUM(H$9:H$1000)","v":8776517.8801196367},{"$f":"IF(D4>0, IF(H4/D4*100<>0, H4/D4*100, \"-\"),0)","v":48.597676893716311},{"$f":"SUM(J$9:J$1000)","v":0},{"$f":"SUM(K$9:K$1000)","v":0},{"$f":"SUM(L$9:L$1000)","v":0},{"$f":"SUM(M$9:M$1000)","v":8781876.2320523728},{"$f":"SUM(N$9:N$1000)","v":0},{"$f":"IF(J4>0, IF(N4/J4*100<>0, N4/J4*100, \"-\"),0)","v":0},{"$f":"SUM(P$9:P$1000)","v":10862269},{"$f":"SUM(Q$9:Q$1000)","v":2359893},{"$f":"SUM(R$9:R$1000)","v":2482890},{"$f":"SUM(S$9:S$1000)","v":11634198.732052373},{"$f":"SUM(T$9:T$1000)","v":0},null,5507182.5,null,{"$f":"SUM(X$9:X$1000)","v":5507182.5},{"$f":"IF(P4>0, IF(X4/P4*100<>0, X4/P4*100, \"-\"),0)","v":50.700111551279015},{"$f":"SUM(Z$9:Z$1000)","v":15726917.080000002},2172993.5,2361387,5713770.5,3869801.4,null,0,null,3869801.4,{"$f":"IF(Z4>0, IF(AH4/Z4*100<>0, AH4/Z4*100, \"-\"),0)","v":24.606230072397629}]
[]
[null,null,null,"Population requiring PC for LF","Population treated for lymphatic filariasis",null,null,null,null,"Population requiring PC for ONCHO","Population treated for onchocerciasis",null,null,null,null,"Population requiring PC for STH","Population treated for STH",null,null,null,null,null,null,null,null,"Population requiring PC for SCH","Population treated for schistosomiasis",null,null,null,null,null,null,null,null,null,null,null,null,null,null,{"$f":"SUM(AP9:AP1000)","v":523731.48756196297},3263454.7967760782,7940494.0343550788,12126445.897621363,{"$f":"SUM(AT9:AT1000)","v":23854126.216314491},{"$f":"COUNTIF(AU9:AU1000,\"Y\")","v":117},{"$f":"SUM(AV9:AV1000)","v":0},{"$error":"#REF!"},4655210.2320523728,{"$f":"SUM(AY9:AY1000)","v":{"$error":"#REF!"}},0,6890783,4655210.2320523728,11540634.880119637,{"$f":"IF(AT6<>0,BC6/AT6,0)","v":0.48380036122332076}]
["Country","Province/State","District",null,"Male","Female","Total treated","Total in need treated","(%)",null,"Male","Female","Total treated","Total in need treated","(%)",null,"Male","Female","Total treated","PreSAC in need treated ","PreSAC (%)","SAC in need treated","SAC (%)","Total in need treated ","(%)",null,"Male","Female","Total treated","SAC in need treated","SAC (%)","Adults in need treated","Adults (%)","Total in need treated ","(%)",null,"LF","ONCHO","STH","SCH-SAC","SCH_Adults","<1","PreSAC","SAC","Adults","Total","Dis","PreSAC","SAC","Adults","Total","PreSAC","SAC","Adults","Total","Coverage"]
[]
[{"$f":"IF(COUNTRY_INFO!A9=0,\" \",COUNTRY_INFO!A9)","v":"Mozambique"},{"$f":"IF(COUNTRY_INFO!B9=0,\" \",COUNTRY_INFO!B9)","v":"Cabo Delgado"},{"$f":"IF(COUNTRY_INFO!C9=0,\" \",COUNTRY_INFO!C9)","v":"Cid. Pemba"},{"$f":"COUNTRY_INFO!L9","v":238679.57495053884},null,null,{"$f":"MAX('MDA1'!M9,'MDA2'!M9)","v":0},{"$f":"IF(AND(COUNTRY_INFO!H9>0,COUNTRY_INFO!H9<4),IF(D9>MAX('MDA1'!M9,'MDA2'!M9),MAX('MDA1'!M9,'MDA2'!M9),D9),0)","v":0},{"$f":"IF(AND(COUNTRY_INFO!H9>0,COUNTRY_INFO!H9<4), IF(G9/D9*100<>0, IF(G9/D9*100>100,100,G9/D9*100), \"-\"),0)","v":"-"},{"$f":"COUNTRY_INFO!M9","v":"Not required"},null,null,{"$f":"MAX('MDA1'!M9,MAX('MDA3'!I9,'MDA3'!L9)+MAX('MDA3'!J9,'MDA3'!M9))","v":0},{"$f":"IF(AND(COUNTRY_INFO!I9>0,COUNTRY_INFO!I9<4),IF(J9>MAX('MDA1'!M9,MAX('MDA3'!I9,'MDA3'!L9)+MAX('MDA3'!J9,'MDA3'!M9)),MAX('MDA1'!M9,MAX('MDA3'!I9,'MDA3'!L9)+MAX('MDA3'!J9,'MDA3'!M9)),J9),0)","v":0},{"$f":"IF(AND(COUNTRY_INFO!I9>0,COUNTRY_INFO!I9<4), IF(M9/J9*100<>0, IF(M9/J9*100>100,100,M9/J9*100), \"-\"),0)","v":0},{"$f":"COUNTRY_INFO!N9","v":94517},null,null,{"$f":"SUM(MAX('MDA2'!J9, 'T1'!L9, MAX(T3_R1!K9, T3_R2!K9)), MAX('MDA1'!K9, 'MDA2'!K9, 'T1'!M9, MAX(T3_R1!L9, T3_R2!L9)), MAX('MDA1'!L9, 'MDA2'!L9, 'T1'!N9, MAX(T3_R1!M9, T3_R2!M9)))","v":0},{"$f":"IF(AND(COUNTRY_INFO!J9>1,COUNTRY_INFO!J9<4),IF(COUNTRY_INFO!E9>MAX('MDA2'!J9,'T1'!L9,MAX(T3_R1!K9,T3_R2!K9)),MAX('MDA2'!J9,'T1'!L9,MAX(T3_R1!K9,T3_R2!K9)),COUNTRY_INFO!E9),0)","v":0},{"$f":"IF(AND(COUNTRY_INFO!J9>1,COUNTRY_INFO!J9<4), IF(T9/COUNTRY_INFO!E9*100<>0, IF(T9/COUNTRY_INFO!E9*100>100,100,T9/COUNTRY_INFO!E9*100), \"-\"),0)","v":"-"},{"$f":"IF(AND(COUNTRY_INFO!J9>1,COUNTRY_INFO!J9<4),IF(COUNTRY_INFO!F9>MAX('MDA1'!K9,'MDA2'!K9,'T1'!M9,MAX(T3_R1!L9,T3_R2!L9)),MAX('MDA1'!K9,'MDA2'!K9,'T1'!M9,MAX(T3_R1!L9,T3_R2!L9)),COUNTRY_INFO!F9),0)","v":0},{"$f":"IF(AND(COUNTRY_INFO!J9>1,COUNTRY_INFO!J9<4), IF(V9/COUNTRY_INFO!F9*100<>0, IF(V9/COUNTRY_INFO!F9*100>100,100,V9/COUNTRY_INFO!F9*100), \"-\"),0)","v":"-"},{"$f":"SUM(T9,V9)","v":0},{"$f":"IF(AND(COUNTRY_INFO!J9>1,COUNTRY_INFO!J9<4), IF(S9/P9*100<>0, IF(X9/P9*100>100,100,X9/P9*100), \"-\"),0)","v":"-"},{"$f":"COUNTRY_INFO!O9","v":22053.9},null,null,{"$f":"MAX('T1'!L9,'T2'!J9)+MAX('T1'!M9,'T2'!K9)+MAX('T1'!N9,'T2'!L9)","v":0},{"$f":"IF(COUNTRY_INFO!K9=1,IF(COUNTRY_INFO!F9*0.33>MAX('T1'!M9,'T2'!K9),MAX('T1'!M9,'T2'!K9),COUNTRY_INFO!F9*0.33),IF(COUNTRY_INFO!K9=2,IF(COUNTRY_INFO!F9*0.5>MAX('T1'!M9,'T2'!K9),MAX('T1'!M9,'T2'!K9),COUNTRY_INFO!F9*0.5),IF(COUNTRY_INFO!K9=3,IF(COUNTRY_INFO!F9>MAX('T1'!M9,'T2'!K9),MAX('T1'!M9,'T2'!K9),COUNTRY_INFO!F9),0)))","v":0},{"$f":"IF(AND(COUNTRY_INFO!K9>0,COUNTRY_INFO!K9<4),IF(Z9>0,IF(COUNTRY_INFO!K9=1, AD9/(COUNTRY_INFO!F9*0.33)*100, IF(COUNTRY_INFO!K9=2, AD9/(COUNTRY_INFO!F9*0.5)*100, IF(COUNTRY_INFO!K9=3, AD9/COUNTRY_INFO!F9*100))),\"-\"),0)","v":0},{"$f":"IF(COUNTRY_INFO!K9=2,IF(COUNTRY_INFO!G9*0.2>MAX('T1'!N9,'T2'!L9),MAX('T1'!N9,'T2'!L9),COUNTRY_INFO!G9*0.2),IF(COUNTRY_INFO!K9=3,IF(COUNTRY_INFO!G9>MAX('T1'!N9,'T2'!L9),MAX('T1'!N9,'T2'!L9),COUNTRY_INFO!G9),0))","v":0},{"$f":"IF(AND(COUNTRY_INFO!K9>0,COUNTRY_INFO!K9<4),IF(Z9>0,IF(COUNTRY_INFO!K9=1, 0, IF(COUNTRY_INFO!K9=2, AF9/(COUNTRY_INFO!G9*0.2)*100, IF(COUNTRY_INFO!K9=3, AF9/COUNTRY_INFO!G9*100))),\"-\"),0)","v":0},{"$f":"SUM(AD9,AF9)","v":0},{"$f":"IF(AND(COUNTRY_INFO!K9>0,COUNTRY_INFO!K9<4), IF(AC9/Z9*100<>0, IF(AH9/Z9*100>100,100,AH9/Z9*100), \"-\"),0)","v":"-"},null,{"$f":"IF(AND(D9<>0, D9<>\"Unknown\",D9<>\"Stopped\",D9<>\"Not required\"),D9/COUNTRY_INFO!D9, 0)","v":1},{"$f":"IF(AND(J9<>0,J9<>\"Unknown\",J9<>\"Stopped\",J9<>\"Not required\"),J9/COUNTRY_INFO!D9, 0)","v":0},{"$f":"IF(AND(P9<>0,P9<>\"Unknown\",P9<>\"Not required\"),P9/(COUNTRY_INFO!E9+COUNTRY_INFO!F9), 0)","v":1},{"$f":"IF(AND(Z9<>0,Z9<>\"Unknown\",Z9<>\"Not required\"),IF(COUNTRY_INFO!K9=1,1,IF(COUNTRY_INFO!K9=2,0.5*COUNTRY_INFO!F9/(0.5*COUNTRY_INFO!F9+0.2*COUNTRY_INFO!G9),IF(COUNTRY_INFO!K9=3,COUNTRY_INFO!F9/(COUNTRY_INFO!F9+COUNTRY_INFO!G9)))),0)","v":1},{"$f":"IF(AND(Z9<>0,Z9<>\"Unknown\",Z9<>\"Not required\"),IF(COUNTRY_INFO!K9=1,0,IF(COUNTRY_INFO!K9=2,0.2*COUNTRY_INFO!G9/(0.5*COUNTRY_INFO!F9+0.2*COUNTRY_INFO!G9),IF(COUNTRY_INFO!K9=3,COUNTRY_INFO!G9/(COUNTRY_INFO!F9+COUNTRY_INFO!G9)))),0)","v":0},{"$f":"MAX(COUNTRY_INFO!D9*AK9*PROFILE!$G$7,COUNTRY_INFO!D9*AL9*PROFILE!$G$7)","v":6921.7707010682952},{"$f":"MAX(COUNTRY_INFO!D9*AK9*PROFILE!$G$8,COUNTRY_INFO!D9*AL9*PROFILE!$G$8,COUNTRY_INFO!D9*AM9*PROFILE!$G$8)","v":27686.790263625699},{"$f":"MAX(COUNTRY_INFO!D9*AK9*PROFILE!$G$9,COUNTRY_INFO!D9*AL9*PROFILE!$G$9,COUNTRY_INFO!D9*AM9*PROFILE!$G$9,IF(AND(DISTRICT!Z9<>\"Unknown\",Z9<>\"Not required\"),COUNTRY_INFO!O9*DISTRICT!AN9,0))","v":66830.247315364177},{"$f":"MAX(COUNTRY_INFO!D9*AK9*PROFILE!$G$10,COUNTRY_INFO!D9*AL9*PROFILE!$G$10,IF(AND(DISTRICT!Z9<>\"Unknown\",Z9<>\"Not required\"),COUNTRY_INFO!O9*DISTRICT!AO9,0))","v":137240.76667048066},{"$f":"SUM(AP9:AS9)","v":238679.57495053884},{"$f":"IF(COUNTIFS(AK9:AN9,\">0\")=0,0, IF(COUNTIFS(AK9:AN9,\">0\")<=IF(AND(OR(D9>=0,D9=\"Not required\",D9=\"Unknown\",D9=\"Stopped\"),D9>0,H9>0),1,0)+IF(AND(OR(J9>=0,J9=\"Not required\",J9=\"Unknown\",J9=\"Stopped\"),J9>0,N9>0),1,0)+IF(AND(OR(P9>=0,P9=\"Not required\",P9=\"Unknown\"),P9>0,X9>0),1,0)+IF(AND(OR(Z9>=0,Z9=\"Not required\",Z9=\"Unknown\"),Z9>0,AH9>0),1,0),\"Y\",0))","v":0},{"$f":"MAX('MDA2'!J9,'T1'!L9,'T2'!J9,T3_R1!K9,T3_R2!K9)","v":0},{"$f":"MAX('MDA1'!K9,'MDA2'!K9,'MDA3'!I9,'MDA3'!L9,'T1'!M9,'T2'!K9,T3_R1!L9,T3_R2!L9)","v":0},{"$f":"MAX('MDA1'!L9,'MDA2'!L9,'MDA3'!J9,'MDA3'!M9,'T1'!N9,'T2'!L9,T3_R1!M9,T3_R2!M9)","v":0},{"$f":"SUM(AV9:AX9)","v":0},{"$f":"MAX('MDA2'!J9,T9)","v":0},{"$f":"MAX('MDA1'!K9,'MDA2'!K9,'MDA3'!I9,'MDA3'!L9,V9,AD9)","v":0},{"$f":"MAX('MDA1'!L9,'MDA2'!L9,'MDA3'!J9,'MDA3'!M9,AF9)","v":0},{"$f":"IF(AT9<SUM(AZ9:BB9), AT9,SUM(AZ9:BB9))","v":0},{"$f":"IF(AT9<>0,BC9/AT9*100,0)","v":0}]
[{"$f":"IF(COUNTRY_INFO!A10=0,\" \",COUNTRY_INFO!A10)","v":"Mozambique"},{"$f":"IF(COUNTRY_INFO!B10=0,\" \",COUNTRY_INFO!B10)","v":"Cabo Delgado"},{"$f":"IF(COUNTRY_INFO!C10=0,\" \",COUNTRY_INFO!C10)","v":"Ancuabe"},{"$f":"COUNTRY_INFO!L10","v":124186.22527155356},null,null,{"$f":"MAX('MDA1'!M10,'MDA2'!M10)","v":0},{"$f":"IF(AND(COUNTRY_INFO!H10>0,COUNTRY_INFO!H10<4),IF(D10>MAX('MDA1'!M10,'MDA2'!M10),MAX('MDA1'!M10,'MDA2'!M10),D10),0)","v":0},{"$f":"IF(AND(COUNTRY_INFO!H10>0,COUNTRY_INFO!H10<4), IF(G10/D10*100<>0, IF(G10/D10*100>100,100,G10/D10*100), \"-\"),0)","v":"-"},{"$f":"COUNTRY_INFO!M10","v":"Not required"},null,null,{"$f":"MAX('MDA1'!M10,MAX('MDA3'!I10,'MDA3'!L10)+MAX('MDA3'!J10,'MDA3'!M10))","v":0},{"$f":"IF(AND(COUNTRY_INFO!I10>0,COUNTRY_INFO!I10<4),IF(J10>MAX('MDA1'!M10,MAX('MDA3'!I10,'MDA3'!L10)+MAX('MDA3'!J10,'MDA3'!M10)),MAX('MDA1'!M10,MAX('MDA3'!I10,'MDA3'!L10)+MAX('MDA3'!J10,'MDA3'!M10)),J10),0)","v":0},{"$f":"IF(AND(COUNTRY_INFO!I10>0,COUNTRY_INFO!I10<4), IF(M10/J10*100<>0, IF(M10/J10*100>100,100,M10/J10*100), \"-\"),0)","v":0},{"$f":"COUNTRY_INFO!N10","v":49178},null,null,{"$f":"SUM(MAX('MDA2'!J10, 'T1'!L10, MAX(T3_R1!K10, T3_R2!K10)), MAX('MDA1'!K10, 'MDA2'!K10, 'T1'!M10, MAX(T3_R1!L10, T3_R2!L10)), MAX('MDA1'!L10, 'MDA2'!L10, 'T1'!N10, MAX(T3_R1!M10, T3_R2!M10)))","v":0},{"$f":"IF(AND(COUNTRY_INFO!J10>1,COUNTRY_INFO!J10<4),IF(COUNTRY_INFO!E10>MAX('MDA2'!J10,'T1'!L10,MAX(T3_R1!K10,T3_R2!K10)),MAX('MDA2'!J10,'T1'!L10,MAX(T3_R1!K10,T3_R2!K10)),COUNTRY_INFO!E10),0)","v":0},{"$f":"IF(AND(COUNTRY_INFO!J10>1,COUNTRY_INFO!J10<4), IF(T10/COUNTRY_INFO!E10*100<>0, IF(T10/COUNTRY_INFO!E10*100>100,100,T10/COUNTRY_INFO!E10*100), \"-\"),0)","v":"-"},{"$f":"IF(AND(COUNTRY_INFO!J10>1,COUNTRY_INFO!J10<4),IF(COUNTRY_INFO!F10>MAX('MDA1'!K10,'MDA2'!K10,'T1'!M10,MAX(T3_R1!L10,T3_R2!L10)),MAX('MDA1'!K10,'MDA2'!K10,'T1'!M10,MAX(T3_R1!L10,T3_R2!L10)),COUNTRY_INFO!F10),0)","v":0},{"$f":"IF(AND(COUNTRY_INFO!J10>1,COUNTRY_INFO!J10<4), IF(V10/COUNTRY_INFO!F10*100<>0, IF(V10/COUNTRY_INFO!F10*100>100,100,V10/COUNTRY_INFO!F10*100), \"-\"),0)","v":"-"},{"$f":"SUM(T10,V10)","v":0},{"$f":"IF(AND(COUNTRY_INFO!J10>1,COUNTRY_INFO!J10<4), IF(S10/P10*100<>0, IF(X10/P10*100>100,100,X10/P10*100), \"-\"),0)","v":"-"},{"$f":"COUNTRY_INFO!O10","v":106179},null,null,{"$f":"MAX('T1'!L10,'T2'!J10)+MAX('T1'!M10,'T2'!K10)+MAX('T1'!N10,'T2'!L10)","v":0},{"$f":"IF(COUNTRY_INFO!K10=1,IF(COUNTRY_INFO!F10*0.33>MAX('T1'!M10,'T2'!K10),MAX('T1'!M10,'T2'!K10),COUNTRY_INFO!F10*0.33),IF(COUNTRY_INFO!K10=2,IF(COUNTRY_INFO!F10*0.5>MAX('T1'!M10,'T2'!K10),MAX('T1'!M10,'T2'!K10),COUNTRY_INFO!F10*0.5),IF(COUNTRY_INFO!K10=3,IF(COUNTRY_INFO!F10>MAX('T1'!M10,'T2'!K10),MAX('T1'!M10,'T2'!K10),COUNTRY_INFO!F10),0)))","v":0},{"$f":"IF(AND(COUNTRY_INFO!K10>0,COUNTRY_INFO!K10<4),IF(Z10>0,IF(COUNTRY_INFO!K10=1, AD10/(COUNTRY_INFO!F10*0.33)*100, IF(COUNTRY_INFO!K10=2, AD10/(COUNTRY_INFO!F10*0.5)*100, IF(COUNTRY_INFO!K10=3, AD10/COUNTRY_INFO!F10*100))),\"-\"),0)","v":0},{"$f":"IF(COUNTRY_INFO!K10=2,IF(COUNTRY_INFO!G10*0.2>MAX('T1'!N10,'T2'!L10),MAX('T1'!N10,'T2'!L10),COUNTRY_INFO!G10*0.2),IF(COUNTRY_INFO!K10=3,IF(COUNTRY_INFO!G10>MAX('T1'!N10,'T2'!L10),MAX('T1'!N10,'T2'!L10),COUNTRY_INFO!G10),0))","v":0},{"$f":"IF(AND(COUNTRY_INFO!K10>0,COUNTRY_INFO!K10<4),IF(Z10>0,IF(COUNTRY_INFO!K10=1, 0, IF(COUNTRY_INFO!K10=2, AF10/(COUNTRY_INFO!G10*0.2)*100, IF(COUNTRY_INFO!K10=3, AF10/COUNTRY_INFO!G10*100))),\"-\"),0)","v":0},{"$f":"SUM(AD10,AF10)","v":0},{"$f":"IF(AND(COUNTRY_INFO!K10>0,COUNTRY_INFO!K10<4), IF(AC10/Z10*100<>0, IF(AH10/Z10*100>100,100,AH10/Z10*100), \"-\"),0)","v":"-"},null,{"$f":"IF(AND(D10<>0, D10<>\"Unknown\",D10<>\"Stopped\",D10<>\"Not required\"),D10/COUNTRY_INFO!D10, 0)","v":1},{"$f":"IF(AND(J10<>0,J10<>\"Unknown\",J10<>\"Stopped\",J10<>\"Not required\"),J10/COUNTRY_INFO!D10, 0)","v":0},{"$f":"IF(AND(P10<>0,P10<>\"Unknown\",P10<>\"Not required\"),P10/(COUNTRY_INFO!E10+COUNTRY_INFO!F10), 0)","v":1},{"$f":"IF(AND(Z10<>0,Z10<>\"Unknown\",Z10<>\"Not required\"),IF(COUNTRY_INFO!K10=1,1,IF(COUNTRY_INFO!K10=2,0.5*COUNTRY_INFO!F10/(0.5*COUNTRY_INFO!F10+0.2*COUNTRY_INFO!G10),IF(COUNTRY_INFO!K10=3,COUNTRY_INFO!F10/(COUNTRY_INFO!F10+COUNTRY_INFO!G10)))),0)","v":0.32748471920059524},{"$f":"IF(AND(Z10<>0,Z10<>\"Unknown\",Z10<>\"Not required\"),IF(COUNTRY_INFO!K10=1,0,IF(COUNTRY_INFO!K10=2,0.2*COUNTRY_INFO!G10/(0.5*COUNTRY_INFO!F10+0.2*COUNTRY_INFO!G10),IF(COUNTRY_INFO!K10=3,COUNTRY_INFO!G10/(COUNTRY_INFO!F10+COUNTRY_INFO!G10)))),0)","v":0.67251528079940481},{"$f":"MAX(COUNTRY_INFO!D10*AK10*PROFILE!$G$7,COUNTRY_INFO!D10*AL10*PROFILE!$G$7)","v":3601.4333264127758},{"$f":"MAX(COUNTRY_INFO!D10*AK10*PROFILE!$G$8,COUNTRY_INFO!D10*AL10*PROFILE!$G$8,COUNTRY_INFO!D10*AM10*PROFILE!$G$8)","v":14405.581095229423},{"$f":"MAX(COUNTRY_INFO!D10*AK10*PROFILE!$G$9,COUNTRY_INFO!D10*AL10*PROFILE!$G$9,COUNTRY_INFO!D10*AM10*PROFILE!$G$9,IF(AND(DISTRICT!Z10<>\"Unknown\",Z10<>\"Not required\"),COUNTRY_INFO!O10*DISTRICT!AN10,0))","v":34772.125556949402},{"$f":"MAX(COUNTRY_INFO!D10*AK10*PROFILE!$G$10,COUNTRY_INFO!D10*AL10*PROFILE!$G$10,IF(AND(DISTRICT!Z10<>\"Unknown\",Z10<>\"Not required\"),COUNTRY_INFO!O10*DISTRICT!AO10,0))","v":71407.085292961958},{"$f":"SUM(AP10:AS10)","v":124186.22527155356},0,{"$f":"MAX('MDA2'!J10,'T1'!L10,'T2'!J10,T3_R1!K10,T3_R2!K10)","v":0},{"$f":"MAX('MDA1'!K10,'MDA2'!K10,'MDA3'!I10,'MDA3'!L10,'T1'!M10,'T2'!K10,T3_R1!L10,T3_R2!L10)","v":0},{"$f":"MAX('MDA1'!L10,'MDA2'!L10,'MDA3'!J10,'MDA3'!M10,'T1'!N10,'T2'!L10,T3_R1!M10,T3_R2!M10)","v":0},{"$f":"SUM(AV10:AX10)","v":0},{"$f":"MAX('MDA2'!J10,T10)","v":0},{"$f":"MAX('MDA1'!K10,'MDA2'!K10,'MDA3'!I10,'MDA3'!L10,V10,AD10)","v":0},{"$f":"MAX('MDA1'!L10,'MDA2'!L10,'MDA3'!J10,'MDA3'!M10,AF10)","v":0},0,0]
[{"$f":"IF(COUNTRY_INFO!A11=0,\" \",COUNTRY_INFO!A11)","v":"Mozambique"},{"$f":"IF(COUNTRY_INFO!B11=0,\" \",COUNTRY_INFO!B11)","v":"Cabo Delgado"},{"$f":"IF(COUNTRY_INFO!C11=0,\" \",COUNTRY_INFO!C11)","v":"Balama"},{"$f":"COUNTRY_INFO!L11","v":147681.71688970109},null,null,{"$f":"MAX('MDA1'!M11,'MDA2'!M11)","v":0},{"$f":"IF(AND(COUNTRY_INFO!H11>0,COUNTRY_INFO!H11<4),IF(D11>MAX('MDA1'!M11,'MDA2'!M11),MAX('MDA1'!M11,'MDA2'!M11),D11),0)","v":0},{"$f":"IF(AND(COUNTRY_INFO!H11>0,COUNTRY_INFO!H11<4), IF(G11/D11*100<>0, IF(G11/D11*100>100,100,G11/D11*100), \"-\"),0)","v":"-"},{"$f":"COUNTRY_INFO!M11","v":"Not required"},null,null,{"$f":"MAX('MDA1'!M11,MAX('MDA3'!I11,'MDA3'!L11)+MAX('MDA3'!J11,'MDA3'!M11))","v":0},{"$f":"IF(AND(COUNTRY_INFO!I11>0,COUNTRY_INFO!I11<4),IF(J11>MAX('MDA1'!M11,MAX('MDA3'!I11,'MDA3'!L11)+MAX('MDA3'!J11,'MDA3'!M11)),MAX('MDA1'!M11,MAX('MDA3'!I11,'MDA3'!L11)+MAX('MDA3'!J11,'MDA3'!M11)),J11),0)","v":0},{"$f":"IF(AND(COUNTRY_INFO!I11>0,COUNTRY_INFO!I11<4), IF(M11/J11*100<>0, IF(M11/J11*100>100,100,M11/J11*100), \"-\"),0)","v":0},{"$f":"COUNTRY_INFO!N11","v":58482},null,null,{"$f":"SUM(MAX('MDA2'!J11, 'T1'!L11, MAX(T3_R1!K11, T3_R2!K11)), MAX('MDA1'!K11, 'MDA2'!K11, 'T1'!M11, MAX(T3_R1!L11, T3_R2!L11)), MAX('MDA1'!L11, 'MDA2'!L11, 'T1'!N11, MAX(T3_R1!M11, T3_R2!M11)))","v":0},{"$f":"IF(AND(COUNTRY_INFO!J11>1,COUNTRY_INFO!J11<4),IF(COUNTRY_INFO!E11>MAX('MDA2'!J11,'T1'!L11,MAX(T3_R1!K11,T3_R2!K11)),MAX('MDA2'!J11,'T1'!L11,MAX(T3_R1!K11,T3_R2!K11)),COUNTRY_INFO!E11),0)","v":0},{"$f":"IF(AND(COUNTRY_INFO!J11>1,COUNTRY_INFO!J11<4), IF(T11/COUNTRY_INFO!E11*100<>0, IF(T11/COUNTRY_INFO!E11*100>100,100,T11/COUNTRY_INFO!E11*100), \"-\"),0)","v":"-"},{"$f":"IF(AND(COUNTRY_INFO!J11>1,COUNTRY_INFO!J11<4),IF(COUNTRY_INFO!F11>MAX('MDA1'!K11,'MDA2'!K11,'T1'!M11,MAX(T3_R1!L11,T3_R2!L11)),MAX('MDA1'!K11,'MDA2'!K11,'T1'!M11,MAX(T3_R1!L11,T3_R2!L11)),COUNTRY_INFO!F11),0)","v":0},{"$f":"IF(AND(COUNTRY_INFO!J11>1,COUNTRY_INFO!J11<4), IF(V11/COUNTRY_INFO!F11*100<>0, IF(V11/COUNTRY_INFO!F11*100>100,100,V11/COUNTRY_INFO!F11*100), \"-\"),0)","v":"-"},0,{"$f":"IF(AND(COUNTRY_INFO!J11>1,COUNTRY_INFO!J11<4), IF(S11/P11*100<>0, IF(X11/P11*100>100,100,X11/P11*100), \"-\"),0)","v":"-"},{"$f":"COUNTRY_INFO!O11","v":126268},null,null,{"$f":"MAX('T1'!L11,'T2'!J11)+MAX('T1'!M11,'T2'!K11)+MAX('T1'!N11,'T2'!L11)","v":0},{"$f":"IF(COUNTRY_INFO!K11=1,IF(COUNTRY_INFO!F11*0.33>MAX('T1'!M11,'T2'!K11),MAX('T1'!M11,'T2'!K11),COUNTRY_INFO!F11*0.33),IF(COUNTRY_INFO!K11=2,IF(COUNTRY_INFO!F11*0.5>MAX('T1'!M11,'T2'!K11),MAX('T1'!M11,'T2'!K11),COUNTRY_INFO!F11*0.5),IF(COUNTRY_INFO!K11=3,IF(COUNTRY_INFO!F11>MAX('T1'!M11,'T2'!K11),MAX('T1'!M11,'T2'!K11),COUNTRY_INFO!F11),0)))","v":0},{"$f":"IF(AND(COUNTRY_INFO!K11>0,COUNTRY_INFO!K11<4),IF(Z11>0,IF(COUNTRY_INFO!K11=1, AD11/(COUNTRY_INFO!F11*0.33)*100, IF(COUNTRY_INFO!K11=2, AD11/(COUNTRY_INFO!F11*0.5)*100, IF(COUNTRY_INFO!K11=3, AD11/COUNTRY_INFO!F11*100))),\"-\"),0)","v":0},{"$f":"IF(COUNTRY_INFO!K11=2,IF(COUNTRY_INFO!G11*0.2>MAX('T1'!N11,'T2'!L11),MAX('T1'!N11,'T2'!L11),COUNTRY_INFO!G11*0.2),IF(COUNTRY_INFO!K11=3,IF(COUNTRY_INFO!G11>MAX('T1'!N11,'T2'!L11),MAX('T1'!N11,'T2'!L11),COUNTRY_INFO!G11),0))","v":0},{"$f":"IF(AND(COUNTRY_INFO!K11>0,COUNTRY_INFO!K11<4),IF(Z11>0,IF(COUNTRY_INFO!K11=1, 0, IF(COUNTRY_INFO!K11=2, AF11/(COUNTRY_INFO!G11*0.2)*100, IF(COUNTRY_INFO!K11=3, AF11/COUNTRY_INFO!G11*100))),\"-\"),0)","v":0},0,{"$f":"IF(AND(COUNTRY_INFO!K11>0,COUNTRY_INFO!K11<4), IF(AC11/Z11*100<>0, IF(AH11/Z11*100>100,100,AH11/Z11*100), \"-\"),0)","v":"-"},null,{"$f":"IF(AND(D11<>0, D11<>\"Unknown\",D11<>\"Stopped\",D11<>\"Not required\"),D11/COUNTRY_INFO!D11, 0)","v":1},{"$f":"IF(AND(J11<>0,J11<>\"Unknown\",J11<>\"Stopped\",J11<>\"Not required\"),J11/COUNTRY_INFO!D11, 0)","v":0},{"$f":"IF(AND(P11<>0,P11<>\"Unknown\",P11<>\"Not required\"),P11/(COUNTRY_INFO!E11+COUNTRY_INFO!F11), 0)","v":1},{"$f":"IF(AND(Z11<>0,Z11<>\"Unknown\",Z11<>\"Not required\"),IF(COUNTRY_INFO!K11=1,1,IF(COUNTRY_INFO!K11=2,0.5*COUNTRY_INFO!F11/(0.5*COUNTRY_INFO!F11+0.2*COUNTRY_INFO!G11),IF(COUNTRY_INFO!K11=3,COUNTRY_INFO!F11/(COUNTRY_INFO!F11+COUNTRY_INFO!G11)))),0)","v":0.32748598219659769},{"$f":"IF(AND(Z11<>0,Z11<>\"Unknown\",Z11<>\"Not required\"),IF(COUNTRY_INFO!K11=1,0,IF(COUNTRY_INFO!K11=2,0.2*COUNTRY_INFO!G11/(0.5*COUNTRY_INFO!F11+0.2*COUNTRY_INFO!G11),IF(COUNTRY_INFO!K11=3,COUNTRY_INFO!G11/(COUNTRY_INFO!F11+COUNTRY_INFO!G11)))),0)","v":0.67251401780340225},{"$f":"MAX(COUNTRY_INFO!D11*AK11*PROFILE!$G$7,COUNTRY_INFO!D11*AL11*PROFILE!$G$7)","v":4282.8087877332127},{"$f":"MAX(COUNTRY_INFO!D11*AK11*PROFILE!$G$8,COUNTRY_INFO!D11*AL11*PROFILE!$G$8,COUNTRY_INFO!D11*AM11*PROFILE!$G$8)","v":17131.054142963949},{"$f":"MAX(COUNTRY_INFO!D11*AK11*PROFILE!$G$9,COUNTRY_INFO!D11*AL11*PROFILE!$G$9,COUNTRY_INFO!D11*AM11*PROFILE!$G$9,IF(AND(DISTRICT!Z11<>\"Unknown\",Z11<>\"Not required\"),COUNTRY_INFO!O11*DISTRICT!AN11,0))","v":41351},{"$f":"MAX(COUNTRY_INFO!D11*AK11*PROFILE!$G$10,COUNTRY_INFO!D11*AL11*PROFILE!$G$10,IF(AND(DISTRICT!Z11<>\"Unknown\",Z11<>\"Not required\"),COUNTRY_INFO!O11*DISTRICT!AO11,0))","v":84917},147681.86293069716,0,{"$f":"MAX('MDA2'!J11,'T1'!L11,'T2'!J11,T3_R1!K11,T3_R2!K11)","v":0},{"$f":"MAX('MDA1'!K11,'MDA2'!K11,'MDA3'!I11,'MDA3'!L11,'T1'!M11,'T2'!K11,T3_R1!L11,T3_R2!L11)","v":0},{"$f":"MAX('MDA1'!L11,'MDA2'!L11,'MDA3'!J11,'MDA3'!M11,'T1'!N11,'T2'!L11,T3_R1!M11,T3_R2!M11)","v":0},0,{"$f":"MAX('MDA2'!J11,T11)","v":0},{"$f":"MAX('MDA1'!K11,'MDA2'!K11,'MDA3'!I11,'MDA3'!L11,V11,AD11)","v":0},{"$f":"MAX('MDA1'!L11,'MDA2'!L11,'MDA3'!J11,'MDA3'!M11,AF11)","v":0},0,0]
[{"$f":"IF(COUNTRY_INFO!A12=0,\" \",COUNTRY_INFO!A12)","v":"Mozambique"},{"$f":"IF(COUNTRY_INFO!B12=0,\" \",COUNTRY_INFO!B12)","v":"Cabo Delgado"},{"$f":"IF(COUNTRY_INFO!C12=0,\" \",COUNTRY_INFO!C12)","v":"Chiure"},{"$f":"COUNTRY_INFO!L12","v":260658.85493739988},null,null,{"$f":"MAX('MDA1'!M12,'MDA2'!M12)","v":0},{"$f":"IF(AND(COUNTRY_INFO!H12>0,COUNTRY_INFO!H12<4),IF(D12>MAX('MDA1'!M12,'MDA2'!M12),MAX('MDA1'!M12,'MDA2'!M12),D12),0)","v":0},{"$f":"IF(AND(COUNTRY_INFO!H12>0,COUNTRY_INFO!H12<4), IF(G12/D12*100<>0, IF(G12/D12*100>100,100,G12/D12*100), \"-\"),0)","v":"-"},{"$f":"COUNTRY_INFO!M12","v":"Not required"},null,null,{"$f":"MAX('MDA1'!M12,MAX('MDA3'!I12,'MDA3'!L12)+MAX('MDA3'!J12,'MDA3'!M12))","v":0},{"$f":"IF(AND(COUNTRY_INFO!I12>0,COUNTRY_INFO!I12<4),IF(J12>MAX('MDA1'!M12,MAX('MDA3'!I12,'MDA3'!L12)+MAX('MDA3'!J12,'MDA3'!M12)),MAX('MDA1'!M12,MAX('MDA3'!I12,'MDA3'!L12)+MAX('MDA3'!J12,'MDA3'!M12)),J12),0)","v":0},{"$f":"IF(AND(COUNTRY_INFO!I12>0,COUNTRY_INFO!I12<4), IF(M12/J12*100<>0, IF(M12/J12*100>100,100,M12/J12*100), \"-\"),0)","v":0},{"$f":"COUNTRY_INFO!N12","v":103220},null,null,{"$f":"SUM(MAX('MDA2'!J12, 'T1'!L12, MAX(T3_R1!K12, T3_R2!K12)), MAX('MDA1'!K12, 'MDA2'!K12, 'T1'!M12, MAX(T3_R1!L12, T3_R2!L12)), MAX('MDA1'!L12, 'MDA2'!L12, 'T1'!N12, MAX(T3_R1!M12, T3_R2!M12)))","v":0},{"$f":"IF(AND(COUNTRY_INFO!J12>1,COUNTRY_INFO!J12<4),IF(COUNTRY_INFO!E12>MAX('MDA2'!J12,'T1'!L12,MAX(T3_R1!K12,T3_R2!K12)),MAX('MDA2'!J12,'T1'!L12,MAX(T3_R1!K12,T3_R2!K12)),COUNTRY_INFO!E12),0)","v":0},{"$f":"IF(AND(COUNTRY_INFO!J12>1,COUNTRY_INFO!J12<4), IF(T12/COUNTRY_INFO!E12*100<>0, IF(T12/COUNTRY_INFO!E12*100>100,100,T12/COUNTRY_INFO!E12*100), \"-\"),0)","v":"-"},{"$f":"IF(AND(COUNTRY_INFO!J12>1,COUNTRY_INFO!J12<4),IF(COUNTRY_INFO!F12>MAX('MDA1'!K12,'MDA2'!K12,'T1'!M12,MAX(T3_R1!L12,T3_R2!L12)),MAX('MDA1'!K12,'MDA2'!K12,'T1'!M12,MAX(T3_R1!L12,T3_R2!L12)),COUNTRY_INFO!F12),0)","v":0},{"$f":"IF(AND(COUNTRY_INFO!J12>1,COUNTRY_INFO!J12<4), IF(V12/COUNTRY_INFO!F12*100<>0, IF(V12/COUNTRY_INFO!F12*100>100,100,V12/COUNTRY_INFO!F12*100), \"-\"),0)","v":"-"},0,{"$f":"IF(AND(COUNTRY_INFO!J12>1,COUNTRY_INFO!J12<4), IF(S12/P12*100<>0, IF(X12/P12*100>100,100,X12/P12*100), \"-\"),0)","v":"-"},{"$f":"COUNTRY_INFO!O12","v":222863},null,null,{"$f":"MAX('T1'!L12,'T2'!J12)+MAX('T1'!M12,'T2'!K12)+MAX('T1'!N12,'T2'!L12)","v":0},{"$f":"IF(COUNTRY_INFO!K12=1,IF(COUNTRY_INFO!F12*0.33>MAX('T1'!M12,'T2'!K12),MAX('T1'!M12,'T2'!K12),COUNTRY_INFO!F12*0.33),IF(COUNTRY_INFO!K12=2,IF(COUNTRY_INFO!F12*0.5>MAX('T1'!M12,'T2'!K12),MAX('T1'!M12,'T2'!K12),COUNTRY_INFO!F12*0.5),IF(COUNTRY_INFO!K12=3,IF(COUNTRY_INFO!F12>MAX('T1'!M12,'T2'!K12),MAX('T1'!M12,'T2'!K12),COUNTRY_INFO!F12),0)))","v":0},{"$f":"IF(AND(COUNTRY_INFO!K12>0,COUNTRY_INFO!K12<4),IF(Z12>0,IF(COUNTRY_INFO!K12=1, AD12/(COUNTRY_INFO!F12*0.33)*100, IF(COUNTRY_INFO!K12=2, AD12/(COUNTRY_INFO!F12*0.5)*100, IF(COUNTRY_INFO!K12=3, AD12/COUNTRY_INFO!F12*100))),\"-\"),0)","v":0},{"$f":"IF(COUNTRY_INFO!K12=2,IF(COUNTRY_INFO!G12*0.2>MAX('T1'!N12,'T2'!L12),MAX('T1'!N12,'T2'!L12),COUNTRY_INFO!G12*0.2),IF(COUNTRY_INFO!K12=3,IF(COUNTRY_INFO!G12>MAX('T1'!N12,'T2'!L12),MAX('T1'!N12,'T2'!L12),COUNTRY_INFO!G12),0))","v":0},{"$f":"IF(AND(COUNTRY_INFO!K12>0,COUNTRY_INFO!K12<4),IF(Z12>0,IF(COUNTRY_INFO!K12=1, 0, IF(COUNTRY_INFO!K12=2, AF12/(COUNTRY_INFO!G12*0.2)*100, IF(COUNTRY_INFO!K12=3, AF12/COUNTRY_INFO!G12*100))),\"-\"),0)","v":0},0,{"$f":"IF(AND(COUNTRY_INFO!K12>0,COUNTRY_INFO!K12<4), IF(AC12/Z12*100<>0, IF(AH12/Z12*100>100,100,AH12/Z12*100), \"-\"),0)","v":"-"},null,{"$f":"IF(AND(D12<>0, D12<>\"Unknown\",D12<>\"Stopped\",D12<>\"Not required\"),D12/COUNTRY_INFO!D12, 0)","v":1},{"$f":"IF(AND(J12<>0,J12<>\"Unknown\",J12<>\"Stopped\",J12<>\"Not required\"),J12/COUNTRY_INFO!D12, 0)","v":0},{"$f":"IF(AND(P12<>0,P12<>\"Unknown\",P12<>\"Not required\"),P12/(COUNTRY_INFO!E12+COUNTRY_INFO!F12), 0)","v":1},{"$f":"IF(AND(Z12<>0,Z12<>\"Unknown\",Z12<>\"Not required\"),IF(COUNTRY_INFO!K12=1,1,IF(COUNTRY_INFO!K12=2,0.5*COUNTRY_INFO!F12/(0.5*COUNTRY_INFO!F12+0.2*COUNTRY_INFO!G12),IF(COUNTRY_INFO!K12=3,COUNTRY_INFO!F12/(COUNTRY_INFO!F12+COUNTRY_INFO!G12)))),0)","v":0.32748370074889055},{"$f":"IF(AND(Z12<>0,Z12<>\"Unknown\",Z12<>\"Not required\"),IF(COUNTRY_INFO!K12=1,0,IF(COUNTRY_INFO!K12=2,0.2*COUNTRY_INFO!G12/(0.5*COUNTRY_INFO!F12+0.2*COUNTRY_INFO!G12),IF(COUNTRY_INFO!K12=3,COUNTRY_INFO!G12/(COUNTRY_INFO!F12+COUNTRY_INFO!G12)))),0)","v":0.67251629925110945},{"$f":"MAX(COUNTRY_INFO!D12*AK12*PROFILE!$G$7,COUNTRY_INFO!D12*AL12*PROFILE!$G$7)","v":7559.1756246993109},{"$f":"MAX(COUNTRY_INFO!D12*AK12*PROFILE!$G$8,COUNTRY_INFO!D12*AL12*PROFILE!$G$8,COUNTRY_INFO!D12*AM12*PROFILE!$G$8)","v":30236.38301896655},{"$f":"MAX(COUNTRY_INFO!D12*AK12*PROFILE!$G$9,COUNTRY_INFO!D12*AL12*PROFILE!$G$9,COUNTRY_INFO!D12*AM12*PROFILE!$G$9,IF(AND(DISTRICT!Z12<>\"Unknown\",Z12<>\"Not required\"),COUNTRY_INFO!O12*DISTRICT!AN12,0))","v":72984.442611044389},{"$f":"MAX(COUNTRY_INFO!D12*AK12*PROFILE!$G$10,COUNTRY_INFO!D12*AL12*PROFILE!$G$10,IF(AND(DISTRICT!Z12<>\"Unknown\",Z12<>\"Not required\"),COUNTRY_INFO!O12*DISTRICT!AO12,0))","v":149879},260659.00125471025,0,{"$f":"MAX('MDA2'!J12,'T1'!L12,'T2'!J12,T3_R1!K12,T3_R2!K12)","v":0},{"$f":"MAX('MDA1'!K12,'MDA2'!K12,'MDA3'!I12,'MDA3'!L12,'T1'!M12,'T2'!K12,T3_R1!L12,T3_R2!L12)","v":0},{"$f":"MAX('MDA1'!L12,'MDA2'!L12,'MDA3'!J12,'MDA3'!M12,'T1'!N12,'T2'!L12,T3_R1!M12,T3_R2!M12)","v":0},0,{"$f":"MAX('MDA2'!J12,T12)","v":0},{"$f":"MAX('MDA1'!K12,'MDA2'!K12,'MDA3'!I12,'MDA3'!L12,V12,AD12)","v":0},{"$f":"MAX('MDA1'!L12,'MDA2'!L12,'MDA3'!J12,'MDA3'!M12,AF12)","v":0},0,0]
[{"$f":"IF(COUNTRY_INFO!A13=0,\" \",COUNTRY_INFO!A13)","v":"Mozambique"},{"$f":"IF(COUNTRY_INFO!B13=0,\" \",COUNTRY_INFO!B13)","v":"Cabo Delgado"},{"$f":"IF(COUNTRY_INFO!C13=0,\" \",COUNTRY_INFO!C13)","v":"Ibo"},{"$f":"COUNTRY_INFO!L13","v":13084.411204714805},null,null,{"$f":"MAX('MDA1'!M13,'MDA2'!M13)","v":0},{"$f":"IF(AND(COUNTRY_INFO!H13>0,COUNTRY_INFO!H13<4),IF(D13>MAX('MDA1'!M13,'MDA2'!M13),MAX('MDA1'!M13,'MDA2'!M13),D13),0)","v":0},{"$f":"IF(AND(COUNTRY_INFO!H13>0,COUNTRY_INFO!H13<4), IF(G13/D13*100<>0, IF(G13/D13*100>100,100,G13/D13*100), \"-\"),0)","v":"-"},{"$f":"COUNTRY_INFO!M13","v":"Not required"},null,null,{"$f":"MAX('MDA1'!M13,MAX('MDA3'!I13,'MDA3'!L13)+MAX('MDA3'!J13,'MDA3'!M13))","v":0},{"$f":"IF(AND(COUNTRY_INFO!I13>0,COUNTRY_INFO!I13<4),IF(J13>MAX('MDA1'!M13,MAX('MDA3'!I13,'MDA3'!L13)+MAX('MDA3'!J13,'MDA3'!M13)),MAX('MDA1'!M13,MAX('MDA3'!I13,'MDA3'!L13)+MAX('MDA3'!J13,'MDA3'!M13)),J13),0)","v":0},{"$f":"IF(AND(COUNTRY_INFO!I13>0,COUNTRY_INFO!I13<4), IF(M13/J13*100<>0, IF(M13/J13*100>100,100,M13/J13*100), \"-\"),0)","v":0},{"$f":"COUNTRY_INFO!N13","v":5182},null,null,{"$f":"SUM(MAX('MDA2'!J13, 'T1'!L13, MAX(T3_R1!K13, T3_R2!K13)), MAX('MDA1'!K13, 'MDA2'!K13, 'T1'!M13, MAX(T3_R1!L13, T3_R2!L13)), MAX('MDA1'!L13, 'MDA2'!L13, 'T1'!N13, MAX(T3_R1!M13, T3_R2!M13)))","v":0},{"$f":"IF(AND(COUNTRY_INFO!J13>1,COUNTRY_INFO!J13<4),IF(COUNTRY_INFO!E13>MAX('MDA2'!J13,'T1'!L13,MAX(T3_R1!K13,T3_R2!K13)),MAX('MDA2'!J13,'T1'!L13,MAX(T3_R1!K13,T3_R2!K13)),COUNTRY_INFO!E13),0)","v":0},{"$f":"IF(AND(COUNTRY_INFO!J13>1,COUNTRY_INFO!J13<4), IF(T13/COUNTRY_INFO!E13*100<>0, IF(T13/COUNTRY_INFO!E13*100>100,100,T13/COUNTRY_INFO!E13*100), \"-\"),0)","v":"-"},{"$f":"IF(AND(COUNTRY_INFO!J13>1,COUNTRY_INFO!J13<4),IF(COUNTRY_INFO!F13>MAX('MDA1'!K13,'MDA2'!K13,'T1'!M13,MAX(T3_R1!L13,T3_R2!L13)),MAX('MDA1'!K13,'MDA2'!K13,'T1'!M13,MAX(T3_R1!L13,T3_R2!L13)),COUNTRY_INFO!F13),0)","v":0},{"$f":"IF(AND(COUNTRY_INFO!J13>1,COUNTRY_INFO!J13<4), IF(V13/COUNTRY_INFO!F13*100<>0, IF(V13/COUNTRY_INFO!F13*100>100,100,V13/COUNTRY_INFO!F13*100), \"-\"),0)","v":"-"},0,{"$f":"IF(AND(COUNTRY_INFO!J13>1,COUNTRY_INFO!J13<4), IF(S13/P13*100<>0, IF(X13/P13*100>100,100,X13/P13*100), \"-\"),0)","v":"-"},{"$f":"COUNTRY_INFO!O13","v":3336.8},null,null,{"$f":"MAX('T1'!L13,'T2'!J13)+MAX('T1'!M13,'T2'!K13)+MAX('T1'!N13,'T2'!L13)","v":0},{"$f":"IF(COUNTRY_INFO!K13=1,IF(COUNTRY_INFO!F13*0.33>MAX('T1'!M13,'T2'!K13),MAX('T1'!M13,'T2'!K13),COUNTRY_INFO!F13*0.33),IF(COUNTRY_INFO!K13=2,IF(COUNTRY_INFO!F13*0.5>MAX('T1'!M13,'T2'!K13),MAX('T1'!M13,'T2'!K13),COUNTRY_INFO!F13*0.5),IF(COUNTRY_INFO!K13=3,IF(COUNTRY_INFO!F13>MAX('T1'!M13,'T2'!K13),MAX('T1'!M13,'T2'!K13),COUNTRY_INFO!F13),0)))","v":0},{"$f":"IF(AND(COUNTRY_INFO!K13>0,COUNTRY_INFO!K13<4),IF(Z13>0,IF(COUNTRY_INFO!K13=1, AD13/(COUNTRY_INFO!F13*0.33)*100, IF(COUNTRY_INFO!K13=2, AD13/(COUNTRY_INFO!F13*0.5)*100, IF(COUNTRY_INFO!K13=3, AD13/COUNTRY_INFO!F13*100))),\"-\"),0)","v":0},{"$f":"IF(COUNTRY_INFO!K13=2,IF(COUNTRY_INFO!G13*0.2>MAX('T1'!N13,'T2'!L13),MAX('T1'!N13,'T2'!L13),COUNTRY_INFO!G13*0.2),IF(COUNTRY_INFO!K13=3,IF(COUNTRY_INFO!G13>MAX('T1'!N13,'T2'!L13),MAX('T1'!N13,'T2'!L13),COUNTRY_INFO!G13),0))","v":0},{"$f":"IF(AND(COUNTRY_INFO!K13>0,COUNTRY_INFO!K13<4),IF(Z13>0,IF(COUNTRY_INFO!K13=1, 0, IF(COUNTRY_INFO!K13=2, AF13/(COUNTRY_INFO!G13*0.2)*100, IF(COUNTRY_INFO!K13=3, AF13/COUNTRY_INFO!G13*100))),\"-\"),0)","v":0},0,{"$f":"IF(AND(COUNTRY_INFO!K13>0,COUNTRY_INFO!K13<4), IF(AC13/Z13*100<>0, IF(AH13/Z13*100>100,100,AH13/Z13*100), \"-\"),0)","v":"-"},null,{"$f":"IF(AND(D13<>0, D13<>\"Unknown\",D13<>\"Stopped\",D13<>\"Not required\"),D13/COUNTRY_INFO!D13, 0)","v":1},{"$f":"IF(AND(J13<>0,J13<>\"Unknown\",J13<>\"Stopped\",J13<>\"Not required\"),J13/COUNTRY_INFO!D13, 0)","v":0},{"$f":"IF(AND(P13<>0,P13<>\"Unknown\",P13<>\"Not required\"),P13/(COUNTRY_INFO!E13+COUNTRY_INFO!F13), 0)","v":1},{"$f":"IF(AND(Z13<>0,Z13<>\"Unknown\",Z13<>\"Not required\"),IF(COUNTRY_INFO!K13=1,1,IF(COUNTRY_INFO!K13=2,0.5*COUNTRY_INFO!F13/(0.5*COUNTRY_INFO!F13+0.2*COUNTRY_INFO!G13),IF(COUNTRY_INFO!K13=3,COUNTRY_INFO!F13/(COUNTRY_INFO!F13+COUNTRY_INFO!G13)))),0)","v":0.54902900982977698},{"$f":"IF(AND(Z13<>0,Z13<>\"Unknown\",Z13<>\"Not required\"),IF(COUNTRY_INFO!K13=1,0,IF(COUNTRY_INFO!K13=2,0.2*COUNTRY_INFO!G13/(0.5*COUNTRY_INFO!F13+0.2*COUNTRY_INFO!G13),IF(COUNTRY_INFO!K13=3,COUNTRY_INFO!G13/(COUNTRY_INFO!F13+COUNTRY_INFO!G13)))),0)","v":0.45097099017022302},{"$f":"MAX(COUNTRY_INFO!D13*AK13*PROFILE!$G$7,COUNTRY_INFO!D13*AL13*PROFILE!$G$7)","v":379.45138010360859},{"$f":"MAX(COUNTRY_INFO!D13*AK13*PROFILE!$G$8,COUNTRY_INFO!D13*AL13*PROFILE!$G$8,COUNTRY_INFO!D13*AM13*PROFILE!$G$8)","v":1517.7894833399316},{"$f":"MAX(COUNTRY_INFO!D13*AK13*PROFILE!$G$9,COUNTRY_INFO!D13*AL13*PROFILE!$G$9,COUNTRY_INFO!D13*AM13*PROFILE!$G$9,IF(AND(DISTRICT!Z13<>\"Unknown\",Z13<>\"Not required\"),COUNTRY_INFO!O13*DISTRICT!AN13,0))","v":3663.633291488055},{"$f":"MAX(COUNTRY_INFO!D13*AK13*PROFILE!$G$10,COUNTRY_INFO!D13*AL13*PROFILE!$G$10,IF(AND(DISTRICT!Z13<>\"Unknown\",Z13<>\"Not required\"),COUNTRY_INFO!O13*DISTRICT!AO13,0))","v":7523.5370497832091},13084.411204714805,0,{"$f":"MAX('MDA2'!J13,'T1'!L13,'T2'!J13,T3_R1!K13,T3_R2!K13)","v":0},{"$f":"MAX('MDA1'!K13,'MDA2'!K13,'MDA3'!I13,'MDA3'!L13,'T1'!M13,'T2'!K13,T3_R1!L13,T3_R2!L13)","v":0},{"$f":"MAX('MDA1'!L13,'MDA2'!L13,'MDA3'!J13,'MDA3'!M13,'T1'!N13,'T2'!L13,T3_R1!M13,T3_R2!M13)","v":0},0,{"$f":"MAX('MDA2'!J13,T13)","v":0},{"$f":"MAX('MDA1'!K13,'MDA2'!K13,'MDA3'!I13,'MDA3'!L13,V13,AD13)","v":0},{"$f":"MAX('MDA1'!L13,'MDA2'!L13,'MDA3'!J13,'MDA3'!M13,AF13)","v":0},0,0]
[{"$f":"IF(COUNTRY_INFO!A14=0,\" \",COUNTRY_INFO!A14)","v":"Mozambique"},{"$f":"IF(COUNTRY_INFO!B14=0,\" \",COUNTRY_INFO!B14)","v":"Cabo Delgado"},{"$f":"IF(COUNTRY_INFO!C14=0,\" \",COUNTRY_INFO!C14)","v":"Macomia"},{"$f":"COUNTRY_INFO!L14","v":95696.303705885337},null,null,{"$f":"MAX('MDA1'!M14,'MDA2'!M14)","v":0},{"$f":"IF(AND(COUNTRY_INFO!H14>0,COUNTRY_INFO!H14<4),IF(D14>MAX('MDA1'!M14,'MDA2'!M14),MAX('MDA1'!M14,'MDA2'!M14),D14),0)","v":0},{"$f":"IF(AND(COUNTRY_INFO!H14>0,COUNTRY_INFO!H14<4), IF(G14/D14*100<>0, IF(G14/D14*100>100,100,G14/D14*100), \"-\"),0)","v":"-"},{"$f":"COUNTRY_INFO!M14","v":"Not required"},null,null,{"$f":"MAX('MDA1'!M14,MAX('MDA3'!I14,'MDA3'!L14)+MAX('MDA3'!J14,'MDA3'!M14))","v":0},{"$f":"IF(AND(COUNTRY_INFO!I14>0,COUNTRY_INFO!I14<4),IF(J14>MAX('MDA1'!M14,MAX('MDA3'!I14,'MDA3'!L14)+MAX('MDA3'!J14,'MDA3'!M14)),MAX('MDA1'!M14,MAX('MDA3'!I14,'MDA3'!L14)+MAX('MDA3'!J14,'MDA3'!M14)),J14),0)","v":0},{"$f":"IF(AND(COUNTRY_INFO!I14>0,COUNTRY_INFO!I14<4), IF(M14/J14*100<>0, IF(M14/J14*100>100,100,M14/J14*100), \"-\"),0)","v":0},{"$f":"COUNTRY_INFO!N14","v":37896},null,null,{"$f":"SUM(MAX('MDA2'!J14, 'T1'!L14, MAX(T3_R1!K14, T3_R2!K14)), MAX('MDA1'!K14, 'MDA2'!K14, 'T1'!M14, MAX(T3_R1!L14, T3_R2!L14)), MAX('MDA1'!L14, 'MDA2'!L14, 'T1'!N14, MAX(T3_R1!M14, T3_R2!M14)))","v":0},{"$f":"IF(AND(COUNTRY_INFO!J14>1,COUNTRY_INFO!J14<4),IF(COUNTRY_INFO!E14>MAX('MDA2'!J14,'T1'!L14,MAX(T3_R1!K14,T3_R2!K14)),MAX('MDA2'!J14,'T1'!L14,MAX(T3_R1!K14,T3_R2!K14)),COUNTRY_INFO!E14),0)","v":0},{"$f":"IF(AND(COUNTRY_INFO!J14>1,COUNTRY_INFO!J14<4), IF(T14/COUNTRY_INFO!E14*100<>0, IF(T14/COUNTRY_INFO!E14*100>100,100,T14/COUNTRY_INFO!E14*100), \"-\"),0)","v":"-"},{"$f":"IF(AND(COUNTRY_INFO!J14>1,COUNTRY_INFO!J14<4),IF(COUNTRY_INFO!F14>MAX('MDA1'!K14,'MDA2'!K14,'T1'!M14,MAX(T3_R1!L14,T3_R2!L14)),MAX('MDA1'!K14,'MDA2'!K14,'T1'!M14,MAX(T3_R1!L14,T3_R2!L14)),COUNTRY_INFO!F14),0)","v":0},{"$f":"IF(AND(COUNTRY_INFO!J14>1,COUNTRY_INFO!J14<4), IF(V14/COUNTRY_INFO!F14*100<>0, IF(V14/COUNTRY_INFO!F14*100>100,100,V14/COUNTRY_INFO!F14*100), \"-\"),0)","v":"-"},0,{"$f":"IF(AND(COUNTRY_INFO!J14>1,COUNTRY_INFO!J14<4), IF(S14/P14*100<>0, IF(X14/P14*100>100,100,X14/P14*100), \"-\"),0)","v":"-"},{"$f":"COUNTRY_INFO!O14","v":24402.5},null,null,{"$f":"MAX('T1'!L14,'T2'!J14)+MAX('T1'!M14,'T2'!K14)+MAX('T1'!N14,'T2'!L14)","v":0},{"$f":"IF(COUNTRY_INFO!K14=1,IF(COUNTRY_INFO!F14*0.33>MAX('T1'!M14,'T2'!K14),MAX('T1'!M14,'T2'!K14),COUNTRY_INFO!F14*0.33),IF(COUNTRY_INFO!K14=2,IF(COUNTRY_INFO!F14*0.5>MAX('T1'!M14,'T2'!K14),MAX('T1'!M14,'T2'!K14),COUNTRY_INFO!F14*0.5),IF(COUNTRY_INFO!K14=3,IF(COUNTRY_INFO!F14>MAX('T1'!M14,'T2'!K14),MAX('T1'!M14,'T2'!K14),COUNTRY_INFO!F14),0)))","v":0},{"$f":"IF(AND(COUNTRY_INFO!K14>0,COUNTRY_INFO!K14<4),IF(Z14>0,IF(COUNTRY_INFO!K14=1, AD14/(COUNTRY_INFO!F14*0.33)*100, IF(COUNTRY_INFO!K14=2, AD14/(COUNTRY_INFO!F14*0.5)*100, IF(COUNTRY_INFO!K14=3, AD14/COUNTRY_INFO!F14*100))),\"-\"),0)","v":0},{"$f":"IF(COUNTRY_INFO!K14=2,IF(COUNTRY_INFO!G14*0.2>MAX('T1'!N14,'T2'!L14),MAX('T1'!N14,'T2'!L14),COUNTRY_INFO!G14*0.2),IF(COUNTRY_INFO!K14=3,IF(COUNTRY_INFO!G14>MAX('T1'!N14,'T2'!L14),MAX('T1'!N14,'T2'!L14),COUNTRY_INFO!G14),0))","v":0},{"$f":"IF(AND(COUNTRY_INFO!K14>0,COUNTRY_INFO!K14<4),IF(Z14>0,IF(COUNTRY_INFO!K14=1, 0, IF(COUNTRY_INFO!K14=2, AF14/(COUNTRY_INFO!G14*0.2)*100, IF(COUNTRY_INFO!K14=3, AF14/COUNTRY_INFO!G14*100))),\"-\"),0)","v":0},0,{"$f":"IF(AND(COUNTRY_INFO!K14>0,COUNTRY_INFO!K14<4), IF(AC14/Z14*100<>0, IF(AH14/Z14*100>100,100,AH14/Z14*100), \"-\"),0)","v":"-"},null,{"$f":"IF(AND(D14<>0, D14<>\"Unknown\",D14<>\"Stopped\",D14<>\"Not required\"),D14/COUNTRY_INFO!D14, 0)","v":1},{"$f":"IF(AND(J14<>0,J14<>\"Unknown\",J14<>\"Stopped\",J14<>\"Not required\"),J14/COUNTRY_INFO!D14, 0)","v":0},{"$f":"IF(AND(P14<>0,P14<>\"Unknown\",P14<>\"Not required\"),P14/(COUNTRY_INFO!E14+COUNTRY_INFO!F14), 0)","v":1},{"$f":"IF(AND(Z14<>0,Z14<>\"Unknown\",Z14<>\"Not required\"),IF(COUNTRY_INFO!K14=1,1,IF(COUNTRY_INFO!K14=2,0.5*COUNTRY_INFO!F14/(0.5*COUNTRY_INFO!F14+0.2*COUNTRY_INFO!G14),IF(COUNTRY_INFO!K14=3,COUNTRY_INFO!F14/(COUNTRY_INFO!F14+COUNTRY_INFO!G14)))),0)","v":0.5490216166376396},{"$f":"IF(AND(Z14<>0,Z14<>\"Unknown\",Z14<>\"Not required\"),IF(COUNTRY_INFO!K14=1,0,IF(COUNTRY_INFO!K14=2,0.2*COUNTRY_INFO!G14/(0.5*COUNTRY_INFO!F14+0.2*COUNTRY_INFO!G14),IF(COUNTRY_INFO!K14=3,COUNTRY_INFO!G14/(COUNTRY_INFO!F14+COUNTRY_INFO!G14)))),0)","v":0.4509783833623604},{"$f":"MAX(COUNTRY_INFO!D14*AK14*PROFILE!$G$7,COUNTRY_INFO!D14*AL14*PROFILE!$G$7)","v":2775.218077747943},{"$f":"MAX(COUNTRY_INFO!D14*AK14*PROFILE!$G$8,COUNTRY_INFO!D14*AL14*PROFILE!$G$8,COUNTRY_INFO!D14*AM14*PROFILE!$G$8)","v":11100.75501960371},{"$f":"MAX(COUNTRY_INFO!D14*AK14*PROFILE!$G$9,COUNTRY_INFO!D14*AL14*PROFILE!$G$9,COUNTRY_INFO!D14*AM14*PROFILE!$G$9,IF(AND(DISTRICT!Z14<>\"Unknown\",Z14<>\"Not required\"),COUNTRY_INFO!O14*DISTRICT!AN14,0))","v":26794.95153766646},{"$f":"MAX(COUNTRY_INFO!D14*AK14*PROFILE!$G$10,COUNTRY_INFO!D14*AL14*PROFILE!$G$10,IF(AND(DISTRICT!Z14<>\"Unknown\",Z14<>\"Not required\"),COUNTRY_INFO!O14*DISTRICT!AO14,0))","v":55025.379070867224},95696.303705885337,0,{"$f":"MAX('MDA2'!J14,'T1'!L14,'T2'!J14,T3_R1!K14,T3_R2!K14)","v":0},{"$f":"MAX('MDA1'!K14,'MDA2'!K14,'MDA3'!I14,'MDA3'!L14,'T1'!M14,'T2'!K14,T3_R1!L14,T3_R2!L14)","v":0},{"$f":"MAX('MDA1'!L14,'MDA2'!L14,'MDA3'!J14,'MDA3'!M14,'T1'!N14,'T2'!L14,T3_R1!M14,T3_R2!M14)","v":0},0,{"$f":"MAX('MDA2'!J14,T14)","v":0},{"$f":"MAX('MDA1'!K14,'MDA2'!K14,'MDA3'!I14,'MDA3'!L14,V14,AD14)","v":0},{"$f":"MAX('MDA1'!L14,'MDA2'!L14,'MDA3'!J14,'MDA3'!M14,AF14)","v":0},0,0]
[{"$f":"IF(COUNTRY_INFO!A15=0,\" \",COUNTRY_INFO!A15)","v":"Mozambique"},{"$f":"IF(COUNTRY_INFO!B15=0,\" \",COUNTRY_INFO!B15)","v":"Cabo Delgado"},{"$f":"IF(COUNTRY_INFO!C15=0,\" \",COUNTRY_INFO!C15)","v":"Mecufi"},{"$f":"COUNTRY_INFO!L15","v":49409.548376532592},null,null,{"$f":"MAX('MDA1'!M15,'MDA2'!M15)","v":0},{"$f":"IF(AND(COUNTRY_INFO!H15>0,COUNTRY_INFO!H15<4),IF(D15>MAX('MDA1'!M15,'MDA2'!M15),MAX('MDA1'!M15,'MDA2'!M15),D15),0)","v":0},{"$f":"IF(AND(COUNTRY_INFO!H15>0,COUNTRY_INFO!H15<4), IF(G15/D15*100<>0, IF(G15/D15*100>100,100,G15/D15*100), \"-\"),0)","v":"-"},{"$f":"COUNTRY_INFO!M15","v":"Not required"},null,null,{"$f":"MAX('MDA1'!M15,MAX('MDA3'!I15,'MDA3'!L15)+MAX('MDA3'!J15,'MDA3'!M15))","v":0},{"$f":"IF(AND(COUNTRY_INFO!I15>0,COUNTRY_INFO!I15<4),IF(J15>MAX('MDA1'!M15,MAX('MDA3'!I15,'MDA3'!L15)+MAX('MDA3'!J15,'MDA3'!M15)),MAX('MDA1'!M15,MAX('MDA3'!I15,'MDA3'!L15)+MAX('MDA3'!J15,'MDA3'!M15)),J15),0)","v":0},{"$f":"IF(AND(COUNTRY_INFO!I15>0,COUNTRY_INFO!I15<4), IF(M15/J15*100<>0, IF(M15/J15*100>100,100,M15/J15*100), \"-\"),0)","v":0},{"$f":"COUNTRY_INFO!N15","v":19567},null,null,{"$f":"SUM(MAX('MDA2'!J15, 'T1'!L15, MAX(T3_R1!K15, T3_R2!K15)), MAX('MDA1'!K15, 'MDA2'!K15, 'T1'!M15, MAX(T3_R1!L15, T3_R2!L15)), MAX('MDA1'!L15, 'MDA2'!L15, 'T1'!N15, MAX(T3_R1!M15, T3_R2!M15)))","v":0},{"$f":"IF(AND(COUNTRY_INFO!J15>1,COUNTRY_INFO!J15<4),IF(COUNTRY_INFO!E15>MAX('MDA2'!J15,'T1'!L15,MAX(T3_R1!K15,T3_R2!K15)),MAX('MDA2'!J15,'T1'!L15,MAX(T3_R1!K15,T3_R2!K15)),COUNTRY_INFO!E15),0)","v":0},{"$f":"IF(AND(COUNTRY_INFO!J15>1,COUNTRY_INFO!J15<4), IF(T15/COUNTRY_INFO!E15*100<>0, IF(T15/COUNTRY_INFO!E15*100>100,100,T15/COUNTRY_INFO!E15*100), \"-\"),0)","v":"-"},{"$f":"IF(AND(COUNTRY_INFO!J15>1,COUNTRY_INFO!J15<4),IF(COUNTRY_INFO!F15>MAX('MDA1'!K15,'MDA2'!K15,'T1'!M15,MAX(T3_R1!L15,T3_R2!L15)),MAX('MDA1'!K15,'MDA2'!K15,'T1'!M15,MAX(T3_R1!L15,T3_R2!L15)),COUNTRY_INFO!F15),0)","v":0},{"$f":"IF(AND(COUNTRY_INFO!J15>1,COUNTRY_INFO!J15<4), IF(V15/COUNTRY_INFO!F15*100<>0, IF(V15/COUNTRY_INFO!F15*100>100,100,V15/COUNTRY_INFO!F15*100), \"-\"),0)","v":"-"},0,{"$f":"IF(AND(COUNTRY_INFO!J15>1,COUNTRY_INFO!J15<4), IF(S15/P15*100<>0, IF(X15/P15*100>100,100,X15/P15*100), \"-\"),0)","v":"-"},{"$f":"COUNTRY_INFO!O15","v":12599.5},null,null,{"$f":"MAX('T1'!L15,'T2'!J15)+MAX('T1'!M15,'T2'!K15)+MAX('T1'!N15,'T2'!L15)","v":0},{"$f":"IF(COUNTRY_INFO!K15=1,IF(COUNTRY_INFO!F15*0.33>MAX('T1'!M15,'T2'!K15),MAX('T1'!M15,'T2'!K15),COUNTRY_INFO!F15*0.33),IF(COUNTRY_INFO!K15=2,IF(COUNTRY_INFO!F15*0.5>MAX('T1'!M15,'T2'!K15),MAX('T1'!M15,'T2'!K15),COUNTRY_INFO!F15*0.5),IF(COUNTRY_INFO!K15=3,IF(COUNTRY_INFO!F15>MAX('T1'!M15,'T2'!K15),MAX('T1'!M15,'T2'!K15),COUNTRY_INFO!F15),0)))","v":0},{"$f":"IF(AND(COUNTRY_INFO!K15>0,COUNTRY_INFO!K15<4),IF(Z15>0,IF(COUNTRY_INFO!K15=1, AD15/(COUNTRY_INFO!F15*0.33)*100, IF(COUNTRY_INFO!K15=2, AD15/(COUNTRY_INFO!F15*0.5)*100, IF(COUNTRY_INFO!K15=3, AD15/COUNTRY_INFO!F15*100))),\"-\"),0)","v":0},{"$f":"IF(COUNTRY_INFO!K15=2,IF(COUNTRY_INFO!G15*0.2>MAX('T1'!N15,'T2'!L15),MAX('T1'!N15,'T2'!L15),COUNTRY_INFO!G15*0.2),IF(COUNTRY_INFO!K15=3,IF(COUNTRY_INFO!G15>MAX('T1'!N15,'T2'!L15),MAX('T1'!N15,'T2'!L15),COUNTRY_INFO!G15),0))","v":0},{"$f":"IF(AND(COUNTRY_INFO!K15>0,COUNTRY_INFO!K15<4),IF(Z15>0,IF(COUNTRY_INFO!K15=1, 0, IF(COUNTRY_INFO!K15=2, AF15/(COUNTRY_INFO!G15*0.2)*100, IF(COUNTRY_INFO!K15=3, AF15/COUNTRY_INFO!G15*100))),\"-\"),0)","v":0},0,{"$f":"IF(AND(COUNTRY_INFO!K15>0,COUNTRY_INFO!K15<4), IF(AC15/Z15*100<>0, IF(AH15/Z15*100>100,100,AH15/Z15*100), \"-\"),0)","v":"-"},null,{"$f":"IF(AND(D15<>0, D15<>\"Unknown\",D15<>\"Stopped\",D15<>\"Not required\"),D15/COUNTRY_INFO!D15, 0)","v":1},{"$f":"IF(AND(J15<>0,J15<>\"Unknown\",J15<>\"Stopped\",J15<>\"Not required\"),J15/COUNTRY_INFO!D15, 0)","v":0},{"$f":"IF(AND(P15<>0,P15<>\"Unknown\",P15<>\"Not required\"),P15/(COUNTRY_INFO!E15+COUNTRY_INFO!F15), 0)","v":1},{"$f":"IF(AND(Z15<>0,Z15<>\"Unknown\",Z15<>\"Not required\"),IF(COUNTRY_INFO!K15=1,1,IF(COUNTRY_INFO!K15=2,0.5*COUNTRY_INFO!F15/(0.5*COUNTRY_INFO!F15+0.2*COUNTRY_INFO!G15),IF(COUNTRY_INFO!K15=3,COUNTRY_INFO!F15/(COUNTRY_INFO!F15+COUNTRY_INFO!G15)))),0)","v":0.54902972340172229},{"$f":"IF(AND(Z15<>0,Z15<>\"Unknown\",Z15<>\"Not required\"),IF(COUNTRY_INFO!K15=1,0,IF(COUNTRY_INFO!K15=2,0.2*COUNTRY_INFO!G15/(0.5*COUNTRY_INFO!F15+0.2*COUNTRY_INFO!G15),IF(COUNTRY_INFO!K15=3,COUNTRY_INFO!G15/(COUNTRY_INFO!F15+COUNTRY_INFO!G15)))),0)","v":0.45097027659827771},{"$f":"MAX(COUNTRY_INFO!D15*AK15*PROFILE!$G$7,COUNTRY_INFO!D15*AL15*PROFILE!$G$7)","v":1432.8899503720511},{"$f":"MAX(COUNTRY_INFO!D15*AK15*PROFILE!$G$8,COUNTRY_INFO!D15*AL15*PROFILE!$G$8,COUNTRY_INFO!D15*AM15*PROFILE!$G$8)","v":5731.499242048726},{"$f":"MAX(COUNTRY_INFO!D15*AK15*PROFILE!$G$9,COUNTRY_INFO!D15*AL15*PROFILE!$G$9,COUNTRY_INFO!D15*AM15*PROFILE!$G$9,IF(AND(DISTRICT!Z15<>\"Unknown\",Z15<>\"Not required\"),COUNTRY_INFO!O15*DISTRICT!AN15,0))","v":13834.666575170508},{"$f":"MAX(COUNTRY_INFO!D15*AK15*PROFILE!$G$10,COUNTRY_INFO!D15*AL15*PROFILE!$G$10,IF(AND(DISTRICT!Z15<>\"Unknown\",Z15<>\"Not required\"),COUNTRY_INFO!O15*DISTRICT!AO15,0))","v":28410.492608941306},49409.548376532592,0,{"$f":"MAX('MDA2'!J15,'T1'!L15,'T2'!J15,T3_R1!K15,T3_R2!K15)","v":0},{"$f":"MAX('MDA1'!K15,'MDA2'!K15,'MDA3'!I15,'MDA3'!L15,'T1'!M15,'T2'!K15,T3_R1!L15,T3_R2!L15)","v":0},{"$f":"MAX('MDA1'!L15,'MDA2'!L15,'MDA3'!J15,'MDA3'!M15,'T1'!N15,'T2'!L15,T3_R1!M15,T3_R2!M15)","v":0},0,{"$f":"MAX('MDA2'!J15,T15)","v":0},{"$f":"MAX('MDA1'!K15,'MDA2'!K15,'MDA3'!I15,'MDA3'!L15,V15,AD15)","v":0},{"$f":"MAX('MDA1'!L15,'MDA2'!L15,'MDA3'!J15,'MDA3'!M15,AF15)","v":0},0,0]
[{"$f":"IF(COUNTRY_INFO!A16=0,\" \",COUNTRY_INFO!A16)","v":"Mozambique"},{"$f":"IF(COUNTRY_INFO!B16=0,\" \",COUNTRY_INFO!B16)","v":"Cabo Delgado"},{"$f":"IF(COUNTRY_INFO!C16=0,\" \",COUNTRY_INFO!C16)","v":"Meluco"},{"$f":"COUNTRY_INFO!L16","v":26281.171360739347},null,null,{"$f":"MAX('MDA1'!M16,'MDA2'!M16)","v":0},{"$f":"IF(AND(COUNTRY_INFO!H16>0,COUNTRY_INFO!H16<4),IF(D16>MAX('MDA1'!M16,'MDA2'!M16),MAX('MDA1'!M16,'MDA2'!M16),D16),0)","v":0},{"$f":"IF(AND(COUNTRY_INFO!H16>0,COUNTRY_INFO!H16<4), IF(G16/D16*100<>0, IF(G16/D16*100>100,100,G16/D16*100), \"-\"),0)","v":"-"},{"$f":"COUNTRY_INFO!M16","v":"Not required"},null,null,{"$f":"MAX('MDA1'!M16,MAX('MDA3'!I16,'MDA3'!L16)+MAX('MDA3'!J16,'MDA3'!M16))","v":0},{"$f":"IF(AND(COUNTRY_INFO!I16>0,COUNTRY_INFO!I16<4),IF(J16>MAX('MDA1'!M16,MAX('MDA3'!I16,'MDA3'!L16)+MAX('MDA3'!J16,'MDA3'!M16)),MAX('MDA1'!M16,MAX('MDA3'!I16,'MDA3'!L16)+MAX('MDA3'!J16,'MDA3'!M16)),J16),0)","v":0},{"$f":"IF(AND(COUNTRY_INFO!I16>0,COUNTRY_INFO!I16<4), IF(M16/J16*100<>0, IF(M16/J16*100>100,100,M16/J16*100), \"-\"),0)","v":0},{"$f":"COUNTRY_INFO!N16","v":10408},null,null,{"$f":"SUM(MAX('MDA2'!J16, 'T1'!L16, MAX(T3_R1!K16, T3_R2!K16)), MAX('MDA1'!K16, 'MDA2'!K16, 'T1'!M16, MAX(T3_R1!L16, T3_R2!L16)), MAX('MDA1'!L16, 'MDA2'!L16, 'T1'!N16, MAX(T3_R1!M16, T3_R2!M16)))","v":0},{"$f":"IF(AND(COUNTRY_INFO!J16>1,COUNTRY_INFO!J16<4),IF(COUNTRY_INFO!E16>MAX('MDA2'!J16,'T1'!L16,MAX(T3_R1!K16,T3_R2!K16)),MAX('MDA2'!J16,'T1'!L16,MAX(T3_R1!K16,T3_R2!K16)),COUNTRY_INFO!E16),0)","v":0},{"$f":"IF(AND(COUNTRY_INFO!J16>1,COUNTRY_INFO!J16<4), IF(T16/COUNTRY_INFO!E16*100<>0, IF(T16/COUNTRY_INFO!E16*100>100,100,T16/COUNTRY_INFO!E16*100), \"-\"),0)","v":"-"},{"$f":"IF(AND(COUNTRY_INFO!J16>1,COUNTRY_INFO!J16<4),IF(COUNTRY_INFO!F16>MAX('MDA1'!K16,'MDA2'!K16,'T1'!M16,MAX(T3_R1!L16,T3_R2!L16)),MAX('MDA1'!K16,'MDA2'!K16,'T1'!M16,MAX(T3_R1!L16,T3_R2!L16)),COUNTRY_INFO!F16),0)","v":0},{"$f":"IF(AND(COUNTRY_INFO!J16>1,COUNTRY_INFO!J16<4), IF(V16/COUNTRY_INFO!F16*100<>0, IF(V16/COUNTRY_INFO!F16*100>100,100,V16/COUNTRY_INFO!F16*100), \"-\"),0)","v":"-"},0,{"$f":"IF(AND(COUNTRY_INFO!J16>1,COUNTRY_INFO!J16<4), IF(S16/P16*100<>0, IF(X16/P16*100>100,100,X16/P16*100), \"-\"),0)","v":"-"},{"$f":"COUNTRY_INFO!O16","v":22471},null,null,{"$f":"MAX('T1'!L16,'T2'!J16)+MAX('T1'!M16,'T2'!K16)+MAX('T1'!N16,'T2'!L16)","v":0},{"$f":"IF(COUNTRY_INFO!K16=1,IF(COUNTRY_INFO!F16*0.33>MAX('T1'!M16,'T2'!K16),MAX('T1'!M16,'T2'!K16),COUNTRY_INFO!F16*0.33),IF(COUNTRY_INFO!K16=2,IF(COUNTRY_INFO!F16*0.5>MAX('T1'!M16,'T2'!K16),MAX('T1'!M16,'T2'!K16),COUNTRY_INFO!F16*0.5),IF(COUNTRY_INFO!K16=3,IF(COUNTRY_INFO!F16>MAX('T1'!M16,'T2'!K16),MAX('T1'!M16,'T2'!K16),COUNTRY_INFO!F16),0)))","v":0},{"$f":"IF(AND(COUNTRY_INFO!K16>0,COUNTRY_INFO!K16<4),IF(Z16>0,IF(COUNTRY_INFO!K16=1, AD16/(COUNTRY_INFO!F16*0.33)*100, IF(COUNTRY_INFO!K16=2, AD16/(COUNTRY_INFO!F16*0.5)*100, IF(COUNTRY_INFO!K16=3, AD16/COUNTRY_INFO!F16*100))),\"-\"),0)","v":0},{"$f":"IF(COUNTRY_INFO!K16=2,IF(COUNTRY_INFO!G16*0.2>MAX('T1'!N16,'T2'!L16),MAX('T1'!N16,'T2'!L16),COUNTRY_INFO!G16*0.2),IF(COUNTRY_INFO!K16=3,IF(COUNTRY_INFO!G16>MAX('T1'!N16,'T2'!L16),MAX('T1'!N16,'T2'!L16),COUNTRY_INFO!G16),0))","v":0},{"$f":"IF(AND(COUNTRY_INFO!K16>0,COUNTRY_INFO!K16<4),IF(Z16>0,IF(COUNTRY_INFO!K16=1, 0, IF(COUNTRY_INFO!K16=2, AF16/(COUNTRY_INFO!G16*0.2)*100, IF(COUNTRY_INFO!K16=3, AF16/COUNTRY_INFO!G16*100))),\"-\"),0)","v":0},0,{"$f":"IF(AND(COUNTRY_INFO!K16>0,COUNTRY_INFO!K16<4), IF(AC16/Z16*100<>0, IF(AH16/Z16*100>100,100,AH16/Z16*100), \"-\"),0)","v":"-"},null,{"$f":"IF(AND(D16<>0, D16<>\"Unknown\",D16<>\"Stopped\",D16<>\"Not required\"),D16/COUNTRY_INFO!D16, 0)","v":1},{"$f":"IF(AND(J16<>0,J16<>\"Unknown\",J16<>\"Stopped\",J16<>\"Not required\"),J16/COUNTRY_INFO!D16, 0)","v":0},{"$f":"IF(AND(P16<>0,P16<>\"Unknown\",P16<>\"Not required\"),P16/(COUNTRY_INFO!E16+COUNTRY_INFO!F16), 0)","v":1},{"$f":"IF(AND(Z16<>0,Z16<>\"Unknown\",Z16<>\"Not required\"),IF(COUNTRY_INFO!K16=1,1,IF(COUNTRY_INFO!K16=2,0.5*COUNTRY_INFO!F16/(0.5*COUNTRY_INFO!F16+0.2*COUNTRY_INFO!G16),IF(COUNTRY_INFO!K16=3,COUNTRY_INFO!F16/(COUNTRY_INFO!F16+COUNTRY_INFO!G16)))),0)","v":0.32748876329491344},{"$f":"IF(AND(Z16<>0,Z16<>\"Unknown\",Z16<>\"Not required\"),IF(COUNTRY_INFO!K16=1,0,IF(COUNTRY_INFO!K16=2,0.2*COUNTRY_INFO!G16/(0.5*COUNTRY_INFO!F16+0.2*COUNTRY_INFO!G16),IF(COUNTRY_INFO!K16=3,COUNTRY_INFO!G16/(COUNTRY_INFO!F16+COUNTRY_INFO!G16)))),0)","v":0.6725112367050865},{"$f":"MAX(COUNTRY_INFO!D16*AK16*PROFILE!$G$7,COUNTRY_INFO!D16*AL16*PROFILE!$G$7)","v":762.16090946289876},{"$f":"MAX(COUNTRY_INFO!D16*AK16*PROFILE!$G$8,COUNTRY_INFO!D16*AL16*PROFILE!$G$8,COUNTRY_INFO!D16*AM16*PROFILE!$G$8)","v":3048.611426000673},{"$f":"MAX(COUNTRY_INFO!D16*AK16*PROFILE!$G$9,COUNTRY_INFO!D16*AL16*PROFILE!$G$9,COUNTRY_INFO!D16*AM16*PROFILE!$G$9,IF(AND(DISTRICT!Z16<>\"Unknown\",Z16<>\"Not required\"),COUNTRY_INFO!O16*DISTRICT!AN16,0))","v":7359},{"$f":"MAX(COUNTRY_INFO!D16*AK16*PROFILE!$G$10,COUNTRY_INFO!D16*AL16*PROFILE!$G$10,IF(AND(DISTRICT!Z16<>\"Unknown\",Z16<>\"Not required\"),COUNTRY_INFO!O16*DISTRICT!AO16,0))","v":15111.999999999998},26281.772335463567,0,{"$f":"MAX('MDA2'!J16,'T1'!L16,'T2'!J16,T3_R1!K16,T3_R2!K16)","v":0},{"$f":"MAX('MDA1'!K16,'MDA2'!K16,'MDA3'!I16,'MDA3'!L16,'T1'!M16,'T2'!K16,T3_R1!L16,T3_R2!L16)","v":0},{"$f":"MAX('MDA1'!L16,'MDA2'!L16,'MDA3'!J16,'MDA3'!M16,'T1'!N16,'T2'!L16,T3_R1!M16,T3_R2!M16)","v":0},0,{"$f":"MAX('MDA2'!J16,T16)","v":0},{"$f":"MAX('MDA1'!K16,'MDA2'!K16,'MDA3'!I16,'MDA3'!L16,V16,AD16)","v":0},{"$f":"MAX('MDA1'!L16,'MDA2'!L16,'MDA3'!J16,'MDA3'!M16,AF16)","v":0},0,0]
[{"$f":"IF(COUNTRY_INFO!A17=0,\" \",COUNTRY_INFO!A17)","v":"Mozambique"},{"$f":"IF(COUNTRY_INFO!B17=0,\" \",COUNTRY_INFO!B17)","v":"Cabo Delgado"},{"$f":"IF(COUNTRY_INFO!C17=0,\" \",COUNTRY_INFO!C17)","v":"Moc Praia"},{"$f":"COUNTRY_INFO!L17","v":117161.90394744731},null,null,{"$f":"MAX('MDA1'!M17,'MDA2'!M17)","v":0},{"$f":"IF(AND(COUNTRY_INFO!H17>0,COUNTRY_INFO!H17<4),IF(D17>MAX('MDA1'!M17,'MDA2'!M17),MAX('MDA1'!M17,'MDA2'!M17),D17),0)","v":0},{"$f":"IF(AND(COUNTRY_INFO!H17>0,COUNTRY_INFO!H17<4), IF(G17/D17*100<>0, IF(G17/D17*100>100,100,G17/D17*100), \"-\"),0)","v":"-"},{"$f":"COUNTRY_INFO!M17","v":"Not required"},null,null,{"$f":"MAX('MDA1'!M17,MAX('MDA3'!I17,'MDA3'!L17)+MAX('MDA3'!J17,'MDA3'!M17))","v":0},{"$f":"IF(AND(COUNTRY_INFO!I17>0,COUNTRY_INFO!I17<4),IF(J17>MAX('MDA1'!M17,MAX('MDA3'!I17,'MDA3'!L17)+MAX('MDA3'!J17,'MDA3'!M17)),MAX('MDA1'!M17,MAX('MDA3'!I17,'MDA3'!L17)+MAX('MDA3'!J17,'MDA3'!M17)),J17),0)","v":0},{"$f":"IF(AND(COUNTRY_INFO!I17>0,COUNTRY_INFO!I17<4), IF(M17/J17*100<>0, IF(M17/J17*100>100,100,M17/J17*100), \"-\"),0)","v":0},{"$f":"COUNTRY_INFO!N17","v":46396},null,null,{"$f":"SUM(MAX('MDA2'!J17, 'T1'!L17, MAX(T3_R1!K17, T3_R2!K17)), MAX('MDA1'!K17, 'MDA2'!K17, 'T1'!M17, MAX(T3_R1!L17, T3_R2!L17)), MAX('MDA1'!L17, 'MDA2'!L17, 'T1'!N17, MAX(T3_R1!M17, T3_R2!M17)))","v":0},{"$f":"IF(AND(COUNTRY_INFO!J17>1,COUNTRY_INFO!J17<4),IF(COUNTRY_INFO!E17>MAX('MDA2'!J17,'T1'!L17,MAX(T3_R1!K17,T3_R2!K17)),MAX('MDA2'!J17,'T1'!L17,MAX(T3_R1!K17,T3_R2!K17)),COUNTRY_INFO!E17),0)","v":0},{"$f":"IF(AND(COUNTRY_INFO!J17>1,COUNTRY_INFO!J17<4), IF(T17/COUNTRY_INFO!E17*100<>0, IF(T17/COUNTRY_INFO!E17*100>100,100,T17/COUNTRY_INFO!E17*100), \"-\"),0)","v":"-"},{"$f":"IF(AND(COUNTRY_INFO!J17>1,COUNTRY_INFO!J17<4),IF(COUNTRY_INFO!F17>MAX('MDA1'!K17,'MDA2'!K17,'T1'!M17,MAX(T3_R1!L17,T3_R2!L17)),MAX('MDA1'!K17,'MDA2'!K17,'T1'!M17,MAX(T3_R1!L17,T3_R2!L17)),COUNTRY_INFO!F17),0)","v":0},{"$f":"IF(AND(COUNTRY_INFO!J17>1,COUNTRY_INFO!J17<4), IF(V17/COUNTRY_INFO!F17*100<>0, IF(V17/COUNTRY_INFO!F17*100>100,100,V17/COUNTRY_INFO!F17*100), \"-\"),0)","v":"-"},0,{"$f":"IF(AND(COUNTRY_INFO!J17>1,COUNTRY_INFO!J17<4), IF(S17/P17*100<>0, IF(X17/P17*100>100,100,X17/P17*100), \"-\"),0)","v":"-"},{"$f":"COUNTRY_INFO!O17","v":29876.1},null,null,{"$f":"MAX('T1'!L17,'T2'!J17)+MAX('T1'!M17,'T2'!K17)+MAX('T1'!N17,'T2'!L17)","v":0},{"$f":"IF(COUNTRY_INFO!K17=1,IF(COUNTRY_INFO!F17*0.33>MAX('T1'!M17,'T2'!K17),MAX('T1'!M17,'T2'!K17),COUNTRY_INFO!F17*0.33),IF(COUNTRY_INFO!K17=2,IF(COUNTRY_INFO!F17*0.5>MAX('T1'!M17,'T2'!K17),MAX('T1'!M17,'T2'!K17),COUNTRY_INFO!F17*0.5),IF(COUNTRY_INFO!K17=3,IF(COUNTRY_INFO!F17>MAX('T1'!M17,'T2'!K17),MAX('T1'!M17,'T2'!K17),COUNTRY_INFO!F17),0)))","v":0},{"$f":"IF(AND(COUNTRY_INFO!K17>0,COUNTRY_INFO!K17<4),IF(Z17>0,IF(COUNTRY_INFO!K17=1, AD17/(COUNTRY_INFO!F17*0.33)*100, IF(COUNTRY_INFO!K17=2, AD17/(COUNTRY_INFO!F17*0.5)*100, IF(COUNTRY_INFO!K17=3, AD17/COUNTRY_INFO!F17*100))),\"-\"),0)","v":0},{"$f":"IF(COUNTRY_INFO!K17=2,IF(COUNTRY_INFO!G17*0.2>MAX('T1'!N17,'T2'!L17),MAX('T1'!N17,'T2'!L17),COUNTRY_INFO!G17*0.2),IF(COUNTRY_INFO!K17=3,IF(COUNTRY_INFO!G17>MAX('T1'!N17,'T2'!L17),MAX('T1'!N17,'T2'!L17),COUNTRY_INFO!G17),0))","v":0},{"$f":"IF(AND(COUNTRY_INFO!K17>0,COUNTRY_INFO!K17<4),IF(Z17>0,IF(COUNTRY_INFO!K17=1, 0, IF(COUNTRY_INFO!K17=2, AF17/(COUNTRY_INFO!G17*0.2)*100, IF(COUNTRY_INFO!K17=3, AF17/COUNTRY_INFO!G17*100))),\"-\"),0)","v":0},0,{"$f":"IF(AND(COUNTRY_INFO!K17>0,COUNTRY_INFO!K17<4), IF(AC17/Z17*100<>0, IF(AH17/Z17*100>100,100,AH17/Z17*100), \"-\"),0)","v":"-"},null,{"$f":"IF(AND(D17<>0, D17<>\"Unknown\",D17<>\"Stopped\",D17<>\"Not required\"),D17/COUNTRY_INFO!D17, 0)","v":1},{"$f":"IF(AND(J17<>0,J17<>\"Unknown\",J17<>\"Stopped\",J17<>\"Not required\"),J17/COUNTRY_INFO!D17, 0)","v":0},{"$f":"IF(AND(P17<>0,P17<>\"Unknown\",P17<>\"Not required\"),P17/(COUNTRY_INFO!E17+COUNTRY_INFO!F17), 0)","v":1},{"$f":"IF(AND(Z17<>0,Z17<>\"Unknown\",Z17<>\"Not required\"),IF(COUNTRY_INFO!K17=1,1,IF(COUNTRY_INFO!K17=2,0.5*COUNTRY_INFO!F17/(0.5*COUNTRY_INFO!F17+0.2*COUNTRY_INFO!G17),IF(COUNTRY_INFO!K17=3,COUNTRY_INFO!F17/(COUNTRY_INFO!F17+COUNTRY_INFO!G17)))),0)","v":0.5490174420356071},{"$f":"IF(AND(Z17<>0,Z17<>\"Unknown\",Z17<>\"Not required\"),IF(COUNTRY_INFO!K17=1,0,IF(COUNTRY_INFO!K17=2,0.2*COUNTRY_INFO!G17/(0.5*COUNTRY_INFO!F17+0.2*COUNTRY_INFO!G17),IF(COUNTRY_INFO!K17=3,COUNTRY_INFO!G17/(COUNTRY_INFO!F17+COUNTRY_INFO!G17)))),0)","v":0.45098255796439296},{"$f":"MAX(COUNTRY_INFO!D17*AK17*PROFILE!$G$7,COUNTRY_INFO!D17*AL17*PROFILE!$G$7)","v":3397.7261531191939},{"$f":"MAX(COUNTRY_INFO!D17*AK17*PROFILE!$G$8,COUNTRY_INFO!D17*AL17*PROFILE!$G$8,COUNTRY_INFO!D17*AM17*PROFILE!$G$8)","v":13590.761011503595},{"$f":"MAX(COUNTRY_INFO!D17*AK17*PROFILE!$G$9,COUNTRY_INFO!D17*AL17*PROFILE!$G$9,COUNTRY_INFO!D17*AM17*PROFILE!$G$9,IF(AND(DISTRICT!Z17<>\"Unknown\",Z17<>\"Not required\"),COUNTRY_INFO!O17*DISTRICT!AN17,0))","v":32805.316577128287},{"$f":"MAX(COUNTRY_INFO!D17*AK17*PROFILE!$G$10,COUNTRY_INFO!D17*AL17*PROFILE!$G$10,IF(AND(DISTRICT!Z17<>\"Unknown\",Z17<>\"Not required\"),COUNTRY_INFO!O17*DISTRICT!AO17,0))","v":67368.100205696232},117161.90394744731,0,{"$f":"MAX('MDA2'!J17,'T1'!L17,'T2'!J17,T3_R1!K17,T3_R2!K17)","v":0},{"$f":"MAX('MDA1'!K17,'MDA2'!K17,'MDA3'!I17,'MDA3'!L17,'T1'!M17,'T2'!K17,T3_R1!L17,T3_R2!L17)","v":0},{"$f":"MAX('MDA1'!L17,'MDA2'!L17,'MDA3'!J17,'MDA3'!M17,'T1'!N17,'T2'!L17,T3_R1!M17,T3_R2!M17)","v":0},0,{"$f":"MAX('MDA2'!J17,T17)","v":0},{"$f":"MAX('MDA1'!K17,'MDA2'!K17,'MDA3'!I17,'MDA3'!L17,V17,AD17)","v":0},{"$f":"MAX('MDA1'!L17,'MDA2'!L17,'MDA3'!J17,'MDA3'!M17,AF17)","v":0},0,0]
[{"$f":"IF(COUNTRY_INFO!A18=0,\" \",COUNTRY_INFO!A18)","v":"Mozambique"},{"$f":"IF(COUNTRY_INFO!B18=0,\" \",COUNTRY_INFO!B18)","v":"Cabo Delgado"},{"$f":"IF(COUNTRY_INFO!C18=0,\" \",COUNTRY_INFO!C18)","v":"Montepuez"},{"$f":"COUNTRY_INFO!L18","v":244976.24103630916},null,null,{"$f":"MAX('MDA1'!M18,'MDA2'!M18)","v":0},{"$f":"IF(AND(COUNTRY_INFO!H18>0,COUNTRY_INFO!H18<4),IF(D18>MAX('MDA1'!M18,'MDA2'!M18),MAX('MDA1'!M18,'MDA2'!M18),D18),0)","v":0},{"$f":"IF(AND(COUNTRY_INFO!H18>0,COUNTRY_INFO!H18<4), IF(G18/D18*100<>0, IF(G18/D18*100>100,100,G18/D18*100), \"-\"),0)","v":"-"},{"$f":"COUNTRY_INFO!M18","v":"Not required"},null,null,{"$f":"MAX('MDA1'!M18,MAX('MDA3'!I18,'MDA3'!L18)+MAX('MDA3'!J18,'MDA3'!M18))","v":0},{"$f":"IF(AND(COUNTRY_INFO!I18>0,COUNTRY_INFO!I18<4),IF(J18>MAX('MDA1'!M18,MAX('MDA3'!I18,'MDA3'!L18)+MAX('MDA3'!J18,'MDA3'!M18)),MAX('MDA1'!M18,MAX('MDA3'!I18,'MDA3'!L18)+MAX('MDA3'!J18,'MDA3'!M18)),J18),0)","v":0},{"$f":"IF(AND(COUNTRY_INFO!I18>0,COUNTRY_INFO!I18<4), IF(M18/J18*100<>0, IF(M18/J18*100>100,100,M18/J18*100), \"-\"),0)","v":0},{"$f":"COUNTRY_INFO!N18","v":97010},null,null,{"$f":"SUM(MAX('MDA2'!J18, 'T1'!L18, MAX(T3_R1!K18, T3_R2!K18)), MAX('MDA1'!K18, 'MDA2'!K18, 'T1'!M18, MAX(T3_R1!L18, T3_R2!L18)), MAX('MDA1'!L18, 'MDA2'!L18, 'T1'!N18, MAX(T3_R1!M18, T3_R2!M18)))","v":0},{"$f":"IF(AND(COUNTRY_INFO!J18>1,COUNTRY_INFO!J18<4),IF(COUNTRY_INFO!E18>MAX('MDA2'!J18,'T1'!L18,MAX(T3_R1!K18,T3_R2!K18)),MAX('MDA2'!J18,'T1'!L18,MAX(T3_R1!K18,T3_R2!K18)),COUNTRY_INFO!E18),0)","v":0},{"$f":"IF(AND(COUNTRY_INFO!J18>1,COUNTRY_INFO!J18<4), IF(T18/COUNTRY_INFO!E18*100<>0, IF(T18/COUNTRY_INFO!E18*100>100,100,T18/COUNTRY_INFO!E18*100), \"-\"),0)","v":"-"},{"$f":"IF(AND(COUNTRY_INFO!J18>1,COUNTRY_INFO!J18<4),IF(COUNTRY_INFO!F18>MAX('MDA1'!K18,'MDA2'!K18,'T1'!M18,MAX(T3_R1!L18,T3_R2!L18)),MAX('MDA1'!K18,'MDA2'!K18,'T1'!M18,MAX(T3_R1!L18,T3_R2!L18)),COUNTRY_INFO!F18),0)","v":0},{"$f":"IF(AND(COUNTRY_INFO!J18>1,COUNTRY_INFO!J18<4), IF(V18/COUNTRY_INFO!F18*100<>0, IF(V18/COUNTRY_INFO!F18*100>100,100,V18/COUNTRY_INFO!F18*100), \"-\"),0)","v":"-"},0,{"$f":"IF(AND(COUNTRY_INFO!J18>1,COUNTRY_INFO!J18<4), IF(S18/P18*100<>0, IF(X18/P18*100>100,100,X18/P18*100), \"-\"),0)","v":"-"},{"$f":"COUNTRY_INFO!O18","v":209454},null,null,{"$f":"MAX('T1'!L18,'T2'!J18)+MAX('T1'!M18,'T2'!K18)+MAX('T1'!N18,'T2'!L18)","v":0},{"$f":"IF(COUNTRY_INFO!K18=1,IF(COUNTRY_INFO!F18*0.33>MAX('T1'!M18,'T2'!K18),MAX('T1'!M18,'T2'!K18),COUNTRY_INFO!F18*0.33),IF(COUNTRY_INFO!K18=2,IF(COUNTRY_INFO!F18*0.5>MAX('T1'!M18,'T2'!K18),MAX('T1'!M18,'T2'!K18),COUNTRY_INFO!F18*0.5),IF(COUNTRY_INFO!K18=3,IF(COUNTRY_INFO!F18>MAX('T1'!M18,'T2'!K18),MAX('T1'!M18,'T2'!K18),COUNTRY_INFO!F18),0)))","v":0},{"$f":"IF(AND(COUNTRY_INFO!K18>0,COUNTRY_INFO!K18<4),IF(Z18>0,IF(COUNTRY_INFO!K18=1, AD18/(COUNTRY_INFO!F18*0.33)*100, IF(COUNTRY_INFO!K18=2, AD18/(COUNTRY_INFO!F18*0.5)*100, IF(COUNTRY_INFO!K18=3, AD18/COUNTRY_INFO!F18*100))),\"-\"),0)","v":0},{"$f":"IF(COUNTRY_INFO!K18=2,IF(COUNTRY_INFO!G18*0.2>MAX('T1'!N18,'T2'!L18),MAX('T1'!N18,'T2'!L18),COUNTRY_INFO!G18*0.2),IF(COUNTRY_INFO!K18=3,IF(COUNTRY_INFO!G18>MAX('T1'!N18,'T2'!L18),MAX('T1'!N18,'T2'!L18),COUNTRY_INFO!G18),0))","v":0},{"$f":"IF(AND(COUNTRY_INFO!K18>0,COUNTRY_INFO!K18<4),IF(Z18>0,IF(COUNTRY_INFO!K18=1, 0, IF(COUNTRY_INFO!K18=2, AF18/(COUNTRY_INFO!G18*0.2)*100, IF(COUNTRY_INFO!K18=3, AF18/COUNTRY_INFO!G18*100))),\"-\"),0)","v":0},0,{"$f":"IF(AND(COUNTRY_INFO!K18>0,COUNTRY_INFO!K18<4), IF(AC18/Z18*100<>0, IF(AH18/Z18*100>100,100,AH18/Z18*100), \"-\"),0)","v":"-"},null,{"$f":"IF(AND(D18<>0, D18<>\"Unknown\",D18<>\"Stopped\",D18<>\"Not required\"),D18/COUNTRY_INFO!D18, 0)","v":1},{"$f":"IF(AND(J18<>0,J18<>\"Unknown\",J18<>\"Stopped\",J18<>\"Not required\"),J18/COUNTRY_INFO!D18, 0)","v":0},{"$f":"IF(AND(P18<>0,P18<>\"Unknown\",P18<>\"Not required\"),P18/(COUNTRY_INFO!E18+COUNTRY_INFO!F18), 0)","v":1},{"$f":"IF(AND(Z18<>0,Z18<>\"Unknown\",Z18<>\"Not required\"),IF(COUNTRY_INFO!K18=1,1,IF(COUNTRY_INFO!K18=2,0.5*COUNTRY_INFO!F18/(0.5*COUNTRY_INFO!F18+0.2*COUNTRY_INFO!G18),IF(COUNTRY_INFO!K18=3,COUNTRY_INFO!F18/(COUNTRY_INFO!F18+COUNTRY_INFO!G18)))),0)","v":0.32748479379720608},{"$f":"IF(AND(Z18<>0,Z18<>\"Unknown\",Z18<>\"Not required\"),IF(COUNTRY_INFO!K18=1,0,IF(COUNTRY_INFO!K18=2,0.2*COUNTRY_INFO!G18/(0.5*COUNTRY_INFO!F18+0.2*COUNTRY_INFO!G18),IF(COUNTRY_INFO!K18=3,COUNTRY_INFO!G18/(COUNTRY_INFO!F18+COUNTRY_INFO!G18)))),0)","v":0.67251520620279392},{"$f":"MAX(COUNTRY_INFO!D18*AK18*PROFILE!$G$7,COUNTRY_INFO!D18*AL18*PROFILE!$G$7)","v":7104.3756803000842},{"$f":"MAX(COUNTRY_INFO!D18*AK18*PROFILE!$G$8,COUNTRY_INFO!D18*AL18*PROFILE!$G$8,COUNTRY_INFO!D18*AM18*PROFILE!$G$8)","v":28417.202462964226},{"$f":"MAX(COUNTRY_INFO!D18*AK18*PROFILE!$G$9,COUNTRY_INFO!D18*AL18*PROFILE!$G$9,COUNTRY_INFO!D18*AM18*PROFILE!$G$9,IF(AND(DISTRICT!Z18<>\"Unknown\",Z18<>\"Not required\"),COUNTRY_INFO!O18*DISTRICT!AN18,0))","v":68593.312931102351},{"$f":"MAX(COUNTRY_INFO!D18*AK18*PROFILE!$G$10,COUNTRY_INFO!D18*AL18*PROFILE!$G$10,IF(AND(DISTRICT!Z18<>\"Unknown\",Z18<>\"Not required\"),COUNTRY_INFO!O18*DISTRICT!AO18,0))","v":140861.3499619425},244976.24103630916,0,{"$f":"MAX('MDA2'!J18,'T1'!L18,'T2'!J18,T3_R1!K18,T3_R2!K18)","v":0},{"$f":"MAX('MDA1'!K18,'MDA2'!K18,'MDA3'!I18,'MDA3'!L18,'T1'!M18,'T2'!K18,T3_R1!L18,T3_R2!L18)","v":0},{"$f":"MAX('MDA1'!L18,'MDA2'!L18,'MDA3'!J18,'MDA3'!M18,'T1'!N18,'T2'!L18,T3_R1!M18,T3_R2!M18)","v":0},0,{"$f":"MAX('MDA2'!J18,T18)","v":0},{"$f":"MAX('MDA1'!K18,'MDA2'!K18,'MDA3'!I18,'MDA3'!L18,V18,AD18)","v":0},{"$f":"MAX('MDA1'!L18,'MDA2'!L18,'MDA3'!J18,'MDA3'!M18,AF18)","v":0},0,0]
[{"$f":"IF(COUNTRY_INFO!A19=0,\" \",COUNTRY_INFO!A19)","v":"Mozambique"},{"$f":"IF(COUNTRY_INFO!B19=0,\" \",COUNTRY_INFO!B19)","v":"Cabo Delgado"},{"$f":"IF(COUNTRY_INFO!C19=0,\" \",COUNTRY_INFO!C19)","v":"Mueda"},{"$f":"COUNTRY_INFO!L19","v":133995.12381617023},null,null,{"$f":"MAX('MDA1'!M19,'MDA2'!M19)","v":0},{"$f":"IF(AND(COUNTRY_INFO!H19>0,COUNTRY_INFO!H19<4),IF(D19>MAX('MDA1'!M19,'MDA2'!M19),MAX('MDA1'!M19,'MDA2'!M19),D19),0)","v":0},{"$f":"IF(AND(COUNTRY_INFO!H19>0,COUNTRY_INFO!H19<4), IF(G19/D19*100<>0, IF(G19/D19*100>100,100,G19/D19*100), \"-\"),0)","v":"-"},{"$f":"COUNTRY_INFO!M19","v":"Not required"},null,null,{"$f":"MAX('MDA1'!M19,MAX('MDA3'!I19,'MDA3'!L19)+MAX('MDA3'!J19,'MDA3'!M19))","v":0},{"$f":"IF(AND(COUNTRY_INFO!I19>0,COUNTRY_INFO!I19<4),IF(J19>MAX('MDA1'!M19,MAX('MDA3'!I19,'MDA3'!L19)+MAX('MDA3'!J19,'MDA3'!M19)),MAX('MDA1'!M19,MAX('MDA3'!I19,'MDA3'!L19)+MAX('MDA3'!J19,'MDA3'!M19)),J19),0)","v":0},{"$f":"IF(AND(COUNTRY_INFO!I19>0,COUNTRY_INFO!I19<4), IF(M19/J19*100<>0, IF(M19/J19*100>100,100,M19/J19*100), \"-\"),0)","v":0},{"$f":"COUNTRY_INFO!N19","v":53062},null,null,{"$f":"SUM(MAX('MDA2'!J19, 'T1'!L19, MAX(T3_R1!K19, T3_R2!K19)), MAX('MDA1'!K19, 'MDA2'!K19, 'T1'!M19, MAX(T3_R1!L19, T3_R2!L19)), MAX('MDA1'!L19, 'MDA2'!L19, 'T1'!N19, MAX(T3_R1!M19, T3_R2!M19)))","v":0},{"$f":"IF(AND(COUNTRY_INFO!J19>1,COUNTRY_INFO!J19<4),IF(COUNTRY_INFO!E19>MAX('MDA2'!J19,'T1'!L19,MAX(T3_R1!K19,T3_R2!K19)),MAX('MDA2'!J19,'T1'!L19,MAX(T3_R1!K19,T3_R2!K19)),COUNTRY_INFO!E19),0)","v":0},{"$f":"IF(AND(COUNTRY_INFO!J19>1,COUNTRY_INFO!J19<4), IF(T19/COUNTRY_INFO!E19*100<>0, IF(T19/COUNTRY_INFO!E19*100>100,100,T19/COUNTRY_INFO!E19*100), \"-\"),0)","v":"-"},{"$f":"IF(AND(COUNTRY_INFO!J19>1,COUNTRY_INFO!J19<4),IF(COUNTRY_INFO!F19>MAX('MDA1'!K19,'MDA2'!K19,'T1'!M19,MAX(T3_R1!L19,T3_R2!L19)),MAX('MDA1'!K19,'MDA2'!K19,'T1'!M19,MAX(T3_R1!L19,T3_R2!L19)),COUNTRY_INFO!F19),0)","v":0},{"$f":"IF(AND(COUNTRY_INFO!J19>1,COUNTRY_INFO!J19<4), IF(V19/COUNTRY_INFO!F19*100<>0, IF(V19/COUNTRY_INFO!F19*100>100,100,V19/COUNTRY_INFO!F19*100), \"-\"),0)","v":"-"},0,{"$f":"IF(AND(COUNTRY_INFO!J19>1,COUNTRY_INFO!J19<4), IF(S19/P19*100<>0, IF(X19/P19*100>100,100,X19/P19*100), \"-\"),0)","v":"-"},{"$f":"COUNTRY_INFO!O19","v":34168.9},null,null,{"$f":"MAX('T1'!L19,'T2'!J19)+MAX('T1'!M19,'T2'!K19)+MAX('T1'!N19,'T2'!L19)","v":0},{"$f":"IF(COUNTRY_INFO!K19=1,IF(COUNTRY_INFO!F19*0.33>MAX('T1'!M19,'T2'!K19),MAX('T1'!M19,'T2'!K19),COUNTRY_INFO!F19*0.33),IF(COUNTRY_INFO!K19=2,IF(COUNTRY_INFO!F19*0.5>MAX('T1'!M19,'T2'!K19),MAX('T1'!M19,'T2'!K19),COUNTRY_INFO!F19*0.5),IF(COUNTRY_INFO!K19=3,IF(COUNTRY_INFO!F19>MAX('T1'!M19,'T2'!K19),MAX('T1'!M19,'T2'!K19),COUNTRY_INFO!F19),0)))","v":0},{"$f":"IF(AND(COUNTRY_INFO!K19>0,COUNTRY_INFO!K19<4),IF(Z19>0,IF(COUNTRY_INFO!K19=1, AD19/(COUNTRY_INFO!F19*0.33)*100, IF(COUNTRY_INFO!K19=2, AD19/(COUNTRY_INFO!F19*0.5)*100, IF(COUNTRY_INFO!K19=3, AD19/COUNTRY_INFO!F19*100))),\"-\"),0)","v":0},{"$f":"IF(COUNTRY_INFO!K19=2,IF(COUNTRY_INFO!G19*0.2>MAX('T1'!N19,'T2'!L19),MAX('T1'!N19,'T2'!L19),COUNTRY_INFO!G19*0.2),IF(COUNTRY_INFO!K19=3,IF(COUNTRY_INFO!G19>MAX('T1'!N19,'T2'!L19),MAX('T1'!N19,'T2'!L19),COUNTRY_INFO!G19),0))","v":0},{"$f":"IF(AND(COUNTRY_INFO!K19>0,COUNTRY_INFO!K19<4),IF(Z19>0,IF(COUNTRY_INFO!K19=1, 0, IF(COUNTRY_INFO!K19=2, AF19/(COUNTRY_INFO!G19*0.2)*100, IF(COUNTRY_INFO!K19=3, AF19/COUNTRY_INFO!G19*100))),\"-\"),0)","v":0},0,{"$f":"IF(AND(COUNTRY_INFO!K19>0,COUNTRY_INFO!K19<4), IF(AC19/Z19*100<>0, IF(AH19/Z19*100>100,100,AH19/Z19*100), \"-\"),0)","v":"-"},null,{"$f":"IF(AND(D19<>0, D19<>\"Unknown\",D19<>\"Stopped\",D19<>\"Not required\"),D19/COUNTRY_INFO!D19, 0)","v":1},{"$f":"IF(AND(J19<>0,J19<>\"Unknown\",J19<>\"Stopped\",J19<>\"Not required\"),J19/COUNTRY_INFO!D19, 0)","v":0},{"$f":"IF(AND(P19<>0,P19<>\"Unknown\",P19<>\"Not required\"),P19/(COUNTRY_INFO!E19+COUNTRY_INFO!F19), 0)","v":1},{"$f":"IF(AND(Z19<>0,Z19<>\"Unknown\",Z19<>\"Not required\"),IF(COUNTRY_INFO!K19=1,1,IF(COUNTRY_INFO!K19=2,0.5*COUNTRY_INFO!F19/(0.5*COUNTRY_INFO!F19+0.2*COUNTRY_INFO!G19),IF(COUNTRY_INFO!K19=3,COUNTRY_INFO!F19/(COUNTRY_INFO!F19+COUNTRY_INFO!G19)))),0)","v":0.54902264925121969},{"$f":"IF(AND(Z19<>0,Z19<>\"Unknown\",Z19<>\"Not required\"),IF(COUNTRY_INFO!K19=1,0,IF(COUNTRY_INFO!K19=2,0.2*COUNTRY_INFO!G19/(0.5*COUNTRY_INFO!F19+0.2*COUNTRY_INFO!G19),IF(COUNTRY_INFO!K19=3,COUNTRY_INFO!G19/(COUNTRY_INFO!F19+COUNTRY_INFO!G19)))),0)","v":0.45097735074878037},{"$f":"MAX(COUNTRY_INFO!D19*AK19*PROFILE!$G$7,COUNTRY_INFO!D19*AL19*PROFILE!$G$7)","v":3885.8939744173185},{"$f":"MAX(COUNTRY_INFO!D19*AK19*PROFILE!$G$8,COUNTRY_INFO!D19*AL19*PROFILE!$G$8,COUNTRY_INFO!D19*AM19*PROFILE!$G$8)","v":15543.411664846719},{"$f":"MAX(COUNTRY_INFO!D19*AK19*PROFILE!$G$9,COUNTRY_INFO!D19*AL19*PROFILE!$G$9,COUNTRY_INFO!D19*AM19*PROFILE!$G$9,IF(AND(DISTRICT!Z19<>\"Unknown\",Z19<>\"Not required\"),COUNTRY_INFO!O19*DISTRICT!AN19,0))","v":37518.615765690112},{"$f":"MAX(COUNTRY_INFO!D19*AK19*PROFILE!$G$10,COUNTRY_INFO!D19*AL19*PROFILE!$G$10,IF(AND(DISTRICT!Z19<>\"Unknown\",Z19<>\"Not required\"),COUNTRY_INFO!O19*DISTRICT!AO19,0))","v":77047.202411216087},133995.12381617023,0,{"$f":"MAX('MDA2'!J19,'T1'!L19,'T2'!J19,T3_R1!K19,T3_R2!K19)","v":0},{"$f":"MAX('MDA1'!K19,'MDA2'!K19,'MDA3'!I19,'MDA3'!L19,'T1'!M19,'T2'!K19,T3_R1!L19,T3_R2!L19)","v":0},{"$f":"MAX('MDA1'!L19,'MDA2'!L19,'MDA3'!J19,'MDA3'!M19,'T1'!N19,'T2'!L19,T3_R1!M19,T3_R2!M19)","v":0},0,{"$f":"MAX('MDA2'!J19,T19)","v":0},{"$f":"MAX('MDA1'!K19,'MDA2'!K19,'MDA3'!I19,'MDA3'!L19,V19,AD19)","v":0},{"$f":"MAX('MDA1'!L19,'MDA2'!L19,'MDA3'!J19,'MDA3'!M19,AF19)","v":0},0,0]
[{"$f":"IF(COUNTRY_INFO!A20=0,\" \",COUNTRY_INFO!A20)","v":"Mozambique"},{"$f":"IF(COUNTRY_INFO!B20=0,\" \",COUNTRY_INFO!B20)","v":"Cabo Delgado"},{"$f":"IF(COUNTRY_INFO!C20=0,\" \",COUNTRY_INFO!C20)","v":"Muidumbe"},{"$f":"COUNTRY_INFO!L20","v":78963.353292598418},null,null,{"$f":"MAX('MDA1'!M20,'MDA2'!M20)","v":0},{"$f":"IF(AND(COUNTRY_INFO!H20>0,COUNTRY_INFO!H20<4),IF(D20>MAX('MDA1'!M20,'MDA2'!M20),MAX('MDA1'!M20,'MDA2'!M20),D20),0)","v":0},{"$f":"IF(AND(COUNTRY_INFO!H20>0,COUNTRY_INFO!H20<4), IF(G20/D20*100<>0, IF(G20/D20*100>100,100,G20/D20*100), \"-\"),0)","v":"-"},{"$f":"COUNTRY_INFO!M20","v":"Not required"},null,null,{"$f":"MAX('MDA1'!M20,MAX('MDA3'!I20,'MDA3'!L20)+MAX('MDA3'!J20,'MDA3'!M20))","v":0},{"$f":"IF(AND(COUNTRY_INFO!I20>0,COUNTRY_INFO!I20<4),IF(J20>MAX('MDA1'!M20,MAX('MDA3'!I20,'MDA3'!L20)+MAX('MDA3'!J20,'MDA3'!M20)),MAX('MDA1'!M20,MAX('MDA3'!I20,'MDA3'!L20)+MAX('MDA3'!J20,'MDA3'!M20)),J20),0)","v":0},{"$f":"IF(AND(COUNTRY_INFO!I20>0,COUNTRY_INFO!I20<4), IF(M20/J20*100<>0, IF(M20/J20*100>100,100,M20/J20*100), \"-\"),0)","v":0},{"$f":"COUNTRY_INFO!N20","v":31270},null,null,{"$f":"SUM(MAX('MDA2'!J20, 'T1'!L20, MAX(T3_R1!K20, T3_R2!K20)), MAX('MDA1'!K20, 'MDA2'!K20, 'T1'!M20, MAX(T3_R1!L20, T3_R2!L20)), MAX('MDA1'!L20, 'MDA2'!L20, 'T1'!N20, MAX(T3_R1!M20, T3_R2!M20)))","v":0},{"$f":"IF(AND(COUNTRY_INFO!J20>1,COUNTRY_INFO!J20<4),IF(COUNTRY_INFO!E20>MAX('MDA2'!J20,'T1'!L20,MAX(T3_R1!K20,T3_R2!K20)),MAX('MDA2'!J20,'T1'!L20,MAX(T3_R1!K20,T3_R2!K20)),COUNTRY_INFO!E20),0)","v":0},{"$f":"IF(AND(COUNTRY_INFO!J20>1,COUNTRY_INFO!J20<4), IF(T20/COUNTRY_INFO!E20*100<>0, IF(T20/COUNTRY_INFO!E20*100>100,100,T20/COUNTRY_INFO!E20*100), \"-\"),0)","v":"-"},{"$f":"IF(AND(COUNTRY_INFO!J20>1,COUNTRY_INFO!J20<4),IF(COUNTRY_INFO!F20>MAX('MDA1'!K20,'MDA2'!K20,'T1'!M20,MAX(T3_R1!L20,T3_R2!L20)),MAX('MDA1'!K20,'MDA2'!K20,'T1'!M20,MAX(T3_R1!L20,T3_R2!L20)),COUNTRY_INFO!F20),0)","v":0},{"$f":"IF(AND(COUNTRY_INFO!J20>1,COUNTRY_INFO!J20<4), IF(V20/COUNTRY_INFO!F20*100<>0, IF(V20/COUNTRY_INFO!F20*100>100,100,V20/COUNTRY_INFO!F20*100), \"-\"),0)","v":"-"},0,{"$f":"IF(AND(COUNTRY_INFO!J20>1,COUNTRY_INFO!J20<4), IF(S20/P20*100<>0, IF(X20/P20*100>100,100,X20/P20*100), \"-\"),0)","v":"-"},{"$f":"COUNTRY_INFO!O20","v":20135.800000000003},null,null,{"$f":"MAX('T1'!L20,'T2'!J20)+MAX('T1'!M20,'T2'!K20)+MAX('T1'!N20,'T2'!L20)","v":0},{"$f":"IF(COUNTRY_INFO!K20=1,IF(COUNTRY_INFO!F20*0.33>MAX('T1'!M20,'T2'!K20),MAX('T1'!M20,'T2'!K20),COUNTRY_INFO!F20*0.33),IF(COUNTRY_INFO!K20=2,IF(COUNTRY_INFO!F20*0.5>MAX('T1'!M20,'T2'!K20),MAX('T1'!M20,'T2'!K20),COUNTRY_INFO!F20*0.5),IF(COUNTRY_INFO!K20=3,IF(COUNTRY_INFO!F20>MAX('T1'!M20,'T2'!K20),MAX('T1'!M20,'T2'!K20),COUNTRY_INFO!F20),0)))","v":0},{"$f":"IF(AND(COUNTRY_INFO!K20>0,COUNTRY_INFO!K20<4),IF(Z20>0,IF(COUNTRY_INFO!K20=1, AD20/(COUNTRY_INFO!F20*0.33)*100, IF(COUNTRY_INFO!K20=2, AD20/(COUNTRY_INFO!F20*0.5)*100, IF(COUNTRY_INFO!K20=3, AD20/COUNTRY_INFO!F20*100))),\"-\"),0)","v":0},{"$f":"IF(COUNTRY_INFO!K20=2,IF(COUNTRY_INFO!G20*0.2>MAX('T1'!N20,'T2'!L20),MAX('T1'!N20,'T2'!L20),COUNTRY_INFO!G20*0.2),IF(COUNTRY_INFO!K20=3,IF(COUNTRY_INFO!G20>MAX('T1'!N20,'T2'!L20),MAX('T1'!N20,'T2'!L20),COUNTRY_INFO!G20),0))","v":0},{"$f":"IF(AND(COUNTRY_INFO!K20>0,COUNTRY_INFO!K20<4),IF(Z20>0,IF(COUNTRY_INFO!K20=1, 0, IF(COUNTRY_INFO!K20=2, AF20/(COUNTRY_INFO!G20*0.2)*100, IF(COUNTRY_INFO!K20=3, AF20/COUNTRY_INFO!G20*100))),\"-\"),0)","v":0},0,{"$f":"IF(AND(COUNTRY_INFO!K20>0,COUNTRY_INFO!K20<4), IF(AC20/Z20*100<>0, IF(AH20/Z20*100>100,100,AH20/Z20*100), \"-\"),0)","v":"-"},null,{"$f":"IF(AND(D20<>0, D20<>\"Unknown\",D20<>\"Stopped\",D20<>\"Not required\"),D20/COUNTRY_INFO!D20, 0)","v":1},{"$f":"IF(AND(J20<>0,J20<>\"Unknown\",J20<>\"Stopped\",J20<>\"Not required\"),J20/COUNTRY_INFO!D20, 0)","v":0},{"$f":"IF(AND(P20<>0,P20<>\"Unknown\",P20<>\"Not required\"),P20/(COUNTRY_INFO!E20+COUNTRY_INFO!F20), 0)","v":1},{"$f":"IF(AND(Z20<>0,Z20<>\"Unknown\",Z20<>\"Not required\"),IF(COUNTRY_INFO!K20=1,1,IF(COUNTRY_INFO!K20=2,0.5*COUNTRY_INFO!F20/(0.5*COUNTRY_INFO!F20+0.2*COUNTRY_INFO!G20),IF(COUNTRY_INFO!K20=3,COUNTRY_INFO!F20/(COUNTRY_INFO!F20+COUNTRY_INFO!G20)))),0)","v":0.54902213967162961},{"$f":"IF(AND(Z20<>0,Z20<>\"Unknown\",Z20<>\"Not required\"),IF(COUNTRY_INFO!K20=1,0,IF(COUNTRY_INFO!K20=2,0.2*COUNTRY_INFO!G20/(0.5*COUNTRY_INFO!F20+0.2*COUNTRY_INFO!G20),IF(COUNTRY_INFO!K20=3,COUNTRY_INFO!G20/(COUNTRY_INFO!F20+COUNTRY_INFO!G20)))),0)","v":0.45097786032837034},{"$f":"MAX(COUNTRY_INFO!D20*AK20*PROFILE!$G$7,COUNTRY_INFO!D20*AL20*PROFILE!$G$7)","v":2289.9580971353598},{"$f":"MAX(COUNTRY_INFO!D20*AK20*PROFILE!$G$8,COUNTRY_INFO!D20*AL20*PROFILE!$G$8,COUNTRY_INFO!D20*AM20*PROFILE!$G$8)","v":9159.7356061062255},{"$f":"MAX(COUNTRY_INFO!D20*AK20*PROFILE!$G$9,COUNTRY_INFO!D20*AL20*PROFILE!$G$9,COUNTRY_INFO!D20*AM20*PROFILE!$G$9,IF(AND(DISTRICT!Z20<>\"Unknown\",Z20<>\"Not required\"),COUNTRY_INFO!O20*DISTRICT!AN20,0))","v":22109.727782481601},{"$f":"MAX(COUNTRY_INFO!D20*AK20*PROFILE!$G$10,COUNTRY_INFO!D20*AL20*PROFILE!$G$10,IF(AND(DISTRICT!Z20<>\"Unknown\",Z20<>\"Not required\"),COUNTRY_INFO!O20*DISTRICT!AO20,0))","v":45403.931806875233},78963.353292598418,0,{"$f":"MAX('MDA2'!J20,'T1'!L20,'T2'!J20,T3_R1!K20,T3_R2!K20)","v":0},{"$f":"MAX('MDA1'!K20,'MDA2'!K20,'MDA3'!I20,'MDA3'!L20,'T1'!M20,'T2'!K20,T3_R1!L20,T3_R2!L20)","v":0},{"$f":"MAX('MDA1'!L20,'MDA2'!L20,'MDA3'!J20,'MDA3'!M20,'T1'!N20,'T2'!L20,T3_R1!M20,T3_R2!M20)","v":0},0,{"$f":"MAX('MDA2'!J20,T20)","v":0},{"$f":"MAX('MDA1'!K20,'MDA2'!K20,'MDA3'!I20,'MDA3'!L20,V20,AD20)","v":0},{"$f":"MAX('MDA1'!L20,'MDA2'!L20,'MDA3'!J20,'MDA3'!M20,AF20)","v":0},0,0]
[{"$f":"IF(COUNTRY_INFO!A21=0,\" \",COUNTRY_INFO!A21)","v":"Mozambique"},{"$f":"IF(COUNTRY_INFO!B21=0,\" \",COUNTRY_INFO!B21)","v":"Cabo Delgado"},{"$f":"IF(COUNTRY_INFO!C21=0,\" \",COUNTRY_INFO!C21)","v":"Namuno"},{"$f":"COUNTRY_INFO!L21","v":221348.79631695885},null,null,{"$f":"MAX('MDA1'!M21,'MDA2'!M21)","v":0},{"$f":"IF(AND(COUNTRY_INFO!H21>0,COUNTRY_INFO!H21<4),IF(D21>MAX('MDA1'!M21,'MDA2'!M21),MAX('MDA1'!M21,'MDA2'!M21),D21),0)","v":0},{"$f":"IF(AND(COUNTRY_INFO!H21>0,COUNTRY_INFO!H21<4), IF(G21/D21*100<>0, IF(G21/D21*100>100,100,G21/D21*100), \"-\"),0)","v":"-"},{"$f":"COUNTRY_INFO!M21","v":"Not required"},null,null,{"$f":"MAX('MDA1'!M21,MAX('MDA3'!I21,'MDA3'!L21)+MAX('MDA3'!J21,'MDA3'!M21))","v":0},{"$f":"IF(AND(COUNTRY_INFO!I21>0,COUNTRY_INFO!I21<4),IF(J21>MAX('MDA1'!M21,MAX('MDA3'!I21,'MDA3'!L21)+MAX('MDA3'!J21,'MDA3'!M21)),MAX('MDA1'!M21,MAX('MDA3'!I21,'MDA3'!L21)+MAX('MDA3'!J21,'MDA3'!M21)),J21),0)","v":0},{"$f":"IF(AND(COUNTRY_INFO!I21>0,COUNTRY_INFO!I21<4), IF(M21/J21*100<>0, IF(M21/J21*100>100,100,M21/J21*100), \"-\"),0)","v":0},{"$f":"COUNTRY_INFO!N21","v":87654},null,null,{"$f":"SUM(MAX('MDA2'!J21, 'T1'!L21, MAX(T3_R1!K21, T3_R2!K21)), MAX('MDA1'!K21, 'MDA2'!K21, 'T1'!M21, MAX(T3_R1!L21, T3_R2!L21)), MAX('MDA1'!L21, 'MDA2'!L21, 'T1'!N21, MAX(T3_R1!M21, T3_R2!M21)))","v":0},{"$f":"IF(AND(COUNTRY_INFO!J21>1,COUNTRY_INFO!J21<4),IF(COUNTRY_INFO!E21>MAX('MDA2'!J21,'T1'!L21,MAX(T3_R1!K21,T3_R2!K21)),MAX('MDA2'!J21,'T1'!L21,MAX(T3_R1!K21,T3_R2!K21)),COUNTRY_INFO!E21),0)","v":0},{"$f":"IF(AND(COUNTRY_INFO!J21>1,COUNTRY_INFO!J21<4), IF(T21/COUNTRY_INFO!E21*100<>0, IF(T21/COUNTRY_INFO!E21*100>100,100,T21/COUNTRY_INFO!E21*100), \"-\"),0)","v":"-"},{"$f":"IF(AND(COUNTRY_INFO!J21>1,COUNTRY_INFO!J21<4),IF(COUNTRY_INFO!F21>MAX('MDA1'!K21,'MDA2'!K21,'T1'!M21,MAX(T3_R1!L21,T3_R2!L21)),MAX('MDA1'!K21,'MDA2'!K21,'T1'!M21,MAX(T3_R1!L21,T3_R2!L21)),COUNTRY_INFO!F21),0)","v":0},{"$f":"IF(AND(COUNTRY_INFO!J21>1,COUNTRY_INFO!J21<4), IF(V21/COUNTRY_INFO!F21*100<>0, IF(V21/COUNTRY_INFO!F21*100>100,100,V21/COUNTRY_INFO!F21*100), \"-\"),0)","v":"-"},0,{"$f":"IF(AND(COUNTRY_INFO!J21>1,COUNTRY_INFO!J21<4), IF(S21/P21*100<>0, IF(X21/P21*100>100,100,X21/P21*100), \"-\"),0)","v":"-"},{"$f":"COUNTRY_INFO!O21","v":189254},null,null,{"$f":"MAX('T1'!L21,'T2'!J21)+MAX('T1'!M21,'T2'!K21)+MAX('T1'!N21,'T2'!L21)","v":0},{"$f":"IF(COUNTRY_INFO!K21=1,IF(COUNTRY_INFO!F21*0.33>MAX('T1'!M21,'T2'!K21),MAX('T1'!M21,'T2'!K21),COUNTRY_INFO!F21*0.33),IF(COUNTRY_INFO!K21=2,IF(COUNTRY_INFO!F21*0.5>MAX('T1'!M21,'T2'!K21),MAX('T1'!M21,'T2'!K21),COUNTRY_INFO!F21*0.5),IF(COUNTRY_INFO!K21=3,IF(COUNTRY_INFO!F21>MAX('T1'!M21,'T2'!K21),MAX('T1'!M21,'T2'!K21),COUNTRY_INFO!F21),0)))","v":0},{"$f":"IF(AND(COUNTRY_INFO!K21>0,COUNTRY_INFO!K21<4),IF(Z21>0,IF(COUNTRY_INFO!K21=1, AD21/(COUNTRY_INFO!F21*0.33)*100, IF(COUNTRY_INFO!K21=2, AD21/(COUNTRY_INFO!F21*0.5)*100, IF(COUNTRY_INFO!K21=3, AD21/COUNTRY_INFO!F21*100))),\"-\"),0)","v":0},{"$f":"IF(COUNTRY_INFO!K21=2,IF(COUNTRY_INFO!G21*0.2>MAX('T1'!N21,'T2'!L21),MAX('T1'!N21,'T2'!L21),COUNTRY_INFO!G21*0.2),IF(COUNTRY_INFO!K21=3,IF(COUNTRY_INFO!G21>MAX('T1'!N21,'T2'!L21),MAX('T1'!N21,'T2'!L21),COUNTRY_INFO!G21),0))","v":0},{"$f":"IF(AND(COUNTRY_INFO!K21>0,COUNTRY_INFO!K21<4),IF(Z21>0,IF(COUNTRY_INFO!K21=1, 0, IF(COUNTRY_INFO!K21=2, AF21/(COUNTRY_INFO!G21*0.2)*100, IF(COUNTRY_INFO!K21=3, AF21/COUNTRY_INFO!G21*100))),\"-\"),0)","v":0},0,{"$f":"IF(AND(COUNTRY_INFO!K21>0,COUNTRY_INFO!K21<4), IF(AC21/Z21*100<>0, IF(AH21/Z21*100>100,100,AH21/Z21*100), \"-\"),0)","v":"-"},null,{"$f":"IF(AND(D21<>0, D21<>\"Unknown\",D21<>\"Stopped\",D21<>\"Not required\"),D21/COUNTRY_INFO!D21, 0)","v":1},{"$f":"IF(AND(J21<>0,J21<>\"Unknown\",J21<>\"Stopped\",J21<>\"Not required\"),J21/COUNTRY_INFO!D21, 0)","v":0},{"$f":"IF(AND(P21<>0,P21<>\"Unknown\",P21<>\"Not required\"),P21/(COUNTRY_INFO!E21+COUNTRY_INFO!F21), 0)","v":1},{"$f":"IF(AND(Z21<>0,Z21<>\"Unknown\",Z21<>\"Not required\"),IF(COUNTRY_INFO!K21=1,1,IF(COUNTRY_INFO!K21=2,0.5*COUNTRY_INFO!F21/(0.5*COUNTRY_INFO!F21+0.2*COUNTRY_INFO!G21),IF(COUNTRY_INFO!K21=3,COUNTRY_INFO!F21/(COUNTRY_INFO!F21+COUNTRY_INFO!G21)))),0)","v":0.32748581271730054},{"$f":"IF(AND(Z21<>0,Z21<>\"Unknown\",Z21<>\"Not required\"),IF(COUNTRY_INFO!K21=1,0,IF(COUNTRY_INFO!K21=2,0.2*COUNTRY_INFO!G21/(0.5*COUNTRY_INFO!F21+0.2*COUNTRY_INFO!G21),IF(COUNTRY_INFO!K21=3,COUNTRY_INFO!G21/(COUNTRY_INFO!F21+COUNTRY_INFO!G21)))),0)","v":0.6725141872826994},{"$f":"MAX(COUNTRY_INFO!D21*AK21*PROFILE!$G$7,COUNTRY_INFO!D21*AL21*PROFILE!$G$7)","v":6419.1735442002491},{"$f":"MAX(COUNTRY_INFO!D21*AK21*PROFILE!$G$8,COUNTRY_INFO!D21*AL21*PROFILE!$G$8,COUNTRY_INFO!D21*AM21*PROFILE!$G$8)","v":25676.422877842102},{"$f":"MAX(COUNTRY_INFO!D21*AK21*PROFILE!$G$9,COUNTRY_INFO!D21*AL21*PROFILE!$G$9,COUNTRY_INFO!D21*AM21*PROFILE!$G$9,IF(AND(DISTRICT!Z21<>\"Unknown\",Z21<>\"Not required\"),COUNTRY_INFO!O21*DISTRICT!AN21,0))","v":61977.999999999993},{"$f":"MAX(COUNTRY_INFO!D21*AK21*PROFILE!$G$10,COUNTRY_INFO!D21*AL21*PROFILE!$G$10,IF(AND(DISTRICT!Z21<>\"Unknown\",Z21<>\"Not required\"),COUNTRY_INFO!O21*DISTRICT!AO21,0))","v":127276},221349.59642204235,0,{"$f":"MAX('MDA2'!J21,'T1'!L21,'T2'!J21,T3_R1!K21,T3_R2!K21)","v":0},{"$f":"MAX('MDA1'!K21,'MDA2'!K21,'MDA3'!I21,'MDA3'!L21,'T1'!M21,'T2'!K21,T3_R1!L21,T3_R2!L21)","v":0},{"$f":"MAX('MDA1'!L21,'MDA2'!L21,'MDA3'!J21,'MDA3'!M21,'T1'!N21,'T2'!L21,T3_R1!M21,T3_R2!M21)","v":0},0,{"$f":"MAX('MDA2'!J21,T21)","v":0},{"$f":"MAX('MDA1'!K21,'MDA2'!K21,'MDA3'!I21,'MDA3'!L21,V21,AD21)","v":0},{"$f":"MAX('MDA1'!L21,'MDA2'!L21,'MDA3'!J21,'MDA3'!M21,AF21)","v":0},0,0]
[{"$f":"IF(COUNTRY_INFO!A22=0,\" \",COUNTRY_INFO!A22)","v":"Mozambique"},{"$f":"IF(COUNTRY_INFO!B22=0,\" \",COUNTRY_INFO!B22)","v":"Cabo Delgado"},{"$f":"IF(COUNTRY_INFO!C22=0,\" \",COUNTRY_INFO!C22)","v":"Nangade"},{"$f":"COUNTRY_INFO!L22","v":73600.052980286186},null,null,{"$f":"MAX('MDA1'!M22,'MDA2'!M22)","v":0},{"$f":"IF(AND(COUNTRY_INFO!H22>0,COUNTRY_INFO!H22<4),IF(D22>MAX('MDA1'!M22,'MDA2'!M22),MAX('MDA1'!M22,'MDA2'!M22),D22),0)","v":0},{"$f":"IF(AND(COUNTRY_INFO!H22>0,COUNTRY_INFO!H22<4), IF(G22/D22*100<>0, IF(G22/D22*100>100,100,G22/D22*100), \"-\"),0)","v":"-"},{"$f":"COUNTRY_INFO!M22","v":"Not required"},null,null,{"$f":"MAX('MDA1'!M22,MAX('MDA3'!I22,'MDA3'!L22)+MAX('MDA3'!J22,'MDA3'!M22))","v":0},{"$f":"IF(AND(COUNTRY_INFO!I22>0,COUNTRY_INFO!I22<4),IF(J22>MAX('MDA1'!M22,MAX('MDA3'!I22,'MDA3'!L22)+MAX('MDA3'!J22,'MDA3'!M22)),MAX('MDA1'!M22,MAX('MDA3'!I22,'MDA3'!L22)+MAX('MDA3'!J22,'MDA3'!M22)),J22),0)","v":0},{"$f":"IF(AND(COUNTRY_INFO!I22>0,COUNTRY_INFO!I22<4), IF(M22/J22*100<>0, IF(M22/J22*100>100,100,M22/J22*100), \"-\"),0)","v":0},{"$f":"COUNTRY_INFO!N22","v":29146},null,null,{"$f":"SUM(MAX('MDA2'!J22, 'T1'!L22, MAX(T3_R1!K22, T3_R2!K22)), MAX('MDA1'!K22, 'MDA2'!K22, 'T1'!M22, MAX(T3_R1!L22, T3_R2!L22)), MAX('MDA1'!L22, 'MDA2'!L22, 'T1'!N22, MAX(T3_R1!M22, T3_R2!M22)))","v":0},{"$f":"IF(AND(COUNTRY_INFO!J22>1,COUNTRY_INFO!J22<4),IF(COUNTRY_INFO!E22>MAX('MDA2'!J22,'T1'!L22,MAX(T3_R1!K22,T3_R2!K22)),MAX('MDA2'!J22,'T1'!L22,MAX(T3_R1!K22,T3_R2!K22)),COUNTRY_INFO!E22),0)","v":0},{"$f":"IF(AND(COUNTRY_INFO!J22>1,COUNTRY_INFO!J22<4), IF(T22/COUNTRY_INFO!E22*100<>0, IF(T22/COUNTRY_INFO!E22*100>100,100,T22/COUNTRY_INFO!E22*100), \"-\"),0)","v":"-"},{"$f":"IF(AND(COUNTRY_INFO!J22>1,COUNTRY_INFO!J22<4),IF(COUNTRY_INFO!F22>MAX('MDA1'!K22,'MDA2'!K22,'T1'!M22,MAX(T3_R1!L22,T3_R2!L22)),MAX('MDA1'!K22,'MDA2'!K22,'T1'!M22,MAX(T3_R1!L22,T3_R2!L22)),COUNTRY_INFO!F22),0)","v":0},{"$f":"IF(AND(COUNTRY_INFO!J22>1,COUNTRY_INFO!J22<4), IF(V22/COUNTRY_INFO!F22*100<>0, IF(V22/COUNTRY_INFO!F22*100>100,100,V22/COUNTRY_INFO!F22*100), \"-\"),0)","v":"-"},0,{"$f":"IF(AND(COUNTRY_INFO!J22>1,COUNTRY_INFO!J22<4), IF(S22/P22*100<>0, IF(X22/P22*100>100,100,X22/P22*100), \"-\"),0)","v":"-"},{"$f":"COUNTRY_INFO!O22","v":18768},null,null,{"$f":"MAX('T1'!L22,'T2'!J22)+MAX('T1'!M22,'T2'!K22)+MAX('T1'!N22,'T2'!L22)","v":0},{"$f":"IF(COUNTRY_INFO!K22=1,IF(COUNTRY_INFO!F22*0.33>MAX('T1'!M22,'T2'!K22),MAX('T1'!M22,'T2'!K22),COUNTRY_INFO!F22*0.33),IF(COUNTRY_INFO!K22=2,IF(COUNTRY_INFO!F22*0.5>MAX('T1'!M22,'T2'!K22),MAX('T1'!M22,'T2'!K22),COUNTRY_INFO!F22*0.5),IF(COUNTRY_INFO!K22=3,IF(COUNTRY_INFO!F22>MAX('T1'!M22,'T2'!K22),MAX('T1'!M22,'T2'!K22),COUNTRY_INFO!F22),0)))","v":0},{"$f":"IF(AND(COUNTRY_INFO!K22>0,COUNTRY_INFO!K22<4),IF(Z22>0,IF(COUNTRY_INFO!K22=1, AD22/(COUNTRY_INFO!F22*0.33)*100, IF(COUNTRY_INFO!K22=2, AD22/(COUNTRY_INFO!F22*0.5)*100, IF(COUNTRY_INFO!K22=3, AD22/COUNTRY_INFO!F22*100))),\"-\"),0)","v":0},{"$f":"IF(COUNTRY_INFO!K22=2,IF(COUNTRY_INFO!G22*0.2>MAX('T1'!N22,'T2'!L22),MAX('T1'!N22,'T2'!L22),COUNTRY_INFO!G22*0.2),IF(COUNTRY_INFO!K22=3,IF(COUNTRY_INFO!G22>MAX('T1'!N22,'T2'!L22),MAX('T1'!N22,'T2'!L22),COUNTRY_INFO!G22),0))","v":0},{"$f":"IF(AND(COUNTRY_INFO!K22>0,COUNTRY_INFO!K22<4),IF(Z22>0,IF(COUNTRY_INFO!K22=1, 0, IF(COUNTRY_INFO!K22=2, AF22/(COUNTRY_INFO!G22*0.2)*100, IF(COUNTRY_INFO!K22=3, AF22/COUNTRY_INFO!G22*100))),\"-\"),0)","v":0},0,{"$f":"IF(AND(COUNTRY_INFO!K22>0,COUNTRY_INFO!K22<4), IF(AC22/Z22*100<>0, IF(AH22/Z22*100>100,100,AH22/Z22*100), \"-\"),0)","v":"-"},null,{"$f":"IF(AND(D22<>0, D22<>\"Unknown\",D22<>\"Stopped\",D22<>\"Not required\"),D22/COUNTRY_INFO!D22, 0)","v":1},{"$f":"IF(AND(J22<>0,J22<>\"Unknown\",J22<>\"Stopped\",J22<>\"Not required\"),J22/COUNTRY_INFO!D22, 0)","v":0},{"$f":"IF(AND(P22<>0,P22<>\"Unknown\",P22<>\"Not required\"),P22/(COUNTRY_INFO!E22+COUNTRY_INFO!F22), 0)","v":1},{"$f":"IF(AND(Z22<>0,Z22<>\"Unknown\",Z22<>\"Not required\"),IF(COUNTRY_INFO!K22=1,1,IF(COUNTRY_INFO!K22=2,0.5*COUNTRY_INFO!F22/(0.5*COUNTRY_INFO!F22+0.2*COUNTRY_INFO!G22),IF(COUNTRY_INFO!K22=3,COUNTRY_INFO!F22/(COUNTRY_INFO!F22+COUNTRY_INFO!G22)))),0)","v":0.5490196078431373},{"$f":"IF(AND(Z22<>0,Z22<>\"Unknown\",Z22<>\"Not required\"),IF(COUNTRY_INFO!K22=1,0,IF(COUNTRY_INFO!K22=2,0.2*COUNTRY_INFO!G22/(0.5*COUNTRY_INFO!F22+0.2*COUNTRY_INFO!G22),IF(COUNTRY_INFO!K22=3,COUNTRY_INFO!G22/(COUNTRY_INFO!F22+COUNTRY_INFO!G22)))),0)","v":0.45098039215686275},{"$f":"MAX(COUNTRY_INFO!D22*AK22*PROFILE!$G$7,COUNTRY_INFO!D22*AL22*PROFILE!$G$7)","v":2134.4209718053594},{"$f":"MAX(COUNTRY_INFO!D22*AK22*PROFILE!$G$8,COUNTRY_INFO!D22*AL22*PROFILE!$G$8,COUNTRY_INFO!D22*AM22*PROFILE!$G$8)","v":8537.5936783832567},{"$f":"MAX(COUNTRY_INFO!D22*AK22*PROFILE!$G$9,COUNTRY_INFO!D22*AL22*PROFILE!$G$9,COUNTRY_INFO!D22*AM22*PROFILE!$G$9,IF(AND(DISTRICT!Z22<>\"Unknown\",Z22<>\"Not required\"),COUNTRY_INFO!O22*DISTRICT!AN22,0))","v":20608.004451640772},{"$f":"MAX(COUNTRY_INFO!D22*AK22*PROFILE!$G$10,COUNTRY_INFO!D22*AL22*PROFILE!$G$10,IF(AND(DISTRICT!Z22<>\"Unknown\",Z22<>\"Not required\"),COUNTRY_INFO!O22*DISTRICT!AO22,0))","v":42320.033878456794},73600.052980286186,0,{"$f":"MAX('MDA2'!J22,'T1'!L22,'T2'!J22,T3_R1!K22,T3_R2!K22)","v":0},{"$f":"MAX('MDA1'!K22,'MDA2'!K22,'MDA3'!I22,'MDA3'!L22,'T1'!M22,'T2'!K22,T3_R1!L22,T3_R2!L22)","v":0},{"$f":"MAX('MDA1'!L22,'MDA2'!L22,'MDA3'!J22,'MDA3'!M22,'T1'!N22,'T2'!L22,T3_R1!M22,T3_R2!M22)","v":0},0,{"$f":"MAX('MDA2'!J22,T22)","v":0},{"$f":"MAX('MDA1'!K22,'MDA2'!K22,'MDA3'!I22,'MDA3'!L22,V22,AD22)","v":0},{"$f":"MAX('MDA1'!L22,'MDA2'!L22,'MDA3'!J22,'MDA3'!M22,AF22)","v":0},0,0]
[{"$f":"IF(COUNTRY_INFO!A23=0,\" \",COUNTRY_INFO!A23)","v":"Mozambique"},{"$f":"IF(COUNTRY_INFO!B23=0,\" \",COUNTRY_INFO!B23)","v":"Cabo Delgado"},{"$f":"IF(COUNTRY_INFO!C23=0,\" \",COUNTRY_INFO!C23)","v":"Palma"},{"$f":"COUNTRY_INFO!L23","v":52441.031830374872},null,null,{"$f":"MAX('MDA1'!M23,'MDA2'!M23)","v":0},{"$f":"IF(AND(COUNTRY_INFO!H23>0,COUNTRY_INFO!H23<4),IF(D23>MAX('MDA1'!M23,'MDA2'!M23),MAX('MDA1'!M23,'MDA2'!M23),D23),0)","v":0},{"$f":"IF(AND(COUNTRY_INFO!H23>0,COUNTRY_INFO!H23<4), IF(G23/D23*100<>0, IF(G23/D23*100>100,100,G23/D23*100), \"-\"),0)","v":"-"},{"$f":"COUNTRY_INFO!M23","v":"Not required"},null,null,{"$f":"MAX('MDA1'!M23,MAX('MDA3'!I23,'MDA3'!L23)+MAX('MDA3'!J23,'MDA3'!M23))","v":0},{"$f":"IF(AND(COUNTRY_INFO!I23>0,COUNTRY_INFO!I23<4),IF(J23>MAX('MDA1'!M23,MAX('MDA3'!I23,'MDA3'!L23)+MAX('MDA3'!J23,'MDA3'!M23)),MAX('MDA1'!M23,MAX('MDA3'!I23,'MDA3'!L23)+MAX('MDA3'!J23,'MDA3'!M23)),J23),0)","v":0},{"$f":"IF(AND(COUNTRY_INFO!I23>0,COUNTRY_INFO!I23<4), IF(M23/J23*100<>0, IF(M23/J23*100>100,100,M23/J23*100), \"-\"),0)","v":0},{"$f":"COUNTRY_INFO!N23","v":20766},null,null,{"$f":"SUM(MAX('MDA2'!J23, 'T1'!L23, MAX(T3_R1!K23, T3_R2!K23)), MAX('MDA1'!K23, 'MDA2'!K23, 'T1'!M23, MAX(T3_R1!L23, T3_R2!L23)), MAX('MDA1'!L23, 'MDA2'!L23, 'T1'!N23, MAX(T3_R1!M23, T3_R2!M23)))","v":0},{"$f":"IF(AND(COUNTRY_INFO!J23>1,COUNTRY_INFO!J23<4),IF(COUNTRY_INFO!E23>MAX('MDA2'!J23,'T1'!L23,MAX(T3_R1!K23,T3_R2!K23)),MAX('MDA2'!J23,'T1'!L23,MAX(T3_R1!K23,T3_R2!K23)),COUNTRY_INFO!E23),0)","v":0},{"$f":"IF(AND(COUNTRY_INFO!J23>1,COUNTRY_INFO!J23<4), IF(T23/COUNTRY_INFO!E23*100<>0, IF(T23/COUNTRY_INFO!E23*100>100,100,T23/COUNTRY_INFO!E23*100), \"-\"),0)","v":"-"},{"$f":"IF(AND(COUNTRY_INFO!J23>1,COUNTRY_INFO!J23<4),IF(COUNTRY_INFO!F23>MAX('MDA1'!K23,'MDA2'!K23,'T1'!M23,MAX(T3_R1!L23,T3_R2!L23)),MAX('MDA1'!K23,'MDA2'!K23,'T1'!M23,MAX(T3_R1!L23,T3_R2!L23)),COUNTRY_INFO!F23),0)","v":0},{"$f":"IF(AND(COUNTRY_INFO!J23>1,COUNTRY_INFO!J23<4), IF(V23/COUNTRY_INFO!F23*100<>0, IF(V23/COUNTRY_INFO!F23*100>100,100,V23/COUNTRY_INFO!F23*100), \"-\"),0)","v":"-"},0,{"$f":"IF(AND(COUNTRY_INFO!J23>1,COUNTRY_INFO!J23<4), IF(S23/P23*100<>0, IF(X23/P23*100>100,100,X23/P23*100), \"-\"),0)","v":"-"},{"$f":"COUNTRY_INFO!O23","v":44837},null,null,{"$f":"MAX('T1'!L23,'T2'!J23)+MAX('T1'!M23,'T2'!K23)+MAX('T1'!N23,'T2'!L23)","v":0},{"$f":"IF(COUNTRY_INFO!K23=1,IF(COUNTRY_INFO!F23*0.33>MAX('T1'!M23,'T2'!K23),MAX('T1'!M23,'T2'!K23),COUNTRY_INFO!F23*0.33),IF(COUNTRY_INFO!K23=2,IF(COUNTRY_INFO!F23*0.5>MAX('T1'!M23,'T2'!K23),MAX('T1'!M23,'T2'!K23),COUNTRY_INFO!F23*0.5),IF(COUNTRY_INFO!K23=3,IF(COUNTRY_INFO!F23>MAX('T1'!M23,'T2'!K23),MAX('T1'!M23,'T2'!K23),COUNTRY_INFO!F23),0)))","v":0},{"$f":"IF(AND(COUNTRY_INFO!K23>0,COUNTRY_INFO!K23<4),IF(Z23>0,IF(COUNTRY_INFO!K23=1, AD23/(COUNTRY_INFO!F23*0.33)*100, IF(COUNTRY_INFO!K23=2, AD23/(COUNTRY_INFO!F23*0.5)*100, IF(COUNTRY_INFO!K23=3, AD23/COUNTRY_INFO!F23*100))),\"-\"),0)","v":0},{"$f":"IF(COUNTRY_INFO!K23=2,IF(COUNTRY_INFO!G23*0.2>MAX('T1'!N23,'T2'!L23),MAX('T1'!N23,'T2'!L23),COUNTRY_INFO!G23*0.2),IF(COUNTRY_INFO!K23=3,IF(COUNTRY_INFO!G23>MAX('T1'!N23,'T2'!L23),MAX('T1'!N23,'T2'!L23),COUNTRY_INFO!G23),0))","v":0},{"$f":"IF(AND(COUNTRY_INFO!K23>0,COUNTRY_INFO!K23<4),IF(Z23>0,IF(COUNTRY_INFO!K23=1, 0, IF(COUNTRY_INFO!K23=2, AF23/(COUNTRY_INFO!G23*0.2)*100, IF(COUNTRY_INFO!K23=3, AF23/COUNTRY_INFO!G23*100))),\"-\"),0)","v":0},0,{"$f":"IF(AND(COUNTRY_INFO!K23>0,COUNTRY_INFO!K23<4), IF(AC23/Z23*100<>0, IF(AH23/Z23*100>100,100,AH23/Z23*100), \"-\"),0)","v":"-"},null,{"$f":"IF(AND(D23<>0, D23<>\"Unknown\",D23<>\"Stopped\",D23<>\"Not required\"),D23/COUNTRY_INFO!D23, 0)","v":1},{"$f":"IF(AND(J23<>0,J23<>\"Unknown\",J23<>\"Stopped\",J23<>\"Not required\"),J23/COUNTRY_INFO!D23, 0)","v":0},{"$f":"IF(AND(P23<>0,P23<>\"Unknown\",P23<>\"Not required\"),P23/(COUNTRY_INFO!E23+COUNTRY_INFO!F23), 0)","v":1},{"$f":"IF(AND(Z23<>0,Z23<>\"Unknown\",Z23<>\"Not required\"),IF(COUNTRY_INFO!K23=1,1,IF(COUNTRY_INFO!K23=2,0.5*COUNTRY_INFO!F23/(0.5*COUNTRY_INFO!F23+0.2*COUNTRY_INFO!G23),IF(COUNTRY_INFO!K23=3,COUNTRY_INFO!F23/(COUNTRY_INFO!F23+COUNTRY_INFO!G23)))),0)","v":0.32747507638780471},{"$f":"IF(AND(Z23<>0,Z23<>\"Unknown\",Z23<>\"Not required\"),IF(COUNTRY_INFO!K23=1,0,IF(COUNTRY_INFO!K23=2,0.2*COUNTRY_INFO!G23/(0.5*COUNTRY_INFO!F23+0.2*COUNTRY_INFO!G23),IF(COUNTRY_INFO!K23=3,COUNTRY_INFO!G23/(COUNTRY_INFO!F23+COUNTRY_INFO!G23)))),0)","v":0.67252492361219529},{"$f":"MAX(COUNTRY_INFO!D23*AK23*PROFILE!$G$7,COUNTRY_INFO!D23*AL23*PROFILE!$G$7)","v":1520.803771049531},{"$f":"MAX(COUNTRY_INFO!D23*AK23*PROFILE!$G$8,COUNTRY_INFO!D23*AL23*PROFILE!$G$8,COUNTRY_INFO!D23*AM23*PROFILE!$G$8)","v":6083.1508091825117},{"$f":"MAX(COUNTRY_INFO!D23*AK23*PROFILE!$G$9,COUNTRY_INFO!D23*AL23*PROFILE!$G$9,COUNTRY_INFO!D23*AM23*PROFILE!$G$9,IF(AND(DISTRICT!Z23<>\"Unknown\",Z23<>\"Not required\"),COUNTRY_INFO!O23*DISTRICT!AN23,0))","v":14683.481514591684},{"$f":"MAX(COUNTRY_INFO!D23*AK23*PROFILE!$G$10,COUNTRY_INFO!D23*AL23*PROFILE!$G$10,IF(AND(DISTRICT!Z23<>\"Unknown\",Z23<>\"Not required\"),COUNTRY_INFO!O23*DISTRICT!AO23,0))","v":30154},52441.43609482373,0,{"$f":"MAX('MDA2'!J23,'T1'!L23,'T2'!J23,T3_R1!K23,T3_R2!K23)","v":0},{"$f":"MAX('MDA1'!K23,'MDA2'!K23,'MDA3'!I23,'MDA3'!L23,'T1'!M23,'T2'!K23,T3_R1!L23,T3_R2!L23)","v":0},{"$f":"MAX('MDA1'!L23,'MDA2'!L23,'MDA3'!J23,'MDA3'!M23,'T1'!N23,'T2'!L23,T3_R1!M23,T3_R2!M23)","v":0},0,{"$f":"MAX('MDA2'!J23,T23)","v":0},{"$f":"MAX('MDA1'!K23,'MDA2'!K23,'MDA3'!I23,'MDA3'!L23,V23,AD23)","v":0},{"$f":"MAX('MDA1'!L23,'MDA2'!L23,'MDA3'!J23,'MDA3'!M23,AF23)","v":0},0,0]
[{"$f":"IF(COUNTRY_INFO!A24=0,\" \",COUNTRY_INFO!A24)","v":"Mozambique"},{"$f":"IF(COUNTRY_INFO!B24=0,\" \",COUNTRY_INFO!B24)","v":"Cabo Delgado"},{"$f":"IF(COUNTRY_INFO!C24=0,\" \",COUNTRY_INFO!C24)","v":"Pemba Metuge"},{"$f":"COUNTRY_INFO!L24","v":90158.37825329593},null,null,{"$f":"MAX('MDA1'!M24,'MDA2'!M24)","v":0},{"$f":"IF(AND(COUNTRY_INFO!H24>0,COUNTRY_INFO!H24<4),IF(D24>MAX('MDA1'!M24,'MDA2'!M24),MAX('MDA1'!M24,'MDA2'!M24),D24),0)","v":0},{"$f":"IF(AND(COUNTRY_INFO!H24>0,COUNTRY_INFO!H24<4), IF(G24/D24*100<>0, IF(G24/D24*100>100,100,G24/D24*100), \"-\"),0)","v":"-"},{"$f":"COUNTRY_INFO!M24","v":"Not required"},null,null,{"$f":"MAX('MDA1'!M24,MAX('MDA3'!I24,'MDA3'!L24)+MAX('MDA3'!J24,'MDA3'!M24))","v":0},{"$f":"IF(AND(COUNTRY_INFO!I24>0,COUNTRY_INFO!I24<4),IF(J24>MAX('MDA1'!M24,MAX('MDA3'!I24,'MDA3'!L24)+MAX('MDA3'!J24,'MDA3'!M24)),MAX('MDA1'!M24,MAX('MDA3'!I24,'MDA3'!L24)+MAX('MDA3'!J24,'MDA3'!M24)),J24),0)","v":0},{"$f":"IF(AND(COUNTRY_INFO!I24>0,COUNTRY_INFO!I24<4), IF(M24/J24*100<>0, IF(M24/J24*100>100,100,M24/J24*100), \"-\"),0)","v":0},{"$f":"COUNTRY_INFO!N24","v":35702},null,null,{"$f":"SUM(MAX('MDA2'!J24, 'T1'!L24, MAX(T3_R1!K24, T3_R2!K24)), MAX('MDA1'!K24, 'MDA2'!K24, 'T1'!M24, MAX(T3_R1!L24, T3_R2!L24)), MAX('MDA1'!L24, 'MDA2'!L24, 'T1'!N24, MAX(T3_R1!M24, T3_R2!M24)))","v":0},{"$f":"IF(AND(COUNTRY_INFO!J24>1,COUNTRY_INFO!J24<4),IF(COUNTRY_INFO!E24>MAX('MDA2'!J24,'T1'!L24,MAX(T3_R1!K24,T3_R2!K24)),MAX('MDA2'!J24,'T1'!L24,MAX(T3_R1!K24,T3_R2!K24)),COUNTRY_INFO!E24),0)","v":0},{"$f":"IF(AND(COUNTRY_INFO!J24>1,COUNTRY_INFO!J24<4), IF(T24/COUNTRY_INFO!E24*100<>0, IF(T24/COUNTRY_INFO!E24*100>100,100,T24/COUNTRY_INFO!E24*100), \"-\"),0)","v":"-"},{"$f":"IF(AND(COUNTRY_INFO!J24>1,COUNTRY_INFO!J24<4),IF(COUNTRY_INFO!F24>MAX('MDA1'!K24,'MDA2'!K24,'T1'!M24,MAX(T3_R1!L24,T3_R2!L24)),MAX('MDA1'!K24,'MDA2'!K24,'T1'!M24,MAX(T3_R1!L24,T3_R2!L24)),COUNTRY_INFO!F24),0)","v":0},{"$f":"IF(AND(COUNTRY_INFO!J24>1,COUNTRY_INFO!J24<4), IF(V24/COUNTRY_INFO!F24*100<>0, IF(V24/COUNTRY_INFO!F24*100>100,100,V24/COUNTRY_INFO!F24*100), \"-\"),0)","v":"-"},0,{"$f":"IF(AND(COUNTRY_INFO!J24>1,COUNTRY_INFO!J24<4), IF(S24/P24*100<>0, IF(X24/P24*100>100,100,X24/P24*100), \"-\"),0)","v":"-"},{"$f":"COUNTRY_INFO!O24","v":22990.2},null,null,{"$f":"MAX('T1'!L24,'T2'!J24)+MAX('T1'!M24,'T2'!K24)+MAX('T1'!N24,'T2'!L24)","v":0},{"$f":"IF(COUNTRY_INFO!K24=1,IF(COUNTRY_INFO!F24*0.33>MAX('T1'!M24,'T2'!K24),MAX('T1'!M24,'T2'!K24),COUNTRY_INFO!F24*0.33),IF(COUNTRY_INFO!K24=2,IF(COUNTRY_INFO!F24*0.5>MAX('T1'!M24,'T2'!K24),MAX('T1'!M24,'T2'!K24),COUNTRY_INFO!F24*0.5),IF(COUNTRY_INFO!K24=3,IF(COUNTRY_INFO!F24>MAX('T1'!M24,'T2'!K24),MAX('T1'!M24,'T2'!K24),COUNTRY_INFO!F24),0)))","v":0},{"$f":"IF(AND(COUNTRY_INFO!K24>0,COUNTRY_INFO!K24<4),IF(Z24>0,IF(COUNTRY_INFO!K24=1, AD24/(COUNTRY_INFO!F24*0.33)*100, IF(COUNTRY_INFO!K24=2, AD24/(COUNTRY_INFO!F24*0.5)*100, IF(COUNTRY_INFO!K24=3, AD24/COUNTRY_INFO!F24*100))),\"-\"),0)","v":0},{"$f":"IF(COUNTRY_INFO!K24=2,IF(COUNTRY_INFO!G24*0.2>MAX('T1'!N24,'T2'!L24),MAX('T1'!N24,'T2'!L24),COUNTRY_INFO!G24*0.2),IF(COUNTRY_INFO!K24=3,IF(COUNTRY_INFO!G24>MAX('T1'!N24,'T2'!L24),MAX('T1'!N24,'T2'!L24),COUNTRY_INFO!G24),0))","v":0},{"$f":"IF(AND(COUNTRY_INFO!K24>0,COUNTRY_INFO!K24<4),IF(Z24>0,IF(COUNTRY_INFO!K24=1, 0, IF(COUNTRY_INFO!K24=2, AF24/(COUNTRY_INFO!G24*0.2)*100, IF(COUNTRY_INFO!K24=3, AF24/COUNTRY_INFO!G24*100))),\"-\"),0)","v":0},0,{"$f":"IF(AND(COUNTRY_INFO!K24>0,COUNTRY_INFO!K24<4), IF(AC24/Z24*100<>0, IF(AH24/Z24*100>100,100,AH24/Z24*100), \"-\"),0)","v":"-"},null,{"$f":"IF(AND(D24<>0, D24<>\"Unknown\",D24<>\"Stopped\",D24<>\"Not required\"),D24/COUNTRY_INFO!D24, 0)","v":1},{"$f":"IF(AND(J24<>0,J24<>\"Unknown\",J24<>\"Stopped\",J24<>\"Not required\"),J24/COUNTRY_INFO!D24, 0)","v":0},{"$f":"IF(AND(P24<>0,P24<>\"Unknown\",P24<>\"Not required\"),P24/(COUNTRY_INFO!E24+COUNTRY_INFO!F24), 0)","v":1},{"$f":"IF(AND(Z24<>0,Z24<>\"Unknown\",Z24<>\"Not required\"),IF(COUNTRY_INFO!K24=1,1,IF(COUNTRY_INFO!K24=2,0.5*COUNTRY_INFO!F24/(0.5*COUNTRY_INFO!F24+0.2*COUNTRY_INFO!G24),IF(COUNTRY_INFO!K24=3,COUNTRY_INFO!F24/(COUNTRY_INFO!F24+COUNTRY_INFO!G24)))),0)","v":0.54901653748118762},{"$f":"IF(AND(Z24<>0,Z24<>\"Unknown\",Z24<>\"Not required\"),IF(COUNTRY_INFO!K24=1,0,IF(COUNTRY_INFO!K24=2,0.2*COUNTRY_INFO!G24/(0.5*COUNTRY_INFO!F24+0.2*COUNTRY_INFO!G24),IF(COUNTRY_INFO!K24=3,COUNTRY_INFO!G24/(COUNTRY_INFO!F24+COUNTRY_INFO!G24)))),0)","v":0.45098346251881238},{"$f":"MAX(COUNTRY_INFO!D24*AK24*PROFILE!$G$7,COUNTRY_INFO!D24*AL24*PROFILE!$G$7)","v":2614.6167772370914},{"$f":"MAX(COUNTRY_INFO!D24*AK24*PROFILE!$G$8,COUNTRY_INFO!D24*AL24*PROFILE!$G$8,COUNTRY_INFO!D24*AM24*PROFILE!$G$8)","v":10458.356605188857},{"$f":"MAX(COUNTRY_INFO!D24*AK24*PROFILE!$G$9,COUNTRY_INFO!D24*AL24*PROFILE!$G$9,COUNTRY_INFO!D24*AM24*PROFILE!$G$9,IF(AND(DISTRICT!Z24<>\"Unknown\",Z24<>\"Not required\"),COUNTRY_INFO!O24*DISTRICT!AN24,0))","v":25244.333192182581},{"$f":"MAX(COUNTRY_INFO!D24*AK24*PROFILE!$G$10,COUNTRY_INFO!D24*AL24*PROFILE!$G$10,IF(AND(DISTRICT!Z24<>\"Unknown\",Z24<>\"Not required\"),COUNTRY_INFO!O24*DISTRICT!AO24,0))","v":51841.071678687396},90158.37825329593,0,{"$f":"MAX('MDA2'!J24,'T1'!L24,'T2'!J24,T3_R1!K24,T3_R2!K24)","v":0},{"$f":"MAX('MDA1'!K24,'MDA2'!K24,'MDA3'!I24,'MDA3'!L24,'T1'!M24,'T2'!K24,T3_R1!L24,T3_R2!L24)","v":0},{"$f":"MAX('MDA1'!L24,'MDA2'!L24,'MDA3'!J24,'MDA3'!M24,'T1'!N24,'T2'!L24,T3_R1!M24,T3_R2!M24)","v":0},0,{"$f":"MAX('MDA2'!J24,T24)","v":0},{"$f":"MAX('MDA1'!K24,'MDA2'!K24,'MDA3'!I24,'MDA3'!L24,V24,AD24)","v":0},{"$f":"MAX('MDA1'!L24,'MDA2'!L24,'MDA3'!J24,'MDA3'!M24,AF24)","v":0},0,0]
[{"$f":"IF(COUNTRY_INFO!A25=0,\" \",COUNTRY_INFO!A25)","v":"Mozambique"},{"$f":"IF(COUNTRY_INFO!B25=0,\" \",COUNTRY_INFO!B25)","v":"Cabo Delgado"},{"$f":"IF(COUNTRY_INFO!C25=0,\" \",COUNTRY_INFO!C25)","v":"Quissanga"},{"$f":"COUNTRY_INFO!L25","v":40565.311829493447},null,null,{"$f":"MAX('MDA1'!M25,'MDA2'!M25)","v":0},{"$f":"IF(AND(COUNTRY_INFO!H25>0,COUNTRY_INFO!H25<4),IF(D25>MAX('MDA1'!M25,'MDA2'!M25),MAX('MDA1'!M25,'MDA2'!M25),D25),0)","v":0},{"$f":"IF(AND(COUNTRY_INFO!H25>0,COUNTRY_INFO!H25<4), IF(G25/D25*100<>0, IF(G25/D25*100>100,100,G25/D25*100), \"-\"),0)","v":"-"},{"$f":"COUNTRY_INFO!M25","v":"Not required"},null,null,{"$f":"MAX('MDA1'!M25,MAX('MDA3'!I25,'MDA3'!L25)+MAX('MDA3'!J25,'MDA3'!M25))","v":0},{"$f":"IF(AND(COUNTRY_INFO!I25>0,COUNTRY_INFO!I25<4),IF(J25>MAX('MDA1'!M25,MAX('MDA3'!I25,'MDA3'!L25)+MAX('MDA3'!J25,'MDA3'!M25)),MAX('MDA1'!M25,MAX('MDA3'!I25,'MDA3'!L25)+MAX('MDA3'!J25,'MDA3'!M25)),J25),0)","v":0},{"$f":"IF(AND(COUNTRY_INFO!I25>0,COUNTRY_INFO!I25<4), IF(M25/J25*100<>0, IF(M25/J25*100>100,100,M25/J25*100), \"-\"),0)","v":0},{"$f":"COUNTRY_INFO!N25","v":16064},null,null,{"$f":"SUM(MAX('MDA2'!J25, 'T1'!L25, MAX(T3_R1!K25, T3_R2!K25)), MAX('MDA1'!K25, 'MDA2'!K25, 'T1'!M25, MAX(T3_R1!L25, T3_R2!L25)), MAX('MDA1'!L25, 'MDA2'!L25, 'T1'!N25, MAX(T3_R1!M25, T3_R2!M25)))","v":0},{"$f":"IF(AND(COUNTRY_INFO!J25>1,COUNTRY_INFO!J25<4),IF(COUNTRY_INFO!E25>MAX('MDA2'!J25,'T1'!L25,MAX(T3_R1!K25,T3_R2!K25)),MAX('MDA2'!J25,'T1'!L25,MAX(T3_R1!K25,T3_R2!K25)),COUNTRY_INFO!E25),0)","v":0},{"$f":"IF(AND(COUNTRY_INFO!J25>1,COUNTRY_INFO!J25<4), IF(T25/COUNTRY_INFO!E25*100<>0, IF(T25/COUNTRY_INFO!E25*100>100,100,T25/COUNTRY_INFO!E25*100), \"-\"),0)","v":"-"},{"$f":"IF(AND(COUNTRY_INFO!J25>1,COUNTRY_INFO!J25<4),IF(COUNTRY_INFO!F25>MAX('MDA1'!K25,'MDA2'!K25,'T1'!M25,MAX(T3_R1!L25,T3_R2!L25)),MAX('MDA1'!K25,'MDA2'!K25,'T1'!M25,MAX(T3_R1!L25,T3_R2!L25)),COUNTRY_INFO!F25),0)","v":0},{"$f":"IF(AND(COUNTRY_INFO!J25>1,COUNTRY_INFO!J25<4), IF(V25/COUNTRY_INFO!F25*100<>0, IF(V25/COUNTRY_INFO!F25*100>100,100,V25/COUNTRY_INFO!F25*100), \"-\"),0)","v":"-"},0,{"$f":"IF(AND(COUNTRY_INFO!J25>1,COUNTRY_INFO!J25<4), IF(S25/P25*100<>0, IF(X25/P25*100>100,100,X25/P25*100), \"-\"),0)","v":"-"},{"$f":"COUNTRY_INFO!O25","v":10344},null,null,{"$f":"MAX('T1'!L25,'T2'!J25)+MAX('T1'!M25,'T2'!K25)+MAX('T1'!N25,'T2'!L25)","v":0},{"$f":"IF(COUNTRY_INFO!K25=1,IF(COUNTRY_INFO!F25*0.33>MAX('T1'!M25,'T2'!K25),MAX('T1'!M25,'T2'!K25),COUNTRY_INFO!F25*0.33),IF(COUNTRY_INFO!K25=2,IF(COUNTRY_INFO!F25*0.5>MAX('T1'!M25,'T2'!K25),MAX('T1'!M25,'T2'!K25),COUNTRY_INFO!F25*0.5),IF(COUNTRY_INFO!K25=3,IF(COUNTRY_INFO!F25>MAX('T1'!M25,'T2'!K25),MAX('T1'!M25,'T2'!K25),COUNTRY_INFO!F25),0)))","v":0},{"$f":"IF(AND(COUNTRY_INFO!K25>0,COUNTRY_INFO!K25<4),IF(Z25>0,IF(COUNTRY_INFO!K25=1, AD25/(COUNTRY_INFO!F25*0.33)*100, IF(COUNTRY_INFO!K25=2, AD25/(COUNTRY_INFO!F25*0.5)*100, IF(COUNTRY_INFO!K25=3, AD25/COUNTRY_INFO!F25*100))),\"-\"),0)","v":0},{"$f":"IF(COUNTRY_INFO!K25=2,IF(COUNTRY_INFO!G25*0.2>MAX('T1'!N25,'T2'!L25),MAX('T1'!N25,'T2'!L25),COUNTRY_INFO!G25*0.2),IF(COUNTRY_INFO!K25=3,IF(COUNTRY_INFO!G25>MAX('T1'!N25,'T2'!L25),MAX('T1'!N25,'T2'!L25),COUNTRY_INFO!G25),0))","v":0},{"$f":"IF(AND(COUNTRY_INFO!K25>0,COUNTRY_INFO!K25<4),IF(Z25>0,IF(COUNTRY_INFO!K25=1, 0, IF(COUNTRY_INFO!K25=2, AF25/(COUNTRY_INFO!G25*0.2)*100, IF(COUNTRY_INFO!K25=3, AF25/COUNTRY_INFO!G25*100))),\"-\"),0)","v":0},0,{"$f":"IF(AND(COUNTRY_INFO!K25>0,COUNTRY_INFO!K25<4), IF(AC25/Z25*100<>0, IF(AH25/Z25*100>100,100,AH25/Z25*100), \"-\"),0)","v":"-"},null,{"$f":"IF(AND(D25<>0, D25<>\"Unknown\",D25<>\"Stopped\",D25<>\"Not required\"),D25/COUNTRY_INFO!D25, 0)","v":1},{"$f":"IF(AND(J25<>0,J25<>\"Unknown\",J25<>\"Stopped\",J25<>\"Not required\"),J25/COUNTRY_INFO!D25, 0)","v":0},{"$f":"IF(AND(P25<>0,P25<>\"Unknown\",P25<>\"Not required\"),P25/(COUNTRY_INFO!E25+COUNTRY_INFO!F25), 0)","v":1},{"$f":"IF(AND(Z25<>0,Z25<>\"Unknown\",Z25<>\"Not required\"),IF(COUNTRY_INFO!K25=1,1,IF(COUNTRY_INFO!K25=2,0.5*COUNTRY_INFO!F25/(0.5*COUNTRY_INFO!F25+0.2*COUNTRY_INFO!G25),IF(COUNTRY_INFO!K25=3,COUNTRY_INFO!F25/(COUNTRY_INFO!F25+COUNTRY_INFO!G25)))),0)","v":0.54901392111368907},{"$f":"IF(AND(Z25<>0,Z25<>\"Unknown\",Z25<>\"Not required\"),IF(COUNTRY_INFO!K25=1,0,IF(COUNTRY_INFO!K25=2,0.2*COUNTRY_INFO!G25/(0.5*COUNTRY_INFO!F25+0.2*COUNTRY_INFO!G25),IF(COUNTRY_INFO!K25=3,COUNTRY_INFO!G25/(COUNTRY_INFO!F25+COUNTRY_INFO!G25)))),0)","v":0.45098607888631093},{"$f":"MAX(COUNTRY_INFO!D25*AK25*PROFILE!$G$7,COUNTRY_INFO!D25*AL25*PROFILE!$G$7)","v":1176.404755033074},{"$f":"MAX(COUNTRY_INFO!D25*AK25*PROFILE!$G$8,COUNTRY_INFO!D25*AL25*PROFILE!$G$8,COUNTRY_INFO!D25*AM25*PROFILE!$G$8)","v":4705.5693007434857},{"$f":"MAX(COUNTRY_INFO!D25*AK25*PROFILE!$G$9,COUNTRY_INFO!D25*AL25*PROFILE!$G$9,COUNTRY_INFO!D25*AM25*PROFILE!$G$9,IF(AND(DISTRICT!Z25<>\"Unknown\",Z25<>\"Not required\"),COUNTRY_INFO!O25*DISTRICT!AN25,0))","v":11358.281589665596},{"$f":"MAX(COUNTRY_INFO!D25*AK25*PROFILE!$G$10,COUNTRY_INFO!D25*AL25*PROFILE!$G$10,IF(AND(DISTRICT!Z25<>\"Unknown\",Z25<>\"Not required\"),COUNTRY_INFO!O25*DISTRICT!AO25,0))","v":23325.056184051289},40565.311829493447,0,{"$f":"MAX('MDA2'!J25,'T1'!L25,'T2'!J25,T3_R1!K25,T3_R2!K25)","v":0},{"$f":"MAX('MDA1'!K25,'MDA2'!K25,'MDA3'!I25,'MDA3'!L25,'T1'!M25,'T2'!K25,T3_R1!L25,T3_R2!L25)","v":0},{"$f":"MAX('MDA1'!L25,'MDA2'!L25,'MDA3'!J25,'MDA3'!M25,'T1'!N25,'T2'!L25,T3_R1!M25,T3_R2!M25)","v":0},0,{"$f":"MAX('MDA2'!J25,T25)","v":0},{"$f":"MAX('MDA1'!K25,'MDA2'!K25,'MDA3'!I25,'MDA3'!L25,V25,AD25)","v":0},{"$f":"MAX('MDA1'!L25,'MDA2'!L25,'MDA3'!J25,'MDA3'!M25,AF25)","v":0},0,0]
[{"$f":"IF(COUNTRY_INFO!A26=0,\" \",COUNTRY_INFO!A26)","v":"Mozambique"},{"$f":"IF(COUNTRY_INFO!B26=0,\" \",COUNTRY_INFO!B26)","v":"Niassa"},{"$f":"IF(COUNTRY_INFO!C26=0,\" \",COUNTRY_INFO!C26)","v":"Cidade de Lichinga"},{"$f":"COUNTRY_INFO!L26","v":"Stopped"},null,null,{"$f":"MAX('MDA1'!M26,'MDA2'!M26)","v":0},{"$f":"IF(AND(COUNTRY_INFO!H26>0,COUNTRY_INFO!H26<4),IF(D26>MAX('MDA1'!M26,'MDA2'!M26),MAX('MDA1'!M26,'MDA2'!M26),D26),0)","v":0},{"$f":"IF(AND(COUNTRY_INFO!H26>0,COUNTRY_INFO!H26<4), IF(G26/D26*100<>0, IF(G26/D26*100>100,100,G26/D26*100), \"-\"),0)","v":0},{"$f":"COUNTRY_INFO!M26","v":"Not required"},null,null,{"$f":"MAX('MDA1'!M26,MAX('MDA3'!I26,'MDA3'!L26)+MAX('MDA3'!J26,'MDA3'!M26))","v":0},{"$f":"IF(AND(COUNTRY_INFO!I26>0,COUNTRY_INFO!I26<4),IF(J26>MAX('MDA1'!M26,MAX('MDA3'!I26,'MDA3'!L26)+MAX('MDA3'!J26,'MDA3'!M26)),MAX('MDA1'!M26,MAX('MDA3'!I26,'MDA3'!L26)+MAX('MDA3'!J26,'MDA3'!M26)),J26),0)","v":0},{"$f":"IF(AND(COUNTRY_INFO!I26>0,COUNTRY_INFO!I26<4), IF(M26/J26*100<>0, IF(M26/J26*100>100,100,M26/J26*100), \"-\"),0)","v":0},{"$f":"COUNTRY_INFO!N26","v":0},32189,35451,{"$f":"SUM(MAX('MDA2'!J26, 'T1'!L26, MAX(T3_R1!K26, T3_R2!K26)), MAX('MDA1'!K26, 'MDA2'!K26, 'T1'!M26, MAX(T3_R1!L26, T3_R2!L26)), MAX('MDA1'!L26, 'MDA2'!L26, 'T1'!N26, MAX(T3_R1!M26, T3_R2!M26)))","v":67640},{"$f":"IF(AND(COUNTRY_INFO!J26>1,COUNTRY_INFO!J26<4),IF(COUNTRY_INFO!E26>MAX('MDA2'!J26,'T1'!L26,MAX(T3_R1!K26,T3_R2!K26)),MAX('MDA2'!J26,'T1'!L26,MAX(T3_R1!K26,T3_R2!K26)),COUNTRY_INFO!E26),0)","v":0},{"$f":"IF(AND(COUNTRY_INFO!J26>1,COUNTRY_INFO!J26<4), IF(T26/COUNTRY_INFO!E26*100<>0, IF(T26/COUNTRY_INFO!E26*100>100,100,T26/COUNTRY_INFO!E26*100), \"-\"),0)","v":0},{"$f":"IF(AND(COUNTRY_INFO!J26>1,COUNTRY_INFO!J26<4),IF(COUNTRY_INFO!F26>MAX('MDA1'!K26,'MDA2'!K26,'T1'!#REF!,MAX(T3_R1!L26,T3_R2!L26)),MAX('MDA1'!K26,'MDA2'!K26,'T1'!#REF!,MAX(T3_R1!L26,T3_R2!L26)),COUNTRY_INFO!F26),0)","v":0},{"$f":"IF(AND(COUNTRY_INFO!J26>1,COUNTRY_INFO!J26<4), IF(V26/COUNTRY_INFO!F26*100<>0, IF(V26/COUNTRY_INFO!F26*100>100,100,V26/COUNTRY_INFO!F26*100), \"-\"),0)","v":0},0,{"$f":"IF(AND(COUNTRY_INFO!J26>1,COUNTRY_INFO!J26<4), IF(S26/P26*100<>0, IF(X26/P26*100>100,100,X26/P26*100), \"-\"),0)","v":0},{"$f":"COUNTRY_INFO!O26","v":65611.600000000006},32189,35451,{"$f":"MAX('T1'!L26,'T2'!J26)+MAX('T1'!M26,'T2'!K26)+MAX('T1'!N26,'T2'!L26)","v":67640},{"$f":"IF(COUNTRY_INFO!K26=1,IF(COUNTRY_INFO!F26*0.33>MAX('T1'!M26,'T2'!K26),MAX('T1'!M26,'T2'!K26),COUNTRY_INFO!F26*0.33),IF(COUNTRY_INFO!K26=2,IF(COUNTRY_INFO!F26*0.5>MAX('T1'!M26,'T2'!K26),MAX('T1'!M26,'T2'!K26),COUNTRY_INFO!F26*0.5),IF(COUNTRY_INFO!K26=3,IF(COUNTRY_INFO!F26>MAX('T1'!M26,'T2'!K26),MAX('T1'!M26,'T2'!K26),COUNTRY_INFO!F26),0)))","v":36022},{"$f":"IF(AND(COUNTRY_INFO!K26>0,COUNTRY_INFO!K26<4),IF(Z26>0,IF(COUNTRY_INFO!K26=1, AD26/(COUNTRY_INFO!F26*0.33)*100, IF(COUNTRY_INFO!K26=2, AD26/(COUNTRY_INFO!F26*0.5)*100, IF(COUNTRY_INFO!K26=3, AD26/COUNTRY_INFO!F26*100))),\"-\"),0)","v":100},{"$f":"IF(COUNTRY_INFO!K26=2,IF(COUNTRY_INFO!G26*0.2>MAX('T1'!N26,'T2'!L26),MAX('T1'!N26,'T2'!L26),COUNTRY_INFO!G26*0.2),IF(COUNTRY_INFO!K26=3,IF(COUNTRY_INFO!G26>MAX('T1'!N26,'T2'!L26),MAX('T1'!N26,'T2'!L26),COUNTRY_INFO!G26),0))","v":0},{"$f":"IF(AND(COUNTRY_INFO!K26>0,COUNTRY_INFO!K26<4),IF(Z26>0,IF(COUNTRY_INFO!K26=1, 0, IF(COUNTRY_INFO!K26=2, AF26/(COUNTRY_INFO!G26*0.2)*100, IF(COUNTRY_INFO!K26=3, AF26/COUNTRY_INFO!G26*100))),\"-\"),0)","v":0},36022,{"$f":"IF(AND(COUNTRY_INFO!K26>0,COUNTRY_INFO!K26<4), IF(AC26/Z26*100<>0, IF(AH26/Z26*100>100,100,AH26/Z26*100), \"-\"),0)","v":54.901877107096908},null,{"$f":"IF(AND(D26<>0, D26<>\"Unknown\",D26<>\"Stopped\",D26<>\"Not required\"),D26/COUNTRY_INFO!D26, 0)","v":0},{"$f":"IF(AND(J26<>0,J26<>\"Unknown\",J26<>\"Stopped\",J26<>\"Not required\"),J26/COUNTRY_INFO!D26, 0)","v":0},{"$f":"IF(AND(P26<>0,P26<>\"Unknown\",P26<>\"Not required\"),P26/(COUNTRY_INFO!E26+COUNTRY_INFO!F26), 0)","v":0},{"$f":"IF(AND(Z26<>0,Z26<>\"Unknown\",Z26<>\"Not required\"),IF(COUNTRY_INFO!K26=1,1,IF(COUNTRY_INFO!K26=2,0.5*COUNTRY_INFO!F26/(0.5*COUNTRY_INFO!F26+0.2*COUNTRY_INFO!G26),IF(COUNTRY_INFO!K26=3,COUNTRY_INFO!F26/(COUNTRY_INFO!F26+COUNTRY_INFO!G26)))),0)","v":0.54901877107096908},{"$f":"IF(AND(Z26<>0,Z26<>\"Unknown\",Z26<>\"Not required\"),IF(COUNTRY_INFO!K26=1,0,IF(COUNTRY_INFO!K26=2,0.2*COUNTRY_INFO!G26/(0.5*COUNTRY_INFO!F26+0.2*COUNTRY_INFO!G26),IF(COUNTRY_INFO!K26=3,COUNTRY_INFO!G26/(COUNTRY_INFO!F26+COUNTRY_INFO!G26)))),0)","v":0.45098122892903081},{"$f":"MAX(COUNTRY_INFO!D26*AK26*PROFILE!$G$7,COUNTRY_INFO!D26*AL26*PROFILE!$G$7)","v":0},{"$f":"MAX(COUNTRY_INFO!D26*AK26*PROFILE!$G$8,COUNTRY_INFO!D26*AL26*PROFILE!$G$8,COUNTRY_INFO!D26*AM26*PROFILE!$G$8)","v":0},{"$f":"MAX(COUNTRY_INFO!D26*AK26*PROFILE!$G$9,COUNTRY_INFO!D26*AL26*PROFILE!$G$9,COUNTRY_INFO!D26*AM26*PROFILE!$G$9,IF(AND(DISTRICT!Z26<>\"Unknown\",Z26<>\"Not required\"),COUNTRY_INFO!O26*DISTRICT!AN26,0))","v":36022},{"$f":"MAX(COUNTRY_INFO!D26*AK26*PROFILE!$G$10,COUNTRY_INFO!D26*AL26*PROFILE!$G$10,IF(AND(DISTRICT!Z26<>\"Unknown\",Z26<>\"Not required\"),COUNTRY_INFO!O26*DISTRICT!AO26,0))","v":29589.600000000002},65611.600000000006,"Y",{"$f":"MAX('MDA2'!J26,'T1'!L26,'T2'!J26,T3_R1!K26,T3_R2!K26)","v":0},{"$f":"MAX('MDA1'!K26,'MDA2'!K26,'MDA3'!I26,'MDA3'!L26,'T1'!#REF!,'T1'!M26,T3_R1!L26,T3_R2!L26)","v":{"$error":"#REF!"}},{"$f":"MAX('MDA1'!L26,'MDA2'!L26,'MDA3'!J26,'MDA3'!M26,'T1'!N26,'T2'!L26,T3_R1!M26,T3_R2!M26)","v":0},{"$error":"#REF!"},{"$f":"MAX('MDA2'!J26,T26)","v":0},{"$f":"MAX('MDA1'!K26,'MDA2'!K26,'MDA3'!I26,'MDA3'!L26,V26,AD26)","v":36022},{"$f":"MAX('MDA1'!L26,'MDA2'!L26,'MDA3'!J26,'MDA3'!M26,AF26)","v":0},36022,54.901877107096908]
[{"$f":"IF(COUNTRY_INFO!A27=0,\" \",COUNTRY_INFO!A27)","v":"Mozambique"},{"$f":"IF(COUNTRY_INFO!B27=0,\" \",COUNTRY_INFO!B27)","v":"Niassa"},{"$f":"IF(COUNTRY_INFO!C27=0,\" \",COUNTRY_INFO!C27)","v":"Cuamba"},{"$f":"COUNTRY_INFO!L27","v":272705.33646841894},null,null,{"$f":"MAX('MDA1'!M27,'MDA2'!M27)","v":209919},{"$f":"IF(AND(COUNTRY_INFO!H27>0,COUNTRY_INFO!H27<4),IF(D27>MAX('MDA1'!M27,'MDA2'!M27),MAX('MDA1'!M27,'MDA2'!M27),D27),0)","v":209919},{"$f":"IF(AND(COUNTRY_INFO!H27>0,COUNTRY_INFO!H27<4), IF(G27/D27*100<>0, IF(G27/D27*100>100,100,G27/D27*100), \"-\"),0)","v":76.976491446220734},{"$f":"COUNTRY_INFO!M27","v":"Not required"},null,null,{"$f":"MAX('MDA1'!M27,MAX('MDA3'!I27,'MDA3'!L27)+MAX('MDA3'!J27,'MDA3'!M27))","v":209919},{"$f":"IF(AND(COUNTRY_INFO!I27>0,COUNTRY_INFO!I27<4),IF(J27>MAX('MDA1'!M27,MAX('MDA3'!I27,'MDA3'!L27)+MAX('MDA3'!J27,'MDA3'!M27)),MAX('MDA1'!M27,MAX('MDA3'!I27,'MDA3'!L27)+MAX('MDA3'!J27,'MDA3'!M27)),J27),0)","v":0},{"$f":"IF(AND(COUNTRY_INFO!I27>0,COUNTRY_INFO!I27<4), IF(M27/J27*100<>0, IF(M27/J27*100>100,100,M27/J27*100), \"-\"),0)","v":0},{"$f":"COUNTRY_INFO!N27","v":107991},50542,53429,{"$f":"SUM(MAX('MDA2'!J27, 'T1'!L27, MAX(T3_R1!K27, T3_R2!K27)), MAX('MDA1'!K27, 'MDA2'!K27, 'T1'!M27, MAX(T3_R1!L27, T3_R2!L27)), MAX('MDA1'!L27, 'MDA2'!L27, 'T1'!N27, MAX(T3_R1!M27, T3_R2!M27)))","v":209919},{"$f":"IF(AND(COUNTRY_INFO!J27>1,COUNTRY_INFO!J27<4),IF(COUNTRY_INFO!E27>MAX('MDA2'!J27,'T1'!L27,MAX(T3_R1!K27,T3_R2!K27)),MAX('MDA2'!J27,'T1'!L27,MAX(T3_R1!K27,T3_R2!K27)),COUNTRY_INFO!E27),0)","v":0},{"$f":"IF(AND(COUNTRY_INFO!J27>1,COUNTRY_INFO!J27<4), IF(T27/COUNTRY_INFO!E27*100<>0, IF(T27/COUNTRY_INFO!E27*100>100,100,T27/COUNTRY_INFO!E27*100), \"-\"),0)","v":"-"},{"$f":"IF(AND(COUNTRY_INFO!J27>1,COUNTRY_INFO!J27<4),IF(COUNTRY_INFO!F27>MAX('MDA1'!K27,'MDA2'!K27,'T1'!M27,MAX(T3_R1!L27,T3_R2!L27)),MAX('MDA1'!K27,'MDA2'!K27,'T1'!M27,MAX(T3_R1!L27,T3_R2!L27)),COUNTRY_INFO!F27),0)","v":76357},{"$f":"IF(AND(COUNTRY_INFO!J27>1,COUNTRY_INFO!J27<4), IF(V27/COUNTRY_INFO!F27*100<>0, IF(V27/COUNTRY_INFO!F27*100>100,100,V27/COUNTRY_INFO!F27*100), \"-\"),0)","v":100},76357,{"$f":"IF(AND(COUNTRY_INFO!J27>1,COUNTRY_INFO!J27<4), IF(S27/P27*100<>0, IF(X27/P27*100>100,100,X27/P27*100), \"-\"),0)","v":70.706818160772656},{"$f":"COUNTRY_INFO!O27","v":233163},50542,54935,{"$f":"MAX('T1'!L27,'T2'!J27)+MAX('T1'!M27,'T2'!K27)+MAX('T1'!N27,'T2'!L27)","v":105477},{"$f":"IF(COUNTRY_INFO!K27=1,IF(COUNTRY_INFO!F27*0.33>MAX('T1'!M27,'T2'!K27),MAX('T1'!M27,'T2'!K27),COUNTRY_INFO!F27*0.33),IF(COUNTRY_INFO!K27=2,IF(COUNTRY_INFO!F27*0.5>MAX('T1'!M27,'T2'!K27),MAX('T1'!M27,'T2'!K27),COUNTRY_INFO!F27*0.5),IF(COUNTRY_INFO!K27=3,IF(COUNTRY_INFO!F27>MAX('T1'!M27,'T2'!K27),MAX('T1'!M27,'T2'!K27),COUNTRY_INFO!F27),0)))","v":76357},{"$f":"IF(AND(COUNTRY_INFO!K27>0,COUNTRY_INFO!K27<4),IF(Z27>0,IF(COUNTRY_INFO!K27=1, AD27/(COUNTRY_INFO!F27*0.33)*100, IF(COUNTRY_INFO!K27=2, AD27/(COUNTRY_INFO!F27*0.5)*100, IF(COUNTRY_INFO!K27=3, AD27/COUNTRY_INFO!F27*100))),\"-\"),0)","v":100},{"$f":"IF(COUNTRY_INFO!K27=2,IF(COUNTRY_INFO!G27*0.2>MAX('T1'!N27,'T2'!L27),MAX('T1'!N27,'T2'!L27),COUNTRY_INFO!G27*0.2),IF(COUNTRY_INFO!K27=3,IF(COUNTRY_INFO!G27>MAX('T1'!N27,'T2'!L27),MAX('T1'!N27,'T2'!L27),COUNTRY_INFO!G27),0))","v":0},{"$f":"IF(AND(COUNTRY_INFO!K27>0,COUNTRY_INFO!K27<4),IF(Z27>0,IF(COUNTRY_INFO!K27=1, 0, IF(COUNTRY_INFO!K27=2, AF27/(COUNTRY_INFO!G27*0.2)*100, IF(COUNTRY_INFO!K27=3, AF27/COUNTRY_INFO!G27*100))),\"-\"),0)","v":0},76357,{"$f":"IF(AND(COUNTRY_INFO!K27>0,COUNTRY_INFO!K27<4), IF(AC27/Z27*100<>0, IF(AH27/Z27*100>100,100,AH27/Z27*100), \"-\"),0)","v":32.74833485587336},null,{"$f":"IF(AND(D27<>0, D27<>\"Unknown\",D27<>\"Stopped\",D27<>\"Not required\"),D27/COUNTRY_INFO!D27, 0)","v":1},{"$f":"IF(AND(J27<>0,J27<>\"Unknown\",J27<>\"Stopped\",J27<>\"Not required\"),J27/COUNTRY_INFO!D27, 0)","v":0},{"$f":"IF(AND(P27<>0,P27<>\"Unknown\",P27<>\"Not required\"),P27/(COUNTRY_INFO!E27+COUNTRY_INFO!F27), 0)","v":1},{"$f":"IF(AND(Z27<>0,Z27<>\"Unknown\",Z27<>\"Not required\"),IF(COUNTRY_INFO!K27=1,1,IF(COUNTRY_INFO!K27=2,0.5*COUNTRY_INFO!F27/(0.5*COUNTRY_INFO!F27+0.2*COUNTRY_INFO!G27),IF(COUNTRY_INFO!K27=3,COUNTRY_INFO!F27/(COUNTRY_INFO!F27+COUNTRY_INFO!G27)))),0)","v":0.32748334855873357},{"$f":"IF(AND(Z27<>0,Z27<>\"Unknown\",Z27<>\"Not required\"),IF(COUNTRY_INFO!K27=1,0,IF(COUNTRY_INFO!K27=2,0.2*COUNTRY_INFO!G27/(0.5*COUNTRY_INFO!F27+0.2*COUNTRY_INFO!G27),IF(COUNTRY_INFO!K27=3,COUNTRY_INFO!G27/(COUNTRY_INFO!F27+COUNTRY_INFO!G27)))),0)","v":0.67251665144126638},{"$f":"MAX(COUNTRY_INFO!D27*AK27*PROFILE!$G$7,COUNTRY_INFO!D27*AL27*PROFILE!$G$7)","v":7908.5267701823186},{"$f":"MAX(COUNTRY_INFO!D27*AK27*PROFILE!$G$8,COUNTRY_INFO!D27*AL27*PROFILE!$G$8,COUNTRY_INFO!D27*AM27*PROFILE!$G$8)","v":31633.772835975742},{"$f":"MAX(COUNTRY_INFO!D27*AK27*PROFILE!$G$9,COUNTRY_INFO!D27*AL27*PROFILE!$G$9,COUNTRY_INFO!D27*AM27*PROFILE!$G$9,IF(AND(DISTRICT!Z27<>\"Unknown\",Z27<>\"Not required\"),COUNTRY_INFO!O27*DISTRICT!AN27,0))","v":76357.455740319492},{"$f":"MAX(COUNTRY_INFO!D27*AK27*PROFILE!$G$10,COUNTRY_INFO!D27*AL27*PROFILE!$G$10,IF(AND(DISTRICT!Z27<>\"Unknown\",Z27<>\"Not required\"),COUNTRY_INFO!O27*DISTRICT!AO27,0))","v":156806},272705.75534647756,"Y",{"$f":"MAX('MDA2'!J27,'T1'!L27,'T2'!J27,T3_R1!K27,T3_R2!K27)","v":0},{"$f":"MAX('MDA1'!K27,'MDA2'!K27,'MDA3'!I27,'MDA3'!L27,'T1'!M27,'T2'!K27,T3_R1!L27,T3_R2!L27)","v":105477},{"$f":"MAX('MDA1'!L27,'MDA2'!L27,'MDA3'!J27,'MDA3'!M27,'T1'!N27,'T2'!L27,T3_R1!M27,T3_R2!M27)","v":105948},211425,{"$f":"MAX('MDA2'!J27,T27)","v":0},{"$f":"MAX('MDA1'!K27,'MDA2'!K27,'MDA3'!I27,'MDA3'!L27,V27,AD27)","v":103971},{"$f":"MAX('MDA1'!L27,'MDA2'!L27,'MDA3'!J27,'MDA3'!M27,AF27)","v":105948},209919,76.976373209760155]
[{"$f":"IF(COUNTRY_INFO!A28=0,\" \",COUNTRY_INFO!A28)","v":"Mozambique"},{"$f":"IF(COUNTRY_INFO!B28=0,\" \",COUNTRY_INFO!B28)","v":"Niassa"},{"$f":"IF(COUNTRY_INFO!C28=0,\" \",COUNTRY_INFO!C28)","v":"Chimbonila"},{"$f":"COUNTRY_INFO!L28","v":0},null,null,{"$f":"MAX('MDA1'!M28,'MDA2'!M28)","v":0},{"$f":"IF(AND(COUNTRY_INFO!H28>0,COUNTRY_INFO!H28<4),IF(D28>MAX('MDA1'!M28,'MDA2'!M28),MAX('MDA1'!M28,'MDA2'!M28),D28),0)","v":0},{"$f":"IF(AND(COUNTRY_INFO!H28>0,COUNTRY_INFO!H28<4), IF(G28/D28*100<>0, IF(G28/D28*100>100,100,G28/D28*100), \"-\"),0)","v":0},{"$f":"COUNTRY_INFO!M28","v":"Not required"},null,null,{"$f":"MAX('MDA1'!M28,MAX('MDA3'!I28,'MDA3'!L28)+MAX('MDA3'!J28,'MDA3'!M28))","v":0},{"$f":"IF(AND(COUNTRY_INFO!I28>0,COUNTRY_INFO!I28<4),IF(J28>MAX('MDA1'!M28,MAX('MDA3'!I28,'MDA3'!L28)+MAX('MDA3'!J28,'MDA3'!M28)),MAX('MDA1'!M28,MAX('MDA3'!I28,'MDA3'!L28)+MAX('MDA3'!J28,'MDA3'!M28)),J28),0)","v":0},{"$f":"IF(AND(COUNTRY_INFO!I28>0,COUNTRY_INFO!I28<4), IF(M28/J28*100<>0, IF(M28/J28*100>100,100,M28/J28*100), \"-\"),0)","v":0},{"$f":"COUNTRY_INFO!N28","v":50045},null,null,{"$f":"SUM(MAX('MDA2'!J28, 'T1'!L28, MAX(T3_R1!K28, T3_R2!K28)), MAX('MDA1'!K28, 'MDA2'!K28, 'T1'!M28, MAX(T3_R1!L28, T3_R2!L28)), MAX('MDA1'!L28, 'MDA2'!L28, 'T1'!N28, MAX(T3_R1!M28, T3_R2!M28)))","v":29444},{"$f":"IF(AND(COUNTRY_INFO!J28>1,COUNTRY_INFO!J28<4),IF(COUNTRY_INFO!E28>MAX('MDA2'!J28,'T1'!L28,MAX(T3_R1!K28,T3_R2!K28)),MAX('MDA2'!J28,'T1'!L28,MAX(T3_R1!K28,T3_R2!K28)),COUNTRY_INFO!E28),0)","v":0},{"$f":"IF(AND(COUNTRY_INFO!J28>1,COUNTRY_INFO!J28<4), IF(T28/COUNTRY_INFO!E28*100<>0, IF(T28/COUNTRY_INFO!E28*100>100,100,T28/COUNTRY_INFO!E28*100), \"-\"),0)","v":"-"},{"$f":"IF(AND(COUNTRY_INFO!J28>1,COUNTRY_INFO!J28<4),IF(COUNTRY_INFO!F28>MAX('MDA1'!K28,'MDA2'!K28,'T1'!M28,MAX(T3_R1!L28,T3_R2!L28)),MAX('MDA1'!K28,'MDA2'!K28,'T1'!M28,MAX(T3_R1!L28,T3_R2!L28)),COUNTRY_INFO!F28),0)","v":29444},{"$f":"IF(AND(COUNTRY_INFO!J28>1,COUNTRY_INFO!J28<4), IF(V28/COUNTRY_INFO!F28*100<>0, IF(V28/COUNTRY_INFO!F28*100>100,100,V28/COUNTRY_INFO!F28*100), \"-\"),0)","v":83.210399886957759},29444,{"$f":"IF(AND(COUNTRY_INFO!J28>1,COUNTRY_INFO!J28<4), IF(S28/P28*100<>0, IF(X28/P28*100>100,100,X28/P28*100), \"-\"),0)","v":58.835048456389252},{"$f":"COUNTRY_INFO!O28","v":32225.7},14218,15226,{"$f":"MAX('T1'!L28,'T2'!J28)+MAX('T1'!M28,'T2'!K28)+MAX('T1'!N28,'T2'!L28)","v":29444},{"$f":"IF(COUNTRY_INFO!K28=1,IF(COUNTRY_INFO!F28*0.33>MAX('T1'!M28,'T2'!K28),MAX('T1'!M28,'T2'!K28),COUNTRY_INFO!F28*0.33),IF(COUNTRY_INFO!K28=2,IF(COUNTRY_INFO!F28*0.5>MAX('T1'!M28,'T2'!K28),MAX('T1'!M28,'T2'!K28),COUNTRY_INFO!F28*0.5),IF(COUNTRY_INFO!K28=3,IF(COUNTRY_INFO!F28>MAX('T1'!M28,'T2'!K28),MAX('T1'!M28,'T2'!K28),COUNTRY_INFO!F28),0)))","v":17692.5},{"$f":"IF(AND(COUNTRY_INFO!K28>0,COUNTRY_INFO!K28<4),IF(Z28>0,IF(COUNTRY_INFO!K28=1, AD28/(COUNTRY_INFO!F28*0.33)*100, IF(COUNTRY_INFO!K28=2, AD28/(COUNTRY_INFO!F28*0.5)*100, IF(COUNTRY_INFO!K28=3, AD28/COUNTRY_INFO!F28*100))),\"-\"),0)","v":100},{"$f":"IF(COUNTRY_INFO!K28=2,IF(COUNTRY_INFO!G28*0.2>MAX('T1'!N28,'T2'!L28),MAX('T1'!N28,'T2'!L28),COUNTRY_INFO!G28*0.2),IF(COUNTRY_INFO!K28=3,IF(COUNTRY_INFO!G28>MAX('T1'!N28,'T2'!L28),MAX('T1'!N28,'T2'!L28),COUNTRY_INFO!G28),0))","v":0},{"$f":"IF(AND(COUNTRY_INFO!K28>0,COUNTRY_INFO!K28<4),IF(Z28>0,IF(COUNTRY_INFO!K28=1, 0, IF(COUNTRY_INFO!K28=2, AF28/(COUNTRY_INFO!G28*0.2)*100, IF(COUNTRY_INFO!K28=3, AF28/COUNTRY_INFO!G28*100))),\"-\"),0)","v":0},17692.5,{"$f":"IF(AND(COUNTRY_INFO!K28>0,COUNTRY_INFO!K28<4), IF(AC28/Z28*100<>0, IF(AH28/Z28*100>100,100,AH28/Z28*100), \"-\"),0)","v":54.901833009057988},null,{"$f":"IF(AND(D28<>0, D28<>\"Unknown\",D28<>\"Stopped\",D28<>\"Not required\"),D28/COUNTRY_INFO!D28, 0)","v":0},{"$f":"IF(AND(J28<>0,J28<>\"Unknown\",J28<>\"Stopped\",J28<>\"Not required\"),J28/COUNTRY_INFO!D28, 0)","v":0},{"$f":"IF(AND(P28<>0,P28<>\"Unknown\",P28<>\"Not required\"),P28/(COUNTRY_INFO!E28+COUNTRY_INFO!F28), 0)","v":1},{"$f":"IF(AND(Z28<>0,Z28<>\"Unknown\",Z28<>\"Not required\"),IF(COUNTRY_INFO!K28=1,1,IF(COUNTRY_INFO!K28=2,0.5*COUNTRY_INFO!F28/(0.5*COUNTRY_INFO!F28+0.2*COUNTRY_INFO!G28),IF(COUNTRY_INFO!K28=3,COUNTRY_INFO!F28/(COUNTRY_INFO!F28+COUNTRY_INFO!G28)))),0)","v":0.54901833009057988},{"$f":"IF(AND(Z28<>0,Z28<>\"Unknown\",Z28<>\"Not required\"),IF(COUNTRY_INFO!K28=1,0,IF(COUNTRY_INFO!K28=2,0.2*COUNTRY_INFO!G28/(0.5*COUNTRY_INFO!F28+0.2*COUNTRY_INFO!G28),IF(COUNTRY_INFO!K28=3,COUNTRY_INFO!G28/(COUNTRY_INFO!F28+COUNTRY_INFO!G28)))),0)","v":0.45098166990942012},{"$f":"MAX(COUNTRY_INFO!D28*AK28*PROFILE!$G$7,COUNTRY_INFO!D28*AL28*PROFILE!$G$7)","v":0},{"$f":"MAX(COUNTRY_INFO!D28*AK28*PROFILE!$G$8,COUNTRY_INFO!D28*AL28*PROFILE!$G$8,COUNTRY_INFO!D28*AM28*PROFILE!$G$8)","v":14659.483115402159},{"$f":"MAX(COUNTRY_INFO!D28*AK28*PROFILE!$G$9,COUNTRY_INFO!D28*AL28*PROFILE!$G$9,COUNTRY_INFO!D28*AM28*PROFILE!$G$9,IF(AND(DISTRICT!Z28<>\"Unknown\",Z28<>\"Not required\"),COUNTRY_INFO!O28*DISTRICT!AN28,0))","v":35384.99308837673},{"$f":"MAX(COUNTRY_INFO!D28*AK28*PROFILE!$G$10,COUNTRY_INFO!D28*AL28*PROFILE!$G$10,IF(AND(DISTRICT!Z28<>\"Unknown\",Z28<>\"Not required\"),COUNTRY_INFO!O28*DISTRICT!AO28,0))","v":14533.2},64577.676203778887,"Y",{"$f":"MAX('MDA2'!J28,'T1'!L28,'T2'!J28,T3_R1!K28,T3_R2!K28)","v":0},{"$f":"MAX('MDA1'!K28,'MDA2'!K28,'MDA3'!I28,'MDA3'!L28,'T1'!M28,'T2'!K28,T3_R1!L28,T3_R2!L28)","v":29444},{"$f":"MAX('MDA1'!L28,'MDA2'!L28,'MDA3'!J28,'MDA3'!M28,'T1'!N28,'T2'!L28,T3_R1!M28,T3_R2!M28)","v":0},29444,{"$f":"MAX('MDA2'!J28,T28)","v":0},{"$f":"MAX('MDA1'!K28,'MDA2'!K28,'MDA3'!I28,'MDA3'!L28,V28,AD28)","v":29444},{"$f":"MAX('MDA1'!L28,'MDA2'!L28,'MDA3'!J28,'MDA3'!M28,AF28)","v":0},29444,45.594703511918922]
[{"$f":"IF(COUNTRY_INFO!A29=0,\" \",COUNTRY_INFO!A29)","v":"Mozambique"},{"$f":"IF(COUNTRY_INFO!B29=0,\" \",COUNTRY_INFO!B29)","v":"Niassa"},{"$f":"IF(COUNTRY_INFO!C29=0,\" \",COUNTRY_INFO!C29)","v":"Lago"},{"$f":"COUNTRY_INFO!L29","v":0},null,null,{"$f":"MAX('MDA1'!M29,'MDA2'!M29)","v":0},{"$f":"IF(AND(COUNTRY_INFO!H29>0,COUNTRY_INFO!H29<4),IF(D29>MAX('MDA1'!M29,'MDA2'!M29),MAX('MDA1'!M29,'MDA2'!M29),D29),0)","v":0},{"$f":"IF(AND(COUNTRY_INFO!H29>0,COUNTRY_INFO!H29<4), IF(G29/D29*100<>0, IF(G29/D29*100>100,100,G29/D29*100), \"-\"),0)","v":0},{"$f":"COUNTRY_INFO!M29","v":"Not required"},null,null,{"$f":"MAX('MDA1'!M29,MAX('MDA3'!I29,'MDA3'!L29)+MAX('MDA3'!J29,'MDA3'!M29))","v":0},{"$f":"IF(AND(COUNTRY_INFO!I29>0,COUNTRY_INFO!I29<4),IF(J29>MAX('MDA1'!M29,MAX('MDA3'!I29,'MDA3'!L29)+MAX('MDA3'!J29,'MDA3'!M29)),MAX('MDA1'!M29,MAX('MDA3'!I29,'MDA3'!L29)+MAX('MDA3'!J29,'MDA3'!M29)),J29),0)","v":0},{"$f":"IF(AND(COUNTRY_INFO!I29>0,COUNTRY_INFO!I29<4), IF(M29/J29*100<>0, IF(M29/J29*100>100,100,M29/J29*100), \"-\"),0)","v":0},{"$f":"COUNTRY_INFO!N29","v":54542},null,null,{"$f":"SUM(MAX('MDA2'!J29, 'T1'!L29, MAX(T3_R1!K29, T3_R2!K29)), MAX('MDA1'!K29, 'MDA2'!K29, 'T1'!M29, MAX(T3_R1!L29, T3_R2!L29)), MAX('MDA1'!L29, 'MDA2'!L29, 'T1'!N29, MAX(T3_R1!M29, T3_R2!M29)))","v":34988},{"$f":"IF(AND(COUNTRY_INFO!J29>1,COUNTRY_INFO!J29<4),IF(COUNTRY_INFO!E29>MAX('MDA2'!J29,'T1'!L29,MAX(T3_R1!K29,T3_R2!K29)),MAX('MDA2'!J29,'T1'!L29,MAX(T3_R1!K29,T3_R2!K29)),COUNTRY_INFO!E29),0)","v":0},{"$f":"IF(AND(COUNTRY_INFO!J29>1,COUNTRY_INFO!J29<4), IF(T29/COUNTRY_INFO!E29*100<>0, IF(T29/COUNTRY_INFO!E29*100>100,100,T29/COUNTRY_INFO!E29*100), \"-\"),0)","v":"-"},{"$f":"IF(AND(COUNTRY_INFO!J29>1,COUNTRY_INFO!J29<4),IF(COUNTRY_INFO!F29>MAX('MDA1'!K29,'MDA2'!K29,'T1'!M29,MAX(T3_R1!L29,T3_R2!L29)),MAX('MDA1'!K29,'MDA2'!K29,'T1'!M29,MAX(T3_R1!L29,T3_R2!L29)),COUNTRY_INFO!F29),0)","v":34988},{"$f":"IF(AND(COUNTRY_INFO!J29>1,COUNTRY_INFO!J29<4), IF(V29/COUNTRY_INFO!F29*100<>0, IF(V29/COUNTRY_INFO!F29*100>100,100,V29/COUNTRY_INFO!F29*100), \"-\"),0)","v":90.724750421366522},34988,{"$f":"IF(AND(COUNTRY_INFO!J29>1,COUNTRY_INFO!J29<4), IF(S29/P29*100<>0, IF(X29/P29*100>100,100,X29/P29*100), \"-\"),0)","v":64.1487294195299},{"$f":"COUNTRY_INFO!O29","v":35121.699999999997},16883,18105,{"$f":"MAX('T1'!L29,'T2'!J29)+MAX('T1'!M29,'T2'!K29)+MAX('T1'!N29,'T2'!L29)","v":34988},{"$f":"IF(COUNTRY_INFO!K29=1,IF(COUNTRY_INFO!F29*0.33>MAX('T1'!M29,'T2'!K29),MAX('T1'!M29,'T2'!K29),COUNTRY_INFO!F29*0.33),IF(COUNTRY_INFO!K29=2,IF(COUNTRY_INFO!F29*0.5>MAX('T1'!M29,'T2'!K29),MAX('T1'!M29,'T2'!K29),COUNTRY_INFO!F29*0.5),IF(COUNTRY_INFO!K29=3,IF(COUNTRY_INFO!F29>MAX('T1'!M29,'T2'!K29),MAX('T1'!M29,'T2'!K29),COUNTRY_INFO!F29),0)))","v":19282.5},{"$f":"IF(AND(COUNTRY_INFO!K29>0,COUNTRY_INFO!K29<4),IF(Z29>0,IF(COUNTRY_INFO!K29=1, AD29/(COUNTRY_INFO!F29*0.33)*100, IF(COUNTRY_INFO!K29=2, AD29/(COUNTRY_INFO!F29*0.5)*100, IF(COUNTRY_INFO!K29=3, AD29/COUNTRY_INFO!F29*100))),\"-\"),0)","v":100},{"$f":"IF(COUNTRY_INFO!K29=2,IF(COUNTRY_INFO!G29*0.2>MAX('T1'!N29,'T2'!L29),MAX('T1'!N29,'T2'!L29),COUNTRY_INFO!G29*0.2),IF(COUNTRY_INFO!K29=3,IF(COUNTRY_INFO!G29>MAX('T1'!N29,'T2'!L29),MAX('T1'!N29,'T2'!L29),COUNTRY_INFO!G29),0))","v":0},{"$f":"IF(AND(COUNTRY_INFO!K29>0,COUNTRY_INFO!K29<4),IF(Z29>0,IF(COUNTRY_INFO!K29=1, 0, IF(COUNTRY_INFO!K29=2, AF29/(COUNTRY_INFO!G29*0.2)*100, IF(COUNTRY_INFO!K29=3, AF29/COUNTRY_INFO!G29*100))),\"-\"),0)","v":0},19282.5,{"$f":"IF(AND(COUNTRY_INFO!K29>0,COUNTRY_INFO!K29<4), IF(AC29/Z29*100<>0, IF(AH29/Z29*100>100,100,AH29/Z29*100), \"-\"),0)","v":54.90195520148513},null,{"$f":"IF(AND(D29<>0, D29<>\"Unknown\",D29<>\"Stopped\",D29<>\"Not required\"),D29/COUNTRY_INFO!D29, 0)","v":0},{"$f":"IF(AND(J29<>0,J29<>\"Unknown\",J29<>\"Stopped\",J29<>\"Not required\"),J29/COUNTRY_INFO!D29, 0)","v":0},{"$f":"IF(AND(P29<>0,P29<>\"Unknown\",P29<>\"Not required\"),P29/(COUNTRY_INFO!E29+COUNTRY_INFO!F29), 0)","v":1},{"$f":"IF(AND(Z29<>0,Z29<>\"Unknown\",Z29<>\"Not required\"),IF(COUNTRY_INFO!K29=1,1,IF(COUNTRY_INFO!K29=2,0.5*COUNTRY_INFO!F29/(0.5*COUNTRY_INFO!F29+0.2*COUNTRY_INFO!G29),IF(COUNTRY_INFO!K29=3,COUNTRY_INFO!F29/(COUNTRY_INFO!F29+COUNTRY_INFO!G29)))),0)","v":0.54901955201485131},{"$f":"IF(AND(Z29<>0,Z29<>\"Unknown\",Z29<>\"Not required\"),IF(COUNTRY_INFO!K29=1,0,IF(COUNTRY_INFO!K29=2,0.2*COUNTRY_INFO!G29/(0.5*COUNTRY_INFO!F29+0.2*COUNTRY_INFO!G29),IF(COUNTRY_INFO!K29=3,COUNTRY_INFO!G29/(COUNTRY_INFO!F29+COUNTRY_INFO!G29)))),0)","v":0.45098044798514886},{"$f":"MAX(COUNTRY_INFO!D29*AK29*PROFILE!$G$7,COUNTRY_INFO!D29*AL29*PROFILE!$G$7)","v":0},{"$f":"MAX(COUNTRY_INFO!D29*AK29*PROFILE!$G$8,COUNTRY_INFO!D29*AL29*PROFILE!$G$8,COUNTRY_INFO!D29*AM29*PROFILE!$G$8)","v":15977.004669001106},{"$f":"MAX(COUNTRY_INFO!D29*AK29*PROFILE!$G$9,COUNTRY_INFO!D29*AL29*PROFILE!$G$9,COUNTRY_INFO!D29*AM29*PROFILE!$G$9,IF(AND(DISTRICT!Z29<>\"Unknown\",Z29<>\"Not required\"),COUNTRY_INFO!O29*DISTRICT!AN29,0))","v":38565.220569856196},{"$f":"MAX(COUNTRY_INFO!D29*AK29*PROFILE!$G$10,COUNTRY_INFO!D29*AL29*PROFILE!$G$10,IF(AND(DISTRICT!Z29<>\"Unknown\",Z29<>\"Not required\"),COUNTRY_INFO!O29*DISTRICT!AO29,0))","v":15839.2},70381.425238857308,"Y",{"$f":"MAX('MDA2'!J29,'T1'!L29,'T2'!J29,T3_R1!K29,T3_R2!K29)","v":0},{"$f":"MAX('MDA1'!K29,'MDA2'!K29,'MDA3'!I29,'MDA3'!L29,'T1'!M29,'T2'!K29,T3_R1!L29,T3_R2!L29)","v":34988},{"$f":"MAX('MDA1'!L29,'MDA2'!L29,'MDA3'!J29,'MDA3'!M29,'T1'!N29,'T2'!L29,T3_R1!M29,T3_R2!M29)","v":0},34988,{"$f":"MAX('MDA2'!J29,T29)","v":0},{"$f":"MAX('MDA1'!K29,'MDA2'!K29,'MDA3'!I29,'MDA3'!L29,V29,AD29)","v":34988},{"$f":"MAX('MDA1'!L29,'MDA2'!L29,'MDA3'!J29,'MDA3'!M29,AF29)","v":0},34988,49.711979945361016]
[{"$f":"IF(COUNTRY_INFO!A30=0,\" \",COUNTRY_INFO!A30)","v":"Mozambique"},{"$f":"IF(COUNTRY_INFO!B30=0,\" \",COUNTRY_INFO!B30)","v":"Niassa"},{"$f":"IF(COUNTRY_INFO!C30=0,\" \",COUNTRY_INFO!C30)","v":"Majune"},{"$f":"COUNTRY_INFO!L30","v":0},null,null,{"$f":"MAX('MDA1'!M30,'MDA2'!M30)","v":0},{"$f":"IF(AND(COUNTRY_INFO!H30>0,COUNTRY_INFO!H30<4),IF(D30>MAX('MDA1'!M30,'MDA2'!M30),MAX('MDA1'!M30,'MDA2'!M30),D30),0)","v":0},{"$f":"IF(AND(COUNTRY_INFO!H30>0,COUNTRY_INFO!H30<4), IF(G30/D30*100<>0, IF(G30/D30*100>100,100,G30/D30*100), \"-\"),0)","v":0},{"$f":"COUNTRY_INFO!M30","v":"Not required"},null,null,{"$f":"MAX('MDA1'!M30,MAX('MDA3'!I30,'MDA3'!L30)+MAX('MDA3'!J30,'MDA3'!M30))","v":0},{"$f":"IF(AND(COUNTRY_INFO!I30>0,COUNTRY_INFO!I30<4),IF(J30>MAX('MDA1'!M30,MAX('MDA3'!I30,'MDA3'!L30)+MAX('MDA3'!J30,'MDA3'!M30)),MAX('MDA1'!M30,MAX('MDA3'!I30,'MDA3'!L30)+MAX('MDA3'!J30,'MDA3'!M30)),J30),0)","v":0},{"$f":"IF(AND(COUNTRY_INFO!I30>0,COUNTRY_INFO!I30<4), IF(M30/J30*100<>0, IF(M30/J30*100>100,100,M30/J30*100), \"-\"),0)","v":0},{"$f":"COUNTRY_INFO!N30","v":16714},null,null,{"$f":"SUM(MAX('MDA2'!J30, 'T1'!L30, MAX(T3_R1!K30, T3_R2!K30)), MAX('MDA1'!K30, 'MDA2'!K30, 'T1'!M30, MAX(T3_R1!L30, T3_R2!L30)), MAX('MDA1'!L30, 'MDA2'!L30, 'T1'!N30, MAX(T3_R1!M30, T3_R2!M30)))","v":10317},{"$f":"IF(AND(COUNTRY_INFO!J30>1,COUNTRY_INFO!J30<4),IF(COUNTRY_INFO!E30>MAX('MDA2'!J30,'T1'!L30,MAX(T3_R1!K30,T3_R2!K30)),MAX('MDA2'!J30,'T1'!L30,MAX(T3_R1!K30,T3_R2!K30)),COUNTRY_INFO!E30),0)","v":0},{"$f":"IF(AND(COUNTRY_INFO!J30>1,COUNTRY_INFO!J30<4), IF(T30/COUNTRY_INFO!E30*100<>0, IF(T30/COUNTRY_INFO!E30*100>100,100,T30/COUNTRY_INFO!E30*100), \"-\"),0)","v":"-"},{"$f":"IF(AND(COUNTRY_INFO!J30>1,COUNTRY_INFO!J30<4),IF(COUNTRY_INFO!F30>MAX('MDA1'!K30,'MDA2'!K30,'T1'!M30,MAX(T3_R1!L30,T3_R2!L30)),MAX('MDA1'!K30,'MDA2'!K30,'T1'!M30,MAX(T3_R1!L30,T3_R2!L30)),COUNTRY_INFO!F30),0)","v":10317},{"$f":"IF(AND(COUNTRY_INFO!J30>1,COUNTRY_INFO!J30<4), IF(V30/COUNTRY_INFO!F30*100<>0, IF(V30/COUNTRY_INFO!F30*100>100,100,V30/COUNTRY_INFO!F30*100), \"-\"),0)","v":87.299035369774927},10317,{"$f":"IF(AND(COUNTRY_INFO!J30>1,COUNTRY_INFO!J30<4), IF(S30/P30*100<>0, IF(X30/P30*100>100,100,X30/P30*100), \"-\"),0)","v":61.726696182840733},{"$f":"COUNTRY_INFO!O30","v":36088},5163,5154,{"$f":"MAX('T1'!L30,'T2'!J30)+MAX('T1'!M30,'T2'!K30)+MAX('T1'!N30,'T2'!L30)","v":10317},{"$f":"IF(COUNTRY_INFO!K30=1,IF(COUNTRY_INFO!F30*0.33>MAX('T1'!M30,'T2'!K30),MAX('T1'!M30,'T2'!K30),COUNTRY_INFO!F30*0.33),IF(COUNTRY_INFO!K30=2,IF(COUNTRY_INFO!F30*0.5>MAX('T1'!M30,'T2'!K30),MAX('T1'!M30,'T2'!K30),COUNTRY_INFO!F30*0.5),IF(COUNTRY_INFO!K30=3,IF(COUNTRY_INFO!F30>MAX('T1'!M30,'T2'!K30),MAX('T1'!M30,'T2'!K30),COUNTRY_INFO!F30),0)))","v":10317},{"$f":"IF(AND(COUNTRY_INFO!K30>0,COUNTRY_INFO!K30<4),IF(Z30>0,IF(COUNTRY_INFO!K30=1, AD30/(COUNTRY_INFO!F30*0.33)*100, IF(COUNTRY_INFO!K30=2, AD30/(COUNTRY_INFO!F30*0.5)*100, IF(COUNTRY_INFO!K30=3, AD30/COUNTRY_INFO!F30*100))),\"-\"),0)","v":87.299035369774927},{"$f":"IF(COUNTRY_INFO!K30=2,IF(COUNTRY_INFO!G30*0.2>MAX('T1'!N30,'T2'!L30),MAX('T1'!N30,'T2'!L30),COUNTRY_INFO!G30*0.2),IF(COUNTRY_INFO!K30=3,IF(COUNTRY_INFO!G30>MAX('T1'!N30,'T2'!L30),MAX('T1'!N30,'T2'!L30),COUNTRY_INFO!G30),0))","v":0},{"$f":"IF(AND(COUNTRY_INFO!K30>0,COUNTRY_INFO!K30<4),IF(Z30>0,IF(COUNTRY_INFO!K30=1, 0, IF(COUNTRY_INFO!K30=2, AF30/(COUNTRY_INFO!G30*0.2)*100, IF(COUNTRY_INFO!K30=3, AF30/COUNTRY_INFO!G30*100))),\"-\"),0)","v":0},10317,{"$f":"IF(AND(COUNTRY_INFO!K30>0,COUNTRY_INFO!K30<4), IF(AC30/Z30*100<>0, IF(AH30/Z30*100>100,100,AH30/Z30*100), \"-\"),0)","v":28.58845045444469},null,{"$f":"IF(AND(D30<>0, D30<>\"Unknown\",D30<>\"Stopped\",D30<>\"Not required\"),D30/COUNTRY_INFO!D30, 0)","v":0},{"$f":"IF(AND(J30<>0,J30<>\"Unknown\",J30<>\"Stopped\",J30<>\"Not required\"),J30/COUNTRY_INFO!D30, 0)","v":0},{"$f":"IF(AND(P30<>0,P30<>\"Unknown\",P30<>\"Not required\"),P30/(COUNTRY_INFO!E30+COUNTRY_INFO!F30), 0)","v":1},{"$f":"IF(AND(Z30<>0,Z30<>\"Unknown\",Z30<>\"Not required\"),IF(COUNTRY_INFO!K30=1,1,IF(COUNTRY_INFO!K30=2,0.5*COUNTRY_INFO!F30/(0.5*COUNTRY_INFO!F30+0.2*COUNTRY_INFO!G30),IF(COUNTRY_INFO!K30=3,COUNTRY_INFO!F30/(COUNTRY_INFO!F30+COUNTRY_INFO!G30)))),0)","v":0.3274772777654622},{"$f":"IF(AND(Z30<>0,Z30<>\"Unknown\",Z30<>\"Not required\"),IF(COUNTRY_INFO!K30=1,0,IF(COUNTRY_INFO!K30=2,0.2*COUNTRY_INFO!G30/(0.5*COUNTRY_INFO!F30+0.2*COUNTRY_INFO!G30),IF(COUNTRY_INFO!K30=3,COUNTRY_INFO!G30/(COUNTRY_INFO!F30+COUNTRY_INFO!G30)))),0)","v":0.6725227222345378},{"$f":"MAX(COUNTRY_INFO!D30*AK30*PROFILE!$G$7,COUNTRY_INFO!D30*AL30*PROFILE!$G$7)","v":0},{"$f":"MAX(COUNTRY_INFO!D30*AK30*PROFILE!$G$8,COUNTRY_INFO!D30*AL30*PROFILE!$G$8,COUNTRY_INFO!D30*AM30*PROFILE!$G$8)","v":4896.1218638840119},{"$f":"MAX(COUNTRY_INFO!D30*AK30*PROFILE!$G$9,COUNTRY_INFO!D30*AL30*PROFILE!$G$9,COUNTRY_INFO!D30*AM30*PROFILE!$G$9,IF(AND(DISTRICT!Z30<>\"Unknown\",Z30<>\"Not required\"),COUNTRY_INFO!O30*DISTRICT!AN30,0))","v":11818.236492346692},{"$f":"MAX(COUNTRY_INFO!D30*AK30*PROFILE!$G$10,COUNTRY_INFO!D30*AL30*PROFILE!$G$10,IF(AND(DISTRICT!Z30<>\"Unknown\",Z30<>\"Not required\"),COUNTRY_INFO!O30*DISTRICT!AO30,0))","v":24270},40984.358356230703,"Y",{"$f":"MAX('MDA2'!J30,'T1'!L30,'T2'!J30,T3_R1!K30,T3_R2!K30)","v":0},{"$f":"MAX('MDA1'!K30,'MDA2'!K30,'MDA3'!I30,'MDA3'!L30,'T1'!M30,'T2'!K30,T3_R1!L30,T3_R2!L30)","v":10317},{"$f":"MAX('MDA1'!L30,'MDA2'!L30,'MDA3'!J30,'MDA3'!M30,'T1'!N30,'T2'!L30,T3_R1!M30,T3_R2!M30)","v":0},10317,{"$f":"MAX('MDA2'!J30,T30)","v":0},{"$f":"MAX('MDA1'!K30,'MDA2'!K30,'MDA3'!I30,'MDA3'!L30,V30,AD30)","v":10317},{"$f":"MAX('MDA1'!L30,'MDA2'!L30,'MDA3'!J30,'MDA3'!M30,AF30)","v":0},10317,25.173018228871562]
[{"$f":"IF(COUNTRY_INFO!A31=0,\" \",COUNTRY_INFO!A31)","v":"Mozambique"},{"$f":"IF(COUNTRY_INFO!B31=0,\" \",COUNTRY_INFO!B31)","v":"Niassa"},{"$f":"IF(COUNTRY_INFO!C31=0,\" \",COUNTRY_INFO!C31)","v":"Mandimba"},{"$f":"COUNTRY_INFO!L31","v":0},null,null,{"$f":"MAX('MDA1'!M31,'MDA2'!M31)","v":0},{"$f":"IF(AND(COUNTRY_INFO!H31>0,COUNTRY_INFO!H31<4),IF(D31>MAX('MDA1'!M31,'MDA2'!M31),MAX('MDA1'!M31,'MDA2'!M31),D31),0)","v":0},{"$f":"IF(AND(COUNTRY_INFO!H31>0,COUNTRY_INFO!H31<4), IF(G31/D31*100<>0, IF(G31/D31*100>100,100,G31/D31*100), \"-\"),0)","v":0},{"$f":"COUNTRY_INFO!M31","v":"Not required"},null,null,{"$f":"MAX('MDA1'!M31,MAX('MDA3'!I31,'MDA3'!L31)+MAX('MDA3'!J31,'MDA3'!M31))","v":0},{"$f":"IF(AND(COUNTRY_INFO!I31>0,COUNTRY_INFO!I31<4),IF(J31>MAX('MDA1'!M31,MAX('MDA3'!I31,'MDA3'!L31)+MAX('MDA3'!J31,'MDA3'!M31)),MAX('MDA1'!M31,MAX('MDA3'!I31,'MDA3'!L31)+MAX('MDA3'!J31,'MDA3'!M31)),J31),0)","v":0},{"$f":"IF(AND(COUNTRY_INFO!I31>0,COUNTRY_INFO!I31<4), IF(M31/J31*100<>0, IF(M31/J31*100>100,100,M31/J31*100), \"-\"),0)","v":0},{"$f":"COUNTRY_INFO!N31","v":81857},null,null,{"$f":"SUM(MAX('MDA2'!J31, 'T1'!L31, MAX(T3_R1!K31, T3_R2!K31)), MAX('MDA1'!K31, 'MDA2'!K31, 'T1'!M31, MAX(T3_R1!L31, T3_R2!L31)), MAX('MDA1'!L31, 'MDA2'!L31, 'T1'!N31, MAX(T3_R1!M31, T3_R2!M31)))","v":50429},{"$f":"IF(AND(COUNTRY_INFO!J31>1,COUNTRY_INFO!J31<4),IF(COUNTRY_INFO!E31>MAX('MDA2'!J31,'T1'!L31,MAX(T3_R1!K31,T3_R2!K31)),MAX('MDA2'!J31,'T1'!L31,MAX(T3_R1!K31,T3_R2!K31)),COUNTRY_INFO!E31),0)","v":0},{"$f":"IF(AND(COUNTRY_INFO!J31>1,COUNTRY_INFO!J31<4), IF(T31/COUNTRY_INFO!E31*100<>0, IF(T31/COUNTRY_INFO!E31*100>100,100,T31/COUNTRY_INFO!E31*100), \"-\"),0)","v":"-"},{"$f":"IF(AND(COUNTRY_INFO!J31>1,COUNTRY_INFO!J31<4),IF(COUNTRY_INFO!F31>MAX('MDA1'!K31,'MDA2'!K31,'T1'!M31,MAX(T3_R1!L31,T3_R2!L31)),MAX('MDA1'!K31,'MDA2'!K31,'T1'!M31,MAX(T3_R1!L31,T3_R2!L31)),COUNTRY_INFO!F31),0)","v":50429},{"$f":"IF(AND(COUNTRY_INFO!J31>1,COUNTRY_INFO!J31<4), IF(V31/COUNTRY_INFO!F31*100<>0, IF(V31/COUNTRY_INFO!F31*100>100,100,V31/COUNTRY_INFO!F31*100), \"-\"),0)","v":87.128319425007334},50429,{"$f":"IF(AND(COUNTRY_INFO!J31>1,COUNTRY_INFO!J31<4), IF(S31/P31*100<>0, IF(X31/P31*100>100,100,X31/P31*100), \"-\"),0)","v":61.606215717653953},{"$f":"COUNTRY_INFO!O31","v":176737},25276,25153,{"$f":"MAX('T1'!L31,'T2'!J31)+MAX('T1'!M31,'T2'!K31)+MAX('T1'!N31,'T2'!L31)","v":50429},{"$f":"IF(COUNTRY_INFO!K31=1,IF(COUNTRY_INFO!F31*0.33>MAX('T1'!M31,'T2'!K31),MAX('T1'!M31,'T2'!K31),COUNTRY_INFO!F31*0.33),IF(COUNTRY_INFO!K31=2,IF(COUNTRY_INFO!F31*0.5>MAX('T1'!M31,'T2'!K31),MAX('T1'!M31,'T2'!K31),COUNTRY_INFO!F31*0.5),IF(COUNTRY_INFO!K31=3,IF(COUNTRY_INFO!F31>MAX('T1'!M31,'T2'!K31),MAX('T1'!M31,'T2'!K31),COUNTRY_INFO!F31),0)))","v":50429},{"$f":"IF(AND(COUNTRY_INFO!K31>0,COUNTRY_INFO!K31<4),IF(Z31>0,IF(COUNTRY_INFO!K31=1, AD31/(COUNTRY_INFO!F31*0.33)*100, IF(COUNTRY_INFO!K31=2, AD31/(COUNTRY_INFO!F31*0.5)*100, IF(COUNTRY_INFO!K31=3, AD31/COUNTRY_INFO!F31*100))),\"-\"),0)","v":87.128319425007334},{"$f":"IF(COUNTRY_INFO!K31=2,IF(COUNTRY_INFO!G31*0.2>MAX('T1'!N31,'T2'!L31),MAX('T1'!N31,'T2'!L31),COUNTRY_INFO!G31*0.2),IF(COUNTRY_INFO!K31=3,IF(COUNTRY_INFO!G31>MAX('T1'!N31,'T2'!L31),MAX('T1'!N31,'T2'!L31),COUNTRY_INFO!G31),0))","v":0},{"$f":"IF(AND(COUNTRY_INFO!K31>0,COUNTRY_INFO!K31<4),IF(Z31>0,IF(COUNTRY_INFO!K31=1, 0, IF(COUNTRY_INFO!K31=2, AF31/(COUNTRY_INFO!G31*0.2)*100, IF(COUNTRY_INFO!K31=3, AF31/COUNTRY_INFO!G31*100))),\"-\"),0)","v":0},50429,{"$f":"IF(AND(COUNTRY_INFO!K31>0,COUNTRY_INFO!K31<4), IF(AC31/Z31*100<>0, IF(AH31/Z31*100>100,100,AH31/Z31*100), \"-\"),0)","v":28.533357474665742},null,{"$f":"IF(AND(D31<>0, D31<>\"Unknown\",D31<>\"Stopped\",D31<>\"Not required\"),D31/COUNTRY_INFO!D31, 0)","v":0},{"$f":"IF(AND(J31<>0,J31<>\"Unknown\",J31<>\"Stopped\",J31<>\"Not required\"),J31/COUNTRY_INFO!D31, 0)","v":0},{"$f":"IF(AND(P31<>0,P31<>\"Unknown\",P31<>\"Not required\"),P31/(COUNTRY_INFO!E31+COUNTRY_INFO!F31), 0)","v":1},{"$f":"IF(AND(Z31<>0,Z31<>\"Unknown\",Z31<>\"Not required\"),IF(COUNTRY_INFO!K31=1,1,IF(COUNTRY_INFO!K31=2,0.5*COUNTRY_INFO!F31/(0.5*COUNTRY_INFO!F31+0.2*COUNTRY_INFO!G31),IF(COUNTRY_INFO!K31=3,COUNTRY_INFO!F31/(COUNTRY_INFO!F31+COUNTRY_INFO!G31)))),0)","v":0.32748660438957322},{"$f":"IF(AND(Z31<>0,Z31<>\"Unknown\",Z31<>\"Not required\"),IF(COUNTRY_INFO!K31=1,0,IF(COUNTRY_INFO!K31=2,0.2*COUNTRY_INFO!G31/(0.5*COUNTRY_INFO!F31+0.2*COUNTRY_INFO!G31),IF(COUNTRY_INFO!K31=3,COUNTRY_INFO!G31/(COUNTRY_INFO!F31+COUNTRY_INFO!G31)))),0)","v":0.67251339561042678},{"$f":"MAX(COUNTRY_INFO!D31*AK31*PROFILE!$G$7,COUNTRY_INFO!D31*AL31*PROFILE!$G$7)","v":0},{"$f":"MAX(COUNTRY_INFO!D31*AK31*PROFILE!$G$8,COUNTRY_INFO!D31*AL31*PROFILE!$G$8,COUNTRY_INFO!D31*AM31*PROFILE!$G$8)","v":23978.341444364167},{"$f":"MAX(COUNTRY_INFO!D31*AK31*PROFILE!$G$9,COUNTRY_INFO!D31*AL31*PROFILE!$G$9,COUNTRY_INFO!D31*AM31*PROFILE!$G$9,IF(AND(DISTRICT!Z31<>\"Unknown\",Z31<>\"Not required\"),COUNTRY_INFO!O31*DISTRICT!AN31,0))","v":57879},{"$f":"MAX(COUNTRY_INFO!D31*AK31*PROFILE!$G$10,COUNTRY_INFO!D31*AL31*PROFILE!$G$10,IF(AND(DISTRICT!Z31<>\"Unknown\",Z31<>\"Not required\"),COUNTRY_INFO!O31*DISTRICT!AO31,0))","v":118858},200715.34144436417,"Y",{"$f":"MAX('MDA2'!J31,'T1'!L31,'T2'!J31,T3_R1!K31,T3_R2!K31)","v":0},{"$f":"MAX('MDA1'!K31,'MDA2'!K31,'MDA3'!I31,'MDA3'!L31,'T1'!M31,'T2'!K31,T3_R1!L31,T3_R2!L31)","v":50429},{"$f":"MAX('MDA1'!L31,'MDA2'!L31,'MDA3'!J31,'MDA3'!M31,'T1'!N31,'T2'!L31,T3_R1!M31,T3_R2!M31)","v":0},50429,{"$f":"MAX('MDA2'!J31,T31)","v":0},{"$f":"MAX('MDA1'!K31,'MDA2'!K31,'MDA3'!I31,'MDA3'!L31,V31,AD31)","v":50429},{"$f":"MAX('MDA1'!L31,'MDA2'!L31,'MDA3'!J31,'MDA3'!M31,AF31)","v":0},50429,25.124636531073683]
[{"$f":"IF(COUNTRY_INFO!A32=0,\" \",COUNTRY_INFO!A32)","v":"Mozambique"},{"$f":"IF(COUNTRY_INFO!B32=0,\" \",COUNTRY_INFO!B32)","v":"Niassa"},{"$f":"IF(COUNTRY_INFO!C32=0,\" \",COUNTRY_INFO!C32)","v":"Marrupa"},{"$f":"COUNTRY_INFO!L32","v":"Stopped"},null,null,{"$f":"MAX('MDA1'!M32,'MDA2'!M32)","v":0},{"$f":"IF(AND(COUNTRY_INFO!H32>0,COUNTRY_INFO!H32<4),IF(D32>MAX('MDA1'!M32,'MDA2'!M32),MAX('MDA1'!M32,'MDA2'!M32),D32),0)","v":0},{"$f":"IF(AND(COUNTRY_INFO!H32>0,COUNTRY_INFO!H32<4), IF(G32/D32*100<>0, IF(G32/D32*100>100,100,G32/D32*100), \"-\"),0)","v":0},{"$f":"COUNTRY_INFO!M32","v":"Not required"},null,null,{"$f":"MAX('MDA1'!M32,MAX('MDA3'!I32,'MDA3'!L32)+MAX('MDA3'!J32,'MDA3'!M32))","v":0},{"$f":"IF(AND(COUNTRY_INFO!I32>0,COUNTRY_INFO!I32<4),IF(J32>MAX('MDA1'!M32,MAX('MDA3'!I32,'MDA3'!L32)+MAX('MDA3'!J32,'MDA3'!M32)),MAX('MDA1'!M32,MAX('MDA3'!I32,'MDA3'!L32)+MAX('MDA3'!J32,'MDA3'!M32)),J32),0)","v":0},{"$f":"IF(AND(COUNTRY_INFO!I32>0,COUNTRY_INFO!I32<4), IF(M32/J32*100<>0, IF(M32/J32*100>100,100,M32/J32*100), \"-\"),0)","v":0},{"$f":"COUNTRY_INFO!N32","v":29963},null,null,{"$f":"SUM(MAX('MDA2'!J32, 'T1'!L32, MAX(T3_R1!K32, T3_R2!K32)), MAX('MDA1'!K32, 'MDA2'!K32, 'T1'!M32, MAX(T3_R1!L32, T3_R2!L32)), MAX('MDA1'!L32, 'MDA2'!L32, 'T1'!N32, MAX(T3_R1!M32, T3_R2!M32)))","v":20579},{"$f":"IF(AND(COUNTRY_INFO!J32>1,COUNTRY_INFO!J32<4),IF(COUNTRY_INFO!E32>MAX('MDA2'!J32,'T1'!L32,MAX(T3_R1!K32,T3_R2!K32)),MAX('MDA2'!J32,'T1'!L32,MAX(T3_R1!K32,T3_R2!K32)),COUNTRY_INFO!E32),0)","v":0},{"$f":"IF(AND(COUNTRY_INFO!J32>1,COUNTRY_INFO!J32<4), IF(T32/COUNTRY_INFO!E32*100<>0, IF(T32/COUNTRY_INFO!E32*100>100,100,T32/COUNTRY_INFO!E32*100), \"-\"),0)","v":"-"},{"$f":"IF(AND(COUNTRY_INFO!J32>1,COUNTRY_INFO!J32<4),IF(COUNTRY_INFO!F32>MAX('MDA1'!K32,'MDA2'!K32,'T1'!M32,MAX(T3_R1!L32,T3_R2!L32)),MAX('MDA1'!K32,'MDA2'!K32,'T1'!M32,MAX(T3_R1!L32,T3_R2!L32)),COUNTRY_INFO!F32),0)","v":20579},{"$f":"IF(AND(COUNTRY_INFO!J32>1,COUNTRY_INFO!J32<4), IF(V32/COUNTRY_INFO!F32*100<>0, IF(V32/COUNTRY_INFO!F32*100>100,100,V32/COUNTRY_INFO!F32*100), \"-\"),0)","v":97.134900405928448},20579,{"$f":"IF(AND(COUNTRY_INFO!J32>1,COUNTRY_INFO!J32<4), IF(S32/P32*100<>0, IF(X32/P32*100>100,100,X32/P32*100), \"-\"),0)","v":68.681373694222884},{"$f":"COUNTRY_INFO!O32","v":64693},9930,10649,{"$f":"MAX('T1'!L32,'T2'!J32)+MAX('T1'!M32,'T2'!K32)+MAX('T1'!N32,'T2'!L32)","v":20579},{"$f":"IF(COUNTRY_INFO!K32=1,IF(COUNTRY_INFO!F32*0.33>MAX('T1'!M32,'T2'!K32),MAX('T1'!M32,'T2'!K32),COUNTRY_INFO!F32*0.33),IF(COUNTRY_INFO!K32=2,IF(COUNTRY_INFO!F32*0.5>MAX('T1'!M32,'T2'!K32),MAX('T1'!M32,'T2'!K32),COUNTRY_INFO!F32*0.5),IF(COUNTRY_INFO!K32=3,IF(COUNTRY_INFO!F32>MAX('T1'!M32,'T2'!K32),MAX('T1'!M32,'T2'!K32),COUNTRY_INFO!F32),0)))","v":20579},{"$f":"IF(AND(COUNTRY_INFO!K32>0,COUNTRY_INFO!K32<4),IF(Z32>0,IF(COUNTRY_INFO!K32=1, AD32/(COUNTRY_INFO!F32*0.33)*100, IF(COUNTRY_INFO!K32=2, AD32/(COUNTRY_INFO!F32*0.5)*100, IF(COUNTRY_INFO!K32=3, AD32/COUNTRY_INFO!F32*100))),\"-\"),0)","v":97.134900405928448},{"$f":"IF(COUNTRY_INFO!K32=2,IF(COUNTRY_INFO!G32*0.2>MAX('T1'!N32,'T2'!L32),MAX('T1'!N32,'T2'!L32),COUNTRY_INFO!G32*0.2),IF(COUNTRY_INFO!K32=3,IF(COUNTRY_INFO!G32>MAX('T1'!N32,'T2'!L32),MAX('T1'!N32,'T2'!L32),COUNTRY_INFO!G32),0))","v":0},{"$f":"IF(AND(COUNTRY_INFO!K32>0,COUNTRY_INFO!K32<4),IF(Z32>0,IF(COUNTRY_INFO!K32=1, 0, IF(COUNTRY_INFO!K32=2, AF32/(COUNTRY_INFO!G32*0.2)*100, IF(COUNTRY_INFO!K32=3, AF32/COUNTRY_INFO!G32*100))),\"-\"),0)","v":0},20579,{"$f":"IF(AND(COUNTRY_INFO!K32>0,COUNTRY_INFO!K32<4), IF(AC32/Z32*100<>0, IF(AH32/Z32*100>100,100,AH32/Z32*100), \"-\"),0)","v":31.810242220951263},null,{"$f":"IF(AND(D32<>0, D32<>\"Unknown\",D32<>\"Stopped\",D32<>\"Not required\"),D32/COUNTRY_INFO!D32, 0)","v":0},{"$f":"IF(AND(J32<>0,J32<>\"Unknown\",J32<>\"Stopped\",J32<>\"Not required\"),J32/COUNTRY_INFO!D32, 0)","v":0},{"$f":"IF(AND(P32<>0,P32<>\"Unknown\",P32<>\"Not required\"),P32/(COUNTRY_INFO!E32+COUNTRY_INFO!F32), 0)","v":1},{"$f":"IF(AND(Z32<>0,Z32<>\"Unknown\",Z32<>\"Not required\"),IF(COUNTRY_INFO!K32=1,1,IF(COUNTRY_INFO!K32=2,0.5*COUNTRY_INFO!F32/(0.5*COUNTRY_INFO!F32+0.2*COUNTRY_INFO!G32),IF(COUNTRY_INFO!K32=3,COUNTRY_INFO!F32/(COUNTRY_INFO!F32+COUNTRY_INFO!G32)))),0)","v":0.32748519932604764},{"$f":"IF(AND(Z32<>0,Z32<>\"Unknown\",Z32<>\"Not required\"),IF(COUNTRY_INFO!K32=1,0,IF(COUNTRY_INFO!K32=2,0.2*COUNTRY_INFO!G32/(0.5*COUNTRY_INFO!F32+0.2*COUNTRY_INFO!G32),IF(COUNTRY_INFO!K32=3,COUNTRY_INFO!G32/(COUNTRY_INFO!F32+COUNTRY_INFO!G32)))),0)","v":0.67251480067395231},{"$f":"MAX(COUNTRY_INFO!D32*AK32*PROFILE!$G$7,COUNTRY_INFO!D32*AL32*PROFILE!$G$7)","v":0},{"$f":"MAX(COUNTRY_INFO!D32*AK32*PROFILE!$G$8,COUNTRY_INFO!D32*AL32*PROFILE!$G$8,COUNTRY_INFO!D32*AM32*PROFILE!$G$8)","v":8777.1095074692003},{"$f":"MAX(COUNTRY_INFO!D32*AK32*PROFILE!$G$9,COUNTRY_INFO!D32*AL32*PROFILE!$G$9,COUNTRY_INFO!D32*AM32*PROFILE!$G$9,IF(AND(DISTRICT!Z32<>\"Unknown\",Z32<>\"Not required\"),COUNTRY_INFO!O32*DISTRICT!AN32,0))","v":21186.146661024562},{"$f":"MAX(COUNTRY_INFO!D32*AK32*PROFILE!$G$10,COUNTRY_INFO!D32*AL32*PROFILE!$G$10,IF(AND(DISTRICT!Z32<>\"Unknown\",Z32<>\"Not required\"),COUNTRY_INFO!O32*DISTRICT!AO32,0))","v":43507},73470.256168493768,"Y",{"$f":"MAX('MDA2'!J32,'T1'!L32,'T2'!J32,T3_R1!K32,T3_R2!K32)","v":0},{"$f":"MAX('MDA1'!K32,'MDA2'!K32,'MDA3'!I32,'MDA3'!L32,'T1'!M32,'T2'!K32,T3_R1!L32,T3_R2!L32)","v":20579},{"$f":"MAX('MDA1'!L32,'MDA2'!L32,'MDA3'!J32,'MDA3'!M32,'T1'!N32,'T2'!L32,T3_R1!M32,T3_R2!M32)","v":0},20579,{"$f":"MAX('MDA2'!J32,T32)","v":0},{"$f":"MAX('MDA1'!K32,'MDA2'!K32,'MDA3'!I32,'MDA3'!L32,V32,AD32)","v":20579},{"$f":"MAX('MDA1'!L32,'MDA2'!L32,'MDA3'!J32,'MDA3'!M32,AF32)","v":0},20579,28.009974475663917]
[{"$f":"IF(COUNTRY_INFO!A33=0,\" \",COUNTRY_INFO!A33)","v":"Mozambique"},{"$f":"IF(COUNTRY_INFO!B33=0,\" \",COUNTRY_INFO!B33)","v":"Niassa"},{"$f":"IF(COUNTRY_INFO!C33=0,\" \",COUNTRY_INFO!C33)","v":"Maúa"},{"$f":"COUNTRY_INFO!L33","v":"Stopped"},null,null,{"$f":"MAX('MDA1'!M33,'MDA2'!M33)","v":0},{"$f":"IF(AND(COUNTRY_INFO!H33>0,COUNTRY_INFO!H33<4),IF(D33>MAX('MDA1'!M33,'MDA2'!M33),MAX('MDA1'!M33,'MDA2'!M33),D33),0)","v":0},{"$f":"IF(AND(COUNTRY_INFO!H33>0,COUNTRY_INFO!H33<4), IF(G33/D33*100<>0, IF(G33/D33*100>100,100,G33/D33*100), \"-\"),0)","v":0},{"$f":"COUNTRY_INFO!M33","v":"Not required"},null,null,{"$f":"MAX('MDA1'!M33,MAX('MDA3'!I33,'MDA3'!L33)+MAX('MDA3'!J33,'MDA3'!M33))","v":0},{"$f":"IF(AND(COUNTRY_INFO!I33>0,COUNTRY_INFO!I33<4),IF(J33>MAX('MDA1'!M33,MAX('MDA3'!I33,'MDA3'!L33)+MAX('MDA3'!J33,'MDA3'!M33)),MAX('MDA1'!M33,MAX('MDA3'!I33,'MDA3'!L33)+MAX('MDA3'!J33,'MDA3'!M33)),J33),0)","v":0},{"$f":"IF(AND(COUNTRY_INFO!I33>0,COUNTRY_INFO!I33<4), IF(M33/J33*100<>0, IF(M33/J33*100>100,100,M33/J33*100), \"-\"),0)","v":0},{"$f":"COUNTRY_INFO!N33","v":27161},null,null,{"$f":"SUM(MAX('MDA2'!J33, 'T1'!L33, MAX(T3_R1!K33, T3_R2!K33)), MAX('MDA1'!K33, 'MDA2'!K33, 'T1'!M33, MAX(T3_R1!L33, T3_R2!L33)), MAX('MDA1'!L33, 'MDA2'!L33, 'T1'!N33, MAX(T3_R1!M33, T3_R2!M33)))","v":17600},{"$f":"IF(AND(COUNTRY_INFO!J33>1,COUNTRY_INFO!J33<4),IF(COUNTRY_INFO!E33>MAX('MDA2'!J33,'T1'!L33,MAX(T3_R1!K33,T3_R2!K33)),MAX('MDA2'!J33,'T1'!L33,MAX(T3_R1!K33,T3_R2!K33)),COUNTRY_INFO!E33),0)","v":0},{"$f":"IF(AND(COUNTRY_INFO!J33>1,COUNTRY_INFO!J33<4), IF(T33/COUNTRY_INFO!E33*100<>0, IF(T33/COUNTRY_INFO!E33*100>100,100,T33/COUNTRY_INFO!E33*100), \"-\"),0)","v":"-"},{"$f":"IF(AND(COUNTRY_INFO!J33>1,COUNTRY_INFO!J33<4),IF(COUNTRY_INFO!F33>MAX('MDA1'!K33,'MDA2'!K33,'T1'!M33,MAX(T3_R1!L33,T3_R2!L33)),MAX('MDA1'!K33,'MDA2'!K33,'T1'!M33,MAX(T3_R1!L33,T3_R2!L33)),COUNTRY_INFO!F33),0)","v":17600},{"$f":"IF(AND(COUNTRY_INFO!J33>1,COUNTRY_INFO!J33<4), IF(V33/COUNTRY_INFO!F33*100<>0, IF(V33/COUNTRY_INFO!F33*100>100,100,V33/COUNTRY_INFO!F33*100), \"-\"),0)","v":91.642801353814107},17600,{"$f":"IF(AND(COUNTRY_INFO!J33>1,COUNTRY_INFO!J33<4), IF(S33/P33*100<>0, IF(X33/P33*100>100,100,X33/P33*100), \"-\"),0)","v":64.798792386141884},{"$f":"COUNTRY_INFO!O33","v":58643},8484,9116,{"$f":"MAX('T1'!L33,'T2'!J33)+MAX('T1'!M33,'T2'!K33)+MAX('T1'!N33,'T2'!L33)","v":17600},{"$f":"IF(COUNTRY_INFO!K33=1,IF(COUNTRY_INFO!F33*0.33>MAX('T1'!M33,'T2'!K33),MAX('T1'!M33,'T2'!K33),COUNTRY_INFO!F33*0.33),IF(COUNTRY_INFO!K33=2,IF(COUNTRY_INFO!F33*0.5>MAX('T1'!M33,'T2'!K33),MAX('T1'!M33,'T2'!K33),COUNTRY_INFO!F33*0.5),IF(COUNTRY_INFO!K33=3,IF(COUNTRY_INFO!F33>MAX('T1'!M33,'T2'!K33),MAX('T1'!M33,'T2'!K33),COUNTRY_INFO!F33),0)))","v":17600},{"$f":"IF(AND(COUNTRY_INFO!K33>0,COUNTRY_INFO!K33<4),IF(Z33>0,IF(COUNTRY_INFO!K33=1, AD33/(COUNTRY_INFO!F33*0.33)*100, IF(COUNTRY_INFO!K33=2, AD33/(COUNTRY_INFO!F33*0.5)*100, IF(COUNTRY_INFO!K33=3, AD33/COUNTRY_INFO!F33*100))),\"-\"),0)","v":91.642801353814107},{"$f":"IF(COUNTRY_INFO!K33=2,IF(COUNTRY_INFO!G33*0.2>MAX('T1'!N33,'T2'!L33),MAX('T1'!N33,'T2'!L33),COUNTRY_INFO!G33*0.2),IF(COUNTRY_INFO!K33=3,IF(COUNTRY_INFO!G33>MAX('T1'!N33,'T2'!L33),MAX('T1'!N33,'T2'!L33),COUNTRY_INFO!G33),0))","v":0},{"$f":"IF(AND(COUNTRY_INFO!K33>0,COUNTRY_INFO!K33<4),IF(Z33>0,IF(COUNTRY_INFO!K33=1, 0, IF(COUNTRY_INFO!K33=2, AF33/(COUNTRY_INFO!G33*0.2)*100, IF(COUNTRY_INFO!K33=3, AF33/COUNTRY_INFO!G33*100))),\"-\"),0)","v":0},17600,{"$f":"IF(AND(COUNTRY_INFO!K33>0,COUNTRY_INFO!K33<4), IF(AC33/Z33*100<>0, IF(AH33/Z33*100>100,100,AH33/Z33*100), \"-\"),0)","v":30.012107156864413},null,{"$f":"IF(AND(D33<>0, D33<>\"Unknown\",D33<>\"Stopped\",D33<>\"Not required\"),D33/COUNTRY_INFO!D33, 0)","v":0},{"$f":"IF(AND(J33<>0,J33<>\"Unknown\",J33<>\"Stopped\",J33<>\"Not required\"),J33/COUNTRY_INFO!D33, 0)","v":0},{"$f":"IF(AND(P33<>0,P33<>\"Unknown\",P33<>\"Not required\"),P33/(COUNTRY_INFO!E33+COUNTRY_INFO!F33), 0)","v":1},{"$f":"IF(AND(Z33<>0,Z33<>\"Unknown\",Z33<>\"Not required\"),IF(COUNTRY_INFO!K33=1,1,IF(COUNTRY_INFO!K33=2,0.5*COUNTRY_INFO!F33/(0.5*COUNTRY_INFO!F33+0.2*COUNTRY_INFO!G33),IF(COUNTRY_INFO!K33=3,COUNTRY_INFO!F33/(COUNTRY_INFO!F33+COUNTRY_INFO!G33)))),0)","v":0.32749006701567107},{"$f":"IF(AND(Z33<>0,Z33<>\"Unknown\",Z33<>\"Not required\"),IF(COUNTRY_INFO!K33=1,0,IF(COUNTRY_INFO!K33=2,0.2*COUNTRY_INFO!G33/(0.5*COUNTRY_INFO!F33+0.2*COUNTRY_INFO!G33),IF(COUNTRY_INFO!K33=3,COUNTRY_INFO!G33/(COUNTRY_INFO!F33+COUNTRY_INFO!G33)))),0)","v":0.67250993298432893},{"$f":"MAX(COUNTRY_INFO!D33*AK33*PROFILE!$G$7,COUNTRY_INFO!D33*AL33*PROFILE!$G$7)","v":0},{"$f":"MAX(COUNTRY_INFO!D33*AK33*PROFILE!$G$8,COUNTRY_INFO!D33*AL33*PROFILE!$G$8,COUNTRY_INFO!D33*AM33*PROFILE!$G$8)","v":7956.1494682176271},{"$f":"MAX(COUNTRY_INFO!D33*AK33*PROFILE!$G$9,COUNTRY_INFO!D33*AL33*PROFILE!$G$9,COUNTRY_INFO!D33*AM33*PROFILE!$G$9,IF(AND(DISTRICT!Z33<>\"Unknown\",Z33<>\"Not required\"),COUNTRY_INFO!O33*DISTRICT!AN33,0))","v":19205},{"$f":"MAX(COUNTRY_INFO!D33*AK33*PROFILE!$G$10,COUNTRY_INFO!D33*AL33*PROFILE!$G$10,IF(AND(DISTRICT!Z33<>\"Unknown\",Z33<>\"Not required\"),COUNTRY_INFO!O33*DISTRICT!AO33,0))","v":39438},66599.149468217627,"Y",{"$f":"MAX('MDA2'!J33,'T1'!L33,'T2'!J33,T3_R1!K33,T3_R2!K33)","v":0},{"$f":"MAX('MDA1'!K33,'MDA2'!K33,'MDA3'!I33,'MDA3'!L33,'T1'!M33,'T2'!K33,T3_R1!L33,T3_R2!L33)","v":17600},{"$f":"MAX('MDA1'!L33,'MDA2'!L33,'MDA3'!J33,'MDA3'!M33,'T1'!N33,'T2'!L33,T3_R1!M33,T3_R2!M33)","v":0},17600,{"$f":"MAX('MDA2'!J33,T33)","v":0},{"$f":"MAX('MDA1'!K33,'MDA2'!K33,'MDA3'!I33,'MDA3'!L33,V33,AD33)","v":17600},{"$f":"MAX('MDA1'!L33,'MDA2'!L33,'MDA3'!J33,'MDA3'!M33,AF33)","v":0},17600,26.426763915955192]
[{"$f":"IF(COUNTRY_INFO!A34=0,\" \",COUNTRY_INFO!A34)","v":"Mozambique"},{"$f":"IF(COUNTRY_INFO!B34=0,\" \",COUNTRY_INFO!B34)","v":"Niassa"},{"$f":"IF(COUNTRY_INFO!C34=0,\" \",COUNTRY_INFO!C34)","v":"Mavago"},{"$f":"COUNTRY_INFO!L34","v":0},null,null,{"$f":"MAX('MDA1'!M34,'MDA2'!M34)","v":0},{"$f":"IF(AND(COUNTRY_INFO!H34>0,COUNTRY_INFO!H34<4),IF(D34>MAX('MDA1'!M34,'MDA2'!M34),MAX('MDA1'!M34,'MDA2'!M34),D34),0)","v":0},{"$f":"IF(AND(COUNTRY_INFO!H34>0,COUNTRY_INFO!H34<4), IF(G34/D34*100<>0, IF(G34/D34*100>100,100,G34/D34*100), \"-\"),0)","v":0},{"$f":"COUNTRY_INFO!M34","v":"Not required"},null,null,{"$f":"MAX('MDA1'!M34,MAX('MDA3'!I34,'MDA3'!L34)+MAX('MDA3'!J34,'MDA3'!M34))","v":0},{"$f":"IF(AND(COUNTRY_INFO!I34>0,COUNTRY_INFO!I34<4),IF(J34>MAX('MDA1'!M34,MAX('MDA3'!I34,'MDA3'!L34)+MAX('MDA3'!J34,'MDA3'!M34)),MAX('MDA1'!M34,MAX('MDA3'!I34,'MDA3'!L34)+MAX('MDA3'!J34,'MDA3'!M34)),J34),0)","v":0},{"$f":"IF(AND(COUNTRY_INFO!I34>0,COUNTRY_INFO!I34<4), IF(M34/J34*100<>0, IF(M34/J34*100>100,100,M34/J34*100), \"-\"),0)","v":0},{"$f":"COUNTRY_INFO!N34","v":12571},null,null,{"$f":"SUM(MAX('MDA2'!J34, 'T1'!L34, MAX(T3_R1!K34, T3_R2!K34)), MAX('MDA1'!K34, 'MDA2'!K34, 'T1'!M34, MAX(T3_R1!L34, T3_R2!L34)), MAX('MDA1'!L34, 'MDA2'!L34, 'T1'!N34, MAX(T3_R1!M34, T3_R2!M34)))","v":8878},{"$f":"IF(AND(COUNTRY_INFO!J34>1,COUNTRY_INFO!J34<4),IF(COUNTRY_INFO!E34>MAX('MDA2'!J34,'T1'!L34,MAX(T3_R1!K34,T3_R2!K34)),MAX('MDA2'!J34,'T1'!L34,MAX(T3_R1!K34,T3_R2!K34)),COUNTRY_INFO!E34),0)","v":0},{"$f":"IF(AND(COUNTRY_INFO!J34>1,COUNTRY_INFO!J34<4), IF(T34/COUNTRY_INFO!E34*100<>0, IF(T34/COUNTRY_INFO!E34*100>100,100,T34/COUNTRY_INFO!E34*100), \"-\"),0)","v":"-"},{"$f":"IF(AND(COUNTRY_INFO!J34>1,COUNTRY_INFO!J34<4),IF(COUNTRY_INFO!F34>MAX('MDA1'!K34,'MDA2'!K34,'T1'!M34,MAX(T3_R1!L34,T3_R2!L34)),MAX('MDA1'!K34,'MDA2'!K34,'T1'!M34,MAX(T3_R1!L34,T3_R2!L34)),COUNTRY_INFO!F34),0)","v":8878},{"$f":"IF(AND(COUNTRY_INFO!J34>1,COUNTRY_INFO!J34<4), IF(V34/COUNTRY_INFO!F34*100<>0, IF(V34/COUNTRY_INFO!F34*100>100,100,V34/COUNTRY_INFO!F34*100), \"-\"),0)","v":99.87625154685567},8878,{"$f":"IF(AND(COUNTRY_INFO!J34>1,COUNTRY_INFO!J34<4), IF(S34/P34*100<>0, IF(X34/P34*100>100,100,X34/P34*100), \"-\"),0)","v":70.622862143027604},{"$f":"COUNTRY_INFO!O34","v":27142},4622,4256,{"$f":"MAX('T1'!L34,'T2'!J34)+MAX('T1'!M34,'T2'!K34)+MAX('T1'!N34,'T2'!L34)","v":8878},{"$f":"IF(COUNTRY_INFO!K34=1,IF(COUNTRY_INFO!F34*0.33>MAX('T1'!M34,'T2'!K34),MAX('T1'!M34,'T2'!K34),COUNTRY_INFO!F34*0.33),IF(COUNTRY_INFO!K34=2,IF(COUNTRY_INFO!F34*0.5>MAX('T1'!M34,'T2'!K34),MAX('T1'!M34,'T2'!K34),COUNTRY_INFO!F34*0.5),IF(COUNTRY_INFO!K34=3,IF(COUNTRY_INFO!F34>MAX('T1'!M34,'T2'!K34),MAX('T1'!M34,'T2'!K34),COUNTRY_INFO!F34),0)))","v":8878},{"$f":"IF(AND(COUNTRY_INFO!K34>0,COUNTRY_INFO!K34<4),IF(Z34>0,IF(COUNTRY_INFO!K34=1, AD34/(COUNTRY_INFO!F34*0.33)*100, IF(COUNTRY_INFO!K34=2, AD34/(COUNTRY_INFO!F34*0.5)*100, IF(COUNTRY_INFO!K34=3, AD34/COUNTRY_INFO!F34*100))),\"-\"),0)","v":99.87625154685567},{"$f":"IF(COUNTRY_INFO!K34=2,IF(COUNTRY_INFO!G34*0.2>MAX('T1'!N34,'T2'!L34),MAX('T1'!N34,'T2'!L34),COUNTRY_INFO!G34*0.2),IF(COUNTRY_INFO!K34=3,IF(COUNTRY_INFO!G34>MAX('T1'!N34,'T2'!L34),MAX('T1'!N34,'T2'!L34),COUNTRY_INFO!G34),0))","v":0},{"$f":"IF(AND(COUNTRY_INFO!K34>0,COUNTRY_INFO!K34<4),IF(Z34>0,IF(COUNTRY_INFO!K34=1, 0, IF(COUNTRY_INFO!K34=2, AF34/(COUNTRY_INFO!G34*0.2)*100, IF(COUNTRY_INFO!K34=3, AF34/COUNTRY_INFO!G34*100))),\"-\"),0)","v":0},8878,{"$f":"IF(AND(COUNTRY_INFO!K34>0,COUNTRY_INFO!K34<4), IF(AC34/Z34*100<>0, IF(AH34/Z34*100>100,100,AH34/Z34*100), \"-\"),0)","v":32.709453982757353},null,{"$f":"IF(AND(D34<>0, D34<>\"Unknown\",D34<>\"Stopped\",D34<>\"Not required\"),D34/COUNTRY_INFO!D34, 0)","v":0},{"$f":"IF(AND(J34<>0,J34<>\"Unknown\",J34<>\"Stopped\",J34<>\"Not required\"),J34/COUNTRY_INFO!D34, 0)","v":0},{"$f":"IF(AND(P34<>0,P34<>\"Unknown\",P34<>\"Not required\"),P34/(COUNTRY_INFO!E34+COUNTRY_INFO!F34), 0)","v":1},{"$f":"IF(AND(Z34<>0,Z34<>\"Unknown\",Z34<>\"Not required\"),IF(COUNTRY_INFO!K34=1,1,IF(COUNTRY_INFO!K34=2,0.5*COUNTRY_INFO!F34/(0.5*COUNTRY_INFO!F34+0.2*COUNTRY_INFO!G34),IF(COUNTRY_INFO!K34=3,COUNTRY_INFO!F34/(COUNTRY_INFO!F34+COUNTRY_INFO!G34)))),0)","v":0.32749981578365633},{"$f":"IF(AND(Z34<>0,Z34<>\"Unknown\",Z34<>\"Not required\"),IF(COUNTRY_INFO!K34=1,0,IF(COUNTRY_INFO!K34=2,0.2*COUNTRY_INFO!G34/(0.5*COUNTRY_INFO!F34+0.2*COUNTRY_INFO!G34),IF(COUNTRY_INFO!K34=3,COUNTRY_INFO!G34/(COUNTRY_INFO!F34+COUNTRY_INFO!G34)))),0)","v":0.67250018421634372},{"$f":"MAX(COUNTRY_INFO!D34*AK34*PROFILE!$G$7,COUNTRY_INFO!D34*AL34*PROFILE!$G$7)","v":0},{"$f":"MAX(COUNTRY_INFO!D34*AK34*PROFILE!$G$8,COUNTRY_INFO!D34*AL34*PROFILE!$G$8,COUNTRY_INFO!D34*AM34*PROFILE!$G$8)","v":3682.4101974671621},{"$f":"MAX(COUNTRY_INFO!D34*AK34*PROFILE!$G$9,COUNTRY_INFO!D34*AL34*PROFILE!$G$9,COUNTRY_INFO!D34*AM34*PROFILE!$G$9,IF(AND(DISTRICT!Z34<>\"Unknown\",Z34<>\"Not required\"),COUNTRY_INFO!O34*DISTRICT!AN34,0))","v":8889},{"$f":"MAX(COUNTRY_INFO!D34*AK34*PROFILE!$G$10,COUNTRY_INFO!D34*AL34*PROFILE!$G$10,IF(AND(DISTRICT!Z34<>\"Unknown\",Z34<>\"Not required\"),COUNTRY_INFO!O34*DISTRICT!AO34,0))","v":18253},30824.410197467161,"Y",{"$f":"MAX('MDA2'!J34,'T1'!L34,'T2'!J34,T3_R1!K34,T3_R2!K34)","v":0},{"$f":"MAX('MDA1'!K34,'MDA2'!K34,'MDA3'!I34,'MDA3'!L34,'T1'!M34,'T2'!K34,T3_R1!L34,T3_R2!L34)","v":8878},{"$f":"MAX('MDA1'!L34,'MDA2'!L34,'MDA3'!J34,'MDA3'!M34,'T1'!N34,'T2'!L34,T3_R1!M34,T3_R2!M34)","v":0},8878,{"$f":"MAX('MDA2'!J34,T34)","v":0},{"$f":"MAX('MDA1'!K34,'MDA2'!K34,'MDA3'!I34,'MDA3'!L34,V34,AD34)","v":8878},{"$f":"MAX('MDA1'!L34,'MDA2'!L34,'MDA3'!J34,'MDA3'!M34,AF34)","v":0},8878,28.801848739767628]
[{"$f":"IF(COUNTRY_INFO!A35=0,\" \",COUNTRY_INFO!A35)","v":"Mozambique"},{"$f":"IF(COUNTRY_INFO!B35=0,\" \",COUNTRY_INFO!B35)","v":"Niassa"},{"$f":"IF(COUNTRY_INFO!C35=0,\" \",COUNTRY_INFO!C35)","v":"Mecanhelas"},{"$f":"COUNTRY_INFO!L35","v":325692.60134881915},null,null,{"$f":"MAX('MDA1'!M35,'MDA2'!M35)","v":271416},{"$f":"IF(AND(COUNTRY_INFO!H35>0,COUNTRY_INFO!H35<4),IF(D35>MAX('MDA1'!M35,'MDA2'!M35),MAX('MDA1'!M35,'MDA2'!M35),D35),0)","v":271416},{"$f":"IF(AND(COUNTRY_INFO!H35>0,COUNTRY_INFO!H35<4), IF(G35/D35*100<>0, IF(G35/D35*100>100,100,G35/D35*100), \"-\"),0)","v":83.335021697134437},{"$f":"COUNTRY_INFO!M35","v":"Not required"},null,null,{"$f":"MAX('MDA1'!M35,MAX('MDA3'!I35,'MDA3'!L35)+MAX('MDA3'!J35,'MDA3'!M35))","v":271416},{"$f":"IF(AND(COUNTRY_INFO!I35>0,COUNTRY_INFO!I35<4),IF(J35>MAX('MDA1'!M35,MAX('MDA3'!I35,'MDA3'!L35)+MAX('MDA3'!J35,'MDA3'!M35)),MAX('MDA1'!M35,MAX('MDA3'!I35,'MDA3'!L35)+MAX('MDA3'!J35,'MDA3'!M35)),J35),0)","v":0},{"$f":"IF(AND(COUNTRY_INFO!I35>0,COUNTRY_INFO!I35<4), IF(M35/J35*100<>0, IF(M35/J35*100>100,100,M35/J35*100), \"-\"),0)","v":0},{"$f":"COUNTRY_INFO!N35","v":128974},null,null,{"$f":"SUM(MAX('MDA2'!J35, 'T1'!L35, MAX(T3_R1!K35, T3_R2!K35)), MAX('MDA1'!K35, 'MDA2'!K35, 'T1'!M35, MAX(T3_R1!L35, T3_R2!L35)), MAX('MDA1'!L35, 'MDA2'!L35, 'T1'!N35, MAX(T3_R1!M35, T3_R2!M35)))","v":271416},{"$f":"IF(AND(COUNTRY_INFO!J35>1,COUNTRY_INFO!J35<4),IF(COUNTRY_INFO!E35>MAX('MDA2'!J35,'T1'!L35,MAX(T3_R1!K35,T3_R2!K35)),MAX('MDA2'!J35,'T1'!L35,MAX(T3_R1!K35,T3_R2!K35)),COUNTRY_INFO!E35),0)","v":0},{"$f":"IF(AND(COUNTRY_INFO!J35>1,COUNTRY_INFO!J35<4), IF(T35/COUNTRY_INFO!E35*100<>0, IF(T35/COUNTRY_INFO!E35*100>100,100,T35/COUNTRY_INFO!E35*100), \"-\"),0)","v":"-"},{"$f":"IF(AND(COUNTRY_INFO!J35>1,COUNTRY_INFO!J35<4),IF(COUNTRY_INFO!F35>MAX('MDA1'!K35,'MDA2'!K35,'T1'!M35,MAX(T3_R1!L35,T3_R2!L35)),MAX('MDA1'!K35,'MDA2'!K35,'T1'!M35,MAX(T3_R1!L35,T3_R2!L35)),COUNTRY_INFO!F35),0)","v":91194},{"$f":"IF(AND(COUNTRY_INFO!J35>1,COUNTRY_INFO!J35<4), IF(V35/COUNTRY_INFO!F35*100<>0, IF(V35/COUNTRY_INFO!F35*100>100,100,V35/COUNTRY_INFO!F35*100), \"-\"),0)","v":100},91194,{"$f":"IF(AND(COUNTRY_INFO!J35>1,COUNTRY_INFO!J35<4), IF(S35/P35*100<>0, IF(X35/P35*100>100,100,X35/P35*100), \"-\"),0)","v":70.707274334361969},{"$f":"COUNTRY_INFO!O35","v":278467},42428,48184,{"$f":"MAX('T1'!L35,'T2'!J35)+MAX('T1'!M35,'T2'!K35)+MAX('T1'!N35,'T2'!L35)","v":90612},{"$f":"IF(COUNTRY_INFO!K35=1,IF(COUNTRY_INFO!F35*0.33>MAX('T1'!M35,'T2'!K35),MAX('T1'!M35,'T2'!K35),COUNTRY_INFO!F35*0.33),IF(COUNTRY_INFO!K35=2,IF(COUNTRY_INFO!F35*0.5>MAX('T1'!M35,'T2'!K35),MAX('T1'!M35,'T2'!K35),COUNTRY_INFO!F35*0.5),IF(COUNTRY_INFO!K35=3,IF(COUNTRY_INFO!F35>MAX('T1'!M35,'T2'!K35),MAX('T1'!M35,'T2'!K35),COUNTRY_INFO!F35),0)))","v":90612},{"$f":"IF(AND(COUNTRY_INFO!K35>0,COUNTRY_INFO!K35<4),IF(Z35>0,IF(COUNTRY_INFO!K35=1, AD35/(COUNTRY_INFO!F35*0.33)*100, IF(COUNTRY_INFO!K35=2, AD35/(COUNTRY_INFO!F35*0.5)*100, IF(COUNTRY_INFO!K35=3, AD35/COUNTRY_INFO!F35*100))),\"-\"),0)","v":99.361800118428846},{"$f":"IF(COUNTRY_INFO!K35=2,IF(COUNTRY_INFO!G35*0.2>MAX('T1'!N35,'T2'!L35),MAX('T1'!N35,'T2'!L35),COUNTRY_INFO!G35*0.2),IF(COUNTRY_INFO!K35=3,IF(COUNTRY_INFO!G35>MAX('T1'!N35,'T2'!L35),MAX('T1'!N35,'T2'!L35),COUNTRY_INFO!G35),0))","v":0},{"$f":"IF(AND(COUNTRY_INFO!K35>0,COUNTRY_INFO!K35<4),IF(Z35>0,IF(COUNTRY_INFO!K35=1, 0, IF(COUNTRY_INFO!K35=2, AF35/(COUNTRY_INFO!G35*0.2)*100, IF(COUNTRY_INFO!K35=3, AF35/COUNTRY_INFO!G35*100))),\"-\"),0)","v":0},90612,{"$f":"IF(AND(COUNTRY_INFO!K35>0,COUNTRY_INFO!K35<4), IF(AC35/Z35*100<>0, IF(AH35/Z35*100>100,100,AH35/Z35*100), \"-\"),0)","v":32.539582787188422},null,{"$f":"IF(AND(D35<>0, D35<>\"Unknown\",D35<>\"Stopped\",D35<>\"Not required\"),D35/COUNTRY_INFO!D35, 0)","v":1},{"$f":"IF(AND(J35<>0,J35<>\"Unknown\",J35<>\"Stopped\",J35<>\"Not required\"),J35/COUNTRY_INFO!D35, 0)","v":0},{"$f":"IF(AND(P35<>0,P35<>\"Unknown\",P35<>\"Not required\"),P35/(COUNTRY_INFO!E35+COUNTRY_INFO!F35), 0)","v":1},{"$f":"IF(AND(Z35<>0,Z35<>\"Unknown\",Z35<>\"Not required\"),IF(COUNTRY_INFO!K35=1,1,IF(COUNTRY_INFO!K35=2,0.5*COUNTRY_INFO!F35/(0.5*COUNTRY_INFO!F35+0.2*COUNTRY_INFO!G35),IF(COUNTRY_INFO!K35=3,COUNTRY_INFO!F35/(COUNTRY_INFO!F35+COUNTRY_INFO!G35)))),0)","v":0.32748584212851073},{"$f":"IF(AND(Z35<>0,Z35<>\"Unknown\",Z35<>\"Not required\"),IF(COUNTRY_INFO!K35=1,0,IF(COUNTRY_INFO!K35=2,0.2*COUNTRY_INFO!G35/(0.5*COUNTRY_INFO!F35+0.2*COUNTRY_INFO!G35),IF(COUNTRY_INFO!K35=3,COUNTRY_INFO!G35/(COUNTRY_INFO!F35+COUNTRY_INFO!G35)))),0)","v":0.67251415787148927},{"$f":"MAX(COUNTRY_INFO!D35*AK35*PROFILE!$G$7,COUNTRY_INFO!D35*AL35*PROFILE!$G$7)","v":9445.1714439249427},{"$f":"MAX(COUNTRY_INFO!D35*AK35*PROFILE!$G$8,COUNTRY_INFO!D35*AL35*PROFILE!$G$8,COUNTRY_INFO!D35*AM35*PROFILE!$G$8)","v":37780.286586433169},{"$f":"MAX(COUNTRY_INFO!D35*AK35*PROFILE!$G$9,COUNTRY_INFO!D35*AL35*PROFILE!$G$9,COUNTRY_INFO!D35*AM35*PROFILE!$G$9,IF(AND(DISTRICT!Z35<>\"Unknown\",Z35<>\"Not required\"),COUNTRY_INFO!O35*DISTRICT!AN35,0))","v":91194},{"$f":"MAX(COUNTRY_INFO!D35*AK35*PROFILE!$G$10,COUNTRY_INFO!D35*AL35*PROFILE!$G$10,IF(AND(DISTRICT!Z35<>\"Unknown\",Z35<>\"Not required\"),COUNTRY_INFO!O35*DISTRICT!AO35,0))","v":187273.26088660044},325692.71891695855,"Y",{"$f":"MAX('MDA2'!J35,'T1'!L35,'T2'!J35,T3_R1!K35,T3_R2!K35)","v":0},{"$f":"MAX('MDA1'!K35,'MDA2'!K35,'MDA3'!I35,'MDA3'!L35,'T1'!M35,'T2'!K35,T3_R1!L35,T3_R2!L35)","v":98652},{"$f":"MAX('MDA1'!L35,'MDA2'!L35,'MDA3'!J35,'MDA3'!M35,'T1'!N35,'T2'!L35,T3_R1!M35,T3_R2!M35)","v":172764},271416,{"$f":"MAX('MDA2'!J35,T35)","v":0},{"$f":"MAX('MDA1'!K35,'MDA2'!K35,'MDA3'!I35,'MDA3'!L35,V35,AD35)","v":98652},{"$f":"MAX('MDA1'!L35,'MDA2'!L35,'MDA3'!J35,'MDA3'!M35,AF35)","v":172764},271416,83.334991614965332]
[{"$f":"IF(COUNTRY_INFO!A36=0,\" \",COUNTRY_INFO!A36)","v":"Mozambique"},{"$f":"IF(COUNTRY_INFO!B36=0,\" \",COUNTRY_INFO!B36)","v":"Niassa"},{"$f":"IF(COUNTRY_INFO!C36=0,\" \",COUNTRY_INFO!C36)","v":"Mecula"},{"$f":"COUNTRY_INFO!L36","v":"Stopped"},null,null,{"$f":"MAX('MDA1'!M36,'MDA2'!M36)","v":0},{"$f":"IF(AND(COUNTRY_INFO!H36>0,COUNTRY_INFO!H36<4),IF(D36>MAX('MDA1'!M36,'MDA2'!M36),MAX('MDA1'!M36,'MDA2'!M36),D36),0)","v":0},{"$f":"IF(AND(COUNTRY_INFO!H36>0,COUNTRY_INFO!H36<4), IF(G36/D36*100<>0, IF(G36/D36*100>100,100,G36/D36*100), \"-\"),0)","v":0},{"$f":"COUNTRY_INFO!M36","v":"Not required"},null,null,{"$f":"MAX('MDA1'!M36,MAX('MDA3'!I36,'MDA3'!L36)+MAX('MDA3'!J36,'MDA3'!M36))","v":0},{"$f":"IF(AND(COUNTRY_INFO!I36>0,COUNTRY_INFO!I36<4),IF(J36>MAX('MDA1'!M36,MAX('MDA3'!I36,'MDA3'!L36)+MAX('MDA3'!J36,'MDA3'!M36)),MAX('MDA1'!M36,MAX('MDA3'!I36,'MDA3'!L36)+MAX('MDA3'!J36,'MDA3'!M36)),J36),0)","v":0},{"$f":"IF(AND(COUNTRY_INFO!I36>0,COUNTRY_INFO!I36<4), IF(M36/J36*100<>0, IF(M36/J36*100>100,100,M36/J36*100), \"-\"),0)","v":0},{"$f":"COUNTRY_INFO!N36","v":7558},null,null,{"$f":"SUM(MAX('MDA2'!J36, 'T1'!L36, MAX(T3_R1!K36, T3_R2!K36)), MAX('MDA1'!K36, 'MDA2'!K36, 'T1'!M36, MAX(T3_R1!L36, T3_R2!L36)), MAX('MDA1'!L36, 'MDA2'!L36, 'T1'!N36, MAX(T3_R1!M36, T3_R2!M36)))","v":5009},{"$f":"IF(AND(COUNTRY_INFO!J36>1,COUNTRY_INFO!J36<4),IF(COUNTRY_INFO!E36>MAX('MDA2'!J36,'T1'!L36,MAX(T3_R1!K36,T3_R2!K36)),MAX('MDA2'!J36,'T1'!L36,MAX(T3_R1!K36,T3_R2!K36)),COUNTRY_INFO!E36),0)","v":0},{"$f":"IF(AND(COUNTRY_INFO!J36>1,COUNTRY_INFO!J36<4), IF(T36/COUNTRY_INFO!E36*100<>0, IF(T36/COUNTRY_INFO!E36*100>100,100,T36/COUNTRY_INFO!E36*100), \"-\"),0)","v":"-"},{"$f":"IF(AND(COUNTRY_INFO!J36>1,COUNTRY_INFO!J36<4),IF(COUNTRY_INFO!F36>MAX('MDA1'!K36,'MDA2'!K36,'T1'!M36,MAX(T3_R1!L36,T3_R2!L36)),MAX('MDA1'!K36,'MDA2'!K36,'T1'!M36,MAX(T3_R1!L36,T3_R2!L36)),COUNTRY_INFO!F36),0)","v":5009},{"$f":"IF(AND(COUNTRY_INFO!J36>1,COUNTRY_INFO!J36<4), IF(V36/COUNTRY_INFO!F36*100<>0, IF(V36/COUNTRY_INFO!F36*100>100,100,V36/COUNTRY_INFO!F36*100), \"-\"),0)","v":93.731287425149702},5009,{"$f":"IF(AND(COUNTRY_INFO!J36>1,COUNTRY_INFO!J36<4), IF(S36/P36*100<>0, IF(X36/P36*100>100,100,X36/P36*100), \"-\"),0)","v":66.274146599629532},{"$f":"COUNTRY_INFO!O36","v":16318},2537,2472,{"$f":"MAX('T1'!L36,'T2'!J36)+MAX('T1'!M36,'T2'!K36)+MAX('T1'!N36,'T2'!L36)","v":5009},{"$f":"IF(COUNTRY_INFO!K36=1,IF(COUNTRY_INFO!F36*0.33>MAX('T1'!M36,'T2'!K36),MAX('T1'!M36,'T2'!K36),COUNTRY_INFO!F36*0.33),IF(COUNTRY_INFO!K36=2,IF(COUNTRY_INFO!F36*0.5>MAX('T1'!M36,'T2'!K36),MAX('T1'!M36,'T2'!K36),COUNTRY_INFO!F36*0.5),IF(COUNTRY_INFO!K36=3,IF(COUNTRY_INFO!F36>MAX('T1'!M36,'T2'!K36),MAX('T1'!M36,'T2'!K36),COUNTRY_INFO!F36),0)))","v":5009},{"$f":"IF(AND(COUNTRY_INFO!K36>0,COUNTRY_INFO!K36<4),IF(Z36>0,IF(COUNTRY_INFO!K36=1, AD36/(COUNTRY_INFO!F36*0.33)*100, IF(COUNTRY_INFO!K36=2, AD36/(COUNTRY_INFO!F36*0.5)*100, IF(COUNTRY_INFO!K36=3, AD36/COUNTRY_INFO!F36*100))),\"-\"),0)","v":93.731287425149702},{"$f":"IF(COUNTRY_INFO!K36=2,IF(COUNTRY_INFO!G36*0.2>MAX('T1'!N36,'T2'!L36),MAX('T1'!N36,'T2'!L36),COUNTRY_INFO!G36*0.2),IF(COUNTRY_INFO!K36=3,IF(COUNTRY_INFO!G36>MAX('T1'!N36,'T2'!L36),MAX('T1'!N36,'T2'!L36),COUNTRY_INFO!G36),0))","v":0},{"$f":"IF(AND(COUNTRY_INFO!K36>0,COUNTRY_INFO!K36<4),IF(Z36>0,IF(COUNTRY_INFO!K36=1, 0, IF(COUNTRY_INFO!K36=2, AF36/(COUNTRY_INFO!G36*0.2)*100, IF(COUNTRY_INFO!K36=3, AF36/COUNTRY_INFO!G36*100))),\"-\"),0)","v":0},5009,{"$f":"IF(AND(COUNTRY_INFO!K36>0,COUNTRY_INFO!K36<4), IF(AC36/Z36*100<>0, IF(AH36/Z36*100>100,100,AH36/Z36*100), \"-\"),0)","v":30.696163745557055},null,{"$f":"IF(AND(D36<>0, D36<>\"Unknown\",D36<>\"Stopped\",D36<>\"Not required\"),D36/COUNTRY_INFO!D36, 0)","v":0},{"$f":"IF(AND(J36<>0,J36<>\"Unknown\",J36<>\"Stopped\",J36<>\"Not required\"),J36/COUNTRY_INFO!D36, 0)","v":0},{"$f":"IF(AND(P36<>0,P36<>\"Unknown\",P36<>\"Not required\"),P36/(COUNTRY_INFO!E36+COUNTRY_INFO!F36), 0)","v":1},{"$f":"IF(AND(Z36<>0,Z36<>\"Unknown\",Z36<>\"Not required\"),IF(COUNTRY_INFO!K36=1,1,IF(COUNTRY_INFO!K36=2,0.5*COUNTRY_INFO!F36/(0.5*COUNTRY_INFO!F36+0.2*COUNTRY_INFO!G36),IF(COUNTRY_INFO!K36=3,COUNTRY_INFO!F36/(COUNTRY_INFO!F36+COUNTRY_INFO!G36)))),0)","v":0.32749111410712095},{"$f":"IF(AND(Z36<>0,Z36<>\"Unknown\",Z36<>\"Not required\"),IF(COUNTRY_INFO!K36=1,0,IF(COUNTRY_INFO!K36=2,0.2*COUNTRY_INFO!G36/(0.5*COUNTRY_INFO!F36+0.2*COUNTRY_INFO!G36),IF(COUNTRY_INFO!K36=3,COUNTRY_INFO!G36/(COUNTRY_INFO!F36+COUNTRY_INFO!G36)))),0)","v":0.67250888589287905},{"$f":"MAX(COUNTRY_INFO!D36*AK36*PROFILE!$G$7,COUNTRY_INFO!D36*AL36*PROFILE!$G$7)","v":0},{"$f":"MAX(COUNTRY_INFO!D36*AK36*PROFILE!$G$8,COUNTRY_INFO!D36*AL36*PROFILE!$G$8,COUNTRY_INFO!D36*AM36*PROFILE!$G$8)","v":2213.9751739285643},{"$f":"MAX(COUNTRY_INFO!D36*AK36*PROFILE!$G$9,COUNTRY_INFO!D36*AL36*PROFILE!$G$9,COUNTRY_INFO!D36*AM36*PROFILE!$G$9,IF(AND(DISTRICT!Z36<>\"Unknown\",Z36<>\"Not required\"),COUNTRY_INFO!O36*DISTRICT!AN36,0))","v":5344.0831174319856},{"$f":"MAX(COUNTRY_INFO!D36*AK36*PROFILE!$G$10,COUNTRY_INFO!D36*AL36*PROFILE!$G$10,IF(AND(DISTRICT!Z36<>\"Unknown\",Z36<>\"Not required\"),COUNTRY_INFO!O36*DISTRICT!AO36,0))","v":10974},18532.05829136055,"Y",{"$f":"MAX('MDA2'!J36,'T1'!L36,'T2'!J36,T3_R1!K36,T3_R2!K36)","v":0},{"$f":"MAX('MDA1'!K36,'MDA2'!K36,'MDA3'!I36,'MDA3'!L36,'T1'!M36,'T2'!K36,T3_R1!L36,T3_R2!L36)","v":5009},{"$f":"MAX('MDA1'!L36,'MDA2'!L36,'MDA3'!J36,'MDA3'!M36,'T1'!N36,'T2'!L36,T3_R1!M36,T3_R2!M36)","v":0},5009,{"$f":"MAX('MDA2'!J36,T36)","v":0},{"$f":"MAX('MDA1'!K36,'MDA2'!K36,'MDA3'!I36,'MDA3'!L36,V36,AD36)","v":5009},{"$f":"MAX('MDA1'!L36,'MDA2'!L36,'MDA3'!J36,'MDA3'!M36,AF36)","v":0},5009,27.028837926411786]
[{"$f":"IF(COUNTRY_INFO!A37=0,\" \",COUNTRY_INFO!A37)","v":"Mozambique"},{"$f":"IF(COUNTRY_INFO!B37=0,\" \",COUNTRY_INFO!B37)","v":"Niassa"},{"$f":"IF(COUNTRY_INFO!C37=0,\" \",COUNTRY_INFO!C37)","v":"Metarica"},{"$f":"COUNTRY_INFO!L37","v":82272.50292814539},null,null,{"$f":"MAX('MDA1'!M37,'MDA2'!M37)","v":56526},{"$f":"IF(AND(COUNTRY_INFO!H37>0,COUNTRY_INFO!H37<4),IF(D37>MAX('MDA1'!M37,'MDA2'!M37),MAX('MDA1'!M37,'MDA2'!M37),D37),0)","v":56526},{"$f":"IF(AND(COUNTRY_INFO!H37>0,COUNTRY_INFO!H37<4), IF(G37/D37*100<>0, IF(G37/D37*100>100,100,G37/D37*100), \"-\"),0)","v":68.705822708916855},{"$f":"COUNTRY_INFO!M37","v":"Not required"},null,null,{"$f":"MAX('MDA1'!M37,MAX('MDA3'!I37,'MDA3'!L37)+MAX('MDA3'!J37,'MDA3'!M37))","v":56526},{"$f":"IF(AND(COUNTRY_INFO!I37>0,COUNTRY_INFO!I37<4),IF(J37>MAX('MDA1'!M37,MAX('MDA3'!I37,'MDA3'!L37)+MAX('MDA3'!J37,'MDA3'!M37)),MAX('MDA1'!M37,MAX('MDA3'!I37,'MDA3'!L37)+MAX('MDA3'!J37,'MDA3'!M37)),J37),0)","v":0},{"$f":"IF(AND(COUNTRY_INFO!I37>0,COUNTRY_INFO!I37<4), IF(M37/J37*100<>0, IF(M37/J37*100>100,100,M37/J37*100), \"-\"),0)","v":0},{"$f":"COUNTRY_INFO!N37","v":32580},null,null,{"$f":"SUM(MAX('MDA2'!J37, 'T1'!L37, MAX(T3_R1!K37, T3_R2!K37)), MAX('MDA1'!K37, 'MDA2'!K37, 'T1'!M37, MAX(T3_R1!L37, T3_R2!L37)), MAX('MDA1'!L37, 'MDA2'!L37, 'T1'!N37, MAX(T3_R1!M37, T3_R2!M37)))","v":56526},{"$f":"IF(AND(COUNTRY_INFO!J37>1,COUNTRY_INFO!J37<4),IF(COUNTRY_INFO!E37>MAX('MDA2'!J37,'T1'!L37,MAX(T3_R1!K37,T3_R2!K37)),MAX('MDA2'!J37,'T1'!L37,MAX(T3_R1!K37,T3_R2!K37)),COUNTRY_INFO!E37),0)","v":0},{"$f":"IF(AND(COUNTRY_INFO!J37>1,COUNTRY_INFO!J37<4), IF(T37/COUNTRY_INFO!E37*100<>0, IF(T37/COUNTRY_INFO!E37*100>100,100,T37/COUNTRY_INFO!E37*100), \"-\"),0)","v":"-"},{"$f":"IF(AND(COUNTRY_INFO!J37>1,COUNTRY_INFO!J37<4),IF(COUNTRY_INFO!F37>MAX('MDA1'!K37,'MDA2'!K37,'T1'!M37,MAX(T3_R1!L37,T3_R2!L37)),MAX('MDA1'!K37,'MDA2'!K37,'T1'!M37,MAX(T3_R1!L37,T3_R2!L37)),COUNTRY_INFO!F37),0)","v":23036},{"$f":"IF(AND(COUNTRY_INFO!J37>1,COUNTRY_INFO!J37<4), IF(V37/COUNTRY_INFO!F37*100<>0, IF(V37/COUNTRY_INFO!F37*100>100,100,V37/COUNTRY_INFO!F37*100), \"-\"),0)","v":100},23036,{"$f":"IF(AND(COUNTRY_INFO!J37>1,COUNTRY_INFO!J37<4), IF(S37/P37*100<>0, IF(X37/P37*100>100,100,X37/P37*100), \"-\"),0)","v":70.705954573357886},{"$f":"COUNTRY_INFO!O37","v":70343},14436,14885,{"$f":"MAX('T1'!L37,'T2'!J37)+MAX('T1'!M37,'T2'!K37)+MAX('T1'!N37,'T2'!L37)","v":29321},{"$f":"IF(COUNTRY_INFO!K37=1,IF(COUNTRY_INFO!F37*0.33>MAX('T1'!M37,'T2'!K37),MAX('T1'!M37,'T2'!K37),COUNTRY_INFO!F37*0.33),IF(COUNTRY_INFO!K37=2,IF(COUNTRY_INFO!F37*0.5>MAX('T1'!M37,'T2'!K37),MAX('T1'!M37,'T2'!K37),COUNTRY_INFO!F37*0.5),IF(COUNTRY_INFO!K37=3,IF(COUNTRY_INFO!F37>MAX('T1'!M37,'T2'!K37),MAX('T1'!M37,'T2'!K37),COUNTRY_INFO!F37),0)))","v":23036},{"$f":"IF(AND(COUNTRY_INFO!K37>0,COUNTRY_INFO!K37<4),IF(Z37>0,IF(COUNTRY_INFO!K37=1, AD37/(COUNTRY_INFO!F37*0.33)*100, IF(COUNTRY_INFO!K37=2, AD37/(COUNTRY_INFO!F37*0.5)*100, IF(COUNTRY_INFO!K37=3, AD37/COUNTRY_INFO!F37*100))),\"-\"),0)","v":100},{"$f":"IF(COUNTRY_INFO!K37=2,IF(COUNTRY_INFO!G37*0.2>MAX('T1'!N37,'T2'!L37),MAX('T1'!N37,'T2'!L37),COUNTRY_INFO!G37*0.2),IF(COUNTRY_INFO!K37=3,IF(COUNTRY_INFO!G37>MAX('T1'!N37,'T2'!L37),MAX('T1'!N37,'T2'!L37),COUNTRY_INFO!G37),0))","v":0},{"$f":"IF(AND(COUNTRY_INFO!K37>0,COUNTRY_INFO!K37<4),IF(Z37>0,IF(COUNTRY_INFO!K37=1, 0, IF(COUNTRY_INFO!K37=2, AF37/(COUNTRY_INFO!G37*0.2)*100, IF(COUNTRY_INFO!K37=3, AF37/COUNTRY_INFO!G37*100))),\"-\"),0)","v":0},23036,{"$f":"IF(AND(COUNTRY_INFO!K37>0,COUNTRY_INFO!K37<4), IF(AC37/Z37*100<>0, IF(AH37/Z37*100>100,100,AH37/Z37*100), \"-\"),0)","v":32.748105710589542},null,{"$f":"IF(AND(D37<>0, D37<>\"Unknown\",D37<>\"Stopped\",D37<>\"Not required\"),D37/COUNTRY_INFO!D37, 0)","v":1},{"$f":"IF(AND(J37<>0,J37<>\"Unknown\",J37<>\"Stopped\",J37<>\"Not required\"),J37/COUNTRY_INFO!D37, 0)","v":0},{"$f":"IF(AND(P37<>0,P37<>\"Unknown\",P37<>\"Not required\"),P37/(COUNTRY_INFO!E37+COUNTRY_INFO!F37), 0)","v":1},{"$f":"IF(AND(Z37<>0,Z37<>\"Unknown\",Z37<>\"Not required\"),IF(COUNTRY_INFO!K37=1,1,IF(COUNTRY_INFO!K37=2,0.5*COUNTRY_INFO!F37/(0.5*COUNTRY_INFO!F37+0.2*COUNTRY_INFO!G37),IF(COUNTRY_INFO!K37=3,COUNTRY_INFO!F37/(COUNTRY_INFO!F37+COUNTRY_INFO!G37)))),0)","v":0.32748105710589542},{"$f":"IF(AND(Z37<>0,Z37<>\"Unknown\",Z37<>\"Not required\"),IF(COUNTRY_INFO!K37=1,0,IF(COUNTRY_INFO!K37=2,0.2*COUNTRY_INFO!G37/(0.5*COUNTRY_INFO!F37+0.2*COUNTRY_INFO!G37),IF(COUNTRY_INFO!K37=3,COUNTRY_INFO!G37/(COUNTRY_INFO!F37+COUNTRY_INFO!G37)))),0)","v":0.67251894289410463},{"$f":"MAX(COUNTRY_INFO!D37*AK37*PROFILE!$G$7,COUNTRY_INFO!D37*AL37*PROFILE!$G$7)","v":2385.9243104048719},{"$f":"MAX(COUNTRY_INFO!D37*AK37*PROFILE!$G$8,COUNTRY_INFO!D37*AL37*PROFILE!$G$8,COUNTRY_INFO!D37*AM37*PROFILE!$G$8)","v":9543.5964032830616},{"$f":"MAX(COUNTRY_INFO!D37*AK37*PROFILE!$G$9,COUNTRY_INFO!D37*AL37*PROFILE!$G$9,COUNTRY_INFO!D37*AM37*PROFILE!$G$9,IF(AND(DISTRICT!Z37<>\"Unknown\",Z37<>\"Not required\"),COUNTRY_INFO!O37*DISTRICT!AN37,0))","v":23036.289213609423},{"$f":"MAX(COUNTRY_INFO!D37*AK37*PROFILE!$G$10,COUNTRY_INFO!D37*AL37*PROFILE!$G$10,IF(AND(DISTRICT!Z37<>\"Unknown\",Z37<>\"Not required\"),COUNTRY_INFO!O37*DISTRICT!AO37,0))","v":47307},82272.809927297349,"Y",{"$f":"MAX('MDA2'!J37,'T1'!L37,'T2'!J37,T3_R1!K37,T3_R2!K37)","v":0},{"$f":"MAX('MDA1'!K37,'MDA2'!K37,'MDA3'!I37,'MDA3'!L37,'T1'!M37,'T2'!K37,T3_R1!L37,T3_R2!L37)","v":29521},{"$f":"MAX('MDA1'!L37,'MDA2'!L37,'MDA3'!J37,'MDA3'!M37,'T1'!N37,'T2'!L37,T3_R1!M37,T3_R2!M37)","v":27005},56526,{"$f":"MAX('MDA2'!J37,T37)","v":0},{"$f":"MAX('MDA1'!K37,'MDA2'!K37,'MDA3'!I37,'MDA3'!L37,V37,AD37)","v":29521},{"$f":"MAX('MDA1'!L37,'MDA2'!L37,'MDA3'!J37,'MDA3'!M37,AF37)","v":27005},56526,68.705566334674558]
[{"$f":"IF(COUNTRY_INFO!A38=0,\" \",COUNTRY_INFO!A38)","v":"Mozambique"},{"$f":"IF(COUNTRY_INFO!B38=0,\" \",COUNTRY_INFO!B38)","v":"Niassa"},{"$f":"IF(COUNTRY_INFO!C38=0,\" \",COUNTRY_INFO!C38)","v":"Muembe"},{"$f":"COUNTRY_INFO!L38","v":0},null,null,{"$f":"MAX('MDA1'!M38,'MDA2'!M38)","v":0},{"$f":"IF(AND(COUNTRY_INFO!H38>0,COUNTRY_INFO!H38<4),IF(D38>MAX('MDA1'!M38,'MDA2'!M38),MAX('MDA1'!M38,'MDA2'!M38),D38),0)","v":0},{"$f":"IF(AND(COUNTRY_INFO!H38>0,COUNTRY_INFO!H38<4), IF(G38/D38*100<>0, IF(G38/D38*100>100,100,G38/D38*100), \"-\"),0)","v":0},{"$f":"COUNTRY_INFO!M38","v":"Not required"},null,null,{"$f":"MAX('MDA1'!M38,MAX('MDA3'!I38,'MDA3'!L38)+MAX('MDA3'!J38,'MDA3'!M38))","v":0},{"$f":"IF(AND(COUNTRY_INFO!I38>0,COUNTRY_INFO!I38<4),IF(J38>MAX('MDA1'!M38,MAX('MDA3'!I38,'MDA3'!L38)+MAX('MDA3'!J38,'MDA3'!M38)),MAX('MDA1'!M38,MAX('MDA3'!I38,'MDA3'!L38)+MAX('MDA3'!J38,'MDA3'!M38)),J38),0)","v":0},{"$f":"IF(AND(COUNTRY_INFO!I38>0,COUNTRY_INFO!I38<4), IF(M38/J38*100<>0, IF(M38/J38*100>100,100,M38/J38*100), \"-\"),0)","v":0},{"$f":"COUNTRY_INFO!N38","v":16611},null,null,{"$f":"SUM(MAX('MDA2'!J38, 'T1'!L38, MAX(T3_R1!K38, T3_R2!K38)), MAX('MDA1'!K38, 'MDA2'!K38, 'T1'!M38, MAX(T3_R1!L38, T3_R2!L38)), MAX('MDA1'!L38, 'MDA2'!L38, 'T1'!N38, MAX(T3_R1!M38, T3_R2!M38)))","v":11341},{"$f":"IF(AND(COUNTRY_INFO!J38>1,COUNTRY_INFO!J38<4),IF(COUNTRY_INFO!E38>MAX('MDA2'!J38,'T1'!L38,MAX(T3_R1!K38,T3_R2!K38)),MAX('MDA2'!J38,'T1'!L38,MAX(T3_R1!K38,T3_R2!K38)),COUNTRY_INFO!E38),0)","v":0},{"$f":"IF(AND(COUNTRY_INFO!J38>1,COUNTRY_INFO!J38<4), IF(T38/COUNTRY_INFO!E38*100<>0, IF(T38/COUNTRY_INFO!E38*100>100,100,T38/COUNTRY_INFO!E38*100), \"-\"),0)","v":"-"},{"$f":"IF(AND(COUNTRY_INFO!J38>1,COUNTRY_INFO!J38<4),IF(COUNTRY_INFO!F38>MAX('MDA1'!K38,'MDA2'!K38,'T1'!M38,MAX(T3_R1!L38,T3_R2!L38)),MAX('MDA1'!K38,'MDA2'!K38,'T1'!M38,MAX(T3_R1!L38,T3_R2!L38)),COUNTRY_INFO!F38),0)","v":11341},{"$f":"IF(AND(COUNTRY_INFO!J38>1,COUNTRY_INFO!J38<4), IF(V38/COUNTRY_INFO!F38*100<>0, IF(V38/COUNTRY_INFO!F38*100>100,100,V38/COUNTRY_INFO!F38*100), \"-\"),0)","v":96.560238399318848},11341,{"$f":"IF(AND(COUNTRY_INFO!J38>1,COUNTRY_INFO!J38<4), IF(S38/P38*100<>0, IF(X38/P38*100>100,100,X38/P38*100), \"-\"),0)","v":68.274035277827949},{"$f":"COUNTRY_INFO!O38","v":10696.3},5774,5567,{"$f":"MAX('T1'!L38,'T2'!J38)+MAX('T1'!M38,'T2'!K38)+MAX('T1'!N38,'T2'!L38)","v":11341},{"$f":"IF(COUNTRY_INFO!K38=1,IF(COUNTRY_INFO!F38*0.33>MAX('T1'!M38,'T2'!K38),MAX('T1'!M38,'T2'!K38),COUNTRY_INFO!F38*0.33),IF(COUNTRY_INFO!K38=2,IF(COUNTRY_INFO!F38*0.5>MAX('T1'!M38,'T2'!K38),MAX('T1'!M38,'T2'!K38),COUNTRY_INFO!F38*0.5),IF(COUNTRY_INFO!K38=3,IF(COUNTRY_INFO!F38>MAX('T1'!M38,'T2'!K38),MAX('T1'!M38,'T2'!K38),COUNTRY_INFO!F38),0)))","v":5872.5},{"$f":"IF(AND(COUNTRY_INFO!K38>0,COUNTRY_INFO!K38<4),IF(Z38>0,IF(COUNTRY_INFO!K38=1, AD38/(COUNTRY_INFO!F38*0.33)*100, IF(COUNTRY_INFO!K38=2, AD38/(COUNTRY_INFO!F38*0.5)*100, IF(COUNTRY_INFO!K38=3, AD38/COUNTRY_INFO!F38*100))),\"-\"),0)","v":100},{"$f":"IF(COUNTRY_INFO!K38=2,IF(COUNTRY_INFO!G38*0.2>MAX('T1'!N38,'T2'!L38),MAX('T1'!N38,'T2'!L38),COUNTRY_INFO!G38*0.2),IF(COUNTRY_INFO!K38=3,IF(COUNTRY_INFO!G38>MAX('T1'!N38,'T2'!L38),MAX('T1'!N38,'T2'!L38),COUNTRY_INFO!G38),0))","v":0},{"$f":"IF(AND(COUNTRY_INFO!K38>0,COUNTRY_INFO!K38<4),IF(Z38>0,IF(COUNTRY_INFO!K38=1, 0, IF(COUNTRY_INFO!K38=2, AF38/(COUNTRY_INFO!G38*0.2)*100, IF(COUNTRY_INFO!K38=3, AF38/COUNTRY_INFO!G38*100))),\"-\"),0)","v":0},5872.5,{"$f":"IF(AND(COUNTRY_INFO!K38>0,COUNTRY_INFO!K38<4), IF(AC38/Z38*100<>0, IF(AH38/Z38*100>100,100,AH38/Z38*100), \"-\"),0)","v":54.902162429999159},null,{"$f":"IF(AND(D38<>0, D38<>\"Unknown\",D38<>\"Stopped\",D38<>\"Not required\"),D38/COUNTRY_INFO!D38, 0)","v":0},{"$f":"IF(AND(J38<>0,J38<>\"Unknown\",J38<>\"Stopped\",J38<>\"Not required\"),J38/COUNTRY_INFO!D38, 0)","v":0},{"$f":"IF(AND(P38<>0,P38<>\"Unknown\",P38<>\"Not required\"),P38/(COUNTRY_INFO!E38+COUNTRY_INFO!F38), 0)","v":1},{"$f":"IF(AND(Z38<>0,Z38<>\"Unknown\",Z38<>\"Not required\"),IF(COUNTRY_INFO!K38=1,1,IF(COUNTRY_INFO!K38=2,0.5*COUNTRY_INFO!F38/(0.5*COUNTRY_INFO!F38+0.2*COUNTRY_INFO!G38),IF(COUNTRY_INFO!K38=3,COUNTRY_INFO!F38/(COUNTRY_INFO!F38+COUNTRY_INFO!G38)))),0)","v":0.54902162429999157},{"$f":"IF(AND(Z38<>0,Z38<>\"Unknown\",Z38<>\"Not required\"),IF(COUNTRY_INFO!K38=1,0,IF(COUNTRY_INFO!K38=2,0.2*COUNTRY_INFO!G38/(0.5*COUNTRY_INFO!F38+0.2*COUNTRY_INFO!G38),IF(COUNTRY_INFO!K38=3,COUNTRY_INFO!G38/(COUNTRY_INFO!F38+COUNTRY_INFO!G38)))),0)","v":0.45097837570000848},{"$f":"MAX(COUNTRY_INFO!D38*AK38*PROFILE!$G$7,COUNTRY_INFO!D38*AL38*PROFILE!$G$7)","v":0},{"$f":"MAX(COUNTRY_INFO!D38*AK38*PROFILE!$G$8,COUNTRY_INFO!D38*AL38*PROFILE!$G$8,COUNTRY_INFO!D38*AM38*PROFILE!$G$8)","v":4865.6527587190349},{"$f":"MAX(COUNTRY_INFO!D38*AK38*PROFILE!$G$9,COUNTRY_INFO!D38*AL38*PROFILE!$G$9,COUNTRY_INFO!D38*AM38*PROFILE!$G$9,IF(AND(DISTRICT!Z38<>\"Unknown\",Z38<>\"Not required\"),COUNTRY_INFO!O38*DISTRICT!AN38,0))","v":11744.690306087303},{"$f":"MAX(COUNTRY_INFO!D38*AK38*PROFILE!$G$10,COUNTRY_INFO!D38*AL38*PROFILE!$G$10,IF(AND(DISTRICT!Z38<>\"Unknown\",Z38<>\"Not required\"),COUNTRY_INFO!O38*DISTRICT!AO38,0))","v":4823.8},21434.143064806336,"Y",{"$f":"MAX('MDA2'!J38,'T1'!L38,'T2'!J38,T3_R1!K38,T3_R2!K38)","v":0},{"$f":"MAX('MDA1'!K38,'MDA2'!K38,'MDA3'!I38,'MDA3'!L38,'T1'!M38,'T2'!K38,T3_R1!L38,T3_R2!L38)","v":11341},{"$f":"MAX('MDA1'!L38,'MDA2'!L38,'MDA3'!J38,'MDA3'!M38,'T1'!N38,'T2'!L38,T3_R1!M38,T3_R2!M38)","v":0},11341,{"$f":"MAX('MDA2'!J38,T38)","v":0},{"$f":"MAX('MDA1'!K38,'MDA2'!K38,'MDA3'!I38,'MDA3'!L38,V38,AD38)","v":11341},{"$f":"MAX('MDA1'!L38,'MDA2'!L38,'MDA3'!J38,'MDA3'!M38,AF38)","v":0},11341,52.910909317486485]
[{"$f":"IF(COUNTRY_INFO!A39=0,\" \",COUNTRY_INFO!A39)","v":"Mozambique"},{"$f":"IF(COUNTRY_INFO!B39=0,\" \",COUNTRY_INFO!B39)","v":"Niassa"},{"$f":"IF(COUNTRY_INFO!C39=0,\" \",COUNTRY_INFO!C39)","v":"N'Gaúma"},{"$f":"COUNTRY_INFO!L39","v":0},null,null,{"$f":"MAX('MDA1'!M39,'MDA2'!M39)","v":0},{"$f":"IF(AND(COUNTRY_INFO!H39>0,COUNTRY_INFO!H39<4),IF(D39>MAX('MDA1'!M39,'MDA2'!M39),MAX('MDA1'!M39,'MDA2'!M39),D39),0)","v":0},{"$f":"IF(AND(COUNTRY_INFO!H39>0,COUNTRY_INFO!H39<4), IF(G39/D39*100<>0, IF(G39/D39*100>100,100,G39/D39*100), \"-\"),0)","v":0},{"$f":"COUNTRY_INFO!M39","v":"Not required"},null,null,{"$f":"MAX('MDA1'!M39,MAX('MDA3'!I39,'MDA3'!L39)+MAX('MDA3'!J39,'MDA3'!M39))","v":0},{"$f":"IF(AND(COUNTRY_INFO!I39>0,COUNTRY_INFO!I39<4),IF(J39>MAX('MDA1'!M39,MAX('MDA3'!I39,'MDA3'!L39)+MAX('MDA3'!J39,'MDA3'!M39)),MAX('MDA1'!M39,MAX('MDA3'!I39,'MDA3'!L39)+MAX('MDA3'!J39,'MDA3'!M39)),J39),0)","v":0},{"$f":"IF(AND(COUNTRY_INFO!I39>0,COUNTRY_INFO!I39<4), IF(M39/J39*100<>0, IF(M39/J39*100>100,100,M39/J39*100), \"-\"),0)","v":0},{"$f":"COUNTRY_INFO!N39","v":47403},null,null,{"$f":"SUM(MAX('MDA2'!J39, 'T1'!L39, MAX(T3_R1!K39, T3_R2!K39)), MAX('MDA1'!K39, 'MDA2'!K39, 'T1'!M39, MAX(T3_R1!L39, T3_R2!L39)), MAX('MDA1'!L39, 'MDA2'!L39, 'T1'!N39, MAX(T3_R1!M39, T3_R2!M39)))","v":32556},{"$f":"IF(AND(COUNTRY_INFO!J39>1,COUNTRY_INFO!J39<4),IF(COUNTRY_INFO!E39>MAX('MDA2'!J39,'T1'!L39,MAX(T3_R1!K39,T3_R2!K39)),MAX('MDA2'!J39,'T1'!L39,MAX(T3_R1!K39,T3_R2!K39)),COUNTRY_INFO!E39),0)","v":0},{"$f":"IF(AND(COUNTRY_INFO!J39>1,COUNTRY_INFO!J39<4), IF(T39/COUNTRY_INFO!E39*100<>0, IF(T39/COUNTRY_INFO!E39*100>100,100,T39/COUNTRY_INFO!E39*100), \"-\"),0)","v":"-"},{"$f":"IF(AND(COUNTRY_INFO!J39>1,COUNTRY_INFO!J39<4),IF(COUNTRY_INFO!F39>MAX('MDA1'!K39,'MDA2'!K39,'T1'!M39,MAX(T3_R1!L39,T3_R2!L39)),MAX('MDA1'!K39,'MDA2'!K39,'T1'!M39,MAX(T3_R1!L39,T3_R2!L39)),COUNTRY_INFO!F39),0)","v":32556},{"$f":"IF(AND(COUNTRY_INFO!J39>1,COUNTRY_INFO!J39<4), IF(V39/COUNTRY_INFO!F39*100<>0, IF(V39/COUNTRY_INFO!F39*100>100,100,V39/COUNTRY_INFO!F39*100), \"-\"),0)","v":97.132798281469107},32556,{"$f":"IF(AND(COUNTRY_INFO!J39>1,COUNTRY_INFO!J39<4), IF(S39/P39*100<>0, IF(X39/P39*100>100,100,X39/P39*100), \"-\"),0)","v":68.679197519144353},{"$f":"COUNTRY_INFO!O39","v":30524.5},15860,16696,{"$f":"MAX('T1'!L39,'T2'!J39)+MAX('T1'!M39,'T2'!K39)+MAX('T1'!N39,'T2'!L39)","v":32556},{"$f":"IF(COUNTRY_INFO!K39=1,IF(COUNTRY_INFO!F39*0.33>MAX('T1'!M39,'T2'!K39),MAX('T1'!M39,'T2'!K39),COUNTRY_INFO!F39*0.33),IF(COUNTRY_INFO!K39=2,IF(COUNTRY_INFO!F39*0.5>MAX('T1'!M39,'T2'!K39),MAX('T1'!M39,'T2'!K39),COUNTRY_INFO!F39*0.5),IF(COUNTRY_INFO!K39=3,IF(COUNTRY_INFO!F39>MAX('T1'!M39,'T2'!K39),MAX('T1'!M39,'T2'!K39),COUNTRY_INFO!F39),0)))","v":16758.5},{"$f":"IF(AND(COUNTRY_INFO!K39>0,COUNTRY_INFO!K39<4),IF(Z39>0,IF(COUNTRY_INFO!K39=1, AD39/(COUNTRY_INFO!F39*0.33)*100, IF(COUNTRY_INFO!K39=2, AD39/(COUNTRY_INFO!F39*0.5)*100, IF(COUNTRY_INFO!K39=3, AD39/COUNTRY_INFO!F39*100))),\"-\"),0)","v":100},{"$f":"IF(COUNTRY_INFO!K39=2,IF(COUNTRY_INFO!G39*0.2>MAX('T1'!N39,'T2'!L39),MAX('T1'!N39,'T2'!L39),COUNTRY_INFO!G39*0.2),IF(COUNTRY_INFO!K39=3,IF(COUNTRY_INFO!G39>MAX('T1'!N39,'T2'!L39),MAX('T1'!N39,'T2'!L39),COUNTRY_INFO!G39),0))","v":0},{"$f":"IF(AND(COUNTRY_INFO!K39>0,COUNTRY_INFO!K39<4),IF(Z39>0,IF(COUNTRY_INFO!K39=1, 0, IF(COUNTRY_INFO!K39=2, AF39/(COUNTRY_INFO!G39*0.2)*100, IF(COUNTRY_INFO!K39=3, AF39/COUNTRY_INFO!G39*100))),\"-\"),0)","v":0},16758.5,{"$f":"IF(AND(COUNTRY_INFO!K39>0,COUNTRY_INFO!K39<4), IF(AC39/Z39*100<>0, IF(AH39/Z39*100>100,100,AH39/Z39*100), \"-\"),0)","v":54.901800193287364},null,{"$f":"IF(AND(D39<>0, D39<>\"Unknown\",D39<>\"Stopped\",D39<>\"Not required\"),D39/COUNTRY_INFO!D39, 0)","v":0},{"$f":"IF(AND(J39<>0,J39<>\"Unknown\",J39<>\"Stopped\",J39<>\"Not required\"),J39/COUNTRY_INFO!D39, 0)","v":0},{"$f":"IF(AND(P39<>0,P39<>\"Unknown\",P39<>\"Not required\"),P39/(COUNTRY_INFO!E39+COUNTRY_INFO!F39), 0)","v":1},{"$f":"IF(AND(Z39<>0,Z39<>\"Unknown\",Z39<>\"Not required\"),IF(COUNTRY_INFO!K39=1,1,IF(COUNTRY_INFO!K39=2,0.5*COUNTRY_INFO!F39/(0.5*COUNTRY_INFO!F39+0.2*COUNTRY_INFO!G39),IF(COUNTRY_INFO!K39=3,COUNTRY_INFO!F39/(COUNTRY_INFO!F39+COUNTRY_INFO!G39)))),0)","v":0.54901800193287364},{"$f":"IF(AND(Z39<>0,Z39<>\"Unknown\",Z39<>\"Not required\"),IF(COUNTRY_INFO!K39=1,0,IF(COUNTRY_INFO!K39=2,0.2*COUNTRY_INFO!G39/(0.5*COUNTRY_INFO!F39+0.2*COUNTRY_INFO!G39),IF(COUNTRY_INFO!K39=3,COUNTRY_INFO!G39/(COUNTRY_INFO!F39+COUNTRY_INFO!G39)))),0)","v":0.45098199806712641},{"$f":"MAX(COUNTRY_INFO!D39*AK39*PROFILE!$G$7,COUNTRY_INFO!D39*AL39*PROFILE!$G$7)","v":0},{"$f":"MAX(COUNTRY_INFO!D39*AK39*PROFILE!$G$8,COUNTRY_INFO!D39*AL39*PROFILE!$G$8,COUNTRY_INFO!D39*AM39*PROFILE!$G$8)","v":13885.613357952296},{"$f":"MAX(COUNTRY_INFO!D39*AK39*PROFILE!$G$9,COUNTRY_INFO!D39*AL39*PROFILE!$G$9,COUNTRY_INFO!D39*AM39*PROFILE!$G$9,IF(AND(DISTRICT!Z39<>\"Unknown\",Z39<>\"Not required\"),COUNTRY_INFO!O39*DISTRICT!AN39,0))","v":33517.029818246388},{"$f":"MAX(COUNTRY_INFO!D39*AK39*PROFILE!$G$10,COUNTRY_INFO!D39*AL39*PROFILE!$G$10,IF(AND(DISTRICT!Z39<>\"Unknown\",Z39<>\"Not required\"),COUNTRY_INFO!O39*DISTRICT!AO39,0))","v":13766},61168.643176198682,"Y",{"$f":"MAX('MDA2'!J39,'T1'!L39,'T2'!J39,T3_R1!K39,T3_R2!K39)","v":0},{"$f":"MAX('MDA1'!K39,'MDA2'!K39,'MDA3'!I39,'MDA3'!L39,'T1'!M39,'T2'!K39,T3_R1!L39,T3_R2!L39)","v":32556},{"$f":"MAX('MDA1'!L39,'MDA2'!L39,'MDA3'!J39,'MDA3'!M39,'T1'!N39,'T2'!L39,T3_R1!M39,T3_R2!M39)","v":0},32556,{"$f":"MAX('MDA2'!J39,T39)","v":0},{"$f":"MAX('MDA1'!K39,'MDA2'!K39,'MDA3'!I39,'MDA3'!L39,V39,AD39)","v":32556},{"$f":"MAX('MDA1'!L39,'MDA2'!L39,'MDA3'!J39,'MDA3'!M39,AF39)","v":0},32556,53.223348286835723]
[{"$f":"IF(COUNTRY_INFO!A40=0,\" \",COUNTRY_INFO!A40)","v":"Mozambique"},{"$f":"IF(COUNTRY_INFO!B40=0,\" \",COUNTRY_INFO!B40)","v":"Niassa"},{"$f":"IF(COUNTRY_INFO!C40=0,\" \",COUNTRY_INFO!C40)","v":"Nipepe"},{"$f":"COUNTRY_INFO!L40","v":41329.443025392669},null,null,{"$f":"MAX('MDA1'!M40,'MDA2'!M40)","v":32527},{"$f":"IF(AND(COUNTRY_INFO!H40>0,COUNTRY_INFO!H40<4),IF(D40>MAX('MDA1'!M40,'MDA2'!M40),MAX('MDA1'!M40,'MDA2'!M40),D40),0)","v":32527},{"$f":"IF(AND(COUNTRY_INFO!H40>0,COUNTRY_INFO!H40<4), IF(G40/D40*100<>0, IF(G40/D40*100>100,100,G40/D40*100), \"-\"),0)","v":78.701762276388592},{"$f":"COUNTRY_INFO!M40","v":"Not required"},null,null,{"$f":"MAX('MDA1'!M40,MAX('MDA3'!I40,'MDA3'!L40)+MAX('MDA3'!J40,'MDA3'!M40))","v":32527},{"$f":"IF(AND(COUNTRY_INFO!I40>0,COUNTRY_INFO!I40<4),IF(J40>MAX('MDA1'!M40,MAX('MDA3'!I40,'MDA3'!L40)+MAX('MDA3'!J40,'MDA3'!M40)),MAX('MDA1'!M40,MAX('MDA3'!I40,'MDA3'!L40)+MAX('MDA3'!J40,'MDA3'!M40)),J40),0)","v":0},{"$f":"IF(AND(COUNTRY_INFO!I40>0,COUNTRY_INFO!I40<4), IF(M40/J40*100<>0, IF(M40/J40*100>100,100,M40/J40*100), \"-\"),0)","v":0},{"$f":"COUNTRY_INFO!N40","v":16366},null,null,{"$f":"SUM(MAX('MDA2'!J40, 'T1'!L40, MAX(T3_R1!K40, T3_R2!K40)), MAX('MDA1'!K40, 'MDA2'!K40, 'T1'!M40, MAX(T3_R1!L40, T3_R2!L40)), MAX('MDA1'!L40, 'MDA2'!L40, 'T1'!N40, MAX(T3_R1!M40, T3_R2!M40)))","v":32527},{"$f":"IF(AND(COUNTRY_INFO!J40>1,COUNTRY_INFO!J40<4),IF(COUNTRY_INFO!E40>MAX('MDA2'!J40,'T1'!L40,MAX(T3_R1!K40,T3_R2!K40)),MAX('MDA2'!J40,'T1'!L40,MAX(T3_R1!K40,T3_R2!K40)),COUNTRY_INFO!E40),0)","v":0},{"$f":"IF(AND(COUNTRY_INFO!J40>1,COUNTRY_INFO!J40<4), IF(T40/COUNTRY_INFO!E40*100<>0, IF(T40/COUNTRY_INFO!E40*100>100,100,T40/COUNTRY_INFO!E40*100), \"-\"),0)","v":"-"},{"$f":"IF(AND(COUNTRY_INFO!J40>1,COUNTRY_INFO!J40<4),IF(COUNTRY_INFO!F40>MAX('MDA1'!K40,'MDA2'!K40,'T1'!M40,MAX(T3_R1!L40,T3_R2!L40)),MAX('MDA1'!K40,'MDA2'!K40,'T1'!M40,MAX(T3_R1!L40,T3_R2!L40)),COUNTRY_INFO!F40),0)","v":11572},{"$f":"IF(AND(COUNTRY_INFO!J40>1,COUNTRY_INFO!J40<4), IF(V40/COUNTRY_INFO!F40*100<>0, IF(V40/COUNTRY_INFO!F40*100>100,100,V40/COUNTRY_INFO!F40*100), \"-\"),0)","v":100},11572,{"$f":"IF(AND(COUNTRY_INFO!J40>1,COUNTRY_INFO!J40<4), IF(S40/P40*100<>0, IF(X40/P40*100>100,100,X40/P40*100), \"-\"),0)","v":70.707564462910909},{"$f":"COUNTRY_INFO!O40","v":35336},6098,6014,{"$f":"MAX('T1'!L40,'T2'!J40)+MAX('T1'!M40,'T2'!K40)+MAX('T1'!N40,'T2'!L40)","v":0},{"$f":"IF(COUNTRY_INFO!K40=1,IF(COUNTRY_INFO!F40*0.33>MAX('T1'!M40,'T2'!K40),MAX('T1'!M40,'T2'!K40),COUNTRY_INFO!F40*0.33),IF(COUNTRY_INFO!K40=2,IF(COUNTRY_INFO!F40*0.5>MAX('T1'!M40,'T2'!K40),MAX('T1'!M40,'T2'!K40),COUNTRY_INFO!F40*0.5),IF(COUNTRY_INFO!K40=3,IF(COUNTRY_INFO!F40>MAX('T1'!M40,'T2'!K40),MAX('T1'!M40,'T2'!K40),COUNTRY_INFO!F40),0)))","v":0},{"$f":"IF(AND(COUNTRY_INFO!K40>0,COUNTRY_INFO!K40<4),IF(Z40>0,IF(COUNTRY_INFO!K40=1, AD40/(COUNTRY_INFO!F40*0.33)*100, IF(COUNTRY_INFO!K40=2, AD40/(COUNTRY_INFO!F40*0.5)*100, IF(COUNTRY_INFO!K40=3, AD40/COUNTRY_INFO!F40*100))),\"-\"),0)","v":0},{"$f":"IF(COUNTRY_INFO!K40=2,IF(COUNTRY_INFO!G40*0.2>MAX('T1'!N40,'T2'!L40),MAX('T1'!N40,'T2'!L40),COUNTRY_INFO!G40*0.2),IF(COUNTRY_INFO!K40=3,IF(COUNTRY_INFO!G40>MAX('T1'!N40,'T2'!L40),MAX('T1'!N40,'T2'!L40),COUNTRY_INFO!G40),0))","v":0},{"$f":"IF(AND(COUNTRY_INFO!K40>0,COUNTRY_INFO!K40<4),IF(Z40>0,IF(COUNTRY_INFO!K40=1, 0, IF(COUNTRY_INFO!K40=2, AF40/(COUNTRY_INFO!G40*0.2)*100, IF(COUNTRY_INFO!K40=3, AF40/COUNTRY_INFO!G40*100))),\"-\"),0)","v":0},0,{"$f":"IF(AND(COUNTRY_INFO!K40>0,COUNTRY_INFO!K40<4), IF(AC40/Z40*100<>0, IF(AH40/Z40*100>100,100,AH40/Z40*100), \"-\"),0)","v":"-"},null,{"$f":"IF(AND(D40<>0, D40<>\"Unknown\",D40<>\"Stopped\",D40<>\"Not required\"),D40/COUNTRY_INFO!D40, 0)","v":1},{"$f":"IF(AND(J40<>0,J40<>\"Unknown\",J40<>\"Stopped\",J40<>\"Not required\"),J40/COUNTRY_INFO!D40, 0)","v":0},{"$f":"IF(AND(P40<>0,P40<>\"Unknown\",P40<>\"Not required\"),P40/(COUNTRY_INFO!E40+COUNTRY_INFO!F40), 0)","v":1},{"$f":"IF(AND(Z40<>0,Z40<>\"Unknown\",Z40<>\"Not required\"),IF(COUNTRY_INFO!K40=1,1,IF(COUNTRY_INFO!K40=2,0.5*COUNTRY_INFO!F40/(0.5*COUNTRY_INFO!F40+0.2*COUNTRY_INFO!G40),IF(COUNTRY_INFO!K40=3,COUNTRY_INFO!F40/(COUNTRY_INFO!F40+COUNTRY_INFO!G40)))),0)","v":0.32748471813448043},{"$f":"IF(AND(Z40<>0,Z40<>\"Unknown\",Z40<>\"Not required\"),IF(COUNTRY_INFO!K40=1,0,IF(COUNTRY_INFO!K40=2,0.2*COUNTRY_INFO!G40/(0.5*COUNTRY_INFO!F40+0.2*COUNTRY_INFO!G40),IF(COUNTRY_INFO!K40=3,COUNTRY_INFO!G40/(COUNTRY_INFO!F40+COUNTRY_INFO!G40)))),0)","v":0.67251528186551957},{"$f":"MAX(COUNTRY_INFO!D40*AK40*PROFILE!$G$7,COUNTRY_INFO!D40*AL40*PROFILE!$G$7)","v":1198.5647614963148},{"$f":"MAX(COUNTRY_INFO!D40*AK40*PROFILE!$G$8,COUNTRY_INFO!D40*AL40*PROFILE!$G$8,COUNTRY_INFO!D40*AM40*PROFILE!$G$8)","v":4794.2083900293601},{"$f":"MAX(COUNTRY_INFO!D40*AK40*PROFILE!$G$9,COUNTRY_INFO!D40*AL40*PROFILE!$G$9,COUNTRY_INFO!D40*AM40*PROFILE!$G$9,IF(AND(DISTRICT!Z40<>\"Unknown\",Z40<>\"Not required\"),COUNTRY_INFO!O40*DISTRICT!AN40,0))","v":11572.238216720561},{"$f":"MAX(COUNTRY_INFO!D40*AK40*PROFILE!$G$10,COUNTRY_INFO!D40*AL40*PROFILE!$G$10,IF(AND(DISTRICT!Z40<>\"Unknown\",Z40<>\"Not required\"),COUNTRY_INFO!O40*DISTRICT!AO40,0))","v":23764.431657146433},41329.443025392669,0,{"$f":"MAX('MDA2'!J40,'T1'!L40,'T2'!J40,T3_R1!K40,T3_R2!K40)","v":0},{"$f":"MAX('MDA1'!K40,'MDA2'!K40,'MDA3'!I40,'MDA3'!L40,'T1'!M40,'T2'!K40,T3_R1!L40,T3_R2!L40)","v":12808},{"$f":"MAX('MDA1'!L40,'MDA2'!L40,'MDA3'!J40,'MDA3'!M40,'T1'!N40,'T2'!L40,T3_R1!M40,T3_R2!M40)","v":19719},32527,{"$f":"MAX('MDA2'!J40,T40)","v":0},{"$f":"MAX('MDA1'!K40,'MDA2'!K40,'MDA3'!I40,'MDA3'!L40,V40,AD40)","v":12808},{"$f":"MAX('MDA1'!L40,'MDA2'!L40,'MDA3'!J40,'MDA3'!M40,AF40)","v":19719},32527,78.701762276388592]
[{"$f":"IF(COUNTRY_INFO!A41=0,\" \",COUNTRY_INFO!A41)","v":"Mozambique"},{"$f":"IF(COUNTRY_INFO!B41=0,\" \",COUNTRY_INFO!B41)","v":"Niassa"},{"$f":"IF(COUNTRY_INFO!C41=0,\" \",COUNTRY_INFO!C41)","v":"Sanga"},{"$f":"COUNTRY_INFO!L41","v":0},null,null,{"$f":"MAX('MDA1'!M41,'MDA2'!M41)","v":0},{"$f":"IF(AND(COUNTRY_INFO!H41>0,COUNTRY_INFO!H41<4),IF(D41>MAX('MDA1'!M41,'MDA2'!M41),MAX('MDA1'!M41,'MDA2'!M41),D41),0)","v":0},{"$f":"IF(AND(COUNTRY_INFO!H41>0,COUNTRY_INFO!H41<4), IF(G41/D41*100<>0, IF(G41/D41*100>100,100,G41/D41*100), \"-\"),0)","v":0},{"$f":"COUNTRY_INFO!M41","v":"Not required"},null,null,{"$f":"MAX('MDA1'!M41,MAX('MDA3'!I41,'MDA3'!L41)+MAX('MDA3'!J41,'MDA3'!M41))","v":0},{"$f":"IF(AND(COUNTRY_INFO!I41>0,COUNTRY_INFO!I41<4),IF(J41>MAX('MDA1'!M41,MAX('MDA3'!I41,'MDA3'!L41)+MAX('MDA3'!J41,'MDA3'!M41)),MAX('MDA1'!M41,MAX('MDA3'!I41,'MDA3'!L41)+MAX('MDA3'!J41,'MDA3'!M41)),J41),0)","v":0},{"$f":"IF(AND(COUNTRY_INFO!I41>0,COUNTRY_INFO!I41<4), IF(M41/J41*100<>0, IF(M41/J41*100>100,100,M41/J41*100), \"-\"),0)","v":0},{"$f":"COUNTRY_INFO!N41","v":30998},null,null,{"$f":"SUM(MAX('MDA2'!J41, 'T1'!L41, MAX(T3_R1!K41, T3_R2!K41)), MAX('MDA1'!K41, 'MDA2'!K41, 'T1'!M41, MAX(T3_R1!L41, T3_R2!L41)), MAX('MDA1'!L41, 'MDA2'!L41, 'T1'!N41, MAX(T3_R1!M41, T3_R2!M41)))","v":18070},{"$f":"IF(AND(COUNTRY_INFO!J41>1,COUNTRY_INFO!J41<4),IF(COUNTRY_INFO!E41>MAX('MDA2'!J41,'T1'!L41,MAX(T3_R1!K41,T3_R2!K41)),MAX('MDA2'!J41,'T1'!L41,MAX(T3_R1!K41,T3_R2!K41)),COUNTRY_INFO!E41),0)","v":0},{"$f":"IF(AND(COUNTRY_INFO!J41>1,COUNTRY_INFO!J41<4), IF(T41/COUNTRY_INFO!E41*100<>0, IF(T41/COUNTRY_INFO!E41*100>100,100,T41/COUNTRY_INFO!E41*100), \"-\"),0)","v":"-"},{"$f":"IF(AND(COUNTRY_INFO!J41>1,COUNTRY_INFO!J41<4),IF(COUNTRY_INFO!F41>MAX('MDA1'!K41,'MDA2'!K41,'T1'!M41,MAX(T3_R1!L41,T3_R2!L41)),MAX('MDA1'!K41,'MDA2'!K41,'T1'!M41,MAX(T3_R1!L41,T3_R2!L41)),COUNTRY_INFO!F41),0)","v":18070},{"$f":"IF(AND(COUNTRY_INFO!J41>1,COUNTRY_INFO!J41<4), IF(V41/COUNTRY_INFO!F41*100<>0, IF(V41/COUNTRY_INFO!F41*100>100,100,V41/COUNTRY_INFO!F41*100), \"-\"),0)","v":82.443653618030837},18070,{"$f":"IF(AND(COUNTRY_INFO!J41>1,COUNTRY_INFO!J41<4), IF(S41/P41*100<>0, IF(X41/P41*100>100,100,X41/P41*100), \"-\"),0)","v":58.294083489257375},{"$f":"COUNTRY_INFO!O41","v":66928},8777,9293,{"$f":"MAX('T1'!L41,'T2'!J41)+MAX('T1'!M41,'T2'!K41)+MAX('T1'!N41,'T2'!L41)","v":18070},{"$f":"IF(COUNTRY_INFO!K41=1,IF(COUNTRY_INFO!F41*0.33>MAX('T1'!M41,'T2'!K41),MAX('T1'!M41,'T2'!K41),COUNTRY_INFO!F41*0.33),IF(COUNTRY_INFO!K41=2,IF(COUNTRY_INFO!F41*0.5>MAX('T1'!M41,'T2'!K41),MAX('T1'!M41,'T2'!K41),COUNTRY_INFO!F41*0.5),IF(COUNTRY_INFO!K41=3,IF(COUNTRY_INFO!F41>MAX('T1'!M41,'T2'!K41),MAX('T1'!M41,'T2'!K41),COUNTRY_INFO!F41),0)))","v":18070},{"$f":"IF(AND(COUNTRY_INFO!K41>0,COUNTRY_INFO!K41<4),IF(Z41>0,IF(COUNTRY_INFO!K41=1, AD41/(COUNTRY_INFO!F41*0.33)*100, IF(COUNTRY_INFO!K41=2, AD41/(COUNTRY_INFO!F41*0.5)*100, IF(COUNTRY_INFO!K41=3, AD41/COUNTRY_INFO!F41*100))),\"-\"),0)","v":82.443653618030837},{"$f":"IF(COUNTRY_INFO!K41=2,IF(COUNTRY_INFO!G41*0.2>MAX('T1'!N41,'T2'!L41),MAX('T1'!N41,'T2'!L41),COUNTRY_INFO!G41*0.2),IF(COUNTRY_INFO!K41=3,IF(COUNTRY_INFO!G41>MAX('T1'!N41,'T2'!L41),MAX('T1'!N41,'T2'!L41),COUNTRY_INFO!G41),0))","v":0},{"$f":"IF(AND(COUNTRY_INFO!K41>0,COUNTRY_INFO!K41<4),IF(Z41>0,IF(COUNTRY_INFO!K41=1, 0, IF(COUNTRY_INFO!K41=2, AF41/(COUNTRY_INFO!G41*0.2)*100, IF(COUNTRY_INFO!K41=3, AF41/COUNTRY_INFO!G41*100))),\"-\"),0)","v":0},18070,{"$f":"IF(AND(COUNTRY_INFO!K41>0,COUNTRY_INFO!K41<4), IF(AC41/Z41*100<>0, IF(AH41/Z41*100>100,100,AH41/Z41*100), \"-\"),0)","v":26.999163279942621},null,{"$f":"IF(AND(D41<>0, D41<>\"Unknown\",D41<>\"Stopped\",D41<>\"Not required\"),D41/COUNTRY_INFO!D41, 0)","v":0},{"$f":"IF(AND(J41<>0,J41<>\"Unknown\",J41<>\"Stopped\",J41<>\"Not required\"),J41/COUNTRY_INFO!D41, 0)","v":0},{"$f":"IF(AND(P41<>0,P41<>\"Unknown\",P41<>\"Not required\"),P41/(COUNTRY_INFO!E41+COUNTRY_INFO!F41), 0)","v":1},{"$f":"IF(AND(Z41<>0,Z41<>\"Unknown\",Z41<>\"Not required\"),IF(COUNTRY_INFO!K41=1,1,IF(COUNTRY_INFO!K41=2,0.5*COUNTRY_INFO!F41/(0.5*COUNTRY_INFO!F41+0.2*COUNTRY_INFO!G41),IF(COUNTRY_INFO!K41=3,COUNTRY_INFO!F41/(COUNTRY_INFO!F41+COUNTRY_INFO!G41)))),0)","v":0.32748625388477171},{"$f":"IF(AND(Z41<>0,Z41<>\"Unknown\",Z41<>\"Not required\"),IF(COUNTRY_INFO!K41=1,0,IF(COUNTRY_INFO!K41=2,0.2*COUNTRY_INFO!G41/(0.5*COUNTRY_INFO!F41+0.2*COUNTRY_INFO!G41),IF(COUNTRY_INFO!K41=3,COUNTRY_INFO!G41/(COUNTRY_INFO!F41+COUNTRY_INFO!G41)))),0)","v":0.67251374611522829},{"$f":"MAX(COUNTRY_INFO!D41*AK41*PROFILE!$G$7,COUNTRY_INFO!D41*AL41*PROFILE!$G$7)","v":0},{"$f":"MAX(COUNTRY_INFO!D41*AK41*PROFILE!$G$8,COUNTRY_INFO!D41*AL41*PROFILE!$G$8,COUNTRY_INFO!D41*AM41*PROFILE!$G$8)","v":9080.1770570826648},{"$f":"MAX(COUNTRY_INFO!D41*AK41*PROFILE!$G$9,COUNTRY_INFO!D41*AL41*PROFILE!$G$9,COUNTRY_INFO!D41*AM41*PROFILE!$G$9,IF(AND(DISTRICT!Z41<>\"Unknown\",Z41<>\"Not required\"),COUNTRY_INFO!O41*DISTRICT!AN41,0))","v":21918},{"$f":"MAX(COUNTRY_INFO!D41*AK41*PROFILE!$G$10,COUNTRY_INFO!D41*AL41*PROFILE!$G$10,IF(AND(DISTRICT!Z41<>\"Unknown\",Z41<>\"Not required\"),COUNTRY_INFO!O41*DISTRICT!AO41,0))","v":45010},76008.177057082663,{"$f":"IF(COUNTIFS(AK41:AN41,\">0\")=0,0, IF(COUNTIFS(AK41:AN41,\">0\")<=IF(AND(OR(D41>=0,D41=\"Not required\",D41=\"Unknown\",D41=\"Stopped\"),D41>0,H41>0),1,0)+IF(AND(OR(J41>=0,J41=\"Not required\",J41=\"Unknown\",J41=\"Stopped\"),J41>0,N41>0),1,0)+IF(AND(OR(P41>=0,P41=\"Not required\",P41=\"Unknown\"),P41>0,X41>0),1,0)+IF(AND(OR(Z41>=0,Z41=\"Not required\",Z41=\"Unknown\"),Z41>0,AH41>0),1,0),\"Y\",0))","v":"Y"},{"$f":"MAX('MDA2'!J41,'T1'!L41,'T2'!J41,T3_R1!K41,T3_R2!K41)","v":0},{"$f":"MAX('MDA1'!K41,'MDA2'!K41,'MDA3'!I41,'MDA3'!L41,'T1'!M41,'T2'!K41,T3_R1!L41,T3_R2!L41)","v":18070},{"$f":"MAX('MDA1'!L41,'MDA2'!L41,'MDA3'!J41,'MDA3'!M41,'T1'!N41,'T2'!L41,T3_R1!M41,T3_R2!M41)","v":0},18070,{"$f":"MAX('MDA2'!J41,T41)","v":0},{"$f":"MAX('MDA1'!K41,'MDA2'!K41,'MDA3'!I41,'MDA3'!L41,V41,AD41)","v":18070},{"$f":"MAX('MDA1'!L41,'MDA2'!L41,'MDA3'!J41,'MDA3'!M41,AF41)","v":0},{"$f":"IF(AT41<SUM(AZ41:BB41), AT41,SUM(AZ41:BB41))","v":18070},{"$f":"IF(AT41<>0,BC41/AT41*100,0)","v":23.773757902954713}]
[{"$f":"IF(COUNTRY_INFO!A42=0,\" \",COUNTRY_INFO!A42)","v":"Mozambique"},{"$f":"IF(COUNTRY_INFO!B42=0,\" \",COUNTRY_INFO!B42)","v":"Nampula"},{"$f":"IF(COUNTRY_INFO!C42=0,\" \",COUNTRY_INFO!C42)","v":"Cid. Nampula"},{"$f":"COUNTRY_INFO!L42","v":758047},null,null,{"$f":"MAX('MDA1'!M42,'MDA2'!M42)","v":688180},{"$f":"IF(AND(COUNTRY_INFO!H42>0,COUNTRY_INFO!H42<4),IF(D42>MAX('MDA1'!M42,'MDA2'!M42),MAX('MDA1'!M42,'MDA2'!M42),D42),0)","v":688180},{"$f":"IF(AND(COUNTRY_INFO!H42>0,COUNTRY_INFO!H42<4), IF(G42/D42*100<>0, IF(G42/D42*100>100,100,G42/D42*100), \"-\"),0)","v":90.783289162809169},{"$f":"COUNTRY_INFO!M42","v":"Not required"},null,null,{"$f":"MAX('MDA1'!M42,MAX('MDA3'!I42,'MDA3'!L42)+MAX('MDA3'!J42,'MDA3'!M42))","v":688180},{"$f":"IF(AND(COUNTRY_INFO!I42>0,COUNTRY_INFO!I42<4),IF(J42>MAX('MDA1'!M42,MAX('MDA3'!I42,'MDA3'!L42)+MAX('MDA3'!J42,'MDA3'!M42)),MAX('MDA1'!M42,MAX('MDA3'!I42,'MDA3'!L42)+MAX('MDA3'!J42,'MDA3'!M42)),J42),0)","v":0},{"$f":"IF(AND(COUNTRY_INFO!I42>0,COUNTRY_INFO!I42<4), IF(M42/J42*100<>0, IF(M42/J42*100>100,100,M42/J42*100), \"-\"),0)","v":0},{"$f":"COUNTRY_INFO!N42","v":300186},341372,346808,{"$f":"SUM(MAX('MDA2'!J42, 'T1'!L42, MAX(T3_R1!K42, T3_R2!K42)), MAX('MDA1'!K42, 'MDA2'!K42, 'T1'!M42, MAX(T3_R1!L42, T3_R2!L42)), MAX('MDA1'!L42, 'MDA2'!L42, 'T1'!N42, MAX(T3_R1!M42, T3_R2!M42)))","v":688180},{"$f":"IF(AND(COUNTRY_INFO!J42>1,COUNTRY_INFO!J42<4),IF(COUNTRY_INFO!E42>MAX('MDA2'!J42,'T1'!L42,MAX(T3_R1!K42,T3_R2!K42)),MAX('MDA2'!J42,'T1'!L42,MAX(T3_R1!K42,T3_R2!K42)),COUNTRY_INFO!E42),0)","v":0},{"$f":"IF(AND(COUNTRY_INFO!J42>1,COUNTRY_INFO!J42<4), IF(T42/COUNTRY_INFO!E42*100<>0, IF(T42/COUNTRY_INFO!E42*100>100,100,T42/COUNTRY_INFO!E42*100), \"-\"),0)","v":"-"},{"$f":"IF(AND(COUNTRY_INFO!J42>1,COUNTRY_INFO!J42<4),IF(COUNTRY_INFO!F42>MAX('MDA1'!K42,'MDA2'!K42,'T1'!M42,MAX(T3_R1!L42,T3_R2!L42)),MAX('MDA1'!K42,'MDA2'!K42,'T1'!M42,MAX(T3_R1!L42,T3_R2!L42)),COUNTRY_INFO!F42),0)","v":212253},{"$f":"IF(AND(COUNTRY_INFO!J42>1,COUNTRY_INFO!J42<4), IF(V42/COUNTRY_INFO!F42*100<>0, IF(V42/COUNTRY_INFO!F42*100>100,100,V42/COUNTRY_INFO!F42*100), \"-\"),0)","v":100},212253,{"$f":"IF(AND(COUNTRY_INFO!J42>1,COUNTRY_INFO!J42<4), IF(S42/P42*100<>0, IF(X42/P42*100>100,100,X42/P42*100), \"-\"),0)","v":70.707161559832898},{"$f":"COUNTRY_INFO!O42","v":648130},null,null,{"$f":"MAX('T1'!L42,'T2'!J42)+MAX('T1'!M42,'T2'!K42)+MAX('T1'!N42,'T2'!L42)","v":171493},{"$f":"IF(COUNTRY_INFO!K42=1,IF(COUNTRY_INFO!F42*0.33>MAX('T1'!M42,'T2'!K42),MAX('T1'!M42,'T2'!K42),COUNTRY_INFO!F42*0.33),IF(COUNTRY_INFO!K42=2,IF(COUNTRY_INFO!F42*0.5>MAX('T1'!M42,'T2'!K42),MAX('T1'!M42,'T2'!K42),COUNTRY_INFO!F42*0.5),IF(COUNTRY_INFO!K42=3,IF(COUNTRY_INFO!F42>MAX('T1'!M42,'T2'!K42),MAX('T1'!M42,'T2'!K42),COUNTRY_INFO!F42),0)))","v":171493},{"$f":"IF(AND(COUNTRY_INFO!K42>0,COUNTRY_INFO!K42<4),IF(Z42>0,IF(COUNTRY_INFO!K42=1, AD42/(COUNTRY_INFO!F42*0.33)*100, IF(COUNTRY_INFO!K42=2, AD42/(COUNTRY_INFO!F42*0.5)*100, IF(COUNTRY_INFO!K42=3, AD42/COUNTRY_INFO!F42*100))),\"-\"),0)","v":80.796502287364603},{"$f":"IF(COUNTRY_INFO!K42=2,IF(COUNTRY_INFO!G42*0.2>MAX('T1'!N42,'T2'!L42),MAX('T1'!N42,'T2'!L42),COUNTRY_INFO!G42*0.2),IF(COUNTRY_INFO!K42=3,IF(COUNTRY_INFO!G42>MAX('T1'!N42,'T2'!L42),MAX('T1'!N42,'T2'!L42),COUNTRY_INFO!G42),0))","v":0},{"$f":"IF(AND(COUNTRY_INFO!K42>0,COUNTRY_INFO!K42<4),IF(Z42>0,IF(COUNTRY_INFO!K42=1, 0, IF(COUNTRY_INFO!K42=2, AF42/(COUNTRY_INFO!G42*0.2)*100, IF(COUNTRY_INFO!K42=3, AF42/COUNTRY_INFO!G42*100))),\"-\"),0)","v":0},171493,{"$f":"IF(AND(COUNTRY_INFO!K42>0,COUNTRY_INFO!K42<4), IF(AC42/Z42*100<>0, IF(AH42/Z42*100>100,100,AH42/Z42*100), \"-\"),0)","v":26.459660870504376},null,{"$f":"IF(AND(D42<>0, D42<>\"Unknown\",D42<>\"Stopped\",D42<>\"Not required\"),D42/COUNTRY_INFO!D42, 0)","v":1},{"$f":"IF(AND(J42<>0,J42<>\"Unknown\",J42<>\"Stopped\",J42<>\"Not required\"),J42/COUNTRY_INFO!D42, 0)","v":0},{"$f":"IF(AND(P42<>0,P42<>\"Unknown\",P42<>\"Not required\"),P42/(COUNTRY_INFO!E42+COUNTRY_INFO!F42), 0)","v":1},{"$f":"IF(AND(Z42<>0,Z42<>\"Unknown\",Z42<>\"Not required\"),IF(COUNTRY_INFO!K42=1,1,IF(COUNTRY_INFO!K42=2,0.5*COUNTRY_INFO!F42/(0.5*COUNTRY_INFO!F42+0.2*COUNTRY_INFO!G42),IF(COUNTRY_INFO!K42=3,COUNTRY_INFO!F42/(COUNTRY_INFO!F42+COUNTRY_INFO!G42)))),0)","v":0.32748522672920555},{"$f":"IF(AND(Z42<>0,Z42<>\"Unknown\",Z42<>\"Not required\"),IF(COUNTRY_INFO!K42=1,0,IF(COUNTRY_INFO!K42=2,0.2*COUNTRY_INFO!G42/(0.5*COUNTRY_INFO!F42+0.2*COUNTRY_INFO!G42),IF(COUNTRY_INFO!K42=3,COUNTRY_INFO!G42/(COUNTRY_INFO!F42+COUNTRY_INFO!G42)))),0)","v":0.67251477327079445},{"$f":"MAX(COUNTRY_INFO!D42*AK42*PROFILE!$G$7,COUNTRY_INFO!D42*AL42*PROFILE!$G$7)","v":21983.563175525389},{"$f":"MAX(COUNTRY_INFO!D42*AK42*PROFILE!$G$8,COUNTRY_INFO!D42*AL42*PROFILE!$G$8,COUNTRY_INFO!D42*AM42*PROFILE!$G$8)","v":87933.32359218401},{"$f":"MAX(COUNTRY_INFO!D42*AK42*PROFILE!$G$9,COUNTRY_INFO!D42*AL42*PROFILE!$G$9,COUNTRY_INFO!D42*AM42*PROFILE!$G$9,IF(AND(DISTRICT!Z42<>\"Unknown\",Z42<>\"Not required\"),COUNTRY_INFO!O42*DISTRICT!AN42,0))","v":212253.05306148692},{"$f":"MAX(COUNTRY_INFO!D42*AK42*PROFILE!$G$10,COUNTRY_INFO!D42*AL42*PROFILE!$G$10,IF(AND(DISTRICT!Z42<>\"Unknown\",Z42<>\"Not required\"),COUNTRY_INFO!O42*DISTRICT!AO42,0))","v":435877.06017080368},758047,"Y",{"$f":"MAX('MDA2'!J42,'T1'!L42,'T2'!J42,T3_R1!K42,T3_R2!K42)","v":0},{"$f":"MAX('MDA1'!K42,'MDA2'!K42,'MDA3'!I42,'MDA3'!L42,'T1'!M42,'T2'!K42,T3_R1!L42,T3_R2!L42)","v":365462},{"$f":"MAX('MDA1'!L42,'MDA2'!L42,'MDA3'!J42,'MDA3'!M42,'T1'!N42,'T2'!L42,T3_R1!M42,T3_R2!M42)","v":322718},688180,{"$f":"MAX('MDA2'!J42,T42)","v":0},{"$f":"MAX('MDA1'!K42,'MDA2'!K42,'MDA3'!I42,'MDA3'!L42,V42,AD42)","v":365462},{"$f":"MAX('MDA1'!L42,'MDA2'!L42,'MDA3'!J42,'MDA3'!M42,AF42)","v":322718},688180,90.783289162809169]
[{"$f":"IF(COUNTRY_INFO!A43=0,\" \",COUNTRY_INFO!A43)","v":"Mozambique"},{"$f":"IF(COUNTRY_INFO!B43=0,\" \",COUNTRY_INFO!B43)","v":"Nampula"},{"$f":"IF(COUNTRY_INFO!C43=0,\" \",COUNTRY_INFO!C43)","v":"Angoche"},{"$f":"COUNTRY_INFO!L43","v":346694},null,null,{"$f":"MAX('MDA1'!M43,'MDA2'!M43)","v":274391},{"$f":"IF(AND(COUNTRY_INFO!H43>0,COUNTRY_INFO!H43<4),IF(D43>MAX('MDA1'!M43,'MDA2'!M43),MAX('MDA1'!M43,'MDA2'!M43),D43),0)","v":274391},{"$f":"IF(AND(COUNTRY_INFO!H43>0,COUNTRY_INFO!H43<4), IF(G43/D43*100<>0, IF(G43/D43*100>100,100,G43/D43*100), \"-\"),0)","v":79.145009720387421},{"$f":"COUNTRY_INFO!M43","v":"Not required"},null,null,{"$f":"MAX('MDA1'!M43,MAX('MDA3'!I43,'MDA3'!L43)+MAX('MDA3'!J43,'MDA3'!M43))","v":274391},{"$f":"IF(AND(COUNTRY_INFO!I43>0,COUNTRY_INFO!I43<4),IF(J43>MAX('MDA1'!M43,MAX('MDA3'!I43,'MDA3'!L43)+MAX('MDA3'!J43,'MDA3'!M43)),MAX('MDA1'!M43,MAX('MDA3'!I43,'MDA3'!L43)+MAX('MDA3'!J43,'MDA3'!M43)),J43),0)","v":0},{"$f":"IF(AND(COUNTRY_INFO!I43>0,COUNTRY_INFO!I43<4), IF(M43/J43*100<>0, IF(M43/J43*100>100,100,M43/J43*100), \"-\"),0)","v":0},{"$f":"COUNTRY_INFO!N43","v":137291},133467,140924,{"$f":"SUM(MAX('MDA2'!J43, 'T1'!L43, MAX(T3_R1!K43, T3_R2!K43)), MAX('MDA1'!K43, 'MDA2'!K43, 'T1'!M43, MAX(T3_R1!L43, T3_R2!L43)), MAX('MDA1'!L43, 'MDA2'!L43, 'T1'!N43, MAX(T3_R1!M43, T3_R2!M43)))","v":274391},{"$f":"IF(AND(COUNTRY_INFO!J43>1,COUNTRY_INFO!J43<4),IF(COUNTRY_INFO!E43>MAX('MDA2'!J43,'T1'!L43,MAX(T3_R1!K43,T3_R2!K43)),MAX('MDA2'!J43,'T1'!L43,MAX(T3_R1!K43,T3_R2!K43)),COUNTRY_INFO!E43),0)","v":0},{"$f":"IF(AND(COUNTRY_INFO!J43>1,COUNTRY_INFO!J43<4), IF(T43/COUNTRY_INFO!E43*100<>0, IF(T43/COUNTRY_INFO!E43*100>100,100,T43/COUNTRY_INFO!E43*100), \"-\"),0)","v":"-"},{"$f":"IF(AND(COUNTRY_INFO!J43>1,COUNTRY_INFO!J43<4),IF(COUNTRY_INFO!F43>MAX('MDA1'!K43,'MDA2'!K43,'T1'!M43,MAX(T3_R1!L43,T3_R2!L43)),MAX('MDA1'!K43,'MDA2'!K43,'T1'!M43,MAX(T3_R1!L43,T3_R2!L43)),COUNTRY_INFO!F43),0)","v":97074},{"$f":"IF(AND(COUNTRY_INFO!J43>1,COUNTRY_INFO!J43<4), IF(V43/COUNTRY_INFO!F43*100<>0, IF(V43/COUNTRY_INFO!F43*100>100,100,V43/COUNTRY_INFO!F43*100), \"-\"),0)","v":100},97074,{"$f":"IF(AND(COUNTRY_INFO!J43>1,COUNTRY_INFO!J43<4), IF(S43/P43*100<>0, IF(X43/P43*100>100,100,X43/P43*100), \"-\"),0)","v":70.706746982686411},{"$f":"COUNTRY_INFO!O43","v":296423},null,null,{"$f":"MAX('T1'!L43,'T2'!J43)+MAX('T1'!M43,'T2'!K43)+MAX('T1'!N43,'T2'!L43)","v":78708},{"$f":"IF(COUNTRY_INFO!K43=1,IF(COUNTRY_INFO!F43*0.33>MAX('T1'!M43,'T2'!K43),MAX('T1'!M43,'T2'!K43),COUNTRY_INFO!F43*0.33),IF(COUNTRY_INFO!K43=2,IF(COUNTRY_INFO!F43*0.5>MAX('T1'!M43,'T2'!K43),MAX('T1'!M43,'T2'!K43),COUNTRY_INFO!F43*0.5),IF(COUNTRY_INFO!K43=3,IF(COUNTRY_INFO!F43>MAX('T1'!M43,'T2'!K43),MAX('T1'!M43,'T2'!K43),COUNTRY_INFO!F43),0)))","v":78708},{"$f":"IF(AND(COUNTRY_INFO!K43>0,COUNTRY_INFO!K43<4),IF(Z43>0,IF(COUNTRY_INFO!K43=1, AD43/(COUNTRY_INFO!F43*0.33)*100, IF(COUNTRY_INFO!K43=2, AD43/(COUNTRY_INFO!F43*0.5)*100, IF(COUNTRY_INFO!K43=3, AD43/COUNTRY_INFO!F43*100))),\"-\"),0)","v":81.080412880894997},{"$f":"IF(COUNTRY_INFO!K43=2,IF(COUNTRY_INFO!G43*0.2>MAX('T1'!N43,'T2'!L43),MAX('T1'!N43,'T2'!L43),COUNTRY_INFO!G43*0.2),IF(COUNTRY_INFO!K43=3,IF(COUNTRY_INFO!G43>MAX('T1'!N43,'T2'!L43),MAX('T1'!N43,'T2'!L43),COUNTRY_INFO!G43),0))","v":0},{"$f":"IF(AND(COUNTRY_INFO!K43>0,COUNTRY_INFO!K43<4),IF(Z43>0,IF(COUNTRY_INFO!K43=1, 0, IF(COUNTRY_INFO!K43=2, AF43/(COUNTRY_INFO!G43*0.2)*100, IF(COUNTRY_INFO!K43=3, AF43/COUNTRY_INFO!G43*100))),\"-\"),0)","v":0},78708,{"$f":"IF(AND(COUNTRY_INFO!K43>0,COUNTRY_INFO!K43<4), IF(AC43/Z43*100<>0, IF(AH43/Z43*100>100,100,AH43/Z43*100), \"-\"),0)","v":26.552595446372244},null,{"$f":"IF(AND(D43<>0, D43<>\"Unknown\",D43<>\"Stopped\",D43<>\"Not required\"),D43/COUNTRY_INFO!D43, 0)","v":1},{"$f":"IF(AND(J43<>0,J43<>\"Unknown\",J43<>\"Stopped\",J43<>\"Not required\"),J43/COUNTRY_INFO!D43, 0)","v":0},{"$f":"IF(AND(P43<>0,P43<>\"Unknown\",P43<>\"Not required\"),P43/(COUNTRY_INFO!E43+COUNTRY_INFO!F43), 0)","v":1},{"$f":"IF(AND(Z43<>0,Z43<>\"Unknown\",Z43<>\"Not required\"),IF(COUNTRY_INFO!K43=1,1,IF(COUNTRY_INFO!K43=2,0.5*COUNTRY_INFO!F43/(0.5*COUNTRY_INFO!F43+0.2*COUNTRY_INFO!G43),IF(COUNTRY_INFO!K43=3,COUNTRY_INFO!F43/(COUNTRY_INFO!F43+COUNTRY_INFO!G43)))),0)","v":0.32748470935116369},{"$f":"IF(AND(Z43<>0,Z43<>\"Unknown\",Z43<>\"Not required\"),IF(COUNTRY_INFO!K43=1,0,IF(COUNTRY_INFO!K43=2,0.2*COUNTRY_INFO!G43/(0.5*COUNTRY_INFO!F43+0.2*COUNTRY_INFO!G43),IF(COUNTRY_INFO!K43=3,COUNTRY_INFO!G43/(COUNTRY_INFO!F43+COUNTRY_INFO!G43)))),0)","v":0.67251529064883631},{"$f":"MAX(COUNTRY_INFO!D43*AK43*PROFILE!$G$7,COUNTRY_INFO!D43*AL43*PROFILE!$G$7)","v":10054.21755059462},{"$f":"MAX(COUNTRY_INFO!D43*AK43*PROFILE!$G$8,COUNTRY_INFO!D43*AL43*PROFILE!$G$8,COUNTRY_INFO!D43*AM43*PROFILE!$G$8)","v":40216.445272481316},{"$f":"MAX(COUNTRY_INFO!D43*AK43*PROFILE!$G$9,COUNTRY_INFO!D43*AL43*PROFILE!$G$9,COUNTRY_INFO!D43*AM43*PROFILE!$G$9,IF(AND(DISTRICT!Z43<>\"Unknown\",Z43<>\"Not required\"),COUNTRY_INFO!O43*DISTRICT!AN43,0))","v":97074.271091501112},{"$f":"MAX(COUNTRY_INFO!D43*AK43*PROFILE!$G$10,COUNTRY_INFO!D43*AL43*PROFILE!$G$10,IF(AND(DISTRICT!Z43<>\"Unknown\",Z43<>\"Not required\"),COUNTRY_INFO!O43*DISTRICT!AO43,0))","v":199349.06608542294},346694,"Y",{"$f":"MAX('MDA2'!J43,'T1'!L43,'T2'!J43,T3_R1!K43,T3_R2!K43)","v":0},{"$f":"MAX('MDA1'!K43,'MDA2'!K43,'MDA3'!I43,'MDA3'!L43,'T1'!M43,'T2'!K43,T3_R1!L43,T3_R2!L43)","v":111533},{"$f":"MAX('MDA1'!L43,'MDA2'!L43,'MDA3'!J43,'MDA3'!M43,'T1'!N43,'T2'!L43,T3_R1!M43,T3_R2!M43)","v":162858},274391,{"$f":"MAX('MDA2'!J43,T43)","v":0},{"$f":"MAX('MDA1'!K43,'MDA2'!K43,'MDA3'!I43,'MDA3'!L43,V43,AD43)","v":111533},{"$f":"MAX('MDA1'!L43,'MDA2'!L43,'MDA3'!J43,'MDA3'!M43,AF43)","v":162858},274391,79.145009720387421]
[{"$f":"IF(COUNTRY_INFO!A44=0,\" \",COUNTRY_INFO!A44)","v":"Mozambique"},{"$f":"IF(COUNTRY_INFO!B44=0,\" \",COUNTRY_INFO!B44)","v":"Nampula"},{"$f":"IF(COUNTRY_INFO!C44=0,\" \",COUNTRY_INFO!C44)","v":"Erati"},{"$f":"COUNTRY_INFO!L44","v":336592},null,null,{"$f":"MAX('MDA1'!M44,'MDA2'!M44)","v":294487},{"$f":"IF(AND(COUNTRY_INFO!H44>0,COUNTRY_INFO!H44<4),IF(D44>MAX('MDA1'!M44,'MDA2'!M44),MAX('MDA1'!M44,'MDA2'!M44),D44),0)","v":294487},{"$f":"IF(AND(COUNTRY_INFO!H44>0,COUNTRY_INFO!H44<4), IF(G44/D44*100<>0, IF(G44/D44*100>100,100,G44/D44*100), \"-\"),0)","v":87.490790036602178},{"$f":"COUNTRY_INFO!M44","v":"Not required"},null,null,{"$f":"MAX('MDA1'!M44,MAX('MDA3'!I44,'MDA3'!L44)+MAX('MDA3'!J44,'MDA3'!M44))","v":294487},{"$f":"IF(AND(COUNTRY_INFO!I44>0,COUNTRY_INFO!I44<4),IF(J44>MAX('MDA1'!M44,MAX('MDA3'!I44,'MDA3'!L44)+MAX('MDA3'!J44,'MDA3'!M44)),MAX('MDA1'!M44,MAX('MDA3'!I44,'MDA3'!L44)+MAX('MDA3'!J44,'MDA3'!M44)),J44),0)","v":0},{"$f":"IF(AND(COUNTRY_INFO!I44>0,COUNTRY_INFO!I44<4), IF(M44/J44*100<>0, IF(M44/J44*100>100,100,M44/J44*100), \"-\"),0)","v":0},{"$f":"COUNTRY_INFO!N44","v":133291},140764,153723,{"$f":"SUM(MAX('MDA2'!J44, 'T1'!L44, MAX(T3_R1!K44, T3_R2!K44)), MAX('MDA1'!K44, 'MDA2'!K44, 'T1'!M44, MAX(T3_R1!L44, T3_R2!L44)), MAX('MDA1'!L44, 'MDA2'!L44, 'T1'!N44, MAX(T3_R1!M44, T3_R2!M44)))","v":294487},{"$f":"IF(AND(COUNTRY_INFO!J44>1,COUNTRY_INFO!J44<4),IF(COUNTRY_INFO!E44>MAX('MDA2'!J44,'T1'!L44,MAX(T3_R1!K44,T3_R2!K44)),MAX('MDA2'!J44,'T1'!L44,MAX(T3_R1!K44,T3_R2!K44)),COUNTRY_INFO!E44),0)","v":0},{"$f":"IF(AND(COUNTRY_INFO!J44>1,COUNTRY_INFO!J44<4), IF(T44/COUNTRY_INFO!E44*100<>0, IF(T44/COUNTRY_INFO!E44*100>100,100,T44/COUNTRY_INFO!E44*100), \"-\"),0)","v":"-"},{"$f":"IF(AND(COUNTRY_INFO!J44>1,COUNTRY_INFO!J44<4),IF(COUNTRY_INFO!F44>MAX('MDA1'!K44,'MDA2'!K44,'T1'!M44,MAX(T3_R1!L44,T3_R2!L44)),MAX('MDA1'!K44,'MDA2'!K44,'T1'!M44,MAX(T3_R1!L44,T3_R2!L44)),COUNTRY_INFO!F44),0)","v":94246},{"$f":"IF(AND(COUNTRY_INFO!J44>1,COUNTRY_INFO!J44<4), IF(V44/COUNTRY_INFO!F44*100<>0, IF(V44/COUNTRY_INFO!F44*100>100,100,V44/COUNTRY_INFO!F44*100), \"-\"),0)","v":100},94246,{"$f":"IF(AND(COUNTRY_INFO!J44>1,COUNTRY_INFO!J44<4), IF(S44/P44*100<>0, IF(X44/P44*100>100,100,X44/P44*100), \"-\"),0)","v":70.706949456452435},{"$f":"COUNTRY_INFO!O44","v":287786},null,null,{"$f":"MAX('T1'!L44,'T2'!J44)+MAX('T1'!M44,'T2'!K44)+MAX('T1'!N44,'T2'!L44)","v":71299},{"$f":"IF(COUNTRY_INFO!K44=1,IF(COUNTRY_INFO!F44*0.33>MAX('T1'!M44,'T2'!K44),MAX('T1'!M44,'T2'!K44),COUNTRY_INFO!F44*0.33),IF(COUNTRY_INFO!K44=2,IF(COUNTRY_INFO!F44*0.5>MAX('T1'!M44,'T2'!K44),MAX('T1'!M44,'T2'!K44),COUNTRY_INFO!F44*0.5),IF(COUNTRY_INFO!K44=3,IF(COUNTRY_INFO!F44>MAX('T1'!M44,'T2'!K44),MAX('T1'!M44,'T2'!K44),COUNTRY_INFO!F44),0)))","v":71299},{"$f":"IF(AND(COUNTRY_INFO!K44>0,COUNTRY_INFO!K44<4),IF(Z44>0,IF(COUNTRY_INFO!K44=1, AD44/(COUNTRY_INFO!F44*0.33)*100, IF(COUNTRY_INFO!K44=2, AD44/(COUNTRY_INFO!F44*0.5)*100, IF(COUNTRY_INFO!K44=3, AD44/COUNTRY_INFO!F44*100))),\"-\"),0)","v":75.652017061732053},{"$f":"IF(COUNTRY_INFO!K44=2,IF(COUNTRY_INFO!G44*0.2>MAX('T1'!N44,'T2'!L44),MAX('T1'!N44,'T2'!L44),COUNTRY_INFO!G44*0.2),IF(COUNTRY_INFO!K44=3,IF(COUNTRY_INFO!G44>MAX('T1'!N44,'T2'!L44),MAX('T1'!N44,'T2'!L44),COUNTRY_INFO!G44),0))","v":0},{"$f":"IF(AND(COUNTRY_INFO!K44>0,COUNTRY_INFO!K44<4),IF(Z44>0,IF(COUNTRY_INFO!K44=1, 0, IF(COUNTRY_INFO!K44=2, AF44/(COUNTRY_INFO!G44*0.2)*100, IF(COUNTRY_INFO!K44=3, AF44/COUNTRY_INFO!G44*100))),\"-\"),0)","v":0},71299,{"$f":"IF(AND(COUNTRY_INFO!K44>0,COUNTRY_INFO!K44<4), IF(AC44/Z44*100<>0, IF(AH44/Z44*100>100,100,AH44/Z44*100), \"-\"),0)","v":24.775006428387762},null,{"$f":"IF(AND(D44<>0, D44<>\"Unknown\",D44<>\"Stopped\",D44<>\"Not required\"),D44/COUNTRY_INFO!D44, 0)","v":1},{"$f":"IF(AND(J44<>0,J44<>\"Unknown\",J44<>\"Stopped\",J44<>\"Not required\"),J44/COUNTRY_INFO!D44, 0)","v":0},{"$f":"IF(AND(P44<>0,P44<>\"Unknown\",P44<>\"Not required\"),P44/(COUNTRY_INFO!E44+COUNTRY_INFO!F44), 0)","v":1},{"$f":"IF(AND(Z44<>0,Z44<>\"Unknown\",Z44<>\"Not required\"),IF(COUNTRY_INFO!K44=1,1,IF(COUNTRY_INFO!K44=2,0.5*COUNTRY_INFO!F44/(0.5*COUNTRY_INFO!F44+0.2*COUNTRY_INFO!G44),IF(COUNTRY_INFO!K44=3,COUNTRY_INFO!F44/(COUNTRY_INFO!F44+COUNTRY_INFO!G44)))),0)","v":0.32748639614157743},{"$f":"IF(AND(Z44<>0,Z44<>\"Unknown\",Z44<>\"Not required\"),IF(COUNTRY_INFO!K44=1,0,IF(COUNTRY_INFO!K44=2,0.2*COUNTRY_INFO!G44/(0.5*COUNTRY_INFO!F44+0.2*COUNTRY_INFO!G44),IF(COUNTRY_INFO!K44=3,COUNTRY_INFO!G44/(COUNTRY_INFO!F44+COUNTRY_INFO!G44)))),0)","v":0.67251360385842263},{"$f":"MAX(COUNTRY_INFO!D44*AK44*PROFILE!$G$7,COUNTRY_INFO!D44*AL44*PROFILE!$G$7)","v":9761.2568829854117},{"$f":"MAX(COUNTRY_INFO!D44*AK44*PROFILE!$G$8,COUNTRY_INFO!D44*AL44*PROFILE!$G$8,COUNTRY_INFO!D44*AM44*PROFILE!$G$8)","v":39044.614983688873},{"$f":"MAX(COUNTRY_INFO!D44*AK44*PROFILE!$G$9,COUNTRY_INFO!D44*AL44*PROFILE!$G$9,COUNTRY_INFO!D44*AM44*PROFILE!$G$9,IF(AND(DISTRICT!Z44<>\"Unknown\",Z44<>\"Not required\"),COUNTRY_INFO!O44*DISTRICT!AN44,0))","v":94246},{"$f":"MAX(COUNTRY_INFO!D44*AK44*PROFILE!$G$10,COUNTRY_INFO!D44*AL44*PROFILE!$G$10,IF(AND(DISTRICT!Z44<>\"Unknown\",Z44<>\"Not required\"),COUNTRY_INFO!O44*DISTRICT!AO44,0))","v":193540.41561672449},336592.2874833988,"Y",{"$f":"MAX('MDA2'!J44,'T1'!L44,'T2'!J44,T3_R1!K44,T3_R2!K44)","v":0},{"$f":"MAX('MDA1'!K44,'MDA2'!K44,'MDA3'!I44,'MDA3'!L44,'T1'!M44,'T2'!K44,T3_R1!L44,T3_R2!L44)","v":158269},{"$f":"MAX('MDA1'!L44,'MDA2'!L44,'MDA3'!J44,'MDA3'!M44,'T1'!N44,'T2'!L44,T3_R1!M44,T3_R2!M44)","v":136218},294487,{"$f":"MAX('MDA2'!J44,T44)","v":0},{"$f":"MAX('MDA1'!K44,'MDA2'!K44,'MDA3'!I44,'MDA3'!L44,V44,AD44)","v":158269},{"$f":"MAX('MDA1'!L44,'MDA2'!L44,'MDA3'!J44,'MDA3'!M44,AF44)","v":136218},294487,87.490715310737627]
[{"$f":"IF(COUNTRY_INFO!A45=0,\" \",COUNTRY_INFO!A45)","v":"Mozambique"},{"$f":"IF(COUNTRY_INFO!B45=0,\" \",COUNTRY_INFO!B45)","v":"Nampula"},{"$f":"IF(COUNTRY_INFO!C45=0,\" \",COUNTRY_INFO!C45)","v":"Ilha Moc."},{"$f":"COUNTRY_INFO!L45","v":57969},null,null,{"$f":"MAX('MDA1'!M45,'MDA2'!M45)","v":51175},{"$f":"IF(AND(COUNTRY_INFO!H45>0,COUNTRY_INFO!H45<4),IF(D45>MAX('MDA1'!M45,'MDA2'!M45),MAX('MDA1'!M45,'MDA2'!M45),D45),0)","v":51175},{"$f":"IF(AND(COUNTRY_INFO!H45>0,COUNTRY_INFO!H45<4), IF(G45/D45*100<>0, IF(G45/D45*100>100,100,G45/D45*100), \"-\"),0)","v":88.2799427280098},{"$f":"COUNTRY_INFO!M45","v":"Not required"},null,null,{"$f":"MAX('MDA1'!M45,MAX('MDA3'!I45,'MDA3'!L45)+MAX('MDA3'!J45,'MDA3'!M45))","v":51175},{"$f":"IF(AND(COUNTRY_INFO!I45>0,COUNTRY_INFO!I45<4),IF(J45>MAX('MDA1'!M45,MAX('MDA3'!I45,'MDA3'!L45)+MAX('MDA3'!J45,'MDA3'!M45)),MAX('MDA1'!M45,MAX('MDA3'!I45,'MDA3'!L45)+MAX('MDA3'!J45,'MDA3'!M45)),J45),0)","v":0},{"$f":"IF(AND(COUNTRY_INFO!I45>0,COUNTRY_INFO!I45<4), IF(M45/J45*100<>0, IF(M45/J45*100>100,100,M45/J45*100), \"-\"),0)","v":0},{"$f":"COUNTRY_INFO!N45","v":22955},24120,27055,{"$f":"SUM(MAX('MDA2'!J45, 'T1'!L45, MAX(T3_R1!K45, T3_R2!K45)), MAX('MDA1'!K45, 'MDA2'!K45, 'T1'!M45, MAX(T3_R1!L45, T3_R2!L45)), MAX('MDA1'!L45, 'MDA2'!L45, 'T1'!N45, MAX(T3_R1!M45, T3_R2!M45)))","v":51175},{"$f":"IF(AND(COUNTRY_INFO!J45>1,COUNTRY_INFO!J45<4),IF(COUNTRY_INFO!E45>MAX('MDA2'!J45,'T1'!L45,MAX(T3_R1!K45,T3_R2!K45)),MAX('MDA2'!J45,'T1'!L45,MAX(T3_R1!K45,T3_R2!K45)),COUNTRY_INFO!E45),0)","v":0},{"$f":"IF(AND(COUNTRY_INFO!J45>1,COUNTRY_INFO!J45<4), IF(T45/COUNTRY_INFO!E45*100<>0, IF(T45/COUNTRY_INFO!E45*100>100,100,T45/COUNTRY_INFO!E45*100), \"-\"),0)","v":"-"},{"$f":"IF(AND(COUNTRY_INFO!J45>1,COUNTRY_INFO!J45<4),IF(COUNTRY_INFO!F45>MAX('MDA1'!K45,'MDA2'!K45,'T1'!M45,MAX(T3_R1!L45,T3_R2!L45)),MAX('MDA1'!K45,'MDA2'!K45,'T1'!M45,MAX(T3_R1!L45,T3_R2!L45)),COUNTRY_INFO!F45),0)","v":16231},{"$f":"IF(AND(COUNTRY_INFO!J45>1,COUNTRY_INFO!J45<4), IF(V45/COUNTRY_INFO!F45*100<>0, IF(V45/COUNTRY_INFO!F45*100>100,100,V45/COUNTRY_INFO!F45*100), \"-\"),0)","v":100},16231,{"$f":"IF(AND(COUNTRY_INFO!J45>1,COUNTRY_INFO!J45<4), IF(S45/P45*100<>0, IF(X45/P45*100>100,100,X45/P45*100), \"-\"),0)","v":70.707906774123288},{"$f":"COUNTRY_INFO!O45","v":14781.900000000001},null,null,{"$f":"MAX('T1'!L45,'T2'!J45)+MAX('T1'!M45,'T2'!K45)+MAX('T1'!N45,'T2'!L45)","v":0},{"$f":"IF(COUNTRY_INFO!K45=1,IF(COUNTRY_INFO!F45*0.33>MAX('T1'!M45,'T2'!K45),MAX('T1'!M45,'T2'!K45),COUNTRY_INFO!F45*0.33),IF(COUNTRY_INFO!K45=2,IF(COUNTRY_INFO!F45*0.5>MAX('T1'!M45,'T2'!K45),MAX('T1'!M45,'T2'!K45),COUNTRY_INFO!F45*0.5),IF(COUNTRY_INFO!K45=3,IF(COUNTRY_INFO!F45>MAX('T1'!M45,'T2'!K45),MAX('T1'!M45,'T2'!K45),COUNTRY_INFO!F45),0)))","v":0},{"$f":"IF(AND(COUNTRY_INFO!K45>0,COUNTRY_INFO!K45<4),IF(Z45>0,IF(COUNTRY_INFO!K45=1, AD45/(COUNTRY_INFO!F45*0.33)*100, IF(COUNTRY_INFO!K45=2, AD45/(COUNTRY_INFO!F45*0.5)*100, IF(COUNTRY_INFO!K45=3, AD45/COUNTRY_INFO!F45*100))),\"-\"),0)","v":0},{"$f":"IF(COUNTRY_INFO!K45=2,IF(COUNTRY_INFO!G45*0.2>MAX('T1'!N45,'T2'!L45),MAX('T1'!N45,'T2'!L45),COUNTRY_INFO!G45*0.2),IF(COUNTRY_INFO!K45=3,IF(COUNTRY_INFO!G45>MAX('T1'!N45,'T2'!L45),MAX('T1'!N45,'T2'!L45),COUNTRY_INFO!G45),0))","v":0},{"$f":"IF(AND(COUNTRY_INFO!K45>0,COUNTRY_INFO!K45<4),IF(Z45>0,IF(COUNTRY_INFO!K45=1, 0, IF(COUNTRY_INFO!K45=2, AF45/(COUNTRY_INFO!G45*0.2)*100, IF(COUNTRY_INFO!K45=3, AF45/COUNTRY_INFO!G45*100))),\"-\"),0)","v":0},0,{"$f":"IF(AND(COUNTRY_INFO!K45>0,COUNTRY_INFO!K45<4), IF(AC45/Z45*100<>0, IF(AH45/Z45*100>100,100,AH45/Z45*100), \"-\"),0)","v":"-"},null,{"$f":"IF(AND(D45<>0, D45<>\"Unknown\",D45<>\"Stopped\",D45<>\"Not required\"),D45/COUNTRY_INFO!D45, 0)","v":1},{"$f":"IF(AND(J45<>0,J45<>\"Unknown\",J45<>\"Stopped\",J45<>\"Not required\"),J45/COUNTRY_INFO!D45, 0)","v":0},{"$f":"IF(AND(P45<>0,P45<>\"Unknown\",P45<>\"Not required\"),P45/(COUNTRY_INFO!E45+COUNTRY_INFO!F45), 0)","v":1},{"$f":"IF(AND(Z45<>0,Z45<>\"Unknown\",Z45<>\"Not required\"),IF(COUNTRY_INFO!K45=1,1,IF(COUNTRY_INFO!K45=2,0.5*COUNTRY_INFO!F45/(0.5*COUNTRY_INFO!F45+0.2*COUNTRY_INFO!G45),IF(COUNTRY_INFO!K45=3,COUNTRY_INFO!F45/(COUNTRY_INFO!F45+COUNTRY_INFO!G45)))),0)","v":0.54901602635655766},{"$f":"IF(AND(Z45<>0,Z45<>\"Unknown\",Z45<>\"Not required\"),IF(COUNTRY_INFO!K45=1,0,IF(COUNTRY_INFO!K45=2,0.2*COUNTRY_INFO!G45/(0.5*COUNTRY_INFO!F45+0.2*COUNTRY_INFO!G45),IF(COUNTRY_INFO!K45=3,COUNTRY_INFO!G45/(COUNTRY_INFO!F45+COUNTRY_INFO!G45)))),0)","v":0.45098397364344234},{"$f":"MAX(COUNTRY_INFO!D45*AK45*PROFILE!$G$7,COUNTRY_INFO!D45*AL45*PROFILE!$G$7)","v":1681.1163077250242},{"$f":"MAX(COUNTRY_INFO!D45*AK45*PROFILE!$G$8,COUNTRY_INFO!D45*AL45*PROFILE!$G$8,COUNTRY_INFO!D45*AM45*PROFILE!$G$8)","v":6724.3941804602027},{"$f":"MAX(COUNTRY_INFO!D45*AK45*PROFILE!$G$9,COUNTRY_INFO!D45*AL45*PROFILE!$G$9,COUNTRY_INFO!D45*AM45*PROFILE!$G$9,IF(AND(DISTRICT!Z45<>\"Unknown\",Z45<>\"Not required\"),COUNTRY_INFO!O45*DISTRICT!AN45,0))","v":16231.311822250251},{"$f":"MAX(COUNTRY_INFO!D45*AK45*PROFILE!$G$10,COUNTRY_INFO!D45*AL45*PROFILE!$G$10,IF(AND(DISTRICT!Z45<>\"Unknown\",Z45<>\"Not required\"),COUNTRY_INFO!O45*DISTRICT!AO45,0))","v":33332.177689564523},57969,0,{"$f":"MAX('MDA2'!J45,'T1'!L45,'T2'!J45,T3_R1!K45,T3_R2!K45)","v":0},{"$f":"MAX('MDA1'!K45,'MDA2'!K45,'MDA3'!I45,'MDA3'!L45,'T1'!M45,'T2'!K45,T3_R1!L45,T3_R2!L45)","v":28936},{"$f":"MAX('MDA1'!L45,'MDA2'!L45,'MDA3'!J45,'MDA3'!M45,'T1'!N45,'T2'!L45,T3_R1!M45,T3_R2!M45)","v":22239},51175,{"$f":"MAX('MDA2'!J45,T45)","v":0},{"$f":"MAX('MDA1'!K45,'MDA2'!K45,'MDA3'!I45,'MDA3'!L45,V45,AD45)","v":28936},{"$f":"MAX('MDA1'!L45,'MDA2'!L45,'MDA3'!J45,'MDA3'!M45,AF45)","v":22239},51175,88.2799427280098]
[{"$f":"IF(COUNTRY_INFO!A46=0,\" \",COUNTRY_INFO!A46)","v":"Mozambique"},{"$f":"IF(COUNTRY_INFO!B46=0,\" \",COUNTRY_INFO!B46)","v":"Nampula"},{"$f":"IF(COUNTRY_INFO!C46=0,\" \",COUNTRY_INFO!C46)","v":"Lalaua"},{"$f":"COUNTRY_INFO!L46","v":92638},null,null,{"$f":"MAX('MDA1'!M46,'MDA2'!M46)","v":80858},{"$f":"IF(AND(COUNTRY_INFO!H46>0,COUNTRY_INFO!H46<4),IF(D46>MAX('MDA1'!M46,'MDA2'!M46),MAX('MDA1'!M46,'MDA2'!M46),D46),0)","v":80858},{"$f":"IF(AND(COUNTRY_INFO!H46>0,COUNTRY_INFO!H46<4), IF(G46/D46*100<>0, IF(G46/D46*100>100,100,G46/D46*100), \"-\"),0)","v":87.283836006822256},{"$f":"COUNTRY_INFO!M46","v":"Not required"},null,null,{"$f":"MAX('MDA1'!M46,MAX('MDA3'!I46,'MDA3'!L46)+MAX('MDA3'!J46,'MDA3'!M46))","v":80858},{"$f":"IF(AND(COUNTRY_INFO!I46>0,COUNTRY_INFO!I46<4),IF(J46>MAX('MDA1'!M46,MAX('MDA3'!I46,'MDA3'!L46)+MAX('MDA3'!J46,'MDA3'!M46)),MAX('MDA1'!M46,MAX('MDA3'!I46,'MDA3'!L46)+MAX('MDA3'!J46,'MDA3'!M46)),J46),0)","v":0},{"$f":"IF(AND(COUNTRY_INFO!I46>0,COUNTRY_INFO!I46<4), IF(M46/J46*100<>0, IF(M46/J46*100>100,100,M46/J46*100), \"-\"),0)","v":0},{"$f":"COUNTRY_INFO!N46","v":36685},38777,42081,{"$f":"SUM(MAX('MDA2'!J46, 'T1'!L46, MAX(T3_R1!K46, T3_R2!K46)), MAX('MDA1'!K46, 'MDA2'!K46, 'T1'!M46, MAX(T3_R1!L46, T3_R2!L46)), MAX('MDA1'!L46, 'MDA2'!L46, 'T1'!N46, MAX(T3_R1!M46, T3_R2!M46)))","v":80858},{"$f":"IF(AND(COUNTRY_INFO!J46>1,COUNTRY_INFO!J46<4),IF(COUNTRY_INFO!E46>MAX('MDA2'!J46,'T1'!L46,MAX(T3_R1!K46,T3_R2!K46)),MAX('MDA2'!J46,'T1'!L46,MAX(T3_R1!K46,T3_R2!K46)),COUNTRY_INFO!E46),0)","v":0},{"$f":"IF(AND(COUNTRY_INFO!J46>1,COUNTRY_INFO!J46<4), IF(T46/COUNTRY_INFO!E46*100<>0, IF(T46/COUNTRY_INFO!E46*100>100,100,T46/COUNTRY_INFO!E46*100), \"-\"),0)","v":"-"},{"$f":"IF(AND(COUNTRY_INFO!J46>1,COUNTRY_INFO!J46<4),IF(COUNTRY_INFO!F46>MAX('MDA1'!K46,'MDA2'!K46,'T1'!M46,MAX(T3_R1!L46,T3_R2!L46)),MAX('MDA1'!K46,'MDA2'!K46,'T1'!M46,MAX(T3_R1!L46,T3_R2!L46)),COUNTRY_INFO!F46),0)","v":25939},{"$f":"IF(AND(COUNTRY_INFO!J46>1,COUNTRY_INFO!J46<4), IF(V46/COUNTRY_INFO!F46*100<>0, IF(V46/COUNTRY_INFO!F46*100>100,100,V46/COUNTRY_INFO!F46*100), \"-\"),0)","v":100},25939,{"$f":"IF(AND(COUNTRY_INFO!J46>1,COUNTRY_INFO!J46<4), IF(S46/P46*100<>0, IF(X46/P46*100>100,100,X46/P46*100), \"-\"),0)","v":70.707373585934306},{"$f":"COUNTRY_INFO!O46","v":79206},null,null,{"$f":"MAX('T1'!L46,'T2'!J46)+MAX('T1'!M46,'T2'!K46)+MAX('T1'!N46,'T2'!L46)","v":23521},{"$f":"IF(COUNTRY_INFO!K46=1,IF(COUNTRY_INFO!F46*0.33>MAX('T1'!M46,'T2'!K46),MAX('T1'!M46,'T2'!K46),COUNTRY_INFO!F46*0.33),IF(COUNTRY_INFO!K46=2,IF(COUNTRY_INFO!F46*0.5>MAX('T1'!M46,'T2'!K46),MAX('T1'!M46,'T2'!K46),COUNTRY_INFO!F46*0.5),IF(COUNTRY_INFO!K46=3,IF(COUNTRY_INFO!F46>MAX('T1'!M46,'T2'!K46),MAX('T1'!M46,'T2'!K46),COUNTRY_INFO!F46),0)))","v":23521},{"$f":"IF(AND(COUNTRY_INFO!K46>0,COUNTRY_INFO!K46<4),IF(Z46>0,IF(COUNTRY_INFO!K46=1, AD46/(COUNTRY_INFO!F46*0.33)*100, IF(COUNTRY_INFO!K46=2, AD46/(COUNTRY_INFO!F46*0.5)*100, IF(COUNTRY_INFO!K46=3, AD46/COUNTRY_INFO!F46*100))),\"-\"),0)","v":90.678129457573547},{"$f":"IF(COUNTRY_INFO!K46=2,IF(COUNTRY_INFO!G46*0.2>MAX('T1'!N46,'T2'!L46),MAX('T1'!N46,'T2'!L46),COUNTRY_INFO!G46*0.2),IF(COUNTRY_INFO!K46=3,IF(COUNTRY_INFO!G46>MAX('T1'!N46,'T2'!L46),MAX('T1'!N46,'T2'!L46),COUNTRY_INFO!G46),0))","v":0},{"$f":"IF(AND(COUNTRY_INFO!K46>0,COUNTRY_INFO!K46<4),IF(Z46>0,IF(COUNTRY_INFO!K46=1, 0, IF(COUNTRY_INFO!K46=2, AF46/(COUNTRY_INFO!G46*0.2)*100, IF(COUNTRY_INFO!K46=3, AF46/COUNTRY_INFO!G46*100))),\"-\"),0)","v":0},23521,{"$f":"IF(AND(COUNTRY_INFO!K46>0,COUNTRY_INFO!K46<4), IF(AC46/Z46*100<>0, IF(AH46/Z46*100>100,100,AH46/Z46*100), \"-\"),0)","v":29.695982627578722},null,{"$f":"IF(AND(D46<>0, D46<>\"Unknown\",D46<>\"Stopped\",D46<>\"Not required\"),D46/COUNTRY_INFO!D46, 0)","v":1},{"$f":"IF(AND(J46<>0,J46<>\"Unknown\",J46<>\"Stopped\",J46<>\"Not required\"),J46/COUNTRY_INFO!D46, 0)","v":0},{"$f":"IF(AND(P46<>0,P46<>\"Unknown\",P46<>\"Not required\"),P46/(COUNTRY_INFO!E46+COUNTRY_INFO!F46), 0)","v":1},{"$f":"IF(AND(Z46<>0,Z46<>\"Unknown\",Z46<>\"Not required\"),IF(COUNTRY_INFO!K46=1,1,IF(COUNTRY_INFO!K46=2,0.5*COUNTRY_INFO!F46/(0.5*COUNTRY_INFO!F46+0.2*COUNTRY_INFO!G46),IF(COUNTRY_INFO!K46=3,COUNTRY_INFO!F46/(COUNTRY_INFO!F46+COUNTRY_INFO!G46)))),0)","v":0.32748781657955206},{"$f":"IF(AND(Z46<>0,Z46<>\"Unknown\",Z46<>\"Not required\"),IF(COUNTRY_INFO!K46=1,0,IF(COUNTRY_INFO!K46=2,0.2*COUNTRY_INFO!G46/(0.5*COUNTRY_INFO!F46+0.2*COUNTRY_INFO!G46),IF(COUNTRY_INFO!K46=3,COUNTRY_INFO!G46/(COUNTRY_INFO!F46+COUNTRY_INFO!G46)))),0)","v":0.67251218342044794},{"$f":"MAX(COUNTRY_INFO!D46*AK46*PROFILE!$G$7,COUNTRY_INFO!D46*AL46*PROFILE!$G$7)","v":2686.5264626788589},{"$f":"MAX(COUNTRY_INFO!D46*AK46*PROFILE!$G$8,COUNTRY_INFO!D46*AL46*PROFILE!$G$8,COUNTRY_INFO!D46*AM46*PROFILE!$G$8)","v":10745.99230777609},{"$f":"MAX(COUNTRY_INFO!D46*AK46*PROFILE!$G$9,COUNTRY_INFO!D46*AL46*PROFILE!$G$9,COUNTRY_INFO!D46*AM46*PROFILE!$G$9,IF(AND(DISTRICT!Z46<>\"Unknown\",Z46<>\"Not required\"),COUNTRY_INFO!O46*DISTRICT!AN46,0))","v":25939},{"$f":"MAX(COUNTRY_INFO!D46*AK46*PROFILE!$G$10,COUNTRY_INFO!D46*AL46*PROFILE!$G$10,IF(AND(DISTRICT!Z46<>\"Unknown\",Z46<>\"Not required\"),COUNTRY_INFO!O46*DISTRICT!AO46,0))","v":53267},92638.518770454946,"Y",{"$f":"MAX('MDA2'!J46,'T1'!L46,'T2'!J46,T3_R1!K46,T3_R2!K46)","v":0},{"$f":"MAX('MDA1'!K46,'MDA2'!K46,'MDA3'!I46,'MDA3'!L46,'T1'!M46,'T2'!K46,T3_R1!L46,T3_R2!L46)","v":41340},{"$f":"MAX('MDA1'!L46,'MDA2'!L46,'MDA3'!J46,'MDA3'!M46,'T1'!N46,'T2'!L46,T3_R1!M46,T3_R2!M46)","v":39518},80858,{"$f":"MAX('MDA2'!J46,T46)","v":0},{"$f":"MAX('MDA1'!K46,'MDA2'!K46,'MDA3'!I46,'MDA3'!L46,V46,AD46)","v":41340},{"$f":"MAX('MDA1'!L46,'MDA2'!L46,'MDA3'!J46,'MDA3'!M46,AF46)","v":39518},80858,87.283347222287304]
[{"$f":"IF(COUNTRY_INFO!A47=0,\" \",COUNTRY_INFO!A47)","v":"Mozambique"},{"$f":"IF(COUNTRY_INFO!B47=0,\" \",COUNTRY_INFO!B47)","v":"Nampula"},{"$f":"IF(COUNTRY_INFO!C47=0,\" \",COUNTRY_INFO!C47)","v":"Larde"},{"$f":"COUNTRY_INFO!L47","v":95395.374105604555},null,null,{"$f":"MAX('MDA1'!M47,'MDA2'!M47)","v":83803},{"$f":"IF(AND(COUNTRY_INFO!H47>0,COUNTRY_INFO!H47<4),IF(D47>MAX('MDA1'!M47,'MDA2'!M47),MAX('MDA1'!M47,'MDA2'!M47),D47),0)","v":83803},{"$f":"IF(AND(COUNTRY_INFO!H47>0,COUNTRY_INFO!H47<4), IF(G47/D47*100<>0, IF(G47/D47*100>100,100,G47/D47*100), \"-\"),0)","v":87.848075219274719},{"$f":"COUNTRY_INFO!M47","v":"Not required"},null,null,{"$f":"MAX('MDA1'!M47,MAX('MDA3'!I47,'MDA3'!L47)+MAX('MDA3'!J47,'MDA3'!M47))","v":83803},{"$f":"IF(AND(COUNTRY_INFO!I47>0,COUNTRY_INFO!I47<4),IF(J47>MAX('MDA1'!M47,MAX('MDA3'!I47,'MDA3'!L47)+MAX('MDA3'!J47,'MDA3'!M47)),MAX('MDA1'!M47,MAX('MDA3'!I47,'MDA3'!L47)+MAX('MDA3'!J47,'MDA3'!M47)),J47),0)","v":0},{"$f":"IF(AND(COUNTRY_INFO!I47>0,COUNTRY_INFO!I47<4), IF(M47/J47*100<>0, IF(M47/J47*100>100,100,M47/J47*100), \"-\"),0)","v":0},{"$f":"COUNTRY_INFO!N47","v":37777},42080,41723,{"$f":"SUM(MAX('MDA2'!J47, 'T1'!L47, MAX(T3_R1!K47, T3_R2!K47)), MAX('MDA1'!K47, 'MDA2'!K47, 'T1'!M47, MAX(T3_R1!L47, T3_R2!L47)), MAX('MDA1'!L47, 'MDA2'!L47, 'T1'!N47, MAX(T3_R1!M47, T3_R2!M47)))","v":83803},{"$f":"IF(AND(COUNTRY_INFO!J47>1,COUNTRY_INFO!J47<4),IF(COUNTRY_INFO!E47>MAX('MDA2'!J47,'T1'!L47,MAX(T3_R1!K47,T3_R2!K47)),MAX('MDA2'!J47,'T1'!L47,MAX(T3_R1!K47,T3_R2!K47)),COUNTRY_INFO!E47),0)","v":0},{"$f":"IF(AND(COUNTRY_INFO!J47>1,COUNTRY_INFO!J47<4), IF(T47/COUNTRY_INFO!E47*100<>0, IF(T47/COUNTRY_INFO!E47*100>100,100,T47/COUNTRY_INFO!E47*100), \"-\"),0)","v":"-"},{"$f":"IF(AND(COUNTRY_INFO!J47>1,COUNTRY_INFO!J47<4),IF(COUNTRY_INFO!F47>MAX('MDA1'!K47,'MDA2'!K47,'T1'!M47,MAX(T3_R1!L47,T3_R2!L47)),MAX('MDA1'!K47,'MDA2'!K47,'T1'!M47,MAX(T3_R1!L47,T3_R2!L47)),COUNTRY_INFO!F47),0)","v":26711},{"$f":"IF(AND(COUNTRY_INFO!J47>1,COUNTRY_INFO!J47<4), IF(V47/COUNTRY_INFO!F47*100<>0, IF(V47/COUNTRY_INFO!F47*100>100,100,V47/COUNTRY_INFO!F47*100), \"-\"),0)","v":100},26711,{"$f":"IF(AND(COUNTRY_INFO!J47>1,COUNTRY_INFO!J47<4), IF(S47/P47*100<>0, IF(X47/P47*100>100,100,X47/P47*100), \"-\"),0)","v":70.707043968552298},{"$f":"COUNTRY_INFO!O47","v":81563},null,null,{"$f":"MAX('T1'!L47,'T2'!J47)+MAX('T1'!M47,'T2'!K47)+MAX('T1'!N47,'T2'!L47)","v":23671},{"$f":"IF(COUNTRY_INFO!K47=1,IF(COUNTRY_INFO!F47*0.33>MAX('T1'!M47,'T2'!K47),MAX('T1'!M47,'T2'!K47),COUNTRY_INFO!F47*0.33),IF(COUNTRY_INFO!K47=2,IF(COUNTRY_INFO!F47*0.5>MAX('T1'!M47,'T2'!K47),MAX('T1'!M47,'T2'!K47),COUNTRY_INFO!F47*0.5),IF(COUNTRY_INFO!K47=3,IF(COUNTRY_INFO!F47>MAX('T1'!M47,'T2'!K47),MAX('T1'!M47,'T2'!K47),COUNTRY_INFO!F47),0)))","v":23671},{"$f":"IF(AND(COUNTRY_INFO!K47>0,COUNTRY_INFO!K47<4),IF(Z47>0,IF(COUNTRY_INFO!K47=1, AD47/(COUNTRY_INFO!F47*0.33)*100, IF(COUNTRY_INFO!K47=2, AD47/(COUNTRY_INFO!F47*0.5)*100, IF(COUNTRY_INFO!K47=3, AD47/COUNTRY_INFO!F47*100))),\"-\"),0)","v":88.618921043764743},{"$f":"IF(COUNTRY_INFO!K47=2,IF(COUNTRY_INFO!G47*0.2>MAX('T1'!N47,'T2'!L47),MAX('T1'!N47,'T2'!L47),COUNTRY_INFO!G47*0.2),IF(COUNTRY_INFO!K47=3,IF(COUNTRY_INFO!G47>MAX('T1'!N47,'T2'!L47),MAX('T1'!N47,'T2'!L47),COUNTRY_INFO!G47),0))","v":0},{"$f":"IF(AND(COUNTRY_INFO!K47>0,COUNTRY_INFO!K47<4),IF(Z47>0,IF(COUNTRY_INFO!K47=1, 0, IF(COUNTRY_INFO!K47=2, AF47/(COUNTRY_INFO!G47*0.2)*100, IF(COUNTRY_INFO!K47=3, AF47/COUNTRY_INFO!G47*100))),\"-\"),0)","v":0},23671,{"$f":"IF(AND(COUNTRY_INFO!K47>0,COUNTRY_INFO!K47<4), IF(AC47/Z47*100<>0, IF(AH47/Z47*100>100,100,AH47/Z47*100), \"-\"),0)","v":29.021737797775955},null,{"$f":"IF(AND(D47<>0, D47<>\"Unknown\",D47<>\"Stopped\",D47<>\"Not required\"),D47/COUNTRY_INFO!D47, 0)","v":1},{"$f":"IF(AND(J47<>0,J47<>\"Unknown\",J47<>\"Stopped\",J47<>\"Not required\"),J47/COUNTRY_INFO!D47, 0)","v":0},{"$f":"IF(AND(P47<>0,P47<>\"Unknown\",P47<>\"Not required\"),P47/(COUNTRY_INFO!E47+COUNTRY_INFO!F47), 0)","v":1},{"$f":"IF(AND(Z47<>0,Z47<>\"Unknown\",Z47<>\"Not required\"),IF(COUNTRY_INFO!K47=1,1,IF(COUNTRY_INFO!K47=2,0.5*COUNTRY_INFO!F47/(0.5*COUNTRY_INFO!F47+0.2*COUNTRY_INFO!G47),IF(COUNTRY_INFO!K47=3,COUNTRY_INFO!F47/(COUNTRY_INFO!F47+COUNTRY_INFO!G47)))),0)","v":0.32748918014295697},{"$f":"IF(AND(Z47<>0,Z47<>\"Unknown\",Z47<>\"Not required\"),IF(COUNTRY_INFO!K47=1,0,IF(COUNTRY_INFO!K47=2,0.2*COUNTRY_INFO!G47/(0.5*COUNTRY_INFO!F47+0.2*COUNTRY_INFO!G47),IF(COUNTRY_INFO!K47=3,COUNTRY_INFO!G47/(COUNTRY_INFO!F47+COUNTRY_INFO!G47)))),0)","v":0.67251081985704297},{"$f":"MAX(COUNTRY_INFO!D47*AK47*PROFILE!$G$7,COUNTRY_INFO!D47*AL47*PROFILE!$G$7)","v":2766.4910398740931},{"$f":"MAX(COUNTRY_INFO!D47*AK47*PROFILE!$G$8,COUNTRY_INFO!D47*AL47*PROFILE!$G$8,COUNTRY_INFO!D47*AM47*PROFILE!$G$8)","v":11065.847236946491},{"$f":"MAX(COUNTRY_INFO!D47*AK47*PROFILE!$G$9,COUNTRY_INFO!D47*AL47*PROFILE!$G$9,COUNTRY_INFO!D47*AM47*PROFILE!$G$9,IF(AND(DISTRICT!Z47<>\"Unknown\",Z47<>\"Not required\"),COUNTRY_INFO!O47*DISTRICT!AN47,0))","v":26711},{"$f":"MAX(COUNTRY_INFO!D47*AK47*PROFILE!$G$10,COUNTRY_INFO!D47*AL47*PROFILE!$G$10,IF(AND(DISTRICT!Z47<>\"Unknown\",Z47<>\"Not required\"),COUNTRY_INFO!O47*DISTRICT!AO47,0))","v":54852.344536743658},95395.682813564243,"Y",{"$f":"MAX('MDA2'!J47,'T1'!L47,'T2'!J47,T3_R1!K47,T3_R2!K47)","v":0},{"$f":"MAX('MDA1'!K47,'MDA2'!K47,'MDA3'!I47,'MDA3'!L47,'T1'!M47,'T2'!K47,T3_R1!L47,T3_R2!L47)","v":40116},{"$f":"MAX('MDA1'!L47,'MDA2'!L47,'MDA3'!J47,'MDA3'!M47,'T1'!N47,'T2'!L47,T3_R1!M47,T3_R2!M47)","v":43687},83803,{"$f":"MAX('MDA2'!J47,T47)","v":0},{"$f":"MAX('MDA1'!K47,'MDA2'!K47,'MDA3'!I47,'MDA3'!L47,V47,AD47)","v":40116},{"$f":"MAX('MDA1'!L47,'MDA2'!L47,'MDA3'!J47,'MDA3'!M47,AF47)","v":43687},83803,87.847790935968973]
[{"$f":"IF(COUNTRY_INFO!A48=0,\" \",COUNTRY_INFO!A48)","v":"Mozambique"},{"$f":"IF(COUNTRY_INFO!B48=0,\" \",COUNTRY_INFO!B48)","v":"Nampula"},{"$f":"IF(COUNTRY_INFO!C48=0,\" \",COUNTRY_INFO!C48)","v":"Liupo"},{"$f":"COUNTRY_INFO!L48","v":88360},null,null,{"$f":"MAX('MDA1'!M48,'MDA2'!M48)","v":73763},{"$f":"IF(AND(COUNTRY_INFO!H48>0,COUNTRY_INFO!H48<4),IF(D48>MAX('MDA1'!M48,'MDA2'!M48),MAX('MDA1'!M48,'MDA2'!M48),D48),0)","v":73763},{"$f":"IF(AND(COUNTRY_INFO!H48>0,COUNTRY_INFO!H48<4), IF(G48/D48*100<>0, IF(G48/D48*100>100,100,G48/D48*100), \"-\"),0)","v":83.48008148483477},{"$f":"COUNTRY_INFO!M48","v":"Not required"},null,null,{"$f":"MAX('MDA1'!M48,MAX('MDA3'!I48,'MDA3'!L48)+MAX('MDA3'!J48,'MDA3'!M48))","v":73763},{"$f":"IF(AND(COUNTRY_INFO!I48>0,COUNTRY_INFO!I48<4),IF(J48>MAX('MDA1'!M48,MAX('MDA3'!I48,'MDA3'!L48)+MAX('MDA3'!J48,'MDA3'!M48)),MAX('MDA1'!M48,MAX('MDA3'!I48,'MDA3'!L48)+MAX('MDA3'!J48,'MDA3'!M48)),J48),0)","v":0},{"$f":"IF(AND(COUNTRY_INFO!I48>0,COUNTRY_INFO!I48<4), IF(M48/J48*100<>0, IF(M48/J48*100>100,100,M48/J48*100), \"-\"),0)","v":0},{"$f":"COUNTRY_INFO!N48","v":34991},37118,36645,{"$f":"SUM(MAX('MDA2'!J48, 'T1'!L48, MAX(T3_R1!K48, T3_R2!K48)), MAX('MDA1'!K48, 'MDA2'!K48, 'T1'!M48, MAX(T3_R1!L48, T3_R2!L48)), MAX('MDA1'!L48, 'MDA2'!L48, 'T1'!N48, MAX(T3_R1!M48, T3_R2!M48)))","v":73763},{"$f":"IF(AND(COUNTRY_INFO!J48>1,COUNTRY_INFO!J48<4),IF(COUNTRY_INFO!E48>MAX('MDA2'!J48,'T1'!L48,MAX(T3_R1!K48,T3_R2!K48)),MAX('MDA2'!J48,'T1'!L48,MAX(T3_R1!K48,T3_R2!K48)),COUNTRY_INFO!E48),0)","v":0},{"$f":"IF(AND(COUNTRY_INFO!J48>1,COUNTRY_INFO!J48<4), IF(T48/COUNTRY_INFO!E48*100<>0, IF(T48/COUNTRY_INFO!E48*100>100,100,T48/COUNTRY_INFO!E48*100), \"-\"),0)","v":"-"},{"$f":"IF(AND(COUNTRY_INFO!J48>1,COUNTRY_INFO!J48<4),IF(COUNTRY_INFO!F48>MAX('MDA1'!K48,'MDA2'!K48,'T1'!M48,MAX(T3_R1!L48,T3_R2!L48)),MAX('MDA1'!K48,'MDA2'!K48,'T1'!M48,MAX(T3_R1!L48,T3_R2!L48)),COUNTRY_INFO!F48),0)","v":24741},{"$f":"IF(AND(COUNTRY_INFO!J48>1,COUNTRY_INFO!J48<4), IF(V48/COUNTRY_INFO!F48*100<>0, IF(V48/COUNTRY_INFO!F48*100>100,100,V48/COUNTRY_INFO!F48*100), \"-\"),0)","v":100},24741,{"$f":"IF(AND(COUNTRY_INFO!J48>1,COUNTRY_INFO!J48<4), IF(S48/P48*100<>0, IF(X48/P48*100>100,100,X48/P48*100), \"-\"),0)","v":70.706753165099599},{"$f":"COUNTRY_INFO!O48","v":75548},null,null,{"$f":"MAX('T1'!L48,'T2'!J48)+MAX('T1'!M48,'T2'!K48)+MAX('T1'!N48,'T2'!L48)","v":20543},{"$f":"IF(COUNTRY_INFO!K48=1,IF(COUNTRY_INFO!F48*0.33>MAX('T1'!M48,'T2'!K48),MAX('T1'!M48,'T2'!K48),COUNTRY_INFO!F48*0.33),IF(COUNTRY_INFO!K48=2,IF(COUNTRY_INFO!F48*0.5>MAX('T1'!M48,'T2'!K48),MAX('T1'!M48,'T2'!K48),COUNTRY_INFO!F48*0.5),IF(COUNTRY_INFO!K48=3,IF(COUNTRY_INFO!F48>MAX('T1'!M48,'T2'!K48),MAX('T1'!M48,'T2'!K48),COUNTRY_INFO!F48),0)))","v":20543},{"$f":"IF(AND(COUNTRY_INFO!K48>0,COUNTRY_INFO!K48<4),IF(Z48>0,IF(COUNTRY_INFO!K48=1, AD48/(COUNTRY_INFO!F48*0.33)*100, IF(COUNTRY_INFO!K48=2, AD48/(COUNTRY_INFO!F48*0.5)*100, IF(COUNTRY_INFO!K48=3, AD48/COUNTRY_INFO!F48*100))),\"-\"),0)","v":83.032213734287225},{"$f":"IF(COUNTRY_INFO!K48=2,IF(COUNTRY_INFO!G48*0.2>MAX('T1'!N48,'T2'!L48),MAX('T1'!N48,'T2'!L48),COUNTRY_INFO!G48*0.2),IF(COUNTRY_INFO!K48=3,IF(COUNTRY_INFO!G48>MAX('T1'!N48,'T2'!L48),MAX('T1'!N48,'T2'!L48),COUNTRY_INFO!G48),0))","v":0},{"$f":"IF(AND(COUNTRY_INFO!K48>0,COUNTRY_INFO!K48<4),IF(Z48>0,IF(COUNTRY_INFO!K48=1, 0, IF(COUNTRY_INFO!K48=2, AF48/(COUNTRY_INFO!G48*0.2)*100, IF(COUNTRY_INFO!K48=3, AF48/COUNTRY_INFO!G48*100))),\"-\"),0)","v":0},20543,{"$f":"IF(AND(COUNTRY_INFO!K48>0,COUNTRY_INFO!K48<4), IF(AC48/Z48*100<>0, IF(AH48/Z48*100>100,100,AH48/Z48*100), \"-\"),0)","v":27.191983904272782},null,{"$f":"IF(AND(D48<>0, D48<>\"Unknown\",D48<>\"Stopped\",D48<>\"Not required\"),D48/COUNTRY_INFO!D48, 0)","v":1},{"$f":"IF(AND(J48<>0,J48<>\"Unknown\",J48<>\"Stopped\",J48<>\"Not required\"),J48/COUNTRY_INFO!D48, 0)","v":0},{"$f":"IF(AND(P48<>0,P48<>\"Unknown\",P48<>\"Not required\"),P48/(COUNTRY_INFO!E48+COUNTRY_INFO!F48), 0)","v":1},{"$f":"IF(AND(Z48<>0,Z48<>\"Unknown\",Z48<>\"Not required\"),IF(COUNTRY_INFO!K48=1,1,IF(COUNTRY_INFO!K48=2,0.5*COUNTRY_INFO!F48/(0.5*COUNTRY_INFO!F48+0.2*COUNTRY_INFO!G48),IF(COUNTRY_INFO!K48=3,COUNTRY_INFO!F48/(COUNTRY_INFO!F48+COUNTRY_INFO!G48)))),0)","v":0.32748716048075394},{"$f":"IF(AND(Z48<>0,Z48<>\"Unknown\",Z48<>\"Not required\"),IF(COUNTRY_INFO!K48=1,0,IF(COUNTRY_INFO!K48=2,0.2*COUNTRY_INFO!G48/(0.5*COUNTRY_INFO!F48+0.2*COUNTRY_INFO!G48),IF(COUNTRY_INFO!K48=3,COUNTRY_INFO!G48/(COUNTRY_INFO!F48+COUNTRY_INFO!G48)))),0)","v":0.67251283951924601},{"$f":"MAX(COUNTRY_INFO!D48*AK48*PROFILE!$G$7,COUNTRY_INFO!D48*AL48*PROFILE!$G$7)","v":2562.4633329983808},{"$f":"MAX(COUNTRY_INFO!D48*AK48*PROFILE!$G$8,COUNTRY_INFO!D48*AL48*PROFILE!$G$8,COUNTRY_INFO!D48*AM48*PROFILE!$G$8)","v":10249.745032439123},{"$f":"MAX(COUNTRY_INFO!D48*AK48*PROFILE!$G$9,COUNTRY_INFO!D48*AL48*PROFILE!$G$9,COUNTRY_INFO!D48*AM48*PROFILE!$G$9,IF(AND(DISTRICT!Z48<>\"Unknown\",Z48<>\"Not required\"),COUNTRY_INFO!O48*DISTRICT!AN48,0))","v":24741},{"$f":"MAX(COUNTRY_INFO!D48*AK48*PROFILE!$G$10,COUNTRY_INFO!D48*AL48*PROFILE!$G$10,IF(AND(DISTRICT!Z48<>\"Unknown\",Z48<>\"Not required\"),COUNTRY_INFO!O48*DISTRICT!AO48,0))","v":50807.004099603604},88360.212465041113,"Y",{"$f":"MAX('MDA2'!J48,'T1'!L48,'T2'!J48,T3_R1!K48,T3_R2!K48)","v":0},{"$f":"MAX('MDA1'!K48,'MDA2'!K48,'MDA3'!I48,'MDA3'!L48,'T1'!M48,'T2'!K48,T3_R1!L48,T3_R2!L48)","v":36267},{"$f":"MAX('MDA1'!L48,'MDA2'!L48,'MDA3'!J48,'MDA3'!M48,'T1'!N48,'T2'!L48,T3_R1!M48,T3_R2!M48)","v":37496},73763,{"$f":"MAX('MDA2'!J48,T48)","v":0},{"$f":"MAX('MDA1'!K48,'MDA2'!K48,'MDA3'!I48,'MDA3'!L48,V48,AD48)","v":36267},{"$f":"MAX('MDA1'!L48,'MDA2'!L48,'MDA3'!J48,'MDA3'!M48,AF48)","v":37496},73763,83.479880754229328]
[{"$f":"IF(COUNTRY_INFO!A49=0,\" \",COUNTRY_INFO!A49)","v":"Mozambique"},{"$f":"IF(COUNTRY_INFO!B49=0,\" \",COUNTRY_INFO!B49)","v":"Nampula"},{"$f":"IF(COUNTRY_INFO!C49=0,\" \",COUNTRY_INFO!C49)","v":"Malema"},{"$f":"COUNTRY_INFO!L49","v":205924},null,null,{"$f":"MAX('MDA1'!M49,'MDA2'!M49)","v":182813},{"$f":"IF(AND(COUNTRY_INFO!H49>0,COUNTRY_INFO!H49<4),IF(D49>MAX('MDA1'!M49,'MDA2'!M49),MAX('MDA1'!M49,'MDA2'!M49),D49),0)","v":182813},{"$f":"IF(AND(COUNTRY_INFO!H49>0,COUNTRY_INFO!H49<4), IF(G49/D49*100<>0, IF(G49/D49*100>100,100,G49/D49*100), \"-\"),0)","v":88.776927410112478},{"$f":"COUNTRY_INFO!M49","v":"Not required"},null,null,{"$f":"MAX('MDA1'!M49,MAX('MDA3'!I49,'MDA3'!L49)+MAX('MDA3'!J49,'MDA3'!M49))","v":182813},{"$f":"IF(AND(COUNTRY_INFO!I49>0,COUNTRY_INFO!I49<4),IF(J49>MAX('MDA1'!M49,MAX('MDA3'!I49,'MDA3'!L49)+MAX('MDA3'!J49,'MDA3'!M49)),MAX('MDA1'!M49,MAX('MDA3'!I49,'MDA3'!L49)+MAX('MDA3'!J49,'MDA3'!M49)),J49),0)","v":0},{"$f":"IF(AND(COUNTRY_INFO!I49>0,COUNTRY_INFO!I49<4), IF(M49/J49*100<>0, IF(M49/J49*100>100,100,M49/J49*100), \"-\"),0)","v":0},{"$f":"COUNTRY_INFO!N49","v":81546},83892,98921,{"$f":"SUM(MAX('MDA2'!J49, 'T1'!L49, MAX(T3_R1!K49, T3_R2!K49)), MAX('MDA1'!K49, 'MDA2'!K49, 'T1'!M49, MAX(T3_R1!L49, T3_R2!L49)), MAX('MDA1'!L49, 'MDA2'!L49, 'T1'!N49, MAX(T3_R1!M49, T3_R2!M49)))","v":182813},{"$f":"IF(AND(COUNTRY_INFO!J49>1,COUNTRY_INFO!J49<4),IF(COUNTRY_INFO!E49>MAX('MDA2'!J49,'T1'!L49,MAX(T3_R1!K49,T3_R2!K49)),MAX('MDA2'!J49,'T1'!L49,MAX(T3_R1!K49,T3_R2!K49)),COUNTRY_INFO!E49),0)","v":0},{"$f":"IF(AND(COUNTRY_INFO!J49>1,COUNTRY_INFO!J49<4), IF(T49/COUNTRY_INFO!E49*100<>0, IF(T49/COUNTRY_INFO!E49*100>100,100,T49/COUNTRY_INFO!E49*100), \"-\"),0)","v":"-"},{"$f":"IF(AND(COUNTRY_INFO!J49>1,COUNTRY_INFO!J49<4),IF(COUNTRY_INFO!F49>MAX('MDA1'!K49,'MDA2'!K49,'T1'!M49,MAX(T3_R1!L49,T3_R2!L49)),MAX('MDA1'!K49,'MDA2'!K49,'T1'!M49,MAX(T3_R1!L49,T3_R2!L49)),COUNTRY_INFO!F49),0)","v":57659},{"$f":"IF(AND(COUNTRY_INFO!J49>1,COUNTRY_INFO!J49<4), IF(V49/COUNTRY_INFO!F49*100<>0, IF(V49/COUNTRY_INFO!F49*100>100,100,V49/COUNTRY_INFO!F49*100), \"-\"),0)","v":100},57659,{"$f":"IF(AND(COUNTRY_INFO!J49>1,COUNTRY_INFO!J49<4), IF(S49/P49*100<>0, IF(X49/P49*100>100,100,X49/P49*100), \"-\"),0)","v":70.707330831677822},{"$f":"COUNTRY_INFO!O49","v":176065},null,null,{"$f":"MAX('T1'!L49,'T2'!J49)+MAX('T1'!M49,'T2'!K49)+MAX('T1'!N49,'T2'!L49)","v":56051},{"$f":"IF(COUNTRY_INFO!K49=1,IF(COUNTRY_INFO!F49*0.33>MAX('T1'!M49,'T2'!K49),MAX('T1'!M49,'T2'!K49),COUNTRY_INFO!F49*0.33),IF(COUNTRY_INFO!K49=2,IF(COUNTRY_INFO!F49*0.5>MAX('T1'!M49,'T2'!K49),MAX('T1'!M49,'T2'!K49),COUNTRY_INFO!F49*0.5),IF(COUNTRY_INFO!K49=3,IF(COUNTRY_INFO!F49>MAX('T1'!M49,'T2'!K49),MAX('T1'!M49,'T2'!K49),COUNTRY_INFO!F49),0)))","v":56051},{"$f":"IF(AND(COUNTRY_INFO!K49>0,COUNTRY_INFO!K49<4),IF(Z49>0,IF(COUNTRY_INFO!K49=1, AD49/(COUNTRY_INFO!F49*0.33)*100, IF(COUNTRY_INFO!K49=2, AD49/(COUNTRY_INFO!F49*0.5)*100, IF(COUNTRY_INFO!K49=3, AD49/COUNTRY_INFO!F49*100))),\"-\"),0)","v":97.211189926984503},{"$f":"IF(COUNTRY_INFO!K49=2,IF(COUNTRY_INFO!G49*0.2>MAX('T1'!N49,'T2'!L49),MAX('T1'!N49,'T2'!L49),COUNTRY_INFO!G49*0.2),IF(COUNTRY_INFO!K49=3,IF(COUNTRY_INFO!G49>MAX('T1'!N49,'T2'!L49),MAX('T1'!N49,'T2'!L49),COUNTRY_INFO!G49),0))","v":0},{"$f":"IF(AND(COUNTRY_INFO!K49>0,COUNTRY_INFO!K49<4),IF(Z49>0,IF(COUNTRY_INFO!K49=1, 0, IF(COUNTRY_INFO!K49=2, AF49/(COUNTRY_INFO!G49*0.2)*100, IF(COUNTRY_INFO!K49=3, AF49/COUNTRY_INFO!G49*100))),\"-\"),0)","v":0},56051,{"$f":"IF(AND(COUNTRY_INFO!K49>0,COUNTRY_INFO!K49<4), IF(AC49/Z49*100<>0, IF(AH49/Z49*100>100,100,AH49/Z49*100), \"-\"),0)","v":31.835401698236449},null,{"$f":"IF(AND(D49<>0, D49<>\"Unknown\",D49<>\"Stopped\",D49<>\"Not required\"),D49/COUNTRY_INFO!D49, 0)","v":1},{"$f":"IF(AND(J49<>0,J49<>\"Unknown\",J49<>\"Stopped\",J49<>\"Not required\"),J49/COUNTRY_INFO!D49, 0)","v":0},{"$f":"IF(AND(P49<>0,P49<>\"Unknown\",P49<>\"Not required\"),P49/(COUNTRY_INFO!E49+COUNTRY_INFO!F49), 0)","v":1},{"$f":"IF(AND(Z49<>0,Z49<>\"Unknown\",Z49<>\"Not required\"),IF(COUNTRY_INFO!K49=1,1,IF(COUNTRY_INFO!K49=2,0.5*COUNTRY_INFO!F49/(0.5*COUNTRY_INFO!F49+0.2*COUNTRY_INFO!G49),IF(COUNTRY_INFO!K49=3,COUNTRY_INFO!F49/(COUNTRY_INFO!F49+COUNTRY_INFO!G49)))),0)","v":0.32748700763922417},{"$f":"IF(AND(Z49<>0,Z49<>\"Unknown\",Z49<>\"Not required\"),IF(COUNTRY_INFO!K49=1,0,IF(COUNTRY_INFO!K49=2,0.2*COUNTRY_INFO!G49/(0.5*COUNTRY_INFO!F49+0.2*COUNTRY_INFO!G49),IF(COUNTRY_INFO!K49=3,COUNTRY_INFO!G49/(COUNTRY_INFO!F49+COUNTRY_INFO!G49)))),0)","v":0.67251299236077589},{"$f":"MAX(COUNTRY_INFO!D49*AK49*PROFILE!$G$7,COUNTRY_INFO!D49*AL49*PROFILE!$G$7)","v":5971.8503778220747},{"$f":"MAX(COUNTRY_INFO!D49*AK49*PROFILE!$G$8,COUNTRY_INFO!D49*AL49*PROFILE!$G$8,COUNTRY_INFO!D49*AM49*PROFILE!$G$8)","v":23887.149117926594},{"$f":"MAX(COUNTRY_INFO!D49*AK49*PROFILE!$G$9,COUNTRY_INFO!D49*AL49*PROFILE!$G$9,COUNTRY_INFO!D49*AM49*PROFILE!$G$9,IF(AND(DISTRICT!Z49<>\"Unknown\",Z49<>\"Not required\"),COUNTRY_INFO!O49*DISTRICT!AN49,0))","v":57659},{"$f":"MAX(COUNTRY_INFO!D49*AK49*PROFILE!$G$10,COUNTRY_INFO!D49*AL49*PROFILE!$G$10,IF(AND(DISTRICT!Z49<>\"Unknown\",Z49<>\"Not required\"),COUNTRY_INFO!O49*DISTRICT!AO49,0))","v":118406.30955417352},205924.30904992219,"Y",{"$f":"MAX('MDA2'!J49,'T1'!L49,'T2'!J49,T3_R1!K49,T3_R2!K49)","v":0},{"$f":"MAX('MDA1'!K49,'MDA2'!K49,'MDA3'!I49,'MDA3'!L49,'T1'!M49,'T2'!K49,T3_R1!L49,T3_R2!L49)","v":97905},{"$f":"MAX('MDA1'!L49,'MDA2'!L49,'MDA3'!J49,'MDA3'!M49,'T1'!N49,'T2'!L49,T3_R1!M49,T3_R2!M49)","v":84908},182813,{"$f":"MAX('MDA2'!J49,T49)","v":0},{"$f":"MAX('MDA1'!K49,'MDA2'!K49,'MDA3'!I49,'MDA3'!L49,V49,AD49)","v":97905},{"$f":"MAX('MDA1'!L49,'MDA2'!L49,'MDA3'!J49,'MDA3'!M49,AF49)","v":84908},182813,88.776794174251989]
[{"$f":"IF(COUNTRY_INFO!A50=0,\" \",COUNTRY_INFO!A50)","v":"Mozambique"},{"$f":"IF(COUNTRY_INFO!B50=0,\" \",COUNTRY_INFO!B50)","v":"Nampula"},{"$f":"IF(COUNTRY_INFO!C50=0,\" \",COUNTRY_INFO!C50)","v":"Meconta"},{"$f":"COUNTRY_INFO!L50","v":206462},null,null,{"$f":"MAX('MDA1'!M50,'MDA2'!M50)","v":169880},{"$f":"IF(AND(COUNTRY_INFO!H50>0,COUNTRY_INFO!H50<4),IF(D50>MAX('MDA1'!M50,'MDA2'!M50),MAX('MDA1'!M50,'MDA2'!M50),D50),0)","v":169880},{"$f":"IF(AND(COUNTRY_INFO!H50>0,COUNTRY_INFO!H50<4), IF(G50/D50*100<>0, IF(G50/D50*100>100,100,G50/D50*100), \"-\"),0)","v":82.281485212775223},{"$f":"COUNTRY_INFO!M50","v":"Not required"},null,null,{"$f":"MAX('MDA1'!M50,MAX('MDA3'!I50,'MDA3'!L50)+MAX('MDA3'!J50,'MDA3'!M50))","v":169880},{"$f":"IF(AND(COUNTRY_INFO!I50>0,COUNTRY_INFO!I50<4),IF(J50>MAX('MDA1'!M50,MAX('MDA3'!I50,'MDA3'!L50)+MAX('MDA3'!J50,'MDA3'!M50)),MAX('MDA1'!M50,MAX('MDA3'!I50,'MDA3'!L50)+MAX('MDA3'!J50,'MDA3'!M50)),J50),0)","v":0},{"$f":"IF(AND(COUNTRY_INFO!I50>0,COUNTRY_INFO!I50<4), IF(M50/J50*100<>0, IF(M50/J50*100>100,100,M50/J50*100), \"-\"),0)","v":0},{"$f":"COUNTRY_INFO!N50","v":81759},85981,83899,{"$f":"SUM(MAX('MDA2'!J50, 'T1'!L50, MAX(T3_R1!K50, T3_R2!K50)), MAX('MDA1'!K50, 'MDA2'!K50, 'T1'!M50, MAX(T3_R1!L50, T3_R2!L50)), MAX('MDA1'!L50, 'MDA2'!L50, 'T1'!N50, MAX(T3_R1!M50, T3_R2!M50)))","v":169880},{"$f":"IF(AND(COUNTRY_INFO!J50>1,COUNTRY_INFO!J50<4),IF(COUNTRY_INFO!E50>MAX('MDA2'!J50,'T1'!L50,MAX(T3_R1!K50,T3_R2!K50)),MAX('MDA2'!J50,'T1'!L50,MAX(T3_R1!K50,T3_R2!K50)),COUNTRY_INFO!E50),0)","v":0},{"$f":"IF(AND(COUNTRY_INFO!J50>1,COUNTRY_INFO!J50<4), IF(T50/COUNTRY_INFO!E50*100<>0, IF(T50/COUNTRY_INFO!E50*100>100,100,T50/COUNTRY_INFO!E50*100), \"-\"),0)","v":"-"},{"$f":"IF(AND(COUNTRY_INFO!J50>1,COUNTRY_INFO!J50<4),IF(COUNTRY_INFO!F50>MAX('MDA1'!K50,'MDA2'!K50,'T1'!M50,MAX(T3_R1!L50,T3_R2!L50)),MAX('MDA1'!K50,'MDA2'!K50,'T1'!M50,MAX(T3_R1!L50,T3_R2!L50)),COUNTRY_INFO!F50),0)","v":57809},{"$f":"IF(AND(COUNTRY_INFO!J50>1,COUNTRY_INFO!J50<4), IF(V50/COUNTRY_INFO!F50*100<>0, IF(V50/COUNTRY_INFO!F50*100>100,100,V50/COUNTRY_INFO!F50*100), \"-\"),0)","v":100},57809,{"$f":"IF(AND(COUNTRY_INFO!J50>1,COUNTRY_INFO!J50<4), IF(S50/P50*100<>0, IF(X50/P50*100>100,100,X50/P50*100), \"-\"),0)","v":70.706588877065528},{"$f":"COUNTRY_INFO!O50","v":176525},null,null,{"$f":"MAX('T1'!L50,'T2'!J50)+MAX('T1'!M50,'T2'!K50)+MAX('T1'!N50,'T2'!L50)","v":48249},{"$f":"IF(COUNTRY_INFO!K50=1,IF(COUNTRY_INFO!F50*0.33>MAX('T1'!M50,'T2'!K50),MAX('T1'!M50,'T2'!K50),COUNTRY_INFO!F50*0.33),IF(COUNTRY_INFO!K50=2,IF(COUNTRY_INFO!F50*0.5>MAX('T1'!M50,'T2'!K50),MAX('T1'!M50,'T2'!K50),COUNTRY_INFO!F50*0.5),IF(COUNTRY_INFO!K50=3,IF(COUNTRY_INFO!F50>MAX('T1'!M50,'T2'!K50),MAX('T1'!M50,'T2'!K50),COUNTRY_INFO!F50),0)))","v":48249},{"$f":"IF(AND(COUNTRY_INFO!K50>0,COUNTRY_INFO!K50<4),IF(Z50>0,IF(COUNTRY_INFO!K50=1, AD50/(COUNTRY_INFO!F50*0.33)*100, IF(COUNTRY_INFO!K50=2, AD50/(COUNTRY_INFO!F50*0.5)*100, IF(COUNTRY_INFO!K50=3, AD50/COUNTRY_INFO!F50*100))),\"-\"),0)","v":83.462782611704057},{"$f":"IF(COUNTRY_INFO!K50=2,IF(COUNTRY_INFO!G50*0.2>MAX('T1'!N50,'T2'!L50),MAX('T1'!N50,'T2'!L50),COUNTRY_INFO!G50*0.2),IF(COUNTRY_INFO!K50=3,IF(COUNTRY_INFO!G50>MAX('T1'!N50,'T2'!L50),MAX('T1'!N50,'T2'!L50),COUNTRY_INFO!G50),0))","v":0},{"$f":"IF(AND(COUNTRY_INFO!K50>0,COUNTRY_INFO!K50<4),IF(Z50>0,IF(COUNTRY_INFO!K50=1, 0, IF(COUNTRY_INFO!K50=2, AF50/(COUNTRY_INFO!G50*0.2)*100, IF(COUNTRY_INFO!K50=3, AF50/COUNTRY_INFO!G50*100))),\"-\"),0)","v":0},48249,{"$f":"IF(AND(COUNTRY_INFO!K50>0,COUNTRY_INFO!K50<4), IF(AC50/Z50*100<>0, IF(AH50/Z50*100>100,100,AH50/Z50*100), \"-\"),0)","v":27.332672426001981},null,{"$f":"IF(AND(D50<>0, D50<>\"Unknown\",D50<>\"Stopped\",D50<>\"Not required\"),D50/COUNTRY_INFO!D50, 0)","v":1},{"$f":"IF(AND(J50<>0,J50<>\"Unknown\",J50<>\"Stopped\",J50<>\"Not required\"),J50/COUNTRY_INFO!D50, 0)","v":0},{"$f":"IF(AND(P50<>0,P50<>\"Unknown\",P50<>\"Not required\"),P50/(COUNTRY_INFO!E50+COUNTRY_INFO!F50), 0)","v":1},{"$f":"IF(AND(Z50<>0,Z50<>\"Unknown\",Z50<>\"Not required\"),IF(COUNTRY_INFO!K50=1,1,IF(COUNTRY_INFO!K50=2,0.5*COUNTRY_INFO!F50/(0.5*COUNTRY_INFO!F50+0.2*COUNTRY_INFO!G50),IF(COUNTRY_INFO!K50=3,COUNTRY_INFO!F50/(COUNTRY_INFO!F50+COUNTRY_INFO!G50)))),0)","v":0.3274833592975499},{"$f":"IF(AND(Z50<>0,Z50<>\"Unknown\",Z50<>\"Not required\"),IF(COUNTRY_INFO!K50=1,0,IF(COUNTRY_INFO!K50=2,0.2*COUNTRY_INFO!G50/(0.5*COUNTRY_INFO!F50+0.2*COUNTRY_INFO!G50),IF(COUNTRY_INFO!K50=3,COUNTRY_INFO!G50/(COUNTRY_INFO!F50+COUNTRY_INFO!G50)))),0)","v":0.6725166407024501},{"$f":"MAX(COUNTRY_INFO!D50*AK50*PROFILE!$G$7,COUNTRY_INFO!D50*AL50*PROFILE!$G$7)","v":5987.4525198903539},{"$f":"MAX(COUNTRY_INFO!D50*AK50*PROFILE!$G$8,COUNTRY_INFO!D50*AL50*PROFILE!$G$8,COUNTRY_INFO!D50*AM50*PROFILE!$G$8)","v":23949.557026793187},{"$f":"MAX(COUNTRY_INFO!D50*AK50*PROFILE!$G$9,COUNTRY_INFO!D50*AL50*PROFILE!$G$9,COUNTRY_INFO!D50*AM50*PROFILE!$G$9,IF(AND(DISTRICT!Z50<>\"Unknown\",Z50<>\"Not required\"),COUNTRY_INFO!O50*DISTRICT!AN50,0))","v":57809.330874181564},{"$f":"MAX(COUNTRY_INFO!D50*AK50*PROFILE!$G$10,COUNTRY_INFO!D50*AL50*PROFILE!$G$10,IF(AND(DISTRICT!Z50<>\"Unknown\",Z50<>\"Not required\"),COUNTRY_INFO!O50*DISTRICT!AO50,0))","v":118716},206462.3404208651,"Y",{"$f":"MAX('MDA2'!J50,'T1'!L50,'T2'!J50,T3_R1!K50,T3_R2!K50)","v":0},{"$f":"MAX('MDA1'!K50,'MDA2'!K50,'MDA3'!I50,'MDA3'!L50,'T1'!M50,'T2'!K50,T3_R1!L50,T3_R2!L50)","v":77824},{"$f":"MAX('MDA1'!L50,'MDA2'!L50,'MDA3'!J50,'MDA3'!M50,'T1'!N50,'T2'!L50,T3_R1!M50,T3_R2!M50)","v":92056},169880,{"$f":"MAX('MDA2'!J50,T50)","v":0},{"$f":"MAX('MDA1'!K50,'MDA2'!K50,'MDA3'!I50,'MDA3'!L50,V50,AD50)","v":77824},{"$f":"MAX('MDA1'!L50,'MDA2'!L50,'MDA3'!J50,'MDA3'!M50,AF50)","v":92056},169880,82.281349544767593]
[{"$f":"IF(COUNTRY_INFO!A51=0,\" \",COUNTRY_INFO!A51)","v":"Mozambique"},{"$f":"IF(COUNTRY_INFO!B51=0,\" \",COUNTRY_INFO!B51)","v":"Nampula"},{"$f":"IF(COUNTRY_INFO!C51=0,\" \",COUNTRY_INFO!C51)","v":"Mecuburi"},{"$f":"COUNTRY_INFO!L51","v":195250},null,null,{"$f":"MAX('MDA1'!M51,'MDA2'!M51)","v":162135},{"$f":"IF(AND(COUNTRY_INFO!H51>0,COUNTRY_INFO!H51<4),IF(D51>MAX('MDA1'!M51,'MDA2'!M51),MAX('MDA1'!M51,'MDA2'!M51),D51),0)","v":162135},{"$f":"IF(AND(COUNTRY_INFO!H51>0,COUNTRY_INFO!H51<4), IF(G51/D51*100<>0, IF(G51/D51*100>100,100,G51/D51*100), \"-\"),0)","v":83.039692701664535},{"$f":"COUNTRY_INFO!M51","v":"Not required"},null,null,{"$f":"MAX('MDA1'!M51,MAX('MDA3'!I51,'MDA3'!L51)+MAX('MDA3'!J51,'MDA3'!M51))","v":162135},{"$f":"IF(AND(COUNTRY_INFO!I51>0,COUNTRY_INFO!I51<4),IF(J51>MAX('MDA1'!M51,MAX('MDA3'!I51,'MDA3'!L51)+MAX('MDA3'!J51,'MDA3'!M51)),MAX('MDA1'!M51,MAX('MDA3'!I51,'MDA3'!L51)+MAX('MDA3'!J51,'MDA3'!M51)),J51),0)","v":0},{"$f":"IF(AND(COUNTRY_INFO!I51>0,COUNTRY_INFO!I51<4), IF(M51/J51*100<>0, IF(M51/J51*100>100,100,M51/J51*100), \"-\"),0)","v":0},{"$f":"COUNTRY_INFO!N51","v":77319},77916,84219,{"$f":"SUM(MAX('MDA2'!J51, 'T1'!L51, MAX(T3_R1!K51, T3_R2!K51)), MAX('MDA1'!K51, 'MDA2'!K51, 'T1'!M51, MAX(T3_R1!L51, T3_R2!L51)), MAX('MDA1'!L51, 'MDA2'!L51, 'T1'!N51, MAX(T3_R1!M51, T3_R2!M51)))","v":162135},{"$f":"IF(AND(COUNTRY_INFO!J51>1,COUNTRY_INFO!J51<4),IF(COUNTRY_INFO!E51>MAX('MDA2'!J51,'T1'!L51,MAX(T3_R1!K51,T3_R2!K51)),MAX('MDA2'!J51,'T1'!L51,MAX(T3_R1!K51,T3_R2!K51)),COUNTRY_INFO!E51),0)","v":0},{"$f":"IF(AND(COUNTRY_INFO!J51>1,COUNTRY_INFO!J51<4), IF(T51/COUNTRY_INFO!E51*100<>0, IF(T51/COUNTRY_INFO!E51*100>100,100,T51/COUNTRY_INFO!E51*100), \"-\"),0)","v":"-"},{"$f":"IF(AND(COUNTRY_INFO!J51>1,COUNTRY_INFO!J51<4),IF(COUNTRY_INFO!F51>MAX('MDA1'!K51,'MDA2'!K51,'T1'!M51,MAX(T3_R1!L51,T3_R2!L51)),MAX('MDA1'!K51,'MDA2'!K51,'T1'!M51,MAX(T3_R1!L51,T3_R2!L51)),COUNTRY_INFO!F51),0)","v":54670},{"$f":"IF(AND(COUNTRY_INFO!J51>1,COUNTRY_INFO!J51<4), IF(V51/COUNTRY_INFO!F51*100<>0, IF(V51/COUNTRY_INFO!F51*100>100,100,V51/COUNTRY_INFO!F51*100), \"-\"),0)","v":100},54670,{"$f":"IF(AND(COUNTRY_INFO!J51>1,COUNTRY_INFO!J51<4), IF(S51/P51*100<>0, IF(X51/P51*100>100,100,X51/P51*100), \"-\"),0)","v":70.707070707070713},{"$f":"COUNTRY_INFO!O51","v":166939},null,null,{"$f":"MAX('T1'!L51,'T2'!J51)+MAX('T1'!M51,'T2'!K51)+MAX('T1'!N51,'T2'!L51)","v":44162},{"$f":"IF(COUNTRY_INFO!K51=1,IF(COUNTRY_INFO!F51*0.33>MAX('T1'!M51,'T2'!K51),MAX('T1'!M51,'T2'!K51),COUNTRY_INFO!F51*0.33),IF(COUNTRY_INFO!K51=2,IF(COUNTRY_INFO!F51*0.5>MAX('T1'!M51,'T2'!K51),MAX('T1'!M51,'T2'!K51),COUNTRY_INFO!F51*0.5),IF(COUNTRY_INFO!K51=3,IF(COUNTRY_INFO!F51>MAX('T1'!M51,'T2'!K51),MAX('T1'!M51,'T2'!K51),COUNTRY_INFO!F51),0)))","v":44162},{"$f":"IF(AND(COUNTRY_INFO!K51>0,COUNTRY_INFO!K51<4),IF(Z51>0,IF(COUNTRY_INFO!K51=1, AD51/(COUNTRY_INFO!F51*0.33)*100, IF(COUNTRY_INFO!K51=2, AD51/(COUNTRY_INFO!F51*0.5)*100, IF(COUNTRY_INFO!K51=3, AD51/COUNTRY_INFO!F51*100))),\"-\"),0)","v":80.779220779220779},{"$f":"IF(COUNTRY_INFO!K51=2,IF(COUNTRY_INFO!G51*0.2>MAX('T1'!N51,'T2'!L51),MAX('T1'!N51,'T2'!L51),COUNTRY_INFO!G51*0.2),IF(COUNTRY_INFO!K51=3,IF(COUNTRY_INFO!G51>MAX('T1'!N51,'T2'!L51),MAX('T1'!N51,'T2'!L51),COUNTRY_INFO!G51),0))","v":0},{"$f":"IF(AND(COUNTRY_INFO!K51>0,COUNTRY_INFO!K51<4),IF(Z51>0,IF(COUNTRY_INFO!K51=1, 0, IF(COUNTRY_INFO!K51=2, AF51/(COUNTRY_INFO!G51*0.2)*100, IF(COUNTRY_INFO!K51=3, AF51/COUNTRY_INFO!G51*100))),\"-\"),0)","v":0},44162,{"$f":"IF(AND(COUNTRY_INFO!K51>0,COUNTRY_INFO!K51<4), IF(AC51/Z51*100<>0, IF(AH51/Z51*100>100,100,AH51/Z51*100), \"-\"),0)","v":26.453974206147159},null,{"$f":"IF(AND(D51<>0, D51<>\"Unknown\",D51<>\"Stopped\",D51<>\"Not required\"),D51/COUNTRY_INFO!D51, 0)","v":1},{"$f":"IF(AND(J51<>0,J51<>\"Unknown\",J51<>\"Stopped\",J51<>\"Not required\"),J51/COUNTRY_INFO!D51, 0)","v":0},{"$f":"IF(AND(P51<>0,P51<>\"Unknown\",P51<>\"Not required\"),P51/(COUNTRY_INFO!E51+COUNTRY_INFO!F51), 0)","v":1},{"$f":"IF(AND(Z51<>0,Z51<>\"Unknown\",Z51<>\"Not required\"),IF(COUNTRY_INFO!K51=1,1,IF(COUNTRY_INFO!K51=2,0.5*COUNTRY_INFO!F51/(0.5*COUNTRY_INFO!F51+0.2*COUNTRY_INFO!G51),IF(COUNTRY_INFO!K51=3,COUNTRY_INFO!F51/(COUNTRY_INFO!F51+COUNTRY_INFO!G51)))),0)","v":0.32748488969024614},{"$f":"IF(AND(Z51<>0,Z51<>\"Unknown\",Z51<>\"Not required\"),IF(COUNTRY_INFO!K51=1,0,IF(COUNTRY_INFO!K51=2,0.2*COUNTRY_INFO!G51/(0.5*COUNTRY_INFO!F51+0.2*COUNTRY_INFO!G51),IF(COUNTRY_INFO!K51=3,COUNTRY_INFO!G51/(COUNTRY_INFO!F51+COUNTRY_INFO!G51)))),0)","v":0.67251511030975386},{"$f":"MAX(COUNTRY_INFO!D51*AK51*PROFILE!$G$7,COUNTRY_INFO!D51*AL51*PROFILE!$G$7)","v":5662.3015591662952},{"$f":"MAX(COUNTRY_INFO!D51*AK51*PROFILE!$G$8,COUNTRY_INFO!D51*AL51*PROFILE!$G$8,COUNTRY_INFO!D51*AM51*PROFILE!$G$8)","v":22648.966926026918},{"$f":"MAX(COUNTRY_INFO!D51*AK51*PROFILE!$G$9,COUNTRY_INFO!D51*AL51*PROFILE!$G$9,COUNTRY_INFO!D51*AM51*PROFILE!$G$9,IF(AND(DISTRICT!Z51<>\"Unknown\",Z51<>\"Not required\"),COUNTRY_INFO!O51*DISTRICT!AN51,0))","v":54670},{"$f":"MAX(COUNTRY_INFO!D51*AK51*PROFILE!$G$10,COUNTRY_INFO!D51*AL51*PROFILE!$G$10,IF(AND(DISTRICT!Z51<>\"Unknown\",Z51<>\"Not required\"),COUNTRY_INFO!O51*DISTRICT!AO51,0))","v":112269},195250.2684851932,"Y",{"$f":"MAX('MDA2'!J51,'T1'!L51,'T2'!J51,T3_R1!K51,T3_R2!K51)","v":0},{"$f":"MAX('MDA1'!K51,'MDA2'!K51,'MDA3'!I51,'MDA3'!L51,'T1'!M51,'T2'!K51,T3_R1!L51,T3_R2!L51)","v":82256},{"$f":"MAX('MDA1'!L51,'MDA2'!L51,'MDA3'!J51,'MDA3'!M51,'T1'!N51,'T2'!L51,T3_R1!M51,T3_R2!M51)","v":79879},162135,{"$f":"MAX('MDA2'!J51,T51)","v":0},{"$f":"MAX('MDA1'!K51,'MDA2'!K51,'MDA3'!I51,'MDA3'!L51,V51,AD51)","v":82256},{"$f":"MAX('MDA1'!L51,'MDA2'!L51,'MDA3'!J51,'MDA3'!M51,AF51)","v":79879},162135,83.039578515250795]
[{"$f":"IF(COUNTRY_INFO!A52=0,\" \",COUNTRY_INFO!A52)","v":"Mozambique"},{"$f":"IF(COUNTRY_INFO!B52=0,\" \",COUNTRY_INFO!B52)","v":"Nampula"},{"$f":"IF(COUNTRY_INFO!C52=0,\" \",COUNTRY_INFO!C52)","v":"Memba"},{"$f":"COUNTRY_INFO!L52","v":274409},null,null,{"$f":"MAX('MDA1'!M52,'MDA2'!M52)","v":235848},{"$f":"IF(AND(COUNTRY_INFO!H52>0,COUNTRY_INFO!H52<4),IF(D52>MAX('MDA1'!M52,'MDA2'!M52),MAX('MDA1'!M52,'MDA2'!M52),D52),0)","v":235848},{"$f":"IF(AND(COUNTRY_INFO!H52>0,COUNTRY_INFO!H52<4), IF(G52/D52*100<>0, IF(G52/D52*100>100,100,G52/D52*100), \"-\"),0)","v":85.947618336133289},{"$f":"COUNTRY_INFO!M52","v":"Not required"},null,null,{"$f":"MAX('MDA1'!M52,MAX('MDA3'!I52,'MDA3'!L52)+MAX('MDA3'!J52,'MDA3'!M52))","v":235848},{"$f":"IF(AND(COUNTRY_INFO!I52>0,COUNTRY_INFO!I52<4),IF(J52>MAX('MDA1'!M52,MAX('MDA3'!I52,'MDA3'!L52)+MAX('MDA3'!J52,'MDA3'!M52)),MAX('MDA1'!M52,MAX('MDA3'!I52,'MDA3'!L52)+MAX('MDA3'!J52,'MDA3'!M52)),J52),0)","v":0},{"$f":"IF(AND(COUNTRY_INFO!I52>0,COUNTRY_INFO!I52<4), IF(M52/J52*100<>0, IF(M52/J52*100>100,100,M52/J52*100), \"-\"),0)","v":0},{"$f":"COUNTRY_INFO!N52","v":108666},110205,125643,{"$f":"SUM(MAX('MDA2'!J52, 'T1'!L52, MAX(T3_R1!K52, T3_R2!K52)), MAX('MDA1'!K52, 'MDA2'!K52, 'T1'!M52, MAX(T3_R1!L52, T3_R2!L52)), MAX('MDA1'!L52, 'MDA2'!L52, 'T1'!N52, MAX(T3_R1!M52, T3_R2!M52)))","v":235848},{"$f":"IF(AND(COUNTRY_INFO!J52>1,COUNTRY_INFO!J52<4),IF(COUNTRY_INFO!E52>MAX('MDA2'!J52,'T1'!L52,MAX(T3_R1!K52,T3_R2!K52)),MAX('MDA2'!J52,'T1'!L52,MAX(T3_R1!K52,T3_R2!K52)),COUNTRY_INFO!E52),0)","v":0},{"$f":"IF(AND(COUNTRY_INFO!J52>1,COUNTRY_INFO!J52<4), IF(T52/COUNTRY_INFO!E52*100<>0, IF(T52/COUNTRY_INFO!E52*100>100,100,T52/COUNTRY_INFO!E52*100), \"-\"),0)","v":"-"},{"$f":"IF(AND(COUNTRY_INFO!J52>1,COUNTRY_INFO!J52<4),IF(COUNTRY_INFO!F52>MAX('MDA1'!K52,'MDA2'!K52,'T1'!M52,MAX(T3_R1!L52,T3_R2!L52)),MAX('MDA1'!K52,'MDA2'!K52,'T1'!M52,MAX(T3_R1!L52,T3_R2!L52)),COUNTRY_INFO!F52),0)","v":76835},{"$f":"IF(AND(COUNTRY_INFO!J52>1,COUNTRY_INFO!J52<4), IF(V52/COUNTRY_INFO!F52*100<>0, IF(V52/COUNTRY_INFO!F52*100>100,100,V52/COUNTRY_INFO!F52*100), \"-\"),0)","v":100},76835,{"$f":"IF(AND(COUNTRY_INFO!J52>1,COUNTRY_INFO!J52<4), IF(S52/P52*100<>0, IF(X52/P52*100>100,100,X52/P52*100), \"-\"),0)","v":70.70748900300002},{"$f":"COUNTRY_INFO!O52","v":234620},null,null,{"$f":"MAX('T1'!L52,'T2'!J52)+MAX('T1'!M52,'T2'!K52)+MAX('T1'!N52,'T2'!L52)","v":63362},{"$f":"IF(COUNTRY_INFO!K52=1,IF(COUNTRY_INFO!F52*0.33>MAX('T1'!M52,'T2'!K52),MAX('T1'!M52,'T2'!K52),COUNTRY_INFO!F52*0.33),IF(COUNTRY_INFO!K52=2,IF(COUNTRY_INFO!F52*0.5>MAX('T1'!M52,'T2'!K52),MAX('T1'!M52,'T2'!K52),COUNTRY_INFO!F52*0.5),IF(COUNTRY_INFO!K52=3,IF(COUNTRY_INFO!F52>MAX('T1'!M52,'T2'!K52),MAX('T1'!M52,'T2'!K52),COUNTRY_INFO!F52),0)))","v":63362},{"$f":"IF(AND(COUNTRY_INFO!K52>0,COUNTRY_INFO!K52<4),IF(Z52>0,IF(COUNTRY_INFO!K52=1, AD52/(COUNTRY_INFO!F52*0.33)*100, IF(COUNTRY_INFO!K52=2, AD52/(COUNTRY_INFO!F52*0.5)*100, IF(COUNTRY_INFO!K52=3, AD52/COUNTRY_INFO!F52*100))),\"-\"),0)","v":82.465022450706059},{"$f":"IF(COUNTRY_INFO!K52=2,IF(COUNTRY_INFO!G52*0.2>MAX('T1'!N52,'T2'!L52),MAX('T1'!N52,'T2'!L52),COUNTRY_INFO!G52*0.2),IF(COUNTRY_INFO!K52=3,IF(COUNTRY_INFO!G52>MAX('T1'!N52,'T2'!L52),MAX('T1'!N52,'T2'!L52),COUNTRY_INFO!G52),0))","v":0},{"$f":"IF(AND(COUNTRY_INFO!K52>0,COUNTRY_INFO!K52<4),IF(Z52>0,IF(COUNTRY_INFO!K52=1, 0, IF(COUNTRY_INFO!K52=2, AF52/(COUNTRY_INFO!G52*0.2)*100, IF(COUNTRY_INFO!K52=3, AF52/COUNTRY_INFO!G52*100))),\"-\"),0)","v":0},63362,{"$f":"IF(AND(COUNTRY_INFO!K52>0,COUNTRY_INFO!K52<4), IF(AC52/Z52*100<>0, IF(AH52/Z52*100>100,100,AH52/Z52*100), \"-\"),0)","v":27.006222828403377},null,{"$f":"IF(AND(D52<>0, D52<>\"Unknown\",D52<>\"Stopped\",D52<>\"Not required\"),D52/COUNTRY_INFO!D52, 0)","v":1},{"$f":"IF(AND(J52<>0,J52<>\"Unknown\",J52<>\"Stopped\",J52<>\"Not required\"),J52/COUNTRY_INFO!D52, 0)","v":0},{"$f":"IF(AND(P52<>0,P52<>\"Unknown\",P52<>\"Not required\"),P52/(COUNTRY_INFO!E52+COUNTRY_INFO!F52), 0)","v":1},{"$f":"IF(AND(Z52<>0,Z52<>\"Unknown\",Z52<>\"Not required\"),IF(COUNTRY_INFO!K52=1,1,IF(COUNTRY_INFO!K52=2,0.5*COUNTRY_INFO!F52/(0.5*COUNTRY_INFO!F52+0.2*COUNTRY_INFO!G52),IF(COUNTRY_INFO!K52=3,COUNTRY_INFO!F52/(COUNTRY_INFO!F52+COUNTRY_INFO!G52)))),0)","v":0.32748700025573269},{"$f":"IF(AND(Z52<>0,Z52<>\"Unknown\",Z52<>\"Not required\"),IF(COUNTRY_INFO!K52=1,0,IF(COUNTRY_INFO!K52=2,0.2*COUNTRY_INFO!G52/(0.5*COUNTRY_INFO!F52+0.2*COUNTRY_INFO!G52),IF(COUNTRY_INFO!K52=3,COUNTRY_INFO!G52/(COUNTRY_INFO!F52+COUNTRY_INFO!G52)))),0)","v":0.67251299974426737},{"$f":"MAX(COUNTRY_INFO!D52*AK52*PROFILE!$G$7,COUNTRY_INFO!D52*AL52*PROFILE!$G$7)","v":7957.9334624802241},{"$f":"MAX(COUNTRY_INFO!D52*AK52*PROFILE!$G$8,COUNTRY_INFO!D52*AL52*PROFILE!$G$8,COUNTRY_INFO!D52*AM52*PROFILE!$G$8)","v":31831.397517050555},{"$f":"MAX(COUNTRY_INFO!D52*AK52*PROFILE!$G$9,COUNTRY_INFO!D52*AL52*PROFILE!$G$9,COUNTRY_INFO!D52*AM52*PROFILE!$G$9,IF(AND(DISTRICT!Z52<>\"Unknown\",Z52<>\"Not required\"),COUNTRY_INFO!O52*DISTRICT!AN52,0))","v":76835},{"$f":"MAX(COUNTRY_INFO!D52*AK52*PROFILE!$G$10,COUNTRY_INFO!D52*AL52*PROFILE!$G$10,IF(AND(DISTRICT!Z52<>\"Unknown\",Z52<>\"Not required\"),COUNTRY_INFO!O52*DISTRICT!AO52,0))","v":157785.18773164469},274409.51871117548,"Y",{"$f":"MAX('MDA2'!J52,'T1'!L52,'T2'!J52,T3_R1!K52,T3_R2!K52)","v":0},{"$f":"MAX('MDA1'!K52,'MDA2'!K52,'MDA3'!I52,'MDA3'!L52,'T1'!M52,'T2'!K52,T3_R1!L52,T3_R2!L52)","v":109664},{"$f":"MAX('MDA1'!L52,'MDA2'!L52,'MDA3'!J52,'MDA3'!M52,'T1'!N52,'T2'!L52,T3_R1!M52,T3_R2!M52)","v":126184},235848,{"$f":"MAX('MDA2'!J52,T52)","v":0},{"$f":"MAX('MDA1'!K52,'MDA2'!K52,'MDA3'!I52,'MDA3'!L52,V52,AD52)","v":109664},{"$f":"MAX('MDA1'!L52,'MDA2'!L52,'MDA3'!J52,'MDA3'!M52,AF52)","v":126184},235848,85.94745587095953]
[{"$f":"IF(COUNTRY_INFO!A53=0,\" \",COUNTRY_INFO!A53)","v":"Mozambique"},{"$f":"IF(COUNTRY_INFO!B53=0,\" \",COUNTRY_INFO!B53)","v":"Nampula"},{"$f":"IF(COUNTRY_INFO!C53=0,\" \",COUNTRY_INFO!C53)","v":"Mogincual"},{"$f":"COUNTRY_INFO!L53","v":91661.918736030013},null,null,{"$f":"MAX('MDA1'!M53,'MDA2'!M53)","v":80070},{"$f":"IF(AND(COUNTRY_INFO!H53>0,COUNTRY_INFO!H53<4),IF(D53>MAX('MDA1'!M53,'MDA2'!M53),MAX('MDA1'!M53,'MDA2'!M53),D53),0)","v":80070},{"$f":"IF(AND(COUNTRY_INFO!H53>0,COUNTRY_INFO!H53<4), IF(G53/D53*100<>0, IF(G53/D53*100>100,100,G53/D53*100), \"-\"),0)","v":87.353615442621617},{"$f":"COUNTRY_INFO!M53","v":"Not required"},null,null,{"$f":"MAX('MDA1'!M53,MAX('MDA3'!I53,'MDA3'!L53)+MAX('MDA3'!J53,'MDA3'!M53))","v":80070},{"$f":"IF(AND(COUNTRY_INFO!I53>0,COUNTRY_INFO!I53<4),IF(J53>MAX('MDA1'!M53,MAX('MDA3'!I53,'MDA3'!L53)+MAX('MDA3'!J53,'MDA3'!M53)),MAX('MDA1'!M53,MAX('MDA3'!I53,'MDA3'!L53)+MAX('MDA3'!J53,'MDA3'!M53)),J53),0)","v":0},{"$f":"IF(AND(COUNTRY_INFO!I53>0,COUNTRY_INFO!I53<4), IF(M53/J53*100<>0, IF(M53/J53*100>100,100,M53/J53*100), \"-\"),0)","v":0},{"$f":"COUNTRY_INFO!N53","v":36298},40424,39646,{"$f":"SUM(MAX('MDA2'!J53, 'T1'!L53, MAX(T3_R1!K53, T3_R2!K53)), MAX('MDA1'!K53, 'MDA2'!K53, 'T1'!M53, MAX(T3_R1!L53, T3_R2!L53)), MAX('MDA1'!L53, 'MDA2'!L53, 'T1'!N53, MAX(T3_R1!M53, T3_R2!M53)))","v":80070},{"$f":"IF(AND(COUNTRY_INFO!J53>1,COUNTRY_INFO!J53<4),IF(COUNTRY_INFO!E53>MAX('MDA2'!J53,'T1'!L53,MAX(T3_R1!K53,T3_R2!K53)),MAX('MDA2'!J53,'T1'!L53,MAX(T3_R1!K53,T3_R2!K53)),COUNTRY_INFO!E53),0)","v":0},{"$f":"IF(AND(COUNTRY_INFO!J53>1,COUNTRY_INFO!J53<4), IF(T53/COUNTRY_INFO!E53*100<>0, IF(T53/COUNTRY_INFO!E53*100>100,100,T53/COUNTRY_INFO!E53*100), \"-\"),0)","v":"-"},{"$f":"IF(AND(COUNTRY_INFO!J53>1,COUNTRY_INFO!J53<4),IF(COUNTRY_INFO!F53>MAX('MDA1'!K53,'MDA2'!K53,'T1'!M53,MAX(T3_R1!L53,T3_R2!L53)),MAX('MDA1'!K53,'MDA2'!K53,'T1'!M53,MAX(T3_R1!L53,T3_R2!L53)),COUNTRY_INFO!F53),0)","v":25665},{"$f":"IF(AND(COUNTRY_INFO!J53>1,COUNTRY_INFO!J53<4), IF(V53/COUNTRY_INFO!F53*100<>0, IF(V53/COUNTRY_INFO!F53*100>100,100,V53/COUNTRY_INFO!F53*100), \"-\"),0)","v":100},25665,{"$f":"IF(AND(COUNTRY_INFO!J53>1,COUNTRY_INFO!J53<4), IF(S53/P53*100<>0, IF(X53/P53*100>100,100,X53/P53*100), \"-\"),0)","v":70.706375006887441},{"$f":"COUNTRY_INFO!O53","v":78371},null,null,{"$f":"MAX('T1'!L53,'T2'!J53)+MAX('T1'!M53,'T2'!K53)+MAX('T1'!N53,'T2'!L53)","v":24230},{"$f":"IF(COUNTRY_INFO!K53=1,IF(COUNTRY_INFO!F53*0.33>MAX('T1'!M53,'T2'!K53),MAX('T1'!M53,'T2'!K53),COUNTRY_INFO!F53*0.33),IF(COUNTRY_INFO!K53=2,IF(COUNTRY_INFO!F53*0.5>MAX('T1'!M53,'T2'!K53),MAX('T1'!M53,'T2'!K53),COUNTRY_INFO!F53*0.5),IF(COUNTRY_INFO!K53=3,IF(COUNTRY_INFO!F53>MAX('T1'!M53,'T2'!K53),MAX('T1'!M53,'T2'!K53),COUNTRY_INFO!F53),0)))","v":24230},{"$f":"IF(AND(COUNTRY_INFO!K53>0,COUNTRY_INFO!K53<4),IF(Z53>0,IF(COUNTRY_INFO!K53=1, AD53/(COUNTRY_INFO!F53*0.33)*100, IF(COUNTRY_INFO!K53=2, AD53/(COUNTRY_INFO!F53*0.5)*100, IF(COUNTRY_INFO!K53=3, AD53/COUNTRY_INFO!F53*100))),\"-\"),0)","v":94.408727839470103},{"$f":"IF(COUNTRY_INFO!K53=2,IF(COUNTRY_INFO!G53*0.2>MAX('T1'!N53,'T2'!L53),MAX('T1'!N53,'T2'!L53),COUNTRY_INFO!G53*0.2),IF(COUNTRY_INFO!K53=3,IF(COUNTRY_INFO!G53>MAX('T1'!N53,'T2'!L53),MAX('T1'!N53,'T2'!L53),COUNTRY_INFO!G53),0))","v":0},{"$f":"IF(AND(COUNTRY_INFO!K53>0,COUNTRY_INFO!K53<4),IF(Z53>0,IF(COUNTRY_INFO!K53=1, 0, IF(COUNTRY_INFO!K53=2, AF53/(COUNTRY_INFO!G53*0.2)*100, IF(COUNTRY_INFO!K53=3, AF53/COUNTRY_INFO!G53*100))),\"-\"),0)","v":0},24230,{"$f":"IF(AND(COUNTRY_INFO!K53>0,COUNTRY_INFO!K53<4), IF(AC53/Z53*100<>0, IF(AH53/Z53*100>100,100,AH53/Z53*100), \"-\"),0)","v":30.917048398004365},null,{"$f":"IF(AND(D53<>0, D53<>\"Unknown\",D53<>\"Stopped\",D53<>\"Not required\"),D53/COUNTRY_INFO!D53, 0)","v":1},{"$f":"IF(AND(J53<>0,J53<>\"Unknown\",J53<>\"Stopped\",J53<>\"Not required\"),J53/COUNTRY_INFO!D53, 0)","v":0},{"$f":"IF(AND(P53<>0,P53<>\"Unknown\",P53<>\"Not required\"),P53/(COUNTRY_INFO!E53+COUNTRY_INFO!F53), 0)","v":1},{"$f":"IF(AND(Z53<>0,Z53<>\"Unknown\",Z53<>\"Not required\"),IF(COUNTRY_INFO!K53=1,1,IF(COUNTRY_INFO!K53=2,0.5*COUNTRY_INFO!F53/(0.5*COUNTRY_INFO!F53+0.2*COUNTRY_INFO!G53),IF(COUNTRY_INFO!K53=3,COUNTRY_INFO!F53/(COUNTRY_INFO!F53+COUNTRY_INFO!G53)))),0)","v":0.32748082836763598},{"$f":"IF(AND(Z53<>0,Z53<>\"Unknown\",Z53<>\"Not required\"),IF(COUNTRY_INFO!K53=1,0,IF(COUNTRY_INFO!K53=2,0.2*COUNTRY_INFO!G53/(0.5*COUNTRY_INFO!F53+0.2*COUNTRY_INFO!G53),IF(COUNTRY_INFO!K53=3,COUNTRY_INFO!G53/(COUNTRY_INFO!F53+COUNTRY_INFO!G53)))),0)","v":0.67251917163236397},{"$f":"MAX(COUNTRY_INFO!D53*AK53*PROFILE!$G$7,COUNTRY_INFO!D53*AL53*PROFILE!$G$7)","v":2658.2198482724557},{"$f":"MAX(COUNTRY_INFO!D53*AK53*PROFILE!$G$8,COUNTRY_INFO!D53*AL53*PROFILE!$G$8,COUNTRY_INFO!D53*AM53*PROFILE!$G$8)","v":10632.767046496856},{"$f":"MAX(COUNTRY_INFO!D53*AK53*PROFILE!$G$9,COUNTRY_INFO!D53*AL53*PROFILE!$G$9,COUNTRY_INFO!D53*AM53*PROFILE!$G$9,IF(AND(DISTRICT!Z53<>\"Unknown\",Z53<>\"Not required\"),COUNTRY_INFO!O53*DISTRICT!AN53,0))","v":25665.324315242036},{"$f":"MAX(COUNTRY_INFO!D53*AK53*PROFILE!$G$10,COUNTRY_INFO!D53*AL53*PROFILE!$G$10,IF(AND(DISTRICT!Z53<>\"Unknown\",Z53<>\"Not required\"),COUNTRY_INFO!O53*DISTRICT!AO53,0))","v":52705.999999999993},91662.311210011336,"Y",{"$f":"MAX('MDA2'!J53,'T1'!L53,'T2'!J53,T3_R1!K53,T3_R2!K53)","v":0},{"$f":"MAX('MDA1'!K53,'MDA2'!K53,'MDA3'!I53,'MDA3'!L53,'T1'!M53,'T2'!K53,T3_R1!L53,T3_R2!L53)","v":41114},{"$f":"MAX('MDA1'!L53,'MDA2'!L53,'MDA3'!J53,'MDA3'!M53,'T1'!N53,'T2'!L53,T3_R1!M53,T3_R2!M53)","v":38956},80070,{"$f":"MAX('MDA2'!J53,T53)","v":0},{"$f":"MAX('MDA1'!K53,'MDA2'!K53,'MDA3'!I53,'MDA3'!L53,V53,AD53)","v":41114},{"$f":"MAX('MDA1'!L53,'MDA2'!L53,'MDA3'!J53,'MDA3'!M53,AF53)","v":38956},80070,87.353241417345771]
[{"$f":"IF(COUNTRY_INFO!A54=0,\" \",COUNTRY_INFO!A54)","v":"Mozambique"},{"$f":"IF(COUNTRY_INFO!B54=0,\" \",COUNTRY_INFO!B54)","v":"Nampula"},{"$f":"IF(COUNTRY_INFO!C54=0,\" \",COUNTRY_INFO!C54)","v":"Mogovolas"},{"$f":"COUNTRY_INFO!L54","v":554054.05617117707},null,null,{"$f":"MAX('MDA1'!M54,'MDA2'!M54)","v":464824},{"$f":"IF(AND(COUNTRY_INFO!H54>0,COUNTRY_INFO!H54<4),IF(D54>MAX('MDA1'!M54,'MDA2'!M54),MAX('MDA1'!M54,'MDA2'!M54),D54),0)","v":464824},{"$f":"IF(AND(COUNTRY_INFO!H54>0,COUNTRY_INFO!H54<4), IF(G54/D54*100<>0, IF(G54/D54*100>100,100,G54/D54*100), \"-\"),0)","v":83.895063094058614},{"$f":"COUNTRY_INFO!M54","v":"Not required"},null,null,{"$f":"MAX('MDA1'!M54,MAX('MDA3'!I54,'MDA3'!L54)+MAX('MDA3'!J54,'MDA3'!M54))","v":464824},{"$f":"IF(AND(COUNTRY_INFO!I54>0,COUNTRY_INFO!I54<4),IF(J54>MAX('MDA1'!M54,MAX('MDA3'!I54,'MDA3'!L54)+MAX('MDA3'!J54,'MDA3'!M54)),MAX('MDA1'!M54,MAX('MDA3'!I54,'MDA3'!L54)+MAX('MDA3'!J54,'MDA3'!M54)),J54),0)","v":0},{"$f":"IF(AND(COUNTRY_INFO!I54>0,COUNTRY_INFO!I54<4), IF(M54/J54*100<>0, IF(M54/J54*100>100,100,M54/J54*100), \"-\"),0)","v":0},{"$f":"COUNTRY_INFO!N54","v":219405},224904,239920,{"$f":"SUM(MAX('MDA2'!J54, 'T1'!L54, MAX(T3_R1!K54, T3_R2!K54)), MAX('MDA1'!K54, 'MDA2'!K54, 'T1'!M54, MAX(T3_R1!L54, T3_R2!L54)), MAX('MDA1'!L54, 'MDA2'!L54, 'T1'!N54, MAX(T3_R1!M54, T3_R2!M54)))","v":464824},{"$f":"IF(AND(COUNTRY_INFO!J54>1,COUNTRY_INFO!J54<4),IF(COUNTRY_INFO!E54>MAX('MDA2'!J54,'T1'!L54,MAX(T3_R1!K54,T3_R2!K54)),MAX('MDA2'!J54,'T1'!L54,MAX(T3_R1!K54,T3_R2!K54)),COUNTRY_INFO!E54),0)","v":0},{"$f":"IF(AND(COUNTRY_INFO!J54>1,COUNTRY_INFO!J54<4), IF(T54/COUNTRY_INFO!E54*100<>0, IF(T54/COUNTRY_INFO!E54*100>100,100,T54/COUNTRY_INFO!E54*100), \"-\"),0)","v":"-"},{"$f":"IF(AND(COUNTRY_INFO!J54>1,COUNTRY_INFO!J54<4),IF(COUNTRY_INFO!F54>MAX('MDA1'!K54,'MDA2'!K54,'T1'!M54,MAX(T3_R1!L54,T3_R2!L54)),MAX('MDA1'!K54,'MDA2'!K54,'T1'!M54,MAX(T3_R1!L54,T3_R2!L54)),COUNTRY_INFO!F54),0)","v":155135},{"$f":"IF(AND(COUNTRY_INFO!J54>1,COUNTRY_INFO!J54<4), IF(V54/COUNTRY_INFO!F54*100<>0, IF(V54/COUNTRY_INFO!F54*100>100,100,V54/COUNTRY_INFO!F54*100), \"-\"),0)","v":100},155135,{"$f":"IF(AND(COUNTRY_INFO!J54>1,COUNTRY_INFO!J54<4), IF(S54/P54*100<>0, IF(X54/P54*100>100,100,X54/P54*100), \"-\"),0)","v":70.707139764362708},{"$f":"COUNTRY_INFO!O54","v":473716},null,null,{"$f":"MAX('T1'!L54,'T2'!J54)+MAX('T1'!M54,'T2'!K54)+MAX('T1'!N54,'T2'!L54)","v":128218},{"$f":"IF(COUNTRY_INFO!K54=1,IF(COUNTRY_INFO!F54*0.33>MAX('T1'!M54,'T2'!K54),MAX('T1'!M54,'T2'!K54),COUNTRY_INFO!F54*0.33),IF(COUNTRY_INFO!K54=2,IF(COUNTRY_INFO!F54*0.5>MAX('T1'!M54,'T2'!K54),MAX('T1'!M54,'T2'!K54),COUNTRY_INFO!F54*0.5),IF(COUNTRY_INFO!K54=3,IF(COUNTRY_INFO!F54>MAX('T1'!M54,'T2'!K54),MAX('T1'!M54,'T2'!K54),COUNTRY_INFO!F54),0)))","v":128218},{"$f":"IF(AND(COUNTRY_INFO!K54>0,COUNTRY_INFO!K54<4),IF(Z54>0,IF(COUNTRY_INFO!K54=1, AD54/(COUNTRY_INFO!F54*0.33)*100, IF(COUNTRY_INFO!K54=2, AD54/(COUNTRY_INFO!F54*0.5)*100, IF(COUNTRY_INFO!K54=3, AD54/COUNTRY_INFO!F54*100))),\"-\"),0)","v":82.649305443645858},{"$f":"IF(COUNTRY_INFO!K54=2,IF(COUNTRY_INFO!G54*0.2>MAX('T1'!N54,'T2'!L54),MAX('T1'!N54,'T2'!L54),COUNTRY_INFO!G54*0.2),IF(COUNTRY_INFO!K54=3,IF(COUNTRY_INFO!G54>MAX('T1'!N54,'T2'!L54),MAX('T1'!N54,'T2'!L54),COUNTRY_INFO!G54),0))","v":0},{"$f":"IF(AND(COUNTRY_INFO!K54>0,COUNTRY_INFO!K54<4),IF(Z54>0,IF(COUNTRY_INFO!K54=1, 0, IF(COUNTRY_INFO!K54=2, AF54/(COUNTRY_INFO!G54*0.2)*100, IF(COUNTRY_INFO!K54=3, AF54/COUNTRY_INFO!G54*100))),\"-\"),0)","v":0},128218,{"$f":"IF(AND(COUNTRY_INFO!K54>0,COUNTRY_INFO!K54<4), IF(AC54/Z54*100<>0, IF(AH54/Z54*100>100,100,AH54/Z54*100), \"-\"),0)","v":27.066427986388469},null,{"$f":"IF(AND(D54<>0, D54<>\"Unknown\",D54<>\"Stopped\",D54<>\"Not required\"),D54/COUNTRY_INFO!D54, 0)","v":1},{"$f":"IF(AND(J54<>0,J54<>\"Unknown\",J54<>\"Stopped\",J54<>\"Not required\"),J54/COUNTRY_INFO!D54, 0)","v":0},{"$f":"IF(AND(P54<>0,P54<>\"Unknown\",P54<>\"Not required\"),P54/(COUNTRY_INFO!E54+COUNTRY_INFO!F54), 0)","v":1},{"$f":"IF(AND(Z54<>0,Z54<>\"Unknown\",Z54<>\"Not required\"),IF(COUNTRY_INFO!K54=1,1,IF(COUNTRY_INFO!K54=2,0.5*COUNTRY_INFO!F54/(0.5*COUNTRY_INFO!F54+0.2*COUNTRY_INFO!G54),IF(COUNTRY_INFO!K54=3,COUNTRY_INFO!F54/(COUNTRY_INFO!F54+COUNTRY_INFO!G54)))),0)","v":0.32748524432360315},{"$f":"IF(AND(Z54<>0,Z54<>\"Unknown\",Z54<>\"Not required\"),IF(COUNTRY_INFO!K54=1,0,IF(COUNTRY_INFO!K54=2,0.2*COUNTRY_INFO!G54/(0.5*COUNTRY_INFO!F54+0.2*COUNTRY_INFO!G54),IF(COUNTRY_INFO!K54=3,COUNTRY_INFO!G54/(COUNTRY_INFO!F54+COUNTRY_INFO!G54)))),0)","v":0.67251475567639685},{"$f":"MAX(COUNTRY_INFO!D54*AK54*PROFILE!$G$7,COUNTRY_INFO!D54*AL54*PROFILE!$G$7)","v":16067.713936596496},{"$f":"MAX(COUNTRY_INFO!D54*AK54*PROFILE!$G$8,COUNTRY_INFO!D54*AL54*PROFILE!$G$8,COUNTRY_INFO!D54*AM54*PROFILE!$G$8)","v":64270.176663006663},{"$f":"MAX(COUNTRY_INFO!D54*AK54*PROFILE!$G$9,COUNTRY_INFO!D54*AL54*PROFILE!$G$9,COUNTRY_INFO!D54*AM54*PROFILE!$G$9,IF(AND(DISTRICT!Z54<>\"Unknown\",Z54<>\"Not required\"),COUNTRY_INFO!O54*DISTRICT!AN54,0))","v":155135.05756692251},{"$f":"MAX(COUNTRY_INFO!D54*AK54*PROFILE!$G$10,COUNTRY_INFO!D54*AL54*PROFILE!$G$10,IF(AND(DISTRICT!Z54<>\"Unknown\",Z54<>\"Not required\"),COUNTRY_INFO!O54*DISTRICT!AO54,0))","v":318581.10800465138},554054.05617117707,"Y",{"$f":"MAX('MDA2'!J54,'T1'!L54,'T2'!J54,T3_R1!K54,T3_R2!K54)","v":0},{"$f":"MAX('MDA1'!K54,'MDA2'!K54,'MDA3'!I54,'MDA3'!L54,'T1'!M54,'T2'!K54,T3_R1!L54,T3_R2!L54)","v":230594},{"$f":"MAX('MDA1'!L54,'MDA2'!L54,'MDA3'!J54,'MDA3'!M54,'T1'!N54,'T2'!L54,T3_R1!M54,T3_R2!M54)","v":234230},464824,{"$f":"MAX('MDA2'!J54,T54)","v":0},{"$f":"MAX('MDA1'!K54,'MDA2'!K54,'MDA3'!I54,'MDA3'!L54,V54,AD54)","v":230594},{"$f":"MAX('MDA1'!L54,'MDA2'!L54,'MDA3'!J54,'MDA3'!M54,AF54)","v":234230},464824,83.895063094058614]
[{"$f":"IF(COUNTRY_INFO!A55=0,\" \",COUNTRY_INFO!A55)","v":"Mozambique"},{"$f":"IF(COUNTRY_INFO!B55=0,\" \",COUNTRY_INFO!B55)","v":"Nampula"},{"$f":"IF(COUNTRY_INFO!C55=0,\" \",COUNTRY_INFO!C55)","v":"Moma"},{"$f":"COUNTRY_INFO!L55","v":334955.11273604119},null,null,{"$f":"MAX('MDA1'!M55,'MDA2'!M55)","v":290367},{"$f":"IF(AND(COUNTRY_INFO!H55>0,COUNTRY_INFO!H55<4),IF(D55>MAX('MDA1'!M55,'MDA2'!M55),MAX('MDA1'!M55,'MDA2'!M55),D55),0)","v":290367},{"$f":"IF(AND(COUNTRY_INFO!H55>0,COUNTRY_INFO!H55<4), IF(G55/D55*100<>0, IF(G55/D55*100>100,100,G55/D55*100), \"-\"),0)","v":86.688331946382775},{"$f":"COUNTRY_INFO!M55","v":"Not required"},null,null,{"$f":"MAX('MDA1'!M55,MAX('MDA3'!I55,'MDA3'!L55)+MAX('MDA3'!J55,'MDA3'!M55))","v":290367},{"$f":"IF(AND(COUNTRY_INFO!I55>0,COUNTRY_INFO!I55<4),IF(J55>MAX('MDA1'!M55,MAX('MDA3'!I55,'MDA3'!L55)+MAX('MDA3'!J55,'MDA3'!M55)),MAX('MDA1'!M55,MAX('MDA3'!I55,'MDA3'!L55)+MAX('MDA3'!J55,'MDA3'!M55)),J55),0)","v":0},{"$f":"IF(AND(COUNTRY_INFO!I55>0,COUNTRY_INFO!I55<4), IF(M55/J55*100<>0, IF(M55/J55*100>100,100,M55/J55*100), \"-\"),0)","v":0},{"$f":"COUNTRY_INFO!N55","v":132642},139363,151004,{"$f":"SUM(MAX('MDA2'!J55, 'T1'!L55, MAX(T3_R1!K55, T3_R2!K55)), MAX('MDA1'!K55, 'MDA2'!K55, 'T1'!M55, MAX(T3_R1!L55, T3_R2!L55)), MAX('MDA1'!L55, 'MDA2'!L55, 'T1'!N55, MAX(T3_R1!M55, T3_R2!M55)))","v":290367},{"$f":"IF(AND(COUNTRY_INFO!J55>1,COUNTRY_INFO!J55<4),IF(COUNTRY_INFO!E55>MAX('MDA2'!J55,'T1'!L55,MAX(T3_R1!K55,T3_R2!K55)),MAX('MDA2'!J55,'T1'!L55,MAX(T3_R1!K55,T3_R2!K55)),COUNTRY_INFO!E55),0)","v":0},{"$f":"IF(AND(COUNTRY_INFO!J55>1,COUNTRY_INFO!J55<4), IF(T55/COUNTRY_INFO!E55*100<>0, IF(T55/COUNTRY_INFO!E55*100>100,100,T55/COUNTRY_INFO!E55*100), \"-\"),0)","v":"-"},{"$f":"IF(AND(COUNTRY_INFO!J55>1,COUNTRY_INFO!J55<4),IF(COUNTRY_INFO!F55>MAX('MDA1'!K55,'MDA2'!K55,'T1'!M55,MAX(T3_R1!L55,T3_R2!L55)),MAX('MDA1'!K55,'MDA2'!K55,'T1'!M55,MAX(T3_R1!L55,T3_R2!L55)),COUNTRY_INFO!F55),0)","v":93787},{"$f":"IF(AND(COUNTRY_INFO!J55>1,COUNTRY_INFO!J55<4), IF(V55/COUNTRY_INFO!F55*100<>0, IF(V55/COUNTRY_INFO!F55*100>100,100,V55/COUNTRY_INFO!F55*100), \"-\"),0)","v":100},93787,{"$f":"IF(AND(COUNTRY_INFO!J55>1,COUNTRY_INFO!J55<4), IF(S55/P55*100<>0, IF(X55/P55*100>100,100,X55/P55*100), \"-\"),0)","v":70.706865095520271},{"$f":"COUNTRY_INFO!O55","v":286386},null,null,{"$f":"MAX('T1'!L55,'T2'!J55)+MAX('T1'!M55,'T2'!K55)+MAX('T1'!N55,'T2'!L55)","v":83815},{"$f":"IF(COUNTRY_INFO!K55=1,IF(COUNTRY_INFO!F55*0.33>MAX('T1'!M55,'T2'!K55),MAX('T1'!M55,'T2'!K55),COUNTRY_INFO!F55*0.33),IF(COUNTRY_INFO!K55=2,IF(COUNTRY_INFO!F55*0.5>MAX('T1'!M55,'T2'!K55),MAX('T1'!M55,'T2'!K55),COUNTRY_INFO!F55*0.5),IF(COUNTRY_INFO!K55=3,IF(COUNTRY_INFO!F55>MAX('T1'!M55,'T2'!K55),MAX('T1'!M55,'T2'!K55),COUNTRY_INFO!F55),0)))","v":83815},{"$f":"IF(AND(COUNTRY_INFO!K55>0,COUNTRY_INFO!K55<4),IF(Z55>0,IF(COUNTRY_INFO!K55=1, AD55/(COUNTRY_INFO!F55*0.33)*100, IF(COUNTRY_INFO!K55=2, AD55/(COUNTRY_INFO!F55*0.5)*100, IF(COUNTRY_INFO!K55=3, AD55/COUNTRY_INFO!F55*100))),\"-\"),0)","v":89.367396334246749},{"$f":"IF(COUNTRY_INFO!K55=2,IF(COUNTRY_INFO!G55*0.2>MAX('T1'!N55,'T2'!L55),MAX('T1'!N55,'T2'!L55),COUNTRY_INFO!G55*0.2),IF(COUNTRY_INFO!K55=3,IF(COUNTRY_INFO!G55>MAX('T1'!N55,'T2'!L55),MAX('T1'!N55,'T2'!L55),COUNTRY_INFO!G55),0))","v":0},{"$f":"IF(AND(COUNTRY_INFO!K55>0,COUNTRY_INFO!K55<4),IF(Z55>0,IF(COUNTRY_INFO!K55=1, 0, IF(COUNTRY_INFO!K55=2, AF55/(COUNTRY_INFO!G55*0.2)*100, IF(COUNTRY_INFO!K55=3, AF55/COUNTRY_INFO!G55*100))),\"-\"),0)","v":0},83815,{"$f":"IF(AND(COUNTRY_INFO!K55>0,COUNTRY_INFO!K55<4), IF(AC55/Z55*100<>0, IF(AH55/Z55*100>100,100,AH55/Z55*100), \"-\"),0)","v":29.266444588771794},null,{"$f":"IF(AND(D55<>0, D55<>\"Unknown\",D55<>\"Stopped\",D55<>\"Not required\"),D55/COUNTRY_INFO!D55, 0)","v":1},{"$f":"IF(AND(J55<>0,J55<>\"Unknown\",J55<>\"Stopped\",J55<>\"Not required\"),J55/COUNTRY_INFO!D55, 0)","v":0},{"$f":"IF(AND(P55<>0,P55<>\"Unknown\",P55<>\"Not required\"),P55/(COUNTRY_INFO!E55+COUNTRY_INFO!F55), 0)","v":1},{"$f":"IF(AND(Z55<>0,Z55<>\"Unknown\",Z55<>\"Not required\"),IF(COUNTRY_INFO!K55=1,1,IF(COUNTRY_INFO!K55=2,0.5*COUNTRY_INFO!F55/(0.5*COUNTRY_INFO!F55+0.2*COUNTRY_INFO!G55),IF(COUNTRY_INFO!K55=3,COUNTRY_INFO!F55/(COUNTRY_INFO!F55+COUNTRY_INFO!G55)))),0)","v":0.32748458374361877},{"$f":"IF(AND(Z55<>0,Z55<>\"Unknown\",Z55<>\"Not required\"),IF(COUNTRY_INFO!K55=1,0,IF(COUNTRY_INFO!K55=2,0.2*COUNTRY_INFO!G55/(0.5*COUNTRY_INFO!F55+0.2*COUNTRY_INFO!G55),IF(COUNTRY_INFO!K55=3,COUNTRY_INFO!G55/(COUNTRY_INFO!F55+COUNTRY_INFO!G55)))),0)","v":0.67251541625638123},{"$f":"MAX(COUNTRY_INFO!D55*AK55*PROFILE!$G$7,COUNTRY_INFO!D55*AL55*PROFILE!$G$7)","v":9713.7867200819874},{"$f":"MAX(COUNTRY_INFO!D55*AK55*PROFILE!$G$8,COUNTRY_INFO!D55*AL55*PROFILE!$G$8,COUNTRY_INFO!D55*AM55*PROFILE!$G$8)","v":38854.736338346811},{"$f":"MAX(COUNTRY_INFO!D55*AK55*PROFILE!$G$9,COUNTRY_INFO!D55*AL55*PROFILE!$G$9,COUNTRY_INFO!D55*AM55*PROFILE!$G$9,IF(AND(DISTRICT!Z55<>\"Unknown\",Z55<>\"Not required\"),COUNTRY_INFO!O55*DISTRICT!AN55,0))","v":93787.384313610222},{"$f":"MAX(COUNTRY_INFO!D55*AK55*PROFILE!$G$10,COUNTRY_INFO!D55*AL55*PROFILE!$G$10,IF(AND(DISTRICT!Z55<>\"Unknown\",Z55<>\"Not required\"),COUNTRY_INFO!O55*DISTRICT!AO55,0))","v":192599.20536400218},334955.11273604119,"Y",{"$f":"MAX('MDA2'!J55,'T1'!L55,'T2'!J55,T3_R1!K55,T3_R2!K55)","v":0},{"$f":"MAX('MDA1'!K55,'MDA2'!K55,'MDA3'!I55,'MDA3'!L55,'T1'!M55,'T2'!K55,T3_R1!L55,T3_R2!L55)","v":148443},{"$f":"MAX('MDA1'!L55,'MDA2'!L55,'MDA3'!J55,'MDA3'!M55,'T1'!N55,'T2'!L55,T3_R1!M55,T3_R2!M55)","v":141924},290367,{"$f":"MAX('MDA2'!J55,T55)","v":0},{"$f":"MAX('MDA1'!K55,'MDA2'!K55,'MDA3'!I55,'MDA3'!L55,V55,AD55)","v":148443},{"$f":"MAX('MDA1'!L55,'MDA2'!L55,'MDA3'!J55,'MDA3'!M55,AF55)","v":141924},290367,86.688331946382775]
[{"$f":"IF(COUNTRY_INFO!A56=0,\" \",COUNTRY_INFO!A56)","v":"Mozambique"},{"$f":"IF(COUNTRY_INFO!B56=0,\" \",COUNTRY_INFO!B56)","v":"Nampula"},{"$f":"IF(COUNTRY_INFO!C56=0,\" \",COUNTRY_INFO!C56)","v":"Monapo"},{"$f":"COUNTRY_INFO!L56","v":406154.43122013431},null,null,{"$f":"MAX('MDA1'!M56,'MDA2'!M56)","v":318325},{"$f":"IF(AND(COUNTRY_INFO!H56>0,COUNTRY_INFO!H56<4),IF(D56>MAX('MDA1'!M56,'MDA2'!M56),MAX('MDA1'!M56,'MDA2'!M56),D56),0)","v":318325},{"$f":"IF(AND(COUNTRY_INFO!H56>0,COUNTRY_INFO!H56<4), IF(G56/D56*100<>0, IF(G56/D56*100>100,100,G56/D56*100), \"-\"),0)","v":78.375360584818765},{"$f":"COUNTRY_INFO!M56","v":"Not required"},null,null,{"$f":"MAX('MDA1'!M56,MAX('MDA3'!I56,'MDA3'!L56)+MAX('MDA3'!J56,'MDA3'!M56))","v":318325},{"$f":"IF(AND(COUNTRY_INFO!I56>0,COUNTRY_INFO!I56<4),IF(J56>MAX('MDA1'!M56,MAX('MDA3'!I56,'MDA3'!L56)+MAX('MDA3'!J56,'MDA3'!M56)),MAX('MDA1'!M56,MAX('MDA3'!I56,'MDA3'!L56)+MAX('MDA3'!J56,'MDA3'!M56)),J56),0)","v":0},{"$f":"IF(AND(COUNTRY_INFO!I56>0,COUNTRY_INFO!I56<4), IF(M56/J56*100<>0, IF(M56/J56*100>100,100,M56/J56*100), \"-\"),0)","v":0},{"$f":"COUNTRY_INFO!N56","v":160837},157474,160851,{"$f":"SUM(MAX('MDA2'!J56, 'T1'!L56, MAX(T3_R1!K56, T3_R2!K56)), MAX('MDA1'!K56, 'MDA2'!K56, 'T1'!M56, MAX(T3_R1!L56, T3_R2!L56)), MAX('MDA1'!L56, 'MDA2'!L56, 'T1'!N56, MAX(T3_R1!M56, T3_R2!M56)))","v":318325},{"$f":"IF(AND(COUNTRY_INFO!J56>1,COUNTRY_INFO!J56<4),IF(COUNTRY_INFO!E56>MAX('MDA2'!J56,'T1'!L56,MAX(T3_R1!K56,T3_R2!K56)),MAX('MDA2'!J56,'T1'!L56,MAX(T3_R1!K56,T3_R2!K56)),COUNTRY_INFO!E56),0)","v":0},{"$f":"IF(AND(COUNTRY_INFO!J56>1,COUNTRY_INFO!J56<4), IF(T56/COUNTRY_INFO!E56*100<>0, IF(T56/COUNTRY_INFO!E56*100>100,100,T56/COUNTRY_INFO!E56*100), \"-\"),0)","v":"-"},{"$f":"IF(AND(COUNTRY_INFO!J56>1,COUNTRY_INFO!J56<4),IF(COUNTRY_INFO!F56>MAX('MDA1'!K56,'MDA2'!K56,'T1'!M56,MAX(T3_R1!L56,T3_R2!L56)),MAX('MDA1'!K56,'MDA2'!K56,'T1'!M56,MAX(T3_R1!L56,T3_R2!L56)),COUNTRY_INFO!F56),0)","v":113723},{"$f":"IF(AND(COUNTRY_INFO!J56>1,COUNTRY_INFO!J56<4), IF(V56/COUNTRY_INFO!F56*100<>0, IF(V56/COUNTRY_INFO!F56*100>100,100,V56/COUNTRY_INFO!F56*100), \"-\"),0)","v":100},113723,{"$f":"IF(AND(COUNTRY_INFO!J56>1,COUNTRY_INFO!J56<4), IF(S56/P56*100<>0, IF(X56/P56*100>100,100,X56/P56*100), \"-\"),0)","v":70.706989063461762},{"$f":"COUNTRY_INFO!O56","v":347262},null,null,{"$f":"MAX('T1'!L56,'T2'!J56)+MAX('T1'!M56,'T2'!K56)+MAX('T1'!N56,'T2'!L56)","v":103915},{"$f":"IF(COUNTRY_INFO!K56=1,IF(COUNTRY_INFO!F56*0.33>MAX('T1'!M56,'T2'!K56),MAX('T1'!M56,'T2'!K56),COUNTRY_INFO!F56*0.33),IF(COUNTRY_INFO!K56=2,IF(COUNTRY_INFO!F56*0.5>MAX('T1'!M56,'T2'!K56),MAX('T1'!M56,'T2'!K56),COUNTRY_INFO!F56*0.5),IF(COUNTRY_INFO!K56=3,IF(COUNTRY_INFO!F56>MAX('T1'!M56,'T2'!K56),MAX('T1'!M56,'T2'!K56),COUNTRY_INFO!F56),0)))","v":103915},{"$f":"IF(AND(COUNTRY_INFO!K56>0,COUNTRY_INFO!K56<4),IF(Z56>0,IF(COUNTRY_INFO!K56=1, AD56/(COUNTRY_INFO!F56*0.33)*100, IF(COUNTRY_INFO!K56=2, AD56/(COUNTRY_INFO!F56*0.5)*100, IF(COUNTRY_INFO!K56=3, AD56/COUNTRY_INFO!F56*100))),\"-\"),0)","v":91.375535291893456},{"$f":"IF(COUNTRY_INFO!K56=2,IF(COUNTRY_INFO!G56*0.2>MAX('T1'!N56,'T2'!L56),MAX('T1'!N56,'T2'!L56),COUNTRY_INFO!G56*0.2),IF(COUNTRY_INFO!K56=3,IF(COUNTRY_INFO!G56>MAX('T1'!N56,'T2'!L56),MAX('T1'!N56,'T2'!L56),COUNTRY_INFO!G56),0))","v":0},{"$f":"IF(AND(COUNTRY_INFO!K56>0,COUNTRY_INFO!K56<4),IF(Z56>0,IF(COUNTRY_INFO!K56=1, 0, IF(COUNTRY_INFO!K56=2, AF56/(COUNTRY_INFO!G56*0.2)*100, IF(COUNTRY_INFO!K56=3, AF56/COUNTRY_INFO!G56*100))),\"-\"),0)","v":0},103915,{"$f":"IF(AND(COUNTRY_INFO!K56>0,COUNTRY_INFO!K56<4), IF(AC56/Z56*100<>0, IF(AH56/Z56*100>100,100,AH56/Z56*100), \"-\"),0)","v":29.92409189603239},null,{"$f":"IF(AND(D56<>0, D56<>\"Unknown\",D56<>\"Stopped\",D56<>\"Not required\"),D56/COUNTRY_INFO!D56, 0)","v":1},{"$f":"IF(AND(J56<>0,J56<>\"Unknown\",J56<>\"Stopped\",J56<>\"Not required\"),J56/COUNTRY_INFO!D56, 0)","v":0},{"$f":"IF(AND(P56<>0,P56<>\"Unknown\",P56<>\"Not required\"),P56/(COUNTRY_INFO!E56+COUNTRY_INFO!F56), 0)","v":1},{"$f":"IF(AND(Z56<>0,Z56<>\"Unknown\",Z56<>\"Not required\"),IF(COUNTRY_INFO!K56=1,1,IF(COUNTRY_INFO!K56=2,0.5*COUNTRY_INFO!F56/(0.5*COUNTRY_INFO!F56+0.2*COUNTRY_INFO!G56),IF(COUNTRY_INFO!K56=3,COUNTRY_INFO!F56/(COUNTRY_INFO!F56+COUNTRY_INFO!G56)))),0)","v":0.32748472335009299},{"$f":"IF(AND(Z56<>0,Z56<>\"Unknown\",Z56<>\"Not required\"),IF(COUNTRY_INFO!K56=1,0,IF(COUNTRY_INFO!K56=2,0.2*COUNTRY_INFO!G56/(0.5*COUNTRY_INFO!F56+0.2*COUNTRY_INFO!G56),IF(COUNTRY_INFO!K56=3,COUNTRY_INFO!G56/(COUNTRY_INFO!F56+COUNTRY_INFO!G56)))),0)","v":0.67251527664990696},{"$f":"MAX(COUNTRY_INFO!D56*AK56*PROFILE!$G$7,COUNTRY_INFO!D56*AL56*PROFILE!$G$7)","v":11778.585757541952},{"$f":"MAX(COUNTRY_INFO!D56*AK56*PROFILE!$G$8,COUNTRY_INFO!D56*AL56*PROFILE!$G$8,COUNTRY_INFO!D56*AM56*PROFILE!$G$8)","v":47113.845221839169},{"$f":"MAX(COUNTRY_INFO!D56*AK56*PROFILE!$G$9,COUNTRY_INFO!D56*AL56*PROFILE!$G$9,COUNTRY_INFO!D56*AM56*PROFILE!$G$9,IF(AND(DISTRICT!Z56<>\"Unknown\",Z56<>\"Not required\"),COUNTRY_INFO!O56*DISTRICT!AN56,0))","v":113723.18344499115},{"$f":"MAX(COUNTRY_INFO!D56*AK56*PROFILE!$G$10,COUNTRY_INFO!D56*AL56*PROFILE!$G$10,IF(AND(DISTRICT!Z56<>\"Unknown\",Z56<>\"Not required\"),COUNTRY_INFO!O56*DISTRICT!AO56,0))","v":233539},406154.61442437227,"Y",{"$f":"MAX('MDA2'!J56,'T1'!L56,'T2'!J56,T3_R1!K56,T3_R2!K56)","v":0},{"$f":"MAX('MDA1'!K56,'MDA2'!K56,'MDA3'!I56,'MDA3'!L56,'T1'!M56,'T2'!K56,T3_R1!L56,T3_R2!L56)","v":181157},{"$f":"MAX('MDA1'!L56,'MDA2'!L56,'MDA3'!J56,'MDA3'!M56,'T1'!N56,'T2'!L56,T3_R1!M56,T3_R2!M56)","v":137168},318325,{"$f":"MAX('MDA2'!J56,T56)","v":0},{"$f":"MAX('MDA1'!K56,'MDA2'!K56,'MDA3'!I56,'MDA3'!L56,V56,AD56)","v":181157},{"$f":"MAX('MDA1'!L56,'MDA2'!L56,'MDA3'!J56,'MDA3'!M56,AF56)","v":137168},318325,78.375325232030207]
[{"$f":"IF(COUNTRY_INFO!A57=0,\" \",COUNTRY_INFO!A57)","v":"Mozambique"},{"$f":"IF(COUNTRY_INFO!B57=0,\" \",COUNTRY_INFO!B57)","v":"Nampula"},{"$f":"IF(COUNTRY_INFO!C57=0,\" \",COUNTRY_INFO!C57)","v":"Mossuril"},{"$f":"COUNTRY_INFO!L57","v":146071.31499931266},null,null,{"$f":"MAX('MDA1'!M57,'MDA2'!M57)","v":115158},{"$f":"IF(AND(COUNTRY_INFO!H57>0,COUNTRY_INFO!H57<4),IF(D57>MAX('MDA1'!M57,'MDA2'!M57),MAX('MDA1'!M57,'MDA2'!M57),D57),0)","v":115158},{"$f":"IF(AND(COUNTRY_INFO!H57>0,COUNTRY_INFO!H57<4), IF(G57/D57*100<>0, IF(G57/D57*100>100,100,G57/D57*100), \"-\"),0)","v":78.836833912628151},{"$f":"COUNTRY_INFO!M57","v":"Not required"},null,null,{"$f":"MAX('MDA1'!M57,MAX('MDA3'!I57,'MDA3'!L57)+MAX('MDA3'!J57,'MDA3'!M57))","v":115158},{"$f":"IF(AND(COUNTRY_INFO!I57>0,COUNTRY_INFO!I57<4),IF(J57>MAX('MDA1'!M57,MAX('MDA3'!I57,'MDA3'!L57)+MAX('MDA3'!J57,'MDA3'!M57)),MAX('MDA1'!M57,MAX('MDA3'!I57,'MDA3'!L57)+MAX('MDA3'!J57,'MDA3'!M57)),J57),0)","v":0},{"$f":"IF(AND(COUNTRY_INFO!I57>0,COUNTRY_INFO!I57<4), IF(M57/J57*100<>0, IF(M57/J57*100>100,100,M57/J57*100), \"-\"),0)","v":0},{"$f":"COUNTRY_INFO!N57","v":57844},55090,60068,{"$f":"SUM(MAX('MDA2'!J57, 'T1'!L57, MAX(T3_R1!K57, T3_R2!K57)), MAX('MDA1'!K57, 'MDA2'!K57, 'T1'!M57, MAX(T3_R1!L57, T3_R2!L57)), MAX('MDA1'!L57, 'MDA2'!L57, 'T1'!N57, MAX(T3_R1!M57, T3_R2!M57)))","v":115158},{"$f":"IF(AND(COUNTRY_INFO!J57>1,COUNTRY_INFO!J57<4),IF(COUNTRY_INFO!E57>MAX('MDA2'!J57,'T1'!L57,MAX(T3_R1!K57,T3_R2!K57)),MAX('MDA2'!J57,'T1'!L57,MAX(T3_R1!K57,T3_R2!K57)),COUNTRY_INFO!E57),0)","v":0},{"$f":"IF(AND(COUNTRY_INFO!J57>1,COUNTRY_INFO!J57<4), IF(T57/COUNTRY_INFO!E57*100<>0, IF(T57/COUNTRY_INFO!E57*100>100,100,T57/COUNTRY_INFO!E57*100), \"-\"),0)","v":"-"},{"$f":"IF(AND(COUNTRY_INFO!J57>1,COUNTRY_INFO!J57<4),IF(COUNTRY_INFO!F57>MAX('MDA1'!K57,'MDA2'!K57,'T1'!M57,MAX(T3_R1!L57,T3_R2!L57)),MAX('MDA1'!K57,'MDA2'!K57,'T1'!M57,MAX(T3_R1!L57,T3_R2!L57)),COUNTRY_INFO!F57),0)","v":40900},{"$f":"IF(AND(COUNTRY_INFO!J57>1,COUNTRY_INFO!J57<4), IF(V57/COUNTRY_INFO!F57*100<>0, IF(V57/COUNTRY_INFO!F57*100>100,100,V57/COUNTRY_INFO!F57*100), \"-\"),0)","v":100},40900,{"$f":"IF(AND(COUNTRY_INFO!J57>1,COUNTRY_INFO!J57<4), IF(S57/P57*100<>0, IF(X57/P57*100>100,100,X57/P57*100), \"-\"),0)","v":70.707419957126064},{"$f":"COUNTRY_INFO!O57","v":37248.199999999997},null,null,{"$f":"MAX('T1'!L57,'T2'!J57)+MAX('T1'!M57,'T2'!K57)+MAX('T1'!N57,'T2'!L57)","v":0},{"$f":"IF(COUNTRY_INFO!K57=1,IF(COUNTRY_INFO!F57*0.33>MAX('T1'!M57,'T2'!K57),MAX('T1'!M57,'T2'!K57),COUNTRY_INFO!F57*0.33),IF(COUNTRY_INFO!K57=2,IF(COUNTRY_INFO!F57*0.5>MAX('T1'!M57,'T2'!K57),MAX('T1'!M57,'T2'!K57),COUNTRY_INFO!F57*0.5),IF(COUNTRY_INFO!K57=3,IF(COUNTRY_INFO!F57>MAX('T1'!M57,'T2'!K57),MAX('T1'!M57,'T2'!K57),COUNTRY_INFO!F57),0)))","v":0},{"$f":"IF(AND(COUNTRY_INFO!K57>0,COUNTRY_INFO!K57<4),IF(Z57>0,IF(COUNTRY_INFO!K57=1, AD57/(COUNTRY_INFO!F57*0.33)*100, IF(COUNTRY_INFO!K57=2, AD57/(COUNTRY_INFO!F57*0.5)*100, IF(COUNTRY_INFO!K57=3, AD57/COUNTRY_INFO!F57*100))),\"-\"),0)","v":0},{"$f":"IF(COUNTRY_INFO!K57=2,IF(COUNTRY_INFO!G57*0.2>MAX('T1'!N57,'T2'!L57),MAX('T1'!N57,'T2'!L57),COUNTRY_INFO!G57*0.2),IF(COUNTRY_INFO!K57=3,IF(COUNTRY_INFO!G57>MAX('T1'!N57,'T2'!L57),MAX('T1'!N57,'T2'!L57),COUNTRY_INFO!G57),0))","v":0},{"$f":"IF(AND(COUNTRY_INFO!K57>0,COUNTRY_INFO!K57<4),IF(Z57>0,IF(COUNTRY_INFO!K57=1, 0, IF(COUNTRY_INFO!K57=2, AF57/(COUNTRY_INFO!G57*0.2)*100, IF(COUNTRY_INFO!K57=3, AF57/COUNTRY_INFO!G57*100))),\"-\"),0)","v":0},0,{"$f":"IF(AND(COUNTRY_INFO!K57>0,COUNTRY_INFO!K57<4), IF(AC57/Z57*100<>0, IF(AH57/Z57*100>100,100,AH57/Z57*100), \"-\"),0)","v":"-"},null,{"$f":"IF(AND(D57<>0, D57<>\"Unknown\",D57<>\"Stopped\",D57<>\"Not required\"),D57/COUNTRY_INFO!D57, 0)","v":1},{"$f":"IF(AND(J57<>0,J57<>\"Unknown\",J57<>\"Stopped\",J57<>\"Not required\"),J57/COUNTRY_INFO!D57, 0)","v":0},{"$f":"IF(AND(P57<>0,P57<>\"Unknown\",P57<>\"Not required\"),P57/(COUNTRY_INFO!E57+COUNTRY_INFO!F57), 0)","v":1},{"$f":"IF(AND(Z57<>0,Z57<>\"Unknown\",Z57<>\"Not required\"),IF(COUNTRY_INFO!K57=1,1,IF(COUNTRY_INFO!K57=2,0.5*COUNTRY_INFO!F57/(0.5*COUNTRY_INFO!F57+0.2*COUNTRY_INFO!G57),IF(COUNTRY_INFO!K57=3,COUNTRY_INFO!F57/(COUNTRY_INFO!F57+COUNTRY_INFO!G57)))),0)","v":0.54901981840733249},{"$f":"IF(AND(Z57<>0,Z57<>\"Unknown\",Z57<>\"Not required\"),IF(COUNTRY_INFO!K57=1,0,IF(COUNTRY_INFO!K57=2,0.2*COUNTRY_INFO!G57/(0.5*COUNTRY_INFO!F57+0.2*COUNTRY_INFO!G57),IF(COUNTRY_INFO!K57=3,COUNTRY_INFO!G57/(COUNTRY_INFO!F57+COUNTRY_INFO!G57)))),0)","v":0.45098018159266762},{"$f":"MAX(COUNTRY_INFO!D57*AK57*PROFILE!$G$7,COUNTRY_INFO!D57*AL57*PROFILE!$G$7)","v":4236.1067076572554},{"$f":"MAX(COUNTRY_INFO!D57*AK57*PROFILE!$G$8,COUNTRY_INFO!D57*AL57*PROFILE!$G$8,COUNTRY_INFO!D57*AM57*PROFILE!$G$8)","v":16944.247796469615},{"$f":"MAX(COUNTRY_INFO!D57*AK57*PROFILE!$G$9,COUNTRY_INFO!D57*AL57*PROFILE!$G$9,COUNTRY_INFO!D57*AM57*PROFILE!$G$9,IF(AND(DISTRICT!Z57<>\"Unknown\",Z57<>\"Not required\"),COUNTRY_INFO!O57*DISTRICT!AN57,0))","v":40899.94759336859},{"$f":"MAX(COUNTRY_INFO!D57*AK57*PROFILE!$G$10,COUNTRY_INFO!D57*AL57*PROFILE!$G$10,IF(AND(DISTRICT!Z57<>\"Unknown\",Z57<>\"Not required\"),COUNTRY_INFO!O57*DISTRICT!AO57,0))","v":83991.012901817201},146071.31499931266,0,{"$f":"MAX('MDA2'!J57,'T1'!L57,'T2'!J57,T3_R1!K57,T3_R2!K57)","v":0},{"$f":"MAX('MDA1'!K57,'MDA2'!K57,'MDA3'!I57,'MDA3'!L57,'T1'!M57,'T2'!K57,T3_R1!L57,T3_R2!L57)","v":47623},{"$f":"MAX('MDA1'!L57,'MDA2'!L57,'MDA3'!J57,'MDA3'!M57,'T1'!N57,'T2'!L57,T3_R1!M57,T3_R2!M57)","v":67535},115158,{"$f":"MAX('MDA2'!J57,T57)","v":0},{"$f":"MAX('MDA1'!K57,'MDA2'!K57,'MDA3'!I57,'MDA3'!L57,V57,AD57)","v":47623},{"$f":"MAX('MDA1'!L57,'MDA2'!L57,'MDA3'!J57,'MDA3'!M57,AF57)","v":67535},115158,78.836833912628151]
[{"$f":"IF(COUNTRY_INFO!A58=0,\" \",COUNTRY_INFO!A58)","v":"Mozambique"},{"$f":"IF(COUNTRY_INFO!B58=0,\" \",COUNTRY_INFO!B58)","v":"Nampula"},{"$f":"IF(COUNTRY_INFO!C58=0,\" \",COUNTRY_INFO!C58)","v":"Muecate"},{"$f":"COUNTRY_INFO!L58","v":121906.24087011465},null,null,{"$f":"MAX('MDA1'!M58,'MDA2'!M58)","v":112279},{"$f":"IF(AND(COUNTRY_INFO!H58>0,COUNTRY_INFO!H58<4),IF(D58>MAX('MDA1'!M58,'MDA2'!M58),MAX('MDA1'!M58,'MDA2'!M58),D58),0)","v":112279},{"$f":"IF(AND(COUNTRY_INFO!H58>0,COUNTRY_INFO!H58<4), IF(G58/D58*100<>0, IF(G58/D58*100>100,100,G58/D58*100), \"-\"),0)","v":92.102749784260823},{"$f":"COUNTRY_INFO!M58","v":"Not required"},null,null,{"$f":"MAX('MDA1'!M58,MAX('MDA3'!I58,'MDA3'!L58)+MAX('MDA3'!J58,'MDA3'!M58))","v":112279},{"$f":"IF(AND(COUNTRY_INFO!I58>0,COUNTRY_INFO!I58<4),IF(J58>MAX('MDA1'!M58,MAX('MDA3'!I58,'MDA3'!L58)+MAX('MDA3'!J58,'MDA3'!M58)),MAX('MDA1'!M58,MAX('MDA3'!I58,'MDA3'!L58)+MAX('MDA3'!J58,'MDA3'!M58)),J58),0)","v":0},{"$f":"IF(AND(COUNTRY_INFO!I58>0,COUNTRY_INFO!I58<4), IF(M58/J58*100<>0, IF(M58/J58*100>100,100,M58/J58*100), \"-\"),0)","v":0},{"$f":"COUNTRY_INFO!N58","v":48275},56719,55560,{"$f":"SUM(MAX('MDA2'!J58, 'T1'!L58, MAX(T3_R1!K58, T3_R2!K58)), MAX('MDA1'!K58, 'MDA2'!K58, 'T1'!M58, MAX(T3_R1!L58, T3_R2!L58)), MAX('MDA1'!L58, 'MDA2'!L58, 'T1'!N58, MAX(T3_R1!M58, T3_R2!M58)))","v":112279},{"$f":"IF(AND(COUNTRY_INFO!J58>1,COUNTRY_INFO!J58<4),IF(COUNTRY_INFO!E58>MAX('MDA2'!J58,'T1'!L58,MAX(T3_R1!K58,T3_R2!K58)),MAX('MDA2'!J58,'T1'!L58,MAX(T3_R1!K58,T3_R2!K58)),COUNTRY_INFO!E58),0)","v":0},{"$f":"IF(AND(COUNTRY_INFO!J58>1,COUNTRY_INFO!J58<4), IF(T58/COUNTRY_INFO!E58*100<>0, IF(T58/COUNTRY_INFO!E58*100>100,100,T58/COUNTRY_INFO!E58*100), \"-\"),0)","v":"-"},{"$f":"IF(AND(COUNTRY_INFO!J58>1,COUNTRY_INFO!J58<4),IF(COUNTRY_INFO!F58>MAX('MDA1'!K58,'MDA2'!K58,'T1'!M58,MAX(T3_R1!L58,T3_R2!L58)),MAX('MDA1'!K58,'MDA2'!K58,'T1'!M58,MAX(T3_R1!L58,T3_R2!L58)),COUNTRY_INFO!F58),0)","v":34134},{"$f":"IF(AND(COUNTRY_INFO!J58>1,COUNTRY_INFO!J58<4), IF(V58/COUNTRY_INFO!F58*100<>0, IF(V58/COUNTRY_INFO!F58*100>100,100,V58/COUNTRY_INFO!F58*100), \"-\"),0)","v":100},34134,{"$f":"IF(AND(COUNTRY_INFO!J58>1,COUNTRY_INFO!J58<4), IF(S58/P58*100<>0, IF(X58/P58*100>100,100,X58/P58*100), \"-\"),0)","v":70.707405489383731},{"$f":"COUNTRY_INFO!O58","v":104230},null,null,{"$f":"MAX('T1'!L58,'T2'!J58)+MAX('T1'!M58,'T2'!K58)+MAX('T1'!N58,'T2'!L58)","v":29052},{"$f":"IF(COUNTRY_INFO!K58=1,IF(COUNTRY_INFO!F58*0.33>MAX('T1'!M58,'T2'!K58),MAX('T1'!M58,'T2'!K58),COUNTRY_INFO!F58*0.33),IF(COUNTRY_INFO!K58=2,IF(COUNTRY_INFO!F58*0.5>MAX('T1'!M58,'T2'!K58),MAX('T1'!M58,'T2'!K58),COUNTRY_INFO!F58*0.5),IF(COUNTRY_INFO!K58=3,IF(COUNTRY_INFO!F58>MAX('T1'!M58,'T2'!K58),MAX('T1'!M58,'T2'!K58),COUNTRY_INFO!F58),0)))","v":29052},{"$f":"IF(AND(COUNTRY_INFO!K58>0,COUNTRY_INFO!K58<4),IF(Z58>0,IF(COUNTRY_INFO!K58=1, AD58/(COUNTRY_INFO!F58*0.33)*100, IF(COUNTRY_INFO!K58=2, AD58/(COUNTRY_INFO!F58*0.5)*100, IF(COUNTRY_INFO!K58=3, AD58/COUNTRY_INFO!F58*100))),\"-\"),0)","v":85.111618913693093},{"$f":"IF(COUNTRY_INFO!K58=2,IF(COUNTRY_INFO!G58*0.2>MAX('T1'!N58,'T2'!L58),MAX('T1'!N58,'T2'!L58),COUNTRY_INFO!G58*0.2),IF(COUNTRY_INFO!K58=3,IF(COUNTRY_INFO!G58>MAX('T1'!N58,'T2'!L58),MAX('T1'!N58,'T2'!L58),COUNTRY_INFO!G58),0))","v":0},{"$f":"IF(AND(COUNTRY_INFO!K58>0,COUNTRY_INFO!K58<4),IF(Z58>0,IF(COUNTRY_INFO!K58=1, 0, IF(COUNTRY_INFO!K58=2, AF58/(COUNTRY_INFO!G58*0.2)*100, IF(COUNTRY_INFO!K58=3, AF58/COUNTRY_INFO!G58*100))),\"-\"),0)","v":0},29052,{"$f":"IF(AND(COUNTRY_INFO!K58>0,COUNTRY_INFO!K58<4), IF(AC58/Z58*100<>0, IF(AH58/Z58*100>100,100,AH58/Z58*100), \"-\"),0)","v":27.872973232274777},null,{"$f":"IF(AND(D58<>0, D58<>\"Unknown\",D58<>\"Stopped\",D58<>\"Not required\"),D58/COUNTRY_INFO!D58, 0)","v":1},{"$f":"IF(AND(J58<>0,J58<>\"Unknown\",J58<>\"Stopped\",J58<>\"Not required\"),J58/COUNTRY_INFO!D58, 0)","v":0},{"$f":"IF(AND(P58<>0,P58<>\"Unknown\",P58<>\"Not required\"),P58/(COUNTRY_INFO!E58+COUNTRY_INFO!F58), 0)","v":1},{"$f":"IF(AND(Z58<>0,Z58<>\"Unknown\",Z58<>\"Not required\"),IF(COUNTRY_INFO!K58=1,1,IF(COUNTRY_INFO!K58=2,0.5*COUNTRY_INFO!F58/(0.5*COUNTRY_INFO!F58+0.2*COUNTRY_INFO!G58),IF(COUNTRY_INFO!K58=3,COUNTRY_INFO!F58/(COUNTRY_INFO!F58+COUNTRY_INFO!G58)))),0)","v":0.32748728772906072},{"$f":"IF(AND(Z58<>0,Z58<>\"Unknown\",Z58<>\"Not required\"),IF(COUNTRY_INFO!K58=1,0,IF(COUNTRY_INFO!K58=2,0.2*COUNTRY_INFO!G58/(0.5*COUNTRY_INFO!F58+0.2*COUNTRY_INFO!G58),IF(COUNTRY_INFO!K58=3,COUNTRY_INFO!G58/(COUNTRY_INFO!F58+COUNTRY_INFO!G58)))),0)","v":0.67251271227093923},{"$f":"MAX(COUNTRY_INFO!D58*AK58*PROFILE!$G$7,COUNTRY_INFO!D58*AL58*PROFILE!$G$7)","v":3535.3131767014193},{"$f":"MAX(COUNTRY_INFO!D58*AK58*PROFILE!$G$8,COUNTRY_INFO!D58*AL58*PROFILE!$G$8,COUNTRY_INFO!D58*AM58*PROFILE!$G$8)","v":14141.10329087579},{"$f":"MAX(COUNTRY_INFO!D58*AK58*PROFILE!$G$9,COUNTRY_INFO!D58*AL58*PROFILE!$G$9,COUNTRY_INFO!D58*AM58*PROFILE!$G$9,IF(AND(DISTRICT!Z58<>\"Unknown\",Z58<>\"Not required\"),COUNTRY_INFO!O58*DISTRICT!AN58,0))","v":34134},{"$f":"MAX(COUNTRY_INFO!D58*AK58*PROFILE!$G$10,COUNTRY_INFO!D58*AL58*PROFILE!$G$10,IF(AND(DISTRICT!Z58<>\"Unknown\",Z58<>\"Not required\"),COUNTRY_INFO!O58*DISTRICT!AO58,0))","v":70096.094156351057},121906.51062392826,"Y",{"$f":"MAX('MDA2'!J58,'T1'!L58,'T2'!J58,T3_R1!K58,T3_R2!K58)","v":0},{"$f":"MAX('MDA1'!K58,'MDA2'!K58,'MDA3'!I58,'MDA3'!L58,'T1'!M58,'T2'!K58,T3_R1!L58,T3_R2!L58)","v":59993},{"$f":"MAX('MDA1'!L58,'MDA2'!L58,'MDA3'!J58,'MDA3'!M58,'T1'!N58,'T2'!L58,T3_R1!M58,T3_R2!M58)","v":52286},112279,{"$f":"MAX('MDA2'!J58,T58)","v":0},{"$f":"MAX('MDA1'!K58,'MDA2'!K58,'MDA3'!I58,'MDA3'!L58,V58,AD58)","v":59993},{"$f":"MAX('MDA1'!L58,'MDA2'!L58,'MDA3'!J58,'MDA3'!M58,AF58)","v":52286},112279,92.102545979985962]
[{"$f":"IF(COUNTRY_INFO!A59=0,\" \",COUNTRY_INFO!A59)","v":"Mozambique"},{"$f":"IF(COUNTRY_INFO!B59=0,\" \",COUNTRY_INFO!B59)","v":"Nampula"},{"$f":"IF(COUNTRY_INFO!C59=0,\" \",COUNTRY_INFO!C59)","v":"Murrupula"},{"$f":"COUNTRY_INFO!L59","v":187392.22992534589},null,null,{"$f":"MAX('MDA1'!M59,'MDA2'!M59)","v":153979},{"$f":"IF(AND(COUNTRY_INFO!H59>0,COUNTRY_INFO!H59<4),IF(D59>MAX('MDA1'!M59,'MDA2'!M59),MAX('MDA1'!M59,'MDA2'!M59),D59),0)","v":153979},{"$f":"IF(AND(COUNTRY_INFO!H59>0,COUNTRY_INFO!H59<4), IF(G59/D59*100<>0, IF(G59/D59*100>100,100,G59/D59*100), \"-\"),0)","v":82.16936212421551},{"$f":"COUNTRY_INFO!M59","v":"Not required"},null,null,{"$f":"MAX('MDA1'!M59,MAX('MDA3'!I59,'MDA3'!L59)+MAX('MDA3'!J59,'MDA3'!M59))","v":153979},{"$f":"IF(AND(COUNTRY_INFO!I59>0,COUNTRY_INFO!I59<4),IF(J59>MAX('MDA1'!M59,MAX('MDA3'!I59,'MDA3'!L59)+MAX('MDA3'!J59,'MDA3'!M59)),MAX('MDA1'!M59,MAX('MDA3'!I59,'MDA3'!L59)+MAX('MDA3'!J59,'MDA3'!M59)),J59),0)","v":0},{"$f":"IF(AND(COUNTRY_INFO!I59>0,COUNTRY_INFO!I59<4), IF(M59/J59*100<>0, IF(M59/J59*100>100,100,M59/J59*100), \"-\"),0)","v":0},{"$f":"COUNTRY_INFO!N59","v":74207},73309,80670,{"$f":"SUM(MAX('MDA2'!J59, 'T1'!L59, MAX(T3_R1!K59, T3_R2!K59)), MAX('MDA1'!K59, 'MDA2'!K59, 'T1'!M59, MAX(T3_R1!L59, T3_R2!L59)), MAX('MDA1'!L59, 'MDA2'!L59, 'T1'!N59, MAX(T3_R1!M59, T3_R2!M59)))","v":153979},{"$f":"IF(AND(COUNTRY_INFO!J59>1,COUNTRY_INFO!J59<4),IF(COUNTRY_INFO!E59>MAX('MDA2'!J59,'T1'!L59,MAX(T3_R1!K59,T3_R2!K59)),MAX('MDA2'!J59,'T1'!L59,MAX(T3_R1!K59,T3_R2!K59)),COUNTRY_INFO!E59),0)","v":0},{"$f":"IF(AND(COUNTRY_INFO!J59>1,COUNTRY_INFO!J59<4), IF(T59/COUNTRY_INFO!E59*100<>0, IF(T59/COUNTRY_INFO!E59*100>100,100,T59/COUNTRY_INFO!E59*100), \"-\"),0)","v":"-"},{"$f":"IF(AND(COUNTRY_INFO!J59>1,COUNTRY_INFO!J59<4),IF(COUNTRY_INFO!F59>MAX('MDA1'!K59,'MDA2'!K59,'T1'!M59,MAX(T3_R1!L59,T3_R2!L59)),MAX('MDA1'!K59,'MDA2'!K59,'T1'!M59,MAX(T3_R1!L59,T3_R2!L59)),COUNTRY_INFO!F59),0)","v":52470},{"$f":"IF(AND(COUNTRY_INFO!J59>1,COUNTRY_INFO!J59<4), IF(V59/COUNTRY_INFO!F59*100<>0, IF(V59/COUNTRY_INFO!F59*100>100,100,V59/COUNTRY_INFO!F59*100), \"-\"),0)","v":100},52470,{"$f":"IF(AND(COUNTRY_INFO!J59>1,COUNTRY_INFO!J59<4), IF(S59/P59*100<>0, IF(X59/P59*100>100,100,X59/P59*100), \"-\"),0)","v":70.707615184551315},{"$f":"COUNTRY_INFO!O59","v":160221},null,null,{"$f":"MAX('T1'!L59,'T2'!J59)+MAX('T1'!M59,'T2'!K59)+MAX('T1'!N59,'T2'!L59)","v":42751},{"$f":"IF(COUNTRY_INFO!K59=1,IF(COUNTRY_INFO!F59*0.33>MAX('T1'!M59,'T2'!K59),MAX('T1'!M59,'T2'!K59),COUNTRY_INFO!F59*0.33),IF(COUNTRY_INFO!K59=2,IF(COUNTRY_INFO!F59*0.5>MAX('T1'!M59,'T2'!K59),MAX('T1'!M59,'T2'!K59),COUNTRY_INFO!F59*0.5),IF(COUNTRY_INFO!K59=3,IF(COUNTRY_INFO!F59>MAX('T1'!M59,'T2'!K59),MAX('T1'!M59,'T2'!K59),COUNTRY_INFO!F59),0)))","v":42751},{"$f":"IF(AND(COUNTRY_INFO!K59>0,COUNTRY_INFO!K59<4),IF(Z59>0,IF(COUNTRY_INFO!K59=1, AD59/(COUNTRY_INFO!F59*0.33)*100, IF(COUNTRY_INFO!K59=2, AD59/(COUNTRY_INFO!F59*0.5)*100, IF(COUNTRY_INFO!K59=3, AD59/COUNTRY_INFO!F59*100))),\"-\"),0)","v":81.477034495902416},{"$f":"IF(COUNTRY_INFO!K59=2,IF(COUNTRY_INFO!G59*0.2>MAX('T1'!N59,'T2'!L59),MAX('T1'!N59,'T2'!L59),COUNTRY_INFO!G59*0.2),IF(COUNTRY_INFO!K59=3,IF(COUNTRY_INFO!G59>MAX('T1'!N59,'T2'!L59),MAX('T1'!N59,'T2'!L59),COUNTRY_INFO!G59),0))","v":0},{"$f":"IF(AND(COUNTRY_INFO!K59>0,COUNTRY_INFO!K59<4),IF(Z59>0,IF(COUNTRY_INFO!K59=1, 0, IF(COUNTRY_INFO!K59=2, AF59/(COUNTRY_INFO!G59*0.2)*100, IF(COUNTRY_INFO!K59=3, AF59/COUNTRY_INFO!G59*100))),\"-\"),0)","v":0},42751,{"$f":"IF(AND(COUNTRY_INFO!K59>0,COUNTRY_INFO!K59<4), IF(AC59/Z59*100<>0, IF(AH59/Z59*100>100,100,AH59/Z59*100), \"-\"),0)","v":26.682519769568287},null,{"$f":"IF(AND(D59<>0, D59<>\"Unknown\",D59<>\"Stopped\",D59<>\"Not required\"),D59/COUNTRY_INFO!D59, 0)","v":1},{"$f":"IF(AND(J59<>0,J59<>\"Unknown\",J59<>\"Stopped\",J59<>\"Not required\"),J59/COUNTRY_INFO!D59, 0)","v":0},{"$f":"IF(AND(P59<>0,P59<>\"Unknown\",P59<>\"Not required\"),P59/(COUNTRY_INFO!E59+COUNTRY_INFO!F59), 0)","v":1},{"$f":"IF(AND(Z59<>0,Z59<>\"Unknown\",Z59<>\"Not required\"),IF(COUNTRY_INFO!K59=1,1,IF(COUNTRY_INFO!K59=2,0.5*COUNTRY_INFO!F59/(0.5*COUNTRY_INFO!F59+0.2*COUNTRY_INFO!G59),IF(COUNTRY_INFO!K59=3,COUNTRY_INFO!F59/(COUNTRY_INFO!F59+COUNTRY_INFO!G59)))),0)","v":0.32748516112120135},{"$f":"IF(AND(Z59<>0,Z59<>\"Unknown\",Z59<>\"Not required\"),IF(COUNTRY_INFO!K59=1,0,IF(COUNTRY_INFO!K59=2,0.2*COUNTRY_INFO!G59/(0.5*COUNTRY_INFO!F59+0.2*COUNTRY_INFO!G59),IF(COUNTRY_INFO!K59=3,COUNTRY_INFO!G59/(COUNTRY_INFO!F59+COUNTRY_INFO!G59)))),0)","v":0.6725148388787987},{"$f":"MAX(COUNTRY_INFO!D59*AK59*PROFILE!$G$7,COUNTRY_INFO!D59*AL59*PROFILE!$G$7)","v":5434.4241520201531},{"$f":"MAX(COUNTRY_INFO!D59*AK59*PROFILE!$G$8,COUNTRY_INFO!D59*AL59*PROFILE!$G$8,COUNTRY_INFO!D59*AM59*PROFILE!$G$8)","v":21737.466928417882},{"$f":"MAX(COUNTRY_INFO!D59*AK59*PROFILE!$G$9,COUNTRY_INFO!D59*AL59*PROFILE!$G$9,COUNTRY_INFO!D59*AM59*PROFILE!$G$9,IF(AND(DISTRICT!Z59<>\"Unknown\",Z59<>\"Not required\"),COUNTRY_INFO!O59*DISTRICT!AN59,0))","v":52470},{"$f":"MAX(COUNTRY_INFO!D59*AK59*PROFILE!$G$10,COUNTRY_INFO!D59*AL59*PROFILE!$G$10,IF(AND(DISTRICT!Z59<>\"Unknown\",Z59<>\"Not required\"),COUNTRY_INFO!O59*DISTRICT!AO59,0))","v":107751},187392.89108043804,"Y",{"$f":"MAX('MDA2'!J59,'T1'!L59,'T2'!J59,T3_R1!K59,T3_R2!K59)","v":0},{"$f":"MAX('MDA1'!K59,'MDA2'!K59,'MDA3'!I59,'MDA3'!L59,'T1'!M59,'T2'!K59,T3_R1!L59,T3_R2!L59)","v":80990},{"$f":"MAX('MDA1'!L59,'MDA2'!L59,'MDA3'!J59,'MDA3'!M59,'T1'!N59,'T2'!L59,T3_R1!M59,T3_R2!M59)","v":72989},153979,{"$f":"MAX('MDA2'!J59,T59)","v":0},{"$f":"MAX('MDA1'!K59,'MDA2'!K59,'MDA3'!I59,'MDA3'!L59,V59,AD59)","v":80990},{"$f":"MAX('MDA1'!L59,'MDA2'!L59,'MDA3'!J59,'MDA3'!M59,AF59)","v":72989},153979,82.169072216247955]
[{"$f":"IF(COUNTRY_INFO!A60=0,\" \",COUNTRY_INFO!A60)","v":"Mozambique"},{"$f":"IF(COUNTRY_INFO!B60=0,\" \",COUNTRY_INFO!B60)","v":"Nampula"},{"$f":"IF(COUNTRY_INFO!C60=0,\" \",COUNTRY_INFO!C60)","v":"Nacala Porto"},{"$f":"COUNTRY_INFO!L60","v":251122.46165777018},null,null,{"$f":"MAX('MDA1'!M60,'MDA2'!M60)","v":214281},{"$f":"IF(AND(COUNTRY_INFO!H60>0,COUNTRY_INFO!H60<4),IF(D60>MAX('MDA1'!M60,'MDA2'!M60),MAX('MDA1'!M60,'MDA2'!M60),D60),0)","v":214281},{"$f":"IF(AND(COUNTRY_INFO!H60>0,COUNTRY_INFO!H60<4), IF(G60/D60*100<>0, IF(G60/D60*100>100,100,G60/D60*100), \"-\"),0)","v":85.329284599010606},{"$f":"COUNTRY_INFO!M60","v":"Not required"},null,null,{"$f":"MAX('MDA1'!M60,MAX('MDA3'!I60,'MDA3'!L60)+MAX('MDA3'!J60,'MDA3'!M60))","v":214281},{"$f":"IF(AND(COUNTRY_INFO!I60>0,COUNTRY_INFO!I60<4),IF(J60>MAX('MDA1'!M60,MAX('MDA3'!I60,'MDA3'!L60)+MAX('MDA3'!J60,'MDA3'!M60)),MAX('MDA1'!M60,MAX('MDA3'!I60,'MDA3'!L60)+MAX('MDA3'!J60,'MDA3'!M60)),J60),0)","v":0},{"$f":"IF(AND(COUNTRY_INFO!I60>0,COUNTRY_INFO!I60<4), IF(M60/J60*100<>0, IF(M60/J60*100>100,100,M60/J60*100), \"-\"),0)","v":0},{"$f":"COUNTRY_INFO!N60","v":99444},104035,110246,{"$f":"SUM(MAX('MDA2'!J60, 'T1'!L60, MAX(T3_R1!K60, T3_R2!K60)), MAX('MDA1'!K60, 'MDA2'!K60, 'T1'!M60, MAX(T3_R1!L60, T3_R2!L60)), MAX('MDA1'!L60, 'MDA2'!L60, 'T1'!N60, MAX(T3_R1!M60, T3_R2!M60)))","v":214281},{"$f":"IF(AND(COUNTRY_INFO!J60>1,COUNTRY_INFO!J60<4),IF(COUNTRY_INFO!E60>MAX('MDA2'!J60,'T1'!L60,MAX(T3_R1!K60,T3_R2!K60)),MAX('MDA2'!J60,'T1'!L60,MAX(T3_R1!K60,T3_R2!K60)),COUNTRY_INFO!E60),0)","v":0},{"$f":"IF(AND(COUNTRY_INFO!J60>1,COUNTRY_INFO!J60<4), IF(T60/COUNTRY_INFO!E60*100<>0, IF(T60/COUNTRY_INFO!E60*100>100,100,T60/COUNTRY_INFO!E60*100), \"-\"),0)","v":"-"},{"$f":"IF(AND(COUNTRY_INFO!J60>1,COUNTRY_INFO!J60<4),IF(COUNTRY_INFO!F60>MAX('MDA1'!K60,'MDA2'!K60,'T1'!M60,MAX(T3_R1!L60,T3_R2!L60)),MAX('MDA1'!K60,'MDA2'!K60,'T1'!M60,MAX(T3_R1!L60,T3_R2!L60)),COUNTRY_INFO!F60),0)","v":70314},{"$f":"IF(AND(COUNTRY_INFO!J60>1,COUNTRY_INFO!J60<4), IF(V60/COUNTRY_INFO!F60*100<>0, IF(V60/COUNTRY_INFO!F60*100>100,100,V60/COUNTRY_INFO!F60*100), \"-\"),0)","v":100},70314,{"$f":"IF(AND(COUNTRY_INFO!J60>1,COUNTRY_INFO!J60<4), IF(S60/P60*100<>0, IF(X60/P60*100>100,100,X60/P60*100), \"-\"),0)","v":70.707131651985037},{"$f":"COUNTRY_INFO!O60","v":64036},null,null,{"$f":"MAX('T1'!L60,'T2'!J60)+MAX('T1'!M60,'T2'!K60)+MAX('T1'!N60,'T2'!L60)","v":0},{"$f":"IF(COUNTRY_INFO!K60=1,IF(COUNTRY_INFO!F60*0.33>MAX('T1'!M60,'T2'!K60),MAX('T1'!M60,'T2'!K60),COUNTRY_INFO!F60*0.33),IF(COUNTRY_INFO!K60=2,IF(COUNTRY_INFO!F60*0.5>MAX('T1'!M60,'T2'!K60),MAX('T1'!M60,'T2'!K60),COUNTRY_INFO!F60*0.5),IF(COUNTRY_INFO!K60=3,IF(COUNTRY_INFO!F60>MAX('T1'!M60,'T2'!K60),MAX('T1'!M60,'T2'!K60),COUNTRY_INFO!F60),0)))","v":0},{"$f":"IF(AND(COUNTRY_INFO!K60>0,COUNTRY_INFO!K60<4),IF(Z60>0,IF(COUNTRY_INFO!K60=1, AD60/(COUNTRY_INFO!F60*0.33)*100, IF(COUNTRY_INFO!K60=2, AD60/(COUNTRY_INFO!F60*0.5)*100, IF(COUNTRY_INFO!K60=3, AD60/COUNTRY_INFO!F60*100))),\"-\"),0)","v":0},{"$f":"IF(COUNTRY_INFO!K60=2,IF(COUNTRY_INFO!G60*0.2>MAX('T1'!N60,'T2'!L60),MAX('T1'!N60,'T2'!L60),COUNTRY_INFO!G60*0.2),IF(COUNTRY_INFO!K60=3,IF(COUNTRY_INFO!G60>MAX('T1'!N60,'T2'!L60),MAX('T1'!N60,'T2'!L60),COUNTRY_INFO!G60),0))","v":0},{"$f":"IF(AND(COUNTRY_INFO!K60>0,COUNTRY_INFO!K60<4),IF(Z60>0,IF(COUNTRY_INFO!K60=1, 0, IF(COUNTRY_INFO!K60=2, AF60/(COUNTRY_INFO!G60*0.2)*100, IF(COUNTRY_INFO!K60=3, AF60/COUNTRY_INFO!G60*100))),\"-\"),0)","v":0},0,{"$f":"IF(AND(COUNTRY_INFO!K60>0,COUNTRY_INFO!K60<4), IF(AC60/Z60*100<>0, IF(AH60/Z60*100>100,100,AH60/Z60*100), \"-\"),0)","v":"-"},null,{"$f":"IF(AND(D60<>0, D60<>\"Unknown\",D60<>\"Stopped\",D60<>\"Not required\"),D60/COUNTRY_INFO!D60, 0)","v":1},{"$f":"IF(AND(J60<>0,J60<>\"Unknown\",J60<>\"Stopped\",J60<>\"Not required\"),J60/COUNTRY_INFO!D60, 0)","v":0},{"$f":"IF(AND(P60<>0,P60<>\"Unknown\",P60<>\"Not required\"),P60/(COUNTRY_INFO!E60+COUNTRY_INFO!F60), 0)","v":1},{"$f":"IF(AND(Z60<>0,Z60<>\"Unknown\",Z60<>\"Not required\"),IF(COUNTRY_INFO!K60=1,1,IF(COUNTRY_INFO!K60=2,0.5*COUNTRY_INFO!F60/(0.5*COUNTRY_INFO!F60+0.2*COUNTRY_INFO!G60),IF(COUNTRY_INFO!K60=3,COUNTRY_INFO!F60/(COUNTRY_INFO!F60+COUNTRY_INFO!G60)))),0)","v":0.54901930164282586},{"$f":"IF(AND(Z60<>0,Z60<>\"Unknown\",Z60<>\"Not required\"),IF(COUNTRY_INFO!K60=1,0,IF(COUNTRY_INFO!K60=2,0.2*COUNTRY_INFO!G60/(0.5*COUNTRY_INFO!F60+0.2*COUNTRY_INFO!G60),IF(COUNTRY_INFO!K60=3,COUNTRY_INFO!G60/(COUNTRY_INFO!F60+COUNTRY_INFO!G60)))),0)","v":0.45098069835717408},{"$f":"MAX(COUNTRY_INFO!D60*AK60*PROFILE!$G$7,COUNTRY_INFO!D60*AL60*PROFILE!$G$7)","v":7282.6177013391562},{"$f":"MAX(COUNTRY_INFO!D60*AK60*PROFILE!$G$8,COUNTRY_INFO!D60*AL60*PROFILE!$G$8,COUNTRY_INFO!D60*AM60*PROFILE!$G$8)","v":29130.163013927275},{"$f":"MAX(COUNTRY_INFO!D60*AK60*PROFILE!$G$9,COUNTRY_INFO!D60*AL60*PROFILE!$G$9,COUNTRY_INFO!D60*AM60*PROFILE!$G$9,IF(AND(DISTRICT!Z60<>\"Unknown\",Z60<>\"Not required\"),COUNTRY_INFO!O60*DISTRICT!AN60,0))","v":70314.253838057411},{"$f":"MAX(COUNTRY_INFO!D60*AK60*PROFILE!$G$10,COUNTRY_INFO!D60*AL60*PROFILE!$G$10,IF(AND(DISTRICT!Z60<>\"Unknown\",Z60<>\"Not required\"),COUNTRY_INFO!O60*DISTRICT!AO60,0))","v":144395.42710444634},251122.46165777018,0,{"$f":"MAX('MDA2'!J60,'T1'!L60,'T2'!J60,T3_R1!K60,T3_R2!K60)","v":0},{"$f":"MAX('MDA1'!K60,'MDA2'!K60,'MDA3'!I60,'MDA3'!L60,'T1'!M60,'T2'!K60,T3_R1!L60,T3_R2!L60)","v":140519},{"$f":"MAX('MDA1'!L60,'MDA2'!L60,'MDA3'!J60,'MDA3'!M60,'T1'!N60,'T2'!L60,T3_R1!M60,T3_R2!M60)","v":73762},214281,{"$f":"MAX('MDA2'!J60,T60)","v":0},{"$f":"MAX('MDA1'!K60,'MDA2'!K60,'MDA3'!I60,'MDA3'!L60,V60,AD60)","v":140519},{"$f":"MAX('MDA1'!L60,'MDA2'!L60,'MDA3'!J60,'MDA3'!M60,AF60)","v":73762},214281,85.329284599010606]
[{"$f":"IF(COUNTRY_INFO!A61=0,\" \",COUNTRY_INFO!A61)","v":"Mozambique"},{"$f":"IF(COUNTRY_INFO!B61=0,\" \",COUNTRY_INFO!B61)","v":"Nampula"},{"$f":"IF(COUNTRY_INFO!C61=0,\" \",COUNTRY_INFO!C61)","v":"Nacala Velha"},{"$f":"COUNTRY_INFO!L61","v":139439.51746364753},null,null,{"$f":"MAX('MDA1'!M61,'MDA2'!M61)","v":122740},{"$f":"IF(AND(COUNTRY_INFO!H61>0,COUNTRY_INFO!H61<4),IF(D61>MAX('MDA1'!M61,'MDA2'!M61),MAX('MDA1'!M61,'MDA2'!M61),D61),0)","v":122740},{"$f":"IF(AND(COUNTRY_INFO!H61>0,COUNTRY_INFO!H61<4), IF(G61/D61*100<>0, IF(G61/D61*100>100,100,G61/D61*100), \"-\"),0)","v":88.023827271202975},{"$f":"COUNTRY_INFO!M61","v":"Not required"},null,null,{"$f":"MAX('MDA1'!M61,MAX('MDA3'!I61,'MDA3'!L61)+MAX('MDA3'!J61,'MDA3'!M61))","v":122740},{"$f":"IF(AND(COUNTRY_INFO!I61>0,COUNTRY_INFO!I61<4),IF(J61>MAX('MDA1'!M61,MAX('MDA3'!I61,'MDA3'!L61)+MAX('MDA3'!J61,'MDA3'!M61)),MAX('MDA1'!M61,MAX('MDA3'!I61,'MDA3'!L61)+MAX('MDA3'!J61,'MDA3'!M61)),J61),0)","v":0},{"$f":"IF(AND(COUNTRY_INFO!I61>0,COUNTRY_INFO!I61<4), IF(M61/J61*100<>0, IF(M61/J61*100>100,100,M61/J61*100), \"-\"),0)","v":0},{"$f":"COUNTRY_INFO!N61","v":55218},58412,64328,{"$f":"SUM(MAX('MDA2'!J61, 'T1'!L61, MAX(T3_R1!K61, T3_R2!K61)), MAX('MDA1'!K61, 'MDA2'!K61, 'T1'!M61, MAX(T3_R1!L61, T3_R2!L61)), MAX('MDA1'!L61, 'MDA2'!L61, 'T1'!N61, MAX(T3_R1!M61, T3_R2!M61)))","v":122740},{"$f":"IF(AND(COUNTRY_INFO!J61>1,COUNTRY_INFO!J61<4),IF(COUNTRY_INFO!E61>MAX('MDA2'!J61,'T1'!L61,MAX(T3_R1!K61,T3_R2!K61)),MAX('MDA2'!J61,'T1'!L61,MAX(T3_R1!K61,T3_R2!K61)),COUNTRY_INFO!E61),0)","v":0},{"$f":"IF(AND(COUNTRY_INFO!J61>1,COUNTRY_INFO!J61<4), IF(T61/COUNTRY_INFO!E61*100<>0, IF(T61/COUNTRY_INFO!E61*100>100,100,T61/COUNTRY_INFO!E61*100), \"-\"),0)","v":"-"},{"$f":"IF(AND(COUNTRY_INFO!J61>1,COUNTRY_INFO!J61<4),IF(COUNTRY_INFO!F61>MAX('MDA1'!K61,'MDA2'!K61,'T1'!M61,MAX(T3_R1!L61,T3_R2!L61)),MAX('MDA1'!K61,'MDA2'!K61,'T1'!M61,MAX(T3_R1!L61,T3_R2!L61)),COUNTRY_INFO!F61),0)","v":39043},{"$f":"IF(AND(COUNTRY_INFO!J61>1,COUNTRY_INFO!J61<4), IF(V61/COUNTRY_INFO!F61*100<>0, IF(V61/COUNTRY_INFO!F61*100>100,100,V61/COUNTRY_INFO!F61*100), \"-\"),0)","v":100},39043,{"$f":"IF(AND(COUNTRY_INFO!J61>1,COUNTRY_INFO!J61<4), IF(S61/P61*100<>0, IF(X61/P61*100>100,100,X61/P61*100), \"-\"),0)","v":70.707015828171976},{"$f":"COUNTRY_INFO!O61","v":119221},null,null,{"$f":"MAX('T1'!L61,'T2'!J61)+MAX('T1'!M61,'T2'!K61)+MAX('T1'!N61,'T2'!L61)","v":33693},{"$f":"IF(COUNTRY_INFO!K61=1,IF(COUNTRY_INFO!F61*0.33>MAX('T1'!M61,'T2'!K61),MAX('T1'!M61,'T2'!K61),COUNTRY_INFO!F61*0.33),IF(COUNTRY_INFO!K61=2,IF(COUNTRY_INFO!F61*0.5>MAX('T1'!M61,'T2'!K61),MAX('T1'!M61,'T2'!K61),COUNTRY_INFO!F61*0.5),IF(COUNTRY_INFO!K61=3,IF(COUNTRY_INFO!F61>MAX('T1'!M61,'T2'!K61),MAX('T1'!M61,'T2'!K61),COUNTRY_INFO!F61),0)))","v":33693},{"$f":"IF(AND(COUNTRY_INFO!K61>0,COUNTRY_INFO!K61<4),IF(Z61>0,IF(COUNTRY_INFO!K61=1, AD61/(COUNTRY_INFO!F61*0.33)*100, IF(COUNTRY_INFO!K61=2, AD61/(COUNTRY_INFO!F61*0.5)*100, IF(COUNTRY_INFO!K61=3, AD61/COUNTRY_INFO!F61*100))),\"-\"),0)","v":86.297159542043389},{"$f":"IF(COUNTRY_INFO!K61=2,IF(COUNTRY_INFO!G61*0.2>MAX('T1'!N61,'T2'!L61),MAX('T1'!N61,'T2'!L61),COUNTRY_INFO!G61*0.2),IF(COUNTRY_INFO!K61=3,IF(COUNTRY_INFO!G61>MAX('T1'!N61,'T2'!L61),MAX('T1'!N61,'T2'!L61),COUNTRY_INFO!G61),0))","v":0},{"$f":"IF(AND(COUNTRY_INFO!K61>0,COUNTRY_INFO!K61<4),IF(Z61>0,IF(COUNTRY_INFO!K61=1, 0, IF(COUNTRY_INFO!K61=2, AF61/(COUNTRY_INFO!G61*0.2)*100, IF(COUNTRY_INFO!K61=3, AF61/COUNTRY_INFO!G61*100))),\"-\"),0)","v":0},33693,{"$f":"IF(AND(COUNTRY_INFO!K61>0,COUNTRY_INFO!K61<4), IF(AC61/Z61*100<>0, IF(AH61/Z61*100>100,100,AH61/Z61*100), \"-\"),0)","v":28.260960736782948},null,{"$f":"IF(AND(D61<>0, D61<>\"Unknown\",D61<>\"Stopped\",D61<>\"Not required\"),D61/COUNTRY_INFO!D61, 0)","v":1},{"$f":"IF(AND(J61<>0,J61<>\"Unknown\",J61<>\"Stopped\",J61<>\"Not required\"),J61/COUNTRY_INFO!D61, 0)","v":0},{"$f":"IF(AND(P61<>0,P61<>\"Unknown\",P61<>\"Not required\"),P61/(COUNTRY_INFO!E61+COUNTRY_INFO!F61), 0)","v":1},{"$f":"IF(AND(Z61<>0,Z61<>\"Unknown\",Z61<>\"Not required\"),IF(COUNTRY_INFO!K61=1,1,IF(COUNTRY_INFO!K61=2,0.5*COUNTRY_INFO!F61/(0.5*COUNTRY_INFO!F61+0.2*COUNTRY_INFO!G61),IF(COUNTRY_INFO!K61=3,COUNTRY_INFO!F61/(COUNTRY_INFO!F61+COUNTRY_INFO!G61)))),0)","v":0.32748425193548114},{"$f":"IF(AND(Z61<>0,Z61<>\"Unknown\",Z61<>\"Not required\"),IF(COUNTRY_INFO!K61=1,0,IF(COUNTRY_INFO!K61=2,0.2*COUNTRY_INFO!G61/(0.5*COUNTRY_INFO!F61+0.2*COUNTRY_INFO!G61),IF(COUNTRY_INFO!K61=3,COUNTRY_INFO!G61/(COUNTRY_INFO!F61+COUNTRY_INFO!G61)))),0)","v":0.67251574806451886},{"$f":"MAX(COUNTRY_INFO!D61*AK61*PROFILE!$G$7,COUNTRY_INFO!D61*AL61*PROFILE!$G$7)","v":4043.7828278812149},{"$f":"MAX(COUNTRY_INFO!D61*AK61*PROFILE!$G$8,COUNTRY_INFO!D61*AL61*PROFILE!$G$8,COUNTRY_INFO!D61*AM61*PROFILE!$G$8)","v":16174.960405712194},{"$f":"MAX(COUNTRY_INFO!D61*AK61*PROFILE!$G$9,COUNTRY_INFO!D61*AL61*PROFILE!$G$9,COUNTRY_INFO!D61*AM61*PROFILE!$G$9,IF(AND(DISTRICT!Z61<>\"Unknown\",Z61<>\"Not required\"),COUNTRY_INFO!O61*DISTRICT!AN61,0))","v":39043.04521893723},{"$f":"MAX(COUNTRY_INFO!D61*AK61*PROFILE!$G$10,COUNTRY_INFO!D61*AL61*PROFILE!$G$10,IF(AND(DISTRICT!Z61<>\"Unknown\",Z61<>\"Not required\"),COUNTRY_INFO!O61*DISTRICT!AO61,0))","v":80178},139439.78845253063,"Y",{"$f":"MAX('MDA2'!J61,'T1'!L61,'T2'!J61,T3_R1!K61,T3_R2!K61)","v":0},{"$f":"MAX('MDA1'!K61,'MDA2'!K61,'MDA3'!I61,'MDA3'!L61,'T1'!M61,'T2'!K61,T3_R1!L61,T3_R2!L61)","v":61427},{"$f":"MAX('MDA1'!L61,'MDA2'!L61,'MDA3'!J61,'MDA3'!M61,'T1'!N61,'T2'!L61,T3_R1!M61,T3_R2!M61)","v":61313},122740,{"$f":"MAX('MDA2'!J61,T61)","v":0},{"$f":"MAX('MDA1'!K61,'MDA2'!K61,'MDA3'!I61,'MDA3'!L61,V61,AD61)","v":61427},{"$f":"MAX('MDA1'!L61,'MDA2'!L61,'MDA3'!J61,'MDA3'!M61,AF61)","v":61313},122740,88.023656204688152]
[{"$f":"IF(COUNTRY_INFO!A62=0,\" \",COUNTRY_INFO!A62)","v":"Mozambique"},{"$f":"IF(COUNTRY_INFO!B62=0,\" \",COUNTRY_INFO!B62)","v":"Nampula"},{"$f":"IF(COUNTRY_INFO!C62=0,\" \",COUNTRY_INFO!C62)","v":"Nacaroa"},{"$f":"COUNTRY_INFO!L62","v":131741.38478836263},null,null,{"$f":"MAX('MDA1'!M62,'MDA2'!M62)","v":112176},{"$f":"IF(AND(COUNTRY_INFO!H62>0,COUNTRY_INFO!H62<4),IF(D62>MAX('MDA1'!M62,'MDA2'!M62),MAX('MDA1'!M62,'MDA2'!M62),D62),0)","v":112176},{"$f":"IF(AND(COUNTRY_INFO!H62>0,COUNTRY_INFO!H62<4), IF(G62/D62*100<>0, IF(G62/D62*100>100,100,G62/D62*100), \"-\"),0)","v":85.148641924636166},{"$f":"COUNTRY_INFO!M62","v":"Not required"},null,null,{"$f":"MAX('MDA1'!M62,MAX('MDA3'!I62,'MDA3'!L62)+MAX('MDA3'!J62,'MDA3'!M62))","v":112176},{"$f":"IF(AND(COUNTRY_INFO!I62>0,COUNTRY_INFO!I62<4),IF(J62>MAX('MDA1'!M62,MAX('MDA3'!I62,'MDA3'!L62)+MAX('MDA3'!J62,'MDA3'!M62)),MAX('MDA1'!M62,MAX('MDA3'!I62,'MDA3'!L62)+MAX('MDA3'!J62,'MDA3'!M62)),J62),0)","v":0},{"$f":"IF(AND(COUNTRY_INFO!I62>0,COUNTRY_INFO!I62<4), IF(M62/J62*100<>0, IF(M62/J62*100>100,100,M62/J62*100), \"-\"),0)","v":0},{"$f":"COUNTRY_INFO!N62","v":52170},54720,57456,{"$f":"SUM(MAX('MDA2'!J62, 'T1'!L62, MAX(T3_R1!K62, T3_R2!K62)), MAX('MDA1'!K62, 'MDA2'!K62, 'T1'!M62, MAX(T3_R1!L62, T3_R2!L62)), MAX('MDA1'!L62, 'MDA2'!L62, 'T1'!N62, MAX(T3_R1!M62, T3_R2!M62)))","v":112176},{"$f":"IF(AND(COUNTRY_INFO!J62>1,COUNTRY_INFO!J62<4),IF(COUNTRY_INFO!E62>MAX('MDA2'!J62,'T1'!L62,MAX(T3_R1!K62,T3_R2!K62)),MAX('MDA2'!J62,'T1'!L62,MAX(T3_R1!K62,T3_R2!K62)),COUNTRY_INFO!E62),0)","v":0},{"$f":"IF(AND(COUNTRY_INFO!J62>1,COUNTRY_INFO!J62<4), IF(T62/COUNTRY_INFO!E62*100<>0, IF(T62/COUNTRY_INFO!E62*100>100,100,T62/COUNTRY_INFO!E62*100), \"-\"),0)","v":"-"},{"$f":"IF(AND(COUNTRY_INFO!J62>1,COUNTRY_INFO!J62<4),IF(COUNTRY_INFO!F62>MAX('MDA1'!K62,'MDA2'!K62,'T1'!M62,MAX(T3_R1!L62,T3_R2!L62)),MAX('MDA1'!K62,'MDA2'!K62,'T1'!M62,MAX(T3_R1!L62,T3_R2!L62)),COUNTRY_INFO!F62),0)","v":36888},{"$f":"IF(AND(COUNTRY_INFO!J62>1,COUNTRY_INFO!J62<4), IF(V62/COUNTRY_INFO!F62*100<>0, IF(V62/COUNTRY_INFO!F62*100>100,100,V62/COUNTRY_INFO!F62*100), \"-\"),0)","v":100},36888,{"$f":"IF(AND(COUNTRY_INFO!J62>1,COUNTRY_INFO!J62<4), IF(S62/P62*100<>0, IF(X62/P62*100>100,100,X62/P62*100), \"-\"),0)","v":70.707303047728573},{"$f":"COUNTRY_INFO!O62","v":112639},null,null,{"$f":"MAX('T1'!L62,'T2'!J62)+MAX('T1'!M62,'T2'!K62)+MAX('T1'!N62,'T2'!L62)","v":35161},{"$f":"IF(COUNTRY_INFO!K62=1,IF(COUNTRY_INFO!F62*0.33>MAX('T1'!M62,'T2'!K62),MAX('T1'!M62,'T2'!K62),COUNTRY_INFO!F62*0.33),IF(COUNTRY_INFO!K62=2,IF(COUNTRY_INFO!F62*0.5>MAX('T1'!M62,'T2'!K62),MAX('T1'!M62,'T2'!K62),COUNTRY_INFO!F62*0.5),IF(COUNTRY_INFO!K62=3,IF(COUNTRY_INFO!F62>MAX('T1'!M62,'T2'!K62),MAX('T1'!M62,'T2'!K62),COUNTRY_INFO!F62),0)))","v":35161},{"$f":"IF(AND(COUNTRY_INFO!K62>0,COUNTRY_INFO!K62<4),IF(Z62>0,IF(COUNTRY_INFO!K62=1, AD62/(COUNTRY_INFO!F62*0.33)*100, IF(COUNTRY_INFO!K62=2, AD62/(COUNTRY_INFO!F62*0.5)*100, IF(COUNTRY_INFO!K62=3, AD62/COUNTRY_INFO!F62*100))),\"-\"),0)","v":95.318260680980259},{"$f":"IF(COUNTRY_INFO!K62=2,IF(COUNTRY_INFO!G62*0.2>MAX('T1'!N62,'T2'!L62),MAX('T1'!N62,'T2'!L62),COUNTRY_INFO!G62*0.2),IF(COUNTRY_INFO!K62=3,IF(COUNTRY_INFO!G62>MAX('T1'!N62,'T2'!L62),MAX('T1'!N62,'T2'!L62),COUNTRY_INFO!G62),0))","v":0},{"$f":"IF(AND(COUNTRY_INFO!K62>0,COUNTRY_INFO!K62<4),IF(Z62>0,IF(COUNTRY_INFO!K62=1, 0, IF(COUNTRY_INFO!K62=2, AF62/(COUNTRY_INFO!G62*0.2)*100, IF(COUNTRY_INFO!K62=3, AF62/COUNTRY_INFO!G62*100))),\"-\"),0)","v":0},35161,{"$f":"IF(AND(COUNTRY_INFO!K62>0,COUNTRY_INFO!K62<4), IF(AC62/Z62*100<>0, IF(AH62/Z62*100>100,100,AH62/Z62*100), \"-\"),0)","v":31.215653548060619},null,{"$f":"IF(AND(D62<>0, D62<>\"Unknown\",D62<>\"Stopped\",D62<>\"Not required\"),D62/COUNTRY_INFO!D62, 0)","v":1},{"$f":"IF(AND(J62<>0,J62<>\"Unknown\",J62<>\"Stopped\",J62<>\"Not required\"),J62/COUNTRY_INFO!D62, 0)","v":0},{"$f":"IF(AND(P62<>0,P62<>\"Unknown\",P62<>\"Not required\"),P62/(COUNTRY_INFO!E62+COUNTRY_INFO!F62), 0)","v":1},{"$f":"IF(AND(Z62<>0,Z62<>\"Unknown\",Z62<>\"Not required\"),IF(COUNTRY_INFO!K62=1,1,IF(COUNTRY_INFO!K62=2,0.5*COUNTRY_INFO!F62/(0.5*COUNTRY_INFO!F62+0.2*COUNTRY_INFO!G62),IF(COUNTRY_INFO!K62=3,COUNTRY_INFO!F62/(COUNTRY_INFO!F62+COUNTRY_INFO!G62)))),0)","v":0.32748870284714887},{"$f":"IF(AND(Z62<>0,Z62<>\"Unknown\",Z62<>\"Not required\"),IF(COUNTRY_INFO!K62=1,0,IF(COUNTRY_INFO!K62=2,0.2*COUNTRY_INFO!G62/(0.5*COUNTRY_INFO!F62+0.2*COUNTRY_INFO!G62),IF(COUNTRY_INFO!K62=3,COUNTRY_INFO!G62/(COUNTRY_INFO!F62+COUNTRY_INFO!G62)))),0)","v":0.67251129715285118},{"$f":"MAX(COUNTRY_INFO!D62*AK62*PROFILE!$G$7,COUNTRY_INFO!D62*AL62*PROFILE!$G$7)","v":3820.5349474718182},{"$f":"MAX(COUNTRY_INFO!D62*AK62*PROFILE!$G$8,COUNTRY_INFO!D62*AL62*PROFILE!$G$8,COUNTRY_INFO!D62*AM62*PROFILE!$G$8)","v":15281.978319388534},{"$f":"MAX(COUNTRY_INFO!D62*AK62*PROFILE!$G$9,COUNTRY_INFO!D62*AL62*PROFILE!$G$9,COUNTRY_INFO!D62*AM62*PROFILE!$G$9,IF(AND(DISTRICT!Z62<>\"Unknown\",Z62<>\"Not required\"),COUNTRY_INFO!O62*DISTRICT!AN62,0))","v":36888},{"$f":"MAX(COUNTRY_INFO!D62*AK62*PROFILE!$G$10,COUNTRY_INFO!D62*AL62*PROFILE!$G$10,IF(AND(DISTRICT!Z62<>\"Unknown\",Z62<>\"Not required\"),COUNTRY_INFO!O62*DISTRICT!AO62,0))","v":75751.302365660886},131741.81563252123,"Y",{"$f":"MAX('MDA2'!J62,'T1'!L62,'T2'!J62,T3_R1!K62,T3_R2!K62)","v":0},{"$f":"MAX('MDA1'!K62,'MDA2'!K62,'MDA3'!I62,'MDA3'!L62,'T1'!M62,'T2'!K62,T3_R1!L62,T3_R2!L62)","v":60785},{"$f":"MAX('MDA1'!L62,'MDA2'!L62,'MDA3'!J62,'MDA3'!M62,'T1'!N62,'T2'!L62,T3_R1!M62,T3_R2!M62)","v":51391},112176,{"$f":"MAX('MDA2'!J62,T62)","v":0},{"$f":"MAX('MDA1'!K62,'MDA2'!K62,'MDA3'!I62,'MDA3'!L62,V62,AD62)","v":60785},{"$f":"MAX('MDA1'!L62,'MDA2'!L62,'MDA3'!J62,'MDA3'!M62,AF62)","v":51391},112176,85.148363457280837]
[{"$f":"IF(COUNTRY_INFO!A63=0,\" \",COUNTRY_INFO!A63)","v":"Mozambique"},{"$f":"IF(COUNTRY_INFO!B63=0,\" \",COUNTRY_INFO!B63)","v":"Nampula"},{"$f":"IF(COUNTRY_INFO!C63=0,\" \",COUNTRY_INFO!C63)","v":"Nampula Dist."},{"$f":"COUNTRY_INFO!L63","v":177559.72238686206},null,null,{"$f":"MAX('MDA1'!M63,'MDA2'!M63)","v":165500},{"$f":"IF(AND(COUNTRY_INFO!H63>0,COUNTRY_INFO!H63<4),IF(D63>MAX('MDA1'!M63,'MDA2'!M63),MAX('MDA1'!M63,'MDA2'!M63),D63),0)","v":165500},{"$f":"IF(AND(COUNTRY_INFO!H63>0,COUNTRY_INFO!H63<4), IF(G63/D63*100<>0, IF(G63/D63*100>100,100,G63/D63*100), \"-\"),0)","v":93.208075443716524},{"$f":"COUNTRY_INFO!M63","v":"Not required"},null,null,{"$f":"MAX('MDA1'!M63,MAX('MDA3'!I63,'MDA3'!L63)+MAX('MDA3'!J63,'MDA3'!M63))","v":165500},{"$f":"IF(AND(COUNTRY_INFO!I63>0,COUNTRY_INFO!I63<4),IF(J63>MAX('MDA1'!M63,MAX('MDA3'!I63,'MDA3'!L63)+MAX('MDA3'!J63,'MDA3'!M63)),MAX('MDA1'!M63,MAX('MDA3'!I63,'MDA3'!L63)+MAX('MDA3'!J63,'MDA3'!M63)),J63),0)","v":0},{"$f":"IF(AND(COUNTRY_INFO!I63>0,COUNTRY_INFO!I63<4), IF(M63/J63*100<>0, IF(M63/J63*100>100,100,M63/J63*100), \"-\"),0)","v":0},{"$f":"COUNTRY_INFO!N63","v":70314},81840,83660,{"$f":"SUM(MAX('MDA2'!J63, 'T1'!L63, MAX(T3_R1!K63, T3_R2!K63)), MAX('MDA1'!K63, 'MDA2'!K63, 'T1'!M63, MAX(T3_R1!L63, T3_R2!L63)), MAX('MDA1'!L63, 'MDA2'!L63, 'T1'!N63, MAX(T3_R1!M63, T3_R2!M63)))","v":165500},{"$f":"IF(AND(COUNTRY_INFO!J63>1,COUNTRY_INFO!J63<4),IF(COUNTRY_INFO!E63>MAX('MDA2'!J63,'T1'!L63,MAX(T3_R1!K63,T3_R2!K63)),MAX('MDA2'!J63,'T1'!L63,MAX(T3_R1!K63,T3_R2!K63)),COUNTRY_INFO!E63),0)","v":0},{"$f":"IF(AND(COUNTRY_INFO!J63>1,COUNTRY_INFO!J63<4), IF(T63/COUNTRY_INFO!E63*100<>0, IF(T63/COUNTRY_INFO!E63*100>100,100,T63/COUNTRY_INFO!E63*100), \"-\"),0)","v":"-"},{"$f":"IF(AND(COUNTRY_INFO!J63>1,COUNTRY_INFO!J63<4),IF(COUNTRY_INFO!F63>MAX('MDA1'!K63,'MDA2'!K63,'T1'!M63,MAX(T3_R1!L63,T3_R2!L63)),MAX('MDA1'!K63,'MDA2'!K63,'T1'!M63,MAX(T3_R1!L63,T3_R2!L63)),COUNTRY_INFO!F63),0)","v":49717},{"$f":"IF(AND(COUNTRY_INFO!J63>1,COUNTRY_INFO!J63<4), IF(V63/COUNTRY_INFO!F63*100<>0, IF(V63/COUNTRY_INFO!F63*100>100,100,V63/COUNTRY_INFO!F63*100), \"-\"),0)","v":100},49717,{"$f":"IF(AND(COUNTRY_INFO!J63>1,COUNTRY_INFO!J63<4), IF(S63/P63*100<>0, IF(X63/P63*100>100,100,X63/P63*100), \"-\"),0)","v":70.707113803794414},{"$f":"COUNTRY_INFO!O63","v":151814},null,null,{"$f":"MAX('T1'!L63,'T2'!J63)+MAX('T1'!M63,'T2'!K63)+MAX('T1'!N63,'T2'!L63)","v":39518},{"$f":"IF(COUNTRY_INFO!K63=1,IF(COUNTRY_INFO!F63*0.33>MAX('T1'!M63,'T2'!K63),MAX('T1'!M63,'T2'!K63),COUNTRY_INFO!F63*0.33),IF(COUNTRY_INFO!K63=2,IF(COUNTRY_INFO!F63*0.5>MAX('T1'!M63,'T2'!K63),MAX('T1'!M63,'T2'!K63),COUNTRY_INFO!F63*0.5),IF(COUNTRY_INFO!K63=3,IF(COUNTRY_INFO!F63>MAX('T1'!M63,'T2'!K63),MAX('T1'!M63,'T2'!K63),COUNTRY_INFO!F63),0)))","v":39518},{"$f":"IF(AND(COUNTRY_INFO!K63>0,COUNTRY_INFO!K63<4),IF(Z63>0,IF(COUNTRY_INFO!K63=1, AD63/(COUNTRY_INFO!F63*0.33)*100, IF(COUNTRY_INFO!K63=2, AD63/(COUNTRY_INFO!F63*0.5)*100, IF(COUNTRY_INFO!K63=3, AD63/COUNTRY_INFO!F63*100))),\"-\"),0)","v":79.485890138182114},{"$f":"IF(COUNTRY_INFO!K63=2,IF(COUNTRY_INFO!G63*0.2>MAX('T1'!N63,'T2'!L63),MAX('T1'!N63,'T2'!L63),COUNTRY_INFO!G63*0.2),IF(COUNTRY_INFO!K63=3,IF(COUNTRY_INFO!G63>MAX('T1'!N63,'T2'!L63),MAX('T1'!N63,'T2'!L63),COUNTRY_INFO!G63),0))","v":0},{"$f":"IF(AND(COUNTRY_INFO!K63>0,COUNTRY_INFO!K63<4),IF(Z63>0,IF(COUNTRY_INFO!K63=1, 0, IF(COUNTRY_INFO!K63=2, AF63/(COUNTRY_INFO!G63*0.2)*100, IF(COUNTRY_INFO!K63=3, AF63/COUNTRY_INFO!G63*100))),\"-\"),0)","v":0},39518,{"$f":"IF(AND(COUNTRY_INFO!K63>0,COUNTRY_INFO!K63<4), IF(AC63/Z63*100<>0, IF(AH63/Z63*100>100,100,AH63/Z63*100), \"-\"),0)","v":26.030537368095167},null,{"$f":"IF(AND(D63<>0, D63<>\"Unknown\",D63<>\"Stopped\",D63<>\"Not required\"),D63/COUNTRY_INFO!D63, 0)","v":1},{"$f":"IF(AND(J63<>0,J63<>\"Unknown\",J63<>\"Stopped\",J63<>\"Not required\"),J63/COUNTRY_INFO!D63, 0)","v":0},{"$f":"IF(AND(P63<>0,P63<>\"Unknown\",P63<>\"Not required\"),P63/(COUNTRY_INFO!E63+COUNTRY_INFO!F63), 0)","v":1},{"$f":"IF(AND(Z63<>0,Z63<>\"Unknown\",Z63<>\"Not required\"),IF(COUNTRY_INFO!K63=1,1,IF(COUNTRY_INFO!K63=2,0.5*COUNTRY_INFO!F63/(0.5*COUNTRY_INFO!F63+0.2*COUNTRY_INFO!G63),IF(COUNTRY_INFO!K63=3,COUNTRY_INFO!F63/(COUNTRY_INFO!F63+COUNTRY_INFO!G63)))),0)","v":0.32748626608876652},{"$f":"IF(AND(Z63<>0,Z63<>\"Unknown\",Z63<>\"Not required\"),IF(COUNTRY_INFO!K63=1,0,IF(COUNTRY_INFO!K63=2,0.2*COUNTRY_INFO!G63/(0.5*COUNTRY_INFO!F63+0.2*COUNTRY_INFO!G63),IF(COUNTRY_INFO!K63=3,COUNTRY_INFO!G63/(COUNTRY_INFO!F63+COUNTRY_INFO!G63)))),0)","v":0.67251373391123348},{"$f":"MAX(COUNTRY_INFO!D63*AK63*PROFILE!$G$7,COUNTRY_INFO!D63*AL63*PROFILE!$G$7)","v":5149.2788369590962},{"$f":"MAX(COUNTRY_INFO!D63*AK63*PROFILE!$G$8,COUNTRY_INFO!D63*AL63*PROFILE!$G$8,COUNTRY_INFO!D63*AM63*PROFILE!$G$8)","v":20596.897719511195},{"$f":"MAX(COUNTRY_INFO!D63*AK63*PROFILE!$G$9,COUNTRY_INFO!D63*AL63*PROFILE!$G$9,COUNTRY_INFO!D63*AM63*PROFILE!$G$9,IF(AND(DISTRICT!Z63<>\"Unknown\",Z63<>\"Not required\"),COUNTRY_INFO!O63*DISTRICT!AN63,0))","v":49717},{"$f":"MAX(COUNTRY_INFO!D63*AK63*PROFILE!$G$10,COUNTRY_INFO!D63*AL63*PROFILE!$G$10,IF(AND(DISTRICT!Z63<>\"Unknown\",Z63<>\"Not required\"),COUNTRY_INFO!O63*DISTRICT!AO63,0))","v":102097},177560.17655647028,"Y",{"$f":"MAX('MDA2'!J63,'T1'!L63,'T2'!J63,T3_R1!K63,T3_R2!K63)","v":0},{"$f":"MAX('MDA1'!K63,'MDA2'!K63,'MDA3'!I63,'MDA3'!L63,'T1'!M63,'T2'!K63,T3_R1!L63,T3_R2!L63)","v":72858},{"$f":"MAX('MDA1'!L63,'MDA2'!L63,'MDA3'!J63,'MDA3'!M63,'T1'!N63,'T2'!L63,T3_R1!M63,T3_R2!M63)","v":92642},165500,{"$f":"MAX('MDA2'!J63,T63)","v":0},{"$f":"MAX('MDA1'!K63,'MDA2'!K63,'MDA3'!I63,'MDA3'!L63,V63,AD63)","v":72858},{"$f":"MAX('MDA1'!L63,'MDA2'!L63,'MDA3'!J63,'MDA3'!M63,AF63)","v":92642},165500,93.20783703285251]
[{"$f":"IF(COUNTRY_INFO!A64=0,\" \",COUNTRY_INFO!A64)","v":"Mozambique"},{"$f":"IF(COUNTRY_INFO!B64=0,\" \",COUNTRY_INFO!B64)","v":"Nampula"},{"$f":"IF(COUNTRY_INFO!C64=0,\" \",COUNTRY_INFO!C64)","v":"Ribaué"},{"$f":"COUNTRY_INFO!L64","v":295477.59598869417},null,null,{"$f":"MAX('MDA1'!M64,'MDA2'!M64)","v":224140},{"$f":"IF(AND(COUNTRY_INFO!H64>0,COUNTRY_INFO!H64<4),IF(D64>MAX('MDA1'!M64,'MDA2'!M64),MAX('MDA1'!M64,'MDA2'!M64),D64),0)","v":224140},{"$f":"IF(AND(COUNTRY_INFO!H64>0,COUNTRY_INFO!H64<4), IF(G64/D64*100<>0, IF(G64/D64*100>100,100,G64/D64*100), \"-\"),0)","v":75.856851092214868},{"$f":"COUNTRY_INFO!M64","v":"Not required"},null,null,{"$f":"MAX('MDA1'!M64,MAX('MDA3'!I64,'MDA3'!L64)+MAX('MDA3'!J64,'MDA3'!M64))","v":224140},{"$f":"IF(AND(COUNTRY_INFO!I64>0,COUNTRY_INFO!I64<4),IF(J64>MAX('MDA1'!M64,MAX('MDA3'!I64,'MDA3'!L64)+MAX('MDA3'!J64,'MDA3'!M64)),MAX('MDA1'!M64,MAX('MDA3'!I64,'MDA3'!L64)+MAX('MDA3'!J64,'MDA3'!M64)),J64),0)","v":0},{"$f":"IF(AND(COUNTRY_INFO!I64>0,COUNTRY_INFO!I64<4), IF(M64/J64*100<>0, IF(M64/J64*100>100,100,M64/J64*100), \"-\"),0)","v":0},{"$f":"COUNTRY_INFO!N64","v":117009},115180,108960,{"$f":"SUM(MAX('MDA2'!J64, 'T1'!L64, MAX(T3_R1!K64, T3_R2!K64)), MAX('MDA1'!K64, 'MDA2'!K64, 'T1'!M64, MAX(T3_R1!L64, T3_R2!L64)), MAX('MDA1'!L64, 'MDA2'!L64, 'T1'!N64, MAX(T3_R1!M64, T3_R2!M64)))","v":224140},{"$f":"IF(AND(COUNTRY_INFO!J64>1,COUNTRY_INFO!J64<4),IF(COUNTRY_INFO!E64>MAX('MDA2'!J64,'T1'!L64,MAX(T3_R1!K64,T3_R2!K64)),MAX('MDA2'!J64,'T1'!L64,MAX(T3_R1!K64,T3_R2!K64)),COUNTRY_INFO!E64),0)","v":0},{"$f":"IF(AND(COUNTRY_INFO!J64>1,COUNTRY_INFO!J64<4), IF(T64/COUNTRY_INFO!E64*100<>0, IF(T64/COUNTRY_INFO!E64*100>100,100,T64/COUNTRY_INFO!E64*100), \"-\"),0)","v":"-"},{"$f":"IF(AND(COUNTRY_INFO!J64>1,COUNTRY_INFO!J64<4),IF(COUNTRY_INFO!F64>MAX('MDA1'!K64,'MDA2'!K64,'T1'!M64,MAX(T3_R1!L64,T3_R2!L64)),MAX('MDA1'!K64,'MDA2'!K64,'T1'!M64,MAX(T3_R1!L64,T3_R2!L64)),COUNTRY_INFO!F64),0)","v":82734},{"$f":"IF(AND(COUNTRY_INFO!J64>1,COUNTRY_INFO!J64<4), IF(V64/COUNTRY_INFO!F64*100<>0, IF(V64/COUNTRY_INFO!F64*100>100,100,V64/COUNTRY_INFO!F64*100), \"-\"),0)","v":100},82734,{"$f":"IF(AND(COUNTRY_INFO!J64>1,COUNTRY_INFO!J64<4), IF(S64/P64*100<>0, IF(X64/P64*100>100,100,X64/P64*100), \"-\"),0)","v":70.707381483475629},{"$f":"COUNTRY_INFO!O64","v":252634},null,null,{"$f":"MAX('T1'!L64,'T2'!J64)+MAX('T1'!M64,'T2'!K64)+MAX('T1'!N64,'T2'!L64)","v":70090},{"$f":"IF(COUNTRY_INFO!K64=1,IF(COUNTRY_INFO!F64*0.33>MAX('T1'!M64,'T2'!K64),MAX('T1'!M64,'T2'!K64),COUNTRY_INFO!F64*0.33),IF(COUNTRY_INFO!K64=2,IF(COUNTRY_INFO!F64*0.5>MAX('T1'!M64,'T2'!K64),MAX('T1'!M64,'T2'!K64),COUNTRY_INFO!F64*0.5),IF(COUNTRY_INFO!K64=3,IF(COUNTRY_INFO!F64>MAX('T1'!M64,'T2'!K64),MAX('T1'!M64,'T2'!K64),COUNTRY_INFO!F64),0)))","v":70090},{"$f":"IF(AND(COUNTRY_INFO!K64>0,COUNTRY_INFO!K64<4),IF(Z64>0,IF(COUNTRY_INFO!K64=1, AD64/(COUNTRY_INFO!F64*0.33)*100, IF(COUNTRY_INFO!K64=2, AD64/(COUNTRY_INFO!F64*0.5)*100, IF(COUNTRY_INFO!K64=3, AD64/COUNTRY_INFO!F64*100))),\"-\"),0)","v":84.717286726134361},{"$f":"IF(COUNTRY_INFO!K64=2,IF(COUNTRY_INFO!G64*0.2>MAX('T1'!N64,'T2'!L64),MAX('T1'!N64,'T2'!L64),COUNTRY_INFO!G64*0.2),IF(COUNTRY_INFO!K64=3,IF(COUNTRY_INFO!G64>MAX('T1'!N64,'T2'!L64),MAX('T1'!N64,'T2'!L64),COUNTRY_INFO!G64),0))","v":0},{"$f":"IF(AND(COUNTRY_INFO!K64>0,COUNTRY_INFO!K64<4),IF(Z64>0,IF(COUNTRY_INFO!K64=1, 0, IF(COUNTRY_INFO!K64=2, AF64/(COUNTRY_INFO!G64*0.2)*100, IF(COUNTRY_INFO!K64=3, AF64/COUNTRY_INFO!G64*100))),\"-\"),0)","v":0},70090,{"$f":"IF(AND(COUNTRY_INFO!K64>0,COUNTRY_INFO!K64<4), IF(AC64/Z64*100<>0, IF(AH64/Z64*100>100,100,AH64/Z64*100), \"-\"),0)","v":27.743692456280627},null,{"$f":"IF(AND(D64<>0, D64<>\"Unknown\",D64<>\"Stopped\",D64<>\"Not required\"),D64/COUNTRY_INFO!D64, 0)","v":1},{"$f":"IF(AND(J64<>0,J64<>\"Unknown\",J64<>\"Stopped\",J64<>\"Not required\"),J64/COUNTRY_INFO!D64, 0)","v":0},{"$f":"IF(AND(P64<>0,P64<>\"Unknown\",P64<>\"Not required\"),P64/(COUNTRY_INFO!E64+COUNTRY_INFO!F64), 0)","v":1},{"$f":"IF(AND(Z64<>0,Z64<>\"Unknown\",Z64<>\"Not required\"),IF(COUNTRY_INFO!K64=1,1,IF(COUNTRY_INFO!K64=2,0.5*COUNTRY_INFO!F64/(0.5*COUNTRY_INFO!F64+0.2*COUNTRY_INFO!G64),IF(COUNTRY_INFO!K64=3,COUNTRY_INFO!F64/(COUNTRY_INFO!F64+COUNTRY_INFO!G64)))),0)","v":0.32748561159622219},{"$f":"IF(AND(Z64<>0,Z64<>\"Unknown\",Z64<>\"Not required\"),IF(COUNTRY_INFO!K64=1,0,IF(COUNTRY_INFO!K64=2,0.2*COUNTRY_INFO!G64/(0.5*COUNTRY_INFO!F64+0.2*COUNTRY_INFO!G64),IF(COUNTRY_INFO!K64=3,COUNTRY_INFO!G64/(COUNTRY_INFO!F64+COUNTRY_INFO!G64)))),0)","v":0.67251438840377775},{"$f":"MAX(COUNTRY_INFO!D64*AK64*PROFILE!$G$7,COUNTRY_INFO!D64*AL64*PROFILE!$G$7)","v":8568.9283096824147},{"$f":"MAX(COUNTRY_INFO!D64*AK64*PROFILE!$G$8,COUNTRY_INFO!D64*AL64*PROFILE!$G$8,COUNTRY_INFO!D64*AM64*PROFILE!$G$8)","v":34275.351082867499},{"$f":"MAX(COUNTRY_INFO!D64*AK64*PROFILE!$G$9,COUNTRY_INFO!D64*AL64*PROFILE!$G$9,COUNTRY_INFO!D64*AM64*PROFILE!$G$9,IF(AND(DISTRICT!Z64<>\"Unknown\",Z64<>\"Not required\"),COUNTRY_INFO!O64*DISTRICT!AN64,0))","v":82734},{"$f":"MAX(COUNTRY_INFO!D64*AK64*PROFILE!$G$10,COUNTRY_INFO!D64*AL64*PROFILE!$G$10,IF(AND(DISTRICT!Z64<>\"Unknown\",Z64<>\"Not required\"),COUNTRY_INFO!O64*DISTRICT!AO64,0))","v":169900},295478.27939254988,"Y",{"$f":"MAX('MDA2'!J64,'T1'!L64,'T2'!J64,T3_R1!K64,T3_R2!K64)","v":0},{"$f":"MAX('MDA1'!K64,'MDA2'!K64,'MDA3'!I64,'MDA3'!L64,'T1'!M64,'T2'!K64,T3_R1!L64,T3_R2!L64)","v":107792},{"$f":"MAX('MDA1'!L64,'MDA2'!L64,'MDA3'!J64,'MDA3'!M64,'T1'!N64,'T2'!L64,T3_R1!M64,T3_R2!M64)","v":116348},224140,{"$f":"MAX('MDA2'!J64,T64)","v":0},{"$f":"MAX('MDA1'!K64,'MDA2'!K64,'MDA3'!I64,'MDA3'!L64,V64,AD64)","v":107792},{"$f":"MAX('MDA1'!L64,'MDA2'!L64,'MDA3'!J64,'MDA3'!M64,AF64)","v":116348},224140,75.856675644920983]
[{"$f":"IF(COUNTRY_INFO!A65=0,\" \",COUNTRY_INFO!A65)","v":"Mozambique"},{"$f":"IF(COUNTRY_INFO!B65=0,\" \",COUNTRY_INFO!B65)","v":"Zambezia"},{"$f":"IF(COUNTRY_INFO!C65=0,\" \",COUNTRY_INFO!C65)","v":"Quelimane"},{"$f":"COUNTRY_INFO!L65","v":408480},null,null,{"$f":"MAX('MDA1'!M65,'MDA2'!M65)","v":0},{"$f":"IF(AND(COUNTRY_INFO!H65>0,COUNTRY_INFO!H65<4),IF(D65>MAX('MDA1'!M65,'MDA2'!M65),MAX('MDA1'!M65,'MDA2'!M65),D65),0)","v":0},{"$f":"IF(AND(COUNTRY_INFO!H65>0,COUNTRY_INFO!H65<4), IF(G65/D65*100<>0, IF(G65/D65*100>100,100,G65/D65*100), \"-\"),0)","v":"-"},{"$f":"COUNTRY_INFO!M65","v":"Not required"},null,null,{"$f":"MAX('MDA1'!M65,MAX('MDA3'!I65,'MDA3'!L65)+MAX('MDA3'!J65,'MDA3'!M65))","v":0},{"$f":"IF(AND(COUNTRY_INFO!I65>0,COUNTRY_INFO!I65<4),IF(J65>MAX('MDA1'!M65,MAX('MDA3'!I65,'MDA3'!L65)+MAX('MDA3'!J65,'MDA3'!M65)),MAX('MDA1'!M65,MAX('MDA3'!I65,'MDA3'!L65)+MAX('MDA3'!J65,'MDA3'!M65)),J65),0)","v":0},{"$f":"IF(AND(COUNTRY_INFO!I65>0,COUNTRY_INFO!I65<4), IF(M65/J65*100<>0, IF(M65/J65*100>100,100,M65/J65*100), \"-\"),0)","v":0},{"$f":"COUNTRY_INFO!N65","v":161758},null,null,{"$f":"SUM(MAX('MDA2'!J65, 'T1'!L65, MAX(T3_R1!K65, T3_R2!K65)), MAX('MDA1'!K65, 'MDA2'!K65, 'T1'!M65, MAX(T3_R1!L65, T3_R2!L65)), MAX('MDA1'!L65, 'MDA2'!L65, 'T1'!N65, MAX(T3_R1!M65, T3_R2!M65)))","v":0},{"$f":"IF(AND(COUNTRY_INFO!J65>1,COUNTRY_INFO!J65<4),IF(COUNTRY_INFO!E65>MAX('MDA2'!J65,'T1'!L65,MAX(T3_R1!K65,T3_R2!K65)),MAX('MDA2'!J65,'T1'!L65,MAX(T3_R1!K65,T3_R2!K65)),COUNTRY_INFO!E65),0)","v":0},{"$f":"IF(AND(COUNTRY_INFO!J65>1,COUNTRY_INFO!J65<4), IF(T65/COUNTRY_INFO!E65*100<>0, IF(T65/COUNTRY_INFO!E65*100>100,100,T65/COUNTRY_INFO!E65*100), \"-\"),0)","v":"-"},{"$f":"IF(AND(COUNTRY_INFO!J65>1,COUNTRY_INFO!J65<4),IF(COUNTRY_INFO!F65>MAX('MDA1'!K65,'MDA2'!K65,'T1'!M65,MAX(T3_R1!L65,T3_R2!L65)),MAX('MDA1'!K65,'MDA2'!K65,'T1'!M65,MAX(T3_R1!L65,T3_R2!L65)),COUNTRY_INFO!F65),0)","v":0},{"$f":"IF(AND(COUNTRY_INFO!J65>1,COUNTRY_INFO!J65<4), IF(V65/COUNTRY_INFO!F65*100<>0, IF(V65/COUNTRY_INFO!F65*100>100,100,V65/COUNTRY_INFO!F65*100), \"-\"),0)","v":"-"},0,{"$f":"IF(AND(COUNTRY_INFO!J65>1,COUNTRY_INFO!J65<4), IF(S65/P65*100<>0, IF(X65/P65*100>100,100,X65/P65*100), \"-\"),0)","v":"-"},{"$f":"COUNTRY_INFO!O65","v":104162.20000000001},null,null,{"$f":"MAX('T1'!L65,'T2'!J65)+MAX('T1'!M65,'T2'!K65)+MAX('T1'!N65,'T2'!L65)","v":0},{"$f":"IF(COUNTRY_INFO!K65=1,IF(COUNTRY_INFO!F65*0.33>MAX('T1'!M65,'T2'!K65),MAX('T1'!M65,'T2'!K65),COUNTRY_INFO!F65*0.33),IF(COUNTRY_INFO!K65=2,IF(COUNTRY_INFO!F65*0.5>MAX('T1'!M65,'T2'!K65),MAX('T1'!M65,'T2'!K65),COUNTRY_INFO!F65*0.5),IF(COUNTRY_INFO!K65=3,IF(COUNTRY_INFO!F65>MAX('T1'!M65,'T2'!K65),MAX('T1'!M65,'T2'!K65),COUNTRY_INFO!F65),0)))","v":0},{"$f":"IF(AND(COUNTRY_INFO!K65>0,COUNTRY_INFO!K65<4),IF(Z65>0,IF(COUNTRY_INFO!K65=1, AD65/(COUNTRY_INFO!F65*0.33)*100, IF(COUNTRY_INFO!K65=2, AD65/(COUNTRY_INFO!F65*0.5)*100, IF(COUNTRY_INFO!K65=3, AD65/COUNTRY_INFO!F65*100))),\"-\"),0)","v":0},{"$f":"IF(COUNTRY_INFO!K65=2,IF(COUNTRY_INFO!G65*0.2>MAX('T1'!N65,'T2'!L65),MAX('T1'!N65,'T2'!L65),COUNTRY_INFO!G65*0.2),IF(COUNTRY_INFO!K65=3,IF(COUNTRY_INFO!G65>MAX('T1'!N65,'T2'!L65),MAX('T1'!N65,'T2'!L65),COUNTRY_INFO!G65),0))","v":0},{"$f":"IF(AND(COUNTRY_INFO!K65>0,COUNTRY_INFO!K65<4),IF(Z65>0,IF(COUNTRY_INFO!K65=1, 0, IF(COUNTRY_INFO!K65=2, AF65/(COUNTRY_INFO!G65*0.2)*100, IF(COUNTRY_INFO!K65=3, AF65/COUNTRY_INFO!G65*100))),\"-\"),0)","v":0},0,{"$f":"IF(AND(COUNTRY_INFO!K65>0,COUNTRY_INFO!K65<4), IF(AC65/Z65*100<>0, IF(AH65/Z65*100>100,100,AH65/Z65*100), \"-\"),0)","v":"-"},null,{"$f":"IF(AND(D65<>0, D65<>\"Unknown\",D65<>\"Stopped\",D65<>\"Not required\"),D65/COUNTRY_INFO!D65, 0)","v":1},{"$f":"IF(AND(J65<>0,J65<>\"Unknown\",J65<>\"Stopped\",J65<>\"Not required\"),J65/COUNTRY_INFO!D65, 0)","v":0},{"$f":"IF(AND(P65<>0,P65<>\"Unknown\",P65<>\"Not required\"),P65/(COUNTRY_INFO!E65+COUNTRY_INFO!F65), 0)","v":1},{"$f":"IF(AND(Z65<>0,Z65<>\"Unknown\",Z65<>\"Not required\"),IF(COUNTRY_INFO!K65=1,1,IF(COUNTRY_INFO!K65=2,0.5*COUNTRY_INFO!F65/(0.5*COUNTRY_INFO!F65+0.2*COUNTRY_INFO!G65),IF(COUNTRY_INFO!K65=3,COUNTRY_INFO!F65/(COUNTRY_INFO!F65+COUNTRY_INFO!G65)))),0)","v":0.54901874192365363},{"$f":"IF(AND(Z65<>0,Z65<>\"Unknown\",Z65<>\"Not required\"),IF(COUNTRY_INFO!K65=1,0,IF(COUNTRY_INFO!K65=2,0.2*COUNTRY_INFO!G65/(0.5*COUNTRY_INFO!F65+0.2*COUNTRY_INFO!G65),IF(COUNTRY_INFO!K65=3,COUNTRY_INFO!G65/(COUNTRY_INFO!F65+COUNTRY_INFO!G65)))),0)","v":0.45098125807634631},{"$f":"MAX(COUNTRY_INFO!D65*AK65*PROFILE!$G$7,COUNTRY_INFO!D65*AL65*PROFILE!$G$7)","v":11846.027866265034},{"$f":"MAX(COUNTRY_INFO!D65*AK65*PROFILE!$G$8,COUNTRY_INFO!D65*AL65*PROFILE!$G$8,COUNTRY_INFO!D65*AM65*PROFILE!$G$8)","v":47383.610806368633},{"$f":"MAX(COUNTRY_INFO!D65*AK65*PROFILE!$G$9,COUNTRY_INFO!D65*AL65*PROFILE!$G$9,COUNTRY_INFO!D65*AM65*PROFILE!$G$9,IF(AND(DISTRICT!Z65<>\"Unknown\",Z65<>\"Not required\"),COUNTRY_INFO!O65*DISTRICT!AN65,0))","v":114374.34237528304},{"$f":"MAX(COUNTRY_INFO!D65*AK65*PROFILE!$G$10,COUNTRY_INFO!D65*AL65*PROFILE!$G$10,IF(AND(DISTRICT!Z65<>\"Unknown\",Z65<>\"Not required\"),COUNTRY_INFO!O65*DISTRICT!AO65,0))","v":234876.01895208328},408480,0,{"$f":"MAX('MDA2'!J65,'T1'!L65,'T2'!J65,T3_R1!K65,T3_R2!K65)","v":0},{"$f":"MAX('MDA1'!K65,'MDA2'!K65,'MDA3'!I65,'MDA3'!L65,'T1'!M65,'T2'!K65,T3_R1!L65,T3_R2!L65)","v":0},{"$f":"MAX('MDA1'!L65,'MDA2'!L65,'MDA3'!J65,'MDA3'!M65,'T1'!N65,'T2'!L65,T3_R1!M65,T3_R2!M65)","v":0},0,{"$f":"MAX('MDA2'!J65,T65)","v":0},{"$f":"MAX('MDA1'!K65,'MDA2'!K65,'MDA3'!I65,'MDA3'!L65,V65,AD65)","v":0},{"$f":"MAX('MDA1'!L65,'MDA2'!L65,'MDA3'!J65,'MDA3'!M65,AF65)","v":0},0,0]
[{"$f":"IF(COUNTRY_INFO!A66=0,\" \",COUNTRY_INFO!A66)","v":"Mozambique"},{"$f":"IF(COUNTRY_INFO!B66=0,\" \",COUNTRY_INFO!B66)","v":"Zambezia"},{"$f":"IF(COUNTRY_INFO!C66=0,\" \",COUNTRY_INFO!C66)","v":"Alto Molocué"},{"$f":"COUNTRY_INFO!L66","v":433616},null,null,{"$f":"MAX('MDA1'!M66,'MDA2'!M66)","v":0},{"$f":"IF(AND(COUNTRY_INFO!H66>0,COUNTRY_INFO!H66<4),IF(D66>MAX('MDA1'!M66,'MDA2'!M66),MAX('MDA1'!M66,'MDA2'!M66),D66),0)","v":0},{"$f":"IF(AND(COUNTRY_INFO!H66>0,COUNTRY_INFO!H66<4), IF(G66/D66*100<>0, IF(G66/D66*100>100,100,G66/D66*100), \"-\"),0)","v":"-"},{"$f":"COUNTRY_INFO!M66","v":"Not required"},null,null,{"$f":"MAX('MDA1'!M66,MAX('MDA3'!I66,'MDA3'!L66)+MAX('MDA3'!J66,'MDA3'!M66))","v":0},{"$f":"IF(AND(COUNTRY_INFO!I66>0,COUNTRY_INFO!I66<4),IF(J66>MAX('MDA1'!M66,MAX('MDA3'!I66,'MDA3'!L66)+MAX('MDA3'!J66,'MDA3'!M66)),MAX('MDA1'!M66,MAX('MDA3'!I66,'MDA3'!L66)+MAX('MDA3'!J66,'MDA3'!M66)),J66),0)","v":0},{"$f":"IF(AND(COUNTRY_INFO!I66>0,COUNTRY_INFO!I66<4), IF(M66/J66*100<>0, IF(M66/J66*100>100,100,M66/J66*100), \"-\"),0)","v":0},{"$f":"COUNTRY_INFO!N66","v":171711},null,null,{"$f":"SUM(MAX('MDA2'!J66, 'T1'!L66, MAX(T3_R1!K66, T3_R2!K66)), MAX('MDA1'!K66, 'MDA2'!K66, 'T1'!M66, MAX(T3_R1!L66, T3_R2!L66)), MAX('MDA1'!L66, 'MDA2'!L66, 'T1'!N66, MAX(T3_R1!M66, T3_R2!M66)))","v":0},{"$f":"IF(AND(COUNTRY_INFO!J66>1,COUNTRY_INFO!J66<4),IF(COUNTRY_INFO!E66>MAX('MDA2'!J66,'T1'!L66,MAX(T3_R1!K66,T3_R2!K66)),MAX('MDA2'!J66,'T1'!L66,MAX(T3_R1!K66,T3_R2!K66)),COUNTRY_INFO!E66),0)","v":0},{"$f":"IF(AND(COUNTRY_INFO!J66>1,COUNTRY_INFO!J66<4), IF(T66/COUNTRY_INFO!E66*100<>0, IF(T66/COUNTRY_INFO!E66*100>100,100,T66/COUNTRY_INFO!E66*100), \"-\"),0)","v":"-"},{"$f":"IF(AND(COUNTRY_INFO!J66>1,COUNTRY_INFO!J66<4),IF(COUNTRY_INFO!F66>MAX('MDA1'!K66,'MDA2'!K66,'T1'!M66,MAX(T3_R1!L66,T3_R2!L66)),MAX('MDA1'!K66,'MDA2'!K66,'T1'!M66,MAX(T3_R1!L66,T3_R2!L66)),COUNTRY_INFO!F66),0)","v":0},{"$f":"IF(AND(COUNTRY_INFO!J66>1,COUNTRY_INFO!J66<4), IF(V66/COUNTRY_INFO!F66*100<>0, IF(V66/COUNTRY_INFO!F66*100>100,100,V66/COUNTRY_INFO!F66*100), \"-\"),0)","v":"-"},0,{"$f":"IF(AND(COUNTRY_INFO!J66>1,COUNTRY_INFO!J66<4), IF(S66/P66*100<>0, IF(X66/P66*100>100,100,X66/P66*100), \"-\"),0)","v":"-"},{"$f":"COUNTRY_INFO!O66","v":370741},null,null,{"$f":"MAX('T1'!L66,'T2'!J66)+MAX('T1'!M66,'T2'!K66)+MAX('T1'!N66,'T2'!L66)","v":0},{"$f":"IF(COUNTRY_INFO!K66=1,IF(COUNTRY_INFO!F66*0.33>MAX('T1'!M66,'T2'!K66),MAX('T1'!M66,'T2'!K66),COUNTRY_INFO!F66*0.33),IF(COUNTRY_INFO!K66=2,IF(COUNTRY_INFO!F66*0.5>MAX('T1'!M66,'T2'!K66),MAX('T1'!M66,'T2'!K66),COUNTRY_INFO!F66*0.5),IF(COUNTRY_INFO!K66=3,IF(COUNTRY_INFO!F66>MAX('T1'!M66,'T2'!K66),MAX('T1'!M66,'T2'!K66),COUNTRY_INFO!F66),0)))","v":0},{"$f":"IF(AND(COUNTRY_INFO!K66>0,COUNTRY_INFO!K66<4),IF(Z66>0,IF(COUNTRY_INFO!K66=1, AD66/(COUNTRY_INFO!F66*0.33)*100, IF(COUNTRY_INFO!K66=2, AD66/(COUNTRY_INFO!F66*0.5)*100, IF(COUNTRY_INFO!K66=3, AD66/COUNTRY_INFO!F66*100))),\"-\"),0)","v":0},{"$f":"IF(COUNTRY_INFO!K66=2,IF(COUNTRY_INFO!G66*0.2>MAX('T1'!N66,'T2'!L66),MAX('T1'!N66,'T2'!L66),COUNTRY_INFO!G66*0.2),IF(COUNTRY_INFO!K66=3,IF(COUNTRY_INFO!G66>MAX('T1'!N66,'T2'!L66),MAX('T1'!N66,'T2'!L66),COUNTRY_INFO!G66),0))","v":0},{"$f":"IF(AND(COUNTRY_INFO!K66>0,COUNTRY_INFO!K66<4),IF(Z66>0,IF(COUNTRY_INFO!K66=1, 0, IF(COUNTRY_INFO!K66=2, AF66/(COUNTRY_INFO!G66*0.2)*100, IF(COUNTRY_INFO!K66=3, AF66/COUNTRY_INFO!G66*100))),\"-\"),0)","v":0},0,{"$f":"IF(AND(COUNTRY_INFO!K66>0,COUNTRY_INFO!K66<4), IF(AC66/Z66*100<>0, IF(AH66/Z66*100>100,100,AH66/Z66*100), \"-\"),0)","v":"-"},null,{"$f":"IF(AND(D66<>0, D66<>\"Unknown\",D66<>\"Stopped\",D66<>\"Not required\"),D66/COUNTRY_INFO!D66, 0)","v":1},{"$f":"IF(AND(J66<>0,J66<>\"Unknown\",J66<>\"Stopped\",J66<>\"Not required\"),J66/COUNTRY_INFO!D66, 0)","v":0},{"$f":"IF(AND(P66<>0,P66<>\"Unknown\",P66<>\"Not required\"),P66/(COUNTRY_INFO!E66+COUNTRY_INFO!F66), 0)","v":1},{"$f":"IF(AND(Z66<>0,Z66<>\"Unknown\",Z66<>\"Not required\"),IF(COUNTRY_INFO!K66=1,1,IF(COUNTRY_INFO!K66=2,0.5*COUNTRY_INFO!F66/(0.5*COUNTRY_INFO!F66+0.2*COUNTRY_INFO!G66),IF(COUNTRY_INFO!K66=3,COUNTRY_INFO!F66/(COUNTRY_INFO!F66+COUNTRY_INFO!G66)))),0)","v":0.32748468607464509},{"$f":"IF(AND(Z66<>0,Z66<>\"Unknown\",Z66<>\"Not required\"),IF(COUNTRY_INFO!K66=1,0,IF(COUNTRY_INFO!K66=2,0.2*COUNTRY_INFO!G66/(0.5*COUNTRY_INFO!F66+0.2*COUNTRY_INFO!G66),IF(COUNTRY_INFO!K66=3,COUNTRY_INFO!G66/(COUNTRY_INFO!F66+COUNTRY_INFO!G66)))),0)","v":0.67251531392535491},{"$f":"MAX(COUNTRY_INFO!D66*AK66*PROFILE!$G$7,COUNTRY_INFO!D66*AL66*PROFILE!$G$7)","v":12574.978503864031},{"$f":"MAX(COUNTRY_INFO!D66*AK66*PROFILE!$G$8,COUNTRY_INFO!D66*AL66*PROFILE!$G$8,COUNTRY_INFO!D66*AM66*PROFILE!$G$8)","v":50299.382548507499},{"$f":"MAX(COUNTRY_INFO!D66*AK66*PROFILE!$G$9,COUNTRY_INFO!D66*AL66*PROFILE!$G$9,COUNTRY_INFO!D66*AM66*PROFILE!$G$9,IF(AND(DISTRICT!Z66<>\"Unknown\",Z66<>\"Not required\"),COUNTRY_INFO!O66*DISTRICT!AN66,0))","v":121412.41882932023},{"$f":"MAX(COUNTRY_INFO!D66*AK66*PROFILE!$G$10,COUNTRY_INFO!D66*AL66*PROFILE!$G$10,IF(AND(DISTRICT!Z66<>\"Unknown\",Z66<>\"Not required\"),COUNTRY_INFO!O66*DISTRICT!AO66,0))","v":249329.22011830824},433616,0,{"$f":"MAX('MDA2'!J66,'T1'!L66,'T2'!J66,T3_R1!K66,T3_R2!K66)","v":0},{"$f":"MAX('MDA1'!K66,'MDA2'!K66,'MDA3'!I66,'MDA3'!L66,'T1'!M66,'T2'!K66,T3_R1!L66,T3_R2!L66)","v":0},{"$f":"MAX('MDA1'!L66,'MDA2'!L66,'MDA3'!J66,'MDA3'!M66,'T1'!N66,'T2'!L66,T3_R1!M66,T3_R2!M66)","v":0},0,{"$f":"MAX('MDA2'!J66,T66)","v":0},{"$f":"MAX('MDA1'!K66,'MDA2'!K66,'MDA3'!I66,'MDA3'!L66,V66,AD66)","v":0},{"$f":"MAX('MDA1'!L66,'MDA2'!L66,'MDA3'!J66,'MDA3'!M66,AF66)","v":0},0,0]
[{"$f":"IF(COUNTRY_INFO!A67=0,\" \",COUNTRY_INFO!A67)","v":"Mozambique"},{"$f":"IF(COUNTRY_INFO!B67=0,\" \",COUNTRY_INFO!B67)","v":"Zambezia"},{"$f":"IF(COUNTRY_INFO!C67=0,\" \",COUNTRY_INFO!C67)","v":"Chinde"},{"$f":"COUNTRY_INFO!L67","v":100998},null,null,{"$f":"MAX('MDA1'!M67,'MDA2'!M67)","v":0},{"$f":"IF(AND(COUNTRY_INFO!H67>0,COUNTRY_INFO!H67<4),IF(D67>MAX('MDA1'!M67,'MDA2'!M67),MAX('MDA1'!M67,'MDA2'!M67),D67),0)","v":0},{"$f":"IF(AND(COUNTRY_INFO!H67>0,COUNTRY_INFO!H67<4), IF(G67/D67*100<>0, IF(G67/D67*100>100,100,G67/D67*100), \"-\"),0)","v":"-"},{"$f":"COUNTRY_INFO!M67","v":"Not required"},null,null,{"$f":"MAX('MDA1'!M67,MAX('MDA3'!I67,'MDA3'!L67)+MAX('MDA3'!J67,'MDA3'!M67))","v":0},{"$f":"IF(AND(COUNTRY_INFO!I67>0,COUNTRY_INFO!I67<4),IF(J67>MAX('MDA1'!M67,MAX('MDA3'!I67,'MDA3'!L67)+MAX('MDA3'!J67,'MDA3'!M67)),MAX('MDA1'!M67,MAX('MDA3'!I67,'MDA3'!L67)+MAX('MDA3'!J67,'MDA3'!M67)),J67),0)","v":0},{"$f":"IF(AND(COUNTRY_INFO!I67>0,COUNTRY_INFO!I67<4), IF(M67/J67*100<>0, IF(M67/J67*100>100,100,M67/J67*100), \"-\"),0)","v":0},{"$f":"COUNTRY_INFO!N67","v":39995},null,null,{"$f":"SUM(MAX('MDA2'!J67, 'T1'!L67, MAX(T3_R1!K67, T3_R2!K67)), MAX('MDA1'!K67, 'MDA2'!K67, 'T1'!M67, MAX(T3_R1!L67, T3_R2!L67)), MAX('MDA1'!L67, 'MDA2'!L67, 'T1'!N67, MAX(T3_R1!M67, T3_R2!M67)))","v":0},{"$f":"IF(AND(COUNTRY_INFO!J67>1,COUNTRY_INFO!J67<4),IF(COUNTRY_INFO!E67>MAX('MDA2'!J67,'T1'!L67,MAX(T3_R1!K67,T3_R2!K67)),MAX('MDA2'!J67,'T1'!L67,MAX(T3_R1!K67,T3_R2!K67)),COUNTRY_INFO!E67),0)","v":0},{"$f":"IF(AND(COUNTRY_INFO!J67>1,COUNTRY_INFO!J67<4), IF(T67/COUNTRY_INFO!E67*100<>0, IF(T67/COUNTRY_INFO!E67*100>100,100,T67/COUNTRY_INFO!E67*100), \"-\"),0)","v":"-"},{"$f":"IF(AND(COUNTRY_INFO!J67>1,COUNTRY_INFO!J67<4),IF(COUNTRY_INFO!F67>MAX('MDA1'!K67,'MDA2'!K67,'T1'!M67,MAX(T3_R1!L67,T3_R2!L67)),MAX('MDA1'!K67,'MDA2'!K67,'T1'!M67,MAX(T3_R1!L67,T3_R2!L67)),COUNTRY_INFO!F67),0)","v":0},{"$f":"IF(AND(COUNTRY_INFO!J67>1,COUNTRY_INFO!J67<4), IF(V67/COUNTRY_INFO!F67*100<>0, IF(V67/COUNTRY_INFO!F67*100>100,100,V67/COUNTRY_INFO!F67*100), \"-\"),0)","v":"-"},0,{"$f":"IF(AND(COUNTRY_INFO!J67>1,COUNTRY_INFO!J67<4), IF(S67/P67*100<>0, IF(X67/P67*100>100,100,X67/P67*100), \"-\"),0)","v":"-"},{"$f":"COUNTRY_INFO!O67","v":25754.300000000003},null,null,{"$f":"MAX('T1'!L67,'T2'!J67)+MAX('T1'!M67,'T2'!K67)+MAX('T1'!N67,'T2'!L67)","v":0},{"$f":"IF(COUNTRY_INFO!K67=1,IF(COUNTRY_INFO!F67*0.33>MAX('T1'!M67,'T2'!K67),MAX('T1'!M67,'T2'!K67),COUNTRY_INFO!F67*0.33),IF(COUNTRY_INFO!K67=2,IF(COUNTRY_INFO!F67*0.5>MAX('T1'!M67,'T2'!K67),MAX('T1'!M67,'T2'!K67),COUNTRY_INFO!F67*0.5),IF(COUNTRY_INFO!K67=3,IF(COUNTRY_INFO!F67>MAX('T1'!M67,'T2'!K67),MAX('T1'!M67,'T2'!K67),COUNTRY_INFO!F67),0)))","v":0},{"$f":"IF(AND(COUNTRY_INFO!K67>0,COUNTRY_INFO!K67<4),IF(Z67>0,IF(COUNTRY_INFO!K67=1, AD67/(COUNTRY_INFO!F67*0.33)*100, IF(COUNTRY_INFO!K67=2, AD67/(COUNTRY_INFO!F67*0.5)*100, IF(COUNTRY_INFO!K67=3, AD67/COUNTRY_INFO!F67*100))),\"-\"),0)","v":0},{"$f":"IF(COUNTRY_INFO!K67=2,IF(COUNTRY_INFO!G67*0.2>MAX('T1'!N67,'T2'!L67),MAX('T1'!N67,'T2'!L67),COUNTRY_INFO!G67*0.2),IF(COUNTRY_INFO!K67=3,IF(COUNTRY_INFO!G67>MAX('T1'!N67,'T2'!L67),MAX('T1'!N67,'T2'!L67),COUNTRY_INFO!G67),0))","v":0},{"$f":"IF(AND(COUNTRY_INFO!K67>0,COUNTRY_INFO!K67<4),IF(Z67>0,IF(COUNTRY_INFO!K67=1, 0, IF(COUNTRY_INFO!K67=2, AF67/(COUNTRY_INFO!G67*0.2)*100, IF(COUNTRY_INFO!K67=3, AF67/COUNTRY_INFO!G67*100))),\"-\"),0)","v":0},0,{"$f":"IF(AND(COUNTRY_INFO!K67>0,COUNTRY_INFO!K67<4), IF(AC67/Z67*100<>0, IF(AH67/Z67*100>100,100,AH67/Z67*100), \"-\"),0)","v":"-"},null,{"$f":"IF(AND(D67<>0, D67<>\"Unknown\",D67<>\"Stopped\",D67<>\"Not required\"),D67/COUNTRY_INFO!D67, 0)","v":1},{"$f":"IF(AND(J67<>0,J67<>\"Unknown\",J67<>\"Stopped\",J67<>\"Not required\"),J67/COUNTRY_INFO!D67, 0)","v":0},{"$f":"IF(AND(P67<>0,P67<>\"Unknown\",P67<>\"Not required\"),P67/(COUNTRY_INFO!E67+COUNTRY_INFO!F67), 0)","v":1},{"$f":"IF(AND(Z67<>0,Z67<>\"Unknown\",Z67<>\"Not required\"),IF(COUNTRY_INFO!K67=1,1,IF(COUNTRY_INFO!K67=2,0.5*COUNTRY_INFO!F67/(0.5*COUNTRY_INFO!F67+0.2*COUNTRY_INFO!G67),IF(COUNTRY_INFO!K67=3,COUNTRY_INFO!F67/(COUNTRY_INFO!F67+COUNTRY_INFO!G67)))),0)","v":0.54901511592238961},{"$f":"IF(AND(Z67<>0,Z67<>\"Unknown\",Z67<>\"Not required\"),IF(COUNTRY_INFO!K67=1,0,IF(COUNTRY_INFO!K67=2,0.2*COUNTRY_INFO!G67/(0.5*COUNTRY_INFO!F67+0.2*COUNTRY_INFO!G67),IF(COUNTRY_INFO!K67=3,COUNTRY_INFO!G67/(COUNTRY_INFO!F67+COUNTRY_INFO!G67)))),0)","v":0.45098488407761034},{"$f":"MAX(COUNTRY_INFO!D67*AK67*PROFILE!$G$7,COUNTRY_INFO!D67*AL67*PROFILE!$G$7)","v":2928.9686702825989},{"$f":"MAX(COUNTRY_INFO!D67*AK67*PROFILE!$G$8,COUNTRY_INFO!D67*AL67*PROFILE!$G$8,COUNTRY_INFO!D67*AM67*PROFILE!$G$8)","v":11715.750891651047},{"$f":"MAX(COUNTRY_INFO!D67*AK67*PROFILE!$G$9,COUNTRY_INFO!D67*AL67*PROFILE!$G$9,COUNTRY_INFO!D67*AM67*PROFILE!$G$9,IF(AND(DISTRICT!Z67<>\"Unknown\",Z67<>\"Not required\"),COUNTRY_INFO!O67*DISTRICT!AN67,0))","v":28279.425752102517},{"$f":"MAX(COUNTRY_INFO!D67*AK67*PROFILE!$G$10,COUNTRY_INFO!D67*AL67*PROFILE!$G$10,IF(AND(DISTRICT!Z67<>\"Unknown\",Z67<>\"Not required\"),COUNTRY_INFO!O67*DISTRICT!AO67,0))","v":58073.854685963837},100998,0,{"$f":"MAX('MDA2'!J67,'T1'!L67,'T2'!J67,T3_R1!K67,T3_R2!K67)","v":0},{"$f":"MAX('MDA1'!K67,'MDA2'!K67,'MDA3'!I67,'MDA3'!L67,'T1'!M67,'T2'!K67,T3_R1!L67,T3_R2!L67)","v":0},{"$f":"MAX('MDA1'!L67,'MDA2'!L67,'MDA3'!J67,'MDA3'!M67,'T1'!N67,'T2'!L67,T3_R1!M67,T3_R2!M67)","v":0},0,{"$f":"MAX('MDA2'!J67,T67)","v":0},{"$f":"MAX('MDA1'!K67,'MDA2'!K67,'MDA3'!I67,'MDA3'!L67,V67,AD67)","v":0},{"$f":"MAX('MDA1'!L67,'MDA2'!L67,'MDA3'!J67,'MDA3'!M67,AF67)","v":0},0,0]
[{"$f":"IF(COUNTRY_INFO!A68=0,\" \",COUNTRY_INFO!A68)","v":"Mozambique"},{"$f":"IF(COUNTRY_INFO!B68=0,\" \",COUNTRY_INFO!B68)","v":"Zambezia"},{"$f":"IF(COUNTRY_INFO!C68=0,\" \",COUNTRY_INFO!C68)","v":"Derre"},{"$f":"COUNTRY_INFO!L68","v":97877},null,null,{"$f":"MAX('MDA1'!M68,'MDA2'!M68)","v":0},{"$f":"IF(AND(COUNTRY_INFO!H68>0,COUNTRY_INFO!H68<4),IF(D68>MAX('MDA1'!M68,'MDA2'!M68),MAX('MDA1'!M68,'MDA2'!M68),D68),0)","v":0},{"$f":"IF(AND(COUNTRY_INFO!H68>0,COUNTRY_INFO!H68<4), IF(G68/D68*100<>0, IF(G68/D68*100>100,100,G68/D68*100), \"-\"),0)","v":"-"},{"$f":"COUNTRY_INFO!M68","v":"Not required"},null,null,{"$f":"MAX('MDA1'!M68,MAX('MDA3'!I68,'MDA3'!L68)+MAX('MDA3'!J68,'MDA3'!M68))","v":0},{"$f":"IF(AND(COUNTRY_INFO!I68>0,COUNTRY_INFO!I68<4),IF(J68>MAX('MDA1'!M68,MAX('MDA3'!I68,'MDA3'!L68)+MAX('MDA3'!J68,'MDA3'!M68)),MAX('MDA1'!M68,MAX('MDA3'!I68,'MDA3'!L68)+MAX('MDA3'!J68,'MDA3'!M68)),J68),0)","v":0},{"$f":"IF(AND(COUNTRY_INFO!I68>0,COUNTRY_INFO!I68<4), IF(M68/J68*100<>0, IF(M68/J68*100>100,100,M68/J68*100), \"-\"),0)","v":0},{"$f":"COUNTRY_INFO!N68","v":38760},null,null,{"$f":"SUM(MAX('MDA2'!J68, 'T1'!L68, MAX(T3_R1!K68, T3_R2!K68)), MAX('MDA1'!K68, 'MDA2'!K68, 'T1'!M68, MAX(T3_R1!L68, T3_R2!L68)), MAX('MDA1'!L68, 'MDA2'!L68, 'T1'!N68, MAX(T3_R1!M68, T3_R2!M68)))","v":0},{"$f":"IF(AND(COUNTRY_INFO!J68>1,COUNTRY_INFO!J68<4),IF(COUNTRY_INFO!E68>MAX('MDA2'!J68,'T1'!L68,MAX(T3_R1!K68,T3_R2!K68)),MAX('MDA2'!J68,'T1'!L68,MAX(T3_R1!K68,T3_R2!K68)),COUNTRY_INFO!E68),0)","v":0},{"$f":"IF(AND(COUNTRY_INFO!J68>1,COUNTRY_INFO!J68<4), IF(T68/COUNTRY_INFO!E68*100<>0, IF(T68/COUNTRY_INFO!E68*100>100,100,T68/COUNTRY_INFO!E68*100), \"-\"),0)","v":"-"},{"$f":"IF(AND(COUNTRY_INFO!J68>1,COUNTRY_INFO!J68<4),IF(COUNTRY_INFO!F68>MAX('MDA1'!K68,'MDA2'!K68,'T1'!M68,MAX(T3_R1!L68,T3_R2!L68)),MAX('MDA1'!K68,'MDA2'!K68,'T1'!M68,MAX(T3_R1!L68,T3_R2!L68)),COUNTRY_INFO!F68),0)","v":0},{"$f":"IF(AND(COUNTRY_INFO!J68>1,COUNTRY_INFO!J68<4), IF(V68/COUNTRY_INFO!F68*100<>0, IF(V68/COUNTRY_INFO!F68*100>100,100,V68/COUNTRY_INFO!F68*100), \"-\"),0)","v":"-"},0,{"$f":"IF(AND(COUNTRY_INFO!J68>1,COUNTRY_INFO!J68<4), IF(S68/P68*100<>0, IF(X68/P68*100>100,100,X68/P68*100), \"-\"),0)","v":"-"},{"$f":"COUNTRY_INFO!O68","v":83685},null,null,{"$f":"MAX('T1'!L68,'T2'!J68)+MAX('T1'!M68,'T2'!K68)+MAX('T1'!N68,'T2'!L68)","v":0},{"$f":"IF(COUNTRY_INFO!K68=1,IF(COUNTRY_INFO!F68*0.33>MAX('T1'!M68,'T2'!K68),MAX('T1'!M68,'T2'!K68),COUNTRY_INFO!F68*0.33),IF(COUNTRY_INFO!K68=2,IF(COUNTRY_INFO!F68*0.5>MAX('T1'!M68,'T2'!K68),MAX('T1'!M68,'T2'!K68),COUNTRY_INFO!F68*0.5),IF(COUNTRY_INFO!K68=3,IF(COUNTRY_INFO!F68>MAX('T1'!M68,'T2'!K68),MAX('T1'!M68,'T2'!K68),COUNTRY_INFO!F68),0)))","v":0},{"$f":"IF(AND(COUNTRY_INFO!K68>0,COUNTRY_INFO!K68<4),IF(Z68>0,IF(COUNTRY_INFO!K68=1, AD68/(COUNTRY_INFO!F68*0.33)*100, IF(COUNTRY_INFO!K68=2, AD68/(COUNTRY_INFO!F68*0.5)*100, IF(COUNTRY_INFO!K68=3, AD68/COUNTRY_INFO!F68*100))),\"-\"),0)","v":0},{"$f":"IF(COUNTRY_INFO!K68=2,IF(COUNTRY_INFO!G68*0.2>MAX('T1'!N68,'T2'!L68),MAX('T1'!N68,'T2'!L68),COUNTRY_INFO!G68*0.2),IF(COUNTRY_INFO!K68=3,IF(COUNTRY_INFO!G68>MAX('T1'!N68,'T2'!L68),MAX('T1'!N68,'T2'!L68),COUNTRY_INFO!G68),0))","v":0},{"$f":"IF(AND(COUNTRY_INFO!K68>0,COUNTRY_INFO!K68<4),IF(Z68>0,IF(COUNTRY_INFO!K68=1, 0, IF(COUNTRY_INFO!K68=2, AF68/(COUNTRY_INFO!G68*0.2)*100, IF(COUNTRY_INFO!K68=3, AF68/COUNTRY_INFO!G68*100))),\"-\"),0)","v":0},0,{"$f":"IF(AND(COUNTRY_INFO!K68>0,COUNTRY_INFO!K68<4), IF(AC68/Z68*100<>0, IF(AH68/Z68*100>100,100,AH68/Z68*100), \"-\"),0)","v":"-"},null,{"$f":"IF(AND(D68<>0, D68<>\"Unknown\",D68<>\"Stopped\",D68<>\"Not required\"),D68/COUNTRY_INFO!D68, 0)","v":1},{"$f":"IF(AND(J68<>0,J68<>\"Unknown\",J68<>\"Stopped\",J68<>\"Not required\"),J68/COUNTRY_INFO!D68, 0)","v":0},{"$f":"IF(AND(P68<>0,P68<>\"Unknown\",P68<>\"Not required\"),P68/(COUNTRY_INFO!E68+COUNTRY_INFO!F68), 0)","v":1},{"$f":"IF(AND(Z68<>0,Z68<>\"Unknown\",Z68<>\"Not required\"),IF(COUNTRY_INFO!K68=1,1,IF(COUNTRY_INFO!K68=2,0.5*COUNTRY_INFO!F68/(0.5*COUNTRY_INFO!F68+0.2*COUNTRY_INFO!G68),IF(COUNTRY_INFO!K68=3,COUNTRY_INFO!F68/(COUNTRY_INFO!F68+COUNTRY_INFO!G68)))),0)","v":0.32748999223277769},{"$f":"IF(AND(Z68<>0,Z68<>\"Unknown\",Z68<>\"Not required\"),IF(COUNTRY_INFO!K68=1,0,IF(COUNTRY_INFO!K68=2,0.2*COUNTRY_INFO!G68/(0.5*COUNTRY_INFO!F68+0.2*COUNTRY_INFO!G68),IF(COUNTRY_INFO!K68=3,COUNTRY_INFO!G68/(COUNTRY_INFO!F68+COUNTRY_INFO!G68)))),0)","v":0.67251000776722236},{"$f":"MAX(COUNTRY_INFO!D68*AK68*PROFILE!$G$7,COUNTRY_INFO!D68*AL68*PROFILE!$G$7)","v":2838.4588461281405},{"$f":"MAX(COUNTRY_INFO!D68*AK68*PROFILE!$G$8,COUNTRY_INFO!D68*AL68*PROFILE!$G$8,COUNTRY_INFO!D68*AM68*PROFILE!$G$8)","v":11353.715420326436},{"$f":"MAX(COUNTRY_INFO!D68*AK68*PROFILE!$G$9,COUNTRY_INFO!D68*AL68*PROFILE!$G$9,COUNTRY_INFO!D68*AM68*PROFILE!$G$9,IF(AND(DISTRICT!Z68<>\"Unknown\",Z68<>\"Not required\"),COUNTRY_INFO!O68*DISTRICT!AN68,0))","v":27406},{"$f":"MAX(COUNTRY_INFO!D68*AK68*PROFILE!$G$10,COUNTRY_INFO!D68*AL68*PROFILE!$G$10,IF(AND(DISTRICT!Z68<>\"Unknown\",Z68<>\"Not required\"),COUNTRY_INFO!O68*DISTRICT!AO68,0))","v":56279.279541160045},97877.453807614627,0,{"$f":"MAX('MDA2'!J68,'T1'!L68,'T2'!J68,T3_R1!K68,T3_R2!K68)","v":0},{"$f":"MAX('MDA1'!K68,'MDA2'!K68,'MDA3'!I68,'MDA3'!L68,'T1'!M68,'T2'!K68,T3_R1!L68,T3_R2!L68)","v":0},{"$f":"MAX('MDA1'!L68,'MDA2'!L68,'MDA3'!J68,'MDA3'!M68,'T1'!N68,'T2'!L68,T3_R1!M68,T3_R2!M68)","v":0},0,{"$f":"MAX('MDA2'!J68,T68)","v":0},{"$f":"MAX('MDA1'!K68,'MDA2'!K68,'MDA3'!I68,'MDA3'!L68,V68,AD68)","v":0},{"$f":"MAX('MDA1'!L68,'MDA2'!L68,'MDA3'!J68,'MDA3'!M68,AF68)","v":0},0,0]
[{"$f":"IF(COUNTRY_INFO!A69=0,\" \",COUNTRY_INFO!A69)","v":"Mozambique"},{"$f":"IF(COUNTRY_INFO!B69=0,\" \",COUNTRY_INFO!B69)","v":"Zambezia"},{"$f":"IF(COUNTRY_INFO!C69=0,\" \",COUNTRY_INFO!C69)","v":"Gilé"},{"$f":"COUNTRY_INFO!L69","v":205104},null,null,{"$f":"MAX('MDA1'!M69,'MDA2'!M69)","v":0},{"$f":"IF(AND(COUNTRY_INFO!H69>0,COUNTRY_INFO!H69<4),IF(D69>MAX('MDA1'!M69,'MDA2'!M69),MAX('MDA1'!M69,'MDA2'!M69),D69),0)","v":0},{"$f":"IF(AND(COUNTRY_INFO!H69>0,COUNTRY_INFO!H69<4), IF(G69/D69*100<>0, IF(G69/D69*100>100,100,G69/D69*100), \"-\"),0)","v":"-"},{"$f":"COUNTRY_INFO!M69","v":"Not required"},null,null,{"$f":"MAX('MDA1'!M69,MAX('MDA3'!I69,'MDA3'!L69)+MAX('MDA3'!J69,'MDA3'!M69))","v":0},{"$f":"IF(AND(COUNTRY_INFO!I69>0,COUNTRY_INFO!I69<4),IF(J69>MAX('MDA1'!M69,MAX('MDA3'!I69,'MDA3'!L69)+MAX('MDA3'!J69,'MDA3'!M69)),MAX('MDA1'!M69,MAX('MDA3'!I69,'MDA3'!L69)+MAX('MDA3'!J69,'MDA3'!M69)),J69),0)","v":0},{"$f":"IF(AND(COUNTRY_INFO!I69>0,COUNTRY_INFO!I69<4), IF(M69/J69*100<>0, IF(M69/J69*100>100,100,M69/J69*100), \"-\"),0)","v":0},{"$f":"COUNTRY_INFO!N69","v":81221},null,null,{"$f":"SUM(MAX('MDA2'!J69, 'T1'!L69, MAX(T3_R1!K69, T3_R2!K69)), MAX('MDA1'!K69, 'MDA2'!K69, 'T1'!M69, MAX(T3_R1!L69, T3_R2!L69)), MAX('MDA1'!L69, 'MDA2'!L69, 'T1'!N69, MAX(T3_R1!M69, T3_R2!M69)))","v":0},{"$f":"IF(AND(COUNTRY_INFO!J69>1,COUNTRY_INFO!J69<4),IF(COUNTRY_INFO!E69>MAX('MDA2'!J69,'T1'!L69,MAX(T3_R1!K69,T3_R2!K69)),MAX('MDA2'!J69,'T1'!L69,MAX(T3_R1!K69,T3_R2!K69)),COUNTRY_INFO!E69),0)","v":0},{"$f":"IF(AND(COUNTRY_INFO!J69>1,COUNTRY_INFO!J69<4), IF(T69/COUNTRY_INFO!E69*100<>0, IF(T69/COUNTRY_INFO!E69*100>100,100,T69/COUNTRY_INFO!E69*100), \"-\"),0)","v":"-"},{"$f":"IF(AND(COUNTRY_INFO!J69>1,COUNTRY_INFO!J69<4),IF(COUNTRY_INFO!F69>MAX('MDA1'!K69,'MDA2'!K69,'T1'!M69,MAX(T3_R1!L69,T3_R2!L69)),MAX('MDA1'!K69,'MDA2'!K69,'T1'!M69,MAX(T3_R1!L69,T3_R2!L69)),COUNTRY_INFO!F69),0)","v":0},{"$f":"IF(AND(COUNTRY_INFO!J69>1,COUNTRY_INFO!J69<4), IF(V69/COUNTRY_INFO!F69*100<>0, IF(V69/COUNTRY_INFO!F69*100>100,100,V69/COUNTRY_INFO!F69*100), \"-\"),0)","v":"-"},0,{"$f":"IF(AND(COUNTRY_INFO!J69>1,COUNTRY_INFO!J69<4), IF(S69/P69*100<>0, IF(X69/P69*100>100,100,X69/P69*100), \"-\"),0)","v":"-"},{"$f":"COUNTRY_INFO!O69","v":175364},null,null,{"$f":"MAX('T1'!L69,'T2'!J69)+MAX('T1'!M69,'T2'!K69)+MAX('T1'!N69,'T2'!L69)","v":0},{"$f":"IF(COUNTRY_INFO!K69=1,IF(COUNTRY_INFO!F69*0.33>MAX('T1'!M69,'T2'!K69),MAX('T1'!M69,'T2'!K69),COUNTRY_INFO!F69*0.33),IF(COUNTRY_INFO!K69=2,IF(COUNTRY_INFO!F69*0.5>MAX('T1'!M69,'T2'!K69),MAX('T1'!M69,'T2'!K69),COUNTRY_INFO!F69*0.5),IF(COUNTRY_INFO!K69=3,IF(COUNTRY_INFO!F69>MAX('T1'!M69,'T2'!K69),MAX('T1'!M69,'T2'!K69),COUNTRY_INFO!F69),0)))","v":0},{"$f":"IF(AND(COUNTRY_INFO!K69>0,COUNTRY_INFO!K69<4),IF(Z69>0,IF(COUNTRY_INFO!K69=1, AD69/(COUNTRY_INFO!F69*0.33)*100, IF(COUNTRY_INFO!K69=2, AD69/(COUNTRY_INFO!F69*0.5)*100, IF(COUNTRY_INFO!K69=3, AD69/COUNTRY_INFO!F69*100))),\"-\"),0)","v":0},{"$f":"IF(COUNTRY_INFO!K69=2,IF(COUNTRY_INFO!G69*0.2>MAX('T1'!N69,'T2'!L69),MAX('T1'!N69,'T2'!L69),COUNTRY_INFO!G69*0.2),IF(COUNTRY_INFO!K69=3,IF(COUNTRY_INFO!G69>MAX('T1'!N69,'T2'!L69),MAX('T1'!N69,'T2'!L69),COUNTRY_INFO!G69),0))","v":0},{"$f":"IF(AND(COUNTRY_INFO!K69>0,COUNTRY_INFO!K69<4),IF(Z69>0,IF(COUNTRY_INFO!K69=1, 0, IF(COUNTRY_INFO!K69=2, AF69/(COUNTRY_INFO!G69*0.2)*100, IF(COUNTRY_INFO!K69=3, AF69/COUNTRY_INFO!G69*100))),\"-\"),0)","v":0},0,{"$f":"IF(AND(COUNTRY_INFO!K69>0,COUNTRY_INFO!K69<4), IF(AC69/Z69*100<>0, IF(AH69/Z69*100>100,100,AH69/Z69*100), \"-\"),0)","v":"-"},null,{"$f":"IF(AND(D69<>0, D69<>\"Unknown\",D69<>\"Stopped\",D69<>\"Not required\"),D69/COUNTRY_INFO!D69, 0)","v":1},{"$f":"IF(AND(J69<>0,J69<>\"Unknown\",J69<>\"Stopped\",J69<>\"Not required\"),J69/COUNTRY_INFO!D69, 0)","v":0},{"$f":"IF(AND(P69<>0,P69<>\"Unknown\",P69<>\"Not required\"),P69/(COUNTRY_INFO!E69+COUNTRY_INFO!F69), 0)","v":1},{"$f":"IF(AND(Z69<>0,Z69<>\"Unknown\",Z69<>\"Not required\"),IF(COUNTRY_INFO!K69=1,1,IF(COUNTRY_INFO!K69=2,0.5*COUNTRY_INFO!F69/(0.5*COUNTRY_INFO!F69+0.2*COUNTRY_INFO!G69),IF(COUNTRY_INFO!K69=3,COUNTRY_INFO!F69/(COUNTRY_INFO!F69+COUNTRY_INFO!G69)))),0)","v":0.32748454642914165},{"$f":"IF(AND(Z69<>0,Z69<>\"Unknown\",Z69<>\"Not required\"),IF(COUNTRY_INFO!K69=1,0,IF(COUNTRY_INFO!K69=2,0.2*COUNTRY_INFO!G69/(0.5*COUNTRY_INFO!F69+0.2*COUNTRY_INFO!G69),IF(COUNTRY_INFO!K69=3,COUNTRY_INFO!G69/(COUNTRY_INFO!F69+COUNTRY_INFO!G69)))),0)","v":0.67251545357085829},{"$f":"MAX(COUNTRY_INFO!D69*AK69*PROFILE!$G$7,COUNTRY_INFO!D69*AL69*PROFILE!$G$7)","v":5948.0701612867797},{"$f":"MAX(COUNTRY_INFO!D69*AK69*PROFILE!$G$8,COUNTRY_INFO!D69*AL69*PROFILE!$G$8,COUNTRY_INFO!D69*AM69*PROFILE!$G$8)","v":23792.02925682881},{"$f":"MAX(COUNTRY_INFO!D69*AK69*PROFILE!$G$9,COUNTRY_INFO!D69*AL69*PROFILE!$G$9,COUNTRY_INFO!D69*AM69*PROFILE!$G$9,IF(AND(DISTRICT!Z69<>\"Unknown\",Z69<>\"Not required\"),COUNTRY_INFO!O69*DISTRICT!AN69,0))","v":57429.091065756103},{"$f":"MAX(COUNTRY_INFO!D69*AK69*PROFILE!$G$10,COUNTRY_INFO!D69*AL69*PROFILE!$G$10,IF(AND(DISTRICT!Z69<>\"Unknown\",Z69<>\"Not required\"),COUNTRY_INFO!O69*DISTRICT!AO69,0))","v":117935},205104.1904838717,0,{"$f":"MAX('MDA2'!J69,'T1'!L69,'T2'!J69,T3_R1!K69,T3_R2!K69)","v":0},{"$f":"MAX('MDA1'!K69,'MDA2'!K69,'MDA3'!I69,'MDA3'!L69,'T1'!M69,'T2'!K69,T3_R1!L69,T3_R2!L69)","v":0},{"$f":"MAX('MDA1'!L69,'MDA2'!L69,'MDA3'!J69,'MDA3'!M69,'T1'!N69,'T2'!L69,T3_R1!M69,T3_R2!M69)","v":0},0,{"$f":"MAX('MDA2'!J69,T69)","v":0},{"$f":"MAX('MDA1'!K69,'MDA2'!K69,'MDA3'!I69,'MDA3'!L69,V69,AD69)","v":0},{"$f":"MAX('MDA1'!L69,'MDA2'!L69,'MDA3'!J69,'MDA3'!M69,AF69)","v":0},0,0]
[{"$f":"IF(COUNTRY_INFO!A70=0,\" \",COUNTRY_INFO!A70)","v":"Mozambique"},{"$f":"IF(COUNTRY_INFO!B70=0,\" \",COUNTRY_INFO!B70)","v":"Zambezia"},{"$f":"IF(COUNTRY_INFO!C70=0,\" \",COUNTRY_INFO!C70)","v":"Gurué"},{"$f":"COUNTRY_INFO!L70","v":368703.05250215484},null,null,{"$f":"MAX('MDA1'!M70,'MDA2'!M70)","v":0},{"$f":"IF(AND(COUNTRY_INFO!H70>0,COUNTRY_INFO!H70<4),IF(D70>MAX('MDA1'!M70,'MDA2'!M70),MAX('MDA1'!M70,'MDA2'!M70),D70),0)","v":0},{"$f":"IF(AND(COUNTRY_INFO!H70>0,COUNTRY_INFO!H70<4), IF(G70/D70*100<>0, IF(G70/D70*100>100,100,G70/D70*100), \"-\"),0)","v":"-"},{"$f":"COUNTRY_INFO!M70","v":"Not required"},null,null,{"$f":"MAX('MDA1'!M70,MAX('MDA3'!I70,'MDA3'!L70)+MAX('MDA3'!J70,'MDA3'!M70))","v":0},{"$f":"IF(AND(COUNTRY_INFO!I70>0,COUNTRY_INFO!I70<4),IF(J70>MAX('MDA1'!M70,MAX('MDA3'!I70,'MDA3'!L70)+MAX('MDA3'!J70,'MDA3'!M70)),MAX('MDA1'!M70,MAX('MDA3'!I70,'MDA3'!L70)+MAX('MDA3'!J70,'MDA3'!M70)),J70),0)","v":0},{"$f":"IF(AND(COUNTRY_INFO!I70>0,COUNTRY_INFO!I70<4), IF(M70/J70*100<>0, IF(M70/J70*100>100,100,M70/J70*100), \"-\"),0)","v":0},{"$f":"COUNTRY_INFO!N70","v":146007},null,null,{"$f":"SUM(MAX('MDA2'!J70, 'T1'!L70, MAX(T3_R1!K70, T3_R2!K70)), MAX('MDA1'!K70, 'MDA2'!K70, 'T1'!M70, MAX(T3_R1!L70, T3_R2!L70)), MAX('MDA1'!L70, 'MDA2'!L70, 'T1'!N70, MAX(T3_R1!M70, T3_R2!M70)))","v":0},{"$f":"IF(AND(COUNTRY_INFO!J70>1,COUNTRY_INFO!J70<4),IF(COUNTRY_INFO!E70>MAX('MDA2'!J70,'T1'!L70,MAX(T3_R1!K70,T3_R2!K70)),MAX('MDA2'!J70,'T1'!L70,MAX(T3_R1!K70,T3_R2!K70)),COUNTRY_INFO!E70),0)","v":0},{"$f":"IF(AND(COUNTRY_INFO!J70>1,COUNTRY_INFO!J70<4), IF(T70/COUNTRY_INFO!E70*100<>0, IF(T70/COUNTRY_INFO!E70*100>100,100,T70/COUNTRY_INFO!E70*100), \"-\"),0)","v":"-"},{"$f":"IF(AND(COUNTRY_INFO!J70>1,COUNTRY_INFO!J70<4),IF(COUNTRY_INFO!F70>MAX('MDA1'!K70,'MDA2'!K70,'T1'!M70,MAX(T3_R1!L70,T3_R2!L70)),MAX('MDA1'!K70,'MDA2'!K70,'T1'!M70,MAX(T3_R1!L70,T3_R2!L70)),COUNTRY_INFO!F70),0)","v":0},{"$f":"IF(AND(COUNTRY_INFO!J70>1,COUNTRY_INFO!J70<4), IF(V70/COUNTRY_INFO!F70*100<>0, IF(V70/COUNTRY_INFO!F70*100>100,100,V70/COUNTRY_INFO!F70*100), \"-\"),0)","v":"-"},0,{"$f":"IF(AND(COUNTRY_INFO!J70>1,COUNTRY_INFO!J70<4), IF(S70/P70*100<>0, IF(X70/P70*100>100,100,X70/P70*100), \"-\"),0)","v":"-"},{"$f":"COUNTRY_INFO!O70","v":315241},null,null,{"$f":"MAX('T1'!L70,'T2'!J70)+MAX('T1'!M70,'T2'!K70)+MAX('T1'!N70,'T2'!L70)","v":0},{"$f":"IF(COUNTRY_INFO!K70=1,IF(COUNTRY_INFO!F70*0.33>MAX('T1'!M70,'T2'!K70),MAX('T1'!M70,'T2'!K70),COUNTRY_INFO!F70*0.33),IF(COUNTRY_INFO!K70=2,IF(COUNTRY_INFO!F70*0.5>MAX('T1'!M70,'T2'!K70),MAX('T1'!M70,'T2'!K70),COUNTRY_INFO!F70*0.5),IF(COUNTRY_INFO!K70=3,IF(COUNTRY_INFO!F70>MAX('T1'!M70,'T2'!K70),MAX('T1'!M70,'T2'!K70),COUNTRY_INFO!F70),0)))","v":0},{"$f":"IF(AND(COUNTRY_INFO!K70>0,COUNTRY_INFO!K70<4),IF(Z70>0,IF(COUNTRY_INFO!K70=1, AD70/(COUNTRY_INFO!F70*0.33)*100, IF(COUNTRY_INFO!K70=2, AD70/(COUNTRY_INFO!F70*0.5)*100, IF(COUNTRY_INFO!K70=3, AD70/COUNTRY_INFO!F70*100))),\"-\"),0)","v":0},{"$f":"IF(COUNTRY_INFO!K70=2,IF(COUNTRY_INFO!G70*0.2>MAX('T1'!N70,'T2'!L70),MAX('T1'!N70,'T2'!L70),COUNTRY_INFO!G70*0.2),IF(COUNTRY_INFO!K70=3,IF(COUNTRY_INFO!G70>MAX('T1'!N70,'T2'!L70),MAX('T1'!N70,'T2'!L70),COUNTRY_INFO!G70),0))","v":0},{"$f":"IF(AND(COUNTRY_INFO!K70>0,COUNTRY_INFO!K70<4),IF(Z70>0,IF(COUNTRY_INFO!K70=1, 0, IF(COUNTRY_INFO!K70=2, AF70/(COUNTRY_INFO!G70*0.2)*100, IF(COUNTRY_INFO!K70=3, AF70/COUNTRY_INFO!G70*100))),\"-\"),0)","v":0},0,{"$f":"IF(AND(COUNTRY_INFO!K70>0,COUNTRY_INFO!K70<4), IF(AC70/Z70*100<>0, IF(AH70/Z70*100>100,100,AH70/Z70*100), \"-\"),0)","v":"-"},null,{"$f":"IF(AND(D70<>0, D70<>\"Unknown\",D70<>\"Stopped\",D70<>\"Not required\"),D70/COUNTRY_INFO!D70, 0)","v":1},{"$f":"IF(AND(J70<>0,J70<>\"Unknown\",J70<>\"Stopped\",J70<>\"Not required\"),J70/COUNTRY_INFO!D70, 0)","v":0},{"$f":"IF(AND(P70<>0,P70<>\"Unknown\",P70<>\"Not required\"),P70/(COUNTRY_INFO!E70+COUNTRY_INFO!F70), 0)","v":1},{"$f":"IF(AND(Z70<>0,Z70<>\"Unknown\",Z70<>\"Not required\"),IF(COUNTRY_INFO!K70=1,1,IF(COUNTRY_INFO!K70=2,0.5*COUNTRY_INFO!F70/(0.5*COUNTRY_INFO!F70+0.2*COUNTRY_INFO!G70),IF(COUNTRY_INFO!K70=3,COUNTRY_INFO!F70/(COUNTRY_INFO!F70+COUNTRY_INFO!G70)))),0)","v":0.32748595518983886},{"$f":"IF(AND(Z70<>0,Z70<>\"Unknown\",Z70<>\"Not required\"),IF(COUNTRY_INFO!K70=1,0,IF(COUNTRY_INFO!K70=2,0.2*COUNTRY_INFO!G70/(0.5*COUNTRY_INFO!F70+0.2*COUNTRY_INFO!G70),IF(COUNTRY_INFO!K70=3,COUNTRY_INFO!G70/(COUNTRY_INFO!F70+COUNTRY_INFO!G70)))),0)","v":0.67251404481016108},{"$f":"MAX(COUNTRY_INFO!D70*AK70*PROFILE!$G$7,COUNTRY_INFO!D70*AL70*PROFILE!$G$7)","v":10692.485885031107},{"$f":"MAX(COUNTRY_INFO!D70*AK70*PROFILE!$G$8,COUNTRY_INFO!D70*AL70*PROFILE!$G$8,COUNTRY_INFO!D70*AM70*PROFILE!$G$8)","v":42769.491634552993},{"$f":"MAX(COUNTRY_INFO!D70*AK70*PROFILE!$G$9,COUNTRY_INFO!D70*AL70*PROFILE!$G$9,COUNTRY_INFO!D70*AM70*PROFILE!$G$9,IF(AND(DISTRICT!Z70<>\"Unknown\",Z70<>\"Not required\"),COUNTRY_INFO!O70*DISTRICT!AN70,0))","v":103237},{"$f":"MAX(COUNTRY_INFO!D70*AK70*PROFILE!$G$10,COUNTRY_INFO!D70*AL70*PROFILE!$G$10,IF(AND(DISTRICT!Z70<>\"Unknown\",Z70<>\"Not required\"),COUNTRY_INFO!O70*DISTRICT!AO70,0))","v":212004.27229530719},368703.24981489126,0,{"$f":"MAX('MDA2'!J70,'T1'!L70,'T2'!J70,T3_R1!K70,T3_R2!K70)","v":0},{"$f":"MAX('MDA1'!K70,'MDA2'!K70,'MDA3'!I70,'MDA3'!L70,'T1'!M70,'T2'!K70,T3_R1!L70,T3_R2!L70)","v":0},{"$f":"MAX('MDA1'!L70,'MDA2'!L70,'MDA3'!J70,'MDA3'!M70,'T1'!N70,'T2'!L70,T3_R1!M70,T3_R2!M70)","v":0},0,{"$f":"MAX('MDA2'!J70,T70)","v":0},{"$f":"MAX('MDA1'!K70,'MDA2'!K70,'MDA3'!I70,'MDA3'!L70,V70,AD70)","v":0},{"$f":"MAX('MDA1'!L70,'MDA2'!L70,'MDA3'!J70,'MDA3'!M70,AF70)","v":0},0,0]
[{"$f":"IF(COUNTRY_INFO!A71=0,\" \",COUNTRY_INFO!A71)","v":"Mozambique"},{"$f":"IF(COUNTRY_INFO!B71=0,\" \",COUNTRY_INFO!B71)","v":"Zambezia"},{"$f":"IF(COUNTRY_INFO!C71=0,\" \",COUNTRY_INFO!C71)","v":"Ile"},{"$f":"COUNTRY_INFO!L71","v":289889.35917157482},null,null,{"$f":"MAX('MDA1'!M71,'MDA2'!M71)","v":0},{"$f":"IF(AND(COUNTRY_INFO!H71>0,COUNTRY_INFO!H71<4),IF(D71>MAX('MDA1'!M71,'MDA2'!M71),MAX('MDA1'!M71,'MDA2'!M71),D71),0)","v":0},{"$f":"IF(AND(COUNTRY_INFO!H71>0,COUNTRY_INFO!H71<4), IF(G71/D71*100<>0, IF(G71/D71*100>100,100,G71/D71*100), \"-\"),0)","v":"-"},{"$f":"COUNTRY_INFO!M71","v":"Not required"},null,null,{"$f":"MAX('MDA1'!M71,MAX('MDA3'!I71,'MDA3'!L71)+MAX('MDA3'!J71,'MDA3'!M71))","v":0},{"$f":"IF(AND(COUNTRY_INFO!I71>0,COUNTRY_INFO!I71<4),IF(J71>MAX('MDA1'!M71,MAX('MDA3'!I71,'MDA3'!L71)+MAX('MDA3'!J71,'MDA3'!M71)),MAX('MDA1'!M71,MAX('MDA3'!I71,'MDA3'!L71)+MAX('MDA3'!J71,'MDA3'!M71)),J71),0)","v":0},{"$f":"IF(AND(COUNTRY_INFO!I71>0,COUNTRY_INFO!I71<4), IF(M71/J71*100<>0, IF(M71/J71*100>100,100,M71/J71*100), \"-\"),0)","v":0},{"$f":"COUNTRY_INFO!N71","v":114796},null,null,{"$f":"SUM(MAX('MDA2'!J71, 'T1'!L71, MAX(T3_R1!K71, T3_R2!K71)), MAX('MDA1'!K71, 'MDA2'!K71, 'T1'!M71, MAX(T3_R1!L71, T3_R2!L71)), MAX('MDA1'!L71, 'MDA2'!L71, 'T1'!N71, MAX(T3_R1!M71, T3_R2!M71)))","v":0},{"$f":"IF(AND(COUNTRY_INFO!J71>1,COUNTRY_INFO!J71<4),IF(COUNTRY_INFO!E71>MAX('MDA2'!J71,'T1'!L71,MAX(T3_R1!K71,T3_R2!K71)),MAX('MDA2'!J71,'T1'!L71,MAX(T3_R1!K71,T3_R2!K71)),COUNTRY_INFO!E71),0)","v":0},{"$f":"IF(AND(COUNTRY_INFO!J71>1,COUNTRY_INFO!J71<4), IF(T71/COUNTRY_INFO!E71*100<>0, IF(T71/COUNTRY_INFO!E71*100>100,100,T71/COUNTRY_INFO!E71*100), \"-\"),0)","v":"-"},{"$f":"IF(AND(COUNTRY_INFO!J71>1,COUNTRY_INFO!J71<4),IF(COUNTRY_INFO!F71>MAX('MDA1'!K71,'MDA2'!K71,'T1'!M71,MAX(T3_R1!L71,T3_R2!L71)),MAX('MDA1'!K71,'MDA2'!K71,'T1'!M71,MAX(T3_R1!L71,T3_R2!L71)),COUNTRY_INFO!F71),0)","v":0},{"$f":"IF(AND(COUNTRY_INFO!J71>1,COUNTRY_INFO!J71<4), IF(V71/COUNTRY_INFO!F71*100<>0, IF(V71/COUNTRY_INFO!F71*100>100,100,V71/COUNTRY_INFO!F71*100), \"-\"),0)","v":"-"},0,{"$f":"IF(AND(COUNTRY_INFO!J71>1,COUNTRY_INFO!J71<4), IF(S71/P71*100<>0, IF(X71/P71*100>100,100,X71/P71*100), \"-\"),0)","v":"-"},{"$f":"COUNTRY_INFO!O71","v":247855},null,null,{"$f":"MAX('T1'!L71,'T2'!J71)+MAX('T1'!M71,'T2'!K71)+MAX('T1'!N71,'T2'!L71)","v":0},{"$f":"IF(COUNTRY_INFO!K71=1,IF(COUNTRY_INFO!F71*0.33>MAX('T1'!M71,'T2'!K71),MAX('T1'!M71,'T2'!K71),COUNTRY_INFO!F71*0.33),IF(COUNTRY_INFO!K71=2,IF(COUNTRY_INFO!F71*0.5>MAX('T1'!M71,'T2'!K71),MAX('T1'!M71,'T2'!K71),COUNTRY_INFO!F71*0.5),IF(COUNTRY_INFO!K71=3,IF(COUNTRY_INFO!F71>MAX('T1'!M71,'T2'!K71),MAX('T1'!M71,'T2'!K71),COUNTRY_INFO!F71),0)))","v":0},{"$f":"IF(AND(COUNTRY_INFO!K71>0,COUNTRY_INFO!K71<4),IF(Z71>0,IF(COUNTRY_INFO!K71=1, AD71/(COUNTRY_INFO!F71*0.33)*100, IF(COUNTRY_INFO!K71=2, AD71/(COUNTRY_INFO!F71*0.5)*100, IF(COUNTRY_INFO!K71=3, AD71/COUNTRY_INFO!F71*100))),\"-\"),0)","v":0},{"$f":"IF(COUNTRY_INFO!K71=2,IF(COUNTRY_INFO!G71*0.2>MAX('T1'!N71,'T2'!L71),MAX('T1'!N71,'T2'!L71),COUNTRY_INFO!G71*0.2),IF(COUNTRY_INFO!K71=3,IF(COUNTRY_INFO!G71>MAX('T1'!N71,'T2'!L71),MAX('T1'!N71,'T2'!L71),COUNTRY_INFO!G71),0))","v":0},{"$f":"IF(AND(COUNTRY_INFO!K71>0,COUNTRY_INFO!K71<4),IF(Z71>0,IF(COUNTRY_INFO!K71=1, 0, IF(COUNTRY_INFO!K71=2, AF71/(COUNTRY_INFO!G71*0.2)*100, IF(COUNTRY_INFO!K71=3, AF71/COUNTRY_INFO!G71*100))),\"-\"),0)","v":0},0,{"$f":"IF(AND(COUNTRY_INFO!K71>0,COUNTRY_INFO!K71<4), IF(AC71/Z71*100<>0, IF(AH71/Z71*100>100,100,AH71/Z71*100), \"-\"),0)","v":"-"},null,{"$f":"IF(AND(D71<>0, D71<>\"Unknown\",D71<>\"Stopped\",D71<>\"Not required\"),D71/COUNTRY_INFO!D71, 0)","v":1},{"$f":"IF(AND(J71<>0,J71<>\"Unknown\",J71<>\"Stopped\",J71<>\"Not required\"),J71/COUNTRY_INFO!D71, 0)","v":0},{"$f":"IF(AND(P71<>0,P71<>\"Unknown\",P71<>\"Not required\"),P71/(COUNTRY_INFO!E71+COUNTRY_INFO!F71), 0)","v":1},{"$f":"IF(AND(Z71<>0,Z71<>\"Unknown\",Z71<>\"Not required\"),IF(COUNTRY_INFO!K71=1,1,IF(COUNTRY_INFO!K71=2,0.5*COUNTRY_INFO!F71/(0.5*COUNTRY_INFO!F71+0.2*COUNTRY_INFO!G71),IF(COUNTRY_INFO!K71=3,COUNTRY_INFO!F71/(COUNTRY_INFO!F71+COUNTRY_INFO!G71)))),0)","v":0.32748582840773838},{"$f":"IF(AND(Z71<>0,Z71<>\"Unknown\",Z71<>\"Not required\"),IF(COUNTRY_INFO!K71=1,0,IF(COUNTRY_INFO!K71=2,0.2*COUNTRY_INFO!G71/(0.5*COUNTRY_INFO!F71+0.2*COUNTRY_INFO!G71),IF(COUNTRY_INFO!K71=3,COUNTRY_INFO!G71/(COUNTRY_INFO!F71+COUNTRY_INFO!G71)))),0)","v":0.67251417159226157},{"$f":"MAX(COUNTRY_INFO!D71*AK71*PROFILE!$G$7,COUNTRY_INFO!D71*AL71*PROFILE!$G$7)","v":8406.8679663146031},{"$f":"MAX(COUNTRY_INFO!D71*AK71*PROFILE!$G$8,COUNTRY_INFO!D71*AL71*PROFILE!$G$8,COUNTRY_INFO!D71*AM71*PROFILE!$G$8)","v":33627.116558689559},{"$f":"MAX(COUNTRY_INFO!D71*AK71*PROFILE!$G$9,COUNTRY_INFO!D71*AL71*PROFILE!$G$9,COUNTRY_INFO!D71*AM71*PROFILE!$G$9,IF(AND(DISTRICT!Z71<>\"Unknown\",Z71<>\"Not required\"),COUNTRY_INFO!O71*DISTRICT!AN71,0))","v":81169},{"$f":"MAX(COUNTRY_INFO!D71*AK71*PROFILE!$G$10,COUNTRY_INFO!D71*AL71*PROFILE!$G$10,IF(AND(DISTRICT!Z71<>\"Unknown\",Z71<>\"Not required\"),COUNTRY_INFO!O71*DISTRICT!AO71,0))","v":166686.39497353625},289889.37949854042,0,{"$f":"MAX('MDA2'!J71,'T1'!L71,'T2'!J71,T3_R1!K71,T3_R2!K71)","v":0},{"$f":"MAX('MDA1'!K71,'MDA2'!K71,'MDA3'!I71,'MDA3'!L71,'T1'!M71,'T2'!K71,T3_R1!L71,T3_R2!L71)","v":0},{"$f":"MAX('MDA1'!L71,'MDA2'!L71,'MDA3'!J71,'MDA3'!M71,'T1'!N71,'T2'!L71,T3_R1!M71,T3_R2!M71)","v":0},0,{"$f":"MAX('MDA2'!J71,T71)","v":0},{"$f":"MAX('MDA1'!K71,'MDA2'!K71,'MDA3'!I71,'MDA3'!L71,V71,AD71)","v":0},{"$f":"MAX('MDA1'!L71,'MDA2'!L71,'MDA3'!J71,'MDA3'!M71,AF71)","v":0},0,0]
[{"$f":"IF(COUNTRY_INFO!A72=0,\" \",COUNTRY_INFO!A72)","v":"Mozambique"},{"$f":"IF(COUNTRY_INFO!B72=0,\" \",COUNTRY_INFO!B72)","v":"Zambezia"},{"$f":"IF(COUNTRY_INFO!C72=0,\" \",COUNTRY_INFO!C72)","v":"Inhassunge"},{"$f":"COUNTRY_INFO!L72","v":103117.64880706414},null,null,{"$f":"MAX('MDA1'!M72,'MDA2'!M72)","v":0},{"$f":"IF(AND(COUNTRY_INFO!H72>0,COUNTRY_INFO!H72<4),IF(D72>MAX('MDA1'!M72,'MDA2'!M72),MAX('MDA1'!M72,'MDA2'!M72),D72),0)","v":0},{"$f":"IF(AND(COUNTRY_INFO!H72>0,COUNTRY_INFO!H72<4), IF(G72/D72*100<>0, IF(G72/D72*100>100,100,G72/D72*100), \"-\"),0)","v":"-"},{"$f":"COUNTRY_INFO!M72","v":"Not required"},null,null,{"$f":"MAX('MDA1'!M72,MAX('MDA3'!I72,'MDA3'!L72)+MAX('MDA3'!J72,'MDA3'!M72))","v":0},{"$f":"IF(AND(COUNTRY_INFO!I72>0,COUNTRY_INFO!I72<4),IF(J72>MAX('MDA1'!M72,MAX('MDA3'!I72,'MDA3'!L72)+MAX('MDA3'!J72,'MDA3'!M72)),MAX('MDA1'!M72,MAX('MDA3'!I72,'MDA3'!L72)+MAX('MDA3'!J72,'MDA3'!M72)),J72),0)","v":0},{"$f":"IF(AND(COUNTRY_INFO!I72>0,COUNTRY_INFO!I72<4), IF(M72/J72*100<>0, IF(M72/J72*100>100,100,M72/J72*100), \"-\"),0)","v":0},{"$f":"COUNTRY_INFO!N72","v":40835},null,null,{"$f":"SUM(MAX('MDA2'!J72, 'T1'!L72, MAX(T3_R1!K72, T3_R2!K72)), MAX('MDA1'!K72, 'MDA2'!K72, 'T1'!M72, MAX(T3_R1!L72, T3_R2!L72)), MAX('MDA1'!L72, 'MDA2'!L72, 'T1'!N72, MAX(T3_R1!M72, T3_R2!M72)))","v":0},{"$f":"IF(AND(COUNTRY_INFO!J72>1,COUNTRY_INFO!J72<4),IF(COUNTRY_INFO!E72>MAX('MDA2'!J72,'T1'!L72,MAX(T3_R1!K72,T3_R2!K72)),MAX('MDA2'!J72,'T1'!L72,MAX(T3_R1!K72,T3_R2!K72)),COUNTRY_INFO!E72),0)","v":0},{"$f":"IF(AND(COUNTRY_INFO!J72>1,COUNTRY_INFO!J72<4), IF(T72/COUNTRY_INFO!E72*100<>0, IF(T72/COUNTRY_INFO!E72*100>100,100,T72/COUNTRY_INFO!E72*100), \"-\"),0)","v":"-"},{"$f":"IF(AND(COUNTRY_INFO!J72>1,COUNTRY_INFO!J72<4),IF(COUNTRY_INFO!F72>MAX('MDA1'!K72,'MDA2'!K72,'T1'!M72,MAX(T3_R1!L72,T3_R2!L72)),MAX('MDA1'!K72,'MDA2'!K72,'T1'!M72,MAX(T3_R1!L72,T3_R2!L72)),COUNTRY_INFO!F72),0)","v":0},{"$f":"IF(AND(COUNTRY_INFO!J72>1,COUNTRY_INFO!J72<4), IF(V72/COUNTRY_INFO!F72*100<>0, IF(V72/COUNTRY_INFO!F72*100>100,100,V72/COUNTRY_INFO!F72*100), \"-\"),0)","v":"-"},0,{"$f":"IF(AND(COUNTRY_INFO!J72>1,COUNTRY_INFO!J72<4), IF(S72/P72*100<>0, IF(X72/P72*100>100,100,X72/P72*100), \"-\"),0)","v":"-"},{"$f":"COUNTRY_INFO!O72","v":88166},null,null,{"$f":"MAX('T1'!L72,'T2'!J72)+MAX('T1'!M72,'T2'!K72)+MAX('T1'!N72,'T2'!L72)","v":0},{"$f":"IF(COUNTRY_INFO!K72=1,IF(COUNTRY_INFO!F72*0.33>MAX('T1'!M72,'T2'!K72),MAX('T1'!M72,'T2'!K72),COUNTRY_INFO!F72*0.33),IF(COUNTRY_INFO!K72=2,IF(COUNTRY_INFO!F72*0.5>MAX('T1'!M72,'T2'!K72),MAX('T1'!M72,'T2'!K72),COUNTRY_INFO!F72*0.5),IF(COUNTRY_INFO!K72=3,IF(COUNTRY_INFO!F72>MAX('T1'!M72,'T2'!K72),MAX('T1'!M72,'T2'!K72),COUNTRY_INFO!F72),0)))","v":0},{"$f":"IF(AND(COUNTRY_INFO!K72>0,COUNTRY_INFO!K72<4),IF(Z72>0,IF(COUNTRY_INFO!K72=1, AD72/(COUNTRY_INFO!F72*0.33)*100, IF(COUNTRY_INFO!K72=2, AD72/(COUNTRY_INFO!F72*0.5)*100, IF(COUNTRY_INFO!K72=3, AD72/COUNTRY_INFO!F72*100))),\"-\"),0)","v":0},{"$f":"IF(COUNTRY_INFO!K72=2,IF(COUNTRY_INFO!G72*0.2>MAX('T1'!N72,'T2'!L72),MAX('T1'!N72,'T2'!L72),COUNTRY_INFO!G72*0.2),IF(COUNTRY_INFO!K72=3,IF(COUNTRY_INFO!G72>MAX('T1'!N72,'T2'!L72),MAX('T1'!N72,'T2'!L72),COUNTRY_INFO!G72),0))","v":0},{"$f":"IF(AND(COUNTRY_INFO!K72>0,COUNTRY_INFO!K72<4),IF(Z72>0,IF(COUNTRY_INFO!K72=1, 0, IF(COUNTRY_INFO!K72=2, AF72/(COUNTRY_INFO!G72*0.2)*100, IF(COUNTRY_INFO!K72=3, AF72/COUNTRY_INFO!G72*100))),\"-\"),0)","v":0},0,{"$f":"IF(AND(COUNTRY_INFO!K72>0,COUNTRY_INFO!K72<4), IF(AC72/Z72*100<>0, IF(AH72/Z72*100>100,100,AH72/Z72*100), \"-\"),0)","v":"-"},null,{"$f":"IF(AND(D72<>0, D72<>\"Unknown\",D72<>\"Stopped\",D72<>\"Not required\"),D72/COUNTRY_INFO!D72, 0)","v":1},{"$f":"IF(AND(J72<>0,J72<>\"Unknown\",J72<>\"Stopped\",J72<>\"Not required\"),J72/COUNTRY_INFO!D72, 0)","v":0},{"$f":"IF(AND(P72<>0,P72<>\"Unknown\",P72<>\"Not required\"),P72/(COUNTRY_INFO!E72+COUNTRY_INFO!F72), 0)","v":1},{"$f":"IF(AND(Z72<>0,Z72<>\"Unknown\",Z72<>\"Not required\"),IF(COUNTRY_INFO!K72=1,1,IF(COUNTRY_INFO!K72=2,0.5*COUNTRY_INFO!F72/(0.5*COUNTRY_INFO!F72+0.2*COUNTRY_INFO!G72),IF(COUNTRY_INFO!K72=3,COUNTRY_INFO!F72/(COUNTRY_INFO!F72+COUNTRY_INFO!G72)))),0)","v":0.32748451784134475},{"$f":"IF(AND(Z72<>0,Z72<>\"Unknown\",Z72<>\"Not required\"),IF(COUNTRY_INFO!K72=1,0,IF(COUNTRY_INFO!K72=2,0.2*COUNTRY_INFO!G72/(0.5*COUNTRY_INFO!F72+0.2*COUNTRY_INFO!G72),IF(COUNTRY_INFO!K72=3,COUNTRY_INFO!G72/(COUNTRY_INFO!F72+COUNTRY_INFO!G72)))),0)","v":0.67251548215865531},{"$f":"MAX(COUNTRY_INFO!D72*AK72*PROFILE!$G$7,COUNTRY_INFO!D72*AL72*PROFILE!$G$7)","v":2990.4390454176782},{"$f":"MAX(COUNTRY_INFO!D72*AK72*PROFILE!$G$8,COUNTRY_INFO!D72*AL72*PROFILE!$G$8,COUNTRY_INFO!D72*AM72*PROFILE!$G$8)","v":11961.629794216926},{"$f":"MAX(COUNTRY_INFO!D72*AK72*PROFILE!$G$9,COUNTRY_INFO!D72*AL72*PROFILE!$G$9,COUNTRY_INFO!D72*AM72*PROFILE!$G$9,IF(AND(DISTRICT!Z72<>\"Unknown\",Z72<>\"Not required\"),COUNTRY_INFO!O72*DISTRICT!AN72,0))","v":28873},{"$f":"MAX(COUNTRY_INFO!D72*AK72*PROFILE!$G$10,COUNTRY_INFO!D72*AL72*PROFILE!$G$10,IF(AND(DISTRICT!Z72<>\"Unknown\",Z72<>\"Not required\"),COUNTRY_INFO!O72*DISTRICT!AO72,0))","v":59293.000000000007},103118.06883963462,0,{"$f":"MAX('MDA2'!J72,'T1'!L72,'T2'!J72,T3_R1!K72,T3_R2!K72)","v":0},{"$f":"MAX('MDA1'!K72,'MDA2'!K72,'MDA3'!I72,'MDA3'!L72,'T1'!M72,'T2'!K72,T3_R1!L72,T3_R2!L72)","v":0},{"$f":"MAX('MDA1'!L72,'MDA2'!L72,'MDA3'!J72,'MDA3'!M72,'T1'!N72,'T2'!L72,T3_R1!M72,T3_R2!M72)","v":0},0,{"$f":"MAX('MDA2'!J72,T72)","v":0},{"$f":"MAX('MDA1'!K72,'MDA2'!K72,'MDA3'!I72,'MDA3'!L72,V72,AD72)","v":0},{"$f":"MAX('MDA1'!L72,'MDA2'!L72,'MDA3'!J72,'MDA3'!M72,AF72)","v":0},0,0]
[{"$f":"IF(COUNTRY_INFO!A73=0,\" \",COUNTRY_INFO!A73)","v":"Mozambique"},{"$f":"IF(COUNTRY_INFO!B73=0,\" \",COUNTRY_INFO!B73)","v":"Zambezia"},{"$f":"IF(COUNTRY_INFO!C73=0,\" \",COUNTRY_INFO!C73)","v":"Luabo"},{"$f":"COUNTRY_INFO!L73","v":59554},null,null,{"$f":"MAX('MDA1'!M73,'MDA2'!M73)","v":0},{"$f":"IF(AND(COUNTRY_INFO!H73>0,COUNTRY_INFO!H73<4),IF(D73>MAX('MDA1'!M73,'MDA2'!M73),MAX('MDA1'!M73,'MDA2'!M73),D73),0)","v":0},{"$f":"IF(AND(COUNTRY_INFO!H73>0,COUNTRY_INFO!H73<4), IF(G73/D73*100<>0, IF(G73/D73*100>100,100,G73/D73*100), \"-\"),0)","v":"-"},{"$f":"COUNTRY_INFO!M73","v":"Not required"},null,null,{"$f":"MAX('MDA1'!M73,MAX('MDA3'!I73,'MDA3'!L73)+MAX('MDA3'!J73,'MDA3'!M73))","v":0},{"$f":"IF(AND(COUNTRY_INFO!I73>0,COUNTRY_INFO!I73<4),IF(J73>MAX('MDA1'!M73,MAX('MDA3'!I73,'MDA3'!L73)+MAX('MDA3'!J73,'MDA3'!M73)),MAX('MDA1'!M73,MAX('MDA3'!I73,'MDA3'!L73)+MAX('MDA3'!J73,'MDA3'!M73)),J73),0)","v":0},{"$f":"IF(AND(COUNTRY_INFO!I73>0,COUNTRY_INFO!I73<4), IF(M73/J73*100<>0, IF(M73/J73*100>100,100,M73/J73*100), \"-\"),0)","v":0},{"$f":"COUNTRY_INFO!N73","v":23583},null,null,{"$f":"SUM(MAX('MDA2'!J73, 'T1'!L73, MAX(T3_R1!K73, T3_R2!K73)), MAX('MDA1'!K73, 'MDA2'!K73, 'T1'!M73, MAX(T3_R1!L73, T3_R2!L73)), MAX('MDA1'!L73, 'MDA2'!L73, 'T1'!N73, MAX(T3_R1!M73, T3_R2!M73)))","v":0},{"$f":"IF(AND(COUNTRY_INFO!J73>1,COUNTRY_INFO!J73<4),IF(COUNTRY_INFO!E73>MAX('MDA2'!J73,'T1'!L73,MAX(T3_R1!K73,T3_R2!K73)),MAX('MDA2'!J73,'T1'!L73,MAX(T3_R1!K73,T3_R2!K73)),COUNTRY_INFO!E73),0)","v":0},{"$f":"IF(AND(COUNTRY_INFO!J73>1,COUNTRY_INFO!J73<4), IF(T73/COUNTRY_INFO!E73*100<>0, IF(T73/COUNTRY_INFO!E73*100>100,100,T73/COUNTRY_INFO!E73*100), \"-\"),0)","v":"-"},{"$f":"IF(AND(COUNTRY_INFO!J73>1,COUNTRY_INFO!J73<4),IF(COUNTRY_INFO!F73>MAX('MDA1'!K73,'MDA2'!K73,'T1'!M73,MAX(T3_R1!L73,T3_R2!L73)),MAX('MDA1'!K73,'MDA2'!K73,'T1'!M73,MAX(T3_R1!L73,T3_R2!L73)),COUNTRY_INFO!F73),0)","v":0},{"$f":"IF(AND(COUNTRY_INFO!J73>1,COUNTRY_INFO!J73<4), IF(V73/COUNTRY_INFO!F73*100<>0, IF(V73/COUNTRY_INFO!F73*100>100,100,V73/COUNTRY_INFO!F73*100), \"-\"),0)","v":"-"},0,{"$f":"IF(AND(COUNTRY_INFO!J73>1,COUNTRY_INFO!J73<4), IF(S73/P73*100<>0, IF(X73/P73*100>100,100,X73/P73*100), \"-\"),0)","v":"-"},{"$f":"COUNTRY_INFO!O73","v":15186.3},null,null,{"$f":"MAX('T1'!L73,'T2'!J73)+MAX('T1'!M73,'T2'!K73)+MAX('T1'!N73,'T2'!L73)","v":0},{"$f":"IF(COUNTRY_INFO!K73=1,IF(COUNTRY_INFO!F73*0.33>MAX('T1'!M73,'T2'!K73),MAX('T1'!M73,'T2'!K73),COUNTRY_INFO!F73*0.33),IF(COUNTRY_INFO!K73=2,IF(COUNTRY_INFO!F73*0.5>MAX('T1'!M73,'T2'!K73),MAX('T1'!M73,'T2'!K73),COUNTRY_INFO!F73*0.5),IF(COUNTRY_INFO!K73=3,IF(COUNTRY_INFO!F73>MAX('T1'!M73,'T2'!K73),MAX('T1'!M73,'T2'!K73),COUNTRY_INFO!F73),0)))","v":0},{"$f":"IF(AND(COUNTRY_INFO!K73>0,COUNTRY_INFO!K73<4),IF(Z73>0,IF(COUNTRY_INFO!K73=1, AD73/(COUNTRY_INFO!F73*0.33)*100, IF(COUNTRY_INFO!K73=2, AD73/(COUNTRY_INFO!F73*0.5)*100, IF(COUNTRY_INFO!K73=3, AD73/COUNTRY_INFO!F73*100))),\"-\"),0)","v":0},{"$f":"IF(COUNTRY_INFO!K73=2,IF(COUNTRY_INFO!G73*0.2>MAX('T1'!N73,'T2'!L73),MAX('T1'!N73,'T2'!L73),COUNTRY_INFO!G73*0.2),IF(COUNTRY_INFO!K73=3,IF(COUNTRY_INFO!G73>MAX('T1'!N73,'T2'!L73),MAX('T1'!N73,'T2'!L73),COUNTRY_INFO!G73),0))","v":0},{"$f":"IF(AND(COUNTRY_INFO!K73>0,COUNTRY_INFO!K73<4),IF(Z73>0,IF(COUNTRY_INFO!K73=1, 0, IF(COUNTRY_INFO!K73=2, AF73/(COUNTRY_INFO!G73*0.2)*100, IF(COUNTRY_INFO!K73=3, AF73/COUNTRY_INFO!G73*100))),\"-\"),0)","v":0},0,{"$f":"IF(AND(COUNTRY_INFO!K73>0,COUNTRY_INFO!K73<4), IF(AC73/Z73*100<>0, IF(AH73/Z73*100>100,100,AH73/Z73*100), \"-\"),0)","v":"-"},null,{"$f":"IF(AND(D73<>0, D73<>\"Unknown\",D73<>\"Stopped\",D73<>\"Not required\"),D73/COUNTRY_INFO!D73, 0)","v":1},{"$f":"IF(AND(J73<>0,J73<>\"Unknown\",J73<>\"Stopped\",J73<>\"Not required\"),J73/COUNTRY_INFO!D73, 0)","v":0},{"$f":"IF(AND(P73<>0,P73<>\"Unknown\",P73<>\"Not required\"),P73/(COUNTRY_INFO!E73+COUNTRY_INFO!F73), 0)","v":1},{"$f":"IF(AND(Z73<>0,Z73<>\"Unknown\",Z73<>\"Not required\"),IF(COUNTRY_INFO!K73=1,1,IF(COUNTRY_INFO!K73=2,0.5*COUNTRY_INFO!F73/(0.5*COUNTRY_INFO!F73+0.2*COUNTRY_INFO!G73),IF(COUNTRY_INFO!K73=3,COUNTRY_INFO!F73/(COUNTRY_INFO!F73+COUNTRY_INFO!G73)))),0)","v":0.54901457234481077},{"$f":"IF(AND(Z73<>0,Z73<>\"Unknown\",Z73<>\"Not required\"),IF(COUNTRY_INFO!K73=1,0,IF(COUNTRY_INFO!K73=2,0.2*COUNTRY_INFO!G73/(0.5*COUNTRY_INFO!F73+0.2*COUNTRY_INFO!G73),IF(COUNTRY_INFO!K73=3,COUNTRY_INFO!G73/(COUNTRY_INFO!F73+COUNTRY_INFO!G73)))),0)","v":0.45098542765518923},{"$f":"MAX(COUNTRY_INFO!D73*AK73*PROFILE!$G$7,COUNTRY_INFO!D73*AL73*PROFILE!$G$7)","v":1727.0817262719054},{"$f":"MAX(COUNTRY_INFO!D73*AK73*PROFILE!$G$8,COUNTRY_INFO!D73*AL73*PROFILE!$G$8,COUNTRY_INFO!D73*AM73*PROFILE!$G$8)","v":6908.2539119723797},{"$f":"MAX(COUNTRY_INFO!D73*AK73*PROFILE!$G$9,COUNTRY_INFO!D73*AL73*PROFILE!$G$9,COUNTRY_INFO!D73*AM73*PROFILE!$G$9,IF(AND(DISTRICT!Z73<>\"Unknown\",Z73<>\"Not required\"),COUNTRY_INFO!O73*DISTRICT!AN73,0))","v":16675.11159865258},{"$f":"MAX(COUNTRY_INFO!D73*AK73*PROFILE!$G$10,COUNTRY_INFO!D73*AL73*PROFILE!$G$10,IF(AND(DISTRICT!Z73<>\"Unknown\",Z73<>\"Not required\"),COUNTRY_INFO!O73*DISTRICT!AO73,0))","v":34243.552763103136},59554,{"$f":"IF(COUNTIFS(AK73:AN73,\">0\")=0,0, IF(COUNTIFS(AK73:AN73,\">0\")<=IF(AND(OR(D73>=0,D73=\"Not required\",D73=\"Unknown\",D73=\"Stopped\"),D73>0,H73>0),1,0)+IF(AND(OR(J73>=0,J73=\"Not required\",J73=\"Unknown\",J73=\"Stopped\"),J73>0,N73>0),1,0)+IF(AND(OR(P73>=0,P73=\"Not required\",P73=\"Unknown\"),P73>0,X73>0),1,0)+IF(AND(OR(Z73>=0,Z73=\"Not required\",Z73=\"Unknown\"),Z73>0,AH73>0),1,0),\"Y\",0))","v":0},{"$f":"MAX('MDA2'!J73,'T1'!L73,'T2'!J73,T3_R1!K73,T3_R2!K73)","v":0},{"$f":"MAX('MDA1'!K73,'MDA2'!K73,'MDA3'!I73,'MDA3'!L73,'T1'!M73,'T2'!K73,T3_R1!L73,T3_R2!L73)","v":0},{"$f":"MAX('MDA1'!L73,'MDA2'!L73,'MDA3'!J73,'MDA3'!M73,'T1'!N73,'T2'!L73,T3_R1!M73,T3_R2!M73)","v":0},0,{"$f":"MAX('MDA2'!J73,T73)","v":0},{"$f":"MAX('MDA1'!K73,'MDA2'!K73,'MDA3'!I73,'MDA3'!L73,V73,AD73)","v":0},{"$f":"MAX('MDA1'!L73,'MDA2'!L73,'MDA3'!J73,'MDA3'!M73,AF73)","v":0},{"$f":"IF(AT73<SUM(AZ73:BB73), AT73,SUM(AZ73:BB73))","v":0},{"$f":"IF(AT73<>0,BC73/AT73*100,0)","v":0}]
[{"$f":"IF(COUNTRY_INFO!A74=0,\" \",COUNTRY_INFO!A74)","v":"Mozambique"},{"$f":"IF(COUNTRY_INFO!B74=0,\" \",COUNTRY_INFO!B74)","v":"Zambezia"},{"$f":"IF(COUNTRY_INFO!C74=0,\" \",COUNTRY_INFO!C74)","v":"Lugela"},{"$f":"COUNTRY_INFO!L74","v":156847.90194866707},null,null,{"$f":"MAX('MDA1'!M74,'MDA2'!M74)","v":0},{"$f":"IF(AND(COUNTRY_INFO!H74>0,COUNTRY_INFO!H74<4),IF(D74>MAX('MDA1'!M74,'MDA2'!M74),MAX('MDA1'!M74,'MDA2'!M74),D74),0)","v":0},{"$f":"IF(AND(COUNTRY_INFO!H74>0,COUNTRY_INFO!H74<4), IF(G74/D74*100<>0, IF(G74/D74*100>100,100,G74/D74*100), \"-\"),0)","v":"-"},{"$f":"COUNTRY_INFO!M74","v":"Not required"},null,null,{"$f":"MAX('MDA1'!M74,MAX('MDA3'!I74,'MDA3'!L74)+MAX('MDA3'!J74,'MDA3'!M74))","v":0},{"$f":"IF(AND(COUNTRY_INFO!I74>0,COUNTRY_INFO!I74<4),IF(J74>MAX('MDA1'!M74,MAX('MDA3'!I74,'MDA3'!L74)+MAX('MDA3'!J74,'MDA3'!M74)),MAX('MDA1'!M74,MAX('MDA3'!I74,'MDA3'!L74)+MAX('MDA3'!J74,'MDA3'!M74)),J74),0)","v":0},{"$f":"IF(AND(COUNTRY_INFO!I74>0,COUNTRY_INFO!I74<4), IF(M74/J74*100<>0, IF(M74/J74*100>100,100,M74/J74*100), \"-\"),0)","v":0},{"$f":"COUNTRY_INFO!N74","v":62111},null,null,{"$f":"SUM(MAX('MDA2'!J74, 'T1'!L74, MAX(T3_R1!K74, T3_R2!K74)), MAX('MDA1'!K74, 'MDA2'!K74, 'T1'!M74, MAX(T3_R1!L74, T3_R2!L74)), MAX('MDA1'!L74, 'MDA2'!L74, 'T1'!N74, MAX(T3_R1!M74, T3_R2!M74)))","v":0},{"$f":"IF(AND(COUNTRY_INFO!J74>1,COUNTRY_INFO!J74<4),IF(COUNTRY_INFO!E74>MAX('MDA2'!J74,'T1'!L74,MAX(T3_R1!K74,T3_R2!K74)),MAX('MDA2'!J74,'T1'!L74,MAX(T3_R1!K74,T3_R2!K74)),COUNTRY_INFO!E74),0)","v":0},{"$f":"IF(AND(COUNTRY_INFO!J74>1,COUNTRY_INFO!J74<4), IF(T74/COUNTRY_INFO!E74*100<>0, IF(T74/COUNTRY_INFO!E74*100>100,100,T74/COUNTRY_INFO!E74*100), \"-\"),0)","v":"-"},{"$f":"IF(AND(COUNTRY_INFO!J74>1,COUNTRY_INFO!J74<4),IF(COUNTRY_INFO!F74>MAX('MDA1'!K74,'MDA2'!K74,'T1'!M74,MAX(T3_R1!L74,T3_R2!L74)),MAX('MDA1'!K74,'MDA2'!K74,'T1'!M74,MAX(T3_R1!L74,T3_R2!L74)),COUNTRY_INFO!F74),0)","v":0},{"$f":"IF(AND(COUNTRY_INFO!J74>1,COUNTRY_INFO!J74<4), IF(V74/COUNTRY_INFO!F74*100<>0, IF(V74/COUNTRY_INFO!F74*100>100,100,V74/COUNTRY_INFO!F74*100), \"-\"),0)","v":"-"},{"$f":"SUM(T74,V74)","v":0},{"$f":"IF(AND(COUNTRY_INFO!J74>1,COUNTRY_INFO!J74<4), IF(S74/P74*100<>0, IF(X74/P74*100>100,100,X74/P74*100), \"-\"),0)","v":"-"},{"$f":"COUNTRY_INFO!O74","v":134105},null,null,{"$f":"MAX('T1'!L74,'T2'!J74)+MAX('T1'!M74,'T2'!K74)+MAX('T1'!N74,'T2'!L74)","v":0},{"$f":"IF(COUNTRY_INFO!K74=1,IF(COUNTRY_INFO!F74*0.33>MAX('T1'!M74,'T2'!K74),MAX('T1'!M74,'T2'!K74),COUNTRY_INFO!F74*0.33),IF(COUNTRY_INFO!K74=2,IF(COUNTRY_INFO!F74*0.5>MAX('T1'!M74,'T2'!K74),MAX('T1'!M74,'T2'!K74),COUNTRY_INFO!F74*0.5),IF(COUNTRY_INFO!K74=3,IF(COUNTRY_INFO!F74>MAX('T1'!M74,'T2'!K74),MAX('T1'!M74,'T2'!K74),COUNTRY_INFO!F74),0)))","v":0},{"$f":"IF(AND(COUNTRY_INFO!K74>0,COUNTRY_INFO!K74<4),IF(Z74>0,IF(COUNTRY_INFO!K74=1, AD74/(COUNTRY_INFO!F74*0.33)*100, IF(COUNTRY_INFO!K74=2, AD74/(COUNTRY_INFO!F74*0.5)*100, IF(COUNTRY_INFO!K74=3, AD74/COUNTRY_INFO!F74*100))),\"-\"),0)","v":0},{"$f":"IF(COUNTRY_INFO!K74=2,IF(COUNTRY_INFO!G74*0.2>MAX('T1'!N74,'T2'!L74),MAX('T1'!N74,'T2'!L74),COUNTRY_INFO!G74*0.2),IF(COUNTRY_INFO!K74=3,IF(COUNTRY_INFO!G74>MAX('T1'!N74,'T2'!L74),MAX('T1'!N74,'T2'!L74),COUNTRY_INFO!G74),0))","v":0},{"$f":"IF(AND(COUNTRY_INFO!K74>0,COUNTRY_INFO!K74<4),IF(Z74>0,IF(COUNTRY_INFO!K74=1, 0, IF(COUNTRY_INFO!K74=2, AF74/(COUNTRY_INFO!G74*0.2)*100, IF(COUNTRY_INFO!K74=3, AF74/COUNTRY_INFO!G74*100))),\"-\"),0)","v":0},{"$f":"SUM(AD74,AF74)","v":0},{"$f":"IF(AND(COUNTRY_INFO!K74>0,COUNTRY_INFO!K74<4), IF(AC74/Z74*100<>0, IF(AH74/Z74*100>100,100,AH74/Z74*100), \"-\"),0)","v":"-"},null,{"$f":"IF(AND(D74<>0, D74<>\"Unknown\",D74<>\"Stopped\",D74<>\"Not required\"),D74/COUNTRY_INFO!D74, 0)","v":1},{"$f":"IF(AND(J74<>0,J74<>\"Unknown\",J74<>\"Stopped\",J74<>\"Not required\"),J74/COUNTRY_INFO!D74, 0)","v":0},{"$f":"IF(AND(P74<>0,P74<>\"Unknown\",P74<>\"Not required\"),P74/(COUNTRY_INFO!E74+COUNTRY_INFO!F74), 0)","v":1},{"$f":"IF(AND(Z74<>0,Z74<>\"Unknown\",Z74<>\"Not required\"),IF(COUNTRY_INFO!K74=1,1,IF(COUNTRY_INFO!K74=2,0.5*COUNTRY_INFO!F74/(0.5*COUNTRY_INFO!F74+0.2*COUNTRY_INFO!G74),IF(COUNTRY_INFO!K74=3,COUNTRY_INFO!F74/(COUNTRY_INFO!F74+COUNTRY_INFO!G74)))),0)","v":0.32748219678610047},{"$f":"IF(AND(Z74<>0,Z74<>\"Unknown\",Z74<>\"Not required\"),IF(COUNTRY_INFO!K74=1,0,IF(COUNTRY_INFO!K74=2,0.2*COUNTRY_INFO!G74/(0.5*COUNTRY_INFO!F74+0.2*COUNTRY_INFO!G74),IF(COUNTRY_INFO!K74=3,COUNTRY_INFO!G74/(COUNTRY_INFO!F74+COUNTRY_INFO!G74)))),0)","v":0.67251780321389953},{"$f":"MAX(COUNTRY_INFO!D74*AK74*PROFILE!$G$7,COUNTRY_INFO!D74*AL74*PROFILE!$G$7)","v":4548.6305749341855},{"$f":"MAX(COUNTRY_INFO!D74*AK74*PROFILE!$G$8,COUNTRY_INFO!D74*AL74*PROFILE!$G$8,COUNTRY_INFO!D74*AM74*PROFILE!$G$8)","v":18194.330057116895},{"$f":"MAX(COUNTRY_INFO!D74*AK74*PROFILE!$G$9,COUNTRY_INFO!D74*AL74*PROFILE!$G$9,COUNTRY_INFO!D74*AM74*PROFILE!$G$9,IF(AND(DISTRICT!Z74<>\"Unknown\",Z74<>\"Not required\"),COUNTRY_INFO!O74*DISTRICT!AN74,0))","v":43917.390418923009},{"$f":"MAX(COUNTRY_INFO!D74*AK74*PROFILE!$G$10,COUNTRY_INFO!D74*AL74*PROFILE!$G$10,IF(AND(DISTRICT!Z74<>\"Unknown\",Z74<>\"Not required\"),COUNTRY_INFO!O74*DISTRICT!AO74,0))","v":90188},{"$f":"SUM(AP74:AS74)","v":156848.3510509741},0,{"$f":"MAX('MDA2'!J74,'T1'!L74,'T2'!J74,T3_R1!K74,T3_R2!K74)","v":0},{"$f":"MAX('MDA1'!K74,'MDA2'!K74,'MDA3'!I74,'MDA3'!L74,'T1'!M74,'T2'!K74,T3_R1!L74,T3_R2!L74)","v":0},{"$f":"MAX('MDA1'!L74,'MDA2'!L74,'MDA3'!J74,'MDA3'!M74,'T1'!N74,'T2'!L74,T3_R1!M74,T3_R2!M74)","v":0},{"$f":"SUM(AV74:AX74)","v":0},{"$f":"MAX('MDA2'!J74,T74)","v":0},{"$f":"MAX('MDA1'!K74,'MDA2'!K74,'MDA3'!I74,'MDA3'!L74,V74,AD74)","v":0},{"$f":"MAX('MDA1'!L74,'MDA2'!L74,'MDA3'!J74,'MDA3'!M74,AF74)","v":0},0,0]
[{"$f":"IF(COUNTRY_INFO!A75=0,\" \",COUNTRY_INFO!A75)","v":"Mozambique"},{"$f":"IF(COUNTRY_INFO!B75=0,\" \",COUNTRY_INFO!B75)","v":"Zambezia"},{"$f":"IF(COUNTRY_INFO!C75=0,\" \",COUNTRY_INFO!C75)","v":"Maganja da Costa"},{"$f":"COUNTRY_INFO!L75","v":231150.18842979905},null,null,{"$f":"MAX('MDA1'!M75,'MDA2'!M75)","v":0},{"$f":"IF(AND(COUNTRY_INFO!H75>0,COUNTRY_INFO!H75<4),IF(D75>MAX('MDA1'!M75,'MDA2'!M75),MAX('MDA1'!M75,'MDA2'!M75),D75),0)","v":0},{"$f":"IF(AND(COUNTRY_INFO!H75>0,COUNTRY_INFO!H75<4), IF(G75/D75*100<>0, IF(G75/D75*100>100,100,G75/D75*100), \"-\"),0)","v":"-"},{"$f":"COUNTRY_INFO!M75","v":"Not required"},null,null,{"$f":"MAX('MDA1'!M75,MAX('MDA3'!I75,'MDA3'!L75)+MAX('MDA3'!J75,'MDA3'!M75))","v":0},{"$f":"IF(AND(COUNTRY_INFO!I75>0,COUNTRY_INFO!I75<4),IF(J75>MAX('MDA1'!M75,MAX('MDA3'!I75,'MDA3'!L75)+MAX('MDA3'!J75,'MDA3'!M75)),MAX('MDA1'!M75,MAX('MDA3'!I75,'MDA3'!L75)+MAX('MDA3'!J75,'MDA3'!M75)),J75),0)","v":0},{"$f":"IF(AND(COUNTRY_INFO!I75>0,COUNTRY_INFO!I75<4), IF(M75/J75*100<>0, IF(M75/J75*100>100,100,M75/J75*100), \"-\"),0)","v":0},{"$f":"COUNTRY_INFO!N75","v":91535},null,null,{"$f":"SUM(MAX('MDA2'!J75, 'T1'!L75, MAX(T3_R1!K75, T3_R2!K75)), MAX('MDA1'!K75, 'MDA2'!K75, 'T1'!M75, MAX(T3_R1!L75, T3_R2!L75)), MAX('MDA1'!L75, 'MDA2'!L75, 'T1'!N75, MAX(T3_R1!M75, T3_R2!M75)))","v":0},{"$f":"IF(AND(COUNTRY_INFO!J75>1,COUNTRY_INFO!J75<4),IF(COUNTRY_INFO!E75>MAX('MDA2'!J75,'T1'!L75,MAX(T3_R1!K75,T3_R2!K75)),MAX('MDA2'!J75,'T1'!L75,MAX(T3_R1!K75,T3_R2!K75)),COUNTRY_INFO!E75),0)","v":0},{"$f":"IF(AND(COUNTRY_INFO!J75>1,COUNTRY_INFO!J75<4), IF(T75/COUNTRY_INFO!E75*100<>0, IF(T75/COUNTRY_INFO!E75*100>100,100,T75/COUNTRY_INFO!E75*100), \"-\"),0)","v":"-"},{"$f":"IF(AND(COUNTRY_INFO!J75>1,COUNTRY_INFO!J75<4),IF(COUNTRY_INFO!F75>MAX('MDA1'!K75,'MDA2'!K75,'T1'!M75,MAX(T3_R1!L75,T3_R2!L75)),MAX('MDA1'!K75,'MDA2'!K75,'T1'!M75,MAX(T3_R1!L75,T3_R2!L75)),COUNTRY_INFO!F75),0)","v":0},{"$f":"IF(AND(COUNTRY_INFO!J75>1,COUNTRY_INFO!J75<4), IF(V75/COUNTRY_INFO!F75*100<>0, IF(V75/COUNTRY_INFO!F75*100>100,100,V75/COUNTRY_INFO!F75*100), \"-\"),0)","v":"-"},0,{"$f":"IF(AND(COUNTRY_INFO!J75>1,COUNTRY_INFO!J75<4), IF(S75/P75*100<>0, IF(X75/P75*100>100,100,X75/P75*100), \"-\"),0)","v":"-"},{"$f":"COUNTRY_INFO!O75","v":197633},null,null,{"$f":"MAX('T1'!L75,'T2'!J75)+MAX('T1'!M75,'T2'!K75)+MAX('T1'!N75,'T2'!L75)","v":0},{"$f":"IF(COUNTRY_INFO!K75=1,IF(COUNTRY_INFO!F75*0.33>MAX('T1'!M75,'T2'!K75),MAX('T1'!M75,'T2'!K75),COUNTRY_INFO!F75*0.33),IF(COUNTRY_INFO!K75=2,IF(COUNTRY_INFO!F75*0.5>MAX('T1'!M75,'T2'!K75),MAX('T1'!M75,'T2'!K75),COUNTRY_INFO!F75*0.5),IF(COUNTRY_INFO!K75=3,IF(COUNTRY_INFO!F75>MAX('T1'!M75,'T2'!K75),MAX('T1'!M75,'T2'!K75),COUNTRY_INFO!F75),0)))","v":0},{"$f":"IF(AND(COUNTRY_INFO!K75>0,COUNTRY_INFO!K75<4),IF(Z75>0,IF(COUNTRY_INFO!K75=1, AD75/(COUNTRY_INFO!F75*0.33)*100, IF(COUNTRY_INFO!K75=2, AD75/(COUNTRY_INFO!F75*0.5)*100, IF(COUNTRY_INFO!K75=3, AD75/COUNTRY_INFO!F75*100))),\"-\"),0)","v":0},{"$f":"IF(COUNTRY_INFO!K75=2,IF(COUNTRY_INFO!G75*0.2>MAX('T1'!N75,'T2'!L75),MAX('T1'!N75,'T2'!L75),COUNTRY_INFO!G75*0.2),IF(COUNTRY_INFO!K75=3,IF(COUNTRY_INFO!G75>MAX('T1'!N75,'T2'!L75),MAX('T1'!N75,'T2'!L75),COUNTRY_INFO!G75),0))","v":0},{"$f":"IF(AND(COUNTRY_INFO!K75>0,COUNTRY_INFO!K75<4),IF(Z75>0,IF(COUNTRY_INFO!K75=1, 0, IF(COUNTRY_INFO!K75=2, AF75/(COUNTRY_INFO!G75*0.2)*100, IF(COUNTRY_INFO!K75=3, AF75/COUNTRY_INFO!G75*100))),\"-\"),0)","v":0},0,{"$f":"IF(AND(COUNTRY_INFO!K75>0,COUNTRY_INFO!K75<4), IF(AC75/Z75*100<>0, IF(AH75/Z75*100>100,100,AH75/Z75*100), \"-\"),0)","v":"-"},null,{"$f":"IF(AND(D75<>0, D75<>\"Unknown\",D75<>\"Stopped\",D75<>\"Not required\"),D75/COUNTRY_INFO!D75, 0)","v":1},{"$f":"IF(AND(J75<>0,J75<>\"Unknown\",J75<>\"Stopped\",J75<>\"Not required\"),J75/COUNTRY_INFO!D75, 0)","v":0},{"$f":"IF(AND(P75<>0,P75<>\"Unknown\",P75<>\"Not required\"),P75/(COUNTRY_INFO!E75+COUNTRY_INFO!F75), 0)","v":1},{"$f":"IF(AND(Z75<>0,Z75<>\"Unknown\",Z75<>\"Not required\"),IF(COUNTRY_INFO!K75=1,1,IF(COUNTRY_INFO!K75=2,0.5*COUNTRY_INFO!F75/(0.5*COUNTRY_INFO!F75+0.2*COUNTRY_INFO!G75),IF(COUNTRY_INFO!K75=3,COUNTRY_INFO!F75/(COUNTRY_INFO!F75+COUNTRY_INFO!G75)))),0)","v":0.32748579437644521},{"$f":"IF(AND(Z75<>0,Z75<>\"Unknown\",Z75<>\"Not required\"),IF(COUNTRY_INFO!K75=1,0,IF(COUNTRY_INFO!K75=2,0.2*COUNTRY_INFO!G75/(0.5*COUNTRY_INFO!F75+0.2*COUNTRY_INFO!G75),IF(COUNTRY_INFO!K75=3,COUNTRY_INFO!G75/(COUNTRY_INFO!F75+COUNTRY_INFO!G75)))),0)","v":0.67251420562355479},{"$f":"MAX(COUNTRY_INFO!D75*AK75*PROFILE!$G$7,COUNTRY_INFO!D75*AL75*PROFILE!$G$7)","v":6703.4165037010707},{"$f":"MAX(COUNTRY_INFO!D75*AK75*PROFILE!$G$8,COUNTRY_INFO!D75*AL75*PROFILE!$G$8,COUNTRY_INFO!D75*AM75*PROFILE!$G$8)","v":26813.38270264486},{"$f":"MAX(COUNTRY_INFO!D75*AK75*PROFILE!$G$9,COUNTRY_INFO!D75*AL75*PROFILE!$G$9,COUNTRY_INFO!D75*AM75*PROFILE!$G$9,IF(AND(DISTRICT!Z75<>\"Unknown\",Z75<>\"Not required\"),COUNTRY_INFO!O75*DISTRICT!AN75,0))","v":64722.020151735764},{"$f":"MAX(COUNTRY_INFO!D75*AK75*PROFILE!$G$10,COUNTRY_INFO!D75*AL75*PROFILE!$G$10,IF(AND(DISTRICT!Z75<>\"Unknown\",Z75<>\"Not required\"),COUNTRY_INFO!O75*DISTRICT!AO75,0))","v":132911.36907171734},231150.18842979905,0,{"$f":"MAX('MDA2'!J75,'T1'!L75,'T2'!J75,T3_R1!K75,T3_R2!K75)","v":0},{"$f":"MAX('MDA1'!K75,'MDA2'!K75,'MDA3'!I75,'MDA3'!L75,'T1'!M75,'T2'!K75,T3_R1!L75,T3_R2!L75)","v":0},{"$f":"MAX('MDA1'!L75,'MDA2'!L75,'MDA3'!J75,'MDA3'!M75,'T1'!N75,'T2'!L75,T3_R1!M75,T3_R2!M75)","v":0},0,{"$f":"MAX('MDA2'!J75,T75)","v":0},{"$f":"MAX('MDA1'!K75,'MDA2'!K75,'MDA3'!I75,'MDA3'!L75,V75,AD75)","v":0},{"$f":"MAX('MDA1'!L75,'MDA2'!L75,'MDA3'!J75,'MDA3'!M75,AF75)","v":0},0,0]
[{"$f":"IF(COUNTRY_INFO!A76=0,\" \",COUNTRY_INFO!A76)","v":"Mozambique"},{"$f":"IF(COUNTRY_INFO!B76=0,\" \",COUNTRY_INFO!B76)","v":"Zambezia"},{"$f":"IF(COUNTRY_INFO!C76=0,\" \",COUNTRY_INFO!C76)","v":"Milange"},{"$f":"COUNTRY_INFO!L76","v":555188},null,null,{"$f":"MAX('MDA1'!M76,'MDA2'!M76)","v":0},{"$f":"IF(AND(COUNTRY_INFO!H76>0,COUNTRY_INFO!H76<4),IF(D76>MAX('MDA1'!M76,'MDA2'!M76),MAX('MDA1'!M76,'MDA2'!M76),D76),0)","v":0},{"$f":"IF(AND(COUNTRY_INFO!H76>0,COUNTRY_INFO!H76<4), IF(G76/D76*100<>0, IF(G76/D76*100>100,100,G76/D76*100), \"-\"),0)","v":"-"},{"$f":"COUNTRY_INFO!M76","v":"Not required"},null,null,{"$f":"MAX('MDA1'!M76,MAX('MDA3'!I76,'MDA3'!L76)+MAX('MDA3'!J76,'MDA3'!M76))","v":0},{"$f":"IF(AND(COUNTRY_INFO!I76>0,COUNTRY_INFO!I76<4),IF(J76>MAX('MDA1'!M76,MAX('MDA3'!I76,'MDA3'!L76)+MAX('MDA3'!J76,'MDA3'!M76)),MAX('MDA1'!M76,MAX('MDA3'!I76,'MDA3'!L76)+MAX('MDA3'!J76,'MDA3'!M76)),J76),0)","v":0},{"$f":"IF(AND(COUNTRY_INFO!I76>0,COUNTRY_INFO!I76<4), IF(M76/J76*100<>0, IF(M76/J76*100>100,100,M76/J76*100), \"-\"),0)","v":0},{"$f":"COUNTRY_INFO!N76","v":219855},null,null,{"$f":"SUM(MAX('MDA2'!J76, 'T1'!L76, MAX(T3_R1!K76, T3_R2!K76)), MAX('MDA1'!K76, 'MDA2'!K76, 'T1'!M76, MAX(T3_R1!L76, T3_R2!L76)), MAX('MDA1'!L76, 'MDA2'!L76, 'T1'!N76, MAX(T3_R1!M76, T3_R2!M76)))","v":0},{"$f":"IF(AND(COUNTRY_INFO!J76>1,COUNTRY_INFO!J76<4),IF(COUNTRY_INFO!E76>MAX('MDA2'!J76,'T1'!L76,MAX(T3_R1!K76,T3_R2!K76)),MAX('MDA2'!J76,'T1'!L76,MAX(T3_R1!K76,T3_R2!K76)),COUNTRY_INFO!E76),0)","v":0},{"$f":"IF(AND(COUNTRY_INFO!J76>1,COUNTRY_INFO!J76<4), IF(T76/COUNTRY_INFO!E76*100<>0, IF(T76/COUNTRY_INFO!E76*100>100,100,T76/COUNTRY_INFO!E76*100), \"-\"),0)","v":"-"},{"$f":"IF(AND(COUNTRY_INFO!J76>1,COUNTRY_INFO!J76<4),IF(COUNTRY_INFO!F76>MAX('MDA1'!K76,'MDA2'!K76,'T1'!M76,MAX(T3_R1!L76,T3_R2!L76)),MAX('MDA1'!K76,'MDA2'!K76,'T1'!M76,MAX(T3_R1!L76,T3_R2!L76)),COUNTRY_INFO!F76),0)","v":0},{"$f":"IF(AND(COUNTRY_INFO!J76>1,COUNTRY_INFO!J76<4), IF(V76/COUNTRY_INFO!F76*100<>0, IF(V76/COUNTRY_INFO!F76*100>100,100,V76/COUNTRY_INFO!F76*100), \"-\"),0)","v":"-"},0,{"$f":"IF(AND(COUNTRY_INFO!J76>1,COUNTRY_INFO!J76<4), IF(S76/P76*100<>0, IF(X76/P76*100>100,100,X76/P76*100), \"-\"),0)","v":"-"},{"$f":"COUNTRY_INFO!O76","v":474686},null,null,{"$f":"MAX('T1'!L76,'T2'!J76)+MAX('T1'!M76,'T2'!K76)+MAX('T1'!N76,'T2'!L76)","v":0},{"$f":"IF(COUNTRY_INFO!K76=1,IF(COUNTRY_INFO!F76*0.33>MAX('T1'!M76,'T2'!K76),MAX('T1'!M76,'T2'!K76),COUNTRY_INFO!F76*0.33),IF(COUNTRY_INFO!K76=2,IF(COUNTRY_INFO!F76*0.5>MAX('T1'!M76,'T2'!K76),MAX('T1'!M76,'T2'!K76),COUNTRY_INFO!F76*0.5),IF(COUNTRY_INFO!K76=3,IF(COUNTRY_INFO!F76>MAX('T1'!M76,'T2'!K76),MAX('T1'!M76,'T2'!K76),COUNTRY_INFO!F76),0)))","v":0},{"$f":"IF(AND(COUNTRY_INFO!K76>0,COUNTRY_INFO!K76<4),IF(Z76>0,IF(COUNTRY_INFO!K76=1, AD76/(COUNTRY_INFO!F76*0.33)*100, IF(COUNTRY_INFO!K76=2, AD76/(COUNTRY_INFO!F76*0.5)*100, IF(COUNTRY_INFO!K76=3, AD76/COUNTRY_INFO!F76*100))),\"-\"),0)","v":0},{"$f":"IF(COUNTRY_INFO!K76=2,IF(COUNTRY_INFO!G76*0.2>MAX('T1'!N76,'T2'!L76),MAX('T1'!N76,'T2'!L76),COUNTRY_INFO!G76*0.2),IF(COUNTRY_INFO!K76=3,IF(COUNTRY_INFO!G76>MAX('T1'!N76,'T2'!L76),MAX('T1'!N76,'T2'!L76),COUNTRY_INFO!G76),0))","v":0},{"$f":"IF(AND(COUNTRY_INFO!K76>0,COUNTRY_INFO!K76<4),IF(Z76>0,IF(COUNTRY_INFO!K76=1, 0, IF(COUNTRY_INFO!K76=2, AF76/(COUNTRY_INFO!G76*0.2)*100, IF(COUNTRY_INFO!K76=3, AF76/COUNTRY_INFO!G76*100))),\"-\"),0)","v":0},0,{"$f":"IF(AND(COUNTRY_INFO!K76>0,COUNTRY_INFO!K76<4), IF(AC76/Z76*100<>0, IF(AH76/Z76*100>100,100,AH76/Z76*100), \"-\"),0)","v":"-"},null,{"$f":"IF(AND(D76<>0, D76<>\"Unknown\",D76<>\"Stopped\",D76<>\"Not required\"),D76/COUNTRY_INFO!D76, 0)","v":1},{"$f":"IF(AND(J76<>0,J76<>\"Unknown\",J76<>\"Stopped\",J76<>\"Not required\"),J76/COUNTRY_INFO!D76, 0)","v":0},{"$f":"IF(AND(P76<>0,P76<>\"Unknown\",P76<>\"Not required\"),P76/(COUNTRY_INFO!E76+COUNTRY_INFO!F76), 0)","v":1},{"$f":"IF(AND(Z76<>0,Z76<>\"Unknown\",Z76<>\"Not required\"),IF(COUNTRY_INFO!K76=1,1,IF(COUNTRY_INFO!K76=2,0.5*COUNTRY_INFO!F76/(0.5*COUNTRY_INFO!F76+0.2*COUNTRY_INFO!G76),IF(COUNTRY_INFO!K76=3,COUNTRY_INFO!F76/(COUNTRY_INFO!F76+COUNTRY_INFO!G76)))),0)","v":0.32748595913930473},{"$f":"IF(AND(Z76<>0,Z76<>\"Unknown\",Z76<>\"Not required\"),IF(COUNTRY_INFO!K76=1,0,IF(COUNTRY_INFO!K76=2,0.2*COUNTRY_INFO!G76/(0.5*COUNTRY_INFO!F76+0.2*COUNTRY_INFO!G76),IF(COUNTRY_INFO!K76=3,COUNTRY_INFO!G76/(COUNTRY_INFO!F76+COUNTRY_INFO!G76)))),0)","v":0.67251404086069533},{"$f":"MAX(COUNTRY_INFO!D76*AK76*PROFILE!$G$7,COUNTRY_INFO!D76*AL76*PROFILE!$G$7)","v":16100.598607069996},{"$f":"MAX(COUNTRY_INFO!D76*AK76*PROFILE!$G$8,COUNTRY_INFO!D76*AL76*PROFILE!$G$8,COUNTRY_INFO!D76*AM76*PROFILE!$G$8)","v":64401.713955068037},{"$f":"MAX(COUNTRY_INFO!D76*AK76*PROFILE!$G$9,COUNTRY_INFO!D76*AL76*PROFILE!$G$9,COUNTRY_INFO!D76*AM76*PROFILE!$G$9,IF(AND(DISTRICT!Z76<>\"Unknown\",Z76<>\"Not required\"),COUNTRY_INFO!O76*DISTRICT!AN76,0))","v":155453},{"$f":"MAX(COUNTRY_INFO!D76*AK76*PROFILE!$G$10,COUNTRY_INFO!D76*AL76*PROFILE!$G$10,IF(AND(DISTRICT!Z76<>\"Unknown\",Z76<>\"Not required\"),COUNTRY_INFO!O76*DISTRICT!AO76,0))","v":319233.1257588357},555188.43832097366,0,{"$f":"MAX('MDA2'!J76,'T1'!L76,'T2'!J76,T3_R1!K76,T3_R2!K76)","v":0},{"$f":"MAX('MDA1'!K76,'MDA2'!K76,'MDA3'!I76,'MDA3'!L76,'T1'!M76,'T2'!K76,T3_R1!L76,T3_R2!L76)","v":0},{"$f":"MAX('MDA1'!L76,'MDA2'!L76,'MDA3'!J76,'MDA3'!M76,'T1'!N76,'T2'!L76,T3_R1!M76,T3_R2!M76)","v":0},0,{"$f":"MAX('MDA2'!J76,T76)","v":0},{"$f":"MAX('MDA1'!K76,'MDA2'!K76,'MDA3'!I76,'MDA3'!L76,V76,AD76)","v":0},{"$f":"MAX('MDA1'!L76,'MDA2'!L76,'MDA3'!J76,'MDA3'!M76,AF76)","v":0},0,0]
[{"$f":"IF(COUNTRY_INFO!A77=0,\" \",COUNTRY_INFO!A77)","v":"Mozambique"},{"$f":"IF(COUNTRY_INFO!B77=0,\" \",COUNTRY_INFO!B77)","v":"Zambezia"},{"$f":"IF(COUNTRY_INFO!C77=0,\" \",COUNTRY_INFO!C77)","v":"Mocuba"},{"$f":"COUNTRY_INFO!L77","v":413841},null,null,{"$f":"MAX('MDA1'!M77,'MDA2'!M77)","v":0},{"$f":"IF(AND(COUNTRY_INFO!H77>0,COUNTRY_INFO!H77<4),IF(D77>MAX('MDA1'!M77,'MDA2'!M77),MAX('MDA1'!M77,'MDA2'!M77),D77),0)","v":0},{"$f":"IF(AND(COUNTRY_INFO!H77>0,COUNTRY_INFO!H77<4), IF(G77/D77*100<>0, IF(G77/D77*100>100,100,G77/D77*100), \"-\"),0)","v":"-"},{"$f":"COUNTRY_INFO!M77","v":"Not required"},null,null,{"$f":"MAX('MDA1'!M77,MAX('MDA3'!I77,'MDA3'!L77)+MAX('MDA3'!J77,'MDA3'!M77))","v":0},{"$f":"IF(AND(COUNTRY_INFO!I77>0,COUNTRY_INFO!I77<4),IF(J77>MAX('MDA1'!M77,MAX('MDA3'!I77,'MDA3'!L77)+MAX('MDA3'!J77,'MDA3'!M77)),MAX('MDA1'!M77,MAX('MDA3'!I77,'MDA3'!L77)+MAX('MDA3'!J77,'MDA3'!M77)),J77),0)","v":0},{"$f":"IF(AND(COUNTRY_INFO!I77>0,COUNTRY_INFO!I77<4), IF(M77/J77*100<>0, IF(M77/J77*100>100,100,M77/J77*100), \"-\"),0)","v":0},{"$f":"COUNTRY_INFO!N77","v":163881},null,null,{"$f":"SUM(MAX('MDA2'!J77, 'T1'!L77, MAX(T3_R1!K77, T3_R2!K77)), MAX('MDA1'!K77, 'MDA2'!K77, 'T1'!M77, MAX(T3_R1!L77, T3_R2!L77)), MAX('MDA1'!L77, 'MDA2'!L77, 'T1'!N77, MAX(T3_R1!M77, T3_R2!M77)))","v":0},{"$f":"IF(AND(COUNTRY_INFO!J77>1,COUNTRY_INFO!J77<4),IF(COUNTRY_INFO!E77>MAX('MDA2'!J77,'T1'!L77,MAX(T3_R1!K77,T3_R2!K77)),MAX('MDA2'!J77,'T1'!L77,MAX(T3_R1!K77,T3_R2!K77)),COUNTRY_INFO!E77),0)","v":0},{"$f":"IF(AND(COUNTRY_INFO!J77>1,COUNTRY_INFO!J77<4), IF(T77/COUNTRY_INFO!E77*100<>0, IF(T77/COUNTRY_INFO!E77*100>100,100,T77/COUNTRY_INFO!E77*100), \"-\"),0)","v":"-"},{"$f":"IF(AND(COUNTRY_INFO!J77>1,COUNTRY_INFO!J77<4),IF(COUNTRY_INFO!F77>MAX('MDA1'!K77,'MDA2'!K77,'T1'!M77,MAX(T3_R1!L77,T3_R2!L77)),MAX('MDA1'!K77,'MDA2'!K77,'T1'!M77,MAX(T3_R1!L77,T3_R2!L77)),COUNTRY_INFO!F77),0)","v":0},{"$f":"IF(AND(COUNTRY_INFO!J77>1,COUNTRY_INFO!J77<4), IF(V77/COUNTRY_INFO!F77*100<>0, IF(V77/COUNTRY_INFO!F77*100>100,100,V77/COUNTRY_INFO!F77*100), \"-\"),0)","v":"-"},0,{"$f":"IF(AND(COUNTRY_INFO!J77>1,COUNTRY_INFO!J77<4), IF(S77/P77*100<>0, IF(X77/P77*100>100,100,X77/P77*100), \"-\"),0)","v":"-"},{"$f":"COUNTRY_INFO!O77","v":353834},null,null,{"$f":"MAX('T1'!L77,'T2'!J77)+MAX('T1'!M77,'T2'!K77)+MAX('T1'!N77,'T2'!L77)","v":0},{"$f":"IF(COUNTRY_INFO!K77=1,IF(COUNTRY_INFO!F77*0.33>MAX('T1'!M77,'T2'!K77),MAX('T1'!M77,'T2'!K77),COUNTRY_INFO!F77*0.33),IF(COUNTRY_INFO!K77=2,IF(COUNTRY_INFO!F77*0.5>MAX('T1'!M77,'T2'!K77),MAX('T1'!M77,'T2'!K77),COUNTRY_INFO!F77*0.5),IF(COUNTRY_INFO!K77=3,IF(COUNTRY_INFO!F77>MAX('T1'!M77,'T2'!K77),MAX('T1'!M77,'T2'!K77),COUNTRY_INFO!F77),0)))","v":0},{"$f":"IF(AND(COUNTRY_INFO!K77>0,COUNTRY_INFO!K77<4),IF(Z77>0,IF(COUNTRY_INFO!K77=1, AD77/(COUNTRY_INFO!F77*0.33)*100, IF(COUNTRY_INFO!K77=2, AD77/(COUNTRY_INFO!F77*0.5)*100, IF(COUNTRY_INFO!K77=3, AD77/COUNTRY_INFO!F77*100))),\"-\"),0)","v":0},{"$f":"IF(COUNTRY_INFO!K77=2,IF(COUNTRY_INFO!G77*0.2>MAX('T1'!N77,'T2'!L77),MAX('T1'!N77,'T2'!L77),COUNTRY_INFO!G77*0.2),IF(COUNTRY_INFO!K77=3,IF(COUNTRY_INFO!G77>MAX('T1'!N77,'T2'!L77),MAX('T1'!N77,'T2'!L77),COUNTRY_INFO!G77),0))","v":0},{"$f":"IF(AND(COUNTRY_INFO!K77>0,COUNTRY_INFO!K77<4),IF(Z77>0,IF(COUNTRY_INFO!K77=1, 0, IF(COUNTRY_INFO!K77=2, AF77/(COUNTRY_INFO!G77*0.2)*100, IF(COUNTRY_INFO!K77=3, AF77/COUNTRY_INFO!G77*100))),\"-\"),0)","v":0},0,{"$f":"IF(AND(COUNTRY_INFO!K77>0,COUNTRY_INFO!K77<4), IF(AC77/Z77*100<>0, IF(AH77/Z77*100>100,100,AH77/Z77*100), \"-\"),0)","v":"-"},null,{"$f":"IF(AND(D77<>0, D77<>\"Unknown\",D77<>\"Stopped\",D77<>\"Not required\"),D77/COUNTRY_INFO!D77, 0)","v":1},{"$f":"IF(AND(J77<>0,J77<>\"Unknown\",J77<>\"Stopped\",J77<>\"Not required\"),J77/COUNTRY_INFO!D77, 0)","v":0},{"$f":"IF(AND(P77<>0,P77<>\"Unknown\",P77<>\"Not required\"),P77/(COUNTRY_INFO!E77+COUNTRY_INFO!F77), 0)","v":1},{"$f":"IF(AND(Z77<>0,Z77<>\"Unknown\",Z77<>\"Not required\"),IF(COUNTRY_INFO!K77=1,1,IF(COUNTRY_INFO!K77=2,0.5*COUNTRY_INFO!F77/(0.5*COUNTRY_INFO!F77+0.2*COUNTRY_INFO!G77),IF(COUNTRY_INFO!K77=3,COUNTRY_INFO!F77/(COUNTRY_INFO!F77+COUNTRY_INFO!G77)))),0)","v":0.3274840744529921},{"$f":"IF(AND(Z77<>0,Z77<>\"Unknown\",Z77<>\"Not required\"),IF(COUNTRY_INFO!K77=1,0,IF(COUNTRY_INFO!K77=2,0.2*COUNTRY_INFO!G77/(0.5*COUNTRY_INFO!F77+0.2*COUNTRY_INFO!G77),IF(COUNTRY_INFO!K77=3,COUNTRY_INFO!G77/(COUNTRY_INFO!F77+COUNTRY_INFO!G77)))),0)","v":0.6725159255470079},{"$f":"MAX(COUNTRY_INFO!D77*AK77*PROFILE!$G$7,COUNTRY_INFO!D77*AL77*PROFILE!$G$7)","v":12001.498281930544},{"$f":"MAX(COUNTRY_INFO!D77*AK77*PROFILE!$G$8,COUNTRY_INFO!D77*AL77*PROFILE!$G$8,COUNTRY_INFO!D77*AM77*PROFILE!$G$8)","v":48005.485898253042},{"$f":"MAX(COUNTRY_INFO!D77*AK77*PROFILE!$G$9,COUNTRY_INFO!D77*AL77*PROFILE!$G$9,COUNTRY_INFO!D77*AM77*PROFILE!$G$9,IF(AND(DISTRICT!Z77<>\"Unknown\",Z77<>\"Not required\"),COUNTRY_INFO!O77*DISTRICT!AN77,0))","v":115875.42161900095},{"$f":"MAX(COUNTRY_INFO!D77*AK77*PROFILE!$G$10,COUNTRY_INFO!D77*AL77*PROFILE!$G$10,IF(AND(DISTRICT!Z77<>\"Unknown\",Z77<>\"Not required\"),COUNTRY_INFO!O77*DISTRICT!AO77,0))","v":237959},413841.40579918452,0,{"$f":"MAX('MDA2'!J77,'T1'!L77,'T2'!J77,T3_R1!K77,T3_R2!K77)","v":0},{"$f":"MAX('MDA1'!K77,'MDA2'!K77,'MDA3'!I77,'MDA3'!L77,'T1'!M77,'T2'!K77,T3_R1!L77,T3_R2!L77)","v":0},{"$f":"MAX('MDA1'!L77,'MDA2'!L77,'MDA3'!J77,'MDA3'!M77,'T1'!N77,'T2'!L77,T3_R1!M77,T3_R2!M77)","v":0},0,{"$f":"MAX('MDA2'!J77,T77)","v":0},{"$f":"MAX('MDA1'!K77,'MDA2'!K77,'MDA3'!I77,'MDA3'!L77,V77,AD77)","v":0},{"$f":"MAX('MDA1'!L77,'MDA2'!L77,'MDA3'!J77,'MDA3'!M77,AF77)","v":0},0,0]
[{"$f":"IF(COUNTRY_INFO!A78=0,\" \",COUNTRY_INFO!A78)","v":"Mozambique"},{"$f":"IF(COUNTRY_INFO!B78=0,\" \",COUNTRY_INFO!B78)","v":"Zambezia"},{"$f":"IF(COUNTRY_INFO!C78=0,\" \",COUNTRY_INFO!C78)","v":"Mocubela"},{"$f":"COUNTRY_INFO!L78","v":141791},null,null,{"$f":"MAX('MDA1'!M78,'MDA2'!M78)","v":0},{"$f":"IF(AND(COUNTRY_INFO!H78>0,COUNTRY_INFO!H78<4),IF(D78>MAX('MDA1'!M78,'MDA2'!M78),MAX('MDA1'!M78,'MDA2'!M78),D78),0)","v":0},{"$f":"IF(AND(COUNTRY_INFO!H78>0,COUNTRY_INFO!H78<4), IF(G78/D78*100<>0, IF(G78/D78*100>100,100,G78/D78*100), \"-\"),0)","v":"-"},{"$f":"COUNTRY_INFO!M78","v":"Not required"},null,null,{"$f":"MAX('MDA1'!M78,MAX('MDA3'!I78,'MDA3'!L78)+MAX('MDA3'!J78,'MDA3'!M78))","v":0},{"$f":"IF(AND(COUNTRY_INFO!I78>0,COUNTRY_INFO!I78<4),IF(J78>MAX('MDA1'!M78,MAX('MDA3'!I78,'MDA3'!L78)+MAX('MDA3'!J78,'MDA3'!M78)),MAX('MDA1'!M78,MAX('MDA3'!I78,'MDA3'!L78)+MAX('MDA3'!J78,'MDA3'!M78)),J78),0)","v":0},{"$f":"IF(AND(COUNTRY_INFO!I78>0,COUNTRY_INFO!I78<4), IF(M78/J78*100<>0, IF(M78/J78*100>100,100,M78/J78*100), \"-\"),0)","v":0},{"$f":"COUNTRY_INFO!N78","v":56149},null,null,{"$f":"SUM(MAX('MDA2'!J78, 'T1'!L78, MAX(T3_R1!K78, T3_R2!K78)), MAX('MDA1'!K78, 'MDA2'!K78, 'T1'!M78, MAX(T3_R1!L78, T3_R2!L78)), MAX('MDA1'!L78, 'MDA2'!L78, 'T1'!N78, MAX(T3_R1!M78, T3_R2!M78)))","v":0},{"$f":"IF(AND(COUNTRY_INFO!J78>1,COUNTRY_INFO!J78<4),IF(COUNTRY_INFO!E78>MAX('MDA2'!J78,'T1'!L78,MAX(T3_R1!K78,T3_R2!K78)),MAX('MDA2'!J78,'T1'!L78,MAX(T3_R1!K78,T3_R2!K78)),COUNTRY_INFO!E78),0)","v":0},{"$f":"IF(AND(COUNTRY_INFO!J78>1,COUNTRY_INFO!J78<4), IF(T78/COUNTRY_INFO!E78*100<>0, IF(T78/COUNTRY_INFO!E78*100>100,100,T78/COUNTRY_INFO!E78*100), \"-\"),0)","v":"-"},{"$f":"IF(AND(COUNTRY_INFO!J78>1,COUNTRY_INFO!J78<4),IF(COUNTRY_INFO!F78>MAX('MDA1'!K78,'MDA2'!K78,'T1'!M78,MAX(T3_R1!L78,T3_R2!L78)),MAX('MDA1'!K78,'MDA2'!K78,'T1'!M78,MAX(T3_R1!L78,T3_R2!L78)),COUNTRY_INFO!F78),0)","v":0},{"$f":"IF(AND(COUNTRY_INFO!J78>1,COUNTRY_INFO!J78<4), IF(V78/COUNTRY_INFO!F78*100<>0, IF(V78/COUNTRY_INFO!F78*100>100,100,V78/COUNTRY_INFO!F78*100), \"-\"),0)","v":"-"},0,{"$f":"IF(AND(COUNTRY_INFO!J78>1,COUNTRY_INFO!J78<4), IF(S78/P78*100<>0, IF(X78/P78*100>100,100,X78/P78*100), \"-\"),0)","v":"-"},{"$f":"COUNTRY_INFO!O78","v":121231},null,null,{"$f":"MAX('T1'!L78,'T2'!J78)+MAX('T1'!M78,'T2'!K78)+MAX('T1'!N78,'T2'!L78)","v":0},{"$f":"IF(COUNTRY_INFO!K78=1,IF(COUNTRY_INFO!F78*0.33>MAX('T1'!M78,'T2'!K78),MAX('T1'!M78,'T2'!K78),COUNTRY_INFO!F78*0.33),IF(COUNTRY_INFO!K78=2,IF(COUNTRY_INFO!F78*0.5>MAX('T1'!M78,'T2'!K78),MAX('T1'!M78,'T2'!K78),COUNTRY_INFO!F78*0.5),IF(COUNTRY_INFO!K78=3,IF(COUNTRY_INFO!F78>MAX('T1'!M78,'T2'!K78),MAX('T1'!M78,'T2'!K78),COUNTRY_INFO!F78),0)))","v":0},{"$f":"IF(AND(COUNTRY_INFO!K78>0,COUNTRY_INFO!K78<4),IF(Z78>0,IF(COUNTRY_INFO!K78=1, AD78/(COUNTRY_INFO!F78*0.33)*100, IF(COUNTRY_INFO!K78=2, AD78/(COUNTRY_INFO!F78*0.5)*100, IF(COUNTRY_INFO!K78=3, AD78/COUNTRY_INFO!F78*100))),\"-\"),0)","v":0},{"$f":"IF(COUNTRY_INFO!K78=2,IF(COUNTRY_INFO!G78*0.2>MAX('T1'!N78,'T2'!L78),MAX('T1'!N78,'T2'!L78),COUNTRY_INFO!G78*0.2),IF(COUNTRY_INFO!K78=3,IF(COUNTRY_INFO!G78>MAX('T1'!N78,'T2'!L78),MAX('T1'!N78,'T2'!L78),COUNTRY_INFO!G78),0))","v":0},{"$f":"IF(AND(COUNTRY_INFO!K78>0,COUNTRY_INFO!K78<4),IF(Z78>0,IF(COUNTRY_INFO!K78=1, 0, IF(COUNTRY_INFO!K78=2, AF78/(COUNTRY_INFO!G78*0.2)*100, IF(COUNTRY_INFO!K78=3, AF78/COUNTRY_INFO!G78*100))),\"-\"),0)","v":0},0,{"$f":"IF(AND(COUNTRY_INFO!K78>0,COUNTRY_INFO!K78<4), IF(AC78/Z78*100<>0, IF(AH78/Z78*100>100,100,AH78/Z78*100), \"-\"),0)","v":"-"},null,{"$f":"IF(AND(D78<>0, D78<>\"Unknown\",D78<>\"Stopped\",D78<>\"Not required\"),D78/COUNTRY_INFO!D78, 0)","v":1},{"$f":"IF(AND(J78<>0,J78<>\"Unknown\",J78<>\"Stopped\",J78<>\"Not required\"),J78/COUNTRY_INFO!D78, 0)","v":0},{"$f":"IF(AND(P78<>0,P78<>\"Unknown\",P78<>\"Not required\"),P78/(COUNTRY_INFO!E78+COUNTRY_INFO!F78), 0)","v":1},{"$f":"IF(AND(Z78<>0,Z78<>\"Unknown\",Z78<>\"Not required\"),IF(COUNTRY_INFO!K78=1,1,IF(COUNTRY_INFO!K78=2,0.5*COUNTRY_INFO!F78/(0.5*COUNTRY_INFO!F78+0.2*COUNTRY_INFO!G78),IF(COUNTRY_INFO!K78=3,COUNTRY_INFO!F78/(COUNTRY_INFO!F78+COUNTRY_INFO!G78)))),0)","v":0.32748224464039727},{"$f":"IF(AND(Z78<>0,Z78<>\"Unknown\",Z78<>\"Not required\"),IF(COUNTRY_INFO!K78=1,0,IF(COUNTRY_INFO!K78=2,0.2*COUNTRY_INFO!G78/(0.5*COUNTRY_INFO!F78+0.2*COUNTRY_INFO!G78),IF(COUNTRY_INFO!K78=3,COUNTRY_INFO!G78/(COUNTRY_INFO!F78+COUNTRY_INFO!G78)))),0)","v":0.67251775535960279},{"$f":"MAX(COUNTRY_INFO!D78*AK78*PROFILE!$G$7,COUNTRY_INFO!D78*AL78*PROFILE!$G$7)","v":4111.976442385394},{"$f":"MAX(COUNTRY_INFO!D78*AK78*PROFILE!$G$8,COUNTRY_INFO!D78*AL78*PROFILE!$G$8,COUNTRY_INFO!D78*AM78*PROFILE!$G$8)","v":16447.731981604524},{"$f":"MAX(COUNTRY_INFO!D78*AK78*PROFILE!$G$9,COUNTRY_INFO!D78*AL78*PROFILE!$G$9,COUNTRY_INFO!D78*AM78*PROFILE!$G$9,IF(AND(DISTRICT!Z78<>\"Unknown\",Z78<>\"Not required\"),COUNTRY_INFO!O78*DISTRICT!AN78,0))","v":39701.459997389728},{"$f":"MAX(COUNTRY_INFO!D78*AK78*PROFILE!$G$10,COUNTRY_INFO!D78*AL78*PROFILE!$G$10,IF(AND(DISTRICT!Z78<>\"Unknown\",Z78<>\"Not required\"),COUNTRY_INFO!O78*DISTRICT!AO78,0))","v":81530},141791.16842137964,0,{"$f":"MAX('MDA2'!J78,'T1'!L78,'T2'!J78,T3_R1!K78,T3_R2!K78)","v":0},{"$f":"MAX('MDA1'!K78,'MDA2'!K78,'MDA3'!I78,'MDA3'!L78,'T1'!M78,'T2'!K78,T3_R1!L78,T3_R2!L78)","v":0},{"$f":"MAX('MDA1'!L78,'MDA2'!L78,'MDA3'!J78,'MDA3'!M78,'T1'!N78,'T2'!L78,T3_R1!M78,T3_R2!M78)","v":0},0,{"$f":"MAX('MDA2'!J78,T78)","v":0},{"$f":"MAX('MDA1'!K78,'MDA2'!K78,'MDA3'!I78,'MDA3'!L78,V78,AD78)","v":0},{"$f":"MAX('MDA1'!L78,'MDA2'!L78,'MDA3'!J78,'MDA3'!M78,AF78)","v":0},0,0]
[{"$f":"IF(COUNTRY_INFO!A79=0,\" \",COUNTRY_INFO!A79)","v":"Mozambique"},{"$f":"IF(COUNTRY_INFO!B79=0,\" \",COUNTRY_INFO!B79)","v":"Zambezia"},{"$f":"IF(COUNTRY_INFO!C79=0,\" \",COUNTRY_INFO!C79)","v":"Molumbo"},{"$f":"COUNTRY_INFO!L79","v":149098},null,null,{"$f":"MAX('MDA1'!M79,'MDA2'!M79)","v":0},{"$f":"IF(AND(COUNTRY_INFO!H79>0,COUNTRY_INFO!H79<4),IF(D79>MAX('MDA1'!M79,'MDA2'!M79),MAX('MDA1'!M79,'MDA2'!M79),D79),0)","v":0},{"$f":"IF(AND(COUNTRY_INFO!H79>0,COUNTRY_INFO!H79<4), IF(G79/D79*100<>0, IF(G79/D79*100>100,100,G79/D79*100), \"-\"),0)","v":"-"},{"$f":"COUNTRY_INFO!M79","v":"Not required"},null,null,{"$f":"MAX('MDA1'!M79,MAX('MDA3'!I79,'MDA3'!L79)+MAX('MDA3'!J79,'MDA3'!M79))","v":0},{"$f":"IF(AND(COUNTRY_INFO!I79>0,COUNTRY_INFO!I79<4),IF(J79>MAX('MDA1'!M79,MAX('MDA3'!I79,'MDA3'!L79)+MAX('MDA3'!J79,'MDA3'!M79)),MAX('MDA1'!M79,MAX('MDA3'!I79,'MDA3'!L79)+MAX('MDA3'!J79,'MDA3'!M79)),J79),0)","v":0},{"$f":"IF(AND(COUNTRY_INFO!I79>0,COUNTRY_INFO!I79<4), IF(M79/J79*100<>0, IF(M79/J79*100>100,100,M79/J79*100), \"-\"),0)","v":0},{"$f":"COUNTRY_INFO!N79","v":59042},null,null,{"$f":"SUM(MAX('MDA2'!J79, 'T1'!L79, MAX(T3_R1!K79, T3_R2!K79)), MAX('MDA1'!K79, 'MDA2'!K79, 'T1'!M79, MAX(T3_R1!L79, T3_R2!L79)), MAX('MDA1'!L79, 'MDA2'!L79, 'T1'!N79, MAX(T3_R1!M79, T3_R2!M79)))","v":0},{"$f":"IF(AND(COUNTRY_INFO!J79>1,COUNTRY_INFO!J79<4),IF(COUNTRY_INFO!E79>MAX('MDA2'!J79,'T1'!L79,MAX(T3_R1!K79,T3_R2!K79)),MAX('MDA2'!J79,'T1'!L79,MAX(T3_R1!K79,T3_R2!K79)),COUNTRY_INFO!E79),0)","v":0},{"$f":"IF(AND(COUNTRY_INFO!J79>1,COUNTRY_INFO!J79<4), IF(T79/COUNTRY_INFO!E79*100<>0, IF(T79/COUNTRY_INFO!E79*100>100,100,T79/COUNTRY_INFO!E79*100), \"-\"),0)","v":"-"},{"$f":"IF(AND(COUNTRY_INFO!J79>1,COUNTRY_INFO!J79<4),IF(COUNTRY_INFO!F79>MAX('MDA1'!K79,'MDA2'!K79,'T1'!M79,MAX(T3_R1!L79,T3_R2!L79)),MAX('MDA1'!K79,'MDA2'!K79,'T1'!M79,MAX(T3_R1!L79,T3_R2!L79)),COUNTRY_INFO!F79),0)","v":0},{"$f":"IF(AND(COUNTRY_INFO!J79>1,COUNTRY_INFO!J79<4), IF(V79/COUNTRY_INFO!F79*100<>0, IF(V79/COUNTRY_INFO!F79*100>100,100,V79/COUNTRY_INFO!F79*100), \"-\"),0)","v":"-"},0,{"$f":"IF(AND(COUNTRY_INFO!J79>1,COUNTRY_INFO!J79<4), IF(S79/P79*100<>0, IF(X79/P79*100>100,100,X79/P79*100), \"-\"),0)","v":"-"},{"$f":"COUNTRY_INFO!O79","v":127478},null,null,{"$f":"MAX('T1'!L79,'T2'!J79)+MAX('T1'!M79,'T2'!K79)+MAX('T1'!N79,'T2'!L79)","v":0},{"$f":"IF(COUNTRY_INFO!K79=1,IF(COUNTRY_INFO!F79*0.33>MAX('T1'!M79,'T2'!K79),MAX('T1'!M79,'T2'!K79),COUNTRY_INFO!F79*0.33),IF(COUNTRY_INFO!K79=2,IF(COUNTRY_INFO!F79*0.5>MAX('T1'!M79,'T2'!K79),MAX('T1'!M79,'T2'!K79),COUNTRY_INFO!F79*0.5),IF(COUNTRY_INFO!K79=3,IF(COUNTRY_INFO!F79>MAX('T1'!M79,'T2'!K79),MAX('T1'!M79,'T2'!K79),COUNTRY_INFO!F79),0)))","v":0},{"$f":"IF(AND(COUNTRY_INFO!K79>0,COUNTRY_INFO!K79<4),IF(Z79>0,IF(COUNTRY_INFO!K79=1, AD79/(COUNTRY_INFO!F79*0.33)*100, IF(COUNTRY_INFO!K79=2, AD79/(COUNTRY_INFO!F79*0.5)*100, IF(COUNTRY_INFO!K79=3, AD79/COUNTRY_INFO!F79*100))),\"-\"),0)","v":0},{"$f":"IF(COUNTRY_INFO!K79=2,IF(COUNTRY_INFO!G79*0.2>MAX('T1'!N79,'T2'!L79),MAX('T1'!N79,'T2'!L79),COUNTRY_INFO!G79*0.2),IF(COUNTRY_INFO!K79=3,IF(COUNTRY_INFO!G79>MAX('T1'!N79,'T2'!L79),MAX('T1'!N79,'T2'!L79),COUNTRY_INFO!G79),0))","v":0},{"$f":"IF(AND(COUNTRY_INFO!K79>0,COUNTRY_INFO!K79<4),IF(Z79>0,IF(COUNTRY_INFO!K79=1, 0, IF(COUNTRY_INFO!K79=2, AF79/(COUNTRY_INFO!G79*0.2)*100, IF(COUNTRY_INFO!K79=3, AF79/COUNTRY_INFO!G79*100))),\"-\"),0)","v":0},0,{"$f":"IF(AND(COUNTRY_INFO!K79>0,COUNTRY_INFO!K79<4), IF(AC79/Z79*100<>0, IF(AH79/Z79*100>100,100,AH79/Z79*100), \"-\"),0)","v":"-"},null,{"$f":"IF(AND(D79<>0, D79<>\"Unknown\",D79<>\"Stopped\",D79<>\"Not required\"),D79/COUNTRY_INFO!D79, 0)","v":1},{"$f":"IF(AND(J79<>0,J79<>\"Unknown\",J79<>\"Stopped\",J79<>\"Not required\"),J79/COUNTRY_INFO!D79, 0)","v":0},{"$f":"IF(AND(P79<>0,P79<>\"Unknown\",P79<>\"Not required\"),P79/(COUNTRY_INFO!E79+COUNTRY_INFO!F79), 0)","v":1},{"$f":"IF(AND(Z79<>0,Z79<>\"Unknown\",Z79<>\"Not required\"),IF(COUNTRY_INFO!K79=1,1,IF(COUNTRY_INFO!K79=2,0.5*COUNTRY_INFO!F79/(0.5*COUNTRY_INFO!F79+0.2*COUNTRY_INFO!G79),IF(COUNTRY_INFO!K79=3,COUNTRY_INFO!F79/(COUNTRY_INFO!F79+COUNTRY_INFO!G79)))),0)","v":0.32748395801628516},{"$f":"IF(AND(Z79<>0,Z79<>\"Unknown\",Z79<>\"Not required\"),IF(COUNTRY_INFO!K79=1,0,IF(COUNTRY_INFO!K79=2,0.2*COUNTRY_INFO!G79/(0.5*COUNTRY_INFO!F79+0.2*COUNTRY_INFO!G79),IF(COUNTRY_INFO!K79=3,COUNTRY_INFO!G79/(COUNTRY_INFO!F79+COUNTRY_INFO!G79)))),0)","v":0.67251604198371484},{"$f":"MAX(COUNTRY_INFO!D79*AK79*PROFILE!$G$7,COUNTRY_INFO!D79*AL79*PROFILE!$G$7)","v":4323.881371926127},{"$f":"MAX(COUNTRY_INFO!D79*AK79*PROFILE!$G$8,COUNTRY_INFO!D79*AL79*PROFILE!$G$8,COUNTRY_INFO!D79*AM79*PROFILE!$G$8)","v":17295.342743850251},{"$f":"MAX(COUNTRY_INFO!D79*AK79*PROFILE!$G$9,COUNTRY_INFO!D79*AL79*PROFILE!$G$9,COUNTRY_INFO!D79*AM79*PROFILE!$G$9,IF(AND(DISTRICT!Z79<>\"Unknown\",Z79<>\"Not required\"),COUNTRY_INFO!O79*DISTRICT!AN79,0))","v":41747.418966583311},{"$f":"MAX(COUNTRY_INFO!D79*AK79*PROFILE!$G$10,COUNTRY_INFO!D79*AL79*PROFILE!$G$10,IF(AND(DISTRICT!Z79<>\"Unknown\",Z79<>\"Not required\"),COUNTRY_INFO!O79*DISTRICT!AO79,0))","v":85731.356917640311},149098,0,{"$f":"MAX('MDA2'!J79,'T1'!L79,'T2'!J79,T3_R1!K79,T3_R2!K79)","v":0},{"$f":"MAX('MDA1'!K79,'MDA2'!K79,'MDA3'!I79,'MDA3'!L79,'T1'!M79,'T2'!K79,T3_R1!L79,T3_R2!L79)","v":0},{"$f":"MAX('MDA1'!L79,'MDA2'!L79,'MDA3'!J79,'MDA3'!M79,'T1'!N79,'T2'!L79,T3_R1!M79,T3_R2!M79)","v":0},0,{"$f":"MAX('MDA2'!J79,T79)","v":0},{"$f":"MAX('MDA1'!K79,'MDA2'!K79,'MDA3'!I79,'MDA3'!L79,V79,AD79)","v":0},{"$f":"MAX('MDA1'!L79,'MDA2'!L79,'MDA3'!J79,'MDA3'!M79,AF79)","v":0},0,0]
[{"$f":"IF(COUNTRY_INFO!A80=0,\" \",COUNTRY_INFO!A80)","v":"Mozambique"},{"$f":"IF(COUNTRY_INFO!B80=0,\" \",COUNTRY_INFO!B80)","v":"Zambezia"},{"$f":"IF(COUNTRY_INFO!C80=0,\" \",COUNTRY_INFO!C80)","v":"Mopeia"},{"$f":"COUNTRY_INFO!L80","v":174763.36601192338},null,null,{"$f":"MAX('MDA1'!M80,'MDA2'!M80)","v":0},{"$f":"IF(AND(COUNTRY_INFO!H80>0,COUNTRY_INFO!H80<4),IF(D80>MAX('MDA1'!M80,'MDA2'!M80),MAX('MDA1'!M80,'MDA2'!M80),D80),0)","v":0},{"$f":"IF(AND(COUNTRY_INFO!H80>0,COUNTRY_INFO!H80<4), IF(G80/D80*100<>0, IF(G80/D80*100>100,100,G80/D80*100), \"-\"),0)","v":"-"},{"$f":"COUNTRY_INFO!M80","v":"Not required"},null,null,{"$f":"MAX('MDA1'!M80,MAX('MDA3'!I80,'MDA3'!L80)+MAX('MDA3'!J80,'MDA3'!M80))","v":0},{"$f":"IF(AND(COUNTRY_INFO!I80>0,COUNTRY_INFO!I80<4),IF(J80>MAX('MDA1'!M80,MAX('MDA3'!I80,'MDA3'!L80)+MAX('MDA3'!J80,'MDA3'!M80)),MAX('MDA1'!M80,MAX('MDA3'!I80,'MDA3'!L80)+MAX('MDA3'!J80,'MDA3'!M80)),J80),0)","v":0},{"$f":"IF(AND(COUNTRY_INFO!I80>0,COUNTRY_INFO!I80<4), IF(M80/J80*100<>0, IF(M80/J80*100>100,100,M80/J80*100), \"-\"),0)","v":0},{"$f":"COUNTRY_INFO!N80","v":69207},null,null,{"$f":"SUM(MAX('MDA2'!J80, 'T1'!L80, MAX(T3_R1!K80, T3_R2!K80)), MAX('MDA1'!K80, 'MDA2'!K80, 'T1'!M80, MAX(T3_R1!L80, T3_R2!L80)), MAX('MDA1'!L80, 'MDA2'!L80, 'T1'!N80, MAX(T3_R1!M80, T3_R2!M80)))","v":0},{"$f":"IF(AND(COUNTRY_INFO!J80>1,COUNTRY_INFO!J80<4),IF(COUNTRY_INFO!E80>MAX('MDA2'!J80,'T1'!L80,MAX(T3_R1!K80,T3_R2!K80)),MAX('MDA2'!J80,'T1'!L80,MAX(T3_R1!K80,T3_R2!K80)),COUNTRY_INFO!E80),0)","v":0},{"$f":"IF(AND(COUNTRY_INFO!J80>1,COUNTRY_INFO!J80<4), IF(T80/COUNTRY_INFO!E80*100<>0, IF(T80/COUNTRY_INFO!E80*100>100,100,T80/COUNTRY_INFO!E80*100), \"-\"),0)","v":"-"},{"$f":"IF(AND(COUNTRY_INFO!J80>1,COUNTRY_INFO!J80<4),IF(COUNTRY_INFO!F80>MAX('MDA1'!K80,'MDA2'!K80,'T1'!M80,MAX(T3_R1!L80,T3_R2!L80)),MAX('MDA1'!K80,'MDA2'!K80,'T1'!M80,MAX(T3_R1!L80,T3_R2!L80)),COUNTRY_INFO!F80),0)","v":0},{"$f":"IF(AND(COUNTRY_INFO!J80>1,COUNTRY_INFO!J80<4), IF(V80/COUNTRY_INFO!F80*100<>0, IF(V80/COUNTRY_INFO!F80*100>100,100,V80/COUNTRY_INFO!F80*100), \"-\"),0)","v":"-"},0,{"$f":"IF(AND(COUNTRY_INFO!J80>1,COUNTRY_INFO!J80<4), IF(S80/P80*100<>0, IF(X80/P80*100>100,100,X80/P80*100), \"-\"),0)","v":"-"},{"$f":"COUNTRY_INFO!O80","v":149423},null,null,{"$f":"MAX('T1'!L80,'T2'!J80)+MAX('T1'!M80,'T2'!K80)+MAX('T1'!N80,'T2'!L80)","v":0},{"$f":"IF(COUNTRY_INFO!K80=1,IF(COUNTRY_INFO!F80*0.33>MAX('T1'!M80,'T2'!K80),MAX('T1'!M80,'T2'!K80),COUNTRY_INFO!F80*0.33),IF(COUNTRY_INFO!K80=2,IF(COUNTRY_INFO!F80*0.5>MAX('T1'!M80,'T2'!K80),MAX('T1'!M80,'T2'!K80),COUNTRY_INFO!F80*0.5),IF(COUNTRY_INFO!K80=3,IF(COUNTRY_INFO!F80>MAX('T1'!M80,'T2'!K80),MAX('T1'!M80,'T2'!K80),COUNTRY_INFO!F80),0)))","v":0},{"$f":"IF(AND(COUNTRY_INFO!K80>0,COUNTRY_INFO!K80<4),IF(Z80>0,IF(COUNTRY_INFO!K80=1, AD80/(COUNTRY_INFO!F80*0.33)*100, IF(COUNTRY_INFO!K80=2, AD80/(COUNTRY_INFO!F80*0.5)*100, IF(COUNTRY_INFO!K80=3, AD80/COUNTRY_INFO!F80*100))),\"-\"),0)","v":0},{"$f":"IF(COUNTRY_INFO!K80=2,IF(COUNTRY_INFO!G80*0.2>MAX('T1'!N80,'T2'!L80),MAX('T1'!N80,'T2'!L80),COUNTRY_INFO!G80*0.2),IF(COUNTRY_INFO!K80=3,IF(COUNTRY_INFO!G80>MAX('T1'!N80,'T2'!L80),MAX('T1'!N80,'T2'!L80),COUNTRY_INFO!G80),0))","v":0},{"$f":"IF(AND(COUNTRY_INFO!K80>0,COUNTRY_INFO!K80<4),IF(Z80>0,IF(COUNTRY_INFO!K80=1, 0, IF(COUNTRY_INFO!K80=2, AF80/(COUNTRY_INFO!G80*0.2)*100, IF(COUNTRY_INFO!K80=3, AF80/COUNTRY_INFO!G80*100))),\"-\"),0)","v":0},0,{"$f":"IF(AND(COUNTRY_INFO!K80>0,COUNTRY_INFO!K80<4), IF(AC80/Z80*100<>0, IF(AH80/Z80*100>100,100,AH80/Z80*100), \"-\"),0)","v":"-"},null,{"$f":"IF(AND(D80<>0, D80<>\"Unknown\",D80<>\"Stopped\",D80<>\"Not required\"),D80/COUNTRY_INFO!D80, 0)","v":1},{"$f":"IF(AND(J80<>0,J80<>\"Unknown\",J80<>\"Stopped\",J80<>\"Not required\"),J80/COUNTRY_INFO!D80, 0)","v":0},{"$f":"IF(AND(P80<>0,P80<>\"Unknown\",P80<>\"Not required\"),P80/(COUNTRY_INFO!E80+COUNTRY_INFO!F80), 0)","v":1},{"$f":"IF(AND(Z80<>0,Z80<>\"Unknown\",Z80<>\"Not required\"),IF(COUNTRY_INFO!K80=1,1,IF(COUNTRY_INFO!K80=2,0.5*COUNTRY_INFO!F80/(0.5*COUNTRY_INFO!F80+0.2*COUNTRY_INFO!G80),IF(COUNTRY_INFO!K80=3,COUNTRY_INFO!F80/(COUNTRY_INFO!F80+COUNTRY_INFO!G80)))),0)","v":0.3274863976763952},{"$f":"IF(AND(Z80<>0,Z80<>\"Unknown\",Z80<>\"Not required\"),IF(COUNTRY_INFO!K80=1,0,IF(COUNTRY_INFO!K80=2,0.2*COUNTRY_INFO!G80/(0.5*COUNTRY_INFO!F80+0.2*COUNTRY_INFO!G80),IF(COUNTRY_INFO!K80=3,COUNTRY_INFO!G80/(COUNTRY_INFO!F80+COUNTRY_INFO!G80)))),0)","v":0.6725136023236048},{"$f":"MAX(COUNTRY_INFO!D80*AK80*PROFILE!$G$7,COUNTRY_INFO!D80*AL80*PROFILE!$G$7)","v":5068.1837636592245},{"$f":"MAX(COUNTRY_INFO!D80*AK80*PROFILE!$G$8,COUNTRY_INFO!D80*AL80*PROFILE!$G$8,COUNTRY_INFO!D80*AM80*PROFILE!$G$8)","v":20272.520853701357},{"$f":"MAX(COUNTRY_INFO!D80*AK80*PROFILE!$G$9,COUNTRY_INFO!D80*AL80*PROFILE!$G$9,COUNTRY_INFO!D80*AM80*PROFILE!$G$9,IF(AND(DISTRICT!Z80<>\"Unknown\",Z80<>\"Not required\"),COUNTRY_INFO!O80*DISTRICT!AN80,0))","v":48934},{"$f":"MAX(COUNTRY_INFO!D80*AK80*PROFILE!$G$10,COUNTRY_INFO!D80*AL80*PROFILE!$G$10,IF(AND(DISTRICT!Z80<>\"Unknown\",Z80<>\"Not required\"),COUNTRY_INFO!O80*DISTRICT!AO80,0))","v":100489},174763.70461736058,0,{"$f":"MAX('MDA2'!J80,'T1'!L80,'T2'!J80,T3_R1!K80,T3_R2!K80)","v":0},{"$f":"MAX('MDA1'!K80,'MDA2'!K80,'MDA3'!I80,'MDA3'!L80,'T1'!M80,'T2'!K80,T3_R1!L80,T3_R2!L80)","v":0},{"$f":"MAX('MDA1'!L80,'MDA2'!L80,'MDA3'!J80,'MDA3'!M80,'T1'!N80,'T2'!L80,T3_R1!M80,T3_R2!M80)","v":0},0,{"$f":"MAX('MDA2'!J80,T80)","v":0},{"$f":"MAX('MDA1'!K80,'MDA2'!K80,'MDA3'!I80,'MDA3'!L80,V80,AD80)","v":0},{"$f":"MAX('MDA1'!L80,'MDA2'!L80,'MDA3'!J80,'MDA3'!M80,AF80)","v":0},0,0]
[{"$f":"IF(COUNTRY_INFO!A81=0,\" \",COUNTRY_INFO!A81)","v":"Mozambique"},{"$f":"IF(COUNTRY_INFO!B81=0,\" \",COUNTRY_INFO!B81)","v":"Zambezia"},{"$f":"IF(COUNTRY_INFO!C81=0,\" \",COUNTRY_INFO!C81)","v":"Morrumbala"},{"$f":"COUNTRY_INFO!L81","v":385582.70530641312},null,null,{"$f":"MAX('MDA1'!M81,'MDA2'!M81)","v":0},{"$f":"IF(AND(COUNTRY_INFO!H81>0,COUNTRY_INFO!H81<4),IF(D81>MAX('MDA1'!M81,'MDA2'!M81),MAX('MDA1'!M81,'MDA2'!M81),D81),0)","v":0},{"$f":"IF(AND(COUNTRY_INFO!H81>0,COUNTRY_INFO!H81<4), IF(G81/D81*100<>0, IF(G81/D81*100>100,100,G81/D81*100), \"-\"),0)","v":"-"},{"$f":"COUNTRY_INFO!M81","v":"Not required"},null,null,{"$f":"MAX('MDA1'!M81,MAX('MDA3'!I81,'MDA3'!L81)+MAX('MDA3'!J81,'MDA3'!M81))","v":0},{"$f":"IF(AND(COUNTRY_INFO!I81>0,COUNTRY_INFO!I81<4),IF(J81>MAX('MDA1'!M81,MAX('MDA3'!I81,'MDA3'!L81)+MAX('MDA3'!J81,'MDA3'!M81)),MAX('MDA1'!M81,MAX('MDA3'!I81,'MDA3'!L81)+MAX('MDA3'!J81,'MDA3'!M81)),J81),0)","v":0},{"$f":"IF(AND(COUNTRY_INFO!I81>0,COUNTRY_INFO!I81<4), IF(M81/J81*100<>0, IF(M81/J81*100>100,100,M81/J81*100), \"-\"),0)","v":0},{"$f":"COUNTRY_INFO!N81","v":152691},null,null,{"$f":"SUM(MAX('MDA2'!J81, 'T1'!L81, MAX(T3_R1!K81, T3_R2!K81)), MAX('MDA1'!K81, 'MDA2'!K81, 'T1'!M81, MAX(T3_R1!L81, T3_R2!L81)), MAX('MDA1'!L81, 'MDA2'!L81, 'T1'!N81, MAX(T3_R1!M81, T3_R2!M81)))","v":0},{"$f":"IF(AND(COUNTRY_INFO!J81>1,COUNTRY_INFO!J81<4),IF(COUNTRY_INFO!E81>MAX('MDA2'!J81,'T1'!L81,MAX(T3_R1!K81,T3_R2!K81)),MAX('MDA2'!J81,'T1'!L81,MAX(T3_R1!K81,T3_R2!K81)),COUNTRY_INFO!E81),0)","v":0},{"$f":"IF(AND(COUNTRY_INFO!J81>1,COUNTRY_INFO!J81<4), IF(T81/COUNTRY_INFO!E81*100<>0, IF(T81/COUNTRY_INFO!E81*100>100,100,T81/COUNTRY_INFO!E81*100), \"-\"),0)","v":"-"},{"$f":"IF(AND(COUNTRY_INFO!J81>1,COUNTRY_INFO!J81<4),IF(COUNTRY_INFO!F81>MAX('MDA1'!K81,'MDA2'!K81,'T1'!M81,MAX(T3_R1!L81,T3_R2!L81)),MAX('MDA1'!K81,'MDA2'!K81,'T1'!M81,MAX(T3_R1!L81,T3_R2!L81)),COUNTRY_INFO!F81),0)","v":0},{"$f":"IF(AND(COUNTRY_INFO!J81>1,COUNTRY_INFO!J81<4), IF(V81/COUNTRY_INFO!F81*100<>0, IF(V81/COUNTRY_INFO!F81*100>100,100,V81/COUNTRY_INFO!F81*100), \"-\"),0)","v":"-"},0,{"$f":"IF(AND(COUNTRY_INFO!J81>1,COUNTRY_INFO!J81<4), IF(S81/P81*100<>0, IF(X81/P81*100>100,100,X81/P81*100), \"-\"),0)","v":"-"},{"$f":"COUNTRY_INFO!O81","v":329673},null,null,{"$f":"MAX('T1'!L81,'T2'!J81)+MAX('T1'!M81,'T2'!K81)+MAX('T1'!N81,'T2'!L81)","v":0},{"$f":"IF(COUNTRY_INFO!K81=1,IF(COUNTRY_INFO!F81*0.33>MAX('T1'!M81,'T2'!K81),MAX('T1'!M81,'T2'!K81),COUNTRY_INFO!F81*0.33),IF(COUNTRY_INFO!K81=2,IF(COUNTRY_INFO!F81*0.5>MAX('T1'!M81,'T2'!K81),MAX('T1'!M81,'T2'!K81),COUNTRY_INFO!F81*0.5),IF(COUNTRY_INFO!K81=3,IF(COUNTRY_INFO!F81>MAX('T1'!M81,'T2'!K81),MAX('T1'!M81,'T2'!K81),COUNTRY_INFO!F81),0)))","v":0},{"$f":"IF(AND(COUNTRY_INFO!K81>0,COUNTRY_INFO!K81<4),IF(Z81>0,IF(COUNTRY_INFO!K81=1, AD81/(COUNTRY_INFO!F81*0.33)*100, IF(COUNTRY_INFO!K81=2, AD81/(COUNTRY_INFO!F81*0.5)*100, IF(COUNTRY_INFO!K81=3, AD81/COUNTRY_INFO!F81*100))),\"-\"),0)","v":0},{"$f":"IF(COUNTRY_INFO!K81=2,IF(COUNTRY_INFO!G81*0.2>MAX('T1'!N81,'T2'!L81),MAX('T1'!N81,'T2'!L81),COUNTRY_INFO!G81*0.2),IF(COUNTRY_INFO!K81=3,IF(COUNTRY_INFO!G81>MAX('T1'!N81,'T2'!L81),MAX('T1'!N81,'T2'!L81),COUNTRY_INFO!G81),0))","v":0},{"$f":"IF(AND(COUNTRY_INFO!K81>0,COUNTRY_INFO!K81<4),IF(Z81>0,IF(COUNTRY_INFO!K81=1, 0, IF(COUNTRY_INFO!K81=2, AF81/(COUNTRY_INFO!G81*0.2)*100, IF(COUNTRY_INFO!K81=3, AF81/COUNTRY_INFO!G81*100))),\"-\"),0)","v":0},0,{"$f":"IF(AND(COUNTRY_INFO!K81>0,COUNTRY_INFO!K81<4), IF(AC81/Z81*100<>0, IF(AH81/Z81*100>100,100,AH81/Z81*100), \"-\"),0)","v":"-"},null,{"$f":"IF(AND(D81<>0, D81<>\"Unknown\",D81<>\"Stopped\",D81<>\"Not required\"),D81/COUNTRY_INFO!D81, 0)","v":1},{"$f":"IF(AND(J81<>0,J81<>\"Unknown\",J81<>\"Stopped\",J81<>\"Not required\"),J81/COUNTRY_INFO!D81, 0)","v":0},{"$f":"IF(AND(P81<>0,P81<>\"Unknown\",P81<>\"Not required\"),P81/(COUNTRY_INFO!E81+COUNTRY_INFO!F81), 0)","v":1},{"$f":"IF(AND(Z81<>0,Z81<>\"Unknown\",Z81<>\"Not required\"),IF(COUNTRY_INFO!K81=1,1,IF(COUNTRY_INFO!K81=2,0.5*COUNTRY_INFO!F81/(0.5*COUNTRY_INFO!F81+0.2*COUNTRY_INFO!G81),IF(COUNTRY_INFO!K81=3,COUNTRY_INFO!F81/(COUNTRY_INFO!F81+COUNTRY_INFO!G81)))),0)","v":0.32748511403724295},{"$f":"IF(AND(Z81<>0,Z81<>\"Unknown\",Z81<>\"Not required\"),IF(COUNTRY_INFO!K81=1,0,IF(COUNTRY_INFO!K81=2,0.2*COUNTRY_INFO!G81/(0.5*COUNTRY_INFO!F81+0.2*COUNTRY_INFO!G81),IF(COUNTRY_INFO!K81=3,COUNTRY_INFO!G81/(COUNTRY_INFO!F81+COUNTRY_INFO!G81)))),0)","v":0.67251488596275699},{"$f":"MAX(COUNTRY_INFO!D81*AK81*PROFILE!$G$7,COUNTRY_INFO!D81*AL81*PROFILE!$G$7)","v":11182.000273721183},{"$f":"MAX(COUNTRY_INFO!D81*AK81*PROFILE!$G$8,COUNTRY_INFO!D81*AL81*PROFILE!$G$8,COUNTRY_INFO!D81*AM81*PROFILE!$G$8)","v":44727.528500552806},{"$f":"MAX(COUNTRY_INFO!D81*AK81*PROFILE!$G$9,COUNTRY_INFO!D81*AL81*PROFILE!$G$9,COUNTRY_INFO!D81*AM81*PROFILE!$G$9,IF(AND(DISTRICT!Z81<>\"Unknown\",Z81<>\"Not required\"),COUNTRY_INFO!O81*DISTRICT!AN81,0))","v":107963.10309122493},{"$f":"MAX(COUNTRY_INFO!D81*AK81*PROFILE!$G$10,COUNTRY_INFO!D81*AL81*PROFILE!$G$10,IF(AND(DISTRICT!Z81<>\"Unknown\",Z81<>\"Not required\"),COUNTRY_INFO!O81*DISTRICT!AO81,0))","v":221710.07344091419},385582.70530641312,0,{"$f":"MAX('MDA2'!J81,'T1'!L81,'T2'!J81,T3_R1!K81,T3_R2!K81)","v":0},{"$f":"MAX('MDA1'!K81,'MDA2'!K81,'MDA3'!I81,'MDA3'!L81,'T1'!M81,'T2'!K81,T3_R1!L81,T3_R2!L81)","v":0},{"$f":"MAX('MDA1'!L81,'MDA2'!L81,'MDA3'!J81,'MDA3'!M81,'T1'!N81,'T2'!L81,T3_R1!M81,T3_R2!M81)","v":0},0,{"$f":"MAX('MDA2'!J81,T81)","v":0},{"$f":"MAX('MDA1'!K81,'MDA2'!K81,'MDA3'!I81,'MDA3'!L81,V81,AD81)","v":0},{"$f":"MAX('MDA1'!L81,'MDA2'!L81,'MDA3'!J81,'MDA3'!M81,AF81)","v":0},0,0]
[{"$f":"IF(COUNTRY_INFO!A82=0,\" \",COUNTRY_INFO!A82)","v":"Mozambique"},{"$f":"IF(COUNTRY_INFO!B82=0,\" \",COUNTRY_INFO!B82)","v":"Zambezia"},{"$f":"IF(COUNTRY_INFO!C82=0,\" \",COUNTRY_INFO!C82)","v":"Mulevala"},{"$f":"COUNTRY_INFO!L82","v":100572},null,null,{"$f":"MAX('MDA1'!M82,'MDA2'!M82)","v":0},{"$f":"IF(AND(COUNTRY_INFO!H82>0,COUNTRY_INFO!H82<4),IF(D82>MAX('MDA1'!M82,'MDA2'!M82),MAX('MDA1'!M82,'MDA2'!M82),D82),0)","v":0},{"$f":"IF(AND(COUNTRY_INFO!H82>0,COUNTRY_INFO!H82<4), IF(G82/D82*100<>0, IF(G82/D82*100>100,100,G82/D82*100), \"-\"),0)","v":"-"},{"$f":"COUNTRY_INFO!M82","v":"Not required"},null,null,{"$f":"MAX('MDA1'!M82,MAX('MDA3'!I82,'MDA3'!L82)+MAX('MDA3'!J82,'MDA3'!M82))","v":0},{"$f":"IF(AND(COUNTRY_INFO!I82>0,COUNTRY_INFO!I82<4),IF(J82>MAX('MDA1'!M82,MAX('MDA3'!I82,'MDA3'!L82)+MAX('MDA3'!J82,'MDA3'!M82)),MAX('MDA1'!M82,MAX('MDA3'!I82,'MDA3'!L82)+MAX('MDA3'!J82,'MDA3'!M82)),J82),0)","v":0},{"$f":"IF(AND(COUNTRY_INFO!I82>0,COUNTRY_INFO!I82<4), IF(M82/J82*100<>0, IF(M82/J82*100>100,100,M82/J82*100), \"-\"),0)","v":0},{"$f":"COUNTRY_INFO!N82","v":39826},null,null,{"$f":"SUM(MAX('MDA2'!J82, 'T1'!L82, MAX(T3_R1!K82, T3_R2!K82)), MAX('MDA1'!K82, 'MDA2'!K82, 'T1'!M82, MAX(T3_R1!L82, T3_R2!L82)), MAX('MDA1'!L82, 'MDA2'!L82, 'T1'!N82, MAX(T3_R1!M82, T3_R2!M82)))","v":0},{"$f":"IF(AND(COUNTRY_INFO!J82>1,COUNTRY_INFO!J82<4),IF(COUNTRY_INFO!E82>MAX('MDA2'!J82,'T1'!L82,MAX(T3_R1!K82,T3_R2!K82)),MAX('MDA2'!J82,'T1'!L82,MAX(T3_R1!K82,T3_R2!K82)),COUNTRY_INFO!E82),0)","v":0},{"$f":"IF(AND(COUNTRY_INFO!J82>1,COUNTRY_INFO!J82<4), IF(T82/COUNTRY_INFO!E82*100<>0, IF(T82/COUNTRY_INFO!E82*100>100,100,T82/COUNTRY_INFO!E82*100), \"-\"),0)","v":"-"},{"$f":"IF(AND(COUNTRY_INFO!J82>1,COUNTRY_INFO!J82<4),IF(COUNTRY_INFO!F82>MAX('MDA1'!K82,'MDA2'!K82,'T1'!M82,MAX(T3_R1!L82,T3_R2!L82)),MAX('MDA1'!K82,'MDA2'!K82,'T1'!M82,MAX(T3_R1!L82,T3_R2!L82)),COUNTRY_INFO!F82),0)","v":0},{"$f":"IF(AND(COUNTRY_INFO!J82>1,COUNTRY_INFO!J82<4), IF(V82/COUNTRY_INFO!F82*100<>0, IF(V82/COUNTRY_INFO!F82*100>100,100,V82/COUNTRY_INFO!F82*100), \"-\"),0)","v":"-"},0,{"$f":"IF(AND(COUNTRY_INFO!J82>1,COUNTRY_INFO!J82<4), IF(S82/P82*100<>0, IF(X82/P82*100>100,100,X82/P82*100), \"-\"),0)","v":"-"},{"$f":"COUNTRY_INFO!O82","v":85989},null,null,{"$f":"MAX('T1'!L82,'T2'!J82)+MAX('T1'!M82,'T2'!K82)+MAX('T1'!N82,'T2'!L82)","v":0},{"$f":"IF(COUNTRY_INFO!K82=1,IF(COUNTRY_INFO!F82*0.33>MAX('T1'!M82,'T2'!K82),MAX('T1'!M82,'T2'!K82),COUNTRY_INFO!F82*0.33),IF(COUNTRY_INFO!K82=2,IF(COUNTRY_INFO!F82*0.5>MAX('T1'!M82,'T2'!K82),MAX('T1'!M82,'T2'!K82),COUNTRY_INFO!F82*0.5),IF(COUNTRY_INFO!K82=3,IF(COUNTRY_INFO!F82>MAX('T1'!M82,'T2'!K82),MAX('T1'!M82,'T2'!K82),COUNTRY_INFO!F82),0)))","v":0},{"$f":"IF(AND(COUNTRY_INFO!K82>0,COUNTRY_INFO!K82<4),IF(Z82>0,IF(COUNTRY_INFO!K82=1, AD82/(COUNTRY_INFO!F82*0.33)*100, IF(COUNTRY_INFO!K82=2, AD82/(COUNTRY_INFO!F82*0.5)*100, IF(COUNTRY_INFO!K82=3, AD82/COUNTRY_INFO!F82*100))),\"-\"),0)","v":0},{"$f":"IF(COUNTRY_INFO!K82=2,IF(COUNTRY_INFO!G82*0.2>MAX('T1'!N82,'T2'!L82),MAX('T1'!N82,'T2'!L82),COUNTRY_INFO!G82*0.2),IF(COUNTRY_INFO!K82=3,IF(COUNTRY_INFO!G82>MAX('T1'!N82,'T2'!L82),MAX('T1'!N82,'T2'!L82),COUNTRY_INFO!G82),0))","v":0},{"$f":"IF(AND(COUNTRY_INFO!K82>0,COUNTRY_INFO!K82<4),IF(Z82>0,IF(COUNTRY_INFO!K82=1, 0, IF(COUNTRY_INFO!K82=2, AF82/(COUNTRY_INFO!G82*0.2)*100, IF(COUNTRY_INFO!K82=3, AF82/COUNTRY_INFO!G82*100))),\"-\"),0)","v":0},0,{"$f":"IF(AND(COUNTRY_INFO!K82>0,COUNTRY_INFO!K82<4), IF(AC82/Z82*100<>0, IF(AH82/Z82*100>100,100,AH82/Z82*100), \"-\"),0)","v":"-"},null,{"$f":"IF(AND(D82<>0, D82<>\"Unknown\",D82<>\"Stopped\",D82<>\"Not required\"),D82/COUNTRY_INFO!D82, 0)","v":1},{"$f":"IF(AND(J82<>0,J82<>\"Unknown\",J82<>\"Stopped\",J82<>\"Not required\"),J82/COUNTRY_INFO!D82, 0)","v":0},{"$f":"IF(AND(P82<>0,P82<>\"Unknown\",P82<>\"Not required\"),P82/(COUNTRY_INFO!E82+COUNTRY_INFO!F82), 0)","v":1},{"$f":"IF(AND(Z82<>0,Z82<>\"Unknown\",Z82<>\"Not required\"),IF(COUNTRY_INFO!K82=1,1,IF(COUNTRY_INFO!K82=2,0.5*COUNTRY_INFO!F82/(0.5*COUNTRY_INFO!F82+0.2*COUNTRY_INFO!G82),IF(COUNTRY_INFO!K82=3,COUNTRY_INFO!F82/(COUNTRY_INFO!F82+COUNTRY_INFO!G82)))),0)","v":0.32748374792124574},{"$f":"IF(AND(Z82<>0,Z82<>\"Unknown\",Z82<>\"Not required\"),IF(COUNTRY_INFO!K82=1,0,IF(COUNTRY_INFO!K82=2,0.2*COUNTRY_INFO!G82/(0.5*COUNTRY_INFO!F82+0.2*COUNTRY_INFO!G82),IF(COUNTRY_INFO!K82=3,COUNTRY_INFO!G82/(COUNTRY_INFO!F82+COUNTRY_INFO!G82)))),0)","v":0.67251625207875421},{"$f":"MAX(COUNTRY_INFO!D82*AK82*PROFILE!$G$7,COUNTRY_INFO!D82*AL82*PROFILE!$G$7)","v":2916.6145577898724},{"$f":"MAX(COUNTRY_INFO!D82*AK82*PROFILE!$G$8,COUNTRY_INFO!D82*AL82*PROFILE!$G$8,COUNTRY_INFO!D82*AM82*PROFILE!$G$8)","v":11666.334963812442},{"$f":"MAX(COUNTRY_INFO!D82*AK82*PROFILE!$G$9,COUNTRY_INFO!D82*AL82*PROFILE!$G$9,COUNTRY_INFO!D82*AM82*PROFILE!$G$9,IF(AND(DISTRICT!Z82<>\"Unknown\",Z82<>\"Not required\"),COUNTRY_INFO!O82*DISTRICT!AN82,0))","v":28160.1458121988},{"$f":"MAX(COUNTRY_INFO!D82*AK82*PROFILE!$G$10,COUNTRY_INFO!D82*AL82*PROFILE!$G$10,IF(AND(DISTRICT!Z82<>\"Unknown\",Z82<>\"Not required\"),COUNTRY_INFO!O82*DISTRICT!AO82,0))","v":57828.999999999993},100572.09533380112,0,{"$f":"MAX('MDA2'!J82,'T1'!L82,'T2'!J82,T3_R1!K82,T3_R2!K82)","v":0},{"$f":"MAX('MDA1'!K82,'MDA2'!K82,'MDA3'!I82,'MDA3'!L82,'T1'!M82,'T2'!K82,T3_R1!L82,T3_R2!L82)","v":0},{"$f":"MAX('MDA1'!L82,'MDA2'!L82,'MDA3'!J82,'MDA3'!M82,'T1'!N82,'T2'!L82,T3_R1!M82,T3_R2!M82)","v":0},0,{"$f":"MAX('MDA2'!J82,T82)","v":0},{"$f":"MAX('MDA1'!K82,'MDA2'!K82,'MDA3'!I82,'MDA3'!L82,V82,AD82)","v":0},{"$f":"MAX('MDA1'!L82,'MDA2'!L82,'MDA3'!J82,'MDA3'!M82,AF82)","v":0},0,0]
[{"$f":"IF(COUNTRY_INFO!A83=0,\" \",COUNTRY_INFO!A83)","v":"Mozambique"},{"$f":"IF(COUNTRY_INFO!B83=0,\" \",COUNTRY_INFO!B83)","v":"Zambezia"},{"$f":"IF(COUNTRY_INFO!C83=0,\" \",COUNTRY_INFO!C83)","v":"Namacurra"},{"$f":"COUNTRY_INFO!L83","v":354086.7561481531},null,null,{"$f":"MAX('MDA1'!M83,'MDA2'!M83)","v":0},{"$f":"IF(AND(COUNTRY_INFO!H83>0,COUNTRY_INFO!H83<4),IF(D83>MAX('MDA1'!M83,'MDA2'!M83),MAX('MDA1'!M83,'MDA2'!M83),D83),0)","v":0},{"$f":"IF(AND(COUNTRY_INFO!H83>0,COUNTRY_INFO!H83<4), IF(G83/D83*100<>0, IF(G83/D83*100>100,100,G83/D83*100), \"-\"),0)","v":"-"},{"$f":"COUNTRY_INFO!M83","v":"Not required"},null,null,{"$f":"MAX('MDA1'!M83,MAX('MDA3'!I83,'MDA3'!L83)+MAX('MDA3'!J83,'MDA3'!M83))","v":0},{"$f":"IF(AND(COUNTRY_INFO!I83>0,COUNTRY_INFO!I83<4),IF(J83>MAX('MDA1'!M83,MAX('MDA3'!I83,'MDA3'!L83)+MAX('MDA3'!J83,'MDA3'!M83)),MAX('MDA1'!M83,MAX('MDA3'!I83,'MDA3'!L83)+MAX('MDA3'!J83,'MDA3'!M83)),J83),0)","v":0},{"$f":"IF(AND(COUNTRY_INFO!I83>0,COUNTRY_INFO!I83<4), IF(M83/J83*100<>0, IF(M83/J83*100>100,100,M83/J83*100), \"-\"),0)","v":0},{"$f":"COUNTRY_INFO!N83","v":140218},null,null,{"$f":"SUM(MAX('MDA2'!J83, 'T1'!L83, MAX(T3_R1!K83, T3_R2!K83)), MAX('MDA1'!K83, 'MDA2'!K83, 'T1'!M83, MAX(T3_R1!L83, T3_R2!L83)), MAX('MDA1'!L83, 'MDA2'!L83, 'T1'!N83, MAX(T3_R1!M83, T3_R2!M83)))","v":0},{"$f":"IF(AND(COUNTRY_INFO!J83>1,COUNTRY_INFO!J83<4),IF(COUNTRY_INFO!E83>MAX('MDA2'!J83,'T1'!L83,MAX(T3_R1!K83,T3_R2!K83)),MAX('MDA2'!J83,'T1'!L83,MAX(T3_R1!K83,T3_R2!K83)),COUNTRY_INFO!E83),0)","v":0},{"$f":"IF(AND(COUNTRY_INFO!J83>1,COUNTRY_INFO!J83<4), IF(T83/COUNTRY_INFO!E83*100<>0, IF(T83/COUNTRY_INFO!E83*100>100,100,T83/COUNTRY_INFO!E83*100), \"-\"),0)","v":"-"},{"$f":"IF(AND(COUNTRY_INFO!J83>1,COUNTRY_INFO!J83<4),IF(COUNTRY_INFO!F83>MAX('MDA1'!K83,'MDA2'!K83,'T1'!M83,MAX(T3_R1!L83,T3_R2!L83)),MAX('MDA1'!K83,'MDA2'!K83,'T1'!M83,MAX(T3_R1!L83,T3_R2!L83)),COUNTRY_INFO!F83),0)","v":0},{"$f":"IF(AND(COUNTRY_INFO!J83>1,COUNTRY_INFO!J83<4), IF(V83/COUNTRY_INFO!F83*100<>0, IF(V83/COUNTRY_INFO!F83*100>100,100,V83/COUNTRY_INFO!F83*100), \"-\"),0)","v":"-"},0,{"$f":"IF(AND(COUNTRY_INFO!J83>1,COUNTRY_INFO!J83<4), IF(S83/P83*100<>0, IF(X83/P83*100>100,100,X83/P83*100), \"-\"),0)","v":"-"},{"$f":"COUNTRY_INFO!O83","v":90292},null,null,{"$f":"MAX('T1'!L83,'T2'!J83)+MAX('T1'!M83,'T2'!K83)+MAX('T1'!N83,'T2'!L83)","v":0},{"$f":"IF(COUNTRY_INFO!K83=1,IF(COUNTRY_INFO!F83*0.33>MAX('T1'!M83,'T2'!K83),MAX('T1'!M83,'T2'!K83),COUNTRY_INFO!F83*0.33),IF(COUNTRY_INFO!K83=2,IF(COUNTRY_INFO!F83*0.5>MAX('T1'!M83,'T2'!K83),MAX('T1'!M83,'T2'!K83),COUNTRY_INFO!F83*0.5),IF(COUNTRY_INFO!K83=3,IF(COUNTRY_INFO!F83>MAX('T1'!M83,'T2'!K83),MAX('T1'!M83,'T2'!K83),COUNTRY_INFO!F83),0)))","v":0},{"$f":"IF(AND(COUNTRY_INFO!K83>0,COUNTRY_INFO!K83<4),IF(Z83>0,IF(COUNTRY_INFO!K83=1, AD83/(COUNTRY_INFO!F83*0.33)*100, IF(COUNTRY_INFO!K83=2, AD83/(COUNTRY_INFO!F83*0.5)*100, IF(COUNTRY_INFO!K83=3, AD83/COUNTRY_INFO!F83*100))),\"-\"),0)","v":0},{"$f":"IF(COUNTRY_INFO!K83=2,IF(COUNTRY_INFO!G83*0.2>MAX('T1'!N83,'T2'!L83),MAX('T1'!N83,'T2'!L83),COUNTRY_INFO!G83*0.2),IF(COUNTRY_INFO!K83=3,IF(COUNTRY_INFO!G83>MAX('T1'!N83,'T2'!L83),MAX('T1'!N83,'T2'!L83),COUNTRY_INFO!G83),0))","v":0},{"$f":"IF(AND(COUNTRY_INFO!K83>0,COUNTRY_INFO!K83<4),IF(Z83>0,IF(COUNTRY_INFO!K83=1, 0, IF(COUNTRY_INFO!K83=2, AF83/(COUNTRY_INFO!G83*0.2)*100, IF(COUNTRY_INFO!K83=3, AF83/COUNTRY_INFO!G83*100))),\"-\"),0)","v":0},0,{"$f":"IF(AND(COUNTRY_INFO!K83>0,COUNTRY_INFO!K83<4), IF(AC83/Z83*100<>0, IF(AH83/Z83*100>100,100,AH83/Z83*100), \"-\"),0)","v":"-"},null,{"$f":"IF(AND(D83<>0, D83<>\"Unknown\",D83<>\"Stopped\",D83<>\"Not required\"),D83/COUNTRY_INFO!D83, 0)","v":1},{"$f":"IF(AND(J83<>0,J83<>\"Unknown\",J83<>\"Stopped\",J83<>\"Not required\"),J83/COUNTRY_INFO!D83, 0)","v":0},{"$f":"IF(AND(P83<>0,P83<>\"Unknown\",P83<>\"Not required\"),P83/(COUNTRY_INFO!E83+COUNTRY_INFO!F83), 0)","v":1},{"$f":"IF(AND(Z83<>0,Z83<>\"Unknown\",Z83<>\"Not required\"),IF(COUNTRY_INFO!K83=1,1,IF(COUNTRY_INFO!K83=2,0.5*COUNTRY_INFO!F83/(0.5*COUNTRY_INFO!F83+0.2*COUNTRY_INFO!G83),IF(COUNTRY_INFO!K83=3,COUNTRY_INFO!F83/(COUNTRY_INFO!F83+COUNTRY_INFO!G83)))),0)","v":0.54901873920170119},{"$f":"IF(AND(Z83<>0,Z83<>\"Unknown\",Z83<>\"Not required\"),IF(COUNTRY_INFO!K83=1,0,IF(COUNTRY_INFO!K83=2,0.2*COUNTRY_INFO!G83/(0.5*COUNTRY_INFO!F83+0.2*COUNTRY_INFO!G83),IF(COUNTRY_INFO!K83=3,COUNTRY_INFO!G83/(COUNTRY_INFO!F83+COUNTRY_INFO!G83)))),0)","v":0.45098126079829887},{"$f":"MAX(COUNTRY_INFO!D83*AK83*PROFILE!$G$7,COUNTRY_INFO!D83*AL83*PROFILE!$G$7)","v":10268.609431077199},{"$f":"MAX(COUNTRY_INFO!D83*AK83*PROFILE!$G$8,COUNTRY_INFO!D83*AL83*PROFILE!$G$8,COUNTRY_INFO!D83*AM83*PROFILE!$G$8)","v":41074.003733386322},{"$f":"MAX(COUNTRY_INFO!D83*AK83*PROFILE!$G$9,COUNTRY_INFO!D83*AL83*PROFILE!$G$9,COUNTRY_INFO!D83*AM83*PROFILE!$G$9,IF(AND(DISTRICT!Z83<>\"Unknown\",Z83<>\"Not required\"),COUNTRY_INFO!O83*DISTRICT!AN83,0))","v":99144.241770079854},{"$f":"MAX(COUNTRY_INFO!D83*AK83*PROFILE!$G$10,COUNTRY_INFO!D83*AL83*PROFILE!$G$10,IF(AND(DISTRICT!Z83<>\"Unknown\",Z83<>\"Not required\"),COUNTRY_INFO!O83*DISTRICT!AO83,0))","v":203599.90121360973},354086.7561481531,0,{"$f":"MAX('MDA2'!J83,'T1'!L83,'T2'!J83,T3_R1!K83,T3_R2!K83)","v":0},{"$f":"MAX('MDA1'!K83,'MDA2'!K83,'MDA3'!I83,'MDA3'!L83,'T1'!M83,'T2'!K83,T3_R1!L83,T3_R2!L83)","v":0},{"$f":"MAX('MDA1'!L83,'MDA2'!L83,'MDA3'!J83,'MDA3'!M83,'T1'!N83,'T2'!L83,T3_R1!M83,T3_R2!M83)","v":0},0,{"$f":"MAX('MDA2'!J83,T83)","v":0},{"$f":"MAX('MDA1'!K83,'MDA2'!K83,'MDA3'!I83,'MDA3'!L83,V83,AD83)","v":0},{"$f":"MAX('MDA1'!L83,'MDA2'!L83,'MDA3'!J83,'MDA3'!M83,AF83)","v":0},0,0]
[{"$f":"IF(COUNTRY_INFO!A84=0,\" \",COUNTRY_INFO!A84)","v":"Mozambique"},{"$f":"IF(COUNTRY_INFO!B84=0,\" \",COUNTRY_INFO!B84)","v":"Zambezia"},{"$f":"IF(COUNTRY_INFO!C84=0,\" \",COUNTRY_INFO!C84)","v":"Namarrói"},{"$f":"COUNTRY_INFO!L84","v":154489.64865313802},null,null,{"$f":"MAX('MDA1'!M84,'MDA2'!M84)","v":0},{"$f":"IF(AND(COUNTRY_INFO!H84>0,COUNTRY_INFO!H84<4),IF(D84>MAX('MDA1'!M84,'MDA2'!M84),MAX('MDA1'!M84,'MDA2'!M84),D84),0)","v":0},{"$f":"IF(AND(COUNTRY_INFO!H84>0,COUNTRY_INFO!H84<4), IF(G84/D84*100<>0, IF(G84/D84*100>100,100,G84/D84*100), \"-\"),0)","v":"-"},{"$f":"COUNTRY_INFO!M84","v":"Not required"},null,null,{"$f":"MAX('MDA1'!M84,MAX('MDA3'!I84,'MDA3'!L84)+MAX('MDA3'!J84,'MDA3'!M84))","v":0},{"$f":"IF(AND(COUNTRY_INFO!I84>0,COUNTRY_INFO!I84<4),IF(J84>MAX('MDA1'!M84,MAX('MDA3'!I84,'MDA3'!L84)+MAX('MDA3'!J84,'MDA3'!M84)),MAX('MDA1'!M84,MAX('MDA3'!I84,'MDA3'!L84)+MAX('MDA3'!J84,'MDA3'!M84)),J84),0)","v":0},{"$f":"IF(AND(COUNTRY_INFO!I84>0,COUNTRY_INFO!I84<4), IF(M84/J84*100<>0, IF(M84/J84*100>100,100,M84/J84*100), \"-\"),0)","v":0},{"$f":"COUNTRY_INFO!N84","v":61178},null,null,{"$f":"SUM(MAX('MDA2'!J84, 'T1'!L84, MAX(T3_R1!K84, T3_R2!K84)), MAX('MDA1'!K84, 'MDA2'!K84, 'T1'!M84, MAX(T3_R1!L84, T3_R2!L84)), MAX('MDA1'!L84, 'MDA2'!L84, 'T1'!N84, MAX(T3_R1!M84, T3_R2!M84)))","v":0},{"$f":"IF(AND(COUNTRY_INFO!J84>1,COUNTRY_INFO!J84<4),IF(COUNTRY_INFO!E84>MAX('MDA2'!J84,'T1'!L84,MAX(T3_R1!K84,T3_R2!K84)),MAX('MDA2'!J84,'T1'!L84,MAX(T3_R1!K84,T3_R2!K84)),COUNTRY_INFO!E84),0)","v":0},{"$f":"IF(AND(COUNTRY_INFO!J84>1,COUNTRY_INFO!J84<4), IF(T84/COUNTRY_INFO!E84*100<>0, IF(T84/COUNTRY_INFO!E84*100>100,100,T84/COUNTRY_INFO!E84*100), \"-\"),0)","v":"-"},{"$f":"IF(AND(COUNTRY_INFO!J84>1,COUNTRY_INFO!J84<4),IF(COUNTRY_INFO!F84>MAX('MDA1'!K84,'MDA2'!K84,'T1'!M84,MAX(T3_R1!L84,T3_R2!L84)),MAX('MDA1'!K84,'MDA2'!K84,'T1'!M84,MAX(T3_R1!L84,T3_R2!L84)),COUNTRY_INFO!F84),0)","v":0},{"$f":"IF(AND(COUNTRY_INFO!J84>1,COUNTRY_INFO!J84<4), IF(V84/COUNTRY_INFO!F84*100<>0, IF(V84/COUNTRY_INFO!F84*100>100,100,V84/COUNTRY_INFO!F84*100), \"-\"),0)","v":"-"},0,{"$f":"IF(AND(COUNTRY_INFO!J84>1,COUNTRY_INFO!J84<4), IF(S84/P84*100<>0, IF(X84/P84*100>100,100,X84/P84*100), \"-\"),0)","v":"-"},{"$f":"COUNTRY_INFO!O84","v":132089},null,null,{"$f":"MAX('T1'!L84,'T2'!J84)+MAX('T1'!M84,'T2'!K84)+MAX('T1'!N84,'T2'!L84)","v":0},{"$f":"IF(COUNTRY_INFO!K84=1,IF(COUNTRY_INFO!F84*0.33>MAX('T1'!M84,'T2'!K84),MAX('T1'!M84,'T2'!K84),COUNTRY_INFO!F84*0.33),IF(COUNTRY_INFO!K84=2,IF(COUNTRY_INFO!F84*0.5>MAX('T1'!M84,'T2'!K84),MAX('T1'!M84,'T2'!K84),COUNTRY_INFO!F84*0.5),IF(COUNTRY_INFO!K84=3,IF(COUNTRY_INFO!F84>MAX('T1'!M84,'T2'!K84),MAX('T1'!M84,'T2'!K84),COUNTRY_INFO!F84),0)))","v":0},{"$f":"IF(AND(COUNTRY_INFO!K84>0,COUNTRY_INFO!K84<4),IF(Z84>0,IF(COUNTRY_INFO!K84=1, AD84/(COUNTRY_INFO!F84*0.33)*100, IF(COUNTRY_INFO!K84=2, AD84/(COUNTRY_INFO!F84*0.5)*100, IF(COUNTRY_INFO!K84=3, AD84/COUNTRY_INFO!F84*100))),\"-\"),0)","v":0},{"$f":"IF(COUNTRY_INFO!K84=2,IF(COUNTRY_INFO!G84*0.2>MAX('T1'!N84,'T2'!L84),MAX('T1'!N84,'T2'!L84),COUNTRY_INFO!G84*0.2),IF(COUNTRY_INFO!K84=3,IF(COUNTRY_INFO!G84>MAX('T1'!N84,'T2'!L84),MAX('T1'!N84,'T2'!L84),COUNTRY_INFO!G84),0))","v":0},{"$f":"IF(AND(COUNTRY_INFO!K84>0,COUNTRY_INFO!K84<4),IF(Z84>0,IF(COUNTRY_INFO!K84=1, 0, IF(COUNTRY_INFO!K84=2, AF84/(COUNTRY_INFO!G84*0.2)*100, IF(COUNTRY_INFO!K84=3, AF84/COUNTRY_INFO!G84*100))),\"-\"),0)","v":0},0,{"$f":"IF(AND(COUNTRY_INFO!K84>0,COUNTRY_INFO!K84<4), IF(AC84/Z84*100<>0, IF(AH84/Z84*100>100,100,AH84/Z84*100), \"-\"),0)","v":"-"},null,{"$f":"IF(AND(D84<>0, D84<>\"Unknown\",D84<>\"Stopped\",D84<>\"Not required\"),D84/COUNTRY_INFO!D84, 0)","v":1},{"$f":"IF(AND(J84<>0,J84<>\"Unknown\",J84<>\"Stopped\",J84<>\"Not required\"),J84/COUNTRY_INFO!D84, 0)","v":0},{"$f":"IF(AND(P84<>0,P84<>\"Unknown\",P84<>\"Not required\"),P84/(COUNTRY_INFO!E84+COUNTRY_INFO!F84), 0)","v":1},{"$f":"IF(AND(Z84<>0,Z84<>\"Unknown\",Z84<>\"Not required\"),IF(COUNTRY_INFO!K84=1,1,IF(COUNTRY_INFO!K84=2,0.5*COUNTRY_INFO!F84/(0.5*COUNTRY_INFO!F84+0.2*COUNTRY_INFO!G84),IF(COUNTRY_INFO!K84=3,COUNTRY_INFO!F84/(COUNTRY_INFO!F84+COUNTRY_INFO!G84)))),0)","v":0.32748374202242425},{"$f":"IF(AND(Z84<>0,Z84<>\"Unknown\",Z84<>\"Not required\"),IF(COUNTRY_INFO!K84=1,0,IF(COUNTRY_INFO!K84=2,0.2*COUNTRY_INFO!G84/(0.5*COUNTRY_INFO!F84+0.2*COUNTRY_INFO!G84),IF(COUNTRY_INFO!K84=3,COUNTRY_INFO!G84/(COUNTRY_INFO!F84+COUNTRY_INFO!G84)))),0)","v":0.67251625797757575},{"$f":"MAX(COUNTRY_INFO!D84*AK84*PROFILE!$G$7,COUNTRY_INFO!D84*AL84*PROFILE!$G$7)","v":4480.2406066259491},{"$f":"MAX(COUNTRY_INFO!D84*AK84*PROFILE!$G$8,COUNTRY_INFO!D84*AL84*PROFILE!$G$8,COUNTRY_INFO!D84*AM84*PROFILE!$G$8)","v":17920.773074307002},{"$f":"MAX(COUNTRY_INFO!D84*AK84*PROFILE!$G$9,COUNTRY_INFO!D84*AL84*PROFILE!$G$9,COUNTRY_INFO!D84*AM84*PROFILE!$G$9,IF(AND(DISTRICT!Z84<>\"Unknown\",Z84<>\"Not required\"),COUNTRY_INFO!O84*DISTRICT!AN84,0))","v":43257.079828856229},{"$f":"MAX(COUNTRY_INFO!D84*AK84*PROFILE!$G$10,COUNTRY_INFO!D84*AL84*PROFILE!$G$10,IF(AND(DISTRICT!Z84<>\"Unknown\",Z84<>\"Not required\"),COUNTRY_INFO!O84*DISTRICT!AO84,0))","v":88832},154490.09350978918,0,{"$f":"MAX('MDA2'!J84,'T1'!L84,'T2'!J84,T3_R1!K84,T3_R2!K84)","v":0},{"$f":"MAX('MDA1'!K84,'MDA2'!K84,'MDA3'!I84,'MDA3'!L84,'T1'!M84,'T2'!K84,T3_R1!L84,T3_R2!L84)","v":0},{"$f":"MAX('MDA1'!L84,'MDA2'!L84,'MDA3'!J84,'MDA3'!M84,'T1'!N84,'T2'!L84,T3_R1!M84,T3_R2!M84)","v":0},0,{"$f":"MAX('MDA2'!J84,T84)","v":0},{"$f":"MAX('MDA1'!K84,'MDA2'!K84,'MDA3'!I84,'MDA3'!L84,V84,AD84)","v":0},{"$f":"MAX('MDA1'!L84,'MDA2'!L84,'MDA3'!J84,'MDA3'!M84,AF84)","v":0},0,0]
[{"$f":"IF(COUNTRY_INFO!A85=0,\" \",COUNTRY_INFO!A85)","v":"Mozambique"},{"$f":"IF(COUNTRY_INFO!B85=0,\" \",COUNTRY_INFO!B85)","v":"Zambezia"},{"$f":"IF(COUNTRY_INFO!C85=0,\" \",COUNTRY_INFO!C85)","v":"Nicoadala"},{"$f":"COUNTRY_INFO!L85","v":164276.66884209815},null,null,{"$f":"MAX('MDA1'!M85,'MDA2'!M85)","v":0},{"$f":"IF(AND(COUNTRY_INFO!H85>0,COUNTRY_INFO!H85<4),IF(D85>MAX('MDA1'!M85,'MDA2'!M85),MAX('MDA1'!M85,'MDA2'!M85),D85),0)","v":0},{"$f":"IF(AND(COUNTRY_INFO!H85>0,COUNTRY_INFO!H85<4), IF(G85/D85*100<>0, IF(G85/D85*100>100,100,G85/D85*100), \"-\"),0)","v":"-"},{"$f":"COUNTRY_INFO!M85","v":"Not required"},null,null,{"$f":"MAX('MDA1'!M85,MAX('MDA3'!I85,'MDA3'!L85)+MAX('MDA3'!J85,'MDA3'!M85))","v":0},{"$f":"IF(AND(COUNTRY_INFO!I85>0,COUNTRY_INFO!I85<4),IF(J85>MAX('MDA1'!M85,MAX('MDA3'!I85,'MDA3'!L85)+MAX('MDA3'!J85,'MDA3'!M85)),MAX('MDA1'!M85,MAX('MDA3'!I85,'MDA3'!L85)+MAX('MDA3'!J85,'MDA3'!M85)),J85),0)","v":0},{"$f":"IF(AND(COUNTRY_INFO!I85>0,COUNTRY_INFO!I85<4), IF(M85/J85*100<>0, IF(M85/J85*100>100,100,M85/J85*100), \"-\"),0)","v":0},{"$f":"COUNTRY_INFO!N85","v":65053},null,null,{"$f":"SUM(MAX('MDA2'!J85, 'T1'!L85, MAX(T3_R1!K85, T3_R2!K85)), MAX('MDA1'!K85, 'MDA2'!K85, 'T1'!M85, MAX(T3_R1!L85, T3_R2!L85)), MAX('MDA1'!L85, 'MDA2'!L85, 'T1'!N85, MAX(T3_R1!M85, T3_R2!M85)))","v":0},{"$f":"IF(AND(COUNTRY_INFO!J85>1,COUNTRY_INFO!J85<4),IF(COUNTRY_INFO!E85>MAX('MDA2'!J85,'T1'!L85,MAX(T3_R1!K85,T3_R2!K85)),MAX('MDA2'!J85,'T1'!L85,MAX(T3_R1!K85,T3_R2!K85)),COUNTRY_INFO!E85),0)","v":0},{"$f":"IF(AND(COUNTRY_INFO!J85>1,COUNTRY_INFO!J85<4), IF(T85/COUNTRY_INFO!E85*100<>0, IF(T85/COUNTRY_INFO!E85*100>100,100,T85/COUNTRY_INFO!E85*100), \"-\"),0)","v":"-"},{"$f":"IF(AND(COUNTRY_INFO!J85>1,COUNTRY_INFO!J85<4),IF(COUNTRY_INFO!F85>MAX('MDA1'!K85,'MDA2'!K85,'T1'!M85,MAX(T3_R1!L85,T3_R2!L85)),MAX('MDA1'!K85,'MDA2'!K85,'T1'!M85,MAX(T3_R1!L85,T3_R2!L85)),COUNTRY_INFO!F85),0)","v":0},{"$f":"IF(AND(COUNTRY_INFO!J85>1,COUNTRY_INFO!J85<4), IF(V85/COUNTRY_INFO!F85*100<>0, IF(V85/COUNTRY_INFO!F85*100>100,100,V85/COUNTRY_INFO!F85*100), \"-\"),0)","v":"-"},0,{"$f":"IF(AND(COUNTRY_INFO!J85>1,COUNTRY_INFO!J85<4), IF(S85/P85*100<>0, IF(X85/P85*100>100,100,X85/P85*100), \"-\"),0)","v":"-"},{"$f":"COUNTRY_INFO!O85","v":41890.300000000003},null,null,{"$f":"MAX('T1'!L85,'T2'!J85)+MAX('T1'!M85,'T2'!K85)+MAX('T1'!N85,'T2'!L85)","v":0},{"$f":"IF(COUNTRY_INFO!K85=1,IF(COUNTRY_INFO!F85*0.33>MAX('T1'!M85,'T2'!K85),MAX('T1'!M85,'T2'!K85),COUNTRY_INFO!F85*0.33),IF(COUNTRY_INFO!K85=2,IF(COUNTRY_INFO!F85*0.5>MAX('T1'!M85,'T2'!K85),MAX('T1'!M85,'T2'!K85),COUNTRY_INFO!F85*0.5),IF(COUNTRY_INFO!K85=3,IF(COUNTRY_INFO!F85>MAX('T1'!M85,'T2'!K85),MAX('T1'!M85,'T2'!K85),COUNTRY_INFO!F85),0)))","v":0},{"$f":"IF(AND(COUNTRY_INFO!K85>0,COUNTRY_INFO!K85<4),IF(Z85>0,IF(COUNTRY_INFO!K85=1, AD85/(COUNTRY_INFO!F85*0.33)*100, IF(COUNTRY_INFO!K85=2, AD85/(COUNTRY_INFO!F85*0.5)*100, IF(COUNTRY_INFO!K85=3, AD85/COUNTRY_INFO!F85*100))),\"-\"),0)","v":0},{"$f":"IF(COUNTRY_INFO!K85=2,IF(COUNTRY_INFO!G85*0.2>MAX('T1'!N85,'T2'!L85),MAX('T1'!N85,'T2'!L85),COUNTRY_INFO!G85*0.2),IF(COUNTRY_INFO!K85=3,IF(COUNTRY_INFO!G85>MAX('T1'!N85,'T2'!L85),MAX('T1'!N85,'T2'!L85),COUNTRY_INFO!G85),0))","v":0},{"$f":"IF(AND(COUNTRY_INFO!K85>0,COUNTRY_INFO!K85<4),IF(Z85>0,IF(COUNTRY_INFO!K85=1, 0, IF(COUNTRY_INFO!K85=2, AF85/(COUNTRY_INFO!G85*0.2)*100, IF(COUNTRY_INFO!K85=3, AF85/COUNTRY_INFO!G85*100))),\"-\"),0)","v":0},0,{"$f":"IF(AND(COUNTRY_INFO!K85>0,COUNTRY_INFO!K85<4), IF(AC85/Z85*100<>0, IF(AH85/Z85*100>100,100,AH85/Z85*100), \"-\"),0)","v":"-"},null,{"$f":"IF(AND(D85<>0, D85<>\"Unknown\",D85<>\"Stopped\",D85<>\"Not required\"),D85/COUNTRY_INFO!D85, 0)","v":1},{"$f":"IF(AND(J85<>0,J85<>\"Unknown\",J85<>\"Stopped\",J85<>\"Not required\"),J85/COUNTRY_INFO!D85, 0)","v":0},{"$f":"IF(AND(P85<>0,P85<>\"Unknown\",P85<>\"Not required\"),P85/(COUNTRY_INFO!E85+COUNTRY_INFO!F85), 0)","v":1},{"$f":"IF(AND(Z85<>0,Z85<>\"Unknown\",Z85<>\"Not required\"),IF(COUNTRY_INFO!K85=1,1,IF(COUNTRY_INFO!K85=2,0.5*COUNTRY_INFO!F85/(0.5*COUNTRY_INFO!F85+0.2*COUNTRY_INFO!G85),IF(COUNTRY_INFO!K85=3,COUNTRY_INFO!F85/(COUNTRY_INFO!F85+COUNTRY_INFO!G85)))),0)","v":0.54901731427084544},{"$f":"IF(AND(Z85<>0,Z85<>\"Unknown\",Z85<>\"Not required\"),IF(COUNTRY_INFO!K85=1,0,IF(COUNTRY_INFO!K85=2,0.2*COUNTRY_INFO!G85/(0.5*COUNTRY_INFO!F85+0.2*COUNTRY_INFO!G85),IF(COUNTRY_INFO!K85=3,COUNTRY_INFO!G85/(COUNTRY_INFO!F85+COUNTRY_INFO!G85)))),0)","v":0.45098268572915445},{"$f":"MAX(COUNTRY_INFO!D85*AK85*PROFILE!$G$7,COUNTRY_INFO!D85*AL85*PROFILE!$G$7)","v":4764.0667765390908},{"$f":"MAX(COUNTRY_INFO!D85*AK85*PROFILE!$G$8,COUNTRY_INFO!D85*AL85*PROFILE!$G$8,COUNTRY_INFO!D85*AM85*PROFILE!$G$8)","v":19056.065758374178},{"$f":"MAX(COUNTRY_INFO!D85*AK85*PROFILE!$G$9,COUNTRY_INFO!D85*AL85*PROFILE!$G$9,COUNTRY_INFO!D85*AM85*PROFILE!$G$9,IF(AND(DISTRICT!Z85<>\"Unknown\",Z85<>\"Not required\"),COUNTRY_INFO!O85*DISTRICT!AN85,0))","v":45997.444101099507},{"$f":"MAX(COUNTRY_INFO!D85*AK85*PROFILE!$G$10,COUNTRY_INFO!D85*AL85*PROFILE!$G$10,IF(AND(DISTRICT!Z85<>\"Unknown\",Z85<>\"Not required\"),COUNTRY_INFO!O85*DISTRICT!AO85,0))","v":94459.092206085377},164276.66884209815,0,{"$f":"MAX('MDA2'!J85,'T1'!L85,'T2'!J85,T3_R1!K85,T3_R2!K85)","v":0},{"$f":"MAX('MDA1'!K85,'MDA2'!K85,'MDA3'!I85,'MDA3'!L85,'T1'!M85,'T2'!K85,T3_R1!L85,T3_R2!L85)","v":0},{"$f":"MAX('MDA1'!L85,'MDA2'!L85,'MDA3'!J85,'MDA3'!M85,'T1'!N85,'T2'!L85,T3_R1!M85,T3_R2!M85)","v":0},0,{"$f":"MAX('MDA2'!J85,T85)","v":0},{"$f":"MAX('MDA1'!K85,'MDA2'!K85,'MDA3'!I85,'MDA3'!L85,V85,AD85)","v":0},{"$f":"MAX('MDA1'!L85,'MDA2'!L85,'MDA3'!J85,'MDA3'!M85,AF85)","v":0},0,0]
[{"$f":"IF(COUNTRY_INFO!A86=0,\" \",COUNTRY_INFO!A86)","v":"Mozambique"},{"$f":"IF(COUNTRY_INFO!B86=0,\" \",COUNTRY_INFO!B86)","v":"Zambezia"},{"$f":"IF(COUNTRY_INFO!C86=0,\" \",COUNTRY_INFO!C86)","v":"Pebane"},{"$f":"COUNTRY_INFO!L86","v":235976.23866435431},null,null,{"$f":"MAX('MDA1'!M86,'MDA2'!M86)","v":0},{"$f":"IF(AND(COUNTRY_INFO!H86>0,COUNTRY_INFO!H86<4),IF(D86>MAX('MDA1'!M86,'MDA2'!M86),MAX('MDA1'!M86,'MDA2'!M86),D86),0)","v":0},{"$f":"IF(AND(COUNTRY_INFO!H86>0,COUNTRY_INFO!H86<4), IF(G86/D86*100<>0, IF(G86/D86*100>100,100,G86/D86*100), \"-\"),0)","v":"-"},{"$f":"COUNTRY_INFO!M86","v":"Not required"},null,null,{"$f":"MAX('MDA1'!M86,MAX('MDA3'!I86,'MDA3'!L86)+MAX('MDA3'!J86,'MDA3'!M86))","v":0},{"$f":"IF(AND(COUNTRY_INFO!I86>0,COUNTRY_INFO!I86<4),IF(J86>MAX('MDA1'!M86,MAX('MDA3'!I86,'MDA3'!L86)+MAX('MDA3'!J86,'MDA3'!M86)),MAX('MDA1'!M86,MAX('MDA3'!I86,'MDA3'!L86)+MAX('MDA3'!J86,'MDA3'!M86)),J86),0)","v":0},{"$f":"IF(AND(COUNTRY_INFO!I86>0,COUNTRY_INFO!I86<4), IF(M86/J86*100<>0, IF(M86/J86*100>100,100,M86/J86*100), \"-\"),0)","v":0},{"$f":"COUNTRY_INFO!N86","v":93446},null,null,{"$f":"SUM(MAX('MDA2'!J86, 'T1'!L86, MAX(T3_R1!K86, T3_R2!K86)), MAX('MDA1'!K86, 'MDA2'!K86, 'T1'!M86, MAX(T3_R1!L86, T3_R2!L86)), MAX('MDA1'!L86, 'MDA2'!L86, 'T1'!N86, MAX(T3_R1!M86, T3_R2!M86)))","v":0},{"$f":"IF(AND(COUNTRY_INFO!J86>1,COUNTRY_INFO!J86<4),IF(COUNTRY_INFO!E86>MAX('MDA2'!J86,'T1'!L86,MAX(T3_R1!K86,T3_R2!K86)),MAX('MDA2'!J86,'T1'!L86,MAX(T3_R1!K86,T3_R2!K86)),COUNTRY_INFO!E86),0)","v":0},{"$f":"IF(AND(COUNTRY_INFO!J86>1,COUNTRY_INFO!J86<4), IF(T86/COUNTRY_INFO!E86*100<>0, IF(T86/COUNTRY_INFO!E86*100>100,100,T86/COUNTRY_INFO!E86*100), \"-\"),0)","v":"-"},{"$f":"IF(AND(COUNTRY_INFO!J86>1,COUNTRY_INFO!J86<4),IF(COUNTRY_INFO!F86>MAX('MDA1'!K86,'MDA2'!K86,'T1'!M86,MAX(T3_R1!L86,T3_R2!L86)),MAX('MDA1'!K86,'MDA2'!K86,'T1'!M86,MAX(T3_R1!L86,T3_R2!L86)),COUNTRY_INFO!F86),0)","v":0},{"$f":"IF(AND(COUNTRY_INFO!J86>1,COUNTRY_INFO!J86<4), IF(V86/COUNTRY_INFO!F86*100<>0, IF(V86/COUNTRY_INFO!F86*100>100,100,V86/COUNTRY_INFO!F86*100), \"-\"),0)","v":"-"},0,{"$f":"IF(AND(COUNTRY_INFO!J86>1,COUNTRY_INFO!J86<4), IF(S86/P86*100<>0, IF(X86/P86*100>100,100,X86/P86*100), \"-\"),0)","v":"-"},{"$f":"COUNTRY_INFO!O86","v":201759},null,null,{"$f":"MAX('T1'!L86,'T2'!J86)+MAX('T1'!M86,'T2'!K86)+MAX('T1'!N86,'T2'!L86)","v":0},{"$f":"IF(COUNTRY_INFO!K86=1,IF(COUNTRY_INFO!F86*0.33>MAX('T1'!M86,'T2'!K86),MAX('T1'!M86,'T2'!K86),COUNTRY_INFO!F86*0.33),IF(COUNTRY_INFO!K86=2,IF(COUNTRY_INFO!F86*0.5>MAX('T1'!M86,'T2'!K86),MAX('T1'!M86,'T2'!K86),COUNTRY_INFO!F86*0.5),IF(COUNTRY_INFO!K86=3,IF(COUNTRY_INFO!F86>MAX('T1'!M86,'T2'!K86),MAX('T1'!M86,'T2'!K86),COUNTRY_INFO!F86),0)))","v":0},{"$f":"IF(AND(COUNTRY_INFO!K86>0,COUNTRY_INFO!K86<4),IF(Z86>0,IF(COUNTRY_INFO!K86=1, AD86/(COUNTRY_INFO!F86*0.33)*100, IF(COUNTRY_INFO!K86=2, AD86/(COUNTRY_INFO!F86*0.5)*100, IF(COUNTRY_INFO!K86=3, AD86/COUNTRY_INFO!F86*100))),\"-\"),0)","v":0},{"$f":"IF(COUNTRY_INFO!K86=2,IF(COUNTRY_INFO!G86*0.2>MAX('T1'!N86,'T2'!L86),MAX('T1'!N86,'T2'!L86),COUNTRY_INFO!G86*0.2),IF(COUNTRY_INFO!K86=3,IF(COUNTRY_INFO!G86>MAX('T1'!N86,'T2'!L86),MAX('T1'!N86,'T2'!L86),COUNTRY_INFO!G86),0))","v":0},{"$f":"IF(AND(COUNTRY_INFO!K86>0,COUNTRY_INFO!K86<4),IF(Z86>0,IF(COUNTRY_INFO!K86=1, 0, IF(COUNTRY_INFO!K86=2, AF86/(COUNTRY_INFO!G86*0.2)*100, IF(COUNTRY_INFO!K86=3, AF86/COUNTRY_INFO!G86*100))),\"-\"),0)","v":0},0,{"$f":"IF(AND(COUNTRY_INFO!K86>0,COUNTRY_INFO!K86<4), IF(AC86/Z86*100<>0, IF(AH86/Z86*100>100,100,AH86/Z86*100), \"-\"),0)","v":"-"},null,{"$f":"IF(AND(D86<>0, D86<>\"Unknown\",D86<>\"Stopped\",D86<>\"Not required\"),D86/COUNTRY_INFO!D86, 0)","v":1},{"$f":"IF(AND(J86<>0,J86<>\"Unknown\",J86<>\"Stopped\",J86<>\"Not required\"),J86/COUNTRY_INFO!D86, 0)","v":0},{"$f":"IF(AND(P86<>0,P86<>\"Unknown\",P86<>\"Not required\"),P86/(COUNTRY_INFO!E86+COUNTRY_INFO!F86), 0)","v":1},{"$f":"IF(AND(Z86<>0,Z86<>\"Unknown\",Z86<>\"Not required\"),IF(COUNTRY_INFO!K86=1,1,IF(COUNTRY_INFO!K86=2,0.5*COUNTRY_INFO!F86/(0.5*COUNTRY_INFO!F86+0.2*COUNTRY_INFO!G86),IF(COUNTRY_INFO!K86=3,COUNTRY_INFO!F86/(COUNTRY_INFO!F86+COUNTRY_INFO!G86)))),0)","v":0.3274847714352272},{"$f":"IF(AND(Z86<>0,Z86<>\"Unknown\",Z86<>\"Not required\"),IF(COUNTRY_INFO!K86=1,0,IF(COUNTRY_INFO!K86=2,0.2*COUNTRY_INFO!G86/(0.5*COUNTRY_INFO!F86+0.2*COUNTRY_INFO!G86),IF(COUNTRY_INFO!K86=3,COUNTRY_INFO!G86/(COUNTRY_INFO!F86+COUNTRY_INFO!G86)))),0)","v":0.67251522856477286},{"$f":"MAX(COUNTRY_INFO!D86*AK86*PROFILE!$G$7,COUNTRY_INFO!D86*AL86*PROFILE!$G$7)","v":6843.37323490587},{"$f":"MAX(COUNTRY_INFO!D86*AK86*PROFILE!$G$8,COUNTRY_INFO!D86*AL86*PROFILE!$G$8,COUNTRY_INFO!D86*AM86*PROFILE!$G$8)","v":27373.203712354396},{"$f":"MAX(COUNTRY_INFO!D86*AK86*PROFILE!$G$9,COUNTRY_INFO!D86*AL86*PROFILE!$G$9,COUNTRY_INFO!D86*AM86*PROFILE!$G$9,IF(AND(DISTRICT!Z86<>\"Unknown\",Z86<>\"Not required\"),COUNTRY_INFO!O86*DISTRICT!AN86,0))","v":66073.313536595087},{"$f":"MAX(COUNTRY_INFO!D86*AK86*PROFILE!$G$10,COUNTRY_INFO!D86*AL86*PROFILE!$G$10,IF(AND(DISTRICT!Z86<>\"Unknown\",Z86<>\"Not required\"),COUNTRY_INFO!O86*DISTRICT!AO86,0))","v":135686.34818049896},235976.23866435431,0,{"$f":"MAX('MDA2'!J86,'T1'!L86,'T2'!J86,T3_R1!K86,T3_R2!K86)","v":0},{"$f":"MAX('MDA1'!K86,'MDA2'!K86,'MDA3'!I86,'MDA3'!L86,'T1'!M86,'T2'!K86,T3_R1!L86,T3_R2!L86)","v":0},{"$f":"MAX('MDA1'!L86,'MDA2'!L86,'MDA3'!J86,'MDA3'!M86,'T1'!N86,'T2'!L86,T3_R1!M86,T3_R2!M86)","v":0},0,{"$f":"MAX('MDA2'!J86,T86)","v":0},{"$f":"MAX('MDA1'!K86,'MDA2'!K86,'MDA3'!I86,'MDA3'!L86,V86,AD86)","v":0},{"$f":"MAX('MDA1'!L86,'MDA2'!L86,'MDA3'!J86,'MDA3'!M86,AF86)","v":0},0,0]
[{"$f":"IF(COUNTRY_INFO!A87=0,\" \",COUNTRY_INFO!A87)","v":"Mozambique"},{"$f":"IF(COUNTRY_INFO!B87=0,\" \",COUNTRY_INFO!B87)","v":"Tete"},{"$f":"IF(COUNTRY_INFO!C87=0,\" \",COUNTRY_INFO!C87)","v":"Cid Tete"},{"$f":"COUNTRY_INFO!L87","v":"Stopped"},null,null,{"$f":"MAX('MDA1'!M87,'MDA2'!M87)","v":0},{"$f":"IF(AND(COUNTRY_INFO!H87>0,COUNTRY_INFO!H87<4),IF(D87>MAX('MDA1'!M87,'MDA2'!M87),MAX('MDA1'!M87,'MDA2'!M87),D87),0)","v":0},{"$f":"IF(AND(COUNTRY_INFO!H87>0,COUNTRY_INFO!H87<4), IF(G87/D87*100<>0, IF(G87/D87*100>100,100,G87/D87*100), \"-\"),0)","v":0},{"$f":"COUNTRY_INFO!M87","v":"Not required"},null,null,{"$f":"MAX('MDA1'!M87,MAX('MDA3'!I87,'MDA3'!L87)+MAX('MDA3'!J87,'MDA3'!M87))","v":0},{"$f":"IF(AND(COUNTRY_INFO!I87>0,COUNTRY_INFO!I87<4),IF(J87>MAX('MDA1'!M87,MAX('MDA3'!I87,'MDA3'!L87)+MAX('MDA3'!J87,'MDA3'!M87)),MAX('MDA1'!M87,MAX('MDA3'!I87,'MDA3'!L87)+MAX('MDA3'!J87,'MDA3'!M87)),J87),0)","v":0},{"$f":"IF(AND(COUNTRY_INFO!I87>0,COUNTRY_INFO!I87<4), IF(M87/J87*100<>0, IF(M87/J87*100>100,100,M87/J87*100), \"-\"),0)","v":0},{"$f":"COUNTRY_INFO!N87","v":95584},null,null,{"$f":"SUM(MAX('MDA2'!J87, 'T1'!L87, MAX(T3_R1!K87, T3_R2!K87)), MAX('MDA1'!K87, 'MDA2'!K87, 'T1'!M87, MAX(T3_R1!L87, T3_R2!L87)), MAX('MDA1'!L87, 'MDA2'!L87, 'T1'!N87, MAX(T3_R1!M87, T3_R2!M87)))","v":75520},{"$f":"IF(AND(COUNTRY_INFO!J87>1,COUNTRY_INFO!J87<4),IF(COUNTRY_INFO!E87>MAX('MDA2'!J87,'T1'!L87,MAX(T3_R1!K87,T3_R2!K87)),MAX('MDA2'!J87,'T1'!L87,MAX(T3_R1!K87,T3_R2!K87)),COUNTRY_INFO!E87),0)","v":0},{"$f":"IF(AND(COUNTRY_INFO!J87>1,COUNTRY_INFO!J87<4), IF(T87/COUNTRY_INFO!E87*100<>0, IF(T87/COUNTRY_INFO!E87*100>100,100,T87/COUNTRY_INFO!E87*100), \"-\"),0)","v":"-"},{"$f":"IF(AND(COUNTRY_INFO!J87>1,COUNTRY_INFO!J87<4),IF(COUNTRY_INFO!F87>MAX('MDA1'!K87,'MDA2'!K87,'T1'!M87,MAX(T3_R1!L87,T3_R2!L87)),MAX('MDA1'!K87,'MDA2'!K87,'T1'!M87,MAX(T3_R1!L87,T3_R2!L87)),COUNTRY_INFO!F87),0)","v":67585},{"$f":"IF(AND(COUNTRY_INFO!J87>1,COUNTRY_INFO!J87<4), IF(V87/COUNTRY_INFO!F87*100<>0, IF(V87/COUNTRY_INFO!F87*100>100,100,V87/COUNTRY_INFO!F87*100), \"-\"),0)","v":100},67585,{"$f":"IF(AND(COUNTRY_INFO!J87>1,COUNTRY_INFO!J87<4), IF(S87/P87*100<>0, IF(X87/P87*100>100,100,X87/P87*100), \"-\"),0)","v":70.707440575828599},{"$f":"COUNTRY_INFO!O87","v":61550.5},37216,38304,{"$f":"MAX('T1'!L87,'T2'!J87)+MAX('T1'!M87,'T2'!K87)+MAX('T1'!N87,'T2'!L87)","v":75520},{"$f":"IF(COUNTRY_INFO!K87=1,IF(COUNTRY_INFO!F87*0.33>MAX('T1'!M87,'T2'!K87),MAX('T1'!M87,'T2'!K87),COUNTRY_INFO!F87*0.33),IF(COUNTRY_INFO!K87=2,IF(COUNTRY_INFO!F87*0.5>MAX('T1'!M87,'T2'!K87),MAX('T1'!M87,'T2'!K87),COUNTRY_INFO!F87*0.5),IF(COUNTRY_INFO!K87=3,IF(COUNTRY_INFO!F87>MAX('T1'!M87,'T2'!K87),MAX('T1'!M87,'T2'!K87),COUNTRY_INFO!F87),0)))","v":33792.5},{"$f":"IF(AND(COUNTRY_INFO!K87>0,COUNTRY_INFO!K87<4),IF(Z87>0,IF(COUNTRY_INFO!K87=1, AD87/(COUNTRY_INFO!F87*0.33)*100, IF(COUNTRY_INFO!K87=2, AD87/(COUNTRY_INFO!F87*0.5)*100, IF(COUNTRY_INFO!K87=3, AD87/COUNTRY_INFO!F87*100))),\"-\"),0)","v":100},{"$f":"IF(COUNTRY_INFO!K87=2,IF(COUNTRY_INFO!G87*0.2>MAX('T1'!N87,'T2'!L87),MAX('T1'!N87,'T2'!L87),COUNTRY_INFO!G87*0.2),IF(COUNTRY_INFO!K87=3,IF(COUNTRY_INFO!G87>MAX('T1'!N87,'T2'!L87),MAX('T1'!N87,'T2'!L87),COUNTRY_INFO!G87),0))","v":0},{"$f":"IF(AND(COUNTRY_INFO!K87>0,COUNTRY_INFO!K87<4),IF(Z87>0,IF(COUNTRY_INFO!K87=1, 0, IF(COUNTRY_INFO!K87=2, AF87/(COUNTRY_INFO!G87*0.2)*100, IF(COUNTRY_INFO!K87=3, AF87/COUNTRY_INFO!G87*100))),\"-\"),0)","v":0},33792.5,{"$f":"IF(AND(COUNTRY_INFO!K87>0,COUNTRY_INFO!K87<4), IF(AC87/Z87*100<>0, IF(AH87/Z87*100>100,100,AH87/Z87*100), \"-\"),0)","v":54.902072282109813},null,{"$f":"IF(AND(D87<>0, D87<>\"Unknown\",D87<>\"Stopped\",D87<>\"Not required\"),D87/COUNTRY_INFO!D87, 0)","v":0},{"$f":"IF(AND(J87<>0,J87<>\"Unknown\",J87<>\"Stopped\",J87<>\"Not required\"),J87/COUNTRY_INFO!D87, 0)","v":0},{"$f":"IF(AND(P87<>0,P87<>\"Unknown\",P87<>\"Not required\"),P87/(COUNTRY_INFO!E87+COUNTRY_INFO!F87), 0)","v":1},{"$f":"IF(AND(Z87<>0,Z87<>\"Unknown\",Z87<>\"Not required\"),IF(COUNTRY_INFO!K87=1,1,IF(COUNTRY_INFO!K87=2,0.5*COUNTRY_INFO!F87/(0.5*COUNTRY_INFO!F87+0.2*COUNTRY_INFO!G87),IF(COUNTRY_INFO!K87=3,COUNTRY_INFO!F87/(COUNTRY_INFO!F87+COUNTRY_INFO!G87)))),0)","v":0.54902072282109815},{"$f":"IF(AND(Z87<>0,Z87<>\"Unknown\",Z87<>\"Not required\"),IF(COUNTRY_INFO!K87=1,0,IF(COUNTRY_INFO!K87=2,0.2*COUNTRY_INFO!G87/(0.5*COUNTRY_INFO!F87+0.2*COUNTRY_INFO!G87),IF(COUNTRY_INFO!K87=3,COUNTRY_INFO!G87/(COUNTRY_INFO!F87+COUNTRY_INFO!G87)))),0)","v":0.45097927717890191},{"$f":"MAX(COUNTRY_INFO!D87*AK87*PROFILE!$G$7,COUNTRY_INFO!D87*AL87*PROFILE!$G$7)","v":0},{"$f":"MAX(COUNTRY_INFO!D87*AK87*PROFILE!$G$8,COUNTRY_INFO!D87*AL87*PROFILE!$G$8,COUNTRY_INFO!D87*AM87*PROFILE!$G$8)","v":27999.392816886448},{"$f":"MAX(COUNTRY_INFO!D87*AK87*PROFILE!$G$9,COUNTRY_INFO!D87*AL87*PROFILE!$G$9,COUNTRY_INFO!D87*AM87*PROFILE!$G$9,IF(AND(DISTRICT!Z87<>\"Unknown\",Z87<>\"Not required\"),COUNTRY_INFO!O87*DISTRICT!AN87,0))","v":67584.805924249828},{"$f":"MAX(COUNTRY_INFO!D87*AK87*PROFILE!$G$10,COUNTRY_INFO!D87*AL87*PROFILE!$G$10,IF(AND(DISTRICT!Z87<>\"Unknown\",Z87<>\"Not required\"),COUNTRY_INFO!O87*DISTRICT!AO87,0))","v":27758},123342.19874113628,"Y",{"$f":"MAX('MDA2'!J87,'T1'!L87,'T2'!J87,T3_R1!K87,T3_R2!K87)","v":0},{"$f":"MAX('MDA1'!K87,'MDA2'!K87,'MDA3'!I87,'MDA3'!L87,'T1'!M87,'T2'!K87,T3_R1!L87,T3_R2!L87)","v":75520},{"$f":"MAX('MDA1'!L87,'MDA2'!L87,'MDA3'!J87,'MDA3'!M87,'T1'!N87,'T2'!L87,T3_R1!M87,T3_R2!M87)","v":0},75520,{"$f":"MAX('MDA2'!J87,T87)","v":0},{"$f":"MAX('MDA1'!K87,'MDA2'!K87,'MDA3'!I87,'MDA3'!L87,V87,AD87)","v":67585},{"$f":"MAX('MDA1'!L87,'MDA2'!L87,'MDA3'!J87,'MDA3'!M87,AF87)","v":0},67585,54.794709912577147]
[{"$f":"IF(COUNTRY_INFO!A88=0,\" \",COUNTRY_INFO!A88)","v":"Mozambique"},{"$f":"IF(COUNTRY_INFO!B88=0,\" \",COUNTRY_INFO!B88)","v":"Tete"},{"$f":"IF(COUNTRY_INFO!C88=0,\" \",COUNTRY_INFO!C88)","v":"Angónia"},{"$f":"COUNTRY_INFO!L88","v":"Stopped"},null,null,{"$f":"MAX('MDA1'!M88,'MDA2'!M88)","v":0},{"$f":"IF(AND(COUNTRY_INFO!H88>0,COUNTRY_INFO!H88<4),IF(D88>MAX('MDA1'!M88,'MDA2'!M88),MAX('MDA1'!M88,'MDA2'!M88),D88),0)","v":0},{"$f":"IF(AND(COUNTRY_INFO!H88>0,COUNTRY_INFO!H88<4), IF(G88/D88*100<>0, IF(G88/D88*100>100,100,G88/D88*100), \"-\"),0)","v":0},{"$f":"COUNTRY_INFO!M88","v":"Not required"},null,null,{"$f":"MAX('MDA1'!M88,MAX('MDA3'!I88,'MDA3'!L88)+MAX('MDA3'!J88,'MDA3'!M88))","v":0},{"$f":"IF(AND(COUNTRY_INFO!I88>0,COUNTRY_INFO!I88<4),IF(J88>MAX('MDA1'!M88,MAX('MDA3'!I88,'MDA3'!L88)+MAX('MDA3'!J88,'MDA3'!M88)),MAX('MDA1'!M88,MAX('MDA3'!I88,'MDA3'!L88)+MAX('MDA3'!J88,'MDA3'!M88)),J88),0)","v":0},{"$f":"IF(AND(COUNTRY_INFO!I88>0,COUNTRY_INFO!I88<4), IF(M88/J88*100<>0, IF(M88/J88*100>100,100,M88/J88*100), \"-\"),0)","v":0},{"$f":"COUNTRY_INFO!N88","v":163842},null,null,{"$f":"SUM(MAX('MDA2'!J88, 'T1'!L88, MAX(T3_R1!K88, T3_R2!K88)), MAX('MDA1'!K88, 'MDA2'!K88, 'T1'!M88, MAX(T3_R1!L88, T3_R2!L88)), MAX('MDA1'!L88, 'MDA2'!L88, 'T1'!N88, MAX(T3_R1!M88, T3_R2!M88)))","v":111154},{"$f":"IF(AND(COUNTRY_INFO!J88>1,COUNTRY_INFO!J88<4),IF(COUNTRY_INFO!E88>MAX('MDA2'!J88,'T1'!L88,MAX(T3_R1!K88,T3_R2!K88)),MAX('MDA2'!J88,'T1'!L88,MAX(T3_R1!K88,T3_R2!K88)),COUNTRY_INFO!E88),0)","v":0},{"$f":"IF(AND(COUNTRY_INFO!J88>1,COUNTRY_INFO!J88<4), IF(T88/COUNTRY_INFO!E88*100<>0, IF(T88/COUNTRY_INFO!E88*100>100,100,T88/COUNTRY_INFO!E88*100), \"-\"),0)","v":"-"},{"$f":"IF(AND(COUNTRY_INFO!J88>1,COUNTRY_INFO!J88<4),IF(COUNTRY_INFO!F88>MAX('MDA1'!K88,'MDA2'!K88,'T1'!M88,MAX(T3_R1!L88,T3_R2!L88)),MAX('MDA1'!K88,'MDA2'!K88,'T1'!M88,MAX(T3_R1!L88,T3_R2!L88)),COUNTRY_INFO!F88),0)","v":111154},{"$f":"IF(AND(COUNTRY_INFO!J88>1,COUNTRY_INFO!J88<4), IF(V88/COUNTRY_INFO!F88*100<>0, IF(V88/COUNTRY_INFO!F88*100>100,100,V88/COUNTRY_INFO!F88*100), \"-\"),0)","v":95.948138940680892},111154,{"$f":"IF(AND(COUNTRY_INFO!J88>1,COUNTRY_INFO!J88<4), IF(S88/P88*100<>0, IF(X88/P88*100>100,100,X88/P88*100), \"-\"),0)","v":67.842189426398605},{"$f":"COUNTRY_INFO!O88","v":105504.4},53531,57623,{"$f":"MAX('T1'!L88,'T2'!J88)+MAX('T1'!M88,'T2'!K88)+MAX('T1'!N88,'T2'!L88)","v":111154},{"$f":"IF(COUNTRY_INFO!K88=1,IF(COUNTRY_INFO!F88*0.33>MAX('T1'!M88,'T2'!K88),MAX('T1'!M88,'T2'!K88),COUNTRY_INFO!F88*0.33),IF(COUNTRY_INFO!K88=2,IF(COUNTRY_INFO!F88*0.5>MAX('T1'!M88,'T2'!K88),MAX('T1'!M88,'T2'!K88),COUNTRY_INFO!F88*0.5),IF(COUNTRY_INFO!K88=3,IF(COUNTRY_INFO!F88>MAX('T1'!M88,'T2'!K88),MAX('T1'!M88,'T2'!K88),COUNTRY_INFO!F88),0)))","v":57924},{"$f":"IF(AND(COUNTRY_INFO!K88>0,COUNTRY_INFO!K88<4),IF(Z88>0,IF(COUNTRY_INFO!K88=1, AD88/(COUNTRY_INFO!F88*0.33)*100, IF(COUNTRY_INFO!K88=2, AD88/(COUNTRY_INFO!F88*0.5)*100, IF(COUNTRY_INFO!K88=3, AD88/COUNTRY_INFO!F88*100))),\"-\"),0)","v":100},{"$f":"IF(COUNTRY_INFO!K88=2,IF(COUNTRY_INFO!G88*0.2>MAX('T1'!N88,'T2'!L88),MAX('T1'!N88,'T2'!L88),COUNTRY_INFO!G88*0.2),IF(COUNTRY_INFO!K88=3,IF(COUNTRY_INFO!G88>MAX('T1'!N88,'T2'!L88),MAX('T1'!N88,'T2'!L88),COUNTRY_INFO!G88),0))","v":0},{"$f":"IF(AND(COUNTRY_INFO!K88>0,COUNTRY_INFO!K88<4),IF(Z88>0,IF(COUNTRY_INFO!K88=1, 0, IF(COUNTRY_INFO!K88=2, AF88/(COUNTRY_INFO!G88*0.2)*100, IF(COUNTRY_INFO!K88=3, AF88/COUNTRY_INFO!G88*100))),\"-\"),0)","v":0},57924,{"$f":"IF(AND(COUNTRY_INFO!K88>0,COUNTRY_INFO!K88<4), IF(AC88/Z88*100<>0, IF(AH88/Z88*100>100,100,AH88/Z88*100), \"-\"),0)","v":54.901975652200285},null,{"$f":"IF(AND(D88<>0, D88<>\"Unknown\",D88<>\"Stopped\",D88<>\"Not required\"),D88/COUNTRY_INFO!D88, 0)","v":0},{"$f":"IF(AND(J88<>0,J88<>\"Unknown\",J88<>\"Stopped\",J88<>\"Not required\"),J88/COUNTRY_INFO!D88, 0)","v":0},{"$f":"IF(AND(P88<>0,P88<>\"Unknown\",P88<>\"Not required\"),P88/(COUNTRY_INFO!E88+COUNTRY_INFO!F88), 0)","v":1},{"$f":"IF(AND(Z88<>0,Z88<>\"Unknown\",Z88<>\"Not required\"),IF(COUNTRY_INFO!K88=1,1,IF(COUNTRY_INFO!K88=2,0.5*COUNTRY_INFO!F88/(0.5*COUNTRY_INFO!F88+0.2*COUNTRY_INFO!G88),IF(COUNTRY_INFO!K88=3,COUNTRY_INFO!F88/(COUNTRY_INFO!F88+COUNTRY_INFO!G88)))),0)","v":0.54901975652200286},{"$f":"IF(AND(Z88<>0,Z88<>\"Unknown\",Z88<>\"Not required\"),IF(COUNTRY_INFO!K88=1,0,IF(COUNTRY_INFO!K88=2,0.2*COUNTRY_INFO!G88/(0.5*COUNTRY_INFO!F88+0.2*COUNTRY_INFO!G88),IF(COUNTRY_INFO!K88=3,COUNTRY_INFO!G88/(COUNTRY_INFO!F88+COUNTRY_INFO!G88)))),0)","v":0.45098024347799714},{"$f":"MAX(COUNTRY_INFO!D88*AK88*PROFILE!$G$7,COUNTRY_INFO!D88*AL88*PROFILE!$G$7)","v":0},{"$f":"MAX(COUNTRY_INFO!D88*AK88*PROFILE!$G$8,COUNTRY_INFO!D88*AL88*PROFILE!$G$8,COUNTRY_INFO!D88*AM88*PROFILE!$G$8)","v":47993.974041461996},{"$f":"MAX(COUNTRY_INFO!D88*AK88*PROFILE!$G$9,COUNTRY_INFO!D88*AL88*PROFILE!$G$9,COUNTRY_INFO!D88*AM88*PROFILE!$G$9,IF(AND(DISTRICT!Z88<>\"Unknown\",Z88<>\"Not required\"),COUNTRY_INFO!O88*DISTRICT!AN88,0))","v":115847.63435189344},{"$f":"MAX(COUNTRY_INFO!D88*AK88*PROFILE!$G$10,COUNTRY_INFO!D88*AL88*PROFILE!$G$10,IF(AND(DISTRICT!Z88<>\"Unknown\",Z88<>\"Not required\"),COUNTRY_INFO!O88*DISTRICT!AO88,0))","v":47580.4},211422.00839335544,"Y",{"$f":"MAX('MDA2'!J88,'T1'!L88,'T2'!J88,T3_R1!K88,T3_R2!K88)","v":0},{"$f":"MAX('MDA1'!K88,'MDA2'!K88,'MDA3'!I88,'MDA3'!L88,'T1'!M88,'T2'!K88,T3_R1!L88,T3_R2!L88)","v":111154},{"$f":"MAX('MDA1'!L88,'MDA2'!L88,'MDA3'!J88,'MDA3'!M88,'T1'!N88,'T2'!L88,T3_R1!M88,T3_R2!M88)","v":0},111154,{"$f":"MAX('MDA2'!J88,T88)","v":0},{"$f":"MAX('MDA1'!K88,'MDA2'!K88,'MDA3'!I88,'MDA3'!L88,V88,AD88)","v":111154},{"$f":"MAX('MDA1'!L88,'MDA2'!L88,'MDA3'!J88,'MDA3'!M88,AF88)","v":0},111154,52.574469822079948]
[{"$f":"IF(COUNTRY_INFO!A89=0,\" \",COUNTRY_INFO!A89)","v":"Mozambique"},{"$f":"IF(COUNTRY_INFO!B89=0,\" \",COUNTRY_INFO!B89)","v":"Tete"},{"$f":"IF(COUNTRY_INFO!C89=0,\" \",COUNTRY_INFO!C89)","v":"Cahora Bassa"},{"$f":"COUNTRY_INFO!L89","v":"Stopped"},null,null,{"$f":"MAX('MDA1'!M89,'MDA2'!M89)","v":0},{"$f":"IF(AND(COUNTRY_INFO!H89>0,COUNTRY_INFO!H89<4),IF(D89>MAX('MDA1'!M89,'MDA2'!M89),MAX('MDA1'!M89,'MDA2'!M89),D89),0)","v":0},{"$f":"IF(AND(COUNTRY_INFO!H89>0,COUNTRY_INFO!H89<4), IF(G89/D89*100<>0, IF(G89/D89*100>100,100,G89/D89*100), \"-\"),0)","v":0},{"$f":"COUNTRY_INFO!M89","v":"Not required"},null,null,{"$f":"MAX('MDA1'!M89,MAX('MDA3'!I89,'MDA3'!L89)+MAX('MDA3'!J89,'MDA3'!M89))","v":0},{"$f":"IF(AND(COUNTRY_INFO!I89>0,COUNTRY_INFO!I89<4),IF(J89>MAX('MDA1'!M89,MAX('MDA3'!I89,'MDA3'!L89)+MAX('MDA3'!J89,'MDA3'!M89)),MAX('MDA1'!M89,MAX('MDA3'!I89,'MDA3'!L89)+MAX('MDA3'!J89,'MDA3'!M89)),J89),0)","v":0},{"$f":"IF(AND(COUNTRY_INFO!I89>0,COUNTRY_INFO!I89<4), IF(M89/J89*100<>0, IF(M89/J89*100>100,100,M89/J89*100), \"-\"),0)","v":0},{"$f":"COUNTRY_INFO!N89","v":57561},null,null,{"$f":"SUM(MAX('MDA2'!J89, 'T1'!L89, MAX(T3_R1!K89, T3_R2!K89)), MAX('MDA1'!K89, 'MDA2'!K89, 'T1'!M89, MAX(T3_R1!L89, T3_R2!L89)), MAX('MDA1'!L89, 'MDA2'!L89, 'T1'!N89, MAX(T3_R1!M89, T3_R2!M89)))","v":38619.5},{"$f":"IF(AND(COUNTRY_INFO!J89>1,COUNTRY_INFO!J89<4),IF(COUNTRY_INFO!E89>MAX('MDA2'!J89,'T1'!L89,MAX(T3_R1!K89,T3_R2!K89)),MAX('MDA2'!J89,'T1'!L89,MAX(T3_R1!K89,T3_R2!K89)),COUNTRY_INFO!E89),0)","v":0},{"$f":"IF(AND(COUNTRY_INFO!J89>1,COUNTRY_INFO!J89<4), IF(T89/COUNTRY_INFO!E89*100<>0, IF(T89/COUNTRY_INFO!E89*100>100,100,T89/COUNTRY_INFO!E89*100), \"-\"),0)","v":"-"},{"$f":"IF(AND(COUNTRY_INFO!J89>1,COUNTRY_INFO!J89<4),IF(COUNTRY_INFO!F89>MAX('MDA1'!K89,'MDA2'!K89,'T1'!M89,MAX(T3_R1!L89,T3_R2!L89)),MAX('MDA1'!K89,'MDA2'!K89,'T1'!M89,MAX(T3_R1!L89,T3_R2!L89)),COUNTRY_INFO!F89),0)","v":38619.5},{"$f":"IF(AND(COUNTRY_INFO!J89>1,COUNTRY_INFO!J89<4), IF(V89/COUNTRY_INFO!F89*100<>0, IF(V89/COUNTRY_INFO!F89*100>100,100,V89/COUNTRY_INFO!F89*100), \"-\"),0)","v":94.888206388206385},38619.5,{"$f":"IF(AND(COUNTRY_INFO!J89>1,COUNTRY_INFO!J89<4), IF(S89/P89*100<>0, IF(X89/P89*100>100,100,X89/P89*100), \"-\"),0)","v":67.093170723232745},{"$f":"COUNTRY_INFO!O89","v":37066},18686.5,19933,{"$f":"MAX('T1'!L89,'T2'!J89)+MAX('T1'!M89,'T2'!K89)+MAX('T1'!N89,'T2'!L89)","v":38619.5},{"$f":"IF(COUNTRY_INFO!K89=1,IF(COUNTRY_INFO!F89*0.33>MAX('T1'!M89,'T2'!K89),MAX('T1'!M89,'T2'!K89),COUNTRY_INFO!F89*0.33),IF(COUNTRY_INFO!K89=2,IF(COUNTRY_INFO!F89*0.5>MAX('T1'!M89,'T2'!K89),MAX('T1'!M89,'T2'!K89),COUNTRY_INFO!F89*0.5),IF(COUNTRY_INFO!K89=3,IF(COUNTRY_INFO!F89>MAX('T1'!M89,'T2'!K89),MAX('T1'!M89,'T2'!K89),COUNTRY_INFO!F89),0)))","v":20350},{"$f":"IF(AND(COUNTRY_INFO!K89>0,COUNTRY_INFO!K89<4),IF(Z89>0,IF(COUNTRY_INFO!K89=1, AD89/(COUNTRY_INFO!F89*0.33)*100, IF(COUNTRY_INFO!K89=2, AD89/(COUNTRY_INFO!F89*0.5)*100, IF(COUNTRY_INFO!K89=3, AD89/COUNTRY_INFO!F89*100))),\"-\"),0)","v":100},{"$f":"IF(COUNTRY_INFO!K89=2,IF(COUNTRY_INFO!G89*0.2>MAX('T1'!N89,'T2'!L89),MAX('T1'!N89,'T2'!L89),COUNTRY_INFO!G89*0.2),IF(COUNTRY_INFO!K89=3,IF(COUNTRY_INFO!G89>MAX('T1'!N89,'T2'!L89),MAX('T1'!N89,'T2'!L89),COUNTRY_INFO!G89),0))","v":0},{"$f":"IF(AND(COUNTRY_INFO!K89>0,COUNTRY_INFO!K89<4),IF(Z89>0,IF(COUNTRY_INFO!K89=1, 0, IF(COUNTRY_INFO!K89=2, AF89/(COUNTRY_INFO!G89*0.2)*100, IF(COUNTRY_INFO!K89=3, AF89/COUNTRY_INFO!G89*100))),\"-\"),0)","v":0},20350,{"$f":"IF(AND(COUNTRY_INFO!K89>0,COUNTRY_INFO!K89<4), IF(AC89/Z89*100<>0, IF(AH89/Z89*100>100,100,AH89/Z89*100), \"-\"),0)","v":54.902066583931365},null,{"$f":"IF(AND(D89<>0, D89<>\"Unknown\",D89<>\"Stopped\",D89<>\"Not required\"),D89/COUNTRY_INFO!D89, 0)","v":0},{"$f":"IF(AND(J89<>0,J89<>\"Unknown\",J89<>\"Stopped\",J89<>\"Not required\"),J89/COUNTRY_INFO!D89, 0)","v":0},{"$f":"IF(AND(P89<>0,P89<>\"Unknown\",P89<>\"Not required\"),P89/(COUNTRY_INFO!E89+COUNTRY_INFO!F89), 0)","v":1},{"$f":"IF(AND(Z89<>0,Z89<>\"Unknown\",Z89<>\"Not required\"),IF(COUNTRY_INFO!K89=1,1,IF(COUNTRY_INFO!K89=2,0.5*COUNTRY_INFO!F89/(0.5*COUNTRY_INFO!F89+0.2*COUNTRY_INFO!G89),IF(COUNTRY_INFO!K89=3,COUNTRY_INFO!F89/(COUNTRY_INFO!F89+COUNTRY_INFO!G89)))),0)","v":0.54902066583931364},{"$f":"IF(AND(Z89<>0,Z89<>\"Unknown\",Z89<>\"Not required\"),IF(COUNTRY_INFO!K89=1,0,IF(COUNTRY_INFO!K89=2,0.2*COUNTRY_INFO!G89/(0.5*COUNTRY_INFO!F89+0.2*COUNTRY_INFO!G89),IF(COUNTRY_INFO!K89=3,COUNTRY_INFO!G89/(COUNTRY_INFO!F89+COUNTRY_INFO!G89)))),0)","v":0.45097933416068636},{"$f":"MAX(COUNTRY_INFO!D89*AK89*PROFILE!$G$7,COUNTRY_INFO!D89*AL89*PROFILE!$G$7)","v":0},{"$f":"MAX(COUNTRY_INFO!D89*AK89*PROFILE!$G$8,COUNTRY_INFO!D89*AL89*PROFILE!$G$8,COUNTRY_INFO!D89*AM89*PROFILE!$G$8)","v":16861.421149595411},{"$f":"MAX(COUNTRY_INFO!D89*AK89*PROFILE!$G$9,COUNTRY_INFO!D89*AL89*PROFILE!$G$9,COUNTRY_INFO!D89*AM89*PROFILE!$G$9,IF(AND(DISTRICT!Z89<>\"Unknown\",Z89<>\"Not required\"),COUNTRY_INFO!O89*DISTRICT!AN89,0))","v":40700.021013140271},{"$f":"MAX(COUNTRY_INFO!D89*AK89*PROFILE!$G$10,COUNTRY_INFO!D89*AL89*PROFILE!$G$10,IF(AND(DISTRICT!Z89<>\"Unknown\",Z89<>\"Not required\"),COUNTRY_INFO!O89*DISTRICT!AO89,0))","v":16716},74277.442162735679,"Y",{"$f":"MAX('MDA2'!J89,'T1'!L89,'T2'!J89,T3_R1!K89,T3_R2!K89)","v":0},{"$f":"MAX('MDA1'!K89,'MDA2'!K89,'MDA3'!I89,'MDA3'!L89,'T1'!M89,'T2'!K89,T3_R1!L89,T3_R2!L89)","v":38619.5},{"$f":"MAX('MDA1'!L89,'MDA2'!L89,'MDA3'!J89,'MDA3'!M89,'T1'!N89,'T2'!L89,T3_R1!M89,T3_R2!M89)","v":0},38619.5,{"$f":"MAX('MDA2'!J89,T89)","v":0},{"$f":"MAX('MDA1'!K89,'MDA2'!K89,'MDA3'!I89,'MDA3'!L89,V89,AD89)","v":38619.5},{"$f":"MAX('MDA1'!L89,'MDA2'!L89,'MDA3'!J89,'MDA3'!M89,AF89)","v":0},38619.5,51.993578232524349]
[{"$f":"IF(COUNTRY_INFO!A90=0,\" \",COUNTRY_INFO!A90)","v":"Mozambique"},{"$f":"IF(COUNTRY_INFO!B90=0,\" \",COUNTRY_INFO!B90)","v":"Tete"},{"$f":"IF(COUNTRY_INFO!C90=0,\" \",COUNTRY_INFO!C90)","v":"Changara "},{"$f":"COUNTRY_INFO!L90","v":"Stopped"},null,null,{"$f":"MAX('MDA1'!M90,'MDA2'!M90)","v":0},{"$f":"IF(AND(COUNTRY_INFO!H90>0,COUNTRY_INFO!H90<4),IF(D90>MAX('MDA1'!M90,'MDA2'!M90),MAX('MDA1'!M90,'MDA2'!M90),D90),0)","v":0},{"$f":"IF(AND(COUNTRY_INFO!H90>0,COUNTRY_INFO!H90<4), IF(G90/D90*100<>0, IF(G90/D90*100>100,100,G90/D90*100), \"-\"),0)","v":0},{"$f":"COUNTRY_INFO!M90","v":"Not required"},null,null,{"$f":"MAX('MDA1'!M90,MAX('MDA3'!I90,'MDA3'!L90)+MAX('MDA3'!J90,'MDA3'!M90))","v":0},{"$f":"IF(AND(COUNTRY_INFO!I90>0,COUNTRY_INFO!I90<4),IF(J90>MAX('MDA1'!M90,MAX('MDA3'!I90,'MDA3'!L90)+MAX('MDA3'!J90,'MDA3'!M90)),MAX('MDA1'!M90,MAX('MDA3'!I90,'MDA3'!L90)+MAX('MDA3'!J90,'MDA3'!M90)),J90),0)","v":0},{"$f":"IF(AND(COUNTRY_INFO!I90>0,COUNTRY_INFO!I90<4), IF(M90/J90*100<>0, IF(M90/J90*100>100,100,M90/J90*100), \"-\"),0)","v":0},{"$f":"COUNTRY_INFO!N90","v":59017},null,null,{"$f":"SUM(MAX('MDA2'!J90, 'T1'!L90, MAX(T3_R1!K90, T3_R2!K90)), MAX('MDA1'!K90, 'MDA2'!K90, 'T1'!M90, MAX(T3_R1!L90, T3_R2!L90)), MAX('MDA1'!L90, 'MDA2'!L90, 'T1'!N90, MAX(T3_R1!M90, T3_R2!M90)))","v":39780},{"$f":"IF(AND(COUNTRY_INFO!J90>1,COUNTRY_INFO!J90<4),IF(COUNTRY_INFO!E90>MAX('MDA2'!J90,'T1'!L90,MAX(T3_R1!K90,T3_R2!K90)),MAX('MDA2'!J90,'T1'!L90,MAX(T3_R1!K90,T3_R2!K90)),COUNTRY_INFO!E90),0)","v":0},{"$f":"IF(AND(COUNTRY_INFO!J90>1,COUNTRY_INFO!J90<4), IF(T90/COUNTRY_INFO!E90*100<>0, IF(T90/COUNTRY_INFO!E90*100>100,100,T90/COUNTRY_INFO!E90*100), \"-\"),0)","v":"-"},{"$f":"IF(AND(COUNTRY_INFO!J90>1,COUNTRY_INFO!J90<4),IF(COUNTRY_INFO!F90>MAX('MDA1'!K90,'MDA2'!K90,'T1'!M90,MAX(T3_R1!L90,T3_R2!L90)),MAX('MDA1'!K90,'MDA2'!K90,'T1'!M90,MAX(T3_R1!L90,T3_R2!L90)),COUNTRY_INFO!F90),0)","v":39780},{"$f":"IF(AND(COUNTRY_INFO!J90>1,COUNTRY_INFO!J90<4), IF(V90/COUNTRY_INFO!F90*100<>0, IF(V90/COUNTRY_INFO!F90*100>100,100,V90/COUNTRY_INFO!F90*100), \"-\"),0)","v":95.329387236693904},39780,{"$f":"IF(AND(COUNTRY_INFO!J90>1,COUNTRY_INFO!J90<4), IF(S90/P90*100<>0, IF(X90/P90*100>100,100,X90/P90*100), \"-\"),0)","v":67.404307233508987},{"$f":"COUNTRY_INFO!O90","v":38003.300000000003},19771,20009,{"$f":"MAX('T1'!L90,'T2'!J90)+MAX('T1'!M90,'T2'!K90)+MAX('T1'!N90,'T2'!L90)","v":39780},{"$f":"IF(COUNTRY_INFO!K90=1,IF(COUNTRY_INFO!F90*0.33>MAX('T1'!M90,'T2'!K90),MAX('T1'!M90,'T2'!K90),COUNTRY_INFO!F90*0.33),IF(COUNTRY_INFO!K90=2,IF(COUNTRY_INFO!F90*0.5>MAX('T1'!M90,'T2'!K90),MAX('T1'!M90,'T2'!K90),COUNTRY_INFO!F90*0.5),IF(COUNTRY_INFO!K90=3,IF(COUNTRY_INFO!F90>MAX('T1'!M90,'T2'!K90),MAX('T1'!M90,'T2'!K90),COUNTRY_INFO!F90),0)))","v":20864.5},{"$f":"IF(AND(COUNTRY_INFO!K90>0,COUNTRY_INFO!K90<4),IF(Z90>0,IF(COUNTRY_INFO!K90=1, AD90/(COUNTRY_INFO!F90*0.33)*100, IF(COUNTRY_INFO!K90=2, AD90/(COUNTRY_INFO!F90*0.5)*100, IF(COUNTRY_INFO!K90=3, AD90/COUNTRY_INFO!F90*100))),\"-\"),0)","v":100},{"$f":"IF(COUNTRY_INFO!K90=2,IF(COUNTRY_INFO!G90*0.2>MAX('T1'!N90,'T2'!L90),MAX('T1'!N90,'T2'!L90),COUNTRY_INFO!G90*0.2),IF(COUNTRY_INFO!K90=3,IF(COUNTRY_INFO!G90>MAX('T1'!N90,'T2'!L90),MAX('T1'!N90,'T2'!L90),COUNTRY_INFO!G90),0))","v":0},{"$f":"IF(AND(COUNTRY_INFO!K90>0,COUNTRY_INFO!K90<4),IF(Z90>0,IF(COUNTRY_INFO!K90=1, 0, IF(COUNTRY_INFO!K90=2, AF90/(COUNTRY_INFO!G90*0.2)*100, IF(COUNTRY_INFO!K90=3, AF90/COUNTRY_INFO!G90*100))),\"-\"),0)","v":0},20864.5,{"$f":"IF(AND(COUNTRY_INFO!K90>0,COUNTRY_INFO!K90<4), IF(AC90/Z90*100<>0, IF(AH90/Z90*100>100,100,AH90/Z90*100), \"-\"),0)","v":54.901811158504657},null,{"$f":"IF(AND(D90<>0, D90<>\"Unknown\",D90<>\"Stopped\",D90<>\"Not required\"),D90/COUNTRY_INFO!D90, 0)","v":0},{"$f":"IF(AND(J90<>0,J90<>\"Unknown\",J90<>\"Stopped\",J90<>\"Not required\"),J90/COUNTRY_INFO!D90, 0)","v":0},{"$f":"IF(AND(P90<>0,P90<>\"Unknown\",P90<>\"Not required\"),P90/(COUNTRY_INFO!E90+COUNTRY_INFO!F90), 0)","v":1},{"$f":"IF(AND(Z90<>0,Z90<>\"Unknown\",Z90<>\"Not required\"),IF(COUNTRY_INFO!K90=1,1,IF(COUNTRY_INFO!K90=2,0.5*COUNTRY_INFO!F90/(0.5*COUNTRY_INFO!F90+0.2*COUNTRY_INFO!G90),IF(COUNTRY_INFO!K90=3,COUNTRY_INFO!F90/(COUNTRY_INFO!F90+COUNTRY_INFO!G90)))),0)","v":0.54901811158504654},{"$f":"IF(AND(Z90<>0,Z90<>\"Unknown\",Z90<>\"Not required\"),IF(COUNTRY_INFO!K90=1,0,IF(COUNTRY_INFO!K90=2,0.2*COUNTRY_INFO!G90/(0.5*COUNTRY_INFO!F90+0.2*COUNTRY_INFO!G90),IF(COUNTRY_INFO!K90=3,COUNTRY_INFO!G90/(COUNTRY_INFO!F90+COUNTRY_INFO!G90)))),0)","v":0.4509818884149534},{"$f":"MAX(COUNTRY_INFO!D90*AK90*PROFILE!$G$7,COUNTRY_INFO!D90*AL90*PROFILE!$G$7)","v":0},{"$f":"MAX(COUNTRY_INFO!D90*AK90*PROFILE!$G$8,COUNTRY_INFO!D90*AL90*PROFILE!$G$8,COUNTRY_INFO!D90*AM90*PROFILE!$G$8)","v":17287.772943751072},{"$f":"MAX(COUNTRY_INFO!D90*AK90*PROFILE!$G$9,COUNTRY_INFO!D90*AL90*PROFILE!$G$9,COUNTRY_INFO!D90*AM90*PROFILE!$G$9,IF(AND(DISTRICT!Z90<>\"Unknown\",Z90<>\"Not required\"),COUNTRY_INFO!O90*DISTRICT!AN90,0))","v":41729.147017833049},{"$f":"MAX(COUNTRY_INFO!D90*AK90*PROFILE!$G$10,COUNTRY_INFO!D90*AL90*PROFILE!$G$10,IF(AND(DISTRICT!Z90<>\"Unknown\",Z90<>\"Not required\"),COUNTRY_INFO!O90*DISTRICT!AO90,0))","v":17138.8},76155.719961584124,"Y",{"$f":"MAX('MDA2'!J90,'T1'!L90,'T2'!J90,T3_R1!K90,T3_R2!K90)","v":0},{"$f":"MAX('MDA1'!K90,'MDA2'!K90,'MDA3'!I90,'MDA3'!L90,'T1'!M90,'T2'!K90,T3_R1!L90,T3_R2!L90)","v":39780},{"$f":"MAX('MDA1'!L90,'MDA2'!L90,'MDA3'!J90,'MDA3'!M90,'T1'!N90,'T2'!L90,T3_R1!M90,T3_R2!M90)","v":0},39780,{"$f":"MAX('MDA2'!J90,T90)","v":0},{"$f":"MAX('MDA1'!K90,'MDA2'!K90,'MDA3'!I90,'MDA3'!L90,V90,AD90)","v":39780},{"$f":"MAX('MDA1'!L90,'MDA2'!L90,'MDA3'!J90,'MDA3'!M90,AF90)","v":0},39780,52.235078363209695]
[{"$f":"IF(COUNTRY_INFO!A91=0,\" \",COUNTRY_INFO!A91)","v":"Mozambique"},{"$f":"IF(COUNTRY_INFO!B91=0,\" \",COUNTRY_INFO!B91)","v":"Tete"},{"$f":"IF(COUNTRY_INFO!C91=0,\" \",COUNTRY_INFO!C91)","v":"Chifunde"},{"$f":"COUNTRY_INFO!L91","v":199377.32080914086},null,null,{"$f":"MAX('MDA1'!M91,'MDA2'!M91)","v":131460},{"$f":"IF(AND(COUNTRY_INFO!H91>0,COUNTRY_INFO!H91<4),IF(D91>MAX('MDA1'!M91,'MDA2'!M91),MAX('MDA1'!M91,'MDA2'!M91),D91),0)","v":131460},{"$f":"IF(AND(COUNTRY_INFO!H91>0,COUNTRY_INFO!H91<4), IF(G91/D91*100<>0, IF(G91/D91*100>100,100,G91/D91*100), \"-\"),0)","v":65.93528264222364},{"$f":"COUNTRY_INFO!M91","v":"Not required"},null,null,{"$f":"MAX('MDA1'!M91,MAX('MDA3'!I91,'MDA3'!L91)+MAX('MDA3'!J91,'MDA3'!M91))","v":131460},{"$f":"IF(AND(COUNTRY_INFO!I91>0,COUNTRY_INFO!I91<4),IF(J91>MAX('MDA1'!M91,MAX('MDA3'!I91,'MDA3'!L91)+MAX('MDA3'!J91,'MDA3'!M91)),MAX('MDA1'!M91,MAX('MDA3'!I91,'MDA3'!L91)+MAX('MDA3'!J91,'MDA3'!M91)),J91),0)","v":0},{"$f":"IF(AND(COUNTRY_INFO!I91>0,COUNTRY_INFO!I91<4), IF(M91/J91*100<>0, IF(M91/J91*100>100,100,M91/J91*100), \"-\"),0)","v":0},{"$f":"COUNTRY_INFO!N91","v":78954},null,null,{"$f":"SUM(MAX('MDA2'!J91, 'T1'!L91, MAX(T3_R1!K91, T3_R2!K91)), MAX('MDA1'!K91, 'MDA2'!K91, 'T1'!M91, MAX(T3_R1!L91, T3_R2!L91)), MAX('MDA1'!L91, 'MDA2'!L91, 'T1'!N91, MAX(T3_R1!M91, T3_R2!M91)))","v":131460},{"$f":"IF(AND(COUNTRY_INFO!J91>1,COUNTRY_INFO!J91<4),IF(COUNTRY_INFO!E91>MAX('MDA2'!J91,'T1'!L91,MAX(T3_R1!K91,T3_R2!K91)),MAX('MDA2'!J91,'T1'!L91,MAX(T3_R1!K91,T3_R2!K91)),COUNTRY_INFO!E91),0)","v":0},{"$f":"IF(AND(COUNTRY_INFO!J91>1,COUNTRY_INFO!J91<4), IF(T91/COUNTRY_INFO!E91*100<>0, IF(T91/COUNTRY_INFO!E91*100>100,100,T91/COUNTRY_INFO!E91*100), \"-\"),0)","v":"-"},{"$f":"IF(AND(COUNTRY_INFO!J91>1,COUNTRY_INFO!J91<4),IF(COUNTRY_INFO!F91>MAX('MDA1'!K91,'MDA2'!K91,'T1'!M91,MAX(T3_R1!L91,T3_R2!L91)),MAX('MDA1'!K91,'MDA2'!K91,'T1'!M91,MAX(T3_R1!L91,T3_R2!L91)),COUNTRY_INFO!F91),0)","v":55826},{"$f":"IF(AND(COUNTRY_INFO!J91>1,COUNTRY_INFO!J91<4), IF(V91/COUNTRY_INFO!F91*100<>0, IF(V91/COUNTRY_INFO!F91*100>100,100,V91/COUNTRY_INFO!F91*100), \"-\"),0)","v":100},55826,{"$f":"IF(AND(COUNTRY_INFO!J91>1,COUNTRY_INFO!J91<4), IF(S91/P91*100<>0, IF(X91/P91*100>100,100,X91/P91*100), \"-\"),0)","v":70.706993945841873},{"$f":"COUNTRY_INFO!O91","v":50841.4},31809,32165,{"$f":"MAX('T1'!L91,'T2'!J91)+MAX('T1'!M91,'T2'!K91)+MAX('T1'!N91,'T2'!L91)","v":63974},{"$f":"IF(COUNTRY_INFO!K91=1,IF(COUNTRY_INFO!F91*0.33>MAX('T1'!M91,'T2'!K91),MAX('T1'!M91,'T2'!K91),COUNTRY_INFO!F91*0.33),IF(COUNTRY_INFO!K91=2,IF(COUNTRY_INFO!F91*0.5>MAX('T1'!M91,'T2'!K91),MAX('T1'!M91,'T2'!K91),COUNTRY_INFO!F91*0.5),IF(COUNTRY_INFO!K91=3,IF(COUNTRY_INFO!F91>MAX('T1'!M91,'T2'!K91),MAX('T1'!M91,'T2'!K91),COUNTRY_INFO!F91),0)))","v":27913},{"$f":"IF(AND(COUNTRY_INFO!K91>0,COUNTRY_INFO!K91<4),IF(Z91>0,IF(COUNTRY_INFO!K91=1, AD91/(COUNTRY_INFO!F91*0.33)*100, IF(COUNTRY_INFO!K91=2, AD91/(COUNTRY_INFO!F91*0.5)*100, IF(COUNTRY_INFO!K91=3, AD91/COUNTRY_INFO!F91*100))),\"-\"),0)","v":100},{"$f":"IF(COUNTRY_INFO!K91=2,IF(COUNTRY_INFO!G91*0.2>MAX('T1'!N91,'T2'!L91),MAX('T1'!N91,'T2'!L91),COUNTRY_INFO!G91*0.2),IF(COUNTRY_INFO!K91=3,IF(COUNTRY_INFO!G91>MAX('T1'!N91,'T2'!L91),MAX('T1'!N91,'T2'!L91),COUNTRY_INFO!G91),0))","v":0},{"$f":"IF(AND(COUNTRY_INFO!K91>0,COUNTRY_INFO!K91<4),IF(Z91>0,IF(COUNTRY_INFO!K91=1, 0, IF(COUNTRY_INFO!K91=2, AF91/(COUNTRY_INFO!G91*0.2)*100, IF(COUNTRY_INFO!K91=3, AF91/COUNTRY_INFO!G91*100))),\"-\"),0)","v":0},27913,{"$f":"IF(AND(COUNTRY_INFO!K91>0,COUNTRY_INFO!K91<4), IF(AC91/Z91*100<>0, IF(AH91/Z91*100>100,100,AH91/Z91*100), \"-\"),0)","v":54.902107337720828},null,{"$f":"IF(AND(D91<>0, D91<>\"Unknown\",D91<>\"Stopped\",D91<>\"Not required\"),D91/COUNTRY_INFO!D91, 0)","v":1},{"$f":"IF(AND(J91<>0,J91<>\"Unknown\",J91<>\"Stopped\",J91<>\"Not required\"),J91/COUNTRY_INFO!D91, 0)","v":0},{"$f":"IF(AND(P91<>0,P91<>\"Unknown\",P91<>\"Not required\"),P91/(COUNTRY_INFO!E91+COUNTRY_INFO!F91), 0)","v":1},{"$f":"IF(AND(Z91<>0,Z91<>\"Unknown\",Z91<>\"Not required\"),IF(COUNTRY_INFO!K91=1,1,IF(COUNTRY_INFO!K91=2,0.5*COUNTRY_INFO!F91/(0.5*COUNTRY_INFO!F91+0.2*COUNTRY_INFO!G91),IF(COUNTRY_INFO!K91=3,COUNTRY_INFO!F91/(COUNTRY_INFO!F91+COUNTRY_INFO!G91)))),0)","v":0.54902107337720829},{"$f":"IF(AND(Z91<>0,Z91<>\"Unknown\",Z91<>\"Not required\"),IF(COUNTRY_INFO!K91=1,0,IF(COUNTRY_INFO!K91=2,0.2*COUNTRY_INFO!G91/(0.5*COUNTRY_INFO!F91+0.2*COUNTRY_INFO!G91),IF(COUNTRY_INFO!K91=3,COUNTRY_INFO!G91/(COUNTRY_INFO!F91+COUNTRY_INFO!G91)))),0)","v":0.45097892662279165},{"$f":"MAX(COUNTRY_INFO!D91*AK91*PROFILE!$G$7,COUNTRY_INFO!D91*AL91*PROFILE!$G$7)","v":5781.994952522391},{"$f":"MAX(COUNTRY_INFO!D91*AK91*PROFILE!$G$8,COUNTRY_INFO!D91*AL91*PROFILE!$G$8,COUNTRY_INFO!D91*AM91*PROFILE!$G$8)","v":23127.73544074822},{"$f":"MAX(COUNTRY_INFO!D91*AK91*PROFILE!$G$9,COUNTRY_INFO!D91*AL91*PROFILE!$G$9,COUNTRY_INFO!D91*AM91*PROFILE!$G$9,IF(AND(DISTRICT!Z91<>\"Unknown\",Z91<>\"Not required\"),COUNTRY_INFO!O91*DISTRICT!AN91,0))","v":55825.621700184391},{"$f":"MAX(COUNTRY_INFO!D91*AK91*PROFILE!$G$10,COUNTRY_INFO!D91*AL91*PROFILE!$G$10,IF(AND(DISTRICT!Z91<>\"Unknown\",Z91<>\"Not required\"),COUNTRY_INFO!O91*DISTRICT!AO91,0))","v":114641.96871568586},199377.32080914086,"Y",{"$f":"MAX('MDA2'!J91,'T1'!L91,'T2'!J91,T3_R1!K91,T3_R2!K91)","v":0},{"$f":"MAX('MDA1'!K91,'MDA2'!K91,'MDA3'!I91,'MDA3'!L91,'T1'!M91,'T2'!K91,T3_R1!L91,T3_R2!L91)","v":63974},{"$f":"MAX('MDA1'!L91,'MDA2'!L91,'MDA3'!J91,'MDA3'!M91,'T1'!N91,'T2'!L91,T3_R1!M91,T3_R2!M91)","v":68126},132100,{"$f":"MAX('MDA2'!J91,T91)","v":0},{"$f":"MAX('MDA1'!K91,'MDA2'!K91,'MDA3'!I91,'MDA3'!L91,V91,AD91)","v":63334},{"$f":"MAX('MDA1'!L91,'MDA2'!L91,'MDA3'!J91,'MDA3'!M91,AF91)","v":68126},131460,65.93528264222364]
[{"$f":"IF(COUNTRY_INFO!A92=0,\" \",COUNTRY_INFO!A92)","v":"Mozambique"},{"$f":"IF(COUNTRY_INFO!B92=0,\" \",COUNTRY_INFO!B92)","v":"Tete"},{"$f":"IF(COUNTRY_INFO!C92=0,\" \",COUNTRY_INFO!C92)","v":"Chiúta"},{"$f":"COUNTRY_INFO!L92","v":"Stopped"},null,null,{"$f":"MAX('MDA1'!M92,'MDA2'!M92)","v":0},{"$f":"IF(AND(COUNTRY_INFO!H92>0,COUNTRY_INFO!H92<4),IF(D92>MAX('MDA1'!M92,'MDA2'!M92),MAX('MDA1'!M92,'MDA2'!M92),D92),0)","v":0},{"$f":"IF(AND(COUNTRY_INFO!H92>0,COUNTRY_INFO!H92<4), IF(G92/D92*100<>0, IF(G92/D92*100>100,100,G92/D92*100), \"-\"),0)","v":0},{"$f":"COUNTRY_INFO!M92","v":"Not required"},null,null,{"$f":"MAX('MDA1'!M92,MAX('MDA3'!I92,'MDA3'!L92)+MAX('MDA3'!J92,'MDA3'!M92))","v":0},{"$f":"IF(AND(COUNTRY_INFO!I92>0,COUNTRY_INFO!I92<4),IF(J92>MAX('MDA1'!M92,MAX('MDA3'!I92,'MDA3'!L92)+MAX('MDA3'!J92,'MDA3'!M92)),MAX('MDA1'!M92,MAX('MDA3'!I92,'MDA3'!L92)+MAX('MDA3'!J92,'MDA3'!M92)),J92),0)","v":0},{"$f":"IF(AND(COUNTRY_INFO!I92>0,COUNTRY_INFO!I92<4), IF(M92/J92*100<>0, IF(M92/J92*100>100,100,M92/J92*100), \"-\"),0)","v":0},{"$f":"COUNTRY_INFO!N92","v":42079},null,null,{"$f":"SUM(MAX('MDA2'!J92, 'T1'!L92, MAX(T3_R1!K92, T3_R2!K92)), MAX('MDA1'!K92, 'MDA2'!K92, 'T1'!M92, MAX(T3_R1!L92, T3_R2!L92)), MAX('MDA1'!L92, 'MDA2'!L92, 'T1'!N92, MAX(T3_R1!M92, T3_R2!M92)))","v":27342},{"$f":"IF(AND(COUNTRY_INFO!J92>1,COUNTRY_INFO!J92<4),IF(COUNTRY_INFO!E92>MAX('MDA2'!J92,'T1'!L92,MAX(T3_R1!K92,T3_R2!K92)),MAX('MDA2'!J92,'T1'!L92,MAX(T3_R1!K92,T3_R2!K92)),COUNTRY_INFO!E92),0)","v":0},{"$f":"IF(AND(COUNTRY_INFO!J92>1,COUNTRY_INFO!J92<4), IF(T92/COUNTRY_INFO!E92*100<>0, IF(T92/COUNTRY_INFO!E92*100>100,100,T92/COUNTRY_INFO!E92*100), \"-\"),0)","v":"-"},{"$f":"IF(AND(COUNTRY_INFO!J92>1,COUNTRY_INFO!J92<4),IF(COUNTRY_INFO!F92>MAX('MDA1'!K92,'MDA2'!K92,'T1'!M92,MAX(T3_R1!L92,T3_R2!L92)),MAX('MDA1'!K92,'MDA2'!K92,'T1'!M92,MAX(T3_R1!L92,T3_R2!L92)),COUNTRY_INFO!F92),0)","v":27342},{"$f":"IF(AND(COUNTRY_INFO!J92>1,COUNTRY_INFO!J92<4), IF(V92/COUNTRY_INFO!F92*100<>0, IF(V92/COUNTRY_INFO!F92*100>100,100,V92/COUNTRY_INFO!F92*100), \"-\"),0)","v":91.896615467347829},27342,{"$f":"IF(AND(COUNTRY_INFO!J92>1,COUNTRY_INFO!J92<4), IF(S92/P92*100<>0, IF(X92/P92*100>100,100,X92/P92*100), \"-\"),0)","v":64.97777989020652},{"$f":"COUNTRY_INFO!O92","v":27096.5},12774,14568,{"$f":"MAX('T1'!L92,'T2'!J92)+MAX('T1'!M92,'T2'!K92)+MAX('T1'!N92,'T2'!L92)","v":27342},{"$f":"IF(COUNTRY_INFO!K92=1,IF(COUNTRY_INFO!F92*0.33>MAX('T1'!M92,'T2'!K92),MAX('T1'!M92,'T2'!K92),COUNTRY_INFO!F92*0.33),IF(COUNTRY_INFO!K92=2,IF(COUNTRY_INFO!F92*0.5>MAX('T1'!M92,'T2'!K92),MAX('T1'!M92,'T2'!K92),COUNTRY_INFO!F92*0.5),IF(COUNTRY_INFO!K92=3,IF(COUNTRY_INFO!F92>MAX('T1'!M92,'T2'!K92),MAX('T1'!M92,'T2'!K92),COUNTRY_INFO!F92),0)))","v":14876.5},{"$f":"IF(AND(COUNTRY_INFO!K92>0,COUNTRY_INFO!K92<4),IF(Z92>0,IF(COUNTRY_INFO!K92=1, AD92/(COUNTRY_INFO!F92*0.33)*100, IF(COUNTRY_INFO!K92=2, AD92/(COUNTRY_INFO!F92*0.5)*100, IF(COUNTRY_INFO!K92=3, AD92/COUNTRY_INFO!F92*100))),\"-\"),0)","v":100},{"$f":"IF(COUNTRY_INFO!K92=2,IF(COUNTRY_INFO!G92*0.2>MAX('T1'!N92,'T2'!L92),MAX('T1'!N92,'T2'!L92),COUNTRY_INFO!G92*0.2),IF(COUNTRY_INFO!K92=3,IF(COUNTRY_INFO!G92>MAX('T1'!N92,'T2'!L92),MAX('T1'!N92,'T2'!L92),COUNTRY_INFO!G92),0))","v":0},{"$f":"IF(AND(COUNTRY_INFO!K92>0,COUNTRY_INFO!K92<4),IF(Z92>0,IF(COUNTRY_INFO!K92=1, 0, IF(COUNTRY_INFO!K92=2, AF92/(COUNTRY_INFO!G92*0.2)*100, IF(COUNTRY_INFO!K92=3, AF92/COUNTRY_INFO!G92*100))),\"-\"),0)","v":0},14876.5,{"$f":"IF(AND(COUNTRY_INFO!K92>0,COUNTRY_INFO!K92<4), IF(AC92/Z92*100<>0, IF(AH92/Z92*100>100,100,AH92/Z92*100), \"-\"),0)","v":54.901924602808485},null,{"$f":"IF(AND(D92<>0, D92<>\"Unknown\",D92<>\"Stopped\",D92<>\"Not required\"),D92/COUNTRY_INFO!D92, 0)","v":0},{"$f":"IF(AND(J92<>0,J92<>\"Unknown\",J92<>\"Stopped\",J92<>\"Not required\"),J92/COUNTRY_INFO!D92, 0)","v":0},{"$f":"IF(AND(P92<>0,P92<>\"Unknown\",P92<>\"Not required\"),P92/(COUNTRY_INFO!E92+COUNTRY_INFO!F92), 0)","v":1},{"$f":"IF(AND(Z92<>0,Z92<>\"Unknown\",Z92<>\"Not required\"),IF(COUNTRY_INFO!K92=1,1,IF(COUNTRY_INFO!K92=2,0.5*COUNTRY_INFO!F92/(0.5*COUNTRY_INFO!F92+0.2*COUNTRY_INFO!G92),IF(COUNTRY_INFO!K92=3,COUNTRY_INFO!F92/(COUNTRY_INFO!F92+COUNTRY_INFO!G92)))),0)","v":0.54901924602808483},{"$f":"IF(AND(Z92<>0,Z92<>\"Unknown\",Z92<>\"Not required\"),IF(COUNTRY_INFO!K92=1,0,IF(COUNTRY_INFO!K92=2,0.2*COUNTRY_INFO!G92/(0.5*COUNTRY_INFO!F92+0.2*COUNTRY_INFO!G92),IF(COUNTRY_INFO!K92=3,COUNTRY_INFO!G92/(COUNTRY_INFO!F92+COUNTRY_INFO!G92)))),0)","v":0.45098075397191517},{"$f":"MAX(COUNTRY_INFO!D92*AK92*PROFILE!$G$7,COUNTRY_INFO!D92*AL92*PROFILE!$G$7)","v":0},{"$f":"MAX(COUNTRY_INFO!D92*AK92*PROFILE!$G$8,COUNTRY_INFO!D92*AL92*PROFILE!$G$8,COUNTRY_INFO!D92*AM92*PROFILE!$G$8)","v":12326.225460864283},{"$f":"MAX(COUNTRY_INFO!D92*AK92*PROFILE!$G$9,COUNTRY_INFO!D92*AL92*PROFILE!$G$9,COUNTRY_INFO!D92*AM92*PROFILE!$G$9,IF(AND(DISTRICT!Z92<>\"Unknown\",Z92<>\"Not required\"),COUNTRY_INFO!O92*DISTRICT!AN92,0))","v":29752.986466500701},{"$f":"MAX(COUNTRY_INFO!D92*AK92*PROFILE!$G$10,COUNTRY_INFO!D92*AL92*PROFILE!$G$10,IF(AND(DISTRICT!Z92<>\"Unknown\",Z92<>\"Not required\"),COUNTRY_INFO!O92*DISTRICT!AO92,0))","v":12220},54299.211927364988,"Y",{"$f":"MAX('MDA2'!J92,'T1'!L92,'T2'!J92,T3_R1!K92,T3_R2!K92)","v":0},{"$f":"MAX('MDA1'!K92,'MDA2'!K92,'MDA3'!I92,'MDA3'!L92,'T1'!M92,'T2'!K92,T3_R1!L92,T3_R2!L92)","v":27342},{"$f":"MAX('MDA1'!L92,'MDA2'!L92,'MDA3'!J92,'MDA3'!M92,'T1'!N92,'T2'!L92,T3_R1!M92,T3_R2!M92)","v":0},27342,{"$f":"MAX('MDA2'!J92,T92)","v":0},{"$f":"MAX('MDA1'!K92,'MDA2'!K92,'MDA3'!I92,'MDA3'!L92,V92,AD92)","v":27342},{"$f":"MAX('MDA1'!L92,'MDA2'!L92,'MDA3'!J92,'MDA3'!M92,AF92)","v":0},27342,50.354321968014695]
[{"$f":"IF(COUNTRY_INFO!A93=0,\" \",COUNTRY_INFO!A93)","v":"Mozambique"},{"$f":"IF(COUNTRY_INFO!B93=0,\" \",COUNTRY_INFO!B93)","v":"Tete"},{"$f":"IF(COUNTRY_INFO!C93=0,\" \",COUNTRY_INFO!C93)","v":"Doa"},{"$f":"COUNTRY_INFO!L93","v":108912.82578916306},null,null,{"$f":"MAX('MDA1'!M93,'MDA2'!M93)","v":80041},{"$f":"IF(AND(COUNTRY_INFO!H93>0,COUNTRY_INFO!H93<4),IF(D93>MAX('MDA1'!M93,'MDA2'!M93),MAX('MDA1'!M93,'MDA2'!M93),D93),0)","v":80041},{"$f":"IF(AND(COUNTRY_INFO!H93>0,COUNTRY_INFO!H93<4), IF(G93/D93*100<>0, IF(G93/D93*100>100,100,G93/D93*100), \"-\"),0)","v":73.490885412289202},{"$f":"COUNTRY_INFO!M93","v":"Not required"},null,null,{"$f":"MAX('MDA1'!M93,MAX('MDA3'!I93,'MDA3'!L93)+MAX('MDA3'!J93,'MDA3'!M93))","v":80041},{"$f":"IF(AND(COUNTRY_INFO!I93>0,COUNTRY_INFO!I93<4),IF(J93>MAX('MDA1'!M93,MAX('MDA3'!I93,'MDA3'!L93)+MAX('MDA3'!J93,'MDA3'!M93)),MAX('MDA1'!M93,MAX('MDA3'!I93,'MDA3'!L93)+MAX('MDA3'!J93,'MDA3'!M93)),J93),0)","v":0},{"$f":"IF(AND(COUNTRY_INFO!I93>0,COUNTRY_INFO!I93<4), IF(M93/J93*100<>0, IF(M93/J93*100>100,100,M93/J93*100), \"-\"),0)","v":0},{"$f":"COUNTRY_INFO!N93","v":43130},null,null,{"$f":"SUM(MAX('MDA2'!J93, 'T1'!L93, MAX(T3_R1!K93, T3_R2!K93)), MAX('MDA1'!K93, 'MDA2'!K93, 'T1'!M93, MAX(T3_R1!L93, T3_R2!L93)), MAX('MDA1'!L93, 'MDA2'!L93, 'T1'!N93, MAX(T3_R1!M93, T3_R2!M93)))","v":80041},{"$f":"IF(AND(COUNTRY_INFO!J93>1,COUNTRY_INFO!J93<4),IF(COUNTRY_INFO!E93>MAX('MDA2'!J93,'T1'!L93,MAX(T3_R1!K93,T3_R2!K93)),MAX('MDA2'!J93,'T1'!L93,MAX(T3_R1!K93,T3_R2!K93)),COUNTRY_INFO!E93),0)","v":0},{"$f":"IF(AND(COUNTRY_INFO!J93>1,COUNTRY_INFO!J93<4), IF(T93/COUNTRY_INFO!E93*100<>0, IF(T93/COUNTRY_INFO!E93*100>100,100,T93/COUNTRY_INFO!E93*100), \"-\"),0)","v":"-"},{"$f":"IF(AND(COUNTRY_INFO!J93>1,COUNTRY_INFO!J93<4),IF(COUNTRY_INFO!F93>MAX('MDA1'!K93,'MDA2'!K93,'T1'!M93,MAX(T3_R1!L93,T3_R2!L93)),MAX('MDA1'!K93,'MDA2'!K93,'T1'!M93,MAX(T3_R1!L93,T3_R2!L93)),COUNTRY_INFO!F93),0)","v":28253},{"$f":"IF(AND(COUNTRY_INFO!J93>1,COUNTRY_INFO!J93<4), IF(V93/COUNTRY_INFO!F93*100<>0, IF(V93/COUNTRY_INFO!F93*100>100,100,V93/COUNTRY_INFO!F93*100), \"-\"),0)","v":92.644937040923409},28253,{"$f":"IF(AND(COUNTRY_INFO!J93>1,COUNTRY_INFO!J93<4), IF(S93/P93*100<>0, IF(X93/P93*100>100,100,X93/P93*100), \"-\"),0)","v":65.506607929515411},{"$f":"COUNTRY_INFO!O93","v":93121},14547,13687,{"$f":"MAX('T1'!L93,'T2'!J93)+MAX('T1'!M93,'T2'!K93)+MAX('T1'!N93,'T2'!L93)","v":28234},{"$f":"IF(COUNTRY_INFO!K93=1,IF(COUNTRY_INFO!F93*0.33>MAX('T1'!M93,'T2'!K93),MAX('T1'!M93,'T2'!K93),COUNTRY_INFO!F93*0.33),IF(COUNTRY_INFO!K93=2,IF(COUNTRY_INFO!F93*0.5>MAX('T1'!M93,'T2'!K93),MAX('T1'!M93,'T2'!K93),COUNTRY_INFO!F93*0.5),IF(COUNTRY_INFO!K93=3,IF(COUNTRY_INFO!F93>MAX('T1'!M93,'T2'!K93),MAX('T1'!M93,'T2'!K93),COUNTRY_INFO!F93),0)))","v":28234},{"$f":"IF(AND(COUNTRY_INFO!K93>0,COUNTRY_INFO!K93<4),IF(Z93>0,IF(COUNTRY_INFO!K93=1, AD93/(COUNTRY_INFO!F93*0.33)*100, IF(COUNTRY_INFO!K93=2, AD93/(COUNTRY_INFO!F93*0.5)*100, IF(COUNTRY_INFO!K93=3, AD93/COUNTRY_INFO!F93*100))),\"-\"),0)","v":92.582633788037768},{"$f":"IF(COUNTRY_INFO!K93=2,IF(COUNTRY_INFO!G93*0.2>MAX('T1'!N93,'T2'!L93),MAX('T1'!N93,'T2'!L93),COUNTRY_INFO!G93*0.2),IF(COUNTRY_INFO!K93=3,IF(COUNTRY_INFO!G93>MAX('T1'!N93,'T2'!L93),MAX('T1'!N93,'T2'!L93),COUNTRY_INFO!G93),0))","v":0},{"$f":"IF(AND(COUNTRY_INFO!K93>0,COUNTRY_INFO!K93<4),IF(Z93>0,IF(COUNTRY_INFO!K93=1, 0, IF(COUNTRY_INFO!K93=2, AF93/(COUNTRY_INFO!G93*0.2)*100, IF(COUNTRY_INFO!K93=3, AF93/COUNTRY_INFO!G93*100))),\"-\"),0)","v":0},28234,{"$f":"IF(AND(COUNTRY_INFO!K93>0,COUNTRY_INFO!K93<4), IF(AC93/Z93*100<>0, IF(AH93/Z93*100>100,100,AH93/Z93*100), \"-\"),0)","v":30.319691584068043},null,{"$f":"IF(AND(D93<>0, D93<>\"Unknown\",D93<>\"Stopped\",D93<>\"Not required\"),D93/COUNTRY_INFO!D93, 0)","v":1},{"$f":"IF(AND(J93<>0,J93<>\"Unknown\",J93<>\"Stopped\",J93<>\"Not required\"),J93/COUNTRY_INFO!D93, 0)","v":0},{"$f":"IF(AND(P93<>0,P93<>\"Unknown\",P93<>\"Not required\"),P93/(COUNTRY_INFO!E93+COUNTRY_INFO!F93), 0)","v":1},{"$f":"IF(AND(Z93<>0,Z93<>\"Unknown\",Z93<>\"Not required\"),IF(COUNTRY_INFO!K93=1,1,IF(COUNTRY_INFO!K93=2,0.5*COUNTRY_INFO!F93/(0.5*COUNTRY_INFO!F93+0.2*COUNTRY_INFO!G93),IF(COUNTRY_INFO!K93=3,COUNTRY_INFO!F93/(COUNTRY_INFO!F93+COUNTRY_INFO!G93)))),0)","v":0.32748789209737866},{"$f":"IF(AND(Z93<>0,Z93<>\"Unknown\",Z93<>\"Not required\"),IF(COUNTRY_INFO!K93=1,0,IF(COUNTRY_INFO!K93=2,0.2*COUNTRY_INFO!G93/(0.5*COUNTRY_INFO!F93+0.2*COUNTRY_INFO!G93),IF(COUNTRY_INFO!K93=3,COUNTRY_INFO!G93/(COUNTRY_INFO!F93+COUNTRY_INFO!G93)))),0)","v":0.67251210790262128},{"$f":"MAX(COUNTRY_INFO!D93*AK93*PROFILE!$G$7,COUNTRY_INFO!D93*AL93*PROFILE!$G$7)","v":3158.5007082160569},{"$f":"MAX(COUNTRY_INFO!D93*AK93*PROFILE!$G$8,COUNTRY_INFO!D93*AL93*PROFILE!$G$8,COUNTRY_INFO!D93*AM93*PROFILE!$G$8)","v":12633.869342478289},{"$f":"MAX(COUNTRY_INFO!D93*AK93*PROFILE!$G$9,COUNTRY_INFO!D93*AL93*PROFILE!$G$9,COUNTRY_INFO!D93*AM93*PROFILE!$G$9,IF(AND(DISTRICT!Z93<>\"Unknown\",Z93<>\"Not required\"),COUNTRY_INFO!O93*DISTRICT!AN93,0))","v":30496},{"$f":"MAX(COUNTRY_INFO!D93*AK93*PROFILE!$G$10,COUNTRY_INFO!D93*AL93*PROFILE!$G$10,IF(AND(DISTRICT!Z93<>\"Unknown\",Z93<>\"Not required\"),COUNTRY_INFO!O93*DISTRICT!AO93,0))","v":62624.999999999993},108913.37005069433,"Y",{"$f":"MAX('MDA2'!J93,'T1'!L93,'T2'!J93,T3_R1!K93,T3_R2!K93)","v":0},{"$f":"MAX('MDA1'!K93,'MDA2'!K93,'MDA3'!I93,'MDA3'!L93,'T1'!M93,'T2'!K93,T3_R1!L93,T3_R2!L93)","v":28253},{"$f":"MAX('MDA1'!L93,'MDA2'!L93,'MDA3'!J93,'MDA3'!M93,'T1'!N93,'T2'!L93,T3_R1!M93,T3_R2!M93)","v":51788},80041,{"$f":"MAX('MDA2'!J93,T93)","v":0},{"$f":"MAX('MDA1'!K93,'MDA2'!K93,'MDA3'!I93,'MDA3'!L93,V93,AD93)","v":28253},{"$f":"MAX('MDA1'!L93,'MDA2'!L93,'MDA3'!J93,'MDA3'!M93,AF93)","v":51788},80041,73.490518163880594]
[{"$f":"IF(COUNTRY_INFO!A94=0,\" \",COUNTRY_INFO!A94)","v":"Mozambique"},{"$f":"IF(COUNTRY_INFO!B94=0,\" \",COUNTRY_INFO!B94)","v":"Tete"},{"$f":"IF(COUNTRY_INFO!C94=0,\" \",COUNTRY_INFO!C94)","v":"Macanga"},{"$f":"COUNTRY_INFO!L94","v":"Stopped"},null,null,{"$f":"MAX('MDA1'!M94,'MDA2'!M94)","v":0},{"$f":"IF(AND(COUNTRY_INFO!H94>0,COUNTRY_INFO!H94<4),IF(D94>MAX('MDA1'!M94,'MDA2'!M94),MAX('MDA1'!M94,'MDA2'!M94),D94),0)","v":0},{"$f":"IF(AND(COUNTRY_INFO!H94>0,COUNTRY_INFO!H94<4), IF(G94/D94*100<>0, IF(G94/D94*100>100,100,G94/D94*100), \"-\"),0)","v":0},{"$f":"COUNTRY_INFO!M94","v":"Not required"},null,null,{"$f":"MAX('MDA1'!M94,MAX('MDA3'!I94,'MDA3'!L94)+MAX('MDA3'!J94,'MDA3'!M94))","v":0},{"$f":"IF(AND(COUNTRY_INFO!I94>0,COUNTRY_INFO!I94<4),IF(J94>MAX('MDA1'!M94,MAX('MDA3'!I94,'MDA3'!L94)+MAX('MDA3'!J94,'MDA3'!M94)),MAX('MDA1'!M94,MAX('MDA3'!I94,'MDA3'!L94)+MAX('MDA3'!J94,'MDA3'!M94)),J94),0)","v":0},{"$f":"IF(AND(COUNTRY_INFO!I94>0,COUNTRY_INFO!I94<4), IF(M94/J94*100<>0, IF(M94/J94*100>100,100,M94/J94*100), \"-\"),0)","v":0},{"$f":"COUNTRY_INFO!N94","v":102451},null,null,{"$f":"SUM(MAX('MDA2'!J94, 'T1'!L94, MAX(T3_R1!K94, T3_R2!K94)), MAX('MDA1'!K94, 'MDA2'!K94, 'T1'!M94, MAX(T3_R1!L94, T3_R2!L94)), MAX('MDA1'!L94, 'MDA2'!L94, 'T1'!N94, MAX(T3_R1!M94, T3_R2!M94)))","v":68701},{"$f":"IF(AND(COUNTRY_INFO!J94>1,COUNTRY_INFO!J94<4),IF(COUNTRY_INFO!E94>MAX('MDA2'!J94,'T1'!L94,MAX(T3_R1!K94,T3_R2!K94)),MAX('MDA2'!J94,'T1'!L94,MAX(T3_R1!K94,T3_R2!K94)),COUNTRY_INFO!E94),0)","v":0},{"$f":"IF(AND(COUNTRY_INFO!J94>1,COUNTRY_INFO!J94<4), IF(T94/COUNTRY_INFO!E94*100<>0, IF(T94/COUNTRY_INFO!E94*100>100,100,T94/COUNTRY_INFO!E94*100), \"-\"),0)","v":"-"},{"$f":"IF(AND(COUNTRY_INFO!J94>1,COUNTRY_INFO!J94<4),IF(COUNTRY_INFO!F94>MAX('MDA1'!K94,'MDA2'!K94,'T1'!M94,MAX(T3_R1!L94,T3_R2!L94)),MAX('MDA1'!K94,'MDA2'!K94,'T1'!M94,MAX(T3_R1!L94,T3_R2!L94)),COUNTRY_INFO!F94),0)","v":68701},{"$f":"IF(AND(COUNTRY_INFO!J94>1,COUNTRY_INFO!J94<4), IF(V94/COUNTRY_INFO!F94*100<>0, IF(V94/COUNTRY_INFO!F94*100>100,100,V94/COUNTRY_INFO!F94*100), \"-\"),0)","v":94.838487023743795},68701,{"$f":"IF(AND(COUNTRY_INFO!J94>1,COUNTRY_INFO!J94<4), IF(S94/P94*100<>0, IF(X94/P94*100>100,100,X94/P94*100), \"-\"),0)","v":67.057422572742084},{"$f":"COUNTRY_INFO!O94","v":65972.2},32930,35771,{"$f":"MAX('T1'!L94,'T2'!J94)+MAX('T1'!M94,'T2'!K94)+MAX('T1'!N94,'T2'!L94)","v":68701},{"$f":"IF(COUNTRY_INFO!K94=1,IF(COUNTRY_INFO!F94*0.33>MAX('T1'!M94,'T2'!K94),MAX('T1'!M94,'T2'!K94),COUNTRY_INFO!F94*0.33),IF(COUNTRY_INFO!K94=2,IF(COUNTRY_INFO!F94*0.5>MAX('T1'!M94,'T2'!K94),MAX('T1'!M94,'T2'!K94),COUNTRY_INFO!F94*0.5),IF(COUNTRY_INFO!K94=3,IF(COUNTRY_INFO!F94>MAX('T1'!M94,'T2'!K94),MAX('T1'!M94,'T2'!K94),COUNTRY_INFO!F94),0)))","v":36220},{"$f":"IF(AND(COUNTRY_INFO!K94>0,COUNTRY_INFO!K94<4),IF(Z94>0,IF(COUNTRY_INFO!K94=1, AD94/(COUNTRY_INFO!F94*0.33)*100, IF(COUNTRY_INFO!K94=2, AD94/(COUNTRY_INFO!F94*0.5)*100, IF(COUNTRY_INFO!K94=3, AD94/COUNTRY_INFO!F94*100))),\"-\"),0)","v":100},{"$f":"IF(COUNTRY_INFO!K94=2,IF(COUNTRY_INFO!G94*0.2>MAX('T1'!N94,'T2'!L94),MAX('T1'!N94,'T2'!L94),COUNTRY_INFO!G94*0.2),IF(COUNTRY_INFO!K94=3,IF(COUNTRY_INFO!G94>MAX('T1'!N94,'T2'!L94),MAX('T1'!N94,'T2'!L94),COUNTRY_INFO!G94),0))","v":0},{"$f":"IF(AND(COUNTRY_INFO!K94>0,COUNTRY_INFO!K94<4),IF(Z94>0,IF(COUNTRY_INFO!K94=1, 0, IF(COUNTRY_INFO!K94=2, AF94/(COUNTRY_INFO!G94*0.2)*100, IF(COUNTRY_INFO!K94=3, AF94/COUNTRY_INFO!G94*100))),\"-\"),0)","v":0},36220,{"$f":"IF(AND(COUNTRY_INFO!K94>0,COUNTRY_INFO!K94<4), IF(AC94/Z94*100<>0, IF(AH94/Z94*100>100,100,AH94/Z94*100), \"-\"),0)","v":54.90191323011814},null,{"$f":"IF(AND(D94<>0, D94<>\"Unknown\",D94<>\"Stopped\",D94<>\"Not required\"),D94/COUNTRY_INFO!D94, 0)","v":0},{"$f":"IF(AND(J94<>0,J94<>\"Unknown\",J94<>\"Stopped\",J94<>\"Not required\"),J94/COUNTRY_INFO!D94, 0)","v":0},{"$f":"IF(AND(P94<>0,P94<>\"Unknown\",P94<>\"Not required\"),P94/(COUNTRY_INFO!E94+COUNTRY_INFO!F94), 0)","v":1},{"$f":"IF(AND(Z94<>0,Z94<>\"Unknown\",Z94<>\"Not required\"),IF(COUNTRY_INFO!K94=1,1,IF(COUNTRY_INFO!K94=2,0.5*COUNTRY_INFO!F94/(0.5*COUNTRY_INFO!F94+0.2*COUNTRY_INFO!G94),IF(COUNTRY_INFO!K94=3,COUNTRY_INFO!F94/(COUNTRY_INFO!F94+COUNTRY_INFO!G94)))),0)","v":0.54901913230118138},{"$f":"IF(AND(Z94<>0,Z94<>\"Unknown\",Z94<>\"Not required\"),IF(COUNTRY_INFO!K94=1,0,IF(COUNTRY_INFO!K94=2,0.2*COUNTRY_INFO!G94/(0.5*COUNTRY_INFO!F94+0.2*COUNTRY_INFO!G94),IF(COUNTRY_INFO!K94=3,COUNTRY_INFO!G94/(COUNTRY_INFO!F94+COUNTRY_INFO!G94)))),0)","v":0.45098086769881862},{"$f":"MAX(COUNTRY_INFO!D94*AK94*PROFILE!$G$7,COUNTRY_INFO!D94*AL94*PROFILE!$G$7)","v":0},{"$f":"MAX(COUNTRY_INFO!D94*AK94*PROFILE!$G$8,COUNTRY_INFO!D94*AL94*PROFILE!$G$8,COUNTRY_INFO!D94*AM94*PROFILE!$G$8)","v":30010.851933895883},{"$f":"MAX(COUNTRY_INFO!D94*AK94*PROFILE!$G$9,COUNTRY_INFO!D94*AL94*PROFILE!$G$9,COUNTRY_INFO!D94*AM94*PROFILE!$G$9,IF(AND(DISTRICT!Z94<>\"Unknown\",Z94<>\"Not required\"),COUNTRY_INFO!O94*DISTRICT!AN94,0))","v":72440.056712604695},{"$f":"MAX(COUNTRY_INFO!D94*AK94*PROFILE!$G$10,COUNTRY_INFO!D94*AL94*PROFILE!$G$10,IF(AND(DISTRICT!Z94<>\"Unknown\",Z94<>\"Not required\"),COUNTRY_INFO!O94*DISTRICT!AO94,0))","v":29752.2},132203.10864650059,"Y",{"$f":"MAX('MDA2'!J94,'T1'!L94,'T2'!J94,T3_R1!K94,T3_R2!K94)","v":0},{"$f":"MAX('MDA1'!K94,'MDA2'!K94,'MDA3'!I94,'MDA3'!L94,'T1'!M94,'T2'!K94,T3_R1!L94,T3_R2!L94)","v":68701},{"$f":"MAX('MDA1'!L94,'MDA2'!L94,'MDA3'!J94,'MDA3'!M94,'T1'!N94,'T2'!L94,T3_R1!M94,T3_R2!M94)","v":0},68701,{"$f":"MAX('MDA2'!J94,T94)","v":0},{"$f":"MAX('MDA1'!K94,'MDA2'!K94,'MDA3'!I94,'MDA3'!L94,V94,AD94)","v":68701},{"$f":"MAX('MDA1'!L94,'MDA2'!L94,'MDA3'!J94,'MDA3'!M94,AF94)","v":0},68701,51.966251552904396]
[{"$f":"IF(COUNTRY_INFO!A95=0,\" \",COUNTRY_INFO!A95)","v":"Mozambique"},{"$f":"IF(COUNTRY_INFO!B95=0,\" \",COUNTRY_INFO!B95)","v":"Tete"},{"$f":"IF(COUNTRY_INFO!C95=0,\" \",COUNTRY_INFO!C95)","v":"Magoe"},{"$f":"COUNTRY_INFO!L95","v":"Stopped"},null,null,{"$f":"MAX('MDA1'!M95,'MDA2'!M95)","v":0},{"$f":"IF(AND(COUNTRY_INFO!H95>0,COUNTRY_INFO!H95<4),IF(D95>MAX('MDA1'!M95,'MDA2'!M95),MAX('MDA1'!M95,'MDA2'!M95),D95),0)","v":0},{"$f":"IF(AND(COUNTRY_INFO!H95>0,COUNTRY_INFO!H95<4), IF(G95/D95*100<>0, IF(G95/D95*100>100,100,G95/D95*100), \"-\"),0)","v":0},{"$f":"COUNTRY_INFO!M95","v":"Not required"},null,null,{"$f":"MAX('MDA1'!M95,MAX('MDA3'!I95,'MDA3'!L95)+MAX('MDA3'!J95,'MDA3'!M95))","v":0},{"$f":"IF(AND(COUNTRY_INFO!I95>0,COUNTRY_INFO!I95<4),IF(J95>MAX('MDA1'!M95,MAX('MDA3'!I95,'MDA3'!L95)+MAX('MDA3'!J95,'MDA3'!M95)),MAX('MDA1'!M95,MAX('MDA3'!I95,'MDA3'!L95)+MAX('MDA3'!J95,'MDA3'!M95)),J95),0)","v":0},{"$f":"IF(AND(COUNTRY_INFO!I95>0,COUNTRY_INFO!I95<4), IF(M95/J95*100<>0, IF(M95/J95*100>100,100,M95/J95*100), \"-\"),0)","v":0},{"$f":"COUNTRY_INFO!N95","v":44854},null,null,{"$f":"SUM(MAX('MDA2'!J95, 'T1'!L95, MAX(T3_R1!K95, T3_R2!K95)), MAX('MDA1'!K95, 'MDA2'!K95, 'T1'!M95, MAX(T3_R1!L95, T3_R2!L95)), MAX('MDA1'!L95, 'MDA2'!L95, 'T1'!N95, MAX(T3_R1!M95, T3_R2!M95)))","v":34144},{"$f":"IF(AND(COUNTRY_INFO!J95>1,COUNTRY_INFO!J95<4),IF(COUNTRY_INFO!E95>MAX('MDA2'!J95,'T1'!L95,MAX(T3_R1!K95,T3_R2!K95)),MAX('MDA2'!J95,'T1'!L95,MAX(T3_R1!K95,T3_R2!K95)),COUNTRY_INFO!E95),0)","v":0},{"$f":"IF(AND(COUNTRY_INFO!J95>1,COUNTRY_INFO!J95<4), IF(T95/COUNTRY_INFO!E95*100<>0, IF(T95/COUNTRY_INFO!E95*100>100,100,T95/COUNTRY_INFO!E95*100), \"-\"),0)","v":"-"},{"$f":"IF(AND(COUNTRY_INFO!J95>1,COUNTRY_INFO!J95<4),IF(COUNTRY_INFO!F95>MAX('MDA1'!K95,'MDA2'!K95,'T1'!M95,MAX(T3_R1!L95,T3_R2!L95)),MAX('MDA1'!K95,'MDA2'!K95,'T1'!M95,MAX(T3_R1!L95,T3_R2!L95)),COUNTRY_INFO!F95),0)","v":31715},{"$f":"IF(AND(COUNTRY_INFO!J95>1,COUNTRY_INFO!J95<4), IF(V95/COUNTRY_INFO!F95*100<>0, IF(V95/COUNTRY_INFO!F95*100>100,100,V95/COUNTRY_INFO!F95*100), \"-\"),0)","v":100},31715,{"$f":"IF(AND(COUNTRY_INFO!J95>1,COUNTRY_INFO!J95<4), IF(S95/P95*100<>0, IF(X95/P95*100>100,100,X95/P95*100), \"-\"),0)","v":70.707183305836722},{"$f":"COUNTRY_INFO!O95","v":28883.5},15492,18652,{"$f":"MAX('T1'!L95,'T2'!J95)+MAX('T1'!M95,'T2'!K95)+MAX('T1'!N95,'T2'!L95)","v":34144},{"$f":"IF(COUNTRY_INFO!K95=1,IF(COUNTRY_INFO!F95*0.33>MAX('T1'!M95,'T2'!K95),MAX('T1'!M95,'T2'!K95),COUNTRY_INFO!F95*0.33),IF(COUNTRY_INFO!K95=2,IF(COUNTRY_INFO!F95*0.5>MAX('T1'!M95,'T2'!K95),MAX('T1'!M95,'T2'!K95),COUNTRY_INFO!F95*0.5),IF(COUNTRY_INFO!K95=3,IF(COUNTRY_INFO!F95>MAX('T1'!M95,'T2'!K95),MAX('T1'!M95,'T2'!K95),COUNTRY_INFO!F95),0)))","v":15857.5},{"$f":"IF(AND(COUNTRY_INFO!K95>0,COUNTRY_INFO!K95<4),IF(Z95>0,IF(COUNTRY_INFO!K95=1, AD95/(COUNTRY_INFO!F95*0.33)*100, IF(COUNTRY_INFO!K95=2, AD95/(COUNTRY_INFO!F95*0.5)*100, IF(COUNTRY_INFO!K95=3, AD95/COUNTRY_INFO!F95*100))),\"-\"),0)","v":100},{"$f":"IF(COUNTRY_INFO!K95=2,IF(COUNTRY_INFO!G95*0.2>MAX('T1'!N95,'T2'!L95),MAX('T1'!N95,'T2'!L95),COUNTRY_INFO!G95*0.2),IF(COUNTRY_INFO!K95=3,IF(COUNTRY_INFO!G95>MAX('T1'!N95,'T2'!L95),MAX('T1'!N95,'T2'!L95),COUNTRY_INFO!G95),0))","v":0},{"$f":"IF(AND(COUNTRY_INFO!K95>0,COUNTRY_INFO!K95<4),IF(Z95>0,IF(COUNTRY_INFO!K95=1, 0, IF(COUNTRY_INFO!K95=2, AF95/(COUNTRY_INFO!G95*0.2)*100, IF(COUNTRY_INFO!K95=3, AF95/COUNTRY_INFO!G95*100))),\"-\"),0)","v":0},15857.5,{"$f":"IF(AND(COUNTRY_INFO!K95>0,COUNTRY_INFO!K95<4), IF(AC95/Z95*100<>0, IF(AH95/Z95*100>100,100,AH95/Z95*100), \"-\"),0)","v":54.901587411497907},null,{"$f":"IF(AND(D95<>0, D95<>\"Unknown\",D95<>\"Stopped\",D95<>\"Not required\"),D95/COUNTRY_INFO!D95, 0)","v":0},{"$f":"IF(AND(J95<>0,J95<>\"Unknown\",J95<>\"Stopped\",J95<>\"Not required\"),J95/COUNTRY_INFO!D95, 0)","v":0},{"$f":"IF(AND(P95<>0,P95<>\"Unknown\",P95<>\"Not required\"),P95/(COUNTRY_INFO!E95+COUNTRY_INFO!F95), 0)","v":1},{"$f":"IF(AND(Z95<>0,Z95<>\"Unknown\",Z95<>\"Not required\"),IF(COUNTRY_INFO!K95=1,1,IF(COUNTRY_INFO!K95=2,0.5*COUNTRY_INFO!F95/(0.5*COUNTRY_INFO!F95+0.2*COUNTRY_INFO!G95),IF(COUNTRY_INFO!K95=3,COUNTRY_INFO!F95/(COUNTRY_INFO!F95+COUNTRY_INFO!G95)))),0)","v":0.5490158741149791},{"$f":"IF(AND(Z95<>0,Z95<>\"Unknown\",Z95<>\"Not required\"),IF(COUNTRY_INFO!K95=1,0,IF(COUNTRY_INFO!K95=2,0.2*COUNTRY_INFO!G95/(0.5*COUNTRY_INFO!F95+0.2*COUNTRY_INFO!G95),IF(COUNTRY_INFO!K95=3,COUNTRY_INFO!G95/(COUNTRY_INFO!F95+COUNTRY_INFO!G95)))),0)","v":0.45098412588502085},{"$f":"MAX(COUNTRY_INFO!D95*AK95*PROFILE!$G$7,COUNTRY_INFO!D95*AL95*PROFILE!$G$7)","v":0},{"$f":"MAX(COUNTRY_INFO!D95*AK95*PROFILE!$G$8,COUNTRY_INFO!D95*AL95*PROFILE!$G$8,COUNTRY_INFO!D95*AM95*PROFILE!$G$8)","v":13139.174356550879},{"$f":"MAX(COUNTRY_INFO!D95*AK95*PROFILE!$G$9,COUNTRY_INFO!D95*AL95*PROFILE!$G$9,COUNTRY_INFO!D95*AM95*PROFILE!$G$9,IF(AND(DISTRICT!Z95<>\"Unknown\",Z95<>\"Not required\"),COUNTRY_INFO!O95*DISTRICT!AN95,0))","v":31715.278781217454},{"$f":"MAX(COUNTRY_INFO!D95*AK95*PROFILE!$G$10,COUNTRY_INFO!D95*AL95*PROFILE!$G$10,IF(AND(DISTRICT!Z95<>\"Unknown\",Z95<>\"Not required\"),COUNTRY_INFO!O95*DISTRICT!AO95,0))","v":13026},57880.453137768331,"Y",{"$f":"MAX('MDA2'!J95,'T1'!L95,'T2'!J95,T3_R1!K95,T3_R2!K95)","v":0},{"$f":"MAX('MDA1'!K95,'MDA2'!K95,'MDA3'!I95,'MDA3'!L95,'T1'!M95,'T2'!K95,T3_R1!L95,T3_R2!L95)","v":34144},{"$f":"MAX('MDA1'!L95,'MDA2'!L95,'MDA3'!J95,'MDA3'!M95,'T1'!N95,'T2'!L95,T3_R1!M95,T3_R2!M95)","v":0},34144,{"$f":"MAX('MDA2'!J95,T95)","v":0},{"$f":"MAX('MDA1'!K95,'MDA2'!K95,'MDA3'!I95,'MDA3'!L95,V95,AD95)","v":31715},{"$f":"MAX('MDA1'!L95,'MDA2'!L95,'MDA3'!J95,'MDA3'!M95,AF95)","v":0},31715,54.793973233953885]
[{"$f":"IF(COUNTRY_INFO!A96=0,\" \",COUNTRY_INFO!A96)","v":"Mozambique"},{"$f":"IF(COUNTRY_INFO!B96=0,\" \",COUNTRY_INFO!B96)","v":"Tete"},{"$f":"IF(COUNTRY_INFO!C96=0,\" \",COUNTRY_INFO!C96)","v":"Marávia"},{"$f":"COUNTRY_INFO!L96","v":0},null,null,{"$f":"MAX('MDA1'!M96,'MDA2'!M96)","v":0},{"$f":"IF(AND(COUNTRY_INFO!H96>0,COUNTRY_INFO!H96<4),IF(D96>MAX('MDA1'!M96,'MDA2'!M96),MAX('MDA1'!M96,'MDA2'!M96),D96),0)","v":0},{"$f":"IF(AND(COUNTRY_INFO!H96>0,COUNTRY_INFO!H96<4), IF(G96/D96*100<>0, IF(G96/D96*100>100,100,G96/D96*100), \"-\"),0)","v":0},{"$f":"COUNTRY_INFO!M96","v":"Not required"},null,null,{"$f":"MAX('MDA1'!M96,MAX('MDA3'!I96,'MDA3'!L96)+MAX('MDA3'!J96,'MDA3'!M96))","v":0},{"$f":"IF(AND(COUNTRY_INFO!I96>0,COUNTRY_INFO!I96<4),IF(J96>MAX('MDA1'!M96,MAX('MDA3'!I96,'MDA3'!L96)+MAX('MDA3'!J96,'MDA3'!M96)),MAX('MDA1'!M96,MAX('MDA3'!I96,'MDA3'!L96)+MAX('MDA3'!J96,'MDA3'!M96)),J96),0)","v":0},{"$f":"IF(AND(COUNTRY_INFO!I96>0,COUNTRY_INFO!I96<4), IF(M96/J96*100<>0, IF(M96/J96*100>100,100,M96/J96*100), \"-\"),0)","v":0},{"$f":"COUNTRY_INFO!N96","v":47185},null,null,{"$f":"SUM(MAX('MDA2'!J96, 'T1'!L96, MAX(T3_R1!K96, T3_R2!K96)), MAX('MDA1'!K96, 'MDA2'!K96, 'T1'!M96, MAX(T3_R1!L96, T3_R2!L96)), MAX('MDA1'!L96, 'MDA2'!L96, 'T1'!N96, MAX(T3_R1!M96, T3_R2!M96)))","v":29667},{"$f":"IF(AND(COUNTRY_INFO!J96>1,COUNTRY_INFO!J96<4),IF(COUNTRY_INFO!E96>MAX('MDA2'!J96,'T1'!L96,MAX(T3_R1!K96,T3_R2!K96)),MAX('MDA2'!J96,'T1'!L96,MAX(T3_R1!K96,T3_R2!K96)),COUNTRY_INFO!E96),0)","v":0},{"$f":"IF(AND(COUNTRY_INFO!J96>1,COUNTRY_INFO!J96<4), IF(T96/COUNTRY_INFO!E96*100<>0, IF(T96/COUNTRY_INFO!E96*100>100,100,T96/COUNTRY_INFO!E96*100), \"-\"),0)","v":"-"},{"$f":"IF(AND(COUNTRY_INFO!J96>1,COUNTRY_INFO!J96<4),IF(COUNTRY_INFO!F96>MAX('MDA1'!K96,'MDA2'!K96,'T1'!M96,MAX(T3_R1!L96,T3_R2!L96)),MAX('MDA1'!K96,'MDA2'!K96,'T1'!M96,MAX(T3_R1!L96,T3_R2!L96)),COUNTRY_INFO!F96),0)","v":29667},{"$f":"IF(AND(COUNTRY_INFO!J96>1,COUNTRY_INFO!J96<4), IF(V96/COUNTRY_INFO!F96*100<>0, IF(V96/COUNTRY_INFO!F96*100>100,100,V96/COUNTRY_INFO!F96*100), \"-\"),0)","v":88.921859545004949},29667,{"$f":"IF(AND(COUNTRY_INFO!J96>1,COUNTRY_INFO!J96<4), IF(S96/P96*100<>0, IF(X96/P96*100>100,100,X96/P96*100), \"-\"),0)","v":62.873794638126526},{"$f":"COUNTRY_INFO!O96","v":30384.300000000003},14917,14750,{"$f":"MAX('T1'!L96,'T2'!J96)+MAX('T1'!M96,'T2'!K96)+MAX('T1'!N96,'T2'!L96)","v":29667},{"$f":"IF(COUNTRY_INFO!K96=1,IF(COUNTRY_INFO!F96*0.33>MAX('T1'!M96,'T2'!K96),MAX('T1'!M96,'T2'!K96),COUNTRY_INFO!F96*0.33),IF(COUNTRY_INFO!K96=2,IF(COUNTRY_INFO!F96*0.5>MAX('T1'!M96,'T2'!K96),MAX('T1'!M96,'T2'!K96),COUNTRY_INFO!F96*0.5),IF(COUNTRY_INFO!K96=3,IF(COUNTRY_INFO!F96>MAX('T1'!M96,'T2'!K96),MAX('T1'!M96,'T2'!K96),COUNTRY_INFO!F96),0)))","v":16681.5},{"$f":"IF(AND(COUNTRY_INFO!K96>0,COUNTRY_INFO!K96<4),IF(Z96>0,IF(COUNTRY_INFO!K96=1, AD96/(COUNTRY_INFO!F96*0.33)*100, IF(COUNTRY_INFO!K96=2, AD96/(COUNTRY_INFO!F96*0.5)*100, IF(COUNTRY_INFO!K96=3, AD96/COUNTRY_INFO!F96*100))),\"-\"),0)","v":100},{"$f":"IF(COUNTRY_INFO!K96=2,IF(COUNTRY_INFO!G96*0.2>MAX('T1'!N96,'T2'!L96),MAX('T1'!N96,'T2'!L96),COUNTRY_INFO!G96*0.2),IF(COUNTRY_INFO!K96=3,IF(COUNTRY_INFO!G96>MAX('T1'!N96,'T2'!L96),MAX('T1'!N96,'T2'!L96),COUNTRY_INFO!G96),0))","v":0},{"$f":"IF(AND(COUNTRY_INFO!K96>0,COUNTRY_INFO!K96<4),IF(Z96>0,IF(COUNTRY_INFO!K96=1, 0, IF(COUNTRY_INFO!K96=2, AF96/(COUNTRY_INFO!G96*0.2)*100, IF(COUNTRY_INFO!K96=3, AF96/COUNTRY_INFO!G96*100))),\"-\"),0)","v":0},16681.5,{"$f":"IF(AND(COUNTRY_INFO!K96>0,COUNTRY_INFO!K96<4), IF(AC96/Z96*100<>0, IF(AH96/Z96*100>100,100,AH96/Z96*100), \"-\"),0)","v":54.901709106347681},null,{"$f":"IF(AND(D96<>0, D96<>\"Unknown\",D96<>\"Stopped\",D96<>\"Not required\"),D96/COUNTRY_INFO!D96, 0)","v":0},{"$f":"IF(AND(J96<>0,J96<>\"Unknown\",J96<>\"Stopped\",J96<>\"Not required\"),J96/COUNTRY_INFO!D96, 0)","v":0},{"$f":"IF(AND(P96<>0,P96<>\"Unknown\",P96<>\"Not required\"),P96/(COUNTRY_INFO!E96+COUNTRY_INFO!F96), 0)","v":1},{"$f":"IF(AND(Z96<>0,Z96<>\"Unknown\",Z96<>\"Not required\"),IF(COUNTRY_INFO!K96=1,1,IF(COUNTRY_INFO!K96=2,0.5*COUNTRY_INFO!F96/(0.5*COUNTRY_INFO!F96+0.2*COUNTRY_INFO!G96),IF(COUNTRY_INFO!K96=3,COUNTRY_INFO!F96/(COUNTRY_INFO!F96+COUNTRY_INFO!G96)))),0)","v":0.54901709106347685},{"$f":"IF(AND(Z96<>0,Z96<>\"Unknown\",Z96<>\"Not required\"),IF(COUNTRY_INFO!K96=1,0,IF(COUNTRY_INFO!K96=2,0.2*COUNTRY_INFO!G96/(0.5*COUNTRY_INFO!F96+0.2*COUNTRY_INFO!G96),IF(COUNTRY_INFO!K96=3,COUNTRY_INFO!G96/(COUNTRY_INFO!F96+COUNTRY_INFO!G96)))),0)","v":0.45098290893652315},{"$f":"MAX(COUNTRY_INFO!D96*AK96*PROFILE!$G$7,COUNTRY_INFO!D96*AL96*PROFILE!$G$7)","v":0},{"$f":"MAX(COUNTRY_INFO!D96*AK96*PROFILE!$G$8,COUNTRY_INFO!D96*AL96*PROFILE!$G$8,COUNTRY_INFO!D96*AM96*PROFILE!$G$8)","v":13821.900538870155},{"$f":"MAX(COUNTRY_INFO!D96*AK96*PROFILE!$G$9,COUNTRY_INFO!D96*AL96*PROFILE!$G$9,COUNTRY_INFO!D96*AM96*PROFILE!$G$9,IF(AND(DISTRICT!Z96<>\"Unknown\",Z96<>\"Not required\"),COUNTRY_INFO!O96*DISTRICT!AN96,0))","v":33363.240107851088},{"$f":"MAX(COUNTRY_INFO!D96*AK96*PROFILE!$G$10,COUNTRY_INFO!D96*AL96*PROFILE!$G$10,IF(AND(DISTRICT!Z96<>\"Unknown\",Z96<>\"Not required\"),COUNTRY_INFO!O96*DISTRICT!AO96,0))","v":13702.800000000001},60887.940646721247,"Y",{"$f":"MAX('MDA2'!J96,'T1'!L96,'T2'!J96,T3_R1!K96,T3_R2!K96)","v":0},{"$f":"MAX('MDA1'!K96,'MDA2'!K96,'MDA3'!I96,'MDA3'!L96,'T1'!M96,'T2'!K96,T3_R1!L96,T3_R2!L96)","v":29667},{"$f":"MAX('MDA1'!L96,'MDA2'!L96,'MDA3'!J96,'MDA3'!M96,'T1'!N96,'T2'!L96,T3_R1!M96,T3_R2!M96)","v":0},29667,{"$f":"MAX('MDA2'!J96,T96)","v":0},{"$f":"MAX('MDA1'!K96,'MDA2'!K96,'MDA3'!I96,'MDA3'!L96,V96,AD96)","v":29667},{"$f":"MAX('MDA1'!L96,'MDA2'!L96,'MDA3'!J96,'MDA3'!M96,AF96)","v":0},29667,48.723933975910441]
[{"$f":"IF(COUNTRY_INFO!A97=0,\" \",COUNTRY_INFO!A97)","v":"Mozambique"},{"$f":"IF(COUNTRY_INFO!B97=0,\" \",COUNTRY_INFO!B97)","v":"Tete"},{"$f":"IF(COUNTRY_INFO!C97=0,\" \",COUNTRY_INFO!C97)","v":"Marara"},{"$f":"COUNTRY_INFO!L97","v":"Stopped"},null,null,{"$f":"MAX('MDA1'!M97,'MDA2'!M97)","v":0},{"$f":"IF(AND(COUNTRY_INFO!H97>0,COUNTRY_INFO!H97<4),IF(D97>MAX('MDA1'!M97,'MDA2'!M97),MAX('MDA1'!M97,'MDA2'!M97),D97),0)","v":0},{"$f":"IF(AND(COUNTRY_INFO!H97>0,COUNTRY_INFO!H97<4), IF(G97/D97*100<>0, IF(G97/D97*100>100,100,G97/D97*100), \"-\"),0)","v":0},{"$f":"COUNTRY_INFO!M97","v":"Not required"},null,null,{"$f":"MAX('MDA1'!M97,MAX('MDA3'!I97,'MDA3'!L97)+MAX('MDA3'!J97,'MDA3'!M97))","v":0},{"$f":"IF(AND(COUNTRY_INFO!I97>0,COUNTRY_INFO!I97<4),IF(J97>MAX('MDA1'!M97,MAX('MDA3'!I97,'MDA3'!L97)+MAX('MDA3'!J97,'MDA3'!M97)),MAX('MDA1'!M97,MAX('MDA3'!I97,'MDA3'!L97)+MAX('MDA3'!J97,'MDA3'!M97)),J97),0)","v":0},{"$f":"IF(AND(COUNTRY_INFO!I97>0,COUNTRY_INFO!I97<4), IF(M97/J97*100<>0, IF(M97/J97*100>100,100,M97/J97*100), \"-\"),0)","v":0},{"$f":"COUNTRY_INFO!N97","v":40832},null,null,{"$f":"SUM(MAX('MDA2'!J97, 'T1'!L97, MAX(T3_R1!K97, T3_R2!K97)), MAX('MDA1'!K97, 'MDA2'!K97, 'T1'!M97, MAX(T3_R1!L97, T3_R2!L97)), MAX('MDA1'!L97, 'MDA2'!L97, 'T1'!N97, MAX(T3_R1!M97, T3_R2!M97)))","v":32860},{"$f":"IF(AND(COUNTRY_INFO!J97>1,COUNTRY_INFO!J97<4),IF(COUNTRY_INFO!E97>MAX('MDA2'!J97,'T1'!L97,MAX(T3_R1!K97,T3_R2!K97)),MAX('MDA2'!J97,'T1'!L97,MAX(T3_R1!K97,T3_R2!K97)),COUNTRY_INFO!E97),0)","v":0},{"$f":"IF(AND(COUNTRY_INFO!J97>1,COUNTRY_INFO!J97<4), IF(T97/COUNTRY_INFO!E97*100<>0, IF(T97/COUNTRY_INFO!E97*100>100,100,T97/COUNTRY_INFO!E97*100), \"-\"),0)","v":"-"},{"$f":"IF(AND(COUNTRY_INFO!J97>1,COUNTRY_INFO!J97<4),IF(COUNTRY_INFO!F97>MAX('MDA1'!K97,'MDA2'!K97,'T1'!M97,MAX(T3_R1!L97,T3_R2!L97)),MAX('MDA1'!K97,'MDA2'!K97,'T1'!M97,MAX(T3_R1!L97,T3_R2!L97)),COUNTRY_INFO!F97),0)","v":28871},{"$f":"IF(AND(COUNTRY_INFO!J97>1,COUNTRY_INFO!J97<4), IF(V97/COUNTRY_INFO!F97*100<>0, IF(V97/COUNTRY_INFO!F97*100>100,100,V97/COUNTRY_INFO!F97*100), \"-\"),0)","v":100},28871,{"$f":"IF(AND(COUNTRY_INFO!J97>1,COUNTRY_INFO!J97<4), IF(S97/P97*100<>0, IF(X97/P97*100>100,100,X97/P97*100), \"-\"),0)","v":70.706798589341687},{"$f":"COUNTRY_INFO!O97","v":26293.5},15582,17278,{"$f":"MAX('T1'!L97,'T2'!J97)+MAX('T1'!M97,'T2'!K97)+MAX('T1'!N97,'T2'!L97)","v":32860},{"$f":"IF(COUNTRY_INFO!K97=1,IF(COUNTRY_INFO!F97*0.33>MAX('T1'!M97,'T2'!K97),MAX('T1'!M97,'T2'!K97),COUNTRY_INFO!F97*0.33),IF(COUNTRY_INFO!K97=2,IF(COUNTRY_INFO!F97*0.5>MAX('T1'!M97,'T2'!K97),MAX('T1'!M97,'T2'!K97),COUNTRY_INFO!F97*0.5),IF(COUNTRY_INFO!K97=3,IF(COUNTRY_INFO!F97>MAX('T1'!M97,'T2'!K97),MAX('T1'!M97,'T2'!K97),COUNTRY_INFO!F97),0)))","v":14435.5},{"$f":"IF(AND(COUNTRY_INFO!K97>0,COUNTRY_INFO!K97<4),IF(Z97>0,IF(COUNTRY_INFO!K97=1, AD97/(COUNTRY_INFO!F97*0.33)*100, IF(COUNTRY_INFO!K97=2, AD97/(COUNTRY_INFO!F97*0.5)*100, IF(COUNTRY_INFO!K97=3, AD97/COUNTRY_INFO!F97*100))),\"-\"),0)","v":100},{"$f":"IF(COUNTRY_INFO!K97=2,IF(COUNTRY_INFO!G97*0.2>MAX('T1'!N97,'T2'!L97),MAX('T1'!N97,'T2'!L97),COUNTRY_INFO!G97*0.2),IF(COUNTRY_INFO!K97=3,IF(COUNTRY_INFO!G97>MAX('T1'!N97,'T2'!L97),MAX('T1'!N97,'T2'!L97),COUNTRY_INFO!G97),0))","v":0},{"$f":"IF(AND(COUNTRY_INFO!K97>0,COUNTRY_INFO!K97<4),IF(Z97>0,IF(COUNTRY_INFO!K97=1, 0, IF(COUNTRY_INFO!K97=2, AF97/(COUNTRY_INFO!G97*0.2)*100, IF(COUNTRY_INFO!K97=3, AF97/COUNTRY_INFO!G97*100))),\"-\"),0)","v":0},14435.5,{"$f":"IF(AND(COUNTRY_INFO!K97>0,COUNTRY_INFO!K97<4), IF(AC97/Z97*100<>0, IF(AH97/Z97*100>100,100,AH97/Z97*100), \"-\"),0)","v":54.901401487059545},null,{"$f":"IF(AND(D97<>0, D97<>\"Unknown\",D97<>\"Stopped\",D97<>\"Not required\"),D97/COUNTRY_INFO!D97, 0)","v":0},{"$f":"IF(AND(J97<>0,J97<>\"Unknown\",J97<>\"Stopped\",J97<>\"Not required\"),J97/COUNTRY_INFO!D97, 0)","v":0},{"$f":"IF(AND(P97<>0,P97<>\"Unknown\",P97<>\"Not required\"),P97/(COUNTRY_INFO!E97+COUNTRY_INFO!F97), 0)","v":1},{"$f":"IF(AND(Z97<>0,Z97<>\"Unknown\",Z97<>\"Not required\"),IF(COUNTRY_INFO!K97=1,1,IF(COUNTRY_INFO!K97=2,0.5*COUNTRY_INFO!F97/(0.5*COUNTRY_INFO!F97+0.2*COUNTRY_INFO!G97),IF(COUNTRY_INFO!K97=3,COUNTRY_INFO!F97/(COUNTRY_INFO!F97+COUNTRY_INFO!G97)))),0)","v":0.54901401487059542},{"$f":"IF(AND(Z97<>0,Z97<>\"Unknown\",Z97<>\"Not required\"),IF(COUNTRY_INFO!K97=1,0,IF(COUNTRY_INFO!K97=2,0.2*COUNTRY_INFO!G97/(0.5*COUNTRY_INFO!F97+0.2*COUNTRY_INFO!G97),IF(COUNTRY_INFO!K97=3,COUNTRY_INFO!G97/(COUNTRY_INFO!F97+COUNTRY_INFO!G97)))),0)","v":0.45098598512940463},{"$f":"MAX(COUNTRY_INFO!D97*AK97*PROFILE!$G$7,COUNTRY_INFO!D97*AL97*PROFILE!$G$7)","v":0},{"$f":"MAX(COUNTRY_INFO!D97*AK97*PROFILE!$G$8,COUNTRY_INFO!D97*AL97*PROFILE!$G$8,COUNTRY_INFO!D97*AM97*PROFILE!$G$8)","v":11961.024883447966},{"$f":"MAX(COUNTRY_INFO!D97*AK97*PROFILE!$G$9,COUNTRY_INFO!D97*AL97*PROFILE!$G$9,COUNTRY_INFO!D97*AM97*PROFILE!$G$9,IF(AND(DISTRICT!Z97<>\"Unknown\",Z97<>\"Not required\"),COUNTRY_INFO!O97*DISTRICT!AN97,0))","v":28871.466988220447},{"$f":"MAX(COUNTRY_INFO!D97*AK97*PROFILE!$G$10,COUNTRY_INFO!D97*AL97*PROFILE!$G$10,IF(AND(DISTRICT!Z97<>\"Unknown\",Z97<>\"Not required\"),COUNTRY_INFO!O97*DISTRICT!AO97,0))","v":11858},52690.491871668411,"Y",{"$f":"MAX('MDA2'!J97,'T1'!L97,'T2'!J97,T3_R1!K97,T3_R2!K97)","v":0},{"$f":"MAX('MDA1'!K97,'MDA2'!K97,'MDA3'!I97,'MDA3'!L97,'T1'!M97,'T2'!K97,T3_R1!L97,T3_R2!L97)","v":32860},{"$f":"MAX('MDA1'!L97,'MDA2'!L97,'MDA3'!J97,'MDA3'!M97,'T1'!N97,'T2'!L97,T3_R1!M97,T3_R2!M97)","v":0},32860,{"$f":"MAX('MDA2'!J97,T97)","v":0},{"$f":"MAX('MDA1'!K97,'MDA2'!K97,'MDA3'!I97,'MDA3'!L97,V97,AD97)","v":28871},{"$f":"MAX('MDA1'!L97,'MDA2'!L97,'MDA3'!J97,'MDA3'!M97,AF97)","v":0},28871,54.793567063897328]
[{"$f":"IF(COUNTRY_INFO!A98=0,\" \",COUNTRY_INFO!A98)","v":"Mozambique"},{"$f":"IF(COUNTRY_INFO!B98=0,\" \",COUNTRY_INFO!B98)","v":"Tete"},{"$f":"IF(COUNTRY_INFO!C98=0,\" \",COUNTRY_INFO!C98)","v":"Moatize"},{"$f":"COUNTRY_INFO!L98","v":"Stopped"},null,null,{"$f":"MAX('MDA1'!M98,'MDA2'!M98)","v":0},{"$f":"IF(AND(COUNTRY_INFO!H98>0,COUNTRY_INFO!H98<4),IF(D98>MAX('MDA1'!M98,'MDA2'!M98),MAX('MDA1'!M98,'MDA2'!M98),D98),0)","v":0},{"$f":"IF(AND(COUNTRY_INFO!H98>0,COUNTRY_INFO!H98<4), IF(G98/D98*100<>0, IF(G98/D98*100>100,100,G98/D98*100), \"-\"),0)","v":0},{"$f":"COUNTRY_INFO!M98","v":"Not required"},null,null,{"$f":"MAX('MDA1'!M98,MAX('MDA3'!I98,'MDA3'!L98)+MAX('MDA3'!J98,'MDA3'!M98))","v":0},{"$f":"IF(AND(COUNTRY_INFO!I98>0,COUNTRY_INFO!I98<4),IF(J98>MAX('MDA1'!M98,MAX('MDA3'!I98,'MDA3'!L98)+MAX('MDA3'!J98,'MDA3'!M98)),MAX('MDA1'!M98,MAX('MDA3'!I98,'MDA3'!L98)+MAX('MDA3'!J98,'MDA3'!M98)),J98),0)","v":0},{"$f":"IF(AND(COUNTRY_INFO!I98>0,COUNTRY_INFO!I98<4), IF(M98/J98*100<>0, IF(M98/J98*100>100,100,M98/J98*100), \"-\"),0)","v":0},{"$f":"COUNTRY_INFO!N98","v":165791},null,null,{"$f":"SUM(MAX('MDA2'!J98, 'T1'!L98, MAX(T3_R1!K98, T3_R2!K98)), MAX('MDA1'!K98, 'MDA2'!K98, 'T1'!M98, MAX(T3_R1!L98, T3_R2!L98)), MAX('MDA1'!L98, 'MDA2'!L98, 'T1'!N98, MAX(T3_R1!M98, T3_R2!M98)))","v":108851},{"$f":"IF(AND(COUNTRY_INFO!J98>1,COUNTRY_INFO!J98<4),IF(COUNTRY_INFO!E98>MAX('MDA2'!J98,'T1'!L98,MAX(T3_R1!K98,T3_R2!K98)),MAX('MDA2'!J98,'T1'!L98,MAX(T3_R1!K98,T3_R2!K98)),COUNTRY_INFO!E98),0)","v":0},{"$f":"IF(AND(COUNTRY_INFO!J98>1,COUNTRY_INFO!J98<4), IF(T98/COUNTRY_INFO!E98*100<>0, IF(T98/COUNTRY_INFO!E98*100>100,100,T98/COUNTRY_INFO!E98*100), \"-\"),0)","v":"-"},{"$f":"IF(AND(COUNTRY_INFO!J98>1,COUNTRY_INFO!J98<4),IF(COUNTRY_INFO!F98>MAX('MDA1'!K98,'MDA2'!K98,'T1'!M98,MAX(T3_R1!L98,T3_R2!L98)),MAX('MDA1'!K98,'MDA2'!K98,'T1'!M98,MAX(T3_R1!L98,T3_R2!L98)),COUNTRY_INFO!F98),0)","v":108851},{"$f":"IF(AND(COUNTRY_INFO!J98>1,COUNTRY_INFO!J98<4), IF(V98/COUNTRY_INFO!F98*100<>0, IF(V98/COUNTRY_INFO!F98*100>100,100,V98/COUNTRY_INFO!F98*100), \"-\"),0)","v":92.855680480439489},108851,{"$f":"IF(AND(COUNTRY_INFO!J98>1,COUNTRY_INFO!J98<4), IF(S98/P98*100<>0, IF(X98/P98*100>100,100,X98/P98*100), \"-\"),0)","v":65.655554282198665},{"$f":"COUNTRY_INFO!O98","v":106759.20000000001},54070,54781,{"$f":"MAX('T1'!L98,'T2'!J98)+MAX('T1'!M98,'T2'!K98)+MAX('T1'!N98,'T2'!L98)","v":108851},{"$f":"IF(COUNTRY_INFO!K98=1,IF(COUNTRY_INFO!F98*0.33>MAX('T1'!M98,'T2'!K98),MAX('T1'!M98,'T2'!K98),COUNTRY_INFO!F98*0.33),IF(COUNTRY_INFO!K98=2,IF(COUNTRY_INFO!F98*0.5>MAX('T1'!M98,'T2'!K98),MAX('T1'!M98,'T2'!K98),COUNTRY_INFO!F98*0.5),IF(COUNTRY_INFO!K98=3,IF(COUNTRY_INFO!F98>MAX('T1'!M98,'T2'!K98),MAX('T1'!M98,'T2'!K98),COUNTRY_INFO!F98),0)))","v":58613},{"$f":"IF(AND(COUNTRY_INFO!K98>0,COUNTRY_INFO!K98<4),IF(Z98>0,IF(COUNTRY_INFO!K98=1, AD98/(COUNTRY_INFO!F98*0.33)*100, IF(COUNTRY_INFO!K98=2, AD98/(COUNTRY_INFO!F98*0.5)*100, IF(COUNTRY_INFO!K98=3, AD98/COUNTRY_INFO!F98*100))),\"-\"),0)","v":100},{"$f":"IF(COUNTRY_INFO!K98=2,IF(COUNTRY_INFO!G98*0.2>MAX('T1'!N98,'T2'!L98),MAX('T1'!N98,'T2'!L98),COUNTRY_INFO!G98*0.2),IF(COUNTRY_INFO!K98=3,IF(COUNTRY_INFO!G98>MAX('T1'!N98,'T2'!L98),MAX('T1'!N98,'T2'!L98),COUNTRY_INFO!G98),0))","v":0},{"$f":"IF(AND(COUNTRY_INFO!K98>0,COUNTRY_INFO!K98<4),IF(Z98>0,IF(COUNTRY_INFO!K98=1, 0, IF(COUNTRY_INFO!K98=2, AF98/(COUNTRY_INFO!G98*0.2)*100, IF(COUNTRY_INFO!K98=3, AF98/COUNTRY_INFO!G98*100))),\"-\"),0)","v":0},58613,{"$f":"IF(AND(COUNTRY_INFO!K98>0,COUNTRY_INFO!K98<4), IF(AC98/Z98*100<>0, IF(AH98/Z98*100>100,100,AH98/Z98*100), \"-\"),0)","v":54.902059962982108},null,{"$f":"IF(AND(D98<>0, D98<>\"Unknown\",D98<>\"Stopped\",D98<>\"Not required\"),D98/COUNTRY_INFO!D98, 0)","v":0},{"$f":"IF(AND(J98<>0,J98<>\"Unknown\",J98<>\"Stopped\",J98<>\"Not required\"),J98/COUNTRY_INFO!D98, 0)","v":0},{"$f":"IF(AND(P98<>0,P98<>\"Unknown\",P98<>\"Not required\"),P98/(COUNTRY_INFO!E98+COUNTRY_INFO!F98), 0)","v":1},{"$f":"IF(AND(Z98<>0,Z98<>\"Unknown\",Z98<>\"Not required\"),IF(COUNTRY_INFO!K98=1,1,IF(COUNTRY_INFO!K98=2,0.5*COUNTRY_INFO!F98/(0.5*COUNTRY_INFO!F98+0.2*COUNTRY_INFO!G98),IF(COUNTRY_INFO!K98=3,COUNTRY_INFO!F98/(COUNTRY_INFO!F98+COUNTRY_INFO!G98)))),0)","v":0.54902059962982108},{"$f":"IF(AND(Z98<>0,Z98<>\"Unknown\",Z98<>\"Not required\"),IF(COUNTRY_INFO!K98=1,0,IF(COUNTRY_INFO!K98=2,0.2*COUNTRY_INFO!G98/(0.5*COUNTRY_INFO!F98+0.2*COUNTRY_INFO!G98),IF(COUNTRY_INFO!K98=3,COUNTRY_INFO!G98/(COUNTRY_INFO!F98+COUNTRY_INFO!G98)))),0)","v":0.45097940037017886},{"$f":"MAX(COUNTRY_INFO!D98*AK98*PROFILE!$G$7,COUNTRY_INFO!D98*AL98*PROFILE!$G$7)","v":0},{"$f":"MAX(COUNTRY_INFO!D98*AK98*PROFILE!$G$8,COUNTRY_INFO!D98*AL98*PROFILE!$G$8,COUNTRY_INFO!D98*AM98*PROFILE!$G$8)","v":48564.853018220419},{"$f":"MAX(COUNTRY_INFO!D98*AK98*PROFILE!$G$9,COUNTRY_INFO!D98*AL98*PROFILE!$G$9,COUNTRY_INFO!D98*AM98*PROFILE!$G$9,IF(AND(DISTRICT!Z98<>\"Unknown\",Z98<>\"Not required\"),COUNTRY_INFO!O98*DISTRICT!AN98,0))","v":117225.61940688304},{"$f":"MAX(COUNTRY_INFO!D98*AK98*PROFILE!$G$10,COUNTRY_INFO!D98*AL98*PROFILE!$G$10,IF(AND(DISTRICT!Z98<>\"Unknown\",Z98<>\"Not required\"),COUNTRY_INFO!O98*DISTRICT!AO98,0))","v":48146.200000000004},213936.67242510346,"Y",{"$f":"MAX('MDA2'!J98,'T1'!L98,'T2'!J98,T3_R1!K98,T3_R2!K98)","v":0},{"$f":"MAX('MDA1'!K98,'MDA2'!K98,'MDA3'!I98,'MDA3'!L98,'T1'!M98,'T2'!K98,T3_R1!L98,T3_R2!L98)","v":108851},{"$f":"MAX('MDA1'!L98,'MDA2'!L98,'MDA3'!J98,'MDA3'!M98,'T1'!N98,'T2'!L98,T3_R1!M98,T3_R2!M98)","v":0},108851,{"$f":"MAX('MDA2'!J98,T98)","v":0},{"$f":"MAX('MDA1'!K98,'MDA2'!K98,'MDA3'!I98,'MDA3'!L98,V98,AD98)","v":108851},{"$f":"MAX('MDA1'!L98,'MDA2'!L98,'MDA3'!J98,'MDA3'!M98,AF98)","v":0},108851,50.88000984875903]
[{"$f":"IF(COUNTRY_INFO!A99=0,\" \",COUNTRY_INFO!A99)","v":"Mozambique"},{"$f":"IF(COUNTRY_INFO!B99=0,\" \",COUNTRY_INFO!B99)","v":"Tete"},{"$f":"IF(COUNTRY_INFO!C99=0,\" \",COUNTRY_INFO!C99)","v":"Mutarara"},{"$f":"COUNTRY_INFO!L99","v":224516.74537543274},null,null,{"$f":"MAX('MDA1'!M99,'MDA2'!M99)","v":180751},{"$f":"IF(AND(COUNTRY_INFO!H99>0,COUNTRY_INFO!H99<4),IF(D99>MAX('MDA1'!M99,'MDA2'!M99),MAX('MDA1'!M99,'MDA2'!M99),D99),0)","v":180751},{"$f":"IF(AND(COUNTRY_INFO!H99>0,COUNTRY_INFO!H99<4), IF(G99/D99*100<>0, IF(G99/D99*100>100,100,G99/D99*100), \"-\"),0)","v":80.506689912038198},{"$f":"COUNTRY_INFO!M99","v":"Not required"},null,null,{"$f":"MAX('MDA1'!M99,MAX('MDA3'!I99,'MDA3'!L99)+MAX('MDA3'!J99,'MDA3'!M99))","v":180751},{"$f":"IF(AND(COUNTRY_INFO!I99>0,COUNTRY_INFO!I99<4),IF(J99>MAX('MDA1'!M99,MAX('MDA3'!I99,'MDA3'!L99)+MAX('MDA3'!J99,'MDA3'!M99)),MAX('MDA1'!M99,MAX('MDA3'!I99,'MDA3'!L99)+MAX('MDA3'!J99,'MDA3'!M99)),J99),0)","v":0},{"$f":"IF(AND(COUNTRY_INFO!I99>0,COUNTRY_INFO!I99<4), IF(M99/J99*100<>0, IF(M99/J99*100>100,100,M99/J99*100), \"-\"),0)","v":0},{"$f":"COUNTRY_INFO!N99","v":88909},null,null,{"$f":"SUM(MAX('MDA2'!J99, 'T1'!L99, MAX(T3_R1!K99, T3_R2!K99)), MAX('MDA1'!K99, 'MDA2'!K99, 'T1'!M99, MAX(T3_R1!L99, T3_R2!L99)), MAX('MDA1'!L99, 'MDA2'!L99, 'T1'!N99, MAX(T3_R1!M99, T3_R2!M99)))","v":180751},{"$f":"IF(AND(COUNTRY_INFO!J99>1,COUNTRY_INFO!J99<4),IF(COUNTRY_INFO!E99>MAX('MDA2'!J99,'T1'!L99,MAX(T3_R1!K99,T3_R2!K99)),MAX('MDA2'!J99,'T1'!L99,MAX(T3_R1!K99,T3_R2!K99)),COUNTRY_INFO!E99),0)","v":0},{"$f":"IF(AND(COUNTRY_INFO!J99>1,COUNTRY_INFO!J99<4), IF(T99/COUNTRY_INFO!E99*100<>0, IF(T99/COUNTRY_INFO!E99*100>100,100,T99/COUNTRY_INFO!E99*100), \"-\"),0)","v":"-"},{"$f":"IF(AND(COUNTRY_INFO!J99>1,COUNTRY_INFO!J99<4),IF(COUNTRY_INFO!F99>MAX('MDA1'!K99,'MDA2'!K99,'T1'!M99,MAX(T3_R1!L99,T3_R2!L99)),MAX('MDA1'!K99,'MDA2'!K99,'T1'!M99,MAX(T3_R1!L99,T3_R2!L99)),COUNTRY_INFO!F99),0)","v":62865},{"$f":"IF(AND(COUNTRY_INFO!J99>1,COUNTRY_INFO!J99<4), IF(V99/COUNTRY_INFO!F99*100<>0, IF(V99/COUNTRY_INFO!F99*100>100,100,V99/COUNTRY_INFO!F99*100), \"-\"),0)","v":100},62865,{"$f":"IF(AND(COUNTRY_INFO!J99>1,COUNTRY_INFO!J99<4), IF(S99/P99*100<>0, IF(X99/P99*100>100,100,X99/P99*100), \"-\"),0)","v":70.707127512400319},{"$f":"COUNTRY_INFO!O99","v":191962},31412,32818,{"$f":"MAX('T1'!L99,'T2'!J99)+MAX('T1'!M99,'T2'!K99)+MAX('T1'!N99,'T2'!L99)","v":64230},{"$f":"IF(COUNTRY_INFO!K99=1,IF(COUNTRY_INFO!F99*0.33>MAX('T1'!M99,'T2'!K99),MAX('T1'!M99,'T2'!K99),COUNTRY_INFO!F99*0.33),IF(COUNTRY_INFO!K99=2,IF(COUNTRY_INFO!F99*0.5>MAX('T1'!M99,'T2'!K99),MAX('T1'!M99,'T2'!K99),COUNTRY_INFO!F99*0.5),IF(COUNTRY_INFO!K99=3,IF(COUNTRY_INFO!F99>MAX('T1'!M99,'T2'!K99),MAX('T1'!M99,'T2'!K99),COUNTRY_INFO!F99),0)))","v":62865},{"$f":"IF(AND(COUNTRY_INFO!K99>0,COUNTRY_INFO!K99<4),IF(Z99>0,IF(COUNTRY_INFO!K99=1, AD99/(COUNTRY_INFO!F99*0.33)*100, IF(COUNTRY_INFO!K99=2, AD99/(COUNTRY_INFO!F99*0.5)*100, IF(COUNTRY_INFO!K99=3, AD99/COUNTRY_INFO!F99*100))),\"-\"),0)","v":100},{"$f":"IF(COUNTRY_INFO!K99=2,IF(COUNTRY_INFO!G99*0.2>MAX('T1'!N99,'T2'!L99),MAX('T1'!N99,'T2'!L99),COUNTRY_INFO!G99*0.2),IF(COUNTRY_INFO!K99=3,IF(COUNTRY_INFO!G99>MAX('T1'!N99,'T2'!L99),MAX('T1'!N99,'T2'!L99),COUNTRY_INFO!G99),0))","v":0},{"$f":"IF(AND(COUNTRY_INFO!K99>0,COUNTRY_INFO!K99<4),IF(Z99>0,IF(COUNTRY_INFO!K99=1, 0, IF(COUNTRY_INFO!K99=2, AF99/(COUNTRY_INFO!G99*0.2)*100, IF(COUNTRY_INFO!K99=3, AF99/COUNTRY_INFO!G99*100))),\"-\"),0)","v":0},62865,{"$f":"IF(AND(COUNTRY_INFO!K99>0,COUNTRY_INFO!K99<4), IF(AC99/Z99*100<>0, IF(AH99/Z99*100>100,100,AH99/Z99*100), \"-\"),0)","v":32.748669007407713},null,{"$f":"IF(AND(D99<>0, D99<>\"Unknown\",D99<>\"Stopped\",D99<>\"Not required\"),D99/COUNTRY_INFO!D99, 0)","v":1},{"$f":"IF(AND(J99<>0,J99<>\"Unknown\",J99<>\"Stopped\",J99<>\"Not required\"),J99/COUNTRY_INFO!D99, 0)","v":0},{"$f":"IF(AND(P99<>0,P99<>\"Unknown\",P99<>\"Not required\"),P99/(COUNTRY_INFO!E99+COUNTRY_INFO!F99), 0)","v":1},{"$f":"IF(AND(Z99<>0,Z99<>\"Unknown\",Z99<>\"Not required\"),IF(COUNTRY_INFO!K99=1,1,IF(COUNTRY_INFO!K99=2,0.5*COUNTRY_INFO!F99/(0.5*COUNTRY_INFO!F99+0.2*COUNTRY_INFO!G99),IF(COUNTRY_INFO!K99=3,COUNTRY_INFO!F99/(COUNTRY_INFO!F99+COUNTRY_INFO!G99)))),0)","v":0.32748669007407716},{"$f":"IF(AND(Z99<>0,Z99<>\"Unknown\",Z99<>\"Not required\"),IF(COUNTRY_INFO!K99=1,0,IF(COUNTRY_INFO!K99=2,0.2*COUNTRY_INFO!G99/(0.5*COUNTRY_INFO!F99+0.2*COUNTRY_INFO!G99),IF(COUNTRY_INFO!K99=3,COUNTRY_INFO!G99/(COUNTRY_INFO!F99+COUNTRY_INFO!G99)))),0)","v":0.67251330992592284},{"$f":"MAX(COUNTRY_INFO!D99*AK99*PROFILE!$G$7,COUNTRY_INFO!D99*AL99*PROFILE!$G$7)","v":6511.044903448168},{"$f":"MAX(COUNTRY_INFO!D99*AK99*PROFILE!$G$8,COUNTRY_INFO!D99*AL99*PROFILE!$G$8,COUNTRY_INFO!D99*AM99*PROFILE!$G$8)","v":26043.904431996842},{"$f":"MAX(COUNTRY_INFO!D99*AK99*PROFILE!$G$9,COUNTRY_INFO!D99*AL99*PROFILE!$G$9,COUNTRY_INFO!D99*AM99*PROFILE!$G$9,IF(AND(DISTRICT!Z99<>\"Unknown\",Z99<>\"Not required\"),COUNTRY_INFO!O99*DISTRICT!AN99,0))","v":62865},{"$f":"MAX(COUNTRY_INFO!D99*AK99*PROFILE!$G$10,COUNTRY_INFO!D99*AL99*PROFILE!$G$10,IF(AND(DISTRICT!Z99<>\"Unknown\",Z99<>\"Not required\"),COUNTRY_INFO!O99*DISTRICT!AO99,0))","v":129097.13900768753},224517.08834313252,"Y",{"$f":"MAX('MDA2'!J99,'T1'!L99,'T2'!J99,T3_R1!K99,T3_R2!K99)","v":0},{"$f":"MAX('MDA1'!K99,'MDA2'!K99,'MDA3'!I99,'MDA3'!L99,'T1'!M99,'T2'!K99,T3_R1!L99,T3_R2!L99)","v":64230},{"$f":"MAX('MDA1'!L99,'MDA2'!L99,'MDA3'!J99,'MDA3'!M99,'T1'!N99,'T2'!L99,T3_R1!M99,T3_R2!M99)","v":116521},180751,{"$f":"MAX('MDA2'!J99,T99)","v":0},{"$f":"MAX('MDA1'!K99,'MDA2'!K99,'MDA3'!I99,'MDA3'!L99,V99,AD99)","v":64230},{"$f":"MAX('MDA1'!L99,'MDA2'!L99,'MDA3'!J99,'MDA3'!M99,AF99)","v":116521},180751,80.50656693166971]
[{"$f":"IF(COUNTRY_INFO!A100=0,\" \",COUNTRY_INFO!A100)","v":"Mozambique"},{"$f":"IF(COUNTRY_INFO!B100=0,\" \",COUNTRY_INFO!B100)","v":"Tete"},{"$f":"IF(COUNTRY_INFO!C100=0,\" \",COUNTRY_INFO!C100)","v":"Tsangano"},{"$f":"COUNTRY_INFO!L100","v":"Stopped"},null,null,{"$f":"MAX('MDA1'!M100,'MDA2'!M100)","v":0},{"$f":"IF(AND(COUNTRY_INFO!H100>0,COUNTRY_INFO!H100<4),IF(D100>MAX('MDA1'!M100,'MDA2'!M100),MAX('MDA1'!M100,'MDA2'!M100),D100),0)","v":0},{"$f":"IF(AND(COUNTRY_INFO!H100>0,COUNTRY_INFO!H100<4), IF(G100/D100*100<>0, IF(G100/D100*100>100,100,G100/D100*100), \"-\"),0)","v":0},{"$f":"COUNTRY_INFO!M100","v":"Not required"},null,null,{"$f":"MAX('MDA1'!M100,MAX('MDA3'!I100,'MDA3'!L100)+MAX('MDA3'!J100,'MDA3'!M100))","v":0},{"$f":"IF(AND(COUNTRY_INFO!I100>0,COUNTRY_INFO!I100<4),IF(J100>MAX('MDA1'!M100,MAX('MDA3'!I100,'MDA3'!L100)+MAX('MDA3'!J100,'MDA3'!M100)),MAX('MDA1'!M100,MAX('MDA3'!I100,'MDA3'!L100)+MAX('MDA3'!J100,'MDA3'!M100)),J100),0)","v":0},{"$f":"IF(AND(COUNTRY_INFO!I100>0,COUNTRY_INFO!I100<4), IF(M100/J100*100<>0, IF(M100/J100*100>100,100,M100/J100*100), \"-\"),0)","v":0},{"$f":"COUNTRY_INFO!N100","v":98233},null,null,{"$f":"SUM(MAX('MDA2'!J100, 'T1'!L100, MAX(T3_R1!K100, T3_R2!K100)), MAX('MDA1'!K100, 'MDA2'!K100, 'T1'!M100, MAX(T3_R1!L100, T3_R2!L100)), MAX('MDA1'!L100, 'MDA2'!L100, 'T1'!N100, MAX(T3_R1!M100, T3_R2!M100)))","v":69432},{"$f":"IF(AND(COUNTRY_INFO!J100>1,COUNTRY_INFO!J100<4),IF(COUNTRY_INFO!E100>MAX('MDA2'!J100,'T1'!L100,MAX(T3_R1!K100,T3_R2!K100)),MAX('MDA2'!J100,'T1'!L100,MAX(T3_R1!K100,T3_R2!K100)),COUNTRY_INFO!E100),0)","v":0},{"$f":"IF(AND(COUNTRY_INFO!J100>1,COUNTRY_INFO!J100<4), IF(T100/COUNTRY_INFO!E100*100<>0, IF(T100/COUNTRY_INFO!E100*100>100,100,T100/COUNTRY_INFO!E100*100), \"-\"),0)","v":"-"},{"$f":"IF(AND(COUNTRY_INFO!J100>1,COUNTRY_INFO!J100<4),IF(COUNTRY_INFO!F100>MAX('MDA1'!K100,'MDA2'!K100,'T1'!M100,MAX(T3_R1!L100,T3_R2!L100)),MAX('MDA1'!K100,'MDA2'!K100,'T1'!M100,MAX(T3_R1!L100,T3_R2!L100)),COUNTRY_INFO!F100),0)","v":69432},{"$f":"IF(AND(COUNTRY_INFO!J100>1,COUNTRY_INFO!J100<4), IF(V100/COUNTRY_INFO!F100*100<>0, IF(V100/COUNTRY_INFO!F100*100>100,100,V100/COUNTRY_INFO!F100*100), \"-\"),0)","v":99.9625673068617},69432,{"$f":"IF(AND(COUNTRY_INFO!J100>1,COUNTRY_INFO!J100<4), IF(S100/P100*100<>0, IF(X100/P100*100>100,100,X100/P100*100), \"-\"),0)","v":70.680932069671087},{"$f":"COUNTRY_INFO!O100","v":63256.2},32002,37430,{"$f":"MAX('T1'!L100,'T2'!J100)+MAX('T1'!M100,'T2'!K100)+MAX('T1'!N100,'T2'!L100)","v":69432},{"$f":"IF(COUNTRY_INFO!K100=1,IF(COUNTRY_INFO!F100*0.33>MAX('T1'!M100,'T2'!K100),MAX('T1'!M100,'T2'!K100),COUNTRY_INFO!F100*0.33),IF(COUNTRY_INFO!K100=2,IF(COUNTRY_INFO!F100*0.5>MAX('T1'!M100,'T2'!K100),MAX('T1'!M100,'T2'!K100),COUNTRY_INFO!F100*0.5),IF(COUNTRY_INFO!K100=3,IF(COUNTRY_INFO!F100>MAX('T1'!M100,'T2'!K100),MAX('T1'!M100,'T2'!K100),COUNTRY_INFO!F100),0)))","v":34729},{"$f":"IF(AND(COUNTRY_INFO!K100>0,COUNTRY_INFO!K100<4),IF(Z100>0,IF(COUNTRY_INFO!K100=1, AD100/(COUNTRY_INFO!F100*0.33)*100, IF(COUNTRY_INFO!K100=2, AD100/(COUNTRY_INFO!F100*0.5)*100, IF(COUNTRY_INFO!K100=3, AD100/COUNTRY_INFO!F100*100))),\"-\"),0)","v":100},{"$f":"IF(COUNTRY_INFO!K100=2,IF(COUNTRY_INFO!G100*0.2>MAX('T1'!N100,'T2'!L100),MAX('T1'!N100,'T2'!L100),COUNTRY_INFO!G100*0.2),IF(COUNTRY_INFO!K100=3,IF(COUNTRY_INFO!G100>MAX('T1'!N100,'T2'!L100),MAX('T1'!N100,'T2'!L100),COUNTRY_INFO!G100),0))","v":0},{"$f":"IF(AND(COUNTRY_INFO!K100>0,COUNTRY_INFO!K100<4),IF(Z100>0,IF(COUNTRY_INFO!K100=1, 0, IF(COUNTRY_INFO!K100=2, AF100/(COUNTRY_INFO!G100*0.2)*100, IF(COUNTRY_INFO!K100=3, AF100/COUNTRY_INFO!G100*100))),\"-\"),0)","v":0},34729,{"$f":"IF(AND(COUNTRY_INFO!K100>0,COUNTRY_INFO!K100<4), IF(AC100/Z100*100<>0, IF(AH100/Z100*100>100,100,AH100/Z100*100), \"-\"),0)","v":54.902128170835432},null,{"$f":"IF(AND(D100<>0, D100<>\"Unknown\",D100<>\"Stopped\",D100<>\"Not required\"),D100/COUNTRY_INFO!D100, 0)","v":0},{"$f":"IF(AND(J100<>0,J100<>\"Unknown\",J100<>\"Stopped\",J100<>\"Not required\"),J100/COUNTRY_INFO!D100, 0)","v":0},{"$f":"IF(AND(P100<>0,P100<>\"Unknown\",P100<>\"Not required\"),P100/(COUNTRY_INFO!E100+COUNTRY_INFO!F100), 0)","v":1},{"$f":"IF(AND(Z100<>0,Z100<>\"Unknown\",Z100<>\"Not required\"),IF(COUNTRY_INFO!K100=1,1,IF(COUNTRY_INFO!K100=2,0.5*COUNTRY_INFO!F100/(0.5*COUNTRY_INFO!F100+0.2*COUNTRY_INFO!G100),IF(COUNTRY_INFO!K100=3,COUNTRY_INFO!F100/(COUNTRY_INFO!F100+COUNTRY_INFO!G100)))),0)","v":0.54902128170835429},{"$f":"IF(AND(Z100<>0,Z100<>\"Unknown\",Z100<>\"Not required\"),IF(COUNTRY_INFO!K100=1,0,IF(COUNTRY_INFO!K100=2,0.2*COUNTRY_INFO!G100/(0.5*COUNTRY_INFO!F100+0.2*COUNTRY_INFO!G100),IF(COUNTRY_INFO!K100=3,COUNTRY_INFO!G100/(COUNTRY_INFO!F100+COUNTRY_INFO!G100)))),0)","v":0.45097871829164576},{"$f":"MAX(COUNTRY_INFO!D100*AK100*PROFILE!$G$7,COUNTRY_INFO!D100*AL100*PROFILE!$G$7)","v":0},{"$f":"MAX(COUNTRY_INFO!D100*AK100*PROFILE!$G$8,COUNTRY_INFO!D100*AL100*PROFILE!$G$8,COUNTRY_INFO!D100*AM100*PROFILE!$G$8)","v":28775.234144105187},{"$f":"MAX(COUNTRY_INFO!D100*AK100*PROFILE!$G$9,COUNTRY_INFO!D100*AL100*PROFILE!$G$9,COUNTRY_INFO!D100*AM100*PROFILE!$G$9,IF(AND(DISTRICT!Z100<>\"Unknown\",Z100<>\"Not required\"),COUNTRY_INFO!O100*DISTRICT!AN100,0))","v":69457.528160443006},{"$f":"MAX(COUNTRY_INFO!D100*AK100*PROFILE!$G$10,COUNTRY_INFO!D100*AL100*PROFILE!$G$10,IF(AND(DISTRICT!Z100<>\"Unknown\",Z100<>\"Not required\"),COUNTRY_INFO!O100*DISTRICT!AO100,0))","v":28527.200000000001},126759.96230454819,"Y",{"$f":"MAX('MDA2'!J100,'T1'!L100,'T2'!J100,T3_R1!K100,T3_R2!K100)","v":0},{"$f":"MAX('MDA1'!K100,'MDA2'!K100,'MDA3'!I100,'MDA3'!L100,'T1'!M100,'T2'!K100,T3_R1!L100,T3_R2!L100)","v":69432},{"$f":"MAX('MDA1'!L100,'MDA2'!L100,'MDA3'!J100,'MDA3'!M100,'T1'!N100,'T2'!L100,T3_R1!M100,T3_R2!M100)","v":0},69432,{"$f":"MAX('MDA2'!J100,T100)","v":0},{"$f":"MAX('MDA1'!K100,'MDA2'!K100,'MDA3'!I100,'MDA3'!L100,V100,AD100)","v":69432},{"$f":"MAX('MDA1'!L100,'MDA2'!L100,'MDA3'!J100,'MDA3'!M100,AF100)","v":0},69432,54.774393063628068]
[{"$f":"IF(COUNTRY_INFO!A101=0,\" \",COUNTRY_INFO!A101)","v":"Mozambique"},{"$f":"IF(COUNTRY_INFO!B101=0,\" \",COUNTRY_INFO!B101)","v":"Tete"},{"$f":"IF(COUNTRY_INFO!C101=0,\" \",COUNTRY_INFO!C101)","v":"Zumbu"},{"$f":"COUNTRY_INFO!L101","v":"Stopped"},null,null,{"$f":"MAX('MDA1'!M101,'MDA2'!M101)","v":0},{"$f":"IF(AND(COUNTRY_INFO!H101>0,COUNTRY_INFO!H101<4),IF(D101>MAX('MDA1'!M101,'MDA2'!M101),MAX('MDA1'!M101,'MDA2'!M101),D101),0)","v":0},{"$f":"IF(AND(COUNTRY_INFO!H101>0,COUNTRY_INFO!H101<4), IF(G101/D101*100<>0, IF(G101/D101*100>100,100,G101/D101*100), \"-\"),0)","v":0},{"$f":"COUNTRY_INFO!M101","v":"Not required"},null,null,{"$f":"MAX('MDA1'!M101,MAX('MDA3'!I101,'MDA3'!L101)+MAX('MDA3'!J101,'MDA3'!M101))","v":0},{"$f":"IF(AND(COUNTRY_INFO!I101>0,COUNTRY_INFO!I101<4),IF(J101>MAX('MDA1'!M101,MAX('MDA3'!I101,'MDA3'!L101)+MAX('MDA3'!J101,'MDA3'!M101)),MAX('MDA1'!M101,MAX('MDA3'!I101,'MDA3'!L101)+MAX('MDA3'!J101,'MDA3'!M101)),J101),0)","v":0},{"$f":"IF(AND(COUNTRY_INFO!I101>0,COUNTRY_INFO!I101<4), IF(M101/J101*100<>0, IF(M101/J101*100>100,100,M101/J101*100), \"-\"),0)","v":0},{"$f":"COUNTRY_INFO!N101","v":35233},null,null,{"$f":"SUM(MAX('MDA2'!J101, 'T1'!L101, MAX(T3_R1!K101, T3_R2!K101)), MAX('MDA1'!K101, 'MDA2'!K101, 'T1'!M101, MAX(T3_R1!L101, T3_R2!L101)), MAX('MDA1'!L101, 'MDA2'!L101, 'T1'!N101, MAX(T3_R1!M101, T3_R2!M101)))","v":22676},{"$f":"IF(AND(COUNTRY_INFO!J101>1,COUNTRY_INFO!J101<4),IF(COUNTRY_INFO!E101>MAX('MDA2'!J101,'T1'!L101,MAX(T3_R1!K101,T3_R2!K101)),MAX('MDA2'!J101,'T1'!L101,MAX(T3_R1!K101,T3_R2!K101)),COUNTRY_INFO!E101),0)","v":0},{"$f":"IF(AND(COUNTRY_INFO!J101>1,COUNTRY_INFO!J101<4), IF(T101/COUNTRY_INFO!E101*100<>0, IF(T101/COUNTRY_INFO!E101*100>100,100,T101/COUNTRY_INFO!E101*100), \"-\"),0)","v":"-"},{"$f":"IF(AND(COUNTRY_INFO!J101>1,COUNTRY_INFO!J101<4),IF(COUNTRY_INFO!F101>MAX('MDA1'!K101,'MDA2'!K101,'T1'!M101,MAX(T3_R1!L101,T3_R2!L101)),MAX('MDA1'!K101,'MDA2'!K101,'T1'!M101,MAX(T3_R1!L101,T3_R2!L101)),COUNTRY_INFO!F101),0)","v":22676},{"$f":"IF(AND(COUNTRY_INFO!J101>1,COUNTRY_INFO!J101<4), IF(V101/COUNTRY_INFO!F101*100<>0, IF(V101/COUNTRY_INFO!F101*100>100,100,V101/COUNTRY_INFO!F101*100), \"-\"),0)","v":91.024405908798983},22676,{"$f":"IF(AND(COUNTRY_INFO!J101>1,COUNTRY_INFO!J101<4), IF(S101/P101*100<>0, IF(X101/P101*100>100,100,X101/P101*100), \"-\"),0)","v":64.360116935827207},{"$f":"COUNTRY_INFO!O101","v":22687.800000000003},10328,12348,{"$f":"MAX('T1'!L101,'T2'!J101)+MAX('T1'!M101,'T2'!K101)+MAX('T1'!N101,'T2'!L101)","v":22676},{"$f":"IF(COUNTRY_INFO!K101=1,IF(COUNTRY_INFO!F101*0.33>MAX('T1'!M101,'T2'!K101),MAX('T1'!M101,'T2'!K101),COUNTRY_INFO!F101*0.33),IF(COUNTRY_INFO!K101=2,IF(COUNTRY_INFO!F101*0.5>MAX('T1'!M101,'T2'!K101),MAX('T1'!M101,'T2'!K101),COUNTRY_INFO!F101*0.5),IF(COUNTRY_INFO!K101=3,IF(COUNTRY_INFO!F101>MAX('T1'!M101,'T2'!K101),MAX('T1'!M101,'T2'!K101),COUNTRY_INFO!F101),0)))","v":12456},{"$f":"IF(AND(COUNTRY_INFO!K101>0,COUNTRY_INFO!K101<4),IF(Z101>0,IF(COUNTRY_INFO!K101=1, AD101/(COUNTRY_INFO!F101*0.33)*100, IF(COUNTRY_INFO!K101=2, AD101/(COUNTRY_INFO!F101*0.5)*100, IF(COUNTRY_INFO!K101=3, AD101/COUNTRY_INFO!F101*100))),\"-\"),0)","v":100},{"$f":"IF(COUNTRY_INFO!K101=2,IF(COUNTRY_INFO!G101*0.2>MAX('T1'!N101,'T2'!L101),MAX('T1'!N101,'T2'!L101),COUNTRY_INFO!G101*0.2),IF(COUNTRY_INFO!K101=3,IF(COUNTRY_INFO!G101>MAX('T1'!N101,'T2'!L101),MAX('T1'!N101,'T2'!L101),COUNTRY_INFO!G101),0))","v":0},{"$f":"IF(AND(COUNTRY_INFO!K101>0,COUNTRY_INFO!K101<4),IF(Z101>0,IF(COUNTRY_INFO!K101=1, 0, IF(COUNTRY_INFO!K101=2, AF101/(COUNTRY_INFO!G101*0.2)*100, IF(COUNTRY_INFO!K101=3, AF101/COUNTRY_INFO!G101*100))),\"-\"),0)","v":0},12456,{"$f":"IF(AND(COUNTRY_INFO!K101>0,COUNTRY_INFO!K101<4), IF(AC101/Z101*100<>0, IF(AH101/Z101*100>100,100,AH101/Z101*100), \"-\"),0)","v":54.901753365244751},null,{"$f":"IF(AND(D101<>0, D101<>\"Unknown\",D101<>\"Stopped\",D101<>\"Not required\"),D101/COUNTRY_INFO!D101, 0)","v":0},{"$f":"IF(AND(J101<>0,J101<>\"Unknown\",J101<>\"Stopped\",J101<>\"Not required\"),J101/COUNTRY_INFO!D101, 0)","v":0},{"$f":"IF(AND(P101<>0,P101<>\"Unknown\",P101<>\"Not required\"),P101/(COUNTRY_INFO!E101+COUNTRY_INFO!F101), 0)","v":1},{"$f":"IF(AND(Z101<>0,Z101<>\"Unknown\",Z101<>\"Not required\"),IF(COUNTRY_INFO!K101=1,1,IF(COUNTRY_INFO!K101=2,0.5*COUNTRY_INFO!F101/(0.5*COUNTRY_INFO!F101+0.2*COUNTRY_INFO!G101),IF(COUNTRY_INFO!K101=3,COUNTRY_INFO!F101/(COUNTRY_INFO!F101+COUNTRY_INFO!G101)))),0)","v":0.54901753365244754},{"$f":"IF(AND(Z101<>0,Z101<>\"Unknown\",Z101<>\"Not required\"),IF(COUNTRY_INFO!K101=1,0,IF(COUNTRY_INFO!K101=2,0.2*COUNTRY_INFO!G101/(0.5*COUNTRY_INFO!F101+0.2*COUNTRY_INFO!G101),IF(COUNTRY_INFO!K101=3,COUNTRY_INFO!G101/(COUNTRY_INFO!F101+COUNTRY_INFO!G101)))),0)","v":0.4509824663475524},{"$f":"MAX(COUNTRY_INFO!D101*AK101*PROFILE!$G$7,COUNTRY_INFO!D101*AL101*PROFILE!$G$7)","v":0},{"$f":"MAX(COUNTRY_INFO!D101*AK101*PROFILE!$G$8,COUNTRY_INFO!D101*AL101*PROFILE!$G$8,COUNTRY_INFO!D101*AM101*PROFILE!$G$8)","v":10320.719732222948},{"$f":"MAX(COUNTRY_INFO!D101*AK101*PROFILE!$G$9,COUNTRY_INFO!D101*AL101*PROFILE!$G$9,COUNTRY_INFO!D101*AM101*PROFILE!$G$9,IF(AND(DISTRICT!Z101<>\"Unknown\",Z101<>\"Not required\"),COUNTRY_INFO!O101*DISTRICT!AN101,0))","v":24912.105939675472},{"$f":"MAX(COUNTRY_INFO!D101*AK101*PROFILE!$G$10,COUNTRY_INFO!D101*AL101*PROFILE!$G$10,IF(AND(DISTRICT!Z101<>\"Unknown\",Z101<>\"Not required\"),COUNTRY_INFO!O101*DISTRICT!AO101,0))","v":10231.800000000001},45464.625671898422,"Y",{"$f":"MAX('MDA2'!J101,'T1'!L101,'T2'!J101,T3_R1!K101,T3_R2!K101)","v":0},{"$f":"MAX('MDA1'!K101,'MDA2'!K101,'MDA3'!I101,'MDA3'!L101,'T1'!M101,'T2'!K101,T3_R1!L101,T3_R2!L101)","v":22676},{"$f":"MAX('MDA1'!L101,'MDA2'!L101,'MDA3'!J101,'MDA3'!M101,'T1'!N101,'T2'!L101,T3_R1!M101,T3_R2!M101)","v":0},22676,{"$f":"MAX('MDA2'!J101,T101)","v":0},{"$f":"MAX('MDA1'!K101,'MDA2'!K101,'MDA3'!I101,'MDA3'!L101,V101,AD101)","v":22676},{"$f":"MAX('MDA1'!L101,'MDA2'!L101,'MDA3'!J101,'MDA3'!M101,AF101)","v":0},22676,49.876139228868617]
[{"$f":"IF(COUNTRY_INFO!A102=0,\" \",COUNTRY_INFO!A102)","v":"Mozambique"},{"$f":"IF(COUNTRY_INFO!B102=0,\" \",COUNTRY_INFO!B102)","v":"Sofala"},{"$f":"IF(COUNTRY_INFO!C102=0,\" \",COUNTRY_INFO!C102)","v":"Cid Beira"},{"$f":"COUNTRY_INFO!L102","v":465917.95422993129},null,null,{"$f":"MAX('MDA1'!M102,'MDA2'!M102)","v":303768},{"$f":"IF(AND(COUNTRY_INFO!H102>0,COUNTRY_INFO!H102<4),IF(D102>MAX('MDA1'!M102,'MDA2'!M102),MAX('MDA1'!M102,'MDA2'!M102),D102),0)","v":303768},{"$f":"IF(AND(COUNTRY_INFO!H102>0,COUNTRY_INFO!H102<4), IF(G102/D102*100<>0, IF(G102/D102*100>100,100,G102/D102*100), \"-\"),0)","v":65.197745062661824},{"$f":"COUNTRY_INFO!M102","v":"Not required"},null,null,{"$f":"MAX('MDA1'!M102,MAX('MDA3'!I102,'MDA3'!L102)+MAX('MDA3'!J102,'MDA3'!M102))","v":303768},{"$f":"IF(AND(COUNTRY_INFO!I102>0,COUNTRY_INFO!I102<4),IF(J102>MAX('MDA1'!M102,MAX('MDA3'!I102,'MDA3'!L102)+MAX('MDA3'!J102,'MDA3'!M102)),MAX('MDA1'!M102,MAX('MDA3'!I102,'MDA3'!L102)+MAX('MDA3'!J102,'MDA3'!M102)),J102),0)","v":0},{"$f":"IF(AND(COUNTRY_INFO!I102>0,COUNTRY_INFO!I102<4), IF(M102/J102*100<>0, IF(M102/J102*100>100,100,M102/J102*100), \"-\"),0)","v":0},{"$f":"COUNTRY_INFO!N102","v":184503},null,null,{"$f":"SUM(MAX('MDA2'!J102, 'T1'!L102, MAX(T3_R1!K102, T3_R2!K102)), MAX('MDA1'!K102, 'MDA2'!K102, 'T1'!M102, MAX(T3_R1!L102, T3_R2!L102)), MAX('MDA1'!L102, 'MDA2'!L102, 'T1'!N102, MAX(T3_R1!M102, T3_R2!M102)))","v":303768},{"$f":"IF(AND(COUNTRY_INFO!J102>1,COUNTRY_INFO!J102<4),IF(COUNTRY_INFO!E102>MAX('MDA2'!J102,'T1'!L102,MAX(T3_R1!K102,T3_R2!K102)),MAX('MDA2'!J102,'T1'!L102,MAX(T3_R1!K102,T3_R2!K102)),COUNTRY_INFO!E102),0)","v":0},{"$f":"IF(AND(COUNTRY_INFO!J102>1,COUNTRY_INFO!J102<4), IF(T102/COUNTRY_INFO!E102*100<>0, IF(T102/COUNTRY_INFO!E102*100>100,100,T102/COUNTRY_INFO!E102*100), \"-\"),0)","v":"-"},{"$f":"IF(AND(COUNTRY_INFO!J102>1,COUNTRY_INFO!J102<4),IF(COUNTRY_INFO!F102>MAX('MDA1'!K102,'MDA2'!K102,'T1'!M102,MAX(T3_R1!L102,T3_R2!L102)),MAX('MDA1'!K102,'MDA2'!K102,'T1'!M102,MAX(T3_R1!L102,T3_R2!L102)),COUNTRY_INFO!F102),0)","v":130457},{"$f":"IF(AND(COUNTRY_INFO!J102>1,COUNTRY_INFO!J102<4), IF(V102/COUNTRY_INFO!F102*100<>0, IF(V102/COUNTRY_INFO!F102*100>100,100,V102/COUNTRY_INFO!F102*100), \"-\"),0)","v":100},130457,{"$f":"IF(AND(COUNTRY_INFO!J102>1,COUNTRY_INFO!J102<4), IF(S102/P102*100<>0, IF(X102/P102*100>100,100,X102/P102*100), \"-\"),0)","v":70.707251372606407},{"$f":"COUNTRY_INFO!O102","v":398360},77609,81303,{"$f":"MAX('T1'!L102,'T2'!J102)+MAX('T1'!M102,'T2'!K102)+MAX('T1'!N102,'T2'!L102)","v":158912},{"$f":"IF(COUNTRY_INFO!K102=1,IF(COUNTRY_INFO!F102*0.33>MAX('T1'!M102,'T2'!K102),MAX('T1'!M102,'T2'!K102),COUNTRY_INFO!F102*0.33),IF(COUNTRY_INFO!K102=2,IF(COUNTRY_INFO!F102*0.5>MAX('T1'!M102,'T2'!K102),MAX('T1'!M102,'T2'!K102),COUNTRY_INFO!F102*0.5),IF(COUNTRY_INFO!K102=3,IF(COUNTRY_INFO!F102>MAX('T1'!M102,'T2'!K102),MAX('T1'!M102,'T2'!K102),COUNTRY_INFO!F102),0)))","v":130457},{"$f":"IF(AND(COUNTRY_INFO!K102>0,COUNTRY_INFO!K102<4),IF(Z102>0,IF(COUNTRY_INFO!K102=1, AD102/(COUNTRY_INFO!F102*0.33)*100, IF(COUNTRY_INFO!K102=2, AD102/(COUNTRY_INFO!F102*0.5)*100, IF(COUNTRY_INFO!K102=3, AD102/COUNTRY_INFO!F102*100))),\"-\"),0)","v":100},{"$f":"IF(COUNTRY_INFO!K102=2,IF(COUNTRY_INFO!G102*0.2>MAX('T1'!N102,'T2'!L102),MAX('T1'!N102,'T2'!L102),COUNTRY_INFO!G102*0.2),IF(COUNTRY_INFO!K102=3,IF(COUNTRY_INFO!G102>MAX('T1'!N102,'T2'!L102),MAX('T1'!N102,'T2'!L102),COUNTRY_INFO!G102),0))","v":0},{"$f":"IF(AND(COUNTRY_INFO!K102>0,COUNTRY_INFO!K102<4),IF(Z102>0,IF(COUNTRY_INFO!K102=1, 0, IF(COUNTRY_INFO!K102=2, AF102/(COUNTRY_INFO!G102*0.2)*100, IF(COUNTRY_INFO!K102=3, AF102/COUNTRY_INFO!G102*100))),\"-\"),0)","v":0},130457,{"$f":"IF(AND(COUNTRY_INFO!K102>0,COUNTRY_INFO!K102<4), IF(AC102/Z102*100<>0, IF(AH102/Z102*100>100,100,AH102/Z102*100), \"-\"),0)","v":32.748518927603172},null,{"$f":"IF(AND(D102<>0, D102<>\"Unknown\",D102<>\"Stopped\",D102<>\"Not required\"),D102/COUNTRY_INFO!D102, 0)","v":1},{"$f":"IF(AND(J102<>0,J102<>\"Unknown\",J102<>\"Stopped\",J102<>\"Not required\"),J102/COUNTRY_INFO!D102, 0)","v":0},{"$f":"IF(AND(P102<>0,P102<>\"Unknown\",P102<>\"Not required\"),P102/(COUNTRY_INFO!E102+COUNTRY_INFO!F102), 0)","v":1},{"$f":"IF(AND(Z102<>0,Z102<>\"Unknown\",Z102<>\"Not required\"),IF(COUNTRY_INFO!K102=1,1,IF(COUNTRY_INFO!K102=2,0.5*COUNTRY_INFO!F102/(0.5*COUNTRY_INFO!F102+0.2*COUNTRY_INFO!G102),IF(COUNTRY_INFO!K102=3,COUNTRY_INFO!F102/(COUNTRY_INFO!F102+COUNTRY_INFO!G102)))),0)","v":0.32748518927603171},{"$f":"IF(AND(Z102<>0,Z102<>\"Unknown\",Z102<>\"Not required\"),IF(COUNTRY_INFO!K102=1,0,IF(COUNTRY_INFO!K102=2,0.2*COUNTRY_INFO!G102/(0.5*COUNTRY_INFO!F102+0.2*COUNTRY_INFO!G102),IF(COUNTRY_INFO!K102=3,COUNTRY_INFO!G102/(COUNTRY_INFO!F102+COUNTRY_INFO!G102)))),0)","v":0.67251481072396824},{"$f":"MAX(COUNTRY_INFO!D102*AK102*PROFILE!$G$7,COUNTRY_INFO!D102*AL102*PROFILE!$G$7)","v":13511.743706426174},{"$f":"MAX(COUNTRY_INFO!D102*AK102*PROFILE!$G$8,COUNTRY_INFO!D102*AL102*PROFILE!$G$8,COUNTRY_INFO!D102*AM102*PROFILE!$G$8)","v":54046.403767456279},{"$f":"MAX(COUNTRY_INFO!D102*AK102*PROFILE!$G$9,COUNTRY_INFO!D102*AL102*PROFILE!$G$9,COUNTRY_INFO!D102*AM102*PROFILE!$G$9,IF(AND(DISTRICT!Z102<>\"Unknown\",Z102<>\"Not required\"),COUNTRY_INFO!O102*DISTRICT!AN102,0))","v":130456.99999999999},{"$f":"MAX(COUNTRY_INFO!D102*AK102*PROFILE!$G$10,COUNTRY_INFO!D102*AL102*PROFILE!$G$10,IF(AND(DISTRICT!Z102<>\"Unknown\",Z102<>\"Not required\"),COUNTRY_INFO!O102*DISTRICT!AO102,0))","v":267903},465918.14747388242,"Y",{"$f":"MAX('MDA2'!J102,'T1'!L102,'T2'!J102,T3_R1!K102,T3_R2!K102)","v":0},{"$f":"MAX('MDA1'!K102,'MDA2'!K102,'MDA3'!I102,'MDA3'!L102,'T1'!M102,'T2'!K102,T3_R1!L102,T3_R2!L102)","v":159219},{"$f":"MAX('MDA1'!L102,'MDA2'!L102,'MDA3'!J102,'MDA3'!M102,'T1'!N102,'T2'!L102,T3_R1!M102,T3_R2!M102)","v":144549},303768,{"$f":"MAX('MDA2'!J102,T102)","v":0},{"$f":"MAX('MDA1'!K102,'MDA2'!K102,'MDA3'!I102,'MDA3'!L102,V102,AD102)","v":159219},{"$f":"MAX('MDA1'!L102,'MDA2'!L102,'MDA3'!J102,'MDA3'!M102,AF102)","v":144549},303768,65.197718021281432]
[{"$f":"IF(COUNTRY_INFO!A103=0,\" \",COUNTRY_INFO!A103)","v":"Mozambique"},{"$f":"IF(COUNTRY_INFO!B103=0,\" \",COUNTRY_INFO!B103)","v":"Sofala"},{"$f":"IF(COUNTRY_INFO!C103=0,\" \",COUNTRY_INFO!C103)","v":"Buzi"},{"$f":"COUNTRY_INFO!L103","v":0},null,null,{"$f":"MAX('MDA1'!M103,'MDA2'!M103)","v":0},{"$f":"IF(AND(COUNTRY_INFO!H103>0,COUNTRY_INFO!H103<4),IF(D103>MAX('MDA1'!M103,'MDA2'!M103),MAX('MDA1'!M103,'MDA2'!M103),D103),0)","v":0},{"$f":"IF(AND(COUNTRY_INFO!H103>0,COUNTRY_INFO!H103<4), IF(G103/D103*100<>0, IF(G103/D103*100>100,100,G103/D103*100), \"-\"),0)","v":0},{"$f":"COUNTRY_INFO!M103","v":"Not required"},null,null,{"$f":"MAX('MDA1'!M103,MAX('MDA3'!I103,'MDA3'!L103)+MAX('MDA3'!J103,'MDA3'!M103))","v":0},{"$f":"IF(AND(COUNTRY_INFO!I103>0,COUNTRY_INFO!I103<4),IF(J103>MAX('MDA1'!M103,MAX('MDA3'!I103,'MDA3'!L103)+MAX('MDA3'!J103,'MDA3'!M103)),MAX('MDA1'!M103,MAX('MDA3'!I103,'MDA3'!L103)+MAX('MDA3'!J103,'MDA3'!M103)),J103),0)","v":0},{"$f":"IF(AND(COUNTRY_INFO!I103>0,COUNTRY_INFO!I103<4), IF(M103/J103*100<>0, IF(M103/J103*100>100,100,M103/J103*100), \"-\"),0)","v":0},{"$f":"COUNTRY_INFO!N103","v":82222},null,null,{"$f":"SUM(MAX('MDA2'!J103, 'T1'!L103, MAX(T3_R1!K103, T3_R2!K103)), MAX('MDA1'!K103, 'MDA2'!K103, 'T1'!M103, MAX(T3_R1!L103, T3_R2!L103)), MAX('MDA1'!L103, 'MDA2'!L103, 'T1'!N103, MAX(T3_R1!M103, T3_R2!M103)))","v":37218},{"$f":"IF(AND(COUNTRY_INFO!J103>1,COUNTRY_INFO!J103<4),IF(COUNTRY_INFO!E103>MAX('MDA2'!J103,'T1'!L103,MAX(T3_R1!K103,T3_R2!K103)),MAX('MDA2'!J103,'T1'!L103,MAX(T3_R1!K103,T3_R2!K103)),COUNTRY_INFO!E103),0)","v":0},{"$f":"IF(AND(COUNTRY_INFO!J103>1,COUNTRY_INFO!J103<4), IF(T103/COUNTRY_INFO!E103*100<>0, IF(T103/COUNTRY_INFO!E103*100>100,100,T103/COUNTRY_INFO!E103*100), \"-\"),0)","v":"-"},{"$f":"IF(AND(COUNTRY_INFO!J103>1,COUNTRY_INFO!J103<4),IF(COUNTRY_INFO!F103>MAX('MDA1'!K103,'MDA2'!K103,'T1'!M103,MAX(T3_R1!L103,T3_R2!L103)),MAX('MDA1'!K103,'MDA2'!K103,'T1'!M103,MAX(T3_R1!L103,T3_R2!L103)),COUNTRY_INFO!F103),0)","v":37218},{"$f":"IF(AND(COUNTRY_INFO!J103>1,COUNTRY_INFO!J103<4), IF(V103/COUNTRY_INFO!F103*100<>0, IF(V103/COUNTRY_INFO!F103*100>100,100,V103/COUNTRY_INFO!F103*100), \"-\"),0)","v":64.017751173951183},37218,{"$f":"IF(AND(COUNTRY_INFO!J103>1,COUNTRY_INFO!J103<4), IF(S103/P103*100<>0, IF(X103/P103*100>100,100,X103/P103*100), \"-\"),0)","v":45.265257473668846},{"$f":"COUNTRY_INFO!O103","v":52946.100000000006},18414,18804,{"$f":"MAX('T1'!L103,'T2'!J103)+MAX('T1'!M103,'T2'!K103)+MAX('T1'!N103,'T2'!L103)","v":37218},{"$f":"IF(COUNTRY_INFO!K103=1,IF(COUNTRY_INFO!F103*0.33>MAX('T1'!M103,'T2'!K103),MAX('T1'!M103,'T2'!K103),COUNTRY_INFO!F103*0.33),IF(COUNTRY_INFO!K103=2,IF(COUNTRY_INFO!F103*0.5>MAX('T1'!M103,'T2'!K103),MAX('T1'!M103,'T2'!K103),COUNTRY_INFO!F103*0.5),IF(COUNTRY_INFO!K103=3,IF(COUNTRY_INFO!F103>MAX('T1'!M103,'T2'!K103),MAX('T1'!M103,'T2'!K103),COUNTRY_INFO!F103),0)))","v":29068.5},{"$f":"IF(AND(COUNTRY_INFO!K103>0,COUNTRY_INFO!K103<4),IF(Z103>0,IF(COUNTRY_INFO!K103=1, AD103/(COUNTRY_INFO!F103*0.33)*100, IF(COUNTRY_INFO!K103=2, AD103/(COUNTRY_INFO!F103*0.5)*100, IF(COUNTRY_INFO!K103=3, AD103/COUNTRY_INFO!F103*100))),\"-\"),0)","v":100},{"$f":"IF(COUNTRY_INFO!K103=2,IF(COUNTRY_INFO!G103*0.2>MAX('T1'!N103,'T2'!L103),MAX('T1'!N103,'T2'!L103),COUNTRY_INFO!G103*0.2),IF(COUNTRY_INFO!K103=3,IF(COUNTRY_INFO!G103>MAX('T1'!N103,'T2'!L103),MAX('T1'!N103,'T2'!L103),COUNTRY_INFO!G103),0))","v":0},{"$f":"IF(AND(COUNTRY_INFO!K103>0,COUNTRY_INFO!K103<4),IF(Z103>0,IF(COUNTRY_INFO!K103=1, 0, IF(COUNTRY_INFO!K103=2, AF103/(COUNTRY_INFO!G103*0.2)*100, IF(COUNTRY_INFO!K103=3, AF103/COUNTRY_INFO!G103*100))),\"-\"),0)","v":0},29068.5,{"$f":"IF(AND(COUNTRY_INFO!K103>0,COUNTRY_INFO!K103<4), IF(AC103/Z103*100<>0, IF(AH103/Z103*100>100,100,AH103/Z103*100), \"-\"),0)","v":54.902060775014583},null,{"$f":"IF(AND(D103<>0, D103<>\"Unknown\",D103<>\"Stopped\",D103<>\"Not required\"),D103/COUNTRY_INFO!D103, 0)","v":0},{"$f":"IF(AND(J103<>0,J103<>\"Unknown\",J103<>\"Stopped\",J103<>\"Not required\"),J103/COUNTRY_INFO!D103, 0)","v":0},{"$f":"IF(AND(P103<>0,P103<>\"Unknown\",P103<>\"Not required\"),P103/(COUNTRY_INFO!E103+COUNTRY_INFO!F103), 0)","v":1},{"$f":"IF(AND(Z103<>0,Z103<>\"Unknown\",Z103<>\"Not required\"),IF(COUNTRY_INFO!K103=1,1,IF(COUNTRY_INFO!K103=2,0.5*COUNTRY_INFO!F103/(0.5*COUNTRY_INFO!F103+0.2*COUNTRY_INFO!G103),IF(COUNTRY_INFO!K103=3,COUNTRY_INFO!F103/(COUNTRY_INFO!F103+COUNTRY_INFO!G103)))),0)","v":0.54902060775014583},{"$f":"IF(AND(Z103<>0,Z103<>\"Unknown\",Z103<>\"Not required\"),IF(COUNTRY_INFO!K103=1,0,IF(COUNTRY_INFO!K103=2,0.2*COUNTRY_INFO!G103/(0.5*COUNTRY_INFO!F103+0.2*COUNTRY_INFO!G103),IF(COUNTRY_INFO!K103=3,COUNTRY_INFO!G103/(COUNTRY_INFO!F103+COUNTRY_INFO!G103)))),0)","v":0.45097939224985406},{"$f":"MAX(COUNTRY_INFO!D103*AK103*PROFILE!$G$7,COUNTRY_INFO!D103*AL103*PROFILE!$G$7)","v":0},{"$f":"MAX(COUNTRY_INFO!D103*AK103*PROFILE!$G$8,COUNTRY_INFO!D103*AL103*PROFILE!$G$8,COUNTRY_INFO!D103*AM103*PROFILE!$G$8)","v":24085.152902557569},{"$f":"MAX(COUNTRY_INFO!D103*AK103*PROFILE!$G$9,COUNTRY_INFO!D103*AL103*PROFILE!$G$9,COUNTRY_INFO!D103*AM103*PROFILE!$G$9,IF(AND(DISTRICT!Z103<>\"Unknown\",Z103<>\"Not required\"),COUNTRY_INFO!O103*DISTRICT!AN103,0))","v":58136.631577007429},{"$f":"MAX(COUNTRY_INFO!D103*AK103*PROFILE!$G$10,COUNTRY_INFO!D103*AL103*PROFILE!$G$10,IF(AND(DISTRICT!Z103<>\"Unknown\",Z103<>\"Not required\"),COUNTRY_INFO!O103*DISTRICT!AO103,0))","v":23877.600000000002},106099.38447956501,"Y",{"$f":"MAX('MDA2'!J103,'T1'!L103,'T2'!J103,T3_R1!K103,T3_R2!K103)","v":0},{"$f":"MAX('MDA1'!K103,'MDA2'!K103,'MDA3'!I103,'MDA3'!L103,'T1'!M103,'T2'!K103,T3_R1!L103,T3_R2!L103)","v":37218},{"$f":"MAX('MDA1'!L103,'MDA2'!L103,'MDA3'!J103,'MDA3'!M103,'T1'!N103,'T2'!L103,T3_R1!M103,T3_R2!M103)","v":0},37218,{"$f":"MAX('MDA2'!J103,T103)","v":0},{"$f":"MAX('MDA1'!K103,'MDA2'!K103,'MDA3'!I103,'MDA3'!L103,V103,AD103)","v":37218},{"$f":"MAX('MDA1'!L103,'MDA2'!L103,'MDA3'!J103,'MDA3'!M103,AF103)","v":0},37218,35.078431588044012]
[{"$f":"IF(COUNTRY_INFO!A104=0,\" \",COUNTRY_INFO!A104)","v":"Mozambique"},{"$f":"IF(COUNTRY_INFO!B104=0,\" \",COUNTRY_INFO!B104)","v":"Sofala"},{"$f":"IF(COUNTRY_INFO!C104=0,\" \",COUNTRY_INFO!C104)","v":"Caia"},{"$f":"COUNTRY_INFO!L104","v":163881.15737419899},null,null,{"$f":"MAX('MDA1'!M104,'MDA2'!M104)","v":151584},{"$f":"IF(AND(COUNTRY_INFO!H104>0,COUNTRY_INFO!H104<4),IF(D104>MAX('MDA1'!M104,'MDA2'!M104),MAX('MDA1'!M104,'MDA2'!M104),D104),0)","v":151584},{"$f":"IF(AND(COUNTRY_INFO!H104>0,COUNTRY_INFO!H104<4), IF(G104/D104*100<>0, IF(G104/D104*100>100,100,G104/D104*100), \"-\"),0)","v":92.496295747948494},{"$f":"COUNTRY_INFO!M104","v":"Not required"},null,null,{"$f":"MAX('MDA1'!M104,MAX('MDA3'!I104,'MDA3'!L104)+MAX('MDA3'!J104,'MDA3'!M104))","v":151584},{"$f":"IF(AND(COUNTRY_INFO!I104>0,COUNTRY_INFO!I104<4),IF(J104>MAX('MDA1'!M104,MAX('MDA3'!I104,'MDA3'!L104)+MAX('MDA3'!J104,'MDA3'!M104)),MAX('MDA1'!M104,MAX('MDA3'!I104,'MDA3'!L104)+MAX('MDA3'!J104,'MDA3'!M104)),J104),0)","v":0},{"$f":"IF(AND(COUNTRY_INFO!I104>0,COUNTRY_INFO!I104<4), IF(M104/J104*100<>0, IF(M104/J104*100>100,100,M104/J104*100), \"-\"),0)","v":0},{"$f":"COUNTRY_INFO!N104","v":64897},null,null,{"$f":"SUM(MAX('MDA2'!J104, 'T1'!L104, MAX(T3_R1!K104, T3_R2!K104)), MAX('MDA1'!K104, 'MDA2'!K104, 'T1'!M104, MAX(T3_R1!L104, T3_R2!L104)), MAX('MDA1'!L104, 'MDA2'!L104, 'T1'!N104, MAX(T3_R1!M104, T3_R2!M104)))","v":151584},{"$f":"IF(AND(COUNTRY_INFO!J104>1,COUNTRY_INFO!J104<4),IF(COUNTRY_INFO!E104>MAX('MDA2'!J104,'T1'!L104,MAX(T3_R1!K104,T3_R2!K104)),MAX('MDA2'!J104,'T1'!L104,MAX(T3_R1!K104,T3_R2!K104)),COUNTRY_INFO!E104),0)","v":0},{"$f":"IF(AND(COUNTRY_INFO!J104>1,COUNTRY_INFO!J104<4), IF(T104/COUNTRY_INFO!E104*100<>0, IF(T104/COUNTRY_INFO!E104*100>100,100,T104/COUNTRY_INFO!E104*100), \"-\"),0)","v":"-"},{"$f":"IF(AND(COUNTRY_INFO!J104>1,COUNTRY_INFO!J104<4),IF(COUNTRY_INFO!F104>MAX('MDA1'!K104,'MDA2'!K104,'T1'!M104,MAX(T3_R1!L104,T3_R2!L104)),MAX('MDA1'!K104,'MDA2'!K104,'T1'!M104,MAX(T3_R1!L104,T3_R2!L104)),COUNTRY_INFO!F104),0)","v":45887},{"$f":"IF(AND(COUNTRY_INFO!J104>1,COUNTRY_INFO!J104<4), IF(V104/COUNTRY_INFO!F104*100<>0, IF(V104/COUNTRY_INFO!F104*100>100,100,V104/COUNTRY_INFO!F104*100), \"-\"),0)","v":100},45887,{"$f":"IF(AND(COUNTRY_INFO!J104>1,COUNTRY_INFO!J104<4), IF(S104/P104*100<>0, IF(X104/P104*100>100,100,X104/P104*100), \"-\"),0)","v":70.707428694700837},{"$f":"COUNTRY_INFO!O104","v":41789.9},35361,38665,{"$f":"MAX('T1'!L104,'T2'!J104)+MAX('T1'!M104,'T2'!K104)+MAX('T1'!N104,'T2'!L104)","v":74026},{"$f":"IF(COUNTRY_INFO!K104=1,IF(COUNTRY_INFO!F104*0.33>MAX('T1'!M104,'T2'!K104),MAX('T1'!M104,'T2'!K104),COUNTRY_INFO!F104*0.33),IF(COUNTRY_INFO!K104=2,IF(COUNTRY_INFO!F104*0.5>MAX('T1'!M104,'T2'!K104),MAX('T1'!M104,'T2'!K104),COUNTRY_INFO!F104*0.5),IF(COUNTRY_INFO!K104=3,IF(COUNTRY_INFO!F104>MAX('T1'!M104,'T2'!K104),MAX('T1'!M104,'T2'!K104),COUNTRY_INFO!F104),0)))","v":22943.5},{"$f":"IF(AND(COUNTRY_INFO!K104>0,COUNTRY_INFO!K104<4),IF(Z104>0,IF(COUNTRY_INFO!K104=1, AD104/(COUNTRY_INFO!F104*0.33)*100, IF(COUNTRY_INFO!K104=2, AD104/(COUNTRY_INFO!F104*0.5)*100, IF(COUNTRY_INFO!K104=3, AD104/COUNTRY_INFO!F104*100))),\"-\"),0)","v":100},{"$f":"IF(COUNTRY_INFO!K104=2,IF(COUNTRY_INFO!G104*0.2>MAX('T1'!N104,'T2'!L104),MAX('T1'!N104,'T2'!L104),COUNTRY_INFO!G104*0.2),IF(COUNTRY_INFO!K104=3,IF(COUNTRY_INFO!G104>MAX('T1'!N104,'T2'!L104),MAX('T1'!N104,'T2'!L104),COUNTRY_INFO!G104),0))","v":0},{"$f":"IF(AND(COUNTRY_INFO!K104>0,COUNTRY_INFO!K104<4),IF(Z104>0,IF(COUNTRY_INFO!K104=1, 0, IF(COUNTRY_INFO!K104=2, AF104/(COUNTRY_INFO!G104*0.2)*100, IF(COUNTRY_INFO!K104=3, AF104/COUNTRY_INFO!G104*100))),\"-\"),0)","v":0},22943.5,{"$f":"IF(AND(COUNTRY_INFO!K104>0,COUNTRY_INFO!K104<4), IF(AC104/Z104*100<>0, IF(AH104/Z104*100>100,100,AH104/Z104*100), \"-\"),0)","v":54.902021780382334},null,{"$f":"IF(AND(D104<>0, D104<>\"Unknown\",D104<>\"Stopped\",D104<>\"Not required\"),D104/COUNTRY_INFO!D104, 0)","v":1},{"$f":"IF(AND(J104<>0,J104<>\"Unknown\",J104<>\"Stopped\",J104<>\"Not required\"),J104/COUNTRY_INFO!D104, 0)","v":0},{"$f":"IF(AND(P104<>0,P104<>\"Unknown\",P104<>\"Not required\"),P104/(COUNTRY_INFO!E104+COUNTRY_INFO!F104), 0)","v":1},{"$f":"IF(AND(Z104<>0,Z104<>\"Unknown\",Z104<>\"Not required\"),IF(COUNTRY_INFO!K104=1,1,IF(COUNTRY_INFO!K104=2,0.5*COUNTRY_INFO!F104/(0.5*COUNTRY_INFO!F104+0.2*COUNTRY_INFO!G104),IF(COUNTRY_INFO!K104=3,COUNTRY_INFO!F104/(COUNTRY_INFO!F104+COUNTRY_INFO!G104)))),0)","v":0.54902021780382337},{"$f":"IF(AND(Z104<>0,Z104<>\"Unknown\",Z104<>\"Not required\"),IF(COUNTRY_INFO!K104=1,0,IF(COUNTRY_INFO!K104=2,0.2*COUNTRY_INFO!G104/(0.5*COUNTRY_INFO!F104+0.2*COUNTRY_INFO!G104),IF(COUNTRY_INFO!K104=3,COUNTRY_INFO!G104/(COUNTRY_INFO!F104+COUNTRY_INFO!G104)))),0)","v":0.45097978219617663},{"$f":"MAX(COUNTRY_INFO!D104*AK104*PROFILE!$G$7,COUNTRY_INFO!D104*AL104*PROFILE!$G$7)","v":4752.5968395283171},{"$f":"MAX(COUNTRY_INFO!D104*AK104*PROFILE!$G$8,COUNTRY_INFO!D104*AL104*PROFILE!$G$8,COUNTRY_INFO!D104*AM104*PROFILE!$G$8)","v":19010.186495094727},{"$f":"MAX(COUNTRY_INFO!D104*AK104*PROFILE!$G$9,COUNTRY_INFO!D104*AL104*PROFILE!$G$9,COUNTRY_INFO!D104*AM104*PROFILE!$G$9,IF(AND(DISTRICT!Z104<>\"Unknown\",Z104<>\"Not required\"),COUNTRY_INFO!O104*DISTRICT!AN104,0))","v":45886.700945882971},{"$f":"MAX(COUNTRY_INFO!D104*AK104*PROFILE!$G$10,COUNTRY_INFO!D104*AL104*PROFILE!$G$10,IF(AND(DISTRICT!Z104<>\"Unknown\",Z104<>\"Not required\"),COUNTRY_INFO!O104*DISTRICT!AO104,0))","v":94231.673093692967},163881.15737419899,"Y",{"$f":"MAX('MDA2'!J104,'T1'!L104,'T2'!J104,T3_R1!K104,T3_R2!K104)","v":0},{"$f":"MAX('MDA1'!K104,'MDA2'!K104,'MDA3'!I104,'MDA3'!L104,'T1'!M104,'T2'!K104,T3_R1!L104,T3_R2!L104)","v":74026},{"$f":"MAX('MDA1'!L104,'MDA2'!L104,'MDA3'!J104,'MDA3'!M104,'T1'!N104,'T2'!L104,T3_R1!M104,T3_R2!M104)","v":78967},152993,{"$f":"MAX('MDA2'!J104,T104)","v":0},{"$f":"MAX('MDA1'!K104,'MDA2'!K104,'MDA3'!I104,'MDA3'!L104,V104,AD104)","v":72617},{"$f":"MAX('MDA1'!L104,'MDA2'!L104,'MDA3'!J104,'MDA3'!M104,AF104)","v":78967},151584,92.496295747948494]
[{"$f":"IF(COUNTRY_INFO!A105=0,\" \",COUNTRY_INFO!A105)","v":"Mozambique"},{"$f":"IF(COUNTRY_INFO!B105=0,\" \",COUNTRY_INFO!B105)","v":"Sofala"},{"$f":"IF(COUNTRY_INFO!C105=0,\" \",COUNTRY_INFO!C105)","v":"Chemba"},{"$f":"COUNTRY_INFO!L105","v":85725.9868697239},null,null,{"$f":"MAX('MDA1'!M105,'MDA2'!M105)","v":72871},{"$f":"IF(AND(COUNTRY_INFO!H105>0,COUNTRY_INFO!H105<4),IF(D105>MAX('MDA1'!M105,'MDA2'!M105),MAX('MDA1'!M105,'MDA2'!M105),D105),0)","v":72871},{"$f":"IF(AND(COUNTRY_INFO!H105>0,COUNTRY_INFO!H105<4), IF(G105/D105*100<>0, IF(G105/D105*100>100,100,G105/D105*100), \"-\"),0)","v":85.004562398028298},{"$f":"COUNTRY_INFO!M105","v":"Not required"},null,null,{"$f":"MAX('MDA1'!M105,MAX('MDA3'!I105,'MDA3'!L105)+MAX('MDA3'!J105,'MDA3'!M105))","v":72871},{"$f":"IF(AND(COUNTRY_INFO!I105>0,COUNTRY_INFO!I105<4),IF(J105>MAX('MDA1'!M105,MAX('MDA3'!I105,'MDA3'!L105)+MAX('MDA3'!J105,'MDA3'!M105)),MAX('MDA1'!M105,MAX('MDA3'!I105,'MDA3'!L105)+MAX('MDA3'!J105,'MDA3'!M105)),J105),0)","v":0},{"$f":"IF(AND(COUNTRY_INFO!I105>0,COUNTRY_INFO!I105<4), IF(M105/J105*100<>0, IF(M105/J105*100>100,100,M105/J105*100), \"-\"),0)","v":0},{"$f":"COUNTRY_INFO!N105","v":33947},null,null,{"$f":"SUM(MAX('MDA2'!J105, 'T1'!L105, MAX(T3_R1!K105, T3_R2!K105)), MAX('MDA1'!K105, 'MDA2'!K105, 'T1'!M105, MAX(T3_R1!L105, T3_R2!L105)), MAX('MDA1'!L105, 'MDA2'!L105, 'T1'!N105, MAX(T3_R1!M105, T3_R2!M105)))","v":72871},{"$f":"IF(AND(COUNTRY_INFO!J105>1,COUNTRY_INFO!J105<4),IF(COUNTRY_INFO!E105>MAX('MDA2'!J105,'T1'!L105,MAX(T3_R1!K105,T3_R2!K105)),MAX('MDA2'!J105,'T1'!L105,MAX(T3_R1!K105,T3_R2!K105)),COUNTRY_INFO!E105),0)","v":0},{"$f":"IF(AND(COUNTRY_INFO!J105>1,COUNTRY_INFO!J105<4), IF(T105/COUNTRY_INFO!E105*100<>0, IF(T105/COUNTRY_INFO!E105*100>100,100,T105/COUNTRY_INFO!E105*100), \"-\"),0)","v":"-"},{"$f":"IF(AND(COUNTRY_INFO!J105>1,COUNTRY_INFO!J105<4),IF(COUNTRY_INFO!F105>MAX('MDA1'!K105,'MDA2'!K105,'T1'!M105,MAX(T3_R1!L105,T3_R2!L105)),MAX('MDA1'!K105,'MDA2'!K105,'T1'!M105,MAX(T3_R1!L105,T3_R2!L105)),COUNTRY_INFO!F105),0)","v":24003},{"$f":"IF(AND(COUNTRY_INFO!J105>1,COUNTRY_INFO!J105<4), IF(V105/COUNTRY_INFO!F105*100<>0, IF(V105/COUNTRY_INFO!F105*100>100,100,V105/COUNTRY_INFO!F105*100), \"-\"),0)","v":100},24003,{"$f":"IF(AND(COUNTRY_INFO!J105>1,COUNTRY_INFO!J105<4), IF(S105/P105*100<>0, IF(X105/P105*100>100,100,X105/P105*100), \"-\"),0)","v":70.70727899372551},{"$f":"COUNTRY_INFO!O105","v":73295},12078,12147,{"$f":"MAX('T1'!L105,'T2'!J105)+MAX('T1'!M105,'T2'!K105)+MAX('T1'!N105,'T2'!L105)","v":24225},{"$f":"IF(COUNTRY_INFO!K105=1,IF(COUNTRY_INFO!F105*0.33>MAX('T1'!M105,'T2'!K105),MAX('T1'!M105,'T2'!K105),COUNTRY_INFO!F105*0.33),IF(COUNTRY_INFO!K105=2,IF(COUNTRY_INFO!F105*0.5>MAX('T1'!M105,'T2'!K105),MAX('T1'!M105,'T2'!K105),COUNTRY_INFO!F105*0.5),IF(COUNTRY_INFO!K105=3,IF(COUNTRY_INFO!F105>MAX('T1'!M105,'T2'!K105),MAX('T1'!M105,'T2'!K105),COUNTRY_INFO!F105),0)))","v":24003},{"$f":"IF(AND(COUNTRY_INFO!K105>0,COUNTRY_INFO!K105<4),IF(Z105>0,IF(COUNTRY_INFO!K105=1, AD105/(COUNTRY_INFO!F105*0.33)*100, IF(COUNTRY_INFO!K105=2, AD105/(COUNTRY_INFO!F105*0.5)*100, IF(COUNTRY_INFO!K105=3, AD105/COUNTRY_INFO!F105*100))),\"-\"),0)","v":100},{"$f":"IF(COUNTRY_INFO!K105=2,IF(COUNTRY_INFO!G105*0.2>MAX('T1'!N105,'T2'!L105),MAX('T1'!N105,'T2'!L105),COUNTRY_INFO!G105*0.2),IF(COUNTRY_INFO!K105=3,IF(COUNTRY_INFO!G105>MAX('T1'!N105,'T2'!L105),MAX('T1'!N105,'T2'!L105),COUNTRY_INFO!G105),0))","v":0},{"$f":"IF(AND(COUNTRY_INFO!K105>0,COUNTRY_INFO!K105<4),IF(Z105>0,IF(COUNTRY_INFO!K105=1, 0, IF(COUNTRY_INFO!K105=2, AF105/(COUNTRY_INFO!G105*0.2)*100, IF(COUNTRY_INFO!K105=3, AF105/COUNTRY_INFO!G105*100))),\"-\"),0)","v":0},24003,{"$f":"IF(AND(COUNTRY_INFO!K105>0,COUNTRY_INFO!K105<4), IF(AC105/Z105*100<>0, IF(AH105/Z105*100>100,100,AH105/Z105*100), \"-\"),0)","v":32.748482161129679},null,{"$f":"IF(AND(D105<>0, D105<>\"Unknown\",D105<>\"Stopped\",D105<>\"Not required\"),D105/COUNTRY_INFO!D105, 0)","v":1},{"$f":"IF(AND(J105<>0,J105<>\"Unknown\",J105<>\"Stopped\",J105<>\"Not required\"),J105/COUNTRY_INFO!D105, 0)","v":0},{"$f":"IF(AND(P105<>0,P105<>\"Unknown\",P105<>\"Not required\"),P105/(COUNTRY_INFO!E105+COUNTRY_INFO!F105), 0)","v":1},{"$f":"IF(AND(Z105<>0,Z105<>\"Unknown\",Z105<>\"Not required\"),IF(COUNTRY_INFO!K105=1,1,IF(COUNTRY_INFO!K105=2,0.5*COUNTRY_INFO!F105/(0.5*COUNTRY_INFO!F105+0.2*COUNTRY_INFO!G105),IF(COUNTRY_INFO!K105=3,COUNTRY_INFO!F105/(COUNTRY_INFO!F105+COUNTRY_INFO!G105)))),0)","v":0.32748482161129683},{"$f":"IF(AND(Z105<>0,Z105<>\"Unknown\",Z105<>\"Not required\"),IF(COUNTRY_INFO!K105=1,0,IF(COUNTRY_INFO!K105=2,0.2*COUNTRY_INFO!G105/(0.5*COUNTRY_INFO!F105+0.2*COUNTRY_INFO!G105),IF(COUNTRY_INFO!K105=3,COUNTRY_INFO!G105/(COUNTRY_INFO!F105+COUNTRY_INFO!G105)))),0)","v":0.67251517838870323},{"$f":"MAX(COUNTRY_INFO!D105*AK105*PROFILE!$G$7,COUNTRY_INFO!D105*AL105*PROFILE!$G$7)","v":2486.0762566632879},{"$f":"MAX(COUNTRY_INFO!D105*AK105*PROFILE!$G$8,COUNTRY_INFO!D105*AL105*PROFILE!$G$8,COUNTRY_INFO!D105*AM105*PROFILE!$G$8)","v":9944.199955510343},{"$f":"MAX(COUNTRY_INFO!D105*AK105*PROFILE!$G$9,COUNTRY_INFO!D105*AL105*PROFILE!$G$9,COUNTRY_INFO!D105*AM105*PROFILE!$G$9,IF(AND(DISTRICT!Z105<>\"Unknown\",Z105<>\"Not required\"),COUNTRY_INFO!O105*DISTRICT!AN105,0))","v":24003.264230064677},{"$f":"MAX(COUNTRY_INFO!D105*AK105*PROFILE!$G$10,COUNTRY_INFO!D105*AL105*PROFILE!$G$10,IF(AND(DISTRICT!Z105<>\"Unknown\",Z105<>\"Not required\"),COUNTRY_INFO!O105*DISTRICT!AO105,0))","v":49292.446427485593},85725.9868697239,{"$f":"IF(COUNTIFS(AK105:AN105,\">0\")=0,0, IF(COUNTIFS(AK105:AN105,\">0\")<=IF(AND(OR(D105>=0,D105=\"Not required\",D105=\"Unknown\",D105=\"Stopped\"),D105>0,H105>0),1,0)+IF(AND(OR(J105>=0,J105=\"Not required\",J105=\"Unknown\",J105=\"Stopped\"),J105>0,N105>0),1,0)+IF(AND(OR(P105>=0,P105=\"Not required\",P105=\"Unknown\"),P105>0,X105>0),1,0)+IF(AND(OR(Z105>=0,Z105=\"Not required\",Z105=\"Unknown\"),Z105>0,AH105>0),1,0),\"Y\",0))","v":"Y"},{"$f":"MAX('MDA2'!J105,'T1'!L105,'T2'!J105,T3_R1!K105,T3_R2!K105)","v":0},{"$f":"MAX('MDA1'!K105,'MDA2'!K105,'MDA3'!I105,'MDA3'!L105,'T1'!M105,'T2'!K105,T3_R1!L105,T3_R2!L105)","v":24225},{"$f":"MAX('MDA1'!L105,'MDA2'!L105,'MDA3'!J105,'MDA3'!M105,'T1'!N105,'T2'!L105,T3_R1!M105,T3_R2!M105)","v":48646},72871,{"$f":"MAX('MDA2'!J105,T105)","v":0},{"$f":"MAX('MDA1'!K105,'MDA2'!K105,'MDA3'!I105,'MDA3'!L105,V105,AD105)","v":24225},{"$f":"MAX('MDA1'!L105,'MDA2'!L105,'MDA3'!J105,'MDA3'!M105,AF105)","v":48646},{"$f":"IF(AT105<SUM(AZ105:BB105), AT105,SUM(AZ105:BB105))","v":72871},{"$f":"IF(AT105<>0,BC105/AT105*100,0)","v":85.004562398028298}]
[{"$f":"IF(COUNTRY_INFO!A106=0,\" \",COUNTRY_INFO!A106)","v":"Mozambique"},{"$f":"IF(COUNTRY_INFO!B106=0,\" \",COUNTRY_INFO!B106)","v":"Sofala"},{"$f":"IF(COUNTRY_INFO!C106=0,\" \",COUNTRY_INFO!C106)","v":"Cheringoma"},{"$f":"COUNTRY_INFO!L106","v":82934.651721928385},null,null,{"$f":"MAX('MDA1'!M106,'MDA2'!M106)","v":65987},{"$f":"IF(AND(COUNTRY_INFO!H106>0,COUNTRY_INFO!H106<4),IF(D106>MAX('MDA1'!M106,'MDA2'!M106),MAX('MDA1'!M106,'MDA2'!M106),D106),0)","v":65987},{"$f":"IF(AND(COUNTRY_INFO!H106>0,COUNTRY_INFO!H106<4), IF(G106/D106*100<>0, IF(G106/D106*100>100,100,G106/D106*100), \"-\"),0)","v":79.565053484818179},{"$f":"COUNTRY_INFO!M106","v":"Not required"},null,null,{"$f":"MAX('MDA1'!M106,MAX('MDA3'!I106,'MDA3'!L106)+MAX('MDA3'!J106,'MDA3'!M106))","v":65987},{"$f":"IF(AND(COUNTRY_INFO!I106>0,COUNTRY_INFO!I106<4),IF(J106>MAX('MDA1'!M106,MAX('MDA3'!I106,'MDA3'!L106)+MAX('MDA3'!J106,'MDA3'!M106)),MAX('MDA1'!M106,MAX('MDA3'!I106,'MDA3'!L106)+MAX('MDA3'!J106,'MDA3'!M106)),J106),0)","v":0},{"$f":"IF(AND(COUNTRY_INFO!I106>0,COUNTRY_INFO!I106<4), IF(M106/J106*100<>0, IF(M106/J106*100>100,100,M106/J106*100), \"-\"),0)","v":0},{"$f":"COUNTRY_INFO!N106","v":32842},null,null,{"$f":"SUM(MAX('MDA2'!J106, 'T1'!L106, MAX(T3_R1!K106, T3_R2!K106)), MAX('MDA1'!K106, 'MDA2'!K106, 'T1'!M106, MAX(T3_R1!L106, T3_R2!L106)), MAX('MDA1'!L106, 'MDA2'!L106, 'T1'!N106, MAX(T3_R1!M106, T3_R2!M106)))","v":65987},{"$f":"IF(AND(COUNTRY_INFO!J106>1,COUNTRY_INFO!J106<4),IF(COUNTRY_INFO!E106>MAX('MDA2'!J106,'T1'!L106,MAX(T3_R1!K106,T3_R2!K106)),MAX('MDA2'!J106,'T1'!L106,MAX(T3_R1!K106,T3_R2!K106)),COUNTRY_INFO!E106),0)","v":0},{"$f":"IF(AND(COUNTRY_INFO!J106>1,COUNTRY_INFO!J106<4), IF(T106/COUNTRY_INFO!E106*100<>0, IF(T106/COUNTRY_INFO!E106*100>100,100,T106/COUNTRY_INFO!E106*100), \"-\"),0)","v":"-"},{"$f":"IF(AND(COUNTRY_INFO!J106>1,COUNTRY_INFO!J106<4),IF(COUNTRY_INFO!F106>MAX('MDA1'!K106,'MDA2'!K106,'T1'!M106,MAX(T3_R1!L106,T3_R2!L106)),MAX('MDA1'!K106,'MDA2'!K106,'T1'!M106,MAX(T3_R1!L106,T3_R2!L106)),COUNTRY_INFO!F106),0)","v":23099},{"$f":"IF(AND(COUNTRY_INFO!J106>1,COUNTRY_INFO!J106<4), IF(V106/COUNTRY_INFO!F106*100<>0, IF(V106/COUNTRY_INFO!F106*100>100,100,V106/COUNTRY_INFO!F106*100), \"-\"),0)","v":99.470329859615873},23099,{"$f":"IF(AND(COUNTRY_INFO!J106>1,COUNTRY_INFO!J106<4), IF(S106/P106*100<>0, IF(X106/P106*100>100,100,X106/P106*100), \"-\"),0)","v":70.333719018330186},{"$f":"COUNTRY_INFO!O106","v":70909},10810,12288,{"$f":"MAX('T1'!L106,'T2'!J106)+MAX('T1'!M106,'T2'!K106)+MAX('T1'!N106,'T2'!L106)","v":23098},{"$f":"IF(COUNTRY_INFO!K106=1,IF(COUNTRY_INFO!F106*0.33>MAX('T1'!M106,'T2'!K106),MAX('T1'!M106,'T2'!K106),COUNTRY_INFO!F106*0.33),IF(COUNTRY_INFO!K106=2,IF(COUNTRY_INFO!F106*0.5>MAX('T1'!M106,'T2'!K106),MAX('T1'!M106,'T2'!K106),COUNTRY_INFO!F106*0.5),IF(COUNTRY_INFO!K106=3,IF(COUNTRY_INFO!F106>MAX('T1'!M106,'T2'!K106),MAX('T1'!M106,'T2'!K106),COUNTRY_INFO!F106),0)))","v":23098},{"$f":"IF(AND(COUNTRY_INFO!K106>0,COUNTRY_INFO!K106<4),IF(Z106>0,IF(COUNTRY_INFO!K106=1, AD106/(COUNTRY_INFO!F106*0.33)*100, IF(COUNTRY_INFO!K106=2, AD106/(COUNTRY_INFO!F106*0.5)*100, IF(COUNTRY_INFO!K106=3, AD106/COUNTRY_INFO!F106*100))),\"-\"),0)","v":99.466023598311949},{"$f":"IF(COUNTRY_INFO!K106=2,IF(COUNTRY_INFO!G106*0.2>MAX('T1'!N106,'T2'!L106),MAX('T1'!N106,'T2'!L106),COUNTRY_INFO!G106*0.2),IF(COUNTRY_INFO!K106=3,IF(COUNTRY_INFO!G106>MAX('T1'!N106,'T2'!L106),MAX('T1'!N106,'T2'!L106),COUNTRY_INFO!G106),0))","v":0},{"$f":"IF(AND(COUNTRY_INFO!K106>0,COUNTRY_INFO!K106<4),IF(Z106>0,IF(COUNTRY_INFO!K106=1, 0, IF(COUNTRY_INFO!K106=2, AF106/(COUNTRY_INFO!G106*0.2)*100, IF(COUNTRY_INFO!K106=3, AF106/COUNTRY_INFO!G106*100))),\"-\"),0)","v":0},23098,{"$f":"IF(AND(COUNTRY_INFO!K106>0,COUNTRY_INFO!K106<4), IF(AC106/Z106*100<>0, IF(AH106/Z106*100>100,100,AH106/Z106*100), \"-\"),0)","v":32.574144325826062},null,{"$f":"IF(AND(D106<>0, D106<>\"Unknown\",D106<>\"Stopped\",D106<>\"Not required\"),D106/COUNTRY_INFO!D106, 0)","v":1},{"$f":"IF(AND(J106<>0,J106<>\"Unknown\",J106<>\"Stopped\",J106<>\"Not required\"),J106/COUNTRY_INFO!D106, 0)","v":0},{"$f":"IF(AND(P106<>0,P106<>\"Unknown\",P106<>\"Not required\"),P106/(COUNTRY_INFO!E106+COUNTRY_INFO!F106), 0)","v":1},{"$f":"IF(AND(Z106<>0,Z106<>\"Unknown\",Z106<>\"Not required\"),IF(COUNTRY_INFO!K106=1,1,IF(COUNTRY_INFO!K106=2,0.5*COUNTRY_INFO!F106/(0.5*COUNTRY_INFO!F106+0.2*COUNTRY_INFO!G106),IF(COUNTRY_INFO!K106=3,COUNTRY_INFO!F106/(COUNTRY_INFO!F106+COUNTRY_INFO!G106)))),0)","v":0.32749016344892751},{"$f":"IF(AND(Z106<>0,Z106<>\"Unknown\",Z106<>\"Not required\"),IF(COUNTRY_INFO!K106=1,0,IF(COUNTRY_INFO!K106=2,0.2*COUNTRY_INFO!G106/(0.5*COUNTRY_INFO!F106+0.2*COUNTRY_INFO!G106),IF(COUNTRY_INFO!K106=3,COUNTRY_INFO!G106/(COUNTRY_INFO!F106+COUNTRY_INFO!G106)))),0)","v":0.67250983655107255},{"$f":"MAX(COUNTRY_INFO!D106*AK106*PROFILE!$G$7,COUNTRY_INFO!D106*AL106*PROFILE!$G$7)","v":2405.1268002765109},{"$f":"MAX(COUNTRY_INFO!D106*AK106*PROFILE!$G$8,COUNTRY_INFO!D106*AL106*PROFILE!$G$8,COUNTRY_INFO!D106*AM106*PROFILE!$G$8)","v":9620.4055511985534},{"$f":"MAX(COUNTRY_INFO!D106*AK106*PROFILE!$G$9,COUNTRY_INFO!D106*AL106*PROFILE!$G$9,COUNTRY_INFO!D106*AM106*PROFILE!$G$9,IF(AND(DISTRICT!Z106<>\"Unknown\",Z106<>\"Not required\"),COUNTRY_INFO!O106*DISTRICT!AN106,0))","v":23222},{"$f":"MAX(COUNTRY_INFO!D106*AK106*PROFILE!$G$10,COUNTRY_INFO!D106*AL106*PROFILE!$G$10,IF(AND(DISTRICT!Z106<>\"Unknown\",Z106<>\"Not required\"),COUNTRY_INFO!O106*DISTRICT!AO106,0))","v":47687.428587994706},82934.960939469776,"Y",{"$f":"MAX('MDA2'!J106,'T1'!L106,'T2'!J106,T3_R1!K106,T3_R2!K106)","v":0},{"$f":"MAX('MDA1'!K106,'MDA2'!K106,'MDA3'!I106,'MDA3'!L106,'T1'!M106,'T2'!K106,T3_R1!L106,T3_R2!L106)","v":23099},{"$f":"MAX('MDA1'!L106,'MDA2'!L106,'MDA3'!J106,'MDA3'!M106,'T1'!N106,'T2'!L106,T3_R1!M106,T3_R2!M106)","v":42888},65987,{"$f":"MAX('MDA2'!J106,T106)","v":0},{"$f":"MAX('MDA1'!K106,'MDA2'!K106,'MDA3'!I106,'MDA3'!L106,V106,AD106)","v":23099},{"$f":"MAX('MDA1'!L106,'MDA2'!L106,'MDA3'!J106,'MDA3'!M106,AF106)","v":42888},65987,79.564756831754863]
[{"$f":"IF(COUNTRY_INFO!A107=0,\" \",COUNTRY_INFO!A107)","v":"Mozambique"},{"$f":"IF(COUNTRY_INFO!B107=0,\" \",COUNTRY_INFO!B107)","v":"Sofala"},{"$f":"IF(COUNTRY_INFO!C107=0,\" \",COUNTRY_INFO!C107)","v":"Chibabava"},{"$f":"COUNTRY_INFO!L107","v":147715.96124567091},null,null,{"$f":"MAX('MDA1'!M107,'MDA2'!M107)","v":77230},{"$f":"IF(AND(COUNTRY_INFO!H107>0,COUNTRY_INFO!H107<4),IF(D107>MAX('MDA1'!M107,'MDA2'!M107),MAX('MDA1'!M107,'MDA2'!M107),D107),0)","v":77230},{"$f":"IF(AND(COUNTRY_INFO!H107>0,COUNTRY_INFO!H107<4), IF(G107/D107*100<>0, IF(G107/D107*100>100,100,G107/D107*100), \"-\"),0)","v":52.282772524193533},{"$f":"COUNTRY_INFO!M107","v":"Not required"},null,null,{"$f":"MAX('MDA1'!M107,MAX('MDA3'!I107,'MDA3'!L107)+MAX('MDA3'!J107,'MDA3'!M107))","v":77230},{"$f":"IF(AND(COUNTRY_INFO!I107>0,COUNTRY_INFO!I107<4),IF(J107>MAX('MDA1'!M107,MAX('MDA3'!I107,'MDA3'!L107)+MAX('MDA3'!J107,'MDA3'!M107)),MAX('MDA1'!M107,MAX('MDA3'!I107,'MDA3'!L107)+MAX('MDA3'!J107,'MDA3'!M107)),J107),0)","v":0},{"$f":"IF(AND(COUNTRY_INFO!I107>0,COUNTRY_INFO!I107<4), IF(M107/J107*100<>0, IF(M107/J107*100>100,100,M107/J107*100), \"-\"),0)","v":0},{"$f":"COUNTRY_INFO!N107","v":58495},null,null,{"$f":"SUM(MAX('MDA2'!J107, 'T1'!L107, MAX(T3_R1!K107, T3_R2!K107)), MAX('MDA1'!K107, 'MDA2'!K107, 'T1'!M107, MAX(T3_R1!L107, T3_R2!L107)), MAX('MDA1'!L107, 'MDA2'!L107, 'T1'!N107, MAX(T3_R1!M107, T3_R2!M107)))","v":77230},{"$f":"IF(AND(COUNTRY_INFO!J107>1,COUNTRY_INFO!J107<4),IF(COUNTRY_INFO!E107>MAX('MDA2'!J107,'T1'!L107,MAX(T3_R1!K107,T3_R2!K107)),MAX('MDA2'!J107,'T1'!L107,MAX(T3_R1!K107,T3_R2!K107)),COUNTRY_INFO!E107),0)","v":0},{"$f":"IF(AND(COUNTRY_INFO!J107>1,COUNTRY_INFO!J107<4), IF(T107/COUNTRY_INFO!E107*100<>0, IF(T107/COUNTRY_INFO!E107*100>100,100,T107/COUNTRY_INFO!E107*100), \"-\"),0)","v":"-"},{"$f":"IF(AND(COUNTRY_INFO!J107>1,COUNTRY_INFO!J107<4),IF(COUNTRY_INFO!F107>MAX('MDA1'!K107,'MDA2'!K107,'T1'!M107,MAX(T3_R1!L107,T3_R2!L107)),MAX('MDA1'!K107,'MDA2'!K107,'T1'!M107,MAX(T3_R1!L107,T3_R2!L107)),COUNTRY_INFO!F107),0)","v":38948},{"$f":"IF(AND(COUNTRY_INFO!J107>1,COUNTRY_INFO!J107<4), IF(V107/COUNTRY_INFO!F107*100<>0, IF(V107/COUNTRY_INFO!F107*100>100,100,V107/COUNTRY_INFO!F107*100), \"-\"),0)","v":94.168278529980654},38948,{"$f":"IF(AND(COUNTRY_INFO!J107>1,COUNTRY_INFO!J107<4), IF(S107/P107*100<>0, IF(X107/P107*100>100,100,X107/P107*100), \"-\"),0)","v":66.583468672536114},{"$f":"COUNTRY_INFO!O107","v":126297},18135,20931,{"$f":"MAX('T1'!L107,'T2'!J107)+MAX('T1'!M107,'T2'!K107)+MAX('T1'!N107,'T2'!L107)","v":39066},{"$f":"IF(COUNTRY_INFO!K107=1,IF(COUNTRY_INFO!F107*0.33>MAX('T1'!M107,'T2'!K107),MAX('T1'!M107,'T2'!K107),COUNTRY_INFO!F107*0.33),IF(COUNTRY_INFO!K107=2,IF(COUNTRY_INFO!F107*0.5>MAX('T1'!M107,'T2'!K107),MAX('T1'!M107,'T2'!K107),COUNTRY_INFO!F107*0.5),IF(COUNTRY_INFO!K107=3,IF(COUNTRY_INFO!F107>MAX('T1'!M107,'T2'!K107),MAX('T1'!M107,'T2'!K107),COUNTRY_INFO!F107),0)))","v":39066},{"$f":"IF(AND(COUNTRY_INFO!K107>0,COUNTRY_INFO!K107<4),IF(Z107>0,IF(COUNTRY_INFO!K107=1, AD107/(COUNTRY_INFO!F107*0.33)*100, IF(COUNTRY_INFO!K107=2, AD107/(COUNTRY_INFO!F107*0.5)*100, IF(COUNTRY_INFO!K107=3, AD107/COUNTRY_INFO!F107*100))),\"-\"),0)","v":94.453578336557058},{"$f":"IF(COUNTRY_INFO!K107=2,IF(COUNTRY_INFO!G107*0.2>MAX('T1'!N107,'T2'!L107),MAX('T1'!N107,'T2'!L107),COUNTRY_INFO!G107*0.2),IF(COUNTRY_INFO!K107=3,IF(COUNTRY_INFO!G107>MAX('T1'!N107,'T2'!L107),MAX('T1'!N107,'T2'!L107),COUNTRY_INFO!G107),0))","v":0},{"$f":"IF(AND(COUNTRY_INFO!K107>0,COUNTRY_INFO!K107<4),IF(Z107>0,IF(COUNTRY_INFO!K107=1, 0, IF(COUNTRY_INFO!K107=2, AF107/(COUNTRY_INFO!G107*0.2)*100, IF(COUNTRY_INFO!K107=3, AF107/COUNTRY_INFO!G107*100))),\"-\"),0)","v":0},39066,{"$f":"IF(AND(COUNTRY_INFO!K107>0,COUNTRY_INFO!K107<4), IF(AC107/Z107*100<>0, IF(AH107/Z107*100>100,100,AH107/Z107*100), \"-\"),0)","v":30.931851112853039},null,{"$f":"IF(AND(D107<>0, D107<>\"Unknown\",D107<>\"Stopped\",D107<>\"Not required\"),D107/COUNTRY_INFO!D107, 0)","v":1},{"$f":"IF(AND(J107<>0,J107<>\"Unknown\",J107<>\"Stopped\",J107<>\"Not required\"),J107/COUNTRY_INFO!D107, 0)","v":0},{"$f":"IF(AND(P107<>0,P107<>\"Unknown\",P107<>\"Not required\"),P107/(COUNTRY_INFO!E107+COUNTRY_INFO!F107), 0)","v":1},{"$f":"IF(AND(Z107<>0,Z107<>\"Unknown\",Z107<>\"Not required\"),IF(COUNTRY_INFO!K107=1,1,IF(COUNTRY_INFO!K107=2,0.5*COUNTRY_INFO!F107/(0.5*COUNTRY_INFO!F107+0.2*COUNTRY_INFO!G107),IF(COUNTRY_INFO!K107=3,COUNTRY_INFO!F107/(COUNTRY_INFO!F107+COUNTRY_INFO!G107)))),0)","v":0.32748204628771865},{"$f":"IF(AND(Z107<>0,Z107<>\"Unknown\",Z107<>\"Not required\"),IF(COUNTRY_INFO!K107=1,0,IF(COUNTRY_INFO!K107=2,0.2*COUNTRY_INFO!G107/(0.5*COUNTRY_INFO!F107+0.2*COUNTRY_INFO!G107),IF(COUNTRY_INFO!K107=3,COUNTRY_INFO!G107/(COUNTRY_INFO!F107+COUNTRY_INFO!G107)))),0)","v":0.6725179537122814},{"$f":"MAX(COUNTRY_INFO!D107*AK107*PROFILE!$G$7,COUNTRY_INFO!D107*AL107*PROFILE!$G$7)","v":4283.8018830991568},{"$f":"MAX(COUNTRY_INFO!D107*AK107*PROFILE!$G$8,COUNTRY_INFO!D107*AL107*PROFILE!$G$8,COUNTRY_INFO!D107*AM107*PROFILE!$G$8)","v":17135.026482455698},{"$f":"MAX(COUNTRY_INFO!D107*AK107*PROFILE!$G$9,COUNTRY_INFO!D107*AL107*PROFILE!$G$9,COUNTRY_INFO!D107*AM107*PROFILE!$G$9,IF(AND(DISTRICT!Z107<>\"Unknown\",Z107<>\"Not required\"),COUNTRY_INFO!O107*DISTRICT!AN107,0))","v":41360.448310336869},{"$f":"MAX(COUNTRY_INFO!D107*AK107*PROFILE!$G$10,COUNTRY_INFO!D107*AL107*PROFILE!$G$10,IF(AND(DISTRICT!Z107<>\"Unknown\",Z107<>\"Not required\"),COUNTRY_INFO!O107*DISTRICT!AO107,0))","v":84937},147716.27667589171,"Y",{"$f":"MAX('MDA2'!J107,'T1'!L107,'T2'!J107,T3_R1!K107,T3_R2!K107)","v":0},{"$f":"MAX('MDA1'!K107,'MDA2'!K107,'MDA3'!I107,'MDA3'!L107,'T1'!M107,'T2'!K107,T3_R1!L107,T3_R2!L107)","v":39066},{"$f":"MAX('MDA1'!L107,'MDA2'!L107,'MDA3'!J107,'MDA3'!M107,'T1'!N107,'T2'!L107,T3_R1!M107,T3_R2!M107)","v":38282},77348,{"$f":"MAX('MDA2'!J107,T107)","v":0},{"$f":"MAX('MDA1'!K107,'MDA2'!K107,'MDA3'!I107,'MDA3'!L107,V107,AD107)","v":39066},{"$f":"MAX('MDA1'!L107,'MDA2'!L107,'MDA3'!J107,'MDA3'!M107,AF107)","v":38282},77348,52.362543749807166]
[{"$f":"IF(COUNTRY_INFO!A108=0,\" \",COUNTRY_INFO!A108)","v":"Mozambique"},{"$f":"IF(COUNTRY_INFO!B108=0,\" \",COUNTRY_INFO!B108)","v":"Sofala"},{"$f":"IF(COUNTRY_INFO!C108=0,\" \",COUNTRY_INFO!C108)","v":"Dondo"},{"$f":"COUNTRY_INFO!L108","v":189259.44907636536},null,null,{"$f":"MAX('MDA1'!M108,'MDA2'!M108)","v":135302.23205237265},{"$f":"IF(AND(COUNTRY_INFO!H108>0,COUNTRY_INFO!H108<4),IF(D108>MAX('MDA1'!M108,'MDA2'!M108),MAX('MDA1'!M108,'MDA2'!M108),D108),0)","v":135302.23205237265},{"$f":"IF(AND(COUNTRY_INFO!H108>0,COUNTRY_INFO!H108<4), IF(G108/D108*100<>0, IF(G108/D108*100>100,100,G108/D108*100), \"-\"),0)","v":71.490344451852863},{"$f":"COUNTRY_INFO!M108","v":"Not required"},null,null,{"$f":"MAX('MDA1'!M108,MAX('MDA3'!I108,'MDA3'!L108)+MAX('MDA3'!J108,'MDA3'!M108))","v":135302.23205237265},{"$f":"IF(AND(COUNTRY_INFO!I108>0,COUNTRY_INFO!I108<4),IF(J108>MAX('MDA1'!M108,MAX('MDA3'!I108,'MDA3'!L108)+MAX('MDA3'!J108,'MDA3'!M108)),MAX('MDA1'!M108,MAX('MDA3'!I108,'MDA3'!L108)+MAX('MDA3'!J108,'MDA3'!M108)),J108),0)","v":0},{"$f":"IF(AND(COUNTRY_INFO!I108>0,COUNTRY_INFO!I108<4), IF(M108/J108*100<>0, IF(M108/J108*100>100,100,M108/J108*100), \"-\"),0)","v":0},{"$f":"COUNTRY_INFO!N108","v":0},null,null,{"$f":"SUM(MAX('MDA2'!J108, 'T1'!L108, MAX(T3_R1!K108, T3_R2!K108)), MAX('MDA1'!K108, 'MDA2'!K108, 'T1'!M108, MAX(T3_R1!L108, T3_R2!L108)), MAX('MDA1'!L108, 'MDA2'!L108, 'T1'!N108, MAX(T3_R1!M108, T3_R2!M108)))","v":135302.23205237265},{"$f":"IF(AND(COUNTRY_INFO!J108>1,COUNTRY_INFO!J108<4),IF(COUNTRY_INFO!E108>MAX('MDA2'!J108,'T1'!L108,MAX(T3_R1!K108,T3_R2!K108)),MAX('MDA2'!J108,'T1'!L108,MAX(T3_R1!K108,T3_R2!K108)),COUNTRY_INFO!E108),0)","v":0},{"$f":"IF(AND(COUNTRY_INFO!J108>1,COUNTRY_INFO!J108<4), IF(T108/COUNTRY_INFO!E108*100<>0, IF(T108/COUNTRY_INFO!E108*100>100,100,T108/COUNTRY_INFO!E108*100), \"-\"),0)","v":0},{"$f":"IF(AND(COUNTRY_INFO!J108>1,COUNTRY_INFO!J108<4),IF(COUNTRY_INFO!F108>MAX('MDA1'!K108,'MDA2'!K108,'T1'!M108,MAX(T3_R1!L108,T3_R2!L108)),MAX('MDA1'!K108,'MDA2'!K108,'T1'!M108,MAX(T3_R1!L108,T3_R2!L108)),COUNTRY_INFO!F108),0)","v":0},{"$f":"IF(AND(COUNTRY_INFO!J108>1,COUNTRY_INFO!J108<4), IF(V108/COUNTRY_INFO!F108*100<>0, IF(V108/COUNTRY_INFO!F108*100>100,100,V108/COUNTRY_INFO!F108*100), \"-\"),0)","v":0},0,{"$f":"IF(AND(COUNTRY_INFO!J108>1,COUNTRY_INFO!J108<4), IF(S108/P108*100<>0, IF(X108/P108*100>100,100,X108/P108*100), \"-\"),0)","v":0},{"$f":"COUNTRY_INFO!O108","v":48261.3},20794,23237,{"$f":"MAX('T1'!L108,'T2'!J108)+MAX('T1'!M108,'T2'!K108)+MAX('T1'!N108,'T2'!L108)","v":44031},{"$f":"IF(COUNTRY_INFO!K108=1,IF(COUNTRY_INFO!F108*0.33>MAX('T1'!M108,'T2'!K108),MAX('T1'!M108,'T2'!K108),COUNTRY_INFO!F108*0.33),IF(COUNTRY_INFO!K108=2,IF(COUNTRY_INFO!F108*0.5>MAX('T1'!M108,'T2'!K108),MAX('T1'!M108,'T2'!K108),COUNTRY_INFO!F108*0.5),IF(COUNTRY_INFO!K108=3,IF(COUNTRY_INFO!F108>MAX('T1'!M108,'T2'!K108),MAX('T1'!M108,'T2'!K108),COUNTRY_INFO!F108),0)))","v":26496.5},{"$f":"IF(AND(COUNTRY_INFO!K108>0,COUNTRY_INFO!K108<4),IF(Z108>0,IF(COUNTRY_INFO!K108=1, AD108/(COUNTRY_INFO!F108*0.33)*100, IF(COUNTRY_INFO!K108=2, AD108/(COUNTRY_INFO!F108*0.5)*100, IF(COUNTRY_INFO!K108=3, AD108/COUNTRY_INFO!F108*100))),\"-\"),0)","v":100},{"$f":"IF(COUNTRY_INFO!K108=2,IF(COUNTRY_INFO!G108*0.2>MAX('T1'!N108,'T2'!L108),MAX('T1'!N108,'T2'!L108),COUNTRY_INFO!G108*0.2),IF(COUNTRY_INFO!K108=3,IF(COUNTRY_INFO!G108>MAX('T1'!N108,'T2'!L108),MAX('T1'!N108,'T2'!L108),COUNTRY_INFO!G108),0))","v":0},{"$f":"IF(AND(COUNTRY_INFO!K108>0,COUNTRY_INFO!K108<4),IF(Z108>0,IF(COUNTRY_INFO!K108=1, 0, IF(COUNTRY_INFO!K108=2, AF108/(COUNTRY_INFO!G108*0.2)*100, IF(COUNTRY_INFO!K108=3, AF108/COUNTRY_INFO!G108*100))),\"-\"),0)","v":0},26496.5,{"$f":"IF(AND(COUNTRY_INFO!K108>0,COUNTRY_INFO!K108<4), IF(AC108/Z108*100<>0, IF(AH108/Z108*100>100,100,AH108/Z108*100), \"-\"),0)","v":54.902167989672876},null,{"$f":"IF(AND(D108<>0, D108<>\"Unknown\",D108<>\"Stopped\",D108<>\"Not required\"),D108/COUNTRY_INFO!D108, 0)","v":1},{"$f":"IF(AND(J108<>0,J108<>\"Unknown\",J108<>\"Stopped\",J108<>\"Not required\"),J108/COUNTRY_INFO!D108, 0)","v":0},{"$f":"IF(AND(P108<>0,P108<>\"Unknown\",P108<>\"Not required\"),P108/(COUNTRY_INFO!E108+COUNTRY_INFO!F108), 0)","v":0},{"$f":"IF(AND(Z108<>0,Z108<>\"Unknown\",Z108<>\"Not required\"),IF(COUNTRY_INFO!K108=1,1,IF(COUNTRY_INFO!K108=2,0.5*COUNTRY_INFO!F108/(0.5*COUNTRY_INFO!F108+0.2*COUNTRY_INFO!G108),IF(COUNTRY_INFO!K108=3,COUNTRY_INFO!F108/(COUNTRY_INFO!F108+COUNTRY_INFO!G108)))),0)","v":0.54902167989672879},{"$f":"IF(AND(Z108<>0,Z108<>\"Unknown\",Z108<>\"Not required\"),IF(COUNTRY_INFO!K108=1,0,IF(COUNTRY_INFO!K108=2,0.2*COUNTRY_INFO!G108/(0.5*COUNTRY_INFO!F108+0.2*COUNTRY_INFO!G108),IF(COUNTRY_INFO!K108=3,COUNTRY_INFO!G108/(COUNTRY_INFO!F108+COUNTRY_INFO!G108)))),0)","v":0.45097832010327116},{"$f":"MAX(COUNTRY_INFO!D108*AK108*PROFILE!$G$7,COUNTRY_INFO!D108*AL108*PROFILE!$G$7)","v":5488.5740004714853},{"$f":"MAX(COUNTRY_INFO!D108*AK108*PROFILE!$G$8,COUNTRY_INFO!D108*AL108*PROFILE!$G$8,COUNTRY_INFO!D108*AM108*PROFILE!$G$8)","v":21954.064033642382},{"$f":"MAX(COUNTRY_INFO!D108*AK108*PROFILE!$G$9,COUNTRY_INFO!D108*AL108*PROFILE!$G$9,COUNTRY_INFO!D108*AM108*PROFILE!$G$9,IF(AND(DISTRICT!Z108<>\"Unknown\",Z108<>\"Not required\"),COUNTRY_INFO!O108*DISTRICT!AN108,0))","v":52992.6190423464},{"$f":"MAX(COUNTRY_INFO!D108*AK108*PROFILE!$G$10,COUNTRY_INFO!D108*AL108*PROFILE!$G$10,IF(AND(DISTRICT!Z108<>\"Unknown\",Z108<>\"Not required\"),COUNTRY_INFO!O108*DISTRICT!AO108,0))","v":108824.19199990509},189259.44907636536,"Y",{"$f":"MAX('MDA2'!J108,'T1'!L108,'T2'!J108,T3_R1!K108,T3_R2!K108)","v":0},{"$f":"MAX('MDA1'!K108,'MDA2'!K108,'MDA3'!I108,'MDA3'!L108,'T1'!M108,'T2'!K108,T3_R1!L108,T3_R2!L108)","v":44031},{"$f":"MAX('MDA1'!L108,'MDA2'!L108,'MDA3'!J108,'MDA3'!M108,'T1'!N108,'T2'!L108,T3_R1!M108,T3_R2!M108)","v":92717.232052372667},136748.23205237265,{"$f":"MAX('MDA2'!J108,T108)","v":0},{"$f":"MAX('MDA1'!K108,'MDA2'!K108,'MDA3'!I108,'MDA3'!L108,V108,AD108)","v":42585},{"$f":"MAX('MDA1'!L108,'MDA2'!L108,'MDA3'!J108,'MDA3'!M108,AF108)","v":92717.232052372667},135302.23205237265,71.490344451852863]
[{"$f":"IF(COUNTRY_INFO!A109=0,\" \",COUNTRY_INFO!A109)","v":"Mozambique"},{"$f":"IF(COUNTRY_INFO!B109=0,\" \",COUNTRY_INFO!B109)","v":"Sofala"},{"$f":"IF(COUNTRY_INFO!C109=0,\" \",COUNTRY_INFO!C109)","v":"Gorongosa"},{"$f":"COUNTRY_INFO!L109","v":182189.25571719519},null,null,{"$f":"MAX('MDA1'!M109,'MDA2'!M109)","v":153297},{"$f":"IF(AND(COUNTRY_INFO!H109>0,COUNTRY_INFO!H109<4),IF(D109>MAX('MDA1'!M109,'MDA2'!M109),MAX('MDA1'!M109,'MDA2'!M109),D109),0)","v":153297},{"$f":"IF(AND(COUNTRY_INFO!H109>0,COUNTRY_INFO!H109<4), IF(G109/D109*100<>0, IF(G109/D109*100>100,100,G109/D109*100), \"-\"),0)","v":84.14162481565684},{"$f":"COUNTRY_INFO!M109","v":"Not required"},null,null,{"$f":"MAX('MDA1'!M109,MAX('MDA3'!I109,'MDA3'!L109)+MAX('MDA3'!J109,'MDA3'!M109))","v":153297},{"$f":"IF(AND(COUNTRY_INFO!I109>0,COUNTRY_INFO!I109<4),IF(J109>MAX('MDA1'!M109,MAX('MDA3'!I109,'MDA3'!L109)+MAX('MDA3'!J109,'MDA3'!M109)),MAX('MDA1'!M109,MAX('MDA3'!I109,'MDA3'!L109)+MAX('MDA3'!J109,'MDA3'!M109)),J109),0)","v":0},{"$f":"IF(AND(COUNTRY_INFO!I109>0,COUNTRY_INFO!I109<4), IF(M109/J109*100<>0, IF(M109/J109*100>100,100,M109/J109*100), \"-\"),0)","v":0},{"$f":"COUNTRY_INFO!N109","v":72147},null,null,{"$f":"SUM(MAX('MDA2'!J109, 'T1'!L109, MAX(T3_R1!K109, T3_R2!K109)), MAX('MDA1'!K109, 'MDA2'!K109, 'T1'!M109, MAX(T3_R1!L109, T3_R2!L109)), MAX('MDA1'!L109, 'MDA2'!L109, 'T1'!N109, MAX(T3_R1!M109, T3_R2!M109)))","v":153297},{"$f":"IF(AND(COUNTRY_INFO!J109>1,COUNTRY_INFO!J109<4),IF(COUNTRY_INFO!E109>MAX('MDA2'!J109,'T1'!L109,MAX(T3_R1!K109,T3_R2!K109)),MAX('MDA2'!J109,'T1'!L109,MAX(T3_R1!K109,T3_R2!K109)),COUNTRY_INFO!E109),0)","v":0},{"$f":"IF(AND(COUNTRY_INFO!J109>1,COUNTRY_INFO!J109<4), IF(T109/COUNTRY_INFO!E109*100<>0, IF(T109/COUNTRY_INFO!E109*100>100,100,T109/COUNTRY_INFO!E109*100), \"-\"),0)","v":"-"},{"$f":"IF(AND(COUNTRY_INFO!J109>1,COUNTRY_INFO!J109<4),IF(COUNTRY_INFO!F109>MAX('MDA1'!K109,'MDA2'!K109,'T1'!M109,MAX(T3_R1!L109,T3_R2!L109)),MAX('MDA1'!K109,'MDA2'!K109,'T1'!M109,MAX(T3_R1!L109,T3_R2!L109)),COUNTRY_INFO!F109),0)","v":51013},{"$f":"IF(AND(COUNTRY_INFO!J109>1,COUNTRY_INFO!J109<4), IF(V109/COUNTRY_INFO!F109*100<>0, IF(V109/COUNTRY_INFO!F109*100>100,100,V109/COUNTRY_INFO!F109*100), \"-\"),0)","v":100},51013,{"$f":"IF(AND(COUNTRY_INFO!J109>1,COUNTRY_INFO!J109<4), IF(S109/P109*100<>0, IF(X109/P109*100>100,100,X109/P109*100), \"-\"),0)","v":70.707028705282269},{"$f":"COUNTRY_INFO!O109","v":155772},30583,32592,{"$f":"MAX('T1'!L109,'T2'!J109)+MAX('T1'!M109,'T2'!K109)+MAX('T1'!N109,'T2'!L109)","v":63175},{"$f":"IF(COUNTRY_INFO!K109=1,IF(COUNTRY_INFO!F109*0.33>MAX('T1'!M109,'T2'!K109),MAX('T1'!M109,'T2'!K109),COUNTRY_INFO!F109*0.33),IF(COUNTRY_INFO!K109=2,IF(COUNTRY_INFO!F109*0.5>MAX('T1'!M109,'T2'!K109),MAX('T1'!M109,'T2'!K109),COUNTRY_INFO!F109*0.5),IF(COUNTRY_INFO!K109=3,IF(COUNTRY_INFO!F109>MAX('T1'!M109,'T2'!K109),MAX('T1'!M109,'T2'!K109),COUNTRY_INFO!F109),0)))","v":51013},{"$f":"IF(AND(COUNTRY_INFO!K109>0,COUNTRY_INFO!K109<4),IF(Z109>0,IF(COUNTRY_INFO!K109=1, AD109/(COUNTRY_INFO!F109*0.33)*100, IF(COUNTRY_INFO!K109=2, AD109/(COUNTRY_INFO!F109*0.5)*100, IF(COUNTRY_INFO!K109=3, AD109/COUNTRY_INFO!F109*100))),\"-\"),0)","v":100},{"$f":"IF(COUNTRY_INFO!K109=2,IF(COUNTRY_INFO!G109*0.2>MAX('T1'!N109,'T2'!L109),MAX('T1'!N109,'T2'!L109),COUNTRY_INFO!G109*0.2),IF(COUNTRY_INFO!K109=3,IF(COUNTRY_INFO!G109>MAX('T1'!N109,'T2'!L109),MAX('T1'!N109,'T2'!L109),COUNTRY_INFO!G109),0))","v":0},{"$f":"IF(AND(COUNTRY_INFO!K109>0,COUNTRY_INFO!K109<4),IF(Z109>0,IF(COUNTRY_INFO!K109=1, 0, IF(COUNTRY_INFO!K109=2, AF109/(COUNTRY_INFO!G109*0.2)*100, IF(COUNTRY_INFO!K109=3, AF109/COUNTRY_INFO!G109*100))),\"-\"),0)","v":0},51013,{"$f":"IF(AND(COUNTRY_INFO!K109>0,COUNTRY_INFO!K109<4), IF(AC109/Z109*100<>0, IF(AH109/Z109*100>100,100,AH109/Z109*100), \"-\"),0)","v":32.748504224122435},null,{"$f":"IF(AND(D109<>0, D109<>\"Unknown\",D109<>\"Stopped\",D109<>\"Not required\"),D109/COUNTRY_INFO!D109, 0)","v":1},{"$f":"IF(AND(J109<>0,J109<>\"Unknown\",J109<>\"Stopped\",J109<>\"Not required\"),J109/COUNTRY_INFO!D109, 0)","v":0},{"$f":"IF(AND(P109<>0,P109<>\"Unknown\",P109<>\"Not required\"),P109/(COUNTRY_INFO!E109+COUNTRY_INFO!F109), 0)","v":1},{"$f":"IF(AND(Z109<>0,Z109<>\"Unknown\",Z109<>\"Not required\"),IF(COUNTRY_INFO!K109=1,1,IF(COUNTRY_INFO!K109=2,0.5*COUNTRY_INFO!F109/(0.5*COUNTRY_INFO!F109+0.2*COUNTRY_INFO!G109),IF(COUNTRY_INFO!K109=3,COUNTRY_INFO!F109/(COUNTRY_INFO!F109+COUNTRY_INFO!G109)))),0)","v":0.32748504224122438},{"$f":"IF(AND(Z109<>0,Z109<>\"Unknown\",Z109<>\"Not required\"),IF(COUNTRY_INFO!K109=1,0,IF(COUNTRY_INFO!K109=2,0.2*COUNTRY_INFO!G109/(0.5*COUNTRY_INFO!F109+0.2*COUNTRY_INFO!G109),IF(COUNTRY_INFO!K109=3,COUNTRY_INFO!G109/(COUNTRY_INFO!F109+COUNTRY_INFO!G109)))),0)","v":0.67251495775877568},{"$f":"MAX(COUNTRY_INFO!D109*AK109*PROFILE!$G$7,COUNTRY_INFO!D109*AL109*PROFILE!$G$7)","v":5283.5365260477392},{"$f":"MAX(COUNTRY_INFO!D109*AK109*PROFILE!$G$8,COUNTRY_INFO!D109*AL109*PROFILE!$G$8,COUNTRY_INFO!D109*AM109*PROFILE!$G$8)","v":21133.922801619537},{"$f":"MAX(COUNTRY_INFO!D109*AK109*PROFILE!$G$9,COUNTRY_INFO!D109*AL109*PROFILE!$G$9,COUNTRY_INFO!D109*AM109*PROFILE!$G$9,IF(AND(DISTRICT!Z109<>\"Unknown\",Z109<>\"Not required\"),COUNTRY_INFO!O109*DISTRICT!AN109,0))","v":51013.000000000007},{"$f":"MAX(COUNTRY_INFO!D109*AK109*PROFILE!$G$10,COUNTRY_INFO!D109*AL109*PROFILE!$G$10,IF(AND(DISTRICT!Z109<>\"Unknown\",Z109<>\"Not required\"),COUNTRY_INFO!O109*DISTRICT!AO109,0))","v":104759},182189.45932766728,"Y",{"$f":"MAX('MDA2'!J109,'T1'!L109,'T2'!J109,T3_R1!K109,T3_R2!K109)","v":0},{"$f":"MAX('MDA1'!K109,'MDA2'!K109,'MDA3'!I109,'MDA3'!L109,'T1'!M109,'T2'!K109,T3_R1!L109,T3_R2!L109)","v":63175},{"$f":"MAX('MDA1'!L109,'MDA2'!L109,'MDA3'!J109,'MDA3'!M109,'T1'!N109,'T2'!L109,T3_R1!M109,T3_R2!M109)","v":90122},153297,{"$f":"MAX('MDA2'!J109,T109)","v":0},{"$f":"MAX('MDA1'!K109,'MDA2'!K109,'MDA3'!I109,'MDA3'!L109,V109,AD109)","v":63175},{"$f":"MAX('MDA1'!L109,'MDA2'!L109,'MDA3'!J109,'MDA3'!M109,AF109)","v":90122},153297,84.14153078104026]
[{"$f":"IF(COUNTRY_INFO!A110=0,\" \",COUNTRY_INFO!A110)","v":"Mozambique"},{"$f":"IF(COUNTRY_INFO!B110=0,\" \",COUNTRY_INFO!B110)","v":"Sofala"},{"$f":"IF(COUNTRY_INFO!C110=0,\" \",COUNTRY_INFO!C110)","v":"Machanga"},{"$f":"COUNTRY_INFO!L110","v":68633.362176051247},null,null,{"$f":"MAX('MDA1'!M110,'MDA2'!M110)","v":56362},{"$f":"IF(AND(COUNTRY_INFO!H110>0,COUNTRY_INFO!H110<4),IF(D110>MAX('MDA1'!M110,'MDA2'!M110),MAX('MDA1'!M110,'MDA2'!M110),D110),0)","v":56362},{"$f":"IF(AND(COUNTRY_INFO!H110>0,COUNTRY_INFO!H110<4), IF(G110/D110*100<>0, IF(G110/D110*100>100,100,G110/D110*100), \"-\"),0)","v":82.120412308267788},{"$f":"COUNTRY_INFO!M110","v":"Not required"},null,null,{"$f":"MAX('MDA1'!M110,MAX('MDA3'!I110,'MDA3'!L110)+MAX('MDA3'!J110,'MDA3'!M110))","v":56362},{"$f":"IF(AND(COUNTRY_INFO!I110>0,COUNTRY_INFO!I110<4),IF(J110>MAX('MDA1'!M110,MAX('MDA3'!I110,'MDA3'!L110)+MAX('MDA3'!J110,'MDA3'!M110)),MAX('MDA1'!M110,MAX('MDA3'!I110,'MDA3'!L110)+MAX('MDA3'!J110,'MDA3'!M110)),J110),0)","v":0},{"$f":"IF(AND(COUNTRY_INFO!I110>0,COUNTRY_INFO!I110<4), IF(M110/J110*100<>0, IF(M110/J110*100>100,100,M110/J110*100), \"-\"),0)","v":0},{"$f":"COUNTRY_INFO!N110","v":27178},null,null,{"$f":"SUM(MAX('MDA2'!J110, 'T1'!L110, MAX(T3_R1!K110, T3_R2!K110)), MAX('MDA1'!K110, 'MDA2'!K110, 'T1'!M110, MAX(T3_R1!L110, T3_R2!L110)), MAX('MDA1'!L110, 'MDA2'!L110, 'T1'!N110, MAX(T3_R1!M110, T3_R2!M110)))","v":56362},{"$f":"IF(AND(COUNTRY_INFO!J110>1,COUNTRY_INFO!J110<4),IF(COUNTRY_INFO!E110>MAX('MDA2'!J110,'T1'!L110,MAX(T3_R1!K110,T3_R2!K110)),MAX('MDA2'!J110,'T1'!L110,MAX(T3_R1!K110,T3_R2!K110)),COUNTRY_INFO!E110),0)","v":0},{"$f":"IF(AND(COUNTRY_INFO!J110>1,COUNTRY_INFO!J110<4), IF(T110/COUNTRY_INFO!E110*100<>0, IF(T110/COUNTRY_INFO!E110*100>100,100,T110/COUNTRY_INFO!E110*100), \"-\"),0)","v":"-"},{"$f":"IF(AND(COUNTRY_INFO!J110>1,COUNTRY_INFO!J110<4),IF(COUNTRY_INFO!F110>MAX('MDA1'!K110,'MDA2'!K110,'T1'!M110,MAX(T3_R1!L110,T3_R2!L110)),MAX('MDA1'!K110,'MDA2'!K110,'T1'!M110,MAX(T3_R1!L110,T3_R2!L110)),COUNTRY_INFO!F110),0)","v":19217},{"$f":"IF(AND(COUNTRY_INFO!J110>1,COUNTRY_INFO!J110<4), IF(V110/COUNTRY_INFO!F110*100<>0, IF(V110/COUNTRY_INFO!F110*100>100,100,V110/COUNTRY_INFO!F110*100), \"-\"),0)","v":100},19217,{"$f":"IF(AND(COUNTRY_INFO!J110>1,COUNTRY_INFO!J110<4), IF(S110/P110*100<>0, IF(X110/P110*100>100,100,X110/P110*100), \"-\"),0)","v":70.707925528000587},{"$f":"COUNTRY_INFO!O110","v":17501.3},9557,10125,{"$f":"MAX('T1'!L110,'T2'!J110)+MAX('T1'!M110,'T2'!K110)+MAX('T1'!N110,'T2'!L110)","v":19682},{"$f":"IF(COUNTRY_INFO!K110=1,IF(COUNTRY_INFO!F110*0.33>MAX('T1'!M110,'T2'!K110),MAX('T1'!M110,'T2'!K110),COUNTRY_INFO!F110*0.33),IF(COUNTRY_INFO!K110=2,IF(COUNTRY_INFO!F110*0.5>MAX('T1'!M110,'T2'!K110),MAX('T1'!M110,'T2'!K110),COUNTRY_INFO!F110*0.5),IF(COUNTRY_INFO!K110=3,IF(COUNTRY_INFO!F110>MAX('T1'!M110,'T2'!K110),MAX('T1'!M110,'T2'!K110),COUNTRY_INFO!F110),0)))","v":9608.5},{"$f":"IF(AND(COUNTRY_INFO!K110>0,COUNTRY_INFO!K110<4),IF(Z110>0,IF(COUNTRY_INFO!K110=1, AD110/(COUNTRY_INFO!F110*0.33)*100, IF(COUNTRY_INFO!K110=2, AD110/(COUNTRY_INFO!F110*0.5)*100, IF(COUNTRY_INFO!K110=3, AD110/COUNTRY_INFO!F110*100))),\"-\"),0)","v":100},{"$f":"IF(COUNTRY_INFO!K110=2,IF(COUNTRY_INFO!G110*0.2>MAX('T1'!N110,'T2'!L110),MAX('T1'!N110,'T2'!L110),COUNTRY_INFO!G110*0.2),IF(COUNTRY_INFO!K110=3,IF(COUNTRY_INFO!G110>MAX('T1'!N110,'T2'!L110),MAX('T1'!N110,'T2'!L110),COUNTRY_INFO!G110),0))","v":0},{"$f":"IF(AND(COUNTRY_INFO!K110>0,COUNTRY_INFO!K110<4),IF(Z110>0,IF(COUNTRY_INFO!K110=1, 0, IF(COUNTRY_INFO!K110=2, AF110/(COUNTRY_INFO!G110*0.2)*100, IF(COUNTRY_INFO!K110=3, AF110/COUNTRY_INFO!G110*100))),\"-\"),0)","v":0},9608.5,{"$f":"IF(AND(COUNTRY_INFO!K110>0,COUNTRY_INFO!K110<4), IF(AC110/Z110*100<>0, IF(AH110/Z110*100>100,100,AH110/Z110*100), \"-\"),0)","v":54.901635878477606},null,{"$f":"IF(AND(D110<>0, D110<>\"Unknown\",D110<>\"Stopped\",D110<>\"Not required\"),D110/COUNTRY_INFO!D110, 0)","v":1},{"$f":"IF(AND(J110<>0,J110<>\"Unknown\",J110<>\"Stopped\",J110<>\"Not required\"),J110/COUNTRY_INFO!D110, 0)","v":0},{"$f":"IF(AND(P110<>0,P110<>\"Unknown\",P110<>\"Not required\"),P110/(COUNTRY_INFO!E110+COUNTRY_INFO!F110), 0)","v":1},{"$f":"IF(AND(Z110<>0,Z110<>\"Unknown\",Z110<>\"Not required\"),IF(COUNTRY_INFO!K110=1,1,IF(COUNTRY_INFO!K110=2,0.5*COUNTRY_INFO!F110/(0.5*COUNTRY_INFO!F110+0.2*COUNTRY_INFO!G110),IF(COUNTRY_INFO!K110=3,COUNTRY_INFO!F110/(COUNTRY_INFO!F110+COUNTRY_INFO!G110)))),0)","v":0.54901635878477606},{"$f":"IF(AND(Z110<>0,Z110<>\"Unknown\",Z110<>\"Not required\"),IF(COUNTRY_INFO!K110=1,0,IF(COUNTRY_INFO!K110=2,0.2*COUNTRY_INFO!G110/(0.5*COUNTRY_INFO!F110+0.2*COUNTRY_INFO!G110),IF(COUNTRY_INFO!K110=3,COUNTRY_INFO!G110/(COUNTRY_INFO!F110+COUNTRY_INFO!G110)))),0)","v":0.45098364121522405},{"$f":"MAX(COUNTRY_INFO!D110*AK110*PROFILE!$G$7,COUNTRY_INFO!D110*AL110*PROFILE!$G$7)","v":1990.3856269412547},{"$f":"MAX(COUNTRY_INFO!D110*AK110*PROFILE!$G$8,COUNTRY_INFO!D110*AL110*PROFILE!$G$8,COUNTRY_INFO!D110*AM110*PROFILE!$G$8)","v":7961.4583864144006},{"$f":"MAX(COUNTRY_INFO!D110*AK110*PROFILE!$G$9,COUNTRY_INFO!D110*AL110*PROFILE!$G$9,COUNTRY_INFO!D110*AM110*PROFILE!$G$9,IF(AND(DISTRICT!Z110<>\"Unknown\",Z110<>\"Not required\"),COUNTRY_INFO!O110*DISTRICT!AN110,0))","v":19217.331727111454},{"$f":"MAX(COUNTRY_INFO!D110*AK110*PROFILE!$G$10,COUNTRY_INFO!D110*AL110*PROFILE!$G$10,IF(AND(DISTRICT!Z110<>\"Unknown\",Z110<>\"Not required\"),COUNTRY_INFO!O110*DISTRICT!AO110,0))","v":39464.186435584139},68633.362176051247,"Y",{"$f":"MAX('MDA2'!J110,'T1'!L110,'T2'!J110,T3_R1!K110,T3_R2!K110)","v":0},{"$f":"MAX('MDA1'!K110,'MDA2'!K110,'MDA3'!I110,'MDA3'!L110,'T1'!M110,'T2'!K110,T3_R1!L110,T3_R2!L110)","v":25576},{"$f":"MAX('MDA1'!L110,'MDA2'!L110,'MDA3'!J110,'MDA3'!M110,'T1'!N110,'T2'!L110,T3_R1!M110,T3_R2!M110)","v":30786},56362,{"$f":"MAX('MDA2'!J110,T110)","v":0},{"$f":"MAX('MDA1'!K110,'MDA2'!K110,'MDA3'!I110,'MDA3'!L110,V110,AD110)","v":25576},{"$f":"MAX('MDA1'!L110,'MDA2'!L110,'MDA3'!J110,'MDA3'!M110,AF110)","v":30786},56362,82.120412308267788]
[{"$f":"IF(COUNTRY_INFO!A111=0,\" \",COUNTRY_INFO!A111)","v":"Mozambique"},{"$f":"IF(COUNTRY_INFO!B111=0,\" \",COUNTRY_INFO!B111)","v":"Sofala"},{"$f":"IF(COUNTRY_INFO!C111=0,\" \",COUNTRY_INFO!C111)","v":"Maringue"},{"$f":"COUNTRY_INFO!L111","v":101762.00279174968},null,null,{"$f":"MAX('MDA1'!M111,'MDA2'!M111)","v":95833},{"$f":"IF(AND(COUNTRY_INFO!H111>0,COUNTRY_INFO!H111<4),IF(D111>MAX('MDA1'!M111,'MDA2'!M111),MAX('MDA1'!M111,'MDA2'!M111),D111),0)","v":95833},{"$f":"IF(AND(COUNTRY_INFO!H111>0,COUNTRY_INFO!H111<4), IF(G111/D111*100<>0, IF(G111/D111*100>100,100,G111/D111*100), \"-\"),0)","v":94.173657525311242},{"$f":"COUNTRY_INFO!M111","v":"Not required"},null,null,{"$f":"MAX('MDA1'!M111,MAX('MDA3'!I111,'MDA3'!L111)+MAX('MDA3'!J111,'MDA3'!M111))","v":95833},{"$f":"IF(AND(COUNTRY_INFO!I111>0,COUNTRY_INFO!I111<4),IF(J111>MAX('MDA1'!M111,MAX('MDA3'!I111,'MDA3'!L111)+MAX('MDA3'!J111,'MDA3'!M111)),MAX('MDA1'!M111,MAX('MDA3'!I111,'MDA3'!L111)+MAX('MDA3'!J111,'MDA3'!M111)),J111),0)","v":0},{"$f":"IF(AND(COUNTRY_INFO!I111>0,COUNTRY_INFO!I111<4), IF(M111/J111*100<>0, IF(M111/J111*100>100,100,M111/J111*100), \"-\"),0)","v":0},{"$f":"COUNTRY_INFO!N111","v":40297},null,null,{"$f":"SUM(MAX('MDA2'!J111, 'T1'!L111, MAX(T3_R1!K111, T3_R2!K111)), MAX('MDA1'!K111, 'MDA2'!K111, 'T1'!M111, MAX(T3_R1!L111, T3_R2!L111)), MAX('MDA1'!L111, 'MDA2'!L111, 'T1'!N111, MAX(T3_R1!M111, T3_R2!M111)))","v":95833},{"$f":"IF(AND(COUNTRY_INFO!J111>1,COUNTRY_INFO!J111<4),IF(COUNTRY_INFO!E111>MAX('MDA2'!J111,'T1'!L111,MAX(T3_R1!K111,T3_R2!K111)),MAX('MDA2'!J111,'T1'!L111,MAX(T3_R1!K111,T3_R2!K111)),COUNTRY_INFO!E111),0)","v":0},{"$f":"IF(AND(COUNTRY_INFO!J111>1,COUNTRY_INFO!J111<4), IF(T111/COUNTRY_INFO!E111*100<>0, IF(T111/COUNTRY_INFO!E111*100>100,100,T111/COUNTRY_INFO!E111*100), \"-\"),0)","v":"-"},{"$f":"IF(AND(COUNTRY_INFO!J111>1,COUNTRY_INFO!J111<4),IF(COUNTRY_INFO!F111>MAX('MDA1'!K111,'MDA2'!K111,'T1'!M111,MAX(T3_R1!L111,T3_R2!L111)),MAX('MDA1'!K111,'MDA2'!K111,'T1'!M111,MAX(T3_R1!L111,T3_R2!L111)),COUNTRY_INFO!F111),0)","v":28493},{"$f":"IF(AND(COUNTRY_INFO!J111>1,COUNTRY_INFO!J111<4), IF(V111/COUNTRY_INFO!F111*100<>0, IF(V111/COUNTRY_INFO!F111*100>100,100,V111/COUNTRY_INFO!F111*100), \"-\"),0)","v":100},28493,{"$f":"IF(AND(COUNTRY_INFO!J111>1,COUNTRY_INFO!J111<4), IF(S111/P111*100<>0, IF(X111/P111*100>100,100,X111/P111*100), \"-\"),0)","v":70.707496835992757},{"$f":"COUNTRY_INFO!O111","v":25949.1},15083,15865,{"$f":"MAX('T1'!L111,'T2'!J111)+MAX('T1'!M111,'T2'!K111)+MAX('T1'!N111,'T2'!L111)","v":30948},{"$f":"IF(COUNTRY_INFO!K111=1,IF(COUNTRY_INFO!F111*0.33>MAX('T1'!M111,'T2'!K111),MAX('T1'!M111,'T2'!K111),COUNTRY_INFO!F111*0.33),IF(COUNTRY_INFO!K111=2,IF(COUNTRY_INFO!F111*0.5>MAX('T1'!M111,'T2'!K111),MAX('T1'!M111,'T2'!K111),COUNTRY_INFO!F111*0.5),IF(COUNTRY_INFO!K111=3,IF(COUNTRY_INFO!F111>MAX('T1'!M111,'T2'!K111),MAX('T1'!M111,'T2'!K111),COUNTRY_INFO!F111),0)))","v":14246.5},{"$f":"IF(AND(COUNTRY_INFO!K111>0,COUNTRY_INFO!K111<4),IF(Z111>0,IF(COUNTRY_INFO!K111=1, AD111/(COUNTRY_INFO!F111*0.33)*100, IF(COUNTRY_INFO!K111=2, AD111/(COUNTRY_INFO!F111*0.5)*100, IF(COUNTRY_INFO!K111=3, AD111/COUNTRY_INFO!F111*100))),\"-\"),0)","v":100},{"$f":"IF(COUNTRY_INFO!K111=2,IF(COUNTRY_INFO!G111*0.2>MAX('T1'!N111,'T2'!L111),MAX('T1'!N111,'T2'!L111),COUNTRY_INFO!G111*0.2),IF(COUNTRY_INFO!K111=3,IF(COUNTRY_INFO!G111>MAX('T1'!N111,'T2'!L111),MAX('T1'!N111,'T2'!L111),COUNTRY_INFO!G111),0))","v":0},{"$f":"IF(AND(COUNTRY_INFO!K111>0,COUNTRY_INFO!K111<4),IF(Z111>0,IF(COUNTRY_INFO!K111=1, 0, IF(COUNTRY_INFO!K111=2, AF111/(COUNTRY_INFO!G111*0.2)*100, IF(COUNTRY_INFO!K111=3, AF111/COUNTRY_INFO!G111*100))),\"-\"),0)","v":0},14246.5,{"$f":"IF(AND(COUNTRY_INFO!K111>0,COUNTRY_INFO!K111<4), IF(AC111/Z111*100<>0, IF(AH111/Z111*100>100,100,AH111/Z111*100), \"-\"),0)","v":54.901711427371282},null,{"$f":"IF(AND(D111<>0, D111<>\"Unknown\",D111<>\"Stopped\",D111<>\"Not required\"),D111/COUNTRY_INFO!D111, 0)","v":1},{"$f":"IF(AND(J111<>0,J111<>\"Unknown\",J111<>\"Stopped\",J111<>\"Not required\"),J111/COUNTRY_INFO!D111, 0)","v":0},{"$f":"IF(AND(P111<>0,P111<>\"Unknown\",P111<>\"Not required\"),P111/(COUNTRY_INFO!E111+COUNTRY_INFO!F111), 0)","v":1},{"$f":"IF(AND(Z111<>0,Z111<>\"Unknown\",Z111<>\"Not required\"),IF(COUNTRY_INFO!K111=1,1,IF(COUNTRY_INFO!K111=2,0.5*COUNTRY_INFO!F111/(0.5*COUNTRY_INFO!F111+0.2*COUNTRY_INFO!G111),IF(COUNTRY_INFO!K111=3,COUNTRY_INFO!F111/(COUNTRY_INFO!F111+COUNTRY_INFO!G111)))),0)","v":0.5490171142737128},{"$f":"IF(AND(Z111<>0,Z111<>\"Unknown\",Z111<>\"Not required\"),IF(COUNTRY_INFO!K111=1,0,IF(COUNTRY_INFO!K111=2,0.2*COUNTRY_INFO!G111/(0.5*COUNTRY_INFO!F111+0.2*COUNTRY_INFO!G111),IF(COUNTRY_INFO!K111=3,COUNTRY_INFO!G111/(COUNTRY_INFO!F111+COUNTRY_INFO!G111)))),0)","v":0.45098288572628725},{"$f":"MAX(COUNTRY_INFO!D111*AK111*PROFILE!$G$7,COUNTRY_INFO!D111*AL111*PROFILE!$G$7)","v":2951.1249529915958},{"$f":"MAX(COUNTRY_INFO!D111*AK111*PROFILE!$G$8,COUNTRY_INFO!D111*AL111*PROFILE!$G$8,COUNTRY_INFO!D111*AM111*PROFILE!$G$8)","v":11804.375086077323},{"$f":"MAX(COUNTRY_INFO!D111*AK111*PROFILE!$G$9,COUNTRY_INFO!D111*AL111*PROFILE!$G$9,COUNTRY_INFO!D111*AM111*PROFILE!$G$9,IF(AND(DISTRICT!Z111<>\"Unknown\",Z111<>\"Not required\"),COUNTRY_INFO!O111*DISTRICT!AN111,0))","v":28493.346426013723},{"$f":"MAX(COUNTRY_INFO!D111*AK111*PROFILE!$G$10,COUNTRY_INFO!D111*AL111*PROFILE!$G$10,IF(AND(DISTRICT!Z111<>\"Unknown\",Z111<>\"Not required\"),COUNTRY_INFO!O111*DISTRICT!AO111,0))","v":58513.156326667035},101762.00279174968,"Y",{"$f":"MAX('MDA2'!J111,'T1'!L111,'T2'!J111,T3_R1!K111,T3_R2!K111)","v":0},{"$f":"MAX('MDA1'!K111,'MDA2'!K111,'MDA3'!I111,'MDA3'!L111,'T1'!M111,'T2'!K111,T3_R1!L111,T3_R2!L111)","v":31221},{"$f":"MAX('MDA1'!L111,'MDA2'!L111,'MDA3'!J111,'MDA3'!M111,'T1'!N111,'T2'!L111,T3_R1!M111,T3_R2!M111)","v":64612},95833,{"$f":"MAX('MDA2'!J111,T111)","v":0},{"$f":"MAX('MDA1'!K111,'MDA2'!K111,'MDA3'!I111,'MDA3'!L111,V111,AD111)","v":31221},{"$f":"MAX('MDA1'!L111,'MDA2'!L111,'MDA3'!J111,'MDA3'!M111,AF111)","v":64612},95833,94.173657525311242]
[{"$f":"IF(COUNTRY_INFO!A112=0,\" \",COUNTRY_INFO!A112)","v":"Mozambique"},{"$f":"IF(COUNTRY_INFO!B112=0,\" \",COUNTRY_INFO!B112)","v":"Sofala"},{"$f":"IF(COUNTRY_INFO!C112=0,\" \",COUNTRY_INFO!C112)","v":"Marromeu"},{"$f":"COUNTRY_INFO!L112","v":196403.02035270637},null,null,{"$f":"MAX('MDA1'!M112,'MDA2'!M112)","v":152208},{"$f":"IF(AND(COUNTRY_INFO!H112>0,COUNTRY_INFO!H112<4),IF(D112>MAX('MDA1'!M112,'MDA2'!M112),MAX('MDA1'!M112,'MDA2'!M112),D112),0)","v":152208},{"$f":"IF(AND(COUNTRY_INFO!H112>0,COUNTRY_INFO!H112<4), IF(G112/D112*100<>0, IF(G112/D112*100>100,100,G112/D112*100), \"-\"),0)","v":77.4977898642599},{"$f":"COUNTRY_INFO!M112","v":"Not required"},null,null,{"$f":"MAX('MDA1'!M112,MAX('MDA3'!I112,'MDA3'!L112)+MAX('MDA3'!J112,'MDA3'!M112))","v":152208},{"$f":"IF(AND(COUNTRY_INFO!I112>0,COUNTRY_INFO!I112<4),IF(J112>MAX('MDA1'!M112,MAX('MDA3'!I112,'MDA3'!L112)+MAX('MDA3'!J112,'MDA3'!M112)),MAX('MDA1'!M112,MAX('MDA3'!I112,'MDA3'!L112)+MAX('MDA3'!J112,'MDA3'!M112)),J112),0)","v":0},{"$f":"IF(AND(COUNTRY_INFO!I112>0,COUNTRY_INFO!I112<4), IF(M112/J112*100<>0, IF(M112/J112*100>100,100,M112/J112*100), \"-\"),0)","v":0},{"$f":"COUNTRY_INFO!N112","v":77776},null,null,{"$f":"SUM(MAX('MDA2'!J112, 'T1'!L112, MAX(T3_R1!K112, T3_R2!K112)), MAX('MDA1'!K112, 'MDA2'!K112, 'T1'!M112, MAX(T3_R1!L112, T3_R2!L112)), MAX('MDA1'!L112, 'MDA2'!L112, 'T1'!N112, MAX(T3_R1!M112, T3_R2!M112)))","v":152208},{"$f":"IF(AND(COUNTRY_INFO!J112>1,COUNTRY_INFO!J112<4),IF(COUNTRY_INFO!E112>MAX('MDA2'!J112,'T1'!L112,MAX(T3_R1!K112,T3_R2!K112)),MAX('MDA2'!J112,'T1'!L112,MAX(T3_R1!K112,T3_R2!K112)),COUNTRY_INFO!E112),0)","v":0},{"$f":"IF(AND(COUNTRY_INFO!J112>1,COUNTRY_INFO!J112<4), IF(T112/COUNTRY_INFO!E112*100<>0, IF(T112/COUNTRY_INFO!E112*100>100,100,T112/COUNTRY_INFO!E112*100), \"-\"),0)","v":"-"},{"$f":"IF(AND(COUNTRY_INFO!J112>1,COUNTRY_INFO!J112<4),IF(COUNTRY_INFO!F112>MAX('MDA1'!K112,'MDA2'!K112,'T1'!M112,MAX(T3_R1!L112,T3_R2!L112)),MAX('MDA1'!K112,'MDA2'!K112,'T1'!M112,MAX(T3_R1!L112,T3_R2!L112)),COUNTRY_INFO!F112),0)","v":54993},{"$f":"IF(AND(COUNTRY_INFO!J112>1,COUNTRY_INFO!J112<4), IF(V112/COUNTRY_INFO!F112*100<>0, IF(V112/COUNTRY_INFO!F112*100>100,100,V112/COUNTRY_INFO!F112*100), \"-\"),0)","v":100},54993,{"$f":"IF(AND(COUNTRY_INFO!J112>1,COUNTRY_INFO!J112<4), IF(S112/P112*100<>0, IF(X112/P112*100>100,100,X112/P112*100), \"-\"),0)","v":70.706901872042792},{"$f":"COUNTRY_INFO!O112","v":167925},34984,24429,{"$f":"MAX('T1'!L112,'T2'!J112)+MAX('T1'!M112,'T2'!K112)+MAX('T1'!N112,'T2'!L112)","v":59413},{"$f":"IF(COUNTRY_INFO!K112=1,IF(COUNTRY_INFO!F112*0.33>MAX('T1'!M112,'T2'!K112),MAX('T1'!M112,'T2'!K112),COUNTRY_INFO!F112*0.33),IF(COUNTRY_INFO!K112=2,IF(COUNTRY_INFO!F112*0.5>MAX('T1'!M112,'T2'!K112),MAX('T1'!M112,'T2'!K112),COUNTRY_INFO!F112*0.5),IF(COUNTRY_INFO!K112=3,IF(COUNTRY_INFO!F112>MAX('T1'!M112,'T2'!K112),MAX('T1'!M112,'T2'!K112),COUNTRY_INFO!F112),0)))","v":54993},{"$f":"IF(AND(COUNTRY_INFO!K112>0,COUNTRY_INFO!K112<4),IF(Z112>0,IF(COUNTRY_INFO!K112=1, AD112/(COUNTRY_INFO!F112*0.33)*100, IF(COUNTRY_INFO!K112=2, AD112/(COUNTRY_INFO!F112*0.5)*100, IF(COUNTRY_INFO!K112=3, AD112/COUNTRY_INFO!F112*100))),\"-\"),0)","v":100},{"$f":"IF(COUNTRY_INFO!K112=2,IF(COUNTRY_INFO!G112*0.2>MAX('T1'!N112,'T2'!L112),MAX('T1'!N112,'T2'!L112),COUNTRY_INFO!G112*0.2),IF(COUNTRY_INFO!K112=3,IF(COUNTRY_INFO!G112>MAX('T1'!N112,'T2'!L112),MAX('T1'!N112,'T2'!L112),COUNTRY_INFO!G112),0))","v":0},{"$f":"IF(AND(COUNTRY_INFO!K112>0,COUNTRY_INFO!K112<4),IF(Z112>0,IF(COUNTRY_INFO!K112=1, 0, IF(COUNTRY_INFO!K112=2, AF112/(COUNTRY_INFO!G112*0.2)*100, IF(COUNTRY_INFO!K112=3, AF112/COUNTRY_INFO!G112*100))),\"-\"),0)","v":0},54993,{"$f":"IF(AND(COUNTRY_INFO!K112>0,COUNTRY_INFO!K112<4), IF(AC112/Z112*100<>0, IF(AH112/Z112*100>100,100,AH112/Z112*100), \"-\"),0)","v":32.748548459133545},null,{"$f":"IF(AND(D112<>0, D112<>\"Unknown\",D112<>\"Stopped\",D112<>\"Not required\"),D112/COUNTRY_INFO!D112, 0)","v":1},{"$f":"IF(AND(J112<>0,J112<>\"Unknown\",J112<>\"Stopped\",J112<>\"Not required\"),J112/COUNTRY_INFO!D112, 0)","v":0},{"$f":"IF(AND(P112<>0,P112<>\"Unknown\",P112<>\"Not required\"),P112/(COUNTRY_INFO!E112+COUNTRY_INFO!F112), 0)","v":1},{"$f":"IF(AND(Z112<>0,Z112<>\"Unknown\",Z112<>\"Not required\"),IF(COUNTRY_INFO!K112=1,1,IF(COUNTRY_INFO!K112=2,0.5*COUNTRY_INFO!F112/(0.5*COUNTRY_INFO!F112+0.2*COUNTRY_INFO!G112),IF(COUNTRY_INFO!K112=3,COUNTRY_INFO!F112/(COUNTRY_INFO!F112+COUNTRY_INFO!G112)))),0)","v":0.32748548459133542},{"$f":"IF(AND(Z112<>0,Z112<>\"Unknown\",Z112<>\"Not required\"),IF(COUNTRY_INFO!K112=1,0,IF(COUNTRY_INFO!K112=2,0.2*COUNTRY_INFO!G112/(0.5*COUNTRY_INFO!F112+0.2*COUNTRY_INFO!G112),IF(COUNTRY_INFO!K112=3,COUNTRY_INFO!G112/(COUNTRY_INFO!F112+COUNTRY_INFO!G112)))),0)","v":0.67251451540866458},{"$f":"MAX(COUNTRY_INFO!D112*AK112*PROFILE!$G$7,COUNTRY_INFO!D112*AL112*PROFILE!$G$7)","v":5695.7394538699045},{"$f":"MAX(COUNTRY_INFO!D112*AK112*PROFILE!$G$8,COUNTRY_INFO!D112*AL112*PROFILE!$G$8,COUNTRY_INFO!D112*AM112*PROFILE!$G$8)","v":22782.717091627343},{"$f":"MAX(COUNTRY_INFO!D112*AK112*PROFILE!$G$9,COUNTRY_INFO!D112*AL112*PROFILE!$G$9,COUNTRY_INFO!D112*AM112*PROFILE!$G$9,IF(AND(DISTRICT!Z112<>\"Unknown\",Z112<>\"Not required\"),COUNTRY_INFO!O112*DISTRICT!AN112,0))","v":54993},{"$f":"MAX(COUNTRY_INFO!D112*AK112*PROFILE!$G$10,COUNTRY_INFO!D112*AL112*PROFILE!$G$10,IF(AND(DISTRICT!Z112<>\"Unknown\",Z112<>\"Not required\"),COUNTRY_INFO!O112*DISTRICT!AO112,0))","v":112932},196403.45654549723,"Y",{"$f":"MAX('MDA2'!J112,'T1'!L112,'T2'!J112,T3_R1!K112,T3_R2!K112)","v":0},{"$f":"MAX('MDA1'!K112,'MDA2'!K112,'MDA3'!I112,'MDA3'!L112,'T1'!M112,'T2'!K112,T3_R1!L112,T3_R2!L112)","v":59413},{"$f":"MAX('MDA1'!L112,'MDA2'!L112,'MDA3'!J112,'MDA3'!M112,'T1'!N112,'T2'!L112,T3_R1!M112,T3_R2!M112)","v":92795},152208,{"$f":"MAX('MDA2'!J112,T112)","v":0},{"$f":"MAX('MDA1'!K112,'MDA2'!K112,'MDA3'!I112,'MDA3'!L112,V112,AD112)","v":59413},{"$f":"MAX('MDA1'!L112,'MDA2'!L112,'MDA3'!J112,'MDA3'!M112,AF112)","v":92795},152208,77.497617749278618]
[{"$f":"IF(COUNTRY_INFO!A113=0,\" \",COUNTRY_INFO!A113)","v":"Mozambique"},{"$f":"IF(COUNTRY_INFO!B113=0,\" \",COUNTRY_INFO!B113)","v":"Sofala"},{"$f":"IF(COUNTRY_INFO!C113=0,\" \",COUNTRY_INFO!C113)","v":"Muanza"},{"$f":"COUNTRY_INFO!L113","v":43785.427066230834},null,null,{"$f":"MAX('MDA1'!M113,'MDA2'!M113)","v":28460},{"$f":"IF(AND(COUNTRY_INFO!H113>0,COUNTRY_INFO!H113<4),IF(D113>MAX('MDA1'!M113,'MDA2'!M113),MAX('MDA1'!M113,'MDA2'!M113),D113),0)","v":28460},{"$f":"IF(AND(COUNTRY_INFO!H113>0,COUNTRY_INFO!H113<4), IF(G113/D113*100<>0, IF(G113/D113*100>100,100,G113/D113*100), \"-\"),0)","v":64.998795048751617},{"$f":"COUNTRY_INFO!M113","v":"Not required"},null,null,{"$f":"MAX('MDA1'!M113,MAX('MDA3'!I113,'MDA3'!L113)+MAX('MDA3'!J113,'MDA3'!M113))","v":28460},{"$f":"IF(AND(COUNTRY_INFO!I113>0,COUNTRY_INFO!I113<4),IF(J113>MAX('MDA1'!M113,MAX('MDA3'!I113,'MDA3'!L113)+MAX('MDA3'!J113,'MDA3'!M113)),MAX('MDA1'!M113,MAX('MDA3'!I113,'MDA3'!L113)+MAX('MDA3'!J113,'MDA3'!M113)),J113),0)","v":0},{"$f":"IF(AND(COUNTRY_INFO!I113>0,COUNTRY_INFO!I113<4), IF(M113/J113*100<>0, IF(M113/J113*100>100,100,M113/J113*100), \"-\"),0)","v":0},{"$f":"COUNTRY_INFO!N113","v":17339},null,null,{"$f":"SUM(MAX('MDA2'!J113, 'T1'!L113, MAX(T3_R1!K113, T3_R2!K113)), MAX('MDA1'!K113, 'MDA2'!K113, 'T1'!M113, MAX(T3_R1!L113, T3_R2!L113)), MAX('MDA1'!L113, 'MDA2'!L113, 'T1'!N113, MAX(T3_R1!M113, T3_R2!M113)))","v":28460},{"$f":"IF(AND(COUNTRY_INFO!J113>1,COUNTRY_INFO!J113<4),IF(COUNTRY_INFO!E113>MAX('MDA2'!J113,'T1'!L113,MAX(T3_R1!K113,T3_R2!K113)),MAX('MDA2'!J113,'T1'!L113,MAX(T3_R1!K113,T3_R2!K113)),COUNTRY_INFO!E113),0)","v":0},{"$f":"IF(AND(COUNTRY_INFO!J113>1,COUNTRY_INFO!J113<4), IF(T113/COUNTRY_INFO!E113*100<>0, IF(T113/COUNTRY_INFO!E113*100>100,100,T113/COUNTRY_INFO!E113*100), \"-\"),0)","v":"-"},{"$f":"IF(AND(COUNTRY_INFO!J113>1,COUNTRY_INFO!J113<4),IF(COUNTRY_INFO!F113>MAX('MDA1'!K113,'MDA2'!K113,'T1'!M113,MAX(T3_R1!L113,T3_R2!L113)),MAX('MDA1'!K113,'MDA2'!K113,'T1'!M113,MAX(T3_R1!L113,T3_R2!L113)),COUNTRY_INFO!F113),0)","v":12260},{"$f":"IF(AND(COUNTRY_INFO!J113>1,COUNTRY_INFO!J113<4), IF(V113/COUNTRY_INFO!F113*100<>0, IF(V113/COUNTRY_INFO!F113*100>100,100,V113/COUNTRY_INFO!F113*100), \"-\"),0)","v":100},12260,{"$f":"IF(AND(COUNTRY_INFO!J113>1,COUNTRY_INFO!J113<4), IF(S113/P113*100<>0, IF(X113/P113*100>100,100,X113/P113*100), \"-\"),0)","v":70.70765326720111},{"$f":"COUNTRY_INFO!O113","v":11165.400000000001},6694,6726,{"$f":"MAX('T1'!L113,'T2'!J113)+MAX('T1'!M113,'T2'!K113)+MAX('T1'!N113,'T2'!L113)","v":13420},{"$f":"IF(COUNTRY_INFO!K113=1,IF(COUNTRY_INFO!F113*0.33>MAX('T1'!M113,'T2'!K113),MAX('T1'!M113,'T2'!K113),COUNTRY_INFO!F113*0.33),IF(COUNTRY_INFO!K113=2,IF(COUNTRY_INFO!F113*0.5>MAX('T1'!M113,'T2'!K113),MAX('T1'!M113,'T2'!K113),COUNTRY_INFO!F113*0.5),IF(COUNTRY_INFO!K113=3,IF(COUNTRY_INFO!F113>MAX('T1'!M113,'T2'!K113),MAX('T1'!M113,'T2'!K113),COUNTRY_INFO!F113),0)))","v":6130},{"$f":"IF(AND(COUNTRY_INFO!K113>0,COUNTRY_INFO!K113<4),IF(Z113>0,IF(COUNTRY_INFO!K113=1, AD113/(COUNTRY_INFO!F113*0.33)*100, IF(COUNTRY_INFO!K113=2, AD113/(COUNTRY_INFO!F113*0.5)*100, IF(COUNTRY_INFO!K113=3, AD113/COUNTRY_INFO!F113*100))),\"-\"),0)","v":100},{"$f":"IF(COUNTRY_INFO!K113=2,IF(COUNTRY_INFO!G113*0.2>MAX('T1'!N113,'T2'!L113),MAX('T1'!N113,'T2'!L113),COUNTRY_INFO!G113*0.2),IF(COUNTRY_INFO!K113=3,IF(COUNTRY_INFO!G113>MAX('T1'!N113,'T2'!L113),MAX('T1'!N113,'T2'!L113),COUNTRY_INFO!G113),0))","v":0},{"$f":"IF(AND(COUNTRY_INFO!K113>0,COUNTRY_INFO!K113<4),IF(Z113>0,IF(COUNTRY_INFO!K113=1, 0, IF(COUNTRY_INFO!K113=2, AF113/(COUNTRY_INFO!G113*0.2)*100, IF(COUNTRY_INFO!K113=3, AF113/COUNTRY_INFO!G113*100))),\"-\"),0)","v":0},6130,{"$f":"IF(AND(COUNTRY_INFO!K113>0,COUNTRY_INFO!K113<4), IF(AC113/Z113*100<>0, IF(AH113/Z113*100>100,100,AH113/Z113*100), \"-\"),0)","v":54.901750049259313},null,{"$f":"IF(AND(D113<>0, D113<>\"Unknown\",D113<>\"Stopped\",D113<>\"Not required\"),D113/COUNTRY_INFO!D113, 0)","v":1},{"$f":"IF(AND(J113<>0,J113<>\"Unknown\",J113<>\"Stopped\",J113<>\"Not required\"),J113/COUNTRY_INFO!D113, 0)","v":0},{"$f":"IF(AND(P113<>0,P113<>\"Unknown\",P113<>\"Not required\"),P113/(COUNTRY_INFO!E113+COUNTRY_INFO!F113), 0)","v":1},{"$f":"IF(AND(Z113<>0,Z113<>\"Unknown\",Z113<>\"Not required\"),IF(COUNTRY_INFO!K113=1,1,IF(COUNTRY_INFO!K113=2,0.5*COUNTRY_INFO!F113/(0.5*COUNTRY_INFO!F113+0.2*COUNTRY_INFO!G113),IF(COUNTRY_INFO!K113=3,COUNTRY_INFO!F113/(COUNTRY_INFO!F113+COUNTRY_INFO!G113)))),0)","v":0.54901750049259312},{"$f":"IF(AND(Z113<>0,Z113<>\"Unknown\",Z113<>\"Not required\"),IF(COUNTRY_INFO!K113=1,0,IF(COUNTRY_INFO!K113=2,0.2*COUNTRY_INFO!G113/(0.5*COUNTRY_INFO!F113+0.2*COUNTRY_INFO!G113),IF(COUNTRY_INFO!K113=3,COUNTRY_INFO!G113/(COUNTRY_INFO!F113+COUNTRY_INFO!G113)))),0)","v":0.45098249950740682},{"$f":"MAX(COUNTRY_INFO!D113*AK113*PROFILE!$G$7,COUNTRY_INFO!D113*AL113*PROFILE!$G$7)","v":1269.7889472260226},{"$f":"MAX(COUNTRY_INFO!D113*AK113*PROFILE!$G$8,COUNTRY_INFO!D113*AL113*PROFILE!$G$8,COUNTRY_INFO!D113*AM113*PROFILE!$G$8)","v":5079.1021227402107},{"$f":"MAX(COUNTRY_INFO!D113*AK113*PROFILE!$G$9,COUNTRY_INFO!D113*AL113*PROFILE!$G$9,COUNTRY_INFO!D113*AM113*PROFILE!$G$9,IF(AND(DISTRICT!Z113<>\"Unknown\",Z113<>\"Not required\"),COUNTRY_INFO!O113*DISTRICT!AN113,0))","v":12259.913401686912},{"$f":"MAX(COUNTRY_INFO!D113*AK113*PROFILE!$G$10,COUNTRY_INFO!D113*AL113*PROFILE!$G$10,IF(AND(DISTRICT!Z113<>\"Unknown\",Z113<>\"Not required\"),COUNTRY_INFO!O113*DISTRICT!AO113,0))","v":25176.622594577686},43785.427066230826,"Y",{"$f":"MAX('MDA2'!J113,'T1'!L113,'T2'!J113,T3_R1!K113,T3_R2!K113)","v":0},{"$f":"MAX('MDA1'!K113,'MDA2'!K113,'MDA3'!I113,'MDA3'!L113,'T1'!M113,'T2'!K113,T3_R1!L113,T3_R2!L113)","v":13423},{"$f":"MAX('MDA1'!L113,'MDA2'!L113,'MDA3'!J113,'MDA3'!M113,'T1'!N113,'T2'!L113,T3_R1!M113,T3_R2!M113)","v":15037},28460,{"$f":"MAX('MDA2'!J113,T113)","v":0},{"$f":"MAX('MDA1'!K113,'MDA2'!K113,'MDA3'!I113,'MDA3'!L113,V113,AD113)","v":13423},{"$f":"MAX('MDA1'!L113,'MDA2'!L113,'MDA3'!J113,'MDA3'!M113,AF113)","v":15037},28460,64.998795048751631]
[{"$f":"IF(COUNTRY_INFO!A114=0,\" \",COUNTRY_INFO!A114)","v":"Mozambique"},{"$f":"IF(COUNTRY_INFO!B114=0,\" \",COUNTRY_INFO!B114)","v":"Sofala"},{"$f":"IF(COUNTRY_INFO!C114=0,\" \",COUNTRY_INFO!C114)","v":"Nhamatanda"},{"$f":"COUNTRY_INFO!L114","v":322510.83970778942},null,null,{"$f":"MAX('MDA1'!M114,'MDA2'!M114)","v":215548},{"$f":"IF(AND(COUNTRY_INFO!H114>0,COUNTRY_INFO!H114<4),IF(D114>MAX('MDA1'!M114,'MDA2'!M114),MAX('MDA1'!M114,'MDA2'!M114),D114),0)","v":215548},{"$f":"IF(AND(COUNTRY_INFO!H114>0,COUNTRY_INFO!H114<4), IF(G114/D114*100<>0, IF(G114/D114*100>100,100,G114/D114*100), \"-\"),0)","v":66.83434274497472},{"$f":"COUNTRY_INFO!M114","v":"Not required"},null,null,{"$f":"MAX('MDA1'!M114,MAX('MDA3'!I114,'MDA3'!L114)+MAX('MDA3'!J114,'MDA3'!M114))","v":215548},{"$f":"IF(AND(COUNTRY_INFO!I114>0,COUNTRY_INFO!I114<4),IF(J114>MAX('MDA1'!M114,MAX('MDA3'!I114,'MDA3'!L114)+MAX('MDA3'!J114,'MDA3'!M114)),MAX('MDA1'!M114,MAX('MDA3'!I114,'MDA3'!L114)+MAX('MDA3'!J114,'MDA3'!M114)),J114),0)","v":0},{"$f":"IF(AND(COUNTRY_INFO!I114>0,COUNTRY_INFO!I114<4), IF(M114/J114*100<>0, IF(M114/J114*100>100,100,M114/J114*100), \"-\"),0)","v":0},{"$f":"COUNTRY_INFO!N114","v":127714},null,null,{"$f":"SUM(MAX('MDA2'!J114, 'T1'!L114, MAX(T3_R1!K114, T3_R2!K114)), MAX('MDA1'!K114, 'MDA2'!K114, 'T1'!M114, MAX(T3_R1!L114, T3_R2!L114)), MAX('MDA1'!L114, 'MDA2'!L114, 'T1'!N114, MAX(T3_R1!M114, T3_R2!M114)))","v":215548},{"$f":"IF(AND(COUNTRY_INFO!J114>1,COUNTRY_INFO!J114<4),IF(COUNTRY_INFO!E114>MAX('MDA2'!J114,'T1'!L114,MAX(T3_R1!K114,T3_R2!K114)),MAX('MDA2'!J114,'T1'!L114,MAX(T3_R1!K114,T3_R2!K114)),COUNTRY_INFO!E114),0)","v":0},{"$f":"IF(AND(COUNTRY_INFO!J114>1,COUNTRY_INFO!J114<4), IF(T114/COUNTRY_INFO!E114*100<>0, IF(T114/COUNTRY_INFO!E114*100>100,100,T114/COUNTRY_INFO!E114*100), \"-\"),0)","v":"-"},{"$f":"IF(AND(COUNTRY_INFO!J114>1,COUNTRY_INFO!J114<4),IF(COUNTRY_INFO!F114>MAX('MDA1'!K114,'MDA2'!K114,'T1'!M114,MAX(T3_R1!L114,T3_R2!L114)),MAX('MDA1'!K114,'MDA2'!K114,'T1'!M114,MAX(T3_R1!L114,T3_R2!L114)),COUNTRY_INFO!F114),0)","v":90303},{"$f":"IF(AND(COUNTRY_INFO!J114>1,COUNTRY_INFO!J114<4), IF(V114/COUNTRY_INFO!F114*100<>0, IF(V114/COUNTRY_INFO!F114*100>100,100,V114/COUNTRY_INFO!F114*100), \"-\"),0)","v":100},90303,{"$f":"IF(AND(COUNTRY_INFO!J114>1,COUNTRY_INFO!J114<4), IF(S114/P114*100<>0, IF(X114/P114*100>100,100,X114/P114*100), \"-\"),0)","v":70.707205161532798},{"$f":"COUNTRY_INFO!O114","v":82240.3},58492,54722,{"$f":"MAX('T1'!L114,'T2'!J114)+MAX('T1'!M114,'T2'!K114)+MAX('T1'!N114,'T2'!L114)","v":113214},{"$f":"IF(COUNTRY_INFO!K114=1,IF(COUNTRY_INFO!F114*0.33>MAX('T1'!M114,'T2'!K114),MAX('T1'!M114,'T2'!K114),COUNTRY_INFO!F114*0.33),IF(COUNTRY_INFO!K114=2,IF(COUNTRY_INFO!F114*0.5>MAX('T1'!M114,'T2'!K114),MAX('T1'!M114,'T2'!K114),COUNTRY_INFO!F114*0.5),IF(COUNTRY_INFO!K114=3,IF(COUNTRY_INFO!F114>MAX('T1'!M114,'T2'!K114),MAX('T1'!M114,'T2'!K114),COUNTRY_INFO!F114),0)))","v":45151.5},{"$f":"IF(AND(COUNTRY_INFO!K114>0,COUNTRY_INFO!K114<4),IF(Z114>0,IF(COUNTRY_INFO!K114=1, AD114/(COUNTRY_INFO!F114*0.33)*100, IF(COUNTRY_INFO!K114=2, AD114/(COUNTRY_INFO!F114*0.5)*100, IF(COUNTRY_INFO!K114=3, AD114/COUNTRY_INFO!F114*100))),\"-\"),0)","v":100},{"$f":"IF(COUNTRY_INFO!K114=2,IF(COUNTRY_INFO!G114*0.2>MAX('T1'!N114,'T2'!L114),MAX('T1'!N114,'T2'!L114),COUNTRY_INFO!G114*0.2),IF(COUNTRY_INFO!K114=3,IF(COUNTRY_INFO!G114>MAX('T1'!N114,'T2'!L114),MAX('T1'!N114,'T2'!L114),COUNTRY_INFO!G114),0))","v":0},{"$f":"IF(AND(COUNTRY_INFO!K114>0,COUNTRY_INFO!K114<4),IF(Z114>0,IF(COUNTRY_INFO!K114=1, 0, IF(COUNTRY_INFO!K114=2, AF114/(COUNTRY_INFO!G114*0.2)*100, IF(COUNTRY_INFO!K114=3, AF114/COUNTRY_INFO!G114*100))),\"-\"),0)","v":0},45151.5,{"$f":"IF(AND(COUNTRY_INFO!K114>0,COUNTRY_INFO!K114<4), IF(AC114/Z114*100<>0, IF(AH114/Z114*100>100,100,AH114/Z114*100), \"-\"),0)","v":54.901915484257714},null,{"$f":"IF(AND(D114<>0, D114<>\"Unknown\",D114<>\"Stopped\",D114<>\"Not required\"),D114/COUNTRY_INFO!D114, 0)","v":1},{"$f":"IF(AND(J114<>0,J114<>\"Unknown\",J114<>\"Stopped\",J114<>\"Not required\"),J114/COUNTRY_INFO!D114, 0)","v":0},{"$f":"IF(AND(P114<>0,P114<>\"Unknown\",P114<>\"Not required\"),P114/(COUNTRY_INFO!E114+COUNTRY_INFO!F114), 0)","v":1},{"$f":"IF(AND(Z114<>0,Z114<>\"Unknown\",Z114<>\"Not required\"),IF(COUNTRY_INFO!K114=1,1,IF(COUNTRY_INFO!K114=2,0.5*COUNTRY_INFO!F114/(0.5*COUNTRY_INFO!F114+0.2*COUNTRY_INFO!G114),IF(COUNTRY_INFO!K114=3,COUNTRY_INFO!F114/(COUNTRY_INFO!F114+COUNTRY_INFO!G114)))),0)","v":0.54901915484257713},{"$f":"IF(AND(Z114<>0,Z114<>\"Unknown\",Z114<>\"Not required\"),IF(COUNTRY_INFO!K114=1,0,IF(COUNTRY_INFO!K114=2,0.2*COUNTRY_INFO!G114/(0.5*COUNTRY_INFO!F114+0.2*COUNTRY_INFO!G114),IF(COUNTRY_INFO!K114=3,COUNTRY_INFO!G114/(COUNTRY_INFO!F114+COUNTRY_INFO!G114)))),0)","v":0.45098084515742282},{"$f":"MAX(COUNTRY_INFO!D114*AK114*PROFILE!$G$7,COUNTRY_INFO!D114*AL114*PROFILE!$G$7)","v":9352.8995161354524},{"$f":"MAX(COUNTRY_INFO!D114*AK114*PROFILE!$G$8,COUNTRY_INFO!D114*AL114*PROFILE!$G$8,COUNTRY_INFO!D114*AM114*PROFILE!$G$8)","v":37411.202775041704},{"$f":"MAX(COUNTRY_INFO!D114*AK114*PROFILE!$G$9,COUNTRY_INFO!D114*AL114*PROFILE!$G$9,COUNTRY_INFO!D114*AM114*PROFILE!$G$9,IF(AND(DISTRICT!Z114<>\"Unknown\",Z114<>\"Not required\"),COUNTRY_INFO!O114*DISTRICT!AN114,0))","v":90302.989621226821},{"$f":"MAX(COUNTRY_INFO!D114*AK114*PROFILE!$G$10,COUNTRY_INFO!D114*AL114*PROFILE!$G$10,IF(AND(DISTRICT!Z114<>\"Unknown\",Z114<>\"Not required\"),COUNTRY_INFO!O114*DISTRICT!AO114,0))","v":185443.74779538542},322510.83970778942,"Y",{"$f":"MAX('MDA2'!J114,'T1'!L114,'T2'!J114,T3_R1!K114,T3_R2!K114)","v":0},{"$f":"MAX('MDA1'!K114,'MDA2'!K114,'MDA3'!I114,'MDA3'!L114,'T1'!M114,'T2'!K114,T3_R1!L114,T3_R2!L114)","v":113214},{"$f":"MAX('MDA1'!L114,'MDA2'!L114,'MDA3'!J114,'MDA3'!M114,'T1'!N114,'T2'!L114,T3_R1!M114,T3_R2!M114)","v":102334},215548,{"$f":"MAX('MDA2'!J114,T114)","v":0},{"$f":"MAX('MDA1'!K114,'MDA2'!K114,'MDA3'!I114,'MDA3'!L114,V114,AD114)","v":113214},{"$f":"MAX('MDA1'!L114,'MDA2'!L114,'MDA3'!J114,'MDA3'!M114,AF114)","v":102334},215548,66.83434274497472]
[{"$f":"IF(COUNTRY_INFO!A115=0,\" \",COUNTRY_INFO!A115)","v":"Mozambique"},{"$f":"IF(COUNTRY_INFO!B115=0,\" \",COUNTRY_INFO!B115)","v":"Manica"},{"$f":"IF(COUNTRY_INFO!C115=0,\" \",COUNTRY_INFO!C115)","v":"Cid. Chimoio"},{"$f":"COUNTRY_INFO!L115","v":0},null,null,{"$f":"MAX('MDA1'!M115,'MDA2'!M115)","v":0},{"$f":"IF(AND(COUNTRY_INFO!H115>0,COUNTRY_INFO!H115<4),IF(D115>MAX('MDA1'!M115,'MDA2'!M115),MAX('MDA1'!M115,'MDA2'!M115),D115),0)","v":0},{"$f":"IF(AND(COUNTRY_INFO!H115>0,COUNTRY_INFO!H115<4), IF(G115/D115*100<>0, IF(G115/D115*100>100,100,G115/D115*100), \"-\"),0)","v":0},{"$f":"COUNTRY_INFO!M115","v":"Not required"},null,null,{"$f":"MAX('MDA1'!M115,MAX('MDA3'!I115,'MDA3'!L115)+MAX('MDA3'!J115,'MDA3'!M115))","v":0},{"$f":"IF(AND(COUNTRY_INFO!I115>0,COUNTRY_INFO!I115<4),IF(J115>MAX('MDA1'!M115,MAX('MDA3'!I115,'MDA3'!L115)+MAX('MDA3'!J115,'MDA3'!M115)),MAX('MDA1'!M115,MAX('MDA3'!I115,'MDA3'!L115)+MAX('MDA3'!J115,'MDA3'!M115)),J115),0)","v":0},{"$f":"IF(AND(COUNTRY_INFO!I115>0,COUNTRY_INFO!I115<4), IF(M115/J115*100<>0, IF(M115/J115*100>100,100,M115/J115*100), \"-\"),0)","v":0},{"$f":"COUNTRY_INFO!N115","v":138116},null,null,{"$f":"SUM(MAX('MDA2'!J115, 'T1'!L115, MAX(T3_R1!K115, T3_R2!K115)), MAX('MDA1'!K115, 'MDA2'!K115, 'T1'!M115, MAX(T3_R1!L115, T3_R2!L115)), MAX('MDA1'!L115, 'MDA2'!L115, 'T1'!N115, MAX(T3_R1!M115, T3_R2!M115)))","v":106092},{"$f":"IF(AND(COUNTRY_INFO!J115>1,COUNTRY_INFO!J115<4),IF(COUNTRY_INFO!E115>MAX('MDA2'!J115,'T1'!L115,MAX(T3_R1!K115,T3_R2!K115)),MAX('MDA2'!J115,'T1'!L115,MAX(T3_R1!K115,T3_R2!K115)),COUNTRY_INFO!E115),0)","v":0},{"$f":"IF(AND(COUNTRY_INFO!J115>1,COUNTRY_INFO!J115<4), IF(T115/COUNTRY_INFO!E115*100<>0, IF(T115/COUNTRY_INFO!E115*100>100,100,T115/COUNTRY_INFO!E115*100), \"-\"),0)","v":"-"},{"$f":"IF(AND(COUNTRY_INFO!J115>1,COUNTRY_INFO!J115<4),IF(COUNTRY_INFO!F115>MAX('MDA1'!K115,'MDA2'!K115,'T1'!M115,MAX(T3_R1!L115,T3_R2!L115)),MAX('MDA1'!K115,'MDA2'!K115,'T1'!M115,MAX(T3_R1!L115,T3_R2!L115)),COUNTRY_INFO!F115),0)","v":97658},{"$f":"IF(AND(COUNTRY_INFO!J115>1,COUNTRY_INFO!J115<4), IF(V115/COUNTRY_INFO!F115*100<>0, IF(V115/COUNTRY_INFO!F115*100>100,100,V115/COUNTRY_INFO!F115*100), \"-\"),0)","v":100},97658,{"$f":"IF(AND(COUNTRY_INFO!J115>1,COUNTRY_INFO!J115<4), IF(S115/P115*100<>0, IF(X115/P115*100>100,100,X115/P115*100), \"-\"),0)","v":70.707231602421146},{"$f":"COUNTRY_INFO!O115","v":298206},48444,57648,{"$f":"MAX('T1'!L115,'T2'!J115)+MAX('T1'!M115,'T2'!K115)+MAX('T1'!N115,'T2'!L115)","v":106092},{"$f":"IF(COUNTRY_INFO!K115=1,IF(COUNTRY_INFO!F115*0.33>MAX('T1'!M115,'T2'!K115),MAX('T1'!M115,'T2'!K115),COUNTRY_INFO!F115*0.33),IF(COUNTRY_INFO!K115=2,IF(COUNTRY_INFO!F115*0.5>MAX('T1'!M115,'T2'!K115),MAX('T1'!M115,'T2'!K115),COUNTRY_INFO!F115*0.5),IF(COUNTRY_INFO!K115=3,IF(COUNTRY_INFO!F115>MAX('T1'!M115,'T2'!K115),MAX('T1'!M115,'T2'!K115),COUNTRY_INFO!F115),0)))","v":97658},{"$f":"IF(AND(COUNTRY_INFO!K115>0,COUNTRY_INFO!K115<4),IF(Z115>0,IF(COUNTRY_INFO!K115=1, AD115/(COUNTRY_INFO!F115*0.33)*100, IF(COUNTRY_INFO!K115=2, AD115/(COUNTRY_INFO!F115*0.5)*100, IF(COUNTRY_INFO!K115=3, AD115/COUNTRY_INFO!F115*100))),\"-\"),0)","v":100},{"$f":"IF(COUNTRY_INFO!K115=2,IF(COUNTRY_INFO!G115*0.2>MAX('T1'!N115,'T2'!L115),MAX('T1'!N115,'T2'!L115),COUNTRY_INFO!G115*0.2),IF(COUNTRY_INFO!K115=3,IF(COUNTRY_INFO!G115>MAX('T1'!N115,'T2'!L115),MAX('T1'!N115,'T2'!L115),COUNTRY_INFO!G115),0))","v":0},{"$f":"IF(AND(COUNTRY_INFO!K115>0,COUNTRY_INFO!K115<4),IF(Z115>0,IF(COUNTRY_INFO!K115=1, 0, IF(COUNTRY_INFO!K115=2, AF115/(COUNTRY_INFO!G115*0.2)*100, IF(COUNTRY_INFO!K115=3, AF115/COUNTRY_INFO!G115*100))),\"-\"),0)","v":0},97658,{"$f":"IF(AND(COUNTRY_INFO!K115>0,COUNTRY_INFO!K115<4), IF(AC115/Z115*100<>0, IF(AH115/Z115*100>100,100,AH115/Z115*100), \"-\"),0)","v":32.748502712889746},null,{"$f":"IF(AND(D115<>0, D115<>\"Unknown\",D115<>\"Stopped\",D115<>\"Not required\"),D115/COUNTRY_INFO!D115, 0)","v":0},{"$f":"IF(AND(J115<>0,J115<>\"Unknown\",J115<>\"Stopped\",J115<>\"Not required\"),J115/COUNTRY_INFO!D115, 0)","v":0},{"$f":"IF(AND(P115<>0,P115<>\"Unknown\",P115<>\"Not required\"),P115/(COUNTRY_INFO!E115+COUNTRY_INFO!F115), 0)","v":1},{"$f":"IF(AND(Z115<>0,Z115<>\"Unknown\",Z115<>\"Not required\"),IF(COUNTRY_INFO!K115=1,1,IF(COUNTRY_INFO!K115=2,0.5*COUNTRY_INFO!F115/(0.5*COUNTRY_INFO!F115+0.2*COUNTRY_INFO!G115),IF(COUNTRY_INFO!K115=3,COUNTRY_INFO!F115/(COUNTRY_INFO!F115+COUNTRY_INFO!G115)))),0)","v":0.32748502712889749},{"$f":"IF(AND(Z115<>0,Z115<>\"Unknown\",Z115<>\"Not required\"),IF(COUNTRY_INFO!K115=1,0,IF(COUNTRY_INFO!K115=2,0.2*COUNTRY_INFO!G115/(0.5*COUNTRY_INFO!F115+0.2*COUNTRY_INFO!G115),IF(COUNTRY_INFO!K115=3,COUNTRY_INFO!G115/(COUNTRY_INFO!F115+COUNTRY_INFO!G115)))),0)","v":0.67251497287110251},{"$f":"MAX(COUNTRY_INFO!D115*AK115*PROFILE!$G$7,COUNTRY_INFO!D115*AL115*PROFILE!$G$7)","v":0},{"$f":"MAX(COUNTRY_INFO!D115*AK115*PROFILE!$G$8,COUNTRY_INFO!D115*AL115*PROFILE!$G$8,COUNTRY_INFO!D115*AM115*PROFILE!$G$8)","v":40458.275721392471},{"$f":"MAX(COUNTRY_INFO!D115*AK115*PROFILE!$G$9,COUNTRY_INFO!D115*AL115*PROFILE!$G$9,COUNTRY_INFO!D115*AM115*PROFILE!$G$9,IF(AND(DISTRICT!Z115<>\"Unknown\",Z115<>\"Not required\"),COUNTRY_INFO!O115*DISTRICT!AN115,0))","v":97658.000319599858},{"$f":"MAX(COUNTRY_INFO!D115*AK115*PROFILE!$G$10,COUNTRY_INFO!D115*AL115*PROFILE!$G$10,IF(AND(DISTRICT!Z115<>\"Unknown\",Z115<>\"Not required\"),COUNTRY_INFO!O115*DISTRICT!AO115,0))","v":200548},338664.27604099235,"Y",{"$f":"MAX('MDA2'!J115,'T1'!L115,'T2'!J115,T3_R1!K115,T3_R2!K115)","v":0},{"$f":"MAX('MDA1'!K115,'MDA2'!K115,'MDA3'!I115,'MDA3'!L115,'T1'!M115,'T2'!K115,T3_R1!L115,T3_R2!L115)","v":106092},{"$f":"MAX('MDA1'!L115,'MDA2'!L115,'MDA3'!J115,'MDA3'!M115,'T1'!N115,'T2'!L115,T3_R1!M115,T3_R2!M115)","v":0},106092,{"$f":"MAX('MDA2'!J115,T115)","v":0},{"$f":"MAX('MDA1'!K115,'MDA2'!K115,'MDA3'!I115,'MDA3'!L115,V115,AD115)","v":97658},{"$f":"MAX('MDA1'!L115,'MDA2'!L115,'MDA3'!J115,'MDA3'!M115,AF115)","v":0},97658,28.836227175073926]
[{"$f":"IF(COUNTRY_INFO!A116=0,\" \",COUNTRY_INFO!A116)","v":"Mozambique"},{"$f":"IF(COUNTRY_INFO!B116=0,\" \",COUNTRY_INFO!B116)","v":"Manica"},{"$f":"IF(COUNTRY_INFO!C116=0,\" \",COUNTRY_INFO!C116)","v":"Barué"},{"$f":"COUNTRY_INFO!L116","v":276038.75225983566},null,null,{"$f":"MAX('MDA1'!M116,'MDA2'!M116)","v":205500},{"$f":"IF(AND(COUNTRY_INFO!H116>0,COUNTRY_INFO!H116<4),IF(D116>MAX('MDA1'!M116,'MDA2'!M116),MAX('MDA1'!M116,'MDA2'!M116),D116),0)","v":205500},{"$f":"IF(AND(COUNTRY_INFO!H116>0,COUNTRY_INFO!H116<4), IF(G116/D116*100<>0, IF(G116/D116*100>100,100,G116/D116*100), \"-\"),0)","v":74.446069009384075},{"$f":"COUNTRY_INFO!M116","v":"Not required"},null,null,{"$f":"MAX('MDA1'!M116,MAX('MDA3'!I116,'MDA3'!L116)+MAX('MDA3'!J116,'MDA3'!M116))","v":205500},{"$f":"IF(AND(COUNTRY_INFO!I116>0,COUNTRY_INFO!I116<4),IF(J116>MAX('MDA1'!M116,MAX('MDA3'!I116,'MDA3'!L116)+MAX('MDA3'!J116,'MDA3'!M116)),MAX('MDA1'!M116,MAX('MDA3'!I116,'MDA3'!L116)+MAX('MDA3'!J116,'MDA3'!M116)),J116),0)","v":0},{"$f":"IF(AND(COUNTRY_INFO!I116>0,COUNTRY_INFO!I116<4), IF(M116/J116*100<>0, IF(M116/J116*100>100,100,M116/J116*100), \"-\"),0)","v":0},{"$f":"COUNTRY_INFO!N116","v":109311},null,null,{"$f":"SUM(MAX('MDA2'!J116, 'T1'!L116, MAX(T3_R1!K116, T3_R2!K116)), MAX('MDA1'!K116, 'MDA2'!K116, 'T1'!M116, MAX(T3_R1!L116, T3_R2!L116)), MAX('MDA1'!L116, 'MDA2'!L116, 'T1'!N116, MAX(T3_R1!M116, T3_R2!M116)))","v":205500},{"$f":"IF(AND(COUNTRY_INFO!J116>1,COUNTRY_INFO!J116<4),IF(COUNTRY_INFO!E116>MAX('MDA2'!J116,'T1'!L116,MAX(T3_R1!K116,T3_R2!K116)),MAX('MDA2'!J116,'T1'!L116,MAX(T3_R1!K116,T3_R2!K116)),COUNTRY_INFO!E116),0)","v":0},{"$f":"IF(AND(COUNTRY_INFO!J116>1,COUNTRY_INFO!J116<4), IF(T116/COUNTRY_INFO!E116*100<>0, IF(T116/COUNTRY_INFO!E116*100>100,100,T116/COUNTRY_INFO!E116*100), \"-\"),0)","v":"-"},{"$f":"IF(AND(COUNTRY_INFO!J116>1,COUNTRY_INFO!J116<4),IF(COUNTRY_INFO!F116>MAX('MDA1'!K116,'MDA2'!K116,'T1'!M116,MAX(T3_R1!L116,T3_R2!L116)),MAX('MDA1'!K116,'MDA2'!K116,'T1'!M116,MAX(T3_R1!L116,T3_R2!L116)),COUNTRY_INFO!F116),0)","v":77291},{"$f":"IF(AND(COUNTRY_INFO!J116>1,COUNTRY_INFO!J116<4), IF(V116/COUNTRY_INFO!F116*100<>0, IF(V116/COUNTRY_INFO!F116*100>100,100,V116/COUNTRY_INFO!F116*100), \"-\"),0)","v":100},77291,{"$f":"IF(AND(COUNTRY_INFO!J116>1,COUNTRY_INFO!J116<4), IF(S116/P116*100<>0, IF(X116/P116*100>100,100,X116/P116*100), \"-\"),0)","v":70.707431091107026},{"$f":"COUNTRY_INFO!O116","v":236013},36035,37593,{"$f":"MAX('T1'!L116,'T2'!J116)+MAX('T1'!M116,'T2'!K116)+MAX('T1'!N116,'T2'!L116)","v":73628},{"$f":"IF(COUNTRY_INFO!K116=1,IF(COUNTRY_INFO!F116*0.33>MAX('T1'!M116,'T2'!K116),MAX('T1'!M116,'T2'!K116),COUNTRY_INFO!F116*0.33),IF(COUNTRY_INFO!K116=2,IF(COUNTRY_INFO!F116*0.5>MAX('T1'!M116,'T2'!K116),MAX('T1'!M116,'T2'!K116),COUNTRY_INFO!F116*0.5),IF(COUNTRY_INFO!K116=3,IF(COUNTRY_INFO!F116>MAX('T1'!M116,'T2'!K116),MAX('T1'!M116,'T2'!K116),COUNTRY_INFO!F116),0)))","v":73628},{"$f":"IF(AND(COUNTRY_INFO!K116>0,COUNTRY_INFO!K116<4),IF(Z116>0,IF(COUNTRY_INFO!K116=1, AD116/(COUNTRY_INFO!F116*0.33)*100, IF(COUNTRY_INFO!K116=2, AD116/(COUNTRY_INFO!F116*0.5)*100, IF(COUNTRY_INFO!K116=3, AD116/COUNTRY_INFO!F116*100))),\"-\"),0)","v":95.260767747861976},{"$f":"IF(COUNTRY_INFO!K116=2,IF(COUNTRY_INFO!G116*0.2>MAX('T1'!N116,'T2'!L116),MAX('T1'!N116,'T2'!L116),COUNTRY_INFO!G116*0.2),IF(COUNTRY_INFO!K116=3,IF(COUNTRY_INFO!G116>MAX('T1'!N116,'T2'!L116),MAX('T1'!N116,'T2'!L116),COUNTRY_INFO!G116),0))","v":0},{"$f":"IF(AND(COUNTRY_INFO!K116>0,COUNTRY_INFO!K116<4),IF(Z116>0,IF(COUNTRY_INFO!K116=1, 0, IF(COUNTRY_INFO!K116=2, AF116/(COUNTRY_INFO!G116*0.2)*100, IF(COUNTRY_INFO!K116=3, AF116/COUNTRY_INFO!G116*100))),\"-\"),0)","v":0},73628,{"$f":"IF(AND(COUNTRY_INFO!K116>0,COUNTRY_INFO!K116<4), IF(AC116/Z116*100<>0, IF(AH116/Z116*100>100,100,AH116/Z116*100), \"-\"),0)","v":31.196586628702654},null,{"$f":"IF(AND(D116<>0, D116<>\"Unknown\",D116<>\"Stopped\",D116<>\"Not required\"),D116/COUNTRY_INFO!D116, 0)","v":1},{"$f":"IF(AND(J116<>0,J116<>\"Unknown\",J116<>\"Stopped\",J116<>\"Not required\"),J116/COUNTRY_INFO!D116, 0)","v":0},{"$f":"IF(AND(P116<>0,P116<>\"Unknown\",P116<>\"Not required\"),P116/(COUNTRY_INFO!E116+COUNTRY_INFO!F116), 0)","v":1},{"$f":"IF(AND(Z116<>0,Z116<>\"Unknown\",Z116<>\"Not required\"),IF(COUNTRY_INFO!K116=1,1,IF(COUNTRY_INFO!K116=2,0.5*COUNTRY_INFO!F116/(0.5*COUNTRY_INFO!F116+0.2*COUNTRY_INFO!G116),IF(COUNTRY_INFO!K116=3,COUNTRY_INFO!F116/(COUNTRY_INFO!F116+COUNTRY_INFO!G116)))),0)","v":0.3274861977941893},{"$f":"IF(AND(Z116<>0,Z116<>\"Unknown\",Z116<>\"Not required\"),IF(COUNTRY_INFO!K116=1,0,IF(COUNTRY_INFO!K116=2,0.2*COUNTRY_INFO!G116/(0.5*COUNTRY_INFO!F116+0.2*COUNTRY_INFO!G116),IF(COUNTRY_INFO!K116=3,COUNTRY_INFO!G116/(COUNTRY_INFO!F116+COUNTRY_INFO!G116)))),0)","v":0.6725138022058107},{"$f":"MAX(COUNTRY_INFO!D116*AK116*PROFILE!$G$7,COUNTRY_INFO!D116*AL116*PROFILE!$G$7)","v":8005.1967083799545},{"$f":"MAX(COUNTRY_INFO!D116*AK116*PROFILE!$G$8,COUNTRY_INFO!D116*AL116*PROFILE!$G$8,COUNTRY_INFO!D116*AM116*PROFILE!$G$8)","v":32020.448503122952},{"$f":"MAX(COUNTRY_INFO!D116*AK116*PROFILE!$G$9,COUNTRY_INFO!D116*AL116*PROFILE!$G$9,COUNTRY_INFO!D116*AM116*PROFILE!$G$9,IF(AND(DISTRICT!Z116<>\"Unknown\",Z116<>\"Not required\"),COUNTRY_INFO!O116*DISTRICT!AN116,0))","v":77291},{"$f":"MAX(COUNTRY_INFO!D116*AK116*PROFILE!$G$10,COUNTRY_INFO!D116*AL116*PROFILE!$G$10,IF(AND(DISTRICT!Z116<>\"Unknown\",Z116<>\"Not required\"),COUNTRY_INFO!O116*DISTRICT!AO116,0))","v":158722.29535666516},276038.94056816807,"Y",{"$f":"MAX('MDA2'!J116,'T1'!L116,'T2'!J116,T3_R1!K116,T3_R2!K116)","v":0},{"$f":"MAX('MDA1'!K116,'MDA2'!K116,'MDA3'!I116,'MDA3'!L116,'T1'!M116,'T2'!K116,T3_R1!L116,T3_R2!L116)","v":102479},{"$f":"MAX('MDA1'!L116,'MDA2'!L116,'MDA3'!J116,'MDA3'!M116,'T1'!N116,'T2'!L116,T3_R1!M116,T3_R2!M116)","v":103021},205500,{"$f":"MAX('MDA2'!J116,T116)","v":0},{"$f":"MAX('MDA1'!K116,'MDA2'!K116,'MDA3'!I116,'MDA3'!L116,V116,AD116)","v":102479},{"$f":"MAX('MDA1'!L116,'MDA2'!L116,'MDA3'!J116,'MDA3'!M116,AF116)","v":103021},205500,74.446018223741007]
[{"$f":"IF(COUNTRY_INFO!A117=0,\" \",COUNTRY_INFO!A117)","v":"Mozambique"},{"$f":"IF(COUNTRY_INFO!B117=0,\" \",COUNTRY_INFO!B117)","v":"Manica"},{"$f":"IF(COUNTRY_INFO!C117=0,\" \",COUNTRY_INFO!C117)","v":"Gondola"},{"$f":"COUNTRY_INFO!L117","v":0},null,null,{"$f":"MAX('MDA1'!M117,'MDA2'!M117)","v":0},{"$f":"IF(AND(COUNTRY_INFO!H117>0,COUNTRY_INFO!H117<4),IF(D117>MAX('MDA1'!M117,'MDA2'!M117),MAX('MDA1'!M117,'MDA2'!M117),D117),0)","v":0},{"$f":"IF(AND(COUNTRY_INFO!H117>0,COUNTRY_INFO!H117<4), IF(G117/D117*100<>0, IF(G117/D117*100>100,100,G117/D117*100), \"-\"),0)","v":0},{"$f":"COUNTRY_INFO!M117","v":"Not required"},null,null,{"$f":"MAX('MDA1'!M117,MAX('MDA3'!I117,'MDA3'!L117)+MAX('MDA3'!J117,'MDA3'!M117))","v":0},{"$f":"IF(AND(COUNTRY_INFO!I117>0,COUNTRY_INFO!I117<4),IF(J117>MAX('MDA1'!M117,MAX('MDA3'!I117,'MDA3'!L117)+MAX('MDA3'!J117,'MDA3'!M117)),MAX('MDA1'!M117,MAX('MDA3'!I117,'MDA3'!L117)+MAX('MDA3'!J117,'MDA3'!M117)),J117),0)","v":0},{"$f":"IF(AND(COUNTRY_INFO!I117>0,COUNTRY_INFO!I117<4), IF(M117/J117*100<>0, IF(M117/J117*100>100,100,M117/J117*100), \"-\"),0)","v":0},{"$f":"COUNTRY_INFO!N117","v":89876},null,null,{"$f":"SUM(MAX('MDA2'!J117, 'T1'!L117, MAX(T3_R1!K117, T3_R2!K117)), MAX('MDA1'!K117, 'MDA2'!K117, 'T1'!M117, MAX(T3_R1!L117, T3_R2!L117)), MAX('MDA1'!L117, 'MDA2'!L117, 'T1'!N117, MAX(T3_R1!M117, T3_R2!M117)))","v":61590},{"$f":"IF(AND(COUNTRY_INFO!J117>1,COUNTRY_INFO!J117<4),IF(COUNTRY_INFO!E117>MAX('MDA2'!J117,'T1'!L117,MAX(T3_R1!K117,T3_R2!K117)),MAX('MDA2'!J117,'T1'!L117,MAX(T3_R1!K117,T3_R2!K117)),COUNTRY_INFO!E117),0)","v":0},{"$f":"IF(AND(COUNTRY_INFO!J117>1,COUNTRY_INFO!J117<4), IF(T117/COUNTRY_INFO!E117*100<>0, IF(T117/COUNTRY_INFO!E117*100>100,100,T117/COUNTRY_INFO!E117*100), \"-\"),0)","v":"-"},{"$f":"IF(AND(COUNTRY_INFO!J117>1,COUNTRY_INFO!J117<4),IF(COUNTRY_INFO!F117>MAX('MDA1'!K117,'MDA2'!K117,'T1'!M117,MAX(T3_R1!L117,T3_R2!L117)),MAX('MDA1'!K117,'MDA2'!K117,'T1'!M117,MAX(T3_R1!L117,T3_R2!L117)),COUNTRY_INFO!F117),0)","v":61590},{"$f":"IF(AND(COUNTRY_INFO!J117>1,COUNTRY_INFO!J117<4), IF(V117/COUNTRY_INFO!F117*100<>0, IF(V117/COUNTRY_INFO!F117*100>100,100,V117/COUNTRY_INFO!F117*100), \"-\"),0)","v":96.917339375914651},61590,{"$f":"IF(AND(COUNTRY_INFO!J117>1,COUNTRY_INFO!J117<4), IF(S117/P117*100<>0, IF(X117/P117*100>100,100,X117/P117*100), \"-\"),0)","v":68.527749343539995},{"$f":"COUNTRY_INFO!O117","v":57875.100000000006},29058,32532,{"$f":"MAX('T1'!L117,'T2'!J117)+MAX('T1'!M117,'T2'!K117)+MAX('T1'!N117,'T2'!L117)","v":61590},{"$f":"IF(COUNTRY_INFO!K117=1,IF(COUNTRY_INFO!F117*0.33>MAX('T1'!M117,'T2'!K117),MAX('T1'!M117,'T2'!K117),COUNTRY_INFO!F117*0.33),IF(COUNTRY_INFO!K117=2,IF(COUNTRY_INFO!F117*0.5>MAX('T1'!M117,'T2'!K117),MAX('T1'!M117,'T2'!K117),COUNTRY_INFO!F117*0.5),IF(COUNTRY_INFO!K117=3,IF(COUNTRY_INFO!F117>MAX('T1'!M117,'T2'!K117),MAX('T1'!M117,'T2'!K117),COUNTRY_INFO!F117),0)))","v":31774.5},{"$f":"IF(AND(COUNTRY_INFO!K117>0,COUNTRY_INFO!K117<4),IF(Z117>0,IF(COUNTRY_INFO!K117=1, AD117/(COUNTRY_INFO!F117*0.33)*100, IF(COUNTRY_INFO!K117=2, AD117/(COUNTRY_INFO!F117*0.5)*100, IF(COUNTRY_INFO!K117=3, AD117/COUNTRY_INFO!F117*100))),\"-\"),0)","v":100},{"$f":"IF(COUNTRY_INFO!K117=2,IF(COUNTRY_INFO!G117*0.2>MAX('T1'!N117,'T2'!L117),MAX('T1'!N117,'T2'!L117),COUNTRY_INFO!G117*0.2),IF(COUNTRY_INFO!K117=3,IF(COUNTRY_INFO!G117>MAX('T1'!N117,'T2'!L117),MAX('T1'!N117,'T2'!L117),COUNTRY_INFO!G117),0))","v":0},{"$f":"IF(AND(COUNTRY_INFO!K117>0,COUNTRY_INFO!K117<4),IF(Z117>0,IF(COUNTRY_INFO!K117=1, 0, IF(COUNTRY_INFO!K117=2, AF117/(COUNTRY_INFO!G117*0.2)*100, IF(COUNTRY_INFO!K117=3, AF117/COUNTRY_INFO!G117*100))),\"-\"),0)","v":0},31774.5,{"$f":"IF(AND(COUNTRY_INFO!K117>0,COUNTRY_INFO!K117<4), IF(AC117/Z117*100<>0, IF(AH117/Z117*100>100,100,AH117/Z117*100), \"-\"),0)","v":54.90184898168642},null,{"$f":"IF(AND(D117<>0, D117<>\"Unknown\",D117<>\"Stopped\",D117<>\"Not required\"),D117/COUNTRY_INFO!D117, 0)","v":0},{"$f":"IF(AND(J117<>0,J117<>\"Unknown\",J117<>\"Stopped\",J117<>\"Not required\"),J117/COUNTRY_INFO!D117, 0)","v":0},{"$f":"IF(AND(P117<>0,P117<>\"Unknown\",P117<>\"Not required\"),P117/(COUNTRY_INFO!E117+COUNTRY_INFO!F117), 0)","v":1},{"$f":"IF(AND(Z117<>0,Z117<>\"Unknown\",Z117<>\"Not required\"),IF(COUNTRY_INFO!K117=1,1,IF(COUNTRY_INFO!K117=2,0.5*COUNTRY_INFO!F117/(0.5*COUNTRY_INFO!F117+0.2*COUNTRY_INFO!G117),IF(COUNTRY_INFO!K117=3,COUNTRY_INFO!F117/(COUNTRY_INFO!F117+COUNTRY_INFO!G117)))),0)","v":0.54901848981686419},{"$f":"IF(AND(Z117<>0,Z117<>\"Unknown\",Z117<>\"Not required\"),IF(COUNTRY_INFO!K117=1,0,IF(COUNTRY_INFO!K117=2,0.2*COUNTRY_INFO!G117/(0.5*COUNTRY_INFO!F117+0.2*COUNTRY_INFO!G117),IF(COUNTRY_INFO!K117=3,COUNTRY_INFO!G117/(COUNTRY_INFO!F117+COUNTRY_INFO!G117)))),0)","v":0.45098151018313576},{"$f":"MAX(COUNTRY_INFO!D117*AK117*PROFILE!$G$7,COUNTRY_INFO!D117*AL117*PROFILE!$G$7)","v":0},{"$f":"MAX(COUNTRY_INFO!D117*AK117*PROFILE!$G$8,COUNTRY_INFO!D117*AL117*PROFILE!$G$8,COUNTRY_INFO!D117*AM117*PROFILE!$G$8)","v":26327.452463947488},{"$f":"MAX(COUNTRY_INFO!D117*AK117*PROFILE!$G$9,COUNTRY_INFO!D117*AL117*PROFILE!$G$9,COUNTRY_INFO!D117*AM117*PROFILE!$G$9,IF(AND(DISTRICT!Z117<>\"Unknown\",Z117<>\"Not required\"),COUNTRY_INFO!O117*DISTRICT!AN117,0))","v":63549.083970945452},{"$f":"MAX(COUNTRY_INFO!D117*AK117*PROFILE!$G$10,COUNTRY_INFO!D117*AL117*PROFILE!$G$10,IF(AND(DISTRICT!Z117<>\"Unknown\",Z117<>\"Not required\"),COUNTRY_INFO!O117*DISTRICT!AO117,0))","v":26100.600000000002},115977.13643489295,"Y",{"$f":"MAX('MDA2'!J117,'T1'!L117,'T2'!J117,T3_R1!K117,T3_R2!K117)","v":0},{"$f":"MAX('MDA1'!K117,'MDA2'!K117,'MDA3'!I117,'MDA3'!L117,'T1'!M117,'T2'!K117,T3_R1!L117,T3_R2!L117)","v":61590},{"$f":"MAX('MDA1'!L117,'MDA2'!L117,'MDA3'!J117,'MDA3'!M117,'T1'!N117,'T2'!L117,T3_R1!M117,T3_R2!M117)","v":0},61590,{"$f":"MAX('MDA2'!J117,T117)","v":0},{"$f":"MAX('MDA1'!K117,'MDA2'!K117,'MDA3'!I117,'MDA3'!L117,V117,AD117)","v":61590},{"$f":"MAX('MDA1'!L117,'MDA2'!L117,'MDA3'!J117,'MDA3'!M117,AF117)","v":0},61590,53.105294623803111]
[{"$f":"IF(COUNTRY_INFO!A118=0,\" \",COUNTRY_INFO!A118)","v":"Mozambique"},{"$f":"IF(COUNTRY_INFO!B118=0,\" \",COUNTRY_INFO!B118)","v":"Manica"},{"$f":"IF(COUNTRY_INFO!C118=0,\" \",COUNTRY_INFO!C118)","v":"Guro"},{"$f":"COUNTRY_INFO!L118","v":103497.51361067995},null,null,{"$f":"MAX('MDA1'!M118,'MDA2'!M118)","v":85959},{"$f":"IF(AND(COUNTRY_INFO!H118>0,COUNTRY_INFO!H118<4),IF(D118>MAX('MDA1'!M118,'MDA2'!M118),MAX('MDA1'!M118,'MDA2'!M118),D118),0)","v":85959},{"$f":"IF(AND(COUNTRY_INFO!H118>0,COUNTRY_INFO!H118<4), IF(G118/D118*100<>0, IF(G118/D118*100>100,100,G118/D118*100), \"-\"),0)","v":83.054169130426203},{"$f":"COUNTRY_INFO!M118","v":"Not required"},null,null,{"$f":"MAX('MDA1'!M118,MAX('MDA3'!I118,'MDA3'!L118)+MAX('MDA3'!J118,'MDA3'!M118))","v":85959},{"$f":"IF(AND(COUNTRY_INFO!I118>0,COUNTRY_INFO!I118<4),IF(J118>MAX('MDA1'!M118,MAX('MDA3'!I118,'MDA3'!L118)+MAX('MDA3'!J118,'MDA3'!M118)),MAX('MDA1'!M118,MAX('MDA3'!I118,'MDA3'!L118)+MAX('MDA3'!J118,'MDA3'!M118)),J118),0)","v":0},{"$f":"IF(AND(COUNTRY_INFO!I118>0,COUNTRY_INFO!I118<4), IF(M118/J118*100<>0, IF(M118/J118*100>100,100,M118/J118*100), \"-\"),0)","v":0},{"$f":"COUNTRY_INFO!N118","v":0},null,null,{"$f":"SUM(MAX('MDA2'!J118, 'T1'!L118, MAX(T3_R1!K118, T3_R2!K118)), MAX('MDA1'!K118, 'MDA2'!K118, 'T1'!M118, MAX(T3_R1!L118, T3_R2!L118)), MAX('MDA1'!L118, 'MDA2'!L118, 'T1'!N118, MAX(T3_R1!M118, T3_R2!M118)))","v":85959},{"$f":"IF(AND(COUNTRY_INFO!J118>1,COUNTRY_INFO!J118<4),IF(COUNTRY_INFO!E118>MAX('MDA2'!J118,'T1'!L118,MAX(T3_R1!K118,T3_R2!K118)),MAX('MDA2'!J118,'T1'!L118,MAX(T3_R1!K118,T3_R2!K118)),COUNTRY_INFO!E118),0)","v":0},{"$f":"IF(AND(COUNTRY_INFO!J118>1,COUNTRY_INFO!J118<4), IF(T118/COUNTRY_INFO!E118*100<>0, IF(T118/COUNTRY_INFO!E118*100>100,100,T118/COUNTRY_INFO!E118*100), \"-\"),0)","v":0},{"$f":"IF(AND(COUNTRY_INFO!J118>1,COUNTRY_INFO!J118<4),IF(COUNTRY_INFO!F118>MAX('MDA1'!K118,'MDA2'!K118,'T1'!M118,MAX(T3_R1!L118,T3_R2!L118)),MAX('MDA1'!K118,'MDA2'!K118,'T1'!M118,MAX(T3_R1!L118,T3_R2!L118)),COUNTRY_INFO!F118),0)","v":0},{"$f":"IF(AND(COUNTRY_INFO!J118>1,COUNTRY_INFO!J118<4), IF(V118/COUNTRY_INFO!F118*100<>0, IF(V118/COUNTRY_INFO!F118*100>100,100,V118/COUNTRY_INFO!F118*100), \"-\"),0)","v":0},0,{"$f":"IF(AND(COUNTRY_INFO!J118>1,COUNTRY_INFO!J118<4), IF(S118/P118*100<>0, IF(X118/P118*100>100,100,X118/P118*100), \"-\"),0)","v":0},{"$f":"COUNTRY_INFO!O118","v":26391.7},14622,15200,{"$f":"MAX('T1'!L118,'T2'!J118)+MAX('T1'!M118,'T2'!K118)+MAX('T1'!N118,'T2'!L118)","v":29822},{"$f":"IF(COUNTRY_INFO!K118=1,IF(COUNTRY_INFO!F118*0.33>MAX('T1'!M118,'T2'!K118),MAX('T1'!M118,'T2'!K118),COUNTRY_INFO!F118*0.33),IF(COUNTRY_INFO!K118=2,IF(COUNTRY_INFO!F118*0.5>MAX('T1'!M118,'T2'!K118),MAX('T1'!M118,'T2'!K118),COUNTRY_INFO!F118*0.5),IF(COUNTRY_INFO!K118=3,IF(COUNTRY_INFO!F118>MAX('T1'!M118,'T2'!K118),MAX('T1'!M118,'T2'!K118),COUNTRY_INFO!F118),0)))","v":14489.5},{"$f":"IF(AND(COUNTRY_INFO!K118>0,COUNTRY_INFO!K118<4),IF(Z118>0,IF(COUNTRY_INFO!K118=1, AD118/(COUNTRY_INFO!F118*0.33)*100, IF(COUNTRY_INFO!K118=2, AD118/(COUNTRY_INFO!F118*0.5)*100, IF(COUNTRY_INFO!K118=3, AD118/COUNTRY_INFO!F118*100))),\"-\"),0)","v":100},{"$f":"IF(COUNTRY_INFO!K118=2,IF(COUNTRY_INFO!G118*0.2>MAX('T1'!N118,'T2'!L118),MAX('T1'!N118,'T2'!L118),COUNTRY_INFO!G118*0.2),IF(COUNTRY_INFO!K118=3,IF(COUNTRY_INFO!G118>MAX('T1'!N118,'T2'!L118),MAX('T1'!N118,'T2'!L118),COUNTRY_INFO!G118),0))","v":0},{"$f":"IF(AND(COUNTRY_INFO!K118>0,COUNTRY_INFO!K118<4),IF(Z118>0,IF(COUNTRY_INFO!K118=1, 0, IF(COUNTRY_INFO!K118=2, AF118/(COUNTRY_INFO!G118*0.2)*100, IF(COUNTRY_INFO!K118=3, AF118/COUNTRY_INFO!G118*100))),\"-\"),0)","v":0},14489.5,{"$f":"IF(AND(COUNTRY_INFO!K118>0,COUNTRY_INFO!K118<4), IF(AC118/Z118*100<>0, IF(AH118/Z118*100>100,100,AH118/Z118*100), \"-\"),0)","v":54.901730468291163},null,{"$f":"IF(AND(D118<>0, D118<>\"Unknown\",D118<>\"Stopped\",D118<>\"Not required\"),D118/COUNTRY_INFO!D118, 0)","v":1},{"$f":"IF(AND(J118<>0,J118<>\"Unknown\",J118<>\"Stopped\",J118<>\"Not required\"),J118/COUNTRY_INFO!D118, 0)","v":0},{"$f":"IF(AND(P118<>0,P118<>\"Unknown\",P118<>\"Not required\"),P118/(COUNTRY_INFO!E118+COUNTRY_INFO!F118), 0)","v":0},{"$f":"IF(AND(Z118<>0,Z118<>\"Unknown\",Z118<>\"Not required\"),IF(COUNTRY_INFO!K118=1,1,IF(COUNTRY_INFO!K118=2,0.5*COUNTRY_INFO!F118/(0.5*COUNTRY_INFO!F118+0.2*COUNTRY_INFO!G118),IF(COUNTRY_INFO!K118=3,COUNTRY_INFO!F118/(COUNTRY_INFO!F118+COUNTRY_INFO!G118)))),0)","v":0.54901730468291166},{"$f":"IF(AND(Z118<>0,Z118<>\"Unknown\",Z118<>\"Not required\"),IF(COUNTRY_INFO!K118=1,0,IF(COUNTRY_INFO!K118=2,0.2*COUNTRY_INFO!G118/(0.5*COUNTRY_INFO!F118+0.2*COUNTRY_INFO!G118),IF(COUNTRY_INFO!K118=3,COUNTRY_INFO!G118/(COUNTRY_INFO!F118+COUNTRY_INFO!G118)))),0)","v":0.45098269531708834},{"$f":"MAX(COUNTRY_INFO!D118*AK118*PROFILE!$G$7,COUNTRY_INFO!D118*AL118*PROFILE!$G$7)","v":3001.4552250324605},{"$f":"MAX(COUNTRY_INFO!D118*AK118*PROFILE!$G$8,COUNTRY_INFO!D118*AL118*PROFILE!$G$8,COUNTRY_INFO!D118*AM118*PROFILE!$G$8)","v":12005.694047089943},{"$f":"MAX(COUNTRY_INFO!D118*AK118*PROFILE!$G$9,COUNTRY_INFO!D118*AL118*PROFILE!$G$9,COUNTRY_INFO!D118*AM118*PROFILE!$G$9,IF(AND(DISTRICT!Z118<>\"Unknown\",Z118<>\"Not required\"),COUNTRY_INFO!O118*DISTRICT!AN118,0))","v":28979.289210483803},{"$f":"MAX(COUNTRY_INFO!D118*AK118*PROFILE!$G$10,COUNTRY_INFO!D118*AL118*PROFILE!$G$10,IF(AND(DISTRICT!Z118<>\"Unknown\",Z118<>\"Not required\"),COUNTRY_INFO!O118*DISTRICT!AO118,0))","v":59511.075128073739},103497.51361067995,"Y",{"$f":"MAX('MDA2'!J118,'T1'!L118,'T2'!J118,T3_R1!K118,T3_R2!K118)","v":0},{"$f":"MAX('MDA1'!K118,'MDA2'!K118,'MDA3'!I118,'MDA3'!L118,'T1'!M118,'T2'!K118,T3_R1!L118,T3_R2!L118)","v":29822},{"$f":"MAX('MDA1'!L118,'MDA2'!L118,'MDA3'!J118,'MDA3'!M118,'T1'!N118,'T2'!L118,T3_R1!M118,T3_R2!M118)","v":56137},85959,{"$f":"MAX('MDA2'!J118,T118)","v":0},{"$f":"MAX('MDA1'!K118,'MDA2'!K118,'MDA3'!I118,'MDA3'!L118,V118,AD118)","v":29822},{"$f":"MAX('MDA1'!L118,'MDA2'!L118,'MDA3'!J118,'MDA3'!M118,AF118)","v":56137},85959,83.054169130426203]
[{"$f":"IF(COUNTRY_INFO!A119=0,\" \",COUNTRY_INFO!A119)","v":"Mozambique"},{"$f":"IF(COUNTRY_INFO!B119=0,\" \",COUNTRY_INFO!B119)","v":"Manica"},{"$f":"IF(COUNTRY_INFO!C119=0,\" \",COUNTRY_INFO!C119)","v":"Macate"},{"$f":"COUNTRY_INFO!L119","v":0},null,null,{"$f":"MAX('MDA1'!M119,'MDA2'!M119)","v":0},{"$f":"IF(AND(COUNTRY_INFO!H119>0,COUNTRY_INFO!H119<4),IF(D119>MAX('MDA1'!M119,'MDA2'!M119),MAX('MDA1'!M119,'MDA2'!M119),D119),0)","v":0},{"$f":"IF(AND(COUNTRY_INFO!H119>0,COUNTRY_INFO!H119<4), IF(G119/D119*100<>0, IF(G119/D119*100>100,100,G119/D119*100), \"-\"),0)","v":0},{"$f":"COUNTRY_INFO!M119","v":"Not required"},null,null,{"$f":"MAX('MDA1'!M119,MAX('MDA3'!I119,'MDA3'!L119)+MAX('MDA3'!J119,'MDA3'!M119))","v":0},{"$f":"IF(AND(COUNTRY_INFO!I119>0,COUNTRY_INFO!I119<4),IF(J119>MAX('MDA1'!M119,MAX('MDA3'!I119,'MDA3'!L119)+MAX('MDA3'!J119,'MDA3'!M119)),MAX('MDA1'!M119,MAX('MDA3'!I119,'MDA3'!L119)+MAX('MDA3'!J119,'MDA3'!M119)),J119),0)","v":0},{"$f":"IF(AND(COUNTRY_INFO!I119>0,COUNTRY_INFO!I119<4), IF(M119/J119*100<>0, IF(M119/J119*100>100,100,M119/J119*100), \"-\"),0)","v":0},{"$f":"COUNTRY_INFO!N119","v":44877},null,null,{"$f":"SUM(MAX('MDA2'!J119, 'T1'!L119, MAX(T3_R1!K119, T3_R2!K119)), MAX('MDA1'!K119, 'MDA2'!K119, 'T1'!M119, MAX(T3_R1!L119, T3_R2!L119)), MAX('MDA1'!L119, 'MDA2'!L119, 'T1'!N119, MAX(T3_R1!M119, T3_R2!M119)))","v":33938},{"$f":"IF(AND(COUNTRY_INFO!J119>1,COUNTRY_INFO!J119<4),IF(COUNTRY_INFO!E119>MAX('MDA2'!J119,'T1'!L119,MAX(T3_R1!K119,T3_R2!K119)),MAX('MDA2'!J119,'T1'!L119,MAX(T3_R1!K119,T3_R2!K119)),COUNTRY_INFO!E119),0)","v":0},{"$f":"IF(AND(COUNTRY_INFO!J119>1,COUNTRY_INFO!J119<4), IF(T119/COUNTRY_INFO!E119*100<>0, IF(T119/COUNTRY_INFO!E119*100>100,100,T119/COUNTRY_INFO!E119*100), \"-\"),0)","v":"-"},{"$f":"IF(AND(COUNTRY_INFO!J119>1,COUNTRY_INFO!J119<4),IF(COUNTRY_INFO!F119>MAX('MDA1'!K119,'MDA2'!K119,'T1'!M119,MAX(T3_R1!L119,T3_R2!L119)),MAX('MDA1'!K119,'MDA2'!K119,'T1'!M119,MAX(T3_R1!L119,T3_R2!L119)),COUNTRY_INFO!F119),0)","v":31731},{"$f":"IF(AND(COUNTRY_INFO!J119>1,COUNTRY_INFO!J119<4), IF(V119/COUNTRY_INFO!F119*100<>0, IF(V119/COUNTRY_INFO!F119*100>100,100,V119/COUNTRY_INFO!F119*100), \"-\"),0)","v":100},31731,{"$f":"IF(AND(COUNTRY_INFO!J119>1,COUNTRY_INFO!J119<4), IF(S119/P119*100<>0, IF(X119/P119*100>100,100,X119/P119*100), \"-\"),0)","v":70.706598034627987},{"$f":"COUNTRY_INFO!O119","v":28897.7},16538,17400,{"$f":"MAX('T1'!L119,'T2'!J119)+MAX('T1'!M119,'T2'!K119)+MAX('T1'!N119,'T2'!L119)","v":33938},{"$f":"IF(COUNTRY_INFO!K119=1,IF(COUNTRY_INFO!F119*0.33>MAX('T1'!M119,'T2'!K119),MAX('T1'!M119,'T2'!K119),COUNTRY_INFO!F119*0.33),IF(COUNTRY_INFO!K119=2,IF(COUNTRY_INFO!F119*0.5>MAX('T1'!M119,'T2'!K119),MAX('T1'!M119,'T2'!K119),COUNTRY_INFO!F119*0.5),IF(COUNTRY_INFO!K119=3,IF(COUNTRY_INFO!F119>MAX('T1'!M119,'T2'!K119),MAX('T1'!M119,'T2'!K119),COUNTRY_INFO!F119),0)))","v":15865.5},{"$f":"IF(AND(COUNTRY_INFO!K119>0,COUNTRY_INFO!K119<4),IF(Z119>0,IF(COUNTRY_INFO!K119=1, AD119/(COUNTRY_INFO!F119*0.33)*100, IF(COUNTRY_INFO!K119=2, AD119/(COUNTRY_INFO!F119*0.5)*100, IF(COUNTRY_INFO!K119=3, AD119/COUNTRY_INFO!F119*100))),\"-\"),0)","v":100},{"$f":"IF(COUNTRY_INFO!K119=2,IF(COUNTRY_INFO!G119*0.2>MAX('T1'!N119,'T2'!L119),MAX('T1'!N119,'T2'!L119),COUNTRY_INFO!G119*0.2),IF(COUNTRY_INFO!K119=3,IF(COUNTRY_INFO!G119>MAX('T1'!N119,'T2'!L119),MAX('T1'!N119,'T2'!L119),COUNTRY_INFO!G119),0))","v":0},{"$f":"IF(AND(COUNTRY_INFO!K119>0,COUNTRY_INFO!K119<4),IF(Z119>0,IF(COUNTRY_INFO!K119=1, 0, IF(COUNTRY_INFO!K119=2, AF119/(COUNTRY_INFO!G119*0.2)*100, IF(COUNTRY_INFO!K119=3, AF119/COUNTRY_INFO!G119*100))),\"-\"),0)","v":0},15865.5,{"$f":"IF(AND(COUNTRY_INFO!K119>0,COUNTRY_INFO!K119<4), IF(AC119/Z119*100<>0, IF(AH119/Z119*100>100,100,AH119/Z119*100), \"-\"),0)","v":54.902293262093529},null,{"$f":"IF(AND(D119<>0, D119<>\"Unknown\",D119<>\"Stopped\",D119<>\"Not required\"),D119/COUNTRY_INFO!D119, 0)","v":0},{"$f":"IF(AND(J119<>0,J119<>\"Unknown\",J119<>\"Stopped\",J119<>\"Not required\"),J119/COUNTRY_INFO!D119, 0)","v":0},{"$f":"IF(AND(P119<>0,P119<>\"Unknown\",P119<>\"Not required\"),P119/(COUNTRY_INFO!E119+COUNTRY_INFO!F119), 0)","v":1},{"$f":"IF(AND(Z119<>0,Z119<>\"Unknown\",Z119<>\"Not required\"),IF(COUNTRY_INFO!K119=1,1,IF(COUNTRY_INFO!K119=2,0.5*COUNTRY_INFO!F119/(0.5*COUNTRY_INFO!F119+0.2*COUNTRY_INFO!G119),IF(COUNTRY_INFO!K119=3,COUNTRY_INFO!F119/(COUNTRY_INFO!F119+COUNTRY_INFO!G119)))),0)","v":0.54902293262093527},{"$f":"IF(AND(Z119<>0,Z119<>\"Unknown\",Z119<>\"Not required\"),IF(COUNTRY_INFO!K119=1,0,IF(COUNTRY_INFO!K119=2,0.2*COUNTRY_INFO!G119/(0.5*COUNTRY_INFO!F119+0.2*COUNTRY_INFO!G119),IF(COUNTRY_INFO!K119=3,COUNTRY_INFO!G119/(COUNTRY_INFO!F119+COUNTRY_INFO!G119)))),0)","v":0.45097706737906479},{"$f":"MAX(COUNTRY_INFO!D119*AK119*PROFILE!$G$7,COUNTRY_INFO!D119*AL119*PROFILE!$G$7)","v":0},{"$f":"MAX(COUNTRY_INFO!D119*AK119*PROFILE!$G$8,COUNTRY_INFO!D119*AL119*PROFILE!$G$8,COUNTRY_INFO!D119*AM119*PROFILE!$G$8)","v":13145.486582099849},{"$f":"MAX(COUNTRY_INFO!D119*AK119*PROFILE!$G$9,COUNTRY_INFO!D119*AL119*PROFILE!$G$9,COUNTRY_INFO!D119*AM119*PROFILE!$G$9,IF(AND(DISTRICT!Z119<>\"Unknown\",Z119<>\"Not required\"),COUNTRY_INFO!O119*DISTRICT!AN119,0))","v":31730.515202287988},{"$f":"MAX(COUNTRY_INFO!D119*AK119*PROFILE!$G$10,COUNTRY_INFO!D119*AL119*PROFILE!$G$10,IF(AND(DISTRICT!Z119<>\"Unknown\",Z119<>\"Not required\"),COUNTRY_INFO!O119*DISTRICT!AO119,0))","v":13032.2},57908.201784387842,"Y",{"$f":"MAX('MDA2'!J119,'T1'!L119,'T2'!J119,T3_R1!K119,T3_R2!K119)","v":0},{"$f":"MAX('MDA1'!K119,'MDA2'!K119,'MDA3'!I119,'MDA3'!L119,'T1'!M119,'T2'!K119,T3_R1!L119,T3_R2!L119)","v":33938},{"$f":"MAX('MDA1'!L119,'MDA2'!L119,'MDA3'!J119,'MDA3'!M119,'T1'!N119,'T2'!L119,T3_R1!M119,T3_R2!M119)","v":0},33938,{"$f":"MAX('MDA2'!J119,T119)","v":0},{"$f":"MAX('MDA1'!K119,'MDA2'!K119,'MDA3'!I119,'MDA3'!L119,V119,AD119)","v":31731},{"$f":"MAX('MDA1'!L119,'MDA2'!L119,'MDA3'!J119,'MDA3'!M119,AF119)","v":0},31731,54.795346811398893]
[{"$f":"IF(COUNTRY_INFO!A120=0,\" \",COUNTRY_INFO!A120)","v":"Mozambique"},{"$f":"IF(COUNTRY_INFO!B120=0,\" \",COUNTRY_INFO!B120)","v":"Manica"},{"$f":"IF(COUNTRY_INFO!C120=0,\" \",COUNTRY_INFO!C120)","v":"Machaze"},{"$f":"COUNTRY_INFO!L120","v":0},null,null,{"$f":"MAX('MDA1'!M120,'MDA2'!M120)","v":0},{"$f":"IF(AND(COUNTRY_INFO!H120>0,COUNTRY_INFO!H120<4),IF(D120>MAX('MDA1'!M120,'MDA2'!M120),MAX('MDA1'!M120,'MDA2'!M120),D120),0)","v":0},{"$f":"IF(AND(COUNTRY_INFO!H120>0,COUNTRY_INFO!H120<4), IF(G120/D120*100<>0, IF(G120/D120*100>100,100,G120/D120*100), \"-\"),0)","v":0},{"$f":"COUNTRY_INFO!M120","v":"Not required"},null,null,{"$f":"MAX('MDA1'!M120,MAX('MDA3'!I120,'MDA3'!L120)+MAX('MDA3'!J120,'MDA3'!M120))","v":0},{"$f":"IF(AND(COUNTRY_INFO!I120>0,COUNTRY_INFO!I120<4),IF(J120>MAX('MDA1'!M120,MAX('MDA3'!I120,'MDA3'!L120)+MAX('MDA3'!J120,'MDA3'!M120)),MAX('MDA1'!M120,MAX('MDA3'!I120,'MDA3'!L120)+MAX('MDA3'!J120,'MDA3'!M120)),J120),0)","v":0},{"$f":"IF(AND(COUNTRY_INFO!I120>0,COUNTRY_INFO!I120<4), IF(M120/J120*100<>0, IF(M120/J120*100>100,100,M120/J120*100), \"-\"),0)","v":0},{"$f":"COUNTRY_INFO!N120","v":58379},null,null,{"$f":"SUM(MAX('MDA2'!J120, 'T1'!L120, MAX(T3_R1!K120, T3_R2!K120)), MAX('MDA1'!K120, 'MDA2'!K120, 'T1'!M120, MAX(T3_R1!L120, T3_R2!L120)), MAX('MDA1'!L120, 'MDA2'!L120, 'T1'!N120, MAX(T3_R1!M120, T3_R2!M120)))","v":41134},{"$f":"IF(AND(COUNTRY_INFO!J120>1,COUNTRY_INFO!J120<4),IF(COUNTRY_INFO!E120>MAX('MDA2'!J120,'T1'!L120,MAX(T3_R1!K120,T3_R2!K120)),MAX('MDA2'!J120,'T1'!L120,MAX(T3_R1!K120,T3_R2!K120)),COUNTRY_INFO!E120),0)","v":0},{"$f":"IF(AND(COUNTRY_INFO!J120>1,COUNTRY_INFO!J120<4), IF(T120/COUNTRY_INFO!E120*100<>0, IF(T120/COUNTRY_INFO!E120*100>100,100,T120/COUNTRY_INFO!E120*100), \"-\"),0)","v":"-"},{"$f":"IF(AND(COUNTRY_INFO!J120>1,COUNTRY_INFO!J120<4),IF(COUNTRY_INFO!F120>MAX('MDA1'!K120,'MDA2'!K120,'T1'!M120,MAX(T3_R1!L120,T3_R2!L120)),MAX('MDA1'!K120,'MDA2'!K120,'T1'!M120,MAX(T3_R1!L120,T3_R2!L120)),COUNTRY_INFO!F120),0)","v":41134},{"$f":"IF(AND(COUNTRY_INFO!J120>1,COUNTRY_INFO!J120<4), IF(V120/COUNTRY_INFO!F120*100<>0, IF(V120/COUNTRY_INFO!F120*100>100,100,V120/COUNTRY_INFO!F120*100), \"-\"),0)","v":99.651145888851204},41134,{"$f":"IF(AND(COUNTRY_INFO!J120>1,COUNTRY_INFO!J120<4), IF(S120/P120*100<>0, IF(X120/P120*100>100,100,X120/P120*100), \"-\"),0)","v":70.460268247143659},{"$f":"COUNTRY_INFO!O120","v":37592.600000000006},18317,22817,{"$f":"MAX('T1'!L120,'T2'!J120)+MAX('T1'!M120,'T2'!K120)+MAX('T1'!N120,'T2'!L120)","v":41134},{"$f":"IF(COUNTRY_INFO!K120=1,IF(COUNTRY_INFO!F120*0.33>MAX('T1'!M120,'T2'!K120),MAX('T1'!M120,'T2'!K120),COUNTRY_INFO!F120*0.33),IF(COUNTRY_INFO!K120=2,IF(COUNTRY_INFO!F120*0.5>MAX('T1'!M120,'T2'!K120),MAX('T1'!M120,'T2'!K120),COUNTRY_INFO!F120*0.5),IF(COUNTRY_INFO!K120=3,IF(COUNTRY_INFO!F120>MAX('T1'!M120,'T2'!K120),MAX('T1'!M120,'T2'!K120),COUNTRY_INFO!F120),0)))","v":20639},{"$f":"IF(AND(COUNTRY_INFO!K120>0,COUNTRY_INFO!K120<4),IF(Z120>0,IF(COUNTRY_INFO!K120=1, AD120/(COUNTRY_INFO!F120*0.33)*100, IF(COUNTRY_INFO!K120=2, AD120/(COUNTRY_INFO!F120*0.5)*100, IF(COUNTRY_INFO!K120=3, AD120/COUNTRY_INFO!F120*100))),\"-\"),0)","v":100},{"$f":"IF(COUNTRY_INFO!K120=2,IF(COUNTRY_INFO!G120*0.2>MAX('T1'!N120,'T2'!L120),MAX('T1'!N120,'T2'!L120),COUNTRY_INFO!G120*0.2),IF(COUNTRY_INFO!K120=3,IF(COUNTRY_INFO!G120>MAX('T1'!N120,'T2'!L120),MAX('T1'!N120,'T2'!L120),COUNTRY_INFO!G120),0))","v":0},{"$f":"IF(AND(COUNTRY_INFO!K120>0,COUNTRY_INFO!K120<4),IF(Z120>0,IF(COUNTRY_INFO!K120=1, 0, IF(COUNTRY_INFO!K120=2, AF120/(COUNTRY_INFO!G120*0.2)*100, IF(COUNTRY_INFO!K120=3, AF120/COUNTRY_INFO!G120*100))),\"-\"),0)","v":0},20639,{"$f":"IF(AND(COUNTRY_INFO!K120>0,COUNTRY_INFO!K120<4), IF(AC120/Z120*100<>0, IF(AH120/Z120*100>100,100,AH120/Z120*100), \"-\"),0)","v":54.901762580933479},null,{"$f":"IF(AND(D120<>0, D120<>\"Unknown\",D120<>\"Stopped\",D120<>\"Not required\"),D120/COUNTRY_INFO!D120, 0)","v":0},{"$f":"IF(AND(J120<>0,J120<>\"Unknown\",J120<>\"Stopped\",J120<>\"Not required\"),J120/COUNTRY_INFO!D120, 0)","v":0},{"$f":"IF(AND(P120<>0,P120<>\"Unknown\",P120<>\"Not required\"),P120/(COUNTRY_INFO!E120+COUNTRY_INFO!F120), 0)","v":1},{"$f":"IF(AND(Z120<>0,Z120<>\"Unknown\",Z120<>\"Not required\"),IF(COUNTRY_INFO!K120=1,1,IF(COUNTRY_INFO!K120=2,0.5*COUNTRY_INFO!F120/(0.5*COUNTRY_INFO!F120+0.2*COUNTRY_INFO!G120),IF(COUNTRY_INFO!K120=3,COUNTRY_INFO!F120/(COUNTRY_INFO!F120+COUNTRY_INFO!G120)))),0)","v":0.54901762580933477},{"$f":"IF(AND(Z120<>0,Z120<>\"Unknown\",Z120<>\"Not required\"),IF(COUNTRY_INFO!K120=1,0,IF(COUNTRY_INFO!K120=2,0.2*COUNTRY_INFO!G120/(0.5*COUNTRY_INFO!F120+0.2*COUNTRY_INFO!G120),IF(COUNTRY_INFO!K120=3,COUNTRY_INFO!G120/(COUNTRY_INFO!F120+COUNTRY_INFO!G120)))),0)","v":0.45098237419066517},{"$f":"MAX(COUNTRY_INFO!D120*AK120*PROFILE!$G$7,COUNTRY_INFO!D120*AL120*PROFILE!$G$7)","v":0},{"$f":"MAX(COUNTRY_INFO!D120*AK120*PROFILE!$G$8,COUNTRY_INFO!D120*AL120*PROFILE!$G$8,COUNTRY_INFO!D120*AM120*PROFILE!$G$8)","v":17101.030004572091},{"$f":"MAX(COUNTRY_INFO!D120*AK120*PROFILE!$G$9,COUNTRY_INFO!D120*AL120*PROFILE!$G$9,COUNTRY_INFO!D120*AM120*PROFILE!$G$9,IF(AND(DISTRICT!Z120<>\"Unknown\",Z120<>\"Not required\"),COUNTRY_INFO!O120*DISTRICT!AN120,0))","v":41278.387767992332},{"$f":"MAX(COUNTRY_INFO!D120*AK120*PROFILE!$G$10,COUNTRY_INFO!D120*AL120*PROFILE!$G$10,IF(AND(DISTRICT!Z120<>\"Unknown\",Z120<>\"Not required\"),COUNTRY_INFO!O120*DISTRICT!AO120,0))","v":16953.600000000002},75333.017772564432,"Y",{"$f":"MAX('MDA2'!J120,'T1'!L120,'T2'!J120,T3_R1!K120,T3_R2!K120)","v":0},{"$f":"MAX('MDA1'!K120,'MDA2'!K120,'MDA3'!I120,'MDA3'!L120,'T1'!M120,'T2'!K120,T3_R1!L120,T3_R2!L120)","v":41134},{"$f":"MAX('MDA1'!L120,'MDA2'!L120,'MDA3'!J120,'MDA3'!M120,'T1'!N120,'T2'!L120,T3_R1!M120,T3_R2!M120)","v":0},41134,{"$f":"MAX('MDA2'!J120,T120)","v":0},{"$f":"MAX('MDA1'!K120,'MDA2'!K120,'MDA3'!I120,'MDA3'!L120,V120,AD120)","v":41134},{"$f":"MAX('MDA1'!L120,'MDA2'!L120,'MDA3'!J120,'MDA3'!M120,AF120)","v":0},41134,54.602883591078722]
[{"$f":"IF(COUNTRY_INFO!A121=0,\" \",COUNTRY_INFO!A121)","v":"Mozambique"},{"$f":"IF(COUNTRY_INFO!B121=0,\" \",COUNTRY_INFO!B121)","v":"Manica"},{"$f":"IF(COUNTRY_INFO!C121=0,\" \",COUNTRY_INFO!C121)","v":"Macossa"},{"$f":"COUNTRY_INFO!L121","v":56139.067658422653},null,null,{"$f":"MAX('MDA1'!M121,'MDA2'!M121)","v":46456},{"$f":"IF(AND(COUNTRY_INFO!H121>0,COUNTRY_INFO!H121<4),IF(D121>MAX('MDA1'!M121,'MDA2'!M121),MAX('MDA1'!M121,'MDA2'!M121),D121),0)","v":46456},{"$f":"IF(AND(COUNTRY_INFO!H121>0,COUNTRY_INFO!H121<4), IF(G121/D121*100<>0, IF(G121/D121*100>100,100,G121/D121*100), \"-\"),0)","v":82.751641481937071},{"$f":"COUNTRY_INFO!M121","v":"Not required"},null,null,{"$f":"MAX('MDA1'!M121,MAX('MDA3'!I121,'MDA3'!L121)+MAX('MDA3'!J121,'MDA3'!M121))","v":46456},{"$f":"IF(AND(COUNTRY_INFO!I121>0,COUNTRY_INFO!I121<4),IF(J121>MAX('MDA1'!M121,MAX('MDA3'!I121,'MDA3'!L121)+MAX('MDA3'!J121,'MDA3'!M121)),MAX('MDA1'!M121,MAX('MDA3'!I121,'MDA3'!L121)+MAX('MDA3'!J121,'MDA3'!M121)),J121),0)","v":0},{"$f":"IF(AND(COUNTRY_INFO!I121>0,COUNTRY_INFO!I121<4), IF(M121/J121*100<>0, IF(M121/J121*100>100,100,M121/J121*100), \"-\"),0)","v":0},{"$f":"COUNTRY_INFO!N121","v":22231},null,null,{"$f":"SUM(MAX('MDA2'!J121, 'T1'!L121, MAX(T3_R1!K121, T3_R2!K121)), MAX('MDA1'!K121, 'MDA2'!K121, 'T1'!M121, MAX(T3_R1!L121, T3_R2!L121)), MAX('MDA1'!L121, 'MDA2'!L121, 'T1'!N121, MAX(T3_R1!M121, T3_R2!M121)))","v":46456},{"$f":"IF(AND(COUNTRY_INFO!J121>1,COUNTRY_INFO!J121<4),IF(COUNTRY_INFO!E121>MAX('MDA2'!J121,'T1'!L121,MAX(T3_R1!K121,T3_R2!K121)),MAX('MDA2'!J121,'T1'!L121,MAX(T3_R1!K121,T3_R2!K121)),COUNTRY_INFO!E121),0)","v":0},{"$f":"IF(AND(COUNTRY_INFO!J121>1,COUNTRY_INFO!J121<4), IF(T121/COUNTRY_INFO!E121*100<>0, IF(T121/COUNTRY_INFO!E121*100>100,100,T121/COUNTRY_INFO!E121*100), \"-\"),0)","v":"-"},{"$f":"IF(AND(COUNTRY_INFO!J121>1,COUNTRY_INFO!J121<4),IF(COUNTRY_INFO!F121>MAX('MDA1'!K121,'MDA2'!K121,'T1'!M121,MAX(T3_R1!L121,T3_R2!L121)),MAX('MDA1'!K121,'MDA2'!K121,'T1'!M121,MAX(T3_R1!L121,T3_R2!L121)),COUNTRY_INFO!F121),0)","v":15719},{"$f":"IF(AND(COUNTRY_INFO!J121>1,COUNTRY_INFO!J121<4), IF(V121/COUNTRY_INFO!F121*100<>0, IF(V121/COUNTRY_INFO!F121*100>100,100,V121/COUNTRY_INFO!F121*100), \"-\"),0)","v":100},15719,{"$f":"IF(AND(COUNTRY_INFO!J121>1,COUNTRY_INFO!J121<4), IF(S121/P121*100<>0, IF(X121/P121*100>100,100,X121/P121*100), \"-\"),0)","v":70.70757050964869},{"$f":"COUNTRY_INFO!O121","v":47999},6549,8703,{"$f":"MAX('T1'!L121,'T2'!J121)+MAX('T1'!M121,'T2'!K121)+MAX('T1'!N121,'T2'!L121)","v":15252},{"$f":"IF(COUNTRY_INFO!K121=1,IF(COUNTRY_INFO!F121*0.33>MAX('T1'!M121,'T2'!K121),MAX('T1'!M121,'T2'!K121),COUNTRY_INFO!F121*0.33),IF(COUNTRY_INFO!K121=2,IF(COUNTRY_INFO!F121*0.5>MAX('T1'!M121,'T2'!K121),MAX('T1'!M121,'T2'!K121),COUNTRY_INFO!F121*0.5),IF(COUNTRY_INFO!K121=3,IF(COUNTRY_INFO!F121>MAX('T1'!M121,'T2'!K121),MAX('T1'!M121,'T2'!K121),COUNTRY_INFO!F121),0)))","v":15252},{"$f":"IF(AND(COUNTRY_INFO!K121>0,COUNTRY_INFO!K121<4),IF(Z121>0,IF(COUNTRY_INFO!K121=1, AD121/(COUNTRY_INFO!F121*0.33)*100, IF(COUNTRY_INFO!K121=2, AD121/(COUNTRY_INFO!F121*0.5)*100, IF(COUNTRY_INFO!K121=3, AD121/COUNTRY_INFO!F121*100))),\"-\"),0)","v":97.029073096252944},{"$f":"IF(COUNTRY_INFO!K121=2,IF(COUNTRY_INFO!G121*0.2>MAX('T1'!N121,'T2'!L121),MAX('T1'!N121,'T2'!L121),COUNTRY_INFO!G121*0.2),IF(COUNTRY_INFO!K121=3,IF(COUNTRY_INFO!G121>MAX('T1'!N121,'T2'!L121),MAX('T1'!N121,'T2'!L121),COUNTRY_INFO!G121),0))","v":0},{"$f":"IF(AND(COUNTRY_INFO!K121>0,COUNTRY_INFO!K121<4),IF(Z121>0,IF(COUNTRY_INFO!K121=1, 0, IF(COUNTRY_INFO!K121=2, AF121/(COUNTRY_INFO!G121*0.2)*100, IF(COUNTRY_INFO!K121=3, AF121/COUNTRY_INFO!G121*100))),\"-\"),0)","v":0},15252,{"$f":"IF(AND(COUNTRY_INFO!K121>0,COUNTRY_INFO!K121<4), IF(AC121/Z121*100<>0, IF(AH121/Z121*100>100,100,AH121/Z121*100), \"-\"),0)","v":31.775661992958188},null,{"$f":"IF(AND(D121<>0, D121<>\"Unknown\",D121<>\"Stopped\",D121<>\"Not required\"),D121/COUNTRY_INFO!D121, 0)","v":1},{"$f":"IF(AND(J121<>0,J121<>\"Unknown\",J121<>\"Stopped\",J121<>\"Not required\"),J121/COUNTRY_INFO!D121, 0)","v":0},{"$f":"IF(AND(P121<>0,P121<>\"Unknown\",P121<>\"Not required\"),P121/(COUNTRY_INFO!E121+COUNTRY_INFO!F121), 0)","v":1},{"$f":"IF(AND(Z121<>0,Z121<>\"Unknown\",Z121<>\"Not required\"),IF(COUNTRY_INFO!K121=1,1,IF(COUNTRY_INFO!K121=2,0.5*COUNTRY_INFO!F121/(0.5*COUNTRY_INFO!F121+0.2*COUNTRY_INFO!G121),IF(COUNTRY_INFO!K121=3,COUNTRY_INFO!F121/(COUNTRY_INFO!F121+COUNTRY_INFO!G121)))),0)","v":0.32748598929144357},{"$f":"IF(AND(Z121<>0,Z121<>\"Unknown\",Z121<>\"Not required\"),IF(COUNTRY_INFO!K121=1,0,IF(COUNTRY_INFO!K121=2,0.2*COUNTRY_INFO!G121/(0.5*COUNTRY_INFO!F121+0.2*COUNTRY_INFO!G121),IF(COUNTRY_INFO!K121=3,COUNTRY_INFO!G121/(COUNTRY_INFO!F121+COUNTRY_INFO!G121)))),0)","v":0.67251401070855643},{"$f":"MAX(COUNTRY_INFO!D121*AK121*PROFILE!$G$7,COUNTRY_INFO!D121*AL121*PROFILE!$G$7)","v":1628.0477865937451},{"$f":"MAX(COUNTRY_INFO!D121*AK121*PROFILE!$G$8,COUNTRY_INFO!D121*AL121*PROFILE!$G$8,COUNTRY_INFO!D121*AM121*PROFILE!$G$8)","v":6512.1223388148637},{"$f":"MAX(COUNTRY_INFO!D121*AK121*PROFILE!$G$9,COUNTRY_INFO!D121*AL121*PROFILE!$G$9,COUNTRY_INFO!D121*AM121*PROFILE!$G$9,IF(AND(DISTRICT!Z121<>\"Unknown\",Z121<>\"Not required\"),COUNTRY_INFO!O121*DISTRICT!AN121,0))","v":15719},{"$f":"MAX(COUNTRY_INFO!D121*AK121*PROFILE!$G$10,COUNTRY_INFO!D121*AL121*PROFILE!$G$10,IF(AND(DISTRICT!Z121<>\"Unknown\",Z121<>\"Not required\"),COUNTRY_INFO!O121*DISTRICT!AO121,0))","v":32280},56139.170125408607,"Y",{"$f":"MAX('MDA2'!J121,'T1'!L121,'T2'!J121,T3_R1!K121,T3_R2!K121)","v":0},{"$f":"MAX('MDA1'!K121,'MDA2'!K121,'MDA3'!I121,'MDA3'!L121,'T1'!M121,'T2'!K121,T3_R1!L121,T3_R2!L121)","v":16165},{"$f":"MAX('MDA1'!L121,'MDA2'!L121,'MDA3'!J121,'MDA3'!M121,'T1'!N121,'T2'!L121,T3_R1!M121,T3_R2!M121)","v":30291},46456,{"$f":"MAX('MDA2'!J121,T121)","v":0},{"$f":"MAX('MDA1'!K121,'MDA2'!K121,'MDA3'!I121,'MDA3'!L121,V121,AD121)","v":16165},{"$f":"MAX('MDA1'!L121,'MDA2'!L121,'MDA3'!J121,'MDA3'!M121,AF121)","v":30291},46456,82.751490441028082]
[{"$f":"IF(COUNTRY_INFO!A122=0,\" \",COUNTRY_INFO!A122)","v":"Mozambique"},{"$f":"IF(COUNTRY_INFO!B122=0,\" \",COUNTRY_INFO!B122)","v":"Manica"},{"$f":"IF(COUNTRY_INFO!C122=0,\" \",COUNTRY_INFO!C122)","v":"Manica"},{"$f":"COUNTRY_INFO!L122","v":0},null,null,{"$f":"MAX('MDA1'!M122,'MDA2'!M122)","v":0},{"$f":"IF(AND(COUNTRY_INFO!H122>0,COUNTRY_INFO!H122<4),IF(D122>MAX('MDA1'!M122,'MDA2'!M122),MAX('MDA1'!M122,'MDA2'!M122),D122),0)","v":0},{"$f":"IF(AND(COUNTRY_INFO!H122>0,COUNTRY_INFO!H122<4), IF(G122/D122*100<>0, IF(G122/D122*100>100,100,G122/D122*100), \"-\"),0)","v":0},{"$f":"COUNTRY_INFO!M122","v":"Not required"},null,null,{"$f":"MAX('MDA1'!M122,MAX('MDA3'!I122,'MDA3'!L122)+MAX('MDA3'!J122,'MDA3'!M122))","v":0},{"$f":"IF(AND(COUNTRY_INFO!I122>0,COUNTRY_INFO!I122<4),IF(J122>MAX('MDA1'!M122,MAX('MDA3'!I122,'MDA3'!L122)+MAX('MDA3'!J122,'MDA3'!M122)),MAX('MDA1'!M122,MAX('MDA3'!I122,'MDA3'!L122)+MAX('MDA3'!J122,'MDA3'!M122)),J122),0)","v":0},{"$f":"IF(AND(COUNTRY_INFO!I122>0,COUNTRY_INFO!I122<4), IF(M122/J122*100<>0, IF(M122/J122*100>100,100,M122/J122*100), \"-\"),0)","v":0},{"$f":"COUNTRY_INFO!N122","v":94187},null,null,{"$f":"SUM(MAX('MDA2'!J122, 'T1'!L122, MAX(T3_R1!K122, T3_R2!K122)), MAX('MDA1'!K122, 'MDA2'!K122, 'T1'!M122, MAX(T3_R1!L122, T3_R2!L122)), MAX('MDA1'!L122, 'MDA2'!L122, 'T1'!N122, MAX(T3_R1!M122, T3_R2!M122)))","v":69122},{"$f":"IF(AND(COUNTRY_INFO!J122>1,COUNTRY_INFO!J122<4),IF(COUNTRY_INFO!E122>MAX('MDA2'!J122,'T1'!L122,MAX(T3_R1!K122,T3_R2!K122)),MAX('MDA2'!J122,'T1'!L122,MAX(T3_R1!K122,T3_R2!K122)),COUNTRY_INFO!E122),0)","v":0},{"$f":"IF(AND(COUNTRY_INFO!J122>1,COUNTRY_INFO!J122<4), IF(T122/COUNTRY_INFO!E122*100<>0, IF(T122/COUNTRY_INFO!E122*100>100,100,T122/COUNTRY_INFO!E122*100), \"-\"),0)","v":"-"},{"$f":"IF(AND(COUNTRY_INFO!J122>1,COUNTRY_INFO!J122<4),IF(COUNTRY_INFO!F122>MAX('MDA1'!K122,'MDA2'!K122,'T1'!M122,MAX(T3_R1!L122,T3_R2!L122)),MAX('MDA1'!K122,'MDA2'!K122,'T1'!M122,MAX(T3_R1!L122,T3_R2!L122)),COUNTRY_INFO!F122),0)","v":66597},{"$f":"IF(AND(COUNTRY_INFO!J122>1,COUNTRY_INFO!J122<4), IF(V122/COUNTRY_INFO!F122*100<>0, IF(V122/COUNTRY_INFO!F122*100>100,100,V122/COUNTRY_INFO!F122*100), \"-\"),0)","v":100},66597,{"$f":"IF(AND(COUNTRY_INFO!J122>1,COUNTRY_INFO!J122<4), IF(S122/P122*100<>0, IF(X122/P122*100>100,100,X122/P122*100), \"-\"),0)","v":70.707210124539472},{"$f":"COUNTRY_INFO!O122","v":60650.7},34110,35012,{"$f":"MAX('T1'!L122,'T2'!J122)+MAX('T1'!M122,'T2'!K122)+MAX('T1'!N122,'T2'!L122)","v":69122},{"$f":"IF(COUNTRY_INFO!K122=1,IF(COUNTRY_INFO!F122*0.33>MAX('T1'!M122,'T2'!K122),MAX('T1'!M122,'T2'!K122),COUNTRY_INFO!F122*0.33),IF(COUNTRY_INFO!K122=2,IF(COUNTRY_INFO!F122*0.5>MAX('T1'!M122,'T2'!K122),MAX('T1'!M122,'T2'!K122),COUNTRY_INFO!F122*0.5),IF(COUNTRY_INFO!K122=3,IF(COUNTRY_INFO!F122>MAX('T1'!M122,'T2'!K122),MAX('T1'!M122,'T2'!K122),COUNTRY_INFO!F122),0)))","v":33298.5},{"$f":"IF(AND(COUNTRY_INFO!K122>0,COUNTRY_INFO!K122<4),IF(Z122>0,IF(COUNTRY_INFO!K122=1, AD122/(COUNTRY_INFO!F122*0.33)*100, IF(COUNTRY_INFO!K122=2, AD122/(COUNTRY_INFO!F122*0.5)*100, IF(COUNTRY_INFO!K122=3, AD122/COUNTRY_INFO!F122*100))),\"-\"),0)","v":100},{"$f":"IF(COUNTRY_INFO!K122=2,IF(COUNTRY_INFO!G122*0.2>MAX('T1'!N122,'T2'!L122),MAX('T1'!N122,'T2'!L122),COUNTRY_INFO!G122*0.2),IF(COUNTRY_INFO!K122=3,IF(COUNTRY_INFO!G122>MAX('T1'!N122,'T2'!L122),MAX('T1'!N122,'T2'!L122),COUNTRY_INFO!G122),0))","v":0},{"$f":"IF(AND(COUNTRY_INFO!K122>0,COUNTRY_INFO!K122<4),IF(Z122>0,IF(COUNTRY_INFO!K122=1, 0, IF(COUNTRY_INFO!K122=2, AF122/(COUNTRY_INFO!G122*0.2)*100, IF(COUNTRY_INFO!K122=3, AF122/COUNTRY_INFO!G122*100))),\"-\"),0)","v":0},33298.5,{"$f":"IF(AND(COUNTRY_INFO!K122>0,COUNTRY_INFO!K122<4), IF(AC122/Z122*100<>0, IF(AH122/Z122*100>100,100,AH122/Z122*100), \"-\"),0)","v":54.902086867917447},null,{"$f":"IF(AND(D122<>0, D122<>\"Unknown\",D122<>\"Stopped\",D122<>\"Not required\"),D122/COUNTRY_INFO!D122, 0)","v":0},{"$f":"IF(AND(J122<>0,J122<>\"Unknown\",J122<>\"Stopped\",J122<>\"Not required\"),J122/COUNTRY_INFO!D122, 0)","v":0},{"$f":"IF(AND(P122<>0,P122<>\"Unknown\",P122<>\"Not required\"),P122/(COUNTRY_INFO!E122+COUNTRY_INFO!F122), 0)","v":1},{"$f":"IF(AND(Z122<>0,Z122<>\"Unknown\",Z122<>\"Not required\"),IF(COUNTRY_INFO!K122=1,1,IF(COUNTRY_INFO!K122=2,0.5*COUNTRY_INFO!F122/(0.5*COUNTRY_INFO!F122+0.2*COUNTRY_INFO!G122),IF(COUNTRY_INFO!K122=3,COUNTRY_INFO!F122/(COUNTRY_INFO!F122+COUNTRY_INFO!G122)))),0)","v":0.54902086867917443},{"$f":"IF(AND(Z122<>0,Z122<>\"Unknown\",Z122<>\"Not required\"),IF(COUNTRY_INFO!K122=1,0,IF(COUNTRY_INFO!K122=2,0.2*COUNTRY_INFO!G122/(0.5*COUNTRY_INFO!F122+0.2*COUNTRY_INFO!G122),IF(COUNTRY_INFO!K122=3,COUNTRY_INFO!G122/(COUNTRY_INFO!F122+COUNTRY_INFO!G122)))),0)","v":0.45097913132082568},{"$f":"MAX(COUNTRY_INFO!D122*AK122*PROFILE!$G$7,COUNTRY_INFO!D122*AL122*PROFILE!$G$7)","v":0},{"$f":"MAX(COUNTRY_INFO!D122*AK122*PROFILE!$G$8,COUNTRY_INFO!D122*AL122*PROFILE!$G$8,COUNTRY_INFO!D122*AM122*PROFILE!$G$8)","v":27589.991972385495},{"$f":"MAX(COUNTRY_INFO!D122*AK122*PROFILE!$G$9,COUNTRY_INFO!D122*AL122*PROFILE!$G$9,COUNTRY_INFO!D122*AM122*PROFILE!$G$9,IF(AND(DISTRICT!Z122<>\"Unknown\",Z122<>\"Not required\"),COUNTRY_INFO!O122*DISTRICT!AN122,0))","v":66596.596044065082},{"$f":"MAX(COUNTRY_INFO!D122*AK122*PROFILE!$G$10,COUNTRY_INFO!D122*AL122*PROFILE!$G$10,IF(AND(DISTRICT!Z122<>\"Unknown\",Z122<>\"Not required\"),COUNTRY_INFO!O122*DISTRICT!AO122,0))","v":27352.2},121538.78801645058,"Y",{"$f":"MAX('MDA2'!J122,'T1'!L122,'T2'!J122,T3_R1!K122,T3_R2!K122)","v":0},{"$f":"MAX('MDA1'!K122,'MDA2'!K122,'MDA3'!I122,'MDA3'!L122,'T1'!M122,'T2'!K122,T3_R1!L122,T3_R2!L122)","v":69122},{"$f":"MAX('MDA1'!L122,'MDA2'!L122,'MDA3'!J122,'MDA3'!M122,'T1'!N122,'T2'!L122,T3_R1!M122,T3_R2!M122)","v":0},69122,{"$f":"MAX('MDA2'!J122,T122)","v":0},{"$f":"MAX('MDA1'!K122,'MDA2'!K122,'MDA3'!I122,'MDA3'!L122,V122,AD122)","v":66597},{"$f":"MAX('MDA1'!L122,'MDA2'!L122,'MDA3'!J122,'MDA3'!M122,AF122)","v":0},66597,54.794852809447079]
[{"$f":"IF(COUNTRY_INFO!A123=0,\" \",COUNTRY_INFO!A123)","v":"Mozambique"},{"$f":"IF(COUNTRY_INFO!B123=0,\" \",COUNTRY_INFO!B123)","v":"Manica"},{"$f":"IF(COUNTRY_INFO!C123=0,\" \",COUNTRY_INFO!C123)","v":"Mossurize"},{"$f":"COUNTRY_INFO!L123","v":0},null,null,{"$f":"MAX('MDA1'!M123,'MDA2'!M123)","v":0},{"$f":"IF(AND(COUNTRY_INFO!H123>0,COUNTRY_INFO!H123<4),IF(D123>MAX('MDA1'!M123,'MDA2'!M123),MAX('MDA1'!M123,'MDA2'!M123),D123),0)","v":0},{"$f":"IF(AND(COUNTRY_INFO!H123>0,COUNTRY_INFO!H123<4), IF(G123/D123*100<>0, IF(G123/D123*100>100,100,G123/D123*100), \"-\"),0)","v":0},{"$f":"COUNTRY_INFO!M123","v":"Not required"},null,null,{"$f":"MAX('MDA1'!M123,MAX('MDA3'!I123,'MDA3'!L123)+MAX('MDA3'!J123,'MDA3'!M123))","v":0},{"$f":"IF(AND(COUNTRY_INFO!I123>0,COUNTRY_INFO!I123<4),IF(J123>MAX('MDA1'!M123,MAX('MDA3'!I123,'MDA3'!L123)+MAX('MDA3'!J123,'MDA3'!M123)),MAX('MDA1'!M123,MAX('MDA3'!I123,'MDA3'!L123)+MAX('MDA3'!J123,'MDA3'!M123)),J123),0)","v":0},{"$f":"IF(AND(COUNTRY_INFO!I123>0,COUNTRY_INFO!I123<4), IF(M123/J123*100<>0, IF(M123/J123*100>100,100,M123/J123*100), \"-\"),0)","v":0},{"$f":"COUNTRY_INFO!N123","v":125215},null,null,{"$f":"SUM(MAX('MDA2'!J123, 'T1'!L123, MAX(T3_R1!K123, T3_R2!K123)), MAX('MDA1'!K123, 'MDA2'!K123, 'T1'!M123, MAX(T3_R1!L123, T3_R2!L123)), MAX('MDA1'!L123, 'MDA2'!L123, 'T1'!N123, MAX(T3_R1!M123, T3_R2!M123)))","v":85726},{"$f":"IF(AND(COUNTRY_INFO!J123>1,COUNTRY_INFO!J123<4),IF(COUNTRY_INFO!E123>MAX('MDA2'!J123,'T1'!L123,MAX(T3_R1!K123,T3_R2!K123)),MAX('MDA2'!J123,'T1'!L123,MAX(T3_R1!K123,T3_R2!K123)),COUNTRY_INFO!E123),0)","v":0},{"$f":"IF(AND(COUNTRY_INFO!J123>1,COUNTRY_INFO!J123<4), IF(T123/COUNTRY_INFO!E123*100<>0, IF(T123/COUNTRY_INFO!E123*100>100,100,T123/COUNTRY_INFO!E123*100), \"-\"),0)","v":"-"},{"$f":"IF(AND(COUNTRY_INFO!J123>1,COUNTRY_INFO!J123<4),IF(COUNTRY_INFO!F123>MAX('MDA1'!K123,'MDA2'!K123,'T1'!M123,MAX(T3_R1!L123,T3_R2!L123)),MAX('MDA1'!K123,'MDA2'!K123,'T1'!M123,MAX(T3_R1!L123,T3_R2!L123)),COUNTRY_INFO!F123),0)","v":85726},{"$f":"IF(AND(COUNTRY_INFO!J123>1,COUNTRY_INFO!J123<4), IF(V123/COUNTRY_INFO!F123*100<>0, IF(V123/COUNTRY_INFO!F123*100>100,100,V123/COUNTRY_INFO!F123*100), \"-\"),0)","v":96.826149814764619},85726,{"$f":"IF(AND(COUNTRY_INFO!J123>1,COUNTRY_INFO!J123<4), IF(S123/P123*100<>0, IF(X123/P123*100>100,100,X123/P123*100), \"-\"),0)","v":68.463043565068077},{"$f":"COUNTRY_INFO!O123","v":270352},40466,45260,{"$f":"MAX('T1'!L123,'T2'!J123)+MAX('T1'!M123,'T2'!K123)+MAX('T1'!N123,'T2'!L123)","v":85726},{"$f":"IF(COUNTRY_INFO!K123=1,IF(COUNTRY_INFO!F123*0.33>MAX('T1'!M123,'T2'!K123),MAX('T1'!M123,'T2'!K123),COUNTRY_INFO!F123*0.33),IF(COUNTRY_INFO!K123=2,IF(COUNTRY_INFO!F123*0.5>MAX('T1'!M123,'T2'!K123),MAX('T1'!M123,'T2'!K123),COUNTRY_INFO!F123*0.5),IF(COUNTRY_INFO!K123=3,IF(COUNTRY_INFO!F123>MAX('T1'!M123,'T2'!K123),MAX('T1'!M123,'T2'!K123),COUNTRY_INFO!F123),0)))","v":85726},{"$f":"IF(AND(COUNTRY_INFO!K123>0,COUNTRY_INFO!K123<4),IF(Z123>0,IF(COUNTRY_INFO!K123=1, AD123/(COUNTRY_INFO!F123*0.33)*100, IF(COUNTRY_INFO!K123=2, AD123/(COUNTRY_INFO!F123*0.5)*100, IF(COUNTRY_INFO!K123=3, AD123/COUNTRY_INFO!F123*100))),\"-\"),0)","v":96.826149814764619},{"$f":"IF(COUNTRY_INFO!K123=2,IF(COUNTRY_INFO!G123*0.2>MAX('T1'!N123,'T2'!L123),MAX('T1'!N123,'T2'!L123),COUNTRY_INFO!G123*0.2),IF(COUNTRY_INFO!K123=3,IF(COUNTRY_INFO!G123>MAX('T1'!N123,'T2'!L123),MAX('T1'!N123,'T2'!L123),COUNTRY_INFO!G123),0))","v":0},{"$f":"IF(AND(COUNTRY_INFO!K123>0,COUNTRY_INFO!K123<4),IF(Z123>0,IF(COUNTRY_INFO!K123=1, 0, IF(COUNTRY_INFO!K123=2, AF123/(COUNTRY_INFO!G123*0.2)*100, IF(COUNTRY_INFO!K123=3, AF123/COUNTRY_INFO!G123*100))),\"-\"),0)","v":0},85726,{"$f":"IF(AND(COUNTRY_INFO!K123>0,COUNTRY_INFO!K123<4), IF(AC123/Z123*100<>0, IF(AH123/Z123*100>100,100,AH123/Z123*100), \"-\"),0)","v":31.709031188968456},null,{"$f":"IF(AND(D123<>0, D123<>\"Unknown\",D123<>\"Stopped\",D123<>\"Not required\"),D123/COUNTRY_INFO!D123, 0)","v":0},{"$f":"IF(AND(J123<>0,J123<>\"Unknown\",J123<>\"Stopped\",J123<>\"Not required\"),J123/COUNTRY_INFO!D123, 0)","v":0},{"$f":"IF(AND(P123<>0,P123<>\"Unknown\",P123<>\"Not required\"),P123/(COUNTRY_INFO!E123+COUNTRY_INFO!F123), 0)","v":1},{"$f":"IF(AND(Z123<>0,Z123<>\"Unknown\",Z123<>\"Not required\"),IF(COUNTRY_INFO!K123=1,1,IF(COUNTRY_INFO!K123=2,0.5*COUNTRY_INFO!F123/(0.5*COUNTRY_INFO!F123+0.2*COUNTRY_INFO!G123),IF(COUNTRY_INFO!K123=3,COUNTRY_INFO!F123/(COUNTRY_INFO!F123+COUNTRY_INFO!G123)))),0)","v":0.3274841687873587},{"$f":"IF(AND(Z123<>0,Z123<>\"Unknown\",Z123<>\"Not required\"),IF(COUNTRY_INFO!K123=1,0,IF(COUNTRY_INFO!K123=2,0.2*COUNTRY_INFO!G123/(0.5*COUNTRY_INFO!F123+0.2*COUNTRY_INFO!G123),IF(COUNTRY_INFO!K123=3,COUNTRY_INFO!G123/(COUNTRY_INFO!F123+COUNTRY_INFO!G123)))),0)","v":0.67251583121264125},{"$f":"MAX(COUNTRY_INFO!D123*AK123*PROFILE!$G$7,COUNTRY_INFO!D123*AL123*PROFILE!$G$7)","v":0},{"$f":"MAX(COUNTRY_INFO!D123*AK123*PROFILE!$G$8,COUNTRY_INFO!D123*AL123*PROFILE!$G$8,COUNTRY_INFO!D123*AM123*PROFILE!$G$8)","v":36679.262472592658},{"$f":"MAX(COUNTRY_INFO!D123*AK123*PROFILE!$G$9,COUNTRY_INFO!D123*AL123*PROFILE!$G$9,COUNTRY_INFO!D123*AM123*PROFILE!$G$9,IF(AND(DISTRICT!Z123<>\"Unknown\",Z123<>\"Not required\"),COUNTRY_INFO!O123*DISTRICT!AN123,0))","v":88536.235477211201},{"$f":"MAX(COUNTRY_INFO!D123*AK123*PROFILE!$G$10,COUNTRY_INFO!D123*AL123*PROFILE!$G$10,IF(AND(DISTRICT!Z123<>\"Unknown\",Z123<>\"Not required\"),COUNTRY_INFO!O123*DISTRICT!AO123,0))","v":181816},307031.49794980383,"Y",{"$f":"MAX('MDA2'!J123,'T1'!L123,'T2'!J123,T3_R1!K123,T3_R2!K123)","v":0},{"$f":"MAX('MDA1'!K123,'MDA2'!K123,'MDA3'!I123,'MDA3'!L123,'T1'!M123,'T2'!K123,T3_R1!L123,T3_R2!L123)","v":85726},{"$f":"MAX('MDA1'!L123,'MDA2'!L123,'MDA3'!J123,'MDA3'!M123,'T1'!N123,'T2'!L123,T3_R1!M123,T3_R2!M123)","v":0},85726,{"$f":"MAX('MDA2'!J123,T123)","v":0},{"$f":"MAX('MDA1'!K123,'MDA2'!K123,'MDA3'!I123,'MDA3'!L123,V123,AD123)","v":85726},{"$f":"MAX('MDA1'!L123,'MDA2'!L123,'MDA3'!J123,'MDA3'!M123,AF123)","v":0},85726,27.920913838623562]
[{"$f":"IF(COUNTRY_INFO!A124=0,\" \",COUNTRY_INFO!A124)","v":"Mozambique"},{"$f":"IF(COUNTRY_INFO!B124=0,\" \",COUNTRY_INFO!B124)","v":"Manica"},{"$f":"IF(COUNTRY_INFO!C124=0,\" \",COUNTRY_INFO!C124)","v":"Sussundenga"},{"$f":"COUNTRY_INFO!L124","v":178436.86774308735},null,null,{"$f":"MAX('MDA1'!M124,'MDA2'!M124)","v":147374},{"$f":"IF(AND(COUNTRY_INFO!H124>0,COUNTRY_INFO!H124<4),IF(D124>MAX('MDA1'!M124,'MDA2'!M124),MAX('MDA1'!M124,'MDA2'!M124),D124),0)","v":147374},{"$f":"IF(AND(COUNTRY_INFO!H124>0,COUNTRY_INFO!H124<4), IF(G124/D124*100<>0, IF(G124/D124*100>100,100,G124/D124*100), \"-\"),0)","v":82.591676184424216},{"$f":"COUNTRY_INFO!M124","v":"Not required"},null,null,{"$f":"MAX('MDA1'!M124,MAX('MDA3'!I124,'MDA3'!L124)+MAX('MDA3'!J124,'MDA3'!M124))","v":147374},{"$f":"IF(AND(COUNTRY_INFO!I124>0,COUNTRY_INFO!I124<4),IF(J124>MAX('MDA1'!M124,MAX('MDA3'!I124,'MDA3'!L124)+MAX('MDA3'!J124,'MDA3'!M124)),MAX('MDA1'!M124,MAX('MDA3'!I124,'MDA3'!L124)+MAX('MDA3'!J124,'MDA3'!M124)),J124),0)","v":0},{"$f":"IF(AND(COUNTRY_INFO!I124>0,COUNTRY_INFO!I124<4), IF(M124/J124*100<>0, IF(M124/J124*100>100,100,M124/J124*100), \"-\"),0)","v":0},{"$f":"COUNTRY_INFO!N124","v":70661},null,null,{"$f":"SUM(MAX('MDA2'!J124, 'T1'!L124, MAX(T3_R1!K124, T3_R2!K124)), MAX('MDA1'!K124, 'MDA2'!K124, 'T1'!M124, MAX(T3_R1!L124, T3_R2!L124)), MAX('MDA1'!L124, 'MDA2'!L124, 'T1'!N124, MAX(T3_R1!M124, T3_R2!M124)))","v":147374},{"$f":"IF(AND(COUNTRY_INFO!J124>1,COUNTRY_INFO!J124<4),IF(COUNTRY_INFO!E124>MAX('MDA2'!J124,'T1'!L124,MAX(T3_R1!K124,T3_R2!K124)),MAX('MDA2'!J124,'T1'!L124,MAX(T3_R1!K124,T3_R2!K124)),COUNTRY_INFO!E124),0)","v":0},{"$f":"IF(AND(COUNTRY_INFO!J124>1,COUNTRY_INFO!J124<4), IF(T124/COUNTRY_INFO!E124*100<>0, IF(T124/COUNTRY_INFO!E124*100>100,100,T124/COUNTRY_INFO!E124*100), \"-\"),0)","v":"-"},{"$f":"IF(AND(COUNTRY_INFO!J124>1,COUNTRY_INFO!J124<4),IF(COUNTRY_INFO!F124>MAX('MDA1'!K124,'MDA2'!K124,'T1'!M124,MAX(T3_R1!L124,T3_R2!L124)),MAX('MDA1'!K124,'MDA2'!K124,'T1'!M124,MAX(T3_R1!L124,T3_R2!L124)),COUNTRY_INFO!F124),0)","v":47289},{"$f":"IF(AND(COUNTRY_INFO!J124>1,COUNTRY_INFO!J124<4), IF(V124/COUNTRY_INFO!F124*100<>0, IF(V124/COUNTRY_INFO!F124*100>100,100,V124/COUNTRY_INFO!F124*100), \"-\"),0)","v":94.649933949801849},47289,{"$f":"IF(AND(COUNTRY_INFO!J124>1,COUNTRY_INFO!J124<4), IF(S124/P124*100<>0, IF(X124/P124*100>100,100,X124/P124*100), \"-\"),0)","v":66.923762754560514},{"$f":"COUNTRY_INFO!O124","v":152563},23940,23349,{"$f":"MAX('T1'!L124,'T2'!J124)+MAX('T1'!M124,'T2'!K124)+MAX('T1'!N124,'T2'!L124)","v":47289},{"$f":"IF(COUNTRY_INFO!K124=1,IF(COUNTRY_INFO!F124*0.33>MAX('T1'!M124,'T2'!K124),MAX('T1'!M124,'T2'!K124),COUNTRY_INFO!F124*0.33),IF(COUNTRY_INFO!K124=2,IF(COUNTRY_INFO!F124*0.5>MAX('T1'!M124,'T2'!K124),MAX('T1'!M124,'T2'!K124),COUNTRY_INFO!F124*0.5),IF(COUNTRY_INFO!K124=3,IF(COUNTRY_INFO!F124>MAX('T1'!M124,'T2'!K124),MAX('T1'!M124,'T2'!K124),COUNTRY_INFO!F124),0)))","v":47289},{"$f":"IF(AND(COUNTRY_INFO!K124>0,COUNTRY_INFO!K124<4),IF(Z124>0,IF(COUNTRY_INFO!K124=1, AD124/(COUNTRY_INFO!F124*0.33)*100, IF(COUNTRY_INFO!K124=2, AD124/(COUNTRY_INFO!F124*0.5)*100, IF(COUNTRY_INFO!K124=3, AD124/COUNTRY_INFO!F124*100))),\"-\"),0)","v":94.649933949801849},{"$f":"IF(COUNTRY_INFO!K124=2,IF(COUNTRY_INFO!G124*0.2>MAX('T1'!N124,'T2'!L124),MAX('T1'!N124,'T2'!L124),COUNTRY_INFO!G124*0.2),IF(COUNTRY_INFO!K124=3,IF(COUNTRY_INFO!G124>MAX('T1'!N124,'T2'!L124),MAX('T1'!N124,'T2'!L124),COUNTRY_INFO!G124),0))","v":0},{"$f":"IF(AND(COUNTRY_INFO!K124>0,COUNTRY_INFO!K124<4),IF(Z124>0,IF(COUNTRY_INFO!K124=1, 0, IF(COUNTRY_INFO!K124=2, AF124/(COUNTRY_INFO!G124*0.2)*100, IF(COUNTRY_INFO!K124=3, AF124/COUNTRY_INFO!G124*100))),\"-\"),0)","v":0},47289,{"$f":"IF(AND(COUNTRY_INFO!K124>0,COUNTRY_INFO!K124<4), IF(AC124/Z124*100<>0, IF(AH124/Z124*100>100,100,AH124/Z124*100), \"-\"),0)","v":30.996375267922105},null,{"$f":"IF(AND(D124<>0, D124<>\"Unknown\",D124<>\"Stopped\",D124<>\"Not required\"),D124/COUNTRY_INFO!D124, 0)","v":1},{"$f":"IF(AND(J124<>0,J124<>\"Unknown\",J124<>\"Stopped\",J124<>\"Not required\"),J124/COUNTRY_INFO!D124, 0)","v":0},{"$f":"IF(AND(P124<>0,P124<>\"Unknown\",P124<>\"Not required\"),P124/(COUNTRY_INFO!E124+COUNTRY_INFO!F124), 0)","v":1},{"$f":"IF(AND(Z124<>0,Z124<>\"Unknown\",Z124<>\"Not required\"),IF(COUNTRY_INFO!K124=1,1,IF(COUNTRY_INFO!K124=2,0.5*COUNTRY_INFO!F124/(0.5*COUNTRY_INFO!F124+0.2*COUNTRY_INFO!G124),IF(COUNTRY_INFO!K124=3,COUNTRY_INFO!F124/(COUNTRY_INFO!F124+COUNTRY_INFO!G124)))),0)","v":0.32748438350058662},{"$f":"IF(AND(Z124<>0,Z124<>\"Unknown\",Z124<>\"Not required\"),IF(COUNTRY_INFO!K124=1,0,IF(COUNTRY_INFO!K124=2,0.2*COUNTRY_INFO!G124/(0.5*COUNTRY_INFO!F124+0.2*COUNTRY_INFO!G124),IF(COUNTRY_INFO!K124=3,COUNTRY_INFO!G124/(COUNTRY_INFO!F124+COUNTRY_INFO!G124)))),0)","v":0.67251561649941338},{"$f":"MAX(COUNTRY_INFO!D124*AK124*PROFILE!$G$7,COUNTRY_INFO!D124*AL124*PROFILE!$G$7)","v":5174.7162839151524},{"$f":"MAX(COUNTRY_INFO!D124*AK124*PROFILE!$G$8,COUNTRY_INFO!D124*AL124*PROFILE!$G$8,COUNTRY_INFO!D124*AM124*PROFILE!$G$8)","v":20698.646432251091},{"$f":"MAX(COUNTRY_INFO!D124*AK124*PROFILE!$G$9,COUNTRY_INFO!D124*AL124*PROFILE!$G$9,COUNTRY_INFO!D124*AM124*PROFILE!$G$9,IF(AND(DISTRICT!Z124<>\"Unknown\",Z124<>\"Not required\"),COUNTRY_INFO!O124*DISTRICT!AN124,0))","v":49962.297795781851},{"$f":"MAX(COUNTRY_INFO!D124*AK124*PROFILE!$G$10,COUNTRY_INFO!D124*AL124*PROFILE!$G$10,IF(AND(DISTRICT!Z124<>\"Unknown\",Z124<>\"Not required\"),COUNTRY_INFO!O124*DISTRICT!AO124,0))","v":102601.20723113925},178436.86774308735,"Y",{"$f":"MAX('MDA2'!J124,'T1'!L124,'T2'!J124,T3_R1!K124,T3_R2!K124)","v":0},{"$f":"MAX('MDA1'!K124,'MDA2'!K124,'MDA3'!I124,'MDA3'!L124,'T1'!M124,'T2'!K124,T3_R1!L124,T3_R2!L124)","v":47289},{"$f":"MAX('MDA1'!L124,'MDA2'!L124,'MDA3'!J124,'MDA3'!M124,'T1'!N124,'T2'!L124,T3_R1!M124,T3_R2!M124)","v":100085},147374,{"$f":"MAX('MDA2'!J124,T124)","v":0},{"$f":"MAX('MDA1'!K124,'MDA2'!K124,'MDA3'!I124,'MDA3'!L124,V124,AD124)","v":47289},{"$f":"MAX('MDA1'!L124,'MDA2'!L124,'MDA3'!J124,'MDA3'!M124,AF124)","v":100085},147374,82.591676184424216]
[{"$f":"IF(COUNTRY_INFO!A125=0,\" \",COUNTRY_INFO!A125)","v":"Mozambique"},{"$f":"IF(COUNTRY_INFO!B125=0,\" \",COUNTRY_INFO!B125)","v":"Manica"},{"$f":"IF(COUNTRY_INFO!C125=0,\" \",COUNTRY_INFO!C125)","v":"Tambara"},{"$f":"COUNTRY_INFO!L125","v":59631.993578704467},null,null,{"$f":"MAX('MDA1'!M125,'MDA2'!M125)","v":47685},{"$f":"IF(AND(COUNTRY_INFO!H125>0,COUNTRY_INFO!H125<4),IF(D125>MAX('MDA1'!M125,'MDA2'!M125),MAX('MDA1'!M125,'MDA2'!M125),D125),0)","v":47685},{"$f":"IF(AND(COUNTRY_INFO!H125>0,COUNTRY_INFO!H125<4), IF(G125/D125*100<>0, IF(G125/D125*100>100,100,G125/D125*100), \"-\"),0)","v":79.965463400219221},{"$f":"COUNTRY_INFO!M125","v":"Not required"},null,null,{"$f":"MAX('MDA1'!M125,MAX('MDA3'!I125,'MDA3'!L125)+MAX('MDA3'!J125,'MDA3'!M125))","v":47685},{"$f":"IF(AND(COUNTRY_INFO!I125>0,COUNTRY_INFO!I125<4),IF(J125>MAX('MDA1'!M125,MAX('MDA3'!I125,'MDA3'!L125)+MAX('MDA3'!J125,'MDA3'!M125)),MAX('MDA1'!M125,MAX('MDA3'!I125,'MDA3'!L125)+MAX('MDA3'!J125,'MDA3'!M125)),J125),0)","v":0},{"$f":"IF(AND(COUNTRY_INFO!I125>0,COUNTRY_INFO!I125<4), IF(M125/J125*100<>0, IF(M125/J125*100>100,100,M125/J125*100), \"-\"),0)","v":0},{"$f":"COUNTRY_INFO!N125","v":23614},null,null,{"$f":"SUM(MAX('MDA2'!J125, 'T1'!L125, MAX(T3_R1!K125, T3_R2!K125)), MAX('MDA1'!K125, 'MDA2'!K125, 'T1'!M125, MAX(T3_R1!L125, T3_R2!L125)), MAX('MDA1'!L125, 'MDA2'!L125, 'T1'!N125, MAX(T3_R1!M125, T3_R2!M125)))","v":47685},{"$f":"IF(AND(COUNTRY_INFO!J125>1,COUNTRY_INFO!J125<4),IF(COUNTRY_INFO!E125>MAX('MDA2'!J125,'T1'!L125,MAX(T3_R1!K125,T3_R2!K125)),MAX('MDA2'!J125,'T1'!L125,MAX(T3_R1!K125,T3_R2!K125)),COUNTRY_INFO!E125),0)","v":0},{"$f":"IF(AND(COUNTRY_INFO!J125>1,COUNTRY_INFO!J125<4), IF(T125/COUNTRY_INFO!E125*100<>0, IF(T125/COUNTRY_INFO!E125*100>100,100,T125/COUNTRY_INFO!E125*100), \"-\"),0)","v":"-"},{"$f":"IF(AND(COUNTRY_INFO!J125>1,COUNTRY_INFO!J125<4),IF(COUNTRY_INFO!F125>MAX('MDA1'!K125,'MDA2'!K125,'T1'!M125,MAX(T3_R1!L125,T3_R2!L125)),MAX('MDA1'!K125,'MDA2'!K125,'T1'!M125,MAX(T3_R1!L125,T3_R2!L125)),COUNTRY_INFO!F125),0)","v":15733},{"$f":"IF(AND(COUNTRY_INFO!J125>1,COUNTRY_INFO!J125<4), IF(V125/COUNTRY_INFO!F125*100<>0, IF(V125/COUNTRY_INFO!F125*100>100,100,V125/COUNTRY_INFO!F125*100), \"-\"),0)","v":94.226507755884299},15733,{"$f":"IF(AND(COUNTRY_INFO!J125>1,COUNTRY_INFO!J125<4), IF(S125/P125*100<>0, IF(X125/P125*100>100,100,X125/P125*100), \"-\"),0)","v":66.625730498856612},{"$f":"COUNTRY_INFO!O125","v":15206.1},7829,8165,{"$f":"MAX('T1'!L125,'T2'!J125)+MAX('T1'!M125,'T2'!K125)+MAX('T1'!N125,'T2'!L125)","v":15994},{"$f":"IF(COUNTRY_INFO!K125=1,IF(COUNTRY_INFO!F125*0.33>MAX('T1'!M125,'T2'!K125),MAX('T1'!M125,'T2'!K125),COUNTRY_INFO!F125*0.33),IF(COUNTRY_INFO!K125=2,IF(COUNTRY_INFO!F125*0.5>MAX('T1'!M125,'T2'!K125),MAX('T1'!M125,'T2'!K125),COUNTRY_INFO!F125*0.5),IF(COUNTRY_INFO!K125=3,IF(COUNTRY_INFO!F125>MAX('T1'!M125,'T2'!K125),MAX('T1'!M125,'T2'!K125),COUNTRY_INFO!F125),0)))","v":8348.5},{"$f":"IF(AND(COUNTRY_INFO!K125>0,COUNTRY_INFO!K125<4),IF(Z125>0,IF(COUNTRY_INFO!K125=1, AD125/(COUNTRY_INFO!F125*0.33)*100, IF(COUNTRY_INFO!K125=2, AD125/(COUNTRY_INFO!F125*0.5)*100, IF(COUNTRY_INFO!K125=3, AD125/COUNTRY_INFO!F125*100))),\"-\"),0)","v":100},{"$f":"IF(COUNTRY_INFO!K125=2,IF(COUNTRY_INFO!G125*0.2>MAX('T1'!N125,'T2'!L125),MAX('T1'!N125,'T2'!L125),COUNTRY_INFO!G125*0.2),IF(COUNTRY_INFO!K125=3,IF(COUNTRY_INFO!G125>MAX('T1'!N125,'T2'!L125),MAX('T1'!N125,'T2'!L125),COUNTRY_INFO!G125),0))","v":0},{"$f":"IF(AND(COUNTRY_INFO!K125>0,COUNTRY_INFO!K125<4),IF(Z125>0,IF(COUNTRY_INFO!K125=1, 0, IF(COUNTRY_INFO!K125=2, AF125/(COUNTRY_INFO!G125*0.2)*100, IF(COUNTRY_INFO!K125=3, AF125/COUNTRY_INFO!G125*100))),\"-\"),0)","v":0},8348.5,{"$f":"IF(AND(COUNTRY_INFO!K125>0,COUNTRY_INFO!K125<4), IF(AC125/Z125*100<>0, IF(AH125/Z125*100>100,100,AH125/Z125*100), \"-\"),0)","v":54.902308941806247},null,{"$f":"IF(AND(D125<>0, D125<>\"Unknown\",D125<>\"Stopped\",D125<>\"Not required\"),D125/COUNTRY_INFO!D125, 0)","v":1},{"$f":"IF(AND(J125<>0,J125<>\"Unknown\",J125<>\"Stopped\",J125<>\"Not required\"),J125/COUNTRY_INFO!D125, 0)","v":0},{"$f":"IF(AND(P125<>0,P125<>\"Unknown\",P125<>\"Not required\"),P125/(COUNTRY_INFO!E125+COUNTRY_INFO!F125), 0)","v":1},{"$f":"IF(AND(Z125<>0,Z125<>\"Unknown\",Z125<>\"Not required\"),IF(COUNTRY_INFO!K125=1,1,IF(COUNTRY_INFO!K125=2,0.5*COUNTRY_INFO!F125/(0.5*COUNTRY_INFO!F125+0.2*COUNTRY_INFO!G125),IF(COUNTRY_INFO!K125=3,COUNTRY_INFO!F125/(COUNTRY_INFO!F125+COUNTRY_INFO!G125)))),0)","v":0.54902308941806244},{"$f":"IF(AND(Z125<>0,Z125<>\"Unknown\",Z125<>\"Not required\"),IF(COUNTRY_INFO!K125=1,0,IF(COUNTRY_INFO!K125=2,0.2*COUNTRY_INFO!G125/(0.5*COUNTRY_INFO!F125+0.2*COUNTRY_INFO!G125),IF(COUNTRY_INFO!K125=3,COUNTRY_INFO!G125/(COUNTRY_INFO!F125+COUNTRY_INFO!G125)))),0)","v":0.45097691058193751},{"$f":"MAX(COUNTRY_INFO!D125*AK125*PROFILE!$G$7,COUNTRY_INFO!D125*AL125*PROFILE!$G$7)","v":1729.343560649899},{"$f":"MAX(COUNTRY_INFO!D125*AK125*PROFILE!$G$8,COUNTRY_INFO!D125*AL125*PROFILE!$G$8,COUNTRY_INFO!D125*AM125*PROFILE!$G$8)","v":6917.3011538905357},{"$f":"MAX(COUNTRY_INFO!D125*AK125*PROFILE!$G$9,COUNTRY_INFO!D125*AL125*PROFILE!$G$9,COUNTRY_INFO!D125*AM125*PROFILE!$G$9,IF(AND(DISTRICT!Z125<>\"Unknown\",Z125<>\"Not required\"),COUNTRY_INFO!O125*DISTRICT!AN125,0))","v":16696.949789687191},{"$f":"MAX(COUNTRY_INFO!D125*AK125*PROFILE!$G$10,COUNTRY_INFO!D125*AL125*PROFILE!$G$10,IF(AND(DISTRICT!Z125<>\"Unknown\",Z125<>\"Not required\"),COUNTRY_INFO!O125*DISTRICT!AO125,0))","v":34288.399074476838},59631.993578704467,"Y",{"$f":"MAX('MDA2'!J125,'T1'!L125,'T2'!J125,T3_R1!K125,T3_R2!K125)","v":0},{"$f":"MAX('MDA1'!K125,'MDA2'!K125,'MDA3'!I125,'MDA3'!L125,'T1'!M125,'T2'!K125,T3_R1!L125,T3_R2!L125)","v":15994},{"$f":"MAX('MDA1'!L125,'MDA2'!L125,'MDA3'!J125,'MDA3'!M125,'T1'!N125,'T2'!L125,T3_R1!M125,T3_R2!M125)","v":31952},47946,{"$f":"MAX('MDA2'!J125,T125)","v":0},{"$f":"MAX('MDA1'!K125,'MDA2'!K125,'MDA3'!I125,'MDA3'!L125,V125,AD125)","v":15733},{"$f":"MAX('MDA1'!L125,'MDA2'!L125,'MDA3'!J125,'MDA3'!M125,AF125)","v":31952},47685,79.965463400219221]
[{"$f":"IF(COUNTRY_INFO!A126=0,\" \",COUNTRY_INFO!A126)","v":"Mozambique"},{"$f":"IF(COUNTRY_INFO!B126=0,\" \",COUNTRY_INFO!B126)","v":"Manica"},{"$f":"IF(COUNTRY_INFO!C126=0,\" \",COUNTRY_INFO!C126)","v":"Vanduze"},{"$f":"COUNTRY_INFO!L126","v":0},null,null,{"$f":"MAX('MDA1'!M126,'MDA2'!M126)","v":0},{"$f":"IF(AND(COUNTRY_INFO!H126>0,COUNTRY_INFO!H126<4),IF(D126>MAX('MDA1'!M126,'MDA2'!M126),MAX('MDA1'!M126,'MDA2'!M126),D126),0)","v":0},{"$f":"IF(AND(COUNTRY_INFO!H126>0,COUNTRY_INFO!H126<4), IF(G126/D126*100<>0, IF(G126/D126*100>100,100,G126/D126*100), \"-\"),0)","v":0},{"$f":"COUNTRY_INFO!M126","v":"Not required"},null,null,{"$f":"MAX('MDA1'!M126,MAX('MDA3'!I126,'MDA3'!L126)+MAX('MDA3'!J126,'MDA3'!M126))","v":0},{"$f":"IF(AND(COUNTRY_INFO!I126>0,COUNTRY_INFO!I126<4),IF(J126>MAX('MDA1'!M126,MAX('MDA3'!I126,'MDA3'!L126)+MAX('MDA3'!J126,'MDA3'!M126)),MAX('MDA1'!M126,MAX('MDA3'!I126,'MDA3'!L126)+MAX('MDA3'!J126,'MDA3'!M126)),J126),0)","v":0},{"$f":"IF(AND(COUNTRY_INFO!I126>0,COUNTRY_INFO!I126<4), IF(M126/J126*100<>0, IF(M126/J126*100>100,100,M126/J126*100), \"-\"),0)","v":0},{"$f":"COUNTRY_INFO!N126","v":59244},null,null,{"$f":"SUM(MAX('MDA2'!J126, 'T1'!L126, MAX(T3_R1!K126, T3_R2!K126)), MAX('MDA1'!K126, 'MDA2'!K126, 'T1'!M126, MAX(T3_R1!L126, T3_R2!L126)), MAX('MDA1'!L126, 'MDA2'!L126, 'T1'!N126, MAX(T3_R1!M126, T3_R2!M126)))","v":41363},{"$f":"IF(AND(COUNTRY_INFO!J126>1,COUNTRY_INFO!J126<4),IF(COUNTRY_INFO!E126>MAX('MDA2'!J126,'T1'!L126,MAX(T3_R1!K126,T3_R2!K126)),MAX('MDA2'!J126,'T1'!L126,MAX(T3_R1!K126,T3_R2!K126)),COUNTRY_INFO!E126),0)","v":0},{"$f":"IF(AND(COUNTRY_INFO!J126>1,COUNTRY_INFO!J126<4), IF(T126/COUNTRY_INFO!E126*100<>0, IF(T126/COUNTRY_INFO!E126*100>100,100,T126/COUNTRY_INFO!E126*100), \"-\"),0)","v":"-"},{"$f":"IF(AND(COUNTRY_INFO!J126>1,COUNTRY_INFO!J126<4),IF(COUNTRY_INFO!F126>MAX('MDA1'!K126,'MDA2'!K126,'T1'!M126,MAX(T3_R1!L126,T3_R2!L126)),MAX('MDA1'!K126,'MDA2'!K126,'T1'!M126,MAX(T3_R1!L126,T3_R2!L126)),COUNTRY_INFO!F126),0)","v":41363},{"$f":"IF(AND(COUNTRY_INFO!J126>1,COUNTRY_INFO!J126<4), IF(V126/COUNTRY_INFO!F126*100<>0, IF(V126/COUNTRY_INFO!F126*100>100,100,V126/COUNTRY_INFO!F126*100), \"-\"),0)","v":98.741943184530911},41363,{"$f":"IF(AND(COUNTRY_INFO!J126>1,COUNTRY_INFO!J126<4), IF(S126/P126*100<>0, IF(X126/P126*100>100,100,X126/P126*100), \"-\"),0)","v":69.818040645466212},{"$f":"COUNTRY_INFO!O126","v":38149.600000000006},20340,21023,{"$f":"MAX('T1'!L126,'T2'!J126)+MAX('T1'!M126,'T2'!K126)+MAX('T1'!N126,'T2'!L126)","v":41363},{"$f":"IF(COUNTRY_INFO!K126=1,IF(COUNTRY_INFO!F126*0.33>MAX('T1'!M126,'T2'!K126),MAX('T1'!M126,'T2'!K126),COUNTRY_INFO!F126*0.33),IF(COUNTRY_INFO!K126=2,IF(COUNTRY_INFO!F126*0.5>MAX('T1'!M126,'T2'!K126),MAX('T1'!M126,'T2'!K126),COUNTRY_INFO!F126*0.5),IF(COUNTRY_INFO!K126=3,IF(COUNTRY_INFO!F126>MAX('T1'!M126,'T2'!K126),MAX('T1'!M126,'T2'!K126),COUNTRY_INFO!F126),0)))","v":20945},{"$f":"IF(AND(COUNTRY_INFO!K126>0,COUNTRY_INFO!K126<4),IF(Z126>0,IF(COUNTRY_INFO!K126=1, AD126/(COUNTRY_INFO!F126*0.33)*100, IF(COUNTRY_INFO!K126=2, AD126/(COUNTRY_INFO!F126*0.5)*100, IF(COUNTRY_INFO!K126=3, AD126/COUNTRY_INFO!F126*100))),\"-\"),0)","v":100},{"$f":"IF(COUNTRY_INFO!K126=2,IF(COUNTRY_INFO!G126*0.2>MAX('T1'!N126,'T2'!L126),MAX('T1'!N126,'T2'!L126),COUNTRY_INFO!G126*0.2),IF(COUNTRY_INFO!K126=3,IF(COUNTRY_INFO!G126>MAX('T1'!N126,'T2'!L126),MAX('T1'!N126,'T2'!L126),COUNTRY_INFO!G126),0))","v":0},{"$f":"IF(AND(COUNTRY_INFO!K126>0,COUNTRY_INFO!K126<4),IF(Z126>0,IF(COUNTRY_INFO!K126=1, 0, IF(COUNTRY_INFO!K126=2, AF126/(COUNTRY_INFO!G126*0.2)*100, IF(COUNTRY_INFO!K126=3, AF126/COUNTRY_INFO!G126*100))),\"-\"),0)","v":0},20945,{"$f":"IF(AND(COUNTRY_INFO!K126>0,COUNTRY_INFO!K126<4), IF(AC126/Z126*100<>0, IF(AH126/Z126*100>100,100,AH126/Z126*100), \"-\"),0)","v":54.9022794472288},null,{"$f":"IF(AND(D126<>0, D126<>\"Unknown\",D126<>\"Stopped\",D126<>\"Not required\"),D126/COUNTRY_INFO!D126, 0)","v":0},{"$f":"IF(AND(J126<>0,J126<>\"Unknown\",J126<>\"Stopped\",J126<>\"Not required\"),J126/COUNTRY_INFO!D126, 0)","v":0},{"$f":"IF(AND(P126<>0,P126<>\"Unknown\",P126<>\"Not required\"),P126/(COUNTRY_INFO!E126+COUNTRY_INFO!F126), 0)","v":1},{"$f":"IF(AND(Z126<>0,Z126<>\"Unknown\",Z126<>\"Not required\"),IF(COUNTRY_INFO!K126=1,1,IF(COUNTRY_INFO!K126=2,0.5*COUNTRY_INFO!F126/(0.5*COUNTRY_INFO!F126+0.2*COUNTRY_INFO!G126),IF(COUNTRY_INFO!K126=3,COUNTRY_INFO!F126/(COUNTRY_INFO!F126+COUNTRY_INFO!G126)))),0)","v":0.54902279447228797},{"$f":"IF(AND(Z126<>0,Z126<>\"Unknown\",Z126<>\"Not required\"),IF(COUNTRY_INFO!K126=1,0,IF(COUNTRY_INFO!K126=2,0.2*COUNTRY_INFO!G126/(0.5*COUNTRY_INFO!F126+0.2*COUNTRY_INFO!G126),IF(COUNTRY_INFO!K126=3,COUNTRY_INFO!G126/(COUNTRY_INFO!F126+COUNTRY_INFO!G126)))),0)","v":0.45097720552771192},{"$f":"MAX(COUNTRY_INFO!D126*AK126*PROFILE!$G$7,COUNTRY_INFO!D126*AL126*PROFILE!$G$7)","v":0},{"$f":"MAX(COUNTRY_INFO!D126*AK126*PROFILE!$G$8,COUNTRY_INFO!D126*AL126*PROFILE!$G$8,COUNTRY_INFO!D126*AM126*PROFILE!$G$8)","v":17354.225291842227},{"$f":"MAX(COUNTRY_INFO!D126*AK126*PROFILE!$G$9,COUNTRY_INFO!D126*AL126*PROFILE!$G$9,COUNTRY_INFO!D126*AM126*PROFILE!$G$9,IF(AND(DISTRICT!Z126<>\"Unknown\",Z126<>\"Not required\"),COUNTRY_INFO!O126*DISTRICT!AN126,0))","v":41889.549390781751},{"$f":"MAX(COUNTRY_INFO!D126*AK126*PROFILE!$G$10,COUNTRY_INFO!D126*AL126*PROFILE!$G$10,IF(AND(DISTRICT!Z126<>\"Unknown\",Z126<>\"Not required\"),COUNTRY_INFO!O126*DISTRICT!AO126,0))","v":17204.600000000002},76448.37468262398,"Y",{"$f":"MAX('MDA2'!J126,'T1'!L126,'T2'!J126,T3_R1!K126,T3_R2!K126)","v":0},{"$f":"MAX('MDA1'!K126,'MDA2'!K126,'MDA3'!I126,'MDA3'!L126,'T1'!M126,'T2'!K126,T3_R1!L126,T3_R2!L126)","v":41363},{"$f":"MAX('MDA1'!L126,'MDA2'!L126,'MDA3'!J126,'MDA3'!M126,'T1'!N126,'T2'!L126,T3_R1!M126,T3_R2!M126)","v":0},41363,{"$f":"MAX('MDA2'!J126,T126)","v":0},{"$f":"MAX('MDA1'!K126,'MDA2'!K126,'MDA3'!I126,'MDA3'!L126,V126,AD126)","v":41363},{"$f":"MAX('MDA1'!L126,'MDA2'!L126,'MDA3'!J126,'MDA3'!M126,AF126)","v":0},41363,54.105793840246854]
[{"$f":"IF(COUNTRY_INFO!A127=0,\" \",COUNTRY_INFO!A127)","v":"Mozambique"},{"$f":"IF(COUNTRY_INFO!B127=0,\" \",COUNTRY_INFO!B127)","v":"Inhambane"},{"$f":"IF(COUNTRY_INFO!C127=0,\" \",COUNTRY_INFO!C127)","v":"Cid. I'bane"},{"$f":"COUNTRY_INFO!L127","v":84842.123589063325},null,null,{"$f":"MAX('MDA1'!M127,'MDA2'!M127)","v":62038},{"$f":"IF(AND(COUNTRY_INFO!H127>0,COUNTRY_INFO!H127<4),IF(D127>MAX('MDA1'!M127,'MDA2'!M127),MAX('MDA1'!M127,'MDA2'!M127),D127),0)","v":62038},{"$f":"IF(AND(COUNTRY_INFO!H127>0,COUNTRY_INFO!H127<4), IF(G127/D127*100<>0, IF(G127/D127*100>100,100,G127/D127*100), \"-\"),0)","v":73.121696364513298},{"$f":"COUNTRY_INFO!M127","v":"Not required"},null,null,{"$f":"MAX('MDA1'!M127,MAX('MDA3'!I127,'MDA3'!L127)+MAX('MDA3'!J127,'MDA3'!M127))","v":62038},{"$f":"IF(AND(COUNTRY_INFO!I127>0,COUNTRY_INFO!I127<4),IF(J127>MAX('MDA1'!M127,MAX('MDA3'!I127,'MDA3'!L127)+MAX('MDA3'!J127,'MDA3'!M127)),MAX('MDA1'!M127,MAX('MDA3'!I127,'MDA3'!L127)+MAX('MDA3'!J127,'MDA3'!M127)),J127),0)","v":0},{"$f":"IF(AND(COUNTRY_INFO!I127>0,COUNTRY_INFO!I127<4), IF(M127/J127*100<>0, IF(M127/J127*100>100,100,M127/J127*100), \"-\"),0)","v":0},{"$f":"COUNTRY_INFO!N127","v":33598},null,null,{"$f":"SUM(MAX('MDA2'!J127, 'T1'!L127, MAX(T3_R1!K127, T3_R2!K127)), MAX('MDA1'!K127, 'MDA2'!K127, 'T1'!M127, MAX(T3_R1!L127, T3_R2!L127)), MAX('MDA1'!L127, 'MDA2'!L127, 'T1'!N127, MAX(T3_R1!M127, T3_R2!M127)))","v":62038},{"$f":"IF(AND(COUNTRY_INFO!J127>1,COUNTRY_INFO!J127<4),IF(COUNTRY_INFO!E127>MAX('MDA2'!J127,'T1'!L127,MAX(T3_R1!K127,T3_R2!K127)),MAX('MDA2'!J127,'T1'!L127,MAX(T3_R1!K127,T3_R2!K127)),COUNTRY_INFO!E127),0)","v":0},{"$f":"IF(AND(COUNTRY_INFO!J127>1,COUNTRY_INFO!J127<4), IF(T127/COUNTRY_INFO!E127*100<>0, IF(T127/COUNTRY_INFO!E127*100>100,100,T127/COUNTRY_INFO!E127*100), \"-\"),0)","v":"-"},{"$f":"IF(AND(COUNTRY_INFO!J127>1,COUNTRY_INFO!J127<4),IF(COUNTRY_INFO!F127>MAX('MDA1'!K127,'MDA2'!K127,'T1'!M127,MAX(T3_R1!L127,T3_R2!L127)),MAX('MDA1'!K127,'MDA2'!K127,'T1'!M127,MAX(T3_R1!L127,T3_R2!L127)),COUNTRY_INFO!F127),0)","v":23756},{"$f":"IF(AND(COUNTRY_INFO!J127>1,COUNTRY_INFO!J127<4), IF(V127/COUNTRY_INFO!F127*100<>0, IF(V127/COUNTRY_INFO!F127*100>100,100,V127/COUNTRY_INFO!F127*100), \"-\"),0)","v":100},23756,{"$f":"IF(AND(COUNTRY_INFO!J127>1,COUNTRY_INFO!J127<4), IF(S127/P127*100<>0, IF(X127/P127*100>100,100,X127/P127*100), \"-\"),0)","v":70.706589677957027},{"$f":"COUNTRY_INFO!O127","v":7839.4800000000005},11045,12093,{"$f":"MAX('T1'!L127,'T2'!J127)+MAX('T1'!M127,'T2'!K127)+MAX('T1'!N127,'T2'!L127)","v":23138},{"$f":"IF(COUNTRY_INFO!K127=1,IF(COUNTRY_INFO!F127*0.33>MAX('T1'!M127,'T2'!K127),MAX('T1'!M127,'T2'!K127),COUNTRY_INFO!F127*0.33),IF(COUNTRY_INFO!K127=2,IF(COUNTRY_INFO!F127*0.5>MAX('T1'!M127,'T2'!K127),MAX('T1'!M127,'T2'!K127),COUNTRY_INFO!F127*0.5),IF(COUNTRY_INFO!K127=3,IF(COUNTRY_INFO!F127>MAX('T1'!M127,'T2'!K127),MAX('T1'!M127,'T2'!K127),COUNTRY_INFO!F127),0)))","v":7839.4800000000005},{"$f":"IF(AND(COUNTRY_INFO!K127>0,COUNTRY_INFO!K127<4),IF(Z127>0,IF(COUNTRY_INFO!K127=1, AD127/(COUNTRY_INFO!F127*0.33)*100, IF(COUNTRY_INFO!K127=2, AD127/(COUNTRY_INFO!F127*0.5)*100, IF(COUNTRY_INFO!K127=3, AD127/COUNTRY_INFO!F127*100))),\"-\"),0)","v":100},{"$f":"IF(COUNTRY_INFO!K127=2,IF(COUNTRY_INFO!G127*0.2>MAX('T1'!N127,'T2'!L127),MAX('T1'!N127,'T2'!L127),COUNTRY_INFO!G127*0.2),IF(COUNTRY_INFO!K127=3,IF(COUNTRY_INFO!G127>MAX('T1'!N127,'T2'!L127),MAX('T1'!N127,'T2'!L127),COUNTRY_INFO!G127),0))","v":0},{"$f":"IF(AND(COUNTRY_INFO!K127>0,COUNTRY_INFO!K127<4),IF(Z127>0,IF(COUNTRY_INFO!K127=1, 0, IF(COUNTRY_INFO!K127=2, AF127/(COUNTRY_INFO!G127*0.2)*100, IF(COUNTRY_INFO!K127=3, AF127/COUNTRY_INFO!G127*100))),\"-\"),0)","v":0},7839.4800000000005,{"$f":"IF(AND(COUNTRY_INFO!K127>0,COUNTRY_INFO!K127<4), IF(AC127/Z127*100<>0, IF(AH127/Z127*100>100,100,AH127/Z127*100), \"-\"),0)","v":100},null,{"$f":"IF(AND(D127<>0, D127<>\"Unknown\",D127<>\"Stopped\",D127<>\"Not required\"),D127/COUNTRY_INFO!D127, 0)","v":1},{"$f":"IF(AND(J127<>0,J127<>\"Unknown\",J127<>\"Stopped\",J127<>\"Not required\"),J127/COUNTRY_INFO!D127, 0)","v":0},{"$f":"IF(AND(P127<>0,P127<>\"Unknown\",P127<>\"Not required\"),P127/(COUNTRY_INFO!E127+COUNTRY_INFO!F127), 0)","v":1},{"$f":"IF(AND(Z127<>0,Z127<>\"Unknown\",Z127<>\"Not required\"),IF(COUNTRY_INFO!K127=1,1,IF(COUNTRY_INFO!K127=2,0.5*COUNTRY_INFO!F127/(0.5*COUNTRY_INFO!F127+0.2*COUNTRY_INFO!G127),IF(COUNTRY_INFO!K127=3,COUNTRY_INFO!F127/(COUNTRY_INFO!F127+COUNTRY_INFO!G127)))),0)","v":1},{"$f":"IF(AND(Z127<>0,Z127<>\"Unknown\",Z127<>\"Not required\"),IF(COUNTRY_INFO!K127=1,0,IF(COUNTRY_INFO!K127=2,0.2*COUNTRY_INFO!G127/(0.5*COUNTRY_INFO!F127+0.2*COUNTRY_INFO!G127),IF(COUNTRY_INFO!K127=3,COUNTRY_INFO!G127/(COUNTRY_INFO!F127+COUNTRY_INFO!G127)))),0)","v":0},{"$f":"MAX(COUNTRY_INFO!D127*AK127*PROFILE!$G$7,COUNTRY_INFO!D127*AL127*PROFILE!$G$7)","v":2460.4439881246235},{"$f":"MAX(COUNTRY_INFO!D127*AK127*PROFILE!$G$8,COUNTRY_INFO!D127*AL127*PROFILE!$G$8,COUNTRY_INFO!D127*AM127*PROFILE!$G$8)","v":9841.6719646739239},{"$f":"MAX(COUNTRY_INFO!D127*AK127*PROFILE!$G$9,COUNTRY_INFO!D127*AL127*PROFILE!$G$9,COUNTRY_INFO!D127*AM127*PROFILE!$G$9,IF(AND(DISTRICT!Z127<>\"Unknown\",Z127<>\"Not required\"),COUNTRY_INFO!O127*DISTRICT!AN127,0))","v":23755.782636167271},{"$f":"MAX(COUNTRY_INFO!D127*AK127*PROFILE!$G$10,COUNTRY_INFO!D127*AL127*PROFILE!$G$10,IF(AND(DISTRICT!Z127<>\"Unknown\",Z127<>\"Not required\"),COUNTRY_INFO!O127*DISTRICT!AO127,0))","v":48784.225000097511},84842.123589063325,"Y",{"$f":"MAX('MDA2'!J127,'T1'!L127,'T2'!J127,T3_R1!K127,T3_R2!K127)","v":0},{"$f":"MAX('MDA1'!K127,'MDA2'!K127,'MDA3'!I127,'MDA3'!L127,'T1'!M127,'T2'!K127,T3_R1!L127,T3_R2!L127)","v":24610},{"$f":"MAX('MDA1'!L127,'MDA2'!L127,'MDA3'!J127,'MDA3'!M127,'T1'!N127,'T2'!L127,T3_R1!M127,T3_R2!M127)","v":37428},62038,{"$f":"MAX('MDA2'!J127,T127)","v":0},{"$f":"MAX('MDA1'!K127,'MDA2'!K127,'MDA3'!I127,'MDA3'!L127,V127,AD127)","v":24610},{"$f":"MAX('MDA1'!L127,'MDA2'!L127,'MDA3'!J127,'MDA3'!M127,AF127)","v":37428},62038,73.121696364513298]
[{"$f":"IF(COUNTRY_INFO!A128=0,\" \",COUNTRY_INFO!A128)","v":"Mozambique"},{"$f":"IF(COUNTRY_INFO!B128=0,\" \",COUNTRY_INFO!B128)","v":"Inhambane"},{"$f":"IF(COUNTRY_INFO!C128=0,\" \",COUNTRY_INFO!C128)","v":"Funhalouro"},{"$f":"COUNTRY_INFO!L128","v":0},null,null,{"$f":"MAX('MDA1'!M128,'MDA2'!M128)","v":0},{"$f":"IF(AND(COUNTRY_INFO!H128>0,COUNTRY_INFO!H128<4),IF(D128>MAX('MDA1'!M128,'MDA2'!M128),MAX('MDA1'!M128,'MDA2'!M128),D128),0)","v":0},{"$f":"IF(AND(COUNTRY_INFO!H128>0,COUNTRY_INFO!H128<4), IF(G128/D128*100<>0, IF(G128/D128*100>100,100,G128/D128*100), \"-\"),0)","v":0},{"$f":"COUNTRY_INFO!M128","v":"Not required"},null,null,{"$f":"MAX('MDA1'!M128,MAX('MDA3'!I128,'MDA3'!L128)+MAX('MDA3'!J128,'MDA3'!M128))","v":0},{"$f":"IF(AND(COUNTRY_INFO!I128>0,COUNTRY_INFO!I128<4),IF(J128>MAX('MDA1'!M128,MAX('MDA3'!I128,'MDA3'!L128)+MAX('MDA3'!J128,'MDA3'!M128)),MAX('MDA1'!M128,MAX('MDA3'!I128,'MDA3'!L128)+MAX('MDA3'!J128,'MDA3'!M128)),J128),0)","v":0},{"$f":"IF(AND(COUNTRY_INFO!I128>0,COUNTRY_INFO!I128<4), IF(M128/J128*100<>0, IF(M128/J128*100>100,100,M128/J128*100), \"-\"),0)","v":0},{"$f":"COUNTRY_INFO!N128","v":20620},null,null,{"$f":"SUM(MAX('MDA2'!J128, 'T1'!L128, MAX(T3_R1!K128, T3_R2!K128)), MAX('MDA1'!K128, 'MDA2'!K128, 'T1'!M128, MAX(T3_R1!L128, T3_R2!L128)), MAX('MDA1'!L128, 'MDA2'!L128, 'T1'!N128, MAX(T3_R1!M128, T3_R2!M128)))","v":15272},{"$f":"IF(AND(COUNTRY_INFO!J128>1,COUNTRY_INFO!J128<4),IF(COUNTRY_INFO!E128>MAX('MDA2'!J128,'T1'!L128,MAX(T3_R1!K128,T3_R2!K128)),MAX('MDA2'!J128,'T1'!L128,MAX(T3_R1!K128,T3_R2!K128)),COUNTRY_INFO!E128),0)","v":0},{"$f":"IF(AND(COUNTRY_INFO!J128>1,COUNTRY_INFO!J128<4), IF(T128/COUNTRY_INFO!E128*100<>0, IF(T128/COUNTRY_INFO!E128*100>100,100,T128/COUNTRY_INFO!E128*100), \"-\"),0)","v":"-"},{"$f":"IF(AND(COUNTRY_INFO!J128>1,COUNTRY_INFO!J128<4),IF(COUNTRY_INFO!F128>MAX('MDA1'!K128,'MDA2'!K128,'T1'!M128,MAX(T3_R1!L128,T3_R2!L128)),MAX('MDA1'!K128,'MDA2'!K128,'T1'!M128,MAX(T3_R1!L128,T3_R2!L128)),COUNTRY_INFO!F128),0)","v":14580},{"$f":"IF(AND(COUNTRY_INFO!J128>1,COUNTRY_INFO!J128<4), IF(V128/COUNTRY_INFO!F128*100<>0, IF(V128/COUNTRY_INFO!F128*100>100,100,V128/COUNTRY_INFO!F128*100), \"-\"),0)","v":100},14580,{"$f":"IF(AND(COUNTRY_INFO!J128>1,COUNTRY_INFO!J128<4), IF(S128/P128*100<>0, IF(X128/P128*100>100,100,X128/P128*100), \"-\"),0)","v":70.708050436469449},{"$f":"COUNTRY_INFO!O128","v":13278.2},7184,8088,{"$f":"MAX('T1'!L128,'T2'!J128)+MAX('T1'!M128,'T2'!K128)+MAX('T1'!N128,'T2'!L128)","v":15272},{"$f":"IF(COUNTRY_INFO!K128=1,IF(COUNTRY_INFO!F128*0.33>MAX('T1'!M128,'T2'!K128),MAX('T1'!M128,'T2'!K128),COUNTRY_INFO!F128*0.33),IF(COUNTRY_INFO!K128=2,IF(COUNTRY_INFO!F128*0.5>MAX('T1'!M128,'T2'!K128),MAX('T1'!M128,'T2'!K128),COUNTRY_INFO!F128*0.5),IF(COUNTRY_INFO!K128=3,IF(COUNTRY_INFO!F128>MAX('T1'!M128,'T2'!K128),MAX('T1'!M128,'T2'!K128),COUNTRY_INFO!F128),0)))","v":7290},{"$f":"IF(AND(COUNTRY_INFO!K128>0,COUNTRY_INFO!K128<4),IF(Z128>0,IF(COUNTRY_INFO!K128=1, AD128/(COUNTRY_INFO!F128*0.33)*100, IF(COUNTRY_INFO!K128=2, AD128/(COUNTRY_INFO!F128*0.5)*100, IF(COUNTRY_INFO!K128=3, AD128/COUNTRY_INFO!F128*100))),\"-\"),0)","v":100},{"$f":"IF(COUNTRY_INFO!K128=2,IF(COUNTRY_INFO!G128*0.2>MAX('T1'!N128,'T2'!L128),MAX('T1'!N128,'T2'!L128),COUNTRY_INFO!G128*0.2),IF(COUNTRY_INFO!K128=3,IF(COUNTRY_INFO!G128>MAX('T1'!N128,'T2'!L128),MAX('T1'!N128,'T2'!L128),COUNTRY_INFO!G128),0))","v":0},{"$f":"IF(AND(COUNTRY_INFO!K128>0,COUNTRY_INFO!K128<4),IF(Z128>0,IF(COUNTRY_INFO!K128=1, 0, IF(COUNTRY_INFO!K128=2, AF128/(COUNTRY_INFO!G128*0.2)*100, IF(COUNTRY_INFO!K128=3, AF128/COUNTRY_INFO!G128*100))),\"-\"),0)","v":0},7290,{"$f":"IF(AND(COUNTRY_INFO!K128>0,COUNTRY_INFO!K128<4), IF(AC128/Z128*100<>0, IF(AH128/Z128*100>100,100,AH128/Z128*100), \"-\"),0)","v":54.90201985208838},null,{"$f":"IF(AND(D128<>0, D128<>\"Unknown\",D128<>\"Stopped\",D128<>\"Not required\"),D128/COUNTRY_INFO!D128, 0)","v":0},{"$f":"IF(AND(J128<>0,J128<>\"Unknown\",J128<>\"Stopped\",J128<>\"Not required\"),J128/COUNTRY_INFO!D128, 0)","v":0},{"$f":"IF(AND(P128<>0,P128<>\"Unknown\",P128<>\"Not required\"),P128/(COUNTRY_INFO!E128+COUNTRY_INFO!F128), 0)","v":1},{"$f":"IF(AND(Z128<>0,Z128<>\"Unknown\",Z128<>\"Not required\"),IF(COUNTRY_INFO!K128=1,1,IF(COUNTRY_INFO!K128=2,0.5*COUNTRY_INFO!F128/(0.5*COUNTRY_INFO!F128+0.2*COUNTRY_INFO!G128),IF(COUNTRY_INFO!K128=3,COUNTRY_INFO!F128/(COUNTRY_INFO!F128+COUNTRY_INFO!G128)))),0)","v":0.5490201985208838},{"$f":"IF(AND(Z128<>0,Z128<>\"Unknown\",Z128<>\"Not required\"),IF(COUNTRY_INFO!K128=1,0,IF(COUNTRY_INFO!K128=2,0.2*COUNTRY_INFO!G128/(0.5*COUNTRY_INFO!F128+0.2*COUNTRY_INFO!G128),IF(COUNTRY_INFO!K128=3,COUNTRY_INFO!G128/(COUNTRY_INFO!F128+COUNTRY_INFO!G128)))),0)","v":0.45097980147911615},{"$f":"MAX(COUNTRY_INFO!D128*AK128*PROFILE!$G$7,COUNTRY_INFO!D128*AL128*PROFILE!$G$7)","v":0},{"$f":"MAX(COUNTRY_INFO!D128*AK128*PROFILE!$G$8,COUNTRY_INFO!D128*AL128*PROFILE!$G$8,COUNTRY_INFO!D128*AM128*PROFILE!$G$8)","v":6040.1803372220384},{"$f":"MAX(COUNTRY_INFO!D128*AK128*PROFILE!$G$9,COUNTRY_INFO!D128*AL128*PROFILE!$G$9,COUNTRY_INFO!D128*AM128*PROFILE!$G$9,IF(AND(DISTRICT!Z128<>\"Unknown\",Z128<>\"Not required\"),COUNTRY_INFO!O128*DISTRICT!AN128,0))","v":14579.759586515784},{"$f":"MAX(COUNTRY_INFO!D128*AK128*PROFILE!$G$10,COUNTRY_INFO!D128*AL128*PROFILE!$G$10,IF(AND(DISTRICT!Z128<>\"Unknown\",Z128<>\"Not required\"),COUNTRY_INFO!O128*DISTRICT!AO128,0))","v":5988.2000000000007},26608.139923737825,"Y",{"$f":"MAX('MDA2'!J128,'T1'!L128,'T2'!J128,T3_R1!K128,T3_R2!K128)","v":0},{"$f":"MAX('MDA1'!K128,'MDA2'!K128,'MDA3'!I128,'MDA3'!L128,'T1'!M128,'T2'!K128,T3_R1!L128,T3_R2!L128)","v":15272},{"$f":"MAX('MDA1'!L128,'MDA2'!L128,'MDA3'!J128,'MDA3'!M128,'T1'!N128,'T2'!L128,T3_R1!M128,T3_R2!M128)","v":0},15272,{"$f":"MAX('MDA2'!J128,T128)","v":0},{"$f":"MAX('MDA1'!K128,'MDA2'!K128,'MDA3'!I128,'MDA3'!L128,V128,AD128)","v":14580},{"$f":"MAX('MDA1'!L128,'MDA2'!L128,'MDA3'!J128,'MDA3'!M128,AF128)","v":0},14580,54.795262058107255]
[{"$f":"IF(COUNTRY_INFO!A129=0,\" \",COUNTRY_INFO!A129)","v":"Mozambique"},{"$f":"IF(COUNTRY_INFO!B129=0,\" \",COUNTRY_INFO!B129)","v":"Inhambane"},{"$f":"IF(COUNTRY_INFO!C129=0,\" \",COUNTRY_INFO!C129)","v":"Govuro"},{"$f":"COUNTRY_INFO!L129","v":44596.669136159937},null,null,{"$f":"MAX('MDA1'!M129,'MDA2'!M129)","v":35846},{"$f":"IF(AND(COUNTRY_INFO!H129>0,COUNTRY_INFO!H129<4),IF(D129>MAX('MDA1'!M129,'MDA2'!M129),MAX('MDA1'!M129,'MDA2'!M129),D129),0)","v":35846},{"$f":"IF(AND(COUNTRY_INFO!H129>0,COUNTRY_INFO!H129<4), IF(G129/D129*100<>0, IF(G129/D129*100>100,100,G129/D129*100), \"-\"),0)","v":80.378200198219048},{"$f":"COUNTRY_INFO!M129","v":"Not required"},null,null,{"$f":"MAX('MDA1'!M129,MAX('MDA3'!I129,'MDA3'!L129)+MAX('MDA3'!J129,'MDA3'!M129))","v":35846},{"$f":"IF(AND(COUNTRY_INFO!I129>0,COUNTRY_INFO!I129<4),IF(J129>MAX('MDA1'!M129,MAX('MDA3'!I129,'MDA3'!L129)+MAX('MDA3'!J129,'MDA3'!M129)),MAX('MDA1'!M129,MAX('MDA3'!I129,'MDA3'!L129)+MAX('MDA3'!J129,'MDA3'!M129)),J129),0)","v":0},{"$f":"IF(AND(COUNTRY_INFO!I129>0,COUNTRY_INFO!I129<4), IF(M129/J129*100<>0, IF(M129/J129*100>100,100,M129/J129*100), \"-\"),0)","v":0},{"$f":"COUNTRY_INFO!N129","v":17660},null,null,{"$f":"SUM(MAX('MDA2'!J129, 'T1'!L129, MAX(T3_R1!K129, T3_R2!K129)), MAX('MDA1'!K129, 'MDA2'!K129, 'T1'!M129, MAX(T3_R1!L129, T3_R2!L129)), MAX('MDA1'!L129, 'MDA2'!L129, 'T1'!N129, MAX(T3_R1!M129, T3_R2!M129)))","v":35846},{"$f":"IF(AND(COUNTRY_INFO!J129>1,COUNTRY_INFO!J129<4),IF(COUNTRY_INFO!E129>MAX('MDA2'!J129,'T1'!L129,MAX(T3_R1!K129,T3_R2!K129)),MAX('MDA2'!J129,'T1'!L129,MAX(T3_R1!K129,T3_R2!K129)),COUNTRY_INFO!E129),0)","v":0},{"$f":"IF(AND(COUNTRY_INFO!J129>1,COUNTRY_INFO!J129<4), IF(T129/COUNTRY_INFO!E129*100<>0, IF(T129/COUNTRY_INFO!E129*100>100,100,T129/COUNTRY_INFO!E129*100), \"-\"),0)","v":"-"},{"$f":"IF(AND(COUNTRY_INFO!J129>1,COUNTRY_INFO!J129<4),IF(COUNTRY_INFO!F129>MAX('MDA1'!K129,'MDA2'!K129,'T1'!M129,MAX(T3_R1!L129,T3_R2!L129)),MAX('MDA1'!K129,'MDA2'!K129,'T1'!M129,MAX(T3_R1!L129,T3_R2!L129)),COUNTRY_INFO!F129),0)","v":11765},{"$f":"IF(AND(COUNTRY_INFO!J129>1,COUNTRY_INFO!J129<4), IF(V129/COUNTRY_INFO!F129*100<>0, IF(V129/COUNTRY_INFO!F129*100>100,100,V129/COUNTRY_INFO!F129*100), \"-\"),0)","v":94.217986706174415},11765,{"$f":"IF(AND(COUNTRY_INFO!J129>1,COUNTRY_INFO!J129<4), IF(S129/P129*100<>0, IF(X129/P129*100>100,100,X129/P129*100), \"-\"),0)","v":66.619479048697613},{"$f":"COUNTRY_INFO!O129","v":38130},5747,5965,{"$f":"MAX('T1'!L129,'T2'!J129)+MAX('T1'!M129,'T2'!K129)+MAX('T1'!N129,'T2'!L129)","v":11712},{"$f":"IF(COUNTRY_INFO!K129=1,IF(COUNTRY_INFO!F129*0.33>MAX('T1'!M129,'T2'!K129),MAX('T1'!M129,'T2'!K129),COUNTRY_INFO!F129*0.33),IF(COUNTRY_INFO!K129=2,IF(COUNTRY_INFO!F129*0.5>MAX('T1'!M129,'T2'!K129),MAX('T1'!M129,'T2'!K129),COUNTRY_INFO!F129*0.5),IF(COUNTRY_INFO!K129=3,IF(COUNTRY_INFO!F129>MAX('T1'!M129,'T2'!K129),MAX('T1'!M129,'T2'!K129),COUNTRY_INFO!F129),0)))","v":11712},{"$f":"IF(AND(COUNTRY_INFO!K129>0,COUNTRY_INFO!K129<4),IF(Z129>0,IF(COUNTRY_INFO!K129=1, AD129/(COUNTRY_INFO!F129*0.33)*100, IF(COUNTRY_INFO!K129=2, AD129/(COUNTRY_INFO!F129*0.5)*100, IF(COUNTRY_INFO!K129=3, AD129/COUNTRY_INFO!F129*100))),\"-\"),0)","v":93.793545287098581},{"$f":"IF(COUNTRY_INFO!K129=2,IF(COUNTRY_INFO!G129*0.2>MAX('T1'!N129,'T2'!L129),MAX('T1'!N129,'T2'!L129),COUNTRY_INFO!G129*0.2),IF(COUNTRY_INFO!K129=3,IF(COUNTRY_INFO!G129>MAX('T1'!N129,'T2'!L129),MAX('T1'!N129,'T2'!L129),COUNTRY_INFO!G129),0))","v":0},{"$f":"IF(AND(COUNTRY_INFO!K129>0,COUNTRY_INFO!K129<4),IF(Z129>0,IF(COUNTRY_INFO!K129=1, 0, IF(COUNTRY_INFO!K129=2, AF129/(COUNTRY_INFO!G129*0.2)*100, IF(COUNTRY_INFO!K129=3, AF129/COUNTRY_INFO!G129*100))),\"-\"),0)","v":0},11712,{"$f":"IF(AND(COUNTRY_INFO!K129>0,COUNTRY_INFO!K129<4), IF(AC129/Z129*100<>0, IF(AH129/Z129*100>100,100,AH129/Z129*100), \"-\"),0)","v":30.715971675845793},null,{"$f":"IF(AND(D129<>0, D129<>\"Unknown\",D129<>\"Stopped\",D129<>\"Not required\"),D129/COUNTRY_INFO!D129, 0)","v":1},{"$f":"IF(AND(J129<>0,J129<>\"Unknown\",J129<>\"Stopped\",J129<>\"Not required\"),J129/COUNTRY_INFO!D129, 0)","v":0},{"$f":"IF(AND(P129<>0,P129<>\"Unknown\",P129<>\"Not required\"),P129/(COUNTRY_INFO!E129+COUNTRY_INFO!F129), 0)","v":1},{"$f":"IF(AND(Z129<>0,Z129<>\"Unknown\",Z129<>\"Not required\"),IF(COUNTRY_INFO!K129=1,1,IF(COUNTRY_INFO!K129=2,0.5*COUNTRY_INFO!F129/(0.5*COUNTRY_INFO!F129+0.2*COUNTRY_INFO!G129),IF(COUNTRY_INFO!K129=3,COUNTRY_INFO!F129/(COUNTRY_INFO!F129+COUNTRY_INFO!G129)))),0)","v":0.32748492001049045},{"$f":"IF(AND(Z129<>0,Z129<>\"Unknown\",Z129<>\"Not required\"),IF(COUNTRY_INFO!K129=1,0,IF(COUNTRY_INFO!K129=2,0.2*COUNTRY_INFO!G129/(0.5*COUNTRY_INFO!F129+0.2*COUNTRY_INFO!G129),IF(COUNTRY_INFO!K129=3,COUNTRY_INFO!G129/(COUNTRY_INFO!F129+COUNTRY_INFO!G129)))),0)","v":0.67251507998950955},{"$f":"MAX(COUNTRY_INFO!D129*AK129*PROFILE!$G$7,COUNTRY_INFO!D129*AL129*PROFILE!$G$7)","v":1293.3151814765777},{"$f":"MAX(COUNTRY_INFO!D129*AK129*PROFILE!$G$8,COUNTRY_INFO!D129*AL129*PROFILE!$G$8,COUNTRY_INFO!D129*AM129*PROFILE!$G$8)","v":5173.2060654333009},{"$f":"MAX(COUNTRY_INFO!D129*AK129*PROFILE!$G$9,COUNTRY_INFO!D129*AL129*PROFILE!$G$9,COUNTRY_INFO!D129*AM129*PROFILE!$G$9,IF(AND(DISTRICT!Z129<>\"Unknown\",Z129<>\"Not required\"),COUNTRY_INFO!O129*DISTRICT!AN129,0))","v":12487.061066824263},{"$f":"MAX(COUNTRY_INFO!D129*AK129*PROFILE!$G$10,COUNTRY_INFO!D129*AL129*PROFILE!$G$10,IF(AND(DISTRICT!Z129<>\"Unknown\",Z129<>\"Not required\"),COUNTRY_INFO!O129*DISTRICT!AO129,0))","v":25643.086822425797},44596.669136159937,"Y",{"$f":"MAX('MDA2'!J129,'T1'!L129,'T2'!J129,T3_R1!K129,T3_R2!K129)","v":0},{"$f":"MAX('MDA1'!K129,'MDA2'!K129,'MDA3'!I129,'MDA3'!L129,'T1'!M129,'T2'!K129,T3_R1!L129,T3_R2!L129)","v":11765},{"$f":"MAX('MDA1'!L129,'MDA2'!L129,'MDA3'!J129,'MDA3'!M129,'T1'!N129,'T2'!L129,T3_R1!M129,T3_R2!M129)","v":24081},35846,{"$f":"MAX('MDA2'!J129,T129)","v":0},{"$f":"MAX('MDA1'!K129,'MDA2'!K129,'MDA3'!I129,'MDA3'!L129,V129,AD129)","v":11765},{"$f":"MAX('MDA1'!L129,'MDA2'!L129,'MDA3'!J129,'MDA3'!M129,AF129)","v":24081},35846,80.378200198219048]
[{"$f":"IF(COUNTRY_INFO!A130=0,\" \",COUNTRY_INFO!A130)","v":"Mozambique"},{"$f":"IF(COUNTRY_INFO!B130=0,\" \",COUNTRY_INFO!B130)","v":"Inhambane"},{"$f":"IF(COUNTRY_INFO!C130=0,\" \",COUNTRY_INFO!C130)","v":"Homoíne"},{"$f":"COUNTRY_INFO!L130","v":135610.13472533153},null,null,{"$f":"MAX('MDA1'!M130,'MDA2'!M130)","v":119311},{"$f":"IF(AND(COUNTRY_INFO!H130>0,COUNTRY_INFO!H130<4),IF(D130>MAX('MDA1'!M130,'MDA2'!M130),MAX('MDA1'!M130,'MDA2'!M130),D130),0)","v":119311},{"$f":"IF(AND(COUNTRY_INFO!H130>0,COUNTRY_INFO!H130<4), IF(G130/D130*100<>0, IF(G130/D130*100>100,100,G130/D130*100), \"-\"),0)","v":87.980887447428429},{"$f":"COUNTRY_INFO!M130","v":"Not required"},null,null,{"$f":"MAX('MDA1'!M130,MAX('MDA3'!I130,'MDA3'!L130)+MAX('MDA3'!J130,'MDA3'!M130))","v":119311},{"$f":"IF(AND(COUNTRY_INFO!I130>0,COUNTRY_INFO!I130<4),IF(J130>MAX('MDA1'!M130,MAX('MDA3'!I130,'MDA3'!L130)+MAX('MDA3'!J130,'MDA3'!M130)),MAX('MDA1'!M130,MAX('MDA3'!I130,'MDA3'!L130)+MAX('MDA3'!J130,'MDA3'!M130)),J130),0)","v":0},{"$f":"IF(AND(COUNTRY_INFO!I130>0,COUNTRY_INFO!I130<4), IF(M130/J130*100<>0, IF(M130/J130*100>100,100,M130/J130*100), \"-\"),0)","v":0},{"$f":"COUNTRY_INFO!N130","v":53702},null,null,{"$f":"SUM(MAX('MDA2'!J130, 'T1'!L130, MAX(T3_R1!K130, T3_R2!K130)), MAX('MDA1'!K130, 'MDA2'!K130, 'T1'!M130, MAX(T3_R1!L130, T3_R2!L130)), MAX('MDA1'!L130, 'MDA2'!L130, 'T1'!N130, MAX(T3_R1!M130, T3_R2!M130)))","v":119311},{"$f":"IF(AND(COUNTRY_INFO!J130>1,COUNTRY_INFO!J130<4),IF(COUNTRY_INFO!E130>MAX('MDA2'!J130,'T1'!L130,MAX(T3_R1!K130,T3_R2!K130)),MAX('MDA2'!J130,'T1'!L130,MAX(T3_R1!K130,T3_R2!K130)),COUNTRY_INFO!E130),0)","v":0},{"$f":"IF(AND(COUNTRY_INFO!J130>1,COUNTRY_INFO!J130<4), IF(T130/COUNTRY_INFO!E130*100<>0, IF(T130/COUNTRY_INFO!E130*100>100,100,T130/COUNTRY_INFO!E130*100), \"-\"),0)","v":"-"},{"$f":"IF(AND(COUNTRY_INFO!J130>1,COUNTRY_INFO!J130<4),IF(COUNTRY_INFO!F130>MAX('MDA1'!K130,'MDA2'!K130,'T1'!M130,MAX(T3_R1!L130,T3_R2!L130)),MAX('MDA1'!K130,'MDA2'!K130,'T1'!M130,MAX(T3_R1!L130,T3_R2!L130)),COUNTRY_INFO!F130),0)","v":37971},{"$f":"IF(AND(COUNTRY_INFO!J130>1,COUNTRY_INFO!J130<4), IF(V130/COUNTRY_INFO!F130*100<>0, IF(V130/COUNTRY_INFO!F130*100>100,100,V130/COUNTRY_INFO!F130*100), \"-\"),0)","v":100},37971,{"$f":"IF(AND(COUNTRY_INFO!J130>1,COUNTRY_INFO!J130<4), IF(S130/P130*100<>0, IF(X130/P130*100>100,100,X130/P130*100), \"-\"),0)","v":70.706863803955159},{"$f":"COUNTRY_INFO!O130","v":12530.43},20155,22100,{"$f":"MAX('T1'!L130,'T2'!J130)+MAX('T1'!M130,'T2'!K130)+MAX('T1'!N130,'T2'!L130)","v":42255},{"$f":"IF(COUNTRY_INFO!K130=1,IF(COUNTRY_INFO!F130*0.33>MAX('T1'!M130,'T2'!K130),MAX('T1'!M130,'T2'!K130),COUNTRY_INFO!F130*0.33),IF(COUNTRY_INFO!K130=2,IF(COUNTRY_INFO!F130*0.5>MAX('T1'!M130,'T2'!K130),MAX('T1'!M130,'T2'!K130),COUNTRY_INFO!F130*0.5),IF(COUNTRY_INFO!K130=3,IF(COUNTRY_INFO!F130>MAX('T1'!M130,'T2'!K130),MAX('T1'!M130,'T2'!K130),COUNTRY_INFO!F130),0)))","v":12530.43},{"$f":"IF(AND(COUNTRY_INFO!K130>0,COUNTRY_INFO!K130<4),IF(Z130>0,IF(COUNTRY_INFO!K130=1, AD130/(COUNTRY_INFO!F130*0.33)*100, IF(COUNTRY_INFO!K130=2, AD130/(COUNTRY_INFO!F130*0.5)*100, IF(COUNTRY_INFO!K130=3, AD130/COUNTRY_INFO!F130*100))),\"-\"),0)","v":100},{"$f":"IF(COUNTRY_INFO!K130=2,IF(COUNTRY_INFO!G130*0.2>MAX('T1'!N130,'T2'!L130),MAX('T1'!N130,'T2'!L130),COUNTRY_INFO!G130*0.2),IF(COUNTRY_INFO!K130=3,IF(COUNTRY_INFO!G130>MAX('T1'!N130,'T2'!L130),MAX('T1'!N130,'T2'!L130),COUNTRY_INFO!G130),0))","v":0},{"$f":"IF(AND(COUNTRY_INFO!K130>0,COUNTRY_INFO!K130<4),IF(Z130>0,IF(COUNTRY_INFO!K130=1, 0, IF(COUNTRY_INFO!K130=2, AF130/(COUNTRY_INFO!G130*0.2)*100, IF(COUNTRY_INFO!K130=3, AF130/COUNTRY_INFO!G130*100))),\"-\"),0)","v":0},12530.43,{"$f":"IF(AND(COUNTRY_INFO!K130>0,COUNTRY_INFO!K130<4), IF(AC130/Z130*100<>0, IF(AH130/Z130*100>100,100,AH130/Z130*100), \"-\"),0)","v":100},null,{"$f":"IF(AND(D130<>0, D130<>\"Unknown\",D130<>\"Stopped\",D130<>\"Not required\"),D130/COUNTRY_INFO!D130, 0)","v":1},{"$f":"IF(AND(J130<>0,J130<>\"Unknown\",J130<>\"Stopped\",J130<>\"Not required\"),J130/COUNTRY_INFO!D130, 0)","v":0},{"$f":"IF(AND(P130<>0,P130<>\"Unknown\",P130<>\"Not required\"),P130/(COUNTRY_INFO!E130+COUNTRY_INFO!F130), 0)","v":1},{"$f":"IF(AND(Z130<>0,Z130<>\"Unknown\",Z130<>\"Not required\"),IF(COUNTRY_INFO!K130=1,1,IF(COUNTRY_INFO!K130=2,0.5*COUNTRY_INFO!F130/(0.5*COUNTRY_INFO!F130+0.2*COUNTRY_INFO!G130),IF(COUNTRY_INFO!K130=3,COUNTRY_INFO!F130/(COUNTRY_INFO!F130+COUNTRY_INFO!G130)))),0)","v":1},{"$f":"IF(AND(Z130<>0,Z130<>\"Unknown\",Z130<>\"Not required\"),IF(COUNTRY_INFO!K130=1,0,IF(COUNTRY_INFO!K130=2,0.2*COUNTRY_INFO!G130/(0.5*COUNTRY_INFO!F130+0.2*COUNTRY_INFO!G130),IF(COUNTRY_INFO!K130=3,COUNTRY_INFO!G130/(COUNTRY_INFO!F130+COUNTRY_INFO!G130)))),0)","v":0},{"$f":"MAX(COUNTRY_INFO!D130*AK130*PROFILE!$G$7,COUNTRY_INFO!D130*AL130*PROFILE!$G$7)","v":3932.7297172547815},{"$f":"MAX(COUNTRY_INFO!D130*AK130*PROFILE!$G$8,COUNTRY_INFO!D130*AL130*PROFILE!$G$8,COUNTRY_INFO!D130*AM130*PROFILE!$G$8)","v":15730.75265673797},{"$f":"MAX(COUNTRY_INFO!D130*AK130*PROFILE!$G$9,COUNTRY_INFO!D130*AL130*PROFILE!$G$9,COUNTRY_INFO!D130*AM130*PROFILE!$G$9,IF(AND(DISTRICT!Z130<>\"Unknown\",Z130<>\"Not required\"),COUNTRY_INFO!O130*DISTRICT!AN130,0))","v":37970.81859242393},{"$f":"MAX(COUNTRY_INFO!D130*AK130*PROFILE!$G$10,COUNTRY_INFO!D130*AL130*PROFILE!$G$10,IF(AND(DISTRICT!Z130<>\"Unknown\",Z130<>\"Not required\"),COUNTRY_INFO!O130*DISTRICT!AO130,0))","v":77975.833758914843},135610.13472533153,"Y",{"$f":"MAX('MDA2'!J130,'T1'!L130,'T2'!J130,T3_R1!K130,T3_R2!K130)","v":0},{"$f":"MAX('MDA1'!K130,'MDA2'!K130,'MDA3'!I130,'MDA3'!L130,'T1'!M130,'T2'!K130,T3_R1!L130,T3_R2!L130)","v":44097},{"$f":"MAX('MDA1'!L130,'MDA2'!L130,'MDA3'!J130,'MDA3'!M130,'T1'!N130,'T2'!L130,T3_R1!M130,T3_R2!M130)","v":75214},119311,{"$f":"MAX('MDA2'!J130,T130)","v":0},{"$f":"MAX('MDA1'!K130,'MDA2'!K130,'MDA3'!I130,'MDA3'!L130,V130,AD130)","v":44097},{"$f":"MAX('MDA1'!L130,'MDA2'!L130,'MDA3'!J130,'MDA3'!M130,AF130)","v":75214},119311,87.980887447428429]
[{"$f":"IF(COUNTRY_INFO!A131=0,\" \",COUNTRY_INFO!A131)","v":"Mozambique"},{"$f":"IF(COUNTRY_INFO!B131=0,\" \",COUNTRY_INFO!B131)","v":"Inhambane"},{"$f":"IF(COUNTRY_INFO!C131=0,\" \",COUNTRY_INFO!C131)","v":"Inharrime"},{"$f":"COUNTRY_INFO!L131","v":0},null,null,{"$f":"MAX('MDA1'!M131,'MDA2'!M131)","v":0},{"$f":"IF(AND(COUNTRY_INFO!H131>0,COUNTRY_INFO!H131<4),IF(D131>MAX('MDA1'!M131,'MDA2'!M131),MAX('MDA1'!M131,'MDA2'!M131),D131),0)","v":0},{"$f":"IF(AND(COUNTRY_INFO!H131>0,COUNTRY_INFO!H131<4), IF(G131/D131*100<>0, IF(G131/D131*100>100,100,G131/D131*100), \"-\"),0)","v":0},{"$f":"COUNTRY_INFO!M131","v":"Not required"},null,null,{"$f":"MAX('MDA1'!M131,MAX('MDA3'!I131,'MDA3'!L131)+MAX('MDA3'!J131,'MDA3'!M131))","v":0},{"$f":"IF(AND(COUNTRY_INFO!I131>0,COUNTRY_INFO!I131<4),IF(J131>MAX('MDA1'!M131,MAX('MDA3'!I131,'MDA3'!L131)+MAX('MDA3'!J131,'MDA3'!M131)),MAX('MDA1'!M131,MAX('MDA3'!I131,'MDA3'!L131)+MAX('MDA3'!J131,'MDA3'!M131)),J131),0)","v":0},{"$f":"IF(AND(COUNTRY_INFO!I131>0,COUNTRY_INFO!I131<4), IF(M131/J131*100<>0, IF(M131/J131*100>100,100,M131/J131*100), \"-\"),0)","v":0},{"$f":"COUNTRY_INFO!N131","v":0},null,null,{"$f":"SUM(MAX('MDA2'!J131, 'T1'!L131, MAX(T3_R1!K131, T3_R2!K131)), MAX('MDA1'!K131, 'MDA2'!K131, 'T1'!M131, MAX(T3_R1!L131, T3_R2!L131)), MAX('MDA1'!L131, 'MDA2'!L131, 'T1'!N131, MAX(T3_R1!M131, T3_R2!M131)))","v":0},{"$f":"IF(AND(COUNTRY_INFO!J131>1,COUNTRY_INFO!J131<4),IF(COUNTRY_INFO!E131>MAX('MDA2'!J131,'T1'!L131,MAX(T3_R1!K131,T3_R2!K131)),MAX('MDA2'!J131,'T1'!L131,MAX(T3_R1!K131,T3_R2!K131)),COUNTRY_INFO!E131),0)","v":0},{"$f":"IF(AND(COUNTRY_INFO!J131>1,COUNTRY_INFO!J131<4), IF(T131/COUNTRY_INFO!E131*100<>0, IF(T131/COUNTRY_INFO!E131*100>100,100,T131/COUNTRY_INFO!E131*100), \"-\"),0)","v":0},{"$f":"IF(AND(COUNTRY_INFO!J131>1,COUNTRY_INFO!J131<4),IF(COUNTRY_INFO!F131>MAX('MDA1'!K131,'MDA2'!K131,'T1'!M131,MAX(T3_R1!L131,T3_R2!L131)),MAX('MDA1'!K131,'MDA2'!K131,'T1'!M131,MAX(T3_R1!L131,T3_R2!L131)),COUNTRY_INFO!F131),0)","v":0},{"$f":"IF(AND(COUNTRY_INFO!J131>1,COUNTRY_INFO!J131<4), IF(V131/COUNTRY_INFO!F131*100<>0, IF(V131/COUNTRY_INFO!F131*100>100,100,V131/COUNTRY_INFO!F131*100), \"-\"),0)","v":0},0,{"$f":"IF(AND(COUNTRY_INFO!J131>1,COUNTRY_INFO!J131<4), IF(S131/P131*100<>0, IF(X131/P131*100>100,100,X131/P131*100), \"-\"),0)","v":0},{"$f":"COUNTRY_INFO!O131","v":35751.199999999997},17332,22591,{"$f":"MAX('T1'!L131,'T2'!J131)+MAX('T1'!M131,'T2'!K131)+MAX('T1'!N131,'T2'!L131)","v":39923},{"$f":"IF(COUNTRY_INFO!K131=1,IF(COUNTRY_INFO!F131*0.33>MAX('T1'!M131,'T2'!K131),MAX('T1'!M131,'T2'!K131),COUNTRY_INFO!F131*0.33),IF(COUNTRY_INFO!K131=2,IF(COUNTRY_INFO!F131*0.5>MAX('T1'!M131,'T2'!K131),MAX('T1'!M131,'T2'!K131),COUNTRY_INFO!F131*0.5),IF(COUNTRY_INFO!K131=3,IF(COUNTRY_INFO!F131>MAX('T1'!M131,'T2'!K131),MAX('T1'!M131,'T2'!K131),COUNTRY_INFO!F131),0)))","v":19628},{"$f":"IF(AND(COUNTRY_INFO!K131>0,COUNTRY_INFO!K131<4),IF(Z131>0,IF(COUNTRY_INFO!K131=1, AD131/(COUNTRY_INFO!F131*0.33)*100, IF(COUNTRY_INFO!K131=2, AD131/(COUNTRY_INFO!F131*0.5)*100, IF(COUNTRY_INFO!K131=3, AD131/COUNTRY_INFO!F131*100))),\"-\"),0)","v":100},{"$f":"IF(COUNTRY_INFO!K131=2,IF(COUNTRY_INFO!G131*0.2>MAX('T1'!N131,'T2'!L131),MAX('T1'!N131,'T2'!L131),COUNTRY_INFO!G131*0.2),IF(COUNTRY_INFO!K131=3,IF(COUNTRY_INFO!G131>MAX('T1'!N131,'T2'!L131),MAX('T1'!N131,'T2'!L131),COUNTRY_INFO!G131),0))","v":0},{"$f":"IF(AND(COUNTRY_INFO!K131>0,COUNTRY_INFO!K131<4),IF(Z131>0,IF(COUNTRY_INFO!K131=1, 0, IF(COUNTRY_INFO!K131=2, AF131/(COUNTRY_INFO!G131*0.2)*100, IF(COUNTRY_INFO!K131=3, AF131/COUNTRY_INFO!G131*100))),\"-\"),0)","v":0},19628,{"$f":"IF(AND(COUNTRY_INFO!K131>0,COUNTRY_INFO!K131<4), IF(AC131/Z131*100<>0, IF(AH131/Z131*100>100,100,AH131/Z131*100), \"-\"),0)","v":54.90165365078655},null,{"$f":"IF(AND(D131<>0, D131<>\"Unknown\",D131<>\"Stopped\",D131<>\"Not required\"),D131/COUNTRY_INFO!D131, 0)","v":0},{"$f":"IF(AND(J131<>0,J131<>\"Unknown\",J131<>\"Stopped\",J131<>\"Not required\"),J131/COUNTRY_INFO!D131, 0)","v":0},{"$f":"IF(AND(P131<>0,P131<>\"Unknown\",P131<>\"Not required\"),P131/(COUNTRY_INFO!E131+COUNTRY_INFO!F131), 0)","v":0},{"$f":"IF(AND(Z131<>0,Z131<>\"Unknown\",Z131<>\"Not required\"),IF(COUNTRY_INFO!K131=1,1,IF(COUNTRY_INFO!K131=2,0.5*COUNTRY_INFO!F131/(0.5*COUNTRY_INFO!F131+0.2*COUNTRY_INFO!G131),IF(COUNTRY_INFO!K131=3,COUNTRY_INFO!F131/(COUNTRY_INFO!F131+COUNTRY_INFO!G131)))),0)","v":0.54901653650786553},{"$f":"IF(AND(Z131<>0,Z131<>\"Unknown\",Z131<>\"Not required\"),IF(COUNTRY_INFO!K131=1,0,IF(COUNTRY_INFO!K131=2,0.2*COUNTRY_INFO!G131/(0.5*COUNTRY_INFO!F131+0.2*COUNTRY_INFO!G131),IF(COUNTRY_INFO!K131=3,COUNTRY_INFO!G131/(COUNTRY_INFO!F131+COUNTRY_INFO!G131)))),0)","v":0.45098346349213458},{"$f":"MAX(COUNTRY_INFO!D131*AK131*PROFILE!$G$7,COUNTRY_INFO!D131*AL131*PROFILE!$G$7)","v":0},{"$f":"MAX(COUNTRY_INFO!D131*AK131*PROFILE!$G$8,COUNTRY_INFO!D131*AL131*PROFILE!$G$8,COUNTRY_INFO!D131*AM131*PROFILE!$G$8)","v":0},{"$f":"MAX(COUNTRY_INFO!D131*AK131*PROFILE!$G$9,COUNTRY_INFO!D131*AL131*PROFILE!$G$9,COUNTRY_INFO!D131*AM131*PROFILE!$G$9,IF(AND(DISTRICT!Z131<>\"Unknown\",Z131<>\"Not required\"),COUNTRY_INFO!O131*DISTRICT!AN131,0))","v":19628},{"$f":"MAX(COUNTRY_INFO!D131*AK131*PROFILE!$G$10,COUNTRY_INFO!D131*AL131*PROFILE!$G$10,IF(AND(DISTRICT!Z131<>\"Unknown\",Z131<>\"Not required\"),COUNTRY_INFO!O131*DISTRICT!AO131,0))","v":16123.2},35751.199999999997,"Y",{"$f":"MAX('MDA2'!J131,'T1'!L131,'T2'!J131,T3_R1!K131,T3_R2!K131)","v":0},{"$f":"MAX('MDA1'!K131,'MDA2'!K131,'MDA3'!I131,'MDA3'!L131,'T1'!M131,'T2'!K131,T3_R1!L131,T3_R2!L131)","v":39923},{"$f":"MAX('MDA1'!L131,'MDA2'!L131,'MDA3'!J131,'MDA3'!M131,'T1'!N131,'T2'!L131,T3_R1!M131,T3_R2!M131)","v":0},39923,{"$f":"MAX('MDA2'!J131,T131)","v":0},{"$f":"MAX('MDA1'!K131,'MDA2'!K131,'MDA3'!I131,'MDA3'!L131,V131,AD131)","v":19628},{"$f":"MAX('MDA1'!L131,'MDA2'!L131,'MDA3'!J131,'MDA3'!M131,AF131)","v":0},19628,54.90165365078655]
[{"$f":"IF(COUNTRY_INFO!A132=0,\" \",COUNTRY_INFO!A132)","v":"Mozambique"},{"$f":"IF(COUNTRY_INFO!B132=0,\" \",COUNTRY_INFO!B132)","v":"Inhambane"},{"$f":"IF(COUNTRY_INFO!C132=0,\" \",COUNTRY_INFO!C132)","v":"Inhassoro"},{"$f":"COUNTRY_INFO!L132","v":67976.488389035541},null,null,{"$f":"MAX('MDA1'!M132,'MDA2'!M132)","v":53894},{"$f":"IF(AND(COUNTRY_INFO!H132>0,COUNTRY_INFO!H132<4),IF(D132>MAX('MDA1'!M132,'MDA2'!M132),MAX('MDA1'!M132,'MDA2'!M132),D132),0)","v":53894},{"$f":"IF(AND(COUNTRY_INFO!H132>0,COUNTRY_INFO!H132<4), IF(G132/D132*100<>0, IF(G132/D132*100>100,100,G132/D132*100), \"-\"),0)","v":79.283295264621216},{"$f":"COUNTRY_INFO!M132","v":"Not required"},null,null,{"$f":"MAX('MDA1'!M132,MAX('MDA3'!I132,'MDA3'!L132)+MAX('MDA3'!J132,'MDA3'!M132))","v":53894},{"$f":"IF(AND(COUNTRY_INFO!I132>0,COUNTRY_INFO!I132<4),IF(J132>MAX('MDA1'!M132,MAX('MDA3'!I132,'MDA3'!L132)+MAX('MDA3'!J132,'MDA3'!M132)),MAX('MDA1'!M132,MAX('MDA3'!I132,'MDA3'!L132)+MAX('MDA3'!J132,'MDA3'!M132)),J132),0)","v":0},{"$f":"IF(AND(COUNTRY_INFO!I132>0,COUNTRY_INFO!I132<4), IF(M132/J132*100<>0, IF(M132/J132*100>100,100,M132/J132*100), \"-\"),0)","v":0},{"$f":"COUNTRY_INFO!N132","v":26918},null,null,{"$f":"SUM(MAX('MDA2'!J132, 'T1'!L132, MAX(T3_R1!K132, T3_R2!K132)), MAX('MDA1'!K132, 'MDA2'!K132, 'T1'!M132, MAX(T3_R1!L132, T3_R2!L132)), MAX('MDA1'!L132, 'MDA2'!L132, 'T1'!N132, MAX(T3_R1!M132, T3_R2!M132)))","v":53894},{"$f":"IF(AND(COUNTRY_INFO!J132>1,COUNTRY_INFO!J132<4),IF(COUNTRY_INFO!E132>MAX('MDA2'!J132,'T1'!L132,MAX(T3_R1!K132,T3_R2!K132)),MAX('MDA2'!J132,'T1'!L132,MAX(T3_R1!K132,T3_R2!K132)),COUNTRY_INFO!E132),0)","v":0},{"$f":"IF(AND(COUNTRY_INFO!J132>1,COUNTRY_INFO!J132<4), IF(T132/COUNTRY_INFO!E132*100<>0, IF(T132/COUNTRY_INFO!E132*100>100,100,T132/COUNTRY_INFO!E132*100), \"-\"),0)","v":"-"},{"$f":"IF(AND(COUNTRY_INFO!J132>1,COUNTRY_INFO!J132<4),IF(COUNTRY_INFO!F132>MAX('MDA1'!K132,'MDA2'!K132,'T1'!M132,MAX(T3_R1!L132,T3_R2!L132)),MAX('MDA1'!K132,'MDA2'!K132,'T1'!M132,MAX(T3_R1!L132,T3_R2!L132)),COUNTRY_INFO!F132),0)","v":19033},{"$f":"IF(AND(COUNTRY_INFO!J132>1,COUNTRY_INFO!J132<4), IF(V132/COUNTRY_INFO!F132*100<>0, IF(V132/COUNTRY_INFO!F132*100>100,100,V132/COUNTRY_INFO!F132*100), \"-\"),0)","v":100},19033,{"$f":"IF(AND(COUNTRY_INFO!J132>1,COUNTRY_INFO!J132<4), IF(S132/P132*100<>0, IF(X132/P132*100>100,100,X132/P132*100), \"-\"),0)","v":70.707333382866494},{"$f":"COUNTRY_INFO!O132","v":17333.7},9004,9178,{"$f":"MAX('T1'!L132,'T2'!J132)+MAX('T1'!M132,'T2'!K132)+MAX('T1'!N132,'T2'!L132)","v":18182},{"$f":"IF(COUNTRY_INFO!K132=1,IF(COUNTRY_INFO!F132*0.33>MAX('T1'!M132,'T2'!K132),MAX('T1'!M132,'T2'!K132),COUNTRY_INFO!F132*0.33),IF(COUNTRY_INFO!K132=2,IF(COUNTRY_INFO!F132*0.5>MAX('T1'!M132,'T2'!K132),MAX('T1'!M132,'T2'!K132),COUNTRY_INFO!F132*0.5),IF(COUNTRY_INFO!K132=3,IF(COUNTRY_INFO!F132>MAX('T1'!M132,'T2'!K132),MAX('T1'!M132,'T2'!K132),COUNTRY_INFO!F132),0)))","v":9516.5},{"$f":"IF(AND(COUNTRY_INFO!K132>0,COUNTRY_INFO!K132<4),IF(Z132>0,IF(COUNTRY_INFO!K132=1, AD132/(COUNTRY_INFO!F132*0.33)*100, IF(COUNTRY_INFO!K132=2, AD132/(COUNTRY_INFO!F132*0.5)*100, IF(COUNTRY_INFO!K132=3, AD132/COUNTRY_INFO!F132*100))),\"-\"),0)","v":100},{"$f":"IF(COUNTRY_INFO!K132=2,IF(COUNTRY_INFO!G132*0.2>MAX('T1'!N132,'T2'!L132),MAX('T1'!N132,'T2'!L132),COUNTRY_INFO!G132*0.2),IF(COUNTRY_INFO!K132=3,IF(COUNTRY_INFO!G132>MAX('T1'!N132,'T2'!L132),MAX('T1'!N132,'T2'!L132),COUNTRY_INFO!G132),0))","v":0},{"$f":"IF(AND(COUNTRY_INFO!K132>0,COUNTRY_INFO!K132<4),IF(Z132>0,IF(COUNTRY_INFO!K132=1, 0, IF(COUNTRY_INFO!K132=2, AF132/(COUNTRY_INFO!G132*0.2)*100, IF(COUNTRY_INFO!K132=3, AF132/COUNTRY_INFO!G132*100))),\"-\"),0)","v":0},9516.5,{"$f":"IF(AND(COUNTRY_INFO!K132>0,COUNTRY_INFO!K132<4), IF(AC132/Z132*100<>0, IF(AH132/Z132*100>100,100,AH132/Z132*100), \"-\"),0)","v":54.901723232777769},null,{"$f":"IF(AND(D132<>0, D132<>\"Unknown\",D132<>\"Stopped\",D132<>\"Not required\"),D132/COUNTRY_INFO!D132, 0)","v":1},{"$f":"IF(AND(J132<>0,J132<>\"Unknown\",J132<>\"Stopped\",J132<>\"Not required\"),J132/COUNTRY_INFO!D132, 0)","v":0},{"$f":"IF(AND(P132<>0,P132<>\"Unknown\",P132<>\"Not required\"),P132/(COUNTRY_INFO!E132+COUNTRY_INFO!F132), 0)","v":1},{"$f":"IF(AND(Z132<>0,Z132<>\"Unknown\",Z132<>\"Not required\"),IF(COUNTRY_INFO!K132=1,1,IF(COUNTRY_INFO!K132=2,0.5*COUNTRY_INFO!F132/(0.5*COUNTRY_INFO!F132+0.2*COUNTRY_INFO!G132),IF(COUNTRY_INFO!K132=3,COUNTRY_INFO!F132/(COUNTRY_INFO!F132+COUNTRY_INFO!G132)))),0)","v":0.54901723232777766},{"$f":"IF(AND(Z132<>0,Z132<>\"Unknown\",Z132<>\"Not required\"),IF(COUNTRY_INFO!K132=1,0,IF(COUNTRY_INFO!K132=2,0.2*COUNTRY_INFO!G132/(0.5*COUNTRY_INFO!F132+0.2*COUNTRY_INFO!G132),IF(COUNTRY_INFO!K132=3,COUNTRY_INFO!G132/(COUNTRY_INFO!F132+COUNTRY_INFO!G132)))),0)","v":0.45098276767222234},{"$f":"MAX(COUNTRY_INFO!D132*AK132*PROFILE!$G$7,COUNTRY_INFO!D132*AL132*PROFILE!$G$7)","v":1971.3361136588246},{"$f":"MAX(COUNTRY_INFO!D132*AK132*PROFILE!$G$8,COUNTRY_INFO!D132*AL132*PROFILE!$G$8,COUNTRY_INFO!D132*AM132*PROFILE!$G$8)","v":7885.2611383903659},{"$f":"MAX(COUNTRY_INFO!D132*AK132*PROFILE!$G$9,COUNTRY_INFO!D132*AL132*PROFILE!$G$9,COUNTRY_INFO!D132*AM132*PROFILE!$G$9,IF(AND(DISTRICT!Z132<>\"Unknown\",Z132<>\"Not required\"),COUNTRY_INFO!O132*DISTRICT!AN132,0))","v":19033.407159412953},{"$f":"MAX(COUNTRY_INFO!D132*AK132*PROFILE!$G$10,COUNTRY_INFO!D132*AL132*PROFILE!$G$10,IF(AND(DISTRICT!Z132<>\"Unknown\",Z132<>\"Not required\"),COUNTRY_INFO!O132*DISTRICT!AO132,0))","v":39086.4839775734},67976.488389035541,"Y",{"$f":"MAX('MDA2'!J132,'T1'!L132,'T2'!J132,T3_R1!K132,T3_R2!K132)","v":0},{"$f":"MAX('MDA1'!K132,'MDA2'!K132,'MDA3'!I132,'MDA3'!L132,'T1'!M132,'T2'!K132,T3_R1!L132,T3_R2!L132)","v":19243},{"$f":"MAX('MDA1'!L132,'MDA2'!L132,'MDA3'!J132,'MDA3'!M132,'T1'!N132,'T2'!L132,T3_R1!M132,T3_R2!M132)","v":34651},53894,{"$f":"MAX('MDA2'!J132,T132)","v":0},{"$f":"MAX('MDA1'!K132,'MDA2'!K132,'MDA3'!I132,'MDA3'!L132,V132,AD132)","v":19243},{"$f":"MAX('MDA1'!L132,'MDA2'!L132,'MDA3'!J132,'MDA3'!M132,AF132)","v":34651},53894,79.283295264621216]
[{"$f":"IF(COUNTRY_INFO!A133=0,\" \",COUNTRY_INFO!A133)","v":"Mozambique"},{"$f":"IF(COUNTRY_INFO!B133=0,\" \",COUNTRY_INFO!B133)","v":"Inhambane"},{"$f":"IF(COUNTRY_INFO!C133=0,\" \",COUNTRY_INFO!C133)","v":"Jangamo"},{"$f":"COUNTRY_INFO!L133","v":116529.40701582913},null,null,{"$f":"MAX('MDA1'!M133,'MDA2'!M133)","v":96228},{"$f":"IF(AND(COUNTRY_INFO!H133>0,COUNTRY_INFO!H133<4),IF(D133>MAX('MDA1'!M133,'MDA2'!M133),MAX('MDA1'!M133,'MDA2'!M133),D133),0)","v":96228},{"$f":"IF(AND(COUNTRY_INFO!H133>0,COUNTRY_INFO!H133<4), IF(G133/D133*100<>0, IF(G133/D133*100>100,100,G133/D133*100), \"-\"),0)","v":82.578297156295122},{"$f":"COUNTRY_INFO!M133","v":"Not required"},null,null,{"$f":"MAX('MDA1'!M133,MAX('MDA3'!I133,'MDA3'!L133)+MAX('MDA3'!J133,'MDA3'!M133))","v":96228},{"$f":"IF(AND(COUNTRY_INFO!I133>0,COUNTRY_INFO!I133<4),IF(J133>MAX('MDA1'!M133,MAX('MDA3'!I133,'MDA3'!L133)+MAX('MDA3'!J133,'MDA3'!M133)),MAX('MDA1'!M133,MAX('MDA3'!I133,'MDA3'!L133)+MAX('MDA3'!J133,'MDA3'!M133)),J133),0)","v":0},{"$f":"IF(AND(COUNTRY_INFO!I133>0,COUNTRY_INFO!I133<4), IF(M133/J133*100<>0, IF(M133/J133*100>100,100,M133/J133*100), \"-\"),0)","v":0},{"$f":"COUNTRY_INFO!N133","v":0},null,null,{"$f":"SUM(MAX('MDA2'!J133, 'T1'!L133, MAX(T3_R1!K133, T3_R2!K133)), MAX('MDA1'!K133, 'MDA2'!K133, 'T1'!M133, MAX(T3_R1!L133, T3_R2!L133)), MAX('MDA1'!L133, 'MDA2'!L133, 'T1'!N133, MAX(T3_R1!M133, T3_R2!M133)))","v":96228},{"$f":"IF(AND(COUNTRY_INFO!J133>1,COUNTRY_INFO!J133<4),IF(COUNTRY_INFO!E133>MAX('MDA2'!J133,'T1'!L133,MAX(T3_R1!K133,T3_R2!K133)),MAX('MDA2'!J133,'T1'!L133,MAX(T3_R1!K133,T3_R2!K133)),COUNTRY_INFO!E133),0)","v":0},{"$f":"IF(AND(COUNTRY_INFO!J133>1,COUNTRY_INFO!J133<4), IF(T133/COUNTRY_INFO!E133*100<>0, IF(T133/COUNTRY_INFO!E133*100>100,100,T133/COUNTRY_INFO!E133*100), \"-\"),0)","v":0},{"$f":"IF(AND(COUNTRY_INFO!J133>1,COUNTRY_INFO!J133<4),IF(COUNTRY_INFO!F133>MAX('MDA1'!K133,'MDA2'!K133,'T1'!M133,MAX(T3_R1!L133,T3_R2!L133)),MAX('MDA1'!K133,'MDA2'!K133,'T1'!M133,MAX(T3_R1!L133,T3_R2!L133)),COUNTRY_INFO!F133),0)","v":0},{"$f":"IF(AND(COUNTRY_INFO!J133>1,COUNTRY_INFO!J133<4), IF(V133/COUNTRY_INFO!F133*100<>0, IF(V133/COUNTRY_INFO!F133*100>100,100,V133/COUNTRY_INFO!F133*100), \"-\"),0)","v":0},0,{"$f":"IF(AND(COUNTRY_INFO!J133>1,COUNTRY_INFO!J133<4), IF(S133/P133*100<>0, IF(X133/P133*100>100,100,X133/P133*100), \"-\"),0)","v":0},{"$f":"COUNTRY_INFO!O133","v":29714.800000000003},19021,23906,{"$f":"MAX('T1'!L133,'T2'!J133)+MAX('T1'!M133,'T2'!K133)+MAX('T1'!N133,'T2'!L133)","v":42927},{"$f":"IF(COUNTRY_INFO!K133=1,IF(COUNTRY_INFO!F133*0.33>MAX('T1'!M133,'T2'!K133),MAX('T1'!M133,'T2'!K133),COUNTRY_INFO!F133*0.33),IF(COUNTRY_INFO!K133=2,IF(COUNTRY_INFO!F133*0.5>MAX('T1'!M133,'T2'!K133),MAX('T1'!M133,'T2'!K133),COUNTRY_INFO!F133*0.5),IF(COUNTRY_INFO!K133=3,IF(COUNTRY_INFO!F133>MAX('T1'!M133,'T2'!K133),MAX('T1'!M133,'T2'!K133),COUNTRY_INFO!F133),0)))","v":16314},{"$f":"IF(AND(COUNTRY_INFO!K133>0,COUNTRY_INFO!K133<4),IF(Z133>0,IF(COUNTRY_INFO!K133=1, AD133/(COUNTRY_INFO!F133*0.33)*100, IF(COUNTRY_INFO!K133=2, AD133/(COUNTRY_INFO!F133*0.5)*100, IF(COUNTRY_INFO!K133=3, AD133/COUNTRY_INFO!F133*100))),\"-\"),0)","v":100},{"$f":"IF(COUNTRY_INFO!K133=2,IF(COUNTRY_INFO!G133*0.2>MAX('T1'!N133,'T2'!L133),MAX('T1'!N133,'T2'!L133),COUNTRY_INFO!G133*0.2),IF(COUNTRY_INFO!K133=3,IF(COUNTRY_INFO!G133>MAX('T1'!N133,'T2'!L133),MAX('T1'!N133,'T2'!L133),COUNTRY_INFO!G133),0))","v":0},{"$f":"IF(AND(COUNTRY_INFO!K133>0,COUNTRY_INFO!K133<4),IF(Z133>0,IF(COUNTRY_INFO!K133=1, 0, IF(COUNTRY_INFO!K133=2, AF133/(COUNTRY_INFO!G133*0.2)*100, IF(COUNTRY_INFO!K133=3, AF133/COUNTRY_INFO!G133*100))),\"-\"),0)","v":0},16314,{"$f":"IF(AND(COUNTRY_INFO!K133>0,COUNTRY_INFO!K133<4), IF(AC133/Z133*100<>0, IF(AH133/Z133*100>100,100,AH133/Z133*100), \"-\"),0)","v":54.901934389597095},null,{"$f":"IF(AND(D133<>0, D133<>\"Unknown\",D133<>\"Stopped\",D133<>\"Not required\"),D133/COUNTRY_INFO!D133, 0)","v":1},{"$f":"IF(AND(J133<>0,J133<>\"Unknown\",J133<>\"Stopped\",J133<>\"Not required\"),J133/COUNTRY_INFO!D133, 0)","v":0},{"$f":"IF(AND(P133<>0,P133<>\"Unknown\",P133<>\"Not required\"),P133/(COUNTRY_INFO!E133+COUNTRY_INFO!F133), 0)","v":0},{"$f":"IF(AND(Z133<>0,Z133<>\"Unknown\",Z133<>\"Not required\"),IF(COUNTRY_INFO!K133=1,1,IF(COUNTRY_INFO!K133=2,0.5*COUNTRY_INFO!F133/(0.5*COUNTRY_INFO!F133+0.2*COUNTRY_INFO!G133),IF(COUNTRY_INFO!K133=3,COUNTRY_INFO!F133/(COUNTRY_INFO!F133+COUNTRY_INFO!G133)))),0)","v":0.54901934389597096},{"$f":"IF(AND(Z133<>0,Z133<>\"Unknown\",Z133<>\"Not required\"),IF(COUNTRY_INFO!K133=1,0,IF(COUNTRY_INFO!K133=2,0.2*COUNTRY_INFO!G133/(0.5*COUNTRY_INFO!F133+0.2*COUNTRY_INFO!G133),IF(COUNTRY_INFO!K133=3,COUNTRY_INFO!G133/(COUNTRY_INFO!F133+COUNTRY_INFO!G133)))),0)","v":0.45098065610402899},{"$f":"MAX(COUNTRY_INFO!D133*AK133*PROFILE!$G$7,COUNTRY_INFO!D133*AL133*PROFILE!$G$7)","v":3379.3835750804255},{"$f":"MAX(COUNTRY_INFO!D133*AK133*PROFILE!$G$8,COUNTRY_INFO!D133*AL133*PROFILE!$G$8,COUNTRY_INFO!D133*AM133*PROFILE!$G$8)","v":13517.391474576407},{"$f":"MAX(COUNTRY_INFO!D133*AK133*PROFILE!$G$9,COUNTRY_INFO!D133*AL133*PROFILE!$G$9,COUNTRY_INFO!D133*AM133*PROFILE!$G$9,IF(AND(DISTRICT!Z133<>\"Unknown\",Z133<>\"Not required\"),COUNTRY_INFO!O133*DISTRICT!AN133,0))","v":32628.217525502227},{"$f":"MAX(COUNTRY_INFO!D133*AK133*PROFILE!$G$10,COUNTRY_INFO!D133*AL133*PROFILE!$G$10,IF(AND(DISTRICT!Z133<>\"Unknown\",Z133<>\"Not required\"),COUNTRY_INFO!O133*DISTRICT!AO133,0))","v":67004.414440670065},116529.40701582913,"Y",{"$f":"MAX('MDA2'!J133,'T1'!L133,'T2'!J133,T3_R1!K133,T3_R2!K133)","v":0},{"$f":"MAX('MDA1'!K133,'MDA2'!K133,'MDA3'!I133,'MDA3'!L133,'T1'!M133,'T2'!K133,T3_R1!L133,T3_R2!L133)","v":42927},{"$f":"MAX('MDA1'!L133,'MDA2'!L133,'MDA3'!J133,'MDA3'!M133,'T1'!N133,'T2'!L133,T3_R1!M133,T3_R2!M133)","v":54192},97119,{"$f":"MAX('MDA2'!J133,T133)","v":0},{"$f":"MAX('MDA1'!K133,'MDA2'!K133,'MDA3'!I133,'MDA3'!L133,V133,AD133)","v":42036},{"$f":"MAX('MDA1'!L133,'MDA2'!L133,'MDA3'!J133,'MDA3'!M133,AF133)","v":54192},96228,82.578297156295122]
[{"$f":"IF(COUNTRY_INFO!A134=0,\" \",COUNTRY_INFO!A134)","v":"Mozambique"},{"$f":"IF(COUNTRY_INFO!B134=0,\" \",COUNTRY_INFO!B134)","v":"Inhambane"},{"$f":"IF(COUNTRY_INFO!C134=0,\" \",COUNTRY_INFO!C134)","v":"Mabote"},{"$f":"COUNTRY_INFO!L134","v":54703.57047240375},null,null,{"$f":"MAX('MDA1'!M134,'MDA2'!M134)","v":53074},{"$f":"IF(AND(COUNTRY_INFO!H134>0,COUNTRY_INFO!H134<4),IF(D134>MAX('MDA1'!M134,'MDA2'!M134),MAX('MDA1'!M134,'MDA2'!M134),D134),0)","v":53074},{"$f":"IF(AND(COUNTRY_INFO!H134>0,COUNTRY_INFO!H134<4), IF(G134/D134*100<>0, IF(G134/D134*100>100,100,G134/D134*100), \"-\"),0)","v":97.021089376193785},{"$f":"COUNTRY_INFO!M134","v":"Not required"},null,null,{"$f":"MAX('MDA1'!M134,MAX('MDA3'!I134,'MDA3'!L134)+MAX('MDA3'!J134,'MDA3'!M134))","v":53074},{"$f":"IF(AND(COUNTRY_INFO!I134>0,COUNTRY_INFO!I134<4),IF(J134>MAX('MDA1'!M134,MAX('MDA3'!I134,'MDA3'!L134)+MAX('MDA3'!J134,'MDA3'!M134)),MAX('MDA1'!M134,MAX('MDA3'!I134,'MDA3'!L134)+MAX('MDA3'!J134,'MDA3'!M134)),J134),0)","v":0},{"$f":"IF(AND(COUNTRY_INFO!I134>0,COUNTRY_INFO!I134<4), IF(M134/J134*100<>0, IF(M134/J134*100>100,100,M134/J134*100), \"-\"),0)","v":0},{"$f":"COUNTRY_INFO!N134","v":21663},null,null,{"$f":"SUM(MAX('MDA2'!J134, 'T1'!L134, MAX(T3_R1!K134, T3_R2!K134)), MAX('MDA1'!K134, 'MDA2'!K134, 'T1'!M134, MAX(T3_R1!L134, T3_R2!L134)), MAX('MDA1'!L134, 'MDA2'!L134, 'T1'!N134, MAX(T3_R1!M134, T3_R2!M134)))","v":53074},{"$f":"IF(AND(COUNTRY_INFO!J134>1,COUNTRY_INFO!J134<4),IF(COUNTRY_INFO!E134>MAX('MDA2'!J134,'T1'!L134,MAX(T3_R1!K134,T3_R2!K134)),MAX('MDA2'!J134,'T1'!L134,MAX(T3_R1!K134,T3_R2!K134)),COUNTRY_INFO!E134),0)","v":0},{"$f":"IF(AND(COUNTRY_INFO!J134>1,COUNTRY_INFO!J134<4), IF(T134/COUNTRY_INFO!E134*100<>0, IF(T134/COUNTRY_INFO!E134*100>100,100,T134/COUNTRY_INFO!E134*100), \"-\"),0)","v":"-"},{"$f":"IF(AND(COUNTRY_INFO!J134>1,COUNTRY_INFO!J134<4),IF(COUNTRY_INFO!F134>MAX('MDA1'!K134,'MDA2'!K134,'T1'!M134,MAX(T3_R1!L134,T3_R2!L134)),MAX('MDA1'!K134,'MDA2'!K134,'T1'!M134,MAX(T3_R1!L134,T3_R2!L134)),COUNTRY_INFO!F134),0)","v":15317},{"$f":"IF(AND(COUNTRY_INFO!J134>1,COUNTRY_INFO!J134<4), IF(V134/COUNTRY_INFO!F134*100<>0, IF(V134/COUNTRY_INFO!F134*100>100,100,V134/COUNTRY_INFO!F134*100), \"-\"),0)","v":100},15317,{"$f":"IF(AND(COUNTRY_INFO!J134>1,COUNTRY_INFO!J134<4), IF(S134/P134*100<>0, IF(X134/P134*100>100,100,X134/P134*100), \"-\"),0)","v":70.705811752758166},{"$f":"COUNTRY_INFO!O134","v":13949.5},10281,11184,{"$f":"MAX('T1'!L134,'T2'!J134)+MAX('T1'!M134,'T2'!K134)+MAX('T1'!N134,'T2'!L134)","v":21465},{"$f":"IF(COUNTRY_INFO!K134=1,IF(COUNTRY_INFO!F134*0.33>MAX('T1'!M134,'T2'!K134),MAX('T1'!M134,'T2'!K134),COUNTRY_INFO!F134*0.33),IF(COUNTRY_INFO!K134=2,IF(COUNTRY_INFO!F134*0.5>MAX('T1'!M134,'T2'!K134),MAX('T1'!M134,'T2'!K134),COUNTRY_INFO!F134*0.5),IF(COUNTRY_INFO!K134=3,IF(COUNTRY_INFO!F134>MAX('T1'!M134,'T2'!K134),MAX('T1'!M134,'T2'!K134),COUNTRY_INFO!F134),0)))","v":7658.5},{"$f":"IF(AND(COUNTRY_INFO!K134>0,COUNTRY_INFO!K134<4),IF(Z134>0,IF(COUNTRY_INFO!K134=1, AD134/(COUNTRY_INFO!F134*0.33)*100, IF(COUNTRY_INFO!K134=2, AD134/(COUNTRY_INFO!F134*0.5)*100, IF(COUNTRY_INFO!K134=3, AD134/COUNTRY_INFO!F134*100))),\"-\"),0)","v":100},{"$f":"IF(COUNTRY_INFO!K134=2,IF(COUNTRY_INFO!G134*0.2>MAX('T1'!N134,'T2'!L134),MAX('T1'!N134,'T2'!L134),COUNTRY_INFO!G134*0.2),IF(COUNTRY_INFO!K134=3,IF(COUNTRY_INFO!G134>MAX('T1'!N134,'T2'!L134),MAX('T1'!N134,'T2'!L134),COUNTRY_INFO!G134),0))","v":0},{"$f":"IF(AND(COUNTRY_INFO!K134>0,COUNTRY_INFO!K134<4),IF(Z134>0,IF(COUNTRY_INFO!K134=1, 0, IF(COUNTRY_INFO!K134=2, AF134/(COUNTRY_INFO!G134*0.2)*100, IF(COUNTRY_INFO!K134=3, AF134/COUNTRY_INFO!G134*100))),\"-\"),0)","v":0},7658.5,{"$f":"IF(AND(COUNTRY_INFO!K134>0,COUNTRY_INFO!K134<4), IF(AC134/Z134*100<>0, IF(AH134/Z134*100>100,100,AH134/Z134*100), \"-\"),0)","v":54.90160937668017},null,{"$f":"IF(AND(D134<>0, D134<>\"Unknown\",D134<>\"Stopped\",D134<>\"Not required\"),D134/COUNTRY_INFO!D134, 0)","v":1},{"$f":"IF(AND(J134<>0,J134<>\"Unknown\",J134<>\"Stopped\",J134<>\"Not required\"),J134/COUNTRY_INFO!D134, 0)","v":0},{"$f":"IF(AND(P134<>0,P134<>\"Unknown\",P134<>\"Not required\"),P134/(COUNTRY_INFO!E134+COUNTRY_INFO!F134), 0)","v":1},{"$f":"IF(AND(Z134<>0,Z134<>\"Unknown\",Z134<>\"Not required\"),IF(COUNTRY_INFO!K134=1,1,IF(COUNTRY_INFO!K134=2,0.5*COUNTRY_INFO!F134/(0.5*COUNTRY_INFO!F134+0.2*COUNTRY_INFO!G134),IF(COUNTRY_INFO!K134=3,COUNTRY_INFO!F134/(COUNTRY_INFO!F134+COUNTRY_INFO!G134)))),0)","v":0.54901609376680172},{"$f":"IF(AND(Z134<>0,Z134<>\"Unknown\",Z134<>\"Not required\"),IF(COUNTRY_INFO!K134=1,0,IF(COUNTRY_INFO!K134=2,0.2*COUNTRY_INFO!G134/(0.5*COUNTRY_INFO!F134+0.2*COUNTRY_INFO!G134),IF(COUNTRY_INFO!K134=3,COUNTRY_INFO!G134/(COUNTRY_INFO!F134+COUNTRY_INFO!G134)))),0)","v":0.45098390623319834},{"$f":"MAX(COUNTRY_INFO!D134*AK134*PROFILE!$G$7,COUNTRY_INFO!D134*AL134*PROFILE!$G$7)","v":1586.4179891311398},{"$f":"MAX(COUNTRY_INFO!D134*AK134*PROFILE!$G$8,COUNTRY_INFO!D134*AL134*PROFILE!$G$8,COUNTRY_INFO!D134*AM134*PROFILE!$G$8)","v":6345.6049083997714},{"$f":"MAX(COUNTRY_INFO!D134*AK134*PROFILE!$G$9,COUNTRY_INFO!D134*AL134*PROFILE!$G$9,COUNTRY_INFO!D134*AM134*PROFILE!$G$9,IF(AND(DISTRICT!Z134<>\"Unknown\",Z134<>\"Not required\"),COUNTRY_INFO!O134*DISTRICT!AN134,0))","v":15316.992015180987},{"$f":"MAX(COUNTRY_INFO!D134*AK134*PROFILE!$G$10,COUNTRY_INFO!D134*AL134*PROFILE!$G$10,IF(AND(DISTRICT!Z134<>\"Unknown\",Z134<>\"Not required\"),COUNTRY_INFO!O134*DISTRICT!AO134,0))","v":31454.555559691849},54703.57047240375,"Y",{"$f":"MAX('MDA2'!J134,'T1'!L134,'T2'!J134,T3_R1!K134,T3_R2!K134)","v":0},{"$f":"MAX('MDA1'!K134,'MDA2'!K134,'MDA3'!I134,'MDA3'!L134,'T1'!M134,'T2'!K134,T3_R1!L134,T3_R2!L134)","v":21465},{"$f":"MAX('MDA1'!L134,'MDA2'!L134,'MDA3'!J134,'MDA3'!M134,'T1'!N134,'T2'!L134,T3_R1!M134,T3_R2!M134)","v":32597},54062,{"$f":"MAX('MDA2'!J134,T134)","v":0},{"$f":"MAX('MDA1'!K134,'MDA2'!K134,'MDA3'!I134,'MDA3'!L134,V134,AD134)","v":20477},{"$f":"MAX('MDA1'!L134,'MDA2'!L134,'MDA3'!J134,'MDA3'!M134,AF134)","v":32597},53074,97.021089376193785]
[{"$f":"IF(COUNTRY_INFO!A135=0,\" \",COUNTRY_INFO!A135)","v":"Mozambique"},{"$f":"IF(COUNTRY_INFO!B135=0,\" \",COUNTRY_INFO!B135)","v":"Inhambane"},{"$f":"IF(COUNTRY_INFO!C135=0,\" \",COUNTRY_INFO!C135)","v":"Massinga"},{"$f":"COUNTRY_INFO!L135","v":209467.78962076415},null,null,{"$f":"MAX('MDA1'!M135,'MDA2'!M135)","v":180483},{"$f":"IF(AND(COUNTRY_INFO!H135>0,COUNTRY_INFO!H135<4),IF(D135>MAX('MDA1'!M135,'MDA2'!M135),MAX('MDA1'!M135,'MDA2'!M135),D135),0)","v":180483},{"$f":"IF(AND(COUNTRY_INFO!H135>0,COUNTRY_INFO!H135<4), IF(G135/D135*100<>0, IF(G135/D135*100>100,100,G135/D135*100), \"-\"),0)","v":86.162650747763962},{"$f":"COUNTRY_INFO!M135","v":"Not required"},null,null,{"$f":"MAX('MDA1'!M135,MAX('MDA3'!I135,'MDA3'!L135)+MAX('MDA3'!J135,'MDA3'!M135))","v":180483},{"$f":"IF(AND(COUNTRY_INFO!I135>0,COUNTRY_INFO!I135<4),IF(J135>MAX('MDA1'!M135,MAX('MDA3'!I135,'MDA3'!L135)+MAX('MDA3'!J135,'MDA3'!M135)),MAX('MDA1'!M135,MAX('MDA3'!I135,'MDA3'!L135)+MAX('MDA3'!J135,'MDA3'!M135)),J135),0)","v":0},{"$f":"IF(AND(COUNTRY_INFO!I135>0,COUNTRY_INFO!I135<4), IF(M135/J135*100<>0, IF(M135/J135*100>100,100,M135/J135*100), \"-\"),0)","v":0},{"$f":"COUNTRY_INFO!N135","v":82949},null,null,{"$f":"SUM(MAX('MDA2'!J135, 'T1'!L135, MAX(T3_R1!K135, T3_R2!K135)), MAX('MDA1'!K135, 'MDA2'!K135, 'T1'!M135, MAX(T3_R1!L135, T3_R2!L135)), MAX('MDA1'!L135, 'MDA2'!L135, 'T1'!N135, MAX(T3_R1!M135, T3_R2!M135)))","v":180483},{"$f":"IF(AND(COUNTRY_INFO!J135>1,COUNTRY_INFO!J135<4),IF(COUNTRY_INFO!E135>MAX('MDA2'!J135,'T1'!L135,MAX(T3_R1!K135,T3_R2!K135)),MAX('MDA2'!J135,'T1'!L135,MAX(T3_R1!K135,T3_R2!K135)),COUNTRY_INFO!E135),0)","v":0},{"$f":"IF(AND(COUNTRY_INFO!J135>1,COUNTRY_INFO!J135<4), IF(T135/COUNTRY_INFO!E135*100<>0, IF(T135/COUNTRY_INFO!E135*100>100,100,T135/COUNTRY_INFO!E135*100), \"-\"),0)","v":"-"},{"$f":"IF(AND(COUNTRY_INFO!J135>1,COUNTRY_INFO!J135<4),IF(COUNTRY_INFO!F135>MAX('MDA1'!K135,'MDA2'!K135,'T1'!M135,MAX(T3_R1!L135,T3_R2!L135)),MAX('MDA1'!K135,'MDA2'!K135,'T1'!M135,MAX(T3_R1!L135,T3_R2!L135)),COUNTRY_INFO!F135),0)","v":58651},{"$f":"IF(AND(COUNTRY_INFO!J135>1,COUNTRY_INFO!J135<4), IF(V135/COUNTRY_INFO!F135*100<>0, IF(V135/COUNTRY_INFO!F135*100>100,100,V135/COUNTRY_INFO!F135*100), \"-\"),0)","v":100},58651,{"$f":"IF(AND(COUNTRY_INFO!J135>1,COUNTRY_INFO!J135<4), IF(S135/P135*100<>0, IF(X135/P135*100>100,100,X135/P135*100), \"-\"),0)","v":70.707302077179961},{"$f":"COUNTRY_INFO!O135","v":53414.3},28117,29136,{"$f":"MAX('T1'!L135,'T2'!J135)+MAX('T1'!M135,'T2'!K135)+MAX('T1'!N135,'T2'!L135)","v":57253},{"$f":"IF(COUNTRY_INFO!K135=1,IF(COUNTRY_INFO!F135*0.33>MAX('T1'!M135,'T2'!K135),MAX('T1'!M135,'T2'!K135),COUNTRY_INFO!F135*0.33),IF(COUNTRY_INFO!K135=2,IF(COUNTRY_INFO!F135*0.5>MAX('T1'!M135,'T2'!K135),MAX('T1'!M135,'T2'!K135),COUNTRY_INFO!F135*0.5),IF(COUNTRY_INFO!K135=3,IF(COUNTRY_INFO!F135>MAX('T1'!M135,'T2'!K135),MAX('T1'!M135,'T2'!K135),COUNTRY_INFO!F135),0)))","v":29325.5},{"$f":"IF(AND(COUNTRY_INFO!K135>0,COUNTRY_INFO!K135<4),IF(Z135>0,IF(COUNTRY_INFO!K135=1, AD135/(COUNTRY_INFO!F135*0.33)*100, IF(COUNTRY_INFO!K135=2, AD135/(COUNTRY_INFO!F135*0.5)*100, IF(COUNTRY_INFO!K135=3, AD135/COUNTRY_INFO!F135*100))),\"-\"),0)","v":100},{"$f":"IF(COUNTRY_INFO!K135=2,IF(COUNTRY_INFO!G135*0.2>MAX('T1'!N135,'T2'!L135),MAX('T1'!N135,'T2'!L135),COUNTRY_INFO!G135*0.2),IF(COUNTRY_INFO!K135=3,IF(COUNTRY_INFO!G135>MAX('T1'!N135,'T2'!L135),MAX('T1'!N135,'T2'!L135),COUNTRY_INFO!G135),0))","v":0},{"$f":"IF(AND(COUNTRY_INFO!K135>0,COUNTRY_INFO!K135<4),IF(Z135>0,IF(COUNTRY_INFO!K135=1, 0, IF(COUNTRY_INFO!K135=2, AF135/(COUNTRY_INFO!G135*0.2)*100, IF(COUNTRY_INFO!K135=3, AF135/COUNTRY_INFO!G135*100))),\"-\"),0)","v":0},29325.5,{"$f":"IF(AND(COUNTRY_INFO!K135>0,COUNTRY_INFO!K135<4), IF(AC135/Z135*100<>0, IF(AH135/Z135*100>100,100,AH135/Z135*100), \"-\"),0)","v":54.901964455211427},null,{"$f":"IF(AND(D135<>0, D135<>\"Unknown\",D135<>\"Stopped\",D135<>\"Not required\"),D135/COUNTRY_INFO!D135, 0)","v":1},{"$f":"IF(AND(J135<>0,J135<>\"Unknown\",J135<>\"Stopped\",J135<>\"Not required\"),J135/COUNTRY_INFO!D135, 0)","v":0},{"$f":"IF(AND(P135<>0,P135<>\"Unknown\",P135<>\"Not required\"),P135/(COUNTRY_INFO!E135+COUNTRY_INFO!F135), 0)","v":1},{"$f":"IF(AND(Z135<>0,Z135<>\"Unknown\",Z135<>\"Not required\"),IF(COUNTRY_INFO!K135=1,1,IF(COUNTRY_INFO!K135=2,0.5*COUNTRY_INFO!F135/(0.5*COUNTRY_INFO!F135+0.2*COUNTRY_INFO!G135),IF(COUNTRY_INFO!K135=3,COUNTRY_INFO!F135/(COUNTRY_INFO!F135+COUNTRY_INFO!G135)))),0)","v":0.54901964455211427},{"$f":"IF(AND(Z135<>0,Z135<>\"Unknown\",Z135<>\"Not required\"),IF(COUNTRY_INFO!K135=1,0,IF(COUNTRY_INFO!K135=2,0.2*COUNTRY_INFO!G135/(0.5*COUNTRY_INFO!F135+0.2*COUNTRY_INFO!G135),IF(COUNTRY_INFO!K135=3,COUNTRY_INFO!G135/(COUNTRY_INFO!F135+COUNTRY_INFO!G135)))),0)","v":0.45098035544788573},{"$f":"MAX(COUNTRY_INFO!D135*AK135*PROFILE!$G$7,COUNTRY_INFO!D135*AL135*PROFILE!$G$7)","v":6074.6212126236633},{"$f":"MAX(COUNTRY_INFO!D135*AK135*PROFILE!$G$8,COUNTRY_INFO!D135*AL135*PROFILE!$G$8,COUNTRY_INFO!D135*AM135*PROFILE!$G$8)","v":24298.228113642264},{"$f":"MAX(COUNTRY_INFO!D135*AK135*PROFILE!$G$9,COUNTRY_INFO!D135*AL135*PROFILE!$G$9,COUNTRY_INFO!D135*AM135*PROFILE!$G$9,IF(AND(DISTRICT!Z135<>\"Unknown\",Z135<>\"Not required\"),COUNTRY_INFO!O135*DISTRICT!AN135,0))","v":58650.951543965522},{"$f":"MAX(COUNTRY_INFO!D135*AK135*PROFILE!$G$10,COUNTRY_INFO!D135*AL135*PROFILE!$G$10,IF(AND(DISTRICT!Z135<>\"Unknown\",Z135<>\"Not required\"),COUNTRY_INFO!O135*DISTRICT!AO135,0))","v":120443.98875053269},209467.78962076415,"Y",{"$f":"MAX('MDA2'!J135,'T1'!L135,'T2'!J135,T3_R1!K135,T3_R2!K135)","v":0},{"$f":"MAX('MDA1'!K135,'MDA2'!K135,'MDA3'!I135,'MDA3'!L135,'T1'!M135,'T2'!K135,T3_R1!L135,T3_R2!L135)","v":95735},{"$f":"MAX('MDA1'!L135,'MDA2'!L135,'MDA3'!J135,'MDA3'!M135,'T1'!N135,'T2'!L135,T3_R1!M135,T3_R2!M135)","v":84748},180483,{"$f":"MAX('MDA2'!J135,T135)","v":0},{"$f":"MAX('MDA1'!K135,'MDA2'!K135,'MDA3'!I135,'MDA3'!L135,V135,AD135)","v":95735},{"$f":"MAX('MDA1'!L135,'MDA2'!L135,'MDA3'!J135,'MDA3'!M135,AF135)","v":84748},180483,86.162650747763962]
[{"$f":"IF(COUNTRY_INFO!A136=0,\" \",COUNTRY_INFO!A136)","v":"Mozambique"},{"$f":"IF(COUNTRY_INFO!B136=0,\" \",COUNTRY_INFO!B136)","v":"Inhambane"},{"$f":"IF(COUNTRY_INFO!C136=0,\" \",COUNTRY_INFO!C136)","v":"Maxixe"},{"$f":"COUNTRY_INFO!L136","v":136685.64806726345},null,null,{"$f":"MAX('MDA1'!M136,'MDA2'!M136)","v":142044},{"$f":"IF(AND(COUNTRY_INFO!H136>0,COUNTRY_INFO!H136<4),IF(D136>MAX('MDA1'!M136,'MDA2'!M136),MAX('MDA1'!M136,'MDA2'!M136),D136),0)","v":136685.64806726345},{"$f":"IF(AND(COUNTRY_INFO!H136>0,COUNTRY_INFO!H136<4), IF(G136/D136*100<>0, IF(G136/D136*100>100,100,G136/D136*100), \"-\"),0)","v":100},{"$f":"COUNTRY_INFO!M136","v":"Not required"},null,null,{"$f":"MAX('MDA1'!M136,MAX('MDA3'!I136,'MDA3'!L136)+MAX('MDA3'!J136,'MDA3'!M136))","v":142044},{"$f":"IF(AND(COUNTRY_INFO!I136>0,COUNTRY_INFO!I136<4),IF(J136>MAX('MDA1'!M136,MAX('MDA3'!I136,'MDA3'!L136)+MAX('MDA3'!J136,'MDA3'!M136)),MAX('MDA1'!M136,MAX('MDA3'!I136,'MDA3'!L136)+MAX('MDA3'!J136,'MDA3'!M136)),J136),0)","v":0},{"$f":"IF(AND(COUNTRY_INFO!I136>0,COUNTRY_INFO!I136<4), IF(M136/J136*100<>0, IF(M136/J136*100>100,100,M136/J136*100), \"-\"),0)","v":0},{"$f":"COUNTRY_INFO!N136","v":0},null,null,{"$f":"SUM(MAX('MDA2'!J136, 'T1'!L136, MAX(T3_R1!K136, T3_R2!K136)), MAX('MDA1'!K136, 'MDA2'!K136, 'T1'!M136, MAX(T3_R1!L136, T3_R2!L136)), MAX('MDA1'!L136, 'MDA2'!L136, 'T1'!N136, MAX(T3_R1!M136, T3_R2!M136)))","v":142044},{"$f":"IF(AND(COUNTRY_INFO!J136>1,COUNTRY_INFO!J136<4),IF(COUNTRY_INFO!E136>MAX('MDA2'!J136,'T1'!L136,MAX(T3_R1!K136,T3_R2!K136)),MAX('MDA2'!J136,'T1'!L136,MAX(T3_R1!K136,T3_R2!K136)),COUNTRY_INFO!E136),0)","v":0},{"$f":"IF(AND(COUNTRY_INFO!J136>1,COUNTRY_INFO!J136<4), IF(T136/COUNTRY_INFO!E136*100<>0, IF(T136/COUNTRY_INFO!E136*100>100,100,T136/COUNTRY_INFO!E136*100), \"-\"),0)","v":0},{"$f":"IF(AND(COUNTRY_INFO!J136>1,COUNTRY_INFO!J136<4),IF(COUNTRY_INFO!F136>MAX('MDA1'!K136,'MDA2'!K136,'T1'!M136,MAX(T3_R1!L136,T3_R2!L136)),MAX('MDA1'!K136,'MDA2'!K136,'T1'!M136,MAX(T3_R1!L136,T3_R2!L136)),COUNTRY_INFO!F136),0)","v":0},{"$f":"IF(AND(COUNTRY_INFO!J136>1,COUNTRY_INFO!J136<4), IF(V136/COUNTRY_INFO!F136*100<>0, IF(V136/COUNTRY_INFO!F136*100>100,100,V136/COUNTRY_INFO!F136*100), \"-\"),0)","v":0},0,{"$f":"IF(AND(COUNTRY_INFO!J136>1,COUNTRY_INFO!J136<4), IF(S136/P136*100<>0, IF(X136/P136*100>100,100,X136/P136*100), \"-\"),0)","v":0},{"$f":"COUNTRY_INFO!O136","v":34854.800000000003},27587,29742,{"$f":"MAX('T1'!L136,'T2'!J136)+MAX('T1'!M136,'T2'!K136)+MAX('T1'!N136,'T2'!L136)","v":57329},{"$f":"IF(COUNTRY_INFO!K136=1,IF(COUNTRY_INFO!F136*0.33>MAX('T1'!M136,'T2'!K136),MAX('T1'!M136,'T2'!K136),COUNTRY_INFO!F136*0.33),IF(COUNTRY_INFO!K136=2,IF(COUNTRY_INFO!F136*0.5>MAX('T1'!M136,'T2'!K136),MAX('T1'!M136,'T2'!K136),COUNTRY_INFO!F136*0.5),IF(COUNTRY_INFO!K136=3,IF(COUNTRY_INFO!F136>MAX('T1'!M136,'T2'!K136),MAX('T1'!M136,'T2'!K136),COUNTRY_INFO!F136),0)))","v":19136},{"$f":"IF(AND(COUNTRY_INFO!K136>0,COUNTRY_INFO!K136<4),IF(Z136>0,IF(COUNTRY_INFO!K136=1, AD136/(COUNTRY_INFO!F136*0.33)*100, IF(COUNTRY_INFO!K136=2, AD136/(COUNTRY_INFO!F136*0.5)*100, IF(COUNTRY_INFO!K136=3, AD136/COUNTRY_INFO!F136*100))),\"-\"),0)","v":100},{"$f":"IF(COUNTRY_INFO!K136=2,IF(COUNTRY_INFO!G136*0.2>MAX('T1'!N136,'T2'!L136),MAX('T1'!N136,'T2'!L136),COUNTRY_INFO!G136*0.2),IF(COUNTRY_INFO!K136=3,IF(COUNTRY_INFO!G136>MAX('T1'!N136,'T2'!L136),MAX('T1'!N136,'T2'!L136),COUNTRY_INFO!G136),0))","v":0},{"$f":"IF(AND(COUNTRY_INFO!K136>0,COUNTRY_INFO!K136<4),IF(Z136>0,IF(COUNTRY_INFO!K136=1, 0, IF(COUNTRY_INFO!K136=2, AF136/(COUNTRY_INFO!G136*0.2)*100, IF(COUNTRY_INFO!K136=3, AF136/COUNTRY_INFO!G136*100))),\"-\"),0)","v":0},19136,{"$f":"IF(AND(COUNTRY_INFO!K136>0,COUNTRY_INFO!K136<4), IF(AC136/Z136*100<>0, IF(AH136/Z136*100>100,100,AH136/Z136*100), \"-\"),0)","v":54.902050793577928},null,{"$f":"IF(AND(D136<>0, D136<>\"Unknown\",D136<>\"Stopped\",D136<>\"Not required\"),D136/COUNTRY_INFO!D136, 0)","v":1},{"$f":"IF(AND(J136<>0,J136<>\"Unknown\",J136<>\"Stopped\",J136<>\"Not required\"),J136/COUNTRY_INFO!D136, 0)","v":0},{"$f":"IF(AND(P136<>0,P136<>\"Unknown\",P136<>\"Not required\"),P136/(COUNTRY_INFO!E136+COUNTRY_INFO!F136), 0)","v":0},{"$f":"IF(AND(Z136<>0,Z136<>\"Unknown\",Z136<>\"Not required\"),IF(COUNTRY_INFO!K136=1,1,IF(COUNTRY_INFO!K136=2,0.5*COUNTRY_INFO!F136/(0.5*COUNTRY_INFO!F136+0.2*COUNTRY_INFO!G136),IF(COUNTRY_INFO!K136=3,COUNTRY_INFO!F136/(COUNTRY_INFO!F136+COUNTRY_INFO!G136)))),0)","v":0.54902050793577928},{"$f":"IF(AND(Z136<>0,Z136<>\"Unknown\",Z136<>\"Not required\"),IF(COUNTRY_INFO!K136=1,0,IF(COUNTRY_INFO!K136=2,0.2*COUNTRY_INFO!G136/(0.5*COUNTRY_INFO!F136+0.2*COUNTRY_INFO!G136),IF(COUNTRY_INFO!K136=3,COUNTRY_INFO!G136/(COUNTRY_INFO!F136+COUNTRY_INFO!G136)))),0)","v":0.45097949206422072},{"$f":"MAX(COUNTRY_INFO!D136*AK136*PROFILE!$G$7,COUNTRY_INFO!D136*AL136*PROFILE!$G$7)","v":3963.9198881788543},{"$f":"MAX(COUNTRY_INFO!D136*AK136*PROFILE!$G$8,COUNTRY_INFO!D136*AL136*PROFILE!$G$8,COUNTRY_INFO!D136*AM136*PROFILE!$G$8)","v":15855.512022217697},{"$f":"MAX(COUNTRY_INFO!D136*AK136*PROFILE!$G$9,COUNTRY_INFO!D136*AL136*PROFILE!$G$9,COUNTRY_INFO!D136*AM136*PROFILE!$G$9,IF(AND(DISTRICT!Z136<>\"Unknown\",Z136<>\"Not required\"),COUNTRY_INFO!O136*DISTRICT!AN136,0))","v":38271.962176441033},{"$f":"MAX(COUNTRY_INFO!D136*AK136*PROFILE!$G$10,COUNTRY_INFO!D136*AL136*PROFILE!$G$10,IF(AND(DISTRICT!Z136<>\"Unknown\",Z136<>\"Not required\"),COUNTRY_INFO!O136*DISTRICT!AO136,0))","v":78594.253980425856},136685.64806726345,"Y",{"$f":"MAX('MDA2'!J136,'T1'!L136,'T2'!J136,T3_R1!K136,T3_R2!K136)","v":0},{"$f":"MAX('MDA1'!K136,'MDA2'!K136,'MDA3'!I136,'MDA3'!L136,'T1'!M136,'T2'!K136,T3_R1!L136,T3_R2!L136)","v":57329},{"$f":"MAX('MDA1'!L136,'MDA2'!L136,'MDA3'!J136,'MDA3'!M136,'T1'!N136,'T2'!L136,T3_R1!M136,T3_R2!M136)","v":86504},143833,{"$f":"MAX('MDA2'!J136,T136)","v":0},{"$f":"MAX('MDA1'!K136,'MDA2'!K136,'MDA3'!I136,'MDA3'!L136,V136,AD136)","v":55540},{"$f":"MAX('MDA1'!L136,'MDA2'!L136,'MDA3'!J136,'MDA3'!M136,AF136)","v":86504},136685.64806726345,100]
[{"$f":"IF(COUNTRY_INFO!A137=0,\" \",COUNTRY_INFO!A137)","v":"Mozambique"},{"$f":"IF(COUNTRY_INFO!B137=0,\" \",COUNTRY_INFO!B137)","v":"Inhambane"},{"$f":"IF(COUNTRY_INFO!C137=0,\" \",COUNTRY_INFO!C137)","v":"Morrumbene"},{"$f":"COUNTRY_INFO!L137","v":157307.89382282901},null,null,{"$f":"MAX('MDA1'!M137,'MDA2'!M137)","v":140611},{"$f":"IF(AND(COUNTRY_INFO!H137>0,COUNTRY_INFO!H137<4),IF(D137>MAX('MDA1'!M137,'MDA2'!M137),MAX('MDA1'!M137,'MDA2'!M137),D137),0)","v":140611},{"$f":"IF(AND(COUNTRY_INFO!H137>0,COUNTRY_INFO!H137<4), IF(G137/D137*100<>0, IF(G137/D137*100>100,100,G137/D137*100), \"-\"),0)","v":89.385851264632535},{"$f":"COUNTRY_INFO!M137","v":"Not required"},null,null,{"$f":"MAX('MDA1'!M137,MAX('MDA3'!I137,'MDA3'!L137)+MAX('MDA3'!J137,'MDA3'!M137))","v":140611},{"$f":"IF(AND(COUNTRY_INFO!I137>0,COUNTRY_INFO!I137<4),IF(J137>MAX('MDA1'!M137,MAX('MDA3'!I137,'MDA3'!L137)+MAX('MDA3'!J137,'MDA3'!M137)),MAX('MDA1'!M137,MAX('MDA3'!I137,'MDA3'!L137)+MAX('MDA3'!J137,'MDA3'!M137)),J137),0)","v":0},{"$f":"IF(AND(COUNTRY_INFO!I137>0,COUNTRY_INFO!I137<4), IF(M137/J137*100<>0, IF(M137/J137*100>100,100,M137/J137*100), \"-\"),0)","v":0},{"$f":"COUNTRY_INFO!N137","v":0},null,null,{"$f":"SUM(MAX('MDA2'!J137, 'T1'!L137, MAX(T3_R1!K137, T3_R2!K137)), MAX('MDA1'!K137, 'MDA2'!K137, 'T1'!M137, MAX(T3_R1!L137, T3_R2!L137)), MAX('MDA1'!L137, 'MDA2'!L137, 'T1'!N137, MAX(T3_R1!M137, T3_R2!M137)))","v":140611},{"$f":"IF(AND(COUNTRY_INFO!J137>1,COUNTRY_INFO!J137<4),IF(COUNTRY_INFO!E137>MAX('MDA2'!J137,'T1'!L137,MAX(T3_R1!K137,T3_R2!K137)),MAX('MDA2'!J137,'T1'!L137,MAX(T3_R1!K137,T3_R2!K137)),COUNTRY_INFO!E137),0)","v":0},{"$f":"IF(AND(COUNTRY_INFO!J137>1,COUNTRY_INFO!J137<4), IF(T137/COUNTRY_INFO!E137*100<>0, IF(T137/COUNTRY_INFO!E137*100>100,100,T137/COUNTRY_INFO!E137*100), \"-\"),0)","v":0},{"$f":"IF(AND(COUNTRY_INFO!J137>1,COUNTRY_INFO!J137<4),IF(COUNTRY_INFO!F137>MAX('MDA1'!K137,'MDA2'!K137,'T1'!M137,MAX(T3_R1!L137,T3_R2!L137)),MAX('MDA1'!K137,'MDA2'!K137,'T1'!M137,MAX(T3_R1!L137,T3_R2!L137)),COUNTRY_INFO!F137),0)","v":0},{"$f":"IF(AND(COUNTRY_INFO!J137>1,COUNTRY_INFO!J137<4), IF(V137/COUNTRY_INFO!F137*100<>0, IF(V137/COUNTRY_INFO!F137*100>100,100,V137/COUNTRY_INFO!F137*100), \"-\"),0)","v":0},0,{"$f":"IF(AND(COUNTRY_INFO!J137>1,COUNTRY_INFO!J137<4), IF(S137/P137*100<>0, IF(X137/P137*100>100,100,X137/P137*100), \"-\"),0)","v":0},{"$f":"COUNTRY_INFO!O137","v":14535.18},null,null,{"$f":"MAX('T1'!L137,'T2'!J137)+MAX('T1'!M137,'T2'!K137)+MAX('T1'!N137,'T2'!L137)","v":0},{"$f":"IF(COUNTRY_INFO!K137=1,IF(COUNTRY_INFO!F137*0.33>MAX('T1'!M137,'T2'!K137),MAX('T1'!M137,'T2'!K137),COUNTRY_INFO!F137*0.33),IF(COUNTRY_INFO!K137=2,IF(COUNTRY_INFO!F137*0.5>MAX('T1'!M137,'T2'!K137),MAX('T1'!M137,'T2'!K137),COUNTRY_INFO!F137*0.5),IF(COUNTRY_INFO!K137=3,IF(COUNTRY_INFO!F137>MAX('T1'!M137,'T2'!K137),MAX('T1'!M137,'T2'!K137),COUNTRY_INFO!F137),0)))","v":0},{"$f":"IF(AND(COUNTRY_INFO!K137>0,COUNTRY_INFO!K137<4),IF(Z137>0,IF(COUNTRY_INFO!K137=1, AD137/(COUNTRY_INFO!F137*0.33)*100, IF(COUNTRY_INFO!K137=2, AD137/(COUNTRY_INFO!F137*0.5)*100, IF(COUNTRY_INFO!K137=3, AD137/COUNTRY_INFO!F137*100))),\"-\"),0)","v":0},{"$f":"IF(COUNTRY_INFO!K137=2,IF(COUNTRY_INFO!G137*0.2>MAX('T1'!N137,'T2'!L137),MAX('T1'!N137,'T2'!L137),COUNTRY_INFO!G137*0.2),IF(COUNTRY_INFO!K137=3,IF(COUNTRY_INFO!G137>MAX('T1'!N137,'T2'!L137),MAX('T1'!N137,'T2'!L137),COUNTRY_INFO!G137),0))","v":0},{"$f":"IF(AND(COUNTRY_INFO!K137>0,COUNTRY_INFO!K137<4),IF(Z137>0,IF(COUNTRY_INFO!K137=1, 0, IF(COUNTRY_INFO!K137=2, AF137/(COUNTRY_INFO!G137*0.2)*100, IF(COUNTRY_INFO!K137=3, AF137/COUNTRY_INFO!G137*100))),\"-\"),0)","v":0},0,{"$f":"IF(AND(COUNTRY_INFO!K137>0,COUNTRY_INFO!K137<4), IF(AC137/Z137*100<>0, IF(AH137/Z137*100>100,100,AH137/Z137*100), \"-\"),0)","v":"-"},null,{"$f":"IF(AND(D137<>0, D137<>\"Unknown\",D137<>\"Stopped\",D137<>\"Not required\"),D137/COUNTRY_INFO!D137, 0)","v":1},{"$f":"IF(AND(J137<>0,J137<>\"Unknown\",J137<>\"Stopped\",J137<>\"Not required\"),J137/COUNTRY_INFO!D137, 0)","v":0},{"$f":"IF(AND(P137<>0,P137<>\"Unknown\",P137<>\"Not required\"),P137/(COUNTRY_INFO!E137+COUNTRY_INFO!F137), 0)","v":0},{"$f":"IF(AND(Z137<>0,Z137<>\"Unknown\",Z137<>\"Not required\"),IF(COUNTRY_INFO!K137=1,1,IF(COUNTRY_INFO!K137=2,0.5*COUNTRY_INFO!F137/(0.5*COUNTRY_INFO!F137+0.2*COUNTRY_INFO!G137),IF(COUNTRY_INFO!K137=3,COUNTRY_INFO!F137/(COUNTRY_INFO!F137+COUNTRY_INFO!G137)))),0)","v":1},{"$f":"IF(AND(Z137<>0,Z137<>\"Unknown\",Z137<>\"Not required\"),IF(COUNTRY_INFO!K137=1,0,IF(COUNTRY_INFO!K137=2,0.2*COUNTRY_INFO!G137/(0.5*COUNTRY_INFO!F137+0.2*COUNTRY_INFO!G137),IF(COUNTRY_INFO!K137=3,COUNTRY_INFO!G137/(COUNTRY_INFO!F137+COUNTRY_INFO!G137)))),0)","v":0},{"$f":"MAX(COUNTRY_INFO!D137*AK137*PROFILE!$G$7,COUNTRY_INFO!D137*AL137*PROFILE!$G$7)","v":4561.9704607537551},{"$f":"MAX(COUNTRY_INFO!D137*AK137*PROFILE!$G$8,COUNTRY_INFO!D137*AL137*PROFILE!$G$8,COUNTRY_INFO!D137*AM137*PROFILE!$G$8)","v":18247.689036600299},{"$f":"MAX(COUNTRY_INFO!D137*AK137*PROFILE!$G$9,COUNTRY_INFO!D137*AL137*PROFILE!$G$9,COUNTRY_INFO!D137*AM137*PROFILE!$G$9,IF(AND(DISTRICT!Z137<>\"Unknown\",Z137<>\"Not required\"),COUNTRY_INFO!O137*DISTRICT!AN137,0))","v":44046.188078796797},{"$f":"MAX(COUNTRY_INFO!D137*AK137*PROFILE!$G$10,COUNTRY_INFO!D137*AL137*PROFILE!$G$10,IF(AND(DISTRICT!Z137<>\"Unknown\",Z137<>\"Not required\"),COUNTRY_INFO!O137*DISTRICT!AO137,0))","v":90452.046246678146},157307.89382282901,{"$f":"IF(COUNTIFS(AK137:AN137,\">0\")=0,0, IF(COUNTIFS(AK137:AN137,\">0\")<=IF(AND(OR(D137>=0,D137=\"Not required\",D137=\"Unknown\",D137=\"Stopped\"),D137>0,H137>0),1,0)+IF(AND(OR(J137>=0,J137=\"Not required\",J137=\"Unknown\",J137=\"Stopped\"),J137>0,N137>0),1,0)+IF(AND(OR(P137>=0,P137=\"Not required\",P137=\"Unknown\"),P137>0,X137>0),1,0)+IF(AND(OR(Z137>=0,Z137=\"Not required\",Z137=\"Unknown\"),Z137>0,AH137>0),1,0),\"Y\",0))","v":0},{"$f":"MAX('MDA2'!J137,'T1'!L137,'T2'!J137,T3_R1!K137,T3_R2!K137)","v":0},{"$f":"MAX('MDA1'!K137,'MDA2'!K137,'MDA3'!I137,'MDA3'!L137,'T1'!M137,'T2'!K137,T3_R1!L137,T3_R2!L137)","v":68306},{"$f":"MAX('MDA1'!L137,'MDA2'!L137,'MDA3'!J137,'MDA3'!M137,'T1'!N137,'T2'!L137,T3_R1!M137,T3_R2!M137)","v":72305},140611,{"$f":"MAX('MDA2'!J137,T137)","v":0},{"$f":"MAX('MDA1'!K137,'MDA2'!K137,'MDA3'!I137,'MDA3'!L137,V137,AD137)","v":68306},{"$f":"MAX('MDA1'!L137,'MDA2'!L137,'MDA3'!J137,'MDA3'!M137,AF137)","v":72305},{"$f":"IF(AT137<SUM(AZ137:BB137), AT137,SUM(AZ137:BB137))","v":140611},{"$f":"IF(AT137<>0,BC137/AT137*100,0)","v":89.385851264632535}]
[{"$f":"IF(COUNTRY_INFO!A138=0,\" \",COUNTRY_INFO!A138)","v":"Mozambique"},{"$f":"IF(COUNTRY_INFO!B138=0,\" \",COUNTRY_INFO!B138)","v":"Inhambane"},{"$f":"IF(COUNTRY_INFO!C138=0,\" \",COUNTRY_INFO!C138)","v":"Panda"},{"$f":"COUNTRY_INFO!L138","v":0},null,null,{"$f":"MAX('MDA1'!M138,'MDA2'!M138)","v":0},{"$f":"IF(AND(COUNTRY_INFO!H138>0,COUNTRY_INFO!H138<4),IF(D138>MAX('MDA1'!M138,'MDA2'!M138),MAX('MDA1'!M138,'MDA2'!M138),D138),0)","v":0},{"$f":"IF(AND(COUNTRY_INFO!H138>0,COUNTRY_INFO!H138<4), IF(G138/D138*100<>0, IF(G138/D138*100>100,100,G138/D138*100), \"-\"),0)","v":0},{"$f":"COUNTRY_INFO!M138","v":"Not required"},null,null,{"$f":"MAX('MDA1'!M138,MAX('MDA3'!I138,'MDA3'!L138)+MAX('MDA3'!J138,'MDA3'!M138))","v":0},{"$f":"IF(AND(COUNTRY_INFO!I138>0,COUNTRY_INFO!I138<4),IF(J138>MAX('MDA1'!M138,MAX('MDA3'!I138,'MDA3'!L138)+MAX('MDA3'!J138,'MDA3'!M138)),MAX('MDA1'!M138,MAX('MDA3'!I138,'MDA3'!L138)+MAX('MDA3'!J138,'MDA3'!M138)),J138),0)","v":0},{"$f":"IF(AND(COUNTRY_INFO!I138>0,COUNTRY_INFO!I138<4), IF(M138/J138*100<>0, IF(M138/J138*100>100,100,M138/J138*100), \"-\"),0)","v":0},{"$f":"COUNTRY_INFO!N138","v":0},null,null,{"$f":"SUM(MAX('MDA2'!J138, 'T1'!L138, MAX(T3_R1!K138, T3_R2!K138)), MAX('MDA1'!K138, 'MDA2'!K138, 'T1'!M138, MAX(T3_R1!L138, T3_R2!L138)), MAX('MDA1'!L138, 'MDA2'!L138, 'T1'!N138, MAX(T3_R1!M138, T3_R2!M138)))","v":0},{"$f":"IF(AND(COUNTRY_INFO!J138>1,COUNTRY_INFO!J138<4),IF(COUNTRY_INFO!E138>MAX('MDA2'!J138,'T1'!L138,MAX(T3_R1!K138,T3_R2!K138)),MAX('MDA2'!J138,'T1'!L138,MAX(T3_R1!K138,T3_R2!K138)),COUNTRY_INFO!E138),0)","v":0},{"$f":"IF(AND(COUNTRY_INFO!J138>1,COUNTRY_INFO!J138<4), IF(T138/COUNTRY_INFO!E138*100<>0, IF(T138/COUNTRY_INFO!E138*100>100,100,T138/COUNTRY_INFO!E138*100), \"-\"),0)","v":0},{"$f":"IF(AND(COUNTRY_INFO!J138>1,COUNTRY_INFO!J138<4),IF(COUNTRY_INFO!F138>MAX('MDA1'!K138,'MDA2'!K138,'T1'!M138,MAX(T3_R1!L138,T3_R2!L138)),MAX('MDA1'!K138,'MDA2'!K138,'T1'!M138,MAX(T3_R1!L138,T3_R2!L138)),COUNTRY_INFO!F138),0)","v":0},{"$f":"IF(AND(COUNTRY_INFO!J138>1,COUNTRY_INFO!J138<4), IF(V138/COUNTRY_INFO!F138*100<>0, IF(V138/COUNTRY_INFO!F138*100>100,100,V138/COUNTRY_INFO!F138*100), \"-\"),0)","v":0},{"$f":"SUM(T138,V138)","v":0},{"$f":"IF(AND(COUNTRY_INFO!J138>1,COUNTRY_INFO!J138<4), IF(S138/P138*100<>0, IF(X138/P138*100>100,100,X138/P138*100), \"-\"),0)","v":0},{"$f":"COUNTRY_INFO!O138","v":13701.7},6514,7665,{"$f":"MAX('T1'!L138,'T2'!J138)+MAX('T1'!M138,'T2'!K138)+MAX('T1'!N138,'T2'!L138)","v":14179},{"$f":"IF(COUNTRY_INFO!K138=1,IF(COUNTRY_INFO!F138*0.33>MAX('T1'!M138,'T2'!K138),MAX('T1'!M138,'T2'!K138),COUNTRY_INFO!F138*0.33),IF(COUNTRY_INFO!K138=2,IF(COUNTRY_INFO!F138*0.5>MAX('T1'!M138,'T2'!K138),MAX('T1'!M138,'T2'!K138),COUNTRY_INFO!F138*0.5),IF(COUNTRY_INFO!K138=3,IF(COUNTRY_INFO!F138>MAX('T1'!M138,'T2'!K138),MAX('T1'!M138,'T2'!K138),COUNTRY_INFO!F138),0)))","v":7522.5},{"$f":"IF(AND(COUNTRY_INFO!K138>0,COUNTRY_INFO!K138<4),IF(Z138>0,IF(COUNTRY_INFO!K138=1, AD138/(COUNTRY_INFO!F138*0.33)*100, IF(COUNTRY_INFO!K138=2, AD138/(COUNTRY_INFO!F138*0.5)*100, IF(COUNTRY_INFO!K138=3, AD138/COUNTRY_INFO!F138*100))),\"-\"),0)","v":100},{"$f":"IF(COUNTRY_INFO!K138=2,IF(COUNTRY_INFO!G138*0.2>MAX('T1'!N138,'T2'!L138),MAX('T1'!N138,'T2'!L138),COUNTRY_INFO!G138*0.2),IF(COUNTRY_INFO!K138=3,IF(COUNTRY_INFO!G138>MAX('T1'!N138,'T2'!L138),MAX('T1'!N138,'T2'!L138),COUNTRY_INFO!G138),0))","v":0},{"$f":"IF(AND(COUNTRY_INFO!K138>0,COUNTRY_INFO!K138<4),IF(Z138>0,IF(COUNTRY_INFO!K138=1, 0, IF(COUNTRY_INFO!K138=2, AF138/(COUNTRY_INFO!G138*0.2)*100, IF(COUNTRY_INFO!K138=3, AF138/COUNTRY_INFO!G138*100))),\"-\"),0)","v":0},{"$f":"SUM(AD138,AF138)","v":7522.5},{"$f":"IF(AND(COUNTRY_INFO!K138>0,COUNTRY_INFO!K138<4), IF(AC138/Z138*100<>0, IF(AH138/Z138*100>100,100,AH138/Z138*100), \"-\"),0)","v":54.901946473795213},null,{"$f":"IF(AND(D138<>0, D138<>\"Unknown\",D138<>\"Stopped\",D138<>\"Not required\"),D138/COUNTRY_INFO!D138, 0)","v":0},{"$f":"IF(AND(J138<>0,J138<>\"Unknown\",J138<>\"Stopped\",J138<>\"Not required\"),J138/COUNTRY_INFO!D138, 0)","v":0},{"$f":"IF(AND(P138<>0,P138<>\"Unknown\",P138<>\"Not required\"),P138/(COUNTRY_INFO!E138+COUNTRY_INFO!F138), 0)","v":0},{"$f":"IF(AND(Z138<>0,Z138<>\"Unknown\",Z138<>\"Not required\"),IF(COUNTRY_INFO!K138=1,1,IF(COUNTRY_INFO!K138=2,0.5*COUNTRY_INFO!F138/(0.5*COUNTRY_INFO!F138+0.2*COUNTRY_INFO!G138),IF(COUNTRY_INFO!K138=3,COUNTRY_INFO!F138/(COUNTRY_INFO!F138+COUNTRY_INFO!G138)))),0)","v":0.54901946473795216},{"$f":"IF(AND(Z138<>0,Z138<>\"Unknown\",Z138<>\"Not required\"),IF(COUNTRY_INFO!K138=1,0,IF(COUNTRY_INFO!K138=2,0.2*COUNTRY_INFO!G138/(0.5*COUNTRY_INFO!F138+0.2*COUNTRY_INFO!G138),IF(COUNTRY_INFO!K138=3,COUNTRY_INFO!G138/(COUNTRY_INFO!F138+COUNTRY_INFO!G138)))),0)","v":0.45098053526204779},{"$f":"MAX(COUNTRY_INFO!D138*AK138*PROFILE!$G$7,COUNTRY_INFO!D138*AL138*PROFILE!$G$7)","v":0},{"$f":"MAX(COUNTRY_INFO!D138*AK138*PROFILE!$G$8,COUNTRY_INFO!D138*AL138*PROFILE!$G$8,COUNTRY_INFO!D138*AM138*PROFILE!$G$8)","v":0},{"$f":"MAX(COUNTRY_INFO!D138*AK138*PROFILE!$G$9,COUNTRY_INFO!D138*AL138*PROFILE!$G$9,COUNTRY_INFO!D138*AM138*PROFILE!$G$9,IF(AND(DISTRICT!Z138<>\"Unknown\",Z138<>\"Not required\"),COUNTRY_INFO!O138*DISTRICT!AN138,0))","v":7522.4999999999991},{"$f":"MAX(COUNTRY_INFO!D138*AK138*PROFILE!$G$10,COUNTRY_INFO!D138*AL138*PROFILE!$G$10,IF(AND(DISTRICT!Z138<>\"Unknown\",Z138<>\"Not required\"),COUNTRY_INFO!O138*DISTRICT!AO138,0))","v":6179.2000000000007},{"$f":"SUM(AP138:AS138)","v":13701.7},"Y",{"$f":"MAX('MDA2'!J138,'T1'!L138,'T2'!J138,T3_R1!K138,T3_R2!K138)","v":0},{"$f":"MAX('MDA1'!K138,'MDA2'!K138,'MDA3'!I138,'MDA3'!L138,'T1'!M138,'T2'!K138,T3_R1!L138,T3_R2!L138)","v":14179},{"$f":"MAX('MDA1'!L138,'MDA2'!L138,'MDA3'!J138,'MDA3'!M138,'T1'!N138,'T2'!L138,T3_R1!M138,T3_R2!M138)","v":0},{"$f":"SUM(AV138:AX138)","v":14179},{"$f":"MAX('MDA2'!J138,T138)","v":0},{"$f":"MAX('MDA1'!K138,'MDA2'!K138,'MDA3'!I138,'MDA3'!L138,V138,AD138)","v":7522.5},{"$f":"MAX('MDA1'!L138,'MDA2'!L138,'MDA3'!J138,'MDA3'!M138,AF138)","v":0},7522.5,54.901946473795213]
[{"$f":"IF(COUNTRY_INFO!A139=0,\" \",COUNTRY_INFO!A139)","v":"Mozambique"},{"$f":"IF(COUNTRY_INFO!B139=0,\" \",COUNTRY_INFO!B139)","v":"Inhambane"},{"$f":"IF(COUNTRY_INFO!C139=0,\" \",COUNTRY_INFO!C139)","v":"Vilanculos"},{"$f":"COUNTRY_INFO!L139","v":176050.41528661601},null,null,{"$f":"MAX('MDA1'!M139,'MDA2'!M139)","v":138739},{"$f":"IF(AND(COUNTRY_INFO!H139>0,COUNTRY_INFO!H139<4),IF(D139>MAX('MDA1'!M139,'MDA2'!M139),MAX('MDA1'!M139,'MDA2'!M139),D139),0)","v":138739},{"$f":"IF(AND(COUNTRY_INFO!H139>0,COUNTRY_INFO!H139<4), IF(G139/D139*100<>0, IF(G139/D139*100>100,100,G139/D139*100), \"-\"),0)","v":78.806403139764384},{"$f":"COUNTRY_INFO!M139","v":"Not required"},null,null,{"$f":"MAX('MDA1'!M139,MAX('MDA3'!I139,'MDA3'!L139)+MAX('MDA3'!J139,'MDA3'!M139))","v":138739},{"$f":"IF(AND(COUNTRY_INFO!I139>0,COUNTRY_INFO!I139<4),IF(J139>MAX('MDA1'!M139,MAX('MDA3'!I139,'MDA3'!L139)+MAX('MDA3'!J139,'MDA3'!M139)),MAX('MDA1'!M139,MAX('MDA3'!I139,'MDA3'!L139)+MAX('MDA3'!J139,'MDA3'!M139)),J139),0)","v":0},{"$f":"IF(AND(COUNTRY_INFO!I139>0,COUNTRY_INFO!I139<4), IF(M139/J139*100<>0, IF(M139/J139*100>100,100,M139/J139*100), \"-\"),0)","v":0},{"$f":"COUNTRY_INFO!N139","v":69716},null,null,{"$f":"SUM(MAX('MDA2'!J139, 'T1'!L139, MAX(T3_R1!K139, T3_R2!K139)), MAX('MDA1'!K139, 'MDA2'!K139, 'T1'!M139, MAX(T3_R1!L139, T3_R2!L139)), MAX('MDA1'!L139, 'MDA2'!L139, 'T1'!N139, MAX(T3_R1!M139, T3_R2!M139)))","v":138739},{"$f":"IF(AND(COUNTRY_INFO!J139>1,COUNTRY_INFO!J139<4),IF(COUNTRY_INFO!E139>MAX('MDA2'!J139,'T1'!L139,MAX(T3_R1!K139,T3_R2!K139)),MAX('MDA2'!J139,'T1'!L139,MAX(T3_R1!K139,T3_R2!K139)),COUNTRY_INFO!E139),0)","v":0},{"$f":"IF(AND(COUNTRY_INFO!J139>1,COUNTRY_INFO!J139<4), IF(T139/COUNTRY_INFO!E139*100<>0, IF(T139/COUNTRY_INFO!E139*100>100,100,T139/COUNTRY_INFO!E139*100), \"-\"),0)","v":"-"},{"$f":"IF(AND(COUNTRY_INFO!J139>1,COUNTRY_INFO!J139<4),IF(COUNTRY_INFO!F139>MAX('MDA1'!K139,'MDA2'!K139,'T1'!M139,MAX(T3_R1!L139,T3_R2!L139)),MAX('MDA1'!K139,'MDA2'!K139,'T1'!M139,MAX(T3_R1!L139,T3_R2!L139)),COUNTRY_INFO!F139),0)","v":49294},{"$f":"IF(AND(COUNTRY_INFO!J139>1,COUNTRY_INFO!J139<4), IF(V139/COUNTRY_INFO!F139*100<>0, IF(V139/COUNTRY_INFO!F139*100>100,100,V139/COUNTRY_INFO!F139*100), \"-\"),0)","v":100},49294,{"$f":"IF(AND(COUNTRY_INFO!J139>1,COUNTRY_INFO!J139<4), IF(S139/P139*100<>0, IF(X139/P139*100>100,100,X139/P139*100), \"-\"),0)","v":70.706867863904989},{"$f":"COUNTRY_INFO!O139","v":44892.800000000003},24977,60370,{"$f":"MAX('T1'!L139,'T2'!J139)+MAX('T1'!M139,'T2'!K139)+MAX('T1'!N139,'T2'!L139)","v":85347},{"$f":"IF(COUNTRY_INFO!K139=1,IF(COUNTRY_INFO!F139*0.33>MAX('T1'!M139,'T2'!K139),MAX('T1'!M139,'T2'!K139),COUNTRY_INFO!F139*0.33),IF(COUNTRY_INFO!K139=2,IF(COUNTRY_INFO!F139*0.5>MAX('T1'!M139,'T2'!K139),MAX('T1'!M139,'T2'!K139),COUNTRY_INFO!F139*0.5),IF(COUNTRY_INFO!K139=3,IF(COUNTRY_INFO!F139>MAX('T1'!M139,'T2'!K139),MAX('T1'!M139,'T2'!K139),COUNTRY_INFO!F139),0)))","v":24647},{"$f":"IF(AND(COUNTRY_INFO!K139>0,COUNTRY_INFO!K139<4),IF(Z139>0,IF(COUNTRY_INFO!K139=1, AD139/(COUNTRY_INFO!F139*0.33)*100, IF(COUNTRY_INFO!K139=2, AD139/(COUNTRY_INFO!F139*0.5)*100, IF(COUNTRY_INFO!K139=3, AD139/COUNTRY_INFO!F139*100))),\"-\"),0)","v":100},{"$f":"IF(COUNTRY_INFO!K139=2,IF(COUNTRY_INFO!G139*0.2>MAX('T1'!N139,'T2'!L139),MAX('T1'!N139,'T2'!L139),COUNTRY_INFO!G139*0.2),IF(COUNTRY_INFO!K139=3,IF(COUNTRY_INFO!G139>MAX('T1'!N139,'T2'!L139),MAX('T1'!N139,'T2'!L139),COUNTRY_INFO!G139),0))","v":0},{"$f":"IF(AND(COUNTRY_INFO!K139>0,COUNTRY_INFO!K139<4),IF(Z139>0,IF(COUNTRY_INFO!K139=1, 0, IF(COUNTRY_INFO!K139=2, AF139/(COUNTRY_INFO!G139*0.2)*100, IF(COUNTRY_INFO!K139=3, AF139/COUNTRY_INFO!G139*100))),\"-\"),0)","v":0},24647,{"$f":"IF(AND(COUNTRY_INFO!K139>0,COUNTRY_INFO!K139<4), IF(AC139/Z139*100<>0, IF(AH139/Z139*100>100,100,AH139/Z139*100), \"-\"),0)","v":54.901899636467313},null,{"$f":"IF(AND(D139<>0, D139<>\"Unknown\",D139<>\"Stopped\",D139<>\"Not required\"),D139/COUNTRY_INFO!D139, 0)","v":1},{"$f":"IF(AND(J139<>0,J139<>\"Unknown\",J139<>\"Stopped\",J139<>\"Not required\"),J139/COUNTRY_INFO!D139, 0)","v":0},{"$f":"IF(AND(P139<>0,P139<>\"Unknown\",P139<>\"Not required\"),P139/(COUNTRY_INFO!E139+COUNTRY_INFO!F139), 0)","v":1},{"$f":"IF(AND(Z139<>0,Z139<>\"Unknown\",Z139<>\"Not required\"),IF(COUNTRY_INFO!K139=1,1,IF(COUNTRY_INFO!K139=2,0.5*COUNTRY_INFO!F139/(0.5*COUNTRY_INFO!F139+0.2*COUNTRY_INFO!G139),IF(COUNTRY_INFO!K139=3,COUNTRY_INFO!F139/(COUNTRY_INFO!F139+COUNTRY_INFO!G139)))),0)","v":0.54901899636467311},{"$f":"IF(AND(Z139<>0,Z139<>\"Unknown\",Z139<>\"Not required\"),IF(COUNTRY_INFO!K139=1,0,IF(COUNTRY_INFO!K139=2,0.2*COUNTRY_INFO!G139/(0.5*COUNTRY_INFO!F139+0.2*COUNTRY_INFO!G139),IF(COUNTRY_INFO!K139=3,COUNTRY_INFO!G139/(COUNTRY_INFO!F139+COUNTRY_INFO!G139)))),0)","v":0.45098100363532684},{"$f":"MAX(COUNTRY_INFO!D139*AK139*PROFILE!$G$7,COUNTRY_INFO!D139*AL139*PROFILE!$G$7)","v":5105.5085324931097},{"$f":"MAX(COUNTRY_INFO!D139*AK139*PROFILE!$G$8,COUNTRY_INFO!D139*AL139*PROFILE!$G$8,COUNTRY_INFO!D139*AM139*PROFILE!$G$8)","v":20421.818351548631},{"$f":"MAX(COUNTRY_INFO!D139*AK139*PROFILE!$G$9,COUNTRY_INFO!D139*AL139*PROFILE!$G$9,COUNTRY_INFO!D139*AM139*PROFILE!$G$9,IF(AND(DISTRICT!Z139<>\"Unknown\",Z139<>\"Not required\"),COUNTRY_INFO!O139*DISTRICT!AN139,0))","v":49294.091444629317},{"$f":"MAX(COUNTRY_INFO!D139*AK139*PROFILE!$G$10,COUNTRY_INFO!D139*AL139*PROFILE!$G$10,IF(AND(DISTRICT!Z139<>\"Unknown\",Z139<>\"Not required\"),COUNTRY_INFO!O139*DISTRICT!AO139,0))","v":101228.99695794495},176050.41528661601,"Y",{"$f":"MAX('MDA2'!J139,'T1'!L139,'T2'!J139,T3_R1!K139,T3_R2!K139)","v":0},{"$f":"MAX('MDA1'!K139,'MDA2'!K139,'MDA3'!I139,'MDA3'!L139,'T1'!M139,'T2'!K139,T3_R1!L139,T3_R2!L139)","v":85347},{"$f":"MAX('MDA1'!L139,'MDA2'!L139,'MDA3'!J139,'MDA3'!M139,'T1'!N139,'T2'!L139,T3_R1!M139,T3_R2!M139)","v":83853},169200,{"$f":"MAX('MDA2'!J139,T139)","v":0},{"$f":"MAX('MDA1'!K139,'MDA2'!K139,'MDA3'!I139,'MDA3'!L139,V139,AD139)","v":54886},{"$f":"MAX('MDA1'!L139,'MDA2'!L139,'MDA3'!J139,'MDA3'!M139,AF139)","v":83853},138739,78.806403139764384]
[{"$f":"IF(COUNTRY_INFO!A140=0,\" \",COUNTRY_INFO!A140)","v":"Mozambique"},{"$f":"IF(COUNTRY_INFO!B140=0,\" \",COUNTRY_INFO!B140)","v":"Inhambane"},{"$f":"IF(COUNTRY_INFO!C140=0,\" \",COUNTRY_INFO!C140)","v":"Zavala"},{"$f":"COUNTRY_INFO!L140","v":0},null,null,{"$f":"MAX('MDA1'!M140,'MDA2'!M140)","v":0},{"$f":"IF(AND(COUNTRY_INFO!H140>0,COUNTRY_INFO!H140<4),IF(D140>MAX('MDA1'!M140,'MDA2'!M140),MAX('MDA1'!M140,'MDA2'!M140),D140),0)","v":0},{"$f":"IF(AND(COUNTRY_INFO!H140>0,COUNTRY_INFO!H140<4), IF(G140/D140*100<>0, IF(G140/D140*100>100,100,G140/D140*100), \"-\"),0)","v":0},{"$f":"COUNTRY_INFO!M140","v":"Not required"},null,null,{"$f":"MAX('MDA1'!M140,MAX('MDA3'!I140,'MDA3'!L140)+MAX('MDA3'!J140,'MDA3'!M140))","v":0},{"$f":"IF(AND(COUNTRY_INFO!I140>0,COUNTRY_INFO!I140<4),IF(J140>MAX('MDA1'!M140,MAX('MDA3'!I140,'MDA3'!L140)+MAX('MDA3'!J140,'MDA3'!M140)),MAX('MDA1'!M140,MAX('MDA3'!I140,'MDA3'!L140)+MAX('MDA3'!J140,'MDA3'!M140)),J140),0)","v":0},{"$f":"IF(AND(COUNTRY_INFO!I140>0,COUNTRY_INFO!I140<4), IF(M140/J140*100<>0, IF(M140/J140*100>100,100,M140/J140*100), \"-\"),0)","v":0},{"$f":"COUNTRY_INFO!N140","v":66368},null,null,{"$f":"SUM(MAX('MDA2'!J140, 'T1'!L140, MAX(T3_R1!K140, T3_R2!K140)), MAX('MDA1'!K140, 'MDA2'!K140, 'T1'!M140, MAX(T3_R1!L140, T3_R2!L140)), MAX('MDA1'!L140, 'MDA2'!L140, 'T1'!N140, MAX(T3_R1!M140, T3_R2!M140)))","v":46711},{"$f":"IF(AND(COUNTRY_INFO!J140>1,COUNTRY_INFO!J140<4),IF(COUNTRY_INFO!E140>MAX('MDA2'!J140,'T1'!L140,MAX(T3_R1!K140,T3_R2!K140)),MAX('MDA2'!J140,'T1'!L140,MAX(T3_R1!K140,T3_R2!K140)),COUNTRY_INFO!E140),0)","v":0},{"$f":"IF(AND(COUNTRY_INFO!J140>1,COUNTRY_INFO!J140<4), IF(T140/COUNTRY_INFO!E140*100<>0, IF(T140/COUNTRY_INFO!E140*100>100,100,T140/COUNTRY_INFO!E140*100), \"-\"),0)","v":"-"},{"$f":"IF(AND(COUNTRY_INFO!J140>1,COUNTRY_INFO!J140<4),IF(COUNTRY_INFO!F140>MAX('MDA1'!K140,'MDA2'!K140,'T1'!M140,MAX(T3_R1!L140,T3_R2!L140)),MAX('MDA1'!K140,'MDA2'!K140,'T1'!M140,MAX(T3_R1!L140,T3_R2!L140)),COUNTRY_INFO!F140),0)","v":46711},{"$f":"IF(AND(COUNTRY_INFO!J140>1,COUNTRY_INFO!J140<4), IF(V140/COUNTRY_INFO!F140*100<>0, IF(V140/COUNTRY_INFO!F140*100>100,100,V140/COUNTRY_INFO!F140*100), \"-\"),0)","v":99.539710614358469},46711,{"$f":"IF(AND(COUNTRY_INFO!J140>1,COUNTRY_INFO!J140<4), IF(S140/P140*100<>0, IF(X140/P140*100>100,100,X140/P140*100), \"-\"),0)","v":70.381810511089682},{"$f":"COUNTRY_INFO!O140","v":15485.91},22417,24294,{"$f":"MAX('T1'!L140,'T2'!J140)+MAX('T1'!M140,'T2'!K140)+MAX('T1'!N140,'T2'!L140)","v":46711},{"$f":"IF(COUNTRY_INFO!K140=1,IF(COUNTRY_INFO!F140*0.33>MAX('T1'!M140,'T2'!K140),MAX('T1'!M140,'T2'!K140),COUNTRY_INFO!F140*0.33),IF(COUNTRY_INFO!K140=2,IF(COUNTRY_INFO!F140*0.5>MAX('T1'!M140,'T2'!K140),MAX('T1'!M140,'T2'!K140),COUNTRY_INFO!F140*0.5),IF(COUNTRY_INFO!K140=3,IF(COUNTRY_INFO!F140>MAX('T1'!M140,'T2'!K140),MAX('T1'!M140,'T2'!K140),COUNTRY_INFO!F140),0)))","v":15485.91},{"$f":"IF(AND(COUNTRY_INFO!K140>0,COUNTRY_INFO!K140<4),IF(Z140>0,IF(COUNTRY_INFO!K140=1, AD140/(COUNTRY_INFO!F140*0.33)*100, IF(COUNTRY_INFO!K140=2, AD140/(COUNTRY_INFO!F140*0.5)*100, IF(COUNTRY_INFO!K140=3, AD140/COUNTRY_INFO!F140*100))),\"-\"),0)","v":100},{"$f":"IF(COUNTRY_INFO!K140=2,IF(COUNTRY_INFO!G140*0.2>MAX('T1'!N140,'T2'!L140),MAX('T1'!N140,'T2'!L140),COUNTRY_INFO!G140*0.2),IF(COUNTRY_INFO!K140=3,IF(COUNTRY_INFO!G140>MAX('T1'!N140,'T2'!L140),MAX('T1'!N140,'T2'!L140),COUNTRY_INFO!G140),0))","v":0},{"$f":"IF(AND(COUNTRY_INFO!K140>0,COUNTRY_INFO!K140<4),IF(Z140>0,IF(COUNTRY_INFO!K140=1, 0, IF(COUNTRY_INFO!K140=2, AF140/(COUNTRY_INFO!G140*0.2)*100, IF(COUNTRY_INFO!K140=3, AF140/COUNTRY_INFO!G140*100))),\"-\"),0)","v":0},15485.91,{"$f":"IF(AND(COUNTRY_INFO!K140>0,COUNTRY_INFO!K140<4), IF(AC140/Z140*100<>0, IF(AH140/Z140*100>100,100,AH140/Z140*100), \"-\"),0)","v":100},null,{"$f":"IF(AND(D140<>0, D140<>\"Unknown\",D140<>\"Stopped\",D140<>\"Not required\"),D140/COUNTRY_INFO!D140, 0)","v":0},{"$f":"IF(AND(J140<>0,J140<>\"Unknown\",J140<>\"Stopped\",J140<>\"Not required\"),J140/COUNTRY_INFO!D140, 0)","v":0},{"$f":"IF(AND(P140<>0,P140<>\"Unknown\",P140<>\"Not required\"),P140/(COUNTRY_INFO!E140+COUNTRY_INFO!F140), 0)","v":1},{"$f":"IF(AND(Z140<>0,Z140<>\"Unknown\",Z140<>\"Not required\"),IF(COUNTRY_INFO!K140=1,1,IF(COUNTRY_INFO!K140=2,0.5*COUNTRY_INFO!F140/(0.5*COUNTRY_INFO!F140+0.2*COUNTRY_INFO!G140),IF(COUNTRY_INFO!K140=3,COUNTRY_INFO!F140/(COUNTRY_INFO!F140+COUNTRY_INFO!G140)))),0)","v":1},{"$f":"IF(AND(Z140<>0,Z140<>\"Unknown\",Z140<>\"Not required\"),IF(COUNTRY_INFO!K140=1,0,IF(COUNTRY_INFO!K140=2,0.2*COUNTRY_INFO!G140/(0.5*COUNTRY_INFO!F140+0.2*COUNTRY_INFO!G140),IF(COUNTRY_INFO!K140=3,COUNTRY_INFO!G140/(COUNTRY_INFO!F140+COUNTRY_INFO!G140)))),0)","v":0},{"$f":"MAX(COUNTRY_INFO!D140*AK140*PROFILE!$G$7,COUNTRY_INFO!D140*AL140*PROFILE!$G$7)","v":0},{"$f":"MAX(COUNTRY_INFO!D140*AK140*PROFILE!$G$8,COUNTRY_INFO!D140*AL140*PROFILE!$G$8,COUNTRY_INFO!D140*AM140*PROFILE!$G$8)","v":19441.30357762265},{"$f":"MAX(COUNTRY_INFO!D140*AK140*PROFILE!$G$9,COUNTRY_INFO!D140*AL140*PROFILE!$G$9,COUNTRY_INFO!D140*AM140*PROFILE!$G$9,IF(AND(DISTRICT!Z140<>\"Unknown\",Z140<>\"Not required\"),COUNTRY_INFO!O140*DISTRICT!AN140,0))","v":46927.329381786265},{"$f":"MAX(COUNTRY_INFO!D140*AK140*PROFILE!$G$10,COUNTRY_INFO!D140*AL140*PROFILE!$G$10,IF(AND(DISTRICT!Z140<>\"Unknown\",Z140<>\"Not required\"),COUNTRY_INFO!O140*DISTRICT!AO140,0))","v":0},66368.632959408918,"Y",{"$f":"MAX('MDA2'!J140,'T1'!L140,'T2'!J140,T3_R1!K140,T3_R2!K140)","v":0},{"$f":"MAX('MDA1'!K140,'MDA2'!K140,'MDA3'!I140,'MDA3'!L140,'T1'!M140,'T2'!K140,T3_R1!L140,T3_R2!L140)","v":46711},{"$f":"MAX('MDA1'!L140,'MDA2'!L140,'MDA3'!J140,'MDA3'!M140,'T1'!N140,'T2'!L140,T3_R1!M140,T3_R2!M140)","v":0},46711,{"$f":"MAX('MDA2'!J140,T140)","v":0},{"$f":"MAX('MDA1'!K140,'MDA2'!K140,'MDA3'!I140,'MDA3'!L140,V140,AD140)","v":46711},{"$f":"MAX('MDA1'!L140,'MDA2'!L140,'MDA3'!J140,'MDA3'!M140,AF140)","v":0},46711,70.381139277900246]
[{"$f":"IF(COUNTRY_INFO!A141=0,\" \",COUNTRY_INFO!A141)","v":"Mozambique"},{"$f":"IF(COUNTRY_INFO!B141=0,\" \",COUNTRY_INFO!B141)","v":"Gaza"},{"$f":"IF(COUNTRY_INFO!C141=0,\" \",COUNTRY_INFO!C141)","v":"Cid Xai Xai"},{"$f":"COUNTRY_INFO!L141","v":0},null,null,{"$f":"MAX('MDA1'!M141,'MDA2'!M141)","v":0},{"$f":"IF(AND(COUNTRY_INFO!H141>0,COUNTRY_INFO!H141<4),IF(D141>MAX('MDA1'!M141,'MDA2'!M141),MAX('MDA1'!M141,'MDA2'!M141),D141),0)","v":0},{"$f":"IF(AND(COUNTRY_INFO!H141>0,COUNTRY_INFO!H141<4), IF(G141/D141*100<>0, IF(G141/D141*100>100,100,G141/D141*100), \"-\"),0)","v":0},{"$f":"COUNTRY_INFO!M141","v":"Not required"},null,null,{"$f":"MAX('MDA1'!M141,MAX('MDA3'!I141,'MDA3'!L141)+MAX('MDA3'!J141,'MDA3'!M141))","v":0},{"$f":"IF(AND(COUNTRY_INFO!I141>0,COUNTRY_INFO!I141<4),IF(J141>MAX('MDA1'!M141,MAX('MDA3'!I141,'MDA3'!L141)+MAX('MDA3'!J141,'MDA3'!M141)),MAX('MDA1'!M141,MAX('MDA3'!I141,'MDA3'!L141)+MAX('MDA3'!J141,'MDA3'!M141)),J141),0)","v":0},{"$f":"IF(AND(COUNTRY_INFO!I141>0,COUNTRY_INFO!I141<4), IF(M141/J141*100<>0, IF(M141/J141*100>100,100,M141/J141*100), \"-\"),0)","v":0},{"$f":"COUNTRY_INFO!N141","v":60131},null,null,{"$f":"SUM(MAX('MDA2'!J141, 'T1'!L141, MAX(T3_R1!K141, T3_R2!K141)), MAX('MDA1'!K141, 'MDA2'!K141, 'T1'!M141, MAX(T3_R1!L141, T3_R2!L141)), MAX('MDA1'!L141, 'MDA2'!L141, 'T1'!N141, MAX(T3_R1!M141, T3_R2!M141)))","v":42345},{"$f":"IF(AND(COUNTRY_INFO!J141>1,COUNTRY_INFO!J141<4),IF(COUNTRY_INFO!E141>MAX('MDA2'!J141,'T1'!L141,MAX(T3_R1!K141,T3_R2!K141)),MAX('MDA2'!J141,'T1'!L141,MAX(T3_R1!K141,T3_R2!K141)),COUNTRY_INFO!E141),0)","v":0},{"$f":"IF(AND(COUNTRY_INFO!J141>1,COUNTRY_INFO!J141<4), IF(T141/COUNTRY_INFO!E141*100<>0, IF(T141/COUNTRY_INFO!E141*100>100,100,T141/COUNTRY_INFO!E141*100), \"-\"),0)","v":"-"},{"$f":"IF(AND(COUNTRY_INFO!J141>1,COUNTRY_INFO!J141<4),IF(COUNTRY_INFO!F141>MAX('MDA1'!K141,'MDA2'!K141,'T1'!M141,MAX(T3_R1!L141,T3_R2!L141)),MAX('MDA1'!K141,'MDA2'!K141,'T1'!M141,MAX(T3_R1!L141,T3_R2!L141)),COUNTRY_INFO!F141),0)","v":42345},{"$f":"IF(AND(COUNTRY_INFO!J141>1,COUNTRY_INFO!J141<4), IF(V141/COUNTRY_INFO!F141*100<>0, IF(V141/COUNTRY_INFO!F141*100>100,100,V141/COUNTRY_INFO!F141*100), \"-\"),0)","v":99.595455935272952},42345,{"$f":"IF(AND(COUNTRY_INFO!J141>1,COUNTRY_INFO!J141<4), IF(S141/P141*100<>0, IF(X141/P141*100>100,100,X141/P141*100), \"-\"),0)","v":70.421246944171884},{"$f":"COUNTRY_INFO!O141","v":14030.61},20232,22113,{"$f":"MAX('T1'!L141,'T2'!J141)+MAX('T1'!M141,'T2'!K141)+MAX('T1'!N141,'T2'!L141)","v":42345},{"$f":"IF(COUNTRY_INFO!K141=1,IF(COUNTRY_INFO!F141*0.33>MAX('T1'!M141,'T2'!K141),MAX('T1'!M141,'T2'!K141),COUNTRY_INFO!F141*0.33),IF(COUNTRY_INFO!K141=2,IF(COUNTRY_INFO!F141*0.5>MAX('T1'!M141,'T2'!K141),MAX('T1'!M141,'T2'!K141),COUNTRY_INFO!F141*0.5),IF(COUNTRY_INFO!K141=3,IF(COUNTRY_INFO!F141>MAX('T1'!M141,'T2'!K141),MAX('T1'!M141,'T2'!K141),COUNTRY_INFO!F141),0)))","v":14030.61},{"$f":"IF(AND(COUNTRY_INFO!K141>0,COUNTRY_INFO!K141<4),IF(Z141>0,IF(COUNTRY_INFO!K141=1, AD141/(COUNTRY_INFO!F141*0.33)*100, IF(COUNTRY_INFO!K141=2, AD141/(COUNTRY_INFO!F141*0.5)*100, IF(COUNTRY_INFO!K141=3, AD141/COUNTRY_INFO!F141*100))),\"-\"),0)","v":100},{"$f":"IF(COUNTRY_INFO!K141=2,IF(COUNTRY_INFO!G141*0.2>MAX('T1'!N141,'T2'!L141),MAX('T1'!N141,'T2'!L141),COUNTRY_INFO!G141*0.2),IF(COUNTRY_INFO!K141=3,IF(COUNTRY_INFO!G141>MAX('T1'!N141,'T2'!L141),MAX('T1'!N141,'T2'!L141),COUNTRY_INFO!G141),0))","v":0},{"$f":"IF(AND(COUNTRY_INFO!K141>0,COUNTRY_INFO!K141<4),IF(Z141>0,IF(COUNTRY_INFO!K141=1, 0, IF(COUNTRY_INFO!K141=2, AF141/(COUNTRY_INFO!G141*0.2)*100, IF(COUNTRY_INFO!K141=3, AF141/COUNTRY_INFO!G141*100))),\"-\"),0)","v":0},14030.61,{"$f":"IF(AND(COUNTRY_INFO!K141>0,COUNTRY_INFO!K141<4), IF(AC141/Z141*100<>0, IF(AH141/Z141*100>100,100,AH141/Z141*100), \"-\"),0)","v":100},null,{"$f":"IF(AND(D141<>0, D141<>\"Unknown\",D141<>\"Stopped\",D141<>\"Not required\"),D141/COUNTRY_INFO!D141, 0)","v":0},{"$f":"IF(AND(J141<>0,J141<>\"Unknown\",J141<>\"Stopped\",J141<>\"Not required\"),J141/COUNTRY_INFO!D141, 0)","v":0},{"$f":"IF(AND(P141<>0,P141<>\"Unknown\",P141<>\"Not required\"),P141/(COUNTRY_INFO!E141+COUNTRY_INFO!F141), 0)","v":1},{"$f":"IF(AND(Z141<>0,Z141<>\"Unknown\",Z141<>\"Not required\"),IF(COUNTRY_INFO!K141=1,1,IF(COUNTRY_INFO!K141=2,0.5*COUNTRY_INFO!F141/(0.5*COUNTRY_INFO!F141+0.2*COUNTRY_INFO!G141),IF(COUNTRY_INFO!K141=3,COUNTRY_INFO!F141/(COUNTRY_INFO!F141+COUNTRY_INFO!G141)))),0)","v":1},{"$f":"IF(AND(Z141<>0,Z141<>\"Unknown\",Z141<>\"Not required\"),IF(COUNTRY_INFO!K141=1,0,IF(COUNTRY_INFO!K141=2,0.2*COUNTRY_INFO!G141/(0.5*COUNTRY_INFO!F141+0.2*COUNTRY_INFO!G141),IF(COUNTRY_INFO!K141=3,COUNTRY_INFO!G141/(COUNTRY_INFO!F141+COUNTRY_INFO!G141)))),0)","v":0},{"$f":"MAX(COUNTRY_INFO!D141*AK141*PROFILE!$G$7,COUNTRY_INFO!D141*AL141*PROFILE!$G$7)","v":0},{"$f":"MAX(COUNTRY_INFO!D141*AK141*PROFILE!$G$8,COUNTRY_INFO!D141*AL141*PROFILE!$G$8,COUNTRY_INFO!D141*AM141*PROFILE!$G$8)","v":17614.239113147465},{"$f":"MAX(COUNTRY_INFO!D141*AK141*PROFILE!$G$9,COUNTRY_INFO!D141*AL141*PROFILE!$G$9,COUNTRY_INFO!D141*AM141*PROFILE!$G$9,IF(AND(DISTRICT!Z141<>\"Unknown\",Z141<>\"Not required\"),COUNTRY_INFO!O141*DISTRICT!AN141,0))","v":42517.169559742659},{"$f":"MAX(COUNTRY_INFO!D141*AK141*PROFILE!$G$10,COUNTRY_INFO!D141*AL141*PROFILE!$G$10,IF(AND(DISTRICT!Z141<>\"Unknown\",Z141<>\"Not required\"),COUNTRY_INFO!O141*DISTRICT!AO141,0))","v":0},60131.408672890124,"Y",{"$f":"MAX('MDA2'!J141,'T1'!L141,'T2'!J141,T3_R1!K141,T3_R2!K141)","v":0},{"$f":"MAX('MDA1'!K141,'MDA2'!K141,'MDA3'!I141,'MDA3'!L141,'T1'!M141,'T2'!K141,T3_R1!L141,T3_R2!L141)","v":42345},{"$f":"MAX('MDA1'!L141,'MDA2'!L141,'MDA3'!J141,'MDA3'!M141,'T1'!N141,'T2'!L141,T3_R1!M141,T3_R2!M141)","v":0},42345,{"$f":"MAX('MDA2'!J141,T141)","v":0},{"$f":"MAX('MDA1'!K141,'MDA2'!K141,'MDA3'!I141,'MDA3'!L141,V141,AD141)","v":42345},{"$f":"MAX('MDA1'!L141,'MDA2'!L141,'MDA3'!J141,'MDA3'!M141,AF141)","v":0},42345,70.42076833814636]
[{"$f":"IF(COUNTRY_INFO!A142=0,\" \",COUNTRY_INFO!A142)","v":"Mozambique"},{"$f":"IF(COUNTRY_INFO!B142=0,\" \",COUNTRY_INFO!B142)","v":"Gaza"},{"$f":"IF(COUNTRY_INFO!C142=0,\" \",COUNTRY_INFO!C142)","v":"Bilene Macia"},{"$f":"COUNTRY_INFO!L142","v":0},null,null,{"$f":"MAX('MDA1'!M142,'MDA2'!M142)","v":0},{"$f":"IF(AND(COUNTRY_INFO!H142>0,COUNTRY_INFO!H142<4),IF(D142>MAX('MDA1'!M142,'MDA2'!M142),MAX('MDA1'!M142,'MDA2'!M142),D142),0)","v":0},{"$f":"IF(AND(COUNTRY_INFO!H142>0,COUNTRY_INFO!H142<4), IF(G142/D142*100<>0, IF(G142/D142*100>100,100,G142/D142*100), \"-\"),0)","v":0},{"$f":"COUNTRY_INFO!M142","v":"Not required"},null,null,{"$f":"MAX('MDA1'!M142,MAX('MDA3'!I142,'MDA3'!L142)+MAX('MDA3'!J142,'MDA3'!M142))","v":0},{"$f":"IF(AND(COUNTRY_INFO!I142>0,COUNTRY_INFO!I142<4),IF(J142>MAX('MDA1'!M142,MAX('MDA3'!I142,'MDA3'!L142)+MAX('MDA3'!J142,'MDA3'!M142)),MAX('MDA1'!M142,MAX('MDA3'!I142,'MDA3'!L142)+MAX('MDA3'!J142,'MDA3'!M142)),J142),0)","v":0},{"$f":"IF(AND(COUNTRY_INFO!I142>0,COUNTRY_INFO!I142<4), IF(M142/J142*100<>0, IF(M142/J142*100>100,100,M142/J142*100), \"-\"),0)","v":0},{"$f":"COUNTRY_INFO!N142","v":63251},null,null,{"$f":"SUM(MAX('MDA2'!J142, 'T1'!L142, MAX(T3_R1!K142, T3_R2!K142)), MAX('MDA1'!K142, 'MDA2'!K142, 'T1'!M142, MAX(T3_R1!L142, T3_R2!L142)), MAX('MDA1'!L142, 'MDA2'!L142, 'T1'!N142, MAX(T3_R1!M142, T3_R2!M142)))","v":42613},{"$f":"IF(AND(COUNTRY_INFO!J142>1,COUNTRY_INFO!J142<4),IF(COUNTRY_INFO!E142>MAX('MDA2'!J142,'T1'!L142,MAX(T3_R1!K142,T3_R2!K142)),MAX('MDA2'!J142,'T1'!L142,MAX(T3_R1!K142,T3_R2!K142)),COUNTRY_INFO!E142),0)","v":0},{"$f":"IF(AND(COUNTRY_INFO!J142>1,COUNTRY_INFO!J142<4), IF(T142/COUNTRY_INFO!E142*100<>0, IF(T142/COUNTRY_INFO!E142*100>100,100,T142/COUNTRY_INFO!E142*100), \"-\"),0)","v":"-"},{"$f":"IF(AND(COUNTRY_INFO!J142>1,COUNTRY_INFO!J142<4),IF(COUNTRY_INFO!F142>MAX('MDA1'!K142,'MDA2'!K142,'T1'!M142,MAX(T3_R1!L142,T3_R2!L142)),MAX('MDA1'!K142,'MDA2'!K142,'T1'!M142,MAX(T3_R1!L142,T3_R2!L142)),COUNTRY_INFO!F142),0)","v":42613},{"$f":"IF(AND(COUNTRY_INFO!J142>1,COUNTRY_INFO!J142<4), IF(V142/COUNTRY_INFO!F142*100<>0, IF(V142/COUNTRY_INFO!F142*100>100,100,V142/COUNTRY_INFO!F142*100), \"-\"),0)","v":95.282069628602727},42613,{"$f":"IF(AND(COUNTRY_INFO!J142>1,COUNTRY_INFO!J142<4), IF(S142/P142*100<>0, IF(X142/P142*100>100,100,X142/P142*100), \"-\"),0)","v":67.371266857440986},{"$f":"COUNTRY_INFO!O142","v":40729.9},20326,22287,{"$f":"MAX('T1'!L142,'T2'!J142)+MAX('T1'!M142,'T2'!K142)+MAX('T1'!N142,'T2'!L142)","v":42613},{"$f":"IF(COUNTRY_INFO!K142=1,IF(COUNTRY_INFO!F142*0.33>MAX('T1'!M142,'T2'!K142),MAX('T1'!M142,'T2'!K142),COUNTRY_INFO!F142*0.33),IF(COUNTRY_INFO!K142=2,IF(COUNTRY_INFO!F142*0.5>MAX('T1'!M142,'T2'!K142),MAX('T1'!M142,'T2'!K142),COUNTRY_INFO!F142*0.5),IF(COUNTRY_INFO!K142=3,IF(COUNTRY_INFO!F142>MAX('T1'!M142,'T2'!K142),MAX('T1'!M142,'T2'!K142),COUNTRY_INFO!F142),0)))","v":22361.5},{"$f":"IF(AND(COUNTRY_INFO!K142>0,COUNTRY_INFO!K142<4),IF(Z142>0,IF(COUNTRY_INFO!K142=1, AD142/(COUNTRY_INFO!F142*0.33)*100, IF(COUNTRY_INFO!K142=2, AD142/(COUNTRY_INFO!F142*0.5)*100, IF(COUNTRY_INFO!K142=3, AD142/COUNTRY_INFO!F142*100))),\"-\"),0)","v":100},{"$f":"IF(COUNTRY_INFO!K142=2,IF(COUNTRY_INFO!G142*0.2>MAX('T1'!N142,'T2'!L142),MAX('T1'!N142,'T2'!L142),COUNTRY_INFO!G142*0.2),IF(COUNTRY_INFO!K142=3,IF(COUNTRY_INFO!G142>MAX('T1'!N142,'T2'!L142),MAX('T1'!N142,'T2'!L142),COUNTRY_INFO!G142),0))","v":0},{"$f":"IF(AND(COUNTRY_INFO!K142>0,COUNTRY_INFO!K142<4),IF(Z142>0,IF(COUNTRY_INFO!K142=1, 0, IF(COUNTRY_INFO!K142=2, AF142/(COUNTRY_INFO!G142*0.2)*100, IF(COUNTRY_INFO!K142=3, AF142/COUNTRY_INFO!G142*100))),\"-\"),0)","v":0},22361.5,{"$f":"IF(AND(COUNTRY_INFO!K142>0,COUNTRY_INFO!K142<4), IF(AC142/Z142*100<>0, IF(AH142/Z142*100>100,100,AH142/Z142*100), \"-\"),0)","v":54.901927085507211},null,{"$f":"IF(AND(D142<>0, D142<>\"Unknown\",D142<>\"Stopped\",D142<>\"Not required\"),D142/COUNTRY_INFO!D142, 0)","v":0},{"$f":"IF(AND(J142<>0,J142<>\"Unknown\",J142<>\"Stopped\",J142<>\"Not required\"),J142/COUNTRY_INFO!D142, 0)","v":0},{"$f":"IF(AND(P142<>0,P142<>\"Unknown\",P142<>\"Not required\"),P142/(COUNTRY_INFO!E142+COUNTRY_INFO!F142), 0)","v":1},{"$f":"IF(AND(Z142<>0,Z142<>\"Unknown\",Z142<>\"Not required\"),IF(COUNTRY_INFO!K142=1,1,IF(COUNTRY_INFO!K142=2,0.5*COUNTRY_INFO!F142/(0.5*COUNTRY_INFO!F142+0.2*COUNTRY_INFO!G142),IF(COUNTRY_INFO!K142=3,COUNTRY_INFO!F142/(COUNTRY_INFO!F142+COUNTRY_INFO!G142)))),0)","v":0.54901927085507207},{"$f":"IF(AND(Z142<>0,Z142<>\"Unknown\",Z142<>\"Not required\"),IF(COUNTRY_INFO!K142=1,0,IF(COUNTRY_INFO!K142=2,0.2*COUNTRY_INFO!G142/(0.5*COUNTRY_INFO!F142+0.2*COUNTRY_INFO!G142),IF(COUNTRY_INFO!K142=3,COUNTRY_INFO!G142/(COUNTRY_INFO!F142+COUNTRY_INFO!G142)))),0)","v":0.45098072914492793},{"$f":"MAX(COUNTRY_INFO!D142*AK142*PROFILE!$G$7,COUNTRY_INFO!D142*AL142*PROFILE!$G$7)","v":0},{"$f":"MAX(COUNTRY_INFO!D142*AK142*PROFILE!$G$8,COUNTRY_INFO!D142*AL142*PROFILE!$G$8,COUNTRY_INFO!D142*AM142*PROFILE!$G$8)","v":18528.129754071913},{"$f":"MAX(COUNTRY_INFO!D142*AK142*PROFILE!$G$9,COUNTRY_INFO!D142*AL142*PROFILE!$G$9,COUNTRY_INFO!D142*AM142*PROFILE!$G$9,IF(AND(DISTRICT!Z142<>\"Unknown\",Z142<>\"Not required\"),COUNTRY_INFO!O142*DISTRICT!AN142,0))","v":44723.114596008461},{"$f":"MAX(COUNTRY_INFO!D142*AK142*PROFILE!$G$10,COUNTRY_INFO!D142*AL142*PROFILE!$G$10,IF(AND(DISTRICT!Z142<>\"Unknown\",Z142<>\"Not required\"),COUNTRY_INFO!O142*DISTRICT!AO142,0))","v":18368.400000000001},81619.644350080373,"Y",{"$f":"MAX('MDA2'!J142,'T1'!L142,'T2'!J142,T3_R1!K142,T3_R2!K142)","v":0},{"$f":"MAX('MDA1'!K142,'MDA2'!K142,'MDA3'!I142,'MDA3'!L142,'T1'!M142,'T2'!K142,T3_R1!L142,T3_R2!L142)","v":42613},{"$f":"MAX('MDA1'!L142,'MDA2'!L142,'MDA3'!J142,'MDA3'!M142,'T1'!N142,'T2'!L142,T3_R1!M142,T3_R2!M142)","v":0},42613,{"$f":"MAX('MDA2'!J142,T142)","v":0},{"$f":"MAX('MDA1'!K142,'MDA2'!K142,'MDA3'!I142,'MDA3'!L142,V142,AD142)","v":42613},{"$f":"MAX('MDA1'!L142,'MDA2'!L142,'MDA3'!J142,'MDA3'!M142,AF142)","v":0},42613,52.209244893576944]
[{"$f":"IF(COUNTRY_INFO!A143=0,\" \",COUNTRY_INFO!A143)","v":"Mozambique"},{"$f":"IF(COUNTRY_INFO!B143=0,\" \",COUNTRY_INFO!B143)","v":"Gaza"},{"$f":"IF(COUNTRY_INFO!C143=0,\" \",COUNTRY_INFO!C143)","v":"Chibuto"},{"$f":"COUNTRY_INFO!L143","v":0},null,null,{"$f":"MAX('MDA1'!M143,'MDA2'!M143)","v":0},{"$f":"IF(AND(COUNTRY_INFO!H143>0,COUNTRY_INFO!H143<4),IF(D143>MAX('MDA1'!M143,'MDA2'!M143),MAX('MDA1'!M143,'MDA2'!M143),D143),0)","v":0},{"$f":"IF(AND(COUNTRY_INFO!H143>0,COUNTRY_INFO!H143<4), IF(G143/D143*100<>0, IF(G143/D143*100>100,100,G143/D143*100), \"-\"),0)","v":0},{"$f":"COUNTRY_INFO!M143","v":"Not required"},null,null,{"$f":"MAX('MDA1'!M143,MAX('MDA3'!I143,'MDA3'!L143)+MAX('MDA3'!J143,'MDA3'!M143))","v":0},{"$f":"IF(AND(COUNTRY_INFO!I143>0,COUNTRY_INFO!I143<4),IF(J143>MAX('MDA1'!M143,MAX('MDA3'!I143,'MDA3'!L143)+MAX('MDA3'!J143,'MDA3'!M143)),MAX('MDA1'!M143,MAX('MDA3'!I143,'MDA3'!L143)+MAX('MDA3'!J143,'MDA3'!M143)),J143),0)","v":0},{"$f":"IF(AND(COUNTRY_INFO!I143>0,COUNTRY_INFO!I143<4), IF(M143/J143*100<>0, IF(M143/J143*100>100,100,M143/J143*100), \"-\"),0)","v":0},{"$f":"COUNTRY_INFO!N143","v":92839},null,null,{"$f":"SUM(MAX('MDA2'!J143, 'T1'!L143, MAX(T3_R1!K143, T3_R2!K143)), MAX('MDA1'!K143, 'MDA2'!K143, 'T1'!M143, MAX(T3_R1!L143, T3_R2!L143)), MAX('MDA1'!L143, 'MDA2'!L143, 'T1'!N143, MAX(T3_R1!M143, T3_R2!M143)))","v":59262},{"$f":"IF(AND(COUNTRY_INFO!J143>1,COUNTRY_INFO!J143<4),IF(COUNTRY_INFO!E143>MAX('MDA2'!J143,'T1'!L143,MAX(T3_R1!K143,T3_R2!K143)),MAX('MDA2'!J143,'T1'!L143,MAX(T3_R1!K143,T3_R2!K143)),COUNTRY_INFO!E143),0)","v":0},{"$f":"IF(AND(COUNTRY_INFO!J143>1,COUNTRY_INFO!J143<4), IF(T143/COUNTRY_INFO!E143*100<>0, IF(T143/COUNTRY_INFO!E143*100>100,100,T143/COUNTRY_INFO!E143*100), \"-\"),0)","v":"-"},{"$f":"IF(AND(COUNTRY_INFO!J143>1,COUNTRY_INFO!J143<4),IF(COUNTRY_INFO!F143>MAX('MDA1'!K143,'MDA2'!K143,'T1'!M143,MAX(T3_R1!L143,T3_R2!L143)),MAX('MDA1'!K143,'MDA2'!K143,'T1'!M143,MAX(T3_R1!L143,T3_R2!L143)),COUNTRY_INFO!F143),0)","v":59262},{"$f":"IF(AND(COUNTRY_INFO!J143>1,COUNTRY_INFO!J143<4), IF(V143/COUNTRY_INFO!F143*100<>0, IF(V143/COUNTRY_INFO!F143*100>100,100,V143/COUNTRY_INFO!F143*100), \"-\"),0)","v":90.277862409359571},59262,{"$f":"IF(AND(COUNTRY_INFO!J143>1,COUNTRY_INFO!J143<4), IF(S143/P143*100<>0, IF(X143/P143*100>100,100,X143/P143*100), \"-\"),0)","v":63.83308738784347},{"$f":"COUNTRY_INFO!O143","v":59782.8},28363,30899,{"$f":"MAX('T1'!L143,'T2'!J143)+MAX('T1'!M143,'T2'!K143)+MAX('T1'!N143,'T2'!L143)","v":59262},{"$f":"IF(COUNTRY_INFO!K143=1,IF(COUNTRY_INFO!F143*0.33>MAX('T1'!M143,'T2'!K143),MAX('T1'!M143,'T2'!K143),COUNTRY_INFO!F143*0.33),IF(COUNTRY_INFO!K143=2,IF(COUNTRY_INFO!F143*0.5>MAX('T1'!M143,'T2'!K143),MAX('T1'!M143,'T2'!K143),COUNTRY_INFO!F143*0.5),IF(COUNTRY_INFO!K143=3,IF(COUNTRY_INFO!F143>MAX('T1'!M143,'T2'!K143),MAX('T1'!M143,'T2'!K143),COUNTRY_INFO!F143),0)))","v":32822},{"$f":"IF(AND(COUNTRY_INFO!K143>0,COUNTRY_INFO!K143<4),IF(Z143>0,IF(COUNTRY_INFO!K143=1, AD143/(COUNTRY_INFO!F143*0.33)*100, IF(COUNTRY_INFO!K143=2, AD143/(COUNTRY_INFO!F143*0.5)*100, IF(COUNTRY_INFO!K143=3, AD143/COUNTRY_INFO!F143*100))),\"-\"),0)","v":100},{"$f":"IF(COUNTRY_INFO!K143=2,IF(COUNTRY_INFO!G143*0.2>MAX('T1'!N143,'T2'!L143),MAX('T1'!N143,'T2'!L143),COUNTRY_INFO!G143*0.2),IF(COUNTRY_INFO!K143=3,IF(COUNTRY_INFO!G143>MAX('T1'!N143,'T2'!L143),MAX('T1'!N143,'T2'!L143),COUNTRY_INFO!G143),0))","v":0},{"$f":"IF(AND(COUNTRY_INFO!K143>0,COUNTRY_INFO!K143<4),IF(Z143>0,IF(COUNTRY_INFO!K143=1, 0, IF(COUNTRY_INFO!K143=2, AF143/(COUNTRY_INFO!G143*0.2)*100, IF(COUNTRY_INFO!K143=3, AF143/COUNTRY_INFO!G143*100))),\"-\"),0)","v":0},32822,{"$f":"IF(AND(COUNTRY_INFO!K143>0,COUNTRY_INFO!K143<4), IF(AC143/Z143*100<>0, IF(AH143/Z143*100>100,100,AH143/Z143*100), \"-\"),0)","v":54.902078858802192},null,{"$f":"IF(AND(D143<>0, D143<>\"Unknown\",D143<>\"Stopped\",D143<>\"Not required\"),D143/COUNTRY_INFO!D143, 0)","v":0},{"$f":"IF(AND(J143<>0,J143<>\"Unknown\",J143<>\"Stopped\",J143<>\"Not required\"),J143/COUNTRY_INFO!D143, 0)","v":0},{"$f":"IF(AND(P143<>0,P143<>\"Unknown\",P143<>\"Not required\"),P143/(COUNTRY_INFO!E143+COUNTRY_INFO!F143), 0)","v":1},{"$f":"IF(AND(Z143<>0,Z143<>\"Unknown\",Z143<>\"Not required\"),IF(COUNTRY_INFO!K143=1,1,IF(COUNTRY_INFO!K143=2,0.5*COUNTRY_INFO!F143/(0.5*COUNTRY_INFO!F143+0.2*COUNTRY_INFO!G143),IF(COUNTRY_INFO!K143=3,COUNTRY_INFO!F143/(COUNTRY_INFO!F143+COUNTRY_INFO!G143)))),0)","v":0.54902078858802195},{"$f":"IF(AND(Z143<>0,Z143<>\"Unknown\",Z143<>\"Not required\"),IF(COUNTRY_INFO!K143=1,0,IF(COUNTRY_INFO!K143=2,0.2*COUNTRY_INFO!G143/(0.5*COUNTRY_INFO!F143+0.2*COUNTRY_INFO!G143),IF(COUNTRY_INFO!K143=3,COUNTRY_INFO!G143/(COUNTRY_INFO!F143+COUNTRY_INFO!G143)))),0)","v":0.45097921141197805},{"$f":"MAX(COUNTRY_INFO!D143*AK143*PROFILE!$G$7,COUNTRY_INFO!D143*AL143*PROFILE!$G$7)","v":0},{"$f":"MAX(COUNTRY_INFO!D143*AK143*PROFILE!$G$8,COUNTRY_INFO!D143*AL143*PROFILE!$G$8,COUNTRY_INFO!D143*AM143*PROFILE!$G$8)","v":27195.199815712709},{"$f":"MAX(COUNTRY_INFO!D143*AK143*PROFILE!$G$9,COUNTRY_INFO!D143*AL143*PROFILE!$G$9,COUNTRY_INFO!D143*AM143*PROFILE!$G$9,IF(AND(DISTRICT!Z143<>\"Unknown\",Z143<>\"Not required\"),COUNTRY_INFO!O143*DISTRICT!AN143,0))","v":65643.648547537436},{"$f":"MAX(COUNTRY_INFO!D143*AK143*PROFILE!$G$10,COUNTRY_INFO!D143*AL143*PROFILE!$G$10,IF(AND(DISTRICT!Z143<>\"Unknown\",Z143<>\"Not required\"),COUNTRY_INFO!O143*DISTRICT!AO143,0))","v":26960.800000000003},119799.64836325015,"Y",{"$f":"MAX('MDA2'!J143,'T1'!L143,'T2'!J143,T3_R1!K143,T3_R2!K143)","v":0},{"$f":"MAX('MDA1'!K143,'MDA2'!K143,'MDA3'!I143,'MDA3'!L143,'T1'!M143,'T2'!K143,T3_R1!L143,T3_R2!L143)","v":59262},{"$f":"MAX('MDA1'!L143,'MDA2'!L143,'MDA3'!J143,'MDA3'!M143,'T1'!N143,'T2'!L143,T3_R1!M143,T3_R2!M143)","v":0},59262,{"$f":"MAX('MDA2'!J143,T143)","v":0},{"$f":"MAX('MDA1'!K143,'MDA2'!K143,'MDA3'!I143,'MDA3'!L143,V143,AD143)","v":59262},{"$f":"MAX('MDA1'!L143,'MDA2'!L143,'MDA3'!J143,'MDA3'!M143,AF143)","v":0},59262,49.467590940090993]
[{"$f":"IF(COUNTRY_INFO!A144=0,\" \",COUNTRY_INFO!A144)","v":"Mozambique"},{"$f":"IF(COUNTRY_INFO!B144=0,\" \",COUNTRY_INFO!B144)","v":"Gaza"},{"$f":"IF(COUNTRY_INFO!C144=0,\" \",COUNTRY_INFO!C144)","v":"Chicualacuala"},{"$f":"COUNTRY_INFO!L144","v":29128.572116611158},null,null,{"$f":"MAX('MDA1'!M144,'MDA2'!M144)","v":22031},{"$f":"IF(AND(COUNTRY_INFO!H144>0,COUNTRY_INFO!H144<4),IF(D144>MAX('MDA1'!M144,'MDA2'!M144),MAX('MDA1'!M144,'MDA2'!M144),D144),0)","v":22031},{"$f":"IF(AND(COUNTRY_INFO!H144>0,COUNTRY_INFO!H144<4), IF(G144/D144*100<>0, IF(G144/D144*100>100,100,G144/D144*100), \"-\"),0)","v":75.633642156583349},{"$f":"COUNTRY_INFO!M144","v":"Not required"},null,null,{"$f":"MAX('MDA1'!M144,MAX('MDA3'!I144,'MDA3'!L144)+MAX('MDA3'!J144,'MDA3'!M144))","v":22031},{"$f":"IF(AND(COUNTRY_INFO!I144>0,COUNTRY_INFO!I144<4),IF(J144>MAX('MDA1'!M144,MAX('MDA3'!I144,'MDA3'!L144)+MAX('MDA3'!J144,'MDA3'!M144)),MAX('MDA1'!M144,MAX('MDA3'!I144,'MDA3'!L144)+MAX('MDA3'!J144,'MDA3'!M144)),J144),0)","v":0},{"$f":"IF(AND(COUNTRY_INFO!I144>0,COUNTRY_INFO!I144<4), IF(M144/J144*100<>0, IF(M144/J144*100>100,100,M144/J144*100), \"-\"),0)","v":0},{"$f":"COUNTRY_INFO!N144","v":11535},null,null,{"$f":"SUM(MAX('MDA2'!J144, 'T1'!L144, MAX(T3_R1!K144, T3_R2!K144)), MAX('MDA1'!K144, 'MDA2'!K144, 'T1'!M144, MAX(T3_R1!L144, T3_R2!L144)), MAX('MDA1'!L144, 'MDA2'!L144, 'T1'!N144, MAX(T3_R1!M144, T3_R2!M144)))","v":22031},{"$f":"IF(AND(COUNTRY_INFO!J144>1,COUNTRY_INFO!J144<4),IF(COUNTRY_INFO!E144>MAX('MDA2'!J144,'T1'!L144,MAX(T3_R1!K144,T3_R2!K144)),MAX('MDA2'!J144,'T1'!L144,MAX(T3_R1!K144,T3_R2!K144)),COUNTRY_INFO!E144),0)","v":0},{"$f":"IF(AND(COUNTRY_INFO!J144>1,COUNTRY_INFO!J144<4), IF(T144/COUNTRY_INFO!E144*100<>0, IF(T144/COUNTRY_INFO!E144*100>100,100,T144/COUNTRY_INFO!E144*100), \"-\"),0)","v":"-"},{"$f":"IF(AND(COUNTRY_INFO!J144>1,COUNTRY_INFO!J144<4),IF(COUNTRY_INFO!F144>MAX('MDA1'!K144,'MDA2'!K144,'T1'!M144,MAX(T3_R1!L144,T3_R2!L144)),MAX('MDA1'!K144,'MDA2'!K144,'T1'!M144,MAX(T3_R1!L144,T3_R2!L144)),COUNTRY_INFO!F144),0)","v":7919},{"$f":"IF(AND(COUNTRY_INFO!J144>1,COUNTRY_INFO!J144<4), IF(V144/COUNTRY_INFO!F144*100<>0, IF(V144/COUNTRY_INFO!F144*100>100,100,V144/COUNTRY_INFO!F144*100), \"-\"),0)","v":97.094163805787147},7919,{"$f":"IF(AND(COUNTRY_INFO!J144>1,COUNTRY_INFO!J144<4), IF(S144/P144*100<>0, IF(X144/P144*100>100,100,X144/P144*100), \"-\"),0)","v":68.651928912006937},{"$f":"COUNTRY_INFO!O144","v":7427.8},3665,4271,{"$f":"MAX('T1'!L144,'T2'!J144)+MAX('T1'!M144,'T2'!K144)+MAX('T1'!N144,'T2'!L144)","v":7936},{"$f":"IF(COUNTRY_INFO!K144=1,IF(COUNTRY_INFO!F144*0.33>MAX('T1'!M144,'T2'!K144),MAX('T1'!M144,'T2'!K144),COUNTRY_INFO!F144*0.33),IF(COUNTRY_INFO!K144=2,IF(COUNTRY_INFO!F144*0.5>MAX('T1'!M144,'T2'!K144),MAX('T1'!M144,'T2'!K144),COUNTRY_INFO!F144*0.5),IF(COUNTRY_INFO!K144=3,IF(COUNTRY_INFO!F144>MAX('T1'!M144,'T2'!K144),MAX('T1'!M144,'T2'!K144),COUNTRY_INFO!F144),0)))","v":4078},{"$f":"IF(AND(COUNTRY_INFO!K144>0,COUNTRY_INFO!K144<4),IF(Z144>0,IF(COUNTRY_INFO!K144=1, AD144/(COUNTRY_INFO!F144*0.33)*100, IF(COUNTRY_INFO!K144=2, AD144/(COUNTRY_INFO!F144*0.5)*100, IF(COUNTRY_INFO!K144=3, AD144/COUNTRY_INFO!F144*100))),\"-\"),0)","v":100},{"$f":"IF(COUNTRY_INFO!K144=2,IF(COUNTRY_INFO!G144*0.2>MAX('T1'!N144,'T2'!L144),MAX('T1'!N144,'T2'!L144),COUNTRY_INFO!G144*0.2),IF(COUNTRY_INFO!K144=3,IF(COUNTRY_INFO!G144>MAX('T1'!N144,'T2'!L144),MAX('T1'!N144,'T2'!L144),COUNTRY_INFO!G144),0))","v":0},{"$f":"IF(AND(COUNTRY_INFO!K144>0,COUNTRY_INFO!K144<4),IF(Z144>0,IF(COUNTRY_INFO!K144=1, 0, IF(COUNTRY_INFO!K144=2, AF144/(COUNTRY_INFO!G144*0.2)*100, IF(COUNTRY_INFO!K144=3, AF144/COUNTRY_INFO!G144*100))),\"-\"),0)","v":0},4078,{"$f":"IF(AND(COUNTRY_INFO!K144>0,COUNTRY_INFO!K144<4), IF(AC144/Z144*100<>0, IF(AH144/Z144*100>100,100,AH144/Z144*100), \"-\"),0)","v":54.901855192654622},null,{"$f":"IF(AND(D144<>0, D144<>\"Unknown\",D144<>\"Stopped\",D144<>\"Not required\"),D144/COUNTRY_INFO!D144, 0)","v":1},{"$f":"IF(AND(J144<>0,J144<>\"Unknown\",J144<>\"Stopped\",J144<>\"Not required\"),J144/COUNTRY_INFO!D144, 0)","v":0},{"$f":"IF(AND(P144<>0,P144<>\"Unknown\",P144<>\"Not required\"),P144/(COUNTRY_INFO!E144+COUNTRY_INFO!F144), 0)","v":1},{"$f":"IF(AND(Z144<>0,Z144<>\"Unknown\",Z144<>\"Not required\"),IF(COUNTRY_INFO!K144=1,1,IF(COUNTRY_INFO!K144=2,0.5*COUNTRY_INFO!F144/(0.5*COUNTRY_INFO!F144+0.2*COUNTRY_INFO!G144),IF(COUNTRY_INFO!K144=3,COUNTRY_INFO!F144/(COUNTRY_INFO!F144+COUNTRY_INFO!G144)))),0)","v":0.54901855192654625},{"$f":"IF(AND(Z144<>0,Z144<>\"Unknown\",Z144<>\"Not required\"),IF(COUNTRY_INFO!K144=1,0,IF(COUNTRY_INFO!K144=2,0.2*COUNTRY_INFO!G144/(0.5*COUNTRY_INFO!F144+0.2*COUNTRY_INFO!G144),IF(COUNTRY_INFO!K144=3,COUNTRY_INFO!G144/(COUNTRY_INFO!F144+COUNTRY_INFO!G144)))),0)","v":0.45098144807345381},{"$f":"MAX(COUNTRY_INFO!D144*AK144*PROFILE!$G$7,COUNTRY_INFO!D144*AL144*PROFILE!$G$7)","v":844.73628328898963},{"$f":"MAX(COUNTRY_INFO!D144*AK144*PROFILE!$G$8,COUNTRY_INFO!D144*AL144*PROFILE!$G$8,COUNTRY_INFO!D144*AM144*PROFILE!$G$8)","v":3378.909431352195},{"$f":"MAX(COUNTRY_INFO!D144*AK144*PROFILE!$G$9,COUNTRY_INFO!D144*AL144*PROFILE!$G$9,COUNTRY_INFO!D144*AM144*PROFILE!$G$9,IF(AND(DISTRICT!Z144<>\"Unknown\",Z144<>\"Not required\"),COUNTRY_INFO!O144*DISTRICT!AN144,0))","v":8155.9960834518397},{"$f":"MAX(COUNTRY_INFO!D144*AK144*PROFILE!$G$10,COUNTRY_INFO!D144*AL144*PROFILE!$G$10,IF(AND(DISTRICT!Z144<>\"Unknown\",Z144<>\"Not required\"),COUNTRY_INFO!O144*DISTRICT!AO144,0))","v":16748.930318518134},29128.572116611158,"Y",{"$f":"MAX('MDA2'!J144,'T1'!L144,'T2'!J144,T3_R1!K144,T3_R2!K144)","v":0},{"$f":"MAX('MDA1'!K144,'MDA2'!K144,'MDA3'!I144,'MDA3'!L144,'T1'!M144,'T2'!K144,T3_R1!L144,T3_R2!L144)","v":7936},{"$f":"MAX('MDA1'!L144,'MDA2'!L144,'MDA3'!J144,'MDA3'!M144,'T1'!N144,'T2'!L144,T3_R1!M144,T3_R2!M144)","v":14112},22048,{"$f":"MAX('MDA2'!J144,T144)","v":0},{"$f":"MAX('MDA1'!K144,'MDA2'!K144,'MDA3'!I144,'MDA3'!L144,V144,AD144)","v":7919},{"$f":"MAX('MDA1'!L144,'MDA2'!L144,'MDA3'!J144,'MDA3'!M144,AF144)","v":14112},22031,75.633642156583349]
[{"$f":"IF(COUNTRY_INFO!A145=0,\" \",COUNTRY_INFO!A145)","v":"Mozambique"},{"$f":"IF(COUNTRY_INFO!B145=0,\" \",COUNTRY_INFO!B145)","v":"Gaza"},{"$f":"IF(COUNTRY_INFO!C145=0,\" \",COUNTRY_INFO!C145)","v":"Chigubo"},{"$f":"COUNTRY_INFO!L145","v":0},null,null,{"$f":"MAX('MDA1'!M145,'MDA2'!M145)","v":0},{"$f":"IF(AND(COUNTRY_INFO!H145>0,COUNTRY_INFO!H145<4),IF(D145>MAX('MDA1'!M145,'MDA2'!M145),MAX('MDA1'!M145,'MDA2'!M145),D145),0)","v":0},{"$f":"IF(AND(COUNTRY_INFO!H145>0,COUNTRY_INFO!H145<4), IF(G145/D145*100<>0, IF(G145/D145*100>100,100,G145/D145*100), \"-\"),0)","v":0},{"$f":"COUNTRY_INFO!M145","v":"Not required"},null,null,{"$f":"MAX('MDA1'!M145,MAX('MDA3'!I145,'MDA3'!L145)+MAX('MDA3'!J145,'MDA3'!M145))","v":0},{"$f":"IF(AND(COUNTRY_INFO!I145>0,COUNTRY_INFO!I145<4),IF(J145>MAX('MDA1'!M145,MAX('MDA3'!I145,'MDA3'!L145)+MAX('MDA3'!J145,'MDA3'!M145)),MAX('MDA1'!M145,MAX('MDA3'!I145,'MDA3'!L145)+MAX('MDA3'!J145,'MDA3'!M145)),J145),0)","v":0},{"$f":"IF(AND(COUNTRY_INFO!I145>0,COUNTRY_INFO!I145<4), IF(M145/J145*100<>0, IF(M145/J145*100>100,100,M145/J145*100), \"-\"),0)","v":0},{"$f":"COUNTRY_INFO!N145","v":9767},null,null,{"$f":"SUM(MAX('MDA2'!J145, 'T1'!L145, MAX(T3_R1!K145, T3_R2!K145)), MAX('MDA1'!K145, 'MDA2'!K145, 'T1'!M145, MAX(T3_R1!L145, T3_R2!L145)), MAX('MDA1'!L145, 'MDA2'!L145, 'T1'!N145, MAX(T3_R1!M145, T3_R2!M145)))","v":6264},{"$f":"IF(AND(COUNTRY_INFO!J145>1,COUNTRY_INFO!J145<4),IF(COUNTRY_INFO!E145>MAX('MDA2'!J145,'T1'!L145,MAX(T3_R1!K145,T3_R2!K145)),MAX('MDA2'!J145,'T1'!L145,MAX(T3_R1!K145,T3_R2!K145)),COUNTRY_INFO!E145),0)","v":0},{"$f":"IF(AND(COUNTRY_INFO!J145>1,COUNTRY_INFO!J145<4), IF(T145/COUNTRY_INFO!E145*100<>0, IF(T145/COUNTRY_INFO!E145*100>100,100,T145/COUNTRY_INFO!E145*100), \"-\"),0)","v":"-"},{"$f":"IF(AND(COUNTRY_INFO!J145>1,COUNTRY_INFO!J145<4),IF(COUNTRY_INFO!F145>MAX('MDA1'!K145,'MDA2'!K145,'T1'!M145,MAX(T3_R1!L145,T3_R2!L145)),MAX('MDA1'!K145,'MDA2'!K145,'T1'!M145,MAX(T3_R1!L145,T3_R2!L145)),COUNTRY_INFO!F145),0)","v":6264},{"$f":"IF(AND(COUNTRY_INFO!J145>1,COUNTRY_INFO!J145<4), IF(V145/COUNTRY_INFO!F145*100<>0, IF(V145/COUNTRY_INFO!F145*100>100,100,V145/COUNTRY_INFO!F145*100), \"-\"),0)","v":90.70373588184188},6264,{"$f":"IF(AND(COUNTRY_INFO!J145>1,COUNTRY_INFO!J145<4), IF(S145/P145*100<>0, IF(X145/P145*100>100,100,X145/P145*100), \"-\"),0)","v":64.134329886352006},{"$f":"COUNTRY_INFO!O145","v":6289.2000000000007},2974,3290,{"$f":"MAX('T1'!L145,'T2'!J145)+MAX('T1'!M145,'T2'!K145)+MAX('T1'!N145,'T2'!L145)","v":6264},{"$f":"IF(COUNTRY_INFO!K145=1,IF(COUNTRY_INFO!F145*0.33>MAX('T1'!M145,'T2'!K145),MAX('T1'!M145,'T2'!K145),COUNTRY_INFO!F145*0.33),IF(COUNTRY_INFO!K145=2,IF(COUNTRY_INFO!F145*0.5>MAX('T1'!M145,'T2'!K145),MAX('T1'!M145,'T2'!K145),COUNTRY_INFO!F145*0.5),IF(COUNTRY_INFO!K145=3,IF(COUNTRY_INFO!F145>MAX('T1'!M145,'T2'!K145),MAX('T1'!M145,'T2'!K145),COUNTRY_INFO!F145),0)))","v":3453},{"$f":"IF(AND(COUNTRY_INFO!K145>0,COUNTRY_INFO!K145<4),IF(Z145>0,IF(COUNTRY_INFO!K145=1, AD145/(COUNTRY_INFO!F145*0.33)*100, IF(COUNTRY_INFO!K145=2, AD145/(COUNTRY_INFO!F145*0.5)*100, IF(COUNTRY_INFO!K145=3, AD145/COUNTRY_INFO!F145*100))),\"-\"),0)","v":100},{"$f":"IF(COUNTRY_INFO!K145=2,IF(COUNTRY_INFO!G145*0.2>MAX('T1'!N145,'T2'!L145),MAX('T1'!N145,'T2'!L145),COUNTRY_INFO!G145*0.2),IF(COUNTRY_INFO!K145=3,IF(COUNTRY_INFO!G145>MAX('T1'!N145,'T2'!L145),MAX('T1'!N145,'T2'!L145),COUNTRY_INFO!G145),0))","v":0},{"$f":"IF(AND(COUNTRY_INFO!K145>0,COUNTRY_INFO!K145<4),IF(Z145>0,IF(COUNTRY_INFO!K145=1, 0, IF(COUNTRY_INFO!K145=2, AF145/(COUNTRY_INFO!G145*0.2)*100, IF(COUNTRY_INFO!K145=3, AF145/COUNTRY_INFO!G145*100))),\"-\"),0)","v":0},3453,{"$f":"IF(AND(COUNTRY_INFO!K145>0,COUNTRY_INFO!K145<4), IF(AC145/Z145*100<>0, IF(AH145/Z145*100>100,100,AH145/Z145*100), \"-\"),0)","v":54.903644342682689},null,{"$f":"IF(AND(D145<>0, D145<>\"Unknown\",D145<>\"Stopped\",D145<>\"Not required\"),D145/COUNTRY_INFO!D145, 0)","v":0},{"$f":"IF(AND(J145<>0,J145<>\"Unknown\",J145<>\"Stopped\",J145<>\"Not required\"),J145/COUNTRY_INFO!D145, 0)","v":0},{"$f":"IF(AND(P145<>0,P145<>\"Unknown\",P145<>\"Not required\"),P145/(COUNTRY_INFO!E145+COUNTRY_INFO!F145), 0)","v":1},{"$f":"IF(AND(Z145<>0,Z145<>\"Unknown\",Z145<>\"Not required\"),IF(COUNTRY_INFO!K145=1,1,IF(COUNTRY_INFO!K145=2,0.5*COUNTRY_INFO!F145/(0.5*COUNTRY_INFO!F145+0.2*COUNTRY_INFO!G145),IF(COUNTRY_INFO!K145=3,COUNTRY_INFO!F145/(COUNTRY_INFO!F145+COUNTRY_INFO!G145)))),0)","v":0.54903644342682689},{"$f":"IF(AND(Z145<>0,Z145<>\"Unknown\",Z145<>\"Not required\"),IF(COUNTRY_INFO!K145=1,0,IF(COUNTRY_INFO!K145=2,0.2*COUNTRY_INFO!G145/(0.5*COUNTRY_INFO!F145+0.2*COUNTRY_INFO!G145),IF(COUNTRY_INFO!K145=3,COUNTRY_INFO!G145/(COUNTRY_INFO!F145+COUNTRY_INFO!G145)))),0)","v":0.45096355657317305},{"$f":"MAX(COUNTRY_INFO!D145*AK145*PROFILE!$G$7,COUNTRY_INFO!D145*AL145*PROFILE!$G$7)","v":0},{"$f":"MAX(COUNTRY_INFO!D145*AK145*PROFILE!$G$8,COUNTRY_INFO!D145*AL145*PROFILE!$G$8,COUNTRY_INFO!D145*AM145*PROFILE!$G$8)","v":2860.9232062443352},{"$f":"MAX(COUNTRY_INFO!D145*AK145*PROFILE!$G$9,COUNTRY_INFO!D145*AL145*PROFILE!$G$9,COUNTRY_INFO!D145*AM145*PROFILE!$G$9,IF(AND(DISTRICT!Z145<>\"Unknown\",Z145<>\"Not required\"),COUNTRY_INFO!O145*DISTRICT!AN145,0))","v":6905.6833097321132},{"$f":"MAX(COUNTRY_INFO!D145*AK145*PROFILE!$G$10,COUNTRY_INFO!D145*AL145*PROFILE!$G$10,IF(AND(DISTRICT!Z145<>\"Unknown\",Z145<>\"Not required\"),COUNTRY_INFO!O145*DISTRICT!AO145,0))","v":2836.2000000000003},12602.806515976448,"Y",{"$f":"MAX('MDA2'!J145,'T1'!L145,'T2'!J145,T3_R1!K145,T3_R2!K145)","v":0},{"$f":"MAX('MDA1'!K145,'MDA2'!K145,'MDA3'!I145,'MDA3'!L145,'T1'!M145,'T2'!K145,T3_R1!L145,T3_R2!L145)","v":6264},{"$f":"MAX('MDA1'!L145,'MDA2'!L145,'MDA3'!J145,'MDA3'!M145,'T1'!N145,'T2'!L145,T3_R1!M145,T3_R2!M145)","v":0},6264,{"$f":"MAX('MDA2'!J145,T145)","v":0},{"$f":"MAX('MDA1'!K145,'MDA2'!K145,'MDA3'!I145,'MDA3'!L145,V145,AD145)","v":6264},{"$f":"MAX('MDA1'!L145,'MDA2'!L145,'MDA3'!J145,'MDA3'!M145,AF145)","v":0},6264,49.70321485186011]
[{"$f":"IF(COUNTRY_INFO!A146=0,\" \",COUNTRY_INFO!A146)","v":"Mozambique"},{"$f":"IF(COUNTRY_INFO!B146=0,\" \",COUNTRY_INFO!B146)","v":"Gaza"},{"$f":"IF(COUNTRY_INFO!C146=0,\" \",COUNTRY_INFO!C146)","v":"Chokwé"},{"$f":"COUNTRY_INFO!L146","v":0},null,null,{"$f":"MAX('MDA1'!M146,'MDA2'!M146)","v":0},{"$f":"IF(AND(COUNTRY_INFO!H146>0,COUNTRY_INFO!H146<4),IF(D146>MAX('MDA1'!M146,'MDA2'!M146),MAX('MDA1'!M146,'MDA2'!M146),D146),0)","v":0},{"$f":"IF(AND(COUNTRY_INFO!H146>0,COUNTRY_INFO!H146<4), IF(G146/D146*100<>0, IF(G146/D146*100>100,100,G146/D146*100), \"-\"),0)","v":0},{"$f":"COUNTRY_INFO!M146","v":"Not required"},null,null,{"$f":"MAX('MDA1'!M146,MAX('MDA3'!I146,'MDA3'!L146)+MAX('MDA3'!J146,'MDA3'!M146))","v":0},{"$f":"IF(AND(COUNTRY_INFO!I146>0,COUNTRY_INFO!I146<4),IF(J146>MAX('MDA1'!M146,MAX('MDA3'!I146,'MDA3'!L146)+MAX('MDA3'!J146,'MDA3'!M146)),MAX('MDA1'!M146,MAX('MDA3'!I146,'MDA3'!L146)+MAX('MDA3'!J146,'MDA3'!M146)),J146),0)","v":0},{"$f":"IF(AND(COUNTRY_INFO!I146>0,COUNTRY_INFO!I146<4), IF(M146/J146*100<>0, IF(M146/J146*100>100,100,M146/J146*100), \"-\"),0)","v":0},{"$f":"COUNTRY_INFO!N146","v":100932},null,null,{"$f":"SUM(MAX('MDA2'!J146, 'T1'!L146, MAX(T3_R1!K146, T3_R2!K146)), MAX('MDA1'!K146, 'MDA2'!K146, 'T1'!M146, MAX(T3_R1!L146, T3_R2!L146)), MAX('MDA1'!L146, 'MDA2'!L146, 'T1'!N146, MAX(T3_R1!M146, T3_R2!M146)))","v":57027},{"$f":"IF(AND(COUNTRY_INFO!J146>1,COUNTRY_INFO!J146<4),IF(COUNTRY_INFO!E146>MAX('MDA2'!J146,'T1'!L146,MAX(T3_R1!K146,T3_R2!K146)),MAX('MDA2'!J146,'T1'!L146,MAX(T3_R1!K146,T3_R2!K146)),COUNTRY_INFO!E146),0)","v":0},{"$f":"IF(AND(COUNTRY_INFO!J146>1,COUNTRY_INFO!J146<4), IF(T146/COUNTRY_INFO!E146*100<>0, IF(T146/COUNTRY_INFO!E146*100>100,100,T146/COUNTRY_INFO!E146*100), \"-\"),0)","v":"-"},{"$f":"IF(AND(COUNTRY_INFO!J146>1,COUNTRY_INFO!J146<4),IF(COUNTRY_INFO!F146>MAX('MDA1'!K146,'MDA2'!K146,'T1'!M146,MAX(T3_R1!L146,T3_R2!L146)),MAX('MDA1'!K146,'MDA2'!K146,'T1'!M146,MAX(T3_R1!L146,T3_R2!L146)),COUNTRY_INFO!F146),0)","v":57027},{"$f":"IF(AND(COUNTRY_INFO!J146>1,COUNTRY_INFO!J146<4), IF(V146/COUNTRY_INFO!F146*100<>0, IF(V146/COUNTRY_INFO!F146*100>100,100,V146/COUNTRY_INFO!F146*100), \"-\"),0)","v":79.907799232127346},57027,{"$f":"IF(AND(COUNTRY_INFO!J146>1,COUNTRY_INFO!J146<4), IF(S146/P146*100<>0, IF(X146/P146*100>100,100,X146/P146*100), \"-\"),0)","v":56.500416121745332},{"$f":"COUNTRY_INFO!O146","v":64994.2},26697,30330,{"$f":"MAX('T1'!L146,'T2'!J146)+MAX('T1'!M146,'T2'!K146)+MAX('T1'!N146,'T2'!L146)","v":57027},{"$f":"IF(COUNTRY_INFO!K146=1,IF(COUNTRY_INFO!F146*0.33>MAX('T1'!M146,'T2'!K146),MAX('T1'!M146,'T2'!K146),COUNTRY_INFO!F146*0.33),IF(COUNTRY_INFO!K146=2,IF(COUNTRY_INFO!F146*0.5>MAX('T1'!M146,'T2'!K146),MAX('T1'!M146,'T2'!K146),COUNTRY_INFO!F146*0.5),IF(COUNTRY_INFO!K146=3,IF(COUNTRY_INFO!F146>MAX('T1'!M146,'T2'!K146),MAX('T1'!M146,'T2'!K146),COUNTRY_INFO!F146),0)))","v":35683},{"$f":"IF(AND(COUNTRY_INFO!K146>0,COUNTRY_INFO!K146<4),IF(Z146>0,IF(COUNTRY_INFO!K146=1, AD146/(COUNTRY_INFO!F146*0.33)*100, IF(COUNTRY_INFO!K146=2, AD146/(COUNTRY_INFO!F146*0.5)*100, IF(COUNTRY_INFO!K146=3, AD146/COUNTRY_INFO!F146*100))),\"-\"),0)","v":100},{"$f":"IF(COUNTRY_INFO!K146=2,IF(COUNTRY_INFO!G146*0.2>MAX('T1'!N146,'T2'!L146),MAX('T1'!N146,'T2'!L146),COUNTRY_INFO!G146*0.2),IF(COUNTRY_INFO!K146=3,IF(COUNTRY_INFO!G146>MAX('T1'!N146,'T2'!L146),MAX('T1'!N146,'T2'!L146),COUNTRY_INFO!G146),0))","v":0},{"$f":"IF(AND(COUNTRY_INFO!K146>0,COUNTRY_INFO!K146<4),IF(Z146>0,IF(COUNTRY_INFO!K146=1, 0, IF(COUNTRY_INFO!K146=2, AF146/(COUNTRY_INFO!G146*0.2)*100, IF(COUNTRY_INFO!K146=3, AF146/COUNTRY_INFO!G146*100))),\"-\"),0)","v":0},35683,{"$f":"IF(AND(COUNTRY_INFO!K146>0,COUNTRY_INFO!K146<4), IF(AC146/Z146*100<>0, IF(AH146/Z146*100>100,100,AH146/Z146*100), \"-\"),0)","v":54.901822008733092},null,{"$f":"IF(AND(D146<>0, D146<>\"Unknown\",D146<>\"Stopped\",D146<>\"Not required\"),D146/COUNTRY_INFO!D146, 0)","v":0},{"$f":"IF(AND(J146<>0,J146<>\"Unknown\",J146<>\"Stopped\",J146<>\"Not required\"),J146/COUNTRY_INFO!D146, 0)","v":0},{"$f":"IF(AND(P146<>0,P146<>\"Unknown\",P146<>\"Not required\"),P146/(COUNTRY_INFO!E146+COUNTRY_INFO!F146), 0)","v":1},{"$f":"IF(AND(Z146<>0,Z146<>\"Unknown\",Z146<>\"Not required\"),IF(COUNTRY_INFO!K146=1,1,IF(COUNTRY_INFO!K146=2,0.5*COUNTRY_INFO!F146/(0.5*COUNTRY_INFO!F146+0.2*COUNTRY_INFO!G146),IF(COUNTRY_INFO!K146=3,COUNTRY_INFO!F146/(COUNTRY_INFO!F146+COUNTRY_INFO!G146)))),0)","v":0.54901822008733092},{"$f":"IF(AND(Z146<>0,Z146<>\"Unknown\",Z146<>\"Not required\"),IF(COUNTRY_INFO!K146=1,0,IF(COUNTRY_INFO!K146=2,0.2*COUNTRY_INFO!G146/(0.5*COUNTRY_INFO!F146+0.2*COUNTRY_INFO!G146),IF(COUNTRY_INFO!K146=3,COUNTRY_INFO!G146/(COUNTRY_INFO!F146+COUNTRY_INFO!G146)))),0)","v":0.45098177991266919},{"$f":"MAX(COUNTRY_INFO!D146*AK146*PROFILE!$G$7,COUNTRY_INFO!D146*AL146*PROFILE!$G$7)","v":0},{"$f":"MAX(COUNTRY_INFO!D146*AK146*PROFILE!$G$8,COUNTRY_INFO!D146*AL146*PROFILE!$G$8,COUNTRY_INFO!D146*AM146*PROFILE!$G$8)","v":29565.949789691753},{"$f":"MAX(COUNTRY_INFO!D146*AK146*PROFILE!$G$9,COUNTRY_INFO!D146*AL146*PROFILE!$G$9,COUNTRY_INFO!D146*AM146*PROFILE!$G$9,IF(AND(DISTRICT!Z146<>\"Unknown\",Z146<>\"Not required\"),COUNTRY_INFO!O146*DISTRICT!AN146,0))","v":71366.153958071242},{"$f":"MAX(COUNTRY_INFO!D146*AK146*PROFILE!$G$10,COUNTRY_INFO!D146*AL146*PROFILE!$G$10,IF(AND(DISTRICT!Z146<>\"Unknown\",Z146<>\"Not required\"),COUNTRY_INFO!O146*DISTRICT!AO146,0))","v":29311.200000000001},130243.303747763,"Y",{"$f":"MAX('MDA2'!J146,'T1'!L146,'T2'!J146,T3_R1!K146,T3_R2!K146)","v":0},{"$f":"MAX('MDA1'!K146,'MDA2'!K146,'MDA3'!I146,'MDA3'!L146,'T1'!M146,'T2'!K146,T3_R1!L146,T3_R2!L146)","v":57027},{"$f":"MAX('MDA1'!L146,'MDA2'!L146,'MDA3'!J146,'MDA3'!M146,'T1'!N146,'T2'!L146,T3_R1!M146,T3_R2!M146)","v":0},57027,{"$f":"MAX('MDA2'!J146,T146)","v":0},{"$f":"MAX('MDA1'!K146,'MDA2'!K146,'MDA3'!I146,'MDA3'!L146,V146,AD146)","v":57027},{"$f":"MAX('MDA1'!L146,'MDA2'!L146,'MDA3'!J146,'MDA3'!M146,AF146)","v":0},57027,43.784976547003069]
[{"$f":"IF(COUNTRY_INFO!A147=0,\" \",COUNTRY_INFO!A147)","v":"Mozambique"},{"$f":"IF(COUNTRY_INFO!B147=0,\" \",COUNTRY_INFO!B147)","v":"Gaza"},{"$f":"IF(COUNTRY_INFO!C147=0,\" \",COUNTRY_INFO!C147)","v":"Chongoene"},{"$f":"COUNTRY_INFO!L147","v":0},null,null,{"$f":"MAX('MDA1'!M147,'MDA2'!M147)","v":0},{"$f":"IF(AND(COUNTRY_INFO!H147>0,COUNTRY_INFO!H147<4),IF(D147>MAX('MDA1'!M147,'MDA2'!M147),MAX('MDA1'!M147,'MDA2'!M147),D147),0)","v":0},{"$f":"IF(AND(COUNTRY_INFO!H147>0,COUNTRY_INFO!H147<4), IF(G147/D147*100<>0, IF(G147/D147*100>100,100,G147/D147*100), \"-\"),0)","v":0},{"$f":"COUNTRY_INFO!M147","v":"Not required"},null,null,{"$f":"MAX('MDA1'!M147,MAX('MDA3'!I147,'MDA3'!L147)+MAX('MDA3'!J147,'MDA3'!M147))","v":0},{"$f":"IF(AND(COUNTRY_INFO!I147>0,COUNTRY_INFO!I147<4),IF(J147>MAX('MDA1'!M147,MAX('MDA3'!I147,'MDA3'!L147)+MAX('MDA3'!J147,'MDA3'!M147)),MAX('MDA1'!M147,MAX('MDA3'!I147,'MDA3'!L147)+MAX('MDA3'!J147,'MDA3'!M147)),J147),0)","v":0},{"$f":"IF(AND(COUNTRY_INFO!I147>0,COUNTRY_INFO!I147<4), IF(M147/J147*100<>0, IF(M147/J147*100>100,100,M147/J147*100), \"-\"),0)","v":0},{"$f":"COUNTRY_INFO!N147","v":51043},null,null,{"$f":"SUM(MAX('MDA2'!J147, 'T1'!L147, MAX(T3_R1!K147, T3_R2!K147)), MAX('MDA1'!K147, 'MDA2'!K147, 'T1'!M147, MAX(T3_R1!L147, T3_R2!L147)), MAX('MDA1'!L147, 'MDA2'!L147, 'T1'!N147, MAX(T3_R1!M147, T3_R2!M147)))","v":33961},{"$f":"IF(AND(COUNTRY_INFO!J147>1,COUNTRY_INFO!J147<4),IF(COUNTRY_INFO!E147>MAX('MDA2'!J147,'T1'!L147,MAX(T3_R1!K147,T3_R2!K147)),MAX('MDA2'!J147,'T1'!L147,MAX(T3_R1!K147,T3_R2!K147)),COUNTRY_INFO!E147),0)","v":0},{"$f":"IF(AND(COUNTRY_INFO!J147>1,COUNTRY_INFO!J147<4), IF(T147/COUNTRY_INFO!E147*100<>0, IF(T147/COUNTRY_INFO!E147*100>100,100,T147/COUNTRY_INFO!E147*100), \"-\"),0)","v":"-"},{"$f":"IF(AND(COUNTRY_INFO!J147>1,COUNTRY_INFO!J147<4),IF(COUNTRY_INFO!F147>MAX('MDA1'!K147,'MDA2'!K147,'T1'!M147,MAX(T3_R1!L147,T3_R2!L147)),MAX('MDA1'!K147,'MDA2'!K147,'T1'!M147,MAX(T3_R1!L147,T3_R2!L147)),COUNTRY_INFO!F147),0)","v":33961},{"$f":"IF(AND(COUNTRY_INFO!J147>1,COUNTRY_INFO!J147<4), IF(V147/COUNTRY_INFO!F147*100<>0, IF(V147/COUNTRY_INFO!F147*100>100,100,V147/COUNTRY_INFO!F147*100), \"-\"),0)","v":94.098251641683518},33961,{"$f":"IF(AND(COUNTRY_INFO!J147>1,COUNTRY_INFO!J147<4), IF(S147/P147*100<>0, IF(X147/P147*100>100,100,X147/P147*100), \"-\"),0)","v":66.534098701095161},{"$f":"COUNTRY_INFO!O147","v":11910.03},16490,17471,{"$f":"MAX('T1'!L147,'T2'!J147)+MAX('T1'!M147,'T2'!K147)+MAX('T1'!N147,'T2'!L147)","v":33961},{"$f":"IF(COUNTRY_INFO!K147=1,IF(COUNTRY_INFO!F147*0.33>MAX('T1'!M147,'T2'!K147),MAX('T1'!M147,'T2'!K147),COUNTRY_INFO!F147*0.33),IF(COUNTRY_INFO!K147=2,IF(COUNTRY_INFO!F147*0.5>MAX('T1'!M147,'T2'!K147),MAX('T1'!M147,'T2'!K147),COUNTRY_INFO!F147*0.5),IF(COUNTRY_INFO!K147=3,IF(COUNTRY_INFO!F147>MAX('T1'!M147,'T2'!K147),MAX('T1'!M147,'T2'!K147),COUNTRY_INFO!F147),0)))","v":11910.03},{"$f":"IF(AND(COUNTRY_INFO!K147>0,COUNTRY_INFO!K147<4),IF(Z147>0,IF(COUNTRY_INFO!K147=1, AD147/(COUNTRY_INFO!F147*0.33)*100, IF(COUNTRY_INFO!K147=2, AD147/(COUNTRY_INFO!F147*0.5)*100, IF(COUNTRY_INFO!K147=3, AD147/COUNTRY_INFO!F147*100))),\"-\"),0)","v":100},{"$f":"IF(COUNTRY_INFO!K147=2,IF(COUNTRY_INFO!G147*0.2>MAX('T1'!N147,'T2'!L147),MAX('T1'!N147,'T2'!L147),COUNTRY_INFO!G147*0.2),IF(COUNTRY_INFO!K147=3,IF(COUNTRY_INFO!G147>MAX('T1'!N147,'T2'!L147),MAX('T1'!N147,'T2'!L147),COUNTRY_INFO!G147),0))","v":0},{"$f":"IF(AND(COUNTRY_INFO!K147>0,COUNTRY_INFO!K147<4),IF(Z147>0,IF(COUNTRY_INFO!K147=1, 0, IF(COUNTRY_INFO!K147=2, AF147/(COUNTRY_INFO!G147*0.2)*100, IF(COUNTRY_INFO!K147=3, AF147/COUNTRY_INFO!G147*100))),\"-\"),0)","v":0},11910.03,{"$f":"IF(AND(COUNTRY_INFO!K147>0,COUNTRY_INFO!K147<4), IF(AC147/Z147*100<>0, IF(AH147/Z147*100>100,100,AH147/Z147*100), \"-\"),0)","v":100},null,{"$f":"IF(AND(D147<>0, D147<>\"Unknown\",D147<>\"Stopped\",D147<>\"Not required\"),D147/COUNTRY_INFO!D147, 0)","v":0},{"$f":"IF(AND(J147<>0,J147<>\"Unknown\",J147<>\"Stopped\",J147<>\"Not required\"),J147/COUNTRY_INFO!D147, 0)","v":0},{"$f":"IF(AND(P147<>0,P147<>\"Unknown\",P147<>\"Not required\"),P147/(COUNTRY_INFO!E147+COUNTRY_INFO!F147), 0)","v":1},{"$f":"IF(AND(Z147<>0,Z147<>\"Unknown\",Z147<>\"Not required\"),IF(COUNTRY_INFO!K147=1,1,IF(COUNTRY_INFO!K147=2,0.5*COUNTRY_INFO!F147/(0.5*COUNTRY_INFO!F147+0.2*COUNTRY_INFO!G147),IF(COUNTRY_INFO!K147=3,COUNTRY_INFO!F147/(COUNTRY_INFO!F147+COUNTRY_INFO!G147)))),0)","v":1},{"$f":"IF(AND(Z147<>0,Z147<>\"Unknown\",Z147<>\"Not required\"),IF(COUNTRY_INFO!K147=1,0,IF(COUNTRY_INFO!K147=2,0.2*COUNTRY_INFO!G147/(0.5*COUNTRY_INFO!F147+0.2*COUNTRY_INFO!G147),IF(COUNTRY_INFO!K147=3,COUNTRY_INFO!G147/(COUNTRY_INFO!F147+COUNTRY_INFO!G147)))),0)","v":0},{"$f":"MAX(COUNTRY_INFO!D147*AK147*PROFILE!$G$7,COUNTRY_INFO!D147*AL147*PROFILE!$G$7)","v":0},{"$f":"MAX(COUNTRY_INFO!D147*AK147*PROFILE!$G$8,COUNTRY_INFO!D147*AL147*PROFILE!$G$8,COUNTRY_INFO!D147*AM147*PROFILE!$G$8)","v":14951.914165926586},{"$f":"MAX(COUNTRY_INFO!D147*AK147*PROFILE!$G$9,COUNTRY_INFO!D147*AL147*PROFILE!$G$9,COUNTRY_INFO!D147*AM147*PROFILE!$G$9,IF(AND(DISTRICT!Z147<>\"Unknown\",Z147<>\"Not required\"),COUNTRY_INFO!O147*DISTRICT!AN147,0))","v":36090.861816501376},{"$f":"MAX(COUNTRY_INFO!D147*AK147*PROFILE!$G$10,COUNTRY_INFO!D147*AL147*PROFILE!$G$10,IF(AND(DISTRICT!Z147<>\"Unknown\",Z147<>\"Not required\"),COUNTRY_INFO!O147*DISTRICT!AO147,0))","v":0},51042.775982427964,"Y",{"$f":"MAX('MDA2'!J147,'T1'!L147,'T2'!J147,T3_R1!K147,T3_R2!K147)","v":0},{"$f":"MAX('MDA1'!K147,'MDA2'!K147,'MDA3'!I147,'MDA3'!L147,'T1'!M147,'T2'!K147,T3_R1!L147,T3_R2!L147)","v":33961},{"$f":"MAX('MDA1'!L147,'MDA2'!L147,'MDA3'!J147,'MDA3'!M147,'T1'!N147,'T2'!L147,T3_R1!M147,T3_R2!M147)","v":0},33961,{"$f":"MAX('MDA2'!J147,T147)","v":0},{"$f":"MAX('MDA1'!K147,'MDA2'!K147,'MDA3'!I147,'MDA3'!L147,V147,AD147)","v":33961},{"$f":"MAX('MDA1'!L147,'MDA2'!L147,'MDA3'!J147,'MDA3'!M147,AF147)","v":0},33961,66.534390707299011]
[{"$f":"IF(COUNTRY_INFO!A148=0,\" \",COUNTRY_INFO!A148)","v":"Mozambique"},{"$f":"IF(COUNTRY_INFO!B148=0,\" \",COUNTRY_INFO!B148)","v":"Gaza"},{"$f":"IF(COUNTRY_INFO!C148=0,\" \",COUNTRY_INFO!C148)","v":"Guijá"},{"$f":"COUNTRY_INFO!L148","v":0},null,null,{"$f":"MAX('MDA1'!M148,'MDA2'!M148)","v":0},{"$f":"IF(AND(COUNTRY_INFO!H148>0,COUNTRY_INFO!H148<4),IF(D148>MAX('MDA1'!M148,'MDA2'!M148),MAX('MDA1'!M148,'MDA2'!M148),D148),0)","v":0},{"$f":"IF(AND(COUNTRY_INFO!H148>0,COUNTRY_INFO!H148<4), IF(G148/D148*100<>0, IF(G148/D148*100>100,100,G148/D148*100), \"-\"),0)","v":0},{"$f":"COUNTRY_INFO!M148","v":"Not required"},null,null,{"$f":"MAX('MDA1'!M148,MAX('MDA3'!I148,'MDA3'!L148)+MAX('MDA3'!J148,'MDA3'!M148))","v":0},{"$f":"IF(AND(COUNTRY_INFO!I148>0,COUNTRY_INFO!I148<4),IF(J148>MAX('MDA1'!M148,MAX('MDA3'!I148,'MDA3'!L148)+MAX('MDA3'!J148,'MDA3'!M148)),MAX('MDA1'!M148,MAX('MDA3'!I148,'MDA3'!L148)+MAX('MDA3'!J148,'MDA3'!M148)),J148),0)","v":0},{"$f":"IF(AND(COUNTRY_INFO!I148>0,COUNTRY_INFO!I148<4), IF(M148/J148*100<>0, IF(M148/J148*100>100,100,M148/J148*100), \"-\"),0)","v":0},{"$f":"COUNTRY_INFO!N148","v":39461},null,null,{"$f":"SUM(MAX('MDA2'!J148, 'T1'!L148, MAX(T3_R1!K148, T3_R2!K148)), MAX('MDA1'!K148, 'MDA2'!K148, 'T1'!M148, MAX(T3_R1!L148, T3_R2!L148)), MAX('MDA1'!L148, 'MDA2'!L148, 'T1'!N148, MAX(T3_R1!M148, T3_R2!M148)))","v":27499},{"$f":"IF(AND(COUNTRY_INFO!J148>1,COUNTRY_INFO!J148<4),IF(COUNTRY_INFO!E148>MAX('MDA2'!J148,'T1'!L148,MAX(T3_R1!K148,T3_R2!K148)),MAX('MDA2'!J148,'T1'!L148,MAX(T3_R1!K148,T3_R2!K148)),COUNTRY_INFO!E148),0)","v":0},{"$f":"IF(AND(COUNTRY_INFO!J148>1,COUNTRY_INFO!J148<4), IF(T148/COUNTRY_INFO!E148*100<>0, IF(T148/COUNTRY_INFO!E148*100>100,100,T148/COUNTRY_INFO!E148*100), \"-\"),0)","v":"-"},{"$f":"IF(AND(COUNTRY_INFO!J148>1,COUNTRY_INFO!J148<4),IF(COUNTRY_INFO!F148>MAX('MDA1'!K148,'MDA2'!K148,'T1'!M148,MAX(T3_R1!L148,T3_R2!L148)),MAX('MDA1'!K148,'MDA2'!K148,'T1'!M148,MAX(T3_R1!L148,T3_R2!L148)),COUNTRY_INFO!F148),0)","v":27499},{"$f":"IF(AND(COUNTRY_INFO!J148>1,COUNTRY_INFO!J148<4), IF(V148/COUNTRY_INFO!F148*100<>0, IF(V148/COUNTRY_INFO!F148*100>100,100,V148/COUNTRY_INFO!F148*100), \"-\"),0)","v":98.555659092538178},27499,{"$f":"IF(AND(COUNTRY_INFO!J148>1,COUNTRY_INFO!J148<4), IF(S148/P148*100<>0, IF(X148/P148*100>100,100,X148/P148*100), \"-\"),0)","v":69.686525937001093},{"$f":"COUNTRY_INFO!O148","v":25410.800000000003},13167,14332,{"$f":"MAX('T1'!L148,'T2'!J148)+MAX('T1'!M148,'T2'!K148)+MAX('T1'!N148,'T2'!L148)","v":27499},{"$f":"IF(COUNTRY_INFO!K148=1,IF(COUNTRY_INFO!F148*0.33>MAX('T1'!M148,'T2'!K148),MAX('T1'!M148,'T2'!K148),COUNTRY_INFO!F148*0.33),IF(COUNTRY_INFO!K148=2,IF(COUNTRY_INFO!F148*0.5>MAX('T1'!M148,'T2'!K148),MAX('T1'!M148,'T2'!K148),COUNTRY_INFO!F148*0.5),IF(COUNTRY_INFO!K148=3,IF(COUNTRY_INFO!F148>MAX('T1'!M148,'T2'!K148),MAX('T1'!M148,'T2'!K148),COUNTRY_INFO!F148),0)))","v":13951},{"$f":"IF(AND(COUNTRY_INFO!K148>0,COUNTRY_INFO!K148<4),IF(Z148>0,IF(COUNTRY_INFO!K148=1, AD148/(COUNTRY_INFO!F148*0.33)*100, IF(COUNTRY_INFO!K148=2, AD148/(COUNTRY_INFO!F148*0.5)*100, IF(COUNTRY_INFO!K148=3, AD148/COUNTRY_INFO!F148*100))),\"-\"),0)","v":100},{"$f":"IF(COUNTRY_INFO!K148=2,IF(COUNTRY_INFO!G148*0.2>MAX('T1'!N148,'T2'!L148),MAX('T1'!N148,'T2'!L148),COUNTRY_INFO!G148*0.2),IF(COUNTRY_INFO!K148=3,IF(COUNTRY_INFO!G148>MAX('T1'!N148,'T2'!L148),MAX('T1'!N148,'T2'!L148),COUNTRY_INFO!G148),0))","v":0},{"$f":"IF(AND(COUNTRY_INFO!K148>0,COUNTRY_INFO!K148<4),IF(Z148>0,IF(COUNTRY_INFO!K148=1, 0, IF(COUNTRY_INFO!K148=2, AF148/(COUNTRY_INFO!G148*0.2)*100, IF(COUNTRY_INFO!K148=3, AF148/COUNTRY_INFO!G148*100))),\"-\"),0)","v":0},13951,{"$f":"IF(AND(COUNTRY_INFO!K148>0,COUNTRY_INFO!K148<4), IF(AC148/Z148*100<>0, IF(AH148/Z148*100>100,100,AH148/Z148*100), \"-\"),0)","v":54.901852755521261},null,{"$f":"IF(AND(D148<>0, D148<>\"Unknown\",D148<>\"Stopped\",D148<>\"Not required\"),D148/COUNTRY_INFO!D148, 0)","v":0},{"$f":"IF(AND(J148<>0,J148<>\"Unknown\",J148<>\"Stopped\",J148<>\"Not required\"),J148/COUNTRY_INFO!D148, 0)","v":0},{"$f":"IF(AND(P148<>0,P148<>\"Unknown\",P148<>\"Not required\"),P148/(COUNTRY_INFO!E148+COUNTRY_INFO!F148), 0)","v":1},{"$f":"IF(AND(Z148<>0,Z148<>\"Unknown\",Z148<>\"Not required\"),IF(COUNTRY_INFO!K148=1,1,IF(COUNTRY_INFO!K148=2,0.5*COUNTRY_INFO!F148/(0.5*COUNTRY_INFO!F148+0.2*COUNTRY_INFO!G148),IF(COUNTRY_INFO!K148=3,COUNTRY_INFO!F148/(COUNTRY_INFO!F148+COUNTRY_INFO!G148)))),0)","v":0.54901852755521263},{"$f":"IF(AND(Z148<>0,Z148<>\"Unknown\",Z148<>\"Not required\"),IF(COUNTRY_INFO!K148=1,0,IF(COUNTRY_INFO!K148=2,0.2*COUNTRY_INFO!G148/(0.5*COUNTRY_INFO!F148+0.2*COUNTRY_INFO!G148),IF(COUNTRY_INFO!K148=3,COUNTRY_INFO!G148/(COUNTRY_INFO!F148+COUNTRY_INFO!G148)))),0)","v":0.45098147244478726},{"$f":"MAX(COUNTRY_INFO!D148*AK148*PROFILE!$G$7,COUNTRY_INFO!D148*AL148*PROFILE!$G$7)","v":0},{"$f":"MAX(COUNTRY_INFO!D148*AK148*PROFILE!$G$8,COUNTRY_INFO!D148*AL148*PROFILE!$G$8,COUNTRY_INFO!D148*AM148*PROFILE!$G$8)","v":11559.383119992741},{"$f":"MAX(COUNTRY_INFO!D148*AK148*PROFILE!$G$9,COUNTRY_INFO!D148*AL148*PROFILE!$G$9,COUNTRY_INFO!D148*AM148*PROFILE!$G$9,IF(AND(DISTRICT!Z148<>\"Unknown\",Z148<>\"Not required\"),COUNTRY_INFO!O148*DISTRICT!AN148,0))","v":27901.985942266339},{"$f":"MAX(COUNTRY_INFO!D148*AK148*PROFILE!$G$10,COUNTRY_INFO!D148*AL148*PROFILE!$G$10,IF(AND(DISTRICT!Z148<>\"Unknown\",Z148<>\"Not required\"),COUNTRY_INFO!O148*DISTRICT!AO148,0))","v":11459.800000000001},50921.169062259083,"Y",{"$f":"MAX('MDA2'!J148,'T1'!L148,'T2'!J148,T3_R1!K148,T3_R2!K148)","v":0},{"$f":"MAX('MDA1'!K148,'MDA2'!K148,'MDA3'!I148,'MDA3'!L148,'T1'!M148,'T2'!K148,T3_R1!L148,T3_R2!L148)","v":27499},{"$f":"MAX('MDA1'!L148,'MDA2'!L148,'MDA3'!J148,'MDA3'!M148,'T1'!N148,'T2'!L148,T3_R1!M148,T3_R2!M148)","v":0},27499,{"$f":"MAX('MDA2'!J148,T148)","v":0},{"$f":"MAX('MDA1'!K148,'MDA2'!K148,'MDA3'!I148,'MDA3'!L148,V148,AD148)","v":27499},{"$f":"MAX('MDA1'!L148,'MDA2'!L148,'MDA3'!J148,'MDA3'!M148,AF148)","v":0},27499,54.003080656648272]
[{"$f":"IF(COUNTRY_INFO!A149=0,\" \",COUNTRY_INFO!A149)","v":"Mozambique"},{"$f":"IF(COUNTRY_INFO!B149=0,\" \",COUNTRY_INFO!B149)","v":"Gaza"},{"$f":"IF(COUNTRY_INFO!C149=0,\" \",COUNTRY_INFO!C149)","v":"Limpopo"},{"$f":"COUNTRY_INFO!L149","v":0},null,null,{"$f":"MAX('MDA1'!M149,'MDA2'!M149)","v":0},{"$f":"IF(AND(COUNTRY_INFO!H149>0,COUNTRY_INFO!H149<4),IF(D149>MAX('MDA1'!M149,'MDA2'!M149),MAX('MDA1'!M149,'MDA2'!M149),D149),0)","v":0},{"$f":"IF(AND(COUNTRY_INFO!H149>0,COUNTRY_INFO!H149<4), IF(G149/D149*100<>0, IF(G149/D149*100>100,100,G149/D149*100), \"-\"),0)","v":0},{"$f":"COUNTRY_INFO!M149","v":"Not required"},null,null,{"$f":"MAX('MDA1'!M149,MAX('MDA3'!I149,'MDA3'!L149)+MAX('MDA3'!J149,'MDA3'!M149))","v":0},{"$f":"IF(AND(COUNTRY_INFO!I149>0,COUNTRY_INFO!I149<4),IF(J149>MAX('MDA1'!M149,MAX('MDA3'!I149,'MDA3'!L149)+MAX('MDA3'!J149,'MDA3'!M149)),MAX('MDA1'!M149,MAX('MDA3'!I149,'MDA3'!L149)+MAX('MDA3'!J149,'MDA3'!M149)),J149),0)","v":0},{"$f":"IF(AND(COUNTRY_INFO!I149>0,COUNTRY_INFO!I149<4), IF(M149/J149*100<>0, IF(M149/J149*100>100,100,M149/J149*100), \"-\"),0)","v":0},{"$f":"COUNTRY_INFO!N149","v":63881},null,null,{"$f":"SUM(MAX('MDA2'!J149, 'T1'!L149, MAX(T3_R1!K149, T3_R2!K149)), MAX('MDA1'!K149, 'MDA2'!K149, 'T1'!M149, MAX(T3_R1!L149, T3_R2!L149)), MAX('MDA1'!L149, 'MDA2'!L149, 'T1'!N149, MAX(T3_R1!M149, T3_R2!M149)))","v":39484},{"$f":"IF(AND(COUNTRY_INFO!J149>1,COUNTRY_INFO!J149<4),IF(COUNTRY_INFO!E149>MAX('MDA2'!J149,'T1'!L149,MAX(T3_R1!K149,T3_R2!K149)),MAX('MDA2'!J149,'T1'!L149,MAX(T3_R1!K149,T3_R2!K149)),COUNTRY_INFO!E149),0)","v":0},{"$f":"IF(AND(COUNTRY_INFO!J149>1,COUNTRY_INFO!J149<4), IF(T149/COUNTRY_INFO!E149*100<>0, IF(T149/COUNTRY_INFO!E149*100>100,100,T149/COUNTRY_INFO!E149*100), \"-\"),0)","v":"-"},{"$f":"IF(AND(COUNTRY_INFO!J149>1,COUNTRY_INFO!J149<4),IF(COUNTRY_INFO!F149>MAX('MDA1'!K149,'MDA2'!K149,'T1'!M149,MAX(T3_R1!L149,T3_R2!L149)),MAX('MDA1'!K149,'MDA2'!K149,'T1'!M149,MAX(T3_R1!L149,T3_R2!L149)),COUNTRY_INFO!F149),0)","v":39484},{"$f":"IF(AND(COUNTRY_INFO!J149>1,COUNTRY_INFO!J149<4), IF(V149/COUNTRY_INFO!F149*100<>0, IF(V149/COUNTRY_INFO!F149*100>100,100,V149/COUNTRY_INFO!F149*100), \"-\"),0)","v":87.415869642224592},39484,{"$f":"IF(AND(COUNTRY_INFO!J149>1,COUNTRY_INFO!J149<4), IF(S149/P149*100<>0, IF(X149/P149*100>100,100,X149/P149*100), \"-\"),0)","v":61.808675506019007},{"$f":"COUNTRY_INFO!O149","v":14905.44},19178,20306,{"$f":"MAX('T1'!L149,'T2'!J149)+MAX('T1'!M149,'T2'!K149)+MAX('T1'!N149,'T2'!L149)","v":39484},{"$f":"IF(COUNTRY_INFO!K149=1,IF(COUNTRY_INFO!F149*0.33>MAX('T1'!M149,'T2'!K149),MAX('T1'!M149,'T2'!K149),COUNTRY_INFO!F149*0.33),IF(COUNTRY_INFO!K149=2,IF(COUNTRY_INFO!F149*0.5>MAX('T1'!M149,'T2'!K149),MAX('T1'!M149,'T2'!K149),COUNTRY_INFO!F149*0.5),IF(COUNTRY_INFO!K149=3,IF(COUNTRY_INFO!F149>MAX('T1'!M149,'T2'!K149),MAX('T1'!M149,'T2'!K149),COUNTRY_INFO!F149),0)))","v":14905.44},{"$f":"IF(AND(COUNTRY_INFO!K149>0,COUNTRY_INFO!K149<4),IF(Z149>0,IF(COUNTRY_INFO!K149=1, AD149/(COUNTRY_INFO!F149*0.33)*100, IF(COUNTRY_INFO!K149=2, AD149/(COUNTRY_INFO!F149*0.5)*100, IF(COUNTRY_INFO!K149=3, AD149/COUNTRY_INFO!F149*100))),\"-\"),0)","v":100},{"$f":"IF(COUNTRY_INFO!K149=2,IF(COUNTRY_INFO!G149*0.2>MAX('T1'!N149,'T2'!L149),MAX('T1'!N149,'T2'!L149),COUNTRY_INFO!G149*0.2),IF(COUNTRY_INFO!K149=3,IF(COUNTRY_INFO!G149>MAX('T1'!N149,'T2'!L149),MAX('T1'!N149,'T2'!L149),COUNTRY_INFO!G149),0))","v":0},{"$f":"IF(AND(COUNTRY_INFO!K149>0,COUNTRY_INFO!K149<4),IF(Z149>0,IF(COUNTRY_INFO!K149=1, 0, IF(COUNTRY_INFO!K149=2, AF149/(COUNTRY_INFO!G149*0.2)*100, IF(COUNTRY_INFO!K149=3, AF149/COUNTRY_INFO!G149*100))),\"-\"),0)","v":0},14905.44,{"$f":"IF(AND(COUNTRY_INFO!K149>0,COUNTRY_INFO!K149<4), IF(AC149/Z149*100<>0, IF(AH149/Z149*100>100,100,AH149/Z149*100), \"-\"),0)","v":100},null,{"$f":"IF(AND(D149<>0, D149<>\"Unknown\",D149<>\"Stopped\",D149<>\"Not required\"),D149/COUNTRY_INFO!D149, 0)","v":0},{"$f":"IF(AND(J149<>0,J149<>\"Unknown\",J149<>\"Stopped\",J149<>\"Not required\"),J149/COUNTRY_INFO!D149, 0)","v":0},{"$f":"IF(AND(P149<>0,P149<>\"Unknown\",P149<>\"Not required\"),P149/(COUNTRY_INFO!E149+COUNTRY_INFO!F149), 0)","v":1},{"$f":"IF(AND(Z149<>0,Z149<>\"Unknown\",Z149<>\"Not required\"),IF(COUNTRY_INFO!K149=1,1,IF(COUNTRY_INFO!K149=2,0.5*COUNTRY_INFO!F149/(0.5*COUNTRY_INFO!F149+0.2*COUNTRY_INFO!G149),IF(COUNTRY_INFO!K149=3,COUNTRY_INFO!F149/(COUNTRY_INFO!F149+COUNTRY_INFO!G149)))),0)","v":1},{"$f":"IF(AND(Z149<>0,Z149<>\"Unknown\",Z149<>\"Not required\"),IF(COUNTRY_INFO!K149=1,0,IF(COUNTRY_INFO!K149=2,0.2*COUNTRY_INFO!G149/(0.5*COUNTRY_INFO!F149+0.2*COUNTRY_INFO!G149),IF(COUNTRY_INFO!K149=3,COUNTRY_INFO!G149/(COUNTRY_INFO!F149+COUNTRY_INFO!G149)))),0)","v":0},{"$f":"MAX(COUNTRY_INFO!D149*AK149*PROFILE!$G$7,COUNTRY_INFO!D149*AL149*PROFILE!$G$7)","v":0},{"$f":"MAX(COUNTRY_INFO!D149*AK149*PROFILE!$G$8,COUNTRY_INFO!D149*AL149*PROFILE!$G$8,COUNTRY_INFO!D149*AM149*PROFILE!$G$8)","v":18712.628674207215},{"$f":"MAX(COUNTRY_INFO!D149*AK149*PROFILE!$G$9,COUNTRY_INFO!D149*AL149*PROFILE!$G$9,COUNTRY_INFO!D149*AM149*PROFILE!$G$9,IF(AND(DISTRICT!Z149<>\"Unknown\",Z149<>\"Not required\"),COUNTRY_INFO!O149*DISTRICT!AN149,0))","v":45168.457242976787},{"$f":"MAX(COUNTRY_INFO!D149*AK149*PROFILE!$G$10,COUNTRY_INFO!D149*AL149*PROFILE!$G$10,IF(AND(DISTRICT!Z149<>\"Unknown\",Z149<>\"Not required\"),COUNTRY_INFO!O149*DISTRICT!AO149,0))","v":0},63881.085917183998,"Y",{"$f":"MAX('MDA2'!J149,'T1'!L149,'T2'!J149,T3_R1!K149,T3_R2!K149)","v":0},{"$f":"MAX('MDA1'!K149,'MDA2'!K149,'MDA3'!I149,'MDA3'!L149,'T1'!M149,'T2'!K149,T3_R1!L149,T3_R2!L149)","v":39484},{"$f":"MAX('MDA1'!L149,'MDA2'!L149,'MDA3'!J149,'MDA3'!M149,'T1'!N149,'T2'!L149,T3_R1!M149,T3_R2!M149)","v":0},39484,{"$f":"MAX('MDA2'!J149,T149)","v":0},{"$f":"MAX('MDA1'!K149,'MDA2'!K149,'MDA3'!I149,'MDA3'!L149,V149,AD149)","v":39484},{"$f":"MAX('MDA1'!L149,'MDA2'!L149,'MDA3'!J149,'MDA3'!M149,AF149)","v":0},39484,61.808592376133689]
[{"$f":"IF(COUNTRY_INFO!A150=0,\" \",COUNTRY_INFO!A150)","v":"Mozambique"},{"$f":"IF(COUNTRY_INFO!B150=0,\" \",COUNTRY_INFO!B150)","v":"Gaza"},{"$f":"IF(COUNTRY_INFO!C150=0,\" \",COUNTRY_INFO!C150)","v":"Mabalane"},{"$f":"COUNTRY_INFO!L150","v":46556},null,null,{"$f":"MAX('MDA1'!M150,'MDA2'!M150)","v":38088},{"$f":"IF(AND(COUNTRY_INFO!H150>0,COUNTRY_INFO!H150<4),IF(D150>MAX('MDA1'!M150,'MDA2'!M150),MAX('MDA1'!M150,'MDA2'!M150),D150),0)","v":38088},{"$f":"IF(AND(COUNTRY_INFO!H150>0,COUNTRY_INFO!H150<4), IF(G150/D150*100<>0, IF(G150/D150*100>100,100,G150/D150*100), \"-\"),0)","v":81.81115216083856},{"$f":"COUNTRY_INFO!M150","v":"Not required"},null,null,{"$f":"MAX('MDA1'!M150,MAX('MDA3'!I150,'MDA3'!L150)+MAX('MDA3'!J150,'MDA3'!M150))","v":38088},{"$f":"IF(AND(COUNTRY_INFO!I150>0,COUNTRY_INFO!I150<4),IF(J150>MAX('MDA1'!M150,MAX('MDA3'!I150,'MDA3'!L150)+MAX('MDA3'!J150,'MDA3'!M150)),MAX('MDA1'!M150,MAX('MDA3'!I150,'MDA3'!L150)+MAX('MDA3'!J150,'MDA3'!M150)),J150),0)","v":0},{"$f":"IF(AND(COUNTRY_INFO!I150>0,COUNTRY_INFO!I150<4), IF(M150/J150*100<>0, IF(M150/J150*100>100,100,M150/J150*100), \"-\"),0)","v":0},{"$f":"COUNTRY_INFO!N150","v":18436},null,null,{"$f":"SUM(MAX('MDA2'!J150, 'T1'!L150, MAX(T3_R1!K150, T3_R2!K150)), MAX('MDA1'!K150, 'MDA2'!K150, 'T1'!M150, MAX(T3_R1!L150, T3_R2!L150)), MAX('MDA1'!L150, 'MDA2'!L150, 'T1'!N150, MAX(T3_R1!M150, T3_R2!M150)))","v":38088},{"$f":"IF(AND(COUNTRY_INFO!J150>1,COUNTRY_INFO!J150<4),IF(COUNTRY_INFO!E150>MAX('MDA2'!J150,'T1'!L150,MAX(T3_R1!K150,T3_R2!K150)),MAX('MDA2'!J150,'T1'!L150,MAX(T3_R1!K150,T3_R2!K150)),COUNTRY_INFO!E150),0)","v":0},{"$f":"IF(AND(COUNTRY_INFO!J150>1,COUNTRY_INFO!J150<4), IF(T150/COUNTRY_INFO!E150*100<>0, IF(T150/COUNTRY_INFO!E150*100>100,100,T150/COUNTRY_INFO!E150*100), \"-\"),0)","v":"-"},{"$f":"IF(AND(COUNTRY_INFO!J150>1,COUNTRY_INFO!J150<4),IF(COUNTRY_INFO!F150>MAX('MDA1'!K150,'MDA2'!K150,'T1'!M150,MAX(T3_R1!L150,T3_R2!L150)),MAX('MDA1'!K150,'MDA2'!K150,'T1'!M150,MAX(T3_R1!L150,T3_R2!L150)),COUNTRY_INFO!F150),0)","v":13036},{"$f":"IF(AND(COUNTRY_INFO!J150>1,COUNTRY_INFO!J150<4), IF(V150/COUNTRY_INFO!F150*100<>0, IF(V150/COUNTRY_INFO!F150*100>100,100,V150/COUNTRY_INFO!F150*100), \"-\"),0)","v":100},13036,{"$f":"IF(AND(COUNTRY_INFO!J150>1,COUNTRY_INFO!J150<4), IF(S150/P150*100<>0, IF(X150/P150*100>100,100,X150/P150*100), \"-\"),0)","v":70.709481449338256},{"$f":"COUNTRY_INFO!O150","v":11872},6168,6917,{"$f":"MAX('T1'!L150,'T2'!J150)+MAX('T1'!M150,'T2'!K150)+MAX('T1'!N150,'T2'!L150)","v":13085},{"$f":"IF(COUNTRY_INFO!K150=1,IF(COUNTRY_INFO!F150*0.33>MAX('T1'!M150,'T2'!K150),MAX('T1'!M150,'T2'!K150),COUNTRY_INFO!F150*0.33),IF(COUNTRY_INFO!K150=2,IF(COUNTRY_INFO!F150*0.5>MAX('T1'!M150,'T2'!K150),MAX('T1'!M150,'T2'!K150),COUNTRY_INFO!F150*0.5),IF(COUNTRY_INFO!K150=3,IF(COUNTRY_INFO!F150>MAX('T1'!M150,'T2'!K150),MAX('T1'!M150,'T2'!K150),COUNTRY_INFO!F150),0)))","v":6518},{"$f":"IF(AND(COUNTRY_INFO!K150>0,COUNTRY_INFO!K150<4),IF(Z150>0,IF(COUNTRY_INFO!K150=1, AD150/(COUNTRY_INFO!F150*0.33)*100, IF(COUNTRY_INFO!K150=2, AD150/(COUNTRY_INFO!F150*0.5)*100, IF(COUNTRY_INFO!K150=3, AD150/COUNTRY_INFO!F150*100))),\"-\"),0)","v":100},{"$f":"IF(COUNTRY_INFO!K150=2,IF(COUNTRY_INFO!G150*0.2>MAX('T1'!N150,'T2'!L150),MAX('T1'!N150,'T2'!L150),COUNTRY_INFO!G150*0.2),IF(COUNTRY_INFO!K150=3,IF(COUNTRY_INFO!G150>MAX('T1'!N150,'T2'!L150),MAX('T1'!N150,'T2'!L150),COUNTRY_INFO!G150),0))","v":0},{"$f":"IF(AND(COUNTRY_INFO!K150>0,COUNTRY_INFO!K150<4),IF(Z150>0,IF(COUNTRY_INFO!K150=1, 0, IF(COUNTRY_INFO!K150=2, AF150/(COUNTRY_INFO!G150*0.2)*100, IF(COUNTRY_INFO!K150=3, AF150/COUNTRY_INFO!G150*100))),\"-\"),0)","v":0},6518,{"$f":"IF(AND(COUNTRY_INFO!K150>0,COUNTRY_INFO!K150<4), IF(AC150/Z150*100<>0, IF(AH150/Z150*100>100,100,AH150/Z150*100), \"-\"),0)","v":54.902291105121293},null,{"$f":"IF(AND(D150<>0, D150<>\"Unknown\",D150<>\"Stopped\",D150<>\"Not required\"),D150/COUNTRY_INFO!D150, 0)","v":1},{"$f":"IF(AND(J150<>0,J150<>\"Unknown\",J150<>\"Stopped\",J150<>\"Not required\"),J150/COUNTRY_INFO!D150, 0)","v":0},{"$f":"IF(AND(P150<>0,P150<>\"Unknown\",P150<>\"Not required\"),P150/(COUNTRY_INFO!E150+COUNTRY_INFO!F150), 0)","v":1},{"$f":"IF(AND(Z150<>0,Z150<>\"Unknown\",Z150<>\"Not required\"),IF(COUNTRY_INFO!K150=1,1,IF(COUNTRY_INFO!K150=2,0.5*COUNTRY_INFO!F150/(0.5*COUNTRY_INFO!F150+0.2*COUNTRY_INFO!G150),IF(COUNTRY_INFO!K150=3,COUNTRY_INFO!F150/(COUNTRY_INFO!F150+COUNTRY_INFO!G150)))),0)","v":0.54902291105121293},{"$f":"IF(AND(Z150<>0,Z150<>\"Unknown\",Z150<>\"Not required\"),IF(COUNTRY_INFO!K150=1,0,IF(COUNTRY_INFO!K150=2,0.2*COUNTRY_INFO!G150/(0.5*COUNTRY_INFO!F150+0.2*COUNTRY_INFO!G150),IF(COUNTRY_INFO!K150=3,COUNTRY_INFO!G150/(COUNTRY_INFO!F150+COUNTRY_INFO!G150)))),0)","v":0.45097708894878707},{"$f":"MAX(COUNTRY_INFO!D150*AK150*PROFILE!$G$7,COUNTRY_INFO!D150*AL150*PROFILE!$G$7)","v":1350.1362939234111},{"$f":"MAX(COUNTRY_INFO!D150*AK150*PROFILE!$G$8,COUNTRY_INFO!D150*AL150*PROFILE!$G$8,COUNTRY_INFO!D150*AM150*PROFILE!$G$8)","v":5400.488113741917},{"$f":"MAX(COUNTRY_INFO!D150*AK150*PROFILE!$G$9,COUNTRY_INFO!D150*AL150*PROFILE!$G$9,COUNTRY_INFO!D150*AM150*PROFILE!$G$9,IF(AND(DISTRICT!Z150<>\"Unknown\",Z150<>\"Not required\"),COUNTRY_INFO!O150*DISTRICT!AN150,0))","v":13035.673432294549},{"$f":"MAX(COUNTRY_INFO!D150*AK150*PROFILE!$G$10,COUNTRY_INFO!D150*AL150*PROFILE!$G$10,IF(AND(DISTRICT!Z150<>\"Unknown\",Z150<>\"Not required\"),COUNTRY_INFO!O150*DISTRICT!AO150,0))","v":26769.702160040124},46556,"Y",{"$f":"MAX('MDA2'!J150,'T1'!L150,'T2'!J150,T3_R1!K150,T3_R2!K150)","v":0},{"$f":"MAX('MDA1'!K150,'MDA2'!K150,'MDA3'!I150,'MDA3'!L150,'T1'!M150,'T2'!K150,T3_R1!L150,T3_R2!L150)","v":13085},{"$f":"MAX('MDA1'!L150,'MDA2'!L150,'MDA3'!J150,'MDA3'!M150,'T1'!N150,'T2'!L150,T3_R1!M150,T3_R2!M150)","v":25003},38088,{"$f":"MAX('MDA2'!J150,T150)","v":0},{"$f":"MAX('MDA1'!K150,'MDA2'!K150,'MDA3'!I150,'MDA3'!L150,V150,AD150)","v":13085},{"$f":"MAX('MDA1'!L150,'MDA2'!L150,'MDA3'!J150,'MDA3'!M150,AF150)","v":25003},38088,81.81115216083856]
[{"$f":"IF(COUNTRY_INFO!A151=0,\" \",COUNTRY_INFO!A151)","v":"Mozambique"},{"$f":"IF(COUNTRY_INFO!B151=0,\" \",COUNTRY_INFO!B151)","v":"Gaza"},{"$f":"IF(COUNTRY_INFO!C151=0,\" \",COUNTRY_INFO!C151)","v":"Manjacaze"},{"$f":"COUNTRY_INFO!L151","v":0},null,null,{"$f":"MAX('MDA1'!M151,'MDA2'!M151)","v":0},{"$f":"IF(AND(COUNTRY_INFO!H151>0,COUNTRY_INFO!H151<4),IF(D151>MAX('MDA1'!M151,'MDA2'!M151),MAX('MDA1'!M151,'MDA2'!M151),D151),0)","v":0},{"$f":"IF(AND(COUNTRY_INFO!H151>0,COUNTRY_INFO!H151<4), IF(G151/D151*100<>0, IF(G151/D151*100>100,100,G151/D151*100), \"-\"),0)","v":0},{"$f":"COUNTRY_INFO!M151","v":"Not required"},null,null,{"$f":"MAX('MDA1'!M151,MAX('MDA3'!I151,'MDA3'!L151)+MAX('MDA3'!J151,'MDA3'!M151))","v":0},{"$f":"IF(AND(COUNTRY_INFO!I151>0,COUNTRY_INFO!I151<4),IF(J151>MAX('MDA1'!M151,MAX('MDA3'!I151,'MDA3'!L151)+MAX('MDA3'!J151,'MDA3'!M151)),MAX('MDA1'!M151,MAX('MDA3'!I151,'MDA3'!L151)+MAX('MDA3'!J151,'MDA3'!M151)),J151),0)","v":0},{"$f":"IF(AND(COUNTRY_INFO!I151>0,COUNTRY_INFO!I151<4), IF(M151/J151*100<>0, IF(M151/J151*100>100,100,M151/J151*100), \"-\"),0)","v":0},{"$f":"COUNTRY_INFO!N151","v":59065},null,null,{"$f":"SUM(MAX('MDA2'!J151, 'T1'!L151, MAX(T3_R1!K151, T3_R2!K151)), MAX('MDA1'!K151, 'MDA2'!K151, 'T1'!M151, MAX(T3_R1!L151, T3_R2!L151)), MAX('MDA1'!L151, 'MDA2'!L151, 'T1'!N151, MAX(T3_R1!M151, T3_R2!M151)))","v":39045},{"$f":"IF(AND(COUNTRY_INFO!J151>1,COUNTRY_INFO!J151<4),IF(COUNTRY_INFO!E151>MAX('MDA2'!J151,'T1'!L151,MAX(T3_R1!K151,T3_R2!K151)),MAX('MDA2'!J151,'T1'!L151,MAX(T3_R1!K151,T3_R2!K151)),COUNTRY_INFO!E151),0)","v":0},{"$f":"IF(AND(COUNTRY_INFO!J151>1,COUNTRY_INFO!J151<4), IF(T151/COUNTRY_INFO!E151*100<>0, IF(T151/COUNTRY_INFO!E151*100>100,100,T151/COUNTRY_INFO!E151*100), \"-\"),0)","v":"-"},{"$f":"IF(AND(COUNTRY_INFO!J151>1,COUNTRY_INFO!J151<4),IF(COUNTRY_INFO!F151>MAX('MDA1'!K151,'MDA2'!K151,'T1'!M151,MAX(T3_R1!L151,T3_R2!L151)),MAX('MDA1'!K151,'MDA2'!K151,'T1'!M151,MAX(T3_R1!L151,T3_R2!L151)),COUNTRY_INFO!F151),0)","v":39045},{"$f":"IF(AND(COUNTRY_INFO!J151>1,COUNTRY_INFO!J151<4), IF(V151/COUNTRY_INFO!F151*100<>0, IF(V151/COUNTRY_INFO!F151*100>100,100,V151/COUNTRY_INFO!F151*100), \"-\"),0)","v":93.491846850082609},39045,{"$f":"IF(AND(COUNTRY_INFO!J151>1,COUNTRY_INFO!J151<4), IF(S151/P151*100<>0, IF(X151/P151*100>100,100,X151/P151*100), \"-\"),0)","v":66.105138406839927},{"$f":"COUNTRY_INFO!O151","v":38033.9},19380,19665,{"$f":"MAX('T1'!L151,'T2'!J151)+MAX('T1'!M151,'T2'!K151)+MAX('T1'!N151,'T2'!L151)","v":39045},{"$f":"IF(COUNTRY_INFO!K151=1,IF(COUNTRY_INFO!F151*0.33>MAX('T1'!M151,'T2'!K151),MAX('T1'!M151,'T2'!K151),COUNTRY_INFO!F151*0.33),IF(COUNTRY_INFO!K151=2,IF(COUNTRY_INFO!F151*0.5>MAX('T1'!M151,'T2'!K151),MAX('T1'!M151,'T2'!K151),COUNTRY_INFO!F151*0.5),IF(COUNTRY_INFO!K151=3,IF(COUNTRY_INFO!F151>MAX('T1'!M151,'T2'!K151),MAX('T1'!M151,'T2'!K151),COUNTRY_INFO!F151),0)))","v":20881.5},{"$f":"IF(AND(COUNTRY_INFO!K151>0,COUNTRY_INFO!K151<4),IF(Z151>0,IF(COUNTRY_INFO!K151=1, AD151/(COUNTRY_INFO!F151*0.33)*100, IF(COUNTRY_INFO!K151=2, AD151/(COUNTRY_INFO!F151*0.5)*100, IF(COUNTRY_INFO!K151=3, AD151/COUNTRY_INFO!F151*100))),\"-\"),0)","v":100},{"$f":"IF(COUNTRY_INFO!K151=2,IF(COUNTRY_INFO!G151*0.2>MAX('T1'!N151,'T2'!L151),MAX('T1'!N151,'T2'!L151),COUNTRY_INFO!G151*0.2),IF(COUNTRY_INFO!K151=3,IF(COUNTRY_INFO!G151>MAX('T1'!N151,'T2'!L151),MAX('T1'!N151,'T2'!L151),COUNTRY_INFO!G151),0))","v":0},{"$f":"IF(AND(COUNTRY_INFO!K151>0,COUNTRY_INFO!K151<4),IF(Z151>0,IF(COUNTRY_INFO!K151=1, 0, IF(COUNTRY_INFO!K151=2, AF151/(COUNTRY_INFO!G151*0.2)*100, IF(COUNTRY_INFO!K151=3, AF151/COUNTRY_INFO!G151*100))),\"-\"),0)","v":0},20881.5,{"$f":"IF(AND(COUNTRY_INFO!K151>0,COUNTRY_INFO!K151<4), IF(AC151/Z151*100<>0, IF(AH151/Z151*100>100,100,AH151/Z151*100), \"-\"),0)","v":54.902337125564294},null,{"$f":"IF(AND(D151<>0, D151<>\"Unknown\",D151<>\"Stopped\",D151<>\"Not required\"),D151/COUNTRY_INFO!D151, 0)","v":0},{"$f":"IF(AND(J151<>0,J151<>\"Unknown\",J151<>\"Stopped\",J151<>\"Not required\"),J151/COUNTRY_INFO!D151, 0)","v":0},{"$f":"IF(AND(P151<>0,P151<>\"Unknown\",P151<>\"Not required\"),P151/(COUNTRY_INFO!E151+COUNTRY_INFO!F151), 0)","v":1},{"$f":"IF(AND(Z151<>0,Z151<>\"Unknown\",Z151<>\"Not required\"),IF(COUNTRY_INFO!K151=1,1,IF(COUNTRY_INFO!K151=2,0.5*COUNTRY_INFO!F151/(0.5*COUNTRY_INFO!F151+0.2*COUNTRY_INFO!G151),IF(COUNTRY_INFO!K151=3,COUNTRY_INFO!F151/(COUNTRY_INFO!F151+COUNTRY_INFO!G151)))),0)","v":0.54902337125564293},{"$f":"IF(AND(Z151<>0,Z151<>\"Unknown\",Z151<>\"Not required\"),IF(COUNTRY_INFO!K151=1,0,IF(COUNTRY_INFO!K151=2,0.2*COUNTRY_INFO!G151/(0.5*COUNTRY_INFO!F151+0.2*COUNTRY_INFO!G151),IF(COUNTRY_INFO!K151=3,COUNTRY_INFO!G151/(COUNTRY_INFO!F151+COUNTRY_INFO!G151)))),0)","v":0.45097662874435701},{"$f":"MAX(COUNTRY_INFO!D151*AK151*PROFILE!$G$7,COUNTRY_INFO!D151*AL151*PROFILE!$G$7)","v":0},{"$f":"MAX(COUNTRY_INFO!D151*AK151*PROFILE!$G$8,COUNTRY_INFO!D151*AL151*PROFILE!$G$8,COUNTRY_INFO!D151*AM151*PROFILE!$G$8)","v":17301.606734703033},{"$f":"MAX(COUNTRY_INFO!D151*AK151*PROFILE!$G$9,COUNTRY_INFO!D151*AL151*PROFILE!$G$9,COUNTRY_INFO!D151*AM151*PROFILE!$G$9,IF(AND(DISTRICT!Z151<>\"Unknown\",Z151<>\"Not required\"),COUNTRY_INFO!O151*DISTRICT!AN151,0))","v":41762.538958965473},{"$f":"MAX(COUNTRY_INFO!D151*AK151*PROFILE!$G$10,COUNTRY_INFO!D151*AL151*PROFILE!$G$10,IF(AND(DISTRICT!Z151<>\"Unknown\",Z151<>\"Not required\"),COUNTRY_INFO!O151*DISTRICT!AO151,0))","v":17152.400000000001},76216.545693668508,"Y",{"$f":"MAX('MDA2'!J151,'T1'!L151,'T2'!J151,T3_R1!K151,T3_R2!K151)","v":0},{"$f":"MAX('MDA1'!K151,'MDA2'!K151,'MDA3'!I151,'MDA3'!L151,'T1'!M151,'T2'!K151,T3_R1!L151,T3_R2!L151)","v":39045},{"$f":"MAX('MDA1'!L151,'MDA2'!L151,'MDA3'!J151,'MDA3'!M151,'T1'!N151,'T2'!L151,T3_R1!M151,T3_R2!M151)","v":0},39045,{"$f":"MAX('MDA2'!J151,T151)","v":0},{"$f":"MAX('MDA1'!K151,'MDA2'!K151,'MDA3'!I151,'MDA3'!L151,V151,AD151)","v":39045},{"$f":"MAX('MDA1'!L151,'MDA2'!L151,'MDA3'!J151,'MDA3'!M151,AF151)","v":0},39045,51.229033859564645]
[{"$f":"IF(COUNTRY_INFO!A152=0,\" \",COUNTRY_INFO!A152)","v":"Mozambique"},{"$f":"IF(COUNTRY_INFO!B152=0,\" \",COUNTRY_INFO!B152)","v":"Gaza"},{"$f":"IF(COUNTRY_INFO!C152=0,\" \",COUNTRY_INFO!C152)","v":"Mapai"},{"$f":"COUNTRY_INFO!L152","v":31650.374852668298},null,null,{"$f":"MAX('MDA1'!M152,'MDA2'!M152)","v":24253},{"$f":"IF(AND(COUNTRY_INFO!H152>0,COUNTRY_INFO!H152<4),IF(D152>MAX('MDA1'!M152,'MDA2'!M152),MAX('MDA1'!M152,'MDA2'!M152),D152),0)","v":24253},{"$f":"IF(AND(COUNTRY_INFO!H152>0,COUNTRY_INFO!H152<4), IF(G152/D152*100<>0, IF(G152/D152*100>100,100,G152/D152*100), \"-\"),0)","v":76.627844418579912},{"$f":"COUNTRY_INFO!M152","v":"Not required"},null,null,{"$f":"MAX('MDA1'!M152,MAX('MDA3'!I152,'MDA3'!L152)+MAX('MDA3'!J152,'MDA3'!M152))","v":24253},{"$f":"IF(AND(COUNTRY_INFO!I152>0,COUNTRY_INFO!I152<4),IF(J152>MAX('MDA1'!M152,MAX('MDA3'!I152,'MDA3'!L152)+MAX('MDA3'!J152,'MDA3'!M152)),MAX('MDA1'!M152,MAX('MDA3'!I152,'MDA3'!L152)+MAX('MDA3'!J152,'MDA3'!M152)),J152),0)","v":0},{"$f":"IF(AND(COUNTRY_INFO!I152>0,COUNTRY_INFO!I152<4), IF(M152/J152*100<>0, IF(M152/J152*100>100,100,M152/J152*100), \"-\"),0)","v":0},{"$f":"COUNTRY_INFO!N152","v":12533},null,null,{"$f":"SUM(MAX('MDA2'!J152, 'T1'!L152, MAX(T3_R1!K152, T3_R2!K152)), MAX('MDA1'!K152, 'MDA2'!K152, 'T1'!M152, MAX(T3_R1!L152, T3_R2!L152)), MAX('MDA1'!L152, 'MDA2'!L152, 'T1'!N152, MAX(T3_R1!M152, T3_R2!M152)))","v":24253},{"$f":"IF(AND(COUNTRY_INFO!J152>1,COUNTRY_INFO!J152<4),IF(COUNTRY_INFO!E152>MAX('MDA2'!J152,'T1'!L152,MAX(T3_R1!K152,T3_R2!K152)),MAX('MDA2'!J152,'T1'!L152,MAX(T3_R1!K152,T3_R2!K152)),COUNTRY_INFO!E152),0)","v":0},{"$f":"IF(AND(COUNTRY_INFO!J152>1,COUNTRY_INFO!J152<4), IF(T152/COUNTRY_INFO!E152*100<>0, IF(T152/COUNTRY_INFO!E152*100>100,100,T152/COUNTRY_INFO!E152*100), \"-\"),0)","v":"-"},{"$f":"IF(AND(COUNTRY_INFO!J152>1,COUNTRY_INFO!J152<4),IF(COUNTRY_INFO!F152>MAX('MDA1'!K152,'MDA2'!K152,'T1'!M152,MAX(T3_R1!L152,T3_R2!L152)),MAX('MDA1'!K152,'MDA2'!K152,'T1'!M152,MAX(T3_R1!L152,T3_R2!L152)),COUNTRY_INFO!F152),0)","v":7128},{"$f":"IF(AND(COUNTRY_INFO!J152>1,COUNTRY_INFO!J152<4), IF(V152/COUNTRY_INFO!F152*100<>0, IF(V152/COUNTRY_INFO!F152*100>100,100,V152/COUNTRY_INFO!F152*100), \"-\"),0)","v":80.43331076506432},7128,{"$f":"IF(AND(COUNTRY_INFO!J152>1,COUNTRY_INFO!J152<4), IF(S152/P152*100<>0, IF(X152/P152*100>100,100,X152/P152*100), \"-\"),0)","v":56.87385302800606},{"$f":"COUNTRY_INFO!O152","v":8070.8},3778,4394,{"$f":"MAX('T1'!L152,'T2'!J152)+MAX('T1'!M152,'T2'!K152)+MAX('T1'!N152,'T2'!L152)","v":8172},{"$f":"IF(COUNTRY_INFO!K152=1,IF(COUNTRY_INFO!F152*0.33>MAX('T1'!M152,'T2'!K152),MAX('T1'!M152,'T2'!K152),COUNTRY_INFO!F152*0.33),IF(COUNTRY_INFO!K152=2,IF(COUNTRY_INFO!F152*0.5>MAX('T1'!M152,'T2'!K152),MAX('T1'!M152,'T2'!K152),COUNTRY_INFO!F152*0.5),IF(COUNTRY_INFO!K152=3,IF(COUNTRY_INFO!F152>MAX('T1'!M152,'T2'!K152),MAX('T1'!M152,'T2'!K152),COUNTRY_INFO!F152),0)))","v":4431},{"$f":"IF(AND(COUNTRY_INFO!K152>0,COUNTRY_INFO!K152<4),IF(Z152>0,IF(COUNTRY_INFO!K152=1, AD152/(COUNTRY_INFO!F152*0.33)*100, IF(COUNTRY_INFO!K152=2, AD152/(COUNTRY_INFO!F152*0.5)*100, IF(COUNTRY_INFO!K152=3, AD152/COUNTRY_INFO!F152*100))),\"-\"),0)","v":100},{"$f":"IF(COUNTRY_INFO!K152=2,IF(COUNTRY_INFO!G152*0.2>MAX('T1'!N152,'T2'!L152),MAX('T1'!N152,'T2'!L152),COUNTRY_INFO!G152*0.2),IF(COUNTRY_INFO!K152=3,IF(COUNTRY_INFO!G152>MAX('T1'!N152,'T2'!L152),MAX('T1'!N152,'T2'!L152),COUNTRY_INFO!G152),0))","v":0},{"$f":"IF(AND(COUNTRY_INFO!K152>0,COUNTRY_INFO!K152<4),IF(Z152>0,IF(COUNTRY_INFO!K152=1, 0, IF(COUNTRY_INFO!K152=2, AF152/(COUNTRY_INFO!G152*0.2)*100, IF(COUNTRY_INFO!K152=3, AF152/COUNTRY_INFO!G152*100))),\"-\"),0)","v":0},4431,{"$f":"IF(AND(COUNTRY_INFO!K152>0,COUNTRY_INFO!K152<4), IF(AC152/Z152*100<>0, IF(AH152/Z152*100>100,100,AH152/Z152*100), \"-\"),0)","v":54.901620657183926},null,{"$f":"IF(AND(D152<>0, D152<>\"Unknown\",D152<>\"Stopped\",D152<>\"Not required\"),D152/COUNTRY_INFO!D152, 0)","v":1},{"$f":"IF(AND(J152<>0,J152<>\"Unknown\",J152<>\"Stopped\",J152<>\"Not required\"),J152/COUNTRY_INFO!D152, 0)","v":0},{"$f":"IF(AND(P152<>0,P152<>\"Unknown\",P152<>\"Not required\"),P152/(COUNTRY_INFO!E152+COUNTRY_INFO!F152), 0)","v":1},{"$f":"IF(AND(Z152<>0,Z152<>\"Unknown\",Z152<>\"Not required\"),IF(COUNTRY_INFO!K152=1,1,IF(COUNTRY_INFO!K152=2,0.5*COUNTRY_INFO!F152/(0.5*COUNTRY_INFO!F152+0.2*COUNTRY_INFO!G152),IF(COUNTRY_INFO!K152=3,COUNTRY_INFO!F152/(COUNTRY_INFO!F152+COUNTRY_INFO!G152)))),0)","v":0.54901620657183925},{"$f":"IF(AND(Z152<>0,Z152<>\"Unknown\",Z152<>\"Not required\"),IF(COUNTRY_INFO!K152=1,0,IF(COUNTRY_INFO!K152=2,0.2*COUNTRY_INFO!G152/(0.5*COUNTRY_INFO!F152+0.2*COUNTRY_INFO!G152),IF(COUNTRY_INFO!K152=3,COUNTRY_INFO!G152/(COUNTRY_INFO!F152+COUNTRY_INFO!G152)))),0)","v":0.45098379342816081},{"$f":"MAX(COUNTRY_INFO!D152*AK152*PROFILE!$G$7,COUNTRY_INFO!D152*AL152*PROFILE!$G$7)","v":917.86922856062176},{"$f":"MAX(COUNTRY_INFO!D152*AK152*PROFILE!$G$8,COUNTRY_INFO!D152*AL152*PROFILE!$G$8,COUNTRY_INFO!D152*AM152*PROFILE!$G$8)","v":3671.4381215592239},{"$f":"MAX(COUNTRY_INFO!D152*AK152*PROFILE!$G$9,COUNTRY_INFO!D152*AL152*PROFILE!$G$9,COUNTRY_INFO!D152*AM152*PROFILE!$G$9,IF(AND(DISTRICT!Z152<>\"Unknown\",Z152<>\"Not required\"),COUNTRY_INFO!O152*DISTRICT!AN152,0))","v":8862.100493794389},{"$f":"MAX(COUNTRY_INFO!D152*AK152*PROFILE!$G$10,COUNTRY_INFO!D152*AL152*PROFILE!$G$10,IF(AND(DISTRICT!Z152<>\"Unknown\",Z152<>\"Not required\"),COUNTRY_INFO!O152*DISTRICT!AO152,0))","v":18198.967008754062},31650.374852668298,"Y",{"$f":"MAX('MDA2'!J152,'T1'!L152,'T2'!J152,T3_R1!K152,T3_R2!K152)","v":0},{"$f":"MAX('MDA1'!K152,'MDA2'!K152,'MDA3'!I152,'MDA3'!L152,'T1'!M152,'T2'!K152,T3_R1!L152,T3_R2!L152)","v":8172},{"$f":"MAX('MDA1'!L152,'MDA2'!L152,'MDA3'!J152,'MDA3'!M152,'T1'!N152,'T2'!L152,T3_R1!M152,T3_R2!M152)","v":17125},25297,{"$f":"MAX('MDA2'!J152,T152)","v":0},{"$f":"MAX('MDA1'!K152,'MDA2'!K152,'MDA3'!I152,'MDA3'!L152,V152,AD152)","v":7128},{"$f":"MAX('MDA1'!L152,'MDA2'!L152,'MDA3'!J152,'MDA3'!M152,AF152)","v":17125},24253,76.627844418579912]
[{"$f":"IF(COUNTRY_INFO!A153=0,\" \",COUNTRY_INFO!A153)","v":"Mozambique"},{"$f":"IF(COUNTRY_INFO!B153=0,\" \",COUNTRY_INFO!B153)","v":"Gaza"},{"$f":"IF(COUNTRY_INFO!C153=0,\" \",COUNTRY_INFO!C153)","v":"Massangena"},{"$f":"COUNTRY_INFO!L153","v":0},null,null,{"$f":"MAX('MDA1'!M153,'MDA2'!M153)","v":0},{"$f":"IF(AND(COUNTRY_INFO!H153>0,COUNTRY_INFO!H153<4),IF(D153>MAX('MDA1'!M153,'MDA2'!M153),MAX('MDA1'!M153,'MDA2'!M153),D153),0)","v":0},{"$f":"IF(AND(COUNTRY_INFO!H153>0,COUNTRY_INFO!H153<4), IF(G153/D153*100<>0, IF(G153/D153*100>100,100,G153/D153*100), \"-\"),0)","v":0},{"$f":"COUNTRY_INFO!M153","v":"Not required"},null,null,{"$f":"MAX('MDA1'!M153,MAX('MDA3'!I153,'MDA3'!L153)+MAX('MDA3'!J153,'MDA3'!M153))","v":0},{"$f":"IF(AND(COUNTRY_INFO!I153>0,COUNTRY_INFO!I153<4),IF(J153>MAX('MDA1'!M153,MAX('MDA3'!I153,'MDA3'!L153)+MAX('MDA3'!J153,'MDA3'!M153)),MAX('MDA1'!M153,MAX('MDA3'!I153,'MDA3'!L153)+MAX('MDA3'!J153,'MDA3'!M153)),J153),0)","v":0},{"$f":"IF(AND(COUNTRY_INFO!I153>0,COUNTRY_INFO!I153<4), IF(M153/J153*100<>0, IF(M153/J153*100>100,100,M153/J153*100), \"-\"),0)","v":0},{"$f":"COUNTRY_INFO!N153","v":9228},null,null,{"$f":"SUM(MAX('MDA2'!J153, 'T1'!L153, MAX(T3_R1!K153, T3_R2!K153)), MAX('MDA1'!K153, 'MDA2'!K153, 'T1'!M153, MAX(T3_R1!L153, T3_R2!L153)), MAX('MDA1'!L153, 'MDA2'!L153, 'T1'!N153, MAX(T3_R1!M153, T3_R2!M153)))","v":6580},{"$f":"IF(AND(COUNTRY_INFO!J153>1,COUNTRY_INFO!J153<4),IF(COUNTRY_INFO!E153>MAX('MDA2'!J153,'T1'!L153,MAX(T3_R1!K153,T3_R2!K153)),MAX('MDA2'!J153,'T1'!L153,MAX(T3_R1!K153,T3_R2!K153)),COUNTRY_INFO!E153),0)","v":0},{"$f":"IF(AND(COUNTRY_INFO!J153>1,COUNTRY_INFO!J153<4), IF(T153/COUNTRY_INFO!E153*100<>0, IF(T153/COUNTRY_INFO!E153*100>100,100,T153/COUNTRY_INFO!E153*100), \"-\"),0)","v":"-"},{"$f":"IF(AND(COUNTRY_INFO!J153>1,COUNTRY_INFO!J153<4),IF(COUNTRY_INFO!F153>MAX('MDA1'!K153,'MDA2'!K153,'T1'!M153,MAX(T3_R1!L153,T3_R2!L153)),MAX('MDA1'!K153,'MDA2'!K153,'T1'!M153,MAX(T3_R1!L153,T3_R2!L153)),COUNTRY_INFO!F153),0)","v":6525},{"$f":"IF(AND(COUNTRY_INFO!J153>1,COUNTRY_INFO!J153<4), IF(V153/COUNTRY_INFO!F153*100<>0, IF(V153/COUNTRY_INFO!F153*100>100,100,V153/COUNTRY_INFO!F153*100), \"-\"),0)","v":100},6525,{"$f":"IF(AND(COUNTRY_INFO!J153>1,COUNTRY_INFO!J153<4), IF(S153/P153*100<>0, IF(X153/P153*100>100,100,X153/P153*100), \"-\"),0)","v":70.70871261378413},{"$f":"COUNTRY_INFO!O153","v":5942.3},2952,3628,{"$f":"MAX('T1'!L153,'T2'!J153)+MAX('T1'!M153,'T2'!K153)+MAX('T1'!N153,'T2'!L153)","v":6580},{"$f":"IF(COUNTRY_INFO!K153=1,IF(COUNTRY_INFO!F153*0.33>MAX('T1'!M153,'T2'!K153),MAX('T1'!M153,'T2'!K153),COUNTRY_INFO!F153*0.33),IF(COUNTRY_INFO!K153=2,IF(COUNTRY_INFO!F153*0.5>MAX('T1'!M153,'T2'!K153),MAX('T1'!M153,'T2'!K153),COUNTRY_INFO!F153*0.5),IF(COUNTRY_INFO!K153=3,IF(COUNTRY_INFO!F153>MAX('T1'!M153,'T2'!K153),MAX('T1'!M153,'T2'!K153),COUNTRY_INFO!F153),0)))","v":3262.5},{"$f":"IF(AND(COUNTRY_INFO!K153>0,COUNTRY_INFO!K153<4),IF(Z153>0,IF(COUNTRY_INFO!K153=1, AD153/(COUNTRY_INFO!F153*0.33)*100, IF(COUNTRY_INFO!K153=2, AD153/(COUNTRY_INFO!F153*0.5)*100, IF(COUNTRY_INFO!K153=3, AD153/COUNTRY_INFO!F153*100))),\"-\"),0)","v":100},{"$f":"IF(COUNTRY_INFO!K153=2,IF(COUNTRY_INFO!G153*0.2>MAX('T1'!N153,'T2'!L153),MAX('T1'!N153,'T2'!L153),COUNTRY_INFO!G153*0.2),IF(COUNTRY_INFO!K153=3,IF(COUNTRY_INFO!G153>MAX('T1'!N153,'T2'!L153),MAX('T1'!N153,'T2'!L153),COUNTRY_INFO!G153),0))","v":0},{"$f":"IF(AND(COUNTRY_INFO!K153>0,COUNTRY_INFO!K153<4),IF(Z153>0,IF(COUNTRY_INFO!K153=1, 0, IF(COUNTRY_INFO!K153=2, AF153/(COUNTRY_INFO!G153*0.2)*100, IF(COUNTRY_INFO!K153=3, AF153/COUNTRY_INFO!G153*100))),\"-\"),0)","v":0},3262.5,{"$f":"IF(AND(COUNTRY_INFO!K153>0,COUNTRY_INFO!K153<4), IF(AC153/Z153*100<>0, IF(AH153/Z153*100>100,100,AH153/Z153*100), \"-\"),0)","v":54.902983693182769},null,{"$f":"IF(AND(D153<>0, D153<>\"Unknown\",D153<>\"Stopped\",D153<>\"Not required\"),D153/COUNTRY_INFO!D153, 0)","v":0},{"$f":"IF(AND(J153<>0,J153<>\"Unknown\",J153<>\"Stopped\",J153<>\"Not required\"),J153/COUNTRY_INFO!D153, 0)","v":0},{"$f":"IF(AND(P153<>0,P153<>\"Unknown\",P153<>\"Not required\"),P153/(COUNTRY_INFO!E153+COUNTRY_INFO!F153), 0)","v":1},{"$f":"IF(AND(Z153<>0,Z153<>\"Unknown\",Z153<>\"Not required\"),IF(COUNTRY_INFO!K153=1,1,IF(COUNTRY_INFO!K153=2,0.5*COUNTRY_INFO!F153/(0.5*COUNTRY_INFO!F153+0.2*COUNTRY_INFO!G153),IF(COUNTRY_INFO!K153=3,COUNTRY_INFO!F153/(COUNTRY_INFO!F153+COUNTRY_INFO!G153)))),0)","v":0.54902983693182772},{"$f":"IF(AND(Z153<>0,Z153<>\"Unknown\",Z153<>\"Not required\"),IF(COUNTRY_INFO!K153=1,0,IF(COUNTRY_INFO!K153=2,0.2*COUNTRY_INFO!G153/(0.5*COUNTRY_INFO!F153+0.2*COUNTRY_INFO!G153),IF(COUNTRY_INFO!K153=3,COUNTRY_INFO!G153/(COUNTRY_INFO!F153+COUNTRY_INFO!G153)))),0)","v":0.45097016306817228},{"$f":"MAX(COUNTRY_INFO!D153*AK153*PROFILE!$G$7,COUNTRY_INFO!D153*AL153*PROFILE!$G$7)","v":0},{"$f":"MAX(COUNTRY_INFO!D153*AK153*PROFILE!$G$8,COUNTRY_INFO!D153*AL153*PROFILE!$G$8,COUNTRY_INFO!D153*AM153*PROFILE!$G$8)","v":2703.1440526361348},{"$f":"MAX(COUNTRY_INFO!D153*AK153*PROFILE!$G$9,COUNTRY_INFO!D153*AL153*PROFILE!$G$9,COUNTRY_INFO!D153*AM153*PROFILE!$G$9,IF(AND(DISTRICT!Z153<>\"Unknown\",Z153<>\"Not required\"),COUNTRY_INFO!O153*DISTRICT!AN153,0))","v":6524.8367126204967},{"$f":"MAX(COUNTRY_INFO!D153*AK153*PROFILE!$G$10,COUNTRY_INFO!D153*AL153*PROFILE!$G$10,IF(AND(DISTRICT!Z153<>\"Unknown\",Z153<>\"Not required\"),COUNTRY_INFO!O153*DISTRICT!AO153,0))","v":2679.8},11907.78076525663,"Y",{"$f":"MAX('MDA2'!J153,'T1'!L153,'T2'!J153,T3_R1!K153,T3_R2!K153)","v":0},{"$f":"MAX('MDA1'!K153,'MDA2'!K153,'MDA3'!I153,'MDA3'!L153,'T1'!M153,'T2'!K153,T3_R1!L153,T3_R2!L153)","v":6580},{"$f":"MAX('MDA1'!L153,'MDA2'!L153,'MDA3'!J153,'MDA3'!M153,'T1'!N153,'T2'!L153,T3_R1!M153,T3_R2!M153)","v":0},6580,{"$f":"MAX('MDA2'!J153,T153)","v":0},{"$f":"MAX('MDA1'!K153,'MDA2'!K153,'MDA3'!I153,'MDA3'!L153,V153,AD153)","v":6525},{"$f":"MAX('MDA1'!L153,'MDA2'!L153,'MDA3'!J153,'MDA3'!M153,AF153)","v":0},6525,54.796104569190703]
[{"$f":"IF(COUNTRY_INFO!A154=0,\" \",COUNTRY_INFO!A154)","v":"Mozambique"},{"$f":"IF(COUNTRY_INFO!B154=0,\" \",COUNTRY_INFO!B154)","v":"Gaza"},{"$f":"IF(COUNTRY_INFO!C154=0,\" \",COUNTRY_INFO!C154)","v":"Massingir"},{"$f":"COUNTRY_INFO!L154","v":0},null,null,{"$f":"MAX('MDA1'!M154,'MDA2'!M154)","v":0},{"$f":"IF(AND(COUNTRY_INFO!H154>0,COUNTRY_INFO!H154<4),IF(D154>MAX('MDA1'!M154,'MDA2'!M154),MAX('MDA1'!M154,'MDA2'!M154),D154),0)","v":0},{"$f":"IF(AND(COUNTRY_INFO!H154>0,COUNTRY_INFO!H154<4), IF(G154/D154*100<>0, IF(G154/D154*100>100,100,G154/D154*100), \"-\"),0)","v":0},{"$f":"COUNTRY_INFO!M154","v":"Not required"},null,null,{"$f":"MAX('MDA1'!M154,MAX('MDA3'!I154,'MDA3'!L154)+MAX('MDA3'!J154,'MDA3'!M154))","v":0},{"$f":"IF(AND(COUNTRY_INFO!I154>0,COUNTRY_INFO!I154<4),IF(J154>MAX('MDA1'!M154,MAX('MDA3'!I154,'MDA3'!L154)+MAX('MDA3'!J154,'MDA3'!M154)),MAX('MDA1'!M154,MAX('MDA3'!I154,'MDA3'!L154)+MAX('MDA3'!J154,'MDA3'!M154)),J154),0)","v":0},{"$f":"IF(AND(COUNTRY_INFO!I154>0,COUNTRY_INFO!I154<4), IF(M154/J154*100<>0, IF(M154/J154*100>100,100,M154/J154*100), \"-\"),0)","v":0},{"$f":"COUNTRY_INFO!N154","v":15670},null,null,{"$f":"SUM(MAX('MDA2'!J154, 'T1'!L154, MAX(T3_R1!K154, T3_R2!K154)), MAX('MDA1'!K154, 'MDA2'!K154, 'T1'!M154, MAX(T3_R1!L154, T3_R2!L154)), MAX('MDA1'!L154, 'MDA2'!L154, 'T1'!N154, MAX(T3_R1!M154, T3_R2!M154)))","v":10735},{"$f":"IF(AND(COUNTRY_INFO!J154>1,COUNTRY_INFO!J154<4),IF(COUNTRY_INFO!E154>MAX('MDA2'!J154,'T1'!L154,MAX(T3_R1!K154,T3_R2!K154)),MAX('MDA2'!J154,'T1'!L154,MAX(T3_R1!K154,T3_R2!K154)),COUNTRY_INFO!E154),0)","v":0},{"$f":"IF(AND(COUNTRY_INFO!J154>1,COUNTRY_INFO!J154<4), IF(T154/COUNTRY_INFO!E154*100<>0, IF(T154/COUNTRY_INFO!E154*100>100,100,T154/COUNTRY_INFO!E154*100), \"-\"),0)","v":"-"},{"$f":"IF(AND(COUNTRY_INFO!J154>1,COUNTRY_INFO!J154<4),IF(COUNTRY_INFO!F154>MAX('MDA1'!K154,'MDA2'!K154,'T1'!M154,MAX(T3_R1!L154,T3_R2!L154)),MAX('MDA1'!K154,'MDA2'!K154,'T1'!M154,MAX(T3_R1!L154,T3_R2!L154)),COUNTRY_INFO!F154),0)","v":10735},{"$f":"IF(AND(COUNTRY_INFO!J154>1,COUNTRY_INFO!J154<4), IF(V154/COUNTRY_INFO!F154*100<>0, IF(V154/COUNTRY_INFO!F154*100>100,100,V154/COUNTRY_INFO!F154*100), \"-\"),0)","v":96.886281588447659},10735,{"$f":"IF(AND(COUNTRY_INFO!J154>1,COUNTRY_INFO!J154<4), IF(S154/P154*100<>0, IF(X154/P154*100>100,100,X154/P154*100), \"-\"),0)","v":68.506700701978303},{"$f":"COUNTRY_INFO!O154","v":10090.799999999999},5244,5491,{"$f":"MAX('T1'!L154,'T2'!J154)+MAX('T1'!M154,'T2'!K154)+MAX('T1'!N154,'T2'!L154)","v":10735},{"$f":"IF(COUNTRY_INFO!K154=1,IF(COUNTRY_INFO!F154*0.33>MAX('T1'!M154,'T2'!K154),MAX('T1'!M154,'T2'!K154),COUNTRY_INFO!F154*0.33),IF(COUNTRY_INFO!K154=2,IF(COUNTRY_INFO!F154*0.5>MAX('T1'!M154,'T2'!K154),MAX('T1'!M154,'T2'!K154),COUNTRY_INFO!F154*0.5),IF(COUNTRY_INFO!K154=3,IF(COUNTRY_INFO!F154>MAX('T1'!M154,'T2'!K154),MAX('T1'!M154,'T2'!K154),COUNTRY_INFO!F154),0)))","v":5540},{"$f":"IF(AND(COUNTRY_INFO!K154>0,COUNTRY_INFO!K154<4),IF(Z154>0,IF(COUNTRY_INFO!K154=1, AD154/(COUNTRY_INFO!F154*0.33)*100, IF(COUNTRY_INFO!K154=2, AD154/(COUNTRY_INFO!F154*0.5)*100, IF(COUNTRY_INFO!K154=3, AD154/COUNTRY_INFO!F154*100))),\"-\"),0)","v":100},{"$f":"IF(COUNTRY_INFO!K154=2,IF(COUNTRY_INFO!G154*0.2>MAX('T1'!N154,'T2'!L154),MAX('T1'!N154,'T2'!L154),COUNTRY_INFO!G154*0.2),IF(COUNTRY_INFO!K154=3,IF(COUNTRY_INFO!G154>MAX('T1'!N154,'T2'!L154),MAX('T1'!N154,'T2'!L154),COUNTRY_INFO!G154),0))","v":0},{"$f":"IF(AND(COUNTRY_INFO!K154>0,COUNTRY_INFO!K154<4),IF(Z154>0,IF(COUNTRY_INFO!K154=1, 0, IF(COUNTRY_INFO!K154=2, AF154/(COUNTRY_INFO!G154*0.2)*100, IF(COUNTRY_INFO!K154=3, AF154/COUNTRY_INFO!G154*100))),\"-\"),0)","v":0},5540,{"$f":"IF(AND(COUNTRY_INFO!K154>0,COUNTRY_INFO!K154<4), IF(AC154/Z154*100<>0, IF(AH154/Z154*100>100,100,AH154/Z154*100), \"-\"),0)","v":54.90149443057043},null,{"$f":"IF(AND(D154<>0, D154<>\"Unknown\",D154<>\"Stopped\",D154<>\"Not required\"),D154/COUNTRY_INFO!D154, 0)","v":0},{"$f":"IF(AND(J154<>0,J154<>\"Unknown\",J154<>\"Stopped\",J154<>\"Not required\"),J154/COUNTRY_INFO!D154, 0)","v":0},{"$f":"IF(AND(P154<>0,P154<>\"Unknown\",P154<>\"Not required\"),P154/(COUNTRY_INFO!E154+COUNTRY_INFO!F154), 0)","v":1},{"$f":"IF(AND(Z154<>0,Z154<>\"Unknown\",Z154<>\"Not required\"),IF(COUNTRY_INFO!K154=1,1,IF(COUNTRY_INFO!K154=2,0.5*COUNTRY_INFO!F154/(0.5*COUNTRY_INFO!F154+0.2*COUNTRY_INFO!G154),IF(COUNTRY_INFO!K154=3,COUNTRY_INFO!F154/(COUNTRY_INFO!F154+COUNTRY_INFO!G154)))),0)","v":0.5490149443057043},{"$f":"IF(AND(Z154<>0,Z154<>\"Unknown\",Z154<>\"Not required\"),IF(COUNTRY_INFO!K154=1,0,IF(COUNTRY_INFO!K154=2,0.2*COUNTRY_INFO!G154/(0.5*COUNTRY_INFO!F154+0.2*COUNTRY_INFO!G154),IF(COUNTRY_INFO!K154=3,COUNTRY_INFO!G154/(COUNTRY_INFO!F154+COUNTRY_INFO!G154)))),0)","v":0.45098505569429587},{"$f":"MAX(COUNTRY_INFO!D154*AK154*PROFILE!$G$7,COUNTRY_INFO!D154*AL154*PROFILE!$G$7)","v":0},{"$f":"MAX(COUNTRY_INFO!D154*AK154*PROFILE!$G$8,COUNTRY_INFO!D154*AL154*PROFILE!$G$8,COUNTRY_INFO!D154*AM154*PROFILE!$G$8)","v":4590.345296782265},{"$f":"MAX(COUNTRY_INFO!D154*AK154*PROFILE!$G$9,COUNTRY_INFO!D154*AL154*PROFILE!$G$9,COUNTRY_INFO!D154*AM154*PROFILE!$G$9,IF(AND(DISTRICT!Z154<>\"Unknown\",Z154<>\"Not required\"),COUNTRY_INFO!O154*DISTRICT!AN154,0))","v":11080.154417535008},{"$f":"MAX(COUNTRY_INFO!D154*AK154*PROFILE!$G$10,COUNTRY_INFO!D154*AL154*PROFILE!$G$10,IF(AND(DISTRICT!Z154<>\"Unknown\",Z154<>\"Not required\"),COUNTRY_INFO!O154*DISTRICT!AO154,0))","v":4550.8},20221.299714317272,"Y",{"$f":"MAX('MDA2'!J154,'T1'!L154,'T2'!J154,T3_R1!K154,T3_R2!K154)","v":0},{"$f":"MAX('MDA1'!K154,'MDA2'!K154,'MDA3'!I154,'MDA3'!L154,'T1'!M154,'T2'!K154,T3_R1!L154,T3_R2!L154)","v":10735},{"$f":"MAX('MDA1'!L154,'MDA2'!L154,'MDA3'!J154,'MDA3'!M154,'T1'!N154,'T2'!L154,T3_R1!M154,T3_R2!M154)","v":0},10735,{"$f":"MAX('MDA2'!J154,T154)","v":0},{"$f":"MAX('MDA1'!K154,'MDA2'!K154,'MDA3'!I154,'MDA3'!L154,V154,AD154)","v":10735},{"$f":"MAX('MDA1'!L154,'MDA2'!L154,'MDA3'!J154,'MDA3'!M154,AF154)","v":0},10735,53.087586612443637]
[{"$f":"IF(COUNTRY_INFO!A155=0,\" \",COUNTRY_INFO!A155)","v":"Mozambique"},{"$f":"IF(COUNTRY_INFO!B155=0,\" \",COUNTRY_INFO!B155)","v":"Maputo Provincia"},{"$f":"IF(COUNTRY_INFO!C155=0,\" \",COUNTRY_INFO!C155)","v":"Matola"},{"$f":"COUNTRY_INFO!L155","v":0},null,null,{"$f":"MAX('MDA1'!M155,'MDA2'!M155)","v":0},{"$f":"IF(AND(COUNTRY_INFO!H155>0,COUNTRY_INFO!H155<4),IF(D155>MAX('MDA1'!M155,'MDA2'!M155),MAX('MDA1'!M155,'MDA2'!M155),D155),0)","v":0},{"$f":"IF(AND(COUNTRY_INFO!H155>0,COUNTRY_INFO!H155<4), IF(G155/D155*100<>0, IF(G155/D155*100>100,100,G155/D155*100), \"-\"),0)","v":0},{"$f":"COUNTRY_INFO!M155","v":"Not required"},null,null,{"$f":"MAX('MDA1'!M155,MAX('MDA3'!I155,'MDA3'!L155)+MAX('MDA3'!J155,'MDA3'!M155))","v":0},{"$f":"IF(AND(COUNTRY_INFO!I155>0,COUNTRY_INFO!I155<4),IF(J155>MAX('MDA1'!M155,MAX('MDA3'!I155,'MDA3'!L155)+MAX('MDA3'!J155,'MDA3'!M155)),MAX('MDA1'!M155,MAX('MDA3'!I155,'MDA3'!L155)+MAX('MDA3'!J155,'MDA3'!M155)),J155),0)","v":0},{"$f":"IF(AND(COUNTRY_INFO!I155>0,COUNTRY_INFO!I155<4), IF(M155/J155*100<>0, IF(M155/J155*100>100,100,M155/J155*100), \"-\"),0)","v":0},{"$f":"COUNTRY_INFO!N155","v":424156},null,null,{"$f":"SUM(MAX('MDA2'!J155, 'T1'!L155, MAX(T3_R1!K155, T3_R2!K155)), MAX('MDA1'!K155, 'MDA2'!K155, 'T1'!M155, MAX(T3_R1!L155, T3_R2!L155)), MAX('MDA1'!L155, 'MDA2'!L155, 'T1'!N155, MAX(T3_R1!M155, T3_R2!M155)))","v":331562},{"$f":"IF(AND(COUNTRY_INFO!J155>1,COUNTRY_INFO!J155<4),IF(COUNTRY_INFO!E155>MAX('MDA2'!J155,'T1'!L155,MAX(T3_R1!K155,T3_R2!K155)),MAX('MDA2'!J155,'T1'!L155,MAX(T3_R1!K155,T3_R2!K155)),COUNTRY_INFO!E155),0)","v":0},{"$f":"IF(AND(COUNTRY_INFO!J155>1,COUNTRY_INFO!J155<4), IF(T155/COUNTRY_INFO!E155*100<>0, IF(T155/COUNTRY_INFO!E155*100>100,100,T155/COUNTRY_INFO!E155*100), \"-\"),0)","v":"-"},{"$f":"IF(AND(COUNTRY_INFO!J155>1,COUNTRY_INFO!J155<4),IF(COUNTRY_INFO!F155>MAX('MDA1'!K155,'MDA2'!K155,'T1'!M155,MAX(T3_R1!L155,T3_R2!L155)),MAX('MDA1'!K155,'MDA2'!K155,'T1'!M155,MAX(T3_R1!L155,T3_R2!L155)),COUNTRY_INFO!F155),0)","v":299908},{"$f":"IF(AND(COUNTRY_INFO!J155>1,COUNTRY_INFO!J155<4), IF(V155/COUNTRY_INFO!F155*100<>0, IF(V155/COUNTRY_INFO!F155*100>100,100,V155/COUNTRY_INFO!F155*100), \"-\"),0)","v":100},299908,{"$f":"IF(AND(COUNTRY_INFO!J155>1,COUNTRY_INFO!J155<4), IF(S155/P155*100<>0, IF(X155/P155*100>100,100,X155/P155*100), \"-\"),0)","v":70.707004026820314},{"$f":"COUNTRY_INFO!O155","v":273130.40000000002},159020,172542,{"$f":"MAX('T1'!L155,'T2'!J155)+MAX('T1'!M155,'T2'!K155)+MAX('T1'!N155,'T2'!L155)","v":331562},{"$f":"IF(COUNTRY_INFO!K155=1,IF(COUNTRY_INFO!F155*0.33>MAX('T1'!M155,'T2'!K155),MAX('T1'!M155,'T2'!K155),COUNTRY_INFO!F155*0.33),IF(COUNTRY_INFO!K155=2,IF(COUNTRY_INFO!F155*0.5>MAX('T1'!M155,'T2'!K155),MAX('T1'!M155,'T2'!K155),COUNTRY_INFO!F155*0.5),IF(COUNTRY_INFO!K155=3,IF(COUNTRY_INFO!F155>MAX('T1'!M155,'T2'!K155),MAX('T1'!M155,'T2'!K155),COUNTRY_INFO!F155),0)))","v":149954},{"$f":"IF(AND(COUNTRY_INFO!K155>0,COUNTRY_INFO!K155<4),IF(Z155>0,IF(COUNTRY_INFO!K155=1, AD155/(COUNTRY_INFO!F155*0.33)*100, IF(COUNTRY_INFO!K155=2, AD155/(COUNTRY_INFO!F155*0.5)*100, IF(COUNTRY_INFO!K155=3, AD155/COUNTRY_INFO!F155*100))),\"-\"),0)","v":100},{"$f":"IF(COUNTRY_INFO!K155=2,IF(COUNTRY_INFO!G155*0.2>MAX('T1'!N155,'T2'!L155),MAX('T1'!N155,'T2'!L155),COUNTRY_INFO!G155*0.2),IF(COUNTRY_INFO!K155=3,IF(COUNTRY_INFO!G155>MAX('T1'!N155,'T2'!L155),MAX('T1'!N155,'T2'!L155),COUNTRY_INFO!G155),0))","v":0},{"$f":"IF(AND(COUNTRY_INFO!K155>0,COUNTRY_INFO!K155<4),IF(Z155>0,IF(COUNTRY_INFO!K155=1, 0, IF(COUNTRY_INFO!K155=2, AF155/(COUNTRY_INFO!G155*0.2)*100, IF(COUNTRY_INFO!K155=3, AF155/COUNTRY_INFO!G155*100))),\"-\"),0)","v":0},149954,{"$f":"IF(AND(COUNTRY_INFO!K155>0,COUNTRY_INFO!K155<4), IF(AC155/Z155*100<>0, IF(AH155/Z155*100>100,100,AH155/Z155*100), \"-\"),0)","v":54.901980885320711},null,{"$f":"IF(AND(D155<>0, D155<>\"Unknown\",D155<>\"Stopped\",D155<>\"Not required\"),D155/COUNTRY_INFO!D155, 0)","v":0},{"$f":"IF(AND(J155<>0,J155<>\"Unknown\",J155<>\"Stopped\",J155<>\"Not required\"),J155/COUNTRY_INFO!D155, 0)","v":0},{"$f":"IF(AND(P155<>0,P155<>\"Unknown\",P155<>\"Not required\"),P155/(COUNTRY_INFO!E155+COUNTRY_INFO!F155), 0)","v":1},{"$f":"IF(AND(Z155<>0,Z155<>\"Unknown\",Z155<>\"Not required\"),IF(COUNTRY_INFO!K155=1,1,IF(COUNTRY_INFO!K155=2,0.5*COUNTRY_INFO!F155/(0.5*COUNTRY_INFO!F155+0.2*COUNTRY_INFO!G155),IF(COUNTRY_INFO!K155=3,COUNTRY_INFO!F155/(COUNTRY_INFO!F155+COUNTRY_INFO!G155)))),0)","v":0.54901980885320711},{"$f":"IF(AND(Z155<>0,Z155<>\"Unknown\",Z155<>\"Not required\"),IF(COUNTRY_INFO!K155=1,0,IF(COUNTRY_INFO!K155=2,0.2*COUNTRY_INFO!G155/(0.5*COUNTRY_INFO!F155+0.2*COUNTRY_INFO!G155),IF(COUNTRY_INFO!K155=3,COUNTRY_INFO!G155/(COUNTRY_INFO!F155+COUNTRY_INFO!G155)))),0)","v":0.45098019114679289},{"$f":"MAX(COUNTRY_INFO!D155*AK155*PROFILE!$G$7,COUNTRY_INFO!D155*AL155*PROFILE!$G$7)","v":0},{"$f":"MAX(COUNTRY_INFO!D155*AK155*PROFILE!$G$8,COUNTRY_INFO!D155*AL155*PROFILE!$G$8,COUNTRY_INFO!D155*AM155*PROFILE!$G$8)","v":124247.40707363436},{"$f":"MAX(COUNTRY_INFO!D155*AK155*PROFILE!$G$9,COUNTRY_INFO!D155*AL155*PROFILE!$G$9,COUNTRY_INFO!D155*AM155*PROFILE!$G$9,IF(AND(DISTRICT!Z155<>\"Unknown\",Z155<>\"Not required\"),COUNTRY_INFO!O155*DISTRICT!AN155,0))","v":299907.82116526703},{"$f":"MAX(COUNTRY_INFO!D155*AK155*PROFILE!$G$10,COUNTRY_INFO!D155*AL155*PROFILE!$G$10,IF(AND(DISTRICT!Z155<>\"Unknown\",Z155<>\"Not required\"),COUNTRY_INFO!O155*DISTRICT!AO155,0))","v":123176.40000000001},547331.62823890138,"Y",{"$f":"MAX('MDA2'!J155,'T1'!L155,'T2'!J155,T3_R1!K155,T3_R2!K155)","v":0},{"$f":"MAX('MDA1'!K155,'MDA2'!K155,'MDA3'!I155,'MDA3'!L155,'T1'!M155,'T2'!K155,T3_R1!L155,T3_R2!L155)","v":331562},{"$f":"MAX('MDA1'!L155,'MDA2'!L155,'MDA3'!J155,'MDA3'!M155,'T1'!N155,'T2'!L155,T3_R1!M155,T3_R2!M155)","v":0},331562,{"$f":"MAX('MDA2'!J155,T155)","v":0},{"$f":"MAX('MDA1'!K155,'MDA2'!K155,'MDA3'!I155,'MDA3'!L155,V155,AD155)","v":299908},{"$f":"MAX('MDA1'!L155,'MDA2'!L155,'MDA3'!J155,'MDA3'!M155,AF155)","v":0},299908,54.794567776941086]
[{"$f":"IF(COUNTRY_INFO!A156=0,\" \",COUNTRY_INFO!A156)","v":"Mozambique"},{"$f":"IF(COUNTRY_INFO!B156=0,\" \",COUNTRY_INFO!B156)","v":"Maputo Provincia"},{"$f":"IF(COUNTRY_INFO!C156=0,\" \",COUNTRY_INFO!C156)","v":"Boane"},{"$f":"COUNTRY_INFO!L156","v":0},null,null,{"$f":"MAX('MDA1'!M156,'MDA2'!M156)","v":0},{"$f":"IF(AND(COUNTRY_INFO!H156>0,COUNTRY_INFO!H156<4),IF(D156>MAX('MDA1'!M156,'MDA2'!M156),MAX('MDA1'!M156,'MDA2'!M156),D156),0)","v":0},{"$f":"IF(AND(COUNTRY_INFO!H156>0,COUNTRY_INFO!H156<4), IF(G156/D156*100<>0, IF(G156/D156*100>100,100,G156/D156*100), \"-\"),0)","v":0},{"$f":"COUNTRY_INFO!M156","v":"Not required"},null,null,{"$f":"MAX('MDA1'!M156,MAX('MDA3'!I156,'MDA3'!L156)+MAX('MDA3'!J156,'MDA3'!M156))","v":0},{"$f":"IF(AND(COUNTRY_INFO!I156>0,COUNTRY_INFO!I156<4),IF(J156>MAX('MDA1'!M156,MAX('MDA3'!I156,'MDA3'!L156)+MAX('MDA3'!J156,'MDA3'!M156)),MAX('MDA1'!M156,MAX('MDA3'!I156,'MDA3'!L156)+MAX('MDA3'!J156,'MDA3'!M156)),J156),0)","v":0},{"$f":"IF(AND(COUNTRY_INFO!I156>0,COUNTRY_INFO!I156<4), IF(M156/J156*100<>0, IF(M156/J156*100>100,100,M156/J156*100), \"-\"),0)","v":0},{"$f":"COUNTRY_INFO!N156","v":72232},null,null,{"$f":"SUM(MAX('MDA2'!J156, 'T1'!L156, MAX(T3_R1!K156, T3_R2!K156)), MAX('MDA1'!K156, 'MDA2'!K156, 'T1'!M156, MAX(T3_R1!L156, T3_R2!L156)), MAX('MDA1'!L156, 'MDA2'!L156, 'T1'!N156, MAX(T3_R1!M156, T3_R2!M156)))","v":53758},{"$f":"IF(AND(COUNTRY_INFO!J156>1,COUNTRY_INFO!J156<4),IF(COUNTRY_INFO!E156>MAX('MDA2'!J156,'T1'!L156,MAX(T3_R1!K156,T3_R2!K156)),MAX('MDA2'!J156,'T1'!L156,MAX(T3_R1!K156,T3_R2!K156)),COUNTRY_INFO!E156),0)","v":0},{"$f":"IF(AND(COUNTRY_INFO!J156>1,COUNTRY_INFO!J156<4), IF(T156/COUNTRY_INFO!E156*100<>0, IF(T156/COUNTRY_INFO!E156*100>100,100,T156/COUNTRY_INFO!E156*100), \"-\"),0)","v":"-"},{"$f":"IF(AND(COUNTRY_INFO!J156>1,COUNTRY_INFO!J156<4),IF(COUNTRY_INFO!F156>MAX('MDA1'!K156,'MDA2'!K156,'T1'!M156,MAX(T3_R1!L156,T3_R2!L156)),MAX('MDA1'!K156,'MDA2'!K156,'T1'!M156,MAX(T3_R1!L156,T3_R2!L156)),COUNTRY_INFO!F156),0)","v":51073},{"$f":"IF(AND(COUNTRY_INFO!J156>1,COUNTRY_INFO!J156<4), IF(V156/COUNTRY_INFO!F156*100<>0, IF(V156/COUNTRY_INFO!F156*100>100,100,V156/COUNTRY_INFO!F156*100), \"-\"),0)","v":100},51073,{"$f":"IF(AND(COUNTRY_INFO!J156>1,COUNTRY_INFO!J156<4), IF(S156/P156*100<>0, IF(X156/P156*100>100,100,X156/P156*100), \"-\"),0)","v":70.706888913500947},{"$f":"COUNTRY_INFO!O156","v":46512.9},27086,26672,{"$f":"MAX('T1'!L156,'T2'!J156)+MAX('T1'!M156,'T2'!K156)+MAX('T1'!N156,'T2'!L156)","v":53758},{"$f":"IF(COUNTRY_INFO!K156=1,IF(COUNTRY_INFO!F156*0.33>MAX('T1'!M156,'T2'!K156),MAX('T1'!M156,'T2'!K156),COUNTRY_INFO!F156*0.33),IF(COUNTRY_INFO!K156=2,IF(COUNTRY_INFO!F156*0.5>MAX('T1'!M156,'T2'!K156),MAX('T1'!M156,'T2'!K156),COUNTRY_INFO!F156*0.5),IF(COUNTRY_INFO!K156=3,IF(COUNTRY_INFO!F156>MAX('T1'!M156,'T2'!K156),MAX('T1'!M156,'T2'!K156),COUNTRY_INFO!F156),0)))","v":25536.5},{"$f":"IF(AND(COUNTRY_INFO!K156>0,COUNTRY_INFO!K156<4),IF(Z156>0,IF(COUNTRY_INFO!K156=1, AD156/(COUNTRY_INFO!F156*0.33)*100, IF(COUNTRY_INFO!K156=2, AD156/(COUNTRY_INFO!F156*0.5)*100, IF(COUNTRY_INFO!K156=3, AD156/COUNTRY_INFO!F156*100))),\"-\"),0)","v":100},{"$f":"IF(COUNTRY_INFO!K156=2,IF(COUNTRY_INFO!G156*0.2>MAX('T1'!N156,'T2'!L156),MAX('T1'!N156,'T2'!L156),COUNTRY_INFO!G156*0.2),IF(COUNTRY_INFO!K156=3,IF(COUNTRY_INFO!G156>MAX('T1'!N156,'T2'!L156),MAX('T1'!N156,'T2'!L156),COUNTRY_INFO!G156),0))","v":0},{"$f":"IF(AND(COUNTRY_INFO!K156>0,COUNTRY_INFO!K156<4),IF(Z156>0,IF(COUNTRY_INFO!K156=1, 0, IF(COUNTRY_INFO!K156=2, AF156/(COUNTRY_INFO!G156*0.2)*100, IF(COUNTRY_INFO!K156=3, AF156/COUNTRY_INFO!G156*100))),\"-\"),0)","v":0},25536.5,{"$f":"IF(AND(COUNTRY_INFO!K156>0,COUNTRY_INFO!K156<4), IF(AC156/Z156*100<>0, IF(AH156/Z156*100>100,100,AH156/Z156*100), \"-\"),0)","v":54.901973431026661},null,{"$f":"IF(AND(D156<>0, D156<>\"Unknown\",D156<>\"Stopped\",D156<>\"Not required\"),D156/COUNTRY_INFO!D156, 0)","v":0},{"$f":"IF(AND(J156<>0,J156<>\"Unknown\",J156<>\"Stopped\",J156<>\"Not required\"),J156/COUNTRY_INFO!D156, 0)","v":0},{"$f":"IF(AND(P156<>0,P156<>\"Unknown\",P156<>\"Not required\"),P156/(COUNTRY_INFO!E156+COUNTRY_INFO!F156), 0)","v":1},{"$f":"IF(AND(Z156<>0,Z156<>\"Unknown\",Z156<>\"Not required\"),IF(COUNTRY_INFO!K156=1,1,IF(COUNTRY_INFO!K156=2,0.5*COUNTRY_INFO!F156/(0.5*COUNTRY_INFO!F156+0.2*COUNTRY_INFO!G156),IF(COUNTRY_INFO!K156=3,COUNTRY_INFO!F156/(COUNTRY_INFO!F156+COUNTRY_INFO!G156)))),0)","v":0.54901973431026663},{"$f":"IF(AND(Z156<>0,Z156<>\"Unknown\",Z156<>\"Not required\"),IF(COUNTRY_INFO!K156=1,0,IF(COUNTRY_INFO!K156=2,0.2*COUNTRY_INFO!G156/(0.5*COUNTRY_INFO!F156+0.2*COUNTRY_INFO!G156),IF(COUNTRY_INFO!K156=3,COUNTRY_INFO!G156/(COUNTRY_INFO!F156+COUNTRY_INFO!G156)))),0)","v":0.45098026568973343},{"$f":"MAX(COUNTRY_INFO!D156*AK156*PROFILE!$G$7,COUNTRY_INFO!D156*AL156*PROFILE!$G$7)","v":0},{"$f":"MAX(COUNTRY_INFO!D156*AK156*PROFILE!$G$8,COUNTRY_INFO!D156*AL156*PROFILE!$G$8,COUNTRY_INFO!D156*AM156*PROFILE!$G$8)","v":21158.728591204574},{"$f":"MAX(COUNTRY_INFO!D156*AK156*PROFILE!$G$9,COUNTRY_INFO!D156*AL156*PROFILE!$G$9,COUNTRY_INFO!D156*AM156*PROFILE!$G$9,IF(AND(DISTRICT!Z156<>\"Unknown\",Z156<>\"Not required\"),COUNTRY_INFO!O156*DISTRICT!AN156,0))","v":51072.842000273595},{"$f":"MAX(COUNTRY_INFO!D156*AK156*PROFILE!$G$10,COUNTRY_INFO!D156*AL156*PROFILE!$G$10,IF(AND(DISTRICT!Z156<>\"Unknown\",Z156<>\"Not required\"),COUNTRY_INFO!O156*DISTRICT!AO156,0))","v":20976.400000000001},93207.970591478166,"Y",{"$f":"MAX('MDA2'!J156,'T1'!L156,'T2'!J156,T3_R1!K156,T3_R2!K156)","v":0},{"$f":"MAX('MDA1'!K156,'MDA2'!K156,'MDA3'!I156,'MDA3'!L156,'T1'!M156,'T2'!K156,T3_R1!L156,T3_R2!L156)","v":53758},{"$f":"MAX('MDA1'!L156,'MDA2'!L156,'MDA3'!J156,'MDA3'!M156,'T1'!N156,'T2'!L156,T3_R1!M156,T3_R2!M156)","v":0},53758,{"$f":"MAX('MDA2'!J156,T156)","v":0},{"$f":"MAX('MDA1'!K156,'MDA2'!K156,'MDA3'!I156,'MDA3'!L156,V156,AD156)","v":51073},{"$f":"MAX('MDA1'!L156,'MDA2'!L156,'MDA3'!J156,'MDA3'!M156,AF156)","v":0},51073,54.794670108040641]
[{"$f":"IF(COUNTRY_INFO!A157=0,\" \",COUNTRY_INFO!A157)","v":"Mozambique"},{"$f":"IF(COUNTRY_INFO!B157=0,\" \",COUNTRY_INFO!B157)","v":"Maputo Provincia"},{"$f":"IF(COUNTRY_INFO!C157=0,\" \",COUNTRY_INFO!C157)","v":"Magude"},{"$f":"COUNTRY_INFO!L157","v":0},null,null,{"$f":"MAX('MDA1'!M157,'MDA2'!M157)","v":0},{"$f":"IF(AND(COUNTRY_INFO!H157>0,COUNTRY_INFO!H157<4),IF(D157>MAX('MDA1'!M157,'MDA2'!M157),MAX('MDA1'!M157,'MDA2'!M157),D157),0)","v":0},{"$f":"IF(AND(COUNTRY_INFO!H157>0,COUNTRY_INFO!H157<4), IF(G157/D157*100<>0, IF(G157/D157*100>100,100,G157/D157*100), \"-\"),0)","v":0},{"$f":"COUNTRY_INFO!M157","v":"Not required"},null,null,{"$f":"MAX('MDA1'!M157,MAX('MDA3'!I157,'MDA3'!L157)+MAX('MDA3'!J157,'MDA3'!M157))","v":0},{"$f":"IF(AND(COUNTRY_INFO!I157>0,COUNTRY_INFO!I157<4),IF(J157>MAX('MDA1'!M157,MAX('MDA3'!I157,'MDA3'!L157)+MAX('MDA3'!J157,'MDA3'!M157)),MAX('MDA1'!M157,MAX('MDA3'!I157,'MDA3'!L157)+MAX('MDA3'!J157,'MDA3'!M157)),J157),0)","v":0},{"$f":"IF(AND(COUNTRY_INFO!I157>0,COUNTRY_INFO!I157<4), IF(M157/J157*100<>0, IF(M157/J157*100>100,100,M157/J157*100), \"-\"),0)","v":0},{"$f":"COUNTRY_INFO!N157","v":26007},null,null,{"$f":"SUM(MAX('MDA2'!J157, 'T1'!L157, MAX(T3_R1!K157, T3_R2!K157)), MAX('MDA1'!K157, 'MDA2'!K157, 'T1'!M157, MAX(T3_R1!L157, T3_R2!L157)), MAX('MDA1'!L157, 'MDA2'!L157, 'T1'!N157, MAX(T3_R1!M157, T3_R2!M157)))","v":18283},{"$f":"IF(AND(COUNTRY_INFO!J157>1,COUNTRY_INFO!J157<4),IF(COUNTRY_INFO!E157>MAX('MDA2'!J157,'T1'!L157,MAX(T3_R1!K157,T3_R2!K157)),MAX('MDA2'!J157,'T1'!L157,MAX(T3_R1!K157,T3_R2!K157)),COUNTRY_INFO!E157),0)","v":0},{"$f":"IF(AND(COUNTRY_INFO!J157>1,COUNTRY_INFO!J157<4), IF(T157/COUNTRY_INFO!E157*100<>0, IF(T157/COUNTRY_INFO!E157*100>100,100,T157/COUNTRY_INFO!E157*100), \"-\"),0)","v":"-"},{"$f":"IF(AND(COUNTRY_INFO!J157>1,COUNTRY_INFO!J157<4),IF(COUNTRY_INFO!F157>MAX('MDA1'!K157,'MDA2'!K157,'T1'!M157,MAX(T3_R1!L157,T3_R2!L157)),MAX('MDA1'!K157,'MDA2'!K157,'T1'!M157,MAX(T3_R1!L157,T3_R2!L157)),COUNTRY_INFO!F157),0)","v":18283},{"$f":"IF(AND(COUNTRY_INFO!J157>1,COUNTRY_INFO!J157<4), IF(V157/COUNTRY_INFO!F157*100<>0, IF(V157/COUNTRY_INFO!F157*100>100,100,V157/COUNTRY_INFO!F157*100), \"-\"),0)","v":99.423568437652946},18283,{"$f":"IF(AND(COUNTRY_INFO!J157>1,COUNTRY_INFO!J157<4), IF(S157/P157*100<>0, IF(X157/P157*100>100,100,X157/P157*100), \"-\"),0)","v":70.300303764371137},{"$f":"COUNTRY_INFO!O157","v":56152},9605,8678,{"$f":"MAX('T1'!L157,'T2'!J157)+MAX('T1'!M157,'T2'!K157)+MAX('T1'!N157,'T2'!L157)","v":18283},{"$f":"IF(COUNTRY_INFO!K157=1,IF(COUNTRY_INFO!F157*0.33>MAX('T1'!M157,'T2'!K157),MAX('T1'!M157,'T2'!K157),COUNTRY_INFO!F157*0.33),IF(COUNTRY_INFO!K157=2,IF(COUNTRY_INFO!F157*0.5>MAX('T1'!M157,'T2'!K157),MAX('T1'!M157,'T2'!K157),COUNTRY_INFO!F157*0.5),IF(COUNTRY_INFO!K157=3,IF(COUNTRY_INFO!F157>MAX('T1'!M157,'T2'!K157),MAX('T1'!M157,'T2'!K157),COUNTRY_INFO!F157),0)))","v":18283},{"$f":"IF(AND(COUNTRY_INFO!K157>0,COUNTRY_INFO!K157<4),IF(Z157>0,IF(COUNTRY_INFO!K157=1, AD157/(COUNTRY_INFO!F157*0.33)*100, IF(COUNTRY_INFO!K157=2, AD157/(COUNTRY_INFO!F157*0.5)*100, IF(COUNTRY_INFO!K157=3, AD157/COUNTRY_INFO!F157*100))),\"-\"),0)","v":99.423568437652946},{"$f":"IF(COUNTRY_INFO!K157=2,IF(COUNTRY_INFO!G157*0.2>MAX('T1'!N157,'T2'!L157),MAX('T1'!N157,'T2'!L157),COUNTRY_INFO!G157*0.2),IF(COUNTRY_INFO!K157=3,IF(COUNTRY_INFO!G157>MAX('T1'!N157,'T2'!L157),MAX('T1'!N157,'T2'!L157),COUNTRY_INFO!G157),0))","v":0},{"$f":"IF(AND(COUNTRY_INFO!K157>0,COUNTRY_INFO!K157<4),IF(Z157>0,IF(COUNTRY_INFO!K157=1, 0, IF(COUNTRY_INFO!K157=2, AF157/(COUNTRY_INFO!G157*0.2)*100, IF(COUNTRY_INFO!K157=3, AF157/COUNTRY_INFO!G157*100))),\"-\"),0)","v":0},18283,{"$f":"IF(AND(COUNTRY_INFO!K157>0,COUNTRY_INFO!K157<4), IF(AC157/Z157*100<>0, IF(AH157/Z157*100>100,100,AH157/Z157*100), \"-\"),0)","v":32.559837583701388},null,{"$f":"IF(AND(D157<>0, D157<>\"Unknown\",D157<>\"Stopped\",D157<>\"Not required\"),D157/COUNTRY_INFO!D157, 0)","v":0},{"$f":"IF(AND(J157<>0,J157<>\"Unknown\",J157<>\"Stopped\",J157<>\"Not required\"),J157/COUNTRY_INFO!D157, 0)","v":0},{"$f":"IF(AND(P157<>0,P157<>\"Unknown\",P157<>\"Not required\"),P157/(COUNTRY_INFO!E157+COUNTRY_INFO!F157), 0)","v":1},{"$f":"IF(AND(Z157<>0,Z157<>\"Unknown\",Z157<>\"Not required\"),IF(COUNTRY_INFO!K157=1,1,IF(COUNTRY_INFO!K157=2,0.5*COUNTRY_INFO!F157/(0.5*COUNTRY_INFO!F157+0.2*COUNTRY_INFO!G157),IF(COUNTRY_INFO!K157=3,COUNTRY_INFO!F157/(COUNTRY_INFO!F157+COUNTRY_INFO!G157)))),0)","v":0.32748610913235504},{"$f":"IF(AND(Z157<>0,Z157<>\"Unknown\",Z157<>\"Not required\"),IF(COUNTRY_INFO!K157=1,0,IF(COUNTRY_INFO!K157=2,0.2*COUNTRY_INFO!G157/(0.5*COUNTRY_INFO!F157+0.2*COUNTRY_INFO!G157),IF(COUNTRY_INFO!K157=3,COUNTRY_INFO!G157/(COUNTRY_INFO!F157+COUNTRY_INFO!G157)))),0)","v":0.67251389086764501},{"$f":"MAX(COUNTRY_INFO!D157*AK157*PROFILE!$G$7,COUNTRY_INFO!D157*AL157*PROFILE!$G$7)","v":0},{"$f":"MAX(COUNTRY_INFO!D157*AK157*PROFILE!$G$8,COUNTRY_INFO!D157*AL157*PROFILE!$G$8,COUNTRY_INFO!D157*AM157*PROFILE!$G$8)","v":7618.2032585941943},{"$f":"MAX(COUNTRY_INFO!D157*AK157*PROFILE!$G$9,COUNTRY_INFO!D157*AL157*PROFILE!$G$9,COUNTRY_INFO!D157*AM157*PROFILE!$G$9,IF(AND(DISTRICT!Z157<>\"Unknown\",Z157<>\"Not required\"),COUNTRY_INFO!O157*DISTRICT!AN157,0))","v":18389},{"$f":"MAX(COUNTRY_INFO!D157*AK157*PROFILE!$G$10,COUNTRY_INFO!D157*AL157*PROFILE!$G$10,IF(AND(DISTRICT!Z157<>\"Unknown\",Z157<>\"Not required\"),COUNTRY_INFO!O157*DISTRICT!AO157,0))","v":37763},63770.203258594192,"Y",{"$f":"MAX('MDA2'!J157,'T1'!L157,'T2'!J157,T3_R1!K157,T3_R2!K157)","v":0},{"$f":"MAX('MDA1'!K157,'MDA2'!K157,'MDA3'!I157,'MDA3'!L157,'T1'!M157,'T2'!K157,T3_R1!L157,T3_R2!L157)","v":18283},{"$f":"MAX('MDA1'!L157,'MDA2'!L157,'MDA3'!J157,'MDA3'!M157,'T1'!N157,'T2'!L157,T3_R1!M157,T3_R2!M157)","v":0},18283,{"$f":"MAX('MDA2'!J157,T157)","v":0},{"$f":"MAX('MDA1'!K157,'MDA2'!K157,'MDA3'!I157,'MDA3'!L157,V157,AD157)","v":18283},{"$f":"MAX('MDA1'!L157,'MDA2'!L157,'MDA3'!J157,'MDA3'!M157,AF157)","v":0},18283,28.670129724788097]
[{"$f":"IF(COUNTRY_INFO!A158=0,\" \",COUNTRY_INFO!A158)","v":"Mozambique"},{"$f":"IF(COUNTRY_INFO!B158=0,\" \",COUNTRY_INFO!B158)","v":"Maputo Provincia"},{"$f":"IF(COUNTRY_INFO!C158=0,\" \",COUNTRY_INFO!C158)","v":"Manhica"},{"$f":"COUNTRY_INFO!L158","v":0},null,null,{"$f":"MAX('MDA1'!M158,'MDA2'!M158)","v":0},{"$f":"IF(AND(COUNTRY_INFO!H158>0,COUNTRY_INFO!H158<4),IF(D158>MAX('MDA1'!M158,'MDA2'!M158),MAX('MDA1'!M158,'MDA2'!M158),D158),0)","v":0},{"$f":"IF(AND(COUNTRY_INFO!H158>0,COUNTRY_INFO!H158<4), IF(G158/D158*100<>0, IF(G158/D158*100>100,100,G158/D158*100), \"-\"),0)","v":0},{"$f":"COUNTRY_INFO!M158","v":"Not required"},null,null,{"$f":"MAX('MDA1'!M158,MAX('MDA3'!I158,'MDA3'!L158)+MAX('MDA3'!J158,'MDA3'!M158))","v":0},{"$f":"IF(AND(COUNTRY_INFO!I158>0,COUNTRY_INFO!I158<4),IF(J158>MAX('MDA1'!M158,MAX('MDA3'!I158,'MDA3'!L158)+MAX('MDA3'!J158,'MDA3'!M158)),MAX('MDA1'!M158,MAX('MDA3'!I158,'MDA3'!L158)+MAX('MDA3'!J158,'MDA3'!M158)),J158),0)","v":0},{"$f":"IF(AND(COUNTRY_INFO!I158>0,COUNTRY_INFO!I158<4), IF(M158/J158*100<>0, IF(M158/J158*100>100,100,M158/J158*100), \"-\"),0)","v":0},{"$f":"COUNTRY_INFO!N158","v":140197},null,null,{"$f":"SUM(MAX('MDA2'!J158, 'T1'!L158, MAX(T3_R1!K158, T3_R2!K158)), MAX('MDA1'!K158, 'MDA2'!K158, 'T1'!M158, MAX(T3_R1!L158, T3_R2!L158)), MAX('MDA1'!L158, 'MDA2'!L158, 'T1'!N158, MAX(T3_R1!M158, T3_R2!M158)))","v":99655},{"$f":"IF(AND(COUNTRY_INFO!J158>1,COUNTRY_INFO!J158<4),IF(COUNTRY_INFO!E158>MAX('MDA2'!J158,'T1'!L158,MAX(T3_R1!K158,T3_R2!K158)),MAX('MDA2'!J158,'T1'!L158,MAX(T3_R1!K158,T3_R2!K158)),COUNTRY_INFO!E158),0)","v":0},{"$f":"IF(AND(COUNTRY_INFO!J158>1,COUNTRY_INFO!J158<4), IF(T158/COUNTRY_INFO!E158*100<>0, IF(T158/COUNTRY_INFO!E158*100>100,100,T158/COUNTRY_INFO!E158*100), \"-\"),0)","v":"-"},{"$f":"IF(AND(COUNTRY_INFO!J158>1,COUNTRY_INFO!J158<4),IF(COUNTRY_INFO!F158>MAX('MDA1'!K158,'MDA2'!K158,'T1'!M158,MAX(T3_R1!L158,T3_R2!L158)),MAX('MDA1'!K158,'MDA2'!K158,'T1'!M158,MAX(T3_R1!L158,T3_R2!L158)),COUNTRY_INFO!F158),0)","v":99129},{"$f":"IF(AND(COUNTRY_INFO!J158>1,COUNTRY_INFO!J158<4), IF(V158/COUNTRY_INFO!F158*100<>0, IF(V158/COUNTRY_INFO!F158*100>100,100,V158/COUNTRY_INFO!F158*100), \"-\"),0)","v":100},99129,{"$f":"IF(AND(COUNTRY_INFO!J158>1,COUNTRY_INFO!J158<4), IF(S158/P158*100<>0, IF(X158/P158*100>100,100,X158/P158*100), \"-\"),0)","v":70.706933814560941},{"$f":"COUNTRY_INFO!O158","v":90278.1},48480,51175,{"$f":"MAX('T1'!L158,'T2'!J158)+MAX('T1'!M158,'T2'!K158)+MAX('T1'!N158,'T2'!L158)","v":99655},{"$f":"IF(COUNTRY_INFO!K158=1,IF(COUNTRY_INFO!F158*0.33>MAX('T1'!M158,'T2'!K158),MAX('T1'!M158,'T2'!K158),COUNTRY_INFO!F158*0.33),IF(COUNTRY_INFO!K158=2,IF(COUNTRY_INFO!F158*0.5>MAX('T1'!M158,'T2'!K158),MAX('T1'!M158,'T2'!K158),COUNTRY_INFO!F158*0.5),IF(COUNTRY_INFO!K158=3,IF(COUNTRY_INFO!F158>MAX('T1'!M158,'T2'!K158),MAX('T1'!M158,'T2'!K158),COUNTRY_INFO!F158),0)))","v":49564.5},{"$f":"IF(AND(COUNTRY_INFO!K158>0,COUNTRY_INFO!K158<4),IF(Z158>0,IF(COUNTRY_INFO!K158=1, AD158/(COUNTRY_INFO!F158*0.33)*100, IF(COUNTRY_INFO!K158=2, AD158/(COUNTRY_INFO!F158*0.5)*100, IF(COUNTRY_INFO!K158=3, AD158/COUNTRY_INFO!F158*100))),\"-\"),0)","v":100},{"$f":"IF(COUNTRY_INFO!K158=2,IF(COUNTRY_INFO!G158*0.2>MAX('T1'!N158,'T2'!L158),MAX('T1'!N158,'T2'!L158),COUNTRY_INFO!G158*0.2),IF(COUNTRY_INFO!K158=3,IF(COUNTRY_INFO!G158>MAX('T1'!N158,'T2'!L158),MAX('T1'!N158,'T2'!L158),COUNTRY_INFO!G158),0))","v":0},{"$f":"IF(AND(COUNTRY_INFO!K158>0,COUNTRY_INFO!K158<4),IF(Z158>0,IF(COUNTRY_INFO!K158=1, 0, IF(COUNTRY_INFO!K158=2, AF158/(COUNTRY_INFO!G158*0.2)*100, IF(COUNTRY_INFO!K158=3, AF158/COUNTRY_INFO!G158*100))),\"-\"),0)","v":0},49564.5,{"$f":"IF(AND(COUNTRY_INFO!K158>0,COUNTRY_INFO!K158<4), IF(AC158/Z158*100<>0, IF(AH158/Z158*100>100,100,AH158/Z158*100), \"-\"),0)","v":54.902019426638347},null,{"$f":"IF(AND(D158<>0, D158<>\"Unknown\",D158<>\"Stopped\",D158<>\"Not required\"),D158/COUNTRY_INFO!D158, 0)","v":0},{"$f":"IF(AND(J158<>0,J158<>\"Unknown\",J158<>\"Stopped\",J158<>\"Not required\"),J158/COUNTRY_INFO!D158, 0)","v":0},{"$f":"IF(AND(P158<>0,P158<>\"Unknown\",P158<>\"Not required\"),P158/(COUNTRY_INFO!E158+COUNTRY_INFO!F158), 0)","v":1},{"$f":"IF(AND(Z158<>0,Z158<>\"Unknown\",Z158<>\"Not required\"),IF(COUNTRY_INFO!K158=1,1,IF(COUNTRY_INFO!K158=2,0.5*COUNTRY_INFO!F158/(0.5*COUNTRY_INFO!F158+0.2*COUNTRY_INFO!G158),IF(COUNTRY_INFO!K158=3,COUNTRY_INFO!F158/(COUNTRY_INFO!F158+COUNTRY_INFO!G158)))),0)","v":0.54902019426638349},{"$f":"IF(AND(Z158<>0,Z158<>\"Unknown\",Z158<>\"Not required\"),IF(COUNTRY_INFO!K158=1,0,IF(COUNTRY_INFO!K158=2,0.2*COUNTRY_INFO!G158/(0.5*COUNTRY_INFO!F158+0.2*COUNTRY_INFO!G158),IF(COUNTRY_INFO!K158=3,COUNTRY_INFO!G158/(COUNTRY_INFO!F158+COUNTRY_INFO!G158)))),0)","v":0.45097980573361651},{"$f":"MAX(COUNTRY_INFO!D158*AK158*PROFILE!$G$7,COUNTRY_INFO!D158*AL158*PROFILE!$G$7)","v":0},{"$f":"MAX(COUNTRY_INFO!D158*AK158*PROFILE!$G$8,COUNTRY_INFO!D158*AL158*PROFILE!$G$8,COUNTRY_INFO!D158*AM158*PROFILE!$G$8)","v":41067.535692369107},{"$f":"MAX(COUNTRY_INFO!D158*AK158*PROFILE!$G$9,COUNTRY_INFO!D158*AL158*PROFILE!$G$9,COUNTRY_INFO!D158*AM158*PROFILE!$G$9,IF(AND(DISTRICT!Z158<>\"Unknown\",Z158<>\"Not required\"),COUNTRY_INFO!O158*DISTRICT!AN158,0))","v":99128.629242346942},{"$f":"MAX(COUNTRY_INFO!D158*AK158*PROFILE!$G$10,COUNTRY_INFO!D158*AL158*PROFILE!$G$10,IF(AND(DISTRICT!Z158<>\"Unknown\",Z158<>\"Not required\"),COUNTRY_INFO!O158*DISTRICT!AO158,0))","v":40713.600000000006},180909.76493471605,"Y",{"$f":"MAX('MDA2'!J158,'T1'!L158,'T2'!J158,T3_R1!K158,T3_R2!K158)","v":0},{"$f":"MAX('MDA1'!K158,'MDA2'!K158,'MDA3'!I158,'MDA3'!L158,'T1'!M158,'T2'!K158,T3_R1!L158,T3_R2!L158)","v":99655},{"$f":"MAX('MDA1'!L158,'MDA2'!L158,'MDA3'!J158,'MDA3'!M158,'T1'!N158,'T2'!L158,T3_R1!M158,T3_R2!M158)","v":0},99655,{"$f":"MAX('MDA2'!J158,T158)","v":0},{"$f":"MAX('MDA1'!K158,'MDA2'!K158,'MDA3'!I158,'MDA3'!L158,V158,AD158)","v":99129},{"$f":"MAX('MDA1'!L158,'MDA2'!L158,'MDA3'!J158,'MDA3'!M158,AF158)","v":0},99129,54.794720470601554]
[{"$f":"IF(COUNTRY_INFO!A159=0,\" \",COUNTRY_INFO!A159)","v":"Mozambique"},{"$f":"IF(COUNTRY_INFO!B159=0,\" \",COUNTRY_INFO!B159)","v":"Maputo Provincia"},{"$f":"IF(COUNTRY_INFO!C159=0,\" \",COUNTRY_INFO!C159)","v":"Marracuene"},{"$f":"COUNTRY_INFO!L159","v":0},null,null,{"$f":"MAX('MDA1'!M159,'MDA2'!M159)","v":0},{"$f":"IF(AND(COUNTRY_INFO!H159>0,COUNTRY_INFO!H159<4),IF(D159>MAX('MDA1'!M159,'MDA2'!M159),MAX('MDA1'!M159,'MDA2'!M159),D159),0)","v":0},{"$f":"IF(AND(COUNTRY_INFO!H159>0,COUNTRY_INFO!H159<4), IF(G159/D159*100<>0, IF(G159/D159*100>100,100,G159/D159*100), \"-\"),0)","v":0},{"$f":"COUNTRY_INFO!M159","v":"Not required"},null,null,{"$f":"MAX('MDA1'!M159,MAX('MDA3'!I159,'MDA3'!L159)+MAX('MDA3'!J159,'MDA3'!M159))","v":0},{"$f":"IF(AND(COUNTRY_INFO!I159>0,COUNTRY_INFO!I159<4),IF(J159>MAX('MDA1'!M159,MAX('MDA3'!I159,'MDA3'!L159)+MAX('MDA3'!J159,'MDA3'!M159)),MAX('MDA1'!M159,MAX('MDA3'!I159,'MDA3'!L159)+MAX('MDA3'!J159,'MDA3'!M159)),J159),0)","v":0},{"$f":"IF(AND(COUNTRY_INFO!I159>0,COUNTRY_INFO!I159<4), IF(M159/J159*100<>0, IF(M159/J159*100>100,100,M159/J159*100), \"-\"),0)","v":0},{"$f":"COUNTRY_INFO!N159","v":69457},null,null,{"$f":"SUM(MAX('MDA2'!J159, 'T1'!L159, MAX(T3_R1!K159, T3_R2!K159)), MAX('MDA1'!K159, 'MDA2'!K159, 'T1'!M159, MAX(T3_R1!L159, T3_R2!L159)), MAX('MDA1'!L159, 'MDA2'!L159, 'T1'!N159, MAX(T3_R1!M159, T3_R2!M159)))","v":52711},{"$f":"IF(AND(COUNTRY_INFO!J159>1,COUNTRY_INFO!J159<4),IF(COUNTRY_INFO!E159>MAX('MDA2'!J159,'T1'!L159,MAX(T3_R1!K159,T3_R2!K159)),MAX('MDA2'!J159,'T1'!L159,MAX(T3_R1!K159,T3_R2!K159)),COUNTRY_INFO!E159),0)","v":0},{"$f":"IF(AND(COUNTRY_INFO!J159>1,COUNTRY_INFO!J159<4), IF(T159/COUNTRY_INFO!E159*100<>0, IF(T159/COUNTRY_INFO!E159*100>100,100,T159/COUNTRY_INFO!E159*100), \"-\"),0)","v":"-"},{"$f":"IF(AND(COUNTRY_INFO!J159>1,COUNTRY_INFO!J159<4),IF(COUNTRY_INFO!F159>MAX('MDA1'!K159,'MDA2'!K159,'T1'!M159,MAX(T3_R1!L159,T3_R2!L159)),MAX('MDA1'!K159,'MDA2'!K159,'T1'!M159,MAX(T3_R1!L159,T3_R2!L159)),COUNTRY_INFO!F159),0)","v":49111},{"$f":"IF(AND(COUNTRY_INFO!J159>1,COUNTRY_INFO!J159<4), IF(V159/COUNTRY_INFO!F159*100<>0, IF(V159/COUNTRY_INFO!F159*100>100,100,V159/COUNTRY_INFO!F159*100), \"-\"),0)","v":100},49111,{"$f":"IF(AND(COUNTRY_INFO!J159>1,COUNTRY_INFO!J159<4), IF(S159/P159*100<>0, IF(X159/P159*100>100,100,X159/P159*100), \"-\"),0)","v":70.7070561642455},{"$f":"COUNTRY_INFO!O159","v":44726.100000000006},25062,27649,{"$f":"MAX('T1'!L159,'T2'!J159)+MAX('T1'!M159,'T2'!K159)+MAX('T1'!N159,'T2'!L159)","v":52711},{"$f":"IF(COUNTRY_INFO!K159=1,IF(COUNTRY_INFO!F159*0.33>MAX('T1'!M159,'T2'!K159),MAX('T1'!M159,'T2'!K159),COUNTRY_INFO!F159*0.33),IF(COUNTRY_INFO!K159=2,IF(COUNTRY_INFO!F159*0.5>MAX('T1'!M159,'T2'!K159),MAX('T1'!M159,'T2'!K159),COUNTRY_INFO!F159*0.5),IF(COUNTRY_INFO!K159=3,IF(COUNTRY_INFO!F159>MAX('T1'!M159,'T2'!K159),MAX('T1'!M159,'T2'!K159),COUNTRY_INFO!F159),0)))","v":24555.5},{"$f":"IF(AND(COUNTRY_INFO!K159>0,COUNTRY_INFO!K159<4),IF(Z159>0,IF(COUNTRY_INFO!K159=1, AD159/(COUNTRY_INFO!F159*0.33)*100, IF(COUNTRY_INFO!K159=2, AD159/(COUNTRY_INFO!F159*0.5)*100, IF(COUNTRY_INFO!K159=3, AD159/COUNTRY_INFO!F159*100))),\"-\"),0)","v":100},{"$f":"IF(COUNTRY_INFO!K159=2,IF(COUNTRY_INFO!G159*0.2>MAX('T1'!N159,'T2'!L159),MAX('T1'!N159,'T2'!L159),COUNTRY_INFO!G159*0.2),IF(COUNTRY_INFO!K159=3,IF(COUNTRY_INFO!G159>MAX('T1'!N159,'T2'!L159),MAX('T1'!N159,'T2'!L159),COUNTRY_INFO!G159),0))","v":0},{"$f":"IF(AND(COUNTRY_INFO!K159>0,COUNTRY_INFO!K159<4),IF(Z159>0,IF(COUNTRY_INFO!K159=1, 0, IF(COUNTRY_INFO!K159=2, AF159/(COUNTRY_INFO!G159*0.2)*100, IF(COUNTRY_INFO!K159=3, AF159/COUNTRY_INFO!G159*100))),\"-\"),0)","v":0},24555.5,{"$f":"IF(AND(COUNTRY_INFO!K159>0,COUNTRY_INFO!K159<4), IF(AC159/Z159*100<>0, IF(AH159/Z159*100>100,100,AH159/Z159*100), \"-\"),0)","v":54.901947632366777},null,{"$f":"IF(AND(D159<>0, D159<>\"Unknown\",D159<>\"Stopped\",D159<>\"Not required\"),D159/COUNTRY_INFO!D159, 0)","v":0},{"$f":"IF(AND(J159<>0,J159<>\"Unknown\",J159<>\"Stopped\",J159<>\"Not required\"),J159/COUNTRY_INFO!D159, 0)","v":0},{"$f":"IF(AND(P159<>0,P159<>\"Unknown\",P159<>\"Not required\"),P159/(COUNTRY_INFO!E159+COUNTRY_INFO!F159), 0)","v":1},{"$f":"IF(AND(Z159<>0,Z159<>\"Unknown\",Z159<>\"Not required\"),IF(COUNTRY_INFO!K159=1,1,IF(COUNTRY_INFO!K159=2,0.5*COUNTRY_INFO!F159/(0.5*COUNTRY_INFO!F159+0.2*COUNTRY_INFO!G159),IF(COUNTRY_INFO!K159=3,COUNTRY_INFO!F159/(COUNTRY_INFO!F159+COUNTRY_INFO!G159)))),0)","v":0.54901947632366777},{"$f":"IF(AND(Z159<>0,Z159<>\"Unknown\",Z159<>\"Not required\"),IF(COUNTRY_INFO!K159=1,0,IF(COUNTRY_INFO!K159=2,0.2*COUNTRY_INFO!G159/(0.5*COUNTRY_INFO!F159+0.2*COUNTRY_INFO!G159),IF(COUNTRY_INFO!K159=3,COUNTRY_INFO!G159/(COUNTRY_INFO!F159+COUNTRY_INFO!G159)))),0)","v":0.45098052367633218},{"$f":"MAX(COUNTRY_INFO!D159*AK159*PROFILE!$G$7,COUNTRY_INFO!D159*AL159*PROFILE!$G$7)","v":0},{"$f":"MAX(COUNTRY_INFO!D159*AK159*PROFILE!$G$8,COUNTRY_INFO!D159*AL159*PROFILE!$G$8,COUNTRY_INFO!D159*AM159*PROFILE!$G$8)","v":20345.893874781741},{"$f":"MAX(COUNTRY_INFO!D159*AK159*PROFILE!$G$9,COUNTRY_INFO!D159*AL159*PROFILE!$G$9,COUNTRY_INFO!D159*AM159*PROFILE!$G$9,IF(AND(DISTRICT!Z159<>\"Unknown\",Z159<>\"Not required\"),COUNTRY_INFO!O159*DISTRICT!AN159,0))","v":49110.825290939873},{"$f":"MAX(COUNTRY_INFO!D159*AK159*PROFILE!$G$10,COUNTRY_INFO!D159*AL159*PROFILE!$G$10,IF(AND(DISTRICT!Z159<>\"Unknown\",Z159<>\"Not required\"),COUNTRY_INFO!O159*DISTRICT!AO159,0))","v":20170.600000000002},89627.319165721623,"Y",{"$f":"MAX('MDA2'!J159,'T1'!L159,'T2'!J159,T3_R1!K159,T3_R2!K159)","v":0},{"$f":"MAX('MDA1'!K159,'MDA2'!K159,'MDA3'!I159,'MDA3'!L159,'T1'!M159,'T2'!K159,T3_R1!L159,T3_R2!L159)","v":52711},{"$f":"MAX('MDA1'!L159,'MDA2'!L159,'MDA3'!J159,'MDA3'!M159,'T1'!N159,'T2'!L159,T3_R1!M159,T3_R2!M159)","v":0},52711,{"$f":"MAX('MDA2'!J159,T159)","v":0},{"$f":"MAX('MDA1'!K159,'MDA2'!K159,'MDA3'!I159,'MDA3'!L159,V159,AD159)","v":49111},{"$f":"MAX('MDA1'!L159,'MDA2'!L159,'MDA3'!J159,'MDA3'!M159,AF159)","v":0},49111,54.794676954683176]
[{"$f":"IF(COUNTRY_INFO!A160=0,\" \",COUNTRY_INFO!A160)","v":"Mozambique"},{"$f":"IF(COUNTRY_INFO!B160=0,\" \",COUNTRY_INFO!B160)","v":"Maputo Provincia"},{"$f":"IF(COUNTRY_INFO!C160=0,\" \",COUNTRY_INFO!C160)","v":"Matutuíne"},{"$f":"COUNTRY_INFO!L160","v":0},null,null,{"$f":"MAX('MDA1'!M160,'MDA2'!M160)","v":0},{"$f":"IF(AND(COUNTRY_INFO!H160>0,COUNTRY_INFO!H160<4),IF(D160>MAX('MDA1'!M160,'MDA2'!M160),MAX('MDA1'!M160,'MDA2'!M160),D160),0)","v":0},{"$f":"IF(AND(COUNTRY_INFO!H160>0,COUNTRY_INFO!H160<4), IF(G160/D160*100<>0, IF(G160/D160*100>100,100,G160/D160*100), \"-\"),0)","v":0},{"$f":"COUNTRY_INFO!M160","v":"Not required"},null,null,{"$f":"MAX('MDA1'!M160,MAX('MDA3'!I160,'MDA3'!L160)+MAX('MDA3'!J160,'MDA3'!M160))","v":0},{"$f":"IF(AND(COUNTRY_INFO!I160>0,COUNTRY_INFO!I160<4),IF(J160>MAX('MDA1'!M160,MAX('MDA3'!I160,'MDA3'!L160)+MAX('MDA3'!J160,'MDA3'!M160)),MAX('MDA1'!M160,MAX('MDA3'!I160,'MDA3'!L160)+MAX('MDA3'!J160,'MDA3'!M160)),J160),0)","v":0},{"$f":"IF(AND(COUNTRY_INFO!I160>0,COUNTRY_INFO!I160<4), IF(M160/J160*100<>0, IF(M160/J160*100>100,100,M160/J160*100), \"-\"),0)","v":0},{"$f":"COUNTRY_INFO!N160","v":16824},null,null,{"$f":"SUM(MAX('MDA2'!J160, 'T1'!L160, MAX(T3_R1!K160, T3_R2!K160)), MAX('MDA1'!K160, 'MDA2'!K160, 'T1'!M160, MAX(T3_R1!L160, T3_R2!L160)), MAX('MDA1'!L160, 'MDA2'!L160, 'T1'!N160, MAX(T3_R1!M160, T3_R2!M160)))","v":13821},{"$f":"IF(AND(COUNTRY_INFO!J160>1,COUNTRY_INFO!J160<4),IF(COUNTRY_INFO!E160>MAX('MDA2'!J160,'T1'!L160,MAX(T3_R1!K160,T3_R2!K160)),MAX('MDA2'!J160,'T1'!L160,MAX(T3_R1!K160,T3_R2!K160)),COUNTRY_INFO!E160),0)","v":0},{"$f":"IF(AND(COUNTRY_INFO!J160>1,COUNTRY_INFO!J160<4), IF(T160/COUNTRY_INFO!E160*100<>0, IF(T160/COUNTRY_INFO!E160*100>100,100,T160/COUNTRY_INFO!E160*100), \"-\"),0)","v":"-"},{"$f":"IF(AND(COUNTRY_INFO!J160>1,COUNTRY_INFO!J160<4),IF(COUNTRY_INFO!F160>MAX('MDA1'!K160,'MDA2'!K160,'T1'!M160,MAX(T3_R1!L160,T3_R2!L160)),MAX('MDA1'!K160,'MDA2'!K160,'T1'!M160,MAX(T3_R1!L160,T3_R2!L160)),COUNTRY_INFO!F160),0)","v":11896},{"$f":"IF(AND(COUNTRY_INFO!J160>1,COUNTRY_INFO!J160<4), IF(V160/COUNTRY_INFO!F160*100<>0, IF(V160/COUNTRY_INFO!F160*100>100,100,V160/COUNTRY_INFO!F160*100), \"-\"),0)","v":100},11896,{"$f":"IF(AND(COUNTRY_INFO!J160>1,COUNTRY_INFO!J160<4), IF(S160/P160*100<>0, IF(X160/P160*100>100,100,X160/P160*100), \"-\"),0)","v":70.70851165002378},{"$f":"COUNTRY_INFO!O160","v":10833.8},6804,7017,{"$f":"MAX('T1'!L160,'T2'!J160)+MAX('T1'!M160,'T2'!K160)+MAX('T1'!N160,'T2'!L160)","v":13821},{"$f":"IF(COUNTRY_INFO!K160=1,IF(COUNTRY_INFO!F160*0.33>MAX('T1'!M160,'T2'!K160),MAX('T1'!M160,'T2'!K160),COUNTRY_INFO!F160*0.33),IF(COUNTRY_INFO!K160=2,IF(COUNTRY_INFO!F160*0.5>MAX('T1'!M160,'T2'!K160),MAX('T1'!M160,'T2'!K160),COUNTRY_INFO!F160*0.5),IF(COUNTRY_INFO!K160=3,IF(COUNTRY_INFO!F160>MAX('T1'!M160,'T2'!K160),MAX('T1'!M160,'T2'!K160),COUNTRY_INFO!F160),0)))","v":5948},{"$f":"IF(AND(COUNTRY_INFO!K160>0,COUNTRY_INFO!K160<4),IF(Z160>0,IF(COUNTRY_INFO!K160=1, AD160/(COUNTRY_INFO!F160*0.33)*100, IF(COUNTRY_INFO!K160=2, AD160/(COUNTRY_INFO!F160*0.5)*100, IF(COUNTRY_INFO!K160=3, AD160/COUNTRY_INFO!F160*100))),\"-\"),0)","v":100},{"$f":"IF(COUNTRY_INFO!K160=2,IF(COUNTRY_INFO!G160*0.2>MAX('T1'!N160,'T2'!L160),MAX('T1'!N160,'T2'!L160),COUNTRY_INFO!G160*0.2),IF(COUNTRY_INFO!K160=3,IF(COUNTRY_INFO!G160>MAX('T1'!N160,'T2'!L160),MAX('T1'!N160,'T2'!L160),COUNTRY_INFO!G160),0))","v":0},{"$f":"IF(AND(COUNTRY_INFO!K160>0,COUNTRY_INFO!K160<4),IF(Z160>0,IF(COUNTRY_INFO!K160=1, 0, IF(COUNTRY_INFO!K160=2, AF160/(COUNTRY_INFO!G160*0.2)*100, IF(COUNTRY_INFO!K160=3, AF160/COUNTRY_INFO!G160*100))),\"-\"),0)","v":0},5948,{"$f":"IF(AND(COUNTRY_INFO!K160>0,COUNTRY_INFO!K160<4), IF(AC160/Z160*100<>0, IF(AH160/Z160*100>100,100,AH160/Z160*100), \"-\"),0)","v":54.902250364599681},null,{"$f":"IF(AND(D160<>0, D160<>\"Unknown\",D160<>\"Stopped\",D160<>\"Not required\"),D160/COUNTRY_INFO!D160, 0)","v":0},{"$f":"IF(AND(J160<>0,J160<>\"Unknown\",J160<>\"Stopped\",J160<>\"Not required\"),J160/COUNTRY_INFO!D160, 0)","v":0},{"$f":"IF(AND(P160<>0,P160<>\"Unknown\",P160<>\"Not required\"),P160/(COUNTRY_INFO!E160+COUNTRY_INFO!F160), 0)","v":1},{"$f":"IF(AND(Z160<>0,Z160<>\"Unknown\",Z160<>\"Not required\"),IF(COUNTRY_INFO!K160=1,1,IF(COUNTRY_INFO!K160=2,0.5*COUNTRY_INFO!F160/(0.5*COUNTRY_INFO!F160+0.2*COUNTRY_INFO!G160),IF(COUNTRY_INFO!K160=3,COUNTRY_INFO!F160/(COUNTRY_INFO!F160+COUNTRY_INFO!G160)))),0)","v":0.54902250364599681},{"$f":"IF(AND(Z160<>0,Z160<>\"Unknown\",Z160<>\"Not required\"),IF(COUNTRY_INFO!K160=1,0,IF(COUNTRY_INFO!K160=2,0.2*COUNTRY_INFO!G160/(0.5*COUNTRY_INFO!F160+0.2*COUNTRY_INFO!G160),IF(COUNTRY_INFO!K160=3,COUNTRY_INFO!G160/(COUNTRY_INFO!F160+COUNTRY_INFO!G160)))),0)","v":0.45097749635400325},{"$f":"MAX(COUNTRY_INFO!D160*AK160*PROFILE!$G$7,COUNTRY_INFO!D160*AL160*PROFILE!$G$7)","v":0},{"$f":"MAX(COUNTRY_INFO!D160*AK160*PROFILE!$G$8,COUNTRY_INFO!D160*AL160*PROFILE!$G$8,COUNTRY_INFO!D160*AM160*PROFILE!$G$8)","v":4928.3648574752096},{"$f":"MAX(COUNTRY_INFO!D160*AK160*PROFILE!$G$9,COUNTRY_INFO!D160*AL160*PROFILE!$G$9,COUNTRY_INFO!D160*AM160*PROFILE!$G$9,IF(AND(DISTRICT!Z160<>\"Unknown\",Z160<>\"Not required\"),COUNTRY_INFO!O160*DISTRICT!AN160,0))","v":11896.064482350952},{"$f":"MAX(COUNTRY_INFO!D160*AK160*PROFILE!$G$10,COUNTRY_INFO!D160*AL160*PROFILE!$G$10,IF(AND(DISTRICT!Z160<>\"Unknown\",Z160<>\"Not required\"),COUNTRY_INFO!O160*DISTRICT!AO160,0))","v":4885.8},21710.229339826161,"Y",{"$f":"MAX('MDA2'!J160,'T1'!L160,'T2'!J160,T3_R1!K160,T3_R2!K160)","v":0},{"$f":"MAX('MDA1'!K160,'MDA2'!K160,'MDA3'!I160,'MDA3'!L160,'T1'!M160,'T2'!K160,T3_R1!L160,T3_R2!L160)","v":13821},{"$f":"MAX('MDA1'!L160,'MDA2'!L160,'MDA3'!J160,'MDA3'!M160,'T1'!N160,'T2'!L160,T3_R1!M160,T3_R2!M160)","v":0},13821,{"$f":"MAX('MDA2'!J160,T160)","v":0},{"$f":"MAX('MDA1'!K160,'MDA2'!K160,'MDA3'!I160,'MDA3'!L160,V160,AD160)","v":11896},{"$f":"MAX('MDA1'!L160,'MDA2'!L160,'MDA3'!J160,'MDA3'!M160,AF160)","v":0},11896,54.794446497059688]
[{"$f":"IF(COUNTRY_INFO!A161=0,\" \",COUNTRY_INFO!A161)","v":"Mozambique"},{"$f":"IF(COUNTRY_INFO!B161=0,\" \",COUNTRY_INFO!B161)","v":"Maputo Provincia"},{"$f":"IF(COUNTRY_INFO!C161=0,\" \",COUNTRY_INFO!C161)","v":"Moamba"},{"$f":"COUNTRY_INFO!L161","v":0},null,null,{"$f":"MAX('MDA1'!M161,'MDA2'!M161)","v":0},{"$f":"IF(AND(COUNTRY_INFO!H161>0,COUNTRY_INFO!H161<4),IF(D161>MAX('MDA1'!M161,'MDA2'!M161),MAX('MDA1'!M161,'MDA2'!M161),D161),0)","v":0},{"$f":"IF(AND(COUNTRY_INFO!H161>0,COUNTRY_INFO!H161<4), IF(G161/D161*100<>0, IF(G161/D161*100>100,100,G161/D161*100), \"-\"),0)","v":0},{"$f":"COUNTRY_INFO!M161","v":"Not required"},null,null,{"$f":"MAX('MDA1'!M161,MAX('MDA3'!I161,'MDA3'!L161)+MAX('MDA3'!J161,'MDA3'!M161))","v":0},{"$f":"IF(AND(COUNTRY_INFO!I161>0,COUNTRY_INFO!I161<4),IF(J161>MAX('MDA1'!M161,MAX('MDA3'!I161,'MDA3'!L161)+MAX('MDA3'!J161,'MDA3'!M161)),MAX('MDA1'!M161,MAX('MDA3'!I161,'MDA3'!L161)+MAX('MDA3'!J161,'MDA3'!M161)),J161),0)","v":0},{"$f":"IF(AND(COUNTRY_INFO!I161>0,COUNTRY_INFO!I161<4), IF(M161/J161*100<>0, IF(M161/J161*100>100,100,M161/J161*100), \"-\"),0)","v":0},{"$f":"COUNTRY_INFO!N161","v":29240},null,null,{"$f":"SUM(MAX('MDA2'!J161, 'T1'!L161, MAX(T3_R1!K161, T3_R2!K161)), MAX('MDA1'!K161, 'MDA2'!K161, 'T1'!M161, MAX(T3_R1!L161, T3_R2!L161)), MAX('MDA1'!L161, 'MDA2'!L161, 'T1'!N161, MAX(T3_R1!M161, T3_R2!M161)))","v":22749},{"$f":"IF(AND(COUNTRY_INFO!J161>1,COUNTRY_INFO!J161<4),IF(COUNTRY_INFO!E161>MAX('MDA2'!J161,'T1'!L161,MAX(T3_R1!K161,T3_R2!K161)),MAX('MDA2'!J161,'T1'!L161,MAX(T3_R1!K161,T3_R2!K161)),COUNTRY_INFO!E161),0)","v":0},{"$f":"IF(AND(COUNTRY_INFO!J161>1,COUNTRY_INFO!J161<4), IF(T161/COUNTRY_INFO!E161*100<>0, IF(T161/COUNTRY_INFO!E161*100>100,100,T161/COUNTRY_INFO!E161*100), \"-\"),0)","v":"-"},{"$f":"IF(AND(COUNTRY_INFO!J161>1,COUNTRY_INFO!J161<4),IF(COUNTRY_INFO!F161>MAX('MDA1'!K161,'MDA2'!K161,'T1'!M161,MAX(T3_R1!L161,T3_R2!L161)),MAX('MDA1'!K161,'MDA2'!K161,'T1'!M161,MAX(T3_R1!L161,T3_R2!L161)),COUNTRY_INFO!F161),0)","v":20675},{"$f":"IF(AND(COUNTRY_INFO!J161>1,COUNTRY_INFO!J161<4), IF(V161/COUNTRY_INFO!F161*100<>0, IF(V161/COUNTRY_INFO!F161*100>100,100,V161/COUNTRY_INFO!F161*100), \"-\"),0)","v":100},20675,{"$f":"IF(AND(COUNTRY_INFO!J161>1,COUNTRY_INFO!J161<4), IF(S161/P161*100<>0, IF(X161/P161*100>100,100,X161/P161*100), \"-\"),0)","v":70.707934336525312},{"$f":"COUNTRY_INFO!O161","v":18828.900000000001},11068,11681,{"$f":"MAX('T1'!L161,'T2'!J161)+MAX('T1'!M161,'T2'!K161)+MAX('T1'!N161,'T2'!L161)","v":22749},{"$f":"IF(COUNTRY_INFO!K161=1,IF(COUNTRY_INFO!F161*0.33>MAX('T1'!M161,'T2'!K161),MAX('T1'!M161,'T2'!K161),COUNTRY_INFO!F161*0.33),IF(COUNTRY_INFO!K161=2,IF(COUNTRY_INFO!F161*0.5>MAX('T1'!M161,'T2'!K161),MAX('T1'!M161,'T2'!K161),COUNTRY_INFO!F161*0.5),IF(COUNTRY_INFO!K161=3,IF(COUNTRY_INFO!F161>MAX('T1'!M161,'T2'!K161),MAX('T1'!M161,'T2'!K161),COUNTRY_INFO!F161),0)))","v":10337.5},{"$f":"IF(AND(COUNTRY_INFO!K161>0,COUNTRY_INFO!K161<4),IF(Z161>0,IF(COUNTRY_INFO!K161=1, AD161/(COUNTRY_INFO!F161*0.33)*100, IF(COUNTRY_INFO!K161=2, AD161/(COUNTRY_INFO!F161*0.5)*100, IF(COUNTRY_INFO!K161=3, AD161/COUNTRY_INFO!F161*100))),\"-\"),0)","v":100},{"$f":"IF(COUNTRY_INFO!K161=2,IF(COUNTRY_INFO!G161*0.2>MAX('T1'!N161,'T2'!L161),MAX('T1'!N161,'T2'!L161),COUNTRY_INFO!G161*0.2),IF(COUNTRY_INFO!K161=3,IF(COUNTRY_INFO!G161>MAX('T1'!N161,'T2'!L161),MAX('T1'!N161,'T2'!L161),COUNTRY_INFO!G161),0))","v":0},{"$f":"IF(AND(COUNTRY_INFO!K161>0,COUNTRY_INFO!K161<4),IF(Z161>0,IF(COUNTRY_INFO!K161=1, 0, IF(COUNTRY_INFO!K161=2, AF161/(COUNTRY_INFO!G161*0.2)*100, IF(COUNTRY_INFO!K161=3, AF161/COUNTRY_INFO!G161*100))),\"-\"),0)","v":0},10337.5,{"$f":"IF(AND(COUNTRY_INFO!K161>0,COUNTRY_INFO!K161<4), IF(AC161/Z161*100<>0, IF(AH161/Z161*100>100,100,AH161/Z161*100), \"-\"),0)","v":54.902304436265524},null,{"$f":"IF(AND(D161<>0, D161<>\"Unknown\",D161<>\"Stopped\",D161<>\"Not required\"),D161/COUNTRY_INFO!D161, 0)","v":0},{"$f":"IF(AND(J161<>0,J161<>\"Unknown\",J161<>\"Stopped\",J161<>\"Not required\"),J161/COUNTRY_INFO!D161, 0)","v":0},{"$f":"IF(AND(P161<>0,P161<>\"Unknown\",P161<>\"Not required\"),P161/(COUNTRY_INFO!E161+COUNTRY_INFO!F161), 0)","v":1},{"$f":"IF(AND(Z161<>0,Z161<>\"Unknown\",Z161<>\"Not required\"),IF(COUNTRY_INFO!K161=1,1,IF(COUNTRY_INFO!K161=2,0.5*COUNTRY_INFO!F161/(0.5*COUNTRY_INFO!F161+0.2*COUNTRY_INFO!G161),IF(COUNTRY_INFO!K161=3,COUNTRY_INFO!F161/(COUNTRY_INFO!F161+COUNTRY_INFO!G161)))),0)","v":0.54902304436265525},{"$f":"IF(AND(Z161<>0,Z161<>\"Unknown\",Z161<>\"Not required\"),IF(COUNTRY_INFO!K161=1,0,IF(COUNTRY_INFO!K161=2,0.2*COUNTRY_INFO!G161/(0.5*COUNTRY_INFO!F161+0.2*COUNTRY_INFO!G161),IF(COUNTRY_INFO!K161=3,COUNTRY_INFO!G161/(COUNTRY_INFO!F161+COUNTRY_INFO!G161)))),0)","v":0.45097695563734469},{"$f":"MAX(COUNTRY_INFO!D161*AK161*PROFILE!$G$7,COUNTRY_INFO!D161*AL161*PROFILE!$G$7)","v":0},{"$f":"MAX(COUNTRY_INFO!D161*AK161*PROFILE!$G$8,COUNTRY_INFO!D161*AL161*PROFILE!$G$8,COUNTRY_INFO!D161*AM161*PROFILE!$G$8)","v":8565.2417061911365},{"$f":"MAX(COUNTRY_INFO!D161*AK161*PROFILE!$G$9,COUNTRY_INFO!D161*AL161*PROFILE!$G$9,COUNTRY_INFO!D161*AM161*PROFILE!$G$9,IF(AND(DISTRICT!Z161<>\"Unknown\",Z161<>\"Not required\"),COUNTRY_INFO!O161*DISTRICT!AN161,0))","v":20674.741134318294},{"$f":"MAX(COUNTRY_INFO!D161*AK161*PROFILE!$G$10,COUNTRY_INFO!D161*AL161*PROFILE!$G$10,IF(AND(DISTRICT!Z161<>\"Unknown\",Z161<>\"Not required\"),COUNTRY_INFO!O161*DISTRICT!AO161,0))","v":8491.4},37731.382840509432,"Y",{"$f":"MAX('MDA2'!J161,'T1'!L161,'T2'!J161,T3_R1!K161,T3_R2!K161)","v":0},{"$f":"MAX('MDA1'!K161,'MDA2'!K161,'MDA3'!I161,'MDA3'!L161,'T1'!M161,'T2'!K161,T3_R1!L161,T3_R2!L161)","v":22749},{"$f":"MAX('MDA1'!L161,'MDA2'!L161,'MDA3'!J161,'MDA3'!M161,'T1'!N161,'T2'!L161,T3_R1!M161,T3_R2!M161)","v":0},22749,{"$f":"MAX('MDA2'!J161,T161)","v":0},{"$f":"MAX('MDA1'!K161,'MDA2'!K161,'MDA3'!I161,'MDA3'!L161,V161,AD161)","v":20675},{"$f":"MAX('MDA1'!L161,'MDA2'!L161,'MDA3'!J161,'MDA3'!M161,AF161)","v":0},20675,54.795235275084487]
[{"$f":"IF(COUNTRY_INFO!A162=0,\" \",COUNTRY_INFO!A162)","v":"Mozambique"},{"$f":"IF(COUNTRY_INFO!B162=0,\" \",COUNTRY_INFO!B162)","v":"Maputo Provincia"},{"$f":"IF(COUNTRY_INFO!C162=0,\" \",COUNTRY_INFO!C162)","v":"Namaacha"},{"$f":"COUNTRY_INFO!L162","v":0},null,null,{"$f":"MAX('MDA1'!M162,'MDA2'!M162)","v":0},{"$f":"IF(AND(COUNTRY_INFO!H162>0,COUNTRY_INFO!H162<4),IF(D162>MAX('MDA1'!M162,'MDA2'!M162),MAX('MDA1'!M162,'MDA2'!M162),D162),0)","v":0},{"$f":"IF(AND(COUNTRY_INFO!H162>0,COUNTRY_INFO!H162<4), IF(G162/D162*100<>0, IF(G162/D162*100>100,100,G162/D162*100), \"-\"),0)","v":0},{"$f":"COUNTRY_INFO!M162","v":"Not required"},null,null,{"$f":"MAX('MDA1'!M162,MAX('MDA3'!I162,'MDA3'!L162)+MAX('MDA3'!J162,'MDA3'!M162))","v":0},{"$f":"IF(AND(COUNTRY_INFO!I162>0,COUNTRY_INFO!I162<4),IF(J162>MAX('MDA1'!M162,MAX('MDA3'!I162,'MDA3'!L162)+MAX('MDA3'!J162,'MDA3'!M162)),MAX('MDA1'!M162,MAX('MDA3'!I162,'MDA3'!L162)+MAX('MDA3'!J162,'MDA3'!M162)),J162),0)","v":0},{"$f":"IF(AND(COUNTRY_INFO!I162>0,COUNTRY_INFO!I162<4), IF(M162/J162*100<>0, IF(M162/J162*100>100,100,M162/J162*100), \"-\"),0)","v":0},{"$f":"COUNTRY_INFO!N162","v":22030},null,null,{"$f":"SUM(MAX('MDA2'!J162, 'T1'!L162, MAX(T3_R1!K162, T3_R2!K162)), MAX('MDA1'!K162, 'MDA2'!K162, 'T1'!M162, MAX(T3_R1!L162, T3_R2!L162)), MAX('MDA1'!L162, 'MDA2'!L162, 'T1'!N162, MAX(T3_R1!M162, T3_R2!M162)))","v":15537},{"$f":"IF(AND(COUNTRY_INFO!J162>1,COUNTRY_INFO!J162<4),IF(COUNTRY_INFO!E162>MAX('MDA2'!J162,'T1'!L162,MAX(T3_R1!K162,T3_R2!K162)),MAX('MDA2'!J162,'T1'!L162,MAX(T3_R1!K162,T3_R2!K162)),COUNTRY_INFO!E162),0)","v":0},{"$f":"IF(AND(COUNTRY_INFO!J162>1,COUNTRY_INFO!J162<4), IF(T162/COUNTRY_INFO!E162*100<>0, IF(T162/COUNTRY_INFO!E162*100>100,100,T162/COUNTRY_INFO!E162*100), \"-\"),0)","v":"-"},{"$f":"IF(AND(COUNTRY_INFO!J162>1,COUNTRY_INFO!J162<4),IF(COUNTRY_INFO!F162>MAX('MDA1'!K162,'MDA2'!K162,'T1'!M162,MAX(T3_R1!L162,T3_R2!L162)),MAX('MDA1'!K162,'MDA2'!K162,'T1'!M162,MAX(T3_R1!L162,T3_R2!L162)),COUNTRY_INFO!F162),0)","v":15537},{"$f":"IF(AND(COUNTRY_INFO!J162>1,COUNTRY_INFO!J162<4), IF(V162/COUNTRY_INFO!F162*100<>0, IF(V162/COUNTRY_INFO!F162*100>100,100,V162/COUNTRY_INFO!F162*100), \"-\"),0)","v":99.743211144636319},15537,{"$f":"IF(AND(COUNTRY_INFO!J162>1,COUNTRY_INFO!J162<4), IF(S162/P162*100<>0, IF(X162/P162*100>100,100,X162/P162*100), \"-\"),0)","v":70.526554698138895},{"$f":"COUNTRY_INFO!O162","v":47565},7590,7947,{"$f":"MAX('T1'!L162,'T2'!J162)+MAX('T1'!M162,'T2'!K162)+MAX('T1'!N162,'T2'!L162)","v":15537},{"$f":"IF(COUNTRY_INFO!K162=1,IF(COUNTRY_INFO!F162*0.33>MAX('T1'!M162,'T2'!K162),MAX('T1'!M162,'T2'!K162),COUNTRY_INFO!F162*0.33),IF(COUNTRY_INFO!K162=2,IF(COUNTRY_INFO!F162*0.5>MAX('T1'!M162,'T2'!K162),MAX('T1'!M162,'T2'!K162),COUNTRY_INFO!F162*0.5),IF(COUNTRY_INFO!K162=3,IF(COUNTRY_INFO!F162>MAX('T1'!M162,'T2'!K162),MAX('T1'!M162,'T2'!K162),COUNTRY_INFO!F162),0)))","v":15537},{"$f":"IF(AND(COUNTRY_INFO!K162>0,COUNTRY_INFO!K162<4),IF(Z162>0,IF(COUNTRY_INFO!K162=1, AD162/(COUNTRY_INFO!F162*0.33)*100, IF(COUNTRY_INFO!K162=2, AD162/(COUNTRY_INFO!F162*0.5)*100, IF(COUNTRY_INFO!K162=3, AD162/COUNTRY_INFO!F162*100))),\"-\"),0)","v":99.743211144636319},{"$f":"IF(COUNTRY_INFO!K162=2,IF(COUNTRY_INFO!G162*0.2>MAX('T1'!N162,'T2'!L162),MAX('T1'!N162,'T2'!L162),COUNTRY_INFO!G162*0.2),IF(COUNTRY_INFO!K162=3,IF(COUNTRY_INFO!G162>MAX('T1'!N162,'T2'!L162),MAX('T1'!N162,'T2'!L162),COUNTRY_INFO!G162),0))","v":0},{"$f":"IF(AND(COUNTRY_INFO!K162>0,COUNTRY_INFO!K162<4),IF(Z162>0,IF(COUNTRY_INFO!K162=1, 0, IF(COUNTRY_INFO!K162=2, AF162/(COUNTRY_INFO!G162*0.2)*100, IF(COUNTRY_INFO!K162=3, AF162/COUNTRY_INFO!G162*100))),\"-\"),0)","v":0},15537,{"$f":"IF(AND(COUNTRY_INFO!K162>0,COUNTRY_INFO!K162<4), IF(AC162/Z162*100<>0, IF(AH162/Z162*100>100,100,AH162/Z162*100), \"-\"),0)","v":32.664774519079153},null,{"$f":"IF(AND(D162<>0, D162<>\"Unknown\",D162<>\"Stopped\",D162<>\"Not required\"),D162/COUNTRY_INFO!D162, 0)","v":0},{"$f":"IF(AND(J162<>0,J162<>\"Unknown\",J162<>\"Stopped\",J162<>\"Not required\"),J162/COUNTRY_INFO!D162, 0)","v":0},{"$f":"IF(AND(P162<>0,P162<>\"Unknown\",P162<>\"Not required\"),P162/(COUNTRY_INFO!E162+COUNTRY_INFO!F162), 0)","v":1},{"$f":"IF(AND(Z162<>0,Z162<>\"Unknown\",Z162<>\"Not required\"),IF(COUNTRY_INFO!K162=1,1,IF(COUNTRY_INFO!K162=2,0.5*COUNTRY_INFO!F162/(0.5*COUNTRY_INFO!F162+0.2*COUNTRY_INFO!G162),IF(COUNTRY_INFO!K162=3,COUNTRY_INFO!F162/(COUNTRY_INFO!F162+COUNTRY_INFO!G162)))),0)","v":0.32748869967413013},{"$f":"IF(AND(Z162<>0,Z162<>\"Unknown\",Z162<>\"Not required\"),IF(COUNTRY_INFO!K162=1,0,IF(COUNTRY_INFO!K162=2,0.2*COUNTRY_INFO!G162/(0.5*COUNTRY_INFO!F162+0.2*COUNTRY_INFO!G162),IF(COUNTRY_INFO!K162=3,COUNTRY_INFO!G162/(COUNTRY_INFO!F162+COUNTRY_INFO!G162)))),0)","v":0.67251130032586981},{"$f":"MAX(COUNTRY_INFO!D162*AK162*PROFILE!$G$7,COUNTRY_INFO!D162*AL162*PROFILE!$G$7)","v":0},{"$f":"MAX(COUNTRY_INFO!D162*AK162*PROFILE!$G$8,COUNTRY_INFO!D162*AL162*PROFILE!$G$8,COUNTRY_INFO!D162*AM162*PROFILE!$G$8)","v":6453.2426771348473},{"$f":"MAX(COUNTRY_INFO!D162*AK162*PROFILE!$G$9,COUNTRY_INFO!D162*AL162*PROFILE!$G$9,COUNTRY_INFO!D162*AM162*PROFILE!$G$9,IF(AND(DISTRICT!Z162<>\"Unknown\",Z162<>\"Not required\"),COUNTRY_INFO!O162*DISTRICT!AN162,0))","v":15577},{"$f":"MAX(COUNTRY_INFO!D162*AK162*PROFILE!$G$10,COUNTRY_INFO!D162*AL162*PROFILE!$G$10,IF(AND(DISTRICT!Z162<>\"Unknown\",Z162<>\"Not required\"),COUNTRY_INFO!O162*DISTRICT!AO162,0))","v":31987.999999999996},54018.24267713484,"Y",{"$f":"MAX('MDA2'!J162,'T1'!L162,'T2'!J162,T3_R1!K162,T3_R2!K162)","v":0},{"$f":"MAX('MDA1'!K162,'MDA2'!K162,'MDA3'!I162,'MDA3'!L162,'T1'!M162,'T2'!K162,T3_R1!L162,T3_R2!L162)","v":15537},{"$f":"MAX('MDA1'!L162,'MDA2'!L162,'MDA3'!J162,'MDA3'!M162,'T1'!N162,'T2'!L162,T3_R1!M162,T3_R2!M162)","v":0},15537,{"$f":"MAX('MDA2'!J162,T162)","v":0},{"$f":"MAX('MDA1'!K162,'MDA2'!K162,'MDA3'!I162,'MDA3'!L162,V162,AD162)","v":15537},{"$f":"MAX('MDA1'!L162,'MDA2'!L162,'MDA3'!J162,'MDA3'!M162,AF162)","v":0},15537,28.762505461097852]
[{"$f":"IF(COUNTRY_INFO!A163=0,\" \",COUNTRY_INFO!A163)","v":"Mozambique"},{"$f":"IF(COUNTRY_INFO!B163=0,\" \",COUNTRY_INFO!B163)","v":"Cidade de Maputo"},{"$f":"IF(COUNTRY_INFO!C163=0,\" \",COUNTRY_INFO!C163)","v":"Kampfumu"},{"$f":"COUNTRY_INFO!L163","v":0},null,null,{"$f":"MAX('MDA1'!M163,'MDA2'!M163)","v":0},{"$f":"IF(AND(COUNTRY_INFO!H163>0,COUNTRY_INFO!H163<4),IF(D163>MAX('MDA1'!M163,'MDA2'!M163),MAX('MDA1'!M163,'MDA2'!M163),D163),0)","v":0},{"$f":"IF(AND(COUNTRY_INFO!H163>0,COUNTRY_INFO!H163<4), IF(G163/D163*100<>0, IF(G163/D163*100>100,100,G163/D163*100), \"-\"),0)","v":0},{"$f":"COUNTRY_INFO!M163","v":"Not required"},null,null,{"$f":"MAX('MDA1'!M163,MAX('MDA3'!I163,'MDA3'!L163)+MAX('MDA3'!J163,'MDA3'!M163))","v":0},{"$f":"IF(AND(COUNTRY_INFO!I163>0,COUNTRY_INFO!I163<4),IF(J163>MAX('MDA1'!M163,MAX('MDA3'!I163,'MDA3'!L163)+MAX('MDA3'!J163,'MDA3'!M163)),MAX('MDA1'!M163,MAX('MDA3'!I163,'MDA3'!L163)+MAX('MDA3'!J163,'MDA3'!M163)),J163),0)","v":0},{"$f":"IF(AND(COUNTRY_INFO!I163>0,COUNTRY_INFO!I163<4), IF(M163/J163*100<>0, IF(M163/J163*100>100,100,M163/J163*100), \"-\"),0)","v":0},{"$f":"COUNTRY_INFO!N163","v":44726},null,null,{"$f":"SUM(MAX('MDA2'!J163, 'T1'!L163, MAX(T3_R1!K163, T3_R2!K163)), MAX('MDA1'!K163, 'MDA2'!K163, 'T1'!M163, MAX(T3_R1!L163, T3_R2!L163)), MAX('MDA1'!L163, 'MDA2'!L163, 'T1'!N163, MAX(T3_R1!M163, T3_R2!M163)))","v":31898},{"$f":"IF(AND(COUNTRY_INFO!J163>1,COUNTRY_INFO!J163<4),IF(COUNTRY_INFO!E163>MAX('MDA2'!J163,'T1'!L163,MAX(T3_R1!K163,T3_R2!K163)),MAX('MDA2'!J163,'T1'!L163,MAX(T3_R1!K163,T3_R2!K163)),COUNTRY_INFO!E163),0)","v":0},{"$f":"IF(AND(COUNTRY_INFO!J163>1,COUNTRY_INFO!J163<4), IF(T163/COUNTRY_INFO!E163*100<>0, IF(T163/COUNTRY_INFO!E163*100>100,100,T163/COUNTRY_INFO!E163*100), \"-\"),0)","v":"-"},{"$f":"IF(AND(COUNTRY_INFO!J163>1,COUNTRY_INFO!J163<4),IF(COUNTRY_INFO!F163>MAX('MDA1'!K163,'MDA2'!K163,'T1'!M163,MAX(T3_R1!L163,T3_R2!L163)),MAX('MDA1'!K163,'MDA2'!K163,'T1'!M163,MAX(T3_R1!L163,T3_R2!L163)),COUNTRY_INFO!F163),0)","v":31624},{"$f":"IF(AND(COUNTRY_INFO!J163>1,COUNTRY_INFO!J163<4), IF(V163/COUNTRY_INFO!F163*100<>0, IF(V163/COUNTRY_INFO!F163*100>100,100,V163/COUNTRY_INFO!F163*100), \"-\"),0)","v":100},31624,{"$f":"IF(AND(COUNTRY_INFO!J163>1,COUNTRY_INFO!J163<4), IF(S163/P163*100<>0, IF(X163/P163*100>100,100,X163/P163*100), \"-\"),0)","v":70.706077002191108},{"$f":"COUNTRY_INFO!O163","v":28800.6},15421,16477,{"$f":"MAX('T1'!L163,'T2'!J163)+MAX('T1'!M163,'T2'!K163)+MAX('T1'!N163,'T2'!L163)","v":31898},{"$f":"IF(COUNTRY_INFO!K163=1,IF(COUNTRY_INFO!F163*0.33>MAX('T1'!M163,'T2'!K163),MAX('T1'!M163,'T2'!K163),COUNTRY_INFO!F163*0.33),IF(COUNTRY_INFO!K163=2,IF(COUNTRY_INFO!F163*0.5>MAX('T1'!M163,'T2'!K163),MAX('T1'!M163,'T2'!K163),COUNTRY_INFO!F163*0.5),IF(COUNTRY_INFO!K163=3,IF(COUNTRY_INFO!F163>MAX('T1'!M163,'T2'!K163),MAX('T1'!M163,'T2'!K163),COUNTRY_INFO!F163),0)))","v":15812},{"$f":"IF(AND(COUNTRY_INFO!K163>0,COUNTRY_INFO!K163<4),IF(Z163>0,IF(COUNTRY_INFO!K163=1, AD163/(COUNTRY_INFO!F163*0.33)*100, IF(COUNTRY_INFO!K163=2, AD163/(COUNTRY_INFO!F163*0.5)*100, IF(COUNTRY_INFO!K163=3, AD163/COUNTRY_INFO!F163*100))),\"-\"),0)","v":100},{"$f":"IF(COUNTRY_INFO!K163=2,IF(COUNTRY_INFO!G163*0.2>MAX('T1'!N163,'T2'!L163),MAX('T1'!N163,'T2'!L163),COUNTRY_INFO!G163*0.2),IF(COUNTRY_INFO!K163=3,IF(COUNTRY_INFO!G163>MAX('T1'!N163,'T2'!L163),MAX('T1'!N163,'T2'!L163),COUNTRY_INFO!G163),0))","v":0},{"$f":"IF(AND(COUNTRY_INFO!K163>0,COUNTRY_INFO!K163<4),IF(Z163>0,IF(COUNTRY_INFO!K163=1, 0, IF(COUNTRY_INFO!K163=2, AF163/(COUNTRY_INFO!G163*0.2)*100, IF(COUNTRY_INFO!K163=3, AF163/COUNTRY_INFO!G163*100))),\"-\"),0)","v":0},15812,{"$f":"IF(AND(COUNTRY_INFO!K163>0,COUNTRY_INFO!K163<4), IF(AC163/Z163*100<>0, IF(AH163/Z163*100>100,100,AH163/Z163*100), \"-\"),0)","v":54.90163399373624},null,{"$f":"IF(AND(D163<>0, D163<>\"Unknown\",D163<>\"Stopped\",D163<>\"Not required\"),D163/COUNTRY_INFO!D163, 0)","v":0},{"$f":"IF(AND(J163<>0,J163<>\"Unknown\",J163<>\"Stopped\",J163<>\"Not required\"),J163/COUNTRY_INFO!D163, 0)","v":0},{"$f":"IF(AND(P163<>0,P163<>\"Unknown\",P163<>\"Not required\"),P163/(COUNTRY_INFO!E163+COUNTRY_INFO!F163), 0)","v":1},{"$f":"IF(AND(Z163<>0,Z163<>\"Unknown\",Z163<>\"Not required\"),IF(COUNTRY_INFO!K163=1,1,IF(COUNTRY_INFO!K163=2,0.5*COUNTRY_INFO!F163/(0.5*COUNTRY_INFO!F163+0.2*COUNTRY_INFO!G163),IF(COUNTRY_INFO!K163=3,COUNTRY_INFO!F163/(COUNTRY_INFO!F163+COUNTRY_INFO!G163)))),0)","v":0.54901633993736243},{"$f":"IF(AND(Z163<>0,Z163<>\"Unknown\",Z163<>\"Not required\"),IF(COUNTRY_INFO!K163=1,0,IF(COUNTRY_INFO!K163=2,0.2*COUNTRY_INFO!G163/(0.5*COUNTRY_INFO!F163+0.2*COUNTRY_INFO!G163),IF(COUNTRY_INFO!K163=3,COUNTRY_INFO!G163/(COUNTRY_INFO!F163+COUNTRY_INFO!G163)))),0)","v":0.45098366006263763},{"$f":"MAX(COUNTRY_INFO!D163*AK163*PROFILE!$G$7,COUNTRY_INFO!D163*AL163*PROFILE!$G$7)","v":0},{"$f":"MAX(COUNTRY_INFO!D163*AK163*PROFILE!$G$8,COUNTRY_INFO!D163*AL163*PROFILE!$G$8,COUNTRY_INFO!D163*AM163*PROFILE!$G$8)","v":13101.552891368263},{"$f":"MAX(COUNTRY_INFO!D163*AK163*PROFILE!$G$9,COUNTRY_INFO!D163*AL163*PROFILE!$G$9,COUNTRY_INFO!D163*AM163*PROFILE!$G$9,IF(AND(DISTRICT!Z163<>\"Unknown\",Z163<>\"Not required\"),COUNTRY_INFO!O163*DISTRICT!AN163,0))","v":31624.468261161481},{"$f":"MAX(COUNTRY_INFO!D163*AK163*PROFILE!$G$10,COUNTRY_INFO!D163*AL163*PROFILE!$G$10,IF(AND(DISTRICT!Z163<>\"Unknown\",Z163<>\"Not required\"),COUNTRY_INFO!O163*DISTRICT!AO163,0))","v":12988.6},57714.62115252974,"Y",{"$f":"MAX('MDA2'!J163,'T1'!L163,'T2'!J163,T3_R1!K163,T3_R2!K163)","v":0},{"$f":"MAX('MDA1'!K163,'MDA2'!K163,'MDA3'!I163,'MDA3'!L163,'T1'!M163,'T2'!K163,T3_R1!L163,T3_R2!L163)","v":31898},{"$f":"MAX('MDA1'!L163,'MDA2'!L163,'MDA3'!J163,'MDA3'!M163,'T1'!N163,'T2'!L163,T3_R1!M163,T3_R2!M163)","v":0},31898,{"$f":"MAX('MDA2'!J163,T163)","v":0},{"$f":"MAX('MDA1'!K163,'MDA2'!K163,'MDA3'!I163,'MDA3'!L163,V163,AD163)","v":31624},{"$f":"MAX('MDA1'!L163,'MDA2'!L163,'MDA3'!J163,'MDA3'!M163,AF163)","v":0},31624,54.793740942045254]
[{"$f":"IF(COUNTRY_INFO!A164=0,\" \",COUNTRY_INFO!A164)","v":"Mozambique"},{"$f":"IF(COUNTRY_INFO!B164=0,\" \",COUNTRY_INFO!B164)","v":"Cidade de Maputo"},{"$f":"IF(COUNTRY_INFO!C164=0,\" \",COUNTRY_INFO!C164)","v":"Nhlamankulu"},{"$f":"COUNTRY_INFO!L164","v":0},null,null,{"$f":"MAX('MDA1'!M164,'MDA2'!M164)","v":0},{"$f":"IF(AND(COUNTRY_INFO!H164>0,COUNTRY_INFO!H164<4),IF(D164>MAX('MDA1'!M164,'MDA2'!M164),MAX('MDA1'!M164,'MDA2'!M164),D164),0)","v":0},{"$f":"IF(AND(COUNTRY_INFO!H164>0,COUNTRY_INFO!H164<4), IF(G164/D164*100<>0, IF(G164/D164*100>100,100,G164/D164*100), \"-\"),0)","v":0},{"$f":"COUNTRY_INFO!M164","v":"Not required"},null,null,{"$f":"MAX('MDA1'!M164,MAX('MDA3'!I164,'MDA3'!L164)+MAX('MDA3'!J164,'MDA3'!M164))","v":0},{"$f":"IF(AND(COUNTRY_INFO!I164>0,COUNTRY_INFO!I164<4),IF(J164>MAX('MDA1'!M164,MAX('MDA3'!I164,'MDA3'!L164)+MAX('MDA3'!J164,'MDA3'!M164)),MAX('MDA1'!M164,MAX('MDA3'!I164,'MDA3'!L164)+MAX('MDA3'!J164,'MDA3'!M164)),J164),0)","v":0},{"$f":"IF(AND(COUNTRY_INFO!I164>0,COUNTRY_INFO!I164<4), IF(M164/J164*100<>0, IF(M164/J164*100>100,100,M164/J164*100), \"-\"),0)","v":0},{"$f":"COUNTRY_INFO!N164","v":64081},null,null,{"$f":"SUM(MAX('MDA2'!J164, 'T1'!L164, MAX(T3_R1!K164, T3_R2!K164)), MAX('MDA1'!K164, 'MDA2'!K164, 'T1'!M164, MAX(T3_R1!L164, T3_R2!L164)), MAX('MDA1'!L164, 'MDA2'!L164, 'T1'!N164, MAX(T3_R1!M164, T3_R2!M164)))","v":49752},{"$f":"IF(AND(COUNTRY_INFO!J164>1,COUNTRY_INFO!J164<4),IF(COUNTRY_INFO!E164>MAX('MDA2'!J164,'T1'!L164,MAX(T3_R1!K164,T3_R2!K164)),MAX('MDA2'!J164,'T1'!L164,MAX(T3_R1!K164,T3_R2!K164)),COUNTRY_INFO!E164),0)","v":0},{"$f":"IF(AND(COUNTRY_INFO!J164>1,COUNTRY_INFO!J164<4), IF(T164/COUNTRY_INFO!E164*100<>0, IF(T164/COUNTRY_INFO!E164*100>100,100,T164/COUNTRY_INFO!E164*100), \"-\"),0)","v":"-"},{"$f":"IF(AND(COUNTRY_INFO!J164>1,COUNTRY_INFO!J164<4),IF(COUNTRY_INFO!F164>MAX('MDA1'!K164,'MDA2'!K164,'T1'!M164,MAX(T3_R1!L164,T3_R2!L164)),MAX('MDA1'!K164,'MDA2'!K164,'T1'!M164,MAX(T3_R1!L164,T3_R2!L164)),COUNTRY_INFO!F164),0)","v":45310},{"$f":"IF(AND(COUNTRY_INFO!J164>1,COUNTRY_INFO!J164<4), IF(V164/COUNTRY_INFO!F164*100<>0, IF(V164/COUNTRY_INFO!F164*100>100,100,V164/COUNTRY_INFO!F164*100), \"-\"),0)","v":100},45310,{"$f":"IF(AND(COUNTRY_INFO!J164>1,COUNTRY_INFO!J164<4), IF(S164/P164*100<>0, IF(X164/P164*100>100,100,X164/P164*100), \"-\"),0)","v":70.707385964638505},{"$f":"COUNTRY_INFO!O164","v":41264.600000000006},23091,26661,{"$f":"MAX('T1'!L164,'T2'!J164)+MAX('T1'!M164,'T2'!K164)+MAX('T1'!N164,'T2'!L164)","v":49752},{"$f":"IF(COUNTRY_INFO!K164=1,IF(COUNTRY_INFO!F164*0.33>MAX('T1'!M164,'T2'!K164),MAX('T1'!M164,'T2'!K164),COUNTRY_INFO!F164*0.33),IF(COUNTRY_INFO!K164=2,IF(COUNTRY_INFO!F164*0.5>MAX('T1'!M164,'T2'!K164),MAX('T1'!M164,'T2'!K164),COUNTRY_INFO!F164*0.5),IF(COUNTRY_INFO!K164=3,IF(COUNTRY_INFO!F164>MAX('T1'!M164,'T2'!K164),MAX('T1'!M164,'T2'!K164),COUNTRY_INFO!F164),0)))","v":22655},{"$f":"IF(AND(COUNTRY_INFO!K164>0,COUNTRY_INFO!K164<4),IF(Z164>0,IF(COUNTRY_INFO!K164=1, AD164/(COUNTRY_INFO!F164*0.33)*100, IF(COUNTRY_INFO!K164=2, AD164/(COUNTRY_INFO!F164*0.5)*100, IF(COUNTRY_INFO!K164=3, AD164/COUNTRY_INFO!F164*100))),\"-\"),0)","v":100},{"$f":"IF(COUNTRY_INFO!K164=2,IF(COUNTRY_INFO!G164*0.2>MAX('T1'!N164,'T2'!L164),MAX('T1'!N164,'T2'!L164),COUNTRY_INFO!G164*0.2),IF(COUNTRY_INFO!K164=3,IF(COUNTRY_INFO!G164>MAX('T1'!N164,'T2'!L164),MAX('T1'!N164,'T2'!L164),COUNTRY_INFO!G164),0))","v":0},{"$f":"IF(AND(COUNTRY_INFO!K164>0,COUNTRY_INFO!K164<4),IF(Z164>0,IF(COUNTRY_INFO!K164=1, 0, IF(COUNTRY_INFO!K164=2, AF164/(COUNTRY_INFO!G164*0.2)*100, IF(COUNTRY_INFO!K164=3, AF164/COUNTRY_INFO!G164*100))),\"-\"),0)","v":0},22655,{"$f":"IF(AND(COUNTRY_INFO!K164>0,COUNTRY_INFO!K164<4), IF(AC164/Z164*100<>0, IF(AH164/Z164*100>100,100,AH164/Z164*100), \"-\"),0)","v":54.901780218395423},null,{"$f":"IF(AND(D164<>0, D164<>\"Unknown\",D164<>\"Stopped\",D164<>\"Not required\"),D164/COUNTRY_INFO!D164, 0)","v":0},{"$f":"IF(AND(J164<>0,J164<>\"Unknown\",J164<>\"Stopped\",J164<>\"Not required\"),J164/COUNTRY_INFO!D164, 0)","v":0},{"$f":"IF(AND(P164<>0,P164<>\"Unknown\",P164<>\"Not required\"),P164/(COUNTRY_INFO!E164+COUNTRY_INFO!F164), 0)","v":1},{"$f":"IF(AND(Z164<>0,Z164<>\"Unknown\",Z164<>\"Not required\"),IF(COUNTRY_INFO!K164=1,1,IF(COUNTRY_INFO!K164=2,0.5*COUNTRY_INFO!F164/(0.5*COUNTRY_INFO!F164+0.2*COUNTRY_INFO!G164),IF(COUNTRY_INFO!K164=3,COUNTRY_INFO!F164/(COUNTRY_INFO!F164+COUNTRY_INFO!G164)))),0)","v":0.54901780218395424},{"$f":"IF(AND(Z164<>0,Z164<>\"Unknown\",Z164<>\"Not required\"),IF(COUNTRY_INFO!K164=1,0,IF(COUNTRY_INFO!K164=2,0.2*COUNTRY_INFO!G164/(0.5*COUNTRY_INFO!F164+0.2*COUNTRY_INFO!G164),IF(COUNTRY_INFO!K164=3,COUNTRY_INFO!G164/(COUNTRY_INFO!F164+COUNTRY_INFO!G164)))),0)","v":0.4509821978160457},{"$f":"MAX(COUNTRY_INFO!D164*AK164*PROFILE!$G$7,COUNTRY_INFO!D164*AL164*PROFILE!$G$7)","v":0},{"$f":"MAX(COUNTRY_INFO!D164*AK164*PROFILE!$G$8,COUNTRY_INFO!D164*AL164*PROFILE!$G$8,COUNTRY_INFO!D164*AM164*PROFILE!$G$8)","v":18771.463293000503},{"$f":"MAX(COUNTRY_INFO!D164*AK164*PROFILE!$G$9,COUNTRY_INFO!D164*AL164*PROFILE!$G$9,COUNTRY_INFO!D164*AM164*PROFILE!$G$9,IF(AND(DISTRICT!Z164<>\"Unknown\",Z164<>\"Not required\"),COUNTRY_INFO!O164*DISTRICT!AN164,0))","v":45310.471975895329},{"$f":"MAX(COUNTRY_INFO!D164*AK164*PROFILE!$G$10,COUNTRY_INFO!D164*AL164*PROFILE!$G$10,IF(AND(DISTRICT!Z164<>\"Unknown\",Z164<>\"Not required\"),COUNTRY_INFO!O164*DISTRICT!AO164,0))","v":18609.600000000002},82691.535268895837,"Y",{"$f":"MAX('MDA2'!J164,'T1'!L164,'T2'!J164,T3_R1!K164,T3_R2!K164)","v":0},{"$f":"MAX('MDA1'!K164,'MDA2'!K164,'MDA3'!I164,'MDA3'!L164,'T1'!M164,'T2'!K164,T3_R1!L164,T3_R2!L164)","v":49752},{"$f":"MAX('MDA1'!L164,'MDA2'!L164,'MDA3'!J164,'MDA3'!M164,'T1'!N164,'T2'!L164,T3_R1!M164,T3_R2!M164)","v":0},49752,{"$f":"MAX('MDA2'!J164,T164)","v":0},{"$f":"MAX('MDA1'!K164,'MDA2'!K164,'MDA3'!I164,'MDA3'!L164,V164,AD164)","v":45310},{"$f":"MAX('MDA1'!L164,'MDA2'!L164,'MDA3'!J164,'MDA3'!M164,AF164)","v":0},45310,54.794000199247982]
[{"$f":"IF(COUNTRY_INFO!A165=0,\" \",COUNTRY_INFO!A165)","v":"Mozambique"},{"$f":"IF(COUNTRY_INFO!B165=0,\" \",COUNTRY_INFO!B165)","v":"Cidade de Maputo"},{"$f":"IF(COUNTRY_INFO!C165=0,\" \",COUNTRY_INFO!C165)","v":"Kamaxakani"},{"$f":"COUNTRY_INFO!L165","v":0},null,null,{"$f":"MAX('MDA1'!M165,'MDA2'!M165)","v":0},{"$f":"IF(AND(COUNTRY_INFO!H165>0,COUNTRY_INFO!H165<4),IF(D165>MAX('MDA1'!M165,'MDA2'!M165),MAX('MDA1'!M165,'MDA2'!M165),D165),0)","v":0},{"$f":"IF(AND(COUNTRY_INFO!H165>0,COUNTRY_INFO!H165<4), IF(G165/D165*100<>0, IF(G165/D165*100>100,100,G165/D165*100), \"-\"),0)","v":0},{"$f":"COUNTRY_INFO!M165","v":"Not required"},null,null,{"$f":"MAX('MDA1'!M165,MAX('MDA3'!I165,'MDA3'!L165)+MAX('MDA3'!J165,'MDA3'!M165))","v":0},{"$f":"IF(AND(COUNTRY_INFO!I165>0,COUNTRY_INFO!I165<4),IF(J165>MAX('MDA1'!M165,MAX('MDA3'!I165,'MDA3'!L165)+MAX('MDA3'!J165,'MDA3'!M165)),MAX('MDA1'!M165,MAX('MDA3'!I165,'MDA3'!L165)+MAX('MDA3'!J165,'MDA3'!M165)),J165),0)","v":0},{"$f":"IF(AND(COUNTRY_INFO!I165>0,COUNTRY_INFO!I165<4), IF(M165/J165*100<>0, IF(M165/J165*100>100,100,M165/J165*100), \"-\"),0)","v":0},{"$f":"COUNTRY_INFO!N165","v":92622},null,null,{"$f":"SUM(MAX('MDA2'!J165, 'T1'!L165, MAX(T3_R1!K165, T3_R2!K165)), MAX('MDA1'!K165, 'MDA2'!K165, 'T1'!M165, MAX(T3_R1!L165, T3_R2!L165)), MAX('MDA1'!L165, 'MDA2'!L165, 'T1'!N165, MAX(T3_R1!M165, T3_R2!M165)))","v":65128},{"$f":"IF(AND(COUNTRY_INFO!J165>1,COUNTRY_INFO!J165<4),IF(COUNTRY_INFO!E165>MAX('MDA2'!J165,'T1'!L165,MAX(T3_R1!K165,T3_R2!K165)),MAX('MDA2'!J165,'T1'!L165,MAX(T3_R1!K165,T3_R2!K165)),COUNTRY_INFO!E165),0)","v":0},{"$f":"IF(AND(COUNTRY_INFO!J165>1,COUNTRY_INFO!J165<4), IF(T165/COUNTRY_INFO!E165*100<>0, IF(T165/COUNTRY_INFO!E165*100>100,100,T165/COUNTRY_INFO!E165*100), \"-\"),0)","v":"-"},{"$f":"IF(AND(COUNTRY_INFO!J165>1,COUNTRY_INFO!J165<4),IF(COUNTRY_INFO!F165>MAX('MDA1'!K165,'MDA2'!K165,'T1'!M165,MAX(T3_R1!L165,T3_R2!L165)),MAX('MDA1'!K165,'MDA2'!K165,'T1'!M165,MAX(T3_R1!L165,T3_R2!L165)),COUNTRY_INFO!F165),0)","v":65128},{"$f":"IF(AND(COUNTRY_INFO!J165>1,COUNTRY_INFO!J165<4), IF(V165/COUNTRY_INFO!F165*100<>0, IF(V165/COUNTRY_INFO!F165*100>100,100,V165/COUNTRY_INFO!F165*100), \"-\"),0)","v":99.447243854023512},65128,{"$f":"IF(AND(COUNTRY_INFO!J165>1,COUNTRY_INFO!J165<4), IF(S165/P165*100<>0, IF(X165/P165*100>100,100,X165/P165*100), \"-\"),0)","v":70.31590766772473},{"$f":"COUNTRY_INFO!O165","v":59642.600000000006},31977,33151,{"$f":"MAX('T1'!L165,'T2'!J165)+MAX('T1'!M165,'T2'!K165)+MAX('T1'!N165,'T2'!L165)","v":65128},{"$f":"IF(COUNTRY_INFO!K165=1,IF(COUNTRY_INFO!F165*0.33>MAX('T1'!M165,'T2'!K165),MAX('T1'!M165,'T2'!K165),COUNTRY_INFO!F165*0.33),IF(COUNTRY_INFO!K165=2,IF(COUNTRY_INFO!F165*0.5>MAX('T1'!M165,'T2'!K165),MAX('T1'!M165,'T2'!K165),COUNTRY_INFO!F165*0.5),IF(COUNTRY_INFO!K165=3,IF(COUNTRY_INFO!F165>MAX('T1'!M165,'T2'!K165),MAX('T1'!M165,'T2'!K165),COUNTRY_INFO!F165),0)))","v":32745},{"$f":"IF(AND(COUNTRY_INFO!K165>0,COUNTRY_INFO!K165<4),IF(Z165>0,IF(COUNTRY_INFO!K165=1, AD165/(COUNTRY_INFO!F165*0.33)*100, IF(COUNTRY_INFO!K165=2, AD165/(COUNTRY_INFO!F165*0.5)*100, IF(COUNTRY_INFO!K165=3, AD165/COUNTRY_INFO!F165*100))),\"-\"),0)","v":100},{"$f":"IF(COUNTRY_INFO!K165=2,IF(COUNTRY_INFO!G165*0.2>MAX('T1'!N165,'T2'!L165),MAX('T1'!N165,'T2'!L165),COUNTRY_INFO!G165*0.2),IF(COUNTRY_INFO!K165=3,IF(COUNTRY_INFO!G165>MAX('T1'!N165,'T2'!L165),MAX('T1'!N165,'T2'!L165),COUNTRY_INFO!G165),0))","v":0},{"$f":"IF(AND(COUNTRY_INFO!K165>0,COUNTRY_INFO!K165<4),IF(Z165>0,IF(COUNTRY_INFO!K165=1, 0, IF(COUNTRY_INFO!K165=2, AF165/(COUNTRY_INFO!G165*0.2)*100, IF(COUNTRY_INFO!K165=3, AF165/COUNTRY_INFO!G165*100))),\"-\"),0)","v":0},32745,{"$f":"IF(AND(COUNTRY_INFO!K165>0,COUNTRY_INFO!K165<4), IF(AC165/Z165*100<>0, IF(AH165/Z165*100>100,100,AH165/Z165*100), \"-\"),0)","v":54.902033110561909},null,{"$f":"IF(AND(D165<>0, D165<>\"Unknown\",D165<>\"Stopped\",D165<>\"Not required\"),D165/COUNTRY_INFO!D165, 0)","v":0},{"$f":"IF(AND(J165<>0,J165<>\"Unknown\",J165<>\"Stopped\",J165<>\"Not required\"),J165/COUNTRY_INFO!D165, 0)","v":0},{"$f":"IF(AND(P165<>0,P165<>\"Unknown\",P165<>\"Not required\"),P165/(COUNTRY_INFO!E165+COUNTRY_INFO!F165), 0)","v":1},{"$f":"IF(AND(Z165<>0,Z165<>\"Unknown\",Z165<>\"Not required\"),IF(COUNTRY_INFO!K165=1,1,IF(COUNTRY_INFO!K165=2,0.5*COUNTRY_INFO!F165/(0.5*COUNTRY_INFO!F165+0.2*COUNTRY_INFO!G165),IF(COUNTRY_INFO!K165=3,COUNTRY_INFO!F165/(COUNTRY_INFO!F165+COUNTRY_INFO!G165)))),0)","v":0.5490203311056191},{"$f":"IF(AND(Z165<>0,Z165<>\"Unknown\",Z165<>\"Not required\"),IF(COUNTRY_INFO!K165=1,0,IF(COUNTRY_INFO!K165=2,0.2*COUNTRY_INFO!G165/(0.5*COUNTRY_INFO!F165+0.2*COUNTRY_INFO!G165),IF(COUNTRY_INFO!K165=3,COUNTRY_INFO!G165/(COUNTRY_INFO!F165+COUNTRY_INFO!G165)))),0)","v":0.45097966889438085},{"$f":"MAX(COUNTRY_INFO!D165*AK165*PROFILE!$G$7,COUNTRY_INFO!D165*AL165*PROFILE!$G$7)","v":0},{"$f":"MAX(COUNTRY_INFO!D165*AK165*PROFILE!$G$8,COUNTRY_INFO!D165*AL165*PROFILE!$G$8,COUNTRY_INFO!D165*AM165*PROFILE!$G$8)","v":27131.522915203474},{"$f":"MAX(COUNTRY_INFO!D165*AK165*PROFILE!$G$9,COUNTRY_INFO!D165*AL165*PROFILE!$G$9,COUNTRY_INFO!D165*AM165*PROFILE!$G$9,IF(AND(DISTRICT!Z165<>\"Unknown\",Z165<>\"Not required\"),COUNTRY_INFO!O165*DISTRICT!AN165,0))","v":65489.945537228617},{"$f":"MAX(COUNTRY_INFO!D165*AK165*PROFILE!$G$10,COUNTRY_INFO!D165*AL165*PROFILE!$G$10,IF(AND(DISTRICT!Z165<>\"Unknown\",Z165<>\"Not required\"),COUNTRY_INFO!O165*DISTRICT!AO165,0))","v":26897.600000000002},119519.0684524321,"Y",{"$f":"MAX('MDA2'!J165,'T1'!L165,'T2'!J165,T3_R1!K165,T3_R2!K165)","v":0},{"$f":"MAX('MDA1'!K165,'MDA2'!K165,'MDA3'!I165,'MDA3'!L165,'T1'!M165,'T2'!K165,T3_R1!L165,T3_R2!L165)","v":65128},{"$f":"MAX('MDA1'!L165,'MDA2'!L165,'MDA3'!J165,'MDA3'!M165,'T1'!N165,'T2'!L165,T3_R1!M165,T3_R2!M165)","v":0},65128,{"$f":"MAX('MDA2'!J165,T165)","v":0},{"$f":"MAX('MDA1'!K165,'MDA2'!K165,'MDA3'!I165,'MDA3'!L165,V165,AD165)","v":65128},{"$f":"MAX('MDA1'!L165,'MDA2'!L165,'MDA3'!J165,'MDA3'!M165,AF165)","v":0},65128,54.491723239895038]
[{"$f":"IF(COUNTRY_INFO!A166=0,\" \",COUNTRY_INFO!A166)","v":"Mozambique"},{"$f":"IF(COUNTRY_INFO!B166=0,\" \",COUNTRY_INFO!B166)","v":"Cidade de Maputo"},{"$f":"IF(COUNTRY_INFO!C166=0,\" \",COUNTRY_INFO!C166)","v":"Kamavota"},{"$f":"COUNTRY_INFO!L166","v":0},null,null,{"$f":"MAX('MDA1'!M166,'MDA2'!M166)","v":0},{"$f":"IF(AND(COUNTRY_INFO!H166>0,COUNTRY_INFO!H166<4),IF(D166>MAX('MDA1'!M166,'MDA2'!M166),MAX('MDA1'!M166,'MDA2'!M166),D166),0)","v":0},{"$f":"IF(AND(COUNTRY_INFO!H166>0,COUNTRY_INFO!H166<4), IF(G166/D166*100<>0, IF(G166/D166*100>100,100,G166/D166*100), \"-\"),0)","v":0},{"$f":"COUNTRY_INFO!M166","v":"Not required"},null,null,{"$f":"MAX('MDA1'!M166,MAX('MDA3'!I166,'MDA3'!L166)+MAX('MDA3'!J166,'MDA3'!M166))","v":0},{"$f":"IF(AND(COUNTRY_INFO!I166>0,COUNTRY_INFO!I166<4),IF(J166>MAX('MDA1'!M166,MAX('MDA3'!I166,'MDA3'!L166)+MAX('MDA3'!J166,'MDA3'!M166)),MAX('MDA1'!M166,MAX('MDA3'!I166,'MDA3'!L166)+MAX('MDA3'!J166,'MDA3'!M166)),J166),0)","v":0},{"$f":"IF(AND(COUNTRY_INFO!I166>0,COUNTRY_INFO!I166<4), IF(M166/J166*100<>0, IF(M166/J166*100>100,100,M166/J166*100), \"-\"),0)","v":0},{"$f":"COUNTRY_INFO!N166","v":146910},null,null,{"$f":"SUM(MAX('MDA2'!J166, 'T1'!L166, MAX(T3_R1!K166, T3_R2!K166)), MAX('MDA1'!K166, 'MDA2'!K166, 'T1'!M166, MAX(T3_R1!L166, T3_R2!L166)), MAX('MDA1'!L166, 'MDA2'!L166, 'T1'!N166, MAX(T3_R1!M166, T3_R2!M166)))","v":111934},{"$f":"IF(AND(COUNTRY_INFO!J166>1,COUNTRY_INFO!J166<4),IF(COUNTRY_INFO!E166>MAX('MDA2'!J166,'T1'!L166,MAX(T3_R1!K166,T3_R2!K166)),MAX('MDA2'!J166,'T1'!L166,MAX(T3_R1!K166,T3_R2!K166)),COUNTRY_INFO!E166),0)","v":0},{"$f":"IF(AND(COUNTRY_INFO!J166>1,COUNTRY_INFO!J166<4), IF(T166/COUNTRY_INFO!E166*100<>0, IF(T166/COUNTRY_INFO!E166*100>100,100,T166/COUNTRY_INFO!E166*100), \"-\"),0)","v":"-"},{"$f":"IF(AND(COUNTRY_INFO!J166>1,COUNTRY_INFO!J166<4),IF(COUNTRY_INFO!F166>MAX('MDA1'!K166,'MDA2'!K166,'T1'!M166,MAX(T3_R1!L166,T3_R2!L166)),MAX('MDA1'!K166,'MDA2'!K166,'T1'!M166,MAX(T3_R1!L166,T3_R2!L166)),COUNTRY_INFO!F166),0)","v":103876},{"$f":"IF(AND(COUNTRY_INFO!J166>1,COUNTRY_INFO!J166<4), IF(V166/COUNTRY_INFO!F166*100<>0, IF(V166/COUNTRY_INFO!F166*100>100,100,V166/COUNTRY_INFO!F166*100), \"-\"),0)","v":100},103876,{"$f":"IF(AND(COUNTRY_INFO!J166>1,COUNTRY_INFO!J166<4), IF(S166/P166*100<>0, IF(X166/P166*100>100,100,X166/P166*100), \"-\"),0)","v":70.707235722551218},{"$f":"COUNTRY_INFO!O166","v":94601.4},52616,59318,{"$f":"MAX('T1'!L166,'T2'!J166)+MAX('T1'!M166,'T2'!K166)+MAX('T1'!N166,'T2'!L166)","v":111934},{"$f":"IF(COUNTRY_INFO!K166=1,IF(COUNTRY_INFO!F166*0.33>MAX('T1'!M166,'T2'!K166),MAX('T1'!M166,'T2'!K166),COUNTRY_INFO!F166*0.33),IF(COUNTRY_INFO!K166=2,IF(COUNTRY_INFO!F166*0.5>MAX('T1'!M166,'T2'!K166),MAX('T1'!M166,'T2'!K166),COUNTRY_INFO!F166*0.5),IF(COUNTRY_INFO!K166=3,IF(COUNTRY_INFO!F166>MAX('T1'!M166,'T2'!K166),MAX('T1'!M166,'T2'!K166),COUNTRY_INFO!F166),0)))","v":51938},{"$f":"IF(AND(COUNTRY_INFO!K166>0,COUNTRY_INFO!K166<4),IF(Z166>0,IF(COUNTRY_INFO!K166=1, AD166/(COUNTRY_INFO!F166*0.33)*100, IF(COUNTRY_INFO!K166=2, AD166/(COUNTRY_INFO!F166*0.5)*100, IF(COUNTRY_INFO!K166=3, AD166/COUNTRY_INFO!F166*100))),\"-\"),0)","v":100},{"$f":"IF(COUNTRY_INFO!K166=2,IF(COUNTRY_INFO!G166*0.2>MAX('T1'!N166,'T2'!L166),MAX('T1'!N166,'T2'!L166),COUNTRY_INFO!G166*0.2),IF(COUNTRY_INFO!K166=3,IF(COUNTRY_INFO!G166>MAX('T1'!N166,'T2'!L166),MAX('T1'!N166,'T2'!L166),COUNTRY_INFO!G166),0))","v":0},{"$f":"IF(AND(COUNTRY_INFO!K166>0,COUNTRY_INFO!K166<4),IF(Z166>0,IF(COUNTRY_INFO!K166=1, 0, IF(COUNTRY_INFO!K166=2, AF166/(COUNTRY_INFO!G166*0.2)*100, IF(COUNTRY_INFO!K166=3, AF166/COUNTRY_INFO!G166*100))),\"-\"),0)","v":0},51938,{"$f":"IF(AND(COUNTRY_INFO!K166>0,COUNTRY_INFO!K166<4), IF(AC166/Z166*100<>0, IF(AH166/Z166*100>100,100,AH166/Z166*100), \"-\"),0)","v":54.901935912153519},null,{"$f":"IF(AND(D166<>0, D166<>\"Unknown\",D166<>\"Stopped\",D166<>\"Not required\"),D166/COUNTRY_INFO!D166, 0)","v":0},{"$f":"IF(AND(J166<>0,J166<>\"Unknown\",J166<>\"Stopped\",J166<>\"Not required\"),J166/COUNTRY_INFO!D166, 0)","v":0},{"$f":"IF(AND(P166<>0,P166<>\"Unknown\",P166<>\"Not required\"),P166/(COUNTRY_INFO!E166+COUNTRY_INFO!F166), 0)","v":1},{"$f":"IF(AND(Z166<>0,Z166<>\"Unknown\",Z166<>\"Not required\"),IF(COUNTRY_INFO!K166=1,1,IF(COUNTRY_INFO!K166=2,0.5*COUNTRY_INFO!F166/(0.5*COUNTRY_INFO!F166+0.2*COUNTRY_INFO!G166),IF(COUNTRY_INFO!K166=3,COUNTRY_INFO!F166/(COUNTRY_INFO!F166+COUNTRY_INFO!G166)))),0)","v":0.54901935912153521},{"$f":"IF(AND(Z166<>0,Z166<>\"Unknown\",Z166<>\"Not required\"),IF(COUNTRY_INFO!K166=1,0,IF(COUNTRY_INFO!K166=2,0.2*COUNTRY_INFO!G166/(0.5*COUNTRY_INFO!F166+0.2*COUNTRY_INFO!G166),IF(COUNTRY_INFO!K166=3,COUNTRY_INFO!G166/(COUNTRY_INFO!F166+COUNTRY_INFO!G166)))),0)","v":0.45098064087846484},{"$f":"MAX(COUNTRY_INFO!D166*AK166*PROFILE!$G$7,COUNTRY_INFO!D166*AL166*PROFILE!$G$7)","v":0},{"$f":"MAX(COUNTRY_INFO!D166*AK166*PROFILE!$G$8,COUNTRY_INFO!D166*AL166*PROFILE!$G$8,COUNTRY_INFO!D166*AM166*PROFILE!$G$8)","v":43034.31649442108},{"$f":"MAX(COUNTRY_INFO!D166*AK166*PROFILE!$G$9,COUNTRY_INFO!D166*AL166*PROFILE!$G$9,COUNTRY_INFO!D166*AM166*PROFILE!$G$9,IF(AND(DISTRICT!Z166<>\"Unknown\",Z166<>\"Not required\"),COUNTRY_INFO!O166*DISTRICT!AN166,0))","v":103876.03571903512},{"$f":"MAX(COUNTRY_INFO!D166*AK166*PROFILE!$G$10,COUNTRY_INFO!D166*AL166*PROFILE!$G$10,IF(AND(DISTRICT!Z166<>\"Unknown\",Z166<>\"Not required\"),COUNTRY_INFO!O166*DISTRICT!AO166,0))","v":42663.4},189573.7522134562,"Y",{"$f":"MAX('MDA2'!J166,'T1'!L166,'T2'!J166,T3_R1!K166,T3_R2!K166)","v":0},{"$f":"MAX('MDA1'!K166,'MDA2'!K166,'MDA3'!I166,'MDA3'!L166,'T1'!M166,'T2'!K166,T3_R1!L166,T3_R2!L166)","v":111934},{"$f":"MAX('MDA1'!L166,'MDA2'!L166,'MDA3'!J166,'MDA3'!M166,'T1'!N166,'T2'!L166,T3_R1!M166,T3_R2!M166)","v":0},111934,{"$f":"MAX('MDA2'!J166,T166)","v":0},{"$f":"MAX('MDA1'!K166,'MDA2'!K166,'MDA3'!I166,'MDA3'!L166,V166,AD166)","v":103876},{"$f":"MAX('MDA1'!L166,'MDA2'!L166,'MDA3'!J166,'MDA3'!M166,AF166)","v":0},103876,54.794505456133891]
[{"$f":"IF(COUNTRY_INFO!A167=0,\" \",COUNTRY_INFO!A167)","v":"Mozambique"},{"$f":"IF(COUNTRY_INFO!B167=0,\" \",COUNTRY_INFO!B167)","v":"Cidade de Maputo"},{"$f":"IF(COUNTRY_INFO!C167=0,\" \",COUNTRY_INFO!C167)","v":"Kamubukwana"},{"$f":"COUNTRY_INFO!L167","v":0},null,null,{"$f":"MAX('MDA1'!M167,'MDA2'!M167)","v":0},{"$f":"IF(AND(COUNTRY_INFO!H167>0,COUNTRY_INFO!H167<4),IF(D167>MAX('MDA1'!M167,'MDA2'!M167),MAX('MDA1'!M167,'MDA2'!M167),D167),0)","v":0},{"$f":"IF(AND(COUNTRY_INFO!H167>0,COUNTRY_INFO!H167<4), IF(G167/D167*100<>0, IF(G167/D167*100>100,100,G167/D167*100), \"-\"),0)","v":0},{"$f":"COUNTRY_INFO!M167","v":"Not required"},null,null,{"$f":"MAX('MDA1'!M167,MAX('MDA3'!I167,'MDA3'!L167)+MAX('MDA3'!J167,'MDA3'!M167))","v":0},{"$f":"IF(AND(COUNTRY_INFO!I167>0,COUNTRY_INFO!I167<4),IF(J167>MAX('MDA1'!M167,MAX('MDA3'!I167,'MDA3'!L167)+MAX('MDA3'!J167,'MDA3'!M167)),MAX('MDA1'!M167,MAX('MDA3'!I167,'MDA3'!L167)+MAX('MDA3'!J167,'MDA3'!M167)),J167),0)","v":0},{"$f":"IF(AND(COUNTRY_INFO!I167>0,COUNTRY_INFO!I167<4), IF(M167/J167*100<>0, IF(M167/J167*100>100,100,M167/J167*100), \"-\"),0)","v":0},{"$f":"COUNTRY_INFO!N167","v":156788},null,null,{"$f":"SUM(MAX('MDA2'!J167, 'T1'!L167, MAX(T3_R1!K167, T3_R2!K167)), MAX('MDA1'!K167, 'MDA2'!K167, 'T1'!M167, MAX(T3_R1!L167, T3_R2!L167)), MAX('MDA1'!L167, 'MDA2'!L167, 'T1'!N167, MAX(T3_R1!M167, T3_R2!M167)))","v":108495},{"$f":"IF(AND(COUNTRY_INFO!J167>1,COUNTRY_INFO!J167<4),IF(COUNTRY_INFO!E167>MAX('MDA2'!J167,'T1'!L167,MAX(T3_R1!K167,T3_R2!K167)),MAX('MDA2'!J167,'T1'!L167,MAX(T3_R1!K167,T3_R2!K167)),COUNTRY_INFO!E167),0)","v":0},{"$f":"IF(AND(COUNTRY_INFO!J167>1,COUNTRY_INFO!J167<4), IF(T167/COUNTRY_INFO!E167*100<>0, IF(T167/COUNTRY_INFO!E167*100>100,100,T167/COUNTRY_INFO!E167*100), \"-\"),0)","v":"-"},{"$f":"IF(AND(COUNTRY_INFO!J167>1,COUNTRY_INFO!J167<4),IF(COUNTRY_INFO!F167>MAX('MDA1'!K167,'MDA2'!K167,'T1'!M167,MAX(T3_R1!L167,T3_R2!L167)),MAX('MDA1'!K167,'MDA2'!K167,'T1'!M167,MAX(T3_R1!L167,T3_R2!L167)),COUNTRY_INFO!F167),0)","v":108495},{"$f":"IF(AND(COUNTRY_INFO!J167>1,COUNTRY_INFO!J167<4), IF(V167/COUNTRY_INFO!F167*100<>0, IF(V167/COUNTRY_INFO!F167*100>100,100,V167/COUNTRY_INFO!F167*100), \"-\"),0)","v":97.866678693848101},108495,{"$f":"IF(AND(COUNTRY_INFO!J167>1,COUNTRY_INFO!J167<4), IF(S167/P167*100<>0, IF(X167/P167*100>100,100,X167/P167*100), \"-\"),0)","v":69.198535602214449},{"$f":"COUNTRY_INFO!O167","v":100961.60000000001},50043,58452,{"$f":"MAX('T1'!L167,'T2'!J167)+MAX('T1'!M167,'T2'!K167)+MAX('T1'!N167,'T2'!L167)","v":108495},{"$f":"IF(COUNTRY_INFO!K167=1,IF(COUNTRY_INFO!F167*0.33>MAX('T1'!M167,'T2'!K167),MAX('T1'!M167,'T2'!K167),COUNTRY_INFO!F167*0.33),IF(COUNTRY_INFO!K167=2,IF(COUNTRY_INFO!F167*0.5>MAX('T1'!M167,'T2'!K167),MAX('T1'!M167,'T2'!K167),COUNTRY_INFO!F167*0.5),IF(COUNTRY_INFO!K167=3,IF(COUNTRY_INFO!F167>MAX('T1'!M167,'T2'!K167),MAX('T1'!M167,'T2'!K167),COUNTRY_INFO!F167),0)))","v":55430},{"$f":"IF(AND(COUNTRY_INFO!K167>0,COUNTRY_INFO!K167<4),IF(Z167>0,IF(COUNTRY_INFO!K167=1, AD167/(COUNTRY_INFO!F167*0.33)*100, IF(COUNTRY_INFO!K167=2, AD167/(COUNTRY_INFO!F167*0.5)*100, IF(COUNTRY_INFO!K167=3, AD167/COUNTRY_INFO!F167*100))),\"-\"),0)","v":100},{"$f":"IF(COUNTRY_INFO!K167=2,IF(COUNTRY_INFO!G167*0.2>MAX('T1'!N167,'T2'!L167),MAX('T1'!N167,'T2'!L167),COUNTRY_INFO!G167*0.2),IF(COUNTRY_INFO!K167=3,IF(COUNTRY_INFO!G167>MAX('T1'!N167,'T2'!L167),MAX('T1'!N167,'T2'!L167),COUNTRY_INFO!G167),0))","v":0},{"$f":"IF(AND(COUNTRY_INFO!K167>0,COUNTRY_INFO!K167<4),IF(Z167>0,IF(COUNTRY_INFO!K167=1, 0, IF(COUNTRY_INFO!K167=2, AF167/(COUNTRY_INFO!G167*0.2)*100, IF(COUNTRY_INFO!K167=3, AF167/COUNTRY_INFO!G167*100))),\"-\"),0)","v":0},55430,{"$f":"IF(AND(COUNTRY_INFO!K167>0,COUNTRY_INFO!K167<4), IF(AC167/Z167*100<>0, IF(AH167/Z167*100>100,100,AH167/Z167*100), \"-\"),0)","v":54.902061773981394},null,{"$f":"IF(AND(D167<>0, D167<>\"Unknown\",D167<>\"Stopped\",D167<>\"Not required\"),D167/COUNTRY_INFO!D167, 0)","v":0},{"$f":"IF(AND(J167<>0,J167<>\"Unknown\",J167<>\"Stopped\",J167<>\"Not required\"),J167/COUNTRY_INFO!D167, 0)","v":0},{"$f":"IF(AND(P167<>0,P167<>\"Unknown\",P167<>\"Not required\"),P167/(COUNTRY_INFO!E167+COUNTRY_INFO!F167), 0)","v":1},{"$f":"IF(AND(Z167<>0,Z167<>\"Unknown\",Z167<>\"Not required\"),IF(COUNTRY_INFO!K167=1,1,IF(COUNTRY_INFO!K167=2,0.5*COUNTRY_INFO!F167/(0.5*COUNTRY_INFO!F167+0.2*COUNTRY_INFO!G167),IF(COUNTRY_INFO!K167=3,COUNTRY_INFO!F167/(COUNTRY_INFO!F167+COUNTRY_INFO!G167)))),0)","v":0.54902061773981392},{"$f":"IF(AND(Z167<>0,Z167<>\"Unknown\",Z167<>\"Not required\"),IF(COUNTRY_INFO!K167=1,0,IF(COUNTRY_INFO!K167=2,0.2*COUNTRY_INFO!G167/(0.5*COUNTRY_INFO!F167+0.2*COUNTRY_INFO!G167),IF(COUNTRY_INFO!K167=3,COUNTRY_INFO!G167/(COUNTRY_INFO!F167+COUNTRY_INFO!G167)))),0)","v":0.45097938226018608},{"$f":"MAX(COUNTRY_INFO!D167*AK167*PROFILE!$G$7,COUNTRY_INFO!D167*AL167*PROFILE!$G$7)","v":0},{"$f":"MAX(COUNTRY_INFO!D167*AK167*PROFILE!$G$8,COUNTRY_INFO!D167*AL167*PROFILE!$G$8,COUNTRY_INFO!D167*AM167*PROFILE!$G$8)","v":45927.526742151778},{"$f":"MAX(COUNTRY_INFO!D167*AK167*PROFILE!$G$9,COUNTRY_INFO!D167*AL167*PROFILE!$G$9,COUNTRY_INFO!D167*AM167*PROFILE!$G$9,IF(AND(DISTRICT!Z167<>\"Unknown\",Z167<>\"Not required\"),COUNTRY_INFO!O167*DISTRICT!AN167,0))","v":110859.65334137875},{"$f":"MAX(COUNTRY_INFO!D167*AK167*PROFILE!$G$10,COUNTRY_INFO!D167*AL167*PROFILE!$G$10,IF(AND(DISTRICT!Z167<>\"Unknown\",Z167<>\"Not required\"),COUNTRY_INFO!O167*DISTRICT!AO167,0))","v":45531.600000000006},202318.78008353055,"Y",{"$f":"MAX('MDA2'!J167,'T1'!L167,'T2'!J167,T3_R1!K167,T3_R2!K167)","v":0},{"$f":"MAX('MDA1'!K167,'MDA2'!K167,'MDA3'!I167,'MDA3'!L167,'T1'!M167,'T2'!K167,T3_R1!L167,T3_R2!L167)","v":108495},{"$f":"MAX('MDA1'!L167,'MDA2'!L167,'MDA3'!J167,'MDA3'!M167,'T1'!N167,'T2'!L167,T3_R1!M167,T3_R2!M167)","v":0},108495,{"$f":"MAX('MDA2'!J167,T167)","v":0},{"$f":"MAX('MDA1'!K167,'MDA2'!K167,'MDA3'!I167,'MDA3'!L167,V167,AD167)","v":108495},{"$f":"MAX('MDA1'!L167,'MDA2'!L167,'MDA3'!J167,'MDA3'!M167,AF167)","v":0},108495,53.625768183856238]
[{"$f":"IF(COUNTRY_INFO!A168=0,\" \",COUNTRY_INFO!A168)","v":"Mozambique"},{"$f":"IF(COUNTRY_INFO!B168=0,\" \",COUNTRY_INFO!B168)","v":"Cidade de Maputo"},{"$f":"IF(COUNTRY_INFO!C168=0,\" \",COUNTRY_INFO!C168)","v":"Katembe"},{"$f":"COUNTRY_INFO!L168","v":0},null,null,{"$f":"MAX('MDA1'!M168,'MDA2'!M168)","v":0},{"$f":"IF(AND(COUNTRY_INFO!H168>0,COUNTRY_INFO!H168<4),IF(D168>MAX('MDA1'!M168,'MDA2'!M168),MAX('MDA1'!M168,'MDA2'!M168),D168),0)","v":0},{"$f":"IF(AND(COUNTRY_INFO!H168>0,COUNTRY_INFO!H168<4), IF(G168/D168*100<>0, IF(G168/D168*100>100,100,G168/D168*100), \"-\"),0)","v":0},{"$f":"COUNTRY_INFO!M168","v":"Not required"},null,null,{"$f":"MAX('MDA1'!M168,MAX('MDA3'!I168,'MDA3'!L168)+MAX('MDA3'!J168,'MDA3'!M168))","v":0},{"$f":"IF(AND(COUNTRY_INFO!I168>0,COUNTRY_INFO!I168<4),IF(J168>MAX('MDA1'!M168,MAX('MDA3'!I168,'MDA3'!L168)+MAX('MDA3'!J168,'MDA3'!M168)),MAX('MDA1'!M168,MAX('MDA3'!I168,'MDA3'!L168)+MAX('MDA3'!J168,'MDA3'!M168)),J168),0)","v":0},{"$f":"IF(AND(COUNTRY_INFO!I168>0,COUNTRY_INFO!I168<4), IF(M168/J168*100<>0, IF(M168/J168*100>100,100,M168/J168*100), \"-\"),0)","v":0},{"$f":"COUNTRY_INFO!N168","v":9206},null,null,{"$f":"SUM(MAX('MDA2'!J168, 'T1'!L168, MAX(T3_R1!K168, T3_R2!K168)), MAX('MDA1'!K168, 'MDA2'!K168, 'T1'!M168, MAX(T3_R1!L168, T3_R2!L168)), MAX('MDA1'!L168, 'MDA2'!L168, 'T1'!N168, MAX(T3_R1!M168, T3_R2!M168)))","v":6657},{"$f":"IF(AND(COUNTRY_INFO!J168>1,COUNTRY_INFO!J168<4),IF(COUNTRY_INFO!E168>MAX('MDA2'!J168,'T1'!L168,MAX(T3_R1!K168,T3_R2!K168)),MAX('MDA2'!J168,'T1'!L168,MAX(T3_R1!K168,T3_R2!K168)),COUNTRY_INFO!E168),0)","v":0},{"$f":"IF(AND(COUNTRY_INFO!J168>1,COUNTRY_INFO!J168<4), IF(T168/COUNTRY_INFO!E168*100<>0, IF(T168/COUNTRY_INFO!E168*100>100,100,T168/COUNTRY_INFO!E168*100), \"-\"),0)","v":"-"},{"$f":"IF(AND(COUNTRY_INFO!J168>1,COUNTRY_INFO!J168<4),IF(COUNTRY_INFO!F168>MAX('MDA1'!K168,'MDA2'!K168,'T1'!M168,MAX(T3_R1!L168,T3_R2!L168)),MAX('MDA1'!K168,'MDA2'!K168,'T1'!M168,MAX(T3_R1!L168,T3_R2!L168)),COUNTRY_INFO!F168),0)","v":6509},{"$f":"IF(AND(COUNTRY_INFO!J168>1,COUNTRY_INFO!J168<4), IF(V168/COUNTRY_INFO!F168*100<>0, IF(V168/COUNTRY_INFO!F168*100>100,100,V168/COUNTRY_INFO!F168*100), \"-\"),0)","v":100},6509,{"$f":"IF(AND(COUNTRY_INFO!J168>1,COUNTRY_INFO!J168<4), IF(S168/P168*100<>0, IF(X168/P168*100>100,100,X168/P168*100), \"-\"),0)","v":70.703888768194659},{"$f":"COUNTRY_INFO!O168","v":5927.7000000000007},3104,3553,{"$f":"MAX('T1'!L168,'T2'!J168)+MAX('T1'!M168,'T2'!K168)+MAX('T1'!N168,'T2'!L168)","v":6657},{"$f":"IF(COUNTRY_INFO!K168=1,IF(COUNTRY_INFO!F168*0.33>MAX('T1'!M168,'T2'!K168),MAX('T1'!M168,'T2'!K168),COUNTRY_INFO!F168*0.33),IF(COUNTRY_INFO!K168=2,IF(COUNTRY_INFO!F168*0.5>MAX('T1'!M168,'T2'!K168),MAX('T1'!M168,'T2'!K168),COUNTRY_INFO!F168*0.5),IF(COUNTRY_INFO!K168=3,IF(COUNTRY_INFO!F168>MAX('T1'!M168,'T2'!K168),MAX('T1'!M168,'T2'!K168),COUNTRY_INFO!F168),0)))","v":3254.5},{"$f":"IF(AND(COUNTRY_INFO!K168>0,COUNTRY_INFO!K168<4),IF(Z168>0,IF(COUNTRY_INFO!K168=1, AD168/(COUNTRY_INFO!F168*0.33)*100, IF(COUNTRY_INFO!K168=2, AD168/(COUNTRY_INFO!F168*0.5)*100, IF(COUNTRY_INFO!K168=3, AD168/COUNTRY_INFO!F168*100))),\"-\"),0)","v":100},{"$f":"IF(COUNTRY_INFO!K168=2,IF(COUNTRY_INFO!G168*0.2>MAX('T1'!N168,'T2'!L168),MAX('T1'!N168,'T2'!L168),COUNTRY_INFO!G168*0.2),IF(COUNTRY_INFO!K168=3,IF(COUNTRY_INFO!G168>MAX('T1'!N168,'T2'!L168),MAX('T1'!N168,'T2'!L168),COUNTRY_INFO!G168),0))","v":0},{"$f":"IF(AND(COUNTRY_INFO!K168>0,COUNTRY_INFO!K168<4),IF(Z168>0,IF(COUNTRY_INFO!K168=1, 0, IF(COUNTRY_INFO!K168=2, AF168/(COUNTRY_INFO!G168*0.2)*100, IF(COUNTRY_INFO!K168=3, AF168/COUNTRY_INFO!G168*100))),\"-\"),0)","v":0},3254.5,{"$f":"IF(AND(COUNTRY_INFO!K168>0,COUNTRY_INFO!K168<4), IF(AC168/Z168*100<>0, IF(AH168/Z168*100>100,100,AH168/Z168*100), \"-\"),0)","v":54.903250839279984},null,{"$f":"IF(AND(D168<>0, D168<>\"Unknown\",D168<>\"Stopped\",D168<>\"Not required\"),D168/COUNTRY_INFO!D168, 0)","v":0},{"$f":"IF(AND(J168<>0,J168<>\"Unknown\",J168<>\"Stopped\",J168<>\"Not required\"),J168/COUNTRY_INFO!D168, 0)","v":0},{"$f":"IF(AND(P168<>0,P168<>\"Unknown\",P168<>\"Not required\"),P168/(COUNTRY_INFO!E168+COUNTRY_INFO!F168), 0)","v":1},{"$f":"IF(AND(Z168<>0,Z168<>\"Unknown\",Z168<>\"Not required\"),IF(COUNTRY_INFO!K168=1,1,IF(COUNTRY_INFO!K168=2,0.5*COUNTRY_INFO!F168/(0.5*COUNTRY_INFO!F168+0.2*COUNTRY_INFO!G168),IF(COUNTRY_INFO!K168=3,COUNTRY_INFO!F168/(COUNTRY_INFO!F168+COUNTRY_INFO!G168)))),0)","v":0.54903250839279982},{"$f":"IF(AND(Z168<>0,Z168<>\"Unknown\",Z168<>\"Not required\"),IF(COUNTRY_INFO!K168=1,0,IF(COUNTRY_INFO!K168=2,0.2*COUNTRY_INFO!G168/(0.5*COUNTRY_INFO!F168+0.2*COUNTRY_INFO!G168),IF(COUNTRY_INFO!K168=3,COUNTRY_INFO!G168/(COUNTRY_INFO!F168+COUNTRY_INFO!G168)))),0)","v":0.45096749160720007},{"$f":"MAX(COUNTRY_INFO!D168*AK168*PROFILE!$G$7,COUNTRY_INFO!D168*AL168*PROFILE!$G$7)","v":0},{"$f":"MAX(COUNTRY_INFO!D168*AK168*PROFILE!$G$8,COUNTRY_INFO!D168*AL168*PROFILE!$G$8,COUNTRY_INFO!D168*AM168*PROFILE!$G$8)","v":2696.5170452556908},{"$f":"MAX(COUNTRY_INFO!D168*AK168*PROFILE!$G$9,COUNTRY_INFO!D168*AL168*PROFILE!$G$9,COUNTRY_INFO!D168*AM168*PROFILE!$G$9,IF(AND(DISTRICT!Z168<>\"Unknown\",Z168<>\"Not required\"),COUNTRY_INFO!O168*DISTRICT!AN168,0))","v":6508.8404726093295},{"$f":"MAX(COUNTRY_INFO!D168*AK168*PROFILE!$G$10,COUNTRY_INFO!D168*AL168*PROFILE!$G$10,IF(AND(DISTRICT!Z168<>\"Unknown\",Z168<>\"Not required\"),COUNTRY_INFO!O168*DISTRICT!AO168,0))","v":2673.2000000000003},11878.557517865022,"Y",{"$f":"MAX('MDA2'!J168,'T1'!L168,'T2'!J168,T3_R1!K168,T3_R2!K168)","v":0},{"$f":"MAX('MDA1'!K168,'MDA2'!K168,'MDA3'!I168,'MDA3'!L168,'T1'!M168,'T2'!K168,T3_R1!L168,T3_R2!L168)","v":6657},{"$f":"MAX('MDA1'!L168,'MDA2'!L168,'MDA3'!J168,'MDA3'!M168,'T1'!N168,'T2'!L168,T3_R1!M168,T3_R2!M168)","v":0},6657,{"$f":"MAX('MDA2'!J168,T168)","v":0},{"$f":"MAX('MDA1'!K168,'MDA2'!K168,'MDA3'!I168,'MDA3'!L168,V168,AD168)","v":6509},{"$f":"MAX('MDA1'!L168,'MDA2'!L168,'MDA3'!J168,'MDA3'!M168,AF168)","v":0},6509,54.796215703890347]
[{"$f":"IF(COUNTRY_INFO!A169=0,\" \",COUNTRY_INFO!A169)","v":"Mozambique"},{"$f":"IF(COUNTRY_INFO!B169=0,\" \",COUNTRY_INFO!B169)","v":"Cidade de Maputo"},{"$f":"IF(COUNTRY_INFO!C169=0,\" \",COUNTRY_INFO!C169)","v":"Kanyaca"},{"$f":"COUNTRY_INFO!L169","v":0},null,null,{"$f":"MAX('MDA1'!M169,'MDA2'!M169)","v":0},{"$f":"IF(AND(COUNTRY_INFO!H169>0,COUNTRY_INFO!H169<4),IF(D169>MAX('MDA1'!M169,'MDA2'!M169),MAX('MDA1'!M169,'MDA2'!M169),D169),0)","v":0},{"$f":"IF(AND(COUNTRY_INFO!H169>0,COUNTRY_INFO!H169<4), IF(G169/D169*100<>0, IF(G169/D169*100>100,100,G169/D169*100), \"-\"),0)","v":0},{"$f":"COUNTRY_INFO!M169","v":"Not required"},null,null,{"$f":"MAX('MDA1'!M169,MAX('MDA3'!I169,'MDA3'!L169)+MAX('MDA3'!J169,'MDA3'!M169))","v":0},{"$f":"IF(AND(COUNTRY_INFO!I169>0,COUNTRY_INFO!I169<4),IF(J169>MAX('MDA1'!M169,MAX('MDA3'!I169,'MDA3'!L169)+MAX('MDA3'!J169,'MDA3'!M169)),MAX('MDA1'!M169,MAX('MDA3'!I169,'MDA3'!L169)+MAX('MDA3'!J169,'MDA3'!M169)),J169),0)","v":0},{"$f":"IF(AND(COUNTRY_INFO!I169>0,COUNTRY_INFO!I169<4), IF(M169/J169*100<>0, IF(M169/J169*100>100,100,M169/J169*100), \"-\"),0)","v":0},{"$f":"COUNTRY_INFO!N169","v":2263},null,null,{"$f":"SUM(MAX('MDA2'!J169, 'T1'!L169, MAX(T3_R1!K169, T3_R2!K169)), MAX('MDA1'!K169, 'MDA2'!K169, 'T1'!M169, MAX(T3_R1!L169, T3_R2!L169)), MAX('MDA1'!L169, 'MDA2'!L169, 'T1'!N169, MAX(T3_R1!M169, T3_R2!M169)))","v":1804},{"$f":"IF(AND(COUNTRY_INFO!J169>1,COUNTRY_INFO!J169<4),IF(COUNTRY_INFO!E169>MAX('MDA2'!J169,'T1'!L169,MAX(T3_R1!K169,T3_R2!K169)),MAX('MDA2'!J169,'T1'!L169,MAX(T3_R1!K169,T3_R2!K169)),COUNTRY_INFO!E169),0)","v":0},{"$f":"IF(AND(COUNTRY_INFO!J169>1,COUNTRY_INFO!J169<4), IF(T169/COUNTRY_INFO!E169*100<>0, IF(T169/COUNTRY_INFO!E169*100>100,100,T169/COUNTRY_INFO!E169*100), \"-\"),0)","v":"-"},{"$f":"IF(AND(COUNTRY_INFO!J169>1,COUNTRY_INFO!J169<4),IF(COUNTRY_INFO!F169>MAX('MDA1'!K169,'MDA2'!K169,'T1'!M169,MAX(T3_R1!L169,T3_R2!L169)),MAX('MDA1'!K169,'MDA2'!K169,'T1'!M169,MAX(T3_R1!L169,T3_R2!L169)),COUNTRY_INFO!F169),0)","v":1600},{"$f":"IF(AND(COUNTRY_INFO!J169>1,COUNTRY_INFO!J169<4), IF(V169/COUNTRY_INFO!F169*100<>0, IF(V169/COUNTRY_INFO!F169*100>100,100,V169/COUNTRY_INFO!F169*100), \"-\"),0)","v":100},1600,{"$f":"IF(AND(COUNTRY_INFO!J169>1,COUNTRY_INFO!J169<4), IF(S169/P169*100<>0, IF(X169/P169*100>100,100,X169/P169*100), \"-\"),0)","v":70.702607158638969},{"$f":"COUNTRY_INFO!O169","v":1457.4},905,899,{"$f":"MAX('T1'!L169,'T2'!J169)+MAX('T1'!M169,'T2'!K169)+MAX('T1'!N169,'T2'!L169)","v":1804},{"$f":"IF(COUNTRY_INFO!K169=1,IF(COUNTRY_INFO!F169*0.33>MAX('T1'!M169,'T2'!K169),MAX('T1'!M169,'T2'!K169),COUNTRY_INFO!F169*0.33),IF(COUNTRY_INFO!K169=2,IF(COUNTRY_INFO!F169*0.5>MAX('T1'!M169,'T2'!K169),MAX('T1'!M169,'T2'!K169),COUNTRY_INFO!F169*0.5),IF(COUNTRY_INFO!K169=3,IF(COUNTRY_INFO!F169>MAX('T1'!M169,'T2'!K169),MAX('T1'!M169,'T2'!K169),COUNTRY_INFO!F169),0)))","v":800},{"$f":"IF(AND(COUNTRY_INFO!K169>0,COUNTRY_INFO!K169<4),IF(Z169>0,IF(COUNTRY_INFO!K169=1, AD169/(COUNTRY_INFO!F169*0.33)*100, IF(COUNTRY_INFO!K169=2, AD169/(COUNTRY_INFO!F169*0.5)*100, IF(COUNTRY_INFO!K169=3, AD169/COUNTRY_INFO!F169*100))),\"-\"),0)","v":100},{"$f":"IF(COUNTRY_INFO!K169=2,IF(COUNTRY_INFO!G169*0.2>MAX('T1'!N169,'T2'!L169),MAX('T1'!N169,'T2'!L169),COUNTRY_INFO!G169*0.2),IF(COUNTRY_INFO!K169=3,IF(COUNTRY_INFO!G169>MAX('T1'!N169,'T2'!L169),MAX('T1'!N169,'T2'!L169),COUNTRY_INFO!G169),0))","v":0},{"$f":"IF(AND(COUNTRY_INFO!K169>0,COUNTRY_INFO!K169<4),IF(Z169>0,IF(COUNTRY_INFO!K169=1, 0, IF(COUNTRY_INFO!K169=2, AF169/(COUNTRY_INFO!G169*0.2)*100, IF(COUNTRY_INFO!K169=3, AF169/COUNTRY_INFO!G169*100))),\"-\"),0)","v":0},800,{"$f":"IF(AND(COUNTRY_INFO!K169>0,COUNTRY_INFO!K169<4), IF(AC169/Z169*100<>0, IF(AH169/Z169*100>100,100,AH169/Z169*100), \"-\"),0)","v":54.892273912446818},null,{"$f":"IF(AND(D169<>0, D169<>\"Unknown\",D169<>\"Stopped\",D169<>\"Not required\"),D169/COUNTRY_INFO!D169, 0)","v":0},{"$f":"IF(AND(J169<>0,J169<>\"Unknown\",J169<>\"Stopped\",J169<>\"Not required\"),J169/COUNTRY_INFO!D169, 0)","v":0},{"$f":"IF(AND(P169<>0,P169<>\"Unknown\",P169<>\"Not required\"),P169/(COUNTRY_INFO!E169+COUNTRY_INFO!F169), 0)","v":1},{"$f":"IF(AND(Z169<>0,Z169<>\"Unknown\",Z169<>\"Not required\"),IF(COUNTRY_INFO!K169=1,1,IF(COUNTRY_INFO!K169=2,0.5*COUNTRY_INFO!F169/(0.5*COUNTRY_INFO!F169+0.2*COUNTRY_INFO!G169),IF(COUNTRY_INFO!K169=3,COUNTRY_INFO!F169/(COUNTRY_INFO!F169+COUNTRY_INFO!G169)))),0)","v":0.54892273912446821},{"$f":"IF(AND(Z169<>0,Z169<>\"Unknown\",Z169<>\"Not required\"),IF(COUNTRY_INFO!K169=1,0,IF(COUNTRY_INFO!K169=2,0.2*COUNTRY_INFO!G169/(0.5*COUNTRY_INFO!F169+0.2*COUNTRY_INFO!G169),IF(COUNTRY_INFO!K169=3,COUNTRY_INFO!G169/(COUNTRY_INFO!F169+COUNTRY_INFO!G169)))),0)","v":0.45107726087553179},{"$f":"MAX(COUNTRY_INFO!D169*AK169*PROFILE!$G$7,COUNTRY_INFO!D169*AL169*PROFILE!$G$7)","v":0},{"$f":"MAX(COUNTRY_INFO!D169*AK169*PROFILE!$G$8,COUNTRY_INFO!D169*AL169*PROFILE!$G$8,COUNTRY_INFO!D169*AM169*PROFILE!$G$8)","v":663.0556394005016},{"$f":"MAX(COUNTRY_INFO!D169*AK169*PROFILE!$G$9,COUNTRY_INFO!D169*AL169*PROFILE!$G$9,COUNTRY_INFO!D169*AM169*PROFILE!$G$9,IF(AND(DISTRICT!Z169<>\"Unknown\",Z169<>\"Not required\"),COUNTRY_INFO!O169*DISTRICT!AN169,0))","v":1600.4806603818868},{"$f":"MAX(COUNTRY_INFO!D169*AK169*PROFILE!$G$10,COUNTRY_INFO!D169*AL169*PROFILE!$G$10,IF(AND(DISTRICT!Z169<>\"Unknown\",Z169<>\"Not required\"),COUNTRY_INFO!O169*DISTRICT!AO169,0))","v":657.40000000000009},2920.9362997823887,"Y",{"$f":"MAX('MDA2'!J169,'T1'!L169,'T2'!J169,T3_R1!K169,T3_R2!K169)","v":0},{"$f":"MAX('MDA1'!K169,'MDA2'!K169,'MDA3'!I169,'MDA3'!L169,'T1'!M169,'T2'!K169,T3_R1!L169,T3_R2!L169)","v":1804},{"$f":"MAX('MDA1'!L169,'MDA2'!L169,'MDA3'!J169,'MDA3'!M169,'T1'!N169,'T2'!L169,T3_R1!M169,T3_R2!M169)","v":0},1804,{"$f":"MAX('MDA2'!J169,T169)","v":0},{"$f":"MAX('MDA1'!K169,'MDA2'!K169,'MDA3'!I169,'MDA3'!L169,V169,AD169)","v":1600},{"$f":"MAX('MDA1'!L169,'MDA2'!L169,'MDA3'!J169,'MDA3'!M169,AF169)","v":0},{"$f":"IF(AT169<SUM(AZ169:BB169), AT169,SUM(AZ169:BB169))","v":1600},{"$f":"IF(AT169<>0,BC169/AT169*100,0)","v":54.776956283476665}]

{"sheet":"SUMMARY","index":10,"n_rows":71,"n_cols":8,"rows_kept":71,"cut":false,"hidden":false,"merged":[[15,1,15,3],[0,1,0,5],[1,1,1,7],[5,1,11,7],[3,3,3,5],[32,1,32,2],[33,1,33,2],[34,1,34,2],[35,1,35,2],[23,1,23,5],[31,1,31,2],[24,1,24,5],[25,1,25,5],[26,1,26,5],[27,1,27,5],[70,1,70,2],[36,1,36,2],[37,1,37,2],[38,1,38,2],[67,1,67,7],[63,1,63,2],[54,1,60,7],[69,1,69,2],[64,3,65,7],[49,1,49,7],[63,3,63,7],[50,3,50,4]]}
[]
[null,"PC Joint Reporting Form v.3.1"]
[]
[null,"Country",null,{"$f":"IF(INTRO!$E$34<>0,INTRO!$E$34,\" \")","v":"Mozambique"},null,null,"Year",{"$f":"IF(INTRO!$E$36<>0,INTRO!$E$36,\" \")","v":2019}]
[]
[null,"National authorities are requested to complete the Joint Reporting Form (JRF) for submission to the World Health Organization any time before 15 August of the current year for reporting data on PC interventions implemented during the previous year."]
[]
[]
[]
[]
[]
[]
[]
[null,"Number of people received treatment (at least once) for the diseases"]
[]
[null,null,null,null,"PreSAC","SAC","Adults","Total"]
[null,"Lymphatic filariasis",null,null,"Not eligible",4126666,4655210.2320523728,{"$f":"SUM(E17:G17)","v":8781876.2320523728}]
[null,"Onchocerciasis",null,null,"Not eligible",4126666,4655210,{"$f":"SUM(E18:G18)","v":8781876}]
[null,"Soil-transmitted helminthiases",null,null,0,6978989,4655210,{"$f":"SUM(E19:G19)","v":11634199}]
[null,"Schistosomiasis",null,null,"Not targeted",5713770.5,0,{"$f":"SUM(E20:G20)","v":5713770.5}]
[]
[null,"Coverage of PC interventions for the diseases (%)"]
[]
[null,null,null,null,null,null,"Geographical","National"]
[null,"Lymphatic filariasis",null,null,null,null,60.606060606060609,48.597676893716311]
[null,"Onchocerciasis",null,null,null,null,0,0]
[null,"Soil-transmitted helminthiases",null,null,null,null,74.509803921568633,50.700111551279015]
[null,"Schistosomiasis",null,null,null,null,72.670807453416145,24.606230072397629]
[]
[null,"Number of people treated and programme coverage (%) by PC interventions"]
[]
[null,null,null,"PreSAC","SAC","Adults","Total","Coverage (%)"]
[null,"MDA 1 (IVM+ALB)",null,"Not eligible",{"$f":"'MDA1'!$K$4","v":4126666},{"$f":"'MDA1'!$L$4","v":4655210.2320523728},{"$f":"'MDA1'!$M$4","v":8781876.2320523728},{"$f":"'MDA1'!$Q$4","v":95.407151379043569}]
[null,"MDA 2 (DEC+ALB)",null,{"$f":"'MDA2'!$J$4","v":0},{"$f":"'MDA2'!$K$4","v":0},{"$f":"'MDA2'!$L$4","v":0},{"$f":"'MDA2'!$M$4","v":0},{"$f":"'MDA2'!$Q$4","v":" "}]
[null,"MDA 3 (IVM)",null,"Not eligible",{"$f":"'MDA3'!$O$4","v":0},{"$f":"'MDA3'!$P$4","v":0},{"$f":"'MDA3'!$Q$4","v":0},{"$f":"'MDA3'!$T$4","v":" "}]
[null,"T 1 (PZQ+ALB/MBD)",null,{"$f":"IF('T1'!$L$4<>0,'T1'!$L$4,\"Not targeted\")","v":"Not targeted"},{"$f":"'T1'!$M$4","v":3910695.5},{"$f":"IF('T1'!$N$4<>0,'T1'!$N$4,\"Not targeted\")","v":"Not targeted"},{"$f":"'T1'!$O$4","v":3910695.5},{"$f":"'T1'!$S$4","v":94.335167516456877}]
[null,"T 2 (PZQ)",null,{"$f":"IF('T2'!$J$4<>0,'T2'!$J$4,\"Not targeted\")","v":"Not targeted"},{"$f":"'T2'!$K$4","v":1803075},{"$f":"'T2'!$L$4","v":0},{"$f":"'T2'!$M$4","v":1803075},{"$f":"'T2'!$Q$4","v":142.27493331761301}]
[null,"T 3 (ALB/MBD) - round 1",null,{"$f":"T3_R1!$K$4","v":0},{"$f":"T3_R1!$L$4","v":0},{"$f":"IF(T3_R1!$M$4<>0,T3_R1!$M$4,\"Not targeted\")","v":"Not targeted"},{"$f":"T3_R1!$N$4","v":0},{"$f":"T3_R1!$R$4","v":" "}]
[null,"T 3 (ALB/MBD) - round 2",null,{"$f":"T3_R2!$K$4","v":0},{"$f":"T3_R2!$L$4","v":0},{"$f":"IF(T3_R2!$M$4<>0,T3_R2!$M$4,\"Not targeted\")","v":"Not targeted"},{"$f":"T3_R2!$N$4","v":0},{"$f":"T3_R2!$R$4","v":" "}]
[]
[null,"Inventory of PC medicines in the country"]
[]
[null,null,"IVM","DEC","ALB (LF)","ALB (STH)","MBD","PZQ"]
[null,"Available"]
[null,"Distributed"]
[null,"Wasted"]
[null,"Received"]
[null,"Remaining",{"$f":"C44-C45-C46+C47","v":0},0,0,0,0,0]
[]
[null,"Please indicate the medicine has been used to treat PreSAC for STH and delivery channels"]
[null,"PC medicine",null,"Delivery channels",null,null,"Source"]
[]
[null,"Additional information"]
[]
[null,"We plened to treat 99 districts for FL but we only treated 60 it means that we didnt treat 39 districts because of lack of founds. For SHC we didnt treat 28, in total of 146 districts and for STH we didnt 39 district because of the same reasons."]
[]
[]
[]
[]
[]
[]
[]
[null,null,null,"       I have read and accept WHO Data Sharing Policy"]
[null,"Name and signature of NTD coordinator or Ministry of Health representative:"]
[]
[null,"Date:"]
[]
[null,"Please send the national report (signed and in electronic format) to the concerned WR with copy to:"]
[]
[null,"WHO headquarters",null,"PC_JointForms@who.int"]
[null,"WHO Regional Office",null,"Regional Advisor for NTD"]

{"sheet":"PROFILE","index":11,"n_rows":124,"n_cols":8,"rows_kept":124,"cut":false,"hidden":true,"merged":[[12,1,12,6],[47,1,47,3],[51,1,51,3],[55,1,55,3],[65,1,65,3],[29,1,29,3],[21,1,21,6],[16,1,16,6],[18,1,18,6],[17,1,17,6],[63,1,63,3],[13,1,13,6],[14,1,14,6],[15,1,15,6],[0,1,0,5],[1,1,1,7],[3,3,3,5],[69,1,69,3],[73,1,73,3],[26,1,26,3],[27,1,27,3],[28,1,28,3],[59,1,59,3],[5,3,5,5],[30,1,30,3],[34,1,34,3],[42,1,42,3],[6,1,6,2],[7,1,7,2],[8,1,8,2],[9,1,9,2],[4,1,4,7],[5,1,5,2],[81,1,81,3],[19,1,19,6],[9,3,9,5],[43,1,43,3],[77,1,77,3],[80,1,80,3],[6,3,6,5],[7,3,7,5],[8,3,8,5],[78,1,78,3],[23,1,23,3],[11,1,11,6],[20,1,20,6],[79,1,79,3],[123,1,124,7],[85,6,85,7],[87,6,87,7],[89,6,89,7],[86,6,86,7],[88,6,88,7]]}
[]
[null,"PC Joint Reporting Form v.3.1 - Country Profile"]
[]
[null,"Country",null,{"$f":"IF(INTRO!$E$34<>0,INTRO!$E$34,\" \")","v":"Mozambique"},null,null,"Year",{"$f":"IF(INTRO!$E$36<>0,INTRO!$E$36,\" \")","v":2019}]
[null,"!!! WARNING !!!\nBefore analysing data in the country profile please be ensure that your report in the SUMMARY tab is updated"]
[null,"Total population",null,null,null,null,1,{"$f":"COUNTRY_INFO!D4","v":28584507.258740943}]
[null,"Population — other age groups",null,null,null,null,{"$f":"IF($H$6<>0,H7/$H$6,0)","v":2.9000264067433008E-2},{"$f":"H6-SUM(H8:H10)","v":828958.25874094293}]
[null,"Population — Pre-SAC",null,{"$f":"INTRO!B48","v":"1-4 years age"},null,null,{"$f":"IF($H$6<>0,H8/$H$6,0)","v":0.11599983060705209},{"$f":"COUNTRY_INFO!E4","v":3315798}]
[null,"Population — SAC",null,{"$f":"INTRO!B49","v":"5-14 years age"},null,null,{"$f":"IF($H$6<>0,H9/$H$6,0)","v":0.2799998589289146},{"$f":"COUNTRY_INFO!F4","v":8003658}]
[null,"Population — Adults",null,{"$f":"INTRO!B50","v":"15 years +"},null,null,0.5750000463966003,{"$f":"COUNTRY_INFO!G4","v":16436093}]
[]
[null,"Total number of people requiring PC for at least one disease (LF, ONCHO, STH, SCH)",null,null,null,null,null,{"$f":"DISTRICT!AT6","v":23854126.216314491}]
[null,"Proportion of number of people requiring PC for at least one disease out of total population",null,null,null,null,null,{"$f":"IF(H6<>0,H12/H6,0)","v":0.83451241612779825}]
[null,"Number of IUs requiring PC for at least one disease (LF, ONCHO, STH, SCH)",null,null,null,null,null,{"$f":"COUNTIF(DISTRICT!AT9:AT1000,\">0\")","v":161}]
[null,"Number of IUs received PC for at least one disease (LF, ONCHO, STH, SCH)",null,null,null,null,null,{"$f":"COUNTIF(DISTRICT!AY9:AY1000,\">0\")","v":121}]
[null,"Proportion of IUs requiring PC for at least one disease and received it",null,null,null,null,null,{"$f":"IF(H14<>0,H15/H14,0)","v":0.75155279503105588}]
[null,"Total number of people received PC for at least one disease (LF, ONCHO, STH, SCH)",null,null,null,null,null,{"$f":"DISTRICT!AY6","v":{"$error":"#REF!"}}]
[null,"Total number of people in need who received PC for at least one disease (LF, ONCHO, STH, SCH)",null,null,null,null,null,{"$f":"DISTRICT!BC6","v":11540634.880119637}]
[null,"Coverage of PC for at least one disease (LF, ONCHO, STH, SCH)",null,null,null,null,null,{"$f":"DISTRICT!BD6","v":0.48380036122332076}]
[null,"Number of IUs received treatment for all diseases requiring PC in those IUs",null,null,null,null,null,{"$f":"DISTRICT!AU6","v":117}]
[null,"Population requiring PC in IUs which received treatment for all diseases in need of PC",null,null,null,null,null,{"$f":"SUMIF(DISTRICT!AU9:AU1000,\"Y\",DISTRICT!AT9:AT1000)","v":15906429.84821778}]
[null,"Population received PC in IUs which were treated for all diseases in need of PC",null,null,null,null,null,{"$f":"SUMIF(DISTRICT!AU9:AU1000,\"Y\",DISTRICT!AY9:AY1000)","v":{"$error":"#REF!"}}]
[]
[null,null,null,null,"LF","ONCHO","STH","SCH"]
[]
[null,"Diseases requiring PC in the country",null,null,{"$f":"IF(INTRO!E38=\"Endemic\",\"Yes\",\"No\")","v":"Yes"},{"$f":"IF(INTRO!E40=\"Endemic\",\"Yes\",\"No\")","v":"No"},{"$f":"IF(INTRO!E42=\"Endemic\",\"Yes\",\"No\")","v":"Yes"},{"$f":"IF(INTRO!E44=\"Endemic\",\"Yes\",\"No\")","v":"Yes"}]
[null,"Number of implementation units (IUs) in the country",null,null,{"$f":"IF(E26=\"Yes\",INTRO!$E$46,\"-\")","v":161},{"$f":"IF(F26=\"Yes\",INTRO!$E$46,\"-\")","v":"-"},{"$f":"IF(G26=\"Yes\",INTRO!$E$46,\"-\")","v":161},{"$f":"IF(H26=\"Yes\",INTRO!$E$46,\"-\")","v":161}]
[null,"Number of IUs with endemicity status known",null,null,{"$f":"IF(E26=\"Yes\",E27-E29,\"-\")","v":161},{"$f":"IF(F26=\"Yes\",F27-F29,\"-\")","v":"-"},{"$f":"IF(G26=\"Yes\",G27-G29,\"-\")","v":161},{"$f":"IF(H26=\"Yes\",H27-H29,\"-\")","v":161}]
[null,"Number of IUs with endemicity status unknown",null,null,{"$f":"IF(E26=\"Yes\",E27-(992-COUNTIF(COUNTRY_INFO!H$9:H$1000,\"\"))+COUNTIF(COUNTRY_INFO!H$9:H$1000,\"=4\"),\"-\")","v":0},{"$f":"IF(F26=\"Yes\",F27-(992-COUNTIF(COUNTRY_INFO!I$9:I$1000,\"\"))+COUNTIF(COUNTRY_INFO!I$9:I$1000,\"=4\"),\"-\")","v":"-"},{"$f":"IF(G26=\"Yes\",G27-(992-COUNTIF(COUNTRY_INFO!J$9:J$1000,\"\"))+COUNTIF(COUNTRY_INFO!J$9:J$1000,\"=4\")+COUNTIF(COUNTRY_INFO!J$9:J$1000,\"=5\"),\"-\")","v":0},{"$f":"IF(H26=\"Yes\",H27-(992-COUNTIF(COUNTRY_INFO!K$9:K$1000,\"\"))+COUNTIF(COUNTRY_INFO!K$9:K$1000,\"=4\")+COUNTIF(COUNTRY_INFO!K$9:K$1000,\"=5\"),\"-\")","v":0}]
[null,"Number of non-endemic IUs",null,null,{"$f":"IF(E26=\"Yes\",COUNTIF(COUNTRY_INFO!H$9:H$1000,\"=0\"),\"-\")","v":47},{"$f":"IF(F26=\"Yes\",COUNTIF(COUNTRY_INFO!I$9:I$1000,\"=0\"),\"-\")","v":"-"},{"$f":"IF(G26=\"Yes\",COUNTIF(COUNTRY_INFO!J$9:J$1000,\"=0\"),\"-\")","v":0},{"$f":"IF(H26=\"Yes\",COUNTIF(COUNTRY_INFO!K$9:K$1000,\"=0\"),\"-\")","v":0}]
[null,"Number of IUs requiring PC (total)",null,null,{"$f":"COUNTIF(COUNTRY_INFO!H$9:H$1000,\"=1\")","v":99},{"$f":"COUNTIF(COUNTRY_INFO!I$9:I$1000,\"=1\")","v":0},{"$f":"SUM(G33:G34)","v":153},{"$f":"SUM(H32:H34)","v":161}]
[null,null,null,"low prevalence",null,null,{"$f":"COUNTIF(COUNTRY_INFO!J$9:J$1000,\"=1\")","v":8},{"$f":"COUNTIF(COUNTRY_INFO!K$9:K$1000,\"=1\")","v":8}]
[null,null,null,"moderate prevalence",null,null,{"$f":"COUNTIF(COUNTRY_INFO!J$9:J$1000,\"=2\")","v":80},{"$f":"COUNTIF(COUNTRY_INFO!K$9:K$1000,\"=2\")","v":82}]
[null,null,null,"high prevalence",null,null,{"$f":"COUNTIF(COUNTRY_INFO!J$9:J$1000,\"=3\")","v":73},{"$f":"COUNTIF(COUNTRY_INFO!K$9:K$1000,\"=3\")","v":71}]
[null,"Population requiring PC in the country (total)",null,null,{"$f":"COUNTRY_INFO!L4","v":18059542.021553796},{"$f":"COUNTRY_INFO!M4","v":0},{"$f":"COUNTRY_INFO!N4","v":10862269},{"$f":"COUNTRY_INFO!O4","v":15726917.080000002}]
[null,null,"Pre-SAC","moderate prevalence",null,null,{"$f":"SUMIF(COUNTRY_INFO!J$9:J$1000,\"=2\",COUNTRY_INFO!E$9:E$1000)","v":1715850}]
[null,null,null,"high prevalence",null,null,{"$f":"SUMIF(COUNTRY_INFO!J$9:J$1000,\"=3\",COUNTRY_INFO!E$9:E$1000)","v":1466024}]
[null,null,"SAC","low prevalence",null,null,null,{"$f":"SUMIF(COUNTRY_INFO!K$9:K$1000,\"=1\",COUNTRY_INFO!F$9:F$1000)*0.33","v":113290.98000000001}]
[null,null,null,"moderate prevalence",null,null,{"$f":"SUMIF(COUNTRY_INFO!J$9:J$1000,\"=2\",COUNTRY_INFO!F$9:F$1000)","v":4141718},{"$f":"SUMIF(COUNTRY_INFO!K$9:K$1000,\"=2\",COUNTRY_INFO!F$9:F$1000)*0.5","v":1814822.5}]
[null,null,null,"high prevalence",null,null,{"$f":"SUMIF(COUNTRY_INFO!J$9:J$1000,\"=3\",COUNTRY_INFO!F$9:F$1000)","v":3538677},{"$f":"SUMIF(COUNTRY_INFO!K$9:K$1000,\"=3\",COUNTRY_INFO!F$9:F$1000)","v":4030707}]
[null,null,"Adults","moderate prevalence",null,null,null,{"$f":"SUMIF(COUNTRY_INFO!K$9:K$1000,\"=2\",COUNTRY_INFO!G$9:G$1000)*0.2","v":1490747.6}]
[null,null,null,"high prevalence",null,null,null,{"$f":"SUMIF(COUNTRY_INFO!K$9:K$1000,\"=3\",COUNTRY_INFO!G$9:G$1000)","v":8277349}]
[null,"Number of IUs where PC was implemented (total)",null,null,{"$f":"COUNTIF(DISTRICT!G$9:G$1000,\">0\")","v":60},{"$f":"COUNTIF(DISTRICT!M$9:M$1000,\">0\")","v":60},{"$f":"COUNTIF(DISTRICT!S$9:S$1000,\">0\")","v":120},{"$f":"COUNTIF(DISTRICT!AC$9:AC$1000,\">0\")","v":117}]
[null,"Number of IUs in need where PC was implemented (total)",null,null,{"$f":"COUNTIF(DISTRICT!H$9:H$1000,\">0\")","v":60},{"$f":"COUNTIF(DISTRICT!N$9:N$1000,\">0\")","v":0},{"$f":"COUNTIF(DISTRICT!X$9:X$1000,\">0\")","v":114},{"$f":"COUNTIF(DISTRICT!AH$9:AH$1000,\">0\")","v":117}]
[null,null,"Pre-SAC",null,null,null,{"$f":"COUNTIF(DISTRICT!T$9:T$1000,\">0\")","v":0}]
[null,null,"SAC",null,null,null,{"$f":"COUNTIF(DISTRICT!V$9:V$1000,\">0\")","v":114},{"$f":"COUNTIF(DISTRICT!AD$9:AD$1000,\">0\")","v":117}]
[null,null,"Adults",null,null,null,null,{"$f":"COUNTIF(DISTRICT!AF$9:AF$1000,\">0\")","v":0}]
[null,"Number of individuals treated (total)",null,null,{"$f":"DISTRICT!G4","v":8781876.2320523728},{"$f":"DISTRICT!M4","v":8781876.2320523728},{"$f":"DISTRICT!S4","v":11634198.732052373},{"$f":"DISTRICT!AC4","v":5713770.5}]
[null,null,"Pre-SAC",null,{"$f":"SUMMARY!$E17","v":"Not eligible"},{"$f":"SUMMARY!$E18","v":"Not eligible"},{"$f":"SUMMARY!$E19","v":0},{"$f":"SUMMARY!$E20","v":"Not targeted"}]
[null,null,"SAC",null,{"$f":"SUMMARY!$F17","v":4126666},{"$f":"SUMMARY!$F18","v":4126666},{"$f":"SUMMARY!$F19","v":6978989},{"$f":"SUMMARY!$F20","v":5713770.5}]
[null,null,"Adults",null,{"$f":"SUMMARY!$G17","v":4655210.2320523728},{"$f":"SUMMARY!$G18","v":4655210},{"$f":"SUMMARY!$G19","v":4655210},{"$f":"SUMMARY!$G20","v":0}]
[null,"Number of individuals in need treated (total)",null,null,{"$f":"DISTRICT!H4","v":8776517.8801196367},{"$f":"DISTRICT!N4","v":0},{"$f":"DISTRICT!X4","v":5507182.5},{"$f":"DISTRICT!AH4","v":3869801.4}]
[null,null,"Pre-SAC",null,null,null,{"$f":"DISTRICT!T4","v":0}]
[null,null,"SAC",null,null,null,{"$f":"DISTRICT!V4","v":5507182.5},{"$f":"DISTRICT!AD4","v":3869801.4}]
[null,null,"Adults",null,null,null,null,{"$f":"DISTRICT!AF4","v":0}]
[null,"Geographical coverage (all ages)",null,null,{"$f":"IF(E31<>0,E44/E31,0)","v":0.60606060606060608},{"$f":"IF(F31<>0,F44/F31,0)","v":0},{"$f":"IF(G31<>0,G44/G31,0)","v":0.74509803921568629},{"$f":"IF(H31<>0,H44/H31,0)","v":0.72670807453416153}]
[null,null,"Pre-SAC",null,null,null,{"$f":"IF(G31<>0,G45/G31,0)","v":0}]
[null,null,"SAC",null,null,null,{"$f":"IF(G31<>0,G46/G31,0)","v":0.74509803921568629},{"$f":"IF(H31<>0,H46/H31,0)","v":0.72670807453416153}]
[null,null,"Adults",null,null,null,null,{"$f":"IF(SUM(H33:H34)<>0,H47/SUM(H33:H34),0)","v":0}]
[null,"National coverage (total)",null,null,{"$f":"IF(E35<>0,E52/E35,0)","v":0.48597676893716313},{"$f":"IF(F35<>0,F52/F35,0)","v":0},{"$f":"IF(G35<>0,G52/G35,0)","v":0.50700111551279015},{"$f":"IF(H35<>0,H52/H35,0)","v":0.24606230072397631}]
[null,null,"Pre-SAC",null,null,null,{"$f":"IF(SUM(G36:G37)<>0,G53/SUM(G36:G37),0)","v":0}]
[null,null,"SAC",null,null,null,{"$f":"IF(SUM(G39:G40)<>0,G54/SUM(G39:G40),0)","v":0.71704417546232979},{"$f":"IF(SUM(H38:H40)<>0,H54/SUM(H38:H40),0)","v":0.64942406185728885}]
[null,null,"Adults",null,null,null,null,{"$f":"IF(SUM(H41:H42)<>0,H55/SUM(H41:H42),0)","v":0}]
[null,null,null,null,"LF","ONCHO","STH","SCH"]
[]
[null,"Number of IUs achieved effective coverage (all ages)",null,null,{"$f":"COUNTIF(DISTRICT!I$9:I$1000,\">=65\")","v":58},{"$f":"COUNTIF(DISTRICT!O$9:O$1000,\">=65\")","v":0},{"$f":"COUNTIF(DISTRICT!Y$9:Y$1000,\">=75\")","v":0},{"$f":"COUNTIF(DISTRICT!AI$9:AI$1000,\">=75\")","v":6}]
[null,null,"Pre-SAC",null,null,null,{"$f":"COUNTIF(DISTRICT!U$9:U$1000,\">=75\")","v":0}]
[null,null,"SAC",null,null,null,{"$f":"COUNTIF(DISTRICT!W$9:W$1000,\">=75\")","v":113},{"$f":"COUNTIF(DISTRICT!AE$9:AE$1000,\">=75\")","v":117}]
[null,null,"Adults",null,null,null,null,{"$f":"COUNTIF(DISTRICT!AG$9:AG$1000,\">=75\")","v":0}]
[null,"Number of individuals in need treated in IUs achieved effective coverage (total)",null,null,{"$f":"SUMIF(DISTRICT!I9:I1000,\">=65\",DISTRICT!H9:H1000)","v":8670827.8801196367},{"$f":"SUMIF(DISTRICT!O9:O1000,\">=65\",DISTRICT!N9:N1000)","v":0},{"$f":"SUMIF(DISTRICT!Y9:Y1000,\">=75\",DISTRICT!X9:X1000)","v":0},{"$f":"SUMIF(DISTRICT!AI9:AI1000,\">=75\",DISTRICT!AH9:AH1000)","v":76701.899999999994}]
[null,null,"Pre-SAC",null,null,null,{"$f":"SUMIF(DISTRICT!U9:U1000,\">=75\",DISTRICT!T9:T1000)","v":0}]
[null,null,"SAC",null,null,null,{"$f":"SUMIF(DISTRICT!W9:W1000,\">=75\",DISTRICT!V9:V1000)","v":5469964.5},{"$f":"SUMIF(DISTRICT!AE9:AE1000,\">=75\",DISTRICT!AD9:AD1000)","v":3869801.4}]
[null,null,"Adults",null,null,null,null,{"$f":"SUMIF(DISTRICT!AG9:AG1000,\">=75\",DISTRICT!AF9:AF1000)","v":0}]
[null,"Proportion of IUs requiring PC and achieved effective coverage (total)",null,null,{"$f":"IF(E44<>0,E66/E44,0)","v":0.96666666666666667},{"$f":"IF(F44<>0,F66/F44,0)","v":0},{"$f":"IF(G44<>0,G66/G44,0)","v":0},{"$f":"IF(H44<>0,H66/H44,0)","v":5.128205128205128E-2}]
[null,null,"Pre-SAC",null,null,null,{"$f":"IF(G45<>0,G67/G45,0)","v":0}]
[null,null,"SAC",null,null,null,{"$f":"IF(G46<>0,G68/G46,0)","v":0.99122807017543857},{"$f":"IF(H46<>0,H68/H46,0)","v":1}]
[null,null,"Adults",null,null,null,null,{"$f":"IF(H47<>0,H69/H47,0)","v":0}]
[null,"Number of implementation units where PC was stopped (i.e. under surveillance)",null,null,{"$f":"COUNTIF(COUNTRY_INFO!H$9:H$1000,\"=99\")","v":15},{"$f":"COUNTIF(COUNTRY_INFO!I$9:I$1000,\"=99\")","v":0}]
[null,"Number of individuals in IUs no longer requiring PC (stopped)",null,null,{"$f":"SUMIF(COUNTRY_INFO!H$9:H$1000,\"=99\",COUNTRY_INFO!D$9:D$1000)","v":2707200.6781539787},{"$f":"SUMIF(COUNTRY_INFO!I$9:I$1000,\"=99\",COUNTRY_INFO!D$9:D$1000)","v":0}]
[null,"Number of individuals requiring PC living in IUs targeted with PC",null,null,{"$f":"SUMIF(DISTRICT!H$9:H$1000,\">0\",DISTRICT!D$9:D$1000)","v":10765651.487068458},{"$f":"SUMIF(DISTRICT!N$9:N$1000,\">0\",DISTRICT!J$9:J$1000)","v":0},{"$f":"SUMIF(DISTRICT!X$9:X$1000,\">0\",DISTRICT!P$9:P$1000)","v":7973891},{"$f":"SUMIF(DISTRICT!AH$9:AH$1000,\">0\",DISTRICT!Z$9:Z$1000)","v":10574741}]
[null,"Number of individuals requiring PC living in IUs not targeted with PC",null,null,{"$f":"SUMIF(DISTRICT!H$9:H$1000,\"=0\",DISTRICT!D$9:D$1000)","v":7293890.5344853401},{"$f":"SUMIF(DISTRICT!N$9:N$1000,\"=0\",DISTRICT!J$9:J$1000)","v":0},{"$f":"SUMIF(DISTRICT!X$9:X$1000,\"=0\",DISTRICT!P$9:P$1000)","v":2888378},{"$f":"SUMIF(DISTRICT!AH$9:AH$1000,\"=0\",DISTRICT!Z$9:Z$1000)","v":5152176.0799999991}]
[null,null,null,null,{"$f":"E35-E52","v":9283024.1414341591},{"$f":"F35-F52","v":0},5355086.5,11857115.680000002]
[null,"Number of IUs requiring and receiving PC",null,null,{"$f":"E31-E44","v":39},{"$f":"F31-F44","v":0},39,44]
[null,null,null,null,{"$f":"E27-E31-E29","v":62},{"$error":"#VALUE!"},8,{"$f":"H27-H31-H29","v":0}]
[]
[null,null,null,null,null,null,"Requiring and receiving PC"]
[null,null,null,null,null,null,"Requiring and not receiving PC"]
[null,null,null,null,null,null,"Not requiring PC"]
[null,null,null,null,null,null,"Status unknown"]
[]
[]
[]
[]
[]
[]
[]
[]
[]
[]
[]
[]
[]
[]
[]
[]
[]
[]
[]
[]
[]
[]
[]
[]
[]
[]
[]
[]
[]
[]
[]
[]
[]
[]
[null,"Click here to access data Preventive Chemotherapy Data Portal"]

{"sheet":"DATA_POLICY","index":12,"n_rows":39,"n_cols":8,"rows_kept":39,"cut":false,"hidden":true,"merged":[[6,1,6,7],[17,1,21,7],[22,1,25,7],[0,1,0,5],[1,1,1,7],[3,3,3,5],[55,1,55,2],[8,1,12,7],[13,1,16,7],[26,2,36,7],[38,1,45,7]]}
[]
[null,"PC Joint Reporting Form v.3.1"]
[]
[null,"Country",null,{"$f":"IF(INTRO!$E$34<>0,INTRO!$E$34,\" \")","v":"Mozambique"},null,null,"Year",{"$f":"IF(INTRO!$E$36<>0,INTRO!$E$36,\" \")","v":2019}]
[]
[]
[null,"WHO Data Sharing Policy statement"]
[]
[null,"Data are the basis for all sound public health actions and the benefits of data sharing are widely recognized, including scientific and public health benefits. Whenever possible, WHO wishes to promote the sharing of health data, including but not restricted to surveillance and epidemiological data.  "]
[]
[]
[]
[]
[null,{"$f":"\"In this connection, and without prejudice to information sharing and publication pursuant to legally binding instruments, by providing data to WHO, the Ministry of Health of \" & D4 & \":\"","v":"In this connection, and without prejudice to information sharing and publication pursuant to legally binding instruments, by providing data to WHO, the Ministry of Health of Mozambique:"}]
[]
[]
[]
[null,"Confirms that all data to be supplied to WHO hereunder have been collected in accordance with applicable national laws, including data protection laws aimed at protecting the confidentiality of identifiable persons;"]
[]
[]
[]
[]
[null,{"$f":"\"Agrees that WHO shall be entitled, subject always to measures to ensure the ethical and secure use of the data, and subject always to an appropriate acknowledgement of \"&D4&\":\"","v":"Agrees that WHO shall be entitled, subject always to measures to ensure the ethical and secure use of the data, and subject always to an appropriate acknowledgement of Mozambique:"}]
[]
[]
[]
[null,null,"to publish the data, stripped of any personal identifiers and make the Data available to any interested party on request (to the extent they have not, or not yet, been published by WHO) on terms that allow non-commercial, not-for-profit use of the Data for public health purposes (provided always that publication of the Data shall remain under the control of WHO); \nto use, compile, aggregate, evaluate and analyse the Data and publish and disseminate the results thereof in conjunction with WHO’s work and in accordance with the Organization’s policies and practices."]
[]
[]
[]
[]
[]
[]
[]
[]
[]
[]
[]
[null,{"$f":"CONCATENATE(\"Except where data sharing and publication is required under legally binding instruments (IHR, WHO Nomenclature Regulations 1967, etc.), the Ministry of Health of \", D4,\" may in respect of certain data opt out of (any part of) the above,\" & \" by notifying WHO thereof in writing at the following address, provided that any such notification shall clearly identify the data in question and clearly indicate the scope of the opt-out (in reference to the  above), \" & \"and provided that specific reasons shall be given for the opt out.\")","v":"Except where data sharing and publication is required under legally binding instruments (IHR, WHO Nomenclature Regulations 1967, etc.), the Ministry of Health of Mozambique may in respect of certain data opt out of (any part of) the above, by notifying WHO thereof in writing at the following address, provided that any such notification shall clearly identify the data in question and clearly indicate the scope of the opt-out (in reference to the  above), and provided that specific reasons shall be given for the opt out."}]