{"text_format":"1","workbook":"xlsx","n_sheets":15,"sheets":["INTRO","COUNTRY_INFO","MDA1","MDA2","MDA3","MDA5","T1","T2","T3_R1","T3_R2","T3_R3","DISTRICT","SUMMARY","PROFILE","DATA_POLICY"],"not_rendered":{"charts":8,"images":3,"macros":1,"external_links":1,"defined_names":17,"comments":13,"pivot_tables":0},"unopened":[],"bounds":{"document_bytes":16777216,"sheet_cells":100000,"rows_first":2000,"rows_last":500,"rows_between":2000,"halvings":0,"cell_chars":16384,"cell_head_chars":4096},"cells_cut":0,"cells_raw":0,"read":"whole","date_system":"1900"}

{"sheet":"INTRO","index":0,"n_rows":51,"n_cols":8,"rows_kept":51,"cut":false,"hidden":false,"merged":[[7,2,7,4],[8,2,8,4],[0,1,0,4],[1,1,1,4],[2,1,2,4],[3,1,3,4],[4,1,4,4],[5,1,5,4],[9,2,9,4],[11,2,11,4],[12,1,12,4],[13,1,13,4],[14,1,14,4],[22,1,22,4],[23,2,24,4],[25,1,25,4],[15,1,15,4],[16,1,16,4],[17,1,17,4],[18,1,18,4],[19,2,19,4],[45,1,45,2],[10,2,10,4],[41,1,41,2],[43,1,43,2],[46,1,46,4],[33,1,33,2],[35,1,35,2],[26,2,27,4],[37,1,37,2],[39,1,39,2],[28,1,28,4],[29,2,29,4],[30,1,30,4],[31,1,31,4],[20,1,20,4],[21,2,21,4]]}
[]
[null,"Formulaire de Rapport Commun v.4.2"]
[]
[null,"Le but de ce formulaire de rapport commun - disponible sous forme de fichier Excel - est de mettre à disposition des autorités sanitaires nationales et des gestionnaires de données un outil standardisé qui réponde aux défis, facilite l'intégration et par conséquent contribue à améliorer la gestion de programme. Ce formulaire tend à standardiser le rapport de résultats des programmes nationaux, améliore la disponibilité et la coordination des données de chimioprévention à travers les Bureaux des Régions de l'Organisation mondiale de la Santé. \nLes autorités nationales sont priées de compléter ce formulaire de rapport commun et de le soumettre à l'Organisation mondiale de la Santé dans les 3 mois suivant la mise en œuvre du dernier cycle et au plus tard le 31 mars de l'année de mise en œuvre suivante."]
[]
[null,"Structure de l'application (feuilles de travail) :"]
[]
[null,"INTRO","Cette feuille contient des instructions pour compléter le formulaire de rapport commun et des informations sur le statut de la chimioprévention pour les maladies d'endémie du pays. En fonction de la co-endémicité de la maladie dans un pays, l’outil générera les feuilles de calcul à remplir."]
[null,"COUNTRY_INFO","Cette feuille contient des informations sur la structure administrative du pays, la population par groupe d'âge, le statut d'endémicité pour chaque maladie, la population devant être traitée par chimioprévention, les interventions prévues et les interventions mises en oeuvre. "]
[null,"MDA1, MDA2, MDA3, MDA5, T1, T2 et T3","Ces feuilles contiennent des informations sur l'endémicité des districts ciblés pour le traitement aux médicaments spécifiques pour la chimioprévention, les plans de traitement, et le nombre de personnes traitées par groupe d'âge. "]
[null,"DISTRICT","Cette feuille contient un résumé sur les personnes traitées, par maladie, au niveau de mise en oeuvre. Si les données par genre (sexe) sont disponibles, merci de les saisir.  "]
[null,"SUMMARY","Cette feuille contient un résumé sur les personnes traitées, par maladie et par type d'intervention de chimioprévention. Avant de générer le rapport (exécuter macro), veuillez sélectionner la maladie pour laquelle vous souhaitez un rapport. Veuillez suivre le même processus pour générer les divers rapports. \nCette feuille doit être imprimée et soumise comme formulaire de rapport commun (voir les instructions pour la soumission du formulaire sous la feuille SUMMARY). "]
[]
[null,"Instructions pour la saisie des données"]
[]
[null,"La plupart des cellules des feuilles de travail mentionnées ci-dessus contiennent des formules calculées automatiquement en fonction du protocole de traitement recommandé par l'OMS pour chaque maladie.\nVoir : https://www.who.int/publications/i/item/9789241599993"]
[]
[null,"Veuillez entrer vos données dans les cellules en fonction de leur code de couleur :"]
[]
[null,null,"Blanc - la cellule n'est pas protégée. Veuillez entrer la valeur de l'indicateur demandé."]
[]
[null,null,"Jaune - la cellule est protégée et inclut le nom de l'indicateur. Aucune entrée de données requise."]
[]
[null,null,"Orange - la cellule n'est pas protégée et contient un menu déroulant. Veuillez sélectionner la valeur dans le menu déroulant. "]
[]
[]
[null,null,"Vert - la cellule n'est pas protégée et contient des formules. Veuillez changer la valeur indiquée uniquement si vos données sont différentes de celles calculées automatiquement.  "]
[]
[]
[null,null,"Bleu - la cellule est protégée et contient des formules. Aucune entrée de données requise. "]
[]
[null,"Données pays"]
[]
[null,"PAYS",null,null,"Mali",null,"ML","MLI"]
[]
[null,"Année de rapport des données",null,null,2023]
[]
[null,"Le pays est-il endémique à la filariose lymphatique (FL) ?",null,null,"Endémique mais pas de CP"]
[]
[null,"Le pays est-il endémique à l'onchocercose (ONCHO) ? ",null,null,"Endémique"]
[]
[null,"Le pays est-il endémique aux géohelminthiases (STH) ?",null,null,"Endémique mais pas de CP"]
[]
[null,"Le pays est-il endémique à la schistosomiase (SCH) ?",null,null,"Endémique"]
[]
[null,"Combien d'unités administratives compte le pays ?",null,null,75]
[null,"Si les données démographiques par groupe d'âge ne sont pas disponibles au second niveau administratif, veuillez entrer la proportion (%) de population, par groupe d'âge, du pays. Si les données sont disponibles, veuillez laisser les cellules vierges."]
[null,"1-4 ans","Enfants d'âge pré-scolaire (EAPréS)",null,0.15]
[null,"5-14 ans","Enfants d'âge scolaire (EAS)",null,0.28499999999999998]
[null,"15 ans et plus","Adultes",null,0.51500000000000001]
[null,"15-49 ans","Femmes en âge de procréer (FAP)",null,0.22]

{"sheet":"COUNTRY_INFO","index":1,"n_rows":84,"n_cols":71,"rows_kept":84,"cut":false,"hidden":false,"merged":[[6,27,7,27],[6,26,7,26],[6,21,7,21],[6,22,7,22],[6,23,7,23],[6,24,7,24],[6,25,7,25],[6,10,7,10],[6,11,7,11],[6,12,7,12],[6,13,6,16],[6,17,6,20],[6,5,7,5],[6,6,7,6],[6,7,7,7],[6,8,7,8],[6,9,7,9],[6,0,7,0],[6,1,7,1],[6,2,7,2],[6,3,7,3],[6,4,7,4],[5,3,5,6],[5,7,5,10],[5,11,5,20],[5,25,5,27],[3,0,3,2],[3,7,3,10],[3,25,3,27],[5,0,5,2],[3,21,3,24],[5,21,5,24]]}
["INFORMATIONS PAYS",null,null,null,null,null,null,null,null,null,null,null,null,null,null,null,1557485]
["Struture administrative, population par groupe d'âge, statut d'endémicité et interventions planifiées",null,null,null,null,null,null,null,null,null,null,null,null,null,null,null,null,null,null,null,null,null,null,null,null,null,null,3.16]
[]
["TOTAL",null,null,{"$f":"SUBTOTAL(9,D$10:D$1010)","v":23570465.629199989},{"$f":"SUBTOTAL(9,E$10:E$1010)","v":3535568},6717582,12138790,null,null,null,null,{"$f":"SUBTOTAL(9,L$10:L$1010)","v":0},7034518.2925920002,0,0,0,0,1557485,4289353,7581188,13428026]
[]
["Structure administrative du pays",null,null,"Population",null,null,null,"Endémicité",null,null,null,"Population nécessitant la CP",null,null,null,null,null,null,null,null,null,"Nombre de tournées de traitement réalisées",null,null,null,"Mise en oeuvre de la chimioprévention"]
["Pays","Région/Département","District","Total","EAPréS","EAS","Adultes","FL","Oncho","STH","SCH","FL","ONCHO","STH",null,null,null,"SCH",null,null,null,"FL","Oncho","STH","SCH","TOURNEE 1","TOURNEE 2","TOURNEE 3"]
[null,null,null,null,null,null,null,null,null,null,null,null,null,"EAPréS","EAS","FAP","TOTAL","EAPréS","EAS","Adultes","TOTAL",null,null,null,null,null,null,null,null,null,null,null,null,"IU_ID","IU_Name",null,"mda3","t2"]
[null,null,null,null,null,null,null,null,null,null,null,null,null,null,null,null,null,null,null,null,null,null,null,null,null,null,null,null,"x","x","x","x","x","x","X","X","X","X","X","X","X","X","X","X","X","X","X","X","X","X","X","X","X","X","X","X","X","X","X","X","X","X","X","X","X","X","X","X","X","X","X"]
[{"$f":"IF(INTRO!$E$34<>0,INTRO!$E$34,\"\")","v":"Mali"},"Bamako","Commune 1",539142.33990399993,{"$f":"IF(INTRO!$E$48=\"\",\"\",ROUND($D10*INTRO!$E$48,0))","v":80871},{"$f":"IF(INTRO!$E$49=\"\",\"\",ROUND($D10*INTRO!$E$49,0))","v":153656},{"$f":"IF(INTRO!$E$50=\"\",\"\",ROUND($D10*INTRO!$E$50,0))","v":277658},99,0,0,21,null,{"$f":"IF(INTRO!$E$40=\"Endémique\", IF($I10>0, IF($I10=4,\"Inconnu\",IF($I10=99,\"Interrompu\", $D10)), 0),\"Non requis\")","v":0},{"$f":"IF(INTRO!$E$42=\"Endémique\", IF($J10>1, IF($J10=4, \"Inconnu\", IF($J10=99, \"Surveillance\", E10)), 0),\"Non requis\")","v":"Non requis"},{"$f":"IF(INTRO!$E$42=\"Endémique\", IF($J10>1, IF($J10=4, \"Inconnu\", IF($J10=99, \"Surveillance\", F10)), 0),\"Non requis\")","v":"Non requis"},{"$f":"IF(INTRO!$E$42=\"Endémique\", IF($J10>1, IF($J10=4, \"Inconnu\", IF($J10=99, \"Surveillance\", ROUND(D10*INTRO!$E$51,0))), 0),\"Non requis\")","v":"Non requis"},{"$f":"IF(INTRO!$E$42=\"Endémique\", IF($J10>1, IF($J10=4, \"Inconnu\", IF($J10=99, \"Surveillance\", SUM($N10:$P10))), 0),\"Non requis\")","v":"Non requis"},17188,46301,83666,{"$f":"SUM(R10:T10)","v":147155},0,0,0,0,null,null,null,null,null,null,null,null,29972,"Commune 1",null,{"$f":"'MDA3'!O10","v":0},{"$f":"'T2'!S10","v":0},null,null,{"$f":"_xlfn.XLOOKUP($AH10,[1]D_Projections!$F$5:$F$79,[1]D_Projections!G$5:G$79)","v":21},{"$f":"_xlfn.XLOOKUP($AH10,[1]D_Projections!$F$5:$F$79,[1]D_Projections!H$5:H$79)","v":17749},{"$f":"_xlfn.XLOOKUP($AH10,[1]D_Projections!$F$5:$F$79,[1]D_Projections!I$5:I$79)","v":47812},{"$f":"_xlfn.XLOOKUP($AH10,[1]D_Projections!$F$5:$F$79,[1]D_Projections!J$5:J$79)","v":86396},null,{"$f":"ROUND(AP10*(100-$AB$2)/100,0)","v":17188},{"$f":"ROUND(AQ10*(100-$AB$2)/100,0)","v":46301},83666]
[{"$f":"IF(INTRO!$E$34<>0,INTRO!$E$34,\"\")","v":"Mali"},"Bamako","Commune 2",256876.22486400002,{"$f":"IF(INTRO!$E$48=\"\",\"\",ROUND($D11*INTRO!$E$48,0))","v":38531},{"$f":"IF(INTRO!$E$49=\"\",\"\",ROUND($D11*INTRO!$E$49,0))","v":73210},{"$f":"IF(INTRO!$E$50=\"\",\"\",ROUND($D11*INTRO!$E$50,0))","v":132291},99,0,0,21,null,{"$f":"IF(INTRO!$E$40=\"Endémique\", IF($I11>0, IF($I11=4,\"Inconnu\",IF($I11=99,\"Interrompu\", $D11)), 0),\"Non requis\")","v":0},{"$f":"IF(INTRO!$E$42=\"Endémique\", IF($J11>1, IF($J11=4, \"Inconnu\", IF($J11=99, \"Surveillance\", E11)), 0),\"Non requis\")","v":"Non requis"},{"$f":"IF(INTRO!$E$42=\"Endémique\", IF($J11>1, IF($J11=4, \"Inconnu\", IF($J11=99, \"Surveillance\", F11)), 0),\"Non requis\")","v":"Non requis"},{"$f":"IF(INTRO!$E$42=\"Endémique\", IF($J11>1, IF($J11=4, \"Inconnu\", IF($J11=99, \"Surveillance\", ROUND(D11*INTRO!$E$51,0))), 0),\"Non requis\")","v":"Non requis"},{"$f":"IF(INTRO!$E$42=\"Endémique\", IF($J11>1, IF($J11=4, \"Inconnu\", IF($J11=99, \"Surveillance\", SUM($N11:$P11))), 0),\"Non requis\")","v":"Non requis"},2566,6915,12496,{"$f":"SUM(R11:T11)","v":21977},0,0,0,0,null,null,null,null,null,null,null,null,29973,"Commune 2",null,{"$f":"'MDA3'!O11","v":0},{"$f":"'T2'!S11","v":0},null,null,{"$f":"_xlfn.XLOOKUP($AH11,[1]D_Projections!$F$5:$F$79,[1]D_Projections!G$5:G$79)","v":21},{"$f":"_xlfn.XLOOKUP($AH11,[1]D_Projections!$F$5:$F$79,[1]D_Projections!H$5:H$79)","v":2650},{"$f":"_xlfn.XLOOKUP($AH11,[1]D_Projections!$F$5:$F$79,[1]D_Projections!I$5:I$79)","v":7141},{"$f":"_xlfn.XLOOKUP($AH11,[1]D_Projections!$F$5:$F$79,[1]D_Projections!J$5:J$79)","v":12904},null,{"$f":"ROUND(AP11*(100-$AB$2)/100,0)","v":2566},{"$f":"ROUND(AQ11*(100-$AB$2)/100,0)","v":6915},{"$f":"ROUND(AR11*(100-$AB$2)/100,0)","v":12496}]
[{"$f":"IF(INTRO!$E$34<>0,INTRO!$E$34,\"\")","v":"Mali"},"Bamako","Commune 3",207152.56777599998,{"$f":"IF(INTRO!$E$48=\"\",\"\",ROUND($D12*INTRO!$E$48,0))","v":31073},{"$f":"IF(INTRO!$E$49=\"\",\"\",ROUND($D12*INTRO!$E$49,0))","v":59038},{"$f":"IF(INTRO!$E$50=\"\",\"\",ROUND($D12*INTRO!$E$50,0))","v":106684},99,0,0,21,null,{"$f":"IF(INTRO!$E$40=\"Endémique\", IF($I12>0, IF($I12=4,\"Inconnu\",IF($I12=99,\"Interrompu\", $D12)), 0),\"Non requis\")","v":0},{"$f":"IF(INTRO!$E$42=\"Endémique\", IF($J12>1, IF($J12=4, \"Inconnu\", IF($J12=99, \"Surveillance\", E12)), 0),\"Non requis\")","v":"Non requis"},{"$f":"IF(INTRO!$E$42=\"Endémique\", IF($J12>1, IF($J12=4, \"Inconnu\", IF($J12=99, \"Surveillance\", F12)), 0),\"Non requis\")","v":"Non requis"},{"$f":"IF(INTRO!$E$42=\"Endémique\", IF($J12>1, IF($J12=4, \"Inconnu\", IF($J12=99, \"Surveillance\", ROUND(D12*INTRO!$E$51,0))), 0),\"Non requis\")","v":"Non requis"},{"$f":"IF(INTRO!$E$42=\"Endémique\", IF($J12>1, IF($J12=4, \"Inconnu\", IF($J12=99, \"Surveillance\", SUM($N12:$P12))), 0),\"Non requis\")","v":"Non requis"},7053,18996,34326,60375,0,0,0,0,null,null,null,null,null,null,null,null,29974,"Commune 3",null,{"$f":"'MDA3'!O12","v":0},{"$f":"'T2'!S12","v":0},null,null,{"$f":"_xlfn.XLOOKUP($AH12,[1]D_Projections!$F$5:$F$79,[1]D_Projections!G$5:G$79)","v":21},{"$f":"_xlfn.XLOOKUP($AH12,[1]D_Projections!$F$5:$F$79,[1]D_Projections!H$5:H$79)","v":7283},{"$f":"_xlfn.XLOOKUP($AH12,[1]D_Projections!$F$5:$F$79,[1]D_Projections!I$5:I$79)","v":19616},{"$f":"_xlfn.XLOOKUP($AH12,[1]D_Projections!$F$5:$F$79,[1]D_Projections!J$5:J$79)","v":35446},null,7053,18996,34326]
[{"$f":"IF(INTRO!$E$34<>0,INTRO!$E$34,\"\")","v":"Mali"},"Bamako","Commune 4",482364.98150400002,{"$f":"IF(INTRO!$E$48=\"\",\"\",ROUND($D13*INTRO!$E$48,0))","v":72355},{"$f":"IF(INTRO!$E$49=\"\",\"\",ROUND($D13*INTRO!$E$49,0))","v":137474},{"$f":"IF(INTRO!$E$50=\"\",\"\",ROUND($D13*INTRO!$E$50,0))","v":248418},99,0,0,31,null,{"$f":"IF(INTRO!$E$40=\"Endémique\", IF($I13>0, IF($I13=4,\"Inconnu\",IF($I13=99,\"Interrompu\", $D13)), 0),\"Non requis\")","v":0},{"$f":"IF(INTRO!$E$42=\"Endémique\", IF($J13>1, IF($J13=4, \"Inconnu\", IF($J13=99, \"Surveillance\", E13)), 0),\"Non requis\")","v":"Non requis"},{"$f":"IF(INTRO!$E$42=\"Endémique\", IF($J13>1, IF($J13=4, \"Inconnu\", IF($J13=99, \"Surveillance\", F13)), 0),\"Non requis\")","v":"Non requis"},{"$f":"IF(INTRO!$E$42=\"Endémique\", IF($J13>1, IF($J13=4, \"Inconnu\", IF($J13=99, \"Surveillance\", ROUND(D13*INTRO!$E$51,0))), 0),\"Non requis\")","v":"Non requis"},{"$f":"IF(INTRO!$E$42=\"Endémique\", IF($J13>1, IF($J13=4, \"Inconnu\", IF($J13=99, \"Surveillance\", SUM($N13:$P13))), 0),\"Non requis\")","v":"Non requis"},29750,80141,144818,254709,0,0,0,1,null,"T2 (PZQ)",null,null,null,null,null,null,29975,"Commune 4",null,{"$f":"'MDA3'!O13","v":0},{"$f":"'T2'!S13","v":43994},null,null,{"$f":"_xlfn.XLOOKUP($AH13,[1]D_Projections!$F$5:$F$79,[1]D_Projections!G$5:G$79)","v":31},{"$f":"_xlfn.XLOOKUP($AH13,[1]D_Projections!$F$5:$F$79,[1]D_Projections!H$5:H$79)","v":30721},{"$f":"_xlfn.XLOOKUP($AH13,[1]D_Projections!$F$5:$F$79,[1]D_Projections!I$5:I$79)","v":82756},{"$f":"_xlfn.XLOOKUP($AH13,[1]D_Projections!$F$5:$F$79,[1]D_Projections!J$5:J$79)","v":149544},null,29750,80141,144818]
[{"$f":"IF(INTRO!$E$34<>0,INTRO!$E$34,\"\")","v":"Mali"},"Bamako","Commune 5",666550.08817600005,{"$f":"IF(INTRO!$E$48=\"\",\"\",ROUND($D14*INTRO!$E$48,0))","v":99983},{"$f":"IF(INTRO!$E$49=\"\",\"\",ROUND($D14*INTRO!$E$49,0))","v":189967},{"$f":"IF(INTRO!$E$50=\"\",\"\",ROUND($D14*INTRO!$E$50,0))","v":343273},99,0,0,21,null,{"$f":"IF(INTRO!$E$40=\"Endémique\", IF($I14>0, IF($I14=4,\"Inconnu\",IF($I14=99,\"Interrompu\", $D14)), 0),\"Non requis\")","v":0},{"$f":"IF(INTRO!$E$42=\"Endémique\", IF($J14>1, IF($J14=4, \"Inconnu\", IF($J14=99, \"Surveillance\", E14)), 0),\"Non requis\")","v":"Non requis"},{"$f":"IF(INTRO!$E$42=\"Endémique\", IF($J14>1, IF($J14=4, \"Inconnu\", IF($J14=99, \"Surveillance\", F14)), 0),\"Non requis\")","v":"Non requis"},{"$f":"IF(INTRO!$E$42=\"Endémique\", IF($J14>1, IF($J14=4, \"Inconnu\", IF($J14=99, \"Surveillance\", ROUND(D14*INTRO!$E$51,0))), 0),\"Non requis\")","v":"Non requis"},{"$f":"IF(INTRO!$E$42=\"Endémique\", IF($J14>1, IF($J14=4, \"Inconnu\", IF($J14=99, \"Surveillance\", SUM($N14:$P14))), 0),\"Non requis\")","v":"Non requis"},54294,146255,264282,464831,0,0,0,1,null,"T2 (PZQ)",null,null,null,null,null,null,29976,"Commune 5",null,{"$f":"'MDA3'!O14","v":0},{"$f":"'T2'!S14","v":51064},null,null,{"$f":"_xlfn.XLOOKUP($AH14,[1]D_Projections!$F$5:$F$79,[1]D_Projections!G$5:G$79)","v":21},{"$f":"_xlfn.XLOOKUP($AH14,[1]D_Projections!$F$5:$F$79,[1]D_Projections!H$5:H$79)","v":56066},{"$f":"_xlfn.XLOOKUP($AH14,[1]D_Projections!$F$5:$F$79,[1]D_Projections!I$5:I$79)","v":151027},{"$f":"_xlfn.XLOOKUP($AH14,[1]D_Projections!$F$5:$F$79,[1]D_Projections!J$5:J$79)","v":272906},null,54294,146255,264282]
[{"$f":"IF(INTRO!$E$34<>0,INTRO!$E$34,\"\")","v":"Mali"},"Bamako","Commune 6",755924.51939199993,{"$f":"IF(INTRO!$E$48=\"\",\"\",ROUND($D15*INTRO!$E$48,0))","v":113389},{"$f":"IF(INTRO!$E$49=\"\",\"\",ROUND($D15*INTRO!$E$49,0))","v":215438},{"$f":"IF(INTRO!$E$50=\"\",\"\",ROUND($D15*INTRO!$E$50,0))","v":389301},99,0,0,21,null,{"$f":"IF(INTRO!$E$40=\"Endémique\", IF($I15>0, IF($I15=4,\"Inconnu\",IF($I15=99,\"Interrompu\", $D15)), 0),\"Non requis\")","v":0},{"$f":"IF(INTRO!$E$42=\"Endémique\", IF($J15>1, IF($J15=4, \"Inconnu\", IF($J15=99, \"Surveillance\", E15)), 0),\"Non requis\")","v":"Non requis"},{"$f":"IF(INTRO!$E$42=\"Endémique\", IF($J15>1, IF($J15=4, \"Inconnu\", IF($J15=99, \"Surveillance\", F15)), 0),\"Non requis\")","v":"Non requis"},{"$f":"IF(INTRO!$E$42=\"Endémique\", IF($J15>1, IF($J15=4, \"Inconnu\", IF($J15=99, \"Surveillance\", ROUND(D15*INTRO!$E$51,0))), 0),\"Non requis\")","v":"Non requis"},{"$f":"IF(INTRO!$E$42=\"Endémique\", IF($J15>1, IF($J15=4, \"Inconnu\", IF($J15=99, \"Surveillance\", SUM($N15:$P15))), 0),\"Non requis\")","v":"Non requis"},53499,144116,260421,458036,0,0,0,1,null,"T2 (PZQ)",null,null,null,null,null,null,29977,"Commune 6",null,{"$f":"'MDA3'!O15","v":0},{"$f":"'T2'!S15","v":121820},null,null,{"$f":"_xlfn.XLOOKUP($AH15,[1]D_Projections!$F$5:$F$79,[1]D_Projections!G$5:G$79)","v":21},{"$f":"_xlfn.XLOOKUP($AH15,[1]D_Projections!$F$5:$F$79,[1]D_Projections!H$5:H$79)","v":55245},{"$f":"_xlfn.XLOOKUP($AH15,[1]D_Projections!$F$5:$F$79,[1]D_Projections!I$5:I$79)","v":148819},{"$f":"_xlfn.XLOOKUP($AH15,[1]D_Projections!$F$5:$F$79,[1]D_Projections!J$5:J$79)","v":268919},null,53499,144116,260421]
[{"$f":"IF(INTRO!$E$34<>0,INTRO!$E$34,\"\")","v":"Mali"},"Gao","Ansongo",211788.13320000001,{"$f":"IF(INTRO!$E$48=\"\",\"\",ROUND($D16*INTRO!$E$48,0))","v":31768},{"$f":"IF(INTRO!$E$49=\"\",\"\",ROUND($D16*INTRO!$E$49,0))","v":60360},{"$f":"IF(INTRO!$E$50=\"\",\"\",ROUND($D16*INTRO!$E$50,0))","v":109071},99,0,0,3,null,{"$f":"IF(INTRO!$E$40=\"Endémique\", IF($I16>0, IF($I16=4,\"Inconnu\",IF($I16=99,\"Interrompu\", $D16)), 0),\"Non requis\")","v":0},{"$f":"IF(INTRO!$E$42=\"Endémique\", IF($J16>1, IF($J16=4, \"Inconnu\", IF($J16=99, \"Surveillance\", E16)), 0),\"Non requis\")","v":"Non requis"},{"$f":"IF(INTRO!$E$42=\"Endémique\", IF($J16>1, IF($J16=4, \"Inconnu\", IF($J16=99, \"Surveillance\", F16)), 0),\"Non requis\")","v":"Non requis"},{"$f":"IF(INTRO!$E$42=\"Endémique\", IF($J16>1, IF($J16=4, \"Inconnu\", IF($J16=99, \"Surveillance\", ROUND(D16*INTRO!$E$51,0))), 0),\"Non requis\")","v":"Non requis"},{"$f":"IF(INTRO!$E$42=\"Endémique\", IF($J16>1, IF($J16=4, \"Inconnu\", IF($J16=99, \"Surveillance\", SUM($N16:$P16))), 0),\"Non requis\")","v":"Non requis"},21323,57432,103770,182525,0,0,0,1,null,"T2 (PZQ)",null,null,null,null,null,null,29978,"Ansongo",null,{"$f":"'MDA3'!O16","v":0},{"$f":"'T2'!S16","v":28775},null,null,{"$f":"_xlfn.XLOOKUP($AH16,[1]D_Projections!$F$5:$F$79,[1]D_Projections!G$5:G$79)","v":3},{"$f":"_xlfn.XLOOKUP($AH16,[1]D_Projections!$F$5:$F$79,[1]D_Projections!H$5:H$79)","v":22019},{"$f":"_xlfn.XLOOKUP($AH16,[1]D_Projections!$F$5:$F$79,[1]D_Projections!I$5:I$79)","v":59306},{"$f":"_xlfn.XLOOKUP($AH16,[1]D_Projections!$F$5:$F$79,[1]D_Projections!J$5:J$79)","v":107156},null,21323,57432,103770]
[{"$f":"IF(INTRO!$E$34<>0,INTRO!$E$34,\"\")","v":"Mali"},"Gao","Bourem",185759.63190399998,{"$f":"IF(INTRO!$E$48=\"\",\"\",ROUND($D17*INTRO!$E$48,0))","v":27864},{"$f":"IF(INTRO!$E$49=\"\",\"\",ROUND($D17*INTRO!$E$49,0))","v":52941},{"$f":"IF(INTRO!$E$50=\"\",\"\",ROUND($D17*INTRO!$E$50,0))","v":95666},99,0,0,3,null,{"$f":"IF(INTRO!$E$40=\"Endémique\", IF($I17>0, IF($I17=4,\"Inconnu\",IF($I17=99,\"Interrompu\", $D17)), 0),\"Non requis\")","v":0},{"$f":"IF(INTRO!$E$42=\"Endémique\", IF($J17>1, IF($J17=4, \"Inconnu\", IF($J17=99, \"Surveillance\", E17)), 0),\"Non requis\")","v":"Non requis"},{"$f":"IF(INTRO!$E$42=\"Endémique\", IF($J17>1, IF($J17=4, \"Inconnu\", IF($J17=99, \"Surveillance\", F17)), 0),\"Non requis\")","v":"Non requis"},{"$f":"IF(INTRO!$E$42=\"Endémique\", IF($J17>1, IF($J17=4, \"Inconnu\", IF($J17=99, \"Surveillance\", ROUND(D17*INTRO!$E$51,0))), 0),\"Non requis\")","v":"Non requis"},{"$f":"IF(INTRO!$E$42=\"Endémique\", IF($J17>1, IF($J17=4, \"Inconnu\", IF($J17=99, \"Surveillance\", SUM($N17:$P17))), 0),\"Non requis\")","v":"Non requis"},14597,39324,71057,124978,0,0,0,1,null,"T2 (PZQ)",null,null,null,null,null,null,29979,"Bourem",null,{"$f":"'MDA3'!O17","v":0},{"$f":"'T2'!S17","v":35884},null,null,{"$f":"_xlfn.XLOOKUP($AH17,[1]D_Projections!$F$5:$F$79,[1]D_Projections!G$5:G$79)","v":3},{"$f":"_xlfn.XLOOKUP($AH17,[1]D_Projections!$F$5:$F$79,[1]D_Projections!H$5:H$79)","v":15073},{"$f":"_xlfn.XLOOKUP($AH17,[1]D_Projections!$F$5:$F$79,[1]D_Projections!I$5:I$79)","v":40607},{"$f":"_xlfn.XLOOKUP($AH17,[1]D_Projections!$F$5:$F$79,[1]D_Projections!J$5:J$79)","v":73376},null,14597,39324,71057]
[{"$f":"IF(INTRO!$E$34<>0,INTRO!$E$34,\"\")","v":"Mali"},"Gao","Almoustrat",14612.92504,{"$f":"IF(INTRO!$E$48=\"\",\"\",ROUND($D18*INTRO!$E$48,0))","v":2192},{"$f":"IF(INTRO!$E$49=\"\",\"\",ROUND($D18*INTRO!$E$49,0))","v":4165},{"$f":"IF(INTRO!$E$50=\"\",\"\",ROUND($D18*INTRO!$E$50,0))","v":7526},99,0,0,1,null,{"$f":"IF(INTRO!$E$40=\"Endémique\", IF($I18>0, IF($I18=4,\"Inconnu\",IF($I18=99,\"Interrompu\", $D18)), 0),\"Non requis\")","v":0},{"$f":"IF(INTRO!$E$42=\"Endémique\", IF($J18>1, IF($J18=4, \"Inconnu\", IF($J18=99, \"Surveillance\", E18)), 0),\"Non requis\")","v":"Non requis"},{"$f":"IF(INTRO!$E$42=\"Endémique\", IF($J18>1, IF($J18=4, \"Inconnu\", IF($J18=99, \"Surveillance\", F18)), 0),\"Non requis\")","v":"Non requis"},{"$f":"IF(INTRO!$E$42=\"Endémique\", IF($J18>1, IF($J18=4, \"Inconnu\", IF($J18=99, \"Surveillance\", ROUND(D18*INTRO!$E$51,0))), 0),\"Non requis\")","v":"Non requis"},{"$f":"IF(INTRO!$E$42=\"Endémique\", IF($J18>1, IF($J18=4, \"Inconnu\", IF($J18=99, \"Surveillance\", SUM($N18:$P18))), 0),\"Non requis\")","v":"Non requis"},0,0,0,0,0,0,0,1,null,"T2 (PZQ)",null,null,null,null,null,null,30035,"Almoustrat",null,{"$f":"'MDA3'!O18","v":0},{"$f":"'T2'!S18","v":2627},null,null,{"$f":"_xlfn.XLOOKUP($AH18,[1]D_Projections!$F$5:$F$79,[1]D_Projections!G$5:G$79)","v":1},{"$f":"_xlfn.XLOOKUP($AH18,[1]D_Projections!$F$5:$F$79,[1]D_Projections!H$5:H$79)","v":0},{"$f":"_xlfn.XLOOKUP($AH18,[1]D_Projections!$F$5:$F$79,[1]D_Projections!I$5:I$79)","v":0},{"$f":"_xlfn.XLOOKUP($AH18,[1]D_Projections!$F$5:$F$79,[1]D_Projections!J$5:J$79)","v":0},null,0,0,0]
[{"$f":"IF(INTRO!$E$34<>0,INTRO!$E$34,\"\")","v":"Mali"},"Gao","Gao",384235.67481600004,{"$f":"IF(INTRO!$E$48=\"\",\"\",ROUND($D19*INTRO!$E$48,0))","v":57635},{"$f":"IF(INTRO!$E$49=\"\",\"\",ROUND($D19*INTRO!$E$49,0))","v":109507},{"$f":"IF(INTRO!$E$50=\"\",\"\",ROUND($D19*INTRO!$E$50,0))","v":197881},99,0,0,3,null,{"$f":"IF(INTRO!$E$40=\"Endémique\", IF($I19>0, IF($I19=4,\"Inconnu\",IF($I19=99,\"Interrompu\", $D19)), 0),\"Non requis\")","v":0},{"$f":"IF(INTRO!$E$42=\"Endémique\", IF($J19>1, IF($J19=4, \"Inconnu\", IF($J19=99, \"Surveillance\", E19)), 0),\"Non requis\")","v":"Non requis"},{"$f":"IF(INTRO!$E$42=\"Endémique\", IF($J19>1, IF($J19=4, \"Inconnu\", IF($J19=99, \"Surveillance\", F19)), 0),\"Non requis\")","v":"Non requis"},{"$f":"IF(INTRO!$E$42=\"Endémique\", IF($J19>1, IF($J19=4, \"Inconnu\", IF($J19=99, \"Surveillance\", ROUND(D19*INTRO!$E$51,0))), 0),\"Non requis\")","v":"Non requis"},{"$f":"IF(INTRO!$E$42=\"Endémique\", IF($J19>1, IF($J19=4, \"Inconnu\", IF($J19=99, \"Surveillance\", SUM($N19:$P19))), 0),\"Non requis\")","v":"Non requis"},34928,94091,170023,299042,0,0,0,1,null,"T2 (PZQ)",null,null,null,null,null,null,29980,"Gao",null,{"$f":"'MDA3'!O19","v":0},{"$f":"'T2'!S19","v":83403},null,null,{"$f":"_xlfn.XLOOKUP($AH19,[1]D_Projections!$F$5:$F$79,[1]D_Projections!G$5:G$79)","v":3},{"$f":"_xlfn.XLOOKUP($AH19,[1]D_Projections!$F$5:$F$79,[1]D_Projections!H$5:H$79)","v":36068},{"$f":"_xlfn.XLOOKUP($AH19,[1]D_Projections!$F$5:$F$79,[1]D_Projections!I$5:I$79)","v":97161},{"$f":"_xlfn.XLOOKUP($AH19,[1]D_Projections!$F$5:$F$79,[1]D_Projections!J$5:J$79)","v":175571},null,34928,94091,170023]
[{"$f":"IF(INTRO!$E$34<>0,INTRO!$E$34,\"\")","v":"Mali"},"Menaka","Menaka",59298.530703999997,{"$f":"IF(INTRO!$E$48=\"\",\"\",ROUND($D20*INTRO!$E$48,0))","v":8895},{"$f":"IF(INTRO!$E$49=\"\",\"\",ROUND($D20*INTRO!$E$49,0))","v":16900},{"$f":"IF(INTRO!$E$50=\"\",\"\",ROUND($D20*INTRO!$E$50,0))","v":30539},99,0,0,1,null,{"$f":"IF(INTRO!$E$40=\"Endémique\", IF($I20>0, IF($I20=4,\"Inconnu\",IF($I20=99,\"Interrompu\", $D20)), 0),\"Non requis\")","v":0},{"$f":"IF(INTRO!$E$42=\"Endémique\", IF($J20>1, IF($J20=4, \"Inconnu\", IF($J20=99, \"Surveillance\", E20)), 0),\"Non requis\")","v":"Non requis"},{"$f":"IF(INTRO!$E$42=\"Endémique\", IF($J20>1, IF($J20=4, \"Inconnu\", IF($J20=99, \"Surveillance\", F20)), 0),\"Non requis\")","v":"Non requis"},{"$f":"IF(INTRO!$E$42=\"Endémique\", IF($J20>1, IF($J20=4, \"Inconnu\", IF($J20=99, \"Surveillance\", ROUND(D20*INTRO!$E$51,0))), 0),\"Non requis\")","v":"Non requis"},{"$f":"IF(INTRO!$E$42=\"Endémique\", IF($J20>1, IF($J20=4, \"Inconnu\", IF($J20=99, \"Surveillance\", SUM($N20:$P20))), 0),\"Non requis\")","v":"Non requis"},0,0,0,0,0,0,0,0,null,null,null,null,null,null,null,null,29981,"Menaka",null,{"$f":"'MDA3'!O20","v":0},{"$f":"'T2'!S20","v":0},null,null,{"$f":"_xlfn.XLOOKUP($AH20,[1]D_Projections!$F$5:$F$79,[1]D_Projections!G$5:G$79)","v":1},{"$f":"_xlfn.XLOOKUP($AH20,[1]D_Projections!$F$5:$F$79,[1]D_Projections!H$5:H$79)","v":0},{"$f":"_xlfn.XLOOKUP($AH20,[1]D_Projections!$F$5:$F$79,[1]D_Projections!I$5:I$79)","v":0},{"$f":"_xlfn.XLOOKUP($AH20,[1]D_Projections!$F$5:$F$79,[1]D_Projections!J$5:J$79)","v":0},null,0,0,0]
[{"$f":"IF(INTRO!$E$34<>0,INTRO!$E$34,\"\")","v":"Mali"},"Menaka","Anderamboukane",18790.193072000002,{"$f":"IF(INTRO!$E$48=\"\",\"\",ROUND($D21*INTRO!$E$48,0))","v":2819},{"$f":"IF(INTRO!$E$49=\"\",\"\",ROUND($D21*INTRO!$E$49,0))","v":5355},{"$f":"IF(INTRO!$E$50=\"\",\"\",ROUND($D21*INTRO!$E$50,0))","v":9677},99,0,0,1,null,{"$f":"IF(INTRO!$E$40=\"Endémique\", IF($I21>0, IF($I21=4,\"Inconnu\",IF($I21=99,\"Interrompu\", $D21)), 0),\"Non requis\")","v":0},{"$f":"IF(INTRO!$E$42=\"Endémique\", IF($J21>1, IF($J21=4, \"Inconnu\", IF($J21=99, \"Surveillance\", E21)), 0),\"Non requis\")","v":"Non requis"},{"$f":"IF(INTRO!$E$42=\"Endémique\", IF($J21>1, IF($J21=4, \"Inconnu\", IF($J21=99, \"Surveillance\", F21)), 0),\"Non requis\")","v":"Non requis"},{"$f":"IF(INTRO!$E$42=\"Endémique\", IF($J21>1, IF($J21=4, \"Inconnu\", IF($J21=99, \"Surveillance\", ROUND(D21*INTRO!$E$51,0))), 0),\"Non requis\")","v":"Non requis"},{"$f":"IF(INTRO!$E$42=\"Endémique\", IF($J21>1, IF($J21=4, \"Inconnu\", IF($J21=99, \"Surveillance\", SUM($N21:$P21))), 0),\"Non requis\")","v":"Non requis"},0,0,0,0,0,0,0,0,null,null,null,null,null,null,null,null,30036,"Anderamboukane",null,{"$f":"'MDA3'!O21","v":0},{"$f":"'T2'!S21","v":0},null,null,{"$f":"_xlfn.XLOOKUP($AH21,[1]D_Projections!$F$5:$F$79,[1]D_Projections!G$5:G$79)","v":1},{"$f":"_xlfn.XLOOKUP($AH21,[1]D_Projections!$F$5:$F$79,[1]D_Projections!H$5:H$79)","v":0},{"$f":"_xlfn.XLOOKUP($AH21,[1]D_Projections!$F$5:$F$79,[1]D_Projections!I$5:I$79)","v":0},{"$f":"_xlfn.XLOOKUP($AH21,[1]D_Projections!$F$5:$F$79,[1]D_Projections!J$5:J$79)","v":0},null,0,0,0]
[{"$f":"IF(INTRO!$E$34<>0,INTRO!$E$34,\"\")","v":"Mali"},"Menaka","Inekar",6971.0575199999994,{"$f":"IF(INTRO!$E$48=\"\",\"\",ROUND($D22*INTRO!$E$48,0))","v":1046},{"$f":"IF(INTRO!$E$49=\"\",\"\",ROUND($D22*INTRO!$E$49,0))","v":1987},{"$f":"IF(INTRO!$E$50=\"\",\"\",ROUND($D22*INTRO!$E$50,0))","v":3590},99,0,0,0,null,{"$f":"IF(INTRO!$E$40=\"Endémique\", IF($I22>0, IF($I22=4,\"Inconnu\",IF($I22=99,\"Interrompu\", $D22)), 0),\"Non requis\")","v":0},{"$f":"IF(INTRO!$E$42=\"Endémique\", IF($J22>1, IF($J22=4, \"Inconnu\", IF($J22=99, \"Surveillance\", E22)), 0),\"Non requis\")","v":"Non requis"},{"$f":"IF(INTRO!$E$42=\"Endémique\", IF($J22>1, IF($J22=4, \"Inconnu\", IF($J22=99, \"Surveillance\", F22)), 0),\"Non requis\")","v":"Non requis"},{"$f":"IF(INTRO!$E$42=\"Endémique\", IF($J22>1, IF($J22=4, \"Inconnu\", IF($J22=99, \"Surveillance\", ROUND(D22*INTRO!$E$51,0))), 0),\"Non requis\")","v":"Non requis"},{"$f":"IF(INTRO!$E$42=\"Endémique\", IF($J22>1, IF($J22=4, \"Inconnu\", IF($J22=99, \"Surveillance\", SUM($N22:$P22))), 0),\"Non requis\")","v":"Non requis"},0,0,0,0,0,0,0,0,null,null,null,null,null,null,null,null,30037,"Inekar",null,{"$f":"'MDA3'!O22","v":0},{"$f":"'T2'!S22","v":0},null,null,{"$f":"_xlfn.XLOOKUP($AH22,[1]D_Projections!$F$5:$F$79,[1]D_Projections!G$5:G$79)","v":0},{"$f":"_xlfn.XLOOKUP($AH22,[1]D_Projections!$F$5:$F$79,[1]D_Projections!H$5:H$79)","v":0},{"$f":"_xlfn.XLOOKUP($AH22,[1]D_Projections!$F$5:$F$79,[1]D_Projections!I$5:I$79)","v":0},{"$f":"_xlfn.XLOOKUP($AH22,[1]D_Projections!$F$5:$F$79,[1]D_Projections!J$5:J$79)","v":0},null,0,0,0]
[{"$f":"IF(INTRO!$E$34<>0,INTRO!$E$34,\"\")","v":"Mali"},"Menaka","Tidermene",4815.8791520000004,{"$f":"IF(INTRO!$E$48=\"\",\"\",ROUND($D23*INTRO!$E$48,0))","v":722},{"$f":"IF(INTRO!$E$49=\"\",\"\",ROUND($D23*INTRO!$E$49,0))","v":1373},{"$f":"IF(INTRO!$E$50=\"\",\"\",ROUND($D23*INTRO!$E$50,0))","v":2480},99,0,0,2,null,{"$f":"IF(INTRO!$E$40=\"Endémique\", IF($I23>0, IF($I23=4,\"Inconnu\",IF($I23=99,\"Interrompu\", $D23)), 0),\"Non requis\")","v":0},{"$f":"IF(INTRO!$E$42=\"Endémique\", IF($J23>1, IF($J23=4, \"Inconnu\", IF($J23=99, \"Surveillance\", E23)), 0),\"Non requis\")","v":"Non requis"},{"$f":"IF(INTRO!$E$42=\"Endémique\", IF($J23>1, IF($J23=4, \"Inconnu\", IF($J23=99, \"Surveillance\", F23)), 0),\"Non requis\")","v":"Non requis"},{"$f":"IF(INTRO!$E$42=\"Endémique\", IF($J23>1, IF($J23=4, \"Inconnu\", IF($J23=99, \"Surveillance\", ROUND(D23*INTRO!$E$51,0))), 0),\"Non requis\")","v":"Non requis"},{"$f":"IF(INTRO!$E$42=\"Endémique\", IF($J23>1, IF($J23=4, \"Inconnu\", IF($J23=99, \"Surveillance\", SUM($N23:$P23))), 0),\"Non requis\")","v":"Non requis"},85,229,413,727,0,0,0,0,null,null,null,null,null,null,null,null,30038,"Tidermene",null,{"$f":"'MDA3'!O23","v":0},{"$f":"'T2'!S23","v":0},null,null,{"$f":"_xlfn.XLOOKUP($AH23,[1]D_Projections!$F$5:$F$79,[1]D_Projections!G$5:G$79)","v":2},{"$f":"_xlfn.XLOOKUP($AH23,[1]D_Projections!$F$5:$F$79,[1]D_Projections!H$5:H$79)","v":88},{"$f":"_xlfn.XLOOKUP($AH23,[1]D_Projections!$F$5:$F$79,[1]D_Projections!I$5:I$79)","v":236},{"$f":"_xlfn.XLOOKUP($AH23,[1]D_Projections!$F$5:$F$79,[1]D_Projections!J$5:J$79)","v":426},null,85,229,413]
[{"$f":"IF(INTRO!$E$34<>0,INTRO!$E$34,\"\")","v":"Mali"},"Kayes","Bafoulabe",206330.42304000002,{"$f":"IF(INTRO!$E$48=\"\",\"\",ROUND($D24*INTRO!$E$48,0))","v":30950},{"$f":"IF(INTRO!$E$49=\"\",\"\",ROUND($D24*INTRO!$E$49,0))","v":58804},{"$f":"IF(INTRO!$E$50=\"\",\"\",ROUND($D24*INTRO!$E$50,0))","v":106260},99,1,0,31,null,{"$f":"IF(INTRO!$E$40=\"Endémique\", IF($I24>0, IF($I24=4,\"Inconnu\",IF($I24=99,\"Interrompu\", $D24)), 0),\"Non requis\")","v":206330.42304000002},{"$f":"IF(INTRO!$E$42=\"Endémique\", IF($J24>1, IF($J24=4, \"Inconnu\", IF($J24=99, \"Surveillance\", E24)), 0),\"Non requis\")","v":"Non requis"},{"$f":"IF(INTRO!$E$42=\"Endémique\", IF($J24>1, IF($J24=4, \"Inconnu\", IF($J24=99, \"Surveillance\", F24)), 0),\"Non requis\")","v":"Non requis"},{"$f":"IF(INTRO!$E$42=\"Endémique\", IF($J24>1, IF($J24=4, \"Inconnu\", IF($J24=99, \"Surveillance\", ROUND(D24*INTRO!$E$51,0))), 0),\"Non requis\")","v":"Non requis"},{"$f":"IF(INTRO!$E$42=\"Endémique\", IF($J24>1, IF($J24=4, \"Inconnu\", IF($J24=99, \"Surveillance\", SUM($N24:$P24))), 0),\"Non requis\")","v":"Non requis"},20352,54815,99056,174223,0,1,0,1,"MDA3 (IVM)","T2 (PZQ)",null,null,null,null,null,null,29982,"Bafoulabe",null,{"$f":"'MDA3'!O24","v":50133},{"$f":"'T2'!S24","v":14501},null,null,{"$f":"_xlfn.XLOOKUP($AH24,[1]D_Projections!$F$5:$F$79,[1]D_Projections!G$5:G$79)","v":31},{"$f":"_xlfn.XLOOKUP($AH24,[1]D_Projections!$F$5:$F$79,[1]D_Projections!H$5:H$79)","v":21016},{"$f":"_xlfn.XLOOKUP($AH24,[1]D_Projections!$F$5:$F$79,[1]D_Projections!I$5:I$79)","v":56604},{"$f":"_xlfn.XLOOKUP($AH24,[1]D_Projections!$F$5:$F$79,[1]D_Projections!J$5:J$79)","v":102288},null,20352,54815,99056]
[{"$f":"IF(INTRO!$E$34<>0,INTRO!$E$34,\"\")","v":"Mali"},"Kayes","Diema",340083.49726400001,{"$f":"IF(INTRO!$E$48=\"\",\"\",ROUND($D25*INTRO!$E$48,0))","v":51013},{"$f":"IF(INTRO!$E$49=\"\",\"\",ROUND($D25*INTRO!$E$49,0))","v":96924},{"$f":"IF(INTRO!$E$50=\"\",\"\",ROUND($D25*INTRO!$E$50,0))","v":175143},99,0,0,31,null,{"$f":"IF(INTRO!$E$40=\"Endémique\", IF($I25>0, IF($I25=4,\"Inconnu\",IF($I25=99,\"Interrompu\", $D25)), 0),\"Non requis\")","v":0},{"$f":"IF(INTRO!$E$42=\"Endémique\", IF($J25>1, IF($J25=4, \"Inconnu\", IF($J25=99, \"Surveillance\", E25)), 0),\"Non requis\")","v":"Non requis"},{"$f":"IF(INTRO!$E$42=\"Endémique\", IF($J25>1, IF($J25=4, \"Inconnu\", IF($J25=99, \"Surveillance\", F25)), 0),\"Non requis\")","v":"Non requis"},{"$f":"IF(INTRO!$E$42=\"Endémique\", IF($J25>1, IF($J25=4, \"Inconnu\", IF($J25=99, \"Surveillance\", ROUND(D25*INTRO!$E$51,0))), 0),\"Non requis\")","v":"Non requis"},{"$f":"IF(INTRO!$E$42=\"Endémique\", IF($J25>1, IF($J25=4, \"Inconnu\", IF($J25=99, \"Surveillance\", SUM($N25:$P25))), 0),\"Non requis\")","v":"Non requis"},36120,97295,175816,309231,0,0,0,1,null,"T2 (PZQ)",null,null,null,null,null,null,29983,"Diema",null,{"$f":"'MDA3'!O25","v":0},{"$f":"'T2'!S25","v":3939},null,null,{"$f":"_xlfn.XLOOKUP($AH25,[1]D_Projections!$F$5:$F$79,[1]D_Projections!G$5:G$79)","v":31},{"$f":"_xlfn.XLOOKUP($AH25,[1]D_Projections!$F$5:$F$79,[1]D_Projections!H$5:H$79)","v":37299},{"$f":"_xlfn.XLOOKUP($AH25,[1]D_Projections!$F$5:$F$79,[1]D_Projections!I$5:I$79)","v":100470},{"$f":"_xlfn.XLOOKUP($AH25,[1]D_Projections!$F$5:$F$79,[1]D_Projections!J$5:J$79)","v":181553},null,36120,97295,175816]
[{"$f":"IF(INTRO!$E$34<>0,INTRO!$E$34,\"\")","v":"Mali"},"Kayes","Kayes",823273.84339199995,{"$f":"IF(INTRO!$E$48=\"\",\"\",ROUND($D26*INTRO!$E$48,0))","v":123491},{"$f":"IF(INTRO!$E$49=\"\",\"\",ROUND($D26*INTRO!$E$49,0))","v":234633},{"$f":"IF(INTRO!$E$50=\"\",\"\",ROUND($D26*INTRO!$E$50,0))","v":423986},99,1,0,31,null,{"$f":"IF(INTRO!$E$40=\"Endémique\", IF($I26>0, IF($I26=4,\"Inconnu\",IF($I26=99,\"Interrompu\", $D26)), 0),\"Non requis\")","v":823273.84339199995},{"$f":"IF(INTRO!$E$42=\"Endémique\", IF($J26>1, IF($J26=4, \"Inconnu\", IF($J26=99, \"Surveillance\", E26)), 0),\"Non requis\")","v":"Non requis"},{"$f":"IF(INTRO!$E$42=\"Endémique\", IF($J26>1, IF($J26=4, \"Inconnu\", IF($J26=99, \"Surveillance\", F26)), 0),\"Non requis\")","v":"Non requis"},{"$f":"IF(INTRO!$E$42=\"Endémique\", IF($J26>1, IF($J26=4, \"Inconnu\", IF($J26=99, \"Surveillance\", ROUND(D26*INTRO!$E$51,0))), 0),\"Non requis\")","v":"Non requis"},{"$f":"IF(INTRO!$E$42=\"Endémique\", IF($J26>1, IF($J26=4, \"Inconnu\", IF($J26=99, \"Surveillance\", SUM($N26:$P26))), 0),\"Non requis\")","v":"Non requis"},67421,181611,328178,577210,0,1,0,1,"MDA3 (IVM)","T2 (PZQ)",null,null,null,null,null,null,29984,"Kayes",null,{"$f":"'MDA3'!O26","v":200998},{"$f":"'T2'!S26","v":86063},null,null,{"$f":"_xlfn.XLOOKUP($AH26,[1]D_Projections!$F$5:$F$79,[1]D_Projections!G$5:G$79)","v":31},{"$f":"_xlfn.XLOOKUP($AH26,[1]D_Projections!$F$5:$F$79,[1]D_Projections!H$5:H$79)","v":69621},{"$f":"_xlfn.XLOOKUP($AH26,[1]D_Projections!$F$5:$F$79,[1]D_Projections!I$5:I$79)","v":187537},{"$f":"_xlfn.XLOOKUP($AH26,[1]D_Projections!$F$5:$F$79,[1]D_Projections!J$5:J$79)","v":338887},null,67421,181611,328178]
[{"$f":"IF(INTRO!$E$34<>0,INTRO!$E$34,\"\")","v":"Mali"},"Kayes","Kenieba",311363.16959999996,{"$f":"IF(INTRO!$E$48=\"\",\"\",ROUND($D27*INTRO!$E$48,0))","v":46704},{"$f":"IF(INTRO!$E$49=\"\",\"\",ROUND($D27*INTRO!$E$49,0))","v":88739},{"$f":"IF(INTRO!$E$50=\"\",\"\",ROUND($D27*INTRO!$E$50,0))","v":160352},99,1,0,31,null,{"$f":"IF(INTRO!$E$40=\"Endémique\", IF($I27>0, IF($I27=4,\"Inconnu\",IF($I27=99,\"Interrompu\", $D27)), 0),\"Non requis\")","v":311363.16959999996},{"$f":"IF(INTRO!$E$42=\"Endémique\", IF($J27>1, IF($J27=4, \"Inconnu\", IF($J27=99, \"Surveillance\", E27)), 0),\"Non requis\")","v":"Non requis"},{"$f":"IF(INTRO!$E$42=\"Endémique\", IF($J27>1, IF($J27=4, \"Inconnu\", IF($J27=99, \"Surveillance\", F27)), 0),\"Non requis\")","v":"Non requis"},{"$f":"IF(INTRO!$E$42=\"Endémique\", IF($J27>1, IF($J27=4, \"Inconnu\", IF($J27=99, \"Surveillance\", ROUND(D27*INTRO!$E$51,0))), 0),\"Non requis\")","v":"Non requis"},{"$f":"IF(INTRO!$E$42=\"Endémique\", IF($J27>1, IF($J27=4, \"Inconnu\", IF($J27=99, \"Surveillance\", SUM($N27:$P27))), 0),\"Non requis\")","v":"Non requis"},5464,14714,26590,46768,0,1,0,1,"MDA3 (IVM)","T2 (PZQ)",null,null,null,null,null,null,29985,"Kenieba",null,{"$f":"'MDA3'!O27","v":84628},{"$f":"'T2'!S27","v":67591},null,null,{"$f":"_xlfn.XLOOKUP($AH27,[1]D_Projections!$F$5:$F$79,[1]D_Projections!G$5:G$79)","v":31},{"$f":"_xlfn.XLOOKUP($AH27,[1]D_Projections!$F$5:$F$79,[1]D_Projections!H$5:H$79)","v":5642},{"$f":"_xlfn.XLOOKUP($AH27,[1]D_Projections!$F$5:$F$79,[1]D_Projections!I$5:I$79)","v":15194},{"$f":"_xlfn.XLOOKUP($AH27,[1]D_Projections!$F$5:$F$79,[1]D_Projections!J$5:J$79)","v":27458},null,5464,14714,26590]
[{"$f":"IF(INTRO!$E$34<>0,INTRO!$E$34,\"\")","v":"Mali"},"Kayes","Kita",554203.902672,{"$f":"IF(INTRO!$E$48=\"\",\"\",ROUND($D28*INTRO!$E$48,0))","v":83131},{"$f":"IF(INTRO!$E$49=\"\",\"\",ROUND($D28*INTRO!$E$49,0))","v":157948},{"$f":"IF(INTRO!$E$50=\"\",\"\",ROUND($D28*INTRO!$E$50,0))","v":285415},99,1,0,3,null,{"$f":"IF(INTRO!$E$40=\"Endémique\", IF($I28>0, IF($I28=4,\"Inconnu\",IF($I28=99,\"Interrompu\", $D28)), 0),\"Non requis\")","v":554203.902672},{"$f":"IF(INTRO!$E$42=\"Endémique\", IF($J28>1, IF($J28=4, \"Inconnu\", IF($J28=99, \"Surveillance\", E28)), 0),\"Non requis\")","v":"Non requis"},{"$f":"IF(INTRO!$E$42=\"Endémique\", IF($J28>1, IF($J28=4, \"Inconnu\", IF($J28=99, \"Surveillance\", F28)), 0),\"Non requis\")","v":"Non requis"},{"$f":"IF(INTRO!$E$42=\"Endémique\", IF($J28>1, IF($J28=4, \"Inconnu\", IF($J28=99, \"Surveillance\", ROUND(D28*INTRO!$E$51,0))), 0),\"Non requis\")","v":"Non requis"},{"$f":"IF(INTRO!$E$42=\"Endémique\", IF($J28>1, IF($J28=4, \"Inconnu\", IF($J28=99, \"Surveillance\", SUM($N28:$P28))), 0),\"Non requis\")","v":"Non requis"},14761,39760,71849,126370,0,1,0,1,"MDA3 (IVM)","T2 (PZQ)",null,null,null,null,null,null,29986,"Kita",null,{"$f":"'MDA3'!O28","v":173623},{"$f":"'T2'!S28","v":148786},null,null,{"$f":"_xlfn.XLOOKUP($AH28,[1]D_Projections!$F$5:$F$79,[1]D_Projections!G$5:G$79)","v":3},{"$f":"_xlfn.XLOOKUP($AH28,[1]D_Projections!$F$5:$F$79,[1]D_Projections!H$5:H$79)","v":15243},{"$f":"_xlfn.XLOOKUP($AH28,[1]D_Projections!$F$5:$F$79,[1]D_Projections!I$5:I$79)","v":41057},{"$f":"_xlfn.XLOOKUP($AH28,[1]D_Projections!$F$5:$F$79,[1]D_Projections!J$5:J$79)","v":74193},null,14761,39760,71849]
[{"$f":"IF(INTRO!$E$34<>0,INTRO!$E$34,\"\")","v":"Mali"},"Kayes","Sagabari",65024.564864,{"$f":"IF(INTRO!$E$48=\"\",\"\",ROUND($D29*INTRO!$E$48,0))","v":9754},{"$f":"IF(INTRO!$E$49=\"\",\"\",ROUND($D29*INTRO!$E$49,0))","v":18532},{"$f":"IF(INTRO!$E$50=\"\",\"\",ROUND($D29*INTRO!$E$50,0))","v":33488},99,1,0,21,null,{"$f":"IF(INTRO!$E$40=\"Endémique\", IF($I29>0, IF($I29=4,\"Inconnu\",IF($I29=99,\"Interrompu\", $D29)), 0),\"Non requis\")","v":65024.564864},{"$f":"IF(INTRO!$E$42=\"Endémique\", IF($J29>1, IF($J29=4, \"Inconnu\", IF($J29=99, \"Surveillance\", E29)), 0),\"Non requis\")","v":"Non requis"},{"$f":"IF(INTRO!$E$42=\"Endémique\", IF($J29>1, IF($J29=4, \"Inconnu\", IF($J29=99, \"Surveillance\", F29)), 0),\"Non requis\")","v":"Non requis"},{"$f":"IF(INTRO!$E$42=\"Endémique\", IF($J29>1, IF($J29=4, \"Inconnu\", IF($J29=99, \"Surveillance\", ROUND(D29*INTRO!$E$51,0))), 0),\"Non requis\")","v":"Non requis"},{"$f":"IF(INTRO!$E$42=\"Endémique\", IF($J29>1, IF($J29=4, \"Inconnu\", IF($J29=99, \"Surveillance\", SUM($N29:$P29))), 0),\"Non requis\")","v":"Non requis"},4850,13066,23608,41524,0,1,0,1,"MDA3 (IVM)","T2 (PZQ)",null,null,null,null,null,null,30039,"Sagabari",null,{"$f":"'MDA3'!O29","v":17279},{"$f":"'T2'!S29","v":14614},null,null,{"$f":"_xlfn.XLOOKUP($AH29,[1]D_Projections!$F$5:$F$79,[1]D_Projections!G$5:G$79)","v":21},{"$f":"_xlfn.XLOOKUP($AH29,[1]D_Projections!$F$5:$F$79,[1]D_Projections!H$5:H$79)","v":5008},{"$f":"_xlfn.XLOOKUP($AH29,[1]D_Projections!$F$5:$F$79,[1]D_Projections!I$5:I$79)","v":13492},{"$f":"_xlfn.XLOOKUP($AH29,[1]D_Projections!$F$5:$F$79,[1]D_Projections!J$5:J$79)","v":24378},null,4850,13066,23608]
[{"$f":"IF(INTRO!$E$34<>0,INTRO!$E$34,\"\")","v":"Mali"},"Kayes","Sefeto",77383.568304,{"$f":"IF(INTRO!$E$48=\"\",\"\",ROUND($D30*INTRO!$E$48,0))","v":11608},{"$f":"IF(INTRO!$E$49=\"\",\"\",ROUND($D30*INTRO!$E$49,0))","v":22054},{"$f":"IF(INTRO!$E$50=\"\",\"\",ROUND($D30*INTRO!$E$50,0))","v":39853},99,1,0,31,null,{"$f":"IF(INTRO!$E$40=\"Endémique\", IF($I30>0, IF($I30=4,\"Inconnu\",IF($I30=99,\"Interrompu\", $D30)), 0),\"Non requis\")","v":77383.568304},{"$f":"IF(INTRO!$E$42=\"Endémique\", IF($J30>1, IF($J30=4, \"Inconnu\", IF($J30=99, \"Surveillance\", E30)), 0),\"Non requis\")","v":"Non requis"},{"$f":"IF(INTRO!$E$42=\"Endémique\", IF($J30>1, IF($J30=4, \"Inconnu\", IF($J30=99, \"Surveillance\", F30)), 0),\"Non requis\")","v":"Non requis"},{"$f":"IF(INTRO!$E$42=\"Endémique\", IF($J30>1, IF($J30=4, \"Inconnu\", IF($J30=99, \"Surveillance\", ROUND(D30*INTRO!$E$51,0))), 0),\"Non requis\")","v":"Non requis"},{"$f":"IF(INTRO!$E$42=\"Endémique\", IF($J30>1, IF($J30=4, \"Inconnu\", IF($J30=99, \"Surveillance\", SUM($N30:$P30))), 0),\"Non requis\")","v":"Non requis"},8026,21618,39063,68707,0,1,0,1,"MDA3 (IVM)","T2 (PZQ)",null,null,null,null,null,null,30040,"Sefeto",null,{"$f":"'MDA3'!O30","v":19164},{"$f":"'T2'!S30","v":22340},null,null,{"$f":"_xlfn.XLOOKUP($AH30,[1]D_Projections!$F$5:$F$79,[1]D_Projections!G$5:G$79)","v":31},{"$f":"_xlfn.XLOOKUP($AH30,[1]D_Projections!$F$5:$F$79,[1]D_Projections!H$5:H$79)","v":8288},{"$f":"_xlfn.XLOOKUP($AH30,[1]D_Projections!$F$5:$F$79,[1]D_Projections!I$5:I$79)","v":22323},{"$f":"_xlfn.XLOOKUP($AH30,[1]D_Projections!$F$5:$F$79,[1]D_Projections!J$5:J$79)","v":40338},null,8026,21618,39063]
[{"$f":"IF(INTRO!$E$34<>0,INTRO!$E$34,\"\")","v":"Mali"},"Kayes","Nioro",369631.336144,{"$f":"IF(INTRO!$E$48=\"\",\"\",ROUND($D31*INTRO!$E$48,0))","v":55445},{"$f":"IF(INTRO!$E$49=\"\",\"\",ROUND($D31*INTRO!$E$49,0))","v":105345},{"$f":"IF(INTRO!$E$50=\"\",\"\",ROUND($D31*INTRO!$E$50,0))","v":190360},99,0,0,31,null,{"$f":"IF(INTRO!$E$40=\"Endémique\", IF($I31>0, IF($I31=4,\"Inconnu\",IF($I31=99,\"Interrompu\", $D31)), 0),\"Non requis\")","v":0},{"$f":"IF(INTRO!$E$42=\"Endémique\", IF($J31>1, IF($J31=4, \"Inconnu\", IF($J31=99, \"Surveillance\", E31)), 0),\"Non requis\")","v":"Non requis"},{"$f":"IF(INTRO!$E$42=\"Endémique\", IF($J31>1, IF($J31=4, \"Inconnu\", IF($J31=99, \"Surveillance\", F31)), 0),\"Non requis\")","v":"Non requis"},{"$f":"IF(INTRO!$E$42=\"Endémique\", IF($J31>1, IF($J31=4, \"Inconnu\", IF($J31=99, \"Surveillance\", ROUND(D31*INTRO!$E$51,0))), 0),\"Non requis\")","v":"Non requis"},{"$f":"IF(INTRO!$E$42=\"Endémique\", IF($J31>1, IF($J31=4, \"Inconnu\", IF($J31=99, \"Surveillance\", SUM($N31:$P31))), 0),\"Non requis\")","v":"Non requis"},34983,94231,170277,299491,0,0,0,1,null,"T2 (PZQ)",null,null,null,null,null,null,29987,"Nioro",null,{"$f":"'MDA3'!O31","v":0},{"$f":"'T2'!S31","v":20945},null,null,{"$f":"_xlfn.XLOOKUP($AH31,[1]D_Projections!$F$5:$F$79,[1]D_Projections!G$5:G$79)","v":31},{"$f":"_xlfn.XLOOKUP($AH31,[1]D_Projections!$F$5:$F$79,[1]D_Projections!H$5:H$79)","v":36125},{"$f":"_xlfn.XLOOKUP($AH31,[1]D_Projections!$F$5:$F$79,[1]D_Projections!I$5:I$79)","v":97306},{"$f":"_xlfn.XLOOKUP($AH31,[1]D_Projections!$F$5:$F$79,[1]D_Projections!J$5:J$79)","v":175833},null,34983,94231,170277]
[{"$f":"IF(INTRO!$E$34<>0,INTRO!$E$34,\"\")","v":"Mali"},"Kayes","Oussoubidiagna",168815.50795199999,{"$f":"IF(INTRO!$E$48=\"\",\"\",ROUND($D32*INTRO!$E$48,0))","v":25322},{"$f":"IF(INTRO!$E$49=\"\",\"\",ROUND($D32*INTRO!$E$49,0))","v":48112},{"$f":"IF(INTRO!$E$50=\"\",\"\",ROUND($D32*INTRO!$E$50,0))","v":86940},99,1,0,31,null,{"$f":"IF(INTRO!$E$40=\"Endémique\", IF($I32>0, IF($I32=4,\"Inconnu\",IF($I32=99,\"Interrompu\", $D32)), 0),\"Non requis\")","v":168815.50795199999},{"$f":"IF(INTRO!$E$42=\"Endémique\", IF($J32>1, IF($J32=4, \"Inconnu\", IF($J32=99, \"Surveillance\", E32)), 0),\"Non requis\")","v":"Non requis"},{"$f":"IF(INTRO!$E$42=\"Endémique\", IF($J32>1, IF($J32=4, \"Inconnu\", IF($J32=99, \"Surveillance\", F32)), 0),\"Non requis\")","v":"Non requis"},{"$f":"IF(INTRO!$E$42=\"Endémique\", IF($J32>1, IF($J32=4, \"Inconnu\", IF($J32=99, \"Surveillance\", ROUND(D32*INTRO!$E$51,0))), 0),\"Non requis\")","v":"Non requis"},{"$f":"IF(INTRO!$E$42=\"Endémique\", IF($J32>1, IF($J32=4, \"Inconnu\", IF($J32=99, \"Surveillance\", SUM($N32:$P32))), 0),\"Non requis\")","v":"Non requis"},6847,18437,33318,58602,0,1,0,1,"MDA3 (IVM)","T2 (PZQ)",null,null,null,null,null,null,29988,"Oussoubidiagna",null,{"$f":"'MDA3'!O32","v":51119},{"$f":"'T2'!S32","v":36344},null,null,{"$f":"_xlfn.XLOOKUP($AH32,[1]D_Projections!$F$5:$F$79,[1]D_Projections!G$5:G$79)","v":31},{"$f":"_xlfn.XLOOKUP($AH32,[1]D_Projections!$F$5:$F$79,[1]D_Projections!H$5:H$79)","v":7070},{"$f":"_xlfn.XLOOKUP($AH32,[1]D_Projections!$F$5:$F$79,[1]D_Projections!I$5:I$79)","v":19039},{"$f":"_xlfn.XLOOKUP($AH32,[1]D_Projections!$F$5:$F$79,[1]D_Projections!J$5:J$79)","v":34405},null,6847,18437,33318]
[{"$f":"IF(INTRO!$E$34<>0,INTRO!$E$34,\"\")","v":"Mali"},"Kayes","Yelimane",286165.399408,{"$f":"IF(INTRO!$E$48=\"\",\"\",ROUND($D33*INTRO!$E$48,0))","v":42925},{"$f":"IF(INTRO!$E$49=\"\",\"\",ROUND($D33*INTRO!$E$49,0))","v":81557},{"$f":"IF(INTRO!$E$50=\"\",\"\",ROUND($D33*INTRO!$E$50,0))","v":147375},99,0,1,2,null,{"$f":"IF(INTRO!$E$40=\"Endémique\", IF($I33>0, IF($I33=4,\"Inconnu\",IF($I33=99,\"Interrompu\", $D33)), 0),\"Non requis\")","v":0},{"$f":"IF(INTRO!$E$42=\"Endémique\", IF($J33>1, IF($J33=4, \"Inconnu\", IF($J33=99, \"Surveillance\", E33)), 0),\"Non requis\")","v":"Non requis"},{"$f":"IF(INTRO!$E$42=\"Endémique\", IF($J33>1, IF($J33=4, \"Inconnu\", IF($J33=99, \"Surveillance\", F33)), 0),\"Non requis\")","v":"Non requis"},{"$f":"IF(INTRO!$E$42=\"Endémique\", IF($J33>1, IF($J33=4, \"Inconnu\", IF($J33=99, \"Surveillance\", ROUND(D33*INTRO!$E$51,0))), 0),\"Non requis\")","v":"Non requis"},{"$f":"IF(INTRO!$E$42=\"Endémique\", IF($J33>1, IF($J33=4, \"Inconnu\", IF($J33=99, \"Surveillance\", SUM($N33:$P33))), 0),\"Non requis\")","v":"Non requis"},3288,8859,16008,28155,0,0,0,1,null,"T2 (PZQ)",null,null,null,null,null,null,29989,"Yelimane",null,{"$f":"'MDA3'!O33","v":0},{"$f":"'T2'!S33","v":67372},null,null,{"$f":"_xlfn.XLOOKUP($AH33,[1]D_Projections!$F$5:$F$79,[1]D_Projections!G$5:G$79)","v":2},{"$f":"_xlfn.XLOOKUP($AH33,[1]D_Projections!$F$5:$F$79,[1]D_Projections!H$5:H$79)","v":3395},{"$f":"_xlfn.XLOOKUP($AH33,[1]D_Projections!$F$5:$F$79,[1]D_Projections!I$5:I$79)","v":9148},{"$f":"_xlfn.XLOOKUP($AH33,[1]D_Projections!$F$5:$F$79,[1]D_Projections!J$5:J$79)","v":16530},null,3288,8859,16008]
[{"$f":"IF(INTRO!$E$34<>0,INTRO!$E$34,\"\")","v":"Mali"},"Kidal","Abeibara",16547.004432000002,{"$f":"IF(INTRO!$E$48=\"\",\"\",ROUND($D34*INTRO!$E$48,0))","v":2482},{"$f":"IF(INTRO!$E$49=\"\",\"\",ROUND($D34*INTRO!$E$49,0))","v":4716},{"$f":"IF(INTRO!$E$50=\"\",\"\",ROUND($D34*INTRO!$E$50,0))","v":8522},99,0,0,1,null,{"$f":"IF(INTRO!$E$40=\"Endémique\", IF($I34>0, IF($I34=4,\"Inconnu\",IF($I34=99,\"Interrompu\", $D34)), 0),\"Non requis\")","v":0},{"$f":"IF(INTRO!$E$42=\"Endémique\", IF($J34>1, IF($J34=4, \"Inconnu\", IF($J34=99, \"Surveillance\", E34)), 0),\"Non requis\")","v":"Non requis"},{"$f":"IF(INTRO!$E$42=\"Endémique\", IF($J34>1, IF($J34=4, \"Inconnu\", IF($J34=99, \"Surveillance\", F34)), 0),\"Non requis\")","v":"Non requis"},{"$f":"IF(INTRO!$E$42=\"Endémique\", IF($J34>1, IF($J34=4, \"Inconnu\", IF($J34=99, \"Surveillance\", ROUND(D34*INTRO!$E$51,0))), 0),\"Non requis\")","v":"Non requis"},{"$f":"IF(INTRO!$E$42=\"Endémique\", IF($J34>1, IF($J34=4, \"Inconnu\", IF($J34=99, \"Surveillance\", SUM($N34:$P34))), 0),\"Non requis\")","v":"Non requis"},1759,4734,8555,15048,0,0,0,0,null,null,null,null,null,null,null,null,29990,"Abeibara",null,{"$f":"'MDA3'!O34","v":0},{"$f":"'T2'!S34","v":0},null,null,{"$f":"_xlfn.XLOOKUP($AH34,[1]D_Projections!$F$5:$F$79,[1]D_Projections!G$5:G$79)","v":1},{"$f":"_xlfn.XLOOKUP($AH34,[1]D_Projections!$F$5:$F$79,[1]D_Projections!H$5:H$79)","v":1816},{"$f":"_xlfn.XLOOKUP($AH34,[1]D_Projections!$F$5:$F$79,[1]D_Projections!I$5:I$79)","v":4888},{"$f":"_xlfn.XLOOKUP($AH34,[1]D_Projections!$F$5:$F$79,[1]D_Projections!J$5:J$79)","v":8834},null,1759,4734,8555]
[{"$f":"IF(INTRO!$E$34<>0,INTRO!$E$34,\"\")","v":"Mali"},"Kidal","Kidal",53224.748639999998,{"$f":"IF(INTRO!$E$48=\"\",\"\",ROUND($D35*INTRO!$E$48,0))","v":7984},{"$f":"IF(INTRO!$E$49=\"\",\"\",ROUND($D35*INTRO!$E$49,0))","v":15169},{"$f":"IF(INTRO!$E$50=\"\",\"\",ROUND($D35*INTRO!$E$50,0))","v":27411},99,0,0,1,null,{"$f":"IF(INTRO!$E$40=\"Endémique\", IF($I35>0, IF($I35=4,\"Inconnu\",IF($I35=99,\"Interrompu\", $D35)), 0),\"Non requis\")","v":0},{"$f":"IF(INTRO!$E$42=\"Endémique\", IF($J35>1, IF($J35=4, \"Inconnu\", IF($J35=99, \"Surveillance\", E35)), 0),\"Non requis\")","v":"Non requis"},{"$f":"IF(INTRO!$E$42=\"Endémique\", IF($J35>1, IF($J35=4, \"Inconnu\", IF($J35=99, \"Surveillance\", F35)), 0),\"Non requis\")","v":"Non requis"},{"$f":"IF(INTRO!$E$42=\"Endémique\", IF($J35>1, IF($J35=4, \"Inconnu\", IF($J35=99, \"Surveillance\", ROUND(D35*INTRO!$E$51,0))), 0),\"Non requis\")","v":"Non requis"},{"$f":"IF(INTRO!$E$42=\"Endémique\", IF($J35>1, IF($J35=4, \"Inconnu\", IF($J35=99, \"Surveillance\", SUM($N35:$P35))), 0),\"Non requis\")","v":"Non requis"},5656,15229,27515,48400,0,0,0,0,null,null,null,null,null,null,null,null,29991,"Kidal",null,{"$f":"'MDA3'!O35","v":0},{"$f":"'T2'!S35","v":0},null,null,{"$f":"_xlfn.XLOOKUP($AH35,[1]D_Projections!$F$5:$F$79,[1]D_Projections!G$5:G$79)","v":1},{"$f":"_xlfn.XLOOKUP($AH35,[1]D_Projections!$F$5:$F$79,[1]D_Projections!H$5:H$79)","v":5841},{"$f":"_xlfn.XLOOKUP($AH35,[1]D_Projections!$F$5:$F$79,[1]D_Projections!I$5:I$79)","v":15726},{"$f":"_xlfn.XLOOKUP($AH35,[1]D_Projections!$F$5:$F$79,[1]D_Projections!J$5:J$79)","v":28413},null,5656,15229,27515]
[{"$f":"IF(INTRO!$E$34<>0,INTRO!$E$34,\"\")","v":"Mali"},"Kidal","Tessalit",26202.375248,{"$f":"IF(INTRO!$E$48=\"\",\"\",ROUND($D36*INTRO!$E$48,0))","v":3930},{"$f":"IF(INTRO!$E$49=\"\",\"\",ROUND($D36*INTRO!$E$49,0))","v":7468},{"$f":"IF(INTRO!$E$50=\"\",\"\",ROUND($D36*INTRO!$E$50,0))","v":13494},99,0,0,1,null,{"$f":"IF(INTRO!$E$40=\"Endémique\", IF($I36>0, IF($I36=4,\"Inconnu\",IF($I36=99,\"Interrompu\", $D36)), 0),\"Non requis\")","v":0},{"$f":"IF(INTRO!$E$42=\"Endémique\", IF($J36>1, IF($J36=4, \"Inconnu\", IF($J36=99, \"Surveillance\", E36)), 0),\"Non requis\")","v":"Non requis"},{"$f":"IF(INTRO!$E$42=\"Endémique\", IF($J36>1, IF($J36=4, \"Inconnu\", IF($J36=99, \"Surveillance\", F36)), 0),\"Non requis\")","v":"Non requis"},{"$f":"IF(INTRO!$E$42=\"Endémique\", IF($J36>1, IF($J36=4, \"Inconnu\", IF($J36=99, \"Surveillance\", ROUND(D36*INTRO!$E$51,0))), 0),\"Non requis\")","v":"Non requis"},{"$f":"IF(INTRO!$E$42=\"Endémique\", IF($J36>1, IF($J36=4, \"Inconnu\", IF($J36=99, \"Surveillance\", SUM($N36:$P36))), 0),\"Non requis\")","v":"Non requis"},2784,7496,13548,23828,0,0,0,0,null,null,null,null,null,null,null,null,29992,"Tessalit",null,{"$f":"'MDA3'!O36","v":0},{"$f":"'T2'!S36","v":0},null,null,{"$f":"_xlfn.XLOOKUP($AH36,[1]D_Projections!$F$5:$F$79,[1]D_Projections!G$5:G$79)","v":1},{"$f":"_xlfn.XLOOKUP($AH36,[1]D_Projections!$F$5:$F$79,[1]D_Projections!H$5:H$79)","v":2875},{"$f":"_xlfn.XLOOKUP($AH36,[1]D_Projections!$F$5:$F$79,[1]D_Projections!I$5:I$79)","v":7741},{"$f":"_xlfn.XLOOKUP($AH36,[1]D_Projections!$F$5:$F$79,[1]D_Projections!J$5:J$79)","v":13990},null,2784,7496,13548]
[{"$f":"IF(INTRO!$E$34<>0,INTRO!$E$34,\"\")","v":"Mali"},"Kidal","Tin-Essako",12830.180383999999,{"$f":"IF(INTRO!$E$48=\"\",\"\",ROUND($D37*INTRO!$E$48,0))","v":1925},{"$f":"IF(INTRO!$E$49=\"\",\"\",ROUND($D37*INTRO!$E$49,0))","v":3657},{"$f":"IF(INTRO!$E$50=\"\",\"\",ROUND($D37*INTRO!$E$50,0))","v":6608},99,0,0,1,null,{"$f":"IF(INTRO!$E$40=\"Endémique\", IF($I37>0, IF($I37=4,\"Inconnu\",IF($I37=99,\"Interrompu\", $D37)), 0),\"Non requis\")","v":0},{"$f":"IF(INTRO!$E$42=\"Endémique\", IF($J37>1, IF($J37=4, \"Inconnu\", IF($J37=99, \"Surveillance\", E37)), 0),\"Non requis\")","v":"Non requis"},{"$f":"IF(INTRO!$E$42=\"Endémique\", IF($J37>1, IF($J37=4, \"Inconnu\", IF($J37=99, \"Surveillance\", F37)), 0),\"Non requis\")","v":"Non requis"},{"$f":"IF(INTRO!$E$42=\"Endémique\", IF($J37>1, IF($J37=4, \"Inconnu\", IF($J37=99, \"Surveillance\", ROUND(D37*INTRO!$E$51,0))), 0),\"Non requis\")","v":"Non requis"},{"$f":"IF(INTRO!$E$42=\"Endémique\", IF($J37>1, IF($J37=4, \"Inconnu\", IF($J37=99, \"Surveillance\", SUM($N37:$P37))), 0),\"Non requis\")","v":"Non requis"},1362,3670,6633,11665,0,0,0,0,null,null,null,null,null,null,null,null,29993,"TiN-Essako",null,{"$f":"'MDA3'!O37","v":0},{"$f":"'T2'!S37","v":0},null,null,{"$f":"_xlfn.XLOOKUP($AH37,[1]D_Projections!$F$5:$F$79,[1]D_Projections!G$5:G$79)","v":1},{"$f":"_xlfn.XLOOKUP($AH37,[1]D_Projections!$F$5:$F$79,[1]D_Projections!H$5:H$79)","v":1406},{"$f":"_xlfn.XLOOKUP($AH37,[1]D_Projections!$F$5:$F$79,[1]D_Projections!I$5:I$79)","v":3790},{"$f":"_xlfn.XLOOKUP($AH37,[1]D_Projections!$F$5:$F$79,[1]D_Projections!J$5:J$79)","v":6849},null,1362,3670,6633]
[{"$f":"IF(INTRO!$E$34<>0,INTRO!$E$34,\"\")","v":"Mali"},"Koulikoro","Banamba",306080.40668800002,{"$f":"IF(INTRO!$E$48=\"\",\"\",ROUND($D38*INTRO!$E$48,0))","v":45912},{"$f":"IF(INTRO!$E$49=\"\",\"\",ROUND($D38*INTRO!$E$49,0))","v":87233},{"$f":"IF(INTRO!$E$50=\"\",\"\",ROUND($D38*INTRO!$E$50,0))","v":157631},99,0,0,31,null,{"$f":"IF(INTRO!$E$40=\"Endémique\", IF($I38>0, IF($I38=4,\"Inconnu\",IF($I38=99,\"Interrompu\", $D38)), 0),\"Non requis\")","v":0},{"$f":"IF(INTRO!$E$42=\"Endémique\", IF($J38>1, IF($J38=4, \"Inconnu\", IF($J38=99, \"Surveillance\", E38)), 0),\"Non requis\")","v":"Non requis"},{"$f":"IF(INTRO!$E$42=\"Endémique\", IF($J38>1, IF($J38=4, \"Inconnu\", IF($J38=99, \"Surveillance\", F38)), 0),\"Non requis\")","v":"Non requis"},{"$f":"IF(INTRO!$E$42=\"Endémique\", IF($J38>1, IF($J38=4, \"Inconnu\", IF($J38=99, \"Surveillance\", ROUND(D38*INTRO!$E$51,0))), 0),\"Non requis\")","v":"Non requis"},{"$f":"IF(INTRO!$E$42=\"Endémique\", IF($J38>1, IF($J38=4, \"Inconnu\", IF($J38=99, \"Surveillance\", SUM($N38:$P38))), 0),\"Non requis\")","v":"Non requis"},10167,27385,49486,87038,0,0,0,1,null,"T2 (PZQ)",null,null,null,null,null,null,29994,"Banamba",null,{"$f":"'MDA3'!O38","v":0},{"$f":"'T2'!S38","v":65676},null,null,{"$f":"_xlfn.XLOOKUP($AH38,[1]D_Projections!$F$5:$F$79,[1]D_Projections!G$5:G$79)","v":31},{"$f":"_xlfn.XLOOKUP($AH38,[1]D_Projections!$F$5:$F$79,[1]D_Projections!H$5:H$79)","v":10499},{"$f":"_xlfn.XLOOKUP($AH38,[1]D_Projections!$F$5:$F$79,[1]D_Projections!I$5:I$79)","v":28279},{"$f":"_xlfn.XLOOKUP($AH38,[1]D_Projections!$F$5:$F$79,[1]D_Projections!J$5:J$79)","v":51101},null,10167,27385,49486]
[{"$f":"IF(INTRO!$E$34<>0,INTRO!$E$34,\"\")","v":"Mali"},"Koulikoro","Dioila",426781.128256,{"$f":"IF(INTRO!$E$48=\"\",\"\",ROUND($D39*INTRO!$E$48,0))","v":64017},{"$f":"IF(INTRO!$E$49=\"\",\"\",ROUND($D39*INTRO!$E$49,0))","v":121633},{"$f":"IF(INTRO!$E$50=\"\",\"\",ROUND($D39*INTRO!$E$50,0))","v":219792},99,1,0,3,null,{"$f":"IF(INTRO!$E$40=\"Endémique\", IF($I39>0, IF($I39=4,\"Inconnu\",IF($I39=99,\"Interrompu\", $D39)), 0),\"Non requis\")","v":426781.128256},{"$f":"IF(INTRO!$E$42=\"Endémique\", IF($J39>1, IF($J39=4, \"Inconnu\", IF($J39=99, \"Surveillance\", E39)), 0),\"Non requis\")","v":"Non requis"},{"$f":"IF(INTRO!$E$42=\"Endémique\", IF($J39>1, IF($J39=4, \"Inconnu\", IF($J39=99, \"Surveillance\", F39)), 0),\"Non requis\")","v":"Non requis"},{"$f":"IF(INTRO!$E$42=\"Endémique\", IF($J39>1, IF($J39=4, \"Inconnu\", IF($J39=99, \"Surveillance\", ROUND(D39*INTRO!$E$51,0))), 0),\"Non requis\")","v":"Non requis"},{"$f":"IF(INTRO!$E$42=\"Endémique\", IF($J39>1, IF($J39=4, \"Inconnu\", IF($J39=99, \"Surveillance\", SUM($N39:$P39))), 0),\"Non requis\")","v":"Non requis"},25024,67405,121801,214230,0,1,0,1,"MDA3 (IVM)","T2 (PZQ)",null,null,null,null,null,null,29995,"Dioila",null,{"$f":"'MDA3'!O39","v":139436},{"$f":"'T2'!S39","v":31937},null,null,{"$f":"_xlfn.XLOOKUP($AH39,[1]D_Projections!$F$5:$F$79,[1]D_Projections!G$5:G$79)","v":3},{"$f":"_xlfn.XLOOKUP($AH39,[1]D_Projections!$F$5:$F$79,[1]D_Projections!H$5:H$79)","v":25841},{"$f":"_xlfn.XLOOKUP($AH39,[1]D_Projections!$F$5:$F$79,[1]D_Projections!I$5:I$79)","v":69604},{"$f":"_xlfn.XLOOKUP($AH39,[1]D_Projections!$F$5:$F$79,[1]D_Projections!J$5:J$79)","v":125775},null,25024,67405,121801]
[{"$f":"IF(INTRO!$E$34<>0,INTRO!$E$34,\"\")","v":"Mali"},"Koulikoro","Fana",363554.33419200004,{"$f":"IF(INTRO!$E$48=\"\",\"\",ROUND($D40*INTRO!$E$48,0))","v":54533},{"$f":"IF(INTRO!$E$49=\"\",\"\",ROUND($D40*INTRO!$E$49,0))","v":103613},{"$f":"IF(INTRO!$E$50=\"\",\"\",ROUND($D40*INTRO!$E$50,0))","v":187230},99,1,0,31,null,{"$f":"IF(INTRO!$E$40=\"Endémique\", IF($I40>0, IF($I40=4,\"Inconnu\",IF($I40=99,\"Interrompu\", $D40)), 0),\"Non requis\")","v":363554.33419200004},{"$f":"IF(INTRO!$E$42=\"Endémique\", IF($J40>1, IF($J40=4, \"Inconnu\", IF($J40=99, \"Surveillance\", E40)), 0),\"Non requis\")","v":"Non requis"},{"$f":"IF(INTRO!$E$42=\"Endémique\", IF($J40>1, IF($J40=4, \"Inconnu\", IF($J40=99, \"Surveillance\", F40)), 0),\"Non requis\")","v":"Non requis"},{"$f":"IF(INTRO!$E$42=\"Endémique\", IF($J40>1, IF($J40=4, \"Inconnu\", IF($J40=99, \"Surveillance\", ROUND(D40*INTRO!$E$51,0))), 0),\"Non requis\")","v":"Non requis"},{"$f":"IF(INTRO!$E$42=\"Endémique\", IF($J40>1, IF($J40=4, \"Inconnu\", IF($J40=99, \"Surveillance\", SUM($N40:$P40))), 0),\"Non requis\")","v":"Non requis"},5384,14500,26202,46086,0,1,0,1,"MDA3 (IVM)","T2 (PZQ)",null,null,null,null,null,null,29996,"Fana",null,{"$f":"'MDA3'!O40","v":107565},{"$f":"'T2'!S40","v":90936},null,null,{"$f":"_xlfn.XLOOKUP($AH40,[1]D_Projections!$F$5:$F$79,[1]D_Projections!G$5:G$79)","v":31},{"$f":"_xlfn.XLOOKUP($AH40,[1]D_Projections!$F$5:$F$79,[1]D_Projections!H$5:H$79)","v":5560},{"$f":"_xlfn.XLOOKUP($AH40,[1]D_Projections!$F$5:$F$79,[1]D_Projections!I$5:I$79)","v":14973},{"$f":"_xlfn.XLOOKUP($AH40,[1]D_Projections!$F$5:$F$79,[1]D_Projections!J$5:J$79)","v":27057},null,5384,14500,26202]
[{"$f":"IF(INTRO!$E$34<>0,INTRO!$E$34,\"\")","v":"Mali"},"Koulikoro","Kalabancoro",397698.02654399996,{"$f":"IF(INTRO!$E$48=\"\",\"\",ROUND($D41*INTRO!$E$48,0))","v":59655},{"$f":"IF(INTRO!$E$49=\"\",\"\",ROUND($D41*INTRO!$E$49,0))","v":113344},{"$f":"IF(INTRO!$E$50=\"\",\"\",ROUND($D41*INTRO!$E$50,0))","v":204814},99,1,0,21,null,{"$f":"IF(INTRO!$E$40=\"Endémique\", IF($I41>0, IF($I41=4,\"Inconnu\",IF($I41=99,\"Interrompu\", $D41)), 0),\"Non requis\")","v":397698.02654399996},{"$f":"IF(INTRO!$E$42=\"Endémique\", IF($J41>1, IF($J41=4, \"Inconnu\", IF($J41=99, \"Surveillance\", E41)), 0),\"Non requis\")","v":"Non requis"},{"$f":"IF(INTRO!$E$42=\"Endémique\", IF($J41>1, IF($J41=4, \"Inconnu\", IF($J41=99, \"Surveillance\", F41)), 0),\"Non requis\")","v":"Non requis"},{"$f":"IF(INTRO!$E$42=\"Endémique\", IF($J41>1, IF($J41=4, \"Inconnu\", IF($J41=99, \"Surveillance\", ROUND(D41*INTRO!$E$51,0))), 0),\"Non requis\")","v":"Non requis"},{"$f":"IF(INTRO!$E$42=\"Endémique\", IF($J41>1, IF($J41=4, \"Inconnu\", IF($J41=99, \"Surveillance\", SUM($N41:$P41))), 0),\"Non requis\")","v":"Non requis"},17288,46567,84150,148005,0,1,0,1,"MDA3 (IVM)","T2 (PZQ)",null,null,null,null,null,null,29997,"Kalabancoro",null,{"$f":"'MDA3'!O41","v":173661},{"$f":"'T2'!S41","v":56886},null,null,{"$f":"_xlfn.XLOOKUP($AH41,[1]D_Projections!$F$5:$F$79,[1]D_Projections!G$5:G$79)","v":21},{"$f":"_xlfn.XLOOKUP($AH41,[1]D_Projections!$F$5:$F$79,[1]D_Projections!H$5:H$79)","v":17852},{"$f":"_xlfn.XLOOKUP($AH41,[1]D_Projections!$F$5:$F$79,[1]D_Projections!I$5:I$79)","v":48087},{"$f":"_xlfn.XLOOKUP($AH41,[1]D_Projections!$F$5:$F$79,[1]D_Projections!J$5:J$79)","v":86896},null,17288,46567,84150]
[{"$f":"IF(INTRO!$E$34<>0,INTRO!$E$34,\"\")","v":"Mali"},"Koulikoro","Kangaba",162053.74315200001,{"$f":"IF(INTRO!$E$48=\"\",\"\",ROUND($D42*INTRO!$E$48,0))","v":24308},{"$f":"IF(INTRO!$E$49=\"\",\"\",ROUND($D42*INTRO!$E$49,0))","v":46185},{"$f":"IF(INTRO!$E$50=\"\",\"\",ROUND($D42*INTRO!$E$50,0))","v":83458},99,1,0,2,null,{"$f":"IF(INTRO!$E$40=\"Endémique\", IF($I42>0, IF($I42=4,\"Inconnu\",IF($I42=99,\"Interrompu\", $D42)), 0),\"Non requis\")","v":162053.74315200001},{"$f":"IF(INTRO!$E$42=\"Endémique\", IF($J42>1, IF($J42=4, \"Inconnu\", IF($J42=99, \"Surveillance\", E42)), 0),\"Non requis\")","v":"Non requis"},{"$f":"IF(INTRO!$E$42=\"Endémique\", IF($J42>1, IF($J42=4, \"Inconnu\", IF($J42=99, \"Surveillance\", F42)), 0),\"Non requis\")","v":"Non requis"},{"$f":"IF(INTRO!$E$42=\"Endémique\", IF($J42>1, IF($J42=4, \"Inconnu\", IF($J42=99, \"Surveillance\", ROUND(D42*INTRO!$E$51,0))), 0),\"Non requis\")","v":"Non requis"},{"$f":"IF(INTRO!$E$42=\"Endémique\", IF($J42>1, IF($J42=4, \"Inconnu\", IF($J42=99, \"Surveillance\", SUM($N42:$P42))), 0),\"Non requis\")","v":"Non requis"},2089,5626,10167,17882,0,1,0,1,"MDA3 (IVM)","T2 (PZQ)",null,null,null,null,null,null,29998,"Kangaba",null,{"$f":"'MDA3'!O42","v":55256},{"$f":"'T2'!S42","v":42867},null,null,{"$f":"_xlfn.XLOOKUP($AH42,[1]D_Projections!$F$5:$F$79,[1]D_Projections!G$5:G$79)","v":2},{"$f":"_xlfn.XLOOKUP($AH42,[1]D_Projections!$F$5:$F$79,[1]D_Projections!H$5:H$79)","v":2157},{"$f":"_xlfn.XLOOKUP($AH42,[1]D_Projections!$F$5:$F$79,[1]D_Projections!I$5:I$79)","v":5810},{"$f":"_xlfn.XLOOKUP($AH42,[1]D_Projections!$F$5:$F$79,[1]D_Projections!J$5:J$79)","v":10499},null,2089,5626,10167]
[{"$f":"IF(INTRO!$E$34<>0,INTRO!$E$34,\"\")","v":"Mali"},"Koulikoro","Kati",807444.87398400006,{"$f":"IF(INTRO!$E$48=\"\",\"\",ROUND($D43*INTRO!$E$48,0))","v":121117},{"$f":"IF(INTRO!$E$49=\"\",\"\",ROUND($D43*INTRO!$E$49,0))","v":230122},{"$f":"IF(INTRO!$E$50=\"\",\"\",ROUND($D43*INTRO!$E$50,0))","v":415834},99,1,0,21,null,{"$f":"IF(INTRO!$E$40=\"Endémique\", IF($I43>0, IF($I43=4,\"Inconnu\",IF($I43=99,\"Interrompu\", $D43)), 0),\"Non requis\")","v":807444.87398400006},{"$f":"IF(INTRO!$E$42=\"Endémique\", IF($J43>1, IF($J43=4, \"Inconnu\", IF($J43=99, \"Surveillance\", E43)), 0),\"Non requis\")","v":"Non requis"},{"$f":"IF(INTRO!$E$42=\"Endémique\", IF($J43>1, IF($J43=4, \"Inconnu\", IF($J43=99, \"Surveillance\", F43)), 0),\"Non requis\")","v":"Non requis"},{"$f":"IF(INTRO!$E$42=\"Endémique\", IF($J43>1, IF($J43=4, \"Inconnu\", IF($J43=99, \"Surveillance\", ROUND(D43*INTRO!$E$51,0))), 0),\"Non requis\")","v":"Non requis"},{"$f":"IF(INTRO!$E$42=\"Endémique\", IF($J43>1, IF($J43=4, \"Inconnu\", IF($J43=99, \"Surveillance\", SUM($N43:$P43))), 0),\"Non requis\")","v":"Non requis"},29075,78324,141530,248929,0,1,0,1,"MDA3 (IVM)","T2 (PZQ)",null,null,null,null,null,null,29999,"Kati",null,{"$f":"'MDA3'!O43","v":242790},{"$f":"'T2'!S43","v":71599},null,null,{"$f":"_xlfn.XLOOKUP($AH43,[1]D_Projections!$F$5:$F$79,[1]D_Projections!G$5:G$79)","v":21},{"$f":"_xlfn.XLOOKUP($AH43,[1]D_Projections!$F$5:$F$79,[1]D_Projections!H$5:H$79)","v":30024},{"$f":"_xlfn.XLOOKUP($AH43,[1]D_Projections!$F$5:$F$79,[1]D_Projections!I$5:I$79)","v":80880},{"$f":"_xlfn.XLOOKUP($AH43,[1]D_Projections!$F$5:$F$79,[1]D_Projections!J$5:J$79)","v":146148},null,29075,78324,141530]
[{"$f":"IF(INTRO!$E$34<>0,INTRO!$E$34,\"\")","v":"Mali"},"Koulikoro","Kolokani",376365.19524800003,{"$f":"IF(INTRO!$E$48=\"\",\"\",ROUND($D44*INTRO!$E$48,0))","v":56455},{"$f":"IF(INTRO!$E$49=\"\",\"\",ROUND($D44*INTRO!$E$49,0))","v":107264},{"$f":"IF(INTRO!$E$50=\"\",\"\",ROUND($D44*INTRO!$E$50,0))","v":193828},99,1,0,2,null,{"$f":"IF(INTRO!$E$40=\"Endémique\", IF($I44>0, IF($I44=4,\"Inconnu\",IF($I44=99,\"Interrompu\", $D44)), 0),\"Non requis\")","v":376365.19524800003},{"$f":"IF(INTRO!$E$42=\"Endémique\", IF($J44>1, IF($J44=4, \"Inconnu\", IF($J44=99, \"Surveillance\", E44)), 0),\"Non requis\")","v":"Non requis"},{"$f":"IF(INTRO!$E$42=\"Endémique\", IF($J44>1, IF($J44=4, \"Inconnu\", IF($J44=99, \"Surveillance\", F44)), 0),\"Non requis\")","v":"Non requis"},{"$f":"IF(INTRO!$E$42=\"Endémique\", IF($J44>1, IF($J44=4, \"Inconnu\", IF($J44=99, \"Surveillance\", ROUND(D44*INTRO!$E$51,0))), 0),\"Non requis\")","v":"Non requis"},{"$f":"IF(INTRO!$E$42=\"Endémique\", IF($J44>1, IF($J44=4, \"Inconnu\", IF($J44=99, \"Surveillance\", SUM($N44:$P44))), 0),\"Non requis\")","v":"Non requis"},10924,29426,53172,93522,0,1,0,1,"MDA3 (IVM)","T2 (PZQ)",null,null,null,null,null,null,30000,"Kolokani",null,{"$f":"'MDA3'!O44","v":110594},{"$f":"'T2'!S44","v":28874},null,null,{"$f":"_xlfn.XLOOKUP($AH44,[1]D_Projections!$F$5:$F$79,[1]D_Projections!G$5:G$79)","v":2},{"$f":"_xlfn.XLOOKUP($AH44,[1]D_Projections!$F$5:$F$79,[1]D_Projections!H$5:H$79)","v":11280},{"$f":"_xlfn.XLOOKUP($AH44,[1]D_Projections!$F$5:$F$79,[1]D_Projections!I$5:I$79)","v":30386},{"$f":"_xlfn.XLOOKUP($AH44,[1]D_Projections!$F$5:$F$79,[1]D_Projections!J$5:J$79)","v":54907},null,10924,29426,53172]
[{"$f":"IF(INTRO!$E$34<>0,INTRO!$E$34,\"\")","v":"Mali"},"Koulikoro","Koulikoro",339656.32545600005,{"$f":"IF(INTRO!$E$48=\"\",\"\",ROUND($D45*INTRO!$E$48,0))","v":50948},{"$f":"IF(INTRO!$E$49=\"\",\"\",ROUND($D45*INTRO!$E$49,0))","v":96802},{"$f":"IF(INTRO!$E$50=\"\",\"\",ROUND($D45*INTRO!$E$50,0))","v":174923},99,1,0,21,null,{"$f":"IF(INTRO!$E$40=\"Endémique\", IF($I45>0, IF($I45=4,\"Inconnu\",IF($I45=99,\"Interrompu\", $D45)), 0),\"Non requis\")","v":339656.32545600005},{"$f":"IF(INTRO!$E$42=\"Endémique\", IF($J45>1, IF($J45=4, \"Inconnu\", IF($J45=99, \"Surveillance\", E45)), 0),\"Non requis\")","v":"Non requis"},{"$f":"IF(INTRO!$E$42=\"Endémique\", IF($J45>1, IF($J45=4, \"Inconnu\", IF($J45=99, \"Surveillance\", F45)), 0),\"Non requis\")","v":"Non requis"},{"$f":"IF(INTRO!$E$42=\"Endémique\", IF($J45>1, IF($J45=4, \"Inconnu\", IF($J45=99, \"Surveillance\", ROUND(D45*INTRO!$E$51,0))), 0),\"Non requis\")","v":"Non requis"},{"$f":"IF(INTRO!$E$42=\"Endémique\", IF($J45>1, IF($J45=4, \"Inconnu\", IF($J45=99, \"Surveillance\", SUM($N45:$P45))), 0),\"Non requis\")","v":"Non requis"},11648,31377,56696,99721,0,1,0,1,"MDA3 (IVM)","T2 (PZQ)",null,null,null,null,null,null,30001,"Koulikoro",null,{"$f":"'MDA3'!O45","v":90848},{"$f":"'T2'!S45","v":66641},null,null,{"$f":"_xlfn.XLOOKUP($AH45,[1]D_Projections!$F$5:$F$79,[1]D_Projections!G$5:G$79)","v":21},{"$f":"_xlfn.XLOOKUP($AH45,[1]D_Projections!$F$5:$F$79,[1]D_Projections!H$5:H$79)","v":12028},{"$f":"_xlfn.XLOOKUP($AH45,[1]D_Projections!$F$5:$F$79,[1]D_Projections!I$5:I$79)","v":32401},{"$f":"_xlfn.XLOOKUP($AH45,[1]D_Projections!$F$5:$F$79,[1]D_Projections!J$5:J$79)","v":58546},null,11648,31377,56696]
[{"$f":"IF(INTRO!$E$34<>0,INTRO!$E$34,\"\")","v":"Mali"},"Koulikoro","Nara",390960.947552,{"$f":"IF(INTRO!$E$48=\"\",\"\",ROUND($D46*INTRO!$E$48,0))","v":58644},{"$f":"IF(INTRO!$E$49=\"\",\"\",ROUND($D46*INTRO!$E$49,0))","v":111424},{"$f":"IF(INTRO!$E$50=\"\",\"\",ROUND($D46*INTRO!$E$50,0))","v":201345},99,0,0,3,null,{"$f":"IF(INTRO!$E$40=\"Endémique\", IF($I46>0, IF($I46=4,\"Inconnu\",IF($I46=99,\"Interrompu\", $D46)), 0),\"Non requis\")","v":0},{"$f":"IF(INTRO!$E$42=\"Endémique\", IF($J46>1, IF($J46=4, \"Inconnu\", IF($J46=99, \"Surveillance\", E46)), 0),\"Non requis\")","v":"Non requis"},{"$f":"IF(INTRO!$E$42=\"Endémique\", IF($J46>1, IF($J46=4, \"Inconnu\", IF($J46=99, \"Surveillance\", F46)), 0),\"Non requis\")","v":"Non requis"},{"$f":"IF(INTRO!$E$42=\"Endémique\", IF($J46>1, IF($J46=4, \"Inconnu\", IF($J46=99, \"Surveillance\", ROUND(D46*INTRO!$E$51,0))), 0),\"Non requis\")","v":"Non requis"},{"$f":"IF(INTRO!$E$42=\"Endémique\", IF($J46>1, IF($J46=4, \"Inconnu\", IF($J46=99, \"Surveillance\", SUM($N46:$P46))), 0),\"Non requis\")","v":"Non requis"},8590,23144,41820,73554,0,0,0,1,null,"T2 (PZQ)",null,null,null,null,null,null,30002,"Nara",null,{"$f":"'MDA3'!O46","v":0},{"$f":"'T2'!S46","v":24312},null,null,{"$f":"_xlfn.XLOOKUP($AH46,[1]D_Projections!$F$5:$F$79,[1]D_Projections!G$5:G$79)","v":3},{"$f":"_xlfn.XLOOKUP($AH46,[1]D_Projections!$F$5:$F$79,[1]D_Projections!H$5:H$79)","v":8870},{"$f":"_xlfn.XLOOKUP($AH46,[1]D_Projections!$F$5:$F$79,[1]D_Projections!I$5:I$79)","v":23899},{"$f":"_xlfn.XLOOKUP($AH46,[1]D_Projections!$F$5:$F$79,[1]D_Projections!J$5:J$79)","v":43185},null,8590,23144,41820]
[{"$f":"IF(INTRO!$E$34<>0,INTRO!$E$34,\"\")","v":"Mali"},"Koulikoro","Ouelessebougou",320353.09689599997,{"$f":"IF(INTRO!$E$48=\"\",\"\",ROUND($D47*INTRO!$E$48,0))","v":48053},{"$f":"IF(INTRO!$E$49=\"\",\"\",ROUND($D47*INTRO!$E$49,0))","v":91301},{"$f":"IF(INTRO!$E$50=\"\",\"\",ROUND($D47*INTRO!$E$50,0))","v":164982},99,1,0,21,null,{"$f":"IF(INTRO!$E$40=\"Endémique\", IF($I47>0, IF($I47=4,\"Inconnu\",IF($I47=99,\"Interrompu\", $D47)), 0),\"Non requis\")","v":320353.09689599997},{"$f":"IF(INTRO!$E$42=\"Endémique\", IF($J47>1, IF($J47=4, \"Inconnu\", IF($J47=99, \"Surveillance\", E47)), 0),\"Non requis\")","v":"Non requis"},{"$f":"IF(INTRO!$E$42=\"Endémique\", IF($J47>1, IF($J47=4, \"Inconnu\", IF($J47=99, \"Surveillance\", F47)), 0),\"Non requis\")","v":"Non requis"},{"$f":"IF(INTRO!$E$42=\"Endémique\", IF($J47>1, IF($J47=4, \"Inconnu\", IF($J47=99, \"Surveillance\", ROUND(D47*INTRO!$E$51,0))), 0),\"Non requis\")","v":"Non requis"},{"$f":"IF(INTRO!$E$42=\"Endémique\", IF($J47>1, IF($J47=4, \"Inconnu\", IF($J47=99, \"Surveillance\", SUM($N47:$P47))), 0),\"Non requis\")","v":"Non requis"},9438,25424,45942,80804,0,1,0,1,"MDA3 (IVM)","T2 (PZQ)",null,null,null,null,null,null,30003,"Ouelessebougou",null,{"$f":"'MDA3'!O47","v":75870},{"$f":"'T2'!S47","v":63532},null,null,{"$f":"_xlfn.XLOOKUP($AH47,[1]D_Projections!$F$5:$F$79,[1]D_Projections!G$5:G$79)","v":21},{"$f":"_xlfn.XLOOKUP($AH47,[1]D_Projections!$F$5:$F$79,[1]D_Projections!H$5:H$79)","v":9746},{"$f":"_xlfn.XLOOKUP($AH47,[1]D_Projections!$F$5:$F$79,[1]D_Projections!I$5:I$79)","v":26254},{"$f":"_xlfn.XLOOKUP($AH47,[1]D_Projections!$F$5:$F$79,[1]D_Projections!J$5:J$79)","v":47441},null,9438,25424,45942]
[{"$f":"IF(INTRO!$E$34<>0,INTRO!$E$34,\"\")","v":"Mali"},"Mopti","Bandiagara",510389.81336000003,{"$f":"IF(INTRO!$E$48=\"\",\"\",ROUND($D48*INTRO!$E$48,0))","v":76558},{"$f":"IF(INTRO!$E$49=\"\",\"\",ROUND($D48*INTRO!$E$49,0))","v":145461},{"$f":"IF(INTRO!$E$50=\"\",\"\",ROUND($D48*INTRO!$E$50,0))","v":262851},99,0,0,31,null,{"$f":"IF(INTRO!$E$40=\"Endémique\", IF($I48>0, IF($I48=4,\"Inconnu\",IF($I48=99,\"Interrompu\", $D48)), 0),\"Non requis\")","v":0},{"$f":"IF(INTRO!$E$42=\"Endémique\", IF($J48>1, IF($J48=4, \"Inconnu\", IF($J48=99, \"Surveillance\", E48)), 0),\"Non requis\")","v":"Non requis"},{"$f":"IF(INTRO!$E$42=\"Endémique\", IF($J48>1, IF($J48=4, \"Inconnu\", IF($J48=99, \"Surveillance\", F48)), 0),\"Non requis\")","v":"Non requis"},{"$f":"IF(INTRO!$E$42=\"Endémique\", IF($J48>1, IF($J48=4, \"Inconnu\", IF($J48=99, \"Surveillance\", ROUND(D48*INTRO!$E$51,0))), 0),\"Non requis\")","v":"Non requis"},{"$f":"IF(INTRO!$E$42=\"Endémique\", IF($J48>1, IF($J48=4, \"Inconnu\", IF($J48=99, \"Surveillance\", SUM($N48:$P48))), 0),\"Non requis\")","v":"Non requis"},53375,143790,259828,456993,0,0,0,1,null,"T2 (PZQ)",null,null,null,null,null,null,30004,"Bandiagara",null,{"$f":"'MDA3'!O48","v":0},{"$f":"'T2'!S48","v":149665},null,null,{"$f":"_xlfn.XLOOKUP($AH48,[1]D_Projections!$F$5:$F$79,[1]D_Projections!G$5:G$79)","v":31},{"$f":"_xlfn.XLOOKUP($AH48,[1]D_Projections!$F$5:$F$79,[1]D_Projections!H$5:H$79)","v":55117},{"$f":"_xlfn.XLOOKUP($AH48,[1]D_Projections!$F$5:$F$79,[1]D_Projections!I$5:I$79)","v":148482},{"$f":"_xlfn.XLOOKUP($AH48,[1]D_Projections!$F$5:$F$79,[1]D_Projections!J$5:J$79)","v":268306},null,53375,143790,259828]
[{"$f":"IF(INTRO!$E$34<>0,INTRO!$E$34,\"\")","v":"Mali"},"Mopti","Bankass",422876.47740800004,{"$f":"IF(INTRO!$E$48=\"\",\"\",ROUND($D49*INTRO!$E$48,0))","v":63431},{"$f":"IF(INTRO!$E$49=\"\",\"\",ROUND($D49*INTRO!$E$49,0))","v":120520},{"$f":"IF(INTRO!$E$50=\"\",\"\",ROUND($D49*INTRO!$E$50,0))","v":217781},99,0,0,31,null,{"$f":"IF(INTRO!$E$40=\"Endémique\", IF($I49>0, IF($I49=4,\"Inconnu\",IF($I49=99,\"Interrompu\", $D49)), 0),\"Non requis\")","v":0},{"$f":"IF(INTRO!$E$42=\"Endémique\", IF($J49>1, IF($J49=4, \"Inconnu\", IF($J49=99, \"Surveillance\", E49)), 0),\"Non requis\")","v":"Non requis"},{"$f":"IF(INTRO!$E$42=\"Endémique\", IF($J49>1, IF($J49=4, \"Inconnu\", IF($J49=99, \"Surveillance\", F49)), 0),\"Non requis\")","v":"Non requis"},{"$f":"IF(INTRO!$E$42=\"Endémique\", IF($J49>1, IF($J49=4, \"Inconnu\", IF($J49=99, \"Surveillance\", ROUND(D49*INTRO!$E$51,0))), 0),\"Non requis\")","v":"Non requis"},{"$f":"IF(INTRO!$E$42=\"Endémique\", IF($J49>1, IF($J49=4, \"Inconnu\", IF($J49=99, \"Surveillance\", SUM($N49:$P49))), 0),\"Non requis\")","v":"Non requis"},44914,120979,218617,384510,0,0,0,1,null,"T2 (PZQ)",null,null,null,null,null,null,30005,"Bankass",null,{"$f":"'MDA3'!O49","v":0},{"$f":"'T2'!S49","v":79399},null,null,{"$f":"_xlfn.XLOOKUP($AH49,[1]D_Projections!$F$5:$F$79,[1]D_Projections!G$5:G$79)","v":31},{"$f":"_xlfn.XLOOKUP($AH49,[1]D_Projections!$F$5:$F$79,[1]D_Projections!H$5:H$79)","v":46380},{"$f":"_xlfn.XLOOKUP($AH49,[1]D_Projections!$F$5:$F$79,[1]D_Projections!I$5:I$79)","v":124927},{"$f":"_xlfn.XLOOKUP($AH49,[1]D_Projections!$F$5:$F$79,[1]D_Projections!J$5:J$79)","v":225751},null,44914,120979,218617]
[{"$f":"IF(INTRO!$E$34<>0,INTRO!$E$34,\"\")","v":"Mali"},"Mopti","Djenne",332688.48782400001,{"$f":"IF(INTRO!$E$48=\"\",\"\",ROUND($D50*INTRO!$E$48,0))","v":49903},{"$f":"IF(INTRO!$E$49=\"\",\"\",ROUND($D50*INTRO!$E$49,0))","v":94816},{"$f":"IF(INTRO!$E$50=\"\",\"\",ROUND($D50*INTRO!$E$50,0))","v":171335},99,0,0,3,null,{"$f":"IF(INTRO!$E$40=\"Endémique\", IF($I50>0, IF($I50=4,\"Inconnu\",IF($I50=99,\"Interrompu\", $D50)), 0),\"Non requis\")","v":0},{"$f":"IF(INTRO!$E$42=\"Endémique\", IF($J50>1, IF($J50=4, \"Inconnu\", IF($J50=99, \"Surveillance\", E50)), 0),\"Non requis\")","v":"Non requis"},{"$f":"IF(INTRO!$E$42=\"Endémique\", IF($J50>1, IF($J50=4, \"Inconnu\", IF($J50=99, \"Surveillance\", F50)), 0),\"Non requis\")","v":"Non requis"},{"$f":"IF(INTRO!$E$42=\"Endémique\", IF($J50>1, IF($J50=4, \"Inconnu\", IF($J50=99, \"Surveillance\", ROUND(D50*INTRO!$E$51,0))), 0),\"Non requis\")","v":"Non requis"},{"$f":"IF(INTRO!$E$42=\"Endémique\", IF($J50>1, IF($J50=4, \"Inconnu\", IF($J50=99, \"Surveillance\", SUM($N50:$P50))), 0),\"Non requis\")","v":"Non requis"},34794,93719,169355,297868,0,0,0,1,null,"T2 (PZQ)",null,null,null,null,null,null,30006,"Djenne",null,{"$f":"'MDA3'!O50","v":0},{"$f":"'T2'!S50","v":79677},null,null,{"$f":"_xlfn.XLOOKUP($AH50,[1]D_Projections!$F$5:$F$79,[1]D_Projections!G$5:G$79)","v":3},{"$f":"_xlfn.XLOOKUP($AH50,[1]D_Projections!$F$5:$F$79,[1]D_Projections!H$5:H$79)","v":35929},{"$f":"_xlfn.XLOOKUP($AH50,[1]D_Projections!$F$5:$F$79,[1]D_Projections!I$5:I$79)","v":96777},{"$f":"_xlfn.XLOOKUP($AH50,[1]D_Projections!$F$5:$F$79,[1]D_Projections!J$5:J$79)","v":174881},null,34794,93719,169355]
[{"$f":"IF(INTRO!$E$34<>0,INTRO!$E$34,\"\")","v":"Mali"},"Mopti","Douentza",397753.83793600003,{"$f":"IF(INTRO!$E$48=\"\",\"\",ROUND($D51*INTRO!$E$48,0))","v":59663},{"$f":"IF(INTRO!$E$49=\"\",\"\",ROUND($D51*INTRO!$E$49,0))","v":113360},{"$f":"IF(INTRO!$E$50=\"\",\"\",ROUND($D51*INTRO!$E$50,0))","v":204843},99,0,0,3,null,{"$f":"IF(INTRO!$E$40=\"Endémique\", IF($I51>0, IF($I51=4,\"Inconnu\",IF($I51=99,\"Interrompu\", $D51)), 0),\"Non requis\")","v":0},{"$f":"IF(INTRO!$E$42=\"Endémique\", IF($J51>1, IF($J51=4, \"Inconnu\", IF($J51=99, \"Surveillance\", E51)), 0),\"Non requis\")","v":"Non requis"},{"$f":"IF(INTRO!$E$42=\"Endémique\", IF($J51>1, IF($J51=4, \"Inconnu\", IF($J51=99, \"Surveillance\", F51)), 0),\"Non requis\")","v":"Non requis"},{"$f":"IF(INTRO!$E$42=\"Endémique\", IF($J51>1, IF($J51=4, \"Inconnu\", IF($J51=99, \"Surveillance\", ROUND(D51*INTRO!$E$51,0))), 0),\"Non requis\")","v":"Non requis"},{"$f":"IF(INTRO!$E$42=\"Endémique\", IF($J51>1, IF($J51=4, \"Inconnu\", IF($J51=99, \"Surveillance\", SUM($N51:$P51))), 0),\"Non requis\")","v":"Non requis"},33498,90235,163060,286793,0,0,0,1,null,"T2 (PZQ)",null,null,null,null,null,null,30007,"Douentza",null,{"$f":"'MDA3'!O51","v":0},{"$f":"'T2'!S51","v":89740},null,null,{"$f":"_xlfn.XLOOKUP($AH51,[1]D_Projections!$F$5:$F$79,[1]D_Projections!G$5:G$79)","v":3},{"$f":"_xlfn.XLOOKUP($AH51,[1]D_Projections!$F$5:$F$79,[1]D_Projections!H$5:H$79)","v":34591},{"$f":"_xlfn.XLOOKUP($AH51,[1]D_Projections!$F$5:$F$79,[1]D_Projections!I$5:I$79)","v":93179},{"$f":"_xlfn.XLOOKUP($AH51,[1]D_Projections!$F$5:$F$79,[1]D_Projections!J$5:J$79)","v":168381},null,33498,90235,163060]
[{"$f":"IF(INTRO!$E$34<>0,INTRO!$E$34,\"\")","v":"Mali"},"Mopti","Koro",580983.71116800001,{"$f":"IF(INTRO!$E$48=\"\",\"\",ROUND($D52*INTRO!$E$48,0))","v":87148},{"$f":"IF(INTRO!$E$49=\"\",\"\",ROUND($D52*INTRO!$E$49,0))","v":165580},{"$f":"IF(INTRO!$E$50=\"\",\"\",ROUND($D52*INTRO!$E$50,0))","v":299207},99,0,0,3,null,{"$f":"IF(INTRO!$E$40=\"Endémique\", IF($I52>0, IF($I52=4,\"Inconnu\",IF($I52=99,\"Interrompu\", $D52)), 0),\"Non requis\")","v":0},{"$f":"IF(INTRO!$E$42=\"Endémique\", IF($J52>1, IF($J52=4, \"Inconnu\", IF($J52=99, \"Surveillance\", E52)), 0),\"Non requis\")","v":"Non requis"},{"$f":"IF(INTRO!$E$42=\"Endémique\", IF($J52>1, IF($J52=4, \"Inconnu\", IF($J52=99, \"Surveillance\", F52)), 0),\"Non requis\")","v":"Non requis"},{"$f":"IF(INTRO!$E$42=\"Endémique\", IF($J52>1, IF($J52=4, \"Inconnu\", IF($J52=99, \"Surveillance\", ROUND(D52*INTRO!$E$51,0))), 0),\"Non requis\")","v":"Non requis"},{"$f":"IF(INTRO!$E$42=\"Endémique\", IF($J52>1, IF($J52=4, \"Inconnu\", IF($J52=99, \"Surveillance\", SUM($N52:$P52))), 0),\"Non requis\")","v":"Non requis"},58303,157058,283807,499168,0,0,0,1,null,"T2 (PZQ)",null,null,null,null,null,null,30008,"Koro",null,{"$f":"'MDA3'!O52","v":0},{"$f":"'T2'!S52","v":94575},null,null,{"$f":"_xlfn.XLOOKUP($AH52,[1]D_Projections!$F$5:$F$79,[1]D_Projections!G$5:G$79)","v":3},{"$f":"_xlfn.XLOOKUP($AH52,[1]D_Projections!$F$5:$F$79,[1]D_Projections!H$5:H$79)","v":60205},{"$f":"_xlfn.XLOOKUP($AH52,[1]D_Projections!$F$5:$F$79,[1]D_Projections!I$5:I$79)","v":162183},{"$f":"_xlfn.XLOOKUP($AH52,[1]D_Projections!$F$5:$F$79,[1]D_Projections!J$5:J$79)","v":293068},null,58303,157058,283807]
[{"$f":"IF(INTRO!$E$34<>0,INTRO!$E$34,\"\")","v":"Mali"},"Mopti","Mopti",591526.69777600002,{"$f":"IF(INTRO!$E$48=\"\",\"\",ROUND($D53*INTRO!$E$48,0))","v":88729},{"$f":"IF(INTRO!$E$49=\"\",\"\",ROUND($D53*INTRO!$E$49,0))","v":168585},{"$f":"IF(INTRO!$E$50=\"\",\"\",ROUND($D53*INTRO!$E$50,0))","v":304636},99,0,0,31,null,{"$f":"IF(INTRO!$E$40=\"Endémique\", IF($I53>0, IF($I53=4,\"Inconnu\",IF($I53=99,\"Interrompu\", $D53)), 0),\"Non requis\")","v":0},{"$f":"IF(INTRO!$E$42=\"Endémique\", IF($J53>1, IF($J53=4, \"Inconnu\", IF($J53=99, \"Surveillance\", E53)), 0),\"Non requis\")","v":"Non requis"},{"$f":"IF(INTRO!$E$42=\"Endémique\", IF($J53>1, IF($J53=4, \"Inconnu\", IF($J53=99, \"Surveillance\", F53)), 0),\"Non requis\")","v":"Non requis"},{"$f":"IF(INTRO!$E$42=\"Endémique\", IF($J53>1, IF($J53=4, \"Inconnu\", IF($J53=99, \"Surveillance\", ROUND(D53*INTRO!$E$51,0))), 0),\"Non requis\")","v":"Non requis"},{"$f":"IF(INTRO!$E$42=\"Endémique\", IF($J53>1, IF($J53=4, \"Inconnu\", IF($J53=99, \"Surveillance\", SUM($N53:$P53))), 0),\"Non requis\")","v":"Non requis"},62828,169234,305805,537867,0,0,0,1,null,"T2 (PZQ)",null,null,null,null,null,null,30009,"Mopti",null,{"$f":"'MDA3'!O53","v":0},{"$f":"'T2'!S53","v":111510},null,null,{"$f":"_xlfn.XLOOKUP($AH53,[1]D_Projections!$F$5:$F$79,[1]D_Projections!G$5:G$79)","v":31},{"$f":"_xlfn.XLOOKUP($AH53,[1]D_Projections!$F$5:$F$79,[1]D_Projections!H$5:H$79)","v":64878},{"$f":"_xlfn.XLOOKUP($AH53,[1]D_Projections!$F$5:$F$79,[1]D_Projections!I$5:I$79)","v":174756},{"$f":"_xlfn.XLOOKUP($AH53,[1]D_Projections!$F$5:$F$79,[1]D_Projections!J$5:J$79)","v":315784},null,62828,169234,305805]
[{"$f":"IF(INTRO!$E$34<>0,INTRO!$E$34,\"\")","v":"Mali"},"Mopti","Teninkou",262673.09655999998,{"$f":"IF(INTRO!$E$48=\"\",\"\",ROUND($D54*INTRO!$E$48,0))","v":39401},{"$f":"IF(INTRO!$E$49=\"\",\"\",ROUND($D54*INTRO!$E$49,0))","v":74862},{"$f":"IF(INTRO!$E$50=\"\",\"\",ROUND($D54*INTRO!$E$50,0))","v":135277},99,0,0,3,null,{"$f":"IF(INTRO!$E$40=\"Endémique\", IF($I54>0, IF($I54=4,\"Inconnu\",IF($I54=99,\"Interrompu\", $D54)), 0),\"Non requis\")","v":0},{"$f":"IF(INTRO!$E$42=\"Endémique\", IF($J54>1, IF($J54=4, \"Inconnu\", IF($J54=99, \"Surveillance\", E54)), 0),\"Non requis\")","v":"Non requis"},{"$f":"IF(INTRO!$E$42=\"Endémique\", IF($J54>1, IF($J54=4, \"Inconnu\", IF($J54=99, \"Surveillance\", F54)), 0),\"Non requis\")","v":"Non requis"},{"$f":"IF(INTRO!$E$42=\"Endémique\", IF($J54>1, IF($J54=4, \"Inconnu\", IF($J54=99, \"Surveillance\", ROUND(D54*INTRO!$E$51,0))), 0),\"Non requis\")","v":"Non requis"},{"$f":"IF(INTRO!$E$42=\"Endémique\", IF($J54>1, IF($J54=4, \"Inconnu\", IF($J54=99, \"Surveillance\", SUM($N54:$P54))), 0),\"Non requis\")","v":"Non requis"},22990,61931,111910,196831,0,0,0,1,null,"T2 (PZQ)",null,null,null,null,null,null,30010,"Teninkou",null,{"$f":"'MDA3'!O54","v":0},{"$f":"'T2'!S54","v":10016},null,null,{"$f":"_xlfn.XLOOKUP($AH54,[1]D_Projections!$F$5:$F$79,[1]D_Projections!G$5:G$79)","v":3},{"$f":"_xlfn.XLOOKUP($AH54,[1]D_Projections!$F$5:$F$79,[1]D_Projections!H$5:H$79)","v":23740},{"$f":"_xlfn.XLOOKUP($AH54,[1]D_Projections!$F$5:$F$79,[1]D_Projections!I$5:I$79)","v":63952},{"$f":"_xlfn.XLOOKUP($AH54,[1]D_Projections!$F$5:$F$79,[1]D_Projections!J$5:J$79)","v":115562},null,22990,61931,111910]
[{"$f":"IF(INTRO!$E$34<>0,INTRO!$E$34,\"\")","v":"Mali"},"Mopti","Youwarou",171381.758688,{"$f":"IF(INTRO!$E$48=\"\",\"\",ROUND($D55*INTRO!$E$48,0))","v":25707},{"$f":"IF(INTRO!$E$49=\"\",\"\",ROUND($D55*INTRO!$E$49,0))","v":48844},{"$f":"IF(INTRO!$E$50=\"\",\"\",ROUND($D55*INTRO!$E$50,0))","v":88262},99,0,0,2,null,{"$f":"IF(INTRO!$E$40=\"Endémique\", IF($I55>0, IF($I55=4,\"Inconnu\",IF($I55=99,\"Interrompu\", $D55)), 0),\"Non requis\")","v":0},{"$f":"IF(INTRO!$E$42=\"Endémique\", IF($J55>1, IF($J55=4, \"Inconnu\", IF($J55=99, \"Surveillance\", E55)), 0),\"Non requis\")","v":"Non requis"},{"$f":"IF(INTRO!$E$42=\"Endémique\", IF($J55>1, IF($J55=4, \"Inconnu\", IF($J55=99, \"Surveillance\", F55)), 0),\"Non requis\")","v":"Non requis"},{"$f":"IF(INTRO!$E$42=\"Endémique\", IF($J55>1, IF($J55=4, \"Inconnu\", IF($J55=99, \"Surveillance\", ROUND(D55*INTRO!$E$51,0))), 0),\"Non requis\")","v":"Non requis"},{"$f":"IF(INTRO!$E$42=\"Endémique\", IF($J55>1, IF($J55=4, \"Inconnu\", IF($J55=99, \"Surveillance\", SUM($N55:$P55))), 0),\"Non requis\")","v":"Non requis"},18202,49033,88601,155836,0,0,0,0,null,null,null,null,null,null,null,null,30011,"Youwarou",null,{"$f":"'MDA3'!O55","v":0},{"$f":"'T2'!S55","v":0},null,null,{"$f":"_xlfn.XLOOKUP($AH55,[1]D_Projections!$F$5:$F$79,[1]D_Projections!G$5:G$79)","v":2},{"$f":"_xlfn.XLOOKUP($AH55,[1]D_Projections!$F$5:$F$79,[1]D_Projections!H$5:H$79)","v":18796},{"$f":"_xlfn.XLOOKUP($AH55,[1]D_Projections!$F$5:$F$79,[1]D_Projections!I$5:I$79)","v":50633},{"$f":"_xlfn.XLOOKUP($AH55,[1]D_Projections!$F$5:$F$79,[1]D_Projections!J$5:J$79)","v":91492},null,18202,49033,88601]
[{"$f":"IF(INTRO!$E$34<>0,INTRO!$E$34,\"\")","v":"Mali"},"Segou","Barouéli",327262.97654399998,{"$f":"IF(INTRO!$E$48=\"\",\"\",ROUND($D56*INTRO!$E$48,0))","v":49089},{"$f":"IF(INTRO!$E$49=\"\",\"\",ROUND($D56*INTRO!$E$49,0))","v":93270},{"$f":"IF(INTRO!$E$50=\"\",\"\",ROUND($D56*INTRO!$E$50,0))","v":168540},99,0,0,21,null,{"$f":"IF(INTRO!$E$40=\"Endémique\", IF($I56>0, IF($I56=4,\"Inconnu\",IF($I56=99,\"Interrompu\", $D56)), 0),\"Non requis\")","v":0},{"$f":"IF(INTRO!$E$42=\"Endémique\", IF($J56>1, IF($J56=4, \"Inconnu\", IF($J56=99, \"Surveillance\", E56)), 0),\"Non requis\")","v":"Non requis"},{"$f":"IF(INTRO!$E$42=\"Endémique\", IF($J56>1, IF($J56=4, \"Inconnu\", IF($J56=99, \"Surveillance\", F56)), 0),\"Non requis\")","v":"Non requis"},{"$f":"IF(INTRO!$E$42=\"Endémique\", IF($J56>1, IF($J56=4, \"Inconnu\", IF($J56=99, \"Surveillance\", ROUND(D56*INTRO!$E$51,0))), 0),\"Non requis\")","v":"Non requis"},{"$f":"IF(INTRO!$E$42=\"Endémique\", IF($J56>1, IF($J56=4, \"Inconnu\", IF($J56=99, \"Surveillance\", SUM($N56:$P56))), 0),\"Non requis\")","v":"Non requis"},628,1690,3053,5371,0,0,0,1,null,"T2 (PZQ)",null,null,null,null,null,null,30012,"Barouéli",null,{"$f":"'MDA3'!O56","v":0},{"$f":"'T2'!S56","v":4209},null,null,{"$f":"_xlfn.XLOOKUP($AH56,[1]D_Projections!$F$5:$F$79,[1]D_Projections!G$5:G$79)","v":21},{"$f":"_xlfn.XLOOKUP($AH56,[1]D_Projections!$F$5:$F$79,[1]D_Projections!H$5:H$79)","v":648},{"$f":"_xlfn.XLOOKUP($AH56,[1]D_Projections!$F$5:$F$79,[1]D_Projections!I$5:I$79)","v":1745},{"$f":"_xlfn.XLOOKUP($AH56,[1]D_Projections!$F$5:$F$79,[1]D_Projections!J$5:J$79)","v":3153},null,628,1690,3053]
[{"$f":"IF(INTRO!$E$34<>0,INTRO!$E$34,\"\")","v":"Mali"},"Segou","Bla",456067.08291199995,{"$f":"IF(INTRO!$E$48=\"\",\"\",ROUND($D57*INTRO!$E$48,0))","v":68410},{"$f":"IF(INTRO!$E$49=\"\",\"\",ROUND($D57*INTRO!$E$49,0))","v":129979},{"$f":"IF(INTRO!$E$50=\"\",\"\",ROUND($D57*INTRO!$E$50,0))","v":234875},99,0,0,3,null,{"$f":"IF(INTRO!$E$40=\"Endémique\", IF($I57>0, IF($I57=4,\"Inconnu\",IF($I57=99,\"Interrompu\", $D57)), 0),\"Non requis\")","v":0},{"$f":"IF(INTRO!$E$42=\"Endémique\", IF($J57>1, IF($J57=4, \"Inconnu\", IF($J57=99, \"Surveillance\", E57)), 0),\"Non requis\")","v":"Non requis"},{"$f":"IF(INTRO!$E$42=\"Endémique\", IF($J57>1, IF($J57=4, \"Inconnu\", IF($J57=99, \"Surveillance\", F57)), 0),\"Non requis\")","v":"Non requis"},{"$f":"IF(INTRO!$E$42=\"Endémique\", IF($J57>1, IF($J57=4, \"Inconnu\", IF($J57=99, \"Surveillance\", ROUND(D57*INTRO!$E$51,0))), 0),\"Non requis\")","v":"Non requis"},{"$f":"IF(INTRO!$E$42=\"Endémique\", IF($J57>1, IF($J57=4, \"Inconnu\", IF($J57=99, \"Surveillance\", SUM($N57:$P57))), 0),\"Non requis\")","v":"Non requis"},47528,128031,231352,406911,0,0,0,1,null,"T2 (PZQ)",null,null,null,null,null,null,30013,"Bla",null,{"$f":"'MDA3'!O57","v":0},{"$f":"'T2'!S57","v":119028},null,null,{"$f":"_xlfn.XLOOKUP($AH57,[1]D_Projections!$F$5:$F$79,[1]D_Projections!G$5:G$79)","v":3},{"$f":"_xlfn.XLOOKUP($AH57,[1]D_Projections!$F$5:$F$79,[1]D_Projections!H$5:H$79)","v":49079},{"$f":"_xlfn.XLOOKUP($AH57,[1]D_Projections!$F$5:$F$79,[1]D_Projections!I$5:I$79)","v":132209},{"$f":"_xlfn.XLOOKUP($AH57,[1]D_Projections!$F$5:$F$79,[1]D_Projections!J$5:J$79)","v":238901},null,47528,128031,231352]
[{"$f":"IF(INTRO!$E$34<>0,INTRO!$E$34,\"\")","v":"Mali"},"Segou","Macina",381808.95256000001,{"$f":"IF(INTRO!$E$48=\"\",\"\",ROUND($D58*INTRO!$E$48,0))","v":57271},{"$f":"IF(INTRO!$E$49=\"\",\"\",ROUND($D58*INTRO!$E$49,0))","v":108816},{"$f":"IF(INTRO!$E$50=\"\",\"\",ROUND($D58*INTRO!$E$50,0))","v":196632},99,0,0,31,null,{"$f":"IF(INTRO!$E$40=\"Endémique\", IF($I58>0, IF($I58=4,\"Inconnu\",IF($I58=99,\"Interrompu\", $D58)), 0),\"Non requis\")","v":0},{"$f":"IF(INTRO!$E$42=\"Endémique\", IF($J58>1, IF($J58=4, \"Inconnu\", IF($J58=99, \"Surveillance\", E58)), 0),\"Non requis\")","v":"Non requis"},{"$f":"IF(INTRO!$E$42=\"Endémique\", IF($J58>1, IF($J58=4, \"Inconnu\", IF($J58=99, \"Surveillance\", F58)), 0),\"Non requis\")","v":"Non requis"},{"$f":"IF(INTRO!$E$42=\"Endémique\", IF($J58>1, IF($J58=4, \"Inconnu\", IF($J58=99, \"Surveillance\", ROUND(D58*INTRO!$E$51,0))), 0),\"Non requis\")","v":"Non requis"},{"$f":"IF(INTRO!$E$42=\"Endémique\", IF($J58>1, IF($J58=4, \"Inconnu\", IF($J58=99, \"Surveillance\", SUM($N58:$P58))), 0),\"Non requis\")","v":"Non requis"},40550,109232,197388,347170,0,0,0,1,null,"T2 (PZQ)",null,null,null,null,null,null,30014,"Macina",null,{"$f":"'MDA3'!O58","v":0},{"$f":"'T2'!S58","v":105981},null,null,{"$f":"_xlfn.XLOOKUP($AH58,[1]D_Projections!$F$5:$F$79,[1]D_Projections!G$5:G$79)","v":31},{"$f":"_xlfn.XLOOKUP($AH58,[1]D_Projections!$F$5:$F$79,[1]D_Projections!H$5:H$79)","v":41873},{"$f":"_xlfn.XLOOKUP($AH58,[1]D_Projections!$F$5:$F$79,[1]D_Projections!I$5:I$79)","v":112796},{"$f":"_xlfn.XLOOKUP($AH58,[1]D_Projections!$F$5:$F$79,[1]D_Projections!J$5:J$79)","v":203829},null,40550,109232,197388]
[{"$f":"IF(INTRO!$E$34<>0,INTRO!$E$34,\"\")","v":"Mali"},"Segou","Markala",289002.12073600001,{"$f":"IF(INTRO!$E$48=\"\",\"\",ROUND($D59*INTRO!$E$48,0))","v":43350},{"$f":"IF(INTRO!$E$49=\"\",\"\",ROUND($D59*INTRO!$E$49,0))","v":82366},{"$f":"IF(INTRO!$E$50=\"\",\"\",ROUND($D59*INTRO!$E$50,0))","v":148836},99,0,0,3,null,{"$f":"IF(INTRO!$E$40=\"Endémique\", IF($I59>0, IF($I59=4,\"Inconnu\",IF($I59=99,\"Interrompu\", $D59)), 0),\"Non requis\")","v":0},{"$f":"IF(INTRO!$E$42=\"Endémique\", IF($J59>1, IF($J59=4, \"Inconnu\", IF($J59=99, \"Surveillance\", E59)), 0),\"Non requis\")","v":"Non requis"},{"$f":"IF(INTRO!$E$42=\"Endémique\", IF($J59>1, IF($J59=4, \"Inconnu\", IF($J59=99, \"Surveillance\", F59)), 0),\"Non requis\")","v":"Non requis"},{"$f":"IF(INTRO!$E$42=\"Endémique\", IF($J59>1, IF($J59=4, \"Inconnu\", IF($J59=99, \"Surveillance\", ROUND(D59*INTRO!$E$51,0))), 0),\"Non requis\")","v":"Non requis"},{"$f":"IF(INTRO!$E$42=\"Endémique\", IF($J59>1, IF($J59=4, \"Inconnu\", IF($J59=99, \"Surveillance\", SUM($N59:$P59))), 0),\"Non requis\")","v":"Non requis"},27553,74212,134106,235871,0,0,0,1,null,"T2 (PZQ)",null,null,null,null,null,null,30015,"Markala",null,{"$f":"'MDA3'!O59","v":0},{"$f":"'T2'!S59","v":80289},null,null,{"$f":"_xlfn.XLOOKUP($AH59,[1]D_Projections!$F$5:$F$79,[1]D_Projections!G$5:G$79)","v":3},{"$f":"_xlfn.XLOOKUP($AH59,[1]D_Projections!$F$5:$F$79,[1]D_Projections!H$5:H$79)","v":28452},{"$f":"_xlfn.XLOOKUP($AH59,[1]D_Projections!$F$5:$F$79,[1]D_Projections!I$5:I$79)","v":76634},{"$f":"_xlfn.XLOOKUP($AH59,[1]D_Projections!$F$5:$F$79,[1]D_Projections!J$5:J$79)","v":138482},null,27553,74212,134106]
[{"$f":"IF(INTRO!$E$34<>0,INTRO!$E$34,\"\")","v":"Mali"},"Segou","Niono",587552.28268800001,{"$f":"IF(INTRO!$E$48=\"\",\"\",ROUND($D60*INTRO!$E$48,0))","v":88133},{"$f":"IF(INTRO!$E$49=\"\",\"\",ROUND($D60*INTRO!$E$49,0))","v":167452},{"$f":"IF(INTRO!$E$50=\"\",\"\",ROUND($D60*INTRO!$E$50,0))","v":302589},99,0,0,31,null,{"$f":"IF(INTRO!$E$40=\"Endémique\", IF($I60>0, IF($I60=4,\"Inconnu\",IF($I60=99,\"Interrompu\", $D60)), 0),\"Non requis\")","v":0},{"$f":"IF(INTRO!$E$42=\"Endémique\", IF($J60>1, IF($J60=4, \"Inconnu\", IF($J60=99, \"Surveillance\", E60)), 0),\"Non requis\")","v":"Non requis"},{"$f":"IF(INTRO!$E$42=\"Endémique\", IF($J60>1, IF($J60=4, \"Inconnu\", IF($J60=99, \"Surveillance\", F60)), 0),\"Non requis\")","v":"Non requis"},{"$f":"IF(INTRO!$E$42=\"Endémique\", IF($J60>1, IF($J60=4, \"Inconnu\", IF($J60=99, \"Surveillance\", ROUND(D60*INTRO!$E$51,0))), 0),\"Non requis\")","v":"Non requis"},{"$f":"IF(INTRO!$E$42=\"Endémique\", IF($J60>1, IF($J60=4, \"Inconnu\", IF($J60=99, \"Surveillance\", SUM($N60:$P60))), 0),\"Non requis\")","v":"Non requis"},62403,168092,303750,534245,0,0,0,1,null,"T2 (PZQ)",null,null,null,null,null,null,30016,"Niono",null,{"$f":"'MDA3'!O60","v":0},{"$f":"'T2'!S60","v":183188},null,null,{"$f":"_xlfn.XLOOKUP($AH60,[1]D_Projections!$F$5:$F$79,[1]D_Projections!G$5:G$79)","v":31},{"$f":"_xlfn.XLOOKUP($AH60,[1]D_Projections!$F$5:$F$79,[1]D_Projections!H$5:H$79)","v":64439},{"$f":"_xlfn.XLOOKUP($AH60,[1]D_Projections!$F$5:$F$79,[1]D_Projections!I$5:I$79)","v":173577},{"$f":"_xlfn.XLOOKUP($AH60,[1]D_Projections!$F$5:$F$79,[1]D_Projections!J$5:J$79)","v":313662},null,62403,168092,303750]
[{"$f":"IF(INTRO!$E$34<>0,INTRO!$E$34,\"\")","v":"Mali"},"Segou","San",538462.94353599998,{"$f":"IF(INTRO!$E$48=\"\",\"\",ROUND($D61*INTRO!$E$48,0))","v":80769},{"$f":"IF(INTRO!$E$49=\"\",\"\",ROUND($D61*INTRO!$E$49,0))","v":153462},{"$f":"IF(INTRO!$E$50=\"\",\"\",ROUND($D61*INTRO!$E$50,0))","v":277308},99,0,0,3,null,{"$f":"IF(INTRO!$E$40=\"Endémique\", IF($I61>0, IF($I61=4,\"Inconnu\",IF($I61=99,\"Interrompu\", $D61)), 0),\"Non requis\")","v":0},{"$f":"IF(INTRO!$E$42=\"Endémique\", IF($J61>1, IF($J61=4, \"Inconnu\", IF($J61=99, \"Surveillance\", E61)), 0),\"Non requis\")","v":"Non requis"},{"$f":"IF(INTRO!$E$42=\"Endémique\", IF($J61>1, IF($J61=4, \"Inconnu\", IF($J61=99, \"Surveillance\", F61)), 0),\"Non requis\")","v":"Non requis"},{"$f":"IF(INTRO!$E$42=\"Endémique\", IF($J61>1, IF($J61=4, \"Inconnu\", IF($J61=99, \"Surveillance\", ROUND(D61*INTRO!$E$51,0))), 0),\"Non requis\")","v":"Non requis"},{"$f":"IF(INTRO!$E$42=\"Endémique\", IF($J61>1, IF($J61=4, \"Inconnu\", IF($J61=99, \"Surveillance\", SUM($N61:$P61))), 0),\"Non requis\")","v":"Non requis"},43593,117421,212187,373201,0,0,0,1,null,"T2 (PZQ)",null,null,null,null,null,null,30017,"San",null,{"$f":"'MDA3'!O61","v":0},{"$f":"'T2'!S61","v":92854},null,null,{"$f":"_xlfn.XLOOKUP($AH61,[1]D_Projections!$F$5:$F$79,[1]D_Projections!G$5:G$79)","v":3},{"$f":"_xlfn.XLOOKUP($AH61,[1]D_Projections!$F$5:$F$79,[1]D_Projections!H$5:H$79)","v":45016},{"$f":"_xlfn.XLOOKUP($AH61,[1]D_Projections!$F$5:$F$79,[1]D_Projections!I$5:I$79)","v":121253},{"$f":"_xlfn.XLOOKUP($AH61,[1]D_Projections!$F$5:$F$79,[1]D_Projections!J$5:J$79)","v":219111},null,43593,117421,212187]
[{"$f":"IF(INTRO!$E$34<>0,INTRO!$E$34,\"\")","v":"Mali"},"Segou","Segou",822548.29529599997,{"$f":"IF(INTRO!$E$48=\"\",\"\",ROUND($D62*INTRO!$E$48,0))","v":123382},{"$f":"IF(INTRO!$E$49=\"\",\"\",ROUND($D62*INTRO!$E$49,0))","v":234426},{"$f":"IF(INTRO!$E$50=\"\",\"\",ROUND($D62*INTRO!$E$50,0))","v":423612},99,0,0,31,null,{"$f":"IF(INTRO!$E$40=\"Endémique\", IF($I62>0, IF($I62=4,\"Inconnu\",IF($I62=99,\"Interrompu\", $D62)), 0),\"Non requis\")","v":0},{"$f":"IF(INTRO!$E$42=\"Endémique\", IF($J62>1, IF($J62=4, \"Inconnu\", IF($J62=99, \"Surveillance\", E62)), 0),\"Non requis\")","v":"Non requis"},{"$f":"IF(INTRO!$E$42=\"Endémique\", IF($J62>1, IF($J62=4, \"Inconnu\", IF($J62=99, \"Surveillance\", F62)), 0),\"Non requis\")","v":"Non requis"},{"$f":"IF(INTRO!$E$42=\"Endémique\", IF($J62>1, IF($J62=4, \"Inconnu\", IF($J62=99, \"Surveillance\", ROUND(D62*INTRO!$E$51,0))), 0),\"Non requis\")","v":"Non requis"},{"$f":"IF(INTRO!$E$42=\"Endémique\", IF($J62>1, IF($J62=4, \"Inconnu\", IF($J62=99, \"Surveillance\", SUM($N62:$P62))), 0),\"Non requis\")","v":"Non requis"},84274,227007,410206,721487,0,0,0,1,null,"T2 (PZQ)",null,null,null,null,null,null,30018,"Segou",null,{"$f":"'MDA3'!O62","v":0},{"$f":"'T2'!S62","v":202538},null,null,{"$f":"_xlfn.XLOOKUP($AH62,[1]D_Projections!$F$5:$F$79,[1]D_Projections!G$5:G$79)","v":31},{"$f":"_xlfn.XLOOKUP($AH62,[1]D_Projections!$F$5:$F$79,[1]D_Projections!H$5:H$79)","v":87024},{"$f":"_xlfn.XLOOKUP($AH62,[1]D_Projections!$F$5:$F$79,[1]D_Projections!I$5:I$79)","v":234414},{"$f":"_xlfn.XLOOKUP($AH62,[1]D_Projections!$F$5:$F$79,[1]D_Projections!J$5:J$79)","v":423592},null,84274,227007,410206]
[{"$f":"IF(INTRO!$E$34<>0,INTRO!$E$34,\"\")","v":"Mali"},"Segou","Tominian",353475.01145600004,{"$f":"IF(INTRO!$E$48=\"\",\"\",ROUND($D63*INTRO!$E$48,0))","v":53021},{"$f":"IF(INTRO!$E$49=\"\",\"\",ROUND($D63*INTRO!$E$49,0))","v":100740},{"$f":"IF(INTRO!$E$50=\"\",\"\",ROUND($D63*INTRO!$E$50,0))","v":182040},99,0,0,11,null,{"$f":"IF(INTRO!$E$40=\"Endémique\", IF($I63>0, IF($I63=4,\"Inconnu\",IF($I63=99,\"Interrompu\", $D63)), 0),\"Non requis\")","v":0},{"$f":"IF(INTRO!$E$42=\"Endémique\", IF($J63>1, IF($J63=4, \"Inconnu\", IF($J63=99, \"Surveillance\", E63)), 0),\"Non requis\")","v":"Non requis"},{"$f":"IF(INTRO!$E$42=\"Endémique\", IF($J63>1, IF($J63=4, \"Inconnu\", IF($J63=99, \"Surveillance\", F63)), 0),\"Non requis\")","v":"Non requis"},{"$f":"IF(INTRO!$E$42=\"Endémique\", IF($J63>1, IF($J63=4, \"Inconnu\", IF($J63=99, \"Surveillance\", ROUND(D63*INTRO!$E$51,0))), 0),\"Non requis\")","v":"Non requis"},{"$f":"IF(INTRO!$E$42=\"Endémique\", IF($J63>1, IF($J63=4, \"Inconnu\", IF($J63=99, \"Surveillance\", SUM($N63:$P63))), 0),\"Non requis\")","v":"Non requis"},0,93940,0,93940,0,0,0,1,null,"T2 (PZQ)",null,null,null,null,null,null,30019,"Tominian",null,{"$f":"'MDA3'!O63","v":0},{"$f":"'T2'!S63","v":92300},null,null,{"$f":"_xlfn.XLOOKUP($AH63,[1]D_Projections!$F$5:$F$79,[1]D_Projections!G$5:G$79)","v":11},{"$f":"_xlfn.XLOOKUP($AH63,[1]D_Projections!$F$5:$F$79,[1]D_Projections!H$5:H$79)","v":0},{"$f":"_xlfn.XLOOKUP($AH63,[1]D_Projections!$F$5:$F$79,[1]D_Projections!I$5:I$79)","v":0},{"$f":"_xlfn.XLOOKUP($AH63,[1]D_Projections!$F$5:$F$79,[1]D_Projections!J$5:J$79)","v":0},null,0,0,0]
[{"$f":"IF(INTRO!$E$34<>0,INTRO!$E$34,\"\")","v":"Mali"},"Sikasso","Bougouni",742969.836672,{"$f":"IF(INTRO!$E$48=\"\",\"\",ROUND($D64*INTRO!$E$48,0))","v":111445},{"$f":"IF(INTRO!$E$49=\"\",\"\",ROUND($D64*INTRO!$E$49,0))","v":211746},{"$f":"IF(INTRO!$E$50=\"\",\"\",ROUND($D64*INTRO!$E$50,0))","v":382629},99,99,0,21,null,{"$f":"IF(INTRO!$E$40=\"Endémique\", IF($I64>0, IF($I64=4,\"Inconnu\",IF($I64=99,\"Interrompu\", $D64)), 0),\"Non requis\")","v":"Interrompu"},{"$f":"IF(INTRO!$E$42=\"Endémique\", IF($J64>1, IF($J64=4, \"Inconnu\", IF($J64=99, \"Surveillance\", E64)), 0),\"Non requis\")","v":"Non requis"},{"$f":"IF(INTRO!$E$42=\"Endémique\", IF($J64>1, IF($J64=4, \"Inconnu\", IF($J64=99, \"Surveillance\", F64)), 0),\"Non requis\")","v":"Non requis"},{"$f":"IF(INTRO!$E$42=\"Endémique\", IF($J64>1, IF($J64=4, \"Inconnu\", IF($J64=99, \"Surveillance\", ROUND(D64*INTRO!$E$51,0))), 0),\"Non requis\")","v":"Non requis"},{"$f":"IF(INTRO!$E$42=\"Endémique\", IF($J64>1, IF($J64=4, \"Inconnu\", IF($J64=99, \"Surveillance\", SUM($N64:$P64))), 0),\"Non requis\")","v":"Non requis"},77650,209173,377976,664799,0,0,0,1,null,"T2 (PZQ)",null,null,null,null,null,null,30020,"Bougouni",null,{"$f":"'MDA3'!O64","v":0},{"$f":"'T2'!S64","v":61849},null,null,{"$f":"_xlfn.XLOOKUP($AH64,[1]D_Projections!$F$5:$F$79,[1]D_Projections!G$5:G$79)","v":21},{"$f":"_xlfn.XLOOKUP($AH64,[1]D_Projections!$F$5:$F$79,[1]D_Projections!H$5:H$79)","v":80184},{"$f":"_xlfn.XLOOKUP($AH64,[1]D_Projections!$F$5:$F$79,[1]D_Projections!I$5:I$79)","v":215999},{"$f":"_xlfn.XLOOKUP($AH64,[1]D_Projections!$F$5:$F$79,[1]D_Projections!J$5:J$79)","v":390310},null,77650,209173,377976]
[{"$f":"IF(INTRO!$E$34<>0,INTRO!$E$34,\"\")","v":"Mali"},"Sikasso","Kadiolo",387587.578224,{"$f":"IF(INTRO!$E$48=\"\",\"\",ROUND($D65*INTRO!$E$48,0))","v":58138},{"$f":"IF(INTRO!$E$49=\"\",\"\",ROUND($D65*INTRO!$E$49,0))","v":110462},{"$f":"IF(INTRO!$E$50=\"\",\"\",ROUND($D65*INTRO!$E$50,0))","v":199608},99,0,0,11,null,{"$f":"IF(INTRO!$E$40=\"Endémique\", IF($I65>0, IF($I65=4,\"Inconnu\",IF($I65=99,\"Interrompu\", $D65)), 0),\"Non requis\")","v":0},{"$f":"IF(INTRO!$E$42=\"Endémique\", IF($J65>1, IF($J65=4, \"Inconnu\", IF($J65=99, \"Surveillance\", E65)), 0),\"Non requis\")","v":"Non requis"},{"$f":"IF(INTRO!$E$42=\"Endémique\", IF($J65>1, IF($J65=4, \"Inconnu\", IF($J65=99, \"Surveillance\", F65)), 0),\"Non requis\")","v":"Non requis"},{"$f":"IF(INTRO!$E$42=\"Endémique\", IF($J65>1, IF($J65=4, \"Inconnu\", IF($J65=99, \"Surveillance\", ROUND(D65*INTRO!$E$51,0))), 0),\"Non requis\")","v":"Non requis"},{"$f":"IF(INTRO!$E$42=\"Endémique\", IF($J65>1, IF($J65=4, \"Inconnu\", IF($J65=99, \"Surveillance\", SUM($N65:$P65))), 0),\"Non requis\")","v":"Non requis"},14607,39349,71106,125062,0,0,0,0,null,null,null,null,null,null,null,null,30021,"Kadiolo",null,{"$f":"'MDA3'!O65","v":0},{"$f":"'T2'!S65","v":0},null,null,{"$f":"_xlfn.XLOOKUP($AH65,[1]D_Projections!$F$5:$F$79,[1]D_Projections!G$5:G$79)","v":11},{"$f":"_xlfn.XLOOKUP($AH65,[1]D_Projections!$F$5:$F$79,[1]D_Projections!H$5:H$79)","v":15084},{"$f":"_xlfn.XLOOKUP($AH65,[1]D_Projections!$F$5:$F$79,[1]D_Projections!I$5:I$79)","v":40633},{"$f":"_xlfn.XLOOKUP($AH65,[1]D_Projections!$F$5:$F$79,[1]D_Projections!J$5:J$79)","v":73426},null,14607,39349,71106]
[{"$f":"IF(INTRO!$E$34<>0,INTRO!$E$34,\"\")","v":"Mali"},"Sikasso","Kignan",187686.19822399999,{"$f":"IF(INTRO!$E$48=\"\",\"\",ROUND($D66*INTRO!$E$48,0))","v":28153},{"$f":"IF(INTRO!$E$49=\"\",\"\",ROUND($D66*INTRO!$E$49,0))","v":53491},{"$f":"IF(INTRO!$E$50=\"\",\"\",ROUND($D66*INTRO!$E$50,0))","v":96658},99,1,0,1,null,{"$f":"IF(INTRO!$E$40=\"Endémique\", IF($I66>0, IF($I66=4,\"Inconnu\",IF($I66=99,\"Interrompu\", $D66)), 0),\"Non requis\")","v":187686.19822399999},{"$f":"IF(INTRO!$E$42=\"Endémique\", IF($J66>1, IF($J66=4, \"Inconnu\", IF($J66=99, \"Surveillance\", E66)), 0),\"Non requis\")","v":"Non requis"},{"$f":"IF(INTRO!$E$42=\"Endémique\", IF($J66>1, IF($J66=4, \"Inconnu\", IF($J66=99, \"Surveillance\", F66)), 0),\"Non requis\")","v":"Non requis"},{"$f":"IF(INTRO!$E$42=\"Endémique\", IF($J66>1, IF($J66=4, \"Inconnu\", IF($J66=99, \"Surveillance\", ROUND(D66*INTRO!$E$51,0))), 0),\"Non requis\")","v":"Non requis"},{"$f":"IF(INTRO!$E$42=\"Endémique\", IF($J66>1, IF($J66=4, \"Inconnu\", IF($J66=99, \"Surveillance\", SUM($N66:$P66))), 0),\"Non requis\")","v":"Non requis"},3743,10081,18216,32040,0,1,0,0,"MDA3 (IVM)",null,null,null,null,null,null,null,30022,"Kignan",null,{"$f":"'MDA3'!O66","v":60401},{"$f":"'T2'!S66","v":0},null,null,{"$f":"_xlfn.XLOOKUP($AH66,[1]D_Projections!$F$5:$F$79,[1]D_Projections!G$5:G$79)","v":1},{"$f":"_xlfn.XLOOKUP($AH66,[1]D_Projections!$F$5:$F$79,[1]D_Projections!H$5:H$79)","v":3865},{"$f":"_xlfn.XLOOKUP($AH66,[1]D_Projections!$F$5:$F$79,[1]D_Projections!I$5:I$79)","v":10410},{"$f":"_xlfn.XLOOKUP($AH66,[1]D_Projections!$F$5:$F$79,[1]D_Projections!J$5:J$79)","v":18810},null,3743,10081,18216]
[{"$f":"IF(INTRO!$E$34<>0,INTRO!$E$34,\"\")","v":"Mali"},"Sikasso","Kolondieba",327608.57785599999,{"$f":"IF(INTRO!$E$48=\"\",\"\",ROUND($D67*INTRO!$E$48,0))","v":49141},{"$f":"IF(INTRO!$E$49=\"\",\"\",ROUND($D67*INTRO!$E$49,0))","v":93368},{"$f":"IF(INTRO!$E$50=\"\",\"\",ROUND($D67*INTRO!$E$50,0))","v":168718},99,1,1,11,null,{"$f":"IF(INTRO!$E$40=\"Endémique\", IF($I67>0, IF($I67=4,\"Inconnu\",IF($I67=99,\"Interrompu\", $D67)), 0),\"Non requis\")","v":327608.57785599999},{"$f":"IF(INTRO!$E$42=\"Endémique\", IF($J67>1, IF($J67=4, \"Inconnu\", IF($J67=99, \"Surveillance\", E67)), 0),\"Non requis\")","v":"Non requis"},{"$f":"IF(INTRO!$E$42=\"Endémique\", IF($J67>1, IF($J67=4, \"Inconnu\", IF($J67=99, \"Surveillance\", F67)), 0),\"Non requis\")","v":"Non requis"},{"$f":"IF(INTRO!$E$42=\"Endémique\", IF($J67>1, IF($J67=4, \"Inconnu\", IF($J67=99, \"Surveillance\", ROUND(D67*INTRO!$E$51,0))), 0),\"Non requis\")","v":"Non requis"},{"$f":"IF(INTRO!$E$42=\"Endémique\", IF($J67>1, IF($J67=4, \"Inconnu\", IF($J67=99, \"Surveillance\", SUM($N67:$P67))), 0),\"Non requis\")","v":"Non requis"},15350,41354,74725,131429,0,1,0,1,"MDA3 (IVM)","T2 (PZQ)",null,null,null,null,null,null,30023,"Kolondieba",null,{"$f":"'MDA3'!O67","v":79290},{"$f":"'T2'!S67","v":20782},null,null,{"$f":"_xlfn.XLOOKUP($AH67,[1]D_Projections!$F$5:$F$79,[1]D_Projections!G$5:G$79)","v":11},{"$f":"_xlfn.XLOOKUP($AH67,[1]D_Projections!$F$5:$F$79,[1]D_Projections!H$5:H$79)","v":15851},{"$f":"_xlfn.XLOOKUP($AH67,[1]D_Projections!$F$5:$F$79,[1]D_Projections!I$5:I$79)","v":42703},{"$f":"_xlfn.XLOOKUP($AH67,[1]D_Projections!$F$5:$F$79,[1]D_Projections!J$5:J$79)","v":77163},null,15350,41354,74725]
[{"$f":"IF(INTRO!$E$34<>0,INTRO!$E$34,\"\")","v":"Mali"},"Sikasso","Koutiala",930114.02041600004,{"$f":"IF(INTRO!$E$48=\"\",\"\",ROUND($D68*INTRO!$E$48,0))","v":139517},{"$f":"IF(INTRO!$E$49=\"\",\"\",ROUND($D68*INTRO!$E$49,0))","v":265082},{"$f":"IF(INTRO!$E$50=\"\",\"\",ROUND($D68*INTRO!$E$50,0))","v":479009},99,0,0,1,null,{"$f":"IF(INTRO!$E$40=\"Endémique\", IF($I68>0, IF($I68=4,\"Inconnu\",IF($I68=99,\"Interrompu\", $D68)), 0),\"Non requis\")","v":0},{"$f":"IF(INTRO!$E$42=\"Endémique\", IF($J68>1, IF($J68=4, \"Inconnu\", IF($J68=99, \"Surveillance\", E68)), 0),\"Non requis\")","v":"Non requis"},{"$f":"IF(INTRO!$E$42=\"Endémique\", IF($J68>1, IF($J68=4, \"Inconnu\", IF($J68=99, \"Surveillance\", F68)), 0),\"Non requis\")","v":"Non requis"},{"$f":"IF(INTRO!$E$42=\"Endémique\", IF($J68>1, IF($J68=4, \"Inconnu\", IF($J68=99, \"Surveillance\", ROUND(D68*INTRO!$E$51,0))), 0),\"Non requis\")","v":"Non requis"},{"$f":"IF(INTRO!$E$42=\"Endémique\", IF($J68>1, IF($J68=4, \"Inconnu\", IF($J68=99, \"Surveillance\", SUM($N68:$P68))), 0),\"Non requis\")","v":"Non requis"},32408,87302,157759,277469,0,0,0,0,null,null,null,null,null,null,null,null,30024,"Koutiala",null,{"$f":"'MDA3'!O68","v":0},{"$f":"'T2'!S68","v":0},null,null,{"$f":"_xlfn.XLOOKUP($AH68,[1]D_Projections!$F$5:$F$79,[1]D_Projections!G$5:G$79)","v":1},{"$f":"_xlfn.XLOOKUP($AH68,[1]D_Projections!$F$5:$F$79,[1]D_Projections!H$5:H$79)","v":33465},{"$f":"_xlfn.XLOOKUP($AH68,[1]D_Projections!$F$5:$F$79,[1]D_Projections!I$5:I$79)","v":90151},{"$f":"_xlfn.XLOOKUP($AH68,[1]D_Projections!$F$5:$F$79,[1]D_Projections!J$5:J$79)","v":162907},null,32408,87302,157759]
[{"$f":"IF(INTRO!$E$34<>0,INTRO!$E$34,\"\")","v":"Mali"},"Sikasso","Niena",197068.95185599997,{"$f":"IF(INTRO!$E$48=\"\",\"\",ROUND($D69*INTRO!$E$48,0))","v":29560},{"$f":"IF(INTRO!$E$49=\"\",\"\",ROUND($D69*INTRO!$E$49,0))","v":56165},{"$f":"IF(INTRO!$E$50=\"\",\"\",ROUND($D69*INTRO!$E$50,0))","v":101491},99,1,0,21,null,{"$f":"IF(INTRO!$E$40=\"Endémique\", IF($I69>0, IF($I69=4,\"Inconnu\",IF($I69=99,\"Interrompu\", $D69)), 0),\"Non requis\")","v":197068.95185599997},{"$f":"IF(INTRO!$E$42=\"Endémique\", IF($J69>1, IF($J69=4, \"Inconnu\", IF($J69=99, \"Surveillance\", E69)), 0),\"Non requis\")","v":"Non requis"},{"$f":"IF(INTRO!$E$42=\"Endémique\", IF($J69>1, IF($J69=4, \"Inconnu\", IF($J69=99, \"Surveillance\", F69)), 0),\"Non requis\")","v":"Non requis"},{"$f":"IF(INTRO!$E$42=\"Endémique\", IF($J69>1, IF($J69=4, \"Inconnu\", IF($J69=99, \"Surveillance\", ROUND(D69*INTRO!$E$51,0))), 0),\"Non requis\")","v":"Non requis"},{"$f":"IF(INTRO!$E$42=\"Endémique\", IF($J69>1, IF($J69=4, \"Inconnu\", IF($J69=99, \"Surveillance\", SUM($N69:$P69))), 0),\"Non requis\")","v":"Non requis"},3751,10103,18256,32110,0,1,0,1,"MDA3 (IVM)","T2 (PZQ)",null,null,null,null,null,null,30025,"Niena",null,{"$f":"'MDA3'!O69","v":49688},{"$f":"'T2'!S69","v":5534},null,null,{"$f":"_xlfn.XLOOKUP($AH69,[1]D_Projections!$F$5:$F$79,[1]D_Projections!G$5:G$79)","v":21},{"$f":"_xlfn.XLOOKUP($AH69,[1]D_Projections!$F$5:$F$79,[1]D_Projections!H$5:H$79)","v":3873},{"$f":"_xlfn.XLOOKUP($AH69,[1]D_Projections!$F$5:$F$79,[1]D_Projections!I$5:I$79)","v":10433},{"$f":"_xlfn.XLOOKUP($AH69,[1]D_Projections!$F$5:$F$79,[1]D_Projections!J$5:J$79)","v":18852},null,3751,10103,18256]
[{"$f":"IF(INTRO!$E$34<>0,INTRO!$E$34,\"\")","v":"Mali"},"Sikasso","Sélingué",133572.760496,{"$f":"IF(INTRO!$E$48=\"\",\"\",ROUND($D70*INTRO!$E$48,0))","v":20036},{"$f":"IF(INTRO!$E$49=\"\",\"\",ROUND($D70*INTRO!$E$49,0))","v":38068},{"$f":"IF(INTRO!$E$50=\"\",\"\",ROUND($D70*INTRO!$E$50,0))","v":68790},99,1,0,2,null,{"$f":"IF(INTRO!$E$40=\"Endémique\", IF($I70>0, IF($I70=4,\"Inconnu\",IF($I70=99,\"Interrompu\", $D70)), 0),\"Non requis\")","v":133572.760496},{"$f":"IF(INTRO!$E$42=\"Endémique\", IF($J70>1, IF($J70=4, \"Inconnu\", IF($J70=99, \"Surveillance\", E70)), 0),\"Non requis\")","v":"Non requis"},{"$f":"IF(INTRO!$E$42=\"Endémique\", IF($J70>1, IF($J70=4, \"Inconnu\", IF($J70=99, \"Surveillance\", F70)), 0),\"Non requis\")","v":"Non requis"},{"$f":"IF(INTRO!$E$42=\"Endémique\", IF($J70>1, IF($J70=4, \"Inconnu\", IF($J70=99, \"Surveillance\", ROUND(D70*INTRO!$E$51,0))), 0),\"Non requis\")","v":"Non requis"},{"$f":"IF(INTRO!$E$42=\"Endémique\", IF($J70>1, IF($J70=4, \"Inconnu\", IF($J70=99, \"Surveillance\", SUM($N70:$P70))), 0),\"Non requis\")","v":"Non requis"},1106,2979,5382,9467,0,1,0,1,"MDA3 (IVM)","T2 (PZQ)",null,null,null,null,null,null,30027,"Sélingué",null,{"$f":"'MDA3'!O70","v":45377},{"$f":"'T2'!S70","v":18320},null,null,{"$f":"_xlfn.XLOOKUP($AH70,[1]D_Projections!$F$5:$F$79,[1]D_Projections!G$5:G$79)","v":2},{"$f":"_xlfn.XLOOKUP($AH70,[1]D_Projections!$F$5:$F$79,[1]D_Projections!H$5:H$79)","v":1142},{"$f":"_xlfn.XLOOKUP($AH70,[1]D_Projections!$F$5:$F$79,[1]D_Projections!I$5:I$79)","v":3076},{"$f":"_xlfn.XLOOKUP($AH70,[1]D_Projections!$F$5:$F$79,[1]D_Projections!J$5:J$79)","v":5558},null,1106,2979,5382]
[{"$f":"IF(INTRO!$E$34<>0,INTRO!$E$34,\"\")","v":"Mali"},"Sikasso","Sikasso",788280.10060800007,{"$f":"IF(INTRO!$E$48=\"\",\"\",ROUND($D71*INTRO!$E$48,0))","v":118242},{"$f":"IF(INTRO!$E$49=\"\",\"\",ROUND($D71*INTRO!$E$49,0))","v":224660},{"$f":"IF(INTRO!$E$50=\"\",\"\",ROUND($D71*INTRO!$E$50,0))","v":405964},99,1,0,11,null,{"$f":"IF(INTRO!$E$40=\"Endémique\", IF($I71>0, IF($I71=4,\"Inconnu\",IF($I71=99,\"Interrompu\", $D71)), 0),\"Non requis\")","v":788280.10060800007},{"$f":"IF(INTRO!$E$42=\"Endémique\", IF($J71>1, IF($J71=4, \"Inconnu\", IF($J71=99, \"Surveillance\", E71)), 0),\"Non requis\")","v":"Non requis"},{"$f":"IF(INTRO!$E$42=\"Endémique\", IF($J71>1, IF($J71=4, \"Inconnu\", IF($J71=99, \"Surveillance\", F71)), 0),\"Non requis\")","v":"Non requis"},{"$f":"IF(INTRO!$E$42=\"Endémique\", IF($J71>1, IF($J71=4, \"Inconnu\", IF($J71=99, \"Surveillance\", ROUND(D71*INTRO!$E$51,0))), 0),\"Non requis\")","v":"Non requis"},{"$f":"IF(INTRO!$E$42=\"Endémique\", IF($J71>1, IF($J71=4, \"Inconnu\", IF($J71=99, \"Surveillance\", SUM($N71:$P71))), 0),\"Non requis\")","v":"Non requis"},79892,215212,388882,683986,0,1,0,1,"MDA3 (IVM)","T2 (PZQ)",null,null,null,null,null,null,30026,"Sikasso",null,{"$f":"'MDA3'!O71","v":232943},{"$f":"'T2'!S71","v":194033},null,null,{"$f":"_xlfn.XLOOKUP($AH71,[1]D_Projections!$F$5:$F$79,[1]D_Projections!G$5:G$79)","v":11},{"$f":"_xlfn.XLOOKUP($AH71,[1]D_Projections!$F$5:$F$79,[1]D_Projections!H$5:H$79)","v":82499},{"$f":"_xlfn.XLOOKUP($AH71,[1]D_Projections!$F$5:$F$79,[1]D_Projections!I$5:I$79)","v":222235},{"$f":"_xlfn.XLOOKUP($AH71,[1]D_Projections!$F$5:$F$79,[1]D_Projections!J$5:J$79)","v":401572},null,79892,215212,388882]
[{"$f":"IF(INTRO!$E$34<>0,INTRO!$E$34,\"\")","v":"Mali"},"Sikasso","Yanfolila",208921.35958399999,{"$f":"IF(INTRO!$E$48=\"\",\"\",ROUND($D72*INTRO!$E$48,0))","v":31338},{"$f":"IF(INTRO!$E$49=\"\",\"\",ROUND($D72*INTRO!$E$49,0))","v":59543},{"$f":"IF(INTRO!$E$50=\"\",\"\",ROUND($D72*INTRO!$E$50,0))","v":107595},99,99,0,1,null,{"$f":"IF(INTRO!$E$40=\"Endémique\", IF($I72>0, IF($I72=4,\"Inconnu\",IF($I72=99,\"Interrompu\", $D72)), 0),\"Non requis\")","v":"Interrompu"},{"$f":"IF(INTRO!$E$42=\"Endémique\", IF($J72>1, IF($J72=4, \"Inconnu\", IF($J72=99, \"Surveillance\", E72)), 0),\"Non requis\")","v":"Non requis"},{"$f":"IF(INTRO!$E$42=\"Endémique\", IF($J72>1, IF($J72=4, \"Inconnu\", IF($J72=99, \"Surveillance\", F72)), 0),\"Non requis\")","v":"Non requis"},{"$f":"IF(INTRO!$E$42=\"Endémique\", IF($J72>1, IF($J72=4, \"Inconnu\", IF($J72=99, \"Surveillance\", ROUND(D72*INTRO!$E$51,0))), 0),\"Non requis\")","v":"Non requis"},{"$f":"IF(INTRO!$E$42=\"Endémique\", IF($J72>1, IF($J72=4, \"Inconnu\", IF($J72=99, \"Surveillance\", SUM($N72:$P72))), 0),\"Non requis\")","v":"Non requis"},0,0,0,0,0,0,0,1,null,"T2 (PZQ)",null,null,null,null,null,null,30028,"Yanfolila",null,{"$f":"'MDA3'!O72","v":0},{"$f":"'T2'!S72","v":1803},null,null,{"$f":"_xlfn.XLOOKUP($AH72,[1]D_Projections!$F$5:$F$79,[1]D_Projections!G$5:G$79)","v":1},{"$f":"_xlfn.XLOOKUP($AH72,[1]D_Projections!$F$5:$F$79,[1]D_Projections!H$5:H$79)","v":0},{"$f":"_xlfn.XLOOKUP($AH72,[1]D_Projections!$F$5:$F$79,[1]D_Projections!I$5:I$79)","v":0},{"$f":"_xlfn.XLOOKUP($AH72,[1]D_Projections!$F$5:$F$79,[1]D_Projections!J$5:J$79)","v":0},null,0,0,0]
[{"$f":"IF(INTRO!$E$34<>0,INTRO!$E$34,\"\")","v":"Mali"},"Sikasso","Yorosso",341983.23118399997,{"$f":"IF(INTRO!$E$48=\"\",\"\",ROUND($D73*INTRO!$E$48,0))","v":51297},{"$f":"IF(INTRO!$E$49=\"\",\"\",ROUND($D73*INTRO!$E$49,0))","v":97465},{"$f":"IF(INTRO!$E$50=\"\",\"\",ROUND($D73*INTRO!$E$50,0))","v":176121},99,0,0,2,null,{"$f":"IF(INTRO!$E$40=\"Endémique\", IF($I73>0, IF($I73=4,\"Inconnu\",IF($I73=99,\"Interrompu\", $D73)), 0),\"Non requis\")","v":0},{"$f":"IF(INTRO!$E$42=\"Endémique\", IF($J73>1, IF($J73=4, \"Inconnu\", IF($J73=99, \"Surveillance\", E73)), 0),\"Non requis\")","v":"Non requis"},{"$f":"IF(INTRO!$E$42=\"Endémique\", IF($J73>1, IF($J73=4, \"Inconnu\", IF($J73=99, \"Surveillance\", F73)), 0),\"Non requis\")","v":"Non requis"},{"$f":"IF(INTRO!$E$42=\"Endémique\", IF($J73>1, IF($J73=4, \"Inconnu\", IF($J73=99, \"Surveillance\", ROUND(D73*INTRO!$E$51,0))), 0),\"Non requis\")","v":"Non requis"},{"$f":"IF(INTRO!$E$42=\"Endémique\", IF($J73>1, IF($J73=4, \"Inconnu\", IF($J73=99, \"Surveillance\", SUM($N73:$P73))), 0),\"Non requis\")","v":"Non requis"},4771,12853,23222,40846,0,0,0,0,null,null,null,null,null,null,null,null,30029,"Yorosso",null,{"$f":"'MDA3'!O73","v":0},{"$f":"'T2'!S73","v":0},null,null,{"$f":"_xlfn.XLOOKUP($AH73,[1]D_Projections!$F$5:$F$79,[1]D_Projections!G$5:G$79)","v":2},{"$f":"_xlfn.XLOOKUP($AH73,[1]D_Projections!$F$5:$F$79,[1]D_Projections!H$5:H$79)","v":4927},{"$f":"_xlfn.XLOOKUP($AH73,[1]D_Projections!$F$5:$F$79,[1]D_Projections!I$5:I$79)","v":13272},{"$f":"_xlfn.XLOOKUP($AH73,[1]D_Projections!$F$5:$F$79,[1]D_Projections!J$5:J$79)","v":23980},null,4771,12853,23222]
[{"$f":"IF(INTRO!$E$34<>0,INTRO!$E$34,\"\")","v":"Mali"},"Tombouctou","Diré",177075.593968,{"$f":"IF(INTRO!$E$48=\"\",\"\",ROUND($D74*INTRO!$E$48,0))","v":26561},{"$f":"IF(INTRO!$E$49=\"\",\"\",ROUND($D74*INTRO!$E$49,0))","v":50467},{"$f":"IF(INTRO!$E$50=\"\",\"\",ROUND($D74*INTRO!$E$50,0))","v":91194},99,0,0,3,null,{"$f":"IF(INTRO!$E$40=\"Endémique\", IF($I74>0, IF($I74=4,\"Inconnu\",IF($I74=99,\"Interrompu\", $D74)), 0),\"Non requis\")","v":0},{"$f":"IF(INTRO!$E$42=\"Endémique\", IF($J74>1, IF($J74=4, \"Inconnu\", IF($J74=99, \"Surveillance\", E74)), 0),\"Non requis\")","v":"Non requis"},{"$f":"IF(INTRO!$E$42=\"Endémique\", IF($J74>1, IF($J74=4, \"Inconnu\", IF($J74=99, \"Surveillance\", F74)), 0),\"Non requis\")","v":"Non requis"},{"$f":"IF(INTRO!$E$42=\"Endémique\", IF($J74>1, IF($J74=4, \"Inconnu\", IF($J74=99, \"Surveillance\", ROUND(D74*INTRO!$E$51,0))), 0),\"Non requis\")","v":"Non requis"},{"$f":"IF(INTRO!$E$42=\"Endémique\", IF($J74>1, IF($J74=4, \"Inconnu\", IF($J74=99, \"Surveillance\", SUM($N74:$P74))), 0),\"Non requis\")","v":"Non requis"},18807,50660,91545,161012,0,0,0,1,null,"T2 (PZQ)",null,null,null,null,null,null,30030,"Diré",null,{"$f":"'MDA3'!O74","v":0},{"$f":"'T2'!S74","v":3170},null,null,{"$f":"_xlfn.XLOOKUP($AH74,[1]D_Projections!$F$5:$F$79,[1]D_Projections!G$5:G$79)","v":3},{"$f":"_xlfn.XLOOKUP($AH74,[1]D_Projections!$F$5:$F$79,[1]D_Projections!H$5:H$79)","v":19421},{"$f":"_xlfn.XLOOKUP($AH74,[1]D_Projections!$F$5:$F$79,[1]D_Projections!I$5:I$79)","v":52313},{"$f":"_xlfn.XLOOKUP($AH74,[1]D_Projections!$F$5:$F$79,[1]D_Projections!J$5:J$79)","v":94532},null,18807,50660,91545]
[{"$f":"IF(INTRO!$E$34<>0,INTRO!$E$34,\"\")","v":"Mali"},"Tombouctou","Goundam",238833.04580800002,{"$f":"IF(INTRO!$E$48=\"\",\"\",ROUND($D75*INTRO!$E$48,0))","v":35825},{"$f":"IF(INTRO!$E$49=\"\",\"\",ROUND($D75*INTRO!$E$49,0))","v":68067},{"$f":"IF(INTRO!$E$50=\"\",\"\",ROUND($D75*INTRO!$E$50,0))","v":122999},99,0,0,2,null,{"$f":"IF(INTRO!$E$40=\"Endémique\", IF($I75>0, IF($I75=4,\"Inconnu\",IF($I75=99,\"Interrompu\", $D75)), 0),\"Non requis\")","v":0},{"$f":"IF(INTRO!$E$42=\"Endémique\", IF($J75>1, IF($J75=4, \"Inconnu\", IF($J75=99, \"Surveillance\", E75)), 0),\"Non requis\")","v":"Non requis"},{"$f":"IF(INTRO!$E$42=\"Endémique\", IF($J75>1, IF($J75=4, \"Inconnu\", IF($J75=99, \"Surveillance\", F75)), 0),\"Non requis\")","v":"Non requis"},{"$f":"IF(INTRO!$E$42=\"Endémique\", IF($J75>1, IF($J75=4, \"Inconnu\", IF($J75=99, \"Surveillance\", ROUND(D75*INTRO!$E$51,0))), 0),\"Non requis\")","v":"Non requis"},{"$f":"IF(INTRO!$E$42=\"Endémique\", IF($J75>1, IF($J75=4, \"Inconnu\", IF($J75=99, \"Surveillance\", SUM($N75:$P75))), 0),\"Non requis\")","v":"Non requis"},23595,63562,114859,{"$f":"SUM(R75:T75)","v":202016},0,0,0,1,null,"T2 (PZQ)",null,null,null,null,null,null,30031,"Goundam",null,{"$f":"'MDA3'!O75","v":0},{"$f":"'T2'!S75","v":4503},null,null,{"$f":"_xlfn.XLOOKUP($AH75,[1]D_Projections!$F$5:$F$79,[1]D_Projections!G$5:G$79)","v":2},{"$f":"_xlfn.XLOOKUP($AH75,[1]D_Projections!$F$5:$F$79,[1]D_Projections!H$5:H$79)","v":24365},{"$f":"_xlfn.XLOOKUP($AH75,[1]D_Projections!$F$5:$F$79,[1]D_Projections!I$5:I$79)","v":65636},{"$f":"_xlfn.XLOOKUP($AH75,[1]D_Projections!$F$5:$F$79,[1]D_Projections!J$5:J$79)","v":118607},null,{"$f":"ROUND(AP75*(100-$AB$2)/100,0)","v":23595},{"$f":"ROUND(AQ75*(100-$AB$2)/100,0)","v":63562},{"$f":"ROUND(AR75*(100-$AB$2)/100,0)","v":114859}]
[{"$f":"IF(INTRO!$E$34<>0,INTRO!$E$34,\"\")","v":"Mali"},"Tombouctou","Gourma-Rharous",177174.33720000001,{"$f":"IF(INTRO!$E$48=\"\",\"\",ROUND($D76*INTRO!$E$48,0))","v":26576},{"$f":"IF(INTRO!$E$49=\"\",\"\",ROUND($D76*INTRO!$E$49,0))","v":50495},{"$f":"IF(INTRO!$E$50=\"\",\"\",ROUND($D76*INTRO!$E$50,0))","v":91245},99,0,0,31,null,{"$f":"IF(INTRO!$E$40=\"Endémique\", IF($I76>0, IF($I76=4,\"Inconnu\",IF($I76=99,\"Interrompu\", $D76)), 0),\"Non requis\")","v":0},{"$f":"IF(INTRO!$E$42=\"Endémique\", IF($J76>1, IF($J76=4, \"Inconnu\", IF($J76=99, \"Surveillance\", E76)), 0),\"Non requis\")","v":"Non requis"},{"$f":"IF(INTRO!$E$42=\"Endémique\", IF($J76>1, IF($J76=4, \"Inconnu\", IF($J76=99, \"Surveillance\", F76)), 0),\"Non requis\")","v":"Non requis"},{"$f":"IF(INTRO!$E$42=\"Endémique\", IF($J76>1, IF($J76=4, \"Inconnu\", IF($J76=99, \"Surveillance\", ROUND(D76*INTRO!$E$51,0))), 0),\"Non requis\")","v":"Non requis"},{"$f":"IF(INTRO!$E$42=\"Endémique\", IF($J76>1, IF($J76=4, \"Inconnu\", IF($J76=99, \"Surveillance\", SUM($N76:$P76))), 0),\"Non requis\")","v":"Non requis"},17326,46664,84324,148314,0,0,0,1,null,"T2 (PZQ)",null,null,null,null,null,null,30032,"GourmA-Rharous",null,{"$f":"'MDA3'!O76","v":0},{"$f":"'T2'!S76","v":37449},null,null,{"$f":"_xlfn.XLOOKUP($AH76,[1]D_Projections!$F$5:$F$79,[1]D_Projections!G$5:G$79)","v":31},{"$f":"_xlfn.XLOOKUP($AH76,[1]D_Projections!$F$5:$F$79,[1]D_Projections!H$5:H$79)","v":17891},{"$f":"_xlfn.XLOOKUP($AH76,[1]D_Projections!$F$5:$F$79,[1]D_Projections!I$5:I$79)","v":48187},{"$f":"_xlfn.XLOOKUP($AH76,[1]D_Projections!$F$5:$F$79,[1]D_Projections!J$5:J$79)","v":87076},null,17326,46664,84324]
[{"$f":"IF(INTRO!$E$34<>0,INTRO!$E$34,\"\")","v":"Mali"},"Tombouctou","Niafunké",293130.01715199999,{"$f":"IF(INTRO!$E$48=\"\",\"\",ROUND($D77*INTRO!$E$48,0))","v":43970},{"$f":"IF(INTRO!$E$49=\"\",\"\",ROUND($D77*INTRO!$E$49,0))","v":83542},{"$f":"IF(INTRO!$E$50=\"\",\"\",ROUND($D77*INTRO!$E$50,0))","v":150962},99,0,0,3,null,{"$f":"IF(INTRO!$E$40=\"Endémique\", IF($I77>0, IF($I77=4,\"Inconnu\",IF($I77=99,\"Interrompu\", $D77)), 0),\"Non requis\")","v":0},{"$f":"IF(INTRO!$E$42=\"Endémique\", IF($J77>1, IF($J77=4, \"Inconnu\", IF($J77=99, \"Surveillance\", E77)), 0),\"Non requis\")","v":"Non requis"},{"$f":"IF(INTRO!$E$42=\"Endémique\", IF($J77>1, IF($J77=4, \"Inconnu\", IF($J77=99, \"Surveillance\", F77)), 0),\"Non requis\")","v":"Non requis"},{"$f":"IF(INTRO!$E$42=\"Endémique\", IF($J77>1, IF($J77=4, \"Inconnu\", IF($J77=99, \"Surveillance\", ROUND(D77*INTRO!$E$51,0))), 0),\"Non requis\")","v":"Non requis"},{"$f":"IF(INTRO!$E$42=\"Endémique\", IF($J77>1, IF($J77=4, \"Inconnu\", IF($J77=99, \"Surveillance\", SUM($N77:$P77))), 0),\"Non requis\")","v":"Non requis"},29425,79268,143241,251934,0,0,0,1,null,"T2 (PZQ)",null,null,null,null,null,null,30033,"Niafunké",null,{"$f":"'MDA3'!O77","v":0},{"$f":"'T2'!S77","v":14691},null,null,{"$f":"_xlfn.XLOOKUP($AH77,[1]D_Projections!$F$5:$F$79,[1]D_Projections!G$5:G$79)","v":3},{"$f":"_xlfn.XLOOKUP($AH77,[1]D_Projections!$F$5:$F$79,[1]D_Projections!H$5:H$79)","v":30385},{"$f":"_xlfn.XLOOKUP($AH77,[1]D_Projections!$F$5:$F$79,[1]D_Projections!I$5:I$79)","v":81855},{"$f":"_xlfn.XLOOKUP($AH77,[1]D_Projections!$F$5:$F$79,[1]D_Projections!J$5:J$79)","v":147915},null,29425,79268,143241]
[{"$f":"IF(INTRO!$E$34<>0,INTRO!$E$34,\"\")","v":"Mali"},"Tombouctou","Tombouctou",198106.829088,{"$f":"IF(INTRO!$E$48=\"\",\"\",ROUND($D78*INTRO!$E$48,0))","v":29716},{"$f":"IF(INTRO!$E$49=\"\",\"\",ROUND($D78*INTRO!$E$49,0))","v":56460},{"$f":"IF(INTRO!$E$50=\"\",\"\",ROUND($D78*INTRO!$E$50,0))","v":102025},99,0,0,2,null,{"$f":"IF(INTRO!$E$40=\"Endémique\", IF($I78>0, IF($I78=4,\"Inconnu\",IF($I78=99,\"Interrompu\", $D78)), 0),\"Non requis\")","v":0},{"$f":"IF(INTRO!$E$42=\"Endémique\", IF($J78>1, IF($J78=4, \"Inconnu\", IF($J78=99, \"Surveillance\", E78)), 0),\"Non requis\")","v":"Non requis"},{"$f":"IF(INTRO!$E$42=\"Endémique\", IF($J78>1, IF($J78=4, \"Inconnu\", IF($J78=99, \"Surveillance\", F78)), 0),\"Non requis\")","v":"Non requis"},{"$f":"IF(INTRO!$E$42=\"Endémique\", IF($J78>1, IF($J78=4, \"Inconnu\", IF($J78=99, \"Surveillance\", ROUND(D78*INTRO!$E$51,0))), 0),\"Non requis\")","v":"Non requis"},{"$f":"IF(INTRO!$E$42=\"Endémique\", IF($J78>1, IF($J78=4, \"Inconnu\", IF($J78=99, \"Surveillance\", SUM($N78:$P78))), 0),\"Non requis\")","v":"Non requis"},21038,56676,102418,180132,0,0,0,1,null,"T2 (PZQ)",null,null,null,null,null,null,30034,"Tombouctou",null,{"$f":"'MDA3'!O78","v":0},{"$f":"'T2'!S78","v":3738},null,null,{"$f":"_xlfn.XLOOKUP($AH78,[1]D_Projections!$F$5:$F$79,[1]D_Projections!G$5:G$79)","v":2},{"$f":"_xlfn.XLOOKUP($AH78,[1]D_Projections!$F$5:$F$79,[1]D_Projections!H$5:H$79)","v":21725},{"$f":"_xlfn.XLOOKUP($AH78,[1]D_Projections!$F$5:$F$79,[1]D_Projections!I$5:I$79)","v":58525},{"$f":"_xlfn.XLOOKUP($AH78,[1]D_Projections!$F$5:$F$79,[1]D_Projections!J$5:J$79)","v":105760},null,21038,56676,102418]
[{"$f":"IF(INTRO!$E$34<>0,INTRO!$E$34,\"\")","v":"Mali"},"Taoudenit","Achourat",36720.676048000001,{"$f":"IF(INTRO!$E$48=\"\",\"\",ROUND($D79*INTRO!$E$48,0))","v":5508},{"$f":"IF(INTRO!$E$49=\"\",\"\",ROUND($D79*INTRO!$E$49,0))","v":10465},{"$f":"IF(INTRO!$E$50=\"\",\"\",ROUND($D79*INTRO!$E$50,0))","v":18911},99,0,0,1,null,{"$f":"IF(INTRO!$E$40=\"Endémique\", IF($I79>0, IF($I79=4,\"Inconnu\",IF($I79=99,\"Interrompu\", $D79)), 0),\"Non requis\")","v":0},{"$f":"IF(INTRO!$E$42=\"Endémique\", IF($J79>1, IF($J79=4, \"Inconnu\", IF($J79=99, \"Surveillance\", E79)), 0),\"Non requis\")","v":"Non requis"},{"$f":"IF(INTRO!$E$42=\"Endémique\", IF($J79>1, IF($J79=4, \"Inconnu\", IF($J79=99, \"Surveillance\", F79)), 0),\"Non requis\")","v":"Non requis"},{"$f":"IF(INTRO!$E$42=\"Endémique\", IF($J79>1, IF($J79=4, \"Inconnu\", IF($J79=99, \"Surveillance\", ROUND(D79*INTRO!$E$51,0))), 0),\"Non requis\")","v":"Non requis"},{"$f":"IF(INTRO!$E$42=\"Endémique\", IF($J79>1, IF($J79=4, \"Inconnu\", IF($J79=99, \"Surveillance\", SUM($N79:$P79))), 0),\"Non requis\")","v":"Non requis"},0,0,0,0,0,0,0,0,null,null,null,null,null,null,null,null,30041,"Achourat",null,{"$f":"'MDA3'!O79","v":0},{"$f":"'T2'!S79","v":0},null,null,{"$f":"_xlfn.XLOOKUP($AH79,[1]D_Projections!$F$5:$F$79,[1]D_Projections!G$5:G$79)","v":1},{"$f":"_xlfn.XLOOKUP($AH79,[1]D_Projections!$F$5:$F$79,[1]D_Projections!H$5:H$79)","v":0},{"$f":"_xlfn.XLOOKUP($AH79,[1]D_Projections!$F$5:$F$79,[1]D_Projections!I$5:I$79)","v":0},{"$f":"_xlfn.XLOOKUP($AH79,[1]D_Projections!$F$5:$F$79,[1]D_Projections!J$5:J$79)","v":0},null,0,0,0]
[{"$f":"IF(INTRO!$E$34<>0,INTRO!$E$34,\"\")","v":"Mali"},"Taoudenit","Al-Ourch",60718.501311999993,{"$f":"IF(INTRO!$E$48=\"\",\"\",ROUND($D80*INTRO!$E$48,0))","v":9108},{"$f":"IF(INTRO!$E$49=\"\",\"\",ROUND($D80*INTRO!$E$49,0))","v":17305},{"$f":"IF(INTRO!$E$50=\"\",\"\",ROUND($D80*INTRO!$E$50,0))","v":31270},99,0,0,1,null,{"$f":"IF(INTRO!$E$40=\"Endémique\", IF($I80>0, IF($I80=4,\"Inconnu\",IF($I80=99,\"Interrompu\", $D80)), 0),\"Non requis\")","v":0},{"$f":"IF(INTRO!$E$42=\"Endémique\", IF($J80>1, IF($J80=4, \"Inconnu\", IF($J80=99, \"Surveillance\", E80)), 0),\"Non requis\")","v":"Non requis"},{"$f":"IF(INTRO!$E$42=\"Endémique\", IF($J80>1, IF($J80=4, \"Inconnu\", IF($J80=99, \"Surveillance\", F80)), 0),\"Non requis\")","v":"Non requis"},{"$f":"IF(INTRO!$E$42=\"Endémique\", IF($J80>1, IF($J80=4, \"Inconnu\", IF($J80=99, \"Surveillance\", ROUND(D80*INTRO!$E$51,0))), 0),\"Non requis\")","v":"Non requis"},{"$f":"IF(INTRO!$E$42=\"Endémique\", IF($J80>1, IF($J80=4, \"Inconnu\", IF($J80=99, \"Surveillance\", SUM($N80:$P80))), 0),\"Non requis\")","v":"Non requis"},0,0,0,0,0,0,0,0,null,null,null,null,null,null,null,null,30042,"AL-Ourch",null,{"$f":"'MDA3'!O80","v":0},{"$f":"'T2'!S80","v":0},null,null,{"$f":"_xlfn.XLOOKUP($AH80,[1]D_Projections!$F$5:$F$79,[1]D_Projections!G$5:G$79)","v":1},{"$f":"_xlfn.XLOOKUP($AH80,[1]D_Projections!$F$5:$F$79,[1]D_Projections!H$5:H$79)","v":0},{"$f":"_xlfn.XLOOKUP($AH80,[1]D_Projections!$F$5:$F$79,[1]D_Projections!I$5:I$79)","v":0},{"$f":"_xlfn.XLOOKUP($AH80,[1]D_Projections!$F$5:$F$79,[1]D_Projections!J$5:J$79)","v":0},null,0,0,0]
[{"$f":"IF(INTRO!$E$34<>0,INTRO!$E$34,\"\")","v":"Mali"},"Taoudenit","Araouane",33758.379088000002,{"$f":"IF(INTRO!$E$48=\"\",\"\",ROUND($D81*INTRO!$E$48,0))","v":5064},{"$f":"IF(INTRO!$E$49=\"\",\"\",ROUND($D81*INTRO!$E$49,0))","v":9621},{"$f":"IF(INTRO!$E$50=\"\",\"\",ROUND($D81*INTRO!$E$50,0))","v":17386},99,0,0,1,null,{"$f":"IF(INTRO!$E$40=\"Endémique\", IF($I81>0, IF($I81=4,\"Inconnu\",IF($I81=99,\"Interrompu\", $D81)), 0),\"Non requis\")","v":0},{"$f":"IF(INTRO!$E$42=\"Endémique\", IF($J81>1, IF($J81=4, \"Inconnu\", IF($J81=99, \"Surveillance\", E81)), 0),\"Non requis\")","v":"Non requis"},{"$f":"IF(INTRO!$E$42=\"Endémique\", IF($J81>1, IF($J81=4, \"Inconnu\", IF($J81=99, \"Surveillance\", F81)), 0),\"Non requis\")","v":"Non requis"},{"$f":"IF(INTRO!$E$42=\"Endémique\", IF($J81>1, IF($J81=4, \"Inconnu\", IF($J81=99, \"Surveillance\", ROUND(D81*INTRO!$E$51,0))), 0),\"Non requis\")","v":"Non requis"},{"$f":"IF(INTRO!$E$42=\"Endémique\", IF($J81>1, IF($J81=4, \"Inconnu\", IF($J81=99, \"Surveillance\", SUM($N81:$P81))), 0),\"Non requis\")","v":"Non requis"},0,0,0,0,0,0,0,0,null,null,null,null,null,null,null,null,30043,"Araouane",null,{"$f":"'MDA3'!O81","v":0},{"$f":"'T2'!S81","v":0},null,null,{"$f":"_xlfn.XLOOKUP($AH81,[1]D_Projections!$F$5:$F$79,[1]D_Projections!G$5:G$79)","v":1},{"$f":"_xlfn.XLOOKUP($AH81,[1]D_Projections!$F$5:$F$79,[1]D_Projections!H$5:H$79)","v":0},{"$f":"_xlfn.XLOOKUP($AH81,[1]D_Projections!$F$5:$F$79,[1]D_Projections!I$5:I$79)","v":0},{"$f":"_xlfn.XLOOKUP($AH81,[1]D_Projections!$F$5:$F$79,[1]D_Projections!J$5:J$79)","v":0},null,0,0,0]
[{"$f":"IF(INTRO!$E$34<>0,INTRO!$E$34,\"\")","v":"Mali"},"Taoudenit","Boujbeha",38004.338064000003,{"$f":"IF(INTRO!$E$48=\"\",\"\",ROUND($D82*INTRO!$E$48,0))","v":5701},{"$f":"IF(INTRO!$E$49=\"\",\"\",ROUND($D82*INTRO!$E$49,0))","v":10831},{"$f":"IF(INTRO!$E$50=\"\",\"\",ROUND($D82*INTRO!$E$50,0))","v":19572},99,0,0,1,null,{"$f":"IF(INTRO!$E$40=\"Endémique\", IF($I82>0, IF($I82=4,\"Inconnu\",IF($I82=99,\"Interrompu\", $D82)), 0),\"Non requis\")","v":0},{"$f":"IF(INTRO!$E$42=\"Endémique\", IF($J82>1, IF($J82=4, \"Inconnu\", IF($J82=99, \"Surveillance\", E82)), 0),\"Non requis\")","v":"Non requis"},{"$f":"IF(INTRO!$E$42=\"Endémique\", IF($J82>1, IF($J82=4, \"Inconnu\", IF($J82=99, \"Surveillance\", F82)), 0),\"Non requis\")","v":"Non requis"},{"$f":"IF(INTRO!$E$42=\"Endémique\", IF($J82>1, IF($J82=4, \"Inconnu\", IF($J82=99, \"Surveillance\", ROUND(D82*INTRO!$E$51,0))), 0),\"Non requis\")","v":"Non requis"},{"$f":"IF(INTRO!$E$42=\"Endémique\", IF($J82>1, IF($J82=4, \"Inconnu\", IF($J82=99, \"Surveillance\", SUM($N82:$P82))), 0),\"Non requis\")","v":"Non requis"},0,0,0,0,0,0,0,0,null,null,null,null,null,null,null,null,30044,"Boujbeha",null,{"$f":"'MDA3'!O82","v":0},{"$f":"'T2'!S82","v":0},null,null,{"$f":"_xlfn.XLOOKUP($AH82,[1]D_Projections!$F$5:$F$79,[1]D_Projections!G$5:G$79)","v":1},{"$f":"_xlfn.XLOOKUP($AH82,[1]D_Projections!$F$5:$F$79,[1]D_Projections!H$5:H$79)","v":0},{"$f":"_xlfn.XLOOKUP($AH82,[1]D_Projections!$F$5:$F$79,[1]D_Projections!I$5:I$79)","v":0},{"$f":"_xlfn.XLOOKUP($AH82,[1]D_Projections!$F$5:$F$79,[1]D_Projections!J$5:J$79)","v":0},null,0,0,0]
[{"$f":"IF(INTRO!$E$34<>0,INTRO!$E$34,\"\")","v":"Mali"},"Taoudenit","Foum-Elba",19889.248176000001,{"$f":"IF(INTRO!$E$48=\"\",\"\",ROUND($D83*INTRO!$E$48,0))","v":2983},{"$f":"IF(INTRO!$E$49=\"\",\"\",ROUND($D83*INTRO!$E$49,0))","v":5668},{"$f":"IF(INTRO!$E$50=\"\",\"\",ROUND($D83*INTRO!$E$50,0))","v":10243},99,0,0,1,null,{"$f":"IF(INTRO!$E$40=\"Endémique\", IF($I83>0, IF($I83=4,\"Inconnu\",IF($I83=99,\"Interrompu\", $D83)), 0),\"Non requis\")","v":0},{"$f":"IF(INTRO!$E$42=\"Endémique\", IF($J83>1, IF($J83=4, \"Inconnu\", IF($J83=99, \"Surveillance\", E83)), 0),\"Non requis\")","v":"Non requis"},{"$f":"IF(INTRO!$E$42=\"Endémique\", IF($J83>1, IF($J83=4, \"Inconnu\", IF($J83=99, \"Surveillance\", F83)), 0),\"Non requis\")","v":"Non requis"},{"$f":"IF(INTRO!$E$42=\"Endémique\", IF($J83>1, IF($J83=4, \"Inconnu\", IF($J83=99, \"Surveillance\", ROUND(D83*INTRO!$E$51,0))), 0),\"Non requis\")","v":"Non requis"},{"$f":"IF(INTRO!$E$42=\"Endémique\", IF($J83>1, IF($J83=4, \"Inconnu\", IF($J83=99, \"Surveillance\", SUM($N83:$P83))), 0),\"Non requis\")","v":"Non requis"},0,0,0,0,0,0,0,0,null,null,null,null,null,null,null,null,30045,"FouM-Elba",null,{"$f":"'MDA3'!O83","v":0},{"$f":"'T2'!S83","v":0},null,null,{"$f":"_xlfn.XLOOKUP($AH83,[1]D_Projections!$F$5:$F$79,[1]D_Projections!G$5:G$79)","v":1},{"$f":"_xlfn.XLOOKUP($AH83,[1]D_Projections!$F$5:$F$79,[1]D_Projections!H$5:H$79)","v":0},{"$f":"_xlfn.XLOOKUP($AH83,[1]D_Projections!$F$5:$F$79,[1]D_Projections!I$5:I$79)","v":0},{"$f":"_xlfn.XLOOKUP($AH83,[1]D_Projections!$F$5:$F$79,[1]D_Projections!J$5:J$79)","v":0},null,0,0,0]
[{"$f":"IF(INTRO!$E$34<>0,INTRO!$E$34,\"\")","v":"Mali"},"Taoudenit","Taoudenit",28498.155392000001,{"$f":"IF(INTRO!$E$48=\"\",\"\",ROUND($D84*INTRO!$E$48,0))","v":4275},{"$f":"IF(INTRO!$E$49=\"\",\"\",ROUND($D84*INTRO!$E$49,0))","v":8122},{"$f":"IF(INTRO!$E$50=\"\",\"\",ROUND($D84*INTRO!$E$50,0))","v":14677},99,0,0,1,null,{"$f":"IF(INTRO!$E$40=\"Endémique\", IF($I84>0, IF($I84=4,\"Inconnu\",IF($I84=99,\"Interrompu\", $D84)), 0),\"Non requis\")","v":0},{"$f":"IF(INTRO!$E$42=\"Endémique\", IF($J84>1, IF($J84=4, \"Inconnu\", IF($J84=99, \"Surveillance\", E84)), 0),\"Non requis\")","v":"Non requis"},{"$f":"IF(INTRO!$E$42=\"Endémique\", IF($J84>1, IF($J84=4, \"Inconnu\", IF($J84=99, \"Surveillance\", F84)), 0),\"Non requis\")","v":"Non requis"},{"$f":"IF(INTRO!$E$42=\"Endémique\", IF($J84>1, IF($J84=4, \"Inconnu\", IF($J84=99, \"Surveillance\", ROUND(D84*INTRO!$E$51,0))), 0),\"Non requis\")","v":"Non requis"},{"$f":"IF(INTRO!$E$42=\"Endémique\", IF($J84>1, IF($J84=4, \"Inconnu\", IF($J84=99, \"Surveillance\", SUM($N84:$P84))), 0),\"Non requis\")","v":"Non requis"},0,0,0,0,0,0,0,0,null,null,null,null,null,null,null,null,30046,"Taoudenit",null,{"$f":"'MDA3'!O84","v":0},{"$f":"'T2'!S84","v":0},null,null,{"$f":"_xlfn.XLOOKUP($AH84,[1]D_Projections!$F$5:$F$79,[1]D_Projections!G$5:G$79)","v":1},{"$f":"_xlfn.XLOOKUP($AH84,[1]D_Projections!$F$5:$F$79,[1]D_Projections!H$5:H$79)","v":0},{"$f":"_xlfn.XLOOKUP($AH84,[1]D_Projections!$F$5:$F$79,[1]D_Projections!I$5:I$79)","v":0},{"$f":"_xlfn.XLOOKUP($AH84,[1]D_Projections!$F$5:$F$79,[1]D_Projections!J$5:J$79)","v":0},null,0,0,0]

{"sheet":"MDA1","index":2,"n_rows":84,"n_cols":17,"rows_kept":84,"cut":false,"hidden":true,"merged":[[7,0,7,16],[5,13,5,16],[3,0,3,2],[5,0,5,2],[5,5,5,8],[5,9,5,12],[5,3,6,3],[5,4,6,4]]}
["MDA 1 - Ivermectine (IVM) et Albendazole (ALB)"]
["Structure administrative, population nécessitant une chimioprévention par groupe d'âge, population traitée par groupe d'âge et couverture"]
[]
["TOTAL",null,null,null,null,null,{"$f":"SUBTOTAL(9,G$10:G$1010)","v":0},0,0,null,{"$f":"SUBTOTAL(9,K$10:K$1010)","v":0},0,0,null,{"$f":"IF(G4<>0, IF(K4/G4*100=0, \"-\", K4/G4*100), \" \")","v":" "},{"$f":"IF(H4<>0, IF(L4/H4*100=0, \"-\", L4/H4*100), \" \")","v":" "},{"$f":"IF(I4<>0, IF(M4/I4*100=0, \"-\", M4/I4*100), \" \")","v":" "}]
[]
["Structure administrative du pays",null,null,"Mise en oeuvre \nde la CP","Date","Population ciblée pour MDA 1",null,null,null,"Population traitée",null,null,null,"Couverture du Programme (%)"]
["Pays","Région/Département","District",null,null,"EAPréS","EAS","Adultes","Total","EAPréS","EAS","Adultes","Total","EAPréS","EAS","Adultes","Total"]
[]
[]
[{"$f":"IF(COUNTRY_INFO!A10=0,\" \",COUNTRY_INFO!A10)","v":"Mali"},{"$f":"IF(COUNTRY_INFO!B10=0,\" \",COUNTRY_INFO!B10)","v":"Bamako"},{"$f":"IF(COUNTRY_INFO!C10=0,\" \",COUNTRY_INFO!C10)","v":"Commune 1"},{"$f":"IF(COUNTRY_INFO!$Z10=\"MDA1 (IVM+ALB)\", COUNTRY_INFO!$Z10, \" \")","v":" "},null,null,null,null,{"$f":"SUM(F10:H10)","v":0},null,null,null,{"$f":"SUM(J10:L10)","v":0},null,{"$f":"IF(G10<>0, IF(K10/G10*100=0, \"-\", K10/G10*100), \" \")","v":" "},{"$f":"IF(H10<>0, IF(L10/H10*100=0, \"-\", L10/H10*100), \" \")","v":" "}," "]
[{"$f":"IF(COUNTRY_INFO!A11=0,\" \",COUNTRY_INFO!A11)","v":"Mali"},{"$f":"IF(COUNTRY_INFO!B11=0,\" \",COUNTRY_INFO!B11)","v":"Bamako"},{"$f":"IF(COUNTRY_INFO!C11=0,\" \",COUNTRY_INFO!C11)","v":"Commune 2"},{"$f":"IF(COUNTRY_INFO!$Z11=\"MDA1 (IVM+ALB)\", COUNTRY_INFO!$Z11, \" \")","v":" "},null,null,null,null,{"$f":"SUM(F11:H11)","v":0},null,null,null,{"$f":"SUM(J11:L11)","v":0},null,{"$f":"IF(G11<>0, IF(K11/G11*100=0, \"-\", K11/G11*100), \" \")","v":" "},{"$f":"IF(H11<>0, IF(L11/H11*100=0, \"-\", L11/H11*100), \" \")","v":" "},{"$f":"IF(I11<>0, IF(M11/I11*100=0, \"-\", M11/I11*100), \" \")","v":" "}]
[{"$f":"IF(COUNTRY_INFO!A12=0,\" \",COUNTRY_INFO!A12)","v":"Mali"},{"$f":"IF(COUNTRY_INFO!B12=0,\" \",COUNTRY_INFO!B12)","v":"Bamako"},{"$f":"IF(COUNTRY_INFO!C12=0,\" \",COUNTRY_INFO!C12)","v":"Commune 3"},{"$f":"IF(COUNTRY_INFO!$Z12=\"MDA1 (IVM+ALB)\", COUNTRY_INFO!$Z12, \" \")","v":" "},null,null,null,null,0,null,null,null,0,null," "," "," "]
[{"$f":"IF(COUNTRY_INFO!A13=0,\" \",COUNTRY_INFO!A13)","v":"Mali"},{"$f":"IF(COUNTRY_INFO!B13=0,\" \",COUNTRY_INFO!B13)","v":"Bamako"},{"$f":"IF(COUNTRY_INFO!C13=0,\" \",COUNTRY_INFO!C13)","v":"Commune 4"},{"$f":"IF(COUNTRY_INFO!$Z13=\"MDA1 (IVM+ALB)\", COUNTRY_INFO!$Z13, \" \")","v":" "},null,null,null,null,0,null,null,null,0,null," "," "," "]
[{"$f":"IF(COUNTRY_INFO!A14=0,\" \",COUNTRY_INFO!A14)","v":"Mali"},{"$f":"IF(COUNTRY_INFO!B14=0,\" \",COUNTRY_INFO!B14)","v":"Bamako"},{"$f":"IF(COUNTRY_INFO!C14=0,\" \",COUNTRY_INFO!C14)","v":"Commune 5"},{"$f":"IF(COUNTRY_INFO!$Z14=\"MDA1 (IVM+ALB)\", COUNTRY_INFO!$Z14, \" \")","v":" "},null,null,null,null,0,null,null,null,0,null," "," "," "]
[{"$f":"IF(COUNTRY_INFO!A15=0,\" \",COUNTRY_INFO!A15)","v":"Mali"},{"$f":"IF(COUNTRY_INFO!B15=0,\" \",COUNTRY_INFO!B15)","v":"Bamako"},{"$f":"IF(COUNTRY_INFO!C15=0,\" \",COUNTRY_INFO!C15)","v":"Commune 6"},{"$f":"IF(COUNTRY_INFO!$Z15=\"MDA1 (IVM+ALB)\", COUNTRY_INFO!$Z15, \" \")","v":" "},null,null,null,null,0,null,null,null,0,null," "," "," "]
[{"$f":"IF(COUNTRY_INFO!A16=0,\" \",COUNTRY_INFO!A16)","v":"Mali"},{"$f":"IF(COUNTRY_INFO!B16=0,\" \",COUNTRY_INFO!B16)","v":"Gao"},{"$f":"IF(COUNTRY_INFO!C16=0,\" \",COUNTRY_INFO!C16)","v":"Ansongo"},{"$f":"IF(COUNTRY_INFO!$Z16=\"MDA1 (IVM+ALB)\", COUNTRY_INFO!$Z16, \" \")","v":" "},null,null,null,null,0,null,null,null,0,null," "," "," "]
[{"$f":"IF(COUNTRY_INFO!A17=0,\" \",COUNTRY_INFO!A17)","v":"Mali"},{"$f":"IF(COUNTRY_INFO!B17=0,\" \",COUNTRY_INFO!B17)","v":"Gao"},{"$f":"IF(COUNTRY_INFO!C17=0,\" \",COUNTRY_INFO!C17)","v":"Bourem"},{"$f":"IF(COUNTRY_INFO!$Z17=\"MDA1 (IVM+ALB)\", COUNTRY_INFO!$Z17, \" \")","v":" "},null,null,null,null,0,null,null,null,0,null," "," "," "]
[{"$f":"IF(COUNTRY_INFO!A18=0,\" \",COUNTRY_INFO!A18)","v":"Mali"},{"$f":"IF(COUNTRY_INFO!B18=0,\" \",COUNTRY_INFO!B18)","v":"Gao"},{"$f":"IF(COUNTRY_INFO!C18=0,\" \",COUNTRY_INFO!C18)","v":"Almoustrat"},{"$f":"IF(COUNTRY_INFO!$Z18=\"MDA1 (IVM+ALB)\", COUNTRY_INFO!$Z18, \" \")","v":" "},null,null,null,null,0,null,null,null,0,null," "," "," "]
[{"$f":"IF(COUNTRY_INFO!A19=0,\" \",COUNTRY_INFO!A19)","v":"Mali"},{"$f":"IF(COUNTRY_INFO!B19=0,\" \",COUNTRY_INFO!B19)","v":"Gao"},{"$f":"IF(COUNTRY_INFO!C19=0,\" \",COUNTRY_INFO!C19)","v":"Gao"},{"$f":"IF(COUNTRY_INFO!$Z19=\"MDA1 (IVM+ALB)\", COUNTRY_INFO!$Z19, \" \")","v":" "},null,null,null,null,0,null,null,null,0,null," "," "," "]
[{"$f":"IF(COUNTRY_INFO!A20=0,\" \",COUNTRY_INFO!A20)","v":"Mali"},{"$f":"IF(COUNTRY_INFO!B20=0,\" \",COUNTRY_INFO!B20)","v":"Menaka"},{"$f":"IF(COUNTRY_INFO!C20=0,\" \",COUNTRY_INFO!C20)","v":"Menaka"},{"$f":"IF(COUNTRY_INFO!$Z20=\"MDA1 (IVM+ALB)\", COUNTRY_INFO!$Z20, \" \")","v":" "},null,null,null,null,0,null,null,null,0,null," "," "," "]
[{"$f":"IF(COUNTRY_INFO!A21=0,\" \",COUNTRY_INFO!A21)","v":"Mali"},{"$f":"IF(COUNTRY_INFO!B21=0,\" \",COUNTRY_INFO!B21)","v":"Menaka"},{"$f":"IF(COUNTRY_INFO!C21=0,\" \",COUNTRY_INFO!C21)","v":"Anderamboukane"},{"$f":"IF(COUNTRY_INFO!$Z21=\"MDA1 (IVM+ALB)\", COUNTRY_INFO!$Z21, \" \")","v":" "},null,null,null,null,0,null,null,null,0,null," "," "," "]
[{"$f":"IF(COUNTRY_INFO!A22=0,\" \",COUNTRY_INFO!A22)","v":"Mali"},{"$f":"IF(COUNTRY_INFO!B22=0,\" \",COUNTRY_INFO!B22)","v":"Menaka"},{"$f":"IF(COUNTRY_INFO!C22=0,\" \",COUNTRY_INFO!C22)","v":"Inekar"},{"$f":"IF(COUNTRY_INFO!$Z22=\"MDA1 (IVM+ALB)\", COUNTRY_INFO!$Z22, \" \")","v":" "},null,null,null,null,0,null,null,null,0,null," "," "," "]
[{"$f":"IF(COUNTRY_INFO!A23=0,\" \",COUNTRY_INFO!A23)","v":"Mali"},{"$f":"IF(COUNTRY_INFO!B23=0,\" \",COUNTRY_INFO!B23)","v":"Menaka"},{"$f":"IF(COUNTRY_INFO!C23=0,\" \",COUNTRY_INFO!C23)","v":"Tidermene"},{"$f":"IF(COUNTRY_INFO!$Z23=\"MDA1 (IVM+ALB)\", COUNTRY_INFO!$Z23, \" \")","v":" "},null,null,null,null,0,null,null,null,0,null," "," "," "]
[{"$f":"IF(COUNTRY_INFO!A24=0,\" \",COUNTRY_INFO!A24)","v":"Mali"},{"$f":"IF(COUNTRY_INFO!B24=0,\" \",COUNTRY_INFO!B24)","v":"Kayes"},{"$f":"IF(COUNTRY_INFO!C24=0,\" \",COUNTRY_INFO!C24)","v":"Bafoulabe"},{"$f":"IF(COUNTRY_INFO!$Z24=\"MDA1 (IVM+ALB)\", COUNTRY_INFO!$Z24, \" \")","v":" "},null,null,null,null,0,null,null,null,0,null," "," "," "]
[{"$f":"IF(COUNTRY_INFO!A25=0,\" \",COUNTRY_INFO!A25)","v":"Mali"},{"$f":"IF(COUNTRY_INFO!B25=0,\" \",COUNTRY_INFO!B25)","v":"Kayes"},{"$f":"IF(COUNTRY_INFO!C25=0,\" \",COUNTRY_INFO!C25)","v":"Diema"},{"$f":"IF(COUNTRY_INFO!$Z25=\"MDA1 (IVM+ALB)\", COUNTRY_INFO!$Z25, \" \")","v":" "},null,null,null,null,0,null,null,null,0,null," "," "," "]
[{"$f":"IF(COUNTRY_INFO!A26=0,\" \",COUNTRY_INFO!A26)","v":"Mali"},{"$f":"IF(COUNTRY_INFO!B26=0,\" \",COUNTRY_INFO!B26)","v":"Kayes"},{"$f":"IF(COUNTRY_INFO!C26=0,\" \",COUNTRY_INFO!C26)","v":"Kayes"},{"$f":"IF(COUNTRY_INFO!$Z26=\"MDA1 (IVM+ALB)\", COUNTRY_INFO!$Z26, \" \")","v":" "},null,null,null,null,0,null,null,null,0,null," "," "," "]
[{"$f":"IF(COUNTRY_INFO!A27=0,\" \",COUNTRY_INFO!A27)","v":"Mali"},{"$f":"IF(COUNTRY_INFO!B27=0,\" \",COUNTRY_INFO!B27)","v":"Kayes"},{"$f":"IF(COUNTRY_INFO!C27=0,\" \",COUNTRY_INFO!C27)","v":"Kenieba"},{"$f":"IF(COUNTRY_INFO!$Z27=\"MDA1 (IVM+ALB)\", COUNTRY_INFO!$Z27, \" \")","v":" "},null,null,null,null,0,null,null,null,0,null," "," "," "]
[{"$f":"IF(COUNTRY_INFO!A28=0,\" \",COUNTRY_INFO!A28)","v":"Mali"},{"$f":"IF(COUNTRY_INFO!B28=0,\" \",COUNTRY_INFO!B28)","v":"Kayes"},{"$f":"IF(COUNTRY_INFO!C28=0,\" \",COUNTRY_INFO!C28)","v":"Kita"},{"$f":"IF(COUNTRY_INFO!$Z28=\"MDA1 (IVM+ALB)\", COUNTRY_INFO!$Z28, \" \")","v":" "},null,null,null,null,0,null,null,null,0,null," "," "," "]
[{"$f":"IF(COUNTRY_INFO!A29=0,\" \",COUNTRY_INFO!A29)","v":"Mali"},{"$f":"IF(COUNTRY_INFO!B29=0,\" \",COUNTRY_INFO!B29)","v":"Kayes"},{"$f":"IF(COUNTRY_INFO!C29=0,\" \",COUNTRY_INFO!C29)","v":"Sagabari"},{"$f":"IF(COUNTRY_INFO!$Z29=\"MDA1 (IVM+ALB)\", COUNTRY_INFO!$Z29, \" \")","v":" "},null,null,null,null,0,null,null,null,0,null," "," "," "]
[{"$f":"IF(COUNTRY_INFO!A30=0,\" \",COUNTRY_INFO!A30)","v":"Mali"},{"$f":"IF(COUNTRY_INFO!B30=0,\" \",COUNTRY_INFO!B30)","v":"Kayes"},{"$f":"IF(COUNTRY_INFO!C30=0,\" \",COUNTRY_INFO!C30)","v":"Sefeto"},{"$f":"IF(COUNTRY_INFO!$Z30=\"MDA1 (IVM+ALB)\", COUNTRY_INFO!$Z30, \" \")","v":" "},null,null,null,null,0,null,null,null,0,null," "," "," "]
[{"$f":"IF(COUNTRY_INFO!A31=0,\" \",COUNTRY_INFO!A31)","v":"Mali"},{"$f":"IF(COUNTRY_INFO!B31=0,\" \",COUNTRY_INFO!B31)","v":"Kayes"},{"$f":"IF(COUNTRY_INFO!C31=0,\" \",COUNTRY_INFO!C31)","v":"Nioro"},{"$f":"IF(COUNTRY_INFO!$Z31=\"MDA1 (IVM+ALB)\", COUNTRY_INFO!$Z31, \" \")","v":" "},null,null,null,null,0,null,null,null,0,null," "," "," "]
[{"$f":"IF(COUNTRY_INFO!A32=0,\" \",COUNTRY_INFO!A32)","v":"Mali"},{"$f":"IF(COUNTRY_INFO!B32=0,\" \",COUNTRY_INFO!B32)","v":"Kayes"},{"$f":"IF(COUNTRY_INFO!C32=0,\" \",COUNTRY_INFO!C32)","v":"Oussoubidiagna"},{"$f":"IF(COUNTRY_INFO!$Z32=\"MDA1 (IVM+ALB)\", COUNTRY_INFO!$Z32, \" \")","v":" "},null,null,null,null,0,null,null,null,0,null," "," "," "]
[{"$f":"IF(COUNTRY_INFO!A33=0,\" \",COUNTRY_INFO!A33)","v":"Mali"},{"$f":"IF(COUNTRY_INFO!B33=0,\" \",COUNTRY_INFO!B33)","v":"Kayes"},{"$f":"IF(COUNTRY_INFO!C33=0,\" \",COUNTRY_INFO!C33)","v":"Yelimane"},{"$f":"IF(COUNTRY_INFO!$Z33=\"MDA1 (IVM+ALB)\", COUNTRY_INFO!$Z33, \" \")","v":" "},null,null,null,null,0,null,null,null,0,null," "," "," "]
[{"$f":"IF(COUNTRY_INFO!A34=0,\" \",COUNTRY_INFO!A34)","v":"Mali"},{"$f":"IF(COUNTRY_INFO!B34=0,\" \",COUNTRY_INFO!B34)","v":"Kidal"},{"$f":"IF(COUNTRY_INFO!C34=0,\" \",COUNTRY_INFO!C34)","v":"Abeibara"},{"$f":"IF(COUNTRY_INFO!$Z34=\"MDA1 (IVM+ALB)\", COUNTRY_INFO!$Z34, \" \")","v":" "},null,null,null,null,0,null,null,null,0,null," "," "," "]
[{"$f":"IF(COUNTRY_INFO!A35=0,\" \",COUNTRY_INFO!A35)","v":"Mali"},{"$f":"IF(COUNTRY_INFO!B35=0,\" \",COUNTRY_INFO!B35)","v":"Kidal"},{"$f":"IF(COUNTRY_INFO!C35=0,\" \",COUNTRY_INFO!C35)","v":"Kidal"},{"$f":"IF(COUNTRY_INFO!$Z35=\"MDA1 (IVM+ALB)\", COUNTRY_INFO!$Z35, \" \")","v":" "},null,null,null,null,0,null,null,null,0,null," "," "," "]
[{"$f":"IF(COUNTRY_INFO!A36=0,\" \",COUNTRY_INFO!A36)","v":"Mali"},{"$f":"IF(COUNTRY_INFO!B36=0,\" \",COUNTRY_INFO!B36)","v":"Kidal"},{"$f":"IF(COUNTRY_INFO!C36=0,\" \",COUNTRY_INFO!C36)","v":"Tessalit"},{"$f":"IF(COUNTRY_INFO!$Z36=\"MDA1 (IVM+ALB)\", COUNTRY_INFO!$Z36, \" \")","v":" "},null,null,null,null,0,null,null,null,0,null," "," "," "]
[{"$f":"IF(COUNTRY_INFO!A37=0,\" \",COUNTRY_INFO!A37)","v":"Mali"},{"$f":"IF(COUNTRY_INFO!B37=0,\" \",COUNTRY_INFO!B37)","v":"Kidal"},{"$f":"IF(COUNTRY_INFO!C37=0,\" \",COUNTRY_INFO!C37)","v":"Tin-Essako"},{"$f":"IF(COUNTRY_INFO!$Z37=\"MDA1 (IVM+ALB)\", COUNTRY_INFO!$Z37, \" \")","v":" "},null,null,null,null,0,null,null,null,0,null," "," "," "]
[{"$f":"IF(COUNTRY_INFO!A38=0,\" \",COUNTRY_INFO!A38)","v":"Mali"},{"$f":"IF(COUNTRY_INFO!B38=0,\" \",COUNTRY_INFO!B38)","v":"Koulikoro"},{"$f":"IF(COUNTRY_INFO!C38=0,\" \",COUNTRY_INFO!C38)","v":"Banamba"},{"$f":"IF(COUNTRY_INFO!$Z38=\"MDA1 (IVM+ALB)\", COUNTRY_INFO!$Z38, \" \")","v":" "},null,null,null,null,0,null,null,null,0,null," "," "," "]
[{"$f":"IF(COUNTRY_INFO!A39=0,\" \",COUNTRY_INFO!A39)","v":"Mali"},{"$f":"IF(COUNTRY_INFO!B39=0,\" \",COUNTRY_INFO!B39)","v":"Koulikoro"},{"$f":"IF(COUNTRY_INFO!C39=0,\" \",COUNTRY_INFO!C39)","v":"Dioila"},{"$f":"IF(COUNTRY_INFO!$Z39=\"MDA1 (IVM+ALB)\", COUNTRY_INFO!$Z39, \" \")","v":" "},null,null,null,null,0,null,null,null,0,null," "," "," "]
[{"$f":"IF(COUNTRY_INFO!A40=0,\" \",COUNTRY_INFO!A40)","v":"Mali"},{"$f":"IF(COUNTRY_INFO!B40=0,\" \",COUNTRY_INFO!B40)","v":"Koulikoro"},{"$f":"IF(COUNTRY_INFO!C40=0,\" \",COUNTRY_INFO!C40)","v":"Fana"},{"$f":"IF(COUNTRY_INFO!$Z40=\"MDA1 (IVM+ALB)\", COUNTRY_INFO!$Z40, \" \")","v":" "},null,null,null,null,0,null,null,null,0,null," "," "," "]
[{"$f":"IF(COUNTRY_INFO!A41=0,\" \",COUNTRY_INFO!A41)","v":"Mali"},{"$f":"IF(COUNTRY_INFO!B41=0,\" \",COUNTRY_INFO!B41)","v":"Koulikoro"},{"$f":"IF(COUNTRY_INFO!C41=0,\" \",COUNTRY_INFO!C41)","v":"Kalabancoro"},{"$f":"IF(COUNTRY_INFO!$Z41=\"MDA1 (IVM+ALB)\", COUNTRY_INFO!$Z41, \" \")","v":" "},null,null,null,null,0,null,null,null,0,null," "," "," "]
[{"$f":"IF(COUNTRY_INFO!A42=0,\" \",COUNTRY_INFO!A42)","v":"Mali"},{"$f":"IF(COUNTRY_INFO!B42=0,\" \",COUNTRY_INFO!B42)","v":"Koulikoro"},{"$f":"IF(COUNTRY_INFO!C42=0,\" \",COUNTRY_INFO!C42)","v":"Kangaba"},{"$f":"IF(COUNTRY_INFO!$Z42=\"MDA1 (IVM+ALB)\", COUNTRY_INFO!$Z42, \" \")","v":" "},null,null,null,null,0,null,null,null,0,null," "," "," "]
[{"$f":"IF(COUNTRY_INFO!A43=0,\" \",COUNTRY_INFO!A43)","v":"Mali"},{"$f":"IF(COUNTRY_INFO!B43=0,\" \",COUNTRY_INFO!B43)","v":"Koulikoro"},{"$f":"IF(COUNTRY_INFO!C43=0,\" \",COUNTRY_INFO!C43)","v":"Kati"},{"$f":"IF(COUNTRY_INFO!$Z43=\"MDA1 (IVM+ALB)\", COUNTRY_INFO!$Z43, \" \")","v":" "},null,null,null,null,0,null,null,null,0,null," "," "," "]
[{"$f":"IF(COUNTRY_INFO!A44=0,\" \",COUNTRY_INFO!A44)","v":"Mali"},{"$f":"IF(COUNTRY_INFO!B44=0,\" \",COUNTRY_INFO!B44)","v":"Koulikoro"},{"$f":"IF(COUNTRY_INFO!C44=0,\" \",COUNTRY_INFO!C44)","v":"Kolokani"},{"$f":"IF(COUNTRY_INFO!$Z44=\"MDA1 (IVM+ALB)\", COUNTRY_INFO!$Z44, \" \")","v":" "},null,null,null,null,0,null,null,null,0,null," "," "," "]
[{"$f":"IF(COUNTRY_INFO!A45=0,\" \",COUNTRY_INFO!A45)","v":"Mali"},{"$f":"IF(COUNTRY_INFO!B45=0,\" \",COUNTRY_INFO!B45)","v":"Koulikoro"},{"$f":"IF(COUNTRY_INFO!C45=0,\" \",COUNTRY_INFO!C45)","v":"Koulikoro"},{"$f":"IF(COUNTRY_INFO!$Z45=\"MDA1 (IVM+ALB)\", COUNTRY_INFO!$Z45, \" \")","v":" "},null,null,null,null,0,null,null,null,0,null," "," "," "]
[{"$f":"IF(COUNTRY_INFO!A46=0,\" \",COUNTRY_INFO!A46)","v":"Mali"},{"$f":"IF(COUNTRY_INFO!B46=0,\" \",COUNTRY_INFO!B46)","v":"Koulikoro"},{"$f":"IF(COUNTRY_INFO!C46=0,\" \",COUNTRY_INFO!C46)","v":"Nara"},{"$f":"IF(COUNTRY_INFO!$Z46=\"MDA1 (IVM+ALB)\", COUNTRY_INFO!$Z46, \" \")","v":" "},null,null,null,null,0,null,null,null,0,null," "," "," "]
[{"$f":"IF(COUNTRY_INFO!A47=0,\" \",COUNTRY_INFO!A47)","v":"Mali"},{"$f":"IF(COUNTRY_INFO!B47=0,\" \",COUNTRY_INFO!B47)","v":"Koulikoro"},{"$f":"IF(COUNTRY_INFO!C47=0,\" \",COUNTRY_INFO!C47)","v":"Ouelessebougou"},{"$f":"IF(COUNTRY_INFO!$Z47=\"MDA1 (IVM+ALB)\", COUNTRY_INFO!$Z47, \" \")","v":" "},null,null,null,null,0,null,null,null,0,null," "," "," "]
[{"$f":"IF(COUNTRY_INFO!A48=0,\" \",COUNTRY_INFO!A48)","v":"Mali"},{"$f":"IF(COUNTRY_INFO!B48=0,\" \",COUNTRY_INFO!B48)","v":"Mopti"},{"$f":"IF(COUNTRY_INFO!C48=0,\" \",COUNTRY_INFO!C48)","v":"Bandiagara"},{"$f":"IF(COUNTRY_INFO!$Z48=\"MDA1 (IVM+ALB)\", COUNTRY_INFO!$Z48, \" \")","v":" "},null,null,null,null,0,null,null,null,0,null," "," "," "]
[{"$f":"IF(COUNTRY_INFO!A49=0,\" \",COUNTRY_INFO!A49)","v":"Mali"},{"$f":"IF(COUNTRY_INFO!B49=0,\" \",COUNTRY_INFO!B49)","v":"Mopti"},{"$f":"IF(COUNTRY_INFO!C49=0,\" \",COUNTRY_INFO!C49)","v":"Bankass"},{"$f":"IF(COUNTRY_INFO!$Z49=\"MDA1 (IVM+ALB)\", COUNTRY_INFO!$Z49, \" \")","v":" "},null,null,null,null,0,null,null,null,0,null," "," "," "]
[{"$f":"IF(COUNTRY_INFO!A50=0,\" \",COUNTRY_INFO!A50)","v":"Mali"},{"$f":"IF(COUNTRY_INFO!B50=0,\" \",COUNTRY_INFO!B50)","v":"Mopti"},{"$f":"IF(COUNTRY_INFO!C50=0,\" \",COUNTRY_INFO!C50)","v":"Djenne"},{"$f":"IF(COUNTRY_INFO!$Z50=\"MDA1 (IVM+ALB)\", COUNTRY_INFO!$Z50, \" \")","v":" "},null,null,null,null,0,null,null,null,0,null," "," "," "]
[{"$f":"IF(COUNTRY_INFO!A51=0,\" \",COUNTRY_INFO!A51)","v":"Mali"},{"$f":"IF(COUNTRY_INFO!B51=0,\" \",COUNTRY_INFO!B51)","v":"Mopti"},{"$f":"IF(COUNTRY_INFO!C51=0,\" \",COUNTRY_INFO!C51)","v":"Douentza"},{"$f":"IF(COUNTRY_INFO!$Z51=\"MDA1 (IVM+ALB)\", COUNTRY_INFO!$Z51, \" \")","v":" "},null,null,null,null,0,null,null,null,0,null," "," "," "]
[{"$f":"IF(COUNTRY_INFO!A52=0,\" \",COUNTRY_INFO!A52)","v":"Mali"},{"$f":"IF(COUNTRY_INFO!B52=0,\" \",COUNTRY_INFO!B52)","v":"Mopti"},{"$f":"IF(COUNTRY_INFO!C52=0,\" \",COUNTRY_INFO!C52)","v":"Koro"},{"$f":"IF(COUNTRY_INFO!$Z52=\"MDA1 (IVM+ALB)\", COUNTRY_INFO!$Z52, \" \")","v":" "},null,null,null,null,0,null,null,null,0,null," "," "," "]
[{"$f":"IF(COUNTRY_INFO!A53=0,\" \",COUNTRY_INFO!A53)","v":"Mali"},{"$f":"IF(COUNTRY_INFO!B53=0,\" \",COUNTRY_INFO!B53)","v":"Mopti"},{"$f":"IF(COUNTRY_INFO!C53=0,\" \",COUNTRY_INFO!C53)","v":"Mopti"},{"$f":"IF(COUNTRY_INFO!$Z53=\"MDA1 (IVM+ALB)\", COUNTRY_INFO!$Z53, \" \")","v":" "},null,null,null,null,0,null,null,null,0,null," "," "," "]
[{"$f":"IF(COUNTRY_INFO!A54=0,\" \",COUNTRY_INFO!A54)","v":"Mali"},{"$f":"IF(COUNTRY_INFO!B54=0,\" \",COUNTRY_INFO!B54)","v":"Mopti"},{"$f":"IF(COUNTRY_INFO!C54=0,\" \",COUNTRY_INFO!C54)","v":"Teninkou"},{"$f":"IF(COUNTRY_INFO!$Z54=\"MDA1 (IVM+ALB)\", COUNTRY_INFO!$Z54, \" \")","v":" "},null,null,null,null,0,null,null,null,0,null," "," "," "]
[{"$f":"IF(COUNTRY_INFO!A55=0,\" \",COUNTRY_INFO!A55)","v":"Mali"},{"$f":"IF(COUNTRY_INFO!B55=0,\" \",COUNTRY_INFO!B55)","v":"Mopti"},{"$f":"IF(COUNTRY_INFO!C55=0,\" \",COUNTRY_INFO!C55)","v":"Youwarou"},{"$f":"IF(COUNTRY_INFO!$Z55=\"MDA1 (IVM+ALB)\", COUNTRY_INFO!$Z55, \" \")","v":" "},null,null,null,null,0,null,null,null,0,null," "," "," "]
[{"$f":"IF(COUNTRY_INFO!A56=0,\" \",COUNTRY_INFO!A56)","v":"Mali"},{"$f":"IF(COUNTRY_INFO!B56=0,\" \",COUNTRY_INFO!B56)","v":"Segou"},{"$f":"IF(COUNTRY_INFO!C56=0,\" \",COUNTRY_INFO!C56)","v":"Barouéli"},{"$f":"IF(COUNTRY_INFO!$Z56=\"MDA1 (IVM+ALB)\", COUNTRY_INFO!$Z56, \" \")","v":" "},null,null,null,null,0,null,null,null,0,null," "," "," "]
[{"$f":"IF(COUNTRY_INFO!A57=0,\" \",COUNTRY_INFO!A57)","v":"Mali"},{"$f":"IF(COUNTRY_INFO!B57=0,\" \",COUNTRY_INFO!B57)","v":"Segou"},{"$f":"IF(COUNTRY_INFO!C57=0,\" \",COUNTRY_INFO!C57)","v":"Bla"},{"$f":"IF(COUNTRY_INFO!$Z57=\"MDA1 (IVM+ALB)\", COUNTRY_INFO!$Z57, \" \")","v":" "},null,null,null,null,0,null,null,null,0,null," "," "," "]
[{"$f":"IF(COUNTRY_INFO!A58=0,\" \",COUNTRY_INFO!A58)","v":"Mali"},{"$f":"IF(COUNTRY_INFO!B58=0,\" \",COUNTRY_INFO!B58)","v":"Segou"},{"$f":"IF(COUNTRY_INFO!C58=0,\" \",COUNTRY_INFO!C58)","v":"Macina"},{"$f":"IF(COUNTRY_INFO!$Z58=\"MDA1 (IVM+ALB)\", COUNTRY_INFO!$Z58, \" \")","v":" "},null,null,null,null,0,null,null,null,0,null," "," "," "]
[{"$f":"IF(COUNTRY_INFO!A59=0,\" \",COUNTRY_INFO!A59)","v":"Mali"},{"$f":"IF(COUNTRY_INFO!B59=0,\" \",COUNTRY_INFO!B59)","v":"Segou"},{"$f":"IF(COUNTRY_INFO!C59=0,\" \",COUNTRY_INFO!C59)","v":"Markala"},{"$f":"IF(COUNTRY_INFO!$Z59=\"MDA1 (IVM+ALB)\", COUNTRY_INFO!$Z59, \" \")","v":" "},null,null,null,null,0,null,null,null,0,null," "," "," "]
[{"$f":"IF(COUNTRY_INFO!A60=0,\" \",COUNTRY_INFO!A60)","v":"Mali"},{"$f":"IF(COUNTRY_INFO!B60=0,\" \",COUNTRY_INFO!B60)","v":"Segou"},{"$f":"IF(COUNTRY_INFO!C60=0,\" \",COUNTRY_INFO!C60)","v":"Niono"},{"$f":"IF(COUNTRY_INFO!$Z60=\"MDA1 (IVM+ALB)\", COUNTRY_INFO!$Z60, \" \")","v":" "},null,null,null,null,0,null,null,null,0,null," "," "," "]
[{"$f":"IF(COUNTRY_INFO!A61=0,\" \",COUNTRY_INFO!A61)","v":"Mali"},{"$f":"IF(COUNTRY_INFO!B61=0,\" \",COUNTRY_INFO!B61)","v":"Segou"},{"$f":"IF(COUNTRY_INFO!C61=0,\" \",COUNTRY_INFO!C61)","v":"San"},{"$f":"IF(COUNTRY_INFO!$Z61=\"MDA1 (IVM+ALB)\", COUNTRY_INFO!$Z61, \" \")","v":" "},null,null,null,null,0,null,null,null,0,null," "," "," "]
[{"$f":"IF(COUNTRY_INFO!A62=0,\" \",COUNTRY_INFO!A62)","v":"Mali"},{"$f":"IF(COUNTRY_INFO!B62=0,\" \",COUNTRY_INFO!B62)","v":"Segou"},{"$f":"IF(COUNTRY_INFO!C62=0,\" \",COUNTRY_INFO!C62)","v":"Segou"},{"$f":"IF(COUNTRY_INFO!$Z62=\"MDA1 (IVM+ALB)\", COUNTRY_INFO!$Z62, \" \")","v":" "},null,null,null,null,0,null,null,null,0,null," "," "," "]
[{"$f":"IF(COUNTRY_INFO!A63=0,\" \",COUNTRY_INFO!A63)","v":"Mali"},{"$f":"IF(COUNTRY_INFO!B63=0,\" \",COUNTRY_INFO!B63)","v":"Segou"},{"$f":"IF(COUNTRY_INFO!C63=0,\" \",COUNTRY_INFO!C63)","v":"Tominian"},{"$f":"IF(COUNTRY_INFO!$Z63=\"MDA1 (IVM+ALB)\", COUNTRY_INFO!$Z63, \" \")","v":" "},null,null,null,null,0,null,null,null,0,null," "," "," "]
[{"$f":"IF(COUNTRY_INFO!A64=0,\" \",COUNTRY_INFO!A64)","v":"Mali"},{"$f":"IF(COUNTRY_INFO!B64=0,\" \",COUNTRY_INFO!B64)","v":"Sikasso"},{"$f":"IF(COUNTRY_INFO!C64=0,\" \",COUNTRY_INFO!C64)","v":"Bougouni"},{"$f":"IF(COUNTRY_INFO!$Z64=\"MDA1 (IVM+ALB)\", COUNTRY_INFO!$Z64, \" \")","v":" "},null,null,null,null,0,null,null,null,0,null," "," "," "]
[{"$f":"IF(COUNTRY_INFO!A65=0,\" \",COUNTRY_INFO!A65)","v":"Mali"},{"$f":"IF(COUNTRY_INFO!B65=0,\" \",COUNTRY_INFO!B65)","v":"Sikasso"},{"$f":"IF(COUNTRY_INFO!C65=0,\" \",COUNTRY_INFO!C65)","v":"Kadiolo"},{"$f":"IF(COUNTRY_INFO!$Z65=\"MDA1 (IVM+ALB)\", COUNTRY_INFO!$Z65, \" \")","v":" "},null,null,null,null,0,null,null,null,0,null," "," "," "]
[{"$f":"IF(COUNTRY_INFO!A66=0,\" \",COUNTRY_INFO!A66)","v":"Mali"},{"$f":"IF(COUNTRY_INFO!B66=0,\" \",COUNTRY_INFO!B66)","v":"Sikasso"},{"$f":"IF(COUNTRY_INFO!C66=0,\" \",COUNTRY_INFO!C66)","v":"Kignan"},{"$f":"IF(COUNTRY_INFO!$Z66=\"MDA1 (IVM+ALB)\", COUNTRY_INFO!$Z66, \" \")","v":" "},null,null,null,null,0,null,null,null,0,null," "," "," "]
[{"$f":"IF(COUNTRY_INFO!A67=0,\" \",COUNTRY_INFO!A67)","v":"Mali"},{"$f":"IF(COUNTRY_INFO!B67=0,\" \",COUNTRY_INFO!B67)","v":"Sikasso"},{"$f":"IF(COUNTRY_INFO!C67=0,\" \",COUNTRY_INFO!C67)","v":"Kolondieba"},{"$f":"IF(COUNTRY_INFO!$Z67=\"MDA1 (IVM+ALB)\", COUNTRY_INFO!$Z67, \" \")","v":" "},null,null,null,null,0,null,null,null,0,null," "," "," "]
[{"$f":"IF(COUNTRY_INFO!A68=0,\" \",COUNTRY_INFO!A68)","v":"Mali"},{"$f":"IF(COUNTRY_INFO!B68=0,\" \",COUNTRY_INFO!B68)","v":"Sikasso"},{"$f":"IF(COUNTRY_INFO!C68=0,\" \",COUNTRY_INFO!C68)","v":"Koutiala"},{"$f":"IF(COUNTRY_INFO!$Z68=\"MDA1 (IVM+ALB)\", COUNTRY_INFO!$Z68, \" \")","v":" "},null,null,null,null,0,null,null,null,0,null," "," "," "]
[{"$f":"IF(COUNTRY_INFO!A69=0,\" \",COUNTRY_INFO!A69)","v":"Mali"},{"$f":"IF(COUNTRY_INFO!B69=0,\" \",COUNTRY_INFO!B69)","v":"Sikasso"},{"$f":"IF(COUNTRY_INFO!C69=0,\" \",COUNTRY_INFO!C69)","v":"Niena"},{"$f":"IF(COUNTRY_INFO!$Z69=\"MDA1 (IVM+ALB)\", COUNTRY_INFO!$Z69, \" \")","v":" "},null,null,null,null,0,null,null,null,0,null," "," "," "]
[{"$f":"IF(COUNTRY_INFO!A70=0,\" \",COUNTRY_INFO!A70)","v":"Mali"},{"$f":"IF(COUNTRY_INFO!B70=0,\" \",COUNTRY_INFO!B70)","v":"Sikasso"},{"$f":"IF(COUNTRY_INFO!C70=0,\" \",COUNTRY_INFO!C70)","v":"Sélingué"},{"$f":"IF(COUNTRY_INFO!$Z70=\"MDA1 (IVM+ALB)\", COUNTRY_INFO!$Z70, \" \")","v":" "},null,null,null,null,0,null,null,null,0,null," "," "," "]
[{"$f":"IF(COUNTRY_INFO!A71=0,\" \",COUNTRY_INFO!A71)","v":"Mali"},{"$f":"IF(COUNTRY_INFO!B71=0,\" \",COUNTRY_INFO!B71)","v":"Sikasso"},{"$f":"IF(COUNTRY_INFO!C71=0,\" \",COUNTRY_INFO!C71)","v":"Sikasso"},{"$f":"IF(COUNTRY_INFO!$Z71=\"MDA1 (IVM+ALB)\", COUNTRY_INFO!$Z71, \" \")","v":" "},null,null,null,null,0,null,null,null,0,null," "," "," "]
[{"$f":"IF(COUNTRY_INFO!A72=0,\" \",COUNTRY_INFO!A72)","v":"Mali"},{"$f":"IF(COUNTRY_INFO!B72=0,\" \",COUNTRY_INFO!B72)","v":"Sikasso"},{"$f":"IF(COUNTRY_INFO!C72=0,\" \",COUNTRY_INFO!C72)","v":"Yanfolila"},{"$f":"IF(COUNTRY_INFO!$Z72=\"MDA1 (IVM+ALB)\", COUNTRY_INFO!$Z72, \" \")","v":" "},null,null,null,null,0,null,null,null,0,null," "," "," "]
[{"$f":"IF(COUNTRY_INFO!A73=0,\" \",COUNTRY_INFO!A73)","v":"Mali"},{"$f":"IF(COUNTRY_INFO!B73=0,\" \",COUNTRY_INFO!B73)","v":"Sikasso"},{"$f":"IF(COUNTRY_INFO!C73=0,\" \",COUNTRY_INFO!C73)","v":"Yorosso"},{"$f":"IF(COUNTRY_INFO!$Z73=\"MDA1 (IVM+ALB)\", COUNTRY_INFO!$Z73, \" \")","v":" "},null,null,null,null,0,null,null,null,0,null," "," "," "]
[{"$f":"IF(COUNTRY_INFO!A74=0,\" \",COUNTRY_INFO!A74)","v":"Mali"},{"$f":"IF(COUNTRY_INFO!B74=0,\" \",COUNTRY_INFO!B74)","v":"Tombouctou"},{"$f":"IF(COUNTRY_INFO!C74=0,\" \",COUNTRY_INFO!C74)","v":"Diré"},{"$f":"IF(COUNTRY_INFO!$Z74=\"MDA1 (IVM+ALB)\", COUNTRY_INFO!$Z74, \" \")","v":" "},null,null,null,null,0,null,null,null,0,null," "," "," "]
[{"$f":"IF(COUNTRY_INFO!A75=0,\" \",COUNTRY_INFO!A75)","v":"Mali"},{"$f":"IF(COUNTRY_INFO!B75=0,\" \",COUNTRY_INFO!B75)","v":"Tombouctou"},{"$f":"IF(COUNTRY_INFO!C75=0,\" \",COUNTRY_INFO!C75)","v":"Goundam"},{"$f":"IF(COUNTRY_INFO!$Z75=\"MDA1 (IVM+ALB)\", COUNTRY_INFO!$Z75, \" \")","v":" "},null,null,null,null,{"$f":"SUM(F75:H75)","v":0},null,null,null,{"$f":"SUM(J75:L75)","v":0},null,{"$f":"IF(G75<>0, IF(K75/G75*100=0, \"-\", K75/G75*100), \" \")","v":" "},{"$f":"IF(H75<>0, IF(L75/H75*100=0, \"-\", L75/H75*100), \" \")","v":" "},{"$f":"IF(I75<>0, IF(M75/I75*100=0, \"-\", M75/I75*100), \" \")","v":" "}]
[{"$f":"IF(COUNTRY_INFO!A76=0,\" \",COUNTRY_INFO!A76)","v":"Mali"},{"$f":"IF(COUNTRY_INFO!B76=0,\" \",COUNTRY_INFO!B76)","v":"Tombouctou"},{"$f":"IF(COUNTRY_INFO!C76=0,\" \",COUNTRY_INFO!C76)","v":"Gourma-Rharous"},{"$f":"IF(COUNTRY_INFO!$Z76=\"MDA1 (IVM+ALB)\", COUNTRY_INFO!$Z76, \" \")","v":" "},null,null,null,null,0,null,null,null,0,null," "," "," "]
[{"$f":"IF(COUNTRY_INFO!A77=0,\" \",COUNTRY_INFO!A77)","v":"Mali"},{"$f":"IF(COUNTRY_INFO!B77=0,\" \",COUNTRY_INFO!B77)","v":"Tombouctou"},{"$f":"IF(COUNTRY_INFO!C77=0,\" \",COUNTRY_INFO!C77)","v":"Niafunké"},{"$f":"IF(COUNTRY_INFO!$Z77=\"MDA1 (IVM+ALB)\", COUNTRY_INFO!$Z77, \" \")","v":" "},null,null,null,null,0,null,null,null,0,null," "," "," "]
[{"$f":"IF(COUNTRY_INFO!A78=0,\" \",COUNTRY_INFO!A78)","v":"Mali"},{"$f":"IF(COUNTRY_INFO!B78=0,\" \",COUNTRY_INFO!B78)","v":"Tombouctou"},{"$f":"IF(COUNTRY_INFO!C78=0,\" \",COUNTRY_INFO!C78)","v":"Tombouctou"},{"$f":"IF(COUNTRY_INFO!$Z78=\"MDA1 (IVM+ALB)\", COUNTRY_INFO!$Z78, \" \")","v":" "},null,null,null,null,0,null,null,null,0,null," "," "," "]
[{"$f":"IF(COUNTRY_INFO!A79=0,\" \",COUNTRY_INFO!A79)","v":"Mali"},{"$f":"IF(COUNTRY_INFO!B79=0,\" \",COUNTRY_INFO!B79)","v":"Taoudenit"},{"$f":"IF(COUNTRY_INFO!C79=0,\" \",COUNTRY_INFO!C79)","v":"Achourat"},{"$f":"IF(COUNTRY_INFO!$Z79=\"MDA1 (IVM+ALB)\", COUNTRY_INFO!$Z79, \" \")","v":" "},null,null,null,null,0,null,null,null,0,null," "," "," "]
[{"$f":"IF(COUNTRY_INFO!A80=0,\" \",COUNTRY_INFO!A80)","v":"Mali"},{"$f":"IF(COUNTRY_INFO!B80=0,\" \",COUNTRY_INFO!B80)","v":"Taoudenit"},{"$f":"IF(COUNTRY_INFO!C80=0,\" \",COUNTRY_INFO!C80)","v":"Al-Ourch"},{"$f":"IF(COUNTRY_INFO!$Z80=\"MDA1 (IVM+ALB)\", COUNTRY_INFO!$Z80, \" \")","v":" "},null,null,null,null,0,null,null,null,0,null," "," "," "]
[{"$f":"IF(COUNTRY_INFO!A81=0,\" \",COUNTRY_INFO!A81)","v":"Mali"},{"$f":"IF(COUNTRY_INFO!B81=0,\" \",COUNTRY_INFO!B81)","v":"Taoudenit"},{"$f":"IF(COUNTRY_INFO!C81=0,\" \",COUNTRY_INFO!C81)","v":"Araouane"},{"$f":"IF(COUNTRY_INFO!$Z81=\"MDA1 (IVM+ALB)\", COUNTRY_INFO!$Z81, \" \")","v":" "},null,null,null,null,0,null,null,null,0,null," "," "," "]
[{"$f":"IF(COUNTRY_INFO!A82=0,\" \",COUNTRY_INFO!A82)","v":"Mali"},{"$f":"IF(COUNTRY_INFO!B82=0,\" \",COUNTRY_INFO!B82)","v":"Taoudenit"},{"$f":"IF(COUNTRY_INFO!C82=0,\" \",COUNTRY_INFO!C82)","v":"Boujbeha"},{"$f":"IF(COUNTRY_INFO!$Z82=\"MDA1 (IVM+ALB)\", COUNTRY_INFO!$Z82, \" \")","v":" "},null,null,null,null,0,null,null,null,0,null," "," "," "]
[{"$f":"IF(COUNTRY_INFO!A83=0,\" \",COUNTRY_INFO!A83)","v":"Mali"},{"$f":"IF(COUNTRY_INFO!B83=0,\" \",COUNTRY_INFO!B83)","v":"Taoudenit"},{"$f":"IF(COUNTRY_INFO!C83=0,\" \",COUNTRY_INFO!C83)","v":"Foum-Elba"},{"$f":"IF(COUNTRY_INFO!$Z83=\"MDA1 (IVM+ALB)\", COUNTRY_INFO!$Z83, \" \")","v":" "},null,null,null,null,0,null,null,null,0,null," "," "," "]
[{"$f":"IF(COUNTRY_INFO!A84=0,\" \",COUNTRY_INFO!A84)","v":"Mali"},{"$f":"IF(COUNTRY_INFO!B84=0,\" \",COUNTRY_INFO!B84)","v":"Taoudenit"},{"$f":"IF(COUNTRY_INFO!C84=0,\" \",COUNTRY_INFO!C84)","v":"Taoudenit"},{"$f":"IF(COUNTRY_INFO!$Z84=\"MDA1 (IVM+ALB)\", COUNTRY_INFO!$Z84, \" \")","v":" "},null,null,null,null,0,null,null,null,0,null," "," "," "]

{"sheet":"MDA2","index":3,"n_rows":84,"n_cols":17,"rows_kept":84,"cut":false,"hidden":true,"merged":[[7,0,7,16],[5,5,5,8],[5,9,5,12],[5,13,5,16],[3,0,3,2],[5,0,5,2],[5,3,6,3],[5,4,6,4]]}
["MDA 2 - Diethylcarbamazine (DEC) + Albendazole (ALB)"]
["Structure administrative, population nécessitant une chimioprévention par groupe d'âge, population traitée par groupe d'âge et couverture"]
[]
["TOTAL",null,null,null,null,{"$f":"SUBTOTAL(9,F$10:F$1010)","v":0},0,0,0,0,0,0,0,{"$f":"IF(F4<>0, IF(J4/F4*100=0, \"-\", J4/F4*100), \" \")","v":" "},{"$f":"IF(G4<>0, IF(K4/G4*100=0, \"-\", K4/G4*100), \" \")","v":" "},{"$f":"IF(H4<>0, IF(L4/H4*100=0, \"-\", L4/H4*100), \" \")","v":" "},{"$f":"IF(I4<>0, IF(M4/I4*100=0, \"-\", M4/I4*100), \" \")","v":" "}]
[]
["Structure administrative du pays",null,null,"Mise en oeuvre \nde la CP","Date","Population ciblée pour MDA 2",null,null,null,"Population traitée",null,null,null,"Couverture du Programme (%)"]
["Pays","Région/Département","District",null,null,"EAPréS","EAS","Adultes","Total","EAPréS","EAS","Adultes","Total","EAPréS","EAS","Adultes","Total"]
[]
[]
[{"$f":"IF(COUNTRY_INFO!A10=0,\" \",COUNTRY_INFO!A10)","v":"Mali"},{"$f":"IF(COUNTRY_INFO!B10=0,\" \",COUNTRY_INFO!B10)","v":"Bamako"},{"$f":"IF(COUNTRY_INFO!C10=0,\" \",COUNTRY_INFO!C10)","v":"Commune 1"},{"$f":"IF(COUNTRY_INFO!$Z10=\"MDA2 (DEC+ALB)\", COUNTRY_INFO!$Z10, \" \")","v":" "},null,null,null,null,{"$f":"SUM(F10:H10)","v":0},null,null,null,{"$f":"SUM(J10:L10)","v":0},{"$f":"IF(F10<>0, IF(J10/F10*100=0, \"-\", J10/F10*100), \" \")","v":" "},{"$f":"IF(G10<>0, IF(K10/G10*100=0, \"-\", K10/G10*100), \" \")","v":" "}," "," "]
[{"$f":"IF(COUNTRY_INFO!A11=0,\" \",COUNTRY_INFO!A11)","v":"Mali"},{"$f":"IF(COUNTRY_INFO!B11=0,\" \",COUNTRY_INFO!B11)","v":"Bamako"},{"$f":"IF(COUNTRY_INFO!C11=0,\" \",COUNTRY_INFO!C11)","v":"Commune 2"},{"$f":"IF(COUNTRY_INFO!$Z11=\"MDA2 (DEC+ALB)\", COUNTRY_INFO!$Z11, \" \")","v":" "},null,null,null,null,{"$f":"SUM(F11:H11)","v":0},null,null,null,{"$f":"SUM(J11:L11)","v":0},{"$f":"IF(F11<>0, IF(J11/F11*100=0, \"-\", J11/F11*100), \" \")","v":" "},{"$f":"IF(G11<>0, IF(K11/G11*100=0, \"-\", K11/G11*100), \" \")","v":" "},{"$f":"IF(H11<>0, IF(L11/H11*100=0, \"-\", L11/H11*100), \" \")","v":" "},{"$f":"IF(I11<>0, IF(M11/I11*100=0, \"-\", M11/I11*100), \" \")","v":" "}]
[{"$f":"IF(COUNTRY_INFO!A12=0,\" \",COUNTRY_INFO!A12)","v":"Mali"},{"$f":"IF(COUNTRY_INFO!B12=0,\" \",COUNTRY_INFO!B12)","v":"Bamako"},{"$f":"IF(COUNTRY_INFO!C12=0,\" \",COUNTRY_INFO!C12)","v":"Commune 3"},{"$f":"IF(COUNTRY_INFO!$Z12=\"MDA2 (DEC+ALB)\", COUNTRY_INFO!$Z12, \" \")","v":" "},null,null,null,null,0,null,null,null,0," "," "," "," "]
[{"$f":"IF(COUNTRY_INFO!A13=0,\" \",COUNTRY_INFO!A13)","v":"Mali"},{"$f":"IF(COUNTRY_INFO!B13=0,\" \",COUNTRY_INFO!B13)","v":"Bamako"},{"$f":"IF(COUNTRY_INFO!C13=0,\" \",COUNTRY_INFO!C13)","v":"Commune 4"},{"$f":"IF(COUNTRY_INFO!$Z13=\"MDA2 (DEC+ALB)\", COUNTRY_INFO!$Z13, \" \")","v":" "},null,null,null,null,0,null,null,null,0," "," "," "," "]
[{"$f":"IF(COUNTRY_INFO!A14=0,\" \",COUNTRY_INFO!A14)","v":"Mali"},{"$f":"IF(COUNTRY_INFO!B14=0,\" \",COUNTRY_INFO!B14)","v":"Bamako"},{"$f":"IF(COUNTRY_INFO!C14=0,\" \",COUNTRY_INFO!C14)","v":"Commune 5"},{"$f":"IF(COUNTRY_INFO!$Z14=\"MDA2 (DEC+ALB)\", COUNTRY_INFO!$Z14, \" \")","v":" "},null,null,null,null,0,null,null,null,0," "," "," "," "]
[{"$f":"IF(COUNTRY_INFO!A15=0,\" \",COUNTRY_INFO!A15)","v":"Mali"},{"$f":"IF(COUNTRY_INFO!B15=0,\" \",COUNTRY_INFO!B15)","v":"Bamako"},{"$f":"IF(COUNTRY_INFO!C15=0,\" \",COUNTRY_INFO!C15)","v":"Commune 6"},{"$f":"IF(COUNTRY_INFO!$Z15=\"MDA2 (DEC+ALB)\", COUNTRY_INFO!$Z15, \" \")","v":" "},null,null,null,null,0,null,null,null,0," "," "," "," "]
[{"$f":"IF(COUNTRY_INFO!A16=0,\" \",COUNTRY_INFO!A16)","v":"Mali"},{"$f":"IF(COUNTRY_INFO!B16=0,\" \",COUNTRY_INFO!B16)","v":"Gao"},{"$f":"IF(COUNTRY_INFO!C16=0,\" \",COUNTRY_INFO!C16)","v":"Ansongo"},{"$f":"IF(COUNTRY_INFO!$Z16=\"MDA2 (DEC+ALB)\", COUNTRY_INFO!$Z16, \" \")","v":" "},null,null,null,null,0,null,null,null,0," "," "," "," "]
[{"$f":"IF(COUNTRY_INFO!A17=0,\" \",COUNTRY_INFO!A17)","v":"Mali"},{"$f":"IF(COUNTRY_INFO!B17=0,\" \",COUNTRY_INFO!B17)","v":"Gao"},{"$f":"IF(COUNTRY_INFO!C17=0,\" \",COUNTRY_INFO!C17)","v":"Bourem"},{"$f":"IF(COUNTRY_INFO!$Z17=\"MDA2 (DEC+ALB)\", COUNTRY_INFO!$Z17, \" \")","v":" "},null,null,null,null,0,null,null,null,0," "," "," "," "]
[{"$f":"IF(COUNTRY_INFO!A18=0,\" \",COUNTRY_INFO!A18)","v":"Mali"},{"$f":"IF(COUNTRY_INFO!B18=0,\" \",COUNTRY_INFO!B18)","v":"Gao"},{"$f":"IF(COUNTRY_INFO!C18=0,\" \",COUNTRY_INFO!C18)","v":"Almoustrat"},{"$f":"IF(COUNTRY_INFO!$Z18=\"MDA2 (DEC+ALB)\", COUNTRY_INFO!$Z18, \" \")","v":" "},null,null,null,null,0,null,null,null,0," "," "," "," "]
[{"$f":"IF(COUNTRY_INFO!A19=0,\" \",COUNTRY_INFO!A19)","v":"Mali"},{"$f":"IF(COUNTRY_INFO!B19=0,\" \",COUNTRY_INFO!B19)","v":"Gao"},{"$f":"IF(COUNTRY_INFO!C19=0,\" \",COUNTRY_INFO!C19)","v":"Gao"},{"$f":"IF(COUNTRY_INFO!$Z19=\"MDA2 (DEC+ALB)\", COUNTRY_INFO!$Z19, \" \")","v":" "},null,null,null,null,0,null,null,null,0," "," "," "," "]
[{"$f":"IF(COUNTRY_INFO!A20=0,\" \",COUNTRY_INFO!A20)","v":"Mali"},{"$f":"IF(COUNTRY_INFO!B20=0,\" \",COUNTRY_INFO!B20)","v":"Menaka"},{"$f":"IF(COUNTRY_INFO!C20=0,\" \",COUNTRY_INFO!C20)","v":"Menaka"},{"$f":"IF(COUNTRY_INFO!$Z20=\"MDA2 (DEC+ALB)\", COUNTRY_INFO!$Z20, \" \")","v":" "},null,null,null,null,0,null,null,null,0," "," "," "," "]
[{"$f":"IF(COUNTRY_INFO!A21=0,\" \",COUNTRY_INFO!A21)","v":"Mali"},{"$f":"IF(COUNTRY_INFO!B21=0,\" \",COUNTRY_INFO!B21)","v":"Menaka"},{"$f":"IF(COUNTRY_INFO!C21=0,\" \",COUNTRY_INFO!C21)","v":"Anderamboukane"},{"$f":"IF(COUNTRY_INFO!$Z21=\"MDA2 (DEC+ALB)\", COUNTRY_INFO!$Z21, \" \")","v":" "},null,null,null,null,0,null,null,null,0," "," "," "," "]
[{"$f":"IF(COUNTRY_INFO!A22=0,\" \",COUNTRY_INFO!A22)","v":"Mali"},{"$f":"IF(COUNTRY_INFO!B22=0,\" \",COUNTRY_INFO!B22)","v":"Menaka"},{"$f":"IF(COUNTRY_INFO!C22=0,\" \",COUNTRY_INFO!C22)","v":"Inekar"},{"$f":"IF(COUNTRY_INFO!$Z22=\"MDA2 (DEC+ALB)\", COUNTRY_INFO!$Z22, \" \")","v":" "},null,null,null,null,0,null,null,null,0," "," "," "," "]
[{"$f":"IF(COUNTRY_INFO!A23=0,\" \",COUNTRY_INFO!A23)","v":"Mali"},{"$f":"IF(COUNTRY_INFO!B23=0,\" \",COUNTRY_INFO!B23)","v":"Menaka"},{"$f":"IF(COUNTRY_INFO!C23=0,\" \",COUNTRY_INFO!C23)","v":"Tidermene"},{"$f":"IF(COUNTRY_INFO!$Z23=\"MDA2 (DEC+ALB)\", COUNTRY_INFO!$Z23, \" \")","v":" "},null,null,null,null,0,null,null,null,0," "," "," "," "]
[{"$f":"IF(COUNTRY_INFO!A24=0,\" \",COUNTRY_INFO!A24)","v":"Mali"},{"$f":"IF(COUNTRY_INFO!B24=0,\" \",COUNTRY_INFO!B24)","v":"Kayes"},{"$f":"IF(COUNTRY_INFO!C24=0,\" \",COUNTRY_INFO!C24)","v":"Bafoulabe"},{"$f":"IF(COUNTRY_INFO!$Z24=\"MDA2 (DEC+ALB)\", COUNTRY_INFO!$Z24, \" \")","v":" "},null,null,null,null,0,null,null,null,0," "," "," "," "]
[{"$f":"IF(COUNTRY_INFO!A25=0,\" \",COUNTRY_INFO!A25)","v":"Mali"},{"$f":"IF(COUNTRY_INFO!B25=0,\" \",COUNTRY_INFO!B25)","v":"Kayes"},{"$f":"IF(COUNTRY_INFO!C25=0,\" \",COUNTRY_INFO!C25)","v":"Diema"},{"$f":"IF(COUNTRY_INFO!$Z25=\"MDA2 (DEC+ALB)\", COUNTRY_INFO!$Z25, \" \")","v":" "},null,null,null,null,0,null,null,null,0," "," "," "," "]
[{"$f":"IF(COUNTRY_INFO!A26=0,\" \",COUNTRY_INFO!A26)","v":"Mali"},{"$f":"IF(COUNTRY_INFO!B26=0,\" \",COUNTRY_INFO!B26)","v":"Kayes"},{"$f":"IF(COUNTRY_INFO!C26=0,\" \",COUNTRY_INFO!C26)","v":"Kayes"},{"$f":"IF(COUNTRY_INFO!$Z26=\"MDA2 (DEC+ALB)\", COUNTRY_INFO!$Z26, \" \")","v":" "},null,null,null,null,0,null,null,null,0," "," "," "," "]
[{"$f":"IF(COUNTRY_INFO!A27=0,\" \",COUNTRY_INFO!A27)","v":"Mali"},{"$f":"IF(COUNTRY_INFO!B27=0,\" \",COUNTRY_INFO!B27)","v":"Kayes"},{"$f":"IF(COUNTRY_INFO!C27=0,\" \",COUNTRY_INFO!C27)","v":"Kenieba"},{"$f":"IF(COUNTRY_INFO!$Z27=\"MDA2 (DEC+ALB)\", COUNTRY_INFO!$Z27, \" \")","v":" "},null,null,null,null,0,null,null,null,0," "," "," "," "]
[{"$f":"IF(COUNTRY_INFO!A28=0,\" \",COUNTRY_INFO!A28)","v":"Mali"},{"$f":"IF(COUNTRY_INFO!B28=0,\" \",COUNTRY_INFO!B28)","v":"Kayes"},{"$f":"IF(COUNTRY_INFO!C28=0,\" \",COUNTRY_INFO!C28)","v":"Kita"},{"$f":"IF(COUNTRY_INFO!$Z28=\"MDA2 (DEC+ALB)\", COUNTRY_INFO!$Z28, \" \")","v":" "},null,null,null,null,0,null,null,null,0," "," "," "," "]
[{"$f":"IF(COUNTRY_INFO!A29=0,\" \",COUNTRY_INFO!A29)","v":"Mali"},{"$f":"IF(COUNTRY_INFO!B29=0,\" \",COUNTRY_INFO!B29)","v":"Kayes"},{"$f":"IF(COUNTRY_INFO!C29=0,\" \",COUNTRY_INFO!C29)","v":"Sagabari"},{"$f":"IF(COUNTRY_INFO!$Z29=\"MDA2 (DEC+ALB)\", COUNTRY_INFO!$Z29, \" \")","v":" "},null,null,null,null,0,null,null,null,0," "," "," "," "]
[{"$f":"IF(COUNTRY_INFO!A30=0,\" \",COUNTRY_INFO!A30)","v":"Mali"},{"$f":"IF(COUNTRY_INFO!B30=0,\" \",COUNTRY_INFO!B30)","v":"Kayes"},{"$f":"IF(COUNTRY_INFO!C30=0,\" \",COUNTRY_INFO!C30)","v":"Sefeto"},{"$f":"IF(COUNTRY_INFO!$Z30=\"MDA2 (DEC+ALB)\", COUNTRY_INFO!$Z30, \" \")","v":" "},null,null,null,null,0,null,null,null,0," "," "," "," "]
[{"$f":"IF(COUNTRY_INFO!A31=0,\" \",COUNTRY_INFO!A31)","v":"Mali"},{"$f":"IF(COUNTRY_INFO!B31=0,\" \",COUNTRY_INFO!B31)","v":"Kayes"},{"$f":"IF(COUNTRY_INFO!C31=0,\" \",COUNTRY_INFO!C31)","v":"Nioro"},{"$f":"IF(COUNTRY_INFO!$Z31=\"MDA2 (DEC+ALB)\", COUNTRY_INFO!$Z31, \" \")","v":" "},null,null,null,null,0,null,null,null,0," "," "," "," "]
[{"$f":"IF(COUNTRY_INFO!A32=0,\" \",COUNTRY_INFO!A32)","v":"Mali"},{"$f":"IF(COUNTRY_INFO!B32=0,\" \",COUNTRY_INFO!B32)","v":"Kayes"},{"$f":"IF(COUNTRY_INFO!C32=0,\" \",COUNTRY_INFO!C32)","v":"Oussoubidiagna"},{"$f":"IF(COUNTRY_INFO!$Z32=\"MDA2 (DEC+ALB)\", COUNTRY_INFO!$Z32, \" \")","v":" "},null,null,null,null,0,null,null,null,0," "," "," "," "]
[{"$f":"IF(COUNTRY_INFO!A33=0,\" \",COUNTRY_INFO!A33)","v":"Mali"},{"$f":"IF(COUNTRY_INFO!B33=0,\" \",COUNTRY_INFO!B33)","v":"Kayes"},{"$f":"IF(COUNTRY_INFO!C33=0,\" \",COUNTRY_INFO!C33)","v":"Yelimane"},{"$f":"IF(COUNTRY_INFO!$Z33=\"MDA2 (DEC+ALB)\", COUNTRY_INFO!$Z33, \" \")","v":" "},null,null,null,null,0,null,null,null,0," "," "," "," "]
[{"$f":"IF(COUNTRY_INFO!A34=0,\" \",COUNTRY_INFO!A34)","v":"Mali"},{"$f":"IF(COUNTRY_INFO!B34=0,\" \",COUNTRY_INFO!B34)","v":"Kidal"},{"$f":"IF(COUNTRY_INFO!C34=0,\" \",COUNTRY_INFO!C34)","v":"Abeibara"},{"$f":"IF(COUNTRY_INFO!$Z34=\"MDA2 (DEC+ALB)\", COUNTRY_INFO!$Z34, \" \")","v":" "},null,null,null,null,0,null,null,null,0," "," "," "," "]
[{"$f":"IF(COUNTRY_INFO!A35=0,\" \",COUNTRY_INFO!A35)","v":"Mali"},{"$f":"IF(COUNTRY_INFO!B35=0,\" \",COUNTRY_INFO!B35)","v":"Kidal"},{"$f":"IF(COUNTRY_INFO!C35=0,\" \",COUNTRY_INFO!C35)","v":"Kidal"},{"$f":"IF(COUNTRY_INFO!$Z35=\"MDA2 (DEC+ALB)\", COUNTRY_INFO!$Z35, \" \")","v":" "},null,null,null,null,0,null,null,null,0," "," "," "," "]
[{"$f":"IF(COUNTRY_INFO!A36=0,\" \",COUNTRY_INFO!A36)","v":"Mali"},{"$f":"IF(COUNTRY_INFO!B36=0,\" \",COUNTRY_INFO!B36)","v":"Kidal"},{"$f":"IF(COUNTRY_INFO!C36=0,\" \",COUNTRY_INFO!C36)","v":"Tessalit"},{"$f":"IF(COUNTRY_INFO!$Z36=\"MDA2 (DEC+ALB)\", COUNTRY_INFO!$Z36, \" \")","v":" "},null,null,null,null,0,null,null,null,0," "," "," "," "]
[{"$f":"IF(COUNTRY_INFO!A37=0,\" \",COUNTRY_INFO!A37)","v":"Mali"},{"$f":"IF(COUNTRY_INFO!B37=0,\" \",COUNTRY_INFO!B37)","v":"Kidal"},{"$f":"IF(COUNTRY_INFO!C37=0,\" \",COUNTRY_INFO!C37)","v":"Tin-Essako"},{"$f":"IF(COUNTRY_INFO!$Z37=\"MDA2 (DEC+ALB)\", COUNTRY_INFO!$Z37, \" \")","v":" "},null,null,null,null,0,null,null,null,0," "," "," "," "]
[{"$f":"IF(COUNTRY_INFO!A38=0,\" \",COUNTRY_INFO!A38)","v":"Mali"},{"$f":"IF(COUNTRY_INFO!B38=0,\" \",COUNTRY_INFO!B38)","v":"Koulikoro"},{"$f":"IF(COUNTRY_INFO!C38=0,\" \",COUNTRY_INFO!C38)","v":"Banamba"},{"$f":"IF(COUNTRY_INFO!$Z38=\"MDA2 (DEC+ALB)\", COUNTRY_INFO!$Z38, \" \")","v":" "},null,null,null,null,0,null,null,null,0," "," "," "," "]
[{"$f":"IF(COUNTRY_INFO!A39=0,\" \",COUNTRY_INFO!A39)","v":"Mali"},{"$f":"IF(COUNTRY_INFO!B39=0,\" \",COUNTRY_INFO!B39)","v":"Koulikoro"},{"$f":"IF(COUNTRY_INFO!C39=0,\" \",COUNTRY_INFO!C39)","v":"Dioila"},{"$f":"IF(COUNTRY_INFO!$Z39=\"MDA2 (DEC+ALB)\", COUNTRY_INFO!$Z39, \" \")","v":" "},null,null,null,null,0,null,null,null,0," "," "," "," "]
[{"$f":"IF(COUNTRY_INFO!A40=0,\" \",COUNTRY_INFO!A40)","v":"Mali"},{"$f":"IF(COUNTRY_INFO!B40=0,\" \",COUNTRY_INFO!B40)","v":"Koulikoro"},{"$f":"IF(COUNTRY_INFO!C40=0,\" \",COUNTRY_INFO!C40)","v":"Fana"},{"$f":"IF(COUNTRY_INFO!$Z40=\"MDA2 (DEC+ALB)\", COUNTRY_INFO!$Z40, \" \")","v":" "},null,null,null,null,0,null,null,null,0," "," "," "," "]
[{"$f":"IF(COUNTRY_INFO!A41=0,\" \",COUNTRY_INFO!A41)","v":"Mali"},{"$f":"IF(COUNTRY_INFO!B41=0,\" \",COUNTRY_INFO!B41)","v":"Koulikoro"},{"$f":"IF(COUNTRY_INFO!C41=0,\" \",COUNTRY_INFO!C41)","v":"Kalabancoro"},{"$f":"IF(COUNTRY_INFO!$Z41=\"MDA2 (DEC+ALB)\", COUNTRY_INFO!$Z41, \" \")","v":" "},null,null,null,null,0,null,null,null,0," "," "," "," "]
[{"$f":"IF(COUNTRY_INFO!A42=0,\" \",COUNTRY_INFO!A42)","v":"Mali"},{"$f":"IF(COUNTRY_INFO!B42=0,\" \",COUNTRY_INFO!B42)","v":"Koulikoro"},{"$f":"IF(COUNTRY_INFO!C42=0,\" \",COUNTRY_INFO!C42)","v":"Kangaba"},{"$f":"IF(COUNTRY_INFO!$Z42=\"MDA2 (DEC+ALB)\", COUNTRY_INFO!$Z42, \" \")","v":" "},null,null,null,null,0,null,null,null,0," "," "," "," "]
[{"$f":"IF(COUNTRY_INFO!A43=0,\" \",COUNTRY_INFO!A43)","v":"Mali"},{"$f":"IF(COUNTRY_INFO!B43=0,\" \",COUNTRY_INFO!B43)","v":"Koulikoro"},{"$f":"IF(COUNTRY_INFO!C43=0,\" \",COUNTRY_INFO!C43)","v":"Kati"},{"$f":"IF(COUNTRY_INFO!$Z43=\"MDA2 (DEC+ALB)\", COUNTRY_INFO!$Z43, \" \")","v":" "},null,null,null,null,0,null,null,null,0," "," "," "," "]
[{"$f":"IF(COUNTRY_INFO!A44=0,\" \",COUNTRY_INFO!A44)","v":"Mali"},{"$f":"IF(COUNTRY_INFO!B44=0,\" \",COUNTRY_INFO!B44)","v":"Koulikoro"},{"$f":"IF(COUNTRY_INFO!C44=0,\" \",COUNTRY_INFO!C44)","v":"Kolokani"},{"$f":"IF(COUNTRY_INFO!$Z44=\"MDA2 (DEC+ALB)\", COUNTRY_INFO!$Z44, \" \")","v":" "},null,null,null,null,0,null,null,null,0," "," "," "," "]
[{"$f":"IF(COUNTRY_INFO!A45=0,\" \",COUNTRY_INFO!A45)","v":"Mali"},{"$f":"IF(COUNTRY_INFO!B45=0,\" \",COUNTRY_INFO!B45)","v":"Koulikoro"},{"$f":"IF(COUNTRY_INFO!C45=0,\" \",COUNTRY_INFO!C45)","v":"Koulikoro"},{"$f":"IF(COUNTRY_INFO!$Z45=\"MDA2 (DEC+ALB)\", COUNTRY_INFO!$Z45, \" \")","v":" "},null,null,null,null,0,null,null,null,0," "," "," "," "]
[{"$f":"IF(COUNTRY_INFO!A46=0,\" \",COUNTRY_INFO!A46)","v":"Mali"},{"$f":"IF(COUNTRY_INFO!B46=0,\" \",COUNTRY_INFO!B46)","v":"Koulikoro"},{"$f":"IF(COUNTRY_INFO!C46=0,\" \",COUNTRY_INFO!C46)","v":"Nara"},{"$f":"IF(COUNTRY_INFO!$Z46=\"MDA2 (DEC+ALB)\", COUNTRY_INFO!$Z46, \" \")","v":" "},null,null,null,null,0,null,null,null,0," "," "," "," "]
[{"$f":"IF(COUNTRY_INFO!A47=0,\" \",COUNTRY_INFO!A47)","v":"Mali"},{"$f":"IF(COUNTRY_INFO!B47=0,\" \",COUNTRY_INFO!B47)","v":"Koulikoro"},{"$f":"IF(COUNTRY_INFO!C47=0,\" \",COUNTRY_INFO!C47)","v":"Ouelessebougou"},{"$f":"IF(COUNTRY_INFO!$Z47=\"MDA2 (DEC+ALB)\", COUNTRY_INFO!$Z47, \" \")","v":" "},null,null,null,null,0,null,null,null,0," "," "," "," "]
[{"$f":"IF(COUNTRY_INFO!A48=0,\" \",COUNTRY_INFO!A48)","v":"Mali"},{"$f":"IF(COUNTRY_INFO!B48=0,\" \",COUNTRY_INFO!B48)","v":"Mopti"},{"$f":"IF(COUNTRY_INFO!C48=0,\" \",COUNTRY_INFO!C48)","v":"Bandiagara"},{"$f":"IF(COUNTRY_INFO!$Z48=\"MDA2 (DEC+ALB)\", COUNTRY_INFO!$Z48, \" \")","v":" "},null,null,null,null,0,null,null,null,0," "," "," "," "]
[{"$f":"IF(COUNTRY_INFO!A49=0,\" \",COUNTRY_INFO!A49)","v":"Mali"},{"$f":"IF(COUNTRY_INFO!B49=0,\" \",COUNTRY_INFO!B49)","v":"Mopti"},{"$f":"IF(COUNTRY_INFO!C49=0,\" \",COUNTRY_INFO!C49)","v":"Bankass"},{"$f":"IF(COUNTRY_INFO!$Z49=\"MDA2 (DEC+ALB)\", COUNTRY_INFO!$Z49, \" \")","v":" "},null,null,null,null,0,null,null,null,0," "," "," "," "]
[{"$f":"IF(COUNTRY_INFO!A50=0,\" \",COUNTRY_INFO!A50)","v":"Mali"},{"$f":"IF(COUNTRY_INFO!B50=0,\" \",COUNTRY_INFO!B50)","v":"Mopti"},{"$f":"IF(COUNTRY_INFO!C50=0,\" \",COUNTRY_INFO!C50)","v":"Djenne"},{"$f":"IF(COUNTRY_INFO!$Z50=\"MDA2 (DEC+ALB)\", COUNTRY_INFO!$Z50, \" \")","v":" "},null,null,null,null,0,null,null,null,0," "," "," "," "]
[{"$f":"IF(COUNTRY_INFO!A51=0,\" \",COUNTRY_INFO!A51)","v":"Mali"},{"$f":"IF(COUNTRY_INFO!B51=0,\" \",COUNTRY_INFO!B51)","v":"Mopti"},{"$f":"IF(COUNTRY_INFO!C51=0,\" \",COUNTRY_INFO!C51)","v":"Douentza"},{"$f":"IF(COUNTRY_INFO!$Z51=\"MDA2 (DEC+ALB)\", COUNTRY_INFO!$Z51, \" \")","v":" "},null,null,null,null,0,null,null,null,0," "," "," "," "]
[{"$f":"IF(COUNTRY_INFO!A52=0,\" \",COUNTRY_INFO!A52)","v":"Mali"},{"$f":"IF(COUNTRY_INFO!B52=0,\" \",COUNTRY_INFO!B52)","v":"Mopti"},{"$f":"IF(COUNTRY_INFO!C52=0,\" \",COUNTRY_INFO!C52)","v":"Koro"},{"$f":"IF(COUNTRY_INFO!$Z52=\"MDA2 (DEC+ALB)\", COUNTRY_INFO!$Z52, \" \")","v":" "},null,null,null,null,0,null,null,null,0," "," "," "," "]
[{"$f":"IF(COUNTRY_INFO!A53=0,\" \",COUNTRY_INFO!A53)","v":"Mali"},{"$f":"IF(COUNTRY_INFO!B53=0,\" \",COUNTRY_INFO!B53)","v":"Mopti"},{"$f":"IF(COUNTRY_INFO!C53=0,\" \",COUNTRY_INFO!C53)","v":"Mopti"},{"$f":"IF(COUNTRY_INFO!$Z53=\"MDA2 (DEC+ALB)\", COUNTRY_INFO!$Z53, \" \")","v":" "},null,null,null,null,0,null,null,null,0," "," "," "," "]
[{"$f":"IF(COUNTRY_INFO!A54=0,\" \",COUNTRY_INFO!A54)","v":"Mali"},{"$f":"IF(COUNTRY_INFO!B54=0,\" \",COUNTRY_INFO!B54)","v":"Mopti"},{"$f":"IF(COUNTRY_INFO!C54=0,\" \",COUNTRY_INFO!C54)","v":"Teninkou"},{"$f":"IF(COUNTRY_INFO!$Z54=\"MDA2 (DEC+ALB)\", COUNTRY_INFO!$Z54, \" \")","v":" "},null,null,null,null,0,null,null,null,0," "," "," "," "]
[{"$f":"IF(COUNTRY_INFO!A55=0,\" \",COUNTRY_INFO!A55)","v":"Mali"},{"$f":"IF(COUNTRY_INFO!B55=0,\" \",COUNTRY_INFO!B55)","v":"Mopti"},{"$f":"IF(COUNTRY_INFO!C55=0,\" \",COUNTRY_INFO!C55)","v":"Youwarou"},{"$f":"IF(COUNTRY_INFO!$Z55=\"MDA2 (DEC+ALB)\", COUNTRY_INFO!$Z55, \" \")","v":" "},null,null,null,null,0,null,null,null,0," "," "," "," "]
[{"$f":"IF(COUNTRY_INFO!A56=0,\" \",COUNTRY_INFO!A56)","v":"Mali"},{"$f":"IF(COUNTRY_INFO!B56=0,\" \",COUNTRY_INFO!B56)","v":"Segou"},{"$f":"IF(COUNTRY_INFO!C56=0,\" \",COUNTRY_INFO!C56)","v":"Barouéli"},{"$f":"IF(COUNTRY_INFO!$Z56=\"MDA2 (DEC+ALB)\", COUNTRY_INFO!$Z56, \" \")","v":" "},null,null,null,null,0,null,null,null,0," "," "," "," "]
[{"$f":"IF(COUNTRY_INFO!A57=0,\" \",COUNTRY_INFO!A57)","v":"Mali"},{"$f":"IF(COUNTRY_INFO!B57=0,\" \",COUNTRY_INFO!B57)","v":"Segou"},{"$f":"IF(COUNTRY_INFO!C57=0,\" \",COUNTRY_INFO!C57)","v":"Bla"},{"$f":"IF(COUNTRY_INFO!$Z57=\"MDA2 (DEC+ALB)\", COUNTRY_INFO!$Z57, \" \")","v":" "},null,null,null,null,0,null,null,null,0," "," "," "," "]
[{"$f":"IF(COUNTRY_INFO!A58=0,\" \",COUNTRY_INFO!A58)","v":"Mali"},{"$f":"IF(COUNTRY_INFO!B58=0,\" \",COUNTRY_INFO!B58)","v":"Segou"},{"$f":"IF(COUNTRY_INFO!C58=0,\" \",COUNTRY_INFO!C58)","v":"Macina"},{"$f":"IF(COUNTRY_INFO!$Z58=\"MDA2 (DEC+ALB)\", COUNTRY_INFO!$Z58, \" \")","v":" "},null,null,null,null,0,null,null,null,0," "," "," "," "]
[{"$f":"IF(COUNTRY_INFO!A59=0,\" \",COUNTRY_INFO!A59)","v":"Mali"},{"$f":"IF(COUNTRY_INFO!B59=0,\" \",COUNTRY_INFO!B59)","v":"Segou"},{"$f":"IF(COUNTRY_INFO!C59=0,\" \",COUNTRY_INFO!C59)","v":"Markala"},{"$f":"IF(COUNTRY_INFO!$Z59=\"MDA2 (DEC+ALB)\", COUNTRY_INFO!$Z59, \" \")","v":" "},null,null,null,null,0,null,null,null,0," "," "," "," "]
[{"$f":"IF(COUNTRY_INFO!A60=0,\" \",COUNTRY_INFO!A60)","v":"Mali"},{"$f":"IF(COUNTRY_INFO!B60=0,\" \",COUNTRY_INFO!B60)","v":"Segou"},{"$f":"IF(COUNTRY_INFO!C60=0,\" \",COUNTRY_INFO!C60)","v":"Niono"},{"$f":"IF(COUNTRY_INFO!$Z60=\"MDA2 (DEC+ALB)\", COUNTRY_INFO!$Z60, \" \")","v":" "},null,null,null,null,0,null,null,null,0," "," "," "," "]
[{"$f":"IF(COUNTRY_INFO!A61=0,\" \",COUNTRY_INFO!A61)","v":"Mali"},{"$f":"IF(COUNTRY_INFO!B61=0,\" \",COUNTRY_INFO!B61)","v":"Segou"},{"$f":"IF(COUNTRY_INFO!C61=0,\" \",COUNTRY_INFO!C61)","v":"San"},{"$f":"IF(COUNTRY_INFO!$Z61=\"MDA2 (DEC+ALB)\", COUNTRY_INFO!$Z61, \" \")","v":" "},null,null,null,null,0,null,null,null,0," "," "," "," "]
[{"$f":"IF(COUNTRY_INFO!A62=0,\" \",COUNTRY_INFO!A62)","v":"Mali"},{"$f":"IF(COUNTRY_INFO!B62=0,\" \",COUNTRY_INFO!B62)","v":"Segou"},{"$f":"IF(COUNTRY_INFO!C62=0,\" \",COUNTRY_INFO!C62)","v":"Segou"},{"$f":"IF(COUNTRY_INFO!$Z62=\"MDA2 (DEC+ALB)\", COUNTRY_INFO!$Z62, \" \")","v":" "},null,null,null,null,0,null,null,null,0," "," "," "," "]
[{"$f":"IF(COUNTRY_INFO!A63=0,\" \",COUNTRY_INFO!A63)","v":"Mali"},{"$f":"IF(COUNTRY_INFO!B63=0,\" \",COUNTRY_INFO!B63)","v":"Segou"},{"$f":"IF(COUNTRY_INFO!C63=0,\" \",COUNTRY_INFO!C63)","v":"Tominian"},{"$f":"IF(COUNTRY_INFO!$Z63=\"MDA2 (DEC+ALB)\", COUNTRY_INFO!$Z63, \" \")","v":" "},null,null,null,null,0,null,null,null,0," "," "," "," "]
[{"$f":"IF(COUNTRY_INFO!A64=0,\" \",COUNTRY_INFO!A64)","v":"Mali"},{"$f":"IF(COUNTRY_INFO!B64=0,\" \",COUNTRY_INFO!B64)","v":"Sikasso"},{"$f":"IF(COUNTRY_INFO!C64=0,\" \",COUNTRY_INFO!C64)","v":"Bougouni"},{"$f":"IF(COUNTRY_INFO!$Z64=\"MDA2 (DEC+ALB)\", COUNTRY_INFO!$Z64, \" \")","v":" "},null,null,null,null,0,null,null,null,0," "," "," "," "]
[{"$f":"IF(COUNTRY_INFO!A65=0,\" \",COUNTRY_INFO!A65)","v":"Mali"},{"$f":"IF(COUNTRY_INFO!B65=0,\" \",COUNTRY_INFO!B65)","v":"Sikasso"},{"$f":"IF(COUNTRY_INFO!C65=0,\" \",COUNTRY_INFO!C65)","v":"Kadiolo"},{"$f":"IF(COUNTRY_INFO!$Z65=\"MDA2 (DEC+ALB)\", COUNTRY_INFO!$Z65, \" \")","v":" "},null,null,null,null,0,null,null,null,0," "," "," "," "]
[{"$f":"IF(COUNTRY_INFO!A66=0,\" \",COUNTRY_INFO!A66)","v":"Mali"},{"$f":"IF(COUNTRY_INFO!B66=0,\" \",COUNTRY_INFO!B66)","v":"Sikasso"},{"$f":"IF(COUNTRY_INFO!C66=0,\" \",COUNTRY_INFO!C66)","v":"Kignan"},{"$f":"IF(COUNTRY_INFO!$Z66=\"MDA2 (DEC+ALB)\", COUNTRY_INFO!$Z66, \" \")","v":" "},null,null,null,null,0,null,null,null,0," "," "," "," "]
[{"$f":"IF(COUNTRY_INFO!A67=0,\" \",COUNTRY_INFO!A67)","v":"Mali"},{"$f":"IF(COUNTRY_INFO!B67=0,\" \",COUNTRY_INFO!B67)","v":"Sikasso"},{"$f":"IF(COUNTRY_INFO!C67=0,\" \",COUNTRY_INFO!C67)","v":"Kolondieba"},{"$f":"IF(COUNTRY_INFO!$Z67=\"MDA2 (DEC+ALB)\", COUNTRY_INFO!$Z67, \" \")","v":" "},null,null,null,null,0,null,null,null,0," "," "," "," "]
[{"$f":"IF(COUNTRY_INFO!A68=0,\" \",COUNTRY_INFO!A68)","v":"Mali"},{"$f":"IF(COUNTRY_INFO!B68=0,\" \",COUNTRY_INFO!B68)","v":"Sikasso"},{"$f":"IF(COUNTRY_INFO!C68=0,\" \",COUNTRY_INFO!C68)","v":"Koutiala"},{"$f":"IF(COUNTRY_INFO!$Z68=\"MDA2 (DEC+ALB)\", COUNTRY_INFO!$Z68, \" \")","v":" "},null,null,null,null,0,null,null,null,0," "," "," "," "]
[{"$f":"IF(COUNTRY_INFO!A69=0,\" \",COUNTRY_INFO!A69)","v":"Mali"},{"$f":"IF(COUNTRY_INFO!B69=0,\" \",COUNTRY_INFO!B69)","v":"Sikasso"},{"$f":"IF(COUNTRY_INFO!C69=0,\" \",COUNTRY_INFO!C69)","v":"Niena"},{"$f":"IF(COUNTRY_INFO!$Z69=\"MDA2 (DEC+ALB)\", COUNTRY_INFO!$Z69, \" \")","v":" "},null,null,null,null,0,null,null,null,0," "," "," "," "]
[{"$f":"IF(COUNTRY_INFO!A70=0,\" \",COUNTRY_INFO!A70)","v":"Mali"},{"$f":"IF(COUNTRY_INFO!B70=0,\" \",COUNTRY_INFO!B70)","v":"Sikasso"},{"$f":"IF(COUNTRY_INFO!C70=0,\" \",COUNTRY_INFO!C70)","v":"Sélingué"},{"$f":"IF(COUNTRY_INFO!$Z70=\"MDA2 (DEC+ALB)\", COUNTRY_INFO!$Z70, \" \")","v":" "},null,null,null,null,0,null,null,null,0," "," "," "," "]
[{"$f":"IF(COUNTRY_INFO!A71=0,\" \",COUNTRY_INFO!A71)","v":"Mali"},{"$f":"IF(COUNTRY_INFO!B71=0,\" \",COUNTRY_INFO!B71)","v":"Sikasso"},{"$f":"IF(COUNTRY_INFO!C71=0,\" \",COUNTRY_INFO!C71)","v":"Sikasso"},{"$f":"IF(COUNTRY_INFO!$Z71=\"MDA2 (DEC+ALB)\", COUNTRY_INFO!$Z71, \" \")","v":" "},null,null,null,null,0,null,null,null,0," "," "," "," "]
[{"$f":"IF(COUNTRY_INFO!A72=0,\" \",COUNTRY_INFO!A72)","v":"Mali"},{"$f":"IF(COUNTRY_INFO!B72=0,\" \",COUNTRY_INFO!B72)","v":"Sikasso"},{"$f":"IF(COUNTRY_INFO!C72=0,\" \",COUNTRY_INFO!C72)","v":"Yanfolila"},{"$f":"IF(COUNTRY_INFO!$Z72=\"MDA2 (DEC+ALB)\", COUNTRY_INFO!$Z72, \" \")","v":" "},null,null,null,null,0,null,null,null,0," "," "," "," "]
[{"$f":"IF(COUNTRY_INFO!A73=0,\" \",COUNTRY_INFO!A73)","v":"Mali"},{"$f":"IF(COUNTRY_INFO!B73=0,\" \",COUNTRY_INFO!B73)","v":"Sikasso"},{"$f":"IF(COUNTRY_INFO!C73=0,\" \",COUNTRY_INFO!C73)","v":"Yorosso"},{"$f":"IF(COUNTRY_INFO!$Z73=\"MDA2 (DEC+ALB)\", COUNTRY_INFO!$Z73, \" \")","v":" "},null,null,null,null,0,null,null,null,0," "," "," "," "]
[{"$f":"IF(COUNTRY_INFO!A74=0,\" \",COUNTRY_INFO!A74)","v":"Mali"},{"$f":"IF(COUNTRY_INFO!B74=0,\" \",COUNTRY_INFO!B74)","v":"Tombouctou"},{"$f":"IF(COUNTRY_INFO!C74=0,\" \",COUNTRY_INFO!C74)","v":"Diré"},{"$f":"IF(COUNTRY_INFO!$Z74=\"MDA2 (DEC+ALB)\", COUNTRY_INFO!$Z74, \" \")","v":" "},null,null,null,null,0,null,null,null,0," "," "," "," "]
[{"$f":"IF(COUNTRY_INFO!A75=0,\" \",COUNTRY_INFO!A75)","v":"Mali"},{"$f":"IF(COUNTRY_INFO!B75=0,\" \",COUNTRY_INFO!B75)","v":"Tombouctou"},{"$f":"IF(COUNTRY_INFO!C75=0,\" \",COUNTRY_INFO!C75)","v":"Goundam"},{"$f":"IF(COUNTRY_INFO!$Z75=\"MDA2 (DEC+ALB)\", COUNTRY_INFO!$Z75, \" \")","v":" "},null,null,null,null,{"$f":"SUM(F75:H75)","v":0},null,null,null,{"$f":"SUM(J75:L75)","v":0},{"$f":"IF(F75<>0, IF(J75/F75*100=0, \"-\", J75/F75*100), \" \")","v":" "},{"$f":"IF(G75<>0, IF(K75/G75*100=0, \"-\", K75/G75*100), \" \")","v":" "},{"$f":"IF(H75<>0, IF(L75/H75*100=0, \"-\", L75/H75*100), \" \")","v":" "},{"$f":"IF(I75<>0, IF(M75/I75*100=0, \"-\", M75/I75*100), \" \")","v":" "}]
[{"$f":"IF(COUNTRY_INFO!A76=0,\" \",COUNTRY_INFO!A76)","v":"Mali"},{"$f":"IF(COUNTRY_INFO!B76=0,\" \",COUNTRY_INFO!B76)","v":"Tombouctou"},{"$f":"IF(COUNTRY_INFO!C76=0,\" \",COUNTRY_INFO!C76)","v":"Gourma-Rharous"},{"$f":"IF(COUNTRY_INFO!$Z76=\"MDA2 (DEC+ALB)\", COUNTRY_INFO!$Z76, \" \")","v":" "},null,null,null,null,0,null,null,null,0," "," "," "," "]
[{"$f":"IF(COUNTRY_INFO!A77=0,\" \",COUNTRY_INFO!A77)","v":"Mali"},{"$f":"IF(COUNTRY_INFO!B77=0,\" \",COUNTRY_INFO!B77)","v":"Tombouctou"},{"$f":"IF(COUNTRY_INFO!C77=0,\" \",COUNTRY_INFO!C77)","v":"Niafunké"},{"$f":"IF(COUNTRY_INFO!$Z77=\"MDA2 (DEC+ALB)\", COUNTRY_INFO!$Z77, \" \")","v":" "},null,null,null,null,0,null,null,null,0," "," "," "," "]
[{"$f":"IF(COUNTRY_INFO!A78=0,\" \",COUNTRY_INFO!A78)","v":"Mali"},{"$f":"IF(COUNTRY_INFO!B78=0,\" \",COUNTRY_INFO!B78)","v":"Tombouctou"},{"$f":"IF(COUNTRY_INFO!C78=0,\" \",COUNTRY_INFO!C78)","v":"Tombouctou"},{"$f":"IF(COUNTRY_INFO!$Z78=\"MDA2 (DEC+ALB)\", COUNTRY_INFO!$Z78, \" \")","v":" "},null,null,null,null,0,null,null,null,0," "," "," "," "]
[{"$f":"IF(COUNTRY_INFO!A79=0,\" \",COUNTRY_INFO!A79)","v":"Mali"},{"$f":"IF(COUNTRY_INFO!B79=0,\" \",COUNTRY_INFO!B79)","v":"Taoudenit"},{"$f":"IF(COUNTRY_INFO!C79=0,\" \",COUNTRY_INFO!C79)","v":"Achourat"},{"$f":"IF(COUNTRY_INFO!$Z79=\"MDA2 (DEC+ALB)\", COUNTRY_INFO!$Z79, \" \")","v":" "},null,null,null,null,0,null,null,null,0," "," "," "," "]
[{"$f":"IF(COUNTRY_INFO!A80=0,\" \",COUNTRY_INFO!A80)","v":"Mali"},{"$f":"IF(COUNTRY_INFO!B80=0,\" \",COUNTRY_INFO!B80)","v":"Taoudenit"},{"$f":"IF(COUNTRY_INFO!C80=0,\" \",COUNTRY_INFO!C80)","v":"Al-Ourch"},{"$f":"IF(COUNTRY_INFO!$Z80=\"MDA2 (DEC+ALB)\", COUNTRY_INFO!$Z80, \" \")","v":" "},null,null,null,null,0,null,null,null,0," "," "," "," "]
[{"$f":"IF(COUNTRY_INFO!A81=0,\" \",COUNTRY_INFO!A81)","v":"Mali"},{"$f":"IF(COUNTRY_INFO!B81=0,\" \",COUNTRY_INFO!B81)","v":"Taoudenit"},{"$f":"IF(COUNTRY_INFO!C81=0,\" \",COUNTRY_INFO!C81)","v":"Araouane"},{"$f":"IF(COUNTRY_INFO!$Z81=\"MDA2 (DEC+ALB)\", COUNTRY_INFO!$Z81, \" \")","v":" "},null,null,null,null,0,null,null,null,0," "," "," "," "]
[{"$f":"IF(COUNTRY_INFO!A82=0,\" \",COUNTRY_INFO!A82)","v":"Mali"},{"$f":"IF(COUNTRY_INFO!B82=0,\" \",COUNTRY_INFO!B82)","v":"Taoudenit"},{"$f":"IF(COUNTRY_INFO!C82=0,\" \",COUNTRY_INFO!C82)","v":"Boujbeha"},{"$f":"IF(COUNTRY_INFO!$Z82=\"MDA2 (DEC+ALB)\", COUNTRY_INFO!$Z82, \" \")","v":" "},null,null,null,null,0,null,null,null,0," "," "," "," "]
[{"$f":"IF(COUNTRY_INFO!A83=0,\" \",COUNTRY_INFO!A83)","v":"Mali"},{"$f":"IF(COUNTRY_INFO!B83=0,\" \",COUNTRY_INFO!B83)","v":"Taoudenit"},{"$f":"IF(COUNTRY_INFO!C83=0,\" \",COUNTRY_INFO!C83)","v":"Foum-Elba"},{"$f":"IF(COUNTRY_INFO!$Z83=\"MDA2 (DEC+ALB)\", COUNTRY_INFO!$Z83, \" \")","v":" "},null,null,null,null,0,null,null,null,0," "," "," "," "]
[{"$f":"IF(COUNTRY_INFO!A84=0,\" \",COUNTRY_INFO!A84)","v":"Mali"},{"$f":"IF(COUNTRY_INFO!B84=0,\" \",COUNTRY_INFO!B84)","v":"Taoudenit"},{"$f":"IF(COUNTRY_INFO!C84=0,\" \",COUNTRY_INFO!C84)","v":"Taoudenit"},{"$f":"IF(COUNTRY_INFO!$Z84=\"MDA2 (DEC+ALB)\", COUNTRY_INFO!$Z84, \" \")","v":" "},null,null,null,null,0,null,null,null,0," "," "," "," "]

{"sheet":"MDA3","index":4,"n_rows":84,"n_cols":20,"rows_kept":84,"cut":false,"hidden":false,"merged":[[5,5,5,7],[5,17,5,19],[3,0,3,2],[5,0,5,2],[5,3,6,3],[5,4,6,4],[5,8,5,10],[5,11,5,13],[5,14,5,16]]}
["MDA 3 - Ivermectine (IVM) "]
["Structure administrative, population nécessitant une chimioprévention par groupe d'âge, population traitée par groupe d'âge et couverture"]
[]
["TOTAL",null,null,null,null,{"$f":"SUBTOTAL(9,F$10:F$1010)","v":1885504.7959193247},3352008.5260787997,5237513.3219981249,2060663,3118166,5178829,0,0,0,2060663,3118166,5178829,{"$f":"IF(F4<>0, IF(O4/F4*100=0, \"-\", O4/F4*100), \" \")","v":109.28972466470299},{"$f":"IF(G4<>0, IF(P4/G4*100=0, \"-\", P4/G4*100), \" \")","v":93.023808732600386},{"$f":"IF(H4<>0, IF(Q4/H4*100=0, \"-\", Q4/H4*100), \" \")","v":98.879538468157307}]
[]
["Structure administrative du pays",null,null,"Mise en oeuvre \nde la CP","Date","Population ciblée pour MDA 3",null,null,"Population traitée - tournée 1",null,null,"Population traitée - tournée 2",null,null,"Population traitée",null,null,"Couverture du Programme (%)"]
["Pays","Région/Département","District",null,null,"EAS","Adultes","Total","EAS","Adultes","Total","EAS","Adultes","Total","EAS","Adultes","Total","EAS","Adultes","Total"]
[]
[]
[{"$f":"IF(COUNTRY_INFO!A10=0,\" \",COUNTRY_INFO!A10)","v":"Mali"},{"$f":"IF(COUNTRY_INFO!B10=0,\" \",COUNTRY_INFO!B10)","v":"Bamako"},{"$f":"IF(COUNTRY_INFO!C10=0,\" \",COUNTRY_INFO!C10)","v":"Commune 1"},{"$f":"IF(COUNTRY_INFO!$Z10=\"MDA3 (IVM)\", COUNTRY_INFO!$Z10, \" \")","v":" "},null,null,null,{"$f":"SUM(F10:G10)","v":0},null,null,{"$f":"SUM(I10:J10)","v":0},null,null,{"$f":"SUM(L10:M10)","v":0},{"$f":"MAX(I10,L10)","v":0},0,{"$f":"SUM(O10:P10)","v":0},{"$f":"IF(F10<>0, IF(MAX(I10,L10)/F10*100=0, \"-\", MAX(I10,L10)/F10*100), \" \")","v":" "}," ",{"$f":"IF(H10<>0, IF((MAX(I10,L10)+MAX(J10,M10))/H10*100=0, \"-\",(MAX(I10,L10)+MAX(J10,M10))/H10*100), \" \")","v":" "}]
[{"$f":"IF(COUNTRY_INFO!A11=0,\" \",COUNTRY_INFO!A11)","v":"Mali"},{"$f":"IF(COUNTRY_INFO!B11=0,\" \",COUNTRY_INFO!B11)","v":"Bamako"},{"$f":"IF(COUNTRY_INFO!C11=0,\" \",COUNTRY_INFO!C11)","v":"Commune 2"},{"$f":"IF(COUNTRY_INFO!$Z11=\"MDA3 (IVM)\", COUNTRY_INFO!$Z11, \" \")","v":" "},null,null,null,{"$f":"SUM(F11:G11)","v":0},null,null,{"$f":"SUM(I11:J11)","v":0},null,null,{"$f":"SUM(L11:M11)","v":0},{"$f":"MAX(I11,L11)","v":0},{"$f":"MAX(J11,M11)","v":0},{"$f":"SUM(O11:P11)","v":0},{"$f":"IF(F11<>0, IF(MAX(I11,L11)/F11*100=0, \"-\", MAX(I11,L11)/F11*100), \" \")","v":" "},{"$f":"IF(G11<>0, IF(MAX(J11,M11)/G11*100=0, \"-\", MAX(J11,M11)/G11*100), \" \")","v":" "},{"$f":"IF(H11<>0, IF((MAX(I11,L11)+MAX(J11,M11))/H11*100=0, \"-\",(MAX(I11,L11)+MAX(J11,M11))/H11*100), \" \")","v":" "}]
[{"$f":"IF(COUNTRY_INFO!A12=0,\" \",COUNTRY_INFO!A12)","v":"Mali"},{"$f":"IF(COUNTRY_INFO!B12=0,\" \",COUNTRY_INFO!B12)","v":"Bamako"},{"$f":"IF(COUNTRY_INFO!C12=0,\" \",COUNTRY_INFO!C12)","v":"Commune 3"},{"$f":"IF(COUNTRY_INFO!$Z12=\"MDA3 (IVM)\", COUNTRY_INFO!$Z12, \" \")","v":" "},null,null,null,0,null,null,0,null,null,0,0,0,0," "," "," "]
[{"$f":"IF(COUNTRY_INFO!A13=0,\" \",COUNTRY_INFO!A13)","v":"Mali"},{"$f":"IF(COUNTRY_INFO!B13=0,\" \",COUNTRY_INFO!B13)","v":"Bamako"},{"$f":"IF(COUNTRY_INFO!C13=0,\" \",COUNTRY_INFO!C13)","v":"Commune 4"},{"$f":"IF(COUNTRY_INFO!$Z13=\"MDA3 (IVM)\", COUNTRY_INFO!$Z13, \" \")","v":" "},null,null,null,0,null,null,0,null,null,0,0,0,0," "," "," "]
[{"$f":"IF(COUNTRY_INFO!A14=0,\" \",COUNTRY_INFO!A14)","v":"Mali"},{"$f":"IF(COUNTRY_INFO!B14=0,\" \",COUNTRY_INFO!B14)","v":"Bamako"},{"$f":"IF(COUNTRY_INFO!C14=0,\" \",COUNTRY_INFO!C14)","v":"Commune 5"},{"$f":"IF(COUNTRY_INFO!$Z14=\"MDA3 (IVM)\", COUNTRY_INFO!$Z14, \" \")","v":" "},null,null,null,0,null,null,0,null,null,0,0,0,0," "," "," "]
[{"$f":"IF(COUNTRY_INFO!A15=0,\" \",COUNTRY_INFO!A15)","v":"Mali"},{"$f":"IF(COUNTRY_INFO!B15=0,\" \",COUNTRY_INFO!B15)","v":"Bamako"},{"$f":"IF(COUNTRY_INFO!C15=0,\" \",COUNTRY_INFO!C15)","v":"Commune 6"},{"$f":"IF(COUNTRY_INFO!$Z15=\"MDA3 (IVM)\", COUNTRY_INFO!$Z15, \" \")","v":" "},null,null,null,0,null,null,0,null,null,0,0,0,0," "," "," "]
[{"$f":"IF(COUNTRY_INFO!A16=0,\" \",COUNTRY_INFO!A16)","v":"Mali"},{"$f":"IF(COUNTRY_INFO!B16=0,\" \",COUNTRY_INFO!B16)","v":"Gao"},{"$f":"IF(COUNTRY_INFO!C16=0,\" \",COUNTRY_INFO!C16)","v":"Ansongo"},{"$f":"IF(COUNTRY_INFO!$Z16=\"MDA3 (IVM)\", COUNTRY_INFO!$Z16, \" \")","v":" "},null,null,null,0,null,null,0,null,null,0,0,0,0," "," "," "]
[{"$f":"IF(COUNTRY_INFO!A17=0,\" \",COUNTRY_INFO!A17)","v":"Mali"},{"$f":"IF(COUNTRY_INFO!B17=0,\" \",COUNTRY_INFO!B17)","v":"Gao"},{"$f":"IF(COUNTRY_INFO!C17=0,\" \",COUNTRY_INFO!C17)","v":"Bourem"},{"$f":"IF(COUNTRY_INFO!$Z17=\"MDA3 (IVM)\", COUNTRY_INFO!$Z17, \" \")","v":" "},null,null,null,0,null,null,0,null,null,0,0,0,0," "," "," "]
[{"$f":"IF(COUNTRY_INFO!A18=0,\" \",COUNTRY_INFO!A18)","v":"Mali"},{"$f":"IF(COUNTRY_INFO!B18=0,\" \",COUNTRY_INFO!B18)","v":"Gao"},{"$f":"IF(COUNTRY_INFO!C18=0,\" \",COUNTRY_INFO!C18)","v":"Almoustrat"},{"$f":"IF(COUNTRY_INFO!$Z18=\"MDA3 (IVM)\", COUNTRY_INFO!$Z18, \" \")","v":" "},null,null,null,0,null,null,0,null,null,0,0,0,0," "," "," "]
[{"$f":"IF(COUNTRY_INFO!A19=0,\" \",COUNTRY_INFO!A19)","v":"Mali"},{"$f":"IF(COUNTRY_INFO!B19=0,\" \",COUNTRY_INFO!B19)","v":"Gao"},{"$f":"IF(COUNTRY_INFO!C19=0,\" \",COUNTRY_INFO!C19)","v":"Gao"},{"$f":"IF(COUNTRY_INFO!$Z19=\"MDA3 (IVM)\", COUNTRY_INFO!$Z19, \" \")","v":" "},null,null,null,0,null,null,0,null,null,0,0,0,0," "," "," "]
[{"$f":"IF(COUNTRY_INFO!A20=0,\" \",COUNTRY_INFO!A20)","v":"Mali"},{"$f":"IF(COUNTRY_INFO!B20=0,\" \",COUNTRY_INFO!B20)","v":"Menaka"},{"$f":"IF(COUNTRY_INFO!C20=0,\" \",COUNTRY_INFO!C20)","v":"Menaka"},{"$f":"IF(COUNTRY_INFO!$Z20=\"MDA3 (IVM)\", COUNTRY_INFO!$Z20, \" \")","v":" "},null,null,null,0,null,null,0,null,null,0,0,0,0," "," "," "]
[{"$f":"IF(COUNTRY_INFO!A21=0,\" \",COUNTRY_INFO!A21)","v":"Mali"},{"$f":"IF(COUNTRY_INFO!B21=0,\" \",COUNTRY_INFO!B21)","v":"Menaka"},{"$f":"IF(COUNTRY_INFO!C21=0,\" \",COUNTRY_INFO!C21)","v":"Anderamboukane"},{"$f":"IF(COUNTRY_INFO!$Z21=\"MDA3 (IVM)\", COUNTRY_INFO!$Z21, \" \")","v":" "},null,null,null,0,null,null,0,null,null,0,0,0,0," "," "," "]
[{"$f":"IF(COUNTRY_INFO!A22=0,\" \",COUNTRY_INFO!A22)","v":"Mali"},{"$f":"IF(COUNTRY_INFO!B22=0,\" \",COUNTRY_INFO!B22)","v":"Menaka"},{"$f":"IF(COUNTRY_INFO!C22=0,\" \",COUNTRY_INFO!C22)","v":"Inekar"},{"$f":"IF(COUNTRY_INFO!$Z22=\"MDA3 (IVM)\", COUNTRY_INFO!$Z22, \" \")","v":" "},null,null,null,0,null,null,0,null,null,0,0,0,0," "," "," "]
[{"$f":"IF(COUNTRY_INFO!A23=0,\" \",COUNTRY_INFO!A23)","v":"Mali"},{"$f":"IF(COUNTRY_INFO!B23=0,\" \",COUNTRY_INFO!B23)","v":"Menaka"},{"$f":"IF(COUNTRY_INFO!C23=0,\" \",COUNTRY_INFO!C23)","v":"Tidermene"},{"$f":"IF(COUNTRY_INFO!$Z23=\"MDA3 (IVM)\", COUNTRY_INFO!$Z23, \" \")","v":" "},null,null,null,0,null,null,0,null,null,0,0,0,0," "," "," "]
[{"$f":"IF(COUNTRY_INFO!A24=0,\" \",COUNTRY_INFO!A24)","v":"Mali"},{"$f":"IF(COUNTRY_INFO!B24=0,\" \",COUNTRY_INFO!B24)","v":"Kayes"},{"$f":"IF(COUNTRY_INFO!C24=0,\" \",COUNTRY_INFO!C24)","v":"Bafoulabe"},{"$f":"IF(COUNTRY_INFO!$Z24=\"MDA3 (IVM)\", COUNTRY_INFO!$Z24, \" \")","v":"MDA3 (IVM)"},"mars 2023",54996.479999999996,97771.520000000004,152768,50133,75545,125678,null,null,0,50133,75545,125678,91.156743122468924,77.266876898303309,82.267228739002931]
[{"$f":"IF(COUNTRY_INFO!A25=0,\" \",COUNTRY_INFO!A25)","v":"Mali"},{"$f":"IF(COUNTRY_INFO!B25=0,\" \",COUNTRY_INFO!B25)","v":"Kayes"},{"$f":"IF(COUNTRY_INFO!C25=0,\" \",COUNTRY_INFO!C25)","v":"Diema"},{"$f":"IF(COUNTRY_INFO!$Z25=\"MDA3 (IVM)\", COUNTRY_INFO!$Z25, \" \")","v":" "},null,null,null,0,null,null,0,null,null,0,0,0,0," "," "," "]
[{"$f":"IF(COUNTRY_INFO!A26=0,\" \",COUNTRY_INFO!A26)","v":"Mali"},{"$f":"IF(COUNTRY_INFO!B26=0,\" \",COUNTRY_INFO!B26)","v":"Kayes"},{"$f":"IF(COUNTRY_INFO!C26=0,\" \",COUNTRY_INFO!C26)","v":"Kayes"},{"$f":"IF(COUNTRY_INFO!$Z26=\"MDA3 (IVM)\", COUNTRY_INFO!$Z26, \" \")","v":"MDA3 (IVM)"},"mars 2023",220713.696,392379.90399999998,613093.6,200998,377725,578723,null,null,0,200998,377725,578723,91.067298333856002,96.265123710311116,94.39390657478728]
[{"$f":"IF(COUNTRY_INFO!A27=0,\" \",COUNTRY_INFO!A27)","v":"Mali"},{"$f":"IF(COUNTRY_INFO!B27=0,\" \",COUNTRY_INFO!B27)","v":"Kayes"},{"$f":"IF(COUNTRY_INFO!C27=0,\" \",COUNTRY_INFO!C27)","v":"Kenieba"},{"$f":"IF(COUNTRY_INFO!$Z27=\"MDA3 (IVM)\", COUNTRY_INFO!$Z27, \" \")","v":"MDA3 (IVM)"},"mars 2023",83623.383329007673,148663.79258490255,232287.17591391021,84628,107905,192533,null,null,0,84628,107905,192533,101.20135855666084,72.583241772454429,82.885763814768737]
[{"$f":"IF(COUNTRY_INFO!A28=0,\" \",COUNTRY_INFO!A28)","v":"Mali"},{"$f":"IF(COUNTRY_INFO!B28=0,\" \",COUNTRY_INFO!B28)","v":"Kayes"},{"$f":"IF(COUNTRY_INFO!C28=0,\" \",COUNTRY_INFO!C28)","v":"Kita"},{"$f":"IF(COUNTRY_INFO!$Z28=\"MDA3 (IVM)\", COUNTRY_INFO!$Z28, \" \")","v":"MDA3 (IVM)"},"mars 2023",156686.976,278554.62400000001,435241.6,173623,289356,462979,null,null,0,173623,289356,462979,110.80882689318096,103.87765094145411,106.37287428407581]
[{"$f":"IF(COUNTRY_INFO!A29=0,\" \",COUNTRY_INFO!A29)","v":"Mali"},{"$f":"IF(COUNTRY_INFO!B29=0,\" \",COUNTRY_INFO!B29)","v":"Kayes"},{"$f":"IF(COUNTRY_INFO!C29=0,\" \",COUNTRY_INFO!C29)","v":"Sagabari"},{"$f":"IF(COUNTRY_INFO!$Z29=\"MDA3 (IVM)\", COUNTRY_INFO!$Z29, \" \")","v":"MDA3 (IVM)"},"mars 2023",17202.736942814849,30582.643453893066,47785.380396707915,17279,21282,38561,null,null,0,17279,21282,38561,100.44331932435324,69.588490713973499,80.696229013710209]
[{"$f":"IF(COUNTRY_INFO!A30=0,\" \",COUNTRY_INFO!A30)","v":"Mali"},{"$f":"IF(COUNTRY_INFO!B30=0,\" \",COUNTRY_INFO!B30)","v":"Kayes"},{"$f":"IF(COUNTRY_INFO!C30=0,\" \",COUNTRY_INFO!C30)","v":"Sefeto"},{"$f":"IF(COUNTRY_INFO!$Z30=\"MDA3 (IVM)\", COUNTRY_INFO!$Z30, \" \")","v":"MDA3 (IVM)"},"mars 2023",20469.312000000002,36389.888000000006,56859.200000000012,19164,35365,54529,null,null,0,19164,35365,54529,93.623078293984662,97.183591221825125,95.901806567802552]
[{"$f":"IF(COUNTRY_INFO!A31=0,\" \",COUNTRY_INFO!A31)","v":"Mali"},{"$f":"IF(COUNTRY_INFO!B31=0,\" \",COUNTRY_INFO!B31)","v":"Kayes"},{"$f":"IF(COUNTRY_INFO!C31=0,\" \",COUNTRY_INFO!C31)","v":"Nioro"},{"$f":"IF(COUNTRY_INFO!$Z31=\"MDA3 (IVM)\", COUNTRY_INFO!$Z31, \" \")","v":" "},null,null,null,0,null,null,0,null,null,0,0,0,0," "," "," "]
[{"$f":"IF(COUNTRY_INFO!A32=0,\" \",COUNTRY_INFO!A32)","v":"Mali"},{"$f":"IF(COUNTRY_INFO!B32=0,\" \",COUNTRY_INFO!B32)","v":"Kayes"},{"$f":"IF(COUNTRY_INFO!C32=0,\" \",COUNTRY_INFO!C32)","v":"Oussoubidiagna"},{"$f":"IF(COUNTRY_INFO!$Z32=\"MDA3 (IVM)\", COUNTRY_INFO!$Z32, \" \")","v":"MDA3 (IVM)"},"mars 2023",44660.651647502316,79396.714040004124,124057.36568750645,51119,61700,112819,null,null,0,51119,61700,112819,114.46093622518576,77.711024626173298,90.940992801817771]
[{"$f":"IF(COUNTRY_INFO!A33=0,\" \",COUNTRY_INFO!A33)","v":"Mali"},{"$f":"IF(COUNTRY_INFO!B33=0,\" \",COUNTRY_INFO!B33)","v":"Kayes"},{"$f":"IF(COUNTRY_INFO!C33=0,\" \",COUNTRY_INFO!C33)","v":"Yelimane"},{"$f":"IF(COUNTRY_INFO!$Z33=\"MDA3 (IVM)\", COUNTRY_INFO!$Z33, \" \")","v":" "},null,null,null,0,null,null,0,null,null,0,0,0,0," "," "," "]
[{"$f":"IF(COUNTRY_INFO!A34=0,\" \",COUNTRY_INFO!A34)","v":"Mali"},{"$f":"IF(COUNTRY_INFO!B34=0,\" \",COUNTRY_INFO!B34)","v":"Kidal"},{"$f":"IF(COUNTRY_INFO!C34=0,\" \",COUNTRY_INFO!C34)","v":"Abeibara"},{"$f":"IF(COUNTRY_INFO!$Z34=\"MDA3 (IVM)\", COUNTRY_INFO!$Z34, \" \")","v":" "},null,null,null,0,null,null,0,null,null,0,0,0,0," "," "," "]
[{"$f":"IF(COUNTRY_INFO!A35=0,\" \",COUNTRY_INFO!A35)","v":"Mali"},{"$f":"IF(COUNTRY_INFO!B35=0,\" \",COUNTRY_INFO!B35)","v":"Kidal"},{"$f":"IF(COUNTRY_INFO!C35=0,\" \",COUNTRY_INFO!C35)","v":"Kidal"},{"$f":"IF(COUNTRY_INFO!$Z35=\"MDA3 (IVM)\", COUNTRY_INFO!$Z35, \" \")","v":" "},null,null,null,0,null,null,0,null,null,0,0,0,0," "," "," "]
[{"$f":"IF(COUNTRY_INFO!A36=0,\" \",COUNTRY_INFO!A36)","v":"Mali"},{"$f":"IF(COUNTRY_INFO!B36=0,\" \",COUNTRY_INFO!B36)","v":"Kidal"},{"$f":"IF(COUNTRY_INFO!C36=0,\" \",COUNTRY_INFO!C36)","v":"Tessalit"},{"$f":"IF(COUNTRY_INFO!$Z36=\"MDA3 (IVM)\", COUNTRY_INFO!$Z36, \" \")","v":" "},null,null,null,0,null,null,0,null,null,0,0,0,0," "," "," "]
[{"$f":"IF(COUNTRY_INFO!A37=0,\" \",COUNTRY_INFO!A37)","v":"Mali"},{"$f":"IF(COUNTRY_INFO!B37=0,\" \",COUNTRY_INFO!B37)","v":"Kidal"},{"$f":"IF(COUNTRY_INFO!C37=0,\" \",COUNTRY_INFO!C37)","v":"Tin-Essako"},{"$f":"IF(COUNTRY_INFO!$Z37=\"MDA3 (IVM)\", COUNTRY_INFO!$Z37, \" \")","v":" "},null,null,null,0,null,null,0,null,null,0,0,0,0," "," "," "]
[{"$f":"IF(COUNTRY_INFO!A38=0,\" \",COUNTRY_INFO!A38)","v":"Mali"},{"$f":"IF(COUNTRY_INFO!B38=0,\" \",COUNTRY_INFO!B38)","v":"Koulikoro"},{"$f":"IF(COUNTRY_INFO!C38=0,\" \",COUNTRY_INFO!C38)","v":"Banamba"},{"$f":"IF(COUNTRY_INFO!$Z38=\"MDA3 (IVM)\", COUNTRY_INFO!$Z38, \" \")","v":" "},null,null,null,0,null,null,0,null,null,0,0,0,0," "," "," "]
[{"$f":"IF(COUNTRY_INFO!A39=0,\" \",COUNTRY_INFO!A39)","v":"Mali"},{"$f":"IF(COUNTRY_INFO!B39=0,\" \",COUNTRY_INFO!B39)","v":"Koulikoro"},{"$f":"IF(COUNTRY_INFO!C39=0,\" \",COUNTRY_INFO!C39)","v":"Dioila"},{"$f":"IF(COUNTRY_INFO!$Z39=\"MDA3 (IVM)\", COUNTRY_INFO!$Z39, \" \")","v":"MDA3 (IVM)"},"fevrier 2023",113777.64,202271.36000000002,316049,139436,178882,318318,null,null,0,139436,178882,318318,122.5513202769894,88.436642735778307,100.7179266506143]
[{"$f":"IF(COUNTRY_INFO!A40=0,\" \",COUNTRY_INFO!A40)","v":"Mali"},{"$f":"IF(COUNTRY_INFO!B40=0,\" \",COUNTRY_INFO!B40)","v":"Koulikoro"},{"$f":"IF(COUNTRY_INFO!C40=0,\" \",COUNTRY_INFO!C40)","v":"Fana"},{"$f":"IF(COUNTRY_INFO!$Z40=\"MDA3 (IVM)\", COUNTRY_INFO!$Z40, \" \")","v":"MDA3 (IVM)"},"fevrier 2023",96921.72,172305.28,269227,107565,162612,270177,null,null,0,107565,162612,270177,110.98131564318091,94.374356955283091,100.35286208292631]
[{"$f":"IF(COUNTRY_INFO!A41=0,\" \",COUNTRY_INFO!A41)","v":"Mali"},{"$f":"IF(COUNTRY_INFO!B41=0,\" \",COUNTRY_INFO!B41)","v":"Koulikoro"},{"$f":"IF(COUNTRY_INFO!C41=0,\" \",COUNTRY_INFO!C41)","v":"Kalabancoro"},{"$f":"IF(COUNTRY_INFO!$Z41=\"MDA3 (IVM)\", COUNTRY_INFO!$Z41, \" \")","v":"MDA3 (IVM)"},"fevrier 2023",106023.95999999999,188487.04000000001,294511,173661,176989,350650,null,null,0,173661,176989,350650,163.79410842605765,93.899824624547122,119.06176679309092]
[{"$f":"IF(COUNTRY_INFO!A42=0,\" \",COUNTRY_INFO!A42)","v":"Mali"},{"$f":"IF(COUNTRY_INFO!B42=0,\" \",COUNTRY_INFO!B42)","v":"Koulikoro"},{"$f":"IF(COUNTRY_INFO!C42=0,\" \",COUNTRY_INFO!C42)","v":"Kangaba"},{"$f":"IF(COUNTRY_INFO!$Z42=\"MDA3 (IVM)\", COUNTRY_INFO!$Z42, \" \")","v":"MDA3 (IVM)"},"fevrier 2023",43202.52,76804.479999999996,120007,55256,68335,123591,null,null,0,55256,68335,123591,127.89994657719042,88.972674510653547,102.9864924546068]
[{"$f":"IF(COUNTRY_INFO!A43=0,\" \",COUNTRY_INFO!A43)","v":"Mali"},{"$f":"IF(COUNTRY_INFO!B43=0,\" \",COUNTRY_INFO!B43)","v":"Koulikoro"},{"$f":"IF(COUNTRY_INFO!C43=0,\" \",COUNTRY_INFO!C43)","v":"Kati"},{"$f":"IF(COUNTRY_INFO!$Z43=\"MDA3 (IVM)\", COUNTRY_INFO!$Z43, \" \")","v":"MDA3 (IVM)"},"fevrier 2023",215260.56,382685.44,597946,242790,364321,607111,null,null,0,242790,364321,607111,112.78889175053712,95.201165740719063,101.53274710425354]
[{"$f":"IF(COUNTRY_INFO!A44=0,\" \",COUNTRY_INFO!A44)","v":"Mali"},{"$f":"IF(COUNTRY_INFO!B44=0,\" \",COUNTRY_INFO!B44)","v":"Koulikoro"},{"$f":"IF(COUNTRY_INFO!C44=0,\" \",COUNTRY_INFO!C44)","v":"Kolokani"},{"$f":"IF(COUNTRY_INFO!$Z44=\"MDA3 (IVM)\", COUNTRY_INFO!$Z44, \" \")","v":"MDA3 (IVM)"},"fevrier 2023",100337.04,178376.95999999999,278714,110594,173272,283866,null,null,0,110594,173272,283866,110.22250606555666,97.138105728452828,101.84848984981021]
[{"$f":"IF(COUNTRY_INFO!A45=0,\" \",COUNTRY_INFO!A45)","v":"Mali"},{"$f":"IF(COUNTRY_INFO!B45=0,\" \",COUNTRY_INFO!B45)","v":"Koulikoro"},{"$f":"IF(COUNTRY_INFO!C45=0,\" \",COUNTRY_INFO!C45)","v":"Koulikoro"},{"$f":"IF(COUNTRY_INFO!$Z45=\"MDA3 (IVM)\", COUNTRY_INFO!$Z45, \" \")","v":"MDA3 (IVM)"},"fevrier 2023",90550.8,160979.20000000001,251530,90848,153523,244371,null,null,0,90848,153523,244371,100.328213555264,95.368221484514763,97.153818629984485]
[{"$f":"IF(COUNTRY_INFO!A46=0,\" \",COUNTRY_INFO!A46)","v":"Mali"},{"$f":"IF(COUNTRY_INFO!B46=0,\" \",COUNTRY_INFO!B46)","v":"Koulikoro"},{"$f":"IF(COUNTRY_INFO!C46=0,\" \",COUNTRY_INFO!C46)","v":"Nara"},{"$f":"IF(COUNTRY_INFO!$Z46=\"MDA3 (IVM)\", COUNTRY_INFO!$Z46, \" \")","v":" "},null,null,null,0,null,null,0,null,null,0,0,0,0," "," "," "]
[{"$f":"IF(COUNTRY_INFO!A47=0,\" \",COUNTRY_INFO!A47)","v":"Mali"},{"$f":"IF(COUNTRY_INFO!B47=0,\" \",COUNTRY_INFO!B47)","v":"Koulikoro"},{"$f":"IF(COUNTRY_INFO!C47=0,\" \",COUNTRY_INFO!C47)","v":"Ouelessebougou"},{"$f":"IF(COUNTRY_INFO!$Z47=\"MDA3 (IVM)\", COUNTRY_INFO!$Z47, \" \")","v":"MDA3 (IVM)"},"fevrier 2023",85404.239999999991,151829.76000000001,237234,75870,171916,247786,null,null,0,75870,171916,247786,88.836338804724463,113.22944856133606,104.44792904895588]
[{"$f":"IF(COUNTRY_INFO!A48=0,\" \",COUNTRY_INFO!A48)","v":"Mali"},{"$f":"IF(COUNTRY_INFO!B48=0,\" \",COUNTRY_INFO!B48)","v":"Mopti"},{"$f":"IF(COUNTRY_INFO!C48=0,\" \",COUNTRY_INFO!C48)","v":"Bandiagara"},{"$f":"IF(COUNTRY_INFO!$Z48=\"MDA3 (IVM)\", COUNTRY_INFO!$Z48, \" \")","v":" "},null,null,null,0,null,null,0,null,null,0,0,0,0," "," "," "]
[{"$f":"IF(COUNTRY_INFO!A49=0,\" \",COUNTRY_INFO!A49)","v":"Mali"},{"$f":"IF(COUNTRY_INFO!B49=0,\" \",COUNTRY_INFO!B49)","v":"Mopti"},{"$f":"IF(COUNTRY_INFO!C49=0,\" \",COUNTRY_INFO!C49)","v":"Bankass"},{"$f":"IF(COUNTRY_INFO!$Z49=\"MDA3 (IVM)\", COUNTRY_INFO!$Z49, \" \")","v":" "},null,null,null,0,null,null,0,null,null,0,0,0,0," "," "," "]
[{"$f":"IF(COUNTRY_INFO!A50=0,\" \",COUNTRY_INFO!A50)","v":"Mali"},{"$f":"IF(COUNTRY_INFO!B50=0,\" \",COUNTRY_INFO!B50)","v":"Mopti"},{"$f":"IF(COUNTRY_INFO!C50=0,\" \",COUNTRY_INFO!C50)","v":"Djenne"},{"$f":"IF(COUNTRY_INFO!$Z50=\"MDA3 (IVM)\", COUNTRY_INFO!$Z50, \" \")","v":" "},null,null,null,0,null,null,0,null,null,0,0,0,0," "," "," "]
[{"$f":"IF(COUNTRY_INFO!A51=0,\" \",COUNTRY_INFO!A51)","v":"Mali"},{"$f":"IF(COUNTRY_INFO!B51=0,\" \",COUNTRY_INFO!B51)","v":"Mopti"},{"$f":"IF(COUNTRY_INFO!C51=0,\" \",COUNTRY_INFO!C51)","v":"Douentza"},{"$f":"IF(COUNTRY_INFO!$Z51=\"MDA3 (IVM)\", COUNTRY_INFO!$Z51, \" \")","v":" "},null,null,null,0,null,null,0,null,null,0,0,0,0," "," "," "]
[{"$f":"IF(COUNTRY_INFO!A52=0,\" \",COUNTRY_INFO!A52)","v":"Mali"},{"$f":"IF(COUNTRY_INFO!B52=0,\" \",COUNTRY_INFO!B52)","v":"Mopti"},{"$f":"IF(COUNTRY_INFO!C52=0,\" \",COUNTRY_INFO!C52)","v":"Koro"},{"$f":"IF(COUNTRY_INFO!$Z52=\"MDA3 (IVM)\", COUNTRY_INFO!$Z52, \" \")","v":" "},null,null,null,0,null,null,0,null,null,0,0,0,0," "," "," "]
[{"$f":"IF(COUNTRY_INFO!A53=0,\" \",COUNTRY_INFO!A53)","v":"Mali"},{"$f":"IF(COUNTRY_INFO!B53=0,\" \",COUNTRY_INFO!B53)","v":"Mopti"},{"$f":"IF(COUNTRY_INFO!C53=0,\" \",COUNTRY_INFO!C53)","v":"Mopti"},{"$f":"IF(COUNTRY_INFO!$Z53=\"MDA3 (IVM)\", COUNTRY_INFO!$Z53, \" \")","v":" "},null,null,null,0,null,null,0,null,null,0,0,0,0," "," "," "]
[{"$f":"IF(COUNTRY_INFO!A54=0,\" \",COUNTRY_INFO!A54)","v":"Mali"},{"$f":"IF(COUNTRY_INFO!B54=0,\" \",COUNTRY_INFO!B54)","v":"Mopti"},{"$f":"IF(COUNTRY_INFO!C54=0,\" \",COUNTRY_INFO!C54)","v":"Teninkou"},{"$f":"IF(COUNTRY_INFO!$Z54=\"MDA3 (IVM)\", COUNTRY_INFO!$Z54, \" \")","v":" "},null,null,null,0,null,null,0,null,null,0,0,0,0," "," "," "]
[{"$f":"IF(COUNTRY_INFO!A55=0,\" \",COUNTRY_INFO!A55)","v":"Mali"},{"$f":"IF(COUNTRY_INFO!B55=0,\" \",COUNTRY_INFO!B55)","v":"Mopti"},{"$f":"IF(COUNTRY_INFO!C55=0,\" \",COUNTRY_INFO!C55)","v":"Youwarou"},{"$f":"IF(COUNTRY_INFO!$Z55=\"MDA3 (IVM)\", COUNTRY_INFO!$Z55, \" \")","v":" "},null,null,null,0,null,null,0,null,null,0,0,0,0," "," "," "]
[{"$f":"IF(COUNTRY_INFO!A56=0,\" \",COUNTRY_INFO!A56)","v":"Mali"},{"$f":"IF(COUNTRY_INFO!B56=0,\" \",COUNTRY_INFO!B56)","v":"Segou"},{"$f":"IF(COUNTRY_INFO!C56=0,\" \",COUNTRY_INFO!C56)","v":"Barouéli"},{"$f":"IF(COUNTRY_INFO!$Z56=\"MDA3 (IVM)\", COUNTRY_INFO!$Z56, \" \")","v":" "},null,null,null,0,null,null,0,null,null,0,0,0,0," "," "," "]
[{"$f":"IF(COUNTRY_INFO!A57=0,\" \",COUNTRY_INFO!A57)","v":"Mali"},{"$f":"IF(COUNTRY_INFO!B57=0,\" \",COUNTRY_INFO!B57)","v":"Segou"},{"$f":"IF(COUNTRY_INFO!C57=0,\" \",COUNTRY_INFO!C57)","v":"Bla"},{"$f":"IF(COUNTRY_INFO!$Z57=\"MDA3 (IVM)\", COUNTRY_INFO!$Z57, \" \")","v":" "},null,null,null,0,null,null,0,null,null,0,0,0,0," "," "," "]
[{"$f":"IF(COUNTRY_INFO!A58=0,\" \",COUNTRY_INFO!A58)","v":"Mali"},{"$f":"IF(COUNTRY_INFO!B58=0,\" \",COUNTRY_INFO!B58)","v":"Segou"},{"$f":"IF(COUNTRY_INFO!C58=0,\" \",COUNTRY_INFO!C58)","v":"Macina"},{"$f":"IF(COUNTRY_INFO!$Z58=\"MDA3 (IVM)\", COUNTRY_INFO!$Z58, \" \")","v":" "},null,null,null,0,null,null,0,null,null,0,0,0,0," "," "," "]
[{"$f":"IF(COUNTRY_INFO!A59=0,\" \",COUNTRY_INFO!A59)","v":"Mali"},{"$f":"IF(COUNTRY_INFO!B59=0,\" \",COUNTRY_INFO!B59)","v":"Segou"},{"$f":"IF(COUNTRY_INFO!C59=0,\" \",COUNTRY_INFO!C59)","v":"Markala"},{"$f":"IF(COUNTRY_INFO!$Z59=\"MDA3 (IVM)\", COUNTRY_INFO!$Z59, \" \")","v":" "},null,null,null,0,null,null,0,null,null,0,0,0,0," "," "," "]
[{"$f":"IF(COUNTRY_INFO!A60=0,\" \",COUNTRY_INFO!A60)","v":"Mali"},{"$f":"IF(COUNTRY_INFO!B60=0,\" \",COUNTRY_INFO!B60)","v":"Segou"},{"$f":"IF(COUNTRY_INFO!C60=0,\" \",COUNTRY_INFO!C60)","v":"Niono"},{"$f":"IF(COUNTRY_INFO!$Z60=\"MDA3 (IVM)\", COUNTRY_INFO!$Z60, \" \")","v":" "},null,null,null,0,null,null,0,null,null,0,0,0,0," "," "," "]
[{"$f":"IF(COUNTRY_INFO!A61=0,\" \",COUNTRY_INFO!A61)","v":"Mali"},{"$f":"IF(COUNTRY_INFO!B61=0,\" \",COUNTRY_INFO!B61)","v":"Segou"},{"$f":"IF(COUNTRY_INFO!C61=0,\" \",COUNTRY_INFO!C61)","v":"San"},{"$f":"IF(COUNTRY_INFO!$Z61=\"MDA3 (IVM)\", COUNTRY_INFO!$Z61, \" \")","v":" "},null,null,null,0,null,null,0,null,null,0,0,0,0," "," "," "]
[{"$f":"IF(COUNTRY_INFO!A62=0,\" \",COUNTRY_INFO!A62)","v":"Mali"},{"$f":"IF(COUNTRY_INFO!B62=0,\" \",COUNTRY_INFO!B62)","v":"Segou"},{"$f":"IF(COUNTRY_INFO!C62=0,\" \",COUNTRY_INFO!C62)","v":"Segou"},{"$f":"IF(COUNTRY_INFO!$Z62=\"MDA3 (IVM)\", COUNTRY_INFO!$Z62, \" \")","v":" "},null,null,null,0,null,null,0,null,null,0,0,0,0," "," "," "]
[{"$f":"IF(COUNTRY_INFO!A63=0,\" \",COUNTRY_INFO!A63)","v":"Mali"},{"$f":"IF(COUNTRY_INFO!B63=0,\" \",COUNTRY_INFO!B63)","v":"Segou"},{"$f":"IF(COUNTRY_INFO!C63=0,\" \",COUNTRY_INFO!C63)","v":"Tominian"},{"$f":"IF(COUNTRY_INFO!$Z63=\"MDA3 (IVM)\", COUNTRY_INFO!$Z63, \" \")","v":" "},null,null,null,0,null,null,0,null,null,0,0,0,0," "," "," "]
[{"$f":"IF(COUNTRY_INFO!A64=0,\" \",COUNTRY_INFO!A64)","v":"Mali"},{"$f":"IF(COUNTRY_INFO!B64=0,\" \",COUNTRY_INFO!B64)","v":"Sikasso"},{"$f":"IF(COUNTRY_INFO!C64=0,\" \",COUNTRY_INFO!C64)","v":"Bougouni"},{"$f":"IF(COUNTRY_INFO!$Z64=\"MDA3 (IVM)\", COUNTRY_INFO!$Z64, \" \")","v":" "},null,null,null,0,null,null,0,null,null,0,0,0,0," "," "," "]
[{"$f":"IF(COUNTRY_INFO!A65=0,\" \",COUNTRY_INFO!A65)","v":"Mali"},{"$f":"IF(COUNTRY_INFO!B65=0,\" \",COUNTRY_INFO!B65)","v":"Sikasso"},{"$f":"IF(COUNTRY_INFO!C65=0,\" \",COUNTRY_INFO!C65)","v":"Kadiolo"},{"$f":"IF(COUNTRY_INFO!$Z65=\"MDA3 (IVM)\", COUNTRY_INFO!$Z65, \" \")","v":" "},null,null,null,0,null,null,0,null,null,0,0,0,0," "," "," "]
[{"$f":"IF(COUNTRY_INFO!A66=0,\" \",COUNTRY_INFO!A66)","v":"Mali"},{"$f":"IF(COUNTRY_INFO!B66=0,\" \",COUNTRY_INFO!B66)","v":"Sikasso"},{"$f":"IF(COUNTRY_INFO!C66=0,\" \",COUNTRY_INFO!C66)","v":"Kignan"},{"$f":"IF(COUNTRY_INFO!$Z66=\"MDA3 (IVM)\", COUNTRY_INFO!$Z66, \" \")","v":"MDA3 (IVM)"},"fevrier 2023",50036.4,88953.600000000006,138990,60401,85641,146042,null,null,0,60401,85641,146042,120.71412012055222,96.276036045758687,105.07374631268436]
[{"$f":"IF(COUNTRY_INFO!A67=0,\" \",COUNTRY_INFO!A67)","v":"Mali"},{"$f":"IF(COUNTRY_INFO!B67=0,\" \",COUNTRY_INFO!B67)","v":"Sikasso"},{"$f":"IF(COUNTRY_INFO!C67=0,\" \",COUNTRY_INFO!C67)","v":"Kolondieba"},{"$f":"IF(COUNTRY_INFO!$Z67=\"MDA3 (IVM)\", COUNTRY_INFO!$Z67, \" \")","v":"MDA3 (IVM)"},"fevrier 2023",87338.51999999999,155268.48000000001,242607,79290,169023,248313,null,null,0,79290,169023,248313,90.78468469582495,108.85853973710569,102.35195192224462]
[{"$f":"IF(COUNTRY_INFO!A68=0,\" \",COUNTRY_INFO!A68)","v":"Mali"},{"$f":"IF(COUNTRY_INFO!B68=0,\" \",COUNTRY_INFO!B68)","v":"Sikasso"},{"$f":"IF(COUNTRY_INFO!C68=0,\" \",COUNTRY_INFO!C68)","v":"Koutiala"},{"$f":"IF(COUNTRY_INFO!$Z68=\"MDA3 (IVM)\", COUNTRY_INFO!$Z68, \" \")","v":" "},null,null,null,0,null,null,0,null,null,0,0,0,0," "," "," "]
[{"$f":"IF(COUNTRY_INFO!A69=0,\" \",COUNTRY_INFO!A69)","v":"Mali"},{"$f":"IF(COUNTRY_INFO!B69=0,\" \",COUNTRY_INFO!B69)","v":"Sikasso"},{"$f":"IF(COUNTRY_INFO!C69=0,\" \",COUNTRY_INFO!C69)","v":"Niena"},{"$f":"IF(COUNTRY_INFO!$Z69=\"MDA3 (IVM)\", COUNTRY_INFO!$Z69, \" \")","v":"MDA3 (IVM)"},"fevrier 2023",52537.68,93400.320000000007,145938,49688,70294,119982,null,null,0,49688,70294,119982,94.575931027026698,75.260984116542645,82.214365004316903]
[{"$f":"IF(COUNTRY_INFO!A70=0,\" \",COUNTRY_INFO!A70)","v":"Mali"},{"$f":"IF(COUNTRY_INFO!B70=0,\" \",COUNTRY_INFO!B70)","v":"Sikasso"},{"$f":"IF(COUNTRY_INFO!C70=0,\" \",COUNTRY_INFO!C70)","v":"Sélingué"},{"$f":"IF(COUNTRY_INFO!$Z70=\"MDA3 (IVM)\", COUNTRY_INFO!$Z70, \" \")","v":"MDA3 (IVM)"},"fevrier 2023",35609.4,63305.599999999999,98915,45377,56106,101483,null,null,0,45377,56106,101483,127.42983594219504,88.627230450386691,102.5961684274377]
[{"$f":"IF(COUNTRY_INFO!A71=0,\" \",COUNTRY_INFO!A71)","v":"Mali"},{"$f":"IF(COUNTRY_INFO!B71=0,\" \",COUNTRY_INFO!B71)","v":"Sikasso"},{"$f":"IF(COUNTRY_INFO!C71=0,\" \",COUNTRY_INFO!C71)","v":"Sikasso"},{"$f":"IF(COUNTRY_INFO!$Z71=\"MDA3 (IVM)\", COUNTRY_INFO!$Z71, \" \")","v":"MDA3 (IVM)"},"fevrier 2023",210151.08,373601.92,583753,232943,318374,551317,null,null,0,232943,318374,551317,110.84549268078948,85.217442137342331,94.443540332983304]
[{"$f":"IF(COUNTRY_INFO!A72=0,\" \",COUNTRY_INFO!A72)","v":"Mali"},{"$f":"IF(COUNTRY_INFO!B72=0,\" \",COUNTRY_INFO!B72)","v":"Sikasso"},{"$f":"IF(COUNTRY_INFO!C72=0,\" \",COUNTRY_INFO!C72)","v":"Yanfolila"},{"$f":"IF(COUNTRY_INFO!$Z72=\"MDA3 (IVM)\", COUNTRY_INFO!$Z72, \" \")","v":" "},null,null,null,0,null,null,0,null,null,0,0,0,0," "," "," "]
[{"$f":"IF(COUNTRY_INFO!A73=0,\" \",COUNTRY_INFO!A73)","v":"Mali"},{"$f":"IF(COUNTRY_INFO!B73=0,\" \",COUNTRY_INFO!B73)","v":"Sikasso"},{"$f":"IF(COUNTRY_INFO!C73=0,\" \",COUNTRY_INFO!C73)","v":"Yorosso"},{"$f":"IF(COUNTRY_INFO!$Z73=\"MDA3 (IVM)\", COUNTRY_INFO!$Z73, \" \")","v":" "},null,null,null,0,null,null,0,null,null,0,0,0,0," "," "," "]
[{"$f":"IF(COUNTRY_INFO!A74=0,\" \",COUNTRY_INFO!A74)","v":"Mali"},{"$f":"IF(COUNTRY_INFO!B74=0,\" \",COUNTRY_INFO!B74)","v":"Tombouctou"},{"$f":"IF(COUNTRY_INFO!C74=0,\" \",COUNTRY_INFO!C74)","v":"Diré"},{"$f":"IF(COUNTRY_INFO!$Z74=\"MDA3 (IVM)\", COUNTRY_INFO!$Z74, \" \")","v":" "},null,null,null,0,null,null,0,null,null,0,0,0,0," "," "," "]
[{"$f":"IF(COUNTRY_INFO!A75=0,\" \",COUNTRY_INFO!A75)","v":"Mali"},{"$f":"IF(COUNTRY_INFO!B75=0,\" \",COUNTRY_INFO!B75)","v":"Tombouctou"},{"$f":"IF(COUNTRY_INFO!C75=0,\" \",COUNTRY_INFO!C75)","v":"Goundam"},{"$f":"IF(COUNTRY_INFO!$Z75=\"MDA3 (IVM)\", COUNTRY_INFO!$Z75, \" \")","v":" "},null,null,null,{"$f":"SUM(F75:G75)","v":0},null,null,{"$f":"SUM(I75:J75)","v":0},null,null,{"$f":"SUM(L75:M75)","v":0},{"$f":"MAX(I75,L75)","v":0},{"$f":"MAX(J75,M75)","v":0},{"$f":"SUM(O75:P75)","v":0},{"$f":"IF(F75<>0, IF(MAX(I75,L75)/F75*100=0, \"-\", MAX(I75,L75)/F75*100), \" \")","v":" "},{"$f":"IF(G75<>0, IF(MAX(J75,M75)/G75*100=0, \"-\", MAX(J75,M75)/G75*100), \" \")","v":" "},{"$f":"IF(H75<>0, IF((MAX(I75,L75)+MAX(J75,M75))/H75*100=0, \"-\",(MAX(I75,L75)+MAX(J75,M75))/H75*100), \" \")","v":" "}]
[{"$f":"IF(COUNTRY_INFO!A76=0,\" \",COUNTRY_INFO!A76)","v":"Mali"},{"$f":"IF(COUNTRY_INFO!B76=0,\" \",COUNTRY_INFO!B76)","v":"Tombouctou"},{"$f":"IF(COUNTRY_INFO!C76=0,\" \",COUNTRY_INFO!C76)","v":"Gourma-Rharous"},{"$f":"IF(COUNTRY_INFO!$Z76=\"MDA3 (IVM)\", COUNTRY_INFO!$Z76, \" \")","v":" "},null,null,null,0,null,null,0,null,null,0,0,0,0," "," "," "]
[{"$f":"IF(COUNTRY_INFO!A77=0,\" \",COUNTRY_INFO!A77)","v":"Mali"},{"$f":"IF(COUNTRY_INFO!B77=0,\" \",COUNTRY_INFO!B77)","v":"Tombouctou"},{"$f":"IF(COUNTRY_INFO!C77=0,\" \",COUNTRY_INFO!C77)","v":"Niafunké"},{"$f":"IF(COUNTRY_INFO!$Z77=\"MDA3 (IVM)\", COUNTRY_INFO!$Z77, \" \")","v":" "},null,null,null,0,null,null,0,null,null,0,0,0,0," "," "," "]
[{"$f":"IF(COUNTRY_INFO!A78=0,\" \",COUNTRY_INFO!A78)","v":"Mali"},{"$f":"IF(COUNTRY_INFO!B78=0,\" \",COUNTRY_INFO!B78)","v":"Tombouctou"},{"$f":"IF(COUNTRY_INFO!C78=0,\" \",COUNTRY_INFO!C78)","v":"Tombouctou"},{"$f":"IF(COUNTRY_INFO!$Z78=\"MDA3 (IVM)\", COUNTRY_INFO!$Z78, \" \")","v":" "},null,null,null,0,null,null,0,null,null,0,0,0,0," "," "," "]
[{"$f":"IF(COUNTRY_INFO!A79=0,\" \",COUNTRY_INFO!A79)","v":"Mali"},{"$f":"IF(COUNTRY_INFO!B79=0,\" \",COUNTRY_INFO!B79)","v":"Taoudenit"},{"$f":"IF(COUNTRY_INFO!C79=0,\" \",COUNTRY_INFO!C79)","v":"Achourat"},{"$f":"IF(COUNTRY_INFO!$Z79=\"MDA3 (IVM)\", COUNTRY_INFO!$Z79, \" \")","v":" "},null,null,null,0,null,null,0,null,null,0,0,0,0," "," "," "]
[{"$f":"IF(COUNTRY_INFO!A80=0,\" \",COUNTRY_INFO!A80)","v":"Mali"},{"$f":"IF(COUNTRY_INFO!B80=0,\" \",COUNTRY_INFO!B80)","v":"Taoudenit"},{"$f":"IF(COUNTRY_INFO!C80=0,\" \",COUNTRY_INFO!C80)","v":"Al-Ourch"},{"$f":"IF(COUNTRY_INFO!$Z80=\"MDA3 (IVM)\", COUNTRY_INFO!$Z80, \" \")","v":" "},null,null,null,0,null,null,0,null,null,0,0,0,0," "," "," "]
[{"$f":"IF(COUNTRY_INFO!A81=0,\" \",COUNTRY_INFO!A81)","v":"Mali"},{"$f":"IF(COUNTRY_INFO!B81=0,\" \",COUNTRY_INFO!B81)","v":"Taoudenit"},{"$f":"IF(COUNTRY_INFO!C81=0,\" \",COUNTRY_INFO!C81)","v":"Araouane"},{"$f":"IF(COUNTRY_INFO!$Z81=\"MDA3 (IVM)\", COUNTRY_INFO!$Z81, \" \")","v":" "},null,null,null,0,null,null,0,null,null,0,0,0,0," "," "," "]
[{"$f":"IF(COUNTRY_INFO!A82=0,\" \",COUNTRY_INFO!A82)","v":"Mali"},{"$f":"IF(COUNTRY_INFO!B82=0,\" \",COUNTRY_INFO!B82)","v":"Taoudenit"},{"$f":"IF(COUNTRY_INFO!C82=0,\" \",COUNTRY_INFO!C82)","v":"Boujbeha"},{"$f":"IF(COUNTRY_INFO!$Z82=\"MDA3 (IVM)\", COUNTRY_INFO!$Z82, \" \")","v":" "},null,null,null,0,null,null,0,null,null,0,0,0,0," "," "," "]
[{"$f":"IF(COUNTRY_INFO!A83=0,\" \",COUNTRY_INFO!A83)","v":"Mali"},{"$f":"IF(COUNTRY_INFO!B83=0,\" \",COUNTRY_INFO!B83)","v":"Taoudenit"},{"$f":"IF(COUNTRY_INFO!C83=0,\" \",COUNTRY_INFO!C83)","v":"Foum-Elba"},{"$f":"IF(COUNTRY_INFO!$Z83=\"MDA3 (IVM)\", COUNTRY_INFO!$Z83, \" \")","v":" "},null,null,null,0,null,null,0,null,null,0,0,0,0," "," "," "]
[{"$f":"IF(COUNTRY_INFO!A84=0,\" \",COUNTRY_INFO!A84)","v":"Mali"},{"$f":"IF(COUNTRY_INFO!B84=0,\" \",COUNTRY_INFO!B84)","v":"Taoudenit"},{"$f":"IF(COUNTRY_INFO!C84=0,\" \",COUNTRY_INFO!C84)","v":"Taoudenit"},{"$f":"IF(COUNTRY_INFO!$Z84=\"MDA3 (IVM)\", COUNTRY_INFO!$Z84, \" \")","v":" "},null,null,null,0,null,null,0,null,null,0,0,0,0," "," "," "]

{"sheet":"MDA5","index":5,"n_rows":84,"n_cols":17,"rows_kept":84,"cut":false,"hidden":true,"merged":[[5,13,5,16],[3,0,3,2],[5,0,5,2],[5,3,6,3],[5,4,6,4],[5,5,5,8],[5,9,5,12]]}
["MDA 5 - Ivermectine (IVM) + Diethylcarbamazine (DEC) + Albendazole (ALB)"]
["Structure administrative, population nécessitant une chimioprévention par groupe d'âge, population traitée par groupe d'âge et couverture"]
[]
["TOTAL",null,null,null,null,{"$f":"SUBTOTAL(9,F$10:F$1010)","v":0},0,0,0,0,0,0,0,{"$f":"IF(F4<>0, IF(J4/F4*100=0, \"-\", J4/F4*100), \" \")","v":" "},{"$f":"IF(G4<>0, IF(K4/G4*100=0, \"-\", K4/G4*100), \" \")","v":" "},{"$f":"IF(H4<>0, IF(L4/H4*100=0, \"-\", L4/H4*100), \" \")","v":" "},{"$f":"IF(I4<>0, IF(M4/I4*100=0, \"-\", M4/I4*100), \" \")","v":" "}]
[]
["Structure administrative du pays",null,null,"Mise en oeuvre \nde la CP","Date","Population ciblée pour MDA 2",null,null,null,"Population traitée",null,null,null,"Couverture du Programme (%)"]
["Pays","Région/Département","District",null,null,"EAPréS","EAS","Adultes","Total","EAPréS","EAS","Adultes","Total","EAPréS","EAS","Adultes","Total"]
[]
[]
[{"$f":"IF(COUNTRY_INFO!A10=0,\" \",COUNTRY_INFO!A10)","v":"Mali"},{"$f":"IF(COUNTRY_INFO!B10=0,\" \",COUNTRY_INFO!B10)","v":"Bamako"},{"$f":"IF(COUNTRY_INFO!C10=0,\" \",COUNTRY_INFO!C10)","v":"Commune 1"},{"$f":"IF(COUNTRY_INFO!$Z10=\"MDA5 (IDA)\", COUNTRY_INFO!$Z10, \" \")","v":" "},null,null,null,null,{"$f":"SUM(F10:H10)","v":0},null,null,null,{"$f":"SUM(J10:L10)","v":0},{"$f":"IF(F10<>0, IF(J10/F10*100=0, \"-\", J10/F10*100), \" \")","v":" "},{"$f":"IF(G10<>0, IF(K10/G10*100=0, \"-\", K10/G10*100), \" \")","v":" "}," "," "]
[{"$f":"IF(COUNTRY_INFO!A11=0,\" \",COUNTRY_INFO!A11)","v":"Mali"},{"$f":"IF(COUNTRY_INFO!B11=0,\" \",COUNTRY_INFO!B11)","v":"Bamako"},{"$f":"IF(COUNTRY_INFO!C11=0,\" \",COUNTRY_INFO!C11)","v":"Commune 2"},{"$f":"IF(COUNTRY_INFO!$Z11=\"MDA5 (IDA)\", COUNTRY_INFO!$Z11, \" \")","v":" "},null,null,null,null,{"$f":"SUM(F11:H11)","v":0},null,null,null,{"$f":"SUM(J11:L11)","v":0},{"$f":"IF(F11<>0, IF(J11/F11*100=0, \"-\", J11/F11*100), \" \")","v":" "},{"$f":"IF(G11<>0, IF(K11/G11*100=0, \"-\", K11/G11*100), \" \")","v":" "},{"$f":"IF(H11<>0, IF(L11/H11*100=0, \"-\", L11/H11*100), \" \")","v":" "},{"$f":"IF(I11<>0, IF(M11/I11*100=0, \"-\", M11/I11*100), \" \")","v":" "}]
[{"$f":"IF(COUNTRY_INFO!A12=0,\" \",COUNTRY_INFO!A12)","v":"Mali"},{"$f":"IF(COUNTRY_INFO!B12=0,\" \",COUNTRY_INFO!B12)","v":"Bamako"},{"$f":"IF(COUNTRY_INFO!C12=0,\" \",COUNTRY_INFO!C12)","v":"Commune 3"},{"$f":"IF(COUNTRY_INFO!$Z12=\"MDA5 (IDA)\", COUNTRY_INFO!$Z12, \" \")","v":" "},null,null,null,null,0,null,null,null,0," "," "," "," "]
[{"$f":"IF(COUNTRY_INFO!A13=0,\" \",COUNTRY_INFO!A13)","v":"Mali"},{"$f":"IF(COUNTRY_INFO!B13=0,\" \",COUNTRY_INFO!B13)","v":"Bamako"},{"$f":"IF(COUNTRY_INFO!C13=0,\" \",COUNTRY_INFO!C13)","v":"Commune 4"},{"$f":"IF(COUNTRY_INFO!$Z13=\"MDA5 (IDA)\", COUNTRY_INFO!$Z13, \" \")","v":" "},null,null,null,null,0,null,null,null,0," "," "," "," "]
[{"$f":"IF(COUNTRY_INFO!A14=0,\" \",COUNTRY_INFO!A14)","v":"Mali"},{"$f":"IF(COUNTRY_INFO!B14=0,\" \",COUNTRY_INFO!B14)","v":"Bamako"},{"$f":"IF(COUNTRY_INFO!C14=0,\" \",COUNTRY_INFO!C14)","v":"Commune 5"},{"$f":"IF(COUNTRY_INFO!$Z14=\"MDA5 (IDA)\", COUNTRY_INFO!$Z14, \" \")","v":" "},null,null,null,null,0,null,null,null,0," "," "," "," "]
[{"$f":"IF(COUNTRY_INFO!A15=0,\" \",COUNTRY_INFO!A15)","v":"Mali"},{"$f":"IF(COUNTRY_INFO!B15=0,\" \",COUNTRY_INFO!B15)","v":"Bamako"},{"$f":"IF(COUNTRY_INFO!C15=0,\" \",COUNTRY_INFO!C15)","v":"Commune 6"},{"$f":"IF(COUNTRY_INFO!$Z15=\"MDA5 (IDA)\", COUNTRY_INFO!$Z15, \" \")","v":" "},null,null,null,null,0,null,null,null,0," "," "," "," "]
[{"$f":"IF(COUNTRY_INFO!A16=0,\" \",COUNTRY_INFO!A16)","v":"Mali"},{"$f":"IF(COUNTRY_INFO!B16=0,\" \",COUNTRY_INFO!B16)","v":"Gao"},{"$f":"IF(COUNTRY_INFO!C16=0,\" \",COUNTRY_INFO!C16)","v":"Ansongo"},{"$f":"IF(COUNTRY_INFO!$Z16=\"MDA5 (IDA)\", COUNTRY_INFO!$Z16, \" \")","v":" "},null,null,null,null,0,null,null,null,0," "," "," "," "]
[{"$f":"IF(COUNTRY_INFO!A17=0,\" \",COUNTRY_INFO!A17)","v":"Mali"},{"$f":"IF(COUNTRY_INFO!B17=0,\" \",COUNTRY_INFO!B17)","v":"Gao"},{"$f":"IF(COUNTRY_INFO!C17=0,\" \",COUNTRY_INFO!C17)","v":"Bourem"},{"$f":"IF(COUNTRY_INFO!$Z17=\"MDA5 (IDA)\", COUNTRY_INFO!$Z17, \" \")","v":" "},null,null,null,null,0,null,null,null,0," "," "," "," "]
[{"$f":"IF(COUNTRY_INFO!A18=0,\" \",COUNTRY_INFO!A18)","v":"Mali"},{"$f":"IF(COUNTRY_INFO!B18=0,\" \",COUNTRY_INFO!B18)","v":"Gao"},{"$f":"IF(COUNTRY_INFO!C18=0,\" \",COUNTRY_INFO!C18)","v":"Almoustrat"},{"$f":"IF(COUNTRY_INFO!$Z18=\"MDA5 (IDA)\", COUNTRY_INFO!$Z18, \" \")","v":" "},null,null,null,null,0,null,null,null,0," "," "," "," "]
[{"$f":"IF(COUNTRY_INFO!A19=0,\" \",COUNTRY_INFO!A19)","v":"Mali"},{"$f":"IF(COUNTRY_INFO!B19=0,\" \",COUNTRY_INFO!B19)","v":"Gao"},{"$f":"IF(COUNTRY_INFO!C19=0,\" \",COUNTRY_INFO!C19)","v":"Gao"},{"$f":"IF(COUNTRY_INFO!$Z19=\"MDA5 (IDA)\", COUNTRY_INFO!$Z19, \" \")","v":" "},null,null,null,null,0,null,null,null,0," "," "," "," "]
[{"$f":"IF(COUNTRY_INFO!A20=0,\" \",COUNTRY_INFO!A20)","v":"Mali"},{"$f":"IF(COUNTRY_INFO!B20=0,\" \",COUNTRY_INFO!B20)","v":"Menaka"},{"$f":"IF(COUNTRY_INFO!C20=0,\" \",COUNTRY_INFO!C20)","v":"Menaka"},{"$f":"IF(COUNTRY_INFO!$Z20=\"MDA5 (IDA)\", COUNTRY_INFO!$Z20, \" \")","v":" "},null,null,null,null,0,null,null,null,0," "," "," "," "]
[{"$f":"IF(COUNTRY_INFO!A21=0,\" \",COUNTRY_INFO!A21)","v":"Mali"},{"$f":"IF(COUNTRY_INFO!B21=0,\" \",COUNTRY_INFO!B21)","v":"Menaka"},{"$f":"IF(COUNTRY_INFO!C21=0,\" \",COUNTRY_INFO!C21)","v":"Anderamboukane"},{"$f":"IF(COUNTRY_INFO!$Z21=\"MDA5 (IDA)\", COUNTRY_INFO!$Z21, \" \")","v":" "},null,null,null,null,0,null,null,null,0," "," "," "," "]
[{"$f":"IF(COUNTRY_INFO!A22=0,\" \",COUNTRY_INFO!A22)","v":"Mali"},{"$f":"IF(COUNTRY_INFO!B22=0,\" \",COUNTRY_INFO!B22)","v":"Menaka"},{"$f":"IF(COUNTRY_INFO!C22=0,\" \",COUNTRY_INFO!C22)","v":"Inekar"},{"$f":"IF(COUNTRY_INFO!$Z22=\"MDA5 (IDA)\", COUNTRY_INFO!$Z22, \" \")","v":" "},null,null,null,null,0,null,null,null,0," "," "," "," "]
[{"$f":"IF(COUNTRY_INFO!A23=0,\" \",COUNTRY_INFO!A23)","v":"Mali"},{"$f":"IF(COUNTRY_INFO!B23=0,\" \",COUNTRY_INFO!B23)","v":"Menaka"},{"$f":"IF(COUNTRY_INFO!C23=0,\" \",COUNTRY_INFO!C23)","v":"Tidermene"},{"$f":"IF(COUNTRY_INFO!$Z23=\"MDA5 (IDA)\", COUNTRY_INFO!$Z23, \" \")","v":" "},null,null,null,null,0,null,null,null,0," "," "," "," "]
[{"$f":"IF(COUNTRY_INFO!A24=0,\" \",COUNTRY_INFO!A24)","v":"Mali"},{"$f":"IF(COUNTRY_INFO!B24=0,\" \",COUNTRY_INFO!B24)","v":"Kayes"},{"$f":"IF(COUNTRY_INFO!C24=0,\" \",COUNTRY_INFO!C24)","v":"Bafoulabe"},{"$f":"IF(COUNTRY_INFO!$Z24=\"MDA5 (IDA)\", COUNTRY_INFO!$Z24, \" \")","v":" "},null,null,null,null,0,null,null,null,0," "," "," "," "]
[{"$f":"IF(COUNTRY_INFO!A25=0,\" \",COUNTRY_INFO!A25)","v":"Mali"},{"$f":"IF(COUNTRY_INFO!B25=0,\" \",COUNTRY_INFO!B25)","v":"Kayes"},{"$f":"IF(COUNTRY_INFO!C25=0,\" \",COUNTRY_INFO!C25)","v":"Diema"},{"$f":"IF(COUNTRY_INFO!$Z25=\"MDA5 (IDA)\", COUNTRY_INFO!$Z25, \" \")","v":" "},null,null,null,null,0,null,null,null,0," "," "," "," "]
[{"$f":"IF(COUNTRY_INFO!A26=0,\" \",COUNTRY_INFO!A26)","v":"Mali"},{"$f":"IF(COUNTRY_INFO!B26=0,\" \",COUNTRY_INFO!B26)","v":"Kayes"},{"$f":"IF(COUNTRY_INFO!C26=0,\" \",COUNTRY_INFO!C26)","v":"Kayes"},{"$f":"IF(COUNTRY_INFO!$Z26=\"MDA5 (IDA)\", COUNTRY_INFO!$Z26, \" \")","v":" "},null,null,null,null,0,null,null,null,0," "," "," "," "]
[{"$f":"IF(COUNTRY_INFO!A27=0,\" \",COUNTRY_INFO!A27)","v":"Mali"},{"$f":"IF(COUNTRY_INFO!B27=0,\" \",COUNTRY_INFO!B27)","v":"Kayes"},{"$f":"IF(COUNTRY_INFO!C27=0,\" \",COUNTRY_INFO!C27)","v":"Kenieba"},{"$f":"IF(COUNTRY_INFO!$Z27=\"MDA5 (IDA)\", COUNTRY_INFO!$Z27, \" \")","v":" "},null,null,null,null,0,null,null,null,0," "," "," "," "]
[{"$f":"IF(COUNTRY_INFO!A28=0,\" \",COUNTRY_INFO!A28)","v":"Mali"},{"$f":"IF(COUNTRY_INFO!B28=0,\" \",COUNTRY_INFO!B28)","v":"Kayes"},{"$f":"IF(COUNTRY_INFO!C28=0,\" \",COUNTRY_INFO!C28)","v":"Kita"},{"$f":"IF(COUNTRY_INFO!$Z28=\"MDA5 (IDA)\", COUNTRY_INFO!$Z28, \" \")","v":" "},null,null,null,null,0,null,null,null,0," "," "," "," "]
[{"$f":"IF(COUNTRY_INFO!A29=0,\" \",COUNTRY_INFO!A29)","v":"Mali"},{"$f":"IF(COUNTRY_INFO!B29=0,\" \",COUNTRY_INFO!B29)","v":"Kayes"},{"$f":"IF(COUNTRY_INFO!C29=0,\" \",COUNTRY_INFO!C29)","v":"Sagabari"},{"$f":"IF(COUNTRY_INFO!$Z29=\"MDA5 (IDA)\", COUNTRY_INFO!$Z29, \" \")","v":" "},null,null,null,null,0,null,null,null,0," "," "," "," "]
[{"$f":"IF(COUNTRY_INFO!A30=0,\" \",COUNTRY_INFO!A30)","v":"Mali"},{"$f":"IF(COUNTRY_INFO!B30=0,\" \",COUNTRY_INFO!B30)","v":"Kayes"},{"$f":"IF(COUNTRY_INFO!C30=0,\" \",COUNTRY_INFO!C30)","v":"Sefeto"},{"$f":"IF(COUNTRY_INFO!$Z30=\"MDA5 (IDA)\", COUNTRY_INFO!$Z30, \" \")","v":" "},null,null,null,null,0,null,null,null,0," "," "," "," "]
[{"$f":"IF(COUNTRY_INFO!A31=0,\" \",COUNTRY_INFO!A31)","v":"Mali"},{"$f":"IF(COUNTRY_INFO!B31=0,\" \",COUNTRY_INFO!B31)","v":"Kayes"},{"$f":"IF(COUNTRY_INFO!C31=0,\" \",COUNTRY_INFO!C31)","v":"Nioro"},{"$f":"IF(COUNTRY_INFO!$Z31=\"MDA5 (IDA)\", COUNTRY_INFO!$Z31, \" \")","v":" "},null,null,null,null,0,null,null,null,0," "," "," "," "]
[{"$f":"IF(COUNTRY_INFO!A32=0,\" \",COUNTRY_INFO!A32)","v":"Mali"},{"$f":"IF(COUNTRY_INFO!B32=0,\" \",COUNTRY_INFO!B32)","v":"Kayes"},{"$f":"IF(COUNTRY_INFO!C32=0,\" \",COUNTRY_INFO!C32)","v":"Oussoubidiagna"},{"$f":"IF(COUNTRY_INFO!$Z32=\"MDA5 (IDA)\", COUNTRY_INFO!$Z32, \" \")","v":" "},null,null,null,null,0,null,null,null,0," "," "," "," "]
[{"$f":"IF(COUNTRY_INFO!A33=0,\" \",COUNTRY_INFO!A33)","v":"Mali"},{"$f":"IF(COUNTRY_INFO!B33=0,\" \",COUNTRY_INFO!B33)","v":"Kayes"},{"$f":"IF(COUNTRY_INFO!C33=0,\" \",COUNTRY_INFO!C33)","v":"Yelimane"},{"$f":"IF(COUNTRY_INFO!$Z33=\"MDA5 (IDA)\", COUNTRY_INFO!$Z33, \" \")","v":" "},null,null,null,null,0,null,null,null,0," "," "," "," "]
[{"$f":"IF(COUNTRY_INFO!A34=0,\" \",COUNTRY_INFO!A34)","v":"Mali"},{"$f":"IF(COUNTRY_INFO!B34=0,\" \",COUNTRY_INFO!B34)","v":"Kidal"},{"$f":"IF(COUNTRY_INFO!C34=0,\" \",COUNTRY_INFO!C34)","v":"Abeibara"},{"$f":"IF(COUNTRY_INFO!$Z34=\"MDA5 (IDA)\", COUNTRY_INFO!$Z34, \" \")","v":" "},null,null,null,null,0,null,null,null,0," "," "," "," "]
[{"$f":"IF(COUNTRY_INFO!A35=0,\" \",COUNTRY_INFO!A35)","v":"Mali"},{"$f":"IF(COUNTRY_INFO!B35=0,\" \",COUNTRY_INFO!B35)","v":"Kidal"},{"$f":"IF(COUNTRY_INFO!C35=0,\" \",COUNTRY_INFO!C35)","v":"Kidal"},{"$f":"IF(COUNTRY_INFO!$Z35=\"MDA5 (IDA)\", COUNTRY_INFO!$Z35, \" \")","v":" "},null,null,null,null,0,null,null,null,0," "," "," "," "]
[{"$f":"IF(COUNTRY_INFO!A36=0,\" \",COUNTRY_INFO!A36)","v":"Mali"},{"$f":"IF(COUNTRY_INFO!B36=0,\" \",COUNTRY_INFO!B36)","v":"Kidal"},{"$f":"IF(COUNTRY_INFO!C36=0,\" \",COUNTRY_INFO!C36)","v":"Tessalit"},{"$f":"IF(COUNTRY_INFO!$Z36=\"MDA5 (IDA)\", COUNTRY_INFO!$Z36, \" \")","v":" "},null,null,null,null,0,null,null,null,0," "," "," "," "]
[{"$f":"IF(COUNTRY_INFO!A37=0,\" \",COUNTRY_INFO!A37)","v":"Mali"},{"$f":"IF(COUNTRY_INFO!B37=0,\" \",COUNTRY_INFO!B37)","v":"Kidal"},{"$f":"IF(COUNTRY_INFO!C37=0,\" \",COUNTRY_INFO!C37)","v":"Tin-Essako"},{"$f":"IF(COUNTRY_INFO!$Z37=\"MDA5 (IDA)\", COUNTRY_INFO!$Z37, \" \")","v":" "},null,null,null,null,0,null,null,null,0," "," "," "," "]
[{"$f":"IF(COUNTRY_INFO!A38=0,\" \",COUNTRY_INFO!A38)","v":"Mali"},{"$f":"IF(COUNTRY_INFO!B38=0,\" \",COUNTRY_INFO!B38)","v":"Koulikoro"},{"$f":"IF(COUNTRY_INFO!C38=0,\" \",COUNTRY_INFO!C38)","v":"Banamba"},{"$f":"IF(COUNTRY_INFO!$Z38=\"MDA5 (IDA)\", COUNTRY_INFO!$Z38, \" \")","v":" "},null,null,null,null,0,null,null,null,0," "," "," "," "]
[{"$f":"IF(COUNTRY_INFO!A39=0,\" \",COUNTRY_INFO!A39)","v":"Mali"},{"$f":"IF(COUNTRY_INFO!B39=0,\" \",COUNTRY_INFO!B39)","v":"Koulikoro"},{"$f":"IF(COUNTRY_INFO!C39=0,\" \",COUNTRY_INFO!C39)","v":"Dioila"},{"$f":"IF(COUNTRY_INFO!$Z39=\"MDA5 (IDA)\", COUNTRY_INFO!$Z39, \" \")","v":" "},null,null,null,null,0,null,null,null,0," "," "," "," "]
[{"$f":"IF(COUNTRY_INFO!A40=0,\" \",COUNTRY_INFO!A40)","v":"Mali"},{"$f":"IF(COUNTRY_INFO!B40=0,\" \",COUNTRY_INFO!B40)","v":"Koulikoro"},{"$f":"IF(COUNTRY_INFO!C40=0,\" \",COUNTRY_INFO!C40)","v":"Fana"},{"$f":"IF(COUNTRY_INFO!$Z40=\"MDA5 (IDA)\", COUNTRY_INFO!$Z40, \" \")","v":" "},null,null,null,null,0,null,null,null,0," "," "," "," "]
[{"$f":"IF(COUNTRY_INFO!A41=0,\" \",COUNTRY_INFO!A41)","v":"Mali"},{"$f":"IF(COUNTRY_INFO!B41=0,\" \",COUNTRY_INFO!B41)","v":"Koulikoro"},{"$f":"IF(COUNTRY_INFO!C41=0,\" \",COUNTRY_INFO!C41)","v":"Kalabancoro"},{"$f":"IF(COUNTRY_INFO!$Z41=\"MDA5 (IDA)\", COUNTRY_INFO!$Z41, \" \")","v":" "},null,null,null,null,0,null,null,null,0," "," "," "," "]
[{"$f":"IF(COUNTRY_INFO!A42=0,\" \",COUNTRY_INFO!A42)","v":"Mali"},{"$f":"IF(COUNTRY_INFO!B42=0,\" \",COUNTRY_INFO!B42)","v":"Koulikoro"},{"$f":"IF(COUNTRY_INFO!C42=0,\" \",COUNTRY_INFO!C42)","v":"Kangaba"},{"$f":"IF(COUNTRY_INFO!$Z42=\"MDA5 (IDA)\", COUNTRY_INFO!$Z42, \" \")","v":" "},null,null,null,null,0,null,null,null,0," "," "," "," "]
[{"$f":"IF(COUNTRY_INFO!A43=0,\" \",COUNTRY_INFO!A43)","v":"Mali"},{"$f":"IF(COUNTRY_INFO!B43=0,\" \",COUNTRY_INFO!B43)","v":"Koulikoro"},{"$f":"IF(COUNTRY_INFO!C43=0,\" \",COUNTRY_INFO!C43)","v":"Kati"},{"$f":"IF(COUNTRY_INFO!$Z43=\"MDA5 (IDA)\", COUNTRY_INFO!$Z43, \" \")","v":" "},null,null,null,null,0,null,null,null,0," "," "," "," "]
[{"$f":"IF(COUNTRY_INFO!A44=0,\" \",COUNTRY_INFO!A44)","v":"Mali"},{"$f":"IF(COUNTRY_INFO!B44=0,\" \",COUNTRY_INFO!B44)","v":"Koulikoro"},{"$f":"IF(COUNTRY_INFO!C44=0,\" \",COUNTRY_INFO!C44)","v":"Kolokani"},{"$f":"IF(COUNTRY_INFO!$Z44=\"MDA5 (IDA)\", COUNTRY_INFO!$Z44, \" \")","v":" "},null,null,null,null,0,null,null,null,0," "," "," "," "]
[{"$f":"IF(COUNTRY_INFO!A45=0,\" \",COUNTRY_INFO!A45)","v":"Mali"},{"$f":"IF(COUNTRY_INFO!B45=0,\" \",COUNTRY_INFO!B45)","v":"Koulikoro"},{"$f":"IF(COUNTRY_INFO!C45=0,\" \",COUNTRY_INFO!C45)","v":"Koulikoro"},{"$f":"IF(COUNTRY_INFO!$Z45=\"MDA5 (IDA)\", COUNTRY_INFO!$Z45, \" \")","v":" "},null,null,null,null,0,null,null,null,0," "," "," "," "]
[{"$f":"IF(COUNTRY_INFO!A46=0,\" \",COUNTRY_INFO!A46)","v":"Mali"},{"$f":"IF(COUNTRY_INFO!B46=0,\" \",COUNTRY_INFO!B46)","v":"Koulikoro"},{"$f":"IF(COUNTRY_INFO!C46=0,\" \",COUNTRY_INFO!C46)","v":"Nara"},{"$f":"IF(COUNTRY_INFO!$Z46=\"MDA5 (IDA)\", COUNTRY_INFO!$Z46, \" \")","v":" "},null,null,null,null,0,null,null,null,0," "," "," "," "]
[{"$f":"IF(COUNTRY_INFO!A47=0,\" \",COUNTRY_INFO!A47)","v":"Mali"},{"$f":"IF(COUNTRY_INFO!B47=0,\" \",COUNTRY_INFO!B47)","v":"Koulikoro"},{"$f":"IF(COUNTRY_INFO!C47=0,\" \",COUNTRY_INFO!C47)","v":"Ouelessebougou"},{"$f":"IF(COUNTRY_INFO!$Z47=\"MDA5 (IDA)\", COUNTRY_INFO!$Z47, \" \")","v":" "},null,null,null,null,0,null,null,null,0," "," "," "," "]
[{"$f":"IF(COUNTRY_INFO!A48=0,\" \",COUNTRY_INFO!A48)","v":"Mali"},{"$f":"IF(COUNTRY_INFO!B48=0,\" \",COUNTRY_INFO!B48)","v":"Mopti"},{"$f":"IF(COUNTRY_INFO!C48=0,\" \",COUNTRY_INFO!C48)","v":"Bandiagara"},{"$f":"IF(COUNTRY_INFO!$Z48=\"MDA5 (IDA)\", COUNTRY_INFO!$Z48, \" \")","v":" "},null,null,null,null,0,null,null,null,0," "," "," "," "]
[{"$f":"IF(COUNTRY_INFO!A49=0,\" \",COUNTRY_INFO!A49)","v":"Mali"},{"$f":"IF(COUNTRY_INFO!B49=0,\" \",COUNTRY_INFO!B49)","v":"Mopti"},{"$f":"IF(COUNTRY_INFO!C49=0,\" \",COUNTRY_INFO!C49)","v":"Bankass"},{"$f":"IF(COUNTRY_INFO!$Z49=\"MDA5 (IDA)\", COUNTRY_INFO!$Z49, \" \")","v":" "},null,null,null,null,0,null,null,null,0," "," "," "," "]
[{"$f":"IF(COUNTRY_INFO!A50=0,\" \",COUNTRY_INFO!A50)","v":"Mali"},{"$f":"IF(COUNTRY_INFO!B50=0,\" \",COUNTRY_INFO!B50)","v":"Mopti"},{"$f":"IF(COUNTRY_INFO!C50=0,\" \",COUNTRY_INFO!C50)","v":"Djenne"},{"$f":"IF(COUNTRY_INFO!$Z50=\"MDA5 (IDA)\", COUNTRY_INFO!$Z50, \" \")","v":" "},null,null,null,null,0,null,null,null,0," "," "," "," "]
[{"$f":"IF(COUNTRY_INFO!A51=0,\" \",COUNTRY_INFO!A51)","v":"Mali"},{"$f":"IF(COUNTRY_INFO!B51=0,\" \",COUNTRY_INFO!B51)","v":"Mopti"},{"$f":"IF(COUNTRY_INFO!C51=0,\" \",COUNTRY_INFO!C51)","v":"Douentza"},{"$f":"IF(COUNTRY_INFO!$Z51=\"MDA5 (IDA)\", COUNTRY_INFO!$Z51, \" \")","v":" "},null,null,null,null,0,null,null,null,0," "," "," "," "]
[{"$f":"IF(COUNTRY_INFO!A52=0,\" \",COUNTRY_INFO!A52)","v":"Mali"},{"$f":"IF(COUNTRY_INFO!B52=0,\" \",COUNTRY_INFO!B52)","v":"Mopti"},{"$f":"IF(COUNTRY_INFO!C52=0,\" \",COUNTRY_INFO!C52)","v":"Koro"},{"$f":"IF(COUNTRY_INFO!$Z52=\"MDA5 (IDA)\", COUNTRY_INFO!$Z52, \" \")","v":" "},null,null,null,null,0,null,null,null,0," "," "," "," "]
[{"$f":"IF(COUNTRY_INFO!A53=0,\" \",COUNTRY_INFO!A53)","v":"Mali"},{"$f":"IF(COUNTRY_INFO!B53=0,\" \",COUNTRY_INFO!B53)","v":"Mopti"},{"$f":"IF(COUNTRY_INFO!C53=0,\" \",COUNTRY_INFO!C53)","v":"Mopti"},{"$f":"IF(COUNTRY_INFO!$Z53=\"MDA5 (IDA)\", COUNTRY_INFO!$Z53, \" \")","v":" "},null,null,null,null,0,null,null,null,0," "," "," "," "]
[{"$f":"IF(COUNTRY_INFO!A54=0,\" \",COUNTRY_INFO!A54)","v":"Mali"},{"$f":"IF(COUNTRY_INFO!B54=0,\" \",COUNTRY_INFO!B54)","v":"Mopti"},{"$f":"IF(COUNTRY_INFO!C54=0,\" \",COUNTRY_INFO!C54)","v":"Teninkou"},{"$f":"IF(COUNTRY_INFO!$Z54=\"MDA5 (IDA)\", COUNTRY_INFO!$Z54, \" \")","v":" "},null,null,null,null,0,null,null,null,0," "," "," "," "]
[{"$f":"IF(COUNTRY_INFO!A55=0,\" \",COUNTRY_INFO!A55)","v":"Mali"},{"$f":"IF(COUNTRY_INFO!B55=0,\" \",COUNTRY_INFO!B55)","v":"Mopti"},{"$f":"IF(COUNTRY_INFO!C55=0,\" \",COUNTRY_INFO!C55)","v":"Youwarou"},{"$f":"IF(COUNTRY_INFO!$Z55=\"MDA5 (IDA)\", COUNTRY_INFO!$Z55, \" \")","v":" "},null,null,null,null,0,null,null,null,0," "," "," "," "]
[{"$f":"IF(COUNTRY_INFO!A56=0,\" \",COUNTRY_INFO!A56)","v":"Mali"},{"$f":"IF(COUNTRY_INFO!B56=0,\" \",COUNTRY_INFO!B56)","v":"Segou"},{"$f":"IF(COUNTRY_INFO!C56=0,\" \",COUNTRY_INFO!C56)","v":"Barouéli"},{"$f":"IF(COUNTRY_INFO!$Z56=\"MDA5 (IDA)\", COUNTRY_INFO!$Z56, \" \")","v":" "},null,null,null,null,0,null,null,null,0," "," "," "," "]
[{"$f":"IF(COUNTRY_INFO!A57=0,\" \",COUNTRY_INFO!A57)","v":"Mali"},{"$f":"IF(COUNTRY_INFO!B57=0,\" \",COUNTRY_INFO!B57)","v":"Segou"},{"$f":"IF(COUNTRY_INFO!C57=0,\" \",COUNTRY_INFO!C57)","v":"Bla"},{"$f":"IF(COUNTRY_INFO!$Z57=\"MDA5 (IDA)\", COUNTRY_INFO!$Z57, \" \")","v":" "},null,null,null,null,0,null,null,null,0," "," "," "," "]
[{"$f":"IF(COUNTRY_INFO!A58=0,\" \",COUNTRY_INFO!A58)","v":"Mali"},{"$f":"IF(COUNTRY_INFO!B58=0,\" \",COUNTRY_INFO!B58)","v":"Segou"},{"$f":"IF(COUNTRY_INFO!C58=0,\" \",COUNTRY_INFO!C58)","v":"Macina"},{"$f":"IF(COUNTRY_INFO!$Z58=\"MDA5 (IDA)\", COUNTRY_INFO!$Z58, \" \")","v":" "},null,null,null,null,0,null,null,null,0," "," "," "," "]
[{"$f":"IF(COUNTRY_INFO!A59=0,\" \",COUNTRY_INFO!A59)","v":"Mali"},{"$f":"IF(COUNTRY_INFO!B59=0,\" \",COUNTRY_INFO!B59)","v":"Segou"},{"$f":"IF(COUNTRY_INFO!C59=0,\" \",COUNTRY_INFO!C59)","v":"Markala"},{"$f":"IF(COUNTRY_INFO!$Z59=\"MDA5 (IDA)\", COUNTRY_INFO!$Z59, \" \")","v":" "},null,null,null,null,0,null,null,null,0," "," "," "," "]
[{"$f":"IF(COUNTRY_INFO!A60=0,\" \",COUNTRY_INFO!A60)","v":"Mali"},{"$f":"IF(COUNTRY_INFO!B60=0,\" \",COUNTRY_INFO!B60)","v":"Segou"},{"$f":"IF(COUNTRY_INFO!C60=0,\" \",COUNTRY_INFO!C60)","v":"Niono"},{"$f":"IF(COUNTRY_INFO!$Z60=\"MDA5 (IDA)\", COUNTRY_INFO!$Z60, \" \")","v":" "},null,null,null,null,0,null,null,null,0," "," "," "," "]
[{"$f":"IF(COUNTRY_INFO!A61=0,\" \",COUNTRY_INFO!A61)","v":"Mali"},{"$f":"IF(COUNTRY_INFO!B61=0,\" \",COUNTRY_INFO!B61)","v":"Segou"},{"$f":"IF(COUNTRY_INFO!C61=0,\" \",COUNTRY_INFO!C61)","v":"San"},{"$f":"IF(COUNTRY_INFO!$Z61=\"MDA5 (IDA)\", COUNTRY_INFO!$Z61, \" \")","v":" "},null,null,null,null,0,null,null,null,0," "," "," "," "]
[{"$f":"IF(COUNTRY_INFO!A62=0,\" \",COUNTRY_INFO!A62)","v":"Mali"},{"$f":"IF(COUNTRY_INFO!B62=0,\" \",COUNTRY_INFO!B62)","v":"Segou"},{"$f":"IF(COUNTRY_INFO!C62=0,\" \",COUNTRY_INFO!C62)","v":"Segou"},{"$f":"IF(COUNTRY_INFO!$Z62=\"MDA5 (IDA)\", COUNTRY_INFO!$Z62, \" \")","v":" "},null,null,null,null,0,null,null,null,0," "," "," "," "]
[{"$f":"IF(COUNTRY_INFO!A63=0,\" \",COUNTRY_INFO!A63)","v":"Mali"},{"$f":"IF(COUNTRY_INFO!B63=0,\" \",COUNTRY_INFO!B63)","v":"Segou"},{"$f":"IF(COUNTRY_INFO!C63=0,\" \",COUNTRY_INFO!C63)","v":"Tominian"},{"$f":"IF(COUNTRY_INFO!$Z63=\"MDA5 (IDA)\", COUNTRY_INFO!$Z63, \" \")","v":" "},null,null,null,null,0,null,null,null,0," "," "," "," "]
[{"$f":"IF(COUNTRY_INFO!A64=0,\" \",COUNTRY_INFO!A64)","v":"Mali"},{"$f":"IF(COUNTRY_INFO!B64=0,\" \",COUNTRY_INFO!B64)","v":"Sikasso"},{"$f":"IF(COUNTRY_INFO!C64=0,\" \",COUNTRY_INFO!C64)","v":"Bougouni"},{"$f":"IF(COUNTRY_INFO!$Z64=\"MDA5 (IDA)\", COUNTRY_INFO!$Z64, \" \")","v":" "},null,null,null,null,0,null,null,null,0," "," "," "," "]
[{"$f":"IF(COUNTRY_INFO!A65=0,\" \",COUNTRY_INFO!A65)","v":"Mali"},{"$f":"IF(COUNTRY_INFO!B65=0,\" \",COUNTRY_INFO!B65)","v":"Sikasso"},{"$f":"IF(COUNTRY_INFO!C65=0,\" \",COUNTRY_INFO!C65)","v":"Kadiolo"},{"$f":"IF(COUNTRY_INFO!$Z65=\"MDA5 (IDA)\", COUNTRY_INFO!$Z65, \" \")","v":" "},null,null,null,null,0,null,null,null,0," "," "," "," "]
[{"$f":"IF(COUNTRY_INFO!A66=0,\" \",COUNTRY_INFO!A66)","v":"Mali"},{"$f":"IF(COUNTRY_INFO!B66=0,\" \",COUNTRY_INFO!B66)","v":"Sikasso"},{"$f":"IF(COUNTRY_INFO!C66=0,\" \",COUNTRY_INFO!C66)","v":"Kignan"},{"$f":"IF(COUNTRY_INFO!$Z66=\"MDA5 (IDA)\", COUNTRY_INFO!$Z66, \" \")","v":" "},null,null,null,null,0,null,null,null,0," "," "," "," "]
[{"$f":"IF(COUNTRY_INFO!A67=0,\" \",COUNTRY_INFO!A67)","v":"Mali"},{"$f":"IF(COUNTRY_INFO!B67=0,\" \",COUNTRY_INFO!B67)","v":"Sikasso"},{"$f":"IF(COUNTRY_INFO!C67=0,\" \",COUNTRY_INFO!C67)","v":"Kolondieba"},{"$f":"IF(COUNTRY_INFO!$Z67=\"MDA5 (IDA)\", COUNTRY_INFO!$Z67, \" \")","v":" "},null,null,null,null,0,null,null,null,0," "," "," "," "]
[{"$f":"IF(COUNTRY_INFO!A68=0,\" \",COUNTRY_INFO!A68)","v":"Mali"},{"$f":"IF(COUNTRY_INFO!B68=0,\" \",COUNTRY_INFO!B68)","v":"Sikasso"},{"$f":"IF(COUNTRY_INFO!C68=0,\" \",COUNTRY_INFO!C68)","v":"Koutiala"},{"$f":"IF(COUNTRY_INFO!$Z68=\"MDA5 (IDA)\", COUNTRY_INFO!$Z68, \" \")","v":" "},null,null,null,null,0,null,null,null,0," "," "," "," "]
[{"$f":"IF(COUNTRY_INFO!A69=0,\" \",COUNTRY_INFO!A69)","v":"Mali"},{"$f":"IF(COUNTRY_INFO!B69=0,\" \",COUNTRY_INFO!B69)","v":"Sikasso"},{"$f":"IF(COUNTRY_INFO!C69=0,\" \",COUNTRY_INFO!C69)","v":"Niena"},{"$f":"IF(COUNTRY_INFO!$Z69=\"MDA5 (IDA)\", COUNTRY_INFO!$Z69, \" \")","v":" "},null,null,null,null,0,null,null,null,0," "," "," "," "]
[{"$f":"IF(COUNTRY_INFO!A70=0,\" \",COUNTRY_INFO!A70)","v":"Mali"},{"$f":"IF(COUNTRY_INFO!B70=0,\" \",COUNTRY_INFO!B70)","v":"Sikasso"},{"$f":"IF(COUNTRY_INFO!C70=0,\" \",COUNTRY_INFO!C70)","v":"Sélingué"},{"$f":"IF(COUNTRY_INFO!$Z70=\"MDA5 (IDA)\", COUNTRY_INFO!$Z70, \" \")","v":" "},null,null,null,null,0,null,null,null,0," "," "," "," "]
[{"$f":"IF(COUNTRY_INFO!A71=0,\" \",COUNTRY_INFO!A71)","v":"Mali"},{"$f":"IF(COUNTRY_INFO!B71=0,\" \",COUNTRY_INFO!B71)","v":"Sikasso"},{"$f":"IF(COUNTRY_INFO!C71=0,\" \",COUNTRY_INFO!C71)","v":"Sikasso"},{"$f":"IF(COUNTRY_INFO!$Z71=\"MDA5 (IDA)\", COUNTRY_INFO!$Z71, \" \")","v":" "},null,null,null,null,0,null,null,null,0," "," "," "," "]
[{"$f":"IF(COUNTRY_INFO!A72=0,\" \",COUNTRY_INFO!A72)","v":"Mali"},{"$f":"IF(COUNTRY_INFO!B72=0,\" \",COUNTRY_INFO!B72)","v":"Sikasso"},{"$f":"IF(COUNTRY_INFO!C72=0,\" \",COUNTRY_INFO!C72)","v":"Yanfolila"},{"$f":"IF(COUNTRY_INFO!$Z72=\"MDA5 (IDA)\", COUNTRY_INFO!$Z72, \" \")","v":" "},null,null,null,null,0,null,null,null,0," "," "," "," "]
[{"$f":"IF(COUNTRY_INFO!A73=0,\" \",COUNTRY_INFO!A73)","v":"Mali"},{"$f":"IF(COUNTRY_INFO!B73=0,\" \",COUNTRY_INFO!B73)","v":"Sikasso"},{"$f":"IF(COUNTRY_INFO!C73=0,\" \",COUNTRY_INFO!C73)","v":"Yorosso"},{"$f":"IF(COUNTRY_INFO!$Z73=\"MDA5 (IDA)\", COUNTRY_INFO!$Z73, \" \")","v":" "},null,null,null,null,0,null,null,null,0," "," "," "," "]
[{"$f":"IF(COUNTRY_INFO!A74=0,\" \",COUNTRY_INFO!A74)","v":"Mali"},{"$f":"IF(COUNTRY_INFO!B74=0,\" \",COUNTRY_INFO!B74)","v":"Tombouctou"},{"$f":"IF(COUNTRY_INFO!C74=0,\" \",COUNTRY_INFO!C74)","v":"Diré"},{"$f":"IF(COUNTRY_INFO!$Z74=\"MDA5 (IDA)\", COUNTRY_INFO!$Z74, \" \")","v":" "},null,null,null,null,0,null,null,null,0," "," "," "," "]
[{"$f":"IF(COUNTRY_INFO!A75=0,\" \",COUNTRY_INFO!A75)","v":"Mali"},{"$f":"IF(COUNTRY_INFO!B75=0,\" \",COUNTRY_INFO!B75)","v":"Tombouctou"},{"$f":"IF(COUNTRY_INFO!C75=0,\" \",COUNTRY_INFO!C75)","v":"Goundam"},{"$f":"IF(COUNTRY_INFO!$Z75=\"MDA5 (IDA)\", COUNTRY_INFO!$Z75, \" \")","v":" "},null,null,null,null,{"$f":"SUM(F75:H75)","v":0},null,null,null,{"$f":"SUM(J75:L75)","v":0},{"$f":"IF(F75<>0, IF(J75/F75*100=0, \"-\", J75/F75*100), \" \")","v":" "},{"$f":"IF(G75<>0, IF(K75/G75*100=0, \"-\", K75/G75*100), \" \")","v":" "},{"$f":"IF(H75<>0, IF(L75/H75*100=0, \"-\", L75/H75*100), \" \")","v":" "},{"$f":"IF(I75<>0, IF(M75/I75*100=0, \"-\", M75/I75*100), \" \")","v":" "}]
[{"$f":"IF(COUNTRY_INFO!A76=0,\" \",COUNTRY_INFO!A76)","v":"Mali"},{"$f":"IF(COUNTRY_INFO!B76=0,\" \",COUNTRY_INFO!B76)","v":"Tombouctou"},{"$f":"IF(COUNTRY_INFO!C76=0,\" \",COUNTRY_INFO!C76)","v":"Gourma-Rharous"},{"$f":"IF(COUNTRY_INFO!$Z76=\"MDA5 (IDA)\", COUNTRY_INFO!$Z76, \" \")","v":" "},null,null,null,null,0,null,null,null,0," "," "," "," "]
[{"$f":"IF(COUNTRY_INFO!A77=0,\" \",COUNTRY_INFO!A77)","v":"Mali"},{"$f":"IF(COUNTRY_INFO!B77=0,\" \",COUNTRY_INFO!B77)","v":"Tombouctou"},{"$f":"IF(COUNTRY_INFO!C77=0,\" \",COUNTRY_INFO!C77)","v":"Niafunké"},{"$f":"IF(COUNTRY_INFO!$Z77=\"MDA5 (IDA)\", COUNTRY_INFO!$Z77, \" \")","v":" "},null,null,null,null,0,null,null,null,0," "," "," "," "]
[{"$f":"IF(COUNTRY_INFO!A78=0,\" \",COUNTRY_INFO!A78)","v":"Mali"},{"$f":"IF(COUNTRY_INFO!B78=0,\" \",COUNTRY_INFO!B78)","v":"Tombouctou"},{"$f":"IF(COUNTRY_INFO!C78=0,\" \",COUNTRY_INFO!C78)","v":"Tombouctou"},{"$f":"IF(COUNTRY_INFO!$Z78=\"MDA5 (IDA)\", COUNTRY_INFO!$Z78, \" \")","v":" "},null,null,null,null,0,null,null,null,0," "," "," "," "]
[{"$f":"IF(COUNTRY_INFO!A79=0,\" \",COUNTRY_INFO!A79)","v":"Mali"},{"$f":"IF(COUNTRY_INFO!B79=0,\" \",COUNTRY_INFO!B79)","v":"Taoudenit"},{"$f":"IF(COUNTRY_INFO!C79=0,\" \",COUNTRY_INFO!C79)","v":"Achourat"},{"$f":"IF(COUNTRY_INFO!$Z79=\"MDA5 (IDA)\", COUNTRY_INFO!$Z79, \" \")","v":" "},null,null,null,null,0,null,null,null,0," "," "," "," "]
[{"$f":"IF(COUNTRY_INFO!A80=0,\" \",COUNTRY_INFO!A80)","v":"Mali"},{"$f":"IF(COUNTRY_INFO!B80=0,\" \",COUNTRY_INFO!B80)","v":"Taoudenit"},{"$f":"IF(COUNTRY_INFO!C80=0,\" \",COUNTRY_INFO!C80)","v":"Al-Ourch"},{"$f":"IF(COUNTRY_INFO!$Z80=\"MDA5 (IDA)\", COUNTRY_INFO!$Z80, \" \")","v":" "},null,null,null,null,0,null,null,null,0," "," "," "," "]
[{"$f":"IF(COUNTRY_INFO!A81=0,\" \",COUNTRY_INFO!A81)","v":"Mali"},{"$f":"IF(COUNTRY_INFO!B81=0,\" \",COUNTRY_INFO!B81)","v":"Taoudenit"},{"$f":"IF(COUNTRY_INFO!C81=0,\" \",COUNTRY_INFO!C81)","v":"Araouane"},{"$f":"IF(COUNTRY_INFO!$Z81=\"MDA5 (IDA)\", COUNTRY_INFO!$Z81, \" \")","v":" "},null,null,null,null,0,null,null,null,0," "," "," "," "]
[{"$f":"IF(COUNTRY_INFO!A82=0,\" \",COUNTRY_INFO!A82)","v":"Mali"},{"$f":"IF(COUNTRY_INFO!B82=0,\" \",COUNTRY_INFO!B82)","v":"Taoudenit"},{"$f":"IF(COUNTRY_INFO!C82=0,\" \",COUNTRY_INFO!C82)","v":"Boujbeha"},{"$f":"IF(COUNTRY_INFO!$Z82=\"MDA5 (IDA)\", COUNTRY_INFO!$Z82, \" \")","v":" "},null,null,null,null,0,null,null,null,0," "," "," "," "]
[{"$f":"IF(COUNTRY_INFO!A83=0,\" \",COUNTRY_INFO!A83)","v":"Mali"},{"$f":"IF(COUNTRY_INFO!B83=0,\" \",COUNTRY_INFO!B83)","v":"Taoudenit"},{"$f":"IF(COUNTRY_INFO!C83=0,\" \",COUNTRY_INFO!C83)","v":"Foum-Elba"},{"$f":"IF(COUNTRY_INFO!$Z83=\"MDA5 (IDA)\", COUNTRY_INFO!$Z83, \" \")","v":" "},null,null,null,null,0,null,null,null,0," "," "," "," "]
[{"$f":"IF(COUNTRY_INFO!A84=0,\" \",COUNTRY_INFO!A84)","v":"Mali"},{"$f":"IF(COUNTRY_INFO!B84=0,\" \",COUNTRY_INFO!B84)","v":"Taoudenit"},{"$f":"IF(COUNTRY_INFO!C84=0,\" \",COUNTRY_INFO!C84)","v":"Taoudenit"},{"$f":"IF(COUNTRY_INFO!$Z84=\"MDA5 (IDA)\", COUNTRY_INFO!$Z84, \" \")","v":" "},null,null,null,null,0,null,null,null,0," "," "," "," "]

{"sheet":"T1","index":6,"n_rows":84,"n_cols":18,"rows_kept":84,"cut":false,"hidden":true,"merged":[[5,6,5,9],[5,10,5,13],[5,14,5,17],[3,0,3,2],[5,0,5,2],[5,3,6,3],[5,5,6,5],[5,4,6,4]]}
["T 1 - Praziquantel (PZQ) et Albendazole (ALB) ou Mebendazole (MBD)"]
["Structure administrative, population nécessitant une chimioprévention par groupe d'âge, population traitée par groupe d'âge et couverture"]
[]
["TOTAL",null,null,null,null,null,{"$f":"SUBTOTAL(9,G$10:G$1010)","v":0},0,0,0,0,0,0,0,{"$f":"IF(G4<>0, IF(K4/G4*100=0, \"-\", K4/G4*100), \" \")","v":" "},{"$f":"IF(H4<>0, IF(L4/H4*100=0, \"-\", L4/H4*100), \" \")","v":" "},{"$f":"IF(I4<>0, IF(M4/I4*100=0, \"-\", M4/I4*100), \" \")","v":" "},{"$f":"IF(J4<>0, IF(N4/J4*100=0, \"-\", N4/J4*100), \" \")","v":" "}]
[]
["Structure administrative du pays",null,null,"Mise en oeuvre \nde la CP","Médica-ment","Date","Population ciblée pour T1",null,null,null,"Population traitée",null,null,null,"Couverture du Programme (%)"]
["Pays","Région/Département","District",null,null,null,"EAPréS","EAS","Adultes","Total","EAPréS","EAS","Adultes","Total","EAPréS","EAS","Adultes","Total"]
[]
[]
[{"$f":"IF(COUNTRY_INFO!A10=0,\" \",COUNTRY_INFO!A10)","v":"Mali"},{"$f":"IF(COUNTRY_INFO!B10=0,\" \",COUNTRY_INFO!B10)","v":"Bamako"},{"$f":"IF(COUNTRY_INFO!C10=0,\" \",COUNTRY_INFO!C10)","v":"Commune 1"},{"$f":"IF(OR(COUNTRY_INFO!$Z10=\"T1 (PZQ+ALB/MBD)\",COUNTRY_INFO!$AA10=\"T1 (PZQ+ALB/MBD)\"), \"T1 (PZQ+ALB/MBD)\", \" \")","v":" "},null,null,null,null,null,{"$f":"SUM(G10:I10)","v":0},null,null,null,{"$f":"SUM(K10:M10)","v":0},{"$f":"IF(G10<>0, IF(K10/G10*100=0, \"-\", K10/G10*100), \" \")","v":" "},{"$f":"IF(H10<>0, IF(L10/H10*100=0, \"-\", L10/H10*100), \" \")","v":" "},{"$f":"IF(I10<>0, IF(M10/I10*100=0, \"-\", M10/I10*100), \" \")","v":" "}," "]
[{"$f":"IF(COUNTRY_INFO!A11=0,\" \",COUNTRY_INFO!A11)","v":"Mali"},{"$f":"IF(COUNTRY_INFO!B11=0,\" \",COUNTRY_INFO!B11)","v":"Bamako"},{"$f":"IF(COUNTRY_INFO!C11=0,\" \",COUNTRY_INFO!C11)","v":"Commune 2"},{"$f":"IF(OR(COUNTRY_INFO!$Z11=\"T1 (PZQ+ALB/MBD)\",COUNTRY_INFO!$AA11=\"T1 (PZQ+ALB/MBD)\"), \"T1 (PZQ+ALB/MBD)\", \" \")","v":" "},null,null,null,null,null,{"$f":"SUM(G11:I11)","v":0},null,null,null,{"$f":"SUM(K11:M11)","v":0},{"$f":"IF(G11<>0, IF(K11/G11*100=0, \"-\", K11/G11*100), \" \")","v":" "},{"$f":"IF(H11<>0, IF(L11/H11*100=0, \"-\", L11/H11*100), \" \")","v":" "},{"$f":"IF(I11<>0, IF(M11/I11*100=0, \"-\", M11/I11*100), \" \")","v":" "},{"$f":"IF(J11<>0, IF(N11/J11*100=0, \"-\", N11/J11*100), \" \")","v":" "}]
[{"$f":"IF(COUNTRY_INFO!A12=0,\" \",COUNTRY_INFO!A12)","v":"Mali"},{"$f":"IF(COUNTRY_INFO!B12=0,\" \",COUNTRY_INFO!B12)","v":"Bamako"},{"$f":"IF(COUNTRY_INFO!C12=0,\" \",COUNTRY_INFO!C12)","v":"Commune 3"},{"$f":"IF(OR(COUNTRY_INFO!$Z12=\"T1 (PZQ+ALB/MBD)\",COUNTRY_INFO!$AA12=\"T1 (PZQ+ALB/MBD)\"), \"T1 (PZQ+ALB/MBD)\", \" \")","v":" "},null,null,null,null,null,0,null,null,null,0," "," "," "," "]
[{"$f":"IF(COUNTRY_INFO!A13=0,\" \",COUNTRY_INFO!A13)","v":"Mali"},{"$f":"IF(COUNTRY_INFO!B13=0,\" \",COUNTRY_INFO!B13)","v":"Bamako"},{"$f":"IF(COUNTRY_INFO!C13=0,\" \",COUNTRY_INFO!C13)","v":"Commune 4"},{"$f":"IF(OR(COUNTRY_INFO!$Z13=\"T1 (PZQ+ALB/MBD)\",COUNTRY_INFO!$AA13=\"T1 (PZQ+ALB/MBD)\"), \"T1 (PZQ+ALB/MBD)\", \" \")","v":" "},null,null,null,null,null,0,null,null,null,0," "," "," "," "]
[{"$f":"IF(COUNTRY_INFO!A14=0,\" \",COUNTRY_INFO!A14)","v":"Mali"},{"$f":"IF(COUNTRY_INFO!B14=0,\" \",COUNTRY_INFO!B14)","v":"Bamako"},{"$f":"IF(COUNTRY_INFO!C14=0,\" \",COUNTRY_INFO!C14)","v":"Commune 5"},{"$f":"IF(OR(COUNTRY_INFO!$Z14=\"T1 (PZQ+ALB/MBD)\",COUNTRY_INFO!$AA14=\"T1 (PZQ+ALB/MBD)\"), \"T1 (PZQ+ALB/MBD)\", \" \")","v":" "},null,null,null,null,null,0,null,null,null,0," "," "," "," "]
[{"$f":"IF(COUNTRY_INFO!A15=0,\" \",COUNTRY_INFO!A15)","v":"Mali"},{"$f":"IF(COUNTRY_INFO!B15=0,\" \",COUNTRY_INFO!B15)","v":"Bamako"},{"$f":"IF(COUNTRY_INFO!C15=0,\" \",COUNTRY_INFO!C15)","v":"Commune 6"},{"$f":"IF(OR(COUNTRY_INFO!$Z15=\"T1 (PZQ+ALB/MBD)\",COUNTRY_INFO!$AA15=\"T1 (PZQ+ALB/MBD)\"), \"T1 (PZQ+ALB/MBD)\", \" \")","v":" "},null,null,null,null,null,0,null,null,null,0," "," "," "," "]
[{"$f":"IF(COUNTRY_INFO!A16=0,\" \",COUNTRY_INFO!A16)","v":"Mali"},{"$f":"IF(COUNTRY_INFO!B16=0,\" \",COUNTRY_INFO!B16)","v":"Gao"},{"$f":"IF(COUNTRY_INFO!C16=0,\" \",COUNTRY_INFO!C16)","v":"Ansongo"},{"$f":"IF(OR(COUNTRY_INFO!$Z16=\"T1 (PZQ+ALB/MBD)\",COUNTRY_INFO!$AA16=\"T1 (PZQ+ALB/MBD)\"), \"T1 (PZQ+ALB/MBD)\", \" \")","v":" "},null,null,null,null,null,0,null,null,null,0," "," "," "," "]
[{"$f":"IF(COUNTRY_INFO!A17=0,\" \",COUNTRY_INFO!A17)","v":"Mali"},{"$f":"IF(COUNTRY_INFO!B17=0,\" \",COUNTRY_INFO!B17)","v":"Gao"},{"$f":"IF(COUNTRY_INFO!C17=0,\" \",COUNTRY_INFO!C17)","v":"Bourem"},{"$f":"IF(OR(COUNTRY_INFO!$Z17=\"T1 (PZQ+ALB/MBD)\",COUNTRY_INFO!$AA17=\"T1 (PZQ+ALB/MBD)\"), \"T1 (PZQ+ALB/MBD)\", \" \")","v":" "},null,null,null,null,null,0,null,null,null,0," "," "," "," "]
[{"$f":"IF(COUNTRY_INFO!A18=0,\" \",COUNTRY_INFO!A18)","v":"Mali"},{"$f":"IF(COUNTRY_INFO!B18=0,\" \",COUNTRY_INFO!B18)","v":"Gao"},{"$f":"IF(COUNTRY_INFO!C18=0,\" \",COUNTRY_INFO!C18)","v":"Almoustrat"},{"$f":"IF(OR(COUNTRY_INFO!$Z18=\"T1 (PZQ+ALB/MBD)\",COUNTRY_INFO!$AA18=\"T1 (PZQ+ALB/MBD)\"), \"T1 (PZQ+ALB/MBD)\", \" \")","v":" "},null,null,null,null,null,0,null,null,null,0," "," "," "," "]
[{"$f":"IF(COUNTRY_INFO!A19=0,\" \",COUNTRY_INFO!A19)","v":"Mali"},{"$f":"IF(COUNTRY_INFO!B19=0,\" \",COUNTRY_INFO!B19)","v":"Gao"},{"$f":"IF(COUNTRY_INFO!C19=0,\" \",COUNTRY_INFO!C19)","v":"Gao"},{"$f":"IF(OR(COUNTRY_INFO!$Z19=\"T1 (PZQ+ALB/MBD)\",COUNTRY_INFO!$AA19=\"T1 (PZQ+ALB/MBD)\"), \"T1 (PZQ+ALB/MBD)\", \" \")","v":" "},null,null,null,null,null,0,null,null,null,0," "," "," "," "]
[{"$f":"IF(COUNTRY_INFO!A20=0,\" \",COUNTRY_INFO!A20)","v":"Mali"},{"$f":"IF(COUNTRY_INFO!B20=0,\" \",COUNTRY_INFO!B20)","v":"Menaka"},{"$f":"IF(COUNTRY_INFO!C20=0,\" \",COUNTRY_INFO!C20)","v":"Menaka"},{"$f":"IF(OR(COUNTRY_INFO!$Z20=\"T1 (PZQ+ALB/MBD)\",COUNTRY_INFO!$AA20=\"T1 (PZQ+ALB/MBD)\"), \"T1 (PZQ+ALB/MBD)\", \" \")","v":" "},null,null,null,null,null,0,null,null,null,0," "," "," "," "]
[{"$f":"IF(COUNTRY_INFO!A21=0,\" \",COUNTRY_INFO!A21)","v":"Mali"},{"$f":"IF(COUNTRY_INFO!B21=0,\" \",COUNTRY_INFO!B21)","v":"Menaka"},{"$f":"IF(COUNTRY_INFO!C21=0,\" \",COUNTRY_INFO!C21)","v":"Anderamboukane"},{"$f":"IF(OR(COUNTRY_INFO!$Z21=\"T1 (PZQ+ALB/MBD)\",COUNTRY_INFO!$AA21=\"T1 (PZQ+ALB/MBD)\"), \"T1 (PZQ+ALB/MBD)\", \" \")","v":" "},null,null,null,null,null,0,null,null,null,0," "," "," "," "]
[{"$f":"IF(COUNTRY_INFO!A22=0,\" \",COUNTRY_INFO!A22)","v":"Mali"},{"$f":"IF(COUNTRY_INFO!B22=0,\" \",COUNTRY_INFO!B22)","v":"Menaka"},{"$f":"IF(COUNTRY_INFO!C22=0,\" \",COUNTRY_INFO!C22)","v":"Inekar"},{"$f":"IF(OR(COUNTRY_INFO!$Z22=\"T1 (PZQ+ALB/MBD)\",COUNTRY_INFO!$AA22=\"T1 (PZQ+ALB/MBD)\"), \"T1 (PZQ+ALB/MBD)\", \" \")","v":" "},null,null,null,null,null,0,null,null,null,0," "," "," "," "]
[{"$f":"IF(COUNTRY_INFO!A23=0,\" \",COUNTRY_INFO!A23)","v":"Mali"},{"$f":"IF(COUNTRY_INFO!B23=0,\" \",COUNTRY_INFO!B23)","v":"Menaka"},{"$f":"IF(COUNTRY_INFO!C23=0,\" \",COUNTRY_INFO!C23)","v":"Tidermene"},{"$f":"IF(OR(COUNTRY_INFO!$Z23=\"T1 (PZQ+ALB/MBD)\",COUNTRY_INFO!$AA23=\"T1 (PZQ+ALB/MBD)\"), \"T1 (PZQ+ALB/MBD)\", \" \")","v":" "},null,null,null,null,null,0,null,null,null,0," "," "," "," "]
[{"$f":"IF(COUNTRY_INFO!A24=0,\" \",COUNTRY_INFO!A24)","v":"Mali"},{"$f":"IF(COUNTRY_INFO!B24=0,\" \",COUNTRY_INFO!B24)","v":"Kayes"},{"$f":"IF(COUNTRY_INFO!C24=0,\" \",COUNTRY_INFO!C24)","v":"Bafoulabe"},{"$f":"IF(OR(COUNTRY_INFO!$Z24=\"T1 (PZQ+ALB/MBD)\",COUNTRY_INFO!$AA24=\"T1 (PZQ+ALB/MBD)\"), \"T1 (PZQ+ALB/MBD)\", \" \")","v":" "},null,null,null,null,null,0,null,null,null,0," "," "," "," "]
[{"$f":"IF(COUNTRY_INFO!A25=0,\" \",COUNTRY_INFO!A25)","v":"Mali"},{"$f":"IF(COUNTRY_INFO!B25=0,\" \",COUNTRY_INFO!B25)","v":"Kayes"},{"$f":"IF(COUNTRY_INFO!C25=0,\" \",COUNTRY_INFO!C25)","v":"Diema"},{"$f":"IF(OR(COUNTRY_INFO!$Z25=\"T1 (PZQ+ALB/MBD)\",COUNTRY_INFO!$AA25=\"T1 (PZQ+ALB/MBD)\"), \"T1 (PZQ+ALB/MBD)\", \" \")","v":" "},null,null,null,null,null,0,null,null,null,0," "," "," "," "]
[{"$f":"IF(COUNTRY_INFO!A26=0,\" \",COUNTRY_INFO!A26)","v":"Mali"},{"$f":"IF(COUNTRY_INFO!B26=0,\" \",COUNTRY_INFO!B26)","v":"Kayes"},{"$f":"IF(COUNTRY_INFO!C26=0,\" \",COUNTRY_INFO!C26)","v":"Kayes"},{"$f":"IF(OR(COUNTRY_INFO!$Z26=\"T1 (PZQ+ALB/MBD)\",COUNTRY_INFO!$AA26=\"T1 (PZQ+ALB/MBD)\"), \"T1 (PZQ+ALB/MBD)\", \" \")","v":" "},null,null,null,null,null,0,null,null,null,0," "," "," "," "]
[{"$f":"IF(COUNTRY_INFO!A27=0,\" \",COUNTRY_INFO!A27)","v":"Mali"},{"$f":"IF(COUNTRY_INFO!B27=0,\" \",COUNTRY_INFO!B27)","v":"Kayes"},{"$f":"IF(COUNTRY_INFO!C27=0,\" \",COUNTRY_INFO!C27)","v":"Kenieba"},{"$f":"IF(OR(COUNTRY_INFO!$Z27=\"T1 (PZQ+ALB/MBD)\",COUNTRY_INFO!$AA27=\"T1 (PZQ+ALB/MBD)\"), \"T1 (PZQ+ALB/MBD)\", \" \")","v":" "},null,null,null,null,null,0,null,null,null,0," "," "," "," "]
[{"$f":"IF(COUNTRY_INFO!A28=0,\" \",COUNTRY_INFO!A28)","v":"Mali"},{"$f":"IF(COUNTRY_INFO!B28=0,\" \",COUNTRY_INFO!B28)","v":"Kayes"},{"$f":"IF(COUNTRY_INFO!C28=0,\" \",COUNTRY_INFO!C28)","v":"Kita"},{"$f":"IF(OR(COUNTRY_INFO!$Z28=\"T1 (PZQ+ALB/MBD)\",COUNTRY_INFO!$AA28=\"T1 (PZQ+ALB/MBD)\"), \"T1 (PZQ+ALB/MBD)\", \" \")","v":" "},null,null,null,null,null,0,null,null,null,0," "," "," "," "]
[{"$f":"IF(COUNTRY_INFO!A29=0,\" \",COUNTRY_INFO!A29)","v":"Mali"},{"$f":"IF(COUNTRY_INFO!B29=0,\" \",COUNTRY_INFO!B29)","v":"Kayes"},{"$f":"IF(COUNTRY_INFO!C29=0,\" \",COUNTRY_INFO!C29)","v":"Sagabari"},{"$f":"IF(OR(COUNTRY_INFO!$Z29=\"T1 (PZQ+ALB/MBD)\",COUNTRY_INFO!$AA29=\"T1 (PZQ+ALB/MBD)\"), \"T1 (PZQ+ALB/MBD)\", \" \")","v":" "},null,null,null,null,null,0,null,null,null,0," "," "," "," "]
[{"$f":"IF(COUNTRY_INFO!A30=0,\" \",COUNTRY_INFO!A30)","v":"Mali"},{"$f":"IF(COUNTRY_INFO!B30=0,\" \",COUNTRY_INFO!B30)","v":"Kayes"},{"$f":"IF(COUNTRY_INFO!C30=0,\" \",COUNTRY_INFO!C30)","v":"Sefeto"},{"$f":"IF(OR(COUNTRY_INFO!$Z30=\"T1 (PZQ+ALB/MBD)\",COUNTRY_INFO!$AA30=\"T1 (PZQ+ALB/MBD)\"), \"T1 (PZQ+ALB/MBD)\", \" \")","v":" "},null,null,null,null,null,0,null,null,null,0," "," "," "," "]
[{"$f":"IF(COUNTRY_INFO!A31=0,\" \",COUNTRY_INFO!A31)","v":"Mali"},{"$f":"IF(COUNTRY_INFO!B31=0,\" \",COUNTRY_INFO!B31)","v":"Kayes"},{"$f":"IF(COUNTRY_INFO!C31=0,\" \",COUNTRY_INFO!C31)","v":"Nioro"},{"$f":"IF(OR(COUNTRY_INFO!$Z31=\"T1 (PZQ+ALB/MBD)\",COUNTRY_INFO!$AA31=\"T1 (PZQ+ALB/MBD)\"), \"T1 (PZQ+ALB/MBD)\", \" \")","v":" "},null,null,null,null,null,0,null,null,null,0," "," "," "," "]
[{"$f":"IF(COUNTRY_INFO!A32=0,\" \",COUNTRY_INFO!A32)","v":"Mali"},{"$f":"IF(COUNTRY_INFO!B32=0,\" \",COUNTRY_INFO!B32)","v":"Kayes"},{"$f":"IF(COUNTRY_INFO!C32=0,\" \",COUNTRY_INFO!C32)","v":"Oussoubidiagna"},{"$f":"IF(OR(COUNTRY_INFO!$Z32=\"T1 (PZQ+ALB/MBD)\",COUNTRY_INFO!$AA32=\"T1 (PZQ+ALB/MBD)\"), \"T1 (PZQ+ALB/MBD)\", \" \")","v":" "},null,null,null,null,null,0,null,null,null,0," "," "," "," "]
[{"$f":"IF(COUNTRY_INFO!A33=0,\" \",COUNTRY_INFO!A33)","v":"Mali"},{"$f":"IF(COUNTRY_INFO!B33=0,\" \",COUNTRY_INFO!B33)","v":"Kayes"},{"$f":"IF(COUNTRY_INFO!C33=0,\" \",COUNTRY_INFO!C33)","v":"Yelimane"},{"$f":"IF(OR(COUNTRY_INFO!$Z33=\"T1 (PZQ+ALB/MBD)\",COUNTRY_INFO!$AA33=\"T1 (PZQ+ALB/MBD)\"), \"T1 (PZQ+ALB/MBD)\", \" \")","v":" "},null,null,null,null,null,0,null,null,null,0," "," "," "," "]
[{"$f":"IF(COUNTRY_INFO!A34=0,\" \",COUNTRY_INFO!A34)","v":"Mali"},{"$f":"IF(COUNTRY_INFO!B34=0,\" \",COUNTRY_INFO!B34)","v":"Kidal"},{"$f":"IF(COUNTRY_INFO!C34=0,\" \",COUNTRY_INFO!C34)","v":"Abeibara"},{"$f":"IF(OR(COUNTRY_INFO!$Z34=\"T1 (PZQ+ALB/MBD)\",COUNTRY_INFO!$AA34=\"T1 (PZQ+ALB/MBD)\"), \"T1 (PZQ+ALB/MBD)\", \" \")","v":" "},null,null,null,null,null,0,null,null,null,0," "," "," "," "]
[{"$f":"IF(COUNTRY_INFO!A35=0,\" \",COUNTRY_INFO!A35)","v":"Mali"},{"$f":"IF(COUNTRY_INFO!B35=0,\" \",COUNTRY_INFO!B35)","v":"Kidal"},{"$f":"IF(COUNTRY_INFO!C35=0,\" \",COUNTRY_INFO!C35)","v":"Kidal"},{"$f":"IF(OR(COUNTRY_INFO!$Z35=\"T1 (PZQ+ALB/MBD)\",COUNTRY_INFO!$AA35=\"T1 (PZQ+ALB/MBD)\"), \"T1 (PZQ+ALB/MBD)\", \" \")","v":" "},null,null,null,null,null,0,null,null,null,0," "," "," "," "]
[{"$f":"IF(COUNTRY_INFO!A36=0,\" \",COUNTRY_INFO!A36)","v":"Mali"},{"$f":"IF(COUNTRY_INFO!B36=0,\" \",COUNTRY_INFO!B36)","v":"Kidal"},{"$f":"IF(COUNTRY_INFO!C36=0,\" \",COUNTRY_INFO!C36)","v":"Tessalit"},{"$f":"IF(OR(COUNTRY_INFO!$Z36=\"T1 (PZQ+ALB/MBD)\",COUNTRY_INFO!$AA36=\"T1 (PZQ+ALB/MBD)\"), \"T1 (PZQ+ALB/MBD)\", \" \")","v":" "},null,null,null,null,null,0,null,null,null,0," "," "," "," "]
[{"$f":"IF(COUNTRY_INFO!A37=0,\" \",COUNTRY_INFO!A37)","v":"Mali"},{"$f":"IF(COUNTRY_INFO!B37=0,\" \",COUNTRY_INFO!B37)","v":"Kidal"},{"$f":"IF(COUNTRY_INFO!C37=0,\" \",COUNTRY_INFO!C37)","v":"Tin-Essako"},{"$f":"IF(OR(COUNTRY_INFO!$Z37=\"T1 (PZQ+ALB/MBD)\",COUNTRY_INFO!$AA37=\"T1 (PZQ+ALB/MBD)\"), \"T1 (PZQ+ALB/MBD)\", \" \")","v":" "},null,null,null,null,null,0,null,null,null,0," "," "," "," "]
[{"$f":"IF(COUNTRY_INFO!A38=0,\" \",COUNTRY_INFO!A38)","v":"Mali"},{"$f":"IF(COUNTRY_INFO!B38=0,\" \",COUNTRY_INFO!B38)","v":"Koulikoro"},{"$f":"IF(COUNTRY_INFO!C38=0,\" \",COUNTRY_INFO!C38)","v":"Banamba"},{"$f":"IF(OR(COUNTRY_INFO!$Z38=\"T1 (PZQ+ALB/MBD)\",COUNTRY_INFO!$AA38=\"T1 (PZQ+ALB/MBD)\"), \"T1 (PZQ+ALB/MBD)\", \" \")","v":" "},null,null,null,null,null,0,null,null,null,0," "," "," "," "]
[{"$f":"IF(COUNTRY_INFO!A39=0,\" \",COUNTRY_INFO!A39)","v":"Mali"},{"$f":"IF(COUNTRY_INFO!B39=0,\" \",COUNTRY_INFO!B39)","v":"Koulikoro"},{"$f":"IF(COUNTRY_INFO!C39=0,\" \",COUNTRY_INFO!C39)","v":"Dioila"},{"$f":"IF(OR(COUNTRY_INFO!$Z39=\"T1 (PZQ+ALB/MBD)\",COUNTRY_INFO!$AA39=\"T1 (PZQ+ALB/MBD)\"), \"T1 (PZQ+ALB/MBD)\", \" \")","v":" "},null,null,null,null,null,0,null,null,null,0," "," "," "," "]
[{"$f":"IF(COUNTRY_INFO!A40=0,\" \",COUNTRY_INFO!A40)","v":"Mali"},{"$f":"IF(COUNTRY_INFO!B40=0,\" \",COUNTRY_INFO!B40)","v":"Koulikoro"},{"$f":"IF(COUNTRY_INFO!C40=0,\" \",COUNTRY_INFO!C40)","v":"Fana"},{"$f":"IF(OR(COUNTRY_INFO!$Z40=\"T1 (PZQ+ALB/MBD)\",COUNTRY_INFO!$AA40=\"T1 (PZQ+ALB/MBD)\"), \"T1 (PZQ+ALB/MBD)\", \" \")","v":" "},null,null,null,null,null,0,null,null,null,0," "," "," "," "]
[{"$f":"IF(COUNTRY_INFO!A41=0,\" \",COUNTRY_INFO!A41)","v":"Mali"},{"$f":"IF(COUNTRY_INFO!B41=0,\" \",COUNTRY_INFO!B41)","v":"Koulikoro"},{"$f":"IF(COUNTRY_INFO!C41=0,\" \",COUNTRY_INFO!C41)","v":"Kalabancoro"},{"$f":"IF(OR(COUNTRY_INFO!$Z41=\"T1 (PZQ+ALB/MBD)\",COUNTRY_INFO!$AA41=\"T1 (PZQ+ALB/MBD)\"), \"T1 (PZQ+ALB/MBD)\", \" \")","v":" "},null,null,null,null,null,0,null,null,null,0," "," "," "," "]
[{"$f":"IF(COUNTRY_INFO!A42=0,\" \",COUNTRY_INFO!A42)","v":"Mali"},{"$f":"IF(COUNTRY_INFO!B42=0,\" \",COUNTRY_INFO!B42)","v":"Koulikoro"},{"$f":"IF(COUNTRY_INFO!C42=0,\" \",COUNTRY_INFO!C42)","v":"Kangaba"},{"$f":"IF(OR(COUNTRY_INFO!$Z42=\"T1 (PZQ+ALB/MBD)\",COUNTRY_INFO!$AA42=\"T1 (PZQ+ALB/MBD)\"), \"T1 (PZQ+ALB/MBD)\", \" \")","v":" "},null,null,null,null,null,0,null,null,null,0," "," "," "," "]
[{"$f":"IF(COUNTRY_INFO!A43=0,\" \",COUNTRY_INFO!A43)","v":"Mali"},{"$f":"IF(COUNTRY_INFO!B43=0,\" \",COUNTRY_INFO!B43)","v":"Koulikoro"},{"$f":"IF(COUNTRY_INFO!C43=0,\" \",COUNTRY_INFO!C43)","v":"Kati"},{"$f":"IF(OR(COUNTRY_INFO!$Z43=\"T1 (PZQ+ALB/MBD)\",COUNTRY_INFO!$AA43=\"T1 (PZQ+ALB/MBD)\"), \"T1 (PZQ+ALB/MBD)\", \" \")","v":" "},null,null,null,null,null,0,null,null,null,0," "," "," "," "]
[{"$f":"IF(COUNTRY_INFO!A44=0,\" \",COUNTRY_INFO!A44)","v":"Mali"},{"$f":"IF(COUNTRY_INFO!B44=0,\" \",COUNTRY_INFO!B44)","v":"Koulikoro"},{"$f":"IF(COUNTRY_INFO!C44=0,\" \",COUNTRY_INFO!C44)","v":"Kolokani"},{"$f":"IF(OR(COUNTRY_INFO!$Z44=\"T1 (PZQ+ALB/MBD)\",COUNTRY_INFO!$AA44=\"T1 (PZQ+ALB/MBD)\"), \"T1 (PZQ+ALB/MBD)\", \" \")","v":" "},null,null,null,null,null,0,null,null,null,0," "," "," "," "]
[{"$f":"IF(COUNTRY_INFO!A45=0,\" \",COUNTRY_INFO!A45)","v":"Mali"},{"$f":"IF(COUNTRY_INFO!B45=0,\" \",COUNTRY_INFO!B45)","v":"Koulikoro"},{"$f":"IF(COUNTRY_INFO!C45=0,\" \",COUNTRY_INFO!C45)","v":"Koulikoro"},{"$f":"IF(OR(COUNTRY_INFO!$Z45=\"T1 (PZQ+ALB/MBD)\",COUNTRY_INFO!$AA45=\"T1 (PZQ+ALB/MBD)\"), \"T1 (PZQ+ALB/MBD)\", \" \")","v":" "},null,null,null,null,null,0,null,null,null,0," "," "," "," "]
[{"$f":"IF(COUNTRY_INFO!A46=0,\" \",COUNTRY_INFO!A46)","v":"Mali"},{"$f":"IF(COUNTRY_INFO!B46=0,\" \",COUNTRY_INFO!B46)","v":"Koulikoro"},{"$f":"IF(COUNTRY_INFO!C46=0,\" \",COUNTRY_INFO!C46)","v":"Nara"},{"$f":"IF(OR(COUNTRY_INFO!$Z46=\"T1 (PZQ+ALB/MBD)\",COUNTRY_INFO!$AA46=\"T1 (PZQ+ALB/MBD)\"), \"T1 (PZQ+ALB/MBD)\", \" \")","v":" "},null,null,null,null,null,0,null,null,null,0," "," "," "," "]
[{"$f":"IF(COUNTRY_INFO!A47=0,\" \",COUNTRY_INFO!A47)","v":"Mali"},{"$f":"IF(COUNTRY_INFO!B47=0,\" \",COUNTRY_INFO!B47)","v":"Koulikoro"},{"$f":"IF(COUNTRY_INFO!C47=0,\" \",COUNTRY_INFO!C47)","v":"Ouelessebougou"},{"$f":"IF(OR(COUNTRY_INFO!$Z47=\"T1 (PZQ+ALB/MBD)\",COUNTRY_INFO!$AA47=\"T1 (PZQ+ALB/MBD)\"), \"T1 (PZQ+ALB/MBD)\", \" \")","v":" "},null,null,null,null,null,0,null,null,null,0," "," "," "," "]
[{"$f":"IF(COUNTRY_INFO!A48=0,\" \",COUNTRY_INFO!A48)","v":"Mali"},{"$f":"IF(COUNTRY_INFO!B48=0,\" \",COUNTRY_INFO!B48)","v":"Mopti"},{"$f":"IF(COUNTRY_INFO!C48=0,\" \",COUNTRY_INFO!C48)","v":"Bandiagara"},{"$f":"IF(OR(COUNTRY_INFO!$Z48=\"T1 (PZQ+ALB/MBD)\",COUNTRY_INFO!$AA48=\"T1 (PZQ+ALB/MBD)\"), \"T1 (PZQ+ALB/MBD)\", \" \")","v":" "},null,null,null,null,null,0,null,null,null,0," "," "," "," "]
[{"$f":"IF(COUNTRY_INFO!A49=0,\" \",COUNTRY_INFO!A49)","v":"Mali"},{"$f":"IF(COUNTRY_INFO!B49=0,\" \",COUNTRY_INFO!B49)","v":"Mopti"},{"$f":"IF(COUNTRY_INFO!C49=0,\" \",COUNTRY_INFO!C49)","v":"Bankass"},{"$f":"IF(OR(COUNTRY_INFO!$Z49=\"T1 (PZQ+ALB/MBD)\",COUNTRY_INFO!$AA49=\"T1 (PZQ+ALB/MBD)\"), \"T1 (PZQ+ALB/MBD)\", \" \")","v":" "},null,null,null,null,null,0,null,null,null,0," "," "," "," "]
[{"$f":"IF(COUNTRY_INFO!A50=0,\" \",COUNTRY_INFO!A50)","v":"Mali"},{"$f":"IF(COUNTRY_INFO!B50=0,\" \",COUNTRY_INFO!B50)","v":"Mopti"},{"$f":"IF(COUNTRY_INFO!C50=0,\" \",COUNTRY_INFO!C50)","v":"Djenne"},{"$f":"IF(OR(COUNTRY_INFO!$Z50=\"T1 (PZQ+ALB/MBD)\",COUNTRY_INFO!$AA50=\"T1 (PZQ+ALB/MBD)\"), \"T1 (PZQ+ALB/MBD)\", \" \")","v":" "},null,null,null,null,null,0,null,null,null,0," "," "," "," "]
[{"$f":"IF(COUNTRY_INFO!A51=0,\" \",COUNTRY_INFO!A51)","v":"Mali"},{"$f":"IF(COUNTRY_INFO!B51=0,\" \",COUNTRY_INFO!B51)","v":"Mopti"},{"$f":"IF(COUNTRY_INFO!C51=0,\" \",COUNTRY_INFO!C51)","v":"Douentza"},{"$f":"IF(OR(COUNTRY_INFO!$Z51=\"T1 (PZQ+ALB/MBD)\",COUNTRY_INFO!$AA51=\"T1 (PZQ+ALB/MBD)\"), \"T1 (PZQ+ALB/MBD)\", \" \")","v":" "},null,null,null,null,null,0,null,null,null,0," "," "," "," "]
[{"$f":"IF(COUNTRY_INFO!A52=0,\" \",COUNTRY_INFO!A52)","v":"Mali"},{"$f":"IF(COUNTRY_INFO!B52=0,\" \",COUNTRY_INFO!B52)","v":"Mopti"},{"$f":"IF(COUNTRY_INFO!C52=0,\" \",COUNTRY_INFO!C52)","v":"Koro"},{"$f":"IF(OR(COUNTRY_INFO!$Z52=\"T1 (PZQ+ALB/MBD)\",COUNTRY_INFO!$AA52=\"T1 (PZQ+ALB/MBD)\"), \"T1 (PZQ+ALB/MBD)\", \" \")","v":" "},null,null,null,null,null,0,null,null,null,0," "," "," "," "]
[{"$f":"IF(COUNTRY_INFO!A53=0,\" \",COUNTRY_INFO!A53)","v":"Mali"},{"$f":"IF(COUNTRY_INFO!B53=0,\" \",COUNTRY_INFO!B53)","v":"Mopti"},{"$f":"IF(COUNTRY_INFO!C53=0,\" \",COUNTRY_INFO!C53)","v":"Mopti"},{"$f":"IF(OR(COUNTRY_INFO!$Z53=\"T1 (PZQ+ALB/MBD)\",COUNTRY_INFO!$AA53=\"T1 (PZQ+ALB/MBD)\"), \"T1 (PZQ+ALB/MBD)\", \" \")","v":" "},null,null,null,null,null,0,null,null,null,0," "," "," "," "]
[{"$f":"IF(COUNTRY_INFO!A54=0,\" \",COUNTRY_INFO!A54)","v":"Mali"},{"$f":"IF(COUNTRY_INFO!B54=0,\" \",COUNTRY_INFO!B54)","v":"Mopti"},{"$f":"IF(COUNTRY_INFO!C54=0,\" \",COUNTRY_INFO!C54)","v":"Teninkou"},{"$f":"IF(OR(COUNTRY_INFO!$Z54=\"T1 (PZQ+ALB/MBD)\",COUNTRY_INFO!$AA54=\"T1 (PZQ+ALB/MBD)\"), \"T1 (PZQ+ALB/MBD)\", \" \")","v":" "},null,null,null,null,null,0,null,null,null,0," "," "," "," "]
[{"$f":"IF(COUNTRY_INFO!A55=0,\" \",COUNTRY_INFO!A55)","v":"Mali"},{"$f":"IF(COUNTRY_INFO!B55=0,\" \",COUNTRY_INFO!B55)","v":"Mopti"},{"$f":"IF(COUNTRY_INFO!C55=0,\" \",COUNTRY_INFO!C55)","v":"Youwarou"},{"$f":"IF(OR(COUNTRY_INFO!$Z55=\"T1 (PZQ+ALB/MBD)\",COUNTRY_INFO!$AA55=\"T1 (PZQ+ALB/MBD)\"), \"T1 (PZQ+ALB/MBD)\", \" \")","v":" "},null,null,null,null,null,0,null,null,null,0," "," "," "," "]
[{"$f":"IF(COUNTRY_INFO!A56=0,\" \",COUNTRY_INFO!A56)","v":"Mali"},{"$f":"IF(COUNTRY_INFO!B56=0,\" \",COUNTRY_INFO!B56)","v":"Segou"},{"$f":"IF(COUNTRY_INFO!C56=0,\" \",COUNTRY_INFO!C56)","v":"Barouéli"},{"$f":"IF(OR(COUNTRY_INFO!$Z56=\"T1 (PZQ+ALB/MBD)\",COUNTRY_INFO!$AA56=\"T1 (PZQ+ALB/MBD)\"), \"T1 (PZQ+ALB/MBD)\", \" \")","v":" "},null,null,null,null,null,0,null,null,null,0," "," "," "," "]
[{"$f":"IF(COUNTRY_INFO!A57=0,\" \",COUNTRY_INFO!A57)","v":"Mali"},{"$f":"IF(COUNTRY_INFO!B57=0,\" \",COUNTRY_INFO!B57)","v":"Segou"},{"$f":"IF(COUNTRY_INFO!C57=0,\" \",COUNTRY_INFO!C57)","v":"Bla"},{"$f":"IF(OR(COUNTRY_INFO!$Z57=\"T1 (PZQ+ALB/MBD)\",COUNTRY_INFO!$AA57=\"T1 (PZQ+ALB/MBD)\"), \"T1 (PZQ+ALB/MBD)\", \" \")","v":" "},null,null,null,null,null,0,null,null,null,0," "," "," "," "]
[{"$f":"IF(COUNTRY_INFO!A58=0,\" \",COUNTRY_INFO!A58)","v":"Mali"},{"$f":"IF(COUNTRY_INFO!B58=0,\" \",COUNTRY_INFO!B58)","v":"Segou"},{"$f":"IF(COUNTRY_INFO!C58=0,\" \",COUNTRY_INFO!C58)","v":"Macina"},{"$f":"IF(OR(COUNTRY_INFO!$Z58=\"T1 (PZQ+ALB/MBD)\",COUNTRY_INFO!$AA58=\"T1 (PZQ+ALB/MBD)\"), \"T1 (PZQ+ALB/MBD)\", \" \")","v":" "},null,null,null,null,null,0,null,null,null,0," "," "," "," "]
[{"$f":"IF(COUNTRY_INFO!A59=0,\" \",COUNTRY_INFO!A59)","v":"Mali"},{"$f":"IF(COUNTRY_INFO!B59=0,\" \",COUNTRY_INFO!B59)","v":"Segou"},{"$f":"IF(COUNTRY_INFO!C59=0,\" \",COUNTRY_INFO!C59)","v":"Markala"},{"$f":"IF(OR(COUNTRY_INFO!$Z59=\"T1 (PZQ+ALB/MBD)\",COUNTRY_INFO!$AA59=\"T1 (PZQ+ALB/MBD)\"), \"T1 (PZQ+ALB/MBD)\", \" \")","v":" "},null,null,null,null,null,0,null,null,null,0," "," "," "," "]
[{"$f":"IF(COUNTRY_INFO!A60=0,\" \",COUNTRY_INFO!A60)","v":"Mali"},{"$f":"IF(COUNTRY_INFO!B60=0,\" \",COUNTRY_INFO!B60)","v":"Segou"},{"$f":"IF(COUNTRY_INFO!C60=0,\" \",COUNTRY_INFO!C60)","v":"Niono"},{"$f":"IF(OR(COUNTRY_INFO!$Z60=\"T1 (PZQ+ALB/MBD)\",COUNTRY_INFO!$AA60=\"T1 (PZQ+ALB/MBD)\"), \"T1 (PZQ+ALB/MBD)\", \" \")","v":" "},null,null,null,null,null,0,null,null,null,0," "," "," "," "]
[{"$f":"IF(COUNTRY_INFO!A61=0,\" \",COUNTRY_INFO!A61)","v":"Mali"},{"$f":"IF(COUNTRY_INFO!B61=0,\" \",COUNTRY_INFO!B61)","v":"Segou"},{"$f":"IF(COUNTRY_INFO!C61=0,\" \",COUNTRY_INFO!C61)","v":"San"},{"$f":"IF(OR(COUNTRY_INFO!$Z61=\"T1 (PZQ+ALB/MBD)\",COUNTRY_INFO!$AA61=\"T1 (PZQ+ALB/MBD)\"), \"T1 (PZQ+ALB/MBD)\", \" \")","v":" "},null,null,null,null,null,0,null,null,null,0," "," "," "," "]
[{"$f":"IF(COUNTRY_INFO!A62=0,\" \",COUNTRY_INFO!A62)","v":"Mali"},{"$f":"IF(COUNTRY_INFO!B62=0,\" \",COUNTRY_INFO!B62)","v":"Segou"},{"$f":"IF(COUNTRY_INFO!C62=0,\" \",COUNTRY_INFO!C62)","v":"Segou"},{"$f":"IF(OR(COUNTRY_INFO!$Z62=\"T1 (PZQ+ALB/MBD)\",COUNTRY_INFO!$AA62=\"T1 (PZQ+ALB/MBD)\"), \"T1 (PZQ+ALB/MBD)\", \" \")","v":" "},null,null,null,null,null,0,null,null,null,0," "," "," "," "]
[{"$f":"IF(COUNTRY_INFO!A63=0,\" \",COUNTRY_INFO!A63)","v":"Mali"},{"$f":"IF(COUNTRY_INFO!B63=0,\" \",COUNTRY_INFO!B63)","v":"Segou"},{"$f":"IF(COUNTRY_INFO!C63=0,\" \",COUNTRY_INFO!C63)","v":"Tominian"},{"$f":"IF(OR(COUNTRY_INFO!$Z63=\"T1 (PZQ+ALB/MBD)\",COUNTRY_INFO!$AA63=\"T1 (PZQ+ALB/MBD)\"), \"T1 (PZQ+ALB/MBD)\", \" \")","v":" "},null,null,null,null,null,0,null,null,null,0," "," "," "," "]
[{"$f":"IF(COUNTRY_INFO!A64=0,\" \",COUNTRY_INFO!A64)","v":"Mali"},{"$f":"IF(COUNTRY_INFO!B64=0,\" \",COUNTRY_INFO!B64)","v":"Sikasso"},{"$f":"IF(COUNTRY_INFO!C64=0,\" \",COUNTRY_INFO!C64)","v":"Bougouni"},{"$f":"IF(OR(COUNTRY_INFO!$Z64=\"T1 (PZQ+ALB/MBD)\",COUNTRY_INFO!$AA64=\"T1 (PZQ+ALB/MBD)\"), \"T1 (PZQ+ALB/MBD)\", \" \")","v":" "},null,null,null,null,null,0,null,null,null,0," "," "," "," "]
[{"$f":"IF(COUNTRY_INFO!A65=0,\" \",COUNTRY_INFO!A65)","v":"Mali"},{"$f":"IF(COUNTRY_INFO!B65=0,\" \",COUNTRY_INFO!B65)","v":"Sikasso"},{"$f":"IF(COUNTRY_INFO!C65=0,\" \",COUNTRY_INFO!C65)","v":"Kadiolo"},{"$f":"IF(OR(COUNTRY_INFO!$Z65=\"T1 (PZQ+ALB/MBD)\",COUNTRY_INFO!$AA65=\"T1 (PZQ+ALB/MBD)\"), \"T1 (PZQ+ALB/MBD)\", \" \")","v":" "},null,null,null,null,null,0,null,null,null,0," "," "," "," "]
[{"$f":"IF(COUNTRY_INFO!A66=0,\" \",COUNTRY_INFO!A66)","v":"Mali"},{"$f":"IF(COUNTRY_INFO!B66=0,\" \",COUNTRY_INFO!B66)","v":"Sikasso"},{"$f":"IF(COUNTRY_INFO!C66=0,\" \",COUNTRY_INFO!C66)","v":"Kignan"},{"$f":"IF(OR(COUNTRY_INFO!$Z66=\"T1 (PZQ+ALB/MBD)\",COUNTRY_INFO!$AA66=\"T1 (PZQ+ALB/MBD)\"), \"T1 (PZQ+ALB/MBD)\", \" \")","v":" "},null,null,null,null,null,0,null,null,null,0," "," "," "," "]
[{"$f":"IF(COUNTRY_INFO!A67=0,\" \",COUNTRY_INFO!A67)","v":"Mali"},{"$f":"IF(COUNTRY_INFO!B67=0,\" \",COUNTRY_INFO!B67)","v":"Sikasso"},{"$f":"IF(COUNTRY_INFO!C67=0,\" \",COUNTRY_INFO!C67)","v":"Kolondieba"},{"$f":"IF(OR(COUNTRY_INFO!$Z67=\"T1 (PZQ+ALB/MBD)\",COUNTRY_INFO!$AA67=\"T1 (PZQ+ALB/MBD)\"), \"T1 (PZQ+ALB/MBD)\", \" \")","v":" "},null,null,null,null,null,0,null,null,null,0," "," "," "," "]
[{"$f":"IF(COUNTRY_INFO!A68=0,\" \",COUNTRY_INFO!A68)","v":"Mali"},{"$f":"IF(COUNTRY_INFO!B68=0,\" \",COUNTRY_INFO!B68)","v":"Sikasso"},{"$f":"IF(COUNTRY_INFO!C68=0,\" \",COUNTRY_INFO!C68)","v":"Koutiala"},{"$f":"IF(OR(COUNTRY_INFO!$Z68=\"T1 (PZQ+ALB/MBD)\",COUNTRY_INFO!$AA68=\"T1 (PZQ+ALB/MBD)\"), \"T1 (PZQ+ALB/MBD)\", \" \")","v":" "},null,null,null,null,null,0,null,null,null,0," "," "," "," "]
[{"$f":"IF(COUNTRY_INFO!A69=0,\" \",COUNTRY_INFO!A69)","v":"Mali"},{"$f":"IF(COUNTRY_INFO!B69=0,\" \",COUNTRY_INFO!B69)","v":"Sikasso"},{"$f":"IF(COUNTRY_INFO!C69=0,\" \",COUNTRY_INFO!C69)","v":"Niena"},{"$f":"IF(OR(COUNTRY_INFO!$Z69=\"T1 (PZQ+ALB/MBD)\",COUNTRY_INFO!$AA69=\"T1 (PZQ+ALB/MBD)\"), \"T1 (PZQ+ALB/MBD)\", \" \")","v":" "},null,null,null,null,null,0,null,null,null,0," "," "," "," "]
[{"$f":"IF(COUNTRY_INFO!A70=0,\" \",COUNTRY_INFO!A70)","v":"Mali"},{"$f":"IF(COUNTRY_INFO!B70=0,\" \",COUNTRY_INFO!B70)","v":"Sikasso"},{"$f":"IF(COUNTRY_INFO!C70=0,\" \",COUNTRY_INFO!C70)","v":"Sélingué"},{"$f":"IF(OR(COUNTRY_INFO!$Z70=\"T1 (PZQ+ALB/MBD)\",COUNTRY_INFO!$AA70=\"T1 (PZQ+ALB/MBD)\"), \"T1 (PZQ+ALB/MBD)\", \" \")","v":" "},null,null,null,null,null,0,null,null,null,0," "," "," "," "]
[{"$f":"IF(COUNTRY_INFO!A71=0,\" \",COUNTRY_INFO!A71)","v":"Mali"},{"$f":"IF(COUNTRY_INFO!B71=0,\" \",COUNTRY_INFO!B71)","v":"Sikasso"},{"$f":"IF(COUNTRY_INFO!C71=0,\" \",COUNTRY_INFO!C71)","v":"Sikasso"},{"$f":"IF(OR(COUNTRY_INFO!$Z71=\"T1 (PZQ+ALB/MBD)\",COUNTRY_INFO!$AA71=\"T1 (PZQ+ALB/MBD)\"), \"T1 (PZQ+ALB/MBD)\", \" \")","v":" "},null,null,null,null,null,0,null,null,null,0," "," "," "," "]
[{"$f":"IF(COUNTRY_INFO!A72=0,\" \",COUNTRY_INFO!A72)","v":"Mali"},{"$f":"IF(COUNTRY_INFO!B72=0,\" \",COUNTRY_INFO!B72)","v":"Sikasso"},{"$f":"IF(COUNTRY_INFO!C72=0,\" \",COUNTRY_INFO!C72)","v":"Yanfolila"},{"$f":"IF(OR(COUNTRY_INFO!$Z72=\"T1 (PZQ+ALB/MBD)\",COUNTRY_INFO!$AA72=\"T1 (PZQ+ALB/MBD)\"), \"T1 (PZQ+ALB/MBD)\", \" \")","v":" "},null,null,null,null,null,0,null,null,null,0," "," "," "," "]
[{"$f":"IF(COUNTRY_INFO!A73=0,\" \",COUNTRY_INFO!A73)","v":"Mali"},{"$f":"IF(COUNTRY_INFO!B73=0,\" \",COUNTRY_INFO!B73)","v":"Sikasso"},{"$f":"IF(COUNTRY_INFO!C73=0,\" \",COUNTRY_INFO!C73)","v":"Yorosso"},{"$f":"IF(OR(COUNTRY_INFO!$Z73=\"T1 (PZQ+ALB/MBD)\",COUNTRY_INFO!$AA73=\"T1 (PZQ+ALB/MBD)\"), \"T1 (PZQ+ALB/MBD)\", \" \")","v":" "},null,null,null,null,null,0,null,null,null,0," "," "," "," "]
[{"$f":"IF(COUNTRY_INFO!A74=0,\" \",COUNTRY_INFO!A74)","v":"Mali"},{"$f":"IF(COUNTRY_INFO!B74=0,\" \",COUNTRY_INFO!B74)","v":"Tombouctou"},{"$f":"IF(COUNTRY_INFO!C74=0,\" \",COUNTRY_INFO!C74)","v":"Diré"},{"$f":"IF(OR(COUNTRY_INFO!$Z74=\"T1 (PZQ+ALB/MBD)\",COUNTRY_INFO!$AA74=\"T1 (PZQ+ALB/MBD)\"), \"T1 (PZQ+ALB/MBD)\", \" \")","v":" "},null,null,null,null,null,0,null,null,null,0," "," "," "," "]
[{"$f":"IF(COUNTRY_INFO!A75=0,\" \",COUNTRY_INFO!A75)","v":"Mali"},{"$f":"IF(COUNTRY_INFO!B75=0,\" \",COUNTRY_INFO!B75)","v":"Tombouctou"},{"$f":"IF(COUNTRY_INFO!C75=0,\" \",COUNTRY_INFO!C75)","v":"Goundam"},{"$f":"IF(OR(COUNTRY_INFO!$Z75=\"T1 (PZQ+ALB/MBD)\",COUNTRY_INFO!$AA75=\"T1 (PZQ+ALB/MBD)\"), \"T1 (PZQ+ALB/MBD)\", \" \")","v":" "},null,null,null,null,null,{"$f":"SUM(G75:I75)","v":0},null,null,null,{"$f":"SUM(K75:M75)","v":0},{"$f":"IF(G75<>0, IF(K75/G75*100=0, \"-\", K75/G75*100), \" \")","v":" "},{"$f":"IF(H75<>0, IF(L75/H75*100=0, \"-\", L75/H75*100), \" \")","v":" "},{"$f":"IF(I75<>0, IF(M75/I75*100=0, \"-\", M75/I75*100), \" \")","v":" "},{"$f":"IF(J75<>0, IF(N75/J75*100=0, \"-\", N75/J75*100), \" \")","v":" "}]
[{"$f":"IF(COUNTRY_INFO!A76=0,\" \",COUNTRY_INFO!A76)","v":"Mali"},{"$f":"IF(COUNTRY_INFO!B76=0,\" \",COUNTRY_INFO!B76)","v":"Tombouctou"},{"$f":"IF(COUNTRY_INFO!C76=0,\" \",COUNTRY_INFO!C76)","v":"Gourma-Rharous"},{"$f":"IF(OR(COUNTRY_INFO!$Z76=\"T1 (PZQ+ALB/MBD)\",COUNTRY_INFO!$AA76=\"T1 (PZQ+ALB/MBD)\"), \"T1 (PZQ+ALB/MBD)\", \" \")","v":" "},null,null,null,null,null,0,null,null,null,0," "," "," "," "]
[{"$f":"IF(COUNTRY_INFO!A77=0,\" \",COUNTRY_INFO!A77)","v":"Mali"},{"$f":"IF(COUNTRY_INFO!B77=0,\" \",COUNTRY_INFO!B77)","v":"Tombouctou"},{"$f":"IF(COUNTRY_INFO!C77=0,\" \",COUNTRY_INFO!C77)","v":"Niafunké"},{"$f":"IF(OR(COUNTRY_INFO!$Z77=\"T1 (PZQ+ALB/MBD)\",COUNTRY_INFO!$AA77=\"T1 (PZQ+ALB/MBD)\"), \"T1 (PZQ+ALB/MBD)\", \" \")","v":" "},null,null,null,null,null,0,null,null,null,0," "," "," "," "]
[{"$f":"IF(COUNTRY_INFO!A78=0,\" \",COUNTRY_INFO!A78)","v":"Mali"},{"$f":"IF(COUNTRY_INFO!B78=0,\" \",COUNTRY_INFO!B78)","v":"Tombouctou"},{"$f":"IF(COUNTRY_INFO!C78=0,\" \",COUNTRY_INFO!C78)","v":"Tombouctou"},{"$f":"IF(OR(COUNTRY_INFO!$Z78=\"T1 (PZQ+ALB/MBD)\",COUNTRY_INFO!$AA78=\"T1 (PZQ+ALB/MBD)\"), \"T1 (PZQ+ALB/MBD)\", \" \")","v":" "},null,null,null,null,null,0,null,null,null,0," "," "," "," "]
[{"$f":"IF(COUNTRY_INFO!A79=0,\" \",COUNTRY_INFO!A79)","v":"Mali"},{"$f":"IF(COUNTRY_INFO!B79=0,\" \",COUNTRY_INFO!B79)","v":"Taoudenit"},{"$f":"IF(COUNTRY_INFO!C79=0,\" \",COUNTRY_INFO!C79)","v":"Achourat"},{"$f":"IF(OR(COUNTRY_INFO!$Z79=\"T1 (PZQ+ALB/MBD)\",COUNTRY_INFO!$AA79=\"T1 (PZQ+ALB/MBD)\"), \"T1 (PZQ+ALB/MBD)\", \" \")","v":" "},null,null,null,null,null,0,null,null,null,0," "," "," "," "]
[{"$f":"IF(COUNTRY_INFO!A80=0,\" \",COUNTRY_INFO!A80)","v":"Mali"},{"$f":"IF(COUNTRY_INFO!B80=0,\" \",COUNTRY_INFO!B80)","v":"Taoudenit"},{"$f":"IF(COUNTRY_INFO!C80=0,\" \",COUNTRY_INFO!C80)","v":"Al-Ourch"},{"$f":"IF(OR(COUNTRY_INFO!$Z80=\"T1 (PZQ+ALB/MBD)\",COUNTRY_INFO!$AA80=\"T1 (PZQ+ALB/MBD)\"), \"T1 (PZQ+ALB/MBD)\", \" \")","v":" "},null,null,null,null,null,0,null,null,null,0," "," "," "," "]
[{"$f":"IF(COUNTRY_INFO!A81=0,\" \",COUNTRY_INFO!A81)","v":"Mali"},{"$f":"IF(COUNTRY_INFO!B81=0,\" \",COUNTRY_INFO!B81)","v":"Taoudenit"},{"$f":"IF(COUNTRY_INFO!C81=0,\" \",COUNTRY_INFO!C81)","v":"Araouane"},{"$f":"IF(OR(COUNTRY_INFO!$Z81=\"T1 (PZQ+ALB/MBD)\",COUNTRY_INFO!$AA81=\"T1 (PZQ+ALB/MBD)\"), \"T1 (PZQ+ALB/MBD)\", \" \")","v":" "},null,null,null,null,null,0,null,null,null,0," "," "," "," "]
[{"$f":"IF(COUNTRY_INFO!A82=0,\" \",COUNTRY_INFO!A82)","v":"Mali"},{"$f":"IF(COUNTRY_INFO!B82=0,\" \",COUNTRY_INFO!B82)","v":"Taoudenit"},{"$f":"IF(COUNTRY_INFO!C82=0,\" \",COUNTRY_INFO!C82)","v":"Boujbeha"},{"$f":"IF(OR(COUNTRY_INFO!$Z82=\"T1 (PZQ+ALB/MBD)\",COUNTRY_INFO!$AA82=\"T1 (PZQ+ALB/MBD)\"), \"T1 (PZQ+ALB/MBD)\", \" \")","v":" "},null,null,null,null,null,0,null,null,null,0," "," "," "," "]
[{"$f":"IF(COUNTRY_INFO!A83=0,\" \",COUNTRY_INFO!A83)","v":"Mali"},{"$f":"IF(COUNTRY_INFO!B83=0,\" \",COUNTRY_INFO!B83)","v":"Taoudenit"},{"$f":"IF(COUNTRY_INFO!C83=0,\" \",COUNTRY_INFO!C83)","v":"Foum-Elba"},{"$f":"IF(OR(COUNTRY_INFO!$Z83=\"T1 (PZQ+ALB/MBD)\",COUNTRY_INFO!$AA83=\"T1 (PZQ+ALB/MBD)\"), \"T1 (PZQ+ALB/MBD)\", \" \")","v":" "},null,null,null,null,null,0,null,null,null,0," "," "," "," "]
[{"$f":"IF(COUNTRY_INFO!A84=0,\" \",COUNTRY_INFO!A84)","v":"Mali"},{"$f":"IF(COUNTRY_INFO!B84=0,\" \",COUNTRY_INFO!B84)","v":"Taoudenit"},{"$f":"IF(COUNTRY_INFO!C84=0,\" \",COUNTRY_INFO!C84)","v":"Taoudenit"},{"$f":"IF(OR(COUNTRY_INFO!$Z84=\"T1 (PZQ+ALB/MBD)\",COUNTRY_INFO!$AA84=\"T1 (PZQ+ALB/MBD)\"), \"T1 (PZQ+ALB/MBD)\", \" \")","v":" "},null,null,null,null,null,0,null,null,null,0," "," "," "," "]

{"sheet":"T2","index":7,"n_rows":84,"n_cols":28,"rows_kept":84,"cut":false,"hidden":false,"merged":[[5,5,5,8],[5,9,5,12],[5,21,5,24],[3,0,3,2],[5,0,5,2],[5,3,6,3],[5,4,6,4],[5,17,5,20],[5,13,5,16]]}
["T 2 - Praziquantel (PZQ) "]
["Structure administrative, population nécessitant une chimioprévention par groupe d'âge, population traitée par groupe d'âge et couverture"]
[]
["TOTAL",null,null,null,null,{"$f":"SUBTOTAL(9,F$10:F$1010)","v":0},{"$f":"SUBTOTAL(9,G$10:G$1010)","v":3229364},909934,4139298,{"$f":"SUBTOTAL(9,J$10:J$1010)","v":0},3254163,800203,4054366,0,0,0,0,0,3254163,800203,4054366,{"$f":"IF(F4<>0, IF(R4/F4*100=0, \"-\", R4/F4*100), \" \")","v":" "},{"$f":"IF(G4<>0, IF(S4/G4*100=0, \"-\", S4/G4*100), \" \")","v":100.76792210478595},{"$f":"IF(H4<>0, IF(T4/H4*100=0, \"-\", T4/H4*100), \" \")","v":87.940773726446096},{"$f":"IF(I4<>0, IF(U4/I4*100=0, \"-\", U4/I4*100), \" \")","v":97.948154493829634}]
[]
["Structure administrative du pays",null,null,"Mise en oeuvre \nde la CP","Date","Population ciblée pour T2",null,null,null,"Population traitée",null,null,null,"Population traitée dans les HOTSPOTS",null,null,null,"Population totale traitée",null,null,null,"Couverture du Programme (%)"]
["Pays","Région/Département","District",null,null,"EAPréS","EAS","Adultes","Total","EAPréS","EAS","Adultes","Total","PreSAC","SAC","Adults","Total","EAPréS","EAS","Adultes","Total","EAPréS","EAS","Adultes","Total"]
[]
[]
[{"$f":"IF(COUNTRY_INFO!A10=0,\" \",COUNTRY_INFO!A10)","v":"Mali"},{"$f":"IF(COUNTRY_INFO!B10=0,\" \",COUNTRY_INFO!B10)","v":"Bamako"},{"$f":"IF(COUNTRY_INFO!C10=0,\" \",COUNTRY_INFO!C10)","v":"Commune 1"},{"$f":"IF(OR(COUNTRY_INFO!$Z10=\"T2 (PZQ)\",COUNTRY_INFO!$AA10=\"T2 (PZQ)\"), \"T2 (PZQ)\", \" \")","v":" "},null,null,null,null,{"$f":"SUM(F10:H10)","v":0},null,null,null,{"$f":"SUM(J10:L10)","v":0},null,null,null,{"$f":"SUM(N10:P10)","v":0},{"$f":"MAX(J10,N10)","v":0},{"$f":"MAX(K10,O10)","v":0},{"$f":"MAX(L10,P10)","v":0},{"$f":"SUM(R10:T10)","v":0},{"$f":"IF(F10<>0, IF(R10/F10*100=0, \"-\", R10/F10*100), \" \")","v":" "},{"$f":"IF(G10<>0, IF(S10/G10*100=0, \"-\", S10/G10*100), \" \")","v":" "},{"$f":"IF(H10<>0, IF(T10/H10*100=0, \"-\",T10/H10*100), \" \")","v":" "},{"$f":"IF(I10<>0, IF(U10/I10*100=0, \"-\", U10/I10*100), \" \")","v":" "}]
[{"$f":"IF(COUNTRY_INFO!A11=0,\" \",COUNTRY_INFO!A11)","v":"Mali"},{"$f":"IF(COUNTRY_INFO!B11=0,\" \",COUNTRY_INFO!B11)","v":"Bamako"},{"$f":"IF(COUNTRY_INFO!C11=0,\" \",COUNTRY_INFO!C11)","v":"Commune 2"},{"$f":"IF(OR(COUNTRY_INFO!$Z11=\"T2 (PZQ)\",COUNTRY_INFO!$AA11=\"T2 (PZQ)\"), \"T2 (PZQ)\", \" \")","v":" "},null,null,null,null,{"$f":"SUM(F11:H11)","v":0},null,null,null,{"$f":"SUM(J11:L11)","v":0},null,null,null,{"$f":"SUM(N11:P11)","v":0},{"$f":"MAX(J11,N11)","v":0},{"$f":"MAX(K11,O11)","v":0},{"$f":"MAX(L11,P11)","v":0},{"$f":"SUM(R11:T11)","v":0},{"$f":"IF(F11<>0, IF(R11/F11*100=0, \"-\", R11/F11*100), \" \")","v":" "},{"$f":"IF(G11<>0, IF(S11/G11*100=0, \"-\", S11/G11*100), \" \")","v":" "},{"$f":"IF(H11<>0, IF(T11/H11*100=0, \"-\",T11/H11*100), \" \")","v":" "},{"$f":"IF(I11<>0, IF(U11/I11*100=0, \"-\", U11/I11*100), \" \")","v":" "}]
[{"$f":"IF(COUNTRY_INFO!A12=0,\" \",COUNTRY_INFO!A12)","v":"Mali"},{"$f":"IF(COUNTRY_INFO!B12=0,\" \",COUNTRY_INFO!B12)","v":"Bamako"},{"$f":"IF(COUNTRY_INFO!C12=0,\" \",COUNTRY_INFO!C12)","v":"Commune 3"},{"$f":"IF(OR(COUNTRY_INFO!$Z12=\"T2 (PZQ)\",COUNTRY_INFO!$AA12=\"T2 (PZQ)\"), \"T2 (PZQ)\", \" \")","v":" "},null,null,null,null,0,null,null,null,0,null,null,null,0,0,0,0,0," "," "," "," "]
[{"$f":"IF(COUNTRY_INFO!A13=0,\" \",COUNTRY_INFO!A13)","v":"Mali"},{"$f":"IF(COUNTRY_INFO!B13=0,\" \",COUNTRY_INFO!B13)","v":"Bamako"},{"$f":"IF(COUNTRY_INFO!C13=0,\" \",COUNTRY_INFO!C13)","v":"Commune 4"},{"$f":"IF(OR(COUNTRY_INFO!$Z13=\"T2 (PZQ)\",COUNTRY_INFO!$AA13=\"T2 (PZQ)\"), \"T2 (PZQ)\", \" \")","v":"T2 (PZQ)"},"16 au 21 juin 2023",null,20296,null,20296,null,43994,null,43994,null,null,null,0,0,43994,0,43994," ",216.76192353173042," ",216.76192353173042,null,20296]
[{"$f":"IF(COUNTRY_INFO!A14=0,\" \",COUNTRY_INFO!A14)","v":"Mali"},{"$f":"IF(COUNTRY_INFO!B14=0,\" \",COUNTRY_INFO!B14)","v":"Bamako"},{"$f":"IF(COUNTRY_INFO!C14=0,\" \",COUNTRY_INFO!C14)","v":"Commune 5"},{"$f":"IF(OR(COUNTRY_INFO!$Z14=\"T2 (PZQ)\",COUNTRY_INFO!$AA14=\"T2 (PZQ)\"), \"T2 (PZQ)\", \" \")","v":"T2 (PZQ)"},"16 au 21 juin 2023",null,27657,null,27657,null,51064,null,51064,null,null,null,0,0,51064,0,51064," ",184.63318508876597," ",184.63318508876597,null,27657]
[{"$f":"IF(COUNTRY_INFO!A15=0,\" \",COUNTRY_INFO!A15)","v":"Mali"},{"$f":"IF(COUNTRY_INFO!B15=0,\" \",COUNTRY_INFO!B15)","v":"Bamako"},{"$f":"IF(COUNTRY_INFO!C15=0,\" \",COUNTRY_INFO!C15)","v":"Commune 6"},{"$f":"IF(OR(COUNTRY_INFO!$Z15=\"T2 (PZQ)\",COUNTRY_INFO!$AA15=\"T2 (PZQ)\"), \"T2 (PZQ)\", \" \")","v":"T2 (PZQ)"},"16 au 21 juin 2023",null,91293,null,91293,null,121820,null,121820,null,null,null,0,0,121820,0,121820," ",133.43848925985563," ",133.43848925985563,null,91293]
[{"$f":"IF(COUNTRY_INFO!A16=0,\" \",COUNTRY_INFO!A16)","v":"Mali"},{"$f":"IF(COUNTRY_INFO!B16=0,\" \",COUNTRY_INFO!B16)","v":"Gao"},{"$f":"IF(COUNTRY_INFO!C16=0,\" \",COUNTRY_INFO!C16)","v":"Ansongo"},{"$f":"IF(OR(COUNTRY_INFO!$Z16=\"T2 (PZQ)\",COUNTRY_INFO!$AA16=\"T2 (PZQ)\"), \"T2 (PZQ)\", \" \")","v":"T2 (PZQ)"},"1 au 5 juillet 2023",null,27482,null,27482,null,28775,null,28775,null,null,null,0,0,28775,0,28775," ",104.70489775125537," ",104.70489775125537,null,27482]
[{"$f":"IF(COUNTRY_INFO!A17=0,\" \",COUNTRY_INFO!A17)","v":"Mali"},{"$f":"IF(COUNTRY_INFO!B17=0,\" \",COUNTRY_INFO!B17)","v":"Gao"},{"$f":"IF(COUNTRY_INFO!C17=0,\" \",COUNTRY_INFO!C17)","v":"Bourem"},{"$f":"IF(OR(COUNTRY_INFO!$Z17=\"T2 (PZQ)\",COUNTRY_INFO!$AA17=\"T2 (PZQ)\"), \"T2 (PZQ)\", \" \")","v":"T2 (PZQ)"},"1 au 5 juillet 2023",null,27185,null,27185,null,35884,null,35884,null,null,null,0,0,35884,0,35884," ",131.99926430016552," ",131.99926430016552,null,27185]
[{"$f":"IF(COUNTRY_INFO!A18=0,\" \",COUNTRY_INFO!A18)","v":"Mali"},{"$f":"IF(COUNTRY_INFO!B18=0,\" \",COUNTRY_INFO!B18)","v":"Gao"},{"$f":"IF(COUNTRY_INFO!C18=0,\" \",COUNTRY_INFO!C18)","v":"Almoustrat"},{"$f":"IF(OR(COUNTRY_INFO!$Z18=\"T2 (PZQ)\",COUNTRY_INFO!$AA18=\"T2 (PZQ)\"), \"T2 (PZQ)\", \" \")","v":"T2 (PZQ)"},"1 au 5 juillet 2023",null,3735,null,3735,null,2627,null,2627,null,null,null,0,0,2627,0,2627," ",70.33467202141901," ",70.33467202141901,null,3735]
[{"$f":"IF(COUNTRY_INFO!A19=0,\" \",COUNTRY_INFO!A19)","v":"Mali"},{"$f":"IF(COUNTRY_INFO!B19=0,\" \",COUNTRY_INFO!B19)","v":"Gao"},{"$f":"IF(COUNTRY_INFO!C19=0,\" \",COUNTRY_INFO!C19)","v":"Gao"},{"$f":"IF(OR(COUNTRY_INFO!$Z19=\"T2 (PZQ)\",COUNTRY_INFO!$AA19=\"T2 (PZQ)\"), \"T2 (PZQ)\", \" \")","v":"T2 (PZQ)"},"1 au 5 juillet 2023",null,70266,null,70266,null,83403,null,83403,null,null,null,0,0,83403,0,83403," ",118.69609768593629," ",118.69609768593629,null,70266]
[{"$f":"IF(COUNTRY_INFO!A20=0,\" \",COUNTRY_INFO!A20)","v":"Mali"},{"$f":"IF(COUNTRY_INFO!B20=0,\" \",COUNTRY_INFO!B20)","v":"Menaka"},{"$f":"IF(COUNTRY_INFO!C20=0,\" \",COUNTRY_INFO!C20)","v":"Menaka"},{"$f":"IF(OR(COUNTRY_INFO!$Z20=\"T2 (PZQ)\",COUNTRY_INFO!$AA20=\"T2 (PZQ)\"), \"T2 (PZQ)\", \" \")","v":" "},null,null,null,null,0,null,null,null,0,null,null,null,0,0,0,0,0," "," "," "," "]
[{"$f":"IF(COUNTRY_INFO!A21=0,\" \",COUNTRY_INFO!A21)","v":"Mali"},{"$f":"IF(COUNTRY_INFO!B21=0,\" \",COUNTRY_INFO!B21)","v":"Menaka"},{"$f":"IF(COUNTRY_INFO!C21=0,\" \",COUNTRY_INFO!C21)","v":"Anderamboukane"},{"$f":"IF(OR(COUNTRY_INFO!$Z21=\"T2 (PZQ)\",COUNTRY_INFO!$AA21=\"T2 (PZQ)\"), \"T2 (PZQ)\", \" \")","v":" "},null,null,null,null,0,null,null,null,0,null,null,null,0,0,0,0,0," "," "," "," "]
[{"$f":"IF(COUNTRY_INFO!A22=0,\" \",COUNTRY_INFO!A22)","v":"Mali"},{"$f":"IF(COUNTRY_INFO!B22=0,\" \",COUNTRY_INFO!B22)","v":"Menaka"},{"$f":"IF(COUNTRY_INFO!C22=0,\" \",COUNTRY_INFO!C22)","v":"Inekar"},{"$f":"IF(OR(COUNTRY_INFO!$Z22=\"T2 (PZQ)\",COUNTRY_INFO!$AA22=\"T2 (PZQ)\"), \"T2 (PZQ)\", \" \")","v":" "},null,null,null,null,0,null,null,null,0,null,null,null,0,0,0,0,0," "," "," "," "]
[{"$f":"IF(COUNTRY_INFO!A23=0,\" \",COUNTRY_INFO!A23)","v":"Mali"},{"$f":"IF(COUNTRY_INFO!B23=0,\" \",COUNTRY_INFO!B23)","v":"Menaka"},{"$f":"IF(COUNTRY_INFO!C23=0,\" \",COUNTRY_INFO!C23)","v":"Tidermene"},{"$f":"IF(OR(COUNTRY_INFO!$Z23=\"T2 (PZQ)\",COUNTRY_INFO!$AA23=\"T2 (PZQ)\"), \"T2 (PZQ)\", \" \")","v":" "},null,null,null,null,0,null,null,null,0,null,null,null,0,0,0,0,0," "," "," "," "]
[{"$f":"IF(COUNTRY_INFO!A24=0,\" \",COUNTRY_INFO!A24)","v":"Mali"},{"$f":"IF(COUNTRY_INFO!B24=0,\" \",COUNTRY_INFO!B24)","v":"Kayes"},{"$f":"IF(COUNTRY_INFO!C24=0,\" \",COUNTRY_INFO!C24)","v":"Bafoulabe"},{"$f":"IF(OR(COUNTRY_INFO!$Z24=\"T2 (PZQ)\",COUNTRY_INFO!$AA24=\"T2 (PZQ)\"), \"T2 (PZQ)\", \" \")","v":"T2 (PZQ)"},"16 au 20 juin 2023",null,14763,26677,41440,null,14501,26464,40965,null,null,null,0,0,14501,26464,40965," ",98.225292962135072,99.201559395734151,98.853764478764489,null,14763,26677]
[{"$f":"IF(COUNTRY_INFO!A25=0,\" \",COUNTRY_INFO!A25)","v":"Mali"},{"$f":"IF(COUNTRY_INFO!B25=0,\" \",COUNTRY_INFO!B25)","v":"Kayes"},{"$f":"IF(COUNTRY_INFO!C25=0,\" \",COUNTRY_INFO!C25)","v":"Diema"},{"$f":"IF(OR(COUNTRY_INFO!$Z25=\"T2 (PZQ)\",COUNTRY_INFO!$AA25=\"T2 (PZQ)\"), \"T2 (PZQ)\", \" \")","v":"T2 (PZQ)"},"16 au 20 juin 2023",null,3904,null,3904,null,3939,null,3939,null,null,null,0,0,3939,0,3939," ",100.89651639344261," ",100.89651639344261,null,3904]
[{"$f":"IF(COUNTRY_INFO!A26=0,\" \",COUNTRY_INFO!A26)","v":"Mali"},{"$f":"IF(COUNTRY_INFO!B26=0,\" \",COUNTRY_INFO!B26)","v":"Kayes"},{"$f":"IF(COUNTRY_INFO!C26=0,\" \",COUNTRY_INFO!C26)","v":"Kayes"},{"$f":"IF(OR(COUNTRY_INFO!$Z26=\"T2 (PZQ)\",COUNTRY_INFO!$AA26=\"T2 (PZQ)\"), \"T2 (PZQ)\", \" \")","v":"T2 (PZQ)"},"16 au 20 juin 2023",null,104420,null,104420,null,86063,null,86063,null,null,null,0,0,86063,0,86063," ",82.420034476153987," ",82.420034476153987,null,104420]
[{"$f":"IF(COUNTRY_INFO!A27=0,\" \",COUNTRY_INFO!A27)","v":"Mali"},{"$f":"IF(COUNTRY_INFO!B27=0,\" \",COUNTRY_INFO!B27)","v":"Kayes"},{"$f":"IF(COUNTRY_INFO!C27=0,\" \",COUNTRY_INFO!C27)","v":"Kenieba"},{"$f":"IF(OR(COUNTRY_INFO!$Z27=\"T2 (PZQ)\",COUNTRY_INFO!$AA27=\"T2 (PZQ)\"), \"T2 (PZQ)\", \" \")","v":"T2 (PZQ)"},"16 au 20 juin 2023",null,79683,null,79683,null,67591,null,67591,null,null,null,0,0,67591,0,67591," ",84.824868541596075," ",84.824868541596075,null,79683]
[{"$f":"IF(COUNTRY_INFO!A28=0,\" \",COUNTRY_INFO!A28)","v":"Mali"},{"$f":"IF(COUNTRY_INFO!B28=0,\" \",COUNTRY_INFO!B28)","v":"Kayes"},{"$f":"IF(COUNTRY_INFO!C28=0,\" \",COUNTRY_INFO!C28)","v":"Kita"},{"$f":"IF(OR(COUNTRY_INFO!$Z28=\"T2 (PZQ)\",COUNTRY_INFO!$AA28=\"T2 (PZQ)\"), \"T2 (PZQ)\", \" \")","v":"T2 (PZQ)"},"16 au 20 juin 2023",null,155295,null,155295,null,148786,null,148786,null,null,null,0,0,148786,0,148786," ",95.808622299494502," ",95.808622299494502,null,155295]
[{"$f":"IF(COUNTRY_INFO!A29=0,\" \",COUNTRY_INFO!A29)","v":"Mali"},{"$f":"IF(COUNTRY_INFO!B29=0,\" \",COUNTRY_INFO!B29)","v":"Kayes"},{"$f":"IF(COUNTRY_INFO!C29=0,\" \",COUNTRY_INFO!C29)","v":"Sagabari"},{"$f":"IF(OR(COUNTRY_INFO!$Z29=\"T2 (PZQ)\",COUNTRY_INFO!$AA29=\"T2 (PZQ)\"), \"T2 (PZQ)\", \" \")","v":"T2 (PZQ)"},"16 au 20 juin 2023",null,20996,null,20996,null,14614,null,14614,null,null,null,0,0,14614,0,14614," ",69.603734044579923," ",69.603734044579923,null,20996]
[{"$f":"IF(COUNTRY_INFO!A30=0,\" \",COUNTRY_INFO!A30)","v":"Mali"},{"$f":"IF(COUNTRY_INFO!B30=0,\" \",COUNTRY_INFO!B30)","v":"Kayes"},{"$f":"IF(COUNTRY_INFO!C30=0,\" \",COUNTRY_INFO!C30)","v":"Sefeto"},{"$f":"IF(OR(COUNTRY_INFO!$Z30=\"T2 (PZQ)\",COUNTRY_INFO!$AA30=\"T2 (PZQ)\"), \"T2 (PZQ)\", \" \")","v":"T2 (PZQ)"},"16 au 20 juin 2023",null,21898,null,21898,null,22340,null,22340,null,null,null,0,0,22340,0,22340," ",102.0184491734405," ",102.0184491734405,null,21898]
[{"$f":"IF(COUNTRY_INFO!A31=0,\" \",COUNTRY_INFO!A31)","v":"Mali"},{"$f":"IF(COUNTRY_INFO!B31=0,\" \",COUNTRY_INFO!B31)","v":"Kayes"},{"$f":"IF(COUNTRY_INFO!C31=0,\" \",COUNTRY_INFO!C31)","v":"Nioro"},{"$f":"IF(OR(COUNTRY_INFO!$Z31=\"T2 (PZQ)\",COUNTRY_INFO!$AA31=\"T2 (PZQ)\"), \"T2 (PZQ)\", \" \")","v":"T2 (PZQ)"},"16 au 20 juin 2023",null,21341,null,21341,null,20945,null,20945,null,null,null,0,0,20945,0,20945," ",98.14441685019446," ",98.14441685019446,null,21341]
[{"$f":"IF(COUNTRY_INFO!A32=0,\" \",COUNTRY_INFO!A32)","v":"Mali"},{"$f":"IF(COUNTRY_INFO!B32=0,\" \",COUNTRY_INFO!B32)","v":"Kayes"},{"$f":"IF(COUNTRY_INFO!C32=0,\" \",COUNTRY_INFO!C32)","v":"Oussoubidiagna"},{"$f":"IF(OR(COUNTRY_INFO!$Z32=\"T2 (PZQ)\",COUNTRY_INFO!$AA32=\"T2 (PZQ)\"), \"T2 (PZQ)\", \" \")","v":"T2 (PZQ)"},"16 au 20 juin 2023",null,42504,null,42504,null,36344,null,36344,null,null,null,0,0,36344,0,36344," ",85.507246376811594," ",85.507246376811594,null,42504]
[{"$f":"IF(COUNTRY_INFO!A33=0,\" \",COUNTRY_INFO!A33)","v":"Mali"},{"$f":"IF(COUNTRY_INFO!B33=0,\" \",COUNTRY_INFO!B33)","v":"Kayes"},{"$f":"IF(COUNTRY_INFO!C33=0,\" \",COUNTRY_INFO!C33)","v":"Yelimane"},{"$f":"IF(OR(COUNTRY_INFO!$Z33=\"T2 (PZQ)\",COUNTRY_INFO!$AA33=\"T2 (PZQ)\"), \"T2 (PZQ)\", \" \")","v":"T2 (PZQ)"},"16 au 20 juin 2023",null,78006,null,78006,null,67372,null,67372,null,null,null,0,0,67372,0,67372," ",86.367715303950973," ",86.367715303950973,null,78006]
[{"$f":"IF(COUNTRY_INFO!A34=0,\" \",COUNTRY_INFO!A34)","v":"Mali"},{"$f":"IF(COUNTRY_INFO!B34=0,\" \",COUNTRY_INFO!B34)","v":"Kidal"},{"$f":"IF(COUNTRY_INFO!C34=0,\" \",COUNTRY_INFO!C34)","v":"Abeibara"},{"$f":"IF(OR(COUNTRY_INFO!$Z34=\"T2 (PZQ)\",COUNTRY_INFO!$AA34=\"T2 (PZQ)\"), \"T2 (PZQ)\", \" \")","v":" "},null,null,null,null,0,null,null,null,0,null,null,null,0,0,0,0,0," "," "," "," "]
[{"$f":"IF(COUNTRY_INFO!A35=0,\" \",COUNTRY_INFO!A35)","v":"Mali"},{"$f":"IF(COUNTRY_INFO!B35=0,\" \",COUNTRY_INFO!B35)","v":"Kidal"},{"$f":"IF(COUNTRY_INFO!C35=0,\" \",COUNTRY_INFO!C35)","v":"Kidal"},{"$f":"IF(OR(COUNTRY_INFO!$Z35=\"T2 (PZQ)\",COUNTRY_INFO!$AA35=\"T2 (PZQ)\"), \"T2 (PZQ)\", \" \")","v":" "},null,null,null,null,0,null,null,null,0,null,null,null,0,0,0,0,0," "," "," "," "]
[{"$f":"IF(COUNTRY_INFO!A36=0,\" \",COUNTRY_INFO!A36)","v":"Mali"},{"$f":"IF(COUNTRY_INFO!B36=0,\" \",COUNTRY_INFO!B36)","v":"Kidal"},{"$f":"IF(COUNTRY_INFO!C36=0,\" \",COUNTRY_INFO!C36)","v":"Tessalit"},{"$f":"IF(OR(COUNTRY_INFO!$Z36=\"T2 (PZQ)\",COUNTRY_INFO!$AA36=\"T2 (PZQ)\"), \"T2 (PZQ)\", \" \")","v":" "},null,null,null,null,0,null,null,null,0,null,null,null,0,0,0,0,0," "," "," "," "]
[{"$f":"IF(COUNTRY_INFO!A37=0,\" \",COUNTRY_INFO!A37)","v":"Mali"},{"$f":"IF(COUNTRY_INFO!B37=0,\" \",COUNTRY_INFO!B37)","v":"Kidal"},{"$f":"IF(COUNTRY_INFO!C37=0,\" \",COUNTRY_INFO!C37)","v":"Tin-Essako"},{"$f":"IF(OR(COUNTRY_INFO!$Z37=\"T2 (PZQ)\",COUNTRY_INFO!$AA37=\"T2 (PZQ)\"), \"T2 (PZQ)\", \" \")","v":" "},null,null,null,null,0,null,null,null,0,null,null,null,0,0,0,0,0," "," "," "," "]
[{"$f":"IF(COUNTRY_INFO!A38=0,\" \",COUNTRY_INFO!A38)","v":"Mali"},{"$f":"IF(COUNTRY_INFO!B38=0,\" \",COUNTRY_INFO!B38)","v":"Koulikoro"},{"$f":"IF(COUNTRY_INFO!C38=0,\" \",COUNTRY_INFO!C38)","v":"Banamba"},{"$f":"IF(OR(COUNTRY_INFO!$Z38=\"T2 (PZQ)\",COUNTRY_INFO!$AA38=\"T2 (PZQ)\"), \"T2 (PZQ)\", \" \")","v":"T2 (PZQ)"},"22 au 26 Mai 2023",null,61066,null,61066,null,65676,null,65676,null,null,null,0,0,65676,0,65676," ",107.54920905250059," ",107.54920905250059,null,61066]
[{"$f":"IF(COUNTRY_INFO!A39=0,\" \",COUNTRY_INFO!A39)","v":"Mali"},{"$f":"IF(COUNTRY_INFO!B39=0,\" \",COUNTRY_INFO!B39)","v":"Koulikoro"},{"$f":"IF(COUNTRY_INFO!C39=0,\" \",COUNTRY_INFO!C39)","v":"Dioila"},{"$f":"IF(OR(COUNTRY_INFO!$Z39=\"T2 (PZQ)\",COUNTRY_INFO!$AA39=\"T2 (PZQ)\"), \"T2 (PZQ)\", \" \")","v":"T2 (PZQ)"},"22 au 26 Mai 2023",null,32054,null,32054,null,31937,null,31937,null,null,null,0,0,31937,0,31937," ",99.634990952767211," ",99.634990952767211,null,32054]
[{"$f":"IF(COUNTRY_INFO!A40=0,\" \",COUNTRY_INFO!A40)","v":"Mali"},{"$f":"IF(COUNTRY_INFO!B40=0,\" \",COUNTRY_INFO!B40)","v":"Koulikoro"},{"$f":"IF(COUNTRY_INFO!C40=0,\" \",COUNTRY_INFO!C40)","v":"Fana"},{"$f":"IF(OR(COUNTRY_INFO!$Z40=\"T2 (PZQ)\",COUNTRY_INFO!$AA40=\"T2 (PZQ)\"), \"T2 (PZQ)\", \" \")","v":"T2 (PZQ)"},"22 au 26 Mai 2023",null,94219,null,94219,null,90936,null,90936,null,null,null,0,0,90936,0,90936," ",96.515564801154753," ",96.515564801154753,null,94219]
[{"$f":"IF(COUNTRY_INFO!A41=0,\" \",COUNTRY_INFO!A41)","v":"Mali"},{"$f":"IF(COUNTRY_INFO!B41=0,\" \",COUNTRY_INFO!B41)","v":"Koulikoro"},{"$f":"IF(COUNTRY_INFO!C41=0,\" \",COUNTRY_INFO!C41)","v":"Kalabancoro"},{"$f":"IF(OR(COUNTRY_INFO!$Z41=\"T2 (PZQ)\",COUNTRY_INFO!$AA41=\"T2 (PZQ)\"), \"T2 (PZQ)\", \" \")","v":"T2 (PZQ)"},"22 au 26 Mai 2023",null,58245,null,58245,null,56886,null,56886,null,null,null,0,0,56886,0,56886," ",97.666752510945145," ",97.666752510945145,null,58245]
[{"$f":"IF(COUNTRY_INFO!A42=0,\" \",COUNTRY_INFO!A42)","v":"Mali"},{"$f":"IF(COUNTRY_INFO!B42=0,\" \",COUNTRY_INFO!B42)","v":"Koulikoro"},{"$f":"IF(COUNTRY_INFO!C42=0,\" \",COUNTRY_INFO!C42)","v":"Kangaba"},{"$f":"IF(OR(COUNTRY_INFO!$Z42=\"T2 (PZQ)\",COUNTRY_INFO!$AA42=\"T2 (PZQ)\"), \"T2 (PZQ)\", \" \")","v":"T2 (PZQ)"},"22 au 26 Mai 2023",null,39658,null,39658,null,42867,null,42867,null,null,null,0,0,42867,0,42867," ",108.09168389732211," ",108.09168389732211,null,39658]
[{"$f":"IF(COUNTRY_INFO!A43=0,\" \",COUNTRY_INFO!A43)","v":"Mali"},{"$f":"IF(COUNTRY_INFO!B43=0,\" \",COUNTRY_INFO!B43)","v":"Koulikoro"},{"$f":"IF(COUNTRY_INFO!C43=0,\" \",COUNTRY_INFO!C43)","v":"Kati"},{"$f":"IF(OR(COUNTRY_INFO!$Z43=\"T2 (PZQ)\",COUNTRY_INFO!$AA43=\"T2 (PZQ)\"), \"T2 (PZQ)\", \" \")","v":"T2 (PZQ)"},"22 au 26 Mai 2023",null,51661,null,51661,null,71599,null,71599,null,null,null,0,0,71599,0,71599," ",138.59391029983934," ",138.59391029983934,null,51661]
[{"$f":"IF(COUNTRY_INFO!A44=0,\" \",COUNTRY_INFO!A44)","v":"Mali"},{"$f":"IF(COUNTRY_INFO!B44=0,\" \",COUNTRY_INFO!B44)","v":"Koulikoro"},{"$f":"IF(COUNTRY_INFO!C44=0,\" \",COUNTRY_INFO!C44)","v":"Kolokani"},{"$f":"IF(OR(COUNTRY_INFO!$Z44=\"T2 (PZQ)\",COUNTRY_INFO!$AA44=\"T2 (PZQ)\"), \"T2 (PZQ)\", \" \")","v":"T2 (PZQ)"},"22 au 26 Mai 2023",null,34610,null,34610,null,28874,null,28874,null,null,null,0,0,28874,0,28874," ",83.426755273042474," ",83.426755273042474,null,34610]
[{"$f":"IF(COUNTRY_INFO!A45=0,\" \",COUNTRY_INFO!A45)","v":"Mali"},{"$f":"IF(COUNTRY_INFO!B45=0,\" \",COUNTRY_INFO!B45)","v":"Koulikoro"},{"$f":"IF(COUNTRY_INFO!C45=0,\" \",COUNTRY_INFO!C45)","v":"Koulikoro"},{"$f":"IF(OR(COUNTRY_INFO!$Z45=\"T2 (PZQ)\",COUNTRY_INFO!$AA45=\"T2 (PZQ)\"), \"T2 (PZQ)\", \" \")","v":"T2 (PZQ)"},"22 au 26 Mai 2023",null,69119,null,69119,null,66641,null,66641,null,null,null,0,0,66641,0,66641," ",96.414878687481007," ",96.414878687481007,null,69119]
[{"$f":"IF(COUNTRY_INFO!A46=0,\" \",COUNTRY_INFO!A46)","v":"Mali"},{"$f":"IF(COUNTRY_INFO!B46=0,\" \",COUNTRY_INFO!B46)","v":"Koulikoro"},{"$f":"IF(COUNTRY_INFO!C46=0,\" \",COUNTRY_INFO!C46)","v":"Nara"},{"$f":"IF(OR(COUNTRY_INFO!$Z46=\"T2 (PZQ)\",COUNTRY_INFO!$AA46=\"T2 (PZQ)\"), \"T2 (PZQ)\", \" \")","v":"T2 (PZQ)"},"22 au 26 Mai 2023",null,29805,null,29805,null,24312,null,24312,null,null,null,0,0,24312,0,24312," ",81.570206341217926," ",81.570206341217926,null,29805]
[{"$f":"IF(COUNTRY_INFO!A47=0,\" \",COUNTRY_INFO!A47)","v":"Mali"},{"$f":"IF(COUNTRY_INFO!B47=0,\" \",COUNTRY_INFO!B47)","v":"Koulikoro"},{"$f":"IF(COUNTRY_INFO!C47=0,\" \",COUNTRY_INFO!C47)","v":"Ouelessebougou"},{"$f":"IF(OR(COUNTRY_INFO!$Z47=\"T2 (PZQ)\",COUNTRY_INFO!$AA47=\"T2 (PZQ)\"), \"T2 (PZQ)\", \" \")","v":"T2 (PZQ)"},"22 au 26 Mai 2023",null,67173,null,67173,null,63532,null,63532,null,null,null,0,0,63532,0,63532," ",94.579667425900283," ",94.579667425900283,null,67173]
[{"$f":"IF(COUNTRY_INFO!A48=0,\" \",COUNTRY_INFO!A48)","v":"Mali"},{"$f":"IF(COUNTRY_INFO!B48=0,\" \",COUNTRY_INFO!B48)","v":"Mopti"},{"$f":"IF(COUNTRY_INFO!C48=0,\" \",COUNTRY_INFO!C48)","v":"Bandiagara"},{"$f":"IF(OR(COUNTRY_INFO!$Z48=\"T2 (PZQ)\",COUNTRY_INFO!$AA48=\"T2 (PZQ)\"), \"T2 (PZQ)\", \" \")","v":"T2 (PZQ)"},"1 au 05 août 2023",null,124867,225636,350503,null,149665,181003,330668,null,null,null,0,0,149665,181003,330668," ",119.8595305404951,80.219025332836964,94.340989948730822,null,124867,225636]
[{"$f":"IF(COUNTRY_INFO!A49=0,\" \",COUNTRY_INFO!A49)","v":"Mali"},{"$f":"IF(COUNTRY_INFO!B49=0,\" \",COUNTRY_INFO!B49)","v":"Mopti"},{"$f":"IF(COUNTRY_INFO!C49=0,\" \",COUNTRY_INFO!C49)","v":"Bankass"},{"$f":"IF(OR(COUNTRY_INFO!$Z49=\"T2 (PZQ)\",COUNTRY_INFO!$AA49=\"T2 (PZQ)\"), \"T2 (PZQ)\", \" \")","v":"T2 (PZQ)"},"1 au 05 août 2023",null,109802,198415,308217,null,79399,123901,203300,null,null,null,0,0,79399,123901,203300," ",72.311069015136326,62.445379633596254,65.96002167304205,null,109802,198415]
[{"$f":"IF(COUNTRY_INFO!A50=0,\" \",COUNTRY_INFO!A50)","v":"Mali"},{"$f":"IF(COUNTRY_INFO!B50=0,\" \",COUNTRY_INFO!B50)","v":"Mopti"},{"$f":"IF(COUNTRY_INFO!C50=0,\" \",COUNTRY_INFO!C50)","v":"Djenne"},{"$f":"IF(OR(COUNTRY_INFO!$Z50=\"T2 (PZQ)\",COUNTRY_INFO!$AA50=\"T2 (PZQ)\"), \"T2 (PZQ)\", \" \")","v":"T2 (PZQ)"},"1 au 05 août 2023",null,72830,null,72830,null,79677,null,79677,null,null,null,0,0,79677,0,79677," ",109.40134559934094," ",109.40134559934094,null,72830]
[{"$f":"IF(COUNTRY_INFO!A51=0,\" \",COUNTRY_INFO!A51)","v":"Mali"},{"$f":"IF(COUNTRY_INFO!B51=0,\" \",COUNTRY_INFO!B51)","v":"Mopti"},{"$f":"IF(COUNTRY_INFO!C51=0,\" \",COUNTRY_INFO!C51)","v":"Douentza"},{"$f":"IF(OR(COUNTRY_INFO!$Z51=\"T2 (PZQ)\",COUNTRY_INFO!$AA51=\"T2 (PZQ)\"), \"T2 (PZQ)\", \" \")","v":"T2 (PZQ)"},"1 au 05 août 2023",null,97075,null,97075,null,89740,null,89740,null,null,null,0,0,89740,0,89740," ",92.443986608292562," ",92.443986608292562,null,97075]
[{"$f":"IF(COUNTRY_INFO!A52=0,\" \",COUNTRY_INFO!A52)","v":"Mali"},{"$f":"IF(COUNTRY_INFO!B52=0,\" \",COUNTRY_INFO!B52)","v":"Mopti"},{"$f":"IF(COUNTRY_INFO!C52=0,\" \",COUNTRY_INFO!C52)","v":"Koro"},{"$f":"IF(OR(COUNTRY_INFO!$Z52=\"T2 (PZQ)\",COUNTRY_INFO!$AA52=\"T2 (PZQ)\"), \"T2 (PZQ)\", \" \")","v":"T2 (PZQ)"},"1 au 05 août 2023",null,99193,null,99193,null,94575,null,94575,null,null,null,0,0,94575,0,94575," ",95.34442954643977," ",95.34442954643977,null,99193]
[{"$f":"IF(COUNTRY_INFO!A53=0,\" \",COUNTRY_INFO!A53)","v":"Mali"},{"$f":"IF(COUNTRY_INFO!B53=0,\" \",COUNTRY_INFO!B53)","v":"Mopti"},{"$f":"IF(COUNTRY_INFO!C53=0,\" \",COUNTRY_INFO!C53)","v":"Mopti"},{"$f":"IF(OR(COUNTRY_INFO!$Z53=\"T2 (PZQ)\",COUNTRY_INFO!$AA53=\"T2 (PZQ)\"), \"T2 (PZQ)\", \" \")","v":"T2 (PZQ)"},"1 au 05 août 2023",null,111664,null,111664,null,111510,null,111510,null,null,null,0,0,111510,0,111510," ",99.86208625877633," ",99.86208625877633,null,111664]
[{"$f":"IF(COUNTRY_INFO!A54=0,\" \",COUNTRY_INFO!A54)","v":"Mali"},{"$f":"IF(COUNTRY_INFO!B54=0,\" \",COUNTRY_INFO!B54)","v":"Mopti"},{"$f":"IF(COUNTRY_INFO!C54=0,\" \",COUNTRY_INFO!C54)","v":"Teninkou"},{"$f":"IF(OR(COUNTRY_INFO!$Z54=\"T2 (PZQ)\",COUNTRY_INFO!$AA54=\"T2 (PZQ)\"), \"T2 (PZQ)\", \" \")","v":"T2 (PZQ)"},"1 au 05 août 2023",null,12105,null,12105,null,10016,null,10016,null,null,null,0,0,10016,0,10016," ",82.742668318876497," ",82.742668318876497,null,12105]
[{"$f":"IF(COUNTRY_INFO!A55=0,\" \",COUNTRY_INFO!A55)","v":"Mali"},{"$f":"IF(COUNTRY_INFO!B55=0,\" \",COUNTRY_INFO!B55)","v":"Mopti"},{"$f":"IF(COUNTRY_INFO!C55=0,\" \",COUNTRY_INFO!C55)","v":"Youwarou"},{"$f":"IF(OR(COUNTRY_INFO!$Z55=\"T2 (PZQ)\",COUNTRY_INFO!$AA55=\"T2 (PZQ)\"), \"T2 (PZQ)\", \" \")","v":" "},null,null,null,null,0,null,null,null,0,null,null,null,0,0,0,0,0," "," "," "," "]
[{"$f":"IF(COUNTRY_INFO!A56=0,\" \",COUNTRY_INFO!A56)","v":"Mali"},{"$f":"IF(COUNTRY_INFO!B56=0,\" \",COUNTRY_INFO!B56)","v":"Segou"},{"$f":"IF(COUNTRY_INFO!C56=0,\" \",COUNTRY_INFO!C56)","v":"Barouéli"},{"$f":"IF(OR(COUNTRY_INFO!$Z56=\"T2 (PZQ)\",COUNTRY_INFO!$AA56=\"T2 (PZQ)\"), \"T2 (PZQ)\", \" \")","v":"T2 (PZQ)"},"20 au 24 juillet 2023",null,4347,null,4347,null,4209,null,4209,null,null,null,0,0,4209,0,4209," ",96.825396825396822," ",96.825396825396822,null,4347]
[{"$f":"IF(COUNTRY_INFO!A57=0,\" \",COUNTRY_INFO!A57)","v":"Mali"},{"$f":"IF(COUNTRY_INFO!B57=0,\" \",COUNTRY_INFO!B57)","v":"Segou"},{"$f":"IF(COUNTRY_INFO!C57=0,\" \",COUNTRY_INFO!C57)","v":"Bla"},{"$f":"IF(OR(COUNTRY_INFO!$Z57=\"T2 (PZQ)\",COUNTRY_INFO!$AA57=\"T2 (PZQ)\"), \"T2 (PZQ)\", \" \")","v":"T2 (PZQ)"},"20 au 24 juillet 2023",null,122484,null,122484,null,119028,null,119028,null,null,null,0,0,119028,0,119028," ",97.178406975604986," ",97.178406975604986,null,122484]
[{"$f":"IF(COUNTRY_INFO!A58=0,\" \",COUNTRY_INFO!A58)","v":"Mali"},{"$f":"IF(COUNTRY_INFO!B58=0,\" \",COUNTRY_INFO!B58)","v":"Segou"},{"$f":"IF(COUNTRY_INFO!C58=0,\" \",COUNTRY_INFO!C58)","v":"Macina"},{"$f":"IF(OR(COUNTRY_INFO!$Z58=\"T2 (PZQ)\",COUNTRY_INFO!$AA58=\"T2 (PZQ)\"), \"T2 (PZQ)\", \" \")","v":"T2 (PZQ)"},"20 au 24 juillet 2023",null,95160,171956,267116,null,105981,156602,262583,null,null,null,0,0,105981,156602,262583," ",111.37137452711224,91.070971643908905,98.302984471166084,null,95160,171956]
[{"$f":"IF(COUNTRY_INFO!A59=0,\" \",COUNTRY_INFO!A59)","v":"Mali"},{"$f":"IF(COUNTRY_INFO!B59=0,\" \",COUNTRY_INFO!B59)","v":"Segou"},{"$f":"IF(COUNTRY_INFO!C59=0,\" \",COUNTRY_INFO!C59)","v":"Markala"},{"$f":"IF(OR(COUNTRY_INFO!$Z59=\"T2 (PZQ)\",COUNTRY_INFO!$AA59=\"T2 (PZQ)\"), \"T2 (PZQ)\", \" \")","v":"T2 (PZQ)"},"20 au 24 juillet 2023",null,105763,null,105763,null,80289,24992,105281,null,null,null,0,0,80289,24992,105281," ",75.914072028970438," ",99.544264062101121,null,105763]
[{"$f":"IF(COUNTRY_INFO!A60=0,\" \",COUNTRY_INFO!A60)","v":"Mali"},{"$f":"IF(COUNTRY_INFO!B60=0,\" \",COUNTRY_INFO!B60)","v":"Segou"},{"$f":"IF(COUNTRY_INFO!C60=0,\" \",COUNTRY_INFO!C60)","v":"Niono"},{"$f":"IF(OR(COUNTRY_INFO!$Z60=\"T2 (PZQ)\",COUNTRY_INFO!$AA60=\"T2 (PZQ)\"), \"T2 (PZQ)\", \" \")","v":"T2 (PZQ)"},"20 au 24 juillet 2023",null,158964,287250,446214,null,183188,274398,457586,null,null,null,0,0,183188,274398,457586," ",115.2386703907803,95.52584856396868,102.54855293648339,null,158964,287250]
[{"$f":"IF(COUNTRY_INFO!A61=0,\" \",COUNTRY_INFO!A61)","v":"Mali"},{"$f":"IF(COUNTRY_INFO!B61=0,\" \",COUNTRY_INFO!B61)","v":"Segou"},{"$f":"IF(COUNTRY_INFO!C61=0,\" \",COUNTRY_INFO!C61)","v":"San"},{"$f":"IF(OR(COUNTRY_INFO!$Z61=\"T2 (PZQ)\",COUNTRY_INFO!$AA61=\"T2 (PZQ)\"), \"T2 (PZQ)\", \" \")","v":"T2 (PZQ)"},"20 au 24 juillet 2023",null,99643,null,99643,null,92854,200,93054,null,null,null,0,0,92854,200,93054," ",93.186676434872496," ",93.387392992984957,null,99643]
[{"$f":"IF(COUNTRY_INFO!A62=0,\" \",COUNTRY_INFO!A62)","v":"Mali"},{"$f":"IF(COUNTRY_INFO!B62=0,\" \",COUNTRY_INFO!B62)","v":"Segou"},{"$f":"IF(COUNTRY_INFO!C62=0,\" \",COUNTRY_INFO!C62)","v":"Segou"},{"$f":"IF(OR(COUNTRY_INFO!$Z62=\"T2 (PZQ)\",COUNTRY_INFO!$AA62=\"T2 (PZQ)\"), \"T2 (PZQ)\", \" \")","v":"T2 (PZQ)"},"20 au 24 juillet 2023",null,190309,null,190309,null,202538,285,202823,null,null,null,0,0,202538,285,202823," ",106.42586530326994," ",106.57562175199283,null,190309]
[{"$f":"IF(COUNTRY_INFO!A63=0,\" \",COUNTRY_INFO!A63)","v":"Mali"},{"$f":"IF(COUNTRY_INFO!B63=0,\" \",COUNTRY_INFO!B63)","v":"Segou"},{"$f":"IF(COUNTRY_INFO!C63=0,\" \",COUNTRY_INFO!C63)","v":"Tominian"},{"$f":"IF(OR(COUNTRY_INFO!$Z63=\"T2 (PZQ)\",COUNTRY_INFO!$AA63=\"T2 (PZQ)\"), \"T2 (PZQ)\", \" \")","v":"T2 (PZQ)"},"20 au 24 juillet 2023",null,93940,null,93940,null,92300,11695,103995,null,null,null,0,0,92300,11695,103995," ",98.254204811581857," ",110.70364062167342,null,93940]
[{"$f":"IF(COUNTRY_INFO!A64=0,\" \",COUNTRY_INFO!A64)","v":"Mali"},{"$f":"IF(COUNTRY_INFO!B64=0,\" \",COUNTRY_INFO!B64)","v":"Sikasso"},{"$f":"IF(COUNTRY_INFO!C64=0,\" \",COUNTRY_INFO!C64)","v":"Bougouni"},{"$f":"IF(OR(COUNTRY_INFO!$Z64=\"T2 (PZQ)\",COUNTRY_INFO!$AA64=\"T2 (PZQ)\"), \"T2 (PZQ)\", \" \")","v":"T2 (PZQ)"},"17 au 21 juillet 2023",null,66759,null,66759,null,61849,62,61911,null,null,null,0,0,61849,62,61911," ",92.64518641681272," ",92.738057789960905,null,66759]
[{"$f":"IF(COUNTRY_INFO!A65=0,\" \",COUNTRY_INFO!A65)","v":"Mali"},{"$f":"IF(COUNTRY_INFO!B65=0,\" \",COUNTRY_INFO!B65)","v":"Sikasso"},{"$f":"IF(COUNTRY_INFO!C65=0,\" \",COUNTRY_INFO!C65)","v":"Kadiolo"},{"$f":"IF(OR(COUNTRY_INFO!$Z65=\"T2 (PZQ)\",COUNTRY_INFO!$AA65=\"T2 (PZQ)\"), \"T2 (PZQ)\", \" \")","v":" "},null,null,null,null,0,null,0,0,0,null,null,null,0,0,0,0,0," "," "," "," "]
[{"$f":"IF(COUNTRY_INFO!A66=0,\" \",COUNTRY_INFO!A66)","v":"Mali"},{"$f":"IF(COUNTRY_INFO!B66=0,\" \",COUNTRY_INFO!B66)","v":"Sikasso"},{"$f":"IF(COUNTRY_INFO!C66=0,\" \",COUNTRY_INFO!C66)","v":"Kignan"},{"$f":"IF(OR(COUNTRY_INFO!$Z66=\"T2 (PZQ)\",COUNTRY_INFO!$AA66=\"T2 (PZQ)\"), \"T2 (PZQ)\", \" \")","v":" "},null,null,null,null,0,null,0,0,0,null,null,null,0,0,0,0,0," "," "," "," "]
[{"$f":"IF(COUNTRY_INFO!A67=0,\" \",COUNTRY_INFO!A67)","v":"Mali"},{"$f":"IF(COUNTRY_INFO!B67=0,\" \",COUNTRY_INFO!B67)","v":"Sikasso"},{"$f":"IF(COUNTRY_INFO!C67=0,\" \",COUNTRY_INFO!C67)","v":"Kolondieba"},{"$f":"IF(OR(COUNTRY_INFO!$Z67=\"T2 (PZQ)\",COUNTRY_INFO!$AA67=\"T2 (PZQ)\"), \"T2 (PZQ)\", \" \")","v":"T2 (PZQ)"},"17 au 21 juillet 2023",null,26289,null,26289,null,20782,0,20782,null,null,null,0,0,20782,0,20782," ",79.052075012362593," ",79.052075012362593,null,26289]
[{"$f":"IF(COUNTRY_INFO!A68=0,\" \",COUNTRY_INFO!A68)","v":"Mali"},{"$f":"IF(COUNTRY_INFO!B68=0,\" \",COUNTRY_INFO!B68)","v":"Sikasso"},{"$f":"IF(COUNTRY_INFO!C68=0,\" \",COUNTRY_INFO!C68)","v":"Koutiala"},{"$f":"IF(OR(COUNTRY_INFO!$Z68=\"T2 (PZQ)\",COUNTRY_INFO!$AA68=\"T2 (PZQ)\"), \"T2 (PZQ)\", \" \")","v":" "},null,null,null,null,0,null,0,0,0,null,null,null,0,0,0,0,0," "," "," "," "]
[{"$f":"IF(COUNTRY_INFO!A69=0,\" \",COUNTRY_INFO!A69)","v":"Mali"},{"$f":"IF(COUNTRY_INFO!B69=0,\" \",COUNTRY_INFO!B69)","v":"Sikasso"},{"$f":"IF(COUNTRY_INFO!C69=0,\" \",COUNTRY_INFO!C69)","v":"Niena"},{"$f":"IF(OR(COUNTRY_INFO!$Z69=\"T2 (PZQ)\",COUNTRY_INFO!$AA69=\"T2 (PZQ)\"), \"T2 (PZQ)\", \" \")","v":"T2 (PZQ)"},"17 au 21 juillet 2023",null,7443,null,7443,null,5534,0,5534,null,null,null,0,0,5534,0,5534," ",74.351739889829375," ",74.351739889829375,null,7443]
[{"$f":"IF(COUNTRY_INFO!A70=0,\" \",COUNTRY_INFO!A70)","v":"Mali"},{"$f":"IF(COUNTRY_INFO!B70=0,\" \",COUNTRY_INFO!B70)","v":"Sikasso"},{"$f":"IF(COUNTRY_INFO!C70=0,\" \",COUNTRY_INFO!C70)","v":"Sélingué"},{"$f":"IF(OR(COUNTRY_INFO!$Z70=\"T2 (PZQ)\",COUNTRY_INFO!$AA70=\"T2 (PZQ)\"), \"T2 (PZQ)\", \" \")","v":"T2 (PZQ)"},"17 au 21 juillet 2023",null,16418,null,16418,null,18320,0,18320,null,null,null,0,0,18320,0,18320," ",111.58484590084055," ",111.58484590084055,null,16418]
[{"$f":"IF(COUNTRY_INFO!A71=0,\" \",COUNTRY_INFO!A71)","v":"Mali"},{"$f":"IF(COUNTRY_INFO!B71=0,\" \",COUNTRY_INFO!B71)","v":"Sikasso"},{"$f":"IF(COUNTRY_INFO!C71=0,\" \",COUNTRY_INFO!C71)","v":"Sikasso"},{"$f":"IF(OR(COUNTRY_INFO!$Z71=\"T2 (PZQ)\",COUNTRY_INFO!$AA71=\"T2 (PZQ)\"), \"T2 (PZQ)\", \" \")","v":"T2 (PZQ)"},"17 au 21 juillet 2023",null,194766,null,194766,null,194033,0,194033,null,null,null,0,0,194033,0,194033," ",99.623650945236847," ",99.623650945236847,null,194766]
[{"$f":"IF(COUNTRY_INFO!A72=0,\" \",COUNTRY_INFO!A72)","v":"Mali"},{"$f":"IF(COUNTRY_INFO!B72=0,\" \",COUNTRY_INFO!B72)","v":"Sikasso"},{"$f":"IF(COUNTRY_INFO!C72=0,\" \",COUNTRY_INFO!C72)","v":"Yanfolila"},{"$f":"IF(OR(COUNTRY_INFO!$Z72=\"T2 (PZQ)\",COUNTRY_INFO!$AA72=\"T2 (PZQ)\"), \"T2 (PZQ)\", \" \")","v":"T2 (PZQ)"},"17 au 21 juillet 2023",null,1850,null,1850,null,1803,0,1803,null,null,null,0,0,1803,0,1803," ",97.459459459459467," ",97.459459459459467,null,1850]
[{"$f":"IF(COUNTRY_INFO!A73=0,\" \",COUNTRY_INFO!A73)","v":"Mali"},{"$f":"IF(COUNTRY_INFO!B73=0,\" \",COUNTRY_INFO!B73)","v":"Sikasso"},{"$f":"IF(COUNTRY_INFO!C73=0,\" \",COUNTRY_INFO!C73)","v":"Yorosso"},{"$f":"IF(OR(COUNTRY_INFO!$Z73=\"T2 (PZQ)\",COUNTRY_INFO!$AA73=\"T2 (PZQ)\"), \"T2 (PZQ)\", \" \")","v":" "},null,null,null,null,0,null,0,0,0,null,null,null,0,0,0,0,0," "," "," "," "]
[{"$f":"IF(COUNTRY_INFO!A74=0,\" \",COUNTRY_INFO!A74)","v":"Mali"},{"$f":"IF(COUNTRY_INFO!B74=0,\" \",COUNTRY_INFO!B74)","v":"Tombouctou"},{"$f":"IF(COUNTRY_INFO!C74=0,\" \",COUNTRY_INFO!C74)","v":"Diré"},{"$f":"IF(OR(COUNTRY_INFO!$Z74=\"T2 (PZQ)\",COUNTRY_INFO!$AA74=\"T2 (PZQ)\"), \"T2 (PZQ)\", \" \")","v":"T2 (PZQ)"},"24 au 28 Juillet 2023",null,2777,null,2777,null,3170,0,3170,null,null,null,0,0,3170,0,3170," ",114.15196254951387," ",114.15196254951387,null,2777]
[{"$f":"IF(COUNTRY_INFO!A75=0,\" \",COUNTRY_INFO!A75)","v":"Mali"},{"$f":"IF(COUNTRY_INFO!B75=0,\" \",COUNTRY_INFO!B75)","v":"Tombouctou"},{"$f":"IF(COUNTRY_INFO!C75=0,\" \",COUNTRY_INFO!C75)","v":"Goundam"},{"$f":"IF(OR(COUNTRY_INFO!$Z75=\"T2 (PZQ)\",COUNTRY_INFO!$AA75=\"T2 (PZQ)\"), \"T2 (PZQ)\", \" \")","v":"T2 (PZQ)"},"24 au 28 Juillet 2023",null,3789,null,{"$f":"SUM(F75:H75)","v":3789},null,4503,294,{"$f":"SUM(J75:L75)","v":4797},null,null,null,{"$f":"SUM(N75:P75)","v":0},{"$f":"MAX(J75,N75)","v":0},{"$f":"MAX(K75,O75)","v":4503},{"$f":"MAX(L75,P75)","v":294},{"$f":"SUM(R75:T75)","v":4797},{"$f":"IF(F75<>0, IF(R75/F75*100=0, \"-\", R75/F75*100), \" \")","v":" "},{"$f":"IF(G75<>0, IF(S75/G75*100=0, \"-\", S75/G75*100), \" \")","v":118.84402216943786},{"$f":"IF(H75<>0, IF(T75/H75*100=0, \"-\",T75/H75*100), \" \")","v":" "},{"$f":"IF(I75<>0, IF(U75/I75*100=0, \"-\", U75/I75*100), \" \")","v":126.60332541567696},null,3789]
[{"$f":"IF(COUNTRY_INFO!A76=0,\" \",COUNTRY_INFO!A76)","v":"Mali"},{"$f":"IF(COUNTRY_INFO!B76=0,\" \",COUNTRY_INFO!B76)","v":"Tombouctou"},{"$f":"IF(COUNTRY_INFO!C76=0,\" \",COUNTRY_INFO!C76)","v":"Gourma-Rharous"},{"$f":"IF(OR(COUNTRY_INFO!$Z76=\"T2 (PZQ)\",COUNTRY_INFO!$AA76=\"T2 (PZQ)\"), \"T2 (PZQ)\", \" \")","v":"T2 (PZQ)"},"24 au 28 Juillet 2023",null,43057,null,43057,null,37449,0,37449,null,null,null,0,0,37449,0,37449," ",86.975404696100526," ",86.975404696100526,null,43057]
[{"$f":"IF(COUNTRY_INFO!A77=0,\" \",COUNTRY_INFO!A77)","v":"Mali"},{"$f":"IF(COUNTRY_INFO!B77=0,\" \",COUNTRY_INFO!B77)","v":"Tombouctou"},{"$f":"IF(COUNTRY_INFO!C77=0,\" \",COUNTRY_INFO!C77)","v":"Niafunké"},{"$f":"IF(OR(COUNTRY_INFO!$Z77=\"T2 (PZQ)\",COUNTRY_INFO!$AA77=\"T2 (PZQ)\"), \"T2 (PZQ)\", \" \")","v":"T2 (PZQ)"},"24 au 28 Juillet 2023",null,15893,null,15893,null,14691,0,14691,null,null,null,0,0,14691,0,14691," ",92.436921915308616," ",92.436921915308616,null,15893]
[{"$f":"IF(COUNTRY_INFO!A78=0,\" \",COUNTRY_INFO!A78)","v":"Mali"},{"$f":"IF(COUNTRY_INFO!B78=0,\" \",COUNTRY_INFO!B78)","v":"Tombouctou"},{"$f":"IF(COUNTRY_INFO!C78=0,\" \",COUNTRY_INFO!C78)","v":"Tombouctou"},{"$f":"IF(OR(COUNTRY_INFO!$Z78=\"T2 (PZQ)\",COUNTRY_INFO!$AA78=\"T2 (PZQ)\"), \"T2 (PZQ)\", \" \")","v":"T2 (PZQ)"},"24 au 28 Juillet 2023",null,3843,null,3843,null,3738,307,4045,null,null,null,0,0,3738,307,4045," ",97.267759562841533," ",105.25631017434296,null,3843]
[{"$f":"IF(COUNTRY_INFO!A79=0,\" \",COUNTRY_INFO!A79)","v":"Mali"},{"$f":"IF(COUNTRY_INFO!B79=0,\" \",COUNTRY_INFO!B79)","v":"Taoudenit"},{"$f":"IF(COUNTRY_INFO!C79=0,\" \",COUNTRY_INFO!C79)","v":"Achourat"},{"$f":"IF(OR(COUNTRY_INFO!$Z79=\"T2 (PZQ)\",COUNTRY_INFO!$AA79=\"T2 (PZQ)\"), \"T2 (PZQ)\", \" \")","v":" "},null,null,null,null,0,null,null,null,0,null,null,null,0,0,0,0,0," "," "," "," "]
[{"$f":"IF(COUNTRY_INFO!A80=0,\" \",COUNTRY_INFO!A80)","v":"Mali"},{"$f":"IF(COUNTRY_INFO!B80=0,\" \",COUNTRY_INFO!B80)","v":"Taoudenit"},{"$f":"IF(COUNTRY_INFO!C80=0,\" \",COUNTRY_INFO!C80)","v":"Al-Ourch"},{"$f":"IF(OR(COUNTRY_INFO!$Z80=\"T2 (PZQ)\",COUNTRY_INFO!$AA80=\"T2 (PZQ)\"), \"T2 (PZQ)\", \" \")","v":" "},null,null,null,null,0,null,null,null,0,null,null,null,0,0,0,0,0," "," "," "," "]
[{"$f":"IF(COUNTRY_INFO!A81=0,\" \",COUNTRY_INFO!A81)","v":"Mali"},{"$f":"IF(COUNTRY_INFO!B81=0,\" \",COUNTRY_INFO!B81)","v":"Taoudenit"},{"$f":"IF(COUNTRY_INFO!C81=0,\" \",COUNTRY_INFO!C81)","v":"Araouane"},{"$f":"IF(OR(COUNTRY_INFO!$Z81=\"T2 (PZQ)\",COUNTRY_INFO!$AA81=\"T2 (PZQ)\"), \"T2 (PZQ)\", \" \")","v":" "},null,null,null,null,0,null,null,null,0,null,null,null,0,0,0,0,0," "," "," "," "]
[{"$f":"IF(COUNTRY_INFO!A82=0,\" \",COUNTRY_INFO!A82)","v":"Mali"},{"$f":"IF(COUNTRY_INFO!B82=0,\" \",COUNTRY_INFO!B82)","v":"Taoudenit"},{"$f":"IF(COUNTRY_INFO!C82=0,\" \",COUNTRY_INFO!C82)","v":"Boujbeha"},{"$f":"IF(OR(COUNTRY_INFO!$Z82=\"T2 (PZQ)\",COUNTRY_INFO!$AA82=\"T2 (PZQ)\"), \"T2 (PZQ)\", \" \")","v":" "},null,null,null,null,0,null,null,null,0,null,null,null,0,0,0,0,0," "," "," "," "]
[{"$f":"IF(COUNTRY_INFO!A83=0,\" \",COUNTRY_INFO!A83)","v":"Mali"},{"$f":"IF(COUNTRY_INFO!B83=0,\" \",COUNTRY_INFO!B83)","v":"Taoudenit"},{"$f":"IF(COUNTRY_INFO!C83=0,\" \",COUNTRY_INFO!C83)","v":"Foum-Elba"},{"$f":"IF(OR(COUNTRY_INFO!$Z83=\"T2 (PZQ)\",COUNTRY_INFO!$AA83=\"T2 (PZQ)\"), \"T2 (PZQ)\", \" \")","v":" "},null,null,null,null,0,null,null,null,0,null,null,null,0,0,0,0,0," "," "," "," "]
[{"$f":"IF(COUNTRY_INFO!A84=0,\" \",COUNTRY_INFO!A84)","v":"Mali"},{"$f":"IF(COUNTRY_INFO!B84=0,\" \",COUNTRY_INFO!B84)","v":"Taoudenit"},{"$f":"IF(COUNTRY_INFO!C84=0,\" \",COUNTRY_INFO!C84)","v":"Taoudenit"},{"$f":"IF(OR(COUNTRY_INFO!$Z84=\"T2 (PZQ)\",COUNTRY_INFO!$AA84=\"T2 (PZQ)\"), \"T2 (PZQ)\", \" \")","v":" "},null,null,null,null,0,null,null,null,0,null,null,null,0,0,0,0,0," "," "," "," "]

{"sheet":"T3_R1","index":8,"n_rows":84,"n_cols":17,"rows_kept":84,"cut":false,"hidden":true,"merged":[[0,5,0,7],[1,11,1,12],[1,9,1,10],[5,5,5,8],[5,9,5,12],[5,13,5,16],[3,0,3,2],[5,0,5,2],[5,3,6,3],[5,4,6,4]]}
["T 3 - Albendazole (ALB) ou Mebendazole (MBD) - Tournée 1",null,null,null,null,"Choisir le médicament utilisé pour le traitement de la STH pour chaque groupe d'âge"]
["Structure administrative, population nécessitant une CP par groupe d'âge, population traitée par groupe d'âge et couverture",null,null,null,null,null,null,null,null,"Sélectionner la catégorie d’adultes"]
[]
["TOTAL",null,null,null,null,{"$f":"SUBTOTAL(9,F$10:F$1010)","v":0},0,0,0,0,0,0,0,{"$f":"IF(F4<>0, IF(J4/F4*100=0, \"-\", J4/F4*100), \" \")","v":" "},{"$f":"IF(G4<>0, IF(K4/G4*100=0, \"-\", K4/G4*100), \" \")","v":" "},{"$f":"IF(H4<>0, IF(L4/H4*100=0, \"-\", L4/H4*100), \" \")","v":" "},{"$f":"IF(I4<>0, IF(M4/I4*100=0, \"-\", M4/I4*100), \" \")","v":" "}]
[]
["Structure administrative du pays",null,null,"Mise en oeuvre \nde la CP","Date","Population ciblée pour T3",null,null,null,"Population traitée",null,null,null,"Couverture du Programme (%)"]
["Pays","Région/Département","District",null,null,"EAPréS","EAS","Adultes","Total","EAPréS","EAS","Adultes","Total","EAPréS","EAS","Adultes","Total"]
[]
[]
[{"$f":"IF(COUNTRY_INFO!A10=0,\" \",COUNTRY_INFO!A10)","v":"Mali"},{"$f":"IF(COUNTRY_INFO!B10=0,\" \",COUNTRY_INFO!B10)","v":"Bamako"},{"$f":"IF(COUNTRY_INFO!C10=0,\" \",COUNTRY_INFO!C10)","v":"Commune 1"},{"$f":"IF(OR(COUNTRY_INFO!$Z10=\"T3 (ALB/MBD)\",COUNTRY_INFO!$AA10=\"T3 (ALB/MBD)\"), \"T3 (ALB/MBD)\", \" \")","v":" "},null,null,null,null,{"$f":"SUM(F10:H10)","v":0},null,null,null,{"$f":"SUM(J10:L10)","v":0},{"$f":"IF(F10<>0, IF(J10/F10*100=0, \"-\", J10/F10*100), \" \")","v":" "}," "," "," "]
[{"$f":"IF(COUNTRY_INFO!A11=0,\" \",COUNTRY_INFO!A11)","v":"Mali"},{"$f":"IF(COUNTRY_INFO!B11=0,\" \",COUNTRY_INFO!B11)","v":"Bamako"},{"$f":"IF(COUNTRY_INFO!C11=0,\" \",COUNTRY_INFO!C11)","v":"Commune 2"},{"$f":"IF(OR(COUNTRY_INFO!$Z11=\"T3 (ALB/MBD)\",COUNTRY_INFO!$AA11=\"T3 (ALB/MBD)\"), \"T3 (ALB/MBD)\", \" \")","v":" "},null,null,null,null,{"$f":"SUM(F11:H11)","v":0},null,null,null,{"$f":"SUM(J11:L11)","v":0},{"$f":"IF(F11<>0, IF(J11/F11*100=0, \"-\", J11/F11*100), \" \")","v":" "},{"$f":"IF(G11<>0, IF(K11/G11*100=0, \"-\", K11/G11*100), \" \")","v":" "},{"$f":"IF(H11<>0, IF(L11/H11*100=0, \"-\", L11/H11*100), \" \")","v":" "},{"$f":"IF(I11<>0, IF(M11/I11*100=0, \"-\", M11/I11*100), \" \")","v":" "}]
[{"$f":"IF(COUNTRY_INFO!A12=0,\" \",COUNTRY_INFO!A12)","v":"Mali"},{"$f":"IF(COUNTRY_INFO!B12=0,\" \",COUNTRY_INFO!B12)","v":"Bamako"},{"$f":"IF(COUNTRY_INFO!C12=0,\" \",COUNTRY_INFO!C12)","v":"Commune 3"},{"$f":"IF(OR(COUNTRY_INFO!$Z12=\"T3 (ALB/MBD)\",COUNTRY_INFO!$AA12=\"T3 (ALB/MBD)\"), \"T3 (ALB/MBD)\", \" \")","v":" "},null,null,null,null,0,null,null,null,0," "," "," "," "]
[{"$f":"IF(COUNTRY_INFO!A13=0,\" \",COUNTRY_INFO!A13)","v":"Mali"},{"$f":"IF(COUNTRY_INFO!B13=0,\" \",COUNTRY_INFO!B13)","v":"Bamako"},{"$f":"IF(COUNTRY_INFO!C13=0,\" \",COUNTRY_INFO!C13)","v":"Commune 4"},{"$f":"IF(OR(COUNTRY_INFO!$Z13=\"T3 (ALB/MBD)\",COUNTRY_INFO!$AA13=\"T3 (ALB/MBD)\"), \"T3 (ALB/MBD)\", \" \")","v":" "},null,null,null,null,0,null,null,null,0," "," "," "," "]
[{"$f":"IF(COUNTRY_INFO!A14=0,\" \",COUNTRY_INFO!A14)","v":"Mali"},{"$f":"IF(COUNTRY_INFO!B14=0,\" \",COUNTRY_INFO!B14)","v":"Bamako"},{"$f":"IF(COUNTRY_INFO!C14=0,\" \",COUNTRY_INFO!C14)","v":"Commune 5"},{"$f":"IF(OR(COUNTRY_INFO!$Z14=\"T3 (ALB/MBD)\",COUNTRY_INFO!$AA14=\"T3 (ALB/MBD)\"), \"T3 (ALB/MBD)\", \" \")","v":" "},null,null,null,null,0,null,null,null,0," "," "," "," "]
[{"$f":"IF(COUNTRY_INFO!A15=0,\" \",COUNTRY_INFO!A15)","v":"Mali"},{"$f":"IF(COUNTRY_INFO!B15=0,\" \",COUNTRY_INFO!B15)","v":"Bamako"},{"$f":"IF(COUNTRY_INFO!C15=0,\" \",COUNTRY_INFO!C15)","v":"Commune 6"},{"$f":"IF(OR(COUNTRY_INFO!$Z15=\"T3 (ALB/MBD)\",COUNTRY_INFO!$AA15=\"T3 (ALB/MBD)\"), \"T3 (ALB/MBD)\", \" \")","v":" "},null,null,null,null,0,null,null,null,0," "," "," "," "]
[{"$f":"IF(COUNTRY_INFO!A16=0,\" \",COUNTRY_INFO!A16)","v":"Mali"},{"$f":"IF(COUNTRY_INFO!B16=0,\" \",COUNTRY_INFO!B16)","v":"Gao"},{"$f":"IF(COUNTRY_INFO!C16=0,\" \",COUNTRY_INFO!C16)","v":"Ansongo"},{"$f":"IF(OR(COUNTRY_INFO!$Z16=\"T3 (ALB/MBD)\",COUNTRY_INFO!$AA16=\"T3 (ALB/MBD)\"), \"T3 (ALB/MBD)\", \" \")","v":" "},null,null,null,null,0,null,null,null,0," "," "," "," "]
[{"$f":"IF(COUNTRY_INFO!A17=0,\" \",COUNTRY_INFO!A17)","v":"Mali"},{"$f":"IF(COUNTRY_INFO!B17=0,\" \",COUNTRY_INFO!B17)","v":"Gao"},{"$f":"IF(COUNTRY_INFO!C17=0,\" \",COUNTRY_INFO!C17)","v":"Bourem"},{"$f":"IF(OR(COUNTRY_INFO!$Z17=\"T3 (ALB/MBD)\",COUNTRY_INFO!$AA17=\"T3 (ALB/MBD)\"), \"T3 (ALB/MBD)\", \" \")","v":" "},null,null,null,null,0,null,null,null,0," "," "," "," "]
[{"$f":"IF(COUNTRY_INFO!A18=0,\" \",COUNTRY_INFO!A18)","v":"Mali"},{"$f":"IF(COUNTRY_INFO!B18=0,\" \",COUNTRY_INFO!B18)","v":"Gao"},{"$f":"IF(COUNTRY_INFO!C18=0,\" \",COUNTRY_INFO!C18)","v":"Almoustrat"},{"$f":"IF(OR(COUNTRY_INFO!$Z18=\"T3 (ALB/MBD)\",COUNTRY_INFO!$AA18=\"T3 (ALB/MBD)\"), \"T3 (ALB/MBD)\", \" \")","v":" "},null,null,null,null,0,null,null,null,0," "," "," "," "]
[{"$f":"IF(COUNTRY_INFO!A19=0,\" \",COUNTRY_INFO!A19)","v":"Mali"},{"$f":"IF(COUNTRY_INFO!B19=0,\" \",COUNTRY_INFO!B19)","v":"Gao"},{"$f":"IF(COUNTRY_INFO!C19=0,\" \",COUNTRY_INFO!C19)","v":"Gao"},{"$f":"IF(OR(COUNTRY_INFO!$Z19=\"T3 (ALB/MBD)\",COUNTRY_INFO!$AA19=\"T3 (ALB/MBD)\"), \"T3 (ALB/MBD)\", \" \")","v":" "},null,null,null,null,0,null,null,null,0," "," "," "," "]
[{"$f":"IF(COUNTRY_INFO!A20=0,\" \",COUNTRY_INFO!A20)","v":"Mali"},{"$f":"IF(COUNTRY_INFO!B20=0,\" \",COUNTRY_INFO!B20)","v":"Menaka"},{"$f":"IF(COUNTRY_INFO!C20=0,\" \",COUNTRY_INFO!C20)","v":"Menaka"},{"$f":"IF(OR(COUNTRY_INFO!$Z20=\"T3 (ALB/MBD)\",COUNTRY_INFO!$AA20=\"T3 (ALB/MBD)\"), \"T3 (ALB/MBD)\", \" \")","v":" "},null,null,null,null,0,null,null,null,0," "," "," "," "]
[{"$f":"IF(COUNTRY_INFO!A21=0,\" \",COUNTRY_INFO!A21)","v":"Mali"},{"$f":"IF(COUNTRY_INFO!B21=0,\" \",COUNTRY_INFO!B21)","v":"Menaka"},{"$f":"IF(COUNTRY_INFO!C21=0,\" \",COUNTRY_INFO!C21)","v":"Anderamboukane"},{"$f":"IF(OR(COUNTRY_INFO!$Z21=\"T3 (ALB/MBD)\",COUNTRY_INFO!$AA21=\"T3 (ALB/MBD)\"), \"T3 (ALB/MBD)\", \" \")","v":" "},null,null,null,null,0,null,null,null,0," "," "," "," "]
[{"$f":"IF(COUNTRY_INFO!A22=0,\" \",COUNTRY_INFO!A22)","v":"Mali"},{"$f":"IF(COUNTRY_INFO!B22=0,\" \",COUNTRY_INFO!B22)","v":"Menaka"},{"$f":"IF(COUNTRY_INFO!C22=0,\" \",COUNTRY_INFO!C22)","v":"Inekar"},{"$f":"IF(OR(COUNTRY_INFO!$Z22=\"T3 (ALB/MBD)\",COUNTRY_INFO!$AA22=\"T3 (ALB/MBD)\"), \"T3 (ALB/MBD)\", \" \")","v":" "},null,null,null,null,0,null,null,null,0," "," "," "," "]
[{"$f":"IF(COUNTRY_INFO!A23=0,\" \",COUNTRY_INFO!A23)","v":"Mali"},{"$f":"IF(COUNTRY_INFO!B23=0,\" \",COUNTRY_INFO!B23)","v":"Menaka"},{"$f":"IF(COUNTRY_INFO!C23=0,\" \",COUNTRY_INFO!C23)","v":"Tidermene"},{"$f":"IF(OR(COUNTRY_INFO!$Z23=\"T3 (ALB/MBD)\",COUNTRY_INFO!$AA23=\"T3 (ALB/MBD)\"), \"T3 (ALB/MBD)\", \" \")","v":" "},null,null,null,null,0,null,null,null,0," "," "," "," "]
[{"$f":"IF(COUNTRY_INFO!A24=0,\" \",COUNTRY_INFO!A24)","v":"Mali"},{"$f":"IF(COUNTRY_INFO!B24=0,\" \",COUNTRY_INFO!B24)","v":"Kayes"},{"$f":"IF(COUNTRY_INFO!C24=0,\" \",COUNTRY_INFO!C24)","v":"Bafoulabe"},{"$f":"IF(OR(COUNTRY_INFO!$Z24=\"T3 (ALB/MBD)\",COUNTRY_INFO!$AA24=\"T3 (ALB/MBD)\"), \"T3 (ALB/MBD)\", \" \")","v":" "},null,null,null,null,0,null,null,null,0," "," "," "," "]
[{"$f":"IF(COUNTRY_INFO!A25=0,\" \",COUNTRY_INFO!A25)","v":"Mali"},{"$f":"IF(COUNTRY_INFO!B25=0,\" \",COUNTRY_INFO!B25)","v":"Kayes"},{"$f":"IF(COUNTRY_INFO!C25=0,\" \",COUNTRY_INFO!C25)","v":"Diema"},{"$f":"IF(OR(COUNTRY_INFO!$Z25=\"T3 (ALB/MBD)\",COUNTRY_INFO!$AA25=\"T3 (ALB/MBD)\"), \"T3 (ALB/MBD)\", \" \")","v":" "},null,null,null,null,0,null,null,null,0," "," "," "," "]
[{"$f":"IF(COUNTRY_INFO!A26=0,\" \",COUNTRY_INFO!A26)","v":"Mali"},{"$f":"IF(COUNTRY_INFO!B26=0,\" \",COUNTRY_INFO!B26)","v":"Kayes"},{"$f":"IF(COUNTRY_INFO!C26=0,\" \",COUNTRY_INFO!C26)","v":"Kayes"},{"$f":"IF(OR(COUNTRY_INFO!$Z26=\"T3 (ALB/MBD)\",COUNTRY_INFO!$AA26=\"T3 (ALB/MBD)\"), \"T3 (ALB/MBD)\", \" \")","v":" "},null,null,null,null,0,null,null,null,0," "," "," "," "]
[{"$f":"IF(COUNTRY_INFO!A27=0,\" \",COUNTRY_INFO!A27)","v":"Mali"},{"$f":"IF(COUNTRY_INFO!B27=0,\" \",COUNTRY_INFO!B27)","v":"Kayes"},{"$f":"IF(COUNTRY_INFO!C27=0,\" \",COUNTRY_INFO!C27)","v":"Kenieba"},{"$f":"IF(OR(COUNTRY_INFO!$Z27=\"T3 (ALB/MBD)\",COUNTRY_INFO!$AA27=\"T3 (ALB/MBD)\"), \"T3 (ALB/MBD)\", \" \")","v":" "},null,null,null,null,0,null,null,null,0," "," "," "," "]
[{"$f":"IF(COUNTRY_INFO!A28=0,\" \",COUNTRY_INFO!A28)","v":"Mali"},{"$f":"IF(COUNTRY_INFO!B28=0,\" \",COUNTRY_INFO!B28)","v":"Kayes"},{"$f":"IF(COUNTRY_INFO!C28=0,\" \",COUNTRY_INFO!C28)","v":"Kita"},{"$f":"IF(OR(COUNTRY_INFO!$Z28=\"T3 (ALB/MBD)\",COUNTRY_INFO!$AA28=\"T3 (ALB/MBD)\"), \"T3 (ALB/MBD)\", \" \")","v":" "},null,null,null,null,0,null,null,null,0," "," "," "," "]
[{"$f":"IF(COUNTRY_INFO!A29=0,\" \",COUNTRY_INFO!A29)","v":"Mali"},{"$f":"IF(COUNTRY_INFO!B29=0,\" \",COUNTRY_INFO!B29)","v":"Kayes"},{"$f":"IF(COUNTRY_INFO!C29=0,\" \",COUNTRY_INFO!C29)","v":"Sagabari"},{"$f":"IF(OR(COUNTRY_INFO!$Z29=\"T3 (ALB/MBD)\",COUNTRY_INFO!$AA29=\"T3 (ALB/MBD)\"), \"T3 (ALB/MBD)\", \" \")","v":" "},null,null,null,null,0,null,null,null,0," "," "," "," "]
[{"$f":"IF(COUNTRY_INFO!A30=0,\" \",COUNTRY_INFO!A30)","v":"Mali"},{"$f":"IF(COUNTRY_INFO!B30=0,\" \",COUNTRY_INFO!B30)","v":"Kayes"},{"$f":"IF(COUNTRY_INFO!C30=0,\" \",COUNTRY_INFO!C30)","v":"Sefeto"},{"$f":"IF(OR(COUNTRY_INFO!$Z30=\"T3 (ALB/MBD)\",COUNTRY_INFO!$AA30=\"T3 (ALB/MBD)\"), \"T3 (ALB/MBD)\", \" \")","v":" "},null,null,null,null,0,null,null,null,0," "," "," "," "]
[{"$f":"IF(COUNTRY_INFO!A31=0,\" \",COUNTRY_INFO!A31)","v":"Mali"},{"$f":"IF(COUNTRY_INFO!B31=0,\" \",COUNTRY_INFO!B31)","v":"Kayes"},{"$f":"IF(COUNTRY_INFO!C31=0,\" \",COUNTRY_INFO!C31)","v":"Nioro"},{"$f":"IF(OR(COUNTRY_INFO!$Z31=\"T3 (ALB/MBD)\",COUNTRY_INFO!$AA31=\"T3 (ALB/MBD)\"), \"T3 (ALB/MBD)\", \" \")","v":" "},null,null,null,null,0,null,null,null,0," "," "," "," "]
[{"$f":"IF(COUNTRY_INFO!A32=0,\" \",COUNTRY_INFO!A32)","v":"Mali"},{"$f":"IF(COUNTRY_INFO!B32=0,\" \",COUNTRY_INFO!B32)","v":"Kayes"},{"$f":"IF(COUNTRY_INFO!C32=0,\" \",COUNTRY_INFO!C32)","v":"Oussoubidiagna"},{"$f":"IF(OR(COUNTRY_INFO!$Z32=\"T3 (ALB/MBD)\",COUNTRY_INFO!$AA32=\"T3 (ALB/MBD)\"), \"T3 (ALB/MBD)\", \" \")","v":" "},null,null,null,null,0,null,null,null,0," "," "," "," "]
[{"$f":"IF(COUNTRY_INFO!A33=0,\" \",COUNTRY_INFO!A33)","v":"Mali"},{"$f":"IF(COUNTRY_INFO!B33=0,\" \",COUNTRY_INFO!B33)","v":"Kayes"},{"$f":"IF(COUNTRY_INFO!C33=0,\" \",COUNTRY_INFO!C33)","v":"Yelimane"},{"$f":"IF(OR(COUNTRY_INFO!$Z33=\"T3 (ALB/MBD)\",COUNTRY_INFO!$AA33=\"T3 (ALB/MBD)\"), \"T3 (ALB/MBD)\", \" \")","v":" "},null,null,null,null,0,null,null,null,0," "," "," "," "]
[{"$f":"IF(COUNTRY_INFO!A34=0,\" \",COUNTRY_INFO!A34)","v":"Mali"},{"$f":"IF(COUNTRY_INFO!B34=0,\" \",COUNTRY_INFO!B34)","v":"Kidal"},{"$f":"IF(COUNTRY_INFO!C34=0,\" \",COUNTRY_INFO!C34)","v":"Abeibara"},{"$f":"IF(OR(COUNTRY_INFO!$Z34=\"T3 (ALB/MBD)\",COUNTRY_INFO!$AA34=\"T3 (ALB/MBD)\"), \"T3 (ALB/MBD)\", \" \")","v":" "},null,null,null,null,0,null,null,null,0," "," "," "," "]
[{"$f":"IF(COUNTRY_INFO!A35=0,\" \",COUNTRY_INFO!A35)","v":"Mali"},{"$f":"IF(COUNTRY_INFO!B35=0,\" \",COUNTRY_INFO!B35)","v":"Kidal"},{"$f":"IF(COUNTRY_INFO!C35=0,\" \",COUNTRY_INFO!C35)","v":"Kidal"},{"$f":"IF(OR(COUNTRY_INFO!$Z35=\"T3 (ALB/MBD)\",COUNTRY_INFO!$AA35=\"T3 (ALB/MBD)\"), \"T3 (ALB/MBD)\", \" \")","v":" "},null,null,null,null,0,null,null,null,0," "," "," "," "]
[{"$f":"IF(COUNTRY_INFO!A36=0,\" \",COUNTRY_INFO!A36)","v":"Mali"},{"$f":"IF(COUNTRY_INFO!B36=0,\" \",COUNTRY_INFO!B36)","v":"Kidal"},{"$f":"IF(COUNTRY_INFO!C36=0,\" \",COUNTRY_INFO!C36)","v":"Tessalit"},{"$f":"IF(OR(COUNTRY_INFO!$Z36=\"T3 (ALB/MBD)\",COUNTRY_INFO!$AA36=\"T3 (ALB/MBD)\"), \"T3 (ALB/MBD)\", \" \")","v":" "},null,null,null,null,0,null,null,null,0," "," "," "," "]
[{"$f":"IF(COUNTRY_INFO!A37=0,\" \",COUNTRY_INFO!A37)","v":"Mali"},{"$f":"IF(COUNTRY_INFO!B37=0,\" \",COUNTRY_INFO!B37)","v":"Kidal"},{"$f":"IF(COUNTRY_INFO!C37=0,\" \",COUNTRY_INFO!C37)","v":"Tin-Essako"},{"$f":"IF(OR(COUNTRY_INFO!$Z37=\"T3 (ALB/MBD)\",COUNTRY_INFO!$AA37=\"T3 (ALB/MBD)\"), \"T3 (ALB/MBD)\", \" \")","v":" "},null,null,null,null,0,null,null,null,0," "," "," "," "]
[{"$f":"IF(COUNTRY_INFO!A38=0,\" \",COUNTRY_INFO!A38)","v":"Mali"},{"$f":"IF(COUNTRY_INFO!B38=0,\" \",COUNTRY_INFO!B38)","v":"Koulikoro"},{"$f":"IF(COUNTRY_INFO!C38=0,\" \",COUNTRY_INFO!C38)","v":"Banamba"},{"$f":"IF(OR(COUNTRY_INFO!$Z38=\"T3 (ALB/MBD)\",COUNTRY_INFO!$AA38=\"T3 (ALB/MBD)\"), \"T3 (ALB/MBD)\", \" \")","v":" "},null,null,null,null,0,null,null,null,0," "," "," "," "]
[{"$f":"IF(COUNTRY_INFO!A39=0,\" \",COUNTRY_INFO!A39)","v":"Mali"},{"$f":"IF(COUNTRY_INFO!B39=0,\" \",COUNTRY_INFO!B39)","v":"Koulikoro"},{"$f":"IF(COUNTRY_INFO!C39=0,\" \",COUNTRY_INFO!C39)","v":"Dioila"},{"$f":"IF(OR(COUNTRY_INFO!$Z39=\"T3 (ALB/MBD)\",COUNTRY_INFO!$AA39=\"T3 (ALB/MBD)\"), \"T3 (ALB/MBD)\", \" \")","v":" "},null,null,null,null,0,null,null,null,0," "," "," "," "]
[{"$f":"IF(COUNTRY_INFO!A40=0,\" \",COUNTRY_INFO!A40)","v":"Mali"},{"$f":"IF(COUNTRY_INFO!B40=0,\" \",COUNTRY_INFO!B40)","v":"Koulikoro"},{"$f":"IF(COUNTRY_INFO!C40=0,\" \",COUNTRY_INFO!C40)","v":"Fana"},{"$f":"IF(OR(COUNTRY_INFO!$Z40=\"T3 (ALB/MBD)\",COUNTRY_INFO!$AA40=\"T3 (ALB/MBD)\"), \"T3 (ALB/MBD)\", \" \")","v":" "},null,null,null,null,0,null,null,null,0," "," "," "," "]
[{"$f":"IF(COUNTRY_INFO!A41=0,\" \",COUNTRY_INFO!A41)","v":"Mali"},{"$f":"IF(COUNTRY_INFO!B41=0,\" \",COUNTRY_INFO!B41)","v":"Koulikoro"},{"$f":"IF(COUNTRY_INFO!C41=0,\" \",COUNTRY_INFO!C41)","v":"Kalabancoro"},{"$f":"IF(OR(COUNTRY_INFO!$Z41=\"T3 (ALB/MBD)\",COUNTRY_INFO!$AA41=\"T3 (ALB/MBD)\"), \"T3 (ALB/MBD)\", \" \")","v":" "},null,null,null,null,0,null,null,null,0," "," "," "," "]
[{"$f":"IF(COUNTRY_INFO!A42=0,\" \",COUNTRY_INFO!A42)","v":"Mali"},{"$f":"IF(COUNTRY_INFO!B42=0,\" \",COUNTRY_INFO!B42)","v":"Koulikoro"},{"$f":"IF(COUNTRY_INFO!C42=0,\" \",COUNTRY_INFO!C42)","v":"Kangaba"},{"$f":"IF(OR(COUNTRY_INFO!$Z42=\"T3 (ALB/MBD)\",COUNTRY_INFO!$AA42=\"T3 (ALB/MBD)\"), \"T3 (ALB/MBD)\", \" \")","v":" "},null,null,null,null,0,null,null,null,0," "," "," "," "]
[{"$f":"IF(COUNTRY_INFO!A43=0,\" \",COUNTRY_INFO!A43)","v":"Mali"},{"$f":"IF(COUNTRY_INFO!B43=0,\" \",COUNTRY_INFO!B43)","v":"Koulikoro"},{"$f":"IF(COUNTRY_INFO!C43=0,\" \",COUNTRY_INFO!C43)","v":"Kati"},{"$f":"IF(OR(COUNTRY_INFO!$Z43=\"T3 (ALB/MBD)\",COUNTRY_INFO!$AA43=\"T3 (ALB/MBD)\"), \"T3 (ALB/MBD)\", \" \")","v":" "},null,null,null,null,0,null,null,null,0," "," "," "," "]
[{"$f":"IF(COUNTRY_INFO!A44=0,\" \",COUNTRY_INFO!A44)","v":"Mali"},{"$f":"IF(COUNTRY_INFO!B44=0,\" \",COUNTRY_INFO!B44)","v":"Koulikoro"},{"$f":"IF(COUNTRY_INFO!C44=0,\" \",COUNTRY_INFO!C44)","v":"Kolokani"},{"$f":"IF(OR(COUNTRY_INFO!$Z44=\"T3 (ALB/MBD)\",COUNTRY_INFO!$AA44=\"T3 (ALB/MBD)\"), \"T3 (ALB/MBD)\", \" \")","v":" "},null,null,null,null,0,null,null,null,0," "," "," "," "]
[{"$f":"IF(COUNTRY_INFO!A45=0,\" \",COUNTRY_INFO!A45)","v":"Mali"},{"$f":"IF(COUNTRY_INFO!B45=0,\" \",COUNTRY_INFO!B45)","v":"Koulikoro"},{"$f":"IF(COUNTRY_INFO!C45=0,\" \",COUNTRY_INFO!C45)","v":"Koulikoro"},{"$f":"IF(OR(COUNTRY_INFO!$Z45=\"T3 (ALB/MBD)\",COUNTRY_INFO!$AA45=\"T3 (ALB/MBD)\"), \"T3 (ALB/MBD)\", \" \")","v":" "},null,null,null,null,0,null,null,null,0," "," "," "," "]
[{"$f":"IF(COUNTRY_INFO!A46=0,\" \",COUNTRY_INFO!A46)","v":"Mali"},{"$f":"IF(COUNTRY_INFO!B46=0,\" \",COUNTRY_INFO!B46)","v":"Koulikoro"},{"$f":"IF(COUNTRY_INFO!C46=0,\" \",COUNTRY_INFO!C46)","v":"Nara"},{"$f":"IF(OR(COUNTRY_INFO!$Z46=\"T3 (ALB/MBD)\",COUNTRY_INFO!$AA46=\"T3 (ALB/MBD)\"), \"T3 (ALB/MBD)\", \" \")","v":" "},null,null,null,null,0,null,null,null,0," "," "," "," "]
[{"$f":"IF(COUNTRY_INFO!A47=0,\" \",COUNTRY_INFO!A47)","v":"Mali"},{"$f":"IF(COUNTRY_INFO!B47=0,\" \",COUNTRY_INFO!B47)","v":"Koulikoro"},{"$f":"IF(COUNTRY_INFO!C47=0,\" \",COUNTRY_INFO!C47)","v":"Ouelessebougou"},{"$f":"IF(OR(COUNTRY_INFO!$Z47=\"T3 (ALB/MBD)\",COUNTRY_INFO!$AA47=\"T3 (ALB/MBD)\"), \"T3 (ALB/MBD)\", \" \")","v":" "},null,null,null,null,0,null,null,null,0," "," "," "," "]
[{"$f":"IF(COUNTRY_INFO!A48=0,\" \",COUNTRY_INFO!A48)","v":"Mali"},{"$f":"IF(COUNTRY_INFO!B48=0,\" \",COUNTRY_INFO!B48)","v":"Mopti"},{"$f":"IF(COUNTRY_INFO!C48=0,\" \",COUNTRY_INFO!C48)","v":"Bandiagara"},{"$f":"IF(OR(COUNTRY_INFO!$Z48=\"T3 (ALB/MBD)\",COUNTRY_INFO!$AA48=\"T3 (ALB/MBD)\"), \"T3 (ALB/MBD)\", \" \")","v":" "},null,null,null,null,0,null,null,null,0," "," "," "," "]
[{"$f":"IF(COUNTRY_INFO!A49=0,\" \",COUNTRY_INFO!A49)","v":"Mali"},{"$f":"IF(COUNTRY_INFO!B49=0,\" \",COUNTRY_INFO!B49)","v":"Mopti"},{"$f":"IF(COUNTRY_INFO!C49=0,\" \",COUNTRY_INFO!C49)","v":"Bankass"},{"$f":"IF(OR(COUNTRY_INFO!$Z49=\"T3 (ALB/MBD)\",COUNTRY_INFO!$AA49=\"T3 (ALB/MBD)\"), \"T3 (ALB/MBD)\", \" \")","v":" "},null,null,null,null,0,null,null,null,0," "," "," "," "]
[{"$f":"IF(COUNTRY_INFO!A50=0,\" \",COUNTRY_INFO!A50)","v":"Mali"},{"$f":"IF(COUNTRY_INFO!B50=0,\" \",COUNTRY_INFO!B50)","v":"Mopti"},{"$f":"IF(COUNTRY_INFO!C50=0,\" \",COUNTRY_INFO!C50)","v":"Djenne"},{"$f":"IF(OR(COUNTRY_INFO!$Z50=\"T3 (ALB/MBD)\",COUNTRY_INFO!$AA50=\"T3 (ALB/MBD)\"), \"T3 (ALB/MBD)\", \" \")","v":" "},null,null,null,null,0,null,null,null,0," "," "," "," "]
[{"$f":"IF(COUNTRY_INFO!A51=0,\" \",COUNTRY_INFO!A51)","v":"Mali"},{"$f":"IF(COUNTRY_INFO!B51=0,\" \",COUNTRY_INFO!B51)","v":"Mopti"},{"$f":"IF(COUNTRY_INFO!C51=0,\" \",COUNTRY_INFO!C51)","v":"Douentza"},{"$f":"IF(OR(COUNTRY_INFO!$Z51=\"T3 (ALB/MBD)\",COUNTRY_INFO!$AA51=\"T3 (ALB/MBD)\"), \"T3 (ALB/MBD)\", \" \")","v":" "},null,null,null,null,0,null,null,null,0," "," "," "," "]
[{"$f":"IF(COUNTRY_INFO!A52=0,\" \",COUNTRY_INFO!A52)","v":"Mali"},{"$f":"IF(COUNTRY_INFO!B52=0,\" \",COUNTRY_INFO!B52)","v":"Mopti"},{"$f":"IF(COUNTRY_INFO!C52=0,\" \",COUNTRY_INFO!C52)","v":"Koro"},{"$f":"IF(OR(COUNTRY_INFO!$Z52=\"T3 (ALB/MBD)\",COUNTRY_INFO!$AA52=\"T3 (ALB/MBD)\"), \"T3 (ALB/MBD)\", \" \")","v":" "},null,null,null,null,0,null,null,null,0," "," "," "," "]
[{"$f":"IF(COUNTRY_INFO!A53=0,\" \",COUNTRY_INFO!A53)","v":"Mali"},{"$f":"IF(COUNTRY_INFO!B53=0,\" \",COUNTRY_INFO!B53)","v":"Mopti"},{"$f":"IF(COUNTRY_INFO!C53=0,\" \",COUNTRY_INFO!C53)","v":"Mopti"},{"$f":"IF(OR(COUNTRY_INFO!$Z53=\"T3 (ALB/MBD)\",COUNTRY_INFO!$AA53=\"T3 (ALB/MBD)\"), \"T3 (ALB/MBD)\", \" \")","v":" "},null,null,null,null,0,null,null,null,0," "," "," "," "]
[{"$f":"IF(COUNTRY_INFO!A54=0,\" \",COUNTRY_INFO!A54)","v":"Mali"},{"$f":"IF(COUNTRY_INFO!B54=0,\" \",COUNTRY_INFO!B54)","v":"Mopti"},{"$f":"IF(COUNTRY_INFO!C54=0,\" \",COUNTRY_INFO!C54)","v":"Teninkou"},{"$f":"IF(OR(COUNTRY_INFO!$Z54=\"T3 (ALB/MBD)\",COUNTRY_INFO!$AA54=\"T3 (ALB/MBD)\"), \"T3 (ALB/MBD)\", \" \")","v":" "},null,null,null,null,0,null,null,null,0," "," "," "," "]
[{"$f":"IF(COUNTRY_INFO!A55=0,\" \",COUNTRY_INFO!A55)","v":"Mali"},{"$f":"IF(COUNTRY_INFO!B55=0,\" \",COUNTRY_INFO!B55)","v":"Mopti"},{"$f":"IF(COUNTRY_INFO!C55=0,\" \",COUNTRY_INFO!C55)","v":"Youwarou"},{"$f":"IF(OR(COUNTRY_INFO!$Z55=\"T3 (ALB/MBD)\",COUNTRY_INFO!$AA55=\"T3 (ALB/MBD)\"), \"T3 (ALB/MBD)\", \" \")","v":" "},null,null,null,null,0,null,null,null,0," "," "," "," "]
[{"$f":"IF(COUNTRY_INFO!A56=0,\" \",COUNTRY_INFO!A56)","v":"Mali"},{"$f":"IF(COUNTRY_INFO!B56=0,\" \",COUNTRY_INFO!B56)","v":"Segou"},{"$f":"IF(COUNTRY_INFO!C56=0,\" \",COUNTRY_INFO!C56)","v":"Barouéli"},{"$f":"IF(OR(COUNTRY_INFO!$Z56=\"T3 (ALB/MBD)\",COUNTRY_INFO!$AA56=\"T3 (ALB/MBD)\"), \"T3 (ALB/MBD)\", \" \")","v":" "},null,null,null,null,0,null,null,null,0," "," "," "," "]
[{"$f":"IF(COUNTRY_INFO!A57=0,\" \",COUNTRY_INFO!A57)","v":"Mali"},{"$f":"IF(COUNTRY_INFO!B57=0,\" \",COUNTRY_INFO!B57)","v":"Segou"},{"$f":"IF(COUNTRY_INFO!C57=0,\" \",COUNTRY_INFO!C57)","v":"Bla"},{"$f":"IF(OR(COUNTRY_INFO!$Z57=\"T3 (ALB/MBD)\",COUNTRY_INFO!$AA57=\"T3 (ALB/MBD)\"), \"T3 (ALB/MBD)\", \" \")","v":" "},null,null,null,null,0,null,null,null,0," "," "," "," "]
[{"$f":"IF(COUNTRY_INFO!A58=0,\" \",COUNTRY_INFO!A58)","v":"Mali"},{"$f":"IF(COUNTRY_INFO!B58=0,\" \",COUNTRY_INFO!B58)","v":"Segou"},{"$f":"IF(COUNTRY_INFO!C58=0,\" \",COUNTRY_INFO!C58)","v":"Macina"},{"$f":"IF(OR(COUNTRY_INFO!$Z58=\"T3 (ALB/MBD)\",COUNTRY_INFO!$AA58=\"T3 (ALB/MBD)\"), \"T3 (ALB/MBD)\", \" \")","v":" "},null,null,null,null,0,null,null,null,0," "," "," "," "]
[{"$f":"IF(COUNTRY_INFO!A59=0,\" \",COUNTRY_INFO!A59)","v":"Mali"},{"$f":"IF(COUNTRY_INFO!B59=0,\" \",COUNTRY_INFO!B59)","v":"Segou"},{"$f":"IF(COUNTRY_INFO!C59=0,\" \",COUNTRY_INFO!C59)","v":"Markala"},{"$f":"IF(OR(COUNTRY_INFO!$Z59=\"T3 (ALB/MBD)\",COUNTRY_INFO!$AA59=\"T3 (ALB/MBD)\"), \"T3 (ALB/MBD)\", \" \")","v":" "},null,null,null,null,0,null,null,null,0," "," "," "," "]
[{"$f":"IF(COUNTRY_INFO!A60=0,\" \",COUNTRY_INFO!A60)","v":"Mali"},{"$f":"IF(COUNTRY_INFO!B60=0,\" \",COUNTRY_INFO!B60)","v":"Segou"},{"$f":"IF(COUNTRY_INFO!C60=0,\" \",COUNTRY_INFO!C60)","v":"Niono"},{"$f":"IF(OR(COUNTRY_INFO!$Z60=\"T3 (ALB/MBD)\",COUNTRY_INFO!$AA60=\"T3 (ALB/MBD)\"), \"T3 (ALB/MBD)\", \" \")","v":" "},null,null,null,null,0,null,null,null,0," "," "," "," "]
[{"$f":"IF(COUNTRY_INFO!A61=0,\" \",COUNTRY_INFO!A61)","v":"Mali"},{"$f":"IF(COUNTRY_INFO!B61=0,\" \",COUNTRY_INFO!B61)","v":"Segou"},{"$f":"IF(COUNTRY_INFO!C61=0,\" \",COUNTRY_INFO!C61)","v":"San"},{"$f":"IF(OR(COUNTRY_INFO!$Z61=\"T3 (ALB/MBD)\",COUNTRY_INFO!$AA61=\"T3 (ALB/MBD)\"), \"T3 (ALB/MBD)\", \" \")","v":" "},null,null,null,null,0,null,null,null,0," "," "," "," "]
[{"$f":"IF(COUNTRY_INFO!A62=0,\" \",COUNTRY_INFO!A62)","v":"Mali"},{"$f":"IF(COUNTRY_INFO!B62=0,\" \",COUNTRY_INFO!B62)","v":"Segou"},{"$f":"IF(COUNTRY_INFO!C62=0,\" \",COUNTRY_INFO!C62)","v":"Segou"},{"$f":"IF(OR(COUNTRY_INFO!$Z62=\"T3 (ALB/MBD)\",COUNTRY_INFO!$AA62=\"T3 (ALB/MBD)\"), \"T3 (ALB/MBD)\", \" \")","v":" "},null,null,null,null,0,null,null,null,0," "," "," "," "]
[{"$f":"IF(COUNTRY_INFO!A63=0,\" \",COUNTRY_INFO!A63)","v":"Mali"},{"$f":"IF(COUNTRY_INFO!B63=0,\" \",COUNTRY_INFO!B63)","v":"Segou"},{"$f":"IF(COUNTRY_INFO!C63=0,\" \",COUNTRY_INFO!C63)","v":"Tominian"},{"$f":"IF(OR(COUNTRY_INFO!$Z63=\"T3 (ALB/MBD)\",COUNTRY_INFO!$AA63=\"T3 (ALB/MBD)\"), \"T3 (ALB/MBD)\", \" \")","v":" "},null,null,null,null,0,null,null,null,0," "," "," "," "]
[{"$f":"IF(COUNTRY_INFO!A64=0,\" \",COUNTRY_INFO!A64)","v":"Mali"},{"$f":"IF(COUNTRY_INFO!B64=0,\" \",COUNTRY_INFO!B64)","v":"Sikasso"},{"$f":"IF(COUNTRY_INFO!C64=0,\" \",COUNTRY_INFO!C64)","v":"Bougouni"},{"$f":"IF(OR(COUNTRY_INFO!$Z64=\"T3 (ALB/MBD)\",COUNTRY_INFO!$AA64=\"T3 (ALB/MBD)\"), \"T3 (ALB/MBD)\", \" \")","v":" "},null,null,null,null,0,null,null,null,0," "," "," "," "]
[{"$f":"IF(COUNTRY_INFO!A65=0,\" \",COUNTRY_INFO!A65)","v":"Mali"},{"$f":"IF(COUNTRY_INFO!B65=0,\" \",COUNTRY_INFO!B65)","v":"Sikasso"},{"$f":"IF(COUNTRY_INFO!C65=0,\" \",COUNTRY_INFO!C65)","v":"Kadiolo"},{"$f":"IF(OR(COUNTRY_INFO!$Z65=\"T3 (ALB/MBD)\",COUNTRY_INFO!$AA65=\"T3 (ALB/MBD)\"), \"T3 (ALB/MBD)\", \" \")","v":" "},null,null,null,null,0,null,null,null,0," "," "," "," "]
[{"$f":"IF(COUNTRY_INFO!A66=0,\" \",COUNTRY_INFO!A66)","v":"Mali"},{"$f":"IF(COUNTRY_INFO!B66=0,\" \",COUNTRY_INFO!B66)","v":"Sikasso"},{"$f":"IF(COUNTRY_INFO!C66=0,\" \",COUNTRY_INFO!C66)","v":"Kignan"},{"$f":"IF(OR(COUNTRY_INFO!$Z66=\"T3 (ALB/MBD)\",COUNTRY_INFO!$AA66=\"T3 (ALB/MBD)\"), \"T3 (ALB/MBD)\", \" \")","v":" "},null,null,null,null,0,null,null,null,0," "," "," "," "]
[{"$f":"IF(COUNTRY_INFO!A67=0,\" \",COUNTRY_INFO!A67)","v":"Mali"},{"$f":"IF(COUNTRY_INFO!B67=0,\" \",COUNTRY_INFO!B67)","v":"Sikasso"},{"$f":"IF(COUNTRY_INFO!C67=0,\" \",COUNTRY_INFO!C67)","v":"Kolondieba"},{"$f":"IF(OR(COUNTRY_INFO!$Z67=\"T3 (ALB/MBD)\",COUNTRY_INFO!$AA67=\"T3 (ALB/MBD)\"), \"T3 (ALB/MBD)\", \" \")","v":" "},null,null,null,null,0,null,null,null,0," "," "," "," "]
[{"$f":"IF(COUNTRY_INFO!A68=0,\" \",COUNTRY_INFO!A68)","v":"Mali"},{"$f":"IF(COUNTRY_INFO!B68=0,\" \",COUNTRY_INFO!B68)","v":"Sikasso"},{"$f":"IF(COUNTRY_INFO!C68=0,\" \",COUNTRY_INFO!C68)","v":"Koutiala"},{"$f":"IF(OR(COUNTRY_INFO!$Z68=\"T3 (ALB/MBD)\",COUNTRY_INFO!$AA68=\"T3 (ALB/MBD)\"), \"T3 (ALB/MBD)\", \" \")","v":" "},null,null,null,null,0,null,null,null,0," "," "," "," "]
[{"$f":"IF(COUNTRY_INFO!A69=0,\" \",COUNTRY_INFO!A69)","v":"Mali"},{"$f":"IF(COUNTRY_INFO!B69=0,\" \",COUNTRY_INFO!B69)","v":"Sikasso"},{"$f":"IF(COUNTRY_INFO!C69=0,\" \",COUNTRY_INFO!C69)","v":"Niena"},{"$f":"IF(OR(COUNTRY_INFO!$Z69=\"T3 (ALB/MBD)\",COUNTRY_INFO!$AA69=\"T3 (ALB/MBD)\"), \"T3 (ALB/MBD)\", \" \")","v":" "},null,null,null,null,0,null,null,null,0," "," "," "," "]
[{"$f":"IF(COUNTRY_INFO!A70=0,\" \",COUNTRY_INFO!A70)","v":"Mali"},{"$f":"IF(COUNTRY_INFO!B70=0,\" \",COUNTRY_INFO!B70)","v":"Sikasso"},{"$f":"IF(COUNTRY_INFO!C70=0,\" \",COUNTRY_INFO!C70)","v":"Sélingué"},{"$f":"IF(OR(COUNTRY_INFO!$Z70=\"T3 (ALB/MBD)\",COUNTRY_INFO!$AA70=\"T3 (ALB/MBD)\"), \"T3 (ALB/MBD)\", \" \")","v":" "},null,null,null,null,0,null,null,null,0," "," "," "," "]
[{"$f":"IF(COUNTRY_INFO!A71=0,\" \",COUNTRY_INFO!A71)","v":"Mali"},{"$f":"IF(COUNTRY_INFO!B71=0,\" \",COUNTRY_INFO!B71)","v":"Sikasso"},{"$f":"IF(COUNTRY_INFO!C71=0,\" \",COUNTRY_INFO!C71)","v":"Sikasso"},{"$f":"IF(OR(COUNTRY_INFO!$Z71=\"T3 (ALB/MBD)\",COUNTRY_INFO!$AA71=\"T3 (ALB/MBD)\"), \"T3 (ALB/MBD)\", \" \")","v":" "},null,null,null,null,0,null,null,null,0," "," "," "," "]
[{"$f":"IF(COUNTRY_INFO!A72=0,\" \",COUNTRY_INFO!A72)","v":"Mali"},{"$f":"IF(COUNTRY_INFO!B72=0,\" \",COUNTRY_INFO!B72)","v":"Sikasso"},{"$f":"IF(COUNTRY_INFO!C72=0,\" \",COUNTRY_INFO!C72)","v":"Yanfolila"},{"$f":"IF(OR(COUNTRY_INFO!$Z72=\"T3 (ALB/MBD)\",COUNTRY_INFO!$AA72=\"T3 (ALB/MBD)\"), \"T3 (ALB/MBD)\", \" \")","v":" "},null,null,null,null,0,null,null,null,0," "," "," "," "]
[{"$f":"IF(COUNTRY_INFO!A73=0,\" \",COUNTRY_INFO!A73)","v":"Mali"},{"$f":"IF(COUNTRY_INFO!B73=0,\" \",COUNTRY_INFO!B73)","v":"Sikasso"},{"$f":"IF(COUNTRY_INFO!C73=0,\" \",COUNTRY_INFO!C73)","v":"Yorosso"},{"$f":"IF(OR(COUNTRY_INFO!$Z73=\"T3 (ALB/MBD)\",COUNTRY_INFO!$AA73=\"T3 (ALB/MBD)\"), \"T3 (ALB/MBD)\", \" \")","v":" "},null,null,null,null,0,null,null,null,0," "," "," "," "]
[{"$f":"IF(COUNTRY_INFO!A74=0,\" \",COUNTRY_INFO!A74)","v":"Mali"},{"$f":"IF(COUNTRY_INFO!B74=0,\" \",COUNTRY_INFO!B74)","v":"Tombouctou"},{"$f":"IF(COUNTRY_INFO!C74=0,\" \",COUNTRY_INFO!C74)","v":"Diré"},{"$f":"IF(OR(COUNTRY_INFO!$Z74=\"T3 (ALB/MBD)\",COUNTRY_INFO!$AA74=\"T3 (ALB/MBD)\"), \"T3 (ALB/MBD)\", \" \")","v":" "},null,null,null,null,0,null,null,null,0," "," "," "," "]
[{"$f":"IF(COUNTRY_INFO!A75=0,\" \",COUNTRY_INFO!A75)","v":"Mali"},{"$f":"IF(COUNTRY_INFO!B75=0,\" \",COUNTRY_INFO!B75)","v":"Tombouctou"},{"$f":"IF(COUNTRY_INFO!C75=0,\" \",COUNTRY_INFO!C75)","v":"Goundam"},{"$f":"IF(OR(COUNTRY_INFO!$Z75=\"T3 (ALB/MBD)\",COUNTRY_INFO!$AA75=\"T3 (ALB/MBD)\"), \"T3 (ALB/MBD)\", \" \")","v":" "},null,null,null,null,{"$f":"SUM(F75:H75)","v":0},null,null,null,{"$f":"SUM(J75:L75)","v":0},{"$f":"IF(F75<>0, IF(J75/F75*100=0, \"-\", J75/F75*100), \" \")","v":" "},{"$f":"IF(G75<>0, IF(K75/G75*100=0, \"-\", K75/G75*100), \" \")","v":" "},{"$f":"IF(H75<>0, IF(L75/H75*100=0, \"-\", L75/H75*100), \" \")","v":" "},{"$f":"IF(I75<>0, IF(M75/I75*100=0, \"-\", M75/I75*100), \" \")","v":" "}]
[{"$f":"IF(COUNTRY_INFO!A76=0,\" \",COUNTRY_INFO!A76)","v":"Mali"},{"$f":"IF(COUNTRY_INFO!B76=0,\" \",COUNTRY_INFO!B76)","v":"Tombouctou"},{"$f":"IF(COUNTRY_INFO!C76=0,\" \",COUNTRY_INFO!C76)","v":"Gourma-Rharous"},{"$f":"IF(OR(COUNTRY_INFO!$Z76=\"T3 (ALB/MBD)\",COUNTRY_INFO!$AA76=\"T3 (ALB/MBD)\"), \"T3 (ALB/MBD)\", \" \")","v":" "},null,null,null,null,0,null,null,null,0," "," "," "," "]
[{"$f":"IF(COUNTRY_INFO!A77=0,\" \",COUNTRY_INFO!A77)","v":"Mali"},{"$f":"IF(COUNTRY_INFO!B77=0,\" \",COUNTRY_INFO!B77)","v":"Tombouctou"},{"$f":"IF(COUNTRY_INFO!C77=0,\" \",COUNTRY_INFO!C77)","v":"Niafunké"},{"$f":"IF(OR(COUNTRY_INFO!$Z77=\"T3 (ALB/MBD)\",COUNTRY_INFO!$AA77=\"T3 (ALB/MBD)\"), \"T3 (ALB/MBD)\", \" \")","v":" "},null,null,null,null,0,null,null,null,0," "," "," "," "]
[{"$f":"IF(COUNTRY_INFO!A78=0,\" \",COUNTRY_INFO!A78)","v":"Mali"},{"$f":"IF(COUNTRY_INFO!B78=0,\" \",COUNTRY_INFO!B78)","v":"Tombouctou"},{"$f":"IF(COUNTRY_INFO!C78=0,\" \",COUNTRY_INFO!C78)","v":"Tombouctou"},{"$f":"IF(OR(COUNTRY_INFO!$Z78=\"T3 (ALB/MBD)\",COUNTRY_INFO!$AA78=\"T3 (ALB/MBD)\"), \"T3 (ALB/MBD)\", \" \")","v":" "},null,null,null,null,0,null,null,null,0," "," "," "," "]
[{"$f":"IF(COUNTRY_INFO!A79=0,\" \",COUNTRY_INFO!A79)","v":"Mali"},{"$f":"IF(COUNTRY_INFO!B79=0,\" \",COUNTRY_INFO!B79)","v":"Taoudenit"},{"$f":"IF(COUNTRY_INFO!C79=0,\" \",COUNTRY_INFO!C79)","v":"Achourat"},{"$f":"IF(OR(COUNTRY_INFO!$Z79=\"T3 (ALB/MBD)\",COUNTRY_INFO!$AA79=\"T3 (ALB/MBD)\"), \"T3 (ALB/MBD)\", \" \")","v":" "},null,null,null,null,0,null,null,null,0," "," "," "," "]
[{"$f":"IF(COUNTRY_INFO!A80=0,\" \",COUNTRY_INFO!A80)","v":"Mali"},{"$f":"IF(COUNTRY_INFO!B80=0,\" \",COUNTRY_INFO!B80)","v":"Taoudenit"},{"$f":"IF(COUNTRY_INFO!C80=0,\" \",COUNTRY_INFO!C80)","v":"Al-Ourch"},{"$f":"IF(OR(COUNTRY_INFO!$Z80=\"T3 (ALB/MBD)\",COUNTRY_INFO!$AA80=\"T3 (ALB/MBD)\"), \"T3 (ALB/MBD)\", \" \")","v":" "},null,null,null,null,0,null,null,null,0," "," "," "," "]
[{"$f":"IF(COUNTRY_INFO!A81=0,\" \",COUNTRY_INFO!A81)","v":"Mali"},{"$f":"IF(COUNTRY_INFO!B81=0,\" \",COUNTRY_INFO!B81)","v":"Taoudenit"},{"$f":"IF(COUNTRY_INFO!C81=0,\" \",COUNTRY_INFO!C81)","v":"Araouane"},{"$f":"IF(OR(COUNTRY_INFO!$Z81=\"T3 (ALB/MBD)\",COUNTRY_INFO!$AA81=\"T3 (ALB/MBD)\"), \"T3 (ALB/MBD)\", \" \")","v":" "},null,null,null,null,0,null,null,null,0," "," "," "," "]
[{"$f":"IF(COUNTRY_INFO!A82=0,\" \",COUNTRY_INFO!A82)","v":"Mali"},{"$f":"IF(COUNTRY_INFO!B82=0,\" \",COUNTRY_INFO!B82)","v":"Taoudenit"},{"$f":"IF(COUNTRY_INFO!C82=0,\" \",COUNTRY_INFO!C82)","v":"Boujbeha"},{"$f":"IF(OR(COUNTRY_INFO!$Z82=\"T3 (ALB/MBD)\",COUNTRY_INFO!$AA82=\"T3 (ALB/MBD)\"), \"T3 (ALB/MBD)\", \" \")","v":" "},null,null,null,null,0,null,null,null,0," "," "," "," "]
[{"$f":"IF(COUNTRY_INFO!A83=0,\" \",COUNTRY_INFO!A83)","v":"Mali"},{"$f":"IF(COUNTRY_INFO!B83=0,\" \",COUNTRY_INFO!B83)","v":"Taoudenit"},{"$f":"IF(COUNTRY_INFO!C83=0,\" \",COUNTRY_INFO!C83)","v":"Foum-Elba"},{"$f":"IF(OR(COUNTRY_INFO!$Z83=\"T3 (ALB/MBD)\",COUNTRY_INFO!$AA83=\"T3 (ALB/MBD)\"), \"T3 (ALB/MBD)\", \" \")","v":" "},null,null,null,null,0,null,null,null,0," "," "," "," "]
[{"$f":"IF(COUNTRY_INFO!A84=0,\" \",COUNTRY_INFO!A84)","v":"Mali"},{"$f":"IF(COUNTRY_INFO!B84=0,\" \",COUNTRY_INFO!B84)","v":"Taoudenit"},{"$f":"IF(COUNTRY_INFO!C84=0,\" \",COUNTRY_INFO!C84)","v":"Taoudenit"},{"$f":"IF(OR(COUNTRY_INFO!$Z84=\"T3 (ALB/MBD)\",COUNTRY_INFO!$AA84=\"T3 (ALB/MBD)\"), \"T3 (ALB/MBD)\", \" \")","v":" "},null,null,null,null,0,null,null,null,0," "," "," "," "]

{"sheet":"T3_R2","index":9,"n_rows":84,"n_cols":17,"rows_kept":84,"cut":false,"hidden":true,"merged":[[5,13,5,16],[0,5,0,7],[1,9,1,10],[1,11,1,12],[3,0,3,2],[5,0,5,2],[5,3,6,3],[5,4,6,4],[5,5,5,8],[5,9,5,12]]}
["T 3 - Albendazole (ALB) ou Mebendazole (MBD) - Tournée 2",null,null,null,null,"Choisir le médicament utilisé pour le traitement de la STH pour chaque groupe d'âge"]
["Structure administrative, population nécessitant une CP par groupe d'âge, population traitée par groupe d'âge et couverture",null,null,null,null,null,null,null,null,"Sélectionner la catégorie d’adultes"]
[]
["TOTAL",null,null,null,null,{"$f":"SUBTOTAL(9,F$10:F$1010)","v":0},0,0,0,0,0,0,0,{"$f":"IF(F4<>0, IF(J4/F4*100=0, \"-\", J4/F4*100), \" \")","v":" "},{"$f":"IF(G4<>0, IF(K4/G4*100=0, \"-\", K4/G4*100), \" \")","v":" "},{"$f":"IF(H4<>0, IF(L4/H4*100=0, \"-\", L4/H4*100), \" \")","v":" "},{"$f":"IF(I4<>0, IF(M4/I4*100=0, \"-\", M4/I4*100), \" \")","v":" "}]
[]
["Structure administrative du pays",null,null,"Mise en oeuvre \nde la CP","Date","Population ciblée pour T3",null,null,null,"Population traitée",null,null,null,"Couverture du Programme (%)"]
["Pays","Région/Département","District",null,null,"EAPréS","EAS","Adultes","Total","EAPréS","EAS","Adultes","Total","EAPréS","EAS","Adultes","Total"]
[]
[]
[{"$f":"IF(COUNTRY_INFO!A10=0,\" \",COUNTRY_INFO!A10)","v":"Mali"},{"$f":"IF(COUNTRY_INFO!B10=0,\" \",COUNTRY_INFO!B10)","v":"Bamako"},{"$f":"IF(COUNTRY_INFO!C10=0,\" \",COUNTRY_INFO!C10)","v":"Commune 1"},{"$f":"IF(AND(COUNTRY_INFO!$Z10=\"T3 (ALB/MBD)\",COUNTRY_INFO!$AA10=\"T3 (ALB/MBD)\"), \"T3 (ALB/MBD)\", \" \")","v":" "},null,null,null,null,{"$f":"SUM(F10:H10)","v":0},null,null,null,{"$f":"SUM(J10:L10)","v":0},{"$f":"IF(F10<>0, IF(J10/F10*100=0, \"-\", J10/F10*100), \" \")","v":" "}," "," "," "]
[{"$f":"IF(COUNTRY_INFO!A11=0,\" \",COUNTRY_INFO!A11)","v":"Mali"},{"$f":"IF(COUNTRY_INFO!B11=0,\" \",COUNTRY_INFO!B11)","v":"Bamako"},{"$f":"IF(COUNTRY_INFO!C11=0,\" \",COUNTRY_INFO!C11)","v":"Commune 2"},{"$f":"IF(AND(COUNTRY_INFO!$Z11=\"T3 (ALB/MBD)\",COUNTRY_INFO!$AA11=\"T3 (ALB/MBD)\"), \"T3 (ALB/MBD)\", \" \")","v":" "},null,null,null,null,{"$f":"SUM(F11:H11)","v":0},null,null,null,{"$f":"SUM(J11:L11)","v":0},{"$f":"IF(F11<>0, IF(J11/F11*100=0, \"-\", J11/F11*100), \" \")","v":" "},{"$f":"IF(G11<>0, IF(K11/G11*100=0, \"-\", K11/G11*100), \" \")","v":" "},{"$f":"IF(H11<>0, IF(L11/H11*100=0, \"-\", L11/H11*100), \" \")","v":" "},{"$f":"IF(I11<>0, IF(M11/I11*100=0, \"-\", M11/I11*100), \" \")","v":" "}]
[{"$f":"IF(COUNTRY_INFO!A12=0,\" \",COUNTRY_INFO!A12)","v":"Mali"},{"$f":"IF(COUNTRY_INFO!B12=0,\" \",COUNTRY_INFO!B12)","v":"Bamako"},{"$f":"IF(COUNTRY_INFO!C12=0,\" \",COUNTRY_INFO!C12)","v":"Commune 3"},{"$f":"IF(AND(COUNTRY_INFO!$Z12=\"T3 (ALB/MBD)\",COUNTRY_INFO!$AA12=\"T3 (ALB/MBD)\"), \"T3 (ALB/MBD)\", \" \")","v":" "},null,null,null,null,0,null,null,null,0," "," "," "," "]
[{"$f":"IF(COUNTRY_INFO!A13=0,\" \",COUNTRY_INFO!A13)","v":"Mali"},{"$f":"IF(COUNTRY_INFO!B13=0,\" \",COUNTRY_INFO!B13)","v":"Bamako"},{"$f":"IF(COUNTRY_INFO!C13=0,\" \",COUNTRY_INFO!C13)","v":"Commune 4"},{"$f":"IF(AND(COUNTRY_INFO!$Z13=\"T3 (ALB/MBD)\",COUNTRY_INFO!$AA13=\"T3 (ALB/MBD)\"), \"T3 (ALB/MBD)\", \" \")","v":" "},null,null,null,null,0,null,null,null,0," "," "," "," "]
[{"$f":"IF(COUNTRY_INFO!A14=0,\" \",COUNTRY_INFO!A14)","v":"Mali"},{"$f":"IF(COUNTRY_INFO!B14=0,\" \",COUNTRY_INFO!B14)","v":"Bamako"},{"$f":"IF(COUNTRY_INFO!C14=0,\" \",COUNTRY_INFO!C14)","v":"Commune 5"},{"$f":"IF(AND(COUNTRY_INFO!$Z14=\"T3 (ALB/MBD)\",COUNTRY_INFO!$AA14=\"T3 (ALB/MBD)\"), \"T3 (ALB/MBD)\", \" \")","v":" "},null,null,null,null,0,null,null,null,0," "," "," "," "]
[{"$f":"IF(COUNTRY_INFO!A15=0,\" \",COUNTRY_INFO!A15)","v":"Mali"},{"$f":"IF(COUNTRY_INFO!B15=0,\" \",COUNTRY_INFO!B15)","v":"Bamako"},{"$f":"IF(COUNTRY_INFO!C15=0,\" \",COUNTRY_INFO!C15)","v":"Commune 6"},{"$f":"IF(AND(COUNTRY_INFO!$Z15=\"T3 (ALB/MBD)\",COUNTRY_INFO!$AA15=\"T3 (ALB/MBD)\"), \"T3 (ALB/MBD)\", \" \")","v":" "},null,null,null,null,0,null,null,null,0," "," "," "," "]
[{"$f":"IF(COUNTRY_INFO!A16=0,\" \",COUNTRY_INFO!A16)","v":"Mali"},{"$f":"IF(COUNTRY_INFO!B16=0,\" \",COUNTRY_INFO!B16)","v":"Gao"},{"$f":"IF(COUNTRY_INFO!C16=0,\" \",COUNTRY_INFO!C16)","v":"Ansongo"},{"$f":"IF(AND(COUNTRY_INFO!$Z16=\"T3 (ALB/MBD)\",COUNTRY_INFO!$AA16=\"T3 (ALB/MBD)\"), \"T3 (ALB/MBD)\", \" \")","v":" "},null,null,null,null,0,null,null,null,0," "," "," "," "]
[{"$f":"IF(COUNTRY_INFO!A17=0,\" \",COUNTRY_INFO!A17)","v":"Mali"},{"$f":"IF(COUNTRY_INFO!B17=0,\" \",COUNTRY_INFO!B17)","v":"Gao"},{"$f":"IF(COUNTRY_INFO!C17=0,\" \",COUNTRY_INFO!C17)","v":"Bourem"},{"$f":"IF(AND(COUNTRY_INFO!$Z17=\"T3 (ALB/MBD)\",COUNTRY_INFO!$AA17=\"T3 (ALB/MBD)\"), \"T3 (ALB/MBD)\", \" \")","v":" "},null,null,null,null,0,null,null,null,0," "," "," "," "]
[{"$f":"IF(COUNTRY_INFO!A18=0,\" \",COUNTRY_INFO!A18)","v":"Mali"},{"$f":"IF(COUNTRY_INFO!B18=0,\" \",COUNTRY_INFO!B18)","v":"Gao"},{"$f":"IF(COUNTRY_INFO!C18=0,\" \",COUNTRY_INFO!C18)","v":"Almoustrat"},{"$f":"IF(AND(COUNTRY_INFO!$Z18=\"T3 (ALB/MBD)\",COUNTRY_INFO!$AA18=\"T3 (ALB/MBD)\"), \"T3 (ALB/MBD)\", \" \")","v":" "},null,null,null,null,0,null,null,null,0," "," "," "," "]
[{"$f":"IF(COUNTRY_INFO!A19=0,\" \",COUNTRY_INFO!A19)","v":"Mali"},{"$f":"IF(COUNTRY_INFO!B19=0,\" \",COUNTRY_INFO!B19)","v":"Gao"},{"$f":"IF(COUNTRY_INFO!C19=0,\" \",COUNTRY_INFO!C19)","v":"Gao"},{"$f":"IF(AND(COUNTRY_INFO!$Z19=\"T3 (ALB/MBD)\",COUNTRY_INFO!$AA19=\"T3 (ALB/MBD)\"), \"T3 (ALB/MBD)\", \" \")","v":" "},null,null,null,null,0,null,null,null,0," "," "," "," "]
[{"$f":"IF(COUNTRY_INFO!A20=0,\" \",COUNTRY_INFO!A20)","v":"Mali"},{"$f":"IF(COUNTRY_INFO!B20=0,\" \",COUNTRY_INFO!B20)","v":"Menaka"},{"$f":"IF(COUNTRY_INFO!C20=0,\" \",COUNTRY_INFO!C20)","v":"Menaka"},{"$f":"IF(AND(COUNTRY_INFO!$Z20=\"T3 (ALB/MBD)\",COUNTRY_INFO!$AA20=\"T3 (ALB/MBD)\"), \"T3 (ALB/MBD)\", \" \")","v":" "},null,null,null,null,0,null,null,null,0," "," "," "," "]
[{"$f":"IF(COUNTRY_INFO!A21=0,\" \",COUNTRY_INFO!A21)","v":"Mali"},{"$f":"IF(COUNTRY_INFO!B21=0,\" \",COUNTRY_INFO!B21)","v":"Menaka"},{"$f":"IF(COUNTRY_INFO!C21=0,\" \",COUNTRY_INFO!C21)","v":"Anderamboukane"},{"$f":"IF(AND(COUNTRY_INFO!$Z21=\"T3 (ALB/MBD)\",COUNTRY_INFO!$AA21=\"T3 (ALB/MBD)\"), \"T3 (ALB/MBD)\", \" \")","v":" "},null,null,null,null,0,null,null,null,0," "," "," "," "]
[{"$f":"IF(COUNTRY_INFO!A22=0,\" \",COUNTRY_INFO!A22)","v":"Mali"},{"$f":"IF(COUNTRY_INFO!B22=0,\" \",COUNTRY_INFO!B22)","v":"Menaka"},{"$f":"IF(COUNTRY_INFO!C22=0,\" \",COUNTRY_INFO!C22)","v":"Inekar"},{"$f":"IF(AND(COUNTRY_INFO!$Z22=\"T3 (ALB/MBD)\",COUNTRY_INFO!$AA22=\"T3 (ALB/MBD)\"), \"T3 (ALB/MBD)\", \" \")","v":" "},null,null,null,null,0,null,null,null,0," "," "," "," "]
[{"$f":"IF(COUNTRY_INFO!A23=0,\" \",COUNTRY_INFO!A23)","v":"Mali"},{"$f":"IF(COUNTRY_INFO!B23=0,\" \",COUNTRY_INFO!B23)","v":"Menaka"},{"$f":"IF(COUNTRY_INFO!C23=0,\" \",COUNTRY_INFO!C23)","v":"Tidermene"},{"$f":"IF(AND(COUNTRY_INFO!$Z23=\"T3 (ALB/MBD)\",COUNTRY_INFO!$AA23=\"T3 (ALB/MBD)\"), \"T3 (ALB/MBD)\", \" \")","v":" "},null,null,null,null,0,null,null,null,0," "," "," "," "]
[{"$f":"IF(COUNTRY_INFO!A24=0,\" \",COUNTRY_INFO!A24)","v":"Mali"},{"$f":"IF(COUNTRY_INFO!B24=0,\" \",COUNTRY_INFO!B24)","v":"Kayes"},{"$f":"IF(COUNTRY_INFO!C24=0,\" \",COUNTRY_INFO!C24)","v":"Bafoulabe"},{"$f":"IF(AND(COUNTRY_INFO!$Z24=\"T3 (ALB/MBD)\",COUNTRY_INFO!$AA24=\"T3 (ALB/MBD)\"), \"T3 (ALB/MBD)\", \" \")","v":" "},null,null,null,null,0,null,null,null,0," "," "," "," "]
[{"$f":"IF(COUNTRY_INFO!A25=0,\" \",COUNTRY_INFO!A25)","v":"Mali"},{"$f":"IF(COUNTRY_INFO!B25=0,\" \",COUNTRY_INFO!B25)","v":"Kayes"},{"$f":"IF(COUNTRY_INFO!C25=0,\" \",COUNTRY_INFO!C25)","v":"Diema"},{"$f":"IF(AND(COUNTRY_INFO!$Z25=\"T3 (ALB/MBD)\",COUNTRY_INFO!$AA25=\"T3 (ALB/MBD)\"), \"T3 (ALB/MBD)\", \" \")","v":" "},null,null,null,null,0,null,null,null,0," "," "," "," "]
[{"$f":"IF(COUNTRY_INFO!A26=0,\" \",COUNTRY_INFO!A26)","v":"Mali"},{"$f":"IF(COUNTRY_INFO!B26=0,\" \",COUNTRY_INFO!B26)","v":"Kayes"},{"$f":"IF(COUNTRY_INFO!C26=0,\" \",COUNTRY_INFO!C26)","v":"Kayes"},{"$f":"IF(AND(COUNTRY_INFO!$Z26=\"T3 (ALB/MBD)\",COUNTRY_INFO!$AA26=\"T3 (ALB/MBD)\"), \"T3 (ALB/MBD)\", \" \")","v":" "},null,null,null,null,0,null,null,null,0," "," "," "," "]
[{"$f":"IF(COUNTRY_INFO!A27=0,\" \",COUNTRY_INFO!A27)","v":"Mali"},{"$f":"IF(COUNTRY_INFO!B27=0,\" \",COUNTRY_INFO!B27)","v":"Kayes"},{"$f":"IF(COUNTRY_INFO!C27=0,\" \",COUNTRY_INFO!C27)","v":"Kenieba"},{"$f":"IF(AND(COUNTRY_INFO!$Z27=\"T3 (ALB/MBD)\",COUNTRY_INFO!$AA27=\"T3 (ALB/MBD)\"), \"T3 (ALB/MBD)\", \" \")","v":" "},null,null,null,null,0,null,null,null,0," "," "," "," "]
[{"$f":"IF(COUNTRY_INFO!A28=0,\" \",COUNTRY_INFO!A28)","v":"Mali"},{"$f":"IF(COUNTRY_INFO!B28=0,\" \",COUNTRY_INFO!B28)","v":"Kayes"},{"$f":"IF(COUNTRY_INFO!C28=0,\" \",COUNTRY_INFO!C28)","v":"Kita"},{"$f":"IF(AND(COUNTRY_INFO!$Z28=\"T3 (ALB/MBD)\",COUNTRY_INFO!$AA28=\"T3 (ALB/MBD)\"), \"T3 (ALB/MBD)\", \" \")","v":" "},null,null,null,null,0,null,null,null,0," "," "," "," "]
[{"$f":"IF(COUNTRY_INFO!A29=0,\" \",COUNTRY_INFO!A29)","v":"Mali"},{"$f":"IF(COUNTRY_INFO!B29=0,\" \",COUNTRY_INFO!B29)","v":"Kayes"},{"$f":"IF(COUNTRY_INFO!C29=0,\" \",COUNTRY_INFO!C29)","v":"Sagabari"},{"$f":"IF(AND(COUNTRY_INFO!$Z29=\"T3 (ALB/MBD)\",COUNTRY_INFO!$AA29=\"T3 (ALB/MBD)\"), \"T3 (ALB/MBD)\", \" \")","v":" "},null,null,null,null,0,null,null,null,0," "," "," "," "]
[{"$f":"IF(COUNTRY_INFO!A30=0,\" \",COUNTRY_INFO!A30)","v":"Mali"},{"$f":"IF(COUNTRY_INFO!B30=0,\" \",COUNTRY_INFO!B30)","v":"Kayes"},{"$f":"IF(COUNTRY_INFO!C30=0,\" \",COUNTRY_INFO!C30)","v":"Sefeto"},{"$f":"IF(AND(COUNTRY_INFO!$Z30=\"T3 (ALB/MBD)\",COUNTRY_INFO!$AA30=\"T3 (ALB/MBD)\"), \"T3 (ALB/MBD)\", \" \")","v":" "},null,null,null,null,0,null,null,null,0," "," "," "," "]
[{"$f":"IF(COUNTRY_INFO!A31=0,\" \",COUNTRY_INFO!A31)","v":"Mali"},{"$f":"IF(COUNTRY_INFO!B31=0,\" \",COUNTRY_INFO!B31)","v":"Kayes"},{"$f":"IF(COUNTRY_INFO!C31=0,\" \",COUNTRY_INFO!C31)","v":"Nioro"},{"$f":"IF(AND(COUNTRY_INFO!$Z31=\"T3 (ALB/MBD)\",COUNTRY_INFO!$AA31=\"T3 (ALB/MBD)\"), \"T3 (ALB/MBD)\", \" \")","v":" "},null,null,null,null,0,null,null,null,0," "," "," "," "]
[{"$f":"IF(COUNTRY_INFO!A32=0,\" \",COUNTRY_INFO!A32)","v":"Mali"},{"$f":"IF(COUNTRY_INFO!B32=0,\" \",COUNTRY_INFO!B32)","v":"Kayes"},{"$f":"IF(COUNTRY_INFO!C32=0,\" \",COUNTRY_INFO!C32)","v":"Oussoubidiagna"},{"$f":"IF(AND(COUNTRY_INFO!$Z32=\"T3 (ALB/MBD)\",COUNTRY_INFO!$AA32=\"T3 (ALB/MBD)\"), \"T3 (ALB/MBD)\", \" \")","v":" "},null,null,null,null,0,null,null,null,0," "," "," "," "]
[{"$f":"IF(COUNTRY_INFO!A33=0,\" \",COUNTRY_INFO!A33)","v":"Mali"},{"$f":"IF(COUNTRY_INFO!B33=0,\" \",COUNTRY_INFO!B33)","v":"Kayes"},{"$f":"IF(COUNTRY_INFO!C33=0,\" \",COUNTRY_INFO!C33)","v":"Yelimane"},{"$f":"IF(AND(COUNTRY_INFO!$Z33=\"T3 (ALB/MBD)\",COUNTRY_INFO!$AA33=\"T3 (ALB/MBD)\"), \"T3 (ALB/MBD)\", \" \")","v":" "},null,null,null,null,0,null,null,null,0," "," "," "," "]
[{"$f":"IF(COUNTRY_INFO!A34=0,\" \",COUNTRY_INFO!A34)","v":"Mali"},{"$f":"IF(COUNTRY_INFO!B34=0,\" \",COUNTRY_INFO!B34)","v":"Kidal"},{"$f":"IF(COUNTRY_INFO!C34=0,\" \",COUNTRY_INFO!C34)","v":"Abeibara"},{"$f":"IF(AND(COUNTRY_INFO!$Z34=\"T3 (ALB/MBD)\",COUNTRY_INFO!$AA34=\"T3 (ALB/MBD)\"), \"T3 (ALB/MBD)\", \" \")","v":" "},null,null,null,null,0,null,null,null,0," "," "," "," "]
[{"$f":"IF(COUNTRY_INFO!A35=0,\" \",COUNTRY_INFO!A35)","v":"Mali"},{"$f":"IF(COUNTRY_INFO!B35=0,\" \",COUNTRY_INFO!B35)","v":"Kidal"},{"$f":"IF(COUNTRY_INFO!C35=0,\" \",COUNTRY_INFO!C35)","v":"Kidal"},{"$f":"IF(AND(COUNTRY_INFO!$Z35=\"T3 (ALB/MBD)\",COUNTRY_INFO!$AA35=\"T3 (ALB/MBD)\"), \"T3 (ALB/MBD)\", \" \")","v":" "},null,null,null,null,0,null,null,null,0," "," "," "," "]
[{"$f":"IF(COUNTRY_INFO!A36=0,\" \",COUNTRY_INFO!A36)","v":"Mali"},{"$f":"IF(COUNTRY_INFO!B36=0,\" \",COUNTRY_INFO!B36)","v":"Kidal"},{"$f":"IF(COUNTRY_INFO!C36=0,\" \",COUNTRY_INFO!C36)","v":"Tessalit"},{"$f":"IF(AND(COUNTRY_INFO!$Z36=\"T3 (ALB/MBD)\",COUNTRY_INFO!$AA36=\"T3 (ALB/MBD)\"), \"T3 (ALB/MBD)\", \" \")","v":" "},null,null,null,null,0,null,null,null,0," "," "," "," "]
[{"$f":"IF(COUNTRY_INFO!A37=0,\" \",COUNTRY_INFO!A37)","v":"Mali"},{"$f":"IF(COUNTRY_INFO!B37=0,\" \",COUNTRY_INFO!B37)","v":"Kidal"},{"$f":"IF(COUNTRY_INFO!C37=0,\" \",COUNTRY_INFO!C37)","v":"Tin-Essako"},{"$f":"IF(AND(COUNTRY_INFO!$Z37=\"T3 (ALB/MBD)\",COUNTRY_INFO!$AA37=\"T3 (ALB/MBD)\"), \"T3 (ALB/MBD)\", \" \")","v":" "},null,null,null,null,0,null,null,null,0," "," "," "," "]
[{"$f":"IF(COUNTRY_INFO!A38=0,\" \",COUNTRY_INFO!A38)","v":"Mali"},{"$f":"IF(COUNTRY_INFO!B38=0,\" \",COUNTRY_INFO!B38)","v":"Koulikoro"},{"$f":"IF(COUNTRY_INFO!C38=0,\" \",COUNTRY_INFO!C38)","v":"Banamba"},{"$f":"IF(AND(COUNTRY_INFO!$Z38=\"T3 (ALB/MBD)\",COUNTRY_INFO!$AA38=\"T3 (ALB/MBD)\"), \"T3 (ALB/MBD)\", \" \")","v":" "},null,null,null,null,0,null,null,null,0," "," "," "," "]
[{"$f":"IF(COUNTRY_INFO!A39=0,\" \",COUNTRY_INFO!A39)","v":"Mali"},{"$f":"IF(COUNTRY_INFO!B39=0,\" \",COUNTRY_INFO!B39)","v":"Koulikoro"},{"$f":"IF(COUNTRY_INFO!C39=0,\" \",COUNTRY_INFO!C39)","v":"Dioila"},{"$f":"IF(AND(COUNTRY_INFO!$Z39=\"T3 (ALB/MBD)\",COUNTRY_INFO!$AA39=\"T3 (ALB/MBD)\"), \"T3 (ALB/MBD)\", \" \")","v":" "},null,null,null,null,0,null,null,null,0," "," "," "," "]
[{"$f":"IF(COUNTRY_INFO!A40=0,\" \",COUNTRY_INFO!A40)","v":"Mali"},{"$f":"IF(COUNTRY_INFO!B40=0,\" \",COUNTRY_INFO!B40)","v":"Koulikoro"},{"$f":"IF(COUNTRY_INFO!C40=0,\" \",COUNTRY_INFO!C40)","v":"Fana"},{"$f":"IF(AND(COUNTRY_INFO!$Z40=\"T3 (ALB/MBD)\",COUNTRY_INFO!$AA40=\"T3 (ALB/MBD)\"), \"T3 (ALB/MBD)\", \" \")","v":" "},null,null,null,null,0,null,null,null,0," "," "," "," "]
[{"$f":"IF(COUNTRY_INFO!A41=0,\" \",COUNTRY_INFO!A41)","v":"Mali"},{"$f":"IF(COUNTRY_INFO!B41=0,\" \",COUNTRY_INFO!B41)","v":"Koulikoro"},{"$f":"IF(COUNTRY_INFO!C41=0,\" \",COUNTRY_INFO!C41)","v":"Kalabancoro"},{"$f":"IF(AND(COUNTRY_INFO!$Z41=\"T3 (ALB/MBD)\",COUNTRY_INFO!$AA41=\"T3 (ALB/MBD)\"), \"T3 (ALB/MBD)\", \" \")","v":" "},null,null,null,null,0,null,null,null,0," "," "," "," "]
[{"$f":"IF(COUNTRY_INFO!A42=0,\" \",COUNTRY_INFO!A42)","v":"Mali"},{"$f":"IF(COUNTRY_INFO!B42=0,\" \",COUNTRY_INFO!B42)","v":"Koulikoro"},{"$f":"IF(COUNTRY_INFO!C42=0,\" \",COUNTRY_INFO!C42)","v":"Kangaba"},{"$f":"IF(AND(COUNTRY_INFO!$Z42=\"T3 (ALB/MBD)\",COUNTRY_INFO!$AA42=\"T3 (ALB/MBD)\"), \"T3 (ALB/MBD)\", \" \")","v":" "},null,null,null,null,0,null,null,null,0," "," "," "," "]
[{"$f":"IF(COUNTRY_INFO!A43=0,\" \",COUNTRY_INFO!A43)","v":"Mali"},{"$f":"IF(COUNTRY_INFO!B43=0,\" \",COUNTRY_INFO!B43)","v":"Koulikoro"},{"$f":"IF(COUNTRY_INFO!C43=0,\" \",COUNTRY_INFO!C43)","v":"Kati"},{"$f":"IF(AND(COUNTRY_INFO!$Z43=\"T3 (ALB/MBD)\",COUNTRY_INFO!$AA43=\"T3 (ALB/MBD)\"), \"T3 (ALB/MBD)\", \" \")","v":" "},null,null,null,null,0,null,null,null,0," "," "," "," "]
[{"$f":"IF(COUNTRY_INFO!A44=0,\" \",COUNTRY_INFO!A44)","v":"Mali"},{"$f":"IF(COUNTRY_INFO!B44=0,\" \",COUNTRY_INFO!B44)","v":"Koulikoro"},{"$f":"IF(COUNTRY_INFO!C44=0,\" \",COUNTRY_INFO!C44)","v":"Kolokani"},{"$f":"IF(AND(COUNTRY_INFO!$Z44=\"T3 (ALB/MBD)\",COUNTRY_INFO!$AA44=\"T3 (ALB/MBD)\"), \"T3 (ALB/MBD)\", \" \")","v":" "},null,null,null,null,0,null,null,null,0," "," "," "," "]
[{"$f":"IF(COUNTRY_INFO!A45=0,\" \",COUNTRY_INFO!A45)","v":"Mali"},{"$f":"IF(COUNTRY_INFO!B45=0,\" \",COUNTRY_INFO!B45)","v":"Koulikoro"},{"$f":"IF(COUNTRY_INFO!C45=0,\" \",COUNTRY_INFO!C45)","v":"Koulikoro"},{"$f":"IF(AND(COUNTRY_INFO!$Z45=\"T3 (ALB/MBD)\",COUNTRY_INFO!$AA45=\"T3 (ALB/MBD)\"), \"T3 (ALB/MBD)\", \" \")","v":" "},null,null,null,null,0,null,null,null,0," "," "," "," "]
[{"$f":"IF(COUNTRY_INFO!A46=0,\" \",COUNTRY_INFO!A46)","v":"Mali"},{"$f":"IF(COUNTRY_INFO!B46=0,\" \",COUNTRY_INFO!B46)","v":"Koulikoro"},{"$f":"IF(COUNTRY_INFO!C46=0,\" \",COUNTRY_INFO!C46)","v":"Nara"},{"$f":"IF(AND(COUNTRY_INFO!$Z46=\"T3 (ALB/MBD)\",COUNTRY_INFO!$AA46=\"T3 (ALB/MBD)\"), \"T3 (ALB/MBD)\", \" \")","v":" "},null,null,null,null,0,null,null,null,0," "," "," "," "]
[{"$f":"IF(COUNTRY_INFO!A47=0,\" \",COUNTRY_INFO!A47)","v":"Mali"},{"$f":"IF(COUNTRY_INFO!B47=0,\" \",COUNTRY_INFO!B47)","v":"Koulikoro"},{"$f":"IF(COUNTRY_INFO!C47=0,\" \",COUNTRY_INFO!C47)","v":"Ouelessebougou"},{"$f":"IF(AND(COUNTRY_INFO!$Z47=\"T3 (ALB/MBD)\",COUNTRY_INFO!$AA47=\"T3 (ALB/MBD)\"), \"T3 (ALB/MBD)\", \" \")","v":" "},null,null,null,null,0,null,null,null,0," "," "," "," "]
[{"$f":"IF(COUNTRY_INFO!A48=0,\" \",COUNTRY_INFO!A48)","v":"Mali"},{"$f":"IF(COUNTRY_INFO!B48=0,\" \",COUNTRY_INFO!B48)","v":"Mopti"},{"$f":"IF(COUNTRY_INFO!C48=0,\" \",COUNTRY_INFO!C48)","v":"Bandiagara"},{"$f":"IF(AND(COUNTRY_INFO!$Z48=\"T3 (ALB/MBD)\",COUNTRY_INFO!$AA48=\"T3 (ALB/MBD)\"), \"T3 (ALB/MBD)\", \" \")","v":" "},null,null,null,null,0,null,null,null,0," "," "," "," "]
[{"$f":"IF(COUNTRY_INFO!A49=0,\" \",COUNTRY_INFO!A49)","v":"Mali"},{"$f":"IF(COUNTRY_INFO!B49=0,\" \",COUNTRY_INFO!B49)","v":"Mopti"},{"$f":"IF(COUNTRY_INFO!C49=0,\" \",COUNTRY_INFO!C49)","v":"Bankass"},{"$f":"IF(AND(COUNTRY_INFO!$Z49=\"T3 (ALB/MBD)\",COUNTRY_INFO!$AA49=\"T3 (ALB/MBD)\"), \"T3 (ALB/MBD)\", \" \")","v":" "},null,null,null,null,0,null,null,null,0," "," "," "," "]
[{"$f":"IF(COUNTRY_INFO!A50=0,\" \",COUNTRY_INFO!A50)","v":"Mali"},{"$f":"IF(COUNTRY_INFO!B50=0,\" \",COUNTRY_INFO!B50)","v":"Mopti"},{"$f":"IF(COUNTRY_INFO!C50=0,\" \",COUNTRY_INFO!C50)","v":"Djenne"},{"$f":"IF(AND(COUNTRY_INFO!$Z50=\"T3 (ALB/MBD)\",COUNTRY_INFO!$AA50=\"T3 (ALB/MBD)\"), \"T3 (ALB/MBD)\", \" \")","v":" "},null,null,null,null,0,null,null,null,0," "," "," "," "]
[{"$f":"IF(COUNTRY_INFO!A51=0,\" \",COUNTRY_INFO!A51)","v":"Mali"},{"$f":"IF(COUNTRY_INFO!B51=0,\" \",COUNTRY_INFO!B51)","v":"Mopti"},{"$f":"IF(COUNTRY_INFO!C51=0,\" \",COUNTRY_INFO!C51)","v":"Douentza"},{"$f":"IF(AND(COUNTRY_INFO!$Z51=\"T3 (ALB/MBD)\",COUNTRY_INFO!$AA51=\"T3 (ALB/MBD)\"), \"T3 (ALB/MBD)\", \" \")","v":" "},null,null,null,null,0,null,null,null,0," "," "," "," "]
[{"$f":"IF(COUNTRY_INFO!A52=0,\" \",COUNTRY_INFO!A52)","v":"Mali"},{"$f":"IF(COUNTRY_INFO!B52=0,\" \",COUNTRY_INFO!B52)","v":"Mopti"},{"$f":"IF(COUNTRY_INFO!C52=0,\" \",COUNTRY_INFO!C52)","v":"Koro"},{"$f":"IF(AND(COUNTRY_INFO!$Z52=\"T3 (ALB/MBD)\",COUNTRY_INFO!$AA52=\"T3 (ALB/MBD)\"), \"T3 (ALB/MBD)\", \" \")","v":" "},null,null,null,null,0,null,null,null,0," "," "," "," "]
[{"$f":"IF(COUNTRY_INFO!A53=0,\" \",COUNTRY_INFO!A53)","v":"Mali"},{"$f":"IF(COUNTRY_INFO!B53=0,\" \",COUNTRY_INFO!B53)","v":"Mopti"},{"$f":"IF(COUNTRY_INFO!C53=0,\" \",COUNTRY_INFO!C53)","v":"Mopti"},{"$f":"IF(AND(COUNTRY_INFO!$Z53=\"T3 (ALB/MBD)\",COUNTRY_INFO!$AA53=\"T3 (ALB/MBD)\"), \"T3 (ALB/MBD)\", \" \")","v":" "},null,null,null,null,0,null,null,null,0," "," "," "," "]
[{"$f":"IF(COUNTRY_INFO!A54=0,\" \",COUNTRY_INFO!A54)","v":"Mali"},{"$f":"IF(COUNTRY_INFO!B54=0,\" \",COUNTRY_INFO!B54)","v":"Mopti"},{"$f":"IF(COUNTRY_INFO!C54=0,\" \",COUNTRY_INFO!C54)","v":"Teninkou"},{"$f":"IF(AND(COUNTRY_INFO!$Z54=\"T3 (ALB/MBD)\",COUNTRY_INFO!$AA54=\"T3 (ALB/MBD)\"), \"T3 (ALB/MBD)\", \" \")","v":" "},null,null,null,null,0,null,null,null,0," "," "," "," "]
[{"$f":"IF(COUNTRY_INFO!A55=0,\" \",COUNTRY_INFO!A55)","v":"Mali"},{"$f":"IF(COUNTRY_INFO!B55=0,\" \",COUNTRY_INFO!B55)","v":"Mopti"},{"$f":"IF(COUNTRY_INFO!C55=0,\" \",COUNTRY_INFO!C55)","v":"Youwarou"},{"$f":"IF(AND(COUNTRY_INFO!$Z55=\"T3 (ALB/MBD)\",COUNTRY_INFO!$AA55=\"T3 (ALB/MBD)\"), \"T3 (ALB/MBD)\", \" \")","v":" "},null,null,null,null,0,null,null,null,0," "," "," "," "]
[{"$f":"IF(COUNTRY_INFO!A56=0,\" \",COUNTRY_INFO!A56)","v":"Mali"},{"$f":"IF(COUNTRY_INFO!B56=0,\" \",COUNTRY_INFO!B56)","v":"Segou"},{"$f":"IF(COUNTRY_INFO!C56=0,\" \",COUNTRY_INFO!C56)","v":"Barouéli"},{"$f":"IF(AND(COUNTRY_INFO!$Z56=\"T3 (ALB/MBD)\",COUNTRY_INFO!$AA56=\"T3 (ALB/MBD)\"), \"T3 (ALB/MBD)\", \" \")","v":" "},null,null,null,null,0,null,null,null,0," "," "," "," "]
[{"$f":"IF(COUNTRY_INFO!A57=0,\" \",COUNTRY_INFO!A57)","v":"Mali"},{"$f":"IF(COUNTRY_INFO!B57=0,\" \",COUNTRY_INFO!B57)","v":"Segou"},{"$f":"IF(COUNTRY_INFO!C57=0,\" \",COUNTRY_INFO!C57)","v":"Bla"},{"$f":"IF(AND(COUNTRY_INFO!$Z57=\"T3 (ALB/MBD)\",COUNTRY_INFO!$AA57=\"T3 (ALB/MBD)\"), \"T3 (ALB/MBD)\", \" \")","v":" "},null,null,null,null,0,null,null,null,0," "," "," "," "]
[{"$f":"IF(COUNTRY_INFO!A58=0,\" \",COUNTRY_INFO!A58)","v":"Mali"},{"$f":"IF(COUNTRY_INFO!B58=0,\" \",COUNTRY_INFO!B58)","v":"Segou"},{"$f":"IF(COUNTRY_INFO!C58=0,\" \",COUNTRY_INFO!C58)","v":"Macina"},{"$f":"IF(AND(COUNTRY_INFO!$Z58=\"T3 (ALB/MBD)\",COUNTRY_INFO!$AA58=\"T3 (ALB/MBD)\"), \"T3 (ALB/MBD)\", \" \")","v":" "},null,null,null,null,0,null,null,null,0," "," "," "," "]
[{"$f":"IF(COUNTRY_INFO!A59=0,\" \",COUNTRY_INFO!A59)","v":"Mali"},{"$f":"IF(COUNTRY_INFO!B59=0,\" \",COUNTRY_INFO!B59)","v":"Segou"},{"$f":"IF(COUNTRY_INFO!C59=0,\" \",COUNTRY_INFO!C59)","v":"Markala"},{"$f":"IF(AND(COUNTRY_INFO!$Z59=\"T3 (ALB/MBD)\",COUNTRY_INFO!$AA59=\"T3 (ALB/MBD)\"), \"T3 (ALB/MBD)\", \" \")","v":" "},null,null,null,null,0,null,null,null,0," "," "," "," "]
[{"$f":"IF(COUNTRY_INFO!A60=0,\" \",COUNTRY_INFO!A60)","v":"Mali"},{"$f":"IF(COUNTRY_INFO!B60=0,\" \",COUNTRY_INFO!B60)","v":"Segou"},{"$f":"IF(COUNTRY_INFO!C60=0,\" \",COUNTRY_INFO!C60)","v":"Niono"},{"$f":"IF(AND(COUNTRY_INFO!$Z60=\"T3 (ALB/MBD)\",COUNTRY_INFO!$AA60=\"T3 (ALB/MBD)\"), \"T3 (ALB/MBD)\", \" \")","v":" "},null,null,null,null,0,null,null,null,0," "," "," "," "]
[{"$f":"IF(COUNTRY_INFO!A61=0,\" \",COUNTRY_INFO!A61)","v":"Mali"},{"$f":"IF(COUNTRY_INFO!B61=0,\" \",COUNTRY_INFO!B61)","v":"Segou"},{"$f":"IF(COUNTRY_INFO!C61=0,\" \",COUNTRY_INFO!C61)","v":"San"},{"$f":"IF(AND(COUNTRY_INFO!$Z61=\"T3 (ALB/MBD)\",COUNTRY_INFO!$AA61=\"T3 (ALB/MBD)\"), \"T3 (ALB/MBD)\", \" \")","v":" "},null,null,null,null,0,null,null,null,0," "," "," "," "]
[{"$f":"IF(COUNTRY_INFO!A62=0,\" \",COUNTRY_INFO!A62)","v":"Mali"},{"$f":"IF(COUNTRY_INFO!B62=0,\" \",COUNTRY_INFO!B62)","v":"Segou"},{"$f":"IF(COUNTRY_INFO!C62=0,\" \",COUNTRY_INFO!C62)","v":"Segou"},{"$f":"IF(AND(COUNTRY_INFO!$Z62=\"T3 (ALB/MBD)\",COUNTRY_INFO!$AA62=\"T3 (ALB/MBD)\"), \"T3 (ALB/MBD)\", \" \")","v":" "},null,null,null,null,0,null,null,null,0," "," "," "," "]
[{"$f":"IF(COUNTRY_INFO!A63=0,\" \",COUNTRY_INFO!A63)","v":"Mali"},{"$f":"IF(COUNTRY_INFO!B63=0,\" \",COUNTRY_INFO!B63)","v":"Segou"},{"$f":"IF(COUNTRY_INFO!C63=0,\" \",COUNTRY_INFO!C63)","v":"Tominian"},{"$f":"IF(AND(COUNTRY_INFO!$Z63=\"T3 (ALB/MBD)\",COUNTRY_INFO!$AA63=\"T3 (ALB/MBD)\"), \"T3 (ALB/MBD)\", \" \")","v":" "},null,null,null,null,0,null,null,null,0," "," "," "," "]
[{"$f":"IF(COUNTRY_INFO!A64=0,\" \",COUNTRY_INFO!A64)","v":"Mali"},{"$f":"IF(COUNTRY_INFO!B64=0,\" \",COUNTRY_INFO!B64)","v":"Sikasso"},{"$f":"IF(COUNTRY_INFO!C64=0,\" \",COUNTRY_INFO!C64)","v":"Bougouni"},{"$f":"IF(AND(COUNTRY_INFO!$Z64=\"T3 (ALB/MBD)\",COUNTRY_INFO!$AA64=\"T3 (ALB/MBD)\"), \"T3 (ALB/MBD)\", \" \")","v":" "},null,null,null,null,0,null,null,null,0," "," "," "," "]
[{"$f":"IF(COUNTRY_INFO!A65=0,\" \",COUNTRY_INFO!A65)","v":"Mali"},{"$f":"IF(COUNTRY_INFO!B65=0,\" \",COUNTRY_INFO!B65)","v":"Sikasso"},{"$f":"IF(COUNTRY_INFO!C65=0,\" \",COUNTRY_INFO!C65)","v":"Kadiolo"},{"$f":"IF(AND(COUNTRY_INFO!$Z65=\"T3 (ALB/MBD)\",COUNTRY_INFO!$AA65=\"T3 (ALB/MBD)\"), \"T3 (ALB/MBD)\", \" \")","v":" "},null,null,null,null,0,null,null,null,0," "," "," "," "]
[{"$f":"IF(COUNTRY_INFO!A66=0,\" \",COUNTRY_INFO!A66)","v":"Mali"},{"$f":"IF(COUNTRY_INFO!B66=0,\" \",COUNTRY_INFO!B66)","v":"Sikasso"},{"$f":"IF(COUNTRY_INFO!C66=0,\" \",COUNTRY_INFO!C66)","v":"Kignan"},{"$f":"IF(AND(COUNTRY_INFO!$Z66=\"T3 (ALB/MBD)\",COUNTRY_INFO!$AA66=\"T3 (ALB/MBD)\"), \"T3 (ALB/MBD)\", \" \")","v":" "},null,null,null,null,0,null,null,null,0," "," "," "," "]
[{"$f":"IF(COUNTRY_INFO!A67=0,\" \",COUNTRY_INFO!A67)","v":"Mali"},{"$f":"IF(COUNTRY_INFO!B67=0,\" \",COUNTRY_INFO!B67)","v":"Sikasso"},{"$f":"IF(COUNTRY_INFO!C67=0,\" \",COUNTRY_INFO!C67)","v":"Kolondieba"},{"$f":"IF(AND(COUNTRY_INFO!$Z67=\"T3 (ALB/MBD)\",COUNTRY_INFO!$AA67=\"T3 (ALB/MBD)\"), \"T3 (ALB/MBD)\", \" \")","v":" "},null,null,null,null,0,null,null,null,0," "," "," "," "]
[{"$f":"IF(COUNTRY_INFO!A68=0,\" \",COUNTRY_INFO!A68)","v":"Mali"},{"$f":"IF(COUNTRY_INFO!B68=0,\" \",COUNTRY_INFO!B68)","v":"Sikasso"},{"$f":"IF(COUNTRY_INFO!C68=0,\" \",COUNTRY_INFO!C68)","v":"Koutiala"},{"$f":"IF(AND(COUNTRY_INFO!$Z68=\"T3 (ALB/MBD)\",COUNTRY_INFO!$AA68=\"T3 (ALB/MBD)\"), \"T3 (ALB/MBD)\", \" \")","v":" "},null,null,null,null,0,null,null,null,0," "," "," "," "]
[{"$f":"IF(COUNTRY_INFO!A69=0,\" \",COUNTRY_INFO!A69)","v":"Mali"},{"$f":"IF(COUNTRY_INFO!B69=0,\" \",COUNTRY_INFO!B69)","v":"Sikasso"},{"$f":"IF(COUNTRY_INFO!C69=0,\" \",COUNTRY_INFO!C69)","v":"Niena"},{"$f":"IF(AND(COUNTRY_INFO!$Z69=\"T3 (ALB/MBD)\",COUNTRY_INFO!$AA69=\"T3 (ALB/MBD)\"), \"T3 (ALB/MBD)\", \" \")","v":" "},null,null,null,null,0,null,null,null,0," "," "," "," "]
[{"$f":"IF(COUNTRY_INFO!A70=0,\" \",COUNTRY_INFO!A70)","v":"Mali"},{"$f":"IF(COUNTRY_INFO!B70=0,\" \",COUNTRY_INFO!B70)","v":"Sikasso"},{"$f":"IF(COUNTRY_INFO!C70=0,\" \",COUNTRY_INFO!C70)","v":"Sélingué"},{"$f":"IF(AND(COUNTRY_INFO!$Z70=\"T3 (ALB/MBD)\",COUNTRY_INFO!$AA70=\"T3 (ALB/MBD)\"), \"T3 (ALB/MBD)\", \" \")","v":" "},null,null,null,null,0,null,null,null,0," "," "," "," "]
[{"$f":"IF(COUNTRY_INFO!A71=0,\" \",COUNTRY_INFO!A71)","v":"Mali"},{"$f":"IF(COUNTRY_INFO!B71=0,\" \",COUNTRY_INFO!B71)","v":"Sikasso"},{"$f":"IF(COUNTRY_INFO!C71=0,\" \",COUNTRY_INFO!C71)","v":"Sikasso"},{"$f":"IF(AND(COUNTRY_INFO!$Z71=\"T3 (ALB/MBD)\",COUNTRY_INFO!$AA71=\"T3 (ALB/MBD)\"), \"T3 (ALB/MBD)\", \" \")","v":" "},null,null,null,null,0,null,null,null,0," "," "," "," "]
[{"$f":"IF(COUNTRY_INFO!A72=0,\" \",COUNTRY_INFO!A72)","v":"Mali"},{"$f":"IF(COUNTRY_INFO!B72=0,\" \",COUNTRY_INFO!B72)","v":"Sikasso"},{"$f":"IF(COUNTRY_INFO!C72=0,\" \",COUNTRY_INFO!C72)","v":"Yanfolila"},{"$f":"IF(AND(COUNTRY_INFO!$Z72=\"T3 (ALB/MBD)\",COUNTRY_INFO!$AA72=\"T3 (ALB/MBD)\"), \"T3 (ALB/MBD)\", \" \")","v":" "},null,null,null,null,0,null,null,null,0," "," "," "," "]
[{"$f":"IF(COUNTRY_INFO!A73=0,\" \",COUNTRY_INFO!A73)","v":"Mali"},{"$f":"IF(COUNTRY_INFO!B73=0,\" \",COUNTRY_INFO!B73)","v":"Sikasso"},{"$f":"IF(COUNTRY_INFO!C73=0,\" \",COUNTRY_INFO!C73)","v":"Yorosso"},{"$f":"IF(AND(COUNTRY_INFO!$Z73=\"T3 (ALB/MBD)\",COUNTRY_INFO!$AA73=\"T3 (ALB/MBD)\"), \"T3 (ALB/MBD)\", \" \")","v":" "},null,null,null,null,0,null,null,null,0," "," "," "," "]
[{"$f":"IF(COUNTRY_INFO!A74=0,\" \",COUNTRY_INFO!A74)","v":"Mali"},{"$f":"IF(COUNTRY_INFO!B74=0,\" \",COUNTRY_INFO!B74)","v":"Tombouctou"},{"$f":"IF(COUNTRY_INFO!C74=0,\" \",COUNTRY_INFO!C74)","v":"Diré"},{"$f":"IF(AND(COUNTRY_INFO!$Z74=\"T3 (ALB/MBD)\",COUNTRY_INFO!$AA74=\"T3 (ALB/MBD)\"), \"T3 (ALB/MBD)\", \" \")","v":" "},null,null,null,null,0,null,null,null,0," "," "," "," "]
[{"$f":"IF(COUNTRY_INFO!A75=0,\" \",COUNTRY_INFO!A75)","v":"Mali"},{"$f":"IF(COUNTRY_INFO!B75=0,\" \",COUNTRY_INFO!B75)","v":"Tombouctou"},{"$f":"IF(COUNTRY_INFO!C75=0,\" \",COUNTRY_INFO!C75)","v":"Goundam"},{"$f":"IF(AND(COUNTRY_INFO!$Z75=\"T3 (ALB/MBD)\",COUNTRY_INFO!$AA75=\"T3 (ALB/MBD)\"), \"T3 (ALB/MBD)\", \" \")","v":" "},null,null,null,null,{"$f":"SUM(F75:H75)","v":0},null,null,null,{"$f":"SUM(J75:L75)","v":0},{"$f":"IF(F75<>0, IF(J75/F75*100=0, \"-\", J75/F75*100), \" \")","v":" "},{"$f":"IF(G75<>0, IF(K75/G75*100=0, \"-\", K75/G75*100), \" \")","v":" "},{"$f":"IF(H75<>0, IF(L75/H75*100=0, \"-\", L75/H75*100), \" \")","v":" "},{"$f":"IF(I75<>0, IF(M75/I75*100=0, \"-\", M75/I75*100), \" \")","v":" "}]
[{"$f":"IF(COUNTRY_INFO!A76=0,\" \",COUNTRY_INFO!A76)","v":"Mali"},{"$f":"IF(COUNTRY_INFO!B76=0,\" \",COUNTRY_INFO!B76)","v":"Tombouctou"},{"$f":"IF(COUNTRY_INFO!C76=0,\" \",COUNTRY_INFO!C76)","v":"Gourma-Rharous"},{"$f":"IF(AND(COUNTRY_INFO!$Z76=\"T3 (ALB/MBD)\",COUNTRY_INFO!$AA76=\"T3 (ALB/MBD)\"), \"T3 (ALB/MBD)\", \" \")","v":" "},null,null,null,null,0,null,null,null,0," "," "," "," "]
[{"$f":"IF(COUNTRY_INFO!A77=0,\" \",COUNTRY_INFO!A77)","v":"Mali"},{"$f":"IF(COUNTRY_INFO!B77=0,\" \",COUNTRY_INFO!B77)","v":"Tombouctou"},{"$f":"IF(COUNTRY_INFO!C77=0,\" \",COUNTRY_INFO!C77)","v":"Niafunké"},{"$f":"IF(AND(COUNTRY_INFO!$Z77=\"T3 (ALB/MBD)\",COUNTRY_INFO!$AA77=\"T3 (ALB/MBD)\"), \"T3 (ALB/MBD)\", \" \")","v":" "},null,null,null,null,0,null,null,null,0," "," "," "," "]
[{"$f":"IF(COUNTRY_INFO!A78=0,\" \",COUNTRY_INFO!A78)","v":"Mali"},{"$f":"IF(COUNTRY_INFO!B78=0,\" \",COUNTRY_INFO!B78)","v":"Tombouctou"},{"$f":"IF(COUNTRY_INFO!C78=0,\" \",COUNTRY_INFO!C78)","v":"Tombouctou"},{"$f":"IF(AND(COUNTRY_INFO!$Z78=\"T3 (ALB/MBD)\",COUNTRY_INFO!$AA78=\"T3 (ALB/MBD)\"), \"T3 (ALB/MBD)\", \" \")","v":" "},null,null,null,null,0,null,null,null,0," "," "," "," "]
[{"$f":"IF(COUNTRY_INFO!A79=0,\" \",COUNTRY_INFO!A79)","v":"Mali"},{"$f":"IF(COUNTRY_INFO!B79=0,\" \",COUNTRY_INFO!B79)","v":"Taoudenit"},{"$f":"IF(COUNTRY_INFO!C79=0,\" \",COUNTRY_INFO!C79)","v":"Achourat"},{"$f":"IF(AND(COUNTRY_INFO!$Z79=\"T3 (ALB/MBD)\",COUNTRY_INFO!$AA79=\"T3 (ALB/MBD)\"), \"T3 (ALB/MBD)\", \" \")","v":" "},null,null,null,null,0,null,null,null,0," "," "," "," "]
[{"$f":"IF(COUNTRY_INFO!A80=0,\" \",COUNTRY_INFO!A80)","v":"Mali"},{"$f":"IF(COUNTRY_INFO!B80=0,\" \",COUNTRY_INFO!B80)","v":"Taoudenit"},{"$f":"IF(COUNTRY_INFO!C80=0,\" \",COUNTRY_INFO!C80)","v":"Al-Ourch"},{"$f":"IF(AND(COUNTRY_INFO!$Z80=\"T3 (ALB/MBD)\",COUNTRY_INFO!$AA80=\"T3 (ALB/MBD)\"), \"T3 (ALB/MBD)\", \" \")","v":" "},null,null,null,null,0,null,null,null,0," "," "," "," "]
[{"$f":"IF(COUNTRY_INFO!A81=0,\" \",COUNTRY_INFO!A81)","v":"Mali"},{"$f":"IF(COUNTRY_INFO!B81=0,\" \",COUNTRY_INFO!B81)","v":"Taoudenit"},{"$f":"IF(COUNTRY_INFO!C81=0,\" \",COUNTRY_INFO!C81)","v":"Araouane"},{"$f":"IF(AND(COUNTRY_INFO!$Z81=\"T3 (ALB/MBD)\",COUNTRY_INFO!$AA81=\"T3 (ALB/MBD)\"), \"T3 (ALB/MBD)\", \" \")","v":" "},null,null,null,null,0,null,null,null,0," "," "," "," "]
[{"$f":"IF(COUNTRY_INFO!A82=0,\" \",COUNTRY_INFO!A82)","v":"Mali"},{"$f":"IF(COUNTRY_INFO!B82=0,\" \",COUNTRY_INFO!B82)","v":"Taoudenit"},{"$f":"IF(COUNTRY_INFO!C82=0,\" \",COUNTRY_INFO!C82)","v":"Boujbeha"},{"$f":"IF(AND(COUNTRY_INFO!$Z82=\"T3 (ALB/MBD)\",COUNTRY_INFO!$AA82=\"T3 (ALB/MBD)\"), \"T3 (ALB/MBD)\", \" \")","v":" "},null,null,null,null,0,null,null,null,0," "," "," "," "]
[{"$f":"IF(COUNTRY_INFO!A83=0,\" \",COUNTRY_INFO!A83)","v":"Mali"},{"$f":"IF(COUNTRY_INFO!B83=0,\" \",COUNTRY_INFO!B83)","v":"Taoudenit"},{"$f":"IF(COUNTRY_INFO!C83=0,\" \",COUNTRY_INFO!C83)","v":"Foum-Elba"},{"$f":"IF(AND(COUNTRY_INFO!$Z83=\"T3 (ALB/MBD)\",COUNTRY_INFO!$AA83=\"T3 (ALB/MBD)\"), \"T3 (ALB/MBD)\", \" \")","v":" "},null,null,null,null,0,null,null,null,0," "," "," "," "]
[{"$f":"IF(COUNTRY_INFO!A84=0,\" \",COUNTRY_INFO!A84)","v":"Mali"},{"$f":"IF(COUNTRY_INFO!B84=0,\" \",COUNTRY_INFO!B84)","v":"Taoudenit"},{"$f":"IF(COUNTRY_INFO!C84=0,\" \",COUNTRY_INFO!C84)","v":"Taoudenit"},{"$f":"IF(AND(COUNTRY_INFO!$Z84=\"T3 (ALB/MBD)\",COUNTRY_INFO!$AA84=\"T3 (ALB/MBD)\"), \"T3 (ALB/MBD)\", \" \")","v":" "},null,null,null,null,0,null,null,null,0," "," "," "," "]

{"sheet":"T3_R3","index":10,"n_rows":84,"n_cols":17,"rows_kept":84,"cut":false,"hidden":true,"merged":[[5,13,5,16],[0,5,0,7],[1,9,1,10],[1,11,1,12],[3,0,3,2],[5,0,5,2],[5,3,6,3],[5,4,6,4],[5,5,5,8],[5,9,5,12]]}
["T 3 - Albendazole (ALB) ou Mebendazole (MBD) - Tournée 3",null,null,null,null,"Choisir le médicament utilisé pour le traitement de la STH pour chaque groupe d'âge"]
["Structure administrative, population nécessitant une CP par groupe d'âge, population traitée par groupe d'âge et couverture",null,null,null,null,null,null,null,null,"Sélectionner la catégorie d’adultes"]
[]
["TOTAL",null,null,null,null,{"$f":"SUBTOTAL(9,F$10:F$1010)","v":0},0,0,0,0,0,0,0,{"$f":"IF(F4<>0, IF(J4/F4*100=0, \"-\", J4/F4*100), \" \")","v":" "},{"$f":"IF(G4<>0, IF(K4/G4*100=0, \"-\", K4/G4*100), \" \")","v":" "},{"$f":"IF(H4<>0, IF(L4/H4*100=0, \"-\", L4/H4*100), \" \")","v":" "},{"$f":"IF(I4<>0, IF(M4/I4*100=0, \"-\", M4/I4*100), \" \")","v":" "}]
[]
["Structure administrative du pays",null,null,"Mise en oeuvre \nde la CP","Date","Population ciblée pour T3",null,null,null,"Population traitée",null,null,null,"Couverture du Programme (%)"]
["Pays","Région/Département","District",null,null,"EAPréS","EAS","Adultes","Total","EAPréS","EAS","Adultes","Total","EAPréS","EAS","Adultes","Total"]
[]
[]
[{"$f":"IF(COUNTRY_INFO!A10=0,\" \",COUNTRY_INFO!A10)","v":"Mali"},{"$f":"IF(COUNTRY_INFO!B10=0,\" \",COUNTRY_INFO!B10)","v":"Bamako"},{"$f":"IF(COUNTRY_INFO!C10=0,\" \",COUNTRY_INFO!C10)","v":"Commune 1"},{"$f":"IF(COUNTRY_INFO!$AB10=\"T3 (ALB/MBD)\", \"T3 (ALB/MBD)\", \" \")","v":" "},null,null,null,null,{"$f":"SUM(F10:H10)","v":0},null,null,null,{"$f":"SUM(J10:L10)","v":0},{"$f":"IF(F10<>0, IF(J10/F10*100=0, \"-\", J10/F10*100), \" \")","v":" "}," "," "," "]
[{"$f":"IF(COUNTRY_INFO!A11=0,\" \",COUNTRY_INFO!A11)","v":"Mali"},{"$f":"IF(COUNTRY_INFO!B11=0,\" \",COUNTRY_INFO!B11)","v":"Bamako"},{"$f":"IF(COUNTRY_INFO!C11=0,\" \",COUNTRY_INFO!C11)","v":"Commune 2"},{"$f":"IF(COUNTRY_INFO!$AB11=\"T3 (ALB/MBD)\", \"T3 (ALB/MBD)\", \" \")","v":" "},null,null,null,null,{"$f":"SUM(F11:H11)","v":0},null,null,null,{"$f":"SUM(J11:L11)","v":0},{"$f":"IF(F11<>0, IF(J11/F11*100=0, \"-\", J11/F11*100), \" \")","v":" "},{"$f":"IF(G11<>0, IF(K11/G11*100=0, \"-\", K11/G11*100), \" \")","v":" "},{"$f":"IF(H11<>0, IF(L11/H11*100=0, \"-\", L11/H11*100), \" \")","v":" "},{"$f":"IF(I11<>0, IF(M11/I11*100=0, \"-\", M11/I11*100), \" \")","v":" "}]
[{"$f":"IF(COUNTRY_INFO!A12=0,\" \",COUNTRY_INFO!A12)","v":"Mali"},{"$f":"IF(COUNTRY_INFO!B12=0,\" \",COUNTRY_INFO!B12)","v":"Bamako"},{"$f":"IF(COUNTRY_INFO!C12=0,\" \",COUNTRY_INFO!C12)","v":"Commune 3"},{"$f":"IF(COUNTRY_INFO!$AB12=\"T3 (ALB/MBD)\", \"T3 (ALB/MBD)\", \" \")","v":" "},null,null,null,null,0,null,null,null,0," "," "," "," "]
[{"$f":"IF(COUNTRY_INFO!A13=0,\" \",COUNTRY_INFO!A13)","v":"Mali"},{"$f":"IF(COUNTRY_INFO!B13=0,\" \",COUNTRY_INFO!B13)","v":"Bamako"},{"$f":"IF(COUNTRY_INFO!C13=0,\" \",COUNTRY_INFO!C13)","v":"Commune 4"},{"$f":"IF(COUNTRY_INFO!$AB13=\"T3 (ALB/MBD)\", \"T3 (ALB/MBD)\", \" \")","v":" "},null,null,null,null,0,null,null,null,0," "," "," "," "]
[{"$f":"IF(COUNTRY_INFO!A14=0,\" \",COUNTRY_INFO!A14)","v":"Mali"},{"$f":"IF(COUNTRY_INFO!B14=0,\" \",COUNTRY_INFO!B14)","v":"Bamako"},{"$f":"IF(COUNTRY_INFO!C14=0,\" \",COUNTRY_INFO!C14)","v":"Commune 5"},{"$f":"IF(COUNTRY_INFO!$AB14=\"T3 (ALB/MBD)\", \"T3 (ALB/MBD)\", \" \")","v":" "},null,null,null,null,0,null,null,null,0," "," "," "," "]
[{"$f":"IF(COUNTRY_INFO!A15=0,\" \",COUNTRY_INFO!A15)","v":"Mali"},{"$f":"IF(COUNTRY_INFO!B15=0,\" \",COUNTRY_INFO!B15)","v":"Bamako"},{"$f":"IF(COUNTRY_INFO!C15=0,\" \",COUNTRY_INFO!C15)","v":"Commune 6"},{"$f":"IF(COUNTRY_INFO!$AB15=\"T3 (ALB/MBD)\", \"T3 (ALB/MBD)\", \" \")","v":" "},null,null,null,null,0,null,null,null,0," "," "," "," "]
[{"$f":"IF(COUNTRY_INFO!A16=0,\" \",COUNTRY_INFO!A16)","v":"Mali"},{"$f":"IF(COUNTRY_INFO!B16=0,\" \",COUNTRY_INFO!B16)","v":"Gao"},{"$f":"IF(COUNTRY_INFO!C16=0,\" \",COUNTRY_INFO!C16)","v":"Ansongo"},{"$f":"IF(COUNTRY_INFO!$AB16=\"T3 (ALB/MBD)\", \"T3 (ALB/MBD)\", \" \")","v":" "},null,null,null,null,0,null,null,null,0," "," "," "," "]
[{"$f":"IF(COUNTRY_INFO!A17=0,\" \",COUNTRY_INFO!A17)","v":"Mali"},{"$f":"IF(COUNTRY_INFO!B17=0,\" \",COUNTRY_INFO!B17)","v":"Gao"},{"$f":"IF(COUNTRY_INFO!C17=0,\" \",COUNTRY_INFO!C17)","v":"Bourem"},{"$f":"IF(COUNTRY_INFO!$AB17=\"T3 (ALB/MBD)\", \"T3 (ALB/MBD)\", \" \")","v":" "},null,null,null,null,0,null,null,null,0," "," "," "," "]
[{"$f":"IF(COUNTRY_INFO!A18=0,\" \",COUNTRY_INFO!A18)","v":"Mali"},{"$f":"IF(COUNTRY_INFO!B18=0,\" \",COUNTRY_INFO!B18)","v":"Gao"},{"$f":"IF(COUNTRY_INFO!C18=0,\" \",COUNTRY_INFO!C18)","v":"Almoustrat"},{"$f":"IF(COUNTRY_INFO!$AB18=\"T3 (ALB/MBD)\", \"T3 (ALB/MBD)\", \" \")","v":" "},null,null,null,null,0,null,null,null,0," "," "," "," "]
[{"$f":"IF(COUNTRY_INFO!A19=0,\" \",COUNTRY_INFO!A19)","v":"Mali"},{"$f":"IF(COUNTRY_INFO!B19=0,\" \",COUNTRY_INFO!B19)","v":"Gao"},{"$f":"IF(COUNTRY_INFO!C19=0,\" \",COUNTRY_INFO!C19)","v":"Gao"},{"$f":"IF(COUNTRY_INFO!$AB19=\"T3 (ALB/MBD)\", \"T3 (ALB/MBD)\", \" \")","v":" "},null,null,null,null,0,null,null,null,0," "," "," "," "]
[{"$f":"IF(COUNTRY_INFO!A20=0,\" \",COUNTRY_INFO!A20)","v":"Mali"},{"$f":"IF(COUNTRY_INFO!B20=0,\" \",COUNTRY_INFO!B20)","v":"Menaka"},{"$f":"IF(COUNTRY_INFO!C20=0,\" \",COUNTRY_INFO!C20)","v":"Menaka"},{"$f":"IF(COUNTRY_INFO!$AB20=\"T3 (ALB/MBD)\", \"T3 (ALB/MBD)\", \" \")","v":" "},null,null,null,null,0,null,null,null,0," "," "," "," "]
[{"$f":"IF(COUNTRY_INFO!A21=0,\" \",COUNTRY_INFO!A21)","v":"Mali"},{"$f":"IF(COUNTRY_INFO!B21=0,\" \",COUNTRY_INFO!B21)","v":"Menaka"},{"$f":"IF(COUNTRY_INFO!C21=0,\" \",COUNTRY_INFO!C21)","v":"Anderamboukane"},{"$f":"IF(COUNTRY_INFO!$AB21=\"T3 (ALB/MBD)\", \"T3 (ALB/MBD)\", \" \")","v":" "},null,null,null,null,0,null,null,null,0," "," "," "," "]
[{"$f":"IF(COUNTRY_INFO!A22=0,\" \",COUNTRY_INFO!A22)","v":"Mali"},{"$f":"IF(COUNTRY_INFO!B22=0,\" \",COUNTRY_INFO!B22)","v":"Menaka"},{"$f":"IF(COUNTRY_INFO!C22=0,\" \",COUNTRY_INFO!C22)","v":"Inekar"},{"$f":"IF(COUNTRY_INFO!$AB22=\"T3 (ALB/MBD)\", \"T3 (ALB/MBD)\", \" \")","v":" "},null,null,null,null,0,null,null,null,0," "," "," "," "]
[{"$f":"IF(COUNTRY_INFO!A23=0,\" \",COUNTRY_INFO!A23)","v":"Mali"},{"$f":"IF(COUNTRY_INFO!B23=0,\" \",COUNTRY_INFO!B23)","v":"Menaka"},{"$f":"IF(COUNTRY_INFO!C23=0,\" \",COUNTRY_INFO!C23)","v":"Tidermene"},{"$f":"IF(COUNTRY_INFO!$AB23=\"T3 (ALB/MBD)\", \"T3 (ALB/MBD)\", \" \")","v":" "},null,null,null,null,0,null,null,null,0," "," "," "," "]
[{"$f":"IF(COUNTRY_INFO!A24=0,\" \",COUNTRY_INFO!A24)","v":"Mali"},{"$f":"IF(COUNTRY_INFO!B24=0,\" \",COUNTRY_INFO!B24)","v":"Kayes"},{"$f":"IF(COUNTRY_INFO!C24=0,\" \",COUNTRY_INFO!C24)","v":"Bafoulabe"},{"$f":"IF(COUNTRY_INFO!$AB24=\"T3 (ALB/MBD)\", \"T3 (ALB/MBD)\", \" \")","v":" "},null,null,null,null,0,null,null,null,0," "," "," "," "]
[{"$f":"IF(COUNTRY_INFO!A25=0,\" \",COUNTRY_INFO!A25)","v":"Mali"},{"$f":"IF(COUNTRY_INFO!B25=0,\" \",COUNTRY_INFO!B25)","v":"Kayes"},{"$f":"IF(COUNTRY_INFO!C25=0,\" \",COUNTRY_INFO!C25)","v":"Diema"},{"$f":"IF(COUNTRY_INFO!$AB25=\"T3 (ALB/MBD)\", \"T3 (ALB/MBD)\", \" \")","v":" "},null,null,null,null,0,null,null,null,0," "," "," "," "]
[{"$f":"IF(COUNTRY_INFO!A26=0,\" \",COUNTRY_INFO!A26)","v":"Mali"},{"$f":"IF(COUNTRY_INFO!B26=0,\" \",COUNTRY_INFO!B26)","v":"Kayes"},{"$f":"IF(COUNTRY_INFO!C26=0,\" \",COUNTRY_INFO!C26)","v":"Kayes"},{"$f":"IF(COUNTRY_INFO!$AB26=\"T3 (ALB/MBD)\", \"T3 (ALB/MBD)\", \" \")","v":" "},null,null,null,null,0,null,null,null,0," "," "," "," "]
[{"$f":"IF(COUNTRY_INFO!A27=0,\" \",COUNTRY_INFO!A27)","v":"Mali"},{"$f":"IF(COUNTRY_INFO!B27=0,\" \",COUNTRY_INFO!B27)","v":"Kayes"},{"$f":"IF(COUNTRY_INFO!C27=0,\" \",COUNTRY_INFO!C27)","v":"Kenieba"},{"$f":"IF(COUNTRY_INFO!$AB27=\"T3 (ALB/MBD)\", \"T3 (ALB/MBD)\", \" \")","v":" "},null,null,null,null,0,null,null,null,0," "," "," "," "]
[{"$f":"IF(COUNTRY_INFO!A28=0,\" \",COUNTRY_INFO!A28)","v":"Mali"},{"$f":"IF(COUNTRY_INFO!B28=0,\" \",COUNTRY_INFO!B28)","v":"Kayes"},{"$f":"IF(COUNTRY_INFO!C28=0,\" \",COUNTRY_INFO!C28)","v":"Kita"},{"$f":"IF(COUNTRY_INFO!$AB28=\"T3 (ALB/MBD)\", \"T3 (ALB/MBD)\", \" \")","v":" "},null,null,null,null,0,null,null,null,0," "," "," "," "]
[{"$f":"IF(COUNTRY_INFO!A29=0,\" \",COUNTRY_INFO!A29)","v":"Mali"},{"$f":"IF(COUNTRY_INFO!B29=0,\" \",COUNTRY_INFO!B29)","v":"Kayes"},{"$f":"IF(COUNTRY_INFO!C29=0,\" \",COUNTRY_INFO!C29)","v":"Sagabari"},{"$f":"IF(COUNTRY_INFO!$AB29=\"T3 (ALB/MBD)\", \"T3 (ALB/MBD)\", \" \")","v":" "},null,null,null,null,0,null,null,null,0," "," "," "," "]
[{"$f":"IF(COUNTRY_INFO!A30=0,\" \",COUNTRY_INFO!A30)","v":"Mali"},{"$f":"IF(COUNTRY_INFO!B30=0,\" \",COUNTRY_INFO!B30)","v":"Kayes"},{"$f":"IF(COUNTRY_INFO!C30=0,\" \",COUNTRY_INFO!C30)","v":"Sefeto"},{"$f":"IF(COUNTRY_INFO!$AB30=\"T3 (ALB/MBD)\", \"T3 (ALB/MBD)\", \" \")","v":" "},null,null,null,null,0,null,null,null,0," "," "," "," "]
[{"$f":"IF(COUNTRY_INFO!A31=0,\" \",COUNTRY_INFO!A31)","v":"Mali"},{"$f":"IF(COUNTRY_INFO!B31=0,\" \",COUNTRY_INFO!B31)","v":"Kayes"},{"$f":"IF(COUNTRY_INFO!C31=0,\" \",COUNTRY_INFO!C31)","v":"Nioro"},{"$f":"IF(COUNTRY_INFO!$AB31=\"T3 (ALB/MBD)\", \"T3 (ALB/MBD)\", \" \")","v":" "},null,null,null,null,0,null,null,null,0," "," "," "," "]
[{"$f":"IF(COUNTRY_INFO!A32=0,\" \",COUNTRY_INFO!A32)","v":"Mali"},{"$f":"IF(COUNTRY_INFO!B32=0,\" \",COUNTRY_INFO!B32)","v":"Kayes"},{"$f":"IF(COUNTRY_INFO!C32=0,\" \",COUNTRY_INFO!C32)","v":"Oussoubidiagna"},{"$f":"IF(COUNTRY_INFO!$AB32=\"T3 (ALB/MBD)\", \"T3 (ALB/MBD)\", \" \")","v":" "},null,null,null,null,0,null,null,null,0," "," "," "," "]
[{"$f":"IF(COUNTRY_INFO!A33=0,\" \",COUNTRY_INFO!A33)","v":"Mali"},{"$f":"IF(COUNTRY_INFO!B33=0,\" \",COUNTRY_INFO!B33)","v":"Kayes"},{"$f":"IF(COUNTRY_INFO!C33=0,\" \",COUNTRY_INFO!C33)","v":"Yelimane"},{"$f":"IF(COUNTRY_INFO!$AB33=\"T3 (ALB/MBD)\", \"T3 (ALB/MBD)\", \" \")","v":" "},null,null,null,null,0,null,null,null,0," "," "," "," "]
[{"$f":"IF(COUNTRY_INFO!A34=0,\" \",COUNTRY_INFO!A34)","v":"Mali"},{"$f":"IF(COUNTRY_INFO!B34=0,\" \",COUNTRY_INFO!B34)","v":"Kidal"},{"$f":"IF(COUNTRY_INFO!C34=0,\" \",COUNTRY_INFO!C34)","v":"Abeibara"},{"$f":"IF(COUNTRY_INFO!$AB34=\"T3 (ALB/MBD)\", \"T3 (ALB/MBD)\", \" \")","v":" "},null,null,null,null,0,null,null,null,0," "," "," "," "]
[{"$f":"IF(COUNTRY_INFO!A35=0,\" \",COUNTRY_INFO!A35)","v":"Mali"},{"$f":"IF(COUNTRY_INFO!B35=0,\" \",COUNTRY_INFO!B35)","v":"Kidal"},{"$f":"IF(COUNTRY_INFO!C35=0,\" \",COUNTRY_INFO!C35)","v":"Kidal"},{"$f":"IF(COUNTRY_INFO!$AB35=\"T3 (ALB/MBD)\", \"T3 (ALB/MBD)\", \" \")","v":" "},null,null,null,null,0,null,null,null,0," "," "," "," "]
[{"$f":"IF(COUNTRY_INFO!A36=0,\" \",COUNTRY_INFO!A36)","v":"Mali"},{"$f":"IF(COUNTRY_INFO!B36=0,\" \",COUNTRY_INFO!B36)","v":"Kidal"},{"$f":"IF(COUNTRY_INFO!C36=0,\" \",COUNTRY_INFO!C36)","v":"Tessalit"},{"$f":"IF(COUNTRY_INFO!$AB36=\"T3 (ALB/MBD)\", \"T3 (ALB/MBD)\", \" \")","v":" "},null,null,null,null,0,null,null,null,0," "," "," "," "]
[{"$f":"IF(COUNTRY_INFO!A37=0,\" \",COUNTRY_INFO!A37)","v":"Mali"},{"$f":"IF(COUNTRY_INFO!B37=0,\" \",COUNTRY_INFO!B37)","v":"Kidal"},{"$f":"IF(COUNTRY_INFO!C37=0,\" \",COUNTRY_INFO!C37)","v":"Tin-Essako"},{"$f":"IF(COUNTRY_INFO!$AB37=\"T3 (ALB/MBD)\", \"T3 (ALB/MBD)\", \" \")","v":" "},null,null,null,null,0,null,null,null,0," "," "," "," "]
[{"$f":"IF(COUNTRY_INFO!A38=0,\" \",COUNTRY_INFO!A38)","v":"Mali"},{"$f":"IF(COUNTRY_INFO!B38=0,\" \",COUNTRY_INFO!B38)","v":"Koulikoro"},{"$f":"IF(COUNTRY_INFO!C38=0,\" \",COUNTRY_INFO!C38)","v":"Banamba"},{"$f":"IF(COUNTRY_INFO!$AB38=\"T3 (ALB/MBD)\", \"T3 (ALB/MBD)\", \" \")","v":" "},null,null,null,null,0,null,null,null,0," "," "," "," "]
[{"$f":"IF(COUNTRY_INFO!A39=0,\" \",COUNTRY_INFO!A39)","v":"Mali"},{"$f":"IF(COUNTRY_INFO!B39=0,\" \",COUNTRY_INFO!B39)","v":"Koulikoro"},{"$f":"IF(COUNTRY_INFO!C39=0,\" \",COUNTRY_INFO!C39)","v":"Dioila"},{"$f":"IF(COUNTRY_INFO!$AB39=\"T3 (ALB/MBD)\", \"T3 (ALB/MBD)\", \" \")","v":" "},null,null,null,null,0,null,null,null,0," "," "," "," "]
[{"$f":"IF(COUNTRY_INFO!A40=0,\" \",COUNTRY_INFO!A40)","v":"Mali"},{"$f":"IF(COUNTRY_INFO!B40=0,\" \",COUNTRY_INFO!B40)","v":"Koulikoro"},{"$f":"IF(COUNTRY_INFO!C40=0,\" \",COUNTRY_INFO!C40)","v":"Fana"},{"$f":"IF(COUNTRY_INFO!$AB40=\"T3 (ALB/MBD)\", \"T3 (ALB/MBD)\", \" \")","v":" "},null,null,null,null,0,null,null,null,0," "," "," "," "]
[{"$f":"IF(COUNTRY_INFO!A41=0,\" \",COUNTRY_INFO!A41)","v":"Mali"},{"$f":"IF(COUNTRY_INFO!B41=0,\" \",COUNTRY_INFO!B41)","v":"Koulikoro"},{"$f":"IF(COUNTRY_INFO!C41=0,\" \",COUNTRY_INFO!C41)","v":"Kalabancoro"},{"$f":"IF(COUNTRY_INFO!$AB41=\"T3 (ALB/MBD)\", \"T3 (ALB/MBD)\", \" \")","v":" "},null,null,null,null,0,null,null,null,0," "," "," "," "]
[{"$f":"IF(COUNTRY_INFO!A42=0,\" \",COUNTRY_INFO!A42)","v":"Mali"},{"$f":"IF(COUNTRY_INFO!B42=0,\" \",COUNTRY_INFO!B42)","v":"Koulikoro"},{"$f":"IF(COUNTRY_INFO!C42=0,\" \",COUNTRY_INFO!C42)","v":"Kangaba"},{"$f":"IF(COUNTRY_INFO!$AB42=\"T3 (ALB/MBD)\", \"T3 (ALB/MBD)\", \" \")","v":" "},null,null,null,null,0,null,null,null,0," "," "," "," "]
[{"$f":"IF(COUNTRY_INFO!A43=0,\" \",COUNTRY_INFO!A43)","v":"Mali"},{"$f":"IF(COUNTRY_INFO!B43=0,\" \",COUNTRY_INFO!B43)","v":"Koulikoro"},{"$f":"IF(COUNTRY_INFO!C43=0,\" \",COUNTRY_INFO!C43)","v":"Kati"},{"$f":"IF(COUNTRY_INFO!$AB43=\"T3 (ALB/MBD)\", \"T3 (ALB/MBD)\", \" \")","v":" "},null,null,null,null,0,null,null,null,0," "," "," "," "]
[{"$f":"IF(COUNTRY_INFO!A44=0,\" \",COUNTRY_INFO!A44)","v":"Mali"},{"$f":"IF(COUNTRY_INFO!B44=0,\" \",COUNTRY_INFO!B44)","v":"Koulikoro"},{"$f":"IF(COUNTRY_INFO!C44=0,\" \",COUNTRY_INFO!C44)","v":"Kolokani"},{"$f":"IF(COUNTRY_INFO!$AB44=\"T3 (ALB/MBD)\", \"T3 (ALB/MBD)\", \" \")","v":" "},null,null,null,null,0,null,null,null,0," "," "," "," "]
[{"$f":"IF(COUNTRY_INFO!A45=0,\" \",COUNTRY_INFO!A45)","v":"Mali"},{"$f":"IF(COUNTRY_INFO!B45=0,\" \",COUNTRY_INFO!B45)","v":"Koulikoro"},{"$f":"IF(COUNTRY_INFO!C45=0,\" \",COUNTRY_INFO!C45)","v":"Koulikoro"},{"$f":"IF(COUNTRY_INFO!$AB45=\"T3 (ALB/MBD)\", \"T3 (ALB/MBD)\", \" \")","v":" "},null,null,null,null,0,null,null,null,0," "," "," "," "]
[{"$f":"IF(COUNTRY_INFO!A46=0,\" \",COUNTRY_INFO!A46)","v":"Mali"},{"$f":"IF(COUNTRY_INFO!B46=0,\" \",COUNTRY_INFO!B46)","v":"Koulikoro"},{"$f":"IF(COUNTRY_INFO!C46=0,\" \",COUNTRY_INFO!C46)","v":"Nara"},{"$f":"IF(COUNTRY_INFO!$AB46=\"T3 (ALB/MBD)\", \"T3 (ALB/MBD)\", \" \")","v":" "},null,null,null,null,0,null,null,null,0," "," "," "," "]
[{"$f":"IF(COUNTRY_INFO!A47=0,\" \",COUNTRY_INFO!A47)","v":"Mali"},{"$f":"IF(COUNTRY_INFO!B47=0,\" \",COUNTRY_INFO!B47)","v":"Koulikoro"},{"$f":"IF(COUNTRY_INFO!C47=0,\" \",COUNTRY_INFO!C47)","v":"Ouelessebougou"},{"$f":"IF(COUNTRY_INFO!$AB47=\"T3 (ALB/MBD)\", \"T3 (ALB/MBD)\", \" \")","v":" "},null,null,null,null,0,null,null,null,0," "," "," "," "]
[{"$f":"IF(COUNTRY_INFO!A48=0,\" \",COUNTRY_INFO!A48)","v":"Mali"},{"$f":"IF(COUNTRY_INFO!B48=0,\" \",COUNTRY_INFO!B48)","v":"Mopti"},{"$f":"IF(COUNTRY_INFO!C48=0,\" \",COUNTRY_INFO!C48)","v":"Bandiagara"},{"$f":"IF(COUNTRY_INFO!$AB48=\"T3 (ALB/MBD)\", \"T3 (ALB/MBD)\", \" \")","v":" "},null,null,null,null,0,null,null,null,0," "," "," "," "]
[{"$f":"IF(COUNTRY_INFO!A49=0,\" \",COUNTRY_INFO!A49)","v":"Mali"},{"$f":"IF(COUNTRY_INFO!B49=0,\" \",COUNTRY_INFO!B49)","v":"Mopti"},{"$f":"IF(COUNTRY_INFO!C49=0,\" \",COUNTRY_INFO!C49)","v":"Bankass"},{"$f":"IF(COUNTRY_INFO!$AB49=\"T3 (ALB/MBD)\", \"T3 (ALB/MBD)\", \" \")","v":" "},null,null,null,null,0,null,null,null,0," "," "," "," "]
[{"$f":"IF(COUNTRY_INFO!A50=0,\" \",COUNTRY_INFO!A50)","v":"Mali"},{"$f":"IF(COUNTRY_INFO!B50=0,\" \",COUNTRY_INFO!B50)","v":"Mopti"},{"$f":"IF(COUNTRY_INFO!C50=0,\" \",COUNTRY_INFO!C50)","v":"Djenne"},{"$f":"IF(COUNTRY_INFO!$AB50=\"T3 (ALB/MBD)\", \"T3 (ALB/MBD)\", \" \")","v":" "},null,null,null,null,0,null,null,null,0," "," "," "," "]
[{"$f":"IF(COUNTRY_INFO!A51=0,\" \",COUNTRY_INFO!A51)","v":"Mali"},{"$f":"IF(COUNTRY_INFO!B51=0,\" \",COUNTRY_INFO!B51)","v":"Mopti"},{"$f":"IF(COUNTRY_INFO!C51=0,\" \",COUNTRY_INFO!C51)","v":"Douentza"},{"$f":"IF(COUNTRY_INFO!$AB51=\"T3 (ALB/MBD)\", \"T3 (ALB/MBD)\", \" \")","v":" "},null,null,null,null,0,null,null,null,0," "," "," "," "]
[{"$f":"IF(COUNTRY_INFO!A52=0,\" \",COUNTRY_INFO!A52)","v":"Mali"},{"$f":"IF(COUNTRY_INFO!B52=0,\" \",COUNTRY_INFO!B52)","v":"Mopti"},{"$f":"IF(COUNTRY_INFO!C52=0,\" \",COUNTRY_INFO!C52)","v":"Koro"},{"$f":"IF(COUNTRY_INFO!$AB52=\"T3 (ALB/MBD)\", \"T3 (ALB/MBD)\", \" \")","v":" "},null,null,null,null,0,null,null,null,0," "," "," "," "]
[{"$f":"IF(COUNTRY_INFO!A53=0,\" \",COUNTRY_INFO!A53)","v":"Mali"},{"$f":"IF(COUNTRY_INFO!B53=0,\" \",COUNTRY_INFO!B53)","v":"Mopti"},{"$f":"IF(COUNTRY_INFO!C53=0,\" \",COUNTRY_INFO!C53)","v":"Mopti"},{"$f":"IF(COUNTRY_INFO!$AB53=\"T3 (ALB/MBD)\", \"T3 (ALB/MBD)\", \" \")","v":" "},null,null,null,null,0,null,null,null,0," "," "," "," "]
[{"$f":"IF(COUNTRY_INFO!A54=0,\" \",COUNTRY_INFO!A54)","v":"Mali"},{"$f":"IF(COUNTRY_INFO!B54=0,\" \",COUNTRY_INFO!B54)","v":"Mopti"},{"$f":"IF(COUNTRY_INFO!C54=0,\" \",COUNTRY_INFO!C54)","v":"Teninkou"},{"$f":"IF(COUNTRY_INFO!$AB54=\"T3 (ALB/MBD)\", \"T3 (ALB/MBD)\", \" \")","v":" "},null,null,null,null,0,null,null,null,0," "," "," "," "]
[{"$f":"IF(COUNTRY_INFO!A55=0,\" \",COUNTRY_INFO!A55)","v":"Mali"},{"$f":"IF(COUNTRY_INFO!B55=0,\" \",COUNTRY_INFO!B55)","v":"Mopti"},{"$f":"IF(COUNTRY_INFO!C55=0,\" \",COUNTRY_INFO!C55)","v":"Youwarou"},{"$f":"IF(COUNTRY_INFO!$AB55=\"T3 (ALB/MBD)\", \"T3 (ALB/MBD)\", \" \")","v":" "},null,null,null,null,0,null,null,null,0," "," "," "," "]
[{"$f":"IF(COUNTRY_INFO!A56=0,\" \",COUNTRY_INFO!A56)","v":"Mali"},{"$f":"IF(COUNTRY_INFO!B56=0,\" \",COUNTRY_INFO!B56)","v":"Segou"},{"$f":"IF(COUNTRY_INFO!C56=0,\" \",COUNTRY_INFO!C56)","v":"Barouéli"},{"$f":"IF(COUNTRY_INFO!$AB56=\"T3 (ALB/MBD)\", \"T3 (ALB/MBD)\", \" \")","v":" "},null,null,null,null,0,null,null,null,0," "," "," "," "]
[{"$f":"IF(COUNTRY_INFO!A57=0,\" \",COUNTRY_INFO!A57)","v":"Mali"},{"$f":"IF(COUNTRY_INFO!B57=0,\" \",COUNTRY_INFO!B57)","v":"Segou"},{"$f":"IF(COUNTRY_INFO!C57=0,\" \",COUNTRY_INFO!C57)","v":"Bla"},{"$f":"IF(COUNTRY_INFO!$AB57=\"T3 (ALB/MBD)\", \"T3 (ALB/MBD)\", \" \")","v":" "},null,null,null,null,0,null,null,null,0," "," "," "," "]
[{"$f":"IF(COUNTRY_INFO!A58=0,\" \",COUNTRY_INFO!A58)","v":"Mali"},{"$f":"IF(COUNTRY_INFO!B58=0,\" \",COUNTRY_INFO!B58)","v":"Segou"},{"$f":"IF(COUNTRY_INFO!C58=0,\" \",COUNTRY_INFO!C58)","v":"Macina"},{"$f":"IF(COUNTRY_INFO!$AB58=\"T3 (ALB/MBD)\", \"T3 (ALB/MBD)\", \" \")","v":" "},null,null,null,null,0,null,null,null,0," "," "," "," "]
[{"$f":"IF(COUNTRY_INFO!A59=0,\" \",COUNTRY_INFO!A59)","v":"Mali"},{"$f":"IF(COUNTRY_INFO!B59=0,\" \",COUNTRY_INFO!B59)","v":"Segou"},{"$f":"IF(COUNTRY_INFO!C59=0,\" \",COUNTRY_INFO!C59)","v":"Markala"},{"$f":"IF(COUNTRY_INFO!$AB59=\"T3 (ALB/MBD)\", \"T3 (ALB/MBD)\", \" \")","v":" "},null,null,null,null,0,null,null,null,0," "," "," "," "]
[{"$f":"IF(COUNTRY_INFO!A60=0,\" \",COUNTRY_INFO!A60)","v":"Mali"},{"$f":"IF(COUNTRY_INFO!B60=0,\" \",COUNTRY_INFO!B60)","v":"Segou"},{"$f":"IF(COUNTRY_INFO!C60=0,\" \",COUNTRY_INFO!C60)","v":"Niono"},{"$f":"IF(COUNTRY_INFO!$AB60=\"T3 (ALB/MBD)\", \"T3 (ALB/MBD)\", \" \")","v":" "},null,null,null,null,0,null,null,null,0," "," "," "," "]
[{"$f":"IF(COUNTRY_INFO!A61=0,\" \",COUNTRY_INFO!A61)","v":"Mali"},{"$f":"IF(COUNTRY_INFO!B61=0,\" \",COUNTRY_INFO!B61)","v":"Segou"},{"$f":"IF(COUNTRY_INFO!C61=0,\" \",COUNTRY_INFO!C61)","v":"San"},{"$f":"IF(COUNTRY_INFO!$AB61=\"T3 (ALB/MBD)\", \"T3 (ALB/MBD)\", \" \")","v":" "},null,null,null,null,0,null,null,null,0," "," "," "," "]
[{"$f":"IF(COUNTRY_INFO!A62=0,\" \",COUNTRY_INFO!A62)","v":"Mali"},{"$f":"IF(COUNTRY_INFO!B62=0,\" \",COUNTRY_INFO!B62)","v":"Segou"},{"$f":"IF(COUNTRY_INFO!C62=0,\" \",COUNTRY_INFO!C62)","v":"Segou"},{"$f":"IF(COUNTRY_INFO!$AB62=\"T3 (ALB/MBD)\", \"T3 (ALB/MBD)\", \" \")","v":" "},null,null,null,null,0,null,null,null,0," "," "," "," "]
[{"$f":"IF(COUNTRY_INFO!A63=0,\" \",COUNTRY_INFO!A63)","v":"Mali"},{"$f":"IF(COUNTRY_INFO!B63=0,\" \",COUNTRY_INFO!B63)","v":"Segou"},{"$f":"IF(COUNTRY_INFO!C63=0,\" \",COUNTRY_INFO!C63)","v":"Tominian"},{"$f":"IF(COUNTRY_INFO!$AB63=\"T3 (ALB/MBD)\", \"T3 (ALB/MBD)\", \" \")","v":" "},null,null,null,null,0,null,null,null,0," "," "," "," "]
[{"$f":"IF(COUNTRY_INFO!A64=0,\" \",COUNTRY_INFO!A64)","v":"Mali"},{"$f":"IF(COUNTRY_INFO!B64=0,\" \",COUNTRY_INFO!B64)","v":"Sikasso"},{"$f":"IF(COUNTRY_INFO!C64=0,\" \",COUNTRY_INFO!C64)","v":"Bougouni"},{"$f":"IF(COUNTRY_INFO!$AB64=\"T3 (ALB/MBD)\", \"T3 (ALB/MBD)\", \" \")","v":" "},null,null,null,null,0,null,null,null,0," "," "," "," "]
[{"$f":"IF(COUNTRY_INFO!A65=0,\" \",COUNTRY_INFO!A65)","v":"Mali"},{"$f":"IF(COUNTRY_INFO!B65=0,\" \",COUNTRY_INFO!B65)","v":"Sikasso"},{"$f":"IF(COUNTRY_INFO!C65=0,\" \",COUNTRY_INFO!C65)","v":"Kadiolo"},{"$f":"IF(COUNTRY_INFO!$AB65=\"T3 (ALB/MBD)\", \"T3 (ALB/MBD)\", \" \")","v":" "},null,null,null,null,0,null,null,null,0," "," "," "," "]
[{"$f":"IF(COUNTRY_INFO!A66=0,\" \",COUNTRY_INFO!A66)","v":"Mali"},{"$f":"IF(COUNTRY_INFO!B66=0,\" \",COUNTRY_INFO!B66)","v":"Sikasso"},{"$f":"IF(COUNTRY_INFO!C66=0,\" \",COUNTRY_INFO!C66)","v":"Kignan"},{"$f":"IF(COUNTRY_INFO!$AB66=\"T3 (ALB/MBD)\", \"T3 (ALB/MBD)\", \" \")","v":" "},null,null,null,null,0,null,null,null,0," "," "," "," "]
[{"$f":"IF(COUNTRY_INFO!A67=0,\" \",COUNTRY_INFO!A67)","v":"Mali"},{"$f":"IF(COUNTRY_INFO!B67=0,\" \",COUNTRY_INFO!B67)","v":"Sikasso"},{"$f":"IF(COUNTRY_INFO!C67=0,\" \",COUNTRY_INFO!C67)","v":"Kolondieba"},{"$f":"IF(COUNTRY_INFO!$AB67=\"T3 (ALB/MBD)\", \"T3 (ALB/MBD)\", \" \")","v":" "},null,null,null,null,0,null,null,null,0," "," "," "," "]
[{"$f":"IF(COUNTRY_INFO!A68=0,\" \",COUNTRY_INFO!A68)","v":"Mali"},{"$f":"IF(COUNTRY_INFO!B68=0,\" \",COUNTRY_INFO!B68)","v":"Sikasso"},{"$f":"IF(COUNTRY_INFO!C68=0,\" \",COUNTRY_INFO!C68)","v":"Koutiala"},{"$f":"IF(COUNTRY_INFO!$AB68=\"T3 (ALB/MBD)\", \"T3 (ALB/MBD)\", \" \")","v":" "},null,null,null,null,0,null,null,null,0," "," "," "," "]
[{"$f":"IF(COUNTRY_INFO!A69=0,\" \",COUNTRY_INFO!A69)","v":"Mali"},{"$f":"IF(COUNTRY_INFO!B69=0,\" \",COUNTRY_INFO!B69)","v":"Sikasso"},{"$f":"IF(COUNTRY_INFO!C69=0,\" \",COUNTRY_INFO!C69)","v":"Niena"},{"$f":"IF(COUNTRY_INFO!$AB69=\"T3 (ALB/MBD)\", \"T3 (ALB/MBD)\", \" \")","v":" "},null,null,null,null,0,null,null,null,0," "," "," "," "]
[{"$f":"IF(COUNTRY_INFO!A70=0,\" \",COUNTRY_INFO!A70)","v":"Mali"},{"$f":"IF(COUNTRY_INFO!B70=0,\" \",COUNTRY_INFO!B70)","v":"Sikasso"},{"$f":"IF(COUNTRY_INFO!C70=0,\" \",COUNTRY_INFO!C70)","v":"Sélingué"},{"$f":"IF(COUNTRY_INFO!$AB70=\"T3 (ALB/MBD)\", \"T3 (ALB/MBD)\", \" \")","v":" "},null,null,null,null,0,null,null,null,0," "," "," "," "]
[{"$f":"IF(COUNTRY_INFO!A71=0,\" \",COUNTRY_INFO!A71)","v":"Mali"},{"$f":"IF(COUNTRY_INFO!B71=0,\" \",COUNTRY_INFO!B71)","v":"Sikasso"},{"$f":"IF(COUNTRY_INFO!C71=0,\" \",COUNTRY_INFO!C71)","v":"Sikasso"},{"$f":"IF(COUNTRY_INFO!$AB71=\"T3 (ALB/MBD)\", \"T3 (ALB/MBD)\", \" \")","v":" "},null,null,null,null,0,null,null,null,0," "," "," "," "]
[{"$f":"IF(COUNTRY_INFO!A72=0,\" \",COUNTRY_INFO!A72)","v":"Mali"},{"$f":"IF(COUNTRY_INFO!B72=0,\" \",COUNTRY_INFO!B72)","v":"Sikasso"},{"$f":"IF(COUNTRY_INFO!C72=0,\" \",COUNTRY_INFO!C72)","v":"Yanfolila"},{"$f":"IF(COUNTRY_INFO!$AB72=\"T3 (ALB/MBD)\", \"T3 (ALB/MBD)\", \" \")","v":" "},null,null,null,null,0,null,null,null,0," "," "," "," "]
[{"$f":"IF(COUNTRY_INFO!A73=0,\" \",COUNTRY_INFO!A73)","v":"Mali"},{"$f":"IF(COUNTRY_INFO!B73=0,\" \",COUNTRY_INFO!B73)","v":"Sikasso"},{"$f":"IF(COUNTRY_INFO!C73=0,\" \",COUNTRY_INFO!C73)","v":"Yorosso"},{"$f":"IF(COUNTRY_INFO!$AB73=\"T3 (ALB/MBD)\", \"T3 (ALB/MBD)\", \" \")","v":" "},null,null,null,null,0,null,null,null,0," "," "," "," "]
[{"$f":"IF(COUNTRY_INFO!A74=0,\" \",COUNTRY_INFO!A74)","v":"Mali"},{"$f":"IF(COUNTRY_INFO!B74=0,\" \",COUNTRY_INFO!B74)","v":"Tombouctou"},{"$f":"IF(COUNTRY_INFO!C74=0,\" \",COUNTRY_INFO!C74)","v":"Diré"},{"$f":"IF(COUNTRY_INFO!$AB74=\"T3 (ALB/MBD)\", \"T3 (ALB/MBD)\", \" \")","v":" "},null,null,null,null,0,null,null,null,0," "," "," "," "]
[{"$f":"IF(COUNTRY_INFO!A75=0,\" \",COUNTRY_INFO!A75)","v":"Mali"},{"$f":"IF(COUNTRY_INFO!B75=0,\" \",COUNTRY_INFO!B75)","v":"Tombouctou"},{"$f":"IF(COUNTRY_INFO!C75=0,\" \",COUNTRY_INFO!C75)","v":"Goundam"},{"$f":"IF(COUNTRY_INFO!$AB75=\"T3 (ALB/MBD)\", \"T3 (ALB/MBD)\", \" \")","v":" "},null,null,null,null,{"$f":"SUM(F75:H75)","v":0},null,null,null,{"$f":"SUM(J75:L75)","v":0},{"$f":"IF(F75<>0, IF(J75/F75*100=0, \"-\", J75/F75*100), \" \")","v":" "},{"$f":"IF(G75<>0, IF(K75/G75*100=0, \"-\", K75/G75*100), \" \")","v":" "},{"$f":"IF(H75<>0, IF(L75/H75*100=0, \"-\", L75/H75*100), \" \")","v":" "},{"$f":"IF(I75<>0, IF(M75/I75*100=0, \"-\", M75/I75*100), \" \")","v":" "}]
[{"$f":"IF(COUNTRY_INFO!A76=0,\" \",COUNTRY_INFO!A76)","v":"Mali"},{"$f":"IF(COUNTRY_INFO!B76=0,\" \",COUNTRY_INFO!B76)","v":"Tombouctou"},{"$f":"IF(COUNTRY_INFO!C76=0,\" \",COUNTRY_INFO!C76)","v":"Gourma-Rharous"},{"$f":"IF(COUNTRY_INFO!$AB76=\"T3 (ALB/MBD)\", \"T3 (ALB/MBD)\", \" \")","v":" "},null,null,null,null,0,null,null,null,0," "," "," "," "]
[{"$f":"IF(COUNTRY_INFO!A77=0,\" \",COUNTRY_INFO!A77)","v":"Mali"},{"$f":"IF(COUNTRY_INFO!B77=0,\" \",COUNTRY_INFO!B77)","v":"Tombouctou"},{"$f":"IF(COUNTRY_INFO!C77=0,\" \",COUNTRY_INFO!C77)","v":"Niafunké"},{"$f":"IF(COUNTRY_INFO!$AB77=\"T3 (ALB/MBD)\", \"T3 (ALB/MBD)\", \" \")","v":" "},null,null,null,null,0,null,null,null,0," "," "," "," "]
[{"$f":"IF(COUNTRY_INFO!A78=0,\" \",COUNTRY_INFO!A78)","v":"Mali"},{"$f":"IF(COUNTRY_INFO!B78=0,\" \",COUNTRY_INFO!B78)","v":"Tombouctou"},{"$f":"IF(COUNTRY_INFO!C78=0,\" \",COUNTRY_INFO!C78)","v":"Tombouctou"},{"$f":"IF(COUNTRY_INFO!$AB78=\"T3 (ALB/MBD)\", \"T3 (ALB/MBD)\", \" \")","v":" "},null,null,null,null,0,null,null,null,0," "," "," "," "]
[{"$f":"IF(COUNTRY_INFO!A79=0,\" \",COUNTRY_INFO!A79)","v":"Mali"},{"$f":"IF(COUNTRY_INFO!B79=0,\" \",COUNTRY_INFO!B79)","v":"Taoudenit"},{"$f":"IF(COUNTRY_INFO!C79=0,\" \",COUNTRY_INFO!C79)","v":"Achourat"},{"$f":"IF(COUNTRY_INFO!$AB79=\"T3 (ALB/MBD)\", \"T3 (ALB/MBD)\", \" \")","v":" "},null,null,null,null,0,null,null,null,0," "," "," "," "]
[{"$f":"IF(COUNTRY_INFO!A80=0,\" \",COUNTRY_INFO!A80)","v":"Mali"},{"$f":"IF(COUNTRY_INFO!B80=0,\" \",COUNTRY_INFO!B80)","v":"Taoudenit"},{"$f":"IF(COUNTRY_INFO!C80=0,\" \",COUNTRY_INFO!C80)","v":"Al-Ourch"},{"$f":"IF(COUNTRY_INFO!$AB80=\"T3 (ALB/MBD)\", \"T3 (ALB/MBD)\", \" \")","v":" "},null,null,null,null,0,null,null,null,0," "," "," "," "]
[{"$f":"IF(COUNTRY_INFO!A81=0,\" \",COUNTRY_INFO!A81)","v":"Mali"},{"$f":"IF(COUNTRY_INFO!B81=0,\" \",COUNTRY_INFO!B81)","v":"Taoudenit"},{"$f":"IF(COUNTRY_INFO!C81=0,\" \",COUNTRY_INFO!C81)","v":"Araouane"},{"$f":"IF(COUNTRY_INFO!$AB81=\"T3 (ALB/MBD)\", \"T3 (ALB/MBD)\", \" \")","v":" "},null,null,null,null,0,null,null,null,0," "," "," "," "]
[{"$f":"IF(COUNTRY_INFO!A82=0,\" \",COUNTRY_INFO!A82)","v":"Mali"},{"$f":"IF(COUNTRY_INFO!B82=0,\" \",COUNTRY_INFO!B82)","v":"Taoudenit"},{"$f":"IF(COUNTRY_INFO!C82=0,\" \",COUNTRY_INFO!C82)","v":"Boujbeha"},{"$f":"IF(COUNTRY_INFO!$AB82=\"T3 (ALB/MBD)\", \"T3 (ALB/MBD)\", \" \")","v":" "},null,null,null,null,0,null,null,null,0," "," "," "," "]
[{"$f":"IF(COUNTRY_INFO!A83=0,\" \",COUNTRY_INFO!A83)","v":"Mali"},{"$f":"IF(COUNTRY_INFO!B83=0,\" \",COUNTRY_INFO!B83)","v":"Taoudenit"},{"$f":"IF(COUNTRY_INFO!C83=0,\" \",COUNTRY_INFO!C83)","v":"Foum-Elba"},{"$f":"IF(COUNTRY_INFO!$AB83=\"T3 (ALB/MBD)\", \"T3 (ALB/MBD)\", \" \")","v":" "},null,null,null,null,0,null,null,null,0," "," "," "," "]
[{"$f":"IF(COUNTRY_INFO!A84=0,\" \",COUNTRY_INFO!A84)","v":"Mali"},{"$f":"IF(COUNTRY_INFO!B84=0,\" \",COUNTRY_INFO!B84)","v":"Taoudenit"},{"$f":"IF(COUNTRY_INFO!C84=0,\" \",COUNTRY_INFO!C84)","v":"Taoudenit"},{"$f":"IF(COUNTRY_INFO!$AB84=\"T3 (ALB/MBD)\", \"T3 (ALB/MBD)\", \" \")","v":" "},null,null,null,null,0,null,null,null,0," "," "," "," "]

{"sheet":"DISTRICT","index":11,"n_rows":84,"n_cols":65,"rows_kept":84,"cut":false,"hidden":false,"merged":[[3,0,3,2],[5,0,5,2],[5,4,5,8],[5,10,5,14],[5,16,5,29],[5,31,5,44],[5,3,6,3],[5,9,6,9],[5,15,6,15],[5,30,6,30]]}
["Nombre d'individus traités"]
["Structure administrative, population traitée par groupe d'âge et sexe"]
[]
["TOTAL",null,null,{"$f":"SUBTOTAL(9,D$10:D$1010)","v":0},{"$f":"SUBTOTAL(9,E$10:E$1010)","v":0},0,0,0,{"$f":"IF(D4>0, IF(H4/D4*100<>0, H4/D4*100, \"-\"),0)","v":0},{"$f":"SUBTOTAL(9,J$10:J$1010)","v":7034518.2925920002},2682092,2496737,5178829,5178829,{"$f":"IF(J4>0, IF(N4/J4*100<>0, N4/J4*100, \"-\"),0)","v":73.620236448226834},{"$f":"SUBTOTAL(9,P$10:P$1010)","v":0},0,0,0,0,{"$f":"IF(COUNTRY_INFO!N4>0, IF(T4/COUNTRY_INFO!N4*100<>0, T4/COUNTRY_INFO!N4*100, \"-\"),0)","v":0},0,{"$f":"SUBTOTAL(9,W$10:W$1010)","v":0},{"$f":"IF(COUNTRY_INFO!O4>0, IF(W4/COUNTRY_INFO!O4*100<>0,W4/COUNTRY_INFO!O4*100, \"-\"),0)","v":0},{"$f":"SUBTOTAL(9,Y$10:Y$1010)","v":0},{"$f":"SUBTOTAL(9,Z$10:Z$1010)","v":0},{"$f":"IF(COUNTRY_INFO!P4>0, IF(Z4/COUNTRY_INFO!P4*100<>0, Z4/COUNTRY_INFO!P4*100, \"-\"),0)","v":0},{"$f":"SUBTOTAL(9,AB$10:AB$1010)","v":0},{"$f":"SUBTOTAL(9,AC$10:AC$1010)","v":0},{"$f":"IF(P4>0, IF(AC4/P4*100<>0, AC4/P4*100, \"-\"),0)","v":0},{"$f":"SUBTOTAL(9,AE$10:AE$1010)","v":13428026},0,0,0,0,{"$f":"IF(COUNTRY_INFO!R4>0, IF(AI4/COUNTRY_INFO!R4*100<>0, AI4/COUNTRY_INFO!R4*100, \"-\"),0)","v":"-"},{"$f":"SUBTOTAL(9,AK$10:AK$1010)","v":3254163},2727405,{"$f":"IF(COUNTRY_INFO!S4>0, IF(AL4/COUNTRY_INFO!S4*100<>0, AL4/COUNTRY_INFO!S4*100, \"-\"),0)","v":63.585463821699918},{"$f":"SUBTOTAL(9,AN$10:AN$1010)","v":800203},{"$f":"SUBTOTAL(9,AO$10:AO$1010)","v":788508},{"$f":"IF(COUNTRY_INFO!T4>0, IF(AO4/COUNTRY_INFO!T4*100<>0, AO4/COUNTRY_INFO!T4*100, \"-\"),0)","v":10.400850104231685},{"$f":"SUBTOTAL(9,AQ$10:AQ$1010)","v":4054366},{"$f":"SUBTOTAL(9,AR$10:AR$1010)","v":3515913},{"$f":"IF(AE4>0, IF(AR4/AE4*100<>0, AR4/AE4*100, \"-\"),0)","v":26.183394342548933}]
[null,null,null,null,null,null,null,null,null,null,null,null,null,null,null,0,0,0,0,0,null,null,null,null,null,0,null,0]
["Structure administrative du pays",null,null,"Population nécessitant la CP pour FL","Population traitée pour la filariose lymphatique",null,null,null,null,"Population nécessitant la CP pour ONCHO","Population traitée pour l'onchocercose",null,null,null,null,"Population nécessitant la CP pour STH","Population traitée pour les géohelminthiases",null,null,null,null,null,null,null,null,null,null,null,null,null,"Population nécessitant la CP pour SCH","Population traitée pour la schistosomiase",null,null,null,null,null,null,null,null,null,null,null,null,null,null,null,null,null,null,{"$f":"SUBTOTAL(9,AY10:AY1010)","v":351726.61530391691},{"$f":"SUBTOTAL(9,AZ10:AZ1010)","v":2270229.1934404108},5371791.5031864261,9537181.9806612469,17530929.292592004,{"$f":"COUNTIF(BD10:BD1010,\"Y\")","v":51},{"$f":"SUBTOTAL(9,BE10:BE1010)","v":0},4235822,3891905,8127727,0,3954805.7643520227,3869030.2826230349,7823836.0469750585,{"$f":"IF(BC6<>0,BL6/BC6,0)","v":0.44628758215807507}]
["Pays","Région/Département","District",null,"Masculine","Féminine","Total traité","Total traité ayant besoin de CP","(%)",null,"Masculine","Féminine","Total traité","Total traité ayant besoin de CP","(%)",null,"Masculine","Féminine","Total EAPréS traité","EAPréS traité ayant besoin de CP","EAPréS (%)","Total EAS traité","EAS traité ayant besoin de CP","EAS (%)","Total Adultes traité","Adultes traité ayant besoin de CP","Adultes (%)","Total traité","Total traité ayant besoin de CP","(%)",null,"Masculine","Féminine","Total EAPréS traité","EAPréS traité ayant besoin de CP","EAPréS (%)","Total EAS traité","EAS traité ayant besoin de CP","EAS (%)","Total Adultes traité","Adultes traité ayant besoin de CP","Adultes (%)","Total traité","Total traité ayant besoin de CP","(%)",null,"LF","ONCHO","STH","SCH","<1","PreSAC","SAC","Adults","Total","Dis","PreSAC","SAC","Adults","Total","PreSAC","SAC","Adults","Total","Coverage"]
[]
[]
[{"$f":"IF(COUNTRY_INFO!A10=0,\" \",COUNTRY_INFO!A10)","v":"Mali"},{"$f":"IF(COUNTRY_INFO!B10=0,\" \",COUNTRY_INFO!B10)","v":"Bamako"},{"$f":"IF(COUNTRY_INFO!C10=0,\" \",COUNTRY_INFO!C10)","v":"Commune 1"},{"$f":"COUNTRY_INFO!L10","v":0},null,null,{"$f":"MAX('MDA1'!M10,'MDA2'!M10,'MDA5'!M10)","v":0},{"$f":"IF(AND(COUNTRY_INFO!H10>0,COUNTRY_INFO!H10<4),IF(D10>G10,G10,D10),0)","v":0},{"$f":"IF(AND(COUNTRY_INFO!H10>0,COUNTRY_INFO!H10<4), IF(G10/D10*100<>0, IF(G10/D10*100>100,100,G10/D10*100), \"-\"),0)","v":0},{"$f":"COUNTRY_INFO!M10","v":0},null,null,{"$f":"MAX('MDA1'!M10,MAX('MDA3'!I10,'MDA3'!L10)+MAX('MDA3'!J10,'MDA3'!M10))","v":0},{"$f":"IF(AND(COUNTRY_INFO!I10>0,COUNTRY_INFO!I10<4),IF(J10>M10,M10,J10),0)","v":0},{"$f":"IF(AND(COUNTRY_INFO!I10>0,COUNTRY_INFO!I10<4), IF(M10/J10*100<>0, IF(M10/J10*100>100,100,M10/J10*100), \"-\"),0)","v":0},{"$f":"COUNTRY_INFO!Q10","v":"Non requis"},null,null,{"$f":"MAX('MDA2'!J10,'MDA5'!J10,'T1'!K10, MAX(T3_R1!J10,T3_R2!J10,T3_R3!J10))","v":0},{"$f":"IF(AND(COUNTRY_INFO!J10>1,COUNTRY_INFO!J10<99,COUNTRY_INFO!J10<>4,COUNTRY_INFO!J10<>5),IF(COUNTRY_INFO!N10>S10,S10,COUNTRY_INFO!N10),0)","v":0},{"$f":"IF(AND(COUNTRY_INFO!J10>1,COUNTRY_INFO!J10<99,COUNTRY_INFO!J10<>4,COUNTRY_INFO!J10<>5), IF(T10/COUNTRY_INFO!N10*100<>0, IF(T10/COUNTRY_INFO!N10*100>100,100,T10/COUNTRY_INFO!N10*100), \"-\"),0)","v":0},{"$f":"MAX('MDA1'!K10, 'MDA2'!K10, 'MDA5'!K10,'T1'!L10, MAX(T3_R1!K10,T3_R2!K10,T3_R3!K10))","v":0},{"$f":"IF(AND(COUNTRY_INFO!J10>1,COUNTRY_INFO!J10<99,COUNTRY_INFO!J10<>4,COUNTRY_INFO!J10<>5),IF(COUNTRY_INFO!O10>V10,V10,COUNTRY_INFO!O10),0)","v":0},{"$f":"IF(AND(COUNTRY_INFO!J10>1,COUNTRY_INFO!J10<99,COUNTRY_INFO!J10<>4,COUNTRY_INFO!J10<>5), IF(W10/COUNTRY_INFO!O10*100<>0, IF(W10/COUNTRY_INFO!O10*100>100,100,W10/COUNTRY_INFO!O10*100), \"-\"),0)","v":0},{"$f":"MAX('MDA1'!L10, 'MDA2'!L10, 'MDA5'!L10,'T1'!M10, MAX(T3_R1!L10,T3_R2!L10,T3_R3!L10))","v":0},{"$f":"IF(AND(COUNTRY_INFO!J10>1,COUNTRY_INFO!J10<99,COUNTRY_INFO!J10<>4,COUNTRY_INFO!J10<>5),IF(COUNTRY_INFO!P10>Y10,Y10,COUNTRY_INFO!P10),0)","v":0},{"$f":"IF(AND(COUNTRY_INFO!J10>1,COUNTRY_INFO!J10<99,COUNTRY_INFO!J10<>4,COUNTRY_INFO!J10<>5), IF(Z10/COUNTRY_INFO!P10*100<>0, IF(Z10/COUNTRY_INFO!P10*100>100,100,Z10/COUNTRY_INFO!P10*100), \"-\"),0)","v":0},{"$f":"SUM(S10,V10,Y10)","v":0},{"$f":"SUM(T10,W10,Z10)","v":0},{"$f":"IF(AND(COUNTRY_INFO!J10>1,COUNTRY_INFO!J10<99,COUNTRY_INFO!J10<>4,COUNTRY_INFO!J10<>5), IF(AC10/P10*100<>0, IF(AC10/P10*100>100,100,AC10/P10*100), \"-\"),0)","v":0},{"$f":"COUNTRY_INFO!U10","v":147155},null,null,{"$f":"MAX('T1'!K10,'T2'!R10)","v":0},{"$f":"IF(AND(COUNTRY_INFO!K10>1,COUNTRY_INFO!K10<99,COUNTRY_INFO!K10<>4,COUNTRY_INFO!K10<>5),IF(COUNTRY_INFO!R10>AH10,AH10,COUNTRY_INFO!R10),0)","v":0},{"$f":"IF(AND(COUNTRY_INFO!K10>1,COUNTRY_INFO!K10<99,COUNTRY_INFO!K10<>4,COUNTRY_INFO!K10<>5), IF(AI10/COUNTRY_INFO!R10*100<>0, IF(AI10/COUNTRY_INFO!R10*100>100,100,AI10/COUNTRY_INFO!R10*100), \"-\"),0)","v":"-"},{"$f":"MAX('T1'!L10,'T2'!S10)","v":0},{"$f":"IF(AND(COUNTRY_INFO!K10>1,COUNTRY_INFO!K10<99,COUNTRY_INFO!K10<>4,COUNTRY_INFO!K10<>5),IF(COUNTRY_INFO!S10>AK10,AK10,COUNTRY_INFO!S10),0)","v":0},{"$f":"IF(AND(COUNTRY_INFO!K10>1,COUNTRY_INFO!K10<99,COUNTRY_INFO!K10<>4,COUNTRY_INFO!K10<>5), IF(AL10/COUNTRY_INFO!S10*100<>0, IF(AL10/COUNTRY_INFO!S10*100>100,100,AL10/COUNTRY_INFO!S10*100), \"-\"),0)","v":"-"},{"$f":"MAX('T1'!M10,'T2'!T10)","v":0},{"$f":"IF(AND(COUNTRY_INFO!K10>1,COUNTRY_INFO!K10<99,COUNTRY_INFO!K10<>4,COUNTRY_INFO!K10<>5),IF(COUNTRY_INFO!T10>AN10,AN10,COUNTRY_INFO!T10),0)","v":0},{"$f":"IF(AND(COUNTRY_INFO!K10>1,COUNTRY_INFO!K10<99,COUNTRY_INFO!K10<>4,COUNTRY_INFO!K10<>5), IF(AO10/COUNTRY_INFO!T10*100<>0, IF(AO10/COUNTRY_INFO!T10*100>100,100,AO10/COUNTRY_INFO!T10*100), \"-\"),0)","v":"-"},{"$f":"SUM(AH10,AK10,AN10)","v":0},{"$f":"SUM(AI10,AL10,AO10)","v":0},{"$f":"IF(AND(COUNTRY_INFO!K10>1,COUNTRY_INFO!K10<99,COUNTRY_INFO!K10<>4,COUNTRY_INFO!K10<>5), IF(AR10/AE10*100<>0, IF(AR10/AE10*100>100,100,AR10/AE10*100), \"-\"),0)","v":"-"},null,{"$f":"IF(AND(D10<>0, D10<>\"Inconnu\",D10<>\"Interrompu\",D10<>\"Non requis\"),D10/COUNTRY_INFO!D10, 0)","v":0},{"$f":"IF(AND(J10<>0,J10<>\"Inconnu\",J10<>\"Interrompu\",J10<>\"Non requis\"),J10/COUNTRY_INFO!D10, 0)","v":0},{"$f":"IF(AND(P10<>0,P10<>\"Inconnu\",P10<>\"Surveillance\",P10<>\"Non requis\"),P10/COUNTRY_INFO!Q10, 0)","v":0},{"$f":"IF(AND(AE10<>0,AE10<>\"Inconnu\",AE10<>\"Surveillance\",AE10<>\"Non requis\"),AE10/COUNTRY_INFO!U10, 0)","v":1},{"$f":"IF(AU10>0,D10*PROFILE!$G$7,IF(AV10>0,J10*PROFILE!$G$7,0))","v":0},{"$f":"_xlfn.IFS(OR(AU10>0,AW10>0),COUNTRY_INFO!E10, AV10>0,J10*PROFILE!$G$8,AX10>0,COUNTRY_INFO!R10,COUNTIFS(AU10:AX10,\">0\")=0,0)","v":17188},{"$f":"_xlfn.IFS(OR(AU10>0,AW10>0),COUNTRY_INFO!F10, AV10>0,J10*PROFILE!$G$9,AX10>0,COUNTRY_INFO!S10,COUNTIFS(AU10:AX10,\">0\")=0,0)","v":46301},{"$f":"_xlfn.IFS(AU10>0,COUNTRY_INFO!G10, AND(AV10>0,AW10=0,AX10=0),J10*PROFILE!$G$10,AND(AV10>0,AW10>0,AX10=0), MAX(J10*PROFILE!$G$10,COUNTRY_INFO!P10),AND(AV10>0,AW10=0,AX10>0), MAX(J10*PROFILE!$G$10,COUNTRY_INFO!T10),AND(AV10=0,AW10>0,AX10>0), MAX(COUNTRY_INFO!P10,COUNTRY_INFO!T10),AND(AV10=0,AW10>0,AX10=0),COUNTRY_INFO!P10,AND(AV10=0,AW10=0,AX10>0),COUNTRY_INFO!T10,AND(AV10>0,AW10>0,AX10>0), MAX(J10*PROFILE!$G$10,COUNTRY_INFO!P10,COUNTRY_INFO!T10),COUNTIFS(AU10:AX10,\">0\")=0,0)","v":83666},{"$f":"SUM(AY10:BB10)","v":147155},{"$f":"IF(COUNTIFS(AU10:AX10,\">0\")=0,0, IF(COUNTIFS(AU10:AX10,\">0\")<=IF(AND(OR(D10>=0,D10=\"Non requis\",D10=\"Inconnu\",D10=\"Interrompu\"),D10>0,H10>0),1,0)+IF(AND(OR(J10>=0,J10=\"Non requis\",J10=\"Inconnu\",J10=\"Interrompu\"),J10>0,N10>0),1,0)+IF(AND(OR(P10>=0,P10=\"Non requis\",P10=\"Surveillance\",P10=\"Inconnu\"),P10>0,AC10>0),1,0)+IF(AND(OR(AE10>=0,AE10=\"Non requis\",AE10=\"Surveillance\",AE10=\"Inconnu\"),AE10>0,AR10>0),1,0),\"Y\",0))","v":0},{"$f":"MAX('MDA2'!J10,'MDA5'!J10,S10,AH10)","v":0},{"$f":"MAX('MDA1'!K10,'MDA2'!K10,'MDA3'!I10,'MDA3'!L10,'MDA5'!K10,V10,AK10)","v":0},{"$f":"MAX('MDA1'!L10,'MDA2'!L10,'MDA3'!J10,'MDA3'!M10,'MDA5'!L10,Y10,AN10)","v":0},{"$f":"SUM(BE10:BG10)","v":0},{"$f":"_xlfn.IFS(AND(AU10=0,AW10=0,AX10=0),0,AND(AU10=0,AW10=0,AX10>0),AI10,AND(AU10=0,AW10>0,AX10=0),T10,AND(AU10=0,AW10>0,AX10>0),MAX(T10,AI10),AND(AU10>0,AW10=0,AX10=0),MIN(MAX('MDA2'!J10,'MDA5'!J10),AZ10),AND(AU10>0,AW10=0,AX10>0),MIN(MAX('MDA2'!J10,'MDA5'!J10,AI10),AZ10),AND(AU10>0,AW10>0,AX10=0),MIN(MAX('MDA2'!J10,'MDA5'!J10,T10),AZ10),AND(AU10>0,AW10>0,AX10>0),MIN(MAX('MDA2'!J10,'MDA5'!J10,AI10,T10),AZ10))","v":0},{"$f":"_xlfn.IFS(AND(AU10=0,AV10=0,AW10=0,AX10=0),0,AND(AU10=0,AV10=0,AW10=0,AX10>0),AL10,AND(AU10=0,AV10=0,AW10>0,AX10=0),W10,AND(AU10=0,AV10=0,AW10>0,AX10>0),MAX(W10,AL10),AND(AU10=0,AV10>0,AW10=0,AX10=0),MIN(J10*PROFILE!$G$9,MAX('MDA3'!I10,'MDA3'!L10)),AND(AU10=0,AV10>0,AW10=0,AX10>0),MIN(J10*PROFILE!$G$9,MAX('MDA3'!I10,'MDA3'!L10,AL10)),AND(AU10=0,AV10>0,AW10>0,AX10=0),MIN(J10*PROFILE!$G$9,MAX('MDA3'!I10,'MDA3'!L10,W10)),AND(AU10=0,AV10>0,AW10>0,AX10>0),MIN(J10*PROFILE!$G$9,MAX('MDA3'!I10,'MDA3'!L10,W10,AL10)),AND(AU10>0,AV10=0,AW10=0,AX10=0), MIN(BA10,MAX('MDA1'!K10,'MDA2'!K10,'MDA5'!K10)),AND(AU10>0,AV10=0,AW10=0,AX10>0), MIN(BA10,MAX('MDA1'!K10,'MDA2'!K10,'MDA5'!K10,AL10)),AND(AU10>0,AV10=0,AW10>0,AX10=0),MIN(BA10,MAX('MDA1'!K10,'MDA2'!KL10,'MDA5'!K10,W10)),AND(AU10>0,AV10=0,AW10>0,AX10>0),MIN(BA10,MAX('MDA1'!K10,'MDA2'!K10,'MDA5'!K10,W10,AL10)),AND(AU10>0,AV10>0,AW10=0,AX10=0),MIN(BA10, MAX('MDA1'!K10,'MDA2'!K10, 'MDA5'!K10,MAX('MDA3'!I10,'MDA3'!L10))), AND(AU10>0,AV10>0,AW10=0,AX10>0),MIN(BA10, MAX('MDA1'!K10,'MDA2'!K10, 'MDA5'!K10,MAX('MDA3'!I10,'MDA3'!L10),AL10)), AND(AU10>0,AV10>0,AW10>0,AX10=0), MIN(BA10, MAX('MDA1'!K10,'MDA2'!K10, 'MDA5'!K10,MAX('MDA3'!I10,'MDA3'!L10),W10)), AND(AU10>0,AV10>0,AW10>0,AX10>0), MIN(BA10, MAX('MDA1'!K10,'MDA2'!K10, 'MDA5'!K10,MAX('MDA3'!I10,'MDA3'!L10),W10,AL10)))","v":0},{"$f":"_xlfn.IFS(AND(AU10=0,AV10=0,AW10=0,AX10=0),0,AND(AU10=0,AV10=0,AW10=0,AX10>0),AO10,AND(AU10=0,AV10=0,AW10>0,AX10=0),Z10,AND(AU10=0,AV10=0,AW10>0,AX10>0),MAX(Z10,AO10),AND(AU10=0,AV10>0,AW10=0,AX10=0),MIN(J10*PROFILE!$G$10,MAX('MDA3'!J10,'MDA3'!J10)),AND(AU10=0,AV10>0,AW10=0,AX10>0),MIN(J10*PROFILE!$G$10,MAX('MDA3'!J10,'MDA3'!M10,AO10)),AND(AU10=0,AV10>0,AW10>0,AX10=0),MIN(J10*PROFILE!$G$10,MAX('MDA3'!J10,'MDA3'!M10,Z10)),AND(AU10=0,AV10>0,AW10>0,AX10>0),MIN(J10*PROFILE!$G$10,MAX('MDA3'!J10,'MDA3'!M10,Z10,AO10)),AND(AU10>0,AV10=0,AW10=0,AX10=0), MIN(BB10,MAX('MDA1'!L10,'MDA2'!L10,'MDA5'!L10)),AND(AU10>0,AV10=0,AW10=0,AX10>0), MIN(BB10,MAX('MDA1'!L10,'MDA2'!L10,'MDA5'!L10,AO10)),AND(AU10>0,AV10=0,AW10>0,AX10=0),MIN(BB10,MAX('MDA1'!L10,'MDA2'!L10,'MDA5'!L10,Z10)),AND(AU10>0,AV10=0,AW10>0,AX10>0),MIN(BB10,MAX('MDA1'!L10,'MDA2'!L10,'MDA5'!L10,Z10,AO10)),AND(AU10>0,AV10>0,AW10=0,AX10=0),MIN(BB10, MAX('MDA1'!L10,'MDA2'!L10, 'MDA5'!L10,MAX('MDA3'!J10,'MDA3'!M10))), AND(AU10>0,AV10>0,AW10=0,AX10>0),MIN(BB10, MAX('MDA1'!L10,'MDA2'!L10, 'MDA5'!L10,MAX('MDA3'!J10,'MDA3'!M10),AO10)), AND(AU10>0,AV10>0,AW10>0,AX10=0), MIN(BB10, MAX('MDA1'!L10,'MDA2'!L10, 'MDA5'!L10,MAX('MDA3'!J10,'MDA3'!M10),Z10)), AND(AU10>0,AV10>0,AW10>0,AX10>0), MIN(BB10, MAX('MDA1'!L10,'MDA2'!L10, 'MDA5'!L10,MAX('MDA3'!J10,'MDA3'!M10),Z10,AO10)))","v":0},{"$f":"SUM(BI10:BK10)","v":0},{"$f":"IF(BC10<>0,BL10/BC10*100,0)","v":0}]
[{"$f":"IF(COUNTRY_INFO!A11=0,\" \",COUNTRY_INFO!A11)","v":"Mali"},{"$f":"IF(COUNTRY_INFO!B11=0,\" \",COUNTRY_INFO!B11)","v":"Bamako"},{"$f":"IF(COUNTRY_INFO!C11=0,\" \",COUNTRY_INFO!C11)","v":"Commune 2"},{"$f":"COUNTRY_INFO!L11","v":0},null,null,{"$f":"MAX('MDA1'!M11,'MDA2'!M11,'MDA5'!M11)","v":0},{"$f":"IF(AND(COUNTRY_INFO!H11>0,COUNTRY_INFO!H11<4),IF(D11>G11,G11,D11),0)","v":0},{"$f":"IF(AND(COUNTRY_INFO!H11>0,COUNTRY_INFO!H11<4), IF(G11/D11*100<>0, IF(G11/D11*100>100,100,G11/D11*100), \"-\"),0)","v":0},{"$f":"COUNTRY_INFO!M11","v":0},null,null,{"$f":"MAX('MDA1'!M11,MAX('MDA3'!I11,'MDA3'!L11)+MAX('MDA3'!J11,'MDA3'!M11))","v":0},{"$f":"IF(AND(COUNTRY_INFO!I11>0,COUNTRY_INFO!I11<4),IF(J11>M11,M11,J11),0)","v":0},{"$f":"IF(AND(COUNTRY_INFO!I11>0,COUNTRY_INFO!I11<4), IF(M11/J11*100<>0, IF(M11/J11*100>100,100,M11/J11*100), \"-\"),0)","v":0},{"$f":"COUNTRY_INFO!Q11","v":"Non requis"},null,null,{"$f":"MAX('MDA2'!J11,'MDA5'!J11,'T1'!K11, MAX(T3_R1!J11,T3_R2!J11,T3_R3!J11))","v":0},{"$f":"IF(AND(COUNTRY_INFO!J11>1,COUNTRY_INFO!J11<99,COUNTRY_INFO!J11<>4,COUNTRY_INFO!J11<>5),IF(COUNTRY_INFO!N11>S11,S11,COUNTRY_INFO!N11),0)","v":0},{"$f":"IF(AND(COUNTRY_INFO!J11>1,COUNTRY_INFO!J11<99,COUNTRY_INFO!J11<>4,COUNTRY_INFO!J11<>5), IF(T11/COUNTRY_INFO!N11*100<>0, IF(T11/COUNTRY_INFO!N11*100>100,100,T11/COUNTRY_INFO!N11*100), \"-\"),0)","v":0},{"$f":"MAX('MDA1'!K11, 'MDA2'!K11, 'MDA5'!K11,'T1'!L11, MAX(T3_R1!K11,T3_R2!K11,T3_R3!K11))","v":0},{"$f":"IF(AND(COUNTRY_INFO!J11>1,COUNTRY_INFO!J11<99,COUNTRY_INFO!J11<>4,COUNTRY_INFO!J11<>5),IF(COUNTRY_INFO!O11>V11,V11,COUNTRY_INFO!O11),0)","v":0},{"$f":"IF(AND(COUNTRY_INFO!J11>1,COUNTRY_INFO!J11<99,COUNTRY_INFO!J11<>4,COUNTRY_INFO!J11<>5), IF(W11/COUNTRY_INFO!O11*100<>0, IF(W11/COUNTRY_INFO!O11*100>100,100,W11/COUNTRY_INFO!O11*100), \"-\"),0)","v":0},{"$f":"MAX('MDA1'!L11, 'MDA2'!L11, 'MDA5'!L11,'T1'!M11, MAX(T3_R1!L11,T3_R2!L11,T3_R3!L11))","v":0},{"$f":"IF(AND(COUNTRY_INFO!J11>1,COUNTRY_INFO!J11<99,COUNTRY_INFO!J11<>4,COUNTRY_INFO!J11<>5),IF(COUNTRY_INFO!P11>Y11,Y11,COUNTRY_INFO!P11),0)","v":0},{"$f":"IF(AND(COUNTRY_INFO!J11>1,COUNTRY_INFO!J11<99,COUNTRY_INFO!J11<>4,COUNTRY_INFO!J11<>5), IF(Z11/COUNTRY_INFO!P11*100<>0, IF(Z11/COUNTRY_INFO!P11*100>100,100,Z11/COUNTRY_INFO!P11*100), \"-\"),0)","v":0},{"$f":"SUM(S11,V11,Y11)","v":0},{"$f":"SUM(T11,W11,Z11)","v":0},{"$f":"IF(AND(COUNTRY_INFO!J11>1,COUNTRY_INFO!J11<99,COUNTRY_INFO!J11<>4,COUNTRY_INFO!J11<>5), IF(AC11/P11*100<>0, IF(AC11/P11*100>100,100,AC11/P11*100), \"-\"),0)","v":0},{"$f":"COUNTRY_INFO!U11","v":21977},null,null,{"$f":"MAX('T1'!K11,'T2'!R11)","v":0},{"$f":"IF(AND(COUNTRY_INFO!K11>1,COUNTRY_INFO!K11<99,COUNTRY_INFO!K11<>4,COUNTRY_INFO!K11<>5),IF(COUNTRY_INFO!R11>AH11,AH11,COUNTRY_INFO!R11),0)","v":0},{"$f":"IF(AND(COUNTRY_INFO!K11>1,COUNTRY_INFO!K11<99,COUNTRY_INFO!K11<>4,COUNTRY_INFO!K11<>5), IF(AI11/COUNTRY_INFO!R11*100<>0, IF(AI11/COUNTRY_INFO!R11*100>100,100,AI11/COUNTRY_INFO!R11*100), \"-\"),0)","v":"-"},{"$f":"MAX('T1'!L11,'T2'!S11)","v":0},{"$f":"IF(AND(COUNTRY_INFO!K11>1,COUNTRY_INFO!K11<99,COUNTRY_INFO!K11<>4,COUNTRY_INFO!K11<>5),IF(COUNTRY_INFO!S11>AK11,AK11,COUNTRY_INFO!S11),0)","v":0},{"$f":"IF(AND(COUNTRY_INFO!K11>1,COUNTRY_INFO!K11<99,COUNTRY_INFO!K11<>4,COUNTRY_INFO!K11<>5), IF(AL11/COUNTRY_INFO!S11*100<>0, IF(AL11/COUNTRY_INFO!S11*100>100,100,AL11/COUNTRY_INFO!S11*100), \"-\"),0)","v":"-"},{"$f":"MAX('T1'!M11,'T2'!T11)","v":0},{"$f":"IF(AND(COUNTRY_INFO!K11>1,COUNTRY_INFO!K11<99,COUNTRY_INFO!K11<>4,COUNTRY_INFO!K11<>5),IF(COUNTRY_INFO!T11>AN11,AN11,COUNTRY_INFO!T11),0)","v":0},{"$f":"IF(AND(COUNTRY_INFO!K11>1,COUNTRY_INFO!K11<99,COUNTRY_INFO!K11<>4,COUNTRY_INFO!K11<>5), IF(AO11/COUNTRY_INFO!T11*100<>0, IF(AO11/COUNTRY_INFO!T11*100>100,100,AO11/COUNTRY_INFO!T11*100), \"-\"),0)","v":"-"},{"$f":"SUM(AH11,AK11,AN11)","v":0},{"$f":"SUM(AI11,AL11,AO11)","v":0},{"$f":"IF(AND(COUNTRY_INFO!K11>1,COUNTRY_INFO!K11<99,COUNTRY_INFO!K11<>4,COUNTRY_INFO!K11<>5), IF(AR11/AE11*100<>0, IF(AR11/AE11*100>100,100,AR11/AE11*100), \"-\"),0)","v":"-"},null,{"$f":"IF(AND(D11<>0, D11<>\"Inconnu\",D11<>\"Interrompu\",D11<>\"Non requis\"),D11/COUNTRY_INFO!D11, 0)","v":0},{"$f":"IF(AND(J11<>0,J11<>\"Inconnu\",J11<>\"Interrompu\",J11<>\"Non requis\"),J11/COUNTRY_INFO!D11, 0)","v":0},{"$f":"IF(AND(P11<>0,P11<>\"Inconnu\",P11<>\"Surveillance\",P11<>\"Non requis\"),P11/COUNTRY_INFO!Q11, 0)","v":0},{"$f":"IF(AND(AE11<>0,AE11<>\"Inconnu\",AE11<>\"Surveillance\",AE11<>\"Non requis\"),AE11/COUNTRY_INFO!U11, 0)","v":1},{"$f":"IF(AU11>0,D11*PROFILE!$G$7,IF(AV11>0,J11*PROFILE!$G$7,0))","v":0},{"$f":"_xlfn.IFS(OR(AU11>0,AW11>0),COUNTRY_INFO!E11, AV11>0,J11*PROFILE!$G$8,AX11>0,COUNTRY_INFO!R11,COUNTIFS(AU11:AX11,\">0\")=0,0)","v":2566},{"$f":"_xlfn.IFS(OR(AU11>0,AW11>0),COUNTRY_INFO!F11, AV11>0,J11*PROFILE!$G$9,AX11>0,COUNTRY_INFO!S11,COUNTIFS(AU11:AX11,\">0\")=0,0)","v":6915},{"$f":"_xlfn.IFS(AU11>0,COUNTRY_INFO!G11, AND(AV11>0,AW11=0,AX11=0),J11*PROFILE!$G$10,AND(AV11>0,AW11>0,AX11=0), MAX(J11*PROFILE!$G$10,COUNTRY_INFO!P11),AND(AV11>0,AW11=0,AX11>0), MAX(J11*PROFILE!$G$10,COUNTRY_INFO!T11),AND(AV11=0,AW11>0,AX11>0), MAX(COUNTRY_INFO!P11,COUNTRY_INFO!T11),AND(AV11=0,AW11>0,AX11=0),COUNTRY_INFO!P11,AND(AV11=0,AW11=0,AX11>0),COUNTRY_INFO!T11,AND(AV11>0,AW11>0,AX11>0), MAX(J11*PROFILE!$G$10,COUNTRY_INFO!P11,COUNTRY_INFO!T11),COUNTIFS(AU11:AX11,\">0\")=0,0)","v":12496},{"$f":"SUM(AY11:BB11)","v":21977},0,{"$f":"MAX('MDA2'!J11,'MDA5'!J11,S11,AH11)","v":0},{"$f":"MAX('MDA1'!K11,'MDA2'!K11,'MDA3'!I11,'MDA3'!L11,'MDA5'!K11,V11,AK11)","v":0},{"$f":"MAX('MDA1'!L11,'MDA2'!L11,'MDA3'!J11,'MDA3'!M11,'MDA5'!L11,Y11,AN11)","v":0},{"$f":"SUM(BE11:BG11)","v":0},{"$f":"_xlfn.IFS(AND(AU11=0,AW11=0,AX11=0),0,AND(AU11=0,AW11=0,AX11>0),AI11,AND(AU11=0,AW11>0,AX11=0),T11,AND(AU11=0,AW11>0,AX11>0),MAX(T11,AI11),AND(AU11>0,AW11=0,AX11=0),MIN(MAX('MDA2'!J11,'MDA5'!J11),AZ11),AND(AU11>0,AW11=0,AX11>0),MIN(MAX('MDA2'!J11,'MDA5'!J11,AI11),AZ11),AND(AU11>0,AW11>0,AX11=0),MIN(MAX('MDA2'!J11,'MDA5'!J11,T11),AZ11),AND(AU11>0,AW11>0,AX11>0),MIN(MAX('MDA2'!J11,'MDA5'!J11,AI11,T11),AZ11))","v":0},{"$f":"_xlfn.IFS(AND(AU11=0,AV11=0,AW11=0,AX11=0),0,AND(AU11=0,AV11=0,AW11=0,AX11>0),AL11,AND(AU11=0,AV11=0,AW11>0,AX11=0),W11,AND(AU11=0,AV11=0,AW11>0,AX11>0),MAX(W11,AL11),AND(AU11=0,AV11>0,AW11=0,AX11=0),MIN(J11*PROFILE!$G$9,MAX('MDA3'!I11,'MDA3'!L11)),AND(AU11=0,AV11>0,AW11=0,AX11>0),MIN(J11*PROFILE!$G$9,MAX('MDA3'!I11,'MDA3'!L11,AL11)),AND(AU11=0,AV11>0,AW11>0,AX11=0),MIN(J11*PROFILE!$G$9,MAX('MDA3'!I11,'MDA3'!L11,W11)),AND(AU11=0,AV11>0,AW11>0,AX11>0),MIN(J11*PROFILE!$G$9,MAX('MDA3'!I11,'MDA3'!L11,W11,AL11)),AND(AU11>0,AV11=0,AW11=0,AX11=0), MIN(BA11,MAX('MDA1'!K11,'MDA2'!K11,'MDA5'!K11)),AND(AU11>0,AV11=0,AW11=0,AX11>0), MIN(BA11,MAX('MDA1'!K11,'MDA2'!K11,'MDA5'!K11,AL11)),AND(AU11>0,AV11=0,AW11>0,AX11=0),MIN(BA11,MAX('MDA1'!K11,'MDA2'!KL11,'MDA5'!K11,W11)),AND(AU11>0,AV11=0,AW11>0,AX11>0),MIN(BA11,MAX('MDA1'!K11,'MDA2'!K11,'MDA5'!K11,W11,AL11)),AND(AU11>0,AV11>0,AW11=0,AX11=0),MIN(BA11, MAX('MDA1'!K11,'MDA2'!K11, 'MDA5'!K11,MAX('MDA3'!I11,'MDA3'!L11))), AND(AU11>0,AV11>0,AW11=0,AX11>0),MIN(BA11, MAX('MDA1'!K11,'MDA2'!K11, 'MDA5'!K11,MAX('MDA3'!I11,'MDA3'!L11),AL11)), AND(AU11>0,AV11>0,AW11>0,AX11=0), MIN(BA11, MAX('MDA1'!K11,'MDA2'!K11, 'MDA5'!K11,MAX('MDA3'!I11,'MDA3'!L11),W11)), AND(AU11>0,AV11>0,AW11>0,AX11>0), MIN(BA11, MAX('MDA1'!K11,'MDA2'!K11, 'MDA5'!K11,MAX('MDA3'!I11,'MDA3'!L11),W11,AL11)))","v":0},{"$f":"_xlfn.IFS(AND(AU11=0,AV11=0,AW11=0,AX11=0),0,AND(AU11=0,AV11=0,AW11=0,AX11>0),AO11,AND(AU11=0,AV11=0,AW11>0,AX11=0),Z11,AND(AU11=0,AV11=0,AW11>0,AX11>0),MAX(Z11,AO11),AND(AU11=0,AV11>0,AW11=0,AX11=0),MIN(J11*PROFILE!$G$10,MAX('MDA3'!J11,'MDA3'!J11)),AND(AU11=0,AV11>0,AW11=0,AX11>0),MIN(J11*PROFILE!$G$10,MAX('MDA3'!J11,'MDA3'!M11,AO11)),AND(AU11=0,AV11>0,AW11>0,AX11=0),MIN(J11*PROFILE!$G$10,MAX('MDA3'!J11,'MDA3'!M11,Z11)),AND(AU11=0,AV11>0,AW11>0,AX11>0),MIN(J11*PROFILE!$G$10,MAX('MDA3'!J11,'MDA3'!M11,Z11,AO11)),AND(AU11>0,AV11=0,AW11=0,AX11=0), MIN(BB11,MAX('MDA1'!L11,'MDA2'!L11,'MDA5'!L11)),AND(AU11>0,AV11=0,AW11=0,AX11>0), MIN(BB11,MAX('MDA1'!L11,'MDA2'!L11,'MDA5'!L11,AO11)),AND(AU11>0,AV11=0,AW11>0,AX11=0),MIN(BB11,MAX('MDA1'!L11,'MDA2'!L11,'MDA5'!L11,Z11)),AND(AU11>0,AV11=0,AW11>0,AX11>0),MIN(BB11,MAX('MDA1'!L11,'MDA2'!L11,'MDA5'!L11,Z11,AO11)),AND(AU11>0,AV11>0,AW11=0,AX11=0),MIN(BB11, MAX('MDA1'!L11,'MDA2'!L11, 'MDA5'!L11,MAX('MDA3'!J11,'MDA3'!M11))), AND(AU11>0,AV11>0,AW11=0,AX11>0),MIN(BB11, MAX('MDA1'!L11,'MDA2'!L11, 'MDA5'!L11,MAX('MDA3'!J11,'MDA3'!M11),AO11)), AND(AU11>0,AV11>0,AW11>0,AX11=0), MIN(BB11, MAX('MDA1'!L11,'MDA2'!L11, 'MDA5'!L11,MAX('MDA3'!J11,'MDA3'!M11),Z11)), AND(AU11>0,AV11>0,AW11>0,AX11>0), MIN(BB11, MAX('MDA1'!L11,'MDA2'!L11, 'MDA5'!L11,MAX('MDA3'!J11,'MDA3'!M11),Z11,AO11)))","v":0},{"$f":"SUM(BI11:BK11)","v":0},{"$f":"IF(BC11<>0,BL11/BC11*100,0)","v":0}]
[{"$f":"IF(COUNTRY_INFO!A12=0,\" \",COUNTRY_INFO!A12)","v":"Mali"},{"$f":"IF(COUNTRY_INFO!B12=0,\" \",COUNTRY_INFO!B12)","v":"Bamako"},{"$f":"IF(COUNTRY_INFO!C12=0,\" \",COUNTRY_INFO!C12)","v":"Commune 3"},{"$f":"COUNTRY_INFO!L12","v":0},null,null,{"$f":"MAX('MDA1'!M12,'MDA2'!M12,'MDA5'!M12)","v":0},{"$f":"IF(AND(COUNTRY_INFO!H12>0,COUNTRY_INFO!H12<4),IF(D12>G12,G12,D12),0)","v":0},{"$f":"IF(AND(COUNTRY_INFO!H12>0,COUNTRY_INFO!H12<4), IF(G12/D12*100<>0, IF(G12/D12*100>100,100,G12/D12*100), \"-\"),0)","v":0},{"$f":"COUNTRY_INFO!M12","v":0},null,null,{"$f":"MAX('MDA1'!M12,MAX('MDA3'!I12,'MDA3'!L12)+MAX('MDA3'!J12,'MDA3'!M12))","v":0},{"$f":"IF(AND(COUNTRY_INFO!I12>0,COUNTRY_INFO!I12<4),IF(J12>M12,M12,J12),0)","v":0},{"$f":"IF(AND(COUNTRY_INFO!I12>0,COUNTRY_INFO!I12<4), IF(M12/J12*100<>0, IF(M12/J12*100>100,100,M12/J12*100), \"-\"),0)","v":0},{"$f":"COUNTRY_INFO!Q12","v":"Non requis"},null,null,{"$f":"MAX('MDA2'!J12,'MDA5'!J12,'T1'!K12, MAX(T3_R1!J12,T3_R2!J12,T3_R3!J12))","v":0},{"$f":"IF(AND(COUNTRY_INFO!J12>1,COUNTRY_INFO!J12<99,COUNTRY_INFO!J12<>4,COUNTRY_INFO!J12<>5),IF(COUNTRY_INFO!N12>S12,S12,COUNTRY_INFO!N12),0)","v":0},{"$f":"IF(AND(COUNTRY_INFO!J12>1,COUNTRY_INFO!J12<99,COUNTRY_INFO!J12<>4,COUNTRY_INFO!J12<>5), IF(T12/COUNTRY_INFO!N12*100<>0, IF(T12/COUNTRY_INFO!N12*100>100,100,T12/COUNTRY_INFO!N12*100), \"-\"),0)","v":0},{"$f":"MAX('MDA1'!K12, 'MDA2'!K12, 'MDA5'!K12,'T1'!L12, MAX(T3_R1!K12,T3_R2!K12,T3_R3!K12))","v":0},{"$f":"IF(AND(COUNTRY_INFO!J12>1,COUNTRY_INFO!J12<99,COUNTRY_INFO!J12<>4,COUNTRY_INFO!J12<>5),IF(COUNTRY_INFO!O12>V12,V12,COUNTRY_INFO!O12),0)","v":0},{"$f":"IF(AND(COUNTRY_INFO!J12>1,COUNTRY_INFO!J12<99,COUNTRY_INFO!J12<>4,COUNTRY_INFO!J12<>5), IF(W12/COUNTRY_INFO!O12*100<>0, IF(W12/COUNTRY_INFO!O12*100>100,100,W12/COUNTRY_INFO!O12*100), \"-\"),0)","v":0},{"$f":"MAX('MDA1'!L12, 'MDA2'!L12, 'MDA5'!L12,'T1'!M12, MAX(T3_R1!L12,T3_R2!L12,T3_R3!L12))","v":0},{"$f":"IF(AND(COUNTRY_INFO!J12>1,COUNTRY_INFO!J12<99,COUNTRY_INFO!J12<>4,COUNTRY_INFO!J12<>5),IF(COUNTRY_INFO!P12>Y12,Y12,COUNTRY_INFO!P12),0)","v":0},{"$f":"IF(AND(COUNTRY_INFO!J12>1,COUNTRY_INFO!J12<99,COUNTRY_INFO!J12<>4,COUNTRY_INFO!J12<>5), IF(Z12/COUNTRY_INFO!P12*100<>0, IF(Z12/COUNTRY_INFO!P12*100>100,100,Z12/COUNTRY_INFO!P12*100), \"-\"),0)","v":0},0,0,{"$f":"IF(AND(COUNTRY_INFO!J12>1,COUNTRY_INFO!J12<99,COUNTRY_INFO!J12<>4,COUNTRY_INFO!J12<>5), IF(AC12/P12*100<>0, IF(AC12/P12*100>100,100,AC12/P12*100), \"-\"),0)","v":0},{"$f":"COUNTRY_INFO!U12","v":60375},null,null,{"$f":"MAX('T1'!K12,'T2'!R12)","v":0},{"$f":"IF(AND(COUNTRY_INFO!K12>1,COUNTRY_INFO!K12<99,COUNTRY_INFO!K12<>4,COUNTRY_INFO!K12<>5),IF(COUNTRY_INFO!R12>AH12,AH12,COUNTRY_INFO!R12),0)","v":0},{"$f":"IF(AND(COUNTRY_INFO!K12>1,COUNTRY_INFO!K12<99,COUNTRY_INFO!K12<>4,COUNTRY_INFO!K12<>5), IF(AI12/COUNTRY_INFO!R12*100<>0, IF(AI12/COUNTRY_INFO!R12*100>100,100,AI12/COUNTRY_INFO!R12*100), \"-\"),0)","v":"-"},{"$f":"MAX('T1'!L12,'T2'!S12)","v":0},{"$f":"IF(AND(COUNTRY_INFO!K12>1,COUNTRY_INFO!K12<99,COUNTRY_INFO!K12<>4,COUNTRY_INFO!K12<>5),IF(COUNTRY_INFO!S12>AK12,AK12,COUNTRY_INFO!S12),0)","v":0},{"$f":"IF(AND(COUNTRY_INFO!K12>1,COUNTRY_INFO!K12<99,COUNTRY_INFO!K12<>4,COUNTRY_INFO!K12<>5), IF(AL12/COUNTRY_INFO!S12*100<>0, IF(AL12/COUNTRY_INFO!S12*100>100,100,AL12/COUNTRY_INFO!S12*100), \"-\"),0)","v":"-"},{"$f":"MAX('T1'!M12,'T2'!T12)","v":0},{"$f":"IF(AND(COUNTRY_INFO!K12>1,COUNTRY_INFO!K12<99,COUNTRY_INFO!K12<>4,COUNTRY_INFO!K12<>5),IF(COUNTRY_INFO!T12>AN12,AN12,COUNTRY_INFO!T12),0)","v":0},{"$f":"IF(AND(COUNTRY_INFO!K12>1,COUNTRY_INFO!K12<99,COUNTRY_INFO!K12<>4,COUNTRY_INFO!K12<>5), IF(AO12/COUNTRY_INFO!T12*100<>0, IF(AO12/COUNTRY_INFO!T12*100>100,100,AO12/COUNTRY_INFO!T12*100), \"-\"),0)","v":"-"},0,0,{"$f":"IF(AND(COUNTRY_INFO!K12>1,COUNTRY_INFO!K12<99,COUNTRY_INFO!K12<>4,COUNTRY_INFO!K12<>5), IF(AR12/AE12*100<>0, IF(AR12/AE12*100>100,100,AR12/AE12*100), \"-\"),0)","v":"-"},null,{"$f":"IF(AND(D12<>0, D12<>\"Inconnu\",D12<>\"Interrompu\",D12<>\"Non requis\"),D12/COUNTRY_INFO!D12, 0)","v":0},{"$f":"IF(AND(J12<>0,J12<>\"Inconnu\",J12<>\"Interrompu\",J12<>\"Non requis\"),J12/COUNTRY_INFO!D12, 0)","v":0},{"$f":"IF(AND(P12<>0,P12<>\"Inconnu\",P12<>\"Surveillance\",P12<>\"Non requis\"),P12/COUNTRY_INFO!Q12, 0)","v":0},{"$f":"IF(AND(AE12<>0,AE12<>\"Inconnu\",AE12<>\"Surveillance\",AE12<>\"Non requis\"),AE12/COUNTRY_INFO!U12, 0)","v":1},{"$f":"IF(AU12>0,D12*PROFILE!$G$7,IF(AV12>0,J12*PROFILE!$G$7,0))","v":0},{"$f":"_xlfn.IFS(OR(AU12>0,AW12>0),COUNTRY_INFO!E12, AV12>0,J12*PROFILE!$G$8,AX12>0,COUNTRY_INFO!R12,COUNTIFS(AU12:AX12,\">0\")=0,0)","v":7053},{"$f":"_xlfn.IFS(OR(AU12>0,AW12>0),COUNTRY_INFO!F12, AV12>0,J12*PROFILE!$G$9,AX12>0,COUNTRY_INFO!S12,COUNTIFS(AU12:AX12,\">0\")=0,0)","v":18996},{"$f":"_xlfn.IFS(AU12>0,COUNTRY_INFO!G12, AND(AV12>0,AW12=0,AX12=0),J12*PROFILE!$G$10,AND(AV12>0,AW12>0,AX12=0), MAX(J12*PROFILE!$G$10,COUNTRY_INFO!P12),AND(AV12>0,AW12=0,AX12>0), MAX(J12*PROFILE!$G$10,COUNTRY_INFO!T12),AND(AV12=0,AW12>0,AX12>0), MAX(COUNTRY_INFO!P12,COUNTRY_INFO!T12),AND(AV12=0,AW12>0,AX12=0),COUNTRY_INFO!P12,AND(AV12=0,AW12=0,AX12>0),COUNTRY_INFO!T12,AND(AV12>0,AW12>0,AX12>0), MAX(J12*PROFILE!$G$10,COUNTRY_INFO!P12,COUNTRY_INFO!T12),COUNTIFS(AU12:AX12,\">0\")=0,0)","v":34326},60375,0,{"$f":"MAX('MDA2'!J12,'MDA5'!J12,S12,AH12)","v":0},{"$f":"MAX('MDA1'!K12,'MDA2'!K12,'MDA3'!I12,'MDA3'!L12,'MDA5'!K12,V12,AK12)","v":0},{"$f":"MAX('MDA1'!L12,'MDA2'!L12,'MDA3'!J12,'MDA3'!M12,'MDA5'!L12,Y12,AN12)","v":0},0,{"$f":"_xlfn.IFS(AND(AU12=0,AW12=0,AX12=0),0,AND(AU12=0,AW12=0,AX12>0),AI12,AND(AU12=0,AW12>0,AX12=0),T12,AND(AU12=0,AW12>0,AX12>0),MAX(T12,AI12),AND(AU12>0,AW12=0,AX12=0),MIN(MAX('MDA2'!J12,'MDA5'!J12),AZ12),AND(AU12>0,AW12=0,AX12>0),MIN(MAX('MDA2'!J12,'MDA5'!J12,AI12),AZ12),AND(AU12>0,AW12>0,AX12=0),MIN(MAX('MDA2'!J12,'MDA5'!J12,T12),AZ12),AND(AU12>0,AW12>0,AX12>0),MIN(MAX('MDA2'!J12,'MDA5'!J12,AI12,T12),AZ12))","v":0},{"$f":"_xlfn.IFS(AND(AU12=0,AV12=0,AW12=0,AX12=0),0,AND(AU12=0,AV12=0,AW12=0,AX12>0),AL12,AND(AU12=0,AV12=0,AW12>0,AX12=0),W12,AND(AU12=0,AV12=0,AW12>0,AX12>0),MAX(W12,AL12),AND(AU12=0,AV12>0,AW12=0,AX12=0),MIN(J12*PROFILE!$G$9,MAX('MDA3'!I12,'MDA3'!L12)),AND(AU12=0,AV12>0,AW12=0,AX12>0),MIN(J12*PROFILE!$G$9,MAX('MDA3'!I12,'MDA3'!L12,AL12)),AND(AU12=0,AV12>0,AW12>0,AX12=0),MIN(J12*PROFILE!$G$9,MAX('MDA3'!I12,'MDA3'!L12,W12)),AND(AU12=0,AV12>0,AW12>0,AX12>0),MIN(J12*PROFILE!$G$9,MAX('MDA3'!I12,'MDA3'!L12,W12,AL12)),AND(AU12>0,AV12=0,AW12=0,AX12=0), MIN(BA12,MAX('MDA1'!K12,'MDA2'!K12,'MDA5'!K12)),AND(AU12>0,AV12=0,AW12=0,AX12>0), MIN(BA12,MAX('MDA1'!K12,'MDA2'!K12,'MDA5'!K12,AL12)),AND(AU12>0,AV12=0,AW12>0,AX12=0),MIN(BA12,MAX('MDA1'!K12,'MDA2'!KL12,'MDA5'!K12,W12)),AND(AU12>0,AV12=0,AW12>0,AX12>0),MIN(BA12,MAX('MDA1'!K12,'MDA2'!K12,'MDA5'!K12,W12,AL12)),AND(AU12>0,AV12>0,AW12=0,AX12=0),MIN(BA12, MAX('MDA1'!K12,'MDA2'!K12, 'MDA5'!K12,MAX('MDA3'!I12,'MDA3'!L12))), AND(AU12>0,AV12>0,AW12=0,AX12>0),MIN(BA12, MAX('MDA1'!K12,'MDA2'!K12, 'MDA5'!K12,MAX('MDA3'!I12,'MDA3'!L12),AL12)), AND(AU12>0,AV12>0,AW12>0,AX12=0), MIN(BA12, MAX('MDA1'!K12,'MDA2'!K12, 'MDA5'!K12,MAX('MDA3'!I12,'MDA3'!L12),W12)), AND(AU12>0,AV12>0,AW12>0,AX12>0), MIN(BA12, MAX('MDA1'!K12,'MDA2'!K12, 'MDA5'!K12,MAX('MDA3'!I12,'MDA3'!L12),W12,AL12)))","v":0},{"$f":"_xlfn.IFS(AND(AU12=0,AV12=0,AW12=0,AX12=0),0,AND(AU12=0,AV12=0,AW12=0,AX12>0),AO12,AND(AU12=0,AV12=0,AW12>0,AX12=0),Z12,AND(AU12=0,AV12=0,AW12>0,AX12>0),MAX(Z12,AO12),AND(AU12=0,AV12>0,AW12=0,AX12=0),MIN(J12*PROFILE!$G$10,MAX('MDA3'!J12,'MDA3'!J12)),AND(AU12=0,AV12>0,AW12=0,AX12>0),MIN(J12*PROFILE!$G$10,MAX('MDA3'!J12,'MDA3'!M12,AO12)),AND(AU12=0,AV12>0,AW12>0,AX12=0),MIN(J12*PROFILE!$G$10,MAX('MDA3'!J12,'MDA3'!M12,Z12)),AND(AU12=0,AV12>0,AW12>0,AX12>0),MIN(J12*PROFILE!$G$10,MAX('MDA3'!J12,'MDA3'!M12,Z12,AO12)),AND(AU12>0,AV12=0,AW12=0,AX12=0), MIN(BB12,MAX('MDA1'!L12,'MDA2'!L12,'MDA5'!L12)),AND(AU12>0,AV12=0,AW12=0,AX12>0), MIN(BB12,MAX('MDA1'!L12,'MDA2'!L12,'MDA5'!L12,AO12)),AND(AU12>0,AV12=0,AW12>0,AX12=0),MIN(BB12,MAX('MDA1'!L12,'MDA2'!L12,'MDA5'!L12,Z12)),AND(AU12>0,AV12=0,AW12>0,AX12>0),MIN(BB12,MAX('MDA1'!L12,'MDA2'!L12,'MDA5'!L12,Z12,AO12)),AND(AU12>0,AV12>0,AW12=0,AX12=0),MIN(BB12, MAX('MDA1'!L12,'MDA2'!L12, 'MDA5'!L12,MAX('MDA3'!J12,'MDA3'!M12))), AND(AU12>0,AV12>0,AW12=0,AX12>0),MIN(BB12, MAX('MDA1'!L12,'MDA2'!L12, 'MDA5'!L12,MAX('MDA3'!J12,'MDA3'!M12),AO12)), AND(AU12>0,AV12>0,AW12>0,AX12=0), MIN(BB12, MAX('MDA1'!L12,'MDA2'!L12, 'MDA5'!L12,MAX('MDA3'!J12,'MDA3'!M12),Z12)), AND(AU12>0,AV12>0,AW12>0,AX12>0), MIN(BB12, MAX('MDA1'!L12,'MDA2'!L12, 'MDA5'!L12,MAX('MDA3'!J12,'MDA3'!M12),Z12,AO12)))","v":0},0,0]
[{"$f":"IF(COUNTRY_INFO!A13=0,\" \",COUNTRY_INFO!A13)","v":"Mali"},{"$f":"IF(COUNTRY_INFO!B13=0,\" \",COUNTRY_INFO!B13)","v":"Bamako"},{"$f":"IF(COUNTRY_INFO!C13=0,\" \",COUNTRY_INFO!C13)","v":"Commune 4"},{"$f":"COUNTRY_INFO!L13","v":0},null,null,{"$f":"MAX('MDA1'!M13,'MDA2'!M13,'MDA5'!M13)","v":0},{"$f":"IF(AND(COUNTRY_INFO!H13>0,COUNTRY_INFO!H13<4),IF(D13>G13,G13,D13),0)","v":0},{"$f":"IF(AND(COUNTRY_INFO!H13>0,COUNTRY_INFO!H13<4), IF(G13/D13*100<>0, IF(G13/D13*100>100,100,G13/D13*100), \"-\"),0)","v":0},{"$f":"COUNTRY_INFO!M13","v":0},null,null,{"$f":"MAX('MDA1'!M13,MAX('MDA3'!I13,'MDA3'!L13)+MAX('MDA3'!J13,'MDA3'!M13))","v":0},{"$f":"IF(AND(COUNTRY_INFO!I13>0,COUNTRY_INFO!I13<4),IF(J13>M13,M13,J13),0)","v":0},{"$f":"IF(AND(COUNTRY_INFO!I13>0,COUNTRY_INFO!I13<4), IF(M13/J13*100<>0, IF(M13/J13*100>100,100,M13/J13*100), \"-\"),0)","v":0},{"$f":"COUNTRY_INFO!Q13","v":"Non requis"},null,null,{"$f":"MAX('MDA2'!J13,'MDA5'!J13,'T1'!K13, MAX(T3_R1!J13,T3_R2!J13,T3_R3!J13))","v":0},{"$f":"IF(AND(COUNTRY_INFO!J13>1,COUNTRY_INFO!J13<99,COUNTRY_INFO!J13<>4,COUNTRY_INFO!J13<>5),IF(COUNTRY_INFO!N13>S13,S13,COUNTRY_INFO!N13),0)","v":0},{"$f":"IF(AND(COUNTRY_INFO!J13>1,COUNTRY_INFO!J13<99,COUNTRY_INFO!J13<>4,COUNTRY_INFO!J13<>5), IF(T13/COUNTRY_INFO!N13*100<>0, IF(T13/COUNTRY_INFO!N13*100>100,100,T13/COUNTRY_INFO!N13*100), \"-\"),0)","v":0},{"$f":"MAX('MDA1'!K13, 'MDA2'!K13, 'MDA5'!K13,'T1'!L13, MAX(T3_R1!K13,T3_R2!K13,T3_R3!K13))","v":0},{"$f":"IF(AND(COUNTRY_INFO!J13>1,COUNTRY_INFO!J13<99,COUNTRY_INFO!J13<>4,COUNTRY_INFO!J13<>5),IF(COUNTRY_INFO!O13>V13,V13,COUNTRY_INFO!O13),0)","v":0},{"$f":"IF(AND(COUNTRY_INFO!J13>1,COUNTRY_INFO!J13<99,COUNTRY_INFO!J13<>4,COUNTRY_INFO!J13<>5), IF(W13/COUNTRY_INFO!O13*100<>0, IF(W13/COUNTRY_INFO!O13*100>100,100,W13/COUNTRY_INFO!O13*100), \"-\"),0)","v":0},{"$f":"MAX('MDA1'!L13, 'MDA2'!L13, 'MDA5'!L13,'T1'!M13, MAX(T3_R1!L13,T3_R2!L13,T3_R3!L13))","v":0},{"$f":"IF(AND(COUNTRY_INFO!J13>1,COUNTRY_INFO!J13<99,COUNTRY_INFO!J13<>4,COUNTRY_INFO!J13<>5),IF(COUNTRY_INFO!P13>Y13,Y13,COUNTRY_INFO!P13),0)","v":0},{"$f":"IF(AND(COUNTRY_INFO!J13>1,COUNTRY_INFO!J13<99,COUNTRY_INFO!J13<>4,COUNTRY_INFO!J13<>5), IF(Z13/COUNTRY_INFO!P13*100<>0, IF(Z13/COUNTRY_INFO!P13*100>100,100,Z13/COUNTRY_INFO!P13*100), \"-\"),0)","v":0},0,0,{"$f":"IF(AND(COUNTRY_INFO!J13>1,COUNTRY_INFO!J13<99,COUNTRY_INFO!J13<>4,COUNTRY_INFO!J13<>5), IF(AC13/P13*100<>0, IF(AC13/P13*100>100,100,AC13/P13*100), \"-\"),0)","v":0},{"$f":"COUNTRY_INFO!U13","v":254709},null,null,{"$f":"MAX('T1'!K13,'T2'!R13)","v":0},{"$f":"IF(AND(COUNTRY_INFO!K13>1,COUNTRY_INFO!K13<99,COUNTRY_INFO!K13<>4,COUNTRY_INFO!K13<>5),IF(COUNTRY_INFO!R13>AH13,AH13,COUNTRY_INFO!R13),0)","v":0},{"$f":"IF(AND(COUNTRY_INFO!K13>1,COUNTRY_INFO!K13<99,COUNTRY_INFO!K13<>4,COUNTRY_INFO!K13<>5), IF(AI13/COUNTRY_INFO!R13*100<>0, IF(AI13/COUNTRY_INFO!R13*100>100,100,AI13/COUNTRY_INFO!R13*100), \"-\"),0)","v":"-"},{"$f":"MAX('T1'!L13,'T2'!S13)","v":43994},{"$f":"IF(AND(COUNTRY_INFO!K13>1,COUNTRY_INFO!K13<99,COUNTRY_INFO!K13<>4,COUNTRY_INFO!K13<>5),IF(COUNTRY_INFO!S13>AK13,AK13,COUNTRY_INFO!S13),0)","v":43994},{"$f":"IF(AND(COUNTRY_INFO!K13>1,COUNTRY_INFO!K13<99,COUNTRY_INFO!K13<>4,COUNTRY_INFO!K13<>5), IF(AL13/COUNTRY_INFO!S13*100<>0, IF(AL13/COUNTRY_INFO!S13*100>100,100,AL13/COUNTRY_INFO!S13*100), \"-\"),0)","v":54.895746247239238},{"$f":"MAX('T1'!M13,'T2'!T13)","v":0},{"$f":"IF(AND(COUNTRY_INFO!K13>1,COUNTRY_INFO!K13<99,COUNTRY_INFO!K13<>4,COUNTRY_INFO!K13<>5),IF(COUNTRY_INFO!T13>AN13,AN13,COUNTRY_INFO!T13),0)","v":0},{"$f":"IF(AND(COUNTRY_INFO!K13>1,COUNTRY_INFO!K13<99,COUNTRY_INFO!K13<>4,COUNTRY_INFO!K13<>5), IF(AO13/COUNTRY_INFO!T13*100<>0, IF(AO13/COUNTRY_INFO!T13*100>100,100,AO13/COUNTRY_INFO!T13*100), \"-\"),0)","v":"-"},43994,43994,{"$f":"IF(AND(COUNTRY_INFO!K13>1,COUNTRY_INFO!K13<99,COUNTRY_INFO!K13<>4,COUNTRY_INFO!K13<>5), IF(AR13/AE13*100<>0, IF(AR13/AE13*100>100,100,AR13/AE13*100), \"-\"),0)","v":17.27225971598962},null,{"$f":"IF(AND(D13<>0, D13<>\"Inconnu\",D13<>\"Interrompu\",D13<>\"Non requis\"),D13/COUNTRY_INFO!D13, 0)","v":0},{"$f":"IF(AND(J13<>0,J13<>\"Inconnu\",J13<>\"Interrompu\",J13<>\"Non requis\"),J13/COUNTRY_INFO!D13, 0)","v":0},{"$f":"IF(AND(P13<>0,P13<>\"Inconnu\",P13<>\"Surveillance\",P13<>\"Non requis\"),P13/COUNTRY_INFO!Q13, 0)","v":0},{"$f":"IF(AND(AE13<>0,AE13<>\"Inconnu\",AE13<>\"Surveillance\",AE13<>\"Non requis\"),AE13/COUNTRY_INFO!U13, 0)","v":1},{"$f":"IF(AU13>0,D13*PROFILE!$G$7,IF(AV13>0,J13*PROFILE!$G$7,0))","v":0},{"$f":"_xlfn.IFS(OR(AU13>0,AW13>0),COUNTRY_INFO!E13, AV13>0,J13*PROFILE!$G$8,AX13>0,COUNTRY_INFO!R13,COUNTIFS(AU13:AX13,\">0\")=0,0)","v":29750},{"$f":"_xlfn.IFS(OR(AU13>0,AW13>0),COUNTRY_INFO!F13, AV13>0,J13*PROFILE!$G$9,AX13>0,COUNTRY_INFO!S13,COUNTIFS(AU13:AX13,\">0\")=0,0)","v":80141},{"$f":"_xlfn.IFS(AU13>0,COUNTRY_INFO!G13, AND(AV13>0,AW13=0,AX13=0),J13*PROFILE!$G$10,AND(AV13>0,AW13>0,AX13=0), MAX(J13*PROFILE!$G$10,COUNTRY_INFO!P13),AND(AV13>0,AW13=0,AX13>0), MAX(J13*PROFILE!$G$10,COUNTRY_INFO!T13),AND(AV13=0,AW13>0,AX13>0), MAX(COUNTRY_INFO!P13,COUNTRY_INFO!T13),AND(AV13=0,AW13>0,AX13=0),COUNTRY_INFO!P13,AND(AV13=0,AW13=0,AX13>0),COUNTRY_INFO!T13,AND(AV13>0,AW13>0,AX13>0), MAX(J13*PROFILE!$G$10,COUNTRY_INFO!P13,COUNTRY_INFO!T13),COUNTIFS(AU13:AX13,\">0\")=0,0)","v":144818},254709,"Y",{"$f":"MAX('MDA2'!J13,'MDA5'!J13,S13,AH13)","v":0},{"$f":"MAX('MDA1'!K13,'MDA2'!K13,'MDA3'!I13,'MDA3'!L13,'MDA5'!K13,V13,AK13)","v":43994},{"$f":"MAX('MDA1'!L13,'MDA2'!L13,'MDA3'!J13,'MDA3'!M13,'MDA5'!L13,Y13,AN13)","v":0},43994,{"$f":"_xlfn.IFS(AND(AU13=0,AW13=0,AX13=0),0,AND(AU13=0,AW13=0,AX13>0),AI13,AND(AU13=0,AW13>0,AX13=0),T13,AND(AU13=0,AW13>0,AX13>0),MAX(T13,AI13),AND(AU13>0,AW13=0,AX13=0),MIN(MAX('MDA2'!J13,'MDA5'!J13),AZ13),AND(AU13>0,AW13=0,AX13>0),MIN(MAX('MDA2'!J13,'MDA5'!J13,AI13),AZ13),AND(AU13>0,AW13>0,AX13=0),MIN(MAX('MDA2'!J13,'MDA5'!J13,T13),AZ13),AND(AU13>0,AW13>0,AX13>0),MIN(MAX('MDA2'!J13,'MDA5'!J13,AI13,T13),AZ13))","v":0},{"$f":"_xlfn.IFS(AND(AU13=0,AV13=0,AW13=0,AX13=0),0,AND(AU13=0,AV13=0,AW13=0,AX13>0),AL13,AND(AU13=0,AV13=0,AW13>0,AX13=0),W13,AND(AU13=0,AV13=0,AW13>0,AX13>0),MAX(W13,AL13),AND(AU13=0,AV13>0,AW13=0,AX13=0),MIN(J13*PROFILE!$G$9,MAX('MDA3'!I13,'MDA3'!L13)),AND(AU13=0,AV13>0,AW13=0,AX13>0),MIN(J13*PROFILE!$G$9,MAX('MDA3'!I13,'MDA3'!L13,AL13)),AND(AU13=0,AV13>0,AW13>0,AX13=0),MIN(J13*PROFILE!$G$9,MAX('MDA3'!I13,'MDA3'!L13,W13)),AND(AU13=0,AV13>0,AW13>0,AX13>0),MIN(J13*PROFILE!$G$9,MAX('MDA3'!I13,'MDA3'!L13,W13,AL13)),AND(AU13>0,AV13=0,AW13=0,AX13=0), MIN(BA13,MAX('MDA1'!K13,'MDA2'!K13,'MDA5'!K13)),AND(AU13>0,AV13=0,AW13=0,AX13>0), MIN(BA13,MAX('MDA1'!K13,'MDA2'!K13,'MDA5'!K13,AL13)),AND(AU13>0,AV13=0,AW13>0,AX13=0),MIN(BA13,MAX('MDA1'!K13,'MDA2'!KL13,'MDA5'!K13,W13)),AND(AU13>0,AV13=0,AW13>0,AX13>0),MIN(BA13,MAX('MDA1'!K13,'MDA2'!K13,'MDA5'!K13,W13,AL13)),AND(AU13>0,AV13>0,AW13=0,AX13=0),MIN(BA13, MAX('MDA1'!K13,'MDA2'!K13, 'MDA5'!K13,MAX('MDA3'!I13,'MDA3'!L13))), AND(AU13>0,AV13>0,AW13=0,AX13>0),MIN(BA13, MAX('MDA1'!K13,'MDA2'!K13, 'MDA5'!K13,MAX('MDA3'!I13,'MDA3'!L13),AL13)), AND(AU13>0,AV13>0,AW13>0,AX13=0), MIN(BA13, MAX('MDA1'!K13,'MDA2'!K13, 'MDA5'!K13,MAX('MDA3'!I13,'MDA3'!L13),W13)), AND(AU13>0,AV13>0,AW13>0,AX13>0), MIN(BA13, MAX('MDA1'!K13,'MDA2'!K13, 'MDA5'!K13,MAX('MDA3'!I13,'MDA3'!L13),W13,AL13)))","v":43994},{"$f":"_xlfn.IFS(AND(AU13=0,AV13=0,AW13=0,AX13=0),0,AND(AU13=0,AV13=0,AW13=0,AX13>0),AO13,AND(AU13=0,AV13=0,AW13>0,AX13=0),Z13,AND(AU13=0,AV13=0,AW13>0,AX13>0),MAX(Z13,AO13),AND(AU13=0,AV13>0,AW13=0,AX13=0),MIN(J13*PROFILE!$G$10,MAX('MDA3'!J13,'MDA3'!J13)),AND(AU13=0,AV13>0,AW13=0,AX13>0),MIN(J13*PROFILE!$G$10,MAX('MDA3'!J13,'MDA3'!M13,AO13)),AND(AU13=0,AV13>0,AW13>0,AX13=0),MIN(J13*PROFILE!$G$10,MAX('MDA3'!J13,'MDA3'!M13,Z13)),AND(AU13=0,AV13>0,AW13>0,AX13>0),MIN(J13*PROFILE!$G$10,MAX('MDA3'!J13,'MDA3'!M13,Z13,AO13)),AND(AU13>0,AV13=0,AW13=0,AX13=0), MIN(BB13,MAX('MDA1'!L13,'MDA2'!L13,'MDA5'!L13)),AND(AU13>0,AV13=0,AW13=0,AX13>0), MIN(BB13,MAX('MDA1'!L13,'MDA2'!L13,'MDA5'!L13,AO13)),AND(AU13>0,AV13=0,AW13>0,AX13=0),MIN(BB13,MAX('MDA1'!L13,'MDA2'!L13,'MDA5'!L13,Z13)),AND(AU13>0,AV13=0,AW13>0,AX13>0),MIN(BB13,MAX('MDA1'!L13,'MDA2'!L13,'MDA5'!L13,Z13,AO13)),AND(AU13>0,AV13>0,AW13=0,AX13=0),MIN(BB13, MAX('MDA1'!L13,'MDA2'!L13, 'MDA5'!L13,MAX('MDA3'!J13,'MDA3'!M13))), AND(AU13>0,AV13>0,AW13=0,AX13>0),MIN(BB13, MAX('MDA1'!L13,'MDA2'!L13, 'MDA5'!L13,MAX('MDA3'!J13,'MDA3'!M13),AO13)), AND(AU13>0,AV13>0,AW13>0,AX13=0), MIN(BB13, MAX('MDA1'!L13,'MDA2'!L13, 'MDA5'!L13,MAX('MDA3'!J13,'MDA3'!M13),Z13)), AND(AU13>0,AV13>0,AW13>0,AX13>0), MIN(BB13, MAX('MDA1'!L13,'MDA2'!L13, 'MDA5'!L13,MAX('MDA3'!J13,'MDA3'!M13),Z13,AO13)))","v":0},43994,17.27225971598962]
[{"$f":"IF(COUNTRY_INFO!A14=0,\" \",COUNTRY_INFO!A14)","v":"Mali"},{"$f":"IF(COUNTRY_INFO!B14=0,\" \",COUNTRY_INFO!B14)","v":"Bamako"},{"$f":"IF(COUNTRY_INFO!C14=0,\" \",COUNTRY_INFO!C14)","v":"Commune 5"},{"$f":"COUNTRY_INFO!L14","v":0},null,null,{"$f":"MAX('MDA1'!M14,'MDA2'!M14,'MDA5'!M14)","v":0},{"$f":"IF(AND(COUNTRY_INFO!H14>0,COUNTRY_INFO!H14<4),IF(D14>G14,G14,D14),0)","v":0},{"$f":"IF(AND(COUNTRY_INFO!H14>0,COUNTRY_INFO!H14<4), IF(G14/D14*100<>0, IF(G14/D14*100>100,100,G14/D14*100), \"-\"),0)","v":0},{"$f":"COUNTRY_INFO!M14","v":0},null,null,{"$f":"MAX('MDA1'!M14,MAX('MDA3'!I14,'MDA3'!L14)+MAX('MDA3'!J14,'MDA3'!M14))","v":0},{"$f":"IF(AND(COUNTRY_INFO!I14>0,COUNTRY_INFO!I14<4),IF(J14>M14,M14,J14),0)","v":0},{"$f":"IF(AND(COUNTRY_INFO!I14>0,COUNTRY_INFO!I14<4), IF(M14/J14*100<>0, IF(M14/J14*100>100,100,M14/J14*100), \"-\"),0)","v":0},{"$f":"COUNTRY_INFO!Q14","v":"Non requis"},null,null,{"$f":"MAX('MDA2'!J14,'MDA5'!J14,'T1'!K14, MAX(T3_R1!J14,T3_R2!J14,T3_R3!J14))","v":0},{"$f":"IF(AND(COUNTRY_INFO!J14>1,COUNTRY_INFO!J14<99,COUNTRY_INFO!J14<>4,COUNTRY_INFO!J14<>5),IF(COUNTRY_INFO!N14>S14,S14,COUNTRY_INFO!N14),0)","v":0},{"$f":"IF(AND(COUNTRY_INFO!J14>1,COUNTRY_INFO!J14<99,COUNTRY_INFO!J14<>4,COUNTRY_INFO!J14<>5), IF(T14/COUNTRY_INFO!N14*100<>0, IF(T14/COUNTRY_INFO!N14*100>100,100,T14/COUNTRY_INFO!N14*100), \"-\"),0)","v":0},{"$f":"MAX('MDA1'!K14, 'MDA2'!K14, 'MDA5'!K14,'T1'!L14, MAX(T3_R1!K14,T3_R2!K14,T3_R3!K14))","v":0},{"$f":"IF(AND(COUNTRY_INFO!J14>1,COUNTRY_INFO!J14<99,COUNTRY_INFO!J14<>4,COUNTRY_INFO!J14<>5),IF(COUNTRY_INFO!O14>V14,V14,COUNTRY_INFO!O14),0)","v":0},{"$f":"IF(AND(COUNTRY_INFO!J14>1,COUNTRY_INFO!J14<99,COUNTRY_INFO!J14<>4,COUNTRY_INFO!J14<>5), IF(W14/COUNTRY_INFO!O14*100<>0, IF(W14/COUNTRY_INFO!O14*100>100,100,W14/COUNTRY_INFO!O14*100), \"-\"),0)","v":0},{"$f":"MAX('MDA1'!L14, 'MDA2'!L14, 'MDA5'!L14,'T1'!M14, MAX(T3_R1!L14,T3_R2!L14,T3_R3!L14))","v":0},{"$f":"IF(AND(COUNTRY_INFO!J14>1,COUNTRY_INFO!J14<99,COUNTRY_INFO!J14<>4,COUNTRY_INFO!J14<>5),IF(COUNTRY_INFO!P14>Y14,Y14,COUNTRY_INFO!P14),0)","v":0},{"$f":"IF(AND(COUNTRY_INFO!J14>1,COUNTRY_INFO!J14<99,COUNTRY_INFO!J14<>4,COUNTRY_INFO!J14<>5), IF(Z14/COUNTRY_INFO!P14*100<>0, IF(Z14/COUNTRY_INFO!P14*100>100,100,Z14/COUNTRY_INFO!P14*100), \"-\"),0)","v":0},0,0,{"$f":"IF(AND(COUNTRY_INFO!J14>1,COUNTRY_INFO!J14<99,COUNTRY_INFO!J14<>4,COUNTRY_INFO!J14<>5), IF(AC14/P14*100<>0, IF(AC14/P14*100>100,100,AC14/P14*100), \"-\"),0)","v":0},{"$f":"COUNTRY_INFO!U14","v":464831},null,null,{"$f":"MAX('T1'!K14,'T2'!R14)","v":0},{"$f":"IF(AND(COUNTRY_INFO!K14>1,COUNTRY_INFO!K14<99,COUNTRY_INFO!K14<>4,COUNTRY_INFO!K14<>5),IF(COUNTRY_INFO!R14>AH14,AH14,COUNTRY_INFO!R14),0)","v":0},{"$f":"IF(AND(COUNTRY_INFO!K14>1,COUNTRY_INFO!K14<99,COUNTRY_INFO!K14<>4,COUNTRY_INFO!K14<>5), IF(AI14/COUNTRY_INFO!R14*100<>0, IF(AI14/COUNTRY_INFO!R14*100>100,100,AI14/COUNTRY_INFO!R14*100), \"-\"),0)","v":"-"},{"$f":"MAX('T1'!L14,'T2'!S14)","v":51064},{"$f":"IF(AND(COUNTRY_INFO!K14>1,COUNTRY_INFO!K14<99,COUNTRY_INFO!K14<>4,COUNTRY_INFO!K14<>5),IF(COUNTRY_INFO!S14>AK14,AK14,COUNTRY_INFO!S14),0)","v":51064},{"$f":"IF(AND(COUNTRY_INFO!K14>1,COUNTRY_INFO!K14<99,COUNTRY_INFO!K14<>4,COUNTRY_INFO!K14<>5), IF(AL14/COUNTRY_INFO!S14*100<>0, IF(AL14/COUNTRY_INFO!S14*100>100,100,AL14/COUNTRY_INFO!S14*100), \"-\"),0)","v":34.914361902157189},{"$f":"MAX('T1'!M14,'T2'!T14)","v":0},{"$f":"IF(AND(COUNTRY_INFO!K14>1,COUNTRY_INFO!K14<99,COUNTRY_INFO!K14<>4,COUNTRY_INFO!K14<>5),IF(COUNTRY_INFO!T14>AN14,AN14,COUNTRY_INFO!T14),0)","v":0},{"$f":"IF(AND(COUNTRY_INFO!K14>1,COUNTRY_INFO!K14<99,COUNTRY_INFO!K14<>4,COUNTRY_INFO!K14<>5), IF(AO14/COUNTRY_INFO!T14*100<>0, IF(AO14/COUNTRY_INFO!T14*100>100,100,AO14/COUNTRY_INFO!T14*100), \"-\"),0)","v":"-"},51064,51064,{"$f":"IF(AND(COUNTRY_INFO!K14>1,COUNTRY_INFO!K14<99,COUNTRY_INFO!K14<>4,COUNTRY_INFO!K14<>5), IF(AR14/AE14*100<>0, IF(AR14/AE14*100>100,100,AR14/AE14*100), \"-\"),0)","v":10.985497955170805},null,{"$f":"IF(AND(D14<>0, D14<>\"Inconnu\",D14<>\"Interrompu\",D14<>\"Non requis\"),D14/COUNTRY_INFO!D14, 0)","v":0},{"$f":"IF(AND(J14<>0,J14<>\"Inconnu\",J14<>\"Interrompu\",J14<>\"Non requis\"),J14/COUNTRY_INFO!D14, 0)","v":0},{"$f":"IF(AND(P14<>0,P14<>\"Inconnu\",P14<>\"Surveillance\",P14<>\"Non requis\"),P14/COUNTRY_INFO!Q14, 0)","v":0},{"$f":"IF(AND(AE14<>0,AE14<>\"Inconnu\",AE14<>\"Surveillance\",AE14<>\"Non requis\"),AE14/COUNTRY_INFO!U14, 0)","v":1},{"$f":"IF(AU14>0,D14*PROFILE!$G$7,IF(AV14>0,J14*PROFILE!$G$7,0))","v":0},{"$f":"_xlfn.IFS(OR(AU14>0,AW14>0),COUNTRY_INFO!E14, AV14>0,J14*PROFILE!$G$8,AX14>0,COUNTRY_INFO!R14,COUNTIFS(AU14:AX14,\">0\")=0,0)","v":54294},{"$f":"_xlfn.IFS(OR(AU14>0,AW14>0),COUNTRY_INFO!F14, AV14>0,J14*PROFILE!$G$9,AX14>0,COUNTRY_INFO!S14,COUNTIFS(AU14:AX14,\">0\")=0,0)","v":146255},{"$f":"_xlfn.IFS(AU14>0,COUNTRY_INFO!G14, AND(AV14>0,AW14=0,AX14=0),J14*PROFILE!$G$10,AND(AV14>0,AW14>0,AX14=0), MAX(J14*PROFILE!$G$10,COUNTRY_INFO!P14),AND(AV14>0,AW14=0,AX14>0), MAX(J14*PROFILE!$G$10,COUNTRY_INFO!T14),AND(AV14=0,AW14>0,AX14>0), MAX(COUNTRY_INFO!P14,COUNTRY_INFO!T14),AND(AV14=0,AW14>0,AX14=0),COUNTRY_INFO!P14,AND(AV14=0,AW14=0,AX14>0),COUNTRY_INFO!T14,AND(AV14>0,AW14>0,AX14>0), MAX(J14*PROFILE!$G$10,COUNTRY_INFO!P14,COUNTRY_INFO!T14),COUNTIFS(AU14:AX14,\">0\")=0,0)","v":264282},464831,"Y",{"$f":"MAX('MDA2'!J14,'MDA5'!J14,S14,AH14)","v":0},{"$f":"MAX('MDA1'!K14,'MDA2'!K14,'MDA3'!I14,'MDA3'!L14,'MDA5'!K14,V14,AK14)","v":51064},{"$f":"MAX('MDA1'!L14,'MDA2'!L14,'MDA3'!J14,'MDA3'!M14,'MDA5'!L14,Y14,AN14)","v":0},51064,{"$f":"_xlfn.IFS(AND(AU14=0,AW14=0,AX14=0),0,AND(AU14=0,AW14=0,AX14>0),AI14,AND(AU14=0,AW14>0,AX14=0),T14,AND(AU14=0,AW14>0,AX14>0),MAX(T14,AI14),AND(AU14>0,AW14=0,AX14=0),MIN(MAX('MDA2'!J14,'MDA5'!J14),AZ14),AND(AU14>0,AW14=0,AX14>0),MIN(MAX('MDA2'!J14,'MDA5'!J14,AI14),AZ14),AND(AU14>0,AW14>0,AX14=0),MIN(MAX('MDA2'!J14,'MDA5'!J14,T14),AZ14),AND(AU14>0,AW14>0,AX14>0),MIN(MAX('MDA2'!J14,'MDA5'!J14,AI14,T14),AZ14))","v":0},{"$f":"_xlfn.IFS(AND(AU14=0,AV14=0,AW14=0,AX14=0),0,AND(AU14=0,AV14=0,AW14=0,AX14>0),AL14,AND(AU14=0,AV14=0,AW14>0,AX14=0),W14,AND(AU14=0,AV14=0,AW14>0,AX14>0),MAX(W14,AL14),AND(AU14=0,AV14>0,AW14=0,AX14=0),MIN(J14*PROFILE!$G$9,MAX('MDA3'!I14,'MDA3'!L14)),AND(AU14=0,AV14>0,AW14=0,AX14>0),MIN(J14*PROFILE!$G$9,MAX('MDA3'!I14,'MDA3'!L14,AL14)),AND(AU14=0,AV14>0,AW14>0,AX14=0),MIN(J14*PROFILE!$G$9,MAX('MDA3'!I14,'MDA3'!L14,W14)),AND(AU14=0,AV14>0,AW14>0,AX14>0),MIN(J14*PROFILE!$G$9,MAX('MDA3'!I14,'MDA3'!L14,W14,AL14)),AND(AU14>0,AV14=0,AW14=0,AX14=0), MIN(BA14,MAX('MDA1'!K14,'MDA2'!K14,'MDA5'!K14)),AND(AU14>0,AV14=0,AW14=0,AX14>0), MIN(BA14,MAX('MDA1'!K14,'MDA2'!K14,'MDA5'!K14,AL14)),AND(AU14>0,AV14=0,AW14>0,AX14=0),MIN(BA14,MAX('MDA1'!K14,'MDA2'!KL14,'MDA5'!K14,W14)),AND(AU14>0,AV14=0,AW14>0,AX14>0),MIN(BA14,MAX('MDA1'!K14,'MDA2'!K14,'MDA5'!K14,W14,AL14)),AND(AU14>0,AV14>0,AW14=0,AX14=0),MIN(BA14, MAX('MDA1'!K14,'MDA2'!K14, 'MDA5'!K14,MAX('MDA3'!I14,'MDA3'!L14))), AND(AU14>0,AV14>0,AW14=0,AX14>0),MIN(BA14, MAX('MDA1'!K14,'MDA2'!K14, 'MDA5'!K14,MAX('MDA3'!I14,'MDA3'!L14),AL14)), AND(AU14>0,AV14>0,AW14>0,AX14=0), MIN(BA14, MAX('MDA1'!K14,'MDA2'!K14, 'MDA5'!K14,MAX('MDA3'!I14,'MDA3'!L14),W14)), AND(AU14>0,AV14>0,AW14>0,AX14>0), MIN(BA14, MAX('MDA1'!K14,'MDA2'!K14, 'MDA5'!K14,MAX('MDA3'!I14,'MDA3'!L14),W14,AL14)))","v":51064},{"$f":"_xlfn.IFS(AND(AU14=0,AV14=0,AW14=0,AX14=0),0,AND(AU14=0,AV14=0,AW14=0,AX14>0),AO14,AND(AU14=0,AV14=0,AW14>0,AX14=0),Z14,AND(AU14=0,AV14=0,AW14>0,AX14>0),MAX(Z14,AO14),AND(AU14=0,AV14>0,AW14=0,AX14=0),MIN(J14*PROFILE!$G$10,MAX('MDA3'!J14,'MDA3'!J14)),AND(AU14=0,AV14>0,AW14=0,AX14>0),MIN(J14*PROFILE!$G$10,MAX('MDA3'!J14,'MDA3'!M14,AO14)),AND(AU14=0,AV14>0,AW14>0,AX14=0),MIN(J14*PROFILE!$G$10,MAX('MDA3'!J14,'MDA3'!M14,Z14)),AND(AU14=0,AV14>0,AW14>0,AX14>0),MIN(J14*PROFILE!$G$10,MAX('MDA3'!J14,'MDA3'!M14,Z14,AO14)),AND(AU14>0,AV14=0,AW14=0,AX14=0), MIN(BB14,MAX('MDA1'!L14,'MDA2'!L14,'MDA5'!L14)),AND(AU14>0,AV14=0,AW14=0,AX14>0), MIN(BB14,MAX('MDA1'!L14,'MDA2'!L14,'MDA5'!L14,AO14)),AND(AU14>0,AV14=0,AW14>0,AX14=0),MIN(BB14,MAX('MDA1'!L14,'MDA2'!L14,'MDA5'!L14,Z14)),AND(AU14>0,AV14=0,AW14>0,AX14>0),MIN(BB14,MAX('MDA1'!L14,'MDA2'!L14,'MDA5'!L14,Z14,AO14)),AND(AU14>0,AV14>0,AW14=0,AX14=0),MIN(BB14, MAX('MDA1'!L14,'MDA2'!L14, 'MDA5'!L14,MAX('MDA3'!J14,'MDA3'!M14))), AND(AU14>0,AV14>0,AW14=0,AX14>0),MIN(BB14, MAX('MDA1'!L14,'MDA2'!L14, 'MDA5'!L14,MAX('MDA3'!J14,'MDA3'!M14),AO14)), AND(AU14>0,AV14>0,AW14>0,AX14=0), MIN(BB14, MAX('MDA1'!L14,'MDA2'!L14, 'MDA5'!L14,MAX('MDA3'!J14,'MDA3'!M14),Z14)), AND(AU14>0,AV14>0,AW14>0,AX14>0), MIN(BB14, MAX('MDA1'!L14,'MDA2'!L14, 'MDA5'!L14,MAX('MDA3'!J14,'MDA3'!M14),Z14,AO14)))","v":0},51064,10.985497955170805]
[{"$f":"IF(COUNTRY_INFO!A15=0,\" \",COUNTRY_INFO!A15)","v":"Mali"},{"$f":"IF(COUNTRY_INFO!B15=0,\" \",COUNTRY_INFO!B15)","v":"Bamako"},{"$f":"IF(COUNTRY_INFO!C15=0,\" \",COUNTRY_INFO!C15)","v":"Commune 6"},{"$f":"COUNTRY_INFO!L15","v":0},null,null,{"$f":"MAX('MDA1'!M15,'MDA2'!M15,'MDA5'!M15)","v":0},{"$f":"IF(AND(COUNTRY_INFO!H15>0,COUNTRY_INFO!H15<4),IF(D15>G15,G15,D15),0)","v":0},{"$f":"IF(AND(COUNTRY_INFO!H15>0,COUNTRY_INFO!H15<4), IF(G15/D15*100<>0, IF(G15/D15*100>100,100,G15/D15*100), \"-\"),0)","v":0},{"$f":"COUNTRY_INFO!M15","v":0},null,null,{"$f":"MAX('MDA1'!M15,MAX('MDA3'!I15,'MDA3'!L15)+MAX('MDA3'!J15,'MDA3'!M15))","v":0},{"$f":"IF(AND(COUNTRY_INFO!I15>0,COUNTRY_INFO!I15<4),IF(J15>M15,M15,J15),0)","v":0},{"$f":"IF(AND(COUNTRY_INFO!I15>0,COUNTRY_INFO!I15<4), IF(M15/J15*100<>0, IF(M15/J15*100>100,100,M15/J15*100), \"-\"),0)","v":0},{"$f":"COUNTRY_INFO!Q15","v":"Non requis"},null,null,{"$f":"MAX('MDA2'!J15,'MDA5'!J15,'T1'!K15, MAX(T3_R1!J15,T3_R2!J15,T3_R3!J15))","v":0},{"$f":"IF(AND(COUNTRY_INFO!J15>1,COUNTRY_INFO!J15<99,COUNTRY_INFO!J15<>4,COUNTRY_INFO!J15<>5),IF(COUNTRY_INFO!N15>S15,S15,COUNTRY_INFO!N15),0)","v":0},{"$f":"IF(AND(COUNTRY_INFO!J15>1,COUNTRY_INFO!J15<99,COUNTRY_INFO!J15<>4,COUNTRY_INFO!J15<>5), IF(T15/COUNTRY_INFO!N15*100<>0, IF(T15/COUNTRY_INFO!N15*100>100,100,T15/COUNTRY_INFO!N15*100), \"-\"),0)","v":0},{"$f":"MAX('MDA1'!K15, 'MDA2'!K15, 'MDA5'!K15,'T1'!L15, MAX(T3_R1!K15,T3_R2!K15,T3_R3!K15))","v":0},{"$f":"IF(AND(COUNTRY_INFO!J15>1,COUNTRY_INFO!J15<99,COUNTRY_INFO!J15<>4,COUNTRY_INFO!J15<>5),IF(COUNTRY_INFO!O15>V15,V15,COUNTRY_INFO!O15),0)","v":0},{"$f":"IF(AND(COUNTRY_INFO!J15>1,COUNTRY_INFO!J15<99,COUNTRY_INFO!J15<>4,COUNTRY_INFO!J15<>5), IF(W15/COUNTRY_INFO!O15*100<>0, IF(W15/COUNTRY_INFO!O15*100>100,100,W15/COUNTRY_INFO!O15*100), \"-\"),0)","v":0},{"$f":"MAX('MDA1'!L15, 'MDA2'!L15, 'MDA5'!L15,'T1'!M15, MAX(T3_R1!L15,T3_R2!L15,T3_R3!L15))","v":0},{"$f":"IF(AND(COUNTRY_INFO!J15>1,COUNTRY_INFO!J15<99,COUNTRY_INFO!J15<>4,COUNTRY_INFO!J15<>5),IF(COUNTRY_INFO!P15>Y15,Y15,COUNTRY_INFO!P15),0)","v":0},{"$f":"IF(AND(COUNTRY_INFO!J15>1,COUNTRY_INFO!J15<99,COUNTRY_INFO!J15<>4,COUNTRY_INFO!J15<>5), IF(Z15/COUNTRY_INFO!P15*100<>0, IF(Z15/COUNTRY_INFO!P15*100>100,100,Z15/COUNTRY_INFO!P15*100), \"-\"),0)","v":0},0,0,{"$f":"IF(AND(COUNTRY_INFO!J15>1,COUNTRY_INFO!J15<99,COUNTRY_INFO!J15<>4,COUNTRY_INFO!J15<>5), IF(AC15/P15*100<>0, IF(AC15/P15*100>100,100,AC15/P15*100), \"-\"),0)","v":0},{"$f":"COUNTRY_INFO!U15","v":458036},null,null,{"$f":"MAX('T1'!K15,'T2'!R15)","v":0},{"$f":"IF(AND(COUNTRY_INFO!K15>1,COUNTRY_INFO!K15<99,COUNTRY_INFO!K15<>4,COUNTRY_INFO!K15<>5),IF(COUNTRY_INFO!R15>AH15,AH15,COUNTRY_INFO!R15),0)","v":0},{"$f":"IF(AND(COUNTRY_INFO!K15>1,COUNTRY_INFO!K15<99,COUNTRY_INFO!K15<>4,COUNTRY_INFO!K15<>5), IF(AI15/COUNTRY_INFO!R15*100<>0, IF(AI15/COUNTRY_INFO!R15*100>100,100,AI15/COUNTRY_INFO!R15*100), \"-\"),0)","v":"-"},{"$f":"MAX('T1'!L15,'T2'!S15)","v":121820},{"$f":"IF(AND(COUNTRY_INFO!K15>1,COUNTRY_INFO!K15<99,COUNTRY_INFO!K15<>4,COUNTRY_INFO!K15<>5),IF(COUNTRY_INFO!S15>AK15,AK15,COUNTRY_INFO!S15),0)","v":121820},{"$f":"IF(AND(COUNTRY_INFO!K15>1,COUNTRY_INFO!K15<99,COUNTRY_INFO!K15<>4,COUNTRY_INFO!K15<>5), IF(AL15/COUNTRY_INFO!S15*100<>0, IF(AL15/COUNTRY_INFO!S15*100>100,100,AL15/COUNTRY_INFO!S15*100), \"-\"),0)","v":84.52912931249827},{"$f":"MAX('T1'!M15,'T2'!T15)","v":0},{"$f":"IF(AND(COUNTRY_INFO!K15>1,COUNTRY_INFO!K15<99,COUNTRY_INFO!K15<>4,COUNTRY_INFO!K15<>5),IF(COUNTRY_INFO!T15>AN15,AN15,COUNTRY_INFO!T15),0)","v":0},{"$f":"IF(AND(COUNTRY_INFO!K15>1,COUNTRY_INFO!K15<99,COUNTRY_INFO!K15<>4,COUNTRY_INFO!K15<>5), IF(AO15/COUNTRY_INFO!T15*100<>0, IF(AO15/COUNTRY_INFO!T15*100>100,100,AO15/COUNTRY_INFO!T15*100), \"-\"),0)","v":"-"},121820,121820,{"$f":"IF(AND(COUNTRY_INFO!K15>1,COUNTRY_INFO!K15<99,COUNTRY_INFO!K15<>4,COUNTRY_INFO!K15<>5), IF(AR15/AE15*100<>0, IF(AR15/AE15*100>100,100,AR15/AE15*100), \"-\"),0)","v":26.596162747032988},null,{"$f":"IF(AND(D15<>0, D15<>\"Inconnu\",D15<>\"Interrompu\",D15<>\"Non requis\"),D15/COUNTRY_INFO!D15, 0)","v":0},{"$f":"IF(AND(J15<>0,J15<>\"Inconnu\",J15<>\"Interrompu\",J15<>\"Non requis\"),J15/COUNTRY_INFO!D15, 0)","v":0},{"$f":"IF(AND(P15<>0,P15<>\"Inconnu\",P15<>\"Surveillance\",P15<>\"Non requis\"),P15/COUNTRY_INFO!Q15, 0)","v":0},{"$f":"IF(AND(AE15<>0,AE15<>\"Inconnu\",AE15<>\"Surveillance\",AE15<>\"Non requis\"),AE15/COUNTRY_INFO!U15, 0)","v":1},{"$f":"IF(AU15>0,D15*PROFILE!$G$7,IF(AV15>0,J15*PROFILE!$G$7,0))","v":0},{"$f":"_xlfn.IFS(OR(AU15>0,AW15>0),COUNTRY_INFO!E15, AV15>0,J15*PROFILE!$G$8,AX15>0,COUNTRY_INFO!R15,COUNTIFS(AU15:AX15,\">0\")=0,0)","v":53499},{"$f":"_xlfn.IFS(OR(AU15>0,AW15>0),COUNTRY_INFO!F15, AV15>0,J15*PROFILE!$G$9,AX15>0,COUNTRY_INFO!S15,COUNTIFS(AU15:AX15,\">0\")=0,0)","v":144116},{"$f":"_xlfn.IFS(AU15>0,COUNTRY_INFO!G15, AND(AV15>0,AW15=0,AX15=0),J15*PROFILE!$G$10,AND(AV15>0,AW15>0,AX15=0), MAX(J15*PROFILE!$G$10,COUNTRY_INFO!P15),AND(AV15>0,AW15=0,AX15>0), MAX(J15*PROFILE!$G$10,COUNTRY_INFO!T15),AND(AV15=0,AW15>0,AX15>0), MAX(COUNTRY_INFO!P15,COUNTRY_INFO!T15),AND(AV15=0,AW15>0,AX15=0),COUNTRY_INFO!P15,AND(AV15=0,AW15=0,AX15>0),COUNTRY_INFO!T15,AND(AV15>0,AW15>0,AX15>0), MAX(J15*PROFILE!$G$10,COUNTRY_INFO!P15,COUNTRY_INFO!T15),COUNTIFS(AU15:AX15,\">0\")=0,0)","v":260421},458036,"Y",{"$f":"MAX('MDA2'!J15,'MDA5'!J15,S15,AH15)","v":0},{"$f":"MAX('MDA1'!K15,'MDA2'!K15,'MDA3'!I15,'MDA3'!L15,'MDA5'!K15,V15,AK15)","v":121820},{"$f":"MAX('MDA1'!L15,'MDA2'!L15,'MDA3'!J15,'MDA3'!M15,'MDA5'!L15,Y15,AN15)","v":0},121820,{"$f":"_xlfn.IFS(AND(AU15=0,AW15=0,AX15=0),0,AND(AU15=0,AW15=0,AX15>0),AI15,AND(AU15=0,AW15>0,AX15=0),T15,AND(AU15=0,AW15>0,AX15>0),MAX(T15,AI15),AND(AU15>0,AW15=0,AX15=0),MIN(MAX('MDA2'!J15,'MDA5'!J15),AZ15),AND(AU15>0,AW15=0,AX15>0),MIN(MAX('MDA2'!J15,'MDA5'!J15,AI15),AZ15),AND(AU15>0,AW15>0,AX15=0),MIN(MAX('MDA2'!J15,'MDA5'!J15,T15),AZ15),AND(AU15>0,AW15>0,AX15>0),MIN(MAX('MDA2'!J15,'MDA5'!J15,AI15,T15),AZ15))","v":0},{"$f":"_xlfn.IFS(AND(AU15=0,AV15=0,AW15=0,AX15=0),0,AND(AU15=0,AV15=0,AW15=0,AX15>0),AL15,AND(AU15=0,AV15=0,AW15>0,AX15=0),W15,AND(AU15=0,AV15=0,AW15>0,AX15>0),MAX(W15,AL15),AND(AU15=0,AV15>0,AW15=0,AX15=0),MIN(J15*PROFILE!$G$9,MAX('MDA3'!I15,'MDA3'!L15)),AND(AU15=0,AV15>0,AW15=0,AX15>0),MIN(J15*PROFILE!$G$9,MAX('MDA3'!I15,'MDA3'!L15,AL15)),AND(AU15=0,AV15>0,AW15>0,AX15=0),MIN(J15*PROFILE!$G$9,MAX('MDA3'!I15,'MDA3'!L15,W15)),AND(AU15=0,AV15>0,AW15>0,AX15>0),MIN(J15*PROFILE!$G$9,MAX('MDA3'!I15,'MDA3'!L15,W15,AL15)),AND(AU15>0,AV15=0,AW15=0,AX15=0), MIN(BA15,MAX('MDA1'!K15,'MDA2'!K15,'MDA5'!K15)),AND(AU15>0,AV15=0,AW15=0,AX15>0), MIN(BA15,MAX('MDA1'!K15,'MDA2'!K15,'MDA5'!K15,AL15)),AND(AU15>0,AV15=0,AW15>0,AX15=0),MIN(BA15,MAX('MDA1'!K15,'MDA2'!KL15,'MDA5'!K15,W15)),AND(AU15>0,AV15=0,AW15>0,AX15>0),MIN(BA15,MAX('MDA1'!K15,'MDA2'!K15,'MDA5'!K15,W15,AL15)),AND(AU15>0,AV15>0,AW15=0,AX15=0),MIN(BA15, MAX('MDA1'!K15,'MDA2'!K15, 'MDA5'!K15,MAX('MDA3'!I15,'MDA3'!L15))), AND(AU15>0,AV15>0,AW15=0,AX15>0),MIN(BA15, MAX('MDA1'!K15,'MDA2'!K15, 'MDA5'!K15,MAX('MDA3'!I15,'MDA3'!L15),AL15)), AND(AU15>0,AV15>0,AW15>0,AX15=0), MIN(BA15, MAX('MDA1'!K15,'MDA2'!K15, 'MDA5'!K15,MAX('MDA3'!I15,'MDA3'!L15),W15)), AND(AU15>0,AV15>0,AW15>0,AX15>0), MIN(BA15, MAX('MDA1'!K15,'MDA2'!K15, 'MDA5'!K15,MAX('MDA3'!I15,'MDA3'!L15),W15,AL15)))","v":121820},{"$f":"_xlfn.IFS(AND(AU15=0,AV15=0,AW15=0,AX15=0),0,AND(AU15=0,AV15=0,AW15=0,AX15>0),AO15,AND(AU15=0,AV15=0,AW15>0,AX15=0),Z15,AND(AU15=0,AV15=0,AW15>0,AX15>0),MAX(Z15,AO15),AND(AU15=0,AV15>0,AW15=0,AX15=0),MIN(J15*PROFILE!$G$10,MAX('MDA3'!J15,'MDA3'!J15)),AND(AU15=0,AV15>0,AW15=0,AX15>0),MIN(J15*PROFILE!$G$10,MAX('MDA3'!J15,'MDA3'!M15,AO15)),AND(AU15=0,AV15>0,AW15>0,AX15=0),MIN(J15*PROFILE!$G$10,MAX('MDA3'!J15,'MDA3'!M15,Z15)),AND(AU15=0,AV15>0,AW15>0,AX15>0),MIN(J15*PROFILE!$G$10,MAX('MDA3'!J15,'MDA3'!M15,Z15,AO15)),AND(AU15>0,AV15=0,AW15=0,AX15=0), MIN(BB15,MAX('MDA1'!L15,'MDA2'!L15,'MDA5'!L15)),AND(AU15>0,AV15=0,AW15=0,AX15>0), MIN(BB15,MAX('MDA1'!L15,'MDA2'!L15,'MDA5'!L15,AO15)),AND(AU15>0,AV15=0,AW15>0,AX15=0),MIN(BB15,MAX('MDA1'!L15,'MDA2'!L15,'MDA5'!L15,Z15)),AND(AU15>0,AV15=0,AW15>0,AX15>0),MIN(BB15,MAX('MDA1'!L15,'MDA2'!L15,'MDA5'!L15,Z15,AO15)),AND(AU15>0,AV15>0,AW15=0,AX15=0),MIN(BB15, MAX('MDA1'!L15,'MDA2'!L15, 'MDA5'!L15,MAX('MDA3'!J15,'MDA3'!M15))), AND(AU15>0,AV15>0,AW15=0,AX15>0),MIN(BB15, MAX('MDA1'!L15,'MDA2'!L15, 'MDA5'!L15,MAX('MDA3'!J15,'MDA3'!M15),AO15)), AND(AU15>0,AV15>0,AW15>0,AX15=0), MIN(BB15, MAX('MDA1'!L15,'MDA2'!L15, 'MDA5'!L15,MAX('MDA3'!J15,'MDA3'!M15),Z15)), AND(AU15>0,AV15>0,AW15>0,AX15>0), MIN(BB15, MAX('MDA1'!L15,'MDA2'!L15, 'MDA5'!L15,MAX('MDA3'!J15,'MDA3'!M15),Z15,AO15)))","v":0},121820,26.596162747032988]
[{"$f":"IF(COUNTRY_INFO!A16=0,\" \",COUNTRY_INFO!A16)","v":"Mali"},{"$f":"IF(COUNTRY_INFO!B16=0,\" \",COUNTRY_INFO!B16)","v":"Gao"},{"$f":"IF(COUNTRY_INFO!C16=0,\" \",COUNTRY_INFO!C16)","v":"Ansongo"},{"$f":"COUNTRY_INFO!L16","v":0},null,null,{"$f":"MAX('MDA1'!M16,'MDA2'!M16,'MDA5'!M16)","v":0},{"$f":"IF(AND(COUNTRY_INFO!H16>0,COUNTRY_INFO!H16<4),IF(D16>G16,G16,D16),0)","v":0},{"$f":"IF(AND(COUNTRY_INFO!H16>0,COUNTRY_INFO!H16<4), IF(G16/D16*100<>0, IF(G16/D16*100>100,100,G16/D16*100), \"-\"),0)","v":0},{"$f":"COUNTRY_INFO!M16","v":0},null,null,{"$f":"MAX('MDA1'!M16,MAX('MDA3'!I16,'MDA3'!L16)+MAX('MDA3'!J16,'MDA3'!M16))","v":0},{"$f":"IF(AND(COUNTRY_INFO!I16>0,COUNTRY_INFO!I16<4),IF(J16>M16,M16,J16),0)","v":0},{"$f":"IF(AND(COUNTRY_INFO!I16>0,COUNTRY_INFO!I16<4), IF(M16/J16*100<>0, IF(M16/J16*100>100,100,M16/J16*100), \"-\"),0)","v":0},{"$f":"COUNTRY_INFO!Q16","v":"Non requis"},null,null,{"$f":"MAX('MDA2'!J16,'MDA5'!J16,'T1'!K16, MAX(T3_R1!J16,T3_R2!J16,T3_R3!J16))","v":0},{"$f":"IF(AND(COUNTRY_INFO!J16>1,COUNTRY_INFO!J16<99,COUNTRY_INFO!J16<>4,COUNTRY_INFO!J16<>5),IF(COUNTRY_INFO!N16>S16,S16,COUNTRY_INFO!N16),0)","v":0},{"$f":"IF(AND(COUNTRY_INFO!J16>1,COUNTRY_INFO!J16<99,COUNTRY_INFO!J16<>4,COUNTRY_INFO!J16<>5), IF(T16/COUNTRY_INFO!N16*100<>0, IF(T16/COUNTRY_INFO!N16*100>100,100,T16/COUNTRY_INFO!N16*100), \"-\"),0)","v":0},{"$f":"MAX('MDA1'!K16, 'MDA2'!K16, 'MDA5'!K16,'T1'!L16, MAX(T3_R1!K16,T3_R2!K16,T3_R3!K16))","v":0},{"$f":"IF(AND(COUNTRY_INFO!J16>1,COUNTRY_INFO!J16<99,COUNTRY_INFO!J16<>4,COUNTRY_INFO!J16<>5),IF(COUNTRY_INFO!O16>V16,V16,COUNTRY_INFO!O16),0)","v":0},{"$f":"IF(AND(COUNTRY_INFO!J16>1,COUNTRY_INFO!J16<99,COUNTRY_INFO!J16<>4,COUNTRY_INFO!J16<>5), IF(W16/COUNTRY_INFO!O16*100<>0, IF(W16/COUNTRY_INFO!O16*100>100,100,W16/COUNTRY_INFO!O16*100), \"-\"),0)","v":0},{"$f":"MAX('MDA1'!L16, 'MDA2'!L16, 'MDA5'!L16,'T1'!M16, MAX(T3_R1!L16,T3_R2!L16,T3_R3!L16))","v":0},{"$f":"IF(AND(COUNTRY_INFO!J16>1,COUNTRY_INFO!J16<99,COUNTRY_INFO!J16<>4,COUNTRY_INFO!J16<>5),IF(COUNTRY_INFO!P16>Y16,Y16,COUNTRY_INFO!P16),0)","v":0},{"$f":"IF(AND(COUNTRY_INFO!J16>1,COUNTRY_INFO!J16<99,COUNTRY_INFO!J16<>4,COUNTRY_INFO!J16<>5), IF(Z16/COUNTRY_INFO!P16*100<>0, IF(Z16/COUNTRY_INFO!P16*100>100,100,Z16/COUNTRY_INFO!P16*100), \"-\"),0)","v":0},0,0,{"$f":"IF(AND(COUNTRY_INFO!J16>1,COUNTRY_INFO!J16<99,COUNTRY_INFO!J16<>4,COUNTRY_INFO!J16<>5), IF(AC16/P16*100<>0, IF(AC16/P16*100>100,100,AC16/P16*100), \"-\"),0)","v":0},{"$f":"COUNTRY_INFO!U16","v":182525},null,null,{"$f":"MAX('T1'!K16,'T2'!R16)","v":0},{"$f":"IF(AND(COUNTRY_INFO!K16>1,COUNTRY_INFO!K16<99,COUNTRY_INFO!K16<>4,COUNTRY_INFO!K16<>5),IF(COUNTRY_INFO!R16>AH16,AH16,COUNTRY_INFO!R16),0)","v":0},{"$f":"IF(AND(COUNTRY_INFO!K16>1,COUNTRY_INFO!K16<99,COUNTRY_INFO!K16<>4,COUNTRY_INFO!K16<>5), IF(AI16/COUNTRY_INFO!R16*100<>0, IF(AI16/COUNTRY_INFO!R16*100>100,100,AI16/COUNTRY_INFO!R16*100), \"-\"),0)","v":"-"},{"$f":"MAX('T1'!L16,'T2'!S16)","v":28775},{"$f":"IF(AND(COUNTRY_INFO!K16>1,COUNTRY_INFO!K16<99,COUNTRY_INFO!K16<>4,COUNTRY_INFO!K16<>5),IF(COUNTRY_INFO!S16>AK16,AK16,COUNTRY_INFO!S16),0)","v":28775},{"$f":"IF(AND(COUNTRY_INFO!K16>1,COUNTRY_INFO!K16<99,COUNTRY_INFO!K16<>4,COUNTRY_INFO!K16<>5), IF(AL16/COUNTRY_INFO!S16*100<>0, IF(AL16/COUNTRY_INFO!S16*100>100,100,AL16/COUNTRY_INFO!S16*100), \"-\"),0)","v":50.102730185262565},{"$f":"MAX('T1'!M16,'T2'!T16)","v":0},{"$f":"IF(AND(COUNTRY_INFO!K16>1,COUNTRY_INFO!K16<99,COUNTRY_INFO!K16<>4,COUNTRY_INFO!K16<>5),IF(COUNTRY_INFO!T16>AN16,AN16,COUNTRY_INFO!T16),0)","v":0},{"$f":"IF(AND(COUNTRY_INFO!K16>1,COUNTRY_INFO!K16<99,COUNTRY_INFO!K16<>4,COUNTRY_INFO!K16<>5), IF(AO16/COUNTRY_INFO!T16*100<>0, IF(AO16/COUNTRY_INFO!T16*100>100,100,AO16/COUNTRY_INFO!T16*100), \"-\"),0)","v":"-"},28775,28775,{"$f":"IF(AND(COUNTRY_INFO!K16>1,COUNTRY_INFO!K16<99,COUNTRY_INFO!K16<>4,COUNTRY_INFO!K16<>5), IF(AR16/AE16*100<>0, IF(AR16/AE16*100>100,100,AR16/AE16*100), \"-\"),0)","v":15.764963703602247},null,{"$f":"IF(AND(D16<>0, D16<>\"Inconnu\",D16<>\"Interrompu\",D16<>\"Non requis\"),D16/COUNTRY_INFO!D16, 0)","v":0},{"$f":"IF(AND(J16<>0,J16<>\"Inconnu\",J16<>\"Interrompu\",J16<>\"Non requis\"),J16/COUNTRY_INFO!D16, 0)","v":0},{"$f":"IF(AND(P16<>0,P16<>\"Inconnu\",P16<>\"Surveillance\",P16<>\"Non requis\"),P16/COUNTRY_INFO!Q16, 0)","v":0},{"$f":"IF(AND(AE16<>0,AE16<>\"Inconnu\",AE16<>\"Surveillance\",AE16<>\"Non requis\"),AE16/COUNTRY_INFO!U16, 0)","v":1},{"$f":"IF(AU16>0,D16*PROFILE!$G$7,IF(AV16>0,J16*PROFILE!$G$7,0))","v":0},{"$f":"_xlfn.IFS(OR(AU16>0,AW16>0),COUNTRY_INFO!E16, AV16>0,J16*PROFILE!$G$8,AX16>0,COUNTRY_INFO!R16,COUNTIFS(AU16:AX16,\">0\")=0,0)","v":21323},{"$f":"_xlfn.IFS(OR(AU16>0,AW16>0),COUNTRY_INFO!F16, AV16>0,J16*PROFILE!$G$9,AX16>0,COUNTRY_INFO!S16,COUNTIFS(AU16:AX16,\">0\")=0,0)","v":57432},{"$f":"_xlfn.IFS(AU16>0,COUNTRY_INFO!G16, AND(AV16>0,AW16=0,AX16=0),J16*PROFILE!$G$10,AND(AV16>0,AW16>0,AX16=0), MAX(J16*PROFILE!$G$10,COUNTRY_INFO!P16),AND(AV16>0,AW16=0,AX16>0), MAX(J16*PROFILE!$G$10,COUNTRY_INFO!T16),AND(AV16=0,AW16>0,AX16>0), MAX(COUNTRY_INFO!P16,COUNTRY_INFO!T16),AND(AV16=0,AW16>0,AX16=0),COUNTRY_INFO!P16,AND(AV16=0,AW16=0,AX16>0),COUNTRY_INFO!T16,AND(AV16>0,AW16>0,AX16>0), MAX(J16*PROFILE!$G$10,COUNTRY_INFO!P16,COUNTRY_INFO!T16),COUNTIFS(AU16:AX16,\">0\")=0,0)","v":103770},182525,"Y",{"$f":"MAX('MDA2'!J16,'MDA5'!J16,S16,AH16)","v":0},{"$f":"MAX('MDA1'!K16,'MDA2'!K16,'MDA3'!I16,'MDA3'!L16,'MDA5'!K16,V16,AK16)","v":28775},{"$f":"MAX('MDA1'!L16,'MDA2'!L16,'MDA3'!J16,'MDA3'!M16,'MDA5'!L16,Y16,AN16)","v":0},28775,{"$f":"_xlfn.IFS(AND(AU16=0,AW16=0,AX16=0),0,AND(AU16=0,AW16=0,AX16>0),AI16,AND(AU16=0,AW16>0,AX16=0),T16,AND(AU16=0,AW16>0,AX16>0),MAX(T16,AI16),AND(AU16>0,AW16=0,AX16=0),MIN(MAX('MDA2'!J16,'MDA5'!J16),AZ16),AND(AU16>0,AW16=0,AX16>0),MIN(MAX('MDA2'!J16,'MDA5'!J16,AI16),AZ16),AND(AU16>0,AW16>0,AX16=0),MIN(MAX('MDA2'!J16,'MDA5'!J16,T16),AZ16),AND(AU16>0,AW16>0,AX16>0),MIN(MAX('MDA2'!J16,'MDA5'!J16,AI16,T16),AZ16))","v":0},{"$f":"_xlfn.IFS(AND(AU16=0,AV16=0,AW16=0,AX16=0),0,AND(AU16=0,AV16=0,AW16=0,AX16>0),AL16,AND(AU16=0,AV16=0,AW16>0,AX16=0),W16,AND(AU16=0,AV16=0,AW16>0,AX16>0),MAX(W16,AL16),AND(AU16=0,AV16>0,AW16=0,AX16=0),MIN(J16*PROFILE!$G$9,MAX('MDA3'!I16,'MDA3'!L16)),AND(AU16=0,AV16>0,AW16=0,AX16>0),MIN(J16*PROFILE!$G$9,MAX('MDA3'!I16,'MDA3'!L16,AL16)),AND(AU16=0,AV16>0,AW16>0,AX16=0),MIN(J16*PROFILE!$G$9,MAX('MDA3'!I16,'MDA3'!L16,W16)),AND(AU16=0,AV16>0,AW16>0,AX16>0),MIN(J16*PROFILE!$G$9,MAX('MDA3'!I16,'MDA3'!L16,W16,AL16)),AND(AU16>0,AV16=0,AW16=0,AX16=0), MIN(BA16,MAX('MDA1'!K16,'MDA2'!K16,'MDA5'!K16)),AND(AU16>0,AV16=0,AW16=0,AX16>0), MIN(BA16,MAX('MDA1'!K16,'MDA2'!K16,'MDA5'!K16,AL16)),AND(AU16>0,AV16=0,AW16>0,AX16=0),MIN(BA16,MAX('MDA1'!K16,'MDA2'!KL16,'MDA5'!K16,W16)),AND(AU16>0,AV16=0,AW16>0,AX16>0),MIN(BA16,MAX('MDA1'!K16,'MDA2'!K16,'MDA5'!K16,W16,AL16)),AND(AU16>0,AV16>0,AW16=0,AX16=0),MIN(BA16, MAX('MDA1'!K16,'MDA2'!K16, 'MDA5'!K16,MAX('MDA3'!I16,'MDA3'!L16))), AND(AU16>0,AV16>0,AW16=0,AX16>0),MIN(BA16, MAX('MDA1'!K16,'MDA2'!K16, 'MDA5'!K16,MAX('MDA3'!I16,'MDA3'!L16),AL16)), AND(AU16>0,AV16>0,AW16>0,AX16=0), MIN(BA16, MAX('MDA1'!K16,'MDA2'!K16, 'MDA5'!K16,MAX('MDA3'!I16,'MDA3'!L16),W16)), AND(AU16>0,AV16>0,AW16>0,AX16>0), MIN(BA16, MAX('MDA1'!K16,'MDA2'!K16, 'MDA5'!K16,MAX('MDA3'!I16,'MDA3'!L16),W16,AL16)))","v":28775},{"$f":"_xlfn.IFS(AND(AU16=0,AV16=0,AW16=0,AX16=0),0,AND(AU16=0,AV16=0,AW16=0,AX16>0),AO16,AND(AU16=0,AV16=0,AW16>0,AX16=0),Z16,AND(AU16=0,AV16=0,AW16>0,AX16>0),MAX(Z16,AO16),AND(AU16=0,AV16>0,AW16=0,AX16=0),MIN(J16*PROFILE!$G$10,MAX('MDA3'!J16,'MDA3'!J16)),AND(AU16=0,AV16>0,AW16=0,AX16>0),MIN(J16*PROFILE!$G$10,MAX('MDA3'!J16,'MDA3'!M16,AO16)),AND(AU16=0,AV16>0,AW16>0,AX16=0),MIN(J16*PROFILE!$G$10,MAX('MDA3'!J16,'MDA3'!M16,Z16)),AND(AU16=0,AV16>0,AW16>0,AX16>0),MIN(J16*PROFILE!$G$10,MAX('MDA3'!J16,'MDA3'!M16,Z16,AO16)),AND(AU16>0,AV16=0,AW16=0,AX16=0), MIN(BB16,MAX('MDA1'!L16,'MDA2'!L16,'MDA5'!L16)),AND(AU16>0,AV16=0,AW16=0,AX16>0), MIN(BB16,MAX('MDA1'!L16,'MDA2'!L16,'MDA5'!L16,AO16)),AND(AU16>0,AV16=0,AW16>0,AX16=0),MIN(BB16,MAX('MDA1'!L16,'MDA2'!L16,'MDA5'!L16,Z16)),AND(AU16>0,AV16=0,AW16>0,AX16>0),MIN(BB16,MAX('MDA1'!L16,'MDA2'!L16,'MDA5'!L16,Z16,AO16)),AND(AU16>0,AV16>0,AW16=0,AX16=0),MIN(BB16, MAX('MDA1'!L16,'MDA2'!L16, 'MDA5'!L16,MAX('MDA3'!J16,'MDA3'!M16))), AND(AU16>0,AV16>0,AW16=0,AX16>0),MIN(BB16, MAX('MDA1'!L16,'MDA2'!L16, 'MDA5'!L16,MAX('MDA3'!J16,'MDA3'!M16),AO16)), AND(AU16>0,AV16>0,AW16>0,AX16=0), MIN(BB16, MAX('MDA1'!L16,'MDA2'!L16, 'MDA5'!L16,MAX('MDA3'!J16,'MDA3'!M16),Z16)), AND(AU16>0,AV16>0,AW16>0,AX16>0), MIN(BB16, MAX('MDA1'!L16,'MDA2'!L16, 'MDA5'!L16,MAX('MDA3'!J16,'MDA3'!M16),Z16,AO16)))","v":0},28775,15.764963703602247]
[{"$f":"IF(COUNTRY_INFO!A17=0,\" \",COUNTRY_INFO!A17)","v":"Mali"},{"$f":"IF(COUNTRY_INFO!B17=0,\" \",COUNTRY_INFO!B17)","v":"Gao"},{"$f":"IF(COUNTRY_INFO!C17=0,\" \",COUNTRY_INFO!C17)","v":"Bourem"},{"$f":"COUNTRY_INFO!L17","v":0},null,null,{"$f":"MAX('MDA1'!M17,'MDA2'!M17,'MDA5'!M17)","v":0},{"$f":"IF(AND(COUNTRY_INFO!H17>0,COUNTRY_INFO!H17<4),IF(D17>G17,G17,D17),0)","v":0},{"$f":"IF(AND(COUNTRY_INFO!H17>0,COUNTRY_INFO!H17<4), IF(G17/D17*100<>0, IF(G17/D17*100>100,100,G17/D17*100), \"-\"),0)","v":0},{"$f":"COUNTRY_INFO!M17","v":0},null,null,{"$f":"MAX('MDA1'!M17,MAX('MDA3'!I17,'MDA3'!L17)+MAX('MDA3'!J17,'MDA3'!M17))","v":0},{"$f":"IF(AND(COUNTRY_INFO!I17>0,COUNTRY_INFO!I17<4),IF(J17>M17,M17,J17),0)","v":0},{"$f":"IF(AND(COUNTRY_INFO!I17>0,COUNTRY_INFO!I17<4), IF(M17/J17*100<>0, IF(M17/J17*100>100,100,M17/J17*100), \"-\"),0)","v":0},{"$f":"COUNTRY_INFO!Q17","v":"Non requis"},null,null,{"$f":"MAX('MDA2'!J17,'MDA5'!J17,'T1'!K17, MAX(T3_R1!J17,T3_R2!J17,T3_R3!J17))","v":0},{"$f":"IF(AND(COUNTRY_INFO!J17>1,COUNTRY_INFO!J17<99,COUNTRY_INFO!J17<>4,COUNTRY_INFO!J17<>5),IF(COUNTRY_INFO!N17>S17,S17,COUNTRY_INFO!N17),0)","v":0},{"$f":"IF(AND(COUNTRY_INFO!J17>1,COUNTRY_INFO!J17<99,COUNTRY_INFO!J17<>4,COUNTRY_INFO!J17<>5), IF(T17/COUNTRY_INFO!N17*100<>0, IF(T17/COUNTRY_INFO!N17*100>100,100,T17/COUNTRY_INFO!N17*100), \"-\"),0)","v":0},{"$f":"MAX('MDA1'!K17, 'MDA2'!K17, 'MDA5'!K17,'T1'!L17, MAX(T3_R1!K17,T3_R2!K17,T3_R3!K17))","v":0},{"$f":"IF(AND(COUNTRY_INFO!J17>1,COUNTRY_INFO!J17<99,COUNTRY_INFO!J17<>4,COUNTRY_INFO!J17<>5),IF(COUNTRY_INFO!O17>V17,V17,COUNTRY_INFO!O17),0)","v":0},{"$f":"IF(AND(COUNTRY_INFO!J17>1,COUNTRY_INFO!J17<99,COUNTRY_INFO!J17<>4,COUNTRY_INFO!J17<>5), IF(W17/COUNTRY_INFO!O17*100<>0, IF(W17/COUNTRY_INFO!O17*100>100,100,W17/COUNTRY_INFO!O17*100), \"-\"),0)","v":0},{"$f":"MAX('MDA1'!L17, 'MDA2'!L17, 'MDA5'!L17,'T1'!M17, MAX(T3_R1!L17,T3_R2!L17,T3_R3!L17))","v":0},{"$f":"IF(AND(COUNTRY_INFO!J17>1,COUNTRY_INFO!J17<99,COUNTRY_INFO!J17<>4,COUNTRY_INFO!J17<>5),IF(COUNTRY_INFO!P17>Y17,Y17,COUNTRY_INFO!P17),0)","v":0},{"$f":"IF(AND(COUNTRY_INFO!J17>1,COUNTRY_INFO!J17<99,COUNTRY_INFO!J17<>4,COUNTRY_INFO!J17<>5), IF(Z17/COUNTRY_INFO!P17*100<>0, IF(Z17/COUNTRY_INFO!P17*100>100,100,Z17/COUNTRY_INFO!P17*100), \"-\"),0)","v":0},0,0,{"$f":"IF(AND(COUNTRY_INFO!J17>1,COUNTRY_INFO!J17<99,COUNTRY_INFO!J17<>4,COUNTRY_INFO!J17<>5), IF(AC17/P17*100<>0, IF(AC17/P17*100>100,100,AC17/P17*100), \"-\"),0)","v":0},{"$f":"COUNTRY_INFO!U17","v":124978},null,null,{"$f":"MAX('T1'!K17,'T2'!R17)","v":0},{"$f":"IF(AND(COUNTRY_INFO!K17>1,COUNTRY_INFO!K17<99,COUNTRY_INFO!K17<>4,COUNTRY_INFO!K17<>5),IF(COUNTRY_INFO!R17>AH17,AH17,COUNTRY_INFO!R17),0)","v":0},{"$f":"IF(AND(COUNTRY_INFO!K17>1,COUNTRY_INFO!K17<99,COUNTRY_INFO!K17<>4,COUNTRY_INFO!K17<>5), IF(AI17/COUNTRY_INFO!R17*100<>0, IF(AI17/COUNTRY_INFO!R17*100>100,100,AI17/COUNTRY_INFO!R17*100), \"-\"),0)","v":"-"},{"$f":"MAX('T1'!L17,'T2'!S17)","v":35884},{"$f":"IF(AND(COUNTRY_INFO!K17>1,COUNTRY_INFO!K17<99,COUNTRY_INFO!K17<>4,COUNTRY_INFO!K17<>5),IF(COUNTRY_INFO!S17>AK17,AK17,COUNTRY_INFO!S17),0)","v":35884},{"$f":"IF(AND(COUNTRY_INFO!K17>1,COUNTRY_INFO!K17<99,COUNTRY_INFO!K17<>4,COUNTRY_INFO!K17<>5), IF(AL17/COUNTRY_INFO!S17*100<>0, IF(AL17/COUNTRY_INFO!S17*100>100,100,AL17/COUNTRY_INFO!S17*100), \"-\"),0)","v":91.252161529854533},{"$f":"MAX('T1'!M17,'T2'!T17)","v":0},{"$f":"IF(AND(COUNTRY_INFO!K17>1,COUNTRY_INFO!K17<99,COUNTRY_INFO!K17<>4,COUNTRY_INFO!K17<>5),IF(COUNTRY_INFO!T17>AN17,AN17,COUNTRY_INFO!T17),0)","v":0},{"$f":"IF(AND(COUNTRY_INFO!K17>1,COUNTRY_INFO!K17<99,COUNTRY_INFO!K17<>4,COUNTRY_INFO!K17<>5), IF(AO17/COUNTRY_INFO!T17*100<>0, IF(AO17/COUNTRY_INFO!T17*100>100,100,AO17/COUNTRY_INFO!T17*100), \"-\"),0)","v":"-"},35884,35884,{"$f":"IF(AND(COUNTRY_INFO!K17>1,COUNTRY_INFO!K17<99,COUNTRY_INFO!K17<>4,COUNTRY_INFO!K17<>5), IF(AR17/AE17*100<>0, IF(AR17/AE17*100>100,100,AR17/AE17*100), \"-\"),0)","v":28.712253356590761},null,{"$f":"IF(AND(D17<>0, D17<>\"Inconnu\",D17<>\"Interrompu\",D17<>\"Non requis\"),D17/COUNTRY_INFO!D17, 0)","v":0},{"$f":"IF(AND(J17<>0,J17<>\"Inconnu\",J17<>\"Interrompu\",J17<>\"Non requis\"),J17/COUNTRY_INFO!D17, 0)","v":0},{"$f":"IF(AND(P17<>0,P17<>\"Inconnu\",P17<>\"Surveillance\",P17<>\"Non requis\"),P17/COUNTRY_INFO!Q17, 0)","v":0},{"$f":"IF(AND(AE17<>0,AE17<>\"Inconnu\",AE17<>\"Surveillance\",AE17<>\"Non requis\"),AE17/COUNTRY_INFO!U17, 0)","v":1},{"$f":"IF(AU17>0,D17*PROFILE!$G$7,IF(AV17>0,J17*PROFILE!$G$7,0))","v":0},{"$f":"_xlfn.IFS(OR(AU17>0,AW17>0),COUNTRY_INFO!E17, AV17>0,J17*PROFILE!$G$8,AX17>0,COUNTRY_INFO!R17,COUNTIFS(AU17:AX17,\">0\")=0,0)","v":14597},{"$f":"_xlfn.IFS(OR(AU17>0,AW17>0),COUNTRY_INFO!F17, AV17>0,J17*PROFILE!$G$9,AX17>0,COUNTRY_INFO!S17,COUNTIFS(AU17:AX17,\">0\")=0,0)","v":39324},{"$f":"_xlfn.IFS(AU17>0,COUNTRY_INFO!G17, AND(AV17>0,AW17=0,AX17=0),J17*PROFILE!$G$10,AND(AV17>0,AW17>0,AX17=0), MAX(J17*PROFILE!$G$10,COUNTRY_INFO!P17),AND(AV17>0,AW17=0,AX17>0), MAX(J17*PROFILE!$G$10,COUNTRY_INFO!T17),AND(AV17=0,AW17>0,AX17>0), MAX(COUNTRY_INFO!P17,COUNTRY_INFO!T17),AND(AV17=0,AW17>0,AX17=0),COUNTRY_INFO!P17,AND(AV17=0,AW17=0,AX17>0),COUNTRY_INFO!T17,AND(AV17>0,AW17>0,AX17>0), MAX(J17*PROFILE!$G$10,COUNTRY_INFO!P17,COUNTRY_INFO!T17),COUNTIFS(AU17:AX17,\">0\")=0,0)","v":71057},124978,"Y",{"$f":"MAX('MDA2'!J17,'MDA5'!J17,S17,AH17)","v":0},{"$f":"MAX('MDA1'!K17,'MDA2'!K17,'MDA3'!I17,'MDA3'!L17,'MDA5'!K17,V17,AK17)","v":35884},{"$f":"MAX('MDA1'!L17,'MDA2'!L17,'MDA3'!J17,'MDA3'!M17,'MDA5'!L17,Y17,AN17)","v":0},35884,{"$f":"_xlfn.IFS(AND(AU17=0,AW17=0,AX17=0),0,AND(AU17=0,AW17=0,AX17>0),AI17,AND(AU17=0,AW17>0,AX17=0),T17,AND(AU17=0,AW17>0,AX17>0),MAX(T17,AI17),AND(AU17>0,AW17=0,AX17=0),MIN(MAX('MDA2'!J17,'MDA5'!J17),AZ17),AND(AU17>0,AW17=0,AX17>0),MIN(MAX('MDA2'!J17,'MDA5'!J17,AI17),AZ17),AND(AU17>0,AW17>0,AX17=0),MIN(MAX('MDA2'!J17,'MDA5'!J17,T17),AZ17),AND(AU17>0,AW17>0,AX17>0),MIN(MAX('MDA2'!J17,'MDA5'!J17,AI17,T17),AZ17))","v":0},{"$f":"_xlfn.IFS(AND(AU17=0,AV17=0,AW17=0,AX17=0),0,AND(AU17=0,AV17=0,AW17=0,AX17>0),AL17,AND(AU17=0,AV17=0,AW17>0,AX17=0),W17,AND(AU17=0,AV17=0,AW17>0,AX17>0),MAX(W17,AL17),AND(AU17=0,AV17>0,AW17=0,AX17=0),MIN(J17*PROFILE!$G$9,MAX('MDA3'!I17,'MDA3'!L17)),AND(AU17=0,AV17>0,AW17=0,AX17>0),MIN(J17*PROFILE!$G$9,MAX('MDA3'!I17,'MDA3'!L17,AL17)),AND(AU17=0,AV17>0,AW17>0,AX17=0),MIN(J17*PROFILE!$G$9,MAX('MDA3'!I17,'MDA3'!L17,W17)),AND(AU17=0,AV17>0,AW17>0,AX17>0),MIN(J17*PROFILE!$G$9,MAX('MDA3'!I17,'MDA3'!L17,W17,AL17)),AND(AU17>0,AV17=0,AW17=0,AX17=0), MIN(BA17,MAX('MDA1'!K17,'MDA2'!K17,'MDA5'!K17)),AND(AU17>0,AV17=0,AW17=0,AX17>0), MIN(BA17,MAX('MDA1'!K17,'MDA2'!K17,'MDA5'!K17,AL17)),AND(AU17>0,AV17=0,AW17>0,AX17=0),MIN(BA17,MAX('MDA1'!K17,'MDA2'!KL17,'MDA5'!K17,W17)),AND(AU17>0,AV17=0,AW17>0,AX17>0),MIN(BA17,MAX('MDA1'!K17,'MDA2'!K17,'MDA5'!K17,W17,AL17)),AND(AU17>0,AV17>0,AW17=0,AX17=0),MIN(BA17, MAX('MDA1'!K17,'MDA2'!K17, 'MDA5'!K17,MAX('MDA3'!I17,'MDA3'!L17))), AND(AU17>0,AV17>0,AW17=0,AX17>0),MIN(BA17, MAX('MDA1'!K17,'MDA2'!K17, 'MDA5'!K17,MAX('MDA3'!I17,'MDA3'!L17),AL17)), AND(AU17>0,AV17>0,AW17>0,AX17=0), MIN(BA17, MAX('MDA1'!K17,'MDA2'!K17, 'MDA5'!K17,MAX('MDA3'!I17,'MDA3'!L17),W17)), AND(AU17>0,AV17>0,AW17>0,AX17>0), MIN(BA17, MAX('MDA1'!K17,'MDA2'!K17, 'MDA5'!K17,MAX('MDA3'!I17,'MDA3'!L17),W17,AL17)))","v":35884},{"$f":"_xlfn.IFS(AND(AU17=0,AV17=0,AW17=0,AX17=0),0,AND(AU17=0,AV17=0,AW17=0,AX17>0),AO17,AND(AU17=0,AV17=0,AW17>0,AX17=0),Z17,AND(AU17=0,AV17=0,AW17>0,AX17>0),MAX(Z17,AO17),AND(AU17=0,AV17>0,AW17=0,AX17=0),MIN(J17*PROFILE!$G$10,MAX('MDA3'!J17,'MDA3'!J17)),AND(AU17=0,AV17>0,AW17=0,AX17>0),MIN(J17*PROFILE!$G$10,MAX('MDA3'!J17,'MDA3'!M17,AO17)),AND(AU17=0,AV17>0,AW17>0,AX17=0),MIN(J17*PROFILE!$G$10,MAX('MDA3'!J17,'MDA3'!M17,Z17)),AND(AU17=0,AV17>0,AW17>0,AX17>0),MIN(J17*PROFILE!$G$10,MAX('MDA3'!J17,'MDA3'!M17,Z17,AO17)),AND(AU17>0,AV17=0,AW17=0,AX17=0), MIN(BB17,MAX('MDA1'!L17,'MDA2'!L17,'MDA5'!L17)),AND(AU17>0,AV17=0,AW17=0,AX17>0), MIN(BB17,MAX('MDA1'!L17,'MDA2'!L17,'MDA5'!L17,AO17)),AND(AU17>0,AV17=0,AW17>0,AX17=0),MIN(BB17,MAX('MDA1'!L17,'MDA2'!L17,'MDA5'!L17,Z17)),AND(AU17>0,AV17=0,AW17>0,AX17>0),MIN(BB17,MAX('MDA1'!L17,'MDA2'!L17,'MDA5'!L17,Z17,AO17)),AND(AU17>0,AV17>0,AW17=0,AX17=0),MIN(BB17, MAX('MDA1'!L17,'MDA2'!L17, 'MDA5'!L17,MAX('MDA3'!J17,'MDA3'!M17))), AND(AU17>0,AV17>0,AW17=0,AX17>0),MIN(BB17, MAX('MDA1'!L17,'MDA2'!L17, 'MDA5'!L17,MAX('MDA3'!J17,'MDA3'!M17),AO17)), AND(AU17>0,AV17>0,AW17>0,AX17=0), MIN(BB17, MAX('MDA1'!L17,'MDA2'!L17, 'MDA5'!L17,MAX('MDA3'!J17,'MDA3'!M17),Z17)), AND(AU17>0,AV17>0,AW17>0,AX17>0), MIN(BB17, MAX('MDA1'!L17,'MDA2'!L17, 'MDA5'!L17,MAX('MDA3'!J17,'MDA3'!M17),Z17,AO17)))","v":0},35884,28.712253356590761]
[{"$f":"IF(COUNTRY_INFO!A18=0,\" \",COUNTRY_INFO!A18)","v":"Mali"},{"$f":"IF(COUNTRY_INFO!B18=0,\" \",COUNTRY_INFO!B18)","v":"Gao"},{"$f":"IF(COUNTRY_INFO!C18=0,\" \",COUNTRY_INFO!C18)","v":"Almoustrat"},{"$f":"COUNTRY_INFO!L18","v":0},null,null,{"$f":"MAX('MDA1'!M18,'MDA2'!M18,'MDA5'!M18)","v":0},{"$f":"IF(AND(COUNTRY_INFO!H18>0,COUNTRY_INFO!H18<4),IF(D18>G18,G18,D18),0)","v":0},{"$f":"IF(AND(COUNTRY_INFO!H18>0,COUNTRY_INFO!H18<4), IF(G18/D18*100<>0, IF(G18/D18*100>100,100,G18/D18*100), \"-\"),0)","v":0},{"$f":"COUNTRY_INFO!M18","v":0},null,null,{"$f":"MAX('MDA1'!M18,MAX('MDA3'!I18,'MDA3'!L18)+MAX('MDA3'!J18,'MDA3'!M18))","v":0},{"$f":"IF(AND(COUNTRY_INFO!I18>0,COUNTRY_INFO!I18<4),IF(J18>M18,M18,J18),0)","v":0},{"$f":"IF(AND(COUNTRY_INFO!I18>0,COUNTRY_INFO!I18<4), IF(M18/J18*100<>0, IF(M18/J18*100>100,100,M18/J18*100), \"-\"),0)","v":0},{"$f":"COUNTRY_INFO!Q18","v":"Non requis"},null,null,{"$f":"MAX('MDA2'!J18,'MDA5'!J18,'T1'!K18, MAX(T3_R1!J18,T3_R2!J18,T3_R3!J18))","v":0},{"$f":"IF(AND(COUNTRY_INFO!J18>1,COUNTRY_INFO!J18<99,COUNTRY_INFO!J18<>4,COUNTRY_INFO!J18<>5),IF(COUNTRY_INFO!N18>S18,S18,COUNTRY_INFO!N18),0)","v":0},{"$f":"IF(AND(COUNTRY_INFO!J18>1,COUNTRY_INFO!J18<99,COUNTRY_INFO!J18<>4,COUNTRY_INFO!J18<>5), IF(T18/COUNTRY_INFO!N18*100<>0, IF(T18/COUNTRY_INFO!N18*100>100,100,T18/COUNTRY_INFO!N18*100), \"-\"),0)","v":0},{"$f":"MAX('MDA1'!K18, 'MDA2'!K18, 'MDA5'!K18,'T1'!L18, MAX(T3_R1!K18,T3_R2!K18,T3_R3!K18))","v":0},{"$f":"IF(AND(COUNTRY_INFO!J18>1,COUNTRY_INFO!J18<99,COUNTRY_INFO!J18<>4,COUNTRY_INFO!J18<>5),IF(COUNTRY_INFO!O18>V18,V18,COUNTRY_INFO!O18),0)","v":0},{"$f":"IF(AND(COUNTRY_INFO!J18>1,COUNTRY_INFO!J18<99,COUNTRY_INFO!J18<>4,COUNTRY_INFO!J18<>5), IF(W18/COUNTRY_INFO!O18*100<>0, IF(W18/COUNTRY_INFO!O18*100>100,100,W18/COUNTRY_INFO!O18*100), \"-\"),0)","v":0},{"$f":"MAX('MDA1'!L18, 'MDA2'!L18, 'MDA5'!L18,'T1'!M18, MAX(T3_R1!L18,T3_R2!L18,T3_R3!L18))","v":0},{"$f":"IF(AND(COUNTRY_INFO!J18>1,COUNTRY_INFO!J18<99,COUNTRY_INFO!J18<>4,COUNTRY_INFO!J18<>5),IF(COUNTRY_INFO!P18>Y18,Y18,COUNTRY_INFO!P18),0)","v":0},{"$f":"IF(AND(COUNTRY_INFO!J18>1,COUNTRY_INFO!J18<99,COUNTRY_INFO!J18<>4,COUNTRY_INFO!J18<>5), IF(Z18/COUNTRY_INFO!P18*100<>0, IF(Z18/COUNTRY_INFO!P18*100>100,100,Z18/COUNTRY_INFO!P18*100), \"-\"),0)","v":0},0,0,{"$f":"IF(AND(COUNTRY_INFO!J18>1,COUNTRY_INFO!J18<99,COUNTRY_INFO!J18<>4,COUNTRY_INFO!J18<>5), IF(AC18/P18*100<>0, IF(AC18/P18*100>100,100,AC18/P18*100), \"-\"),0)","v":0},{"$f":"COUNTRY_INFO!U18","v":0},null,null,{"$f":"MAX('T1'!K18,'T2'!R18)","v":0},{"$f":"IF(AND(COUNTRY_INFO!K18>1,COUNTRY_INFO!K18<99,COUNTRY_INFO!K18<>4,COUNTRY_INFO!K18<>5),IF(COUNTRY_INFO!R18>AH18,AH18,COUNTRY_INFO!R18),0)","v":0},{"$f":"IF(AND(COUNTRY_INFO!K18>1,COUNTRY_INFO!K18<99,COUNTRY_INFO!K18<>4,COUNTRY_INFO!K18<>5), IF(AI18/COUNTRY_INFO!R18*100<>0, IF(AI18/COUNTRY_INFO!R18*100>100,100,AI18/COUNTRY_INFO!R18*100), \"-\"),0)","v":0},{"$f":"MAX('T1'!L18,'T2'!S18)","v":2627},{"$f":"IF(AND(COUNTRY_INFO!K18>1,COUNTRY_INFO!K18<99,COUNTRY_INFO!K18<>4,COUNTRY_INFO!K18<>5),IF(COUNTRY_INFO!S18>AK18,AK18,COUNTRY_INFO!S18),0)","v":0},{"$f":"IF(AND(COUNTRY_INFO!K18>1,COUNTRY_INFO!K18<99,COUNTRY_INFO!K18<>4,COUNTRY_INFO!K18<>5), IF(AL18/COUNTRY_INFO!S18*100<>0, IF(AL18/COUNTRY_INFO!S18*100>100,100,AL18/COUNTRY_INFO!S18*100), \"-\"),0)","v":0},{"$f":"MAX('T1'!M18,'T2'!T18)","v":0},{"$f":"IF(AND(COUNTRY_INFO!K18>1,COUNTRY_INFO!K18<99,COUNTRY_INFO!K18<>4,COUNTRY_INFO!K18<>5),IF(COUNTRY_INFO!T18>AN18,AN18,COUNTRY_INFO!T18),0)","v":0},{"$f":"IF(AND(COUNTRY_INFO!K18>1,COUNTRY_INFO!K18<99,COUNTRY_INFO!K18<>4,COUNTRY_INFO!K18<>5), IF(AO18/COUNTRY_INFO!T18*100<>0, IF(AO18/COUNTRY_INFO!T18*100>100,100,AO18/COUNTRY_INFO!T18*100), \"-\"),0)","v":0},2627,0,{"$f":"IF(AND(COUNTRY_INFO!K18>1,COUNTRY_INFO!K18<99,COUNTRY_INFO!K18<>4,COUNTRY_INFO!K18<>5), IF(AR18/AE18*100<>0, IF(AR18/AE18*100>100,100,AR18/AE18*100), \"-\"),0)","v":0},null,{"$f":"IF(AND(D18<>0, D18<>\"Inconnu\",D18<>\"Interrompu\",D18<>\"Non requis\"),D18/COUNTRY_INFO!D18, 0)","v":0},{"$f":"IF(AND(J18<>0,J18<>\"Inconnu\",J18<>\"Interrompu\",J18<>\"Non requis\"),J18/COUNTRY_INFO!D18, 0)","v":0},{"$f":"IF(AND(P18<>0,P18<>\"Inconnu\",P18<>\"Surveillance\",P18<>\"Non requis\"),P18/COUNTRY_INFO!Q18, 0)","v":0},{"$f":"IF(AND(AE18<>0,AE18<>\"Inconnu\",AE18<>\"Surveillance\",AE18<>\"Non requis\"),AE18/COUNTRY_INFO!U18, 0)","v":0},{"$f":"IF(AU18>0,D18*PROFILE!$G$7,IF(AV18>0,J18*PROFILE!$G$7,0))","v":0},{"$f":"_xlfn.IFS(OR(AU18>0,AW18>0),COUNTRY_INFO!E18, AV18>0,J18*PROFILE!$G$8,AX18>0,COUNTRY_INFO!R18,COUNTIFS(AU18:AX18,\">0\")=0,0)","v":0},{"$f":"_xlfn.IFS(OR(AU18>0,AW18>0),COUNTRY_INFO!F18, AV18>0,J18*PROFILE!$G$9,AX18>0,COUNTRY_INFO!S18,COUNTIFS(AU18:AX18,\">0\")=0,0)","v":0},{"$f":"_xlfn.IFS(AU18>0,COUNTRY_INFO!G18, AND(AV18>0,AW18=0,AX18=0),J18*PROFILE!$G$10,AND(AV18>0,AW18>0,AX18=0), MAX(J18*PROFILE!$G$10,COUNTRY_INFO!P18),AND(AV18>0,AW18=0,AX18>0), MAX(J18*PROFILE!$G$10,COUNTRY_INFO!T18),AND(AV18=0,AW18>0,AX18>0), MAX(COUNTRY_INFO!P18,COUNTRY_INFO!T18),AND(AV18=0,AW18>0,AX18=0),COUNTRY_INFO!P18,AND(AV18=0,AW18=0,AX18>0),COUNTRY_INFO!T18,AND(AV18>0,AW18>0,AX18>0), MAX(J18*PROFILE!$G$10,COUNTRY_INFO!P18,COUNTRY_INFO!T18),COUNTIFS(AU18:AX18,\">0\")=0,0)","v":0},0,0,{"$f":"MAX('MDA2'!J18,'MDA5'!J18,S18,AH18)","v":0},{"$f":"MAX('MDA1'!K18,'MDA2'!K18,'MDA3'!I18,'MDA3'!L18,'MDA5'!K18,V18,AK18)","v":2627},{"$f":"MAX('MDA1'!L18,'MDA2'!L18,'MDA3'!J18,'MDA3'!M18,'MDA5'!L18,Y18,AN18)","v":0},2627,{"$f":"_xlfn.IFS(AND(AU18=0,AW18=0,AX18=0),0,AND(AU18=0,AW18=0,AX18>0),AI18,AND(AU18=0,AW18>0,AX18=0),T18,AND(AU18=0,AW18>0,AX18>0),MAX(T18,AI18),AND(AU18>0,AW18=0,AX18=0),MIN(MAX('MDA2'!J18,'MDA5'!J18),AZ18),AND(AU18>0,AW18=0,AX18>0),MIN(MAX('MDA2'!J18,'MDA5'!J18,AI18),AZ18),AND(AU18>0,AW18>0,AX18=0),MIN(MAX('MDA2'!J18,'MDA5'!J18,T18),AZ18),AND(AU18>0,AW18>0,AX18>0),MIN(MAX('MDA2'!J18,'MDA5'!J18,AI18,T18),AZ18))","v":0},{"$f":"_xlfn.IFS(AND(AU18=0,AV18=0,AW18=0,AX18=0),0,AND(AU18=0,AV18=0,AW18=0,AX18>0),AL18,AND(AU18=0,AV18=0,AW18>0,AX18=0),W18,AND(AU18=0,AV18=0,AW18>0,AX18>0),MAX(W18,AL18),AND(AU18=0,AV18>0,AW18=0,AX18=0),MIN(J18*PROFILE!$G$9,MAX('MDA3'!I18,'MDA3'!L18)),AND(AU18=0,AV18>0,AW18=0,AX18>0),MIN(J18*PROFILE!$G$9,MAX('MDA3'!I18,'MDA3'!L18,AL18)),AND(AU18=0,AV18>0,AW18>0,AX18=0),MIN(J18*PROFILE!$G$9,MAX('MDA3'!I18,'MDA3'!L18,W18)),AND(AU18=0,AV18>0,AW18>0,AX18>0),MIN(J18*PROFILE!$G$9,MAX('MDA3'!I18,'MDA3'!L18,W18,AL18)),AND(AU18>0,AV18=0,AW18=0,AX18=0), MIN(BA18,MAX('MDA1'!K18,'MDA2'!K18,'MDA5'!K18)),AND(AU18>0,AV18=0,AW18=0,AX18>0), MIN(BA18,MAX('MDA1'!K18,'MDA2'!K18,'MDA5'!K18,AL18)),AND(AU18>0,AV18=0,AW18>0,AX18=0),MIN(BA18,MAX('MDA1'!K18,'MDA2'!KL18,'MDA5'!K18,W18)),AND(AU18>0,AV18=0,AW18>0,AX18>0),MIN(BA18,MAX('MDA1'!K18,'MDA2'!K18,'MDA5'!K18,W18,AL18)),AND(AU18>0,AV18>0,AW18=0,AX18=0),MIN(BA18, MAX('MDA1'!K18,'MDA2'!K18, 'MDA5'!K18,MAX('MDA3'!I18,'MDA3'!L18))), AND(AU18>0,AV18>0,AW18=0,AX18>0),MIN(BA18, MAX('MDA1'!K18,'MDA2'!K18, 'MDA5'!K18,MAX('MDA3'!I18,'MDA3'!L18),AL18)), AND(AU18>0,AV18>0,AW18>0,AX18=0), MIN(BA18, MAX('MDA1'!K18,'MDA2'!K18, 'MDA5'!K18,MAX('MDA3'!I18,'MDA3'!L18),W18)), AND(AU18>0,AV18>0,AW18>0,AX18>0), MIN(BA18, MAX('MDA1'!K18,'MDA2'!K18, 'MDA5'!K18,MAX('MDA3'!I18,'MDA3'!L18),W18,AL18)))","v":0},{"$f":"_xlfn.IFS(AND(AU18=0,AV18=0,AW18=0,AX18=0),0,AND(AU18=0,AV18=0,AW18=0,AX18>0),AO18,AND(AU18=0,AV18=0,AW18>0,AX18=0),Z18,AND(AU18=0,AV18=0,AW18>0,AX18>0),MAX(Z18,AO18),AND(AU18=0,AV18>0,AW18=0,AX18=0),MIN(J18*PROFILE!$G$10,MAX('MDA3'!J18,'MDA3'!J18)),AND(AU18=0,AV18>0,AW18=0,AX18>0),MIN(J18*PROFILE!$G$10,MAX('MDA3'!J18,'MDA3'!M18,AO18)),AND(AU18=0,AV18>0,AW18>0,AX18=0),MIN(J18*PROFILE!$G$10,MAX('MDA3'!J18,'MDA3'!M18,Z18)),AND(AU18=0,AV18>0,AW18>0,AX18>0),MIN(J18*PROFILE!$G$10,MAX('MDA3'!J18,'MDA3'!M18,Z18,AO18)),AND(AU18>0,AV18=0,AW18=0,AX18=0), MIN(BB18,MAX('MDA1'!L18,'MDA2'!L18,'MDA5'!L18)),AND(AU18>0,AV18=0,AW18=0,AX18>0), MIN(BB18,MAX('MDA1'!L18,'MDA2'!L18,'MDA5'!L18,AO18)),AND(AU18>0,AV18=0,AW18>0,AX18=0),MIN(BB18,MAX('MDA1'!L18,'MDA2'!L18,'MDA5'!L18,Z18)),AND(AU18>0,AV18=0,AW18>0,AX18>0),MIN(BB18,MAX('MDA1'!L18,'MDA2'!L18,'MDA5'!L18,Z18,AO18)),AND(AU18>0,AV18>0,AW18=0,AX18=0),MIN(BB18, MAX('MDA1'!L18,'MDA2'!L18, 'MDA5'!L18,MAX('MDA3'!J18,'MDA3'!M18))), AND(AU18>0,AV18>0,AW18=0,AX18>0),MIN(BB18, MAX('MDA1'!L18,'MDA2'!L18, 'MDA5'!L18,MAX('MDA3'!J18,'MDA3'!M18),AO18)), AND(AU18>0,AV18>0,AW18>0,AX18=0), MIN(BB18, MAX('MDA1'!L18,'MDA2'!L18, 'MDA5'!L18,MAX('MDA3'!J18,'MDA3'!M18),Z18)), AND(AU18>0,AV18>0,AW18>0,AX18>0), MIN(BB18, MAX('MDA1'!L18,'MDA2'!L18, 'MDA5'!L18,MAX('MDA3'!J18,'MDA3'!M18),Z18,AO18)))","v":0},0,0]
[{"$f":"IF(COUNTRY_INFO!A19=0,\" \",COUNTRY_INFO!A19)","v":"Mali"},{"$f":"IF(COUNTRY_INFO!B19=0,\" \",COUNTRY_INFO!B19)","v":"Gao"},{"$f":"IF(COUNTRY_INFO!C19=0,\" \",COUNTRY_INFO!C19)","v":"Gao"},{"$f":"COUNTRY_INFO!L19","v":0},null,null,{"$f":"MAX('MDA1'!M19,'MDA2'!M19,'MDA5'!M19)","v":0},{"$f":"IF(AND(COUNTRY_INFO!H19>0,COUNTRY_INFO!H19<4),IF(D19>G19,G19,D19),0)","v":0},{"$f":"IF(AND(COUNTRY_INFO!H19>0,COUNTRY_INFO!H19<4), IF(G19/D19*100<>0, IF(G19/D19*100>100,100,G19/D19*100), \"-\"),0)","v":0},{"$f":"COUNTRY_INFO!M19","v":0},null,null,{"$f":"MAX('MDA1'!M19,MAX('MDA3'!I19,'MDA3'!L19)+MAX('MDA3'!J19,'MDA3'!M19))","v":0},{"$f":"IF(AND(COUNTRY_INFO!I19>0,COUNTRY_INFO!I19<4),IF(J19>M19,M19,J19),0)","v":0},{"$f":"IF(AND(COUNTRY_INFO!I19>0,COUNTRY_INFO!I19<4), IF(M19/J19*100<>0, IF(M19/J19*100>100,100,M19/J19*100), \"-\"),0)","v":0},{"$f":"COUNTRY_INFO!Q19","v":"Non requis"},null,null,{"$f":"MAX('MDA2'!J19,'MDA5'!J19,'T1'!K19, MAX(T3_R1!J19,T3_R2!J19,T3_R3!J19))","v":0},{"$f":"IF(AND(COUNTRY_INFO!J19>1,COUNTRY_INFO!J19<99,COUNTRY_INFO!J19<>4,COUNTRY_INFO!J19<>5),IF(COUNTRY_INFO!N19>S19,S19,COUNTRY_INFO!N19),0)","v":0},{"$f":"IF(AND(COUNTRY_INFO!J19>1,COUNTRY_INFO!J19<99,COUNTRY_INFO!J19<>4,COUNTRY_INFO!J19<>5), IF(T19/COUNTRY_INFO!N19*100<>0, IF(T19/COUNTRY_INFO!N19*100>100,100,T19/COUNTRY_INFO!N19*100), \"-\"),0)","v":0},{"$f":"MAX('MDA1'!K19, 'MDA2'!K19, 'MDA5'!K19,'T1'!L19, MAX(T3_R1!K19,T3_R2!K19,T3_R3!K19))","v":0},{"$f":"IF(AND(COUNTRY_INFO!J19>1,COUNTRY_INFO!J19<99,COUNTRY_INFO!J19<>4,COUNTRY_INFO!J19<>5),IF(COUNTRY_INFO!O19>V19,V19,COUNTRY_INFO!O19),0)","v":0},{"$f":"IF(AND(COUNTRY_INFO!J19>1,COUNTRY_INFO!J19<99,COUNTRY_INFO!J19<>4,COUNTRY_INFO!J19<>5), IF(W19/COUNTRY_INFO!O19*100<>0, IF(W19/COUNTRY_INFO!O19*100>100,100,W19/COUNTRY_INFO!O19*100), \"-\"),0)","v":0},{"$f":"MAX('MDA1'!L19, 'MDA2'!L19, 'MDA5'!L19,'T1'!M19, MAX(T3_R1!L19,T3_R2!L19,T3_R3!L19))","v":0},{"$f":"IF(AND(COUNTRY_INFO!J19>1,COUNTRY_INFO!J19<99,COUNTRY_INFO!J19<>4,COUNTRY_INFO!J19<>5),IF(COUNTRY_INFO!P19>Y19,Y19,COUNTRY_INFO!P19),0)","v":0},{"$f":"IF(AND(COUNTRY_INFO!J19>1,COUNTRY_INFO!J19<99,COUNTRY_INFO!J19<>4,COUNTRY_INFO!J19<>5), IF(Z19/COUNTRY_INFO!P19*100<>0, IF(Z19/COUNTRY_INFO!P19*100>100,100,Z19/COUNTRY_INFO!P19*100), \"-\"),0)","v":0},0,0,{"$f":"IF(AND(COUNTRY_INFO!J19>1,COUNTRY_INFO!J19<99,COUNTRY_INFO!J19<>4,COUNTRY_INFO!J19<>5), IF(AC19/P19*100<>0, IF(AC19/P19*100>100,100,AC19/P19*100), \"-\"),0)","v":0},{"$f":"COUNTRY_INFO!U19","v":299042},null,null,{"$f":"MAX('T1'!K19,'T2'!R19)","v":0},{"$f":"IF(AND(COUNTRY_INFO!K19>1,COUNTRY_INFO!K19<99,COUNTRY_INFO!K19<>4,COUNTRY_INFO!K19<>5),IF(COUNTRY_INFO!R19>AH19,AH19,COUNTRY_INFO!R19),0)","v":0},{"$f":"IF(AND(COUNTRY_INFO!K19>1,COUNTRY_INFO!K19<99,COUNTRY_INFO!K19<>4,COUNTRY_INFO!K19<>5), IF(AI19/COUNTRY_INFO!R19*100<>0, IF(AI19/COUNTRY_INFO!R19*100>100,100,AI19/COUNTRY_INFO!R19*100), \"-\"),0)","v":"-"},{"$f":"MAX('T1'!L19,'T2'!S19)","v":83403},{"$f":"IF(AND(COUNTRY_INFO!K19>1,COUNTRY_INFO!K19<99,COUNTRY_INFO!K19<>4,COUNTRY_INFO!K19<>5),IF(COUNTRY_INFO!S19>AK19,AK19,COUNTRY_INFO!S19),0)","v":83403},{"$f":"IF(AND(COUNTRY_INFO!K19>1,COUNTRY_INFO!K19<99,COUNTRY_INFO!K19<>4,COUNTRY_INFO!K19<>5), IF(AL19/COUNTRY_INFO!S19*100<>0, IF(AL19/COUNTRY_INFO!S19*100>100,100,AL19/COUNTRY_INFO!S19*100), \"-\"),0)","v":88.6407839219479},{"$f":"MAX('T1'!M19,'T2'!T19)","v":0},{"$f":"IF(AND(COUNTRY_INFO!K19>1,COUNTRY_INFO!K19<99,COUNTRY_INFO!K19<>4,COUNTRY_INFO!K19<>5),IF(COUNTRY_INFO!T19>AN19,AN19,COUNTRY_INFO!T19),0)","v":0},{"$f":"IF(AND(COUNTRY_INFO!K19>1,COUNTRY_INFO!K19<99,COUNTRY_INFO!K19<>4,COUNTRY_INFO!K19<>5), IF(AO19/COUNTRY_INFO!T19*100<>0, IF(AO19/COUNTRY_INFO!T19*100>100,100,AO19/COUNTRY_INFO!T19*100), \"-\"),0)","v":"-"},83403,83403,{"$f":"IF(AND(COUNTRY_INFO!K19>1,COUNTRY_INFO!K19<99,COUNTRY_INFO!K19<>4,COUNTRY_INFO!K19<>5), IF(AR19/AE19*100<>0, IF(AR19/AE19*100>100,100,AR19/AE19*100), \"-\"),0)","v":27.890062265501165},null,{"$f":"IF(AND(D19<>0, D19<>\"Inconnu\",D19<>\"Interrompu\",D19<>\"Non requis\"),D19/COUNTRY_INFO!D19, 0)","v":0},{"$f":"IF(AND(J19<>0,J19<>\"Inconnu\",J19<>\"Interrompu\",J19<>\"Non requis\"),J19/COUNTRY_INFO!D19, 0)","v":0},{"$f":"IF(AND(P19<>0,P19<>\"Inconnu\",P19<>\"Surveillance\",P19<>\"Non requis\"),P19/COUNTRY_INFO!Q19, 0)","v":0},{"$f":"IF(AND(AE19<>0,AE19<>\"Inconnu\",AE19<>\"Surveillance\",AE19<>\"Non requis\"),AE19/COUNTRY_INFO!U19, 0)","v":1},{"$f":"IF(AU19>0,D19*PROFILE!$G$7,IF(AV19>0,J19*PROFILE!$G$7,0))","v":0},{"$f":"_xlfn.IFS(OR(AU19>0,AW19>0),COUNTRY_INFO!E19, AV19>0,J19*PROFILE!$G$8,AX19>0,COUNTRY_INFO!R19,COUNTIFS(AU19:AX19,\">0\")=0,0)","v":34928},{"$f":"_xlfn.IFS(OR(AU19>0,AW19>0),COUNTRY_INFO!F19, AV19>0,J19*PROFILE!$G$9,AX19>0,COUNTRY_INFO!S19,COUNTIFS(AU19:AX19,\">0\")=0,0)","v":94091},{"$f":"_xlfn.IFS(AU19>0,COUNTRY_INFO!G19, AND(AV19>0,AW19=0,AX19=0),J19*PROFILE!$G$10,AND(AV19>0,AW19>0,AX19=0), MAX(J19*PROFILE!$G$10,COUNTRY_INFO!P19),AND(AV19>0,AW19=0,AX19>0), MAX(J19*PROFILE!$G$10,COUNTRY_INFO!T19),AND(AV19=0,AW19>0,AX19>0), MAX(COUNTRY_INFO!P19,COUNTRY_INFO!T19),AND(AV19=0,AW19>0,AX19=0),COUNTRY_INFO!P19,AND(AV19=0,AW19=0,AX19>0),COUNTRY_INFO!T19,AND(AV19>0,AW19>0,AX19>0), MAX(J19*PROFILE!$G$10,COUNTRY_INFO!P19,COUNTRY_INFO!T19),COUNTIFS(AU19:AX19,\">0\")=0,0)","v":170023},299042,"Y",{"$f":"MAX('MDA2'!J19,'MDA5'!J19,S19,AH19)","v":0},{"$f":"MAX('MDA1'!K19,'MDA2'!K19,'MDA3'!I19,'MDA3'!L19,'MDA5'!K19,V19,AK19)","v":83403},{"$f":"MAX('MDA1'!L19,'MDA2'!L19,'MDA3'!J19,'MDA3'!M19,'MDA5'!L19,Y19,AN19)","v":0},83403,{"$f":"_xlfn.IFS(AND(AU19=0,AW19=0,AX19=0),0,AND(AU19=0,AW19=0,AX19>0),AI19,AND(AU19=0,AW19>0,AX19=0),T19,AND(AU19=0,AW19>0,AX19>0),MAX(T19,AI19),AND(AU19>0,AW19=0,AX19=0),MIN(MAX('MDA2'!J19,'MDA5'!J19),AZ19),AND(AU19>0,AW19=0,AX19>0),MIN(MAX('MDA2'!J19,'MDA5'!J19,AI19),AZ19),AND(AU19>0,AW19>0,AX19=0),MIN(MAX('MDA2'!J19,'MDA5'!J19,T19),AZ19),AND(AU19>0,AW19>0,AX19>0),MIN(MAX('MDA2'!J19,'MDA5'!J19,AI19,T19),AZ19))","v":0},{"$f":"_xlfn.IFS(AND(AU19=0,AV19=0,AW19=0,AX19=0),0,AND(AU19=0,AV19=0,AW19=0,AX19>0),AL19,AND(AU19=0,AV19=0,AW19>0,AX19=0),W19,AND(AU19=0,AV19=0,AW19>0,AX19>0),MAX(W19,AL19),AND(AU19=0,AV19>0,AW19=0,AX19=0),MIN(J19*PROFILE!$G$9,MAX('MDA3'!I19,'MDA3'!L19)),AND(AU19=0,AV19>0,AW19=0,AX19>0),MIN(J19*PROFILE!$G$9,MAX('MDA3'!I19,'MDA3'!L19,AL19)),AND(AU19=0,AV19>0,AW19>0,AX19=0),MIN(J19*PROFILE!$G$9,MAX('MDA3'!I19,'MDA3'!L19,W19)),AND(AU19=0,AV19>0,AW19>0,AX19>0),MIN(J19*PROFILE!$G$9,MAX('MDA3'!I19,'MDA3'!L19,W19,AL19)),AND(AU19>0,AV19=0,AW19=0,AX19=0), MIN(BA19,MAX('MDA1'!K19,'MDA2'!K19,'MDA5'!K19)),AND(AU19>0,AV19=0,AW19=0,AX19>0), MIN(BA19,MAX('MDA1'!K19,'MDA2'!K19,'MDA5'!K19,AL19)),AND(AU19>0,AV19=0,AW19>0,AX19=0),MIN(BA19,MAX('MDA1'!K19,'MDA2'!KL19,'MDA5'!K19,W19)),AND(AU19>0,AV19=0,AW19>0,AX19>0),MIN(BA19,MAX('MDA1'!K19,'MDA2'!K19,'MDA5'!K19,W19,AL19)),AND(AU19>0,AV19>0,AW19=0,AX19=0),MIN(BA19, MAX('MDA1'!K19,'MDA2'!K19, 'MDA5'!K19,MAX('MDA3'!I19,'MDA3'!L19))), AND(AU19>0,AV19>0,AW19=0,AX19>0),MIN(BA19, MAX('MDA1'!K19,'MDA2'!K19, 'MDA5'!K19,MAX('MDA3'!I19,'MDA3'!L19),AL19)), AND(AU19>0,AV19>0,AW19>0,AX19=0), MIN(BA19, MAX('MDA1'!K19,'MDA2'!K19, 'MDA5'!K19,MAX('MDA3'!I19,'MDA3'!L19),W19)), AND(AU19>0,AV19>0,AW19>0,AX19>0), MIN(BA19, MAX('MDA1'!K19,'MDA2'!K19, 'MDA5'!K19,MAX('MDA3'!I19,'MDA3'!L19),W19,AL19)))","v":83403},{"$f":"_xlfn.IFS(AND(AU19=0,AV19=0,AW19=0,AX19=0),0,AND(AU19=0,AV19=0,AW19=0,AX19>0),AO19,AND(AU19=0,AV19=0,AW19>0,AX19=0),Z19,AND(AU19=0,AV19=0,AW19>0,AX19>0),MAX(Z19,AO19),AND(AU19=0,AV19>0,AW19=0,AX19=0),MIN(J19*PROFILE!$G$10,MAX('MDA3'!J19,'MDA3'!J19)),AND(AU19=0,AV19>0,AW19=0,AX19>0),MIN(J19*PROFILE!$G$10,MAX('MDA3'!J19,'MDA3'!M19,AO19)),AND(AU19=0,AV19>0,AW19>0,AX19=0),MIN(J19*PROFILE!$G$10,MAX('MDA3'!J19,'MDA3'!M19,Z19)),AND(AU19=0,AV19>0,AW19>0,AX19>0),MIN(J19*PROFILE!$G$10,MAX('MDA3'!J19,'MDA3'!M19,Z19,AO19)),AND(AU19>0,AV19=0,AW19=0,AX19=0), MIN(BB19,MAX('MDA1'!L19,'MDA2'!L19,'MDA5'!L19)),AND(AU19>0,AV19=0,AW19=0,AX19>0), MIN(BB19,MAX('MDA1'!L19,'MDA2'!L19,'MDA5'!L19,AO19)),AND(AU19>0,AV19=0,AW19>0,AX19=0),MIN(BB19,MAX('MDA1'!L19,'MDA2'!L19,'MDA5'!L19,Z19)),AND(AU19>0,AV19=0,AW19>0,AX19>0),MIN(BB19,MAX('MDA1'!L19,'MDA2'!L19,'MDA5'!L19,Z19,AO19)),AND(AU19>0,AV19>0,AW19=0,AX19=0),MIN(BB19, MAX('MDA1'!L19,'MDA2'!L19, 'MDA5'!L19,MAX('MDA3'!J19,'MDA3'!M19))), AND(AU19>0,AV19>0,AW19=0,AX19>0),MIN(BB19, MAX('MDA1'!L19,'MDA2'!L19, 'MDA5'!L19,MAX('MDA3'!J19,'MDA3'!M19),AO19)), AND(AU19>0,AV19>0,AW19>0,AX19=0), MIN(BB19, MAX('MDA1'!L19,'MDA2'!L19, 'MDA5'!L19,MAX('MDA3'!J19,'MDA3'!M19),Z19)), AND(AU19>0,AV19>0,AW19>0,AX19>0), MIN(BB19, MAX('MDA1'!L19,'MDA2'!L19, 'MDA5'!L19,MAX('MDA3'!J19,'MDA3'!M19),Z19,AO19)))","v":0},83403,27.890062265501165]
[{"$f":"IF(COUNTRY_INFO!A20=0,\" \",COUNTRY_INFO!A20)","v":"Mali"},{"$f":"IF(COUNTRY_INFO!B20=0,\" \",COUNTRY_INFO!B20)","v":"Menaka"},{"$f":"IF(COUNTRY_INFO!C20=0,\" \",COUNTRY_INFO!C20)","v":"Menaka"},{"$f":"COUNTRY_INFO!L20","v":0},null,null,{"$f":"MAX('MDA1'!M20,'MDA2'!M20,'MDA5'!M20)","v":0},{"$f":"IF(AND(COUNTRY_INFO!H20>0,COUNTRY_INFO!H20<4),IF(D20>G20,G20,D20),0)","v":0},{"$f":"IF(AND(COUNTRY_INFO!H20>0,COUNTRY_INFO!H20<4), IF(G20/D20*100<>0, IF(G20/D20*100>100,100,G20/D20*100), \"-\"),0)","v":0},{"$f":"COUNTRY_INFO!M20","v":0},null,null,{"$f":"MAX('MDA1'!M20,MAX('MDA3'!I20,'MDA3'!L20)+MAX('MDA3'!J20,'MDA3'!M20))","v":0},{"$f":"IF(AND(COUNTRY_INFO!I20>0,COUNTRY_INFO!I20<4),IF(J20>M20,M20,J20),0)","v":0},{"$f":"IF(AND(COUNTRY_INFO!I20>0,COUNTRY_INFO!I20<4), IF(M20/J20*100<>0, IF(M20/J20*100>100,100,M20/J20*100), \"-\"),0)","v":0},{"$f":"COUNTRY_INFO!Q20","v":"Non requis"},null,null,{"$f":"MAX('MDA2'!J20,'MDA5'!J20,'T1'!K20, MAX(T3_R1!J20,T3_R2!J20,T3_R3!J20))","v":0},{"$f":"IF(AND(COUNTRY_INFO!J20>1,COUNTRY_INFO!J20<99,COUNTRY_INFO!J20<>4,COUNTRY_INFO!J20<>5),IF(COUNTRY_INFO!N20>S20,S20,COUNTRY_INFO!N20),0)","v":0},{"$f":"IF(AND(COUNTRY_INFO!J20>1,COUNTRY_INFO!J20<99,COUNTRY_INFO!J20<>4,COUNTRY_INFO!J20<>5), IF(T20/COUNTRY_INFO!N20*100<>0, IF(T20/COUNTRY_INFO!N20*100>100,100,T20/COUNTRY_INFO!N20*100), \"-\"),0)","v":0},{"$f":"MAX('MDA1'!K20, 'MDA2'!K20, 'MDA5'!K20,'T1'!L20, MAX(T3_R1!K20,T3_R2!K20,T3_R3!K20))","v":0},{"$f":"IF(AND(COUNTRY_INFO!J20>1,COUNTRY_INFO!J20<99,COUNTRY_INFO!J20<>4,COUNTRY_INFO!J20<>5),IF(COUNTRY_INFO!O20>V20,V20,COUNTRY_INFO!O20),0)","v":0},{"$f":"IF(AND(COUNTRY_INFO!J20>1,COUNTRY_INFO!J20<99,COUNTRY_INFO!J20<>4,COUNTRY_INFO!J20<>5), IF(W20/COUNTRY_INFO!O20*100<>0, IF(W20/COUNTRY_INFO!O20*100>100,100,W20/COUNTRY_INFO!O20*100), \"-\"),0)","v":0},{"$f":"MAX('MDA1'!L20, 'MDA2'!L20, 'MDA5'!L20,'T1'!M20, MAX(T3_R1!L20,T3_R2!L20,T3_R3!L20))","v":0},{"$f":"IF(AND(COUNTRY_INFO!J20>1,COUNTRY_INFO!J20<99,COUNTRY_INFO!J20<>4,COUNTRY_INFO!J20<>5),IF(COUNTRY_INFO!P20>Y20,Y20,COUNTRY_INFO!P20),0)","v":0},{"$f":"IF(AND(COUNTRY_INFO!J20>1,COUNTRY_INFO!J20<99,COUNTRY_INFO!J20<>4,COUNTRY_INFO!J20<>5), IF(Z20/COUNTRY_INFO!P20*100<>0, IF(Z20/COUNTRY_INFO!P20*100>100,100,Z20/COUNTRY_INFO!P20*100), \"-\"),0)","v":0},0,0,{"$f":"IF(AND(COUNTRY_INFO!J20>1,COUNTRY_INFO!J20<99,COUNTRY_INFO!J20<>4,COUNTRY_INFO!J20<>5), IF(AC20/P20*100<>0, IF(AC20/P20*100>100,100,AC20/P20*100), \"-\"),0)","v":0},{"$f":"COUNTRY_INFO!U20","v":0},null,null,{"$f":"MAX('T1'!K20,'T2'!R20)","v":0},{"$f":"IF(AND(COUNTRY_INFO!K20>1,COUNTRY_INFO!K20<99,COUNTRY_INFO!K20<>4,COUNTRY_INFO!K20<>5),IF(COUNTRY_INFO!R20>AH20,AH20,COUNTRY_INFO!R20),0)","v":0},{"$f":"IF(AND(COUNTRY_INFO!K20>1,COUNTRY_INFO!K20<99,COUNTRY_INFO!K20<>4,COUNTRY_INFO!K20<>5), IF(AI20/COUNTRY_INFO!R20*100<>0, IF(AI20/COUNTRY_INFO!R20*100>100,100,AI20/COUNTRY_INFO!R20*100), \"-\"),0)","v":0},{"$f":"MAX('T1'!L20,'T2'!S20)","v":0},{"$f":"IF(AND(COUNTRY_INFO!K20>1,COUNTRY_INFO!K20<99,COUNTRY_INFO!K20<>4,COUNTRY_INFO!K20<>5),IF(COUNTRY_INFO!S20>AK20,AK20,COUNTRY_INFO!S20),0)","v":0},{"$f":"IF(AND(COUNTRY_INFO!K20>1,COUNTRY_INFO!K20<99,COUNTRY_INFO!K20<>4,COUNTRY_INFO!K20<>5), IF(AL20/COUNTRY_INFO!S20*100<>0, IF(AL20/COUNTRY_INFO!S20*100>100,100,AL20/COUNTRY_INFO!S20*100), \"-\"),0)","v":0},{"$f":"MAX('T1'!M20,'T2'!T20)","v":0},{"$f":"IF(AND(COUNTRY_INFO!K20>1,COUNTRY_INFO!K20<99,COUNTRY_INFO!K20<>4,COUNTRY_INFO!K20<>5),IF(COUNTRY_INFO!T20>AN20,AN20,COUNTRY_INFO!T20),0)","v":0},{"$f":"IF(AND(COUNTRY_INFO!K20>1,COUNTRY_INFO!K20<99,COUNTRY_INFO!K20<>4,COUNTRY_INFO!K20<>5), IF(AO20/COUNTRY_INFO!T20*100<>0, IF(AO20/COUNTRY_INFO!T20*100>100,100,AO20/COUNTRY_INFO!T20*100), \"-\"),0)","v":0},0,0,{"$f":"IF(AND(COUNTRY_INFO!K20>1,COUNTRY_INFO!K20<99,COUNTRY_INFO!K20<>4,COUNTRY_INFO!K20<>5), IF(AR20/AE20*100<>0, IF(AR20/AE20*100>100,100,AR20/AE20*100), \"-\"),0)","v":0},null,{"$f":"IF(AND(D20<>0, D20<>\"Inconnu\",D20<>\"Interrompu\",D20<>\"Non requis\"),D20/COUNTRY_INFO!D20, 0)","v":0},{"$f":"IF(AND(J20<>0,J20<>\"Inconnu\",J20<>\"Interrompu\",J20<>\"Non requis\"),J20/COUNTRY_INFO!D20, 0)","v":0},{"$f":"IF(AND(P20<>0,P20<>\"Inconnu\",P20<>\"Surveillance\",P20<>\"Non requis\"),P20/COUNTRY_INFO!Q20, 0)","v":0},{"$f":"IF(AND(AE20<>0,AE20<>\"Inconnu\",AE20<>\"Surveillance\",AE20<>\"Non requis\"),AE20/COUNTRY_INFO!U20, 0)","v":0},{"$f":"IF(AU20>0,D20*PROFILE!$G$7,IF(AV20>0,J20*PROFILE!$G$7,0))","v":0},{"$f":"_xlfn.IFS(OR(AU20>0,AW20>0),COUNTRY_INFO!E20, AV20>0,J20*PROFILE!$G$8,AX20>0,COUNTRY_INFO!R20,COUNTIFS(AU20:AX20,\">0\")=0,0)","v":0},{"$f":"_xlfn.IFS(OR(AU20>0,AW20>0),COUNTRY_INFO!F20, AV20>0,J20*PROFILE!$G$9,AX20>0,COUNTRY_INFO!S20,COUNTIFS(AU20:AX20,\">0\")=0,0)","v":0},{"$f":"_xlfn.IFS(AU20>0,COUNTRY_INFO!G20, AND(AV20>0,AW20=0,AX20=0),J20*PROFILE!$G$10,AND(AV20>0,AW20>0,AX20=0), MAX(J20*PROFILE!$G$10,COUNTRY_INFO!P20),AND(AV20>0,AW20=0,AX20>0), MAX(J20*PROFILE!$G$10,COUNTRY_INFO!T20),AND(AV20=0,AW20>0,AX20>0), MAX(COUNTRY_INFO!P20,COUNTRY_INFO!T20),AND(AV20=0,AW20>0,AX20=0),COUNTRY_INFO!P20,AND(AV20=0,AW20=0,AX20>0),COUNTRY_INFO!T20,AND(AV20>0,AW20>0,AX20>0), MAX(J20*PROFILE!$G$10,COUNTRY_INFO!P20,COUNTRY_INFO!T20),COUNTIFS(AU20:AX20,\">0\")=0,0)","v":0},0,0,{"$f":"MAX('MDA2'!J20,'MDA5'!J20,S20,AH20)","v":0},{"$f":"MAX('MDA1'!K20,'MDA2'!K20,'MDA3'!I20,'MDA3'!L20,'MDA5'!K20,V20,AK20)","v":0},{"$f":"MAX('MDA1'!L20,'MDA2'!L20,'MDA3'!J20,'MDA3'!M20,'MDA5'!L20,Y20,AN20)","v":0},0,{"$f":"_xlfn.IFS(AND(AU20=0,AW20=0,AX20=0),0,AND(AU20=0,AW20=0,AX20>0),AI20,AND(AU20=0,AW20>0,AX20=0),T20,AND(AU20=0,AW20>0,AX20>0),MAX(T20,AI20),AND(AU20>0,AW20=0,AX20=0),MIN(MAX('MDA2'!J20,'MDA5'!J20),AZ20),AND(AU20>0,AW20=0,AX20>0),MIN(MAX('MDA2'!J20,'MDA5'!J20,AI20),AZ20),AND(AU20>0,AW20>0,AX20=0),MIN(MAX('MDA2'!J20,'MDA5'!J20,T20),AZ20),AND(AU20>0,AW20>0,AX20>0),MIN(MAX('MDA2'!J20,'MDA5'!J20,AI20,T20),AZ20))","v":0},{"$f":"_xlfn.IFS(AND(AU20=0,AV20=0,AW20=0,AX20=0),0,AND(AU20=0,AV20=0,AW20=0,AX20>0),AL20,AND(AU20=0,AV20=0,AW20>0,AX20=0),W20,AND(AU20=0,AV20=0,AW20>0,AX20>0),MAX(W20,AL20),AND(AU20=0,AV20>0,AW20=0,AX20=0),MIN(J20*PROFILE!$G$9,MAX('MDA3'!I20,'MDA3'!L20)),AND(AU20=0,AV20>0,AW20=0,AX20>0),MIN(J20*PROFILE!$G$9,MAX('MDA3'!I20,'MDA3'!L20,AL20)),AND(AU20=0,AV20>0,AW20>0,AX20=0),MIN(J20*PROFILE!$G$9,MAX('MDA3'!I20,'MDA3'!L20,W20)),AND(AU20=0,AV20>0,AW20>0,AX20>0),MIN(J20*PROFILE!$G$9,MAX('MDA3'!I20,'MDA3'!L20,W20,AL20)),AND(AU20>0,AV20=0,AW20=0,AX20=0), MIN(BA20,MAX('MDA1'!K20,'MDA2'!K20,'MDA5'!K20)),AND(AU20>0,AV20=0,AW20=0,AX20>0), MIN(BA20,MAX('MDA1'!K20,'MDA2'!K20,'MDA5'!K20,AL20)),AND(AU20>0,AV20=0,AW20>0,AX20=0),MIN(BA20,MAX('MDA1'!K20,'MDA2'!KL20,'MDA5'!K20,W20)),AND(AU20>0,AV20=0,AW20>0,AX20>0),MIN(BA20,MAX('MDA1'!K20,'MDA2'!K20,'MDA5'!K20,W20,AL20)),AND(AU20>0,AV20>0,AW20=0,AX20=0),MIN(BA20, MAX('MDA1'!K20,'MDA2'!K20, 'MDA5'!K20,MAX('MDA3'!I20,'MDA3'!L20))), AND(AU20>0,AV20>0,AW20=0,AX20>0),MIN(BA20, MAX('MDA1'!K20,'MDA2'!K20, 'MDA5'!K20,MAX('MDA3'!I20,'MDA3'!L20),AL20)), AND(AU20>0,AV20>0,AW20>0,AX20=0), MIN(BA20, MAX('MDA1'!K20,'MDA2'!K20, 'MDA5'!K20,MAX('MDA3'!I20,'MDA3'!L20),W20)), AND(AU20>0,AV20>0,AW20>0,AX20>0), MIN(BA20, MAX('MDA1'!K20,'MDA2'!K20, 'MDA5'!K20,MAX('MDA3'!I20,'MDA3'!L20),W20,AL20)))","v":0},{"$f":"_xlfn.IFS(AND(AU20=0,AV20=0,AW20=0,AX20=0),0,AND(AU20=0,AV20=0,AW20=0,AX20>0),AO20,AND(AU20=0,AV20=0,AW20>0,AX20=0),Z20,AND(AU20=0,AV20=0,AW20>0,AX20>0),MAX(Z20,AO20),AND(AU20=0,AV20>0,AW20=0,AX20=0),MIN(J20*PROFILE!$G$10,MAX('MDA3'!J20,'MDA3'!J20)),AND(AU20=0,AV20>0,AW20=0,AX20>0),MIN(J20*PROFILE!$G$10,MAX('MDA3'!J20,'MDA3'!M20,AO20)),AND(AU20=0,AV20>0,AW20>0,AX20=0),MIN(J20*PROFILE!$G$10,MAX('MDA3'!J20,'MDA3'!M20,Z20)),AND(AU20=0,AV20>0,AW20>0,AX20>0),MIN(J20*PROFILE!$G$10,MAX('MDA3'!J20,'MDA3'!M20,Z20,AO20)),AND(AU20>0,AV20=0,AW20=0,AX20=0), MIN(BB20,MAX('MDA1'!L20,'MDA2'!L20,'MDA5'!L20)),AND(AU20>0,AV20=0,AW20=0,AX20>0), MIN(BB20,MAX('MDA1'!L20,'MDA2'!L20,'MDA5'!L20,AO20)),AND(AU20>0,AV20=0,AW20>0,AX20=0),MIN(BB20,MAX('MDA1'!L20,'MDA2'!L20,'MDA5'!L20,Z20)),AND(AU20>0,AV20=0,AW20>0,AX20>0),MIN(BB20,MAX('MDA1'!L20,'MDA2'!L20,'MDA5'!L20,Z20,AO20)),AND(AU20>0,AV20>0,AW20=0,AX20=0),MIN(BB20, MAX('MDA1'!L20,'MDA2'!L20, 'MDA5'!L20,MAX('MDA3'!J20,'MDA3'!M20))), AND(AU20>0,AV20>0,AW20=0,AX20>0),MIN(BB20, MAX('MDA1'!L20,'MDA2'!L20, 'MDA5'!L20,MAX('MDA3'!J20,'MDA3'!M20),AO20)), AND(AU20>0,AV20>0,AW20>0,AX20=0), MIN(BB20, MAX('MDA1'!L20,'MDA2'!L20, 'MDA5'!L20,MAX('MDA3'!J20,'MDA3'!M20),Z20)), AND(AU20>0,AV20>0,AW20>0,AX20>0), MIN(BB20, MAX('MDA1'!L20,'MDA2'!L20, 'MDA5'!L20,MAX('MDA3'!J20,'MDA3'!M20),Z20,AO20)))","v":0},0,0]
[{"$f":"IF(COUNTRY_INFO!A21=0,\" \",COUNTRY_INFO!A21)","v":"Mali"},{"$f":"IF(COUNTRY_INFO!B21=0,\" \",COUNTRY_INFO!B21)","v":"Menaka"},{"$f":"IF(COUNTRY_INFO!C21=0,\" \",COUNTRY_INFO!C21)","v":"Anderamboukane"},{"$f":"COUNTRY_INFO!L21","v":0},null,null,{"$f":"MAX('MDA1'!M21,'MDA2'!M21,'MDA5'!M21)","v":0},{"$f":"IF(AND(COUNTRY_INFO!H21>0,COUNTRY_INFO!H21<4),IF(D21>G21,G21,D21),0)","v":0},{"$f":"IF(AND(COUNTRY_INFO!H21>0,COUNTRY_INFO!H21<4), IF(G21/D21*100<>0, IF(G21/D21*100>100,100,G21/D21*100), \"-\"),0)","v":0},{"$f":"COUNTRY_INFO!M21","v":0},null,null,{"$f":"MAX('MDA1'!M21,MAX('MDA3'!I21,'MDA3'!L21)+MAX('MDA3'!J21,'MDA3'!M21))","v":0},{"$f":"IF(AND(COUNTRY_INFO!I21>0,COUNTRY_INFO!I21<4),IF(J21>M21,M21,J21),0)","v":0},{"$f":"IF(AND(COUNTRY_INFO!I21>0,COUNTRY_INFO!I21<4), IF(M21/J21*100<>0, IF(M21/J21*100>100,100,M21/J21*100), \"-\"),0)","v":0},{"$f":"COUNTRY_INFO!Q21","v":"Non requis"},null,null,{"$f":"MAX('MDA2'!J21,'MDA5'!J21,'T1'!K21, MAX(T3_R1!J21,T3_R2!J21,T3_R3!J21))","v":0},{"$f":"IF(AND(COUNTRY_INFO!J21>1,COUNTRY_INFO!J21<99,COUNTRY_INFO!J21<>4,COUNTRY_INFO!J21<>5),IF(COUNTRY_INFO!N21>S21,S21,COUNTRY_INFO!N21),0)","v":0},{"$f":"IF(AND(COUNTRY_INFO!J21>1,COUNTRY_INFO!J21<99,COUNTRY_INFO!J21<>4,COUNTRY_INFO!J21<>5), IF(T21/COUNTRY_INFO!N21*100<>0, IF(T21/COUNTRY_INFO!N21*100>100,100,T21/COUNTRY_INFO!N21*100), \"-\"),0)","v":0},{"$f":"MAX('MDA1'!K21, 'MDA2'!K21, 'MDA5'!K21,'T1'!L21, MAX(T3_R1!K21,T3_R2!K21,T3_R3!K21))","v":0},{"$f":"IF(AND(COUNTRY_INFO!J21>1,COUNTRY_INFO!J21<99,COUNTRY_INFO!J21<>4,COUNTRY_INFO!J21<>5),IF(COUNTRY_INFO!O21>V21,V21,COUNTRY_INFO!O21),0)","v":0},{"$f":"IF(AND(COUNTRY_INFO!J21>1,COUNTRY_INFO!J21<99,COUNTRY_INFO!J21<>4,COUNTRY_INFO!J21<>5), IF(W21/COUNTRY_INFO!O21*100<>0, IF(W21/COUNTRY_INFO!O21*100>100,100,W21/COUNTRY_INFO!O21*100), \"-\"),0)","v":0},{"$f":"MAX('MDA1'!L21, 'MDA2'!L21, 'MDA5'!L21,'T1'!M21, MAX(T3_R1!L21,T3_R2!L21,T3_R3!L21))","v":0},{"$f":"IF(AND(COUNTRY_INFO!J21>1,COUNTRY_INFO!J21<99,COUNTRY_INFO!J21<>4,COUNTRY_INFO!J21<>5),IF(COUNTRY_INFO!P21>Y21,Y21,COUNTRY_INFO!P21),0)","v":0},{"$f":"IF(AND(COUNTRY_INFO!J21>1,COUNTRY_INFO!J21<99,COUNTRY_INFO!J21<>4,COUNTRY_INFO!J21<>5), IF(Z21/COUNTRY_INFO!P21*100<>0, IF(Z21/COUNTRY_INFO!P21*100>100,100,Z21/COUNTRY_INFO!P21*100), \"-\"),0)","v":0},0,0,{"$f":"IF(AND(COUNTRY_INFO!J21>1,COUNTRY_INFO!J21<99,COUNTRY_INFO!J21<>4,COUNTRY_INFO!J21<>5), IF(AC21/P21*100<>0, IF(AC21/P21*100>100,100,AC21/P21*100), \"-\"),0)","v":0},{"$f":"COUNTRY_INFO!U21","v":0},null,null,{"$f":"MAX('T1'!K21,'T2'!R21)","v":0},{"$f":"IF(AND(COUNTRY_INFO!K21>1,COUNTRY_INFO!K21<99,COUNTRY_INFO!K21<>4,COUNTRY_INFO!K21<>5),IF(COUNTRY_INFO!R21>AH21,AH21,COUNTRY_INFO!R21),0)","v":0},{"$f":"IF(AND(COUNTRY_INFO!K21>1,COUNTRY_INFO!K21<99,COUNTRY_INFO!K21<>4,COUNTRY_INFO!K21<>5), IF(AI21/COUNTRY_INFO!R21*100<>0, IF(AI21/COUNTRY_INFO!R21*100>100,100,AI21/COUNTRY_INFO!R21*100), \"-\"),0)","v":0},{"$f":"MAX('T1'!L21,'T2'!S21)","v":0},{"$f":"IF(AND(COUNTRY_INFO!K21>1,COUNTRY_INFO!K21<99,COUNTRY_INFO!K21<>4,COUNTRY_INFO!K21<>5),IF(COUNTRY_INFO!S21>AK21,AK21,COUNTRY_INFO!S21),0)","v":0},{"$f":"IF(AND(COUNTRY_INFO!K21>1,COUNTRY_INFO!K21<99,COUNTRY_INFO!K21<>4,COUNTRY_INFO!K21<>5), IF(AL21/COUNTRY_INFO!S21*100<>0, IF(AL21/COUNTRY_INFO!S21*100>100,100,AL21/COUNTRY_INFO!S21*100), \"-\"),0)","v":0},{"$f":"MAX('T1'!M21,'T2'!T21)","v":0},{"$f":"IF(AND(COUNTRY_INFO!K21>1,COUNTRY_INFO!K21<99,COUNTRY_INFO!K21<>4,COUNTRY_INFO!K21<>5),IF(COUNTRY_INFO!T21>AN21,AN21,COUNTRY_INFO!T21),0)","v":0},{"$f":"IF(AND(COUNTRY_INFO!K21>1,COUNTRY_INFO!K21<99,COUNTRY_INFO!K21<>4,COUNTRY_INFO!K21<>5), IF(AO21/COUNTRY_INFO!T21*100<>0, IF(AO21/COUNTRY_INFO!T21*100>100,100,AO21/COUNTRY_INFO!T21*100), \"-\"),0)","v":0},0,0,{"$f":"IF(AND(COUNTRY_INFO!K21>1,COUNTRY_INFO!K21<99,COUNTRY_INFO!K21<>4,COUNTRY_INFO!K21<>5), IF(AR21/AE21*100<>0, IF(AR21/AE21*100>100,100,AR21/AE21*100), \"-\"),0)","v":0},null,{"$f":"IF(AND(D21<>0, D21<>\"Inconnu\",D21<>\"Interrompu\",D21<>\"Non requis\"),D21/COUNTRY_INFO!D21, 0)","v":0},{"$f":"IF(AND(J21<>0,J21<>\"Inconnu\",J21<>\"Interrompu\",J21<>\"Non requis\"),J21/COUNTRY_INFO!D21, 0)","v":0},{"$f":"IF(AND(P21<>0,P21<>\"Inconnu\",P21<>\"Surveillance\",P21<>\"Non requis\"),P21/COUNTRY_INFO!Q21, 0)","v":0},{"$f":"IF(AND(AE21<>0,AE21<>\"Inconnu\",AE21<>\"Surveillance\",AE21<>\"Non requis\"),AE21/COUNTRY_INFO!U21, 0)","v":0},{"$f":"IF(AU21>0,D21*PROFILE!$G$7,IF(AV21>0,J21*PROFILE!$G$7,0))","v":0},{"$f":"_xlfn.IFS(OR(AU21>0,AW21>0),COUNTRY_INFO!E21, AV21>0,J21*PROFILE!$G$8,AX21>0,COUNTRY_INFO!R21,COUNTIFS(AU21:AX21,\">0\")=0,0)","v":0},{"$f":"_xlfn.IFS(OR(AU21>0,AW21>0),COUNTRY_INFO!F21, AV21>0,J21*PROFILE!$G$9,AX21>0,COUNTRY_INFO!S21,COUNTIFS(AU21:AX21,\">0\")=0,0)","v":0},{"$f":"_xlfn.IFS(AU21>0,COUNTRY_INFO!G21, AND(AV21>0,AW21=0,AX21=0),J21*PROFILE!$G$10,AND(AV21>0,AW21>0,AX21=0), MAX(J21*PROFILE!$G$10,COUNTRY_INFO!P21),AND(AV21>0,AW21=0,AX21>0), MAX(J21*PROFILE!$G$10,COUNTRY_INFO!T21),AND(AV21=0,AW21>0,AX21>0), MAX(COUNTRY_INFO!P21,COUNTRY_INFO!T21),AND(AV21=0,AW21>0,AX21=0),COUNTRY_INFO!P21,AND(AV21=0,AW21=0,AX21>0),COUNTRY_INFO!T21,AND(AV21>0,AW21>0,AX21>0), MAX(J21*PROFILE!$G$10,COUNTRY_INFO!P21,COUNTRY_INFO!T21),COUNTIFS(AU21:AX21,\">0\")=0,0)","v":0},0,0,{"$f":"MAX('MDA2'!J21,'MDA5'!J21,S21,AH21)","v":0},{"$f":"MAX('MDA1'!K21,'MDA2'!K21,'MDA3'!I21,'MDA3'!L21,'MDA5'!K21,V21,AK21)","v":0},{"$f":"MAX('MDA1'!L21,'MDA2'!L21,'MDA3'!J21,'MDA3'!M21,'MDA5'!L21,Y21,AN21)","v":0},0,{"$f":"_xlfn.IFS(AND(AU21=0,AW21=0,AX21=0),0,AND(AU21=0,AW21=0,AX21>0),AI21,AND(AU21=0,AW21>0,AX21=0),T21,AND(AU21=0,AW21>0,AX21>0),MAX(T21,AI21),AND(AU21>0,AW21=0,AX21=0),MIN(MAX('MDA2'!J21,'MDA5'!J21),AZ21),AND(AU21>0,AW21=0,AX21>0),MIN(MAX('MDA2'!J21,'MDA5'!J21,AI21),AZ21),AND(AU21>0,AW21>0,AX21=0),MIN(MAX('MDA2'!J21,'MDA5'!J21,T21),AZ21),AND(AU21>0,AW21>0,AX21>0),MIN(MAX('MDA2'!J21,'MDA5'!J21,AI21,T21),AZ21))","v":0},{"$f":"_xlfn.IFS(AND(AU21=0,AV21=0,AW21=0,AX21=0),0,AND(AU21=0,AV21=0,AW21=0,AX21>0),AL21,AND(AU21=0,AV21=0,AW21>0,AX21=0),W21,AND(AU21=0,AV21=0,AW21>0,AX21>0),MAX(W21,AL21),AND(AU21=0,AV21>0,AW21=0,AX21=0),MIN(J21*PROFILE!$G$9,MAX('MDA3'!I21,'MDA3'!L21)),AND(AU21=0,AV21>0,AW21=0,AX21>0),MIN(J21*PROFILE!$G$9,MAX('MDA3'!I21,'MDA3'!L21,AL21)),AND(AU21=0,AV21>0,AW21>0,AX21=0),MIN(J21*PROFILE!$G$9,MAX('MDA3'!I21,'MDA3'!L21,W21)),AND(AU21=0,AV21>0,AW21>0,AX21>0),MIN(J21*PROFILE!$G$9,MAX('MDA3'!I21,'MDA3'!L21,W21,AL21)),AND(AU21>0,AV21=0,AW21=0,AX21=0), MIN(BA21,MAX('MDA1'!K21,'MDA2'!K21,'MDA5'!K21)),AND(AU21>0,AV21=0,AW21=0,AX21>0), MIN(BA21,MAX('MDA1'!K21,'MDA2'!K21,'MDA5'!K21,AL21)),AND(AU21>0,AV21=0,AW21>0,AX21=0),MIN(BA21,MAX('MDA1'!K21,'MDA2'!KL21,'MDA5'!K21,W21)),AND(AU21>0,AV21=0,AW21>0,AX21>0),MIN(BA21,MAX('MDA1'!K21,'MDA2'!K21,'MDA5'!K21,W21,AL21)),AND(AU21>0,AV21>0,AW21=0,AX21=0),MIN(BA21, MAX('MDA1'!K21,'MDA2'!K21, 'MDA5'!K21,MAX('MDA3'!I21,'MDA3'!L21))), AND(AU21>0,AV21>0,AW21=0,AX21>0),MIN(BA21, MAX('MDA1'!K21,'MDA2'!K21, 'MDA5'!K21,MAX('MDA3'!I21,'MDA3'!L21),AL21)), AND(AU21>0,AV21>0,AW21>0,AX21=0), MIN(BA21, MAX('MDA1'!K21,'MDA2'!K21, 'MDA5'!K21,MAX('MDA3'!I21,'MDA3'!L21),W21)), AND(AU21>0,AV21>0,AW21>0,AX21>0), MIN(BA21, MAX('MDA1'!K21,'MDA2'!K21, 'MDA5'!K21,MAX('MDA3'!I21,'MDA3'!L21),W21,AL21)))","v":0},{"$f":"_xlfn.IFS(AND(AU21=0,AV21=0,AW21=0,AX21=0),0,AND(AU21=0,AV21=0,AW21=0,AX21>0),AO21,AND(AU21=0,AV21=0,AW21>0,AX21=0),Z21,AND(AU21=0,AV21=0,AW21>0,AX21>0),MAX(Z21,AO21),AND(AU21=0,AV21>0,AW21=0,AX21=0),MIN(J21*PROFILE!$G$10,MAX('MDA3'!J21,'MDA3'!J21)),AND(AU21=0,AV21>0,AW21=0,AX21>0),MIN(J21*PROFILE!$G$10,MAX('MDA3'!J21,'MDA3'!M21,AO21)),AND(AU21=0,AV21>0,AW21>0,AX21=0),MIN(J21*PROFILE!$G$10,MAX('MDA3'!J21,'MDA3'!M21,Z21)),AND(AU21=0,AV21>0,AW21>0,AX21>0),MIN(J21*PROFILE!$G$10,MAX('MDA3'!J21,'MDA3'!M21,Z21,AO21)),AND(AU21>0,AV21=0,AW21=0,AX21=0), MIN(BB21,MAX('MDA1'!L21,'MDA2'!L21,'MDA5'!L21)),AND(AU21>0,AV21=0,AW21=0,AX21>0), MIN(BB21,MAX('MDA1'!L21,'MDA2'!L21,'MDA5'!L21,AO21)),AND(AU21>0,AV21=0,AW21>0,AX21=0),MIN(BB21,MAX('MDA1'!L21,'MDA2'!L21,'MDA5'!L21,Z21)),AND(AU21>0,AV21=0,AW21>0,AX21>0),MIN(BB21,MAX('MDA1'!L21,'MDA2'!L21,'MDA5'!L21,Z21,AO21)),AND(AU21>0,AV21>0,AW21=0,AX21=0),MIN(BB21, MAX('MDA1'!L21,'MDA2'!L21, 'MDA5'!L21,MAX('MDA3'!J21,'MDA3'!M21))), AND(AU21>0,AV21>0,AW21=0,AX21>0),MIN(BB21, MAX('MDA1'!L21,'MDA2'!L21, 'MDA5'!L21,MAX('MDA3'!J21,'MDA3'!M21),AO21)), AND(AU21>0,AV21>0,AW21>0,AX21=0), MIN(BB21, MAX('MDA1'!L21,'MDA2'!L21, 'MDA5'!L21,MAX('MDA3'!J21,'MDA3'!M21),Z21)), AND(AU21>0,AV21>0,AW21>0,AX21>0), MIN(BB21, MAX('MDA1'!L21,'MDA2'!L21, 'MDA5'!L21,MAX('MDA3'!J21,'MDA3'!M21),Z21,AO21)))","v":0},0,0]
[{"$f":"IF(COUNTRY_INFO!A22=0,\" \",COUNTRY_INFO!A22)","v":"Mali"},{"$f":"IF(COUNTRY_INFO!B22=0,\" \",COUNTRY_INFO!B22)","v":"Menaka"},{"$f":"IF(COUNTRY_INFO!C22=0,\" \",COUNTRY_INFO!C22)","v":"Inekar"},{"$f":"COUNTRY_INFO!L22","v":0},null,null,{"$f":"MAX('MDA1'!M22,'MDA2'!M22,'MDA5'!M22)","v":0},{"$f":"IF(AND(COUNTRY_INFO!H22>0,COUNTRY_INFO!H22<4),IF(D22>G22,G22,D22),0)","v":0},{"$f":"IF(AND(COUNTRY_INFO!H22>0,COUNTRY_INFO!H22<4), IF(G22/D22*100<>0, IF(G22/D22*100>100,100,G22/D22*100), \"-\"),0)","v":0},{"$f":"COUNTRY_INFO!M22","v":0},null,null,{"$f":"MAX('MDA1'!M22,MAX('MDA3'!I22,'MDA3'!L22)+MAX('MDA3'!J22,'MDA3'!M22))","v":0},{"$f":"IF(AND(COUNTRY_INFO!I22>0,COUNTRY_INFO!I22<4),IF(J22>M22,M22,J22),0)","v":0},{"$f":"IF(AND(COUNTRY_INFO!I22>0,COUNTRY_INFO!I22<4), IF(M22/J22*100<>0, IF(M22/J22*100>100,100,M22/J22*100), \"-\"),0)","v":0},{"$f":"COUNTRY_INFO!Q22","v":"Non requis"},null,null,{"$f":"MAX('MDA2'!J22,'MDA5'!J22,'T1'!K22, MAX(T3_R1!J22,T3_R2!J22,T3_R3!J22))","v":0},{"$f":"IF(AND(COUNTRY_INFO!J22>1,COUNTRY_INFO!J22<99,COUNTRY_INFO!J22<>4,COUNTRY_INFO!J22<>5),IF(COUNTRY_INFO!N22>S22,S22,COUNTRY_INFO!N22),0)","v":0},{"$f":"IF(AND(COUNTRY_INFO!J22>1,COUNTRY_INFO!J22<99,COUNTRY_INFO!J22<>4,COUNTRY_INFO!J22<>5), IF(T22/COUNTRY_INFO!N22*100<>0, IF(T22/COUNTRY_INFO!N22*100>100,100,T22/COUNTRY_INFO!N22*100), \"-\"),0)","v":0},{"$f":"MAX('MDA1'!K22, 'MDA2'!K22, 'MDA5'!K22,'T1'!L22, MAX(T3_R1!K22,T3_R2!K22,T3_R3!K22))","v":0},{"$f":"IF(AND(COUNTRY_INFO!J22>1,COUNTRY_INFO!J22<99,COUNTRY_INFO!J22<>4,COUNTRY_INFO!J22<>5),IF(COUNTRY_INFO!O22>V22,V22,COUNTRY_INFO!O22),0)","v":0},{"$f":"IF(AND(COUNTRY_INFO!J22>1,COUNTRY_INFO!J22<99,COUNTRY_INFO!J22<>4,COUNTRY_INFO!J22<>5), IF(W22/COUNTRY_INFO!O22*100<>0, IF(W22/COUNTRY_INFO!O22*100>100,100,W22/COUNTRY_INFO!O22*100), \"-\"),0)","v":0},{"$f":"MAX('MDA1'!L22, 'MDA2'!L22, 'MDA5'!L22,'T1'!M22, MAX(T3_R1!L22,T3_R2!L22,T3_R3!L22))","v":0},{"$f":"IF(AND(COUNTRY_INFO!J22>1,COUNTRY_INFO!J22<99,COUNTRY_INFO!J22<>4,COUNTRY_INFO!J22<>5),IF(COUNTRY_INFO!P22>Y22,Y22,COUNTRY_INFO!P22),0)","v":0},{"$f":"IF(AND(COUNTRY_INFO!J22>1,COUNTRY_INFO!J22<99,COUNTRY_INFO!J22<>4,COUNTRY_INFO!J22<>5), IF(Z22/COUNTRY_INFO!P22*100<>0, IF(Z22/COUNTRY_INFO!P22*100>100,100,Z22/COUNTRY_INFO!P22*100), \"-\"),0)","v":0},0,0,{"$f":"IF(AND(COUNTRY_INFO!J22>1,COUNTRY_INFO!J22<99,COUNTRY_INFO!J22<>4,COUNTRY_INFO!J22<>5), IF(AC22/P22*100<>0, IF(AC22/P22*100>100,100,AC22/P22*100), \"-\"),0)","v":0},{"$f":"COUNTRY_INFO!U22","v":0},null,null,{"$f":"MAX('T1'!K22,'T2'!R22)","v":0},{"$f":"IF(AND(COUNTRY_INFO!K22>1,COUNTRY_INFO!K22<99,COUNTRY_INFO!K22<>4,COUNTRY_INFO!K22<>5),IF(COUNTRY_INFO!R22>AH22,AH22,COUNTRY_INFO!R22),0)","v":0},{"$f":"IF(AND(COUNTRY_INFO!K22>1,COUNTRY_INFO!K22<99,COUNTRY_INFO!K22<>4,COUNTRY_INFO!K22<>5), IF(AI22/COUNTRY_INFO!R22*100<>0, IF(AI22/COUNTRY_INFO!R22*100>100,100,AI22/COUNTRY_INFO!R22*100), \"-\"),0)","v":0},{"$f":"MAX('T1'!L22,'T2'!S22)","v":0},{"$f":"IF(AND(COUNTRY_INFO!K22>1,COUNTRY_INFO!K22<99,COUNTRY_INFO!K22<>4,COUNTRY_INFO!K22<>5),IF(COUNTRY_INFO!S22>AK22,AK22,COUNTRY_INFO!S22),0)","v":0},{"$f":"IF(AND(COUNTRY_INFO!K22>1,COUNTRY_INFO!K22<99,COUNTRY_INFO!K22<>4,COUNTRY_INFO!K22<>5), IF(AL22/COUNTRY_INFO!S22*100<>0, IF(AL22/COUNTRY_INFO!S22*100>100,100,AL22/COUNTRY_INFO!S22*100), \"-\"),0)","v":0},{"$f":"MAX('T1'!M22,'T2'!T22)","v":0},{"$f":"IF(AND(COUNTRY_INFO!K22>1,COUNTRY_INFO!K22<99,COUNTRY_INFO!K22<>4,COUNTRY_INFO!K22<>5),IF(COUNTRY_INFO!T22>AN22,AN22,COUNTRY_INFO!T22),0)","v":0},{"$f":"IF(AND(COUNTRY_INFO!K22>1,COUNTRY_INFO!K22<99,COUNTRY_INFO!K22<>4,COUNTRY_INFO!K22<>5), IF(AO22/COUNTRY_INFO!T22*100<>0, IF(AO22/COUNTRY_INFO!T22*100>100,100,AO22/COUNTRY_INFO!T22*100), \"-\"),0)","v":0},0,0,{"$f":"IF(AND(COUNTRY_INFO!K22>1,COUNTRY_INFO!K22<99,COUNTRY_INFO!K22<>4,COUNTRY_INFO!K22<>5), IF(AR22/AE22*100<>0, IF(AR22/AE22*100>100,100,AR22/AE22*100), \"-\"),0)","v":0},null,{"$f":"IF(AND(D22<>0, D22<>\"Inconnu\",D22<>\"Interrompu\",D22<>\"Non requis\"),D22/COUNTRY_INFO!D22, 0)","v":0},{"$f":"IF(AND(J22<>0,J22<>\"Inconnu\",J22<>\"Interrompu\",J22<>\"Non requis\"),J22/COUNTRY_INFO!D22, 0)","v":0},{"$f":"IF(AND(P22<>0,P22<>\"Inconnu\",P22<>\"Surveillance\",P22<>\"Non requis\"),P22/COUNTRY_INFO!Q22, 0)","v":0},{"$f":"IF(AND(AE22<>0,AE22<>\"Inconnu\",AE22<>\"Surveillance\",AE22<>\"Non requis\"),AE22/COUNTRY_INFO!U22, 0)","v":0},{"$f":"IF(AU22>0,D22*PROFILE!$G$7,IF(AV22>0,J22*PROFILE!$G$7,0))","v":0},{"$f":"_xlfn.IFS(OR(AU22>0,AW22>0),COUNTRY_INFO!E22, AV22>0,J22*PROFILE!$G$8,AX22>0,COUNTRY_INFO!R22,COUNTIFS(AU22:AX22,\">0\")=0,0)","v":0},{"$f":"_xlfn.IFS(OR(AU22>0,AW22>0),COUNTRY_INFO!F22, AV22>0,J22*PROFILE!$G$9,AX22>0,COUNTRY_INFO!S22,COUNTIFS(AU22:AX22,\">0\")=0,0)","v":0},{"$f":"_xlfn.IFS(AU22>0,COUNTRY_INFO!G22, AND(AV22>0,AW22=0,AX22=0),J22*PROFILE!$G$10,AND(AV22>0,AW22>0,AX22=0), MAX(J22*PROFILE!$G$10,COUNTRY_INFO!P22),AND(AV22>0,AW22=0,AX22>0), MAX(J22*PROFILE!$G$10,COUNTRY_INFO!T22),AND(AV22=0,AW22>0,AX22>0), MAX(COUNTRY_INFO!P22,COUNTRY_INFO!T22),AND(AV22=0,AW22>0,AX22=0),COUNTRY_INFO!P22,AND(AV22=0,AW22=0,AX22>0),COUNTRY_INFO!T22,AND(AV22>0,AW22>0,AX22>0), MAX(J22*PROFILE!$G$10,COUNTRY_INFO!P22,COUNTRY_INFO!T22),COUNTIFS(AU22:AX22,\">0\")=0,0)","v":0},0,0,{"$f":"MAX('MDA2'!J22,'MDA5'!J22,S22,AH22)","v":0},{"$f":"MAX('MDA1'!K22,'MDA2'!K22,'MDA3'!I22,'MDA3'!L22,'MDA5'!K22,V22,AK22)","v":0},{"$f":"MAX('MDA1'!L22,'MDA2'!L22,'MDA3'!J22,'MDA3'!M22,'MDA5'!L22,Y22,AN22)","v":0},0,{"$f":"_xlfn.IFS(AND(AU22=0,AW22=0,AX22=0),0,AND(AU22=0,AW22=0,AX22>0),AI22,AND(AU22=0,AW22>0,AX22=0),T22,AND(AU22=0,AW22>0,AX22>0),MAX(T22,AI22),AND(AU22>0,AW22=0,AX22=0),MIN(MAX('MDA2'!J22,'MDA5'!J22),AZ22),AND(AU22>0,AW22=0,AX22>0),MIN(MAX('MDA2'!J22,'MDA5'!J22,AI22),AZ22),AND(AU22>0,AW22>0,AX22=0),MIN(MAX('MDA2'!J22,'MDA5'!J22,T22),AZ22),AND(AU22>0,AW22>0,AX22>0),MIN(MAX('MDA2'!J22,'MDA5'!J22,AI22,T22),AZ22))","v":0},{"$f":"_xlfn.IFS(AND(AU22=0,AV22=0,AW22=0,AX22=0),0,AND(AU22=0,AV22=0,AW22=0,AX22>0),AL22,AND(AU22=0,AV22=0,AW22>0,AX22=0),W22,AND(AU22=0,AV22=0,AW22>0,AX22>0),MAX(W22,AL22),AND(AU22=0,AV22>0,AW22=0,AX22=0),MIN(J22*PROFILE!$G$9,MAX('MDA3'!I22,'MDA3'!L22)),AND(AU22=0,AV22>0,AW22=0,AX22>0),MIN(J22*PROFILE!$G$9,MAX('MDA3'!I22,'MDA3'!L22,AL22)),AND(AU22=0,AV22>0,AW22>0,AX22=0),MIN(J22*PROFILE!$G$9,MAX('MDA3'!I22,'MDA3'!L22,W22)),AND(AU22=0,AV22>0,AW22>0,AX22>0),MIN(J22*PROFILE!$G$9,MAX('MDA3'!I22,'MDA3'!L22,W22,AL22)),AND(AU22>0,AV22=0,AW22=0,AX22=0), MIN(BA22,MAX('MDA1'!K22,'MDA2'!K22,'MDA5'!K22)),AND(AU22>0,AV22=0,AW22=0,AX22>0), MIN(BA22,MAX('MDA1'!K22,'MDA2'!K22,'MDA5'!K22,AL22)),AND(AU22>0,AV22=0,AW22>0,AX22=0),MIN(BA22,MAX('MDA1'!K22,'MDA2'!KL22,'MDA5'!K22,W22)),AND(AU22>0,AV22=0,AW22>0,AX22>0),MIN(BA22,MAX('MDA1'!K22,'MDA2'!K22,'MDA5'!K22,W22,AL22)),AND(AU22>0,AV22>0,AW22=0,AX22=0),MIN(BA22, MAX('MDA1'!K22,'MDA2'!K22, 'MDA5'!K22,MAX('MDA3'!I22,'MDA3'!L22))), AND(AU22>0,AV22>0,AW22=0,AX22>0),MIN(BA22, MAX('MDA1'!K22,'MDA2'!K22, 'MDA5'!K22,MAX('MDA3'!I22,'MDA3'!L22),AL22)), AND(AU22>0,AV22>0,AW22>0,AX22=0), MIN(BA22, MAX('MDA1'!K22,'MDA2'!K22, 'MDA5'!K22,MAX('MDA3'!I22,'MDA3'!L22),W22)), AND(AU22>0,AV22>0,AW22>0,AX22>0), MIN(BA22, MAX('MDA1'!K22,'MDA2'!K22, 'MDA5'!K22,MAX('MDA3'!I22,'MDA3'!L22),W22,AL22)))","v":0},{"$f":"_xlfn.IFS(AND(AU22=0,AV22=0,AW22=0,AX22=0),0,AND(AU22=0,AV22=0,AW22=0,AX22>0),AO22,AND(AU22=0,AV22=0,AW22>0,AX22=0),Z22,AND(AU22=0,AV22=0,AW22>0,AX22>0),MAX(Z22,AO22),AND(AU22=0,AV22>0,AW22=0,AX22=0),MIN(J22*PROFILE!$G$10,MAX('MDA3'!J22,'MDA3'!J22)),AND(AU22=0,AV22>0,AW22=0,AX22>0),MIN(J22*PROFILE!$G$10,MAX('MDA3'!J22,'MDA3'!M22,AO22)),AND(AU22=0,AV22>0,AW22>0,AX22=0),MIN(J22*PROFILE!$G$10,MAX('MDA3'!J22,'MDA3'!M22,Z22)),AND(AU22=0,AV22>0,AW22>0,AX22>0),MIN(J22*PROFILE!$G$10,MAX('MDA3'!J22,'MDA3'!M22,Z22,AO22)),AND(AU22>0,AV22=0,AW22=0,AX22=0), MIN(BB22,MAX('MDA1'!L22,'MDA2'!L22,'MDA5'!L22)),AND(AU22>0,AV22=0,AW22=0,AX22>0), MIN(BB22,MAX('MDA1'!L22,'MDA2'!L22,'MDA5'!L22,AO22)),AND(AU22>0,AV22=0,AW22>0,AX22=0),MIN(BB22,MAX('MDA1'!L22,'MDA2'!L22,'MDA5'!L22,Z22)),AND(AU22>0,AV22=0,AW22>0,AX22>0),MIN(BB22,MAX('MDA1'!L22,'MDA2'!L22,'MDA5'!L22,Z22,AO22)),AND(AU22>0,AV22>0,AW22=0,AX22=0),MIN(BB22, MAX('MDA1'!L22,'MDA2'!L22, 'MDA5'!L22,MAX('MDA3'!J22,'MDA3'!M22))), AND(AU22>0,AV22>0,AW22=0,AX22>0),MIN(BB22, MAX('MDA1'!L22,'MDA2'!L22, 'MDA5'!L22,MAX('MDA3'!J22,'MDA3'!M22),AO22)), AND(AU22>0,AV22>0,AW22>0,AX22=0), MIN(BB22, MAX('MDA1'!L22,'MDA2'!L22, 'MDA5'!L22,MAX('MDA3'!J22,'MDA3'!M22),Z22)), AND(AU22>0,AV22>0,AW22>0,AX22>0), MIN(BB22, MAX('MDA1'!L22,'MDA2'!L22, 'MDA5'!L22,MAX('MDA3'!J22,'MDA3'!M22),Z22,AO22)))","v":0},0,0]
[{"$f":"IF(COUNTRY_INFO!A23=0,\" \",COUNTRY_INFO!A23)","v":"Mali"},{"$f":"IF(COUNTRY_INFO!B23=0,\" \",COUNTRY_INFO!B23)","v":"Menaka"},{"$f":"IF(COUNTRY_INFO!C23=0,\" \",COUNTRY_INFO!C23)","v":"Tidermene"},{"$f":"COUNTRY_INFO!L23","v":0},null,null,{"$f":"MAX('MDA1'!M23,'MDA2'!M23,'MDA5'!M23)","v":0},{"$f":"IF(AND(COUNTRY_INFO!H23>0,COUNTRY_INFO!H23<4),IF(D23>G23,G23,D23),0)","v":0},{"$f":"IF(AND(COUNTRY_INFO!H23>0,COUNTRY_INFO!H23<4), IF(G23/D23*100<>0, IF(G23/D23*100>100,100,G23/D23*100), \"-\"),0)","v":0},{"$f":"COUNTRY_INFO!M23","v":0},null,null,{"$f":"MAX('MDA1'!M23,MAX('MDA3'!I23,'MDA3'!L23)+MAX('MDA3'!J23,'MDA3'!M23))","v":0},{"$f":"IF(AND(COUNTRY_INFO!I23>0,COUNTRY_INFO!I23<4),IF(J23>M23,M23,J23),0)","v":0},{"$f":"IF(AND(COUNTRY_INFO!I23>0,COUNTRY_INFO!I23<4), IF(M23/J23*100<>0, IF(M23/J23*100>100,100,M23/J23*100), \"-\"),0)","v":0},{"$f":"COUNTRY_INFO!Q23","v":"Non requis"},null,null,{"$f":"MAX('MDA2'!J23,'MDA5'!J23,'T1'!K23, MAX(T3_R1!J23,T3_R2!J23,T3_R3!J23))","v":0},{"$f":"IF(AND(COUNTRY_INFO!J23>1,COUNTRY_INFO!J23<99,COUNTRY_INFO!J23<>4,COUNTRY_INFO!J23<>5),IF(COUNTRY_INFO!N23>S23,S23,COUNTRY_INFO!N23),0)","v":0},{"$f":"IF(AND(COUNTRY_INFO!J23>1,COUNTRY_INFO!J23<99,COUNTRY_INFO!J23<>4,COUNTRY_INFO!J23<>5), IF(T23/COUNTRY_INFO!N23*100<>0, IF(T23/COUNTRY_INFO!N23*100>100,100,T23/COUNTRY_INFO!N23*100), \"-\"),0)","v":0},{"$f":"MAX('MDA1'!K23, 'MDA2'!K23, 'MDA5'!K23,'T1'!L23, MAX(T3_R1!K23,T3_R2!K23,T3_R3!K23))","v":0},{"$f":"IF(AND(COUNTRY_INFO!J23>1,COUNTRY_INFO!J23<99,COUNTRY_INFO!J23<>4,COUNTRY_INFO!J23<>5),IF(COUNTRY_INFO!O23>V23,V23,COUNTRY_INFO!O23),0)","v":0},{"$f":"IF(AND(COUNTRY_INFO!J23>1,COUNTRY_INFO!J23<99,COUNTRY_INFO!J23<>4,COUNTRY_INFO!J23<>5), IF(W23/COUNTRY_INFO!O23*100<>0, IF(W23/COUNTRY_INFO!O23*100>100,100,W23/COUNTRY_INFO!O23*100), \"-\"),0)","v":0},{"$f":"MAX('MDA1'!L23, 'MDA2'!L23, 'MDA5'!L23,'T1'!M23, MAX(T3_R1!L23,T3_R2!L23,T3_R3!L23))","v":0},{"$f":"IF(AND(COUNTRY_INFO!J23>1,COUNTRY_INFO!J23<99,COUNTRY_INFO!J23<>4,COUNTRY_INFO!J23<>5),IF(COUNTRY_INFO!P23>Y23,Y23,COUNTRY_INFO!P23),0)","v":0},{"$f":"IF(AND(COUNTRY_INFO!J23>1,COUNTRY_INFO!J23<99,COUNTRY_INFO!J23<>4,COUNTRY_INFO!J23<>5), IF(Z23/COUNTRY_INFO!P23*100<>0, IF(Z23/COUNTRY_INFO!P23*100>100,100,Z23/COUNTRY_INFO!P23*100), \"-\"),0)","v":0},0,0,{"$f":"IF(AND(COUNTRY_INFO!J23>1,COUNTRY_INFO!J23<99,COUNTRY_INFO!J23<>4,COUNTRY_INFO!J23<>5), IF(AC23/P23*100<>0, IF(AC23/P23*100>100,100,AC23/P23*100), \"-\"),0)","v":0},{"$f":"COUNTRY_INFO!U23","v":727},null,null,{"$f":"MAX('T1'!K23,'T2'!R23)","v":0},{"$f":"IF(AND(COUNTRY_INFO!K23>1,COUNTRY_INFO!K23<99,COUNTRY_INFO!K23<>4,COUNTRY_INFO!K23<>5),IF(COUNTRY_INFO!R23>AH23,AH23,COUNTRY_INFO!R23),0)","v":0},{"$f":"IF(AND(COUNTRY_INFO!K23>1,COUNTRY_INFO!K23<99,COUNTRY_INFO!K23<>4,COUNTRY_INFO!K23<>5), IF(AI23/COUNTRY_INFO!R23*100<>0, IF(AI23/COUNTRY_INFO!R23*100>100,100,AI23/COUNTRY_INFO!R23*100), \"-\"),0)","v":"-"},{"$f":"MAX('T1'!L23,'T2'!S23)","v":0},{"$f":"IF(AND(COUNTRY_INFO!K23>1,COUNTRY_INFO!K23<99,COUNTRY_INFO!K23<>4,COUNTRY_INFO!K23<>5),IF(COUNTRY_INFO!S23>AK23,AK23,COUNTRY_INFO!S23),0)","v":0},{"$f":"IF(AND(COUNTRY_INFO!K23>1,COUNTRY_INFO!K23<99,COUNTRY_INFO!K23<>4,COUNTRY_INFO!K23<>5), IF(AL23/COUNTRY_INFO!S23*100<>0, IF(AL23/COUNTRY_INFO!S23*100>100,100,AL23/COUNTRY_INFO!S23*100), \"-\"),0)","v":"-"},{"$f":"MAX('T1'!M23,'T2'!T23)","v":0},{"$f":"IF(AND(COUNTRY_INFO!K23>1,COUNTRY_INFO!K23<99,COUNTRY_INFO!K23<>4,COUNTRY_INFO!K23<>5),IF(COUNTRY_INFO!T23>AN23,AN23,COUNTRY_INFO!T23),0)","v":0},{"$f":"IF(AND(COUNTRY_INFO!K23>1,COUNTRY_INFO!K23<99,COUNTRY_INFO!K23<>4,COUNTRY_INFO!K23<>5), IF(AO23/COUNTRY_INFO!T23*100<>0, IF(AO23/COUNTRY_INFO!T23*100>100,100,AO23/COUNTRY_INFO!T23*100), \"-\"),0)","v":"-"},0,0,{"$f":"IF(AND(COUNTRY_INFO!K23>1,COUNTRY_INFO!K23<99,COUNTRY_INFO!K23<>4,COUNTRY_INFO!K23<>5), IF(AR23/AE23*100<>0, IF(AR23/AE23*100>100,100,AR23/AE23*100), \"-\"),0)","v":"-"},null,{"$f":"IF(AND(D23<>0, D23<>\"Inconnu\",D23<>\"Interrompu\",D23<>\"Non requis\"),D23/COUNTRY_INFO!D23, 0)","v":0},{"$f":"IF(AND(J23<>0,J23<>\"Inconnu\",J23<>\"Interrompu\",J23<>\"Non requis\"),J23/COUNTRY_INFO!D23, 0)","v":0},{"$f":"IF(AND(P23<>0,P23<>\"Inconnu\",P23<>\"Surveillance\",P23<>\"Non requis\"),P23/COUNTRY_INFO!Q23, 0)","v":0},{"$f":"IF(AND(AE23<>0,AE23<>\"Inconnu\",AE23<>\"Surveillance\",AE23<>\"Non requis\"),AE23/COUNTRY_INFO!U23, 0)","v":1},{"$f":"IF(AU23>0,D23*PROFILE!$G$7,IF(AV23>0,J23*PROFILE!$G$7,0))","v":0},{"$f":"_xlfn.IFS(OR(AU23>0,AW23>0),COUNTRY_INFO!E23, AV23>0,J23*PROFILE!$G$8,AX23>0,COUNTRY_INFO!R23,COUNTIFS(AU23:AX23,\">0\")=0,0)","v":85},{"$f":"_xlfn.IFS(OR(AU23>0,AW23>0),COUNTRY_INFO!F23, AV23>0,J23*PROFILE!$G$9,AX23>0,COUNTRY_INFO!S23,COUNTIFS(AU23:AX23,\">0\")=0,0)","v":229},{"$f":"_xlfn.IFS(AU23>0,COUNTRY_INFO!G23, AND(AV23>0,AW23=0,AX23=0),J23*PROFILE!$G$10,AND(AV23>0,AW23>0,AX23=0), MAX(J23*PROFILE!$G$10,COUNTRY_INFO!P23),AND(AV23>0,AW23=0,AX23>0), MAX(J23*PROFILE!$G$10,COUNTRY_INFO!T23),AND(AV23=0,AW23>0,AX23>0), MAX(COUNTRY_INFO!P23,COUNTRY_INFO!T23),AND(AV23=0,AW23>0,AX23=0),COUNTRY_INFO!P23,AND(AV23=0,AW23=0,AX23>0),COUNTRY_INFO!T23,AND(AV23>0,AW23>0,AX23>0), MAX(J23*PROFILE!$G$10,COUNTRY_INFO!P23,COUNTRY_INFO!T23),COUNTIFS(AU23:AX23,\">0\")=0,0)","v":413},727,0,{"$f":"MAX('MDA2'!J23,'MDA5'!J23,S23,AH23)","v":0},{"$f":"MAX('MDA1'!K23,'MDA2'!K23,'MDA3'!I23,'MDA3'!L23,'MDA5'!K23,V23,AK23)","v":0},{"$f":"MAX('MDA1'!L23,'MDA2'!L23,'MDA3'!J23,'MDA3'!M23,'MDA5'!L23,Y23,AN23)","v":0},0,{"$f":"_xlfn.IFS(AND(AU23=0,AW23=0,AX23=0),0,AND(AU23=0,AW23=0,AX23>0),AI23,AND(AU23=0,AW23>0,AX23=0),T23,AND(AU23=0,AW23>0,AX23>0),MAX(T23,AI23),AND(AU23>0,AW23=0,AX23=0),MIN(MAX('MDA2'!J23,'MDA5'!J23),AZ23),AND(AU23>0,AW23=0,AX23>0),MIN(MAX('MDA2'!J23,'MDA5'!J23,AI23),AZ23),AND(AU23>0,AW23>0,AX23=0),MIN(MAX('MDA2'!J23,'MDA5'!J23,T23),AZ23),AND(AU23>0,AW23>0,AX23>0),MIN(MAX('MDA2'!J23,'MDA5'!J23,AI23,T23),AZ23))","v":0},{"$f":"_xlfn.IFS(AND(AU23=0,AV23=0,AW23=0,AX23=0),0,AND(AU23=0,AV23=0,AW23=0,AX23>0),AL23,AND(AU23=0,AV23=0,AW23>0,AX23=0),W23,AND(AU23=0,AV23=0,AW23>0,AX23>0),MAX(W23,AL23),AND(AU23=0,AV23>0,AW23=0,AX23=0),MIN(J23*PROFILE!$G$9,MAX('MDA3'!I23,'MDA3'!L23)),AND(AU23=0,AV23>0,AW23=0,AX23>0),MIN(J23*PROFILE!$G$9,MAX('MDA3'!I23,'MDA3'!L23,AL23)),AND(AU23=0,AV23>0,AW23>0,AX23=0),MIN(J23*PROFILE!$G$9,MAX('MDA3'!I23,'MDA3'!L23,W23)),AND(AU23=0,AV23>0,AW23>0,AX23>0),MIN(J23*PROFILE!$G$9,MAX('MDA3'!I23,'MDA3'!L23,W23,AL23)),AND(AU23>0,AV23=0,AW23=0,AX23=0), MIN(BA23,MAX('MDA1'!K23,'MDA2'!K23,'MDA5'!K23)),AND(AU23>0,AV23=0,AW23=0,AX23>0), MIN(BA23,MAX('MDA1'!K23,'MDA2'!K23,'MDA5'!K23,AL23)),AND(AU23>0,AV23=0,AW23>0,AX23=0),MIN(BA23,MAX('MDA1'!K23,'MDA2'!KL23,'MDA5'!K23,W23)),AND(AU23>0,AV23=0,AW23>0,AX23>0),MIN(BA23,MAX('MDA1'!K23,'MDA2'!K23,'MDA5'!K23,W23,AL23)),AND(AU23>0,AV23>0,AW23=0,AX23=0),MIN(BA23, MAX('MDA1'!K23,'MDA2'!K23, 'MDA5'!K23,MAX('MDA3'!I23,'MDA3'!L23))), AND(AU23>0,AV23>0,AW23=0,AX23>0),MIN(BA23, MAX('MDA1'!K23,'MDA2'!K23, 'MDA5'!K23,MAX('MDA3'!I23,'MDA3'!L23),AL23)), AND(AU23>0,AV23>0,AW23>0,AX23=0), MIN(BA23, MAX('MDA1'!K23,'MDA2'!K23, 'MDA5'!K23,MAX('MDA3'!I23,'MDA3'!L23),W23)), AND(AU23>0,AV23>0,AW23>0,AX23>0), MIN(BA23, MAX('MDA1'!K23,'MDA2'!K23, 'MDA5'!K23,MAX('MDA3'!I23,'MDA3'!L23),W23,AL23)))","v":0},{"$f":"_xlfn.IFS(AND(AU23=0,AV23=0,AW23=0,AX23=0),0,AND(AU23=0,AV23=0,AW23=0,AX23>0),AO23,AND(AU23=0,AV23=0,AW23>0,AX23=0),Z23,AND(AU23=0,AV23=0,AW23>0,AX23>0),MAX(Z23,AO23),AND(AU23=0,AV23>0,AW23=0,AX23=0),MIN(J23*PROFILE!$G$10,MAX('MDA3'!J23,'MDA3'!J23)),AND(AU23=0,AV23>0,AW23=0,AX23>0),MIN(J23*PROFILE!$G$10,MAX('MDA3'!J23,'MDA3'!M23,AO23)),AND(AU23=0,AV23>0,AW23>0,AX23=0),MIN(J23*PROFILE!$G$10,MAX('MDA3'!J23,'MDA3'!M23,Z23)),AND(AU23=0,AV23>0,AW23>0,AX23>0),MIN(J23*PROFILE!$G$10,MAX('MDA3'!J23,'MDA3'!M23,Z23,AO23)),AND(AU23>0,AV23=0,AW23=0,AX23=0), MIN(BB23,MAX('MDA1'!L23,'MDA2'!L23,'MDA5'!L23)),AND(AU23>0,AV23=0,AW23=0,AX23>0), MIN(BB23,MAX('MDA1'!L23,'MDA2'!L23,'MDA5'!L23,AO23)),AND(AU23>0,AV23=0,AW23>0,AX23=0),MIN(BB23,MAX('MDA1'!L23,'MDA2'!L23,'MDA5'!L23,Z23)),AND(AU23>0,AV23=0,AW23>0,AX23>0),MIN(BB23,MAX('MDA1'!L23,'MDA2'!L23,'MDA5'!L23,Z23,AO23)),AND(AU23>0,AV23>0,AW23=0,AX23=0),MIN(BB23, MAX('MDA1'!L23,'MDA2'!L23, 'MDA5'!L23,MAX('MDA3'!J23,'MDA3'!M23))), AND(AU23>0,AV23>0,AW23=0,AX23>0),MIN(BB23, MAX('MDA1'!L23,'MDA2'!L23, 'MDA5'!L23,MAX('MDA3'!J23,'MDA3'!M23),AO23)), AND(AU23>0,AV23>0,AW23>0,AX23=0), MIN(BB23, MAX('MDA1'!L23,'MDA2'!L23, 'MDA5'!L23,MAX('MDA3'!J23,'MDA3'!M23),Z23)), AND(AU23>0,AV23>0,AW23>0,AX23>0), MIN(BB23, MAX('MDA1'!L23,'MDA2'!L23, 'MDA5'!L23,MAX('MDA3'!J23,'MDA3'!M23),Z23,AO23)))","v":0},0,0]
[{"$f":"IF(COUNTRY_INFO!A24=0,\" \",COUNTRY_INFO!A24)","v":"Mali"},{"$f":"IF(COUNTRY_INFO!B24=0,\" \",COUNTRY_INFO!B24)","v":"Kayes"},{"$f":"IF(COUNTRY_INFO!C24=0,\" \",COUNTRY_INFO!C24)","v":"Bafoulabe"},{"$f":"COUNTRY_INFO!L24","v":0},null,null,{"$f":"MAX('MDA1'!M24,'MDA2'!M24,'MDA5'!M24)","v":0},{"$f":"IF(AND(COUNTRY_INFO!H24>0,COUNTRY_INFO!H24<4),IF(D24>G24,G24,D24),0)","v":0},{"$f":"IF(AND(COUNTRY_INFO!H24>0,COUNTRY_INFO!H24<4), IF(G24/D24*100<>0, IF(G24/D24*100>100,100,G24/D24*100), \"-\"),0)","v":0},{"$f":"COUNTRY_INFO!M24","v":206330.42304000002},65694,59984,{"$f":"MAX('MDA1'!M24,MAX('MDA3'!I24,'MDA3'!L24)+MAX('MDA3'!J24,'MDA3'!M24))","v":125678},{"$f":"IF(AND(COUNTRY_INFO!I24>0,COUNTRY_INFO!I24<4),IF(J24>M24,M24,J24),0)","v":125678},{"$f":"IF(AND(COUNTRY_INFO!I24>0,COUNTRY_INFO!I24<4), IF(M24/J24*100<>0, IF(M24/J24*100>100,100,M24/J24*100), \"-\"),0)","v":60.911036844835806},{"$f":"COUNTRY_INFO!Q24","v":"Non requis"},null,null,{"$f":"MAX('MDA2'!J24,'MDA5'!J24,'T1'!K24, MAX(T3_R1!J24,T3_R2!J24,T3_R3!J24))","v":0},{"$f":"IF(AND(COUNTRY_INFO!J24>1,COUNTRY_INFO!J24<99,COUNTRY_INFO!J24<>4,COUNTRY_INFO!J24<>5),IF(COUNTRY_INFO!N24>S24,S24,COUNTRY_INFO!N24),0)","v":0},{"$f":"IF(AND(COUNTRY_INFO!J24>1,COUNTRY_INFO!J24<99,COUNTRY_INFO!J24<>4,COUNTRY_INFO!J24<>5), IF(T24/COUNTRY_INFO!N24*100<>0, IF(T24/COUNTRY_INFO!N24*100>100,100,T24/COUNTRY_INFO!N24*100), \"-\"),0)","v":0},{"$f":"MAX('MDA1'!K24, 'MDA2'!K24, 'MDA5'!K24,'T1'!L24, MAX(T3_R1!K24,T3_R2!K24,T3_R3!K24))","v":0},{"$f":"IF(AND(COUNTRY_INFO!J24>1,COUNTRY_INFO!J24<99,COUNTRY_INFO!J24<>4,COUNTRY_INFO!J24<>5),IF(COUNTRY_INFO!O24>V24,V24,COUNTRY_INFO!O24),0)","v":0},{"$f":"IF(AND(COUNTRY_INFO!J24>1,COUNTRY_INFO!J24<99,COUNTRY_INFO!J24<>4,COUNTRY_INFO!J24<>5), IF(W24/COUNTRY_INFO!O24*100<>0, IF(W24/COUNTRY_INFO!O24*100>100,100,W24/COUNTRY_INFO!O24*100), \"-\"),0)","v":0},{"$f":"MAX('MDA1'!L24, 'MDA2'!L24, 'MDA5'!L24,'T1'!M24, MAX(T3_R1!L24,T3_R2!L24,T3_R3!L24))","v":0},{"$f":"IF(AND(COUNTRY_INFO!J24>1,COUNTRY_INFO!J24<99,COUNTRY_INFO!J24<>4,COUNTRY_INFO!J24<>5),IF(COUNTRY_INFO!P24>Y24,Y24,COUNTRY_INFO!P24),0)","v":0},{"$f":"IF(AND(COUNTRY_INFO!J24>1,COUNTRY_INFO!J24<99,COUNTRY_INFO!J24<>4,COUNTRY_INFO!J24<>5), IF(Z24/COUNTRY_INFO!P24*100<>0, IF(Z24/COUNTRY_INFO!P24*100>100,100,Z24/COUNTRY_INFO!P24*100), \"-\"),0)","v":0},0,0,{"$f":"IF(AND(COUNTRY_INFO!J24>1,COUNTRY_INFO!J24<99,COUNTRY_INFO!J24<>4,COUNTRY_INFO!J24<>5), IF(AC24/P24*100<>0, IF(AC24/P24*100>100,100,AC24/P24*100), \"-\"),0)","v":0},{"$f":"COUNTRY_INFO!U24","v":174223},null,null,{"$f":"MAX('T1'!K24,'T2'!R24)","v":0},{"$f":"IF(AND(COUNTRY_INFO!K24>1,COUNTRY_INFO!K24<99,COUNTRY_INFO!K24<>4,COUNTRY_INFO!K24<>5),IF(COUNTRY_INFO!R24>AH24,AH24,COUNTRY_INFO!R24),0)","v":0},{"$f":"IF(AND(COUNTRY_INFO!K24>1,COUNTRY_INFO!K24<99,COUNTRY_INFO!K24<>4,COUNTRY_INFO!K24<>5), IF(AI24/COUNTRY_INFO!R24*100<>0, IF(AI24/COUNTRY_INFO!R24*100>100,100,AI24/COUNTRY_INFO!R24*100), \"-\"),0)","v":"-"},{"$f":"MAX('T1'!L24,'T2'!S24)","v":14501},{"$f":"IF(AND(COUNTRY_INFO!K24>1,COUNTRY_INFO!K24<99,COUNTRY_INFO!K24<>4,COUNTRY_INFO!K24<>5),IF(COUNTRY_INFO!S24>AK24,AK24,COUNTRY_INFO!S24),0)","v":14501},{"$f":"IF(AND(COUNTRY_INFO!K24>1,COUNTRY_INFO!K24<99,COUNTRY_INFO!K24<>4,COUNTRY_INFO!K24<>5), IF(AL24/COUNTRY_INFO!S24*100<>0, IF(AL24/COUNTRY_INFO!S24*100>100,100,AL24/COUNTRY_INFO!S24*100), \"-\"),0)","v":26.454437653926842},{"$f":"MAX('T1'!M24,'T2'!T24)","v":26464},{"$f":"IF(AND(COUNTRY_INFO!K24>1,COUNTRY_INFO!K24<99,COUNTRY_INFO!K24<>4,COUNTRY_INFO!K24<>5),IF(COUNTRY_INFO!T24>AN24,AN24,COUNTRY_INFO!T24),0)","v":26464},{"$f":"IF(AND(COUNTRY_INFO!K24>1,COUNTRY_INFO!K24<99,COUNTRY_INFO!K24<>4,COUNTRY_INFO!K24<>5), IF(AO24/COUNTRY_INFO!T24*100<>0, IF(AO24/COUNTRY_INFO!T24*100>100,100,AO24/COUNTRY_INFO!T24*100), \"-\"),0)","v":26.716200936843805},40965,40965,{"$f":"IF(AND(COUNTRY_INFO!K24>1,COUNTRY_INFO!K24<99,COUNTRY_INFO!K24<>4,COUNTRY_INFO!K24<>5), IF(AR24/AE24*100<>0, IF(AR24/AE24*100>100,100,AR24/AE24*100), \"-\"),0)","v":23.512969010980182},null,{"$f":"IF(AND(D24<>0, D24<>\"Inconnu\",D24<>\"Interrompu\",D24<>\"Non requis\"),D24/COUNTRY_INFO!D24, 0)","v":0},{"$f":"IF(AND(J24<>0,J24<>\"Inconnu\",J24<>\"Interrompu\",J24<>\"Non requis\"),J24/COUNTRY_INFO!D24, 0)","v":1},{"$f":"IF(AND(P24<>0,P24<>\"Inconnu\",P24<>\"Surveillance\",P24<>\"Non requis\"),P24/COUNTRY_INFO!Q24, 0)","v":0},{"$f":"IF(AND(AE24<>0,AE24<>\"Inconnu\",AE24<>\"Surveillance\",AE24<>\"Non requis\"),AE24/COUNTRY_INFO!U24, 0)","v":1},{"$f":"IF(AU24>0,D24*PROFILE!$G$7,IF(AV24>0,J24*PROFILE!$G$7,0))","v":10316.541703574709},{"$f":"_xlfn.IFS(OR(AU24>0,AW24>0),COUNTRY_INFO!E24, AV24>0,J24*PROFILE!$G$8,AX24>0,COUNTRY_INFO!R24,COUNTIFS(AU24:AX24,\">0\")=0,0)","v":30949.547310722632},{"$f":"_xlfn.IFS(OR(AU24>0,AW24>0),COUNTRY_INFO!F24, AV24>0,J24*PROFILE!$G$9,AX24>0,COUNTRY_INFO!S24,COUNTIFS(AU24:AX24,\">0\")=0,0)","v":58804.164400927591},{"$f":"_xlfn.IFS(AU24>0,COUNTRY_INFO!G24, AND(AV24>0,AW24=0,AX24=0),J24*PROFILE!$G$10,AND(AV24>0,AW24>0,AX24=0), MAX(J24*PROFILE!$G$10,COUNTRY_INFO!P24),AND(AV24>0,AW24=0,AX24>0), MAX(J24*PROFILE!$G$10,COUNTRY_INFO!T24),AND(AV24=0,AW24>0,AX24>0), MAX(COUNTRY_INFO!P24,COUNTRY_INFO!T24),AND(AV24=0,AW24>0,AX24=0),COUNTRY_INFO!P24,AND(AV24=0,AW24=0,AX24>0),COUNTRY_INFO!T24,AND(AV24>0,AW24>0,AX24>0), MAX(J24*PROFILE!$G$10,COUNTRY_INFO!P24,COUNTRY_INFO!T24),COUNTIFS(AU24:AX24,\">0\")=0,0)","v":106260.16962477508},206330.42304000002,"Y",{"$f":"MAX('MDA2'!J24,'MDA5'!J24,S24,AH24)","v":0},{"$f":"MAX('MDA1'!K24,'MDA2'!K24,'MDA3'!I24,'MDA3'!L24,'MDA5'!K24,V24,AK24)","v":50133},{"$f":"MAX('MDA1'!L24,'MDA2'!L24,'MDA3'!J24,'MDA3'!M24,'MDA5'!L24,Y24,AN24)","v":75545},125678,{"$f":"_xlfn.IFS(AND(AU24=0,AW24=0,AX24=0),0,AND(AU24=0,AW24=0,AX24>0),AI24,AND(AU24=0,AW24>0,AX24=0),T24,AND(AU24=0,AW24>0,AX24>0),MAX(T24,AI24),AND(AU24>0,AW24=0,AX24=0),MIN(MAX('MDA2'!J24,'MDA5'!J24),AZ24),AND(AU24>0,AW24=0,AX24>0),MIN(MAX('MDA2'!J24,'MDA5'!J24,AI24),AZ24),AND(AU24>0,AW24>0,AX24=0),MIN(MAX('MDA2'!J24,'MDA5'!J24,T24),AZ24),AND(AU24>0,AW24>0,AX24>0),MIN(MAX('MDA2'!J24,'MDA5'!J24,AI24,T24),AZ24))","v":0},{"$f":"_xlfn.IFS(AND(AU24=0,AV24=0,AW24=0,AX24=0),0,AND(AU24=0,AV24=0,AW24=0,AX24>0),AL24,AND(AU24=0,AV24=0,AW24>0,AX24=0),W24,AND(AU24=0,AV24=0,AW24>0,AX24>0),MAX(W24,AL24),AND(AU24=0,AV24>0,AW24=0,AX24=0),MIN(J24*PROFILE!$G$9,MAX('MDA3'!I24,'MDA3'!L24)),AND(AU24=0,AV24>0,AW24=0,AX24>0),MIN(J24*PROFILE!$G$9,MAX('MDA3'!I24,'MDA3'!L24,AL24)),AND(AU24=0,AV24>0,AW24>0,AX24=0),MIN(J24*PROFILE!$G$9,MAX('MDA3'!I24,'MDA3'!L24,W24)),AND(AU24=0,AV24>0,AW24>0,AX24>0),MIN(J24*PROFILE!$G$9,MAX('MDA3'!I24,'MDA3'!L24,W24,AL24)),AND(AU24>0,AV24=0,AW24=0,AX24=0), MIN(BA24,MAX('MDA1'!K24,'MDA2'!K24,'MDA5'!K24)),AND(AU24>0,AV24=0,AW24=0,AX24>0), MIN(BA24,MAX('MDA1'!K24,'MDA2'!K24,'MDA5'!K24,AL24)),AND(AU24>0,AV24=0,AW24>0,AX24=0),MIN(BA24,MAX('MDA1'!K24,'MDA2'!KL24,'MDA5'!K24,W24)),AND(AU24>0,AV24=0,AW24>0,AX24>0),MIN(BA24,MAX('MDA1'!K24,'MDA2'!K24,'MDA5'!K24,W24,AL24)),AND(AU24>0,AV24>0,AW24=0,AX24=0),MIN(BA24, MAX('MDA1'!K24,'MDA2'!K24, 'MDA5'!K24,MAX('MDA3'!I24,'MDA3'!L24))), AND(AU24>0,AV24>0,AW24=0,AX24>0),MIN(BA24, MAX('MDA1'!K24,'MDA2'!K24, 'MDA5'!K24,MAX('MDA3'!I24,'MDA3'!L24),AL24)), AND(AU24>0,AV24>0,AW24>0,AX24=0), MIN(BA24, MAX('MDA1'!K24,'MDA2'!K24, 'MDA5'!K24,MAX('MDA3'!I24,'MDA3'!L24),W24)), AND(AU24>0,AV24>0,AW24>0,AX24>0), MIN(BA24, MAX('MDA1'!K24,'MDA2'!K24, 'MDA5'!K24,MAX('MDA3'!I24,'MDA3'!L24),W24,AL24)))","v":50133},{"$f":"_xlfn.IFS(AND(AU24=0,AV24=0,AW24=0,AX24=0),0,AND(AU24=0,AV24=0,AW24=0,AX24>0),AO24,AND(AU24=0,AV24=0,AW24>0,AX24=0),Z24,AND(AU24=0,AV24=0,AW24>0,AX24>0),MAX(Z24,AO24),AND(AU24=0,AV24>0,AW24=0,AX24=0),MIN(J24*PROFILE!$G$10,MAX('MDA3'!J24,'MDA3'!J24)),AND(AU24=0,AV24>0,AW24=0,AX24>0),MIN(J24*PROFILE!$G$10,MAX('MDA3'!J24,'MDA3'!M24,AO24)),AND(AU24=0,AV24>0,AW24>0,AX24=0),MIN(J24*PROFILE!$G$10,MAX('MDA3'!J24,'MDA3'!M24,Z24)),AND(AU24=0,AV24>0,AW24>0,AX24>0),MIN(J24*PROFILE!$G$10,MAX('MDA3'!J24,'MDA3'!M24,Z24,AO24)),AND(AU24>0,AV24=0,AW24=0,AX24=0), MIN(BB24,MAX('MDA1'!L24,'MDA2'!L24,'MDA5'!L24)),AND(AU24>0,AV24=0,AW24=0,AX24>0), MIN(BB24,MAX('MDA1'!L24,'MDA2'!L24,'MDA5'!L24,AO24)),AND(AU24>0,AV24=0,AW24>0,AX24=0),MIN(BB24,MAX('MDA1'!L24,'MDA2'!L24,'MDA5'!L24,Z24)),AND(AU24>0,AV24=0,AW24>0,AX24>0),MIN(BB24,MAX('MDA1'!L24,'MDA2'!L24,'MDA5'!L24,Z24,AO24)),AND(AU24>0,AV24>0,AW24=0,AX24=0),MIN(BB24, MAX('MDA1'!L24,'MDA2'!L24, 'MDA5'!L24,MAX('MDA3'!J24,'MDA3'!M24))), AND(AU24>0,AV24>0,AW24=0,AX24>0),MIN(BB24, MAX('MDA1'!L24,'MDA2'!L24, 'MDA5'!L24,MAX('MDA3'!J24,'MDA3'!M24),AO24)), AND(AU24>0,AV24>0,AW24>0,AX24=0), MIN(BB24, MAX('MDA1'!L24,'MDA2'!L24, 'MDA5'!L24,MAX('MDA3'!J24,'MDA3'!M24),Z24)), AND(AU24>0,AV24>0,AW24>0,AX24>0), MIN(BB24, MAX('MDA1'!L24,'MDA2'!L24, 'MDA5'!L24,MAX('MDA3'!J24,'MDA3'!M24),Z24,AO24)))","v":75545},125678,60.911036844835806]
[{"$f":"IF(COUNTRY_INFO!A25=0,\" \",COUNTRY_INFO!A25)","v":"Mali"},{"$f":"IF(COUNTRY_INFO!B25=0,\" \",COUNTRY_INFO!B25)","v":"Kayes"},{"$f":"IF(COUNTRY_INFO!C25=0,\" \",COUNTRY_INFO!C25)","v":"Diema"},{"$f":"COUNTRY_INFO!L25","v":0},null,null,{"$f":"MAX('MDA1'!M25,'MDA2'!M25,'MDA5'!M25)","v":0},{"$f":"IF(AND(COUNTRY_INFO!H25>0,COUNTRY_INFO!H25<4),IF(D25>G25,G25,D25),0)","v":0},{"$f":"IF(AND(COUNTRY_INFO!H25>0,COUNTRY_INFO!H25<4), IF(G25/D25*100<>0, IF(G25/D25*100>100,100,G25/D25*100), \"-\"),0)","v":0},{"$f":"COUNTRY_INFO!M25","v":0},null,null,{"$f":"MAX('MDA1'!M25,MAX('MDA3'!I25,'MDA3'!L25)+MAX('MDA3'!J25,'MDA3'!M25))","v":0},{"$f":"IF(AND(COUNTRY_INFO!I25>0,COUNTRY_INFO!I25<4),IF(J25>M25,M25,J25),0)","v":0},{"$f":"IF(AND(COUNTRY_INFO!I25>0,COUNTRY_INFO!I25<4), IF(M25/J25*100<>0, IF(M25/J25*100>100,100,M25/J25*100), \"-\"),0)","v":0},{"$f":"COUNTRY_INFO!Q25","v":"Non requis"},null,null,{"$f":"MAX('MDA2'!J25,'MDA5'!J25,'T1'!K25, MAX(T3_R1!J25,T3_R2!J25,T3_R3!J25))","v":0},{"$f":"IF(AND(COUNTRY_INFO!J25>1,COUNTRY_INFO!J25<99,COUNTRY_INFO!J25<>4,COUNTRY_INFO!J25<>5),IF(COUNTRY_INFO!N25>S25,S25,COUNTRY_INFO!N25),0)","v":0},{"$f":"IF(AND(COUNTRY_INFO!J25>1,COUNTRY_INFO!J25<99,COUNTRY_INFO!J25<>4,COUNTRY_INFO!J25<>5), IF(T25/COUNTRY_INFO!N25*100<>0, IF(T25/COUNTRY_INFO!N25*100>100,100,T25/COUNTRY_INFO!N25*100), \"-\"),0)","v":0},{"$f":"MAX('MDA1'!K25, 'MDA2'!K25, 'MDA5'!K25,'T1'!L25, MAX(T3_R1!K25,T3_R2!K25,T3_R3!K25))","v":0},{"$f":"IF(AND(COUNTRY_INFO!J25>1,COUNTRY_INFO!J25<99,COUNTRY_INFO!J25<>4,COUNTRY_INFO!J25<>5),IF(COUNTRY_INFO!O25>V25,V25,COUNTRY_INFO!O25),0)","v":0},{"$f":"IF(AND(COUNTRY_INFO!J25>1,COUNTRY_INFO!J25<99,COUNTRY_INFO!J25<>4,COUNTRY_INFO!J25<>5), IF(W25/COUNTRY_INFO!O25*100<>0, IF(W25/COUNTRY_INFO!O25*100>100,100,W25/COUNTRY_INFO!O25*100), \"-\"),0)","v":0},{"$f":"MAX('MDA1'!L25, 'MDA2'!L25, 'MDA5'!L25,'T1'!M25, MAX(T3_R1!L25,T3_R2!L25,T3_R3!L25))","v":0},{"$f":"IF(AND(COUNTRY_INFO!J25>1,COUNTRY_INFO!J25<99,COUNTRY_INFO!J25<>4,COUNTRY_INFO!J25<>5),IF(COUNTRY_INFO!P25>Y25,Y25,COUNTRY_INFO!P25),0)","v":0},{"$f":"IF(AND(COUNTRY_INFO!J25>1,COUNTRY_INFO!J25<99,COUNTRY_INFO!J25<>4,COUNTRY_INFO!J25<>5), IF(Z25/COUNTRY_INFO!P25*100<>0, IF(Z25/COUNTRY_INFO!P25*100>100,100,Z25/COUNTRY_INFO!P25*100), \"-\"),0)","v":0},0,0,{"$f":"IF(AND(COUNTRY_INFO!J25>1,COUNTRY_INFO!J25<99,COUNTRY_INFO!J25<>4,COUNTRY_INFO!J25<>5), IF(AC25/P25*100<>0, IF(AC25/P25*100>100,100,AC25/P25*100), \"-\"),0)","v":0},{"$f":"COUNTRY_INFO!U25","v":309231},null,null,{"$f":"MAX('T1'!K25,'T2'!R25)","v":0},{"$f":"IF(AND(COUNTRY_INFO!K25>1,COUNTRY_INFO!K25<99,COUNTRY_INFO!K25<>4,COUNTRY_INFO!K25<>5),IF(COUNTRY_INFO!R25>AH25,AH25,COUNTRY_INFO!R25),0)","v":0},{"$f":"IF(AND(COUNTRY_INFO!K25>1,COUNTRY_INFO!K25<99,COUNTRY_INFO!K25<>4,COUNTRY_INFO!K25<>5), IF(AI25/COUNTRY_INFO!R25*100<>0, IF(AI25/COUNTRY_INFO!R25*100>100,100,AI25/COUNTRY_INFO!R25*100), \"-\"),0)","v":"-"},{"$f":"MAX('T1'!L25,'T2'!S25)","v":3939},{"$f":"IF(AND(COUNTRY_INFO!K25>1,COUNTRY_INFO!K25<99,COUNTRY_INFO!K25<>4,COUNTRY_INFO!K25<>5),IF(COUNTRY_INFO!S25>AK25,AK25,COUNTRY_INFO!S25),0)","v":3939},{"$f":"IF(AND(COUNTRY_INFO!K25>1,COUNTRY_INFO!K25<99,COUNTRY_INFO!K25<>4,COUNTRY_INFO!K25<>5), IF(AL25/COUNTRY_INFO!S25*100<>0, IF(AL25/COUNTRY_INFO!S25*100>100,100,AL25/COUNTRY_INFO!S25*100), \"-\"),0)","v":4.0485122565393903},{"$f":"MAX('T1'!M25,'T2'!T25)","v":0},{"$f":"IF(AND(COUNTRY_INFO!K25>1,COUNTRY_INFO!K25<99,COUNTRY_INFO!K25<>4,COUNTRY_INFO!K25<>5),IF(COUNTRY_INFO!T25>AN25,AN25,COUNTRY_INFO!T25),0)","v":0},{"$f":"IF(AND(COUNTRY_INFO!K25>1,COUNTRY_INFO!K25<99,COUNTRY_INFO!K25<>4,COUNTRY_INFO!K25<>5), IF(AO25/COUNTRY_INFO!T25*100<>0, IF(AO25/COUNTRY_INFO!T25*100>100,100,AO25/COUNTRY_INFO!T25*100), \"-\"),0)","v":"-"},3939,3939,{"$f":"IF(AND(COUNTRY_INFO!K25>1,COUNTRY_INFO!K25<99,COUNTRY_INFO!K25<>4,COUNTRY_INFO!K25<>5), IF(AR25/AE25*100<>0, IF(AR25/AE25*100>100,100,AR25/AE25*100), \"-\"),0)","v":1.2738050195484929},null,{"$f":"IF(AND(D25<>0, D25<>\"Inconnu\",D25<>\"Interrompu\",D25<>\"Non requis\"),D25/COUNTRY_INFO!D25, 0)","v":0},{"$f":"IF(AND(J25<>0,J25<>\"Inconnu\",J25<>\"Interrompu\",J25<>\"Non requis\"),J25/COUNTRY_INFO!D25, 0)","v":0},{"$f":"IF(AND(P25<>0,P25<>\"Inconnu\",P25<>\"Surveillance\",P25<>\"Non requis\"),P25/COUNTRY_INFO!Q25, 0)","v":0},{"$f":"IF(AND(AE25<>0,AE25<>\"Inconnu\",AE25<>\"Surveillance\",AE25<>\"Non requis\"),AE25/COUNTRY_INFO!U25, 0)","v":1},{"$f":"IF(AU25>0,D25*PROFILE!$G$7,IF(AV25>0,J25*PROFILE!$G$7,0))","v":0},{"$f":"_xlfn.IFS(OR(AU25>0,AW25>0),COUNTRY_INFO!E25, AV25>0,J25*PROFILE!$G$8,AX25>0,COUNTRY_INFO!R25,COUNTIFS(AU25:AX25,\">0\")=0,0)","v":36120},{"$f":"_xlfn.IFS(OR(AU25>0,AW25>0),COUNTRY_INFO!F25, AV25>0,J25*PROFILE!$G$9,AX25>0,COUNTRY_INFO!S25,COUNTIFS(AU25:AX25,\">0\")=0,0)","v":97295},{"$f":"_xlfn.IFS(AU25>0,COUNTRY_INFO!G25, AND(AV25>0,AW25=0,AX25=0),J25*PROFILE!$G$10,AND(AV25>0,AW25>0,AX25=0), MAX(J25*PROFILE!$G$10,COUNTRY_INFO!P25),AND(AV25>0,AW25=0,AX25>0), MAX(J25*PROFILE!$G$10,COUNTRY_INFO!T25),AND(AV25=0,AW25>0,AX25>0), MAX(COUNTRY_INFO!P25,COUNTRY_INFO!T25),AND(AV25=0,AW25>0,AX25=0),COUNTRY_INFO!P25,AND(AV25=0,AW25=0,AX25>0),COUNTRY_INFO!T25,AND(AV25>0,AW25>0,AX25>0), MAX(J25*PROFILE!$G$10,COUNTRY_INFO!P25,COUNTRY_INFO!T25),COUNTIFS(AU25:AX25,\">0\")=0,0)","v":175816},309231,"Y",{"$f":"MAX('MDA2'!J25,'MDA5'!J25,S25,AH25)","v":0},{"$f":"MAX('MDA1'!K25,'MDA2'!K25,'MDA3'!I25,'MDA3'!L25,'MDA5'!K25,V25,AK25)","v":3939},{"$f":"MAX('MDA1'!L25,'MDA2'!L25,'MDA3'!J25,'MDA3'!M25,'MDA5'!L25,Y25,AN25)","v":0},3939,{"$f":"_xlfn.IFS(AND(AU25=0,AW25=0,AX25=0),0,AND(AU25=0,AW25=0,AX25>0),AI25,AND(AU25=0,AW25>0,AX25=0),T25,AND(AU25=0,AW25>0,AX25>0),MAX(T25,AI25),AND(AU25>0,AW25=0,AX25=0),MIN(MAX('MDA2'!J25,'MDA5'!J25),AZ25),AND(AU25>0,AW25=0,AX25>0),MIN(MAX('MDA2'!J25,'MDA5'!J25,AI25),AZ25),AND(AU25>0,AW25>0,AX25=0),MIN(MAX('MDA2'!J25,'MDA5'!J25,T25),AZ25),AND(AU25>0,AW25>0,AX25>0),MIN(MAX('MDA2'!J25,'MDA5'!J25,AI25,T25),AZ25))","v":0},{"$f":"_xlfn.IFS(AND(AU25=0,AV25=0,AW25=0,AX25=0),0,AND(AU25=0,AV25=0,AW25=0,AX25>0),AL25,AND(AU25=0,AV25=0,AW25>0,AX25=0),W25,AND(AU25=0,AV25=0,AW25>0,AX25>0),MAX(W25,AL25),AND(AU25=0,AV25>0,AW25=0,AX25=0),MIN(J25*PROFILE!$G$9,MAX('MDA3'!I25,'MDA3'!L25)),AND(AU25=0,AV25>0,AW25=0,AX25>0),MIN(J25*PROFILE!$G$9,MAX('MDA3'!I25,'MDA3'!L25,AL25)),AND(AU25=0,AV25>0,AW25>0,AX25=0),MIN(J25*PROFILE!$G$9,MAX('MDA3'!I25,'MDA3'!L25,W25)),AND(AU25=0,AV25>0,AW25>0,AX25>0),MIN(J25*PROFILE!$G$9,MAX('MDA3'!I25,'MDA3'!L25,W25,AL25)),AND(AU25>0,AV25=0,AW25=0,AX25=0), MIN(BA25,MAX('MDA1'!K25,'MDA2'!K25,'MDA5'!K25)),AND(AU25>0,AV25=0,AW25=0,AX25>0), MIN(BA25,MAX('MDA1'!K25,'MDA2'!K25,'MDA5'!K25,AL25)),AND(AU25>0,AV25=0,AW25>0,AX25=0),MIN(BA25,MAX('MDA1'!K25,'MDA2'!KL25,'MDA5'!K25,W25)),AND(AU25>0,AV25=0,AW25>0,AX25>0),MIN(BA25,MAX('MDA1'!K25,'MDA2'!K25,'MDA5'!K25,W25,AL25)),AND(AU25>0,AV25>0,AW25=0,AX25=0),MIN(BA25, MAX('MDA1'!K25,'MDA2'!K25, 'MDA5'!K25,MAX('MDA3'!I25,'MDA3'!L25))), AND(AU25>0,AV25>0,AW25=0,AX25>0),MIN(BA25, MAX('MDA1'!K25,'MDA2'!K25, 'MDA5'!K25,MAX('MDA3'!I25,'MDA3'!L25),AL25)), AND(AU25>0,AV25>0,AW25>0,AX25=0), MIN(BA25, MAX('MDA1'!K25,'MDA2'!K25, 'MDA5'!K25,MAX('MDA3'!I25,'MDA3'!L25),W25)), AND(AU25>0,AV25>0,AW25>0,AX25>0), MIN(BA25, MAX('MDA1'!K25,'MDA2'!K25, 'MDA5'!K25,MAX('MDA3'!I25,'MDA3'!L25),W25,AL25)))","v":3939},{"$f":"_xlfn.IFS(AND(AU25=0,AV25=0,AW25=0,AX25=0),0,AND(AU25=0,AV25=0,AW25=0,AX25>0),AO25,AND(AU25=0,AV25=0,AW25>0,AX25=0),Z25,AND(AU25=0,AV25=0,AW25>0,AX25>0),MAX(Z25,AO25),AND(AU25=0,AV25>0,AW25=0,AX25=0),MIN(J25*PROFILE!$G$10,MAX('MDA3'!J25,'MDA3'!J25)),AND(AU25=0,AV25>0,AW25=0,AX25>0),MIN(J25*PROFILE!$G$10,MAX('MDA3'!J25,'MDA3'!M25,AO25)),AND(AU25=0,AV25>0,AW25>0,AX25=0),MIN(J25*PROFILE!$G$10,MAX('MDA3'!J25,'MDA3'!M25,Z25)),AND(AU25=0,AV25>0,AW25>0,AX25>0),MIN(J25*PROFILE!$G$10,MAX('MDA3'!J25,'MDA3'!M25,Z25,AO25)),AND(AU25>0,AV25=0,AW25=0,AX25=0), MIN(BB25,MAX('MDA1'!L25,'MDA2'!L25,'MDA5'!L25)),AND(AU25>0,AV25=0,AW25=0,AX25>0), MIN(BB25,MAX('MDA1'!L25,'MDA2'!L25,'MDA5'!L25,AO25)),AND(AU25>0,AV25=0,AW25>0,AX25=0),MIN(BB25,MAX('MDA1'!L25,'MDA2'!L25,'MDA5'!L25,Z25)),AND(AU25>0,AV25=0,AW25>0,AX25>0),MIN(BB25,MAX('MDA1'!L25,'MDA2'!L25,'MDA5'!L25,Z25,AO25)),AND(AU25>0,AV25>0,AW25=0,AX25=0),MIN(BB25, MAX('MDA1'!L25,'MDA2'!L25, 'MDA5'!L25,MAX('MDA3'!J25,'MDA3'!M25))), AND(AU25>0,AV25>0,AW25=0,AX25>0),MIN(BB25, MAX('MDA1'!L25,'MDA2'!L25, 'MDA5'!L25,MAX('MDA3'!J25,'MDA3'!M25),AO25)), AND(AU25>0,AV25>0,AW25>0,AX25=0), MIN(BB25, MAX('MDA1'!L25,'MDA2'!L25, 'MDA5'!L25,MAX('MDA3'!J25,'MDA3'!M25),Z25)), AND(AU25>0,AV25>0,AW25>0,AX25>0), MIN(BB25, MAX('MDA1'!L25,'MDA2'!L25, 'MDA5'!L25,MAX('MDA3'!J25,'MDA3'!M25),Z25,AO25)))","v":0},3939,1.2738050195484929]
[{"$f":"IF(COUNTRY_INFO!A26=0,\" \",COUNTRY_INFO!A26)","v":"Mali"},{"$f":"IF(COUNTRY_INFO!B26=0,\" \",COUNTRY_INFO!B26)","v":"Kayes"},{"$f":"IF(COUNTRY_INFO!C26=0,\" \",COUNTRY_INFO!C26)","v":"Kayes"},{"$f":"COUNTRY_INFO!L26","v":0},null,null,{"$f":"MAX('MDA1'!M26,'MDA2'!M26,'MDA5'!M26)","v":0},{"$f":"IF(AND(COUNTRY_INFO!H26>0,COUNTRY_INFO!H26<4),IF(D26>G26,G26,D26),0)","v":0},{"$f":"IF(AND(COUNTRY_INFO!H26>0,COUNTRY_INFO!H26<4), IF(G26/D26*100<>0, IF(G26/D26*100>100,100,G26/D26*100), \"-\"),0)","v":0},{"$f":"COUNTRY_INFO!M26","v":823273.84339199995},296432,282291,{"$f":"MAX('MDA1'!M26,MAX('MDA3'!I26,'MDA3'!L26)+MAX('MDA3'!J26,'MDA3'!M26))","v":578723},{"$f":"IF(AND(COUNTRY_INFO!I26>0,COUNTRY_INFO!I26<4),IF(J26>M26,M26,J26),0)","v":578723},{"$f":"IF(AND(COUNTRY_INFO!I26>0,COUNTRY_INFO!I26<4), IF(M26/J26*100<>0, IF(M26/J26*100>100,100,M26/J26*100), \"-\"),0)","v":70.295322102738339},{"$f":"COUNTRY_INFO!Q26","v":"Non requis"},null,null,{"$f":"MAX('MDA2'!J26,'MDA5'!J26,'T1'!K26, MAX(T3_R1!J26,T3_R2!J26,T3_R3!J26))","v":0},{"$f":"IF(AND(COUNTRY_INFO!J26>1,COUNTRY_INFO!J26<99,COUNTRY_INFO!J26<>4,COUNTRY_INFO!J26<>5),IF(COUNTRY_INFO!N26>S26,S26,COUNTRY_INFO!N26),0)","v":0},{"$f":"IF(AND(COUNTRY_INFO!J26>1,COUNTRY_INFO!J26<99,COUNTRY_INFO!J26<>4,COUNTRY_INFO!J26<>5), IF(T26/COUNTRY_INFO!N26*100<>0, IF(T26/COUNTRY_INFO!N26*100>100,100,T26/COUNTRY_INFO!N26*100), \"-\"),0)","v":0},{"$f":"MAX('MDA1'!K26, 'MDA2'!K26, 'MDA5'!K26,'T1'!L26, MAX(T3_R1!K26,T3_R2!K26,T3_R3!K26))","v":0},{"$f":"IF(AND(COUNTRY_INFO!J26>1,COUNTRY_INFO!J26<99,COUNTRY_INFO!J26<>4,COUNTRY_INFO!J26<>5),IF(COUNTRY_INFO!O26>V26,V26,COUNTRY_INFO!O26),0)","v":0},{"$f":"IF(AND(COUNTRY_INFO!J26>1,COUNTRY_INFO!J26<99,COUNTRY_INFO!J26<>4,COUNTRY_INFO!J26<>5), IF(W26/COUNTRY_INFO!O26*100<>0, IF(W26/COUNTRY_INFO!O26*100>100,100,W26/COUNTRY_INFO!O26*100), \"-\"),0)","v":0},{"$f":"MAX('MDA1'!L26, 'MDA2'!L26, 'MDA5'!L26,'T1'!M26, MAX(T3_R1!L26,T3_R2!L26,T3_R3!L26))","v":0},{"$f":"IF(AND(COUNTRY_INFO!J26>1,COUNTRY_INFO!J26<99,COUNTRY_INFO!J26<>4,COUNTRY_INFO!J26<>5),IF(COUNTRY_INFO!P26>Y26,Y26,COUNTRY_INFO!P26),0)","v":0},{"$f":"IF(AND(COUNTRY_INFO!J26>1,COUNTRY_INFO!J26<99,COUNTRY_INFO!J26<>4,COUNTRY_INFO!J26<>5), IF(Z26/COUNTRY_INFO!P26*100<>0, IF(Z26/COUNTRY_INFO!P26*100>100,100,Z26/COUNTRY_INFO!P26*100), \"-\"),0)","v":0},0,0,{"$f":"IF(AND(COUNTRY_INFO!J26>1,COUNTRY_INFO!J26<99,COUNTRY_INFO!J26<>4,COUNTRY_INFO!J26<>5), IF(AC26/P26*100<>0, IF(AC26/P26*100>100,100,AC26/P26*100), \"-\"),0)","v":0},{"$f":"COUNTRY_INFO!U26","v":577210},null,null,{"$f":"MAX('T1'!K26,'T2'!R26)","v":0},{"$f":"IF(AND(COUNTRY_INFO!K26>1,COUNTRY_INFO!K26<99,COUNTRY_INFO!K26<>4,COUNTRY_INFO!K26<>5),IF(COUNTRY_INFO!R26>AH26,AH26,COUNTRY_INFO!R26),0)","v":0},{"$f":"IF(AND(COUNTRY_INFO!K26>1,COUNTRY_INFO!K26<99,COUNTRY_INFO!K26<>4,COUNTRY_INFO!K26<>5), IF(AI26/COUNTRY_INFO!R26*100<>0, IF(AI26/COUNTRY_INFO!R26*100>100,100,AI26/COUNTRY_INFO!R26*100), \"-\"),0)","v":"-"},{"$f":"MAX('T1'!L26,'T2'!S26)","v":86063},{"$f":"IF(AND(COUNTRY_INFO!K26>1,COUNTRY_INFO!K26<99,COUNTRY_INFO!K26<>4,COUNTRY_INFO!K26<>5),IF(COUNTRY_INFO!S26>AK26,AK26,COUNTRY_INFO!S26),0)","v":86063},{"$f":"IF(AND(COUNTRY_INFO!K26>1,COUNTRY_INFO!K26<99,COUNTRY_INFO!K26<>4,COUNTRY_INFO!K26<>5), IF(AL26/COUNTRY_INFO!S26*100<>0, IF(AL26/COUNTRY_INFO!S26*100>100,100,AL26/COUNTRY_INFO!S26*100), \"-\"),0)","v":47.388649365952503},{"$f":"MAX('T1'!M26,'T2'!T26)","v":0},{"$f":"IF(AND(COUNTRY_INFO!K26>1,COUNTRY_INFO!K26<99,COUNTRY_INFO!K26<>4,COUNTRY_INFO!K26<>5),IF(COUNTRY_INFO!T26>AN26,AN26,COUNTRY_INFO!T26),0)","v":0},{"$f":"IF(AND(COUNTRY_INFO!K26>1,COUNTRY_INFO!K26<99,COUNTRY_INFO!K26<>4,COUNTRY_INFO!K26<>5), IF(AO26/COUNTRY_INFO!T26*100<>0, IF(AO26/COUNTRY_INFO!T26*100>100,100,AO26/COUNTRY_INFO!T26*100), \"-\"),0)","v":"-"},86063,86063,{"$f":"IF(AND(COUNTRY_INFO!K26>1,COUNTRY_INFO!K26<99,COUNTRY_INFO!K26<>4,COUNTRY_INFO!K26<>5), IF(AR26/AE26*100<>0, IF(AR26/AE26*100>100,100,AR26/AE26*100), \"-\"),0)","v":14.910171341452852},null,{"$f":"IF(AND(D26<>0, D26<>\"Inconnu\",D26<>\"Interrompu\",D26<>\"Non requis\"),D26/COUNTRY_INFO!D26, 0)","v":0},{"$f":"IF(AND(J26<>0,J26<>\"Inconnu\",J26<>\"Interrompu\",J26<>\"Non requis\"),J26/COUNTRY_INFO!D26, 0)","v":1},{"$f":"IF(AND(P26<>0,P26<>\"Inconnu\",P26<>\"Surveillance\",P26<>\"Non requis\"),P26/COUNTRY_INFO!Q26, 0)","v":0},{"$f":"IF(AND(AE26<>0,AE26<>\"Inconnu\",AE26<>\"Surveillance\",AE26<>\"Non requis\"),AE26/COUNTRY_INFO!U26, 0)","v":1},{"$f":"IF(AU26>0,D26*PROFILE!$G$7,IF(AV26>0,J26*PROFILE!$G$7,0))","v":41163.774171922523},{"$f":"_xlfn.IFS(OR(AU26>0,AW26>0),COUNTRY_INFO!E26, AV26>0,J26*PROFILE!$G$8,AX26>0,COUNTRY_INFO!R26,COUNTIFS(AU26:AX26,\">0\")=0,0)","v":123491.01208793389},{"$f":"_xlfn.IFS(OR(AU26>0,AW26>0),COUNTRY_INFO!F26, AV26>0,J26*PROFILE!$G$9,AX26>0,COUNTRY_INFO!S26,COUNTIFS(AU26:AX26,\">0\")=0,0)","v":234633.02076602323},{"$f":"_xlfn.IFS(AU26>0,COUNTRY_INFO!G26, AND(AV26>0,AW26=0,AX26=0),J26*PROFILE!$G$10,AND(AV26>0,AW26>0,AX26=0), MAX(J26*PROFILE!$G$10,COUNTRY_INFO!P26),AND(AV26>0,AW26=0,AX26>0), MAX(J26*PROFILE!$G$10,COUNTRY_INFO!T26),AND(AV26=0,AW26>0,AX26>0), MAX(COUNTRY_INFO!P26,COUNTRY_INFO!T26),AND(AV26=0,AW26>0,AX26=0),COUNTRY_INFO!P26,AND(AV26=0,AW26=0,AX26>0),COUNTRY_INFO!T26,AND(AV26>0,AW26>0,AX26>0), MAX(J26*PROFILE!$G$10,COUNTRY_INFO!P26,COUNTRY_INFO!T26),COUNTIFS(AU26:AX26,\">0\")=0,0)","v":423986.03636612027},823273.84339199984,"Y",{"$f":"MAX('MDA2'!J26,'MDA5'!J26,S26,AH26)","v":0},{"$f":"MAX('MDA1'!K26,'MDA2'!K26,'MDA3'!I26,'MDA3'!L26,'MDA5'!K26,V26,AK26)","v":200998},{"$f":"MAX('MDA1'!L26,'MDA2'!L26,'MDA3'!J26,'MDA3'!M26,'MDA5'!L26,Y26,AN26)","v":377725},578723,{"$f":"_xlfn.IFS(AND(AU26=0,AW26=0,AX26=0),0,AND(AU26=0,AW26=0,AX26>0),AI26,AND(AU26=0,AW26>0,AX26=0),T26,AND(AU26=0,AW26>0,AX26>0),MAX(T26,AI26),AND(AU26>0,AW26=0,AX26=0),MIN(MAX('MDA2'!J26,'MDA5'!J26),AZ26),AND(AU26>0,AW26=0,AX26>0),MIN(MAX('MDA2'!J26,'MDA5'!J26,AI26),AZ26),AND(AU26>0,AW26>0,AX26=0),MIN(MAX('MDA2'!J26,'MDA5'!J26,T26),AZ26),AND(AU26>0,AW26>0,AX26>0),MIN(MAX('MDA2'!J26,'MDA5'!J26,AI26,T26),AZ26))","v":0},{"$f":"_xlfn.IFS(AND(AU26=0,AV26=0,AW26=0,AX26=0),0,AND(AU26=0,AV26=0,AW26=0,AX26>0),AL26,AND(AU26=0,AV26=0,AW26>0,AX26=0),W26,AND(AU26=0,AV26=0,AW26>0,AX26>0),MAX(W26,AL26),AND(AU26=0,AV26>0,AW26=0,AX26=0),MIN(J26*PROFILE!$G$9,MAX('MDA3'!I26,'MDA3'!L26)),AND(AU26=0,AV26>0,AW26=0,AX26>0),MIN(J26*PROFILE!$G$9,MAX('MDA3'!I26,'MDA3'!L26,AL26)),AND(AU26=0,AV26>0,AW26>0,AX26=0),MIN(J26*PROFILE!$G$9,MAX('MDA3'!I26,'MDA3'!L26,W26)),AND(AU26=0,AV26>0,AW26>0,AX26>0),MIN(J26*PROFILE!$G$9,MAX('MDA3'!I26,'MDA3'!L26,W26,AL26)),AND(AU26>0,AV26=0,AW26=0,AX26=0), MIN(BA26,MAX('MDA1'!K26,'MDA2'!K26,'MDA5'!K26)),AND(AU26>0,AV26=0,AW26=0,AX26>0), MIN(BA26,MAX('MDA1'!K26,'MDA2'!K26,'MDA5'!K26,AL26)),AND(AU26>0,AV26=0,AW26>0,AX26=0),MIN(BA26,MAX('MDA1'!K26,'MDA2'!KL26,'MDA5'!K26,W26)),AND(AU26>0,AV26=0,AW26>0,AX26>0),MIN(BA26,MAX('MDA1'!K26,'MDA2'!K26,'MDA5'!K26,W26,AL26)),AND(AU26>0,AV26>0,AW26=0,AX26=0),MIN(BA26, MAX('MDA1'!K26,'MDA2'!K26, 'MDA5'!K26,MAX('MDA3'!I26,'MDA3'!L26))), AND(AU26>0,AV26>0,AW26=0,AX26>0),MIN(BA26, MAX('MDA1'!K26,'MDA2'!K26, 'MDA5'!K26,MAX('MDA3'!I26,'MDA3'!L26),AL26)), AND(AU26>0,AV26>0,AW26>0,AX26=0), MIN(BA26, MAX('MDA1'!K26,'MDA2'!K26, 'MDA5'!K26,MAX('MDA3'!I26,'MDA3'!L26),W26)), AND(AU26>0,AV26>0,AW26>0,AX26>0), MIN(BA26, MAX('MDA1'!K26,'MDA2'!K26, 'MDA5'!K26,MAX('MDA3'!I26,'MDA3'!L26),W26,AL26)))","v":200998},{"$f":"_xlfn.IFS(AND(AU26=0,AV26=0,AW26=0,AX26=0),0,AND(AU26=0,AV26=0,AW26=0,AX26>0),AO26,AND(AU26=0,AV26=0,AW26>0,AX26=0),Z26,AND(AU26=0,AV26=0,AW26>0,AX26>0),MAX(Z26,AO26),AND(AU26=0,AV26>0,AW26=0,AX26=0),MIN(J26*PROFILE!$G$10,MAX('MDA3'!J26,'MDA3'!J26)),AND(AU26=0,AV26>0,AW26=0,AX26>0),MIN(J26*PROFILE!$G$10,MAX('MDA3'!J26,'MDA3'!M26,AO26)),AND(AU26=0,AV26>0,AW26>0,AX26=0),MIN(J26*PROFILE!$G$10,MAX('MDA3'!J26,'MDA3'!M26,Z26)),AND(AU26=0,AV26>0,AW26>0,AX26>0),MIN(J26*PROFILE!$G$10,MAX('MDA3'!J26,'MDA3'!M26,Z26,AO26)),AND(AU26>0,AV26=0,AW26=0,AX26=0), MIN(BB26,MAX('MDA1'!L26,'MDA2'!L26,'MDA5'!L26)),AND(AU26>0,AV26=0,AW26=0,AX26>0), MIN(BB26,MAX('MDA1'!L26,'MDA2'!L26,'MDA5'!L26,AO26)),AND(AU26>0,AV26=0,AW26>0,AX26=0),MIN(BB26,MAX('MDA1'!L26,'MDA2'!L26,'MDA5'!L26,Z26)),AND(AU26>0,AV26=0,AW26>0,AX26>0),MIN(BB26,MAX('MDA1'!L26,'MDA2'!L26,'MDA5'!L26,Z26,AO26)),AND(AU26>0,AV26>0,AW26=0,AX26=0),MIN(BB26, MAX('MDA1'!L26,'MDA2'!L26, 'MDA5'!L26,MAX('MDA3'!J26,'MDA3'!M26))), AND(AU26>0,AV26>0,AW26=0,AX26>0),MIN(BB26, MAX('MDA1'!L26,'MDA2'!L26, 'MDA5'!L26,MAX('MDA3'!J26,'MDA3'!M26),AO26)), AND(AU26>0,AV26>0,AW26>0,AX26=0), MIN(BB26, MAX('MDA1'!L26,'MDA2'!L26, 'MDA5'!L26,MAX('MDA3'!J26,'MDA3'!M26),Z26)), AND(AU26>0,AV26>0,AW26>0,AX26>0), MIN(BB26, MAX('MDA1'!L26,'MDA2'!L26, 'MDA5'!L26,MAX('MDA3'!J26,'MDA3'!M26),Z26,AO26)))","v":377725},578723,70.295322102738353]
[{"$f":"IF(COUNTRY_INFO!A27=0,\" \",COUNTRY_INFO!A27)","v":"Mali"},{"$f":"IF(COUNTRY_INFO!B27=0,\" \",COUNTRY_INFO!B27)","v":"Kayes"},{"$f":"IF(COUNTRY_INFO!C27=0,\" \",COUNTRY_INFO!C27)","v":"Kenieba"},{"$f":"COUNTRY_INFO!L27","v":0},null,null,{"$f":"MAX('MDA1'!M27,'MDA2'!M27,'MDA5'!M27)","v":0},{"$f":"IF(AND(COUNTRY_INFO!H27>0,COUNTRY_INFO!H27<4),IF(D27>G27,G27,D27),0)","v":0},{"$f":"IF(AND(COUNTRY_INFO!H27>0,COUNTRY_INFO!H27<4), IF(G27/D27*100<>0, IF(G27/D27*100>100,100,G27/D27*100), \"-\"),0)","v":0},{"$f":"COUNTRY_INFO!M27","v":311363.16959999996},93259,99274,{"$f":"MAX('MDA1'!M27,MAX('MDA3'!I27,'MDA3'!L27)+MAX('MDA3'!J27,'MDA3'!M27))","v":192533},{"$f":"IF(AND(COUNTRY_INFO!I27>0,COUNTRY_INFO!I27<4),IF(J27>M27,M27,J27),0)","v":192533},{"$f":"IF(AND(COUNTRY_INFO!I27>0,COUNTRY_INFO!I27<4), IF(M27/J27*100<>0, IF(M27/J27*100>100,100,M27/J27*100), \"-\"),0)","v":61.835508755689396},{"$f":"COUNTRY_INFO!Q27","v":"Non requis"},null,null,{"$f":"MAX('MDA2'!J27,'MDA5'!J27,'T1'!K27, MAX(T3_R1!J27,T3_R2!J27,T3_R3!J27))","v":0},{"$f":"IF(AND(COUNTRY_INFO!J27>1,COUNTRY_INFO!J27<99,COUNTRY_INFO!J27<>4,COUNTRY_INFO!J27<>5),IF(COUNTRY_INFO!N27>S27,S27,COUNTRY_INFO!N27),0)","v":0},{"$f":"IF(AND(COUNTRY_INFO!J27>1,COUNTRY_INFO!J27<99,COUNTRY_INFO!J27<>4,COUNTRY_INFO!J27<>5), IF(T27/COUNTRY_INFO!N27*100<>0, IF(T27/COUNTRY_INFO!N27*100>100,100,T27/COUNTRY_INFO!N27*100), \"-\"),0)","v":0},{"$f":"MAX('MDA1'!K27, 'MDA2'!K27, 'MDA5'!K27,'T1'!L27, MAX(T3_R1!K27,T3_R2!K27,T3_R3!K27))","v":0},{"$f":"IF(AND(COUNTRY_INFO!J27>1,COUNTRY_INFO!J27<99,COUNTRY_INFO!J27<>4,COUNTRY_INFO!J27<>5),IF(COUNTRY_INFO!O27>V27,V27,COUNTRY_INFO!O27),0)","v":0},{"$f":"IF(AND(COUNTRY_INFO!J27>1,COUNTRY_INFO!J27<99,COUNTRY_INFO!J27<>4,COUNTRY_INFO!J27<>5), IF(W27/COUNTRY_INFO!O27*100<>0, IF(W27/COUNTRY_INFO!O27*100>100,100,W27/COUNTRY_INFO!O27*100), \"-\"),0)","v":0},{"$f":"MAX('MDA1'!L27, 'MDA2'!L27, 'MDA5'!L27,'T1'!M27, MAX(T3_R1!L27,T3_R2!L27,T3_R3!L27))","v":0},{"$f":"IF(AND(COUNTRY_INFO!J27>1,COUNTRY_INFO!J27<99,COUNTRY_INFO!J27<>4,COUNTRY_INFO!J27<>5),IF(COUNTRY_INFO!P27>Y27,Y27,COUNTRY_INFO!P27),0)","v":0},{"$f":"IF(AND(COUNTRY_INFO!J27>1,COUNTRY_INFO!J27<99,COUNTRY_INFO!J27<>4,COUNTRY_INFO!J27<>5), IF(Z27/COUNTRY_INFO!P27*100<>0, IF(Z27/COUNTRY_INFO!P27*100>100,100,Z27/COUNTRY_INFO!P27*100), \"-\"),0)","v":0},0,0,{"$f":"IF(AND(COUNTRY_INFO!J27>1,COUNTRY_INFO!J27<99,COUNTRY_INFO!J27<>4,COUNTRY_INFO!J27<>5), IF(AC27/P27*100<>0, IF(AC27/P27*100>100,100,AC27/P27*100), \"-\"),0)","v":0},{"$f":"COUNTRY_INFO!U27","v":46768},null,null,{"$f":"MAX('T1'!K27,'T2'!R27)","v":0},{"$f":"IF(AND(COUNTRY_INFO!K27>1,COUNTRY_INFO!K27<99,COUNTRY_INFO!K27<>4,COUNTRY_INFO!K27<>5),IF(COUNTRY_INFO!R27>AH27,AH27,COUNTRY_INFO!R27),0)","v":0},{"$f":"IF(AND(COUNTRY_INFO!K27>1,COUNTRY_INFO!K27<99,COUNTRY_INFO!K27<>4,COUNTRY_INFO!K27<>5), IF(AI27/COUNTRY_INFO!R27*100<>0, IF(AI27/COUNTRY_INFO!R27*100>100,100,AI27/COUNTRY_INFO!R27*100), \"-\"),0)","v":"-"},{"$f":"MAX('T1'!L27,'T2'!S27)","v":67591},{"$f":"IF(AND(COUNTRY_INFO!K27>1,COUNTRY_INFO!K27<99,COUNTRY_INFO!K27<>4,COUNTRY_INFO!K27<>5),IF(COUNTRY_INFO!S27>AK27,AK27,COUNTRY_INFO!S27),0)","v":14714},{"$f":"IF(AND(COUNTRY_INFO!K27>1,COUNTRY_INFO!K27<99,COUNTRY_INFO!K27<>4,COUNTRY_INFO!K27<>5), IF(AL27/COUNTRY_INFO!S27*100<>0, IF(AL27/COUNTRY_INFO!S27*100>100,100,AL27/COUNTRY_INFO!S27*100), \"-\"),0)","v":100},{"$f":"MAX('T1'!M27,'T2'!T27)","v":0},{"$f":"IF(AND(COUNTRY_INFO!K27>1,COUNTRY_INFO!K27<99,COUNTRY_INFO!K27<>4,COUNTRY_INFO!K27<>5),IF(COUNTRY_INFO!T27>AN27,AN27,COUNTRY_INFO!T27),0)","v":0},{"$f":"IF(AND(COUNTRY_INFO!K27>1,COUNTRY_INFO!K27<99,COUNTRY_INFO!K27<>4,COUNTRY_INFO!K27<>5), IF(AO27/COUNTRY_INFO!T27*100<>0, IF(AO27/COUNTRY_INFO!T27*100>100,100,AO27/COUNTRY_INFO!T27*100), \"-\"),0)","v":"-"},67591,14714,{"$f":"IF(AND(COUNTRY_INFO!K27>1,COUNTRY_INFO!K27<99,COUNTRY_INFO!K27<>4,COUNTRY_INFO!K27<>5), IF(AR27/AE27*100<>0, IF(AR27/AE27*100>100,100,AR27/AE27*100), \"-\"),0)","v":31.461683202189533},null,{"$f":"IF(AND(D27<>0, D27<>\"Inconnu\",D27<>\"Interrompu\",D27<>\"Non requis\"),D27/COUNTRY_INFO!D27, 0)","v":0},{"$f":"IF(AND(J27<>0,J27<>\"Inconnu\",J27<>\"Interrompu\",J27<>\"Non requis\"),J27/COUNTRY_INFO!D27, 0)","v":1},{"$f":"IF(AND(P27<>0,P27<>\"Inconnu\",P27<>\"Surveillance\",P27<>\"Non requis\"),P27/COUNTRY_INFO!Q27, 0)","v":0},{"$f":"IF(AND(AE27<>0,AE27<>\"Inconnu\",AE27<>\"Surveillance\",AE27<>\"Non requis\"),AE27/COUNTRY_INFO!U27, 0)","v":1},{"$f":"IF(AU27>0,D27*PROFILE!$G$7,IF(AV27>0,J27*PROFILE!$G$7,0))","v":15568.189493378186},{"$f":"_xlfn.IFS(OR(AU27>0,AW27>0),COUNTRY_INFO!E27, AV27>0,J27*PROFILE!$G$8,AX27>0,COUNTRY_INFO!R27,COUNTIFS(AU27:AX27,\">0\")=0,0)","v":46704.451075950026},{"$f":"_xlfn.IFS(OR(AU27>0,AW27>0),COUNTRY_INFO!F27, AV27>0,J27*PROFILE!$G$9,AX27>0,COUNTRY_INFO!S27,COUNTIFS(AU27:AX27,\">0\")=0,0)","v":88738.494031986527},{"$f":"_xlfn.IFS(AU27>0,COUNTRY_INFO!G27, AND(AV27>0,AW27=0,AX27=0),J27*PROFILE!$G$10,AND(AV27>0,AW27>0,AX27=0), MAX(J27*PROFILE!$G$10,COUNTRY_INFO!P27),AND(AV27>0,AW27=0,AX27>0), MAX(J27*PROFILE!$G$10,COUNTRY_INFO!T27),AND(AV27=0,AW27>0,AX27>0), MAX(COUNTRY_INFO!P27,COUNTRY_INFO!T27),AND(AV27=0,AW27>0,AX27=0),COUNTRY_INFO!P27,AND(AV27=0,AW27=0,AX27>0),COUNTRY_INFO!T27,AND(AV27>0,AW27>0,AX27>0), MAX(J27*PROFILE!$G$10,COUNTRY_INFO!P27,COUNTRY_INFO!T27),COUNTIFS(AU27:AX27,\">0\")=0,0)","v":160352.03499868521},311363.16959999991,"Y",{"$f":"MAX('MDA2'!J27,'MDA5'!J27,S27,AH27)","v":0},{"$f":"MAX('MDA1'!K27,'MDA2'!K27,'MDA3'!I27,'MDA3'!L27,'MDA5'!K27,V27,AK27)","v":84628},{"$f":"MAX('MDA1'!L27,'MDA2'!L27,'MDA3'!J27,'MDA3'!M27,'MDA5'!L27,Y27,AN27)","v":107905},192533,{"$f":"_xlfn.IFS(AND(AU27=0,AW27=0,AX27=0),0,AND(AU27=0,AW27=0,AX27>0),AI27,AND(AU27=0,AW27>0,AX27=0),T27,AND(AU27=0,AW27>0,AX27>0),MAX(T27,AI27),AND(AU27>0,AW27=0,AX27=0),MIN(MAX('MDA2'!J27,'MDA5'!J27),AZ27),AND(AU27>0,AW27=0,AX27>0),MIN(MAX('MDA2'!J27,'MDA5'!J27,AI27),AZ27),AND(AU27>0,AW27>0,AX27=0),MIN(MAX('MDA2'!J27,'MDA5'!J27,T27),AZ27),AND(AU27>0,AW27>0,AX27>0),MIN(MAX('MDA2'!J27,'MDA5'!J27,AI27,T27),AZ27))","v":0},{"$f":"_xlfn.IFS(AND(AU27=0,AV27=0,AW27=0,AX27=0),0,AND(AU27=0,AV27=0,AW27=0,AX27>0),AL27,AND(AU27=0,AV27=0,AW27>0,AX27=0),W27,AND(AU27=0,AV27=0,AW27>0,AX27>0),MAX(W27,AL27),AND(AU27=0,AV27>0,AW27=0,AX27=0),MIN(J27*PROFILE!$G$9,MAX('MDA3'!I27,'MDA3'!L27)),AND(AU27=0,AV27>0,AW27=0,AX27>0),MIN(J27*PROFILE!$G$9,MAX('MDA3'!I27,'MDA3'!L27,AL27)),AND(AU27=0,AV27>0,AW27>0,AX27=0),MIN(J27*PROFILE!$G$9,MAX('MDA3'!I27,'MDA3'!L27,W27)),AND(AU27=0,AV27>0,AW27>0,AX27>0),MIN(J27*PROFILE!$G$9,MAX('MDA3'!I27,'MDA3'!L27,W27,AL27)),AND(AU27>0,AV27=0,AW27=0,AX27=0), MIN(BA27,MAX('MDA1'!K27,'MDA2'!K27,'MDA5'!K27)),AND(AU27>0,AV27=0,AW27=0,AX27>0), MIN(BA27,MAX('MDA1'!K27,'MDA2'!K27,'MDA5'!K27,AL27)),AND(AU27>0,AV27=0,AW27>0,AX27=0),MIN(BA27,MAX('MDA1'!K27,'MDA2'!KL27,'MDA5'!K27,W27)),AND(AU27>0,AV27=0,AW27>0,AX27>0),MIN(BA27,MAX('MDA1'!K27,'MDA2'!K27,'MDA5'!K27,W27,AL27)),AND(AU27>0,AV27>0,AW27=0,AX27=0),MIN(BA27, MAX('MDA1'!K27,'MDA2'!K27, 'MDA5'!K27,MAX('MDA3'!I27,'MDA3'!L27))), AND(AU27>0,AV27>0,AW27=0,AX27>0),MIN(BA27, MAX('MDA1'!K27,'MDA2'!K27, 'MDA5'!K27,MAX('MDA3'!I27,'MDA3'!L27),AL27)), AND(AU27>0,AV27>0,AW27>0,AX27=0), MIN(BA27, MAX('MDA1'!K27,'MDA2'!K27, 'MDA5'!K27,MAX('MDA3'!I27,'MDA3'!L27),W27)), AND(AU27>0,AV27>0,AW27>0,AX27>0), MIN(BA27, MAX('MDA1'!K27,'MDA2'!K27, 'MDA5'!K27,MAX('MDA3'!I27,'MDA3'!L27),W27,AL27)))","v":84628},{"$f":"_xlfn.IFS(AND(AU27=0,AV27=0,AW27=0,AX27=0),0,AND(AU27=0,AV27=0,AW27=0,AX27>0),AO27,AND(AU27=0,AV27=0,AW27>0,AX27=0),Z27,AND(AU27=0,AV27=0,AW27>0,AX27>0),MAX(Z27,AO27),AND(AU27=0,AV27>0,AW27=0,AX27=0),MIN(J27*PROFILE!$G$10,MAX('MDA3'!J27,'MDA3'!J27)),AND(AU27=0,AV27>0,AW27=0,AX27>0),MIN(J27*PROFILE!$G$10,MAX('MDA3'!J27,'MDA3'!M27,AO27)),AND(AU27=0,AV27>0,AW27>0,AX27=0),MIN(J27*PROFILE!$G$10,MAX('MDA3'!J27,'MDA3'!M27,Z27)),AND(AU27=0,AV27>0,AW27>0,AX27>0),MIN(J27*PROFILE!$G$10,MAX('MDA3'!J27,'MDA3'!M27,Z27,AO27)),AND(AU27>0,AV27=0,AW27=0,AX27=0), MIN(BB27,MAX('MDA1'!L27,'MDA2'!L27,'MDA5'!L27)),AND(AU27>0,AV27=0,AW27=0,AX27>0), MIN(BB27,MAX('MDA1'!L27,'MDA2'!L27,'MDA5'!L27,AO27)),AND(AU27>0,AV27=0,AW27>0,AX27=0),MIN(BB27,MAX('MDA1'!L27,'MDA2'!L27,'MDA5'!L27,Z27)),AND(AU27>0,AV27=0,AW27>0,AX27>0),MIN(BB27,MAX('MDA1'!L27,'MDA2'!L27,'MDA5'!L27,Z27,AO27)),AND(AU27>0,AV27>0,AW27=0,AX27=0),MIN(BB27, MAX('MDA1'!L27,'MDA2'!L27, 'MDA5'!L27,MAX('MDA3'!J27,'MDA3'!M27))), AND(AU27>0,AV27>0,AW27=0,AX27>0),MIN(BB27, MAX('MDA1'!L27,'MDA2'!L27, 'MDA5'!L27,MAX('MDA3'!J27,'MDA3'!M27),AO27)), AND(AU27>0,AV27>0,AW27>0,AX27=0), MIN(BB27, MAX('MDA1'!L27,'MDA2'!L27, 'MDA5'!L27,MAX('MDA3'!J27,'MDA3'!M27),Z27)), AND(AU27>0,AV27>0,AW27>0,AX27>0), MIN(BB27, MAX('MDA1'!L27,'MDA2'!L27, 'MDA5'!L27,MAX('MDA3'!J27,'MDA3'!M27),Z27,AO27)))","v":107905},192533,61.835508755689403]
[{"$f":"IF(COUNTRY_INFO!A28=0,\" \",COUNTRY_INFO!A28)","v":"Mali"},{"$f":"IF(COUNTRY_INFO!B28=0,\" \",COUNTRY_INFO!B28)","v":"Kayes"},{"$f":"IF(COUNTRY_INFO!C28=0,\" \",COUNTRY_INFO!C28)","v":"Kita"},{"$f":"COUNTRY_INFO!L28","v":0},null,null,{"$f":"MAX('MDA1'!M28,'MDA2'!M28,'MDA5'!M28)","v":0},{"$f":"IF(AND(COUNTRY_INFO!H28>0,COUNTRY_INFO!H28<4),IF(D28>G28,G28,D28),0)","v":0},{"$f":"IF(AND(COUNTRY_INFO!H28>0,COUNTRY_INFO!H28<4), IF(G28/D28*100<>0, IF(G28/D28*100>100,100,G28/D28*100), \"-\"),0)","v":0},{"$f":"COUNTRY_INFO!M28","v":554203.902672},241556,221423,{"$f":"MAX('MDA1'!M28,MAX('MDA3'!I28,'MDA3'!L28)+MAX('MDA3'!J28,'MDA3'!M28))","v":462979},{"$f":"IF(AND(COUNTRY_INFO!I28>0,COUNTRY_INFO!I28<4),IF(J28>M28,M28,J28),0)","v":462979},{"$f":"IF(AND(COUNTRY_INFO!I28>0,COUNTRY_INFO!I28<4), IF(M28/J28*100<>0, IF(M28/J28*100>100,100,M28/J28*100), \"-\"),0)","v":83.539469456607108},{"$f":"COUNTRY_INFO!Q28","v":"Non requis"},null,null,{"$f":"MAX('MDA2'!J28,'MDA5'!J28,'T1'!K28, MAX(T3_R1!J28,T3_R2!J28,T3_R3!J28))","v":0},{"$f":"IF(AND(COUNTRY_INFO!J28>1,COUNTRY_INFO!J28<99,COUNTRY_INFO!J28<>4,COUNTRY_INFO!J28<>5),IF(COUNTRY_INFO!N28>S28,S28,COUNTRY_INFO!N28),0)","v":0},{"$f":"IF(AND(COUNTRY_INFO!J28>1,COUNTRY_INFO!J28<99,COUNTRY_INFO!J28<>4,COUNTRY_INFO!J28<>5), IF(T28/COUNTRY_INFO!N28*100<>0, IF(T28/COUNTRY_INFO!N28*100>100,100,T28/COUNTRY_INFO!N28*100), \"-\"),0)","v":0},{"$f":"MAX('MDA1'!K28, 'MDA2'!K28, 'MDA5'!K28,'T1'!L28, MAX(T3_R1!K28,T3_R2!K28,T3_R3!K28))","v":0},{"$f":"IF(AND(COUNTRY_INFO!J28>1,COUNTRY_INFO!J28<99,COUNTRY_INFO!J28<>4,COUNTRY_INFO!J28<>5),IF(COUNTRY_INFO!O28>V28,V28,COUNTRY_INFO!O28),0)","v":0},{"$f":"IF(AND(COUNTRY_INFO!J28>1,COUNTRY_INFO!J28<99,COUNTRY_INFO!J28<>4,COUNTRY_INFO!J28<>5), IF(W28/COUNTRY_INFO!O28*100<>0, IF(W28/COUNTRY_INFO!O28*100>100,100,W28/COUNTRY_INFO!O28*100), \"-\"),0)","v":0},{"$f":"MAX('MDA1'!L28, 'MDA2'!L28, 'MDA5'!L28,'T1'!M28, MAX(T3_R1!L28,T3_R2!L28,T3_R3!L28))","v":0},{"$f":"IF(AND(COUNTRY_INFO!J28>1,COUNTRY_INFO!J28<99,COUNTRY_INFO!J28<>4,COUNTRY_INFO!J28<>5),IF(COUNTRY_INFO!P28>Y28,Y28,COUNTRY_INFO!P28),0)","v":0},{"$f":"IF(AND(COUNTRY_INFO!J28>1,COUNTRY_INFO!J28<99,COUNTRY_INFO!J28<>4,COUNTRY_INFO!J28<>5), IF(Z28/COUNTRY_INFO!P28*100<>0, IF(Z28/COUNTRY_INFO!P28*100>100,100,Z28/COUNTRY_INFO!P28*100), \"-\"),0)","v":0},0,0,{"$f":"IF(AND(COUNTRY_INFO!J28>1,COUNTRY_INFO!J28<99,COUNTRY_INFO!J28<>4,COUNTRY_INFO!J28<>5), IF(AC28/P28*100<>0, IF(AC28/P28*100>100,100,AC28/P28*100), \"-\"),0)","v":0},{"$f":"COUNTRY_INFO!U28","v":126370},null,null,{"$f":"MAX('T1'!K28,'T2'!R28)","v":0},{"$f":"IF(AND(COUNTRY_INFO!K28>1,COUNTRY_INFO!K28<99,COUNTRY_INFO!K28<>4,COUNTRY_INFO!K28<>5),IF(COUNTRY_INFO!R28>AH28,AH28,COUNTRY_INFO!R28),0)","v":0},{"$f":"IF(AND(COUNTRY_INFO!K28>1,COUNTRY_INFO!K28<99,COUNTRY_INFO!K28<>4,COUNTRY_INFO!K28<>5), IF(AI28/COUNTRY_INFO!R28*100<>0, IF(AI28/COUNTRY_INFO!R28*100>100,100,AI28/COUNTRY_INFO!R28*100), \"-\"),0)","v":"-"},{"$f":"MAX('T1'!L28,'T2'!S28)","v":148786},{"$f":"IF(AND(COUNTRY_INFO!K28>1,COUNTRY_INFO!K28<99,COUNTRY_INFO!K28<>4,COUNTRY_INFO!K28<>5),IF(COUNTRY_INFO!S28>AK28,AK28,COUNTRY_INFO!S28),0)","v":39760},{"$f":"IF(AND(COUNTRY_INFO!K28>1,COUNTRY_INFO!K28<99,COUNTRY_INFO!K28<>4,COUNTRY_INFO!K28<>5), IF(AL28/COUNTRY_INFO!S28*100<>0, IF(AL28/COUNTRY_INFO!S28*100>100,100,AL28/COUNTRY_INFO!S28*100), \"-\"),0)","v":100},{"$f":"MAX('T1'!M28,'T2'!T28)","v":0},{"$f":"IF(AND(COUNTRY_INFO!K28>1,COUNTRY_INFO!K28<99,COUNTRY_INFO!K28<>4,COUNTRY_INFO!K28<>5),IF(COUNTRY_INFO!T28>AN28,AN28,COUNTRY_INFO!T28),0)","v":0},{"$f":"IF(AND(COUNTRY_INFO!K28>1,COUNTRY_INFO!K28<99,COUNTRY_INFO!K28<>4,COUNTRY_INFO!K28<>5), IF(AO28/COUNTRY_INFO!T28*100<>0, IF(AO28/COUNTRY_INFO!T28*100>100,100,AO28/COUNTRY_INFO!T28*100), \"-\"),0)","v":"-"},148786,39760,{"$f":"IF(AND(COUNTRY_INFO!K28>1,COUNTRY_INFO!K28<99,COUNTRY_INFO!K28<>4,COUNTRY_INFO!K28<>5), IF(AR28/AE28*100<>0, IF(AR28/AE28*100>100,100,AR28/AE28*100), \"-\"),0)","v":31.463163725567778},null,{"$f":"IF(AND(D28<>0, D28<>\"Inconnu\",D28<>\"Interrompu\",D28<>\"Non requis\"),D28/COUNTRY_INFO!D28, 0)","v":0},{"$f":"IF(AND(J28<>0,J28<>\"Inconnu\",J28<>\"Interrompu\",J28<>\"Non requis\"),J28/COUNTRY_INFO!D28, 0)","v":1},{"$f":"IF(AND(P28<>0,P28<>\"Inconnu\",P28<>\"Surveillance\",P28<>\"Non requis\"),P28/COUNTRY_INFO!Q28, 0)","v":0},{"$f":"IF(AND(AE28<>0,AE28<>\"Inconnu\",AE28<>\"Surveillance\",AE28<>\"Non requis\"),AE28/COUNTRY_INFO!U28, 0)","v":1},{"$f":"IF(AU28>0,D28*PROFILE!$G$7,IF(AV28>0,J28*PROFILE!$G$7,0))","v":27710.250335168152},{"$f":"_xlfn.IFS(OR(AU28>0,AW28>0),COUNTRY_INFO!E28, AV28>0,J28*PROFILE!$G$8,AX28>0,COUNTRY_INFO!R28,COUNTIFS(AU28:AX28,\">0\")=0,0)","v":83130.542034554746},{"$f":"_xlfn.IFS(OR(AU28>0,AW28>0),COUNTRY_INFO!F28, AV28>0,J28*PROFILE!$G$9,AX28>0,COUNTRY_INFO!S28,COUNTIFS(AU28:AX28,\">0\")=0,0)","v":157948.09570104955},{"$f":"_xlfn.IFS(AU28>0,COUNTRY_INFO!G28, AND(AV28>0,AW28=0,AX28=0),J28*PROFILE!$G$10,AND(AV28>0,AW28>0,AX28=0), MAX(J28*PROFILE!$G$10,COUNTRY_INFO!P28),AND(AV28>0,AW28=0,AX28>0), MAX(J28*PROFILE!$G$10,COUNTRY_INFO!T28),AND(AV28=0,AW28>0,AX28>0), MAX(COUNTRY_INFO!P28,COUNTRY_INFO!T28),AND(AV28=0,AW28>0,AX28=0),COUNTRY_INFO!P28,AND(AV28=0,AW28=0,AX28>0),COUNTRY_INFO!T28,AND(AV28>0,AW28>0,AX28>0), MAX(J28*PROFILE!$G$10,COUNTRY_INFO!P28,COUNTRY_INFO!T28),COUNTIFS(AU28:AX28,\">0\")=0,0)","v":285415.01460122754},554203.902672,"Y",{"$f":"MAX('MDA2'!J28,'MDA5'!J28,S28,AH28)","v":0},{"$f":"MAX('MDA1'!K28,'MDA2'!K28,'MDA3'!I28,'MDA3'!L28,'MDA5'!K28,V28,AK28)","v":173623},{"$f":"MAX('MDA1'!L28,'MDA2'!L28,'MDA3'!J28,'MDA3'!M28,'MDA5'!L28,Y28,AN28)","v":289356},462979,{"$f":"_xlfn.IFS(AND(AU28=0,AW28=0,AX28=0),0,AND(AU28=0,AW28=0,AX28>0),AI28,AND(AU28=0,AW28>0,AX28=0),T28,AND(AU28=0,AW28>0,AX28>0),MAX(T28,AI28),AND(AU28>0,AW28=0,AX28=0),MIN(MAX('MDA2'!J28,'MDA5'!J28),AZ28),AND(AU28>0,AW28=0,AX28>0),MIN(MAX('MDA2'!J28,'MDA5'!J28,AI28),AZ28),AND(AU28>0,AW28>0,AX28=0),MIN(MAX('MDA2'!J28,'MDA5'!J28,T28),AZ28),AND(AU28>0,AW28>0,AX28>0),MIN(MAX('MDA2'!J28,'MDA5'!J28,AI28,T28),AZ28))","v":0},{"$f":"_xlfn.IFS(AND(AU28=0,AV28=0,AW28=0,AX28=0),0,AND(AU28=0,AV28=0,AW28=0,AX28>0),AL28,AND(AU28=0,AV28=0,AW28>0,AX28=0),W28,AND(AU28=0,AV28=0,AW28>0,AX28>0),MAX(W28,AL28),AND(AU28=0,AV28>0,AW28=0,AX28=0),MIN(J28*PROFILE!$G$9,MAX('MDA3'!I28,'MDA3'!L28)),AND(AU28=0,AV28>0,AW28=0,AX28>0),MIN(J28*PROFILE!$G$9,MAX('MDA3'!I28,'MDA3'!L28,AL28)),AND(AU28=0,AV28>0,AW28>0,AX28=0),MIN(J28*PROFILE!$G$9,MAX('MDA3'!I28,'MDA3'!L28,W28)),AND(AU28=0,AV28>0,AW28>0,AX28>0),MIN(J28*PROFILE!$G$9,MAX('MDA3'!I28,'MDA3'!L28,W28,AL28)),AND(AU28>0,AV28=0,AW28=0,AX28=0), MIN(BA28,MAX('MDA1'!K28,'MDA2'!K28,'MDA5'!K28)),AND(AU28>0,AV28=0,AW28=0,AX28>0), MIN(BA28,MAX('MDA1'!K28,'MDA2'!K28,'MDA5'!K28,AL28)),AND(AU28>0,AV28=0,AW28>0,AX28=0),MIN(BA28,MAX('MDA1'!K28,'MDA2'!KL28,'MDA5'!K28,W28)),AND(AU28>0,AV28=0,AW28>0,AX28>0),MIN(BA28,MAX('MDA1'!K28,'MDA2'!K28,'MDA5'!K28,W28,AL28)),AND(AU28>0,AV28>0,AW28=0,AX28=0),MIN(BA28, MAX('MDA1'!K28,'MDA2'!K28, 'MDA5'!K28,MAX('MDA3'!I28,'MDA3'!L28))), AND(AU28>0,AV28>0,AW28=0,AX28>0),MIN(BA28, MAX('MDA1'!K28,'MDA2'!K28, 'MDA5'!K28,MAX('MDA3'!I28,'MDA3'!L28),AL28)), AND(AU28>0,AV28>0,AW28>0,AX28=0), MIN(BA28, MAX('MDA1'!K28,'MDA2'!K28, 'MDA5'!K28,MAX('MDA3'!I28,'MDA3'!L28),W28)), AND(AU28>0,AV28>0,AW28>0,AX28>0), MIN(BA28, MAX('MDA1'!K28,'MDA2'!K28, 'MDA5'!K28,MAX('MDA3'!I28,'MDA3'!L28),W28,AL28)))","v":157948.09570104955},{"$f":"_xlfn.IFS(AND(AU28=0,AV28=0,AW28=0,AX28=0),0,AND(AU28=0,AV28=0,AW28=0,AX28>0),AO28,AND(AU28=0,AV28=0,AW28>0,AX28=0),Z28,AND(AU28=0,AV28=0,AW28>0,AX28>0),MAX(Z28,AO28),AND(AU28=0,AV28>0,AW28=0,AX28=0),MIN(J28*PROFILE!$G$10,MAX('MDA3'!J28,'MDA3'!J28)),AND(AU28=0,AV28>0,AW28=0,AX28>0),MIN(J28*PROFILE!$G$10,MAX('MDA3'!J28,'MDA3'!M28,AO28)),AND(AU28=0,AV28>0,AW28>0,AX28=0),MIN(J28*PROFILE!$G$10,MAX('MDA3'!J28,'MDA3'!M28,Z28)),AND(AU28=0,AV28>0,AW28>0,AX28>0),MIN(J28*PROFILE!$G$10,MAX('MDA3'!J28,'MDA3'!M28,Z28,AO28)),AND(AU28>0,AV28=0,AW28=0,AX28=0), MIN(BB28,MAX('MDA1'!L28,'MDA2'!L28,'MDA5'!L28)),AND(AU28>0,AV28=0,AW28=0,AX28>0), MIN(BB28,MAX('MDA1'!L28,'MDA2'!L28,'MDA5'!L28,AO28)),AND(AU28>0,AV28=0,AW28>0,AX28=0),MIN(BB28,MAX('MDA1'!L28,'MDA2'!L28,'MDA5'!L28,Z28)),AND(AU28>0,AV28=0,AW28>0,AX28>0),MIN(BB28,MAX('MDA1'!L28,'MDA2'!L28,'MDA5'!L28,Z28,AO28)),AND(AU28>0,AV28>0,AW28=0,AX28=0),MIN(BB28, MAX('MDA1'!L28,'MDA2'!L28, 'MDA5'!L28,MAX('MDA3'!J28,'MDA3'!M28))), AND(AU28>0,AV28>0,AW28=0,AX28>0),MIN(BB28, MAX('MDA1'!L28,'MDA2'!L28, 'MDA5'!L28,MAX('MDA3'!J28,'MDA3'!M28),AO28)), AND(AU28>0,AV28>0,AW28>0,AX28=0), MIN(BB28, MAX('MDA1'!L28,'MDA2'!L28, 'MDA5'!L28,MAX('MDA3'!J28,'MDA3'!M28),Z28)), AND(AU28>0,AV28>0,AW28>0,AX28>0), MIN(BB28, MAX('MDA1'!L28,'MDA2'!L28, 'MDA5'!L28,MAX('MDA3'!J28,'MDA3'!M28),Z28,AO28)))","v":285415.01460122754},443363.11030227708,79.999997864446129]
[{"$f":"IF(COUNTRY_INFO!A29=0,\" \",COUNTRY_INFO!A29)","v":"Mali"},{"$f":"IF(COUNTRY_INFO!B29=0,\" \",COUNTRY_INFO!B29)","v":"Kayes"},{"$f":"IF(COUNTRY_INFO!C29=0,\" \",COUNTRY_INFO!C29)","v":"Sagabari"},{"$f":"COUNTRY_INFO!L29","v":0},null,null,{"$f":"MAX('MDA1'!M29,'MDA2'!M29,'MDA5'!M29)","v":0},{"$f":"IF(AND(COUNTRY_INFO!H29>0,COUNTRY_INFO!H29<4),IF(D29>G29,G29,D29),0)","v":0},{"$f":"IF(AND(COUNTRY_INFO!H29>0,COUNTRY_INFO!H29<4), IF(G29/D29*100<>0, IF(G29/D29*100>100,100,G29/D29*100), \"-\"),0)","v":0},{"$f":"COUNTRY_INFO!M29","v":65024.564864},19015,19546,{"$f":"MAX('MDA1'!M29,MAX('MDA3'!I29,'MDA3'!L29)+MAX('MDA3'!J29,'MDA3'!M29))","v":38561},{"$f":"IF(AND(COUNTRY_INFO!I29>0,COUNTRY_INFO!I29<4),IF(J29>M29,M29,J29),0)","v":38561},{"$f":"IF(AND(COUNTRY_INFO!I29>0,COUNTRY_INFO!I29<4), IF(M29/J29*100<>0, IF(M29/J29*100>100,100,M29/J29*100), \"-\"),0)","v":59.302203837351307},{"$f":"COUNTRY_INFO!Q29","v":"Non requis"},null,null,{"$f":"MAX('MDA2'!J29,'MDA5'!J29,'T1'!K29, MAX(T3_R1!J29,T3_R2!J29,T3_R3!J29))","v":0},{"$f":"IF(AND(COUNTRY_INFO!J29>1,COUNTRY_INFO!J29<99,COUNTRY_INFO!J29<>4,COUNTRY_INFO!J29<>5),IF(COUNTRY_INFO!N29>S29,S29,COUNTRY_INFO!N29),0)","v":0},{"$f":"IF(AND(COUNTRY_INFO!J29>1,COUNTRY_INFO!J29<99,COUNTRY_INFO!J29<>4,COUNTRY_INFO!J29<>5), IF(T29/COUNTRY_INFO!N29*100<>0, IF(T29/COUNTRY_INFO!N29*100>100,100,T29/COUNTRY_INFO!N29*100), \"-\"),0)","v":0},{"$f":"MAX('MDA1'!K29, 'MDA2'!K29, 'MDA5'!K29,'T1'!L29, MAX(T3_R1!K29,T3_R2!K29,T3_R3!K29))","v":0},{"$f":"IF(AND(COUNTRY_INFO!J29>1,COUNTRY_INFO!J29<99,COUNTRY_INFO!J29<>4,COUNTRY_INFO!J29<>5),IF(COUNTRY_INFO!O29>V29,V29,COUNTRY_INFO!O29),0)","v":0},{"$f":"IF(AND(COUNTRY_INFO!J29>1,COUNTRY_INFO!J29<99,COUNTRY_INFO!J29<>4,COUNTRY_INFO!J29<>5), IF(W29/COUNTRY_INFO!O29*100<>0, IF(W29/COUNTRY_INFO!O29*100>100,100,W29/COUNTRY_INFO!O29*100), \"-\"),0)","v":0},{"$f":"MAX('MDA1'!L29, 'MDA2'!L29, 'MDA5'!L29,'T1'!M29, MAX(T3_R1!L29,T3_R2!L29,T3_R3!L29))","v":0},{"$f":"IF(AND(COUNTRY_INFO!J29>1,COUNTRY_INFO!J29<99,COUNTRY_INFO!J29<>4,COUNTRY_INFO!J29<>5),IF(COUNTRY_INFO!P29>Y29,Y29,COUNTRY_INFO!P29),0)","v":0},{"$f":"IF(AND(COUNTRY_INFO!J29>1,COUNTRY_INFO!J29<99,COUNTRY_INFO!J29<>4,COUNTRY_INFO!J29<>5), IF(Z29/COUNTRY_INFO!P29*100<>0, IF(Z29/COUNTRY_INFO!P29*100>100,100,Z29/COUNTRY_INFO!P29*100), \"-\"),0)","v":0},0,0,{"$f":"IF(AND(COUNTRY_INFO!J29>1,COUNTRY_INFO!J29<99,COUNTRY_INFO!J29<>4,COUNTRY_INFO!J29<>5), IF(AC29/P29*100<>0, IF(AC29/P29*100>100,100,AC29/P29*100), \"-\"),0)","v":0},{"$f":"COUNTRY_INFO!U29","v":41524},null,null,{"$f":"MAX('T1'!K29,'T2'!R29)","v":0},{"$f":"IF(AND(COUNTRY_INFO!K29>1,COUNTRY_INFO!K29<99,COUNTRY_INFO!K29<>4,COUNTRY_INFO!K29<>5),IF(COUNTRY_INFO!R29>AH29,AH29,COUNTRY_INFO!R29),0)","v":0},{"$f":"IF(AND(COUNTRY_INFO!K29>1,COUNTRY_INFO!K29<99,COUNTRY_INFO!K29<>4,COUNTRY_INFO!K29<>5), IF(AI29/COUNTRY_INFO!R29*100<>0, IF(AI29/COUNTRY_INFO!R29*100>100,100,AI29/COUNTRY_INFO!R29*100), \"-\"),0)","v":"-"},{"$f":"MAX('T1'!L29,'T2'!S29)","v":14614},{"$f":"IF(AND(COUNTRY_INFO!K29>1,COUNTRY_INFO!K29<99,COUNTRY_INFO!K29<>4,COUNTRY_INFO!K29<>5),IF(COUNTRY_INFO!S29>AK29,AK29,COUNTRY_INFO!S29),0)","v":13066},{"$f":"IF(AND(COUNTRY_INFO!K29>1,COUNTRY_INFO!K29<99,COUNTRY_INFO!K29<>4,COUNTRY_INFO!K29<>5), IF(AL29/COUNTRY_INFO!S29*100<>0, IF(AL29/COUNTRY_INFO!S29*100>100,100,AL29/COUNTRY_INFO!S29*100), \"-\"),0)","v":100},{"$f":"MAX('T1'!M29,'T2'!T29)","v":0},{"$f":"IF(AND(COUNTRY_INFO!K29>1,COUNTRY_INFO!K29<99,COUNTRY_INFO!K29<>4,COUNTRY_INFO!K29<>5),IF(COUNTRY_INFO!T29>AN29,AN29,COUNTRY_INFO!T29),0)","v":0},{"$f":"IF(AND(COUNTRY_INFO!K29>1,COUNTRY_INFO!K29<99,COUNTRY_INFO!K29<>4,COUNTRY_INFO!K29<>5), IF(AO29/COUNTRY_INFO!T29*100<>0, IF(AO29/COUNTRY_INFO!T29*100>100,100,AO29/COUNTRY_INFO!T29*100), \"-\"),0)","v":"-"},14614,13066,{"$f":"IF(AND(COUNTRY_INFO!K29>1,COUNTRY_INFO!K29<99,COUNTRY_INFO!K29<>4,COUNTRY_INFO!K29<>5), IF(AR29/AE29*100<>0, IF(AR29/AE29*100>100,100,AR29/AE29*100), \"-\"),0)","v":31.46614006357769},null,{"$f":"IF(AND(D29<>0, D29<>\"Inconnu\",D29<>\"Interrompu\",D29<>\"Non requis\"),D29/COUNTRY_INFO!D29, 0)","v":0},{"$f":"IF(AND(J29<>0,J29<>\"Inconnu\",J29<>\"Interrompu\",J29<>\"Non requis\"),J29/COUNTRY_INFO!D29, 0)","v":1},{"$f":"IF(AND(P29<>0,P29<>\"Inconnu\",P29<>\"Surveillance\",P29<>\"Non requis\"),P29/COUNTRY_INFO!Q29, 0)","v":0},{"$f":"IF(AND(AE29<>0,AE29<>\"Inconnu\",AE29<>\"Surveillance\",AE29<>\"Non requis\"),AE29/COUNTRY_INFO!U29, 0)","v":1},{"$f":"IF(AU29>0,D29*PROFILE!$G$7,IF(AV29>0,J29*PROFILE!$G$7,0))","v":3251.2347199821584},{"$f":"_xlfn.IFS(OR(AU29>0,AW29>0),COUNTRY_INFO!E29, AV29>0,J29*PROFILE!$G$8,AX29>0,COUNTRY_INFO!R29,COUNTIFS(AU29:AX29,\">0\")=0,0)","v":9753.6796414524542},{"$f":"_xlfn.IFS(OR(AU29>0,AW29>0),COUNTRY_INFO!F29, AV29>0,J29*PROFILE!$G$9,AX29>0,COUNTRY_INFO!S29,COUNTIFS(AU29:AX29,\">0\")=0,0)","v":18531.999043205353},{"$f":"_xlfn.IFS(AU29>0,COUNTRY_INFO!G29, AND(AV29>0,AW29=0,AX29=0),J29*PROFILE!$G$10,AND(AV29>0,AW29>0,AX29=0), MAX(J29*PROFILE!$G$10,COUNTRY_INFO!P29),AND(AV29>0,AW29=0,AX29>0), MAX(J29*PROFILE!$G$10,COUNTRY_INFO!T29),AND(AV29=0,AW29>0,AX29>0), MAX(COUNTRY_INFO!P29,COUNTRY_INFO!T29),AND(AV29=0,AW29>0,AX29=0),COUNTRY_INFO!P29,AND(AV29=0,AW29=0,AX29>0),COUNTRY_INFO!T29,AND(AV29>0,AW29>0,AX29>0), MAX(J29*PROFILE!$G$10,COUNTRY_INFO!P29,COUNTRY_INFO!T29),COUNTIFS(AU29:AX29,\">0\")=0,0)","v":33487.651459360037},65024.564864,"Y",{"$f":"MAX('MDA2'!J29,'MDA5'!J29,S29,AH29)","v":0},{"$f":"MAX('MDA1'!K29,'MDA2'!K29,'MDA3'!I29,'MDA3'!L29,'MDA5'!K29,V29,AK29)","v":17279},{"$f":"MAX('MDA1'!L29,'MDA2'!L29,'MDA3'!J29,'MDA3'!M29,'MDA5'!L29,Y29,AN29)","v":21282},38561,{"$f":"_xlfn.IFS(AND(AU29=0,AW29=0,AX29=0),0,AND(AU29=0,AW29=0,AX29>0),AI29,AND(AU29=0,AW29>0,AX29=0),T29,AND(AU29=0,AW29>0,AX29>0),MAX(T29,AI29),AND(AU29>0,AW29=0,AX29=0),MIN(MAX('MDA2'!J29,'MDA5'!J29),AZ29),AND(AU29>0,AW29=0,AX29>0),MIN(MAX('MDA2'!J29,'MDA5'!J29,AI29),AZ29),AND(AU29>0,AW29>0,AX29=0),MIN(MAX('MDA2'!J29,'MDA5'!J29,T29),AZ29),AND(AU29>0,AW29>0,AX29>0),MIN(MAX('MDA2'!J29,'MDA5'!J29,AI29,T29),AZ29))","v":0},{"$f":"_xlfn.IFS(AND(AU29=0,AV29=0,AW29=0,AX29=0),0,AND(AU29=0,AV29=0,AW29=0,AX29>0),AL29,AND(AU29=0,AV29=0,AW29>0,AX29=0),W29,AND(AU29=0,AV29=0,AW29>0,AX29>0),MAX(W29,AL29),AND(AU29=0,AV29>0,AW29=0,AX29=0),MIN(J29*PROFILE!$G$9,MAX('MDA3'!I29,'MDA3'!L29)),AND(AU29=0,AV29>0,AW29=0,AX29>0),MIN(J29*PROFILE!$G$9,MAX('MDA3'!I29,'MDA3'!L29,AL29)),AND(AU29=0,AV29>0,AW29>0,AX29=0),MIN(J29*PROFILE!$G$9,MAX('MDA3'!I29,'MDA3'!L29,W29)),AND(AU29=0,AV29>0,AW29>0,AX29>0),MIN(J29*PROFILE!$G$9,MAX('MDA3'!I29,'MDA3'!L29,W29,AL29)),AND(AU29>0,AV29=0,AW29=0,AX29=0), MIN(BA29,MAX('MDA1'!K29,'MDA2'!K29,'MDA5'!K29)),AND(AU29>0,AV29=0,AW29=0,AX29>0), MIN(BA29,MAX('MDA1'!K29,'MDA2'!K29,'MDA5'!K29,AL29)),AND(AU29>0,AV29=0,AW29>0,AX29=0),MIN(BA29,MAX('MDA1'!K29,'MDA2'!KL29,'MDA5'!K29,W29)),AND(AU29>0,AV29=0,AW29>0,AX29>0),MIN(BA29,MAX('MDA1'!K29,'MDA2'!K29,'MDA5'!K29,W29,AL29)),AND(AU29>0,AV29>0,AW29=0,AX29=0),MIN(BA29, MAX('MDA1'!K29,'MDA2'!K29, 'MDA5'!K29,MAX('MDA3'!I29,'MDA3'!L29))), AND(AU29>0,AV29>0,AW29=0,AX29>0),MIN(BA29, MAX('MDA1'!K29,'MDA2'!K29, 'MDA5'!K29,MAX('MDA3'!I29,'MDA3'!L29),AL29)), AND(AU29>0,AV29>0,AW29>0,AX29=0), MIN(BA29, MAX('MDA1'!K29,'MDA2'!K29, 'MDA5'!K29,MAX('MDA3'!I29,'MDA3'!L29),W29)), AND(AU29>0,AV29>0,AW29>0,AX29>0), MIN(BA29, MAX('MDA1'!K29,'MDA2'!K29, 'MDA5'!K29,MAX('MDA3'!I29,'MDA3'!L29),W29,AL29)))","v":17279},{"$f":"_xlfn.IFS(AND(AU29=0,AV29=0,AW29=0,AX29=0),0,AND(AU29=0,AV29=0,AW29=0,AX29>0),AO29,AND(AU29=0,AV29=0,AW29>0,AX29=0),Z29,AND(AU29=0,AV29=0,AW29>0,AX29>0),MAX(Z29,AO29),AND(AU29=0,AV29>0,AW29=0,AX29=0),MIN(J29*PROFILE!$G$10,MAX('MDA3'!J29,'MDA3'!J29)),AND(AU29=0,AV29>0,AW29=0,AX29>0),MIN(J29*PROFILE!$G$10,MAX('MDA3'!J29,'MDA3'!M29,AO29)),AND(AU29=0,AV29>0,AW29>0,AX29=0),MIN(J29*PROFILE!$G$10,MAX('MDA3'!J29,'MDA3'!M29,Z29)),AND(AU29=0,AV29>0,AW29>0,AX29>0),MIN(J29*PROFILE!$G$10,MAX('MDA3'!J29,'MDA3'!M29,Z29,AO29)),AND(AU29>0,AV29=0,AW29=0,AX29=0), MIN(BB29,MAX('MDA1'!L29,'MDA2'!L29,'MDA5'!L29)),AND(AU29>0,AV29=0,AW29=0,AX29>0), MIN(BB29,MAX('MDA1'!L29,'MDA2'!L29,'MDA5'!L29,AO29)),AND(AU29>0,AV29=0,AW29>0,AX29=0),MIN(BB29,MAX('MDA1'!L29,'MDA2'!L29,'MDA5'!L29,Z29)),AND(AU29>0,AV29=0,AW29>0,AX29>0),MIN(BB29,MAX('MDA1'!L29,'MDA2'!L29,'MDA5'!L29,Z29,AO29)),AND(AU29>0,AV29>0,AW29=0,AX29=0),MIN(BB29, MAX('MDA1'!L29,'MDA2'!L29, 'MDA5'!L29,MAX('MDA3'!J29,'MDA3'!M29))), AND(AU29>0,AV29>0,AW29=0,AX29>0),MIN(BB29, MAX('MDA1'!L29,'MDA2'!L29, 'MDA5'!L29,MAX('MDA3'!J29,'MDA3'!M29),AO29)), AND(AU29>0,AV29>0,AW29>0,AX29=0), MIN(BB29, MAX('MDA1'!L29,'MDA2'!L29, 'MDA5'!L29,MAX('MDA3'!J29,'MDA3'!M29),Z29)), AND(AU29>0,AV29>0,AW29>0,AX29>0), MIN(BB29, MAX('MDA1'!L29,'MDA2'!L29, 'MDA5'!L29,MAX('MDA3'!J29,'MDA3'!M29),Z29,AO29)))","v":21282},38561,59.302203837351307]
[{"$f":"IF(COUNTRY_INFO!A30=0,\" \",COUNTRY_INFO!A30)","v":"Mali"},{"$f":"IF(COUNTRY_INFO!B30=0,\" \",COUNTRY_INFO!B30)","v":"Kayes"},{"$f":"IF(COUNTRY_INFO!C30=0,\" \",COUNTRY_INFO!C30)","v":"Sefeto"},{"$f":"COUNTRY_INFO!L30","v":0},null,null,{"$f":"MAX('MDA1'!M30,'MDA2'!M30,'MDA5'!M30)","v":0},{"$f":"IF(AND(COUNTRY_INFO!H30>0,COUNTRY_INFO!H30<4),IF(D30>G30,G30,D30),0)","v":0},{"$f":"IF(AND(COUNTRY_INFO!H30>0,COUNTRY_INFO!H30<4), IF(G30/D30*100<>0, IF(G30/D30*100>100,100,G30/D30*100), \"-\"),0)","v":0},{"$f":"COUNTRY_INFO!M30","v":77383.568304},28907,25622,{"$f":"MAX('MDA1'!M30,MAX('MDA3'!I30,'MDA3'!L30)+MAX('MDA3'!J30,'MDA3'!M30))","v":54529},{"$f":"IF(AND(COUNTRY_INFO!I30>0,COUNTRY_INFO!I30<4),IF(J30>M30,M30,J30),0)","v":54529},{"$f":"IF(AND(COUNTRY_INFO!I30>0,COUNTRY_INFO!I30<4), IF(M30/J30*100<>0, IF(M30/J30*100>100,100,M30/J30*100), \"-\"),0)","v":70.465864000718824},{"$f":"COUNTRY_INFO!Q30","v":"Non requis"},null,null,{"$f":"MAX('MDA2'!J30,'MDA5'!J30,'T1'!K30, MAX(T3_R1!J30,T3_R2!J30,T3_R3!J30))","v":0},{"$f":"IF(AND(COUNTRY_INFO!J30>1,COUNTRY_INFO!J30<99,COUNTRY_INFO!J30<>4,COUNTRY_INFO!J30<>5),IF(COUNTRY_INFO!N30>S30,S30,COUNTRY_INFO!N30),0)","v":0},{"$f":"IF(AND(COUNTRY_INFO!J30>1,COUNTRY_INFO!J30<99,COUNTRY_INFO!J30<>4,COUNTRY_INFO!J30<>5), IF(T30/COUNTRY_INFO!N30*100<>0, IF(T30/COUNTRY_INFO!N30*100>100,100,T30/COUNTRY_INFO!N30*100), \"-\"),0)","v":0},{"$f":"MAX('MDA1'!K30, 'MDA2'!K30, 'MDA5'!K30,'T1'!L30, MAX(T3_R1!K30,T3_R2!K30,T3_R3!K30))","v":0},{"$f":"IF(AND(COUNTRY_INFO!J30>1,COUNTRY_INFO!J30<99,COUNTRY_INFO!J30<>4,COUNTRY_INFO!J30<>5),IF(COUNTRY_INFO!O30>V30,V30,COUNTRY_INFO!O30),0)","v":0},{"$f":"IF(AND(COUNTRY_INFO!J30>1,COUNTRY_INFO!J30<99,COUNTRY_INFO!J30<>4,COUNTRY_INFO!J30<>5), IF(W30/COUNTRY_INFO!O30*100<>0, IF(W30/COUNTRY_INFO!O30*100>100,100,W30/COUNTRY_INFO!O30*100), \"-\"),0)","v":0},{"$f":"MAX('MDA1'!L30, 'MDA2'!L30, 'MDA5'!L30,'T1'!M30, MAX(T3_R1!L30,T3_R2!L30,T3_R3!L30))","v":0},{"$f":"IF(AND(COUNTRY_INFO!J30>1,COUNTRY_INFO!J30<99,COUNTRY_INFO!J30<>4,COUNTRY_INFO!J30<>5),IF(COUNTRY_INFO!P30>Y30,Y30,COUNTRY_INFO!P30),0)","v":0},{"$f":"IF(AND(COUNTRY_INFO!J30>1,COUNTRY_INFO!J30<99,COUNTRY_INFO!J30<>4,COUNTRY_INFO!J30<>5), IF(Z30/COUNTRY_INFO!P30*100<>0, IF(Z30/COUNTRY_INFO!P30*100>100,100,Z30/COUNTRY_INFO!P30*100), \"-\"),0)","v":0},0,0,{"$f":"IF(AND(COUNTRY_INFO!J30>1,COUNTRY_INFO!J30<99,COUNTRY_INFO!J30<>4,COUNTRY_INFO!J30<>5), IF(AC30/P30*100<>0, IF(AC30/P30*100>100,100,AC30/P30*100), \"-\"),0)","v":0},{"$f":"COUNTRY_INFO!U30","v":68707},null,null,{"$f":"MAX('T1'!K30,'T2'!R30)","v":0},{"$f":"IF(AND(COUNTRY_INFO!K30>1,COUNTRY_INFO!K30<99,COUNTRY_INFO!K30<>4,COUNTRY_INFO!K30<>5),IF(COUNTRY_INFO!R30>AH30,AH30,COUNTRY_INFO!R30),0)","v":0},{"$f":"IF(AND(COUNTRY_INFO!K30>1,COUNTRY_INFO!K30<99,COUNTRY_INFO!K30<>4,COUNTRY_INFO!K30<>5), IF(AI30/COUNTRY_INFO!R30*100<>0, IF(AI30/COUNTRY_INFO!R30*100>100,100,AI30/COUNTRY_INFO!R30*100), \"-\"),0)","v":"-"},{"$f":"MAX('T1'!L30,'T2'!S30)","v":22340},{"$f":"IF(AND(COUNTRY_INFO!K30>1,COUNTRY_INFO!K30<99,COUNTRY_INFO!K30<>4,COUNTRY_INFO!K30<>5),IF(COUNTRY_INFO!S30>AK30,AK30,COUNTRY_INFO!S30),0)","v":21618},{"$f":"IF(AND(COUNTRY_INFO!K30>1,COUNTRY_INFO!K30<99,COUNTRY_INFO!K30<>4,COUNTRY_INFO!K30<>5), IF(AL30/COUNTRY_INFO!S30*100<>0, IF(AL30/COUNTRY_INFO!S30*100>100,100,AL30/COUNTRY_INFO!S30*100), \"-\"),0)","v":100},{"$f":"MAX('T1'!M30,'T2'!T30)","v":0},{"$f":"IF(AND(COUNTRY_INFO!K30>1,COUNTRY_INFO!K30<99,COUNTRY_INFO!K30<>4,COUNTRY_INFO!K30<>5),IF(COUNTRY_INFO!T30>AN30,AN30,COUNTRY_INFO!T30),0)","v":0},{"$f":"IF(AND(COUNTRY_INFO!K30>1,COUNTRY_INFO!K30<99,COUNTRY_INFO!K30<>4,COUNTRY_INFO!K30<>5), IF(AO30/COUNTRY_INFO!T30*100<>0, IF(AO30/COUNTRY_INFO!T30*100>100,100,AO30/COUNTRY_INFO!T30*100), \"-\"),0)","v":"-"},22340,21618,{"$f":"IF(AND(COUNTRY_INFO!K30>1,COUNTRY_INFO!K30<99,COUNTRY_INFO!K30<>4,COUNTRY_INFO!K30<>5), IF(AR30/AE30*100<>0, IF(AR30/AE30*100>100,100,AR30/AE30*100), \"-\"),0)","v":31.464042965054507},null,{"$f":"IF(AND(D30<>0, D30<>\"Inconnu\",D30<>\"Interrompu\",D30<>\"Non requis\"),D30/COUNTRY_INFO!D30, 0)","v":0},{"$f":"IF(AND(J30<>0,J30<>\"Inconnu\",J30<>\"Interrompu\",J30<>\"Non requis\"),J30/COUNTRY_INFO!D30, 0)","v":1},{"$f":"IF(AND(P30<>0,P30<>\"Inconnu\",P30<>\"Surveillance\",P30<>\"Non requis\"),P30/COUNTRY_INFO!Q30, 0)","v":0},{"$f":"IF(AND(AE30<>0,AE30<>\"Inconnu\",AE30<>\"Surveillance\",AE30<>\"Non requis\"),AE30/COUNTRY_INFO!U30, 0)","v":1},{"$f":"IF(AU30>0,D30*PROFILE!$G$7,IF(AV30>0,J30*PROFILE!$G$7,0))","v":3869.186123002668},{"$f":"_xlfn.IFS(OR(AU30>0,AW30>0),COUNTRY_INFO!E30, AV30>0,J30*PROFILE!$G$8,AX30>0,COUNTRY_INFO!R30,COUNTIFS(AU30:AX30,\">0\")=0,0)","v":11607.529190365121},{"$f":"_xlfn.IFS(OR(AU30>0,AW30>0),COUNTRY_INFO!F30, AV30>0,J30*PROFILE!$G$9,AX30>0,COUNTRY_INFO!S30,COUNTIFS(AU30:AX30,\">0\")=0,0)","v":22054.3146542992},{"$f":"_xlfn.IFS(AU30>0,COUNTRY_INFO!G30, AND(AV30>0,AW30=0,AX30=0),J30*PROFILE!$G$10,AND(AV30>0,AW30>0,AX30=0), MAX(J30*PROFILE!$G$10,COUNTRY_INFO!P30),AND(AV30>0,AW30=0,AX30>0), MAX(J30*PROFILE!$G$10,COUNTRY_INFO!T30),AND(AV30=0,AW30>0,AX30>0), MAX(COUNTRY_INFO!P30,COUNTRY_INFO!T30),AND(AV30=0,AW30>0,AX30=0),COUNTRY_INFO!P30,AND(AV30=0,AW30=0,AX30>0),COUNTRY_INFO!T30,AND(AV30>0,AW30>0,AX30>0), MAX(J30*PROFILE!$G$10,COUNTRY_INFO!P30,COUNTRY_INFO!T30),COUNTIFS(AU30:AX30,\">0\")=0,0)","v":39852.538336333011},77383.568304,"Y",{"$f":"MAX('MDA2'!J30,'MDA5'!J30,S30,AH30)","v":0},{"$f":"MAX('MDA1'!K30,'MDA2'!K30,'MDA3'!I30,'MDA3'!L30,'MDA5'!K30,V30,AK30)","v":22340},{"$f":"MAX('MDA1'!L30,'MDA2'!L30,'MDA3'!J30,'MDA3'!M30,'MDA5'!L30,Y30,AN30)","v":35365},57705,{"$f":"_xlfn.IFS(AND(AU30=0,AW30=0,AX30=0),0,AND(AU30=0,AW30=0,AX30>0),AI30,AND(AU30=0,AW30>0,AX30=0),T30,AND(AU30=0,AW30>0,AX30>0),MAX(T30,AI30),AND(AU30>0,AW30=0,AX30=0),MIN(MAX('MDA2'!J30,'MDA5'!J30),AZ30),AND(AU30>0,AW30=0,AX30>0),MIN(MAX('MDA2'!J30,'MDA5'!J30,AI30),AZ30),AND(AU30>0,AW30>0,AX30=0),MIN(MAX('MDA2'!J30,'MDA5'!J30,T30),AZ30),AND(AU30>0,AW30>0,AX30>0),MIN(MAX('MDA2'!J30,'MDA5'!J30,AI30,T30),AZ30))","v":0},{"$f":"_xlfn.IFS(AND(AU30=0,AV30=0,AW30=0,AX30=0),0,AND(AU30=0,AV30=0,AW30=0,AX30>0),AL30,AND(AU30=0,AV30=0,AW30>0,AX30=0),W30,AND(AU30=0,AV30=0,AW30>0,AX30>0),MAX(W30,AL30),AND(AU30=0,AV30>0,AW30=0,AX30=0),MIN(J30*PROFILE!$G$9,MAX('MDA3'!I30,'MDA3'!L30)),AND(AU30=0,AV30>0,AW30=0,AX30>0),MIN(J30*PROFILE!$G$9,MAX('MDA3'!I30,'MDA3'!L30,AL30)),AND(AU30=0,AV30>0,AW30>0,AX30=0),MIN(J30*PROFILE!$G$9,MAX('MDA3'!I30,'MDA3'!L30,W30)),AND(AU30=0,AV30>0,AW30>0,AX30>0),MIN(J30*PROFILE!$G$9,MAX('MDA3'!I30,'MDA3'!L30,W30,AL30)),AND(AU30>0,AV30=0,AW30=0,AX30=0), MIN(BA30,MAX('MDA1'!K30,'MDA2'!K30,'MDA5'!K30)),AND(AU30>0,AV30=0,AW30=0,AX30>0), MIN(BA30,MAX('MDA1'!K30,'MDA2'!K30,'MDA5'!K30,AL30)),AND(AU30>0,AV30=0,AW30>0,AX30=0),MIN(BA30,MAX('MDA1'!K30,'MDA2'!KL30,'MDA5'!K30,W30)),AND(AU30>0,AV30=0,AW30>0,AX30>0),MIN(BA30,MAX('MDA1'!K30,'MDA2'!K30,'MDA5'!K30,W30,AL30)),AND(AU30>0,AV30>0,AW30=0,AX30=0),MIN(BA30, MAX('MDA1'!K30,'MDA2'!K30, 'MDA5'!K30,MAX('MDA3'!I30,'MDA3'!L30))), AND(AU30>0,AV30>0,AW30=0,AX30>0),MIN(BA30, MAX('MDA1'!K30,'MDA2'!K30, 'MDA5'!K30,MAX('MDA3'!I30,'MDA3'!L30),AL30)), AND(AU30>0,AV30>0,AW30>0,AX30=0), MIN(BA30, MAX('MDA1'!K30,'MDA2'!K30, 'MDA5'!K30,MAX('MDA3'!I30,'MDA3'!L30),W30)), AND(AU30>0,AV30>0,AW30>0,AX30>0), MIN(BA30, MAX('MDA1'!K30,'MDA2'!K30, 'MDA5'!K30,MAX('MDA3'!I30,'MDA3'!L30),W30,AL30)))","v":21618},{"$f":"_xlfn.IFS(AND(AU30=0,AV30=0,AW30=0,AX30=0),0,AND(AU30=0,AV30=0,AW30=0,AX30>0),AO30,AND(AU30=0,AV30=0,AW30>0,AX30=0),Z30,AND(AU30=0,AV30=0,AW30>0,AX30>0),MAX(Z30,AO30),AND(AU30=0,AV30>0,AW30=0,AX30=0),MIN(J30*PROFILE!$G$10,MAX('MDA3'!J30,'MDA3'!J30)),AND(AU30=0,AV30>0,AW30=0,AX30>0),MIN(J30*PROFILE!$G$10,MAX('MDA3'!J30,'MDA3'!M30,AO30)),AND(AU30=0,AV30>0,AW30>0,AX30=0),MIN(J30*PROFILE!$G$10,MAX('MDA3'!J30,'MDA3'!M30,Z30)),AND(AU30=0,AV30>0,AW30>0,AX30>0),MIN(J30*PROFILE!$G$10,MAX('MDA3'!J30,'MDA3'!M30,Z30,AO30)),AND(AU30>0,AV30=0,AW30=0,AX30=0), MIN(BB30,MAX('MDA1'!L30,'MDA2'!L30,'MDA5'!L30)),AND(AU30>0,AV30=0,AW30=0,AX30>0), MIN(BB30,MAX('MDA1'!L30,'MDA2'!L30,'MDA5'!L30,AO30)),AND(AU30>0,AV30=0,AW30>0,AX30=0),MIN(BB30,MAX('MDA1'!L30,'MDA2'!L30,'MDA5'!L30,Z30)),AND(AU30>0,AV30=0,AW30>0,AX30>0),MIN(BB30,MAX('MDA1'!L30,'MDA2'!L30,'MDA5'!L30,Z30,AO30)),AND(AU30>0,AV30>0,AW30=0,AX30=0),MIN(BB30, MAX('MDA1'!L30,'MDA2'!L30, 'MDA5'!L30,MAX('MDA3'!J30,'MDA3'!M30))), AND(AU30>0,AV30>0,AW30=0,AX30>0),MIN(BB30, MAX('MDA1'!L30,'MDA2'!L30, 'MDA5'!L30,MAX('MDA3'!J30,'MDA3'!M30),AO30)), AND(AU30>0,AV30>0,AW30>0,AX30=0), MIN(BB30, MAX('MDA1'!L30,'MDA2'!L30, 'MDA5'!L30,MAX('MDA3'!J30,'MDA3'!M30),Z30)), AND(AU30>0,AV30>0,AW30>0,AX30>0), MIN(BB30, MAX('MDA1'!L30,'MDA2'!L30, 'MDA5'!L30,MAX('MDA3'!J30,'MDA3'!M30),Z30,AO30)))","v":35365},56983,73.637079872232405]
[{"$f":"IF(COUNTRY_INFO!A31=0,\" \",COUNTRY_INFO!A31)","v":"Mali"},{"$f":"IF(COUNTRY_INFO!B31=0,\" \",COUNTRY_INFO!B31)","v":"Kayes"},{"$f":"IF(COUNTRY_INFO!C31=0,\" \",COUNTRY_INFO!C31)","v":"Nioro"},{"$f":"COUNTRY_INFO!L31","v":0},null,null,{"$f":"MAX('MDA1'!M31,'MDA2'!M31,'MDA5'!M31)","v":0},{"$f":"IF(AND(COUNTRY_INFO!H31>0,COUNTRY_INFO!H31<4),IF(D31>G31,G31,D31),0)","v":0},{"$f":"IF(AND(COUNTRY_INFO!H31>0,COUNTRY_INFO!H31<4), IF(G31/D31*100<>0, IF(G31/D31*100>100,100,G31/D31*100), \"-\"),0)","v":0},{"$f":"COUNTRY_INFO!M31","v":0},null,null,{"$f":"MAX('MDA1'!M31,MAX('MDA3'!I31,'MDA3'!L31)+MAX('MDA3'!J31,'MDA3'!M31))","v":0},{"$f":"IF(AND(COUNTRY_INFO!I31>0,COUNTRY_INFO!I31<4),IF(J31>M31,M31,J31),0)","v":0},{"$f":"IF(AND(COUNTRY_INFO!I31>0,COUNTRY_INFO!I31<4), IF(M31/J31*100<>0, IF(M31/J31*100>100,100,M31/J31*100), \"-\"),0)","v":0},{"$f":"COUNTRY_INFO!Q31","v":"Non requis"},null,null,{"$f":"MAX('MDA2'!J31,'MDA5'!J31,'T1'!K31, MAX(T3_R1!J31,T3_R2!J31,T3_R3!J31))","v":0},{"$f":"IF(AND(COUNTRY_INFO!J31>1,COUNTRY_INFO!J31<99,COUNTRY_INFO!J31<>4,COUNTRY_INFO!J31<>5),IF(COUNTRY_INFO!N31>S31,S31,COUNTRY_INFO!N31),0)","v":0},{"$f":"IF(AND(COUNTRY_INFO!J31>1,COUNTRY_INFO!J31<99,COUNTRY_INFO!J31<>4,COUNTRY_INFO!J31<>5), IF(T31/COUNTRY_INFO!N31*100<>0, IF(T31/COUNTRY_INFO!N31*100>100,100,T31/COUNTRY_INFO!N31*100), \"-\"),0)","v":0},{"$f":"MAX('MDA1'!K31, 'MDA2'!K31, 'MDA5'!K31,'T1'!L31, MAX(T3_R1!K31,T3_R2!K31,T3_R3!K31))","v":0},{"$f":"IF(AND(COUNTRY_INFO!J31>1,COUNTRY_INFO!J31<99,COUNTRY_INFO!J31<>4,COUNTRY_INFO!J31<>5),IF(COUNTRY_INFO!O31>V31,V31,COUNTRY_INFO!O31),0)","v":0},{"$f":"IF(AND(COUNTRY_INFO!J31>1,COUNTRY_INFO!J31<99,COUNTRY_INFO!J31<>4,COUNTRY_INFO!J31<>5), IF(W31/COUNTRY_INFO!O31*100<>0, IF(W31/COUNTRY_INFO!O31*100>100,100,W31/COUNTRY_INFO!O31*100), \"-\"),0)","v":0},{"$f":"MAX('MDA1'!L31, 'MDA2'!L31, 'MDA5'!L31,'T1'!M31, MAX(T3_R1!L31,T3_R2!L31,T3_R3!L31))","v":0},{"$f":"IF(AND(COUNTRY_INFO!J31>1,COUNTRY_INFO!J31<99,COUNTRY_INFO!J31<>4,COUNTRY_INFO!J31<>5),IF(COUNTRY_INFO!P31>Y31,Y31,COUNTRY_INFO!P31),0)","v":0},{"$f":"IF(AND(COUNTRY_INFO!J31>1,COUNTRY_INFO!J31<99,COUNTRY_INFO!J31<>4,COUNTRY_INFO!J31<>5), IF(Z31/COUNTRY_INFO!P31*100<>0, IF(Z31/COUNTRY_INFO!P31*100>100,100,Z31/COUNTRY_INFO!P31*100), \"-\"),0)","v":0},0,0,{"$f":"IF(AND(COUNTRY_INFO!J31>1,COUNTRY_INFO!J31<99,COUNTRY_INFO!J31<>4,COUNTRY_INFO!J31<>5), IF(AC31/P31*100<>0, IF(AC31/P31*100>100,100,AC31/P31*100), \"-\"),0)","v":0},{"$f":"COUNTRY_INFO!U31","v":299491},null,null,{"$f":"MAX('T1'!K31,'T2'!R31)","v":0},{"$f":"IF(AND(COUNTRY_INFO!K31>1,COUNTRY_INFO!K31<99,COUNTRY_INFO!K31<>4,COUNTRY_INFO!K31<>5),IF(COUNTRY_INFO!R31>AH31,AH31,COUNTRY_INFO!R31),0)","v":0},{"$f":"IF(AND(COUNTRY_INFO!K31>1,COUNTRY_INFO!K31<99,COUNTRY_INFO!K31<>4,COUNTRY_INFO!K31<>5), IF(AI31/COUNTRY_INFO!R31*100<>0, IF(AI31/COUNTRY_INFO!R31*100>100,100,AI31/COUNTRY_INFO!R31*100), \"-\"),0)","v":"-"},{"$f":"MAX('T1'!L31,'T2'!S31)","v":20945},{"$f":"IF(AND(COUNTRY_INFO!K31>1,COUNTRY_INFO!K31<99,COUNTRY_INFO!K31<>4,COUNTRY_INFO!K31<>5),IF(COUNTRY_INFO!S31>AK31,AK31,COUNTRY_INFO!S31),0)","v":20945},{"$f":"IF(AND(COUNTRY_INFO!K31>1,COUNTRY_INFO!K31<99,COUNTRY_INFO!K31<>4,COUNTRY_INFO!K31<>5), IF(AL31/COUNTRY_INFO!S31*100<>0, IF(AL31/COUNTRY_INFO!S31*100>100,100,AL31/COUNTRY_INFO!S31*100), \"-\"),0)","v":22.227292504589784},{"$f":"MAX('T1'!M31,'T2'!T31)","v":0},{"$f":"IF(AND(COUNTRY_INFO!K31>1,COUNTRY_INFO!K31<99,COUNTRY_INFO!K31<>4,COUNTRY_INFO!K31<>5),IF(COUNTRY_INFO!T31>AN31,AN31,COUNTRY_INFO!T31),0)","v":0},{"$f":"IF(AND(COUNTRY_INFO!K31>1,COUNTRY_INFO!K31<99,COUNTRY_INFO!K31<>4,COUNTRY_INFO!K31<>5), IF(AO31/COUNTRY_INFO!T31*100<>0, IF(AO31/COUNTRY_INFO!T31*100>100,100,AO31/COUNTRY_INFO!T31*100), \"-\"),0)","v":"-"},20945,20945,{"$f":"IF(AND(COUNTRY_INFO!K31>1,COUNTRY_INFO!K31<99,COUNTRY_INFO!K31<>4,COUNTRY_INFO!K31<>5), IF(AR31/AE31*100<>0, IF(AR31/AE31*100>100,100,AR31/AE31*100), \"-\"),0)","v":6.9935323599039698},null,{"$f":"IF(AND(D31<>0, D31<>\"Inconnu\",D31<>\"Interrompu\",D31<>\"Non requis\"),D31/COUNTRY_INFO!D31, 0)","v":0},{"$f":"IF(AND(J31<>0,J31<>\"Inconnu\",J31<>\"Interrompu\",J31<>\"Non requis\"),J31/COUNTRY_INFO!D31, 0)","v":0},{"$f":"IF(AND(P31<>0,P31<>\"Inconnu\",P31<>\"Surveillance\",P31<>\"Non requis\"),P31/COUNTRY_INFO!Q31, 0)","v":0},{"$f":"IF(AND(AE31<>0,AE31<>\"Inconnu\",AE31<>\"Surveillance\",AE31<>\"Non requis\"),AE31/COUNTRY_INFO!U31, 0)","v":1},{"$f":"IF(AU31>0,D31*PROFILE!$G$7,IF(AV31>0,J31*PROFILE!$G$7,0))","v":0},{"$f":"_xlfn.IFS(OR(AU31>0,AW31>0),COUNTRY_INFO!E31, AV31>0,J31*PROFILE!$G$8,AX31>0,COUNTRY_INFO!R31,COUNTIFS(AU31:AX31,\">0\")=0,0)","v":34983},{"$f":"_xlfn.IFS(OR(AU31>0,AW31>0),COUNTRY_INFO!F31, AV31>0,J31*PROFILE!$G$9,AX31>0,COUNTRY_INFO!S31,COUNTIFS(AU31:AX31,\">0\")=0,0)","v":94231},{"$f":"_xlfn.IFS(AU31>0,COUNTRY_INFO!G31, AND(AV31>0,AW31=0,AX31=0),J31*PROFILE!$G$10,AND(AV31>0,AW31>0,AX31=0), MAX(J31*PROFILE!$G$10,COUNTRY_INFO!P31),AND(AV31>0,AW31=0,AX31>0), MAX(J31*PROFILE!$G$10,COUNTRY_INFO!T31),AND(AV31=0,AW31>0,AX31>0), MAX(COUNTRY_INFO!P31,COUNTRY_INFO!T31),AND(AV31=0,AW31>0,AX31=0),COUNTRY_INFO!P31,AND(AV31=0,AW31=0,AX31>0),COUNTRY_INFO!T31,AND(AV31>0,AW31>0,AX31>0), MAX(J31*PROFILE!$G$10,COUNTRY_INFO!P31,COUNTRY_INFO!T31),COUNTIFS(AU31:AX31,\">0\")=0,0)","v":170277},299491,"Y",{"$f":"MAX('MDA2'!J31,'MDA5'!J31,S31,AH31)","v":0},{"$f":"MAX('MDA1'!K31,'MDA2'!K31,'MDA3'!I31,'MDA3'!L31,'MDA5'!K31,V31,AK31)","v":20945},{"$f":"MAX('MDA1'!L31,'MDA2'!L31,'MDA3'!J31,'MDA3'!M31,'MDA5'!L31,Y31,AN31)","v":0},20945,{"$f":"_xlfn.IFS(AND(AU31=0,AW31=0,AX31=0),0,AND(AU31=0,AW31=0,AX31>0),AI31,AND(AU31=0,AW31>0,AX31=0),T31,AND(AU31=0,AW31>0,AX31>0),MAX(T31,AI31),AND(AU31>0,AW31=0,AX31=0),MIN(MAX('MDA2'!J31,'MDA5'!J31),AZ31),AND(AU31>0,AW31=0,AX31>0),MIN(MAX('MDA2'!J31,'MDA5'!J31,AI31),AZ31),AND(AU31>0,AW31>0,AX31=0),MIN(MAX('MDA2'!J31,'MDA5'!J31,T31),AZ31),AND(AU31>0,AW31>0,AX31>0),MIN(MAX('MDA2'!J31,'MDA5'!J31,AI31,T31),AZ31))","v":0},{"$f":"_xlfn.IFS(AND(AU31=0,AV31=0,AW31=0,AX31=0),0,AND(AU31=0,AV31=0,AW31=0,AX31>0),AL31,AND(AU31=0,AV31=0,AW31>0,AX31=0),W31,AND(AU31=0,AV31=0,AW31>0,AX31>0),MAX(W31,AL31),AND(AU31=0,AV31>0,AW31=0,AX31=0),MIN(J31*PROFILE!$G$9,MAX('MDA3'!I31,'MDA3'!L31)),AND(AU31=0,AV31>0,AW31=0,AX31>0),MIN(J31*PROFILE!$G$9,MAX('MDA3'!I31,'MDA3'!L31,AL31)),AND(AU31=0,AV31>0,AW31>0,AX31=0),MIN(J31*PROFILE!$G$9,MAX('MDA3'!I31,'MDA3'!L31,W31)),AND(AU31=0,AV31>0,AW31>0,AX31>0),MIN(J31*PROFILE!$G$9,MAX('MDA3'!I31,'MDA3'!L31,W31,AL31)),AND(AU31>0,AV31=0,AW31=0,AX31=0), MIN(BA31,MAX('MDA1'!K31,'MDA2'!K31,'MDA5'!K31)),AND(AU31>0,AV31=0,AW31=0,AX31>0), MIN(BA31,MAX('MDA1'!K31,'MDA2'!K31,'MDA5'!K31,AL31)),AND(AU31>0,AV31=0,AW31>0,AX31=0),MIN(BA31,MAX('MDA1'!K31,'MDA2'!KL31,'MDA5'!K31,W31)),AND(AU31>0,AV31=0,AW31>0,AX31>0),MIN(BA31,MAX('MDA1'!K31,'MDA2'!K31,'MDA5'!K31,W31,AL31)),AND(AU31>0,AV31>0,AW31=0,AX31=0),MIN(BA31, MAX('MDA1'!K31,'MDA2'!K31, 'MDA5'!K31,MAX('MDA3'!I31,'MDA3'!L31))), AND(AU31>0,AV31>0,AW31=0,AX31>0),MIN(BA31, MAX('MDA1'!K31,'MDA2'!K31, 'MDA5'!K31,MAX('MDA3'!I31,'MDA3'!L31),AL31)), AND(AU31>0,AV31>0,AW31>0,AX31=0), MIN(BA31, MAX('MDA1'!K31,'MDA2'!K31, 'MDA5'!K31,MAX('MDA3'!I31,'MDA3'!L31),W31)), AND(AU31>0,AV31>0,AW31>0,AX31>0), MIN(BA31, MAX('MDA1'!K31,'MDA2'!K31, 'MDA5'!K31,MAX('MDA3'!I31,'MDA3'!L31),W31,AL31)))","v":20945},{"$f":"_xlfn.IFS(AND(AU31=0,AV31=0,AW31=0,AX31=0),0,AND(AU31=0,AV31=0,AW31=0,AX31>0),AO31,AND(AU31=0,AV31=0,AW31>0,AX31=0),Z31,AND(AU31=0,AV31=0,AW31>0,AX31>0),MAX(Z31,AO31),AND(AU31=0,AV31>0,AW31=0,AX31=0),MIN(J31*PROFILE!$G$10,MAX('MDA3'!J31,'MDA3'!J31)),AND(AU31=0,AV31>0,AW31=0,AX31>0),MIN(J31*PROFILE!$G$10,MAX('MDA3'!J31,'MDA3'!M31,AO31)),AND(AU31=0,AV31>0,AW31>0,AX31=0),MIN(J31*PROFILE!$G$10,MAX('MDA3'!J31,'MDA3'!M31,Z31)),AND(AU31=0,AV31>0,AW31>0,AX31>0),MIN(J31*PROFILE!$G$10,MAX('MDA3'!J31,'MDA3'!M31,Z31,AO31)),AND(AU31>0,AV31=0,AW31=0,AX31=0), MIN(BB31,MAX('MDA1'!L31,'MDA2'!L31,'MDA5'!L31)),AND(AU31>0,AV31=0,AW31=0,AX31>0), MIN(BB31,MAX('MDA1'!L31,'MDA2'!L31,'MDA5'!L31,AO31)),AND(AU31>0,AV31=0,AW31>0,AX31=0),MIN(BB31,MAX('MDA1'!L31,'MDA2'!L31,'MDA5'!L31,Z31)),AND(AU31>0,AV31=0,AW31>0,AX31>0),MIN(BB31,MAX('MDA1'!L31,'MDA2'!L31,'MDA5'!L31,Z31,AO31)),AND(AU31>0,AV31>0,AW31=0,AX31=0),MIN(BB31, MAX('MDA1'!L31,'MDA2'!L31, 'MDA5'!L31,MAX('MDA3'!J31,'MDA3'!M31))), AND(AU31>0,AV31>0,AW31=0,AX31>0),MIN(BB31, MAX('MDA1'!L31,'MDA2'!L31, 'MDA5'!L31,MAX('MDA3'!J31,'MDA3'!M31),AO31)), AND(AU31>0,AV31>0,AW31>0,AX31=0), MIN(BB31, MAX('MDA1'!L31,'MDA2'!L31, 'MDA5'!L31,MAX('MDA3'!J31,'MDA3'!M31),Z31)), AND(AU31>0,AV31>0,AW31>0,AX31>0), MIN(BB31, MAX('MDA1'!L31,'MDA2'!L31, 'MDA5'!L31,MAX('MDA3'!J31,'MDA3'!M31),Z31,AO31)))","v":0},20945,6.9935323599039698]
[{"$f":"IF(COUNTRY_INFO!A32=0,\" \",COUNTRY_INFO!A32)","v":"Mali"},{"$f":"IF(COUNTRY_INFO!B32=0,\" \",COUNTRY_INFO!B32)","v":"Kayes"},{"$f":"IF(COUNTRY_INFO!C32=0,\" \",COUNTRY_INFO!C32)","v":"Oussoubidiagna"},{"$f":"COUNTRY_INFO!L32","v":0},null,null,{"$f":"MAX('MDA1'!M32,'MDA2'!M32,'MDA5'!M32)","v":0},{"$f":"IF(AND(COUNTRY_INFO!H32>0,COUNTRY_INFO!H32<4),IF(D32>G32,G32,D32),0)","v":0},{"$f":"IF(AND(COUNTRY_INFO!H32>0,COUNTRY_INFO!H32<4), IF(G32/D32*100<>0, IF(G32/D32*100>100,100,G32/D32*100), \"-\"),0)","v":0},{"$f":"COUNTRY_INFO!M32","v":168815.50795199999},56942,55877,{"$f":"MAX('MDA1'!M32,MAX('MDA3'!I32,'MDA3'!L32)+MAX('MDA3'!J32,'MDA3'!M32))","v":112819},{"$f":"IF(AND(COUNTRY_INFO!I32>0,COUNTRY_INFO!I32<4),IF(J32>M32,M32,J32),0)","v":112819},{"$f":"IF(AND(COUNTRY_INFO!I32>0,COUNTRY_INFO!I32<4), IF(M32/J32*100<>0, IF(M32/J32*100>100,100,M32/J32*100), \"-\"),0)","v":66.829760706627908},{"$f":"COUNTRY_INFO!Q32","v":"Non requis"},null,null,{"$f":"MAX('MDA2'!J32,'MDA5'!J32,'T1'!K32, MAX(T3_R1!J32,T3_R2!J32,T3_R3!J32))","v":0},{"$f":"IF(AND(COUNTRY_INFO!J32>1,COUNTRY_INFO!J32<99,COUNTRY_INFO!J32<>4,COUNTRY_INFO!J32<>5),IF(COUNTRY_INFO!N32>S32,S32,COUNTRY_INFO!N32),0)","v":0},{"$f":"IF(AND(COUNTRY_INFO!J32>1,COUNTRY_INFO!J32<99,COUNTRY_INFO!J32<>4,COUNTRY_INFO!J32<>5), IF(T32/COUNTRY_INFO!N32*100<>0, IF(T32/COUNTRY_INFO!N32*100>100,100,T32/COUNTRY_INFO!N32*100), \"-\"),0)","v":0},{"$f":"MAX('MDA1'!K32, 'MDA2'!K32, 'MDA5'!K32,'T1'!L32, MAX(T3_R1!K32,T3_R2!K32,T3_R3!K32))","v":0},{"$f":"IF(AND(COUNTRY_INFO!J32>1,COUNTRY_INFO!J32<99,COUNTRY_INFO!J32<>4,COUNTRY_INFO!J32<>5),IF(COUNTRY_INFO!O32>V32,V32,COUNTRY_INFO!O32),0)","v":0},{"$f":"IF(AND(COUNTRY_INFO!J32>1,COUNTRY_INFO!J32<99,COUNTRY_INFO!J32<>4,COUNTRY_INFO!J32<>5), IF(W32/COUNTRY_INFO!O32*100<>0, IF(W32/COUNTRY_INFO!O32*100>100,100,W32/COUNTRY_INFO!O32*100), \"-\"),0)","v":0},{"$f":"MAX('MDA1'!L32, 'MDA2'!L32, 'MDA5'!L32,'T1'!M32, MAX(T3_R1!L32,T3_R2!L32,T3_R3!L32))","v":0},{"$f":"IF(AND(COUNTRY_INFO!J32>1,COUNTRY_INFO!J32<99,COUNTRY_INFO!J32<>4,COUNTRY_INFO!J32<>5),IF(COUNTRY_INFO!P32>Y32,Y32,COUNTRY_INFO!P32),0)","v":0},{"$f":"IF(AND(COUNTRY_INFO!J32>1,COUNTRY_INFO!J32<99,COUNTRY_INFO!J32<>4,COUNTRY_INFO!J32<>5), IF(Z32/COUNTRY_INFO!P32*100<>0, IF(Z32/COUNTRY_INFO!P32*100>100,100,Z32/COUNTRY_INFO!P32*100), \"-\"),0)","v":0},0,0,{"$f":"IF(AND(COUNTRY_INFO!J32>1,COUNTRY_INFO!J32<99,COUNTRY_INFO!J32<>4,COUNTRY_INFO!J32<>5), IF(AC32/P32*100<>0, IF(AC32/P32*100>100,100,AC32/P32*100), \"-\"),0)","v":0},{"$f":"COUNTRY_INFO!U32","v":58602},null,null,{"$f":"MAX('T1'!K32,'T2'!R32)","v":0},{"$f":"IF(AND(COUNTRY_INFO!K32>1,COUNTRY_INFO!K32<99,COUNTRY_INFO!K32<>4,COUNTRY_INFO!K32<>5),IF(COUNTRY_INFO!R32>AH32,AH32,COUNTRY_INFO!R32),0)","v":0},{"$f":"IF(AND(COUNTRY_INFO!K32>1,COUNTRY_INFO!K32<99,COUNTRY_INFO!K32<>4,COUNTRY_INFO!K32<>5), IF(AI32/COUNTRY_INFO!R32*100<>0, IF(AI32/COUNTRY_INFO!R32*100>100,100,AI32/COUNTRY_INFO!R32*100), \"-\"),0)","v":"-"},{"$f":"MAX('T1'!L32,'T2'!S32)","v":36344},{"$f":"IF(AND(COUNTRY_INFO!K32>1,COUNTRY_INFO!K32<99,COUNTRY_INFO!K32<>4,COUNTRY_INFO!K32<>5),IF(COUNTRY_INFO!S32>AK32,AK32,COUNTRY_INFO!S32),0)","v":18437},{"$f":"IF(AND(COUNTRY_INFO!K32>1,COUNTRY_INFO!K32<99,COUNTRY_INFO!K32<>4,COUNTRY_INFO!K32<>5), IF(AL32/COUNTRY_INFO!S32*100<>0, IF(AL32/COUNTRY_INFO!S32*100>100,100,AL32/COUNTRY_INFO!S32*100), \"-\"),0)","v":100},{"$f":"MAX('T1'!M32,'T2'!T32)","v":0},{"$f":"IF(AND(COUNTRY_INFO!K32>1,COUNTRY_INFO!K32<99,COUNTRY_INFO!K32<>4,COUNTRY_INFO!K32<>5),IF(COUNTRY_INFO!T32>AN32,AN32,COUNTRY_INFO!T32),0)","v":0},{"$f":"IF(AND(COUNTRY_INFO!K32>1,COUNTRY_INFO!K32<99,COUNTRY_INFO!K32<>4,COUNTRY_INFO!K32<>5), IF(AO32/COUNTRY_INFO!T32*100<>0, IF(AO32/COUNTRY_INFO!T32*100>100,100,AO32/COUNTRY_INFO!T32*100), \"-\"),0)","v":"-"},36344,18437,{"$f":"IF(AND(COUNTRY_INFO!K32>1,COUNTRY_INFO!K32<99,COUNTRY_INFO!K32<>4,COUNTRY_INFO!K32<>5), IF(AR32/AE32*100<>0, IF(AR32/AE32*100>100,100,AR32/AE32*100), \"-\"),0)","v":31.461383570526603},null,{"$f":"IF(AND(D32<>0, D32<>\"Inconnu\",D32<>\"Interrompu\",D32<>\"Non requis\"),D32/COUNTRY_INFO!D32, 0)","v":0},{"$f":"IF(AND(J32<>0,J32<>\"Inconnu\",J32<>\"Interrompu\",J32<>\"Non requis\"),J32/COUNTRY_INFO!D32, 0)","v":1},{"$f":"IF(AND(P32<>0,P32<>\"Inconnu\",P32<>\"Surveillance\",P32<>\"Non requis\"),P32/COUNTRY_INFO!Q32, 0)","v":0},{"$f":"IF(AND(AE32<>0,AE32<>\"Inconnu\",AE32<>\"Surveillance\",AE32<>\"Non requis\"),AE32/COUNTRY_INFO!U32, 0)","v":1},{"$f":"IF(AU32>0,D32*PROFILE!$G$7,IF(AV32>0,J32*PROFILE!$G$7,0))","v":8440.792212495604},{"$f":"_xlfn.IFS(OR(AU32>0,AW32>0),COUNTRY_INFO!E32, AV32>0,J32*PROFILE!$G$8,AX32>0,COUNTRY_INFO!R32,COUNTIFS(AU32:AX32,\">0\")=0,0)","v":25322.31298305051},{"$f":"_xlfn.IFS(OR(AU32>0,AW32>0),COUNTRY_INFO!F32, AV32>0,J32*PROFILE!$G$9,AX32>0,COUNTRY_INFO!S32,COUNTIFS(AU32:AX32,\">0\")=0,0)","v":48112.41472185131},{"$f":"_xlfn.IFS(AU32>0,COUNTRY_INFO!G32, AND(AV32>0,AW32=0,AX32=0),J32*PROFILE!$G$10,AND(AV32>0,AW32>0,AX32=0), MAX(J32*PROFILE!$G$10,COUNTRY_INFO!P32),AND(AV32>0,AW32=0,AX32>0), MAX(J32*PROFILE!$G$10,COUNTRY_INFO!T32),AND(AV32=0,AW32>0,AX32>0), MAX(COUNTRY_INFO!P32,COUNTRY_INFO!T32),AND(AV32=0,AW32>0,AX32=0),COUNTRY_INFO!P32,AND(AV32=0,AW32=0,AX32>0),COUNTRY_INFO!T32,AND(AV32>0,AW32>0,AX32>0), MAX(J32*PROFILE!$G$10,COUNTRY_INFO!P32,COUNTRY_INFO!T32),COUNTIFS(AU32:AX32,\">0\")=0,0)","v":86939.98803460256},168815.50795199999,"Y",{"$f":"MAX('MDA2'!J32,'MDA5'!J32,S32,AH32)","v":0},{"$f":"MAX('MDA1'!K32,'MDA2'!K32,'MDA3'!I32,'MDA3'!L32,'MDA5'!K32,V32,AK32)","v":51119},{"$f":"MAX('MDA1'!L32,'MDA2'!L32,'MDA3'!J32,'MDA3'!M32,'MDA5'!L32,Y32,AN32)","v":61700},112819,{"$f":"_xlfn.IFS(AND(AU32=0,AW32=0,AX32=0),0,AND(AU32=0,AW32=0,AX32>0),AI32,AND(AU32=0,AW32>0,AX32=0),T32,AND(AU32=0,AW32>0,AX32>0),MAX(T32,AI32),AND(AU32>0,AW32=0,AX32=0),MIN(MAX('MDA2'!J32,'MDA5'!J32),AZ32),AND(AU32>0,AW32=0,AX32>0),MIN(MAX('MDA2'!J32,'MDA5'!J32,AI32),AZ32),AND(AU32>0,AW32>0,AX32=0),MIN(MAX('MDA2'!J32,'MDA5'!J32,T32),AZ32),AND(AU32>0,AW32>0,AX32>0),MIN(MAX('MDA2'!J32,'MDA5'!J32,AI32,T32),AZ32))","v":0},{"$f":"_xlfn.IFS(AND(AU32=0,AV32=0,AW32=0,AX32=0),0,AND(AU32=0,AV32=0,AW32=0,AX32>0),AL32,AND(AU32=0,AV32=0,AW32>0,AX32=0),W32,AND(AU32=0,AV32=0,AW32>0,AX32>0),MAX(W32,AL32),AND(AU32=0,AV32>0,AW32=0,AX32=0),MIN(J32*PROFILE!$G$9,MAX('MDA3'!I32,'MDA3'!L32)),AND(AU32=0,AV32>0,AW32=0,AX32>0),MIN(J32*PROFILE!$G$9,MAX('MDA3'!I32,'MDA3'!L32,AL32)),AND(AU32=0,AV32>0,AW32>0,AX32=0),MIN(J32*PROFILE!$G$9,MAX('MDA3'!I32,'MDA3'!L32,W32)),AND(AU32=0,AV32>0,AW32>0,AX32>0),MIN(J32*PROFILE!$G$9,MAX('MDA3'!I32,'MDA3'!L32,W32,AL32)),AND(AU32>0,AV32=0,AW32=0,AX32=0), MIN(BA32,MAX('MDA1'!K32,'MDA2'!K32,'MDA5'!K32)),AND(AU32>0,AV32=0,AW32=0,AX32>0), MIN(BA32,MAX('MDA1'!K32,'MDA2'!K32,'MDA5'!K32,AL32)),AND(AU32>0,AV32=0,AW32>0,AX32=0),MIN(BA32,MAX('MDA1'!K32,'MDA2'!KL32,'MDA5'!K32,W32)),AND(AU32>0,AV32=0,AW32>0,AX32>0),MIN(BA32,MAX('MDA1'!K32,'MDA2'!K32,'MDA5'!K32,W32,AL32)),AND(AU32>0,AV32>0,AW32=0,AX32=0),MIN(BA32, MAX('MDA1'!K32,'MDA2'!K32, 'MDA5'!K32,MAX('MDA3'!I32,'MDA3'!L32))), AND(AU32>0,AV32>0,AW32=0,AX32>0),MIN(BA32, MAX('MDA1'!K32,'MDA2'!K32, 'MDA5'!K32,MAX('MDA3'!I32,'MDA3'!L32),AL32)), AND(AU32>0,AV32>0,AW32>0,AX32=0), MIN(BA32, MAX('MDA1'!K32,'MDA2'!K32, 'MDA5'!K32,MAX('MDA3'!I32,'MDA3'!L32),W32)), AND(AU32>0,AV32>0,AW32>0,AX32>0), MIN(BA32, MAX('MDA1'!K32,'MDA2'!K32, 'MDA5'!K32,MAX('MDA3'!I32,'MDA3'!L32),W32,AL32)))","v":48112.41472185131},{"$f":"_xlfn.IFS(AND(AU32=0,AV32=0,AW32=0,AX32=0),0,AND(AU32=0,AV32=0,AW32=0,AX32>0),AO32,AND(AU32=0,AV32=0,AW32>0,AX32=0),Z32,AND(AU32=0,AV32=0,AW32>0,AX32>0),MAX(Z32,AO32),AND(AU32=0,AV32>0,AW32=0,AX32=0),MIN(J32*PROFILE!$G$10,MAX('MDA3'!J32,'MDA3'!J32)),AND(AU32=0,AV32>0,AW32=0,AX32>0),MIN(J32*PROFILE!$G$10,MAX('MDA3'!J32,'MDA3'!M32,AO32)),AND(AU32=0,AV32>0,AW32>0,AX32=0),MIN(J32*PROFILE!$G$10,MAX('MDA3'!J32,'MDA3'!M32,Z32)),AND(AU32=0,AV32>0,AW32>0,AX32>0),MIN(J32*PROFILE!$G$10,MAX('MDA3'!J32,'MDA3'!M32,Z32,AO32)),AND(AU32>0,AV32=0,AW32=0,AX32=0), MIN(BB32,MAX('MDA1'!L32,'MDA2'!L32,'MDA5'!L32)),AND(AU32>0,AV32=0,AW32=0,AX32>0), MIN(BB32,MAX('MDA1'!L32,'MDA2'!L32,'MDA5'!L32,AO32)),AND(AU32>0,AV32=0,AW32>0,AX32=0),MIN(BB32,MAX('MDA1'!L32,'MDA2'!L32,'MDA5'!L32,Z32)),AND(AU32>0,AV32=0,AW32>0,AX32>0),MIN(BB32,MAX('MDA1'!L32,'MDA2'!L32,'MDA5'!L32,Z32,AO32)),AND(AU32>0,AV32>0,AW32=0,AX32=0),MIN(BB32, MAX('MDA1'!L32,'MDA2'!L32, 'MDA5'!L32,MAX('MDA3'!J32,'MDA3'!M32))), AND(AU32>0,AV32>0,AW32=0,AX32>0),MIN(BB32, MAX('MDA1'!L32,'MDA2'!L32, 'MDA5'!L32,MAX('MDA3'!J32,'MDA3'!M32),AO32)), AND(AU32>0,AV32>0,AW32>0,AX32=0), MIN(BB32, MAX('MDA1'!L32,'MDA2'!L32, 'MDA5'!L32,MAX('MDA3'!J32,'MDA3'!M32),Z32)), AND(AU32>0,AV32>0,AW32>0,AX32>0), MIN(BB32, MAX('MDA1'!L32,'MDA2'!L32, 'MDA5'!L32,MAX('MDA3'!J32,'MDA3'!M32),Z32,AO32)))","v":61700},109812.41472185131,65.04877191322656]
[{"$f":"IF(COUNTRY_INFO!A33=0,\" \",COUNTRY_INFO!A33)","v":"Mali"},{"$f":"IF(COUNTRY_INFO!B33=0,\" \",COUNTRY_INFO!B33)","v":"Kayes"},{"$f":"IF(COUNTRY_INFO!C33=0,\" \",COUNTRY_INFO!C33)","v":"Yelimane"},{"$f":"COUNTRY_INFO!L33","v":0},null,null,{"$f":"MAX('MDA1'!M33,'MDA2'!M33,'MDA5'!M33)","v":0},{"$f":"IF(AND(COUNTRY_INFO!H33>0,COUNTRY_INFO!H33<4),IF(D33>G33,G33,D33),0)","v":0},{"$f":"IF(AND(COUNTRY_INFO!H33>0,COUNTRY_INFO!H33<4), IF(G33/D33*100<>0, IF(G33/D33*100>100,100,G33/D33*100), \"-\"),0)","v":0},{"$f":"COUNTRY_INFO!M33","v":0},null,null,{"$f":"MAX('MDA1'!M33,MAX('MDA3'!I33,'MDA3'!L33)+MAX('MDA3'!J33,'MDA3'!M33))","v":0},{"$f":"IF(AND(COUNTRY_INFO!I33>0,COUNTRY_INFO!I33<4),IF(J33>M33,M33,J33),0)","v":0},{"$f":"IF(AND(COUNTRY_INFO!I33>0,COUNTRY_INFO!I33<4), IF(M33/J33*100<>0, IF(M33/J33*100>100,100,M33/J33*100), \"-\"),0)","v":0},{"$f":"COUNTRY_INFO!Q33","v":"Non requis"},null,null,{"$f":"MAX('MDA2'!J33,'MDA5'!J33,'T1'!K33, MAX(T3_R1!J33,T3_R2!J33,T3_R3!J33))","v":0},{"$f":"IF(AND(COUNTRY_INFO!J33>1,COUNTRY_INFO!J33<99,COUNTRY_INFO!J33<>4,COUNTRY_INFO!J33<>5),IF(COUNTRY_INFO!N33>S33,S33,COUNTRY_INFO!N33),0)","v":0},{"$f":"IF(AND(COUNTRY_INFO!J33>1,COUNTRY_INFO!J33<99,COUNTRY_INFO!J33<>4,COUNTRY_INFO!J33<>5), IF(T33/COUNTRY_INFO!N33*100<>0, IF(T33/COUNTRY_INFO!N33*100>100,100,T33/COUNTRY_INFO!N33*100), \"-\"),0)","v":0},{"$f":"MAX('MDA1'!K33, 'MDA2'!K33, 'MDA5'!K33,'T1'!L33, MAX(T3_R1!K33,T3_R2!K33,T3_R3!K33))","v":0},{"$f":"IF(AND(COUNTRY_INFO!J33>1,COUNTRY_INFO!J33<99,COUNTRY_INFO!J33<>4,COUNTRY_INFO!J33<>5),IF(COUNTRY_INFO!O33>V33,V33,COUNTRY_INFO!O33),0)","v":0},{"$f":"IF(AND(COUNTRY_INFO!J33>1,COUNTRY_INFO!J33<99,COUNTRY_INFO!J33<>4,COUNTRY_INFO!J33<>5), IF(W33/COUNTRY_INFO!O33*100<>0, IF(W33/COUNTRY_INFO!O33*100>100,100,W33/COUNTRY_INFO!O33*100), \"-\"),0)","v":0},{"$f":"MAX('MDA1'!L33, 'MDA2'!L33, 'MDA5'!L33,'T1'!M33, MAX(T3_R1!L33,T3_R2!L33,T3_R3!L33))","v":0},{"$f":"IF(AND(COUNTRY_INFO!J33>1,COUNTRY_INFO!J33<99,COUNTRY_INFO!J33<>4,COUNTRY_INFO!J33<>5),IF(COUNTRY_INFO!P33>Y33,Y33,COUNTRY_INFO!P33),0)","v":0},{"$f":"IF(AND(COUNTRY_INFO!J33>1,COUNTRY_INFO!J33<99,COUNTRY_INFO!J33<>4,COUNTRY_INFO!J33<>5), IF(Z33/COUNTRY_INFO!P33*100<>0, IF(Z33/COUNTRY_INFO!P33*100>100,100,Z33/COUNTRY_INFO!P33*100), \"-\"),0)","v":0},0,0,{"$f":"IF(AND(COUNTRY_INFO!J33>1,COUNTRY_INFO!J33<99,COUNTRY_INFO!J33<>4,COUNTRY_INFO!J33<>5), IF(AC33/P33*100<>0, IF(AC33/P33*100>100,100,AC33/P33*100), \"-\"),0)","v":0},{"$f":"COUNTRY_INFO!U33","v":28155},null,null,{"$f":"MAX('T1'!K33,'T2'!R33)","v":0},{"$f":"IF(AND(COUNTRY_INFO!K33>1,COUNTRY_INFO!K33<99,COUNTRY_INFO!K33<>4,COUNTRY_INFO!K33<>5),IF(COUNTRY_INFO!R33>AH33,AH33,COUNTRY_INFO!R33),0)","v":0},{"$f":"IF(AND(COUNTRY_INFO!K33>1,COUNTRY_INFO!K33<99,COUNTRY_INFO!K33<>4,COUNTRY_INFO!K33<>5), IF(AI33/COUNTRY_INFO!R33*100<>0, IF(AI33/COUNTRY_INFO!R33*100>100,100,AI33/COUNTRY_INFO!R33*100), \"-\"),0)","v":"-"},{"$f":"MAX('T1'!L33,'T2'!S33)","v":67372},{"$f":"IF(AND(COUNTRY_INFO!K33>1,COUNTRY_INFO!K33<99,COUNTRY_INFO!K33<>4,COUNTRY_INFO!K33<>5),IF(COUNTRY_INFO!S33>AK33,AK33,COUNTRY_INFO!S33),0)","v":8859},{"$f":"IF(AND(COUNTRY_INFO!K33>1,COUNTRY_INFO!K33<99,COUNTRY_INFO!K33<>4,COUNTRY_INFO!K33<>5), IF(AL33/COUNTRY_INFO!S33*100<>0, IF(AL33/COUNTRY_INFO!S33*100>100,100,AL33/COUNTRY_INFO!S33*100), \"-\"),0)","v":100},{"$f":"MAX('T1'!M33,'T2'!T33)","v":0},{"$f":"IF(AND(COUNTRY_INFO!K33>1,COUNTRY_INFO!K33<99,COUNTRY_INFO!K33<>4,COUNTRY_INFO!K33<>5),IF(COUNTRY_INFO!T33>AN33,AN33,COUNTRY_INFO!T33),0)","v":0},{"$f":"IF(AND(COUNTRY_INFO!K33>1,COUNTRY_INFO!K33<99,COUNTRY_INFO!K33<>4,COUNTRY_INFO!K33<>5), IF(AO33/COUNTRY_INFO!T33*100<>0, IF(AO33/COUNTRY_INFO!T33*100>100,100,AO33/COUNTRY_INFO!T33*100), \"-\"),0)","v":"-"},67372,8859,{"$f":"IF(AND(COUNTRY_INFO!K33>1,COUNTRY_INFO!K33<99,COUNTRY_INFO!K33<>4,COUNTRY_INFO!K33<>5), IF(AR33/AE33*100<>0, IF(AR33/AE33*100>100,100,AR33/AE33*100), \"-\"),0)","v":31.465103889184871},null,{"$f":"IF(AND(D33<>0, D33<>\"Inconnu\",D33<>\"Interrompu\",D33<>\"Non requis\"),D33/COUNTRY_INFO!D33, 0)","v":0},{"$f":"IF(AND(J33<>0,J33<>\"Inconnu\",J33<>\"Interrompu\",J33<>\"Non requis\"),J33/COUNTRY_INFO!D33, 0)","v":0},{"$f":"IF(AND(P33<>0,P33<>\"Inconnu\",P33<>\"Surveillance\",P33<>\"Non requis\"),P33/COUNTRY_INFO!Q33, 0)","v":0},{"$f":"IF(AND(AE33<>0,AE33<>\"Inconnu\",AE33<>\"Surveillance\",AE33<>\"Non requis\"),AE33/COUNTRY_INFO!U33, 0)","v":1},{"$f":"IF(AU33>0,D33*PROFILE!$G$7,IF(AV33>0,J33*PROFILE!$G$7,0))","v":0},{"$f":"_xlfn.IFS(OR(AU33>0,AW33>0),COUNTRY_INFO!E33, AV33>0,J33*PROFILE!$G$8,AX33>0,COUNTRY_INFO!R33,COUNTIFS(AU33:AX33,\">0\")=0,0)","v":3288},{"$f":"_xlfn.IFS(OR(AU33>0,AW33>0),COUNTRY_INFO!F33, AV33>0,J33*PROFILE!$G$9,AX33>0,COUNTRY_INFO!S33,COUNTIFS(AU33:AX33,\">0\")=0,0)","v":8859},{"$f":"_xlfn.IFS(AU33>0,COUNTRY_INFO!G33, AND(AV33>0,AW33=0,AX33=0),J33*PROFILE!$G$10,AND(AV33>0,AW33>0,AX33=0), MAX(J33*PROFILE!$G$10,COUNTRY_INFO!P33),AND(AV33>0,AW33=0,AX33>0), MAX(J33*PROFILE!$G$10,COUNTRY_INFO!T33),AND(AV33=0,AW33>0,AX33>0), MAX(COUNTRY_INFO!P33,COUNTRY_INFO!T33),AND(AV33=0,AW33>0,AX33=0),COUNTRY_INFO!P33,AND(AV33=0,AW33=0,AX33>0),COUNTRY_INFO!T33,AND(AV33>0,AW33>0,AX33>0), MAX(J33*PROFILE!$G$10,COUNTRY_INFO!P33,COUNTRY_INFO!T33),COUNTIFS(AU33:AX33,\">0\")=0,0)","v":16008},28155,"Y",{"$f":"MAX('MDA2'!J33,'MDA5'!J33,S33,AH33)","v":0},{"$f":"MAX('MDA1'!K33,'MDA2'!K33,'MDA3'!I33,'MDA3'!L33,'MDA5'!K33,V33,AK33)","v":67372},{"$f":"MAX('MDA1'!L33,'MDA2'!L33,'MDA3'!J33,'MDA3'!M33,'MDA5'!L33,Y33,AN33)","v":0},67372,{"$f":"_xlfn.IFS(AND(AU33=0,AW33=0,AX33=0),0,AND(AU33=0,AW33=0,AX33>0),AI33,AND(AU33=0,AW33>0,AX33=0),T33,AND(AU33=0,AW33>0,AX33>0),MAX(T33,AI33),AND(AU33>0,AW33=0,AX33=0),MIN(MAX('MDA2'!J33,'MDA5'!J33),AZ33),AND(AU33>0,AW33=0,AX33>0),MIN(MAX('MDA2'!J33,'MDA5'!J33,AI33),AZ33),AND(AU33>0,AW33>0,AX33=0),MIN(MAX('MDA2'!J33,'MDA5'!J33,T33),AZ33),AND(AU33>0,AW33>0,AX33>0),MIN(MAX('MDA2'!J33,'MDA5'!J33,AI33,T33),AZ33))","v":0},{"$f":"_xlfn.IFS(AND(AU33=0,AV33=0,AW33=0,AX33=0),0,AND(AU33=0,AV33=0,AW33=0,AX33>0),AL33,AND(AU33=0,AV33=0,AW33>0,AX33=0),W33,AND(AU33=0,AV33=0,AW33>0,AX33>0),MAX(W33,AL33),AND(AU33=0,AV33>0,AW33=0,AX33=0),MIN(J33*PROFILE!$G$9,MAX('MDA3'!I33,'MDA3'!L33)),AND(AU33=0,AV33>0,AW33=0,AX33>0),MIN(J33*PROFILE!$G$9,MAX('MDA3'!I33,'MDA3'!L33,AL33)),AND(AU33=0,AV33>0,AW33>0,AX33=0),MIN(J33*PROFILE!$G$9,MAX('MDA3'!I33,'MDA3'!L33,W33)),AND(AU33=0,AV33>0,AW33>0,AX33>0),MIN(J33*PROFILE!$G$9,MAX('MDA3'!I33,'MDA3'!L33,W33,AL33)),AND(AU33>0,AV33=0,AW33=0,AX33=0), MIN(BA33,MAX('MDA1'!K33,'MDA2'!K33,'MDA5'!K33)),AND(AU33>0,AV33=0,AW33=0,AX33>0), MIN(BA33,MAX('MDA1'!K33,'MDA2'!K33,'MDA5'!K33,AL33)),AND(AU33>0,AV33=0,AW33>0,AX33=0),MIN(BA33,MAX('MDA1'!K33,'MDA2'!KL33,'MDA5'!K33,W33)),AND(AU33>0,AV33=0,AW33>0,AX33>0),MIN(BA33,MAX('MDA1'!K33,'MDA2'!K33,'MDA5'!K33,W33,AL33)),AND(AU33>0,AV33>0,AW33=0,AX33=0),MIN(BA33, MAX('MDA1'!K33,'MDA2'!K33, 'MDA5'!K33,MAX('MDA3'!I33,'MDA3'!L33))), AND(AU33>0,AV33>0,AW33=0,AX33>0),MIN(BA33, MAX('MDA1'!K33,'MDA2'!K33, 'MDA5'!K33,MAX('MDA3'!I33,'MDA3'!L33),AL33)), AND(AU33>0,AV33>0,AW33>0,AX33=0), MIN(BA33, MAX('MDA1'!K33,'MDA2'!K33, 'MDA5'!K33,MAX('MDA3'!I33,'MDA3'!L33),W33)), AND(AU33>0,AV33>0,AW33>0,AX33>0), MIN(BA33, MAX('MDA1'!K33,'MDA2'!K33, 'MDA5'!K33,MAX('MDA3'!I33,'MDA3'!L33),W33,AL33)))","v":8859},{"$f":"_xlfn.IFS(AND(AU33=0,AV33=0,AW33=0,AX33=0),0,AND(AU33=0,AV33=0,AW33=0,AX33>0),AO33,AND(AU33=0,AV33=0,AW33>0,AX33=0),Z33,AND(AU33=0,AV33=0,AW33>0,AX33>0),MAX(Z33,AO33),AND(AU33=0,AV33>0,AW33=0,AX33=0),MIN(J33*PROFILE!$G$10,MAX('MDA3'!J33,'MDA3'!J33)),AND(AU33=0,AV33>0,AW33=0,AX33>0),MIN(J33*PROFILE!$G$10,MAX('MDA3'!J33,'MDA3'!M33,AO33)),AND(AU33=0,AV33>0,AW33>0,AX33=0),MIN(J33*PROFILE!$G$10,MAX('MDA3'!J33,'MDA3'!M33,Z33)),AND(AU33=0,AV33>0,AW33>0,AX33>0),MIN(J33*PROFILE!$G$10,MAX('MDA3'!J33,'MDA3'!M33,Z33,AO33)),AND(AU33>0,AV33=0,AW33=0,AX33=0), MIN(BB33,MAX('MDA1'!L33,'MDA2'!L33,'MDA5'!L33)),AND(AU33>0,AV33=0,AW33=0,AX33>0), MIN(BB33,MAX('MDA1'!L33,'MDA2'!L33,'MDA5'!L33,AO33)),AND(AU33>0,AV33=0,AW33>0,AX33=0),MIN(BB33,MAX('MDA1'!L33,'MDA2'!L33,'MDA5'!L33,Z33)),AND(AU33>0,AV33=0,AW33>0,AX33>0),MIN(BB33,MAX('MDA1'!L33,'MDA2'!L33,'MDA5'!L33,Z33,AO33)),AND(AU33>0,AV33>0,AW33=0,AX33=0),MIN(BB33, MAX('MDA1'!L33,'MDA2'!L33, 'MDA5'!L33,MAX('MDA3'!J33,'MDA3'!M33))), AND(AU33>0,AV33>0,AW33=0,AX33>0),MIN(BB33, MAX('MDA1'!L33,'MDA2'!L33, 'MDA5'!L33,MAX('MDA3'!J33,'MDA3'!M33),AO33)), AND(AU33>0,AV33>0,AW33>0,AX33=0), MIN(BB33, MAX('MDA1'!L33,'MDA2'!L33, 'MDA5'!L33,MAX('MDA3'!J33,'MDA3'!M33),Z33)), AND(AU33>0,AV33>0,AW33>0,AX33>0), MIN(BB33, MAX('MDA1'!L33,'MDA2'!L33, 'MDA5'!L33,MAX('MDA3'!J33,'MDA3'!M33),Z33,AO33)))","v":0},8859,31.465103889184871]
[{"$f":"IF(COUNTRY_INFO!A34=0,\" \",COUNTRY_INFO!A34)","v":"Mali"},{"$f":"IF(COUNTRY_INFO!B34=0,\" \",COUNTRY_INFO!B34)","v":"Kidal"},{"$f":"IF(COUNTRY_INFO!C34=0,\" \",COUNTRY_INFO!C34)","v":"Abeibara"},{"$f":"COUNTRY_INFO!L34","v":0},null,null,{"$f":"MAX('MDA1'!M34,'MDA2'!M34,'MDA5'!M34)","v":0},{"$f":"IF(AND(COUNTRY_INFO!H34>0,COUNTRY_INFO!H34<4),IF(D34>G34,G34,D34),0)","v":0},{"$f":"IF(AND(COUNTRY_INFO!H34>0,COUNTRY_INFO!H34<4), IF(G34/D34*100<>0, IF(G34/D34*100>100,100,G34/D34*100), \"-\"),0)","v":0},{"$f":"COUNTRY_INFO!M34","v":0},null,null,{"$f":"MAX('MDA1'!M34,MAX('MDA3'!I34,'MDA3'!L34)+MAX('MDA3'!J34,'MDA3'!M34))","v":0},{"$f":"IF(AND(COUNTRY_INFO!I34>0,COUNTRY_INFO!I34<4),IF(J34>M34,M34,J34),0)","v":0},{"$f":"IF(AND(COUNTRY_INFO!I34>0,COUNTRY_INFO!I34<4), IF(M34/J34*100<>0, IF(M34/J34*100>100,100,M34/J34*100), \"-\"),0)","v":0},{"$f":"COUNTRY_INFO!Q34","v":"Non requis"},null,null,{"$f":"MAX('MDA2'!J34,'MDA5'!J34,'T1'!K34, MAX(T3_R1!J34,T3_R2!J34,T3_R3!J34))","v":0},{"$f":"IF(AND(COUNTRY_INFO!J34>1,COUNTRY_INFO!J34<99,COUNTRY_INFO!J34<>4,COUNTRY_INFO!J34<>5),IF(COUNTRY_INFO!N34>S34,S34,COUNTRY_INFO!N34),0)","v":0},{"$f":"IF(AND(COUNTRY_INFO!J34>1,COUNTRY_INFO!J34<99,COUNTRY_INFO!J34<>4,COUNTRY_INFO!J34<>5), IF(T34/COUNTRY_INFO!N34*100<>0, IF(T34/COUNTRY_INFO!N34*100>100,100,T34/COUNTRY_INFO!N34*100), \"-\"),0)","v":0},{"$f":"MAX('MDA1'!K34, 'MDA2'!K34, 'MDA5'!K34,'T1'!L34, MAX(T3_R1!K34,T3_R2!K34,T3_R3!K34))","v":0},{"$f":"IF(AND(COUNTRY_INFO!J34>1,COUNTRY_INFO!J34<99,COUNTRY_INFO!J34<>4,COUNTRY_INFO!J34<>5),IF(COUNTRY_INFO!O34>V34,V34,COUNTRY_INFO!O34),0)","v":0},{"$f":"IF(AND(COUNTRY_INFO!J34>1,COUNTRY_INFO!J34<99,COUNTRY_INFO!J34<>4,COUNTRY_INFO!J34<>5), IF(W34/COUNTRY_INFO!O34*100<>0, IF(W34/COUNTRY_INFO!O34*100>100,100,W34/COUNTRY_INFO!O34*100), \"-\"),0)","v":0},{"$f":"MAX('MDA1'!L34, 'MDA2'!L34, 'MDA5'!L34,'T1'!M34, MAX(T3_R1!L34,T3_R2!L34,T3_R3!L34))","v":0},{"$f":"IF(AND(COUNTRY_INFO!J34>1,COUNTRY_INFO!J34<99,COUNTRY_INFO!J34<>4,COUNTRY_INFO!J34<>5),IF(COUNTRY_INFO!P34>Y34,Y34,COUNTRY_INFO!P34),0)","v":0},{"$f":"IF(AND(COUNTRY_INFO!J34>1,COUNTRY_INFO!J34<99,COUNTRY_INFO!J34<>4,COUNTRY_INFO!J34<>5), IF(Z34/COUNTRY_INFO!P34*100<>0, IF(Z34/COUNTRY_INFO!P34*100>100,100,Z34/COUNTRY_INFO!P34*100), \"-\"),0)","v":0},0,0,{"$f":"IF(AND(COUNTRY_INFO!J34>1,COUNTRY_INFO!J34<99,COUNTRY_INFO!J34<>4,COUNTRY_INFO!J34<>5), IF(AC34/P34*100<>0, IF(AC34/P34*100>100,100,AC34/P34*100), \"-\"),0)","v":0},{"$f":"COUNTRY_INFO!U34","v":15048},null,null,{"$f":"MAX('T1'!K34,'T2'!R34)","v":0},{"$f":"IF(AND(COUNTRY_INFO!K34>1,COUNTRY_INFO!K34<99,COUNTRY_INFO!K34<>4,COUNTRY_INFO!K34<>5),IF(COUNTRY_INFO!R34>AH34,AH34,COUNTRY_INFO!R34),0)","v":0},{"$f":"IF(AND(COUNTRY_INFO!K34>1,COUNTRY_INFO!K34<99,COUNTRY_INFO!K34<>4,COUNTRY_INFO!K34<>5), IF(AI34/COUNTRY_INFO!R34*100<>0, IF(AI34/COUNTRY_INFO!R34*100>100,100,AI34/COUNTRY_INFO!R34*100), \"-\"),0)","v":0},{"$f":"MAX('T1'!L34,'T2'!S34)","v":0},{"$f":"IF(AND(COUNTRY_INFO!K34>1,COUNTRY_INFO!K34<99,COUNTRY_INFO!K34<>4,COUNTRY_INFO!K34<>5),IF(COUNTRY_INFO!S34>AK34,AK34,COUNTRY_INFO!S34),0)","v":0},{"$f":"IF(AND(COUNTRY_INFO!K34>1,COUNTRY_INFO!K34<99,COUNTRY_INFO!K34<>4,COUNTRY_INFO!K34<>5), IF(AL34/COUNTRY_INFO!S34*100<>0, IF(AL34/COUNTRY_INFO!S34*100>100,100,AL34/COUNTRY_INFO!S34*100), \"-\"),0)","v":0},{"$f":"MAX('T1'!M34,'T2'!T34)","v":0},{"$f":"IF(AND(COUNTRY_INFO!K34>1,COUNTRY_INFO!K34<99,COUNTRY_INFO!K34<>4,COUNTRY_INFO!K34<>5),IF(COUNTRY_INFO!T34>AN34,AN34,COUNTRY_INFO!T34),0)","v":0},{"$f":"IF(AND(COUNTRY_INFO!K34>1,COUNTRY_INFO!K34<99,COUNTRY_INFO!K34<>4,COUNTRY_INFO!K34<>5), IF(AO34/COUNTRY_INFO!T34*100<>0, IF(AO34/COUNTRY_INFO!T34*100>100,100,AO34/COUNTRY_INFO!T34*100), \"-\"),0)","v":0},0,0,{"$f":"IF(AND(COUNTRY_INFO!K34>1,COUNTRY_INFO!K34<99,COUNTRY_INFO!K34<>4,COUNTRY_INFO!K34<>5), IF(AR34/AE34*100<>0, IF(AR34/AE34*100>100,100,AR34/AE34*100), \"-\"),0)","v":0},null,{"$f":"IF(AND(D34<>0, D34<>\"Inconnu\",D34<>\"Interrompu\",D34<>\"Non requis\"),D34/COUNTRY_INFO!D34, 0)","v":0},{"$f":"IF(AND(J34<>0,J34<>\"Inconnu\",J34<>\"Interrompu\",J34<>\"Non requis\"),J34/COUNTRY_INFO!D34, 0)","v":0},{"$f":"IF(AND(P34<>0,P34<>\"Inconnu\",P34<>\"Surveillance\",P34<>\"Non requis\"),P34/COUNTRY_INFO!Q34, 0)","v":0},{"$f":"IF(AND(AE34<>0,AE34<>\"Inconnu\",AE34<>\"Surveillance\",AE34<>\"Non requis\"),AE34/COUNTRY_INFO!U34, 0)","v":1},{"$f":"IF(AU34>0,D34*PROFILE!$G$7,IF(AV34>0,J34*PROFILE!$G$7,0))","v":0},{"$f":"_xlfn.IFS(OR(AU34>0,AW34>0),COUNTRY_INFO!E34, AV34>0,J34*PROFILE!$G$8,AX34>0,COUNTRY_INFO!R34,COUNTIFS(AU34:AX34,\">0\")=0,0)","v":1759},{"$f":"_xlfn.IFS(OR(AU34>0,AW34>0),COUNTRY_INFO!F34, AV34>0,J34*PROFILE!$G$9,AX34>0,COUNTRY_INFO!S34,COUNTIFS(AU34:AX34,\">0\")=0,0)","v":4734},{"$f":"_xlfn.IFS(AU34>0,COUNTRY_INFO!G34, AND(AV34>0,AW34=0,AX34=0),J34*PROFILE!$G$10,AND(AV34>0,AW34>0,AX34=0), MAX(J34*PROFILE!$G$10,COUNTRY_INFO!P34),AND(AV34>0,AW34=0,AX34>0), MAX(J34*PROFILE!$G$10,COUNTRY_INFO!T34),AND(AV34=0,AW34>0,AX34>0), MAX(COUNTRY_INFO!P34,COUNTRY_INFO!T34),AND(AV34=0,AW34>0,AX34=0),COUNTRY_INFO!P34,AND(AV34=0,AW34=0,AX34>0),COUNTRY_INFO!T34,AND(AV34>0,AW34>0,AX34>0), MAX(J34*PROFILE!$G$10,COUNTRY_INFO!P34,COUNTRY_INFO!T34),COUNTIFS(AU34:AX34,\">0\")=0,0)","v":8555},15048,0,{"$f":"MAX('MDA2'!J34,'MDA5'!J34,S34,AH34)","v":0},{"$f":"MAX('MDA1'!K34,'MDA2'!K34,'MDA3'!I34,'MDA3'!L34,'MDA5'!K34,V34,AK34)","v":0},{"$f":"MAX('MDA1'!L34,'MDA2'!L34,'MDA3'!J34,'MDA3'!M34,'MDA5'!L34,Y34,AN34)","v":0},0,{"$f":"_xlfn.IFS(AND(AU34=0,AW34=0,AX34=0),0,AND(AU34=0,AW34=0,AX34>0),AI34,AND(AU34=0,AW34>0,AX34=0),T34,AND(AU34=0,AW34>0,AX34>0),MAX(T34,AI34),AND(AU34>0,AW34=0,AX34=0),MIN(MAX('MDA2'!J34,'MDA5'!J34),AZ34),AND(AU34>0,AW34=0,AX34>0),MIN(MAX('MDA2'!J34,'MDA5'!J34,AI34),AZ34),AND(AU34>0,AW34>0,AX34=0),MIN(MAX('MDA2'!J34,'MDA5'!J34,T34),AZ34),AND(AU34>0,AW34>0,AX34>0),MIN(MAX('MDA2'!J34,'MDA5'!J34,AI34,T34),AZ34))","v":0},{"$f":"_xlfn.IFS(AND(AU34=0,AV34=0,AW34=0,AX34=0),0,AND(AU34=0,AV34=0,AW34=0,AX34>0),AL34,AND(AU34=0,AV34=0,AW34>0,AX34=0),W34,AND(AU34=0,AV34=0,AW34>0,AX34>0),MAX(W34,AL34),AND(AU34=0,AV34>0,AW34=0,AX34=0),MIN(J34*PROFILE!$G$9,MAX('MDA3'!I34,'MDA3'!L34)),AND(AU34=0,AV34>0,AW34=0,AX34>0),MIN(J34*PROFILE!$G$9,MAX('MDA3'!I34,'MDA3'!L34,AL34)),AND(AU34=0,AV34>0,AW34>0,AX34=0),MIN(J34*PROFILE!$G$9,MAX('MDA3'!I34,'MDA3'!L34,W34)),AND(AU34=0,AV34>0,AW34>0,AX34>0),MIN(J34*PROFILE!$G$9,MAX('MDA3'!I34,'MDA3'!L34,W34,AL34)),AND(AU34>0,AV34=0,AW34=0,AX34=0), MIN(BA34,MAX('MDA1'!K34,'MDA2'!K34,'MDA5'!K34)),AND(AU34>0,AV34=0,AW34=0,AX34>0), MIN(BA34,MAX('MDA1'!K34,'MDA2'!K34,'MDA5'!K34,AL34)),AND(AU34>0,AV34=0,AW34>0,AX34=0),MIN(BA34,MAX('MDA1'!K34,'MDA2'!KL34,'MDA5'!K34,W34)),AND(AU34>0,AV34=0,AW34>0,AX34>0),MIN(BA34,MAX('MDA1'!K34,'MDA2'!K34,'MDA5'!K34,W34,AL34)),AND(AU34>0,AV34>0,AW34=0,AX34=0),MIN(BA34, MAX('MDA1'!K34,'MDA2'!K34, 'MDA5'!K34,MAX('MDA3'!I34,'MDA3'!L34))), AND(AU34>0,AV34>0,AW34=0,AX34>0),MIN(BA34, MAX('MDA1'!K34,'MDA2'!K34, 'MDA5'!K34,MAX('MDA3'!I34,'MDA3'!L34),AL34)), AND(AU34>0,AV34>0,AW34>0,AX34=0), MIN(BA34, MAX('MDA1'!K34,'MDA2'!K34, 'MDA5'!K34,MAX('MDA3'!I34,'MDA3'!L34),W34)), AND(AU34>0,AV34>0,AW34>0,AX34>0), MIN(BA34, MAX('MDA1'!K34,'MDA2'!K34, 'MDA5'!K34,MAX('MDA3'!I34,'MDA3'!L34),W34,AL34)))","v":0},{"$f":"_xlfn.IFS(AND(AU34=0,AV34=0,AW34=0,AX34=0),0,AND(AU34=0,AV34=0,AW34=0,AX34>0),AO34,AND(AU34=0,AV34=0,AW34>0,AX34=0),Z34,AND(AU34=0,AV34=0,AW34>0,AX34>0),MAX(Z34,AO34),AND(AU34=0,AV34>0,AW34=0,AX34=0),MIN(J34*PROFILE!$G$10,MAX('MDA3'!J34,'MDA3'!J34)),AND(AU34=0,AV34>0,AW34=0,AX34>0),MIN(J34*PROFILE!$G$10,MAX('MDA3'!J34,'MDA3'!M34,AO34)),AND(AU34=0,AV34>0,AW34>0,AX34=0),MIN(J34*PROFILE!$G$10,MAX('MDA3'!J34,'MDA3'!M34,Z34)),AND(AU34=0,AV34>0,AW34>0,AX34>0),MIN(J34*PROFILE!$G$10,MAX('MDA3'!J34,'MDA3'!M34,Z34,AO34)),AND(AU34>0,AV34=0,AW34=0,AX34=0), MIN(BB34,MAX('MDA1'!L34,'MDA2'!L34,'MDA5'!L34)),AND(AU34>0,AV34=0,AW34=0,AX34>0), MIN(BB34,MAX('MDA1'!L34,'MDA2'!L34,'MDA5'!L34,AO34)),AND(AU34>0,AV34=0,AW34>0,AX34=0),MIN(BB34,MAX('MDA1'!L34,'MDA2'!L34,'MDA5'!L34,Z34)),AND(AU34>0,AV34=0,AW34>0,AX34>0),MIN(BB34,MAX('MDA1'!L34,'MDA2'!L34,'MDA5'!L34,Z34,AO34)),AND(AU34>0,AV34>0,AW34=0,AX34=0),MIN(BB34, MAX('MDA1'!L34,'MDA2'!L34, 'MDA5'!L34,MAX('MDA3'!J34,'MDA3'!M34))), AND(AU34>0,AV34>0,AW34=0,AX34>0),MIN(BB34, MAX('MDA1'!L34,'MDA2'!L34, 'MDA5'!L34,MAX('MDA3'!J34,'MDA3'!M34),AO34)), AND(AU34>0,AV34>0,AW34>0,AX34=0), MIN(BB34, MAX('MDA1'!L34,'MDA2'!L34, 'MDA5'!L34,MAX('MDA3'!J34,'MDA3'!M34),Z34)), AND(AU34>0,AV34>0,AW34>0,AX34>0), MIN(BB34, MAX('MDA1'!L34,'MDA2'!L34, 'MDA5'!L34,MAX('MDA3'!J34,'MDA3'!M34),Z34,AO34)))","v":0},0,0]
[{"$f":"IF(COUNTRY_INFO!A35=0,\" \",COUNTRY_INFO!A35)","v":"Mali"},{"$f":"IF(COUNTRY_INFO!B35=0,\" \",COUNTRY_INFO!B35)","v":"Kidal"},{"$f":"IF(COUNTRY_INFO!C35=0,\" \",COUNTRY_INFO!C35)","v":"Kidal"},{"$f":"COUNTRY_INFO!L35","v":0},null,null,{"$f":"MAX('MDA1'!M35,'MDA2'!M35,'MDA5'!M35)","v":0},{"$f":"IF(AND(COUNTRY_INFO!H35>0,COUNTRY_INFO!H35<4),IF(D35>G35,G35,D35),0)","v":0},{"$f":"IF(AND(COUNTRY_INFO!H35>0,COUNTRY_INFO!H35<4), IF(G35/D35*100<>0, IF(G35/D35*100>100,100,G35/D35*100), \"-\"),0)","v":0},{"$f":"COUNTRY_INFO!M35","v":0},null,null,{"$f":"MAX('MDA1'!M35,MAX('MDA3'!I35,'MDA3'!L35)+MAX('MDA3'!J35,'MDA3'!M35))","v":0},{"$f":"IF(AND(COUNTRY_INFO!I35>0,COUNTRY_INFO!I35<4),IF(J35>M35,M35,J35),0)","v":0},{"$f":"IF(AND(COUNTRY_INFO!I35>0,COUNTRY_INFO!I35<4), IF(M35/J35*100<>0, IF(M35/J35*100>100,100,M35/J35*100), \"-\"),0)","v":0},{"$f":"COUNTRY_INFO!Q35","v":"Non requis"},null,null,{"$f":"MAX('MDA2'!J35,'MDA5'!J35,'T1'!K35, MAX(T3_R1!J35,T3_R2!J35,T3_R3!J35))","v":0},{"$f":"IF(AND(COUNTRY_INFO!J35>1,COUNTRY_INFO!J35<99,COUNTRY_INFO!J35<>4,COUNTRY_INFO!J35<>5),IF(COUNTRY_INFO!N35>S35,S35,COUNTRY_INFO!N35),0)","v":0},{"$f":"IF(AND(COUNTRY_INFO!J35>1,COUNTRY_INFO!J35<99,COUNTRY_INFO!J35<>4,COUNTRY_INFO!J35<>5), IF(T35/COUNTRY_INFO!N35*100<>0, IF(T35/COUNTRY_INFO!N35*100>100,100,T35/COUNTRY_INFO!N35*100), \"-\"),0)","v":0},{"$f":"MAX('MDA1'!K35, 'MDA2'!K35, 'MDA5'!K35,'T1'!L35, MAX(T3_R1!K35,T3_R2!K35,T3_R3!K35))","v":0},{"$f":"IF(AND(COUNTRY_INFO!J35>1,COUNTRY_INFO!J35<99,COUNTRY_INFO!J35<>4,COUNTRY_INFO!J35<>5),IF(COUNTRY_INFO!O35>V35,V35,COUNTRY_INFO!O35),0)","v":0},{"$f":"IF(AND(COUNTRY_INFO!J35>1,COUNTRY_INFO!J35<99,COUNTRY_INFO!J35<>4,COUNTRY_INFO!J35<>5), IF(W35/COUNTRY_INFO!O35*100<>0, IF(W35/COUNTRY_INFO!O35*100>100,100,W35/COUNTRY_INFO!O35*100), \"-\"),0)","v":0},{"$f":"MAX('MDA1'!L35, 'MDA2'!L35, 'MDA5'!L35,'T1'!M35, MAX(T3_R1!L35,T3_R2!L35,T3_R3!L35))","v":0},{"$f":"IF(AND(COUNTRY_INFO!J35>1,COUNTRY_INFO!J35<99,COUNTRY_INFO!J35<>4,COUNTRY_INFO!J35<>5),IF(COUNTRY_INFO!P35>Y35,Y35,COUNTRY_INFO!P35),0)","v":0},{"$f":"IF(AND(COUNTRY_INFO!J35>1,COUNTRY_INFO!J35<99,COUNTRY_INFO!J35<>4,COUNTRY_INFO!J35<>5), IF(Z35/COUNTRY_INFO!P35*100<>0, IF(Z35/COUNTRY_INFO!P35*100>100,100,Z35/COUNTRY_INFO!P35*100), \"-\"),0)","v":0},0,0,{"$f":"IF(AND(COUNTRY_INFO!J35>1,COUNTRY_INFO!J35<99,COUNTRY_INFO!J35<>4,COUNTRY_INFO!J35<>5), IF(AC35/P35*100<>0, IF(AC35/P35*100>100,100,AC35/P35*100), \"-\"),0)","v":0},{"$f":"COUNTRY_INFO!U35","v":48400},null,null,{"$f":"MAX('T1'!K35,'T2'!R35)","v":0},{"$f":"IF(AND(COUNTRY_INFO!K35>1,COUNTRY_INFO!K35<99,COUNTRY_INFO!K35<>4,COUNTRY_INFO!K35<>5),IF(COUNTRY_INFO!R35>AH35,AH35,COUNTRY_INFO!R35),0)","v":0},{"$f":"IF(AND(COUNTRY_INFO!K35>1,COUNTRY_INFO!K35<99,COUNTRY_INFO!K35<>4,COUNTRY_INFO!K35<>5), IF(AI35/COUNTRY_INFO!R35*100<>0, IF(AI35/COUNTRY_INFO!R35*100>100,100,AI35/COUNTRY_INFO!R35*100), \"-\"),0)","v":0},{"$f":"MAX('T1'!L35,'T2'!S35)","v":0},{"$f":"IF(AND(COUNTRY_INFO!K35>1,COUNTRY_INFO!K35<99,COUNTRY_INFO!K35<>4,COUNTRY_INFO!K35<>5),IF(COUNTRY_INFO!S35>AK35,AK35,COUNTRY_INFO!S35),0)","v":0},{"$f":"IF(AND(COUNTRY_INFO!K35>1,COUNTRY_INFO!K35<99,COUNTRY_INFO!K35<>4,COUNTRY_INFO!K35<>5), IF(AL35/COUNTRY_INFO!S35*100<>0, IF(AL35/COUNTRY_INFO!S35*100>100,100,AL35/COUNTRY_INFO!S35*100), \"-\"),0)","v":0},{"$f":"MAX('T1'!M35,'T2'!T35)","v":0},{"$f":"IF(AND(COUNTRY_INFO!K35>1,COUNTRY_INFO!K35<99,COUNTRY_INFO!K35<>4,COUNTRY_INFO!K35<>5),IF(COUNTRY_INFO!T35>AN35,AN35,COUNTRY_INFO!T35),0)","v":0},{"$f":"IF(AND(COUNTRY_INFO!K35>1,COUNTRY_INFO!K35<99,COUNTRY_INFO!K35<>4,COUNTRY_INFO!K35<>5), IF(AO35/COUNTRY_INFO!T35*100<>0, IF(AO35/COUNTRY_INFO!T35*100>100,100,AO35/COUNTRY_INFO!T35*100), \"-\"),0)","v":0},0,0,{"$f":"IF(AND(COUNTRY_INFO!K35>1,COUNTRY_INFO!K35<99,COUNTRY_INFO!K35<>4,COUNTRY_INFO!K35<>5), IF(AR35/AE35*100<>0, IF(AR35/AE35*100>100,100,AR35/AE35*100), \"-\"),0)","v":0},null,{"$f":"IF(AND(D35<>0, D35<>\"Inconnu\",D35<>\"Interrompu\",D35<>\"Non requis\"),D35/COUNTRY_INFO!D35, 0)","v":0},{"$f":"IF(AND(J35<>0,J35<>\"Inconnu\",J35<>\"Interrompu\",J35<>\"Non requis\"),J35/COUNTRY_INFO!D35, 0)","v":0},{"$f":"IF(AND(P35<>0,P35<>\"Inconnu\",P35<>\"Surveillance\",P35<>\"Non requis\"),P35/COUNTRY_INFO!Q35, 0)","v":0},{"$f":"IF(AND(AE35<>0,AE35<>\"Inconnu\",AE35<>\"Surveillance\",AE35<>\"Non requis\"),AE35/COUNTRY_INFO!U35, 0)","v":1},{"$f":"IF(AU35>0,D35*PROFILE!$G$7,IF(AV35>0,J35*PROFILE!$G$7,0))","v":0},{"$f":"_xlfn.IFS(OR(AU35>0,AW35>0),COUNTRY_INFO!E35, AV35>0,J35*PROFILE!$G$8,AX35>0,COUNTRY_INFO!R35,COUNTIFS(AU35:AX35,\">0\")=0,0)","v":5656},{"$f":"_xlfn.IFS(OR(AU35>0,AW35>0),COUNTRY_INFO!F35, AV35>0,J35*PROFILE!$G$9,AX35>0,COUNTRY_INFO!S35,COUNTIFS(AU35:AX35,\">0\")=0,0)","v":15229},{"$f":"_xlfn.IFS(AU35>0,COUNTRY_INFO!G35, AND(AV35>0,AW35=0,AX35=0),J35*PROFILE!$G$10,AND(AV35>0,AW35>0,AX35=0), MAX(J35*PROFILE!$G$10,COUNTRY_INFO!P35),AND(AV35>0,AW35=0,AX35>0), MAX(J35*PROFILE!$G$10,COUNTRY_INFO!T35),AND(AV35=0,AW35>0,AX35>0), MAX(COUNTRY_INFO!P35,COUNTRY_INFO!T35),AND(AV35=0,AW35>0,AX35=0),COUNTRY_INFO!P35,AND(AV35=0,AW35=0,AX35>0),COUNTRY_INFO!T35,AND(AV35>0,AW35>0,AX35>0), MAX(J35*PROFILE!$G$10,COUNTRY_INFO!P35,COUNTRY_INFO!T35),COUNTIFS(AU35:AX35,\">0\")=0,0)","v":27515},48400,0,{"$f":"MAX('MDA2'!J35,'MDA5'!J35,S35,AH35)","v":0},{"$f":"MAX('MDA1'!K35,'MDA2'!K35,'MDA3'!I35,'MDA3'!L35,'MDA5'!K35,V35,AK35)","v":0},{"$f":"MAX('MDA1'!L35,'MDA2'!L35,'MDA3'!J35,'MDA3'!M35,'MDA5'!L35,Y35,AN35)","v":0},0,{"$f":"_xlfn.IFS(AND(AU35=0,AW35=0,AX35=0),0,AND(AU35=0,AW35=0,AX35>0),AI35,AND(AU35=0,AW35>0,AX35=0),T35,AND(AU35=0,AW35>0,AX35>0),MAX(T35,AI35),AND(AU35>0,AW35=0,AX35=0),MIN(MAX('MDA2'!J35,'MDA5'!J35),AZ35),AND(AU35>0,AW35=0,AX35>0),MIN(MAX('MDA2'!J35,'MDA5'!J35,AI35),AZ35),AND(AU35>0,AW35>0,AX35=0),MIN(MAX('MDA2'!J35,'MDA5'!J35,T35),AZ35),AND(AU35>0,AW35>0,AX35>0),MIN(MAX('MDA2'!J35,'MDA5'!J35,AI35,T35),AZ35))","v":0},{"$f":"_xlfn.IFS(AND(AU35=0,AV35=0,AW35=0,AX35=0),0,AND(AU35=0,AV35=0,AW35=0,AX35>0),AL35,AND(AU35=0,AV35=0,AW35>0,AX35=0),W35,AND(AU35=0,AV35=0,AW35>0,AX35>0),MAX(W35,AL35),AND(AU35=0,AV35>0,AW35=0,AX35=0),MIN(J35*PROFILE!$G$9,MAX('MDA3'!I35,'MDA3'!L35)),AND(AU35=0,AV35>0,AW35=0,AX35>0),MIN(J35*PROFILE!$G$9,MAX('MDA3'!I35,'MDA3'!L35,AL35)),AND(AU35=0,AV35>0,AW35>0,AX35=0),MIN(J35*PROFILE!$G$9,MAX('MDA3'!I35,'MDA3'!L35,W35)),AND(AU35=0,AV35>0,AW35>0,AX35>0),MIN(J35*PROFILE!$G$9,MAX('MDA3'!I35,'MDA3'!L35,W35,AL35)),AND(AU35>0,AV35=0,AW35=0,AX35=0), MIN(BA35,MAX('MDA1'!K35,'MDA2'!K35,'MDA5'!K35)),AND(AU35>0,AV35=0,AW35=0,AX35>0), MIN(BA35,MAX('MDA1'!K35,'MDA2'!K35,'MDA5'!K35,AL35)),AND(AU35>0,AV35=0,AW35>0,AX35=0),MIN(BA35,MAX('MDA1'!K35,'MDA2'!KL35,'MDA5'!K35,W35)),AND(AU35>0,AV35=0,AW35>0,AX35>0),MIN(BA35,MAX('MDA1'!K35,'MDA2'!K35,'MDA5'!K35,W35,AL35)),AND(AU35>0,AV35>0,AW35=0,AX35=0),MIN(BA35, MAX('MDA1'!K35,'MDA2'!K35, 'MDA5'!K35,MAX('MDA3'!I35,'MDA3'!L35))), AND(AU35>0,AV35>0,AW35=0,AX35>0),MIN(BA35, MAX('MDA1'!K35,'MDA2'!K35, 'MDA5'!K35,MAX('MDA3'!I35,'MDA3'!L35),AL35)), AND(AU35>0,AV35>0,AW35>0,AX35=0), MIN(BA35, MAX('MDA1'!K35,'MDA2'!K35, 'MDA5'!K35,MAX('MDA3'!I35,'MDA3'!L35),W35)), AND(AU35>0,AV35>0,AW35>0,AX35>0), MIN(BA35, MAX('MDA1'!K35,'MDA2'!K35, 'MDA5'!K35,MAX('MDA3'!I35,'MDA3'!L35),W35,AL35)))","v":0},{"$f":"_xlfn.IFS(AND(AU35=0,AV35=0,AW35=0,AX35=0),0,AND(AU35=0,AV35=0,AW35=0,AX35>0),AO35,AND(AU35=0,AV35=0,AW35>0,AX35=0),Z35,AND(AU35=0,AV35=0,AW35>0,AX35>0),MAX(Z35,AO35),AND(AU35=0,AV35>0,AW35=0,AX35=0),MIN(J35*PROFILE!$G$10,MAX('MDA3'!J35,'MDA3'!J35)),AND(AU35=0,AV35>0,AW35=0,AX35>0),MIN(J35*PROFILE!$G$10,MAX('MDA3'!J35,'MDA3'!M35,AO35)),AND(AU35=0,AV35>0,AW35>0,AX35=0),MIN(J35*PROFILE!$G$10,MAX('MDA3'!J35,'MDA3'!M35,Z35)),AND(AU35=0,AV35>0,AW35>0,AX35>0),MIN(J35*PROFILE!$G$10,MAX('MDA3'!J35,'MDA3'!M35,Z35,AO35)),AND(AU35>0,AV35=0,AW35=0,AX35=0), MIN(BB35,MAX('MDA1'!L35,'MDA2'!L35,'MDA5'!L35)),AND(AU35>0,AV35=0,AW35=0,AX35>0), MIN(BB35,MAX('MDA1'!L35,'MDA2'!L35,'MDA5'!L35,AO35)),AND(AU35>0,AV35=0,AW35>0,AX35=0),MIN(BB35,MAX('MDA1'!L35,'MDA2'!L35,'MDA5'!L35,Z35)),AND(AU35>0,AV35=0,AW35>0,AX35>0),MIN(BB35,MAX('MDA1'!L35,'MDA2'!L35,'MDA5'!L35,Z35,AO35)),AND(AU35>0,AV35>0,AW35=0,AX35=0),MIN(BB35, MAX('MDA1'!L35,'MDA2'!L35, 'MDA5'!L35,MAX('MDA3'!J35,'MDA3'!M35))), AND(AU35>0,AV35>0,AW35=0,AX35>0),MIN(BB35, MAX('MDA1'!L35,'MDA2'!L35, 'MDA5'!L35,MAX('MDA3'!J35,'MDA3'!M35),AO35)), AND(AU35>0,AV35>0,AW35>0,AX35=0), MIN(BB35, MAX('MDA1'!L35,'MDA2'!L35, 'MDA5'!L35,MAX('MDA3'!J35,'MDA3'!M35),Z35)), AND(AU35>0,AV35>0,AW35>0,AX35>0), MIN(BB35, MAX('MDA1'!L35,'MDA2'!L35, 'MDA5'!L35,MAX('MDA3'!J35,'MDA3'!M35),Z35,AO35)))","v":0},0,0]
[{"$f":"IF(COUNTRY_INFO!A36=0,\" \",COUNTRY_INFO!A36)","v":"Mali"},{"$f":"IF(COUNTRY_INFO!B36=0,\" \",COUNTRY_INFO!B36)","v":"Kidal"},{"$f":"IF(COUNTRY_INFO!C36=0,\" \",COUNTRY_INFO!C36)","v":"Tessalit"},{"$f":"COUNTRY_INFO!L36","v":0},null,null,{"$f":"MAX('MDA1'!M36,'MDA2'!M36,'MDA5'!M36)","v":0},{"$f":"IF(AND(COUNTRY_INFO!H36>0,COUNTRY_INFO!H36<4),IF(D36>G36,G36,D36),0)","v":0},{"$f":"IF(AND(COUNTRY_INFO!H36>0,COUNTRY_INFO!H36<4), IF(G36/D36*100<>0, IF(G36/D36*100>100,100,G36/D36*100), \"-\"),0)","v":0},{"$f":"COUNTRY_INFO!M36","v":0},null,null,{"$f":"MAX('MDA1'!M36,MAX('MDA3'!I36,'MDA3'!L36)+MAX('MDA3'!J36,'MDA3'!M36))","v":0},{"$f":"IF(AND(COUNTRY_INFO!I36>0,COUNTRY_INFO!I36<4),IF(J36>M36,M36,J36),0)","v":0},{"$f":"IF(AND(COUNTRY_INFO!I36>0,COUNTRY_INFO!I36<4), IF(M36/J36*100<>0, IF(M36/J36*100>100,100,M36/J36*100), \"-\"),0)","v":0},{"$f":"COUNTRY_INFO!Q36","v":"Non requis"},null,null,{"$f":"MAX('MDA2'!J36,'MDA5'!J36,'T1'!K36, MAX(T3_R1!J36,T3_R2!J36,T3_R3!J36))","v":0},{"$f":"IF(AND(COUNTRY_INFO!J36>1,COUNTRY_INFO!J36<99,COUNTRY_INFO!J36<>4,COUNTRY_INFO!J36<>5),IF(COUNTRY_INFO!N36>S36,S36,COUNTRY_INFO!N36),0)","v":0},{"$f":"IF(AND(COUNTRY_INFO!J36>1,COUNTRY_INFO!J36<99,COUNTRY_INFO!J36<>4,COUNTRY_INFO!J36<>5), IF(T36/COUNTRY_INFO!N36*100<>0, IF(T36/COUNTRY_INFO!N36*100>100,100,T36/COUNTRY_INFO!N36*100), \"-\"),0)","v":0},{"$f":"MAX('MDA1'!K36, 'MDA2'!K36, 'MDA5'!K36,'T1'!L36, MAX(T3_R1!K36,T3_R2!K36,T3_R3!K36))","v":0},{"$f":"IF(AND(COUNTRY_INFO!J36>1,COUNTRY_INFO!J36<99,COUNTRY_INFO!J36<>4,COUNTRY_INFO!J36<>5),IF(COUNTRY_INFO!O36>V36,V36,COUNTRY_INFO!O36),0)","v":0},{"$f":"IF(AND(COUNTRY_INFO!J36>1,COUNTRY_INFO!J36<99,COUNTRY_INFO!J36<>4,COUNTRY_INFO!J36<>5), IF(W36/COUNTRY_INFO!O36*100<>0, IF(W36/COUNTRY_INFO!O36*100>100,100,W36/COUNTRY_INFO!O36*100), \"-\"),0)","v":0},{"$f":"MAX('MDA1'!L36, 'MDA2'!L36, 'MDA5'!L36,'T1'!M36, MAX(T3_R1!L36,T3_R2!L36,T3_R3!L36))","v":0},{"$f":"IF(AND(COUNTRY_INFO!J36>1,COUNTRY_INFO!J36<99,COUNTRY_INFO!J36<>4,COUNTRY_INFO!J36<>5),IF(COUNTRY_INFO!P36>Y36,Y36,COUNTRY_INFO!P36),0)","v":0},{"$f":"IF(AND(COUNTRY_INFO!J36>1,COUNTRY_INFO!J36<99,COUNTRY_INFO!J36<>4,COUNTRY_INFO!J36<>5), IF(Z36/COUNTRY_INFO!P36*100<>0, IF(Z36/COUNTRY_INFO!P36*100>100,100,Z36/COUNTRY_INFO!P36*100), \"-\"),0)","v":0},0,0,{"$f":"IF(AND(COUNTRY_INFO!J36>1,COUNTRY_INFO!J36<99,COUNTRY_INFO!J36<>4,COUNTRY_INFO!J36<>5), IF(AC36/P36*100<>0, IF(AC36/P36*100>100,100,AC36/P36*100), \"-\"),0)","v":0},{"$f":"COUNTRY_INFO!U36","v":23828},null,null,{"$f":"MAX('T1'!K36,'T2'!R36)","v":0},{"$f":"IF(AND(COUNTRY_INFO!K36>1,COUNTRY_INFO!K36<99,COUNTRY_INFO!K36<>4,COUNTRY_INFO!K36<>5),IF(COUNTRY_INFO!R36>AH36,AH36,COUNTRY_INFO!R36),0)","v":0},{"$f":"IF(AND(COUNTRY_INFO!K36>1,COUNTRY_INFO!K36<99,COUNTRY_INFO!K36<>4,COUNTRY_INFO!K36<>5), IF(AI36/COUNTRY_INFO!R36*100<>0, IF(AI36/COUNTRY_INFO!R36*100>100,100,AI36/COUNTRY_INFO!R36*100), \"-\"),0)","v":0},{"$f":"MAX('T1'!L36,'T2'!S36)","v":0},{"$f":"IF(AND(COUNTRY_INFO!K36>1,COUNTRY_INFO!K36<99,COUNTRY_INFO!K36<>4,COUNTRY_INFO!K36<>5),IF(COUNTRY_INFO!S36>AK36,AK36,COUNTRY_INFO!S36),0)","v":0},{"$f":"IF(AND(COUNTRY_INFO!K36>1,COUNTRY_INFO!K36<99,COUNTRY_INFO!K36<>4,COUNTRY_INFO!K36<>5), IF(AL36/COUNTRY_INFO!S36*100<>0, IF(AL36/COUNTRY_INFO!S36*100>100,100,AL36/COUNTRY_INFO!S36*100), \"-\"),0)","v":0},{"$f":"MAX('T1'!M36,'T2'!T36)","v":0},{"$f":"IF(AND(COUNTRY_INFO!K36>1,COUNTRY_INFO!K36<99,COUNTRY_INFO!K36<>4,COUNTRY_INFO!K36<>5),IF(COUNTRY_INFO!T36>AN36,AN36,COUNTRY_INFO!T36),0)","v":0},{"$f":"IF(AND(COUNTRY_INFO!K36>1,COUNTRY_INFO!K36<99,COUNTRY_INFO!K36<>4,COUNTRY_INFO!K36<>5), IF(AO36/COUNTRY_INFO!T36*100<>0, IF(AO36/COUNTRY_INFO!T36*100>100,100,AO36/COUNTRY_INFO!T36*100), \"-\"),0)","v":0},0,0,{"$f":"IF(AND(COUNTRY_INFO!K36>1,COUNTRY_INFO!K36<99,COUNTRY_INFO!K36<>4,COUNTRY_INFO!K36<>5), IF(AR36/AE36*100<>0, IF(AR36/AE36*100>100,100,AR36/AE36*100), \"-\"),0)","v":0},null,{"$f":"IF(AND(D36<>0, D36<>\"Inconnu\",D36<>\"Interrompu\",D36<>\"Non requis\"),D36/COUNTRY_INFO!D36, 0)","v":0},{"$f":"IF(AND(J36<>0,J36<>\"Inconnu\",J36<>\"Interrompu\",J36<>\"Non requis\"),J36/COUNTRY_INFO!D36, 0)","v":0},{"$f":"IF(AND(P36<>0,P36<>\"Inconnu\",P36<>\"Surveillance\",P36<>\"Non requis\"),P36/COUNTRY_INFO!Q36, 0)","v":0},{"$f":"IF(AND(AE36<>0,AE36<>\"Inconnu\",AE36<>\"Surveillance\",AE36<>\"Non requis\"),AE36/COUNTRY_INFO!U36, 0)","v":1},{"$f":"IF(AU36>0,D36*PROFILE!$G$7,IF(AV36>0,J36*PROFILE!$G$7,0))","v":0},{"$f":"_xlfn.IFS(OR(AU36>0,AW36>0),COUNTRY_INFO!E36, AV36>0,J36*PROFILE!$G$8,AX36>0,COUNTRY_INFO!R36,COUNTIFS(AU36:AX36,\">0\")=0,0)","v":2784},{"$f":"_xlfn.IFS(OR(AU36>0,AW36>0),COUNTRY_INFO!F36, AV36>0,J36*PROFILE!$G$9,AX36>0,COUNTRY_INFO!S36,COUNTIFS(AU36:AX36,\">0\")=0,0)","v":7496},{"$f":"_xlfn.IFS(AU36>0,COUNTRY_INFO!G36, AND(AV36>0,AW36=0,AX36=0),J36*PROFILE!$G$10,AND(AV36>0,AW36>0,AX36=0), MAX(J36*PROFILE!$G$10,COUNTRY_INFO!P36),AND(AV36>0,AW36=0,AX36>0), MAX(J36*PROFILE!$G$10,COUNTRY_INFO!T36),AND(AV36=0,AW36>0,AX36>0), MAX(COUNTRY_INFO!P36,COUNTRY_INFO!T36),AND(AV36=0,AW36>0,AX36=0),COUNTRY_INFO!P36,AND(AV36=0,AW36=0,AX36>0),COUNTRY_INFO!T36,AND(AV36>0,AW36>0,AX36>0), MAX(J36*PROFILE!$G$10,COUNTRY_INFO!P36,COUNTRY_INFO!T36),COUNTIFS(AU36:AX36,\">0\")=0,0)","v":13548},23828,0,{"$f":"MAX('MDA2'!J36,'MDA5'!J36,S36,AH36)","v":0},{"$f":"MAX('MDA1'!K36,'MDA2'!K36,'MDA3'!I36,'MDA3'!L36,'MDA5'!K36,V36,AK36)","v":0},{"$f":"MAX('MDA1'!L36,'MDA2'!L36,'MDA3'!J36,'MDA3'!M36,'MDA5'!L36,Y36,AN36)","v":0},0,{"$f":"_xlfn.IFS(AND(AU36=0,AW36=0,AX36=0),0,AND(AU36=0,AW36=0,AX36>0),AI36,AND(AU36=0,AW36>0,AX36=0),T36,AND(AU36=0,AW36>0,AX36>0),MAX(T36,AI36),AND(AU36>0,AW36=0,AX36=0),MIN(MAX('MDA2'!J36,'MDA5'!J36),AZ36),AND(AU36>0,AW36=0,AX36>0),MIN(MAX('MDA2'!J36,'MDA5'!J36,AI36),AZ36),AND(AU36>0,AW36>0,AX36=0),MIN(MAX('MDA2'!J36,'MDA5'!J36,T36),AZ36),AND(AU36>0,AW36>0,AX36>0),MIN(MAX('MDA2'!J36,'MDA5'!J36,AI36,T36),AZ36))","v":0},{"$f":"_xlfn.IFS(AND(AU36=0,AV36=0,AW36=0,AX36=0),0,AND(AU36=0,AV36=0,AW36=0,AX36>0),AL36,AND(AU36=0,AV36=0,AW36>0,AX36=0),W36,AND(AU36=0,AV36=0,AW36>0,AX36>0),MAX(W36,AL36),AND(AU36=0,AV36>0,AW36=0,AX36=0),MIN(J36*PROFILE!$G$9,MAX('MDA3'!I36,'MDA3'!L36)),AND(AU36=0,AV36>0,AW36=0,AX36>0),MIN(J36*PROFILE!$G$9,MAX('MDA3'!I36,'MDA3'!L36,AL36)),AND(AU36=0,AV36>0,AW36>0,AX36=0),MIN(J36*PROFILE!$G$9,MAX('MDA3'!I36,'MDA3'!L36,W36)),AND(AU36=0,AV36>0,AW36>0,AX36>0),MIN(J36*PROFILE!$G$9,MAX('MDA3'!I36,'MDA3'!L36,W36,AL36)),AND(AU36>0,AV36=0,AW36=0,AX36=0), MIN(BA36,MAX('MDA1'!K36,'MDA2'!K36,'MDA5'!K36)),AND(AU36>0,AV36=0,AW36=0,AX36>0), MIN(BA36,MAX('MDA1'!K36,'MDA2'!K36,'MDA5'!K36,AL36)),AND(AU36>0,AV36=0,AW36>0,AX36=0),MIN(BA36,MAX('MDA1'!K36,'MDA2'!KL36,'MDA5'!K36,W36)),AND(AU36>0,AV36=0,AW36>0,AX36>0),MIN(BA36,MAX('MDA1'!K36,'MDA2'!K36,'MDA5'!K36,W36,AL36)),AND(AU36>0,AV36>0,AW36=0,AX36=0),MIN(BA36, MAX('MDA1'!K36,'MDA2'!K36, 'MDA5'!K36,MAX('MDA3'!I36,'MDA3'!L36))), AND(AU36>0,AV36>0,AW36=0,AX36>0),MIN(BA36, MAX('MDA1'!K36,'MDA2'!K36, 'MDA5'!K36,MAX('MDA3'!I36,'MDA3'!L36),AL36)), AND(AU36>0,AV36>0,AW36>0,AX36=0), MIN(BA36, MAX('MDA1'!K36,'MDA2'!K36, 'MDA5'!K36,MAX('MDA3'!I36,'MDA3'!L36),W36)), AND(AU36>0,AV36>0,AW36>0,AX36>0), MIN(BA36, MAX('MDA1'!K36,'MDA2'!K36, 'MDA5'!K36,MAX('MDA3'!I36,'MDA3'!L36),W36,AL36)))","v":0},{"$f":"_xlfn.IFS(AND(AU36=0,AV36=0,AW36=0,AX36=0),0,AND(AU36=0,AV36=0,AW36=0,AX36>0),AO36,AND(AU36=0,AV36=0,AW36>0,AX36=0),Z36,AND(AU36=0,AV36=0,AW36>0,AX36>0),MAX(Z36,AO36),AND(AU36=0,AV36>0,AW36=0,AX36=0),MIN(J36*PROFILE!$G$10,MAX('MDA3'!J36,'MDA3'!J36)),AND(AU36=0,AV36>0,AW36=0,AX36>0),MIN(J36*PROFILE!$G$10,MAX('MDA3'!J36,'MDA3'!M36,AO36)),AND(AU36=0,AV36>0,AW36>0,AX36=0),MIN(J36*PROFILE!$G$10,MAX('MDA3'!J36,'MDA3'!M36,Z36)),AND(AU36=0,AV36>0,AW36>0,AX36>0),MIN(J36*PROFILE!$G$10,MAX('MDA3'!J36,'MDA3'!M36,Z36,AO36)),AND(AU36>0,AV36=0,AW36=0,AX36=0), MIN(BB36,MAX('MDA1'!L36,'MDA2'!L36,'MDA5'!L36)),AND(AU36>0,AV36=0,AW36=0,AX36>0), MIN(BB36,MAX('MDA1'!L36,'MDA2'!L36,'MDA5'!L36,AO36)),AND(AU36>0,AV36=0,AW36>0,AX36=0),MIN(BB36,MAX('MDA1'!L36,'MDA2'!L36,'MDA5'!L36,Z36)),AND(AU36>0,AV36=0,AW36>0,AX36>0),MIN(BB36,MAX('MDA1'!L36,'MDA2'!L36,'MDA5'!L36,Z36,AO36)),AND(AU36>0,AV36>0,AW36=0,AX36=0),MIN(BB36, MAX('MDA1'!L36,'MDA2'!L36, 'MDA5'!L36,MAX('MDA3'!J36,'MDA3'!M36))), AND(AU36>0,AV36>0,AW36=0,AX36>0),MIN(BB36, MAX('MDA1'!L36,'MDA2'!L36, 'MDA5'!L36,MAX('MDA3'!J36,'MDA3'!M36),AO36)), AND(AU36>0,AV36>0,AW36>0,AX36=0), MIN(BB36, MAX('MDA1'!L36,'MDA2'!L36, 'MDA5'!L36,MAX('MDA3'!J36,'MDA3'!M36),Z36)), AND(AU36>0,AV36>0,AW36>0,AX36>0), MIN(BB36, MAX('MDA1'!L36,'MDA2'!L36, 'MDA5'!L36,MAX('MDA3'!J36,'MDA3'!M36),Z36,AO36)))","v":0},0,0]
[{"$f":"IF(COUNTRY_INFO!A37=0,\" \",COUNTRY_INFO!A37)","v":"Mali"},{"$f":"IF(COUNTRY_INFO!B37=0,\" \",COUNTRY_INFO!B37)","v":"Kidal"},{"$f":"IF(COUNTRY_INFO!C37=0,\" \",COUNTRY_INFO!C37)","v":"Tin-Essako"},{"$f":"COUNTRY_INFO!L37","v":0},null,null,{"$f":"MAX('MDA1'!M37,'MDA2'!M37,'MDA5'!M37)","v":0},{"$f":"IF(AND(COUNTRY_INFO!H37>0,COUNTRY_INFO!H37<4),IF(D37>G37,G37,D37),0)","v":0},{"$f":"IF(AND(COUNTRY_INFO!H37>0,COUNTRY_INFO!H37<4), IF(G37/D37*100<>0, IF(G37/D37*100>100,100,G37/D37*100), \"-\"),0)","v":0},{"$f":"COUNTRY_INFO!M37","v":0},null,null,{"$f":"MAX('MDA1'!M37,MAX('MDA3'!I37,'MDA3'!L37)+MAX('MDA3'!J37,'MDA3'!M37))","v":0},{"$f":"IF(AND(COUNTRY_INFO!I37>0,COUNTRY_INFO!I37<4),IF(J37>M37,M37,J37),0)","v":0},{"$f":"IF(AND(COUNTRY_INFO!I37>0,COUNTRY_INFO!I37<4), IF(M37/J37*100<>0, IF(M37/J37*100>100,100,M37/J37*100), \"-\"),0)","v":0},{"$f":"COUNTRY_INFO!Q37","v":"Non requis"},null,null,{"$f":"MAX('MDA2'!J37,'MDA5'!J37,'T1'!K37, MAX(T3_R1!J37,T3_R2!J37,T3_R3!J37))","v":0},{"$f":"IF(AND(COUNTRY_INFO!J37>1,COUNTRY_INFO!J37<99,COUNTRY_INFO!J37<>4,COUNTRY_INFO!J37<>5),IF(COUNTRY_INFO!N37>S37,S37,COUNTRY_INFO!N37),0)","v":0},{"$f":"IF(AND(COUNTRY_INFO!J37>1,COUNTRY_INFO!J37<99,COUNTRY_INFO!J37<>4,COUNTRY_INFO!J37<>5), IF(T37/COUNTRY_INFO!N37*100<>0, IF(T37/COUNTRY_INFO!N37*100>100,100,T37/COUNTRY_INFO!N37*100), \"-\"),0)","v":0},{"$f":"MAX('MDA1'!K37, 'MDA2'!K37, 'MDA5'!K37,'T1'!L37, MAX(T3_R1!K37,T3_R2!K37,T3_R3!K37))","v":0},{"$f":"IF(AND(COUNTRY_INFO!J37>1,COUNTRY_INFO!J37<99,COUNTRY_INFO!J37<>4,COUNTRY_INFO!J37<>5),IF(COUNTRY_INFO!O37>V37,V37,COUNTRY_INFO!O37),0)","v":0},{"$f":"IF(AND(COUNTRY_INFO!J37>1,COUNTRY_INFO!J37<99,COUNTRY_INFO!J37<>4,COUNTRY_INFO!J37<>5), IF(W37/COUNTRY_INFO!O37*100<>0, IF(W37/COUNTRY_INFO!O37*100>100,100,W37/COUNTRY_INFO!O37*100), \"-\"),0)","v":0},{"$f":"MAX('MDA1'!L37, 'MDA2'!L37, 'MDA5'!L37,'T1'!M37, MAX(T3_R1!L37,T3_R2!L37,T3_R3!L37))","v":0},{"$f":"IF(AND(COUNTRY_INFO!J37>1,COUNTRY_INFO!J37<99,COUNTRY_INFO!J37<>4,COUNTRY_INFO!J37<>5),IF(COUNTRY_INFO!P37>Y37,Y37,COUNTRY_INFO!P37),0)","v":0},{"$f":"IF(AND(COUNTRY_INFO!J37>1,COUNTRY_INFO!J37<99,COUNTRY_INFO!J37<>4,COUNTRY_INFO!J37<>5), IF(Z37/COUNTRY_INFO!P37*100<>0, IF(Z37/COUNTRY_INFO!P37*100>100,100,Z37/COUNTRY_INFO!P37*100), \"-\"),0)","v":0},0,0,{"$f":"IF(AND(COUNTRY_INFO!J37>1,COUNTRY_INFO!J37<99,COUNTRY_INFO!J37<>4,COUNTRY_INFO!J37<>5), IF(AC37/P37*100<>0, IF(AC37/P37*100>100,100,AC37/P37*100), \"-\"),0)","v":0},{"$f":"COUNTRY_INFO!U37","v":11665},null,null,{"$f":"MAX('T1'!K37,'T2'!R37)","v":0},{"$f":"IF(AND(COUNTRY_INFO!K37>1,COUNTRY_INFO!K37<99,COUNTRY_INFO!K37<>4,COUNTRY_INFO!K37<>5),IF(COUNTRY_INFO!R37>AH37,AH37,COUNTRY_INFO!R37),0)","v":0},{"$f":"IF(AND(COUNTRY_INFO!K37>1,COUNTRY_INFO!K37<99,COUNTRY_INFO!K37<>4,COUNTRY_INFO!K37<>5), IF(AI37/COUNTRY_INFO!R37*100<>0, IF(AI37/COUNTRY_INFO!R37*100>100,100,AI37/COUNTRY_INFO!R37*100), \"-\"),0)","v":0},{"$f":"MAX('T1'!L37,'T2'!S37)","v":0},{"$f":"IF(AND(COUNTRY_INFO!K37>1,COUNTRY_INFO!K37<99,COUNTRY_INFO!K37<>4,COUNTRY_INFO!K37<>5),IF(COUNTRY_INFO!S37>AK37,AK37,COUNTRY_INFO!S37),0)","v":0},{"$f":"IF(AND(COUNTRY_INFO!K37>1,COUNTRY_INFO!K37<99,COUNTRY_INFO!K37<>4,COUNTRY_INFO!K37<>5), IF(AL37/COUNTRY_INFO!S37*100<>0, IF(AL37/COUNTRY_INFO!S37*100>100,100,AL37/COUNTRY_INFO!S37*100), \"-\"),0)","v":0},{"$f":"MAX('T1'!M37,'T2'!T37)","v":0},{"$f":"IF(AND(COUNTRY_INFO!K37>1,COUNTRY_INFO!K37<99,COUNTRY_INFO!K37<>4,COUNTRY_INFO!K37<>5),IF(COUNTRY_INFO!T37>AN37,AN37,COUNTRY_INFO!T37),0)","v":0},{"$f":"IF(AND(COUNTRY_INFO!K37>1,COUNTRY_INFO!K37<99,COUNTRY_INFO!K37<>4,COUNTRY_INFO!K37<>5), IF(AO37/COUNTRY_INFO!T37*100<>0, IF(AO37/COUNTRY_INFO!T37*100>100,100,AO37/COUNTRY_INFO!T37*100), \"-\"),0)","v":0},0,0,{"$f":"IF(AND(COUNTRY_INFO!K37>1,COUNTRY_INFO!K37<99,COUNTRY_INFO!K37<>4,COUNTRY_INFO!K37<>5), IF(AR37/AE37*100<>0, IF(AR37/AE37*100>100,100,AR37/AE37*100), \"-\"),0)","v":0},null,{"$f":"IF(AND(D37<>0, D37<>\"Inconnu\",D37<>\"Interrompu\",D37<>\"Non requis\"),D37/COUNTRY_INFO!D37, 0)","v":0},{"$f":"IF(AND(J37<>0,J37<>\"Inconnu\",J37<>\"Interrompu\",J37<>\"Non requis\"),J37/COUNTRY_INFO!D37, 0)","v":0},{"$f":"IF(AND(P37<>0,P37<>\"Inconnu\",P37<>\"Surveillance\",P37<>\"Non requis\"),P37/COUNTRY_INFO!Q37, 0)","v":0},{"$f":"IF(AND(AE37<>0,AE37<>\"Inconnu\",AE37<>\"Surveillance\",AE37<>\"Non requis\"),AE37/COUNTRY_INFO!U37, 0)","v":1},{"$f":"IF(AU37>0,D37*PROFILE!$G$7,IF(AV37>0,J37*PROFILE!$G$7,0))","v":0},{"$f":"_xlfn.IFS(OR(AU37>0,AW37>0),COUNTRY_INFO!E37, AV37>0,J37*PROFILE!$G$8,AX37>0,COUNTRY_INFO!R37,COUNTIFS(AU37:AX37,\">0\")=0,0)","v":1362},{"$f":"_xlfn.IFS(OR(AU37>0,AW37>0),COUNTRY_INFO!F37, AV37>0,J37*PROFILE!$G$9,AX37>0,COUNTRY_INFO!S37,COUNTIFS(AU37:AX37,\">0\")=0,0)","v":3670},{"$f":"_xlfn.IFS(AU37>0,COUNTRY_INFO!G37, AND(AV37>0,AW37=0,AX37=0),J37*PROFILE!$G$10,AND(AV37>0,AW37>0,AX37=0), MAX(J37*PROFILE!$G$10,COUNTRY_INFO!P37),AND(AV37>0,AW37=0,AX37>0), MAX(J37*PROFILE!$G$10,COUNTRY_INFO!T37),AND(AV37=0,AW37>0,AX37>0), MAX(COUNTRY_INFO!P37,COUNTRY_INFO!T37),AND(AV37=0,AW37>0,AX37=0),COUNTRY_INFO!P37,AND(AV37=0,AW37=0,AX37>0),COUNTRY_INFO!T37,AND(AV37>0,AW37>0,AX37>0), MAX(J37*PROFILE!$G$10,COUNTRY_INFO!P37,COUNTRY_INFO!T37),COUNTIFS(AU37:AX37,\">0\")=0,0)","v":6633},11665,0,{"$f":"MAX('MDA2'!J37,'MDA5'!J37,S37,AH37)","v":0},{"$f":"MAX('MDA1'!K37,'MDA2'!K37,'MDA3'!I37,'MDA3'!L37,'MDA5'!K37,V37,AK37)","v":0},{"$f":"MAX('MDA1'!L37,'MDA2'!L37,'MDA3'!J37,'MDA3'!M37,'MDA5'!L37,Y37,AN37)","v":0},0,{"$f":"_xlfn.IFS(AND(AU37=0,AW37=0,AX37=0),0,AND(AU37=0,AW37=0,AX37>0),AI37,AND(AU37=0,AW37>0,AX37=0),T37,AND(AU37=0,AW37>0,AX37>0),MAX(T37,AI37),AND(AU37>0,AW37=0,AX37=0),MIN(MAX('MDA2'!J37,'MDA5'!J37),AZ37),AND(AU37>0,AW37=0,AX37>0),MIN(MAX('MDA2'!J37,'MDA5'!J37,AI37),AZ37),AND(AU37>0,AW37>0,AX37=0),MIN(MAX('MDA2'!J37,'MDA5'!J37,T37),AZ37),AND(AU37>0,AW37>0,AX37>0),MIN(MAX('MDA2'!J37,'MDA5'!J37,AI37,T37),AZ37))","v":0},{"$f":"_xlfn.IFS(AND(AU37=0,AV37=0,AW37=0,AX37=0),0,AND(AU37=0,AV37=0,AW37=0,AX37>0),AL37,AND(AU37=0,AV37=0,AW37>0,AX37=0),W37,AND(AU37=0,AV37=0,AW37>0,AX37>0),MAX(W37,AL37),AND(AU37=0,AV37>0,AW37=0,AX37=0),MIN(J37*PROFILE!$G$9,MAX('MDA3'!I37,'MDA3'!L37)),AND(AU37=0,AV37>0,AW37=0,AX37>0),MIN(J37*PROFILE!$G$9,MAX('MDA3'!I37,'MDA3'!L37,AL37)),AND(AU37=0,AV37>0,AW37>0,AX37=0),MIN(J37*PROFILE!$G$9,MAX('MDA3'!I37,'MDA3'!L37,W37)),AND(AU37=0,AV37>0,AW37>0,AX37>0),MIN(J37*PROFILE!$G$9,MAX('MDA3'!I37,'MDA3'!L37,W37,AL37)),AND(AU37>0,AV37=0,AW37=0,AX37=0), MIN(BA37,MAX('MDA1'!K37,'MDA2'!K37,'MDA5'!K37)),AND(AU37>0,AV37=0,AW37=0,AX37>0), MIN(BA37,MAX('MDA1'!K37,'MDA2'!K37,'MDA5'!K37,AL37)),AND(AU37>0,AV37=0,AW37>0,AX37=0),MIN(BA37,MAX('MDA1'!K37,'MDA2'!KL37,'MDA5'!K37,W37)),AND(AU37>0,AV37=0,AW37>0,AX37>0),MIN(BA37,MAX('MDA1'!K37,'MDA2'!K37,'MDA5'!K37,W37,AL37)),AND(AU37>0,AV37>0,AW37=0,AX37=0),MIN(BA37, MAX('MDA1'!K37,'MDA2'!K37, 'MDA5'!K37,MAX('MDA3'!I37,'MDA3'!L37))), AND(AU37>0,AV37>0,AW37=0,AX37>0),MIN(BA37, MAX('MDA1'!K37,'MDA2'!K37, 'MDA5'!K37,MAX('MDA3'!I37,'MDA3'!L37),AL37)), AND(AU37>0,AV37>0,AW37>0,AX37=0), MIN(BA37, MAX('MDA1'!K37,'MDA2'!K37, 'MDA5'!K37,MAX('MDA3'!I37,'MDA3'!L37),W37)), AND(AU37>0,AV37>0,AW37>0,AX37>0), MIN(BA37, MAX('MDA1'!K37,'MDA2'!K37, 'MDA5'!K37,MAX('MDA3'!I37,'MDA3'!L37),W37,AL37)))","v":0},{"$f":"_xlfn.IFS(AND(AU37=0,AV37=0,AW37=0,AX37=0),0,AND(AU37=0,AV37=0,AW37=0,AX37>0),AO37,AND(AU37=0,AV37=0,AW37>0,AX37=0),Z37,AND(AU37=0,AV37=0,AW37>0,AX37>0),MAX(Z37,AO37),AND(AU37=0,AV37>0,AW37=0,AX37=0),MIN(J37*PROFILE!$G$10,MAX('MDA3'!J37,'MDA3'!J37)),AND(AU37=0,AV37>0,AW37=0,AX37>0),MIN(J37*PROFILE!$G$10,MAX('MDA3'!J37,'MDA3'!M37,AO37)),AND(AU37=0,AV37>0,AW37>0,AX37=0),MIN(J37*PROFILE!$G$10,MAX('MDA3'!J37,'MDA3'!M37,Z37)),AND(AU37=0,AV37>0,AW37>0,AX37>0),MIN(J37*PROFILE!$G$10,MAX('MDA3'!J37,'MDA3'!M37,Z37,AO37)),AND(AU37>0,AV37=0,AW37=0,AX37=0), MIN(BB37,MAX('MDA1'!L37,'MDA2'!L37,'MDA5'!L37)),AND(AU37>0,AV37=0,AW37=0,AX37>0), MIN(BB37,MAX('MDA1'!L37,'MDA2'!L37,'MDA5'!L37,AO37)),AND(AU37>0,AV37=0,AW37>0,AX37=0),MIN(BB37,MAX('MDA1'!L37,'MDA2'!L37,'MDA5'!L37,Z37)),AND(AU37>0,AV37=0,AW37>0,AX37>0),MIN(BB37,MAX('MDA1'!L37,'MDA2'!L37,'MDA5'!L37,Z37,AO37)),AND(AU37>0,AV37>0,AW37=0,AX37=0),MIN(BB37, MAX('MDA1'!L37,'MDA2'!L37, 'MDA5'!L37,MAX('MDA3'!J37,'MDA3'!M37))), AND(AU37>0,AV37>0,AW37=0,AX37>0),MIN(BB37, MAX('MDA1'!L37,'MDA2'!L37, 'MDA5'!L37,MAX('MDA3'!J37,'MDA3'!M37),AO37)), AND(AU37>0,AV37>0,AW37>0,AX37=0), MIN(BB37, MAX('MDA1'!L37,'MDA2'!L37, 'MDA5'!L37,MAX('MDA3'!J37,'MDA3'!M37),Z37)), AND(AU37>0,AV37>0,AW37>0,AX37>0), MIN(BB37, MAX('MDA1'!L37,'MDA2'!L37, 'MDA5'!L37,MAX('MDA3'!J37,'MDA3'!M37),Z37,AO37)))","v":0},0,0]
[{"$f":"IF(COUNTRY_INFO!A38=0,\" \",COUNTRY_INFO!A38)","v":"Mali"},{"$f":"IF(COUNTRY_INFO!B38=0,\" \",COUNTRY_INFO!B38)","v":"Koulikoro"},{"$f":"IF(COUNTRY_INFO!C38=0,\" \",COUNTRY_INFO!C38)","v":"Banamba"},{"$f":"COUNTRY_INFO!L38","v":0},null,null,{"$f":"MAX('MDA1'!M38,'MDA2'!M38,'MDA5'!M38)","v":0},{"$f":"IF(AND(COUNTRY_INFO!H38>0,COUNTRY_INFO!H38<4),IF(D38>G38,G38,D38),0)","v":0},{"$f":"IF(AND(COUNTRY_INFO!H38>0,COUNTRY_INFO!H38<4), IF(G38/D38*100<>0, IF(G38/D38*100>100,100,G38/D38*100), \"-\"),0)","v":0},{"$f":"COUNTRY_INFO!M38","v":0},null,null,{"$f":"MAX('MDA1'!M38,MAX('MDA3'!I38,'MDA3'!L38)+MAX('MDA3'!J38,'MDA3'!M38))","v":0},{"$f":"IF(AND(COUNTRY_INFO!I38>0,COUNTRY_INFO!I38<4),IF(J38>M38,M38,J38),0)","v":0},{"$f":"IF(AND(COUNTRY_INFO!I38>0,COUNTRY_INFO!I38<4), IF(M38/J38*100<>0, IF(M38/J38*100>100,100,M38/J38*100), \"-\"),0)","v":0},{"$f":"COUNTRY_INFO!Q38","v":"Non requis"},null,null,{"$f":"MAX('MDA2'!J38,'MDA5'!J38,'T1'!K38, MAX(T3_R1!J38,T3_R2!J38,T3_R3!J38))","v":0},{"$f":"IF(AND(COUNTRY_INFO!J38>1,COUNTRY_INFO!J38<99,COUNTRY_INFO!J38<>4,COUNTRY_INFO!J38<>5),IF(COUNTRY_INFO!N38>S38,S38,COUNTRY_INFO!N38),0)","v":0},{"$f":"IF(AND(COUNTRY_INFO!J38>1,COUNTRY_INFO!J38<99,COUNTRY_INFO!J38<>4,COUNTRY_INFO!J38<>5), IF(T38/COUNTRY_INFO!N38*100<>0, IF(T38/COUNTRY_INFO!N38*100>100,100,T38/COUNTRY_INFO!N38*100), \"-\"),0)","v":0},{"$f":"MAX('MDA1'!K38, 'MDA2'!K38, 'MDA5'!K38,'T1'!L38, MAX(T3_R1!K38,T3_R2!K38,T3_R3!K38))","v":0},{"$f":"IF(AND(COUNTRY_INFO!J38>1,COUNTRY_INFO!J38<99,COUNTRY_INFO!J38<>4,COUNTRY_INFO!J38<>5),IF(COUNTRY_INFO!O38>V38,V38,COUNTRY_INFO!O38),0)","v":0},{"$f":"IF(AND(COUNTRY_INFO!J38>1,COUNTRY_INFO!J38<99,COUNTRY_INFO!J38<>4,COUNTRY_INFO!J38<>5), IF(W38/COUNTRY_INFO!O38*100<>0, IF(W38/COUNTRY_INFO!O38*100>100,100,W38/COUNTRY_INFO!O38*100), \"-\"),0)","v":0},{"$f":"MAX('MDA1'!L38, 'MDA2'!L38, 'MDA5'!L38,'T1'!M38, MAX(T3_R1!L38,T3_R2!L38,T3_R3!L38))","v":0},{"$f":"IF(AND(COUNTRY_INFO!J38>1,COUNTRY_INFO!J38<99,COUNTRY_INFO!J38<>4,COUNTRY_INFO!J38<>5),IF(COUNTRY_INFO!P38>Y38,Y38,COUNTRY_INFO!P38),0)","v":0},{"$f":"IF(AND(COUNTRY_INFO!J38>1,COUNTRY_INFO!J38<99,COUNTRY_INFO!J38<>4,COUNTRY_INFO!J38<>5), IF(Z38/COUNTRY_INFO!P38*100<>0, IF(Z38/COUNTRY_INFO!P38*100>100,100,Z38/COUNTRY_INFO!P38*100), \"-\"),0)","v":0},0,0,{"$f":"IF(AND(COUNTRY_INFO!J38>1,COUNTRY_INFO!J38<99,COUNTRY_INFO!J38<>4,COUNTRY_INFO!J38<>5), IF(AC38/P38*100<>0, IF(AC38/P38*100>100,100,AC38/P38*100), \"-\"),0)","v":0},{"$f":"COUNTRY_INFO!U38","v":87038},null,null,{"$f":"MAX('T1'!K38,'T2'!R38)","v":0},{"$f":"IF(AND(COUNTRY_INFO!K38>1,COUNTRY_INFO!K38<99,COUNTRY_INFO!K38<>4,COUNTRY_INFO!K38<>5),IF(COUNTRY_INFO!R38>AH38,AH38,COUNTRY_INFO!R38),0)","v":0},{"$f":"IF(AND(COUNTRY_INFO!K38>1,COUNTRY_INFO!K38<99,COUNTRY_INFO!K38<>4,COUNTRY_INFO!K38<>5), IF(AI38/COUNTRY_INFO!R38*100<>0, IF(AI38/COUNTRY_INFO!R38*100>100,100,AI38/COUNTRY_INFO!R38*100), \"-\"),0)","v":"-"},{"$f":"MAX('T1'!L38,'T2'!S38)","v":65676},{"$f":"IF(AND(COUNTRY_INFO!K38>1,COUNTRY_INFO!K38<99,COUNTRY_INFO!K38<>4,COUNTRY_INFO!K38<>5),IF(COUNTRY_INFO!S38>AK38,AK38,COUNTRY_INFO!S38),0)","v":27385},{"$f":"IF(AND(COUNTRY_INFO!K38>1,COUNTRY_INFO!K38<99,COUNTRY_INFO!K38<>4,COUNTRY_INFO!K38<>5), IF(AL38/COUNTRY_INFO!S38*100<>0, IF(AL38/COUNTRY_INFO!S38*100>100,100,AL38/COUNTRY_INFO!S38*100), \"-\"),0)","v":100},{"$f":"MAX('T1'!M38,'T2'!T38)","v":0},{"$f":"IF(AND(COUNTRY_INFO!K38>1,COUNTRY_INFO!K38<99,COUNTRY_INFO!K38<>4,COUNTRY_INFO!K38<>5),IF(COUNTRY_INFO!T38>AN38,AN38,COUNTRY_INFO!T38),0)","v":0},{"$f":"IF(AND(COUNTRY_INFO!K38>1,COUNTRY_INFO!K38<99,COUNTRY_INFO!K38<>4,COUNTRY_INFO!K38<>5), IF(AO38/COUNTRY_INFO!T38*100<>0, IF(AO38/COUNTRY_INFO!T38*100>100,100,AO38/COUNTRY_INFO!T38*100), \"-\"),0)","v":"-"},65676,27385,{"$f":"IF(AND(COUNTRY_INFO!K38>1,COUNTRY_INFO!K38<99,COUNTRY_INFO!K38<>4,COUNTRY_INFO!K38<>5), IF(AR38/AE38*100<>0, IF(AR38/AE38*100>100,100,AR38/AE38*100), \"-\"),0)","v":31.463268917024749},null,{"$f":"IF(AND(D38<>0, D38<>\"Inconnu\",D38<>\"Interrompu\",D38<>\"Non requis\"),D38/COUNTRY_INFO!D38, 0)","v":0},{"$f":"IF(AND(J38<>0,J38<>\"Inconnu\",J38<>\"Interrompu\",J38<>\"Non requis\"),J38/COUNTRY_INFO!D38, 0)","v":0},{"$f":"IF(AND(P38<>0,P38<>\"Inconnu\",P38<>\"Surveillance\",P38<>\"Non requis\"),P38/COUNTRY_INFO!Q38, 0)","v":0},{"$f":"IF(AND(AE38<>0,AE38<>\"Inconnu\",AE38<>\"Surveillance\",AE38<>\"Non requis\"),AE38/COUNTRY_INFO!U38, 0)","v":1},{"$f":"IF(AU38>0,D38*PROFILE!$G$7,IF(AV38>0,J38*PROFILE!$G$7,0))","v":0},{"$f":"_xlfn.IFS(OR(AU38>0,AW38>0),COUNTRY_INFO!E38, AV38>0,J38*PROFILE!$G$8,AX38>0,COUNTRY_INFO!R38,COUNTIFS(AU38:AX38,\">0\")=0,0)","v":10167},{"$f":"_xlfn.IFS(OR(AU38>0,AW38>0),COUNTRY_INFO!F38, AV38>0,J38*PROFILE!$G$9,AX38>0,COUNTRY_INFO!S38,COUNTIFS(AU38:AX38,\">0\")=0,0)","v":27385},{"$f":"_xlfn.IFS(AU38>0,COUNTRY_INFO!G38, AND(AV38>0,AW38=0,AX38=0),J38*PROFILE!$G$10,AND(AV38>0,AW38>0,AX38=0), MAX(J38*PROFILE!$G$10,COUNTRY_INFO!P38),AND(AV38>0,AW38=0,AX38>0), MAX(J38*PROFILE!$G$10,COUNTRY_INFO!T38),AND(AV38=0,AW38>0,AX38>0), MAX(COUNTRY_INFO!P38,COUNTRY_INFO!T38),AND(AV38=0,AW38>0,AX38=0),COUNTRY_INFO!P38,AND(AV38=0,AW38=0,AX38>0),COUNTRY_INFO!T38,AND(AV38>0,AW38>0,AX38>0), MAX(J38*PROFILE!$G$10,COUNTRY_INFO!P38,COUNTRY_INFO!T38),COUNTIFS(AU38:AX38,\">0\")=0,0)","v":49486},87038,"Y",{"$f":"MAX('MDA2'!J38,'MDA5'!J38,S38,AH38)","v":0},{"$f":"MAX('MDA1'!K38,'MDA2'!K38,'MDA3'!I38,'MDA3'!L38,'MDA5'!K38,V38,AK38)","v":65676},{"$f":"MAX('MDA1'!L38,'MDA2'!L38,'MDA3'!J38,'MDA3'!M38,'MDA5'!L38,Y38,AN38)","v":0},65676,{"$f":"_xlfn.IFS(AND(AU38=0,AW38=0,AX38=0),0,AND(AU38=0,AW38=0,AX38>0),AI38,AND(AU38=0,AW38>0,AX38=0),T38,AND(AU38=0,AW38>0,AX38>0),MAX(T38,AI38),AND(AU38>0,AW38=0,AX38=0),MIN(MAX('MDA2'!J38,'MDA5'!J38),AZ38),AND(AU38>0,AW38=0,AX38>0),MIN(MAX('MDA2'!J38,'MDA5'!J38,AI38),AZ38),AND(AU38>0,AW38>0,AX38=0),MIN(MAX('MDA2'!J38,'MDA5'!J38,T38),AZ38),AND(AU38>0,AW38>0,AX38>0),MIN(MAX('MDA2'!J38,'MDA5'!J38,AI38,T38),AZ38))","v":0},{"$f":"_xlfn.IFS(AND(AU38=0,AV38=0,AW38=0,AX38=0),0,AND(AU38=0,AV38=0,AW38=0,AX38>0),AL38,AND(AU38=0,AV38=0,AW38>0,AX38=0),W38,AND(AU38=0,AV38=0,AW38>0,AX38>0),MAX(W38,AL38),AND(AU38=0,AV38>0,AW38=0,AX38=0),MIN(J38*PROFILE!$G$9,MAX('MDA3'!I38,'MDA3'!L38)),AND(AU38=0,AV38>0,AW38=0,AX38>0),MIN(J38*PROFILE!$G$9,MAX('MDA3'!I38,'MDA3'!L38,AL38)),AND(AU38=0,AV38>0,AW38>0,AX38=0),MIN(J38*PROFILE!$G$9,MAX('MDA3'!I38,'MDA3'!L38,W38)),AND(AU38=0,AV38>0,AW38>0,AX38>0),MIN(J38*PROFILE!$G$9,MAX('MDA3'!I38,'MDA3'!L38,W38,AL38)),AND(AU38>0,AV38=0,AW38=0,AX38=0), MIN(BA38,MAX('MDA1'!K38,'MDA2'!K38,'MDA5'!K38)),AND(AU38>0,AV38=0,AW38=0,AX38>0), MIN(BA38,MAX('MDA1'!K38,'MDA2'!K38,'MDA5'!K38,AL38)),AND(AU38>0,AV38=0,AW38>0,AX38=0),MIN(BA38,MAX('MDA1'!K38,'MDA2'!KL38,'MDA5'!K38,W38)),AND(AU38>0,AV38=0,AW38>0,AX38>0),MIN(BA38,MAX('MDA1'!K38,'MDA2'!K38,'MDA5'!K38,W38,AL38)),AND(AU38>0,AV38>0,AW38=0,AX38=0),MIN(BA38, MAX('MDA1'!K38,'MDA2'!K38, 'MDA5'!K38,MAX('MDA3'!I38,'MDA3'!L38))), AND(AU38>0,AV38>0,AW38=0,AX38>0),MIN(BA38, MAX('MDA1'!K38,'MDA2'!K38, 'MDA5'!K38,MAX('MDA3'!I38,'MDA3'!L38),AL38)), AND(AU38>0,AV38>0,AW38>0,AX38=0), MIN(BA38, MAX('MDA1'!K38,'MDA2'!K38, 'MDA5'!K38,MAX('MDA3'!I38,'MDA3'!L38),W38)), AND(AU38>0,AV38>0,AW38>0,AX38>0), MIN(BA38, MAX('MDA1'!K38,'MDA2'!K38, 'MDA5'!K38,MAX('MDA3'!I38,'MDA3'!L38),W38,AL38)))","v":27385},{"$f":"_xlfn.IFS(AND(AU38=0,AV38=0,AW38=0,AX38=0),0,AND(AU38=0,AV38=0,AW38=0,AX38>0),AO38,AND(AU38=0,AV38=0,AW38>0,AX38=0),Z38,AND(AU38=0,AV38=0,AW38>0,AX38>0),MAX(Z38,AO38),AND(AU38=0,AV38>0,AW38=0,AX38=0),MIN(J38*PROFILE!$G$10,MAX('MDA3'!J38,'MDA3'!J38)),AND(AU38=0,AV38>0,AW38=0,AX38>0),MIN(J38*PROFILE!$G$10,MAX('MDA3'!J38,'MDA3'!M38,AO38)),AND(AU38=0,AV38>0,AW38>0,AX38=0),MIN(J38*PROFILE!$G$10,MAX('MDA3'!J38,'MDA3'!M38,Z38)),AND(AU38=0,AV38>0,AW38>0,AX38>0),MIN(J38*PROFILE!$G$10,MAX('MDA3'!J38,'MDA3'!M38,Z38,AO38)),AND(AU38>0,AV38=0,AW38=0,AX38=0), MIN(BB38,MAX('MDA1'!L38,'MDA2'!L38,'MDA5'!L38)),AND(AU38>0,AV38=0,AW38=0,AX38>0), MIN(BB38,MAX('MDA1'!L38,'MDA2'!L38,'MDA5'!L38,AO38)),AND(AU38>0,AV38=0,AW38>0,AX38=0),MIN(BB38,MAX('MDA1'!L38,'MDA2'!L38,'MDA5'!L38,Z38)),AND(AU38>0,AV38=0,AW38>0,AX38>0),MIN(BB38,MAX('MDA1'!L38,'MDA2'!L38,'MDA5'!L38,Z38,AO38)),AND(AU38>0,AV38>0,AW38=0,AX38=0),MIN(BB38, MAX('MDA1'!L38,'MDA2'!L38, 'MDA5'!L38,MAX('MDA3'!J38,'MDA3'!M38))), AND(AU38>0,AV38>0,AW38=0,AX38>0),MIN(BB38, MAX('MDA1'!L38,'MDA2'!L38, 'MDA5'!L38,MAX('MDA3'!J38,'MDA3'!M38),AO38)), AND(AU38>0,AV38>0,AW38>0,AX38=0), MIN(BB38, MAX('MDA1'!L38,'MDA2'!L38, 'MDA5'!L38,MAX('MDA3'!J38,'MDA3'!M38),Z38)), AND(AU38>0,AV38>0,AW38>0,AX38>0), MIN(BB38, MAX('MDA1'!L38,'MDA2'!L38, 'MDA5'!L38,MAX('MDA3'!J38,'MDA3'!M38),Z38,AO38)))","v":0},27385,31.463268917024749]
[{"$f":"IF(COUNTRY_INFO!A39=0,\" \",COUNTRY_INFO!A39)","v":"Mali"},{"$f":"IF(COUNTRY_INFO!B39=0,\" \",COUNTRY_INFO!B39)","v":"Koulikoro"},{"$f":"IF(COUNTRY_INFO!C39=0,\" \",COUNTRY_INFO!C39)","v":"Dioila"},{"$f":"COUNTRY_INFO!L39","v":0},null,null,{"$f":"MAX('MDA1'!M39,'MDA2'!M39,'MDA5'!M39)","v":0},{"$f":"IF(AND(COUNTRY_INFO!H39>0,COUNTRY_INFO!H39<4),IF(D39>G39,G39,D39),0)","v":0},{"$f":"IF(AND(COUNTRY_INFO!H39>0,COUNTRY_INFO!H39<4), IF(G39/D39*100<>0, IF(G39/D39*100>100,100,G39/D39*100), \"-\"),0)","v":0},{"$f":"COUNTRY_INFO!M39","v":426781.128256},162448,155870,{"$f":"MAX('MDA1'!M39,MAX('MDA3'!I39,'MDA3'!L39)+MAX('MDA3'!J39,'MDA3'!M39))","v":318318},{"$f":"IF(AND(COUNTRY_INFO!I39>0,COUNTRY_INFO!I39<4),IF(J39>M39,M39,J39),0)","v":318318},{"$f":"IF(AND(COUNTRY_INFO!I39>0,COUNTRY_INFO!I39<4), IF(M39/J39*100<>0, IF(M39/J39*100>100,100,M39/J39*100), \"-\"),0)","v":74.585772173379809},{"$f":"COUNTRY_INFO!Q39","v":"Non requis"},null,null,{"$f":"MAX('MDA2'!J39,'MDA5'!J39,'T1'!K39, MAX(T3_R1!J39,T3_R2!J39,T3_R3!J39))","v":0},{"$f":"IF(AND(COUNTRY_INFO!J39>1,COUNTRY_INFO!J39<99,COUNTRY_INFO!J39<>4,COUNTRY_INFO!J39<>5),IF(COUNTRY_INFO!N39>S39,S39,COUNTRY_INFO!N39),0)","v":0},{"$f":"IF(AND(COUNTRY_INFO!J39>1,COUNTRY_INFO!J39<99,COUNTRY_INFO!J39<>4,COUNTRY_INFO!J39<>5), IF(T39/COUNTRY_INFO!N39*100<>0, IF(T39/COUNTRY_INFO!N39*100>100,100,T39/COUNTRY_INFO!N39*100), \"-\"),0)","v":0},{"$f":"MAX('MDA1'!K39, 'MDA2'!K39, 'MDA5'!K39,'T1'!L39, MAX(T3_R1!K39,T3_R2!K39,T3_R3!K39))","v":0},{"$f":"IF(AND(COUNTRY_INFO!J39>1,COUNTRY_INFO!J39<99,COUNTRY_INFO!J39<>4,COUNTRY_INFO!J39<>5),IF(COUNTRY_INFO!O39>V39,V39,COUNTRY_INFO!O39),0)","v":0},{"$f":"IF(AND(COUNTRY_INFO!J39>1,COUNTRY_INFO!J39<99,COUNTRY_INFO!J39<>4,COUNTRY_INFO!J39<>5), IF(W39/COUNTRY_INFO!O39*100<>0, IF(W39/COUNTRY_INFO!O39*100>100,100,W39/COUNTRY_INFO!O39*100), \"-\"),0)","v":0},{"$f":"MAX('MDA1'!L39, 'MDA2'!L39, 'MDA5'!L39,'T1'!M39, MAX(T3_R1!L39,T3_R2!L39,T3_R3!L39))","v":0},{"$f":"IF(AND(COUNTRY_INFO!J39>1,COUNTRY_INFO!J39<99,COUNTRY_INFO!J39<>4,COUNTRY_INFO!J39<>5),IF(COUNTRY_INFO!P39>Y39,Y39,COUNTRY_INFO!P39),0)","v":0},{"$f":"IF(AND(COUNTRY_INFO!J39>1,COUNTRY_INFO!J39<99,COUNTRY_INFO!J39<>4,COUNTRY_INFO!J39<>5), IF(Z39/COUNTRY_INFO!P39*100<>0, IF(Z39/COUNTRY_INFO!P39*100>100,100,Z39/COUNTRY_INFO!P39*100), \"-\"),0)","v":0},0,0,{"$f":"IF(AND(COUNTRY_INFO!J39>1,COUNTRY_INFO!J39<99,COUNTRY_INFO!J39<>4,COUNTRY_INFO!J39<>5), IF(AC39/P39*100<>0, IF(AC39/P39*100>100,100,AC39/P39*100), \"-\"),0)","v":0},{"$f":"COUNTRY_INFO!U39","v":214230},null,null,{"$f":"MAX('T1'!K39,'T2'!R39)","v":0},{"$f":"IF(AND(COUNTRY_INFO!K39>1,COUNTRY_INFO!K39<99,COUNTRY_INFO!K39<>4,COUNTRY_INFO!K39<>5),IF(COUNTRY_INFO!R39>AH39,AH39,COUNTRY_INFO!R39),0)","v":0},{"$f":"IF(AND(COUNTRY_INFO!K39>1,COUNTRY_INFO!K39<99,COUNTRY_INFO!K39<>4,COUNTRY_INFO!K39<>5), IF(AI39/COUNTRY_INFO!R39*100<>0, IF(AI39/COUNTRY_INFO!R39*100>100,100,AI39/COUNTRY_INFO!R39*100), \"-\"),0)","v":"-"},{"$f":"MAX('T1'!L39,'T2'!S39)","v":31937},{"$f":"IF(AND(COUNTRY_INFO!K39>1,COUNTRY_INFO!K39<99,COUNTRY_INFO!K39<>4,COUNTRY_INFO!K39<>5),IF(COUNTRY_INFO!S39>AK39,AK39,COUNTRY_INFO!S39),0)","v":31937},{"$f":"IF(AND(COUNTRY_INFO!K39>1,COUNTRY_INFO!K39<99,COUNTRY_INFO!K39<>4,COUNTRY_INFO!K39<>5), IF(AL39/COUNTRY_INFO!S39*100<>0, IF(AL39/COUNTRY_INFO!S39*100>100,100,AL39/COUNTRY_INFO!S39*100), \"-\"),0)","v":47.380758103998218},{"$f":"MAX('T1'!M39,'T2'!T39)","v":0},{"$f":"IF(AND(COUNTRY_INFO!K39>1,COUNTRY_INFO!K39<99,COUNTRY_INFO!K39<>4,COUNTRY_INFO!K39<>5),IF(COUNTRY_INFO!T39>AN39,AN39,COUNTRY_INFO!T39),0)","v":0},{"$f":"IF(AND(COUNTRY_INFO!K39>1,COUNTRY_INFO!K39<99,COUNTRY_INFO!K39<>4,COUNTRY_INFO!K39<>5), IF(AO39/COUNTRY_INFO!T39*100<>0, IF(AO39/COUNTRY_INFO!T39*100>100,100,AO39/COUNTRY_INFO!T39*100), \"-\"),0)","v":"-"},31937,31937,{"$f":"IF(AND(COUNTRY_INFO!K39>1,COUNTRY_INFO!K39<99,COUNTRY_INFO!K39<>4,COUNTRY_INFO!K39<>5), IF(AR39/AE39*100<>0, IF(AR39/AE39*100>100,100,AR39/AE39*100), \"-\"),0)","v":14.907809363767912},null,{"$f":"IF(AND(D39<>0, D39<>\"Inconnu\",D39<>\"Interrompu\",D39<>\"Non requis\"),D39/COUNTRY_INFO!D39, 0)","v":0},{"$f":"IF(AND(J39<>0,J39<>\"Inconnu\",J39<>\"Interrompu\",J39<>\"Non requis\"),J39/COUNTRY_INFO!D39, 0)","v":1},{"$f":"IF(AND(P39<>0,P39<>\"Inconnu\",P39<>\"Surveillance\",P39<>\"Non requis\"),P39/COUNTRY_INFO!Q39, 0)","v":0},{"$f":"IF(AND(AE39<>0,AE39<>\"Inconnu\",AE39<>\"Surveillance\",AE39<>\"Non requis\"),AE39/COUNTRY_INFO!U39, 0)","v":1},{"$f":"IF(AU39>0,D39*PROFILE!$G$7,IF(AV39>0,J39*PROFILE!$G$7,0))","v":21339.098922402376},{"$f":"_xlfn.IFS(OR(AU39>0,AW39>0),COUNTRY_INFO!E39, AV39>0,J39*PROFILE!$G$8,AX39>0,COUNTRY_INFO!R39,COUNTIFS(AU39:AX39,\">0\")=0,0)","v":64017.135842938529},{"$f":"_xlfn.IFS(OR(AU39>0,AW39>0),COUNTRY_INFO!F39, AV39>0,J39*PROFILE!$G$9,AX39>0,COUNTRY_INFO!S39,COUNTIFS(AU39:AX39,\">0\")=0,0)","v":121632.60880007928},{"$f":"_xlfn.IFS(AU39>0,COUNTRY_INFO!G39, AND(AV39>0,AW39=0,AX39=0),J39*PROFILE!$G$10,AND(AV39>0,AW39>0,AX39=0), MAX(J39*PROFILE!$G$10,COUNTRY_INFO!P39),AND(AV39>0,AW39=0,AX39>0), MAX(J39*PROFILE!$G$10,COUNTRY_INFO!T39),AND(AV39=0,AW39>0,AX39>0), MAX(COUNTRY_INFO!P39,COUNTRY_INFO!T39),AND(AV39=0,AW39>0,AX39=0),COUNTRY_INFO!P39,AND(AV39=0,AW39=0,AX39>0),COUNTRY_INFO!T39,AND(AV39>0,AW39>0,AX39>0), MAX(J39*PROFILE!$G$10,COUNTRY_INFO!P39,COUNTRY_INFO!T39),COUNTIFS(AU39:AX39,\">0\")=0,0)","v":219792.28469057981},426781.128256,"Y",{"$f":"MAX('MDA2'!J39,'MDA5'!J39,S39,AH39)","v":0},{"$f":"MAX('MDA1'!K39,'MDA2'!K39,'MDA3'!I39,'MDA3'!L39,'MDA5'!K39,V39,AK39)","v":139436},{"$f":"MAX('MDA1'!L39,'MDA2'!L39,'MDA3'!J39,'MDA3'!M39,'MDA5'!L39,Y39,AN39)","v":178882},318318,{"$f":"_xlfn.IFS(AND(AU39=0,AW39=0,AX39=0),0,AND(AU39=0,AW39=0,AX39>0),AI39,AND(AU39=0,AW39>0,AX39=0),T39,AND(AU39=0,AW39>0,AX39>0),MAX(T39,AI39),AND(AU39>0,AW39=0,AX39=0),MIN(MAX('MDA2'!J39,'MDA5'!J39),AZ39),AND(AU39>0,AW39=0,AX39>0),MIN(MAX('MDA2'!J39,'MDA5'!J39,AI39),AZ39),AND(AU39>0,AW39>0,AX39=0),MIN(MAX('MDA2'!J39,'MDA5'!J39,T39),AZ39),AND(AU39>0,AW39>0,AX39>0),MIN(MAX('MDA2'!J39,'MDA5'!J39,AI39,T39),AZ39))","v":0},{"$f":"_xlfn.IFS(AND(AU39=0,AV39=0,AW39=0,AX39=0),0,AND(AU39=0,AV39=0,AW39=0,AX39>0),AL39,AND(AU39=0,AV39=0,AW39>0,AX39=0),W39,AND(AU39=0,AV39=0,AW39>0,AX39>0),MAX(W39,AL39),AND(AU39=0,AV39>0,AW39=0,AX39=0),MIN(J39*PROFILE!$G$9,MAX('MDA3'!I39,'MDA3'!L39)),AND(AU39=0,AV39>0,AW39=0,AX39>0),MIN(J39*PROFILE!$G$9,MAX('MDA3'!I39,'MDA3'!L39,AL39)),AND(AU39=0,AV39>0,AW39>0,AX39=0),MIN(J39*PROFILE!$G$9,MAX('MDA3'!I39,'MDA3'!L39,W39)),AND(AU39=0,AV39>0,AW39>0,AX39>0),MIN(J39*PROFILE!$G$9,MAX('MDA3'!I39,'MDA3'!L39,W39,AL39)),AND(AU39>0,AV39=0,AW39=0,AX39=0), MIN(BA39,MAX('MDA1'!K39,'MDA2'!K39,'MDA5'!K39)),AND(AU39>0,AV39=0,AW39=0,AX39>0), MIN(BA39,MAX('MDA1'!K39,'MDA2'!K39,'MDA5'!K39,AL39)),AND(AU39>0,AV39=0,AW39>0,AX39=0),MIN(BA39,MAX('MDA1'!K39,'MDA2'!KL39,'MDA5'!K39,W39)),AND(AU39>0,AV39=0,AW39>0,AX39>0),MIN(BA39,MAX('MDA1'!K39,'MDA2'!K39,'MDA5'!K39,W39,AL39)),AND(AU39>0,AV39>0,AW39=0,AX39=0),MIN(BA39, MAX('MDA1'!K39,'MDA2'!K39, 'MDA5'!K39,MAX('MDA3'!I39,'MDA3'!L39))), AND(AU39>0,AV39>0,AW39=0,AX39>0),MIN(BA39, MAX('MDA1'!K39,'MDA2'!K39, 'MDA5'!K39,MAX('MDA3'!I39,'MDA3'!L39),AL39)), AND(AU39>0,AV39>0,AW39>0,AX39=0), MIN(BA39, MAX('MDA1'!K39,'MDA2'!K39, 'MDA5'!K39,MAX('MDA3'!I39,'MDA3'!L39),W39)), AND(AU39>0,AV39>0,AW39>0,AX39>0), MIN(BA39, MAX('MDA1'!K39,'MDA2'!K39, 'MDA5'!K39,MAX('MDA3'!I39,'MDA3'!L39),W39,AL39)))","v":121632.60880007928},{"$f":"_xlfn.IFS(AND(AU39=0,AV39=0,AW39=0,AX39=0),0,AND(AU39=0,AV39=0,AW39=0,AX39>0),AO39,AND(AU39=0,AV39=0,AW39>0,AX39=0),Z39,AND(AU39=0,AV39=0,AW39>0,AX39>0),MAX(Z39,AO39),AND(AU39=0,AV39>0,AW39=0,AX39=0),MIN(J39*PROFILE!$G$10,MAX('MDA3'!J39,'MDA3'!J39)),AND(AU39=0,AV39>0,AW39=0,AX39>0),MIN(J39*PROFILE!$G$10,MAX('MDA3'!J39,'MDA3'!M39,AO39)),AND(AU39=0,AV39>0,AW39>0,AX39=0),MIN(J39*PROFILE!$G$10,MAX('MDA3'!J39,'MDA3'!M39,Z39)),AND(AU39=0,AV39>0,AW39>0,AX39>0),MIN(J39*PROFILE!$G$10,MAX('MDA3'!J39,'MDA3'!M39,Z39,AO39)),AND(AU39>0,AV39=0,AW39=0,AX39=0), MIN(BB39,MAX('MDA1'!L39,'MDA2'!L39,'MDA5'!L39)),AND(AU39>0,AV39=0,AW39=0,AX39>0), MIN(BB39,MAX('MDA1'!L39,'MDA2'!L39,'MDA5'!L39,AO39)),AND(AU39>0,AV39=0,AW39>0,AX39=0),MIN(BB39,MAX('MDA1'!L39,'MDA2'!L39,'MDA5'!L39,Z39)),AND(AU39>0,AV39=0,AW39>0,AX39>0),MIN(BB39,MAX('MDA1'!L39,'MDA2'!L39,'MDA5'!L39,Z39,AO39)),AND(AU39>0,AV39>0,AW39=0,AX39=0),MIN(BB39, MAX('MDA1'!L39,'MDA2'!L39, 'MDA5'!L39,MAX('MDA3'!J39,'MDA3'!M39))), AND(AU39>0,AV39>0,AW39=0,AX39>0),MIN(BB39, MAX('MDA1'!L39,'MDA2'!L39, 'MDA5'!L39,MAX('MDA3'!J39,'MDA3'!M39),AO39)), AND(AU39>0,AV39>0,AW39>0,AX39=0), MIN(BB39, MAX('MDA1'!L39,'MDA2'!L39, 'MDA5'!L39,MAX('MDA3'!J39,'MDA3'!M39),Z39)), AND(AU39>0,AV39>0,AW39>0,AX39>0), MIN(BB39, MAX('MDA1'!L39,'MDA2'!L39, 'MDA5'!L39,MAX('MDA3'!J39,'MDA3'!M39),Z39,AO39)))","v":178882},300514.60880007927,70.414221460096726]
[{"$f":"IF(COUNTRY_INFO!A40=0,\" \",COUNTRY_INFO!A40)","v":"Mali"},{"$f":"IF(COUNTRY_INFO!B40=0,\" \",COUNTRY_INFO!B40)","v":"Koulikoro"},{"$f":"IF(COUNTRY_INFO!C40=0,\" \",COUNTRY_INFO!C40)","v":"Fana"},{"$f":"COUNTRY_INFO!L40","v":0},null,null,{"$f":"MAX('MDA1'!M40,'MDA2'!M40,'MDA5'!M40)","v":0},{"$f":"IF(AND(COUNTRY_INFO!H40>0,COUNTRY_INFO!H40<4),IF(D40>G40,G40,D40),0)","v":0},{"$f":"IF(AND(COUNTRY_INFO!H40>0,COUNTRY_INFO!H40<4), IF(G40/D40*100<>0, IF(G40/D40*100>100,100,G40/D40*100), \"-\"),0)","v":0},{"$f":"COUNTRY_INFO!M40","v":363554.33419200004},138688,131489,{"$f":"MAX('MDA1'!M40,MAX('MDA3'!I40,'MDA3'!L40)+MAX('MDA3'!J40,'MDA3'!M40))","v":270177},{"$f":"IF(AND(COUNTRY_INFO!I40>0,COUNTRY_INFO!I40<4),IF(J40>M40,M40,J40),0)","v":270177},{"$f":"IF(AND(COUNTRY_INFO!I40>0,COUNTRY_INFO!I40<4), IF(M40/J40*100<>0, IF(M40/J40*100>100,100,M40/J40*100), \"-\"),0)","v":74.315439148997825},{"$f":"COUNTRY_INFO!Q40","v":"Non requis"},null,null,{"$f":"MAX('MDA2'!J40,'MDA5'!J40,'T1'!K40, MAX(T3_R1!J40,T3_R2!J40,T3_R3!J40))","v":0},{"$f":"IF(AND(COUNTRY_INFO!J40>1,COUNTRY_INFO!J40<99,COUNTRY_INFO!J40<>4,COUNTRY_INFO!J40<>5),IF(COUNTRY_INFO!N40>S40,S40,COUNTRY_INFO!N40),0)","v":0},{"$f":"IF(AND(COUNTRY_INFO!J40>1,COUNTRY_INFO!J40<99,COUNTRY_INFO!J40<>4,COUNTRY_INFO!J40<>5), IF(T40/COUNTRY_INFO!N40*100<>0, IF(T40/COUNTRY_INFO!N40*100>100,100,T40/COUNTRY_INFO!N40*100), \"-\"),0)","v":0},{"$f":"MAX('MDA1'!K40, 'MDA2'!K40, 'MDA5'!K40,'T1'!L40, MAX(T3_R1!K40,T3_R2!K40,T3_R3!K40))","v":0},{"$f":"IF(AND(COUNTRY_INFO!J40>1,COUNTRY_INFO!J40<99,COUNTRY_INFO!J40<>4,COUNTRY_INFO!J40<>5),IF(COUNTRY_INFO!O40>V40,V40,COUNTRY_INFO!O40),0)","v":0},{"$f":"IF(AND(COUNTRY_INFO!J40>1,COUNTRY_INFO!J40<99,COUNTRY_INFO!J40<>4,COUNTRY_INFO!J40<>5), IF(W40/COUNTRY_INFO!O40*100<>0, IF(W40/COUNTRY_INFO!O40*100>100,100,W40/COUNTRY_INFO!O40*100), \"-\"),0)","v":0},{"$f":"MAX('MDA1'!L40, 'MDA2'!L40, 'MDA5'!L40,'T1'!M40, MAX(T3_R1!L40,T3_R2!L40,T3_R3!L40))","v":0},{"$f":"IF(AND(COUNTRY_INFO!J40>1,COUNTRY_INFO!J40<99,COUNTRY_INFO!J40<>4,COUNTRY_INFO!J40<>5),IF(COUNTRY_INFO!P40>Y40,Y40,COUNTRY_INFO!P40),0)","v":0},{"$f":"IF(AND(COUNTRY_INFO!J40>1,COUNTRY_INFO!J40<99,COUNTRY_INFO!J40<>4,COUNTRY_INFO!J40<>5), IF(Z40/COUNTRY_INFO!P40*100<>0, IF(Z40/COUNTRY_INFO!P40*100>100,100,Z40/COUNTRY_INFO!P40*100), \"-\"),0)","v":0},0,0,{"$f":"IF(AND(COUNTRY_INFO!J40>1,COUNTRY_INFO!J40<99,COUNTRY_INFO!J40<>4,COUNTRY_INFO!J40<>5), IF(AC40/P40*100<>0, IF(AC40/P40*100>100,100,AC40/P40*100), \"-\"),0)","v":0},{"$f":"COUNTRY_INFO!U40","v":46086},null,null,{"$f":"MAX('T1'!K40,'T2'!R40)","v":0},{"$f":"IF(AND(COUNTRY_INFO!K40>1,COUNTRY_INFO!K40<99,COUNTRY_INFO!K40<>4,COUNTRY_INFO!K40<>5),IF(COUNTRY_INFO!R40>AH40,AH40,COUNTRY_INFO!R40),0)","v":0},{"$f":"IF(AND(COUNTRY_INFO!K40>1,COUNTRY_INFO!K40<99,COUNTRY_INFO!K40<>4,COUNTRY_INFO!K40<>5), IF(AI40/COUNTRY_INFO!R40*100<>0, IF(AI40/COUNTRY_INFO!R40*100>100,100,AI40/COUNTRY_INFO!R40*100), \"-\"),0)","v":"-"},{"$f":"MAX('T1'!L40,'T2'!S40)","v":90936},{"$f":"IF(AND(COUNTRY_INFO!K40>1,COUNTRY_INFO!K40<99,COUNTRY_INFO!K40<>4,COUNTRY_INFO!K40<>5),IF(COUNTRY_INFO!S40>AK40,AK40,COUNTRY_INFO!S40),0)","v":14500},{"$f":"IF(AND(COUNTRY_INFO!K40>1,COUNTRY_INFO!K40<99,COUNTRY_INFO!K40<>4,COUNTRY_INFO!K40<>5), IF(AL40/COUNTRY_INFO!S40*100<>0, IF(AL40/COUNTRY_INFO!S40*100>100,100,AL40/COUNTRY_INFO!S40*100), \"-\"),0)","v":100},{"$f":"MAX('T1'!M40,'T2'!T40)","v":0},{"$f":"IF(AND(COUNTRY_INFO!K40>1,COUNTRY_INFO!K40<99,COUNTRY_INFO!K40<>4,COUNTRY_INFO!K40<>5),IF(COUNTRY_INFO!T40>AN40,AN40,COUNTRY_INFO!T40),0)","v":0},{"$f":"IF(AND(COUNTRY_INFO!K40>1,COUNTRY_INFO!K40<99,COUNTRY_INFO!K40<>4,COUNTRY_INFO!K40<>5), IF(AO40/COUNTRY_INFO!T40*100<>0, IF(AO40/COUNTRY_INFO!T40*100>100,100,AO40/COUNTRY_INFO!T40*100), \"-\"),0)","v":"-"},90936,14500,{"$f":"IF(AND(COUNTRY_INFO!K40>1,COUNTRY_INFO!K40<99,COUNTRY_INFO!K40<>4,COUNTRY_INFO!K40<>5), IF(AR40/AE40*100<>0, IF(AR40/AE40*100>100,100,AR40/AE40*100), \"-\"),0)","v":31.462917154884344},null,{"$f":"IF(AND(D40<>0, D40<>\"Inconnu\",D40<>\"Interrompu\",D40<>\"Non requis\"),D40/COUNTRY_INFO!D40, 0)","v":0},{"$f":"IF(AND(J40<>0,J40<>\"Inconnu\",J40<>\"Interrompu\",J40<>\"Non requis\"),J40/COUNTRY_INFO!D40, 0)","v":1},{"$f":"IF(AND(P40<>0,P40<>\"Inconnu\",P40<>\"Surveillance\",P40<>\"Non requis\"),P40/COUNTRY_INFO!Q40, 0)","v":0},{"$f":"IF(AND(AE40<>0,AE40<>\"Inconnu\",AE40<>\"Surveillance\",AE40<>\"Non requis\"),AE40/COUNTRY_INFO!U40, 0)","v":1},{"$f":"IF(AU40>0,D40*PROFILE!$G$7,IF(AV40>0,J40*PROFILE!$G$7,0))","v":18177.752921487467},{"$f":"_xlfn.IFS(OR(AU40>0,AW40>0),COUNTRY_INFO!E40, AV40>0,J40*PROFILE!$G$8,AX40>0,COUNTRY_INFO!R40,COUNTIFS(AU40:AX40,\">0\")=0,0)","v":54533.1216808112},{"$f":"_xlfn.IFS(OR(AU40>0,AW40>0),COUNTRY_INFO!F40, AV40>0,J40*PROFILE!$G$9,AX40>0,COUNTRY_INFO!S40,COUNTIFS(AU40:AX40,\">0\")=0,0)","v":103612.97438115376},{"$f":"_xlfn.IFS(AU40>0,COUNTRY_INFO!G40, AND(AV40>0,AW40=0,AX40=0),J40*PROFILE!$G$10,AND(AV40>0,AW40>0,AX40=0), MAX(J40*PROFILE!$G$10,COUNTRY_INFO!P40),AND(AV40>0,AW40=0,AX40>0), MAX(J40*PROFILE!$G$10,COUNTRY_INFO!T40),AND(AV40=0,AW40>0,AX40>0), MAX(COUNTRY_INFO!P40,COUNTRY_INFO!T40),AND(AV40=0,AW40>0,AX40=0),COUNTRY_INFO!P40,AND(AV40=0,AW40=0,AX40>0),COUNTRY_INFO!T40,AND(AV40>0,AW40>0,AX40>0), MAX(J40*PROFILE!$G$10,COUNTRY_INFO!P40,COUNTRY_INFO!T40),COUNTIFS(AU40:AX40,\">0\")=0,0)","v":187230.48520854759},363554.33419199998,"Y",{"$f":"MAX('MDA2'!J40,'MDA5'!J40,S40,AH40)","v":0},{"$f":"MAX('MDA1'!K40,'MDA2'!K40,'MDA3'!I40,'MDA3'!L40,'MDA5'!K40,V40,AK40)","v":107565},{"$f":"MAX('MDA1'!L40,'MDA2'!L40,'MDA3'!J40,'MDA3'!M40,'MDA5'!L40,Y40,AN40)","v":162612},270177,{"$f":"_xlfn.IFS(AND(AU40=0,AW40=0,AX40=0),0,AND(AU40=0,AW40=0,AX40>0),AI40,AND(AU40=0,AW40>0,AX40=0),T40,AND(AU40=0,AW40>0,AX40>0),MAX(T40,AI40),AND(AU40>0,AW40=0,AX40=0),MIN(MAX('MDA2'!J40,'MDA5'!J40),AZ40),AND(AU40>0,AW40=0,AX40>0),MIN(MAX('MDA2'!J40,'MDA5'!J40,AI40),AZ40),AND(AU40>0,AW40>0,AX40=0),MIN(MAX('MDA2'!J40,'MDA5'!J40,T40),AZ40),AND(AU40>0,AW40>0,AX40>0),MIN(MAX('MDA2'!J40,'MDA5'!J40,AI40,T40),AZ40))","v":0},{"$f":"_xlfn.IFS(AND(AU40=0,AV40=0,AW40=0,AX40=0),0,AND(AU40=0,AV40=0,AW40=0,AX40>0),AL40,AND(AU40=0,AV40=0,AW40>0,AX40=0),W40,AND(AU40=0,AV40=0,AW40>0,AX40>0),MAX(W40,AL40),AND(AU40=0,AV40>0,AW40=0,AX40=0),MIN(J40*PROFILE!$G$9,MAX('MDA3'!I40,'MDA3'!L40)),AND(AU40=0,AV40>0,AW40=0,AX40>0),MIN(J40*PROFILE!$G$9,MAX('MDA3'!I40,'MDA3'!L40,AL40)),AND(AU40=0,AV40>0,AW40>0,AX40=0),MIN(J40*PROFILE!$G$9,MAX('MDA3'!I40,'MDA3'!L40,W40)),AND(AU40=0,AV40>0,AW40>0,AX40>0),MIN(J40*PROFILE!$G$9,MAX('MDA3'!I40,'MDA3'!L40,W40,AL40)),AND(AU40>0,AV40=0,AW40=0,AX40=0), MIN(BA40,MAX('MDA1'!K40,'MDA2'!K40,'MDA5'!K40)),AND(AU40>0,AV40=0,AW40=0,AX40>0), MIN(BA40,MAX('MDA1'!K40,'MDA2'!K40,'MDA5'!K40,AL40)),AND(AU40>0,AV40=0,AW40>0,AX40=0),MIN(BA40,MAX('MDA1'!K40,'MDA2'!KL40,'MDA5'!K40,W40)),AND(AU40>0,AV40=0,AW40>0,AX40>0),MIN(BA40,MAX('MDA1'!K40,'MDA2'!K40,'MDA5'!K40,W40,AL40)),AND(AU40>0,AV40>0,AW40=0,AX40=0),MIN(BA40, MAX('MDA1'!K40,'MDA2'!K40, 'MDA5'!K40,MAX('MDA3'!I40,'MDA3'!L40))), AND(AU40>0,AV40>0,AW40=0,AX40>0),MIN(BA40, MAX('MDA1'!K40,'MDA2'!K40, 'MDA5'!K40,MAX('MDA3'!I40,'MDA3'!L40),AL40)), AND(AU40>0,AV40>0,AW40>0,AX40=0), MIN(BA40, MAX('MDA1'!K40,'MDA2'!K40, 'MDA5'!K40,MAX('MDA3'!I40,'MDA3'!L40),W40)), AND(AU40>0,AV40>0,AW40>0,AX40>0), MIN(BA40, MAX('MDA1'!K40,'MDA2'!K40, 'MDA5'!K40,MAX('MDA3'!I40,'MDA3'!L40),W40,AL40)))","v":103612.97438115376},{"$f":"_xlfn.IFS(AND(AU40=0,AV40=0,AW40=0,AX40=0),0,AND(AU40=0,AV40=0,AW40=0,AX40>0),AO40,AND(AU40=0,AV40=0,AW40>0,AX40=0),Z40,AND(AU40=0,AV40=0,AW40>0,AX40>0),MAX(Z40,AO40),AND(AU40=0,AV40>0,AW40=0,AX40=0),MIN(J40*PROFILE!$G$10,MAX('MDA3'!J40,'MDA3'!J40)),AND(AU40=0,AV40>0,AW40=0,AX40>0),MIN(J40*PROFILE!$G$10,MAX('MDA3'!J40,'MDA3'!M40,AO40)),AND(AU40=0,AV40>0,AW40>0,AX40=0),MIN(J40*PROFILE!$G$10,MAX('MDA3'!J40,'MDA3'!M40,Z40)),AND(AU40=0,AV40>0,AW40>0,AX40>0),MIN(J40*PROFILE!$G$10,MAX('MDA3'!J40,'MDA3'!M40,Z40,AO40)),AND(AU40>0,AV40=0,AW40=0,AX40=0), MIN(BB40,MAX('MDA1'!L40,'MDA2'!L40,'MDA5'!L40)),AND(AU40>0,AV40=0,AW40=0,AX40>0), MIN(BB40,MAX('MDA1'!L40,'MDA2'!L40,'MDA5'!L40,AO40)),AND(AU40>0,AV40=0,AW40>0,AX40=0),MIN(BB40,MAX('MDA1'!L40,'MDA2'!L40,'MDA5'!L40,Z40)),AND(AU40>0,AV40=0,AW40>0,AX40>0),MIN(BB40,MAX('MDA1'!L40,'MDA2'!L40,'MDA5'!L40,Z40,AO40)),AND(AU40>0,AV40>0,AW40=0,AX40=0),MIN(BB40, MAX('MDA1'!L40,'MDA2'!L40, 'MDA5'!L40,MAX('MDA3'!J40,'MDA3'!M40))), AND(AU40>0,AV40>0,AW40=0,AX40>0),MIN(BB40, MAX('MDA1'!L40,'MDA2'!L40, 'MDA5'!L40,MAX('MDA3'!J40,'MDA3'!M40),AO40)), AND(AU40>0,AV40>0,AW40>0,AX40=0), MIN(BB40, MAX('MDA1'!L40,'MDA2'!L40, 'MDA5'!L40,MAX('MDA3'!J40,'MDA3'!M40),Z40)), AND(AU40>0,AV40>0,AW40>0,AX40>0), MIN(BB40, MAX('MDA1'!L40,'MDA2'!L40, 'MDA5'!L40,MAX('MDA3'!J40,'MDA3'!M40),Z40,AO40)))","v":162612},266224.97438115376,73.228386885508911]
[{"$f":"IF(COUNTRY_INFO!A41=0,\" \",COUNTRY_INFO!A41)","v":"Mali"},{"$f":"IF(COUNTRY_INFO!B41=0,\" \",COUNTRY_INFO!B41)","v":"Koulikoro"},{"$f":"IF(COUNTRY_INFO!C41=0,\" \",COUNTRY_INFO!C41)","v":"Kalabancoro"},{"$f":"COUNTRY_INFO!L41","v":0},null,null,{"$f":"MAX('MDA1'!M41,'MDA2'!M41,'MDA5'!M41)","v":0},{"$f":"IF(AND(COUNTRY_INFO!H41>0,COUNTRY_INFO!H41<4),IF(D41>G41,G41,D41),0)","v":0},{"$f":"IF(AND(COUNTRY_INFO!H41>0,COUNTRY_INFO!H41<4), IF(G41/D41*100<>0, IF(G41/D41*100>100,100,G41/D41*100), \"-\"),0)","v":0},{"$f":"COUNTRY_INFO!M41","v":397698.02654399996},184213,166437,{"$f":"MAX('MDA1'!M41,MAX('MDA3'!I41,'MDA3'!L41)+MAX('MDA3'!J41,'MDA3'!M41))","v":350650},{"$f":"IF(AND(COUNTRY_INFO!I41>0,COUNTRY_INFO!I41<4),IF(J41>M41,M41,J41),0)","v":350650},{"$f":"IF(AND(COUNTRY_INFO!I41>0,COUNTRY_INFO!I41<4), IF(M41/J41*100<>0, IF(M41/J41*100>100,100,M41/J41*100), \"-\"),0)","v":88.16991199256185},{"$f":"COUNTRY_INFO!Q41","v":"Non requis"},null,null,{"$f":"MAX('MDA2'!J41,'MDA5'!J41,'T1'!K41, MAX(T3_R1!J41,T3_R2!J41,T3_R3!J41))","v":0},{"$f":"IF(AND(COUNTRY_INFO!J41>1,COUNTRY_INFO!J41<99,COUNTRY_INFO!J41<>4,COUNTRY_INFO!J41<>5),IF(COUNTRY_INFO!N41>S41,S41,COUNTRY_INFO!N41),0)","v":0},{"$f":"IF(AND(COUNTRY_INFO!J41>1,COUNTRY_INFO!J41<99,COUNTRY_INFO!J41<>4,COUNTRY_INFO!J41<>5), IF(T41/COUNTRY_INFO!N41*100<>0, IF(T41/COUNTRY_INFO!N41*100>100,100,T41/COUNTRY_INFO!N41*100), \"-\"),0)","v":0},{"$f":"MAX('MDA1'!K41, 'MDA2'!K41, 'MDA5'!K41,'T1'!L41, MAX(T3_R1!K41,T3_R2!K41,T3_R3!K41))","v":0},{"$f":"IF(AND(COUNTRY_INFO!J41>1,COUNTRY_INFO!J41<99,COUNTRY_INFO!J41<>4,COUNTRY_INFO!J41<>5),IF(COUNTRY_INFO!O41>V41,V41,COUNTRY_INFO!O41),0)","v":0},{"$f":"IF(AND(COUNTRY_INFO!J41>1,COUNTRY_INFO!J41<99,COUNTRY_INFO!J41<>4,COUNTRY_INFO!J41<>5), IF(W41/COUNTRY_INFO!O41*100<>0, IF(W41/COUNTRY_INFO!O41*100>100,100,W41/COUNTRY_INFO!O41*100), \"-\"),0)","v":0},{"$f":"MAX('MDA1'!L41, 'MDA2'!L41, 'MDA5'!L41,'T1'!M41, MAX(T3_R1!L41,T3_R2!L41,T3_R3!L41))","v":0},{"$f":"IF(AND(COUNTRY_INFO!J41>1,COUNTRY_INFO!J41<99,COUNTRY_INFO!J41<>4,COUNTRY_INFO!J41<>5),IF(COUNTRY_INFO!P41>Y41,Y41,COUNTRY_INFO!P41),0)","v":0},{"$f":"IF(AND(COUNTRY_INFO!J41>1,COUNTRY_INFO!J41<99,COUNTRY_INFO!J41<>4,COUNTRY_INFO!J41<>5), IF(Z41/COUNTRY_INFO!P41*100<>0, IF(Z41/COUNTRY_INFO!P41*100>100,100,Z41/COUNTRY_INFO!P41*100), \"-\"),0)","v":0},0,0,{"$f":"IF(AND(COUNTRY_INFO!J41>1,COUNTRY_INFO!J41<99,COUNTRY_INFO!J41<>4,COUNTRY_INFO!J41<>5), IF(AC41/P41*100<>0, IF(AC41/P41*100>100,100,AC41/P41*100), \"-\"),0)","v":0},{"$f":"COUNTRY_INFO!U41","v":148005},null,null,{"$f":"MAX('T1'!K41,'T2'!R41)","v":0},{"$f":"IF(AND(COUNTRY_INFO!K41>1,COUNTRY_INFO!K41<99,COUNTRY_INFO!K41<>4,COUNTRY_INFO!K41<>5),IF(COUNTRY_INFO!R41>AH41,AH41,COUNTRY_INFO!R41),0)","v":0},{"$f":"IF(AND(COUNTRY_INFO!K41>1,COUNTRY_INFO!K41<99,COUNTRY_INFO!K41<>4,COUNTRY_INFO!K41<>5), IF(AI41/COUNTRY_INFO!R41*100<>0, IF(AI41/COUNTRY_INFO!R41*100>100,100,AI41/COUNTRY_INFO!R41*100), \"-\"),0)","v":"-"},{"$f":"MAX('T1'!L41,'T2'!S41)","v":56886},{"$f":"IF(AND(COUNTRY_INFO!K41>1,COUNTRY_INFO!K41<99,COUNTRY_INFO!K41<>4,COUNTRY_INFO!K41<>5),IF(COUNTRY_INFO!S41>AK41,AK41,COUNTRY_INFO!S41),0)","v":46567},{"$f":"IF(AND(COUNTRY_INFO!K41>1,COUNTRY_INFO!K41<99,COUNTRY_INFO!K41<>4,COUNTRY_INFO!K41<>5), IF(AL41/COUNTRY_INFO!S41*100<>0, IF(AL41/COUNTRY_INFO!S41*100>100,100,AL41/COUNTRY_INFO!S41*100), \"-\"),0)","v":100},{"$f":"MAX('T1'!M41,'T2'!T41)","v":0},{"$f":"IF(AND(COUNTRY_INFO!K41>1,COUNTRY_INFO!K41<99,COUNTRY_INFO!K41<>4,COUNTRY_INFO!K41<>5),IF(COUNTRY_INFO!T41>AN41,AN41,COUNTRY_INFO!T41),0)","v":0},{"$f":"IF(AND(COUNTRY_INFO!K41>1,COUNTRY_INFO!K41<99,COUNTRY_INFO!K41<>4,COUNTRY_INFO!K41<>5), IF(AO41/COUNTRY_INFO!T41*100<>0, IF(AO41/COUNTRY_INFO!T41*100>100,100,AO41/COUNTRY_INFO!T41*100), \"-\"),0)","v":"-"},56886,46567,{"$f":"IF(AND(COUNTRY_INFO!K41>1,COUNTRY_INFO!K41<99,COUNTRY_INFO!K41<>4,COUNTRY_INFO!K41<>5), IF(AR41/AE41*100<>0, IF(AR41/AE41*100>100,100,AR41/AE41*100), \"-\"),0)","v":31.463126245734941},null,{"$f":"IF(AND(D41<>0, D41<>\"Inconnu\",D41<>\"Interrompu\",D41<>\"Non requis\"),D41/COUNTRY_INFO!D41, 0)","v":0},{"$f":"IF(AND(J41<>0,J41<>\"Inconnu\",J41<>\"Interrompu\",J41<>\"Non requis\"),J41/COUNTRY_INFO!D41, 0)","v":1},{"$f":"IF(AND(P41<>0,P41<>\"Inconnu\",P41<>\"Surveillance\",P41<>\"Non requis\"),P41/COUNTRY_INFO!Q41, 0)","v":0},{"$f":"IF(AND(AE41<>0,AE41<>\"Inconnu\",AE41<>\"Surveillance\",AE41<>\"Non requis\"),AE41/COUNTRY_INFO!U41, 0)","v":1},{"$f":"IF(AU41>0,D41*PROFILE!$G$7,IF(AV41>0,J41*PROFILE!$G$7,0))","v":19884.940939975386},{"$f":"_xlfn.IFS(OR(AU41>0,AW41>0),COUNTRY_INFO!E41, AV41>0,J41*PROFILE!$G$8,AX41>0,COUNTRY_INFO!R41,COUNTIFS(AU41:AX41,\">0\")=0,0)","v":59654.672861880208},{"$f":"_xlfn.IFS(OR(AU41>0,AW41>0),COUNTRY_INFO!F41, AV41>0,J41*PROFILE!$G$9,AX41>0,COUNTRY_INFO!S41,COUNTIFS(AU41:AX41,\">0\")=0,0)","v":113343.92568120737},{"$f":"_xlfn.IFS(AU41>0,COUNTRY_INFO!G41, AND(AV41>0,AW41=0,AX41=0),J41*PROFILE!$G$10,AND(AV41>0,AW41>0,AX41=0), MAX(J41*PROFILE!$G$10,COUNTRY_INFO!P41),AND(AV41>0,AW41=0,AX41>0), MAX(J41*PROFILE!$G$10,COUNTRY_INFO!T41),AND(AV41=0,AW41>0,AX41>0), MAX(COUNTRY_INFO!P41,COUNTRY_INFO!T41),AND(AV41=0,AW41>0,AX41=0),COUNTRY_INFO!P41,AND(AV41=0,AW41=0,AX41>0),COUNTRY_INFO!T41,AND(AV41>0,AW41>0,AX41>0), MAX(J41*PROFILE!$G$10,COUNTRY_INFO!P41,COUNTRY_INFO!T41),COUNTIFS(AU41:AX41,\">0\")=0,0)","v":204814.48706093698},397698.02654399996,"Y",{"$f":"MAX('MDA2'!J41,'MDA5'!J41,S41,AH41)","v":0},{"$f":"MAX('MDA1'!K41,'MDA2'!K41,'MDA3'!I41,'MDA3'!L41,'MDA5'!K41,V41,AK41)","v":173661},{"$f":"MAX('MDA1'!L41,'MDA2'!L41,'MDA3'!J41,'MDA3'!M41,'MDA5'!L41,Y41,AN41)","v":176989},350650,{"$f":"_xlfn.IFS(AND(AU41=0,AW41=0,AX41=0),0,AND(AU41=0,AW41=0,AX41>0),AI41,AND(AU41=0,AW41>0,AX41=0),T41,AND(AU41=0,AW41>0,AX41>0),MAX(T41,AI41),AND(AU41>0,AW41=0,AX41=0),MIN(MAX('MDA2'!J41,'MDA5'!J41),AZ41),AND(AU41>0,AW41=0,AX41>0),MIN(MAX('MDA2'!J41,'MDA5'!J41,AI41),AZ41),AND(AU41>0,AW41>0,AX41=0),MIN(MAX('MDA2'!J41,'MDA5'!J41,T41),AZ41),AND(AU41>0,AW41>0,AX41>0),MIN(MAX('MDA2'!J41,'MDA5'!J41,AI41,T41),AZ41))","v":0},{"$f":"_xlfn.IFS(AND(AU41=0,AV41=0,AW41=0,AX41=0),0,AND(AU41=0,AV41=0,AW41=0,AX41>0),AL41,AND(AU41=0,AV41=0,AW41>0,AX41=0),W41,AND(AU41=0,AV41=0,AW41>0,AX41>0),MAX(W41,AL41),AND(AU41=0,AV41>0,AW41=0,AX41=0),MIN(J41*PROFILE!$G$9,MAX('MDA3'!I41,'MDA3'!L41)),AND(AU41=0,AV41>0,AW41=0,AX41>0),MIN(J41*PROFILE!$G$9,MAX('MDA3'!I41,'MDA3'!L41,AL41)),AND(AU41=0,AV41>0,AW41>0,AX41=0),MIN(J41*PROFILE!$G$9,MAX('MDA3'!I41,'MDA3'!L41,W41)),AND(AU41=0,AV41>0,AW41>0,AX41>0),MIN(J41*PROFILE!$G$9,MAX('MDA3'!I41,'MDA3'!L41,W41,AL41)),AND(AU41>0,AV41=0,AW41=0,AX41=0), MIN(BA41,MAX('MDA1'!K41,'MDA2'!K41,'MDA5'!K41)),AND(AU41>0,AV41=0,AW41=0,AX41>0), MIN(BA41,MAX('MDA1'!K41,'MDA2'!K41,'MDA5'!K41,AL41)),AND(AU41>0,AV41=0,AW41>0,AX41=0),MIN(BA41,MAX('MDA1'!K41,'MDA2'!KL41,'MDA5'!K41,W41)),AND(AU41>0,AV41=0,AW41>0,AX41>0),MIN(BA41,MAX('MDA1'!K41,'MDA2'!K41,'MDA5'!K41,W41,AL41)),AND(AU41>0,AV41>0,AW41=0,AX41=0),MIN(BA41, MAX('MDA1'!K41,'MDA2'!K41, 'MDA5'!K41,MAX('MDA3'!I41,'MDA3'!L41))), AND(AU41>0,AV41>0,AW41=0,AX41>0),MIN(BA41, MAX('MDA1'!K41,'MDA2'!K41, 'MDA5'!K41,MAX('MDA3'!I41,'MDA3'!L41),AL41)), AND(AU41>0,AV41>0,AW41>0,AX41=0), MIN(BA41, MAX('MDA1'!K41,'MDA2'!K41, 'MDA5'!K41,MAX('MDA3'!I41,'MDA3'!L41),W41)), AND(AU41>0,AV41>0,AW41>0,AX41>0), MIN(BA41, MAX('MDA1'!K41,'MDA2'!K41, 'MDA5'!K41,MAX('MDA3'!I41,'MDA3'!L41),W41,AL41)))","v":113343.92568120737},{"$f":"_xlfn.IFS(AND(AU41=0,AV41=0,AW41=0,AX41=0),0,AND(AU41=0,AV41=0,AW41=0,AX41>0),AO41,AND(AU41=0,AV41=0,AW41>0,AX41=0),Z41,AND(AU41=0,AV41=0,AW41>0,AX41>0),MAX(Z41,AO41),AND(AU41=0,AV41>0,AW41=0,AX41=0),MIN(J41*PROFILE!$G$10,MAX('MDA3'!J41,'MDA3'!J41)),AND(AU41=0,AV41>0,AW41=0,AX41>0),MIN(J41*PROFILE!$G$10,MAX('MDA3'!J41,'MDA3'!M41,AO41)),AND(AU41=0,AV41>0,AW41>0,AX41=0),MIN(J41*PROFILE!$G$10,MAX('MDA3'!J41,'MDA3'!M41,Z41)),AND(AU41=0,AV41>0,AW41>0,AX41>0),MIN(J41*PROFILE!$G$10,MAX('MDA3'!J41,'MDA3'!M41,Z41,AO41)),AND(AU41>0,AV41=0,AW41=0,AX41=0), MIN(BB41,MAX('MDA1'!L41,'MDA2'!L41,'MDA5'!L41)),AND(AU41>0,AV41=0,AW41=0,AX41>0), MIN(BB41,MAX('MDA1'!L41,'MDA2'!L41,'MDA5'!L41,AO41)),AND(AU41>0,AV41=0,AW41>0,AX41=0),MIN(BB41,MAX('MDA1'!L41,'MDA2'!L41,'MDA5'!L41,Z41)),AND(AU41>0,AV41=0,AW41>0,AX41>0),MIN(BB41,MAX('MDA1'!L41,'MDA2'!L41,'MDA5'!L41,Z41,AO41)),AND(AU41>0,AV41>0,AW41=0,AX41=0),MIN(BB41, MAX('MDA1'!L41,'MDA2'!L41, 'MDA5'!L41,MAX('MDA3'!J41,'MDA3'!M41))), AND(AU41>0,AV41>0,AW41=0,AX41>0),MIN(BB41, MAX('MDA1'!L41,'MDA2'!L41, 'MDA5'!L41,MAX('MDA3'!J41,'MDA3'!M41),AO41)), AND(AU41>0,AV41>0,AW41>0,AX41=0), MIN(BB41, MAX('MDA1'!L41,'MDA2'!L41, 'MDA5'!L41,MAX('MDA3'!J41,'MDA3'!M41),Z41)), AND(AU41>0,AV41>0,AW41>0,AX41>0), MIN(BB41, MAX('MDA1'!L41,'MDA2'!L41, 'MDA5'!L41,MAX('MDA3'!J41,'MDA3'!M41),Z41,AO41)))","v":176989},290332.92568120739,73.003360917881238]
[{"$f":"IF(COUNTRY_INFO!A42=0,\" \",COUNTRY_INFO!A42)","v":"Mali"},{"$f":"IF(COUNTRY_INFO!B42=0,\" \",COUNTRY_INFO!B42)","v":"Koulikoro"},{"$f":"IF(COUNTRY_INFO!C42=0,\" \",COUNTRY_INFO!C42)","v":"Kangaba"},{"$f":"COUNTRY_INFO!L42","v":0},null,null,{"$f":"MAX('MDA1'!M42,'MDA2'!M42,'MDA5'!M42)","v":0},{"$f":"IF(AND(COUNTRY_INFO!H42>0,COUNTRY_INFO!H42<4),IF(D42>G42,G42,D42),0)","v":0},{"$f":"IF(AND(COUNTRY_INFO!H42>0,COUNTRY_INFO!H42<4), IF(G42/D42*100<>0, IF(G42/D42*100>100,100,G42/D42*100), \"-\"),0)","v":0},{"$f":"COUNTRY_INFO!M42","v":162053.74315200001},65163,58428,{"$f":"MAX('MDA1'!M42,MAX('MDA3'!I42,'MDA3'!L42)+MAX('MDA3'!J42,'MDA3'!M42))","v":123591},{"$f":"IF(AND(COUNTRY_INFO!I42>0,COUNTRY_INFO!I42<4),IF(J42>M42,M42,J42),0)","v":123591},{"$f":"IF(AND(COUNTRY_INFO!I42>0,COUNTRY_INFO!I42<4), IF(M42/J42*100<>0, IF(M42/J42*100>100,100,M42/J42*100), \"-\"),0)","v":76.26543984490165},{"$f":"COUNTRY_INFO!Q42","v":"Non requis"},null,null,{"$f":"MAX('MDA2'!J42,'MDA5'!J42,'T1'!K42, MAX(T3_R1!J42,T3_R2!J42,T3_R3!J42))","v":0},{"$f":"IF(AND(COUNTRY_INFO!J42>1,COUNTRY_INFO!J42<99,COUNTRY_INFO!J42<>4,COUNTRY_INFO!J42<>5),IF(COUNTRY_INFO!N42>S42,S42,COUNTRY_INFO!N42),0)","v":0},{"$f":"IF(AND(COUNTRY_INFO!J42>1,COUNTRY_INFO!J42<99,COUNTRY_INFO!J42<>4,COUNTRY_INFO!J42<>5), IF(T42/COUNTRY_INFO!N42*100<>0, IF(T42/COUNTRY_INFO!N42*100>100,100,T42/COUNTRY_INFO!N42*100), \"-\"),0)","v":0},{"$f":"MAX('MDA1'!K42, 'MDA2'!K42, 'MDA5'!K42,'T1'!L42, MAX(T3_R1!K42,T3_R2!K42,T3_R3!K42))","v":0},{"$f":"IF(AND(COUNTRY_INFO!J42>1,COUNTRY_INFO!J42<99,COUNTRY_INFO!J42<>4,COUNTRY_INFO!J42<>5),IF(COUNTRY_INFO!O42>V42,V42,COUNTRY_INFO!O42),0)","v":0},{"$f":"IF(AND(COUNTRY_INFO!J42>1,COUNTRY_INFO!J42<99,COUNTRY_INFO!J42<>4,COUNTRY_INFO!J42<>5), IF(W42/COUNTRY_INFO!O42*100<>0, IF(W42/COUNTRY_INFO!O42*100>100,100,W42/COUNTRY_INFO!O42*100), \"-\"),0)","v":0},{"$f":"MAX('MDA1'!L42, 'MDA2'!L42, 'MDA5'!L42,'T1'!M42, MAX(T3_R1!L42,T3_R2!L42,T3_R3!L42))","v":0},{"$f":"IF(AND(COUNTRY_INFO!J42>1,COUNTRY_INFO!J42<99,COUNTRY_INFO!J42<>4,COUNTRY_INFO!J42<>5),IF(COUNTRY_INFO!P42>Y42,Y42,COUNTRY_INFO!P42),0)","v":0},{"$f":"IF(AND(COUNTRY_INFO!J42>1,COUNTRY_INFO!J42<99,COUNTRY_INFO!J42<>4,COUNTRY_INFO!J42<>5), IF(Z42/COUNTRY_INFO!P42*100<>0, IF(Z42/COUNTRY_INFO!P42*100>100,100,Z42/COUNTRY_INFO!P42*100), \"-\"),0)","v":0},0,0,{"$f":"IF(AND(COUNTRY_INFO!J42>1,COUNTRY_INFO!J42<99,COUNTRY_INFO!J42<>4,COUNTRY_INFO!J42<>5), IF(AC42/P42*100<>0, IF(AC42/P42*100>100,100,AC42/P42*100), \"-\"),0)","v":0},{"$f":"COUNTRY_INFO!U42","v":17882},null,null,{"$f":"MAX('T1'!K42,'T2'!R42)","v":0},{"$f":"IF(AND(COUNTRY_INFO!K42>1,COUNTRY_INFO!K42<99,COUNTRY_INFO!K42<>4,COUNTRY_INFO!K42<>5),IF(COUNTRY_INFO!R42>AH42,AH42,COUNTRY_INFO!R42),0)","v":0},{"$f":"IF(AND(COUNTRY_INFO!K42>1,COUNTRY_INFO!K42<99,COUNTRY_INFO!K42<>4,COUNTRY_INFO!K42<>5), IF(AI42/COUNTRY_INFO!R42*100<>0, IF(AI42/COUNTRY_INFO!R42*100>100,100,AI42/COUNTRY_INFO!R42*100), \"-\"),0)","v":"-"},{"$f":"MAX('T1'!L42,'T2'!S42)","v":42867},{"$f":"IF(AND(COUNTRY_INFO!K42>1,COUNTRY_INFO!K42<99,COUNTRY_INFO!K42<>4,COUNTRY_INFO!K42<>5),IF(COUNTRY_INFO!S42>AK42,AK42,COUNTRY_INFO!S42),0)","v":5626},{"$f":"IF(AND(COUNTRY_INFO!K42>1,COUNTRY_INFO!K42<99,COUNTRY_INFO!K42<>4,COUNTRY_INFO!K42<>5), IF(AL42/COUNTRY_INFO!S42*100<>0, IF(AL42/COUNTRY_INFO!S42*100>100,100,AL42/COUNTRY_INFO!S42*100), \"-\"),0)","v":100},{"$f":"MAX('T1'!M42,'T2'!T42)","v":0},{"$f":"IF(AND(COUNTRY_INFO!K42>1,COUNTRY_INFO!K42<99,COUNTRY_INFO!K42<>4,COUNTRY_INFO!K42<>5),IF(COUNTRY_INFO!T42>AN42,AN42,COUNTRY_INFO!T42),0)","v":0},{"$f":"IF(AND(COUNTRY_INFO!K42>1,COUNTRY_INFO!K42<99,COUNTRY_INFO!K42<>4,COUNTRY_INFO!K42<>5), IF(AO42/COUNTRY_INFO!T42*100<>0, IF(AO42/COUNTRY_INFO!T42*100>100,100,AO42/COUNTRY_INFO!T42*100), \"-\"),0)","v":"-"},42867,5626,{"$f":"IF(AND(COUNTRY_INFO!K42>1,COUNTRY_INFO!K42<99,COUNTRY_INFO!K42<>4,COUNTRY_INFO!K42<>5), IF(AR42/AE42*100<>0, IF(AR42/AE42*100>100,100,AR42/AE42*100), \"-\"),0)","v":31.461805167207245},null,{"$f":"IF(AND(D42<>0, D42<>\"Inconnu\",D42<>\"Interrompu\",D42<>\"Non requis\"),D42/COUNTRY_INFO!D42, 0)","v":0},{"$f":"IF(AND(J42<>0,J42<>\"Inconnu\",J42<>\"Interrompu\",J42<>\"Non requis\"),J42/COUNTRY_INFO!D42, 0)","v":1},{"$f":"IF(AND(P42<>0,P42<>\"Inconnu\",P42<>\"Surveillance\",P42<>\"Non requis\"),P42/COUNTRY_INFO!Q42, 0)","v":0},{"$f":"IF(AND(AE42<>0,AE42<>\"Inconnu\",AE42<>\"Surveillance\",AE42<>\"Non requis\"),AE42/COUNTRY_INFO!U42, 0)","v":1},{"$f":"IF(AU42>0,D42*PROFILE!$G$7,IF(AV42>0,J42*PROFILE!$G$7,0))","v":8102.7032989889431},{"$f":"_xlfn.IFS(OR(AU42>0,AW42>0),COUNTRY_INFO!E42, AV42>0,J42*PROFILE!$G$8,AX42>0,COUNTRY_INFO!R42,COUNTIFS(AU42:AX42,\">0\")=0,0)","v":24308.048792156045},{"$f":"_xlfn.IFS(OR(AU42>0,AW42>0),COUNTRY_INFO!F42, AV42>0,J42*PROFILE!$G$9,AX42>0,COUNTRY_INFO!S42,COUNTIFS(AU42:AX42,\">0\")=0,0)","v":46185.311955903322},{"$f":"_xlfn.IFS(AU42>0,COUNTRY_INFO!G42, AND(AV42>0,AW42=0,AX42=0),J42*PROFILE!$G$10,AND(AV42>0,AW42>0,AX42=0), MAX(J42*PROFILE!$G$10,COUNTRY_INFO!P42),AND(AV42>0,AW42=0,AX42>0), MAX(J42*PROFILE!$G$10,COUNTRY_INFO!T42),AND(AV42=0,AW42>0,AX42>0), MAX(COUNTRY_INFO!P42,COUNTRY_INFO!T42),AND(AV42=0,AW42>0,AX42=0),COUNTRY_INFO!P42,AND(AV42=0,AW42=0,AX42>0),COUNTRY_INFO!T42,AND(AV42>0,AW42>0,AX42>0), MAX(J42*PROFILE!$G$10,COUNTRY_INFO!P42,COUNTRY_INFO!T42),COUNTIFS(AU42:AX42,\">0\")=0,0)","v":83457.679104951705},162053.74315200001,{"$f":"IF(COUNTIFS(AU42:AX42,\">0\")=0,0, IF(COUNTIFS(AU42:AX42,\">0\")<=IF(AND(OR(D42>=0,D42=\"Non requis\",D42=\"Inconnu\",D42=\"Interrompu\"),D42>0,H42>0),1,0)+IF(AND(OR(J42>=0,J42=\"Non requis\",J42=\"Inconnu\",J42=\"Interrompu\"),J42>0,N42>0),1,0)+IF(AND(OR(P42>=0,P42=\"Non requis\",P42=\"Surveillance\",P42=\"Inconnu\"),P42>0,AC42>0),1,0)+IF(AND(OR(AE42>=0,AE42=\"Non requis\",AE42=\"Surveillance\",AE42=\"Inconnu\"),AE42>0,AR42>0),1,0),\"Y\",0))","v":"Y"},{"$f":"MAX('MDA2'!J42,'MDA5'!J42,S42,AH42)","v":0},{"$f":"MAX('MDA1'!K42,'MDA2'!K42,'MDA3'!I42,'MDA3'!L42,'MDA5'!K42,V42,AK42)","v":55256},{"$f":"MAX('MDA1'!L42,'MDA2'!L42,'MDA3'!J42,'MDA3'!M42,'MDA5'!L42,Y42,AN42)","v":68335},123591,{"$f":"_xlfn.IFS(AND(AU42=0,AW42=0,AX42=0),0,AND(AU42=0,AW42=0,AX42>0),AI42,AND(AU42=0,AW42>0,AX42=0),T42,AND(AU42=0,AW42>0,AX42>0),MAX(T42,AI42),AND(AU42>0,AW42=0,AX42=0),MIN(MAX('MDA2'!J42,'MDA5'!J42),AZ42),AND(AU42>0,AW42=0,AX42>0),MIN(MAX('MDA2'!J42,'MDA5'!J42,AI42),AZ42),AND(AU42>0,AW42>0,AX42=0),MIN(MAX('MDA2'!J42,'MDA5'!J42,T42),AZ42),AND(AU42>0,AW42>0,AX42>0),MIN(MAX('MDA2'!J42,'MDA5'!J42,AI42,T42),AZ42))","v":0},{"$f":"_xlfn.IFS(AND(AU42=0,AV42=0,AW42=0,AX42=0),0,AND(AU42=0,AV42=0,AW42=0,AX42>0),AL42,AND(AU42=0,AV42=0,AW42>0,AX42=0),W42,AND(AU42=0,AV42=0,AW42>0,AX42>0),MAX(W42,AL42),AND(AU42=0,AV42>0,AW42=0,AX42=0),MIN(J42*PROFILE!$G$9,MAX('MDA3'!I42,'MDA3'!L42)),AND(AU42=0,AV42>0,AW42=0,AX42>0),MIN(J42*PROFILE!$G$9,MAX('MDA3'!I42,'MDA3'!L42,AL42)),AND(AU42=0,AV42>0,AW42>0,AX42=0),MIN(J42*PROFILE!$G$9,MAX('MDA3'!I42,'MDA3'!L42,W42)),AND(AU42=0,AV42>0,AW42>0,AX42>0),MIN(J42*PROFILE!$G$9,MAX('MDA3'!I42,'MDA3'!L42,W42,AL42)),AND(AU42>0,AV42=0,AW42=0,AX42=0), MIN(BA42,MAX('MDA1'!K42,'MDA2'!K42,'MDA5'!K42)),AND(AU42>0,AV42=0,AW42=0,AX42>0), MIN(BA42,MAX('MDA1'!K42,'MDA2'!K42,'MDA5'!K42,AL42)),AND(AU42>0,AV42=0,AW42>0,AX42=0),MIN(BA42,MAX('MDA1'!K42,'MDA2'!KL42,'MDA5'!K42,W42)),AND(AU42>0,AV42=0,AW42>0,AX42>0),MIN(BA42,MAX('MDA1'!K42,'MDA2'!K42,'MDA5'!K42,W42,AL42)),AND(AU42>0,AV42>0,AW42=0,AX42=0),MIN(BA42, MAX('MDA1'!K42,'MDA2'!K42, 'MDA5'!K42,MAX('MDA3'!I42,'MDA3'!L42))), AND(AU42>0,AV42>0,AW42=0,AX42>0),MIN(BA42, MAX('MDA1'!K42,'MDA2'!K42, 'MDA5'!K42,MAX('MDA3'!I42,'MDA3'!L42),AL42)), AND(AU42>0,AV42>0,AW42>0,AX42=0), MIN(BA42, MAX('MDA1'!K42,'MDA2'!K42, 'MDA5'!K42,MAX('MDA3'!I42,'MDA3'!L42),W42)), AND(AU42>0,AV42>0,AW42>0,AX42>0), MIN(BA42, MAX('MDA1'!K42,'MDA2'!K42, 'MDA5'!K42,MAX('MDA3'!I42,'MDA3'!L42),W42,AL42)))","v":46185.311955903322},{"$f":"_xlfn.IFS(AND(AU42=0,AV42=0,AW42=0,AX42=0),0,AND(AU42=0,AV42=0,AW42=0,AX42>0),AO42,AND(AU42=0,AV42=0,AW42>0,AX42=0),Z42,AND(AU42=0,AV42=0,AW42>0,AX42>0),MAX(Z42,AO42),AND(AU42=0,AV42>0,AW42=0,AX42=0),MIN(J42*PROFILE!$G$10,MAX('MDA3'!J42,'MDA3'!J42)),AND(AU42=0,AV42>0,AW42=0,AX42>0),MIN(J42*PROFILE!$G$10,MAX('MDA3'!J42,'MDA3'!M42,AO42)),AND(AU42=0,AV42>0,AW42>0,AX42=0),MIN(J42*PROFILE!$G$10,MAX('MDA3'!J42,'MDA3'!M42,Z42)),AND(AU42=0,AV42>0,AW42>0,AX42>0),MIN(J42*PROFILE!$G$10,MAX('MDA3'!J42,'MDA3'!M42,Z42,AO42)),AND(AU42>0,AV42=0,AW42=0,AX42=0), MIN(BB42,MAX('MDA1'!L42,'MDA2'!L42,'MDA5'!L42)),AND(AU42>0,AV42=0,AW42=0,AX42>0), MIN(BB42,MAX('MDA1'!L42,'MDA2'!L42,'MDA5'!L42,AO42)),AND(AU42>0,AV42=0,AW42>0,AX42=0),MIN(BB42,MAX('MDA1'!L42,'MDA2'!L42,'MDA5'!L42,Z42)),AND(AU42>0,AV42=0,AW42>0,AX42>0),MIN(BB42,MAX('MDA1'!L42,'MDA2'!L42,'MDA5'!L42,Z42,AO42)),AND(AU42>0,AV42>0,AW42=0,AX42=0),MIN(BB42, MAX('MDA1'!L42,'MDA2'!L42, 'MDA5'!L42,MAX('MDA3'!J42,'MDA3'!M42))), AND(AU42>0,AV42>0,AW42=0,AX42>0),MIN(BB42, MAX('MDA1'!L42,'MDA2'!L42, 'MDA5'!L42,MAX('MDA3'!J42,'MDA3'!M42),AO42)), AND(AU42>0,AV42>0,AW42>0,AX42=0), MIN(BB42, MAX('MDA1'!L42,'MDA2'!L42, 'MDA5'!L42,MAX('MDA3'!J42,'MDA3'!M42),Z42)), AND(AU42>0,AV42>0,AW42>0,AX42>0), MIN(BB42, MAX('MDA1'!L42,'MDA2'!L42, 'MDA5'!L42,MAX('MDA3'!J42,'MDA3'!M42),Z42,AO42)))","v":68335},114520.31195590332,70.668106597505613]
[{"$f":"IF(COUNTRY_INFO!A43=0,\" \",COUNTRY_INFO!A43)","v":"Mali"},{"$f":"IF(COUNTRY_INFO!B43=0,\" \",COUNTRY_INFO!B43)","v":"Koulikoro"},{"$f":"IF(COUNTRY_INFO!C43=0,\" \",COUNTRY_INFO!C43)","v":"Kati"},{"$f":"COUNTRY_INFO!L43","v":0},null,null,{"$f":"MAX('MDA1'!M43,'MDA2'!M43,'MDA5'!M43)","v":0},{"$f":"IF(AND(COUNTRY_INFO!H43>0,COUNTRY_INFO!H43<4),IF(D43>G43,G43,D43),0)","v":0},{"$f":"IF(AND(COUNTRY_INFO!H43>0,COUNTRY_INFO!H43<4), IF(G43/D43*100<>0, IF(G43/D43*100>100,100,G43/D43*100), \"-\"),0)","v":0},{"$f":"COUNTRY_INFO!M43","v":807444.87398400006},313774,293337,{"$f":"MAX('MDA1'!M43,MAX('MDA3'!I43,'MDA3'!L43)+MAX('MDA3'!J43,'MDA3'!M43))","v":607111},{"$f":"IF(AND(COUNTRY_INFO!I43>0,COUNTRY_INFO!I43<4),IF(J43>M43,M43,J43),0)","v":607111},{"$f":"IF(AND(COUNTRY_INFO!I43>0,COUNTRY_INFO!I43<4), IF(M43/J43*100<>0, IF(M43/J43*100>100,100,M43/J43*100), \"-\"),0)","v":75.189157744536033},{"$f":"COUNTRY_INFO!Q43","v":"Non requis"},null,null,{"$f":"MAX('MDA2'!J43,'MDA5'!J43,'T1'!K43, MAX(T3_R1!J43,T3_R2!J43,T3_R3!J43))","v":0},{"$f":"IF(AND(COUNTRY_INFO!J43>1,COUNTRY_INFO!J43<99,COUNTRY_INFO!J43<>4,COUNTRY_INFO!J43<>5),IF(COUNTRY_INFO!N43>S43,S43,COUNTRY_INFO!N43),0)","v":0},{"$f":"IF(AND(COUNTRY_INFO!J43>1,COUNTRY_INFO!J43<99,COUNTRY_INFO!J43<>4,COUNTRY_INFO!J43<>5), IF(T43/COUNTRY_INFO!N43*100<>0, IF(T43/COUNTRY_INFO!N43*100>100,100,T43/COUNTRY_INFO!N43*100), \"-\"),0)","v":0},{"$f":"MAX('MDA1'!K43, 'MDA2'!K43, 'MDA5'!K43,'T1'!L43, MAX(T3_R1!K43,T3_R2!K43,T3_R3!K43))","v":0},{"$f":"IF(AND(COUNTRY_INFO!J43>1,COUNTRY_INFO!J43<99,COUNTRY_INFO!J43<>4,COUNTRY_INFO!J43<>5),IF(COUNTRY_INFO!O43>V43,V43,COUNTRY_INFO!O43),0)","v":0},{"$f":"IF(AND(COUNTRY_INFO!J43>1,COUNTRY_INFO!J43<99,COUNTRY_INFO!J43<>4,COUNTRY_INFO!J43<>5), IF(W43/COUNTRY_INFO!O43*100<>0, IF(W43/COUNTRY_INFO!O43*100>100,100,W43/COUNTRY_INFO!O43*100), \"-\"),0)","v":0},{"$f":"MAX('MDA1'!L43, 'MDA2'!L43, 'MDA5'!L43,'T1'!M43, MAX(T3_R1!L43,T3_R2!L43,T3_R3!L43))","v":0},{"$f":"IF(AND(COUNTRY_INFO!J43>1,COUNTRY_INFO!J43<99,COUNTRY_INFO!J43<>4,COUNTRY_INFO!J43<>5),IF(COUNTRY_INFO!P43>Y43,Y43,COUNTRY_INFO!P43),0)","v":0},{"$f":"IF(AND(COUNTRY_INFO!J43>1,COUNTRY_INFO!J43<99,COUNTRY_INFO!J43<>4,COUNTRY_INFO!J43<>5), IF(Z43/COUNTRY_INFO!P43*100<>0, IF(Z43/COUNTRY_INFO!P43*100>100,100,Z43/COUNTRY_INFO!P43*100), \"-\"),0)","v":0},0,0,{"$f":"IF(AND(COUNTRY_INFO!J43>1,COUNTRY_INFO!J43<99,COUNTRY_INFO!J43<>4,COUNTRY_INFO!J43<>5), IF(AC43/P43*100<>0, IF(AC43/P43*100>100,100,AC43/P43*100), \"-\"),0)","v":0},{"$f":"COUNTRY_INFO!U43","v":248929},null,null,{"$f":"MAX('T1'!K43,'T2'!R43)","v":0},{"$f":"IF(AND(COUNTRY_INFO!K43>1,COUNTRY_INFO!K43<99,COUNTRY_INFO!K43<>4,COUNTRY_INFO!K43<>5),IF(COUNTRY_INFO!R43>AH43,AH43,COUNTRY_INFO!R43),0)","v":0},{"$f":"IF(AND(COUNTRY_INFO!K43>1,COUNTRY_INFO!K43<99,COUNTRY_INFO!K43<>4,COUNTRY_INFO!K43<>5), IF(AI43/COUNTRY_INFO!R43*100<>0, IF(AI43/COUNTRY_INFO!R43*100>100,100,AI43/COUNTRY_INFO!R43*100), \"-\"),0)","v":"-"},{"$f":"MAX('T1'!L43,'T2'!S43)","v":71599},{"$f":"IF(AND(COUNTRY_INFO!K43>1,COUNTRY_INFO!K43<99,COUNTRY_INFO!K43<>4,COUNTRY_INFO!K43<>5),IF(COUNTRY_INFO!S43>AK43,AK43,COUNTRY_INFO!S43),0)","v":71599},{"$f":"IF(AND(COUNTRY_INFO!K43>1,COUNTRY_INFO!K43<99,COUNTRY_INFO!K43<>4,COUNTRY_INFO!K43<>5), IF(AL43/COUNTRY_INFO!S43*100<>0, IF(AL43/COUNTRY_INFO!S43*100>100,100,AL43/COUNTRY_INFO!S43*100), \"-\"),0)","v":91.413870588836119},{"$f":"MAX('T1'!M43,'T2'!T43)","v":0},{"$f":"IF(AND(COUNTRY_INFO!K43>1,COUNTRY_INFO!K43<99,COUNTRY_INFO!K43<>4,COUNTRY_INFO!K43<>5),IF(COUNTRY_INFO!T43>AN43,AN43,COUNTRY_INFO!T43),0)","v":0},{"$f":"IF(AND(COUNTRY_INFO!K43>1,COUNTRY_INFO!K43<99,COUNTRY_INFO!K43<>4,COUNTRY_INFO!K43<>5), IF(AO43/COUNTRY_INFO!T43*100<>0, IF(AO43/COUNTRY_INFO!T43*100>100,100,AO43/COUNTRY_INFO!T43*100), \"-\"),0)","v":"-"},71599,71599,{"$f":"IF(AND(COUNTRY_INFO!K43>1,COUNTRY_INFO!K43<99,COUNTRY_INFO!K43<>4,COUNTRY_INFO!K43<>5), IF(AR43/AE43*100<>0, IF(AR43/AE43*100>100,100,AR43/AE43*100), \"-\"),0)","v":28.762819920539588},null,{"$f":"IF(AND(D43<>0, D43<>\"Inconnu\",D43<>\"Interrompu\",D43<>\"Non requis\"),D43/COUNTRY_INFO!D43, 0)","v":0},{"$f":"IF(AND(J43<>0,J43<>\"Inconnu\",J43<>\"Interrompu\",J43<>\"Non requis\"),J43/COUNTRY_INFO!D43, 0)","v":1},{"$f":"IF(AND(P43<>0,P43<>\"Inconnu\",P43<>\"Surveillance\",P43<>\"Non requis\"),P43/COUNTRY_INFO!Q43, 0)","v":0},{"$f":"IF(AND(AE43<>0,AE43<>\"Inconnu\",AE43<>\"Surveillance\",AE43<>\"Non requis\"),AE43/COUNTRY_INFO!U43, 0)","v":1},{"$f":"IF(AU43>0,D43*PROFILE!$G$7,IF(AV43>0,J43*PROFILE!$G$7,0))","v":40372.324124875508},{"$f":"_xlfn.IFS(OR(AU43>0,AW43>0),COUNTRY_INFO!E43, AV43>0,J43*PROFILE!$G$8,AX43>0,COUNTRY_INFO!R43,COUNTIFS(AU43:AX43,\">0\")=0,0)","v":121116.66791534476},{"$f":"_xlfn.IFS(OR(AU43>0,AW43>0),COUNTRY_INFO!F43, AV43>0,J43*PROFILE!$G$9,AX43>0,COUNTRY_INFO!S43,COUNTIFS(AU43:AX43,\">0\")=0,0)","v":230121.76495773735},{"$f":"_xlfn.IFS(AU43>0,COUNTRY_INFO!G43, AND(AV43>0,AW43=0,AX43=0),J43*PROFILE!$G$10,AND(AV43>0,AW43>0,AX43=0), MAX(J43*PROFILE!$G$10,COUNTRY_INFO!P43),AND(AV43>0,AW43=0,AX43>0), MAX(J43*PROFILE!$G$10,COUNTRY_INFO!T43),AND(AV43=0,AW43>0,AX43>0), MAX(COUNTRY_INFO!P43,COUNTRY_INFO!T43),AND(AV43=0,AW43>0,AX43=0),COUNTRY_INFO!P43,AND(AV43=0,AW43=0,AX43>0),COUNTRY_INFO!T43,AND(AV43>0,AW43>0,AX43>0), MAX(J43*PROFILE!$G$10,COUNTRY_INFO!P43,COUNTRY_INFO!T43),COUNTIFS(AU43:AX43,\">0\")=0,0)","v":415834.11698604241},807444.87398399995,"Y",{"$f":"MAX('MDA2'!J43,'MDA5'!J43,S43,AH43)","v":0},{"$f":"MAX('MDA1'!K43,'MDA2'!K43,'MDA3'!I43,'MDA3'!L43,'MDA5'!K43,V43,AK43)","v":242790},{"$f":"MAX('MDA1'!L43,'MDA2'!L43,'MDA3'!J43,'MDA3'!M43,'MDA5'!L43,Y43,AN43)","v":364321},607111,{"$f":"_xlfn.IFS(AND(AU43=0,AW43=0,AX43=0),0,AND(AU43=0,AW43=0,AX43>0),AI43,AND(AU43=0,AW43>0,AX43=0),T43,AND(AU43=0,AW43>0,AX43>0),MAX(T43,AI43),AND(AU43>0,AW43=0,AX43=0),MIN(MAX('MDA2'!J43,'MDA5'!J43),AZ43),AND(AU43>0,AW43=0,AX43>0),MIN(MAX('MDA2'!J43,'MDA5'!J43,AI43),AZ43),AND(AU43>0,AW43>0,AX43=0),MIN(MAX('MDA2'!J43,'MDA5'!J43,T43),AZ43),AND(AU43>0,AW43>0,AX43>0),MIN(MAX('MDA2'!J43,'MDA5'!J43,AI43,T43),AZ43))","v":0},{"$f":"_xlfn.IFS(AND(AU43=0,AV43=0,AW43=0,AX43=0),0,AND(AU43=0,AV43=0,AW43=0,AX43>0),AL43,AND(AU43=0,AV43=0,AW43>0,AX43=0),W43,AND(AU43=0,AV43=0,AW43>0,AX43>0),MAX(W43,AL43),AND(AU43=0,AV43>0,AW43=0,AX43=0),MIN(J43*PROFILE!$G$9,MAX('MDA3'!I43,'MDA3'!L43)),AND(AU43=0,AV43>0,AW43=0,AX43>0),MIN(J43*PROFILE!$G$9,MAX('MDA3'!I43,'MDA3'!L43,AL43)),AND(AU43=0,AV43>0,AW43>0,AX43=0),MIN(J43*PROFILE!$G$9,MAX('MDA3'!I43,'MDA3'!L43,W43)),AND(AU43=0,AV43>0,AW43>0,AX43>0),MIN(J43*PROFILE!$G$9,MAX('MDA3'!I43,'MDA3'!L43,W43,AL43)),AND(AU43>0,AV43=0,AW43=0,AX43=0), MIN(BA43,MAX('MDA1'!K43,'MDA2'!K43,'MDA5'!K43)),AND(AU43>0,AV43=0,AW43=0,AX43>0), MIN(BA43,MAX('MDA1'!K43,'MDA2'!K43,'MDA5'!K43,AL43)),AND(AU43>0,AV43=0,AW43>0,AX43=0),MIN(BA43,MAX('MDA1'!K43,'MDA2'!KL43,'MDA5'!K43,W43)),AND(AU43>0,AV43=0,AW43>0,AX43>0),MIN(BA43,MAX('MDA1'!K43,'MDA2'!K43,'MDA5'!K43,W43,AL43)),AND(AU43>0,AV43>0,AW43=0,AX43=0),MIN(BA43, MAX('MDA1'!K43,'MDA2'!K43, 'MDA5'!K43,MAX('MDA3'!I43,'MDA3'!L43))), AND(AU43>0,AV43>0,AW43=0,AX43>0),MIN(BA43, MAX('MDA1'!K43,'MDA2'!K43, 'MDA5'!K43,MAX('MDA3'!I43,'MDA3'!L43),AL43)), AND(AU43>0,AV43>0,AW43>0,AX43=0), MIN(BA43, MAX('MDA1'!K43,'MDA2'!K43, 'MDA5'!K43,MAX('MDA3'!I43,'MDA3'!L43),W43)), AND(AU43>0,AV43>0,AW43>0,AX43>0), MIN(BA43, MAX('MDA1'!K43,'MDA2'!K43, 'MDA5'!K43,MAX('MDA3'!I43,'MDA3'!L43),W43,AL43)))","v":230121.76495773735},{"$f":"_xlfn.IFS(AND(AU43=0,AV43=0,AW43=0,AX43=0),0,AND(AU43=0,AV43=0,AW43=0,AX43>0),AO43,AND(AU43=0,AV43=0,AW43>0,AX43=0),Z43,AND(AU43=0,AV43=0,AW43>0,AX43>0),MAX(Z43,AO43),AND(AU43=0,AV43>0,AW43=0,AX43=0),MIN(J43*PROFILE!$G$10,MAX('MDA3'!J43,'MDA3'!J43)),AND(AU43=0,AV43>0,AW43=0,AX43>0),MIN(J43*PROFILE!$G$10,MAX('MDA3'!J43,'MDA3'!M43,AO43)),AND(AU43=0,AV43>0,AW43>0,AX43=0),MIN(J43*PROFILE!$G$10,MAX('MDA3'!J43,'MDA3'!M43,Z43)),AND(AU43=0,AV43>0,AW43>0,AX43>0),MIN(J43*PROFILE!$G$10,MAX('MDA3'!J43,'MDA3'!M43,Z43,AO43)),AND(AU43>0,AV43=0,AW43=0,AX43=0), MIN(BB43,MAX('MDA1'!L43,'MDA2'!L43,'MDA5'!L43)),AND(AU43>0,AV43=0,AW43=0,AX43>0), MIN(BB43,MAX('MDA1'!L43,'MDA2'!L43,'MDA5'!L43,AO43)),AND(AU43>0,AV43=0,AW43>0,AX43=0),MIN(BB43,MAX('MDA1'!L43,'MDA2'!L43,'MDA5'!L43,Z43)),AND(AU43>0,AV43=0,AW43>0,AX43>0),MIN(BB43,MAX('MDA1'!L43,'MDA2'!L43,'MDA5'!L43,Z43,AO43)),AND(AU43>0,AV43>0,AW43=0,AX43=0),MIN(BB43, MAX('MDA1'!L43,'MDA2'!L43, 'MDA5'!L43,MAX('MDA3'!J43,'MDA3'!M43))), AND(AU43>0,AV43>0,AW43=0,AX43>0),MIN(BB43, MAX('MDA1'!L43,'MDA2'!L43, 'MDA5'!L43,MAX('MDA3'!J43,'MDA3'!M43),AO43)), AND(AU43>0,AV43>0,AW43>0,AX43=0), MIN(BB43, MAX('MDA1'!L43,'MDA2'!L43, 'MDA5'!L43,MAX('MDA3'!J43,'MDA3'!M43),Z43)), AND(AU43>0,AV43>0,AW43>0,AX43>0), MIN(BB43, MAX('MDA1'!L43,'MDA2'!L43, 'MDA5'!L43,MAX('MDA3'!J43,'MDA3'!M43),Z43,AO43)))","v":364321},594442.76495773741,73.620228960610959]
[{"$f":"IF(COUNTRY_INFO!A44=0,\" \",COUNTRY_INFO!A44)","v":"Mali"},{"$f":"IF(COUNTRY_INFO!B44=0,\" \",COUNTRY_INFO!B44)","v":"Koulikoro"},{"$f":"IF(COUNTRY_INFO!C44=0,\" \",COUNTRY_INFO!C44)","v":"Kolokani"},{"$f":"COUNTRY_INFO!L44","v":0},null,null,{"$f":"MAX('MDA1'!M44,'MDA2'!M44,'MDA5'!M44)","v":0},{"$f":"IF(AND(COUNTRY_INFO!H44>0,COUNTRY_INFO!H44<4),IF(D44>G44,G44,D44),0)","v":0},{"$f":"IF(AND(COUNTRY_INFO!H44>0,COUNTRY_INFO!H44<4), IF(G44/D44*100<>0, IF(G44/D44*100>100,100,G44/D44*100), \"-\"),0)","v":0},{"$f":"COUNTRY_INFO!M44","v":376365.19524800003},155464,128402,{"$f":"MAX('MDA1'!M44,MAX('MDA3'!I44,'MDA3'!L44)+MAX('MDA3'!J44,'MDA3'!M44))","v":283866},{"$f":"IF(AND(COUNTRY_INFO!I44>0,COUNTRY_INFO!I44<4),IF(J44>M44,M44,J44),0)","v":283866},{"$f":"IF(AND(COUNTRY_INFO!I44>0,COUNTRY_INFO!I44<4), IF(M44/J44*100<>0, IF(M44/J44*100>100,100,M44/J44*100), \"-\"),0)","v":75.423020933949772},{"$f":"COUNTRY_INFO!Q44","v":"Non requis"},null,null,{"$f":"MAX('MDA2'!J44,'MDA5'!J44,'T1'!K44, MAX(T3_R1!J44,T3_R2!J44,T3_R3!J44))","v":0},{"$f":"IF(AND(COUNTRY_INFO!J44>1,COUNTRY_INFO!J44<99,COUNTRY_INFO!J44<>4,COUNTRY_INFO!J44<>5),IF(COUNTRY_INFO!N44>S44,S44,COUNTRY_INFO!N44),0)","v":0},{"$f":"IF(AND(COUNTRY_INFO!J44>1,COUNTRY_INFO!J44<99,COUNTRY_INFO!J44<>4,COUNTRY_INFO!J44<>5), IF(T44/COUNTRY_INFO!N44*100<>0, IF(T44/COUNTRY_INFO!N44*100>100,100,T44/COUNTRY_INFO!N44*100), \"-\"),0)","v":0},{"$f":"MAX('MDA1'!K44, 'MDA2'!K44, 'MDA5'!K44,'T1'!L44, MAX(T3_R1!K44,T3_R2!K44,T3_R3!K44))","v":0},{"$f":"IF(AND(COUNTRY_INFO!J44>1,COUNTRY_INFO!J44<99,COUNTRY_INFO!J44<>4,COUNTRY_INFO!J44<>5),IF(COUNTRY_INFO!O44>V44,V44,COUNTRY_INFO!O44),0)","v":0},{"$f":"IF(AND(COUNTRY_INFO!J44>1,COUNTRY_INFO!J44<99,COUNTRY_INFO!J44<>4,COUNTRY_INFO!J44<>5), IF(W44/COUNTRY_INFO!O44*100<>0, IF(W44/COUNTRY_INFO!O44*100>100,100,W44/COUNTRY_INFO!O44*100), \"-\"),0)","v":0},{"$f":"MAX('MDA1'!L44, 'MDA2'!L44, 'MDA5'!L44,'T1'!M44, MAX(T3_R1!L44,T3_R2!L44,T3_R3!L44))","v":0},{"$f":"IF(AND(COUNTRY_INFO!J44>1,COUNTRY_INFO!J44<99,COUNTRY_INFO!J44<>4,COUNTRY_INFO!J44<>5),IF(COUNTRY_INFO!P44>Y44,Y44,COUNTRY_INFO!P44),0)","v":0},{"$f":"IF(AND(COUNTRY_INFO!J44>1,COUNTRY_INFO!J44<99,COUNTRY_INFO!J44<>4,COUNTRY_INFO!J44<>5), IF(Z44/COUNTRY_INFO!P44*100<>0, IF(Z44/COUNTRY_INFO!P44*100>100,100,Z44/COUNTRY_INFO!P44*100), \"-\"),0)","v":0},0,0,{"$f":"IF(AND(COUNTRY_INFO!J44>1,COUNTRY_INFO!J44<99,COUNTRY_INFO!J44<>4,COUNTRY_INFO!J44<>5), IF(AC44/P44*100<>0, IF(AC44/P44*100>100,100,AC44/P44*100), \"-\"),0)","v":0},{"$f":"COUNTRY_INFO!U44","v":93522},null,null,{"$f":"MAX('T1'!K44,'T2'!R44)","v":0},{"$f":"IF(AND(COUNTRY_INFO!K44>1,COUNTRY_INFO!K44<99,COUNTRY_INFO!K44<>4,COUNTRY_INFO!K44<>5),IF(COUNTRY_INFO!R44>AH44,AH44,COUNTRY_INFO!R44),0)","v":0},{"$f":"IF(AND(COUNTRY_INFO!K44>1,COUNTRY_INFO!K44<99,COUNTRY_INFO!K44<>4,COUNTRY_INFO!K44<>5), IF(AI44/COUNTRY_INFO!R44*100<>0, IF(AI44/COUNTRY_INFO!R44*100>100,100,AI44/COUNTRY_INFO!R44*100), \"-\"),0)","v":"-"},{"$f":"MAX('T1'!L44,'T2'!S44)","v":28874},{"$f":"IF(AND(COUNTRY_INFO!K44>1,COUNTRY_INFO!K44<99,COUNTRY_INFO!K44<>4,COUNTRY_INFO!K44<>5),IF(COUNTRY_INFO!S44>AK44,AK44,COUNTRY_INFO!S44),0)","v":28874},{"$f":"IF(AND(COUNTRY_INFO!K44>1,COUNTRY_INFO!K44<99,COUNTRY_INFO!K44<>4,COUNTRY_INFO!K44<>5), IF(AL44/COUNTRY_INFO!S44*100<>0, IF(AL44/COUNTRY_INFO!S44*100>100,100,AL44/COUNTRY_INFO!S44*100), \"-\"),0)","v":98.124107931761031},{"$f":"MAX('T1'!M44,'T2'!T44)","v":0},{"$f":"IF(AND(COUNTRY_INFO!K44>1,COUNTRY_INFO!K44<99,COUNTRY_INFO!K44<>4,COUNTRY_INFO!K44<>5),IF(COUNTRY_INFO!T44>AN44,AN44,COUNTRY_INFO!T44),0)","v":0},{"$f":"IF(AND(COUNTRY_INFO!K44>1,COUNTRY_INFO!K44<99,COUNTRY_INFO!K44<>4,COUNTRY_INFO!K44<>5), IF(AO44/COUNTRY_INFO!T44*100<>0, IF(AO44/COUNTRY_INFO!T44*100>100,100,AO44/COUNTRY_INFO!T44*100), \"-\"),0)","v":"-"},28874,28874,{"$f":"IF(AND(COUNTRY_INFO!K44>1,COUNTRY_INFO!K44<99,COUNTRY_INFO!K44<>4,COUNTRY_INFO!K44<>5), IF(AR44/AE44*100<>0, IF(AR44/AE44*100>100,100,AR44/AE44*100), \"-\"),0)","v":30.874018947413447},null,{"$f":"IF(AND(D44<>0, D44<>\"Inconnu\",D44<>\"Interrompu\",D44<>\"Non requis\"),D44/COUNTRY_INFO!D44, 0)","v":0},{"$f":"IF(AND(J44<>0,J44<>\"Inconnu\",J44<>\"Interrompu\",J44<>\"Non requis\"),J44/COUNTRY_INFO!D44, 0)","v":1},{"$f":"IF(AND(P44<>0,P44<>\"Inconnu\",P44<>\"Surveillance\",P44<>\"Non requis\"),P44/COUNTRY_INFO!Q44, 0)","v":0},{"$f":"IF(AND(AE44<>0,AE44<>\"Inconnu\",AE44<>\"Surveillance\",AE44<>\"Non requis\"),AE44/COUNTRY_INFO!U44, 0)","v":1},{"$f":"IF(AU44>0,D44*PROFILE!$G$7,IF(AV44>0,J44*PROFILE!$G$7,0))","v":18818.297250315325},{"$f":"_xlfn.IFS(OR(AU44>0,AW44>0),COUNTRY_INFO!E44, AV44>0,J44*PROFILE!$G$8,AX44>0,COUNTRY_INFO!R44,COUNTIFS(AU44:AX44,\">0\")=0,0)","v":56454.749836766176},{"$f":"_xlfn.IFS(OR(AU44>0,AW44>0),COUNTRY_INFO!F44, AV44>0,J44*PROFILE!$G$9,AX44>0,COUNTRY_INFO!S44,COUNTIFS(AU44:AX44,\">0\")=0,0)","v":107264.06939930542},{"$f":"_xlfn.IFS(AU44>0,COUNTRY_INFO!G44, AND(AV44>0,AW44=0,AX44=0),J44*PROFILE!$G$10,AND(AV44>0,AW44>0,AX44=0), MAX(J44*PROFILE!$G$10,COUNTRY_INFO!P44),AND(AV44>0,AW44=0,AX44>0), MAX(J44*PROFILE!$G$10,COUNTRY_INFO!T44),AND(AV44=0,AW44>0,AX44>0), MAX(COUNTRY_INFO!P44,COUNTRY_INFO!T44),AND(AV44=0,AW44>0,AX44=0),COUNTRY_INFO!P44,AND(AV44=0,AW44=0,AX44>0),COUNTRY_INFO!T44,AND(AV44>0,AW44>0,AX44>0), MAX(J44*PROFILE!$G$10,COUNTRY_INFO!P44,COUNTRY_INFO!T44),COUNTIFS(AU44:AX44,\">0\")=0,0)","v":193828.07876161311},376365.19524800003,"Y",{"$f":"MAX('MDA2'!J44,'MDA5'!J44,S44,AH44)","v":0},{"$f":"MAX('MDA1'!K44,'MDA2'!K44,'MDA3'!I44,'MDA3'!L44,'MDA5'!K44,V44,AK44)","v":110594},{"$f":"MAX('MDA1'!L44,'MDA2'!L44,'MDA3'!J44,'MDA3'!M44,'MDA5'!L44,Y44,AN44)","v":173272},283866,{"$f":"_xlfn.IFS(AND(AU44=0,AW44=0,AX44=0),0,AND(AU44=0,AW44=0,AX44>0),AI44,AND(AU44=0,AW44>0,AX44=0),T44,AND(AU44=0,AW44>0,AX44>0),MAX(T44,AI44),AND(AU44>0,AW44=0,AX44=0),MIN(MAX('MDA2'!J44,'MDA5'!J44),AZ44),AND(AU44>0,AW44=0,AX44>0),MIN(MAX('MDA2'!J44,'MDA5'!J44,AI44),AZ44),AND(AU44>0,AW44>0,AX44=0),MIN(MAX('MDA2'!J44,'MDA5'!J44,T44),AZ44),AND(AU44>0,AW44>0,AX44>0),MIN(MAX('MDA2'!J44,'MDA5'!J44,AI44,T44),AZ44))","v":0},{"$f":"_xlfn.IFS(AND(AU44=0,AV44=0,AW44=0,AX44=0),0,AND(AU44=0,AV44=0,AW44=0,AX44>0),AL44,AND(AU44=0,AV44=0,AW44>0,AX44=0),W44,AND(AU44=0,AV44=0,AW44>0,AX44>0),MAX(W44,AL44),AND(AU44=0,AV44>0,AW44=0,AX44=0),MIN(J44*PROFILE!$G$9,MAX('MDA3'!I44,'MDA3'!L44)),AND(AU44=0,AV44>0,AW44=0,AX44>0),MIN(J44*PROFILE!$G$9,MAX('MDA3'!I44,'MDA3'!L44,AL44)),AND(AU44=0,AV44>0,AW44>0,AX44=0),MIN(J44*PROFILE!$G$9,MAX('MDA3'!I44,'MDA3'!L44,W44)),AND(AU44=0,AV44>0,AW44>0,AX44>0),MIN(J44*PROFILE!$G$9,MAX('MDA3'!I44,'MDA3'!L44,W44,AL44)),AND(AU44>0,AV44=0,AW44=0,AX44=0), MIN(BA44,MAX('MDA1'!K44,'MDA2'!K44,'MDA5'!K44)),AND(AU44>0,AV44=0,AW44=0,AX44>0), MIN(BA44,MAX('MDA1'!K44,'MDA2'!K44,'MDA5'!K44,AL44)),AND(AU44>0,AV44=0,AW44>0,AX44=0),MIN(BA44,MAX('MDA1'!K44,'MDA2'!KL44,'MDA5'!K44,W44)),AND(AU44>0,AV44=0,AW44>0,AX44>0),MIN(BA44,MAX('MDA1'!K44,'MDA2'!K44,'MDA5'!K44,W44,AL44)),AND(AU44>0,AV44>0,AW44=0,AX44=0),MIN(BA44, MAX('MDA1'!K44,'MDA2'!K44, 'MDA5'!K44,MAX('MDA3'!I44,'MDA3'!L44))), AND(AU44>0,AV44>0,AW44=0,AX44>0),MIN(BA44, MAX('MDA1'!K44,'MDA2'!K44, 'MDA5'!K44,MAX('MDA3'!I44,'MDA3'!L44),AL44)), AND(AU44>0,AV44>0,AW44>0,AX44=0), MIN(BA44, MAX('MDA1'!K44,'MDA2'!K44, 'MDA5'!K44,MAX('MDA3'!I44,'MDA3'!L44),W44)), AND(AU44>0,AV44>0,AW44>0,AX44>0), MIN(BA44, MAX('MDA1'!K44,'MDA2'!K44, 'MDA5'!K44,MAX('MDA3'!I44,'MDA3'!L44),W44,AL44)))","v":107264.06939930542},{"$f":"_xlfn.IFS(AND(AU44=0,AV44=0,AW44=0,AX44=0),0,AND(AU44=0,AV44=0,AW44=0,AX44>0),AO44,AND(AU44=0,AV44=0,AW44>0,AX44=0),Z44,AND(AU44=0,AV44=0,AW44>0,AX44>0),MAX(Z44,AO44),AND(AU44=0,AV44>0,AW44=0,AX44=0),MIN(J44*PROFILE!$G$10,MAX('MDA3'!J44,'MDA3'!J44)),AND(AU44=0,AV44>0,AW44=0,AX44>0),MIN(J44*PROFILE!$G$10,MAX('MDA3'!J44,'MDA3'!M44,AO44)),AND(AU44=0,AV44>0,AW44>0,AX44=0),MIN(J44*PROFILE!$G$10,MAX('MDA3'!J44,'MDA3'!M44,Z44)),AND(AU44=0,AV44>0,AW44>0,AX44>0),MIN(J44*PROFILE!$G$10,MAX('MDA3'!J44,'MDA3'!M44,Z44,AO44)),AND(AU44>0,AV44=0,AW44=0,AX44=0), MIN(BB44,MAX('MDA1'!L44,'MDA2'!L44,'MDA5'!L44)),AND(AU44>0,AV44=0,AW44=0,AX44>0), MIN(BB44,MAX('MDA1'!L44,'MDA2'!L44,'MDA5'!L44,AO44)),AND(AU44>0,AV44=0,AW44>0,AX44=0),MIN(BB44,MAX('MDA1'!L44,'MDA2'!L44,'MDA5'!L44,Z44)),AND(AU44>0,AV44=0,AW44>0,AX44>0),MIN(BB44,MAX('MDA1'!L44,'MDA2'!L44,'MDA5'!L44,Z44,AO44)),AND(AU44>0,AV44>0,AW44=0,AX44=0),MIN(BB44, MAX('MDA1'!L44,'MDA2'!L44, 'MDA5'!L44,MAX('MDA3'!J44,'MDA3'!M44))), AND(AU44>0,AV44>0,AW44=0,AX44>0),MIN(BB44, MAX('MDA1'!L44,'MDA2'!L44, 'MDA5'!L44,MAX('MDA3'!J44,'MDA3'!M44),AO44)), AND(AU44>0,AV44>0,AW44>0,AX44=0), MIN(BB44, MAX('MDA1'!L44,'MDA2'!L44, 'MDA5'!L44,MAX('MDA3'!J44,'MDA3'!M44),Z44)), AND(AU44>0,AV44>0,AW44>0,AX44>0), MIN(BB44, MAX('MDA1'!L44,'MDA2'!L44, 'MDA5'!L44,MAX('MDA3'!J44,'MDA3'!M44),Z44,AO44)))","v":173272},280536.06939930539,74.538260429328616]
[{"$f":"IF(COUNTRY_INFO!A45=0,\" \",COUNTRY_INFO!A45)","v":"Mali"},{"$f":"IF(COUNTRY_INFO!B45=0,\" \",COUNTRY_INFO!B45)","v":"Koulikoro"},{"$f":"IF(COUNTRY_INFO!C45=0,\" \",COUNTRY_INFO!C45)","v":"Koulikoro"},{"$f":"COUNTRY_INFO!L45","v":0},null,null,{"$f":"MAX('MDA1'!M45,'MDA2'!M45,'MDA5'!M45)","v":0},{"$f":"IF(AND(COUNTRY_INFO!H45>0,COUNTRY_INFO!H45<4),IF(D45>G45,G45,D45),0)","v":0},{"$f":"IF(AND(COUNTRY_INFO!H45>0,COUNTRY_INFO!H45<4), IF(G45/D45*100<>0, IF(G45/D45*100>100,100,G45/D45*100), \"-\"),0)","v":0},{"$f":"COUNTRY_INFO!M45","v":339656.32545600005},122813,121558,{"$f":"MAX('MDA1'!M45,MAX('MDA3'!I45,'MDA3'!L45)+MAX('MDA3'!J45,'MDA3'!M45))","v":244371},{"$f":"IF(AND(COUNTRY_INFO!I45>0,COUNTRY_INFO!I45<4),IF(J45>M45,M45,J45),0)","v":244371},{"$f":"IF(AND(COUNTRY_INFO!I45>0,COUNTRY_INFO!I45<4), IF(M45/J45*100<>0, IF(M45/J45*100>100,100,M45/J45*100), \"-\"),0)","v":71.946547638093804},{"$f":"COUNTRY_INFO!Q45","v":"Non requis"},null,null,{"$f":"MAX('MDA2'!J45,'MDA5'!J45,'T1'!K45, MAX(T3_R1!J45,T3_R2!J45,T3_R3!J45))","v":0},{"$f":"IF(AND(COUNTRY_INFO!J45>1,COUNTRY_INFO!J45<99,COUNTRY_INFO!J45<>4,COUNTRY_INFO!J45<>5),IF(COUNTRY_INFO!N45>S45,S45,COUNTRY_INFO!N45),0)","v":0},{"$f":"IF(AND(COUNTRY_INFO!J45>1,COUNTRY_INFO!J45<99,COUNTRY_INFO!J45<>4,COUNTRY_INFO!J45<>5), IF(T45/COUNTRY_INFO!N45*100<>0, IF(T45/COUNTRY_INFO!N45*100>100,100,T45/COUNTRY_INFO!N45*100), \"-\"),0)","v":0},{"$f":"MAX('MDA1'!K45, 'MDA2'!K45, 'MDA5'!K45,'T1'!L45, MAX(T3_R1!K45,T3_R2!K45,T3_R3!K45))","v":0},{"$f":"IF(AND(COUNTRY_INFO!J45>1,COUNTRY_INFO!J45<99,COUNTRY_INFO!J45<>4,COUNTRY_INFO!J45<>5),IF(COUNTRY_INFO!O45>V45,V45,COUNTRY_INFO!O45),0)","v":0},{"$f":"IF(AND(COUNTRY_INFO!J45>1,COUNTRY_INFO!J45<99,COUNTRY_INFO!J45<>4,COUNTRY_INFO!J45<>5), IF(W45/COUNTRY_INFO!O45*100<>0, IF(W45/COUNTRY_INFO!O45*100>100,100,W45/COUNTRY_INFO!O45*100), \"-\"),0)","v":0},{"$f":"MAX('MDA1'!L45, 'MDA2'!L45, 'MDA5'!L45,'T1'!M45, MAX(T3_R1!L45,T3_R2!L45,T3_R3!L45))","v":0},{"$f":"IF(AND(COUNTRY_INFO!J45>1,COUNTRY_INFO!J45<99,COUNTRY_INFO!J45<>4,COUNTRY_INFO!J45<>5),IF(COUNTRY_INFO!P45>Y45,Y45,COUNTRY_INFO!P45),0)","v":0},{"$f":"IF(AND(COUNTRY_INFO!J45>1,COUNTRY_INFO!J45<99,COUNTRY_INFO!J45<>4,COUNTRY_INFO!J45<>5), IF(Z45/COUNTRY_INFO!P45*100<>0, IF(Z45/COUNTRY_INFO!P45*100>100,100,Z45/COUNTRY_INFO!P45*100), \"-\"),0)","v":0},0,0,{"$f":"IF(AND(COUNTRY_INFO!J45>1,COUNTRY_INFO!J45<99,COUNTRY_INFO!J45<>4,COUNTRY_INFO!J45<>5), IF(AC45/P45*100<>0, IF(AC45/P45*100>100,100,AC45/P45*100), \"-\"),0)","v":0},{"$f":"COUNTRY_INFO!U45","v":99721},null,null,{"$f":"MAX('T1'!K45,'T2'!R45)","v":0},{"$f":"IF(AND(COUNTRY_INFO!K45>1,COUNTRY_INFO!K45<99,COUNTRY_INFO!K45<>4,COUNTRY_INFO!K45<>5),IF(COUNTRY_INFO!R45>AH45,AH45,COUNTRY_INFO!R45),0)","v":0},{"$f":"IF(AND(COUNTRY_INFO!K45>1,COUNTRY_INFO!K45<99,COUNTRY_INFO!K45<>4,COUNTRY_INFO!K45<>5), IF(AI45/COUNTRY_INFO!R45*100<>0, IF(AI45/COUNTRY_INFO!R45*100>100,100,AI45/COUNTRY_INFO!R45*100), \"-\"),0)","v":"-"},{"$f":"MAX('T1'!L45,'T2'!S45)","v":66641},{"$f":"IF(AND(COUNTRY_INFO!K45>1,COUNTRY_INFO!K45<99,COUNTRY_INFO!K45<>4,COUNTRY_INFO!K45<>5),IF(COUNTRY_INFO!S45>AK45,AK45,COUNTRY_INFO!S45),0)","v":31377},{"$f":"IF(AND(COUNTRY_INFO!K45>1,COUNTRY_INFO!K45<99,COUNTRY_INFO!K45<>4,COUNTRY_INFO!K45<>5), IF(AL45/COUNTRY_INFO!S45*100<>0, IF(AL45/COUNTRY_INFO!S45*100>100,100,AL45/COUNTRY_INFO!S45*100), \"-\"),0)","v":100},{"$f":"MAX('T1'!M45,'T2'!T45)","v":0},{"$f":"IF(AND(COUNTRY_INFO!K45>1,COUNTRY_INFO!K45<99,COUNTRY_INFO!K45<>4,COUNTRY_INFO!K45<>5),IF(COUNTRY_INFO!T45>AN45,AN45,COUNTRY_INFO!T45),0)","v":0},{"$f":"IF(AND(COUNTRY_INFO!K45>1,COUNTRY_INFO!K45<99,COUNTRY_INFO!K45<>4,COUNTRY_INFO!K45<>5), IF(AO45/COUNTRY_INFO!T45*100<>0, IF(AO45/COUNTRY_INFO!T45*100>100,100,AO45/COUNTRY_INFO!T45*100), \"-\"),0)","v":"-"},66641,31377,{"$f":"IF(AND(COUNTRY_INFO!K45>1,COUNTRY_INFO!K45<99,COUNTRY_INFO!K45<>4,COUNTRY_INFO!K45<>5), IF(AR45/AE45*100<>0, IF(AR45/AE45*100>100,100,AR45/AE45*100), \"-\"),0)","v":31.464786755046582},null,{"$f":"IF(AND(D45<>0, D45<>\"Inconnu\",D45<>\"Interrompu\",D45<>\"Non requis\"),D45/COUNTRY_INFO!D45, 0)","v":0},{"$f":"IF(AND(J45<>0,J45<>\"Inconnu\",J45<>\"Interrompu\",J45<>\"Non requis\"),J45/COUNTRY_INFO!D45, 0)","v":1},{"$f":"IF(AND(P45<>0,P45<>\"Inconnu\",P45<>\"Surveillance\",P45<>\"Non requis\"),P45/COUNTRY_INFO!Q45, 0)","v":0},{"$f":"IF(AND(AE45<>0,AE45<>\"Inconnu\",AE45<>\"Surveillance\",AE45<>\"Non requis\"),AE45/COUNTRY_INFO!U45, 0)","v":1},{"$f":"IF(AU45>0,D45*PROFILE!$G$7,IF(AV45>0,J45*PROFILE!$G$7,0))","v":16982.850104322493},{"$f":"_xlfn.IFS(OR(AU45>0,AW45>0),COUNTRY_INFO!E45, AV45>0,J45*PROFILE!$G$8,AX45>0,COUNTRY_INFO!R45,COUNTIFS(AU45:AX45,\">0\")=0,0)","v":50948.422240421321},{"$f":"_xlfn.IFS(OR(AU45>0,AW45>0),COUNTRY_INFO!F45, AV45>0,J45*PROFILE!$G$9,AX45>0,COUNTRY_INFO!S45,COUNTIFS(AU45:AX45,\">0\")=0,0)","v":96802.042605503259},{"$f":"_xlfn.IFS(AU45>0,COUNTRY_INFO!G45, AND(AV45>0,AW45=0,AX45=0),J45*PROFILE!$G$10,AND(AV45>0,AW45>0,AX45=0), MAX(J45*PROFILE!$G$10,COUNTRY_INFO!P45),AND(AV45>0,AW45=0,AX45>0), MAX(J45*PROFILE!$G$10,COUNTRY_INFO!T45),AND(AV45=0,AW45>0,AX45>0), MAX(COUNTRY_INFO!P45,COUNTRY_INFO!T45),AND(AV45=0,AW45>0,AX45=0),COUNTRY_INFO!P45,AND(AV45=0,AW45=0,AX45>0),COUNTRY_INFO!T45,AND(AV45>0,AW45>0,AX45>0), MAX(J45*PROFILE!$G$10,COUNTRY_INFO!P45,COUNTRY_INFO!T45),COUNTIFS(AU45:AX45,\">0\")=0,0)","v":174923.01050575296},339656.32545600005,"Y",{"$f":"MAX('MDA2'!J45,'MDA5'!J45,S45,AH45)","v":0},{"$f":"MAX('MDA1'!K45,'MDA2'!K45,'MDA3'!I45,'MDA3'!L45,'MDA5'!K45,V45,AK45)","v":90848},{"$f":"MAX('MDA1'!L45,'MDA2'!L45,'MDA3'!J45,'MDA3'!M45,'MDA5'!L45,Y45,AN45)","v":153523},244371,{"$f":"_xlfn.IFS(AND(AU45=0,AW45=0,AX45=0),0,AND(AU45=0,AW45=0,AX45>0),AI45,AND(AU45=0,AW45>0,AX45=0),T45,AND(AU45=0,AW45>0,AX45>0),MAX(T45,AI45),AND(AU45>0,AW45=0,AX45=0),MIN(MAX('MDA2'!J45,'MDA5'!J45),AZ45),AND(AU45>0,AW45=0,AX45>0),MIN(MAX('MDA2'!J45,'MDA5'!J45,AI45),AZ45),AND(AU45>0,AW45>0,AX45=0),MIN(MAX('MDA2'!J45,'MDA5'!J45,T45),AZ45),AND(AU45>0,AW45>0,AX45>0),MIN(MAX('MDA2'!J45,'MDA5'!J45,AI45,T45),AZ45))","v":0},{"$f":"_xlfn.IFS(AND(AU45=0,AV45=0,AW45=0,AX45=0),0,AND(AU45=0,AV45=0,AW45=0,AX45>0),AL45,AND(AU45=0,AV45=0,AW45>0,AX45=0),W45,AND(AU45=0,AV45=0,AW45>0,AX45>0),MAX(W45,AL45),AND(AU45=0,AV45>0,AW45=0,AX45=0),MIN(J45*PROFILE!$G$9,MAX('MDA3'!I45,'MDA3'!L45)),AND(AU45=0,AV45>0,AW45=0,AX45>0),MIN(J45*PROFILE!$G$9,MAX('MDA3'!I45,'MDA3'!L45,AL45)),AND(AU45=0,AV45>0,AW45>0,AX45=0),MIN(J45*PROFILE!$G$9,MAX('MDA3'!I45,'MDA3'!L45,W45)),AND(AU45=0,AV45>0,AW45>0,AX45>0),MIN(J45*PROFILE!$G$9,MAX('MDA3'!I45,'MDA3'!L45,W45,AL45)),AND(AU45>0,AV45=0,AW45=0,AX45=0), MIN(BA45,MAX('MDA1'!K45,'MDA2'!K45,'MDA5'!K45)),AND(AU45>0,AV45=0,AW45=0,AX45>0), MIN(BA45,MAX('MDA1'!K45,'MDA2'!K45,'MDA5'!K45,AL45)),AND(AU45>0,AV45=0,AW45>0,AX45=0),MIN(BA45,MAX('MDA1'!K45,'MDA2'!KL45,'MDA5'!K45,W45)),AND(AU45>0,AV45=0,AW45>0,AX45>0),MIN(BA45,MAX('MDA1'!K45,'MDA2'!K45,'MDA5'!K45,W45,AL45)),AND(AU45>0,AV45>0,AW45=0,AX45=0),MIN(BA45, MAX('MDA1'!K45,'MDA2'!K45, 'MDA5'!K45,MAX('MDA3'!I45,'MDA3'!L45))), AND(AU45>0,AV45>0,AW45=0,AX45>0),MIN(BA45, MAX('MDA1'!K45,'MDA2'!K45, 'MDA5'!K45,MAX('MDA3'!I45,'MDA3'!L45),AL45)), AND(AU45>0,AV45>0,AW45>0,AX45=0), MIN(BA45, MAX('MDA1'!K45,'MDA2'!K45, 'MDA5'!K45,MAX('MDA3'!I45,'MDA3'!L45),W45)), AND(AU45>0,AV45>0,AW45>0,AX45>0), MIN(BA45, MAX('MDA1'!K45,'MDA2'!K45, 'MDA5'!K45,MAX('MDA3'!I45,'MDA3'!L45),W45,AL45)))","v":90848},{"$f":"_xlfn.IFS(AND(AU45=0,AV45=0,AW45=0,AX45=0),0,AND(AU45=0,AV45=0,AW45=0,AX45>0),AO45,AND(AU45=0,AV45=0,AW45>0,AX45=0),Z45,AND(AU45=0,AV45=0,AW45>0,AX45>0),MAX(Z45,AO45),AND(AU45=0,AV45>0,AW45=0,AX45=0),MIN(J45*PROFILE!$G$10,MAX('MDA3'!J45,'MDA3'!J45)),AND(AU45=0,AV45>0,AW45=0,AX45>0),MIN(J45*PROFILE!$G$10,MAX('MDA3'!J45,'MDA3'!M45,AO45)),AND(AU45=0,AV45>0,AW45>0,AX45=0),MIN(J45*PROFILE!$G$10,MAX('MDA3'!J45,'MDA3'!M45,Z45)),AND(AU45=0,AV45>0,AW45>0,AX45>0),MIN(J45*PROFILE!$G$10,MAX('MDA3'!J45,'MDA3'!M45,Z45,AO45)),AND(AU45>0,AV45=0,AW45=0,AX45=0), MIN(BB45,MAX('MDA1'!L45,'MDA2'!L45,'MDA5'!L45)),AND(AU45>0,AV45=0,AW45=0,AX45>0), MIN(BB45,MAX('MDA1'!L45,'MDA2'!L45,'MDA5'!L45,AO45)),AND(AU45>0,AV45=0,AW45>0,AX45=0),MIN(BB45,MAX('MDA1'!L45,'MDA2'!L45,'MDA5'!L45,Z45)),AND(AU45>0,AV45=0,AW45>0,AX45>0),MIN(BB45,MAX('MDA1'!L45,'MDA2'!L45,'MDA5'!L45,Z45,AO45)),AND(AU45>0,AV45>0,AW45=0,AX45=0),MIN(BB45, MAX('MDA1'!L45,'MDA2'!L45, 'MDA5'!L45,MAX('MDA3'!J45,'MDA3'!M45))), AND(AU45>0,AV45>0,AW45=0,AX45>0),MIN(BB45, MAX('MDA1'!L45,'MDA2'!L45, 'MDA5'!L45,MAX('MDA3'!J45,'MDA3'!M45),AO45)), AND(AU45>0,AV45>0,AW45>0,AX45=0), MIN(BB45, MAX('MDA1'!L45,'MDA2'!L45, 'MDA5'!L45,MAX('MDA3'!J45,'MDA3'!M45),Z45)), AND(AU45>0,AV45>0,AW45>0,AX45>0), MIN(BB45, MAX('MDA1'!L45,'MDA2'!L45, 'MDA5'!L45,MAX('MDA3'!J45,'MDA3'!M45),Z45,AO45)))","v":153523},244371,71.946547638093804]
[{"$f":"IF(COUNTRY_INFO!A46=0,\" \",COUNTRY_INFO!A46)","v":"Mali"},{"$f":"IF(COUNTRY_INFO!B46=0,\" \",COUNTRY_INFO!B46)","v":"Koulikoro"},{"$f":"IF(COUNTRY_INFO!C46=0,\" \",COUNTRY_INFO!C46)","v":"Nara"},{"$f":"COUNTRY_INFO!L46","v":0},null,null,{"$f":"MAX('MDA1'!M46,'MDA2'!M46,'MDA5'!M46)","v":0},{"$f":"IF(AND(COUNTRY_INFO!H46>0,COUNTRY_INFO!H46<4),IF(D46>G46,G46,D46),0)","v":0},{"$f":"IF(AND(COUNTRY_INFO!H46>0,COUNTRY_INFO!H46<4), IF(G46/D46*100<>0, IF(G46/D46*100>100,100,G46/D46*100), \"-\"),0)","v":0},{"$f":"COUNTRY_INFO!M46","v":0},null,null,{"$f":"MAX('MDA1'!M46,MAX('MDA3'!I46,'MDA3'!L46)+MAX('MDA3'!J46,'MDA3'!M46))","v":0},{"$f":"IF(AND(COUNTRY_INFO!I46>0,COUNTRY_INFO!I46<4),IF(J46>M46,M46,J46),0)","v":0},{"$f":"IF(AND(COUNTRY_INFO!I46>0,COUNTRY_INFO!I46<4), IF(M46/J46*100<>0, IF(M46/J46*100>100,100,M46/J46*100), \"-\"),0)","v":0},{"$f":"COUNTRY_INFO!Q46","v":"Non requis"},null,null,{"$f":"MAX('MDA2'!J46,'MDA5'!J46,'T1'!K46, MAX(T3_R1!J46,T3_R2!J46,T3_R3!J46))","v":0},{"$f":"IF(AND(COUNTRY_INFO!J46>1,COUNTRY_INFO!J46<99,COUNTRY_INFO!J46<>4,COUNTRY_INFO!J46<>5),IF(COUNTRY_INFO!N46>S46,S46,COUNTRY_INFO!N46),0)","v":0},{"$f":"IF(AND(COUNTRY_INFO!J46>1,COUNTRY_INFO!J46<99,COUNTRY_INFO!J46<>4,COUNTRY_INFO!J46<>5), IF(T46/COUNTRY_INFO!N46*100<>0, IF(T46/COUNTRY_INFO!N46*100>100,100,T46/COUNTRY_INFO!N46*100), \"-\"),0)","v":0},{"$f":"MAX('MDA1'!K46, 'MDA2'!K46, 'MDA5'!K46,'T1'!L46, MAX(T3_R1!K46,T3_R2!K46,T3_R3!K46))","v":0},{"$f":"IF(AND(COUNTRY_INFO!J46>1,COUNTRY_INFO!J46<99,COUNTRY_INFO!J46<>4,COUNTRY_INFO!J46<>5),IF(COUNTRY_INFO!O46>V46,V46,COUNTRY_INFO!O46),0)","v":0},{"$f":"IF(AND(COUNTRY_INFO!J46>1,COUNTRY_INFO!J46<99,COUNTRY_INFO!J46<>4,COUNTRY_INFO!J46<>5), IF(W46/COUNTRY_INFO!O46*100<>0, IF(W46/COUNTRY_INFO!O46*100>100,100,W46/COUNTRY_INFO!O46*100), \"-\"),0)","v":0},{"$f":"MAX('MDA1'!L46, 'MDA2'!L46, 'MDA5'!L46,'T1'!M46, MAX(T3_R1!L46,T3_R2!L46,T3_R3!L46))","v":0},{"$f":"IF(AND(COUNTRY_INFO!J46>1,COUNTRY_INFO!J46<99,COUNTRY_INFO!J46<>4,COUNTRY_INFO!J46<>5),IF(COUNTRY_INFO!P46>Y46,Y46,COUNTRY_INFO!P46),0)","v":0},{"$f":"IF(AND(COUNTRY_INFO!J46>1,COUNTRY_INFO!J46<99,COUNTRY_INFO!J46<>4,COUNTRY_INFO!J46<>5), IF(Z46/COUNTRY_INFO!P46*100<>0, IF(Z46/COUNTRY_INFO!P46*100>100,100,Z46/COUNTRY_INFO!P46*100), \"-\"),0)","v":0},0,0,{"$f":"IF(AND(COUNTRY_INFO!J46>1,COUNTRY_INFO!J46<99,COUNTRY_INFO!J46<>4,COUNTRY_INFO!J46<>5), IF(AC46/P46*100<>0, IF(AC46/P46*100>100,100,AC46/P46*100), \"-\"),0)","v":0},{"$f":"COUNTRY_INFO!U46","v":73554},null,null,{"$f":"MAX('T1'!K46,'T2'!R46)","v":0},{"$f":"IF(AND(COUNTRY_INFO!K46>1,COUNTRY_INFO!K46<99,COUNTRY_INFO!K46<>4,COUNTRY_INFO!K46<>5),IF(COUNTRY_INFO!R46>AH46,AH46,COUNTRY_INFO!R46),0)","v":0},{"$f":"IF(AND(COUNTRY_INFO!K46>1,COUNTRY_INFO!K46<99,COUNTRY_INFO!K46<>4,COUNTRY_INFO!K46<>5), IF(AI46/COUNTRY_INFO!R46*100<>0, IF(AI46/COUNTRY_INFO!R46*100>100,100,AI46/COUNTRY_INFO!R46*100), \"-\"),0)","v":"-"},{"$f":"MAX('T1'!L46,'T2'!S46)","v":24312},{"$f":"IF(AND(COUNTRY_INFO!K46>1,COUNTRY_INFO!K46<99,COUNTRY_INFO!K46<>4,COUNTRY_INFO!K46<>5),IF(COUNTRY_INFO!S46>AK46,AK46,COUNTRY_INFO!S46),0)","v":23144},{"$f":"IF(AND(COUNTRY_INFO!K46>1,COUNTRY_INFO!K46<99,COUNTRY_INFO!K46<>4,COUNTRY_INFO!K46<>5), IF(AL46/COUNTRY_INFO!S46*100<>0, IF(AL46/COUNTRY_INFO!S46*100>100,100,AL46/COUNTRY_INFO!S46*100), \"-\"),0)","v":100},{"$f":"MAX('T1'!M46,'T2'!T46)","v":0},{"$f":"IF(AND(COUNTRY_INFO!K46>1,COUNTRY_INFO!K46<99,COUNTRY_INFO!K46<>4,COUNTRY_INFO!K46<>5),IF(COUNTRY_INFO!T46>AN46,AN46,COUNTRY_INFO!T46),0)","v":0},{"$f":"IF(AND(COUNTRY_INFO!K46>1,COUNTRY_INFO!K46<99,COUNTRY_INFO!K46<>4,COUNTRY_INFO!K46<>5), IF(AO46/COUNTRY_INFO!T46*100<>0, IF(AO46/COUNTRY_INFO!T46*100>100,100,AO46/COUNTRY_INFO!T46*100), \"-\"),0)","v":"-"},24312,23144,{"$f":"IF(AND(COUNTRY_INFO!K46>1,COUNTRY_INFO!K46<99,COUNTRY_INFO!K46<>4,COUNTRY_INFO!K46<>5), IF(AR46/AE46*100<>0, IF(AR46/AE46*100>100,100,AR46/AE46*100), \"-\"),0)","v":31.465317997661579},null,{"$f":"IF(AND(D46<>0, D46<>\"Inconnu\",D46<>\"Interrompu\",D46<>\"Non requis\"),D46/COUNTRY_INFO!D46, 0)","v":0},{"$f":"IF(AND(J46<>0,J46<>\"Inconnu\",J46<>\"Interrompu\",J46<>\"Non requis\"),J46/COUNTRY_INFO!D46, 0)","v":0},{"$f":"IF(AND(P46<>0,P46<>\"Inconnu\",P46<>\"Surveillance\",P46<>\"Non requis\"),P46/COUNTRY_INFO!Q46, 0)","v":0},{"$f":"IF(AND(AE46<>0,AE46<>\"Inconnu\",AE46<>\"Surveillance\",AE46<>\"Non requis\"),AE46/COUNTRY_INFO!U46, 0)","v":1},{"$f":"IF(AU46>0,D46*PROFILE!$G$7,IF(AV46>0,J46*PROFILE!$G$7,0))","v":0},{"$f":"_xlfn.IFS(OR(AU46>0,AW46>0),COUNTRY_INFO!E46, AV46>0,J46*PROFILE!$G$8,AX46>0,COUNTRY_INFO!R46,COUNTIFS(AU46:AX46,\">0\")=0,0)","v":8590},{"$f":"_xlfn.IFS(OR(AU46>0,AW46>0),COUNTRY_INFO!F46, AV46>0,J46*PROFILE!$G$9,AX46>0,COUNTRY_INFO!S46,COUNTIFS(AU46:AX46,\">0\")=0,0)","v":23144},{"$f":"_xlfn.IFS(AU46>0,COUNTRY_INFO!G46, AND(AV46>0,AW46=0,AX46=0),J46*PROFILE!$G$10,AND(AV46>0,AW46>0,AX46=0), MAX(J46*PROFILE!$G$10,COUNTRY_INFO!P46),AND(AV46>0,AW46=0,AX46>0), MAX(J46*PROFILE!$G$10,COUNTRY_INFO!T46),AND(AV46=0,AW46>0,AX46>0), MAX(COUNTRY_INFO!P46,COUNTRY_INFO!T46),AND(AV46=0,AW46>0,AX46=0),COUNTRY_INFO!P46,AND(AV46=0,AW46=0,AX46>0),COUNTRY_INFO!T46,AND(AV46>0,AW46>0,AX46>0), MAX(J46*PROFILE!$G$10,COUNTRY_INFO!P46,COUNTRY_INFO!T46),COUNTIFS(AU46:AX46,\">0\")=0,0)","v":41820},73554,"Y",{"$f":"MAX('MDA2'!J46,'MDA5'!J46,S46,AH46)","v":0},{"$f":"MAX('MDA1'!K46,'MDA2'!K46,'MDA3'!I46,'MDA3'!L46,'MDA5'!K46,V46,AK46)","v":24312},{"$f":"MAX('MDA1'!L46,'MDA2'!L46,'MDA3'!J46,'MDA3'!M46,'MDA5'!L46,Y46,AN46)","v":0},24312,{"$f":"_xlfn.IFS(AND(AU46=0,AW46=0,AX46=0),0,AND(AU46=0,AW46=0,AX46>0),AI46,AND(AU46=0,AW46>0,AX46=0),T46,AND(AU46=0,AW46>0,AX46>0),MAX(T46,AI46),AND(AU46>0,AW46=0,AX46=0),MIN(MAX('MDA2'!J46,'MDA5'!J46),AZ46),AND(AU46>0,AW46=0,AX46>0),MIN(MAX('MDA2'!J46,'MDA5'!J46,AI46),AZ46),AND(AU46>0,AW46>0,AX46=0),MIN(MAX('MDA2'!J46,'MDA5'!J46,T46),AZ46),AND(AU46>0,AW46>0,AX46>0),MIN(MAX('MDA2'!J46,'MDA5'!J46,AI46,T46),AZ46))","v":0},{"$f":"_xlfn.IFS(AND(AU46=0,AV46=0,AW46=0,AX46=0),0,AND(AU46=0,AV46=0,AW46=0,AX46>0),AL46,AND(AU46=0,AV46=0,AW46>0,AX46=0),W46,AND(AU46=0,AV46=0,AW46>0,AX46>0),MAX(W46,AL46),AND(AU46=0,AV46>0,AW46=0,AX46=0),MIN(J46*PROFILE!$G$9,MAX('MDA3'!I46,'MDA3'!L46)),AND(AU46=0,AV46>0,AW46=0,AX46>0),MIN(J46*PROFILE!$G$9,MAX('MDA3'!I46,'MDA3'!L46,AL46)),AND(AU46=0,AV46>0,AW46>0,AX46=0),MIN(J46*PROFILE!$G$9,MAX('MDA3'!I46,'MDA3'!L46,W46)),AND(AU46=0,AV46>0,AW46>0,AX46>0),MIN(J46*PROFILE!$G$9,MAX('MDA3'!I46,'MDA3'!L46,W46,AL46)),AND(AU46>0,AV46=0,AW46=0,AX46=0), MIN(BA46,MAX('MDA1'!K46,'MDA2'!K46,'MDA5'!K46)),AND(AU46>0,AV46=0,AW46=0,AX46>0), MIN(BA46,MAX('MDA1'!K46,'MDA2'!K46,'MDA5'!K46,AL46)),AND(AU46>0,AV46=0,AW46>0,AX46=0),MIN(BA46,MAX('MDA1'!K46,'MDA2'!KL46,'MDA5'!K46,W46)),AND(AU46>0,AV46=0,AW46>0,AX46>0),MIN(BA46,MAX('MDA1'!K46,'MDA2'!K46,'MDA5'!K46,W46,AL46)),AND(AU46>0,AV46>0,AW46=0,AX46=0),MIN(BA46, MAX('MDA1'!K46,'MDA2'!K46, 'MDA5'!K46,MAX('MDA3'!I46,'MDA3'!L46))), AND(AU46>0,AV46>0,AW46=0,AX46>0),MIN(BA46, MAX('MDA1'!K46,'MDA2'!K46, 'MDA5'!K46,MAX('MDA3'!I46,'MDA3'!L46),AL46)), AND(AU46>0,AV46>0,AW46>0,AX46=0), MIN(BA46, MAX('MDA1'!K46,'MDA2'!K46, 'MDA5'!K46,MAX('MDA3'!I46,'MDA3'!L46),W46)), AND(AU46>0,AV46>0,AW46>0,AX46>0), MIN(BA46, MAX('MDA1'!K46,'MDA2'!K46, 'MDA5'!K46,MAX('MDA3'!I46,'MDA3'!L46),W46,AL46)))","v":23144},{"$f":"_xlfn.IFS(AND(AU46=0,AV46=0,AW46=0,AX46=0),0,AND(AU46=0,AV46=0,AW46=0,AX46>0),AO46,AND(AU46=0,AV46=0,AW46>0,AX46=0),Z46,AND(AU46=0,AV46=0,AW46>0,AX46>0),MAX(Z46,AO46),AND(AU46=0,AV46>0,AW46=0,AX46=0),MIN(J46*PROFILE!$G$10,MAX('MDA3'!J46,'MDA3'!J46)),AND(AU46=0,AV46>0,AW46=0,AX46>0),MIN(J46*PROFILE!$G$10,MAX('MDA3'!J46,'MDA3'!M46,AO46)),AND(AU46=0,AV46>0,AW46>0,AX46=0),MIN(J46*PROFILE!$G$10,MAX('MDA3'!J46,'MDA3'!M46,Z46)),AND(AU46=0,AV46>0,AW46>0,AX46>0),MIN(J46*PROFILE!$G$10,MAX('MDA3'!J46,'MDA3'!M46,Z46,AO46)),AND(AU46>0,AV46=0,AW46=0,AX46=0), MIN(BB46,MAX('MDA1'!L46,'MDA2'!L46,'MDA5'!L46)),AND(AU46>0,AV46=0,AW46=0,AX46>0), MIN(BB46,MAX('MDA1'!L46,'MDA2'!L46,'MDA5'!L46,AO46)),AND(AU46>0,AV46=0,AW46>0,AX46=0),MIN(BB46,MAX('MDA1'!L46,'MDA2'!L46,'MDA5'!L46,Z46)),AND(AU46>0,AV46=0,AW46>0,AX46>0),MIN(BB46,MAX('MDA1'!L46,'MDA2'!L46,'MDA5'!L46,Z46,AO46)),AND(AU46>0,AV46>0,AW46=0,AX46=0),MIN(BB46, MAX('MDA1'!L46,'MDA2'!L46, 'MDA5'!L46,MAX('MDA3'!J46,'MDA3'!M46))), AND(AU46>0,AV46>0,AW46=0,AX46>0),MIN(BB46, MAX('MDA1'!L46,'MDA2'!L46, 'MDA5'!L46,MAX('MDA3'!J46,'MDA3'!M46),AO46)), AND(AU46>0,AV46>0,AW46>0,AX46=0), MIN(BB46, MAX('MDA1'!L46,'MDA2'!L46, 'MDA5'!L46,MAX('MDA3'!J46,'MDA3'!M46),Z46)), AND(AU46>0,AV46>0,AW46>0,AX46>0), MIN(BB46, MAX('MDA1'!L46,'MDA2'!L46, 'MDA5'!L46,MAX('MDA3'!J46,'MDA3'!M46),Z46,AO46)))","v":0},23144,31.465317997661579]
[{"$f":"IF(COUNTRY_INFO!A47=0,\" \",COUNTRY_INFO!A47)","v":"Mali"},{"$f":"IF(COUNTRY_INFO!B47=0,\" \",COUNTRY_INFO!B47)","v":"Koulikoro"},{"$f":"IF(COUNTRY_INFO!C47=0,\" \",COUNTRY_INFO!C47)","v":"Ouelessebougou"},{"$f":"COUNTRY_INFO!L47","v":0},null,null,{"$f":"MAX('MDA1'!M47,'MDA2'!M47,'MDA5'!M47)","v":0},{"$f":"IF(AND(COUNTRY_INFO!H47>0,COUNTRY_INFO!H47<4),IF(D47>G47,G47,D47),0)","v":0},{"$f":"IF(AND(COUNTRY_INFO!H47>0,COUNTRY_INFO!H47<4), IF(G47/D47*100<>0, IF(G47/D47*100>100,100,G47/D47*100), \"-\"),0)","v":0},{"$f":"COUNTRY_INFO!M47","v":320353.09689599997},127070,120716,{"$f":"MAX('MDA1'!M47,MAX('MDA3'!I47,'MDA3'!L47)+MAX('MDA3'!J47,'MDA3'!M47))","v":247786},{"$f":"IF(AND(COUNTRY_INFO!I47>0,COUNTRY_INFO!I47<4),IF(J47>M47,M47,J47),0)","v":247786},{"$f":"IF(AND(COUNTRY_INFO!I47>0,COUNTRY_INFO!I47<4), IF(M47/J47*100<>0, IF(M47/J47*100>100,100,M47/J47*100), \"-\"),0)","v":77.347777312245469},{"$f":"COUNTRY_INFO!Q47","v":"Non requis"},null,null,{"$f":"MAX('MDA2'!J47,'MDA5'!J47,'T1'!K47, MAX(T3_R1!J47,T3_R2!J47,T3_R3!J47))","v":0},{"$f":"IF(AND(COUNTRY_INFO!J47>1,COUNTRY_INFO!J47<99,COUNTRY_INFO!J47<>4,COUNTRY_INFO!J47<>5),IF(COUNTRY_INFO!N47>S47,S47,COUNTRY_INFO!N47),0)","v":0},{"$f":"IF(AND(COUNTRY_INFO!J47>1,COUNTRY_INFO!J47<99,COUNTRY_INFO!J47<>4,COUNTRY_INFO!J47<>5), IF(T47/COUNTRY_INFO!N47*100<>0, IF(T47/COUNTRY_INFO!N47*100>100,100,T47/COUNTRY_INFO!N47*100), \"-\"),0)","v":0},{"$f":"MAX('MDA1'!K47, 'MDA2'!K47, 'MDA5'!K47,'T1'!L47, MAX(T3_R1!K47,T3_R2!K47,T3_R3!K47))","v":0},{"$f":"IF(AND(COUNTRY_INFO!J47>1,COUNTRY_INFO!J47<99,COUNTRY_INFO!J47<>4,COUNTRY_INFO!J47<>5),IF(COUNTRY_INFO!O47>V47,V47,COUNTRY_INFO!O47),0)","v":0},{"$f":"IF(AND(COUNTRY_INFO!J47>1,COUNTRY_INFO!J47<99,COUNTRY_INFO!J47<>4,COUNTRY_INFO!J47<>5), IF(W47/COUNTRY_INFO!O47*100<>0, IF(W47/COUNTRY_INFO!O47*100>100,100,W47/COUNTRY_INFO!O47*100), \"-\"),0)","v":0},{"$f":"MAX('MDA1'!L47, 'MDA2'!L47, 'MDA5'!L47,'T1'!M47, MAX(T3_R1!L47,T3_R2!L47,T3_R3!L47))","v":0},{"$f":"IF(AND(COUNTRY_INFO!J47>1,COUNTRY_INFO!J47<99,COUNTRY_INFO!J47<>4,COUNTRY_INFO!J47<>5),IF(COUNTRY_INFO!P47>Y47,Y47,COUNTRY_INFO!P47),0)","v":0},{"$f":"IF(AND(COUNTRY_INFO!J47>1,COUNTRY_INFO!J47<99,COUNTRY_INFO!J47<>4,COUNTRY_INFO!J47<>5), IF(Z47/COUNTRY_INFO!P47*100<>0, IF(Z47/COUNTRY_INFO!P47*100>100,100,Z47/COUNTRY_INFO!P47*100), \"-\"),0)","v":0},0,0,{"$f":"IF(AND(COUNTRY_INFO!J47>1,COUNTRY_INFO!J47<99,COUNTRY_INFO!J47<>4,COUNTRY_INFO!J47<>5), IF(AC47/P47*100<>0, IF(AC47/P47*100>100,100,AC47/P47*100), \"-\"),0)","v":0},{"$f":"COUNTRY_INFO!U47","v":80804},null,null,{"$f":"MAX('T1'!K47,'T2'!R47)","v":0},{"$f":"IF(AND(COUNTRY_INFO!K47>1,COUNTRY_INFO!K47<99,COUNTRY_INFO!K47<>4,COUNTRY_INFO!K47<>5),IF(COUNTRY_INFO!R47>AH47,AH47,COUNTRY_INFO!R47),0)","v":0},{"$f":"IF(AND(COUNTRY_INFO!K47>1,COUNTRY_INFO!K47<99,COUNTRY_INFO!K47<>4,COUNTRY_INFO!K47<>5), IF(AI47/COUNTRY_INFO!R47*100<>0, IF(AI47/COUNTRY_INFO!R47*100>100,100,AI47/COUNTRY_INFO!R47*100), \"-\"),0)","v":"-"},{"$f":"MAX('T1'!L47,'T2'!S47)","v":63532},{"$f":"IF(AND(COUNTRY_INFO!K47>1,COUNTRY_INFO!K47<99,COUNTRY_INFO!K47<>4,COUNTRY_INFO!K47<>5),IF(COUNTRY_INFO!S47>AK47,AK47,COUNTRY_INFO!S47),0)","v":25424},{"$f":"IF(AND(COUNTRY_INFO!K47>1,COUNTRY_INFO!K47<99,COUNTRY_INFO!K47<>4,COUNTRY_INFO!K47<>5), IF(AL47/COUNTRY_INFO!S47*100<>0, IF(AL47/COUNTRY_INFO!S47*100>100,100,AL47/COUNTRY_INFO!S47*100), \"-\"),0)","v":100},{"$f":"MAX('T1'!M47,'T2'!T47)","v":0},{"$f":"IF(AND(COUNTRY_INFO!K47>1,COUNTRY_INFO!K47<99,COUNTRY_INFO!K47<>4,COUNTRY_INFO!K47<>5),IF(COUNTRY_INFO!T47>AN47,AN47,COUNTRY_INFO!T47),0)","v":0},{"$f":"IF(AND(COUNTRY_INFO!K47>1,COUNTRY_INFO!K47<99,COUNTRY_INFO!K47<>4,COUNTRY_INFO!K47<>5), IF(AO47/COUNTRY_INFO!T47*100<>0, IF(AO47/COUNTRY_INFO!T47*100>100,100,AO47/COUNTRY_INFO!T47*100), \"-\"),0)","v":"-"},63532,25424,{"$f":"IF(AND(COUNTRY_INFO!K47>1,COUNTRY_INFO!K47<99,COUNTRY_INFO!K47<>4,COUNTRY_INFO!K47<>5), IF(AR47/AE47*100<>0, IF(AR47/AE47*100>100,100,AR47/AE47*100), \"-\"),0)","v":31.46378892134053},null,{"$f":"IF(AND(D47<>0, D47<>\"Inconnu\",D47<>\"Interrompu\",D47<>\"Non requis\"),D47/COUNTRY_INFO!D47, 0)","v":0},{"$f":"IF(AND(J47<>0,J47<>\"Inconnu\",J47<>\"Interrompu\",J47<>\"Non requis\"),J47/COUNTRY_INFO!D47, 0)","v":1},{"$f":"IF(AND(P47<>0,P47<>\"Inconnu\",P47<>\"Surveillance\",P47<>\"Non requis\"),P47/COUNTRY_INFO!Q47, 0)","v":0},{"$f":"IF(AND(AE47<>0,AE47<>\"Inconnu\",AE47<>\"Surveillance\",AE47<>\"Non requis\"),AE47/COUNTRY_INFO!U47, 0)","v":1},{"$f":"IF(AU47>0,D47*PROFILE!$G$7,IF(AV47>0,J47*PROFILE!$G$7,0))","v":16017.686753621329},{"$f":"_xlfn.IFS(OR(AU47>0,AW47>0),COUNTRY_INFO!E47, AV47>0,J47*PROFILE!$G$8,AX47>0,COUNTRY_INFO!R47,COUNTIFS(AU47:AX47,\">0\")=0,0)","v":48052.939466891628},{"$f":"_xlfn.IFS(OR(AU47>0,AW47>0),COUNTRY_INFO!F47, AV47>0,J47*PROFILE!$G$9,AX47>0,COUNTRY_INFO!S47,COUNTIFS(AU47:AX47,\">0\")=0,0)","v":91300.623042713589},{"$f":"_xlfn.IFS(AU47>0,COUNTRY_INFO!G47, AND(AV47>0,AW47=0,AX47=0),J47*PROFILE!$G$10,AND(AV47>0,AW47>0,AX47=0), MAX(J47*PROFILE!$G$10,COUNTRY_INFO!P47),AND(AV47>0,AW47=0,AX47>0), MAX(J47*PROFILE!$G$10,COUNTRY_INFO!T47),AND(AV47=0,AW47>0,AX47>0), MAX(COUNTRY_INFO!P47,COUNTRY_INFO!T47),AND(AV47=0,AW47>0,AX47=0),COUNTRY_INFO!P47,AND(AV47=0,AW47=0,AX47>0),COUNTRY_INFO!T47,AND(AV47>0,AW47>0,AX47>0), MAX(J47*PROFILE!$G$10,COUNTRY_INFO!P47,COUNTRY_INFO!T47),COUNTIFS(AU47:AX47,\">0\")=0,0)","v":164981.84763277342},320353.09689599997,"Y",{"$f":"MAX('MDA2'!J47,'MDA5'!J47,S47,AH47)","v":0},{"$f":"MAX('MDA1'!K47,'MDA2'!K47,'MDA3'!I47,'MDA3'!L47,'MDA5'!K47,V47,AK47)","v":75870},{"$f":"MAX('MDA1'!L47,'MDA2'!L47,'MDA3'!J47,'MDA3'!M47,'MDA5'!L47,Y47,AN47)","v":171916},247786,{"$f":"_xlfn.IFS(AND(AU47=0,AW47=0,AX47=0),0,AND(AU47=0,AW47=0,AX47>0),AI47,AND(AU47=0,AW47>0,AX47=0),T47,AND(AU47=0,AW47>0,AX47>0),MAX(T47,AI47),AND(AU47>0,AW47=0,AX47=0),MIN(MAX('MDA2'!J47,'MDA5'!J47),AZ47),AND(AU47>0,AW47=0,AX47>0),MIN(MAX('MDA2'!J47,'MDA5'!J47,AI47),AZ47),AND(AU47>0,AW47>0,AX47=0),MIN(MAX('MDA2'!J47,'MDA5'!J47,T47),AZ47),AND(AU47>0,AW47>0,AX47>0),MIN(MAX('MDA2'!J47,'MDA5'!J47,AI47,T47),AZ47))","v":0},{"$f":"_xlfn.IFS(AND(AU47=0,AV47=0,AW47=0,AX47=0),0,AND(AU47=0,AV47=0,AW47=0,AX47>0),AL47,AND(AU47=0,AV47=0,AW47>0,AX47=0),W47,AND(AU47=0,AV47=0,AW47>0,AX47>0),MAX(W47,AL47),AND(AU47=0,AV47>0,AW47=0,AX47=0),MIN(J47*PROFILE!$G$9,MAX('MDA3'!I47,'MDA3'!L47)),AND(AU47=0,AV47>0,AW47=0,AX47>0),MIN(J47*PROFILE!$G$9,MAX('MDA3'!I47,'MDA3'!L47,AL47)),AND(AU47=0,AV47>0,AW47>0,AX47=0),MIN(J47*PROFILE!$G$9,MAX('MDA3'!I47,'MDA3'!L47,W47)),AND(AU47=0,AV47>0,AW47>0,AX47>0),MIN(J47*PROFILE!$G$9,MAX('MDA3'!I47,'MDA3'!L47,W47,AL47)),AND(AU47>0,AV47=0,AW47=0,AX47=0), MIN(BA47,MAX('MDA1'!K47,'MDA2'!K47,'MDA5'!K47)),AND(AU47>0,AV47=0,AW47=0,AX47>0), MIN(BA47,MAX('MDA1'!K47,'MDA2'!K47,'MDA5'!K47,AL47)),AND(AU47>0,AV47=0,AW47>0,AX47=0),MIN(BA47,MAX('MDA1'!K47,'MDA2'!KL47,'MDA5'!K47,W47)),AND(AU47>0,AV47=0,AW47>0,AX47>0),MIN(BA47,MAX('MDA1'!K47,'MDA2'!K47,'MDA5'!K47,W47,AL47)),AND(AU47>0,AV47>0,AW47=0,AX47=0),MIN(BA47, MAX('MDA1'!K47,'MDA2'!K47, 'MDA5'!K47,MAX('MDA3'!I47,'MDA3'!L47))), AND(AU47>0,AV47>0,AW47=0,AX47>0),MIN(BA47, MAX('MDA1'!K47,'MDA2'!K47, 'MDA5'!K47,MAX('MDA3'!I47,'MDA3'!L47),AL47)), AND(AU47>0,AV47>0,AW47>0,AX47=0), MIN(BA47, MAX('MDA1'!K47,'MDA2'!K47, 'MDA5'!K47,MAX('MDA3'!I47,'MDA3'!L47),W47)), AND(AU47>0,AV47>0,AW47>0,AX47>0), MIN(BA47, MAX('MDA1'!K47,'MDA2'!K47, 'MDA5'!K47,MAX('MDA3'!I47,'MDA3'!L47),W47,AL47)))","v":75870},{"$f":"_xlfn.IFS(AND(AU47=0,AV47=0,AW47=0,AX47=0),0,AND(AU47=0,AV47=0,AW47=0,AX47>0),AO47,AND(AU47=0,AV47=0,AW47>0,AX47=0),Z47,AND(AU47=0,AV47=0,AW47>0,AX47>0),MAX(Z47,AO47),AND(AU47=0,AV47>0,AW47=0,AX47=0),MIN(J47*PROFILE!$G$10,MAX('MDA3'!J47,'MDA3'!J47)),AND(AU47=0,AV47>0,AW47=0,AX47>0),MIN(J47*PROFILE!$G$10,MAX('MDA3'!J47,'MDA3'!M47,AO47)),AND(AU47=0,AV47>0,AW47>0,AX47=0),MIN(J47*PROFILE!$G$10,MAX('MDA3'!J47,'MDA3'!M47,Z47)),AND(AU47=0,AV47>0,AW47>0,AX47>0),MIN(J47*PROFILE!$G$10,MAX('MDA3'!J47,'MDA3'!M47,Z47,AO47)),AND(AU47>0,AV47=0,AW47=0,AX47=0), MIN(BB47,MAX('MDA1'!L47,'MDA2'!L47,'MDA5'!L47)),AND(AU47>0,AV47=0,AW47=0,AX47>0), MIN(BB47,MAX('MDA1'!L47,'MDA2'!L47,'MDA5'!L47,AO47)),AND(AU47>0,AV47=0,AW47>0,AX47=0),MIN(BB47,MAX('MDA1'!L47,'MDA2'!L47,'MDA5'!L47,Z47)),AND(AU47>0,AV47=0,AW47>0,AX47>0),MIN(BB47,MAX('MDA1'!L47,'MDA2'!L47,'MDA5'!L47,Z47,AO47)),AND(AU47>0,AV47>0,AW47=0,AX47=0),MIN(BB47, MAX('MDA1'!L47,'MDA2'!L47, 'MDA5'!L47,MAX('MDA3'!J47,'MDA3'!M47))), AND(AU47>0,AV47>0,AW47=0,AX47>0),MIN(BB47, MAX('MDA1'!L47,'MDA2'!L47, 'MDA5'!L47,MAX('MDA3'!J47,'MDA3'!M47),AO47)), AND(AU47>0,AV47>0,AW47>0,AX47=0), MIN(BB47, MAX('MDA1'!L47,'MDA2'!L47, 'MDA5'!L47,MAX('MDA3'!J47,'MDA3'!M47),Z47)), AND(AU47>0,AV47>0,AW47>0,AX47>0), MIN(BB47, MAX('MDA1'!L47,'MDA2'!L47, 'MDA5'!L47,MAX('MDA3'!J47,'MDA3'!M47),Z47,AO47)))","v":164981.84763277342},240851.84763277342,75.183243104705809]
[{"$f":"IF(COUNTRY_INFO!A48=0,\" \",COUNTRY_INFO!A48)","v":"Mali"},{"$f":"IF(COUNTRY_INFO!B48=0,\" \",COUNTRY_INFO!B48)","v":"Mopti"},{"$f":"IF(COUNTRY_INFO!C48=0,\" \",COUNTRY_INFO!C48)","v":"Bandiagara"},{"$f":"COUNTRY_INFO!L48","v":0},null,null,{"$f":"MAX('MDA1'!M48,'MDA2'!M48,'MDA5'!M48)","v":0},{"$f":"IF(AND(COUNTRY_INFO!H48>0,COUNTRY_INFO!H48<4),IF(D48>G48,G48,D48),0)","v":0},{"$f":"IF(AND(COUNTRY_INFO!H48>0,COUNTRY_INFO!H48<4), IF(G48/D48*100<>0, IF(G48/D48*100>100,100,G48/D48*100), \"-\"),0)","v":0},{"$f":"COUNTRY_INFO!M48","v":0},null,null,{"$f":"MAX('MDA1'!M48,MAX('MDA3'!I48,'MDA3'!L48)+MAX('MDA3'!J48,'MDA3'!M48))","v":0},{"$f":"IF(AND(COUNTRY_INFO!I48>0,COUNTRY_INFO!I48<4),IF(J48>M48,M48,J48),0)","v":0},{"$f":"IF(AND(COUNTRY_INFO!I48>0,COUNTRY_INFO!I48<4), IF(M48/J48*100<>0, IF(M48/J48*100>100,100,M48/J48*100), \"-\"),0)","v":0},{"$f":"COUNTRY_INFO!Q48","v":"Non requis"},null,null,{"$f":"MAX('MDA2'!J48,'MDA5'!J48,'T1'!K48, MAX(T3_R1!J48,T3_R2!J48,T3_R3!J48))","v":0},{"$f":"IF(AND(COUNTRY_INFO!J48>1,COUNTRY_INFO!J48<99,COUNTRY_INFO!J48<>4,COUNTRY_INFO!J48<>5),IF(COUNTRY_INFO!N48>S48,S48,COUNTRY_INFO!N48),0)","v":0},{"$f":"IF(AND(COUNTRY_INFO!J48>1,COUNTRY_INFO!J48<99,COUNTRY_INFO!J48<>4,COUNTRY_INFO!J48<>5), IF(T48/COUNTRY_INFO!N48*100<>0, IF(T48/COUNTRY_INFO!N48*100>100,100,T48/COUNTRY_INFO!N48*100), \"-\"),0)","v":0},{"$f":"MAX('MDA1'!K48, 'MDA2'!K48, 'MDA5'!K48,'T1'!L48, MAX(T3_R1!K48,T3_R2!K48,T3_R3!K48))","v":0},{"$f":"IF(AND(COUNTRY_INFO!J48>1,COUNTRY_INFO!J48<99,COUNTRY_INFO!J48<>4,COUNTRY_INFO!J48<>5),IF(COUNTRY_INFO!O48>V48,V48,COUNTRY_INFO!O48),0)","v":0},{"$f":"IF(AND(COUNTRY_INFO!J48>1,COUNTRY_INFO!J48<99,COUNTRY_INFO!J48<>4,COUNTRY_INFO!J48<>5), IF(W48/COUNTRY_INFO!O48*100<>0, IF(W48/COUNTRY_INFO!O48*100>100,100,W48/COUNTRY_INFO!O48*100), \"-\"),0)","v":0},{"$f":"MAX('MDA1'!L48, 'MDA2'!L48, 'MDA5'!L48,'T1'!M48, MAX(T3_R1!L48,T3_R2!L48,T3_R3!L48))","v":0},{"$f":"IF(AND(COUNTRY_INFO!J48>1,COUNTRY_INFO!J48<99,COUNTRY_INFO!J48<>4,COUNTRY_INFO!J48<>5),IF(COUNTRY_INFO!P48>Y48,Y48,COUNTRY_INFO!P48),0)","v":0},{"$f":"IF(AND(COUNTRY_INFO!J48>1,COUNTRY_INFO!J48<99,COUNTRY_INFO!J48<>4,COUNTRY_INFO!J48<>5), IF(Z48/COUNTRY_INFO!P48*100<>0, IF(Z48/COUNTRY_INFO!P48*100>100,100,Z48/COUNTRY_INFO!P48*100), \"-\"),0)","v":0},0,0,{"$f":"IF(AND(COUNTRY_INFO!J48>1,COUNTRY_INFO!J48<99,COUNTRY_INFO!J48<>4,COUNTRY_INFO!J48<>5), IF(AC48/P48*100<>0, IF(AC48/P48*100>100,100,AC48/P48*100), \"-\"),0)","v":0},{"$f":"COUNTRY_INFO!U48","v":456993},null,null,{"$f":"MAX('T1'!K48,'T2'!R48)","v":0},{"$f":"IF(AND(COUNTRY_INFO!K48>1,COUNTRY_INFO!K48<99,COUNTRY_INFO!K48<>4,COUNTRY_INFO!K48<>5),IF(COUNTRY_INFO!R48>AH48,AH48,COUNTRY_INFO!R48),0)","v":0},{"$f":"IF(AND(COUNTRY_INFO!K48>1,COUNTRY_INFO!K48<99,COUNTRY_INFO!K48<>4,COUNTRY_INFO!K48<>5), IF(AI48/COUNTRY_INFO!R48*100<>0, IF(AI48/COUNTRY_INFO!R48*100>100,100,AI48/COUNTRY_INFO!R48*100), \"-\"),0)","v":"-"},{"$f":"MAX('T1'!L48,'T2'!S48)","v":149665},{"$f":"IF(AND(COUNTRY_INFO!K48>1,COUNTRY_INFO!K48<99,COUNTRY_INFO!K48<>4,COUNTRY_INFO!K48<>5),IF(COUNTRY_INFO!S48>AK48,AK48,COUNTRY_INFO!S48),0)","v":143790},{"$f":"IF(AND(COUNTRY_INFO!K48>1,COUNTRY_INFO!K48<99,COUNTRY_INFO!K48<>4,COUNTRY_INFO!K48<>5), IF(AL48/COUNTRY_INFO!S48*100<>0, IF(AL48/COUNTRY_INFO!S48*100>100,100,AL48/COUNTRY_INFO!S48*100), \"-\"),0)","v":100},{"$f":"MAX('T1'!M48,'T2'!T48)","v":181003},{"$f":"IF(AND(COUNTRY_INFO!K48>1,COUNTRY_INFO!K48<99,COUNTRY_INFO!K48<>4,COUNTRY_INFO!K48<>5),IF(COUNTRY_INFO!T48>AN48,AN48,COUNTRY_INFO!T48),0)","v":181003},{"$f":"IF(AND(COUNTRY_INFO!K48>1,COUNTRY_INFO!K48<99,COUNTRY_INFO!K48<>4,COUNTRY_INFO!K48<>5), IF(AO48/COUNTRY_INFO!T48*100<>0, IF(AO48/COUNTRY_INFO!T48*100>100,100,AO48/COUNTRY_INFO!T48*100), \"-\"),0)","v":69.6626229659621},330668,324793,{"$f":"IF(AND(COUNTRY_INFO!K48>1,COUNTRY_INFO!K48<99,COUNTRY_INFO!K48<>4,COUNTRY_INFO!K48<>5), IF(AR48/AE48*100<>0, IF(AR48/AE48*100>100,100,AR48/AE48*100), \"-\"),0)","v":71.071766963607757},null,{"$f":"IF(AND(D48<>0, D48<>\"Inconnu\",D48<>\"Interrompu\",D48<>\"Non requis\"),D48/COUNTRY_INFO!D48, 0)","v":0},{"$f":"IF(AND(J48<>0,J48<>\"Inconnu\",J48<>\"Interrompu\",J48<>\"Non requis\"),J48/COUNTRY_INFO!D48, 0)","v":0},{"$f":"IF(AND(P48<>0,P48<>\"Inconnu\",P48<>\"Surveillance\",P48<>\"Non requis\"),P48/COUNTRY_INFO!Q48, 0)","v":0},{"$f":"IF(AND(AE48<>0,AE48<>\"Inconnu\",AE48<>\"Surveillance\",AE48<>\"Non requis\"),AE48/COUNTRY_INFO!U48, 0)","v":1},{"$f":"IF(AU48>0,D48*PROFILE!$G$7,IF(AV48>0,J48*PROFILE!$G$7,0))","v":0},{"$f":"_xlfn.IFS(OR(AU48>0,AW48>0),COUNTRY_INFO!E48, AV48>0,J48*PROFILE!$G$8,AX48>0,COUNTRY_INFO!R48,COUNTIFS(AU48:AX48,\">0\")=0,0)","v":53375},{"$f":"_xlfn.IFS(OR(AU48>0,AW48>0),COUNTRY_INFO!F48, AV48>0,J48*PROFILE!$G$9,AX48>0,COUNTRY_INFO!S48,COUNTIFS(AU48:AX48,\">0\")=0,0)","v":143790},{"$f":"_xlfn.IFS(AU48>0,COUNTRY_INFO!G48, AND(AV48>0,AW48=0,AX48=0),J48*PROFILE!$G$10,AND(AV48>0,AW48>0,AX48=0), MAX(J48*PROFILE!$G$10,COUNTRY_INFO!P48),AND(AV48>0,AW48=0,AX48>0), MAX(J48*PROFILE!$G$10,COUNTRY_INFO!T48),AND(AV48=0,AW48>0,AX48>0), MAX(COUNTRY_INFO!P48,COUNTRY_INFO!T48),AND(AV48=0,AW48>0,AX48=0),COUNTRY_INFO!P48,AND(AV48=0,AW48=0,AX48>0),COUNTRY_INFO!T48,AND(AV48>0,AW48>0,AX48>0), MAX(J48*PROFILE!$G$10,COUNTRY_INFO!P48,COUNTRY_INFO!T48),COUNTIFS(AU48:AX48,\">0\")=0,0)","v":259828},456993,"Y",{"$f":"MAX('MDA2'!J48,'MDA5'!J48,S48,AH48)","v":0},{"$f":"MAX('MDA1'!K48,'MDA2'!K48,'MDA3'!I48,'MDA3'!L48,'MDA5'!K48,V48,AK48)","v":149665},{"$f":"MAX('MDA1'!L48,'MDA2'!L48,'MDA3'!J48,'MDA3'!M48,'MDA5'!L48,Y48,AN48)","v":181003},330668,{"$f":"_xlfn.IFS(AND(AU48=0,AW48=0,AX48=0),0,AND(AU48=0,AW48=0,AX48>0),AI48,AND(AU48=0,AW48>0,AX48=0),T48,AND(AU48=0,AW48>0,AX48>0),MAX(T48,AI48),AND(AU48>0,AW48=0,AX48=0),MIN(MAX('MDA2'!J48,'MDA5'!J48),AZ48),AND(AU48>0,AW48=0,AX48>0),MIN(MAX('MDA2'!J48,'MDA5'!J48,AI48),AZ48),AND(AU48>0,AW48>0,AX48=0),MIN(MAX('MDA2'!J48,'MDA5'!J48,T48),AZ48),AND(AU48>0,AW48>0,AX48>0),MIN(MAX('MDA2'!J48,'MDA5'!J48,AI48,T48),AZ48))","v":0},{"$f":"_xlfn.IFS(AND(AU48=0,AV48=0,AW48=0,AX48=0),0,AND(AU48=0,AV48=0,AW48=0,AX48>0),AL48,AND(AU48=0,AV48=0,AW48>0,AX48=0),W48,AND(AU48=0,AV48=0,AW48>0,AX48>0),MAX(W48,AL48),AND(AU48=0,AV48>0,AW48=0,AX48=0),MIN(J48*PROFILE!$G$9,MAX('MDA3'!I48,'MDA3'!L48)),AND(AU48=0,AV48>0,AW48=0,AX48>0),MIN(J48*PROFILE!$G$9,MAX('MDA3'!I48,'MDA3'!L48,AL48)),AND(AU48=0,AV48>0,AW48>0,AX48=0),MIN(J48*PROFILE!$G$9,MAX('MDA3'!I48,'MDA3'!L48,W48)),AND(AU48=0,AV48>0,AW48>0,AX48>0),MIN(J48*PROFILE!$G$9,MAX('MDA3'!I48,'MDA3'!L48,W48,AL48)),AND(AU48>0,AV48=0,AW48=0,AX48=0), MIN(BA48,MAX('MDA1'!K48,'MDA2'!K48,'MDA5'!K48)),AND(AU48>0,AV48=0,AW48=0,AX48>0), MIN(BA48,MAX('MDA1'!K48,'MDA2'!K48,'MDA5'!K48,AL48)),AND(AU48>0,AV48=0,AW48>0,AX48=0),MIN(BA48,MAX('MDA1'!K48,'MDA2'!KL48,'MDA5'!K48,W48)),AND(AU48>0,AV48=0,AW48>0,AX48>0),MIN(BA48,MAX('MDA1'!K48,'MDA2'!K48,'MDA5'!K48,W48,AL48)),AND(AU48>0,AV48>0,AW48=0,AX48=0),MIN(BA48, MAX('MDA1'!K48,'MDA2'!K48, 'MDA5'!K48,MAX('MDA3'!I48,'MDA3'!L48))), AND(AU48>0,AV48>0,AW48=0,AX48>0),MIN(BA48, MAX('MDA1'!K48,'MDA2'!K48, 'MDA5'!K48,MAX('MDA3'!I48,'MDA3'!L48),AL48)), AND(AU48>0,AV48>0,AW48>0,AX48=0), MIN(BA48, MAX('MDA1'!K48,'MDA2'!K48, 'MDA5'!K48,MAX('MDA3'!I48,'MDA3'!L48),W48)), AND(AU48>0,AV48>0,AW48>0,AX48>0), MIN(BA48, MAX('MDA1'!K48,'MDA2'!K48, 'MDA5'!K48,MAX('MDA3'!I48,'MDA3'!L48),W48,AL48)))","v":143790},{"$f":"_xlfn.IFS(AND(AU48=0,AV48=0,AW48=0,AX48=0),0,AND(AU48=0,AV48=0,AW48=0,AX48>0),AO48,AND(AU48=0,AV48=0,AW48>0,AX48=0),Z48,AND(AU48=0,AV48=0,AW48>0,AX48>0),MAX(Z48,AO48),AND(AU48=0,AV48>0,AW48=0,AX48=0),MIN(J48*PROFILE!$G$10,MAX('MDA3'!J48,'MDA3'!J48)),AND(AU48=0,AV48>0,AW48=0,AX48>0),MIN(J48*PROFILE!$G$10,MAX('MDA3'!J48,'MDA3'!M48,AO48)),AND(AU48=0,AV48>0,AW48>0,AX48=0),MIN(J48*PROFILE!$G$10,MAX('MDA3'!J48,'MDA3'!M48,Z48)),AND(AU48=0,AV48>0,AW48>0,AX48>0),MIN(J48*PROFILE!$G$10,MAX('MDA3'!J48,'MDA3'!M48,Z48,AO48)),AND(AU48>0,AV48=0,AW48=0,AX48=0), MIN(BB48,MAX('MDA1'!L48,'MDA2'!L48,'MDA5'!L48)),AND(AU48>0,AV48=0,AW48=0,AX48>0), MIN(BB48,MAX('MDA1'!L48,'MDA2'!L48,'MDA5'!L48,AO48)),AND(AU48>0,AV48=0,AW48>0,AX48=0),MIN(BB48,MAX('MDA1'!L48,'MDA2'!L48,'MDA5'!L48,Z48)),AND(AU48>0,AV48=0,AW48>0,AX48>0),MIN(BB48,MAX('MDA1'!L48,'MDA2'!L48,'MDA5'!L48,Z48,AO48)),AND(AU48>0,AV48>0,AW48=0,AX48=0),MIN(BB48, MAX('MDA1'!L48,'MDA2'!L48, 'MDA5'!L48,MAX('MDA3'!J48,'MDA3'!M48))), AND(AU48>0,AV48>0,AW48=0,AX48>0),MIN(BB48, MAX('MDA1'!L48,'MDA2'!L48, 'MDA5'!L48,MAX('MDA3'!J48,'MDA3'!M48),AO48)), AND(AU48>0,AV48>0,AW48>0,AX48=0), MIN(BB48, MAX('MDA1'!L48,'MDA2'!L48, 'MDA5'!L48,MAX('MDA3'!J48,'MDA3'!M48),Z48)), AND(AU48>0,AV48>0,AW48>0,AX48>0), MIN(BB48, MAX('MDA1'!L48,'MDA2'!L48, 'MDA5'!L48,MAX('MDA3'!J48,'MDA3'!M48),Z48,AO48)))","v":181003},324793,71.071766963607757]
[{"$f":"IF(COUNTRY_INFO!A49=0,\" \",COUNTRY_INFO!A49)","v":"Mali"},{"$f":"IF(COUNTRY_INFO!B49=0,\" \",COUNTRY_INFO!B49)","v":"Mopti"},{"$f":"IF(COUNTRY_INFO!C49=0,\" \",COUNTRY_INFO!C49)","v":"Bankass"},{"$f":"COUNTRY_INFO!L49","v":0},null,null,{"$f":"MAX('MDA1'!M49,'MDA2'!M49,'MDA5'!M49)","v":0},{"$f":"IF(AND(COUNTRY_INFO!H49>0,COUNTRY_INFO!H49<4),IF(D49>G49,G49,D49),0)","v":0},{"$f":"IF(AND(COUNTRY_INFO!H49>0,COUNTRY_INFO!H49<4), IF(G49/D49*100<>0, IF(G49/D49*100>100,100,G49/D49*100), \"-\"),0)","v":0},{"$f":"COUNTRY_INFO!M49","v":0},null,null,{"$f":"MAX('MDA1'!M49,MAX('MDA3'!I49,'MDA3'!L49)+MAX('MDA3'!J49,'MDA3'!M49))","v":0},{"$f":"IF(AND(COUNTRY_INFO!I49>0,COUNTRY_INFO!I49<4),IF(J49>M49,M49,J49),0)","v":0},{"$f":"IF(AND(COUNTRY_INFO!I49>0,COUNTRY_INFO!I49<4), IF(M49/J49*100<>0, IF(M49/J49*100>100,100,M49/J49*100), \"-\"),0)","v":0},{"$f":"COUNTRY_INFO!Q49","v":"Non requis"},null,null,{"$f":"MAX('MDA2'!J49,'MDA5'!J49,'T1'!K49, MAX(T3_R1!J49,T3_R2!J49,T3_R3!J49))","v":0},{"$f":"IF(AND(COUNTRY_INFO!J49>1,COUNTRY_INFO!J49<99,COUNTRY_INFO!J49<>4,COUNTRY_INFO!J49<>5),IF(COUNTRY_INFO!N49>S49,S49,COUNTRY_INFO!N49),0)","v":0},{"$f":"IF(AND(COUNTRY_INFO!J49>1,COUNTRY_INFO!J49<99,COUNTRY_INFO!J49<>4,COUNTRY_INFO!J49<>5), IF(T49/COUNTRY_INFO!N49*100<>0, IF(T49/COUNTRY_INFO!N49*100>100,100,T49/COUNTRY_INFO!N49*100), \"-\"),0)","v":0},{"$f":"MAX('MDA1'!K49, 'MDA2'!K49, 'MDA5'!K49,'T1'!L49, MAX(T3_R1!K49,T3_R2!K49,T3_R3!K49))","v":0},{"$f":"IF(AND(COUNTRY_INFO!J49>1,COUNTRY_INFO!J49<99,COUNTRY_INFO!J49<>4,COUNTRY_INFO!J49<>5),IF(COUNTRY_INFO!O49>V49,V49,COUNTRY_INFO!O49),0)","v":0},{"$f":"IF(AND(COUNTRY_INFO!J49>1,COUNTRY_INFO!J49<99,COUNTRY_INFO!J49<>4,COUNTRY_INFO!J49<>5), IF(W49/COUNTRY_INFO!O49*100<>0, IF(W49/COUNTRY_INFO!O49*100>100,100,W49/COUNTRY_INFO!O49*100), \"-\"),0)","v":0},{"$f":"MAX('MDA1'!L49, 'MDA2'!L49, 'MDA5'!L49,'T1'!M49, MAX(T3_R1!L49,T3_R2!L49,T3_R3!L49))","v":0},{"$f":"IF(AND(COUNTRY_INFO!J49>1,COUNTRY_INFO!J49<99,COUNTRY_INFO!J49<>4,COUNTRY_INFO!J49<>5),IF(COUNTRY_INFO!P49>Y49,Y49,COUNTRY_INFO!P49),0)","v":0},{"$f":"IF(AND(COUNTRY_INFO!J49>1,COUNTRY_INFO!J49<99,COUNTRY_INFO!J49<>4,COUNTRY_INFO!J49<>5), IF(Z49/COUNTRY_INFO!P49*100<>0, IF(Z49/COUNTRY_INFO!P49*100>100,100,Z49/COUNTRY_INFO!P49*100), \"-\"),0)","v":0},0,0,{"$f":"IF(AND(COUNTRY_INFO!J49>1,COUNTRY_INFO!J49<99,COUNTRY_INFO!J49<>4,COUNTRY_INFO!J49<>5), IF(AC49/P49*100<>0, IF(AC49/P49*100>100,100,AC49/P49*100), \"-\"),0)","v":0},{"$f":"COUNTRY_INFO!U49","v":384510},null,null,{"$f":"MAX('T1'!K49,'T2'!R49)","v":0},{"$f":"IF(AND(COUNTRY_INFO!K49>1,COUNTRY_INFO!K49<99,COUNTRY_INFO!K49<>4,COUNTRY_INFO!K49<>5),IF(COUNTRY_INFO!R49>AH49,AH49,COUNTRY_INFO!R49),0)","v":0},{"$f":"IF(AND(COUNTRY_INFO!K49>1,COUNTRY_INFO!K49<99,COUNTRY_INFO!K49<>4,COUNTRY_INFO!K49<>5), IF(AI49/COUNTRY_INFO!R49*100<>0, IF(AI49/COUNTRY_INFO!R49*100>100,100,AI49/COUNTRY_INFO!R49*100), \"-\"),0)","v":"-"},{"$f":"MAX('T1'!L49,'T2'!S49)","v":79399},{"$f":"IF(AND(COUNTRY_INFO!K49>1,COUNTRY_INFO!K49<99,COUNTRY_INFO!K49<>4,COUNTRY_INFO!K49<>5),IF(COUNTRY_INFO!S49>AK49,AK49,COUNTRY_INFO!S49),0)","v":79399},{"$f":"IF(AND(COUNTRY_INFO!K49>1,COUNTRY_INFO!K49<99,COUNTRY_INFO!K49<>4,COUNTRY_INFO!K49<>5), IF(AL49/COUNTRY_INFO!S49*100<>0, IF(AL49/COUNTRY_INFO!S49*100>100,100,AL49/COUNTRY_INFO!S49*100), \"-\"),0)","v":65.630398664230981},{"$f":"MAX('T1'!M49,'T2'!T49)","v":123901},{"$f":"IF(AND(COUNTRY_INFO!K49>1,COUNTRY_INFO!K49<99,COUNTRY_INFO!K49<>4,COUNTRY_INFO!K49<>5),IF(COUNTRY_INFO!T49>AN49,AN49,COUNTRY_INFO!T49),0)","v":123901},{"$f":"IF(AND(COUNTRY_INFO!K49>1,COUNTRY_INFO!K49<99,COUNTRY_INFO!K49<>4,COUNTRY_INFO!K49<>5), IF(AO49/COUNTRY_INFO!T49*100<>0, IF(AO49/COUNTRY_INFO!T49*100>100,100,AO49/COUNTRY_INFO!T49*100), \"-\"),0)","v":56.674915491475964},203300,203300,{"$f":"IF(AND(COUNTRY_INFO!K49>1,COUNTRY_INFO!K49<99,COUNTRY_INFO!K49<>4,COUNTRY_INFO!K49<>5), IF(AR49/AE49*100<>0, IF(AR49/AE49*100>100,100,AR49/AE49*100), \"-\"),0)","v":52.872487061454841},null,{"$f":"IF(AND(D49<>0, D49<>\"Inconnu\",D49<>\"Interrompu\",D49<>\"Non requis\"),D49/COUNTRY_INFO!D49, 0)","v":0},{"$f":"IF(AND(J49<>0,J49<>\"Inconnu\",J49<>\"Interrompu\",J49<>\"Non requis\"),J49/COUNTRY_INFO!D49, 0)","v":0},{"$f":"IF(AND(P49<>0,P49<>\"Inconnu\",P49<>\"Surveillance\",P49<>\"Non requis\"),P49/COUNTRY_INFO!Q49, 0)","v":0},{"$f":"IF(AND(AE49<>0,AE49<>\"Inconnu\",AE49<>\"Surveillance\",AE49<>\"Non requis\"),AE49/COUNTRY_INFO!U49, 0)","v":1},{"$f":"IF(AU49>0,D49*PROFILE!$G$7,IF(AV49>0,J49*PROFILE!$G$7,0))","v":0},{"$f":"_xlfn.IFS(OR(AU49>0,AW49>0),COUNTRY_INFO!E49, AV49>0,J49*PROFILE!$G$8,AX49>0,COUNTRY_INFO!R49,COUNTIFS(AU49:AX49,\">0\")=0,0)","v":44914},{"$f":"_xlfn.IFS(OR(AU49>0,AW49>0),COUNTRY_INFO!F49, AV49>0,J49*PROFILE!$G$9,AX49>0,COUNTRY_INFO!S49,COUNTIFS(AU49:AX49,\">0\")=0,0)","v":120979},{"$f":"_xlfn.IFS(AU49>0,COUNTRY_INFO!G49, AND(AV49>0,AW49=0,AX49=0),J49*PROFILE!$G$10,AND(AV49>0,AW49>0,AX49=0), MAX(J49*PROFILE!$G$10,COUNTRY_INFO!P49),AND(AV49>0,AW49=0,AX49>0), MAX(J49*PROFILE!$G$10,COUNTRY_INFO!T49),AND(AV49=0,AW49>0,AX49>0), MAX(COUNTRY_INFO!P49,COUNTRY_INFO!T49),AND(AV49=0,AW49>0,AX49=0),COUNTRY_INFO!P49,AND(AV49=0,AW49=0,AX49>0),COUNTRY_INFO!T49,AND(AV49>0,AW49>0,AX49>0), MAX(J49*PROFILE!$G$10,COUNTRY_INFO!P49,COUNTRY_INFO!T49),COUNTIFS(AU49:AX49,\">0\")=0,0)","v":218617},384510,"Y",{"$f":"MAX('MDA2'!J49,'MDA5'!J49,S49,AH49)","v":0},{"$f":"MAX('MDA1'!K49,'MDA2'!K49,'MDA3'!I49,'MDA3'!L49,'MDA5'!K49,V49,AK49)","v":79399},{"$f":"MAX('MDA1'!L49,'MDA2'!L49,'MDA3'!J49,'MDA3'!M49,'MDA5'!L49,Y49,AN49)","v":123901},203300,{"$f":"_xlfn.IFS(AND(AU49=0,AW49=0,AX49=0),0,AND(AU49=0,AW49=0,AX49>0),AI49,AND(AU49=0,AW49>0,AX49=0),T49,AND(AU49=0,AW49>0,AX49>0),MAX(T49,AI49),AND(AU49>0,AW49=0,AX49=0),MIN(MAX('MDA2'!J49,'MDA5'!J49),AZ49),AND(AU49>0,AW49=0,AX49>0),MIN(MAX('MDA2'!J49,'MDA5'!J49,AI49),AZ49),AND(AU49>0,AW49>0,AX49=0),MIN(MAX('MDA2'!J49,'MDA5'!J49,T49),AZ49),AND(AU49>0,AW49>0,AX49>0),MIN(MAX('MDA2'!J49,'MDA5'!J49,AI49,T49),AZ49))","v":0},{"$f":"_xlfn.IFS(AND(AU49=0,AV49=0,AW49=0,AX49=0),0,AND(AU49=0,AV49=0,AW49=0,AX49>0),AL49,AND(AU49=0,AV49=0,AW49>0,AX49=0),W49,AND(AU49=0,AV49=0,AW49>0,AX49>0),MAX(W49,AL49),AND(AU49=0,AV49>0,AW49=0,AX49=0),MIN(J49*PROFILE!$G$9,MAX('MDA3'!I49,'MDA3'!L49)),AND(AU49=0,AV49>0,AW49=0,AX49>0),MIN(J49*PROFILE!$G$9,MAX('MDA3'!I49,'MDA3'!L49,AL49)),AND(AU49=0,AV49>0,AW49>0,AX49=0),MIN(J49*PROFILE!$G$9,MAX('MDA3'!I49,'MDA3'!L49,W49)),AND(AU49=0,AV49>0,AW49>0,AX49>0),MIN(J49*PROFILE!$G$9,MAX('MDA3'!I49,'MDA3'!L49,W49,AL49)),AND(AU49>0,AV49=0,AW49=0,AX49=0), MIN(BA49,MAX('MDA1'!K49,'MDA2'!K49,'MDA5'!K49)),AND(AU49>0,AV49=0,AW49=0,AX49>0), MIN(BA49,MAX('MDA1'!K49,'MDA2'!K49,'MDA5'!K49,AL49)),AND(AU49>0,AV49=0,AW49>0,AX49=0),MIN(BA49,MAX('MDA1'!K49,'MDA2'!KL49,'MDA5'!K49,W49)),AND(AU49>0,AV49=0,AW49>0,AX49>0),MIN(BA49,MAX('MDA1'!K49,'MDA2'!K49,'MDA5'!K49,W49,AL49)),AND(AU49>0,AV49>0,AW49=0,AX49=0),MIN(BA49, MAX('MDA1'!K49,'MDA2'!K49, 'MDA5'!K49,MAX('MDA3'!I49,'MDA3'!L49))), AND(AU49>0,AV49>0,AW49=0,AX49>0),MIN(BA49, MAX('MDA1'!K49,'MDA2'!K49, 'MDA5'!K49,MAX('MDA3'!I49,'MDA3'!L49),AL49)), AND(AU49>0,AV49>0,AW49>0,AX49=0), MIN(BA49, MAX('MDA1'!K49,'MDA2'!K49, 'MDA5'!K49,MAX('MDA3'!I49,'MDA3'!L49),W49)), AND(AU49>0,AV49>0,AW49>0,AX49>0), MIN(BA49, MAX('MDA1'!K49,'MDA2'!K49, 'MDA5'!K49,MAX('MDA3'!I49,'MDA3'!L49),W49,AL49)))","v":79399},{"$f":"_xlfn.IFS(AND(AU49=0,AV49=0,AW49=0,AX49=0),0,AND(AU49=0,AV49=0,AW49=0,AX49>0),AO49,AND(AU49=0,AV49=0,AW49>0,AX49=0),Z49,AND(AU49=0,AV49=0,AW49>0,AX49>0),MAX(Z49,AO49),AND(AU49=0,AV49>0,AW49=0,AX49=0),MIN(J49*PROFILE!$G$10,MAX('MDA3'!J49,'MDA3'!J49)),AND(AU49=0,AV49>0,AW49=0,AX49>0),MIN(J49*PROFILE!$G$10,MAX('MDA3'!J49,'MDA3'!M49,AO49)),AND(AU49=0,AV49>0,AW49>0,AX49=0),MIN(J49*PROFILE!$G$10,MAX('MDA3'!J49,'MDA3'!M49,Z49)),AND(AU49=0,AV49>0,AW49>0,AX49>0),MIN(J49*PROFILE!$G$10,MAX('MDA3'!J49,'MDA3'!M49,Z49,AO49)),AND(AU49>0,AV49=0,AW49=0,AX49=0), MIN(BB49,MAX('MDA1'!L49,'MDA2'!L49,'MDA5'!L49)),AND(AU49>0,AV49=0,AW49=0,AX49>0), MIN(BB49,MAX('MDA1'!L49,'MDA2'!L49,'MDA5'!L49,AO49)),AND(AU49>0,AV49=0,AW49>0,AX49=0),MIN(BB49,MAX('MDA1'!L49,'MDA2'!L49,'MDA5'!L49,Z49)),AND(AU49>0,AV49=0,AW49>0,AX49>0),MIN(BB49,MAX('MDA1'!L49,'MDA2'!L49,'MDA5'!L49,Z49,AO49)),AND(AU49>0,AV49>0,AW49=0,AX49=0),MIN(BB49, MAX('MDA1'!L49,'MDA2'!L49, 'MDA5'!L49,MAX('MDA3'!J49,'MDA3'!M49))), AND(AU49>0,AV49>0,AW49=0,AX49>0),MIN(BB49, MAX('MDA1'!L49,'MDA2'!L49, 'MDA5'!L49,MAX('MDA3'!J49,'MDA3'!M49),AO49)), AND(AU49>0,AV49>0,AW49>0,AX49=0), MIN(BB49, MAX('MDA1'!L49,'MDA2'!L49, 'MDA5'!L49,MAX('MDA3'!J49,'MDA3'!M49),Z49)), AND(AU49>0,AV49>0,AW49>0,AX49>0), MIN(BB49, MAX('MDA1'!L49,'MDA2'!L49, 'MDA5'!L49,MAX('MDA3'!J49,'MDA3'!M49),Z49,AO49)))","v":123901},203300,52.872487061454841]
[{"$f":"IF(COUNTRY_INFO!A50=0,\" \",COUNTRY_INFO!A50)","v":"Mali"},{"$f":"IF(COUNTRY_INFO!B50=0,\" \",COUNTRY_INFO!B50)","v":"Mopti"},{"$f":"IF(COUNTRY_INFO!C50=0,\" \",COUNTRY_INFO!C50)","v":"Djenne"},{"$f":"COUNTRY_INFO!L50","v":0},null,null,{"$f":"MAX('MDA1'!M50,'MDA2'!M50,'MDA5'!M50)","v":0},{"$f":"IF(AND(COUNTRY_INFO!H50>0,COUNTRY_INFO!H50<4),IF(D50>G50,G50,D50),0)","v":0},{"$f":"IF(AND(COUNTRY_INFO!H50>0,COUNTRY_INFO!H50<4), IF(G50/D50*100<>0, IF(G50/D50*100>100,100,G50/D50*100), \"-\"),0)","v":0},{"$f":"COUNTRY_INFO!M50","v":0},null,null,{"$f":"MAX('MDA1'!M50,MAX('MDA3'!I50,'MDA3'!L50)+MAX('MDA3'!J50,'MDA3'!M50))","v":0},{"$f":"IF(AND(COUNTRY_INFO!I50>0,COUNTRY_INFO!I50<4),IF(J50>M50,M50,J50),0)","v":0},{"$f":"IF(AND(COUNTRY_INFO!I50>0,COUNTRY_INFO!I50<4), IF(M50/J50*100<>0, IF(M50/J50*100>100,100,M50/J50*100), \"-\"),0)","v":0},{"$f":"COUNTRY_INFO!Q50","v":"Non requis"},null,null,{"$f":"MAX('MDA2'!J50,'MDA5'!J50,'T1'!K50, MAX(T3_R1!J50,T3_R2!J50,T3_R3!J50))","v":0},{"$f":"IF(AND(COUNTRY_INFO!J50>1,COUNTRY_INFO!J50<99,COUNTRY_INFO!J50<>4,COUNTRY_INFO!J50<>5),IF(COUNTRY_INFO!N50>S50,S50,COUNTRY_INFO!N50),0)","v":0},{"$f":"IF(AND(COUNTRY_INFO!J50>1,COUNTRY_INFO!J50<99,COUNTRY_INFO!J50<>4,COUNTRY_INFO!J50<>5), IF(T50/COUNTRY_INFO!N50*100<>0, IF(T50/COUNTRY_INFO!N50*100>100,100,T50/COUNTRY_INFO!N50*100), \"-\"),0)","v":0},{"$f":"MAX('MDA1'!K50, 'MDA2'!K50, 'MDA5'!K50,'T1'!L50, MAX(T3_R1!K50,T3_R2!K50,T3_R3!K50))","v":0},{"$f":"IF(AND(COUNTRY_INFO!J50>1,COUNTRY_INFO!J50<99,COUNTRY_INFO!J50<>4,COUNTRY_INFO!J50<>5),IF(COUNTRY_INFO!O50>V50,V50,COUNTRY_INFO!O50),0)","v":0},{"$f":"IF(AND(COUNTRY_INFO!J50>1,COUNTRY_INFO!J50<99,COUNTRY_INFO!J50<>4,COUNTRY_INFO!J50<>5), IF(W50/COUNTRY_INFO!O50*100<>0, IF(W50/COUNTRY_INFO!O50*100>100,100,W50/COUNTRY_INFO!O50*100), \"-\"),0)","v":0},{"$f":"MAX('MDA1'!L50, 'MDA2'!L50, 'MDA5'!L50,'T1'!M50, MAX(T3_R1!L50,T3_R2!L50,T3_R3!L50))","v":0},{"$f":"IF(AND(COUNTRY_INFO!J50>1,COUNTRY_INFO!J50<99,COUNTRY_INFO!J50<>4,COUNTRY_INFO!J50<>5),IF(COUNTRY_INFO!P50>Y50,Y50,COUNTRY_INFO!P50),0)","v":0},{"$f":"IF(AND(COUNTRY_INFO!J50>1,COUNTRY_INFO!J50<99,COUNTRY_INFO!J50<>4,COUNTRY_INFO!J50<>5), IF(Z50/COUNTRY_INFO!P50*100<>0, IF(Z50/COUNTRY_INFO!P50*100>100,100,Z50/COUNTRY_INFO!P50*100), \"-\"),0)","v":0},0,0,{"$f":"IF(AND(COUNTRY_INFO!J50>1,COUNTRY_INFO!J50<99,COUNTRY_INFO!J50<>4,COUNTRY_INFO!J50<>5), IF(AC50/P50*100<>0, IF(AC50/P50*100>100,100,AC50/P50*100), \"-\"),0)","v":0},{"$f":"COUNTRY_INFO!U50","v":297868},null,null,{"$f":"MAX('T1'!K50,'T2'!R50)","v":0},{"$f":"IF(AND(COUNTRY_INFO!K50>1,COUNTRY_INFO!K50<99,COUNTRY_INFO!K50<>4,COUNTRY_INFO!K50<>5),IF(COUNTRY_INFO!R50>AH50,AH50,COUNTRY_INFO!R50),0)","v":0},{"$f":"IF(AND(COUNTRY_INFO!K50>1,COUNTRY_INFO!K50<99,COUNTRY_INFO!K50<>4,COUNTRY_INFO!K50<>5), IF(AI50/COUNTRY_INFO!R50*100<>0, IF(AI50/COUNTRY_INFO!R50*100>100,100,AI50/COUNTRY_INFO!R50*100), \"-\"),0)","v":"-"},{"$f":"MAX('T1'!L50,'T2'!S50)","v":79677},{"$f":"IF(AND(COUNTRY_INFO!K50>1,COUNTRY_INFO!K50<99,COUNTRY_INFO!K50<>4,COUNTRY_INFO!K50<>5),IF(COUNTRY_INFO!S50>AK50,AK50,COUNTRY_INFO!S50),0)","v":79677},{"$f":"IF(AND(COUNTRY_INFO!K50>1,COUNTRY_INFO!K50<99,COUNTRY_INFO!K50<>4,COUNTRY_INFO!K50<>5), IF(AL50/COUNTRY_INFO!S50*100<>0, IF(AL50/COUNTRY_INFO!S50*100>100,100,AL50/COUNTRY_INFO!S50*100), \"-\"),0)","v":85.016912258986977},{"$f":"MAX('T1'!M50,'T2'!T50)","v":0},{"$f":"IF(AND(COUNTRY_INFO!K50>1,COUNTRY_INFO!K50<99,COUNTRY_INFO!K50<>4,COUNTRY_INFO!K50<>5),IF(COUNTRY_INFO!T50>AN50,AN50,COUNTRY_INFO!T50),0)","v":0},{"$f":"IF(AND(COUNTRY_INFO!K50>1,COUNTRY_INFO!K50<99,COUNTRY_INFO!K50<>4,COUNTRY_INFO!K50<>5), IF(AO50/COUNTRY_INFO!T50*100<>0, IF(AO50/COUNTRY_INFO!T50*100>100,100,AO50/COUNTRY_INFO!T50*100), \"-\"),0)","v":"-"},79677,79677,{"$f":"IF(AND(COUNTRY_INFO!K50>1,COUNTRY_INFO!K50<99,COUNTRY_INFO!K50<>4,COUNTRY_INFO!K50<>5), IF(AR50/AE50*100<>0, IF(AR50/AE50*100>100,100,AR50/AE50*100), \"-\"),0)","v":26.749096915412196},null,{"$f":"IF(AND(D50<>0, D50<>\"Inconnu\",D50<>\"Interrompu\",D50<>\"Non requis\"),D50/COUNTRY_INFO!D50, 0)","v":0},{"$f":"IF(AND(J50<>0,J50<>\"Inconnu\",J50<>\"Interrompu\",J50<>\"Non requis\"),J50/COUNTRY_INFO!D50, 0)","v":0},{"$f":"IF(AND(P50<>0,P50<>\"Inconnu\",P50<>\"Surveillance\",P50<>\"Non requis\"),P50/COUNTRY_INFO!Q50, 0)","v":0},{"$f":"IF(AND(AE50<>0,AE50<>\"Inconnu\",AE50<>\"Surveillance\",AE50<>\"Non requis\"),AE50/COUNTRY_INFO!U50, 0)","v":1},{"$f":"IF(AU50>0,D50*PROFILE!$G$7,IF(AV50>0,J50*PROFILE!$G$7,0))","v":0},{"$f":"_xlfn.IFS(OR(AU50>0,AW50>0),COUNTRY_INFO!E50, AV50>0,J50*PROFILE!$G$8,AX50>0,COUNTRY_INFO!R50,COUNTIFS(AU50:AX50,\">0\")=0,0)","v":34794},{"$f":"_xlfn.IFS(OR(AU50>0,AW50>0),COUNTRY_INFO!F50, AV50>0,J50*PROFILE!$G$9,AX50>0,COUNTRY_INFO!S50,COUNTIFS(AU50:AX50,\">0\")=0,0)","v":93719},{"$f":"_xlfn.IFS(AU50>0,COUNTRY_INFO!G50, AND(AV50>0,AW50=0,AX50=0),J50*PROFILE!$G$10,AND(AV50>0,AW50>0,AX50=0), MAX(J50*PROFILE!$G$10,COUNTRY_INFO!P50),AND(AV50>0,AW50=0,AX50>0), MAX(J50*PROFILE!$G$10,COUNTRY_INFO!T50),AND(AV50=0,AW50>0,AX50>0), MAX(COUNTRY_INFO!P50,COUNTRY_INFO!T50),AND(AV50=0,AW50>0,AX50=0),COUNTRY_INFO!P50,AND(AV50=0,AW50=0,AX50>0),COUNTRY_INFO!T50,AND(AV50>0,AW50>0,AX50>0), MAX(J50*PROFILE!$G$10,COUNTRY_INFO!P50,COUNTRY_INFO!T50),COUNTIFS(AU50:AX50,\">0\")=0,0)","v":169355},297868,"Y",{"$f":"MAX('MDA2'!J50,'MDA5'!J50,S50,AH50)","v":0},{"$f":"MAX('MDA1'!K50,'MDA2'!K50,'MDA3'!I50,'MDA3'!L50,'MDA5'!K50,V50,AK50)","v":79677},{"$f":"MAX('MDA1'!L50,'MDA2'!L50,'MDA3'!J50,'MDA3'!M50,'MDA5'!L50,Y50,AN50)","v":0},79677,{"$f":"_xlfn.IFS(AND(AU50=0,AW50=0,AX50=0),0,AND(AU50=0,AW50=0,AX50>0),AI50,AND(AU50=0,AW50>0,AX50=0),T50,AND(AU50=0,AW50>0,AX50>0),MAX(T50,AI50),AND(AU50>0,AW50=0,AX50=0),MIN(MAX('MDA2'!J50,'MDA5'!J50),AZ50),AND(AU50>0,AW50=0,AX50>0),MIN(MAX('MDA2'!J50,'MDA5'!J50,AI50),AZ50),AND(AU50>0,AW50>0,AX50=0),MIN(MAX('MDA2'!J50,'MDA5'!J50,T50),AZ50),AND(AU50>0,AW50>0,AX50>0),MIN(MAX('MDA2'!J50,'MDA5'!J50,AI50,T50),AZ50))","v":0},{"$f":"_xlfn.IFS(AND(AU50=0,AV50=0,AW50=0,AX50=0),0,AND(AU50=0,AV50=0,AW50=0,AX50>0),AL50,AND(AU50=0,AV50=0,AW50>0,AX50=0),W50,AND(AU50=0,AV50=0,AW50>0,AX50>0),MAX(W50,AL50),AND(AU50=0,AV50>0,AW50=0,AX50=0),MIN(J50*PROFILE!$G$9,MAX('MDA3'!I50,'MDA3'!L50)),AND(AU50=0,AV50>0,AW50=0,AX50>0),MIN(J50*PROFILE!$G$9,MAX('MDA3'!I50,'MDA3'!L50,AL50)),AND(AU50=0,AV50>0,AW50>0,AX50=0),MIN(J50*PROFILE!$G$9,MAX('MDA3'!I50,'MDA3'!L50,W50)),AND(AU50=0,AV50>0,AW50>0,AX50>0),MIN(J50*PROFILE!$G$9,MAX('MDA3'!I50,'MDA3'!L50,W50,AL50)),AND(AU50>0,AV50=0,AW50=0,AX50=0), MIN(BA50,MAX('MDA1'!K50,'MDA2'!K50,'MDA5'!K50)),AND(AU50>0,AV50=0,AW50=0,AX50>0), MIN(BA50,MAX('MDA1'!K50,'MDA2'!K50,'MDA5'!K50,AL50)),AND(AU50>0,AV50=0,AW50>0,AX50=0),MIN(BA50,MAX('MDA1'!K50,'MDA2'!KL50,'MDA5'!K50,W50)),AND(AU50>0,AV50=0,AW50>0,AX50>0),MIN(BA50,MAX('MDA1'!K50,'MDA2'!K50,'MDA5'!K50,W50,AL50)),AND(AU50>0,AV50>0,AW50=0,AX50=0),MIN(BA50, MAX('MDA1'!K50,'MDA2'!K50, 'MDA5'!K50,MAX('MDA3'!I50,'MDA3'!L50))), AND(AU50>0,AV50>0,AW50=0,AX50>0),MIN(BA50, MAX('MDA1'!K50,'MDA2'!K50, 'MDA5'!K50,MAX('MDA3'!I50,'MDA3'!L50),AL50)), AND(AU50>0,AV50>0,AW50>0,AX50=0), MIN(BA50, MAX('MDA1'!K50,'MDA2'!K50, 'MDA5'!K50,MAX('MDA3'!I50,'MDA3'!L50),W50)), AND(AU50>0,AV50>0,AW50>0,AX50>0), MIN(BA50, MAX('MDA1'!K50,'MDA2'!K50, 'MDA5'!K50,MAX('MDA3'!I50,'MDA3'!L50),W50,AL50)))","v":79677},{"$f":"_xlfn.IFS(AND(AU50=0,AV50=0,AW50=0,AX50=0),0,AND(AU50=0,AV50=0,AW50=0,AX50>0),AO50,AND(AU50=0,AV50=0,AW50>0,AX50=0),Z50,AND(AU50=0,AV50=0,AW50>0,AX50>0),MAX(Z50,AO50),AND(AU50=0,AV50>0,AW50=0,AX50=0),MIN(J50*PROFILE!$G$10,MAX('MDA3'!J50,'MDA3'!J50)),AND(AU50=0,AV50>0,AW50=0,AX50>0),MIN(J50*PROFILE!$G$10,MAX('MDA3'!J50,'MDA3'!M50,AO50)),AND(AU50=0,AV50>0,AW50>0,AX50=0),MIN(J50*PROFILE!$G$10,MAX('MDA3'!J50,'MDA3'!M50,Z50)),AND(AU50=0,AV50>0,AW50>0,AX50>0),MIN(J50*PROFILE!$G$10,MAX('MDA3'!J50,'MDA3'!M50,Z50,AO50)),AND(AU50>0,AV50=0,AW50=0,AX50=0), MIN(BB50,MAX('MDA1'!L50,'MDA2'!L50,'MDA5'!L50)),AND(AU50>0,AV50=0,AW50=0,AX50>0), MIN(BB50,MAX('MDA1'!L50,'MDA2'!L50,'MDA5'!L50,AO50)),AND(AU50>0,AV50=0,AW50>0,AX50=0),MIN(BB50,MAX('MDA1'!L50,'MDA2'!L50,'MDA5'!L50,Z50)),AND(AU50>0,AV50=0,AW50>0,AX50>0),MIN(BB50,MAX('MDA1'!L50,'MDA2'!L50,'MDA5'!L50,Z50,AO50)),AND(AU50>0,AV50>0,AW50=0,AX50=0),MIN(BB50, MAX('MDA1'!L50,'MDA2'!L50, 'MDA5'!L50,MAX('MDA3'!J50,'MDA3'!M50))), AND(AU50>0,AV50>0,AW50=0,AX50>0),MIN(BB50, MAX('MDA1'!L50,'MDA2'!L50, 'MDA5'!L50,MAX('MDA3'!J50,'MDA3'!M50),AO50)), AND(AU50>0,AV50>0,AW50>0,AX50=0), MIN(BB50, MAX('MDA1'!L50,'MDA2'!L50, 'MDA5'!L50,MAX('MDA3'!J50,'MDA3'!M50),Z50)), AND(AU50>0,AV50>0,AW50>0,AX50>0), MIN(BB50, MAX('MDA1'!L50,'MDA2'!L50, 'MDA5'!L50,MAX('MDA3'!J50,'MDA3'!M50),Z50,AO50)))","v":0},79677,26.749096915412196]
[{"$f":"IF(COUNTRY_INFO!A51=0,\" \",COUNTRY_INFO!A51)","v":"Mali"},{"$f":"IF(COUNTRY_INFO!B51=0,\" \",COUNTRY_INFO!B51)","v":"Mopti"},{"$f":"IF(COUNTRY_INFO!C51=0,\" \",COUNTRY_INFO!C51)","v":"Douentza"},{"$f":"COUNTRY_INFO!L51","v":0},null,null,{"$f":"MAX('MDA1'!M51,'MDA2'!M51,'MDA5'!M51)","v":0},{"$f":"IF(AND(COUNTRY_INFO!H51>0,COUNTRY_INFO!H51<4),IF(D51>G51,G51,D51),0)","v":0},{"$f":"IF(AND(COUNTRY_INFO!H51>0,COUNTRY_INFO!H51<4), IF(G51/D51*100<>0, IF(G51/D51*100>100,100,G51/D51*100), \"-\"),0)","v":0},{"$f":"COUNTRY_INFO!M51","v":0},null,null,{"$f":"MAX('MDA1'!M51,MAX('MDA3'!I51,'MDA3'!L51)+MAX('MDA3'!J51,'MDA3'!M51))","v":0},{"$f":"IF(AND(COUNTRY_INFO!I51>0,COUNTRY_INFO!I51<4),IF(J51>M51,M51,J51),0)","v":0},{"$f":"IF(AND(COUNTRY_INFO!I51>0,COUNTRY_INFO!I51<4), IF(M51/J51*100<>0, IF(M51/J51*100>100,100,M51/J51*100), \"-\"),0)","v":0},{"$f":"COUNTRY_INFO!Q51","v":"Non requis"},null,null,{"$f":"MAX('MDA2'!J51,'MDA5'!J51,'T1'!K51, MAX(T3_R1!J51,T3_R2!J51,T3_R3!J51))","v":0},{"$f":"IF(AND(COUNTRY_INFO!J51>1,COUNTRY_INFO!J51<99,COUNTRY_INFO!J51<>4,COUNTRY_INFO!J51<>5),IF(COUNTRY_INFO!N51>S51,S51,COUNTRY_INFO!N51),0)","v":0},{"$f":"IF(AND(COUNTRY_INFO!J51>1,COUNTRY_INFO!J51<99,COUNTRY_INFO!J51<>4,COUNTRY_INFO!J51<>5), IF(T51/COUNTRY_INFO!N51*100<>0, IF(T51/COUNTRY_INFO!N51*100>100,100,T51/COUNTRY_INFO!N51*100), \"-\"),0)","v":0},{"$f":"MAX('MDA1'!K51, 'MDA2'!K51, 'MDA5'!K51,'T1'!L51, MAX(T3_R1!K51,T3_R2!K51,T3_R3!K51))","v":0},{"$f":"IF(AND(COUNTRY_INFO!J51>1,COUNTRY_INFO!J51<99,COUNTRY_INFO!J51<>4,COUNTRY_INFO!J51<>5),IF(COUNTRY_INFO!O51>V51,V51,COUNTRY_INFO!O51),0)","v":0},{"$f":"IF(AND(COUNTRY_INFO!J51>1,COUNTRY_INFO!J51<99,COUNTRY_INFO!J51<>4,COUNTRY_INFO!J51<>5), IF(W51/COUNTRY_INFO!O51*100<>0, IF(W51/COUNTRY_INFO!O51*100>100,100,W51/COUNTRY_INFO!O51*100), \"-\"),0)","v":0},{"$f":"MAX('MDA1'!L51, 'MDA2'!L51, 'MDA5'!L51,'T1'!M51, MAX(T3_R1!L51,T3_R2!L51,T3_R3!L51))","v":0},{"$f":"IF(AND(COUNTRY_INFO!J51>1,COUNTRY_INFO!J51<99,COUNTRY_INFO!J51<>4,COUNTRY_INFO!J51<>5),IF(COUNTRY_INFO!P51>Y51,Y51,COUNTRY_INFO!P51),0)","v":0},{"$f":"IF(AND(COUNTRY_INFO!J51>1,COUNTRY_INFO!J51<99,COUNTRY_INFO!J51<>4,COUNTRY_INFO!J51<>5), IF(Z51/COUNTRY_INFO!P51*100<>0, IF(Z51/COUNTRY_INFO!P51*100>100,100,Z51/COUNTRY_INFO!P51*100), \"-\"),0)","v":0},0,0,{"$f":"IF(AND(COUNTRY_INFO!J51>1,COUNTRY_INFO!J51<99,COUNTRY_INFO!J51<>4,COUNTRY_INFO!J51<>5), IF(AC51/P51*100<>0, IF(AC51/P51*100>100,100,AC51/P51*100), \"-\"),0)","v":0},{"$f":"COUNTRY_INFO!U51","v":286793},null,null,{"$f":"MAX('T1'!K51,'T2'!R51)","v":0},{"$f":"IF(AND(COUNTRY_INFO!K51>1,COUNTRY_INFO!K51<99,COUNTRY_INFO!K51<>4,COUNTRY_INFO!K51<>5),IF(COUNTRY_INFO!R51>AH51,AH51,COUNTRY_INFO!R51),0)","v":0},{"$f":"IF(AND(COUNTRY_INFO!K51>1,COUNTRY_INFO!K51<99,COUNTRY_INFO!K51<>4,COUNTRY_INFO!K51<>5), IF(AI51/COUNTRY_INFO!R51*100<>0, IF(AI51/COUNTRY_INFO!R51*100>100,100,AI51/COUNTRY_INFO!R51*100), \"-\"),0)","v":"-"},{"$f":"MAX('T1'!L51,'T2'!S51)","v":89740},{"$f":"IF(AND(COUNTRY_INFO!K51>1,COUNTRY_INFO!K51<99,COUNTRY_INFO!K51<>4,COUNTRY_INFO!K51<>5),IF(COUNTRY_INFO!S51>AK51,AK51,COUNTRY_INFO!S51),0)","v":89740},{"$f":"IF(AND(COUNTRY_INFO!K51>1,COUNTRY_INFO!K51<99,COUNTRY_INFO!K51<>4,COUNTRY_INFO!K51<>5), IF(AL51/COUNTRY_INFO!S51*100<>0, IF(AL51/COUNTRY_INFO!S51*100>100,100,AL51/COUNTRY_INFO!S51*100), \"-\"),0)","v":99.451432371031203},{"$f":"MAX('T1'!M51,'T2'!T51)","v":0},{"$f":"IF(AND(COUNTRY_INFO!K51>1,COUNTRY_INFO!K51<99,COUNTRY_INFO!K51<>4,COUNTRY_INFO!K51<>5),IF(COUNTRY_INFO!T51>AN51,AN51,COUNTRY_INFO!T51),0)","v":0},{"$f":"IF(AND(COUNTRY_INFO!K51>1,COUNTRY_INFO!K51<99,COUNTRY_INFO!K51<>4,COUNTRY_INFO!K51<>5), IF(AO51/COUNTRY_INFO!T51*100<>0, IF(AO51/COUNTRY_INFO!T51*100>100,100,AO51/COUNTRY_INFO!T51*100), \"-\"),0)","v":"-"},89740,89740,{"$f":"IF(AND(COUNTRY_INFO!K51>1,COUNTRY_INFO!K51<99,COUNTRY_INFO!K51<>4,COUNTRY_INFO!K51<>5), IF(AR51/AE51*100<>0, IF(AR51/AE51*100>100,100,AR51/AE51*100), \"-\"),0)","v":31.29086135296189},null,{"$f":"IF(AND(D51<>0, D51<>\"Inconnu\",D51<>\"Interrompu\",D51<>\"Non requis\"),D51/COUNTRY_INFO!D51, 0)","v":0},{"$f":"IF(AND(J51<>0,J51<>\"Inconnu\",J51<>\"Interrompu\",J51<>\"Non requis\"),J51/COUNTRY_INFO!D51, 0)","v":0},{"$f":"IF(AND(P51<>0,P51<>\"Inconnu\",P51<>\"Surveillance\",P51<>\"Non requis\"),P51/COUNTRY_INFO!Q51, 0)","v":0},{"$f":"IF(AND(AE51<>0,AE51<>\"Inconnu\",AE51<>\"Surveillance\",AE51<>\"Non requis\"),AE51/COUNTRY_INFO!U51, 0)","v":1},{"$f":"IF(AU51>0,D51*PROFILE!$G$7,IF(AV51>0,J51*PROFILE!$G$7,0))","v":0},{"$f":"_xlfn.IFS(OR(AU51>0,AW51>0),COUNTRY_INFO!E51, AV51>0,J51*PROFILE!$G$8,AX51>0,COUNTRY_INFO!R51,COUNTIFS(AU51:AX51,\">0\")=0,0)","v":33498},{"$f":"_xlfn.IFS(OR(AU51>0,AW51>0),COUNTRY_INFO!F51, AV51>0,J51*PROFILE!$G$9,AX51>0,COUNTRY_INFO!S51,COUNTIFS(AU51:AX51,\">0\")=0,0)","v":90235},{"$f":"_xlfn.IFS(AU51>0,COUNTRY_INFO!G51, AND(AV51>0,AW51=0,AX51=0),J51*PROFILE!$G$10,AND(AV51>0,AW51>0,AX51=0), MAX(J51*PROFILE!$G$10,COUNTRY_INFO!P51),AND(AV51>0,AW51=0,AX51>0), MAX(J51*PROFILE!$G$10,COUNTRY_INFO!T51),AND(AV51=0,AW51>0,AX51>0), MAX(COUNTRY_INFO!P51,COUNTRY_INFO!T51),AND(AV51=0,AW51>0,AX51=0),COUNTRY_INFO!P51,AND(AV51=0,AW51=0,AX51>0),COUNTRY_INFO!T51,AND(AV51>0,AW51>0,AX51>0), MAX(J51*PROFILE!$G$10,COUNTRY_INFO!P51,COUNTRY_INFO!T51),COUNTIFS(AU51:AX51,\">0\")=0,0)","v":163060},286793,"Y",{"$f":"MAX('MDA2'!J51,'MDA5'!J51,S51,AH51)","v":0},{"$f":"MAX('MDA1'!K51,'MDA2'!K51,'MDA3'!I51,'MDA3'!L51,'MDA5'!K51,V51,AK51)","v":89740},{"$f":"MAX('MDA1'!L51,'MDA2'!L51,'MDA3'!J51,'MDA3'!M51,'MDA5'!L51,Y51,AN51)","v":0},89740,{"$f":"_xlfn.IFS(AND(AU51=0,AW51=0,AX51=0),0,AND(AU51=0,AW51=0,AX51>0),AI51,AND(AU51=0,AW51>0,AX51=0),T51,AND(AU51=0,AW51>0,AX51>0),MAX(T51,AI51),AND(AU51>0,AW51=0,AX51=0),MIN(MAX('MDA2'!J51,'MDA5'!J51),AZ51),AND(AU51>0,AW51=0,AX51>0),MIN(MAX('MDA2'!J51,'MDA5'!J51,AI51),AZ51),AND(AU51>0,AW51>0,AX51=0),MIN(MAX('MDA2'!J51,'MDA5'!J51,T51),AZ51),AND(AU51>0,AW51>0,AX51>0),MIN(MAX('MDA2'!J51,'MDA5'!J51,AI51,T51),AZ51))","v":0},{"$f":"_xlfn.IFS(AND(AU51=0,AV51=0,AW51=0,AX51=0),0,AND(AU51=0,AV51=0,AW51=0,AX51>0),AL51,AND(AU51=0,AV51=0,AW51>0,AX51=0),W51,AND(AU51=0,AV51=0,AW51>0,AX51>0),MAX(W51,AL51),AND(AU51=0,AV51>0,AW51=0,AX51=0),MIN(J51*PROFILE!$G$9,MAX('MDA3'!I51,'MDA3'!L51)),AND(AU51=0,AV51>0,AW51=0,AX51>0),MIN(J51*PROFILE!$G$9,MAX('MDA3'!I51,'MDA3'!L51,AL51)),AND(AU51=0,AV51>0,AW51>0,AX51=0),MIN(J51*PROFILE!$G$9,MAX('MDA3'!I51,'MDA3'!L51,W51)),AND(AU51=0,AV51>0,AW51>0,AX51>0),MIN(J51*PROFILE!$G$9,MAX('MDA3'!I51,'MDA3'!L51,W51,AL51)),AND(AU51>0,AV51=0,AW51=0,AX51=0), MIN(BA51,MAX('MDA1'!K51,'MDA2'!K51,'MDA5'!K51)),AND(AU51>0,AV51=0,AW51=0,AX51>0), MIN(BA51,MAX('MDA1'!K51,'MDA2'!K51,'MDA5'!K51,AL51)),AND(AU51>0,AV51=0,AW51>0,AX51=0),MIN(BA51,MAX('MDA1'!K51,'MDA2'!KL51,'MDA5'!K51,W51)),AND(AU51>0,AV51=0,AW51>0,AX51>0),MIN(BA51,MAX('MDA1'!K51,'MDA2'!K51,'MDA5'!K51,W51,AL51)),AND(AU51>0,AV51>0,AW51=0,AX51=0),MIN(BA51, MAX('MDA1'!K51,'MDA2'!K51, 'MDA5'!K51,MAX('MDA3'!I51,'MDA3'!L51))), AND(AU51>0,AV51>0,AW51=0,AX51>0),MIN(BA51, MAX('MDA1'!K51,'MDA2'!K51, 'MDA5'!K51,MAX('MDA3'!I51,'MDA3'!L51),AL51)), AND(AU51>0,AV51>0,AW51>0,AX51=0), MIN(BA51, MAX('MDA1'!K51,'MDA2'!K51, 'MDA5'!K51,MAX('MDA3'!I51,'MDA3'!L51),W51)), AND(AU51>0,AV51>0,AW51>0,AX51>0), MIN(BA51, MAX('MDA1'!K51,'MDA2'!K51, 'MDA5'!K51,MAX('MDA3'!I51,'MDA3'!L51),W51,AL51)))","v":89740},{"$f":"_xlfn.IFS(AND(AU51=0,AV51=0,AW51=0,AX51=0),0,AND(AU51=0,AV51=0,AW51=0,AX51>0),AO51,AND(AU51=0,AV51=0,AW51>0,AX51=0),Z51,AND(AU51=0,AV51=0,AW51>0,AX51>0),MAX(Z51,AO51),AND(AU51=0,AV51>0,AW51=0,AX51=0),MIN(J51*PROFILE!$G$10,MAX('MDA3'!J51,'MDA3'!J51)),AND(AU51=0,AV51>0,AW51=0,AX51>0),MIN(J51*PROFILE!$G$10,MAX('MDA3'!J51,'MDA3'!M51,AO51)),AND(AU51=0,AV51>0,AW51>0,AX51=0),MIN(J51*PROFILE!$G$10,MAX('MDA3'!J51,'MDA3'!M51,Z51)),AND(AU51=0,AV51>0,AW51>0,AX51>0),MIN(J51*PROFILE!$G$10,MAX('MDA3'!J51,'MDA3'!M51,Z51,AO51)),AND(AU51>0,AV51=0,AW51=0,AX51=0), MIN(BB51,MAX('MDA1'!L51,'MDA2'!L51,'MDA5'!L51)),AND(AU51>0,AV51=0,AW51=0,AX51>0), MIN(BB51,MAX('MDA1'!L51,'MDA2'!L51,'MDA5'!L51,AO51)),AND(AU51>0,AV51=0,AW51>0,AX51=0),MIN(BB51,MAX('MDA1'!L51,'MDA2'!L51,'MDA5'!L51,Z51)),AND(AU51>0,AV51=0,AW51>0,AX51>0),MIN(BB51,MAX('MDA1'!L51,'MDA2'!L51,'MDA5'!L51,Z51,AO51)),AND(AU51>0,AV51>0,AW51=0,AX51=0),MIN(BB51, MAX('MDA1'!L51,'MDA2'!L51, 'MDA5'!L51,MAX('MDA3'!J51,'MDA3'!M51))), AND(AU51>0,AV51>0,AW51=0,AX51>0),MIN(BB51, MAX('MDA1'!L51,'MDA2'!L51, 'MDA5'!L51,MAX('MDA3'!J51,'MDA3'!M51),AO51)), AND(AU51>0,AV51>0,AW51>0,AX51=0), MIN(BB51, MAX('MDA1'!L51,'MDA2'!L51, 'MDA5'!L51,MAX('MDA3'!J51,'MDA3'!M51),Z51)), AND(AU51>0,AV51>0,AW51>0,AX51>0), MIN(BB51, MAX('MDA1'!L51,'MDA2'!L51, 'MDA5'!L51,MAX('MDA3'!J51,'MDA3'!M51),Z51,AO51)))","v":0},89740,31.29086135296189]
[{"$f":"IF(COUNTRY_INFO!A52=0,\" \",COUNTRY_INFO!A52)","v":"Mali"},{"$f":"IF(COUNTRY_INFO!B52=0,\" \",COUNTRY_INFO!B52)","v":"Mopti"},{"$f":"IF(COUNTRY_INFO!C52=0,\" \",COUNTRY_INFO!C52)","v":"Koro"},{"$f":"COUNTRY_INFO!L52","v":0},null,null,{"$f":"MAX('MDA1'!M52,'MDA2'!M52,'MDA5'!M52)","v":0},{"$f":"IF(AND(COUNTRY_INFO!H52>0,COUNTRY_INFO!H52<4),IF(D52>G52,G52,D52),0)","v":0},{"$f":"IF(AND(COUNTRY_INFO!H52>0,COUNTRY_INFO!H52<4), IF(G52/D52*100<>0, IF(G52/D52*100>100,100,G52/D52*100), \"-\"),0)","v":0},{"$f":"COUNTRY_INFO!M52","v":0},null,null,{"$f":"MAX('MDA1'!M52,MAX('MDA3'!I52,'MDA3'!L52)+MAX('MDA3'!J52,'MDA3'!M52))","v":0},{"$f":"IF(AND(COUNTRY_INFO!I52>0,COUNTRY_INFO!I52<4),IF(J52>M52,M52,J52),0)","v":0},{"$f":"IF(AND(COUNTRY_INFO!I52>0,COUNTRY_INFO!I52<4), IF(M52/J52*100<>0, IF(M52/J52*100>100,100,M52/J52*100), \"-\"),0)","v":0},{"$f":"COUNTRY_INFO!Q52","v":"Non requis"},null,null,{"$f":"MAX('MDA2'!J52,'MDA5'!J52,'T1'!K52, MAX(T3_R1!J52,T3_R2!J52,T3_R3!J52))","v":0},{"$f":"IF(AND(COUNTRY_INFO!J52>1,COUNTRY_INFO!J52<99,COUNTRY_INFO!J52<>4,COUNTRY_INFO!J52<>5),IF(COUNTRY_INFO!N52>S52,S52,COUNTRY_INFO!N52),0)","v":0},{"$f":"IF(AND(COUNTRY_INFO!J52>1,COUNTRY_INFO!J52<99,COUNTRY_INFO!J52<>4,COUNTRY_INFO!J52<>5), IF(T52/COUNTRY_INFO!N52*100<>0, IF(T52/COUNTRY_INFO!N52*100>100,100,T52/COUNTRY_INFO!N52*100), \"-\"),0)","v":0},{"$f":"MAX('MDA1'!K52, 'MDA2'!K52, 'MDA5'!K52,'T1'!L52, MAX(T3_R1!K52,T3_R2!K52,T3_R3!K52))","v":0},{"$f":"IF(AND(COUNTRY_INFO!J52>1,COUNTRY_INFO!J52<99,COUNTRY_INFO!J52<>4,COUNTRY_INFO!J52<>5),IF(COUNTRY_INFO!O52>V52,V52,COUNTRY_INFO!O52),0)","v":0},{"$f":"IF(AND(COUNTRY_INFO!J52>1,COUNTRY_INFO!J52<99,COUNTRY_INFO!J52<>4,COUNTRY_INFO!J52<>5), IF(W52/COUNTRY_INFO!O52*100<>0, IF(W52/COUNTRY_INFO!O52*100>100,100,W52/COUNTRY_INFO!O52*100), \"-\"),0)","v":0},{"$f":"MAX('MDA1'!L52, 'MDA2'!L52, 'MDA5'!L52,'T1'!M52, MAX(T3_R1!L52,T3_R2!L52,T3_R3!L52))","v":0},{"$f":"IF(AND(COUNTRY_INFO!J52>1,COUNTRY_INFO!J52<99,COUNTRY_INFO!J52<>4,COUNTRY_INFO!J52<>5),IF(COUNTRY_INFO!P52>Y52,Y52,COUNTRY_INFO!P52),0)","v":0},{"$f":"IF(AND(COUNTRY_INFO!J52>1,COUNTRY_INFO!J52<99,COUNTRY_INFO!J52<>4,COUNTRY_INFO!J52<>5), IF(Z52/COUNTRY_INFO!P52*100<>0, IF(Z52/COUNTRY_INFO!P52*100>100,100,Z52/COUNTRY_INFO!P52*100), \"-\"),0)","v":0},0,0,{"$f":"IF(AND(COUNTRY_INFO!J52>1,COUNTRY_INFO!J52<99,COUNTRY_INFO!J52<>4,COUNTRY_INFO!J52<>5), IF(AC52/P52*100<>0, IF(AC52/P52*100>100,100,AC52/P52*100), \"-\"),0)","v":0},{"$f":"COUNTRY_INFO!U52","v":499168},null,null,{"$f":"MAX('T1'!K52,'T2'!R52)","v":0},{"$f":"IF(AND(COUNTRY_INFO!K52>1,COUNTRY_INFO!K52<99,COUNTRY_INFO!K52<>4,COUNTRY_INFO!K52<>5),IF(COUNTRY_INFO!R52>AH52,AH52,COUNTRY_INFO!R52),0)","v":0},{"$f":"IF(AND(COUNTRY_INFO!K52>1,COUNTRY_INFO!K52<99,COUNTRY_INFO!K52<>4,COUNTRY_INFO!K52<>5), IF(AI52/COUNTRY_INFO!R52*100<>0, IF(AI52/COUNTRY_INFO!R52*100>100,100,AI52/COUNTRY_INFO!R52*100), \"-\"),0)","v":"-"},{"$f":"MAX('T1'!L52,'T2'!S52)","v":94575},{"$f":"IF(AND(COUNTRY_INFO!K52>1,COUNTRY_INFO!K52<99,COUNTRY_INFO!K52<>4,COUNTRY_INFO!K52<>5),IF(COUNTRY_INFO!S52>AK52,AK52,COUNTRY_INFO!S52),0)","v":94575},{"$f":"IF(AND(COUNTRY_INFO!K52>1,COUNTRY_INFO!K52<99,COUNTRY_INFO!K52<>4,COUNTRY_INFO!K52<>5), IF(AL52/COUNTRY_INFO!S52*100<>0, IF(AL52/COUNTRY_INFO!S52*100>100,100,AL52/COUNTRY_INFO!S52*100), \"-\"),0)","v":60.216607877344671},{"$f":"MAX('T1'!M52,'T2'!T52)","v":0},{"$f":"IF(AND(COUNTRY_INFO!K52>1,COUNTRY_INFO!K52<99,COUNTRY_INFO!K52<>4,COUNTRY_INFO!K52<>5),IF(COUNTRY_INFO!T52>AN52,AN52,COUNTRY_INFO!T52),0)","v":0},{"$f":"IF(AND(COUNTRY_INFO!K52>1,COUNTRY_INFO!K52<99,COUNTRY_INFO!K52<>4,COUNTRY_INFO!K52<>5), IF(AO52/COUNTRY_INFO!T52*100<>0, IF(AO52/COUNTRY_INFO!T52*100>100,100,AO52/COUNTRY_INFO!T52*100), \"-\"),0)","v":"-"},94575,94575,{"$f":"IF(AND(COUNTRY_INFO!K52>1,COUNTRY_INFO!K52<99,COUNTRY_INFO!K52<>4,COUNTRY_INFO!K52<>5), IF(AR52/AE52*100<>0, IF(AR52/AE52*100>100,100,AR52/AE52*100), \"-\"),0)","v":18.946527020962883},null,{"$f":"IF(AND(D52<>0, D52<>\"Inconnu\",D52<>\"Interrompu\",D52<>\"Non requis\"),D52/COUNTRY_INFO!D52, 0)","v":0},{"$f":"IF(AND(J52<>0,J52<>\"Inconnu\",J52<>\"Interrompu\",J52<>\"Non requis\"),J52/COUNTRY_INFO!D52, 0)","v":0},{"$f":"IF(AND(P52<>0,P52<>\"Inconnu\",P52<>\"Surveillance\",P52<>\"Non requis\"),P52/COUNTRY_INFO!Q52, 0)","v":0},{"$f":"IF(AND(AE52<>0,AE52<>\"Inconnu\",AE52<>\"Surveillance\",AE52<>\"Non requis\"),AE52/COUNTRY_INFO!U52, 0)","v":1},{"$f":"IF(AU52>0,D52*PROFILE!$G$7,IF(AV52>0,J52*PROFILE!$G$7,0))","v":0},{"$f":"_xlfn.IFS(OR(AU52>0,AW52>0),COUNTRY_INFO!E52, AV52>0,J52*PROFILE!$G$8,AX52>0,COUNTRY_INFO!R52,COUNTIFS(AU52:AX52,\">0\")=0,0)","v":58303},{"$f":"_xlfn.IFS(OR(AU52>0,AW52>0),COUNTRY_INFO!F52, AV52>0,J52*PROFILE!$G$9,AX52>0,COUNTRY_INFO!S52,COUNTIFS(AU52:AX52,\">0\")=0,0)","v":157058},{"$f":"_xlfn.IFS(AU52>0,COUNTRY_INFO!G52, AND(AV52>0,AW52=0,AX52=0),J52*PROFILE!$G$10,AND(AV52>0,AW52>0,AX52=0), MAX(J52*PROFILE!$G$10,COUNTRY_INFO!P52),AND(AV52>0,AW52=0,AX52>0), MAX(J52*PROFILE!$G$10,COUNTRY_INFO!T52),AND(AV52=0,AW52>0,AX52>0), MAX(COUNTRY_INFO!P52,COUNTRY_INFO!T52),AND(AV52=0,AW52>0,AX52=0),COUNTRY_INFO!P52,AND(AV52=0,AW52=0,AX52>0),COUNTRY_INFO!T52,AND(AV52>0,AW52>0,AX52>0), MAX(J52*PROFILE!$G$10,COUNTRY_INFO!P52,COUNTRY_INFO!T52),COUNTIFS(AU52:AX52,\">0\")=0,0)","v":283807},499168,"Y",{"$f":"MAX('MDA2'!J52,'MDA5'!J52,S52,AH52)","v":0},{"$f":"MAX('MDA1'!K52,'MDA2'!K52,'MDA3'!I52,'MDA3'!L52,'MDA5'!K52,V52,AK52)","v":94575},{"$f":"MAX('MDA1'!L52,'MDA2'!L52,'MDA3'!J52,'MDA3'!M52,'MDA5'!L52,Y52,AN52)","v":0},94575,{"$f":"_xlfn.IFS(AND(AU52=0,AW52=0,AX52=0),0,AND(AU52=0,AW52=0,AX52>0),AI52,AND(AU52=0,AW52>0,AX52=0),T52,AND(AU52=0,AW52>0,AX52>0),MAX(T52,AI52),AND(AU52>0,AW52=0,AX52=0),MIN(MAX('MDA2'!J52,'MDA5'!J52),AZ52),AND(AU52>0,AW52=0,AX52>0),MIN(MAX('MDA2'!J52,'MDA5'!J52,AI52),AZ52),AND(AU52>0,AW52>0,AX52=0),MIN(MAX('MDA2'!J52,'MDA5'!J52,T52),AZ52),AND(AU52>0,AW52>0,AX52>0),MIN(MAX('MDA2'!J52,'MDA5'!J52,AI52,T52),AZ52))","v":0},{"$f":"_xlfn.IFS(AND(AU52=0,AV52=0,AW52=0,AX52=0),0,AND(AU52=0,AV52=0,AW52=0,AX52>0),AL52,AND(AU52=0,AV52=0,AW52>0,AX52=0),W52,AND(AU52=0,AV52=0,AW52>0,AX52>0),MAX(W52,AL52),AND(AU52=0,AV52>0,AW52=0,AX52=0),MIN(J52*PROFILE!$G$9,MAX('MDA3'!I52,'MDA3'!L52)),AND(AU52=0,AV52>0,AW52=0,AX52>0),MIN(J52*PROFILE!$G$9,MAX('MDA3'!I52,'MDA3'!L52,AL52)),AND(AU52=0,AV52>0,AW52>0,AX52=0),MIN(J52*PROFILE!$G$9,MAX('MDA3'!I52,'MDA3'!L52,W52)),AND(AU52=0,AV52>0,AW52>0,AX52>0),MIN(J52*PROFILE!$G$9,MAX('MDA3'!I52,'MDA3'!L52,W52,AL52)),AND(AU52>0,AV52=0,AW52=0,AX52=0), MIN(BA52,MAX('MDA1'!K52,'MDA2'!K52,'MDA5'!K52)),AND(AU52>0,AV52=0,AW52=0,AX52>0), MIN(BA52,MAX('MDA1'!K52,'MDA2'!K52,'MDA5'!K52,AL52)),AND(AU52>0,AV52=0,AW52>0,AX52=0),MIN(BA52,MAX('MDA1'!K52,'MDA2'!KL52,'MDA5'!K52,W52)),AND(AU52>0,AV52=0,AW52>0,AX52>0),MIN(BA52,MAX('MDA1'!K52,'MDA2'!K52,'MDA5'!K52,W52,AL52)),AND(AU52>0,AV52>0,AW52=0,AX52=0),MIN(BA52, MAX('MDA1'!K52,'MDA2'!K52, 'MDA5'!K52,MAX('MDA3'!I52,'MDA3'!L52))), AND(AU52>0,AV52>0,AW52=0,AX52>0),MIN(BA52, MAX('MDA1'!K52,'MDA2'!K52, 'MDA5'!K52,MAX('MDA3'!I52,'MDA3'!L52),AL52)), AND(AU52>0,AV52>0,AW52>0,AX52=0), MIN(BA52, MAX('MDA1'!K52,'MDA2'!K52, 'MDA5'!K52,MAX('MDA3'!I52,'MDA3'!L52),W52)), AND(AU52>0,AV52>0,AW52>0,AX52>0), MIN(BA52, MAX('MDA1'!K52,'MDA2'!K52, 'MDA5'!K52,MAX('MDA3'!I52,'MDA3'!L52),W52,AL52)))","v":94575},{"$f":"_xlfn.IFS(AND(AU52=0,AV52=0,AW52=0,AX52=0),0,AND(AU52=0,AV52=0,AW52=0,AX52>0),AO52,AND(AU52=0,AV52=0,AW52>0,AX52=0),Z52,AND(AU52=0,AV52=0,AW52>0,AX52>0),MAX(Z52,AO52),AND(AU52=0,AV52>0,AW52=0,AX52=0),MIN(J52*PROFILE!$G$10,MAX('MDA3'!J52,'MDA3'!J52)),AND(AU52=0,AV52>0,AW52=0,AX52>0),MIN(J52*PROFILE!$G$10,MAX('MDA3'!J52,'MDA3'!M52,AO52)),AND(AU52=0,AV52>0,AW52>0,AX52=0),MIN(J52*PROFILE!$G$10,MAX('MDA3'!J52,'MDA3'!M52,Z52)),AND(AU52=0,AV52>0,AW52>0,AX52>0),MIN(J52*PROFILE!$G$10,MAX('MDA3'!J52,'MDA3'!M52,Z52,AO52)),AND(AU52>0,AV52=0,AW52=0,AX52=0), MIN(BB52,MAX('MDA1'!L52,'MDA2'!L52,'MDA5'!L52)),AND(AU52>0,AV52=0,AW52=0,AX52>0), MIN(BB52,MAX('MDA1'!L52,'MDA2'!L52,'MDA5'!L52,AO52)),AND(AU52>0,AV52=0,AW52>0,AX52=0),MIN(BB52,MAX('MDA1'!L52,'MDA2'!L52,'MDA5'!L52,Z52)),AND(AU52>0,AV52=0,AW52>0,AX52>0),MIN(BB52,MAX('MDA1'!L52,'MDA2'!L52,'MDA5'!L52,Z52,AO52)),AND(AU52>0,AV52>0,AW52=0,AX52=0),MIN(BB52, MAX('MDA1'!L52,'MDA2'!L52, 'MDA5'!L52,MAX('MDA3'!J52,'MDA3'!M52))), AND(AU52>0,AV52>0,AW52=0,AX52>0),MIN(BB52, MAX('MDA1'!L52,'MDA2'!L52, 'MDA5'!L52,MAX('MDA3'!J52,'MDA3'!M52),AO52)), AND(AU52>0,AV52>0,AW52>0,AX52=0), MIN(BB52, MAX('MDA1'!L52,'MDA2'!L52, 'MDA5'!L52,MAX('MDA3'!J52,'MDA3'!M52),Z52)), AND(AU52>0,AV52>0,AW52>0,AX52>0), MIN(BB52, MAX('MDA1'!L52,'MDA2'!L52, 'MDA5'!L52,MAX('MDA3'!J52,'MDA3'!M52),Z52,AO52)))","v":0},94575,18.946527020962883]
[{"$f":"IF(COUNTRY_INFO!A53=0,\" \",COUNTRY_INFO!A53)","v":"Mali"},{"$f":"IF(COUNTRY_INFO!B53=0,\" \",COUNTRY_INFO!B53)","v":"Mopti"},{"$f":"IF(COUNTRY_INFO!C53=0,\" \",COUNTRY_INFO!C53)","v":"Mopti"},{"$f":"COUNTRY_INFO!L53","v":0},null,null,{"$f":"MAX('MDA1'!M53,'MDA2'!M53,'MDA5'!M53)","v":0},{"$f":"IF(AND(COUNTRY_INFO!H53>0,COUNTRY_INFO!H53<4),IF(D53>G53,G53,D53),0)","v":0},{"$f":"IF(AND(COUNTRY_INFO!H53>0,COUNTRY_INFO!H53<4), IF(G53/D53*100<>0, IF(G53/D53*100>100,100,G53/D53*100), \"-\"),0)","v":0},{"$f":"COUNTRY_INFO!M53","v":0},null,null,{"$f":"MAX('MDA1'!M53,MAX('MDA3'!I53,'MDA3'!L53)+MAX('MDA3'!J53,'MDA3'!M53))","v":0},{"$f":"IF(AND(COUNTRY_INFO!I53>0,COUNTRY_INFO!I53<4),IF(J53>M53,M53,J53),0)","v":0},{"$f":"IF(AND(COUNTRY_INFO!I53>0,COUNTRY_INFO!I53<4), IF(M53/J53*100<>0, IF(M53/J53*100>100,100,M53/J53*100), \"-\"),0)","v":0},{"$f":"COUNTRY_INFO!Q53","v":"Non requis"},null,null,{"$f":"MAX('MDA2'!J53,'MDA5'!J53,'T1'!K53, MAX(T3_R1!J53,T3_R2!J53,T3_R3!J53))","v":0},{"$f":"IF(AND(COUNTRY_INFO!J53>1,COUNTRY_INFO!J53<99,COUNTRY_INFO!J53<>4,COUNTRY_INFO!J53<>5),IF(COUNTRY_INFO!N53>S53,S53,COUNTRY_INFO!N53),0)","v":0},{"$f":"IF(AND(COUNTRY_INFO!J53>1,COUNTRY_INFO!J53<99,COUNTRY_INFO!J53<>4,COUNTRY_INFO!J53<>5), IF(T53/COUNTRY_INFO!N53*100<>0, IF(T53/COUNTRY_INFO!N53*100>100,100,T53/COUNTRY_INFO!N53*100), \"-\"),0)","v":0},{"$f":"MAX('MDA1'!K53, 'MDA2'!K53, 'MDA5'!K53,'T1'!L53, MAX(T3_R1!K53,T3_R2!K53,T3_R3!K53))","v":0},{"$f":"IF(AND(COUNTRY_INFO!J53>1,COUNTRY_INFO!J53<99,COUNTRY_INFO!J53<>4,COUNTRY_INFO!J53<>5),IF(COUNTRY_INFO!O53>V53,V53,COUNTRY_INFO!O53),0)","v":0},{"$f":"IF(AND(COUNTRY_INFO!J53>1,COUNTRY_INFO!J53<99,COUNTRY_INFO!J53<>4,COUNTRY_INFO!J53<>5), IF(W53/COUNTRY_INFO!O53*100<>0, IF(W53/COUNTRY_INFO!O53*100>100,100,W53/COUNTRY_INFO!O53*100), \"-\"),0)","v":0},{"$f":"MAX('MDA1'!L53, 'MDA2'!L53, 'MDA5'!L53,'T1'!M53, MAX(T3_R1!L53,T3_R2!L53,T3_R3!L53))","v":0},{"$f":"IF(AND(COUNTRY_INFO!J53>1,COUNTRY_INFO!J53<99,COUNTRY_INFO!J53<>4,COUNTRY_INFO!J53<>5),IF(COUNTRY_INFO!P53>Y53,Y53,COUNTRY_INFO!P53),0)","v":0},{"$f":"IF(AND(COUNTRY_INFO!J53>1,COUNTRY_INFO!J53<99,COUNTRY_INFO!J53<>4,COUNTRY_INFO!J53<>5), IF(Z53/COUNTRY_INFO!P53*100<>0, IF(Z53/COUNTRY_INFO!P53*100>100,100,Z53/COUNTRY_INFO!P53*100), \"-\"),0)","v":0},0,0,{"$f":"IF(AND(COUNTRY_INFO!J53>1,COUNTRY_INFO!J53<99,COUNTRY_INFO!J53<>4,COUNTRY_INFO!J53<>5), IF(AC53/P53*100<>0, IF(AC53/P53*100>100,100,AC53/P53*100), \"-\"),0)","v":0},{"$f":"COUNTRY_INFO!U53","v":537867},null,null,{"$f":"MAX('T1'!K53,'T2'!R53)","v":0},{"$f":"IF(AND(COUNTRY_INFO!K53>1,COUNTRY_INFO!K53<99,COUNTRY_INFO!K53<>4,COUNTRY_INFO!K53<>5),IF(COUNTRY_INFO!R53>AH53,AH53,COUNTRY_INFO!R53),0)","v":0},{"$f":"IF(AND(COUNTRY_INFO!K53>1,COUNTRY_INFO!K53<99,COUNTRY_INFO!K53<>4,COUNTRY_INFO!K53<>5), IF(AI53/COUNTRY_INFO!R53*100<>0, IF(AI53/COUNTRY_INFO!R53*100>100,100,AI53/COUNTRY_INFO!R53*100), \"-\"),0)","v":"-"},{"$f":"MAX('T1'!L53,'T2'!S53)","v":111510},{"$f":"IF(AND(COUNTRY_INFO!K53>1,COUNTRY_INFO!K53<99,COUNTRY_INFO!K53<>4,COUNTRY_INFO!K53<>5),IF(COUNTRY_INFO!S53>AK53,AK53,COUNTRY_INFO!S53),0)","v":111510},{"$f":"IF(AND(COUNTRY_INFO!K53>1,COUNTRY_INFO!K53<99,COUNTRY_INFO!K53<>4,COUNTRY_INFO!K53<>5), IF(AL53/COUNTRY_INFO!S53*100<>0, IF(AL53/COUNTRY_INFO!S53*100>100,100,AL53/COUNTRY_INFO!S53*100), \"-\"),0)","v":65.891014807899111},{"$f":"MAX('T1'!M53,'T2'!T53)","v":0},{"$f":"IF(AND(COUNTRY_INFO!K53>1,COUNTRY_INFO!K53<99,COUNTRY_INFO!K53<>4,COUNTRY_INFO!K53<>5),IF(COUNTRY_INFO!T53>AN53,AN53,COUNTRY_INFO!T53),0)","v":0},{"$f":"IF(AND(COUNTRY_INFO!K53>1,COUNTRY_INFO!K53<99,COUNTRY_INFO!K53<>4,COUNTRY_INFO!K53<>5), IF(AO53/COUNTRY_INFO!T53*100<>0, IF(AO53/COUNTRY_INFO!T53*100>100,100,AO53/COUNTRY_INFO!T53*100), \"-\"),0)","v":"-"},111510,111510,{"$f":"IF(AND(COUNTRY_INFO!K53>1,COUNTRY_INFO!K53<99,COUNTRY_INFO!K53<>4,COUNTRY_INFO!K53<>5), IF(AR53/AE53*100<>0, IF(AR53/AE53*100>100,100,AR53/AE53*100), \"-\"),0)","v":20.731890969328848},null,{"$f":"IF(AND(D53<>0, D53<>\"Inconnu\",D53<>\"Interrompu\",D53<>\"Non requis\"),D53/COUNTRY_INFO!D53, 0)","v":0},{"$f":"IF(AND(J53<>0,J53<>\"Inconnu\",J53<>\"Interrompu\",J53<>\"Non requis\"),J53/COUNTRY_INFO!D53, 0)","v":0},{"$f":"IF(AND(P53<>0,P53<>\"Inconnu\",P53<>\"Surveillance\",P53<>\"Non requis\"),P53/COUNTRY_INFO!Q53, 0)","v":0},{"$f":"IF(AND(AE53<>0,AE53<>\"Inconnu\",AE53<>\"Surveillance\",AE53<>\"Non requis\"),AE53/COUNTRY_INFO!U53, 0)","v":1},{"$f":"IF(AU53>0,D53*PROFILE!$G$7,IF(AV53>0,J53*PROFILE!$G$7,0))","v":0},{"$f":"_xlfn.IFS(OR(AU53>0,AW53>0),COUNTRY_INFO!E53, AV53>0,J53*PROFILE!$G$8,AX53>0,COUNTRY_INFO!R53,COUNTIFS(AU53:AX53,\">0\")=0,0)","v":62828},{"$f":"_xlfn.IFS(OR(AU53>0,AW53>0),COUNTRY_INFO!F53, AV53>0,J53*PROFILE!$G$9,AX53>0,COUNTRY_INFO!S53,COUNTIFS(AU53:AX53,\">0\")=0,0)","v":169234},{"$f":"_xlfn.IFS(AU53>0,COUNTRY_INFO!G53, AND(AV53>0,AW53=0,AX53=0),J53*PROFILE!$G$10,AND(AV53>0,AW53>0,AX53=0), MAX(J53*PROFILE!$G$10,COUNTRY_INFO!P53),AND(AV53>0,AW53=0,AX53>0), MAX(J53*PROFILE!$G$10,COUNTRY_INFO!T53),AND(AV53=0,AW53>0,AX53>0), MAX(COUNTRY_INFO!P53,COUNTRY_INFO!T53),AND(AV53=0,AW53>0,AX53=0),COUNTRY_INFO!P53,AND(AV53=0,AW53=0,AX53>0),COUNTRY_INFO!T53,AND(AV53>0,AW53>0,AX53>0), MAX(J53*PROFILE!$G$10,COUNTRY_INFO!P53,COUNTRY_INFO!T53),COUNTIFS(AU53:AX53,\">0\")=0,0)","v":305805},537867,"Y",{"$f":"MAX('MDA2'!J53,'MDA5'!J53,S53,AH53)","v":0},{"$f":"MAX('MDA1'!K53,'MDA2'!K53,'MDA3'!I53,'MDA3'!L53,'MDA5'!K53,V53,AK53)","v":111510},{"$f":"MAX('MDA1'!L53,'MDA2'!L53,'MDA3'!J53,'MDA3'!M53,'MDA5'!L53,Y53,AN53)","v":0},111510,{"$f":"_xlfn.IFS(AND(AU53=0,AW53=0,AX53=0),0,AND(AU53=0,AW53=0,AX53>0),AI53,AND(AU53=0,AW53>0,AX53=0),T53,AND(AU53=0,AW53>0,AX53>0),MAX(T53,AI53),AND(AU53>0,AW53=0,AX53=0),MIN(MAX('MDA2'!J53,'MDA5'!J53),AZ53),AND(AU53>0,AW53=0,AX53>0),MIN(MAX('MDA2'!J53,'MDA5'!J53,AI53),AZ53),AND(AU53>0,AW53>0,AX53=0),MIN(MAX('MDA2'!J53,'MDA5'!J53,T53),AZ53),AND(AU53>0,AW53>0,AX53>0),MIN(MAX('MDA2'!J53,'MDA5'!J53,AI53,T53),AZ53))","v":0},{"$f":"_xlfn.IFS(AND(AU53=0,AV53=0,AW53=0,AX53=0),0,AND(AU53=0,AV53=0,AW53=0,AX53>0),AL53,AND(AU53=0,AV53=0,AW53>0,AX53=0),W53,AND(AU53=0,AV53=0,AW53>0,AX53>0),MAX(W53,AL53),AND(AU53=0,AV53>0,AW53=0,AX53=0),MIN(J53*PROFILE!$G$9,MAX('MDA3'!I53,'MDA3'!L53)),AND(AU53=0,AV53>0,AW53=0,AX53>0),MIN(J53*PROFILE!$G$9,MAX('MDA3'!I53,'MDA3'!L53,AL53)),AND(AU53=0,AV53>0,AW53>0,AX53=0),MIN(J53*PROFILE!$G$9,MAX('MDA3'!I53,'MDA3'!L53,W53)),AND(AU53=0,AV53>0,AW53>0,AX53>0),MIN(J53*PROFILE!$G$9,MAX('MDA3'!I53,'MDA3'!L53,W53,AL53)),AND(AU53>0,AV53=0,AW53=0,AX53=0), MIN(BA53,MAX('MDA1'!K53,'MDA2'!K53,'MDA5'!K53)),AND(AU53>0,AV53=0,AW53=0,AX53>0), MIN(BA53,MAX('MDA1'!K53,'MDA2'!K53,'MDA5'!K53,AL53)),AND(AU53>0,AV53=0,AW53>0,AX53=0),MIN(BA53,MAX('MDA1'!K53,'MDA2'!KL53,'MDA5'!K53,W53)),AND(AU53>0,AV53=0,AW53>0,AX53>0),MIN(BA53,MAX('MDA1'!K53,'MDA2'!K53,'MDA5'!K53,W53,AL53)),AND(AU53>0,AV53>0,AW53=0,AX53=0),MIN(BA53, MAX('MDA1'!K53,'MDA2'!K53, 'MDA5'!K53,MAX('MDA3'!I53,'MDA3'!L53))), AND(AU53>0,AV53>0,AW53=0,AX53>0),MIN(BA53, MAX('MDA1'!K53,'MDA2'!K53, 'MDA5'!K53,MAX('MDA3'!I53,'MDA3'!L53),AL53)), AND(AU53>0,AV53>0,AW53>0,AX53=0), MIN(BA53, MAX('MDA1'!K53,'MDA2'!K53, 'MDA5'!K53,MAX('MDA3'!I53,'MDA3'!L53),W53)), AND(AU53>0,AV53>0,AW53>0,AX53>0), MIN(BA53, MAX('MDA1'!K53,'MDA2'!K53, 'MDA5'!K53,MAX('MDA3'!I53,'MDA3'!L53),W53,AL53)))","v":111510},{"$f":"_xlfn.IFS(AND(AU53=0,AV53=0,AW53=0,AX53=0),0,AND(AU53=0,AV53=0,AW53=0,AX53>0),AO53,AND(AU53=0,AV53=0,AW53>0,AX53=0),Z53,AND(AU53=0,AV53=0,AW53>0,AX53>0),MAX(Z53,AO53),AND(AU53=0,AV53>0,AW53=0,AX53=0),MIN(J53*PROFILE!$G$10,MAX('MDA3'!J53,'MDA3'!J53)),AND(AU53=0,AV53>0,AW53=0,AX53>0),MIN(J53*PROFILE!$G$10,MAX('MDA3'!J53,'MDA3'!M53,AO53)),AND(AU53=0,AV53>0,AW53>0,AX53=0),MIN(J53*PROFILE!$G$10,MAX('MDA3'!J53,'MDA3'!M53,Z53)),AND(AU53=0,AV53>0,AW53>0,AX53>0),MIN(J53*PROFILE!$G$10,MAX('MDA3'!J53,'MDA3'!M53,Z53,AO53)),AND(AU53>0,AV53=0,AW53=0,AX53=0), MIN(BB53,MAX('MDA1'!L53,'MDA2'!L53,'MDA5'!L53)),AND(AU53>0,AV53=0,AW53=0,AX53>0), MIN(BB53,MAX('MDA1'!L53,'MDA2'!L53,'MDA5'!L53,AO53)),AND(AU53>0,AV53=0,AW53>0,AX53=0),MIN(BB53,MAX('MDA1'!L53,'MDA2'!L53,'MDA5'!L53,Z53)),AND(AU53>0,AV53=0,AW53>0,AX53>0),MIN(BB53,MAX('MDA1'!L53,'MDA2'!L53,'MDA5'!L53,Z53,AO53)),AND(AU53>0,AV53>0,AW53=0,AX53=0),MIN(BB53, MAX('MDA1'!L53,'MDA2'!L53, 'MDA5'!L53,MAX('MDA3'!J53,'MDA3'!M53))), AND(AU53>0,AV53>0,AW53=0,AX53>0),MIN(BB53, MAX('MDA1'!L53,'MDA2'!L53, 'MDA5'!L53,MAX('MDA3'!J53,'MDA3'!M53),AO53)), AND(AU53>0,AV53>0,AW53>0,AX53=0), MIN(BB53, MAX('MDA1'!L53,'MDA2'!L53, 'MDA5'!L53,MAX('MDA3'!J53,'MDA3'!M53),Z53)), AND(AU53>0,AV53>0,AW53>0,AX53>0), MIN(BB53, MAX('MDA1'!L53,'MDA2'!L53, 'MDA5'!L53,MAX('MDA3'!J53,'MDA3'!M53),Z53,AO53)))","v":0},111510,20.731890969328848]
[{"$f":"IF(COUNTRY_INFO!A54=0,\" \",COUNTRY_INFO!A54)","v":"Mali"},{"$f":"IF(COUNTRY_INFO!B54=0,\" \",COUNTRY_INFO!B54)","v":"Mopti"},{"$f":"IF(COUNTRY_INFO!C54=0,\" \",COUNTRY_INFO!C54)","v":"Teninkou"},{"$f":"COUNTRY_INFO!L54","v":0},null,null,{"$f":"MAX('MDA1'!M54,'MDA2'!M54,'MDA5'!M54)","v":0},{"$f":"IF(AND(COUNTRY_INFO!H54>0,COUNTRY_INFO!H54<4),IF(D54>G54,G54,D54),0)","v":0},{"$f":"IF(AND(COUNTRY_INFO!H54>0,COUNTRY_INFO!H54<4), IF(G54/D54*100<>0, IF(G54/D54*100>100,100,G54/D54*100), \"-\"),0)","v":0},{"$f":"COUNTRY_INFO!M54","v":0},null,null,{"$f":"MAX('MDA1'!M54,MAX('MDA3'!I54,'MDA3'!L54)+MAX('MDA3'!J54,'MDA3'!M54))","v":0},{"$f":"IF(AND(COUNTRY_INFO!I54>0,COUNTRY_INFO!I54<4),IF(J54>M54,M54,J54),0)","v":0},{"$f":"IF(AND(COUNTRY_INFO!I54>0,COUNTRY_INFO!I54<4), IF(M54/J54*100<>0, IF(M54/J54*100>100,100,M54/J54*100), \"-\"),0)","v":0},{"$f":"COUNTRY_INFO!Q54","v":"Non requis"},null,null,{"$f":"MAX('MDA2'!J54,'MDA5'!J54,'T1'!K54, MAX(T3_R1!J54,T3_R2!J54,T3_R3!J54))","v":0},{"$f":"IF(AND(COUNTRY_INFO!J54>1,COUNTRY_INFO!J54<99,COUNTRY_INFO!J54<>4,COUNTRY_INFO!J54<>5),IF(COUNTRY_INFO!N54>S54,S54,COUNTRY_INFO!N54),0)","v":0},{"$f":"IF(AND(COUNTRY_INFO!J54>1,COUNTRY_INFO!J54<99,COUNTRY_INFO!J54<>4,COUNTRY_INFO!J54<>5), IF(T54/COUNTRY_INFO!N54*100<>0, IF(T54/COUNTRY_INFO!N54*100>100,100,T54/COUNTRY_INFO!N54*100), \"-\"),0)","v":0},{"$f":"MAX('MDA1'!K54, 'MDA2'!K54, 'MDA5'!K54,'T1'!L54, MAX(T3_R1!K54,T3_R2!K54,T3_R3!K54))","v":0},{"$f":"IF(AND(COUNTRY_INFO!J54>1,COUNTRY_INFO!J54<99,COUNTRY_INFO!J54<>4,COUNTRY_INFO!J54<>5),IF(COUNTRY_INFO!O54>V54,V54,COUNTRY_INFO!O54),0)","v":0},{"$f":"IF(AND(COUNTRY_INFO!J54>1,COUNTRY_INFO!J54<99,COUNTRY_INFO!J54<>4,COUNTRY_INFO!J54<>5), IF(W54/COUNTRY_INFO!O54*100<>0, IF(W54/COUNTRY_INFO!O54*100>100,100,W54/COUNTRY_INFO!O54*100), \"-\"),0)","v":0},{"$f":"MAX('MDA1'!L54, 'MDA2'!L54, 'MDA5'!L54,'T1'!M54, MAX(T3_R1!L54,T3_R2!L54,T3_R3!L54))","v":0},{"$f":"IF(AND(COUNTRY_INFO!J54>1,COUNTRY_INFO!J54<99,COUNTRY_INFO!J54<>4,COUNTRY_INFO!J54<>5),IF(COUNTRY_INFO!P54>Y54,Y54,COUNTRY_INFO!P54),0)","v":0},{"$f":"IF(AND(COUNTRY_INFO!J54>1,COUNTRY_INFO!J54<99,COUNTRY_INFO!J54<>4,COUNTRY_INFO!J54<>5), IF(Z54/COUNTRY_INFO!P54*100<>0, IF(Z54/COUNTRY_INFO!P54*100>100,100,Z54/COUNTRY_INFO!P54*100), \"-\"),0)","v":0},0,0,{"$f":"IF(AND(COUNTRY_INFO!J54>1,COUNTRY_INFO!J54<99,COUNTRY_INFO!J54<>4,COUNTRY_INFO!J54<>5), IF(AC54/P54*100<>0, IF(AC54/P54*100>100,100,AC54/P54*100), \"-\"),0)","v":0},{"$f":"COUNTRY_INFO!U54","v":196831},null,null,{"$f":"MAX('T1'!K54,'T2'!R54)","v":0},{"$f":"IF(AND(COUNTRY_INFO!K54>1,COUNTRY_INFO!K54<99,COUNTRY_INFO!K54<>4,COUNTRY_INFO!K54<>5),IF(COUNTRY_INFO!R54>AH54,AH54,COUNTRY_INFO!R54),0)","v":0},{"$f":"IF(AND(COUNTRY_INFO!K54>1,COUNTRY_INFO!K54<99,COUNTRY_INFO!K54<>4,COUNTRY_INFO!K54<>5), IF(AI54/COUNTRY_INFO!R54*100<>0, IF(AI54/COUNTRY_INFO!R54*100>100,100,AI54/COUNTRY_INFO!R54*100), \"-\"),0)","v":"-"},{"$f":"MAX('T1'!L54,'T2'!S54)","v":10016},{"$f":"IF(AND(COUNTRY_INFO!K54>1,COUNTRY_INFO!K54<99,COUNTRY_INFO!K54<>4,COUNTRY_INFO!K54<>5),IF(COUNTRY_INFO!S54>AK54,AK54,COUNTRY_INFO!S54),0)","v":10016},{"$f":"IF(AND(COUNTRY_INFO!K54>1,COUNTRY_INFO!K54<99,COUNTRY_INFO!K54<>4,COUNTRY_INFO!K54<>5), IF(AL54/COUNTRY_INFO!S54*100<>0, IF(AL54/COUNTRY_INFO!S54*100>100,100,AL54/COUNTRY_INFO!S54*100), \"-\"),0)","v":16.172837512715766},{"$f":"MAX('T1'!M54,'T2'!T54)","v":0},{"$f":"IF(AND(COUNTRY_INFO!K54>1,COUNTRY_INFO!K54<99,COUNTRY_INFO!K54<>4,COUNTRY_INFO!K54<>5),IF(COUNTRY_INFO!T54>AN54,AN54,COUNTRY_INFO!T54),0)","v":0},{"$f":"IF(AND(COUNTRY_INFO!K54>1,COUNTRY_INFO!K54<99,COUNTRY_INFO!K54<>4,COUNTRY_INFO!K54<>5), IF(AO54/COUNTRY_INFO!T54*100<>0, IF(AO54/COUNTRY_INFO!T54*100>100,100,AO54/COUNTRY_INFO!T54*100), \"-\"),0)","v":"-"},10016,10016,{"$f":"IF(AND(COUNTRY_INFO!K54>1,COUNTRY_INFO!K54<99,COUNTRY_INFO!K54<>4,COUNTRY_INFO!K54<>5), IF(AR54/AE54*100<>0, IF(AR54/AE54*100>100,100,AR54/AE54*100), \"-\"),0)","v":5.0886293317617657},null,{"$f":"IF(AND(D54<>0, D54<>\"Inconnu\",D54<>\"Interrompu\",D54<>\"Non requis\"),D54/COUNTRY_INFO!D54, 0)","v":0},{"$f":"IF(AND(J54<>0,J54<>\"Inconnu\",J54<>\"Interrompu\",J54<>\"Non requis\"),J54/COUNTRY_INFO!D54, 0)","v":0},{"$f":"IF(AND(P54<>0,P54<>\"Inconnu\",P54<>\"Surveillance\",P54<>\"Non requis\"),P54/COUNTRY_INFO!Q54, 0)","v":0},{"$f":"IF(AND(AE54<>0,AE54<>\"Inconnu\",AE54<>\"Surveillance\",AE54<>\"Non requis\"),AE54/COUNTRY_INFO!U54, 0)","v":1},{"$f":"IF(AU54>0,D54*PROFILE!$G$7,IF(AV54>0,J54*PROFILE!$G$7,0))","v":0},{"$f":"_xlfn.IFS(OR(AU54>0,AW54>0),COUNTRY_INFO!E54, AV54>0,J54*PROFILE!$G$8,AX54>0,COUNTRY_INFO!R54,COUNTIFS(AU54:AX54,\">0\")=0,0)","v":22990},{"$f":"_xlfn.IFS(OR(AU54>0,AW54>0),COUNTRY_INFO!F54, AV54>0,J54*PROFILE!$G$9,AX54>0,COUNTRY_INFO!S54,COUNTIFS(AU54:AX54,\">0\")=0,0)","v":61931},{"$f":"_xlfn.IFS(AU54>0,COUNTRY_INFO!G54, AND(AV54>0,AW54=0,AX54=0),J54*PROFILE!$G$10,AND(AV54>0,AW54>0,AX54=0), MAX(J54*PROFILE!$G$10,COUNTRY_INFO!P54),AND(AV54>0,AW54=0,AX54>0), MAX(J54*PROFILE!$G$10,COUNTRY_INFO!T54),AND(AV54=0,AW54>0,AX54>0), MAX(COUNTRY_INFO!P54,COUNTRY_INFO!T54),AND(AV54=0,AW54>0,AX54=0),COUNTRY_INFO!P54,AND(AV54=0,AW54=0,AX54>0),COUNTRY_INFO!T54,AND(AV54>0,AW54>0,AX54>0), MAX(J54*PROFILE!$G$10,COUNTRY_INFO!P54,COUNTRY_INFO!T54),COUNTIFS(AU54:AX54,\">0\")=0,0)","v":111910},196831,"Y",{"$f":"MAX('MDA2'!J54,'MDA5'!J54,S54,AH54)","v":0},{"$f":"MAX('MDA1'!K54,'MDA2'!K54,'MDA3'!I54,'MDA3'!L54,'MDA5'!K54,V54,AK54)","v":10016},{"$f":"MAX('MDA1'!L54,'MDA2'!L54,'MDA3'!J54,'MDA3'!M54,'MDA5'!L54,Y54,AN54)","v":0},10016,{"$f":"_xlfn.IFS(AND(AU54=0,AW54=0,AX54=0),0,AND(AU54=0,AW54=0,AX54>0),AI54,AND(AU54=0,AW54>0,AX54=0),T54,AND(AU54=0,AW54>0,AX54>0),MAX(T54,AI54),AND(AU54>0,AW54=0,AX54=0),MIN(MAX('MDA2'!J54,'MDA5'!J54),AZ54),AND(AU54>0,AW54=0,AX54>0),MIN(MAX('MDA2'!J54,'MDA5'!J54,AI54),AZ54),AND(AU54>0,AW54>0,AX54=0),MIN(MAX('MDA2'!J54,'MDA5'!J54,T54),AZ54),AND(AU54>0,AW54>0,AX54>0),MIN(MAX('MDA2'!J54,'MDA5'!J54,AI54,T54),AZ54))","v":0},{"$f":"_xlfn.IFS(AND(AU54=0,AV54=0,AW54=0,AX54=0),0,AND(AU54=0,AV54=0,AW54=0,AX54>0),AL54,AND(AU54=0,AV54=0,AW54>0,AX54=0),W54,AND(AU54=0,AV54=0,AW54>0,AX54>0),MAX(W54,AL54),AND(AU54=0,AV54>0,AW54=0,AX54=0),MIN(J54*PROFILE!$G$9,MAX('MDA3'!I54,'MDA3'!L54)),AND(AU54=0,AV54>0,AW54=0,AX54>0),MIN(J54*PROFILE!$G$9,MAX('MDA3'!I54,'MDA3'!L54,AL54)),AND(AU54=0,AV54>0,AW54>0,AX54=0),MIN(J54*PROFILE!$G$9,MAX('MDA3'!I54,'MDA3'!L54,W54)),AND(AU54=0,AV54>0,AW54>0,AX54>0),MIN(J54*PROFILE!$G$9,MAX('MDA3'!I54,'MDA3'!L54,W54,AL54)),AND(AU54>0,AV54=0,AW54=0,AX54=0), MIN(BA54,MAX('MDA1'!K54,'MDA2'!K54,'MDA5'!K54)),AND(AU54>0,AV54=0,AW54=0,AX54>0), MIN(BA54,MAX('MDA1'!K54,'MDA2'!K54,'MDA5'!K54,AL54)),AND(AU54>0,AV54=0,AW54>0,AX54=0),MIN(BA54,MAX('MDA1'!K54,'MDA2'!KL54,'MDA5'!K54,W54)),AND(AU54>0,AV54=0,AW54>0,AX54>0),MIN(BA54,MAX('MDA1'!K54,'MDA2'!K54,'MDA5'!K54,W54,AL54)),AND(AU54>0,AV54>0,AW54=0,AX54=0),MIN(BA54, MAX('MDA1'!K54,'MDA2'!K54, 'MDA5'!K54,MAX('MDA3'!I54,'MDA3'!L54))), AND(AU54>0,AV54>0,AW54=0,AX54>0),MIN(BA54, MAX('MDA1'!K54,'MDA2'!K54, 'MDA5'!K54,MAX('MDA3'!I54,'MDA3'!L54),AL54)), AND(AU54>0,AV54>0,AW54>0,AX54=0), MIN(BA54, MAX('MDA1'!K54,'MDA2'!K54, 'MDA5'!K54,MAX('MDA3'!I54,'MDA3'!L54),W54)), AND(AU54>0,AV54>0,AW54>0,AX54>0), MIN(BA54, MAX('MDA1'!K54,'MDA2'!K54, 'MDA5'!K54,MAX('MDA3'!I54,'MDA3'!L54),W54,AL54)))","v":10016},{"$f":"_xlfn.IFS(AND(AU54=0,AV54=0,AW54=0,AX54=0),0,AND(AU54=0,AV54=0,AW54=0,AX54>0),AO54,AND(AU54=0,AV54=0,AW54>0,AX54=0),Z54,AND(AU54=0,AV54=0,AW54>0,AX54>0),MAX(Z54,AO54),AND(AU54=0,AV54>0,AW54=0,AX54=0),MIN(J54*PROFILE!$G$10,MAX('MDA3'!J54,'MDA3'!J54)),AND(AU54=0,AV54>0,AW54=0,AX54>0),MIN(J54*PROFILE!$G$10,MAX('MDA3'!J54,'MDA3'!M54,AO54)),AND(AU54=0,AV54>0,AW54>0,AX54=0),MIN(J54*PROFILE!$G$10,MAX('MDA3'!J54,'MDA3'!M54,Z54)),AND(AU54=0,AV54>0,AW54>0,AX54>0),MIN(J54*PROFILE!$G$10,MAX('MDA3'!J54,'MDA3'!M54,Z54,AO54)),AND(AU54>0,AV54=0,AW54=0,AX54=0), MIN(BB54,MAX('MDA1'!L54,'MDA2'!L54,'MDA5'!L54)),AND(AU54>0,AV54=0,AW54=0,AX54>0), MIN(BB54,MAX('MDA1'!L54,'MDA2'!L54,'MDA5'!L54,AO54)),AND(AU54>0,AV54=0,AW54>0,AX54=0),MIN(BB54,MAX('MDA1'!L54,'MDA2'!L54,'MDA5'!L54,Z54)),AND(AU54>0,AV54=0,AW54>0,AX54>0),MIN(BB54,MAX('MDA1'!L54,'MDA2'!L54,'MDA5'!L54,Z54,AO54)),AND(AU54>0,AV54>0,AW54=0,AX54=0),MIN(BB54, MAX('MDA1'!L54,'MDA2'!L54, 'MDA5'!L54,MAX('MDA3'!J54,'MDA3'!M54))), AND(AU54>0,AV54>0,AW54=0,AX54>0),MIN(BB54, MAX('MDA1'!L54,'MDA2'!L54, 'MDA5'!L54,MAX('MDA3'!J54,'MDA3'!M54),AO54)), AND(AU54>0,AV54>0,AW54>0,AX54=0), MIN(BB54, MAX('MDA1'!L54,'MDA2'!L54, 'MDA5'!L54,MAX('MDA3'!J54,'MDA3'!M54),Z54)), AND(AU54>0,AV54>0,AW54>0,AX54>0), MIN(BB54, MAX('MDA1'!L54,'MDA2'!L54, 'MDA5'!L54,MAX('MDA3'!J54,'MDA3'!M54),Z54,AO54)))","v":0},10016,5.0886293317617657]
[{"$f":"IF(COUNTRY_INFO!A55=0,\" \",COUNTRY_INFO!A55)","v":"Mali"},{"$f":"IF(COUNTRY_INFO!B55=0,\" \",COUNTRY_INFO!B55)","v":"Mopti"},{"$f":"IF(COUNTRY_INFO!C55=0,\" \",COUNTRY_INFO!C55)","v":"Youwarou"},{"$f":"COUNTRY_INFO!L55","v":0},null,null,{"$f":"MAX('MDA1'!M55,'MDA2'!M55,'MDA5'!M55)","v":0},{"$f":"IF(AND(COUNTRY_INFO!H55>0,COUNTRY_INFO!H55<4),IF(D55>G55,G55,D55),0)","v":0},{"$f":"IF(AND(COUNTRY_INFO!H55>0,COUNTRY_INFO!H55<4), IF(G55/D55*100<>0, IF(G55/D55*100>100,100,G55/D55*100), \"-\"),0)","v":0},{"$f":"COUNTRY_INFO!M55","v":0},null,null,{"$f":"MAX('MDA1'!M55,MAX('MDA3'!I55,'MDA3'!L55)+MAX('MDA3'!J55,'MDA3'!M55))","v":0},{"$f":"IF(AND(COUNTRY_INFO!I55>0,COUNTRY_INFO!I55<4),IF(J55>M55,M55,J55),0)","v":0},{"$f":"IF(AND(COUNTRY_INFO!I55>0,COUNTRY_INFO!I55<4), IF(M55/J55*100<>0, IF(M55/J55*100>100,100,M55/J55*100), \"-\"),0)","v":0},{"$f":"COUNTRY_INFO!Q55","v":"Non requis"},null,null,{"$f":"MAX('MDA2'!J55,'MDA5'!J55,'T1'!K55, MAX(T3_R1!J55,T3_R2!J55,T3_R3!J55))","v":0},{"$f":"IF(AND(COUNTRY_INFO!J55>1,COUNTRY_INFO!J55<99,COUNTRY_INFO!J55<>4,COUNTRY_INFO!J55<>5),IF(COUNTRY_INFO!N55>S55,S55,COUNTRY_INFO!N55),0)","v":0},{"$f":"IF(AND(COUNTRY_INFO!J55>1,COUNTRY_INFO!J55<99,COUNTRY_INFO!J55<>4,COUNTRY_INFO!J55<>5), IF(T55/COUNTRY_INFO!N55*100<>0, IF(T55/COUNTRY_INFO!N55*100>100,100,T55/COUNTRY_INFO!N55*100), \"-\"),0)","v":0},{"$f":"MAX('MDA1'!K55, 'MDA2'!K55, 'MDA5'!K55,'T1'!L55, MAX(T3_R1!K55,T3_R2!K55,T3_R3!K55))","v":0},{"$f":"IF(AND(COUNTRY_INFO!J55>1,COUNTRY_INFO!J55<99,COUNTRY_INFO!J55<>4,COUNTRY_INFO!J55<>5),IF(COUNTRY_INFO!O55>V55,V55,COUNTRY_INFO!O55),0)","v":0},{"$f":"IF(AND(COUNTRY_INFO!J55>1,COUNTRY_INFO!J55<99,COUNTRY_INFO!J55<>4,COUNTRY_INFO!J55<>5), IF(W55/COUNTRY_INFO!O55*100<>0, IF(W55/COUNTRY_INFO!O55*100>100,100,W55/COUNTRY_INFO!O55*100), \"-\"),0)","v":0},{"$f":"MAX('MDA1'!L55, 'MDA2'!L55, 'MDA5'!L55,'T1'!M55, MAX(T3_R1!L55,T3_R2!L55,T3_R3!L55))","v":0},{"$f":"IF(AND(COUNTRY_INFO!J55>1,COUNTRY_INFO!J55<99,COUNTRY_INFO!J55<>4,COUNTRY_INFO!J55<>5),IF(COUNTRY_INFO!P55>Y55,Y55,COUNTRY_INFO!P55),0)","v":0},{"$f":"IF(AND(COUNTRY_INFO!J55>1,COUNTRY_INFO!J55<99,COUNTRY_INFO!J55<>4,COUNTRY_INFO!J55<>5), IF(Z55/COUNTRY_INFO!P55*100<>0, IF(Z55/COUNTRY_INFO!P55*100>100,100,Z55/COUNTRY_INFO!P55*100), \"-\"),0)","v":0},0,0,{"$f":"IF(AND(COUNTRY_INFO!J55>1,COUNTRY_INFO!J55<99,COUNTRY_INFO!J55<>4,COUNTRY_INFO!J55<>5), IF(AC55/P55*100<>0, IF(AC55/P55*100>100,100,AC55/P55*100), \"-\"),0)","v":0},{"$f":"COUNTRY_INFO!U55","v":155836},null,null,{"$f":"MAX('T1'!K55,'T2'!R55)","v":0},{"$f":"IF(AND(COUNTRY_INFO!K55>1,COUNTRY_INFO!K55<99,COUNTRY_INFO!K55<>4,COUNTRY_INFO!K55<>5),IF(COUNTRY_INFO!R55>AH55,AH55,COUNTRY_INFO!R55),0)","v":0},{"$f":"IF(AND(COUNTRY_INFO!K55>1,COUNTRY_INFO!K55<99,COUNTRY_INFO!K55<>4,COUNTRY_INFO!K55<>5), IF(AI55/COUNTRY_INFO!R55*100<>0, IF(AI55/COUNTRY_INFO!R55*100>100,100,AI55/COUNTRY_INFO!R55*100), \"-\"),0)","v":"-"},{"$f":"MAX('T1'!L55,'T2'!S55)","v":0},{"$f":"IF(AND(COUNTRY_INFO!K55>1,COUNTRY_INFO!K55<99,COUNTRY_INFO!K55<>4,COUNTRY_INFO!K55<>5),IF(COUNTRY_INFO!S55>AK55,AK55,COUNTRY_INFO!S55),0)","v":0},{"$f":"IF(AND(COUNTRY_INFO!K55>1,COUNTRY_INFO!K55<99,COUNTRY_INFO!K55<>4,COUNTRY_INFO!K55<>5), IF(AL55/COUNTRY_INFO!S55*100<>0, IF(AL55/COUNTRY_INFO!S55*100>100,100,AL55/COUNTRY_INFO!S55*100), \"-\"),0)","v":"-"},{"$f":"MAX('T1'!M55,'T2'!T55)","v":0},{"$f":"IF(AND(COUNTRY_INFO!K55>1,COUNTRY_INFO!K55<99,COUNTRY_INFO!K55<>4,COUNTRY_INFO!K55<>5),IF(COUNTRY_INFO!T55>AN55,AN55,COUNTRY_INFO!T55),0)","v":0},{"$f":"IF(AND(COUNTRY_INFO!K55>1,COUNTRY_INFO!K55<99,COUNTRY_INFO!K55<>4,COUNTRY_INFO!K55<>5), IF(AO55/COUNTRY_INFO!T55*100<>0, IF(AO55/COUNTRY_INFO!T55*100>100,100,AO55/COUNTRY_INFO!T55*100), \"-\"),0)","v":"-"},0,0,{"$f":"IF(AND(COUNTRY_INFO!K55>1,COUNTRY_INFO!K55<99,COUNTRY_INFO!K55<>4,COUNTRY_INFO!K55<>5), IF(AR55/AE55*100<>0, IF(AR55/AE55*100>100,100,AR55/AE55*100), \"-\"),0)","v":"-"},null,{"$f":"IF(AND(D55<>0, D55<>\"Inconnu\",D55<>\"Interrompu\",D55<>\"Non requis\"),D55/COUNTRY_INFO!D55, 0)","v":0},{"$f":"IF(AND(J55<>0,J55<>\"Inconnu\",J55<>\"Interrompu\",J55<>\"Non requis\"),J55/COUNTRY_INFO!D55, 0)","v":0},{"$f":"IF(AND(P55<>0,P55<>\"Inconnu\",P55<>\"Surveillance\",P55<>\"Non requis\"),P55/COUNTRY_INFO!Q55, 0)","v":0},{"$f":"IF(AND(AE55<>0,AE55<>\"Inconnu\",AE55<>\"Surveillance\",AE55<>\"Non requis\"),AE55/COUNTRY_INFO!U55, 0)","v":1},{"$f":"IF(AU55>0,D55*PROFILE!$G$7,IF(AV55>0,J55*PROFILE!$G$7,0))","v":0},{"$f":"_xlfn.IFS(OR(AU55>0,AW55>0),COUNTRY_INFO!E55, AV55>0,J55*PROFILE!$G$8,AX55>0,COUNTRY_INFO!R55,COUNTIFS(AU55:AX55,\">0\")=0,0)","v":18202},{"$f":"_xlfn.IFS(OR(AU55>0,AW55>0),COUNTRY_INFO!F55, AV55>0,J55*PROFILE!$G$9,AX55>0,COUNTRY_INFO!S55,COUNTIFS(AU55:AX55,\">0\")=0,0)","v":49033},{"$f":"_xlfn.IFS(AU55>0,COUNTRY_INFO!G55, AND(AV55>0,AW55=0,AX55=0),J55*PROFILE!$G$10,AND(AV55>0,AW55>0,AX55=0), MAX(J55*PROFILE!$G$10,COUNTRY_INFO!P55),AND(AV55>0,AW55=0,AX55>0), MAX(J55*PROFILE!$G$10,COUNTRY_INFO!T55),AND(AV55=0,AW55>0,AX55>0), MAX(COUNTRY_INFO!P55,COUNTRY_INFO!T55),AND(AV55=0,AW55>0,AX55=0),COUNTRY_INFO!P55,AND(AV55=0,AW55=0,AX55>0),COUNTRY_INFO!T55,AND(AV55>0,AW55>0,AX55>0), MAX(J55*PROFILE!$G$10,COUNTRY_INFO!P55,COUNTRY_INFO!T55),COUNTIFS(AU55:AX55,\">0\")=0,0)","v":88601},155836,0,{"$f":"MAX('MDA2'!J55,'MDA5'!J55,S55,AH55)","v":0},{"$f":"MAX('MDA1'!K55,'MDA2'!K55,'MDA3'!I55,'MDA3'!L55,'MDA5'!K55,V55,AK55)","v":0},{"$f":"MAX('MDA1'!L55,'MDA2'!L55,'MDA3'!J55,'MDA3'!M55,'MDA5'!L55,Y55,AN55)","v":0},0,{"$f":"_xlfn.IFS(AND(AU55=0,AW55=0,AX55=0),0,AND(AU55=0,AW55=0,AX55>0),AI55,AND(AU55=0,AW55>0,AX55=0),T55,AND(AU55=0,AW55>0,AX55>0),MAX(T55,AI55),AND(AU55>0,AW55=0,AX55=0),MIN(MAX('MDA2'!J55,'MDA5'!J55),AZ55),AND(AU55>0,AW55=0,AX55>0),MIN(MAX('MDA2'!J55,'MDA5'!J55,AI55),AZ55),AND(AU55>0,AW55>0,AX55=0),MIN(MAX('MDA2'!J55,'MDA5'!J55,T55),AZ55),AND(AU55>0,AW55>0,AX55>0),MIN(MAX('MDA2'!J55,'MDA5'!J55,AI55,T55),AZ55))","v":0},{"$f":"_xlfn.IFS(AND(AU55=0,AV55=0,AW55=0,AX55=0),0,AND(AU55=0,AV55=0,AW55=0,AX55>0),AL55,AND(AU55=0,AV55=0,AW55>0,AX55=0),W55,AND(AU55=0,AV55=0,AW55>0,AX55>0),MAX(W55,AL55),AND(AU55=0,AV55>0,AW55=0,AX55=0),MIN(J55*PROFILE!$G$9,MAX('MDA3'!I55,'MDA3'!L55)),AND(AU55=0,AV55>0,AW55=0,AX55>0),MIN(J55*PROFILE!$G$9,MAX('MDA3'!I55,'MDA3'!L55,AL55)),AND(AU55=0,AV55>0,AW55>0,AX55=0),MIN(J55*PROFILE!$G$9,MAX('MDA3'!I55,'MDA3'!L55,W55)),AND(AU55=0,AV55>0,AW55>0,AX55>0),MIN(J55*PROFILE!$G$9,MAX('MDA3'!I55,'MDA3'!L55,W55,AL55)),AND(AU55>0,AV55=0,AW55=0,AX55=0), MIN(BA55,MAX('MDA1'!K55,'MDA2'!K55,'MDA5'!K55)),AND(AU55>0,AV55=0,AW55=0,AX55>0), MIN(BA55,MAX('MDA1'!K55,'MDA2'!K55,'MDA5'!K55,AL55)),AND(AU55>0,AV55=0,AW55>0,AX55=0),MIN(BA55,MAX('MDA1'!K55,'MDA2'!KL55,'MDA5'!K55,W55)),AND(AU55>0,AV55=0,AW55>0,AX55>0),MIN(BA55,MAX('MDA1'!K55,'MDA2'!K55,'MDA5'!K55,W55,AL55)),AND(AU55>0,AV55>0,AW55=0,AX55=0),MIN(BA55, MAX('MDA1'!K55,'MDA2'!K55, 'MDA5'!K55,MAX('MDA3'!I55,'MDA3'!L55))), AND(AU55>0,AV55>0,AW55=0,AX55>0),MIN(BA55, MAX('MDA1'!K55,'MDA2'!K55, 'MDA5'!K55,MAX('MDA3'!I55,'MDA3'!L55),AL55)), AND(AU55>0,AV55>0,AW55>0,AX55=0), MIN(BA55, MAX('MDA1'!K55,'MDA2'!K55, 'MDA5'!K55,MAX('MDA3'!I55,'MDA3'!L55),W55)), AND(AU55>0,AV55>0,AW55>0,AX55>0), MIN(BA55, MAX('MDA1'!K55,'MDA2'!K55, 'MDA5'!K55,MAX('MDA3'!I55,'MDA3'!L55),W55,AL55)))","v":0},{"$f":"_xlfn.IFS(AND(AU55=0,AV55=0,AW55=0,AX55=0),0,AND(AU55=0,AV55=0,AW55=0,AX55>0),AO55,AND(AU55=0,AV55=0,AW55>0,AX55=0),Z55,AND(AU55=0,AV55=0,AW55>0,AX55>0),MAX(Z55,AO55),AND(AU55=0,AV55>0,AW55=0,AX55=0),MIN(J55*PROFILE!$G$10,MAX('MDA3'!J55,'MDA3'!J55)),AND(AU55=0,AV55>0,AW55=0,AX55>0),MIN(J55*PROFILE!$G$10,MAX('MDA3'!J55,'MDA3'!M55,AO55)),AND(AU55=0,AV55>0,AW55>0,AX55=0),MIN(J55*PROFILE!$G$10,MAX('MDA3'!J55,'MDA3'!M55,Z55)),AND(AU55=0,AV55>0,AW55>0,AX55>0),MIN(J55*PROFILE!$G$10,MAX('MDA3'!J55,'MDA3'!M55,Z55,AO55)),AND(AU55>0,AV55=0,AW55=0,AX55=0), MIN(BB55,MAX('MDA1'!L55,'MDA2'!L55,'MDA5'!L55)),AND(AU55>0,AV55=0,AW55=0,AX55>0), MIN(BB55,MAX('MDA1'!L55,'MDA2'!L55,'MDA5'!L55,AO55)),AND(AU55>0,AV55=0,AW55>0,AX55=0),MIN(BB55,MAX('MDA1'!L55,'MDA2'!L55,'MDA5'!L55,Z55)),AND(AU55>0,AV55=0,AW55>0,AX55>0),MIN(BB55,MAX('MDA1'!L55,'MDA2'!L55,'MDA5'!L55,Z55,AO55)),AND(AU55>0,AV55>0,AW55=0,AX55=0),MIN(BB55, MAX('MDA1'!L55,'MDA2'!L55, 'MDA5'!L55,MAX('MDA3'!J55,'MDA3'!M55))), AND(AU55>0,AV55>0,AW55=0,AX55>0),MIN(BB55, MAX('MDA1'!L55,'MDA2'!L55, 'MDA5'!L55,MAX('MDA3'!J55,'MDA3'!M55),AO55)), AND(AU55>0,AV55>0,AW55>0,AX55=0), MIN(BB55, MAX('MDA1'!L55,'MDA2'!L55, 'MDA5'!L55,MAX('MDA3'!J55,'MDA3'!M55),Z55)), AND(AU55>0,AV55>0,AW55>0,AX55>0), MIN(BB55, MAX('MDA1'!L55,'MDA2'!L55, 'MDA5'!L55,MAX('MDA3'!J55,'MDA3'!M55),Z55,AO55)))","v":0},0,0]
[{"$f":"IF(COUNTRY_INFO!A56=0,\" \",COUNTRY_INFO!A56)","v":"Mali"},{"$f":"IF(COUNTRY_INFO!B56=0,\" \",COUNTRY_INFO!B56)","v":"Segou"},{"$f":"IF(COUNTRY_INFO!C56=0,\" \",COUNTRY_INFO!C56)","v":"Barouéli"},{"$f":"COUNTRY_INFO!L56","v":0},null,null,{"$f":"MAX('MDA1'!M56,'MDA2'!M56,'MDA5'!M56)","v":0},{"$f":"IF(AND(COUNTRY_INFO!H56>0,COUNTRY_INFO!H56<4),IF(D56>G56,G56,D56),0)","v":0},{"$f":"IF(AND(COUNTRY_INFO!H56>0,COUNTRY_INFO!H56<4), IF(G56/D56*100<>0, IF(G56/D56*100>100,100,G56/D56*100), \"-\"),0)","v":0},{"$f":"COUNTRY_INFO!M56","v":0},null,null,{"$f":"MAX('MDA1'!M56,MAX('MDA3'!I56,'MDA3'!L56)+MAX('MDA3'!J56,'MDA3'!M56))","v":0},{"$f":"IF(AND(COUNTRY_INFO!I56>0,COUNTRY_INFO!I56<4),IF(J56>M56,M56,J56),0)","v":0},{"$f":"IF(AND(COUNTRY_INFO!I56>0,COUNTRY_INFO!I56<4), IF(M56/J56*100<>0, IF(M56/J56*100>100,100,M56/J56*100), \"-\"),0)","v":0},{"$f":"COUNTRY_INFO!Q56","v":"Non requis"},null,null,{"$f":"MAX('MDA2'!J56,'MDA5'!J56,'T1'!K56, MAX(T3_R1!J56,T3_R2!J56,T3_R3!J56))","v":0},{"$f":"IF(AND(COUNTRY_INFO!J56>1,COUNTRY_INFO!J56<99,COUNTRY_INFO!J56<>4,COUNTRY_INFO!J56<>5),IF(COUNTRY_INFO!N56>S56,S56,COUNTRY_INFO!N56),0)","v":0},{"$f":"IF(AND(COUNTRY_INFO!J56>1,COUNTRY_INFO!J56<99,COUNTRY_INFO!J56<>4,COUNTRY_INFO!J56<>5), IF(T56/COUNTRY_INFO!N56*100<>0, IF(T56/COUNTRY_INFO!N56*100>100,100,T56/COUNTRY_INFO!N56*100), \"-\"),0)","v":0},{"$f":"MAX('MDA1'!K56, 'MDA2'!K56, 'MDA5'!K56,'T1'!L56, MAX(T3_R1!K56,T3_R2!K56,T3_R3!K56))","v":0},{"$f":"IF(AND(COUNTRY_INFO!J56>1,COUNTRY_INFO!J56<99,COUNTRY_INFO!J56<>4,COUNTRY_INFO!J56<>5),IF(COUNTRY_INFO!O56>V56,V56,COUNTRY_INFO!O56),0)","v":0},{"$f":"IF(AND(COUNTRY_INFO!J56>1,COUNTRY_INFO!J56<99,COUNTRY_INFO!J56<>4,COUNTRY_INFO!J56<>5), IF(W56/COUNTRY_INFO!O56*100<>0, IF(W56/COUNTRY_INFO!O56*100>100,100,W56/COUNTRY_INFO!O56*100), \"-\"),0)","v":0},{"$f":"MAX('MDA1'!L56, 'MDA2'!L56, 'MDA5'!L56,'T1'!M56, MAX(T3_R1!L56,T3_R2!L56,T3_R3!L56))","v":0},{"$f":"IF(AND(COUNTRY_INFO!J56>1,COUNTRY_INFO!J56<99,COUNTRY_INFO!J56<>4,COUNTRY_INFO!J56<>5),IF(COUNTRY_INFO!P56>Y56,Y56,COUNTRY_INFO!P56),0)","v":0},{"$f":"IF(AND(COUNTRY_INFO!J56>1,COUNTRY_INFO!J56<99,COUNTRY_INFO!J56<>4,COUNTRY_INFO!J56<>5), IF(Z56/COUNTRY_INFO!P56*100<>0, IF(Z56/COUNTRY_INFO!P56*100>100,100,Z56/COUNTRY_INFO!P56*100), \"-\"),0)","v":0},0,0,{"$f":"IF(AND(COUNTRY_INFO!J56>1,COUNTRY_INFO!J56<99,COUNTRY_INFO!J56<>4,COUNTRY_INFO!J56<>5), IF(AC56/P56*100<>0, IF(AC56/P56*100>100,100,AC56/P56*100), \"-\"),0)","v":0},{"$f":"COUNTRY_INFO!U56","v":5371},null,null,{"$f":"MAX('T1'!K56,'T2'!R56)","v":0},{"$f":"IF(AND(COUNTRY_INFO!K56>1,COUNTRY_INFO!K56<99,COUNTRY_INFO!K56<>4,COUNTRY_INFO!K56<>5),IF(COUNTRY_INFO!R56>AH56,AH56,COUNTRY_INFO!R56),0)","v":0},{"$f":"IF(AND(COUNTRY_INFO!K56>1,COUNTRY_INFO!K56<99,COUNTRY_INFO!K56<>4,COUNTRY_INFO!K56<>5), IF(AI56/COUNTRY_INFO!R56*100<>0, IF(AI56/COUNTRY_INFO!R56*100>100,100,AI56/COUNTRY_INFO!R56*100), \"-\"),0)","v":"-"},{"$f":"MAX('T1'!L56,'T2'!S56)","v":4209},{"$f":"IF(AND(COUNTRY_INFO!K56>1,COUNTRY_INFO!K56<99,COUNTRY_INFO!K56<>4,COUNTRY_INFO!K56<>5),IF(COUNTRY_INFO!S56>AK56,AK56,COUNTRY_INFO!S56),0)","v":1690},{"$f":"IF(AND(COUNTRY_INFO!K56>1,COUNTRY_INFO!K56<99,COUNTRY_INFO!K56<>4,COUNTRY_INFO!K56<>5), IF(AL56/COUNTRY_INFO!S56*100<>0, IF(AL56/COUNTRY_INFO!S56*100>100,100,AL56/COUNTRY_INFO!S56*100), \"-\"),0)","v":100},{"$f":"MAX('T1'!M56,'T2'!T56)","v":0},{"$f":"IF(AND(COUNTRY_INFO!K56>1,COUNTRY_INFO!K56<99,COUNTRY_INFO!K56<>4,COUNTRY_INFO!K56<>5),IF(COUNTRY_INFO!T56>AN56,AN56,COUNTRY_INFO!T56),0)","v":0},{"$f":"IF(AND(COUNTRY_INFO!K56>1,COUNTRY_INFO!K56<99,COUNTRY_INFO!K56<>4,COUNTRY_INFO!K56<>5), IF(AO56/COUNTRY_INFO!T56*100<>0, IF(AO56/COUNTRY_INFO!T56*100>100,100,AO56/COUNTRY_INFO!T56*100), \"-\"),0)","v":"-"},4209,1690,{"$f":"IF(AND(COUNTRY_INFO!K56>1,COUNTRY_INFO!K56<99,COUNTRY_INFO!K56<>4,COUNTRY_INFO!K56<>5), IF(AR56/AE56*100<>0, IF(AR56/AE56*100>100,100,AR56/AE56*100), \"-\"),0)","v":31.465276484825917},null,{"$f":"IF(AND(D56<>0, D56<>\"Inconnu\",D56<>\"Interrompu\",D56<>\"Non requis\"),D56/COUNTRY_INFO!D56, 0)","v":0},{"$f":"IF(AND(J56<>0,J56<>\"Inconnu\",J56<>\"Interrompu\",J56<>\"Non requis\"),J56/COUNTRY_INFO!D56, 0)","v":0},{"$f":"IF(AND(P56<>0,P56<>\"Inconnu\",P56<>\"Surveillance\",P56<>\"Non requis\"),P56/COUNTRY_INFO!Q56, 0)","v":0},{"$f":"IF(AND(AE56<>0,AE56<>\"Inconnu\",AE56<>\"Surveillance\",AE56<>\"Non requis\"),AE56/COUNTRY_INFO!U56, 0)","v":1},{"$f":"IF(AU56>0,D56*PROFILE!$G$7,IF(AV56>0,J56*PROFILE!$G$7,0))","v":0},{"$f":"_xlfn.IFS(OR(AU56>0,AW56>0),COUNTRY_INFO!E56, AV56>0,J56*PROFILE!$G$8,AX56>0,COUNTRY_INFO!R56,COUNTIFS(AU56:AX56,\">0\")=0,0)","v":628},{"$f":"_xlfn.IFS(OR(AU56>0,AW56>0),COUNTRY_INFO!F56, AV56>0,J56*PROFILE!$G$9,AX56>0,COUNTRY_INFO!S56,COUNTIFS(AU56:AX56,\">0\")=0,0)","v":1690},{"$f":"_xlfn.IFS(AU56>0,COUNTRY_INFO!G56, AND(AV56>0,AW56=0,AX56=0),J56*PROFILE!$G$10,AND(AV56>0,AW56>0,AX56=0), MAX(J56*PROFILE!$G$10,COUNTRY_INFO!P56),AND(AV56>0,AW56=0,AX56>0), MAX(J56*PROFILE!$G$10,COUNTRY_INFO!T56),AND(AV56=0,AW56>0,AX56>0), MAX(COUNTRY_INFO!P56,COUNTRY_INFO!T56),AND(AV56=0,AW56>0,AX56=0),COUNTRY_INFO!P56,AND(AV56=0,AW56=0,AX56>0),COUNTRY_INFO!T56,AND(AV56>0,AW56>0,AX56>0), MAX(J56*PROFILE!$G$10,COUNTRY_INFO!P56,COUNTRY_INFO!T56),COUNTIFS(AU56:AX56,\">0\")=0,0)","v":3053},5371,"Y",{"$f":"MAX('MDA2'!J56,'MDA5'!J56,S56,AH56)","v":0},{"$f":"MAX('MDA1'!K56,'MDA2'!K56,'MDA3'!I56,'MDA3'!L56,'MDA5'!K56,V56,AK56)","v":4209},{"$f":"MAX('MDA1'!L56,'MDA2'!L56,'MDA3'!J56,'MDA3'!M56,'MDA5'!L56,Y56,AN56)","v":0},4209,{"$f":"_xlfn.IFS(AND(AU56=0,AW56=0,AX56=0),0,AND(AU56=0,AW56=0,AX56>0),AI56,AND(AU56=0,AW56>0,AX56=0),T56,AND(AU56=0,AW56>0,AX56>0),MAX(T56,AI56),AND(AU56>0,AW56=0,AX56=0),MIN(MAX('MDA2'!J56,'MDA5'!J56),AZ56),AND(AU56>0,AW56=0,AX56>0),MIN(MAX('MDA2'!J56,'MDA5'!J56,AI56),AZ56),AND(AU56>0,AW56>0,AX56=0),MIN(MAX('MDA2'!J56,'MDA5'!J56,T56),AZ56),AND(AU56>0,AW56>0,AX56>0),MIN(MAX('MDA2'!J56,'MDA5'!J56,AI56,T56),AZ56))","v":0},{"$f":"_xlfn.IFS(AND(AU56=0,AV56=0,AW56=0,AX56=0),0,AND(AU56=0,AV56=0,AW56=0,AX56>0),AL56,AND(AU56=0,AV56=0,AW56>0,AX56=0),W56,AND(AU56=0,AV56=0,AW56>0,AX56>0),MAX(W56,AL56),AND(AU56=0,AV56>0,AW56=0,AX56=0),MIN(J56*PROFILE!$G$9,MAX('MDA3'!I56,'MDA3'!L56)),AND(AU56=0,AV56>0,AW56=0,AX56>0),MIN(J56*PROFILE!$G$9,MAX('MDA3'!I56,'MDA3'!L56,AL56)),AND(AU56=0,AV56>0,AW56>0,AX56=0),MIN(J56*PROFILE!$G$9,MAX('MDA3'!I56,'MDA3'!L56,W56)),AND(AU56=0,AV56>0,AW56>0,AX56>0),MIN(J56*PROFILE!$G$9,MAX('MDA3'!I56,'MDA3'!L56,W56,AL56)),AND(AU56>0,AV56=0,AW56=0,AX56=0), MIN(BA56,MAX('MDA1'!K56,'MDA2'!K56,'MDA5'!K56)),AND(AU56>0,AV56=0,AW56=0,AX56>0), MIN(BA56,MAX('MDA1'!K56,'MDA2'!K56,'MDA5'!K56,AL56)),AND(AU56>0,AV56=0,AW56>0,AX56=0),MIN(BA56,MAX('MDA1'!K56,'MDA2'!KL56,'MDA5'!K56,W56)),AND(AU56>0,AV56=0,AW56>0,AX56>0),MIN(BA56,MAX('MDA1'!K56,'MDA2'!K56,'MDA5'!K56,W56,AL56)),AND(AU56>0,AV56>0,AW56=0,AX56=0),MIN(BA56, MAX('MDA1'!K56,'MDA2'!K56, 'MDA5'!K56,MAX('MDA3'!I56,'MDA3'!L56))), AND(AU56>0,AV56>0,AW56=0,AX56>0),MIN(BA56, MAX('MDA1'!K56,'MDA2'!K56, 'MDA5'!K56,MAX('MDA3'!I56,'MDA3'!L56),AL56)), AND(AU56>0,AV56>0,AW56>0,AX56=0), MIN(BA56, MAX('MDA1'!K56,'MDA2'!K56, 'MDA5'!K56,MAX('MDA3'!I56,'MDA3'!L56),W56)), AND(AU56>0,AV56>0,AW56>0,AX56>0), MIN(BA56, MAX('MDA1'!K56,'MDA2'!K56, 'MDA5'!K56,MAX('MDA3'!I56,'MDA3'!L56),W56,AL56)))","v":1690},{"$f":"_xlfn.IFS(AND(AU56=0,AV56=0,AW56=0,AX56=0),0,AND(AU56=0,AV56=0,AW56=0,AX56>0),AO56,AND(AU56=0,AV56=0,AW56>0,AX56=0),Z56,AND(AU56=0,AV56=0,AW56>0,AX56>0),MAX(Z56,AO56),AND(AU56=0,AV56>0,AW56=0,AX56=0),MIN(J56*PROFILE!$G$10,MAX('MDA3'!J56,'MDA3'!J56)),AND(AU56=0,AV56>0,AW56=0,AX56>0),MIN(J56*PROFILE!$G$10,MAX('MDA3'!J56,'MDA3'!M56,AO56)),AND(AU56=0,AV56>0,AW56>0,AX56=0),MIN(J56*PROFILE!$G$10,MAX('MDA3'!J56,'MDA3'!M56,Z56)),AND(AU56=0,AV56>0,AW56>0,AX56>0),MIN(J56*PROFILE!$G$10,MAX('MDA3'!J56,'MDA3'!M56,Z56,AO56)),AND(AU56>0,AV56=0,AW56=0,AX56=0), MIN(BB56,MAX('MDA1'!L56,'MDA2'!L56,'MDA5'!L56)),AND(AU56>0,AV56=0,AW56=0,AX56>0), MIN(BB56,MAX('MDA1'!L56,'MDA2'!L56,'MDA5'!L56,AO56)),AND(AU56>0,AV56=0,AW56>0,AX56=0),MIN(BB56,MAX('MDA1'!L56,'MDA2'!L56,'MDA5'!L56,Z56)),AND(AU56>0,AV56=0,AW56>0,AX56>0),MIN(BB56,MAX('MDA1'!L56,'MDA2'!L56,'MDA5'!L56,Z56,AO56)),AND(AU56>0,AV56>0,AW56=0,AX56=0),MIN(BB56, MAX('MDA1'!L56,'MDA2'!L56, 'MDA5'!L56,MAX('MDA3'!J56,'MDA3'!M56))), AND(AU56>0,AV56>0,AW56=0,AX56>0),MIN(BB56, MAX('MDA1'!L56,'MDA2'!L56, 'MDA5'!L56,MAX('MDA3'!J56,'MDA3'!M56),AO56)), AND(AU56>0,AV56>0,AW56>0,AX56=0), MIN(BB56, MAX('MDA1'!L56,'MDA2'!L56, 'MDA5'!L56,MAX('MDA3'!J56,'MDA3'!M56),Z56)), AND(AU56>0,AV56>0,AW56>0,AX56>0), MIN(BB56, MAX('MDA1'!L56,'MDA2'!L56, 'MDA5'!L56,MAX('MDA3'!J56,'MDA3'!M56),Z56,AO56)))","v":0},1690,31.465276484825917]
[{"$f":"IF(COUNTRY_INFO!A57=0,\" \",COUNTRY_INFO!A57)","v":"Mali"},{"$f":"IF(COUNTRY_INFO!B57=0,\" \",COUNTRY_INFO!B57)","v":"Segou"},{"$f":"IF(COUNTRY_INFO!C57=0,\" \",COUNTRY_INFO!C57)","v":"Bla"},{"$f":"COUNTRY_INFO!L57","v":0},null,null,{"$f":"MAX('MDA1'!M57,'MDA2'!M57,'MDA5'!M57)","v":0},{"$f":"IF(AND(COUNTRY_INFO!H57>0,COUNTRY_INFO!H57<4),IF(D57>G57,G57,D57),0)","v":0},{"$f":"IF(AND(COUNTRY_INFO!H57>0,COUNTRY_INFO!H57<4), IF(G57/D57*100<>0, IF(G57/D57*100>100,100,G57/D57*100), \"-\"),0)","v":0},{"$f":"COUNTRY_INFO!M57","v":0},null,null,{"$f":"MAX('MDA1'!M57,MAX('MDA3'!I57,'MDA3'!L57)+MAX('MDA3'!J57,'MDA3'!M57))","v":0},{"$f":"IF(AND(COUNTRY_INFO!I57>0,COUNTRY_INFO!I57<4),IF(J57>M57,M57,J57),0)","v":0},{"$f":"IF(AND(COUNTRY_INFO!I57>0,COUNTRY_INFO!I57<4), IF(M57/J57*100<>0, IF(M57/J57*100>100,100,M57/J57*100), \"-\"),0)","v":0},{"$f":"COUNTRY_INFO!Q57","v":"Non requis"},null,null,{"$f":"MAX('MDA2'!J57,'MDA5'!J57,'T1'!K57, MAX(T3_R1!J57,T3_R2!J57,T3_R3!J57))","v":0},{"$f":"IF(AND(COUNTRY_INFO!J57>1,COUNTRY_INFO!J57<99,COUNTRY_INFO!J57<>4,COUNTRY_INFO!J57<>5),IF(COUNTRY_INFO!N57>S57,S57,COUNTRY_INFO!N57),0)","v":0},{"$f":"IF(AND(COUNTRY_INFO!J57>1,COUNTRY_INFO!J57<99,COUNTRY_INFO!J57<>4,COUNTRY_INFO!J57<>5), IF(T57/COUNTRY_INFO!N57*100<>0, IF(T57/COUNTRY_INFO!N57*100>100,100,T57/COUNTRY_INFO!N57*100), \"-\"),0)","v":0},{"$f":"MAX('MDA1'!K57, 'MDA2'!K57, 'MDA5'!K57,'T1'!L57, MAX(T3_R1!K57,T3_R2!K57,T3_R3!K57))","v":0},{"$f":"IF(AND(COUNTRY_INFO!J57>1,COUNTRY_INFO!J57<99,COUNTRY_INFO!J57<>4,COUNTRY_INFO!J57<>5),IF(COUNTRY_INFO!O57>V57,V57,COUNTRY_INFO!O57),0)","v":0},{"$f":"IF(AND(COUNTRY_INFO!J57>1,COUNTRY_INFO!J57<99,COUNTRY_INFO!J57<>4,COUNTRY_INFO!J57<>5), IF(W57/COUNTRY_INFO!O57*100<>0, IF(W57/COUNTRY_INFO!O57*100>100,100,W57/COUNTRY_INFO!O57*100), \"-\"),0)","v":0},{"$f":"MAX('MDA1'!L57, 'MDA2'!L57, 'MDA5'!L57,'T1'!M57, MAX(T3_R1!L57,T3_R2!L57,T3_R3!L57))","v":0},{"$f":"IF(AND(COUNTRY_INFO!J57>1,COUNTRY_INFO!J57<99,COUNTRY_INFO!J57<>4,COUNTRY_INFO!J57<>5),IF(COUNTRY_INFO!P57>Y57,Y57,COUNTRY_INFO!P57),0)","v":0},{"$f":"IF(AND(COUNTRY_INFO!J57>1,COUNTRY_INFO!J57<99,COUNTRY_INFO!J57<>4,COUNTRY_INFO!J57<>5), IF(Z57/COUNTRY_INFO!P57*100<>0, IF(Z57/COUNTRY_INFO!P57*100>100,100,Z57/COUNTRY_INFO!P57*100), \"-\"),0)","v":0},0,0,{"$f":"IF(AND(COUNTRY_INFO!J57>1,COUNTRY_INFO!J57<99,COUNTRY_INFO!J57<>4,COUNTRY_INFO!J57<>5), IF(AC57/P57*100<>0, IF(AC57/P57*100>100,100,AC57/P57*100), \"-\"),0)","v":0},{"$f":"COUNTRY_INFO!U57","v":406911},null,null,{"$f":"MAX('T1'!K57,'T2'!R57)","v":0},{"$f":"IF(AND(COUNTRY_INFO!K57>1,COUNTRY_INFO!K57<99,COUNTRY_INFO!K57<>4,COUNTRY_INFO!K57<>5),IF(COUNTRY_INFO!R57>AH57,AH57,COUNTRY_INFO!R57),0)","v":0},{"$f":"IF(AND(COUNTRY_INFO!K57>1,COUNTRY_INFO!K57<99,COUNTRY_INFO!K57<>4,COUNTRY_INFO!K57<>5), IF(AI57/COUNTRY_INFO!R57*100<>0, IF(AI57/COUNTRY_INFO!R57*100>100,100,AI57/COUNTRY_INFO!R57*100), \"-\"),0)","v":"-"},{"$f":"MAX('T1'!L57,'T2'!S57)","v":119028},{"$f":"IF(AND(COUNTRY_INFO!K57>1,COUNTRY_INFO!K57<99,COUNTRY_INFO!K57<>4,COUNTRY_INFO!K57<>5),IF(COUNTRY_INFO!S57>AK57,AK57,COUNTRY_INFO!S57),0)","v":119028},{"$f":"IF(AND(COUNTRY_INFO!K57>1,COUNTRY_INFO!K57<99,COUNTRY_INFO!K57<>4,COUNTRY_INFO!K57<>5), IF(AL57/COUNTRY_INFO!S57*100<>0, IF(AL57/COUNTRY_INFO!S57*100>100,100,AL57/COUNTRY_INFO!S57*100), \"-\"),0)","v":92.968109286032288},{"$f":"MAX('T1'!M57,'T2'!T57)","v":0},{"$f":"IF(AND(COUNTRY_INFO!K57>1,COUNTRY_INFO!K57<99,COUNTRY_INFO!K57<>4,COUNTRY_INFO!K57<>5),IF(COUNTRY_INFO!T57>AN57,AN57,COUNTRY_INFO!T57),0)","v":0},{"$f":"IF(AND(COUNTRY_INFO!K57>1,COUNTRY_INFO!K57<99,COUNTRY_INFO!K57<>4,COUNTRY_INFO!K57<>5), IF(AO57/COUNTRY_INFO!T57*100<>0, IF(AO57/COUNTRY_INFO!T57*100>100,100,AO57/COUNTRY_INFO!T57*100), \"-\"),0)","v":"-"},119028,119028,{"$f":"IF(AND(COUNTRY_INFO!K57>1,COUNTRY_INFO!K57<99,COUNTRY_INFO!K57<>4,COUNTRY_INFO!K57<>5), IF(AR57/AE57*100<>0, IF(AR57/AE57*100>100,100,AR57/AE57*100), \"-\"),0)","v":29.251605387910377},null,{"$f":"IF(AND(D57<>0, D57<>\"Inconnu\",D57<>\"Interrompu\",D57<>\"Non requis\"),D57/COUNTRY_INFO!D57, 0)","v":0},{"$f":"IF(AND(J57<>0,J57<>\"Inconnu\",J57<>\"Interrompu\",J57<>\"Non requis\"),J57/COUNTRY_INFO!D57, 0)","v":0},{"$f":"IF(AND(P57<>0,P57<>\"Inconnu\",P57<>\"Surveillance\",P57<>\"Non requis\"),P57/COUNTRY_INFO!Q57, 0)","v":0},{"$f":"IF(AND(AE57<>0,AE57<>\"Inconnu\",AE57<>\"Surveillance\",AE57<>\"Non requis\"),AE57/COUNTRY_INFO!U57, 0)","v":1},{"$f":"IF(AU57>0,D57*PROFILE!$G$7,IF(AV57>0,J57*PROFILE!$G$7,0))","v":0},{"$f":"_xlfn.IFS(OR(AU57>0,AW57>0),COUNTRY_INFO!E57, AV57>0,J57*PROFILE!$G$8,AX57>0,COUNTRY_INFO!R57,COUNTIFS(AU57:AX57,\">0\")=0,0)","v":47528},{"$f":"_xlfn.IFS(OR(AU57>0,AW57>0),COUNTRY_INFO!F57, AV57>0,J57*PROFILE!$G$9,AX57>0,COUNTRY_INFO!S57,COUNTIFS(AU57:AX57,\">0\")=0,0)","v":128031},{"$f":"_xlfn.IFS(AU57>0,COUNTRY_INFO!G57, AND(AV57>0,AW57=0,AX57=0),J57*PROFILE!$G$10,AND(AV57>0,AW57>0,AX57=0), MAX(J57*PROFILE!$G$10,COUNTRY_INFO!P57),AND(AV57>0,AW57=0,AX57>0), MAX(J57*PROFILE!$G$10,COUNTRY_INFO!T57),AND(AV57=0,AW57>0,AX57>0), MAX(COUNTRY_INFO!P57,COUNTRY_INFO!T57),AND(AV57=0,AW57>0,AX57=0),COUNTRY_INFO!P57,AND(AV57=0,AW57=0,AX57>0),COUNTRY_INFO!T57,AND(AV57>0,AW57>0,AX57>0), MAX(J57*PROFILE!$G$10,COUNTRY_INFO!P57,COUNTRY_INFO!T57),COUNTIFS(AU57:AX57,\">0\")=0,0)","v":231352},406911,"Y",{"$f":"MAX('MDA2'!J57,'MDA5'!J57,S57,AH57)","v":0},{"$f":"MAX('MDA1'!K57,'MDA2'!K57,'MDA3'!I57,'MDA3'!L57,'MDA5'!K57,V57,AK57)","v":119028},{"$f":"MAX('MDA1'!L57,'MDA2'!L57,'MDA3'!J57,'MDA3'!M57,'MDA5'!L57,Y57,AN57)","v":0},119028,{"$f":"_xlfn.IFS(AND(AU57=0,AW57=0,AX57=0),0,AND(AU57=0,AW57=0,AX57>0),AI57,AND(AU57=0,AW57>0,AX57=0),T57,AND(AU57=0,AW57>0,AX57>0),MAX(T57,AI57),AND(AU57>0,AW57=0,AX57=0),MIN(MAX('MDA2'!J57,'MDA5'!J57),AZ57),AND(AU57>0,AW57=0,AX57>0),MIN(MAX('MDA2'!J57,'MDA5'!J57,AI57),AZ57),AND(AU57>0,AW57>0,AX57=0),MIN(MAX('MDA2'!J57,'MDA5'!J57,T57),AZ57),AND(AU57>0,AW57>0,AX57>0),MIN(MAX('MDA2'!J57,'MDA5'!J57,AI57,T57),AZ57))","v":0},{"$f":"_xlfn.IFS(AND(AU57=0,AV57=0,AW57=0,AX57=0),0,AND(AU57=0,AV57=0,AW57=0,AX57>0),AL57,AND(AU57=0,AV57=0,AW57>0,AX57=0),W57,AND(AU57=0,AV57=0,AW57>0,AX57>0),MAX(W57,AL57),AND(AU57=0,AV57>0,AW57=0,AX57=0),MIN(J57*PROFILE!$G$9,MAX('MDA3'!I57,'MDA3'!L57)),AND(AU57=0,AV57>0,AW57=0,AX57>0),MIN(J57*PROFILE!$G$9,MAX('MDA3'!I57,'MDA3'!L57,AL57)),AND(AU57=0,AV57>0,AW57>0,AX57=0),MIN(J57*PROFILE!$G$9,MAX('MDA3'!I57,'MDA3'!L57,W57)),AND(AU57=0,AV57>0,AW57>0,AX57>0),MIN(J57*PROFILE!$G$9,MAX('MDA3'!I57,'MDA3'!L57,W57,AL57)),AND(AU57>0,AV57=0,AW57=0,AX57=0), MIN(BA57,MAX('MDA1'!K57,'MDA2'!K57,'MDA5'!K57)),AND(AU57>0,AV57=0,AW57=0,AX57>0), MIN(BA57,MAX('MDA1'!K57,'MDA2'!K57,'MDA5'!K57,AL57)),AND(AU57>0,AV57=0,AW57>0,AX57=0),MIN(BA57,MAX('MDA1'!K57,'MDA2'!KL57,'MDA5'!K57,W57)),AND(AU57>0,AV57=0,AW57>0,AX57>0),MIN(BA57,MAX('MDA1'!K57,'MDA2'!K57,'MDA5'!K57,W57,AL57)),AND(AU57>0,AV57>0,AW57=0,AX57=0),MIN(BA57, MAX('MDA1'!K57,'MDA2'!K57, 'MDA5'!K57,MAX('MDA3'!I57,'MDA3'!L57))), AND(AU57>0,AV57>0,AW57=0,AX57>0),MIN(BA57, MAX('MDA1'!K57,'MDA2'!K57, 'MDA5'!K57,MAX('MDA3'!I57,'MDA3'!L57),AL57)), AND(AU57>0,AV57>0,AW57>0,AX57=0), MIN(BA57, MAX('MDA1'!K57,'MDA2'!K57, 'MDA5'!K57,MAX('MDA3'!I57,'MDA3'!L57),W57)), AND(AU57>0,AV57>0,AW57>0,AX57>0), MIN(BA57, MAX('MDA1'!K57,'MDA2'!K57, 'MDA5'!K57,MAX('MDA3'!I57,'MDA3'!L57),W57,AL57)))","v":119028},{"$f":"_xlfn.IFS(AND(AU57=0,AV57=0,AW57=0,AX57=0),0,AND(AU57=0,AV57=0,AW57=0,AX57>0),AO57,AND(AU57=0,AV57=0,AW57>0,AX57=0),Z57,AND(AU57=0,AV57=0,AW57>0,AX57>0),MAX(Z57,AO57),AND(AU57=0,AV57>0,AW57=0,AX57=0),MIN(J57*PROFILE!$G$10,MAX('MDA3'!J57,'MDA3'!J57)),AND(AU57=0,AV57>0,AW57=0,AX57>0),MIN(J57*PROFILE!$G$10,MAX('MDA3'!J57,'MDA3'!M57,AO57)),AND(AU57=0,AV57>0,AW57>0,AX57=0),MIN(J57*PROFILE!$G$10,MAX('MDA3'!J57,'MDA3'!M57,Z57)),AND(AU57=0,AV57>0,AW57>0,AX57>0),MIN(J57*PROFILE!$G$10,MAX('MDA3'!J57,'MDA3'!M57,Z57,AO57)),AND(AU57>0,AV57=0,AW57=0,AX57=0), MIN(BB57,MAX('MDA1'!L57,'MDA2'!L57,'MDA5'!L57)),AND(AU57>0,AV57=0,AW57=0,AX57>0), MIN(BB57,MAX('MDA1'!L57,'MDA2'!L57,'MDA5'!L57,AO57)),AND(AU57>0,AV57=0,AW57>0,AX57=0),MIN(BB57,MAX('MDA1'!L57,'MDA2'!L57,'MDA5'!L57,Z57)),AND(AU57>0,AV57=0,AW57>0,AX57>0),MIN(BB57,MAX('MDA1'!L57,'MDA2'!L57,'MDA5'!L57,Z57,AO57)),AND(AU57>0,AV57>0,AW57=0,AX57=0),MIN(BB57, MAX('MDA1'!L57,'MDA2'!L57, 'MDA5'!L57,MAX('MDA3'!J57,'MDA3'!M57))), AND(AU57>0,AV57>0,AW57=0,AX57>0),MIN(BB57, MAX('MDA1'!L57,'MDA2'!L57, 'MDA5'!L57,MAX('MDA3'!J57,'MDA3'!M57),AO57)), AND(AU57>0,AV57>0,AW57>0,AX57=0), MIN(BB57, MAX('MDA1'!L57,'MDA2'!L57, 'MDA5'!L57,MAX('MDA3'!J57,'MDA3'!M57),Z57)), AND(AU57>0,AV57>0,AW57>0,AX57>0), MIN(BB57, MAX('MDA1'!L57,'MDA2'!L57, 'MDA5'!L57,MAX('MDA3'!J57,'MDA3'!M57),Z57,AO57)))","v":0},119028,29.251605387910377]
[{"$f":"IF(COUNTRY_INFO!A58=0,\" \",COUNTRY_INFO!A58)","v":"Mali"},{"$f":"IF(COUNTRY_INFO!B58=0,\" \",COUNTRY_INFO!B58)","v":"Segou"},{"$f":"IF(COUNTRY_INFO!C58=0,\" \",COUNTRY_INFO!C58)","v":"Macina"},{"$f":"COUNTRY_INFO!L58","v":0},null,null,{"$f":"MAX('MDA1'!M58,'MDA2'!M58,'MDA5'!M58)","v":0},{"$f":"IF(AND(COUNTRY_INFO!H58>0,COUNTRY_INFO!H58<4),IF(D58>G58,G58,D58),0)","v":0},{"$f":"IF(AND(COUNTRY_INFO!H58>0,COUNTRY_INFO!H58<4), IF(G58/D58*100<>0, IF(G58/D58*100>100,100,G58/D58*100), \"-\"),0)","v":0},{"$f":"COUNTRY_INFO!M58","v":0},null,null,{"$f":"MAX('MDA1'!M58,MAX('MDA3'!I58,'MDA3'!L58)+MAX('MDA3'!J58,'MDA3'!M58))","v":0},{"$f":"IF(AND(COUNTRY_INFO!I58>0,COUNTRY_INFO!I58<4),IF(J58>M58,M58,J58),0)","v":0},{"$f":"IF(AND(COUNTRY_INFO!I58>0,COUNTRY_INFO!I58<4), IF(M58/J58*100<>0, IF(M58/J58*100>100,100,M58/J58*100), \"-\"),0)","v":0},{"$f":"COUNTRY_INFO!Q58","v":"Non requis"},null,null,{"$f":"MAX('MDA2'!J58,'MDA5'!J58,'T1'!K58, MAX(T3_R1!J58,T3_R2!J58,T3_R3!J58))","v":0},{"$f":"IF(AND(COUNTRY_INFO!J58>1,COUNTRY_INFO!J58<99,COUNTRY_INFO!J58<>4,COUNTRY_INFO!J58<>5),IF(COUNTRY_INFO!N58>S58,S58,COUNTRY_INFO!N58),0)","v":0},{"$f":"IF(AND(COUNTRY_INFO!J58>1,COUNTRY_INFO!J58<99,COUNTRY_INFO!J58<>4,COUNTRY_INFO!J58<>5), IF(T58/COUNTRY_INFO!N58*100<>0, IF(T58/COUNTRY_INFO!N58*100>100,100,T58/COUNTRY_INFO!N58*100), \"-\"),0)","v":0},{"$f":"MAX('MDA1'!K58, 'MDA2'!K58, 'MDA5'!K58,'T1'!L58, MAX(T3_R1!K58,T3_R2!K58,T3_R3!K58))","v":0},{"$f":"IF(AND(COUNTRY_INFO!J58>1,COUNTRY_INFO!J58<99,COUNTRY_INFO!J58<>4,COUNTRY_INFO!J58<>5),IF(COUNTRY_INFO!O58>V58,V58,COUNTRY_INFO!O58),0)","v":0},{"$f":"IF(AND(COUNTRY_INFO!J58>1,COUNTRY_INFO!J58<99,COUNTRY_INFO!J58<>4,COUNTRY_INFO!J58<>5), IF(W58/COUNTRY_INFO!O58*100<>0, IF(W58/COUNTRY_INFO!O58*100>100,100,W58/COUNTRY_INFO!O58*100), \"-\"),0)","v":0},{"$f":"MAX('MDA1'!L58, 'MDA2'!L58, 'MDA5'!L58,'T1'!M58, MAX(T3_R1!L58,T3_R2!L58,T3_R3!L58))","v":0},{"$f":"IF(AND(COUNTRY_INFO!J58>1,COUNTRY_INFO!J58<99,COUNTRY_INFO!J58<>4,COUNTRY_INFO!J58<>5),IF(COUNTRY_INFO!P58>Y58,Y58,COUNTRY_INFO!P58),0)","v":0},{"$f":"IF(AND(COUNTRY_INFO!J58>1,COUNTRY_INFO!J58<99,COUNTRY_INFO!J58<>4,COUNTRY_INFO!J58<>5), IF(Z58/COUNTRY_INFO!P58*100<>0, IF(Z58/COUNTRY_INFO!P58*100>100,100,Z58/COUNTRY_INFO!P58*100), \"-\"),0)","v":0},0,0,{"$f":"IF(AND(COUNTRY_INFO!J58>1,COUNTRY_INFO!J58<99,COUNTRY_INFO!J58<>4,COUNTRY_INFO!J58<>5), IF(AC58/P58*100<>0, IF(AC58/P58*100>100,100,AC58/P58*100), \"-\"),0)","v":0},{"$f":"COUNTRY_INFO!U58","v":347170},null,null,{"$f":"MAX('T1'!K58,'T2'!R58)","v":0},{"$f":"IF(AND(COUNTRY_INFO!K58>1,COUNTRY_INFO!K58<99,COUNTRY_INFO!K58<>4,COUNTRY_INFO!K58<>5),IF(COUNTRY_INFO!R58>AH58,AH58,COUNTRY_INFO!R58),0)","v":0},{"$f":"IF(AND(COUNTRY_INFO!K58>1,COUNTRY_INFO!K58<99,COUNTRY_INFO!K58<>4,COUNTRY_INFO!K58<>5), IF(AI58/COUNTRY_INFO!R58*100<>0, IF(AI58/COUNTRY_INFO!R58*100>100,100,AI58/COUNTRY_INFO!R58*100), \"-\"),0)","v":"-"},{"$f":"MAX('T1'!L58,'T2'!S58)","v":105981},{"$f":"IF(AND(COUNTRY_INFO!K58>1,COUNTRY_INFO!K58<99,COUNTRY_INFO!K58<>4,COUNTRY_INFO!K58<>5),IF(COUNTRY_INFO!S58>AK58,AK58,COUNTRY_INFO!S58),0)","v":105981},{"$f":"IF(AND(COUNTRY_INFO!K58>1,COUNTRY_INFO!K58<99,COUNTRY_INFO!K58<>4,COUNTRY_INFO!K58<>5), IF(AL58/COUNTRY_INFO!S58*100<>0, IF(AL58/COUNTRY_INFO!S58*100>100,100,AL58/COUNTRY_INFO!S58*100), \"-\"),0)","v":97.023765929397982},{"$f":"MAX('T1'!M58,'T2'!T58)","v":156602},{"$f":"IF(AND(COUNTRY_INFO!K58>1,COUNTRY_INFO!K58<99,COUNTRY_INFO!K58<>4,COUNTRY_INFO!K58<>5),IF(COUNTRY_INFO!T58>AN58,AN58,COUNTRY_INFO!T58),0)","v":156602},{"$f":"IF(AND(COUNTRY_INFO!K58>1,COUNTRY_INFO!K58<99,COUNTRY_INFO!K58<>4,COUNTRY_INFO!K58<>5), IF(AO58/COUNTRY_INFO!T58*100<>0, IF(AO58/COUNTRY_INFO!T58*100>100,100,AO58/COUNTRY_INFO!T58*100), \"-\"),0)","v":79.337143088738927},262583,262583,{"$f":"IF(AND(COUNTRY_INFO!K58>1,COUNTRY_INFO!K58<99,COUNTRY_INFO!K58<>4,COUNTRY_INFO!K58<>5), IF(AR58/AE58*100<>0, IF(AR58/AE58*100>100,100,AR58/AE58*100), \"-\"),0)","v":75.635279546043719},null,{"$f":"IF(AND(D58<>0, D58<>\"Inconnu\",D58<>\"Interrompu\",D58<>\"Non requis\"),D58/COUNTRY_INFO!D58, 0)","v":0},{"$f":"IF(AND(J58<>0,J58<>\"Inconnu\",J58<>\"Interrompu\",J58<>\"Non requis\"),J58/COUNTRY_INFO!D58, 0)","v":0},{"$f":"IF(AND(P58<>0,P58<>\"Inconnu\",P58<>\"Surveillance\",P58<>\"Non requis\"),P58/COUNTRY_INFO!Q58, 0)","v":0},{"$f":"IF(AND(AE58<>0,AE58<>\"Inconnu\",AE58<>\"Surveillance\",AE58<>\"Non requis\"),AE58/COUNTRY_INFO!U58, 0)","v":1},{"$f":"IF(AU58>0,D58*PROFILE!$G$7,IF(AV58>0,J58*PROFILE!$G$7,0))","v":0},{"$f":"_xlfn.IFS(OR(AU58>0,AW58>0),COUNTRY_INFO!E58, AV58>0,J58*PROFILE!$G$8,AX58>0,COUNTRY_INFO!R58,COUNTIFS(AU58:AX58,\">0\")=0,0)","v":40550},{"$f":"_xlfn.IFS(OR(AU58>0,AW58>0),COUNTRY_INFO!F58, AV58>0,J58*PROFILE!$G$9,AX58>0,COUNTRY_INFO!S58,COUNTIFS(AU58:AX58,\">0\")=0,0)","v":109232},{"$f":"_xlfn.IFS(AU58>0,COUNTRY_INFO!G58, AND(AV58>0,AW58=0,AX58=0),J58*PROFILE!$G$10,AND(AV58>0,AW58>0,AX58=0), MAX(J58*PROFILE!$G$10,COUNTRY_INFO!P58),AND(AV58>0,AW58=0,AX58>0), MAX(J58*PROFILE!$G$10,COUNTRY_INFO!T58),AND(AV58=0,AW58>0,AX58>0), MAX(COUNTRY_INFO!P58,COUNTRY_INFO!T58),AND(AV58=0,AW58>0,AX58=0),COUNTRY_INFO!P58,AND(AV58=0,AW58=0,AX58>0),COUNTRY_INFO!T58,AND(AV58>0,AW58>0,AX58>0), MAX(J58*PROFILE!$G$10,COUNTRY_INFO!P58,COUNTRY_INFO!T58),COUNTIFS(AU58:AX58,\">0\")=0,0)","v":197388},347170,"Y",{"$f":"MAX('MDA2'!J58,'MDA5'!J58,S58,AH58)","v":0},{"$f":"MAX('MDA1'!K58,'MDA2'!K58,'MDA3'!I58,'MDA3'!L58,'MDA5'!K58,V58,AK58)","v":105981},{"$f":"MAX('MDA1'!L58,'MDA2'!L58,'MDA3'!J58,'MDA3'!M58,'MDA5'!L58,Y58,AN58)","v":156602},262583,{"$f":"_xlfn.IFS(AND(AU58=0,AW58=0,AX58=0),0,AND(AU58=0,AW58=0,AX58>0),AI58,AND(AU58=0,AW58>0,AX58=0),T58,AND(AU58=0,AW58>0,AX58>0),MAX(T58,AI58),AND(AU58>0,AW58=0,AX58=0),MIN(MAX('MDA2'!J58,'MDA5'!J58),AZ58),AND(AU58>0,AW58=0,AX58>0),MIN(MAX('MDA2'!J58,'MDA5'!J58,AI58),AZ58),AND(AU58>0,AW58>0,AX58=0),MIN(MAX('MDA2'!J58,'MDA5'!J58,T58),AZ58),AND(AU58>0,AW58>0,AX58>0),MIN(MAX('MDA2'!J58,'MDA5'!J58,AI58,T58),AZ58))","v":0},{"$f":"_xlfn.IFS(AND(AU58=0,AV58=0,AW58=0,AX58=0),0,AND(AU58=0,AV58=0,AW58=0,AX58>0),AL58,AND(AU58=0,AV58=0,AW58>0,AX58=0),W58,AND(AU58=0,AV58=0,AW58>0,AX58>0),MAX(W58,AL58),AND(AU58=0,AV58>0,AW58=0,AX58=0),MIN(J58*PROFILE!$G$9,MAX('MDA3'!I58,'MDA3'!L58)),AND(AU58=0,AV58>0,AW58=0,AX58>0),MIN(J58*PROFILE!$G$9,MAX('MDA3'!I58,'MDA3'!L58,AL58)),AND(AU58=0,AV58>0,AW58>0,AX58=0),MIN(J58*PROFILE!$G$9,MAX('MDA3'!I58,'MDA3'!L58,W58)),AND(AU58=0,AV58>0,AW58>0,AX58>0),MIN(J58*PROFILE!$G$9,MAX('MDA3'!I58,'MDA3'!L58,W58,AL58)),AND(AU58>0,AV58=0,AW58=0,AX58=0), MIN(BA58,MAX('MDA1'!K58,'MDA2'!K58,'MDA5'!K58)),AND(AU58>0,AV58=0,AW58=0,AX58>0), MIN(BA58,MAX('MDA1'!K58,'MDA2'!K58,'MDA5'!K58,AL58)),AND(AU58>0,AV58=0,AW58>0,AX58=0),MIN(BA58,MAX('MDA1'!K58,'MDA2'!KL58,'MDA5'!K58,W58)),AND(AU58>0,AV58=0,AW58>0,AX58>0),MIN(BA58,MAX('MDA1'!K58,'MDA2'!K58,'MDA5'!K58,W58,AL58)),AND(AU58>0,AV58>0,AW58=0,AX58=0),MIN(BA58, MAX('MDA1'!K58,'MDA2'!K58, 'MDA5'!K58,MAX('MDA3'!I58,'MDA3'!L58))), AND(AU58>0,AV58>0,AW58=0,AX58>0),MIN(BA58, MAX('MDA1'!K58,'MDA2'!K58, 'MDA5'!K58,MAX('MDA3'!I58,'MDA3'!L58),AL58)), AND(AU58>0,AV58>0,AW58>0,AX58=0), MIN(BA58, MAX('MDA1'!K58,'MDA2'!K58, 'MDA5'!K58,MAX('MDA3'!I58,'MDA3'!L58),W58)), AND(AU58>0,AV58>0,AW58>0,AX58>0), MIN(BA58, MAX('MDA1'!K58,'MDA2'!K58, 'MDA5'!K58,MAX('MDA3'!I58,'MDA3'!L58),W58,AL58)))","v":105981},{"$f":"_xlfn.IFS(AND(AU58=0,AV58=0,AW58=0,AX58=0),0,AND(AU58=0,AV58=0,AW58=0,AX58>0),AO58,AND(AU58=0,AV58=0,AW58>0,AX58=0),Z58,AND(AU58=0,AV58=0,AW58>0,AX58>0),MAX(Z58,AO58),AND(AU58=0,AV58>0,AW58=0,AX58=0),MIN(J58*PROFILE!$G$10,MAX('MDA3'!J58,'MDA3'!J58)),AND(AU58=0,AV58>0,AW58=0,AX58>0),MIN(J58*PROFILE!$G$10,MAX('MDA3'!J58,'MDA3'!M58,AO58)),AND(AU58=0,AV58>0,AW58>0,AX58=0),MIN(J58*PROFILE!$G$10,MAX('MDA3'!J58,'MDA3'!M58,Z58)),AND(AU58=0,AV58>0,AW58>0,AX58>0),MIN(J58*PROFILE!$G$10,MAX('MDA3'!J58,'MDA3'!M58,Z58,AO58)),AND(AU58>0,AV58=0,AW58=0,AX58=0), MIN(BB58,MAX('MDA1'!L58,'MDA2'!L58,'MDA5'!L58)),AND(AU58>0,AV58=0,AW58=0,AX58>0), MIN(BB58,MAX('MDA1'!L58,'MDA2'!L58,'MDA5'!L58,AO58)),AND(AU58>0,AV58=0,AW58>0,AX58=0),MIN(BB58,MAX('MDA1'!L58,'MDA2'!L58,'MDA5'!L58,Z58)),AND(AU58>0,AV58=0,AW58>0,AX58>0),MIN(BB58,MAX('MDA1'!L58,'MDA2'!L58,'MDA5'!L58,Z58,AO58)),AND(AU58>0,AV58>0,AW58=0,AX58=0),MIN(BB58, MAX('MDA1'!L58,'MDA2'!L58, 'MDA5'!L58,MAX('MDA3'!J58,'MDA3'!M58))), AND(AU58>0,AV58>0,AW58=0,AX58>0),MIN(BB58, MAX('MDA1'!L58,'MDA2'!L58, 'MDA5'!L58,MAX('MDA3'!J58,'MDA3'!M58),AO58)), AND(AU58>0,AV58>0,AW58>0,AX58=0), MIN(BB58, MAX('MDA1'!L58,'MDA2'!L58, 'MDA5'!L58,MAX('MDA3'!J58,'MDA3'!M58),Z58)), AND(AU58>0,AV58>0,AW58>0,AX58>0), MIN(BB58, MAX('MDA1'!L58,'MDA2'!L58, 'MDA5'!L58,MAX('MDA3'!J58,'MDA3'!M58),Z58,AO58)))","v":156602},262583,75.635279546043719]
[{"$f":"IF(COUNTRY_INFO!A59=0,\" \",COUNTRY_INFO!A59)","v":"Mali"},{"$f":"IF(COUNTRY_INFO!B59=0,\" \",COUNTRY_INFO!B59)","v":"Segou"},{"$f":"IF(COUNTRY_INFO!C59=0,\" \",COUNTRY_INFO!C59)","v":"Markala"},{"$f":"COUNTRY_INFO!L59","v":0},null,null,{"$f":"MAX('MDA1'!M59,'MDA2'!M59,'MDA5'!M59)","v":0},{"$f":"IF(AND(COUNTRY_INFO!H59>0,COUNTRY_INFO!H59<4),IF(D59>G59,G59,D59),0)","v":0},{"$f":"IF(AND(COUNTRY_INFO!H59>0,COUNTRY_INFO!H59<4), IF(G59/D59*100<>0, IF(G59/D59*100>100,100,G59/D59*100), \"-\"),0)","v":0},{"$f":"COUNTRY_INFO!M59","v":0},null,null,{"$f":"MAX('MDA1'!M59,MAX('MDA3'!I59,'MDA3'!L59)+MAX('MDA3'!J59,'MDA3'!M59))","v":0},{"$f":"IF(AND(COUNTRY_INFO!I59>0,COUNTRY_INFO!I59<4),IF(J59>M59,M59,J59),0)","v":0},{"$f":"IF(AND(COUNTRY_INFO!I59>0,COUNTRY_INFO!I59<4), IF(M59/J59*100<>0, IF(M59/J59*100>100,100,M59/J59*100), \"-\"),0)","v":0},{"$f":"COUNTRY_INFO!Q59","v":"Non requis"},null,null,{"$f":"MAX('MDA2'!J59,'MDA5'!J59,'T1'!K59, MAX(T3_R1!J59,T3_R2!J59,T3_R3!J59))","v":0},{"$f":"IF(AND(COUNTRY_INFO!J59>1,COUNTRY_INFO!J59<99,COUNTRY_INFO!J59<>4,COUNTRY_INFO!J59<>5),IF(COUNTRY_INFO!N59>S59,S59,COUNTRY_INFO!N59),0)","v":0},{"$f":"IF(AND(COUNTRY_INFO!J59>1,COUNTRY_INFO!J59<99,COUNTRY_INFO!J59<>4,COUNTRY_INFO!J59<>5), IF(T59/COUNTRY_INFO!N59*100<>0, IF(T59/COUNTRY_INFO!N59*100>100,100,T59/COUNTRY_INFO!N59*100), \"-\"),0)","v":0},{"$f":"MAX('MDA1'!K59, 'MDA2'!K59, 'MDA5'!K59,'T1'!L59, MAX(T3_R1!K59,T3_R2!K59,T3_R3!K59))","v":0},{"$f":"IF(AND(COUNTRY_INFO!J59>1,COUNTRY_INFO!J59<99,COUNTRY_INFO!J59<>4,COUNTRY_INFO!J59<>5),IF(COUNTRY_INFO!O59>V59,V59,COUNTRY_INFO!O59),0)","v":0},{"$f":"IF(AND(COUNTRY_INFO!J59>1,COUNTRY_INFO!J59<99,COUNTRY_INFO!J59<>4,COUNTRY_INFO!J59<>5), IF(W59/COUNTRY_INFO!O59*100<>0, IF(W59/COUNTRY_INFO!O59*100>100,100,W59/COUNTRY_INFO!O59*100), \"-\"),0)","v":0},{"$f":"MAX('MDA1'!L59, 'MDA2'!L59, 'MDA5'!L59,'T1'!M59, MAX(T3_R1!L59,T3_R2!L59,T3_R3!L59))","v":0},{"$f":"IF(AND(COUNTRY_INFO!J59>1,COUNTRY_INFO!J59<99,COUNTRY_INFO!J59<>4,COUNTRY_INFO!J59<>5),IF(COUNTRY_INFO!P59>Y59,Y59,COUNTRY_INFO!P59),0)","v":0},{"$f":"IF(AND(COUNTRY_INFO!J59>1,COUNTRY_INFO!J59<99,COUNTRY_INFO!J59<>4,COUNTRY_INFO!J59<>5), IF(Z59/COUNTRY_INFO!P59*100<>0, IF(Z59/COUNTRY_INFO!P59*100>100,100,Z59/COUNTRY_INFO!P59*100), \"-\"),0)","v":0},0,0,{"$f":"IF(AND(COUNTRY_INFO!J59>1,COUNTRY_INFO!J59<99,COUNTRY_INFO!J59<>4,COUNTRY_INFO!J59<>5), IF(AC59/P59*100<>0, IF(AC59/P59*100>100,100,AC59/P59*100), \"-\"),0)","v":0},{"$f":"COUNTRY_INFO!U59","v":235871},null,null,{"$f":"MAX('T1'!K59,'T2'!R59)","v":0},{"$f":"IF(AND(COUNTRY_INFO!K59>1,COUNTRY_INFO!K59<99,COUNTRY_INFO!K59<>4,COUNTRY_INFO!K59<>5),IF(COUNTRY_INFO!R59>AH59,AH59,COUNTRY_INFO!R59),0)","v":0},{"$f":"IF(AND(COUNTRY_INFO!K59>1,COUNTRY_INFO!K59<99,COUNTRY_INFO!K59<>4,COUNTRY_INFO!K59<>5), IF(AI59/COUNTRY_INFO!R59*100<>0, IF(AI59/COUNTRY_INFO!R59*100>100,100,AI59/COUNTRY_INFO!R59*100), \"-\"),0)","v":"-"},{"$f":"MAX('T1'!L59,'T2'!S59)","v":80289},{"$f":"IF(AND(COUNTRY_INFO!K59>1,COUNTRY_INFO!K59<99,COUNTRY_INFO!K59<>4,COUNTRY_INFO!K59<>5),IF(COUNTRY_INFO!S59>AK59,AK59,COUNTRY_INFO!S59),0)","v":74212},{"$f":"IF(AND(COUNTRY_INFO!K59>1,COUNTRY_INFO!K59<99,COUNTRY_INFO!K59<>4,COUNTRY_INFO!K59<>5), IF(AL59/COUNTRY_INFO!S59*100<>0, IF(AL59/COUNTRY_INFO!S59*100>100,100,AL59/COUNTRY_INFO!S59*100), \"-\"),0)","v":100},{"$f":"MAX('T1'!M59,'T2'!T59)","v":24992},{"$f":"IF(AND(COUNTRY_INFO!K59>1,COUNTRY_INFO!K59<99,COUNTRY_INFO!K59<>4,COUNTRY_INFO!K59<>5),IF(COUNTRY_INFO!T59>AN59,AN59,COUNTRY_INFO!T59),0)","v":24992},{"$f":"IF(AND(COUNTRY_INFO!K59>1,COUNTRY_INFO!K59<99,COUNTRY_INFO!K59<>4,COUNTRY_INFO!K59<>5), IF(AO59/COUNTRY_INFO!T59*100<>0, IF(AO59/COUNTRY_INFO!T59*100>100,100,AO59/COUNTRY_INFO!T59*100), \"-\"),0)","v":18.63600435476414},105281,99204,{"$f":"IF(AND(COUNTRY_INFO!K59>1,COUNTRY_INFO!K59<99,COUNTRY_INFO!K59<>4,COUNTRY_INFO!K59<>5), IF(AR59/AE59*100<>0, IF(AR59/AE59*100>100,100,AR59/AE59*100), \"-\"),0)","v":42.058582869449829},null,{"$f":"IF(AND(D59<>0, D59<>\"Inconnu\",D59<>\"Interrompu\",D59<>\"Non requis\"),D59/COUNTRY_INFO!D59, 0)","v":0},{"$f":"IF(AND(J59<>0,J59<>\"Inconnu\",J59<>\"Interrompu\",J59<>\"Non requis\"),J59/COUNTRY_INFO!D59, 0)","v":0},{"$f":"IF(AND(P59<>0,P59<>\"Inconnu\",P59<>\"Surveillance\",P59<>\"Non requis\"),P59/COUNTRY_INFO!Q59, 0)","v":0},{"$f":"IF(AND(AE59<>0,AE59<>\"Inconnu\",AE59<>\"Surveillance\",AE59<>\"Non requis\"),AE59/COUNTRY_INFO!U59, 0)","v":1},{"$f":"IF(AU59>0,D59*PROFILE!$G$7,IF(AV59>0,J59*PROFILE!$G$7,0))","v":0},{"$f":"_xlfn.IFS(OR(AU59>0,AW59>0),COUNTRY_INFO!E59, AV59>0,J59*PROFILE!$G$8,AX59>0,COUNTRY_INFO!R59,COUNTIFS(AU59:AX59,\">0\")=0,0)","v":27553},{"$f":"_xlfn.IFS(OR(AU59>0,AW59>0),COUNTRY_INFO!F59, AV59>0,J59*PROFILE!$G$9,AX59>0,COUNTRY_INFO!S59,COUNTIFS(AU59:AX59,\">0\")=0,0)","v":74212},{"$f":"_xlfn.IFS(AU59>0,COUNTRY_INFO!G59, AND(AV59>0,AW59=0,AX59=0),J59*PROFILE!$G$10,AND(AV59>0,AW59>0,AX59=0), MAX(J59*PROFILE!$G$10,COUNTRY_INFO!P59),AND(AV59>0,AW59=0,AX59>0), MAX(J59*PROFILE!$G$10,COUNTRY_INFO!T59),AND(AV59=0,AW59>0,AX59>0), MAX(COUNTRY_INFO!P59,COUNTRY_INFO!T59),AND(AV59=0,AW59>0,AX59=0),COUNTRY_INFO!P59,AND(AV59=0,AW59=0,AX59>0),COUNTRY_INFO!T59,AND(AV59>0,AW59>0,AX59>0), MAX(J59*PROFILE!$G$10,COUNTRY_INFO!P59,COUNTRY_INFO!T59),COUNTIFS(AU59:AX59,\">0\")=0,0)","v":134106},235871,"Y",{"$f":"MAX('MDA2'!J59,'MDA5'!J59,S59,AH59)","v":0},{"$f":"MAX('MDA1'!K59,'MDA2'!K59,'MDA3'!I59,'MDA3'!L59,'MDA5'!K59,V59,AK59)","v":80289},{"$f":"MAX('MDA1'!L59,'MDA2'!L59,'MDA3'!J59,'MDA3'!M59,'MDA5'!L59,Y59,AN59)","v":24992},105281,{"$f":"_xlfn.IFS(AND(AU59=0,AW59=0,AX59=0),0,AND(AU59=0,AW59=0,AX59>0),AI59,AND(AU59=0,AW59>0,AX59=0),T59,AND(AU59=0,AW59>0,AX59>0),MAX(T59,AI59),AND(AU59>0,AW59=0,AX59=0),MIN(MAX('MDA2'!J59,'MDA5'!J59),AZ59),AND(AU59>0,AW59=0,AX59>0),MIN(MAX('MDA2'!J59,'MDA5'!J59,AI59),AZ59),AND(AU59>0,AW59>0,AX59=0),MIN(MAX('MDA2'!J59,'MDA5'!J59,T59),AZ59),AND(AU59>0,AW59>0,AX59>0),MIN(MAX('MDA2'!J59,'MDA5'!J59,AI59,T59),AZ59))","v":0},{"$f":"_xlfn.IFS(AND(AU59=0,AV59=0,AW59=0,AX59=0),0,AND(AU59=0,AV59=0,AW59=0,AX59>0),AL59,AND(AU59=0,AV59=0,AW59>0,AX59=0),W59,AND(AU59=0,AV59=0,AW59>0,AX59>0),MAX(W59,AL59),AND(AU59=0,AV59>0,AW59=0,AX59=0),MIN(J59*PROFILE!$G$9,MAX('MDA3'!I59,'MDA3'!L59)),AND(AU59=0,AV59>0,AW59=0,AX59>0),MIN(J59*PROFILE!$G$9,MAX('MDA3'!I59,'MDA3'!L59,AL59)),AND(AU59=0,AV59>0,AW59>0,AX59=0),MIN(J59*PROFILE!$G$9,MAX('MDA3'!I59,'MDA3'!L59,W59)),AND(AU59=0,AV59>0,AW59>0,AX59>0),MIN(J59*PROFILE!$G$9,MAX('MDA3'!I59,'MDA3'!L59,W59,AL59)),AND(AU59>0,AV59=0,AW59=0,AX59=0), MIN(BA59,MAX('MDA1'!K59,'MDA2'!K59,'MDA5'!K59)),AND(AU59>0,AV59=0,AW59=0,AX59>0), MIN(BA59,MAX('MDA1'!K59,'MDA2'!K59,'MDA5'!K59,AL59)),AND(AU59>0,AV59=0,AW59>0,AX59=0),MIN(BA59,MAX('MDA1'!K59,'MDA2'!KL59,'MDA5'!K59,W59)),AND(AU59>0,AV59=0,AW59>0,AX59>0),MIN(BA59,MAX('MDA1'!K59,'MDA2'!K59,'MDA5'!K59,W59,AL59)),AND(AU59>0,AV59>0,AW59=0,AX59=0),MIN(BA59, MAX('MDA1'!K59,'MDA2'!K59, 'MDA5'!K59,MAX('MDA3'!I59,'MDA3'!L59))), AND(AU59>0,AV59>0,AW59=0,AX59>0),MIN(BA59, MAX('MDA1'!K59,'MDA2'!K59, 'MDA5'!K59,MAX('MDA3'!I59,'MDA3'!L59),AL59)), AND(AU59>0,AV59>0,AW59>0,AX59=0), MIN(BA59, MAX('MDA1'!K59,'MDA2'!K59, 'MDA5'!K59,MAX('MDA3'!I59,'MDA3'!L59),W59)), AND(AU59>0,AV59>0,AW59>0,AX59>0), MIN(BA59, MAX('MDA1'!K59,'MDA2'!K59, 'MDA5'!K59,MAX('MDA3'!I59,'MDA3'!L59),W59,AL59)))","v":74212},{"$f":"_xlfn.IFS(AND(AU59=0,AV59=0,AW59=0,AX59=0),0,AND(AU59=0,AV59=0,AW59=0,AX59>0),AO59,AND(AU59=0,AV59=0,AW59>0,AX59=0),Z59,AND(AU59=0,AV59=0,AW59>0,AX59>0),MAX(Z59,AO59),AND(AU59=0,AV59>0,AW59=0,AX59=0),MIN(J59*PROFILE!$G$10,MAX('MDA3'!J59,'MDA3'!J59)),AND(AU59=0,AV59>0,AW59=0,AX59>0),MIN(J59*PROFILE!$G$10,MAX('MDA3'!J59,'MDA3'!M59,AO59)),AND(AU59=0,AV59>0,AW59>0,AX59=0),MIN(J59*PROFILE!$G$10,MAX('MDA3'!J59,'MDA3'!M59,Z59)),AND(AU59=0,AV59>0,AW59>0,AX59>0),MIN(J59*PROFILE!$G$10,MAX('MDA3'!J59,'MDA3'!M59,Z59,AO59)),AND(AU59>0,AV59=0,AW59=0,AX59=0), MIN(BB59,MAX('MDA1'!L59,'MDA2'!L59,'MDA5'!L59)),AND(AU59>0,AV59=0,AW59=0,AX59>0), MIN(BB59,MAX('MDA1'!L59,'MDA2'!L59,'MDA5'!L59,AO59)),AND(AU59>0,AV59=0,AW59>0,AX59=0),MIN(BB59,MAX('MDA1'!L59,'MDA2'!L59,'MDA5'!L59,Z59)),AND(AU59>0,AV59=0,AW59>0,AX59>0),MIN(BB59,MAX('MDA1'!L59,'MDA2'!L59,'MDA5'!L59,Z59,AO59)),AND(AU59>0,AV59>0,AW59=0,AX59=0),MIN(BB59, MAX('MDA1'!L59,'MDA2'!L59, 'MDA5'!L59,MAX('MDA3'!J59,'MDA3'!M59))), AND(AU59>0,AV59>0,AW59=0,AX59>0),MIN(BB59, MAX('MDA1'!L59,'MDA2'!L59, 'MDA5'!L59,MAX('MDA3'!J59,'MDA3'!M59),AO59)), AND(AU59>0,AV59>0,AW59>0,AX59=0), MIN(BB59, MAX('MDA1'!L59,'MDA2'!L59, 'MDA5'!L59,MAX('MDA3'!J59,'MDA3'!M59),Z59)), AND(AU59>0,AV59>0,AW59>0,AX59>0), MIN(BB59, MAX('MDA1'!L59,'MDA2'!L59, 'MDA5'!L59,MAX('MDA3'!J59,'MDA3'!M59),Z59,AO59)))","v":24992},99204,42.058582869449829]
[{"$f":"IF(COUNTRY_INFO!A60=0,\" \",COUNTRY_INFO!A60)","v":"Mali"},{"$f":"IF(COUNTRY_INFO!B60=0,\" \",COUNTRY_INFO!B60)","v":"Segou"},{"$f":"IF(COUNTRY_INFO!C60=0,\" \",COUNTRY_INFO!C60)","v":"Niono"},{"$f":"COUNTRY_INFO!L60","v":0},null,null,{"$f":"MAX('MDA1'!M60,'MDA2'!M60,'MDA5'!M60)","v":0},{"$f":"IF(AND(COUNTRY_INFO!H60>0,COUNTRY_INFO!H60<4),IF(D60>G60,G60,D60),0)","v":0},{"$f":"IF(AND(COUNTRY_INFO!H60>0,COUNTRY_INFO!H60<4), IF(G60/D60*100<>0, IF(G60/D60*100>100,100,G60/D60*100), \"-\"),0)","v":0},{"$f":"COUNTRY_INFO!M60","v":0},null,null,{"$f":"MAX('MDA1'!M60,MAX('MDA3'!I60,'MDA3'!L60)+MAX('MDA3'!J60,'MDA3'!M60))","v":0},{"$f":"IF(AND(COUNTRY_INFO!I60>0,COUNTRY_INFO!I60<4),IF(J60>M60,M60,J60),0)","v":0},{"$f":"IF(AND(COUNTRY_INFO!I60>0,COUNTRY_INFO!I60<4), IF(M60/J60*100<>0, IF(M60/J60*100>100,100,M60/J60*100), \"-\"),0)","v":0},{"$f":"COUNTRY_INFO!Q60","v":"Non requis"},null,null,{"$f":"MAX('MDA2'!J60,'MDA5'!J60,'T1'!K60, MAX(T3_R1!J60,T3_R2!J60,T3_R3!J60))","v":0},{"$f":"IF(AND(COUNTRY_INFO!J60>1,COUNTRY_INFO!J60<99,COUNTRY_INFO!J60<>4,COUNTRY_INFO!J60<>5),IF(COUNTRY_INFO!N60>S60,S60,COUNTRY_INFO!N60),0)","v":0},{"$f":"IF(AND(COUNTRY_INFO!J60>1,COUNTRY_INFO!J60<99,COUNTRY_INFO!J60<>4,COUNTRY_INFO!J60<>5), IF(T60/COUNTRY_INFO!N60*100<>0, IF(T60/COUNTRY_INFO!N60*100>100,100,T60/COUNTRY_INFO!N60*100), \"-\"),0)","v":0},{"$f":"MAX('MDA1'!K60, 'MDA2'!K60, 'MDA5'!K60,'T1'!L60, MAX(T3_R1!K60,T3_R2!K60,T3_R3!K60))","v":0},{"$f":"IF(AND(COUNTRY_INFO!J60>1,COUNTRY_INFO!J60<99,COUNTRY_INFO!J60<>4,COUNTRY_INFO!J60<>5),IF(COUNTRY_INFO!O60>V60,V60,COUNTRY_INFO!O60),0)","v":0},{"$f":"IF(AND(COUNTRY_INFO!J60>1,COUNTRY_INFO!J60<99,COUNTRY_INFO!J60<>4,COUNTRY_INFO!J60<>5), IF(W60/COUNTRY_INFO!O60*100<>0, IF(W60/COUNTRY_INFO!O60*100>100,100,W60/COUNTRY_INFO!O60*100), \"-\"),0)","v":0},{"$f":"MAX('MDA1'!L60, 'MDA2'!L60, 'MDA5'!L60,'T1'!M60, MAX(T3_R1!L60,T3_R2!L60,T3_R3!L60))","v":0},{"$f":"IF(AND(COUNTRY_INFO!J60>1,COUNTRY_INFO!J60<99,COUNTRY_INFO!J60<>4,COUNTRY_INFO!J60<>5),IF(COUNTRY_INFO!P60>Y60,Y60,COUNTRY_INFO!P60),0)","v":0},{"$f":"IF(AND(COUNTRY_INFO!J60>1,COUNTRY_INFO!J60<99,COUNTRY_INFO!J60<>4,COUNTRY_INFO!J60<>5), IF(Z60/COUNTRY_INFO!P60*100<>0, IF(Z60/COUNTRY_INFO!P60*100>100,100,Z60/COUNTRY_INFO!P60*100), \"-\"),0)","v":0},0,0,{"$f":"IF(AND(COUNTRY_INFO!J60>1,COUNTRY_INFO!J60<99,COUNTRY_INFO!J60<>4,COUNTRY_INFO!J60<>5), IF(AC60/P60*100<>0, IF(AC60/P60*100>100,100,AC60/P60*100), \"-\"),0)","v":0},{"$f":"COUNTRY_INFO!U60","v":534245},null,null,{"$f":"MAX('T1'!K60,'T2'!R60)","v":0},{"$f":"IF(AND(COUNTRY_INFO!K60>1,COUNTRY_INFO!K60<99,COUNTRY_INFO!K60<>4,COUNTRY_INFO!K60<>5),IF(COUNTRY_INFO!R60>AH60,AH60,COUNTRY_INFO!R60),0)","v":0},{"$f":"IF(AND(COUNTRY_INFO!K60>1,COUNTRY_INFO!K60<99,COUNTRY_INFO!K60<>4,COUNTRY_INFO!K60<>5), IF(AI60/COUNTRY_INFO!R60*100<>0, IF(AI60/COUNTRY_INFO!R60*100>100,100,AI60/COUNTRY_INFO!R60*100), \"-\"),0)","v":"-"},{"$f":"MAX('T1'!L60,'T2'!S60)","v":183188},{"$f":"IF(AND(COUNTRY_INFO!K60>1,COUNTRY_INFO!K60<99,COUNTRY_INFO!K60<>4,COUNTRY_INFO!K60<>5),IF(COUNTRY_INFO!S60>AK60,AK60,COUNTRY_INFO!S60),0)","v":168092},{"$f":"IF(AND(COUNTRY_INFO!K60>1,COUNTRY_INFO!K60<99,COUNTRY_INFO!K60<>4,COUNTRY_INFO!K60<>5), IF(AL60/COUNTRY_INFO!S60*100<>0, IF(AL60/COUNTRY_INFO!S60*100>100,100,AL60/COUNTRY_INFO!S60*100), \"-\"),0)","v":100},{"$f":"MAX('T1'!M60,'T2'!T60)","v":274398},{"$f":"IF(AND(COUNTRY_INFO!K60>1,COUNTRY_INFO!K60<99,COUNTRY_INFO!K60<>4,COUNTRY_INFO!K60<>5),IF(COUNTRY_INFO!T60>AN60,AN60,COUNTRY_INFO!T60),0)","v":274398},{"$f":"IF(AND(COUNTRY_INFO!K60>1,COUNTRY_INFO!K60<99,COUNTRY_INFO!K60<>4,COUNTRY_INFO!K60<>5), IF(AO60/COUNTRY_INFO!T60*100<>0, IF(AO60/COUNTRY_INFO!T60*100>100,100,AO60/COUNTRY_INFO!T60*100), \"-\"),0)","v":90.336790123456794},457586,442490,{"$f":"IF(AND(COUNTRY_INFO!K60>1,COUNTRY_INFO!K60<99,COUNTRY_INFO!K60<>4,COUNTRY_INFO!K60<>5), IF(AR60/AE60*100<>0, IF(AR60/AE60*100>100,100,AR60/AE60*100), \"-\"),0)","v":82.825295510486768},null,{"$f":"IF(AND(D60<>0, D60<>\"Inconnu\",D60<>\"Interrompu\",D60<>\"Non requis\"),D60/COUNTRY_INFO!D60, 0)","v":0},{"$f":"IF(AND(J60<>0,J60<>\"Inconnu\",J60<>\"Interrompu\",J60<>\"Non requis\"),J60/COUNTRY_INFO!D60, 0)","v":0},{"$f":"IF(AND(P60<>0,P60<>\"Inconnu\",P60<>\"Surveillance\",P60<>\"Non requis\"),P60/COUNTRY_INFO!Q60, 0)","v":0},{"$f":"IF(AND(AE60<>0,AE60<>\"Inconnu\",AE60<>\"Surveillance\",AE60<>\"Non requis\"),AE60/COUNTRY_INFO!U60, 0)","v":1},{"$f":"IF(AU60>0,D60*PROFILE!$G$7,IF(AV60>0,J60*PROFILE!$G$7,0))","v":0},{"$f":"_xlfn.IFS(OR(AU60>0,AW60>0),COUNTRY_INFO!E60, AV60>0,J60*PROFILE!$G$8,AX60>0,COUNTRY_INFO!R60,COUNTIFS(AU60:AX60,\">0\")=0,0)","v":62403},{"$f":"_xlfn.IFS(OR(AU60>0,AW60>0),COUNTRY_INFO!F60, AV60>0,J60*PROFILE!$G$9,AX60>0,COUNTRY_INFO!S60,COUNTIFS(AU60:AX60,\">0\")=0,0)","v":168092},{"$f":"_xlfn.IFS(AU60>0,COUNTRY_INFO!G60, AND(AV60>0,AW60=0,AX60=0),J60*PROFILE!$G$10,AND(AV60>0,AW60>0,AX60=0), MAX(J60*PROFILE!$G$10,COUNTRY_INFO!P60),AND(AV60>0,AW60=0,AX60>0), MAX(J60*PROFILE!$G$10,COUNTRY_INFO!T60),AND(AV60=0,AW60>0,AX60>0), MAX(COUNTRY_INFO!P60,COUNTRY_INFO!T60),AND(AV60=0,AW60>0,AX60=0),COUNTRY_INFO!P60,AND(AV60=0,AW60=0,AX60>0),COUNTRY_INFO!T60,AND(AV60>0,AW60>0,AX60>0), MAX(J60*PROFILE!$G$10,COUNTRY_INFO!P60,COUNTRY_INFO!T60),COUNTIFS(AU60:AX60,\">0\")=0,0)","v":303750},534245,"Y",{"$f":"MAX('MDA2'!J60,'MDA5'!J60,S60,AH60)","v":0},{"$f":"MAX('MDA1'!K60,'MDA2'!K60,'MDA3'!I60,'MDA3'!L60,'MDA5'!K60,V60,AK60)","v":183188},{"$f":"MAX('MDA1'!L60,'MDA2'!L60,'MDA3'!J60,'MDA3'!M60,'MDA5'!L60,Y60,AN60)","v":274398},457586,{"$f":"_xlfn.IFS(AND(AU60=0,AW60=0,AX60=0),0,AND(AU60=0,AW60=0,AX60>0),AI60,AND(AU60=0,AW60>0,AX60=0),T60,AND(AU60=0,AW60>0,AX60>0),MAX(T60,AI60),AND(AU60>0,AW60=0,AX60=0),MIN(MAX('MDA2'!J60,'MDA5'!J60),AZ60),AND(AU60>0,AW60=0,AX60>0),MIN(MAX('MDA2'!J60,'MDA5'!J60,AI60),AZ60),AND(AU60>0,AW60>0,AX60=0),MIN(MAX('MDA2'!J60,'MDA5'!J60,T60),AZ60),AND(AU60>0,AW60>0,AX60>0),MIN(MAX('MDA2'!J60,'MDA5'!J60,AI60,T60),AZ60))","v":0},{"$f":"_xlfn.IFS(AND(AU60=0,AV60=0,AW60=0,AX60=0),0,AND(AU60=0,AV60=0,AW60=0,AX60>0),AL60,AND(AU60=0,AV60=0,AW60>0,AX60=0),W60,AND(AU60=0,AV60=0,AW60>0,AX60>0),MAX(W60,AL60),AND(AU60=0,AV60>0,AW60=0,AX60=0),MIN(J60*PROFILE!$G$9,MAX('MDA3'!I60,'MDA3'!L60)),AND(AU60=0,AV60>0,AW60=0,AX60>0),MIN(J60*PROFILE!$G$9,MAX('MDA3'!I60,'MDA3'!L60,AL60)),AND(AU60=0,AV60>0,AW60>0,AX60=0),MIN(J60*PROFILE!$G$9,MAX('MDA3'!I60,'MDA3'!L60,W60)),AND(AU60=0,AV60>0,AW60>0,AX60>0),MIN(J60*PROFILE!$G$9,MAX('MDA3'!I60,'MDA3'!L60,W60,AL60)),AND(AU60>0,AV60=0,AW60=0,AX60=0), MIN(BA60,MAX('MDA1'!K60,'MDA2'!K60,'MDA5'!K60)),AND(AU60>0,AV60=0,AW60=0,AX60>0), MIN(BA60,MAX('MDA1'!K60,'MDA2'!K60,'MDA5'!K60,AL60)),AND(AU60>0,AV60=0,AW60>0,AX60=0),MIN(BA60,MAX('MDA1'!K60,'MDA2'!KL60,'MDA5'!K60,W60)),AND(AU60>0,AV60=0,AW60>0,AX60>0),MIN(BA60,MAX('MDA1'!K60,'MDA2'!K60,'MDA5'!K60,W60,AL60)),AND(AU60>0,AV60>0,AW60=0,AX60=0),MIN(BA60, MAX('MDA1'!K60,'MDA2'!K60, 'MDA5'!K60,MAX('MDA3'!I60,'MDA3'!L60))), AND(AU60>0,AV60>0,AW60=0,AX60>0),MIN(BA60, MAX('MDA1'!K60,'MDA2'!K60, 'MDA5'!K60,MAX('MDA3'!I60,'MDA3'!L60),AL60)), AND(AU60>0,AV60>0,AW60>0,AX60=0), MIN(BA60, MAX('MDA1'!K60,'MDA2'!K60, 'MDA5'!K60,MAX('MDA3'!I60,'MDA3'!L60),W60)), AND(AU60>0,AV60>0,AW60>0,AX60>0), MIN(BA60, MAX('MDA1'!K60,'MDA2'!K60, 'MDA5'!K60,MAX('MDA3'!I60,'MDA3'!L60),W60,AL60)))","v":168092},{"$f":"_xlfn.IFS(AND(AU60=0,AV60=0,AW60=0,AX60=0),0,AND(AU60=0,AV60=0,AW60=0,AX60>0),AO60,AND(AU60=0,AV60=0,AW60>0,AX60=0),Z60,AND(AU60=0,AV60=0,AW60>0,AX60>0),MAX(Z60,AO60),AND(AU60=0,AV60>0,AW60=0,AX60=0),MIN(J60*PROFILE!$G$10,MAX('MDA3'!J60,'MDA3'!J60)),AND(AU60=0,AV60>0,AW60=0,AX60>0),MIN(J60*PROFILE!$G$10,MAX('MDA3'!J60,'MDA3'!M60,AO60)),AND(AU60=0,AV60>0,AW60>0,AX60=0),MIN(J60*PROFILE!$G$10,MAX('MDA3'!J60,'MDA3'!M60,Z60)),AND(AU60=0,AV60>0,AW60>0,AX60>0),MIN(J60*PROFILE!$G$10,MAX('MDA3'!J60,'MDA3'!M60,Z60,AO60)),AND(AU60>0,AV60=0,AW60=0,AX60=0), MIN(BB60,MAX('MDA1'!L60,'MDA2'!L60,'MDA5'!L60)),AND(AU60>0,AV60=0,AW60=0,AX60>0), MIN(BB60,MAX('MDA1'!L60,'MDA2'!L60,'MDA5'!L60,AO60)),AND(AU60>0,AV60=0,AW60>0,AX60=0),MIN(BB60,MAX('MDA1'!L60,'MDA2'!L60,'MDA5'!L60,Z60)),AND(AU60>0,AV60=0,AW60>0,AX60>0),MIN(BB60,MAX('MDA1'!L60,'MDA2'!L60,'MDA5'!L60,Z60,AO60)),AND(AU60>0,AV60>0,AW60=0,AX60=0),MIN(BB60, MAX('MDA1'!L60,'MDA2'!L60, 'MDA5'!L60,MAX('MDA3'!J60,'MDA3'!M60))), AND(AU60>0,AV60>0,AW60=0,AX60>0),MIN(BB60, MAX('MDA1'!L60,'MDA2'!L60, 'MDA5'!L60,MAX('MDA3'!J60,'MDA3'!M60),AO60)), AND(AU60>0,AV60>0,AW60>0,AX60=0), MIN(BB60, MAX('MDA1'!L60,'MDA2'!L60, 'MDA5'!L60,MAX('MDA3'!J60,'MDA3'!M60),Z60)), AND(AU60>0,AV60>0,AW60>0,AX60>0), MIN(BB60, MAX('MDA1'!L60,'MDA2'!L60, 'MDA5'!L60,MAX('MDA3'!J60,'MDA3'!M60),Z60,AO60)))","v":274398},442490,82.825295510486768]
[{"$f":"IF(COUNTRY_INFO!A61=0,\" \",COUNTRY_INFO!A61)","v":"Mali"},{"$f":"IF(COUNTRY_INFO!B61=0,\" \",COUNTRY_INFO!B61)","v":"Segou"},{"$f":"IF(COUNTRY_INFO!C61=0,\" \",COUNTRY_INFO!C61)","v":"San"},{"$f":"COUNTRY_INFO!L61","v":0},null,null,{"$f":"MAX('MDA1'!M61,'MDA2'!M61,'MDA5'!M61)","v":0},{"$f":"IF(AND(COUNTRY_INFO!H61>0,COUNTRY_INFO!H61<4),IF(D61>G61,G61,D61),0)","v":0},{"$f":"IF(AND(COUNTRY_INFO!H61>0,COUNTRY_INFO!H61<4), IF(G61/D61*100<>0, IF(G61/D61*100>100,100,G61/D61*100), \"-\"),0)","v":0},{"$f":"COUNTRY_INFO!M61","v":0},null,null,{"$f":"MAX('MDA1'!M61,MAX('MDA3'!I61,'MDA3'!L61)+MAX('MDA3'!J61,'MDA3'!M61))","v":0},{"$f":"IF(AND(COUNTRY_INFO!I61>0,COUNTRY_INFO!I61<4),IF(J61>M61,M61,J61),0)","v":0},{"$f":"IF(AND(COUNTRY_INFO!I61>0,COUNTRY_INFO!I61<4), IF(M61/J61*100<>0, IF(M61/J61*100>100,100,M61/J61*100), \"-\"),0)","v":0},{"$f":"COUNTRY_INFO!Q61","v":"Non requis"},null,null,{"$f":"MAX('MDA2'!J61,'MDA5'!J61,'T1'!K61, MAX(T3_R1!J61,T3_R2!J61,T3_R3!J61))","v":0},{"$f":"IF(AND(COUNTRY_INFO!J61>1,COUNTRY_INFO!J61<99,COUNTRY_INFO!J61<>4,COUNTRY_INFO!J61<>5),IF(COUNTRY_INFO!N61>S61,S61,COUNTRY_INFO!N61),0)","v":0},{"$f":"IF(AND(COUNTRY_INFO!J61>1,COUNTRY_INFO!J61<99,COUNTRY_INFO!J61<>4,COUNTRY_INFO!J61<>5), IF(T61/COUNTRY_INFO!N61*100<>0, IF(T61/COUNTRY_INFO!N61*100>100,100,T61/COUNTRY_INFO!N61*100), \"-\"),0)","v":0},{"$f":"MAX('MDA1'!K61, 'MDA2'!K61, 'MDA5'!K61,'T1'!L61, MAX(T3_R1!K61,T3_R2!K61,T3_R3!K61))","v":0},{"$f":"IF(AND(COUNTRY_INFO!J61>1,COUNTRY_INFO!J61<99,COUNTRY_INFO!J61<>4,COUNTRY_INFO!J61<>5),IF(COUNTRY_INFO!O61>V61,V61,COUNTRY_INFO!O61),0)","v":0},{"$f":"IF(AND(COUNTRY_INFO!J61>1,COUNTRY_INFO!J61<99,COUNTRY_INFO!J61<>4,COUNTRY_INFO!J61<>5), IF(W61/COUNTRY_INFO!O61*100<>0, IF(W61/COUNTRY_INFO!O61*100>100,100,W61/COUNTRY_INFO!O61*100), \"-\"),0)","v":0},{"$f":"MAX('MDA1'!L61, 'MDA2'!L61, 'MDA5'!L61,'T1'!M61, MAX(T3_R1!L61,T3_R2!L61,T3_R3!L61))","v":0},{"$f":"IF(AND(COUNTRY_INFO!J61>1,COUNTRY_INFO!J61<99,COUNTRY_INFO!J61<>4,COUNTRY_INFO!J61<>5),IF(COUNTRY_INFO!P61>Y61,Y61,COUNTRY_INFO!P61),0)","v":0},{"$f":"IF(AND(COUNTRY_INFO!J61>1,COUNTRY_INFO!J61<99,COUNTRY_INFO!J61<>4,COUNTRY_INFO!J61<>5), IF(Z61/COUNTRY_INFO!P61*100<>0, IF(Z61/COUNTRY_INFO!P61*100>100,100,Z61/COUNTRY_INFO!P61*100), \"-\"),0)","v":0},0,0,{"$f":"IF(AND(COUNTRY_INFO!J61>1,COUNTRY_INFO!J61<99,COUNTRY_INFO!J61<>4,COUNTRY_INFO!J61<>5), IF(AC61/P61*100<>0, IF(AC61/P61*100>100,100,AC61/P61*100), \"-\"),0)","v":0},{"$f":"COUNTRY_INFO!U61","v":373201},null,null,{"$f":"MAX('T1'!K61,'T2'!R61)","v":0},{"$f":"IF(AND(COUNTRY_INFO!K61>1,COUNTRY_INFO!K61<99,COUNTRY_INFO!K61<>4,COUNTRY_INFO!K61<>5),IF(COUNTRY_INFO!R61>AH61,AH61,COUNTRY_INFO!R61),0)","v":0},{"$f":"IF(AND(COUNTRY_INFO!K61>1,COUNTRY_INFO!K61<99,COUNTRY_INFO!K61<>4,COUNTRY_INFO!K61<>5), IF(AI61/COUNTRY_INFO!R61*100<>0, IF(AI61/COUNTRY_INFO!R61*100>100,100,AI61/COUNTRY_INFO!R61*100), \"-\"),0)","v":"-"},{"$f":"MAX('T1'!L61,'T2'!S61)","v":92854},{"$f":"IF(AND(COUNTRY_INFO!K61>1,COUNTRY_INFO!K61<99,COUNTRY_INFO!K61<>4,COUNTRY_INFO!K61<>5),IF(COUNTRY_INFO!S61>AK61,AK61,COUNTRY_INFO!S61),0)","v":92854},{"$f":"IF(AND(COUNTRY_INFO!K61>1,COUNTRY_INFO!K61<99,COUNTRY_INFO!K61<>4,COUNTRY_INFO!K61<>5), IF(AL61/COUNTRY_INFO!S61*100<>0, IF(AL61/COUNTRY_INFO!S61*100>100,100,AL61/COUNTRY_INFO!S61*100), \"-\"),0)","v":79.077848085095511},{"$f":"MAX('T1'!M61,'T2'!T61)","v":200},{"$f":"IF(AND(COUNTRY_INFO!K61>1,COUNTRY_INFO!K61<99,COUNTRY_INFO!K61<>4,COUNTRY_INFO!K61<>5),IF(COUNTRY_INFO!T61>AN61,AN61,COUNTRY_INFO!T61),0)","v":200},{"$f":"IF(AND(COUNTRY_INFO!K61>1,COUNTRY_INFO!K61<99,COUNTRY_INFO!K61<>4,COUNTRY_INFO!K61<>5), IF(AO61/COUNTRY_INFO!T61*100<>0, IF(AO61/COUNTRY_INFO!T61*100>100,100,AO61/COUNTRY_INFO!T61*100), \"-\"),0)","v":9.4256481311296159E-2},93054,93054,{"$f":"IF(AND(COUNTRY_INFO!K61>1,COUNTRY_INFO!K61<99,COUNTRY_INFO!K61<>4,COUNTRY_INFO!K61<>5), IF(AR61/AE61*100<>0, IF(AR61/AE61*100>100,100,AR61/AE61*100), \"-\"),0)","v":24.934016789879983},null,{"$f":"IF(AND(D61<>0, D61<>\"Inconnu\",D61<>\"Interrompu\",D61<>\"Non requis\"),D61/COUNTRY_INFO!D61, 0)","v":0},{"$f":"IF(AND(J61<>0,J61<>\"Inconnu\",J61<>\"Interrompu\",J61<>\"Non requis\"),J61/COUNTRY_INFO!D61, 0)","v":0},{"$f":"IF(AND(P61<>0,P61<>\"Inconnu\",P61<>\"Surveillance\",P61<>\"Non requis\"),P61/COUNTRY_INFO!Q61, 0)","v":0},{"$f":"IF(AND(AE61<>0,AE61<>\"Inconnu\",AE61<>\"Surveillance\",AE61<>\"Non requis\"),AE61/COUNTRY_INFO!U61, 0)","v":1},{"$f":"IF(AU61>0,D61*PROFILE!$G$7,IF(AV61>0,J61*PROFILE!$G$7,0))","v":0},{"$f":"_xlfn.IFS(OR(AU61>0,AW61>0),COUNTRY_INFO!E61, AV61>0,J61*PROFILE!$G$8,AX61>0,COUNTRY_INFO!R61,COUNTIFS(AU61:AX61,\">0\")=0,0)","v":43593},{"$f":"_xlfn.IFS(OR(AU61>0,AW61>0),COUNTRY_INFO!F61, AV61>0,J61*PROFILE!$G$9,AX61>0,COUNTRY_INFO!S61,COUNTIFS(AU61:AX61,\">0\")=0,0)","v":117421},{"$f":"_xlfn.IFS(AU61>0,COUNTRY_INFO!G61, AND(AV61>0,AW61=0,AX61=0),J61*PROFILE!$G$10,AND(AV61>0,AW61>0,AX61=0), MAX(J61*PROFILE!$G$10,COUNTRY_INFO!P61),AND(AV61>0,AW61=0,AX61>0), MAX(J61*PROFILE!$G$10,COUNTRY_INFO!T61),AND(AV61=0,AW61>0,AX61>0), MAX(COUNTRY_INFO!P61,COUNTRY_INFO!T61),AND(AV61=0,AW61>0,AX61=0),COUNTRY_INFO!P61,AND(AV61=0,AW61=0,AX61>0),COUNTRY_INFO!T61,AND(AV61>0,AW61>0,AX61>0), MAX(J61*PROFILE!$G$10,COUNTRY_INFO!P61,COUNTRY_INFO!T61),COUNTIFS(AU61:AX61,\">0\")=0,0)","v":212187},373201,"Y",{"$f":"MAX('MDA2'!J61,'MDA5'!J61,S61,AH61)","v":0},{"$f":"MAX('MDA1'!K61,'MDA2'!K61,'MDA3'!I61,'MDA3'!L61,'MDA5'!K61,V61,AK61)","v":92854},{"$f":"MAX('MDA1'!L61,'MDA2'!L61,'MDA3'!J61,'MDA3'!M61,'MDA5'!L61,Y61,AN61)","v":200},93054,{"$f":"_xlfn.IFS(AND(AU61=0,AW61=0,AX61=0),0,AND(AU61=0,AW61=0,AX61>0),AI61,AND(AU61=0,AW61>0,AX61=0),T61,AND(AU61=0,AW61>0,AX61>0),MAX(T61,AI61),AND(AU61>0,AW61=0,AX61=0),MIN(MAX('MDA2'!J61,'MDA5'!J61),AZ61),AND(AU61>0,AW61=0,AX61>0),MIN(MAX('MDA2'!J61,'MDA5'!J61,AI61),AZ61),AND(AU61>0,AW61>0,AX61=0),MIN(MAX('MDA2'!J61,'MDA5'!J61,T61),AZ61),AND(AU61>0,AW61>0,AX61>0),MIN(MAX('MDA2'!J61,'MDA5'!J61,AI61,T61),AZ61))","v":0},{"$f":"_xlfn.IFS(AND(AU61=0,AV61=0,AW61=0,AX61=0),0,AND(AU61=0,AV61=0,AW61=0,AX61>0),AL61,AND(AU61=0,AV61=0,AW61>0,AX61=0),W61,AND(AU61=0,AV61=0,AW61>0,AX61>0),MAX(W61,AL61),AND(AU61=0,AV61>0,AW61=0,AX61=0),MIN(J61*PROFILE!$G$9,MAX('MDA3'!I61,'MDA3'!L61)),AND(AU61=0,AV61>0,AW61=0,AX61>0),MIN(J61*PROFILE!$G$9,MAX('MDA3'!I61,'MDA3'!L61,AL61)),AND(AU61=0,AV61>0,AW61>0,AX61=0),MIN(J61*PROFILE!$G$9,MAX('MDA3'!I61,'MDA3'!L61,W61)),AND(AU61=0,AV61>0,AW61>0,AX61>0),MIN(J61*PROFILE!$G$9,MAX('MDA3'!I61,'MDA3'!L61,W61,AL61)),AND(AU61>0,AV61=0,AW61=0,AX61=0), MIN(BA61,MAX('MDA1'!K61,'MDA2'!K61,'MDA5'!K61)),AND(AU61>0,AV61=0,AW61=0,AX61>0), MIN(BA61,MAX('MDA1'!K61,'MDA2'!K61,'MDA5'!K61,AL61)),AND(AU61>0,AV61=0,AW61>0,AX61=0),MIN(BA61,MAX('MDA1'!K61,'MDA2'!KL61,'MDA5'!K61,W61)),AND(AU61>0,AV61=0,AW61>0,AX61>0),MIN(BA61,MAX('MDA1'!K61,'MDA2'!K61,'MDA5'!K61,W61,AL61)),AND(AU61>0,AV61>0,AW61=0,AX61=0),MIN(BA61, MAX('MDA1'!K61,'MDA2'!K61, 'MDA5'!K61,MAX('MDA3'!I61,'MDA3'!L61))), AND(AU61>0,AV61>0,AW61=0,AX61>0),MIN(BA61, MAX('MDA1'!K61,'MDA2'!K61, 'MDA5'!K61,MAX('MDA3'!I61,'MDA3'!L61),AL61)), AND(AU61>0,AV61>0,AW61>0,AX61=0), MIN(BA61, MAX('MDA1'!K61,'MDA2'!K61, 'MDA5'!K61,MAX('MDA3'!I61,'MDA3'!L61),W61)), AND(AU61>0,AV61>0,AW61>0,AX61>0), MIN(BA61, MAX('MDA1'!K61,'MDA2'!K61, 'MDA5'!K61,MAX('MDA3'!I61,'MDA3'!L61),W61,AL61)))","v":92854},{"$f":"_xlfn.IFS(AND(AU61=0,AV61=0,AW61=0,AX61=0),0,AND(AU61=0,AV61=0,AW61=0,AX61>0),AO61,AND(AU61=0,AV61=0,AW61>0,AX61=0),Z61,AND(AU61=0,AV61=0,AW61>0,AX61>0),MAX(Z61,AO61),AND(AU61=0,AV61>0,AW61=0,AX61=0),MIN(J61*PROFILE!$G$10,MAX('MDA3'!J61,'MDA3'!J61)),AND(AU61=0,AV61>0,AW61=0,AX61>0),MIN(J61*PROFILE!$G$10,MAX('MDA3'!J61,'MDA3'!M61,AO61)),AND(AU61=0,AV61>0,AW61>0,AX61=0),MIN(J61*PROFILE!$G$10,MAX('MDA3'!J61,'MDA3'!M61,Z61)),AND(AU61=0,AV61>0,AW61>0,AX61>0),MIN(J61*PROFILE!$G$10,MAX('MDA3'!J61,'MDA3'!M61,Z61,AO61)),AND(AU61>0,AV61=0,AW61=0,AX61=0), MIN(BB61,MAX('MDA1'!L61,'MDA2'!L61,'MDA5'!L61)),AND(AU61>0,AV61=0,AW61=0,AX61>0), MIN(BB61,MAX('MDA1'!L61,'MDA2'!L61,'MDA5'!L61,AO61)),AND(AU61>0,AV61=0,AW61>0,AX61=0),MIN(BB61,MAX('MDA1'!L61,'MDA2'!L61,'MDA5'!L61,Z61)),AND(AU61>0,AV61=0,AW61>0,AX61>0),MIN(BB61,MAX('MDA1'!L61,'MDA2'!L61,'MDA5'!L61,Z61,AO61)),AND(AU61>0,AV61>0,AW61=0,AX61=0),MIN(BB61, MAX('MDA1'!L61,'MDA2'!L61, 'MDA5'!L61,MAX('MDA3'!J61,'MDA3'!M61))), AND(AU61>0,AV61>0,AW61=0,AX61>0),MIN(BB61, MAX('MDA1'!L61,'MDA2'!L61, 'MDA5'!L61,MAX('MDA3'!J61,'MDA3'!M61),AO61)), AND(AU61>0,AV61>0,AW61>0,AX61=0), MIN(BB61, MAX('MDA1'!L61,'MDA2'!L61, 'MDA5'!L61,MAX('MDA3'!J61,'MDA3'!M61),Z61)), AND(AU61>0,AV61>0,AW61>0,AX61>0), MIN(BB61, MAX('MDA1'!L61,'MDA2'!L61, 'MDA5'!L61,MAX('MDA3'!J61,'MDA3'!M61),Z61,AO61)))","v":200},93054,24.934016789879983]
[{"$f":"IF(COUNTRY_INFO!A62=0,\" \",COUNTRY_INFO!A62)","v":"Mali"},{"$f":"IF(COUNTRY_INFO!B62=0,\" \",COUNTRY_INFO!B62)","v":"Segou"},{"$f":"IF(COUNTRY_INFO!C62=0,\" \",COUNTRY_INFO!C62)","v":"Segou"},{"$f":"COUNTRY_INFO!L62","v":0},null,null,{"$f":"MAX('MDA1'!M62,'MDA2'!M62,'MDA5'!M62)","v":0},{"$f":"IF(AND(COUNTRY_INFO!H62>0,COUNTRY_INFO!H62<4),IF(D62>G62,G62,D62),0)","v":0},{"$f":"IF(AND(COUNTRY_INFO!H62>0,COUNTRY_INFO!H62<4), IF(G62/D62*100<>0, IF(G62/D62*100>100,100,G62/D62*100), \"-\"),0)","v":0},{"$f":"COUNTRY_INFO!M62","v":0},null,null,{"$f":"MAX('MDA1'!M62,MAX('MDA3'!I62,'MDA3'!L62)+MAX('MDA3'!J62,'MDA3'!M62))","v":0},{"$f":"IF(AND(COUNTRY_INFO!I62>0,COUNTRY_INFO!I62<4),IF(J62>M62,M62,J62),0)","v":0},{"$f":"IF(AND(COUNTRY_INFO!I62>0,COUNTRY_INFO!I62<4), IF(M62/J62*100<>0, IF(M62/J62*100>100,100,M62/J62*100), \"-\"),0)","v":0},{"$f":"COUNTRY_INFO!Q62","v":"Non requis"},null,null,{"$f":"MAX('MDA2'!J62,'MDA5'!J62,'T1'!K62, MAX(T3_R1!J62,T3_R2!J62,T3_R3!J62))","v":0},{"$f":"IF(AND(COUNTRY_INFO!J62>1,COUNTRY_INFO!J62<99,COUNTRY_INFO!J62<>4,COUNTRY_INFO!J62<>5),IF(COUNTRY_INFO!N62>S62,S62,COUNTRY_INFO!N62),0)","v":0},{"$f":"IF(AND(COUNTRY_INFO!J62>1,COUNTRY_INFO!J62<99,COUNTRY_INFO!J62<>4,COUNTRY_INFO!J62<>5), IF(T62/COUNTRY_INFO!N62*100<>0, IF(T62/COUNTRY_INFO!N62*100>100,100,T62/COUNTRY_INFO!N62*100), \"-\"),0)","v":0},{"$f":"MAX('MDA1'!K62, 'MDA2'!K62, 'MDA5'!K62,'T1'!L62, MAX(T3_R1!K62,T3_R2!K62,T3_R3!K62))","v":0},{"$f":"IF(AND(COUNTRY_INFO!J62>1,COUNTRY_INFO!J62<99,COUNTRY_INFO!J62<>4,COUNTRY_INFO!J62<>5),IF(COUNTRY_INFO!O62>V62,V62,COUNTRY_INFO!O62),0)","v":0},{"$f":"IF(AND(COUNTRY_INFO!J62>1,COUNTRY_INFO!J62<99,COUNTRY_INFO!J62<>4,COUNTRY_INFO!J62<>5), IF(W62/COUNTRY_INFO!O62*100<>0, IF(W62/COUNTRY_INFO!O62*100>100,100,W62/COUNTRY_INFO!O62*100), \"-\"),0)","v":0},{"$f":"MAX('MDA1'!L62, 'MDA2'!L62, 'MDA5'!L62,'T1'!M62, MAX(T3_R1!L62,T3_R2!L62,T3_R3!L62))","v":0},{"$f":"IF(AND(COUNTRY_INFO!J62>1,COUNTRY_INFO!J62<99,COUNTRY_INFO!J62<>4,COUNTRY_INFO!J62<>5),IF(COUNTRY_INFO!P62>Y62,Y62,COUNTRY_INFO!P62),0)","v":0},{"$f":"IF(AND(COUNTRY_INFO!J62>1,COUNTRY_INFO!J62<99,COUNTRY_INFO!J62<>4,COUNTRY_INFO!J62<>5), IF(Z62/COUNTRY_INFO!P62*100<>0, IF(Z62/COUNTRY_INFO!P62*100>100,100,Z62/COUNTRY_INFO!P62*100), \"-\"),0)","v":0},0,0,{"$f":"IF(AND(COUNTRY_INFO!J62>1,COUNTRY_INFO!J62<99,COUNTRY_INFO!J62<>4,COUNTRY_INFO!J62<>5), IF(AC62/P62*100<>0, IF(AC62/P62*100>100,100,AC62/P62*100), \"-\"),0)","v":0},{"$f":"COUNTRY_INFO!U62","v":721487},null,null,{"$f":"MAX('T1'!K62,'T2'!R62)","v":0},{"$f":"IF(AND(COUNTRY_INFO!K62>1,COUNTRY_INFO!K62<99,COUNTRY_INFO!K62<>4,COUNTRY_INFO!K62<>5),IF(COUNTRY_INFO!R62>AH62,AH62,COUNTRY_INFO!R62),0)","v":0},{"$f":"IF(AND(COUNTRY_INFO!K62>1,COUNTRY_INFO!K62<99,COUNTRY_INFO!K62<>4,COUNTRY_INFO!K62<>5), IF(AI62/COUNTRY_INFO!R62*100<>0, IF(AI62/COUNTRY_INFO!R62*100>100,100,AI62/COUNTRY_INFO!R62*100), \"-\"),0)","v":"-"},{"$f":"MAX('T1'!L62,'T2'!S62)","v":202538},{"$f":"IF(AND(COUNTRY_INFO!K62>1,COUNTRY_INFO!K62<99,COUNTRY_INFO!K62<>4,COUNTRY_INFO!K62<>5),IF(COUNTRY_INFO!S62>AK62,AK62,COUNTRY_INFO!S62),0)","v":202538},{"$f":"IF(AND(COUNTRY_INFO!K62>1,COUNTRY_INFO!K62<99,COUNTRY_INFO!K62<>4,COUNTRY_INFO!K62<>5), IF(AL62/COUNTRY_INFO!S62*100<>0, IF(AL62/COUNTRY_INFO!S62*100>100,100,AL62/COUNTRY_INFO!S62*100), \"-\"),0)","v":89.221037236737189},{"$f":"MAX('T1'!M62,'T2'!T62)","v":285},{"$f":"IF(AND(COUNTRY_INFO!K62>1,COUNTRY_INFO!K62<99,COUNTRY_INFO!K62<>4,COUNTRY_INFO!K62<>5),IF(COUNTRY_INFO!T62>AN62,AN62,COUNTRY_INFO!T62),0)","v":285},{"$f":"IF(AND(COUNTRY_INFO!K62>1,COUNTRY_INFO!K62<99,COUNTRY_INFO!K62<>4,COUNTRY_INFO!K62<>5), IF(AO62/COUNTRY_INFO!T62*100<>0, IF(AO62/COUNTRY_INFO!T62*100>100,100,AO62/COUNTRY_INFO!T62*100), \"-\"),0)","v":6.9477287021642783E-2},202823,202823,{"$f":"IF(AND(COUNTRY_INFO!K62>1,COUNTRY_INFO!K62<99,COUNTRY_INFO!K62<>4,COUNTRY_INFO!K62<>5), IF(AR62/AE62*100<>0, IF(AR62/AE62*100>100,100,AR62/AE62*100), \"-\"),0)","v":28.111802430258621},null,{"$f":"IF(AND(D62<>0, D62<>\"Inconnu\",D62<>\"Interrompu\",D62<>\"Non requis\"),D62/COUNTRY_INFO!D62, 0)","v":0},{"$f":"IF(AND(J62<>0,J62<>\"Inconnu\",J62<>\"Interrompu\",J62<>\"Non requis\"),J62/COUNTRY_INFO!D62, 0)","v":0},{"$f":"IF(AND(P62<>0,P62<>\"Inconnu\",P62<>\"Surveillance\",P62<>\"Non requis\"),P62/COUNTRY_INFO!Q62, 0)","v":0},{"$f":"IF(AND(AE62<>0,AE62<>\"Inconnu\",AE62<>\"Surveillance\",AE62<>\"Non requis\"),AE62/COUNTRY_INFO!U62, 0)","v":1},{"$f":"IF(AU62>0,D62*PROFILE!$G$7,IF(AV62>0,J62*PROFILE!$G$7,0))","v":0},{"$f":"_xlfn.IFS(OR(AU62>0,AW62>0),COUNTRY_INFO!E62, AV62>0,J62*PROFILE!$G$8,AX62>0,COUNTRY_INFO!R62,COUNTIFS(AU62:AX62,\">0\")=0,0)","v":84274},{"$f":"_xlfn.IFS(OR(AU62>0,AW62>0),COUNTRY_INFO!F62, AV62>0,J62*PROFILE!$G$9,AX62>0,COUNTRY_INFO!S62,COUNTIFS(AU62:AX62,\">0\")=0,0)","v":227007},{"$f":"_xlfn.IFS(AU62>0,COUNTRY_INFO!G62, AND(AV62>0,AW62=0,AX62=0),J62*PROFILE!$G$10,AND(AV62>0,AW62>0,AX62=0), MAX(J62*PROFILE!$G$10,COUNTRY_INFO!P62),AND(AV62>0,AW62=0,AX62>0), MAX(J62*PROFILE!$G$10,COUNTRY_INFO!T62),AND(AV62=0,AW62>0,AX62>0), MAX(COUNTRY_INFO!P62,COUNTRY_INFO!T62),AND(AV62=0,AW62>0,AX62=0),COUNTRY_INFO!P62,AND(AV62=0,AW62=0,AX62>0),COUNTRY_INFO!T62,AND(AV62>0,AW62>0,AX62>0), MAX(J62*PROFILE!$G$10,COUNTRY_INFO!P62,COUNTRY_INFO!T62),COUNTIFS(AU62:AX62,\">0\")=0,0)","v":410206},721487,"Y",{"$f":"MAX('MDA2'!J62,'MDA5'!J62,S62,AH62)","v":0},{"$f":"MAX('MDA1'!K62,'MDA2'!K62,'MDA3'!I62,'MDA3'!L62,'MDA5'!K62,V62,AK62)","v":202538},{"$f":"MAX('MDA1'!L62,'MDA2'!L62,'MDA3'!J62,'MDA3'!M62,'MDA5'!L62,Y62,AN62)","v":285},202823,{"$f":"_xlfn.IFS(AND(AU62=0,AW62=0,AX62=0),0,AND(AU62=0,AW62=0,AX62>0),AI62,AND(AU62=0,AW62>0,AX62=0),T62,AND(AU62=0,AW62>0,AX62>0),MAX(T62,AI62),AND(AU62>0,AW62=0,AX62=0),MIN(MAX('MDA2'!J62,'MDA5'!J62),AZ62),AND(AU62>0,AW62=0,AX62>0),MIN(MAX('MDA2'!J62,'MDA5'!J62,AI62),AZ62),AND(AU62>0,AW62>0,AX62=0),MIN(MAX('MDA2'!J62,'MDA5'!J62,T62),AZ62),AND(AU62>0,AW62>0,AX62>0),MIN(MAX('MDA2'!J62,'MDA5'!J62,AI62,T62),AZ62))","v":0},{"$f":"_xlfn.IFS(AND(AU62=0,AV62=0,AW62=0,AX62=0),0,AND(AU62=0,AV62=0,AW62=0,AX62>0),AL62,AND(AU62=0,AV62=0,AW62>0,AX62=0),W62,AND(AU62=0,AV62=0,AW62>0,AX62>0),MAX(W62,AL62),AND(AU62=0,AV62>0,AW62=0,AX62=0),MIN(J62*PROFILE!$G$9,MAX('MDA3'!I62,'MDA3'!L62)),AND(AU62=0,AV62>0,AW62=0,AX62>0),MIN(J62*PROFILE!$G$9,MAX('MDA3'!I62,'MDA3'!L62,AL62)),AND(AU62=0,AV62>0,AW62>0,AX62=0),MIN(J62*PROFILE!$G$9,MAX('MDA3'!I62,'MDA3'!L62,W62)),AND(AU62=0,AV62>0,AW62>0,AX62>0),MIN(J62*PROFILE!$G$9,MAX('MDA3'!I62,'MDA3'!L62,W62,AL62)),AND(AU62>0,AV62=0,AW62=0,AX62=0), MIN(BA62,MAX('MDA1'!K62,'MDA2'!K62,'MDA5'!K62)),AND(AU62>0,AV62=0,AW62=0,AX62>0), MIN(BA62,MAX('MDA1'!K62,'MDA2'!K62,'MDA5'!K62,AL62)),AND(AU62>0,AV62=0,AW62>0,AX62=0),MIN(BA62,MAX('MDA1'!K62,'MDA2'!KL62,'MDA5'!K62,W62)),AND(AU62>0,AV62=0,AW62>0,AX62>0),MIN(BA62,MAX('MDA1'!K62,'MDA2'!K62,'MDA5'!K62,W62,AL62)),AND(AU62>0,AV62>0,AW62=0,AX62=0),MIN(BA62, MAX('MDA1'!K62,'MDA2'!K62, 'MDA5'!K62,MAX('MDA3'!I62,'MDA3'!L62))), AND(AU62>0,AV62>0,AW62=0,AX62>0),MIN(BA62, MAX('MDA1'!K62,'MDA2'!K62, 'MDA5'!K62,MAX('MDA3'!I62,'MDA3'!L62),AL62)), AND(AU62>0,AV62>0,AW62>0,AX62=0), MIN(BA62, MAX('MDA1'!K62,'MDA2'!K62, 'MDA5'!K62,MAX('MDA3'!I62,'MDA3'!L62),W62)), AND(AU62>0,AV62>0,AW62>0,AX62>0), MIN(BA62, MAX('MDA1'!K62,'MDA2'!K62, 'MDA5'!K62,MAX('MDA3'!I62,'MDA3'!L62),W62,AL62)))","v":202538},{"$f":"_xlfn.IFS(AND(AU62=0,AV62=0,AW62=0,AX62=0),0,AND(AU62=0,AV62=0,AW62=0,AX62>0),AO62,AND(AU62=0,AV62=0,AW62>0,AX62=0),Z62,AND(AU62=0,AV62=0,AW62>0,AX62>0),MAX(Z62,AO62),AND(AU62=0,AV62>0,AW62=0,AX62=0),MIN(J62*PROFILE!$G$10,MAX('MDA3'!J62,'MDA3'!J62)),AND(AU62=0,AV62>0,AW62=0,AX62>0),MIN(J62*PROFILE!$G$10,MAX('MDA3'!J62,'MDA3'!M62,AO62)),AND(AU62=0,AV62>0,AW62>0,AX62=0),MIN(J62*PROFILE!$G$10,MAX('MDA3'!J62,'MDA3'!M62,Z62)),AND(AU62=0,AV62>0,AW62>0,AX62>0),MIN(J62*PROFILE!$G$10,MAX('MDA3'!J62,'MDA3'!M62,Z62,AO62)),AND(AU62>0,AV62=0,AW62=0,AX62=0), MIN(BB62,MAX('MDA1'!L62,'MDA2'!L62,'MDA5'!L62)),AND(AU62>0,AV62=0,AW62=0,AX62>0), MIN(BB62,MAX('MDA1'!L62,'MDA2'!L62,'MDA5'!L62,AO62)),AND(AU62>0,AV62=0,AW62>0,AX62=0),MIN(BB62,MAX('MDA1'!L62,'MDA2'!L62,'MDA5'!L62,Z62)),AND(AU62>0,AV62=0,AW62>0,AX62>0),MIN(BB62,MAX('MDA1'!L62,'MDA2'!L62,'MDA5'!L62,Z62,AO62)),AND(AU62>0,AV62>0,AW62=0,AX62=0),MIN(BB62, MAX('MDA1'!L62,'MDA2'!L62, 'MDA5'!L62,MAX('MDA3'!J62,'MDA3'!M62))), AND(AU62>0,AV62>0,AW62=0,AX62>0),MIN(BB62, MAX('MDA1'!L62,'MDA2'!L62, 'MDA5'!L62,MAX('MDA3'!J62,'MDA3'!M62),AO62)), AND(AU62>0,AV62>0,AW62>0,AX62=0), MIN(BB62, MAX('MDA1'!L62,'MDA2'!L62, 'MDA5'!L62,MAX('MDA3'!J62,'MDA3'!M62),Z62)), AND(AU62>0,AV62>0,AW62>0,AX62>0), MIN(BB62, MAX('MDA1'!L62,'MDA2'!L62, 'MDA5'!L62,MAX('MDA3'!J62,'MDA3'!M62),Z62,AO62)))","v":285},202823,28.111802430258621]
[{"$f":"IF(COUNTRY_INFO!A63=0,\" \",COUNTRY_INFO!A63)","v":"Mali"},{"$f":"IF(COUNTRY_INFO!B63=0,\" \",COUNTRY_INFO!B63)","v":"Segou"},{"$f":"IF(COUNTRY_INFO!C63=0,\" \",COUNTRY_INFO!C63)","v":"Tominian"},{"$f":"COUNTRY_INFO!L63","v":0},null,null,{"$f":"MAX('MDA1'!M63,'MDA2'!M63,'MDA5'!M63)","v":0},{"$f":"IF(AND(COUNTRY_INFO!H63>0,COUNTRY_INFO!H63<4),IF(D63>G63,G63,D63),0)","v":0},{"$f":"IF(AND(COUNTRY_INFO!H63>0,COUNTRY_INFO!H63<4), IF(G63/D63*100<>0, IF(G63/D63*100>100,100,G63/D63*100), \"-\"),0)","v":0},{"$f":"COUNTRY_INFO!M63","v":0},null,null,{"$f":"MAX('MDA1'!M63,MAX('MDA3'!I63,'MDA3'!L63)+MAX('MDA3'!J63,'MDA3'!M63))","v":0},{"$f":"IF(AND(COUNTRY_INFO!I63>0,COUNTRY_INFO!I63<4),IF(J63>M63,M63,J63),0)","v":0},{"$f":"IF(AND(COUNTRY_INFO!I63>0,COUNTRY_INFO!I63<4), IF(M63/J63*100<>0, IF(M63/J63*100>100,100,M63/J63*100), \"-\"),0)","v":0},{"$f":"COUNTRY_INFO!Q63","v":"Non requis"},null,null,{"$f":"MAX('MDA2'!J63,'MDA5'!J63,'T1'!K63, MAX(T3_R1!J63,T3_R2!J63,T3_R3!J63))","v":0},{"$f":"IF(AND(COUNTRY_INFO!J63>1,COUNTRY_INFO!J63<99,COUNTRY_INFO!J63<>4,COUNTRY_INFO!J63<>5),IF(COUNTRY_INFO!N63>S63,S63,COUNTRY_INFO!N63),0)","v":0},{"$f":"IF(AND(COUNTRY_INFO!J63>1,COUNTRY_INFO!J63<99,COUNTRY_INFO!J63<>4,COUNTRY_INFO!J63<>5), IF(T63/COUNTRY_INFO!N63*100<>0, IF(T63/COUNTRY_INFO!N63*100>100,100,T63/COUNTRY_INFO!N63*100), \"-\"),0)","v":0},{"$f":"MAX('MDA1'!K63, 'MDA2'!K63, 'MDA5'!K63,'T1'!L63, MAX(T3_R1!K63,T3_R2!K63,T3_R3!K63))","v":0},{"$f":"IF(AND(COUNTRY_INFO!J63>1,COUNTRY_INFO!J63<99,COUNTRY_INFO!J63<>4,COUNTRY_INFO!J63<>5),IF(COUNTRY_INFO!O63>V63,V63,COUNTRY_INFO!O63),0)","v":0},{"$f":"IF(AND(COUNTRY_INFO!J63>1,COUNTRY_INFO!J63<99,COUNTRY_INFO!J63<>4,COUNTRY_INFO!J63<>5), IF(W63/COUNTRY_INFO!O63*100<>0, IF(W63/COUNTRY_INFO!O63*100>100,100,W63/COUNTRY_INFO!O63*100), \"-\"),0)","v":0},{"$f":"MAX('MDA1'!L63, 'MDA2'!L63, 'MDA5'!L63,'T1'!M63, MAX(T3_R1!L63,T3_R2!L63,T3_R3!L63))","v":0},{"$f":"IF(AND(COUNTRY_INFO!J63>1,COUNTRY_INFO!J63<99,COUNTRY_INFO!J63<>4,COUNTRY_INFO!J63<>5),IF(COUNTRY_INFO!P63>Y63,Y63,COUNTRY_INFO!P63),0)","v":0},{"$f":"IF(AND(COUNTRY_INFO!J63>1,COUNTRY_INFO!J63<99,COUNTRY_INFO!J63<>4,COUNTRY_INFO!J63<>5), IF(Z63/COUNTRY_INFO!P63*100<>0, IF(Z63/COUNTRY_INFO!P63*100>100,100,Z63/COUNTRY_INFO!P63*100), \"-\"),0)","v":0},0,0,{"$f":"IF(AND(COUNTRY_INFO!J63>1,COUNTRY_INFO!J63<99,COUNTRY_INFO!J63<>4,COUNTRY_INFO!J63<>5), IF(AC63/P63*100<>0, IF(AC63/P63*100>100,100,AC63/P63*100), \"-\"),0)","v":0},{"$f":"COUNTRY_INFO!U63","v":93940},null,null,{"$f":"MAX('T1'!K63,'T2'!R63)","v":0},{"$f":"IF(AND(COUNTRY_INFO!K63>1,COUNTRY_INFO!K63<99,COUNTRY_INFO!K63<>4,COUNTRY_INFO!K63<>5),IF(COUNTRY_INFO!R63>AH63,AH63,COUNTRY_INFO!R63),0)","v":0},{"$f":"IF(AND(COUNTRY_INFO!K63>1,COUNTRY_INFO!K63<99,COUNTRY_INFO!K63<>4,COUNTRY_INFO!K63<>5), IF(AI63/COUNTRY_INFO!R63*100<>0, IF(AI63/COUNTRY_INFO!R63*100>100,100,AI63/COUNTRY_INFO!R63*100), \"-\"),0)","v":{"$error":"#DIV/0!"}},{"$f":"MAX('T1'!L63,'T2'!S63)","v":92300},{"$f":"IF(AND(COUNTRY_INFO!K63>1,COUNTRY_INFO!K63<99,COUNTRY_INFO!K63<>4,COUNTRY_INFO!K63<>5),IF(COUNTRY_INFO!S63>AK63,AK63,COUNTRY_INFO!S63),0)","v":92300},{"$f":"IF(AND(COUNTRY_INFO!K63>1,COUNTRY_INFO!K63<99,COUNTRY_INFO!K63<>4,COUNTRY_INFO!K63<>5), IF(AL63/COUNTRY_INFO!S63*100<>0, IF(AL63/COUNTRY_INFO!S63*100>100,100,AL63/COUNTRY_INFO!S63*100), \"-\"),0)","v":98.254204811581857},{"$f":"MAX('T1'!M63,'T2'!T63)","v":11695},{"$f":"IF(AND(COUNTRY_INFO!K63>1,COUNTRY_INFO!K63<99,COUNTRY_INFO!K63<>4,COUNTRY_INFO!K63<>5),IF(COUNTRY_INFO!T63>AN63,AN63,COUNTRY_INFO!T63),0)","v":0},{"$f":"IF(AND(COUNTRY_INFO!K63>1,COUNTRY_INFO!K63<99,COUNTRY_INFO!K63<>4,COUNTRY_INFO!K63<>5), IF(AO63/COUNTRY_INFO!T63*100<>0, IF(AO63/COUNTRY_INFO!T63*100>100,100,AO63/COUNTRY_INFO!T63*100), \"-\"),0)","v":{"$error":"#DIV/0!"}},103995,92300,{"$f":"IF(AND(COUNTRY_INFO!K63>1,COUNTRY_INFO!K63<99,COUNTRY_INFO!K63<>4,COUNTRY_INFO!K63<>5), IF(AR63/AE63*100<>0, IF(AR63/AE63*100>100,100,AR63/AE63*100), \"-\"),0)","v":98.254204811581857},null,{"$f":"IF(AND(D63<>0, D63<>\"Inconnu\",D63<>\"Interrompu\",D63<>\"Non requis\"),D63/COUNTRY_INFO!D63, 0)","v":0},{"$f":"IF(AND(J63<>0,J63<>\"Inconnu\",J63<>\"Interrompu\",J63<>\"Non requis\"),J63/COUNTRY_INFO!D63, 0)","v":0},{"$f":"IF(AND(P63<>0,P63<>\"Inconnu\",P63<>\"Surveillance\",P63<>\"Non requis\"),P63/COUNTRY_INFO!Q63, 0)","v":0},{"$f":"IF(AND(AE63<>0,AE63<>\"Inconnu\",AE63<>\"Surveillance\",AE63<>\"Non requis\"),AE63/COUNTRY_INFO!U63, 0)","v":1},{"$f":"IF(AU63>0,D63*PROFILE!$G$7,IF(AV63>0,J63*PROFILE!$G$7,0))","v":0},{"$f":"_xlfn.IFS(OR(AU63>0,AW63>0),COUNTRY_INFO!E63, AV63>0,J63*PROFILE!$G$8,AX63>0,COUNTRY_INFO!R63,COUNTIFS(AU63:AX63,\">0\")=0,0)","v":0},{"$f":"_xlfn.IFS(OR(AU63>0,AW63>0),COUNTRY_INFO!F63, AV63>0,J63*PROFILE!$G$9,AX63>0,COUNTRY_INFO!S63,COUNTIFS(AU63:AX63,\">0\")=0,0)","v":93940},{"$f":"_xlfn.IFS(AU63>0,COUNTRY_INFO!G63, AND(AV63>0,AW63=0,AX63=0),J63*PROFILE!$G$10,AND(AV63>0,AW63>0,AX63=0), MAX(J63*PROFILE!$G$10,COUNTRY_INFO!P63),AND(AV63>0,AW63=0,AX63>0), MAX(J63*PROFILE!$G$10,COUNTRY_INFO!T63),AND(AV63=0,AW63>0,AX63>0), MAX(COUNTRY_INFO!P63,COUNTRY_INFO!T63),AND(AV63=0,AW63>0,AX63=0),COUNTRY_INFO!P63,AND(AV63=0,AW63=0,AX63>0),COUNTRY_INFO!T63,AND(AV63>0,AW63>0,AX63>0), MAX(J63*PROFILE!$G$10,COUNTRY_INFO!P63,COUNTRY_INFO!T63),COUNTIFS(AU63:AX63,\">0\")=0,0)","v":0},93940,"Y",{"$f":"MAX('MDA2'!J63,'MDA5'!J63,S63,AH63)","v":0},{"$f":"MAX('MDA1'!K63,'MDA2'!K63,'MDA3'!I63,'MDA3'!L63,'MDA5'!K63,V63,AK63)","v":92300},{"$f":"MAX('MDA1'!L63,'MDA2'!L63,'MDA3'!J63,'MDA3'!M63,'MDA5'!L63,Y63,AN63)","v":11695},103995,{"$f":"_xlfn.IFS(AND(AU63=0,AW63=0,AX63=0),0,AND(AU63=0,AW63=0,AX63>0),AI63,AND(AU63=0,AW63>0,AX63=0),T63,AND(AU63=0,AW63>0,AX63>0),MAX(T63,AI63),AND(AU63>0,AW63=0,AX63=0),MIN(MAX('MDA2'!J63,'MDA5'!J63),AZ63),AND(AU63>0,AW63=0,AX63>0),MIN(MAX('MDA2'!J63,'MDA5'!J63,AI63),AZ63),AND(AU63>0,AW63>0,AX63=0),MIN(MAX('MDA2'!J63,'MDA5'!J63,T63),AZ63),AND(AU63>0,AW63>0,AX63>0),MIN(MAX('MDA2'!J63,'MDA5'!J63,AI63,T63),AZ63))","v":0},{"$f":"_xlfn.IFS(AND(AU63=0,AV63=0,AW63=0,AX63=0),0,AND(AU63=0,AV63=0,AW63=0,AX63>0),AL63,AND(AU63=0,AV63=0,AW63>0,AX63=0),W63,AND(AU63=0,AV63=0,AW63>0,AX63>0),MAX(W63,AL63),AND(AU63=0,AV63>0,AW63=0,AX63=0),MIN(J63*PROFILE!$G$9,MAX('MDA3'!I63,'MDA3'!L63)),AND(AU63=0,AV63>0,AW63=0,AX63>0),MIN(J63*PROFILE!$G$9,MAX('MDA3'!I63,'MDA3'!L63,AL63)),AND(AU63=0,AV63>0,AW63>0,AX63=0),MIN(J63*PROFILE!$G$9,MAX('MDA3'!I63,'MDA3'!L63,W63)),AND(AU63=0,AV63>0,AW63>0,AX63>0),MIN(J63*PROFILE!$G$9,MAX('MDA3'!I63,'MDA3'!L63,W63,AL63)),AND(AU63>0,AV63=0,AW63=0,AX63=0), MIN(BA63,MAX('MDA1'!K63,'MDA2'!K63,'MDA5'!K63)),AND(AU63>0,AV63=0,AW63=0,AX63>0), MIN(BA63,MAX('MDA1'!K63,'MDA2'!K63,'MDA5'!K63,AL63)),AND(AU63>0,AV63=0,AW63>0,AX63=0),MIN(BA63,MAX('MDA1'!K63,'MDA2'!KL63,'MDA5'!K63,W63)),AND(AU63>0,AV63=0,AW63>0,AX63>0),MIN(BA63,MAX('MDA1'!K63,'MDA2'!K63,'MDA5'!K63,W63,AL63)),AND(AU63>0,AV63>0,AW63=0,AX63=0),MIN(BA63, MAX('MDA1'!K63,'MDA2'!K63, 'MDA5'!K63,MAX('MDA3'!I63,'MDA3'!L63))), AND(AU63>0,AV63>0,AW63=0,AX63>0),MIN(BA63, MAX('MDA1'!K63,'MDA2'!K63, 'MDA5'!K63,MAX('MDA3'!I63,'MDA3'!L63),AL63)), AND(AU63>0,AV63>0,AW63>0,AX63=0), MIN(BA63, MAX('MDA1'!K63,'MDA2'!K63, 'MDA5'!K63,MAX('MDA3'!I63,'MDA3'!L63),W63)), AND(AU63>0,AV63>0,AW63>0,AX63>0), MIN(BA63, MAX('MDA1'!K63,'MDA2'!K63, 'MDA5'!K63,MAX('MDA3'!I63,'MDA3'!L63),W63,AL63)))","v":92300},{"$f":"_xlfn.IFS(AND(AU63=0,AV63=0,AW63=0,AX63=0),0,AND(AU63=0,AV63=0,AW63=0,AX63>0),AO63,AND(AU63=0,AV63=0,AW63>0,AX63=0),Z63,AND(AU63=0,AV63=0,AW63>0,AX63>0),MAX(Z63,AO63),AND(AU63=0,AV63>0,AW63=0,AX63=0),MIN(J63*PROFILE!$G$10,MAX('MDA3'!J63,'MDA3'!J63)),AND(AU63=0,AV63>0,AW63=0,AX63>0),MIN(J63*PROFILE!$G$10,MAX('MDA3'!J63,'MDA3'!M63,AO63)),AND(AU63=0,AV63>0,AW63>0,AX63=0),MIN(J63*PROFILE!$G$10,MAX('MDA3'!J63,'MDA3'!M63,Z63)),AND(AU63=0,AV63>0,AW63>0,AX63>0),MIN(J63*PROFILE!$G$10,MAX('MDA3'!J63,'MDA3'!M63,Z63,AO63)),AND(AU63>0,AV63=0,AW63=0,AX63=0), MIN(BB63,MAX('MDA1'!L63,'MDA2'!L63,'MDA5'!L63)),AND(AU63>0,AV63=0,AW63=0,AX63>0), MIN(BB63,MAX('MDA1'!L63,'MDA2'!L63,'MDA5'!L63,AO63)),AND(AU63>0,AV63=0,AW63>0,AX63=0),MIN(BB63,MAX('MDA1'!L63,'MDA2'!L63,'MDA5'!L63,Z63)),AND(AU63>0,AV63=0,AW63>0,AX63>0),MIN(BB63,MAX('MDA1'!L63,'MDA2'!L63,'MDA5'!L63,Z63,AO63)),AND(AU63>0,AV63>0,AW63=0,AX63=0),MIN(BB63, MAX('MDA1'!L63,'MDA2'!L63, 'MDA5'!L63,MAX('MDA3'!J63,'MDA3'!M63))), AND(AU63>0,AV63>0,AW63=0,AX63>0),MIN(BB63, MAX('MDA1'!L63,'MDA2'!L63, 'MDA5'!L63,MAX('MDA3'!J63,'MDA3'!M63),AO63)), AND(AU63>0,AV63>0,AW63>0,AX63=0), MIN(BB63, MAX('MDA1'!L63,'MDA2'!L63, 'MDA5'!L63,MAX('MDA3'!J63,'MDA3'!M63),Z63)), AND(AU63>0,AV63>0,AW63>0,AX63>0), MIN(BB63, MAX('MDA1'!L63,'MDA2'!L63, 'MDA5'!L63,MAX('MDA3'!J63,'MDA3'!M63),Z63,AO63)))","v":0},92300,98.254204811581857]
[{"$f":"IF(COUNTRY_INFO!A64=0,\" \",COUNTRY_INFO!A64)","v":"Mali"},{"$f":"IF(COUNTRY_INFO!B64=0,\" \",COUNTRY_INFO!B64)","v":"Sikasso"},{"$f":"IF(COUNTRY_INFO!C64=0,\" \",COUNTRY_INFO!C64)","v":"Bougouni"},{"$f":"COUNTRY_INFO!L64","v":0},null,null,{"$f":"MAX('MDA1'!M64,'MDA2'!M64,'MDA5'!M64)","v":0},{"$f":"IF(AND(COUNTRY_INFO!H64>0,COUNTRY_INFO!H64<4),IF(D64>G64,G64,D64),0)","v":0},{"$f":"IF(AND(COUNTRY_INFO!H64>0,COUNTRY_INFO!H64<4), IF(G64/D64*100<>0, IF(G64/D64*100>100,100,G64/D64*100), \"-\"),0)","v":0},{"$f":"COUNTRY_INFO!M64","v":"Interrompu"},null,null,{"$f":"MAX('MDA1'!M64,MAX('MDA3'!I64,'MDA3'!L64)+MAX('MDA3'!J64,'MDA3'!M64))","v":0},{"$f":"IF(AND(COUNTRY_INFO!I64>0,COUNTRY_INFO!I64<4),IF(J64>M64,M64,J64),0)","v":0},{"$f":"IF(AND(COUNTRY_INFO!I64>0,COUNTRY_INFO!I64<4), IF(M64/J64*100<>0, IF(M64/J64*100>100,100,M64/J64*100), \"-\"),0)","v":0},{"$f":"COUNTRY_INFO!Q64","v":"Non requis"},null,null,{"$f":"MAX('MDA2'!J64,'MDA5'!J64,'T1'!K64, MAX(T3_R1!J64,T3_R2!J64,T3_R3!J64))","v":0},{"$f":"IF(AND(COUNTRY_INFO!J64>1,COUNTRY_INFO!J64<99,COUNTRY_INFO!J64<>4,COUNTRY_INFO!J64<>5),IF(COUNTRY_INFO!N64>S64,S64,COUNTRY_INFO!N64),0)","v":0},{"$f":"IF(AND(COUNTRY_INFO!J64>1,COUNTRY_INFO!J64<99,COUNTRY_INFO!J64<>4,COUNTRY_INFO!J64<>5), IF(T64/COUNTRY_INFO!N64*100<>0, IF(T64/COUNTRY_INFO!N64*100>100,100,T64/COUNTRY_INFO!N64*100), \"-\"),0)","v":0},{"$f":"MAX('MDA1'!K64, 'MDA2'!K64, 'MDA5'!K64,'T1'!L64, MAX(T3_R1!K64,T3_R2!K64,T3_R3!K64))","v":0},{"$f":"IF(AND(COUNTRY_INFO!J64>1,COUNTRY_INFO!J64<99,COUNTRY_INFO!J64<>4,COUNTRY_INFO!J64<>5),IF(COUNTRY_INFO!O64>V64,V64,COUNTRY_INFO!O64),0)","v":0},{"$f":"IF(AND(COUNTRY_INFO!J64>1,COUNTRY_INFO!J64<99,COUNTRY_INFO!J64<>4,COUNTRY_INFO!J64<>5), IF(W64/COUNTRY_INFO!O64*100<>0, IF(W64/COUNTRY_INFO!O64*100>100,100,W64/COUNTRY_INFO!O64*100), \"-\"),0)","v":0},{"$f":"MAX('MDA1'!L64, 'MDA2'!L64, 'MDA5'!L64,'T1'!M64, MAX(T3_R1!L64,T3_R2!L64,T3_R3!L64))","v":0},{"$f":"IF(AND(COUNTRY_INFO!J64>1,COUNTRY_INFO!J64<99,COUNTRY_INFO!J64<>4,COUNTRY_INFO!J64<>5),IF(COUNTRY_INFO!P64>Y64,Y64,COUNTRY_INFO!P64),0)","v":0},{"$f":"IF(AND(COUNTRY_INFO!J64>1,COUNTRY_INFO!J64<99,COUNTRY_INFO!J64<>4,COUNTRY_INFO!J64<>5), IF(Z64/COUNTRY_INFO!P64*100<>0, IF(Z64/COUNTRY_INFO!P64*100>100,100,Z64/COUNTRY_INFO!P64*100), \"-\"),0)","v":0},0,0,{"$f":"IF(AND(COUNTRY_INFO!J64>1,COUNTRY_INFO!J64<99,COUNTRY_INFO!J64<>4,COUNTRY_INFO!J64<>5), IF(AC64/P64*100<>0, IF(AC64/P64*100>100,100,AC64/P64*100), \"-\"),0)","v":0},{"$f":"COUNTRY_INFO!U64","v":664799},null,null,{"$f":"MAX('T1'!K64,'T2'!R64)","v":0},{"$f":"IF(AND(COUNTRY_INFO!K64>1,COUNTRY_INFO!K64<99,COUNTRY_INFO!K64<>4,COUNTRY_INFO!K64<>5),IF(COUNTRY_INFO!R64>AH64,AH64,COUNTRY_INFO!R64),0)","v":0},{"$f":"IF(AND(COUNTRY_INFO!K64>1,COUNTRY_INFO!K64<99,COUNTRY_INFO!K64<>4,COUNTRY_INFO!K64<>5), IF(AI64/COUNTRY_INFO!R64*100<>0, IF(AI64/COUNTRY_INFO!R64*100>100,100,AI64/COUNTRY_INFO!R64*100), \"-\"),0)","v":"-"},{"$f":"MAX('T1'!L64,'T2'!S64)","v":61849},{"$f":"IF(AND(COUNTRY_INFO!K64>1,COUNTRY_INFO!K64<99,COUNTRY_INFO!K64<>4,COUNTRY_INFO!K64<>5),IF(COUNTRY_INFO!S64>AK64,AK64,COUNTRY_INFO!S64),0)","v":61849},{"$f":"IF(AND(COUNTRY_INFO!K64>1,COUNTRY_INFO!K64<99,COUNTRY_INFO!K64<>4,COUNTRY_INFO!K64<>5), IF(AL64/COUNTRY_INFO!S64*100<>0, IF(AL64/COUNTRY_INFO!S64*100>100,100,AL64/COUNTRY_INFO!S64*100), \"-\"),0)","v":29.568347731303753},{"$f":"MAX('T1'!M64,'T2'!T64)","v":62},{"$f":"IF(AND(COUNTRY_INFO!K64>1,COUNTRY_INFO!K64<99,COUNTRY_INFO!K64<>4,COUNTRY_INFO!K64<>5),IF(COUNTRY_INFO!T64>AN64,AN64,COUNTRY_INFO!T64),0)","v":62},{"$f":"IF(AND(COUNTRY_INFO!K64>1,COUNTRY_INFO!K64<99,COUNTRY_INFO!K64<>4,COUNTRY_INFO!K64<>5), IF(AO64/COUNTRY_INFO!T64*100<>0, IF(AO64/COUNTRY_INFO!T64*100>100,100,AO64/COUNTRY_INFO!T64*100), \"-\"),0)","v":1.6403157872457511E-2},61911,61911,{"$f":"IF(AND(COUNTRY_INFO!K64>1,COUNTRY_INFO!K64<99,COUNTRY_INFO!K64<>4,COUNTRY_INFO!K64<>5), IF(AR64/AE64*100<>0, IF(AR64/AE64*100>100,100,AR64/AE64*100), \"-\"),0)","v":9.3127396401017464},null,{"$f":"IF(AND(D64<>0, D64<>\"Inconnu\",D64<>\"Interrompu\",D64<>\"Non requis\"),D64/COUNTRY_INFO!D64, 0)","v":0},{"$f":"IF(AND(J64<>0,J64<>\"Inconnu\",J64<>\"Interrompu\",J64<>\"Non requis\"),J64/COUNTRY_INFO!D64, 0)","v":0},{"$f":"IF(AND(P64<>0,P64<>\"Inconnu\",P64<>\"Surveillance\",P64<>\"Non requis\"),P64/COUNTRY_INFO!Q64, 0)","v":0},{"$f":"IF(AND(AE64<>0,AE64<>\"Inconnu\",AE64<>\"Surveillance\",AE64<>\"Non requis\"),AE64/COUNTRY_INFO!U64, 0)","v":1},{"$f":"IF(AU64>0,D64*PROFILE!$G$7,IF(AV64>0,J64*PROFILE!$G$7,0))","v":0},{"$f":"_xlfn.IFS(OR(AU64>0,AW64>0),COUNTRY_INFO!E64, AV64>0,J64*PROFILE!$G$8,AX64>0,COUNTRY_INFO!R64,COUNTIFS(AU64:AX64,\">0\")=0,0)","v":77650},{"$f":"_xlfn.IFS(OR(AU64>0,AW64>0),COUNTRY_INFO!F64, AV64>0,J64*PROFILE!$G$9,AX64>0,COUNTRY_INFO!S64,COUNTIFS(AU64:AX64,\">0\")=0,0)","v":209173},{"$f":"_xlfn.IFS(AU64>0,COUNTRY_INFO!G64, AND(AV64>0,AW64=0,AX64=0),J64*PROFILE!$G$10,AND(AV64>0,AW64>0,AX64=0), MAX(J64*PROFILE!$G$10,COUNTRY_INFO!P64),AND(AV64>0,AW64=0,AX64>0), MAX(J64*PROFILE!$G$10,COUNTRY_INFO!T64),AND(AV64=0,AW64>0,AX64>0), MAX(COUNTRY_INFO!P64,COUNTRY_INFO!T64),AND(AV64=0,AW64>0,AX64=0),COUNTRY_INFO!P64,AND(AV64=0,AW64=0,AX64>0),COUNTRY_INFO!T64,AND(AV64>0,AW64>0,AX64>0), MAX(J64*PROFILE!$G$10,COUNTRY_INFO!P64,COUNTRY_INFO!T64),COUNTIFS(AU64:AX64,\">0\")=0,0)","v":377976},664799,"Y",{"$f":"MAX('MDA2'!J64,'MDA5'!J64,S64,AH64)","v":0},{"$f":"MAX('MDA1'!K64,'MDA2'!K64,'MDA3'!I64,'MDA3'!L64,'MDA5'!K64,V64,AK64)","v":61849},{"$f":"MAX('MDA1'!L64,'MDA2'!L64,'MDA3'!J64,'MDA3'!M64,'MDA5'!L64,Y64,AN64)","v":62},61911,{"$f":"_xlfn.IFS(AND(AU64=0,AW64=0,AX64=0),0,AND(AU64=0,AW64=0,AX64>0),AI64,AND(AU64=0,AW64>0,AX64=0),T64,AND(AU64=0,AW64>0,AX64>0),MAX(T64,AI64),AND(AU64>0,AW64=0,AX64=0),MIN(MAX('MDA2'!J64,'MDA5'!J64),AZ64),AND(AU64>0,AW64=0,AX64>0),MIN(MAX('MDA2'!J64,'MDA5'!J64,AI64),AZ64),AND(AU64>0,AW64>0,AX64=0),MIN(MAX('MDA2'!J64,'MDA5'!J64,T64),AZ64),AND(AU64>0,AW64>0,AX64>0),MIN(MAX('MDA2'!J64,'MDA5'!J64,AI64,T64),AZ64))","v":0},{"$f":"_xlfn.IFS(AND(AU64=0,AV64=0,AW64=0,AX64=0),0,AND(AU64=0,AV64=0,AW64=0,AX64>0),AL64,AND(AU64=0,AV64=0,AW64>0,AX64=0),W64,AND(AU64=0,AV64=0,AW64>0,AX64>0),MAX(W64,AL64),AND(AU64=0,AV64>0,AW64=0,AX64=0),MIN(J64*PROFILE!$G$9,MAX('MDA3'!I64,'MDA3'!L64)),AND(AU64=0,AV64>0,AW64=0,AX64>0),MIN(J64*PROFILE!$G$9,MAX('MDA3'!I64,'MDA3'!L64,AL64)),AND(AU64=0,AV64>0,AW64>0,AX64=0),MIN(J64*PROFILE!$G$9,MAX('MDA3'!I64,'MDA3'!L64,W64)),AND(AU64=0,AV64>0,AW64>0,AX64>0),MIN(J64*PROFILE!$G$9,MAX('MDA3'!I64,'MDA3'!L64,W64,AL64)),AND(AU64>0,AV64=0,AW64=0,AX64=0), MIN(BA64,MAX('MDA1'!K64,'MDA2'!K64,'MDA5'!K64)),AND(AU64>0,AV64=0,AW64=0,AX64>0), MIN(BA64,MAX('MDA1'!K64,'MDA2'!K64,'MDA5'!K64,AL64)),AND(AU64>0,AV64=0,AW64>0,AX64=0),MIN(BA64,MAX('MDA1'!K64,'MDA2'!KL64,'MDA5'!K64,W64)),AND(AU64>0,AV64=0,AW64>0,AX64>0),MIN(BA64,MAX('MDA1'!K64,'MDA2'!K64,'MDA5'!K64,W64,AL64)),AND(AU64>0,AV64>0,AW64=0,AX64=0),MIN(BA64, MAX('MDA1'!K64,'MDA2'!K64, 'MDA5'!K64,MAX('MDA3'!I64,'MDA3'!L64))), AND(AU64>0,AV64>0,AW64=0,AX64>0),MIN(BA64, MAX('MDA1'!K64,'MDA2'!K64, 'MDA5'!K64,MAX('MDA3'!I64,'MDA3'!L64),AL64)), AND(AU64>0,AV64>0,AW64>0,AX64=0), MIN(BA64, MAX('MDA1'!K64,'MDA2'!K64, 'MDA5'!K64,MAX('MDA3'!I64,'MDA3'!L64),W64)), AND(AU64>0,AV64>0,AW64>0,AX64>0), MIN(BA64, MAX('MDA1'!K64,'MDA2'!K64, 'MDA5'!K64,MAX('MDA3'!I64,'MDA3'!L64),W64,AL64)))","v":61849},{"$f":"_xlfn.IFS(AND(AU64=0,AV64=0,AW64=0,AX64=0),0,AND(AU64=0,AV64=0,AW64=0,AX64>0),AO64,AND(AU64=0,AV64=0,AW64>0,AX64=0),Z64,AND(AU64=0,AV64=0,AW64>0,AX64>0),MAX(Z64,AO64),AND(AU64=0,AV64>0,AW64=0,AX64=0),MIN(J64*PROFILE!$G$10,MAX('MDA3'!J64,'MDA3'!J64)),AND(AU64=0,AV64>0,AW64=0,AX64>0),MIN(J64*PROFILE!$G$10,MAX('MDA3'!J64,'MDA3'!M64,AO64)),AND(AU64=0,AV64>0,AW64>0,AX64=0),MIN(J64*PROFILE!$G$10,MAX('MDA3'!J64,'MDA3'!M64,Z64)),AND(AU64=0,AV64>0,AW64>0,AX64>0),MIN(J64*PROFILE!$G$10,MAX('MDA3'!J64,'MDA3'!M64,Z64,AO64)),AND(AU64>0,AV64=0,AW64=0,AX64=0), MIN(BB64,MAX('MDA1'!L64,'MDA2'!L64,'MDA5'!L64)),AND(AU64>0,AV64=0,AW64=0,AX64>0), MIN(BB64,MAX('MDA1'!L64,'MDA2'!L64,'MDA5'!L64,AO64)),AND(AU64>0,AV64=0,AW64>0,AX64=0),MIN(BB64,MAX('MDA1'!L64,'MDA2'!L64,'MDA5'!L64,Z64)),AND(AU64>0,AV64=0,AW64>0,AX64>0),MIN(BB64,MAX('MDA1'!L64,'MDA2'!L64,'MDA5'!L64,Z64,AO64)),AND(AU64>0,AV64>0,AW64=0,AX64=0),MIN(BB64, MAX('MDA1'!L64,'MDA2'!L64, 'MDA5'!L64,MAX('MDA3'!J64,'MDA3'!M64))), AND(AU64>0,AV64>0,AW64=0,AX64>0),MIN(BB64, MAX('MDA1'!L64,'MDA2'!L64, 'MDA5'!L64,MAX('MDA3'!J64,'MDA3'!M64),AO64)), AND(AU64>0,AV64>0,AW64>0,AX64=0), MIN(BB64, MAX('MDA1'!L64,'MDA2'!L64, 'MDA5'!L64,MAX('MDA3'!J64,'MDA3'!M64),Z64)), AND(AU64>0,AV64>0,AW64>0,AX64>0), MIN(BB64, MAX('MDA1'!L64,'MDA2'!L64, 'MDA5'!L64,MAX('MDA3'!J64,'MDA3'!M64),Z64,AO64)))","v":62},61911,9.3127396401017464]
[{"$f":"IF(COUNTRY_INFO!A65=0,\" \",COUNTRY_INFO!A65)","v":"Mali"},{"$f":"IF(COUNTRY_INFO!B65=0,\" \",COUNTRY_INFO!B65)","v":"Sikasso"},{"$f":"IF(COUNTRY_INFO!C65=0,\" \",COUNTRY_INFO!C65)","v":"Kadiolo"},{"$f":"COUNTRY_INFO!L65","v":0},null,null,{"$f":"MAX('MDA1'!M65,'MDA2'!M65,'MDA5'!M65)","v":0},{"$f":"IF(AND(COUNTRY_INFO!H65>0,COUNTRY_INFO!H65<4),IF(D65>G65,G65,D65),0)","v":0},{"$f":"IF(AND(COUNTRY_INFO!H65>0,COUNTRY_INFO!H65<4), IF(G65/D65*100<>0, IF(G65/D65*100>100,100,G65/D65*100), \"-\"),0)","v":0},{"$f":"COUNTRY_INFO!M65","v":0},null,null,{"$f":"MAX('MDA1'!M65,MAX('MDA3'!I65,'MDA3'!L65)+MAX('MDA3'!J65,'MDA3'!M65))","v":0},{"$f":"IF(AND(COUNTRY_INFO!I65>0,COUNTRY_INFO!I65<4),IF(J65>M65,M65,J65),0)","v":0},{"$f":"IF(AND(COUNTRY_INFO!I65>0,COUNTRY_INFO!I65<4), IF(M65/J65*100<>0, IF(M65/J65*100>100,100,M65/J65*100), \"-\"),0)","v":0},{"$f":"COUNTRY_INFO!Q65","v":"Non requis"},null,null,{"$f":"MAX('MDA2'!J65,'MDA5'!J65,'T1'!K65, MAX(T3_R1!J65,T3_R2!J65,T3_R3!J65))","v":0},{"$f":"IF(AND(COUNTRY_INFO!J65>1,COUNTRY_INFO!J65<99,COUNTRY_INFO!J65<>4,COUNTRY_INFO!J65<>5),IF(COUNTRY_INFO!N65>S65,S65,COUNTRY_INFO!N65),0)","v":0},{"$f":"IF(AND(COUNTRY_INFO!J65>1,COUNTRY_INFO!J65<99,COUNTRY_INFO!J65<>4,COUNTRY_INFO!J65<>5), IF(T65/COUNTRY_INFO!N65*100<>0, IF(T65/COUNTRY_INFO!N65*100>100,100,T65/COUNTRY_INFO!N65*100), \"-\"),0)","v":0},{"$f":"MAX('MDA1'!K65, 'MDA2'!K65, 'MDA5'!K65,'T1'!L65, MAX(T3_R1!K65,T3_R2!K65,T3_R3!K65))","v":0},{"$f":"IF(AND(COUNTRY_INFO!J65>1,COUNTRY_INFO!J65<99,COUNTRY_INFO!J65<>4,COUNTRY_INFO!J65<>5),IF(COUNTRY_INFO!O65>V65,V65,COUNTRY_INFO!O65),0)","v":0},{"$f":"IF(AND(COUNTRY_INFO!J65>1,COUNTRY_INFO!J65<99,COUNTRY_INFO!J65<>4,COUNTRY_INFO!J65<>5), IF(W65/COUNTRY_INFO!O65*100<>0, IF(W65/COUNTRY_INFO!O65*100>100,100,W65/COUNTRY_INFO!O65*100), \"-\"),0)","v":0},{"$f":"MAX('MDA1'!L65, 'MDA2'!L65, 'MDA5'!L65,'T1'!M65, MAX(T3_R1!L65,T3_R2!L65,T3_R3!L65))","v":0},{"$f":"IF(AND(COUNTRY_INFO!J65>1,COUNTRY_INFO!J65<99,COUNTRY_INFO!J65<>4,COUNTRY_INFO!J65<>5),IF(COUNTRY_INFO!P65>Y65,Y65,COUNTRY_INFO!P65),0)","v":0},{"$f":"IF(AND(COUNTRY_INFO!J65>1,COUNTRY_INFO!J65<99,COUNTRY_INFO!J65<>4,COUNTRY_INFO!J65<>5), IF(Z65/COUNTRY_INFO!P65*100<>0, IF(Z65/COUNTRY_INFO!P65*100>100,100,Z65/COUNTRY_INFO!P65*100), \"-\"),0)","v":0},0,0,{"$f":"IF(AND(COUNTRY_INFO!J65>1,COUNTRY_INFO!J65<99,COUNTRY_INFO!J65<>4,COUNTRY_INFO!J65<>5), IF(AC65/P65*100<>0, IF(AC65/P65*100>100,100,AC65/P65*100), \"-\"),0)","v":0},{"$f":"COUNTRY_INFO!U65","v":125062},null,null,{"$f":"MAX('T1'!K65,'T2'!R65)","v":0},{"$f":"IF(AND(COUNTRY_INFO!K65>1,COUNTRY_INFO!K65<99,COUNTRY_INFO!K65<>4,COUNTRY_INFO!K65<>5),IF(COUNTRY_INFO!R65>AH65,AH65,COUNTRY_INFO!R65),0)","v":0},{"$f":"IF(AND(COUNTRY_INFO!K65>1,COUNTRY_INFO!K65<99,COUNTRY_INFO!K65<>4,COUNTRY_INFO!K65<>5), IF(AI65/COUNTRY_INFO!R65*100<>0, IF(AI65/COUNTRY_INFO!R65*100>100,100,AI65/COUNTRY_INFO!R65*100), \"-\"),0)","v":"-"},{"$f":"MAX('T1'!L65,'T2'!S65)","v":0},{"$f":"IF(AND(COUNTRY_INFO!K65>1,COUNTRY_INFO!K65<99,COUNTRY_INFO!K65<>4,COUNTRY_INFO!K65<>5),IF(COUNTRY_INFO!S65>AK65,AK65,COUNTRY_INFO!S65),0)","v":0},{"$f":"IF(AND(COUNTRY_INFO!K65>1,COUNTRY_INFO!K65<99,COUNTRY_INFO!K65<>4,COUNTRY_INFO!K65<>5), IF(AL65/COUNTRY_INFO!S65*100<>0, IF(AL65/COUNTRY_INFO!S65*100>100,100,AL65/COUNTRY_INFO!S65*100), \"-\"),0)","v":"-"},{"$f":"MAX('T1'!M65,'T2'!T65)","v":0},{"$f":"IF(AND(COUNTRY_INFO!K65>1,COUNTRY_INFO!K65<99,COUNTRY_INFO!K65<>4,COUNTRY_INFO!K65<>5),IF(COUNTRY_INFO!T65>AN65,AN65,COUNTRY_INFO!T65),0)","v":0},{"$f":"IF(AND(COUNTRY_INFO!K65>1,COUNTRY_INFO!K65<99,COUNTRY_INFO!K65<>4,COUNTRY_INFO!K65<>5), IF(AO65/COUNTRY_INFO!T65*100<>0, IF(AO65/COUNTRY_INFO!T65*100>100,100,AO65/COUNTRY_INFO!T65*100), \"-\"),0)","v":"-"},0,0,{"$f":"IF(AND(COUNTRY_INFO!K65>1,COUNTRY_INFO!K65<99,COUNTRY_INFO!K65<>4,COUNTRY_INFO!K65<>5), IF(AR65/AE65*100<>0, IF(AR65/AE65*100>100,100,AR65/AE65*100), \"-\"),0)","v":"-"},null,{"$f":"IF(AND(D65<>0, D65<>\"Inconnu\",D65<>\"Interrompu\",D65<>\"Non requis\"),D65/COUNTRY_INFO!D65, 0)","v":0},{"$f":"IF(AND(J65<>0,J65<>\"Inconnu\",J65<>\"Interrompu\",J65<>\"Non requis\"),J65/COUNTRY_INFO!D65, 0)","v":0},{"$f":"IF(AND(P65<>0,P65<>\"Inconnu\",P65<>\"Surveillance\",P65<>\"Non requis\"),P65/COUNTRY_INFO!Q65, 0)","v":0},{"$f":"IF(AND(AE65<>0,AE65<>\"Inconnu\",AE65<>\"Surveillance\",AE65<>\"Non requis\"),AE65/COUNTRY_INFO!U65, 0)","v":1},{"$f":"IF(AU65>0,D65*PROFILE!$G$7,IF(AV65>0,J65*PROFILE!$G$7,0))","v":0},{"$f":"_xlfn.IFS(OR(AU65>0,AW65>0),COUNTRY_INFO!E65, AV65>0,J65*PROFILE!$G$8,AX65>0,COUNTRY_INFO!R65,COUNTIFS(AU65:AX65,\">0\")=0,0)","v":14607},{"$f":"_xlfn.IFS(OR(AU65>0,AW65>0),COUNTRY_INFO!F65, AV65>0,J65*PROFILE!$G$9,AX65>0,COUNTRY_INFO!S65,COUNTIFS(AU65:AX65,\">0\")=0,0)","v":39349},{"$f":"_xlfn.IFS(AU65>0,COUNTRY_INFO!G65, AND(AV65>0,AW65=0,AX65=0),J65*PROFILE!$G$10,AND(AV65>0,AW65>0,AX65=0), MAX(J65*PROFILE!$G$10,COUNTRY_INFO!P65),AND(AV65>0,AW65=0,AX65>0), MAX(J65*PROFILE!$G$10,COUNTRY_INFO!T65),AND(AV65=0,AW65>0,AX65>0), MAX(COUNTRY_INFO!P65,COUNTRY_INFO!T65),AND(AV65=0,AW65>0,AX65=0),COUNTRY_INFO!P65,AND(AV65=0,AW65=0,AX65>0),COUNTRY_INFO!T65,AND(AV65>0,AW65>0,AX65>0), MAX(J65*PROFILE!$G$10,COUNTRY_INFO!P65,COUNTRY_INFO!T65),COUNTIFS(AU65:AX65,\">0\")=0,0)","v":71106},125062,0,{"$f":"MAX('MDA2'!J65,'MDA5'!J65,S65,AH65)","v":0},{"$f":"MAX('MDA1'!K65,'MDA2'!K65,'MDA3'!I65,'MDA3'!L65,'MDA5'!K65,V65,AK65)","v":0},{"$f":"MAX('MDA1'!L65,'MDA2'!L65,'MDA3'!J65,'MDA3'!M65,'MDA5'!L65,Y65,AN65)","v":0},0,{"$f":"_xlfn.IFS(AND(AU65=0,AW65=0,AX65=0),0,AND(AU65=0,AW65=0,AX65>0),AI65,AND(AU65=0,AW65>0,AX65=0),T65,AND(AU65=0,AW65>0,AX65>0),MAX(T65,AI65),AND(AU65>0,AW65=0,AX65=0),MIN(MAX('MDA2'!J65,'MDA5'!J65),AZ65),AND(AU65>0,AW65=0,AX65>0),MIN(MAX('MDA2'!J65,'MDA5'!J65,AI65),AZ65),AND(AU65>0,AW65>0,AX65=0),MIN(MAX('MDA2'!J65,'MDA5'!J65,T65),AZ65),AND(AU65>0,AW65>0,AX65>0),MIN(MAX('MDA2'!J65,'MDA5'!J65,AI65,T65),AZ65))","v":0},{"$f":"_xlfn.IFS(AND(AU65=0,AV65=0,AW65=0,AX65=0),0,AND(AU65=0,AV65=0,AW65=0,AX65>0),AL65,AND(AU65=0,AV65=0,AW65>0,AX65=0),W65,AND(AU65=0,AV65=0,AW65>0,AX65>0),MAX(W65,AL65),AND(AU65=0,AV65>0,AW65=0,AX65=0),MIN(J65*PROFILE!$G$9,MAX('MDA3'!I65,'MDA3'!L65)),AND(AU65=0,AV65>0,AW65=0,AX65>0),MIN(J65*PROFILE!$G$9,MAX('MDA3'!I65,'MDA3'!L65,AL65)),AND(AU65=0,AV65>0,AW65>0,AX65=0),MIN(J65*PROFILE!$G$9,MAX('MDA3'!I65,'MDA3'!L65,W65)),AND(AU65=0,AV65>0,AW65>0,AX65>0),MIN(J65*PROFILE!$G$9,MAX('MDA3'!I65,'MDA3'!L65,W65,AL65)),AND(AU65>0,AV65=0,AW65=0,AX65=0), MIN(BA65,MAX('MDA1'!K65,'MDA2'!K65,'MDA5'!K65)),AND(AU65>0,AV65=0,AW65=0,AX65>0), MIN(BA65,MAX('MDA1'!K65,'MDA2'!K65,'MDA5'!K65,AL65)),AND(AU65>0,AV65=0,AW65>0,AX65=0),MIN(BA65,MAX('MDA1'!K65,'MDA2'!KL65,'MDA5'!K65,W65)),AND(AU65>0,AV65=0,AW65>0,AX65>0),MIN(BA65,MAX('MDA1'!K65,'MDA2'!K65,'MDA5'!K65,W65,AL65)),AND(AU65>0,AV65>0,AW65=0,AX65=0),MIN(BA65, MAX('MDA1'!K65,'MDA2'!K65, 'MDA5'!K65,MAX('MDA3'!I65,'MDA3'!L65))), AND(AU65>0,AV65>0,AW65=0,AX65>0),MIN(BA65, MAX('MDA1'!K65,'MDA2'!K65, 'MDA5'!K65,MAX('MDA3'!I65,'MDA3'!L65),AL65)), AND(AU65>0,AV65>0,AW65>0,AX65=0), MIN(BA65, MAX('MDA1'!K65,'MDA2'!K65, 'MDA5'!K65,MAX('MDA3'!I65,'MDA3'!L65),W65)), AND(AU65>0,AV65>0,AW65>0,AX65>0), MIN(BA65, MAX('MDA1'!K65,'MDA2'!K65, 'MDA5'!K65,MAX('MDA3'!I65,'MDA3'!L65),W65,AL65)))","v":0},{"$f":"_xlfn.IFS(AND(AU65=0,AV65=0,AW65=0,AX65=0),0,AND(AU65=0,AV65=0,AW65=0,AX65>0),AO65,AND(AU65=0,AV65=0,AW65>0,AX65=0),Z65,AND(AU65=0,AV65=0,AW65>0,AX65>0),MAX(Z65,AO65),AND(AU65=0,AV65>0,AW65=0,AX65=0),MIN(J65*PROFILE!$G$10,MAX('MDA3'!J65,'MDA3'!J65)),AND(AU65=0,AV65>0,AW65=0,AX65>0),MIN(J65*PROFILE!$G$10,MAX('MDA3'!J65,'MDA3'!M65,AO65)),AND(AU65=0,AV65>0,AW65>0,AX65=0),MIN(J65*PROFILE!$G$10,MAX('MDA3'!J65,'MDA3'!M65,Z65)),AND(AU65=0,AV65>0,AW65>0,AX65>0),MIN(J65*PROFILE!$G$10,MAX('MDA3'!J65,'MDA3'!M65,Z65,AO65)),AND(AU65>0,AV65=0,AW65=0,AX65=0), MIN(BB65,MAX('MDA1'!L65,'MDA2'!L65,'MDA5'!L65)),AND(AU65>0,AV65=0,AW65=0,AX65>0), MIN(BB65,MAX('MDA1'!L65,'MDA2'!L65,'MDA5'!L65,AO65)),AND(AU65>0,AV65=0,AW65>0,AX65=0),MIN(BB65,MAX('MDA1'!L65,'MDA2'!L65,'MDA5'!L65,Z65)),AND(AU65>0,AV65=0,AW65>0,AX65>0),MIN(BB65,MAX('MDA1'!L65,'MDA2'!L65,'MDA5'!L65,Z65,AO65)),AND(AU65>0,AV65>0,AW65=0,AX65=0),MIN(BB65, MAX('MDA1'!L65,'MDA2'!L65, 'MDA5'!L65,MAX('MDA3'!J65,'MDA3'!M65))), AND(AU65>0,AV65>0,AW65=0,AX65>0),MIN(BB65, MAX('MDA1'!L65,'MDA2'!L65, 'MDA5'!L65,MAX('MDA3'!J65,'MDA3'!M65),AO65)), AND(AU65>0,AV65>0,AW65>0,AX65=0), MIN(BB65, MAX('MDA1'!L65,'MDA2'!L65, 'MDA5'!L65,MAX('MDA3'!J65,'MDA3'!M65),Z65)), AND(AU65>0,AV65>0,AW65>0,AX65>0), MIN(BB65, MAX('MDA1'!L65,'MDA2'!L65, 'MDA5'!L65,MAX('MDA3'!J65,'MDA3'!M65),Z65,AO65)))","v":0},0,0]
[{"$f":"IF(COUNTRY_INFO!A66=0,\" \",COUNTRY_INFO!A66)","v":"Mali"},{"$f":"IF(COUNTRY_INFO!B66=0,\" \",COUNTRY_INFO!B66)","v":"Sikasso"},{"$f":"IF(COUNTRY_INFO!C66=0,\" \",COUNTRY_INFO!C66)","v":"Kignan"},{"$f":"COUNTRY_INFO!L66","v":0},null,null,{"$f":"MAX('MDA1'!M66,'MDA2'!M66,'MDA5'!M66)","v":0},{"$f":"IF(AND(COUNTRY_INFO!H66>0,COUNTRY_INFO!H66<4),IF(D66>G66,G66,D66),0)","v":0},{"$f":"IF(AND(COUNTRY_INFO!H66>0,COUNTRY_INFO!H66<4), IF(G66/D66*100<>0, IF(G66/D66*100>100,100,G66/D66*100), \"-\"),0)","v":0},{"$f":"COUNTRY_INFO!M66","v":187686.19822399999},74373,71669,{"$f":"MAX('MDA1'!M66,MAX('MDA3'!I66,'MDA3'!L66)+MAX('MDA3'!J66,'MDA3'!M66))","v":146042},{"$f":"IF(AND(COUNTRY_INFO!I66>0,COUNTRY_INFO!I66<4),IF(J66>M66,M66,J66),0)","v":146042},{"$f":"IF(AND(COUNTRY_INFO!I66>0,COUNTRY_INFO!I66<4), IF(M66/J66*100<>0, IF(M66/J66*100>100,100,M66/J66*100), \"-\"),0)","v":77.811795103709002},{"$f":"COUNTRY_INFO!Q66","v":"Non requis"},null,null,{"$f":"MAX('MDA2'!J66,'MDA5'!J66,'T1'!K66, MAX(T3_R1!J66,T3_R2!J66,T3_R3!J66))","v":0},{"$f":"IF(AND(COUNTRY_INFO!J66>1,COUNTRY_INFO!J66<99,COUNTRY_INFO!J66<>4,COUNTRY_INFO!J66<>5),IF(COUNTRY_INFO!N66>S66,S66,COUNTRY_INFO!N66),0)","v":0},{"$f":"IF(AND(COUNTRY_INFO!J66>1,COUNTRY_INFO!J66<99,COUNTRY_INFO!J66<>4,COUNTRY_INFO!J66<>5), IF(T66/COUNTRY_INFO!N66*100<>0, IF(T66/COUNTRY_INFO!N66*100>100,100,T66/COUNTRY_INFO!N66*100), \"-\"),0)","v":0},{"$f":"MAX('MDA1'!K66, 'MDA2'!K66, 'MDA5'!K66,'T1'!L66, MAX(T3_R1!K66,T3_R2!K66,T3_R3!K66))","v":0},{"$f":"IF(AND(COUNTRY_INFO!J66>1,COUNTRY_INFO!J66<99,COUNTRY_INFO!J66<>4,COUNTRY_INFO!J66<>5),IF(COUNTRY_INFO!O66>V66,V66,COUNTRY_INFO!O66),0)","v":0},{"$f":"IF(AND(COUNTRY_INFO!J66>1,COUNTRY_INFO!J66<99,COUNTRY_INFO!J66<>4,COUNTRY_INFO!J66<>5), IF(W66/COUNTRY_INFO!O66*100<>0, IF(W66/COUNTRY_INFO!O66*100>100,100,W66/COUNTRY_INFO!O66*100), \"-\"),0)","v":0},{"$f":"MAX('MDA1'!L66, 'MDA2'!L66, 'MDA5'!L66,'T1'!M66, MAX(T3_R1!L66,T3_R2!L66,T3_R3!L66))","v":0},{"$f":"IF(AND(COUNTRY_INFO!J66>1,COUNTRY_INFO!J66<99,COUNTRY_INFO!J66<>4,COUNTRY_INFO!J66<>5),IF(COUNTRY_INFO!P66>Y66,Y66,COUNTRY_INFO!P66),0)","v":0},{"$f":"IF(AND(COUNTRY_INFO!J66>1,COUNTRY_INFO!J66<99,COUNTRY_INFO!J66<>4,COUNTRY_INFO!J66<>5), IF(Z66/COUNTRY_INFO!P66*100<>0, IF(Z66/COUNTRY_INFO!P66*100>100,100,Z66/COUNTRY_INFO!P66*100), \"-\"),0)","v":0},0,0,{"$f":"IF(AND(COUNTRY_INFO!J66>1,COUNTRY_INFO!J66<99,COUNTRY_INFO!J66<>4,COUNTRY_INFO!J66<>5), IF(AC66/P66*100<>0, IF(AC66/P66*100>100,100,AC66/P66*100), \"-\"),0)","v":0},{"$f":"COUNTRY_INFO!U66","v":32040},null,null,{"$f":"MAX('T1'!K66,'T2'!R66)","v":0},{"$f":"IF(AND(COUNTRY_INFO!K66>1,COUNTRY_INFO!K66<99,COUNTRY_INFO!K66<>4,COUNTRY_INFO!K66<>5),IF(COUNTRY_INFO!R66>AH66,AH66,COUNTRY_INFO!R66),0)","v":0},{"$f":"IF(AND(COUNTRY_INFO!K66>1,COUNTRY_INFO!K66<99,COUNTRY_INFO!K66<>4,COUNTRY_INFO!K66<>5), IF(AI66/COUNTRY_INFO!R66*100<>0, IF(AI66/COUNTRY_INFO!R66*100>100,100,AI66/COUNTRY_INFO!R66*100), \"-\"),0)","v":0},{"$f":"MAX('T1'!L66,'T2'!S66)","v":0},{"$f":"IF(AND(COUNTRY_INFO!K66>1,COUNTRY_INFO!K66<99,COUNTRY_INFO!K66<>4,COUNTRY_INFO!K66<>5),IF(COUNTRY_INFO!S66>AK66,AK66,COUNTRY_INFO!S66),0)","v":0},{"$f":"IF(AND(COUNTRY_INFO!K66>1,COUNTRY_INFO!K66<99,COUNTRY_INFO!K66<>4,COUNTRY_INFO!K66<>5), IF(AL66/COUNTRY_INFO!S66*100<>0, IF(AL66/COUNTRY_INFO!S66*100>100,100,AL66/COUNTRY_INFO!S66*100), \"-\"),0)","v":0},{"$f":"MAX('T1'!M66,'T2'!T66)","v":0},{"$f":"IF(AND(COUNTRY_INFO!K66>1,COUNTRY_INFO!K66<99,COUNTRY_INFO!K66<>4,COUNTRY_INFO!K66<>5),IF(COUNTRY_INFO!T66>AN66,AN66,COUNTRY_INFO!T66),0)","v":0},{"$f":"IF(AND(COUNTRY_INFO!K66>1,COUNTRY_INFO!K66<99,COUNTRY_INFO!K66<>4,COUNTRY_INFO!K66<>5), IF(AO66/COUNTRY_INFO!T66*100<>0, IF(AO66/COUNTRY_INFO!T66*100>100,100,AO66/COUNTRY_INFO!T66*100), \"-\"),0)","v":0},0,0,{"$f":"IF(AND(COUNTRY_INFO!K66>1,COUNTRY_INFO!K66<99,COUNTRY_INFO!K66<>4,COUNTRY_INFO!K66<>5), IF(AR66/AE66*100<>0, IF(AR66/AE66*100>100,100,AR66/AE66*100), \"-\"),0)","v":0},null,{"$f":"IF(AND(D66<>0, D66<>\"Inconnu\",D66<>\"Interrompu\",D66<>\"Non requis\"),D66/COUNTRY_INFO!D66, 0)","v":0},{"$f":"IF(AND(J66<>0,J66<>\"Inconnu\",J66<>\"Interrompu\",J66<>\"Non requis\"),J66/COUNTRY_INFO!D66, 0)","v":1},{"$f":"IF(AND(P66<>0,P66<>\"Inconnu\",P66<>\"Surveillance\",P66<>\"Non requis\"),P66/COUNTRY_INFO!Q66, 0)","v":0},{"$f":"IF(AND(AE66<>0,AE66<>\"Inconnu\",AE66<>\"Surveillance\",AE66<>\"Non requis\"),AE66/COUNTRY_INFO!U66, 0)","v":1},{"$f":"IF(AU66>0,D66*PROFILE!$G$7,IF(AV66>0,J66*PROFILE!$G$7,0))","v":9384.3286057137193},{"$f":"_xlfn.IFS(OR(AU66>0,AW66>0),COUNTRY_INFO!E66, AV66>0,J66*PROFILE!$G$8,AX66>0,COUNTRY_INFO!R66,COUNTIFS(AU66:AX66,\">0\")=0,0)","v":28152.91504722615},{"$f":"_xlfn.IFS(OR(AU66>0,AW66>0),COUNTRY_INFO!F66, AV66>0,J66*PROFILE!$G$9,AX66>0,COUNTRY_INFO!S66,COUNTIFS(AU66:AX66,\">0\")=0,0)","v":53490.56088548588},{"$f":"_xlfn.IFS(AU66>0,COUNTRY_INFO!G66, AND(AV66>0,AW66=0,AX66=0),J66*PROFILE!$G$10,AND(AV66>0,AW66>0,AX66=0), MAX(J66*PROFILE!$G$10,COUNTRY_INFO!P66),AND(AV66>0,AW66=0,AX66>0), MAX(J66*PROFILE!$G$10,COUNTRY_INFO!T66),AND(AV66=0,AW66>0,AX66>0), MAX(COUNTRY_INFO!P66,COUNTRY_INFO!T66),AND(AV66=0,AW66>0,AX66=0),COUNTRY_INFO!P66,AND(AV66=0,AW66=0,AX66>0),COUNTRY_INFO!T66,AND(AV66>0,AW66>0,AX66>0), MAX(J66*PROFILE!$G$10,COUNTRY_INFO!P66,COUNTRY_INFO!T66),COUNTIFS(AU66:AX66,\">0\")=0,0)","v":96658.393685574236},187686.19822399999,0,{"$f":"MAX('MDA2'!J66,'MDA5'!J66,S66,AH66)","v":0},{"$f":"MAX('MDA1'!K66,'MDA2'!K66,'MDA3'!I66,'MDA3'!L66,'MDA5'!K66,V66,AK66)","v":60401},{"$f":"MAX('MDA1'!L66,'MDA2'!L66,'MDA3'!J66,'MDA3'!M66,'MDA5'!L66,Y66,AN66)","v":85641},146042,{"$f":"_xlfn.IFS(AND(AU66=0,AW66=0,AX66=0),0,AND(AU66=0,AW66=0,AX66>0),AI66,AND(AU66=0,AW66>0,AX66=0),T66,AND(AU66=0,AW66>0,AX66>0),MAX(T66,AI66),AND(AU66>0,AW66=0,AX66=0),MIN(MAX('MDA2'!J66,'MDA5'!J66),AZ66),AND(AU66>0,AW66=0,AX66>0),MIN(MAX('MDA2'!J66,'MDA5'!J66,AI66),AZ66),AND(AU66>0,AW66>0,AX66=0),MIN(MAX('MDA2'!J66,'MDA5'!J66,T66),AZ66),AND(AU66>0,AW66>0,AX66>0),MIN(MAX('MDA2'!J66,'MDA5'!J66,AI66,T66),AZ66))","v":0},{"$f":"_xlfn.IFS(AND(AU66=0,AV66=0,AW66=0,AX66=0),0,AND(AU66=0,AV66=0,AW66=0,AX66>0),AL66,AND(AU66=0,AV66=0,AW66>0,AX66=0),W66,AND(AU66=0,AV66=0,AW66>0,AX66>0),MAX(W66,AL66),AND(AU66=0,AV66>0,AW66=0,AX66=0),MIN(J66*PROFILE!$G$9,MAX('MDA3'!I66,'MDA3'!L66)),AND(AU66=0,AV66>0,AW66=0,AX66>0),MIN(J66*PROFILE!$G$9,MAX('MDA3'!I66,'MDA3'!L66,AL66)),AND(AU66=0,AV66>0,AW66>0,AX66=0),MIN(J66*PROFILE!$G$9,MAX('MDA3'!I66,'MDA3'!L66,W66)),AND(AU66=0,AV66>0,AW66>0,AX66>0),MIN(J66*PROFILE!$G$9,MAX('MDA3'!I66,'MDA3'!L66,W66,AL66)),AND(AU66>0,AV66=0,AW66=0,AX66=0), MIN(BA66,MAX('MDA1'!K66,'MDA2'!K66,'MDA5'!K66)),AND(AU66>0,AV66=0,AW66=0,AX66>0), MIN(BA66,MAX('MDA1'!K66,'MDA2'!K66,'MDA5'!K66,AL66)),AND(AU66>0,AV66=0,AW66>0,AX66=0),MIN(BA66,MAX('MDA1'!K66,'MDA2'!KL66,'MDA5'!K66,W66)),AND(AU66>0,AV66=0,AW66>0,AX66>0),MIN(BA66,MAX('MDA1'!K66,'MDA2'!K66,'MDA5'!K66,W66,AL66)),AND(AU66>0,AV66>0,AW66=0,AX66=0),MIN(BA66, MAX('MDA1'!K66,'MDA2'!K66, 'MDA5'!K66,MAX('MDA3'!I66,'MDA3'!L66))), AND(AU66>0,AV66>0,AW66=0,AX66>0),MIN(BA66, MAX('MDA1'!K66,'MDA2'!K66, 'MDA5'!K66,MAX('MDA3'!I66,'MDA3'!L66),AL66)), AND(AU66>0,AV66>0,AW66>0,AX66=0), MIN(BA66, MAX('MDA1'!K66,'MDA2'!K66, 'MDA5'!K66,MAX('MDA3'!I66,'MDA3'!L66),W66)), AND(AU66>0,AV66>0,AW66>0,AX66>0), MIN(BA66, MAX('MDA1'!K66,'MDA2'!K66, 'MDA5'!K66,MAX('MDA3'!I66,'MDA3'!L66),W66,AL66)))","v":53490.56088548588},{"$f":"_xlfn.IFS(AND(AU66=0,AV66=0,AW66=0,AX66=0),0,AND(AU66=0,AV66=0,AW66=0,AX66>0),AO66,AND(AU66=0,AV66=0,AW66>0,AX66=0),Z66,AND(AU66=0,AV66=0,AW66>0,AX66>0),MAX(Z66,AO66),AND(AU66=0,AV66>0,AW66=0,AX66=0),MIN(J66*PROFILE!$G$10,MAX('MDA3'!J66,'MDA3'!J66)),AND(AU66=0,AV66>0,AW66=0,AX66>0),MIN(J66*PROFILE!$G$10,MAX('MDA3'!J66,'MDA3'!M66,AO66)),AND(AU66=0,AV66>0,AW66>0,AX66=0),MIN(J66*PROFILE!$G$10,MAX('MDA3'!J66,'MDA3'!M66,Z66)),AND(AU66=0,AV66>0,AW66>0,AX66>0),MIN(J66*PROFILE!$G$10,MAX('MDA3'!J66,'MDA3'!M66,Z66,AO66)),AND(AU66>0,AV66=0,AW66=0,AX66=0), MIN(BB66,MAX('MDA1'!L66,'MDA2'!L66,'MDA5'!L66)),AND(AU66>0,AV66=0,AW66=0,AX66>0), MIN(BB66,MAX('MDA1'!L66,'MDA2'!L66,'MDA5'!L66,AO66)),AND(AU66>0,AV66=0,AW66>0,AX66=0),MIN(BB66,MAX('MDA1'!L66,'MDA2'!L66,'MDA5'!L66,Z66)),AND(AU66>0,AV66=0,AW66>0,AX66>0),MIN(BB66,MAX('MDA1'!L66,'MDA2'!L66,'MDA5'!L66,Z66,AO66)),AND(AU66>0,AV66>0,AW66=0,AX66=0),MIN(BB66, MAX('MDA1'!L66,'MDA2'!L66, 'MDA5'!L66,MAX('MDA3'!J66,'MDA3'!M66))), AND(AU66>0,AV66>0,AW66=0,AX66>0),MIN(BB66, MAX('MDA1'!L66,'MDA2'!L66, 'MDA5'!L66,MAX('MDA3'!J66,'MDA3'!M66),AO66)), AND(AU66>0,AV66>0,AW66>0,AX66=0), MIN(BB66, MAX('MDA1'!L66,'MDA2'!L66, 'MDA5'!L66,MAX('MDA3'!J66,'MDA3'!M66),Z66)), AND(AU66>0,AV66>0,AW66>0,AX66>0), MIN(BB66, MAX('MDA1'!L66,'MDA2'!L66, 'MDA5'!L66,MAX('MDA3'!J66,'MDA3'!M66),Z66,AO66)))","v":85641},139131.56088548587,74.129883924354914]
[{"$f":"IF(COUNTRY_INFO!A67=0,\" \",COUNTRY_INFO!A67)","v":"Mali"},{"$f":"IF(COUNTRY_INFO!B67=0,\" \",COUNTRY_INFO!B67)","v":"Sikasso"},{"$f":"IF(COUNTRY_INFO!C67=0,\" \",COUNTRY_INFO!C67)","v":"Kolondieba"},{"$f":"COUNTRY_INFO!L67","v":0},null,null,{"$f":"MAX('MDA1'!M67,'MDA2'!M67,'MDA5'!M67)","v":0},{"$f":"IF(AND(COUNTRY_INFO!H67>0,COUNTRY_INFO!H67<4),IF(D67>G67,G67,D67),0)","v":0},{"$f":"IF(AND(COUNTRY_INFO!H67>0,COUNTRY_INFO!H67<4), IF(G67/D67*100<>0, IF(G67/D67*100>100,100,G67/D67*100), \"-\"),0)","v":0},{"$f":"COUNTRY_INFO!M67","v":327608.57785599999},130928,117385,{"$f":"MAX('MDA1'!M67,MAX('MDA3'!I67,'MDA3'!L67)+MAX('MDA3'!J67,'MDA3'!M67))","v":248313},{"$f":"IF(AND(COUNTRY_INFO!I67>0,COUNTRY_INFO!I67<4),IF(J67>M67,M67,J67),0)","v":248313},{"$f":"IF(AND(COUNTRY_INFO!I67>0,COUNTRY_INFO!I67<4), IF(M67/J67*100<>0, IF(M67/J67*100>100,100,M67/J67*100), \"-\"),0)","v":75.795634419910002},{"$f":"COUNTRY_INFO!Q67","v":"Non requis"},null,null,{"$f":"MAX('MDA2'!J67,'MDA5'!J67,'T1'!K67, MAX(T3_R1!J67,T3_R2!J67,T3_R3!J67))","v":0},{"$f":"IF(AND(COUNTRY_INFO!J67>1,COUNTRY_INFO!J67<99,COUNTRY_INFO!J67<>4,COUNTRY_INFO!J67<>5),IF(COUNTRY_INFO!N67>S67,S67,COUNTRY_INFO!N67),0)","v":0},{"$f":"IF(AND(COUNTRY_INFO!J67>1,COUNTRY_INFO!J67<99,COUNTRY_INFO!J67<>4,COUNTRY_INFO!J67<>5), IF(T67/COUNTRY_INFO!N67*100<>0, IF(T67/COUNTRY_INFO!N67*100>100,100,T67/COUNTRY_INFO!N67*100), \"-\"),0)","v":0},{"$f":"MAX('MDA1'!K67, 'MDA2'!K67, 'MDA5'!K67,'T1'!L67, MAX(T3_R1!K67,T3_R2!K67,T3_R3!K67))","v":0},{"$f":"IF(AND(COUNTRY_INFO!J67>1,COUNTRY_INFO!J67<99,COUNTRY_INFO!J67<>4,COUNTRY_INFO!J67<>5),IF(COUNTRY_INFO!O67>V67,V67,COUNTRY_INFO!O67),0)","v":0},{"$f":"IF(AND(COUNTRY_INFO!J67>1,COUNTRY_INFO!J67<99,COUNTRY_INFO!J67<>4,COUNTRY_INFO!J67<>5), IF(W67/COUNTRY_INFO!O67*100<>0, IF(W67/COUNTRY_INFO!O67*100>100,100,W67/COUNTRY_INFO!O67*100), \"-\"),0)","v":0},{"$f":"MAX('MDA1'!L67, 'MDA2'!L67, 'MDA5'!L67,'T1'!M67, MAX(T3_R1!L67,T3_R2!L67,T3_R3!L67))","v":0},{"$f":"IF(AND(COUNTRY_INFO!J67>1,COUNTRY_INFO!J67<99,COUNTRY_INFO!J67<>4,COUNTRY_INFO!J67<>5),IF(COUNTRY_INFO!P67>Y67,Y67,COUNTRY_INFO!P67),0)","v":0},{"$f":"IF(AND(COUNTRY_INFO!J67>1,COUNTRY_INFO!J67<99,COUNTRY_INFO!J67<>4,COUNTRY_INFO!J67<>5), IF(Z67/COUNTRY_INFO!P67*100<>0, IF(Z67/COUNTRY_INFO!P67*100>100,100,Z67/COUNTRY_INFO!P67*100), \"-\"),0)","v":0},0,0,{"$f":"IF(AND(COUNTRY_INFO!J67>1,COUNTRY_INFO!J67<99,COUNTRY_INFO!J67<>4,COUNTRY_INFO!J67<>5), IF(AC67/P67*100<>0, IF(AC67/P67*100>100,100,AC67/P67*100), \"-\"),0)","v":0},{"$f":"COUNTRY_INFO!U67","v":131429},null,null,{"$f":"MAX('T1'!K67,'T2'!R67)","v":0},{"$f":"IF(AND(COUNTRY_INFO!K67>1,COUNTRY_INFO!K67<99,COUNTRY_INFO!K67<>4,COUNTRY_INFO!K67<>5),IF(COUNTRY_INFO!R67>AH67,AH67,COUNTRY_INFO!R67),0)","v":0},{"$f":"IF(AND(COUNTRY_INFO!K67>1,COUNTRY_INFO!K67<99,COUNTRY_INFO!K67<>4,COUNTRY_INFO!K67<>5), IF(AI67/COUNTRY_INFO!R67*100<>0, IF(AI67/COUNTRY_INFO!R67*100>100,100,AI67/COUNTRY_INFO!R67*100), \"-\"),0)","v":"-"},{"$f":"MAX('T1'!L67,'T2'!S67)","v":20782},{"$f":"IF(AND(COUNTRY_INFO!K67>1,COUNTRY_INFO!K67<99,COUNTRY_INFO!K67<>4,COUNTRY_INFO!K67<>5),IF(COUNTRY_INFO!S67>AK67,AK67,COUNTRY_INFO!S67),0)","v":20782},{"$f":"IF(AND(COUNTRY_INFO!K67>1,COUNTRY_INFO!K67<99,COUNTRY_INFO!K67<>4,COUNTRY_INFO!K67<>5), IF(AL67/COUNTRY_INFO!S67*100<>0, IF(AL67/COUNTRY_INFO!S67*100>100,100,AL67/COUNTRY_INFO!S67*100), \"-\"),0)","v":50.253905305411806},{"$f":"MAX('T1'!M67,'T2'!T67)","v":0},{"$f":"IF(AND(COUNTRY_INFO!K67>1,COUNTRY_INFO!K67<99,COUNTRY_INFO!K67<>4,COUNTRY_INFO!K67<>5),IF(COUNTRY_INFO!T67>AN67,AN67,COUNTRY_INFO!T67),0)","v":0},{"$f":"IF(AND(COUNTRY_INFO!K67>1,COUNTRY_INFO!K67<99,COUNTRY_INFO!K67<>4,COUNTRY_INFO!K67<>5), IF(AO67/COUNTRY_INFO!T67*100<>0, IF(AO67/COUNTRY_INFO!T67*100>100,100,AO67/COUNTRY_INFO!T67*100), \"-\"),0)","v":"-"},20782,20782,{"$f":"IF(AND(COUNTRY_INFO!K67>1,COUNTRY_INFO!K67<99,COUNTRY_INFO!K67<>4,COUNTRY_INFO!K67<>5), IF(AR67/AE67*100<>0, IF(AR67/AE67*100>100,100,AR67/AE67*100), \"-\"),0)","v":15.812339742370405},null,{"$f":"IF(AND(D67<>0, D67<>\"Inconnu\",D67<>\"Interrompu\",D67<>\"Non requis\"),D67/COUNTRY_INFO!D67, 0)","v":0},{"$f":"IF(AND(J67<>0,J67<>\"Inconnu\",J67<>\"Interrompu\",J67<>\"Non requis\"),J67/COUNTRY_INFO!D67, 0)","v":1},{"$f":"IF(AND(P67<>0,P67<>\"Inconnu\",P67<>\"Surveillance\",P67<>\"Non requis\"),P67/COUNTRY_INFO!Q67, 0)","v":0},{"$f":"IF(AND(AE67<>0,AE67<>\"Inconnu\",AE67<>\"Surveillance\",AE67<>\"Non requis\"),AE67/COUNTRY_INFO!U67, 0)","v":1},{"$f":"IF(AU67>0,D67*PROFILE!$G$7,IF(AV67>0,J67*PROFILE!$G$7,0))","v":16380.461524304668},{"$f":"_xlfn.IFS(OR(AU67>0,AW67>0),COUNTRY_INFO!E67, AV67>0,J67*PROFILE!$G$8,AX67>0,COUNTRY_INFO!R67,COUNTIFS(AU67:AX67,\">0\")=0,0)","v":49141.261043152997},{"$f":"_xlfn.IFS(OR(AU67>0,AW67>0),COUNTRY_INFO!F67, AV67>0,J67*PROFILE!$G$9,AX67>0,COUNTRY_INFO!S67,COUNTIFS(AU67:AX67,\">0\")=0,0)","v":93368.434899508589},{"$f":"_xlfn.IFS(AU67>0,COUNTRY_INFO!G67, AND(AV67>0,AW67=0,AX67=0),J67*PROFILE!$G$10,AND(AV67>0,AW67>0,AX67=0), MAX(J67*PROFILE!$G$10,COUNTRY_INFO!P67),AND(AV67>0,AW67=0,AX67>0), MAX(J67*PROFILE!$G$10,COUNTRY_INFO!T67),AND(AV67=0,AW67>0,AX67>0), MAX(COUNTRY_INFO!P67,COUNTRY_INFO!T67),AND(AV67=0,AW67>0,AX67=0),COUNTRY_INFO!P67,AND(AV67=0,AW67=0,AX67>0),COUNTRY_INFO!T67,AND(AV67>0,AW67>0,AX67>0), MAX(J67*PROFILE!$G$10,COUNTRY_INFO!P67,COUNTRY_INFO!T67),COUNTIFS(AU67:AX67,\">0\")=0,0)","v":168718.42038903371},327608.57785599993,"Y",{"$f":"MAX('MDA2'!J67,'MDA5'!J67,S67,AH67)","v":0},{"$f":"MAX('MDA1'!K67,'MDA2'!K67,'MDA3'!I67,'MDA3'!L67,'MDA5'!K67,V67,AK67)","v":79290},{"$f":"MAX('MDA1'!L67,'MDA2'!L67,'MDA3'!J67,'MDA3'!M67,'MDA5'!L67,Y67,AN67)","v":169023},248313,{"$f":"_xlfn.IFS(AND(AU67=0,AW67=0,AX67=0),0,AND(AU67=0,AW67=0,AX67>0),AI67,AND(AU67=0,AW67>0,AX67=0),T67,AND(AU67=0,AW67>0,AX67>0),MAX(T67,AI67),AND(AU67>0,AW67=0,AX67=0),MIN(MAX('MDA2'!J67,'MDA5'!J67),AZ67),AND(AU67>0,AW67=0,AX67>0),MIN(MAX('MDA2'!J67,'MDA5'!J67,AI67),AZ67),AND(AU67>0,AW67>0,AX67=0),MIN(MAX('MDA2'!J67,'MDA5'!J67,T67),AZ67),AND(AU67>0,AW67>0,AX67>0),MIN(MAX('MDA2'!J67,'MDA5'!J67,AI67,T67),AZ67))","v":0},{"$f":"_xlfn.IFS(AND(AU67=0,AV67=0,AW67=0,AX67=0),0,AND(AU67=0,AV67=0,AW67=0,AX67>0),AL67,AND(AU67=0,AV67=0,AW67>0,AX67=0),W67,AND(AU67=0,AV67=0,AW67>0,AX67>0),MAX(W67,AL67),AND(AU67=0,AV67>0,AW67=0,AX67=0),MIN(J67*PROFILE!$G$9,MAX('MDA3'!I67,'MDA3'!L67)),AND(AU67=0,AV67>0,AW67=0,AX67>0),MIN(J67*PROFILE!$G$9,MAX('MDA3'!I67,'MDA3'!L67,AL67)),AND(AU67=0,AV67>0,AW67>0,AX67=0),MIN(J67*PROFILE!$G$9,MAX('MDA3'!I67,'MDA3'!L67,W67)),AND(AU67=0,AV67>0,AW67>0,AX67>0),MIN(J67*PROFILE!$G$9,MAX('MDA3'!I67,'MDA3'!L67,W67,AL67)),AND(AU67>0,AV67=0,AW67=0,AX67=0), MIN(BA67,MAX('MDA1'!K67,'MDA2'!K67,'MDA5'!K67)),AND(AU67>0,AV67=0,AW67=0,AX67>0), MIN(BA67,MAX('MDA1'!K67,'MDA2'!K67,'MDA5'!K67,AL67)),AND(AU67>0,AV67=0,AW67>0,AX67=0),MIN(BA67,MAX('MDA1'!K67,'MDA2'!KL67,'MDA5'!K67,W67)),AND(AU67>0,AV67=0,AW67>0,AX67>0),MIN(BA67,MAX('MDA1'!K67,'MDA2'!K67,'MDA5'!K67,W67,AL67)),AND(AU67>0,AV67>0,AW67=0,AX67=0),MIN(BA67, MAX('MDA1'!K67,'MDA2'!K67, 'MDA5'!K67,MAX('MDA3'!I67,'MDA3'!L67))), AND(AU67>0,AV67>0,AW67=0,AX67>0),MIN(BA67, MAX('MDA1'!K67,'MDA2'!K67, 'MDA5'!K67,MAX('MDA3'!I67,'MDA3'!L67),AL67)), AND(AU67>0,AV67>0,AW67>0,AX67=0), MIN(BA67, MAX('MDA1'!K67,'MDA2'!K67, 'MDA5'!K67,MAX('MDA3'!I67,'MDA3'!L67),W67)), AND(AU67>0,AV67>0,AW67>0,AX67>0), MIN(BA67, MAX('MDA1'!K67,'MDA2'!K67, 'MDA5'!K67,MAX('MDA3'!I67,'MDA3'!L67),W67,AL67)))","v":79290},{"$f":"_xlfn.IFS(AND(AU67=0,AV67=0,AW67=0,AX67=0),0,AND(AU67=0,AV67=0,AW67=0,AX67>0),AO67,AND(AU67=0,AV67=0,AW67>0,AX67=0),Z67,AND(AU67=0,AV67=0,AW67>0,AX67>0),MAX(Z67,AO67),AND(AU67=0,AV67>0,AW67=0,AX67=0),MIN(J67*PROFILE!$G$10,MAX('MDA3'!J67,'MDA3'!J67)),AND(AU67=0,AV67>0,AW67=0,AX67>0),MIN(J67*PROFILE!$G$10,MAX('MDA3'!J67,'MDA3'!M67,AO67)),AND(AU67=0,AV67>0,AW67>0,AX67=0),MIN(J67*PROFILE!$G$10,MAX('MDA3'!J67,'MDA3'!M67,Z67)),AND(AU67=0,AV67>0,AW67>0,AX67>0),MIN(J67*PROFILE!$G$10,MAX('MDA3'!J67,'MDA3'!M67,Z67,AO67)),AND(AU67>0,AV67=0,AW67=0,AX67=0), MIN(BB67,MAX('MDA1'!L67,'MDA2'!L67,'MDA5'!L67)),AND(AU67>0,AV67=0,AW67=0,AX67>0), MIN(BB67,MAX('MDA1'!L67,'MDA2'!L67,'MDA5'!L67,AO67)),AND(AU67>0,AV67=0,AW67>0,AX67=0),MIN(BB67,MAX('MDA1'!L67,'MDA2'!L67,'MDA5'!L67,Z67)),AND(AU67>0,AV67=0,AW67>0,AX67>0),MIN(BB67,MAX('MDA1'!L67,'MDA2'!L67,'MDA5'!L67,Z67,AO67)),AND(AU67>0,AV67>0,AW67=0,AX67=0),MIN(BB67, MAX('MDA1'!L67,'MDA2'!L67, 'MDA5'!L67,MAX('MDA3'!J67,'MDA3'!M67))), AND(AU67>0,AV67>0,AW67=0,AX67>0),MIN(BB67, MAX('MDA1'!L67,'MDA2'!L67, 'MDA5'!L67,MAX('MDA3'!J67,'MDA3'!M67),AO67)), AND(AU67>0,AV67>0,AW67>0,AX67=0), MIN(BB67, MAX('MDA1'!L67,'MDA2'!L67, 'MDA5'!L67,MAX('MDA3'!J67,'MDA3'!M67),Z67)), AND(AU67>0,AV67>0,AW67>0,AX67>0), MIN(BB67, MAX('MDA1'!L67,'MDA2'!L67, 'MDA5'!L67,MAX('MDA3'!J67,'MDA3'!M67),Z67,AO67)))","v":168718.42038903371},248008.42038903371,75.702663835024978]
[{"$f":"IF(COUNTRY_INFO!A68=0,\" \",COUNTRY_INFO!A68)","v":"Mali"},{"$f":"IF(COUNTRY_INFO!B68=0,\" \",COUNTRY_INFO!B68)","v":"Sikasso"},{"$f":"IF(COUNTRY_INFO!C68=0,\" \",COUNTRY_INFO!C68)","v":"Koutiala"},{"$f":"COUNTRY_INFO!L68","v":0},null,null,{"$f":"MAX('MDA1'!M68,'MDA2'!M68,'MDA5'!M68)","v":0},{"$f":"IF(AND(COUNTRY_INFO!H68>0,COUNTRY_INFO!H68<4),IF(D68>G68,G68,D68),0)","v":0},{"$f":"IF(AND(COUNTRY_INFO!H68>0,COUNTRY_INFO!H68<4), IF(G68/D68*100<>0, IF(G68/D68*100>100,100,G68/D68*100), \"-\"),0)","v":0},{"$f":"COUNTRY_INFO!M68","v":0},null,null,{"$f":"MAX('MDA1'!M68,MAX('MDA3'!I68,'MDA3'!L68)+MAX('MDA3'!J68,'MDA3'!M68))","v":0},{"$f":"IF(AND(COUNTRY_INFO!I68>0,COUNTRY_INFO!I68<4),IF(J68>M68,M68,J68),0)","v":0},{"$f":"IF(AND(COUNTRY_INFO!I68>0,COUNTRY_INFO!I68<4), IF(M68/J68*100<>0, IF(M68/J68*100>100,100,M68/J68*100), \"-\"),0)","v":0},{"$f":"COUNTRY_INFO!Q68","v":"Non requis"},null,null,{"$f":"MAX('MDA2'!J68,'MDA5'!J68,'T1'!K68, MAX(T3_R1!J68,T3_R2!J68,T3_R3!J68))","v":0},{"$f":"IF(AND(COUNTRY_INFO!J68>1,COUNTRY_INFO!J68<99,COUNTRY_INFO!J68<>4,COUNTRY_INFO!J68<>5),IF(COUNTRY_INFO!N68>S68,S68,COUNTRY_INFO!N68),0)","v":0},{"$f":"IF(AND(COUNTRY_INFO!J68>1,COUNTRY_INFO!J68<99,COUNTRY_INFO!J68<>4,COUNTRY_INFO!J68<>5), IF(T68/COUNTRY_INFO!N68*100<>0, IF(T68/COUNTRY_INFO!N68*100>100,100,T68/COUNTRY_INFO!N68*100), \"-\"),0)","v":0},{"$f":"MAX('MDA1'!K68, 'MDA2'!K68, 'MDA5'!K68,'T1'!L68, MAX(T3_R1!K68,T3_R2!K68,T3_R3!K68))","v":0},{"$f":"IF(AND(COUNTRY_INFO!J68>1,COUNTRY_INFO!J68<99,COUNTRY_INFO!J68<>4,COUNTRY_INFO!J68<>5),IF(COUNTRY_INFO!O68>V68,V68,COUNTRY_INFO!O68),0)","v":0},{"$f":"IF(AND(COUNTRY_INFO!J68>1,COUNTRY_INFO!J68<99,COUNTRY_INFO!J68<>4,COUNTRY_INFO!J68<>5), IF(W68/COUNTRY_INFO!O68*100<>0, IF(W68/COUNTRY_INFO!O68*100>100,100,W68/COUNTRY_INFO!O68*100), \"-\"),0)","v":0},{"$f":"MAX('MDA1'!L68, 'MDA2'!L68, 'MDA5'!L68,'T1'!M68, MAX(T3_R1!L68,T3_R2!L68,T3_R3!L68))","v":0},{"$f":"IF(AND(COUNTRY_INFO!J68>1,COUNTRY_INFO!J68<99,COUNTRY_INFO!J68<>4,COUNTRY_INFO!J68<>5),IF(COUNTRY_INFO!P68>Y68,Y68,COUNTRY_INFO!P68),0)","v":0},{"$f":"IF(AND(COUNTRY_INFO!J68>1,COUNTRY_INFO!J68<99,COUNTRY_INFO!J68<>4,COUNTRY_INFO!J68<>5), IF(Z68/COUNTRY_INFO!P68*100<>0, IF(Z68/COUNTRY_INFO!P68*100>100,100,Z68/COUNTRY_INFO!P68*100), \"-\"),0)","v":0},0,0,{"$f":"IF(AND(COUNTRY_INFO!J68>1,COUNTRY_INFO!J68<99,COUNTRY_INFO!J68<>4,COUNTRY_INFO!J68<>5), IF(AC68/P68*100<>0, IF(AC68/P68*100>100,100,AC68/P68*100), \"-\"),0)","v":0},{"$f":"COUNTRY_INFO!U68","v":277469},null,null,{"$f":"MAX('T1'!K68,'T2'!R68)","v":0},{"$f":"IF(AND(COUNTRY_INFO!K68>1,COUNTRY_INFO!K68<99,COUNTRY_INFO!K68<>4,COUNTRY_INFO!K68<>5),IF(COUNTRY_INFO!R68>AH68,AH68,COUNTRY_INFO!R68),0)","v":0},{"$f":"IF(AND(COUNTRY_INFO!K68>1,COUNTRY_INFO!K68<99,COUNTRY_INFO!K68<>4,COUNTRY_INFO!K68<>5), IF(AI68/COUNTRY_INFO!R68*100<>0, IF(AI68/COUNTRY_INFO!R68*100>100,100,AI68/COUNTRY_INFO!R68*100), \"-\"),0)","v":0},{"$f":"MAX('T1'!L68,'T2'!S68)","v":0},{"$f":"IF(AND(COUNTRY_INFO!K68>1,COUNTRY_INFO!K68<99,COUNTRY_INFO!K68<>4,COUNTRY_INFO!K68<>5),IF(COUNTRY_INFO!S68>AK68,AK68,COUNTRY_INFO!S68),0)","v":0},{"$f":"IF(AND(COUNTRY_INFO!K68>1,COUNTRY_INFO!K68<99,COUNTRY_INFO!K68<>4,COUNTRY_INFO!K68<>5), IF(AL68/COUNTRY_INFO!S68*100<>0, IF(AL68/COUNTRY_INFO!S68*100>100,100,AL68/COUNTRY_INFO!S68*100), \"-\"),0)","v":0},{"$f":"MAX('T1'!M68,'T2'!T68)","v":0},{"$f":"IF(AND(COUNTRY_INFO!K68>1,COUNTRY_INFO!K68<99,COUNTRY_INFO!K68<>4,COUNTRY_INFO!K68<>5),IF(COUNTRY_INFO!T68>AN68,AN68,COUNTRY_INFO!T68),0)","v":0},{"$f":"IF(AND(COUNTRY_INFO!K68>1,COUNTRY_INFO!K68<99,COUNTRY_INFO!K68<>4,COUNTRY_INFO!K68<>5), IF(AO68/COUNTRY_INFO!T68*100<>0, IF(AO68/COUNTRY_INFO!T68*100>100,100,AO68/COUNTRY_INFO!T68*100), \"-\"),0)","v":0},0,0,{"$f":"IF(AND(COUNTRY_INFO!K68>1,COUNTRY_INFO!K68<99,COUNTRY_INFO!K68<>4,COUNTRY_INFO!K68<>5), IF(AR68/AE68*100<>0, IF(AR68/AE68*100>100,100,AR68/AE68*100), \"-\"),0)","v":0},null,{"$f":"IF(AND(D68<>0, D68<>\"Inconnu\",D68<>\"Interrompu\",D68<>\"Non requis\"),D68/COUNTRY_INFO!D68, 0)","v":0},{"$f":"IF(AND(J68<>0,J68<>\"Inconnu\",J68<>\"Interrompu\",J68<>\"Non requis\"),J68/COUNTRY_INFO!D68, 0)","v":0},{"$f":"IF(AND(P68<>0,P68<>\"Inconnu\",P68<>\"Surveillance\",P68<>\"Non requis\"),P68/COUNTRY_INFO!Q68, 0)","v":0},{"$f":"IF(AND(AE68<>0,AE68<>\"Inconnu\",AE68<>\"Surveillance\",AE68<>\"Non requis\"),AE68/COUNTRY_INFO!U68, 0)","v":1},{"$f":"IF(AU68>0,D68*PROFILE!$G$7,IF(AV68>0,J68*PROFILE!$G$7,0))","v":0},{"$f":"_xlfn.IFS(OR(AU68>0,AW68>0),COUNTRY_INFO!E68, AV68>0,J68*PROFILE!$G$8,AX68>0,COUNTRY_INFO!R68,COUNTIFS(AU68:AX68,\">0\")=0,0)","v":32408},{"$f":"_xlfn.IFS(OR(AU68>0,AW68>0),COUNTRY_INFO!F68, AV68>0,J68*PROFILE!$G$9,AX68>0,COUNTRY_INFO!S68,COUNTIFS(AU68:AX68,\">0\")=0,0)","v":87302},{"$f":"_xlfn.IFS(AU68>0,COUNTRY_INFO!G68, AND(AV68>0,AW68=0,AX68=0),J68*PROFILE!$G$10,AND(AV68>0,AW68>0,AX68=0), MAX(J68*PROFILE!$G$10,COUNTRY_INFO!P68),AND(AV68>0,AW68=0,AX68>0), MAX(J68*PROFILE!$G$10,COUNTRY_INFO!T68),AND(AV68=0,AW68>0,AX68>0), MAX(COUNTRY_INFO!P68,COUNTRY_INFO!T68),AND(AV68=0,AW68>0,AX68=0),COUNTRY_INFO!P68,AND(AV68=0,AW68=0,AX68>0),COUNTRY_INFO!T68,AND(AV68>0,AW68>0,AX68>0), MAX(J68*PROFILE!$G$10,COUNTRY_INFO!P68,COUNTRY_INFO!T68),COUNTIFS(AU68:AX68,\">0\")=0,0)","v":157759},277469,0,{"$f":"MAX('MDA2'!J68,'MDA5'!J68,S68,AH68)","v":0},{"$f":"MAX('MDA1'!K68,'MDA2'!K68,'MDA3'!I68,'MDA3'!L68,'MDA5'!K68,V68,AK68)","v":0},{"$f":"MAX('MDA1'!L68,'MDA2'!L68,'MDA3'!J68,'MDA3'!M68,'MDA5'!L68,Y68,AN68)","v":0},0,{"$f":"_xlfn.IFS(AND(AU68=0,AW68=0,AX68=0),0,AND(AU68=0,AW68=0,AX68>0),AI68,AND(AU68=0,AW68>0,AX68=0),T68,AND(AU68=0,AW68>0,AX68>0),MAX(T68,AI68),AND(AU68>0,AW68=0,AX68=0),MIN(MAX('MDA2'!J68,'MDA5'!J68),AZ68),AND(AU68>0,AW68=0,AX68>0),MIN(MAX('MDA2'!J68,'MDA5'!J68,AI68),AZ68),AND(AU68>0,AW68>0,AX68=0),MIN(MAX('MDA2'!J68,'MDA5'!J68,T68),AZ68),AND(AU68>0,AW68>0,AX68>0),MIN(MAX('MDA2'!J68,'MDA5'!J68,AI68,T68),AZ68))","v":0},{"$f":"_xlfn.IFS(AND(AU68=0,AV68=0,AW68=0,AX68=0),0,AND(AU68=0,AV68=0,AW68=0,AX68>0),AL68,AND(AU68=0,AV68=0,AW68>0,AX68=0),W68,AND(AU68=0,AV68=0,AW68>0,AX68>0),MAX(W68,AL68),AND(AU68=0,AV68>0,AW68=0,AX68=0),MIN(J68*PROFILE!$G$9,MAX('MDA3'!I68,'MDA3'!L68)),AND(AU68=0,AV68>0,AW68=0,AX68>0),MIN(J68*PROFILE!$G$9,MAX('MDA3'!I68,'MDA3'!L68,AL68)),AND(AU68=0,AV68>0,AW68>0,AX68=0),MIN(J68*PROFILE!$G$9,MAX('MDA3'!I68,'MDA3'!L68,W68)),AND(AU68=0,AV68>0,AW68>0,AX68>0),MIN(J68*PROFILE!$G$9,MAX('MDA3'!I68,'MDA3'!L68,W68,AL68)),AND(AU68>0,AV68=0,AW68=0,AX68=0), MIN(BA68,MAX('MDA1'!K68,'MDA2'!K68,'MDA5'!K68)),AND(AU68>0,AV68=0,AW68=0,AX68>0), MIN(BA68,MAX('MDA1'!K68,'MDA2'!K68,'MDA5'!K68,AL68)),AND(AU68>0,AV68=0,AW68>0,AX68=0),MIN(BA68,MAX('MDA1'!K68,'MDA2'!KL68,'MDA5'!K68,W68)),AND(AU68>0,AV68=0,AW68>0,AX68>0),MIN(BA68,MAX('MDA1'!K68,'MDA2'!K68,'MDA5'!K68,W68,AL68)),AND(AU68>0,AV68>0,AW68=0,AX68=0),MIN(BA68, MAX('MDA1'!K68,'MDA2'!K68, 'MDA5'!K68,MAX('MDA3'!I68,'MDA3'!L68))), AND(AU68>0,AV68>0,AW68=0,AX68>0),MIN(BA68, MAX('MDA1'!K68,'MDA2'!K68, 'MDA5'!K68,MAX('MDA3'!I68,'MDA3'!L68),AL68)), AND(AU68>0,AV68>0,AW68>0,AX68=0), MIN(BA68, MAX('MDA1'!K68,'MDA2'!K68, 'MDA5'!K68,MAX('MDA3'!I68,'MDA3'!L68),W68)), AND(AU68>0,AV68>0,AW68>0,AX68>0), MIN(BA68, MAX('MDA1'!K68,'MDA2'!K68, 'MDA5'!K68,MAX('MDA3'!I68,'MDA3'!L68),W68,AL68)))","v":0},{"$f":"_xlfn.IFS(AND(AU68=0,AV68=0,AW68=0,AX68=0),0,AND(AU68=0,AV68=0,AW68=0,AX68>0),AO68,AND(AU68=0,AV68=0,AW68>0,AX68=0),Z68,AND(AU68=0,AV68=0,AW68>0,AX68>0),MAX(Z68,AO68),AND(AU68=0,AV68>0,AW68=0,AX68=0),MIN(J68*PROFILE!$G$10,MAX('MDA3'!J68,'MDA3'!J68)),AND(AU68=0,AV68>0,AW68=0,AX68>0),MIN(J68*PROFILE!$G$10,MAX('MDA3'!J68,'MDA3'!M68,AO68)),AND(AU68=0,AV68>0,AW68>0,AX68=0),MIN(J68*PROFILE!$G$10,MAX('MDA3'!J68,'MDA3'!M68,Z68)),AND(AU68=0,AV68>0,AW68>0,AX68>0),MIN(J68*PROFILE!$G$10,MAX('MDA3'!J68,'MDA3'!M68,Z68,AO68)),AND(AU68>0,AV68=0,AW68=0,AX68=0), MIN(BB68,MAX('MDA1'!L68,'MDA2'!L68,'MDA5'!L68)),AND(AU68>0,AV68=0,AW68=0,AX68>0), MIN(BB68,MAX('MDA1'!L68,'MDA2'!L68,'MDA5'!L68,AO68)),AND(AU68>0,AV68=0,AW68>0,AX68=0),MIN(BB68,MAX('MDA1'!L68,'MDA2'!L68,'MDA5'!L68,Z68)),AND(AU68>0,AV68=0,AW68>0,AX68>0),MIN(BB68,MAX('MDA1'!L68,'MDA2'!L68,'MDA5'!L68,Z68,AO68)),AND(AU68>0,AV68>0,AW68=0,AX68=0),MIN(BB68, MAX('MDA1'!L68,'MDA2'!L68, 'MDA5'!L68,MAX('MDA3'!J68,'MDA3'!M68))), AND(AU68>0,AV68>0,AW68=0,AX68>0),MIN(BB68, MAX('MDA1'!L68,'MDA2'!L68, 'MDA5'!L68,MAX('MDA3'!J68,'MDA3'!M68),AO68)), AND(AU68>0,AV68>0,AW68>0,AX68=0), MIN(BB68, MAX('MDA1'!L68,'MDA2'!L68, 'MDA5'!L68,MAX('MDA3'!J68,'MDA3'!M68),Z68)), AND(AU68>0,AV68>0,AW68>0,AX68>0), MIN(BB68, MAX('MDA1'!L68,'MDA2'!L68, 'MDA5'!L68,MAX('MDA3'!J68,'MDA3'!M68),Z68,AO68)))","v":0},0,0]
[{"$f":"IF(COUNTRY_INFO!A69=0,\" \",COUNTRY_INFO!A69)","v":"Mali"},{"$f":"IF(COUNTRY_INFO!B69=0,\" \",COUNTRY_INFO!B69)","v":"Sikasso"},{"$f":"IF(COUNTRY_INFO!C69=0,\" \",COUNTRY_INFO!C69)","v":"Niena"},{"$f":"COUNTRY_INFO!L69","v":0},null,null,{"$f":"MAX('MDA1'!M69,'MDA2'!M69,'MDA5'!M69)","v":0},{"$f":"IF(AND(COUNTRY_INFO!H69>0,COUNTRY_INFO!H69<4),IF(D69>G69,G69,D69),0)","v":0},{"$f":"IF(AND(COUNTRY_INFO!H69>0,COUNTRY_INFO!H69<4), IF(G69/D69*100<>0, IF(G69/D69*100>100,100,G69/D69*100), \"-\"),0)","v":0},{"$f":"COUNTRY_INFO!M69","v":197068.95185599997},62608,57374,{"$f":"MAX('MDA1'!M69,MAX('MDA3'!I69,'MDA3'!L69)+MAX('MDA3'!J69,'MDA3'!M69))","v":119982},{"$f":"IF(AND(COUNTRY_INFO!I69>0,COUNTRY_INFO!I69<4),IF(J69>M69,M69,J69),0)","v":119982},{"$f":"IF(AND(COUNTRY_INFO!I69>0,COUNTRY_INFO!I69<4), IF(M69/J69*100<>0, IF(M69/J69*100>100,100,M69/J69*100), \"-\"),0)","v":60.883258813733335},{"$f":"COUNTRY_INFO!Q69","v":"Non requis"},null,null,{"$f":"MAX('MDA2'!J69,'MDA5'!J69,'T1'!K69, MAX(T3_R1!J69,T3_R2!J69,T3_R3!J69))","v":0},{"$f":"IF(AND(COUNTRY_INFO!J69>1,COUNTRY_INFO!J69<99,COUNTRY_INFO!J69<>4,COUNTRY_INFO!J69<>5),IF(COUNTRY_INFO!N69>S69,S69,COUNTRY_INFO!N69),0)","v":0},{"$f":"IF(AND(COUNTRY_INFO!J69>1,COUNTRY_INFO!J69<99,COUNTRY_INFO!J69<>4,COUNTRY_INFO!J69<>5), IF(T69/COUNTRY_INFO!N69*100<>0, IF(T69/COUNTRY_INFO!N69*100>100,100,T69/COUNTRY_INFO!N69*100), \"-\"),0)","v":0},{"$f":"MAX('MDA1'!K69, 'MDA2'!K69, 'MDA5'!K69,'T1'!L69, MAX(T3_R1!K69,T3_R2!K69,T3_R3!K69))","v":0},{"$f":"IF(AND(COUNTRY_INFO!J69>1,COUNTRY_INFO!J69<99,COUNTRY_INFO!J69<>4,COUNTRY_INFO!J69<>5),IF(COUNTRY_INFO!O69>V69,V69,COUNTRY_INFO!O69),0)","v":0},{"$f":"IF(AND(COUNTRY_INFO!J69>1,COUNTRY_INFO!J69<99,COUNTRY_INFO!J69<>4,COUNTRY_INFO!J69<>5), IF(W69/COUNTRY_INFO!O69*100<>0, IF(W69/COUNTRY_INFO!O69*100>100,100,W69/COUNTRY_INFO!O69*100), \"-\"),0)","v":0},{"$f":"MAX('MDA1'!L69, 'MDA2'!L69, 'MDA5'!L69,'T1'!M69, MAX(T3_R1!L69,T3_R2!L69,T3_R3!L69))","v":0},{"$f":"IF(AND(COUNTRY_INFO!J69>1,COUNTRY_INFO!J69<99,COUNTRY_INFO!J69<>4,COUNTRY_INFO!J69<>5),IF(COUNTRY_INFO!P69>Y69,Y69,COUNTRY_INFO!P69),0)","v":0},{"$f":"IF(AND(COUNTRY_INFO!J69>1,COUNTRY_INFO!J69<99,COUNTRY_INFO!J69<>4,COUNTRY_INFO!J69<>5), IF(Z69/COUNTRY_INFO!P69*100<>0, IF(Z69/COUNTRY_INFO!P69*100>100,100,Z69/COUNTRY_INFO!P69*100), \"-\"),0)","v":0},0,0,{"$f":"IF(AND(COUNTRY_INFO!J69>1,COUNTRY_INFO!J69<99,COUNTRY_INFO!J69<>4,COUNTRY_INFO!J69<>5), IF(AC69/P69*100<>0, IF(AC69/P69*100>100,100,AC69/P69*100), \"-\"),0)","v":0},{"$f":"COUNTRY_INFO!U69","v":32110},null,null,{"$f":"MAX('T1'!K69,'T2'!R69)","v":0},{"$f":"IF(AND(COUNTRY_INFO!K69>1,COUNTRY_INFO!K69<99,COUNTRY_INFO!K69<>4,COUNTRY_INFO!K69<>5),IF(COUNTRY_INFO!R69>AH69,AH69,COUNTRY_INFO!R69),0)","v":0},{"$f":"IF(AND(COUNTRY_INFO!K69>1,COUNTRY_INFO!K69<99,COUNTRY_INFO!K69<>4,COUNTRY_INFO!K69<>5), IF(AI69/COUNTRY_INFO!R69*100<>0, IF(AI69/COUNTRY_INFO!R69*100>100,100,AI69/COUNTRY_INFO!R69*100), \"-\"),0)","v":"-"},{"$f":"MAX('T1'!L69,'T2'!S69)","v":5534},{"$f":"IF(AND(COUNTRY_INFO!K69>1,COUNTRY_INFO!K69<99,COUNTRY_INFO!K69<>4,COUNTRY_INFO!K69<>5),IF(COUNTRY_INFO!S69>AK69,AK69,COUNTRY_INFO!S69),0)","v":5534},{"$f":"IF(AND(COUNTRY_INFO!K69>1,COUNTRY_INFO!K69<99,COUNTRY_INFO!K69<>4,COUNTRY_INFO!K69<>5), IF(AL69/COUNTRY_INFO!S69*100<>0, IF(AL69/COUNTRY_INFO!S69*100>100,100,AL69/COUNTRY_INFO!S69*100), \"-\"),0)","v":54.775809165594382},{"$f":"MAX('T1'!M69,'T2'!T69)","v":0},{"$f":"IF(AND(COUNTRY_INFO!K69>1,COUNTRY_INFO!K69<99,COUNTRY_INFO!K69<>4,COUNTRY_INFO!K69<>5),IF(COUNTRY_INFO!T69>AN69,AN69,COUNTRY_INFO!T69),0)","v":0},{"$f":"IF(AND(COUNTRY_INFO!K69>1,COUNTRY_INFO!K69<99,COUNTRY_INFO!K69<>4,COUNTRY_INFO!K69<>5), IF(AO69/COUNTRY_INFO!T69*100<>0, IF(AO69/COUNTRY_INFO!T69*100>100,100,AO69/COUNTRY_INFO!T69*100), \"-\"),0)","v":"-"},5534,5534,{"$f":"IF(AND(COUNTRY_INFO!K69>1,COUNTRY_INFO!K69<99,COUNTRY_INFO!K69<>4,COUNTRY_INFO!K69<>5), IF(AR69/AE69*100<>0, IF(AR69/AE69*100>100,100,AR69/AE69*100), \"-\"),0)","v":17.234506384303955},null,{"$f":"IF(AND(D69<>0, D69<>\"Inconnu\",D69<>\"Interrompu\",D69<>\"Non requis\"),D69/COUNTRY_INFO!D69, 0)","v":0},{"$f":"IF(AND(J69<>0,J69<>\"Inconnu\",J69<>\"Interrompu\",J69<>\"Non requis\"),J69/COUNTRY_INFO!D69, 0)","v":1},{"$f":"IF(AND(P69<>0,P69<>\"Inconnu\",P69<>\"Surveillance\",P69<>\"Non requis\"),P69/COUNTRY_INFO!Q69, 0)","v":0},{"$f":"IF(AND(AE69<>0,AE69<>\"Inconnu\",AE69<>\"Surveillance\",AE69<>\"Non requis\"),AE69/COUNTRY_INFO!U69, 0)","v":1},{"$f":"IF(AU69>0,D69*PROFILE!$G$7,IF(AV69>0,J69*PROFILE!$G$7,0))","v":9853.4672218843916},{"$f":"_xlfn.IFS(OR(AU69>0,AW69>0),COUNTRY_INFO!E69, AV69>0,J69*PROFILE!$G$8,AX69>0,COUNTRY_INFO!R69,COUNTIFS(AU69:AX69,\">0\")=0,0)","v":29560.327357829232},{"$f":"_xlfn.IFS(OR(AU69>0,AW69>0),COUNTRY_INFO!F69, AV69>0,J69*PROFILE!$G$9,AX69>0,COUNTRY_INFO!S69,COUNTIFS(AU69:AX69,\">0\")=0,0)","v":56164.645390234669},{"$f":"_xlfn.IFS(AU69>0,COUNTRY_INFO!G69, AND(AV69>0,AW69=0,AX69=0),J69*PROFILE!$G$10,AND(AV69>0,AW69>0,AX69=0), MAX(J69*PROFILE!$G$10,COUNTRY_INFO!P69),AND(AV69>0,AW69=0,AX69>0), MAX(J69*PROFILE!$G$10,COUNTRY_INFO!T69),AND(AV69=0,AW69>0,AX69>0), MAX(COUNTRY_INFO!P69,COUNTRY_INFO!T69),AND(AV69=0,AW69>0,AX69=0),COUNTRY_INFO!P69,AND(AV69=0,AW69=0,AX69>0),COUNTRY_INFO!T69,AND(AV69>0,AW69>0,AX69>0), MAX(J69*PROFILE!$G$10,COUNTRY_INFO!P69,COUNTRY_INFO!T69),COUNTIFS(AU69:AX69,\">0\")=0,0)","v":101490.51188605167},197068.95185599994,"Y",{"$f":"MAX('MDA2'!J69,'MDA5'!J69,S69,AH69)","v":0},{"$f":"MAX('MDA1'!K69,'MDA2'!K69,'MDA3'!I69,'MDA3'!L69,'MDA5'!K69,V69,AK69)","v":49688},{"$f":"MAX('MDA1'!L69,'MDA2'!L69,'MDA3'!J69,'MDA3'!M69,'MDA5'!L69,Y69,AN69)","v":70294},119982,{"$f":"_xlfn.IFS(AND(AU69=0,AW69=0,AX69=0),0,AND(AU69=0,AW69=0,AX69>0),AI69,AND(AU69=0,AW69>0,AX69=0),T69,AND(AU69=0,AW69>0,AX69>0),MAX(T69,AI69),AND(AU69>0,AW69=0,AX69=0),MIN(MAX('MDA2'!J69,'MDA5'!J69),AZ69),AND(AU69>0,AW69=0,AX69>0),MIN(MAX('MDA2'!J69,'MDA5'!J69,AI69),AZ69),AND(AU69>0,AW69>0,AX69=0),MIN(MAX('MDA2'!J69,'MDA5'!J69,T69),AZ69),AND(AU69>0,AW69>0,AX69>0),MIN(MAX('MDA2'!J69,'MDA5'!J69,AI69,T69),AZ69))","v":0},{"$f":"_xlfn.IFS(AND(AU69=0,AV69=0,AW69=0,AX69=0),0,AND(AU69=0,AV69=0,AW69=0,AX69>0),AL69,AND(AU69=0,AV69=0,AW69>0,AX69=0),W69,AND(AU69=0,AV69=0,AW69>0,AX69>0),MAX(W69,AL69),AND(AU69=0,AV69>0,AW69=0,AX69=0),MIN(J69*PROFILE!$G$9,MAX('MDA3'!I69,'MDA3'!L69)),AND(AU69=0,AV69>0,AW69=0,AX69>0),MIN(J69*PROFILE!$G$9,MAX('MDA3'!I69,'MDA3'!L69,AL69)),AND(AU69=0,AV69>0,AW69>0,AX69=0),MIN(J69*PROFILE!$G$9,MAX('MDA3'!I69,'MDA3'!L69,W69)),AND(AU69=0,AV69>0,AW69>0,AX69>0),MIN(J69*PROFILE!$G$9,MAX('MDA3'!I69,'MDA3'!L69,W69,AL69)),AND(AU69>0,AV69=0,AW69=0,AX69=0), MIN(BA69,MAX('MDA1'!K69,'MDA2'!K69,'MDA5'!K69)),AND(AU69>0,AV69=0,AW69=0,AX69>0), MIN(BA69,MAX('MDA1'!K69,'MDA2'!K69,'MDA5'!K69,AL69)),AND(AU69>0,AV69=0,AW69>0,AX69=0),MIN(BA69,MAX('MDA1'!K69,'MDA2'!KL69,'MDA5'!K69,W69)),AND(AU69>0,AV69=0,AW69>0,AX69>0),MIN(BA69,MAX('MDA1'!K69,'MDA2'!K69,'MDA5'!K69,W69,AL69)),AND(AU69>0,AV69>0,AW69=0,AX69=0),MIN(BA69, MAX('MDA1'!K69,'MDA2'!K69, 'MDA5'!K69,MAX('MDA3'!I69,'MDA3'!L69))), AND(AU69>0,AV69>0,AW69=0,AX69>0),MIN(BA69, MAX('MDA1'!K69,'MDA2'!K69, 'MDA5'!K69,MAX('MDA3'!I69,'MDA3'!L69),AL69)), AND(AU69>0,AV69>0,AW69>0,AX69=0), MIN(BA69, MAX('MDA1'!K69,'MDA2'!K69, 'MDA5'!K69,MAX('MDA3'!I69,'MDA3'!L69),W69)), AND(AU69>0,AV69>0,AW69>0,AX69>0), MIN(BA69, MAX('MDA1'!K69,'MDA2'!K69, 'MDA5'!K69,MAX('MDA3'!I69,'MDA3'!L69),W69,AL69)))","v":49688},{"$f":"_xlfn.IFS(AND(AU69=0,AV69=0,AW69=0,AX69=0),0,AND(AU69=0,AV69=0,AW69=0,AX69>0),AO69,AND(AU69=0,AV69=0,AW69>0,AX69=0),Z69,AND(AU69=0,AV69=0,AW69>0,AX69>0),MAX(Z69,AO69),AND(AU69=0,AV69>0,AW69=0,AX69=0),MIN(J69*PROFILE!$G$10,MAX('MDA3'!J69,'MDA3'!J69)),AND(AU69=0,AV69>0,AW69=0,AX69>0),MIN(J69*PROFILE!$G$10,MAX('MDA3'!J69,'MDA3'!M69,AO69)),AND(AU69=0,AV69>0,AW69>0,AX69=0),MIN(J69*PROFILE!$G$10,MAX('MDA3'!J69,'MDA3'!M69,Z69)),AND(AU69=0,AV69>0,AW69>0,AX69>0),MIN(J69*PROFILE!$G$10,MAX('MDA3'!J69,'MDA3'!M69,Z69,AO69)),AND(AU69>0,AV69=0,AW69=0,AX69=0), MIN(BB69,MAX('MDA1'!L69,'MDA2'!L69,'MDA5'!L69)),AND(AU69>0,AV69=0,AW69=0,AX69>0), MIN(BB69,MAX('MDA1'!L69,'MDA2'!L69,'MDA5'!L69,AO69)),AND(AU69>0,AV69=0,AW69>0,AX69=0),MIN(BB69,MAX('MDA1'!L69,'MDA2'!L69,'MDA5'!L69,Z69)),AND(AU69>0,AV69=0,AW69>0,AX69>0),MIN(BB69,MAX('MDA1'!L69,'MDA2'!L69,'MDA5'!L69,Z69,AO69)),AND(AU69>0,AV69>0,AW69=0,AX69=0),MIN(BB69, MAX('MDA1'!L69,'MDA2'!L69, 'MDA5'!L69,MAX('MDA3'!J69,'MDA3'!M69))), AND(AU69>0,AV69>0,AW69=0,AX69>0),MIN(BB69, MAX('MDA1'!L69,'MDA2'!L69, 'MDA5'!L69,MAX('MDA3'!J69,'MDA3'!M69),AO69)), AND(AU69>0,AV69>0,AW69>0,AX69=0), MIN(BB69, MAX('MDA1'!L69,'MDA2'!L69, 'MDA5'!L69,MAX('MDA3'!J69,'MDA3'!M69),Z69)), AND(AU69>0,AV69>0,AW69>0,AX69>0), MIN(BB69, MAX('MDA1'!L69,'MDA2'!L69, 'MDA5'!L69,MAX('MDA3'!J69,'MDA3'!M69),Z69,AO69)))","v":70294},119982,60.883258813733342]
[{"$f":"IF(COUNTRY_INFO!A70=0,\" \",COUNTRY_INFO!A70)","v":"Mali"},{"$f":"IF(COUNTRY_INFO!B70=0,\" \",COUNTRY_INFO!B70)","v":"Sikasso"},{"$f":"IF(COUNTRY_INFO!C70=0,\" \",COUNTRY_INFO!C70)","v":"Sélingué"},{"$f":"COUNTRY_INFO!L70","v":0},null,null,{"$f":"MAX('MDA1'!M70,'MDA2'!M70,'MDA5'!M70)","v":0},{"$f":"IF(AND(COUNTRY_INFO!H70>0,COUNTRY_INFO!H70<4),IF(D70>G70,G70,D70),0)","v":0},{"$f":"IF(AND(COUNTRY_INFO!H70>0,COUNTRY_INFO!H70<4), IF(G70/D70*100<>0, IF(G70/D70*100>100,100,G70/D70*100), \"-\"),0)","v":0},{"$f":"COUNTRY_INFO!M70","v":133572.760496},52822,48661,{"$f":"MAX('MDA1'!M70,MAX('MDA3'!I70,'MDA3'!L70)+MAX('MDA3'!J70,'MDA3'!M70))","v":101483},{"$f":"IF(AND(COUNTRY_INFO!I70>0,COUNTRY_INFO!I70<4),IF(J70>M70,M70,J70),0)","v":101483},{"$f":"IF(AND(COUNTRY_INFO!I70>0,COUNTRY_INFO!I70<4), IF(M70/J70*100<>0, IF(M70/J70*100>100,100,M70/J70*100), \"-\"),0)","v":75.975819937508163},{"$f":"COUNTRY_INFO!Q70","v":"Non requis"},null,null,{"$f":"MAX('MDA2'!J70,'MDA5'!J70,'T1'!K70, MAX(T3_R1!J70,T3_R2!J70,T3_R3!J70))","v":0},{"$f":"IF(AND(COUNTRY_INFO!J70>1,COUNTRY_INFO!J70<99,COUNTRY_INFO!J70<>4,COUNTRY_INFO!J70<>5),IF(COUNTRY_INFO!N70>S70,S70,COUNTRY_INFO!N70),0)","v":0},{"$f":"IF(AND(COUNTRY_INFO!J70>1,COUNTRY_INFO!J70<99,COUNTRY_INFO!J70<>4,COUNTRY_INFO!J70<>5), IF(T70/COUNTRY_INFO!N70*100<>0, IF(T70/COUNTRY_INFO!N70*100>100,100,T70/COUNTRY_INFO!N70*100), \"-\"),0)","v":0},{"$f":"MAX('MDA1'!K70, 'MDA2'!K70, 'MDA5'!K70,'T1'!L70, MAX(T3_R1!K70,T3_R2!K70,T3_R3!K70))","v":0},{"$f":"IF(AND(COUNTRY_INFO!J70>1,COUNTRY_INFO!J70<99,COUNTRY_INFO!J70<>4,COUNTRY_INFO!J70<>5),IF(COUNTRY_INFO!O70>V70,V70,COUNTRY_INFO!O70),0)","v":0},{"$f":"IF(AND(COUNTRY_INFO!J70>1,COUNTRY_INFO!J70<99,COUNTRY_INFO!J70<>4,COUNTRY_INFO!J70<>5), IF(W70/COUNTRY_INFO!O70*100<>0, IF(W70/COUNTRY_INFO!O70*100>100,100,W70/COUNTRY_INFO!O70*100), \"-\"),0)","v":0},{"$f":"MAX('MDA1'!L70, 'MDA2'!L70, 'MDA5'!L70,'T1'!M70, MAX(T3_R1!L70,T3_R2!L70,T3_R3!L70))","v":0},{"$f":"IF(AND(COUNTRY_INFO!J70>1,COUNTRY_INFO!J70<99,COUNTRY_INFO!J70<>4,COUNTRY_INFO!J70<>5),IF(COUNTRY_INFO!P70>Y70,Y70,COUNTRY_INFO!P70),0)","v":0},{"$f":"IF(AND(COUNTRY_INFO!J70>1,COUNTRY_INFO!J70<99,COUNTRY_INFO!J70<>4,COUNTRY_INFO!J70<>5), IF(Z70/COUNTRY_INFO!P70*100<>0, IF(Z70/COUNTRY_INFO!P70*100>100,100,Z70/COUNTRY_INFO!P70*100), \"-\"),0)","v":0},0,0,{"$f":"IF(AND(COUNTRY_INFO!J70>1,COUNTRY_INFO!J70<99,COUNTRY_INFO!J70<>4,COUNTRY_INFO!J70<>5), IF(AC70/P70*100<>0, IF(AC70/P70*100>100,100,AC70/P70*100), \"-\"),0)","v":0},{"$f":"COUNTRY_INFO!U70","v":9467},null,null,{"$f":"MAX('T1'!K70,'T2'!R70)","v":0},{"$f":"IF(AND(COUNTRY_INFO!K70>1,COUNTRY_INFO!K70<99,COUNTRY_INFO!K70<>4,COUNTRY_INFO!K70<>5),IF(COUNTRY_INFO!R70>AH70,AH70,COUNTRY_INFO!R70),0)","v":0},{"$f":"IF(AND(COUNTRY_INFO!K70>1,COUNTRY_INFO!K70<99,COUNTRY_INFO!K70<>4,COUNTRY_INFO!K70<>5), IF(AI70/COUNTRY_INFO!R70*100<>0, IF(AI70/COUNTRY_INFO!R70*100>100,100,AI70/COUNTRY_INFO!R70*100), \"-\"),0)","v":"-"},{"$f":"MAX('T1'!L70,'T2'!S70)","v":18320},{"$f":"IF(AND(COUNTRY_INFO!K70>1,COUNTRY_INFO!K70<99,COUNTRY_INFO!K70<>4,COUNTRY_INFO!K70<>5),IF(COUNTRY_INFO!S70>AK70,AK70,COUNTRY_INFO!S70),0)","v":2979},{"$f":"IF(AND(COUNTRY_INFO!K70>1,COUNTRY_INFO!K70<99,COUNTRY_INFO!K70<>4,COUNTRY_INFO!K70<>5), IF(AL70/COUNTRY_INFO!S70*100<>0, IF(AL70/COUNTRY_INFO!S70*100>100,100,AL70/COUNTRY_INFO!S70*100), \"-\"),0)","v":100},{"$f":"MAX('T1'!M70,'T2'!T70)","v":0},{"$f":"IF(AND(COUNTRY_INFO!K70>1,COUNTRY_INFO!K70<99,COUNTRY_INFO!K70<>4,COUNTRY_INFO!K70<>5),IF(COUNTRY_INFO!T70>AN70,AN70,COUNTRY_INFO!T70),0)","v":0},{"$f":"IF(AND(COUNTRY_INFO!K70>1,COUNTRY_INFO!K70<99,COUNTRY_INFO!K70<>4,COUNTRY_INFO!K70<>5), IF(AO70/COUNTRY_INFO!T70*100<>0, IF(AO70/COUNTRY_INFO!T70*100>100,100,AO70/COUNTRY_INFO!T70*100), \"-\"),0)","v":"-"},18320,2979,{"$f":"IF(AND(COUNTRY_INFO!K70>1,COUNTRY_INFO!K70<99,COUNTRY_INFO!K70<>4,COUNTRY_INFO!K70<>5), IF(AR70/AE70*100<>0, IF(AR70/AE70*100>100,100,AR70/AE70*100), \"-\"),0)","v":31.467201859089467},null,{"$f":"IF(AND(D70<>0, D70<>\"Inconnu\",D70<>\"Interrompu\",D70<>\"Non requis\"),D70/COUNTRY_INFO!D70, 0)","v":0},{"$f":"IF(AND(J70<>0,J70<>\"Inconnu\",J70<>\"Interrompu\",J70<>\"Non requis\"),J70/COUNTRY_INFO!D70, 0)","v":1},{"$f":"IF(AND(P70<>0,P70<>\"Inconnu\",P70<>\"Surveillance\",P70<>\"Non requis\"),P70/COUNTRY_INFO!Q70, 0)","v":0},{"$f":"IF(AND(AE70<>0,AE70<>\"Inconnu\",AE70<>\"Surveillance\",AE70<>\"Non requis\"),AE70/COUNTRY_INFO!U70, 0)","v":1},{"$f":"IF(AU70>0,D70*PROFILE!$G$7,IF(AV70>0,J70*PROFILE!$G$7,0))","v":6678.6513293361213},{"$f":"_xlfn.IFS(OR(AU70>0,AW70>0),COUNTRY_INFO!E70, AV70>0,J70*PROFILE!$G$8,AX70>0,COUNTRY_INFO!R70,COUNTIFS(AU70:AX70,\">0\")=0,0)","v":20035.903622382135},{"$f":"_xlfn.IFS(OR(AU70>0,AW70>0),COUNTRY_INFO!F70, AV70>0,J70*PROFILE!$G$9,AX70>0,COUNTRY_INFO!S70,COUNTIFS(AU70:AX70,\">0\")=0,0)","v":38068.232749999166},{"$f":"_xlfn.IFS(AU70>0,COUNTRY_INFO!G70, AND(AV70>0,AW70=0,AX70=0),J70*PROFILE!$G$10,AND(AV70>0,AW70>0,AX70=0), MAX(J70*PROFILE!$G$10,COUNTRY_INFO!P70),AND(AV70>0,AW70=0,AX70>0), MAX(J70*PROFILE!$G$10,COUNTRY_INFO!T70),AND(AV70=0,AW70>0,AX70>0), MAX(COUNTRY_INFO!P70,COUNTRY_INFO!T70),AND(AV70=0,AW70>0,AX70=0),COUNTRY_INFO!P70,AND(AV70=0,AW70=0,AX70>0),COUNTRY_INFO!T70,AND(AV70>0,AW70>0,AX70>0), MAX(J70*PROFILE!$G$10,COUNTRY_INFO!P70,COUNTRY_INFO!T70),COUNTIFS(AU70:AX70,\">0\")=0,0)","v":68789.97279428257},133572.760496,"Y",{"$f":"MAX('MDA2'!J70,'MDA5'!J70,S70,AH70)","v":0},{"$f":"MAX('MDA1'!K70,'MDA2'!K70,'MDA3'!I70,'MDA3'!L70,'MDA5'!K70,V70,AK70)","v":45377},{"$f":"MAX('MDA1'!L70,'MDA2'!L70,'MDA3'!J70,'MDA3'!M70,'MDA5'!L70,Y70,AN70)","v":56106},101483,{"$f":"_xlfn.IFS(AND(AU70=0,AW70=0,AX70=0),0,AND(AU70=0,AW70=0,AX70>0),AI70,AND(AU70=0,AW70>0,AX70=0),T70,AND(AU70=0,AW70>0,AX70>0),MAX(T70,AI70),AND(AU70>0,AW70=0,AX70=0),MIN(MAX('MDA2'!J70,'MDA5'!J70),AZ70),AND(AU70>0,AW70=0,AX70>0),MIN(MAX('MDA2'!J70,'MDA5'!J70,AI70),AZ70),AND(AU70>0,AW70>0,AX70=0),MIN(MAX('MDA2'!J70,'MDA5'!J70,T70),AZ70),AND(AU70>0,AW70>0,AX70>0),MIN(MAX('MDA2'!J70,'MDA5'!J70,AI70,T70),AZ70))","v":0},{"$f":"_xlfn.IFS(AND(AU70=0,AV70=0,AW70=0,AX70=0),0,AND(AU70=0,AV70=0,AW70=0,AX70>0),AL70,AND(AU70=0,AV70=0,AW70>0,AX70=0),W70,AND(AU70=0,AV70=0,AW70>0,AX70>0),MAX(W70,AL70),AND(AU70=0,AV70>0,AW70=0,AX70=0),MIN(J70*PROFILE!$G$9,MAX('MDA3'!I70,'MDA3'!L70)),AND(AU70=0,AV70>0,AW70=0,AX70>0),MIN(J70*PROFILE!$G$9,MAX('MDA3'!I70,'MDA3'!L70,AL70)),AND(AU70=0,AV70>0,AW70>0,AX70=0),MIN(J70*PROFILE!$G$9,MAX('MDA3'!I70,'MDA3'!L70,W70)),AND(AU70=0,AV70>0,AW70>0,AX70>0),MIN(J70*PROFILE!$G$9,MAX('MDA3'!I70,'MDA3'!L70,W70,AL70)),AND(AU70>0,AV70=0,AW70=0,AX70=0), MIN(BA70,MAX('MDA1'!K70,'MDA2'!K70,'MDA5'!K70)),AND(AU70>0,AV70=0,AW70=0,AX70>0), MIN(BA70,MAX('MDA1'!K70,'MDA2'!K70,'MDA5'!K70,AL70)),AND(AU70>0,AV70=0,AW70>0,AX70=0),MIN(BA70,MAX('MDA1'!K70,'MDA2'!KL70,'MDA5'!K70,W70)),AND(AU70>0,AV70=0,AW70>0,AX70>0),MIN(BA70,MAX('MDA1'!K70,'MDA2'!K70,'MDA5'!K70,W70,AL70)),AND(AU70>0,AV70>0,AW70=0,AX70=0),MIN(BA70, MAX('MDA1'!K70,'MDA2'!K70, 'MDA5'!K70,MAX('MDA3'!I70,'MDA3'!L70))), AND(AU70>0,AV70>0,AW70=0,AX70>0),MIN(BA70, MAX('MDA1'!K70,'MDA2'!K70, 'MDA5'!K70,MAX('MDA3'!I70,'MDA3'!L70),AL70)), AND(AU70>0,AV70>0,AW70>0,AX70=0), MIN(BA70, MAX('MDA1'!K70,'MDA2'!K70, 'MDA5'!K70,MAX('MDA3'!I70,'MDA3'!L70),W70)), AND(AU70>0,AV70>0,AW70>0,AX70>0), MIN(BA70, MAX('MDA1'!K70,'MDA2'!K70, 'MDA5'!K70,MAX('MDA3'!I70,'MDA3'!L70),W70,AL70)))","v":38068.232749999166},{"$f":"_xlfn.IFS(AND(AU70=0,AV70=0,AW70=0,AX70=0),0,AND(AU70=0,AV70=0,AW70=0,AX70>0),AO70,AND(AU70=0,AV70=0,AW70>0,AX70=0),Z70,AND(AU70=0,AV70=0,AW70>0,AX70>0),MAX(Z70,AO70),AND(AU70=0,AV70>0,AW70=0,AX70=0),MIN(J70*PROFILE!$G$10,MAX('MDA3'!J70,'MDA3'!J70)),AND(AU70=0,AV70>0,AW70=0,AX70>0),MIN(J70*PROFILE!$G$10,MAX('MDA3'!J70,'MDA3'!M70,AO70)),AND(AU70=0,AV70>0,AW70>0,AX70=0),MIN(J70*PROFILE!$G$10,MAX('MDA3'!J70,'MDA3'!M70,Z70)),AND(AU70=0,AV70>0,AW70>0,AX70>0),MIN(J70*PROFILE!$G$10,MAX('MDA3'!J70,'MDA3'!M70,Z70,AO70)),AND(AU70>0,AV70=0,AW70=0,AX70=0), MIN(BB70,MAX('MDA1'!L70,'MDA2'!L70,'MDA5'!L70)),AND(AU70>0,AV70=0,AW70=0,AX70>0), MIN(BB70,MAX('MDA1'!L70,'MDA2'!L70,'MDA5'!L70,AO70)),AND(AU70>0,AV70=0,AW70>0,AX70=0),MIN(BB70,MAX('MDA1'!L70,'MDA2'!L70,'MDA5'!L70,Z70)),AND(AU70>0,AV70=0,AW70>0,AX70>0),MIN(BB70,MAX('MDA1'!L70,'MDA2'!L70,'MDA5'!L70,Z70,AO70)),AND(AU70>0,AV70>0,AW70=0,AX70=0),MIN(BB70, MAX('MDA1'!L70,'MDA2'!L70, 'MDA5'!L70,MAX('MDA3'!J70,'MDA3'!M70))), AND(AU70>0,AV70>0,AW70=0,AX70>0),MIN(BB70, MAX('MDA1'!L70,'MDA2'!L70, 'MDA5'!L70,MAX('MDA3'!J70,'MDA3'!M70),AO70)), AND(AU70>0,AV70>0,AW70>0,AX70=0), MIN(BB70, MAX('MDA1'!L70,'MDA2'!L70, 'MDA5'!L70,MAX('MDA3'!J70,'MDA3'!M70),Z70)), AND(AU70>0,AV70>0,AW70>0,AX70>0), MIN(BB70, MAX('MDA1'!L70,'MDA2'!L70, 'MDA5'!L70,MAX('MDA3'!J70,'MDA3'!M70),Z70,AO70)))","v":56106},94174.232749999166,70.504070141471203]
[{"$f":"IF(COUNTRY_INFO!A71=0,\" \",COUNTRY_INFO!A71)","v":"Mali"},{"$f":"IF(COUNTRY_INFO!B71=0,\" \",COUNTRY_INFO!B71)","v":"Sikasso"},{"$f":"IF(COUNTRY_INFO!C71=0,\" \",COUNTRY_INFO!C71)","v":"Sikasso"},{"$f":"COUNTRY_INFO!L71","v":0},null,null,{"$f":"MAX('MDA1'!M71,'MDA2'!M71,'MDA5'!M71)","v":0},{"$f":"IF(AND(COUNTRY_INFO!H71>0,COUNTRY_INFO!H71<4),IF(D71>G71,G71,D71),0)","v":0},{"$f":"IF(AND(COUNTRY_INFO!H71>0,COUNTRY_INFO!H71<4), IF(G71/D71*100<>0, IF(G71/D71*100>100,100,G71/D71*100), \"-\"),0)","v":0},{"$f":"COUNTRY_INFO!M71","v":788280.10060800007},289923,261394,{"$f":"MAX('MDA1'!M71,MAX('MDA3'!I71,'MDA3'!L71)+MAX('MDA3'!J71,'MDA3'!M71))","v":551317},{"$f":"IF(AND(COUNTRY_INFO!I71>0,COUNTRY_INFO!I71<4),IF(J71>M71,M71,J71),0)","v":551317},{"$f":"IF(AND(COUNTRY_INFO!I71>0,COUNTRY_INFO!I71<4), IF(M71/J71*100<>0, IF(M71/J71*100>100,100,M71/J71*100), \"-\"),0)","v":69.939225863340894},{"$f":"COUNTRY_INFO!Q71","v":"Non requis"},null,null,{"$f":"MAX('MDA2'!J71,'MDA5'!J71,'T1'!K71, MAX(T3_R1!J71,T3_R2!J71,T3_R3!J71))","v":0},{"$f":"IF(AND(COUNTRY_INFO!J71>1,COUNTRY_INFO!J71<99,COUNTRY_INFO!J71<>4,COUNTRY_INFO!J71<>5),IF(COUNTRY_INFO!N71>S71,S71,COUNTRY_INFO!N71),0)","v":0},{"$f":"IF(AND(COUNTRY_INFO!J71>1,COUNTRY_INFO!J71<99,COUNTRY_INFO!J71<>4,COUNTRY_INFO!J71<>5), IF(T71/COUNTRY_INFO!N71*100<>0, IF(T71/COUNTRY_INFO!N71*100>100,100,T71/COUNTRY_INFO!N71*100), \"-\"),0)","v":0},{"$f":"MAX('MDA1'!K71, 'MDA2'!K71, 'MDA5'!K71,'T1'!L71, MAX(T3_R1!K71,T3_R2!K71,T3_R3!K71))","v":0},{"$f":"IF(AND(COUNTRY_INFO!J71>1,COUNTRY_INFO!J71<99,COUNTRY_INFO!J71<>4,COUNTRY_INFO!J71<>5),IF(COUNTRY_INFO!O71>V71,V71,COUNTRY_INFO!O71),0)","v":0},{"$f":"IF(AND(COUNTRY_INFO!J71>1,COUNTRY_INFO!J71<99,COUNTRY_INFO!J71<>4,COUNTRY_INFO!J71<>5), IF(W71/COUNTRY_INFO!O71*100<>0, IF(W71/COUNTRY_INFO!O71*100>100,100,W71/COUNTRY_INFO!O71*100), \"-\"),0)","v":0},{"$f":"MAX('MDA1'!L71, 'MDA2'!L71, 'MDA5'!L71,'T1'!M71, MAX(T3_R1!L71,T3_R2!L71,T3_R3!L71))","v":0},{"$f":"IF(AND(COUNTRY_INFO!J71>1,COUNTRY_INFO!J71<99,COUNTRY_INFO!J71<>4,COUNTRY_INFO!J71<>5),IF(COUNTRY_INFO!P71>Y71,Y71,COUNTRY_INFO!P71),0)","v":0},{"$f":"IF(AND(COUNTRY_INFO!J71>1,COUNTRY_INFO!J71<99,COUNTRY_INFO!J71<>4,COUNTRY_INFO!J71<>5), IF(Z71/COUNTRY_INFO!P71*100<>0, IF(Z71/COUNTRY_INFO!P71*100>100,100,Z71/COUNTRY_INFO!P71*100), \"-\"),0)","v":0},0,0,{"$f":"IF(AND(COUNTRY_INFO!J71>1,COUNTRY_INFO!J71<99,COUNTRY_INFO!J71<>4,COUNTRY_INFO!J71<>5), IF(AC71/P71*100<>0, IF(AC71/P71*100>100,100,AC71/P71*100), \"-\"),0)","v":0},{"$f":"COUNTRY_INFO!U71","v":683986},null,null,{"$f":"MAX('T1'!K71,'T2'!R71)","v":0},{"$f":"IF(AND(COUNTRY_INFO!K71>1,COUNTRY_INFO!K71<99,COUNTRY_INFO!K71<>4,COUNTRY_INFO!K71<>5),IF(COUNTRY_INFO!R71>AH71,AH71,COUNTRY_INFO!R71),0)","v":0},{"$f":"IF(AND(COUNTRY_INFO!K71>1,COUNTRY_INFO!K71<99,COUNTRY_INFO!K71<>4,COUNTRY_INFO!K71<>5), IF(AI71/COUNTRY_INFO!R71*100<>0, IF(AI71/COUNTRY_INFO!R71*100>100,100,AI71/COUNTRY_INFO!R71*100), \"-\"),0)","v":"-"},{"$f":"MAX('T1'!L71,'T2'!S71)","v":194033},{"$f":"IF(AND(COUNTRY_INFO!K71>1,COUNTRY_INFO!K71<99,COUNTRY_INFO!K71<>4,COUNTRY_INFO!K71<>5),IF(COUNTRY_INFO!S71>AK71,AK71,COUNTRY_INFO!S71),0)","v":194033},{"$f":"IF(AND(COUNTRY_INFO!K71>1,COUNTRY_INFO!K71<99,COUNTRY_INFO!K71<>4,COUNTRY_INFO!K71<>5), IF(AL71/COUNTRY_INFO!S71*100<>0, IF(AL71/COUNTRY_INFO!S71*100>100,100,AL71/COUNTRY_INFO!S71*100), \"-\"),0)","v":90.159006003382714},{"$f":"MAX('T1'!M71,'T2'!T71)","v":0},{"$f":"IF(AND(COUNTRY_INFO!K71>1,COUNTRY_INFO!K71<99,COUNTRY_INFO!K71<>4,COUNTRY_INFO!K71<>5),IF(COUNTRY_INFO!T71>AN71,AN71,COUNTRY_INFO!T71),0)","v":0},{"$f":"IF(AND(COUNTRY_INFO!K71>1,COUNTRY_INFO!K71<99,COUNTRY_INFO!K71<>4,COUNTRY_INFO!K71<>5), IF(AO71/COUNTRY_INFO!T71*100<>0, IF(AO71/COUNTRY_INFO!T71*100>100,100,AO71/COUNTRY_INFO!T71*100), \"-\"),0)","v":"-"},194033,194033,{"$f":"IF(AND(COUNTRY_INFO!K71>1,COUNTRY_INFO!K71<99,COUNTRY_INFO!K71<>4,COUNTRY_INFO!K71<>5), IF(AR71/AE71*100<>0, IF(AR71/AE71*100>100,100,AR71/AE71*100), \"-\"),0)","v":28.367978291953342},null,{"$f":"IF(AND(D71<>0, D71<>\"Inconnu\",D71<>\"Interrompu\",D71<>\"Non requis\"),D71/COUNTRY_INFO!D71, 0)","v":0},{"$f":"IF(AND(J71<>0,J71<>\"Inconnu\",J71<>\"Interrompu\",J71<>\"Non requis\"),J71/COUNTRY_INFO!D71, 0)","v":1},{"$f":"IF(AND(P71<>0,P71<>\"Inconnu\",P71<>\"Surveillance\",P71<>\"Non requis\"),P71/COUNTRY_INFO!Q71, 0)","v":0},{"$f":"IF(AND(AE71<>0,AE71<>\"Inconnu\",AE71<>\"Surveillance\",AE71<>\"Non requis\"),AE71/COUNTRY_INFO!U71, 0)","v":1},{"$f":"IF(AU71>0,D71*PROFILE!$G$7,IF(AV71>0,J71*PROFILE!$G$7,0))","v":39414.083547165195},{"$f":"_xlfn.IFS(OR(AU71>0,AW71>0),COUNTRY_INFO!E71, AV71>0,J71*PROFILE!$G$8,AX71>0,COUNTRY_INFO!R71,COUNTIFS(AU71:AX71,\">0\")=0,0)","v":118241.95340858102},{"$f":"_xlfn.IFS(OR(AU71>0,AW71>0),COUNTRY_INFO!F71, AV71>0,J71*PROFILE!$G$9,AX71>0,COUNTRY_INFO!S71,COUNTIFS(AU71:AX71,\">0\")=0,0)","v":224659.80511825046},{"$f":"_xlfn.IFS(AU71>0,COUNTRY_INFO!G71, AND(AV71>0,AW71=0,AX71=0),J71*PROFILE!$G$10,AND(AV71>0,AW71>0,AX71=0), MAX(J71*PROFILE!$G$10,COUNTRY_INFO!P71),AND(AV71>0,AW71=0,AX71>0), MAX(J71*PROFILE!$G$10,COUNTRY_INFO!T71),AND(AV71=0,AW71>0,AX71>0), MAX(COUNTRY_INFO!P71,COUNTRY_INFO!T71),AND(AV71=0,AW71>0,AX71=0),COUNTRY_INFO!P71,AND(AV71=0,AW71=0,AX71>0),COUNTRY_INFO!T71,AND(AV71>0,AW71>0,AX71>0), MAX(J71*PROFILE!$G$10,COUNTRY_INFO!P71,COUNTRY_INFO!T71),COUNTIFS(AU71:AX71,\">0\")=0,0)","v":405964.2585340034},788280.10060800007,"Y",{"$f":"MAX('MDA2'!J71,'MDA5'!J71,S71,AH71)","v":0},{"$f":"MAX('MDA1'!K71,'MDA2'!K71,'MDA3'!I71,'MDA3'!L71,'MDA5'!K71,V71,AK71)","v":232943},{"$f":"MAX('MDA1'!L71,'MDA2'!L71,'MDA3'!J71,'MDA3'!M71,'MDA5'!L71,Y71,AN71)","v":318374},551317,{"$f":"_xlfn.IFS(AND(AU71=0,AW71=0,AX71=0),0,AND(AU71=0,AW71=0,AX71>0),AI71,AND(AU71=0,AW71>0,AX71=0),T71,AND(AU71=0,AW71>0,AX71>0),MAX(T71,AI71),AND(AU71>0,AW71=0,AX71=0),MIN(MAX('MDA2'!J71,'MDA5'!J71),AZ71),AND(AU71>0,AW71=0,AX71>0),MIN(MAX('MDA2'!J71,'MDA5'!J71,AI71),AZ71),AND(AU71>0,AW71>0,AX71=0),MIN(MAX('MDA2'!J71,'MDA5'!J71,T71),AZ71),AND(AU71>0,AW71>0,AX71>0),MIN(MAX('MDA2'!J71,'MDA5'!J71,AI71,T71),AZ71))","v":0},{"$f":"_xlfn.IFS(AND(AU71=0,AV71=0,AW71=0,AX71=0),0,AND(AU71=0,AV71=0,AW71=0,AX71>0),AL71,AND(AU71=0,AV71=0,AW71>0,AX71=0),W71,AND(AU71=0,AV71=0,AW71>0,AX71>0),MAX(W71,AL71),AND(AU71=0,AV71>0,AW71=0,AX71=0),MIN(J71*PROFILE!$G$9,MAX('MDA3'!I71,'MDA3'!L71)),AND(AU71=0,AV71>0,AW71=0,AX71>0),MIN(J71*PROFILE!$G$9,MAX('MDA3'!I71,'MDA3'!L71,AL71)),AND(AU71=0,AV71>0,AW71>0,AX71=0),MIN(J71*PROFILE!$G$9,MAX('MDA3'!I71,'MDA3'!L71,W71)),AND(AU71=0,AV71>0,AW71>0,AX71>0),MIN(J71*PROFILE!$G$9,MAX('MDA3'!I71,'MDA3'!L71,W71,AL71)),AND(AU71>0,AV71=0,AW71=0,AX71=0), MIN(BA71,MAX('MDA1'!K71,'MDA2'!K71,'MDA5'!K71)),AND(AU71>0,AV71=0,AW71=0,AX71>0), MIN(BA71,MAX('MDA1'!K71,'MDA2'!K71,'MDA5'!K71,AL71)),AND(AU71>0,AV71=0,AW71>0,AX71=0),MIN(BA71,MAX('MDA1'!K71,'MDA2'!KL71,'MDA5'!K71,W71)),AND(AU71>0,AV71=0,AW71>0,AX71>0),MIN(BA71,MAX('MDA1'!K71,'MDA2'!K71,'MDA5'!K71,W71,AL71)),AND(AU71>0,AV71>0,AW71=0,AX71=0),MIN(BA71, MAX('MDA1'!K71,'MDA2'!K71, 'MDA5'!K71,MAX('MDA3'!I71,'MDA3'!L71))), AND(AU71>0,AV71>0,AW71=0,AX71>0),MIN(BA71, MAX('MDA1'!K71,'MDA2'!K71, 'MDA5'!K71,MAX('MDA3'!I71,'MDA3'!L71),AL71)), AND(AU71>0,AV71>0,AW71>0,AX71=0), MIN(BA71, MAX('MDA1'!K71,'MDA2'!K71, 'MDA5'!K71,MAX('MDA3'!I71,'MDA3'!L71),W71)), AND(AU71>0,AV71>0,AW71>0,AX71>0), MIN(BA71, MAX('MDA1'!K71,'MDA2'!K71, 'MDA5'!K71,MAX('MDA3'!I71,'MDA3'!L71),W71,AL71)))","v":224659.80511825046},{"$f":"_xlfn.IFS(AND(AU71=0,AV71=0,AW71=0,AX71=0),0,AND(AU71=0,AV71=0,AW71=0,AX71>0),AO71,AND(AU71=0,AV71=0,AW71>0,AX71=0),Z71,AND(AU71=0,AV71=0,AW71>0,AX71>0),MAX(Z71,AO71),AND(AU71=0,AV71>0,AW71=0,AX71=0),MIN(J71*PROFILE!$G$10,MAX('MDA3'!J71,'MDA3'!J71)),AND(AU71=0,AV71>0,AW71=0,AX71>0),MIN(J71*PROFILE!$G$10,MAX('MDA3'!J71,'MDA3'!M71,AO71)),AND(AU71=0,AV71>0,AW71>0,AX71=0),MIN(J71*PROFILE!$G$10,MAX('MDA3'!J71,'MDA3'!M71,Z71)),AND(AU71=0,AV71>0,AW71>0,AX71>0),MIN(J71*PROFILE!$G$10,MAX('MDA3'!J71,'MDA3'!M71,Z71,AO71)),AND(AU71>0,AV71=0,AW71=0,AX71=0), MIN(BB71,MAX('MDA1'!L71,'MDA2'!L71,'MDA5'!L71)),AND(AU71>0,AV71=0,AW71=0,AX71>0), MIN(BB71,MAX('MDA1'!L71,'MDA2'!L71,'MDA5'!L71,AO71)),AND(AU71>0,AV71=0,AW71>0,AX71=0),MIN(BB71,MAX('MDA1'!L71,'MDA2'!L71,'MDA5'!L71,Z71)),AND(AU71>0,AV71=0,AW71>0,AX71>0),MIN(BB71,MAX('MDA1'!L71,'MDA2'!L71,'MDA5'!L71,Z71,AO71)),AND(AU71>0,AV71>0,AW71=0,AX71=0),MIN(BB71, MAX('MDA1'!L71,'MDA2'!L71, 'MDA5'!L71,MAX('MDA3'!J71,'MDA3'!M71))), AND(AU71>0,AV71>0,AW71=0,AX71>0),MIN(BB71, MAX('MDA1'!L71,'MDA2'!L71, 'MDA5'!L71,MAX('MDA3'!J71,'MDA3'!M71),AO71)), AND(AU71>0,AV71>0,AW71>0,AX71=0), MIN(BB71, MAX('MDA1'!L71,'MDA2'!L71, 'MDA5'!L71,MAX('MDA3'!J71,'MDA3'!M71),Z71)), AND(AU71>0,AV71>0,AW71>0,AX71>0), MIN(BB71, MAX('MDA1'!L71,'MDA2'!L71, 'MDA5'!L71,MAX('MDA3'!J71,'MDA3'!M71),Z71,AO71)))","v":318374},543033.80511825043,68.888432512682826]
[{"$f":"IF(COUNTRY_INFO!A72=0,\" \",COUNTRY_INFO!A72)","v":"Mali"},{"$f":"IF(COUNTRY_INFO!B72=0,\" \",COUNTRY_INFO!B72)","v":"Sikasso"},{"$f":"IF(COUNTRY_INFO!C72=0,\" \",COUNTRY_INFO!C72)","v":"Yanfolila"},{"$f":"COUNTRY_INFO!L72","v":0},null,null,{"$f":"MAX('MDA1'!M72,'MDA2'!M72,'MDA5'!M72)","v":0},{"$f":"IF(AND(COUNTRY_INFO!H72>0,COUNTRY_INFO!H72<4),IF(D72>G72,G72,D72),0)","v":0},{"$f":"IF(AND(COUNTRY_INFO!H72>0,COUNTRY_INFO!H72<4), IF(G72/D72*100<>0, IF(G72/D72*100>100,100,G72/D72*100), \"-\"),0)","v":0},{"$f":"COUNTRY_INFO!M72","v":"Interrompu"},null,null,{"$f":"MAX('MDA1'!M72,MAX('MDA3'!I72,'MDA3'!L72)+MAX('MDA3'!J72,'MDA3'!M72))","v":0},{"$f":"IF(AND(COUNTRY_INFO!I72>0,COUNTRY_INFO!I72<4),IF(J72>M72,M72,J72),0)","v":0},{"$f":"IF(AND(COUNTRY_INFO!I72>0,COUNTRY_INFO!I72<4), IF(M72/J72*100<>0, IF(M72/J72*100>100,100,M72/J72*100), \"-\"),0)","v":0},{"$f":"COUNTRY_INFO!Q72","v":"Non requis"},null,null,{"$f":"MAX('MDA2'!J72,'MDA5'!J72,'T1'!K72, MAX(T3_R1!J72,T3_R2!J72,T3_R3!J72))","v":0},{"$f":"IF(AND(COUNTRY_INFO!J72>1,COUNTRY_INFO!J72<99,COUNTRY_INFO!J72<>4,COUNTRY_INFO!J72<>5),IF(COUNTRY_INFO!N72>S72,S72,COUNTRY_INFO!N72),0)","v":0},{"$f":"IF(AND(COUNTRY_INFO!J72>1,COUNTRY_INFO!J72<99,COUNTRY_INFO!J72<>4,COUNTRY_INFO!J72<>5), IF(T72/COUNTRY_INFO!N72*100<>0, IF(T72/COUNTRY_INFO!N72*100>100,100,T72/COUNTRY_INFO!N72*100), \"-\"),0)","v":0},{"$f":"MAX('MDA1'!K72, 'MDA2'!K72, 'MDA5'!K72,'T1'!L72, MAX(T3_R1!K72,T3_R2!K72,T3_R3!K72))","v":0},{"$f":"IF(AND(COUNTRY_INFO!J72>1,COUNTRY_INFO!J72<99,COUNTRY_INFO!J72<>4,COUNTRY_INFO!J72<>5),IF(COUNTRY_INFO!O72>V72,V72,COUNTRY_INFO!O72),0)","v":0},{"$f":"IF(AND(COUNTRY_INFO!J72>1,COUNTRY_INFO!J72<99,COUNTRY_INFO!J72<>4,COUNTRY_INFO!J72<>5), IF(W72/COUNTRY_INFO!O72*100<>0, IF(W72/COUNTRY_INFO!O72*100>100,100,W72/COUNTRY_INFO!O72*100), \"-\"),0)","v":0},{"$f":"MAX('MDA1'!L72, 'MDA2'!L72, 'MDA5'!L72,'T1'!M72, MAX(T3_R1!L72,T3_R2!L72,T3_R3!L72))","v":0},{"$f":"IF(AND(COUNTRY_INFO!J72>1,COUNTRY_INFO!J72<99,COUNTRY_INFO!J72<>4,COUNTRY_INFO!J72<>5),IF(COUNTRY_INFO!P72>Y72,Y72,COUNTRY_INFO!P72),0)","v":0},{"$f":"IF(AND(COUNTRY_INFO!J72>1,COUNTRY_INFO!J72<99,COUNTRY_INFO!J72<>4,COUNTRY_INFO!J72<>5), IF(Z72/COUNTRY_INFO!P72*100<>0, IF(Z72/COUNTRY_INFO!P72*100>100,100,Z72/COUNTRY_INFO!P72*100), \"-\"),0)","v":0},0,0,{"$f":"IF(AND(COUNTRY_INFO!J72>1,COUNTRY_INFO!J72<99,COUNTRY_INFO!J72<>4,COUNTRY_INFO!J72<>5), IF(AC72/P72*100<>0, IF(AC72/P72*100>100,100,AC72/P72*100), \"-\"),0)","v":0},{"$f":"COUNTRY_INFO!U72","v":0},null,null,{"$f":"MAX('T1'!K72,'T2'!R72)","v":0},{"$f":"IF(AND(COUNTRY_INFO!K72>1,COUNTRY_INFO!K72<99,COUNTRY_INFO!K72<>4,COUNTRY_INFO!K72<>5),IF(COUNTRY_INFO!R72>AH72,AH72,COUNTRY_INFO!R72),0)","v":0},{"$f":"IF(AND(COUNTRY_INFO!K72>1,COUNTRY_INFO!K72<99,COUNTRY_INFO!K72<>4,COUNTRY_INFO!K72<>5), IF(AI72/COUNTRY_INFO!R72*100<>0, IF(AI72/COUNTRY_INFO!R72*100>100,100,AI72/COUNTRY_INFO!R72*100), \"-\"),0)","v":0},{"$f":"MAX('T1'!L72,'T2'!S72)","v":1803},{"$f":"IF(AND(COUNTRY_INFO!K72>1,COUNTRY_INFO!K72<99,COUNTRY_INFO!K72<>4,COUNTRY_INFO!K72<>5),IF(COUNTRY_INFO!S72>AK72,AK72,COUNTRY_INFO!S72),0)","v":0},{"$f":"IF(AND(COUNTRY_INFO!K72>1,COUNTRY_INFO!K72<99,COUNTRY_INFO!K72<>4,COUNTRY_INFO!K72<>5), IF(AL72/COUNTRY_INFO!S72*100<>0, IF(AL72/COUNTRY_INFO!S72*100>100,100,AL72/COUNTRY_INFO!S72*100), \"-\"),0)","v":0},{"$f":"MAX('T1'!M72,'T2'!T72)","v":0},{"$f":"IF(AND(COUNTRY_INFO!K72>1,COUNTRY_INFO!K72<99,COUNTRY_INFO!K72<>4,COUNTRY_INFO!K72<>5),IF(COUNTRY_INFO!T72>AN72,AN72,COUNTRY_INFO!T72),0)","v":0},{"$f":"IF(AND(COUNTRY_INFO!K72>1,COUNTRY_INFO!K72<99,COUNTRY_INFO!K72<>4,COUNTRY_INFO!K72<>5), IF(AO72/COUNTRY_INFO!T72*100<>0, IF(AO72/COUNTRY_INFO!T72*100>100,100,AO72/COUNTRY_INFO!T72*100), \"-\"),0)","v":0},1803,0,{"$f":"IF(AND(COUNTRY_INFO!K72>1,COUNTRY_INFO!K72<99,COUNTRY_INFO!K72<>4,COUNTRY_INFO!K72<>5), IF(AR72/AE72*100<>0, IF(AR72/AE72*100>100,100,AR72/AE72*100), \"-\"),0)","v":0},null,{"$f":"IF(AND(D72<>0, D72<>\"Inconnu\",D72<>\"Interrompu\",D72<>\"Non requis\"),D72/COUNTRY_INFO!D72, 0)","v":0},{"$f":"IF(AND(J72<>0,J72<>\"Inconnu\",J72<>\"Interrompu\",J72<>\"Non requis\"),J72/COUNTRY_INFO!D72, 0)","v":0},{"$f":"IF(AND(P72<>0,P72<>\"Inconnu\",P72<>\"Surveillance\",P72<>\"Non requis\"),P72/COUNTRY_INFO!Q72, 0)","v":0},{"$f":"IF(AND(AE72<>0,AE72<>\"Inconnu\",AE72<>\"Surveillance\",AE72<>\"Non requis\"),AE72/COUNTRY_INFO!U72, 0)","v":0},{"$f":"IF(AU72>0,D72*PROFILE!$G$7,IF(AV72>0,J72*PROFILE!$G$7,0))","v":0},{"$f":"_xlfn.IFS(OR(AU72>0,AW72>0),COUNTRY_INFO!E72, AV72>0,J72*PROFILE!$G$8,AX72>0,COUNTRY_INFO!R72,COUNTIFS(AU72:AX72,\">0\")=0,0)","v":0},{"$f":"_xlfn.IFS(OR(AU72>0,AW72>0),COUNTRY_INFO!F72, AV72>0,J72*PROFILE!$G$9,AX72>0,COUNTRY_INFO!S72,COUNTIFS(AU72:AX72,\">0\")=0,0)","v":0},{"$f":"_xlfn.IFS(AU72>0,COUNTRY_INFO!G72, AND(AV72>0,AW72=0,AX72=0),J72*PROFILE!$G$10,AND(AV72>0,AW72>0,AX72=0), MAX(J72*PROFILE!$G$10,COUNTRY_INFO!P72),AND(AV72>0,AW72=0,AX72>0), MAX(J72*PROFILE!$G$10,COUNTRY_INFO!T72),AND(AV72=0,AW72>0,AX72>0), MAX(COUNTRY_INFO!P72,COUNTRY_INFO!T72),AND(AV72=0,AW72>0,AX72=0),COUNTRY_INFO!P72,AND(AV72=0,AW72=0,AX72>0),COUNTRY_INFO!T72,AND(AV72>0,AW72>0,AX72>0), MAX(J72*PROFILE!$G$10,COUNTRY_INFO!P72,COUNTRY_INFO!T72),COUNTIFS(AU72:AX72,\">0\")=0,0)","v":0},0,0,{"$f":"MAX('MDA2'!J72,'MDA5'!J72,S72,AH72)","v":0},{"$f":"MAX('MDA1'!K72,'MDA2'!K72,'MDA3'!I72,'MDA3'!L72,'MDA5'!K72,V72,AK72)","v":1803},{"$f":"MAX('MDA1'!L72,'MDA2'!L72,'MDA3'!J72,'MDA3'!M72,'MDA5'!L72,Y72,AN72)","v":0},1803,{"$f":"_xlfn.IFS(AND(AU72=0,AW72=0,AX72=0),0,AND(AU72=0,AW72=0,AX72>0),AI72,AND(AU72=0,AW72>0,AX72=0),T72,AND(AU72=0,AW72>0,AX72>0),MAX(T72,AI72),AND(AU72>0,AW72=0,AX72=0),MIN(MAX('MDA2'!J72,'MDA5'!J72),AZ72),AND(AU72>0,AW72=0,AX72>0),MIN(MAX('MDA2'!J72,'MDA5'!J72,AI72),AZ72),AND(AU72>0,AW72>0,AX72=0),MIN(MAX('MDA2'!J72,'MDA5'!J72,T72),AZ72),AND(AU72>0,AW72>0,AX72>0),MIN(MAX('MDA2'!J72,'MDA5'!J72,AI72,T72),AZ72))","v":0},{"$f":"_xlfn.IFS(AND(AU72=0,AV72=0,AW72=0,AX72=0),0,AND(AU72=0,AV72=0,AW72=0,AX72>0),AL72,AND(AU72=0,AV72=0,AW72>0,AX72=0),W72,AND(AU72=0,AV72=0,AW72>0,AX72>0),MAX(W72,AL72),AND(AU72=0,AV72>0,AW72=0,AX72=0),MIN(J72*PROFILE!$G$9,MAX('MDA3'!I72,'MDA3'!L72)),AND(AU72=0,AV72>0,AW72=0,AX72>0),MIN(J72*PROFILE!$G$9,MAX('MDA3'!I72,'MDA3'!L72,AL72)),AND(AU72=0,AV72>0,AW72>0,AX72=0),MIN(J72*PROFILE!$G$9,MAX('MDA3'!I72,'MDA3'!L72,W72)),AND(AU72=0,AV72>0,AW72>0,AX72>0),MIN(J72*PROFILE!$G$9,MAX('MDA3'!I72,'MDA3'!L72,W72,AL72)),AND(AU72>0,AV72=0,AW72=0,AX72=0), MIN(BA72,MAX('MDA1'!K72,'MDA2'!K72,'MDA5'!K72)),AND(AU72>0,AV72=0,AW72=0,AX72>0), MIN(BA72,MAX('MDA1'!K72,'MDA2'!K72,'MDA5'!K72,AL72)),AND(AU72>0,AV72=0,AW72>0,AX72=0),MIN(BA72,MAX('MDA1'!K72,'MDA2'!KL72,'MDA5'!K72,W72)),AND(AU72>0,AV72=0,AW72>0,AX72>0),MIN(BA72,MAX('MDA1'!K72,'MDA2'!K72,'MDA5'!K72,W72,AL72)),AND(AU72>0,AV72>0,AW72=0,AX72=0),MIN(BA72, MAX('MDA1'!K72,'MDA2'!K72, 'MDA5'!K72,MAX('MDA3'!I72,'MDA3'!L72))), AND(AU72>0,AV72>0,AW72=0,AX72>0),MIN(BA72, MAX('MDA1'!K72,'MDA2'!K72, 'MDA5'!K72,MAX('MDA3'!I72,'MDA3'!L72),AL72)), AND(AU72>0,AV72>0,AW72>0,AX72=0), MIN(BA72, MAX('MDA1'!K72,'MDA2'!K72, 'MDA5'!K72,MAX('MDA3'!I72,'MDA3'!L72),W72)), AND(AU72>0,AV72>0,AW72>0,AX72>0), MIN(BA72, MAX('MDA1'!K72,'MDA2'!K72, 'MDA5'!K72,MAX('MDA3'!I72,'MDA3'!L72),W72,AL72)))","v":0},{"$f":"_xlfn.IFS(AND(AU72=0,AV72=0,AW72=0,AX72=0),0,AND(AU72=0,AV72=0,AW72=0,AX72>0),AO72,AND(AU72=0,AV72=0,AW72>0,AX72=0),Z72,AND(AU72=0,AV72=0,AW72>0,AX72>0),MAX(Z72,AO72),AND(AU72=0,AV72>0,AW72=0,AX72=0),MIN(J72*PROFILE!$G$10,MAX('MDA3'!J72,'MDA3'!J72)),AND(AU72=0,AV72>0,AW72=0,AX72>0),MIN(J72*PROFILE!$G$10,MAX('MDA3'!J72,'MDA3'!M72,AO72)),AND(AU72=0,AV72>0,AW72>0,AX72=0),MIN(J72*PROFILE!$G$10,MAX('MDA3'!J72,'MDA3'!M72,Z72)),AND(AU72=0,AV72>0,AW72>0,AX72>0),MIN(J72*PROFILE!$G$10,MAX('MDA3'!J72,'MDA3'!M72,Z72,AO72)),AND(AU72>0,AV72=0,AW72=0,AX72=0), MIN(BB72,MAX('MDA1'!L72,'MDA2'!L72,'MDA5'!L72)),AND(AU72>0,AV72=0,AW72=0,AX72>0), MIN(BB72,MAX('MDA1'!L72,'MDA2'!L72,'MDA5'!L72,AO72)),AND(AU72>0,AV72=0,AW72>0,AX72=0),MIN(BB72,MAX('MDA1'!L72,'MDA2'!L72,'MDA5'!L72,Z72)),AND(AU72>0,AV72=0,AW72>0,AX72>0),MIN(BB72,MAX('MDA1'!L72,'MDA2'!L72,'MDA5'!L72,Z72,AO72)),AND(AU72>0,AV72>0,AW72=0,AX72=0),MIN(BB72, MAX('MDA1'!L72,'MDA2'!L72, 'MDA5'!L72,MAX('MDA3'!J72,'MDA3'!M72))), AND(AU72>0,AV72>0,AW72=0,AX72>0),MIN(BB72, MAX('MDA1'!L72,'MDA2'!L72, 'MDA5'!L72,MAX('MDA3'!J72,'MDA3'!M72),AO72)), AND(AU72>0,AV72>0,AW72>0,AX72=0), MIN(BB72, MAX('MDA1'!L72,'MDA2'!L72, 'MDA5'!L72,MAX('MDA3'!J72,'MDA3'!M72),Z72)), AND(AU72>0,AV72>0,AW72>0,AX72>0), MIN(BB72, MAX('MDA1'!L72,'MDA2'!L72, 'MDA5'!L72,MAX('MDA3'!J72,'MDA3'!M72),Z72,AO72)))","v":0},0,0]
[{"$f":"IF(COUNTRY_INFO!A73=0,\" \",COUNTRY_INFO!A73)","v":"Mali"},{"$f":"IF(COUNTRY_INFO!B73=0,\" \",COUNTRY_INFO!B73)","v":"Sikasso"},{"$f":"IF(COUNTRY_INFO!C73=0,\" \",COUNTRY_INFO!C73)","v":"Yorosso"},{"$f":"COUNTRY_INFO!L73","v":0},null,null,{"$f":"MAX('MDA1'!M73,'MDA2'!M73,'MDA5'!M73)","v":0},{"$f":"IF(AND(COUNTRY_INFO!H73>0,COUNTRY_INFO!H73<4),IF(D73>G73,G73,D73),0)","v":0},{"$f":"IF(AND(COUNTRY_INFO!H73>0,COUNTRY_INFO!H73<4), IF(G73/D73*100<>0, IF(G73/D73*100>100,100,G73/D73*100), \"-\"),0)","v":0},{"$f":"COUNTRY_INFO!M73","v":0},null,null,{"$f":"MAX('MDA1'!M73,MAX('MDA3'!I73,'MDA3'!L73)+MAX('MDA3'!J73,'MDA3'!M73))","v":0},{"$f":"IF(AND(COUNTRY_INFO!I73>0,COUNTRY_INFO!I73<4),IF(J73>M73,M73,J73),0)","v":0},{"$f":"IF(AND(COUNTRY_INFO!I73>0,COUNTRY_INFO!I73<4), IF(M73/J73*100<>0, IF(M73/J73*100>100,100,M73/J73*100), \"-\"),0)","v":0},{"$f":"COUNTRY_INFO!Q73","v":"Non requis"},null,null,{"$f":"MAX('MDA2'!J73,'MDA5'!J73,'T1'!K73, MAX(T3_R1!J73,T3_R2!J73,T3_R3!J73))","v":0},{"$f":"IF(AND(COUNTRY_INFO!J73>1,COUNTRY_INFO!J73<99,COUNTRY_INFO!J73<>4,COUNTRY_INFO!J73<>5),IF(COUNTRY_INFO!N73>S73,S73,COUNTRY_INFO!N73),0)","v":0},{"$f":"IF(AND(COUNTRY_INFO!J73>1,COUNTRY_INFO!J73<99,COUNTRY_INFO!J73<>4,COUNTRY_INFO!J73<>5), IF(T73/COUNTRY_INFO!N73*100<>0, IF(T73/COUNTRY_INFO!N73*100>100,100,T73/COUNTRY_INFO!N73*100), \"-\"),0)","v":0},{"$f":"MAX('MDA1'!K73, 'MDA2'!K73, 'MDA5'!K73,'T1'!L73, MAX(T3_R1!K73,T3_R2!K73,T3_R3!K73))","v":0},{"$f":"IF(AND(COUNTRY_INFO!J73>1,COUNTRY_INFO!J73<99,COUNTRY_INFO!J73<>4,COUNTRY_INFO!J73<>5),IF(COUNTRY_INFO!O73>V73,V73,COUNTRY_INFO!O73),0)","v":0},{"$f":"IF(AND(COUNTRY_INFO!J73>1,COUNTRY_INFO!J73<99,COUNTRY_INFO!J73<>4,COUNTRY_INFO!J73<>5), IF(W73/COUNTRY_INFO!O73*100<>0, IF(W73/COUNTRY_INFO!O73*100>100,100,W73/COUNTRY_INFO!O73*100), \"-\"),0)","v":0},{"$f":"MAX('MDA1'!L73, 'MDA2'!L73, 'MDA5'!L73,'T1'!M73, MAX(T3_R1!L73,T3_R2!L73,T3_R3!L73))","v":0},{"$f":"IF(AND(COUNTRY_INFO!J73>1,COUNTRY_INFO!J73<99,COUNTRY_INFO!J73<>4,COUNTRY_INFO!J73<>5),IF(COUNTRY_INFO!P73>Y73,Y73,COUNTRY_INFO!P73),0)","v":0},{"$f":"IF(AND(COUNTRY_INFO!J73>1,COUNTRY_INFO!J73<99,COUNTRY_INFO!J73<>4,COUNTRY_INFO!J73<>5), IF(Z73/COUNTRY_INFO!P73*100<>0, IF(Z73/COUNTRY_INFO!P73*100>100,100,Z73/COUNTRY_INFO!P73*100), \"-\"),0)","v":0},0,0,{"$f":"IF(AND(COUNTRY_INFO!J73>1,COUNTRY_INFO!J73<99,COUNTRY_INFO!J73<>4,COUNTRY_INFO!J73<>5), IF(AC73/P73*100<>0, IF(AC73/P73*100>100,100,AC73/P73*100), \"-\"),0)","v":0},{"$f":"COUNTRY_INFO!U73","v":40846},null,null,{"$f":"MAX('T1'!K73,'T2'!R73)","v":0},{"$f":"IF(AND(COUNTRY_INFO!K73>1,COUNTRY_INFO!K73<99,COUNTRY_INFO!K73<>4,COUNTRY_INFO!K73<>5),IF(COUNTRY_INFO!R73>AH73,AH73,COUNTRY_INFO!R73),0)","v":0},{"$f":"IF(AND(COUNTRY_INFO!K73>1,COUNTRY_INFO!K73<99,COUNTRY_INFO!K73<>4,COUNTRY_INFO!K73<>5), IF(AI73/COUNTRY_INFO!R73*100<>0, IF(AI73/COUNTRY_INFO!R73*100>100,100,AI73/COUNTRY_INFO!R73*100), \"-\"),0)","v":"-"},{"$f":"MAX('T1'!L73,'T2'!S73)","v":0},{"$f":"IF(AND(COUNTRY_INFO!K73>1,COUNTRY_INFO!K73<99,COUNTRY_INFO!K73<>4,COUNTRY_INFO!K73<>5),IF(COUNTRY_INFO!S73>AK73,AK73,COUNTRY_INFO!S73),0)","v":0},{"$f":"IF(AND(COUNTRY_INFO!K73>1,COUNTRY_INFO!K73<99,COUNTRY_INFO!K73<>4,COUNTRY_INFO!K73<>5), IF(AL73/COUNTRY_INFO!S73*100<>0, IF(AL73/COUNTRY_INFO!S73*100>100,100,AL73/COUNTRY_INFO!S73*100), \"-\"),0)","v":"-"},{"$f":"MAX('T1'!M73,'T2'!T73)","v":0},{"$f":"IF(AND(COUNTRY_INFO!K73>1,COUNTRY_INFO!K73<99,COUNTRY_INFO!K73<>4,COUNTRY_INFO!K73<>5),IF(COUNTRY_INFO!T73>AN73,AN73,COUNTRY_INFO!T73),0)","v":0},{"$f":"IF(AND(COUNTRY_INFO!K73>1,COUNTRY_INFO!K73<99,COUNTRY_INFO!K73<>4,COUNTRY_INFO!K73<>5), IF(AO73/COUNTRY_INFO!T73*100<>0, IF(AO73/COUNTRY_INFO!T73*100>100,100,AO73/COUNTRY_INFO!T73*100), \"-\"),0)","v":"-"},0,0,{"$f":"IF(AND(COUNTRY_INFO!K73>1,COUNTRY_INFO!K73<99,COUNTRY_INFO!K73<>4,COUNTRY_INFO!K73<>5), IF(AR73/AE73*100<>0, IF(AR73/AE73*100>100,100,AR73/AE73*100), \"-\"),0)","v":"-"},null,{"$f":"IF(AND(D73<>0, D73<>\"Inconnu\",D73<>\"Interrompu\",D73<>\"Non requis\"),D73/COUNTRY_INFO!D73, 0)","v":0},{"$f":"IF(AND(J73<>0,J73<>\"Inconnu\",J73<>\"Interrompu\",J73<>\"Non requis\"),J73/COUNTRY_INFO!D73, 0)","v":0},{"$f":"IF(AND(P73<>0,P73<>\"Inconnu\",P73<>\"Surveillance\",P73<>\"Non requis\"),P73/COUNTRY_INFO!Q73, 0)","v":0},{"$f":"IF(AND(AE73<>0,AE73<>\"Inconnu\",AE73<>\"Surveillance\",AE73<>\"Non requis\"),AE73/COUNTRY_INFO!U73, 0)","v":1},{"$f":"IF(AU73>0,D73*PROFILE!$G$7,IF(AV73>0,J73*PROFILE!$G$7,0))","v":0},{"$f":"_xlfn.IFS(OR(AU73>0,AW73>0),COUNTRY_INFO!E73, AV73>0,J73*PROFILE!$G$8,AX73>0,COUNTRY_INFO!R73,COUNTIFS(AU73:AX73,\">0\")=0,0)","v":4771},{"$f":"_xlfn.IFS(OR(AU73>0,AW73>0),COUNTRY_INFO!F73, AV73>0,J73*PROFILE!$G$9,AX73>0,COUNTRY_INFO!S73,COUNTIFS(AU73:AX73,\">0\")=0,0)","v":12853},{"$f":"_xlfn.IFS(AU73>0,COUNTRY_INFO!G73, AND(AV73>0,AW73=0,AX73=0),J73*PROFILE!$G$10,AND(AV73>0,AW73>0,AX73=0), MAX(J73*PROFILE!$G$10,COUNTRY_INFO!P73),AND(AV73>0,AW73=0,AX73>0), MAX(J73*PROFILE!$G$10,COUNTRY_INFO!T73),AND(AV73=0,AW73>0,AX73>0), MAX(COUNTRY_INFO!P73,COUNTRY_INFO!T73),AND(AV73=0,AW73>0,AX73=0),COUNTRY_INFO!P73,AND(AV73=0,AW73=0,AX73>0),COUNTRY_INFO!T73,AND(AV73>0,AW73>0,AX73>0), MAX(J73*PROFILE!$G$10,COUNTRY_INFO!P73,COUNTRY_INFO!T73),COUNTIFS(AU73:AX73,\">0\")=0,0)","v":23222},40846,0,{"$f":"MAX('MDA2'!J73,'MDA5'!J73,S73,AH73)","v":0},{"$f":"MAX('MDA1'!K73,'MDA2'!K73,'MDA3'!I73,'MDA3'!L73,'MDA5'!K73,V73,AK73)","v":0},{"$f":"MAX('MDA1'!L73,'MDA2'!L73,'MDA3'!J73,'MDA3'!M73,'MDA5'!L73,Y73,AN73)","v":0},0,{"$f":"_xlfn.IFS(AND(AU73=0,AW73=0,AX73=0),0,AND(AU73=0,AW73=0,AX73>0),AI73,AND(AU73=0,AW73>0,AX73=0),T73,AND(AU73=0,AW73>0,AX73>0),MAX(T73,AI73),AND(AU73>0,AW73=0,AX73=0),MIN(MAX('MDA2'!J73,'MDA5'!J73),AZ73),AND(AU73>0,AW73=0,AX73>0),MIN(MAX('MDA2'!J73,'MDA5'!J73,AI73),AZ73),AND(AU73>0,AW73>0,AX73=0),MIN(MAX('MDA2'!J73,'MDA5'!J73,T73),AZ73),AND(AU73>0,AW73>0,AX73>0),MIN(MAX('MDA2'!J73,'MDA5'!J73,AI73,T73),AZ73))","v":0},{"$f":"_xlfn.IFS(AND(AU73=0,AV73=0,AW73=0,AX73=0),0,AND(AU73=0,AV73=0,AW73=0,AX73>0),AL73,AND(AU73=0,AV73=0,AW73>0,AX73=0),W73,AND(AU73=0,AV73=0,AW73>0,AX73>0),MAX(W73,AL73),AND(AU73=0,AV73>0,AW73=0,AX73=0),MIN(J73*PROFILE!$G$9,MAX('MDA3'!I73,'MDA3'!L73)),AND(AU73=0,AV73>0,AW73=0,AX73>0),MIN(J73*PROFILE!$G$9,MAX('MDA3'!I73,'MDA3'!L73,AL73)),AND(AU73=0,AV73>0,AW73>0,AX73=0),MIN(J73*PROFILE!$G$9,MAX('MDA3'!I73,'MDA3'!L73,W73)),AND(AU73=0,AV73>0,AW73>0,AX73>0),MIN(J73*PROFILE!$G$9,MAX('MDA3'!I73,'MDA3'!L73,W73,AL73)),AND(AU73>0,AV73=0,AW73=0,AX73=0), MIN(BA73,MAX('MDA1'!K73,'MDA2'!K73,'MDA5'!K73)),AND(AU73>0,AV73=0,AW73=0,AX73>0), MIN(BA73,MAX('MDA1'!K73,'MDA2'!K73,'MDA5'!K73,AL73)),AND(AU73>0,AV73=0,AW73>0,AX73=0),MIN(BA73,MAX('MDA1'!K73,'MDA2'!KL73,'MDA5'!K73,W73)),AND(AU73>0,AV73=0,AW73>0,AX73>0),MIN(BA73,MAX('MDA1'!K73,'MDA2'!K73,'MDA5'!K73,W73,AL73)),AND(AU73>0,AV73>0,AW73=0,AX73=0),MIN(BA73, MAX('MDA1'!K73,'MDA2'!K73, 'MDA5'!K73,MAX('MDA3'!I73,'MDA3'!L73))), AND(AU73>0,AV73>0,AW73=0,AX73>0),MIN(BA73, MAX('MDA1'!K73,'MDA2'!K73, 'MDA5'!K73,MAX('MDA3'!I73,'MDA3'!L73),AL73)), AND(AU73>0,AV73>0,AW73>0,AX73=0), MIN(BA73, MAX('MDA1'!K73,'MDA2'!K73, 'MDA5'!K73,MAX('MDA3'!I73,'MDA3'!L73),W73)), AND(AU73>0,AV73>0,AW73>0,AX73>0), MIN(BA73, MAX('MDA1'!K73,'MDA2'!K73, 'MDA5'!K73,MAX('MDA3'!I73,'MDA3'!L73),W73,AL73)))","v":0},{"$f":"_xlfn.IFS(AND(AU73=0,AV73=0,AW73=0,AX73=0),0,AND(AU73=0,AV73=0,AW73=0,AX73>0),AO73,AND(AU73=0,AV73=0,AW73>0,AX73=0),Z73,AND(AU73=0,AV73=0,AW73>0,AX73>0),MAX(Z73,AO73),AND(AU73=0,AV73>0,AW73=0,AX73=0),MIN(J73*PROFILE!$G$10,MAX('MDA3'!J73,'MDA3'!J73)),AND(AU73=0,AV73>0,AW73=0,AX73>0),MIN(J73*PROFILE!$G$10,MAX('MDA3'!J73,'MDA3'!M73,AO73)),AND(AU73=0,AV73>0,AW73>0,AX73=0),MIN(J73*PROFILE!$G$10,MAX('MDA3'!J73,'MDA3'!M73,Z73)),AND(AU73=0,AV73>0,AW73>0,AX73>0),MIN(J73*PROFILE!$G$10,MAX('MDA3'!J73,'MDA3'!M73,Z73,AO73)),AND(AU73>0,AV73=0,AW73=0,AX73=0), MIN(BB73,MAX('MDA1'!L73,'MDA2'!L73,'MDA5'!L73)),AND(AU73>0,AV73=0,AW73=0,AX73>0), MIN(BB73,MAX('MDA1'!L73,'MDA2'!L73,'MDA5'!L73,AO73)),AND(AU73>0,AV73=0,AW73>0,AX73=0),MIN(BB73,MAX('MDA1'!L73,'MDA2'!L73,'MDA5'!L73,Z73)),AND(AU73>0,AV73=0,AW73>0,AX73>0),MIN(BB73,MAX('MDA1'!L73,'MDA2'!L73,'MDA5'!L73,Z73,AO73)),AND(AU73>0,AV73>0,AW73=0,AX73=0),MIN(BB73, MAX('MDA1'!L73,'MDA2'!L73, 'MDA5'!L73,MAX('MDA3'!J73,'MDA3'!M73))), AND(AU73>0,AV73>0,AW73=0,AX73>0),MIN(BB73, MAX('MDA1'!L73,'MDA2'!L73, 'MDA5'!L73,MAX('MDA3'!J73,'MDA3'!M73),AO73)), AND(AU73>0,AV73>0,AW73>0,AX73=0), MIN(BB73, MAX('MDA1'!L73,'MDA2'!L73, 'MDA5'!L73,MAX('MDA3'!J73,'MDA3'!M73),Z73)), AND(AU73>0,AV73>0,AW73>0,AX73>0), MIN(BB73, MAX('MDA1'!L73,'MDA2'!L73, 'MDA5'!L73,MAX('MDA3'!J73,'MDA3'!M73),Z73,AO73)))","v":0},0,0]
[{"$f":"IF(COUNTRY_INFO!A74=0,\" \",COUNTRY_INFO!A74)","v":"Mali"},{"$f":"IF(COUNTRY_INFO!B74=0,\" \",COUNTRY_INFO!B74)","v":"Tombouctou"},{"$f":"IF(COUNTRY_INFO!C74=0,\" \",COUNTRY_INFO!C74)","v":"Diré"},{"$f":"COUNTRY_INFO!L74","v":0},null,null,{"$f":"MAX('MDA1'!M74,'MDA2'!M74,'MDA5'!M74)","v":0},{"$f":"IF(AND(COUNTRY_INFO!H74>0,COUNTRY_INFO!H74<4),IF(D74>G74,G74,D74),0)","v":0},{"$f":"IF(AND(COUNTRY_INFO!H74>0,COUNTRY_INFO!H74<4), IF(G74/D74*100<>0, IF(G74/D74*100>100,100,G74/D74*100), \"-\"),0)","v":0},{"$f":"COUNTRY_INFO!M74","v":0},null,null,{"$f":"MAX('MDA1'!M74,MAX('MDA3'!I74,'MDA3'!L74)+MAX('MDA3'!J74,'MDA3'!M74))","v":0},{"$f":"IF(AND(COUNTRY_INFO!I74>0,COUNTRY_INFO!I74<4),IF(J74>M74,M74,J74),0)","v":0},{"$f":"IF(AND(COUNTRY_INFO!I74>0,COUNTRY_INFO!I74<4), IF(M74/J74*100<>0, IF(M74/J74*100>100,100,M74/J74*100), \"-\"),0)","v":0},{"$f":"COUNTRY_INFO!Q74","v":"Non requis"},null,null,{"$f":"MAX('MDA2'!J74,'MDA5'!J74,'T1'!K74, MAX(T3_R1!J74,T3_R2!J74,T3_R3!J74))","v":0},{"$f":"IF(AND(COUNTRY_INFO!J74>1,COUNTRY_INFO!J74<99,COUNTRY_INFO!J74<>4,COUNTRY_INFO!J74<>5),IF(COUNTRY_INFO!N74>S74,S74,COUNTRY_INFO!N74),0)","v":0},{"$f":"IF(AND(COUNTRY_INFO!J74>1,COUNTRY_INFO!J74<99,COUNTRY_INFO!J74<>4,COUNTRY_INFO!J74<>5), IF(T74/COUNTRY_INFO!N74*100<>0, IF(T74/COUNTRY_INFO!N74*100>100,100,T74/COUNTRY_INFO!N74*100), \"-\"),0)","v":0},{"$f":"MAX('MDA1'!K74, 'MDA2'!K74, 'MDA5'!K74,'T1'!L74, MAX(T3_R1!K74,T3_R2!K74,T3_R3!K74))","v":0},{"$f":"IF(AND(COUNTRY_INFO!J74>1,COUNTRY_INFO!J74<99,COUNTRY_INFO!J74<>4,COUNTRY_INFO!J74<>5),IF(COUNTRY_INFO!O74>V74,V74,COUNTRY_INFO!O74),0)","v":0},{"$f":"IF(AND(COUNTRY_INFO!J74>1,COUNTRY_INFO!J74<99,COUNTRY_INFO!J74<>4,COUNTRY_INFO!J74<>5), IF(W74/COUNTRY_INFO!O74*100<>0, IF(W74/COUNTRY_INFO!O74*100>100,100,W74/COUNTRY_INFO!O74*100), \"-\"),0)","v":0},{"$f":"MAX('MDA1'!L74, 'MDA2'!L74, 'MDA5'!L74,'T1'!M74, MAX(T3_R1!L74,T3_R2!L74,T3_R3!L74))","v":0},{"$f":"IF(AND(COUNTRY_INFO!J74>1,COUNTRY_INFO!J74<99,COUNTRY_INFO!J74<>4,COUNTRY_INFO!J74<>5),IF(COUNTRY_INFO!P74>Y74,Y74,COUNTRY_INFO!P74),0)","v":0},{"$f":"IF(AND(COUNTRY_INFO!J74>1,COUNTRY_INFO!J74<99,COUNTRY_INFO!J74<>4,COUNTRY_INFO!J74<>5), IF(Z74/COUNTRY_INFO!P74*100<>0, IF(Z74/COUNTRY_INFO!P74*100>100,100,Z74/COUNTRY_INFO!P74*100), \"-\"),0)","v":0},0,0,{"$f":"IF(AND(COUNTRY_INFO!J74>1,COUNTRY_INFO!J74<99,COUNTRY_INFO!J74<>4,COUNTRY_INFO!J74<>5), IF(AC74/P74*100<>0, IF(AC74/P74*100>100,100,AC74/P74*100), \"-\"),0)","v":0},{"$f":"COUNTRY_INFO!U74","v":161012},null,null,{"$f":"MAX('T1'!K74,'T2'!R74)","v":0},{"$f":"IF(AND(COUNTRY_INFO!K74>1,COUNTRY_INFO!K74<99,COUNTRY_INFO!K74<>4,COUNTRY_INFO!K74<>5),IF(COUNTRY_INFO!R74>AH74,AH74,COUNTRY_INFO!R74),0)","v":0},{"$f":"IF(AND(COUNTRY_INFO!K74>1,COUNTRY_INFO!K74<99,COUNTRY_INFO!K74<>4,COUNTRY_INFO!K74<>5), IF(AI74/COUNTRY_INFO!R74*100<>0, IF(AI74/COUNTRY_INFO!R74*100>100,100,AI74/COUNTRY_INFO!R74*100), \"-\"),0)","v":"-"},{"$f":"MAX('T1'!L74,'T2'!S74)","v":3170},{"$f":"IF(AND(COUNTRY_INFO!K74>1,COUNTRY_INFO!K74<99,COUNTRY_INFO!K74<>4,COUNTRY_INFO!K74<>5),IF(COUNTRY_INFO!S74>AK74,AK74,COUNTRY_INFO!S74),0)","v":3170},{"$f":"IF(AND(COUNTRY_INFO!K74>1,COUNTRY_INFO!K74<99,COUNTRY_INFO!K74<>4,COUNTRY_INFO!K74<>5), IF(AL74/COUNTRY_INFO!S74*100<>0, IF(AL74/COUNTRY_INFO!S74*100>100,100,AL74/COUNTRY_INFO!S74*100), \"-\"),0)","v":6.2574022897749701},{"$f":"MAX('T1'!M74,'T2'!T74)","v":0},{"$f":"IF(AND(COUNTRY_INFO!K74>1,COUNTRY_INFO!K74<99,COUNTRY_INFO!K74<>4,COUNTRY_INFO!K74<>5),IF(COUNTRY_INFO!T74>AN74,AN74,COUNTRY_INFO!T74),0)","v":0},{"$f":"IF(AND(COUNTRY_INFO!K74>1,COUNTRY_INFO!K74<99,COUNTRY_INFO!K74<>4,COUNTRY_INFO!K74<>5), IF(AO74/COUNTRY_INFO!T74*100<>0, IF(AO74/COUNTRY_INFO!T74*100>100,100,AO74/COUNTRY_INFO!T74*100), \"-\"),0)","v":"-"},3170,3170,{"$f":"IF(AND(COUNTRY_INFO!K74>1,COUNTRY_INFO!K74<99,COUNTRY_INFO!K74<>4,COUNTRY_INFO!K74<>5), IF(AR74/AE74*100<>0, IF(AR74/AE74*100>100,100,AR74/AE74*100), \"-\"),0)","v":1.9687973567187538},null,{"$f":"IF(AND(D74<>0, D74<>\"Inconnu\",D74<>\"Interrompu\",D74<>\"Non requis\"),D74/COUNTRY_INFO!D74, 0)","v":0},{"$f":"IF(AND(J74<>0,J74<>\"Inconnu\",J74<>\"Interrompu\",J74<>\"Non requis\"),J74/COUNTRY_INFO!D74, 0)","v":0},{"$f":"IF(AND(P74<>0,P74<>\"Inconnu\",P74<>\"Surveillance\",P74<>\"Non requis\"),P74/COUNTRY_INFO!Q74, 0)","v":0},{"$f":"IF(AND(AE74<>0,AE74<>\"Inconnu\",AE74<>\"Surveillance\",AE74<>\"Non requis\"),AE74/COUNTRY_INFO!U74, 0)","v":1},{"$f":"IF(AU74>0,D74*PROFILE!$G$7,IF(AV74>0,J74*PROFILE!$G$7,0))","v":0},{"$f":"_xlfn.IFS(OR(AU74>0,AW74>0),COUNTRY_INFO!E74, AV74>0,J74*PROFILE!$G$8,AX74>0,COUNTRY_INFO!R74,COUNTIFS(AU74:AX74,\">0\")=0,0)","v":18807},{"$f":"_xlfn.IFS(OR(AU74>0,AW74>0),COUNTRY_INFO!F74, AV74>0,J74*PROFILE!$G$9,AX74>0,COUNTRY_INFO!S74,COUNTIFS(AU74:AX74,\">0\")=0,0)","v":50660},{"$f":"_xlfn.IFS(AU74>0,COUNTRY_INFO!G74, AND(AV74>0,AW74=0,AX74=0),J74*PROFILE!$G$10,AND(AV74>0,AW74>0,AX74=0), MAX(J74*PROFILE!$G$10,COUNTRY_INFO!P74),AND(AV74>0,AW74=0,AX74>0), MAX(J74*PROFILE!$G$10,COUNTRY_INFO!T74),AND(AV74=0,AW74>0,AX74>0), MAX(COUNTRY_INFO!P74,COUNTRY_INFO!T74),AND(AV74=0,AW74>0,AX74=0),COUNTRY_INFO!P74,AND(AV74=0,AW74=0,AX74>0),COUNTRY_INFO!T74,AND(AV74>0,AW74>0,AX74>0), MAX(J74*PROFILE!$G$10,COUNTRY_INFO!P74,COUNTRY_INFO!T74),COUNTIFS(AU74:AX74,\">0\")=0,0)","v":91545},161012,{"$f":"IF(COUNTIFS(AU74:AX74,\">0\")=0,0, IF(COUNTIFS(AU74:AX74,\">0\")<=IF(AND(OR(D74>=0,D74=\"Non requis\",D74=\"Inconnu\",D74=\"Interrompu\"),D74>0,H74>0),1,0)+IF(AND(OR(J74>=0,J74=\"Non requis\",J74=\"Inconnu\",J74=\"Interrompu\"),J74>0,N74>0),1,0)+IF(AND(OR(P74>=0,P74=\"Non requis\",P74=\"Surveillance\",P74=\"Inconnu\"),P74>0,AC74>0),1,0)+IF(AND(OR(AE74>=0,AE74=\"Non requis\",AE74=\"Surveillance\",AE74=\"Inconnu\"),AE74>0,AR74>0),1,0),\"Y\",0))","v":"Y"},{"$f":"MAX('MDA2'!J74,'MDA5'!J74,S74,AH74)","v":0},{"$f":"MAX('MDA1'!K74,'MDA2'!K74,'MDA3'!I74,'MDA3'!L74,'MDA5'!K74,V74,AK74)","v":3170},{"$f":"MAX('MDA1'!L74,'MDA2'!L74,'MDA3'!J74,'MDA3'!M74,'MDA5'!L74,Y74,AN74)","v":0},3170,{"$f":"_xlfn.IFS(AND(AU74=0,AW74=0,AX74=0),0,AND(AU74=0,AW74=0,AX74>0),AI74,AND(AU74=0,AW74>0,AX74=0),T74,AND(AU74=0,AW74>0,AX74>0),MAX(T74,AI74),AND(AU74>0,AW74=0,AX74=0),MIN(MAX('MDA2'!J74,'MDA5'!J74),AZ74),AND(AU74>0,AW74=0,AX74>0),MIN(MAX('MDA2'!J74,'MDA5'!J74,AI74),AZ74),AND(AU74>0,AW74>0,AX74=0),MIN(MAX('MDA2'!J74,'MDA5'!J74,T74),AZ74),AND(AU74>0,AW74>0,AX74>0),MIN(MAX('MDA2'!J74,'MDA5'!J74,AI74,T74),AZ74))","v":0},{"$f":"_xlfn.IFS(AND(AU74=0,AV74=0,AW74=0,AX74=0),0,AND(AU74=0,AV74=0,AW74=0,AX74>0),AL74,AND(AU74=0,AV74=0,AW74>0,AX74=0),W74,AND(AU74=0,AV74=0,AW74>0,AX74>0),MAX(W74,AL74),AND(AU74=0,AV74>0,AW74=0,AX74=0),MIN(J74*PROFILE!$G$9,MAX('MDA3'!I74,'MDA3'!L74)),AND(AU74=0,AV74>0,AW74=0,AX74>0),MIN(J74*PROFILE!$G$9,MAX('MDA3'!I74,'MDA3'!L74,AL74)),AND(AU74=0,AV74>0,AW74>0,AX74=0),MIN(J74*PROFILE!$G$9,MAX('MDA3'!I74,'MDA3'!L74,W74)),AND(AU74=0,AV74>0,AW74>0,AX74>0),MIN(J74*PROFILE!$G$9,MAX('MDA3'!I74,'MDA3'!L74,W74,AL74)),AND(AU74>0,AV74=0,AW74=0,AX74=0), MIN(BA74,MAX('MDA1'!K74,'MDA2'!K74,'MDA5'!K74)),AND(AU74>0,AV74=0,AW74=0,AX74>0), MIN(BA74,MAX('MDA1'!K74,'MDA2'!K74,'MDA5'!K74,AL74)),AND(AU74>0,AV74=0,AW74>0,AX74=0),MIN(BA74,MAX('MDA1'!K74,'MDA2'!KL74,'MDA5'!K74,W74)),AND(AU74>0,AV74=0,AW74>0,AX74>0),MIN(BA74,MAX('MDA1'!K74,'MDA2'!K74,'MDA5'!K74,W74,AL74)),AND(AU74>0,AV74>0,AW74=0,AX74=0),MIN(BA74, MAX('MDA1'!K74,'MDA2'!K74, 'MDA5'!K74,MAX('MDA3'!I74,'MDA3'!L74))), AND(AU74>0,AV74>0,AW74=0,AX74>0),MIN(BA74, MAX('MDA1'!K74,'MDA2'!K74, 'MDA5'!K74,MAX('MDA3'!I74,'MDA3'!L74),AL74)), AND(AU74>0,AV74>0,AW74>0,AX74=0), MIN(BA74, MAX('MDA1'!K74,'MDA2'!K74, 'MDA5'!K74,MAX('MDA3'!I74,'MDA3'!L74),W74)), AND(AU74>0,AV74>0,AW74>0,AX74>0), MIN(BA74, MAX('MDA1'!K74,'MDA2'!K74, 'MDA5'!K74,MAX('MDA3'!I74,'MDA3'!L74),W74,AL74)))","v":3170},{"$f":"_xlfn.IFS(AND(AU74=0,AV74=0,AW74=0,AX74=0),0,AND(AU74=0,AV74=0,AW74=0,AX74>0),AO74,AND(AU74=0,AV74=0,AW74>0,AX74=0),Z74,AND(AU74=0,AV74=0,AW74>0,AX74>0),MAX(Z74,AO74),AND(AU74=0,AV74>0,AW74=0,AX74=0),MIN(J74*PROFILE!$G$10,MAX('MDA3'!J74,'MDA3'!J74)),AND(AU74=0,AV74>0,AW74=0,AX74>0),MIN(J74*PROFILE!$G$10,MAX('MDA3'!J74,'MDA3'!M74,AO74)),AND(AU74=0,AV74>0,AW74>0,AX74=0),MIN(J74*PROFILE!$G$10,MAX('MDA3'!J74,'MDA3'!M74,Z74)),AND(AU74=0,AV74>0,AW74>0,AX74>0),MIN(J74*PROFILE!$G$10,MAX('MDA3'!J74,'MDA3'!M74,Z74,AO74)),AND(AU74>0,AV74=0,AW74=0,AX74=0), MIN(BB74,MAX('MDA1'!L74,'MDA2'!L74,'MDA5'!L74)),AND(AU74>0,AV74=0,AW74=0,AX74>0), MIN(BB74,MAX('MDA1'!L74,'MDA2'!L74,'MDA5'!L74,AO74)),AND(AU74>0,AV74=0,AW74>0,AX74=0),MIN(BB74,MAX('MDA1'!L74,'MDA2'!L74,'MDA5'!L74,Z74)),AND(AU74>0,AV74=0,AW74>0,AX74>0),MIN(BB74,MAX('MDA1'!L74,'MDA2'!L74,'MDA5'!L74,Z74,AO74)),AND(AU74>0,AV74>0,AW74=0,AX74=0),MIN(BB74, MAX('MDA1'!L74,'MDA2'!L74, 'MDA5'!L74,MAX('MDA3'!J74,'MDA3'!M74))), AND(AU74>0,AV74>0,AW74=0,AX74>0),MIN(BB74, MAX('MDA1'!L74,'MDA2'!L74, 'MDA5'!L74,MAX('MDA3'!J74,'MDA3'!M74),AO74)), AND(AU74>0,AV74>0,AW74>0,AX74=0), MIN(BB74, MAX('MDA1'!L74,'MDA2'!L74, 'MDA5'!L74,MAX('MDA3'!J74,'MDA3'!M74),Z74)), AND(AU74>0,AV74>0,AW74>0,AX74>0), MIN(BB74, MAX('MDA1'!L74,'MDA2'!L74, 'MDA5'!L74,MAX('MDA3'!J74,'MDA3'!M74),Z74,AO74)))","v":0},3170,1.9687973567187538]
[{"$f":"IF(COUNTRY_INFO!A75=0,\" \",COUNTRY_INFO!A75)","v":"Mali"},{"$f":"IF(COUNTRY_INFO!B75=0,\" \",COUNTRY_INFO!B75)","v":"Tombouctou"},{"$f":"IF(COUNTRY_INFO!C75=0,\" \",COUNTRY_INFO!C75)","v":"Goundam"},{"$f":"COUNTRY_INFO!L75","v":0},null,null,{"$f":"MAX('MDA1'!M75,'MDA2'!M75,'MDA5'!M75)","v":0},{"$f":"IF(AND(COUNTRY_INFO!H75>0,COUNTRY_INFO!H75<4),IF(D75>G75,G75,D75),0)","v":0},{"$f":"IF(AND(COUNTRY_INFO!H75>0,COUNTRY_INFO!H75<4), IF(G75/D75*100<>0, IF(G75/D75*100>100,100,G75/D75*100), \"-\"),0)","v":0},{"$f":"COUNTRY_INFO!M75","v":0},null,null,{"$f":"MAX('MDA1'!M75,MAX('MDA3'!I75,'MDA3'!L75)+MAX('MDA3'!J75,'MDA3'!M75))","v":0},{"$f":"IF(AND(COUNTRY_INFO!I75>0,COUNTRY_INFO!I75<4),IF(J75>M75,M75,J75),0)","v":0},{"$f":"IF(AND(COUNTRY_INFO!I75>0,COUNTRY_INFO!I75<4), IF(M75/J75*100<>0, IF(M75/J75*100>100,100,M75/J75*100), \"-\"),0)","v":0},{"$f":"COUNTRY_INFO!Q75","v":"Non requis"},null,null,{"$f":"MAX('MDA2'!J75,'MDA5'!J75,'T1'!K75, MAX(T3_R1!J75,T3_R2!J75,T3_R3!J75))","v":0},{"$f":"IF(AND(COUNTRY_INFO!J75>1,COUNTRY_INFO!J75<99,COUNTRY_INFO!J75<>4,COUNTRY_INFO!J75<>5),IF(COUNTRY_INFO!N75>S75,S75,COUNTRY_INFO!N75),0)","v":0},{"$f":"IF(AND(COUNTRY_INFO!J75>1,COUNTRY_INFO!J75<99,COUNTRY_INFO!J75<>4,COUNTRY_INFO!J75<>5), IF(T75/COUNTRY_INFO!N75*100<>0, IF(T75/COUNTRY_INFO!N75*100>100,100,T75/COUNTRY_INFO!N75*100), \"-\"),0)","v":0},{"$f":"MAX('MDA1'!K75, 'MDA2'!K75, 'MDA5'!K75,'T1'!L75, MAX(T3_R1!K75,T3_R2!K75,T3_R3!K75))","v":0},{"$f":"IF(AND(COUNTRY_INFO!J75>1,COUNTRY_INFO!J75<99,COUNTRY_INFO!J75<>4,COUNTRY_INFO!J75<>5),IF(COUNTRY_INFO!O75>V75,V75,COUNTRY_INFO!O75),0)","v":0},{"$f":"IF(AND(COUNTRY_INFO!J75>1,COUNTRY_INFO!J75<99,COUNTRY_INFO!J75<>4,COUNTRY_INFO!J75<>5), IF(W75/COUNTRY_INFO!O75*100<>0, IF(W75/COUNTRY_INFO!O75*100>100,100,W75/COUNTRY_INFO!O75*100), \"-\"),0)","v":0},{"$f":"MAX('MDA1'!L75, 'MDA2'!L75, 'MDA5'!L75,'T1'!M75, MAX(T3_R1!L75,T3_R2!L75,T3_R3!L75))","v":0},{"$f":"IF(AND(COUNTRY_INFO!J75>1,COUNTRY_INFO!J75<99,COUNTRY_INFO!J75<>4,COUNTRY_INFO!J75<>5),IF(COUNTRY_INFO!P75>Y75,Y75,COUNTRY_INFO!P75),0)","v":0},{"$f":"IF(AND(COUNTRY_INFO!J75>1,COUNTRY_INFO!J75<99,COUNTRY_INFO!J75<>4,COUNTRY_INFO!J75<>5), IF(Z75/COUNTRY_INFO!P75*100<>0, IF(Z75/COUNTRY_INFO!P75*100>100,100,Z75/COUNTRY_INFO!P75*100), \"-\"),0)","v":0},{"$f":"SUM(S75,V75,Y75)","v":0},{"$f":"SUM(T75,W75,Z75)","v":0},{"$f":"IF(AND(COUNTRY_INFO!J75>1,COUNTRY_INFO!J75<99,COUNTRY_INFO!J75<>4,COUNTRY_INFO!J75<>5), IF(AC75/P75*100<>0, IF(AC75/P75*100>100,100,AC75/P75*100), \"-\"),0)","v":0},{"$f":"COUNTRY_INFO!U75","v":202016},null,null,{"$f":"MAX('T1'!K75,'T2'!R75)","v":0},{"$f":"IF(AND(COUNTRY_INFO!K75>1,COUNTRY_INFO!K75<99,COUNTRY_INFO!K75<>4,COUNTRY_INFO!K75<>5),IF(COUNTRY_INFO!R75>AH75,AH75,COUNTRY_INFO!R75),0)","v":0},{"$f":"IF(AND(COUNTRY_INFO!K75>1,COUNTRY_INFO!K75<99,COUNTRY_INFO!K75<>4,COUNTRY_INFO!K75<>5), IF(AI75/COUNTRY_INFO!R75*100<>0, IF(AI75/COUNTRY_INFO!R75*100>100,100,AI75/COUNTRY_INFO!R75*100), \"-\"),0)","v":"-"},{"$f":"MAX('T1'!L75,'T2'!S75)","v":4503},{"$f":"IF(AND(COUNTRY_INFO!K75>1,COUNTRY_INFO!K75<99,COUNTRY_INFO!K75<>4,COUNTRY_INFO!K75<>5),IF(COUNTRY_INFO!S75>AK75,AK75,COUNTRY_INFO!S75),0)","v":4503},{"$f":"IF(AND(COUNTRY_INFO!K75>1,COUNTRY_INFO!K75<99,COUNTRY_INFO!K75<>4,COUNTRY_INFO!K75<>5), IF(AL75/COUNTRY_INFO!S75*100<>0, IF(AL75/COUNTRY_INFO!S75*100>100,100,AL75/COUNTRY_INFO!S75*100), \"-\"),0)","v":7.0844215097070578},{"$f":"MAX('T1'!M75,'T2'!T75)","v":294},{"$f":"IF(AND(COUNTRY_INFO!K75>1,COUNTRY_INFO!K75<99,COUNTRY_INFO!K75<>4,COUNTRY_INFO!K75<>5),IF(COUNTRY_INFO!T75>AN75,AN75,COUNTRY_INFO!T75),0)","v":294},{"$f":"IF(AND(COUNTRY_INFO!K75>1,COUNTRY_INFO!K75<99,COUNTRY_INFO!K75<>4,COUNTRY_INFO!K75<>5), IF(AO75/COUNTRY_INFO!T75*100<>0, IF(AO75/COUNTRY_INFO!T75*100>100,100,AO75/COUNTRY_INFO!T75*100), \"-\"),0)","v":0.2559660104998302},{"$f":"SUM(AH75,AK75,AN75)","v":4797},{"$f":"SUM(AI75,AL75,AO75)","v":4797},{"$f":"IF(AND(COUNTRY_INFO!K75>1,COUNTRY_INFO!K75<99,COUNTRY_INFO!K75<>4,COUNTRY_INFO!K75<>5), IF(AR75/AE75*100<>0, IF(AR75/AE75*100>100,100,AR75/AE75*100), \"-\"),0)","v":2.3745643909393315},null,{"$f":"IF(AND(D75<>0, D75<>\"Inconnu\",D75<>\"Interrompu\",D75<>\"Non requis\"),D75/COUNTRY_INFO!D75, 0)","v":0},{"$f":"IF(AND(J75<>0,J75<>\"Inconnu\",J75<>\"Interrompu\",J75<>\"Non requis\"),J75/COUNTRY_INFO!D75, 0)","v":0},{"$f":"IF(AND(P75<>0,P75<>\"Inconnu\",P75<>\"Surveillance\",P75<>\"Non requis\"),P75/COUNTRY_INFO!Q75, 0)","v":0},{"$f":"IF(AND(AE75<>0,AE75<>\"Inconnu\",AE75<>\"Surveillance\",AE75<>\"Non requis\"),AE75/COUNTRY_INFO!U75, 0)","v":1},{"$f":"IF(AU75>0,D75*PROFILE!$G$7,IF(AV75>0,J75*PROFILE!$G$7,0))","v":0},{"$f":"_xlfn.IFS(OR(AU75>0,AW75>0),COUNTRY_INFO!E75, AV75>0,J75*PROFILE!$G$8,AX75>0,COUNTRY_INFO!R75,COUNTIFS(AU75:AX75,\">0\")=0,0)","v":23595},{"$f":"_xlfn.IFS(OR(AU75>0,AW75>0),COUNTRY_INFO!F75, AV75>0,J75*PROFILE!$G$9,AX75>0,COUNTRY_INFO!S75,COUNTIFS(AU75:AX75,\">0\")=0,0)","v":63562},{"$f":"_xlfn.IFS(AU75>0,COUNTRY_INFO!G75, AND(AV75>0,AW75=0,AX75=0),J75*PROFILE!$G$10,AND(AV75>0,AW75>0,AX75=0), MAX(J75*PROFILE!$G$10,COUNTRY_INFO!P75),AND(AV75>0,AW75=0,AX75>0), MAX(J75*PROFILE!$G$10,COUNTRY_INFO!T75),AND(AV75=0,AW75>0,AX75>0), MAX(COUNTRY_INFO!P75,COUNTRY_INFO!T75),AND(AV75=0,AW75>0,AX75=0),COUNTRY_INFO!P75,AND(AV75=0,AW75=0,AX75>0),COUNTRY_INFO!T75,AND(AV75>0,AW75>0,AX75>0), MAX(J75*PROFILE!$G$10,COUNTRY_INFO!P75,COUNTRY_INFO!T75),COUNTIFS(AU75:AX75,\">0\")=0,0)","v":114859},{"$f":"SUM(AY75:BB75)","v":202016},"Y",{"$f":"MAX('MDA2'!J75,'MDA5'!J75,S75,AH75)","v":0},{"$f":"MAX('MDA1'!K75,'MDA2'!K75,'MDA3'!I75,'MDA3'!L75,'MDA5'!K75,V75,AK75)","v":4503},{"$f":"MAX('MDA1'!L75,'MDA2'!L75,'MDA3'!J75,'MDA3'!M75,'MDA5'!L75,Y75,AN75)","v":294},{"$f":"SUM(BE75:BG75)","v":4797},{"$f":"_xlfn.IFS(AND(AU75=0,AW75=0,AX75=0),0,AND(AU75=0,AW75=0,AX75>0),AI75,AND(AU75=0,AW75>0,AX75=0),T75,AND(AU75=0,AW75>0,AX75>0),MAX(T75,AI75),AND(AU75>0,AW75=0,AX75=0),MIN(MAX('MDA2'!J75,'MDA5'!J75),AZ75),AND(AU75>0,AW75=0,AX75>0),MIN(MAX('MDA2'!J75,'MDA5'!J75,AI75),AZ75),AND(AU75>0,AW75>0,AX75=0),MIN(MAX('MDA2'!J75,'MDA5'!J75,T75),AZ75),AND(AU75>0,AW75>0,AX75>0),MIN(MAX('MDA2'!J75,'MDA5'!J75,AI75,T75),AZ75))","v":0},{"$f":"_xlfn.IFS(AND(AU75=0,AV75=0,AW75=0,AX75=0),0,AND(AU75=0,AV75=0,AW75=0,AX75>0),AL75,AND(AU75=0,AV75=0,AW75>0,AX75=0),W75,AND(AU75=0,AV75=0,AW75>0,AX75>0),MAX(W75,AL75),AND(AU75=0,AV75>0,AW75=0,AX75=0),MIN(J75*PROFILE!$G$9,MAX('MDA3'!I75,'MDA3'!L75)),AND(AU75=0,AV75>0,AW75=0,AX75>0),MIN(J75*PROFILE!$G$9,MAX('MDA3'!I75,'MDA3'!L75,AL75)),AND(AU75=0,AV75>0,AW75>0,AX75=0),MIN(J75*PROFILE!$G$9,MAX('MDA3'!I75,'MDA3'!L75,W75)),AND(AU75=0,AV75>0,AW75>0,AX75>0),MIN(J75*PROFILE!$G$9,MAX('MDA3'!I75,'MDA3'!L75,W75,AL75)),AND(AU75>0,AV75=0,AW75=0,AX75=0), MIN(BA75,MAX('MDA1'!K75,'MDA2'!K75,'MDA5'!K75)),AND(AU75>0,AV75=0,AW75=0,AX75>0), MIN(BA75,MAX('MDA1'!K75,'MDA2'!K75,'MDA5'!K75,AL75)),AND(AU75>0,AV75=0,AW75>0,AX75=0),MIN(BA75,MAX('MDA1'!K75,'MDA2'!KL75,'MDA5'!K75,W75)),AND(AU75>0,AV75=0,AW75>0,AX75>0),MIN(BA75,MAX('MDA1'!K75,'MDA2'!K75,'MDA5'!K75,W75,AL75)),AND(AU75>0,AV75>0,AW75=0,AX75=0),MIN(BA75, MAX('MDA1'!K75,'MDA2'!K75, 'MDA5'!K75,MAX('MDA3'!I75,'MDA3'!L75))), AND(AU75>0,AV75>0,AW75=0,AX75>0),MIN(BA75, MAX('MDA1'!K75,'MDA2'!K75, 'MDA5'!K75,MAX('MDA3'!I75,'MDA3'!L75),AL75)), AND(AU75>0,AV75>0,AW75>0,AX75=0), MIN(BA75, MAX('MDA1'!K75,'MDA2'!K75, 'MDA5'!K75,MAX('MDA3'!I75,'MDA3'!L75),W75)), AND(AU75>0,AV75>0,AW75>0,AX75>0), MIN(BA75, MAX('MDA1'!K75,'MDA2'!K75, 'MDA5'!K75,MAX('MDA3'!I75,'MDA3'!L75),W75,AL75)))","v":4503},{"$f":"_xlfn.IFS(AND(AU75=0,AV75=0,AW75=0,AX75=0),0,AND(AU75=0,AV75=0,AW75=0,AX75>0),AO75,AND(AU75=0,AV75=0,AW75>0,AX75=0),Z75,AND(AU75=0,AV75=0,AW75>0,AX75>0),MAX(Z75,AO75),AND(AU75=0,AV75>0,AW75=0,AX75=0),MIN(J75*PROFILE!$G$10,MAX('MDA3'!J75,'MDA3'!J75)),AND(AU75=0,AV75>0,AW75=0,AX75>0),MIN(J75*PROFILE!$G$10,MAX('MDA3'!J75,'MDA3'!M75,AO75)),AND(AU75=0,AV75>0,AW75>0,AX75=0),MIN(J75*PROFILE!$G$10,MAX('MDA3'!J75,'MDA3'!M75,Z75)),AND(AU75=0,AV75>0,AW75>0,AX75>0),MIN(J75*PROFILE!$G$10,MAX('MDA3'!J75,'MDA3'!M75,Z75,AO75)),AND(AU75>0,AV75=0,AW75=0,AX75=0), MIN(BB75,MAX('MDA1'!L75,'MDA2'!L75,'MDA5'!L75)),AND(AU75>0,AV75=0,AW75=0,AX75>0), MIN(BB75,MAX('MDA1'!L75,'MDA2'!L75,'MDA5'!L75,AO75)),AND(AU75>0,AV75=0,AW75>0,AX75=0),MIN(BB75,MAX('MDA1'!L75,'MDA2'!L75,'MDA5'!L75,Z75)),AND(AU75>0,AV75=0,AW75>0,AX75>0),MIN(BB75,MAX('MDA1'!L75,'MDA2'!L75,'MDA5'!L75,Z75,AO75)),AND(AU75>0,AV75>0,AW75=0,AX75=0),MIN(BB75, MAX('MDA1'!L75,'MDA2'!L75, 'MDA5'!L75,MAX('MDA3'!J75,'MDA3'!M75))), AND(AU75>0,AV75>0,AW75=0,AX75>0),MIN(BB75, MAX('MDA1'!L75,'MDA2'!L75, 'MDA5'!L75,MAX('MDA3'!J75,'MDA3'!M75),AO75)), AND(AU75>0,AV75>0,AW75>0,AX75=0), MIN(BB75, MAX('MDA1'!L75,'MDA2'!L75, 'MDA5'!L75,MAX('MDA3'!J75,'MDA3'!M75),Z75)), AND(AU75>0,AV75>0,AW75>0,AX75>0), MIN(BB75, MAX('MDA1'!L75,'MDA2'!L75, 'MDA5'!L75,MAX('MDA3'!J75,'MDA3'!M75),Z75,AO75)))","v":294},{"$f":"SUM(BI75:BK75)","v":4797},{"$f":"IF(BC75<>0,BL75/BC75*100,0)","v":2.3745643909393315}]
[{"$f":"IF(COUNTRY_INFO!A76=0,\" \",COUNTRY_INFO!A76)","v":"Mali"},{"$f":"IF(COUNTRY_INFO!B76=0,\" \",COUNTRY_INFO!B76)","v":"Tombouctou"},{"$f":"IF(COUNTRY_INFO!C76=0,\" \",COUNTRY_INFO!C76)","v":"Gourma-Rharous"},{"$f":"COUNTRY_INFO!L76","v":0},null,null,{"$f":"MAX('MDA1'!M76,'MDA2'!M76,'MDA5'!M76)","v":0},{"$f":"IF(AND(COUNTRY_INFO!H76>0,COUNTRY_INFO!H76<4),IF(D76>G76,G76,D76),0)","v":0},{"$f":"IF(AND(COUNTRY_INFO!H76>0,COUNTRY_INFO!H76<4), IF(G76/D76*100<>0, IF(G76/D76*100>100,100,G76/D76*100), \"-\"),0)","v":0},{"$f":"COUNTRY_INFO!M76","v":0},null,null,{"$f":"MAX('MDA1'!M76,MAX('MDA3'!I76,'MDA3'!L76)+MAX('MDA3'!J76,'MDA3'!M76))","v":0},{"$f":"IF(AND(COUNTRY_INFO!I76>0,COUNTRY_INFO!I76<4),IF(J76>M76,M76,J76),0)","v":0},{"$f":"IF(AND(COUNTRY_INFO!I76>0,COUNTRY_INFO!I76<4), IF(M76/J76*100<>0, IF(M76/J76*100>100,100,M76/J76*100), \"-\"),0)","v":0},{"$f":"COUNTRY_INFO!Q76","v":"Non requis"},null,null,{"$f":"MAX('MDA2'!J76,'MDA5'!J76,'T1'!K76, MAX(T3_R1!J76,T3_R2!J76,T3_R3!J76))","v":0},{"$f":"IF(AND(COUNTRY_INFO!J76>1,COUNTRY_INFO!J76<99,COUNTRY_INFO!J76<>4,COUNTRY_INFO!J76<>5),IF(COUNTRY_INFO!N76>S76,S76,COUNTRY_INFO!N76),0)","v":0},{"$f":"IF(AND(COUNTRY_INFO!J76>1,COUNTRY_INFO!J76<99,COUNTRY_INFO!J76<>4,COUNTRY_INFO!J76<>5), IF(T76/COUNTRY_INFO!N76*100<>0, IF(T76/COUNTRY_INFO!N76*100>100,100,T76/COUNTRY_INFO!N76*100), \"-\"),0)","v":0},{"$f":"MAX('MDA1'!K76, 'MDA2'!K76, 'MDA5'!K76,'T1'!L76, MAX(T3_R1!K76,T3_R2!K76,T3_R3!K76))","v":0},{"$f":"IF(AND(COUNTRY_INFO!J76>1,COUNTRY_INFO!J76<99,COUNTRY_INFO!J76<>4,COUNTRY_INFO!J76<>5),IF(COUNTRY_INFO!O76>V76,V76,COUNTRY_INFO!O76),0)","v":0},{"$f":"IF(AND(COUNTRY_INFO!J76>1,COUNTRY_INFO!J76<99,COUNTRY_INFO!J76<>4,COUNTRY_INFO!J76<>5), IF(W76/COUNTRY_INFO!O76*100<>0, IF(W76/COUNTRY_INFO!O76*100>100,100,W76/COUNTRY_INFO!O76*100), \"-\"),0)","v":0},{"$f":"MAX('MDA1'!L76, 'MDA2'!L76, 'MDA5'!L76,'T1'!M76, MAX(T3_R1!L76,T3_R2!L76,T3_R3!L76))","v":0},{"$f":"IF(AND(COUNTRY_INFO!J76>1,COUNTRY_INFO!J76<99,COUNTRY_INFO!J76<>4,COUNTRY_INFO!J76<>5),IF(COUNTRY_INFO!P76>Y76,Y76,COUNTRY_INFO!P76),0)","v":0},{"$f":"IF(AND(COUNTRY_INFO!J76>1,COUNTRY_INFO!J76<99,COUNTRY_INFO!J76<>4,COUNTRY_INFO!J76<>5), IF(Z76/COUNTRY_INFO!P76*100<>0, IF(Z76/COUNTRY_INFO!P76*100>100,100,Z76/COUNTRY_INFO!P76*100), \"-\"),0)","v":0},0,0,{"$f":"IF(AND(COUNTRY_INFO!J76>1,COUNTRY_INFO!J76<99,COUNTRY_INFO!J76<>4,COUNTRY_INFO!J76<>5), IF(AC76/P76*100<>0, IF(AC76/P76*100>100,100,AC76/P76*100), \"-\"),0)","v":0},{"$f":"COUNTRY_INFO!U76","v":148314},null,null,{"$f":"MAX('T1'!K76,'T2'!R76)","v":0},{"$f":"IF(AND(COUNTRY_INFO!K76>1,COUNTRY_INFO!K76<99,COUNTRY_INFO!K76<>4,COUNTRY_INFO!K76<>5),IF(COUNTRY_INFO!R76>AH76,AH76,COUNTRY_INFO!R76),0)","v":0},{"$f":"IF(AND(COUNTRY_INFO!K76>1,COUNTRY_INFO!K76<99,COUNTRY_INFO!K76<>4,COUNTRY_INFO!K76<>5), IF(AI76/COUNTRY_INFO!R76*100<>0, IF(AI76/COUNTRY_INFO!R76*100>100,100,AI76/COUNTRY_INFO!R76*100), \"-\"),0)","v":"-"},{"$f":"MAX('T1'!L76,'T2'!S76)","v":37449},{"$f":"IF(AND(COUNTRY_INFO!K76>1,COUNTRY_INFO!K76<99,COUNTRY_INFO!K76<>4,COUNTRY_INFO!K76<>5),IF(COUNTRY_INFO!S76>AK76,AK76,COUNTRY_INFO!S76),0)","v":37449},{"$f":"IF(AND(COUNTRY_INFO!K76>1,COUNTRY_INFO!K76<99,COUNTRY_INFO!K76<>4,COUNTRY_INFO!K76<>5), IF(AL76/COUNTRY_INFO!S76*100<>0, IF(AL76/COUNTRY_INFO!S76*100>100,100,AL76/COUNTRY_INFO!S76*100), \"-\"),0)","v":80.252442996742673},{"$f":"MAX('T1'!M76,'T2'!T76)","v":0},{"$f":"IF(AND(COUNTRY_INFO!K76>1,COUNTRY_INFO!K76<99,COUNTRY_INFO!K76<>4,COUNTRY_INFO!K76<>5),IF(COUNTRY_INFO!T76>AN76,AN76,COUNTRY_INFO!T76),0)","v":0},{"$f":"IF(AND(COUNTRY_INFO!K76>1,COUNTRY_INFO!K76<99,COUNTRY_INFO!K76<>4,COUNTRY_INFO!K76<>5), IF(AO76/COUNTRY_INFO!T76*100<>0, IF(AO76/COUNTRY_INFO!T76*100>100,100,AO76/COUNTRY_INFO!T76*100), \"-\"),0)","v":"-"},37449,37449,{"$f":"IF(AND(COUNTRY_INFO!K76>1,COUNTRY_INFO!K76<99,COUNTRY_INFO!K76<>4,COUNTRY_INFO!K76<>5), IF(AR76/AE76*100<>0, IF(AR76/AE76*100>100,100,AR76/AE76*100), \"-\"),0)","v":25.249807840122983},null,{"$f":"IF(AND(D76<>0, D76<>\"Inconnu\",D76<>\"Interrompu\",D76<>\"Non requis\"),D76/COUNTRY_INFO!D76, 0)","v":0},{"$f":"IF(AND(J76<>0,J76<>\"Inconnu\",J76<>\"Interrompu\",J76<>\"Non requis\"),J76/COUNTRY_INFO!D76, 0)","v":0},{"$f":"IF(AND(P76<>0,P76<>\"Inconnu\",P76<>\"Surveillance\",P76<>\"Non requis\"),P76/COUNTRY_INFO!Q76, 0)","v":0},{"$f":"IF(AND(AE76<>0,AE76<>\"Inconnu\",AE76<>\"Surveillance\",AE76<>\"Non requis\"),AE76/COUNTRY_INFO!U76, 0)","v":1},{"$f":"IF(AU76>0,D76*PROFILE!$G$7,IF(AV76>0,J76*PROFILE!$G$7,0))","v":0},{"$f":"_xlfn.IFS(OR(AU76>0,AW76>0),COUNTRY_INFO!E76, AV76>0,J76*PROFILE!$G$8,AX76>0,COUNTRY_INFO!R76,COUNTIFS(AU76:AX76,\">0\")=0,0)","v":17326},{"$f":"_xlfn.IFS(OR(AU76>0,AW76>0),COUNTRY_INFO!F76, AV76>0,J76*PROFILE!$G$9,AX76>0,COUNTRY_INFO!S76,COUNTIFS(AU76:AX76,\">0\")=0,0)","v":46664},{"$f":"_xlfn.IFS(AU76>0,COUNTRY_INFO!G76, AND(AV76>0,AW76=0,AX76=0),J76*PROFILE!$G$10,AND(AV76>0,AW76>0,AX76=0), MAX(J76*PROFILE!$G$10,COUNTRY_INFO!P76),AND(AV76>0,AW76=0,AX76>0), MAX(J76*PROFILE!$G$10,COUNTRY_INFO!T76),AND(AV76=0,AW76>0,AX76>0), MAX(COUNTRY_INFO!P76,COUNTRY_INFO!T76),AND(AV76=0,AW76>0,AX76=0),COUNTRY_INFO!P76,AND(AV76=0,AW76=0,AX76>0),COUNTRY_INFO!T76,AND(AV76>0,AW76>0,AX76>0), MAX(J76*PROFILE!$G$10,COUNTRY_INFO!P76,COUNTRY_INFO!T76),COUNTIFS(AU76:AX76,\">0\")=0,0)","v":84324},148314,"Y",{"$f":"MAX('MDA2'!J76,'MDA5'!J76,S76,AH76)","v":0},{"$f":"MAX('MDA1'!K76,'MDA2'!K76,'MDA3'!I76,'MDA3'!L76,'MDA5'!K76,V76,AK76)","v":37449},{"$f":"MAX('MDA1'!L76,'MDA2'!L76,'MDA3'!J76,'MDA3'!M76,'MDA5'!L76,Y76,AN76)","v":0},37449,{"$f":"_xlfn.IFS(AND(AU76=0,AW76=0,AX76=0),0,AND(AU76=0,AW76=0,AX76>0),AI76,AND(AU76=0,AW76>0,AX76=0),T76,AND(AU76=0,AW76>0,AX76>0),MAX(T76,AI76),AND(AU76>0,AW76=0,AX76=0),MIN(MAX('MDA2'!J76,'MDA5'!J76),AZ76),AND(AU76>0,AW76=0,AX76>0),MIN(MAX('MDA2'!J76,'MDA5'!J76,AI76),AZ76),AND(AU76>0,AW76>0,AX76=0),MIN(MAX('MDA2'!J76,'MDA5'!J76,T76),AZ76),AND(AU76>0,AW76>0,AX76>0),MIN(MAX('MDA2'!J76,'MDA5'!J76,AI76,T76),AZ76))","v":0},{"$f":"_xlfn.IFS(AND(AU76=0,AV76=0,AW76=0,AX76=0),0,AND(AU76=0,AV76=0,AW76=0,AX76>0),AL76,AND(AU76=0,AV76=0,AW76>0,AX76=0),W76,AND(AU76=0,AV76=0,AW76>0,AX76>0),MAX(W76,AL76),AND(AU76=0,AV76>0,AW76=0,AX76=0),MIN(J76*PROFILE!$G$9,MAX('MDA3'!I76,'MDA3'!L76)),AND(AU76=0,AV76>0,AW76=0,AX76>0),MIN(J76*PROFILE!$G$9,MAX('MDA3'!I76,'MDA3'!L76,AL76)),AND(AU76=0,AV76>0,AW76>0,AX76=0),MIN(J76*PROFILE!$G$9,MAX('MDA3'!I76,'MDA3'!L76,W76)),AND(AU76=0,AV76>0,AW76>0,AX76>0),MIN(J76*PROFILE!$G$9,MAX('MDA3'!I76,'MDA3'!L76,W76,AL76)),AND(AU76>0,AV76=0,AW76=0,AX76=0), MIN(BA76,MAX('MDA1'!K76,'MDA2'!K76,'MDA5'!K76)),AND(AU76>0,AV76=0,AW76=0,AX76>0), MIN(BA76,MAX('MDA1'!K76,'MDA2'!K76,'MDA5'!K76,AL76)),AND(AU76>0,AV76=0,AW76>0,AX76=0),MIN(BA76,MAX('MDA1'!K76,'MDA2'!KL76,'MDA5'!K76,W76)),AND(AU76>0,AV76=0,AW76>0,AX76>0),MIN(BA76,MAX('MDA1'!K76,'MDA2'!K76,'MDA5'!K76,W76,AL76)),AND(AU76>0,AV76>0,AW76=0,AX76=0),MIN(BA76, MAX('MDA1'!K76,'MDA2'!K76, 'MDA5'!K76,MAX('MDA3'!I76,'MDA3'!L76))), AND(AU76>0,AV76>0,AW76=0,AX76>0),MIN(BA76, MAX('MDA1'!K76,'MDA2'!K76, 'MDA5'!K76,MAX('MDA3'!I76,'MDA3'!L76),AL76)), AND(AU76>0,AV76>0,AW76>0,AX76=0), MIN(BA76, MAX('MDA1'!K76,'MDA2'!K76, 'MDA5'!K76,MAX('MDA3'!I76,'MDA3'!L76),W76)), AND(AU76>0,AV76>0,AW76>0,AX76>0), MIN(BA76, MAX('MDA1'!K76,'MDA2'!K76, 'MDA5'!K76,MAX('MDA3'!I76,'MDA3'!L76),W76,AL76)))","v":37449},{"$f":"_xlfn.IFS(AND(AU76=0,AV76=0,AW76=0,AX76=0),0,AND(AU76=0,AV76=0,AW76=0,AX76>0),AO76,AND(AU76=0,AV76=0,AW76>0,AX76=0),Z76,AND(AU76=0,AV76=0,AW76>0,AX76>0),MAX(Z76,AO76),AND(AU76=0,AV76>0,AW76=0,AX76=0),MIN(J76*PROFILE!$G$10,MAX('MDA3'!J76,'MDA3'!J76)),AND(AU76=0,AV76>0,AW76=0,AX76>0),MIN(J76*PROFILE!$G$10,MAX('MDA3'!J76,'MDA3'!M76,AO76)),AND(AU76=0,AV76>0,AW76>0,AX76=0),MIN(J76*PROFILE!$G$10,MAX('MDA3'!J76,'MDA3'!M76,Z76)),AND(AU76=0,AV76>0,AW76>0,AX76>0),MIN(J76*PROFILE!$G$10,MAX('MDA3'!J76,'MDA3'!M76,Z76,AO76)),AND(AU76>0,AV76=0,AW76=0,AX76=0), MIN(BB76,MAX('MDA1'!L76,'MDA2'!L76,'MDA5'!L76)),AND(AU76>0,AV76=0,AW76=0,AX76>0), MIN(BB76,MAX('MDA1'!L76,'MDA2'!L76,'MDA5'!L76,AO76)),AND(AU76>0,AV76=0,AW76>0,AX76=0),MIN(BB76,MAX('MDA1'!L76,'MDA2'!L76,'MDA5'!L76,Z76)),AND(AU76>0,AV76=0,AW76>0,AX76>0),MIN(BB76,MAX('MDA1'!L76,'MDA2'!L76,'MDA5'!L76,Z76,AO76)),AND(AU76>0,AV76>0,AW76=0,AX76=0),MIN(BB76, MAX('MDA1'!L76,'MDA2'!L76, 'MDA5'!L76,MAX('MDA3'!J76,'MDA3'!M76))), AND(AU76>0,AV76>0,AW76=0,AX76>0),MIN(BB76, MAX('MDA1'!L76,'MDA2'!L76, 'MDA5'!L76,MAX('MDA3'!J76,'MDA3'!M76),AO76)), AND(AU76>0,AV76>0,AW76>0,AX76=0), MIN(BB76, MAX('MDA1'!L76,'MDA2'!L76, 'MDA5'!L76,MAX('MDA3'!J76,'MDA3'!M76),Z76)), AND(AU76>0,AV76>0,AW76>0,AX76>0), MIN(BB76, MAX('MDA1'!L76,'MDA2'!L76, 'MDA5'!L76,MAX('MDA3'!J76,'MDA3'!M76),Z76,AO76)))","v":0},37449,25.249807840122983]
[{"$f":"IF(COUNTRY_INFO!A77=0,\" \",COUNTRY_INFO!A77)","v":"Mali"},{"$f":"IF(COUNTRY_INFO!B77=0,\" \",COUNTRY_INFO!B77)","v":"Tombouctou"},{"$f":"IF(COUNTRY_INFO!C77=0,\" \",COUNTRY_INFO!C77)","v":"Niafunké"},{"$f":"COUNTRY_INFO!L77","v":0},null,null,{"$f":"MAX('MDA1'!M77,'MDA2'!M77,'MDA5'!M77)","v":0},{"$f":"IF(AND(COUNTRY_INFO!H77>0,COUNTRY_INFO!H77<4),IF(D77>G77,G77,D77),0)","v":0},{"$f":"IF(AND(COUNTRY_INFO!H77>0,COUNTRY_INFO!H77<4), IF(G77/D77*100<>0, IF(G77/D77*100>100,100,G77/D77*100), \"-\"),0)","v":0},{"$f":"COUNTRY_INFO!M77","v":0},null,null,{"$f":"MAX('MDA1'!M77,MAX('MDA3'!I77,'MDA3'!L77)+MAX('MDA3'!J77,'MDA3'!M77))","v":0},{"$f":"IF(AND(COUNTRY_INFO!I77>0,COUNTRY_INFO!I77<4),IF(J77>M77,M77,J77),0)","v":0},{"$f":"IF(AND(COUNTRY_INFO!I77>0,COUNTRY_INFO!I77<4), IF(M77/J77*100<>0, IF(M77/J77*100>100,100,M77/J77*100), \"-\"),0)","v":0},{"$f":"COUNTRY_INFO!Q77","v":"Non requis"},null,null,{"$f":"MAX('MDA2'!J77,'MDA5'!J77,'T1'!K77, MAX(T3_R1!J77,T3_R2!J77,T3_R3!J77))","v":0},{"$f":"IF(AND(COUNTRY_INFO!J77>1,COUNTRY_INFO!J77<99,COUNTRY_INFO!J77<>4,COUNTRY_INFO!J77<>5),IF(COUNTRY_INFO!N77>S77,S77,COUNTRY_INFO!N77),0)","v":0},{"$f":"IF(AND(COUNTRY_INFO!J77>1,COUNTRY_INFO!J77<99,COUNTRY_INFO!J77<>4,COUNTRY_INFO!J77<>5), IF(T77/COUNTRY_INFO!N77*100<>0, IF(T77/COUNTRY_INFO!N77*100>100,100,T77/COUNTRY_INFO!N77*100), \"-\"),0)","v":0},{"$f":"MAX('MDA1'!K77, 'MDA2'!K77, 'MDA5'!K77,'T1'!L77, MAX(T3_R1!K77,T3_R2!K77,T3_R3!K77))","v":0},{"$f":"IF(AND(COUNTRY_INFO!J77>1,COUNTRY_INFO!J77<99,COUNTRY_INFO!J77<>4,COUNTRY_INFO!J77<>5),IF(COUNTRY_INFO!O77>V77,V77,COUNTRY_INFO!O77),0)","v":0},{"$f":"IF(AND(COUNTRY_INFO!J77>1,COUNTRY_INFO!J77<99,COUNTRY_INFO!J77<>4,COUNTRY_INFO!J77<>5), IF(W77/COUNTRY_INFO!O77*100<>0, IF(W77/COUNTRY_INFO!O77*100>100,100,W77/COUNTRY_INFO!O77*100), \"-\"),0)","v":0},{"$f":"MAX('MDA1'!L77, 'MDA2'!L77, 'MDA5'!L77,'T1'!M77, MAX(T3_R1!L77,T3_R2!L77,T3_R3!L77))","v":0},{"$f":"IF(AND(COUNTRY_INFO!J77>1,COUNTRY_INFO!J77<99,COUNTRY_INFO!J77<>4,COUNTRY_INFO!J77<>5),IF(COUNTRY_INFO!P77>Y77,Y77,COUNTRY_INFO!P77),0)","v":0},{"$f":"IF(AND(COUNTRY_INFO!J77>1,COUNTRY_INFO!J77<99,COUNTRY_INFO!J77<>4,COUNTRY_INFO!J77<>5), IF(Z77/COUNTRY_INFO!P77*100<>0, IF(Z77/COUNTRY_INFO!P77*100>100,100,Z77/COUNTRY_INFO!P77*100), \"-\"),0)","v":0},0,0,{"$f":"IF(AND(COUNTRY_INFO!J77>1,COUNTRY_INFO!J77<99,COUNTRY_INFO!J77<>4,COUNTRY_INFO!J77<>5), IF(AC77/P77*100<>0, IF(AC77/P77*100>100,100,AC77/P77*100), \"-\"),0)","v":0},{"$f":"COUNTRY_INFO!U77","v":251934},null,null,{"$f":"MAX('T1'!K77,'T2'!R77)","v":0},{"$f":"IF(AND(COUNTRY_INFO!K77>1,COUNTRY_INFO!K77<99,COUNTRY_INFO!K77<>4,COUNTRY_INFO!K77<>5),IF(COUNTRY_INFO!R77>AH77,AH77,COUNTRY_INFO!R77),0)","v":0},{"$f":"IF(AND(COUNTRY_INFO!K77>1,COUNTRY_INFO!K77<99,COUNTRY_INFO!K77<>4,COUNTRY_INFO!K77<>5), IF(AI77/COUNTRY_INFO!R77*100<>0, IF(AI77/COUNTRY_INFO!R77*100>100,100,AI77/COUNTRY_INFO!R77*100), \"-\"),0)","v":"-"},{"$f":"MAX('T1'!L77,'T2'!S77)","v":14691},{"$f":"IF(AND(COUNTRY_INFO!K77>1,COUNTRY_INFO!K77<99,COUNTRY_INFO!K77<>4,COUNTRY_INFO!K77<>5),IF(COUNTRY_INFO!S77>AK77,AK77,COUNTRY_INFO!S77),0)","v":14691},{"$f":"IF(AND(COUNTRY_INFO!K77>1,COUNTRY_INFO!K77<99,COUNTRY_INFO!K77<>4,COUNTRY_INFO!K77<>5), IF(AL77/COUNTRY_INFO!S77*100<>0, IF(AL77/COUNTRY_INFO!S77*100>100,100,AL77/COUNTRY_INFO!S77*100), \"-\"),0)","v":18.53332996921835},{"$f":"MAX('T1'!M77,'T2'!T77)","v":0},{"$f":"IF(AND(COUNTRY_INFO!K77>1,COUNTRY_INFO!K77<99,COUNTRY_INFO!K77<>4,COUNTRY_INFO!K77<>5),IF(COUNTRY_INFO!T77>AN77,AN77,COUNTRY_INFO!T77),0)","v":0},{"$f":"IF(AND(COUNTRY_INFO!K77>1,COUNTRY_INFO!K77<99,COUNTRY_INFO!K77<>4,COUNTRY_INFO!K77<>5), IF(AO77/COUNTRY_INFO!T77*100<>0, IF(AO77/COUNTRY_INFO!T77*100>100,100,AO77/COUNTRY_INFO!T77*100), \"-\"),0)","v":"-"},14691,14691,{"$f":"IF(AND(COUNTRY_INFO!K77>1,COUNTRY_INFO!K77<99,COUNTRY_INFO!K77<>4,COUNTRY_INFO!K77<>5), IF(AR77/AE77*100<>0, IF(AR77/AE77*100>100,100,AR77/AE77*100), \"-\"),0)","v":5.8312891471575892},null,{"$f":"IF(AND(D77<>0, D77<>\"Inconnu\",D77<>\"Interrompu\",D77<>\"Non requis\"),D77/COUNTRY_INFO!D77, 0)","v":0},{"$f":"IF(AND(J77<>0,J77<>\"Inconnu\",J77<>\"Interrompu\",J77<>\"Non requis\"),J77/COUNTRY_INFO!D77, 0)","v":0},{"$f":"IF(AND(P77<>0,P77<>\"Inconnu\",P77<>\"Surveillance\",P77<>\"Non requis\"),P77/COUNTRY_INFO!Q77, 0)","v":0},{"$f":"IF(AND(AE77<>0,AE77<>\"Inconnu\",AE77<>\"Surveillance\",AE77<>\"Non requis\"),AE77/COUNTRY_INFO!U77, 0)","v":1},{"$f":"IF(AU77>0,D77*PROFILE!$G$7,IF(AV77>0,J77*PROFILE!$G$7,0))","v":0},{"$f":"_xlfn.IFS(OR(AU77>0,AW77>0),COUNTRY_INFO!E77, AV77>0,J77*PROFILE!$G$8,AX77>0,COUNTRY_INFO!R77,COUNTIFS(AU77:AX77,\">0\")=0,0)","v":29425},{"$f":"_xlfn.IFS(OR(AU77>0,AW77>0),COUNTRY_INFO!F77, AV77>0,J77*PROFILE!$G$9,AX77>0,COUNTRY_INFO!S77,COUNTIFS(AU77:AX77,\">0\")=0,0)","v":79268},{"$f":"_xlfn.IFS(AU77>0,COUNTRY_INFO!G77, AND(AV77>0,AW77=0,AX77=0),J77*PROFILE!$G$10,AND(AV77>0,AW77>0,AX77=0), MAX(J77*PROFILE!$G$10,COUNTRY_INFO!P77),AND(AV77>0,AW77=0,AX77>0), MAX(J77*PROFILE!$G$10,COUNTRY_INFO!T77),AND(AV77=0,AW77>0,AX77>0), MAX(COUNTRY_INFO!P77,COUNTRY_INFO!T77),AND(AV77=0,AW77>0,AX77=0),COUNTRY_INFO!P77,AND(AV77=0,AW77=0,AX77>0),COUNTRY_INFO!T77,AND(AV77>0,AW77>0,AX77>0), MAX(J77*PROFILE!$G$10,COUNTRY_INFO!P77,COUNTRY_INFO!T77),COUNTIFS(AU77:AX77,\">0\")=0,0)","v":143241},251934,"Y",{"$f":"MAX('MDA2'!J77,'MDA5'!J77,S77,AH77)","v":0},{"$f":"MAX('MDA1'!K77,'MDA2'!K77,'MDA3'!I77,'MDA3'!L77,'MDA5'!K77,V77,AK77)","v":14691},{"$f":"MAX('MDA1'!L77,'MDA2'!L77,'MDA3'!J77,'MDA3'!M77,'MDA5'!L77,Y77,AN77)","v":0},14691,{"$f":"_xlfn.IFS(AND(AU77=0,AW77=0,AX77=0),0,AND(AU77=0,AW77=0,AX77>0),AI77,AND(AU77=0,AW77>0,AX77=0),T77,AND(AU77=0,AW77>0,AX77>0),MAX(T77,AI77),AND(AU77>0,AW77=0,AX77=0),MIN(MAX('MDA2'!J77,'MDA5'!J77),AZ77),AND(AU77>0,AW77=0,AX77>0),MIN(MAX('MDA2'!J77,'MDA5'!J77,AI77),AZ77),AND(AU77>0,AW77>0,AX77=0),MIN(MAX('MDA2'!J77,'MDA5'!J77,T77),AZ77),AND(AU77>0,AW77>0,AX77>0),MIN(MAX('MDA2'!J77,'MDA5'!J77,AI77,T77),AZ77))","v":0},{"$f":"_xlfn.IFS(AND(AU77=0,AV77=0,AW77=0,AX77=0),0,AND(AU77=0,AV77=0,AW77=0,AX77>0),AL77,AND(AU77=0,AV77=0,AW77>0,AX77=0),W77,AND(AU77=0,AV77=0,AW77>0,AX77>0),MAX(W77,AL77),AND(AU77=0,AV77>0,AW77=0,AX77=0),MIN(J77*PROFILE!$G$9,MAX('MDA3'!I77,'MDA3'!L77)),AND(AU77=0,AV77>0,AW77=0,AX77>0),MIN(J77*PROFILE!$G$9,MAX('MDA3'!I77,'MDA3'!L77,AL77)),AND(AU77=0,AV77>0,AW77>0,AX77=0),MIN(J77*PROFILE!$G$9,MAX('MDA3'!I77,'MDA3'!L77,W77)),AND(AU77=0,AV77>0,AW77>0,AX77>0),MIN(J77*PROFILE!$G$9,MAX('MDA3'!I77,'MDA3'!L77,W77,AL77)),AND(AU77>0,AV77=0,AW77=0,AX77=0), MIN(BA77,MAX('MDA1'!K77,'MDA2'!K77,'MDA5'!K77)),AND(AU77>0,AV77=0,AW77=0,AX77>0), MIN(BA77,MAX('MDA1'!K77,'MDA2'!K77,'MDA5'!K77,AL77)),AND(AU77>0,AV77=0,AW77>0,AX77=0),MIN(BA77,MAX('MDA1'!K77,'MDA2'!KL77,'MDA5'!K77,W77)),AND(AU77>0,AV77=0,AW77>0,AX77>0),MIN(BA77,MAX('MDA1'!K77,'MDA2'!K77,'MDA5'!K77,W77,AL77)),AND(AU77>0,AV77>0,AW77=0,AX77=0),MIN(BA77, MAX('MDA1'!K77,'MDA2'!K77, 'MDA5'!K77,MAX('MDA3'!I77,'MDA3'!L77))), AND(AU77>0,AV77>0,AW77=0,AX77>0),MIN(BA77, MAX('MDA1'!K77,'MDA2'!K77, 'MDA5'!K77,MAX('MDA3'!I77,'MDA3'!L77),AL77)), AND(AU77>0,AV77>0,AW77>0,AX77=0), MIN(BA77, MAX('MDA1'!K77,'MDA2'!K77, 'MDA5'!K77,MAX('MDA3'!I77,'MDA3'!L77),W77)), AND(AU77>0,AV77>0,AW77>0,AX77>0), MIN(BA77, MAX('MDA1'!K77,'MDA2'!K77, 'MDA5'!K77,MAX('MDA3'!I77,'MDA3'!L77),W77,AL77)))","v":14691},{"$f":"_xlfn.IFS(AND(AU77=0,AV77=0,AW77=0,AX77=0),0,AND(AU77=0,AV77=0,AW77=0,AX77>0),AO77,AND(AU77=0,AV77=0,AW77>0,AX77=0),Z77,AND(AU77=0,AV77=0,AW77>0,AX77>0),MAX(Z77,AO77),AND(AU77=0,AV77>0,AW77=0,AX77=0),MIN(J77*PROFILE!$G$10,MAX('MDA3'!J77,'MDA3'!J77)),AND(AU77=0,AV77>0,AW77=0,AX77>0),MIN(J77*PROFILE!$G$10,MAX('MDA3'!J77,'MDA3'!M77,AO77)),AND(AU77=0,AV77>0,AW77>0,AX77=0),MIN(J77*PROFILE!$G$10,MAX('MDA3'!J77,'MDA3'!M77,Z77)),AND(AU77=0,AV77>0,AW77>0,AX77>0),MIN(J77*PROFILE!$G$10,MAX('MDA3'!J77,'MDA3'!M77,Z77,AO77)),AND(AU77>0,AV77=0,AW77=0,AX77=0), MIN(BB77,MAX('MDA1'!L77,'MDA2'!L77,'MDA5'!L77)),AND(AU77>0,AV77=0,AW77=0,AX77>0), MIN(BB77,MAX('MDA1'!L77,'MDA2'!L77,'MDA5'!L77,AO77)),AND(AU77>0,AV77=0,AW77>0,AX77=0),MIN(BB77,MAX('MDA1'!L77,'MDA2'!L77,'MDA5'!L77,Z77)),AND(AU77>0,AV77=0,AW77>0,AX77>0),MIN(BB77,MAX('MDA1'!L77,'MDA2'!L77,'MDA5'!L77,Z77,AO77)),AND(AU77>0,AV77>0,AW77=0,AX77=0),MIN(BB77, MAX('MDA1'!L77,'MDA2'!L77, 'MDA5'!L77,MAX('MDA3'!J77,'MDA3'!M77))), AND(AU77>0,AV77>0,AW77=0,AX77>0),MIN(BB77, MAX('MDA1'!L77,'MDA2'!L77, 'MDA5'!L77,MAX('MDA3'!J77,'MDA3'!M77),AO77)), AND(AU77>0,AV77>0,AW77>0,AX77=0), MIN(BB77, MAX('MDA1'!L77,'MDA2'!L77, 'MDA5'!L77,MAX('MDA3'!J77,'MDA3'!M77),Z77)), AND(AU77>0,AV77>0,AW77>0,AX77>0), MIN(BB77, MAX('MDA1'!L77,'MDA2'!L77, 'MDA5'!L77,MAX('MDA3'!J77,'MDA3'!M77),Z77,AO77)))","v":0},14691,5.8312891471575892]
[{"$f":"IF(COUNTRY_INFO!A78=0,\" \",COUNTRY_INFO!A78)","v":"Mali"},{"$f":"IF(COUNTRY_INFO!B78=0,\" \",COUNTRY_INFO!B78)","v":"Tombouctou"},{"$f":"IF(COUNTRY_INFO!C78=0,\" \",COUNTRY_INFO!C78)","v":"Tombouctou"},{"$f":"COUNTRY_INFO!L78","v":0},null,null,{"$f":"MAX('MDA1'!M78,'MDA2'!M78,'MDA5'!M78)","v":0},{"$f":"IF(AND(COUNTRY_INFO!H78>0,COUNTRY_INFO!H78<4),IF(D78>G78,G78,D78),0)","v":0},{"$f":"IF(AND(COUNTRY_INFO!H78>0,COUNTRY_INFO!H78<4), IF(G78/D78*100<>0, IF(G78/D78*100>100,100,G78/D78*100), \"-\"),0)","v":0},{"$f":"COUNTRY_INFO!M78","v":0},null,null,{"$f":"MAX('MDA1'!M78,MAX('MDA3'!I78,'MDA3'!L78)+MAX('MDA3'!J78,'MDA3'!M78))","v":0},{"$f":"IF(AND(COUNTRY_INFO!I78>0,COUNTRY_INFO!I78<4),IF(J78>M78,M78,J78),0)","v":0},{"$f":"IF(AND(COUNTRY_INFO!I78>0,COUNTRY_INFO!I78<4), IF(M78/J78*100<>0, IF(M78/J78*100>100,100,M78/J78*100), \"-\"),0)","v":0},{"$f":"COUNTRY_INFO!Q78","v":"Non requis"},null,null,{"$f":"MAX('MDA2'!J78,'MDA5'!J78,'T1'!K78, MAX(T3_R1!J78,T3_R2!J78,T3_R3!J78))","v":0},{"$f":"IF(AND(COUNTRY_INFO!J78>1,COUNTRY_INFO!J78<99,COUNTRY_INFO!J78<>4,COUNTRY_INFO!J78<>5),IF(COUNTRY_INFO!N78>S78,S78,COUNTRY_INFO!N78),0)","v":0},{"$f":"IF(AND(COUNTRY_INFO!J78>1,COUNTRY_INFO!J78<99,COUNTRY_INFO!J78<>4,COUNTRY_INFO!J78<>5), IF(T78/COUNTRY_INFO!N78*100<>0, IF(T78/COUNTRY_INFO!N78*100>100,100,T78/COUNTRY_INFO!N78*100), \"-\"),0)","v":0},{"$f":"MAX('MDA1'!K78, 'MDA2'!K78, 'MDA5'!K78,'T1'!L78, MAX(T3_R1!K78,T3_R2!K78,T3_R3!K78))","v":0},{"$f":"IF(AND(COUNTRY_INFO!J78>1,COUNTRY_INFO!J78<99,COUNTRY_INFO!J78<>4,COUNTRY_INFO!J78<>5),IF(COUNTRY_INFO!O78>V78,V78,COUNTRY_INFO!O78),0)","v":0},{"$f":"IF(AND(COUNTRY_INFO!J78>1,COUNTRY_INFO!J78<99,COUNTRY_INFO!J78<>4,COUNTRY_INFO!J78<>5), IF(W78/COUNTRY_INFO!O78*100<>0, IF(W78/COUNTRY_INFO!O78*100>100,100,W78/COUNTRY_INFO!O78*100), \"-\"),0)","v":0},{"$f":"MAX('MDA1'!L78, 'MDA2'!L78, 'MDA5'!L78,'T1'!M78, MAX(T3_R1!L78,T3_R2!L78,T3_R3!L78))","v":0},{"$f":"IF(AND(COUNTRY_INFO!J78>1,COUNTRY_INFO!J78<99,COUNTRY_INFO!J78<>4,COUNTRY_INFO!J78<>5),IF(COUNTRY_INFO!P78>Y78,Y78,COUNTRY_INFO!P78),0)","v":0},{"$f":"IF(AND(COUNTRY_INFO!J78>1,COUNTRY_INFO!J78<99,COUNTRY_INFO!J78<>4,COUNTRY_INFO!J78<>5), IF(Z78/COUNTRY_INFO!P78*100<>0, IF(Z78/COUNTRY_INFO!P78*100>100,100,Z78/COUNTRY_INFO!P78*100), \"-\"),0)","v":0},0,0,{"$f":"IF(AND(COUNTRY_INFO!J78>1,COUNTRY_INFO!J78<99,COUNTRY_INFO!J78<>4,COUNTRY_INFO!J78<>5), IF(AC78/P78*100<>0, IF(AC78/P78*100>100,100,AC78/P78*100), \"-\"),0)","v":0},{"$f":"COUNTRY_INFO!U78","v":180132},null,null,{"$f":"MAX('T1'!K78,'T2'!R78)","v":0},{"$f":"IF(AND(COUNTRY_INFO!K78>1,COUNTRY_INFO!K78<99,COUNTRY_INFO!K78<>4,COUNTRY_INFO!K78<>5),IF(COUNTRY_INFO!R78>AH78,AH78,COUNTRY_INFO!R78),0)","v":0},{"$f":"IF(AND(COUNTRY_INFO!K78>1,COUNTRY_INFO!K78<99,COUNTRY_INFO!K78<>4,COUNTRY_INFO!K78<>5), IF(AI78/COUNTRY_INFO!R78*100<>0, IF(AI78/COUNTRY_INFO!R78*100>100,100,AI78/COUNTRY_INFO!R78*100), \"-\"),0)","v":"-"},{"$f":"MAX('T1'!L78,'T2'!S78)","v":3738},{"$f":"IF(AND(COUNTRY_INFO!K78>1,COUNTRY_INFO!K78<99,COUNTRY_INFO!K78<>4,COUNTRY_INFO!K78<>5),IF(COUNTRY_INFO!S78>AK78,AK78,COUNTRY_INFO!S78),0)","v":3738},{"$f":"IF(AND(COUNTRY_INFO!K78>1,COUNTRY_INFO!K78<99,COUNTRY_INFO!K78<>4,COUNTRY_INFO!K78<>5), IF(AL78/COUNTRY_INFO!S78*100<>0, IF(AL78/COUNTRY_INFO!S78*100>100,100,AL78/COUNTRY_INFO!S78*100), \"-\"),0)","v":6.595384289646411},{"$f":"MAX('T1'!M78,'T2'!T78)","v":307},{"$f":"IF(AND(COUNTRY_INFO!K78>1,COUNTRY_INFO!K78<99,COUNTRY_INFO!K78<>4,COUNTRY_INFO!K78<>5),IF(COUNTRY_INFO!T78>AN78,AN78,COUNTRY_INFO!T78),0)","v":307},{"$f":"IF(AND(COUNTRY_INFO!K78>1,COUNTRY_INFO!K78<99,COUNTRY_INFO!K78<>4,COUNTRY_INFO!K78<>5), IF(AO78/COUNTRY_INFO!T78*100<>0, IF(AO78/COUNTRY_INFO!T78*100>100,100,AO78/COUNTRY_INFO!T78*100), \"-\"),0)","v":0.29975199671932673},4045,4045,{"$f":"IF(AND(COUNTRY_INFO!K78>1,COUNTRY_INFO!K78<99,COUNTRY_INFO!K78<>4,COUNTRY_INFO!K78<>5), IF(AR78/AE78*100<>0, IF(AR78/AE78*100>100,100,AR78/AE78*100), \"-\"),0)","v":2.2455754668798438},null,{"$f":"IF(AND(D78<>0, D78<>\"Inconnu\",D78<>\"Interrompu\",D78<>\"Non requis\"),D78/COUNTRY_INFO!D78, 0)","v":0},{"$f":"IF(AND(J78<>0,J78<>\"Inconnu\",J78<>\"Interrompu\",J78<>\"Non requis\"),J78/COUNTRY_INFO!D78, 0)","v":0},{"$f":"IF(AND(P78<>0,P78<>\"Inconnu\",P78<>\"Surveillance\",P78<>\"Non requis\"),P78/COUNTRY_INFO!Q78, 0)","v":0},{"$f":"IF(AND(AE78<>0,AE78<>\"Inconnu\",AE78<>\"Surveillance\",AE78<>\"Non requis\"),AE78/COUNTRY_INFO!U78, 0)","v":1},{"$f":"IF(AU78>0,D78*PROFILE!$G$7,IF(AV78>0,J78*PROFILE!$G$7,0))","v":0},{"$f":"_xlfn.IFS(OR(AU78>0,AW78>0),COUNTRY_INFO!E78, AV78>0,J78*PROFILE!$G$8,AX78>0,COUNTRY_INFO!R78,COUNTIFS(AU78:AX78,\">0\")=0,0)","v":21038},{"$f":"_xlfn.IFS(OR(AU78>0,AW78>0),COUNTRY_INFO!F78, AV78>0,J78*PROFILE!$G$9,AX78>0,COUNTRY_INFO!S78,COUNTIFS(AU78:AX78,\">0\")=0,0)","v":56676},{"$f":"_xlfn.IFS(AU78>0,COUNTRY_INFO!G78, AND(AV78>0,AW78=0,AX78=0),J78*PROFILE!$G$10,AND(AV78>0,AW78>0,AX78=0), MAX(J78*PROFILE!$G$10,COUNTRY_INFO!P78),AND(AV78>0,AW78=0,AX78>0), MAX(J78*PROFILE!$G$10,COUNTRY_INFO!T78),AND(AV78=0,AW78>0,AX78>0), MAX(COUNTRY_INFO!P78,COUNTRY_INFO!T78),AND(AV78=0,AW78>0,AX78=0),COUNTRY_INFO!P78,AND(AV78=0,AW78=0,AX78>0),COUNTRY_INFO!T78,AND(AV78>0,AW78>0,AX78>0), MAX(J78*PROFILE!$G$10,COUNTRY_INFO!P78,COUNTRY_INFO!T78),COUNTIFS(AU78:AX78,\">0\")=0,0)","v":102418},180132,"Y",{"$f":"MAX('MDA2'!J78,'MDA5'!J78,S78,AH78)","v":0},{"$f":"MAX('MDA1'!K78,'MDA2'!K78,'MDA3'!I78,'MDA3'!L78,'MDA5'!K78,V78,AK78)","v":3738},{"$f":"MAX('MDA1'!L78,'MDA2'!L78,'MDA3'!J78,'MDA3'!M78,'MDA5'!L78,Y78,AN78)","v":307},4045,{"$f":"_xlfn.IFS(AND(AU78=0,AW78=0,AX78=0),0,AND(AU78=0,AW78=0,AX78>0),AI78,AND(AU78=0,AW78>0,AX78=0),T78,AND(AU78=0,AW78>0,AX78>0),MAX(T78,AI78),AND(AU78>0,AW78=0,AX78=0),MIN(MAX('MDA2'!J78,'MDA5'!J78),AZ78),AND(AU78>0,AW78=0,AX78>0),MIN(MAX('MDA2'!J78,'MDA5'!J78,AI78),AZ78),AND(AU78>0,AW78>0,AX78=0),MIN(MAX('MDA2'!J78,'MDA5'!J78,T78),AZ78),AND(AU78>0,AW78>0,AX78>0),MIN(MAX('MDA2'!J78,'MDA5'!J78,AI78,T78),AZ78))","v":0},{"$f":"_xlfn.IFS(AND(AU78=0,AV78=0,AW78=0,AX78=0),0,AND(AU78=0,AV78=0,AW78=0,AX78>0),AL78,AND(AU78=0,AV78=0,AW78>0,AX78=0),W78,AND(AU78=0,AV78=0,AW78>0,AX78>0),MAX(W78,AL78),AND(AU78=0,AV78>0,AW78=0,AX78=0),MIN(J78*PROFILE!$G$9,MAX('MDA3'!I78,'MDA3'!L78)),AND(AU78=0,AV78>0,AW78=0,AX78>0),MIN(J78*PROFILE!$G$9,MAX('MDA3'!I78,'MDA3'!L78,AL78)),AND(AU78=0,AV78>0,AW78>0,AX78=0),MIN(J78*PROFILE!$G$9,MAX('MDA3'!I78,'MDA3'!L78,W78)),AND(AU78=0,AV78>0,AW78>0,AX78>0),MIN(J78*PROFILE!$G$9,MAX('MDA3'!I78,'MDA3'!L78,W78,AL78)),AND(AU78>0,AV78=0,AW78=0,AX78=0), MIN(BA78,MAX('MDA1'!K78,'MDA2'!K78,'MDA5'!K78)),AND(AU78>0,AV78=0,AW78=0,AX78>0), MIN(BA78,MAX('MDA1'!K78,'MDA2'!K78,'MDA5'!K78,AL78)),AND(AU78>0,AV78=0,AW78>0,AX78=0),MIN(BA78,MAX('MDA1'!K78,'MDA2'!KL78,'MDA5'!K78,W78)),AND(AU78>0,AV78=0,AW78>0,AX78>0),MIN(BA78,MAX('MDA1'!K78,'MDA2'!K78,'MDA5'!K78,W78,AL78)),AND(AU78>0,AV78>0,AW78=0,AX78=0),MIN(BA78, MAX('MDA1'!K78,'MDA2'!K78, 'MDA5'!K78,MAX('MDA3'!I78,'MDA3'!L78))), AND(AU78>0,AV78>0,AW78=0,AX78>0),MIN(BA78, MAX('MDA1'!K78,'MDA2'!K78, 'MDA5'!K78,MAX('MDA3'!I78,'MDA3'!L78),AL78)), AND(AU78>0,AV78>0,AW78>0,AX78=0), MIN(BA78, MAX('MDA1'!K78,'MDA2'!K78, 'MDA5'!K78,MAX('MDA3'!I78,'MDA3'!L78),W78)), AND(AU78>0,AV78>0,AW78>0,AX78>0), MIN(BA78, MAX('MDA1'!K78,'MDA2'!K78, 'MDA5'!K78,MAX('MDA3'!I78,'MDA3'!L78),W78,AL78)))","v":3738},{"$f":"_xlfn.IFS(AND(AU78=0,AV78=0,AW78=0,AX78=0),0,AND(AU78=0,AV78=0,AW78=0,AX78>0),AO78,AND(AU78=0,AV78=0,AW78>0,AX78=0),Z78,AND(AU78=0,AV78=0,AW78>0,AX78>0),MAX(Z78,AO78),AND(AU78=0,AV78>0,AW78=0,AX78=0),MIN(J78*PROFILE!$G$10,MAX('MDA3'!J78,'MDA3'!J78)),AND(AU78=0,AV78>0,AW78=0,AX78>0),MIN(J78*PROFILE!$G$10,MAX('MDA3'!J78,'MDA3'!M78,AO78)),AND(AU78=0,AV78>0,AW78>0,AX78=0),MIN(J78*PROFILE!$G$10,MAX('MDA3'!J78,'MDA3'!M78,Z78)),AND(AU78=0,AV78>0,AW78>0,AX78>0),MIN(J78*PROFILE!$G$10,MAX('MDA3'!J78,'MDA3'!M78,Z78,AO78)),AND(AU78>0,AV78=0,AW78=0,AX78=0), MIN(BB78,MAX('MDA1'!L78,'MDA2'!L78,'MDA5'!L78)),AND(AU78>0,AV78=0,AW78=0,AX78>0), MIN(BB78,MAX('MDA1'!L78,'MDA2'!L78,'MDA5'!L78,AO78)),AND(AU78>0,AV78=0,AW78>0,AX78=0),MIN(BB78,MAX('MDA1'!L78,'MDA2'!L78,'MDA5'!L78,Z78)),AND(AU78>0,AV78=0,AW78>0,AX78>0),MIN(BB78,MAX('MDA1'!L78,'MDA2'!L78,'MDA5'!L78,Z78,AO78)),AND(AU78>0,AV78>0,AW78=0,AX78=0),MIN(BB78, MAX('MDA1'!L78,'MDA2'!L78, 'MDA5'!L78,MAX('MDA3'!J78,'MDA3'!M78))), AND(AU78>0,AV78>0,AW78=0,AX78>0),MIN(BB78, MAX('MDA1'!L78,'MDA2'!L78, 'MDA5'!L78,MAX('MDA3'!J78,'MDA3'!M78),AO78)), AND(AU78>0,AV78>0,AW78>0,AX78=0), MIN(BB78, MAX('MDA1'!L78,'MDA2'!L78, 'MDA5'!L78,MAX('MDA3'!J78,'MDA3'!M78),Z78)), AND(AU78>0,AV78>0,AW78>0,AX78>0), MIN(BB78, MAX('MDA1'!L78,'MDA2'!L78, 'MDA5'!L78,MAX('MDA3'!J78,'MDA3'!M78),Z78,AO78)))","v":307},4045,2.2455754668798438]
[{"$f":"IF(COUNTRY_INFO!A79=0,\" \",COUNTRY_INFO!A79)","v":"Mali"},{"$f":"IF(COUNTRY_INFO!B79=0,\" \",COUNTRY_INFO!B79)","v":"Taoudenit"},{"$f":"IF(COUNTRY_INFO!C79=0,\" \",COUNTRY_INFO!C79)","v":"Achourat"},{"$f":"COUNTRY_INFO!L79","v":0},null,null,{"$f":"MAX('MDA1'!M79,'MDA2'!M79,'MDA5'!M79)","v":0},{"$f":"IF(AND(COUNTRY_INFO!H79>0,COUNTRY_INFO!H79<4),IF(D79>G79,G79,D79),0)","v":0},{"$f":"IF(AND(COUNTRY_INFO!H79>0,COUNTRY_INFO!H79<4), IF(G79/D79*100<>0, IF(G79/D79*100>100,100,G79/D79*100), \"-\"),0)","v":0},{"$f":"COUNTRY_INFO!M79","v":0},null,null,{"$f":"MAX('MDA1'!M79,MAX('MDA3'!I79,'MDA3'!L79)+MAX('MDA3'!J79,'MDA3'!M79))","v":0},{"$f":"IF(AND(COUNTRY_INFO!I79>0,COUNTRY_INFO!I79<4),IF(J79>M79,M79,J79),0)","v":0},{"$f":"IF(AND(COUNTRY_INFO!I79>0,COUNTRY_INFO!I79<4), IF(M79/J79*100<>0, IF(M79/J79*100>100,100,M79/J79*100), \"-\"),0)","v":0},{"$f":"COUNTRY_INFO!Q79","v":"Non requis"},null,null,{"$f":"MAX('MDA2'!J79,'MDA5'!J79,'T1'!K79, MAX(T3_R1!J79,T3_R2!J79,T3_R3!J79))","v":0},{"$f":"IF(AND(COUNTRY_INFO!J79>1,COUNTRY_INFO!J79<99,COUNTRY_INFO!J79<>4,COUNTRY_INFO!J79<>5),IF(COUNTRY_INFO!N79>S79,S79,COUNTRY_INFO!N79),0)","v":0},{"$f":"IF(AND(COUNTRY_INFO!J79>1,COUNTRY_INFO!J79<99,COUNTRY_INFO!J79<>4,COUNTRY_INFO!J79<>5), IF(T79/COUNTRY_INFO!N79*100<>0, IF(T79/COUNTRY_INFO!N79*100>100,100,T79/COUNTRY_INFO!N79*100), \"-\"),0)","v":0},{"$f":"MAX('MDA1'!K79, 'MDA2'!K79, 'MDA5'!K79,'T1'!L79, MAX(T3_R1!K79,T3_R2!K79,T3_R3!K79))","v":0},{"$f":"IF(AND(COUNTRY_INFO!J79>1,COUNTRY_INFO!J79<99,COUNTRY_INFO!J79<>4,COUNTRY_INFO!J79<>5),IF(COUNTRY_INFO!O79>V79,V79,COUNTRY_INFO!O79),0)","v":0},{"$f":"IF(AND(COUNTRY_INFO!J79>1,COUNTRY_INFO!J79<99,COUNTRY_INFO!J79<>4,COUNTRY_INFO!J79<>5), IF(W79/COUNTRY_INFO!O79*100<>0, IF(W79/COUNTRY_INFO!O79*100>100,100,W79/COUNTRY_INFO!O79*100), \"-\"),0)","v":0},{"$f":"MAX('MDA1'!L79, 'MDA2'!L79, 'MDA5'!L79,'T1'!M79, MAX(T3_R1!L79,T3_R2!L79,T3_R3!L79))","v":0},{"$f":"IF(AND(COUNTRY_INFO!J79>1,COUNTRY_INFO!J79<99,COUNTRY_INFO!J79<>4,COUNTRY_INFO!J79<>5),IF(COUNTRY_INFO!P79>Y79,Y79,COUNTRY_INFO!P79),0)","v":0},{"$f":"IF(AND(COUNTRY_INFO!J79>1,COUNTRY_INFO!J79<99,COUNTRY_INFO!J79<>4,COUNTRY_INFO!J79<>5), IF(Z79/COUNTRY_INFO!P79*100<>0, IF(Z79/COUNTRY_INFO!P79*100>100,100,Z79/COUNTRY_INFO!P79*100), \"-\"),0)","v":0},0,0,{"$f":"IF(AND(COUNTRY_INFO!J79>1,COUNTRY_INFO!J79<99,COUNTRY_INFO!J79<>4,COUNTRY_INFO!J79<>5), IF(AC79/P79*100<>0, IF(AC79/P79*100>100,100,AC79/P79*100), \"-\"),0)","v":0},{"$f":"COUNTRY_INFO!U79","v":0},null,null,{"$f":"MAX('T1'!K79,'T2'!R79)","v":0},{"$f":"IF(AND(COUNTRY_INFO!K79>1,COUNTRY_INFO!K79<99,COUNTRY_INFO!K79<>4,COUNTRY_INFO!K79<>5),IF(COUNTRY_INFO!R79>AH79,AH79,COUNTRY_INFO!R79),0)","v":0},{"$f":"IF(AND(COUNTRY_INFO!K79>1,COUNTRY_INFO!K79<99,COUNTRY_INFO!K79<>4,COUNTRY_INFO!K79<>5), IF(AI79/COUNTRY_INFO!R79*100<>0, IF(AI79/COUNTRY_INFO!R79*100>100,100,AI79/COUNTRY_INFO!R79*100), \"-\"),0)","v":0},{"$f":"MAX('T1'!L79,'T2'!S79)","v":0},{"$f":"IF(AND(COUNTRY_INFO!K79>1,COUNTRY_INFO!K79<99,COUNTRY_INFO!K79<>4,COUNTRY_INFO!K79<>5),IF(COUNTRY_INFO!S79>AK79,AK79,COUNTRY_INFO!S79),0)","v":0},{"$f":"IF(AND(COUNTRY_INFO!K79>1,COUNTRY_INFO!K79<99,COUNTRY_INFO!K79<>4,COUNTRY_INFO!K79<>5), IF(AL79/COUNTRY_INFO!S79*100<>0, IF(AL79/COUNTRY_INFO!S79*100>100,100,AL79/COUNTRY_INFO!S79*100), \"-\"),0)","v":0},{"$f":"MAX('T1'!M79,'T2'!T79)","v":0},{"$f":"IF(AND(COUNTRY_INFO!K79>1,COUNTRY_INFO!K79<99,COUNTRY_INFO!K79<>4,COUNTRY_INFO!K79<>5),IF(COUNTRY_INFO!T79>AN79,AN79,COUNTRY_INFO!T79),0)","v":0},{"$f":"IF(AND(COUNTRY_INFO!K79>1,COUNTRY_INFO!K79<99,COUNTRY_INFO!K79<>4,COUNTRY_INFO!K79<>5), IF(AO79/COUNTRY_INFO!T79*100<>0, IF(AO79/COUNTRY_INFO!T79*100>100,100,AO79/COUNTRY_INFO!T79*100), \"-\"),0)","v":0},0,0,{"$f":"IF(AND(COUNTRY_INFO!K79>1,COUNTRY_INFO!K79<99,COUNTRY_INFO!K79<>4,COUNTRY_INFO!K79<>5), IF(AR79/AE79*100<>0, IF(AR79/AE79*100>100,100,AR79/AE79*100), \"-\"),0)","v":0},null,{"$f":"IF(AND(D79<>0, D79<>\"Inconnu\",D79<>\"Interrompu\",D79<>\"Non requis\"),D79/COUNTRY_INFO!D79, 0)","v":0},{"$f":"IF(AND(J79<>0,J79<>\"Inconnu\",J79<>\"Interrompu\",J79<>\"Non requis\"),J79/COUNTRY_INFO!D79, 0)","v":0},{"$f":"IF(AND(P79<>0,P79<>\"Inconnu\",P79<>\"Surveillance\",P79<>\"Non requis\"),P79/COUNTRY_INFO!Q79, 0)","v":0},{"$f":"IF(AND(AE79<>0,AE79<>\"Inconnu\",AE79<>\"Surveillance\",AE79<>\"Non requis\"),AE79/COUNTRY_INFO!U79, 0)","v":0},{"$f":"IF(AU79>0,D79*PROFILE!$G$7,IF(AV79>0,J79*PROFILE!$G$7,0))","v":0},{"$f":"_xlfn.IFS(OR(AU79>0,AW79>0),COUNTRY_INFO!E79, AV79>0,J79*PROFILE!$G$8,AX79>0,COUNTRY_INFO!R79,COUNTIFS(AU79:AX79,\">0\")=0,0)","v":0},{"$f":"_xlfn.IFS(OR(AU79>0,AW79>0),COUNTRY_INFO!F79, AV79>0,J79*PROFILE!$G$9,AX79>0,COUNTRY_INFO!S79,COUNTIFS(AU79:AX79,\">0\")=0,0)","v":0},{"$f":"_xlfn.IFS(AU79>0,COUNTRY_INFO!G79, AND(AV79>0,AW79=0,AX79=0),J79*PROFILE!$G$10,AND(AV79>0,AW79>0,AX79=0), MAX(J79*PROFILE!$G$10,COUNTRY_INFO!P79),AND(AV79>0,AW79=0,AX79>0), MAX(J79*PROFILE!$G$10,COUNTRY_INFO!T79),AND(AV79=0,AW79>0,AX79>0), MAX(COUNTRY_INFO!P79,COUNTRY_INFO!T79),AND(AV79=0,AW79>0,AX79=0),COUNTRY_INFO!P79,AND(AV79=0,AW79=0,AX79>0),COUNTRY_INFO!T79,AND(AV79>0,AW79>0,AX79>0), MAX(J79*PROFILE!$G$10,COUNTRY_INFO!P79,COUNTRY_INFO!T79),COUNTIFS(AU79:AX79,\">0\")=0,0)","v":0},0,0,{"$f":"MAX('MDA2'!J79,'MDA5'!J79,S79,AH79)","v":0},{"$f":"MAX('MDA1'!K79,'MDA2'!K79,'MDA3'!I79,'MDA3'!L79,'MDA5'!K79,V79,AK79)","v":0},{"$f":"MAX('MDA1'!L79,'MDA2'!L79,'MDA3'!J79,'MDA3'!M79,'MDA5'!L79,Y79,AN79)","v":0},0,{"$f":"_xlfn.IFS(AND(AU79=0,AW79=0,AX79=0),0,AND(AU79=0,AW79=0,AX79>0),AI79,AND(AU79=0,AW79>0,AX79=0),T79,AND(AU79=0,AW79>0,AX79>0),MAX(T79,AI79),AND(AU79>0,AW79=0,AX79=0),MIN(MAX('MDA2'!J79,'MDA5'!J79),AZ79),AND(AU79>0,AW79=0,AX79>0),MIN(MAX('MDA2'!J79,'MDA5'!J79,AI79),AZ79),AND(AU79>0,AW79>0,AX79=0),MIN(MAX('MDA2'!J79,'MDA5'!J79,T79),AZ79),AND(AU79>0,AW79>0,AX79>0),MIN(MAX('MDA2'!J79,'MDA5'!J79,AI79,T79),AZ79))","v":0},{"$f":"_xlfn.IFS(AND(AU79=0,AV79=0,AW79=0,AX79=0),0,AND(AU79=0,AV79=0,AW79=0,AX79>0),AL79,AND(AU79=0,AV79=0,AW79>0,AX79=0),W79,AND(AU79=0,AV79=0,AW79>0,AX79>0),MAX(W79,AL79),AND(AU79=0,AV79>0,AW79=0,AX79=0),MIN(J79*PROFILE!$G$9,MAX('MDA3'!I79,'MDA3'!L79)),AND(AU79=0,AV79>0,AW79=0,AX79>0),MIN(J79*PROFILE!$G$9,MAX('MDA3'!I79,'MDA3'!L79,AL79)),AND(AU79=0,AV79>0,AW79>0,AX79=0),MIN(J79*PROFILE!$G$9,MAX('MDA3'!I79,'MDA3'!L79,W79)),AND(AU79=0,AV79>0,AW79>0,AX79>0),MIN(J79*PROFILE!$G$9,MAX('MDA3'!I79,'MDA3'!L79,W79,AL79)),AND(AU79>0,AV79=0,AW79=0,AX79=0), MIN(BA79,MAX('MDA1'!K79,'MDA2'!K79,'MDA5'!K79)),AND(AU79>0,AV79=0,AW79=0,AX79>0), MIN(BA79,MAX('MDA1'!K79,'MDA2'!K79,'MDA5'!K79,AL79)),AND(AU79>0,AV79=0,AW79>0,AX79=0),MIN(BA79,MAX('MDA1'!K79,'MDA2'!KL79,'MDA5'!K79,W79)),AND(AU79>0,AV79=0,AW79>0,AX79>0),MIN(BA79,MAX('MDA1'!K79,'MDA2'!K79,'MDA5'!K79,W79,AL79)),AND(AU79>0,AV79>0,AW79=0,AX79=0),MIN(BA79, MAX('MDA1'!K79,'MDA2'!K79, 'MDA5'!K79,MAX('MDA3'!I79,'MDA3'!L79))), AND(AU79>0,AV79>0,AW79=0,AX79>0),MIN(BA79, MAX('MDA1'!K79,'MDA2'!K79, 'MDA5'!K79,MAX('MDA3'!I79,'MDA3'!L79),AL79)), AND(AU79>0,AV79>0,AW79>0,AX79=0), MIN(BA79, MAX('MDA1'!K79,'MDA2'!K79, 'MDA5'!K79,MAX('MDA3'!I79,'MDA3'!L79),W79)), AND(AU79>0,AV79>0,AW79>0,AX79>0), MIN(BA79, MAX('MDA1'!K79,'MDA2'!K79, 'MDA5'!K79,MAX('MDA3'!I79,'MDA3'!L79),W79,AL79)))","v":0},{"$f":"_xlfn.IFS(AND(AU79=0,AV79=0,AW79=0,AX79=0),0,AND(AU79=0,AV79=0,AW79=0,AX79>0),AO79,AND(AU79=0,AV79=0,AW79>0,AX79=0),Z79,AND(AU79=0,AV79=0,AW79>0,AX79>0),MAX(Z79,AO79),AND(AU79=0,AV79>0,AW79=0,AX79=0),MIN(J79*PROFILE!$G$10,MAX('MDA3'!J79,'MDA3'!J79)),AND(AU79=0,AV79>0,AW79=0,AX79>0),MIN(J79*PROFILE!$G$10,MAX('MDA3'!J79,'MDA3'!M79,AO79)),AND(AU79=0,AV79>0,AW79>0,AX79=0),MIN(J79*PROFILE!$G$10,MAX('MDA3'!J79,'MDA3'!M79,Z79)),AND(AU79=0,AV79>0,AW79>0,AX79>0),MIN(J79*PROFILE!$G$10,MAX('MDA3'!J79,'MDA3'!M79,Z79,AO79)),AND(AU79>0,AV79=0,AW79=0,AX79=0), MIN(BB79,MAX('MDA1'!L79,'MDA2'!L79,'MDA5'!L79)),AND(AU79>0,AV79=0,AW79=0,AX79>0), MIN(BB79,MAX('MDA1'!L79,'MDA2'!L79,'MDA5'!L79,AO79)),AND(AU79>0,AV79=0,AW79>0,AX79=0),MIN(BB79,MAX('MDA1'!L79,'MDA2'!L79,'MDA5'!L79,Z79)),AND(AU79>0,AV79=0,AW79>0,AX79>0),MIN(BB79,MAX('MDA1'!L79,'MDA2'!L79,'MDA5'!L79,Z79,AO79)),AND(AU79>0,AV79>0,AW79=0,AX79=0),MIN(BB79, MAX('MDA1'!L79,'MDA2'!L79, 'MDA5'!L79,MAX('MDA3'!J79,'MDA3'!M79))), AND(AU79>0,AV79>0,AW79=0,AX79>0),MIN(BB79, MAX('MDA1'!L79,'MDA2'!L79, 'MDA5'!L79,MAX('MDA3'!J79,'MDA3'!M79),AO79)), AND(AU79>0,AV79>0,AW79>0,AX79=0), MIN(BB79, MAX('MDA1'!L79,'MDA2'!L79, 'MDA5'!L79,MAX('MDA3'!J79,'MDA3'!M79),Z79)), AND(AU79>0,AV79>0,AW79>0,AX79>0), MIN(BB79, MAX('MDA1'!L79,'MDA2'!L79, 'MDA5'!L79,MAX('MDA3'!J79,'MDA3'!M79),Z79,AO79)))","v":0},0,0]
[{"$f":"IF(COUNTRY_INFO!A80=0,\" \",COUNTRY_INFO!A80)","v":"Mali"},{"$f":"IF(COUNTRY_INFO!B80=0,\" \",COUNTRY_INFO!B80)","v":"Taoudenit"},{"$f":"IF(COUNTRY_INFO!C80=0,\" \",COUNTRY_INFO!C80)","v":"Al-Ourch"},{"$f":"COUNTRY_INFO!L80","v":0},null,null,{"$f":"MAX('MDA1'!M80,'MDA2'!M80,'MDA5'!M80)","v":0},{"$f":"IF(AND(COUNTRY_INFO!H80>0,COUNTRY_INFO!H80<4),IF(D80>G80,G80,D80),0)","v":0},{"$f":"IF(AND(COUNTRY_INFO!H80>0,COUNTRY_INFO!H80<4), IF(G80/D80*100<>0, IF(G80/D80*100>100,100,G80/D80*100), \"-\"),0)","v":0},{"$f":"COUNTRY_INFO!M80","v":0},null,null,{"$f":"MAX('MDA1'!M80,MAX('MDA3'!I80,'MDA3'!L80)+MAX('MDA3'!J80,'MDA3'!M80))","v":0},{"$f":"IF(AND(COUNTRY_INFO!I80>0,COUNTRY_INFO!I80<4),IF(J80>M80,M80,J80),0)","v":0},{"$f":"IF(AND(COUNTRY_INFO!I80>0,COUNTRY_INFO!I80<4), IF(M80/J80*100<>0, IF(M80/J80*100>100,100,M80/J80*100), \"-\"),0)","v":0},{"$f":"COUNTRY_INFO!Q80","v":"Non requis"},null,null,{"$f":"MAX('MDA2'!J80,'MDA5'!J80,'T1'!K80, MAX(T3_R1!J80,T3_R2!J80,T3_R3!J80))","v":0},{"$f":"IF(AND(COUNTRY_INFO!J80>1,COUNTRY_INFO!J80<99,COUNTRY_INFO!J80<>4,COUNTRY_INFO!J80<>5),IF(COUNTRY_INFO!N80>S80,S80,COUNTRY_INFO!N80),0)","v":0},{"$f":"IF(AND(COUNTRY_INFO!J80>1,COUNTRY_INFO!J80<99,COUNTRY_INFO!J80<>4,COUNTRY_INFO!J80<>5), IF(T80/COUNTRY_INFO!N80*100<>0, IF(T80/COUNTRY_INFO!N80*100>100,100,T80/COUNTRY_INFO!N80*100), \"-\"),0)","v":0},{"$f":"MAX('MDA1'!K80, 'MDA2'!K80, 'MDA5'!K80,'T1'!L80, MAX(T3_R1!K80,T3_R2!K80,T3_R3!K80))","v":0},{"$f":"IF(AND(COUNTRY_INFO!J80>1,COUNTRY_INFO!J80<99,COUNTRY_INFO!J80<>4,COUNTRY_INFO!J80<>5),IF(COUNTRY_INFO!O80>V80,V80,COUNTRY_INFO!O80),0)","v":0},{"$f":"IF(AND(COUNTRY_INFO!J80>1,COUNTRY_INFO!J80<99,COUNTRY_INFO!J80<>4,COUNTRY_INFO!J80<>5), IF(W80/COUNTRY_INFO!O80*100<>0, IF(W80/COUNTRY_INFO!O80*100>100,100,W80/COUNTRY_INFO!O80*100), \"-\"),0)","v":0},{"$f":"MAX('MDA1'!L80, 'MDA2'!L80, 'MDA5'!L80,'T1'!M80, MAX(T3_R1!L80,T3_R2!L80,T3_R3!L80))","v":0},{"$f":"IF(AND(COUNTRY_INFO!J80>1,COUNTRY_INFO!J80<99,COUNTRY_INFO!J80<>4,COUNTRY_INFO!J80<>5),IF(COUNTRY_INFO!P80>Y80,Y80,COUNTRY_INFO!P80),0)","v":0},{"$f":"IF(AND(COUNTRY_INFO!J80>1,COUNTRY_INFO!J80<99,COUNTRY_INFO!J80<>4,COUNTRY_INFO!J80<>5), IF(Z80/COUNTRY_INFO!P80*100<>0, IF(Z80/COUNTRY_INFO!P80*100>100,100,Z80/COUNTRY_INFO!P80*100), \"-\"),0)","v":0},0,0,{"$f":"IF(AND(COUNTRY_INFO!J80>1,COUNTRY_INFO!J80<99,COUNTRY_INFO!J80<>4,COUNTRY_INFO!J80<>5), IF(AC80/P80*100<>0, IF(AC80/P80*100>100,100,AC80/P80*100), \"-\"),0)","v":0},{"$f":"COUNTRY_INFO!U80","v":0},null,null,{"$f":"MAX('T1'!K80,'T2'!R80)","v":0},{"$f":"IF(AND(COUNTRY_INFO!K80>1,COUNTRY_INFO!K80<99,COUNTRY_INFO!K80<>4,COUNTRY_INFO!K80<>5),IF(COUNTRY_INFO!R80>AH80,AH80,COUNTRY_INFO!R80),0)","v":0},{"$f":"IF(AND(COUNTRY_INFO!K80>1,COUNTRY_INFO!K80<99,COUNTRY_INFO!K80<>4,COUNTRY_INFO!K80<>5), IF(AI80/COUNTRY_INFO!R80*100<>0, IF(AI80/COUNTRY_INFO!R80*100>100,100,AI80/COUNTRY_INFO!R80*100), \"-\"),0)","v":0},{"$f":"MAX('T1'!L80,'T2'!S80)","v":0},{"$f":"IF(AND(COUNTRY_INFO!K80>1,COUNTRY_INFO!K80<99,COUNTRY_INFO!K80<>4,COUNTRY_INFO!K80<>5),IF(COUNTRY_INFO!S80>AK80,AK80,COUNTRY_INFO!S80),0)","v":0},{"$f":"IF(AND(COUNTRY_INFO!K80>1,COUNTRY_INFO!K80<99,COUNTRY_INFO!K80<>4,COUNTRY_INFO!K80<>5), IF(AL80/COUNTRY_INFO!S80*100<>0, IF(AL80/COUNTRY_INFO!S80*100>100,100,AL80/COUNTRY_INFO!S80*100), \"-\"),0)","v":0},{"$f":"MAX('T1'!M80,'T2'!T80)","v":0},{"$f":"IF(AND(COUNTRY_INFO!K80>1,COUNTRY_INFO!K80<99,COUNTRY_INFO!K80<>4,COUNTRY_INFO!K80<>5),IF(COUNTRY_INFO!T80>AN80,AN80,COUNTRY_INFO!T80),0)","v":0},{"$f":"IF(AND(COUNTRY_INFO!K80>1,COUNTRY_INFO!K80<99,COUNTRY_INFO!K80<>4,COUNTRY_INFO!K80<>5), IF(AO80/COUNTRY_INFO!T80*100<>0, IF(AO80/COUNTRY_INFO!T80*100>100,100,AO80/COUNTRY_INFO!T80*100), \"-\"),0)","v":0},0,0,{"$f":"IF(AND(COUNTRY_INFO!K80>1,COUNTRY_INFO!K80<99,COUNTRY_INFO!K80<>4,COUNTRY_INFO!K80<>5), IF(AR80/AE80*100<>0, IF(AR80/AE80*100>100,100,AR80/AE80*100), \"-\"),0)","v":0},null,{"$f":"IF(AND(D80<>0, D80<>\"Inconnu\",D80<>\"Interrompu\",D80<>\"Non requis\"),D80/COUNTRY_INFO!D80, 0)","v":0},{"$f":"IF(AND(J80<>0,J80<>\"Inconnu\",J80<>\"Interrompu\",J80<>\"Non requis\"),J80/COUNTRY_INFO!D80, 0)","v":0},{"$f":"IF(AND(P80<>0,P80<>\"Inconnu\",P80<>\"Surveillance\",P80<>\"Non requis\"),P80/COUNTRY_INFO!Q80, 0)","v":0},{"$f":"IF(AND(AE80<>0,AE80<>\"Inconnu\",AE80<>\"Surveillance\",AE80<>\"Non requis\"),AE80/COUNTRY_INFO!U80, 0)","v":0},{"$f":"IF(AU80>0,D80*PROFILE!$G$7,IF(AV80>0,J80*PROFILE!$G$7,0))","v":0},{"$f":"_xlfn.IFS(OR(AU80>0,AW80>0),COUNTRY_INFO!E80, AV80>0,J80*PROFILE!$G$8,AX80>0,COUNTRY_INFO!R80,COUNTIFS(AU80:AX80,\">0\")=0,0)","v":0},{"$f":"_xlfn.IFS(OR(AU80>0,AW80>0),COUNTRY_INFO!F80, AV80>0,J80*PROFILE!$G$9,AX80>0,COUNTRY_INFO!S80,COUNTIFS(AU80:AX80,\">0\")=0,0)","v":0},{"$f":"_xlfn.IFS(AU80>0,COUNTRY_INFO!G80, AND(AV80>0,AW80=0,AX80=0),J80*PROFILE!$G$10,AND(AV80>0,AW80>0,AX80=0), MAX(J80*PROFILE!$G$10,COUNTRY_INFO!P80),AND(AV80>0,AW80=0,AX80>0), MAX(J80*PROFILE!$G$10,COUNTRY_INFO!T80),AND(AV80=0,AW80>0,AX80>0), MAX(COUNTRY_INFO!P80,COUNTRY_INFO!T80),AND(AV80=0,AW80>0,AX80=0),COUNTRY_INFO!P80,AND(AV80=0,AW80=0,AX80>0),COUNTRY_INFO!T80,AND(AV80>0,AW80>0,AX80>0), MAX(J80*PROFILE!$G$10,COUNTRY_INFO!P80,COUNTRY_INFO!T80),COUNTIFS(AU80:AX80,\">0\")=0,0)","v":0},0,0,{"$f":"MAX('MDA2'!J80,'MDA5'!J80,S80,AH80)","v":0},{"$f":"MAX('MDA1'!K80,'MDA2'!K80,'MDA3'!I80,'MDA3'!L80,'MDA5'!K80,V80,AK80)","v":0},{"$f":"MAX('MDA1'!L80,'MDA2'!L80,'MDA3'!J80,'MDA3'!M80,'MDA5'!L80,Y80,AN80)","v":0},0,{"$f":"_xlfn.IFS(AND(AU80=0,AW80=0,AX80=0),0,AND(AU80=0,AW80=0,AX80>0),AI80,AND(AU80=0,AW80>0,AX80=0),T80,AND(AU80=0,AW80>0,AX80>0),MAX(T80,AI80),AND(AU80>0,AW80=0,AX80=0),MIN(MAX('MDA2'!J80,'MDA5'!J80),AZ80),AND(AU80>0,AW80=0,AX80>0),MIN(MAX('MDA2'!J80,'MDA5'!J80,AI80),AZ80),AND(AU80>0,AW80>0,AX80=0),MIN(MAX('MDA2'!J80,'MDA5'!J80,T80),AZ80),AND(AU80>0,AW80>0,AX80>0),MIN(MAX('MDA2'!J80,'MDA5'!J80,AI80,T80),AZ80))","v":0},{"$f":"_xlfn.IFS(AND(AU80=0,AV80=0,AW80=0,AX80=0),0,AND(AU80=0,AV80=0,AW80=0,AX80>0),AL80,AND(AU80=0,AV80=0,AW80>0,AX80=0),W80,AND(AU80=0,AV80=0,AW80>0,AX80>0),MAX(W80,AL80),AND(AU80=0,AV80>0,AW80=0,AX80=0),MIN(J80*PROFILE!$G$9,MAX('MDA3'!I80,'MDA3'!L80)),AND(AU80=0,AV80>0,AW80=0,AX80>0),MIN(J80*PROFILE!$G$9,MAX('MDA3'!I80,'MDA3'!L80,AL80)),AND(AU80=0,AV80>0,AW80>0,AX80=0),MIN(J80*PROFILE!$G$9,MAX('MDA3'!I80,'MDA3'!L80,W80)),AND(AU80=0,AV80>0,AW80>0,AX80>0),MIN(J80*PROFILE!$G$9,MAX('MDA3'!I80,'MDA3'!L80,W80,AL80)),AND(AU80>0,AV80=0,AW80=0,AX80=0), MIN(BA80,MAX('MDA1'!K80,'MDA2'!K80,'MDA5'!K80)),AND(AU80>0,AV80=0,AW80=0,AX80>0), MIN(BA80,MAX('MDA1'!K80,'MDA2'!K80,'MDA5'!K80,AL80)),AND(AU80>0,AV80=0,AW80>0,AX80=0),MIN(BA80,MAX('MDA1'!K80,'MDA2'!KL80,'MDA5'!K80,W80)),AND(AU80>0,AV80=0,AW80>0,AX80>0),MIN(BA80,MAX('MDA1'!K80,'MDA2'!K80,'MDA5'!K80,W80,AL80)),AND(AU80>0,AV80>0,AW80=0,AX80=0),MIN(BA80, MAX('MDA1'!K80,'MDA2'!K80, 'MDA5'!K80,MAX('MDA3'!I80,'MDA3'!L80))), AND(AU80>0,AV80>0,AW80=0,AX80>0),MIN(BA80, MAX('MDA1'!K80,'MDA2'!K80, 'MDA5'!K80,MAX('MDA3'!I80,'MDA3'!L80),AL80)), AND(AU80>0,AV80>0,AW80>0,AX80=0), MIN(BA80, MAX('MDA1'!K80,'MDA2'!K80, 'MDA5'!K80,MAX('MDA3'!I80,'MDA3'!L80),W80)), AND(AU80>0,AV80>0,AW80>0,AX80>0), MIN(BA80, MAX('MDA1'!K80,'MDA2'!K80, 'MDA5'!K80,MAX('MDA3'!I80,'MDA3'!L80),W80,AL80)))","v":0},{"$f":"_xlfn.IFS(AND(AU80=0,AV80=0,AW80=0,AX80=0),0,AND(AU80=0,AV80=0,AW80=0,AX80>0),AO80,AND(AU80=0,AV80=0,AW80>0,AX80=0),Z80,AND(AU80=0,AV80=0,AW80>0,AX80>0),MAX(Z80,AO80),AND(AU80=0,AV80>0,AW80=0,AX80=0),MIN(J80*PROFILE!$G$10,MAX('MDA3'!J80,'MDA3'!J80)),AND(AU80=0,AV80>0,AW80=0,AX80>0),MIN(J80*PROFILE!$G$10,MAX('MDA3'!J80,'MDA3'!M80,AO80)),AND(AU80=0,AV80>0,AW80>0,AX80=0),MIN(J80*PROFILE!$G$10,MAX('MDA3'!J80,'MDA3'!M80,Z80)),AND(AU80=0,AV80>0,AW80>0,AX80>0),MIN(J80*PROFILE!$G$10,MAX('MDA3'!J80,'MDA3'!M80,Z80,AO80)),AND(AU80>0,AV80=0,AW80=0,AX80=0), MIN(BB80,MAX('MDA1'!L80,'MDA2'!L80,'MDA5'!L80)),AND(AU80>0,AV80=0,AW80=0,AX80>0), MIN(BB80,MAX('MDA1'!L80,'MDA2'!L80,'MDA5'!L80,AO80)),AND(AU80>0,AV80=0,AW80>0,AX80=0),MIN(BB80,MAX('MDA1'!L80,'MDA2'!L80,'MDA5'!L80,Z80)),AND(AU80>0,AV80=0,AW80>0,AX80>0),MIN(BB80,MAX('MDA1'!L80,'MDA2'!L80,'MDA5'!L80,Z80,AO80)),AND(AU80>0,AV80>0,AW80=0,AX80=0),MIN(BB80, MAX('MDA1'!L80,'MDA2'!L80, 'MDA5'!L80,MAX('MDA3'!J80,'MDA3'!M80))), AND(AU80>0,AV80>0,AW80=0,AX80>0),MIN(BB80, MAX('MDA1'!L80,'MDA2'!L80, 'MDA5'!L80,MAX('MDA3'!J80,'MDA3'!M80),AO80)), AND(AU80>0,AV80>0,AW80>0,AX80=0), MIN(BB80, MAX('MDA1'!L80,'MDA2'!L80, 'MDA5'!L80,MAX('MDA3'!J80,'MDA3'!M80),Z80)), AND(AU80>0,AV80>0,AW80>0,AX80>0), MIN(BB80, MAX('MDA1'!L80,'MDA2'!L80, 'MDA5'!L80,MAX('MDA3'!J80,'MDA3'!M80),Z80,AO80)))","v":0},0,0]
[{"$f":"IF(COUNTRY_INFO!A81=0,\" \",COUNTRY_INFO!A81)","v":"Mali"},{"$f":"IF(COUNTRY_INFO!B81=0,\" \",COUNTRY_INFO!B81)","v":"Taoudenit"},{"$f":"IF(COUNTRY_INFO!C81=0,\" \",COUNTRY_INFO!C81)","v":"Araouane"},{"$f":"COUNTRY_INFO!L81","v":0},null,null,{"$f":"MAX('MDA1'!M81,'MDA2'!M81,'MDA5'!M81)","v":0},{"$f":"IF(AND(COUNTRY_INFO!H81>0,COUNTRY_INFO!H81<4),IF(D81>G81,G81,D81),0)","v":0},{"$f":"IF(AND(COUNTRY_INFO!H81>0,COUNTRY_INFO!H81<4), IF(G81/D81*100<>0, IF(G81/D81*100>100,100,G81/D81*100), \"-\"),0)","v":0},{"$f":"COUNTRY_INFO!M81","v":0},null,null,{"$f":"MAX('MDA1'!M81,MAX('MDA3'!I81,'MDA3'!L81)+MAX('MDA3'!J81,'MDA3'!M81))","v":0},{"$f":"IF(AND(COUNTRY_INFO!I81>0,COUNTRY_INFO!I81<4),IF(J81>M81,M81,J81),0)","v":0},{"$f":"IF(AND(COUNTRY_INFO!I81>0,COUNTRY_INFO!I81<4), IF(M81/J81*100<>0, IF(M81/J81*100>100,100,M81/J81*100), \"-\"),0)","v":0},{"$f":"COUNTRY_INFO!Q81","v":"Non requis"},null,null,{"$f":"MAX('MDA2'!J81,'MDA5'!J81,'T1'!K81, MAX(T3_R1!J81,T3_R2!J81,T3_R3!J81))","v":0},{"$f":"IF(AND(COUNTRY_INFO!J81>1,COUNTRY_INFO!J81<99,COUNTRY_INFO!J81<>4,COUNTRY_INFO!J81<>5),IF(COUNTRY_INFO!N81>S81,S81,COUNTRY_INFO!N81),0)","v":0},{"$f":"IF(AND(COUNTRY_INFO!J81>1,COUNTRY_INFO!J81<99,COUNTRY_INFO!J81<>4,COUNTRY_INFO!J81<>5), IF(T81/COUNTRY_INFO!N81*100<>0, IF(T81/COUNTRY_INFO!N81*100>100,100,T81/COUNTRY_INFO!N81*100), \"-\"),0)","v":0},{"$f":"MAX('MDA1'!K81, 'MDA2'!K81, 'MDA5'!K81,'T1'!L81, MAX(T3_R1!K81,T3_R2!K81,T3_R3!K81))","v":0},{"$f":"IF(AND(COUNTRY_INFO!J81>1,COUNTRY_INFO!J81<99,COUNTRY_INFO!J81<>4,COUNTRY_INFO!J81<>5),IF(COUNTRY_INFO!O81>V81,V81,COUNTRY_INFO!O81),0)","v":0},{"$f":"IF(AND(COUNTRY_INFO!J81>1,COUNTRY_INFO!J81<99,COUNTRY_INFO!J81<>4,COUNTRY_INFO!J81<>5), IF(W81/COUNTRY_INFO!O81*100<>0, IF(W81/COUNTRY_INFO!O81*100>100,100,W81/COUNTRY_INFO!O81*100), \"-\"),0)","v":0},{"$f":"MAX('MDA1'!L81, 'MDA2'!L81, 'MDA5'!L81,'T1'!M81, MAX(T3_R1!L81,T3_R2!L81,T3_R3!L81))","v":0},{"$f":"IF(AND(COUNTRY_INFO!J81>1,COUNTRY_INFO!J81<99,COUNTRY_INFO!J81<>4,COUNTRY_INFO!J81<>5),IF(COUNTRY_INFO!P81>Y81,Y81,COUNTRY_INFO!P81),0)","v":0},{"$f":"IF(AND(COUNTRY_INFO!J81>1,COUNTRY_INFO!J81<99,COUNTRY_INFO!J81<>4,COUNTRY_INFO!J81<>5), IF(Z81/COUNTRY_INFO!P81*100<>0, IF(Z81/COUNTRY_INFO!P81*100>100,100,Z81/COUNTRY_INFO!P81*100), \"-\"),0)","v":0},0,0,{"$f":"IF(AND(COUNTRY_INFO!J81>1,COUNTRY_INFO!J81<99,COUNTRY_INFO!J81<>4,COUNTRY_INFO!J81<>5), IF(AC81/P81*100<>0, IF(AC81/P81*100>100,100,AC81/P81*100), \"-\"),0)","v":0},{"$f":"COUNTRY_INFO!U81","v":0},null,null,{"$f":"MAX('T1'!K81,'T2'!R81)","v":0},{"$f":"IF(AND(COUNTRY_INFO!K81>1,COUNTRY_INFO!K81<99,COUNTRY_INFO!K81<>4,COUNTRY_INFO!K81<>5),IF(COUNTRY_INFO!R81>AH81,AH81,COUNTRY_INFO!R81),0)","v":0},{"$f":"IF(AND(COUNTRY_INFO!K81>1,COUNTRY_INFO!K81<99,COUNTRY_INFO!K81<>4,COUNTRY_INFO!K81<>5), IF(AI81/COUNTRY_INFO!R81*100<>0, IF(AI81/COUNTRY_INFO!R81*100>100,100,AI81/COUNTRY_INFO!R81*100), \"-\"),0)","v":0},{"$f":"MAX('T1'!L81,'T2'!S81)","v":0},{"$f":"IF(AND(COUNTRY_INFO!K81>1,COUNTRY_INFO!K81<99,COUNTRY_INFO!K81<>4,COUNTRY_INFO!K81<>5),IF(COUNTRY_INFO!S81>AK81,AK81,COUNTRY_INFO!S81),0)","v":0},{"$f":"IF(AND(COUNTRY_INFO!K81>1,COUNTRY_INFO!K81<99,COUNTRY_INFO!K81<>4,COUNTRY_INFO!K81<>5), IF(AL81/COUNTRY_INFO!S81*100<>0, IF(AL81/COUNTRY_INFO!S81*100>100,100,AL81/COUNTRY_INFO!S81*100), \"-\"),0)","v":0},{"$f":"MAX('T1'!M81,'T2'!T81)","v":0},{"$f":"IF(AND(COUNTRY_INFO!K81>1,COUNTRY_INFO!K81<99,COUNTRY_INFO!K81<>4,COUNTRY_INFO!K81<>5),IF(COUNTRY_INFO!T81>AN81,AN81,COUNTRY_INFO!T81),0)","v":0},{"$f":"IF(AND(COUNTRY_INFO!K81>1,COUNTRY_INFO!K81<99,COUNTRY_INFO!K81<>4,COUNTRY_INFO!K81<>5), IF(AO81/COUNTRY_INFO!T81*100<>0, IF(AO81/COUNTRY_INFO!T81*100>100,100,AO81/COUNTRY_INFO!T81*100), \"-\"),0)","v":0},0,0,{"$f":"IF(AND(COUNTRY_INFO!K81>1,COUNTRY_INFO!K81<99,COUNTRY_INFO!K81<>4,COUNTRY_INFO!K81<>5), IF(AR81/AE81*100<>0, IF(AR81/AE81*100>100,100,AR81/AE81*100), \"-\"),0)","v":0},null,{"$f":"IF(AND(D81<>0, D81<>\"Inconnu\",D81<>\"Interrompu\",D81<>\"Non requis\"),D81/COUNTRY_INFO!D81, 0)","v":0},{"$f":"IF(AND(J81<>0,J81<>\"Inconnu\",J81<>\"Interrompu\",J81<>\"Non requis\"),J81/COUNTRY_INFO!D81, 0)","v":0},{"$f":"IF(AND(P81<>0,P81<>\"Inconnu\",P81<>\"Surveillance\",P81<>\"Non requis\"),P81/COUNTRY_INFO!Q81, 0)","v":0},{"$f":"IF(AND(AE81<>0,AE81<>\"Inconnu\",AE81<>\"Surveillance\",AE81<>\"Non requis\"),AE81/COUNTRY_INFO!U81, 0)","v":0},{"$f":"IF(AU81>0,D81*PROFILE!$G$7,IF(AV81>0,J81*PROFILE!$G$7,0))","v":0},{"$f":"_xlfn.IFS(OR(AU81>0,AW81>0),COUNTRY_INFO!E81, AV81>0,J81*PROFILE!$G$8,AX81>0,COUNTRY_INFO!R81,COUNTIFS(AU81:AX81,\">0\")=0,0)","v":0},{"$f":"_xlfn.IFS(OR(AU81>0,AW81>0),COUNTRY_INFO!F81, AV81>0,J81*PROFILE!$G$9,AX81>0,COUNTRY_INFO!S81,COUNTIFS(AU81:AX81,\">0\")=0,0)","v":0},{"$f":"_xlfn.IFS(AU81>0,COUNTRY_INFO!G81, AND(AV81>0,AW81=0,AX81=0),J81*PROFILE!$G$10,AND(AV81>0,AW81>0,AX81=0), MAX(J81*PROFILE!$G$10,COUNTRY_INFO!P81),AND(AV81>0,AW81=0,AX81>0), MAX(J81*PROFILE!$G$10,COUNTRY_INFO!T81),AND(AV81=0,AW81>0,AX81>0), MAX(COUNTRY_INFO!P81,COUNTRY_INFO!T81),AND(AV81=0,AW81>0,AX81=0),COUNTRY_INFO!P81,AND(AV81=0,AW81=0,AX81>0),COUNTRY_INFO!T81,AND(AV81>0,AW81>0,AX81>0), MAX(J81*PROFILE!$G$10,COUNTRY_INFO!P81,COUNTRY_INFO!T81),COUNTIFS(AU81:AX81,\">0\")=0,0)","v":0},0,0,{"$f":"MAX('MDA2'!J81,'MDA5'!J81,S81,AH81)","v":0},{"$f":"MAX('MDA1'!K81,'MDA2'!K81,'MDA3'!I81,'MDA3'!L81,'MDA5'!K81,V81,AK81)","v":0},{"$f":"MAX('MDA1'!L81,'MDA2'!L81,'MDA3'!J81,'MDA3'!M81,'MDA5'!L81,Y81,AN81)","v":0},0,{"$f":"_xlfn.IFS(AND(AU81=0,AW81=0,AX81=0),0,AND(AU81=0,AW81=0,AX81>0),AI81,AND(AU81=0,AW81>0,AX81=0),T81,AND(AU81=0,AW81>0,AX81>0),MAX(T81,AI81),AND(AU81>0,AW81=0,AX81=0),MIN(MAX('MDA2'!J81,'MDA5'!J81),AZ81),AND(AU81>0,AW81=0,AX81>0),MIN(MAX('MDA2'!J81,'MDA5'!J81,AI81),AZ81),AND(AU81>0,AW81>0,AX81=0),MIN(MAX('MDA2'!J81,'MDA5'!J81,T81),AZ81),AND(AU81>0,AW81>0,AX81>0),MIN(MAX('MDA2'!J81,'MDA5'!J81,AI81,T81),AZ81))","v":0},{"$f":"_xlfn.IFS(AND(AU81=0,AV81=0,AW81=0,AX81=0),0,AND(AU81=0,AV81=0,AW81=0,AX81>0),AL81,AND(AU81=0,AV81=0,AW81>0,AX81=0),W81,AND(AU81=0,AV81=0,AW81>0,AX81>0),MAX(W81,AL81),AND(AU81=0,AV81>0,AW81=0,AX81=0),MIN(J81*PROFILE!$G$9,MAX('MDA3'!I81,'MDA3'!L81)),AND(AU81=0,AV81>0,AW81=0,AX81>0),MIN(J81*PROFILE!$G$9,MAX('MDA3'!I81,'MDA3'!L81,AL81)),AND(AU81=0,AV81>0,AW81>0,AX81=0),MIN(J81*PROFILE!$G$9,MAX('MDA3'!I81,'MDA3'!L81,W81)),AND(AU81=0,AV81>0,AW81>0,AX81>0),MIN(J81*PROFILE!$G$9,MAX('MDA3'!I81,'MDA3'!L81,W81,AL81)),AND(AU81>0,AV81=0,AW81=0,AX81=0), MIN(BA81,MAX('MDA1'!K81,'MDA2'!K81,'MDA5'!K81)),AND(AU81>0,AV81=0,AW81=0,AX81>0), MIN(BA81,MAX('MDA1'!K81,'MDA2'!K81,'MDA5'!K81,AL81)),AND(AU81>0,AV81=0,AW81>0,AX81=0),MIN(BA81,MAX('MDA1'!K81,'MDA2'!KL81,'MDA5'!K81,W81)),AND(AU81>0,AV81=0,AW81>0,AX81>0),MIN(BA81,MAX('MDA1'!K81,'MDA2'!K81,'MDA5'!K81,W81,AL81)),AND(AU81>0,AV81>0,AW81=0,AX81=0),MIN(BA81, MAX('MDA1'!K81,'MDA2'!K81, 'MDA5'!K81,MAX('MDA3'!I81,'MDA3'!L81))), AND(AU81>0,AV81>0,AW81=0,AX81>0),MIN(BA81, MAX('MDA1'!K81,'MDA2'!K81, 'MDA5'!K81,MAX('MDA3'!I81,'MDA3'!L81),AL81)), AND(AU81>0,AV81>0,AW81>0,AX81=0), MIN(BA81, MAX('MDA1'!K81,'MDA2'!K81, 'MDA5'!K81,MAX('MDA3'!I81,'MDA3'!L81),W81)), AND(AU81>0,AV81>0,AW81>0,AX81>0), MIN(BA81, MAX('MDA1'!K81,'MDA2'!K81, 'MDA5'!K81,MAX('MDA3'!I81,'MDA3'!L81),W81,AL81)))","v":0},{"$f":"_xlfn.IFS(AND(AU81=0,AV81=0,AW81=0,AX81=0),0,AND(AU81=0,AV81=0,AW81=0,AX81>0),AO81,AND(AU81=0,AV81=0,AW81>0,AX81=0),Z81,AND(AU81=0,AV81=0,AW81>0,AX81>0),MAX(Z81,AO81),AND(AU81=0,AV81>0,AW81=0,AX81=0),MIN(J81*PROFILE!$G$10,MAX('MDA3'!J81,'MDA3'!J81)),AND(AU81=0,AV81>0,AW81=0,AX81>0),MIN(J81*PROFILE!$G$10,MAX('MDA3'!J81,'MDA3'!M81,AO81)),AND(AU81=0,AV81>0,AW81>0,AX81=0),MIN(J81*PROFILE!$G$10,MAX('MDA3'!J81,'MDA3'!M81,Z81)),AND(AU81=0,AV81>0,AW81>0,AX81>0),MIN(J81*PROFILE!$G$10,MAX('MDA3'!J81,'MDA3'!M81,Z81,AO81)),AND(AU81>0,AV81=0,AW81=0,AX81=0), MIN(BB81,MAX('MDA1'!L81,'MDA2'!L81,'MDA5'!L81)),AND(AU81>0,AV81=0,AW81=0,AX81>0), MIN(BB81,MAX('MDA1'!L81,'MDA2'!L81,'MDA5'!L81,AO81)),AND(AU81>0,AV81=0,AW81>0,AX81=0),MIN(BB81,MAX('MDA1'!L81,'MDA2'!L81,'MDA5'!L81,Z81)),AND(AU81>0,AV81=0,AW81>0,AX81>0),MIN(BB81,MAX('MDA1'!L81,'MDA2'!L81,'MDA5'!L81,Z81,AO81)),AND(AU81>0,AV81>0,AW81=0,AX81=0),MIN(BB81, MAX('MDA1'!L81,'MDA2'!L81, 'MDA5'!L81,MAX('MDA3'!J81,'MDA3'!M81))), AND(AU81>0,AV81>0,AW81=0,AX81>0),MIN(BB81, MAX('MDA1'!L81,'MDA2'!L81, 'MDA5'!L81,MAX('MDA3'!J81,'MDA3'!M81),AO81)), AND(AU81>0,AV81>0,AW81>0,AX81=0), MIN(BB81, MAX('MDA1'!L81,'MDA2'!L81, 'MDA5'!L81,MAX('MDA3'!J81,'MDA3'!M81),Z81)), AND(AU81>0,AV81>0,AW81>0,AX81>0), MIN(BB81, MAX('MDA1'!L81,'MDA2'!L81, 'MDA5'!L81,MAX('MDA3'!J81,'MDA3'!M81),Z81,AO81)))","v":0},0,0]
[{"$f":"IF(COUNTRY_INFO!A82=0,\" \",COUNTRY_INFO!A82)","v":"Mali"},{"$f":"IF(COUNTRY_INFO!B82=0,\" \",COUNTRY_INFO!B82)","v":"Taoudenit"},{"$f":"IF(COUNTRY_INFO!C82=0,\" \",COUNTRY_INFO!C82)","v":"Boujbeha"},{"$f":"COUNTRY_INFO!L82","v":0},null,null,{"$f":"MAX('MDA1'!M82,'MDA2'!M82,'MDA5'!M82)","v":0},{"$f":"IF(AND(COUNTRY_INFO!H82>0,COUNTRY_INFO!H82<4),IF(D82>G82,G82,D82),0)","v":0},{"$f":"IF(AND(COUNTRY_INFO!H82>0,COUNTRY_INFO!H82<4), IF(G82/D82*100<>0, IF(G82/D82*100>100,100,G82/D82*100), \"-\"),0)","v":0},{"$f":"COUNTRY_INFO!M82","v":0},null,null,{"$f":"MAX('MDA1'!M82,MAX('MDA3'!I82,'MDA3'!L82)+MAX('MDA3'!J82,'MDA3'!M82))","v":0},{"$f":"IF(AND(COUNTRY_INFO!I82>0,COUNTRY_INFO!I82<4),IF(J82>M82,M82,J82),0)","v":0},{"$f":"IF(AND(COUNTRY_INFO!I82>0,COUNTRY_INFO!I82<4), IF(M82/J82*100<>0, IF(M82/J82*100>100,100,M82/J82*100), \"-\"),0)","v":0},{"$f":"COUNTRY_INFO!Q82","v":"Non requis"},null,null,{"$f":"MAX('MDA2'!J82,'MDA5'!J82,'T1'!K82, MAX(T3_R1!J82,T3_R2!J82,T3_R3!J82))","v":0},{"$f":"IF(AND(COUNTRY_INFO!J82>1,COUNTRY_INFO!J82<99,COUNTRY_INFO!J82<>4,COUNTRY_INFO!J82<>5),IF(COUNTRY_INFO!N82>S82,S82,COUNTRY_INFO!N82),0)","v":0},{"$f":"IF(AND(COUNTRY_INFO!J82>1,COUNTRY_INFO!J82<99,COUNTRY_INFO!J82<>4,COUNTRY_INFO!J82<>5), IF(T82/COUNTRY_INFO!N82*100<>0, IF(T82/COUNTRY_INFO!N82*100>100,100,T82/COUNTRY_INFO!N82*100), \"-\"),0)","v":0},{"$f":"MAX('MDA1'!K82, 'MDA2'!K82, 'MDA5'!K82,'T1'!L82, MAX(T3_R1!K82,T3_R2!K82,T3_R3!K82))","v":0},{"$f":"IF(AND(COUNTRY_INFO!J82>1,COUNTRY_INFO!J82<99,COUNTRY_INFO!J82<>4,COUNTRY_INFO!J82<>5),IF(COUNTRY_INFO!O82>V82,V82,COUNTRY_INFO!O82),0)","v":0},{"$f":"IF(AND(COUNTRY_INFO!J82>1,COUNTRY_INFO!J82<99,COUNTRY_INFO!J82<>4,COUNTRY_INFO!J82<>5), IF(W82/COUNTRY_INFO!O82*100<>0, IF(W82/COUNTRY_INFO!O82*100>100,100,W82/COUNTRY_INFO!O82*100), \"-\"),0)","v":0},{"$f":"MAX('MDA1'!L82, 'MDA2'!L82, 'MDA5'!L82,'T1'!M82, MAX(T3_R1!L82,T3_R2!L82,T3_R3!L82))","v":0},{"$f":"IF(AND(COUNTRY_INFO!J82>1,COUNTRY_INFO!J82<99,COUNTRY_INFO!J82<>4,COUNTRY_INFO!J82<>5),IF(COUNTRY_INFO!P82>Y82,Y82,COUNTRY_INFO!P82),0)","v":0},{"$f":"IF(AND(COUNTRY_INFO!J82>1,COUNTRY_INFO!J82<99,COUNTRY_INFO!J82<>4,COUNTRY_INFO!J82<>5), IF(Z82/COUNTRY_INFO!P82*100<>0, IF(Z82/COUNTRY_INFO!P82*100>100,100,Z82/COUNTRY_INFO!P82*100), \"-\"),0)","v":0},0,0,{"$f":"IF(AND(COUNTRY_INFO!J82>1,COUNTRY_INFO!J82<99,COUNTRY_INFO!J82<>4,COUNTRY_INFO!J82<>5), IF(AC82/P82*100<>0, IF(AC82/P82*100>100,100,AC82/P82*100), \"-\"),0)","v":0},{"$f":"COUNTRY_INFO!U82","v":0},null,null,{"$f":"MAX('T1'!K82,'T2'!R82)","v":0},{"$f":"IF(AND(COUNTRY_INFO!K82>1,COUNTRY_INFO!K82<99,COUNTRY_INFO!K82<>4,COUNTRY_INFO!K82<>5),IF(COUNTRY_INFO!R82>AH82,AH82,COUNTRY_INFO!R82),0)","v":0},{"$f":"IF(AND(COUNTRY_INFO!K82>1,COUNTRY_INFO!K82<99,COUNTRY_INFO!K82<>4,COUNTRY_INFO!K82<>5), IF(AI82/COUNTRY_INFO!R82*100<>0, IF(AI82/COUNTRY_INFO!R82*100>100,100,AI82/COUNTRY_INFO!R82*100), \"-\"),0)","v":0},{"$f":"MAX('T1'!L82,'T2'!S82)","v":0},{"$f":"IF(AND(COUNTRY_INFO!K82>1,COUNTRY_INFO!K82<99,COUNTRY_INFO!K82<>4,COUNTRY_INFO!K82<>5),IF(COUNTRY_INFO!S82>AK82,AK82,COUNTRY_INFO!S82),0)","v":0},{"$f":"IF(AND(COUNTRY_INFO!K82>1,COUNTRY_INFO!K82<99,COUNTRY_INFO!K82<>4,COUNTRY_INFO!K82<>5), IF(AL82/COUNTRY_INFO!S82*100<>0, IF(AL82/COUNTRY_INFO!S82*100>100,100,AL82/COUNTRY_INFO!S82*100), \"-\"),0)","v":0},{"$f":"MAX('T1'!M82,'T2'!T82)","v":0},{"$f":"IF(AND(COUNTRY_INFO!K82>1,COUNTRY_INFO!K82<99,COUNTRY_INFO!K82<>4,COUNTRY_INFO!K82<>5),IF(COUNTRY_INFO!T82>AN82,AN82,COUNTRY_INFO!T82),0)","v":0},{"$f":"IF(AND(COUNTRY_INFO!K82>1,COUNTRY_INFO!K82<99,COUNTRY_INFO!K82<>4,COUNTRY_INFO!K82<>5), IF(AO82/COUNTRY_INFO!T82*100<>0, IF(AO82/COUNTRY_INFO!T82*100>100,100,AO82/COUNTRY_INFO!T82*100), \"-\"),0)","v":0},0,0,{"$f":"IF(AND(COUNTRY_INFO!K82>1,COUNTRY_INFO!K82<99,COUNTRY_INFO!K82<>4,COUNTRY_INFO!K82<>5), IF(AR82/AE82*100<>0, IF(AR82/AE82*100>100,100,AR82/AE82*100), \"-\"),0)","v":0},null,{"$f":"IF(AND(D82<>0, D82<>\"Inconnu\",D82<>\"Interrompu\",D82<>\"Non requis\"),D82/COUNTRY_INFO!D82, 0)","v":0},{"$f":"IF(AND(J82<>0,J82<>\"Inconnu\",J82<>\"Interrompu\",J82<>\"Non requis\"),J82/COUNTRY_INFO!D82, 0)","v":0},{"$f":"IF(AND(P82<>0,P82<>\"Inconnu\",P82<>\"Surveillance\",P82<>\"Non requis\"),P82/COUNTRY_INFO!Q82, 0)","v":0},{"$f":"IF(AND(AE82<>0,AE82<>\"Inconnu\",AE82<>\"Surveillance\",AE82<>\"Non requis\"),AE82/COUNTRY_INFO!U82, 0)","v":0},{"$f":"IF(AU82>0,D82*PROFILE!$G$7,IF(AV82>0,J82*PROFILE!$G$7,0))","v":0},{"$f":"_xlfn.IFS(OR(AU82>0,AW82>0),COUNTRY_INFO!E82, AV82>0,J82*PROFILE!$G$8,AX82>0,COUNTRY_INFO!R82,COUNTIFS(AU82:AX82,\">0\")=0,0)","v":0},{"$f":"_xlfn.IFS(OR(AU82>0,AW82>0),COUNTRY_INFO!F82, AV82>0,J82*PROFILE!$G$9,AX82>0,COUNTRY_INFO!S82,COUNTIFS(AU82:AX82,\">0\")=0,0)","v":0},{"$f":"_xlfn.IFS(AU82>0,COUNTRY_INFO!G82, AND(AV82>0,AW82=0,AX82=0),J82*PROFILE!$G$10,AND(AV82>0,AW82>0,AX82=0), MAX(J82*PROFILE!$G$10,COUNTRY_INFO!P82),AND(AV82>0,AW82=0,AX82>0), MAX(J82*PROFILE!$G$10,COUNTRY_INFO!T82),AND(AV82=0,AW82>0,AX82>0), MAX(COUNTRY_INFO!P82,COUNTRY_INFO!T82),AND(AV82=0,AW82>0,AX82=0),COUNTRY_INFO!P82,AND(AV82=0,AW82=0,AX82>0),COUNTRY_INFO!T82,AND(AV82>0,AW82>0,AX82>0), MAX(J82*PROFILE!$G$10,COUNTRY_INFO!P82,COUNTRY_INFO!T82),COUNTIFS(AU82:AX82,\">0\")=0,0)","v":0},0,0,{"$f":"MAX('MDA2'!J82,'MDA5'!J82,S82,AH82)","v":0},{"$f":"MAX('MDA1'!K82,'MDA2'!K82,'MDA3'!I82,'MDA3'!L82,'MDA5'!K82,V82,AK82)","v":0},{"$f":"MAX('MDA1'!L82,'MDA2'!L82,'MDA3'!J82,'MDA3'!M82,'MDA5'!L82,Y82,AN82)","v":0},0,{"$f":"_xlfn.IFS(AND(AU82=0,AW82=0,AX82=0),0,AND(AU82=0,AW82=0,AX82>0),AI82,AND(AU82=0,AW82>0,AX82=0),T82,AND(AU82=0,AW82>0,AX82>0),MAX(T82,AI82),AND(AU82>0,AW82=0,AX82=0),MIN(MAX('MDA2'!J82,'MDA5'!J82),AZ82),AND(AU82>0,AW82=0,AX82>0),MIN(MAX('MDA2'!J82,'MDA5'!J82,AI82),AZ82),AND(AU82>0,AW82>0,AX82=0),MIN(MAX('MDA2'!J82,'MDA5'!J82,T82),AZ82),AND(AU82>0,AW82>0,AX82>0),MIN(MAX('MDA2'!J82,'MDA5'!J82,AI82,T82),AZ82))","v":0},{"$f":"_xlfn.IFS(AND(AU82=0,AV82=0,AW82=0,AX82=0),0,AND(AU82=0,AV82=0,AW82=0,AX82>0),AL82,AND(AU82=0,AV82=0,AW82>0,AX82=0),W82,AND(AU82=0,AV82=0,AW82>0,AX82>0),MAX(W82,AL82),AND(AU82=0,AV82>0,AW82=0,AX82=0),MIN(J82*PROFILE!$G$9,MAX('MDA3'!I82,'MDA3'!L82)),AND(AU82=0,AV82>0,AW82=0,AX82>0),MIN(J82*PROFILE!$G$9,MAX('MDA3'!I82,'MDA3'!L82,AL82)),AND(AU82=0,AV82>0,AW82>0,AX82=0),MIN(J82*PROFILE!$G$9,MAX('MDA3'!I82,'MDA3'!L82,W82)),AND(AU82=0,AV82>0,AW82>0,AX82>0),MIN(J82*PROFILE!$G$9,MAX('MDA3'!I82,'MDA3'!L82,W82,AL82)),AND(AU82>0,AV82=0,AW82=0,AX82=0), MIN(BA82,MAX('MDA1'!K82,'MDA2'!K82,'MDA5'!K82)),AND(AU82>0,AV82=0,AW82=0,AX82>0), MIN(BA82,MAX('MDA1'!K82,'MDA2'!K82,'MDA5'!K82,AL82)),AND(AU82>0,AV82=0,AW82>0,AX82=0),MIN(BA82,MAX('MDA1'!K82,'MDA2'!KL82,'MDA5'!K82,W82)),AND(AU82>0,AV82=0,AW82>0,AX82>0),MIN(BA82,MAX('MDA1'!K82,'MDA2'!K82,'MDA5'!K82,W82,AL82)),AND(AU82>0,AV82>0,AW82=0,AX82=0),MIN(BA82, MAX('MDA1'!K82,'MDA2'!K82, 'MDA5'!K82,MAX('MDA3'!I82,'MDA3'!L82))), AND(AU82>0,AV82>0,AW82=0,AX82>0),MIN(BA82, MAX('MDA1'!K82,'MDA2'!K82, 'MDA5'!K82,MAX('MDA3'!I82,'MDA3'!L82),AL82)), AND(AU82>0,AV82>0,AW82>0,AX82=0), MIN(BA82, MAX('MDA1'!K82,'MDA2'!K82, 'MDA5'!K82,MAX('MDA3'!I82,'MDA3'!L82),W82)), AND(AU82>0,AV82>0,AW82>0,AX82>0), MIN(BA82, MAX('MDA1'!K82,'MDA2'!K82, 'MDA5'!K82,MAX('MDA3'!I82,'MDA3'!L82),W82,AL82)))","v":0},{"$f":"_xlfn.IFS(AND(AU82=0,AV82=0,AW82=0,AX82=0),0,AND(AU82=0,AV82=0,AW82=0,AX82>0),AO82,AND(AU82=0,AV82=0,AW82>0,AX82=0),Z82,AND(AU82=0,AV82=0,AW82>0,AX82>0),MAX(Z82,AO82),AND(AU82=0,AV82>0,AW82=0,AX82=0),MIN(J82*PROFILE!$G$10,MAX('MDA3'!J82,'MDA3'!J82)),AND(AU82=0,AV82>0,AW82=0,AX82>0),MIN(J82*PROFILE!$G$10,MAX('MDA3'!J82,'MDA3'!M82,AO82)),AND(AU82=0,AV82>0,AW82>0,AX82=0),MIN(J82*PROFILE!$G$10,MAX('MDA3'!J82,'MDA3'!M82,Z82)),AND(AU82=0,AV82>0,AW82>0,AX82>0),MIN(J82*PROFILE!$G$10,MAX('MDA3'!J82,'MDA3'!M82,Z82,AO82)),AND(AU82>0,AV82=0,AW82=0,AX82=0), MIN(BB82,MAX('MDA1'!L82,'MDA2'!L82,'MDA5'!L82)),AND(AU82>0,AV82=0,AW82=0,AX82>0), MIN(BB82,MAX('MDA1'!L82,'MDA2'!L82,'MDA5'!L82,AO82)),AND(AU82>0,AV82=0,AW82>0,AX82=0),MIN(BB82,MAX('MDA1'!L82,'MDA2'!L82,'MDA5'!L82,Z82)),AND(AU82>0,AV82=0,AW82>0,AX82>0),MIN(BB82,MAX('MDA1'!L82,'MDA2'!L82,'MDA5'!L82,Z82,AO82)),AND(AU82>0,AV82>0,AW82=0,AX82=0),MIN(BB82, MAX('MDA1'!L82,'MDA2'!L82, 'MDA5'!L82,MAX('MDA3'!J82,'MDA3'!M82))), AND(AU82>0,AV82>0,AW82=0,AX82>0),MIN(BB82, MAX('MDA1'!L82,'MDA2'!L82, 'MDA5'!L82,MAX('MDA3'!J82,'MDA3'!M82),AO82)), AND(AU82>0,AV82>0,AW82>0,AX82=0), MIN(BB82, MAX('MDA1'!L82,'MDA2'!L82, 'MDA5'!L82,MAX('MDA3'!J82,'MDA3'!M82),Z82)), AND(AU82>0,AV82>0,AW82>0,AX82>0), MIN(BB82, MAX('MDA1'!L82,'MDA2'!L82, 'MDA5'!L82,MAX('MDA3'!J82,'MDA3'!M82),Z82,AO82)))","v":0},0,0]
[{"$f":"IF(COUNTRY_INFO!A83=0,\" \",COUNTRY_INFO!A83)","v":"Mali"},{"$f":"IF(COUNTRY_INFO!B83=0,\" \",COUNTRY_INFO!B83)","v":"Taoudenit"},{"$f":"IF(COUNTRY_INFO!C83=0,\" \",COUNTRY_INFO!C83)","v":"Foum-Elba"},{"$f":"COUNTRY_INFO!L83","v":0},null,null,{"$f":"MAX('MDA1'!M83,'MDA2'!M83,'MDA5'!M83)","v":0},{"$f":"IF(AND(COUNTRY_INFO!H83>0,COUNTRY_INFO!H83<4),IF(D83>G83,G83,D83),0)","v":0},{"$f":"IF(AND(COUNTRY_INFO!H83>0,COUNTRY_INFO!H83<4), IF(G83/D83*100<>0, IF(G83/D83*100>100,100,G83/D83*100), \"-\"),0)","v":0},{"$f":"COUNTRY_INFO!M83","v":0},null,null,{"$f":"MAX('MDA1'!M83,MAX('MDA3'!I83,'MDA3'!L83)+MAX('MDA3'!J83,'MDA3'!M83))","v":0},{"$f":"IF(AND(COUNTRY_INFO!I83>0,COUNTRY_INFO!I83<4),IF(J83>M83,M83,J83),0)","v":0},{"$f":"IF(AND(COUNTRY_INFO!I83>0,COUNTRY_INFO!I83<4), IF(M83/J83*100<>0, IF(M83/J83*100>100,100,M83/J83*100), \"-\"),0)","v":0},{"$f":"COUNTRY_INFO!Q83","v":"Non requis"},null,null,{"$f":"MAX('MDA2'!J83,'MDA5'!J83,'T1'!K83, MAX(T3_R1!J83,T3_R2!J83,T3_R3!J83))","v":0},{"$f":"IF(AND(COUNTRY_INFO!J83>1,COUNTRY_INFO!J83<99,COUNTRY_INFO!J83<>4,COUNTRY_INFO!J83<>5),IF(COUNTRY_INFO!N83>S83,S83,COUNTRY_INFO!N83),0)","v":0},{"$f":"IF(AND(COUNTRY_INFO!J83>1,COUNTRY_INFO!J83<99,COUNTRY_INFO!J83<>4,COUNTRY_INFO!J83<>5), IF(T83/COUNTRY_INFO!N83*100<>0, IF(T83/COUNTRY_INFO!N83*100>100,100,T83/COUNTRY_INFO!N83*100), \"-\"),0)","v":0},{"$f":"MAX('MDA1'!K83, 'MDA2'!K83, 'MDA5'!K83,'T1'!L83, MAX(T3_R1!K83,T3_R2!K83,T3_R3!K83))","v":0},{"$f":"IF(AND(COUNTRY_INFO!J83>1,COUNTRY_INFO!J83<99,COUNTRY_INFO!J83<>4,COUNTRY_INFO!J83<>5),IF(COUNTRY_INFO!O83>V83,V83,COUNTRY_INFO!O83),0)","v":0},{"$f":"IF(AND(COUNTRY_INFO!J83>1,COUNTRY_INFO!J83<99,COUNTRY_INFO!J83<>4,COUNTRY_INFO!J83<>5), IF(W83/COUNTRY_INFO!O83*100<>0, IF(W83/COUNTRY_INFO!O83*100>100,100,W83/COUNTRY_INFO!O83*100), \"-\"),0)","v":0},{"$f":"MAX('MDA1'!L83, 'MDA2'!L83, 'MDA5'!L83,'T1'!M83, MAX(T3_R1!L83,T3_R2!L83,T3_R3!L83))","v":0},{"$f":"IF(AND(COUNTRY_INFO!J83>1,COUNTRY_INFO!J83<99,COUNTRY_INFO!J83<>4,COUNTRY_INFO!J83<>5),IF(COUNTRY_INFO!P83>Y83,Y83,COUNTRY_INFO!P83),0)","v":0},{"$f":"IF(AND(COUNTRY_INFO!J83>1,COUNTRY_INFO!J83<99,COUNTRY_INFO!J83<>4,COUNTRY_INFO!J83<>5), IF(Z83/COUNTRY_INFO!P83*100<>0, IF(Z83/COUNTRY_INFO!P83*100>100,100,Z83/COUNTRY_INFO!P83*100), \"-\"),0)","v":0},0,0,{"$f":"IF(AND(COUNTRY_INFO!J83>1,COUNTRY_INFO!J83<99,COUNTRY_INFO!J83<>4,COUNTRY_INFO!J83<>5), IF(AC83/P83*100<>0, IF(AC83/P83*100>100,100,AC83/P83*100), \"-\"),0)","v":0},{"$f":"COUNTRY_INFO!U83","v":0},null,null,{"$f":"MAX('T1'!K83,'T2'!R83)","v":0},{"$f":"IF(AND(COUNTRY_INFO!K83>1,COUNTRY_INFO!K83<99,COUNTRY_INFO!K83<>4,COUNTRY_INFO!K83<>5),IF(COUNTRY_INFO!R83>AH83,AH83,COUNTRY_INFO!R83),0)","v":0},{"$f":"IF(AND(COUNTRY_INFO!K83>1,COUNTRY_INFO!K83<99,COUNTRY_INFO!K83<>4,COUNTRY_INFO!K83<>5), IF(AI83/COUNTRY_INFO!R83*100<>0, IF(AI83/COUNTRY_INFO!R83*100>100,100,AI83/COUNTRY_INFO!R83*100), \"-\"),0)","v":0},{"$f":"MAX('T1'!L83,'T2'!S83)","v":0},{"$f":"IF(AND(COUNTRY_INFO!K83>1,COUNTRY_INFO!K83<99,COUNTRY_INFO!K83<>4,COUNTRY_INFO!K83<>5),IF(COUNTRY_INFO!S83>AK83,AK83,COUNTRY_INFO!S83),0)","v":0},{"$f":"IF(AND(COUNTRY_INFO!K83>1,COUNTRY_INFO!K83<99,COUNTRY_INFO!K83<>4,COUNTRY_INFO!K83<>5), IF(AL83/COUNTRY_INFO!S83*100<>0, IF(AL83/COUNTRY_INFO!S83*100>100,100,AL83/COUNTRY_INFO!S83*100), \"-\"),0)","v":0},{"$f":"MAX('T1'!M83,'T2'!T83)","v":0},{"$f":"IF(AND(COUNTRY_INFO!K83>1,COUNTRY_INFO!K83<99,COUNTRY_INFO!K83<>4,COUNTRY_INFO!K83<>5),IF(COUNTRY_INFO!T83>AN83,AN83,COUNTRY_INFO!T83),0)","v":0},{"$f":"IF(AND(COUNTRY_INFO!K83>1,COUNTRY_INFO!K83<99,COUNTRY_INFO!K83<>4,COUNTRY_INFO!K83<>5), IF(AO83/COUNTRY_INFO!T83*100<>0, IF(AO83/COUNTRY_INFO!T83*100>100,100,AO83/COUNTRY_INFO!T83*100), \"-\"),0)","v":0},0,0,{"$f":"IF(AND(COUNTRY_INFO!K83>1,COUNTRY_INFO!K83<99,COUNTRY_INFO!K83<>4,COUNTRY_INFO!K83<>5), IF(AR83/AE83*100<>0, IF(AR83/AE83*100>100,100,AR83/AE83*100), \"-\"),0)","v":0},null,{"$f":"IF(AND(D83<>0, D83<>\"Inconnu\",D83<>\"Interrompu\",D83<>\"Non requis\"),D83/COUNTRY_INFO!D83, 0)","v":0},{"$f":"IF(AND(J83<>0,J83<>\"Inconnu\",J83<>\"Interrompu\",J83<>\"Non requis\"),J83/COUNTRY_INFO!D83, 0)","v":0},{"$f":"IF(AND(P83<>0,P83<>\"Inconnu\",P83<>\"Surveillance\",P83<>\"Non requis\"),P83/COUNTRY_INFO!Q83, 0)","v":0},{"$f":"IF(AND(AE83<>0,AE83<>\"Inconnu\",AE83<>\"Surveillance\",AE83<>\"Non requis\"),AE83/COUNTRY_INFO!U83, 0)","v":0},{"$f":"IF(AU83>0,D83*PROFILE!$G$7,IF(AV83>0,J83*PROFILE!$G$7,0))","v":0},{"$f":"_xlfn.IFS(OR(AU83>0,AW83>0),COUNTRY_INFO!E83, AV83>0,J83*PROFILE!$G$8,AX83>0,COUNTRY_INFO!R83,COUNTIFS(AU83:AX83,\">0\")=0,0)","v":0},{"$f":"_xlfn.IFS(OR(AU83>0,AW83>0),COUNTRY_INFO!F83, AV83>0,J83*PROFILE!$G$9,AX83>0,COUNTRY_INFO!S83,COUNTIFS(AU83:AX83,\">0\")=0,0)","v":0},{"$f":"_xlfn.IFS(AU83>0,COUNTRY_INFO!G83, AND(AV83>0,AW83=0,AX83=0),J83*PROFILE!$G$10,AND(AV83>0,AW83>0,AX83=0), MAX(J83*PROFILE!$G$10,COUNTRY_INFO!P83),AND(AV83>0,AW83=0,AX83>0), MAX(J83*PROFILE!$G$10,COUNTRY_INFO!T83),AND(AV83=0,AW83>0,AX83>0), MAX(COUNTRY_INFO!P83,COUNTRY_INFO!T83),AND(AV83=0,AW83>0,AX83=0),COUNTRY_INFO!P83,AND(AV83=0,AW83=0,AX83>0),COUNTRY_INFO!T83,AND(AV83>0,AW83>0,AX83>0), MAX(J83*PROFILE!$G$10,COUNTRY_INFO!P83,COUNTRY_INFO!T83),COUNTIFS(AU83:AX83,\">0\")=0,0)","v":0},0,0,{"$f":"MAX('MDA2'!J83,'MDA5'!J83,S83,AH83)","v":0},{"$f":"MAX('MDA1'!K83,'MDA2'!K83,'MDA3'!I83,'MDA3'!L83,'MDA5'!K83,V83,AK83)","v":0},{"$f":"MAX('MDA1'!L83,'MDA2'!L83,'MDA3'!J83,'MDA3'!M83,'MDA5'!L83,Y83,AN83)","v":0},0,{"$f":"_xlfn.IFS(AND(AU83=0,AW83=0,AX83=0),0,AND(AU83=0,AW83=0,AX83>0),AI83,AND(AU83=0,AW83>0,AX83=0),T83,AND(AU83=0,AW83>0,AX83>0),MAX(T83,AI83),AND(AU83>0,AW83=0,AX83=0),MIN(MAX('MDA2'!J83,'MDA5'!J83),AZ83),AND(AU83>0,AW83=0,AX83>0),MIN(MAX('MDA2'!J83,'MDA5'!J83,AI83),AZ83),AND(AU83>0,AW83>0,AX83=0),MIN(MAX('MDA2'!J83,'MDA5'!J83,T83),AZ83),AND(AU83>0,AW83>0,AX83>0),MIN(MAX('MDA2'!J83,'MDA5'!J83,AI83,T83),AZ83))","v":0},{"$f":"_xlfn.IFS(AND(AU83=0,AV83=0,AW83=0,AX83=0),0,AND(AU83=0,AV83=0,AW83=0,AX83>0),AL83,AND(AU83=0,AV83=0,AW83>0,AX83=0),W83,AND(AU83=0,AV83=0,AW83>0,AX83>0),MAX(W83,AL83),AND(AU83=0,AV83>0,AW83=0,AX83=0),MIN(J83*PROFILE!$G$9,MAX('MDA3'!I83,'MDA3'!L83)),AND(AU83=0,AV83>0,AW83=0,AX83>0),MIN(J83*PROFILE!$G$9,MAX('MDA3'!I83,'MDA3'!L83,AL83)),AND(AU83=0,AV83>0,AW83>0,AX83=0),MIN(J83*PROFILE!$G$9,MAX('MDA3'!I83,'MDA3'!L83,W83)),AND(AU83=0,AV83>0,AW83>0,AX83>0),MIN(J83*PROFILE!$G$9,MAX('MDA3'!I83,'MDA3'!L83,W83,AL83)),AND(AU83>0,AV83=0,AW83=0,AX83=0), MIN(BA83,MAX('MDA1'!K83,'MDA2'!K83,'MDA5'!K83)),AND(AU83>0,AV83=0,AW83=0,AX83>0), MIN(BA83,MAX('MDA1'!K83,'MDA2'!K83,'MDA5'!K83,AL83)),AND(AU83>0,AV83=0,AW83>0,AX83=0),MIN(BA83,MAX('MDA1'!K83,'MDA2'!KL83,'MDA5'!K83,W83)),AND(AU83>0,AV83=0,AW83>0,AX83>0),MIN(BA83,MAX('MDA1'!K83,'MDA2'!K83,'MDA5'!K83,W83,AL83)),AND(AU83>0,AV83>0,AW83=0,AX83=0),MIN(BA83, MAX('MDA1'!K83,'MDA2'!K83, 'MDA5'!K83,MAX('MDA3'!I83,'MDA3'!L83))), AND(AU83>0,AV83>0,AW83=0,AX83>0),MIN(BA83, MAX('MDA1'!K83,'MDA2'!K83, 'MDA5'!K83,MAX('MDA3'!I83,'MDA3'!L83),AL83)), AND(AU83>0,AV83>0,AW83>0,AX83=0), MIN(BA83, MAX('MDA1'!K83,'MDA2'!K83, 'MDA5'!K83,MAX('MDA3'!I83,'MDA3'!L83),W83)), AND(AU83>0,AV83>0,AW83>0,AX83>0), MIN(BA83, MAX('MDA1'!K83,'MDA2'!K83, 'MDA5'!K83,MAX('MDA3'!I83,'MDA3'!L83),W83,AL83)))","v":0},{"$f":"_xlfn.IFS(AND(AU83=0,AV83=0,AW83=0,AX83=0),0,AND(AU83=0,AV83=0,AW83=0,AX83>0),AO83,AND(AU83=0,AV83=0,AW83>0,AX83=0),Z83,AND(AU83=0,AV83=0,AW83>0,AX83>0),MAX(Z83,AO83),AND(AU83=0,AV83>0,AW83=0,AX83=0),MIN(J83*PROFILE!$G$10,MAX('MDA3'!J83,'MDA3'!J83)),AND(AU83=0,AV83>0,AW83=0,AX83>0),MIN(J83*PROFILE!$G$10,MAX('MDA3'!J83,'MDA3'!M83,AO83)),AND(AU83=0,AV83>0,AW83>0,AX83=0),MIN(J83*PROFILE!$G$10,MAX('MDA3'!J83,'MDA3'!M83,Z83)),AND(AU83=0,AV83>0,AW83>0,AX83>0),MIN(J83*PROFILE!$G$10,MAX('MDA3'!J83,'MDA3'!M83,Z83,AO83)),AND(AU83>0,AV83=0,AW83=0,AX83=0), MIN(BB83,MAX('MDA1'!L83,'MDA2'!L83,'MDA5'!L83)),AND(AU83>0,AV83=0,AW83=0,AX83>0), MIN(BB83,MAX('MDA1'!L83,'MDA2'!L83,'MDA5'!L83,AO83)),AND(AU83>0,AV83=0,AW83>0,AX83=0),MIN(BB83,MAX('MDA1'!L83,'MDA2'!L83,'MDA5'!L83,Z83)),AND(AU83>0,AV83=0,AW83>0,AX83>0),MIN(BB83,MAX('MDA1'!L83,'MDA2'!L83,'MDA5'!L83,Z83,AO83)),AND(AU83>0,AV83>0,AW83=0,AX83=0),MIN(BB83, MAX('MDA1'!L83,'MDA2'!L83, 'MDA5'!L83,MAX('MDA3'!J83,'MDA3'!M83))), AND(AU83>0,AV83>0,AW83=0,AX83>0),MIN(BB83, MAX('MDA1'!L83,'MDA2'!L83, 'MDA5'!L83,MAX('MDA3'!J83,'MDA3'!M83),AO83)), AND(AU83>0,AV83>0,AW83>0,AX83=0), MIN(BB83, MAX('MDA1'!L83,'MDA2'!L83, 'MDA5'!L83,MAX('MDA3'!J83,'MDA3'!M83),Z83)), AND(AU83>0,AV83>0,AW83>0,AX83>0), MIN(BB83, MAX('MDA1'!L83,'MDA2'!L83, 'MDA5'!L83,MAX('MDA3'!J83,'MDA3'!M83),Z83,AO83)))","v":0},0,0]
[{"$f":"IF(COUNTRY_INFO!A84=0,\" \",COUNTRY_INFO!A84)","v":"Mali"},{"$f":"IF(COUNTRY_INFO!B84=0,\" \",COUNTRY_INFO!B84)","v":"Taoudenit"},{"$f":"IF(COUNTRY_INFO!C84=0,\" \",COUNTRY_INFO!C84)","v":"Taoudenit"},{"$f":"COUNTRY_INFO!L84","v":0},null,null,{"$f":"MAX('MDA1'!M84,'MDA2'!M84,'MDA5'!M84)","v":0},{"$f":"IF(AND(COUNTRY_INFO!H84>0,COUNTRY_INFO!H84<4),IF(D84>G84,G84,D84),0)","v":0},{"$f":"IF(AND(COUNTRY_INFO!H84>0,COUNTRY_INFO!H84<4), IF(G84/D84*100<>0, IF(G84/D84*100>100,100,G84/D84*100), \"-\"),0)","v":0},{"$f":"COUNTRY_INFO!M84","v":0},null,null,{"$f":"MAX('MDA1'!M84,MAX('MDA3'!I84,'MDA3'!L84)+MAX('MDA3'!J84,'MDA3'!M84))","v":0},{"$f":"IF(AND(COUNTRY_INFO!I84>0,COUNTRY_INFO!I84<4),IF(J84>M84,M84,J84),0)","v":0},{"$f":"IF(AND(COUNTRY_INFO!I84>0,COUNTRY_INFO!I84<4), IF(M84/J84*100<>0, IF(M84/J84*100>100,100,M84/J84*100), \"-\"),0)","v":0},{"$f":"COUNTRY_INFO!Q84","v":"Non requis"},null,null,{"$f":"MAX('MDA2'!J84,'MDA5'!J84,'T1'!K84, MAX(T3_R1!J84,T3_R2!J84,T3_R3!J84))","v":0},{"$f":"IF(AND(COUNTRY_INFO!J84>1,COUNTRY_INFO!J84<99,COUNTRY_INFO!J84<>4,COUNTRY_INFO!J84<>5),IF(COUNTRY_INFO!N84>S84,S84,COUNTRY_INFO!N84),0)","v":0},{"$f":"IF(AND(COUNTRY_INFO!J84>1,COUNTRY_INFO!J84<99,COUNTRY_INFO!J84<>4,COUNTRY_INFO!J84<>5), IF(T84/COUNTRY_INFO!N84*100<>0, IF(T84/COUNTRY_INFO!N84*100>100,100,T84/COUNTRY_INFO!N84*100), \"-\"),0)","v":0},{"$f":"MAX('MDA1'!K84, 'MDA2'!K84, 'MDA5'!K84,'T1'!L84, MAX(T3_R1!K84,T3_R2!K84,T3_R3!K84))","v":0},{"$f":"IF(AND(COUNTRY_INFO!J84>1,COUNTRY_INFO!J84<99,COUNTRY_INFO!J84<>4,COUNTRY_INFO!J84<>5),IF(COUNTRY_INFO!O84>V84,V84,COUNTRY_INFO!O84),0)","v":0},{"$f":"IF(AND(COUNTRY_INFO!J84>1,COUNTRY_INFO!J84<99,COUNTRY_INFO!J84<>4,COUNTRY_INFO!J84<>5), IF(W84/COUNTRY_INFO!O84*100<>0, IF(W84/COUNTRY_INFO!O84*100>100,100,W84/COUNTRY_INFO!O84*100), \"-\"),0)","v":0},{"$f":"MAX('MDA1'!L84, 'MDA2'!L84, 'MDA5'!L84,'T1'!M84, MAX(T3_R1!L84,T3_R2!L84,T3_R3!L84))","v":0},{"$f":"IF(AND(COUNTRY_INFO!J84>1,COUNTRY_INFO!J84<99,COUNTRY_INFO!J84<>4,COUNTRY_INFO!J84<>5),IF(COUNTRY_INFO!P84>Y84,Y84,COUNTRY_INFO!P84),0)","v":0},{"$f":"IF(AND(COUNTRY_INFO!J84>1,COUNTRY_INFO!J84<99,COUNTRY_INFO!J84<>4,COUNTRY_INFO!J84<>5), IF(Z84/COUNTRY_INFO!P84*100<>0, IF(Z84/COUNTRY_INFO!P84*100>100,100,Z84/COUNTRY_INFO!P84*100), \"-\"),0)","v":0},0,0,{"$f":"IF(AND(COUNTRY_INFO!J84>1,COUNTRY_INFO!J84<99,COUNTRY_INFO!J84<>4,COUNTRY_INFO!J84<>5), IF(AC84/P84*100<>0, IF(AC84/P84*100>100,100,AC84/P84*100), \"-\"),0)","v":0},{"$f":"COUNTRY_INFO!U84","v":0},null,null,{"$f":"MAX('T1'!K84,'T2'!R84)","v":0},{"$f":"IF(AND(COUNTRY_INFO!K84>1,COUNTRY_INFO!K84<99,COUNTRY_INFO!K84<>4,COUNTRY_INFO!K84<>5),IF(COUNTRY_INFO!R84>AH84,AH84,COUNTRY_INFO!R84),0)","v":0},{"$f":"IF(AND(COUNTRY_INFO!K84>1,COUNTRY_INFO!K84<99,COUNTRY_INFO!K84<>4,COUNTRY_INFO!K84<>5), IF(AI84/COUNTRY_INFO!R84*100<>0, IF(AI84/COUNTRY_INFO!R84*100>100,100,AI84/COUNTRY_INFO!R84*100), \"-\"),0)","v":0},{"$f":"MAX('T1'!L84,'T2'!S84)","v":0},{"$f":"IF(AND(COUNTRY_INFO!K84>1,COUNTRY_INFO!K84<99,COUNTRY_INFO!K84<>4,COUNTRY_INFO!K84<>5),IF(COUNTRY_INFO!S84>AK84,AK84,COUNTRY_INFO!S84),0)","v":0},{"$f":"IF(AND(COUNTRY_INFO!K84>1,COUNTRY_INFO!K84<99,COUNTRY_INFO!K84<>4,COUNTRY_INFO!K84<>5), IF(AL84/COUNTRY_INFO!S84*100<>0, IF(AL84/COUNTRY_INFO!S84*100>100,100,AL84/COUNTRY_INFO!S84*100), \"-\"),0)","v":0},{"$f":"MAX('T1'!M84,'T2'!T84)","v":0},{"$f":"IF(AND(COUNTRY_INFO!K84>1,COUNTRY_INFO!K84<99,COUNTRY_INFO!K84<>4,COUNTRY_INFO!K84<>5),IF(COUNTRY_INFO!T84>AN84,AN84,COUNTRY_INFO!T84),0)","v":0},{"$f":"IF(AND(COUNTRY_INFO!K84>1,COUNTRY_INFO!K84<99,COUNTRY_INFO!K84<>4,COUNTRY_INFO!K84<>5), IF(AO84/COUNTRY_INFO!T84*100<>0, IF(AO84/COUNTRY_INFO!T84*100>100,100,AO84/COUNTRY_INFO!T84*100), \"-\"),0)","v":0},0,0,{"$f":"IF(AND(COUNTRY_INFO!K84>1,COUNTRY_INFO!K84<99,COUNTRY_INFO!K84<>4,COUNTRY_INFO!K84<>5), IF(AR84/AE84*100<>0, IF(AR84/AE84*100>100,100,AR84/AE84*100), \"-\"),0)","v":0},null,{"$f":"IF(AND(D84<>0, D84<>\"Inconnu\",D84<>\"Interrompu\",D84<>\"Non requis\"),D84/COUNTRY_INFO!D84, 0)","v":0},{"$f":"IF(AND(J84<>0,J84<>\"Inconnu\",J84<>\"Interrompu\",J84<>\"Non requis\"),J84/COUNTRY_INFO!D84, 0)","v":0},{"$f":"IF(AND(P84<>0,P84<>\"Inconnu\",P84<>\"Surveillance\",P84<>\"Non requis\"),P84/COUNTRY_INFO!Q84, 0)","v":0},{"$f":"IF(AND(AE84<>0,AE84<>\"Inconnu\",AE84<>\"Surveillance\",AE84<>\"Non requis\"),AE84/COUNTRY_INFO!U84, 0)","v":0},{"$f":"IF(AU84>0,D84*PROFILE!$G$7,IF(AV84>0,J84*PROFILE!$G$7,0))","v":0},{"$f":"_xlfn.IFS(OR(AU84>0,AW84>0),COUNTRY_INFO!E84, AV84>0,J84*PROFILE!$G$8,AX84>0,COUNTRY_INFO!R84,COUNTIFS(AU84:AX84,\">0\")=0,0)","v":0},{"$f":"_xlfn.IFS(OR(AU84>0,AW84>0),COUNTRY_INFO!F84, AV84>0,J84*PROFILE!$G$9,AX84>0,COUNTRY_INFO!S84,COUNTIFS(AU84:AX84,\">0\")=0,0)","v":0},{"$f":"_xlfn.IFS(AU84>0,COUNTRY_INFO!G84, AND(AV84>0,AW84=0,AX84=0),J84*PROFILE!$G$10,AND(AV84>0,AW84>0,AX84=0), MAX(J84*PROFILE!$G$10,COUNTRY_INFO!P84),AND(AV84>0,AW84=0,AX84>0), MAX(J84*PROFILE!$G$10,COUNTRY_INFO!T84),AND(AV84=0,AW84>0,AX84>0), MAX(COUNTRY_INFO!P84,COUNTRY_INFO!T84),AND(AV84=0,AW84>0,AX84=0),COUNTRY_INFO!P84,AND(AV84=0,AW84=0,AX84>0),COUNTRY_INFO!T84,AND(AV84>0,AW84>0,AX84>0), MAX(J84*PROFILE!$G$10,COUNTRY_INFO!P84,COUNTRY_INFO!T84),COUNTIFS(AU84:AX84,\">0\")=0,0)","v":0},0,0,{"$f":"MAX('MDA2'!J84,'MDA5'!J84,S84,AH84)","v":0},{"$f":"MAX('MDA1'!K84,'MDA2'!K84,'MDA3'!I84,'MDA3'!L84,'MDA5'!K84,V84,AK84)","v":0},{"$f":"MAX('MDA1'!L84,'MDA2'!L84,'MDA3'!J84,'MDA3'!M84,'MDA5'!L84,Y84,AN84)","v":0},0,{"$f":"_xlfn.IFS(AND(AU84=0,AW84=0,AX84=0),0,AND(AU84=0,AW84=0,AX84>0),AI84,AND(AU84=0,AW84>0,AX84=0),T84,AND(AU84=0,AW84>0,AX84>0),MAX(T84,AI84),AND(AU84>0,AW84=0,AX84=0),MIN(MAX('MDA2'!J84,'MDA5'!J84),AZ84),AND(AU84>0,AW84=0,AX84>0),MIN(MAX('MDA2'!J84,'MDA5'!J84,AI84),AZ84),AND(AU84>0,AW84>0,AX84=0),MIN(MAX('MDA2'!J84,'MDA5'!J84,T84),AZ84),AND(AU84>0,AW84>0,AX84>0),MIN(MAX('MDA2'!J84,'MDA5'!J84,AI84,T84),AZ84))","v":0},{"$f":"_xlfn.IFS(AND(AU84=0,AV84=0,AW84=0,AX84=0),0,AND(AU84=0,AV84=0,AW84=0,AX84>0),AL84,AND(AU84=0,AV84=0,AW84>0,AX84=0),W84,AND(AU84=0,AV84=0,AW84>0,AX84>0),MAX(W84,AL84),AND(AU84=0,AV84>0,AW84=0,AX84=0),MIN(J84*PROFILE!$G$9,MAX('MDA3'!I84,'MDA3'!L84)),AND(AU84=0,AV84>0,AW84=0,AX84>0),MIN(J84*PROFILE!$G$9,MAX('MDA3'!I84,'MDA3'!L84,AL84)),AND(AU84=0,AV84>0,AW84>0,AX84=0),MIN(J84*PROFILE!$G$9,MAX('MDA3'!I84,'MDA3'!L84,W84)),AND(AU84=0,AV84>0,AW84>0,AX84>0),MIN(J84*PROFILE!$G$9,MAX('MDA3'!I84,'MDA3'!L84,W84,AL84)),AND(AU84>0,AV84=0,AW84=0,AX84=0), MIN(BA84,MAX('MDA1'!K84,'MDA2'!K84,'MDA5'!K84)),AND(AU84>0,AV84=0,AW84=0,AX84>0), MIN(BA84,MAX('MDA1'!K84,'MDA2'!K84,'MDA5'!K84,AL84)),AND(AU84>0,AV84=0,AW84>0,AX84=0),MIN(BA84,MAX('MDA1'!K84,'MDA2'!KL84,'MDA5'!K84,W84)),AND(AU84>0,AV84=0,AW84>0,AX84>0),MIN(BA84,MAX('MDA1'!K84,'MDA2'!K84,'MDA5'!K84,W84,AL84)),AND(AU84>0,AV84>0,AW84=0,AX84=0),MIN(BA84, MAX('MDA1'!K84,'MDA2'!K84, 'MDA5'!K84,MAX('MDA3'!I84,'MDA3'!L84))), AND(AU84>0,AV84>0,AW84=0,AX84>0),MIN(BA84, MAX('MDA1'!K84,'MDA2'!K84, 'MDA5'!K84,MAX('MDA3'!I84,'MDA3'!L84),AL84)), AND(AU84>0,AV84>0,AW84>0,AX84=0), MIN(BA84, MAX('MDA1'!K84,'MDA2'!K84, 'MDA5'!K84,MAX('MDA3'!I84,'MDA3'!L84),W84)), AND(AU84>0,AV84>0,AW84>0,AX84>0), MIN(BA84, MAX('MDA1'!K84,'MDA2'!K84, 'MDA5'!K84,MAX('MDA3'!I84,'MDA3'!L84),W84,AL84)))","v":0},{"$f":"_xlfn.IFS(AND(AU84=0,AV84=0,AW84=0,AX84=0),0,AND(AU84=0,AV84=0,AW84=0,AX84>0),AO84,AND(AU84=0,AV84=0,AW84>0,AX84=0),Z84,AND(AU84=0,AV84=0,AW84>0,AX84>0),MAX(Z84,AO84),AND(AU84=0,AV84>0,AW84=0,AX84=0),MIN(J84*PROFILE!$G$10,MAX('MDA3'!J84,'MDA3'!J84)),AND(AU84=0,AV84>0,AW84=0,AX84>0),MIN(J84*PROFILE!$G$10,MAX('MDA3'!J84,'MDA3'!M84,AO84)),AND(AU84=0,AV84>0,AW84>0,AX84=0),MIN(J84*PROFILE!$G$10,MAX('MDA3'!J84,'MDA3'!M84,Z84)),AND(AU84=0,AV84>0,AW84>0,AX84>0),MIN(J84*PROFILE!$G$10,MAX('MDA3'!J84,'MDA3'!M84,Z84,AO84)),AND(AU84>0,AV84=0,AW84=0,AX84=0), MIN(BB84,MAX('MDA1'!L84,'MDA2'!L84,'MDA5'!L84)),AND(AU84>0,AV84=0,AW84=0,AX84>0), MIN(BB84,MAX('MDA1'!L84,'MDA2'!L84,'MDA5'!L84,AO84)),AND(AU84>0,AV84=0,AW84>0,AX84=0),MIN(BB84,MAX('MDA1'!L84,'MDA2'!L84,'MDA5'!L84,Z84)),AND(AU84>0,AV84=0,AW84>0,AX84>0),MIN(BB84,MAX('MDA1'!L84,'MDA2'!L84,'MDA5'!L84,Z84,AO84)),AND(AU84>0,AV84>0,AW84=0,AX84=0),MIN(BB84, MAX('MDA1'!L84,'MDA2'!L84, 'MDA5'!L84,MAX('MDA3'!J84,'MDA3'!M84))), AND(AU84>0,AV84>0,AW84=0,AX84>0),MIN(BB84, MAX('MDA1'!L84,'MDA2'!L84, 'MDA5'!L84,MAX('MDA3'!J84,'MDA3'!M84),AO84)), AND(AU84>0,AV84>0,AW84>0,AX84=0), MIN(BB84, MAX('MDA1'!L84,'MDA2'!L84, 'MDA5'!L84,MAX('MDA3'!J84,'MDA3'!M84),Z84)), AND(AU84>0,AV84>0,AW84>0,AX84>0), MIN(BB84, MAX('MDA1'!L84,'MDA2'!L84, 'MDA5'!L84,MAX('MDA3'!J84,'MDA3'!M84),Z84,AO84)))","v":0},0,0]

{"sheet":"SUMMARY","index":12,"n_rows":68,"n_cols":8,"rows_kept":68,"cut":false,"hidden":false,"merged":[[67,1,67,2],[32,1,32,2],[33,1,33,2],[35,1,35,2],[64,1,64,7],[51,1,57,7],[66,1,66,2],[46,1,46,7],[47,3,47,4],[34,1,34,2],[60,1,60,3],[60,4,60,7],[62,4,62,7],[28,1,28,2],[29,1,29,2],[30,1,30,2],[31,1,31,2],[62,1,62,3],[59,3,59,7],[58,3,58,7],[27,1,27,2],[0,1,0,5],[1,1,1,7],[5,1,8,7],[3,3,3,5],[11,1,11,2],[17,1,17,7]]}
[]
[null,"Formulaire de Rapport Commun v.4.2"]
[]
[null,"Pays",null,{"$f":"IF(INTRO!$E$34<>0,INTRO!$E$34,\" \")","v":"Mali"},null,null,"Année",{"$f":"IF(INTRO!$E$36<>0,INTRO!$E$36,\" \")","v":2023}]
[]
[null,"Les autorités nationales sont priées de compléter ce formulaire de rapport commun et de le soumettre à l'Organisation mondiale de la Santé dans les 3 mois suivant la mise en œuvre du dernier cycle et au plus tard le 31 mars de l'année de mise en œuvre suivante."]
[]
[]
[]
[null,"Nombre de personnes ayant reçu un traitement (au moins une fois) pour les maladies"]
[]
[null,null,null,"EAPréS","EAS","Adultes","Total","Géographique"]
[null,"Filariose lymphatique",null,"Non admissible",0,0,{"$f":"SUM(D13:F13)","v":0},0]
[null,"Onchocercose",null,"Non admissible",2060663,3118166,{"$f":"SUM(D14:F14)","v":5178829},100]
[null,"Géohelminthiases",null,0,0,0,{"$f":"SUM(D15:F15)","v":0},0]
[null,"Schistosomiase",null,0,3254163,800203,{"$f":"SUM(D16:F16)","v":4054366},87.931034482758619]
[]
[null,"Nombre de personnes dans le besoin (dans les zones nécessitant une CP) ayant reçu un traitement pour les maladies \net couverture nationale (%)"]
[]
[null,null,null,"EAPréS","EAS","Adultes","Total","National"]
[null,"Filariose lymphatique",null,"Non admissible",0,0,{"$f":"SUM(D21:F21)","v":0},0]
[null,"Onchocercose",null,"Non admissible",2060663,3118166,{"$f":"SUM(D22:F22)","v":5178829},73.620236448226834]
[null,"Géohelminthiases",null,0,0,0,{"$f":"SUM(D23:F23)","v":0},0]
[null,"Schistosomiase",null,0,2727405,788508,{"$f":"SUM(D24:F24)","v":3515913},26.183394342548933]
[]
[null,"Nombre de personnes traitées et couverture du programme en pourcentage, par intervention de CP"]
[]
[null,null,null,"EAPréS","EAS","Adultes","Total","Couverture"]
[null,"MDA 1 (IVM+ALB)",null,"Non admissible",{"$f":"'MDA1'!$K$4","v":0},{"$f":"'MDA1'!$L$4","v":0},{"$f":"'MDA1'!$M$4","v":0},{"$f":"'MDA1'!$Q$4","v":" "}]
[null,"MDA 2 (DEC+ALB)",null,{"$f":"'MDA2'!$J$4","v":0},{"$f":"'MDA2'!$K$4","v":0},{"$f":"'MDA2'!$L$4","v":0},{"$f":"'MDA2'!$M$4","v":0},{"$f":"'MDA2'!$Q$4","v":" "}]
[null,"MDA 3 (IVM)",null,{"$f":"IF($B$31=\"MDA 3 (IVM)\",\"Non admissible\",'MDA5'!$J$4)","v":"Non admissible"},{"$f":"IF($B$31=\"MDA 3 (IVM)\",'MDA3'!$O$4,'MDA5'!$K$4)","v":2060663},{"$f":"IF($B$31=\"MDA 3 (IVM)\",'MDA3'!$P$4,'MDA5'!$L$4)","v":3118166},{"$f":"IF($B$31=\"MDA 3 (IVM)\",'MDA3'!$Q$4,'MDA5'!$M$4)","v":5178829},{"$f":"IF($B$31=\"MDA 3 (IVM)\",'MDA3'!$T$4,'MDA5'!$Q$4)","v":98.879538468157307}]
[null,"T 1 (PZQ+ALB/MBD)",null,{"$f":"IF('T1'!$K$4<>0,'T1'!$K$4,\"Non ciblé\")","v":"Non ciblé"},{"$f":"'T1'!$L$4","v":0},{"$f":"IF('T1'!$M$4<>0,'T1'!$M$4,\"Non ciblé\")","v":"Non ciblé"},{"$f":"'T1'!$N$4","v":0},{"$f":"'T1'!$R$4","v":" "}]
[null,"T 2 (PZQ)",null,{"$f":"'T2'!$R$4","v":0},{"$f":"'T2'!$S$4","v":3254163},{"$f":"'T2'!T$4","v":800203},{"$f":"'T2'!$U$4","v":4054366},{"$f":"'T2'!$Y$4","v":97.948154493829634}]
[null,"T 3 (ALB/MBD) - tournée 1",null,{"$f":"T3_R1!$J$4","v":0},{"$f":"T3_R1!$K$4","v":0},{"$f":"T3_R1!$L$4","v":0},{"$f":"T3_R1!$M$4","v":0},{"$f":"T3_R1!$Q$4","v":" "}]
[null,"T 3 (ALB/MBD) - tournée 2",null,{"$f":"T3_R2!$J$4","v":0},{"$f":"T3_R2!$K$4","v":0},{"$f":"T3_R2!$L$4","v":0},{"$f":"T3_R2!$M$4","v":0},{"$f":"T3_R2!$Q$4","v":" "}]
[null,"T 3 (ALB/MBD) - tournée 3",null,{"$f":"T3_R3!$J$4","v":0},{"$f":"T3_R3!$K$4","v":0},{"$f":"T3_R3!$L$4","v":0},{"$f":"T3_R3!$M$4","v":0},{"$f":"T3_R3!$Q$4","v":" "}]
[]
[null,"Inventaire des médicaments pour la chimiothérapie préventive dans le pays"]
[]
[null,null,"IVM","DEC","ALB (FL)","ALB (STH)","MBD","PZQ"]
[null,"Disponible"]
[null,"Distribué"]
[null,"Gaspillé"]
[null,"Reçus"]
[null,"Restant",{"$f":"C41-C42-C43+C44","v":0},0,0,0,0,0]
[]
[null,"Veuillez indiquer le médicament qui a été utilisé pour traiter les EAPréS, et les mécanismes de distribution"]
[null,"Médicament",null,"Mécanismes de distribution",null,null,"Source"]
[]
[null,"Remarques supplémentaires évenuelles concernant le rapport"]
[]
[]
[]
[]
[]
[]
[]
[]
[null,null,null,"J’ai pris connaissance et accepté la politique de la communication \nde données de l’OMS"]
[null,null,null,"Je confirme que toutes les informations fournies dans ce formulaire \nsont complètes et correctes"]
[null,"Nom et signature du Coordonnateur MTN \nou du Représentant du Ministère de la Santé :"]
[]
[null,"Date:"]
[]
[null,"Veuillez envoyer le rapport national (signé et sous format électronique) au représentant de l'OMS du pays en mettant en copie :"]
[]
[null,"Siège de l'OMS ",null,"PC_JointForms@who.int"]
[null,"Bureau régional de l'OMS",null,"Conseiller régional MTN"]

{"sheet":"PROFILE","index":13,"n_rows":122,"n_cols":8,"rows_kept":122,"cut":false,"hidden":true,"merged":[[6,1,6,3],[6,4,6,5],[25,1,25,3],[77,1,77,3],[121,1,122,7],[83,6,83,7],[85,6,85,7],[87,6,87,7],[84,6,84,7],[86,6,86,7],[9,1,9,2],[53,1,53,3],[63,1,63,3],[29,1,29,3],[21,1,21,6],[16,1,16,6],[4,1,4,7],[5,1,5,2],[79,1,79,3],[19,1,19,6],[9,3,9,5],[41,1,41,3],[75,1,75,3],[78,1,78,3],[7,3,7,5],[8,3,8,5],[76,1,76,3],[23,1,23,3],[11,1,11,6],[20,1,20,6],[45,1,45,3],[49,1,49,3],[0,1,0,5],[1,1,1,7],[3,3,3,5],[67,1,67,3],[71,1,71,3],[26,1,26,3],[27,1,27,3],[28,1,28,3],[57,1,57,3],[5,3,5,5],[30,1,30,3],[34,1,34,3],[40,1,40,3],[7,1,7,2],[8,1,8,2],[12,1,12,6],[18,1,18,6],[17,1,17,6],[61,1,61,3],[13,1,13,6],[14,1,14,6],[15,1,15,6],[39,1,39,3]]}
[]
[null,"Formulaire de Rapport Commun v.4.2 - Profil du pays"]
[]
[null,"Pays",null,{"$f":"IF(INTRO!$E$34<>0,INTRO!$E$34,\" \")","v":"Mali"},null,null,"Année",{"$f":"IF(INTRO!$E$36<>0,INTRO!$E$36,\" \")","v":2023}]
[null,"!!! ATTENTION !!!\nAvant d’analyser les données dans le profil du pays, merci de vous assurer que le rapport dans l’onglet SUMMARY est bien mis à jour"]
[null,"Population totale ",null,null,null,null,1,{"$f":"COUNTRY_INFO!D4","v":23570465.629199989}]
[null,"Population — autres groupes d’âge",null,null,null,null,{"$f":"IF($H$6<>0,H7/$H$6,0)","v":5.0000099605159554E-2},{"$f":"H6-SUM(H8:H10)","v":1178525.6291999891}]
[null,"Population — EAPréS",null,{"$f":"INTRO!B48","v":"1-4 ans"},null,null,{"$f":"IF($H$6<>0,H8/$H$6,0)","v":0.14999992175037916},{"$f":"COUNTRY_INFO!E4","v":3535568}]
[null,"Population — EAS",null,{"$f":"INTRO!B49","v":"5-14 ans"},null,null,{"$f":"IF($H$6<>0,H9/$H$6,0)","v":0.28499997011845213},{"$f":"COUNTRY_INFO!F4","v":6717582}]
[null,"Population — Adultes",null,{"$f":"INTRO!B50","v":"15 ans et plus"},null,null,0.51500000852600913,{"$f":"COUNTRY_INFO!G4","v":12138790}]
[]
[null,"Nombre total d’individus nécessitant une CP pour au moins une des maladies (FL, Oncho, STH, SCH)",null,null,null,null,null,{"$f":"DISTRICT!BC6","v":17530929.292592004}]
[null,"Proportion du nombre d’individus nécessitant un CP pour au moins une maladie parmi la population totale",null,null,null,null,null,{"$f":"IF(H6<>0,H12/H6,0)","v":0.74376677866193797}]
[null,"Nombre d’UMOs nécessitant une CP pour au moins une des maladies (FL, Oncho, STH, SCH)",null,null,null,null,null,{"$f":"COUNTIF(DISTRICT!BC10:BC1010,\">0\")","v":64}]
[null,"Nombre d’UMOs ayant reçu une CP pour au moins une des maladies (FL, Oncho, STH, SCH)",null,null,null,null,null,{"$f":"COUNTIF(DISTRICT!BL10:BL1010,\">0\")","v":52}]
[null,"Proportion d’UMOs nécessitant une CP pour au moins une maladie et l’ayant reçue",null,null,null,null,null,{"$f":"IF(H14<>0,H15/H14,0)","v":0.8125}]
[null,"Nombre total d’individus ayant été traités pour au moins une maladie (FL, Oncho, STH, SCH)",null,null,null,null,null,{"$f":"DISTRICT!BH6","v":8127727}]
[null,"Nombre total d’individus nécessitant un traitement ayant reçu une CP pour au moins une maladie (FL, Oncho, STH, SCH)",null,null,null,null,null,{"$f":"DISTRICT!BL6","v":7823836.0469750585}]
[null,"Couverture CP pour au moins une maladie (FL, Oncho, STH, SCH)",null,null,null,null,null,{"$f":"DISTRICT!BM6","v":0.44628758215807507}]
[null,"Nombre d’UMOs ayant été traitées pour toutes les maladies nécessitant une CP dans ces unités",null,null,null,null,null,{"$f":"DISTRICT!BD6","v":51}]
[null,"Population nécessitant une CP dans des UMOs qui ont été traitées pour toutes les maladies requérant une CP",null,null,null,null,null,{"$f":"SUMIF(DISTRICT!BD10:BD1010,\"Y\",DISTRICT!BC10:BC1010)","v":16414855.094368001}]
[null,"Population ayant reçu une CP dans des UMOs qui ont été traitées pour toutes les maladies nécessitant une CP",null,null,null,null,null,{"$f":"SUMIF(DISTRICT!BD10:BD1010,\"Y\",DISTRICT!BL10:BL1010)","v":7684704.4860895723}]
[]
[null,null,null,null,"FL","ONCHO","STH","SCH"]
[]
[null,"Maladies nécessitant une CP dans la pays",null,null,{"$f":"IF(INTRO!E38=\"Endémique\",\"Oui\",\"No\")","v":"No"},{"$f":"IF(INTRO!E40=\"Endémique\",\"Oui\",\"No\")","v":"Oui"},{"$f":"IF(INTRO!E42=\"Endémique\",\"Oui\",\"No\")","v":"No"},{"$f":"IF(INTRO!E44=\"Endémique\",\"Oui\",\"No\")","v":"Oui"}]
[null,"Nombre d’UMOs dans le pays",null,null,{"$f":"IF(E26=\"Oui\",INTRO!$E$46,\"-\")","v":"-"},{"$f":"IF(F26=\"Oui\",INTRO!$E$46,\"-\")","v":75},{"$f":"IF(G26=\"Oui\",INTRO!$E$46,\"-\")","v":"-"},{"$f":"IF(H26=\"Oui\",INTRO!$E$46,\"-\")","v":75}]
[null,"Nombre d’UMOs dont le statut d’endémicité est connu",null,null,{"$f":"IF(E26=\"Oui\",E27-E29,\"-\")","v":"-"},{"$f":"IF(F26=\"Oui\",F27-F29,\"-\")","v":75},{"$f":"IF(G26=\"Oui\",G27-G29,\"-\")","v":"-"},{"$f":"IF(H26=\"Oui\",H27-H29,\"-\")","v":75}]
[null,"Nombre d’UMOs dont le statut d’endémicité est inconnu",null,null,{"$f":"IF(E26=\"Oui\",E27-(1001-COUNTIF(COUNTRY_INFO!H$10:H$1010,\"\"))+COUNTIF(COUNTRY_INFO!H$10:H$1010,\"=4\"),\"-\")","v":"-"},{"$f":"IF(F26=\"Oui\",F27-(1001-COUNTIF(COUNTRY_INFO!I$10:I$1010,\"\"))+COUNTIF(COUNTRY_INFO!I$10:I$1010,\"=4\"),\"-\")","v":0},{"$f":"IF(G26=\"Oui\",G27-(1001-COUNTIF(COUNTRY_INFO!J$10:J$1010,\"\"))+COUNTIF(COUNTRY_INFO!J$10:J$1010,\"=4\")+COUNTIF(COUNTRY_INFO!J$10:J$1010,\"=5\"),\"-\")","v":"-"},{"$f":"IF(H26=\"Oui\",H27-(1001-COUNTIF(COUNTRY_INFO!K$10:K$1010,\"\"))+COUNTIF(COUNTRY_INFO!K$10:K$1010,\"=4\")+COUNTIF(COUNTRY_INFO!K$10:K$1010,\"=5\"),\"-\")","v":0}]
[null,"Nombre d’UMOs non-endémiques",null,null,{"$f":"IF(E26=\"Oui\",COUNTIF(COUNTRY_INFO!H$10:H$1010,\"=0\"),\"-\")","v":"-"},{"$f":"IF(F26=\"Oui\",COUNTIF(COUNTRY_INFO!I$10:I$1010,\"=0\"),\"-\")","v":53},{"$f":"IF(G26=\"Oui\",COUNTIF(COUNTRY_INFO!J$10:J$1010,\"=0\"),\"-\")","v":"-"},{"$f":"IF(H26=\"Oui\",COUNTIF(COUNTRY_INFO!K$10:K$1010,\"=0\"),\"-\")","v":1}]
[null,"Nombre d’UMOs nécessitant une CP (total)",null,null,{"$f":"COUNTIF(COUNTRY_INFO!H$10:H$1010,\"=1\")","v":0},{"$f":"COUNTIF(COUNTRY_INFO!I$10:I$1010,\"=1\")","v":20},{"$f":"SUM(G32:G33)","v":0},{"$f":"SUM(H32:H33)","v":58}]
[null,null,null,"prévalence de base",null,null,{"$f":"COUNTIF(COUNTRY_INFO!J$10:J$1010,\"=2\")+COUNTIF(COUNTRY_INFO!J$10:J$1010,\"=3\")","v":0},{"$f":"COUNTIF(COUNTRY_INFO!K$10:K$1001,\"=2\")+COUNTIF(COUNTRY_INFO!K$10:K$1001,\"=3\")","v":24}]
[null,null,null,"prévalence de l'impact",null,null,{"$f":"COUNTIF(COUNTRY_INFO!J$10:J$1010,\"=11\")+COUNTIF(COUNTRY_INFO!J$10:J$1010,\"=21\")+COUNTIF(COUNTRY_INFO!J$10:J$1010,\"=22\")+COUNTIF(COUNTRY_INFO!J$10:J$1010,\"=31\")","v":0},{"$f":"COUNTIF(COUNTRY_INFO!K$10:K$1001,\"=11\")+COUNTIF(COUNTRY_INFO!K$10:K$1001,\"=21\")+COUNTIF(COUNTRY_INFO!K$10:K$1001,\"=31\")","v":34}]
[null,null,null,"- fiable",null,null,{"$f":"COUNTIF(COUNTRY_INFO!J$10:J$1010,\"=11\")","v":0},{"$f":"COUNTIF(COUNTRY_INFO!K$10:K$1001,\"=11\")","v":4}]
[null,"Population nécessitant une CP dans le pays (total) ",null,null,{"$f":"COUNTRY_INFO!L4","v":0},{"$f":"COUNTRY_INFO!M4","v":7034518.2925920002},{"$f":"COUNTRY_INFO!Q4","v":0},{"$f":"COUNTRY_INFO!U4","v":13428026}]
[null,null,"<1 an",null,{"$f":"E35-SUM(E37:E39)","v":0},{"$f":"F35-SUM(F37:F39)","v":351726.61530391686}]
[null,null,"EAPréS",null,{"$f":"SUMIF(COUNTRY_INFO!L$10:L$1010,\">0\",COUNTRY_INFO!E$10:E$1010)","v":0},{"$f":"COUNTRY_INFO!$M$4*$G8","v":1055177.1934404108},{"$f":"COUNTRY_INFO!N$4","v":0},{"$f":"COUNTRY_INFO!R$4","v":1557485}]
[null,null,"EAS",null,{"$f":"SUMIF(COUNTRY_INFO!L$10:L$1010,\">0\",COUNTRY_INFO!F$10:F$1010)","v":0},{"$f":"COUNTRY_INFO!$M$4*$G9","v":2004837.503186425},{"$f":"COUNTRY_INFO!O$4","v":0},{"$f":"COUNTRY_INFO!S$4","v":4289353}]
[null,null,"Adultes",null,{"$f":"SUMIF(COUNTRY_INFO!L$10:L$1010,\">0\",COUNTRY_INFO!G$10:G$1010)","v":0},{"$f":"COUNTRY_INFO!$M$4*$G10","v":3622776.9806612474},{"$f":"COUNTRY_INFO!P$4","v":0},{"$f":"COUNTRY_INFO!T$4","v":7581188}]
[null,"Population nécessitant une CP dans les zones à faible prévalence d'impact",null,null,null,null,{"$f":"SUMIF(COUNTRY_INFO!J$10:J$1010,\"=11\",COUNTRY_INFO!Q$10:Q$1010)","v":0},{"$f":"SUMIF(COUNTRY_INFO!K$10:K$1010,\"=11\",COUNTRY_INFO!U$10:U$1010)","v":1034417}]
[null,"Nombre d’UMOs où une CP a été mise en oeuvre (total)",null,null,{"$f":"COUNTIF(DISTRICT!G$10:G$1010,\">0\")","v":0},{"$f":"COUNTIF(DISTRICT!M$10:M$1010,\">0\")","v":20},{"$f":"COUNTIF(DISTRICT!AB$10:AB$1010,\">0\")","v":0},{"$f":"COUNTIF(DISTRICT!AQ$10:AQ$1010,\">0\")","v":53}]
[null,"Nombre d’UMOs nécessitant une CP et où elle a été mise en oeuvre",null,null,{"$f":"COUNTIF(DISTRICT!H$10:H$1010,\">0\")","v":0},{"$f":"COUNTIF(DISTRICT!N$10:N$1010,\">0\")","v":20},{"$f":"COUNTIF(DISTRICT!AC$10:AC$1010,\">0\")","v":0},{"$f":"COUNTIF(DISTRICT!AR$10:AR$1010,\">0\")","v":51}]
[null,null,"EAPréS",null,null,null,{"$f":"COUNTIF(DISTRICT!T$10:T$1010,\">0\")","v":0},{"$f":"COUNTIF(DISTRICT!AI$10:AI$1010,\">0\")","v":0}]
[null,null,"EAS",null,null,null,{"$f":"COUNTIF(DISTRICT!W$10:W$1010,\">0\")","v":0},{"$f":"COUNTIF(DISTRICT!AL$10:AL$1010,\">0\")","v":51}]
[null,null,"Adultes",null,null,null,{"$f":"COUNTIF(DISTRICT!Z$10:Z$1010,\">0\")","v":0},{"$f":"COUNTIF(DISTRICT!AO$10:AO$1010,\">0\")","v":11}]
[null,"Nombre d’individus traités (total)",null,null,{"$f":"DISTRICT!G4","v":0},{"$f":"DISTRICT!M4","v":5178829},{"$f":"DISTRICT!AB4","v":0},{"$f":"DISTRICT!AQ4","v":4054366}]
[null,null,"EAPréS",null,{"$f":"SUMMARY!$D13","v":"Non admissible"},{"$f":"SUMMARY!$D14","v":"Non admissible"},{"$f":"SUMMARY!$D15","v":0},{"$f":"SUMMARY!$D16","v":0}]
[null,null,"EAS",null,{"$f":"SUMMARY!$E13","v":0},{"$f":"SUMMARY!$E14","v":2060663},{"$f":"SUMMARY!$E15","v":0},{"$f":"SUMMARY!$E16","v":3254163}]
[null,null,"Adultes",null,{"$f":"SUMMARY!$F13","v":0},{"$f":"SUMMARY!$F14","v":3118166},{"$f":"SUMMARY!$F15","v":0},{"$f":"SUMMARY!$F16","v":800203}]
[null,"Nombre d’individus nécessitant CP et traités (total)",null,null,{"$f":"DISTRICT!H4","v":0},{"$f":"DISTRICT!N4","v":5178829},{"$f":"DISTRICT!AC4","v":0},{"$f":"DISTRICT!AR4","v":3515913}]
[null,null,"EAPréS",null,{"$f":"SUMMARY!$D21","v":"Non admissible"},{"$f":"SUMMARY!$D22","v":"Non admissible"},{"$f":"SUMMARY!$D23","v":0},{"$f":"SUMMARY!$D24","v":0}]
[null,null,"EAS",null,{"$f":"SUMMARY!$E21","v":0},{"$f":"SUMMARY!$E22","v":2060663},{"$f":"SUMMARY!$E23","v":0},{"$f":"SUMMARY!$E24","v":2727405}]
[null,null,"Adultes",null,{"$f":"SUMMARY!$F21","v":0},{"$f":"SUMMARY!$F22","v":3118166},{"$f":"SUMMARY!$F23","v":0},{"$f":"SUMMARY!$F24","v":788508}]
[null,"Couverture géographique (tous âges)",null,null,{"$f":"IF(E31<>0,E42/E31,0)","v":0},{"$f":"IF(F31<>0,F42/F31,0)","v":1},{"$f":"IF(G31<>0,G42/G31,0)","v":0},{"$f":"IF(H31<>0,H42/H31,0)","v":0.87931034482758619}]
[null,null,"EAPréS",null,null,null,{"$f":"IF($G$31<>0,G43/$G$31,0)","v":0},{"$f":"IF($H$31<>0,H43/$H$31,0)","v":0}]
[null,null,"EAS",null,null,null,{"$f":"IF($G$31<>0,G44/$G$31,0)","v":0},{"$f":"IF($H$31<>0,H44/$H$31,0)","v":0.87931034482758619}]
[null,null,"Adultes",null,null,null,{"$f":"IF($G$31<>0,G45/$G$31,0)","v":0},{"$f":"IF($H$31<>0,H45/$H$31,0)","v":0.18965517241379309}]
[null,"Couverture nationale (total)",null,null,{"$f":"IF(E35<>0,E50/E35,0)","v":0},{"$f":"IF(F35<>0,F50/F35,0)","v":0.73620236448226839},{"$f":"IF(G35<>0,G50/G35,0)","v":0},{"$f":"IF(H35<>0,H50/H35,0)","v":0.26183394342548932}]
[null,null,"EAPréS",null,null,null,{"$f":"IF($G37<>0,$G51/$G37,0)","v":0},{"$f":"IF($H37<>0,$H51/$H37,0)","v":0}]
[null,null,"EAS",null,null,null,{"$f":"IF($G38<>0,$G52/$G38,0)","v":0},{"$f":"IF($H38<>0,$H52/$H38,0)","v":0.63585463821699917}]
[null,null,"Adultes",null,null,null,{"$f":"IF($G39<>0,$G53/$G39,0)","v":0},{"$f":"IF($H39<>0,$H53/$H39,0)","v":0.10400850104231685}]
[null,null,null,null,"FL","ONCHO","STH","SCH"]
[]
[null,"Nombre d’UMOs ayant réalisé une couverture efficace (tous âges)",null,null,{"$f":"COUNTIF(DISTRICT!I$10:I$1010,\">=65\")","v":0},{"$f":"COUNTIF(DISTRICT!O$10:O$1010,\">=65\")","v":16},{"$f":"COUNTIF(DISTRICT!AD$10:AD$1010,\">=75\")","v":0},{"$f":"COUNTIF(DISTRICT!AS$10:AS$1010,\">=75\")","v":3}]
[null,null,"EAPréS",null,null,null,{"$f":"COUNTIF(DISTRICT!U$10:U$1010,\">=75\")","v":0},{"$f":"COUNTIF(DISTRICT!AJ$10:AJ$1010,\">=75\")","v":0}]
[null,null,"EAS",null,null,null,{"$f":"COUNTIF(DISTRICT!X$10:X$1010,\">=75\")","v":0},{"$f":"COUNTIF(DISTRICT!AM$10:AM$1010,\">=75\")","v":32}]
[null,null,"Adultes",null,null,null,{"$f":"COUNTIF(DISTRICT!AA$10:AA$1010,\">=75\")","v":0},{"$f":"COUNTIF(DISTRICT!AP$10:AP$1010,\">=75\")","v":2}]
[null,"Nombre d’individus nécessitant un traitement dans des UMOs ayant réalisé une couverture efficace (total)",null,null,{"$f":"SUMIF(DISTRICT!I10:I1010,\">=65\",DISTRICT!H10:H1010)","v":0},{"$f":"SUMIF(DISTRICT!O10:O1010,\">=65\",DISTRICT!N10:N1010)","v":4702075},{"$f":"SUMIF(DISTRICT!AD10:AD1010,\">=75\",DISTRICT!AC10:AC1010)","v":0},{"$f":"SUMIF(DISTRICT!AS10:AS1010,\">=75\",DISTRICT!AR10:AR1010)","v":797373}]
[null,null,"EAPréS",null,null,null,{"$f":"SUMIF(DISTRICT!U10:U1010,\">=75\",DISTRICT!T10:T1010)","v":0},{"$f":"SUMIF(DISTRICT!AJ10:AJ1010,\">=75\",DISTRICT!AI10:AI1010)","v":0}]
[null,null,"EAS",null,null,null,{"$f":"SUMIF(DISTRICT!X10:X1010,\">=75\",DISTRICT!W10:W1010)","v":0},{"$f":"SUMIF(DISTRICT!AM10:AM1010,\">=75\",DISTRICT!AL10:AL1010)","v":2036420}]
[null,null,"Adultes",null,null,null,{"$f":"SUMIF(DISTRICT!AA10:AA1010,\">=75\",DISTRICT!Z10:Z1010)","v":0},{"$f":"SUMIF(DISTRICT!AP10:AP1010,\">=75\",DISTRICT!AO10:AO1010)","v":431000}]
[null,"Proportion d’UMOs nécessitant une CP and ayant réalisé une couverture efficace (total)",null,null,{"$f":"IF(E42<>0,E64/E42,0)","v":0},{"$f":"IF(F42<>0,F64/F42,0)","v":0.8},{"$f":"IF(G42<>0,G64/G42,0)","v":0},{"$f":"IF(H42<>0,H64/H42,0)","v":5.8823529411764705E-2}]
[null,null,"EAPréS",null,null,null,{"$f":"IF(G43<>0,G65/G43,0)","v":0},0]
[null,null,"EAS",null,null,null,0,0.62745098039215685]
[null,null,"Adultes",null,null,null,0,0.18181818181818182]
[null,"Nombre d’UMOs où la CP a été stoppée (càd sous surveillance)",null,null,{"$f":"COUNTIF(COUNTRY_INFO!H$10:H$1010,\"=99\")","v":75},{"$f":"COUNTIF(COUNTRY_INFO!I$10:I$1010,\"=99\")","v":2},{"$f":"COUNTIF(COUNTRY_INFO!J$10:J$1010,\"=99\")","v":0},{"$f":"COUNTIF(COUNTRY_INFO!K$10:K$1010,\"=99\")","v":0}]
[null,"Nombre d’individus dans les UMOs ne nécessitant plus de CP (stoppée)",null,null,{"$f":"SUMIF(COUNTRY_INFO!H$10:H$1010,\"=99\",COUNTRY_INFO!D$10:D$1010)","v":23570465.629199989},{"$f":"SUMIF(COUNTRY_INFO!I$10:I$1010,\"=99\",COUNTRY_INFO!D$10:D$1010)","v":951891.19625599997},{"$f":"SUMIF(COUNTRY_INFO!J$10:J$1010,\"=99\",COUNTRY_INFO!D$10:D$1010)","v":0},{"$f":"SUMIF(COUNTRY_INFO!K$10:K$1010,\"=99\",COUNTRY_INFO!D$10:D$1010)","v":0}]
[null,"Nombre d’individus nécessitant une CP vivants dans des UMOs ciblées pour la CP",null,null,{"$f":"SUMIF(DISTRICT!H$10:H$1010,\">0\",DISTRICT!D$10:D$1010)","v":0},{"$f":"SUMIF(DISTRICT!N$10:N$1010,\">0\",DISTRICT!J$10:J$1010)","v":7034518.2925920002},{"$f":"SUMIF(DISTRICT!AC$10:AC$1010,\">0\",DISTRICT!P$10:P$1010)","v":0},{"$f":"SUMIF(DISTRICT!AR$10:AR$1010,\">0\",DISTRICT!AE$10:AE$1010)","v":12467598}]
[null,"Nombre d’individus nécessitant une CP vivant dans des UMOs non ciblées pour la CP",null,null,{"$f":"SUMIF(DISTRICT!H$10:H$1010,\"=0\",DISTRICT!D$10:D$1010)","v":0},{"$f":"SUMIF(DISTRICT!N$10:N$1010,\"=0\",DISTRICT!J$10:J$1010)","v":0},{"$f":"SUMIF(DISTRICT!AC$10:AC$1010,\"=0\",DISTRICT!P$10:P$1010)","v":0},{"$f":"SUMIF(DISTRICT!AR$10:AR$1010,\"=0\",DISTRICT!AE$10:AE$1010)","v":960428}]
[null,null,null,null,{"$f":"E35-E50","v":0},{"$f":"F35-F50","v":1855689.2925920002},{"$f":"G35-G50","v":0},{"$f":"H35-H50","v":9912113}]
[null,"Nombre d’UMOs nécessitant et recevant la CP",null,null,{"$f":"E31-E42","v":0},{"$f":"F31-F42","v":0},{"$f":"G31-G42","v":0},{"$f":"H31-H42","v":7}]
[null,null,null,null,{"$f":"E27-E31-E29","v":{"$error":"#VALUE!"}},55,{"$error":"#VALUE!"},{"$f":"H27-H31-H29","v":17}]
[]
[null,null,null,null,null,null,"Nécessitant et recevant une CP"]
[null,null,null,null,null,null,"Nécessitant mais ne recevant pas de CP"]
[null,null,null,null,null,null,"Ne nécessitant pas de CP"]
[null,null,null,null,null,null,"Statut inconnu"]
[]
[]
[]
[]
[]
[]
[]
[]
[]
[]
[]
[]
[]
[]
[]
[]
[]
[]
[]
[]
[]
[]
[]
[]
[]
[]
[]
[]
[]
[]
[]
[]
[]
[]
[null,"Cliquer ici pour accéder au portail des données de la CP"]

{"sheet":"DATA_POLICY","index":14,"n_rows":39,"n_cols":8,"rows_kept":39,"cut":false,"hidden":true,"merged":[[55,1,55,2],[8,1,12,7],[13,1,16,7],[26,2,36,7],[38,1,45,7],[6,1,6,7],[17,1,21,7],[22,1,25,7],[0,1,0,5],[1,1,1,7],[3,3,3,5]]}
[]
[null,"Formulaire de Rapport Commun v.4.2"]
[]
[null,"Pays",null,{"$f":"IF(INTRO!$E$34<>0,INTRO!$E$34,\" \")","v":"Mali"},null,null,"Année",{"$f":"IF(INTRO!$E$36<>0,INTRO!$E$36,\" \")","v":2023}]
[]
[]
[null,"Déclaration de principe sur la communication de données par l’OMS"]
[]
[null,"Les données sont le fondement de toutes les mesures rationnelles de santé publique et les avantages de la communication de données, y compris pour la science et la santé publique, sont largement reconnus. L’OMS souhaite promouvoir autant que possible la communication de données sanitaires, y compris, mais pas uniquement, de données épidémiologiques et de surveillance."]
[]
[]
[]
[]
[null,{"$f":"\"À cet égard, et sans préjudice des instruments juridiquement contraignants régissant la communication et la publication d’informations, le Ministère de la santé de \" & D4 & \", en fournissant des données à l’OMS :\"","v":"À cet égard, et sans préjudice des instruments juridiquement contraignants régissant la communication et la publication d’informations, le Ministère de la santé de Mali, en fournissant des données à l’OMS :"}]
[]
[]
[]
[null,"confirme que toutes les données à fournir à l’OMS, ont été collectées conformément à la législation nationale applicable, y compris aux lois de protection des données visant à préserver l’anonymat des personnes identifiables ;"]
[]
[]
[]
[]
[null,{"$f":"\"convient que l’OMS aura le droit, toujours sous réserve des mesures visant à garantir l’utilisation éthique et sécurisée des données et toujours sous réserve d’une reconnaissance appropriée de la part de \"&D4&\":\"","v":"convient que l’OMS aura le droit, toujours sous réserve des mesures visant à garantir l’utilisation éthique et sécurisée des données et toujours sous réserve d’une reconnaissance appropriée de la part de Mali:"}]
[]
[]
[]
[null,null,"de publier les données, dépourvues de tout élément d’identification personnelle (ci-après dénommées « les données ») et de les mettre à la disposition de toute partie intéressée, sur demande (dans la mesure où elles n’ont pas, ou pas encore, été publiées par l’OMS), selon des modalités autorisant leur utilisation non commerciale et sans but lucratif à des fins de santé publique (pour autant que l’OMS garde la maîtrise de la publication des données) ;\nd’utiliser, de compiler, d’agréger, d’évaluer et d’analyser les données et de publier et de diffuser les résultats obtenus grâce à ces données en rapport avec des travaux de l’OMS et conformément aux politiques et pratiques de l’Organisation."]
[]
[]
[]
[]
[]
[]
[]
[]
[]
[]
[]
[null,{"$f":"CONCATENATE(\"Sauf lorsque des instruments juridiquement contraignants (RSI, Règlement de Nomenclature de l’OMS, de 1967, etc.) disposent que les données doivent être communiquées et publiées, le Ministère de la santé de \", D4,\" peut, pour certaines données, décider de ne pas appliquer (tout ou partie des) (les) dispositions qui précèdent,\" & \" en informant l’OMS par écrit à l’adresse suivante, à condition que cette notification précise clairement les données, \" & \"dont il s’agit et indique clairement lesquelles des dispositions qui précèdent ne seront pas appliquées, et pour quels motifs.\")","v":"Sauf lorsque des instruments juridiquement contraignants (RSI, Règlement de Nomenclature de l’OMS, de 1967, etc.) disposent que les données doivent être communiquées et publiées, le Ministère de la santé de Mali peut, pour certaines données, décider de ne pas appliquer (tout ou partie des) (les) dispositions qui précèdent, en informant l’OMS par écrit à l’adresse suivante, à condition que cette notification précise clairement les données, dont il s’agit et indique clairement lesquelles des dispositions qui précèdent ne seront pas appliquées, et pour quels motifs."}]