{"text_format":"1","workbook":"xlsx","n_sheets":13,"sheets":["INTRO","COUNTRY_INFO","MDA1","MDA2","MDA3","T1","T2","T3_R1","T3_R2","DISTRICT","SUMMARY","PROFILE","DATA_POLICY"],"not_rendered":{"charts":8,"images":3,"macros":1,"external_links":0,"defined_names":6,"comments":11,"pivot_tables":0},"unopened":[],"bounds":{"document_bytes":16777216,"sheet_cells":100000,"rows_first":2000,"rows_last":500,"rows_between":2000,"halvings":0,"cell_chars":16384,"cell_head_chars":4096},"cells_cut":0,"cells_raw":0,"read":"whole","date_system":"1900"}

{"sheet":"INTRO","index":0,"n_rows":50,"n_cols":5,"rows_kept":50,"cut":false,"hidden":false,"merged":[[7,2,7,4],[8,2,8,4],[0,1,0,4],[1,1,1,4],[2,1,2,4],[3,1,3,4],[4,1,4,4],[5,1,5,4],[9,2,9,4],[11,2,11,4],[12,1,12,4],[13,1,13,4],[14,1,14,4],[22,1,22,4],[23,2,24,4],[25,1,25,4],[15,1,15,4],[16,1,16,4],[17,1,17,4],[18,1,18,4],[19,2,19,4],[45,1,45,2],[10,2,10,4],[41,1,41,2],[43,1,43,2],[46,1,46,4],[33,1,33,2],[35,1,35,2],[26,2,27,4],[37,1,37,2],[39,1,39,2],[28,1,28,4],[29,2,29,4],[30,1,30,4],[31,1,31,4],[20,1,20,4],[21,2,21,4]]}
[]
[null,"Formulaire de Rapport Commun v.3.1"]
[]
[null,"Le but de ce formulaire de rapport commun - disponible sous forme de fichier Excel - est de mettre à disposition des autorités sanitaires nationales et des gestionnaires de données un outil standardisé qui réponde aux défis, facilite l'intégration et par conséquent contribue à améliorer la gestion de programme. Ce formulaire tend à standardiser le rapport de résultats des programmes nationaux, améliore la disponibilité et la coordination des données de chimioprévention à travers les Bureaux des Régions de l'Organisation mondiale de la Santé. \nLes autorités nationales sont priées de compléter ce formulaire et de le soumettre à l'Organisation mondiale de la Santé avant le 15 août de l'année en cours pour rapporter les données des activités de chimioprévention mises en oeuvre l'année précédente."]
[]
[null,"Structure de l'application (feuilles de travail) :"]
[]
[null,"INTRO","Cette feuille contient des instructions pour compléter le formulaire de rapport commun et des informations sur le statut de la chimioprévention pour les maladies d'endémie du pays. "]
[null,"COUNTRY_INFO","Cette feuille contient des informations sur la structure administrative du pays, la population par groupe d'âge, le statut d'endémicité pour chaque maladie, la population devant être traitée par chimioprévention, les interventions prévues et les interventions mises en oeuvre. "]
[null,"MDA1, MDA2, MDA3, T1, T2 et T3","Ces feuilles contiennent des informations sur l'endémicité des districts ciblés pour le traitement aux médicaments spécifiques pour la chimioprévention, les plans de traitement, et le nombre de personnes traitées par groupe d'âge. "]
[null,"DISTRICT","Cette feuille contient un résumé sur les personnes traitées, par maladie, au niveau de mise en oeuvre. Si les données par genre (sexe) sont disponibles, merci de les saisir.  "]
[null,"SUMMARY","Cette feuille contient un résumé sur les personnes traitées, par maladie et par type d'intervention de chimioprévention. Avant de générer le rapport (exécuter macro), veuillez sélectionner la maladie pour laquelle vous souhaitez un rapport. Veuillez suivre le même processus pour générer les divers rapports. \nCette feuille doit être imprimée et soumise comme formulaire de rapport commun (voir les instructions pour la soumission du formulaire sous la feuille SUMMARY). "]
[]
[null,"Instructions pour la saisie des données"]
[]
[null,"La plupart des cellules des feuilles de travail mentionnées ci-dessus contiennent des formules calculées automatiquement en fonction du protocole de traitement recommandé par l'OMS pour chaque maladie.\nVoir : http://www.who.int/neglected_diseases/preventive_chemotherapy/pct_manual/en/index.html"]
[]
[null,"Veuillez entrer vos données dans les cellules en fonction de leur code de couleur :"]
[]
[null,null,"Blanc - la cellule n'est pas protégée. Veuillez entrer la valeur de l'indicateur demandé."]
[]
[null,null,"Jaune - la cellule est protégée et inclut le nom de l'indicateur. Aucune entrée de données requise."]
[]
[null,null,"Orange - la cellule n'est pas protégée et contient un menu déroulant. Veuillez sélectionner la valeur dans le menu déroulant. "]
[]
[]
[null,null,"Vert - la cellule n'est pas protégée et contient des formules. Veuillez changer la valeur indiquée uniquement si vos données sont différentes de celles calculées automatiquement.  "]
[]
[]
[null,null,"Bleu - la cellule est protégée et contient des formules. Aucune entrée de données requise. "]
[]
[null,"Données pays"]
[]
[null,"PAYS",null,null,"Guinea Bissau"]
[]
[null,"Année de rapport des données",null,null,2021]
[]
[null,"Le pays est-il endémique à la filariose lymphatique (FL) ?",null,null,"Endémique"]
[]
[null,"Le pays est-il endémique à l'onchocercose (ONCHO) ? ",null,null,"Endémique"]
[]
[null,"Le pays est-il endémique aux géohelminthiases (STH) ?",null,null,"Endémique"]
[]
[null,"Le pays est-il endémique à la schistosomiase (SCH) ?",null,null,"Endémique"]
[]
[null,"Combien d'unités administratives compte le pays ?",null,null,117]
[null,"Si les données démographiques par groupe d'âge ne sont pas disponibles au second niveau administratif, veuillez entrer la proportion (%) de population, par groupe d'âge, du pays. Si les données sont disponibles, veuillez laisser les cellules vierges."]
[null,"1-4 ans","Enfants d'âge pré-scolaire (EAPréS)",null,0.13300000000000001]
[null,"5-14 ans","Enfants d'âge scolaire (EAS)",null,0.25619999999999998]
[null,"15 ans et plus","Adultes",null,0.5665]

{"sheet":"COUNTRY_INFO","index":1,"n_rows":125,"n_cols":42,"rows_kept":125,"cut":false,"hidden":false,"merged":[[3,21,3,22],[5,21,5,22],[5,3,5,6],[5,7,5,10],[5,11,5,14],[5,19,5,20],[3,0,3,2],[3,7,3,10],[3,19,3,20],[5,0,5,2],[3,15,3,18],[5,15,5,18]]}
["INFORMATIONS PAYS"]
["Structure administrative, population par groupe d'âge, statut d'endémicité, interventions planifiées et interventions mises en oeuvre"]
[]
["TOTAL",null,null,{"$f":"SUM(D$9:D$1000)","v":2068669},{"$f":"SUM(E$9:E$1000)","v":275134},{"$f":"SUM(F$9:F$1000)","v":529995},{"$f":"SUM(G$9:G$1000)","v":1171902},null,null,null,null,{"$f":"SUM(L$9:L$1000)","v":1941909},{"$f":"SUM(M$9:M$1000)","v":579506},{"$f":"SUM(N$9:N$1000)","v":387264},{"$f":"SUM(O$9:O$1000)","v":164887.44999999998}]
[]
["Structure administrative du pays",null,null,"Population",null,null,null,"Endémicité",null,null,null,"Population nécessitant la CP",null,null,null,"Nombre de tournées de traitement prévues pour l'année",null,null,null,"Mise en oeuvre de la chimioprévention",null,"Cliquer ci-dessous pour voir la stratégie recommandée",null,null,null,null,null,"mda1","mda3","t1","t2","t3r1","t3r2"]
["Pays","Région/Département","District","Total","EAPréS","EAS","Adultes","FL","Oncho","STH","SCH","FL","Oncho","STH","SCH","FL","Oncho","STH","SCH","TOURNEE 1","TOURNEE 2",null,null,null,"IU_ID","IU_Name","x","x","x","x","x","x","x","x","x","x","x","x","x","x","x","x"]
[]
[{"$f":"IF(INTRO!$E$34<>0,INTRO!$E$34,\"\")","v":"Guinea Bissau"},"SAB","AJUDA",15446,{"$f":"IF(INTRO!$E$48=\"\",\"\",ROUND($D9*INTRO!$E$48,0))","v":2054},{"$f":"IF(INTRO!$E$49=\"\",\"\",ROUND($D9*INTRO!$E$49,0))","v":3957},{"$f":"IF(INTRO!$E$50=\"\",\"\",ROUND($D9*INTRO!$E$50,0))","v":8750},1,4,2,1,{"$f":"IF(INTRO!$E$38=\"Endémique\", IF($H9>0, IF($H9=4,\"Inconnu\", IF($H9=99,\"Interrompu\", $D9)), 0),\"Non requis\")","v":15446},{"$f":"IF(INTRO!$E$40=\"Endémique\", IF($I9>0, IF($I9=4,\"Inconnu\",IF($I9=99,\"Interrompu\", $D9)), 0),\"Non requis\")","v":"Inconnu"},{"$f":"IF(INTRO!$E$42=\"Endémique\", IF(AND($J9>1,$J9<5), IF($J9=4, \"Inconnu\", E9+F9), 0),\"Non requis\")","v":6011},{"$f":"IF(INTRO!$E$44=\"Endémique\", IF(AND($K9>0,$K9<5), IF($K9=4,\"Inconnu\", IF($K9=1, $F9*0.33, IF($K9=2, $F9*0.5+$G9*0.2, SUM(F9:G9)))), 0),\"Non requis\")","v":1305.8100000000002},0,0,0,0,null,null,null,null,null,23648,"AJUDA",null,{"$f":"'MDA1'!M9","v":0},{"$f":"'MDA3'!Q9","v":0},{"$f":"'T1'!O9","v":0},{"$f":"'T2'!M9","v":0},{"$f":"T3_R1!N9","v":0},{"$f":"T3_R2!N9","v":0}]
[{"$f":"IF(INTRO!$E$34<>0,INTRO!$E$34,\"\")","v":"Guinea Bissau"},"SAB","ANTULA",45580,{"$f":"IF(INTRO!$E$48=\"\",\"\",ROUND($D10*INTRO!$E$48,0))","v":6062},{"$f":"IF(INTRO!$E$49=\"\",\"\",ROUND($D10*INTRO!$E$49,0))","v":11678},{"$f":"IF(INTRO!$E$50=\"\",\"\",ROUND($D10*INTRO!$E$50,0))","v":25821},1,4,2,1,{"$f":"IF(INTRO!$E$38=\"Endémique\", IF($H10>0, IF($H10=4,\"Inconnu\", IF($H10=99,\"Interrompu\", $D10)), 0),\"Non requis\")","v":45580},{"$f":"IF(INTRO!$E$40=\"Endémique\", IF($I10>0, IF($I10=4,\"Inconnu\",IF($I10=99,\"Interrompu\", $D10)), 0),\"Non requis\")","v":"Inconnu"},{"$f":"IF(INTRO!$E$42=\"Endémique\", IF(AND($J10>1,$J10<5), IF($J10=4, \"Inconnu\", E10+F10), 0),\"Non requis\")","v":17740},{"$f":"IF(INTRO!$E$44=\"Endémique\", IF(AND($K10>0,$K10<5), IF($K10=4,\"Inconnu\", IF($K10=1, $F10*0.33, IF($K10=2, $F10*0.5+$G10*0.2, SUM(F10:G10)))), 0),\"Non requis\")","v":3853.7400000000002},0,0,0,0,null,null,null,null,null,23649,"ANTULA",null,{"$f":"'MDA1'!M10","v":0},{"$f":"'MDA3'!Q10","v":0},{"$f":"'T1'!O10","v":0},{"$f":"'T2'!M10","v":0},{"$f":"T3_R1!N10","v":0},{"$f":"T3_R2!N10","v":0}]
[{"$f":"IF(INTRO!$E$34<>0,INTRO!$E$34,\"\")","v":"Guinea Bissau"},"SAB","B. MILITAR",96797,{"$f":"IF(INTRO!$E$48=\"\",\"\",ROUND($D11*INTRO!$E$48,0))","v":12874},{"$f":"IF(INTRO!$E$49=\"\",\"\",ROUND($D11*INTRO!$E$49,0))","v":24799},{"$f":"IF(INTRO!$E$50=\"\",\"\",ROUND($D11*INTRO!$E$50,0))","v":54836},1,4,1,0,{"$f":"IF(INTRO!$E$38=\"Endémique\", IF($H11>0, IF($H11=4,\"Inconnu\", IF($H11=99,\"Interrompu\", $D11)), 0),\"Non requis\")","v":96797},{"$f":"IF(INTRO!$E$40=\"Endémique\", IF($I11>0, IF($I11=4,\"Inconnu\",IF($I11=99,\"Interrompu\", $D11)), 0),\"Non requis\")","v":"Inconnu"},{"$f":"IF(INTRO!$E$42=\"Endémique\", IF(AND($J11>1,$J11<5), IF($J11=4, \"Inconnu\", E11+F11), 0),\"Non requis\")","v":0},{"$f":"IF(INTRO!$E$44=\"Endémique\", IF(AND($K11>0,$K11<5), IF($K11=4,\"Inconnu\", IF($K11=1, $F11*0.33, IF($K11=2, $F11*0.5+$G11*0.2, SUM(F11:G11)))), 0),\"Non requis\")","v":0},0,0,0,0,null,null,null,null,null,23650,"B. MILITAR",null,{"$f":"'MDA1'!M11","v":0},{"$f":"'MDA3'!Q11","v":0},{"$f":"'T1'!O11","v":0},{"$f":"'T2'!M11","v":0},{"$f":"T3_R1!N11","v":0},{"$f":"T3_R2!N11","v":0}]
[{"$f":"IF(INTRO!$E$34<>0,INTRO!$E$34,\"\")","v":"Guinea Bissau"},"SAB","BANDIM",66226,{"$f":"IF(INTRO!$E$48=\"\",\"\",ROUND($D12*INTRO!$E$48,0))","v":8808},{"$f":"IF(INTRO!$E$49=\"\",\"\",ROUND($D12*INTRO!$E$49,0))","v":16967},{"$f":"IF(INTRO!$E$50=\"\",\"\",ROUND($D12*INTRO!$E$50,0))","v":37517},1,4,2,1,{"$f":"IF(INTRO!$E$38=\"Endémique\", IF($H12>0, IF($H12=4,\"Inconnu\", IF($H12=99,\"Interrompu\", $D12)), 0),\"Non requis\")","v":66226},{"$f":"IF(INTRO!$E$40=\"Endémique\", IF($I12>0, IF($I12=4,\"Inconnu\",IF($I12=99,\"Interrompu\", $D12)), 0),\"Non requis\")","v":"Inconnu"},{"$f":"IF(INTRO!$E$42=\"Endémique\", IF(AND($J12>1,$J12<5), IF($J12=4, \"Inconnu\", E12+F12), 0),\"Non requis\")","v":25775},{"$f":"IF(INTRO!$E$44=\"Endémique\", IF(AND($K12>0,$K12<5), IF($K12=4,\"Inconnu\", IF($K12=1, $F12*0.33, IF($K12=2, $F12*0.5+$G12*0.2, SUM(F12:G12)))), 0),\"Non requis\")","v":5599.1100000000006},0,0,0,0,null,null,null,null,null,23651,"BANDIM",null,{"$f":"'MDA1'!M12","v":0},{"$f":"'MDA3'!Q12","v":0},{"$f":"'T1'!O12","v":0},{"$f":"'T2'!M12","v":0},{"$f":"T3_R1!N12","v":0},{"$f":"T3_R2!N12","v":0}]
[{"$f":"IF(INTRO!$E$34<>0,INTRO!$E$34,\"\")","v":"Guinea Bissau"},"SAB","BELEM",25566,{"$f":"IF(INTRO!$E$48=\"\",\"\",ROUND($D13*INTRO!$E$48,0))","v":3400},{"$f":"IF(INTRO!$E$49=\"\",\"\",ROUND($D13*INTRO!$E$49,0))","v":6550},{"$f":"IF(INTRO!$E$50=\"\",\"\",ROUND($D13*INTRO!$E$50,0))","v":14483},1,4,2,1,{"$f":"IF(INTRO!$E$38=\"Endémique\", IF($H13>0, IF($H13=4,\"Inconnu\", IF($H13=99,\"Interrompu\", $D13)), 0),\"Non requis\")","v":25566},{"$f":"IF(INTRO!$E$40=\"Endémique\", IF($I13>0, IF($I13=4,\"Inconnu\",IF($I13=99,\"Interrompu\", $D13)), 0),\"Non requis\")","v":"Inconnu"},{"$f":"IF(INTRO!$E$42=\"Endémique\", IF(AND($J13>1,$J13<5), IF($J13=4, \"Inconnu\", E13+F13), 0),\"Non requis\")","v":9950},{"$f":"IF(INTRO!$E$44=\"Endémique\", IF(AND($K13>0,$K13<5), IF($K13=4,\"Inconnu\", IF($K13=1, $F13*0.33, IF($K13=2, $F13*0.5+$G13*0.2, SUM(F13:G13)))), 0),\"Non requis\")","v":2161.5},0,0,0,0,null,null,null,null,null,23652,"BELEM",null,{"$f":"'MDA1'!M13","v":0},{"$f":"'MDA3'!Q13","v":0},{"$f":"'T1'!O13","v":0},{"$f":"'T2'!M13","v":0},{"$f":"T3_R1!N13","v":0},{"$f":"T3_R2!N13","v":0}]
[{"$f":"IF(INTRO!$E$34<>0,INTRO!$E$34,\"\")","v":"Guinea Bissau"},"SAB","CMI",22194,{"$f":"IF(INTRO!$E$48=\"\",\"\",ROUND($D14*INTRO!$E$48,0))","v":2952},{"$f":"IF(INTRO!$E$49=\"\",\"\",ROUND($D14*INTRO!$E$49,0))","v":5686},{"$f":"IF(INTRO!$E$50=\"\",\"\",ROUND($D14*INTRO!$E$50,0))","v":12573},1,4,1,0,{"$f":"IF(INTRO!$E$38=\"Endémique\", IF($H14>0, IF($H14=4,\"Inconnu\", IF($H14=99,\"Interrompu\", $D14)), 0),\"Non requis\")","v":22194},{"$f":"IF(INTRO!$E$40=\"Endémique\", IF($I14>0, IF($I14=4,\"Inconnu\",IF($I14=99,\"Interrompu\", $D14)), 0),\"Non requis\")","v":"Inconnu"},{"$f":"IF(INTRO!$E$42=\"Endémique\", IF(AND($J14>1,$J14<5), IF($J14=4, \"Inconnu\", E14+F14), 0),\"Non requis\")","v":0},{"$f":"IF(INTRO!$E$44=\"Endémique\", IF(AND($K14>0,$K14<5), IF($K14=4,\"Inconnu\", IF($K14=1, $F14*0.33, IF($K14=2, $F14*0.5+$G14*0.2, SUM(F14:G14)))), 0),\"Non requis\")","v":0},0,0,0,0,null,null,null,null,null,23746,"CMI",null,{"$f":"'MDA1'!M14","v":0},{"$f":"'MDA3'!Q14","v":0},{"$f":"'T1'!O14","v":0},{"$f":"'T2'!M14","v":0},{"$f":"T3_R1!N14","v":0},{"$f":"T3_R2!N14","v":0}]
[{"$f":"IF(INTRO!$E$34<>0,INTRO!$E$34,\"\")","v":"Guinea Bissau"},"SAB","CUNTUM",67357,{"$f":"IF(INTRO!$E$48=\"\",\"\",ROUND($D15*INTRO!$E$48,0))","v":8958},{"$f":"IF(INTRO!$E$49=\"\",\"\",ROUND($D15*INTRO!$E$49,0))","v":17257},{"$f":"IF(INTRO!$E$50=\"\",\"\",ROUND($D15*INTRO!$E$50,0))","v":38158},1,4,1,0,{"$f":"IF(INTRO!$E$38=\"Endémique\", IF($H15>0, IF($H15=4,\"Inconnu\", IF($H15=99,\"Interrompu\", $D15)), 0),\"Non requis\")","v":67357},{"$f":"IF(INTRO!$E$40=\"Endémique\", IF($I15>0, IF($I15=4,\"Inconnu\",IF($I15=99,\"Interrompu\", $D15)), 0),\"Non requis\")","v":"Inconnu"},{"$f":"IF(INTRO!$E$42=\"Endémique\", IF(AND($J15>1,$J15<5), IF($J15=4, \"Inconnu\", E15+F15), 0),\"Non requis\")","v":0},{"$f":"IF(INTRO!$E$44=\"Endémique\", IF(AND($K15>0,$K15<5), IF($K15=4,\"Inconnu\", IF($K15=1, $F15*0.33, IF($K15=2, $F15*0.5+$G15*0.2, SUM(F15:G15)))), 0),\"Non requis\")","v":0},0,0,0,0,null,null,null,null,null,23653,"CUNTUM",null,{"$f":"'MDA1'!M15","v":0},{"$f":"'MDA3'!Q15","v":0},{"$f":"'T1'!O15","v":0},{"$f":"'T2'!M15","v":0},{"$f":"T3_R1!N15","v":0},{"$f":"T3_R2!N15","v":0}]
[{"$f":"IF(INTRO!$E$34<>0,INTRO!$E$34,\"\")","v":"Guinea Bissau"},"SAB","LUANDA",37374,{"$f":"IF(INTRO!$E$48=\"\",\"\",ROUND($D16*INTRO!$E$48,0))","v":4971},{"$f":"IF(INTRO!$E$49=\"\",\"\",ROUND($D16*INTRO!$E$49,0))","v":9575},{"$f":"IF(INTRO!$E$50=\"\",\"\",ROUND($D16*INTRO!$E$50,0))","v":21172},1,4,2,1,{"$f":"IF(INTRO!$E$38=\"Endémique\", IF($H16>0, IF($H16=4,\"Inconnu\", IF($H16=99,\"Interrompu\", $D16)), 0),\"Non requis\")","v":37374},{"$f":"IF(INTRO!$E$40=\"Endémique\", IF($I16>0, IF($I16=4,\"Inconnu\",IF($I16=99,\"Interrompu\", $D16)), 0),\"Non requis\")","v":"Inconnu"},{"$f":"IF(INTRO!$E$42=\"Endémique\", IF(AND($J16>1,$J16<5), IF($J16=4, \"Inconnu\", E16+F16), 0),\"Non requis\")","v":14546},{"$f":"IF(INTRO!$E$44=\"Endémique\", IF(AND($K16>0,$K16<5), IF($K16=4,\"Inconnu\", IF($K16=1, $F16*0.33, IF($K16=2, $F16*0.5+$G16*0.2, SUM(F16:G16)))), 0),\"Non requis\")","v":3159.75},0,0,0,0,null,null,null,null,null,23747,"LUANDA",null,{"$f":"'MDA1'!M16","v":0},{"$f":"'MDA3'!Q16","v":0},{"$f":"'T1'!O16","v":0},{"$f":"'T2'!M16","v":0},{"$f":"T3_R1!N16","v":0},{"$f":"T3_R2!N16","v":0}]
[{"$f":"IF(INTRO!$E$34<>0,INTRO!$E$34,\"\")","v":"Guinea Bissau"},"SAB","MISSIRA",57473,{"$f":"IF(INTRO!$E$48=\"\",\"\",ROUND($D17*INTRO!$E$48,0))","v":7644},{"$f":"IF(INTRO!$E$49=\"\",\"\",ROUND($D17*INTRO!$E$49,0))","v":14725},{"$f":"IF(INTRO!$E$50=\"\",\"\",ROUND($D17*INTRO!$E$50,0))","v":32558},1,4,0,1,{"$f":"IF(INTRO!$E$38=\"Endémique\", IF($H17>0, IF($H17=4,\"Inconnu\", IF($H17=99,\"Interrompu\", $D17)), 0),\"Non requis\")","v":57473},{"$f":"IF(INTRO!$E$40=\"Endémique\", IF($I17>0, IF($I17=4,\"Inconnu\",IF($I17=99,\"Interrompu\", $D17)), 0),\"Non requis\")","v":"Inconnu"},{"$f":"IF(INTRO!$E$42=\"Endémique\", IF(AND($J17>1,$J17<5), IF($J17=4, \"Inconnu\", E17+F17), 0),\"Non requis\")","v":0},{"$f":"IF(INTRO!$E$44=\"Endémique\", IF(AND($K17>0,$K17<5), IF($K17=4,\"Inconnu\", IF($K17=1, $F17*0.33, IF($K17=2, $F17*0.5+$G17*0.2, SUM(F17:G17)))), 0),\"Non requis\")","v":4859.25},0,0,0,0,null,null,null,null,null,23748,"MISSIRA",null,{"$f":"'MDA1'!M17","v":0},{"$f":"'MDA3'!Q17","v":0},{"$f":"'T1'!O17","v":0},{"$f":"'T2'!M17","v":0},{"$f":"T3_R1!N17","v":0},{"$f":"T3_R2!N17","v":0}]
[{"$f":"IF(INTRO!$E$34<>0,INTRO!$E$34,\"\")","v":"Guinea Bissau"},"SAB","PEFINE",21931,{"$f":"IF(INTRO!$E$48=\"\",\"\",ROUND($D18*INTRO!$E$48,0))","v":2917},{"$f":"IF(INTRO!$E$49=\"\",\"\",ROUND($D18*INTRO!$E$49,0))","v":5619},{"$f":"IF(INTRO!$E$50=\"\",\"\",ROUND($D18*INTRO!$E$50,0))","v":12424},1,4,1,1,{"$f":"IF(INTRO!$E$38=\"Endémique\", IF($H18>0, IF($H18=4,\"Inconnu\", IF($H18=99,\"Interrompu\", $D18)), 0),\"Non requis\")","v":21931},{"$f":"IF(INTRO!$E$40=\"Endémique\", IF($I18>0, IF($I18=4,\"Inconnu\",IF($I18=99,\"Interrompu\", $D18)), 0),\"Non requis\")","v":"Inconnu"},{"$f":"IF(INTRO!$E$42=\"Endémique\", IF(AND($J18>1,$J18<5), IF($J18=4, \"Inconnu\", E18+F18), 0),\"Non requis\")","v":0},{"$f":"IF(INTRO!$E$44=\"Endémique\", IF(AND($K18>0,$K18<5), IF($K18=4,\"Inconnu\", IF($K18=1, $F18*0.33, IF($K18=2, $F18*0.5+$G18*0.2, SUM(F18:G18)))), 0),\"Non requis\")","v":1854.27},0,0,0,0,null,null,null,null,null,23749,"PEFINE",null,{"$f":"'MDA1'!M18","v":0},{"$f":"'MDA3'!Q18","v":0},{"$f":"'T1'!O18","v":0},{"$f":"'T2'!M18","v":0},{"$f":"T3_R1!N18","v":0},{"$f":"T3_R2!N18","v":0}]
[{"$f":"IF(INTRO!$E$34<>0,INTRO!$E$34,\"\")","v":"Guinea Bissau"},"SAB","PLACK II",40925,{"$f":"IF(INTRO!$E$48=\"\",\"\",ROUND($D19*INTRO!$E$48,0))","v":5443},{"$f":"IF(INTRO!$E$49=\"\",\"\",ROUND($D19*INTRO!$E$49,0))","v":10485},{"$f":"IF(INTRO!$E$50=\"\",\"\",ROUND($D19*INTRO!$E$50,0))","v":23184},1,4,2,0,{"$f":"IF(INTRO!$E$38=\"Endémique\", IF($H19>0, IF($H19=4,\"Inconnu\", IF($H19=99,\"Interrompu\", $D19)), 0),\"Non requis\")","v":40925},{"$f":"IF(INTRO!$E$40=\"Endémique\", IF($I19>0, IF($I19=4,\"Inconnu\",IF($I19=99,\"Interrompu\", $D19)), 0),\"Non requis\")","v":"Inconnu"},{"$f":"IF(INTRO!$E$42=\"Endémique\", IF(AND($J19>1,$J19<5), IF($J19=4, \"Inconnu\", E19+F19), 0),\"Non requis\")","v":15928},{"$f":"IF(INTRO!$E$44=\"Endémique\", IF(AND($K19>0,$K19<5), IF($K19=4,\"Inconnu\", IF($K19=1, $F19*0.33, IF($K19=2, $F19*0.5+$G19*0.2, SUM(F19:G19)))), 0),\"Non requis\")","v":0},0,0,0,0,null,null,null,null,null,23750,"PLACK II",null,{"$f":"'MDA1'!M19","v":0},{"$f":"'MDA3'!Q19","v":0},{"$f":"'T1'!O19","v":0},{"$f":"'T2'!M19","v":0},{"$f":"T3_R1!N19","v":0},{"$f":"T3_R2!N19","v":0}]
[{"$f":"IF(INTRO!$E$34<>0,INTRO!$E$34,\"\")","v":"Guinea Bissau"},"SAB","QUELELE",42798,{"$f":"IF(INTRO!$E$48=\"\",\"\",ROUND($D20*INTRO!$E$48,0))","v":5692},{"$f":"IF(INTRO!$E$49=\"\",\"\",ROUND($D20*INTRO!$E$49,0))","v":10965},{"$f":"IF(INTRO!$E$50=\"\",\"\",ROUND($D20*INTRO!$E$50,0))","v":24245},1,4,2,0,{"$f":"IF(INTRO!$E$38=\"Endémique\", IF($H20>0, IF($H20=4,\"Inconnu\", IF($H20=99,\"Interrompu\", $D20)), 0),\"Non requis\")","v":42798},{"$f":"IF(INTRO!$E$40=\"Endémique\", IF($I20>0, IF($I20=4,\"Inconnu\",IF($I20=99,\"Interrompu\", $D20)), 0),\"Non requis\")","v":"Inconnu"},{"$f":"IF(INTRO!$E$42=\"Endémique\", IF(AND($J20>1,$J20<5), IF($J20=4, \"Inconnu\", E20+F20), 0),\"Non requis\")","v":16657},{"$f":"IF(INTRO!$E$44=\"Endémique\", IF(AND($K20>0,$K20<5), IF($K20=4,\"Inconnu\", IF($K20=1, $F20*0.33, IF($K20=2, $F20*0.5+$G20*0.2, SUM(F20:G20)))), 0),\"Non requis\")","v":0},0,0,0,0,null,null,null,null,null,23654,"QUELELE",null,{"$f":"'MDA1'!M20","v":0},{"$f":"'MDA3'!Q20","v":0},{"$f":"'T1'!O20","v":0},{"$f":"'T2'!M20","v":0},{"$f":"T3_R1!N20","v":0},{"$f":"T3_R2!N20","v":0}]
[{"$f":"IF(INTRO!$E$34<>0,INTRO!$E$34,\"\")","v":"Guinea Bissau"},"SAB","SANTA LUZIA",25479,{"$f":"IF(INTRO!$E$48=\"\",\"\",ROUND($D21*INTRO!$E$48,0))","v":3389},{"$f":"IF(INTRO!$E$49=\"\",\"\",ROUND($D21*INTRO!$E$49,0))","v":6528},{"$f":"IF(INTRO!$E$50=\"\",\"\",ROUND($D21*INTRO!$E$50,0))","v":14434},1,4,2,1,{"$f":"IF(INTRO!$E$38=\"Endémique\", IF($H21>0, IF($H21=4,\"Inconnu\", IF($H21=99,\"Interrompu\", $D21)), 0),\"Non requis\")","v":25479},{"$f":"IF(INTRO!$E$40=\"Endémique\", IF($I21>0, IF($I21=4,\"Inconnu\",IF($I21=99,\"Interrompu\", $D21)), 0),\"Non requis\")","v":"Inconnu"},{"$f":"IF(INTRO!$E$42=\"Endémique\", IF(AND($J21>1,$J21<5), IF($J21=4, \"Inconnu\", E21+F21), 0),\"Non requis\")","v":9917},{"$f":"IF(INTRO!$E$44=\"Endémique\", IF(AND($K21>0,$K21<5), IF($K21=4,\"Inconnu\", IF($K21=1, $F21*0.33, IF($K21=2, $F21*0.5+$G21*0.2, SUM(F21:G21)))), 0),\"Non requis\")","v":2154.2400000000002},0,0,0,0,null,null,null,null,null,23751,"SANTA LUZIA",null,{"$f":"'MDA1'!M21","v":0},{"$f":"'MDA3'!Q21","v":0},{"$f":"'T1'!O21","v":0},{"$f":"'T2'!M21","v":0},{"$f":"T3_R1!N21","v":0},{"$f":"T3_R2!N21","v":0}]
[{"$f":"IF(INTRO!$E$34<>0,INTRO!$E$34,\"\")","v":"Guinea Bissau"},"SAB","SINTRA NEMA",31768,{"$f":"IF(INTRO!$E$48=\"\",\"\",ROUND($D22*INTRO!$E$48,0))","v":4225},{"$f":"IF(INTRO!$E$49=\"\",\"\",ROUND($D22*INTRO!$E$49,0))","v":8139},{"$f":"IF(INTRO!$E$50=\"\",\"\",ROUND($D22*INTRO!$E$50,0))","v":17997},1,4,2,1,{"$f":"IF(INTRO!$E$38=\"Endémique\", IF($H22>0, IF($H22=4,\"Inconnu\", IF($H22=99,\"Interrompu\", $D22)), 0),\"Non requis\")","v":31768},{"$f":"IF(INTRO!$E$40=\"Endémique\", IF($I22>0, IF($I22=4,\"Inconnu\",IF($I22=99,\"Interrompu\", $D22)), 0),\"Non requis\")","v":"Inconnu"},{"$f":"IF(INTRO!$E$42=\"Endémique\", IF(AND($J22>1,$J22<5), IF($J22=4, \"Inconnu\", E22+F22), 0),\"Non requis\")","v":12364},{"$f":"IF(INTRO!$E$44=\"Endémique\", IF(AND($K22>0,$K22<5), IF($K22=4,\"Inconnu\", IF($K22=1, $F22*0.33, IF($K22=2, $F22*0.5+$G22*0.2, SUM(F22:G22)))), 0),\"Non requis\")","v":2685.8700000000003},0,0,0,0,null,null,null,null,null,23752,"SINTRA NEMA",null,{"$f":"'MDA1'!M22","v":0},{"$f":"'MDA3'!Q22","v":0},{"$f":"'T1'!O22","v":0},{"$f":"'T2'!M22","v":0},{"$f":"T3_R1!N22","v":0},{"$f":"T3_R2!N22","v":0}]
[{"$f":"IF(INTRO!$E$34<>0,INTRO!$E$34,\"\")","v":"Guinea Bissau"},"Bijagos","Bubaque",7916,{"$f":"IF(INTRO!$E$48=\"\",\"\",ROUND($D23*INTRO!$E$48,0))","v":1053},{"$f":"IF(INTRO!$E$49=\"\",\"\",ROUND($D23*INTRO!$E$49,0))","v":2028},{"$f":"IF(INTRO!$E$50=\"\",\"\",ROUND($D23*INTRO!$E$50,0))","v":4484},1,4,3,0,{"$f":"IF(INTRO!$E$38=\"Endémique\", IF($H23>0, IF($H23=4,\"Inconnu\", IF($H23=99,\"Interrompu\", $D23)), 0),\"Non requis\")","v":7916},{"$f":"IF(INTRO!$E$40=\"Endémique\", IF($I23>0, IF($I23=4,\"Inconnu\",IF($I23=99,\"Interrompu\", $D23)), 0),\"Non requis\")","v":"Inconnu"},{"$f":"IF(INTRO!$E$42=\"Endémique\", IF(AND($J23>1,$J23<5), IF($J23=4, \"Inconnu\", E23+F23), 0),\"Non requis\")","v":3081},{"$f":"IF(INTRO!$E$44=\"Endémique\", IF(AND($K23>0,$K23<5), IF($K23=4,\"Inconnu\", IF($K23=1, $F23*0.33, IF($K23=2, $F23*0.5+$G23*0.2, SUM(F23:G23)))), 0),\"Non requis\")","v":0},1,0,1,0,"MDA1 (IVM+ALB)",null,null,null,null,23670,"Bubaque",null,{"$f":"'MDA1'!M23","v":4991},{"$f":"'MDA3'!Q23","v":0},{"$f":"'T1'!O23","v":0},{"$f":"'T2'!M23","v":0},{"$f":"T3_R1!N23","v":0},{"$f":"T3_R2!N23","v":0}]
[{"$f":"IF(INTRO!$E$34<>0,INTRO!$E$34,\"\")","v":"Guinea Bissau"},"Bijagos","Canhabaque",3114,{"$f":"IF(INTRO!$E$48=\"\",\"\",ROUND($D24*INTRO!$E$48,0))","v":414},{"$f":"IF(INTRO!$E$49=\"\",\"\",ROUND($D24*INTRO!$E$49,0))","v":798},{"$f":"IF(INTRO!$E$50=\"\",\"\",ROUND($D24*INTRO!$E$50,0))","v":1764},1,4,3,0,{"$f":"IF(INTRO!$E$38=\"Endémique\", IF($H24>0, IF($H24=4,\"Inconnu\", IF($H24=99,\"Interrompu\", $D24)), 0),\"Non requis\")","v":3114},{"$f":"IF(INTRO!$E$40=\"Endémique\", IF($I24>0, IF($I24=4,\"Inconnu\",IF($I24=99,\"Interrompu\", $D24)), 0),\"Non requis\")","v":"Inconnu"},{"$f":"IF(INTRO!$E$42=\"Endémique\", IF(AND($J24>1,$J24<5), IF($J24=4, \"Inconnu\", E24+F24), 0),\"Non requis\")","v":1212},{"$f":"IF(INTRO!$E$44=\"Endémique\", IF(AND($K24>0,$K24<5), IF($K24=4,\"Inconnu\", IF($K24=1, $F24*0.33, IF($K24=2, $F24*0.5+$G24*0.2, SUM(F24:G24)))), 0),\"Non requis\")","v":0},1,0,1,0,"MDA1 (IVM+ALB)",null,null,null,null,23642,"Canhabaque",null,{"$f":"'MDA1'!M24","v":2463},{"$f":"'MDA3'!Q24","v":0},{"$f":"'T1'!O24","v":0},{"$f":"'T2'!M24","v":0},{"$f":"T3_R1!N24","v":0},{"$f":"T3_R2!N24","v":0}]
[{"$f":"IF(INTRO!$E$34<>0,INTRO!$E$34,\"\")","v":"Guinea Bissau"},"Bijagos","Canogo",711,{"$f":"IF(INTRO!$E$48=\"\",\"\",ROUND($D25*INTRO!$E$48,0))","v":95},{"$f":"IF(INTRO!$E$49=\"\",\"\",ROUND($D25*INTRO!$E$49,0))","v":182},{"$f":"IF(INTRO!$E$50=\"\",\"\",ROUND($D25*INTRO!$E$50,0))","v":403},1,4,3,0,{"$f":"IF(INTRO!$E$38=\"Endémique\", IF($H25>0, IF($H25=4,\"Inconnu\", IF($H25=99,\"Interrompu\", $D25)), 0),\"Non requis\")","v":711},{"$f":"IF(INTRO!$E$40=\"Endémique\", IF($I25>0, IF($I25=4,\"Inconnu\",IF($I25=99,\"Interrompu\", $D25)), 0),\"Non requis\")","v":"Inconnu"},{"$f":"IF(INTRO!$E$42=\"Endémique\", IF(AND($J25>1,$J25<5), IF($J25=4, \"Inconnu\", E25+F25), 0),\"Non requis\")","v":277},{"$f":"IF(INTRO!$E$44=\"Endémique\", IF(AND($K25>0,$K25<5), IF($K25=4,\"Inconnu\", IF($K25=1, $F25*0.33, IF($K25=2, $F25*0.5+$G25*0.2, SUM(F25:G25)))), 0),\"Non requis\")","v":0},1,0,1,0,"MDA1 (IVM+ALB)",null,null,null,null,23643,"Canogo",null,{"$f":"'MDA1'!M25","v":542},{"$f":"'MDA3'!Q25","v":0},{"$f":"'T1'!O25","v":0},{"$f":"'T2'!M25","v":0},{"$f":"T3_R1!N25","v":0},{"$f":"T3_R2!N25","v":0}]
[{"$f":"IF(INTRO!$E$34<>0,INTRO!$E$34,\"\")","v":"Guinea Bissau"},"Bijagos","Caravela",2206,{"$f":"IF(INTRO!$E$48=\"\",\"\",ROUND($D26*INTRO!$E$48,0))","v":293},{"$f":"IF(INTRO!$E$49=\"\",\"\",ROUND($D26*INTRO!$E$49,0))","v":565},{"$f":"IF(INTRO!$E$50=\"\",\"\",ROUND($D26*INTRO!$E$50,0))","v":1250},1,4,3,0,{"$f":"IF(INTRO!$E$38=\"Endémique\", IF($H26>0, IF($H26=4,\"Inconnu\", IF($H26=99,\"Interrompu\", $D26)), 0),\"Non requis\")","v":2206},{"$f":"IF(INTRO!$E$40=\"Endémique\", IF($I26>0, IF($I26=4,\"Inconnu\",IF($I26=99,\"Interrompu\", $D26)), 0),\"Non requis\")","v":"Inconnu"},{"$f":"IF(INTRO!$E$42=\"Endémique\", IF(AND($J26>1,$J26<5), IF($J26=4, \"Inconnu\", E26+F26), 0),\"Non requis\")","v":858},{"$f":"IF(INTRO!$E$44=\"Endémique\", IF(AND($K26>0,$K26<5), IF($K26=4,\"Inconnu\", IF($K26=1, $F26*0.33, IF($K26=2, $F26*0.5+$G26*0.2, SUM(F26:G26)))), 0),\"Non requis\")","v":0},1,0,1,0,"MDA1 (IVM+ALB)",null,null,null,null,23671,"Caravela",null,{"$f":"'MDA1'!M26","v":1480},{"$f":"'MDA3'!Q26","v":0},{"$f":"'T1'!O26","v":0},{"$f":"'T2'!M26","v":0},{"$f":"T3_R1!N26","v":0},{"$f":"T3_R2!N26","v":0}]
[{"$f":"IF(INTRO!$E$34<>0,INTRO!$E$34,\"\")","v":"Guinea Bissau"},"Bijagos","Formosa",3644,{"$f":"IF(INTRO!$E$48=\"\",\"\",ROUND($D27*INTRO!$E$48,0))","v":485},{"$f":"IF(INTRO!$E$49=\"\",\"\",ROUND($D27*INTRO!$E$49,0))","v":934},{"$f":"IF(INTRO!$E$50=\"\",\"\",ROUND($D27*INTRO!$E$50,0))","v":2064},1,4,3,0,{"$f":"IF(INTRO!$E$38=\"Endémique\", IF($H27>0, IF($H27=4,\"Inconnu\", IF($H27=99,\"Interrompu\", $D27)), 0),\"Non requis\")","v":3644},{"$f":"IF(INTRO!$E$40=\"Endémique\", IF($I27>0, IF($I27=4,\"Inconnu\",IF($I27=99,\"Interrompu\", $D27)), 0),\"Non requis\")","v":"Inconnu"},{"$f":"IF(INTRO!$E$42=\"Endémique\", IF(AND($J27>1,$J27<5), IF($J27=4, \"Inconnu\", E27+F27), 0),\"Non requis\")","v":1419},{"$f":"IF(INTRO!$E$44=\"Endémique\", IF(AND($K27>0,$K27<5), IF($K27=4,\"Inconnu\", IF($K27=1, $F27*0.33, IF($K27=2, $F27*0.5+$G27*0.2, SUM(F27:G27)))), 0),\"Non requis\")","v":0},1,0,1,0,"MDA1 (IVM+ALB)",null,null,null,null,23672,"Formosa",null,{"$f":"'MDA1'!M27","v":2629},{"$f":"'MDA3'!Q27","v":0},{"$f":"'T1'!O27","v":0},{"$f":"'T2'!M27","v":0},{"$f":"T3_R1!N27","v":0},{"$f":"T3_R2!N27","v":0}]
[{"$f":"IF(INTRO!$E$34<>0,INTRO!$E$34,\"\")","v":"Guinea Bissau"},"Bijagos","Orango Grande",1531,{"$f":"IF(INTRO!$E$48=\"\",\"\",ROUND($D28*INTRO!$E$48,0))","v":204},{"$f":"IF(INTRO!$E$49=\"\",\"\",ROUND($D28*INTRO!$E$49,0))","v":392},{"$f":"IF(INTRO!$E$50=\"\",\"\",ROUND($D28*INTRO!$E$50,0))","v":867},1,4,3,0,{"$f":"IF(INTRO!$E$38=\"Endémique\", IF($H28>0, IF($H28=4,\"Inconnu\", IF($H28=99,\"Interrompu\", $D28)), 0),\"Non requis\")","v":1531},{"$f":"IF(INTRO!$E$40=\"Endémique\", IF($I28>0, IF($I28=4,\"Inconnu\",IF($I28=99,\"Interrompu\", $D28)), 0),\"Non requis\")","v":"Inconnu"},{"$f":"IF(INTRO!$E$42=\"Endémique\", IF(AND($J28>1,$J28<5), IF($J28=4, \"Inconnu\", E28+F28), 0),\"Non requis\")","v":596},{"$f":"IF(INTRO!$E$44=\"Endémique\", IF(AND($K28>0,$K28<5), IF($K28=4,\"Inconnu\", IF($K28=1, $F28*0.33, IF($K28=2, $F28*0.5+$G28*0.2, SUM(F28:G28)))), 0),\"Non requis\")","v":0},1,0,1,0,"MDA1 (IVM+ALB)",null,null,null,null,23673,"Orango Grande",null,{"$f":"'MDA1'!M28","v":1116},{"$f":"'MDA3'!Q28","v":0},{"$f":"'T1'!O28","v":0},{"$f":"'T2'!M28","v":0},{"$f":"T3_R1!N28","v":0},{"$f":"T3_R2!N28","v":0}]
[{"$f":"IF(INTRO!$E$34<>0,INTRO!$E$34,\"\")","v":"Guinea Bissau"},"Bijagos","Orango zinho",865,{"$f":"IF(INTRO!$E$48=\"\",\"\",ROUND($D29*INTRO!$E$48,0))","v":115},{"$f":"IF(INTRO!$E$49=\"\",\"\",ROUND($D29*INTRO!$E$49,0))","v":222},{"$f":"IF(INTRO!$E$50=\"\",\"\",ROUND($D29*INTRO!$E$50,0))","v":490},1,4,3,0,{"$f":"IF(INTRO!$E$38=\"Endémique\", IF($H29>0, IF($H29=4,\"Inconnu\", IF($H29=99,\"Interrompu\", $D29)), 0),\"Non requis\")","v":865},{"$f":"IF(INTRO!$E$40=\"Endémique\", IF($I29>0, IF($I29=4,\"Inconnu\",IF($I29=99,\"Interrompu\", $D29)), 0),\"Non requis\")","v":"Inconnu"},{"$f":"IF(INTRO!$E$42=\"Endémique\", IF(AND($J29>1,$J29<5), IF($J29=4, \"Inconnu\", E29+F29), 0),\"Non requis\")","v":337},{"$f":"IF(INTRO!$E$44=\"Endémique\", IF(AND($K29>0,$K29<5), IF($K29=4,\"Inconnu\", IF($K29=1, $F29*0.33, IF($K29=2, $F29*0.5+$G29*0.2, SUM(F29:G29)))), 0),\"Non requis\")","v":0},1,0,1,0,"MDA1 (IVM+ALB)",null,null,null,null,23674,"Orango zinho",null,{"$f":"'MDA1'!M29","v":854},{"$f":"'MDA3'!Q29","v":0},{"$f":"'T1'!O29","v":0},{"$f":"'T2'!M29","v":0},{"$f":"T3_R1!N29","v":0},{"$f":"T3_R2!N29","v":0}]
[{"$f":"IF(INTRO!$E$34<>0,INTRO!$E$34,\"\")","v":"Guinea Bissau"},"Bijagos","Soga",1032,{"$f":"IF(INTRO!$E$48=\"\",\"\",ROUND($D30*INTRO!$E$48,0))","v":137},{"$f":"IF(INTRO!$E$49=\"\",\"\",ROUND($D30*INTRO!$E$49,0))","v":264},{"$f":"IF(INTRO!$E$50=\"\",\"\",ROUND($D30*INTRO!$E$50,0))","v":585},1,4,3,0,{"$f":"IF(INTRO!$E$38=\"Endémique\", IF($H30>0, IF($H30=4,\"Inconnu\", IF($H30=99,\"Interrompu\", $D30)), 0),\"Non requis\")","v":1032},{"$f":"IF(INTRO!$E$40=\"Endémique\", IF($I30>0, IF($I30=4,\"Inconnu\",IF($I30=99,\"Interrompu\", $D30)), 0),\"Non requis\")","v":"Inconnu"},{"$f":"IF(INTRO!$E$42=\"Endémique\", IF(AND($J30>1,$J30<5), IF($J30=4, \"Inconnu\", E30+F30), 0),\"Non requis\")","v":401},{"$f":"IF(INTRO!$E$44=\"Endémique\", IF(AND($K30>0,$K30<5), IF($K30=4,\"Inconnu\", IF($K30=1, $F30*0.33, IF($K30=2, $F30*0.5+$G30*0.2, SUM(F30:G30)))), 0),\"Non requis\")","v":0},1,0,1,0,"MDA1 (IVM+ALB)",null,null,null,null,23675,"Soga",null,{"$f":"'MDA1'!M30","v":710},{"$f":"'MDA3'!Q30","v":0},{"$f":"'T1'!O30","v":0},{"$f":"'T2'!M30","v":0},{"$f":"T3_R1!N30","v":0},{"$f":"T3_R2!N30","v":0}]
[{"$f":"IF(INTRO!$E$34<>0,INTRO!$E$34,\"\")","v":"Guinea Bissau"},"Bijagos","Unhocomo",1038,{"$f":"IF(INTRO!$E$48=\"\",\"\",ROUND($D31*INTRO!$E$48,0))","v":138},{"$f":"IF(INTRO!$E$49=\"\",\"\",ROUND($D31*INTRO!$E$49,0))","v":266},{"$f":"IF(INTRO!$E$50=\"\",\"\",ROUND($D31*INTRO!$E$50,0))","v":588},1,4,3,0,{"$f":"IF(INTRO!$E$38=\"Endémique\", IF($H31>0, IF($H31=4,\"Inconnu\", IF($H31=99,\"Interrompu\", $D31)), 0),\"Non requis\")","v":1038},{"$f":"IF(INTRO!$E$40=\"Endémique\", IF($I31>0, IF($I31=4,\"Inconnu\",IF($I31=99,\"Interrompu\", $D31)), 0),\"Non requis\")","v":"Inconnu"},{"$f":"IF(INTRO!$E$42=\"Endémique\", IF(AND($J31>1,$J31<5), IF($J31=4, \"Inconnu\", E31+F31), 0),\"Non requis\")","v":404},{"$f":"IF(INTRO!$E$44=\"Endémique\", IF(AND($K31>0,$K31<5), IF($K31=4,\"Inconnu\", IF($K31=1, $F31*0.33, IF($K31=2, $F31*0.5+$G31*0.2, SUM(F31:G31)))), 0),\"Non requis\")","v":0},1,0,1,0,"MDA1 (IVM+ALB)",null,null,null,null,23644,"Unhocomo",null,{"$f":"'MDA1'!M31","v":655},{"$f":"'MDA3'!Q31","v":0},{"$f":"'T1'!O31","v":0},{"$f":"'T2'!M31","v":0},{"$f":"T3_R1!N31","v":0},{"$f":"T3_R2!N31","v":0}]
[{"$f":"IF(INTRO!$E$34<>0,INTRO!$E$34,\"\")","v":"Guinea Bissau"},"Bijagos","Uno",4074,{"$f":"IF(INTRO!$E$48=\"\",\"\",ROUND($D32*INTRO!$E$48,0))","v":542},{"$f":"IF(INTRO!$E$49=\"\",\"\",ROUND($D32*INTRO!$E$49,0))","v":1044},{"$f":"IF(INTRO!$E$50=\"\",\"\",ROUND($D32*INTRO!$E$50,0))","v":2308},1,4,3,0,{"$f":"IF(INTRO!$E$38=\"Endémique\", IF($H32>0, IF($H32=4,\"Inconnu\", IF($H32=99,\"Interrompu\", $D32)), 0),\"Non requis\")","v":4074},{"$f":"IF(INTRO!$E$40=\"Endémique\", IF($I32>0, IF($I32=4,\"Inconnu\",IF($I32=99,\"Interrompu\", $D32)), 0),\"Non requis\")","v":"Inconnu"},{"$f":"IF(INTRO!$E$42=\"Endémique\", IF(AND($J32>1,$J32<5), IF($J32=4, \"Inconnu\", E32+F32), 0),\"Non requis\")","v":1586},{"$f":"IF(INTRO!$E$44=\"Endémique\", IF(AND($K32>0,$K32<5), IF($K32=4,\"Inconnu\", IF($K32=1, $F32*0.33, IF($K32=2, $F32*0.5+$G32*0.2, SUM(F32:G32)))), 0),\"Non requis\")","v":0},1,0,1,0,"MDA1 (IVM+ALB)",null,null,null,null,23676,"Uno",null,{"$f":"'MDA1'!M32","v":3466},{"$f":"'MDA3'!Q32","v":0},{"$f":"'T1'!O32","v":0},{"$f":"'T2'!M32","v":0},{"$f":"T3_R1!N32","v":0},{"$f":"T3_R2!N32","v":0}]
[{"$f":"IF(INTRO!$E$34<>0,INTRO!$E$34,\"\")","v":"Guinea Bissau"},"Bijagos","Uracane",1892,{"$f":"IF(INTRO!$E$48=\"\",\"\",ROUND($D33*INTRO!$E$48,0))","v":252},{"$f":"IF(INTRO!$E$49=\"\",\"\",ROUND($D33*INTRO!$E$49,0))","v":485},{"$f":"IF(INTRO!$E$50=\"\",\"\",ROUND($D33*INTRO!$E$50,0))","v":1072},1,4,3,0,{"$f":"IF(INTRO!$E$38=\"Endémique\", IF($H33>0, IF($H33=4,\"Inconnu\", IF($H33=99,\"Interrompu\", $D33)), 0),\"Non requis\")","v":1892},{"$f":"IF(INTRO!$E$40=\"Endémique\", IF($I33>0, IF($I33=4,\"Inconnu\",IF($I33=99,\"Interrompu\", $D33)), 0),\"Non requis\")","v":"Inconnu"},{"$f":"IF(INTRO!$E$42=\"Endémique\", IF(AND($J33>1,$J33<5), IF($J33=4, \"Inconnu\", E33+F33), 0),\"Non requis\")","v":737},{"$f":"IF(INTRO!$E$44=\"Endémique\", IF(AND($K33>0,$K33<5), IF($K33=4,\"Inconnu\", IF($K33=1, $F33*0.33, IF($K33=2, $F33*0.5+$G33*0.2, SUM(F33:G33)))), 0),\"Non requis\")","v":0},1,0,1,0,"MDA1 (IVM+ALB)",null,null,null,null,23677,"Uracane",null,{"$f":"'MDA1'!M33","v":1411},{"$f":"'MDA3'!Q33","v":0},{"$f":"'T1'!O33","v":0},{"$f":"'T2'!M33","v":0},{"$f":"T3_R1!N33","v":0},{"$f":"T3_R2!N33","v":0}]
[{"$f":"IF(INTRO!$E$34<>0,INTRO!$E$34,\"\")","v":"Guinea Bissau"},"Biombo","BIJIMITA",12356,{"$f":"IF(INTRO!$E$48=\"\",\"\",ROUND($D34*INTRO!$E$48,0))","v":1643},{"$f":"IF(INTRO!$E$49=\"\",\"\",ROUND($D34*INTRO!$E$49,0))","v":3166},{"$f":"IF(INTRO!$E$50=\"\",\"\",ROUND($D34*INTRO!$E$50,0))","v":7000},1,4,3,0,{"$f":"IF(INTRO!$E$38=\"Endémique\", IF($H34>0, IF($H34=4,\"Inconnu\", IF($H34=99,\"Interrompu\", $D34)), 0),\"Non requis\")","v":12356},{"$f":"IF(INTRO!$E$40=\"Endémique\", IF($I34>0, IF($I34=4,\"Inconnu\",IF($I34=99,\"Interrompu\", $D34)), 0),\"Non requis\")","v":"Inconnu"},{"$f":"IF(INTRO!$E$42=\"Endémique\", IF(AND($J34>1,$J34<5), IF($J34=4, \"Inconnu\", E34+F34), 0),\"Non requis\")","v":4809},{"$f":"IF(INTRO!$E$44=\"Endémique\", IF(AND($K34>0,$K34<5), IF($K34=4,\"Inconnu\", IF($K34=1, $F34*0.33, IF($K34=2, $F34*0.5+$G34*0.2, SUM(F34:G34)))), 0),\"Non requis\")","v":0},0,0,0,0,null,null,null,null,null,23645,"BIJIMITA",null,{"$f":"'MDA1'!M34","v":0},{"$f":"'MDA3'!Q34","v":0},{"$f":"'T1'!O34","v":0},{"$f":"'T2'!M34","v":0},{"$f":"T3_R1!N34","v":0},{"$f":"T3_R2!N34","v":0}]
[{"$f":"IF(INTRO!$E$34<>0,INTRO!$E$34,\"\")","v":"Guinea Bissau"},"Biombo","CUMURA",17181,{"$f":"IF(INTRO!$E$48=\"\",\"\",ROUND($D35*INTRO!$E$48,0))","v":2285},{"$f":"IF(INTRO!$E$49=\"\",\"\",ROUND($D35*INTRO!$E$49,0))","v":4402},{"$f":"IF(INTRO!$E$50=\"\",\"\",ROUND($D35*INTRO!$E$50,0))","v":9733},1,4,3,0,{"$f":"IF(INTRO!$E$38=\"Endémique\", IF($H35>0, IF($H35=4,\"Inconnu\", IF($H35=99,\"Interrompu\", $D35)), 0),\"Non requis\")","v":17181},{"$f":"IF(INTRO!$E$40=\"Endémique\", IF($I35>0, IF($I35=4,\"Inconnu\",IF($I35=99,\"Interrompu\", $D35)), 0),\"Non requis\")","v":"Inconnu"},{"$f":"IF(INTRO!$E$42=\"Endémique\", IF(AND($J35>1,$J35<5), IF($J35=4, \"Inconnu\", E35+F35), 0),\"Non requis\")","v":6687},{"$f":"IF(INTRO!$E$44=\"Endémique\", IF(AND($K35>0,$K35<5), IF($K35=4,\"Inconnu\", IF($K35=1, $F35*0.33, IF($K35=2, $F35*0.5+$G35*0.2, SUM(F35:G35)))), 0),\"Non requis\")","v":0},0,0,0,0,null,null,null,null,null,23678,"CUMURA",null,{"$f":"'MDA1'!M35","v":0},{"$f":"'MDA3'!Q35","v":0},{"$f":"'T1'!O35","v":0},{"$f":"'T2'!M35","v":0},{"$f":"T3_R1!N35","v":0},{"$f":"T3_R2!N35","v":0}]
[{"$f":"IF(INTRO!$E$34<>0,INTRO!$E$34,\"\")","v":"Guinea Bissau"},"Biombo","DORSE",8054,{"$f":"IF(INTRO!$E$48=\"\",\"\",ROUND($D36*INTRO!$E$48,0))","v":1071},{"$f":"IF(INTRO!$E$49=\"\",\"\",ROUND($D36*INTRO!$E$49,0))","v":2063},{"$f":"IF(INTRO!$E$50=\"\",\"\",ROUND($D36*INTRO!$E$50,0))","v":4563},1,4,3,0,{"$f":"IF(INTRO!$E$38=\"Endémique\", IF($H36>0, IF($H36=4,\"Inconnu\", IF($H36=99,\"Interrompu\", $D36)), 0),\"Non requis\")","v":8054},{"$f":"IF(INTRO!$E$40=\"Endémique\", IF($I36>0, IF($I36=4,\"Inconnu\",IF($I36=99,\"Interrompu\", $D36)), 0),\"Non requis\")","v":"Inconnu"},{"$f":"IF(INTRO!$E$42=\"Endémique\", IF(AND($J36>1,$J36<5), IF($J36=4, \"Inconnu\", E36+F36), 0),\"Non requis\")","v":3134},{"$f":"IF(INTRO!$E$44=\"Endémique\", IF(AND($K36>0,$K36<5), IF($K36=4,\"Inconnu\", IF($K36=1, $F36*0.33, IF($K36=2, $F36*0.5+$G36*0.2, SUM(F36:G36)))), 0),\"Non requis\")","v":0},0,0,0,0,null,null,null,null,null,23646,"DORSE",null,{"$f":"'MDA1'!M36","v":0},{"$f":"'MDA3'!Q36","v":0},{"$f":"'T1'!O36","v":0},{"$f":"'T2'!M36","v":0},{"$f":"T3_R1!N36","v":0},{"$f":"T3_R2!N36","v":0}]
[{"$f":"IF(INTRO!$E$34<>0,INTRO!$E$34,\"\")","v":"Guinea Bissau"},"Biombo","ILONDE",9533,{"$f":"IF(INTRO!$E$48=\"\",\"\",ROUND($D37*INTRO!$E$48,0))","v":1268},{"$f":"IF(INTRO!$E$49=\"\",\"\",ROUND($D37*INTRO!$E$49,0))","v":2442},{"$f":"IF(INTRO!$E$50=\"\",\"\",ROUND($D37*INTRO!$E$50,0))","v":5400},1,4,1,0,{"$f":"IF(INTRO!$E$38=\"Endémique\", IF($H37>0, IF($H37=4,\"Inconnu\", IF($H37=99,\"Interrompu\", $D37)), 0),\"Non requis\")","v":9533},{"$f":"IF(INTRO!$E$40=\"Endémique\", IF($I37>0, IF($I37=4,\"Inconnu\",IF($I37=99,\"Interrompu\", $D37)), 0),\"Non requis\")","v":"Inconnu"},{"$f":"IF(INTRO!$E$42=\"Endémique\", IF(AND($J37>1,$J37<5), IF($J37=4, \"Inconnu\", E37+F37), 0),\"Non requis\")","v":0},{"$f":"IF(INTRO!$E$44=\"Endémique\", IF(AND($K37>0,$K37<5), IF($K37=4,\"Inconnu\", IF($K37=1, $F37*0.33, IF($K37=2, $F37*0.5+$G37*0.2, SUM(F37:G37)))), 0),\"Non requis\")","v":0},0,0,0,0,null,null,null,null,null,23647,"ILONDE",null,{"$f":"'MDA1'!M37","v":0},{"$f":"'MDA3'!Q37","v":0},{"$f":"'T1'!O37","v":0},{"$f":"'T2'!M37","v":0},{"$f":"T3_R1!N37","v":0},{"$f":"T3_R2!N37","v":0}]
[{"$f":"IF(INTRO!$E$34<>0,INTRO!$E$34,\"\")","v":"Guinea Bissau"},"Biombo","ONDAME",16783,{"$f":"IF(INTRO!$E$48=\"\",\"\",ROUND($D38*INTRO!$E$48,0))","v":2232},{"$f":"IF(INTRO!$E$49=\"\",\"\",ROUND($D38*INTRO!$E$49,0))","v":4300},{"$f":"IF(INTRO!$E$50=\"\",\"\",ROUND($D38*INTRO!$E$50,0))","v":9508},1,4,3,0,{"$f":"IF(INTRO!$E$38=\"Endémique\", IF($H38>0, IF($H38=4,\"Inconnu\", IF($H38=99,\"Interrompu\", $D38)), 0),\"Non requis\")","v":16783},{"$f":"IF(INTRO!$E$40=\"Endémique\", IF($I38>0, IF($I38=4,\"Inconnu\",IF($I38=99,\"Interrompu\", $D38)), 0),\"Non requis\")","v":"Inconnu"},{"$f":"IF(INTRO!$E$42=\"Endémique\", IF(AND($J38>1,$J38<5), IF($J38=4, \"Inconnu\", E38+F38), 0),\"Non requis\")","v":6532},{"$f":"IF(INTRO!$E$44=\"Endémique\", IF(AND($K38>0,$K38<5), IF($K38=4,\"Inconnu\", IF($K38=1, $F38*0.33, IF($K38=2, $F38*0.5+$G38*0.2, SUM(F38:G38)))), 0),\"Non requis\")","v":0},0,0,0,0,null,null,null,null,null,23679,"ONDAME",null,{"$f":"'MDA1'!M38","v":0},{"$f":"'MDA3'!Q38","v":0},{"$f":"'T1'!O38","v":0},{"$f":"'T2'!M38","v":0},{"$f":"T3_R1!N38","v":0},{"$f":"T3_R2!N38","v":0}]
[{"$f":"IF(INTRO!$E$34<>0,INTRO!$E$34,\"\")","v":"Guinea Bissau"},"Biombo","PRABIS",11688,{"$f":"IF(INTRO!$E$48=\"\",\"\",ROUND($D39*INTRO!$E$48,0))","v":1555},{"$f":"IF(INTRO!$E$49=\"\",\"\",ROUND($D39*INTRO!$E$49,0))","v":2994},{"$f":"IF(INTRO!$E$50=\"\",\"\",ROUND($D39*INTRO!$E$50,0))","v":6621},1,4,3,0,{"$f":"IF(INTRO!$E$38=\"Endémique\", IF($H39>0, IF($H39=4,\"Inconnu\", IF($H39=99,\"Interrompu\", $D39)), 0),\"Non requis\")","v":11688},{"$f":"IF(INTRO!$E$40=\"Endémique\", IF($I39>0, IF($I39=4,\"Inconnu\",IF($I39=99,\"Interrompu\", $D39)), 0),\"Non requis\")","v":"Inconnu"},{"$f":"IF(INTRO!$E$42=\"Endémique\", IF(AND($J39>1,$J39<5), IF($J39=4, \"Inconnu\", E39+F39), 0),\"Non requis\")","v":4549},{"$f":"IF(INTRO!$E$44=\"Endémique\", IF(AND($K39>0,$K39<5), IF($K39=4,\"Inconnu\", IF($K39=1, $F39*0.33, IF($K39=2, $F39*0.5+$G39*0.2, SUM(F39:G39)))), 0),\"Non requis\")","v":0},0,0,0,0,null,null,null,null,null,23680,"PRABIS",null,{"$f":"'MDA1'!M39","v":0},{"$f":"'MDA3'!Q39","v":0},{"$f":"'T1'!O39","v":0},{"$f":"'T2'!M39","v":0},{"$f":"T3_R1!N39","v":0},{"$f":"T3_R2!N39","v":0}]
[{"$f":"IF(INTRO!$E$34<>0,INTRO!$E$34,\"\")","v":"Guinea Bissau"},"Biombo","QUINHAMEL",17202,{"$f":"IF(INTRO!$E$48=\"\",\"\",ROUND($D40*INTRO!$E$48,0))","v":2288},{"$f":"IF(INTRO!$E$49=\"\",\"\",ROUND($D40*INTRO!$E$49,0))","v":4407},{"$f":"IF(INTRO!$E$50=\"\",\"\",ROUND($D40*INTRO!$E$50,0))","v":9745},1,4,3,0,{"$f":"IF(INTRO!$E$38=\"Endémique\", IF($H40>0, IF($H40=4,\"Inconnu\", IF($H40=99,\"Interrompu\", $D40)), 0),\"Non requis\")","v":17202},{"$f":"IF(INTRO!$E$40=\"Endémique\", IF($I40>0, IF($I40=4,\"Inconnu\",IF($I40=99,\"Interrompu\", $D40)), 0),\"Non requis\")","v":"Inconnu"},{"$f":"IF(INTRO!$E$42=\"Endémique\", IF(AND($J40>1,$J40<5), IF($J40=4, \"Inconnu\", E40+F40), 0),\"Non requis\")","v":6695},{"$f":"IF(INTRO!$E$44=\"Endémique\", IF(AND($K40>0,$K40<5), IF($K40=4,\"Inconnu\", IF($K40=1, $F40*0.33, IF($K40=2, $F40*0.5+$G40*0.2, SUM(F40:G40)))), 0),\"Non requis\")","v":0},0,0,0,0,null,null,null,null,null,23681,"QUINHAMEL",null,{"$f":"'MDA1'!M40","v":0},{"$f":"'MDA3'!Q40","v":0},{"$f":"'T1'!O40","v":0},{"$f":"'T2'!M40","v":0},{"$f":"T3_R1!N40","v":0},{"$f":"T3_R2!N40","v":0}]
[{"$f":"IF(INTRO!$E$34<>0,INTRO!$E$34,\"\")","v":"Guinea Bissau"},"Biombo","SAFIM",17209,{"$f":"IF(INTRO!$E$48=\"\",\"\",ROUND($D41*INTRO!$E$48,0))","v":2289},{"$f":"IF(INTRO!$E$49=\"\",\"\",ROUND($D41*INTRO!$E$49,0))","v":4409},{"$f":"IF(INTRO!$E$50=\"\",\"\",ROUND($D41*INTRO!$E$50,0))","v":9749},1,4,2,0,{"$f":"IF(INTRO!$E$38=\"Endémique\", IF($H41>0, IF($H41=4,\"Inconnu\", IF($H41=99,\"Interrompu\", $D41)), 0),\"Non requis\")","v":17209},{"$f":"IF(INTRO!$E$40=\"Endémique\", IF($I41>0, IF($I41=4,\"Inconnu\",IF($I41=99,\"Interrompu\", $D41)), 0),\"Non requis\")","v":"Inconnu"},{"$f":"IF(INTRO!$E$42=\"Endémique\", IF(AND($J41>1,$J41<5), IF($J41=4, \"Inconnu\", E41+F41), 0),\"Non requis\")","v":6698},{"$f":"IF(INTRO!$E$44=\"Endémique\", IF(AND($K41>0,$K41<5), IF($K41=4,\"Inconnu\", IF($K41=1, $F41*0.33, IF($K41=2, $F41*0.5+$G41*0.2, SUM(F41:G41)))), 0),\"Non requis\")","v":0},0,0,0,0,null,null,null,null,null,23682,"SAFIM",null,{"$f":"'MDA1'!M41","v":0},{"$f":"'MDA3'!Q41","v":0},{"$f":"'T1'!O41","v":0},{"$f":"'T2'!M41","v":0},{"$f":"T3_R1!N41","v":0},{"$f":"T3_R2!N41","v":0}]
[{"$f":"IF(INTRO!$E$34<>0,INTRO!$E$34,\"\")","v":"Guinea Bissau"},"Farim","BINTA",7807,{"$f":"IF(INTRO!$E$48=\"\",\"\",ROUND($D42*INTRO!$E$48,0))","v":1038},{"$f":"IF(INTRO!$E$49=\"\",\"\",ROUND($D42*INTRO!$E$49,0))","v":2000},{"$f":"IF(INTRO!$E$50=\"\",\"\",ROUND($D42*INTRO!$E$50,0))","v":4423},1,4,0,2,{"$f":"IF(INTRO!$E$38=\"Endémique\", IF($H42>0, IF($H42=4,\"Inconnu\", IF($H42=99,\"Interrompu\", $D42)), 0),\"Non requis\")","v":7807},{"$f":"IF(INTRO!$E$40=\"Endémique\", IF($I42>0, IF($I42=4,\"Inconnu\",IF($I42=99,\"Interrompu\", $D42)), 0),\"Non requis\")","v":"Inconnu"},{"$f":"IF(INTRO!$E$42=\"Endémique\", IF(AND($J42>1,$J42<5), IF($J42=4, \"Inconnu\", E42+F42), 0),\"Non requis\")","v":0},{"$f":"IF(INTRO!$E$44=\"Endémique\", IF(AND($K42>0,$K42<5), IF($K42=4,\"Inconnu\", IF($K42=1, $F42*0.33, IF($K42=2, $F42*0.5+$G42*0.2, SUM(F42:G42)))), 0),\"Non requis\")","v":1884.6},0,0,1,0,"T2 (PZQ)",null,null,null,null,23704,"BINTA",null,{"$f":"'MDA1'!M42","v":0},{"$f":"'MDA3'!Q42","v":0},{"$f":"'T1'!O42","v":0},{"$f":"'T2'!M42","v":2007},{"$f":"T3_R1!N42","v":0},{"$f":"T3_R2!N42","v":0}]
[{"$f":"IF(INTRO!$E$34<>0,INTRO!$E$34,\"\")","v":"Guinea Bissau"},"Farim","CANDJAMBARI",5860,{"$f":"IF(INTRO!$E$48=\"\",\"\",ROUND($D43*INTRO!$E$48,0))","v":779},{"$f":"IF(INTRO!$E$49=\"\",\"\",ROUND($D43*INTRO!$E$49,0))","v":1501},{"$f":"IF(INTRO!$E$50=\"\",\"\",ROUND($D43*INTRO!$E$50,0))","v":3320},1,4,0,2,{"$f":"IF(INTRO!$E$38=\"Endémique\", IF($H43>0, IF($H43=4,\"Inconnu\", IF($H43=99,\"Interrompu\", $D43)), 0),\"Non requis\")","v":5860},{"$f":"IF(INTRO!$E$40=\"Endémique\", IF($I43>0, IF($I43=4,\"Inconnu\",IF($I43=99,\"Interrompu\", $D43)), 0),\"Non requis\")","v":"Inconnu"},{"$f":"IF(INTRO!$E$42=\"Endémique\", IF(AND($J43>1,$J43<5), IF($J43=4, \"Inconnu\", E43+F43), 0),\"Non requis\")","v":0},{"$f":"IF(INTRO!$E$44=\"Endémique\", IF(AND($K43>0,$K43<5), IF($K43=4,\"Inconnu\", IF($K43=1, $F43*0.33, IF($K43=2, $F43*0.5+$G43*0.2, SUM(F43:G43)))), 0),\"Non requis\")","v":1414.5},0,0,1,0,"T2 (PZQ)",null,null,null,null,23705,"CANDJAMBARI",null,{"$f":"'MDA1'!M43","v":0},{"$f":"'MDA3'!Q43","v":0},{"$f":"'T1'!O43","v":0},{"$f":"'T2'!M43","v":1828},{"$f":"T3_R1!N43","v":0},{"$f":"T3_R2!N43","v":0}]
[{"$f":"IF(INTRO!$E$34<>0,INTRO!$E$34,\"\")","v":"Guinea Bissau"},"Farim","CUNTIMA",13219,{"$f":"IF(INTRO!$E$48=\"\",\"\",ROUND($D44*INTRO!$E$48,0))","v":1758},{"$f":"IF(INTRO!$E$49=\"\",\"\",ROUND($D44*INTRO!$E$49,0))","v":3387},{"$f":"IF(INTRO!$E$50=\"\",\"\",ROUND($D44*INTRO!$E$50,0))","v":7489},1,4,1,3,{"$f":"IF(INTRO!$E$38=\"Endémique\", IF($H44>0, IF($H44=4,\"Inconnu\", IF($H44=99,\"Interrompu\", $D44)), 0),\"Non requis\")","v":13219},{"$f":"IF(INTRO!$E$40=\"Endémique\", IF($I44>0, IF($I44=4,\"Inconnu\",IF($I44=99,\"Interrompu\", $D44)), 0),\"Non requis\")","v":"Inconnu"},{"$f":"IF(INTRO!$E$42=\"Endémique\", IF(AND($J44>1,$J44<5), IF($J44=4, \"Inconnu\", E44+F44), 0),\"Non requis\")","v":0},{"$f":"IF(INTRO!$E$44=\"Endémique\", IF(AND($K44>0,$K44<5), IF($K44=4,\"Inconnu\", IF($K44=1, $F44*0.33, IF($K44=2, $F44*0.5+$G44*0.2, SUM(F44:G44)))), 0),\"Non requis\")","v":10876},0,0,1,0,"T2 (PZQ)",null,null,null,null,23706,"CUNTIMA",null,{"$f":"'MDA1'!M44","v":0},{"$f":"'MDA3'!Q44","v":0},{"$f":"'T1'!O44","v":0},{"$f":"'T2'!M44","v":3200},{"$f":"T3_R1!N44","v":0},{"$f":"T3_R2!N44","v":0}]
[{"$f":"IF(INTRO!$E$34<>0,INTRO!$E$34,\"\")","v":"Guinea Bissau"},"Farim","FARIM",31030,{"$f":"IF(INTRO!$E$48=\"\",\"\",ROUND($D45*INTRO!$E$48,0))","v":4127},{"$f":"IF(INTRO!$E$49=\"\",\"\",ROUND($D45*INTRO!$E$49,0))","v":7950},{"$f":"IF(INTRO!$E$50=\"\",\"\",ROUND($D45*INTRO!$E$50,0))","v":17578},1,4,1,1,{"$f":"IF(INTRO!$E$38=\"Endémique\", IF($H45>0, IF($H45=4,\"Inconnu\", IF($H45=99,\"Interrompu\", $D45)), 0),\"Non requis\")","v":31030},{"$f":"IF(INTRO!$E$40=\"Endémique\", IF($I45>0, IF($I45=4,\"Inconnu\",IF($I45=99,\"Interrompu\", $D45)), 0),\"Non requis\")","v":"Inconnu"},{"$f":"IF(INTRO!$E$42=\"Endémique\", IF(AND($J45>1,$J45<5), IF($J45=4, \"Inconnu\", E45+F45), 0),\"Non requis\")","v":0},{"$f":"IF(INTRO!$E$44=\"Endémique\", IF(AND($K45>0,$K45<5), IF($K45=4,\"Inconnu\", IF($K45=1, $F45*0.33, IF($K45=2, $F45*0.5+$G45*0.2, SUM(F45:G45)))), 0),\"Non requis\")","v":2623.5},0,0,1,0,"T2 (PZQ)",null,null,null,null,23708,"FARIM",null,{"$f":"'MDA1'!M45","v":0},{"$f":"'MDA3'!Q45","v":0},{"$f":"'T1'!O45","v":0},{"$f":"'T2'!M45","v":5378},{"$f":"T3_R1!N45","v":0},{"$f":"T3_R2!N45","v":0}]
[{"$f":"IF(INTRO!$E$34<>0,INTRO!$E$34,\"\")","v":"Guinea Bissau"},"Farim","GUIDAGE",5052,{"$f":"IF(INTRO!$E$48=\"\",\"\",ROUND($D46*INTRO!$E$48,0))","v":672},{"$f":"IF(INTRO!$E$49=\"\",\"\",ROUND($D46*INTRO!$E$49,0))","v":1294},{"$f":"IF(INTRO!$E$50=\"\",\"\",ROUND($D46*INTRO!$E$50,0))","v":2862},1,4,0,2,{"$f":"IF(INTRO!$E$38=\"Endémique\", IF($H46>0, IF($H46=4,\"Inconnu\", IF($H46=99,\"Interrompu\", $D46)), 0),\"Non requis\")","v":5052},{"$f":"IF(INTRO!$E$40=\"Endémique\", IF($I46>0, IF($I46=4,\"Inconnu\",IF($I46=99,\"Interrompu\", $D46)), 0),\"Non requis\")","v":"Inconnu"},{"$f":"IF(INTRO!$E$42=\"Endémique\", IF(AND($J46>1,$J46<5), IF($J46=4, \"Inconnu\", E46+F46), 0),\"Non requis\")","v":0},{"$f":"IF(INTRO!$E$44=\"Endémique\", IF(AND($K46>0,$K46<5), IF($K46=4,\"Inconnu\", IF($K46=1, $F46*0.33, IF($K46=2, $F46*0.5+$G46*0.2, SUM(F46:G46)))), 0),\"Non requis\")","v":1219.4000000000001},0,0,1,0,"T2 (PZQ)",null,null,null,null,23707,"GUIDAGE",null,{"$f":"'MDA1'!M46","v":0},{"$f":"'MDA3'!Q46","v":0},{"$f":"'T1'!O46","v":0},{"$f":"'T2'!M46","v":1118},{"$f":"T3_R1!N46","v":0},{"$f":"T3_R2!N46","v":0}]
[{"$f":"IF(INTRO!$E$34<>0,INTRO!$E$34,\"\")","v":"Guinea Bissau"},"Oio","BINAR",15689,{"$f":"IF(INTRO!$E$48=\"\",\"\",ROUND($D47*INTRO!$E$48,0))","v":2087},{"$f":"IF(INTRO!$E$49=\"\",\"\",ROUND($D47*INTRO!$E$49,0))","v":4020},{"$f":"IF(INTRO!$E$50=\"\",\"\",ROUND($D47*INTRO!$E$50,0))","v":8888},1,4,3,0,{"$f":"IF(INTRO!$E$38=\"Endémique\", IF($H47>0, IF($H47=4,\"Inconnu\", IF($H47=99,\"Interrompu\", $D47)), 0),\"Non requis\")","v":15689},{"$f":"IF(INTRO!$E$40=\"Endémique\", IF($I47>0, IF($I47=4,\"Inconnu\",IF($I47=99,\"Interrompu\", $D47)), 0),\"Non requis\")","v":"Inconnu"},{"$f":"IF(INTRO!$E$42=\"Endémique\", IF(AND($J47>1,$J47<5), IF($J47=4, \"Inconnu\", E47+F47), 0),\"Non requis\")","v":6107},{"$f":"IF(INTRO!$E$44=\"Endémique\", IF(AND($K47>0,$K47<5), IF($K47=4,\"Inconnu\", IF($K47=1, $F47*0.33, IF($K47=2, $F47*0.5+$G47*0.2, SUM(F47:G47)))), 0),\"Non requis\")","v":0},1,0,1,0,"MDA1 (IVM+ALB)",null,null,null,null,23731,"BINAR",null,{"$f":"'MDA1'!M47","v":11656},{"$f":"'MDA3'!Q47","v":0},{"$f":"'T1'!O47","v":0},{"$f":"'T2'!M47","v":0},{"$f":"T3_R1!N47","v":0},{"$f":"T3_R2!N47","v":0}]
[{"$f":"IF(INTRO!$E$34<>0,INTRO!$E$34,\"\")","v":"Guinea Bissau"},"Oio","BISSORA",46372,{"$f":"IF(INTRO!$E$48=\"\",\"\",ROUND($D48*INTRO!$E$48,0))","v":6167},{"$f":"IF(INTRO!$E$49=\"\",\"\",ROUND($D48*INTRO!$E$49,0))","v":11881},{"$f":"IF(INTRO!$E$50=\"\",\"\",ROUND($D48*INTRO!$E$50,0))","v":26270},1,4,1,0,{"$f":"IF(INTRO!$E$38=\"Endémique\", IF($H48>0, IF($H48=4,\"Inconnu\", IF($H48=99,\"Interrompu\", $D48)), 0),\"Non requis\")","v":46372},{"$f":"IF(INTRO!$E$40=\"Endémique\", IF($I48>0, IF($I48=4,\"Inconnu\",IF($I48=99,\"Interrompu\", $D48)), 0),\"Non requis\")","v":"Inconnu"},{"$f":"IF(INTRO!$E$42=\"Endémique\", IF(AND($J48>1,$J48<5), IF($J48=4, \"Inconnu\", E48+F48), 0),\"Non requis\")","v":0},{"$f":"IF(INTRO!$E$44=\"Endémique\", IF(AND($K48>0,$K48<5), IF($K48=4,\"Inconnu\", IF($K48=1, $F48*0.33, IF($K48=2, $F48*0.5+$G48*0.2, SUM(F48:G48)))), 0),\"Non requis\")","v":0},1,0,0,0,"MDA1 (IVM+ALB)",null,null,null,null,23732,"BISSORA",null,{"$f":"'MDA1'!M48","v":29381},{"$f":"'MDA3'!Q48","v":0},{"$f":"'T1'!O48","v":0},{"$f":"'T2'!M48","v":0},{"$f":"T3_R1!N48","v":0},{"$f":"T3_R2!N48","v":0}]
[{"$f":"IF(INTRO!$E$34<>0,INTRO!$E$34,\"\")","v":"Guinea Bissau"},"Oio","ENCHEIA",14835,{"$f":"IF(INTRO!$E$48=\"\",\"\",ROUND($D49*INTRO!$E$48,0))","v":1973},{"$f":"IF(INTRO!$E$49=\"\",\"\",ROUND($D49*INTRO!$E$49,0))","v":3801},{"$f":"IF(INTRO!$E$50=\"\",\"\",ROUND($D49*INTRO!$E$50,0))","v":8404},1,4,3,0,{"$f":"IF(INTRO!$E$38=\"Endémique\", IF($H49>0, IF($H49=4,\"Inconnu\", IF($H49=99,\"Interrompu\", $D49)), 0),\"Non requis\")","v":14835},{"$f":"IF(INTRO!$E$40=\"Endémique\", IF($I49>0, IF($I49=4,\"Inconnu\",IF($I49=99,\"Interrompu\", $D49)), 0),\"Non requis\")","v":"Inconnu"},{"$f":"IF(INTRO!$E$42=\"Endémique\", IF(AND($J49>1,$J49<5), IF($J49=4, \"Inconnu\", E49+F49), 0),\"Non requis\")","v":5774},{"$f":"IF(INTRO!$E$44=\"Endémique\", IF(AND($K49>0,$K49<5), IF($K49=4,\"Inconnu\", IF($K49=1, $F49*0.33, IF($K49=2, $F49*0.5+$G49*0.2, SUM(F49:G49)))), 0),\"Non requis\")","v":0},1,0,1,0,"MDA1 (IVM+ALB)",null,null,null,null,23733,"ENCHEIA",null,{"$f":"'MDA1'!M49","v":10556},{"$f":"'MDA3'!Q49","v":0},{"$f":"'T1'!O49","v":0},{"$f":"'T2'!M49","v":0},{"$f":"T3_R1!N49","v":0},{"$f":"T3_R2!N49","v":0}]
[{"$f":"IF(INTRO!$E$34<>0,INTRO!$E$34,\"\")","v":"Guinea Bissau"},"Oio","GÃ-MAMUDO",12044,{"$f":"IF(INTRO!$E$48=\"\",\"\",ROUND($D50*INTRO!$E$48,0))","v":1602},{"$f":"IF(INTRO!$E$49=\"\",\"\",ROUND($D50*INTRO!$E$49,0))","v":3086},{"$f":"IF(INTRO!$E$50=\"\",\"\",ROUND($D50*INTRO!$E$50,0))","v":6823},1,4,3,1,{"$f":"IF(INTRO!$E$38=\"Endémique\", IF($H50>0, IF($H50=4,\"Inconnu\", IF($H50=99,\"Interrompu\", $D50)), 0),\"Non requis\")","v":12044},{"$f":"IF(INTRO!$E$40=\"Endémique\", IF($I50>0, IF($I50=4,\"Inconnu\",IF($I50=99,\"Interrompu\", $D50)), 0),\"Non requis\")","v":"Inconnu"},{"$f":"IF(INTRO!$E$42=\"Endémique\", IF(AND($J50>1,$J50<5), IF($J50=4, \"Inconnu\", E50+F50), 0),\"Non requis\")","v":4688},{"$f":"IF(INTRO!$E$44=\"Endémique\", IF(AND($K50>0,$K50<5), IF($K50=4,\"Inconnu\", IF($K50=1, $F50*0.33, IF($K50=2, $F50*0.5+$G50*0.2, SUM(F50:G50)))), 0),\"Non requis\")","v":1018.38},1,0,1,0,"MDA1 (IVM+ALB)",null,null,null,null,23734,"GÃ-MAMUDO",null,{"$f":"'MDA1'!M50","v":8685},{"$f":"'MDA3'!Q50","v":0},{"$f":"'T1'!O50","v":0},{"$f":"'T2'!M50","v":0},{"$f":"T3_R1!N50","v":0},{"$f":"T3_R2!N50","v":0}]
[{"$f":"IF(INTRO!$E$34<>0,INTRO!$E$34,\"\")","v":"Guinea Bissau"},"Oio","MANSABA",27411,{"$f":"IF(INTRO!$E$48=\"\",\"\",ROUND($D51*INTRO!$E$48,0))","v":3646},{"$f":"IF(INTRO!$E$49=\"\",\"\",ROUND($D51*INTRO!$E$49,0))","v":7023},{"$f":"IF(INTRO!$E$50=\"\",\"\",ROUND($D51*INTRO!$E$50,0))","v":15528},1,4,1,0,{"$f":"IF(INTRO!$E$38=\"Endémique\", IF($H51>0, IF($H51=4,\"Inconnu\", IF($H51=99,\"Interrompu\", $D51)), 0),\"Non requis\")","v":27411},{"$f":"IF(INTRO!$E$40=\"Endémique\", IF($I51>0, IF($I51=4,\"Inconnu\",IF($I51=99,\"Interrompu\", $D51)), 0),\"Non requis\")","v":"Inconnu"},{"$f":"IF(INTRO!$E$42=\"Endémique\", IF(AND($J51>1,$J51<5), IF($J51=4, \"Inconnu\", E51+F51), 0),\"Non requis\")","v":0},{"$f":"IF(INTRO!$E$44=\"Endémique\", IF(AND($K51>0,$K51<5), IF($K51=4,\"Inconnu\", IF($K51=1, $F51*0.33, IF($K51=2, $F51*0.5+$G51*0.2, SUM(F51:G51)))), 0),\"Non requis\")","v":0},1,0,0,0,"MDA1 (IVM+ALB)",null,null,null,null,23735,"MANSABA",null,{"$f":"'MDA1'!M51","v":17812},{"$f":"'MDA3'!Q51","v":0},{"$f":"'T1'!O51","v":0},{"$f":"'T2'!M51","v":0},{"$f":"T3_R1!N51","v":0},{"$f":"T3_R2!N51","v":0}]
[{"$f":"IF(INTRO!$E$34<>0,INTRO!$E$34,\"\")","v":"Guinea Bissau"},"Oio","MANSOA",44132,{"$f":"IF(INTRO!$E$48=\"\",\"\",ROUND($D52*INTRO!$E$48,0))","v":5870},{"$f":"IF(INTRO!$E$49=\"\",\"\",ROUND($D52*INTRO!$E$49,0))","v":11307},{"$f":"IF(INTRO!$E$50=\"\",\"\",ROUND($D52*INTRO!$E$50,0))","v":25001},1,4,1,0,{"$f":"IF(INTRO!$E$38=\"Endémique\", IF($H52>0, IF($H52=4,\"Inconnu\", IF($H52=99,\"Interrompu\", $D52)), 0),\"Non requis\")","v":44132},{"$f":"IF(INTRO!$E$40=\"Endémique\", IF($I52>0, IF($I52=4,\"Inconnu\",IF($I52=99,\"Interrompu\", $D52)), 0),\"Non requis\")","v":"Inconnu"},{"$f":"IF(INTRO!$E$42=\"Endémique\", IF(AND($J52>1,$J52<5), IF($J52=4, \"Inconnu\", E52+F52), 0),\"Non requis\")","v":0},{"$f":"IF(INTRO!$E$44=\"Endémique\", IF(AND($K52>0,$K52<5), IF($K52=4,\"Inconnu\", IF($K52=1, $F52*0.33, IF($K52=2, $F52*0.5+$G52*0.2, SUM(F52:G52)))), 0),\"Non requis\")","v":0},1,0,0,0,"MDA1 (IVM+ALB)",null,null,null,null,23736,"MANSOA",null,{"$f":"'MDA1'!M52","v":27869},{"$f":"'MDA3'!Q52","v":0},{"$f":"'T1'!O52","v":0},{"$f":"'T2'!M52","v":0},{"$f":"T3_R1!N52","v":0},{"$f":"T3_R2!N52","v":0}]
[{"$f":"IF(INTRO!$E$34<>0,INTRO!$E$34,\"\")","v":"Guinea Bissau"},"Oio","MORES",11653,{"$f":"IF(INTRO!$E$48=\"\",\"\",ROUND($D53*INTRO!$E$48,0))","v":1550},{"$f":"IF(INTRO!$E$49=\"\",\"\",ROUND($D53*INTRO!$E$49,0))","v":2985},{"$f":"IF(INTRO!$E$50=\"\",\"\",ROUND($D53*INTRO!$E$50,0))","v":6601},1,4,3,0,{"$f":"IF(INTRO!$E$38=\"Endémique\", IF($H53>0, IF($H53=4,\"Inconnu\", IF($H53=99,\"Interrompu\", $D53)), 0),\"Non requis\")","v":11653},{"$f":"IF(INTRO!$E$40=\"Endémique\", IF($I53>0, IF($I53=4,\"Inconnu\",IF($I53=99,\"Interrompu\", $D53)), 0),\"Non requis\")","v":"Inconnu"},{"$f":"IF(INTRO!$E$42=\"Endémique\", IF(AND($J53>1,$J53<5), IF($J53=4, \"Inconnu\", E53+F53), 0),\"Non requis\")","v":4535},{"$f":"IF(INTRO!$E$44=\"Endémique\", IF(AND($K53>0,$K53<5), IF($K53=4,\"Inconnu\", IF($K53=1, $F53*0.33, IF($K53=2, $F53*0.5+$G53*0.2, SUM(F53:G53)))), 0),\"Non requis\")","v":0},1,0,1,0,"MDA1 (IVM+ALB)",null,null,null,null,23737,"MORES",null,{"$f":"'MDA1'!M53","v":7951},{"$f":"'MDA3'!Q53","v":0},{"$f":"'T1'!O53","v":0},{"$f":"'T2'!M53","v":0},{"$f":"T3_R1!N53","v":0},{"$f":"T3_R2!N53","v":0}]
[{"$f":"IF(INTRO!$E$34<>0,INTRO!$E$34,\"\")","v":"Guinea Bissau"},"Oio","NHACRA",28333,{"$f":"IF(INTRO!$E$48=\"\",\"\",ROUND($D54*INTRO!$E$48,0))","v":3768},{"$f":"IF(INTRO!$E$49=\"\",\"\",ROUND($D54*INTRO!$E$49,0))","v":7259},{"$f":"IF(INTRO!$E$50=\"\",\"\",ROUND($D54*INTRO!$E$50,0))","v":16051},1,4,1,0,{"$f":"IF(INTRO!$E$38=\"Endémique\", IF($H54>0, IF($H54=4,\"Inconnu\", IF($H54=99,\"Interrompu\", $D54)), 0),\"Non requis\")","v":28333},{"$f":"IF(INTRO!$E$40=\"Endémique\", IF($I54>0, IF($I54=4,\"Inconnu\",IF($I54=99,\"Interrompu\", $D54)), 0),\"Non requis\")","v":"Inconnu"},{"$f":"IF(INTRO!$E$42=\"Endémique\", IF(AND($J54>1,$J54<5), IF($J54=4, \"Inconnu\", E54+F54), 0),\"Non requis\")","v":0},{"$f":"IF(INTRO!$E$44=\"Endémique\", IF(AND($K54>0,$K54<5), IF($K54=4,\"Inconnu\", IF($K54=1, $F54*0.33, IF($K54=2, $F54*0.5+$G54*0.2, SUM(F54:G54)))), 0),\"Non requis\")","v":0},1,0,0,0,"MDA1 (IVM+ALB)",null,null,null,null,23738,"NHACRA",null,{"$f":"'MDA1'!M54","v":18459},{"$f":"'MDA3'!Q54","v":0},{"$f":"'T1'!O54","v":0},{"$f":"'T2'!M54","v":0},{"$f":"T3_R1!N54","v":0},{"$f":"T3_R2!N54","v":0}]
[{"$f":"IF(INTRO!$E$34<>0,INTRO!$E$34,\"\")","v":"Guinea Bissau"},"Oio","OLOSSATO",17592,{"$f":"IF(INTRO!$E$48=\"\",\"\",ROUND($D55*INTRO!$E$48,0))","v":2340},{"$f":"IF(INTRO!$E$49=\"\",\"\",ROUND($D55*INTRO!$E$49,0))","v":4507},{"$f":"IF(INTRO!$E$50=\"\",\"\",ROUND($D55*INTRO!$E$50,0))","v":9966},1,4,3,0,{"$f":"IF(INTRO!$E$38=\"Endémique\", IF($H55>0, IF($H55=4,\"Inconnu\", IF($H55=99,\"Interrompu\", $D55)), 0),\"Non requis\")","v":17592},{"$f":"IF(INTRO!$E$40=\"Endémique\", IF($I55>0, IF($I55=4,\"Inconnu\",IF($I55=99,\"Interrompu\", $D55)), 0),\"Non requis\")","v":"Inconnu"},{"$f":"IF(INTRO!$E$42=\"Endémique\", IF(AND($J55>1,$J55<5), IF($J55=4, \"Inconnu\", E55+F55), 0),\"Non requis\")","v":6847},{"$f":"IF(INTRO!$E$44=\"Endémique\", IF(AND($K55>0,$K55<5), IF($K55=4,\"Inconnu\", IF($K55=1, $F55*0.33, IF($K55=2, $F55*0.5+$G55*0.2, SUM(F55:G55)))), 0),\"Non requis\")","v":0},1,0,1,0,"MDA1 (IVM+ALB)",null,null,null,null,23739,"OLOSSATO",null,{"$f":"'MDA1'!M55","v":16224},{"$f":"'MDA3'!Q55","v":0},{"$f":"'T1'!O55","v":0},{"$f":"'T2'!M55","v":0},{"$f":"T3_R1!N55","v":0},{"$f":"T3_R2!N55","v":0}]
[{"$f":"IF(INTRO!$E$34<>0,INTRO!$E$34,\"\")","v":"Guinea Bissau"},"Oio","PORTUGOL",6461,{"$f":"IF(INTRO!$E$48=\"\",\"\",ROUND($D56*INTRO!$E$48,0))","v":859},{"$f":"IF(INTRO!$E$49=\"\",\"\",ROUND($D56*INTRO!$E$49,0))","v":1655},{"$f":"IF(INTRO!$E$50=\"\",\"\",ROUND($D56*INTRO!$E$50,0))","v":3660},1,4,3,0,{"$f":"IF(INTRO!$E$38=\"Endémique\", IF($H56>0, IF($H56=4,\"Inconnu\", IF($H56=99,\"Interrompu\", $D56)), 0),\"Non requis\")","v":6461},{"$f":"IF(INTRO!$E$40=\"Endémique\", IF($I56>0, IF($I56=4,\"Inconnu\",IF($I56=99,\"Interrompu\", $D56)), 0),\"Non requis\")","v":"Inconnu"},{"$f":"IF(INTRO!$E$42=\"Endémique\", IF(AND($J56>1,$J56<5), IF($J56=4, \"Inconnu\", E56+F56), 0),\"Non requis\")","v":2514},{"$f":"IF(INTRO!$E$44=\"Endémique\", IF(AND($K56>0,$K56<5), IF($K56=4,\"Inconnu\", IF($K56=1, $F56*0.33, IF($K56=2, $F56*0.5+$G56*0.2, SUM(F56:G56)))), 0),\"Non requis\")","v":0},1,0,1,0,"MDA1 (IVM+ALB)",null,null,null,null,23730,"PORTUGOL",null,{"$f":"'MDA1'!M56","v":4342},{"$f":"'MDA3'!Q56","v":0},{"$f":"'T1'!O56","v":0},{"$f":"'T2'!M56","v":0},{"$f":"T3_R1!N56","v":0},{"$f":"T3_R2!N56","v":0}]
[{"$f":"IF(INTRO!$E$34<>0,INTRO!$E$34,\"\")","v":"Guinea Bissau"},"Bolama","BOLAMA",7180,{"$f":"IF(INTRO!$E$48=\"\",\"\",ROUND($D57*INTRO!$E$48,0))","v":955},{"$f":"IF(INTRO!$E$49=\"\",\"\",ROUND($D57*INTRO!$E$49,0))","v":1840},{"$f":"IF(INTRO!$E$50=\"\",\"\",ROUND($D57*INTRO!$E$50,0))","v":4067},1,4,1,0,{"$f":"IF(INTRO!$E$38=\"Endémique\", IF($H57>0, IF($H57=4,\"Inconnu\", IF($H57=99,\"Interrompu\", $D57)), 0),\"Non requis\")","v":7180},{"$f":"IF(INTRO!$E$40=\"Endémique\", IF($I57>0, IF($I57=4,\"Inconnu\",IF($I57=99,\"Interrompu\", $D57)), 0),\"Non requis\")","v":"Inconnu"},{"$f":"IF(INTRO!$E$42=\"Endémique\", IF(AND($J57>1,$J57<5), IF($J57=4, \"Inconnu\", E57+F57), 0),\"Non requis\")","v":0},{"$f":"IF(INTRO!$E$44=\"Endémique\", IF(AND($K57>0,$K57<5), IF($K57=4,\"Inconnu\", IF($K57=1, $F57*0.33, IF($K57=2, $F57*0.5+$G57*0.2, SUM(F57:G57)))), 0),\"Non requis\")","v":0},0,0,0,0,null,null,null,null,null,23683,"BOLAMA",null,{"$f":"'MDA1'!M57","v":0},{"$f":"'MDA3'!Q57","v":0},{"$f":"'T1'!O57","v":0},{"$f":"'T2'!M57","v":0},{"$f":"T3_R1!N57","v":0},{"$f":"T3_R2!N57","v":0}]
[{"$f":"IF(INTRO!$E$34<>0,INTRO!$E$34,\"\")","v":"Guinea Bissau"},"Bolama","I.  GALINHAS",1946,{"$f":"IF(INTRO!$E$48=\"\",\"\",ROUND($D58*INTRO!$E$48,0))","v":259},{"$f":"IF(INTRO!$E$49=\"\",\"\",ROUND($D58*INTRO!$E$49,0))","v":499},{"$f":"IF(INTRO!$E$50=\"\",\"\",ROUND($D58*INTRO!$E$50,0))","v":1102},1,4,0,0,{"$f":"IF(INTRO!$E$38=\"Endémique\", IF($H58>0, IF($H58=4,\"Inconnu\", IF($H58=99,\"Interrompu\", $D58)), 0),\"Non requis\")","v":1946},{"$f":"IF(INTRO!$E$40=\"Endémique\", IF($I58>0, IF($I58=4,\"Inconnu\",IF($I58=99,\"Interrompu\", $D58)), 0),\"Non requis\")","v":"Inconnu"},{"$f":"IF(INTRO!$E$42=\"Endémique\", IF(AND($J58>1,$J58<5), IF($J58=4, \"Inconnu\", E58+F58), 0),\"Non requis\")","v":0},{"$f":"IF(INTRO!$E$44=\"Endémique\", IF(AND($K58>0,$K58<5), IF($K58=4,\"Inconnu\", IF($K58=1, $F58*0.33, IF($K58=2, $F58*0.5+$G58*0.2, SUM(F58:G58)))), 0),\"Non requis\")","v":0},0,0,0,0,null,null,null,null,null,23655,"ILHA DE GALINHAS",null,{"$f":"'MDA1'!M58","v":0},{"$f":"'MDA3'!Q58","v":0},{"$f":"'T1'!O58","v":0},{"$f":"'T2'!M58","v":0},{"$f":"T3_R1!N58","v":0},{"$f":"T3_R2!N58","v":0}]
[{"$f":"IF(INTRO!$E$34<>0,INTRO!$E$34,\"\")","v":"Guinea Bissau"},"Bolama","SÃO-JOÃO ",3039,{"$f":"IF(INTRO!$E$48=\"\",\"\",ROUND($D59*INTRO!$E$48,0))","v":404},{"$f":"IF(INTRO!$E$49=\"\",\"\",ROUND($D59*INTRO!$E$49,0))","v":779},{"$f":"IF(INTRO!$E$50=\"\",\"\",ROUND($D59*INTRO!$E$50,0))","v":1722},1,4,1,0,{"$f":"IF(INTRO!$E$38=\"Endémique\", IF($H59>0, IF($H59=4,\"Inconnu\", IF($H59=99,\"Interrompu\", $D59)), 0),\"Non requis\")","v":3039},{"$f":"IF(INTRO!$E$40=\"Endémique\", IF($I59>0, IF($I59=4,\"Inconnu\",IF($I59=99,\"Interrompu\", $D59)), 0),\"Non requis\")","v":"Inconnu"},{"$f":"IF(INTRO!$E$42=\"Endémique\", IF(AND($J59>1,$J59<5), IF($J59=4, \"Inconnu\", E59+F59), 0),\"Non requis\")","v":0},{"$f":"IF(INTRO!$E$44=\"Endémique\", IF(AND($K59>0,$K59<5), IF($K59=4,\"Inconnu\", IF($K59=1, $F59*0.33, IF($K59=2, $F59*0.5+$G59*0.2, SUM(F59:G59)))), 0),\"Non requis\")","v":0},0,0,0,0,null,null,null,null,null,23684,"SÃO-JOÃO ",null,{"$f":"'MDA1'!M59","v":0},{"$f":"'MDA3'!Q59","v":0},{"$f":"'T1'!O59","v":0},{"$f":"'T2'!M59","v":0},{"$f":"T3_R1!N59","v":0},{"$f":"T3_R2!N59","v":0}]
[{"$f":"IF(INTRO!$E$34<>0,INTRO!$E$34,\"\")","v":"Guinea Bissau"},"Gabu","BAJOCUNDA",6921,{"$f":"IF(INTRO!$E$48=\"\",\"\",ROUND($D60*INTRO!$E$48,0))","v":920},{"$f":"IF(INTRO!$E$49=\"\",\"\",ROUND($D60*INTRO!$E$49,0))","v":1773},{"$f":"IF(INTRO!$E$50=\"\",\"\",ROUND($D60*INTRO!$E$50,0))","v":3921},1,1,2,1,{"$f":"IF(INTRO!$E$38=\"Endémique\", IF($H60>0, IF($H60=4,\"Inconnu\", IF($H60=99,\"Interrompu\", $D60)), 0),\"Non requis\")","v":6921},{"$f":"IF(INTRO!$E$40=\"Endémique\", IF($I60>0, IF($I60=4,\"Inconnu\",IF($I60=99,\"Interrompu\", $D60)), 0),\"Non requis\")","v":6921},{"$f":"IF(INTRO!$E$42=\"Endémique\", IF(AND($J60>1,$J60<5), IF($J60=4, \"Inconnu\", E60+F60), 0),\"Non requis\")","v":2693},{"$f":"IF(INTRO!$E$44=\"Endémique\", IF(AND($K60>0,$K60<5), IF($K60=4,\"Inconnu\", IF($K60=1, $F60*0.33, IF($K60=2, $F60*0.5+$G60*0.2, SUM(F60:G60)))), 0),\"Non requis\")","v":585.09},0,0,1,0,"T2 (PZQ)",null,null,null,null,23709,"BAJOCUNDA",null,{"$f":"'MDA1'!M60","v":0},{"$f":"'MDA3'!Q60","v":0},{"$f":"'T1'!O60","v":0},{"$f":"'T2'!M60","v":1748},{"$f":"T3_R1!N60","v":0},{"$f":"T3_R2!N60","v":0}]
[{"$f":"IF(INTRO!$E$34<>0,INTRO!$E$34,\"\")","v":"Guinea Bissau"},"Gabu","BELI",6242,{"$f":"IF(INTRO!$E$48=\"\",\"\",ROUND($D61*INTRO!$E$48,0))","v":830},{"$f":"IF(INTRO!$E$49=\"\",\"\",ROUND($D61*INTRO!$E$49,0))","v":1599},{"$f":"IF(INTRO!$E$50=\"\",\"\",ROUND($D61*INTRO!$E$50,0))","v":3536},1,1,1,2,{"$f":"IF(INTRO!$E$38=\"Endémique\", IF($H61>0, IF($H61=4,\"Inconnu\", IF($H61=99,\"Interrompu\", $D61)), 0),\"Non requis\")","v":6242},{"$f":"IF(INTRO!$E$40=\"Endémique\", IF($I61>0, IF($I61=4,\"Inconnu\",IF($I61=99,\"Interrompu\", $D61)), 0),\"Non requis\")","v":6242},{"$f":"IF(INTRO!$E$42=\"Endémique\", IF(AND($J61>1,$J61<5), IF($J61=4, \"Inconnu\", E61+F61), 0),\"Non requis\")","v":0},{"$f":"IF(INTRO!$E$44=\"Endémique\", IF(AND($K61>0,$K61<5), IF($K61=4,\"Inconnu\", IF($K61=1, $F61*0.33, IF($K61=2, $F61*0.5+$G61*0.2, SUM(F61:G61)))), 0),\"Non requis\")","v":1506.7},0,0,1,0,"T2 (PZQ)",null,null,null,null,23710,"BELI",null,{"$f":"'MDA1'!M61","v":0},{"$f":"'MDA3'!Q61","v":0},{"$f":"'T1'!O61","v":0},{"$f":"'T2'!M61","v":1554},{"$f":"T3_R1!N61","v":0},{"$f":"T3_R2!N61","v":0}]
[{"$f":"IF(INTRO!$E$34<>0,INTRO!$E$34,\"\")","v":"Guinea Bissau"},"Gabu","BURUNTUMA",12135,{"$f":"IF(INTRO!$E$48=\"\",\"\",ROUND($D62*INTRO!$E$48,0))","v":1614},{"$f":"IF(INTRO!$E$49=\"\",\"\",ROUND($D62*INTRO!$E$49,0))","v":3109},{"$f":"IF(INTRO!$E$50=\"\",\"\",ROUND($D62*INTRO!$E$50,0))","v":6874},1,1,2,1,{"$f":"IF(INTRO!$E$38=\"Endémique\", IF($H62>0, IF($H62=4,\"Inconnu\", IF($H62=99,\"Interrompu\", $D62)), 0),\"Non requis\")","v":12135},{"$f":"IF(INTRO!$E$40=\"Endémique\", IF($I62>0, IF($I62=4,\"Inconnu\",IF($I62=99,\"Interrompu\", $D62)), 0),\"Non requis\")","v":12135},{"$f":"IF(INTRO!$E$42=\"Endémique\", IF(AND($J62>1,$J62<5), IF($J62=4, \"Inconnu\", E62+F62), 0),\"Non requis\")","v":4723},{"$f":"IF(INTRO!$E$44=\"Endémique\", IF(AND($K62>0,$K62<5), IF($K62=4,\"Inconnu\", IF($K62=1, $F62*0.33, IF($K62=2, $F62*0.5+$G62*0.2, SUM(F62:G62)))), 0),\"Non requis\")","v":1025.97},0,0,1,0,"T2 (PZQ)",null,null,null,null,23711,"BURUNTUMA",null,{"$f":"'MDA1'!M62","v":0},{"$f":"'MDA3'!Q62","v":0},{"$f":"'T1'!O62","v":0},{"$f":"'T2'!M62","v":2797},{"$f":"T3_R1!N62","v":0},{"$f":"T3_R2!N62","v":0}]
[{"$f":"IF(INTRO!$E$34<>0,INTRO!$E$34,\"\")","v":"Guinea Bissau"},"Gabu","CANJADUDE",9021,{"$f":"IF(INTRO!$E$48=\"\",\"\",ROUND($D63*INTRO!$E$48,0))","v":1200},{"$f":"IF(INTRO!$E$49=\"\",\"\",ROUND($D63*INTRO!$E$49,0))","v":2311},{"$f":"IF(INTRO!$E$50=\"\",\"\",ROUND($D63*INTRO!$E$50,0))","v":5110},1,1,0,0,{"$f":"IF(INTRO!$E$38=\"Endémique\", IF($H63>0, IF($H63=4,\"Inconnu\", IF($H63=99,\"Interrompu\", $D63)), 0),\"Non requis\")","v":9021},{"$f":"IF(INTRO!$E$40=\"Endémique\", IF($I63>0, IF($I63=4,\"Inconnu\",IF($I63=99,\"Interrompu\", $D63)), 0),\"Non requis\")","v":9021},{"$f":"IF(INTRO!$E$42=\"Endémique\", IF(AND($J63>1,$J63<5), IF($J63=4, \"Inconnu\", E63+F63), 0),\"Non requis\")","v":0},{"$f":"IF(INTRO!$E$44=\"Endémique\", IF(AND($K63>0,$K63<5), IF($K63=4,\"Inconnu\", IF($K63=1, $F63*0.33, IF($K63=2, $F63*0.5+$G63*0.2, SUM(F63:G63)))), 0),\"Non requis\")","v":0},0,0,1,0,"T2 (PZQ)",null,null,null,null,23719,"CANJADUDE",null,{"$f":"'MDA1'!M63","v":0},{"$f":"'MDA3'!Q63","v":0},{"$f":"'T1'!O63","v":0},{"$f":"'T2'!M63","v":2180},{"$f":"T3_R1!N63","v":0},{"$f":"T3_R2!N63","v":0}]
[{"$f":"IF(INTRO!$E$34<>0,INTRO!$E$34,\"\")","v":"Guinea Bissau"},"Gabu","CANQUELIFA",7401,{"$f":"IF(INTRO!$E$48=\"\",\"\",ROUND($D64*INTRO!$E$48,0))","v":984},{"$f":"IF(INTRO!$E$49=\"\",\"\",ROUND($D64*INTRO!$E$49,0))","v":1896},{"$f":"IF(INTRO!$E$50=\"\",\"\",ROUND($D64*INTRO!$E$50,0))","v":4193},1,1,2,1,{"$f":"IF(INTRO!$E$38=\"Endémique\", IF($H64>0, IF($H64=4,\"Inconnu\", IF($H64=99,\"Interrompu\", $D64)), 0),\"Non requis\")","v":7401},{"$f":"IF(INTRO!$E$40=\"Endémique\", IF($I64>0, IF($I64=4,\"Inconnu\",IF($I64=99,\"Interrompu\", $D64)), 0),\"Non requis\")","v":7401},{"$f":"IF(INTRO!$E$42=\"Endémique\", IF(AND($J64>1,$J64<5), IF($J64=4, \"Inconnu\", E64+F64), 0),\"Non requis\")","v":2880},{"$f":"IF(INTRO!$E$44=\"Endémique\", IF(AND($K64>0,$K64<5), IF($K64=4,\"Inconnu\", IF($K64=1, $F64*0.33, IF($K64=2, $F64*0.5+$G64*0.2, SUM(F64:G64)))), 0),\"Non requis\")","v":625.68000000000006},0,0,1,0,"T2 (PZQ)",null,null,null,null,23712,"CANQUELIFA",null,{"$f":"'MDA1'!M64","v":0},{"$f":"'MDA3'!Q64","v":0},{"$f":"'T1'!O64","v":0},{"$f":"'T2'!M64","v":1739},{"$f":"T3_R1!N64","v":0},{"$f":"T3_R2!N64","v":0}]
[{"$f":"IF(INTRO!$E$34<>0,INTRO!$E$34,\"\")","v":"Guinea Bissau"},"Gabu","CANSISSE",7146,{"$f":"IF(INTRO!$E$48=\"\",\"\",ROUND($D65*INTRO!$E$48,0))","v":950},{"$f":"IF(INTRO!$E$49=\"\",\"\",ROUND($D65*INTRO!$E$49,0))","v":1831},{"$f":"IF(INTRO!$E$50=\"\",\"\",ROUND($D65*INTRO!$E$50,0))","v":4048},1,1,2,2,{"$f":"IF(INTRO!$E$38=\"Endémique\", IF($H65>0, IF($H65=4,\"Inconnu\", IF($H65=99,\"Interrompu\", $D65)), 0),\"Non requis\")","v":7146},{"$f":"IF(INTRO!$E$40=\"Endémique\", IF($I65>0, IF($I65=4,\"Inconnu\",IF($I65=99,\"Interrompu\", $D65)), 0),\"Non requis\")","v":7146},{"$f":"IF(INTRO!$E$42=\"Endémique\", IF(AND($J65>1,$J65<5), IF($J65=4, \"Inconnu\", E65+F65), 0),\"Non requis\")","v":2781},{"$f":"IF(INTRO!$E$44=\"Endémique\", IF(AND($K65>0,$K65<5), IF($K65=4,\"Inconnu\", IF($K65=1, $F65*0.33, IF($K65=2, $F65*0.5+$G65*0.2, SUM(F65:G65)))), 0),\"Non requis\")","v":1725.1},0,0,1,0,"T2 (PZQ)",null,null,null,null,23713,"CANSISSE",null,{"$f":"'MDA1'!M65","v":0},{"$f":"'MDA3'!Q65","v":0},{"$f":"'T1'!O65","v":0},{"$f":"'T2'!M65","v":1701},{"$f":"T3_R1!N65","v":0},{"$f":"T3_R2!N65","v":0}]
[{"$f":"IF(INTRO!$E$34<>0,INTRO!$E$34,\"\")","v":"Guinea Bissau"},"Gabu","FASSE",10844,{"$f":"IF(INTRO!$E$48=\"\",\"\",ROUND($D66*INTRO!$E$48,0))","v":1442},{"$f":"IF(INTRO!$E$49=\"\",\"\",ROUND($D66*INTRO!$E$49,0))","v":2778},{"$f":"IF(INTRO!$E$50=\"\",\"\",ROUND($D66*INTRO!$E$50,0))","v":6143},1,1,2,2,{"$f":"IF(INTRO!$E$38=\"Endémique\", IF($H66>0, IF($H66=4,\"Inconnu\", IF($H66=99,\"Interrompu\", $D66)), 0),\"Non requis\")","v":10844},{"$f":"IF(INTRO!$E$40=\"Endémique\", IF($I66>0, IF($I66=4,\"Inconnu\",IF($I66=99,\"Interrompu\", $D66)), 0),\"Non requis\")","v":10844},{"$f":"IF(INTRO!$E$42=\"Endémique\", IF(AND($J66>1,$J66<5), IF($J66=4, \"Inconnu\", E66+F66), 0),\"Non requis\")","v":4220},{"$f":"IF(INTRO!$E$44=\"Endémique\", IF(AND($K66>0,$K66<5), IF($K66=4,\"Inconnu\", IF($K66=1, $F66*0.33, IF($K66=2, $F66*0.5+$G66*0.2, SUM(F66:G66)))), 0),\"Non requis\")","v":2617.6000000000004},0,0,1,0,"T2 (PZQ)",null,null,null,null,23716,"FASSE",null,{"$f":"'MDA1'!M66","v":0},{"$f":"'MDA3'!Q66","v":0},{"$f":"'T1'!O66","v":0},{"$f":"'T2'!M66","v":2222},{"$f":"T3_R1!N66","v":0},{"$f":"T3_R2!N66","v":0}]
[{"$f":"IF(INTRO!$E$34<>0,INTRO!$E$34,\"\")","v":"Guinea Bissau"},"Gabu","PAUNCA",18226,{"$f":"IF(INTRO!$E$48=\"\",\"\",ROUND($D67*INTRO!$E$48,0))","v":2424},{"$f":"IF(INTRO!$E$49=\"\",\"\",ROUND($D67*INTRO!$E$49,0))","v":4670},{"$f":"IF(INTRO!$E$50=\"\",\"\",ROUND($D67*INTRO!$E$50,0))","v":10325},1,1,2,1,{"$f":"IF(INTRO!$E$38=\"Endémique\", IF($H67>0, IF($H67=4,\"Inconnu\", IF($H67=99,\"Interrompu\", $D67)), 0),\"Non requis\")","v":18226},{"$f":"IF(INTRO!$E$40=\"Endémique\", IF($I67>0, IF($I67=4,\"Inconnu\",IF($I67=99,\"Interrompu\", $D67)), 0),\"Non requis\")","v":18226},{"$f":"IF(INTRO!$E$42=\"Endémique\", IF(AND($J67>1,$J67<5), IF($J67=4, \"Inconnu\", E67+F67), 0),\"Non requis\")","v":7094},{"$f":"IF(INTRO!$E$44=\"Endémique\", IF(AND($K67>0,$K67<5), IF($K67=4,\"Inconnu\", IF($K67=1, $F67*0.33, IF($K67=2, $F67*0.5+$G67*0.2, SUM(F67:G67)))), 0),\"Non requis\")","v":1541.1000000000001},0,0,1,0,"T2 (PZQ)",null,null,null,null,23717,"PAUNCA",null,{"$f":"'MDA1'!M67","v":0},{"$f":"'MDA3'!Q67","v":0},{"$f":"'T1'!O67","v":0},{"$f":"'T2'!M67","v":4313},{"$f":"T3_R1!N67","v":0},{"$f":"T3_R2!N67","v":0}]
[{"$f":"IF(INTRO!$E$34<>0,INTRO!$E$34,\"\")","v":"Guinea Bissau"},"Gabu","PITCHE",23565,{"$f":"IF(INTRO!$E$48=\"\",\"\",ROUND($D68*INTRO!$E$48,0))","v":3134},{"$f":"IF(INTRO!$E$49=\"\",\"\",ROUND($D68*INTRO!$E$49,0))","v":6037},{"$f":"IF(INTRO!$E$50=\"\",\"\",ROUND($D68*INTRO!$E$50,0))","v":13350},1,1,0,1,{"$f":"IF(INTRO!$E$38=\"Endémique\", IF($H68>0, IF($H68=4,\"Inconnu\", IF($H68=99,\"Interrompu\", $D68)), 0),\"Non requis\")","v":23565},{"$f":"IF(INTRO!$E$40=\"Endémique\", IF($I68>0, IF($I68=4,\"Inconnu\",IF($I68=99,\"Interrompu\", $D68)), 0),\"Non requis\")","v":23565},{"$f":"IF(INTRO!$E$42=\"Endémique\", IF(AND($J68>1,$J68<5), IF($J68=4, \"Inconnu\", E68+F68), 0),\"Non requis\")","v":0},{"$f":"IF(INTRO!$E$44=\"Endémique\", IF(AND($K68>0,$K68<5), IF($K68=4,\"Inconnu\", IF($K68=1, $F68*0.33, IF($K68=2, $F68*0.5+$G68*0.2, SUM(F68:G68)))), 0),\"Non requis\")","v":1992.21},0,0,1,0,"T2 (PZQ)",null,null,null,null,23726,"PITCHE",null,{"$f":"'MDA1'!M68","v":0},{"$f":"'MDA3'!Q68","v":0},{"$f":"'T1'!O68","v":0},{"$f":"'T2'!M68","v":6847},{"$f":"T3_R1!N68","v":0},{"$f":"T3_R2!N68","v":0}]
[{"$f":"IF(INTRO!$E$34<>0,INTRO!$E$34,\"\")","v":"Guinea Bissau"},"Gabu","DARA",17549,{"$f":"IF(INTRO!$E$48=\"\",\"\",ROUND($D69*INTRO!$E$48,0))","v":2334},{"$f":"IF(INTRO!$E$49=\"\",\"\",ROUND($D69*INTRO!$E$49,0))","v":4496},{"$f":"IF(INTRO!$E$50=\"\",\"\",ROUND($D69*INTRO!$E$50,0))","v":9942},1,1,2,2,{"$f":"IF(INTRO!$E$38=\"Endémique\", IF($H69>0, IF($H69=4,\"Inconnu\", IF($H69=99,\"Interrompu\", $D69)), 0),\"Non requis\")","v":17549},{"$f":"IF(INTRO!$E$40=\"Endémique\", IF($I69>0, IF($I69=4,\"Inconnu\",IF($I69=99,\"Interrompu\", $D69)), 0),\"Non requis\")","v":17549},{"$f":"IF(INTRO!$E$42=\"Endémique\", IF(AND($J69>1,$J69<5), IF($J69=4, \"Inconnu\", E69+F69), 0),\"Non requis\")","v":6830},{"$f":"IF(INTRO!$E$44=\"Endémique\", IF(AND($K69>0,$K69<5), IF($K69=4,\"Inconnu\", IF($K69=1, $F69*0.33, IF($K69=2, $F69*0.5+$G69*0.2, SUM(F69:G69)))), 0),\"Non requis\")","v":4236.3999999999996},0,0,1,0,"T2 (PZQ)",null,null,null,null,23715,"DARA",null,{"$f":"'MDA1'!M69","v":0},{"$f":"'MDA3'!Q69","v":0},{"$f":"'T1'!O69","v":0},{"$f":"'T2'!M69","v":4300},{"$f":"T3_R1!N69","v":0},{"$f":"T3_R2!N69","v":0}]
[{"$f":"IF(INTRO!$E$34<>0,INTRO!$E$34,\"\")","v":"Guinea Bissau"},"Gabu","PIRADA",14276,{"$f":"IF(INTRO!$E$48=\"\",\"\",ROUND($D70*INTRO!$E$48,0))","v":1899},{"$f":"IF(INTRO!$E$49=\"\",\"\",ROUND($D70*INTRO!$E$49,0))","v":3658},{"$f":"IF(INTRO!$E$50=\"\",\"\",ROUND($D70*INTRO!$E$50,0))","v":8087},1,1,1,1,{"$f":"IF(INTRO!$E$38=\"Endémique\", IF($H70>0, IF($H70=4,\"Inconnu\", IF($H70=99,\"Interrompu\", $D70)), 0),\"Non requis\")","v":14276},{"$f":"IF(INTRO!$E$40=\"Endémique\", IF($I70>0, IF($I70=4,\"Inconnu\",IF($I70=99,\"Interrompu\", $D70)), 0),\"Non requis\")","v":14276},{"$f":"IF(INTRO!$E$42=\"Endémique\", IF(AND($J70>1,$J70<5), IF($J70=4, \"Inconnu\", E70+F70), 0),\"Non requis\")","v":0},{"$f":"IF(INTRO!$E$44=\"Endémique\", IF(AND($K70>0,$K70<5), IF($K70=4,\"Inconnu\", IF($K70=1, $F70*0.33, IF($K70=2, $F70*0.5+$G70*0.2, SUM(F70:G70)))), 0),\"Non requis\")","v":1207.1400000000001},0,0,1,0,"T2 (PZQ)",null,null,null,null,23725,"PIRADA",null,{"$f":"'MDA1'!M70","v":0},{"$f":"'MDA3'!Q70","v":0},{"$f":"'T1'!O70","v":0},{"$f":"'T2'!M70","v":3404},{"$f":"T3_R1!N70","v":0},{"$f":"T3_R2!N70","v":0}]
[{"$f":"IF(INTRO!$E$34<>0,INTRO!$E$34,\"\")","v":"Guinea Bissau"},"Gabu","DANDUM",4353,{"$f":"IF(INTRO!$E$48=\"\",\"\",ROUND($D71*INTRO!$E$48,0))","v":579},{"$f":"IF(INTRO!$E$49=\"\",\"\",ROUND($D71*INTRO!$E$49,0))","v":1115},{"$f":"IF(INTRO!$E$50=\"\",\"\",ROUND($D71*INTRO!$E$50,0))","v":2466},1,1,2,2,{"$f":"IF(INTRO!$E$38=\"Endémique\", IF($H71>0, IF($H71=4,\"Inconnu\", IF($H71=99,\"Interrompu\", $D71)), 0),\"Non requis\")","v":4353},{"$f":"IF(INTRO!$E$40=\"Endémique\", IF($I71>0, IF($I71=4,\"Inconnu\",IF($I71=99,\"Interrompu\", $D71)), 0),\"Non requis\")","v":4353},{"$f":"IF(INTRO!$E$42=\"Endémique\", IF(AND($J71>1,$J71<5), IF($J71=4, \"Inconnu\", E71+F71), 0),\"Non requis\")","v":1694},{"$f":"IF(INTRO!$E$44=\"Endémique\", IF(AND($K71>0,$K71<5), IF($K71=4,\"Inconnu\", IF($K71=1, $F71*0.33, IF($K71=2, $F71*0.5+$G71*0.2, SUM(F71:G71)))), 0),\"Non requis\")","v":1050.7},0,0,1,0,"T2 (PZQ)",null,null,null,null,23714,"DANDUM",null,{"$f":"'MDA1'!M71","v":0},{"$f":"'MDA3'!Q71","v":0},{"$f":"'T1'!O71","v":0},{"$f":"'T2'!M71","v":1272},{"$f":"T3_R1!N71","v":0},{"$f":"T3_R2!N71","v":0}]
[{"$f":"IF(INTRO!$E$34<>0,INTRO!$E$34,\"\")","v":"Guinea Bissau"},"Gabu","MANSADJAM",16471,{"$f":"IF(INTRO!$E$48=\"\",\"\",ROUND($D72*INTRO!$E$48,0))","v":2191},{"$f":"IF(INTRO!$E$49=\"\",\"\",ROUND($D72*INTRO!$E$49,0))","v":4220},{"$f":"IF(INTRO!$E$50=\"\",\"\",ROUND($D72*INTRO!$E$50,0))","v":9331},1,1,2,2,{"$f":"IF(INTRO!$E$38=\"Endémique\", IF($H72>0, IF($H72=4,\"Inconnu\", IF($H72=99,\"Interrompu\", $D72)), 0),\"Non requis\")","v":16471},{"$f":"IF(INTRO!$E$40=\"Endémique\", IF($I72>0, IF($I72=4,\"Inconnu\",IF($I72=99,\"Interrompu\", $D72)), 0),\"Non requis\")","v":16471},{"$f":"IF(INTRO!$E$42=\"Endémique\", IF(AND($J72>1,$J72<5), IF($J72=4, \"Inconnu\", E72+F72), 0),\"Non requis\")","v":6411},{"$f":"IF(INTRO!$E$44=\"Endémique\", IF(AND($K72>0,$K72<5), IF($K72=4,\"Inconnu\", IF($K72=1, $F72*0.33, IF($K72=2, $F72*0.5+$G72*0.2, SUM(F72:G72)))), 0),\"Non requis\")","v":3976.2},0,0,1,0,"T2 (PZQ)",null,null,null,null,23724,"MANSADJAM",null,{"$f":"'MDA1'!M72","v":0},{"$f":"'MDA3'!Q72","v":0},{"$f":"'T1'!O72","v":0},{"$f":"'T2'!M72","v":3927},{"$f":"T3_R1!N72","v":0},{"$f":"T3_R2!N72","v":0}]
[{"$f":"IF(INTRO!$E$34<>0,INTRO!$E$34,\"\")","v":"Guinea Bissau"},"Gabu","SONACO",21338,{"$f":"IF(INTRO!$E$48=\"\",\"\",ROUND($D73*INTRO!$E$48,0))","v":2838},{"$f":"IF(INTRO!$E$49=\"\",\"\",ROUND($D73*INTRO!$E$49,0))","v":5467},{"$f":"IF(INTRO!$E$50=\"\",\"\",ROUND($D73*INTRO!$E$50,0))","v":12088},1,1,1,2,{"$f":"IF(INTRO!$E$38=\"Endémique\", IF($H73>0, IF($H73=4,\"Inconnu\", IF($H73=99,\"Interrompu\", $D73)), 0),\"Non requis\")","v":21338},{"$f":"IF(INTRO!$E$40=\"Endémique\", IF($I73>0, IF($I73=4,\"Inconnu\",IF($I73=99,\"Interrompu\", $D73)), 0),\"Non requis\")","v":21338},{"$f":"IF(INTRO!$E$42=\"Endémique\", IF(AND($J73>1,$J73<5), IF($J73=4, \"Inconnu\", E73+F73), 0),\"Non requis\")","v":0},{"$f":"IF(INTRO!$E$44=\"Endémique\", IF(AND($K73>0,$K73<5), IF($K73=4,\"Inconnu\", IF($K73=1, $F73*0.33, IF($K73=2, $F73*0.5+$G73*0.2, SUM(F73:G73)))), 0),\"Non requis\")","v":5151.1000000000004},0,0,1,0,"T2 (PZQ)",null,null,null,null,23727,"SONACO",null,{"$f":"'MDA1'!M73","v":0},{"$f":"'MDA3'!Q73","v":0},{"$f":"'T1'!O73","v":0},{"$f":"'T2'!M73","v":5118},{"$f":"T3_R1!N73","v":0},{"$f":"T3_R2!N73","v":0}]
[{"$f":"IF(INTRO!$E$34<>0,INTRO!$E$34,\"\")","v":"Guinea Bissau"},"Gabu","LUGADJOLE",4775,{"$f":"IF(INTRO!$E$48=\"\",\"\",ROUND($D74*INTRO!$E$48,0))","v":635},{"$f":"IF(INTRO!$E$49=\"\",\"\",ROUND($D74*INTRO!$E$49,0))","v":1223},{"$f":"IF(INTRO!$E$50=\"\",\"\",ROUND($D74*INTRO!$E$50,0))","v":2705},1,1,2,2,{"$f":"IF(INTRO!$E$38=\"Endémique\", IF($H74>0, IF($H74=4,\"Inconnu\", IF($H74=99,\"Interrompu\", $D74)), 0),\"Non requis\")","v":4775},{"$f":"IF(INTRO!$E$40=\"Endémique\", IF($I74>0, IF($I74=4,\"Inconnu\",IF($I74=99,\"Interrompu\", $D74)), 0),\"Non requis\")","v":4775},{"$f":"IF(INTRO!$E$42=\"Endémique\", IF(AND($J74>1,$J74<5), IF($J74=4, \"Inconnu\", E74+F74), 0),\"Non requis\")","v":1858},{"$f":"IF(INTRO!$E$44=\"Endémique\", IF(AND($K74>0,$K74<5), IF($K74=4,\"Inconnu\", IF($K74=1, $F74*0.33, IF($K74=2, $F74*0.5+$G74*0.2, SUM(F74:G74)))), 0),\"Non requis\")","v":1152.5},0,0,1,0,"T2 (PZQ)",null,null,null,null,23722,"LUGADJOL",null,{"$f":"'MDA1'!M74","v":0},{"$f":"'MDA3'!Q74","v":0},{"$f":"'T1'!O74","v":0},{"$f":"'T2'!M74","v":1132},{"$f":"T3_R1!N74","v":0},{"$f":"T3_R2!N74","v":0}]
[{"$f":"IF(INTRO!$E$34<>0,INTRO!$E$34,\"\")","v":"Guinea Bissau"},"Gabu","GABU",47738,{"$f":"IF(INTRO!$E$48=\"\",\"\",ROUND($D75*INTRO!$E$48,0))","v":6349},{"$f":"IF(INTRO!$E$49=\"\",\"\",ROUND($D75*INTRO!$E$49,0))","v":12230},{"$f":"IF(INTRO!$E$50=\"\",\"\",ROUND($D75*INTRO!$E$50,0))","v":27044},1,1,0,2,{"$f":"IF(INTRO!$E$38=\"Endémique\", IF($H75>0, IF($H75=4,\"Inconnu\", IF($H75=99,\"Interrompu\", $D75)), 0),\"Non requis\")","v":47738},{"$f":"IF(INTRO!$E$40=\"Endémique\", IF($I75>0, IF($I75=4,\"Inconnu\",IF($I75=99,\"Interrompu\", $D75)), 0),\"Non requis\")","v":47738},{"$f":"IF(INTRO!$E$42=\"Endémique\", IF(AND($J75>1,$J75<5), IF($J75=4, \"Inconnu\", E75+F75), 0),\"Non requis\")","v":0},{"$f":"IF(INTRO!$E$44=\"Endémique\", IF(AND($K75>0,$K75<5), IF($K75=4,\"Inconnu\", IF($K75=1, $F75*0.33, IF($K75=2, $F75*0.5+$G75*0.2, SUM(F75:G75)))), 0),\"Non requis\")","v":11523.8},0,0,1,0,"T2 (PZQ)",null,null,null,null,23721,"GABU",null,{"$f":"'MDA1'!M75","v":0},{"$f":"'MDA3'!Q75","v":0},{"$f":"'T1'!O75","v":0},{"$f":"'T2'!M75","v":11545},{"$f":"T3_R1!N75","v":0},{"$f":"T3_R2!N75","v":0}]
[{"$f":"IF(INTRO!$E$34<>0,INTRO!$E$34,\"\")","v":"Guinea Bissau"},"Gabu","CANDJUFA",23094,{"$f":"IF(INTRO!$E$48=\"\",\"\",ROUND($D76*INTRO!$E$48,0))","v":3072},{"$f":"IF(INTRO!$E$49=\"\",\"\",ROUND($D76*INTRO!$E$49,0))","v":5917},{"$f":"IF(INTRO!$E$50=\"\",\"\",ROUND($D76*INTRO!$E$50,0))","v":13083},1,1,2,2,{"$f":"IF(INTRO!$E$38=\"Endémique\", IF($H76>0, IF($H76=4,\"Inconnu\", IF($H76=99,\"Interrompu\", $D76)), 0),\"Non requis\")","v":23094},{"$f":"IF(INTRO!$E$40=\"Endémique\", IF($I76>0, IF($I76=4,\"Inconnu\",IF($I76=99,\"Interrompu\", $D76)), 0),\"Non requis\")","v":23094},{"$f":"IF(INTRO!$E$42=\"Endémique\", IF(AND($J76>1,$J76<5), IF($J76=4, \"Inconnu\", E76+F76), 0),\"Non requis\")","v":8989},{"$f":"IF(INTRO!$E$44=\"Endémique\", IF(AND($K76>0,$K76<5), IF($K76=4,\"Inconnu\", IF($K76=1, $F76*0.33, IF($K76=2, $F76*0.5+$G76*0.2, SUM(F76:G76)))), 0),\"Non requis\")","v":5575.1},0,0,1,0,"T2 (PZQ)",null,null,null,null,23720,"CANJUFA",null,{"$f":"'MDA1'!M76","v":0},{"$f":"'MDA3'!Q76","v":0},{"$f":"'T1'!O76","v":0},{"$f":"'T2'!M76","v":5529},{"$f":"T3_R1!N76","v":0},{"$f":"T3_R2!N76","v":0}]
[{"$f":"IF(INTRO!$E$34<>0,INTRO!$E$34,\"\")","v":"Guinea Bissau"},"Gabu","MAFANCO",18226,{"$f":"IF(INTRO!$E$48=\"\",\"\",ROUND($D77*INTRO!$E$48,0))","v":2424},{"$f":"IF(INTRO!$E$49=\"\",\"\",ROUND($D77*INTRO!$E$49,0))","v":4670},{"$f":"IF(INTRO!$E$50=\"\",\"\",ROUND($D77*INTRO!$E$50,0))","v":10325},1,1,2,2,{"$f":"IF(INTRO!$E$38=\"Endémique\", IF($H77>0, IF($H77=4,\"Inconnu\", IF($H77=99,\"Interrompu\", $D77)), 0),\"Non requis\")","v":18226},{"$f":"IF(INTRO!$E$40=\"Endémique\", IF($I77>0, IF($I77=4,\"Inconnu\",IF($I77=99,\"Interrompu\", $D77)), 0),\"Non requis\")","v":18226},{"$f":"IF(INTRO!$E$42=\"Endémique\", IF(AND($J77>1,$J77<5), IF($J77=4, \"Inconnu\", E77+F77), 0),\"Non requis\")","v":7094},{"$f":"IF(INTRO!$E$44=\"Endémique\", IF(AND($K77>0,$K77<5), IF($K77=4,\"Inconnu\", IF($K77=1, $F77*0.33, IF($K77=2, $F77*0.5+$G77*0.2, SUM(F77:G77)))), 0),\"Non requis\")","v":4400},0,0,1,0,"T2 (PZQ)",null,null,null,null,23723,"MAFANCO",null,{"$f":"'MDA1'!M77","v":0},{"$f":"'MDA3'!Q77","v":0},{"$f":"'T1'!O77","v":0},{"$f":"'T2'!M77","v":4342},{"$f":"T3_R1!N77","v":0},{"$f":"T3_R2!N77","v":0}]
[{"$f":"IF(INTRO!$E$34<>0,INTRO!$E$34,\"\")","v":"Guinea Bissau"},"Gabu","TUMANA",17759,{"$f":"IF(INTRO!$E$48=\"\",\"\",ROUND($D78*INTRO!$E$48,0))","v":2362},{"$f":"IF(INTRO!$E$49=\"\",\"\",ROUND($D78*INTRO!$E$49,0))","v":4550},{"$f":"IF(INTRO!$E$50=\"\",\"\",ROUND($D78*INTRO!$E$50,0))","v":10060},1,1,2,2,{"$f":"IF(INTRO!$E$38=\"Endémique\", IF($H78>0, IF($H78=4,\"Inconnu\", IF($H78=99,\"Interrompu\", $D78)), 0),\"Non requis\")","v":17759},{"$f":"IF(INTRO!$E$40=\"Endémique\", IF($I78>0, IF($I78=4,\"Inconnu\",IF($I78=99,\"Interrompu\", $D78)), 0),\"Non requis\")","v":17759},{"$f":"IF(INTRO!$E$42=\"Endémique\", IF(AND($J78>1,$J78<5), IF($J78=4, \"Inconnu\", E78+F78), 0),\"Non requis\")","v":6912},{"$f":"IF(INTRO!$E$44=\"Endémique\", IF(AND($K78>0,$K78<5), IF($K78=4,\"Inconnu\", IF($K78=1, $F78*0.33, IF($K78=2, $F78*0.5+$G78*0.2, SUM(F78:G78)))), 0),\"Non requis\")","v":4287},0,0,1,0,"T2 (PZQ)",null,null,null,null,23728,"TUMANA",null,{"$f":"'MDA1'!M78","v":0},{"$f":"'MDA3'!Q78","v":0},{"$f":"'T1'!O78","v":0},{"$f":"'T2'!M78","v":4314},{"$f":"T3_R1!N78","v":0},{"$f":"T3_R2!N78","v":0}]
[{"$f":"IF(INTRO!$E$34<>0,INTRO!$E$34,\"\")","v":"Guinea Bissau"},"Bafata","Xitole",20191,{"$f":"IF(INTRO!$E$48=\"\",\"\",ROUND($D79*INTRO!$E$48,0))","v":2685},{"$f":"IF(INTRO!$E$49=\"\",\"\",ROUND($D79*INTRO!$E$49,0))","v":5173},{"$f":"IF(INTRO!$E$50=\"\",\"\",ROUND($D79*INTRO!$E$50,0))","v":11438},1,1,1,1,{"$f":"IF(INTRO!$E$38=\"Endémique\", IF($H79>0, IF($H79=4,\"Inconnu\", IF($H79=99,\"Interrompu\", $D79)), 0),\"Non requis\")","v":20191},{"$f":"IF(INTRO!$E$40=\"Endémique\", IF($I79>0, IF($I79=4,\"Inconnu\",IF($I79=99,\"Interrompu\", $D79)), 0),\"Non requis\")","v":20191},{"$f":"IF(INTRO!$E$42=\"Endémique\", IF(AND($J79>1,$J79<5), IF($J79=4, \"Inconnu\", E79+F79), 0),\"Non requis\")","v":0},{"$f":"IF(INTRO!$E$44=\"Endémique\", IF(AND($K79>0,$K79<5), IF($K79=4,\"Inconnu\", IF($K79=1, $F79*0.33, IF($K79=2, $F79*0.5+$G79*0.2, SUM(F79:G79)))), 0),\"Non requis\")","v":1707.0900000000001},0,0,0,0,null,null,null,null,null,23669,"XITOLE",null,{"$f":"'MDA1'!M79","v":0},{"$f":"'MDA3'!Q79","v":0},{"$f":"'T1'!O79","v":0},{"$f":"'T2'!M79","v":0},{"$f":"T3_R1!N79","v":0},{"$f":"T3_R2!N79","v":0}]
[{"$f":"IF(INTRO!$E$34<>0,INTRO!$E$34,\"\")","v":"Guinea Bissau"},"Bafata","Contubuel",30661,{"$f":"IF(INTRO!$E$48=\"\",\"\",ROUND($D80*INTRO!$E$48,0))","v":4078},{"$f":"IF(INTRO!$E$49=\"\",\"\",ROUND($D80*INTRO!$E$49,0))","v":7855},{"$f":"IF(INTRO!$E$50=\"\",\"\",ROUND($D80*INTRO!$E$50,0))","v":17369},1,1,1,2,{"$f":"IF(INTRO!$E$38=\"Endémique\", IF($H80>0, IF($H80=4,\"Inconnu\", IF($H80=99,\"Interrompu\", $D80)), 0),\"Non requis\")","v":30661},{"$f":"IF(INTRO!$E$40=\"Endémique\", IF($I80>0, IF($I80=4,\"Inconnu\",IF($I80=99,\"Interrompu\", $D80)), 0),\"Non requis\")","v":30661},{"$f":"IF(INTRO!$E$42=\"Endémique\", IF(AND($J80>1,$J80<5), IF($J80=4, \"Inconnu\", E80+F80), 0),\"Non requis\")","v":0},{"$f":"IF(INTRO!$E$44=\"Endémique\", IF(AND($K80>0,$K80<5), IF($K80=4,\"Inconnu\", IF($K80=1, $F80*0.33, IF($K80=2, $F80*0.5+$G80*0.2, SUM(F80:G80)))), 0),\"Non requis\")","v":7401.3},0,0,0,0,null,null,null,null,null,23659,"CONTUBOEL",null,{"$f":"'MDA1'!M80","v":0},{"$f":"'MDA3'!Q80","v":0},{"$f":"'T1'!O80","v":0},{"$f":"'T2'!M80","v":0},{"$f":"T3_R1!N80","v":0},{"$f":"T3_R2!N80","v":0}]
[{"$f":"IF(INTRO!$E$34<>0,INTRO!$E$34,\"\")","v":"Guinea Bissau"},"Bafata","Tendinto",8405,{"$f":"IF(INTRO!$E$48=\"\",\"\",ROUND($D81*INTRO!$E$48,0))","v":1118},{"$f":"IF(INTRO!$E$49=\"\",\"\",ROUND($D81*INTRO!$E$49,0))","v":2153},{"$f":"IF(INTRO!$E$50=\"\",\"\",ROUND($D81*INTRO!$E$50,0))","v":4761},1,1,1,2,{"$f":"IF(INTRO!$E$38=\"Endémique\", IF($H81>0, IF($H81=4,\"Inconnu\", IF($H81=99,\"Interrompu\", $D81)), 0),\"Non requis\")","v":8405},{"$f":"IF(INTRO!$E$40=\"Endémique\", IF($I81>0, IF($I81=4,\"Inconnu\",IF($I81=99,\"Interrompu\", $D81)), 0),\"Non requis\")","v":8405},{"$f":"IF(INTRO!$E$42=\"Endémique\", IF(AND($J81>1,$J81<5), IF($J81=4, \"Inconnu\", E81+F81), 0),\"Non requis\")","v":0},{"$f":"IF(INTRO!$E$44=\"Endémique\", IF(AND($K81>0,$K81<5), IF($K81=4,\"Inconnu\", IF($K81=1, $F81*0.33, IF($K81=2, $F81*0.5+$G81*0.2, SUM(F81:G81)))), 0),\"Non requis\")","v":2028.7},0,0,0,0,null,null,null,null,null,23668,"TENDINTO",null,{"$f":"'MDA1'!M81","v":0},{"$f":"'MDA3'!Q81","v":0},{"$f":"'T1'!O81","v":0},{"$f":"'T2'!M81","v":0},{"$f":"T3_R1!N81","v":0},{"$f":"T3_R2!N81","v":0}]
[{"$f":"IF(INTRO!$E$34<>0,INTRO!$E$34,\"\")","v":"Guinea Bissau"},"Bafata","Geba",14925,{"$f":"IF(INTRO!$E$48=\"\",\"\",ROUND($D82*INTRO!$E$48,0))","v":1985},{"$f":"IF(INTRO!$E$49=\"\",\"\",ROUND($D82*INTRO!$E$49,0))","v":3824},{"$f":"IF(INTRO!$E$50=\"\",\"\",ROUND($D82*INTRO!$E$50,0))","v":8455},1,1,0,1,{"$f":"IF(INTRO!$E$38=\"Endémique\", IF($H82>0, IF($H82=4,\"Inconnu\", IF($H82=99,\"Interrompu\", $D82)), 0),\"Non requis\")","v":14925},{"$f":"IF(INTRO!$E$40=\"Endémique\", IF($I82>0, IF($I82=4,\"Inconnu\",IF($I82=99,\"Interrompu\", $D82)), 0),\"Non requis\")","v":14925},{"$f":"IF(INTRO!$E$42=\"Endémique\", IF(AND($J82>1,$J82<5), IF($J82=4, \"Inconnu\", E82+F82), 0),\"Non requis\")","v":0},{"$f":"IF(INTRO!$E$44=\"Endémique\", IF(AND($K82>0,$K82<5), IF($K82=4,\"Inconnu\", IF($K82=1, $F82*0.33, IF($K82=2, $F82*0.5+$G82*0.2, SUM(F82:G82)))), 0),\"Non requis\")","v":1261.92},0,0,0,0,null,null,null,null,null,23663,"GEBA",null,{"$f":"'MDA1'!M82","v":0},{"$f":"'MDA3'!Q82","v":0},{"$f":"'T1'!O82","v":0},{"$f":"'T2'!M82","v":0},{"$f":"T3_R1!N82","v":0},{"$f":"T3_R2!N82","v":0}]
[{"$f":"IF(INTRO!$E$34<>0,INTRO!$E$34,\"\")","v":"Guinea Bissau"},"Bafata","Tantancosse",17403,{"$f":"IF(INTRO!$E$48=\"\",\"\",ROUND($D83*INTRO!$E$48,0))","v":2315},{"$f":"IF(INTRO!$E$49=\"\",\"\",ROUND($D83*INTRO!$E$49,0))","v":4459},{"$f":"IF(INTRO!$E$50=\"\",\"\",ROUND($D83*INTRO!$E$50,0))","v":9859},1,1,1,1,{"$f":"IF(INTRO!$E$38=\"Endémique\", IF($H83>0, IF($H83=4,\"Inconnu\", IF($H83=99,\"Interrompu\", $D83)), 0),\"Non requis\")","v":17403},{"$f":"IF(INTRO!$E$40=\"Endémique\", IF($I83>0, IF($I83=4,\"Inconnu\",IF($I83=99,\"Interrompu\", $D83)), 0),\"Non requis\")","v":17403},{"$f":"IF(INTRO!$E$42=\"Endémique\", IF(AND($J83>1,$J83<5), IF($J83=4, \"Inconnu\", E83+F83), 0),\"Non requis\")","v":0},{"$f":"IF(INTRO!$E$44=\"Endémique\", IF(AND($K83>0,$K83<5), IF($K83=4,\"Inconnu\", IF($K83=1, $F83*0.33, IF($K83=2, $F83*0.5+$G83*0.2, SUM(F83:G83)))), 0),\"Non requis\")","v":1471.47},0,0,0,0,null,null,null,null,null,23667,"TANTAM COSSÉ",null,{"$f":"'MDA1'!M83","v":0},{"$f":"'MDA3'!Q83","v":0},{"$f":"'T1'!O83","v":0},{"$f":"'T2'!M83","v":0},{"$f":"T3_R1!N83","v":0},{"$f":"T3_R2!N83","v":0}]
[{"$f":"IF(INTRO!$E$34<>0,INTRO!$E$34,\"\")","v":"Guinea Bissau"},"Bafata","Ga-mamudo",21832,{"$f":"IF(INTRO!$E$48=\"\",\"\",ROUND($D84*INTRO!$E$48,0))","v":2904},{"$f":"IF(INTRO!$E$49=\"\",\"\",ROUND($D84*INTRO!$E$49,0))","v":5593},{"$f":"IF(INTRO!$E$50=\"\",\"\",ROUND($D84*INTRO!$E$50,0))","v":12368},1,1,1,2,{"$f":"IF(INTRO!$E$38=\"Endémique\", IF($H84>0, IF($H84=4,\"Inconnu\", IF($H84=99,\"Interrompu\", $D84)), 0),\"Non requis\")","v":21832},{"$f":"IF(INTRO!$E$40=\"Endémique\", IF($I84>0, IF($I84=4,\"Inconnu\",IF($I84=99,\"Interrompu\", $D84)), 0),\"Non requis\")","v":21832},{"$f":"IF(INTRO!$E$42=\"Endémique\", IF(AND($J84>1,$J84<5), IF($J84=4, \"Inconnu\", E84+F84), 0),\"Non requis\")","v":0},{"$f":"IF(INTRO!$E$44=\"Endémique\", IF(AND($K84>0,$K84<5), IF($K84=4,\"Inconnu\", IF($K84=1, $F84*0.33, IF($K84=2, $F84*0.5+$G84*0.2, SUM(F84:G84)))), 0),\"Non requis\")","v":5270.1},0,0,0,0,null,null,null,null,null,23662,"GÃ-GAMAMUDO",null,{"$f":"'MDA1'!M84","v":0},{"$f":"'MDA3'!Q84","v":0},{"$f":"'T1'!O84","v":0},{"$f":"'T2'!M84","v":0},{"$f":"T3_R1!N84","v":0},{"$f":"T3_R2!N84","v":0}]
[{"$f":"IF(INTRO!$E$34<>0,INTRO!$E$34,\"\")","v":"Guinea Bissau"},"Bafata","Bambadinca",32066,{"$f":"IF(INTRO!$E$48=\"\",\"\",ROUND($D85*INTRO!$E$48,0))","v":4265},{"$f":"IF(INTRO!$E$49=\"\",\"\",ROUND($D85*INTRO!$E$49,0))","v":8215},{"$f":"IF(INTRO!$E$50=\"\",\"\",ROUND($D85*INTRO!$E$50,0))","v":18165},1,1,1,1,{"$f":"IF(INTRO!$E$38=\"Endémique\", IF($H85>0, IF($H85=4,\"Inconnu\", IF($H85=99,\"Interrompu\", $D85)), 0),\"Non requis\")","v":32066},{"$f":"IF(INTRO!$E$40=\"Endémique\", IF($I85>0, IF($I85=4,\"Inconnu\",IF($I85=99,\"Interrompu\", $D85)), 0),\"Non requis\")","v":32066},{"$f":"IF(INTRO!$E$42=\"Endémique\", IF(AND($J85>1,$J85<5), IF($J85=4, \"Inconnu\", E85+F85), 0),\"Non requis\")","v":0},{"$f":"IF(INTRO!$E$44=\"Endémique\", IF(AND($K85>0,$K85<5), IF($K85=4,\"Inconnu\", IF($K85=1, $F85*0.33, IF($K85=2, $F85*0.5+$G85*0.2, SUM(F85:G85)))), 0),\"Non requis\")","v":2710.9500000000003},0,0,0,0,null,null,null,null,null,23657,"BAMBADINCA",null,{"$f":"'MDA1'!M85","v":0},{"$f":"'MDA3'!Q85","v":0},{"$f":"'T1'!O85","v":0},{"$f":"'T2'!M85","v":0},{"$f":"T3_R1!N85","v":0},{"$f":"T3_R2!N85","v":0}]
[{"$f":"IF(INTRO!$E$34<>0,INTRO!$E$34,\"\")","v":"Guinea Bissau"},"Bafata","Ga carnes",4604,{"$f":"IF(INTRO!$E$48=\"\",\"\",ROUND($D86*INTRO!$E$48,0))","v":612},{"$f":"IF(INTRO!$E$49=\"\",\"\",ROUND($D86*INTRO!$E$49,0))","v":1180},{"$f":"IF(INTRO!$E$50=\"\",\"\",ROUND($D86*INTRO!$E$50,0))","v":2608},1,1,1,1,{"$f":"IF(INTRO!$E$38=\"Endémique\", IF($H86>0, IF($H86=4,\"Inconnu\", IF($H86=99,\"Interrompu\", $D86)), 0),\"Non requis\")","v":4604},{"$f":"IF(INTRO!$E$40=\"Endémique\", IF($I86>0, IF($I86=4,\"Inconnu\",IF($I86=99,\"Interrompu\", $D86)), 0),\"Non requis\")","v":4604},{"$f":"IF(INTRO!$E$42=\"Endémique\", IF(AND($J86>1,$J86<5), IF($J86=4, \"Inconnu\", E86+F86), 0),\"Non requis\")","v":0},{"$f":"IF(INTRO!$E$44=\"Endémique\", IF(AND($K86>0,$K86<5), IF($K86=4,\"Inconnu\", IF($K86=1, $F86*0.33, IF($K86=2, $F86*0.5+$G86*0.2, SUM(F86:G86)))), 0),\"Non requis\")","v":389.40000000000003},0,0,0,0,null,null,null,null,null,23664,"GÃ-CARNÊS",null,{"$f":"'MDA1'!M86","v":0},{"$f":"'MDA3'!Q86","v":0},{"$f":"'T1'!O86","v":0},{"$f":"'T2'!M86","v":0},{"$f":"T3_R1!N86","v":0},{"$f":"T3_R2!N86","v":0}]
[{"$f":"IF(INTRO!$E$34<>0,INTRO!$E$34,\"\")","v":"Guinea Bissau"},"Bafata","Cambaju",8507,{"$f":"IF(INTRO!$E$48=\"\",\"\",ROUND($D87*INTRO!$E$48,0))","v":1131},{"$f":"IF(INTRO!$E$49=\"\",\"\",ROUND($D87*INTRO!$E$49,0))","v":2179},{"$f":"IF(INTRO!$E$50=\"\",\"\",ROUND($D87*INTRO!$E$50,0))","v":4819},1,1,1,1,{"$f":"IF(INTRO!$E$38=\"Endémique\", IF($H87>0, IF($H87=4,\"Inconnu\", IF($H87=99,\"Interrompu\", $D87)), 0),\"Non requis\")","v":8507},{"$f":"IF(INTRO!$E$40=\"Endémique\", IF($I87>0, IF($I87=4,\"Inconnu\",IF($I87=99,\"Interrompu\", $D87)), 0),\"Non requis\")","v":8507},{"$f":"IF(INTRO!$E$42=\"Endémique\", IF(AND($J87>1,$J87<5), IF($J87=4, \"Inconnu\", E87+F87), 0),\"Non requis\")","v":0},{"$f":"IF(INTRO!$E$44=\"Endémique\", IF(AND($K87>0,$K87<5), IF($K87=4,\"Inconnu\", IF($K87=1, $F87*0.33, IF($K87=2, $F87*0.5+$G87*0.2, SUM(F87:G87)))), 0),\"Non requis\")","v":719.07},0,0,0,0,null,null,null,null,null,23658,"CAMBADJU",null,{"$f":"'MDA1'!M87","v":0},{"$f":"'MDA3'!Q87","v":0},{"$f":"'T1'!O87","v":0},{"$f":"'T2'!M87","v":0},{"$f":"T3_R1!N87","v":0},{"$f":"T3_R2!N87","v":0}]
[{"$f":"IF(INTRO!$E$34<>0,INTRO!$E$34,\"\")","v":"Guinea Bissau"},"Bafata","Gam ture",9131,{"$f":"IF(INTRO!$E$48=\"\",\"\",ROUND($D88*INTRO!$E$48,0))","v":1214},{"$f":"IF(INTRO!$E$49=\"\",\"\",ROUND($D88*INTRO!$E$49,0))","v":2339},{"$f":"IF(INTRO!$E$50=\"\",\"\",ROUND($D88*INTRO!$E$50,0))","v":5173},1,1,1,1,{"$f":"IF(INTRO!$E$38=\"Endémique\", IF($H88>0, IF($H88=4,\"Inconnu\", IF($H88=99,\"Interrompu\", $D88)), 0),\"Non requis\")","v":9131},{"$f":"IF(INTRO!$E$40=\"Endémique\", IF($I88>0, IF($I88=4,\"Inconnu\",IF($I88=99,\"Interrompu\", $D88)), 0),\"Non requis\")","v":9131},{"$f":"IF(INTRO!$E$42=\"Endémique\", IF(AND($J88>1,$J88<5), IF($J88=4, \"Inconnu\", E88+F88), 0),\"Non requis\")","v":0},{"$f":"IF(INTRO!$E$44=\"Endémique\", IF(AND($K88>0,$K88<5), IF($K88=4,\"Inconnu\", IF($K88=1, $F88*0.33, IF($K88=2, $F88*0.5+$G88*0.2, SUM(F88:G88)))), 0),\"Non requis\")","v":771.87},0,0,0,0,null,null,null,null,null,23665,"GÃ-TURÉ",null,{"$f":"'MDA1'!M88","v":0},{"$f":"'MDA3'!Q88","v":0},{"$f":"'T1'!O88","v":0},{"$f":"'T2'!M88","v":0},{"$f":"T3_R1!N88","v":0},{"$f":"T3_R2!N88","v":0}]
[{"$f":"IF(INTRO!$E$34<>0,INTRO!$E$34,\"\")","v":"Guinea Bissau"},"Bafata","Sare bacar",8861,{"$f":"IF(INTRO!$E$48=\"\",\"\",ROUND($D89*INTRO!$E$48,0))","v":1179},{"$f":"IF(INTRO!$E$49=\"\",\"\",ROUND($D89*INTRO!$E$49,0))","v":2270},{"$f":"IF(INTRO!$E$50=\"\",\"\",ROUND($D89*INTRO!$E$50,0))","v":5020},1,1,1,2,{"$f":"IF(INTRO!$E$38=\"Endémique\", IF($H89>0, IF($H89=4,\"Inconnu\", IF($H89=99,\"Interrompu\", $D89)), 0),\"Non requis\")","v":8861},{"$f":"IF(INTRO!$E$40=\"Endémique\", IF($I89>0, IF($I89=4,\"Inconnu\",IF($I89=99,\"Interrompu\", $D89)), 0),\"Non requis\")","v":8861},{"$f":"IF(INTRO!$E$42=\"Endémique\", IF(AND($J89>1,$J89<5), IF($J89=4, \"Inconnu\", E89+F89), 0),\"Non requis\")","v":0},{"$f":"IF(INTRO!$E$44=\"Endémique\", IF(AND($K89>0,$K89<5), IF($K89=4,\"Inconnu\", IF($K89=1, $F89*0.33, IF($K89=2, $F89*0.5+$G89*0.2, SUM(F89:G89)))), 0),\"Non requis\")","v":2139},0,0,0,0,null,null,null,null,null,23666,"SARE-BACAR",null,{"$f":"'MDA1'!M89","v":0},{"$f":"'MDA3'!Q89","v":0},{"$f":"'T1'!O89","v":0},{"$f":"'T2'!M89","v":0},{"$f":"T3_R1!N89","v":0},{"$f":"T3_R2!N89","v":0}]
[{"$f":"IF(INTRO!$E$34<>0,INTRO!$E$34,\"\")","v":"Guinea Bissau"},"Bafata","Fajonquito",15014,{"$f":"IF(INTRO!$E$48=\"\",\"\",ROUND($D90*INTRO!$E$48,0))","v":1997},{"$f":"IF(INTRO!$E$49=\"\",\"\",ROUND($D90*INTRO!$E$49,0))","v":3847},{"$f":"IF(INTRO!$E$50=\"\",\"\",ROUND($D90*INTRO!$E$50,0))","v":8505},1,1,1,2,{"$f":"IF(INTRO!$E$38=\"Endémique\", IF($H90>0, IF($H90=4,\"Inconnu\", IF($H90=99,\"Interrompu\", $D90)), 0),\"Non requis\")","v":15014},{"$f":"IF(INTRO!$E$40=\"Endémique\", IF($I90>0, IF($I90=4,\"Inconnu\",IF($I90=99,\"Interrompu\", $D90)), 0),\"Non requis\")","v":15014},{"$f":"IF(INTRO!$E$42=\"Endémique\", IF(AND($J90>1,$J90<5), IF($J90=4, \"Inconnu\", E90+F90), 0),\"Non requis\")","v":0},{"$f":"IF(INTRO!$E$44=\"Endémique\", IF(AND($K90>0,$K90<5), IF($K90=4,\"Inconnu\", IF($K90=1, $F90*0.33, IF($K90=2, $F90*0.5+$G90*0.2, SUM(F90:G90)))), 0),\"Non requis\")","v":3624.5},0,0,0,0,null,null,null,null,null,23661,"FAJONQUITO",null,{"$f":"'MDA1'!M90","v":0},{"$f":"'MDA3'!Q90","v":0},{"$f":"'T1'!O90","v":0},{"$f":"'T2'!M90","v":0},{"$f":"T3_R1!N90","v":0},{"$f":"T3_R2!N90","v":0}]
[{"$f":"IF(INTRO!$E$34<>0,INTRO!$E$34,\"\")","v":"Guinea Bissau"},"Bafata","Cosse",24255,{"$f":"IF(INTRO!$E$48=\"\",\"\",ROUND($D91*INTRO!$E$48,0))","v":3226},{"$f":"IF(INTRO!$E$49=\"\",\"\",ROUND($D91*INTRO!$E$49,0))","v":6214},{"$f":"IF(INTRO!$E$50=\"\",\"\",ROUND($D91*INTRO!$E$50,0))","v":13740},1,1,1,1,{"$f":"IF(INTRO!$E$38=\"Endémique\", IF($H91>0, IF($H91=4,\"Inconnu\", IF($H91=99,\"Interrompu\", $D91)), 0),\"Non requis\")","v":24255},{"$f":"IF(INTRO!$E$40=\"Endémique\", IF($I91>0, IF($I91=4,\"Inconnu\",IF($I91=99,\"Interrompu\", $D91)), 0),\"Non requis\")","v":24255},{"$f":"IF(INTRO!$E$42=\"Endémique\", IF(AND($J91>1,$J91<5), IF($J91=4, \"Inconnu\", E91+F91), 0),\"Non requis\")","v":0},{"$f":"IF(INTRO!$E$44=\"Endémique\", IF(AND($K91>0,$K91<5), IF($K91=4,\"Inconnu\", IF($K91=1, $F91*0.33, IF($K91=2, $F91*0.5+$G91*0.2, SUM(F91:G91)))), 0),\"Non requis\")","v":2050.62},0,0,0,0,null,null,null,null,null,23660,"COSSÉ",null,{"$f":"'MDA1'!M91","v":0},{"$f":"'MDA3'!Q91","v":0},{"$f":"'T1'!O91","v":0},{"$f":"'T2'!M91","v":0},{"$f":"T3_R1!N91","v":0},{"$f":"T3_R2!N91","v":0}]
[{"$f":"IF(INTRO!$E$34<>0,INTRO!$E$34,\"\")","v":"Guinea Bissau"},"Bafata","Bafata",76571,{"$f":"IF(INTRO!$E$48=\"\",\"\",ROUND($D92*INTRO!$E$48,0))","v":10184},{"$f":"IF(INTRO!$E$49=\"\",\"\",ROUND($D92*INTRO!$E$49,0))","v":19617},{"$f":"IF(INTRO!$E$50=\"\",\"\",ROUND($D92*INTRO!$E$50,0))","v":43377},1,1,1,2,{"$f":"IF(INTRO!$E$38=\"Endémique\", IF($H92>0, IF($H92=4,\"Inconnu\", IF($H92=99,\"Interrompu\", $D92)), 0),\"Non requis\")","v":76571},{"$f":"IF(INTRO!$E$40=\"Endémique\", IF($I92>0, IF($I92=4,\"Inconnu\",IF($I92=99,\"Interrompu\", $D92)), 0),\"Non requis\")","v":76571},{"$f":"IF(INTRO!$E$42=\"Endémique\", IF(AND($J92>1,$J92<5), IF($J92=4, \"Inconnu\", E92+F92), 0),\"Non requis\")","v":0},{"$f":"IF(INTRO!$E$44=\"Endémique\", IF(AND($K92>0,$K92<5), IF($K92=4,\"Inconnu\", IF($K92=1, $F92*0.33, IF($K92=2, $F92*0.5+$G92*0.2, SUM(F92:G92)))), 0),\"Non requis\")","v":18483.900000000001},0,0,0,0,null,null,null,null,null,23656,"BAFATA",null,{"$f":"'MDA1'!M92","v":0},{"$f":"'MDA3'!Q92","v":0},{"$f":"'T1'!O92","v":0},{"$f":"'T2'!M92","v":0},{"$f":"T3_R1!N92","v":0},{"$f":"T3_R2!N92","v":0}]
[{"$f":"IF(INTRO!$E$34<>0,INTRO!$E$34,\"\")","v":"Guinea Bissau"},"Tombali","BEDANDA",18605,{"$f":"IF(INTRO!$E$48=\"\",\"\",ROUND($D93*INTRO!$E$48,0))","v":2474},{"$f":"IF(INTRO!$E$49=\"\",\"\",ROUND($D93*INTRO!$E$49,0))","v":4767},{"$f":"IF(INTRO!$E$50=\"\",\"\",ROUND($D93*INTRO!$E$50,0))","v":10540},0,4,2,0,{"$f":"IF(INTRO!$E$38=\"Endémique\", IF($H93>0, IF($H93=4,\"Inconnu\", IF($H93=99,\"Interrompu\", $D93)), 0),\"Non requis\")","v":0},{"$f":"IF(INTRO!$E$40=\"Endémique\", IF($I93>0, IF($I93=4,\"Inconnu\",IF($I93=99,\"Interrompu\", $D93)), 0),\"Non requis\")","v":"Inconnu"},{"$f":"IF(INTRO!$E$42=\"Endémique\", IF(AND($J93>1,$J93<5), IF($J93=4, \"Inconnu\", E93+F93), 0),\"Non requis\")","v":7241},{"$f":"IF(INTRO!$E$44=\"Endémique\", IF(AND($K93>0,$K93<5), IF($K93=4,\"Inconnu\", IF($K93=1, $F93*0.33, IF($K93=2, $F93*0.5+$G93*0.2, SUM(F93:G93)))), 0),\"Non requis\")","v":0},0,0,1,0,"T3 (ALB/MBD)",null,null,null,null,23754,"BEDANDA",null,{"$f":"'MDA1'!M93","v":0},{"$f":"'MDA3'!Q93","v":0},{"$f":"'T1'!O93","v":0},{"$f":"'T2'!M93","v":0},{"$f":"T3_R1!N93","v":3871},{"$f":"T3_R2!N93","v":0}]
[{"$f":"IF(INTRO!$E$34<>0,INTRO!$E$34,\"\")","v":"Guinea Bissau"},"Tombali","CACINE",13562,{"$f":"IF(INTRO!$E$48=\"\",\"\",ROUND($D94*INTRO!$E$48,0))","v":1804},{"$f":"IF(INTRO!$E$49=\"\",\"\",ROUND($D94*INTRO!$E$49,0))","v":3475},{"$f":"IF(INTRO!$E$50=\"\",\"\",ROUND($D94*INTRO!$E$50,0))","v":7683},0,4,1,0,{"$f":"IF(INTRO!$E$38=\"Endémique\", IF($H94>0, IF($H94=4,\"Inconnu\", IF($H94=99,\"Interrompu\", $D94)), 0),\"Non requis\")","v":0},{"$f":"IF(INTRO!$E$40=\"Endémique\", IF($I94>0, IF($I94=4,\"Inconnu\",IF($I94=99,\"Interrompu\", $D94)), 0),\"Non requis\")","v":"Inconnu"},{"$f":"IF(INTRO!$E$42=\"Endémique\", IF(AND($J94>1,$J94<5), IF($J94=4, \"Inconnu\", E94+F94), 0),\"Non requis\")","v":0},{"$f":"IF(INTRO!$E$44=\"Endémique\", IF(AND($K94>0,$K94<5), IF($K94=4,\"Inconnu\", IF($K94=1, $F94*0.33, IF($K94=2, $F94*0.5+$G94*0.2, SUM(F94:G94)))), 0),\"Non requis\")","v":0},0,0,1,0,"T3 (ALB/MBD)",null,null,null,null,23755,"CACINE",null,{"$f":"'MDA1'!M94","v":0},{"$f":"'MDA3'!Q94","v":0},{"$f":"'T1'!O94","v":0},{"$f":"'T2'!M94","v":0},{"$f":"T3_R1!N94","v":2661},{"$f":"T3_R2!N94","v":0}]
[{"$f":"IF(INTRO!$E$34<>0,INTRO!$E$34,\"\")","v":"Guinea Bissau"},"Tombali","CALAQUE",17550,{"$f":"IF(INTRO!$E$48=\"\",\"\",ROUND($D95*INTRO!$E$48,0))","v":2334},{"$f":"IF(INTRO!$E$49=\"\",\"\",ROUND($D95*INTRO!$E$49,0))","v":4496},{"$f":"IF(INTRO!$E$50=\"\",\"\",ROUND($D95*INTRO!$E$50,0))","v":9942},0,4,3,1,{"$f":"IF(INTRO!$E$38=\"Endémique\", IF($H95>0, IF($H95=4,\"Inconnu\", IF($H95=99,\"Interrompu\", $D95)), 0),\"Non requis\")","v":0},{"$f":"IF(INTRO!$E$40=\"Endémique\", IF($I95>0, IF($I95=4,\"Inconnu\",IF($I95=99,\"Interrompu\", $D95)), 0),\"Non requis\")","v":"Inconnu"},{"$f":"IF(INTRO!$E$42=\"Endémique\", IF(AND($J95>1,$J95<5), IF($J95=4, \"Inconnu\", E95+F95), 0),\"Non requis\")","v":6830},{"$f":"IF(INTRO!$E$44=\"Endémique\", IF(AND($K95>0,$K95<5), IF($K95=4,\"Inconnu\", IF($K95=1, $F95*0.33, IF($K95=2, $F95*0.5+$G95*0.2, SUM(F95:G95)))), 0),\"Non requis\")","v":1483.68},0,0,1,0,"T3 (ALB/MBD)",null,null,null,null,23753,"CALAQUE",null,{"$f":"'MDA1'!M95","v":0},{"$f":"'MDA3'!Q95","v":0},{"$f":"'T1'!O95","v":0},{"$f":"'T2'!M95","v":0},{"$f":"T3_R1!N95","v":4353},{"$f":"T3_R2!N95","v":0}]
[{"$f":"IF(INTRO!$E$34<>0,INTRO!$E$34,\"\")","v":"Guinea Bissau"},"Tombali","CATIO",20508,{"$f":"IF(INTRO!$E$48=\"\",\"\",ROUND($D96*INTRO!$E$48,0))","v":2728},{"$f":"IF(INTRO!$E$49=\"\",\"\",ROUND($D96*INTRO!$E$49,0))","v":5254},{"$f":"IF(INTRO!$E$50=\"\",\"\",ROUND($D96*INTRO!$E$50,0))","v":11618},0,4,1,1,{"$f":"IF(INTRO!$E$38=\"Endémique\", IF($H96>0, IF($H96=4,\"Inconnu\", IF($H96=99,\"Interrompu\", $D96)), 0),\"Non requis\")","v":0},{"$f":"IF(INTRO!$E$40=\"Endémique\", IF($I96>0, IF($I96=4,\"Inconnu\",IF($I96=99,\"Interrompu\", $D96)), 0),\"Non requis\")","v":"Inconnu"},{"$f":"IF(INTRO!$E$42=\"Endémique\", IF(AND($J96>1,$J96<5), IF($J96=4, \"Inconnu\", E96+F96), 0),\"Non requis\")","v":0},{"$f":"IF(INTRO!$E$44=\"Endémique\", IF(AND($K96>0,$K96<5), IF($K96=4,\"Inconnu\", IF($K96=1, $F96*0.33, IF($K96=2, $F96*0.5+$G96*0.2, SUM(F96:G96)))), 0),\"Non requis\")","v":1733.8200000000002},0,0,1,0,"T3 (ALB/MBD)",null,null,null,null,23756,"CATIO",null,{"$f":"'MDA1'!M96","v":0},{"$f":"'MDA3'!Q96","v":0},{"$f":"'T1'!O96","v":0},{"$f":"'T2'!M96","v":0},{"$f":"T3_R1!N96","v":5308},{"$f":"T3_R2!N96","v":0}]
[{"$f":"IF(INTRO!$E$34<>0,INTRO!$E$34,\"\")","v":"Guinea Bissau"},"Tombali","KOMO",11650,{"$f":"IF(INTRO!$E$48=\"\",\"\",ROUND($D97*INTRO!$E$48,0))","v":1549},{"$f":"IF(INTRO!$E$49=\"\",\"\",ROUND($D97*INTRO!$E$49,0))","v":2985},{"$f":"IF(INTRO!$E$50=\"\",\"\",ROUND($D97*INTRO!$E$50,0))","v":6600},0,4,2,1,{"$f":"IF(INTRO!$E$38=\"Endémique\", IF($H97>0, IF($H97=4,\"Inconnu\", IF($H97=99,\"Interrompu\", $D97)), 0),\"Non requis\")","v":0},{"$f":"IF(INTRO!$E$40=\"Endémique\", IF($I97>0, IF($I97=4,\"Inconnu\",IF($I97=99,\"Interrompu\", $D97)), 0),\"Non requis\")","v":"Inconnu"},{"$f":"IF(INTRO!$E$42=\"Endémique\", IF(AND($J97>1,$J97<5), IF($J97=4, \"Inconnu\", E97+F97), 0),\"Non requis\")","v":4534},{"$f":"IF(INTRO!$E$44=\"Endémique\", IF(AND($K97>0,$K97<5), IF($K97=4,\"Inconnu\", IF($K97=1, $F97*0.33, IF($K97=2, $F97*0.5+$G97*0.2, SUM(F97:G97)))), 0),\"Non requis\")","v":985.05000000000007},0,0,1,0,"T3 (ALB/MBD)",null,null,null,null,23757,"KOMO",null,{"$f":"'MDA1'!M97","v":0},{"$f":"'MDA3'!Q97","v":0},{"$f":"'T1'!O97","v":0},{"$f":"'T2'!M97","v":0},{"$f":"T3_R1!N97","v":2020},{"$f":"T3_R2!N97","v":0}]
[{"$f":"IF(INTRO!$E$34<>0,INTRO!$E$34,\"\")","v":"Guinea Bissau"},"Tombali","QUEBO",21846,{"$f":"IF(INTRO!$E$48=\"\",\"\",ROUND($D98*INTRO!$E$48,0))","v":2906},{"$f":"IF(INTRO!$E$49=\"\",\"\",ROUND($D98*INTRO!$E$49,0))","v":5597},{"$f":"IF(INTRO!$E$50=\"\",\"\",ROUND($D98*INTRO!$E$50,0))","v":12376},0,4,2,0,{"$f":"IF(INTRO!$E$38=\"Endémique\", IF($H98>0, IF($H98=4,\"Inconnu\", IF($H98=99,\"Interrompu\", $D98)), 0),\"Non requis\")","v":0},{"$f":"IF(INTRO!$E$40=\"Endémique\", IF($I98>0, IF($I98=4,\"Inconnu\",IF($I98=99,\"Interrompu\", $D98)), 0),\"Non requis\")","v":"Inconnu"},{"$f":"IF(INTRO!$E$42=\"Endémique\", IF(AND($J98>1,$J98<5), IF($J98=4, \"Inconnu\", E98+F98), 0),\"Non requis\")","v":8503},{"$f":"IF(INTRO!$E$44=\"Endémique\", IF(AND($K98>0,$K98<5), IF($K98=4,\"Inconnu\", IF($K98=1, $F98*0.33, IF($K98=2, $F98*0.5+$G98*0.2, SUM(F98:G98)))), 0),\"Non requis\")","v":0},0,0,1,0,"T3 (ALB/MBD)",null,null,null,null,23758,"QUEBO",null,{"$f":"'MDA1'!M98","v":0},{"$f":"'MDA3'!Q98","v":0},{"$f":"'T1'!O98","v":0},{"$f":"'T2'!M98","v":0},{"$f":"T3_R1!N98","v":5586},{"$f":"T3_R2!N98","v":0}]
[{"$f":"IF(INTRO!$E$34<>0,INTRO!$E$34,\"\")","v":"Guinea Bissau"},"Tombali","SANCONHA",7941,{"$f":"IF(INTRO!$E$48=\"\",\"\",ROUND($D99*INTRO!$E$48,0))","v":1056},{"$f":"IF(INTRO!$E$49=\"\",\"\",ROUND($D99*INTRO!$E$49,0))","v":2034},{"$f":"IF(INTRO!$E$50=\"\",\"\",ROUND($D99*INTRO!$E$50,0))","v":4499},0,4,3,0,{"$f":"IF(INTRO!$E$38=\"Endémique\", IF($H99>0, IF($H99=4,\"Inconnu\", IF($H99=99,\"Interrompu\", $D99)), 0),\"Non requis\")","v":0},{"$f":"IF(INTRO!$E$40=\"Endémique\", IF($I99>0, IF($I99=4,\"Inconnu\",IF($I99=99,\"Interrompu\", $D99)), 0),\"Non requis\")","v":"Inconnu"},{"$f":"IF(INTRO!$E$42=\"Endémique\", IF(AND($J99>1,$J99<5), IF($J99=4, \"Inconnu\", E99+F99), 0),\"Non requis\")","v":3090},{"$f":"IF(INTRO!$E$44=\"Endémique\", IF(AND($K99>0,$K99<5), IF($K99=4,\"Inconnu\", IF($K99=1, $F99*0.33, IF($K99=2, $F99*0.5+$G99*0.2, SUM(F99:G99)))), 0),\"Non requis\")","v":0},0,0,1,0,"T3 (ALB/MBD)",null,null,null,null,23759,"SANCONHA",null,{"$f":"'MDA1'!M99","v":0},{"$f":"'MDA3'!Q99","v":0},{"$f":"'T1'!O99","v":0},{"$f":"'T2'!M99","v":0},{"$f":"T3_R1!N99","v":1440},{"$f":"T3_R2!N99","v":0}]
[{"$f":"IF(INTRO!$E$34<>0,INTRO!$E$34,\"\")","v":"Guinea Bissau"},"Tombali","TIMBO",15098,{"$f":"IF(INTRO!$E$48=\"\",\"\",ROUND($D100*INTRO!$E$48,0))","v":2008},{"$f":"IF(INTRO!$E$49=\"\",\"\",ROUND($D100*INTRO!$E$49,0))","v":3868},{"$f":"IF(INTRO!$E$50=\"\",\"\",ROUND($D100*INTRO!$E$50,0))","v":8553},0,4,3,1,{"$f":"IF(INTRO!$E$38=\"Endémique\", IF($H100>0, IF($H100=4,\"Inconnu\", IF($H100=99,\"Interrompu\", $D100)), 0),\"Non requis\")","v":0},{"$f":"IF(INTRO!$E$40=\"Endémique\", IF($I100>0, IF($I100=4,\"Inconnu\",IF($I100=99,\"Interrompu\", $D100)), 0),\"Non requis\")","v":"Inconnu"},{"$f":"IF(INTRO!$E$42=\"Endémique\", IF(AND($J100>1,$J100<5), IF($J100=4, \"Inconnu\", E100+F100), 0),\"Non requis\")","v":5876},{"$f":"IF(INTRO!$E$44=\"Endémique\", IF(AND($K100>0,$K100<5), IF($K100=4,\"Inconnu\", IF($K100=1, $F100*0.33, IF($K100=2, $F100*0.5+$G100*0.2, SUM(F100:G100)))), 0),\"Non requis\")","v":1276.44},0,0,1,0,"T3 (ALB/MBD)",null,null,null,null,23760,"TIMBO",null,{"$f":"'MDA1'!M100","v":0},{"$f":"'MDA3'!Q100","v":0},{"$f":"'T1'!O100","v":0},{"$f":"'T2'!M100","v":0},{"$f":"T3_R1!N100","v":4191},{"$f":"T3_R2!N100","v":0}]
[{"$f":"IF(INTRO!$E$34<>0,INTRO!$E$34,\"\")","v":"Guinea Bissau"},"Quinara","BRANDÃO",10252,{"$f":"IF(INTRO!$E$48=\"\",\"\",ROUND($D101*INTRO!$E$48,0))","v":1364},{"$f":"IF(INTRO!$E$49=\"\",\"\",ROUND($D101*INTRO!$E$49,0))","v":2627},{"$f":"IF(INTRO!$E$50=\"\",\"\",ROUND($D101*INTRO!$E$50,0))","v":5808},1,4,3,0,{"$f":"IF(INTRO!$E$38=\"Endémique\", IF($H101>0, IF($H101=4,\"Inconnu\", IF($H101=99,\"Interrompu\", $D101)), 0),\"Non requis\")","v":10252},{"$f":"IF(INTRO!$E$40=\"Endémique\", IF($I101>0, IF($I101=4,\"Inconnu\",IF($I101=99,\"Interrompu\", $D101)), 0),\"Non requis\")","v":"Inconnu"},{"$f":"IF(INTRO!$E$42=\"Endémique\", IF(AND($J101>1,$J101<5), IF($J101=4, \"Inconnu\", E101+F101), 0),\"Non requis\")","v":3991},{"$f":"IF(INTRO!$E$44=\"Endémique\", IF(AND($K101>0,$K101<5), IF($K101=4,\"Inconnu\", IF($K101=1, $F101*0.33, IF($K101=2, $F101*0.5+$G101*0.2, SUM(F101:G101)))), 0),\"Non requis\")","v":0},1,0,1,0,"MDA1 (IVM+ALB)",null,null,null,null,23740,"BRANDÃO",null,{"$f":"'MDA1'!M101","v":5677},{"$f":"'MDA3'!Q101","v":0},{"$f":"'T1'!O101","v":0},{"$f":"'T2'!M101","v":0},{"$f":"T3_R1!N101","v":0},{"$f":"T3_R2!N101","v":0}]
[{"$f":"IF(INTRO!$E$34<>0,INTRO!$E$34,\"\")","v":"Guinea Bissau"},"Quinara","BUBA",23963,{"$f":"IF(INTRO!$E$48=\"\",\"\",ROUND($D102*INTRO!$E$48,0))","v":3187},{"$f":"IF(INTRO!$E$49=\"\",\"\",ROUND($D102*INTRO!$E$49,0))","v":6139},{"$f":"IF(INTRO!$E$50=\"\",\"\",ROUND($D102*INTRO!$E$50,0))","v":13575},1,4,2,0,{"$f":"IF(INTRO!$E$38=\"Endémique\", IF($H102>0, IF($H102=4,\"Inconnu\", IF($H102=99,\"Interrompu\", $D102)), 0),\"Non requis\")","v":23963},{"$f":"IF(INTRO!$E$40=\"Endémique\", IF($I102>0, IF($I102=4,\"Inconnu\",IF($I102=99,\"Interrompu\", $D102)), 0),\"Non requis\")","v":"Inconnu"},{"$f":"IF(INTRO!$E$42=\"Endémique\", IF(AND($J102>1,$J102<5), IF($J102=4, \"Inconnu\", E102+F102), 0),\"Non requis\")","v":9326},{"$f":"IF(INTRO!$E$44=\"Endémique\", IF(AND($K102>0,$K102<5), IF($K102=4,\"Inconnu\", IF($K102=1, $F102*0.33, IF($K102=2, $F102*0.5+$G102*0.2, SUM(F102:G102)))), 0),\"Non requis\")","v":0},1,0,1,0,"MDA1 (IVM+ALB)",null,null,null,null,23742,"BUBA",null,{"$f":"'MDA1'!M102","v":16404},{"$f":"'MDA3'!Q102","v":0},{"$f":"'T1'!O102","v":0},{"$f":"'T2'!M102","v":0},{"$f":"T3_R1!N102","v":0},{"$f":"T3_R2!N102","v":0}]
[{"$f":"IF(INTRO!$E$34<>0,INTRO!$E$34,\"\")","v":"Guinea Bissau"},"Quinara","DAR-ES-SALAM",6681,{"$f":"IF(INTRO!$E$48=\"\",\"\",ROUND($D103*INTRO!$E$48,0))","v":889},{"$f":"IF(INTRO!$E$49=\"\",\"\",ROUND($D103*INTRO!$E$49,0))","v":1712},{"$f":"IF(INTRO!$E$50=\"\",\"\",ROUND($D103*INTRO!$E$50,0))","v":3785},1,4,3,0,{"$f":"IF(INTRO!$E$38=\"Endémique\", IF($H103>0, IF($H103=4,\"Inconnu\", IF($H103=99,\"Interrompu\", $D103)), 0),\"Non requis\")","v":6681},{"$f":"IF(INTRO!$E$40=\"Endémique\", IF($I103>0, IF($I103=4,\"Inconnu\",IF($I103=99,\"Interrompu\", $D103)), 0),\"Non requis\")","v":"Inconnu"},{"$f":"IF(INTRO!$E$42=\"Endémique\", IF(AND($J103>1,$J103<5), IF($J103=4, \"Inconnu\", E103+F103), 0),\"Non requis\")","v":2601},{"$f":"IF(INTRO!$E$44=\"Endémique\", IF(AND($K103>0,$K103<5), IF($K103=4,\"Inconnu\", IF($K103=1, $F103*0.33, IF($K103=2, $F103*0.5+$G103*0.2, SUM(F103:G103)))), 0),\"Non requis\")","v":0},1,0,1,0,"MDA1 (IVM+ALB)",null,null,null,null,23741,"DAR-ES-SALAM",null,{"$f":"'MDA1'!M103","v":4174},{"$f":"'MDA3'!Q103","v":0},{"$f":"'T1'!O103","v":0},{"$f":"'T2'!M103","v":0},{"$f":"T3_R1!N103","v":0},{"$f":"T3_R2!N103","v":0}]
[{"$f":"IF(INTRO!$E$34<>0,INTRO!$E$34,\"\")","v":"Guinea Bissau"},"Quinara","EMPADA",17488,{"$f":"IF(INTRO!$E$48=\"\",\"\",ROUND($D104*INTRO!$E$48,0))","v":2326},{"$f":"IF(INTRO!$E$49=\"\",\"\",ROUND($D104*INTRO!$E$49,0))","v":4480},{"$f":"IF(INTRO!$E$50=\"\",\"\",ROUND($D104*INTRO!$E$50,0))","v":9907},1,4,2,0,{"$f":"IF(INTRO!$E$38=\"Endémique\", IF($H104>0, IF($H104=4,\"Inconnu\", IF($H104=99,\"Interrompu\", $D104)), 0),\"Non requis\")","v":17488},{"$f":"IF(INTRO!$E$40=\"Endémique\", IF($I104>0, IF($I104=4,\"Inconnu\",IF($I104=99,\"Interrompu\", $D104)), 0),\"Non requis\")","v":"Inconnu"},{"$f":"IF(INTRO!$E$42=\"Endémique\", IF(AND($J104>1,$J104<5), IF($J104=4, \"Inconnu\", E104+F104), 0),\"Non requis\")","v":6806},{"$f":"IF(INTRO!$E$44=\"Endémique\", IF(AND($K104>0,$K104<5), IF($K104=4,\"Inconnu\", IF($K104=1, $F104*0.33, IF($K104=2, $F104*0.5+$G104*0.2, SUM(F104:G104)))), 0),\"Non requis\")","v":0},1,0,1,0,"MDA1 (IVM+ALB)",null,null,null,null,23743,"EMPADA",null,{"$f":"'MDA1'!M104","v":12795},{"$f":"'MDA3'!Q104","v":0},{"$f":"'T1'!O104","v":0},{"$f":"'T2'!M104","v":0},{"$f":"T3_R1!N104","v":0},{"$f":"T3_R2!N104","v":0}]
[{"$f":"IF(INTRO!$E$34<>0,INTRO!$E$34,\"\")","v":"Guinea Bissau"},"Quinara","FULACUNDA",14474,{"$f":"IF(INTRO!$E$48=\"\",\"\",ROUND($D105*INTRO!$E$48,0))","v":1925},{"$f":"IF(INTRO!$E$49=\"\",\"\",ROUND($D105*INTRO!$E$49,0))","v":3708},{"$f":"IF(INTRO!$E$50=\"\",\"\",ROUND($D105*INTRO!$E$50,0))","v":8200},1,4,2,0,{"$f":"IF(INTRO!$E$38=\"Endémique\", IF($H105>0, IF($H105=4,\"Inconnu\", IF($H105=99,\"Interrompu\", $D105)), 0),\"Non requis\")","v":14474},{"$f":"IF(INTRO!$E$40=\"Endémique\", IF($I105>0, IF($I105=4,\"Inconnu\",IF($I105=99,\"Interrompu\", $D105)), 0),\"Non requis\")","v":"Inconnu"},{"$f":"IF(INTRO!$E$42=\"Endémique\", IF(AND($J105>1,$J105<5), IF($J105=4, \"Inconnu\", E105+F105), 0),\"Non requis\")","v":5633},{"$f":"IF(INTRO!$E$44=\"Endémique\", IF(AND($K105>0,$K105<5), IF($K105=4,\"Inconnu\", IF($K105=1, $F105*0.33, IF($K105=2, $F105*0.5+$G105*0.2, SUM(F105:G105)))), 0),\"Non requis\")","v":0},1,0,1,0,"MDA1 (IVM+ALB)",null,null,null,null,23744,"FULACUNDA",null,{"$f":"'MDA1'!M105","v":11659},{"$f":"'MDA3'!Q105","v":0},{"$f":"'T1'!O105","v":0},{"$f":"'T2'!M105","v":0},{"$f":"T3_R1!N105","v":0},{"$f":"T3_R2!N105","v":0}]
[{"$f":"IF(INTRO!$E$34<>0,INTRO!$E$34,\"\")","v":"Guinea Bissau"},"Quinara","TITE",11586,{"$f":"IF(INTRO!$E$48=\"\",\"\",ROUND($D106*INTRO!$E$48,0))","v":1541},{"$f":"IF(INTRO!$E$49=\"\",\"\",ROUND($D106*INTRO!$E$49,0))","v":2968},{"$f":"IF(INTRO!$E$50=\"\",\"\",ROUND($D106*INTRO!$E$50,0))","v":6563},1,4,2,0,{"$f":"IF(INTRO!$E$38=\"Endémique\", IF($H106>0, IF($H106=4,\"Inconnu\", IF($H106=99,\"Interrompu\", $D106)), 0),\"Non requis\")","v":11586},{"$f":"IF(INTRO!$E$40=\"Endémique\", IF($I106>0, IF($I106=4,\"Inconnu\",IF($I106=99,\"Interrompu\", $D106)), 0),\"Non requis\")","v":"Inconnu"},{"$f":"IF(INTRO!$E$42=\"Endémique\", IF(AND($J106>1,$J106<5), IF($J106=4, \"Inconnu\", E106+F106), 0),\"Non requis\")","v":4509},{"$f":"IF(INTRO!$E$44=\"Endémique\", IF(AND($K106>0,$K106<5), IF($K106=4,\"Inconnu\", IF($K106=1, $F106*0.33, IF($K106=2, $F106*0.5+$G106*0.2, SUM(F106:G106)))), 0),\"Non requis\")","v":0},1,0,1,0,"MDA1 (IVM+ALB)",null,null,null,null,23745,"TITE",null,{"$f":"'MDA1'!M106","v":8600},{"$f":"'MDA3'!Q106","v":0},{"$f":"'T1'!O106","v":0},{"$f":"'T2'!M106","v":0},{"$f":"T3_R1!N106","v":0},{"$f":"T3_R2!N106","v":0}]
[{"$f":"IF(INTRO!$E$34<>0,INTRO!$E$34,\"\")","v":"Guinea Bissau"},"Cacheu","Bará",6106,{"$f":"IF(INTRO!$E$48=\"\",\"\",ROUND($D107*INTRO!$E$48,0))","v":812},{"$f":"IF(INTRO!$E$49=\"\",\"\",ROUND($D107*INTRO!$E$49,0))","v":1564},{"$f":"IF(INTRO!$E$50=\"\",\"\",ROUND($D107*INTRO!$E$50,0))","v":3459},1,4,3,0,{"$f":"IF(INTRO!$E$38=\"Endémique\", IF($H107>0, IF($H107=4,\"Inconnu\", IF($H107=99,\"Interrompu\", $D107)), 0),\"Non requis\")","v":6106},{"$f":"IF(INTRO!$E$40=\"Endémique\", IF($I107>0, IF($I107=4,\"Inconnu\",IF($I107=99,\"Interrompu\", $D107)), 0),\"Non requis\")","v":"Inconnu"},{"$f":"IF(INTRO!$E$42=\"Endémique\", IF(AND($J107>1,$J107<5), IF($J107=4, \"Inconnu\", E107+F107), 0),\"Non requis\")","v":2376},{"$f":"IF(INTRO!$E$44=\"Endémique\", IF(AND($K107>0,$K107<5), IF($K107=4,\"Inconnu\", IF($K107=1, $F107*0.33, IF($K107=2, $F107*0.5+$G107*0.2, SUM(F107:G107)))), 0),\"Non requis\")","v":0},0,0,0,0,null,null,null,null,null,23689,"Bará",null,{"$f":"'MDA1'!M107","v":0},{"$f":"'MDA3'!Q107","v":0},{"$f":"'T1'!O107","v":0},{"$f":"'T2'!M107","v":0},{"$f":"T3_R1!N107","v":0},{"$f":"T3_R2!N107","v":0}]
[{"$f":"IF(INTRO!$E$34<>0,INTRO!$E$34,\"\")","v":"Guinea Bissau"},"Cacheu","Barro",8926,{"$f":"IF(INTRO!$E$48=\"\",\"\",ROUND($D108*INTRO!$E$48,0))","v":1187},{"$f":"IF(INTRO!$E$49=\"\",\"\",ROUND($D108*INTRO!$E$49,0))","v":2287},{"$f":"IF(INTRO!$E$50=\"\",\"\",ROUND($D108*INTRO!$E$50,0))","v":5057},1,4,3,0,{"$f":"IF(INTRO!$E$38=\"Endémique\", IF($H108>0, IF($H108=4,\"Inconnu\", IF($H108=99,\"Interrompu\", $D108)), 0),\"Non requis\")","v":8926},{"$f":"IF(INTRO!$E$40=\"Endémique\", IF($I108>0, IF($I108=4,\"Inconnu\",IF($I108=99,\"Interrompu\", $D108)), 0),\"Non requis\")","v":"Inconnu"},{"$f":"IF(INTRO!$E$42=\"Endémique\", IF(AND($J108>1,$J108<5), IF($J108=4, \"Inconnu\", E108+F108), 0),\"Non requis\")","v":3474},{"$f":"IF(INTRO!$E$44=\"Endémique\", IF(AND($K108>0,$K108<5), IF($K108=4,\"Inconnu\", IF($K108=1, $F108*0.33, IF($K108=2, $F108*0.5+$G108*0.2, SUM(F108:G108)))), 0),\"Non requis\")","v":0},0,0,0,0,null,null,null,null,null,23688,"Barro",null,{"$f":"'MDA1'!M108","v":0},{"$f":"'MDA3'!Q108","v":0},{"$f":"'T1'!O108","v":0},{"$f":"'T2'!M108","v":0},{"$f":"T3_R1!N108","v":0},{"$f":"T3_R2!N108","v":0}]
[{"$f":"IF(INTRO!$E$34<>0,INTRO!$E$34,\"\")","v":"Guinea Bissau"},"Cacheu","Batucar",7272,{"$f":"IF(INTRO!$E$48=\"\",\"\",ROUND($D109*INTRO!$E$48,0))","v":967},{"$f":"IF(INTRO!$E$49=\"\",\"\",ROUND($D109*INTRO!$E$49,0))","v":1863},{"$f":"IF(INTRO!$E$50=\"\",\"\",ROUND($D109*INTRO!$E$50,0))","v":4120},1,4,3,0,{"$f":"IF(INTRO!$E$38=\"Endémique\", IF($H109>0, IF($H109=4,\"Inconnu\", IF($H109=99,\"Interrompu\", $D109)), 0),\"Non requis\")","v":7272},{"$f":"IF(INTRO!$E$40=\"Endémique\", IF($I109>0, IF($I109=4,\"Inconnu\",IF($I109=99,\"Interrompu\", $D109)), 0),\"Non requis\")","v":"Inconnu"},{"$f":"IF(INTRO!$E$42=\"Endémique\", IF(AND($J109>1,$J109<5), IF($J109=4, \"Inconnu\", E109+F109), 0),\"Non requis\")","v":2830},{"$f":"IF(INTRO!$E$44=\"Endémique\", IF(AND($K109>0,$K109<5), IF($K109=4,\"Inconnu\", IF($K109=1, $F109*0.33, IF($K109=2, $F109*0.5+$G109*0.2, SUM(F109:G109)))), 0),\"Non requis\")","v":0},0,0,0,0,null,null,null,null,null,23690,"Batucar",null,{"$f":"'MDA1'!M109","v":0},{"$f":"'MDA3'!Q109","v":0},{"$f":"'T1'!O109","v":0},{"$f":"'T2'!M109","v":0},{"$f":"T3_R1!N109","v":0},{"$f":"T3_R2!N109","v":0}]
[{"$f":"IF(INTRO!$E$34<>0,INTRO!$E$34,\"\")","v":"Guinea Bissau"},"Cacheu","Begene",16267,{"$f":"IF(INTRO!$E$48=\"\",\"\",ROUND($D110*INTRO!$E$48,0))","v":2164},{"$f":"IF(INTRO!$E$49=\"\",\"\",ROUND($D110*INTRO!$E$49,0))","v":4168},{"$f":"IF(INTRO!$E$50=\"\",\"\",ROUND($D110*INTRO!$E$50,0))","v":9215},1,4,3,0,{"$f":"IF(INTRO!$E$38=\"Endémique\", IF($H110>0, IF($H110=4,\"Inconnu\", IF($H110=99,\"Interrompu\", $D110)), 0),\"Non requis\")","v":16267},{"$f":"IF(INTRO!$E$40=\"Endémique\", IF($I110>0, IF($I110=4,\"Inconnu\",IF($I110=99,\"Interrompu\", $D110)), 0),\"Non requis\")","v":"Inconnu"},{"$f":"IF(INTRO!$E$42=\"Endémique\", IF(AND($J110>1,$J110<5), IF($J110=4, \"Inconnu\", E110+F110), 0),\"Non requis\")","v":6332},{"$f":"IF(INTRO!$E$44=\"Endémique\", IF(AND($K110>0,$K110<5), IF($K110=4,\"Inconnu\", IF($K110=1, $F110*0.33, IF($K110=2, $F110*0.5+$G110*0.2, SUM(F110:G110)))), 0),\"Non requis\")","v":0},0,0,0,0,null,null,null,null,null,23691,"Begene",null,{"$f":"'MDA1'!M110","v":0},{"$f":"'MDA3'!Q110","v":0},{"$f":"'T1'!O110","v":0},{"$f":"'T2'!M110","v":0},{"$f":"T3_R1!N110","v":0},{"$f":"T3_R2!N110","v":0}]
[{"$f":"IF(INTRO!$E$34<>0,INTRO!$E$34,\"\")","v":"Guinea Bissau"},"Cacheu","Bula",23593,{"$f":"IF(INTRO!$E$48=\"\",\"\",ROUND($D111*INTRO!$E$48,0))","v":3138},{"$f":"IF(INTRO!$E$49=\"\",\"\",ROUND($D111*INTRO!$E$49,0))","v":6045},{"$f":"IF(INTRO!$E$50=\"\",\"\",ROUND($D111*INTRO!$E$50,0))","v":13365},1,4,1,0,{"$f":"IF(INTRO!$E$38=\"Endémique\", IF($H111>0, IF($H111=4,\"Inconnu\", IF($H111=99,\"Interrompu\", $D111)), 0),\"Non requis\")","v":23593},{"$f":"IF(INTRO!$E$40=\"Endémique\", IF($I111>0, IF($I111=4,\"Inconnu\",IF($I111=99,\"Interrompu\", $D111)), 0),\"Non requis\")","v":"Inconnu"},{"$f":"IF(INTRO!$E$42=\"Endémique\", IF(AND($J111>1,$J111<5), IF($J111=4, \"Inconnu\", E111+F111), 0),\"Non requis\")","v":0},{"$f":"IF(INTRO!$E$44=\"Endémique\", IF(AND($K111>0,$K111<5), IF($K111=4,\"Inconnu\", IF($K111=1, $F111*0.33, IF($K111=2, $F111*0.5+$G111*0.2, SUM(F111:G111)))), 0),\"Non requis\")","v":0},0,0,0,0,null,null,null,null,null,23685,"Bula",null,{"$f":"'MDA1'!M111","v":0},{"$f":"'MDA3'!Q111","v":0},{"$f":"'T1'!O111","v":0},{"$f":"'T2'!M111","v":0},{"$f":"T3_R1!N111","v":0},{"$f":"T3_R2!N111","v":0}]
[{"$f":"IF(INTRO!$E$34<>0,INTRO!$E$34,\"\")","v":"Guinea Bissau"},"Cacheu","Cacheu",14195,{"$f":"IF(INTRO!$E$48=\"\",\"\",ROUND($D112*INTRO!$E$48,0))","v":1888},{"$f":"IF(INTRO!$E$49=\"\",\"\",ROUND($D112*INTRO!$E$49,0))","v":3637},{"$f":"IF(INTRO!$E$50=\"\",\"\",ROUND($D112*INTRO!$E$50,0))","v":8041},1,4,1,0,{"$f":"IF(INTRO!$E$38=\"Endémique\", IF($H112>0, IF($H112=4,\"Inconnu\", IF($H112=99,\"Interrompu\", $D112)), 0),\"Non requis\")","v":14195},{"$f":"IF(INTRO!$E$40=\"Endémique\", IF($I112>0, IF($I112=4,\"Inconnu\",IF($I112=99,\"Interrompu\", $D112)), 0),\"Non requis\")","v":"Inconnu"},{"$f":"IF(INTRO!$E$42=\"Endémique\", IF(AND($J112>1,$J112<5), IF($J112=4, \"Inconnu\", E112+F112), 0),\"Non requis\")","v":0},{"$f":"IF(INTRO!$E$44=\"Endémique\", IF(AND($K112>0,$K112<5), IF($K112=4,\"Inconnu\", IF($K112=1, $F112*0.33, IF($K112=2, $F112*0.5+$G112*0.2, SUM(F112:G112)))), 0),\"Non requis\")","v":0},0,0,0,0,null,null,null,null,null,23692,"Cacheu",null,{"$f":"'MDA1'!M112","v":0},{"$f":"'MDA3'!Q112","v":0},{"$f":"'T1'!O112","v":0},{"$f":"'T2'!M112","v":0},{"$f":"T3_R1!N112","v":0},{"$f":"T3_R2!N112","v":0}]
[{"$f":"IF(INTRO!$E$34<>0,INTRO!$E$34,\"\")","v":"Guinea Bissau"},"Cacheu","Caió",10898,{"$f":"IF(INTRO!$E$48=\"\",\"\",ROUND($D113*INTRO!$E$48,0))","v":1449},{"$f":"IF(INTRO!$E$49=\"\",\"\",ROUND($D113*INTRO!$E$49,0))","v":2792},{"$f":"IF(INTRO!$E$50=\"\",\"\",ROUND($D113*INTRO!$E$50,0))","v":6174},1,4,1,0,{"$f":"IF(INTRO!$E$38=\"Endémique\", IF($H113>0, IF($H113=4,\"Inconnu\", IF($H113=99,\"Interrompu\", $D113)), 0),\"Non requis\")","v":10898},{"$f":"IF(INTRO!$E$40=\"Endémique\", IF($I113>0, IF($I113=4,\"Inconnu\",IF($I113=99,\"Interrompu\", $D113)), 0),\"Non requis\")","v":"Inconnu"},{"$f":"IF(INTRO!$E$42=\"Endémique\", IF(AND($J113>1,$J113<5), IF($J113=4, \"Inconnu\", E113+F113), 0),\"Non requis\")","v":0},{"$f":"IF(INTRO!$E$44=\"Endémique\", IF(AND($K113>0,$K113<5), IF($K113=4,\"Inconnu\", IF($K113=1, $F113*0.33, IF($K113=2, $F113*0.5+$G113*0.2, SUM(F113:G113)))), 0),\"Non requis\")","v":0},0,0,0,0,null,null,null,null,null,23693,"Caió",null,{"$f":"'MDA1'!M113","v":0},{"$f":"'MDA3'!Q113","v":0},{"$f":"'T1'!O113","v":0},{"$f":"'T2'!M113","v":0},{"$f":"T3_R1!N113","v":0},{"$f":"T3_R2!N113","v":0}]
[{"$f":"IF(INTRO!$E$34<>0,INTRO!$E$34,\"\")","v":"Guinea Bissau"},"Cacheu","Calequisse",9820,{"$f":"IF(INTRO!$E$48=\"\",\"\",ROUND($D114*INTRO!$E$48,0))","v":1306},{"$f":"IF(INTRO!$E$49=\"\",\"\",ROUND($D114*INTRO!$E$49,0))","v":2516},{"$f":"IF(INTRO!$E$50=\"\",\"\",ROUND($D114*INTRO!$E$50,0))","v":5563},1,4,1,0,{"$f":"IF(INTRO!$E$38=\"Endémique\", IF($H114>0, IF($H114=4,\"Inconnu\", IF($H114=99,\"Interrompu\", $D114)), 0),\"Non requis\")","v":9820},{"$f":"IF(INTRO!$E$40=\"Endémique\", IF($I114>0, IF($I114=4,\"Inconnu\",IF($I114=99,\"Interrompu\", $D114)), 0),\"Non requis\")","v":"Inconnu"},{"$f":"IF(INTRO!$E$42=\"Endémique\", IF(AND($J114>1,$J114<5), IF($J114=4, \"Inconnu\", E114+F114), 0),\"Non requis\")","v":0},{"$f":"IF(INTRO!$E$44=\"Endémique\", IF(AND($K114>0,$K114<5), IF($K114=4,\"Inconnu\", IF($K114=1, $F114*0.33, IF($K114=2, $F114*0.5+$G114*0.2, SUM(F114:G114)))), 0),\"Non requis\")","v":0},0,0,0,0,null,null,null,null,null,23686,"Calequisse",null,{"$f":"'MDA1'!M114","v":0},{"$f":"'MDA3'!Q114","v":0},{"$f":"'T1'!O114","v":0},{"$f":"'T2'!M114","v":0},{"$f":"T3_R1!N114","v":0},{"$f":"T3_R2!N114","v":0}]
[{"$f":"IF(INTRO!$E$34<>0,INTRO!$E$34,\"\")","v":"Guinea Bissau"},"Cacheu","Canchungo",21724,{"$f":"IF(INTRO!$E$48=\"\",\"\",ROUND($D115*INTRO!$E$48,0))","v":2889},{"$f":"IF(INTRO!$E$49=\"\",\"\",ROUND($D115*INTRO!$E$49,0))","v":5566},{"$f":"IF(INTRO!$E$50=\"\",\"\",ROUND($D115*INTRO!$E$50,0))","v":12307},1,4,1,0,{"$f":"IF(INTRO!$E$38=\"Endémique\", IF($H115>0, IF($H115=4,\"Inconnu\", IF($H115=99,\"Interrompu\", $D115)), 0),\"Non requis\")","v":21724},{"$f":"IF(INTRO!$E$40=\"Endémique\", IF($I115>0, IF($I115=4,\"Inconnu\",IF($I115=99,\"Interrompu\", $D115)), 0),\"Non requis\")","v":"Inconnu"},{"$f":"IF(INTRO!$E$42=\"Endémique\", IF(AND($J115>1,$J115<5), IF($J115=4, \"Inconnu\", E115+F115), 0),\"Non requis\")","v":0},{"$f":"IF(INTRO!$E$44=\"Endémique\", IF(AND($K115>0,$K115<5), IF($K115=4,\"Inconnu\", IF($K115=1, $F115*0.33, IF($K115=2, $F115*0.5+$G115*0.2, SUM(F115:G115)))), 0),\"Non requis\")","v":0},0,0,0,0,null,null,null,null,null,23694,"Canchungo",null,{"$f":"'MDA1'!M115","v":0},{"$f":"'MDA3'!Q115","v":0},{"$f":"'T1'!O115","v":0},{"$f":"'T2'!M115","v":0},{"$f":"T3_R1!N115","v":0},{"$f":"T3_R2!N115","v":0}]
[{"$f":"IF(INTRO!$E$34<>0,INTRO!$E$34,\"\")","v":"Guinea Bissau"},"Cacheu","Carenque",9489,{"$f":"IF(INTRO!$E$48=\"\",\"\",ROUND($D116*INTRO!$E$48,0))","v":1262},{"$f":"IF(INTRO!$E$49=\"\",\"\",ROUND($D116*INTRO!$E$49,0))","v":2431},{"$f":"IF(INTRO!$E$50=\"\",\"\",ROUND($D116*INTRO!$E$50,0))","v":5376},1,4,3,0,{"$f":"IF(INTRO!$E$38=\"Endémique\", IF($H116>0, IF($H116=4,\"Inconnu\", IF($H116=99,\"Interrompu\", $D116)), 0),\"Non requis\")","v":9489},{"$f":"IF(INTRO!$E$40=\"Endémique\", IF($I116>0, IF($I116=4,\"Inconnu\",IF($I116=99,\"Interrompu\", $D116)), 0),\"Non requis\")","v":"Inconnu"},{"$f":"IF(INTRO!$E$42=\"Endémique\", IF(AND($J116>1,$J116<5), IF($J116=4, \"Inconnu\", E116+F116), 0),\"Non requis\")","v":3693},{"$f":"IF(INTRO!$E$44=\"Endémique\", IF(AND($K116>0,$K116<5), IF($K116=4,\"Inconnu\", IF($K116=1, $F116*0.33, IF($K116=2, $F116*0.5+$G116*0.2, SUM(F116:G116)))), 0),\"Non requis\")","v":0},0,0,0,0,null,null,null,null,null,23695,"Carenque",null,{"$f":"'MDA1'!M116","v":0},{"$f":"'MDA3'!Q116","v":0},{"$f":"'T1'!O116","v":0},{"$f":"'T2'!M116","v":0},{"$f":"T3_R1!N116","v":0},{"$f":"T3_R2!N116","v":0}]
[{"$f":"IF(INTRO!$E$34<>0,INTRO!$E$34,\"\")","v":"Guinea Bissau"},"Cacheu","Có",7709,{"$f":"IF(INTRO!$E$48=\"\",\"\",ROUND($D117*INTRO!$E$48,0))","v":1025},{"$f":"IF(INTRO!$E$49=\"\",\"\",ROUND($D117*INTRO!$E$49,0))","v":1975},{"$f":"IF(INTRO!$E$50=\"\",\"\",ROUND($D117*INTRO!$E$50,0))","v":4367},1,4,3,0,{"$f":"IF(INTRO!$E$38=\"Endémique\", IF($H117>0, IF($H117=4,\"Inconnu\", IF($H117=99,\"Interrompu\", $D117)), 0),\"Non requis\")","v":7709},{"$f":"IF(INTRO!$E$40=\"Endémique\", IF($I117>0, IF($I117=4,\"Inconnu\",IF($I117=99,\"Interrompu\", $D117)), 0),\"Non requis\")","v":"Inconnu"},{"$f":"IF(INTRO!$E$42=\"Endémique\", IF(AND($J117>1,$J117<5), IF($J117=4, \"Inconnu\", E117+F117), 0),\"Non requis\")","v":3000},{"$f":"IF(INTRO!$E$44=\"Endémique\", IF(AND($K117>0,$K117<5), IF($K117=4,\"Inconnu\", IF($K117=1, $F117*0.33, IF($K117=2, $F117*0.5+$G117*0.2, SUM(F117:G117)))), 0),\"Non requis\")","v":0},0,0,0,0,null,null,null,null,null,23761,"Có",null,{"$f":"'MDA1'!M117","v":0},{"$f":"'MDA3'!Q117","v":0},{"$f":"'T1'!O117","v":0},{"$f":"'T2'!M117","v":0},{"$f":"T3_R1!N117","v":0},{"$f":"T3_R2!N117","v":0}]
[{"$f":"IF(INTRO!$E$34<>0,INTRO!$E$34,\"\")","v":"Guinea Bissau"},"Cacheu","Ingoré",26373,{"$f":"IF(INTRO!$E$48=\"\",\"\",ROUND($D118*INTRO!$E$48,0))","v":3508},{"$f":"IF(INTRO!$E$49=\"\",\"\",ROUND($D118*INTRO!$E$49,0))","v":6757},{"$f":"IF(INTRO!$E$50=\"\",\"\",ROUND($D118*INTRO!$E$50,0))","v":14940},1,4,1,0,{"$f":"IF(INTRO!$E$38=\"Endémique\", IF($H118>0, IF($H118=4,\"Inconnu\", IF($H118=99,\"Interrompu\", $D118)), 0),\"Non requis\")","v":26373},{"$f":"IF(INTRO!$E$40=\"Endémique\", IF($I118>0, IF($I118=4,\"Inconnu\",IF($I118=99,\"Interrompu\", $D118)), 0),\"Non requis\")","v":"Inconnu"},{"$f":"IF(INTRO!$E$42=\"Endémique\", IF(AND($J118>1,$J118<5), IF($J118=4, \"Inconnu\", E118+F118), 0),\"Non requis\")","v":0},{"$f":"IF(INTRO!$E$44=\"Endémique\", IF(AND($K118>0,$K118<5), IF($K118=4,\"Inconnu\", IF($K118=1, $F118*0.33, IF($K118=2, $F118*0.5+$G118*0.2, SUM(F118:G118)))), 0),\"Non requis\")","v":0},0,0,0,0,null,null,null,null,null,23696,"Ingoré",null,{"$f":"'MDA1'!M118","v":0},{"$f":"'MDA3'!Q118","v":0},{"$f":"'T1'!O118","v":0},{"$f":"'T2'!M118","v":0},{"$f":"T3_R1!N118","v":0},{"$f":"T3_R2!N118","v":0}]
[{"$f":"IF(INTRO!$E$34<>0,INTRO!$E$34,\"\")","v":"Guinea Bissau"},"Cacheu","Jeta",1969,{"$f":"IF(INTRO!$E$48=\"\",\"\",ROUND($D119*INTRO!$E$48,0))","v":262},{"$f":"IF(INTRO!$E$49=\"\",\"\",ROUND($D119*INTRO!$E$49,0))","v":504},{"$f":"IF(INTRO!$E$50=\"\",\"\",ROUND($D119*INTRO!$E$50,0))","v":1115},1,4,3,1,{"$f":"IF(INTRO!$E$38=\"Endémique\", IF($H119>0, IF($H119=4,\"Inconnu\", IF($H119=99,\"Interrompu\", $D119)), 0),\"Non requis\")","v":1969},{"$f":"IF(INTRO!$E$40=\"Endémique\", IF($I119>0, IF($I119=4,\"Inconnu\",IF($I119=99,\"Interrompu\", $D119)), 0),\"Non requis\")","v":"Inconnu"},{"$f":"IF(INTRO!$E$42=\"Endémique\", IF(AND($J119>1,$J119<5), IF($J119=4, \"Inconnu\", E119+F119), 0),\"Non requis\")","v":766},{"$f":"IF(INTRO!$E$44=\"Endémique\", IF(AND($K119>0,$K119<5), IF($K119=4,\"Inconnu\", IF($K119=1, $F119*0.33, IF($K119=2, $F119*0.5+$G119*0.2, SUM(F119:G119)))), 0),\"Non requis\")","v":166.32000000000002},0,0,0,0,null,null,null,null,null,23697,"Jeta",null,{"$f":"'MDA1'!M119","v":0},{"$f":"'MDA3'!Q119","v":0},{"$f":"'T1'!O119","v":0},{"$f":"'T2'!M119","v":0},{"$f":"T3_R1!N119","v":0},{"$f":"T3_R2!N119","v":0}]
[{"$f":"IF(INTRO!$E$34<>0,INTRO!$E$34,\"\")","v":"Guinea Bissau"},"Cacheu","Pecixe",7487,{"$f":"IF(INTRO!$E$48=\"\",\"\",ROUND($D120*INTRO!$E$48,0))","v":996},{"$f":"IF(INTRO!$E$49=\"\",\"\",ROUND($D120*INTRO!$E$49,0))","v":1918},{"$f":"IF(INTRO!$E$50=\"\",\"\",ROUND($D120*INTRO!$E$50,0))","v":4241},1,4,3,1,{"$f":"IF(INTRO!$E$38=\"Endémique\", IF($H120>0, IF($H120=4,\"Inconnu\", IF($H120=99,\"Interrompu\", $D120)), 0),\"Non requis\")","v":7487},{"$f":"IF(INTRO!$E$40=\"Endémique\", IF($I120>0, IF($I120=4,\"Inconnu\",IF($I120=99,\"Interrompu\", $D120)), 0),\"Non requis\")","v":"Inconnu"},{"$f":"IF(INTRO!$E$42=\"Endémique\", IF(AND($J120>1,$J120<5), IF($J120=4, \"Inconnu\", E120+F120), 0),\"Non requis\")","v":2914},{"$f":"IF(INTRO!$E$44=\"Endémique\", IF(AND($K120>0,$K120<5), IF($K120=4,\"Inconnu\", IF($K120=1, $F120*0.33, IF($K120=2, $F120*0.5+$G120*0.2, SUM(F120:G120)))), 0),\"Non requis\")","v":632.94000000000005},0,0,0,0,null,null,null,null,null,23698,"Pecixe",null,{"$f":"'MDA1'!M120","v":0},{"$f":"'MDA3'!Q120","v":0},{"$f":"'T1'!O120","v":0},{"$f":"'T2'!M120","v":0},{"$f":"T3_R1!N120","v":0},{"$f":"T3_R2!N120","v":0}]
[{"$f":"IF(INTRO!$E$34<>0,INTRO!$E$34,\"\")","v":"Guinea Bissau"},"Cacheu","Pelundo",12557,{"$f":"IF(INTRO!$E$48=\"\",\"\",ROUND($D121*INTRO!$E$48,0))","v":1670},{"$f":"IF(INTRO!$E$49=\"\",\"\",ROUND($D121*INTRO!$E$49,0))","v":3217},{"$f":"IF(INTRO!$E$50=\"\",\"\",ROUND($D121*INTRO!$E$50,0))","v":7114},1,4,3,0,{"$f":"IF(INTRO!$E$38=\"Endémique\", IF($H121>0, IF($H121=4,\"Inconnu\", IF($H121=99,\"Interrompu\", $D121)), 0),\"Non requis\")","v":12557},{"$f":"IF(INTRO!$E$40=\"Endémique\", IF($I121>0, IF($I121=4,\"Inconnu\",IF($I121=99,\"Interrompu\", $D121)), 0),\"Non requis\")","v":"Inconnu"},{"$f":"IF(INTRO!$E$42=\"Endémique\", IF(AND($J121>1,$J121<5), IF($J121=4, \"Inconnu\", E121+F121), 0),\"Non requis\")","v":4887},{"$f":"IF(INTRO!$E$44=\"Endémique\", IF(AND($K121>0,$K121<5), IF($K121=4,\"Inconnu\", IF($K121=1, $F121*0.33, IF($K121=2, $F121*0.5+$G121*0.2, SUM(F121:G121)))), 0),\"Non requis\")","v":0},0,0,0,0,null,null,null,null,null,23699,"Pelundo",null,{"$f":"'MDA1'!M121","v":0},{"$f":"'MDA3'!Q121","v":0},{"$f":"'T1'!O121","v":0},{"$f":"'T2'!M121","v":0},{"$f":"T3_R1!N121","v":0},{"$f":"T3_R2!N121","v":0}]
[{"$f":"IF(INTRO!$E$34<>0,INTRO!$E$34,\"\")","v":"Guinea Bissau"},"Cacheu","S.Domingos",21700,{"$f":"IF(INTRO!$E$48=\"\",\"\",ROUND($D122*INTRO!$E$48,0))","v":2886},{"$f":"IF(INTRO!$E$49=\"\",\"\",ROUND($D122*INTRO!$E$49,0))","v":5560},{"$f":"IF(INTRO!$E$50=\"\",\"\",ROUND($D122*INTRO!$E$50,0))","v":12293},1,4,1,2,{"$f":"IF(INTRO!$E$38=\"Endémique\", IF($H122>0, IF($H122=4,\"Inconnu\", IF($H122=99,\"Interrompu\", $D122)), 0),\"Non requis\")","v":21700},{"$f":"IF(INTRO!$E$40=\"Endémique\", IF($I122>0, IF($I122=4,\"Inconnu\",IF($I122=99,\"Interrompu\", $D122)), 0),\"Non requis\")","v":"Inconnu"},{"$f":"IF(INTRO!$E$42=\"Endémique\", IF(AND($J122>1,$J122<5), IF($J122=4, \"Inconnu\", E122+F122), 0),\"Non requis\")","v":0},{"$f":"IF(INTRO!$E$44=\"Endémique\", IF(AND($K122>0,$K122<5), IF($K122=4,\"Inconnu\", IF($K122=1, $F122*0.33, IF($K122=2, $F122*0.5+$G122*0.2, SUM(F122:G122)))), 0),\"Non requis\")","v":5238.6000000000004},0,0,0,0,null,null,null,null,null,23687,"S.Domingos",null,{"$f":"'MDA1'!M122","v":0},{"$f":"'MDA3'!Q122","v":0},{"$f":"'T1'!O122","v":0},{"$f":"'T2'!M122","v":0},{"$f":"T3_R1!N122","v":0},{"$f":"T3_R2!N122","v":0}]
[{"$f":"IF(INTRO!$E$34<>0,INTRO!$E$34,\"\")","v":"Guinea Bissau"},"Cacheu","Sedengal",15002,{"$f":"IF(INTRO!$E$48=\"\",\"\",ROUND($D123*INTRO!$E$48,0))","v":1995},{"$f":"IF(INTRO!$E$49=\"\",\"\",ROUND($D123*INTRO!$E$49,0))","v":3844},{"$f":"IF(INTRO!$E$50=\"\",\"\",ROUND($D123*INTRO!$E$50,0))","v":8499},1,4,3,0,{"$f":"IF(INTRO!$E$38=\"Endémique\", IF($H123>0, IF($H123=4,\"Inconnu\", IF($H123=99,\"Interrompu\", $D123)), 0),\"Non requis\")","v":15002},{"$f":"IF(INTRO!$E$40=\"Endémique\", IF($I123>0, IF($I123=4,\"Inconnu\",IF($I123=99,\"Interrompu\", $D123)), 0),\"Non requis\")","v":"Inconnu"},{"$f":"IF(INTRO!$E$42=\"Endémique\", IF(AND($J123>1,$J123<5), IF($J123=4, \"Inconnu\", E123+F123), 0),\"Non requis\")","v":5839},{"$f":"IF(INTRO!$E$44=\"Endémique\", IF(AND($K123>0,$K123<5), IF($K123=4,\"Inconnu\", IF($K123=1, $F123*0.33, IF($K123=2, $F123*0.5+$G123*0.2, SUM(F123:G123)))), 0),\"Non requis\")","v":0},0,0,0,0,null,null,null,null,null,23700,"Sedengal",null,{"$f":"'MDA1'!M123","v":0},{"$f":"'MDA3'!Q123","v":0},{"$f":"'T1'!O123","v":0},{"$f":"'T2'!M123","v":0},{"$f":"T3_R1!N123","v":0},{"$f":"T3_R2!N123","v":0}]
[{"$f":"IF(INTRO!$E$34<>0,INTRO!$E$34,\"\")","v":"Guinea Bissau"},"Cacheu","Suzana",10321,{"$f":"IF(INTRO!$E$48=\"\",\"\",ROUND($D124*INTRO!$E$48,0))","v":1373},{"$f":"IF(INTRO!$E$49=\"\",\"\",ROUND($D124*INTRO!$E$49,0))","v":2644},{"$f":"IF(INTRO!$E$50=\"\",\"\",ROUND($D124*INTRO!$E$50,0))","v":5847},1,4,3,2,{"$f":"IF(INTRO!$E$38=\"Endémique\", IF($H124>0, IF($H124=4,\"Inconnu\", IF($H124=99,\"Interrompu\", $D124)), 0),\"Non requis\")","v":10321},{"$f":"IF(INTRO!$E$40=\"Endémique\", IF($I124>0, IF($I124=4,\"Inconnu\",IF($I124=99,\"Interrompu\", $D124)), 0),\"Non requis\")","v":"Inconnu"},{"$f":"IF(INTRO!$E$42=\"Endémique\", IF(AND($J124>1,$J124<5), IF($J124=4, \"Inconnu\", E124+F124), 0),\"Non requis\")","v":4017},{"$f":"IF(INTRO!$E$44=\"Endémique\", IF(AND($K124>0,$K124<5), IF($K124=4,\"Inconnu\", IF($K124=1, $F124*0.33, IF($K124=2, $F124*0.5+$G124*0.2, SUM(F124:G124)))), 0),\"Non requis\")","v":2491.4},0,0,0,0,null,null,null,null,null,23701,"Suzana",null,{"$f":"'MDA1'!M124","v":0},{"$f":"'MDA3'!Q124","v":0},{"$f":"'T1'!O124","v":0},{"$f":"'T2'!M124","v":0},{"$f":"T3_R1!N124","v":0},{"$f":"T3_R2!N124","v":0}]
[{"$f":"IF(INTRO!$E$34<>0,INTRO!$E$34,\"\")","v":"Guinea Bissau"},"Cacheu","Varela",11953,{"$f":"IF(INTRO!$E$48=\"\",\"\",ROUND($D125*INTRO!$E$48,0))","v":1590},{"$f":"IF(INTRO!$E$49=\"\",\"\",ROUND($D125*INTRO!$E$49,0))","v":3062},{"$f":"IF(INTRO!$E$50=\"\",\"\",ROUND($D125*INTRO!$E$50,0))","v":6771},1,4,3,0,{"$f":"IF(INTRO!$E$38=\"Endémique\", IF($H125>0, IF($H125=4,\"Inconnu\", IF($H125=99,\"Interrompu\", $D125)), 0),\"Non requis\")","v":11953},{"$f":"IF(INTRO!$E$40=\"Endémique\", IF($I125>0, IF($I125=4,\"Inconnu\",IF($I125=99,\"Interrompu\", $D125)), 0),\"Non requis\")","v":"Inconnu"},{"$f":"IF(INTRO!$E$42=\"Endémique\", IF(AND($J125>1,$J125<5), IF($J125=4, \"Inconnu\", E125+F125), 0),\"Non requis\")","v":4652},{"$f":"IF(INTRO!$E$44=\"Endémique\", IF(AND($K125>0,$K125<5), IF($K125=4,\"Inconnu\", IF($K125=1, $F125*0.33, IF($K125=2, $F125*0.5+$G125*0.2, SUM(F125:G125)))), 0),\"Non requis\")","v":0},0,0,0,0,null,null,null,null,null,23702,"Varela",null,{"$f":"'MDA1'!M125","v":0},{"$f":"'MDA3'!Q125","v":0},{"$f":"'T1'!O125","v":0},{"$f":"'T2'!M125","v":0},{"$f":"T3_R1!N125","v":0},{"$f":"T3_R2!N125","v":0}]

{"sheet":"MDA1","index":2,"n_rows":125,"n_cols":17,"rows_kept":125,"cut":false,"hidden":false,"merged":[[5,13,5,16],[3,0,3,2],[5,0,5,2],[5,5,5,8],[5,9,5,12],[5,3,6,3],[5,4,6,4]]}
["MDA 1 - Ivermectine (IVM) et Albendazole (ALB)"]
["Structure administrative, population nécessitant une chimioprévention par groupe d'âge, population traitée par groupe d'âge et couverture"]
[]
["TOTAL",null,null,null,null,null,{"$f":"SUM(G$9:G$1000)","v":86338},{"$f":"SUM(H$9:H$1000)","v":190905},{"$f":"SUM(I$9:I$1000)","v":277243},null,{"$f":"SUM(K$9:K$1000)","v":112702},{"$f":"SUM(L$9:L$1000)","v":119859},{"$f":"SUM(M$9:M$1000)","v":232561},null,{"$f":"IF(G4<>0, IF(K4/G4*100=0, \"-\", K4/G4*100), \" \")","v":130.5358011536056},{"$f":"IF(H4<>0, IF(L4/H4*100=0, \"-\", L4/H4*100), \" \")","v":62.784631099237842},{"$f":"IF(I4<>0, IF(M4/I4*100=0, \"-\", M4/I4*100), \" \")","v":83.883452422603995}]
[]
["Structure administrative du pays",null,null,"Mise en oeuvre \nde la CP","Date","Population ciblée pour MDA 1",null,null,null,"Population traitée",null,null,null,"Couverture du Programme (%)"]
["Pays","Région/Département","District",null,null,"EAPréS","EAS","Adultes","Total","EAPréS","EAS","Adultes","Total","EAPréS","EAS","Adultes","Total"]
[]
[{"$f":"IF(COUNTRY_INFO!A9=0,\" \",COUNTRY_INFO!A9)","v":"Guinea Bissau"},{"$f":"IF(COUNTRY_INFO!B9=0,\" \",COUNTRY_INFO!B9)","v":"SAB"},{"$f":"IF(COUNTRY_INFO!C9=0,\" \",COUNTRY_INFO!C9)","v":"AJUDA"},{"$f":"IF(COUNTRY_INFO!$T$9:$T$1000=\"MDA1 (IVM+ALB)\", COUNTRY_INFO!$T$9:$T$1000, \" \")","v":" "},null,null,null,null,{"$f":"SUM(F9:H9)","v":0},null,null,null,{"$f":"SUM(J9:L9)","v":0},null,{"$f":"IF(G9<>0, IF(K9/G9*100=0, \"-\", K9/G9*100), \" \")","v":" "},{"$f":"IF(H9<>0, IF(L9/H9*100=0, \"-\", L9/H9*100), \" \")","v":" "}," "]
[{"$f":"IF(COUNTRY_INFO!A10=0,\" \",COUNTRY_INFO!A10)","v":"Guinea Bissau"},{"$f":"IF(COUNTRY_INFO!B10=0,\" \",COUNTRY_INFO!B10)","v":"SAB"},{"$f":"IF(COUNTRY_INFO!C10=0,\" \",COUNTRY_INFO!C10)","v":"ANTULA"},{"$f":"IF(COUNTRY_INFO!$T$9:$T$1000=\"MDA1 (IVM+ALB)\", COUNTRY_INFO!$T$9:$T$1000, \" \")","v":" "},null,null,null,null,{"$f":"SUM(F10:H10)","v":0},null,null,null,{"$f":"SUM(J10:L10)","v":0},null,{"$f":"IF(G10<>0, IF(K10/G10*100=0, \"-\", K10/G10*100), \" \")","v":" "},{"$f":"IF(H10<>0, IF(L10/H10*100=0, \"-\", L10/H10*100), \" \")","v":" "},{"$f":"IF(I10<>0, IF(M10/I10*100=0, \"-\", M10/I10*100), \" \")","v":" "}]
[{"$f":"IF(COUNTRY_INFO!A11=0,\" \",COUNTRY_INFO!A11)","v":"Guinea Bissau"},{"$f":"IF(COUNTRY_INFO!B11=0,\" \",COUNTRY_INFO!B11)","v":"SAB"},{"$f":"IF(COUNTRY_INFO!C11=0,\" \",COUNTRY_INFO!C11)","v":"B. MILITAR"},{"$f":"IF(COUNTRY_INFO!$T$9:$T$1000=\"MDA1 (IVM+ALB)\", COUNTRY_INFO!$T$9:$T$1000, \" \")","v":" "},null,null,null,null,0,null,null,null,0,null," "," "," "]
[{"$f":"IF(COUNTRY_INFO!A12=0,\" \",COUNTRY_INFO!A12)","v":"Guinea Bissau"},{"$f":"IF(COUNTRY_INFO!B12=0,\" \",COUNTRY_INFO!B12)","v":"SAB"},{"$f":"IF(COUNTRY_INFO!C12=0,\" \",COUNTRY_INFO!C12)","v":"BANDIM"},{"$f":"IF(COUNTRY_INFO!$T$9:$T$1000=\"MDA1 (IVM+ALB)\", COUNTRY_INFO!$T$9:$T$1000, \" \")","v":" "},null,null,null,null,0,null,null,null,0,null," "," "," "]
[{"$f":"IF(COUNTRY_INFO!A13=0,\" \",COUNTRY_INFO!A13)","v":"Guinea Bissau"},{"$f":"IF(COUNTRY_INFO!B13=0,\" \",COUNTRY_INFO!B13)","v":"SAB"},{"$f":"IF(COUNTRY_INFO!C13=0,\" \",COUNTRY_INFO!C13)","v":"BELEM"},{"$f":"IF(COUNTRY_INFO!$T$9:$T$1000=\"MDA1 (IVM+ALB)\", COUNTRY_INFO!$T$9:$T$1000, \" \")","v":" "},null,null,null,null,0,null,null,null,0,null," "," "," "]
[{"$f":"IF(COUNTRY_INFO!A14=0,\" \",COUNTRY_INFO!A14)","v":"Guinea Bissau"},{"$f":"IF(COUNTRY_INFO!B14=0,\" \",COUNTRY_INFO!B14)","v":"SAB"},{"$f":"IF(COUNTRY_INFO!C14=0,\" \",COUNTRY_INFO!C14)","v":"CMI"},{"$f":"IF(COUNTRY_INFO!$T$9:$T$1000=\"MDA1 (IVM+ALB)\", COUNTRY_INFO!$T$9:$T$1000, \" \")","v":" "},null,null,null,null,0,null,null,null,0,null," "," "," "]
[{"$f":"IF(COUNTRY_INFO!A15=0,\" \",COUNTRY_INFO!A15)","v":"Guinea Bissau"},{"$f":"IF(COUNTRY_INFO!B15=0,\" \",COUNTRY_INFO!B15)","v":"SAB"},{"$f":"IF(COUNTRY_INFO!C15=0,\" \",COUNTRY_INFO!C15)","v":"CUNTUM"},{"$f":"IF(COUNTRY_INFO!$T$9:$T$1000=\"MDA1 (IVM+ALB)\", COUNTRY_INFO!$T$9:$T$1000, \" \")","v":" "},null,null,null,null,0,null,null,null,0,null," "," "," "]
[{"$f":"IF(COUNTRY_INFO!A16=0,\" \",COUNTRY_INFO!A16)","v":"Guinea Bissau"},{"$f":"IF(COUNTRY_INFO!B16=0,\" \",COUNTRY_INFO!B16)","v":"SAB"},{"$f":"IF(COUNTRY_INFO!C16=0,\" \",COUNTRY_INFO!C16)","v":"LUANDA"},{"$f":"IF(COUNTRY_INFO!$T$9:$T$1000=\"MDA1 (IVM+ALB)\", COUNTRY_INFO!$T$9:$T$1000, \" \")","v":" "},null,null,null,null,0,null,null,null,0,null," "," "," "]
[{"$f":"IF(COUNTRY_INFO!A17=0,\" \",COUNTRY_INFO!A17)","v":"Guinea Bissau"},{"$f":"IF(COUNTRY_INFO!B17=0,\" \",COUNTRY_INFO!B17)","v":"SAB"},{"$f":"IF(COUNTRY_INFO!C17=0,\" \",COUNTRY_INFO!C17)","v":"MISSIRA"},{"$f":"IF(COUNTRY_INFO!$T$9:$T$1000=\"MDA1 (IVM+ALB)\", COUNTRY_INFO!$T$9:$T$1000, \" \")","v":" "},null,null,null,null,0,null,null,null,0,null," "," "," "]
[{"$f":"IF(COUNTRY_INFO!A18=0,\" \",COUNTRY_INFO!A18)","v":"Guinea Bissau"},{"$f":"IF(COUNTRY_INFO!B18=0,\" \",COUNTRY_INFO!B18)","v":"SAB"},{"$f":"IF(COUNTRY_INFO!C18=0,\" \",COUNTRY_INFO!C18)","v":"PEFINE"},{"$f":"IF(COUNTRY_INFO!$T$9:$T$1000=\"MDA1 (IVM+ALB)\", COUNTRY_INFO!$T$9:$T$1000, \" \")","v":" "},null,null,null,null,0,null,null,null,0,null," "," "," "]
[{"$f":"IF(COUNTRY_INFO!A19=0,\" \",COUNTRY_INFO!A19)","v":"Guinea Bissau"},{"$f":"IF(COUNTRY_INFO!B19=0,\" \",COUNTRY_INFO!B19)","v":"SAB"},{"$f":"IF(COUNTRY_INFO!C19=0,\" \",COUNTRY_INFO!C19)","v":"PLACK II"},{"$f":"IF(COUNTRY_INFO!$T$9:$T$1000=\"MDA1 (IVM+ALB)\", COUNTRY_INFO!$T$9:$T$1000, \" \")","v":" "},null,null,null,null,0,null,null,null,0,null," "," "," "]
[{"$f":"IF(COUNTRY_INFO!A20=0,\" \",COUNTRY_INFO!A20)","v":"Guinea Bissau"},{"$f":"IF(COUNTRY_INFO!B20=0,\" \",COUNTRY_INFO!B20)","v":"SAB"},{"$f":"IF(COUNTRY_INFO!C20=0,\" \",COUNTRY_INFO!C20)","v":"QUELELE"},{"$f":"IF(COUNTRY_INFO!$T$9:$T$1000=\"MDA1 (IVM+ALB)\", COUNTRY_INFO!$T$9:$T$1000, \" \")","v":" "},null,null,null,null,0,null,null,null,0,null," "," "," "]
[{"$f":"IF(COUNTRY_INFO!A21=0,\" \",COUNTRY_INFO!A21)","v":"Guinea Bissau"},{"$f":"IF(COUNTRY_INFO!B21=0,\" \",COUNTRY_INFO!B21)","v":"SAB"},{"$f":"IF(COUNTRY_INFO!C21=0,\" \",COUNTRY_INFO!C21)","v":"SANTA LUZIA"},{"$f":"IF(COUNTRY_INFO!$T$9:$T$1000=\"MDA1 (IVM+ALB)\", COUNTRY_INFO!$T$9:$T$1000, \" \")","v":" "},null,null,null,null,0,null,null,null,0,null," "," "," "]
[{"$f":"IF(COUNTRY_INFO!A22=0,\" \",COUNTRY_INFO!A22)","v":"Guinea Bissau"},{"$f":"IF(COUNTRY_INFO!B22=0,\" \",COUNTRY_INFO!B22)","v":"SAB"},{"$f":"IF(COUNTRY_INFO!C22=0,\" \",COUNTRY_INFO!C22)","v":"SINTRA NEMA"},{"$f":"IF(COUNTRY_INFO!$T$9:$T$1000=\"MDA1 (IVM+ALB)\", COUNTRY_INFO!$T$9:$T$1000, \" \")","v":" "},null,null,null,null,0,null,null,null,0,null," "," "," "]
[{"$f":"IF(COUNTRY_INFO!A23=0,\" \",COUNTRY_INFO!A23)","v":"Guinea Bissau"},{"$f":"IF(COUNTRY_INFO!B23=0,\" \",COUNTRY_INFO!B23)","v":"Bijagos"},{"$f":"IF(COUNTRY_INFO!C23=0,\" \",COUNTRY_INFO!C23)","v":"Bubaque"},{"$f":"IF(COUNTRY_INFO!$T$9:$T$1000=\"MDA1 (IVM+ALB)\", COUNTRY_INFO!$T$9:$T$1000, \" \")","v":"MDA1 (IVM+ALB)"},"29/01/2021",null,2028,4484,6512,null,2451,2540,4991,null,120.85798816568047,56.645851917930422,76.643120393120384]
[{"$f":"IF(COUNTRY_INFO!A24=0,\" \",COUNTRY_INFO!A24)","v":"Guinea Bissau"},{"$f":"IF(COUNTRY_INFO!B24=0,\" \",COUNTRY_INFO!B24)","v":"Bijagos"},{"$f":"IF(COUNTRY_INFO!C24=0,\" \",COUNTRY_INFO!C24)","v":"Canhabaque"},{"$f":"IF(COUNTRY_INFO!$T$9:$T$1000=\"MDA1 (IVM+ALB)\", COUNTRY_INFO!$T$9:$T$1000, \" \")","v":"MDA1 (IVM+ALB)"},"29/01/2021",null,798,1764,2562,null,1240,1223,2463,null,155.38847117794487,69.331065759637184,96.135831381733013]
[{"$f":"IF(COUNTRY_INFO!A25=0,\" \",COUNTRY_INFO!A25)","v":"Guinea Bissau"},{"$f":"IF(COUNTRY_INFO!B25=0,\" \",COUNTRY_INFO!B25)","v":"Bijagos"},{"$f":"IF(COUNTRY_INFO!C25=0,\" \",COUNTRY_INFO!C25)","v":"Canogo"},{"$f":"IF(COUNTRY_INFO!$T$9:$T$1000=\"MDA1 (IVM+ALB)\", COUNTRY_INFO!$T$9:$T$1000, \" \")","v":"MDA1 (IVM+ALB)"},"29/01/2021",null,182,403,585,null,285,257,542,null,156.5934065934066,63.771712158808938,92.649572649572647]
[{"$f":"IF(COUNTRY_INFO!A26=0,\" \",COUNTRY_INFO!A26)","v":"Guinea Bissau"},{"$f":"IF(COUNTRY_INFO!B26=0,\" \",COUNTRY_INFO!B26)","v":"Bijagos"},{"$f":"IF(COUNTRY_INFO!C26=0,\" \",COUNTRY_INFO!C26)","v":"Caravela"},{"$f":"IF(COUNTRY_INFO!$T$9:$T$1000=\"MDA1 (IVM+ALB)\", COUNTRY_INFO!$T$9:$T$1000, \" \")","v":"MDA1 (IVM+ALB)"},"29/01/2021",null,565,1250,1815,null,737,743,1480,null,130.44247787610618,59.440000000000005,81.542699724517902]
[{"$f":"IF(COUNTRY_INFO!A27=0,\" \",COUNTRY_INFO!A27)","v":"Guinea Bissau"},{"$f":"IF(COUNTRY_INFO!B27=0,\" \",COUNTRY_INFO!B27)","v":"Bijagos"},{"$f":"IF(COUNTRY_INFO!C27=0,\" \",COUNTRY_INFO!C27)","v":"Formosa"},{"$f":"IF(COUNTRY_INFO!$T$9:$T$1000=\"MDA1 (IVM+ALB)\", COUNTRY_INFO!$T$9:$T$1000, \" \")","v":"MDA1 (IVM+ALB)"},"29/01/2021",null,934,2064,2998,null,1350,1279,2629,null,144.53961456102783,61.967054263565892,87.691794529686462]
[{"$f":"IF(COUNTRY_INFO!A28=0,\" \",COUNTRY_INFO!A28)","v":"Guinea Bissau"},{"$f":"IF(COUNTRY_INFO!B28=0,\" \",COUNTRY_INFO!B28)","v":"Bijagos"},{"$f":"IF(COUNTRY_INFO!C28=0,\" \",COUNTRY_INFO!C28)","v":"Orango Grande"},{"$f":"IF(COUNTRY_INFO!$T$9:$T$1000=\"MDA1 (IVM+ALB)\", COUNTRY_INFO!$T$9:$T$1000, \" \")","v":"MDA1 (IVM+ALB)"},"29/01/2021",null,392,867,1259,null,566,550,1116,null,144.38775510204081,63.437139561707035,88.641779189833201]
[{"$f":"IF(COUNTRY_INFO!A29=0,\" \",COUNTRY_INFO!A29)","v":"Guinea Bissau"},{"$f":"IF(COUNTRY_INFO!B29=0,\" \",COUNTRY_INFO!B29)","v":"Bijagos"},{"$f":"IF(COUNTRY_INFO!C29=0,\" \",COUNTRY_INFO!C29)","v":"Orango zinho"},{"$f":"IF(COUNTRY_INFO!$T$9:$T$1000=\"MDA1 (IVM+ALB)\", COUNTRY_INFO!$T$9:$T$1000, \" \")","v":"MDA1 (IVM+ALB)"},"29/01/2021",null,222,490,712,null,389,465,854,null,175.22522522522524,94.897959183673478,119.9438202247191]
[{"$f":"IF(COUNTRY_INFO!A30=0,\" \",COUNTRY_INFO!A30)","v":"Guinea Bissau"},{"$f":"IF(COUNTRY_INFO!B30=0,\" \",COUNTRY_INFO!B30)","v":"Bijagos"},{"$f":"IF(COUNTRY_INFO!C30=0,\" \",COUNTRY_INFO!C30)","v":"Soga"},{"$f":"IF(COUNTRY_INFO!$T$9:$T$1000=\"MDA1 (IVM+ALB)\", COUNTRY_INFO!$T$9:$T$1000, \" \")","v":"MDA1 (IVM+ALB)"},"29/01/2021",null,264,585,849,null,322,388,710,null,121.96969696969697,66.324786324786317,83.627797408716134]
[{"$f":"IF(COUNTRY_INFO!A31=0,\" \",COUNTRY_INFO!A31)","v":"Guinea Bissau"},{"$f":"IF(COUNTRY_INFO!B31=0,\" \",COUNTRY_INFO!B31)","v":"Bijagos"},{"$f":"IF(COUNTRY_INFO!C31=0,\" \",COUNTRY_INFO!C31)","v":"Unhocomo"},{"$f":"IF(COUNTRY_INFO!$T$9:$T$1000=\"MDA1 (IVM+ALB)\", COUNTRY_INFO!$T$9:$T$1000, \" \")","v":"MDA1 (IVM+ALB)"},"29/01/2021",null,266,588,854,null,311,344,655,null,116.9172932330827,58.503401360544217,76.697892271662766]
[{"$f":"IF(COUNTRY_INFO!A32=0,\" \",COUNTRY_INFO!A32)","v":"Guinea Bissau"},{"$f":"IF(COUNTRY_INFO!B32=0,\" \",COUNTRY_INFO!B32)","v":"Bijagos"},{"$f":"IF(COUNTRY_INFO!C32=0,\" \",COUNTRY_INFO!C32)","v":"Uno"},{"$f":"IF(COUNTRY_INFO!$T$9:$T$1000=\"MDA1 (IVM+ALB)\", COUNTRY_INFO!$T$9:$T$1000, \" \")","v":"MDA1 (IVM+ALB)"},"29/01/2021",null,1044,2308,3352,null,1734,1732,3466,null,166.09195402298852,75.043327556325821,103.40095465393794]
[{"$f":"IF(COUNTRY_INFO!A33=0,\" \",COUNTRY_INFO!A33)","v":"Guinea Bissau"},{"$f":"IF(COUNTRY_INFO!B33=0,\" \",COUNTRY_INFO!B33)","v":"Bijagos"},{"$f":"IF(COUNTRY_INFO!C33=0,\" \",COUNTRY_INFO!C33)","v":"Uracane"},{"$f":"IF(COUNTRY_INFO!$T$9:$T$1000=\"MDA1 (IVM+ALB)\", COUNTRY_INFO!$T$9:$T$1000, \" \")","v":"MDA1 (IVM+ALB)"},"29/01/2021",null,485,1072,1557,null,655,756,1411,null,135.05154639175259,70.522388059701484,90.622992935131663]
[{"$f":"IF(COUNTRY_INFO!A34=0,\" \",COUNTRY_INFO!A34)","v":"Guinea Bissau"},{"$f":"IF(COUNTRY_INFO!B34=0,\" \",COUNTRY_INFO!B34)","v":"Biombo"},{"$f":"IF(COUNTRY_INFO!C34=0,\" \",COUNTRY_INFO!C34)","v":"BIJIMITA"},{"$f":"IF(COUNTRY_INFO!$T$9:$T$1000=\"MDA1 (IVM+ALB)\", COUNTRY_INFO!$T$9:$T$1000, \" \")","v":" "},null,null,null,null,0,null,null,null,0,null," "," "," "]
[{"$f":"IF(COUNTRY_INFO!A35=0,\" \",COUNTRY_INFO!A35)","v":"Guinea Bissau"},{"$f":"IF(COUNTRY_INFO!B35=0,\" \",COUNTRY_INFO!B35)","v":"Biombo"},{"$f":"IF(COUNTRY_INFO!C35=0,\" \",COUNTRY_INFO!C35)","v":"CUMURA"},{"$f":"IF(COUNTRY_INFO!$T$9:$T$1000=\"MDA1 (IVM+ALB)\", COUNTRY_INFO!$T$9:$T$1000, \" \")","v":" "},null,null,null,null,0,null,null,null,0,null," "," "," "]
[{"$f":"IF(COUNTRY_INFO!A36=0,\" \",COUNTRY_INFO!A36)","v":"Guinea Bissau"},{"$f":"IF(COUNTRY_INFO!B36=0,\" \",COUNTRY_INFO!B36)","v":"Biombo"},{"$f":"IF(COUNTRY_INFO!C36=0,\" \",COUNTRY_INFO!C36)","v":"DORSE"},{"$f":"IF(COUNTRY_INFO!$T$9:$T$1000=\"MDA1 (IVM+ALB)\", COUNTRY_INFO!$T$9:$T$1000, \" \")","v":" "},null,null,null,null,0,null,null,null,0,null," "," "," "]
[{"$f":"IF(COUNTRY_INFO!A37=0,\" \",COUNTRY_INFO!A37)","v":"Guinea Bissau"},{"$f":"IF(COUNTRY_INFO!B37=0,\" \",COUNTRY_INFO!B37)","v":"Biombo"},{"$f":"IF(COUNTRY_INFO!C37=0,\" \",COUNTRY_INFO!C37)","v":"ILONDE"},{"$f":"IF(COUNTRY_INFO!$T$9:$T$1000=\"MDA1 (IVM+ALB)\", COUNTRY_INFO!$T$9:$T$1000, \" \")","v":" "},null,null,null,null,0,null,null,null,0,null," "," "," "]
[{"$f":"IF(COUNTRY_INFO!A38=0,\" \",COUNTRY_INFO!A38)","v":"Guinea Bissau"},{"$f":"IF(COUNTRY_INFO!B38=0,\" \",COUNTRY_INFO!B38)","v":"Biombo"},{"$f":"IF(COUNTRY_INFO!C38=0,\" \",COUNTRY_INFO!C38)","v":"ONDAME"},{"$f":"IF(COUNTRY_INFO!$T$9:$T$1000=\"MDA1 (IVM+ALB)\", COUNTRY_INFO!$T$9:$T$1000, \" \")","v":" "},null,null,null,null,0,null,null,null,0,null," "," "," "]
[{"$f":"IF(COUNTRY_INFO!A39=0,\" \",COUNTRY_INFO!A39)","v":"Guinea Bissau"},{"$f":"IF(COUNTRY_INFO!B39=0,\" \",COUNTRY_INFO!B39)","v":"Biombo"},{"$f":"IF(COUNTRY_INFO!C39=0,\" \",COUNTRY_INFO!C39)","v":"PRABIS"},{"$f":"IF(COUNTRY_INFO!$T$9:$T$1000=\"MDA1 (IVM+ALB)\", COUNTRY_INFO!$T$9:$T$1000, \" \")","v":" "},null,null,null,null,0,null,null,null,0,null," "," "," "]
[{"$f":"IF(COUNTRY_INFO!A40=0,\" \",COUNTRY_INFO!A40)","v":"Guinea Bissau"},{"$f":"IF(COUNTRY_INFO!B40=0,\" \",COUNTRY_INFO!B40)","v":"Biombo"},{"$f":"IF(COUNTRY_INFO!C40=0,\" \",COUNTRY_INFO!C40)","v":"QUINHAMEL"},{"$f":"IF(COUNTRY_INFO!$T$9:$T$1000=\"MDA1 (IVM+ALB)\", COUNTRY_INFO!$T$9:$T$1000, \" \")","v":" "},null,null,null,null,0,null,null,null,0,null," "," "," "]
[{"$f":"IF(COUNTRY_INFO!A41=0,\" \",COUNTRY_INFO!A41)","v":"Guinea Bissau"},{"$f":"IF(COUNTRY_INFO!B41=0,\" \",COUNTRY_INFO!B41)","v":"Biombo"},{"$f":"IF(COUNTRY_INFO!C41=0,\" \",COUNTRY_INFO!C41)","v":"SAFIM"},{"$f":"IF(COUNTRY_INFO!$T$9:$T$1000=\"MDA1 (IVM+ALB)\", COUNTRY_INFO!$T$9:$T$1000, \" \")","v":" "},null,null,null,null,0,null,null,null,0,null," "," "," "]
[{"$f":"IF(COUNTRY_INFO!A42=0,\" \",COUNTRY_INFO!A42)","v":"Guinea Bissau"},{"$f":"IF(COUNTRY_INFO!B42=0,\" \",COUNTRY_INFO!B42)","v":"Farim"},{"$f":"IF(COUNTRY_INFO!C42=0,\" \",COUNTRY_INFO!C42)","v":"BINTA"},{"$f":"IF(COUNTRY_INFO!$T$9:$T$1000=\"MDA1 (IVM+ALB)\", COUNTRY_INFO!$T$9:$T$1000, \" \")","v":" "},null,null,null,null,0,null,null,null,0,null," "," "," "]
[{"$f":"IF(COUNTRY_INFO!A43=0,\" \",COUNTRY_INFO!A43)","v":"Guinea Bissau"},{"$f":"IF(COUNTRY_INFO!B43=0,\" \",COUNTRY_INFO!B43)","v":"Farim"},{"$f":"IF(COUNTRY_INFO!C43=0,\" \",COUNTRY_INFO!C43)","v":"CANDJAMBARI"},{"$f":"IF(COUNTRY_INFO!$T$9:$T$1000=\"MDA1 (IVM+ALB)\", COUNTRY_INFO!$T$9:$T$1000, \" \")","v":" "},null,null,null,null,0,null,null,null,0,null," "," "," "]
[{"$f":"IF(COUNTRY_INFO!A44=0,\" \",COUNTRY_INFO!A44)","v":"Guinea Bissau"},{"$f":"IF(COUNTRY_INFO!B44=0,\" \",COUNTRY_INFO!B44)","v":"Farim"},{"$f":"IF(COUNTRY_INFO!C44=0,\" \",COUNTRY_INFO!C44)","v":"CUNTIMA"},{"$f":"IF(COUNTRY_INFO!$T$9:$T$1000=\"MDA1 (IVM+ALB)\", COUNTRY_INFO!$T$9:$T$1000, \" \")","v":" "},null,null,null,null,0,null,null,null,0,null," "," "," "]
[{"$f":"IF(COUNTRY_INFO!A45=0,\" \",COUNTRY_INFO!A45)","v":"Guinea Bissau"},{"$f":"IF(COUNTRY_INFO!B45=0,\" \",COUNTRY_INFO!B45)","v":"Farim"},{"$f":"IF(COUNTRY_INFO!C45=0,\" \",COUNTRY_INFO!C45)","v":"FARIM"},{"$f":"IF(COUNTRY_INFO!$T$9:$T$1000=\"MDA1 (IVM+ALB)\", COUNTRY_INFO!$T$9:$T$1000, \" \")","v":" "},null,null,null,null,0,null,null,null,0,null," "," "," "]
[{"$f":"IF(COUNTRY_INFO!A46=0,\" \",COUNTRY_INFO!A46)","v":"Guinea Bissau"},{"$f":"IF(COUNTRY_INFO!B46=0,\" \",COUNTRY_INFO!B46)","v":"Farim"},{"$f":"IF(COUNTRY_INFO!C46=0,\" \",COUNTRY_INFO!C46)","v":"GUIDAGE"},{"$f":"IF(COUNTRY_INFO!$T$9:$T$1000=\"MDA1 (IVM+ALB)\", COUNTRY_INFO!$T$9:$T$1000, \" \")","v":" "},null,null,null,null,0,null,null,null,0,null," "," "," "]
[{"$f":"IF(COUNTRY_INFO!A47=0,\" \",COUNTRY_INFO!A47)","v":"Guinea Bissau"},{"$f":"IF(COUNTRY_INFO!B47=0,\" \",COUNTRY_INFO!B47)","v":"Oio"},{"$f":"IF(COUNTRY_INFO!C47=0,\" \",COUNTRY_INFO!C47)","v":"BINAR"},{"$f":"IF(COUNTRY_INFO!$T$9:$T$1000=\"MDA1 (IVM+ALB)\", COUNTRY_INFO!$T$9:$T$1000, \" \")","v":"MDA1 (IVM+ALB)"},"19/03/2021",null,4020,8888,12908,null,5871,5785,11656,null,146.044776119403,65.087758775877589,90.300588782150598]
[{"$f":"IF(COUNTRY_INFO!A48=0,\" \",COUNTRY_INFO!A48)","v":"Guinea Bissau"},{"$f":"IF(COUNTRY_INFO!B48=0,\" \",COUNTRY_INFO!B48)","v":"Oio"},{"$f":"IF(COUNTRY_INFO!C48=0,\" \",COUNTRY_INFO!C48)","v":"BISSORA"},{"$f":"IF(COUNTRY_INFO!$T$9:$T$1000=\"MDA1 (IVM+ALB)\", COUNTRY_INFO!$T$9:$T$1000, \" \")","v":"MDA1 (IVM+ALB)"},"19/03/2021",null,11881,26270,38151,null,14087,15294,29381,null,118.56746065146031,58.218500190331177,77.012398102277785]
[{"$f":"IF(COUNTRY_INFO!A49=0,\" \",COUNTRY_INFO!A49)","v":"Guinea Bissau"},{"$f":"IF(COUNTRY_INFO!B49=0,\" \",COUNTRY_INFO!B49)","v":"Oio"},{"$f":"IF(COUNTRY_INFO!C49=0,\" \",COUNTRY_INFO!C49)","v":"ENCHEIA"},{"$f":"IF(COUNTRY_INFO!$T$9:$T$1000=\"MDA1 (IVM+ALB)\", COUNTRY_INFO!$T$9:$T$1000, \" \")","v":"MDA1 (IVM+ALB)"},"19/03/2021",null,3801,8404,12205,null,5241,5315,10556,null,137.88476716653514,63.243693479295573,86.489143793527248]
[{"$f":"IF(COUNTRY_INFO!A50=0,\" \",COUNTRY_INFO!A50)","v":"Guinea Bissau"},{"$f":"IF(COUNTRY_INFO!B50=0,\" \",COUNTRY_INFO!B50)","v":"Oio"},{"$f":"IF(COUNTRY_INFO!C50=0,\" \",COUNTRY_INFO!C50)","v":"GÃ-MAMUDO"},{"$f":"IF(COUNTRY_INFO!$T$9:$T$1000=\"MDA1 (IVM+ALB)\", COUNTRY_INFO!$T$9:$T$1000, \" \")","v":"MDA1 (IVM+ALB)"},"19/03/2021",null,3086,6823,9909,null,4215,4470,8685,null,136.58457550226831,65.513703649421075,87.64759309718437]
[{"$f":"IF(COUNTRY_INFO!A51=0,\" \",COUNTRY_INFO!A51)","v":"Guinea Bissau"},{"$f":"IF(COUNTRY_INFO!B51=0,\" \",COUNTRY_INFO!B51)","v":"Oio"},{"$f":"IF(COUNTRY_INFO!C51=0,\" \",COUNTRY_INFO!C51)","v":"MANSABA"},{"$f":"IF(COUNTRY_INFO!$T$9:$T$1000=\"MDA1 (IVM+ALB)\", COUNTRY_INFO!$T$9:$T$1000, \" \")","v":"MDA1 (IVM+ALB)"},"19/03/2021",null,7023,15528,22551,null,8247,9565,17812,null,117.42844938060657,61.598402885110772,78.985410846525653]
[{"$f":"IF(COUNTRY_INFO!A52=0,\" \",COUNTRY_INFO!A52)","v":"Guinea Bissau"},{"$f":"IF(COUNTRY_INFO!B52=0,\" \",COUNTRY_INFO!B52)","v":"Oio"},{"$f":"IF(COUNTRY_INFO!C52=0,\" \",COUNTRY_INFO!C52)","v":"MANSOA"},{"$f":"IF(COUNTRY_INFO!$T$9:$T$1000=\"MDA1 (IVM+ALB)\", COUNTRY_INFO!$T$9:$T$1000, \" \")","v":"MDA1 (IVM+ALB)"},"19/03/2021",null,11307,25001,36308,null,13593,14276,27869,null,120.21756434067392,57.101715931362747,76.757188498402556]
[{"$f":"IF(COUNTRY_INFO!A53=0,\" \",COUNTRY_INFO!A53)","v":"Guinea Bissau"},{"$f":"IF(COUNTRY_INFO!B53=0,\" \",COUNTRY_INFO!B53)","v":"Oio"},{"$f":"IF(COUNTRY_INFO!C53=0,\" \",COUNTRY_INFO!C53)","v":"MORES"},{"$f":"IF(COUNTRY_INFO!$T$9:$T$1000=\"MDA1 (IVM+ALB)\", COUNTRY_INFO!$T$9:$T$1000, \" \")","v":"MDA1 (IVM+ALB)"},"19/03/2021",null,2985,6601,9586,null,3646,4305,7951,null,122.14405360134005,65.217391304347828,82.943876486542877]
[{"$f":"IF(COUNTRY_INFO!A54=0,\" \",COUNTRY_INFO!A54)","v":"Guinea Bissau"},{"$f":"IF(COUNTRY_INFO!B54=0,\" \",COUNTRY_INFO!B54)","v":"Oio"},{"$f":"IF(COUNTRY_INFO!C54=0,\" \",COUNTRY_INFO!C54)","v":"NHACRA"},{"$f":"IF(COUNTRY_INFO!$T$9:$T$1000=\"MDA1 (IVM+ALB)\", COUNTRY_INFO!$T$9:$T$1000, \" \")","v":"MDA1 (IVM+ALB)"},"19/03/2021",null,7259,16051,23310,null,8794,9665,18459,null,121.14616338338615,60.214316864992831,79.189189189189193]
[{"$f":"IF(COUNTRY_INFO!A55=0,\" \",COUNTRY_INFO!A55)","v":"Guinea Bissau"},{"$f":"IF(COUNTRY_INFO!B55=0,\" \",COUNTRY_INFO!B55)","v":"Oio"},{"$f":"IF(COUNTRY_INFO!C55=0,\" \",COUNTRY_INFO!C55)","v":"OLOSSATO"},{"$f":"IF(COUNTRY_INFO!$T$9:$T$1000=\"MDA1 (IVM+ALB)\", COUNTRY_INFO!$T$9:$T$1000, \" \")","v":"MDA1 (IVM+ALB)"},"19/03/2021",null,4507,9966,14473,null,6996,9228,16224,null,155.22520523629908,92.59482239614691,112.0983901057141]
[{"$f":"IF(COUNTRY_INFO!A56=0,\" \",COUNTRY_INFO!A56)","v":"Guinea Bissau"},{"$f":"IF(COUNTRY_INFO!B56=0,\" \",COUNTRY_INFO!B56)","v":"Oio"},{"$f":"IF(COUNTRY_INFO!C56=0,\" \",COUNTRY_INFO!C56)","v":"PORTUGOL"},{"$f":"IF(COUNTRY_INFO!$T$9:$T$1000=\"MDA1 (IVM+ALB)\", COUNTRY_INFO!$T$9:$T$1000, \" \")","v":"MDA1 (IVM+ALB)"},"19/03/2021",null,1655,3660,5315,null,2204,2138,4342,null,133.17220543806647,58.415300546448087,81.693320790216376]
[{"$f":"IF(COUNTRY_INFO!A57=0,\" \",COUNTRY_INFO!A57)","v":"Guinea Bissau"},{"$f":"IF(COUNTRY_INFO!B57=0,\" \",COUNTRY_INFO!B57)","v":"Bolama"},{"$f":"IF(COUNTRY_INFO!C57=0,\" \",COUNTRY_INFO!C57)","v":"BOLAMA"},{"$f":"IF(COUNTRY_INFO!$T$9:$T$1000=\"MDA1 (IVM+ALB)\", COUNTRY_INFO!$T$9:$T$1000, \" \")","v":" "},null,null,null,null,0,null,null,null,0,null," "," "," "]
[{"$f":"IF(COUNTRY_INFO!A58=0,\" \",COUNTRY_INFO!A58)","v":"Guinea Bissau"},{"$f":"IF(COUNTRY_INFO!B58=0,\" \",COUNTRY_INFO!B58)","v":"Bolama"},{"$f":"IF(COUNTRY_INFO!C58=0,\" \",COUNTRY_INFO!C58)","v":"I.  GALINHAS"},{"$f":"IF(COUNTRY_INFO!$T$9:$T$1000=\"MDA1 (IVM+ALB)\", COUNTRY_INFO!$T$9:$T$1000, \" \")","v":" "},null,null,null,null,0,null,null,null,0,null," "," "," "]
[{"$f":"IF(COUNTRY_INFO!A59=0,\" \",COUNTRY_INFO!A59)","v":"Guinea Bissau"},{"$f":"IF(COUNTRY_INFO!B59=0,\" \",COUNTRY_INFO!B59)","v":"Bolama"},{"$f":"IF(COUNTRY_INFO!C59=0,\" \",COUNTRY_INFO!C59)","v":"SÃO-JOÃO "},{"$f":"IF(COUNTRY_INFO!$T$9:$T$1000=\"MDA1 (IVM+ALB)\", COUNTRY_INFO!$T$9:$T$1000, \" \")","v":" "},null,null,null,null,0,null,null,null,0,null," "," "," "]
[{"$f":"IF(COUNTRY_INFO!A60=0,\" \",COUNTRY_INFO!A60)","v":"Guinea Bissau"},{"$f":"IF(COUNTRY_INFO!B60=0,\" \",COUNTRY_INFO!B60)","v":"Gabu"},{"$f":"IF(COUNTRY_INFO!C60=0,\" \",COUNTRY_INFO!C60)","v":"BAJOCUNDA"},{"$f":"IF(COUNTRY_INFO!$T$9:$T$1000=\"MDA1 (IVM+ALB)\", COUNTRY_INFO!$T$9:$T$1000, \" \")","v":" "},null,null,null,null,0,null,null,null,0,null," "," "," "]
[{"$f":"IF(COUNTRY_INFO!A61=0,\" \",COUNTRY_INFO!A61)","v":"Guinea Bissau"},{"$f":"IF(COUNTRY_INFO!B61=0,\" \",COUNTRY_INFO!B61)","v":"Gabu"},{"$f":"IF(COUNTRY_INFO!C61=0,\" \",COUNTRY_INFO!C61)","v":"BELI"},{"$f":"IF(COUNTRY_INFO!$T$9:$T$1000=\"MDA1 (IVM+ALB)\", COUNTRY_INFO!$T$9:$T$1000, \" \")","v":" "},null,null,null,null,0,null,null,null,0,null," "," "," "]
[{"$f":"IF(COUNTRY_INFO!A62=0,\" \",COUNTRY_INFO!A62)","v":"Guinea Bissau"},{"$f":"IF(COUNTRY_INFO!B62=0,\" \",COUNTRY_INFO!B62)","v":"Gabu"},{"$f":"IF(COUNTRY_INFO!C62=0,\" \",COUNTRY_INFO!C62)","v":"BURUNTUMA"},{"$f":"IF(COUNTRY_INFO!$T$9:$T$1000=\"MDA1 (IVM+ALB)\", COUNTRY_INFO!$T$9:$T$1000, \" \")","v":" "},null,null,null,null,0,null,null,null,0,null," "," "," "]
[{"$f":"IF(COUNTRY_INFO!A63=0,\" \",COUNTRY_INFO!A63)","v":"Guinea Bissau"},{"$f":"IF(COUNTRY_INFO!B63=0,\" \",COUNTRY_INFO!B63)","v":"Gabu"},{"$f":"IF(COUNTRY_INFO!C63=0,\" \",COUNTRY_INFO!C63)","v":"CANJADUDE"},{"$f":"IF(COUNTRY_INFO!$T$9:$T$1000=\"MDA1 (IVM+ALB)\", COUNTRY_INFO!$T$9:$T$1000, \" \")","v":" "},null,null,null,null,0,null,null,null,0,null," "," "," "]
[{"$f":"IF(COUNTRY_INFO!A64=0,\" \",COUNTRY_INFO!A64)","v":"Guinea Bissau"},{"$f":"IF(COUNTRY_INFO!B64=0,\" \",COUNTRY_INFO!B64)","v":"Gabu"},{"$f":"IF(COUNTRY_INFO!C64=0,\" \",COUNTRY_INFO!C64)","v":"CANQUELIFA"},{"$f":"IF(COUNTRY_INFO!$T$9:$T$1000=\"MDA1 (IVM+ALB)\", COUNTRY_INFO!$T$9:$T$1000, \" \")","v":" "},null,null,null,null,0,null,null,null,0,null," "," "," "]
[{"$f":"IF(COUNTRY_INFO!A65=0,\" \",COUNTRY_INFO!A65)","v":"Guinea Bissau"},{"$f":"IF(COUNTRY_INFO!B65=0,\" \",COUNTRY_INFO!B65)","v":"Gabu"},{"$f":"IF(COUNTRY_INFO!C65=0,\" \",COUNTRY_INFO!C65)","v":"CANSISSE"},{"$f":"IF(COUNTRY_INFO!$T$9:$T$1000=\"MDA1 (IVM+ALB)\", COUNTRY_INFO!$T$9:$T$1000, \" \")","v":" "},null,null,null,null,0,null,null,null,0,null," "," "," "]
[{"$f":"IF(COUNTRY_INFO!A66=0,\" \",COUNTRY_INFO!A66)","v":"Guinea Bissau"},{"$f":"IF(COUNTRY_INFO!B66=0,\" \",COUNTRY_INFO!B66)","v":"Gabu"},{"$f":"IF(COUNTRY_INFO!C66=0,\" \",COUNTRY_INFO!C66)","v":"FASSE"},{"$f":"IF(COUNTRY_INFO!$T$9:$T$1000=\"MDA1 (IVM+ALB)\", COUNTRY_INFO!$T$9:$T$1000, \" \")","v":" "},null,null,null,null,0,null,null,null,0,null," "," "," "]
[{"$f":"IF(COUNTRY_INFO!A67=0,\" \",COUNTRY_INFO!A67)","v":"Guinea Bissau"},{"$f":"IF(COUNTRY_INFO!B67=0,\" \",COUNTRY_INFO!B67)","v":"Gabu"},{"$f":"IF(COUNTRY_INFO!C67=0,\" \",COUNTRY_INFO!C67)","v":"PAUNCA"},{"$f":"IF(COUNTRY_INFO!$T$9:$T$1000=\"MDA1 (IVM+ALB)\", COUNTRY_INFO!$T$9:$T$1000, \" \")","v":" "},null,null,null,null,0,null,null,null,0,null," "," "," "]
[{"$f":"IF(COUNTRY_INFO!A68=0,\" \",COUNTRY_INFO!A68)","v":"Guinea Bissau"},{"$f":"IF(COUNTRY_INFO!B68=0,\" \",COUNTRY_INFO!B68)","v":"Gabu"},{"$f":"IF(COUNTRY_INFO!C68=0,\" \",COUNTRY_INFO!C68)","v":"PITCHE"},{"$f":"IF(COUNTRY_INFO!$T$9:$T$1000=\"MDA1 (IVM+ALB)\", COUNTRY_INFO!$T$9:$T$1000, \" \")","v":" "},null,null,null,null,0,null,null,null,0,null," "," "," "]
[{"$f":"IF(COUNTRY_INFO!A69=0,\" \",COUNTRY_INFO!A69)","v":"Guinea Bissau"},{"$f":"IF(COUNTRY_INFO!B69=0,\" \",COUNTRY_INFO!B69)","v":"Gabu"},{"$f":"IF(COUNTRY_INFO!C69=0,\" \",COUNTRY_INFO!C69)","v":"DARA"},{"$f":"IF(COUNTRY_INFO!$T$9:$T$1000=\"MDA1 (IVM+ALB)\", COUNTRY_INFO!$T$9:$T$1000, \" \")","v":" "},null,null,null,null,0,null,null,null,0,null," "," "," "]
[{"$f":"IF(COUNTRY_INFO!A70=0,\" \",COUNTRY_INFO!A70)","v":"Guinea Bissau"},{"$f":"IF(COUNTRY_INFO!B70=0,\" \",COUNTRY_INFO!B70)","v":"Gabu"},{"$f":"IF(COUNTRY_INFO!C70=0,\" \",COUNTRY_INFO!C70)","v":"PIRADA"},{"$f":"IF(COUNTRY_INFO!$T$9:$T$1000=\"MDA1 (IVM+ALB)\", COUNTRY_INFO!$T$9:$T$1000, \" \")","v":" "},null,null,null,null,0,null,null,null,0,null," "," "," "]
[{"$f":"IF(COUNTRY_INFO!A71=0,\" \",COUNTRY_INFO!A71)","v":"Guinea Bissau"},{"$f":"IF(COUNTRY_INFO!B71=0,\" \",COUNTRY_INFO!B71)","v":"Gabu"},{"$f":"IF(COUNTRY_INFO!C71=0,\" \",COUNTRY_INFO!C71)","v":"DANDUM"},{"$f":"IF(COUNTRY_INFO!$T$9:$T$1000=\"MDA1 (IVM+ALB)\", COUNTRY_INFO!$T$9:$T$1000, \" \")","v":" "},null,null,null,null,0,null,null,null,0,null," "," "," "]
[{"$f":"IF(COUNTRY_INFO!A72=0,\" \",COUNTRY_INFO!A72)","v":"Guinea Bissau"},{"$f":"IF(COUNTRY_INFO!B72=0,\" \",COUNTRY_INFO!B72)","v":"Gabu"},{"$f":"IF(COUNTRY_INFO!C72=0,\" \",COUNTRY_INFO!C72)","v":"MANSADJAM"},{"$f":"IF(COUNTRY_INFO!$T$9:$T$1000=\"MDA1 (IVM+ALB)\", COUNTRY_INFO!$T$9:$T$1000, \" \")","v":" "},null,null,null,null,0,null,null,null,0,null," "," "," "]
[{"$f":"IF(COUNTRY_INFO!A73=0,\" \",COUNTRY_INFO!A73)","v":"Guinea Bissau"},{"$f":"IF(COUNTRY_INFO!B73=0,\" \",COUNTRY_INFO!B73)","v":"Gabu"},{"$f":"IF(COUNTRY_INFO!C73=0,\" \",COUNTRY_INFO!C73)","v":"SONACO"},{"$f":"IF(COUNTRY_INFO!$T$9:$T$1000=\"MDA1 (IVM+ALB)\", COUNTRY_INFO!$T$9:$T$1000, \" \")","v":" "},null,null,null,null,0,null,null,null,0,null," "," "," "]
[{"$f":"IF(COUNTRY_INFO!A74=0,\" \",COUNTRY_INFO!A74)","v":"Guinea Bissau"},{"$f":"IF(COUNTRY_INFO!B74=0,\" \",COUNTRY_INFO!B74)","v":"Gabu"},{"$f":"IF(COUNTRY_INFO!C74=0,\" \",COUNTRY_INFO!C74)","v":"LUGADJOLE"},{"$f":"IF(COUNTRY_INFO!$T$9:$T$1000=\"MDA1 (IVM+ALB)\", COUNTRY_INFO!$T$9:$T$1000, \" \")","v":" "},null,null,null,null,{"$f":"SUM(F74:H74)","v":0},null,null,null,{"$f":"SUM(J74:L74)","v":0},null,{"$f":"IF(G74<>0, IF(K74/G74*100=0, \"-\", K74/G74*100), \" \")","v":" "},{"$f":"IF(H74<>0, IF(L74/H74*100=0, \"-\", L74/H74*100), \" \")","v":" "},{"$f":"IF(I74<>0, IF(M74/I74*100=0, \"-\", M74/I74*100), \" \")","v":" "}]
[{"$f":"IF(COUNTRY_INFO!A75=0,\" \",COUNTRY_INFO!A75)","v":"Guinea Bissau"},{"$f":"IF(COUNTRY_INFO!B75=0,\" \",COUNTRY_INFO!B75)","v":"Gabu"},{"$f":"IF(COUNTRY_INFO!C75=0,\" \",COUNTRY_INFO!C75)","v":"GABU"},{"$f":"IF(COUNTRY_INFO!$T$9:$T$1000=\"MDA1 (IVM+ALB)\", COUNTRY_INFO!$T$9:$T$1000, \" \")","v":" "},null,null,null,null,0,null,null,null,0,null," "," "," "]
[{"$f":"IF(COUNTRY_INFO!A76=0,\" \",COUNTRY_INFO!A76)","v":"Guinea Bissau"},{"$f":"IF(COUNTRY_INFO!B76=0,\" \",COUNTRY_INFO!B76)","v":"Gabu"},{"$f":"IF(COUNTRY_INFO!C76=0,\" \",COUNTRY_INFO!C76)","v":"CANDJUFA"},{"$f":"IF(COUNTRY_INFO!$T$9:$T$1000=\"MDA1 (IVM+ALB)\", COUNTRY_INFO!$T$9:$T$1000, \" \")","v":" "},null,null,null,null,0,null,null,null,0,null," "," "," "]
[{"$f":"IF(COUNTRY_INFO!A77=0,\" \",COUNTRY_INFO!A77)","v":"Guinea Bissau"},{"$f":"IF(COUNTRY_INFO!B77=0,\" \",COUNTRY_INFO!B77)","v":"Gabu"},{"$f":"IF(COUNTRY_INFO!C77=0,\" \",COUNTRY_INFO!C77)","v":"MAFANCO"},{"$f":"IF(COUNTRY_INFO!$T$9:$T$1000=\"MDA1 (IVM+ALB)\", COUNTRY_INFO!$T$9:$T$1000, \" \")","v":" "},null,null,null,null,0,null,null,null,0,null," "," "," "]
[{"$f":"IF(COUNTRY_INFO!A78=0,\" \",COUNTRY_INFO!A78)","v":"Guinea Bissau"},{"$f":"IF(COUNTRY_INFO!B78=0,\" \",COUNTRY_INFO!B78)","v":"Gabu"},{"$f":"IF(COUNTRY_INFO!C78=0,\" \",COUNTRY_INFO!C78)","v":"TUMANA"},{"$f":"IF(COUNTRY_INFO!$T$9:$T$1000=\"MDA1 (IVM+ALB)\", COUNTRY_INFO!$T$9:$T$1000, \" \")","v":" "},null,null,null,null,0,null,null,null,0,null," "," "," "]
[{"$f":"IF(COUNTRY_INFO!A79=0,\" \",COUNTRY_INFO!A79)","v":"Guinea Bissau"},{"$f":"IF(COUNTRY_INFO!B79=0,\" \",COUNTRY_INFO!B79)","v":"Bafata"},{"$f":"IF(COUNTRY_INFO!C79=0,\" \",COUNTRY_INFO!C79)","v":"Xitole"},{"$f":"IF(COUNTRY_INFO!$T$9:$T$1000=\"MDA1 (IVM+ALB)\", COUNTRY_INFO!$T$9:$T$1000, \" \")","v":" "},null,null,null,null,0,null,null,null,0,null," "," "," "]
[{"$f":"IF(COUNTRY_INFO!A80=0,\" \",COUNTRY_INFO!A80)","v":"Guinea Bissau"},{"$f":"IF(COUNTRY_INFO!B80=0,\" \",COUNTRY_INFO!B80)","v":"Bafata"},{"$f":"IF(COUNTRY_INFO!C80=0,\" \",COUNTRY_INFO!C80)","v":"Contubuel"},{"$f":"IF(COUNTRY_INFO!$T$9:$T$1000=\"MDA1 (IVM+ALB)\", COUNTRY_INFO!$T$9:$T$1000, \" \")","v":" "},null,null,null,null,0,null,null,null,0,null," "," "," "]
[{"$f":"IF(COUNTRY_INFO!A81=0,\" \",COUNTRY_INFO!A81)","v":"Guinea Bissau"},{"$f":"IF(COUNTRY_INFO!B81=0,\" \",COUNTRY_INFO!B81)","v":"Bafata"},{"$f":"IF(COUNTRY_INFO!C81=0,\" \",COUNTRY_INFO!C81)","v":"Tendinto"},{"$f":"IF(COUNTRY_INFO!$T$9:$T$1000=\"MDA1 (IVM+ALB)\", COUNTRY_INFO!$T$9:$T$1000, \" \")","v":" "},null,null,null,null,0,null,null,null,0,null," "," "," "]
[{"$f":"IF(COUNTRY_INFO!A82=0,\" \",COUNTRY_INFO!A82)","v":"Guinea Bissau"},{"$f":"IF(COUNTRY_INFO!B82=0,\" \",COUNTRY_INFO!B82)","v":"Bafata"},{"$f":"IF(COUNTRY_INFO!C82=0,\" \",COUNTRY_INFO!C82)","v":"Geba"},{"$f":"IF(COUNTRY_INFO!$T$9:$T$1000=\"MDA1 (IVM+ALB)\", COUNTRY_INFO!$T$9:$T$1000, \" \")","v":" "},null,null,null,null,0,null,null,null,0,null," "," "," "]
[{"$f":"IF(COUNTRY_INFO!A83=0,\" \",COUNTRY_INFO!A83)","v":"Guinea Bissau"},{"$f":"IF(COUNTRY_INFO!B83=0,\" \",COUNTRY_INFO!B83)","v":"Bafata"},{"$f":"IF(COUNTRY_INFO!C83=0,\" \",COUNTRY_INFO!C83)","v":"Tantancosse"},{"$f":"IF(COUNTRY_INFO!$T$9:$T$1000=\"MDA1 (IVM+ALB)\", COUNTRY_INFO!$T$9:$T$1000, \" \")","v":" "},null,null,null,null,0,null,null,null,0,null," "," "," "]
[{"$f":"IF(COUNTRY_INFO!A84=0,\" \",COUNTRY_INFO!A84)","v":"Guinea Bissau"},{"$f":"IF(COUNTRY_INFO!B84=0,\" \",COUNTRY_INFO!B84)","v":"Bafata"},{"$f":"IF(COUNTRY_INFO!C84=0,\" \",COUNTRY_INFO!C84)","v":"Ga-mamudo"},{"$f":"IF(COUNTRY_INFO!$T$9:$T$1000=\"MDA1 (IVM+ALB)\", COUNTRY_INFO!$T$9:$T$1000, \" \")","v":" "},null,null,null,null,0,null,null,null,0,null," "," "," "]
[{"$f":"IF(COUNTRY_INFO!A85=0,\" \",COUNTRY_INFO!A85)","v":"Guinea Bissau"},{"$f":"IF(COUNTRY_INFO!B85=0,\" \",COUNTRY_INFO!B85)","v":"Bafata"},{"$f":"IF(COUNTRY_INFO!C85=0,\" \",COUNTRY_INFO!C85)","v":"Bambadinca"},{"$f":"IF(COUNTRY_INFO!$T$9:$T$1000=\"MDA1 (IVM+ALB)\", COUNTRY_INFO!$T$9:$T$1000, \" \")","v":" "},null,null,null,null,0,null,null,null,0,null," "," "," "]
[{"$f":"IF(COUNTRY_INFO!A86=0,\" \",COUNTRY_INFO!A86)","v":"Guinea Bissau"},{"$f":"IF(COUNTRY_INFO!B86=0,\" \",COUNTRY_INFO!B86)","v":"Bafata"},{"$f":"IF(COUNTRY_INFO!C86=0,\" \",COUNTRY_INFO!C86)","v":"Ga carnes"},{"$f":"IF(COUNTRY_INFO!$T$9:$T$1000=\"MDA1 (IVM+ALB)\", COUNTRY_INFO!$T$9:$T$1000, \" \")","v":" "},null,null,null,null,0,null,null,null,0,null," "," "," "]
[{"$f":"IF(COUNTRY_INFO!A87=0,\" \",COUNTRY_INFO!A87)","v":"Guinea Bissau"},{"$f":"IF(COUNTRY_INFO!B87=0,\" \",COUNTRY_INFO!B87)","v":"Bafata"},{"$f":"IF(COUNTRY_INFO!C87=0,\" \",COUNTRY_INFO!C87)","v":"Cambaju"},{"$f":"IF(COUNTRY_INFO!$T$9:$T$1000=\"MDA1 (IVM+ALB)\", COUNTRY_INFO!$T$9:$T$1000, \" \")","v":" "},null,null,null,null,0,null,null,null,0,null," "," "," "]
[{"$f":"IF(COUNTRY_INFO!A88=0,\" \",COUNTRY_INFO!A88)","v":"Guinea Bissau"},{"$f":"IF(COUNTRY_INFO!B88=0,\" \",COUNTRY_INFO!B88)","v":"Bafata"},{"$f":"IF(COUNTRY_INFO!C88=0,\" \",COUNTRY_INFO!C88)","v":"Gam ture"},{"$f":"IF(COUNTRY_INFO!$T$9:$T$1000=\"MDA1 (IVM+ALB)\", COUNTRY_INFO!$T$9:$T$1000, \" \")","v":" "},null,null,null,null,0,null,null,null,0,null," "," "," "]
[{"$f":"IF(COUNTRY_INFO!A89=0,\" \",COUNTRY_INFO!A89)","v":"Guinea Bissau"},{"$f":"IF(COUNTRY_INFO!B89=0,\" \",COUNTRY_INFO!B89)","v":"Bafata"},{"$f":"IF(COUNTRY_INFO!C89=0,\" \",COUNTRY_INFO!C89)","v":"Sare bacar"},{"$f":"IF(COUNTRY_INFO!$T$9:$T$1000=\"MDA1 (IVM+ALB)\", COUNTRY_INFO!$T$9:$T$1000, \" \")","v":" "},null,null,null,null,0,null,null,null,0,null," "," "," "]
[{"$f":"IF(COUNTRY_INFO!A90=0,\" \",COUNTRY_INFO!A90)","v":"Guinea Bissau"},{"$f":"IF(COUNTRY_INFO!B90=0,\" \",COUNTRY_INFO!B90)","v":"Bafata"},{"$f":"IF(COUNTRY_INFO!C90=0,\" \",COUNTRY_INFO!C90)","v":"Fajonquito"},{"$f":"IF(COUNTRY_INFO!$T$9:$T$1000=\"MDA1 (IVM+ALB)\", COUNTRY_INFO!$T$9:$T$1000, \" \")","v":" "},null,null,null,null,0,null,null,null,0,null," "," "," "]
[{"$f":"IF(COUNTRY_INFO!A91=0,\" \",COUNTRY_INFO!A91)","v":"Guinea Bissau"},{"$f":"IF(COUNTRY_INFO!B91=0,\" \",COUNTRY_INFO!B91)","v":"Bafata"},{"$f":"IF(COUNTRY_INFO!C91=0,\" \",COUNTRY_INFO!C91)","v":"Cosse"},{"$f":"IF(COUNTRY_INFO!$T$9:$T$1000=\"MDA1 (IVM+ALB)\", COUNTRY_INFO!$T$9:$T$1000, \" \")","v":" "},null,null,null,null,0,null,null,null,0,null," "," "," "]
[{"$f":"IF(COUNTRY_INFO!A92=0,\" \",COUNTRY_INFO!A92)","v":"Guinea Bissau"},{"$f":"IF(COUNTRY_INFO!B92=0,\" \",COUNTRY_INFO!B92)","v":"Bafata"},{"$f":"IF(COUNTRY_INFO!C92=0,\" \",COUNTRY_INFO!C92)","v":"Bafata"},{"$f":"IF(COUNTRY_INFO!$T$9:$T$1000=\"MDA1 (IVM+ALB)\", COUNTRY_INFO!$T$9:$T$1000, \" \")","v":" "},null,null,null,null,0,null,null,null,0,null," "," "," "]
[{"$f":"IF(COUNTRY_INFO!A93=0,\" \",COUNTRY_INFO!A93)","v":"Guinea Bissau"},{"$f":"IF(COUNTRY_INFO!B93=0,\" \",COUNTRY_INFO!B93)","v":"Tombali"},{"$f":"IF(COUNTRY_INFO!C93=0,\" \",COUNTRY_INFO!C93)","v":"BEDANDA"},{"$f":"IF(COUNTRY_INFO!$T$9:$T$1000=\"MDA1 (IVM+ALB)\", COUNTRY_INFO!$T$9:$T$1000, \" \")","v":" "},null,null,null,null,0,null,null,null,0,null," "," "," "]
[{"$f":"IF(COUNTRY_INFO!A94=0,\" \",COUNTRY_INFO!A94)","v":"Guinea Bissau"},{"$f":"IF(COUNTRY_INFO!B94=0,\" \",COUNTRY_INFO!B94)","v":"Tombali"},{"$f":"IF(COUNTRY_INFO!C94=0,\" \",COUNTRY_INFO!C94)","v":"CACINE"},{"$f":"IF(COUNTRY_INFO!$T$9:$T$1000=\"MDA1 (IVM+ALB)\", COUNTRY_INFO!$T$9:$T$1000, \" \")","v":" "},null,null,null,null,0,null,null,null,0,null," "," "," "]
[{"$f":"IF(COUNTRY_INFO!A95=0,\" \",COUNTRY_INFO!A95)","v":"Guinea Bissau"},{"$f":"IF(COUNTRY_INFO!B95=0,\" \",COUNTRY_INFO!B95)","v":"Tombali"},{"$f":"IF(COUNTRY_INFO!C95=0,\" \",COUNTRY_INFO!C95)","v":"CALAQUE"},{"$f":"IF(COUNTRY_INFO!$T$9:$T$1000=\"MDA1 (IVM+ALB)\", COUNTRY_INFO!$T$9:$T$1000, \" \")","v":" "},null,null,null,null,0,null,null,null,0,null," "," "," "]
[{"$f":"IF(COUNTRY_INFO!A96=0,\" \",COUNTRY_INFO!A96)","v":"Guinea Bissau"},{"$f":"IF(COUNTRY_INFO!B96=0,\" \",COUNTRY_INFO!B96)","v":"Tombali"},{"$f":"IF(COUNTRY_INFO!C96=0,\" \",COUNTRY_INFO!C96)","v":"CATIO"},{"$f":"IF(COUNTRY_INFO!$T$9:$T$1000=\"MDA1 (IVM+ALB)\", COUNTRY_INFO!$T$9:$T$1000, \" \")","v":" "},null,null,null,null,0,null,null,null,0,null," "," "," "]
[{"$f":"IF(COUNTRY_INFO!A97=0,\" \",COUNTRY_INFO!A97)","v":"Guinea Bissau"},{"$f":"IF(COUNTRY_INFO!B97=0,\" \",COUNTRY_INFO!B97)","v":"Tombali"},{"$f":"IF(COUNTRY_INFO!C97=0,\" \",COUNTRY_INFO!C97)","v":"KOMO"},{"$f":"IF(COUNTRY_INFO!$T$9:$T$1000=\"MDA1 (IVM+ALB)\", COUNTRY_INFO!$T$9:$T$1000, \" \")","v":" "},null,null,null,null,0,null,null,null,0,null," "," "," "]
[{"$f":"IF(COUNTRY_INFO!A98=0,\" \",COUNTRY_INFO!A98)","v":"Guinea Bissau"},{"$f":"IF(COUNTRY_INFO!B98=0,\" \",COUNTRY_INFO!B98)","v":"Tombali"},{"$f":"IF(COUNTRY_INFO!C98=0,\" \",COUNTRY_INFO!C98)","v":"QUEBO"},{"$f":"IF(COUNTRY_INFO!$T$9:$T$1000=\"MDA1 (IVM+ALB)\", COUNTRY_INFO!$T$9:$T$1000, \" \")","v":" "},null,null,null,null,0,null,null,null,0,null," "," "," "]
[{"$f":"IF(COUNTRY_INFO!A99=0,\" \",COUNTRY_INFO!A99)","v":"Guinea Bissau"},{"$f":"IF(COUNTRY_INFO!B99=0,\" \",COUNTRY_INFO!B99)","v":"Tombali"},{"$f":"IF(COUNTRY_INFO!C99=0,\" \",COUNTRY_INFO!C99)","v":"SANCONHA"},{"$f":"IF(COUNTRY_INFO!$T$9:$T$1000=\"MDA1 (IVM+ALB)\", COUNTRY_INFO!$T$9:$T$1000, \" \")","v":" "},null,null,null,null,0,null,null,null,0,null," "," "," "]
[{"$f":"IF(COUNTRY_INFO!A100=0,\" \",COUNTRY_INFO!A100)","v":"Guinea Bissau"},{"$f":"IF(COUNTRY_INFO!B100=0,\" \",COUNTRY_INFO!B100)","v":"Tombali"},{"$f":"IF(COUNTRY_INFO!C100=0,\" \",COUNTRY_INFO!C100)","v":"TIMBO"},{"$f":"IF(COUNTRY_INFO!$T$9:$T$1000=\"MDA1 (IVM+ALB)\", COUNTRY_INFO!$T$9:$T$1000, \" \")","v":" "},null,null,null,null,0,null,null,null,0,null," "," "," "]
[{"$f":"IF(COUNTRY_INFO!A101=0,\" \",COUNTRY_INFO!A101)","v":"Guinea Bissau"},{"$f":"IF(COUNTRY_INFO!B101=0,\" \",COUNTRY_INFO!B101)","v":"Quinara"},{"$f":"IF(COUNTRY_INFO!C101=0,\" \",COUNTRY_INFO!C101)","v":"BRANDÃO"},{"$f":"IF(COUNTRY_INFO!$T$9:$T$1000=\"MDA1 (IVM+ALB)\", COUNTRY_INFO!$T$9:$T$1000, \" \")","v":"MDA1 (IVM+ALB)"},"04/02/2021",null,2627,5808,8435,null,2927,2750,5677,null,111.41987057480016,47.348484848484851,67.302904564315355]
[{"$f":"IF(COUNTRY_INFO!A102=0,\" \",COUNTRY_INFO!A102)","v":"Guinea Bissau"},{"$f":"IF(COUNTRY_INFO!B102=0,\" \",COUNTRY_INFO!B102)","v":"Quinara"},{"$f":"IF(COUNTRY_INFO!C102=0,\" \",COUNTRY_INFO!C102)","v":"BUBA"},{"$f":"IF(COUNTRY_INFO!$T$9:$T$1000=\"MDA1 (IVM+ALB)\", COUNTRY_INFO!$T$9:$T$1000, \" \")","v":"MDA1 (IVM+ALB)"},"04/02/2021",null,6139,13575,19714,null,8041,8363,16404,null,130.98224466525491,61.605893186003676,83.209901592776703]
[{"$f":"IF(COUNTRY_INFO!A103=0,\" \",COUNTRY_INFO!A103)","v":"Guinea Bissau"},{"$f":"IF(COUNTRY_INFO!B103=0,\" \",COUNTRY_INFO!B103)","v":"Quinara"},{"$f":"IF(COUNTRY_INFO!C103=0,\" \",COUNTRY_INFO!C103)","v":"DAR-ES-SALAM"},{"$f":"IF(COUNTRY_INFO!$T$9:$T$1000=\"MDA1 (IVM+ALB)\", COUNTRY_INFO!$T$9:$T$1000, \" \")","v":"MDA1 (IVM+ALB)"},"04/02/2021",null,1712,3785,5497,null,2053,2121,4174,null,119.91822429906543,56.036988110964337,75.932326723667458]
[{"$f":"IF(COUNTRY_INFO!A104=0,\" \",COUNTRY_INFO!A104)","v":"Guinea Bissau"},{"$f":"IF(COUNTRY_INFO!B104=0,\" \",COUNTRY_INFO!B104)","v":"Quinara"},{"$f":"IF(COUNTRY_INFO!C104=0,\" \",COUNTRY_INFO!C104)","v":"EMPADA"},{"$f":"IF(COUNTRY_INFO!$T$9:$T$1000=\"MDA1 (IVM+ALB)\", COUNTRY_INFO!$T$9:$T$1000, \" \")","v":"MDA1 (IVM+ALB)"},"04/02/2021",null,4480,9907,14387,null,6440,6355,12795,null,143.75,64.146563036236998,88.934454716063115]
[{"$f":"IF(COUNTRY_INFO!A105=0,\" \",COUNTRY_INFO!A105)","v":"Guinea Bissau"},{"$f":"IF(COUNTRY_INFO!B105=0,\" \",COUNTRY_INFO!B105)","v":"Quinara"},{"$f":"IF(COUNTRY_INFO!C105=0,\" \",COUNTRY_INFO!C105)","v":"FULACUNDA"},{"$f":"IF(COUNTRY_INFO!$T$9:$T$1000=\"MDA1 (IVM+ALB)\", COUNTRY_INFO!$T$9:$T$1000, \" \")","v":"MDA1 (IVM+ALB)"},"04/02/2021",null,3708,8200,11908,null,5821,5838,11659,null,156.98489751887809,71.195121951219505,97.908968760497146]
[{"$f":"IF(COUNTRY_INFO!A106=0,\" \",COUNTRY_INFO!A106)","v":"Guinea Bissau"},{"$f":"IF(COUNTRY_INFO!B106=0,\" \",COUNTRY_INFO!B106)","v":"Quinara"},{"$f":"IF(COUNTRY_INFO!C106=0,\" \",COUNTRY_INFO!C106)","v":"TITE"},{"$f":"IF(COUNTRY_INFO!$T$9:$T$1000=\"MDA1 (IVM+ALB)\", COUNTRY_INFO!$T$9:$T$1000, \" \")","v":"MDA1 (IVM+ALB)"},"04/02/2021",null,2968,6563,9531,null,4486,4114,8600,null,151.14555256064691,62.684747828736853,90.231874934424511]
[{"$f":"IF(COUNTRY_INFO!A107=0,\" \",COUNTRY_INFO!A107)","v":"Guinea Bissau"},{"$f":"IF(COUNTRY_INFO!B107=0,\" \",COUNTRY_INFO!B107)","v":"Cacheu"},{"$f":"IF(COUNTRY_INFO!C107=0,\" \",COUNTRY_INFO!C107)","v":"Bará"},{"$f":"IF(COUNTRY_INFO!$T$9:$T$1000=\"MDA1 (IVM+ALB)\", COUNTRY_INFO!$T$9:$T$1000, \" \")","v":" "},null,null,null,null,0,null,null,null,0,null," "," "," "]
[{"$f":"IF(COUNTRY_INFO!A108=0,\" \",COUNTRY_INFO!A108)","v":"Guinea Bissau"},{"$f":"IF(COUNTRY_INFO!B108=0,\" \",COUNTRY_INFO!B108)","v":"Cacheu"},{"$f":"IF(COUNTRY_INFO!C108=0,\" \",COUNTRY_INFO!C108)","v":"Barro"},{"$f":"IF(COUNTRY_INFO!$T$9:$T$1000=\"MDA1 (IVM+ALB)\", COUNTRY_INFO!$T$9:$T$1000, \" \")","v":" "},null,null,null,null,0,null,null,null,0,null," "," "," "]
[{"$f":"IF(COUNTRY_INFO!A109=0,\" \",COUNTRY_INFO!A109)","v":"Guinea Bissau"},{"$f":"IF(COUNTRY_INFO!B109=0,\" \",COUNTRY_INFO!B109)","v":"Cacheu"},{"$f":"IF(COUNTRY_INFO!C109=0,\" \",COUNTRY_INFO!C109)","v":"Batucar"},{"$f":"IF(COUNTRY_INFO!$T$9:$T$1000=\"MDA1 (IVM+ALB)\", COUNTRY_INFO!$T$9:$T$1000, \" \")","v":" "},null,null,null,null,0,null,null,null,0,null," "," "," "]
[{"$f":"IF(COUNTRY_INFO!A110=0,\" \",COUNTRY_INFO!A110)","v":"Guinea Bissau"},{"$f":"IF(COUNTRY_INFO!B110=0,\" \",COUNTRY_INFO!B110)","v":"Cacheu"},{"$f":"IF(COUNTRY_INFO!C110=0,\" \",COUNTRY_INFO!C110)","v":"Begene"},{"$f":"IF(COUNTRY_INFO!$T$9:$T$1000=\"MDA1 (IVM+ALB)\", COUNTRY_INFO!$T$9:$T$1000, \" \")","v":" "},null,null,null,null,0,null,null,null,0,null," "," "," "]
[{"$f":"IF(COUNTRY_INFO!A111=0,\" \",COUNTRY_INFO!A111)","v":"Guinea Bissau"},{"$f":"IF(COUNTRY_INFO!B111=0,\" \",COUNTRY_INFO!B111)","v":"Cacheu"},{"$f":"IF(COUNTRY_INFO!C111=0,\" \",COUNTRY_INFO!C111)","v":"Bula"},{"$f":"IF(COUNTRY_INFO!$T$9:$T$1000=\"MDA1 (IVM+ALB)\", COUNTRY_INFO!$T$9:$T$1000, \" \")","v":" "},null,null,null,null,0,null,null,null,0,null," "," "," "]
[{"$f":"IF(COUNTRY_INFO!A112=0,\" \",COUNTRY_INFO!A112)","v":"Guinea Bissau"},{"$f":"IF(COUNTRY_INFO!B112=0,\" \",COUNTRY_INFO!B112)","v":"Cacheu"},{"$f":"IF(COUNTRY_INFO!C112=0,\" \",COUNTRY_INFO!C112)","v":"Cacheu"},{"$f":"IF(COUNTRY_INFO!$T$9:$T$1000=\"MDA1 (IVM+ALB)\", COUNTRY_INFO!$T$9:$T$1000, \" \")","v":" "},null,null,null,null,0,null,null,null,0,null," "," "," "]
[{"$f":"IF(COUNTRY_INFO!A113=0,\" \",COUNTRY_INFO!A113)","v":"Guinea Bissau"},{"$f":"IF(COUNTRY_INFO!B113=0,\" \",COUNTRY_INFO!B113)","v":"Cacheu"},{"$f":"IF(COUNTRY_INFO!C113=0,\" \",COUNTRY_INFO!C113)","v":"Caió"},{"$f":"IF(COUNTRY_INFO!$T$9:$T$1000=\"MDA1 (IVM+ALB)\", COUNTRY_INFO!$T$9:$T$1000, \" \")","v":" "},null,null,null,null,0,null,null,null,0,null," "," "," "]
[{"$f":"IF(COUNTRY_INFO!A114=0,\" \",COUNTRY_INFO!A114)","v":"Guinea Bissau"},{"$f":"IF(COUNTRY_INFO!B114=0,\" \",COUNTRY_INFO!B114)","v":"Cacheu"},{"$f":"IF(COUNTRY_INFO!C114=0,\" \",COUNTRY_INFO!C114)","v":"Calequisse"},{"$f":"IF(COUNTRY_INFO!$T$9:$T$1000=\"MDA1 (IVM+ALB)\", COUNTRY_INFO!$T$9:$T$1000, \" \")","v":" "},null,null,null,null,0,null,null,null,0,null," "," "," "]
[{"$f":"IF(COUNTRY_INFO!A115=0,\" \",COUNTRY_INFO!A115)","v":"Guinea Bissau"},{"$f":"IF(COUNTRY_INFO!B115=0,\" \",COUNTRY_INFO!B115)","v":"Cacheu"},{"$f":"IF(COUNTRY_INFO!C115=0,\" \",COUNTRY_INFO!C115)","v":"Canchungo"},{"$f":"IF(COUNTRY_INFO!$T$9:$T$1000=\"MDA1 (IVM+ALB)\", COUNTRY_INFO!$T$9:$T$1000, \" \")","v":" "},null,null,null,null,0,null,null,null,0,null," "," "," "]
[{"$f":"IF(COUNTRY_INFO!A116=0,\" \",COUNTRY_INFO!A116)","v":"Guinea Bissau"},{"$f":"IF(COUNTRY_INFO!B116=0,\" \",COUNTRY_INFO!B116)","v":"Cacheu"},{"$f":"IF(COUNTRY_INFO!C116=0,\" \",COUNTRY_INFO!C116)","v":"Carenque"},{"$f":"IF(COUNTRY_INFO!$T$9:$T$1000=\"MDA1 (IVM+ALB)\", COUNTRY_INFO!$T$9:$T$1000, \" \")","v":" "},null,null,null,null,0,null,null,null,0,null," "," "," "]
[{"$f":"IF(COUNTRY_INFO!A117=0,\" \",COUNTRY_INFO!A117)","v":"Guinea Bissau"},{"$f":"IF(COUNTRY_INFO!B117=0,\" \",COUNTRY_INFO!B117)","v":"Cacheu"},{"$f":"IF(COUNTRY_INFO!C117=0,\" \",COUNTRY_INFO!C117)","v":"Có"},{"$f":"IF(COUNTRY_INFO!$T$9:$T$1000=\"MDA1 (IVM+ALB)\", COUNTRY_INFO!$T$9:$T$1000, \" \")","v":" "},null,null,null,null,0,null,null,null,0,null," "," "," "]
[{"$f":"IF(COUNTRY_INFO!A118=0,\" \",COUNTRY_INFO!A118)","v":"Guinea Bissau"},{"$f":"IF(COUNTRY_INFO!B118=0,\" \",COUNTRY_INFO!B118)","v":"Cacheu"},{"$f":"IF(COUNTRY_INFO!C118=0,\" \",COUNTRY_INFO!C118)","v":"Ingoré"},{"$f":"IF(COUNTRY_INFO!$T$9:$T$1000=\"MDA1 (IVM+ALB)\", COUNTRY_INFO!$T$9:$T$1000, \" \")","v":" "},null,null,null,null,0,null,null,null,0,null," "," "," "]
[{"$f":"IF(COUNTRY_INFO!A119=0,\" \",COUNTRY_INFO!A119)","v":"Guinea Bissau"},{"$f":"IF(COUNTRY_INFO!B119=0,\" \",COUNTRY_INFO!B119)","v":"Cacheu"},{"$f":"IF(COUNTRY_INFO!C119=0,\" \",COUNTRY_INFO!C119)","v":"Jeta"},{"$f":"IF(COUNTRY_INFO!$T$9:$T$1000=\"MDA1 (IVM+ALB)\", COUNTRY_INFO!$T$9:$T$1000, \" \")","v":" "},null,null,null,null,0,null,null,null,0,null," "," "," "]
[{"$f":"IF(COUNTRY_INFO!A120=0,\" \",COUNTRY_INFO!A120)","v":"Guinea Bissau"},{"$f":"IF(COUNTRY_INFO!B120=0,\" \",COUNTRY_INFO!B120)","v":"Cacheu"},{"$f":"IF(COUNTRY_INFO!C120=0,\" \",COUNTRY_INFO!C120)","v":"Pecixe"},{"$f":"IF(COUNTRY_INFO!$T$9:$T$1000=\"MDA1 (IVM+ALB)\", COUNTRY_INFO!$T$9:$T$1000, \" \")","v":" "},null,null,null,null,0,null,null,null,0,null," "," "," "]
[{"$f":"IF(COUNTRY_INFO!A121=0,\" \",COUNTRY_INFO!A121)","v":"Guinea Bissau"},{"$f":"IF(COUNTRY_INFO!B121=0,\" \",COUNTRY_INFO!B121)","v":"Cacheu"},{"$f":"IF(COUNTRY_INFO!C121=0,\" \",COUNTRY_INFO!C121)","v":"Pelundo"},{"$f":"IF(COUNTRY_INFO!$T$9:$T$1000=\"MDA1 (IVM+ALB)\", COUNTRY_INFO!$T$9:$T$1000, \" \")","v":" "},null,null,null,null,0,null,null,null,0,null," "," "," "]
[{"$f":"IF(COUNTRY_INFO!A122=0,\" \",COUNTRY_INFO!A122)","v":"Guinea Bissau"},{"$f":"IF(COUNTRY_INFO!B122=0,\" \",COUNTRY_INFO!B122)","v":"Cacheu"},{"$f":"IF(COUNTRY_INFO!C122=0,\" \",COUNTRY_INFO!C122)","v":"S.Domingos"},{"$f":"IF(COUNTRY_INFO!$T$9:$T$1000=\"MDA1 (IVM+ALB)\", COUNTRY_INFO!$T$9:$T$1000, \" \")","v":" "},null,null,null,null,0,null,null,null,0,null," "," "," "]
[{"$f":"IF(COUNTRY_INFO!A123=0,\" \",COUNTRY_INFO!A123)","v":"Guinea Bissau"},{"$f":"IF(COUNTRY_INFO!B123=0,\" \",COUNTRY_INFO!B123)","v":"Cacheu"},{"$f":"IF(COUNTRY_INFO!C123=0,\" \",COUNTRY_INFO!C123)","v":"Sedengal"},{"$f":"IF(COUNTRY_INFO!$T$9:$T$1000=\"MDA1 (IVM+ALB)\", COUNTRY_INFO!$T$9:$T$1000, \" \")","v":" "},null,null,null,null,0,null,null,null,0,null," "," "," "]
[{"$f":"IF(COUNTRY_INFO!A124=0,\" \",COUNTRY_INFO!A124)","v":"Guinea Bissau"},{"$f":"IF(COUNTRY_INFO!B124=0,\" \",COUNTRY_INFO!B124)","v":"Cacheu"},{"$f":"IF(COUNTRY_INFO!C124=0,\" \",COUNTRY_INFO!C124)","v":"Suzana"},{"$f":"IF(COUNTRY_INFO!$T$9:$T$1000=\"MDA1 (IVM+ALB)\", COUNTRY_INFO!$T$9:$T$1000, \" \")","v":" "},null,null,null,null,0,null,null,null,0,null," "," "," "]
[{"$f":"IF(COUNTRY_INFO!A125=0,\" \",COUNTRY_INFO!A125)","v":"Guinea Bissau"},{"$f":"IF(COUNTRY_INFO!B125=0,\" \",COUNTRY_INFO!B125)","v":"Cacheu"},{"$f":"IF(COUNTRY_INFO!C125=0,\" \",COUNTRY_INFO!C125)","v":"Varela"},{"$f":"IF(COUNTRY_INFO!$T$9:$T$1000=\"MDA1 (IVM+ALB)\", COUNTRY_INFO!$T$9:$T$1000, \" \")","v":" "},null,null,null,null,0,null,null,null,0,null," "," "," "]

{"sheet":"MDA2","index":3,"n_rows":125,"n_cols":17,"rows_kept":125,"cut":false,"hidden":true,"merged":[[5,5,5,8],[5,9,5,12],[5,13,5,16],[3,0,3,2],[5,0,5,2],[5,3,6,3],[5,4,6,4]]}
["MDA 2 - Diethylcarbamazine (DEC) + Albendazole (ALB)"]
["Structure administrative, population nécessitant une chimioprévention par groupe d'âge, population traitée par groupe d'âge et couverture"]
[]
["TOTAL",null,null,null,null,{"$f":"SUM(F$9:F$1000)","v":0},{"$f":"SUM(G$9:G$1000)","v":0},0,0,0,0,0,0,{"$f":"IF(F4<>0, IF(J4/F4*100=0, \"-\", J4/F4*100), \" \")","v":" "},{"$f":"IF(G4<>0, IF(K4/G4*100=0, \"-\", K4/G4*100), \" \")","v":" "},{"$f":"IF(H4<>0, IF(L4/H4*100=0, \"-\", L4/H4*100), \" \")","v":" "},{"$f":"IF(I4<>0, IF(M4/I4*100=0, \"-\", M4/I4*100), \" \")","v":" "}]
[]
["Structure administrative du pays",null,null,"Mise en oeuvre \nde la CP","Date","Population ciblée pour MDA 2",null,null,null,"Population traitée",null,null,null,"Couverture du Programme (%)"]
["Pays","Région/Département","District",null,null,"EAPréS","EAS","Adultes","Total","EAPréS","EAS","Adultes","Total","EAPréS","EAS","Adultes","Total"]
[]
[{"$f":"IF(COUNTRY_INFO!A9=0,\" \",COUNTRY_INFO!A9)","v":"Guinea Bissau"},{"$f":"IF(COUNTRY_INFO!B9=0,\" \",COUNTRY_INFO!B9)","v":"SAB"},{"$f":"IF(COUNTRY_INFO!C9=0,\" \",COUNTRY_INFO!C9)","v":"AJUDA"},{"$f":"IF(COUNTRY_INFO!$T$9:$T$1000=\"MDA2 (DEC+ALB)\", COUNTRY_INFO!$T$9:$T$1000, \" \")","v":" "},null,null,null,null,{"$f":"SUM(F9:H9)","v":0},null,null,null,{"$f":"SUM(J9:L9)","v":0},{"$f":"IF(F9<>0, IF(J9/F9*100=0, \"-\", J9/F9*100), \" \")","v":" "}," "," "," "]
[{"$f":"IF(COUNTRY_INFO!A10=0,\" \",COUNTRY_INFO!A10)","v":"Guinea Bissau"},{"$f":"IF(COUNTRY_INFO!B10=0,\" \",COUNTRY_INFO!B10)","v":"SAB"},{"$f":"IF(COUNTRY_INFO!C10=0,\" \",COUNTRY_INFO!C10)","v":"ANTULA"},{"$f":"IF(COUNTRY_INFO!$T$9:$T$1000=\"MDA2 (DEC+ALB)\", COUNTRY_INFO!$T$9:$T$1000, \" \")","v":" "},null,null,null,null,{"$f":"SUM(F10:H10)","v":0},null,null,null,{"$f":"SUM(J10:L10)","v":0},{"$f":"IF(F10<>0, IF(J10/F10*100=0, \"-\", J10/F10*100), \" \")","v":" "},{"$f":"IF(G10<>0, IF(K10/G10*100=0, \"-\", K10/G10*100), \" \")","v":" "},{"$f":"IF(H10<>0, IF(L10/H10*100=0, \"-\", L10/H10*100), \" \")","v":" "},{"$f":"IF(I10<>0, IF(M10/I10*100=0, \"-\", M10/I10*100), \" \")","v":" "}]
[{"$f":"IF(COUNTRY_INFO!A11=0,\" \",COUNTRY_INFO!A11)","v":"Guinea Bissau"},{"$f":"IF(COUNTRY_INFO!B11=0,\" \",COUNTRY_INFO!B11)","v":"SAB"},{"$f":"IF(COUNTRY_INFO!C11=0,\" \",COUNTRY_INFO!C11)","v":"B. MILITAR"},{"$f":"IF(COUNTRY_INFO!$T$9:$T$1000=\"MDA2 (DEC+ALB)\", COUNTRY_INFO!$T$9:$T$1000, \" \")","v":" "},null,null,null,null,0,null,null,null,0," "," "," "," "]
[{"$f":"IF(COUNTRY_INFO!A12=0,\" \",COUNTRY_INFO!A12)","v":"Guinea Bissau"},{"$f":"IF(COUNTRY_INFO!B12=0,\" \",COUNTRY_INFO!B12)","v":"SAB"},{"$f":"IF(COUNTRY_INFO!C12=0,\" \",COUNTRY_INFO!C12)","v":"BANDIM"},{"$f":"IF(COUNTRY_INFO!$T$9:$T$1000=\"MDA2 (DEC+ALB)\", COUNTRY_INFO!$T$9:$T$1000, \" \")","v":" "},null,null,null,null,0,null,null,null,0," "," "," "," "]
[{"$f":"IF(COUNTRY_INFO!A13=0,\" \",COUNTRY_INFO!A13)","v":"Guinea Bissau"},{"$f":"IF(COUNTRY_INFO!B13=0,\" \",COUNTRY_INFO!B13)","v":"SAB"},{"$f":"IF(COUNTRY_INFO!C13=0,\" \",COUNTRY_INFO!C13)","v":"BELEM"},{"$f":"IF(COUNTRY_INFO!$T$9:$T$1000=\"MDA2 (DEC+ALB)\", COUNTRY_INFO!$T$9:$T$1000, \" \")","v":" "},null,null,null,null,0,null,null,null,0," "," "," "," "]
[{"$f":"IF(COUNTRY_INFO!A14=0,\" \",COUNTRY_INFO!A14)","v":"Guinea Bissau"},{"$f":"IF(COUNTRY_INFO!B14=0,\" \",COUNTRY_INFO!B14)","v":"SAB"},{"$f":"IF(COUNTRY_INFO!C14=0,\" \",COUNTRY_INFO!C14)","v":"CMI"},{"$f":"IF(COUNTRY_INFO!$T$9:$T$1000=\"MDA2 (DEC+ALB)\", COUNTRY_INFO!$T$9:$T$1000, \" \")","v":" "},null,null,null,null,0,null,null,null,0," "," "," "," "]
[{"$f":"IF(COUNTRY_INFO!A15=0,\" \",COUNTRY_INFO!A15)","v":"Guinea Bissau"},{"$f":"IF(COUNTRY_INFO!B15=0,\" \",COUNTRY_INFO!B15)","v":"SAB"},{"$f":"IF(COUNTRY_INFO!C15=0,\" \",COUNTRY_INFO!C15)","v":"CUNTUM"},{"$f":"IF(COUNTRY_INFO!$T$9:$T$1000=\"MDA2 (DEC+ALB)\", COUNTRY_INFO!$T$9:$T$1000, \" \")","v":" "},null,null,null,null,0,null,null,null,0," "," "," "," "]
[{"$f":"IF(COUNTRY_INFO!A16=0,\" \",COUNTRY_INFO!A16)","v":"Guinea Bissau"},{"$f":"IF(COUNTRY_INFO!B16=0,\" \",COUNTRY_INFO!B16)","v":"SAB"},{"$f":"IF(COUNTRY_INFO!C16=0,\" \",COUNTRY_INFO!C16)","v":"LUANDA"},{"$f":"IF(COUNTRY_INFO!$T$9:$T$1000=\"MDA2 (DEC+ALB)\", COUNTRY_INFO!$T$9:$T$1000, \" \")","v":" "},null,null,null,null,0,null,null,null,0," "," "," "," "]
[{"$f":"IF(COUNTRY_INFO!A17=0,\" \",COUNTRY_INFO!A17)","v":"Guinea Bissau"},{"$f":"IF(COUNTRY_INFO!B17=0,\" \",COUNTRY_INFO!B17)","v":"SAB"},{"$f":"IF(COUNTRY_INFO!C17=0,\" \",COUNTRY_INFO!C17)","v":"MISSIRA"},{"$f":"IF(COUNTRY_INFO!$T$9:$T$1000=\"MDA2 (DEC+ALB)\", COUNTRY_INFO!$T$9:$T$1000, \" \")","v":" "},null,null,null,null,0,null,null,null,0," "," "," "," "]
[{"$f":"IF(COUNTRY_INFO!A18=0,\" \",COUNTRY_INFO!A18)","v":"Guinea Bissau"},{"$f":"IF(COUNTRY_INFO!B18=0,\" \",COUNTRY_INFO!B18)","v":"SAB"},{"$f":"IF(COUNTRY_INFO!C18=0,\" \",COUNTRY_INFO!C18)","v":"PEFINE"},{"$f":"IF(COUNTRY_INFO!$T$9:$T$1000=\"MDA2 (DEC+ALB)\", COUNTRY_INFO!$T$9:$T$1000, \" \")","v":" "},null,null,null,null,0,null,null,null,0," "," "," "," "]
[{"$f":"IF(COUNTRY_INFO!A19=0,\" \",COUNTRY_INFO!A19)","v":"Guinea Bissau"},{"$f":"IF(COUNTRY_INFO!B19=0,\" \",COUNTRY_INFO!B19)","v":"SAB"},{"$f":"IF(COUNTRY_INFO!C19=0,\" \",COUNTRY_INFO!C19)","v":"PLACK II"},{"$f":"IF(COUNTRY_INFO!$T$9:$T$1000=\"MDA2 (DEC+ALB)\", COUNTRY_INFO!$T$9:$T$1000, \" \")","v":" "},null,null,null,null,0,null,null,null,0," "," "," "," "]
[{"$f":"IF(COUNTRY_INFO!A20=0,\" \",COUNTRY_INFO!A20)","v":"Guinea Bissau"},{"$f":"IF(COUNTRY_INFO!B20=0,\" \",COUNTRY_INFO!B20)","v":"SAB"},{"$f":"IF(COUNTRY_INFO!C20=0,\" \",COUNTRY_INFO!C20)","v":"QUELELE"},{"$f":"IF(COUNTRY_INFO!$T$9:$T$1000=\"MDA2 (DEC+ALB)\", COUNTRY_INFO!$T$9:$T$1000, \" \")","v":" "},null,null,null,null,0,null,null,null,0," "," "," "," "]
[{"$f":"IF(COUNTRY_INFO!A21=0,\" \",COUNTRY_INFO!A21)","v":"Guinea Bissau"},{"$f":"IF(COUNTRY_INFO!B21=0,\" \",COUNTRY_INFO!B21)","v":"SAB"},{"$f":"IF(COUNTRY_INFO!C21=0,\" \",COUNTRY_INFO!C21)","v":"SANTA LUZIA"},{"$f":"IF(COUNTRY_INFO!$T$9:$T$1000=\"MDA2 (DEC+ALB)\", COUNTRY_INFO!$T$9:$T$1000, \" \")","v":" "},null,null,null,null,0,null,null,null,0," "," "," "," "]
[{"$f":"IF(COUNTRY_INFO!A22=0,\" \",COUNTRY_INFO!A22)","v":"Guinea Bissau"},{"$f":"IF(COUNTRY_INFO!B22=0,\" \",COUNTRY_INFO!B22)","v":"SAB"},{"$f":"IF(COUNTRY_INFO!C22=0,\" \",COUNTRY_INFO!C22)","v":"SINTRA NEMA"},{"$f":"IF(COUNTRY_INFO!$T$9:$T$1000=\"MDA2 (DEC+ALB)\", COUNTRY_INFO!$T$9:$T$1000, \" \")","v":" "},null,null,null,null,0,null,null,null,0," "," "," "," "]
[{"$f":"IF(COUNTRY_INFO!A23=0,\" \",COUNTRY_INFO!A23)","v":"Guinea Bissau"},{"$f":"IF(COUNTRY_INFO!B23=0,\" \",COUNTRY_INFO!B23)","v":"Bijagos"},{"$f":"IF(COUNTRY_INFO!C23=0,\" \",COUNTRY_INFO!C23)","v":"Bubaque"},{"$f":"IF(COUNTRY_INFO!$T$9:$T$1000=\"MDA2 (DEC+ALB)\", COUNTRY_INFO!$T$9:$T$1000, \" \")","v":" "},null,null,null,null,0,null,null,null,0," "," "," "," "]
[{"$f":"IF(COUNTRY_INFO!A24=0,\" \",COUNTRY_INFO!A24)","v":"Guinea Bissau"},{"$f":"IF(COUNTRY_INFO!B24=0,\" \",COUNTRY_INFO!B24)","v":"Bijagos"},{"$f":"IF(COUNTRY_INFO!C24=0,\" \",COUNTRY_INFO!C24)","v":"Canhabaque"},{"$f":"IF(COUNTRY_INFO!$T$9:$T$1000=\"MDA2 (DEC+ALB)\", COUNTRY_INFO!$T$9:$T$1000, \" \")","v":" "},null,null,null,null,0,null,null,null,0," "," "," "," "]
[{"$f":"IF(COUNTRY_INFO!A25=0,\" \",COUNTRY_INFO!A25)","v":"Guinea Bissau"},{"$f":"IF(COUNTRY_INFO!B25=0,\" \",COUNTRY_INFO!B25)","v":"Bijagos"},{"$f":"IF(COUNTRY_INFO!C25=0,\" \",COUNTRY_INFO!C25)","v":"Canogo"},{"$f":"IF(COUNTRY_INFO!$T$9:$T$1000=\"MDA2 (DEC+ALB)\", COUNTRY_INFO!$T$9:$T$1000, \" \")","v":" "},null,null,null,null,0,null,null,null,0," "," "," "," "]
[{"$f":"IF(COUNTRY_INFO!A26=0,\" \",COUNTRY_INFO!A26)","v":"Guinea Bissau"},{"$f":"IF(COUNTRY_INFO!B26=0,\" \",COUNTRY_INFO!B26)","v":"Bijagos"},{"$f":"IF(COUNTRY_INFO!C26=0,\" \",COUNTRY_INFO!C26)","v":"Caravela"},{"$f":"IF(COUNTRY_INFO!$T$9:$T$1000=\"MDA2 (DEC+ALB)\", COUNTRY_INFO!$T$9:$T$1000, \" \")","v":" "},null,null,null,null,0,null,null,null,0," "," "," "," "]
[{"$f":"IF(COUNTRY_INFO!A27=0,\" \",COUNTRY_INFO!A27)","v":"Guinea Bissau"},{"$f":"IF(COUNTRY_INFO!B27=0,\" \",COUNTRY_INFO!B27)","v":"Bijagos"},{"$f":"IF(COUNTRY_INFO!C27=0,\" \",COUNTRY_INFO!C27)","v":"Formosa"},{"$f":"IF(COUNTRY_INFO!$T$9:$T$1000=\"MDA2 (DEC+ALB)\", COUNTRY_INFO!$T$9:$T$1000, \" \")","v":" "},null,null,null,null,0,null,null,null,0," "," "," "," "]
[{"$f":"IF(COUNTRY_INFO!A28=0,\" \",COUNTRY_INFO!A28)","v":"Guinea Bissau"},{"$f":"IF(COUNTRY_INFO!B28=0,\" \",COUNTRY_INFO!B28)","v":"Bijagos"},{"$f":"IF(COUNTRY_INFO!C28=0,\" \",COUNTRY_INFO!C28)","v":"Orango Grande"},{"$f":"IF(COUNTRY_INFO!$T$9:$T$1000=\"MDA2 (DEC+ALB)\", COUNTRY_INFO!$T$9:$T$1000, \" \")","v":" "},null,null,null,null,0,null,null,null,0," "," "," "," "]
[{"$f":"IF(COUNTRY_INFO!A29=0,\" \",COUNTRY_INFO!A29)","v":"Guinea Bissau"},{"$f":"IF(COUNTRY_INFO!B29=0,\" \",COUNTRY_INFO!B29)","v":"Bijagos"},{"$f":"IF(COUNTRY_INFO!C29=0,\" \",COUNTRY_INFO!C29)","v":"Orango zinho"},{"$f":"IF(COUNTRY_INFO!$T$9:$T$1000=\"MDA2 (DEC+ALB)\", COUNTRY_INFO!$T$9:$T$1000, \" \")","v":" "},null,null,null,null,0,null,null,null,0," "," "," "," "]
[{"$f":"IF(COUNTRY_INFO!A30=0,\" \",COUNTRY_INFO!A30)","v":"Guinea Bissau"},{"$f":"IF(COUNTRY_INFO!B30=0,\" \",COUNTRY_INFO!B30)","v":"Bijagos"},{"$f":"IF(COUNTRY_INFO!C30=0,\" \",COUNTRY_INFO!C30)","v":"Soga"},{"$f":"IF(COUNTRY_INFO!$T$9:$T$1000=\"MDA2 (DEC+ALB)\", COUNTRY_INFO!$T$9:$T$1000, \" \")","v":" "},null,null,null,null,0,null,null,null,0," "," "," "," "]
[{"$f":"IF(COUNTRY_INFO!A31=0,\" \",COUNTRY_INFO!A31)","v":"Guinea Bissau"},{"$f":"IF(COUNTRY_INFO!B31=0,\" \",COUNTRY_INFO!B31)","v":"Bijagos"},{"$f":"IF(COUNTRY_INFO!C31=0,\" \",COUNTRY_INFO!C31)","v":"Unhocomo"},{"$f":"IF(COUNTRY_INFO!$T$9:$T$1000=\"MDA2 (DEC+ALB)\", COUNTRY_INFO!$T$9:$T$1000, \" \")","v":" "},null,null,null,null,0,null,null,null,0," "," "," "," "]
[{"$f":"IF(COUNTRY_INFO!A32=0,\" \",COUNTRY_INFO!A32)","v":"Guinea Bissau"},{"$f":"IF(COUNTRY_INFO!B32=0,\" \",COUNTRY_INFO!B32)","v":"Bijagos"},{"$f":"IF(COUNTRY_INFO!C32=0,\" \",COUNTRY_INFO!C32)","v":"Uno"},{"$f":"IF(COUNTRY_INFO!$T$9:$T$1000=\"MDA2 (DEC+ALB)\", COUNTRY_INFO!$T$9:$T$1000, \" \")","v":" "},null,null,null,null,0,null,null,null,0," "," "," "," "]
[{"$f":"IF(COUNTRY_INFO!A33=0,\" \",COUNTRY_INFO!A33)","v":"Guinea Bissau"},{"$f":"IF(COUNTRY_INFO!B33=0,\" \",COUNTRY_INFO!B33)","v":"Bijagos"},{"$f":"IF(COUNTRY_INFO!C33=0,\" \",COUNTRY_INFO!C33)","v":"Uracane"},{"$f":"IF(COUNTRY_INFO!$T$9:$T$1000=\"MDA2 (DEC+ALB)\", COUNTRY_INFO!$T$9:$T$1000, \" \")","v":" "},null,null,null,null,0,null,null,null,0," "," "," "," "]
[{"$f":"IF(COUNTRY_INFO!A34=0,\" \",COUNTRY_INFO!A34)","v":"Guinea Bissau"},{"$f":"IF(COUNTRY_INFO!B34=0,\" \",COUNTRY_INFO!B34)","v":"Biombo"},{"$f":"IF(COUNTRY_INFO!C34=0,\" \",COUNTRY_INFO!C34)","v":"BIJIMITA"},{"$f":"IF(COUNTRY_INFO!$T$9:$T$1000=\"MDA2 (DEC+ALB)\", COUNTRY_INFO!$T$9:$T$1000, \" \")","v":" "},null,null,null,null,0,null,null,null,0," "," "," "," "]
[{"$f":"IF(COUNTRY_INFO!A35=0,\" \",COUNTRY_INFO!A35)","v":"Guinea Bissau"},{"$f":"IF(COUNTRY_INFO!B35=0,\" \",COUNTRY_INFO!B35)","v":"Biombo"},{"$f":"IF(COUNTRY_INFO!C35=0,\" \",COUNTRY_INFO!C35)","v":"CUMURA"},{"$f":"IF(COUNTRY_INFO!$T$9:$T$1000=\"MDA2 (DEC+ALB)\", COUNTRY_INFO!$T$9:$T$1000, \" \")","v":" "},null,null,null,null,0,null,null,null,0," "," "," "," "]
[{"$f":"IF(COUNTRY_INFO!A36=0,\" \",COUNTRY_INFO!A36)","v":"Guinea Bissau"},{"$f":"IF(COUNTRY_INFO!B36=0,\" \",COUNTRY_INFO!B36)","v":"Biombo"},{"$f":"IF(COUNTRY_INFO!C36=0,\" \",COUNTRY_INFO!C36)","v":"DORSE"},{"$f":"IF(COUNTRY_INFO!$T$9:$T$1000=\"MDA2 (DEC+ALB)\", COUNTRY_INFO!$T$9:$T$1000, \" \")","v":" "},null,null,null,null,0,null,null,null,0," "," "," "," "]
[{"$f":"IF(COUNTRY_INFO!A37=0,\" \",COUNTRY_INFO!A37)","v":"Guinea Bissau"},{"$f":"IF(COUNTRY_INFO!B37=0,\" \",COUNTRY_INFO!B37)","v":"Biombo"},{"$f":"IF(COUNTRY_INFO!C37=0,\" \",COUNTRY_INFO!C37)","v":"ILONDE"},{"$f":"IF(COUNTRY_INFO!$T$9:$T$1000=\"MDA2 (DEC+ALB)\", COUNTRY_INFO!$T$9:$T$1000, \" \")","v":" "},null,null,null,null,0,null,null,null,0," "," "," "," "]
[{"$f":"IF(COUNTRY_INFO!A38=0,\" \",COUNTRY_INFO!A38)","v":"Guinea Bissau"},{"$f":"IF(COUNTRY_INFO!B38=0,\" \",COUNTRY_INFO!B38)","v":"Biombo"},{"$f":"IF(COUNTRY_INFO!C38=0,\" \",COUNTRY_INFO!C38)","v":"ONDAME"},{"$f":"IF(COUNTRY_INFO!$T$9:$T$1000=\"MDA2 (DEC+ALB)\", COUNTRY_INFO!$T$9:$T$1000, \" \")","v":" "},null,null,null,null,0,null,null,null,0," "," "," "," "]
[{"$f":"IF(COUNTRY_INFO!A39=0,\" \",COUNTRY_INFO!A39)","v":"Guinea Bissau"},{"$f":"IF(COUNTRY_INFO!B39=0,\" \",COUNTRY_INFO!B39)","v":"Biombo"},{"$f":"IF(COUNTRY_INFO!C39=0,\" \",COUNTRY_INFO!C39)","v":"PRABIS"},{"$f":"IF(COUNTRY_INFO!$T$9:$T$1000=\"MDA2 (DEC+ALB)\", COUNTRY_INFO!$T$9:$T$1000, \" \")","v":" "},null,null,null,null,0,null,null,null,0," "," "," "," "]
[{"$f":"IF(COUNTRY_INFO!A40=0,\" \",COUNTRY_INFO!A40)","v":"Guinea Bissau"},{"$f":"IF(COUNTRY_INFO!B40=0,\" \",COUNTRY_INFO!B40)","v":"Biombo"},{"$f":"IF(COUNTRY_INFO!C40=0,\" \",COUNTRY_INFO!C40)","v":"QUINHAMEL"},{"$f":"IF(COUNTRY_INFO!$T$9:$T$1000=\"MDA2 (DEC+ALB)\", COUNTRY_INFO!$T$9:$T$1000, \" \")","v":" "},null,null,null,null,0,null,null,null,0," "," "," "," "]
[{"$f":"IF(COUNTRY_INFO!A41=0,\" \",COUNTRY_INFO!A41)","v":"Guinea Bissau"},{"$f":"IF(COUNTRY_INFO!B41=0,\" \",COUNTRY_INFO!B41)","v":"Biombo"},{"$f":"IF(COUNTRY_INFO!C41=0,\" \",COUNTRY_INFO!C41)","v":"SAFIM"},{"$f":"IF(COUNTRY_INFO!$T$9:$T$1000=\"MDA2 (DEC+ALB)\", COUNTRY_INFO!$T$9:$T$1000, \" \")","v":" "},null,null,null,null,0,null,null,null,0," "," "," "," "]
[{"$f":"IF(COUNTRY_INFO!A42=0,\" \",COUNTRY_INFO!A42)","v":"Guinea Bissau"},{"$f":"IF(COUNTRY_INFO!B42=0,\" \",COUNTRY_INFO!B42)","v":"Farim"},{"$f":"IF(COUNTRY_INFO!C42=0,\" \",COUNTRY_INFO!C42)","v":"BINTA"},{"$f":"IF(COUNTRY_INFO!$T$9:$T$1000=\"MDA2 (DEC+ALB)\", COUNTRY_INFO!$T$9:$T$1000, \" \")","v":" "},null,null,null,null,0,null,null,null,0," "," "," "," "]
[{"$f":"IF(COUNTRY_INFO!A43=0,\" \",COUNTRY_INFO!A43)","v":"Guinea Bissau"},{"$f":"IF(COUNTRY_INFO!B43=0,\" \",COUNTRY_INFO!B43)","v":"Farim"},{"$f":"IF(COUNTRY_INFO!C43=0,\" \",COUNTRY_INFO!C43)","v":"CANDJAMBARI"},{"$f":"IF(COUNTRY_INFO!$T$9:$T$1000=\"MDA2 (DEC+ALB)\", COUNTRY_INFO!$T$9:$T$1000, \" \")","v":" "},null,null,null,null,0,null,null,null,0," "," "," "," "]
[{"$f":"IF(COUNTRY_INFO!A44=0,\" \",COUNTRY_INFO!A44)","v":"Guinea Bissau"},{"$f":"IF(COUNTRY_INFO!B44=0,\" \",COUNTRY_INFO!B44)","v":"Farim"},{"$f":"IF(COUNTRY_INFO!C44=0,\" \",COUNTRY_INFO!C44)","v":"CUNTIMA"},{"$f":"IF(COUNTRY_INFO!$T$9:$T$1000=\"MDA2 (DEC+ALB)\", COUNTRY_INFO!$T$9:$T$1000, \" \")","v":" "},null,null,null,null,0,null,null,null,0," "," "," "," "]
[{"$f":"IF(COUNTRY_INFO!A45=0,\" \",COUNTRY_INFO!A45)","v":"Guinea Bissau"},{"$f":"IF(COUNTRY_INFO!B45=0,\" \",COUNTRY_INFO!B45)","v":"Farim"},{"$f":"IF(COUNTRY_INFO!C45=0,\" \",COUNTRY_INFO!C45)","v":"FARIM"},{"$f":"IF(COUNTRY_INFO!$T$9:$T$1000=\"MDA2 (DEC+ALB)\", COUNTRY_INFO!$T$9:$T$1000, \" \")","v":" "},null,null,null,null,0,null,null,null,0," "," "," "," "]
[{"$f":"IF(COUNTRY_INFO!A46=0,\" \",COUNTRY_INFO!A46)","v":"Guinea Bissau"},{"$f":"IF(COUNTRY_INFO!B46=0,\" \",COUNTRY_INFO!B46)","v":"Farim"},{"$f":"IF(COUNTRY_INFO!C46=0,\" \",COUNTRY_INFO!C46)","v":"GUIDAGE"},{"$f":"IF(COUNTRY_INFO!$T$9:$T$1000=\"MDA2 (DEC+ALB)\", COUNTRY_INFO!$T$9:$T$1000, \" \")","v":" "},null,null,null,null,0,null,null,null,0," "," "," "," "]
[{"$f":"IF(COUNTRY_INFO!A47=0,\" \",COUNTRY_INFO!A47)","v":"Guinea Bissau"},{"$f":"IF(COUNTRY_INFO!B47=0,\" \",COUNTRY_INFO!B47)","v":"Oio"},{"$f":"IF(COUNTRY_INFO!C47=0,\" \",COUNTRY_INFO!C47)","v":"BINAR"},{"$f":"IF(COUNTRY_INFO!$T$9:$T$1000=\"MDA2 (DEC+ALB)\", COUNTRY_INFO!$T$9:$T$1000, \" \")","v":" "},null,null,null,null,0,null,null,null,0," "," "," "," "]
[{"$f":"IF(COUNTRY_INFO!A48=0,\" \",COUNTRY_INFO!A48)","v":"Guinea Bissau"},{"$f":"IF(COUNTRY_INFO!B48=0,\" \",COUNTRY_INFO!B48)","v":"Oio"},{"$f":"IF(COUNTRY_INFO!C48=0,\" \",COUNTRY_INFO!C48)","v":"BISSORA"},{"$f":"IF(COUNTRY_INFO!$T$9:$T$1000=\"MDA2 (DEC+ALB)\", COUNTRY_INFO!$T$9:$T$1000, \" \")","v":" "},null,null,null,null,0,null,null,null,0," "," "," "," "]
[{"$f":"IF(COUNTRY_INFO!A49=0,\" \",COUNTRY_INFO!A49)","v":"Guinea Bissau"},{"$f":"IF(COUNTRY_INFO!B49=0,\" \",COUNTRY_INFO!B49)","v":"Oio"},{"$f":"IF(COUNTRY_INFO!C49=0,\" \",COUNTRY_INFO!C49)","v":"ENCHEIA"},{"$f":"IF(COUNTRY_INFO!$T$9:$T$1000=\"MDA2 (DEC+ALB)\", COUNTRY_INFO!$T$9:$T$1000, \" \")","v":" "},null,null,null,null,0,null,null,null,0," "," "," "," "]
[{"$f":"IF(COUNTRY_INFO!A50=0,\" \",COUNTRY_INFO!A50)","v":"Guinea Bissau"},{"$f":"IF(COUNTRY_INFO!B50=0,\" \",COUNTRY_INFO!B50)","v":"Oio"},{"$f":"IF(COUNTRY_INFO!C50=0,\" \",COUNTRY_INFO!C50)","v":"GÃ-MAMUDO"},{"$f":"IF(COUNTRY_INFO!$T$9:$T$1000=\"MDA2 (DEC+ALB)\", COUNTRY_INFO!$T$9:$T$1000, \" \")","v":" "},null,null,null,null,0,null,null,null,0," "," "," "," "]
[{"$f":"IF(COUNTRY_INFO!A51=0,\" \",COUNTRY_INFO!A51)","v":"Guinea Bissau"},{"$f":"IF(COUNTRY_INFO!B51=0,\" \",COUNTRY_INFO!B51)","v":"Oio"},{"$f":"IF(COUNTRY_INFO!C51=0,\" \",COUNTRY_INFO!C51)","v":"MANSABA"},{"$f":"IF(COUNTRY_INFO!$T$9:$T$1000=\"MDA2 (DEC+ALB)\", COUNTRY_INFO!$T$9:$T$1000, \" \")","v":" "},null,null,null,null,0,null,null,null,0," "," "," "," "]
[{"$f":"IF(COUNTRY_INFO!A52=0,\" \",COUNTRY_INFO!A52)","v":"Guinea Bissau"},{"$f":"IF(COUNTRY_INFO!B52=0,\" \",COUNTRY_INFO!B52)","v":"Oio"},{"$f":"IF(COUNTRY_INFO!C52=0,\" \",COUNTRY_INFO!C52)","v":"MANSOA"},{"$f":"IF(COUNTRY_INFO!$T$9:$T$1000=\"MDA2 (DEC+ALB)\", COUNTRY_INFO!$T$9:$T$1000, \" \")","v":" "},null,null,null,null,0,null,null,null,0," "," "," "," "]
[{"$f":"IF(COUNTRY_INFO!A53=0,\" \",COUNTRY_INFO!A53)","v":"Guinea Bissau"},{"$f":"IF(COUNTRY_INFO!B53=0,\" \",COUNTRY_INFO!B53)","v":"Oio"},{"$f":"IF(COUNTRY_INFO!C53=0,\" \",COUNTRY_INFO!C53)","v":"MORES"},{"$f":"IF(COUNTRY_INFO!$T$9:$T$1000=\"MDA2 (DEC+ALB)\", COUNTRY_INFO!$T$9:$T$1000, \" \")","v":" "},null,null,null,null,0,null,null,null,0," "," "," "," "]
[{"$f":"IF(COUNTRY_INFO!A54=0,\" \",COUNTRY_INFO!A54)","v":"Guinea Bissau"},{"$f":"IF(COUNTRY_INFO!B54=0,\" \",COUNTRY_INFO!B54)","v":"Oio"},{"$f":"IF(COUNTRY_INFO!C54=0,\" \",COUNTRY_INFO!C54)","v":"NHACRA"},{"$f":"IF(COUNTRY_INFO!$T$9:$T$1000=\"MDA2 (DEC+ALB)\", COUNTRY_INFO!$T$9:$T$1000, \" \")","v":" "},null,null,null,null,0,null,null,null,0," "," "," "," "]
[{"$f":"IF(COUNTRY_INFO!A55=0,\" \",COUNTRY_INFO!A55)","v":"Guinea Bissau"},{"$f":"IF(COUNTRY_INFO!B55=0,\" \",COUNTRY_INFO!B55)","v":"Oio"},{"$f":"IF(COUNTRY_INFO!C55=0,\" \",COUNTRY_INFO!C55)","v":"OLOSSATO"},{"$f":"IF(COUNTRY_INFO!$T$9:$T$1000=\"MDA2 (DEC+ALB)\", COUNTRY_INFO!$T$9:$T$1000, \" \")","v":" "},null,null,null,null,0,null,null,null,0," "," "," "," "]
[{"$f":"IF(COUNTRY_INFO!A56=0,\" \",COUNTRY_INFO!A56)","v":"Guinea Bissau"},{"$f":"IF(COUNTRY_INFO!B56=0,\" \",COUNTRY_INFO!B56)","v":"Oio"},{"$f":"IF(COUNTRY_INFO!C56=0,\" \",COUNTRY_INFO!C56)","v":"PORTUGOL"},{"$f":"IF(COUNTRY_INFO!$T$9:$T$1000=\"MDA2 (DEC+ALB)\", COUNTRY_INFO!$T$9:$T$1000, \" \")","v":" "},null,null,null,null,0,null,null,null,0," "," "," "," "]
[{"$f":"IF(COUNTRY_INFO!A57=0,\" \",COUNTRY_INFO!A57)","v":"Guinea Bissau"},{"$f":"IF(COUNTRY_INFO!B57=0,\" \",COUNTRY_INFO!B57)","v":"Bolama"},{"$f":"IF(COUNTRY_INFO!C57=0,\" \",COUNTRY_INFO!C57)","v":"BOLAMA"},{"$f":"IF(COUNTRY_INFO!$T$9:$T$1000=\"MDA2 (DEC+ALB)\", COUNTRY_INFO!$T$9:$T$1000, \" \")","v":" "},null,null,null,null,0,null,null,null,0," "," "," "," "]
[{"$f":"IF(COUNTRY_INFO!A58=0,\" \",COUNTRY_INFO!A58)","v":"Guinea Bissau"},{"$f":"IF(COUNTRY_INFO!B58=0,\" \",COUNTRY_INFO!B58)","v":"Bolama"},{"$f":"IF(COUNTRY_INFO!C58=0,\" \",COUNTRY_INFO!C58)","v":"I.  GALINHAS"},{"$f":"IF(COUNTRY_INFO!$T$9:$T$1000=\"MDA2 (DEC+ALB)\", COUNTRY_INFO!$T$9:$T$1000, \" \")","v":" "},null,null,null,null,0,null,null,null,0," "," "," "," "]
[{"$f":"IF(COUNTRY_INFO!A59=0,\" \",COUNTRY_INFO!A59)","v":"Guinea Bissau"},{"$f":"IF(COUNTRY_INFO!B59=0,\" \",COUNTRY_INFO!B59)","v":"Bolama"},{"$f":"IF(COUNTRY_INFO!C59=0,\" \",COUNTRY_INFO!C59)","v":"SÃO-JOÃO "},{"$f":"IF(COUNTRY_INFO!$T$9:$T$1000=\"MDA2 (DEC+ALB)\", COUNTRY_INFO!$T$9:$T$1000, \" \")","v":" "},null,null,null,null,0,null,null,null,0," "," "," "," "]
[{"$f":"IF(COUNTRY_INFO!A60=0,\" \",COUNTRY_INFO!A60)","v":"Guinea Bissau"},{"$f":"IF(COUNTRY_INFO!B60=0,\" \",COUNTRY_INFO!B60)","v":"Gabu"},{"$f":"IF(COUNTRY_INFO!C60=0,\" \",COUNTRY_INFO!C60)","v":"BAJOCUNDA"},{"$f":"IF(COUNTRY_INFO!$T$9:$T$1000=\"MDA2 (DEC+ALB)\", COUNTRY_INFO!$T$9:$T$1000, \" \")","v":" "},null,null,null,null,0,null,null,null,0," "," "," "," "]
[{"$f":"IF(COUNTRY_INFO!A61=0,\" \",COUNTRY_INFO!A61)","v":"Guinea Bissau"},{"$f":"IF(COUNTRY_INFO!B61=0,\" \",COUNTRY_INFO!B61)","v":"Gabu"},{"$f":"IF(COUNTRY_INFO!C61=0,\" \",COUNTRY_INFO!C61)","v":"BELI"},{"$f":"IF(COUNTRY_INFO!$T$9:$T$1000=\"MDA2 (DEC+ALB)\", COUNTRY_INFO!$T$9:$T$1000, \" \")","v":" "},null,null,null,null,0,null,null,null,0," "," "," "," "]
[{"$f":"IF(COUNTRY_INFO!A62=0,\" \",COUNTRY_INFO!A62)","v":"Guinea Bissau"},{"$f":"IF(COUNTRY_INFO!B62=0,\" \",COUNTRY_INFO!B62)","v":"Gabu"},{"$f":"IF(COUNTRY_INFO!C62=0,\" \",COUNTRY_INFO!C62)","v":"BURUNTUMA"},{"$f":"IF(COUNTRY_INFO!$T$9:$T$1000=\"MDA2 (DEC+ALB)\", COUNTRY_INFO!$T$9:$T$1000, \" \")","v":" "},null,null,null,null,0,null,null,null,0," "," "," "," "]
[{"$f":"IF(COUNTRY_INFO!A63=0,\" \",COUNTRY_INFO!A63)","v":"Guinea Bissau"},{"$f":"IF(COUNTRY_INFO!B63=0,\" \",COUNTRY_INFO!B63)","v":"Gabu"},{"$f":"IF(COUNTRY_INFO!C63=0,\" \",COUNTRY_INFO!C63)","v":"CANJADUDE"},{"$f":"IF(COUNTRY_INFO!$T$9:$T$1000=\"MDA2 (DEC+ALB)\", COUNTRY_INFO!$T$9:$T$1000, \" \")","v":" "},null,null,null,null,0,null,null,null,0," "," "," "," "]
[{"$f":"IF(COUNTRY_INFO!A64=0,\" \",COUNTRY_INFO!A64)","v":"Guinea Bissau"},{"$f":"IF(COUNTRY_INFO!B64=0,\" \",COUNTRY_INFO!B64)","v":"Gabu"},{"$f":"IF(COUNTRY_INFO!C64=0,\" \",COUNTRY_INFO!C64)","v":"CANQUELIFA"},{"$f":"IF(COUNTRY_INFO!$T$9:$T$1000=\"MDA2 (DEC+ALB)\", COUNTRY_INFO!$T$9:$T$1000, \" \")","v":" "},null,null,null,null,0,null,null,null,0," "," "," "," "]
[{"$f":"IF(COUNTRY_INFO!A65=0,\" \",COUNTRY_INFO!A65)","v":"Guinea Bissau"},{"$f":"IF(COUNTRY_INFO!B65=0,\" \",COUNTRY_INFO!B65)","v":"Gabu"},{"$f":"IF(COUNTRY_INFO!C65=0,\" \",COUNTRY_INFO!C65)","v":"CANSISSE"},{"$f":"IF(COUNTRY_INFO!$T$9:$T$1000=\"MDA2 (DEC+ALB)\", COUNTRY_INFO!$T$9:$T$1000, \" \")","v":" "},null,null,null,null,0,null,null,null,0," "," "," "," "]
[{"$f":"IF(COUNTRY_INFO!A66=0,\" \",COUNTRY_INFO!A66)","v":"Guinea Bissau"},{"$f":"IF(COUNTRY_INFO!B66=0,\" \",COUNTRY_INFO!B66)","v":"Gabu"},{"$f":"IF(COUNTRY_INFO!C66=0,\" \",COUNTRY_INFO!C66)","v":"FASSE"},{"$f":"IF(COUNTRY_INFO!$T$9:$T$1000=\"MDA2 (DEC+ALB)\", COUNTRY_INFO!$T$9:$T$1000, \" \")","v":" "},null,null,null,null,0,null,null,null,0," "," "," "," "]
[{"$f":"IF(COUNTRY_INFO!A67=0,\" \",COUNTRY_INFO!A67)","v":"Guinea Bissau"},{"$f":"IF(COUNTRY_INFO!B67=0,\" \",COUNTRY_INFO!B67)","v":"Gabu"},{"$f":"IF(COUNTRY_INFO!C67=0,\" \",COUNTRY_INFO!C67)","v":"PAUNCA"},{"$f":"IF(COUNTRY_INFO!$T$9:$T$1000=\"MDA2 (DEC+ALB)\", COUNTRY_INFO!$T$9:$T$1000, \" \")","v":" "},null,null,null,null,0,null,null,null,0," "," "," "," "]
[{"$f":"IF(COUNTRY_INFO!A68=0,\" \",COUNTRY_INFO!A68)","v":"Guinea Bissau"},{"$f":"IF(COUNTRY_INFO!B68=0,\" \",COUNTRY_INFO!B68)","v":"Gabu"},{"$f":"IF(COUNTRY_INFO!C68=0,\" \",COUNTRY_INFO!C68)","v":"PITCHE"},{"$f":"IF(COUNTRY_INFO!$T$9:$T$1000=\"MDA2 (DEC+ALB)\", COUNTRY_INFO!$T$9:$T$1000, \" \")","v":" "},null,null,null,null,0,null,null,null,0," "," "," "," "]
[{"$f":"IF(COUNTRY_INFO!A69=0,\" \",COUNTRY_INFO!A69)","v":"Guinea Bissau"},{"$f":"IF(COUNTRY_INFO!B69=0,\" \",COUNTRY_INFO!B69)","v":"Gabu"},{"$f":"IF(COUNTRY_INFO!C69=0,\" \",COUNTRY_INFO!C69)","v":"DARA"},{"$f":"IF(COUNTRY_INFO!$T$9:$T$1000=\"MDA2 (DEC+ALB)\", COUNTRY_INFO!$T$9:$T$1000, \" \")","v":" "},null,null,null,null,0,null,null,null,0," "," "," "," "]
[{"$f":"IF(COUNTRY_INFO!A70=0,\" \",COUNTRY_INFO!A70)","v":"Guinea Bissau"},{"$f":"IF(COUNTRY_INFO!B70=0,\" \",COUNTRY_INFO!B70)","v":"Gabu"},{"$f":"IF(COUNTRY_INFO!C70=0,\" \",COUNTRY_INFO!C70)","v":"PIRADA"},{"$f":"IF(COUNTRY_INFO!$T$9:$T$1000=\"MDA2 (DEC+ALB)\", COUNTRY_INFO!$T$9:$T$1000, \" \")","v":" "},null,null,null,null,0,null,null,null,0," "," "," "," "]
[{"$f":"IF(COUNTRY_INFO!A71=0,\" \",COUNTRY_INFO!A71)","v":"Guinea Bissau"},{"$f":"IF(COUNTRY_INFO!B71=0,\" \",COUNTRY_INFO!B71)","v":"Gabu"},{"$f":"IF(COUNTRY_INFO!C71=0,\" \",COUNTRY_INFO!C71)","v":"DANDUM"},{"$f":"IF(COUNTRY_INFO!$T$9:$T$1000=\"MDA2 (DEC+ALB)\", COUNTRY_INFO!$T$9:$T$1000, \" \")","v":" "},null,null,null,null,0,null,null,null,0," "," "," "," "]
[{"$f":"IF(COUNTRY_INFO!A72=0,\" \",COUNTRY_INFO!A72)","v":"Guinea Bissau"},{"$f":"IF(COUNTRY_INFO!B72=0,\" \",COUNTRY_INFO!B72)","v":"Gabu"},{"$f":"IF(COUNTRY_INFO!C72=0,\" \",COUNTRY_INFO!C72)","v":"MANSADJAM"},{"$f":"IF(COUNTRY_INFO!$T$9:$T$1000=\"MDA2 (DEC+ALB)\", COUNTRY_INFO!$T$9:$T$1000, \" \")","v":" "},null,null,null,null,0,null,null,null,0," "," "," "," "]
[{"$f":"IF(COUNTRY_INFO!A73=0,\" \",COUNTRY_INFO!A73)","v":"Guinea Bissau"},{"$f":"IF(COUNTRY_INFO!B73=0,\" \",COUNTRY_INFO!B73)","v":"Gabu"},{"$f":"IF(COUNTRY_INFO!C73=0,\" \",COUNTRY_INFO!C73)","v":"SONACO"},{"$f":"IF(COUNTRY_INFO!$T$9:$T$1000=\"MDA2 (DEC+ALB)\", COUNTRY_INFO!$T$9:$T$1000, \" \")","v":" "},null,null,null,null,0,null,null,null,0," "," "," "," "]
[{"$f":"IF(COUNTRY_INFO!A74=0,\" \",COUNTRY_INFO!A74)","v":"Guinea Bissau"},{"$f":"IF(COUNTRY_INFO!B74=0,\" \",COUNTRY_INFO!B74)","v":"Gabu"},{"$f":"IF(COUNTRY_INFO!C74=0,\" \",COUNTRY_INFO!C74)","v":"LUGADJOLE"},{"$f":"IF(COUNTRY_INFO!$T$9:$T$1000=\"MDA2 (DEC+ALB)\", COUNTRY_INFO!$T$9:$T$1000, \" \")","v":" "},null,null,null,null,{"$f":"SUM(F74:H74)","v":0},null,null,null,{"$f":"SUM(J74:L74)","v":0},{"$f":"IF(F74<>0, IF(J74/F74*100=0, \"-\", J74/F74*100), \" \")","v":" "},{"$f":"IF(G74<>0, IF(K74/G74*100=0, \"-\", K74/G74*100), \" \")","v":" "},{"$f":"IF(H74<>0, IF(L74/H74*100=0, \"-\", L74/H74*100), \" \")","v":" "},{"$f":"IF(I74<>0, IF(M74/I74*100=0, \"-\", M74/I74*100), \" \")","v":" "}]
[{"$f":"IF(COUNTRY_INFO!A75=0,\" \",COUNTRY_INFO!A75)","v":"Guinea Bissau"},{"$f":"IF(COUNTRY_INFO!B75=0,\" \",COUNTRY_INFO!B75)","v":"Gabu"},{"$f":"IF(COUNTRY_INFO!C75=0,\" \",COUNTRY_INFO!C75)","v":"GABU"},{"$f":"IF(COUNTRY_INFO!$T$9:$T$1000=\"MDA2 (DEC+ALB)\", COUNTRY_INFO!$T$9:$T$1000, \" \")","v":" "},null,null,null,null,0,null,null,null,0," "," "," "," "]
[{"$f":"IF(COUNTRY_INFO!A76=0,\" \",COUNTRY_INFO!A76)","v":"Guinea Bissau"},{"$f":"IF(COUNTRY_INFO!B76=0,\" \",COUNTRY_INFO!B76)","v":"Gabu"},{"$f":"IF(COUNTRY_INFO!C76=0,\" \",COUNTRY_INFO!C76)","v":"CANDJUFA"},{"$f":"IF(COUNTRY_INFO!$T$9:$T$1000=\"MDA2 (DEC+ALB)\", COUNTRY_INFO!$T$9:$T$1000, \" \")","v":" "},null,null,null,null,0,null,null,null,0," "," "," "," "]
[{"$f":"IF(COUNTRY_INFO!A77=0,\" \",COUNTRY_INFO!A77)","v":"Guinea Bissau"},{"$f":"IF(COUNTRY_INFO!B77=0,\" \",COUNTRY_INFO!B77)","v":"Gabu"},{"$f":"IF(COUNTRY_INFO!C77=0,\" \",COUNTRY_INFO!C77)","v":"MAFANCO"},{"$f":"IF(COUNTRY_INFO!$T$9:$T$1000=\"MDA2 (DEC+ALB)\", COUNTRY_INFO!$T$9:$T$1000, \" \")","v":" "},null,null,null,null,0,null,null,null,0," "," "," "," "]
[{"$f":"IF(COUNTRY_INFO!A78=0,\" \",COUNTRY_INFO!A78)","v":"Guinea Bissau"},{"$f":"IF(COUNTRY_INFO!B78=0,\" \",COUNTRY_INFO!B78)","v":"Gabu"},{"$f":"IF(COUNTRY_INFO!C78=0,\" \",COUNTRY_INFO!C78)","v":"TUMANA"},{"$f":"IF(COUNTRY_INFO!$T$9:$T$1000=\"MDA2 (DEC+ALB)\", COUNTRY_INFO!$T$9:$T$1000, \" \")","v":" "},null,null,null,null,0,null,null,null,0," "," "," "," "]
[{"$f":"IF(COUNTRY_INFO!A79=0,\" \",COUNTRY_INFO!A79)","v":"Guinea Bissau"},{"$f":"IF(COUNTRY_INFO!B79=0,\" \",COUNTRY_INFO!B79)","v":"Bafata"},{"$f":"IF(COUNTRY_INFO!C79=0,\" \",COUNTRY_INFO!C79)","v":"Xitole"},{"$f":"IF(COUNTRY_INFO!$T$9:$T$1000=\"MDA2 (DEC+ALB)\", COUNTRY_INFO!$T$9:$T$1000, \" \")","v":" "},null,null,null,null,0,null,null,null,0," "," "," "," "]
[{"$f":"IF(COUNTRY_INFO!A80=0,\" \",COUNTRY_INFO!A80)","v":"Guinea Bissau"},{"$f":"IF(COUNTRY_INFO!B80=0,\" \",COUNTRY_INFO!B80)","v":"Bafata"},{"$f":"IF(COUNTRY_INFO!C80=0,\" \",COUNTRY_INFO!C80)","v":"Contubuel"},{"$f":"IF(COUNTRY_INFO!$T$9:$T$1000=\"MDA2 (DEC+ALB)\", COUNTRY_INFO!$T$9:$T$1000, \" \")","v":" "},null,null,null,null,0,null,null,null,0," "," "," "," "]
[{"$f":"IF(COUNTRY_INFO!A81=0,\" \",COUNTRY_INFO!A81)","v":"Guinea Bissau"},{"$f":"IF(COUNTRY_INFO!B81=0,\" \",COUNTRY_INFO!B81)","v":"Bafata"},{"$f":"IF(COUNTRY_INFO!C81=0,\" \",COUNTRY_INFO!C81)","v":"Tendinto"},{"$f":"IF(COUNTRY_INFO!$T$9:$T$1000=\"MDA2 (DEC+ALB)\", COUNTRY_INFO!$T$9:$T$1000, \" \")","v":" "},null,null,null,null,0,null,null,null,0," "," "," "," "]
[{"$f":"IF(COUNTRY_INFO!A82=0,\" \",COUNTRY_INFO!A82)","v":"Guinea Bissau"},{"$f":"IF(COUNTRY_INFO!B82=0,\" \",COUNTRY_INFO!B82)","v":"Bafata"},{"$f":"IF(COUNTRY_INFO!C82=0,\" \",COUNTRY_INFO!C82)","v":"Geba"},{"$f":"IF(COUNTRY_INFO!$T$9:$T$1000=\"MDA2 (DEC+ALB)\", COUNTRY_INFO!$T$9:$T$1000, \" \")","v":" "},null,null,null,null,0,null,null,null,0," "," "," "," "]
[{"$f":"IF(COUNTRY_INFO!A83=0,\" \",COUNTRY_INFO!A83)","v":"Guinea Bissau"},{"$f":"IF(COUNTRY_INFO!B83=0,\" \",COUNTRY_INFO!B83)","v":"Bafata"},{"$f":"IF(COUNTRY_INFO!C83=0,\" \",COUNTRY_INFO!C83)","v":"Tantancosse"},{"$f":"IF(COUNTRY_INFO!$T$9:$T$1000=\"MDA2 (DEC+ALB)\", COUNTRY_INFO!$T$9:$T$1000, \" \")","v":" "},null,null,null,null,0,null,null,null,0," "," "," "," "]
[{"$f":"IF(COUNTRY_INFO!A84=0,\" \",COUNTRY_INFO!A84)","v":"Guinea Bissau"},{"$f":"IF(COUNTRY_INFO!B84=0,\" \",COUNTRY_INFO!B84)","v":"Bafata"},{"$f":"IF(COUNTRY_INFO!C84=0,\" \",COUNTRY_INFO!C84)","v":"Ga-mamudo"},{"$f":"IF(COUNTRY_INFO!$T$9:$T$1000=\"MDA2 (DEC+ALB)\", COUNTRY_INFO!$T$9:$T$1000, \" \")","v":" "},null,null,null,null,0,null,null,null,0," "," "," "," "]
[{"$f":"IF(COUNTRY_INFO!A85=0,\" \",COUNTRY_INFO!A85)","v":"Guinea Bissau"},{"$f":"IF(COUNTRY_INFO!B85=0,\" \",COUNTRY_INFO!B85)","v":"Bafata"},{"$f":"IF(COUNTRY_INFO!C85=0,\" \",COUNTRY_INFO!C85)","v":"Bambadinca"},{"$f":"IF(COUNTRY_INFO!$T$9:$T$1000=\"MDA2 (DEC+ALB)\", COUNTRY_INFO!$T$9:$T$1000, \" \")","v":" "},null,null,null,null,0,null,null,null,0," "," "," "," "]
[{"$f":"IF(COUNTRY_INFO!A86=0,\" \",COUNTRY_INFO!A86)","v":"Guinea Bissau"},{"$f":"IF(COUNTRY_INFO!B86=0,\" \",COUNTRY_INFO!B86)","v":"Bafata"},{"$f":"IF(COUNTRY_INFO!C86=0,\" \",COUNTRY_INFO!C86)","v":"Ga carnes"},{"$f":"IF(COUNTRY_INFO!$T$9:$T$1000=\"MDA2 (DEC+ALB)\", COUNTRY_INFO!$T$9:$T$1000, \" \")","v":" "},null,null,null,null,0,null,null,null,0," "," "," "," "]
[{"$f":"IF(COUNTRY_INFO!A87=0,\" \",COUNTRY_INFO!A87)","v":"Guinea Bissau"},{"$f":"IF(COUNTRY_INFO!B87=0,\" \",COUNTRY_INFO!B87)","v":"Bafata"},{"$f":"IF(COUNTRY_INFO!C87=0,\" \",COUNTRY_INFO!C87)","v":"Cambaju"},{"$f":"IF(COUNTRY_INFO!$T$9:$T$1000=\"MDA2 (DEC+ALB)\", COUNTRY_INFO!$T$9:$T$1000, \" \")","v":" "},null,null,null,null,0,null,null,null,0," "," "," "," "]
[{"$f":"IF(COUNTRY_INFO!A88=0,\" \",COUNTRY_INFO!A88)","v":"Guinea Bissau"},{"$f":"IF(COUNTRY_INFO!B88=0,\" \",COUNTRY_INFO!B88)","v":"Bafata"},{"$f":"IF(COUNTRY_INFO!C88=0,\" \",COUNTRY_INFO!C88)","v":"Gam ture"},{"$f":"IF(COUNTRY_INFO!$T$9:$T$1000=\"MDA2 (DEC+ALB)\", COUNTRY_INFO!$T$9:$T$1000, \" \")","v":" "},null,null,null,null,0,null,null,null,0," "," "," "," "]
[{"$f":"IF(COUNTRY_INFO!A89=0,\" \",COUNTRY_INFO!A89)","v":"Guinea Bissau"},{"$f":"IF(COUNTRY_INFO!B89=0,\" \",COUNTRY_INFO!B89)","v":"Bafata"},{"$f":"IF(COUNTRY_INFO!C89=0,\" \",COUNTRY_INFO!C89)","v":"Sare bacar"},{"$f":"IF(COUNTRY_INFO!$T$9:$T$1000=\"MDA2 (DEC+ALB)\", COUNTRY_INFO!$T$9:$T$1000, \" \")","v":" "},null,null,null,null,0,null,null,null,0," "," "," "," "]
[{"$f":"IF(COUNTRY_INFO!A90=0,\" \",COUNTRY_INFO!A90)","v":"Guinea Bissau"},{"$f":"IF(COUNTRY_INFO!B90=0,\" \",COUNTRY_INFO!B90)","v":"Bafata"},{"$f":"IF(COUNTRY_INFO!C90=0,\" \",COUNTRY_INFO!C90)","v":"Fajonquito"},{"$f":"IF(COUNTRY_INFO!$T$9:$T$1000=\"MDA2 (DEC+ALB)\", COUNTRY_INFO!$T$9:$T$1000, \" \")","v":" "},null,null,null,null,0,null,null,null,0," "," "," "," "]
[{"$f":"IF(COUNTRY_INFO!A91=0,\" \",COUNTRY_INFO!A91)","v":"Guinea Bissau"},{"$f":"IF(COUNTRY_INFO!B91=0,\" \",COUNTRY_INFO!B91)","v":"Bafata"},{"$f":"IF(COUNTRY_INFO!C91=0,\" \",COUNTRY_INFO!C91)","v":"Cosse"},{"$f":"IF(COUNTRY_INFO!$T$9:$T$1000=\"MDA2 (DEC+ALB)\", COUNTRY_INFO!$T$9:$T$1000, \" \")","v":" "},null,null,null,null,0,null,null,null,0," "," "," "," "]
[{"$f":"IF(COUNTRY_INFO!A92=0,\" \",COUNTRY_INFO!A92)","v":"Guinea Bissau"},{"$f":"IF(COUNTRY_INFO!B92=0,\" \",COUNTRY_INFO!B92)","v":"Bafata"},{"$f":"IF(COUNTRY_INFO!C92=0,\" \",COUNTRY_INFO!C92)","v":"Bafata"},{"$f":"IF(COUNTRY_INFO!$T$9:$T$1000=\"MDA2 (DEC+ALB)\", COUNTRY_INFO!$T$9:$T$1000, \" \")","v":" "},null,null,null,null,0,null,null,null,0," "," "," "," "]
[{"$f":"IF(COUNTRY_INFO!A93=0,\" \",COUNTRY_INFO!A93)","v":"Guinea Bissau"},{"$f":"IF(COUNTRY_INFO!B93=0,\" \",COUNTRY_INFO!B93)","v":"Tombali"},{"$f":"IF(COUNTRY_INFO!C93=0,\" \",COUNTRY_INFO!C93)","v":"BEDANDA"},{"$f":"IF(COUNTRY_INFO!$T$9:$T$1000=\"MDA2 (DEC+ALB)\", COUNTRY_INFO!$T$9:$T$1000, \" \")","v":" "},null,null,null,null,0,null,null,null,0," "," "," "," "]
[{"$f":"IF(COUNTRY_INFO!A94=0,\" \",COUNTRY_INFO!A94)","v":"Guinea Bissau"},{"$f":"IF(COUNTRY_INFO!B94=0,\" \",COUNTRY_INFO!B94)","v":"Tombali"},{"$f":"IF(COUNTRY_INFO!C94=0,\" \",COUNTRY_INFO!C94)","v":"CACINE"},{"$f":"IF(COUNTRY_INFO!$T$9:$T$1000=\"MDA2 (DEC+ALB)\", COUNTRY_INFO!$T$9:$T$1000, \" \")","v":" "},null,null,null,null,0,null,null,null,0," "," "," "," "]
[{"$f":"IF(COUNTRY_INFO!A95=0,\" \",COUNTRY_INFO!A95)","v":"Guinea Bissau"},{"$f":"IF(COUNTRY_INFO!B95=0,\" \",COUNTRY_INFO!B95)","v":"Tombali"},{"$f":"IF(COUNTRY_INFO!C95=0,\" \",COUNTRY_INFO!C95)","v":"CALAQUE"},{"$f":"IF(COUNTRY_INFO!$T$9:$T$1000=\"MDA2 (DEC+ALB)\", COUNTRY_INFO!$T$9:$T$1000, \" \")","v":" "},null,null,null,null,0,null,null,null,0," "," "," "," "]
[{"$f":"IF(COUNTRY_INFO!A96=0,\" \",COUNTRY_INFO!A96)","v":"Guinea Bissau"},{"$f":"IF(COUNTRY_INFO!B96=0,\" \",COUNTRY_INFO!B96)","v":"Tombali"},{"$f":"IF(COUNTRY_INFO!C96=0,\" \",COUNTRY_INFO!C96)","v":"CATIO"},{"$f":"IF(COUNTRY_INFO!$T$9:$T$1000=\"MDA2 (DEC+ALB)\", COUNTRY_INFO!$T$9:$T$1000, \" \")","v":" "},null,null,null,null,0,null,null,null,0," "," "," "," "]
[{"$f":"IF(COUNTRY_INFO!A97=0,\" \",COUNTRY_INFO!A97)","v":"Guinea Bissau"},{"$f":"IF(COUNTRY_INFO!B97=0,\" \",COUNTRY_INFO!B97)","v":"Tombali"},{"$f":"IF(COUNTRY_INFO!C97=0,\" \",COUNTRY_INFO!C97)","v":"KOMO"},{"$f":"IF(COUNTRY_INFO!$T$9:$T$1000=\"MDA2 (DEC+ALB)\", COUNTRY_INFO!$T$9:$T$1000, \" \")","v":" "},null,null,null,null,0,null,null,null,0," "," "," "," "]
[{"$f":"IF(COUNTRY_INFO!A98=0,\" \",COUNTRY_INFO!A98)","v":"Guinea Bissau"},{"$f":"IF(COUNTRY_INFO!B98=0,\" \",COUNTRY_INFO!B98)","v":"Tombali"},{"$f":"IF(COUNTRY_INFO!C98=0,\" \",COUNTRY_INFO!C98)","v":"QUEBO"},{"$f":"IF(COUNTRY_INFO!$T$9:$T$1000=\"MDA2 (DEC+ALB)\", COUNTRY_INFO!$T$9:$T$1000, \" \")","v":" "},null,null,null,null,0,null,null,null,0," "," "," "," "]
[{"$f":"IF(COUNTRY_INFO!A99=0,\" \",COUNTRY_INFO!A99)","v":"Guinea Bissau"},{"$f":"IF(COUNTRY_INFO!B99=0,\" \",COUNTRY_INFO!B99)","v":"Tombali"},{"$f":"IF(COUNTRY_INFO!C99=0,\" \",COUNTRY_INFO!C99)","v":"SANCONHA"},{"$f":"IF(COUNTRY_INFO!$T$9:$T$1000=\"MDA2 (DEC+ALB)\", COUNTRY_INFO!$T$9:$T$1000, \" \")","v":" "},null,null,null,null,0,null,null,null,0," "," "," "," "]
[{"$f":"IF(COUNTRY_INFO!A100=0,\" \",COUNTRY_INFO!A100)","v":"Guinea Bissau"},{"$f":"IF(COUNTRY_INFO!B100=0,\" \",COUNTRY_INFO!B100)","v":"Tombali"},{"$f":"IF(COUNTRY_INFO!C100=0,\" \",COUNTRY_INFO!C100)","v":"TIMBO"},{"$f":"IF(COUNTRY_INFO!$T$9:$T$1000=\"MDA2 (DEC+ALB)\", COUNTRY_INFO!$T$9:$T$1000, \" \")","v":" "},null,null,null,null,0,null,null,null,0," "," "," "," "]
[{"$f":"IF(COUNTRY_INFO!A101=0,\" \",COUNTRY_INFO!A101)","v":"Guinea Bissau"},{"$f":"IF(COUNTRY_INFO!B101=0,\" \",COUNTRY_INFO!B101)","v":"Quinara"},{"$f":"IF(COUNTRY_INFO!C101=0,\" \",COUNTRY_INFO!C101)","v":"BRANDÃO"},{"$f":"IF(COUNTRY_INFO!$T$9:$T$1000=\"MDA2 (DEC+ALB)\", COUNTRY_INFO!$T$9:$T$1000, \" \")","v":" "},null,null,null,null,0,null,null,null,0," "," "," "," "]
[{"$f":"IF(COUNTRY_INFO!A102=0,\" \",COUNTRY_INFO!A102)","v":"Guinea Bissau"},{"$f":"IF(COUNTRY_INFO!B102=0,\" \",COUNTRY_INFO!B102)","v":"Quinara"},{"$f":"IF(COUNTRY_INFO!C102=0,\" \",COUNTRY_INFO!C102)","v":"BUBA"},{"$f":"IF(COUNTRY_INFO!$T$9:$T$1000=\"MDA2 (DEC+ALB)\", COUNTRY_INFO!$T$9:$T$1000, \" \")","v":" "},null,null,null,null,0,null,null,null,0," "," "," "," "]
[{"$f":"IF(COUNTRY_INFO!A103=0,\" \",COUNTRY_INFO!A103)","v":"Guinea Bissau"},{"$f":"IF(COUNTRY_INFO!B103=0,\" \",COUNTRY_INFO!B103)","v":"Quinara"},{"$f":"IF(COUNTRY_INFO!C103=0,\" \",COUNTRY_INFO!C103)","v":"DAR-ES-SALAM"},{"$f":"IF(COUNTRY_INFO!$T$9:$T$1000=\"MDA2 (DEC+ALB)\", COUNTRY_INFO!$T$9:$T$1000, \" \")","v":" "},null,null,null,null,0,null,null,null,0," "," "," "," "]
[{"$f":"IF(COUNTRY_INFO!A104=0,\" \",COUNTRY_INFO!A104)","v":"Guinea Bissau"},{"$f":"IF(COUNTRY_INFO!B104=0,\" \",COUNTRY_INFO!B104)","v":"Quinara"},{"$f":"IF(COUNTRY_INFO!C104=0,\" \",COUNTRY_INFO!C104)","v":"EMPADA"},{"$f":"IF(COUNTRY_INFO!$T$9:$T$1000=\"MDA2 (DEC+ALB)\", COUNTRY_INFO!$T$9:$T$1000, \" \")","v":" "},null,null,null,null,0,null,null,null,0," "," "," "," "]
[{"$f":"IF(COUNTRY_INFO!A105=0,\" \",COUNTRY_INFO!A105)","v":"Guinea Bissau"},{"$f":"IF(COUNTRY_INFO!B105=0,\" \",COUNTRY_INFO!B105)","v":"Quinara"},{"$f":"IF(COUNTRY_INFO!C105=0,\" \",COUNTRY_INFO!C105)","v":"FULACUNDA"},{"$f":"IF(COUNTRY_INFO!$T$9:$T$1000=\"MDA2 (DEC+ALB)\", COUNTRY_INFO!$T$9:$T$1000, \" \")","v":" "},null,null,null,null,0,null,null,null,0," "," "," "," "]
[{"$f":"IF(COUNTRY_INFO!A106=0,\" \",COUNTRY_INFO!A106)","v":"Guinea Bissau"},{"$f":"IF(COUNTRY_INFO!B106=0,\" \",COUNTRY_INFO!B106)","v":"Quinara"},{"$f":"IF(COUNTRY_INFO!C106=0,\" \",COUNTRY_INFO!C106)","v":"TITE"},{"$f":"IF(COUNTRY_INFO!$T$9:$T$1000=\"MDA2 (DEC+ALB)\", COUNTRY_INFO!$T$9:$T$1000, \" \")","v":" "},null,null,null,null,0,null,null,null,0," "," "," "," "]
[{"$f":"IF(COUNTRY_INFO!A107=0,\" \",COUNTRY_INFO!A107)","v":"Guinea Bissau"},{"$f":"IF(COUNTRY_INFO!B107=0,\" \",COUNTRY_INFO!B107)","v":"Cacheu"},{"$f":"IF(COUNTRY_INFO!C107=0,\" \",COUNTRY_INFO!C107)","v":"Bará"},{"$f":"IF(COUNTRY_INFO!$T$9:$T$1000=\"MDA2 (DEC+ALB)\", COUNTRY_INFO!$T$9:$T$1000, \" \")","v":" "},null,null,null,null,0,null,null,null,0," "," "," "," "]
[{"$f":"IF(COUNTRY_INFO!A108=0,\" \",COUNTRY_INFO!A108)","v":"Guinea Bissau"},{"$f":"IF(COUNTRY_INFO!B108=0,\" \",COUNTRY_INFO!B108)","v":"Cacheu"},{"$f":"IF(COUNTRY_INFO!C108=0,\" \",COUNTRY_INFO!C108)","v":"Barro"},{"$f":"IF(COUNTRY_INFO!$T$9:$T$1000=\"MDA2 (DEC+ALB)\", COUNTRY_INFO!$T$9:$T$1000, \" \")","v":" "},null,null,null,null,0,null,null,null,0," "," "," "," "]
[{"$f":"IF(COUNTRY_INFO!A109=0,\" \",COUNTRY_INFO!A109)","v":"Guinea Bissau"},{"$f":"IF(COUNTRY_INFO!B109=0,\" \",COUNTRY_INFO!B109)","v":"Cacheu"},{"$f":"IF(COUNTRY_INFO!C109=0,\" \",COUNTRY_INFO!C109)","v":"Batucar"},{"$f":"IF(COUNTRY_INFO!$T$9:$T$1000=\"MDA2 (DEC+ALB)\", COUNTRY_INFO!$T$9:$T$1000, \" \")","v":" "},null,null,null,null,0,null,null,null,0," "," "," "," "]
[{"$f":"IF(COUNTRY_INFO!A110=0,\" \",COUNTRY_INFO!A110)","v":"Guinea Bissau"},{"$f":"IF(COUNTRY_INFO!B110=0,\" \",COUNTRY_INFO!B110)","v":"Cacheu"},{"$f":"IF(COUNTRY_INFO!C110=0,\" \",COUNTRY_INFO!C110)","v":"Begene"},{"$f":"IF(COUNTRY_INFO!$T$9:$T$1000=\"MDA2 (DEC+ALB)\", COUNTRY_INFO!$T$9:$T$1000, \" \")","v":" "},null,null,null,null,0,null,null,null,0," "," "," "," "]
[{"$f":"IF(COUNTRY_INFO!A111=0,\" \",COUNTRY_INFO!A111)","v":"Guinea Bissau"},{"$f":"IF(COUNTRY_INFO!B111=0,\" \",COUNTRY_INFO!B111)","v":"Cacheu"},{"$f":"IF(COUNTRY_INFO!C111=0,\" \",COUNTRY_INFO!C111)","v":"Bula"},{"$f":"IF(COUNTRY_INFO!$T$9:$T$1000=\"MDA2 (DEC+ALB)\", COUNTRY_INFO!$T$9:$T$1000, \" \")","v":" "},null,null,null,null,0,null,null,null,0," "," "," "," "]
[{"$f":"IF(COUNTRY_INFO!A112=0,\" \",COUNTRY_INFO!A112)","v":"Guinea Bissau"},{"$f":"IF(COUNTRY_INFO!B112=0,\" \",COUNTRY_INFO!B112)","v":"Cacheu"},{"$f":"IF(COUNTRY_INFO!C112=0,\" \",COUNTRY_INFO!C112)","v":"Cacheu"},{"$f":"IF(COUNTRY_INFO!$T$9:$T$1000=\"MDA2 (DEC+ALB)\", COUNTRY_INFO!$T$9:$T$1000, \" \")","v":" "},null,null,null,null,0,null,null,null,0," "," "," "," "]
[{"$f":"IF(COUNTRY_INFO!A113=0,\" \",COUNTRY_INFO!A113)","v":"Guinea Bissau"},{"$f":"IF(COUNTRY_INFO!B113=0,\" \",COUNTRY_INFO!B113)","v":"Cacheu"},{"$f":"IF(COUNTRY_INFO!C113=0,\" \",COUNTRY_INFO!C113)","v":"Caió"},{"$f":"IF(COUNTRY_INFO!$T$9:$T$1000=\"MDA2 (DEC+ALB)\", COUNTRY_INFO!$T$9:$T$1000, \" \")","v":" "},null,null,null,null,0,null,null,null,0," "," "," "," "]
[{"$f":"IF(COUNTRY_INFO!A114=0,\" \",COUNTRY_INFO!A114)","v":"Guinea Bissau"},{"$f":"IF(COUNTRY_INFO!B114=0,\" \",COUNTRY_INFO!B114)","v":"Cacheu"},{"$f":"IF(COUNTRY_INFO!C114=0,\" \",COUNTRY_INFO!C114)","v":"Calequisse"},{"$f":"IF(COUNTRY_INFO!$T$9:$T$1000=\"MDA2 (DEC+ALB)\", COUNTRY_INFO!$T$9:$T$1000, \" \")","v":" "},null,null,null,null,0,null,null,null,0," "," "," "," "]
[{"$f":"IF(COUNTRY_INFO!A115=0,\" \",COUNTRY_INFO!A115)","v":"Guinea Bissau"},{"$f":"IF(COUNTRY_INFO!B115=0,\" \",COUNTRY_INFO!B115)","v":"Cacheu"},{"$f":"IF(COUNTRY_INFO!C115=0,\" \",COUNTRY_INFO!C115)","v":"Canchungo"},{"$f":"IF(COUNTRY_INFO!$T$9:$T$1000=\"MDA2 (DEC+ALB)\", COUNTRY_INFO!$T$9:$T$1000, \" \")","v":" "},null,null,null,null,0,null,null,null,0," "," "," "," "]
[{"$f":"IF(COUNTRY_INFO!A116=0,\" \",COUNTRY_INFO!A116)","v":"Guinea Bissau"},{"$f":"IF(COUNTRY_INFO!B116=0,\" \",COUNTRY_INFO!B116)","v":"Cacheu"},{"$f":"IF(COUNTRY_INFO!C116=0,\" \",COUNTRY_INFO!C116)","v":"Carenque"},{"$f":"IF(COUNTRY_INFO!$T$9:$T$1000=\"MDA2 (DEC+ALB)\", COUNTRY_INFO!$T$9:$T$1000, \" \")","v":" "},null,null,null,null,0,null,null,null,0," "," "," "," "]
[{"$f":"IF(COUNTRY_INFO!A117=0,\" \",COUNTRY_INFO!A117)","v":"Guinea Bissau"},{"$f":"IF(COUNTRY_INFO!B117=0,\" \",COUNTRY_INFO!B117)","v":"Cacheu"},{"$f":"IF(COUNTRY_INFO!C117=0,\" \",COUNTRY_INFO!C117)","v":"Có"},{"$f":"IF(COUNTRY_INFO!$T$9:$T$1000=\"MDA2 (DEC+ALB)\", COUNTRY_INFO!$T$9:$T$1000, \" \")","v":" "},null,null,null,null,0,null,null,null,0," "," "," "," "]
[{"$f":"IF(COUNTRY_INFO!A118=0,\" \",COUNTRY_INFO!A118)","v":"Guinea Bissau"},{"$f":"IF(COUNTRY_INFO!B118=0,\" \",COUNTRY_INFO!B118)","v":"Cacheu"},{"$f":"IF(COUNTRY_INFO!C118=0,\" \",COUNTRY_INFO!C118)","v":"Ingoré"},{"$f":"IF(COUNTRY_INFO!$T$9:$T$1000=\"MDA2 (DEC+ALB)\", COUNTRY_INFO!$T$9:$T$1000, \" \")","v":" "},null,null,null,null,0,null,null,null,0," "," "," "," "]
[{"$f":"IF(COUNTRY_INFO!A119=0,\" \",COUNTRY_INFO!A119)","v":"Guinea Bissau"},{"$f":"IF(COUNTRY_INFO!B119=0,\" \",COUNTRY_INFO!B119)","v":"Cacheu"},{"$f":"IF(COUNTRY_INFO!C119=0,\" \",COUNTRY_INFO!C119)","v":"Jeta"},{"$f":"IF(COUNTRY_INFO!$T$9:$T$1000=\"MDA2 (DEC+ALB)\", COUNTRY_INFO!$T$9:$T$1000, \" \")","v":" "},null,null,null,null,0,null,null,null,0," "," "," "," "]
[{"$f":"IF(COUNTRY_INFO!A120=0,\" \",COUNTRY_INFO!A120)","v":"Guinea Bissau"},{"$f":"IF(COUNTRY_INFO!B120=0,\" \",COUNTRY_INFO!B120)","v":"Cacheu"},{"$f":"IF(COUNTRY_INFO!C120=0,\" \",COUNTRY_INFO!C120)","v":"Pecixe"},{"$f":"IF(COUNTRY_INFO!$T$9:$T$1000=\"MDA2 (DEC+ALB)\", COUNTRY_INFO!$T$9:$T$1000, \" \")","v":" "},null,null,null,null,0,null,null,null,0," "," "," "," "]
[{"$f":"IF(COUNTRY_INFO!A121=0,\" \",COUNTRY_INFO!A121)","v":"Guinea Bissau"},{"$f":"IF(COUNTRY_INFO!B121=0,\" \",COUNTRY_INFO!B121)","v":"Cacheu"},{"$f":"IF(COUNTRY_INFO!C121=0,\" \",COUNTRY_INFO!C121)","v":"Pelundo"},{"$f":"IF(COUNTRY_INFO!$T$9:$T$1000=\"MDA2 (DEC+ALB)\", COUNTRY_INFO!$T$9:$T$1000, \" \")","v":" "},null,null,null,null,0,null,null,null,0," "," "," "," "]
[{"$f":"IF(COUNTRY_INFO!A122=0,\" \",COUNTRY_INFO!A122)","v":"Guinea Bissau"},{"$f":"IF(COUNTRY_INFO!B122=0,\" \",COUNTRY_INFO!B122)","v":"Cacheu"},{"$f":"IF(COUNTRY_INFO!C122=0,\" \",COUNTRY_INFO!C122)","v":"S.Domingos"},{"$f":"IF(COUNTRY_INFO!$T$9:$T$1000=\"MDA2 (DEC+ALB)\", COUNTRY_INFO!$T$9:$T$1000, \" \")","v":" "},null,null,null,null,0,null,null,null,0," "," "," "," "]
[{"$f":"IF(COUNTRY_INFO!A123=0,\" \",COUNTRY_INFO!A123)","v":"Guinea Bissau"},{"$f":"IF(COUNTRY_INFO!B123=0,\" \",COUNTRY_INFO!B123)","v":"Cacheu"},{"$f":"IF(COUNTRY_INFO!C123=0,\" \",COUNTRY_INFO!C123)","v":"Sedengal"},{"$f":"IF(COUNTRY_INFO!$T$9:$T$1000=\"MDA2 (DEC+ALB)\", COUNTRY_INFO!$T$9:$T$1000, \" \")","v":" "},null,null,null,null,0,null,null,null,0," "," "," "," "]
[{"$f":"IF(COUNTRY_INFO!A124=0,\" \",COUNTRY_INFO!A124)","v":"Guinea Bissau"},{"$f":"IF(COUNTRY_INFO!B124=0,\" \",COUNTRY_INFO!B124)","v":"Cacheu"},{"$f":"IF(COUNTRY_INFO!C124=0,\" \",COUNTRY_INFO!C124)","v":"Suzana"},{"$f":"IF(COUNTRY_INFO!$T$9:$T$1000=\"MDA2 (DEC+ALB)\", COUNTRY_INFO!$T$9:$T$1000, \" \")","v":" "},null,null,null,null,0,null,null,null,0," "," "," "," "]
[{"$f":"IF(COUNTRY_INFO!A125=0,\" \",COUNTRY_INFO!A125)","v":"Guinea Bissau"},{"$f":"IF(COUNTRY_INFO!B125=0,\" \",COUNTRY_INFO!B125)","v":"Cacheu"},{"$f":"IF(COUNTRY_INFO!C125=0,\" \",COUNTRY_INFO!C125)","v":"Varela"},{"$f":"IF(COUNTRY_INFO!$T$9:$T$1000=\"MDA2 (DEC+ALB)\", COUNTRY_INFO!$T$9:$T$1000, \" \")","v":" "},null,null,null,null,0,null,null,null,0," "," "," "," "]

{"sheet":"MDA3","index":4,"n_rows":125,"n_cols":20,"rows_kept":125,"cut":false,"hidden":false,"merged":[[5,5,5,7],[5,17,5,19],[3,0,3,2],[5,0,5,2],[5,3,6,3],[5,4,6,4],[5,8,5,10],[5,11,5,13],[5,14,5,16]]}
["MDA 3 - Ivermectine (IVM) "]
["Structure administrative, population nécessitant une chimioprévention par groupe d'âge, population traitée par groupe d'âge et couverture"]
[]
["TOTAL",null,null,null,null,{"$f":"SUM(F$9:F$1000)","v":0},0,0,0,0,0,0,0,0,0,0,0,{"$f":"IF(F4<>0, IF(O4/F4*100=0, \"-\", O4/F4*100), \" \")","v":" "},{"$f":"IF(G4<>0, IF(P4/G4*100=0, \"-\", P4/G4*100), \" \")","v":" "},{"$f":"IF(H4<>0, IF(Q4/H4*100=0, \"-\", Q4/H4*100), \" \")","v":" "}]
[]
["Structure administrative du pays",null,null,"Mise en oeuvre \nde la CP","Date","Population ciblée pour MDA 3",null,null,"Population traitée - tournée 1",null,null,"Population traitée - tournée 2",null,null,"Population traitée",null,null,"Couverture du Programme (%)"]
["Pays","Région/Département","District",null,null,"EAS","Adultes","Total","EAS","Adultes","Total","EAS","Adultes","Total","EAS","Adultes","Total","EAS","Adultes","Total"]
[]
[{"$f":"IF(COUNTRY_INFO!A9=0,\" \",COUNTRY_INFO!A9)","v":"Guinea Bissau"},{"$f":"IF(COUNTRY_INFO!B9=0,\" \",COUNTRY_INFO!B9)","v":"SAB"},{"$f":"IF(COUNTRY_INFO!C9=0,\" \",COUNTRY_INFO!C9)","v":"AJUDA"},{"$f":"IF(COUNTRY_INFO!$T$9:$T$1000=\"MDA3 (IVM)\", COUNTRY_INFO!$T$9:$T$1000, \" \")","v":" "},null,null,null,{"$f":"SUM(F9:G9)","v":0},null,null,{"$f":"SUM(I9:J9)","v":0},null,null,{"$f":"SUM(L9:M9)","v":0},{"$f":"MAX(I9,L9)","v":0},0,{"$f":"SUM(O9:P9)","v":0},{"$f":"IF(F9<>0, IF(MAX(I9,L9)/F9*100=0, \"-\", MAX(I9,L9)/F9*100), \" \")","v":" "}," ",{"$f":"IF(H9<>0, IF((MAX(I9,L9)+MAX(J9,M9))/H9*100=0, \"-\",(MAX(I9,L9)+MAX(J9,M9))/H9*100), \" \")","v":" "}]
[{"$f":"IF(COUNTRY_INFO!A10=0,\" \",COUNTRY_INFO!A10)","v":"Guinea Bissau"},{"$f":"IF(COUNTRY_INFO!B10=0,\" \",COUNTRY_INFO!B10)","v":"SAB"},{"$f":"IF(COUNTRY_INFO!C10=0,\" \",COUNTRY_INFO!C10)","v":"ANTULA"},{"$f":"IF(COUNTRY_INFO!$T$9:$T$1000=\"MDA3 (IVM)\", COUNTRY_INFO!$T$9:$T$1000, \" \")","v":" "},null,null,null,{"$f":"SUM(F10:G10)","v":0},null,null,{"$f":"SUM(I10:J10)","v":0},null,null,{"$f":"SUM(L10:M10)","v":0},{"$f":"MAX(I10,L10)","v":0},{"$f":"MAX(J10,M10)","v":0},{"$f":"SUM(O10:P10)","v":0},{"$f":"IF(F10<>0, IF(MAX(I10,L10)/F10*100=0, \"-\", MAX(I10,L10)/F10*100), \" \")","v":" "},{"$f":"IF(G10<>0, IF(MAX(J10,M10)/G10*100=0, \"-\", MAX(J10,M10)/G10*100), \" \")","v":" "},{"$f":"IF(H10<>0, IF((MAX(I10,L10)+MAX(J10,M10))/H10*100=0, \"-\",(MAX(I10,L10)+MAX(J10,M10))/H10*100), \" \")","v":" "}]
[{"$f":"IF(COUNTRY_INFO!A11=0,\" \",COUNTRY_INFO!A11)","v":"Guinea Bissau"},{"$f":"IF(COUNTRY_INFO!B11=0,\" \",COUNTRY_INFO!B11)","v":"SAB"},{"$f":"IF(COUNTRY_INFO!C11=0,\" \",COUNTRY_INFO!C11)","v":"B. MILITAR"},{"$f":"IF(COUNTRY_INFO!$T$9:$T$1000=\"MDA3 (IVM)\", COUNTRY_INFO!$T$9:$T$1000, \" \")","v":" "},null,null,null,0,null,null,0,null,null,0,0,0,0," "," "," "]
[{"$f":"IF(COUNTRY_INFO!A12=0,\" \",COUNTRY_INFO!A12)","v":"Guinea Bissau"},{"$f":"IF(COUNTRY_INFO!B12=0,\" \",COUNTRY_INFO!B12)","v":"SAB"},{"$f":"IF(COUNTRY_INFO!C12=0,\" \",COUNTRY_INFO!C12)","v":"BANDIM"},{"$f":"IF(COUNTRY_INFO!$T$9:$T$1000=\"MDA3 (IVM)\", COUNTRY_INFO!$T$9:$T$1000, \" \")","v":" "},null,null,null,0,null,null,0,null,null,0,0,0,0," "," "," "]
[{"$f":"IF(COUNTRY_INFO!A13=0,\" \",COUNTRY_INFO!A13)","v":"Guinea Bissau"},{"$f":"IF(COUNTRY_INFO!B13=0,\" \",COUNTRY_INFO!B13)","v":"SAB"},{"$f":"IF(COUNTRY_INFO!C13=0,\" \",COUNTRY_INFO!C13)","v":"BELEM"},{"$f":"IF(COUNTRY_INFO!$T$9:$T$1000=\"MDA3 (IVM)\", COUNTRY_INFO!$T$9:$T$1000, \" \")","v":" "},null,null,null,0,null,null,0,null,null,0,0,0,0," "," "," "]
[{"$f":"IF(COUNTRY_INFO!A14=0,\" \",COUNTRY_INFO!A14)","v":"Guinea Bissau"},{"$f":"IF(COUNTRY_INFO!B14=0,\" \",COUNTRY_INFO!B14)","v":"SAB"},{"$f":"IF(COUNTRY_INFO!C14=0,\" \",COUNTRY_INFO!C14)","v":"CMI"},{"$f":"IF(COUNTRY_INFO!$T$9:$T$1000=\"MDA3 (IVM)\", COUNTRY_INFO!$T$9:$T$1000, \" \")","v":" "},null,null,null,0,null,null,0,null,null,0,0,0,0," "," "," "]
[{"$f":"IF(COUNTRY_INFO!A15=0,\" \",COUNTRY_INFO!A15)","v":"Guinea Bissau"},{"$f":"IF(COUNTRY_INFO!B15=0,\" \",COUNTRY_INFO!B15)","v":"SAB"},{"$f":"IF(COUNTRY_INFO!C15=0,\" \",COUNTRY_INFO!C15)","v":"CUNTUM"},{"$f":"IF(COUNTRY_INFO!$T$9:$T$1000=\"MDA3 (IVM)\", COUNTRY_INFO!$T$9:$T$1000, \" \")","v":" "},null,null,null,0,null,null,0,null,null,0,0,0,0," "," "," "]
[{"$f":"IF(COUNTRY_INFO!A16=0,\" \",COUNTRY_INFO!A16)","v":"Guinea Bissau"},{"$f":"IF(COUNTRY_INFO!B16=0,\" \",COUNTRY_INFO!B16)","v":"SAB"},{"$f":"IF(COUNTRY_INFO!C16=0,\" \",COUNTRY_INFO!C16)","v":"LUANDA"},{"$f":"IF(COUNTRY_INFO!$T$9:$T$1000=\"MDA3 (IVM)\", COUNTRY_INFO!$T$9:$T$1000, \" \")","v":" "},null,null,null,0,null,null,0,null,null,0,0,0,0," "," "," "]
[{"$f":"IF(COUNTRY_INFO!A17=0,\" \",COUNTRY_INFO!A17)","v":"Guinea Bissau"},{"$f":"IF(COUNTRY_INFO!B17=0,\" \",COUNTRY_INFO!B17)","v":"SAB"},{"$f":"IF(COUNTRY_INFO!C17=0,\" \",COUNTRY_INFO!C17)","v":"MISSIRA"},{"$f":"IF(COUNTRY_INFO!$T$9:$T$1000=\"MDA3 (IVM)\", COUNTRY_INFO!$T$9:$T$1000, \" \")","v":" "},null,null,null,0,null,null,0,null,null,0,0,0,0," "," "," "]
[{"$f":"IF(COUNTRY_INFO!A18=0,\" \",COUNTRY_INFO!A18)","v":"Guinea Bissau"},{"$f":"IF(COUNTRY_INFO!B18=0,\" \",COUNTRY_INFO!B18)","v":"SAB"},{"$f":"IF(COUNTRY_INFO!C18=0,\" \",COUNTRY_INFO!C18)","v":"PEFINE"},{"$f":"IF(COUNTRY_INFO!$T$9:$T$1000=\"MDA3 (IVM)\", COUNTRY_INFO!$T$9:$T$1000, \" \")","v":" "},null,null,null,0,null,null,0,null,null,0,0,0,0," "," "," "]
[{"$f":"IF(COUNTRY_INFO!A19=0,\" \",COUNTRY_INFO!A19)","v":"Guinea Bissau"},{"$f":"IF(COUNTRY_INFO!B19=0,\" \",COUNTRY_INFO!B19)","v":"SAB"},{"$f":"IF(COUNTRY_INFO!C19=0,\" \",COUNTRY_INFO!C19)","v":"PLACK II"},{"$f":"IF(COUNTRY_INFO!$T$9:$T$1000=\"MDA3 (IVM)\", COUNTRY_INFO!$T$9:$T$1000, \" \")","v":" "},null,null,null,0,null,null,0,null,null,0,0,0,0," "," "," "]
[{"$f":"IF(COUNTRY_INFO!A20=0,\" \",COUNTRY_INFO!A20)","v":"Guinea Bissau"},{"$f":"IF(COUNTRY_INFO!B20=0,\" \",COUNTRY_INFO!B20)","v":"SAB"},{"$f":"IF(COUNTRY_INFO!C20=0,\" \",COUNTRY_INFO!C20)","v":"QUELELE"},{"$f":"IF(COUNTRY_INFO!$T$9:$T$1000=\"MDA3 (IVM)\", COUNTRY_INFO!$T$9:$T$1000, \" \")","v":" "},null,null,null,0,null,null,0,null,null,0,0,0,0," "," "," "]
[{"$f":"IF(COUNTRY_INFO!A21=0,\" \",COUNTRY_INFO!A21)","v":"Guinea Bissau"},{"$f":"IF(COUNTRY_INFO!B21=0,\" \",COUNTRY_INFO!B21)","v":"SAB"},{"$f":"IF(COUNTRY_INFO!C21=0,\" \",COUNTRY_INFO!C21)","v":"SANTA LUZIA"},{"$f":"IF(COUNTRY_INFO!$T$9:$T$1000=\"MDA3 (IVM)\", COUNTRY_INFO!$T$9:$T$1000, \" \")","v":" "},null,null,null,0,null,null,0,null,null,0,0,0,0," "," "," "]
[{"$f":"IF(COUNTRY_INFO!A22=0,\" \",COUNTRY_INFO!A22)","v":"Guinea Bissau"},{"$f":"IF(COUNTRY_INFO!B22=0,\" \",COUNTRY_INFO!B22)","v":"SAB"},{"$f":"IF(COUNTRY_INFO!C22=0,\" \",COUNTRY_INFO!C22)","v":"SINTRA NEMA"},{"$f":"IF(COUNTRY_INFO!$T$9:$T$1000=\"MDA3 (IVM)\", COUNTRY_INFO!$T$9:$T$1000, \" \")","v":" "},null,null,null,0,null,null,0,null,null,0,0,0,0," "," "," "]
[{"$f":"IF(COUNTRY_INFO!A23=0,\" \",COUNTRY_INFO!A23)","v":"Guinea Bissau"},{"$f":"IF(COUNTRY_INFO!B23=0,\" \",COUNTRY_INFO!B23)","v":"Bijagos"},{"$f":"IF(COUNTRY_INFO!C23=0,\" \",COUNTRY_INFO!C23)","v":"Bubaque"},{"$f":"IF(COUNTRY_INFO!$T$9:$T$1000=\"MDA3 (IVM)\", COUNTRY_INFO!$T$9:$T$1000, \" \")","v":" "},null,null,null,0,null,null,0,null,null,0,0,0,0," "," "," "]
[{"$f":"IF(COUNTRY_INFO!A24=0,\" \",COUNTRY_INFO!A24)","v":"Guinea Bissau"},{"$f":"IF(COUNTRY_INFO!B24=0,\" \",COUNTRY_INFO!B24)","v":"Bijagos"},{"$f":"IF(COUNTRY_INFO!C24=0,\" \",COUNTRY_INFO!C24)","v":"Canhabaque"},{"$f":"IF(COUNTRY_INFO!$T$9:$T$1000=\"MDA3 (IVM)\", COUNTRY_INFO!$T$9:$T$1000, \" \")","v":" "},null,null,null,0,null,null,0,null,null,0,0,0,0," "," "," "]
[{"$f":"IF(COUNTRY_INFO!A25=0,\" \",COUNTRY_INFO!A25)","v":"Guinea Bissau"},{"$f":"IF(COUNTRY_INFO!B25=0,\" \",COUNTRY_INFO!B25)","v":"Bijagos"},{"$f":"IF(COUNTRY_INFO!C25=0,\" \",COUNTRY_INFO!C25)","v":"Canogo"},{"$f":"IF(COUNTRY_INFO!$T$9:$T$1000=\"MDA3 (IVM)\", COUNTRY_INFO!$T$9:$T$1000, \" \")","v":" "},null,null,null,0,null,null,0,null,null,0,0,0,0," "," "," "]
[{"$f":"IF(COUNTRY_INFO!A26=0,\" \",COUNTRY_INFO!A26)","v":"Guinea Bissau"},{"$f":"IF(COUNTRY_INFO!B26=0,\" \",COUNTRY_INFO!B26)","v":"Bijagos"},{"$f":"IF(COUNTRY_INFO!C26=0,\" \",COUNTRY_INFO!C26)","v":"Caravela"},{"$f":"IF(COUNTRY_INFO!$T$9:$T$1000=\"MDA3 (IVM)\", COUNTRY_INFO!$T$9:$T$1000, \" \")","v":" "},null,null,null,0,null,null,0,null,null,0,0,0,0," "," "," "]
[{"$f":"IF(COUNTRY_INFO!A27=0,\" \",COUNTRY_INFO!A27)","v":"Guinea Bissau"},{"$f":"IF(COUNTRY_INFO!B27=0,\" \",COUNTRY_INFO!B27)","v":"Bijagos"},{"$f":"IF(COUNTRY_INFO!C27=0,\" \",COUNTRY_INFO!C27)","v":"Formosa"},{"$f":"IF(COUNTRY_INFO!$T$9:$T$1000=\"MDA3 (IVM)\", COUNTRY_INFO!$T$9:$T$1000, \" \")","v":" "},null,null,null,0,null,null,0,null,null,0,0,0,0," "," "," "]
[{"$f":"IF(COUNTRY_INFO!A28=0,\" \",COUNTRY_INFO!A28)","v":"Guinea Bissau"},{"$f":"IF(COUNTRY_INFO!B28=0,\" \",COUNTRY_INFO!B28)","v":"Bijagos"},{"$f":"IF(COUNTRY_INFO!C28=0,\" \",COUNTRY_INFO!C28)","v":"Orango Grande"},{"$f":"IF(COUNTRY_INFO!$T$9:$T$1000=\"MDA3 (IVM)\", COUNTRY_INFO!$T$9:$T$1000, \" \")","v":" "},null,null,null,0,null,null,0,null,null,0,0,0,0," "," "," "]
[{"$f":"IF(COUNTRY_INFO!A29=0,\" \",COUNTRY_INFO!A29)","v":"Guinea Bissau"},{"$f":"IF(COUNTRY_INFO!B29=0,\" \",COUNTRY_INFO!B29)","v":"Bijagos"},{"$f":"IF(COUNTRY_INFO!C29=0,\" \",COUNTRY_INFO!C29)","v":"Orango zinho"},{"$f":"IF(COUNTRY_INFO!$T$9:$T$1000=\"MDA3 (IVM)\", COUNTRY_INFO!$T$9:$T$1000, \" \")","v":" "},null,null,null,0,null,null,0,null,null,0,0,0,0," "," "," "]
[{"$f":"IF(COUNTRY_INFO!A30=0,\" \",COUNTRY_INFO!A30)","v":"Guinea Bissau"},{"$f":"IF(COUNTRY_INFO!B30=0,\" \",COUNTRY_INFO!B30)","v":"Bijagos"},{"$f":"IF(COUNTRY_INFO!C30=0,\" \",COUNTRY_INFO!C30)","v":"Soga"},{"$f":"IF(COUNTRY_INFO!$T$9:$T$1000=\"MDA3 (IVM)\", COUNTRY_INFO!$T$9:$T$1000, \" \")","v":" "},null,null,null,0,null,null,0,null,null,0,0,0,0," "," "," "]
[{"$f":"IF(COUNTRY_INFO!A31=0,\" \",COUNTRY_INFO!A31)","v":"Guinea Bissau"},{"$f":"IF(COUNTRY_INFO!B31=0,\" \",COUNTRY_INFO!B31)","v":"Bijagos"},{"$f":"IF(COUNTRY_INFO!C31=0,\" \",COUNTRY_INFO!C31)","v":"Unhocomo"},{"$f":"IF(COUNTRY_INFO!$T$9:$T$1000=\"MDA3 (IVM)\", COUNTRY_INFO!$T$9:$T$1000, \" \")","v":" "},null,null,null,0,null,null,0,null,null,0,0,0,0," "," "," "]
[{"$f":"IF(COUNTRY_INFO!A32=0,\" \",COUNTRY_INFO!A32)","v":"Guinea Bissau"},{"$f":"IF(COUNTRY_INFO!B32=0,\" \",COUNTRY_INFO!B32)","v":"Bijagos"},{"$f":"IF(COUNTRY_INFO!C32=0,\" \",COUNTRY_INFO!C32)","v":"Uno"},{"$f":"IF(COUNTRY_INFO!$T$9:$T$1000=\"MDA3 (IVM)\", COUNTRY_INFO!$T$9:$T$1000, \" \")","v":" "},null,null,null,0,null,null,0,null,null,0,0,0,0," "," "," "]
[{"$f":"IF(COUNTRY_INFO!A33=0,\" \",COUNTRY_INFO!A33)","v":"Guinea Bissau"},{"$f":"IF(COUNTRY_INFO!B33=0,\" \",COUNTRY_INFO!B33)","v":"Bijagos"},{"$f":"IF(COUNTRY_INFO!C33=0,\" \",COUNTRY_INFO!C33)","v":"Uracane"},{"$f":"IF(COUNTRY_INFO!$T$9:$T$1000=\"MDA3 (IVM)\", COUNTRY_INFO!$T$9:$T$1000, \" \")","v":" "},null,null,null,0,null,null,0,null,null,0,0,0,0," "," "," "]
[{"$f":"IF(COUNTRY_INFO!A34=0,\" \",COUNTRY_INFO!A34)","v":"Guinea Bissau"},{"$f":"IF(COUNTRY_INFO!B34=0,\" \",COUNTRY_INFO!B34)","v":"Biombo"},{"$f":"IF(COUNTRY_INFO!C34=0,\" \",COUNTRY_INFO!C34)","v":"BIJIMITA"},{"$f":"IF(COUNTRY_INFO!$T$9:$T$1000=\"MDA3 (IVM)\", COUNTRY_INFO!$T$9:$T$1000, \" \")","v":" "},null,null,null,0,null,null,0,null,null,0,0,0,0," "," "," "]
[{"$f":"IF(COUNTRY_INFO!A35=0,\" \",COUNTRY_INFO!A35)","v":"Guinea Bissau"},{"$f":"IF(COUNTRY_INFO!B35=0,\" \",COUNTRY_INFO!B35)","v":"Biombo"},{"$f":"IF(COUNTRY_INFO!C35=0,\" \",COUNTRY_INFO!C35)","v":"CUMURA"},{"$f":"IF(COUNTRY_INFO!$T$9:$T$1000=\"MDA3 (IVM)\", COUNTRY_INFO!$T$9:$T$1000, \" \")","v":" "},null,null,null,0,null,null,0,null,null,0,0,0,0," "," "," "]
[{"$f":"IF(COUNTRY_INFO!A36=0,\" \",COUNTRY_INFO!A36)","v":"Guinea Bissau"},{"$f":"IF(COUNTRY_INFO!B36=0,\" \",COUNTRY_INFO!B36)","v":"Biombo"},{"$f":"IF(COUNTRY_INFO!C36=0,\" \",COUNTRY_INFO!C36)","v":"DORSE"},{"$f":"IF(COUNTRY_INFO!$T$9:$T$1000=\"MDA3 (IVM)\", COUNTRY_INFO!$T$9:$T$1000, \" \")","v":" "},null,null,null,0,null,null,0,null,null,0,0,0,0," "," "," "]
[{"$f":"IF(COUNTRY_INFO!A37=0,\" \",COUNTRY_INFO!A37)","v":"Guinea Bissau"},{"$f":"IF(COUNTRY_INFO!B37=0,\" \",COUNTRY_INFO!B37)","v":"Biombo"},{"$f":"IF(COUNTRY_INFO!C37=0,\" \",COUNTRY_INFO!C37)","v":"ILONDE"},{"$f":"IF(COUNTRY_INFO!$T$9:$T$1000=\"MDA3 (IVM)\", COUNTRY_INFO!$T$9:$T$1000, \" \")","v":" "},null,null,null,0,null,null,0,null,null,0,0,0,0," "," "," "]
[{"$f":"IF(COUNTRY_INFO!A38=0,\" \",COUNTRY_INFO!A38)","v":"Guinea Bissau"},{"$f":"IF(COUNTRY_INFO!B38=0,\" \",COUNTRY_INFO!B38)","v":"Biombo"},{"$f":"IF(COUNTRY_INFO!C38=0,\" \",COUNTRY_INFO!C38)","v":"ONDAME"},{"$f":"IF(COUNTRY_INFO!$T$9:$T$1000=\"MDA3 (IVM)\", COUNTRY_INFO!$T$9:$T$1000, \" \")","v":" "},null,null,null,0,null,null,0,null,null,0,0,0,0," "," "," "]
[{"$f":"IF(COUNTRY_INFO!A39=0,\" \",COUNTRY_INFO!A39)","v":"Guinea Bissau"},{"$f":"IF(COUNTRY_INFO!B39=0,\" \",COUNTRY_INFO!B39)","v":"Biombo"},{"$f":"IF(COUNTRY_INFO!C39=0,\" \",COUNTRY_INFO!C39)","v":"PRABIS"},{"$f":"IF(COUNTRY_INFO!$T$9:$T$1000=\"MDA3 (IVM)\", COUNTRY_INFO!$T$9:$T$1000, \" \")","v":" "},null,null,null,0,null,null,0,null,null,0,0,0,0," "," "," "]
[{"$f":"IF(COUNTRY_INFO!A40=0,\" \",COUNTRY_INFO!A40)","v":"Guinea Bissau"},{"$f":"IF(COUNTRY_INFO!B40=0,\" \",COUNTRY_INFO!B40)","v":"Biombo"},{"$f":"IF(COUNTRY_INFO!C40=0,\" \",COUNTRY_INFO!C40)","v":"QUINHAMEL"},{"$f":"IF(COUNTRY_INFO!$T$9:$T$1000=\"MDA3 (IVM)\", COUNTRY_INFO!$T$9:$T$1000, \" \")","v":" "},null,null,null,0,null,null,0,null,null,0,0,0,0," "," "," "]
[{"$f":"IF(COUNTRY_INFO!A41=0,\" \",COUNTRY_INFO!A41)","v":"Guinea Bissau"},{"$f":"IF(COUNTRY_INFO!B41=0,\" \",COUNTRY_INFO!B41)","v":"Biombo"},{"$f":"IF(COUNTRY_INFO!C41=0,\" \",COUNTRY_INFO!C41)","v":"SAFIM"},{"$f":"IF(COUNTRY_INFO!$T$9:$T$1000=\"MDA3 (IVM)\", COUNTRY_INFO!$T$9:$T$1000, \" \")","v":" "},null,null,null,0,null,null,0,null,null,0,0,0,0," "," "," "]
[{"$f":"IF(COUNTRY_INFO!A42=0,\" \",COUNTRY_INFO!A42)","v":"Guinea Bissau"},{"$f":"IF(COUNTRY_INFO!B42=0,\" \",COUNTRY_INFO!B42)","v":"Farim"},{"$f":"IF(COUNTRY_INFO!C42=0,\" \",COUNTRY_INFO!C42)","v":"BINTA"},{"$f":"IF(COUNTRY_INFO!$T$9:$T$1000=\"MDA3 (IVM)\", COUNTRY_INFO!$T$9:$T$1000, \" \")","v":" "},null,null,null,0,null,null,0,null,null,0,0,0,0," "," "," "]
[{"$f":"IF(COUNTRY_INFO!A43=0,\" \",COUNTRY_INFO!A43)","v":"Guinea Bissau"},{"$f":"IF(COUNTRY_INFO!B43=0,\" \",COUNTRY_INFO!B43)","v":"Farim"},{"$f":"IF(COUNTRY_INFO!C43=0,\" \",COUNTRY_INFO!C43)","v":"CANDJAMBARI"},{"$f":"IF(COUNTRY_INFO!$T$9:$T$1000=\"MDA3 (IVM)\", COUNTRY_INFO!$T$9:$T$1000, \" \")","v":" "},null,null,null,0,null,null,0,null,null,0,0,0,0," "," "," "]
[{"$f":"IF(COUNTRY_INFO!A44=0,\" \",COUNTRY_INFO!A44)","v":"Guinea Bissau"},{"$f":"IF(COUNTRY_INFO!B44=0,\" \",COUNTRY_INFO!B44)","v":"Farim"},{"$f":"IF(COUNTRY_INFO!C44=0,\" \",COUNTRY_INFO!C44)","v":"CUNTIMA"},{"$f":"IF(COUNTRY_INFO!$T$9:$T$1000=\"MDA3 (IVM)\", COUNTRY_INFO!$T$9:$T$1000, \" \")","v":" "},null,null,null,0,null,null,0,null,null,0,0,0,0," "," "," "]
[{"$f":"IF(COUNTRY_INFO!A45=0,\" \",COUNTRY_INFO!A45)","v":"Guinea Bissau"},{"$f":"IF(COUNTRY_INFO!B45=0,\" \",COUNTRY_INFO!B45)","v":"Farim"},{"$f":"IF(COUNTRY_INFO!C45=0,\" \",COUNTRY_INFO!C45)","v":"FARIM"},{"$f":"IF(COUNTRY_INFO!$T$9:$T$1000=\"MDA3 (IVM)\", COUNTRY_INFO!$T$9:$T$1000, \" \")","v":" "},null,null,null,0,null,null,0,null,null,0,0,0,0," "," "," "]
[{"$f":"IF(COUNTRY_INFO!A46=0,\" \",COUNTRY_INFO!A46)","v":"Guinea Bissau"},{"$f":"IF(COUNTRY_INFO!B46=0,\" \",COUNTRY_INFO!B46)","v":"Farim"},{"$f":"IF(COUNTRY_INFO!C46=0,\" \",COUNTRY_INFO!C46)","v":"GUIDAGE"},{"$f":"IF(COUNTRY_INFO!$T$9:$T$1000=\"MDA3 (IVM)\", COUNTRY_INFO!$T$9:$T$1000, \" \")","v":" "},null,null,null,0,null,null,0,null,null,0,0,0,0," "," "," "]
[{"$f":"IF(COUNTRY_INFO!A47=0,\" \",COUNTRY_INFO!A47)","v":"Guinea Bissau"},{"$f":"IF(COUNTRY_INFO!B47=0,\" \",COUNTRY_INFO!B47)","v":"Oio"},{"$f":"IF(COUNTRY_INFO!C47=0,\" \",COUNTRY_INFO!C47)","v":"BINAR"},{"$f":"IF(COUNTRY_INFO!$T$9:$T$1000=\"MDA3 (IVM)\", COUNTRY_INFO!$T$9:$T$1000, \" \")","v":" "},null,null,null,0,null,null,0,null,null,0,0,0,0," "," "," "]
[{"$f":"IF(COUNTRY_INFO!A48=0,\" \",COUNTRY_INFO!A48)","v":"Guinea Bissau"},{"$f":"IF(COUNTRY_INFO!B48=0,\" \",COUNTRY_INFO!B48)","v":"Oio"},{"$f":"IF(COUNTRY_INFO!C48=0,\" \",COUNTRY_INFO!C48)","v":"BISSORA"},{"$f":"IF(COUNTRY_INFO!$T$9:$T$1000=\"MDA3 (IVM)\", COUNTRY_INFO!$T$9:$T$1000, \" \")","v":" "},null,null,null,0,null,null,0,null,null,0,0,0,0," "," "," "]
[{"$f":"IF(COUNTRY_INFO!A49=0,\" \",COUNTRY_INFO!A49)","v":"Guinea Bissau"},{"$f":"IF(COUNTRY_INFO!B49=0,\" \",COUNTRY_INFO!B49)","v":"Oio"},{"$f":"IF(COUNTRY_INFO!C49=0,\" \",COUNTRY_INFO!C49)","v":"ENCHEIA"},{"$f":"IF(COUNTRY_INFO!$T$9:$T$1000=\"MDA3 (IVM)\", COUNTRY_INFO!$T$9:$T$1000, \" \")","v":" "},null,null,null,0,null,null,0,null,null,0,0,0,0," "," "," "]
[{"$f":"IF(COUNTRY_INFO!A50=0,\" \",COUNTRY_INFO!A50)","v":"Guinea Bissau"},{"$f":"IF(COUNTRY_INFO!B50=0,\" \",COUNTRY_INFO!B50)","v":"Oio"},{"$f":"IF(COUNTRY_INFO!C50=0,\" \",COUNTRY_INFO!C50)","v":"GÃ-MAMUDO"},{"$f":"IF(COUNTRY_INFO!$T$9:$T$1000=\"MDA3 (IVM)\", COUNTRY_INFO!$T$9:$T$1000, \" \")","v":" "},null,null,null,0,null,null,0,null,null,0,0,0,0," "," "," "]
[{"$f":"IF(COUNTRY_INFO!A51=0,\" \",COUNTRY_INFO!A51)","v":"Guinea Bissau"},{"$f":"IF(COUNTRY_INFO!B51=0,\" \",COUNTRY_INFO!B51)","v":"Oio"},{"$f":"IF(COUNTRY_INFO!C51=0,\" \",COUNTRY_INFO!C51)","v":"MANSABA"},{"$f":"IF(COUNTRY_INFO!$T$9:$T$1000=\"MDA3 (IVM)\", COUNTRY_INFO!$T$9:$T$1000, \" \")","v":" "},null,null,null,0,null,null,0,null,null,0,0,0,0," "," "," "]
[{"$f":"IF(COUNTRY_INFO!A52=0,\" \",COUNTRY_INFO!A52)","v":"Guinea Bissau"},{"$f":"IF(COUNTRY_INFO!B52=0,\" \",COUNTRY_INFO!B52)","v":"Oio"},{"$f":"IF(COUNTRY_INFO!C52=0,\" \",COUNTRY_INFO!C52)","v":"MANSOA"},{"$f":"IF(COUNTRY_INFO!$T$9:$T$1000=\"MDA3 (IVM)\", COUNTRY_INFO!$T$9:$T$1000, \" \")","v":" "},null,null,null,0,null,null,0,null,null,0,0,0,0," "," "," "]
[{"$f":"IF(COUNTRY_INFO!A53=0,\" \",COUNTRY_INFO!A53)","v":"Guinea Bissau"},{"$f":"IF(COUNTRY_INFO!B53=0,\" \",COUNTRY_INFO!B53)","v":"Oio"},{"$f":"IF(COUNTRY_INFO!C53=0,\" \",COUNTRY_INFO!C53)","v":"MORES"},{"$f":"IF(COUNTRY_INFO!$T$9:$T$1000=\"MDA3 (IVM)\", COUNTRY_INFO!$T$9:$T$1000, \" \")","v":" "},null,null,null,0,null,null,0,null,null,0,0,0,0," "," "," "]
[{"$f":"IF(COUNTRY_INFO!A54=0,\" \",COUNTRY_INFO!A54)","v":"Guinea Bissau"},{"$f":"IF(COUNTRY_INFO!B54=0,\" \",COUNTRY_INFO!B54)","v":"Oio"},{"$f":"IF(COUNTRY_INFO!C54=0,\" \",COUNTRY_INFO!C54)","v":"NHACRA"},{"$f":"IF(COUNTRY_INFO!$T$9:$T$1000=\"MDA3 (IVM)\", COUNTRY_INFO!$T$9:$T$1000, \" \")","v":" "},null,null,null,0,null,null,0,null,null,0,0,0,0," "," "," "]
[{"$f":"IF(COUNTRY_INFO!A55=0,\" \",COUNTRY_INFO!A55)","v":"Guinea Bissau"},{"$f":"IF(COUNTRY_INFO!B55=0,\" \",COUNTRY_INFO!B55)","v":"Oio"},{"$f":"IF(COUNTRY_INFO!C55=0,\" \",COUNTRY_INFO!C55)","v":"OLOSSATO"},{"$f":"IF(COUNTRY_INFO!$T$9:$T$1000=\"MDA3 (IVM)\", COUNTRY_INFO!$T$9:$T$1000, \" \")","v":" "},null,null,null,0,null,null,0,null,null,0,0,0,0," "," "," "]
[{"$f":"IF(COUNTRY_INFO!A56=0,\" \",COUNTRY_INFO!A56)","v":"Guinea Bissau"},{"$f":"IF(COUNTRY_INFO!B56=0,\" \",COUNTRY_INFO!B56)","v":"Oio"},{"$f":"IF(COUNTRY_INFO!C56=0,\" \",COUNTRY_INFO!C56)","v":"PORTUGOL"},{"$f":"IF(COUNTRY_INFO!$T$9:$T$1000=\"MDA3 (IVM)\", COUNTRY_INFO!$T$9:$T$1000, \" \")","v":" "},null,null,null,0,null,null,0,null,null,0,0,0,0," "," "," "]
[{"$f":"IF(COUNTRY_INFO!A57=0,\" \",COUNTRY_INFO!A57)","v":"Guinea Bissau"},{"$f":"IF(COUNTRY_INFO!B57=0,\" \",COUNTRY_INFO!B57)","v":"Bolama"},{"$f":"IF(COUNTRY_INFO!C57=0,\" \",COUNTRY_INFO!C57)","v":"BOLAMA"},{"$f":"IF(COUNTRY_INFO!$T$9:$T$1000=\"MDA3 (IVM)\", COUNTRY_INFO!$T$9:$T$1000, \" \")","v":" "},null,null,null,0,null,null,0,null,null,0,0,0,0," "," "," "]
[{"$f":"IF(COUNTRY_INFO!A58=0,\" \",COUNTRY_INFO!A58)","v":"Guinea Bissau"},{"$f":"IF(COUNTRY_INFO!B58=0,\" \",COUNTRY_INFO!B58)","v":"Bolama"},{"$f":"IF(COUNTRY_INFO!C58=0,\" \",COUNTRY_INFO!C58)","v":"I.  GALINHAS"},{"$f":"IF(COUNTRY_INFO!$T$9:$T$1000=\"MDA3 (IVM)\", COUNTRY_INFO!$T$9:$T$1000, \" \")","v":" "},null,null,null,0,null,null,0,null,null,0,0,0,0," "," "," "]
[{"$f":"IF(COUNTRY_INFO!A59=0,\" \",COUNTRY_INFO!A59)","v":"Guinea Bissau"},{"$f":"IF(COUNTRY_INFO!B59=0,\" \",COUNTRY_INFO!B59)","v":"Bolama"},{"$f":"IF(COUNTRY_INFO!C59=0,\" \",COUNTRY_INFO!C59)","v":"SÃO-JOÃO "},{"$f":"IF(COUNTRY_INFO!$T$9:$T$1000=\"MDA3 (IVM)\", COUNTRY_INFO!$T$9:$T$1000, \" \")","v":" "},null,null,null,0,null,null,0,null,null,0,0,0,0," "," "," "]
[{"$f":"IF(COUNTRY_INFO!A60=0,\" \",COUNTRY_INFO!A60)","v":"Guinea Bissau"},{"$f":"IF(COUNTRY_INFO!B60=0,\" \",COUNTRY_INFO!B60)","v":"Gabu"},{"$f":"IF(COUNTRY_INFO!C60=0,\" \",COUNTRY_INFO!C60)","v":"BAJOCUNDA"},{"$f":"IF(COUNTRY_INFO!$T$9:$T$1000=\"MDA3 (IVM)\", COUNTRY_INFO!$T$9:$T$1000, \" \")","v":" "},null,null,null,0,null,null,0,null,null,0,0,0,0," "," "," "]
[{"$f":"IF(COUNTRY_INFO!A61=0,\" \",COUNTRY_INFO!A61)","v":"Guinea Bissau"},{"$f":"IF(COUNTRY_INFO!B61=0,\" \",COUNTRY_INFO!B61)","v":"Gabu"},{"$f":"IF(COUNTRY_INFO!C61=0,\" \",COUNTRY_INFO!C61)","v":"BELI"},{"$f":"IF(COUNTRY_INFO!$T$9:$T$1000=\"MDA3 (IVM)\", COUNTRY_INFO!$T$9:$T$1000, \" \")","v":" "},null,null,null,0,null,null,0,null,null,0,0,0,0," "," "," "]
[{"$f":"IF(COUNTRY_INFO!A62=0,\" \",COUNTRY_INFO!A62)","v":"Guinea Bissau"},{"$f":"IF(COUNTRY_INFO!B62=0,\" \",COUNTRY_INFO!B62)","v":"Gabu"},{"$f":"IF(COUNTRY_INFO!C62=0,\" \",COUNTRY_INFO!C62)","v":"BURUNTUMA"},{"$f":"IF(COUNTRY_INFO!$T$9:$T$1000=\"MDA3 (IVM)\", COUNTRY_INFO!$T$9:$T$1000, \" \")","v":" "},null,null,null,0,null,null,0,null,null,0,0,0,0," "," "," "]
[{"$f":"IF(COUNTRY_INFO!A63=0,\" \",COUNTRY_INFO!A63)","v":"Guinea Bissau"},{"$f":"IF(COUNTRY_INFO!B63=0,\" \",COUNTRY_INFO!B63)","v":"Gabu"},{"$f":"IF(COUNTRY_INFO!C63=0,\" \",COUNTRY_INFO!C63)","v":"CANJADUDE"},{"$f":"IF(COUNTRY_INFO!$T$9:$T$1000=\"MDA3 (IVM)\", COUNTRY_INFO!$T$9:$T$1000, \" \")","v":" "},null,null,null,0,null,null,0,null,null,0,0,0,0," "," "," "]
[{"$f":"IF(COUNTRY_INFO!A64=0,\" \",COUNTRY_INFO!A64)","v":"Guinea Bissau"},{"$f":"IF(COUNTRY_INFO!B64=0,\" \",COUNTRY_INFO!B64)","v":"Gabu"},{"$f":"IF(COUNTRY_INFO!C64=0,\" \",COUNTRY_INFO!C64)","v":"CANQUELIFA"},{"$f":"IF(COUNTRY_INFO!$T$9:$T$1000=\"MDA3 (IVM)\", COUNTRY_INFO!$T$9:$T$1000, \" \")","v":" "},null,null,null,0,null,null,0,null,null,0,0,0,0," "," "," "]
[{"$f":"IF(COUNTRY_INFO!A65=0,\" \",COUNTRY_INFO!A65)","v":"Guinea Bissau"},{"$f":"IF(COUNTRY_INFO!B65=0,\" \",COUNTRY_INFO!B65)","v":"Gabu"},{"$f":"IF(COUNTRY_INFO!C65=0,\" \",COUNTRY_INFO!C65)","v":"CANSISSE"},{"$f":"IF(COUNTRY_INFO!$T$9:$T$1000=\"MDA3 (IVM)\", COUNTRY_INFO!$T$9:$T$1000, \" \")","v":" "},null,null,null,0,null,null,0,null,null,0,0,0,0," "," "," "]
[{"$f":"IF(COUNTRY_INFO!A66=0,\" \",COUNTRY_INFO!A66)","v":"Guinea Bissau"},{"$f":"IF(COUNTRY_INFO!B66=0,\" \",COUNTRY_INFO!B66)","v":"Gabu"},{"$f":"IF(COUNTRY_INFO!C66=0,\" \",COUNTRY_INFO!C66)","v":"FASSE"},{"$f":"IF(COUNTRY_INFO!$T$9:$T$1000=\"MDA3 (IVM)\", COUNTRY_INFO!$T$9:$T$1000, \" \")","v":" "},null,null,null,0,null,null,0,null,null,0,0,0,0," "," "," "]
[{"$f":"IF(COUNTRY_INFO!A67=0,\" \",COUNTRY_INFO!A67)","v":"Guinea Bissau"},{"$f":"IF(COUNTRY_INFO!B67=0,\" \",COUNTRY_INFO!B67)","v":"Gabu"},{"$f":"IF(COUNTRY_INFO!C67=0,\" \",COUNTRY_INFO!C67)","v":"PAUNCA"},{"$f":"IF(COUNTRY_INFO!$T$9:$T$1000=\"MDA3 (IVM)\", COUNTRY_INFO!$T$9:$T$1000, \" \")","v":" "},null,null,null,0,null,null,0,null,null,0,0,0,0," "," "," "]
[{"$f":"IF(COUNTRY_INFO!A68=0,\" \",COUNTRY_INFO!A68)","v":"Guinea Bissau"},{"$f":"IF(COUNTRY_INFO!B68=0,\" \",COUNTRY_INFO!B68)","v":"Gabu"},{"$f":"IF(COUNTRY_INFO!C68=0,\" \",COUNTRY_INFO!C68)","v":"PITCHE"},{"$f":"IF(COUNTRY_INFO!$T$9:$T$1000=\"MDA3 (IVM)\", COUNTRY_INFO!$T$9:$T$1000, \" \")","v":" "},null,null,null,0,null,null,0,null,null,0,0,0,0," "," "," "]
[{"$f":"IF(COUNTRY_INFO!A69=0,\" \",COUNTRY_INFO!A69)","v":"Guinea Bissau"},{"$f":"IF(COUNTRY_INFO!B69=0,\" \",COUNTRY_INFO!B69)","v":"Gabu"},{"$f":"IF(COUNTRY_INFO!C69=0,\" \",COUNTRY_INFO!C69)","v":"DARA"},{"$f":"IF(COUNTRY_INFO!$T$9:$T$1000=\"MDA3 (IVM)\", COUNTRY_INFO!$T$9:$T$1000, \" \")","v":" "},null,null,null,0,null,null,0,null,null,0,0,0,0," "," "," "]
[{"$f":"IF(COUNTRY_INFO!A70=0,\" \",COUNTRY_INFO!A70)","v":"Guinea Bissau"},{"$f":"IF(COUNTRY_INFO!B70=0,\" \",COUNTRY_INFO!B70)","v":"Gabu"},{"$f":"IF(COUNTRY_INFO!C70=0,\" \",COUNTRY_INFO!C70)","v":"PIRADA"},{"$f":"IF(COUNTRY_INFO!$T$9:$T$1000=\"MDA3 (IVM)\", COUNTRY_INFO!$T$9:$T$1000, \" \")","v":" "},null,null,null,0,null,null,0,null,null,0,0,0,0," "," "," "]
[{"$f":"IF(COUNTRY_INFO!A71=0,\" \",COUNTRY_INFO!A71)","v":"Guinea Bissau"},{"$f":"IF(COUNTRY_INFO!B71=0,\" \",COUNTRY_INFO!B71)","v":"Gabu"},{"$f":"IF(COUNTRY_INFO!C71=0,\" \",COUNTRY_INFO!C71)","v":"DANDUM"},{"$f":"IF(COUNTRY_INFO!$T$9:$T$1000=\"MDA3 (IVM)\", COUNTRY_INFO!$T$9:$T$1000, \" \")","v":" "},null,null,null,0,null,null,0,null,null,0,0,0,0," "," "," "]
[{"$f":"IF(COUNTRY_INFO!A72=0,\" \",COUNTRY_INFO!A72)","v":"Guinea Bissau"},{"$f":"IF(COUNTRY_INFO!B72=0,\" \",COUNTRY_INFO!B72)","v":"Gabu"},{"$f":"IF(COUNTRY_INFO!C72=0,\" \",COUNTRY_INFO!C72)","v":"MANSADJAM"},{"$f":"IF(COUNTRY_INFO!$T$9:$T$1000=\"MDA3 (IVM)\", COUNTRY_INFO!$T$9:$T$1000, \" \")","v":" "},null,null,null,0,null,null,0,null,null,0,0,0,0," "," "," "]
[{"$f":"IF(COUNTRY_INFO!A73=0,\" \",COUNTRY_INFO!A73)","v":"Guinea Bissau"},{"$f":"IF(COUNTRY_INFO!B73=0,\" \",COUNTRY_INFO!B73)","v":"Gabu"},{"$f":"IF(COUNTRY_INFO!C73=0,\" \",COUNTRY_INFO!C73)","v":"SONACO"},{"$f":"IF(COUNTRY_INFO!$T$9:$T$1000=\"MDA3 (IVM)\", COUNTRY_INFO!$T$9:$T$1000, \" \")","v":" "},null,null,null,0,null,null,0,null,null,0,0,0,0," "," "," "]
[{"$f":"IF(COUNTRY_INFO!A74=0,\" \",COUNTRY_INFO!A74)","v":"Guinea Bissau"},{"$f":"IF(COUNTRY_INFO!B74=0,\" \",COUNTRY_INFO!B74)","v":"Gabu"},{"$f":"IF(COUNTRY_INFO!C74=0,\" \",COUNTRY_INFO!C74)","v":"LUGADJOLE"},{"$f":"IF(COUNTRY_INFO!$T$9:$T$1000=\"MDA3 (IVM)\", COUNTRY_INFO!$T$9:$T$1000, \" \")","v":" "},null,null,null,{"$f":"SUM(F74:G74)","v":0},null,null,{"$f":"SUM(I74:J74)","v":0},null,null,{"$f":"SUM(L74:M74)","v":0},{"$f":"MAX(I74,L74)","v":0},{"$f":"MAX(J74,M74)","v":0},{"$f":"SUM(O74:P74)","v":0},{"$f":"IF(F74<>0, IF(MAX(I74,L74)/F74*100=0, \"-\", MAX(I74,L74)/F74*100), \" \")","v":" "},{"$f":"IF(G74<>0, IF(MAX(J74,M74)/G74*100=0, \"-\", MAX(J74,M74)/G74*100), \" \")","v":" "},{"$f":"IF(H74<>0, IF((MAX(I74,L74)+MAX(J74,M74))/H74*100=0, \"-\",(MAX(I74,L74)+MAX(J74,M74))/H74*100), \" \")","v":" "}]
[{"$f":"IF(COUNTRY_INFO!A75=0,\" \",COUNTRY_INFO!A75)","v":"Guinea Bissau"},{"$f":"IF(COUNTRY_INFO!B75=0,\" \",COUNTRY_INFO!B75)","v":"Gabu"},{"$f":"IF(COUNTRY_INFO!C75=0,\" \",COUNTRY_INFO!C75)","v":"GABU"},{"$f":"IF(COUNTRY_INFO!$T$9:$T$1000=\"MDA3 (IVM)\", COUNTRY_INFO!$T$9:$T$1000, \" \")","v":" "},null,null,null,0,null,null,0,null,null,0,0,0,0," "," "," "]
[{"$f":"IF(COUNTRY_INFO!A76=0,\" \",COUNTRY_INFO!A76)","v":"Guinea Bissau"},{"$f":"IF(COUNTRY_INFO!B76=0,\" \",COUNTRY_INFO!B76)","v":"Gabu"},{"$f":"IF(COUNTRY_INFO!C76=0,\" \",COUNTRY_INFO!C76)","v":"CANDJUFA"},{"$f":"IF(COUNTRY_INFO!$T$9:$T$1000=\"MDA3 (IVM)\", COUNTRY_INFO!$T$9:$T$1000, \" \")","v":" "},null,null,null,0,null,null,0,null,null,0,0,0,0," "," "," "]
[{"$f":"IF(COUNTRY_INFO!A77=0,\" \",COUNTRY_INFO!A77)","v":"Guinea Bissau"},{"$f":"IF(COUNTRY_INFO!B77=0,\" \",COUNTRY_INFO!B77)","v":"Gabu"},{"$f":"IF(COUNTRY_INFO!C77=0,\" \",COUNTRY_INFO!C77)","v":"MAFANCO"},{"$f":"IF(COUNTRY_INFO!$T$9:$T$1000=\"MDA3 (IVM)\", COUNTRY_INFO!$T$9:$T$1000, \" \")","v":" "},null,null,null,0,null,null,0,null,null,0,0,0,0," "," "," "]
[{"$f":"IF(COUNTRY_INFO!A78=0,\" \",COUNTRY_INFO!A78)","v":"Guinea Bissau"},{"$f":"IF(COUNTRY_INFO!B78=0,\" \",COUNTRY_INFO!B78)","v":"Gabu"},{"$f":"IF(COUNTRY_INFO!C78=0,\" \",COUNTRY_INFO!C78)","v":"TUMANA"},{"$f":"IF(COUNTRY_INFO!$T$9:$T$1000=\"MDA3 (IVM)\", COUNTRY_INFO!$T$9:$T$1000, \" \")","v":" "},null,null,null,0,null,null,0,null,null,0,0,0,0," "," "," "]
[{"$f":"IF(COUNTRY_INFO!A79=0,\" \",COUNTRY_INFO!A79)","v":"Guinea Bissau"},{"$f":"IF(COUNTRY_INFO!B79=0,\" \",COUNTRY_INFO!B79)","v":"Bafata"},{"$f":"IF(COUNTRY_INFO!C79=0,\" \",COUNTRY_INFO!C79)","v":"Xitole"},{"$f":"IF(COUNTRY_INFO!$T$9:$T$1000=\"MDA3 (IVM)\", COUNTRY_INFO!$T$9:$T$1000, \" \")","v":" "},null,null,null,0,null,null,0,null,null,0,0,0,0," "," "," "]
[{"$f":"IF(COUNTRY_INFO!A80=0,\" \",COUNTRY_INFO!A80)","v":"Guinea Bissau"},{"$f":"IF(COUNTRY_INFO!B80=0,\" \",COUNTRY_INFO!B80)","v":"Bafata"},{"$f":"IF(COUNTRY_INFO!C80=0,\" \",COUNTRY_INFO!C80)","v":"Contubuel"},{"$f":"IF(COUNTRY_INFO!$T$9:$T$1000=\"MDA3 (IVM)\", COUNTRY_INFO!$T$9:$T$1000, \" \")","v":" "},null,null,null,0,null,null,0,null,null,0,0,0,0," "," "," "]
[{"$f":"IF(COUNTRY_INFO!A81=0,\" \",COUNTRY_INFO!A81)","v":"Guinea Bissau"},{"$f":"IF(COUNTRY_INFO!B81=0,\" \",COUNTRY_INFO!B81)","v":"Bafata"},{"$f":"IF(COUNTRY_INFO!C81=0,\" \",COUNTRY_INFO!C81)","v":"Tendinto"},{"$f":"IF(COUNTRY_INFO!$T$9:$T$1000=\"MDA3 (IVM)\", COUNTRY_INFO!$T$9:$T$1000, \" \")","v":" "},null,null,null,0,null,null,0,null,null,0,0,0,0," "," "," "]
[{"$f":"IF(COUNTRY_INFO!A82=0,\" \",COUNTRY_INFO!A82)","v":"Guinea Bissau"},{"$f":"IF(COUNTRY_INFO!B82=0,\" \",COUNTRY_INFO!B82)","v":"Bafata"},{"$f":"IF(COUNTRY_INFO!C82=0,\" \",COUNTRY_INFO!C82)","v":"Geba"},{"$f":"IF(COUNTRY_INFO!$T$9:$T$1000=\"MDA3 (IVM)\", COUNTRY_INFO!$T$9:$T$1000, \" \")","v":" "},null,null,null,0,null,null,0,null,null,0,0,0,0," "," "," "]
[{"$f":"IF(COUNTRY_INFO!A83=0,\" \",COUNTRY_INFO!A83)","v":"Guinea Bissau"},{"$f":"IF(COUNTRY_INFO!B83=0,\" \",COUNTRY_INFO!B83)","v":"Bafata"},{"$f":"IF(COUNTRY_INFO!C83=0,\" \",COUNTRY_INFO!C83)","v":"Tantancosse"},{"$f":"IF(COUNTRY_INFO!$T$9:$T$1000=\"MDA3 (IVM)\", COUNTRY_INFO!$T$9:$T$1000, \" \")","v":" "},null,null,null,0,null,null,0,null,null,0,0,0,0," "," "," "]
[{"$f":"IF(COUNTRY_INFO!A84=0,\" \",COUNTRY_INFO!A84)","v":"Guinea Bissau"},{"$f":"IF(COUNTRY_INFO!B84=0,\" \",COUNTRY_INFO!B84)","v":"Bafata"},{"$f":"IF(COUNTRY_INFO!C84=0,\" \",COUNTRY_INFO!C84)","v":"Ga-mamudo"},{"$f":"IF(COUNTRY_INFO!$T$9:$T$1000=\"MDA3 (IVM)\", COUNTRY_INFO!$T$9:$T$1000, \" \")","v":" "},null,null,null,0,null,null,0,null,null,0,0,0,0," "," "," "]
[{"$f":"IF(COUNTRY_INFO!A85=0,\" \",COUNTRY_INFO!A85)","v":"Guinea Bissau"},{"$f":"IF(COUNTRY_INFO!B85=0,\" \",COUNTRY_INFO!B85)","v":"Bafata"},{"$f":"IF(COUNTRY_INFO!C85=0,\" \",COUNTRY_INFO!C85)","v":"Bambadinca"},{"$f":"IF(COUNTRY_INFO!$T$9:$T$1000=\"MDA3 (IVM)\", COUNTRY_INFO!$T$9:$T$1000, \" \")","v":" "},null,null,null,0,null,null,0,null,null,0,0,0,0," "," "," "]
[{"$f":"IF(COUNTRY_INFO!A86=0,\" \",COUNTRY_INFO!A86)","v":"Guinea Bissau"},{"$f":"IF(COUNTRY_INFO!B86=0,\" \",COUNTRY_INFO!B86)","v":"Bafata"},{"$f":"IF(COUNTRY_INFO!C86=0,\" \",COUNTRY_INFO!C86)","v":"Ga carnes"},{"$f":"IF(COUNTRY_INFO!$T$9:$T$1000=\"MDA3 (IVM)\", COUNTRY_INFO!$T$9:$T$1000, \" \")","v":" "},null,null,null,0,null,null,0,null,null,0,0,0,0," "," "," "]
[{"$f":"IF(COUNTRY_INFO!A87=0,\" \",COUNTRY_INFO!A87)","v":"Guinea Bissau"},{"$f":"IF(COUNTRY_INFO!B87=0,\" \",COUNTRY_INFO!B87)","v":"Bafata"},{"$f":"IF(COUNTRY_INFO!C87=0,\" \",COUNTRY_INFO!C87)","v":"Cambaju"},{"$f":"IF(COUNTRY_INFO!$T$9:$T$1000=\"MDA3 (IVM)\", COUNTRY_INFO!$T$9:$T$1000, \" \")","v":" "},null,null,null,0,null,null,0,null,null,0,0,0,0," "," "," "]
[{"$f":"IF(COUNTRY_INFO!A88=0,\" \",COUNTRY_INFO!A88)","v":"Guinea Bissau"},{"$f":"IF(COUNTRY_INFO!B88=0,\" \",COUNTRY_INFO!B88)","v":"Bafata"},{"$f":"IF(COUNTRY_INFO!C88=0,\" \",COUNTRY_INFO!C88)","v":"Gam ture"},{"$f":"IF(COUNTRY_INFO!$T$9:$T$1000=\"MDA3 (IVM)\", COUNTRY_INFO!$T$9:$T$1000, \" \")","v":" "},null,null,null,0,null,null,0,null,null,0,0,0,0," "," "," "]
[{"$f":"IF(COUNTRY_INFO!A89=0,\" \",COUNTRY_INFO!A89)","v":"Guinea Bissau"},{"$f":"IF(COUNTRY_INFO!B89=0,\" \",COUNTRY_INFO!B89)","v":"Bafata"},{"$f":"IF(COUNTRY_INFO!C89=0,\" \",COUNTRY_INFO!C89)","v":"Sare bacar"},{"$f":"IF(COUNTRY_INFO!$T$9:$T$1000=\"MDA3 (IVM)\", COUNTRY_INFO!$T$9:$T$1000, \" \")","v":" "},null,null,null,0,null,null,0,null,null,0,0,0,0," "," "," "]
[{"$f":"IF(COUNTRY_INFO!A90=0,\" \",COUNTRY_INFO!A90)","v":"Guinea Bissau"},{"$f":"IF(COUNTRY_INFO!B90=0,\" \",COUNTRY_INFO!B90)","v":"Bafata"},{"$f":"IF(COUNTRY_INFO!C90=0,\" \",COUNTRY_INFO!C90)","v":"Fajonquito"},{"$f":"IF(COUNTRY_INFO!$T$9:$T$1000=\"MDA3 (IVM)\", COUNTRY_INFO!$T$9:$T$1000, \" \")","v":" "},null,null,null,0,null,null,0,null,null,0,0,0,0," "," "," "]
[{"$f":"IF(COUNTRY_INFO!A91=0,\" \",COUNTRY_INFO!A91)","v":"Guinea Bissau"},{"$f":"IF(COUNTRY_INFO!B91=0,\" \",COUNTRY_INFO!B91)","v":"Bafata"},{"$f":"IF(COUNTRY_INFO!C91=0,\" \",COUNTRY_INFO!C91)","v":"Cosse"},{"$f":"IF(COUNTRY_INFO!$T$9:$T$1000=\"MDA3 (IVM)\", COUNTRY_INFO!$T$9:$T$1000, \" \")","v":" "},null,null,null,0,null,null,0,null,null,0,0,0,0," "," "," "]
[{"$f":"IF(COUNTRY_INFO!A92=0,\" \",COUNTRY_INFO!A92)","v":"Guinea Bissau"},{"$f":"IF(COUNTRY_INFO!B92=0,\" \",COUNTRY_INFO!B92)","v":"Bafata"},{"$f":"IF(COUNTRY_INFO!C92=0,\" \",COUNTRY_INFO!C92)","v":"Bafata"},{"$f":"IF(COUNTRY_INFO!$T$9:$T$1000=\"MDA3 (IVM)\", COUNTRY_INFO!$T$9:$T$1000, \" \")","v":" "},null,null,null,0,null,null,0,null,null,0,0,0,0," "," "," "]
[{"$f":"IF(COUNTRY_INFO!A93=0,\" \",COUNTRY_INFO!A93)","v":"Guinea Bissau"},{"$f":"IF(COUNTRY_INFO!B93=0,\" \",COUNTRY_INFO!B93)","v":"Tombali"},{"$f":"IF(COUNTRY_INFO!C93=0,\" \",COUNTRY_INFO!C93)","v":"BEDANDA"},{"$f":"IF(COUNTRY_INFO!$T$9:$T$1000=\"MDA3 (IVM)\", COUNTRY_INFO!$T$9:$T$1000, \" \")","v":" "},null,null,null,0,null,null,0,null,null,0,0,0,0," "," "," "]
[{"$f":"IF(COUNTRY_INFO!A94=0,\" \",COUNTRY_INFO!A94)","v":"Guinea Bissau"},{"$f":"IF(COUNTRY_INFO!B94=0,\" \",COUNTRY_INFO!B94)","v":"Tombali"},{"$f":"IF(COUNTRY_INFO!C94=0,\" \",COUNTRY_INFO!C94)","v":"CACINE"},{"$f":"IF(COUNTRY_INFO!$T$9:$T$1000=\"MDA3 (IVM)\", COUNTRY_INFO!$T$9:$T$1000, \" \")","v":" "},null,null,null,0,null,null,0,null,null,0,0,0,0," "," "," "]
[{"$f":"IF(COUNTRY_INFO!A95=0,\" \",COUNTRY_INFO!A95)","v":"Guinea Bissau"},{"$f":"IF(COUNTRY_INFO!B95=0,\" \",COUNTRY_INFO!B95)","v":"Tombali"},{"$f":"IF(COUNTRY_INFO!C95=0,\" \",COUNTRY_INFO!C95)","v":"CALAQUE"},{"$f":"IF(COUNTRY_INFO!$T$9:$T$1000=\"MDA3 (IVM)\", COUNTRY_INFO!$T$9:$T$1000, \" \")","v":" "},null,null,null,0,null,null,0,null,null,0,0,0,0," "," "," "]
[{"$f":"IF(COUNTRY_INFO!A96=0,\" \",COUNTRY_INFO!A96)","v":"Guinea Bissau"},{"$f":"IF(COUNTRY_INFO!B96=0,\" \",COUNTRY_INFO!B96)","v":"Tombali"},{"$f":"IF(COUNTRY_INFO!C96=0,\" \",COUNTRY_INFO!C96)","v":"CATIO"},{"$f":"IF(COUNTRY_INFO!$T$9:$T$1000=\"MDA3 (IVM)\", COUNTRY_INFO!$T$9:$T$1000, \" \")","v":" "},null,null,null,0,null,null,0,null,null,0,0,0,0," "," "," "]
[{"$f":"IF(COUNTRY_INFO!A97=0,\" \",COUNTRY_INFO!A97)","v":"Guinea Bissau"},{"$f":"IF(COUNTRY_INFO!B97=0,\" \",COUNTRY_INFO!B97)","v":"Tombali"},{"$f":"IF(COUNTRY_INFO!C97=0,\" \",COUNTRY_INFO!C97)","v":"KOMO"},{"$f":"IF(COUNTRY_INFO!$T$9:$T$1000=\"MDA3 (IVM)\", COUNTRY_INFO!$T$9:$T$1000, \" \")","v":" "},null,null,null,0,null,null,0,null,null,0,0,0,0," "," "," "]
[{"$f":"IF(COUNTRY_INFO!A98=0,\" \",COUNTRY_INFO!A98)","v":"Guinea Bissau"},{"$f":"IF(COUNTRY_INFO!B98=0,\" \",COUNTRY_INFO!B98)","v":"Tombali"},{"$f":"IF(COUNTRY_INFO!C98=0,\" \",COUNTRY_INFO!C98)","v":"QUEBO"},{"$f":"IF(COUNTRY_INFO!$T$9:$T$1000=\"MDA3 (IVM)\", COUNTRY_INFO!$T$9:$T$1000, \" \")","v":" "},null,null,null,0,null,null,0,null,null,0,0,0,0," "," "," "]
[{"$f":"IF(COUNTRY_INFO!A99=0,\" \",COUNTRY_INFO!A99)","v":"Guinea Bissau"},{"$f":"IF(COUNTRY_INFO!B99=0,\" \",COUNTRY_INFO!B99)","v":"Tombali"},{"$f":"IF(COUNTRY_INFO!C99=0,\" \",COUNTRY_INFO!C99)","v":"SANCONHA"},{"$f":"IF(COUNTRY_INFO!$T$9:$T$1000=\"MDA3 (IVM)\", COUNTRY_INFO!$T$9:$T$1000, \" \")","v":" "},null,null,null,0,null,null,0,null,null,0,0,0,0," "," "," "]
[{"$f":"IF(COUNTRY_INFO!A100=0,\" \",COUNTRY_INFO!A100)","v":"Guinea Bissau"},{"$f":"IF(COUNTRY_INFO!B100=0,\" \",COUNTRY_INFO!B100)","v":"Tombali"},{"$f":"IF(COUNTRY_INFO!C100=0,\" \",COUNTRY_INFO!C100)","v":"TIMBO"},{"$f":"IF(COUNTRY_INFO!$T$9:$T$1000=\"MDA3 (IVM)\", COUNTRY_INFO!$T$9:$T$1000, \" \")","v":" "},null,null,null,0,null,null,0,null,null,0,0,0,0," "," "," "]
[{"$f":"IF(COUNTRY_INFO!A101=0,\" \",COUNTRY_INFO!A101)","v":"Guinea Bissau"},{"$f":"IF(COUNTRY_INFO!B101=0,\" \",COUNTRY_INFO!B101)","v":"Quinara"},{"$f":"IF(COUNTRY_INFO!C101=0,\" \",COUNTRY_INFO!C101)","v":"BRANDÃO"},{"$f":"IF(COUNTRY_INFO!$T$9:$T$1000=\"MDA3 (IVM)\", COUNTRY_INFO!$T$9:$T$1000, \" \")","v":" "},null,null,null,0,null,null,0,null,null,0,0,0,0," "," "," "]
[{"$f":"IF(COUNTRY_INFO!A102=0,\" \",COUNTRY_INFO!A102)","v":"Guinea Bissau"},{"$f":"IF(COUNTRY_INFO!B102=0,\" \",COUNTRY_INFO!B102)","v":"Quinara"},{"$f":"IF(COUNTRY_INFO!C102=0,\" \",COUNTRY_INFO!C102)","v":"BUBA"},{"$f":"IF(COUNTRY_INFO!$T$9:$T$1000=\"MDA3 (IVM)\", COUNTRY_INFO!$T$9:$T$1000, \" \")","v":" "},null,null,null,0,null,null,0,null,null,0,0,0,0," "," "," "]
[{"$f":"IF(COUNTRY_INFO!A103=0,\" \",COUNTRY_INFO!A103)","v":"Guinea Bissau"},{"$f":"IF(COUNTRY_INFO!B103=0,\" \",COUNTRY_INFO!B103)","v":"Quinara"},{"$f":"IF(COUNTRY_INFO!C103=0,\" \",COUNTRY_INFO!C103)","v":"DAR-ES-SALAM"},{"$f":"IF(COUNTRY_INFO!$T$9:$T$1000=\"MDA3 (IVM)\", COUNTRY_INFO!$T$9:$T$1000, \" \")","v":" "},null,null,null,0,null,null,0,null,null,0,0,0,0," "," "," "]
[{"$f":"IF(COUNTRY_INFO!A104=0,\" \",COUNTRY_INFO!A104)","v":"Guinea Bissau"},{"$f":"IF(COUNTRY_INFO!B104=0,\" \",COUNTRY_INFO!B104)","v":"Quinara"},{"$f":"IF(COUNTRY_INFO!C104=0,\" \",COUNTRY_INFO!C104)","v":"EMPADA"},{"$f":"IF(COUNTRY_INFO!$T$9:$T$1000=\"MDA3 (IVM)\", COUNTRY_INFO!$T$9:$T$1000, \" \")","v":" "},null,null,null,0,null,null,0,null,null,0,0,0,0," "," "," "]
[{"$f":"IF(COUNTRY_INFO!A105=0,\" \",COUNTRY_INFO!A105)","v":"Guinea Bissau"},{"$f":"IF(COUNTRY_INFO!B105=0,\" \",COUNTRY_INFO!B105)","v":"Quinara"},{"$f":"IF(COUNTRY_INFO!C105=0,\" \",COUNTRY_INFO!C105)","v":"FULACUNDA"},{"$f":"IF(COUNTRY_INFO!$T$9:$T$1000=\"MDA3 (IVM)\", COUNTRY_INFO!$T$9:$T$1000, \" \")","v":" "},null,null,null,0,null,null,0,null,null,0,0,0,0," "," "," "]
[{"$f":"IF(COUNTRY_INFO!A106=0,\" \",COUNTRY_INFO!A106)","v":"Guinea Bissau"},{"$f":"IF(COUNTRY_INFO!B106=0,\" \",COUNTRY_INFO!B106)","v":"Quinara"},{"$f":"IF(COUNTRY_INFO!C106=0,\" \",COUNTRY_INFO!C106)","v":"TITE"},{"$f":"IF(COUNTRY_INFO!$T$9:$T$1000=\"MDA3 (IVM)\", COUNTRY_INFO!$T$9:$T$1000, \" \")","v":" "},null,null,null,0,null,null,0,null,null,0,0,0,0," "," "," "]
[{"$f":"IF(COUNTRY_INFO!A107=0,\" \",COUNTRY_INFO!A107)","v":"Guinea Bissau"},{"$f":"IF(COUNTRY_INFO!B107=0,\" \",COUNTRY_INFO!B107)","v":"Cacheu"},{"$f":"IF(COUNTRY_INFO!C107=0,\" \",COUNTRY_INFO!C107)","v":"Bará"},{"$f":"IF(COUNTRY_INFO!$T$9:$T$1000=\"MDA3 (IVM)\", COUNTRY_INFO!$T$9:$T$1000, \" \")","v":" "},null,null,null,0,null,null,0,null,null,0,0,0,0," "," "," "]
[{"$f":"IF(COUNTRY_INFO!A108=0,\" \",COUNTRY_INFO!A108)","v":"Guinea Bissau"},{"$f":"IF(COUNTRY_INFO!B108=0,\" \",COUNTRY_INFO!B108)","v":"Cacheu"},{"$f":"IF(COUNTRY_INFO!C108=0,\" \",COUNTRY_INFO!C108)","v":"Barro"},{"$f":"IF(COUNTRY_INFO!$T$9:$T$1000=\"MDA3 (IVM)\", COUNTRY_INFO!$T$9:$T$1000, \" \")","v":" "},null,null,null,0,null,null,0,null,null,0,0,0,0," "," "," "]
[{"$f":"IF(COUNTRY_INFO!A109=0,\" \",COUNTRY_INFO!A109)","v":"Guinea Bissau"},{"$f":"IF(COUNTRY_INFO!B109=0,\" \",COUNTRY_INFO!B109)","v":"Cacheu"},{"$f":"IF(COUNTRY_INFO!C109=0,\" \",COUNTRY_INFO!C109)","v":"Batucar"},{"$f":"IF(COUNTRY_INFO!$T$9:$T$1000=\"MDA3 (IVM)\", COUNTRY_INFO!$T$9:$T$1000, \" \")","v":" "},null,null,null,0,null,null,0,null,null,0,0,0,0," "," "," "]
[{"$f":"IF(COUNTRY_INFO!A110=0,\" \",COUNTRY_INFO!A110)","v":"Guinea Bissau"},{"$f":"IF(COUNTRY_INFO!B110=0,\" \",COUNTRY_INFO!B110)","v":"Cacheu"},{"$f":"IF(COUNTRY_INFO!C110=0,\" \",COUNTRY_INFO!C110)","v":"Begene"},{"$f":"IF(COUNTRY_INFO!$T$9:$T$1000=\"MDA3 (IVM)\", COUNTRY_INFO!$T$9:$T$1000, \" \")","v":" "},null,null,null,0,null,null,0,null,null,0,0,0,0," "," "," "]
[{"$f":"IF(COUNTRY_INFO!A111=0,\" \",COUNTRY_INFO!A111)","v":"Guinea Bissau"},{"$f":"IF(COUNTRY_INFO!B111=0,\" \",COUNTRY_INFO!B111)","v":"Cacheu"},{"$f":"IF(COUNTRY_INFO!C111=0,\" \",COUNTRY_INFO!C111)","v":"Bula"},{"$f":"IF(COUNTRY_INFO!$T$9:$T$1000=\"MDA3 (IVM)\", COUNTRY_INFO!$T$9:$T$1000, \" \")","v":" "},null,null,null,0,null,null,0,null,null,0,0,0,0," "," "," "]
[{"$f":"IF(COUNTRY_INFO!A112=0,\" \",COUNTRY_INFO!A112)","v":"Guinea Bissau"},{"$f":"IF(COUNTRY_INFO!B112=0,\" \",COUNTRY_INFO!B112)","v":"Cacheu"},{"$f":"IF(COUNTRY_INFO!C112=0,\" \",COUNTRY_INFO!C112)","v":"Cacheu"},{"$f":"IF(COUNTRY_INFO!$T$9:$T$1000=\"MDA3 (IVM)\", COUNTRY_INFO!$T$9:$T$1000, \" \")","v":" "},null,null,null,0,null,null,0,null,null,0,0,0,0," "," "," "]
[{"$f":"IF(COUNTRY_INFO!A113=0,\" \",COUNTRY_INFO!A113)","v":"Guinea Bissau"},{"$f":"IF(COUNTRY_INFO!B113=0,\" \",COUNTRY_INFO!B113)","v":"Cacheu"},{"$f":"IF(COUNTRY_INFO!C113=0,\" \",COUNTRY_INFO!C113)","v":"Caió"},{"$f":"IF(COUNTRY_INFO!$T$9:$T$1000=\"MDA3 (IVM)\", COUNTRY_INFO!$T$9:$T$1000, \" \")","v":" "},null,null,null,0,null,null,0,null,null,0,0,0,0," "," "," "]
[{"$f":"IF(COUNTRY_INFO!A114=0,\" \",COUNTRY_INFO!A114)","v":"Guinea Bissau"},{"$f":"IF(COUNTRY_INFO!B114=0,\" \",COUNTRY_INFO!B114)","v":"Cacheu"},{"$f":"IF(COUNTRY_INFO!C114=0,\" \",COUNTRY_INFO!C114)","v":"Calequisse"},{"$f":"IF(COUNTRY_INFO!$T$9:$T$1000=\"MDA3 (IVM)\", COUNTRY_INFO!$T$9:$T$1000, \" \")","v":" "},null,null,null,0,null,null,0,null,null,0,0,0,0," "," "," "]
[{"$f":"IF(COUNTRY_INFO!A115=0,\" \",COUNTRY_INFO!A115)","v":"Guinea Bissau"},{"$f":"IF(COUNTRY_INFO!B115=0,\" \",COUNTRY_INFO!B115)","v":"Cacheu"},{"$f":"IF(COUNTRY_INFO!C115=0,\" \",COUNTRY_INFO!C115)","v":"Canchungo"},{"$f":"IF(COUNTRY_INFO!$T$9:$T$1000=\"MDA3 (IVM)\", COUNTRY_INFO!$T$9:$T$1000, \" \")","v":" "},null,null,null,0,null,null,0,null,null,0,0,0,0," "," "," "]
[{"$f":"IF(COUNTRY_INFO!A116=0,\" \",COUNTRY_INFO!A116)","v":"Guinea Bissau"},{"$f":"IF(COUNTRY_INFO!B116=0,\" \",COUNTRY_INFO!B116)","v":"Cacheu"},{"$f":"IF(COUNTRY_INFO!C116=0,\" \",COUNTRY_INFO!C116)","v":"Carenque"},{"$f":"IF(COUNTRY_INFO!$T$9:$T$1000=\"MDA3 (IVM)\", COUNTRY_INFO!$T$9:$T$1000, \" \")","v":" "},null,null,null,0,null,null,0,null,null,0,0,0,0," "," "," "]
[{"$f":"IF(COUNTRY_INFO!A117=0,\" \",COUNTRY_INFO!A117)","v":"Guinea Bissau"},{"$f":"IF(COUNTRY_INFO!B117=0,\" \",COUNTRY_INFO!B117)","v":"Cacheu"},{"$f":"IF(COUNTRY_INFO!C117=0,\" \",COUNTRY_INFO!C117)","v":"Có"},{"$f":"IF(COUNTRY_INFO!$T$9:$T$1000=\"MDA3 (IVM)\", COUNTRY_INFO!$T$9:$T$1000, \" \")","v":" "},null,null,null,0,null,null,0,null,null,0,0,0,0," "," "," "]
[{"$f":"IF(COUNTRY_INFO!A118=0,\" \",COUNTRY_INFO!A118)","v":"Guinea Bissau"},{"$f":"IF(COUNTRY_INFO!B118=0,\" \",COUNTRY_INFO!B118)","v":"Cacheu"},{"$f":"IF(COUNTRY_INFO!C118=0,\" \",COUNTRY_INFO!C118)","v":"Ingoré"},{"$f":"IF(COUNTRY_INFO!$T$9:$T$1000=\"MDA3 (IVM)\", COUNTRY_INFO!$T$9:$T$1000, \" \")","v":" "},null,null,null,0,null,null,0,null,null,0,0,0,0," "," "," "]
[{"$f":"IF(COUNTRY_INFO!A119=0,\" \",COUNTRY_INFO!A119)","v":"Guinea Bissau"},{"$f":"IF(COUNTRY_INFO!B119=0,\" \",COUNTRY_INFO!B119)","v":"Cacheu"},{"$f":"IF(COUNTRY_INFO!C119=0,\" \",COUNTRY_INFO!C119)","v":"Jeta"},{"$f":"IF(COUNTRY_INFO!$T$9:$T$1000=\"MDA3 (IVM)\", COUNTRY_INFO!$T$9:$T$1000, \" \")","v":" "},null,null,null,0,null,null,0,null,null,0,0,0,0," "," "," "]
[{"$f":"IF(COUNTRY_INFO!A120=0,\" \",COUNTRY_INFO!A120)","v":"Guinea Bissau"},{"$f":"IF(COUNTRY_INFO!B120=0,\" \",COUNTRY_INFO!B120)","v":"Cacheu"},{"$f":"IF(COUNTRY_INFO!C120=0,\" \",COUNTRY_INFO!C120)","v":"Pecixe"},{"$f":"IF(COUNTRY_INFO!$T$9:$T$1000=\"MDA3 (IVM)\", COUNTRY_INFO!$T$9:$T$1000, \" \")","v":" "},null,null,null,0,null,null,0,null,null,0,0,0,0," "," "," "]
[{"$f":"IF(COUNTRY_INFO!A121=0,\" \",COUNTRY_INFO!A121)","v":"Guinea Bissau"},{"$f":"IF(COUNTRY_INFO!B121=0,\" \",COUNTRY_INFO!B121)","v":"Cacheu"},{"$f":"IF(COUNTRY_INFO!C121=0,\" \",COUNTRY_INFO!C121)","v":"Pelundo"},{"$f":"IF(COUNTRY_INFO!$T$9:$T$1000=\"MDA3 (IVM)\", COUNTRY_INFO!$T$9:$T$1000, \" \")","v":" "},null,null,null,0,null,null,0,null,null,0,0,0,0," "," "," "]
[{"$f":"IF(COUNTRY_INFO!A122=0,\" \",COUNTRY_INFO!A122)","v":"Guinea Bissau"},{"$f":"IF(COUNTRY_INFO!B122=0,\" \",COUNTRY_INFO!B122)","v":"Cacheu"},{"$f":"IF(COUNTRY_INFO!C122=0,\" \",COUNTRY_INFO!C122)","v":"S.Domingos"},{"$f":"IF(COUNTRY_INFO!$T$9:$T$1000=\"MDA3 (IVM)\", COUNTRY_INFO!$T$9:$T$1000, \" \")","v":" "},null,null,null,0,null,null,0,null,null,0,0,0,0," "," "," "]
[{"$f":"IF(COUNTRY_INFO!A123=0,\" \",COUNTRY_INFO!A123)","v":"Guinea Bissau"},{"$f":"IF(COUNTRY_INFO!B123=0,\" \",COUNTRY_INFO!B123)","v":"Cacheu"},{"$f":"IF(COUNTRY_INFO!C123=0,\" \",COUNTRY_INFO!C123)","v":"Sedengal"},{"$f":"IF(COUNTRY_INFO!$T$9:$T$1000=\"MDA3 (IVM)\", COUNTRY_INFO!$T$9:$T$1000, \" \")","v":" "},null,null,null,0,null,null,0,null,null,0,0,0,0," "," "," "]
[{"$f":"IF(COUNTRY_INFO!A124=0,\" \",COUNTRY_INFO!A124)","v":"Guinea Bissau"},{"$f":"IF(COUNTRY_INFO!B124=0,\" \",COUNTRY_INFO!B124)","v":"Cacheu"},{"$f":"IF(COUNTRY_INFO!C124=0,\" \",COUNTRY_INFO!C124)","v":"Suzana"},{"$f":"IF(COUNTRY_INFO!$T$9:$T$1000=\"MDA3 (IVM)\", COUNTRY_INFO!$T$9:$T$1000, \" \")","v":" "},null,null,null,0,null,null,0,null,null,0,0,0,0," "," "," "]
[{"$f":"IF(COUNTRY_INFO!A125=0,\" \",COUNTRY_INFO!A125)","v":"Guinea Bissau"},{"$f":"IF(COUNTRY_INFO!B125=0,\" \",COUNTRY_INFO!B125)","v":"Cacheu"},{"$f":"IF(COUNTRY_INFO!C125=0,\" \",COUNTRY_INFO!C125)","v":"Varela"},{"$f":"IF(COUNTRY_INFO!$T$9:$T$1000=\"MDA3 (IVM)\", COUNTRY_INFO!$T$9:$T$1000, \" \")","v":" "},null,null,null,0,null,null,0,null,null,0,0,0,0," "," "," "]

{"sheet":"T1","index":5,"n_rows":125,"n_cols":19,"rows_kept":125,"cut":false,"hidden":false,"merged":[[5,6,5,10],[5,11,5,14],[5,15,5,18],[3,0,3,2],[5,0,5,2],[5,3,6,3],[5,5,6,5],[5,4,6,4]]}
["T 1 - Praziquantel (PZQ) et Albendazole (ALB) ou Mebendazole (MBD)"]
["Structure administrative, population nécessitant une chimioprévention par groupe d'âge, population traitée par groupe d'âge et couverture"]
[]
["TOTAL",null,null,null,null,null,{"$f":"SUM(G$9:G$1000)","v":0},0,0,0,{"$f":"SUM(K$9:K$1000)","v":0},0,0,0,0,{"$f":"IF(G4<>0, IF(L4/G4*100=0, \"-\", L4/G4*100), \" \")","v":" "},{"$f":"IF(OR(I4<>0,H4<>0), IF(M4/MAX(H4,I4)*100=0, \"-\", M4/MAX(H4,I4)*100), \" \")","v":" "},{"$f":"IF(J4<>0, IF(N4/J4*100=0, \"-\", N4/J4*100), \" \")","v":" "},{"$f":"IF(K4<>0, IF(O4/K4*100=0, \"-\", O4/K4*100), \" \")","v":" "}]
[]
["Structure administrative du pays",null,null,"Mise en oeuvre \nde la CP","Médica-ment","Date","Population ciblée pour T1",null,null,null,null,"Population traitée",null,null,null,"Couverture du Programme (%)"]
["Pays","Région/Département","District",null,null,null,"EAPréS (ALB)","EAS (ALB)","EAS (PZQ)","Adultes (PZQ)","Total","EAPréS","EAS","Adultes","Total","EAPréS","EAS","Adultes","Total"]
[]
[{"$f":"IF(COUNTRY_INFO!A9=0,\" \",COUNTRY_INFO!A9)","v":"Guinea Bissau"},{"$f":"IF(COUNTRY_INFO!B9=0,\" \",COUNTRY_INFO!B9)","v":"SAB"},{"$f":"IF(COUNTRY_INFO!C9=0,\" \",COUNTRY_INFO!C9)","v":"AJUDA"},{"$f":"IF(OR(COUNTRY_INFO!$T$9:$T$1000=\"T1 (PZQ+ALB/MBD)\",COUNTRY_INFO!$U$9:$U$1000=\"T1 (PZQ+ALB/MBD)\"), \"T1 (PZQ+ALB/MBD)\", \" \")","v":" "},null,null,null,null,null,null,{"$f":"MAX(H9:I9)+G9+J9","v":0},null,null,null,{"$f":"SUM(L9:N9)","v":0},{"$f":"IF(G9<>0, IF(L9/G9*100=0, \"-\", L9/G9*100), \" \")","v":" "},{"$f":"IF(OR(I9<>0,H9<>0), IF(M9/MAX(H9,I9)*100=0, \"-\", M9/MAX(H9,I9)*100), \" \")","v":" "},{"$f":"IF(J9<>0, IF(N9/J9*100=0, \"-\", N9/J9*100), \" \")","v":" "}," "]
[{"$f":"IF(COUNTRY_INFO!A10=0,\" \",COUNTRY_INFO!A10)","v":"Guinea Bissau"},{"$f":"IF(COUNTRY_INFO!B10=0,\" \",COUNTRY_INFO!B10)","v":"SAB"},{"$f":"IF(COUNTRY_INFO!C10=0,\" \",COUNTRY_INFO!C10)","v":"ANTULA"},{"$f":"IF(OR(COUNTRY_INFO!$T$9:$T$1000=\"T1 (PZQ+ALB/MBD)\",COUNTRY_INFO!$U$9:$U$1000=\"T1 (PZQ+ALB/MBD)\"), \"T1 (PZQ+ALB/MBD)\", \" \")","v":" "},null,null,null,null,null,null,{"$f":"MAX(H10:I10)+G10+J10","v":0},null,null,null,{"$f":"SUM(L10:N10)","v":0},{"$f":"IF(G10<>0, IF(L10/G10*100=0, \"-\", L10/G10*100), \" \")","v":" "},{"$f":"IF(OR(I10<>0,H10<>0), IF(M10/MAX(H10,I10)*100=0, \"-\", M10/MAX(H10,I10)*100), \" \")","v":" "},{"$f":"IF(J10<>0, IF(N10/J10*100=0, \"-\", N10/J10*100), \" \")","v":" "},{"$f":"IF(K10<>0, IF(O10/K10*100=0, \"-\", O10/K10*100), \" \")","v":" "}]
[{"$f":"IF(COUNTRY_INFO!A11=0,\" \",COUNTRY_INFO!A11)","v":"Guinea Bissau"},{"$f":"IF(COUNTRY_INFO!B11=0,\" \",COUNTRY_INFO!B11)","v":"SAB"},{"$f":"IF(COUNTRY_INFO!C11=0,\" \",COUNTRY_INFO!C11)","v":"B. MILITAR"},{"$f":"IF(OR(COUNTRY_INFO!$T$9:$T$1000=\"T1 (PZQ+ALB/MBD)\",COUNTRY_INFO!$U$9:$U$1000=\"T1 (PZQ+ALB/MBD)\"), \"T1 (PZQ+ALB/MBD)\", \" \")","v":" "},null,null,null,null,null,null,0,null,null,null,0," "," "," "," "]
[{"$f":"IF(COUNTRY_INFO!A12=0,\" \",COUNTRY_INFO!A12)","v":"Guinea Bissau"},{"$f":"IF(COUNTRY_INFO!B12=0,\" \",COUNTRY_INFO!B12)","v":"SAB"},{"$f":"IF(COUNTRY_INFO!C12=0,\" \",COUNTRY_INFO!C12)","v":"BANDIM"},{"$f":"IF(OR(COUNTRY_INFO!$T$9:$T$1000=\"T1 (PZQ+ALB/MBD)\",COUNTRY_INFO!$U$9:$U$1000=\"T1 (PZQ+ALB/MBD)\"), \"T1 (PZQ+ALB/MBD)\", \" \")","v":" "},null,null,null,null,null,null,0,null,null,null,0," "," "," "," "]
[{"$f":"IF(COUNTRY_INFO!A13=0,\" \",COUNTRY_INFO!A13)","v":"Guinea Bissau"},{"$f":"IF(COUNTRY_INFO!B13=0,\" \",COUNTRY_INFO!B13)","v":"SAB"},{"$f":"IF(COUNTRY_INFO!C13=0,\" \",COUNTRY_INFO!C13)","v":"BELEM"},{"$f":"IF(OR(COUNTRY_INFO!$T$9:$T$1000=\"T1 (PZQ+ALB/MBD)\",COUNTRY_INFO!$U$9:$U$1000=\"T1 (PZQ+ALB/MBD)\"), \"T1 (PZQ+ALB/MBD)\", \" \")","v":" "},null,null,null,null,null,null,0,null,null,null,0," "," "," "," "]
[{"$f":"IF(COUNTRY_INFO!A14=0,\" \",COUNTRY_INFO!A14)","v":"Guinea Bissau"},{"$f":"IF(COUNTRY_INFO!B14=0,\" \",COUNTRY_INFO!B14)","v":"SAB"},{"$f":"IF(COUNTRY_INFO!C14=0,\" \",COUNTRY_INFO!C14)","v":"CMI"},{"$f":"IF(OR(COUNTRY_INFO!$T$9:$T$1000=\"T1 (PZQ+ALB/MBD)\",COUNTRY_INFO!$U$9:$U$1000=\"T1 (PZQ+ALB/MBD)\"), \"T1 (PZQ+ALB/MBD)\", \" \")","v":" "},null,null,null,null,null,null,0,null,null,null,0," "," "," "," "]
[{"$f":"IF(COUNTRY_INFO!A15=0,\" \",COUNTRY_INFO!A15)","v":"Guinea Bissau"},{"$f":"IF(COUNTRY_INFO!B15=0,\" \",COUNTRY_INFO!B15)","v":"SAB"},{"$f":"IF(COUNTRY_INFO!C15=0,\" \",COUNTRY_INFO!C15)","v":"CUNTUM"},{"$f":"IF(OR(COUNTRY_INFO!$T$9:$T$1000=\"T1 (PZQ+ALB/MBD)\",COUNTRY_INFO!$U$9:$U$1000=\"T1 (PZQ+ALB/MBD)\"), \"T1 (PZQ+ALB/MBD)\", \" \")","v":" "},null,null,null,null,null,null,0,null,null,null,0," "," "," "," "]
[{"$f":"IF(COUNTRY_INFO!A16=0,\" \",COUNTRY_INFO!A16)","v":"Guinea Bissau"},{"$f":"IF(COUNTRY_INFO!B16=0,\" \",COUNTRY_INFO!B16)","v":"SAB"},{"$f":"IF(COUNTRY_INFO!C16=0,\" \",COUNTRY_INFO!C16)","v":"LUANDA"},{"$f":"IF(OR(COUNTRY_INFO!$T$9:$T$1000=\"T1 (PZQ+ALB/MBD)\",COUNTRY_INFO!$U$9:$U$1000=\"T1 (PZQ+ALB/MBD)\"), \"T1 (PZQ+ALB/MBD)\", \" \")","v":" "},null,null,null,null,null,null,0,null,null,null,0," "," "," "," "]
[{"$f":"IF(COUNTRY_INFO!A17=0,\" \",COUNTRY_INFO!A17)","v":"Guinea Bissau"},{"$f":"IF(COUNTRY_INFO!B17=0,\" \",COUNTRY_INFO!B17)","v":"SAB"},{"$f":"IF(COUNTRY_INFO!C17=0,\" \",COUNTRY_INFO!C17)","v":"MISSIRA"},{"$f":"IF(OR(COUNTRY_INFO!$T$9:$T$1000=\"T1 (PZQ+ALB/MBD)\",COUNTRY_INFO!$U$9:$U$1000=\"T1 (PZQ+ALB/MBD)\"), \"T1 (PZQ+ALB/MBD)\", \" \")","v":" "},null,null,null,null,null,null,0,null,null,null,0," "," "," "," "]
[{"$f":"IF(COUNTRY_INFO!A18=0,\" \",COUNTRY_INFO!A18)","v":"Guinea Bissau"},{"$f":"IF(COUNTRY_INFO!B18=0,\" \",COUNTRY_INFO!B18)","v":"SAB"},{"$f":"IF(COUNTRY_INFO!C18=0,\" \",COUNTRY_INFO!C18)","v":"PEFINE"},{"$f":"IF(OR(COUNTRY_INFO!$T$9:$T$1000=\"T1 (PZQ+ALB/MBD)\",COUNTRY_INFO!$U$9:$U$1000=\"T1 (PZQ+ALB/MBD)\"), \"T1 (PZQ+ALB/MBD)\", \" \")","v":" "},null,null,null,null,null,null,0,null,null,null,0," "," "," "," "]
[{"$f":"IF(COUNTRY_INFO!A19=0,\" \",COUNTRY_INFO!A19)","v":"Guinea Bissau"},{"$f":"IF(COUNTRY_INFO!B19=0,\" \",COUNTRY_INFO!B19)","v":"SAB"},{"$f":"IF(COUNTRY_INFO!C19=0,\" \",COUNTRY_INFO!C19)","v":"PLACK II"},{"$f":"IF(OR(COUNTRY_INFO!$T$9:$T$1000=\"T1 (PZQ+ALB/MBD)\",COUNTRY_INFO!$U$9:$U$1000=\"T1 (PZQ+ALB/MBD)\"), \"T1 (PZQ+ALB/MBD)\", \" \")","v":" "},null,null,null,null,null,null,0,null,null,null,0," "," "," "," "]
[{"$f":"IF(COUNTRY_INFO!A20=0,\" \",COUNTRY_INFO!A20)","v":"Guinea Bissau"},{"$f":"IF(COUNTRY_INFO!B20=0,\" \",COUNTRY_INFO!B20)","v":"SAB"},{"$f":"IF(COUNTRY_INFO!C20=0,\" \",COUNTRY_INFO!C20)","v":"QUELELE"},{"$f":"IF(OR(COUNTRY_INFO!$T$9:$T$1000=\"T1 (PZQ+ALB/MBD)\",COUNTRY_INFO!$U$9:$U$1000=\"T1 (PZQ+ALB/MBD)\"), \"T1 (PZQ+ALB/MBD)\", \" \")","v":" "},null,null,null,null,null,null,0,null,null,null,0," "," "," "," "]
[{"$f":"IF(COUNTRY_INFO!A21=0,\" \",COUNTRY_INFO!A21)","v":"Guinea Bissau"},{"$f":"IF(COUNTRY_INFO!B21=0,\" \",COUNTRY_INFO!B21)","v":"SAB"},{"$f":"IF(COUNTRY_INFO!C21=0,\" \",COUNTRY_INFO!C21)","v":"SANTA LUZIA"},{"$f":"IF(OR(COUNTRY_INFO!$T$9:$T$1000=\"T1 (PZQ+ALB/MBD)\",COUNTRY_INFO!$U$9:$U$1000=\"T1 (PZQ+ALB/MBD)\"), \"T1 (PZQ+ALB/MBD)\", \" \")","v":" "},null,null,null,null,null,null,0,null,null,null,0," "," "," "," "]
[{"$f":"IF(COUNTRY_INFO!A22=0,\" \",COUNTRY_INFO!A22)","v":"Guinea Bissau"},{"$f":"IF(COUNTRY_INFO!B22=0,\" \",COUNTRY_INFO!B22)","v":"SAB"},{"$f":"IF(COUNTRY_INFO!C22=0,\" \",COUNTRY_INFO!C22)","v":"SINTRA NEMA"},{"$f":"IF(OR(COUNTRY_INFO!$T$9:$T$1000=\"T1 (PZQ+ALB/MBD)\",COUNTRY_INFO!$U$9:$U$1000=\"T1 (PZQ+ALB/MBD)\"), \"T1 (PZQ+ALB/MBD)\", \" \")","v":" "},null,null,null,null,null,null,0,null,null,null,0," "," "," "," "]
[{"$f":"IF(COUNTRY_INFO!A23=0,\" \",COUNTRY_INFO!A23)","v":"Guinea Bissau"},{"$f":"IF(COUNTRY_INFO!B23=0,\" \",COUNTRY_INFO!B23)","v":"Bijagos"},{"$f":"IF(COUNTRY_INFO!C23=0,\" \",COUNTRY_INFO!C23)","v":"Bubaque"},{"$f":"IF(OR(COUNTRY_INFO!$T$9:$T$1000=\"T1 (PZQ+ALB/MBD)\",COUNTRY_INFO!$U$9:$U$1000=\"T1 (PZQ+ALB/MBD)\"), \"T1 (PZQ+ALB/MBD)\", \" \")","v":" "},null,null,null,null,null,null,0,null,null,null,0," "," "," "," "]
[{"$f":"IF(COUNTRY_INFO!A24=0,\" \",COUNTRY_INFO!A24)","v":"Guinea Bissau"},{"$f":"IF(COUNTRY_INFO!B24=0,\" \",COUNTRY_INFO!B24)","v":"Bijagos"},{"$f":"IF(COUNTRY_INFO!C24=0,\" \",COUNTRY_INFO!C24)","v":"Canhabaque"},{"$f":"IF(OR(COUNTRY_INFO!$T$9:$T$1000=\"T1 (PZQ+ALB/MBD)\",COUNTRY_INFO!$U$9:$U$1000=\"T1 (PZQ+ALB/MBD)\"), \"T1 (PZQ+ALB/MBD)\", \" \")","v":" "},null,null,null,null,null,null,0,null,null,null,0," "," "," "," "]
[{"$f":"IF(COUNTRY_INFO!A25=0,\" \",COUNTRY_INFO!A25)","v":"Guinea Bissau"},{"$f":"IF(COUNTRY_INFO!B25=0,\" \",COUNTRY_INFO!B25)","v":"Bijagos"},{"$f":"IF(COUNTRY_INFO!C25=0,\" \",COUNTRY_INFO!C25)","v":"Canogo"},{"$f":"IF(OR(COUNTRY_INFO!$T$9:$T$1000=\"T1 (PZQ+ALB/MBD)\",COUNTRY_INFO!$U$9:$U$1000=\"T1 (PZQ+ALB/MBD)\"), \"T1 (PZQ+ALB/MBD)\", \" \")","v":" "},null,null,null,null,null,null,0,null,null,null,0," "," "," "," "]
[{"$f":"IF(COUNTRY_INFO!A26=0,\" \",COUNTRY_INFO!A26)","v":"Guinea Bissau"},{"$f":"IF(COUNTRY_INFO!B26=0,\" \",COUNTRY_INFO!B26)","v":"Bijagos"},{"$f":"IF(COUNTRY_INFO!C26=0,\" \",COUNTRY_INFO!C26)","v":"Caravela"},{"$f":"IF(OR(COUNTRY_INFO!$T$9:$T$1000=\"T1 (PZQ+ALB/MBD)\",COUNTRY_INFO!$U$9:$U$1000=\"T1 (PZQ+ALB/MBD)\"), \"T1 (PZQ+ALB/MBD)\", \" \")","v":" "},null,null,null,null,null,null,0,null,null,null,0," "," "," "," "]
[{"$f":"IF(COUNTRY_INFO!A27=0,\" \",COUNTRY_INFO!A27)","v":"Guinea Bissau"},{"$f":"IF(COUNTRY_INFO!B27=0,\" \",COUNTRY_INFO!B27)","v":"Bijagos"},{"$f":"IF(COUNTRY_INFO!C27=0,\" \",COUNTRY_INFO!C27)","v":"Formosa"},{"$f":"IF(OR(COUNTRY_INFO!$T$9:$T$1000=\"T1 (PZQ+ALB/MBD)\",COUNTRY_INFO!$U$9:$U$1000=\"T1 (PZQ+ALB/MBD)\"), \"T1 (PZQ+ALB/MBD)\", \" \")","v":" "},null,null,null,null,null,null,0,null,null,null,0," "," "," "," "]
[{"$f":"IF(COUNTRY_INFO!A28=0,\" \",COUNTRY_INFO!A28)","v":"Guinea Bissau"},{"$f":"IF(COUNTRY_INFO!B28=0,\" \",COUNTRY_INFO!B28)","v":"Bijagos"},{"$f":"IF(COUNTRY_INFO!C28=0,\" \",COUNTRY_INFO!C28)","v":"Orango Grande"},{"$f":"IF(OR(COUNTRY_INFO!$T$9:$T$1000=\"T1 (PZQ+ALB/MBD)\",COUNTRY_INFO!$U$9:$U$1000=\"T1 (PZQ+ALB/MBD)\"), \"T1 (PZQ+ALB/MBD)\", \" \")","v":" "},null,null,null,null,null,null,0,null,null,null,0," "," "," "," "]
[{"$f":"IF(COUNTRY_INFO!A29=0,\" \",COUNTRY_INFO!A29)","v":"Guinea Bissau"},{"$f":"IF(COUNTRY_INFO!B29=0,\" \",COUNTRY_INFO!B29)","v":"Bijagos"},{"$f":"IF(COUNTRY_INFO!C29=0,\" \",COUNTRY_INFO!C29)","v":"Orango zinho"},{"$f":"IF(OR(COUNTRY_INFO!$T$9:$T$1000=\"T1 (PZQ+ALB/MBD)\",COUNTRY_INFO!$U$9:$U$1000=\"T1 (PZQ+ALB/MBD)\"), \"T1 (PZQ+ALB/MBD)\", \" \")","v":" "},null,null,null,null,null,null,0,null,null,null,0," "," "," "," "]
[{"$f":"IF(COUNTRY_INFO!A30=0,\" \",COUNTRY_INFO!A30)","v":"Guinea Bissau"},{"$f":"IF(COUNTRY_INFO!B30=0,\" \",COUNTRY_INFO!B30)","v":"Bijagos"},{"$f":"IF(COUNTRY_INFO!C30=0,\" \",COUNTRY_INFO!C30)","v":"Soga"},{"$f":"IF(OR(COUNTRY_INFO!$T$9:$T$1000=\"T1 (PZQ+ALB/MBD)\",COUNTRY_INFO!$U$9:$U$1000=\"T1 (PZQ+ALB/MBD)\"), \"T1 (PZQ+ALB/MBD)\", \" \")","v":" "},null,null,null,null,null,null,0,null,null,null,0," "," "," "," "]
[{"$f":"IF(COUNTRY_INFO!A31=0,\" \",COUNTRY_INFO!A31)","v":"Guinea Bissau"},{"$f":"IF(COUNTRY_INFO!B31=0,\" \",COUNTRY_INFO!B31)","v":"Bijagos"},{"$f":"IF(COUNTRY_INFO!C31=0,\" \",COUNTRY_INFO!C31)","v":"Unhocomo"},{"$f":"IF(OR(COUNTRY_INFO!$T$9:$T$1000=\"T1 (PZQ+ALB/MBD)\",COUNTRY_INFO!$U$9:$U$1000=\"T1 (PZQ+ALB/MBD)\"), \"T1 (PZQ+ALB/MBD)\", \" \")","v":" "},null,null,null,null,null,null,0,null,null,null,0," "," "," "," "]
[{"$f":"IF(COUNTRY_INFO!A32=0,\" \",COUNTRY_INFO!A32)","v":"Guinea Bissau"},{"$f":"IF(COUNTRY_INFO!B32=0,\" \",COUNTRY_INFO!B32)","v":"Bijagos"},{"$f":"IF(COUNTRY_INFO!C32=0,\" \",COUNTRY_INFO!C32)","v":"Uno"},{"$f":"IF(OR(COUNTRY_INFO!$T$9:$T$1000=\"T1 (PZQ+ALB/MBD)\",COUNTRY_INFO!$U$9:$U$1000=\"T1 (PZQ+ALB/MBD)\"), \"T1 (PZQ+ALB/MBD)\", \" \")","v":" "},null,null,null,null,null,null,0,null,null,null,0," "," "," "," "]
[{"$f":"IF(COUNTRY_INFO!A33=0,\" \",COUNTRY_INFO!A33)","v":"Guinea Bissau"},{"$f":"IF(COUNTRY_INFO!B33=0,\" \",COUNTRY_INFO!B33)","v":"Bijagos"},{"$f":"IF(COUNTRY_INFO!C33=0,\" \",COUNTRY_INFO!C33)","v":"Uracane"},{"$f":"IF(OR(COUNTRY_INFO!$T$9:$T$1000=\"T1 (PZQ+ALB/MBD)\",COUNTRY_INFO!$U$9:$U$1000=\"T1 (PZQ+ALB/MBD)\"), \"T1 (PZQ+ALB/MBD)\", \" \")","v":" "},null,null,null,null,null,null,0,null,null,null,0," "," "," "," "]
[{"$f":"IF(COUNTRY_INFO!A34=0,\" \",COUNTRY_INFO!A34)","v":"Guinea Bissau"},{"$f":"IF(COUNTRY_INFO!B34=0,\" \",COUNTRY_INFO!B34)","v":"Biombo"},{"$f":"IF(COUNTRY_INFO!C34=0,\" \",COUNTRY_INFO!C34)","v":"BIJIMITA"},{"$f":"IF(OR(COUNTRY_INFO!$T$9:$T$1000=\"T1 (PZQ+ALB/MBD)\",COUNTRY_INFO!$U$9:$U$1000=\"T1 (PZQ+ALB/MBD)\"), \"T1 (PZQ+ALB/MBD)\", \" \")","v":" "},null,null,null,null,null,null,0,null,null,null,0," "," "," "," "]
[{"$f":"IF(COUNTRY_INFO!A35=0,\" \",COUNTRY_INFO!A35)","v":"Guinea Bissau"},{"$f":"IF(COUNTRY_INFO!B35=0,\" \",COUNTRY_INFO!B35)","v":"Biombo"},{"$f":"IF(COUNTRY_INFO!C35=0,\" \",COUNTRY_INFO!C35)","v":"CUMURA"},{"$f":"IF(OR(COUNTRY_INFO!$T$9:$T$1000=\"T1 (PZQ+ALB/MBD)\",COUNTRY_INFO!$U$9:$U$1000=\"T1 (PZQ+ALB/MBD)\"), \"T1 (PZQ+ALB/MBD)\", \" \")","v":" "},null,null,null,null,null,null,0,null,null,null,0," "," "," "," "]
[{"$f":"IF(COUNTRY_INFO!A36=0,\" \",COUNTRY_INFO!A36)","v":"Guinea Bissau"},{"$f":"IF(COUNTRY_INFO!B36=0,\" \",COUNTRY_INFO!B36)","v":"Biombo"},{"$f":"IF(COUNTRY_INFO!C36=0,\" \",COUNTRY_INFO!C36)","v":"DORSE"},{"$f":"IF(OR(COUNTRY_INFO!$T$9:$T$1000=\"T1 (PZQ+ALB/MBD)\",COUNTRY_INFO!$U$9:$U$1000=\"T1 (PZQ+ALB/MBD)\"), \"T1 (PZQ+ALB/MBD)\", \" \")","v":" "},null,null,null,null,null,null,0,null,null,null,0," "," "," "," "]
[{"$f":"IF(COUNTRY_INFO!A37=0,\" \",COUNTRY_INFO!A37)","v":"Guinea Bissau"},{"$f":"IF(COUNTRY_INFO!B37=0,\" \",COUNTRY_INFO!B37)","v":"Biombo"},{"$f":"IF(COUNTRY_INFO!C37=0,\" \",COUNTRY_INFO!C37)","v":"ILONDE"},{"$f":"IF(OR(COUNTRY_INFO!$T$9:$T$1000=\"T1 (PZQ+ALB/MBD)\",COUNTRY_INFO!$U$9:$U$1000=\"T1 (PZQ+ALB/MBD)\"), \"T1 (PZQ+ALB/MBD)\", \" \")","v":" "},null,null,null,null,null,null,0,null,null,null,0," "," "," "," "]
[{"$f":"IF(COUNTRY_INFO!A38=0,\" \",COUNTRY_INFO!A38)","v":"Guinea Bissau"},{"$f":"IF(COUNTRY_INFO!B38=0,\" \",COUNTRY_INFO!B38)","v":"Biombo"},{"$f":"IF(COUNTRY_INFO!C38=0,\" \",COUNTRY_INFO!C38)","v":"ONDAME"},{"$f":"IF(OR(COUNTRY_INFO!$T$9:$T$1000=\"T1 (PZQ+ALB/MBD)\",COUNTRY_INFO!$U$9:$U$1000=\"T1 (PZQ+ALB/MBD)\"), \"T1 (PZQ+ALB/MBD)\", \" \")","v":" "},null,null,null,null,null,null,0,null,null,null,0," "," "," "," "]
[{"$f":"IF(COUNTRY_INFO!A39=0,\" \",COUNTRY_INFO!A39)","v":"Guinea Bissau"},{"$f":"IF(COUNTRY_INFO!B39=0,\" \",COUNTRY_INFO!B39)","v":"Biombo"},{"$f":"IF(COUNTRY_INFO!C39=0,\" \",COUNTRY_INFO!C39)","v":"PRABIS"},{"$f":"IF(OR(COUNTRY_INFO!$T$9:$T$1000=\"T1 (PZQ+ALB/MBD)\",COUNTRY_INFO!$U$9:$U$1000=\"T1 (PZQ+ALB/MBD)\"), \"T1 (PZQ+ALB/MBD)\", \" \")","v":" "},null,null,null,null,null,null,0,null,null,null,0," "," "," "," "]
[{"$f":"IF(COUNTRY_INFO!A40=0,\" \",COUNTRY_INFO!A40)","v":"Guinea Bissau"},{"$f":"IF(COUNTRY_INFO!B40=0,\" \",COUNTRY_INFO!B40)","v":"Biombo"},{"$f":"IF(COUNTRY_INFO!C40=0,\" \",COUNTRY_INFO!C40)","v":"QUINHAMEL"},{"$f":"IF(OR(COUNTRY_INFO!$T$9:$T$1000=\"T1 (PZQ+ALB/MBD)\",COUNTRY_INFO!$U$9:$U$1000=\"T1 (PZQ+ALB/MBD)\"), \"T1 (PZQ+ALB/MBD)\", \" \")","v":" "},null,null,null,null,null,null,0,null,null,null,0," "," "," "," "]
[{"$f":"IF(COUNTRY_INFO!A41=0,\" \",COUNTRY_INFO!A41)","v":"Guinea Bissau"},{"$f":"IF(COUNTRY_INFO!B41=0,\" \",COUNTRY_INFO!B41)","v":"Biombo"},{"$f":"IF(COUNTRY_INFO!C41=0,\" \",COUNTRY_INFO!C41)","v":"SAFIM"},{"$f":"IF(OR(COUNTRY_INFO!$T$9:$T$1000=\"T1 (PZQ+ALB/MBD)\",COUNTRY_INFO!$U$9:$U$1000=\"T1 (PZQ+ALB/MBD)\"), \"T1 (PZQ+ALB/MBD)\", \" \")","v":" "},null,null,null,null,null,null,0,null,null,null,0," "," "," "," "]
[{"$f":"IF(COUNTRY_INFO!A42=0,\" \",COUNTRY_INFO!A42)","v":"Guinea Bissau"},{"$f":"IF(COUNTRY_INFO!B42=0,\" \",COUNTRY_INFO!B42)","v":"Farim"},{"$f":"IF(COUNTRY_INFO!C42=0,\" \",COUNTRY_INFO!C42)","v":"BINTA"},{"$f":"IF(OR(COUNTRY_INFO!$T$9:$T$1000=\"T1 (PZQ+ALB/MBD)\",COUNTRY_INFO!$U$9:$U$1000=\"T1 (PZQ+ALB/MBD)\"), \"T1 (PZQ+ALB/MBD)\", \" \")","v":" "},null,null,null,null,null,null,0,null,null,null,0," "," "," "," "]
[{"$f":"IF(COUNTRY_INFO!A43=0,\" \",COUNTRY_INFO!A43)","v":"Guinea Bissau"},{"$f":"IF(COUNTRY_INFO!B43=0,\" \",COUNTRY_INFO!B43)","v":"Farim"},{"$f":"IF(COUNTRY_INFO!C43=0,\" \",COUNTRY_INFO!C43)","v":"CANDJAMBARI"},{"$f":"IF(OR(COUNTRY_INFO!$T$9:$T$1000=\"T1 (PZQ+ALB/MBD)\",COUNTRY_INFO!$U$9:$U$1000=\"T1 (PZQ+ALB/MBD)\"), \"T1 (PZQ+ALB/MBD)\", \" \")","v":" "},null,null,null,null,null,null,0,null,null,null,0," "," "," "," "]
[{"$f":"IF(COUNTRY_INFO!A44=0,\" \",COUNTRY_INFO!A44)","v":"Guinea Bissau"},{"$f":"IF(COUNTRY_INFO!B44=0,\" \",COUNTRY_INFO!B44)","v":"Farim"},{"$f":"IF(COUNTRY_INFO!C44=0,\" \",COUNTRY_INFO!C44)","v":"CUNTIMA"},{"$f":"IF(OR(COUNTRY_INFO!$T$9:$T$1000=\"T1 (PZQ+ALB/MBD)\",COUNTRY_INFO!$U$9:$U$1000=\"T1 (PZQ+ALB/MBD)\"), \"T1 (PZQ+ALB/MBD)\", \" \")","v":" "},null,null,null,null,null,null,0,null,null,null,0," "," "," "," "]
[{"$f":"IF(COUNTRY_INFO!A45=0,\" \",COUNTRY_INFO!A45)","v":"Guinea Bissau"},{"$f":"IF(COUNTRY_INFO!B45=0,\" \",COUNTRY_INFO!B45)","v":"Farim"},{"$f":"IF(COUNTRY_INFO!C45=0,\" \",COUNTRY_INFO!C45)","v":"FARIM"},{"$f":"IF(OR(COUNTRY_INFO!$T$9:$T$1000=\"T1 (PZQ+ALB/MBD)\",COUNTRY_INFO!$U$9:$U$1000=\"T1 (PZQ+ALB/MBD)\"), \"T1 (PZQ+ALB/MBD)\", \" \")","v":" "},null,null,null,null,null,null,0,null,null,null,0," "," "," "," "]
[{"$f":"IF(COUNTRY_INFO!A46=0,\" \",COUNTRY_INFO!A46)","v":"Guinea Bissau"},{"$f":"IF(COUNTRY_INFO!B46=0,\" \",COUNTRY_INFO!B46)","v":"Farim"},{"$f":"IF(COUNTRY_INFO!C46=0,\" \",COUNTRY_INFO!C46)","v":"GUIDAGE"},{"$f":"IF(OR(COUNTRY_INFO!$T$9:$T$1000=\"T1 (PZQ+ALB/MBD)\",COUNTRY_INFO!$U$9:$U$1000=\"T1 (PZQ+ALB/MBD)\"), \"T1 (PZQ+ALB/MBD)\", \" \")","v":" "},null,null,null,null,null,null,0,null,null,null,0," "," "," "," "]
[{"$f":"IF(COUNTRY_INFO!A47=0,\" \",COUNTRY_INFO!A47)","v":"Guinea Bissau"},{"$f":"IF(COUNTRY_INFO!B47=0,\" \",COUNTRY_INFO!B47)","v":"Oio"},{"$f":"IF(COUNTRY_INFO!C47=0,\" \",COUNTRY_INFO!C47)","v":"BINAR"},{"$f":"IF(OR(COUNTRY_INFO!$T$9:$T$1000=\"T1 (PZQ+ALB/MBD)\",COUNTRY_INFO!$U$9:$U$1000=\"T1 (PZQ+ALB/MBD)\"), \"T1 (PZQ+ALB/MBD)\", \" \")","v":" "},null,null,null,null,null,null,0,null,null,null,0," "," "," "," "]
[{"$f":"IF(COUNTRY_INFO!A48=0,\" \",COUNTRY_INFO!A48)","v":"Guinea Bissau"},{"$f":"IF(COUNTRY_INFO!B48=0,\" \",COUNTRY_INFO!B48)","v":"Oio"},{"$f":"IF(COUNTRY_INFO!C48=0,\" \",COUNTRY_INFO!C48)","v":"BISSORA"},{"$f":"IF(OR(COUNTRY_INFO!$T$9:$T$1000=\"T1 (PZQ+ALB/MBD)\",COUNTRY_INFO!$U$9:$U$1000=\"T1 (PZQ+ALB/MBD)\"), \"T1 (PZQ+ALB/MBD)\", \" \")","v":" "},null,null,null,null,null,null,0,null,null,null,0," "," "," "," "]
[{"$f":"IF(COUNTRY_INFO!A49=0,\" \",COUNTRY_INFO!A49)","v":"Guinea Bissau"},{"$f":"IF(COUNTRY_INFO!B49=0,\" \",COUNTRY_INFO!B49)","v":"Oio"},{"$f":"IF(COUNTRY_INFO!C49=0,\" \",COUNTRY_INFO!C49)","v":"ENCHEIA"},{"$f":"IF(OR(COUNTRY_INFO!$T$9:$T$1000=\"T1 (PZQ+ALB/MBD)\",COUNTRY_INFO!$U$9:$U$1000=\"T1 (PZQ+ALB/MBD)\"), \"T1 (PZQ+ALB/MBD)\", \" \")","v":" "},null,null,null,null,null,null,0,null,null,null,0," "," "," "," "]
[{"$f":"IF(COUNTRY_INFO!A50=0,\" \",COUNTRY_INFO!A50)","v":"Guinea Bissau"},{"$f":"IF(COUNTRY_INFO!B50=0,\" \",COUNTRY_INFO!B50)","v":"Oio"},{"$f":"IF(COUNTRY_INFO!C50=0,\" \",COUNTRY_INFO!C50)","v":"GÃ-MAMUDO"},{"$f":"IF(OR(COUNTRY_INFO!$T$9:$T$1000=\"T1 (PZQ+ALB/MBD)\",COUNTRY_INFO!$U$9:$U$1000=\"T1 (PZQ+ALB/MBD)\"), \"T1 (PZQ+ALB/MBD)\", \" \")","v":" "},null,null,null,null,null,null,0,null,null,null,0," "," "," "," "]
[{"$f":"IF(COUNTRY_INFO!A51=0,\" \",COUNTRY_INFO!A51)","v":"Guinea Bissau"},{"$f":"IF(COUNTRY_INFO!B51=0,\" \",COUNTRY_INFO!B51)","v":"Oio"},{"$f":"IF(COUNTRY_INFO!C51=0,\" \",COUNTRY_INFO!C51)","v":"MANSABA"},{"$f":"IF(OR(COUNTRY_INFO!$T$9:$T$1000=\"T1 (PZQ+ALB/MBD)\",COUNTRY_INFO!$U$9:$U$1000=\"T1 (PZQ+ALB/MBD)\"), \"T1 (PZQ+ALB/MBD)\", \" \")","v":" "},null,null,null,null,null,null,0,null,null,null,0," "," "," "," "]
[{"$f":"IF(COUNTRY_INFO!A52=0,\" \",COUNTRY_INFO!A52)","v":"Guinea Bissau"},{"$f":"IF(COUNTRY_INFO!B52=0,\" \",COUNTRY_INFO!B52)","v":"Oio"},{"$f":"IF(COUNTRY_INFO!C52=0,\" \",COUNTRY_INFO!C52)","v":"MANSOA"},{"$f":"IF(OR(COUNTRY_INFO!$T$9:$T$1000=\"T1 (PZQ+ALB/MBD)\",COUNTRY_INFO!$U$9:$U$1000=\"T1 (PZQ+ALB/MBD)\"), \"T1 (PZQ+ALB/MBD)\", \" \")","v":" "},null,null,null,null,null,null,0,null,null,null,0," "," "," "," "]
[{"$f":"IF(COUNTRY_INFO!A53=0,\" \",COUNTRY_INFO!A53)","v":"Guinea Bissau"},{"$f":"IF(COUNTRY_INFO!B53=0,\" \",COUNTRY_INFO!B53)","v":"Oio"},{"$f":"IF(COUNTRY_INFO!C53=0,\" \",COUNTRY_INFO!C53)","v":"MORES"},{"$f":"IF(OR(COUNTRY_INFO!$T$9:$T$1000=\"T1 (PZQ+ALB/MBD)\",COUNTRY_INFO!$U$9:$U$1000=\"T1 (PZQ+ALB/MBD)\"), \"T1 (PZQ+ALB/MBD)\", \" \")","v":" "},null,null,null,null,null,null,0,null,null,null,0," "," "," "," "]
[{"$f":"IF(COUNTRY_INFO!A54=0,\" \",COUNTRY_INFO!A54)","v":"Guinea Bissau"},{"$f":"IF(COUNTRY_INFO!B54=0,\" \",COUNTRY_INFO!B54)","v":"Oio"},{"$f":"IF(COUNTRY_INFO!C54=0,\" \",COUNTRY_INFO!C54)","v":"NHACRA"},{"$f":"IF(OR(COUNTRY_INFO!$T$9:$T$1000=\"T1 (PZQ+ALB/MBD)\",COUNTRY_INFO!$U$9:$U$1000=\"T1 (PZQ+ALB/MBD)\"), \"T1 (PZQ+ALB/MBD)\", \" \")","v":" "},null,null,null,null,null,null,0,null,null,null,0," "," "," "," "]
[{"$f":"IF(COUNTRY_INFO!A55=0,\" \",COUNTRY_INFO!A55)","v":"Guinea Bissau"},{"$f":"IF(COUNTRY_INFO!B55=0,\" \",COUNTRY_INFO!B55)","v":"Oio"},{"$f":"IF(COUNTRY_INFO!C55=0,\" \",COUNTRY_INFO!C55)","v":"OLOSSATO"},{"$f":"IF(OR(COUNTRY_INFO!$T$9:$T$1000=\"T1 (PZQ+ALB/MBD)\",COUNTRY_INFO!$U$9:$U$1000=\"T1 (PZQ+ALB/MBD)\"), \"T1 (PZQ+ALB/MBD)\", \" \")","v":" "},null,null,null,null,null,null,0,null,null,null,0," "," "," "," "]
[{"$f":"IF(COUNTRY_INFO!A56=0,\" \",COUNTRY_INFO!A56)","v":"Guinea Bissau"},{"$f":"IF(COUNTRY_INFO!B56=0,\" \",COUNTRY_INFO!B56)","v":"Oio"},{"$f":"IF(COUNTRY_INFO!C56=0,\" \",COUNTRY_INFO!C56)","v":"PORTUGOL"},{"$f":"IF(OR(COUNTRY_INFO!$T$9:$T$1000=\"T1 (PZQ+ALB/MBD)\",COUNTRY_INFO!$U$9:$U$1000=\"T1 (PZQ+ALB/MBD)\"), \"T1 (PZQ+ALB/MBD)\", \" \")","v":" "},null,null,null,null,null,null,0,null,null,null,0," "," "," "," "]
[{"$f":"IF(COUNTRY_INFO!A57=0,\" \",COUNTRY_INFO!A57)","v":"Guinea Bissau"},{"$f":"IF(COUNTRY_INFO!B57=0,\" \",COUNTRY_INFO!B57)","v":"Bolama"},{"$f":"IF(COUNTRY_INFO!C57=0,\" \",COUNTRY_INFO!C57)","v":"BOLAMA"},{"$f":"IF(OR(COUNTRY_INFO!$T$9:$T$1000=\"T1 (PZQ+ALB/MBD)\",COUNTRY_INFO!$U$9:$U$1000=\"T1 (PZQ+ALB/MBD)\"), \"T1 (PZQ+ALB/MBD)\", \" \")","v":" "},null,null,null,null,null,null,0,null,null,null,0," "," "," "," "]
[{"$f":"IF(COUNTRY_INFO!A58=0,\" \",COUNTRY_INFO!A58)","v":"Guinea Bissau"},{"$f":"IF(COUNTRY_INFO!B58=0,\" \",COUNTRY_INFO!B58)","v":"Bolama"},{"$f":"IF(COUNTRY_INFO!C58=0,\" \",COUNTRY_INFO!C58)","v":"I.  GALINHAS"},{"$f":"IF(OR(COUNTRY_INFO!$T$9:$T$1000=\"T1 (PZQ+ALB/MBD)\",COUNTRY_INFO!$U$9:$U$1000=\"T1 (PZQ+ALB/MBD)\"), \"T1 (PZQ+ALB/MBD)\", \" \")","v":" "},null,null,null,null,null,null,0,null,null,null,0," "," "," "," "]
[{"$f":"IF(COUNTRY_INFO!A59=0,\" \",COUNTRY_INFO!A59)","v":"Guinea Bissau"},{"$f":"IF(COUNTRY_INFO!B59=0,\" \",COUNTRY_INFO!B59)","v":"Bolama"},{"$f":"IF(COUNTRY_INFO!C59=0,\" \",COUNTRY_INFO!C59)","v":"SÃO-JOÃO "},{"$f":"IF(OR(COUNTRY_INFO!$T$9:$T$1000=\"T1 (PZQ+ALB/MBD)\",COUNTRY_INFO!$U$9:$U$1000=\"T1 (PZQ+ALB/MBD)\"), \"T1 (PZQ+ALB/MBD)\", \" \")","v":" "},null,null,null,null,null,null,0,null,null,null,0," "," "," "," "]
[{"$f":"IF(COUNTRY_INFO!A60=0,\" \",COUNTRY_INFO!A60)","v":"Guinea Bissau"},{"$f":"IF(COUNTRY_INFO!B60=0,\" \",COUNTRY_INFO!B60)","v":"Gabu"},{"$f":"IF(COUNTRY_INFO!C60=0,\" \",COUNTRY_INFO!C60)","v":"BAJOCUNDA"},{"$f":"IF(OR(COUNTRY_INFO!$T$9:$T$1000=\"T1 (PZQ+ALB/MBD)\",COUNTRY_INFO!$U$9:$U$1000=\"T1 (PZQ+ALB/MBD)\"), \"T1 (PZQ+ALB/MBD)\", \" \")","v":" "},null,null,null,null,null,null,0,null,null,null,0," "," "," "," "]
[{"$f":"IF(COUNTRY_INFO!A61=0,\" \",COUNTRY_INFO!A61)","v":"Guinea Bissau"},{"$f":"IF(COUNTRY_INFO!B61=0,\" \",COUNTRY_INFO!B61)","v":"Gabu"},{"$f":"IF(COUNTRY_INFO!C61=0,\" \",COUNTRY_INFO!C61)","v":"BELI"},{"$f":"IF(OR(COUNTRY_INFO!$T$9:$T$1000=\"T1 (PZQ+ALB/MBD)\",COUNTRY_INFO!$U$9:$U$1000=\"T1 (PZQ+ALB/MBD)\"), \"T1 (PZQ+ALB/MBD)\", \" \")","v":" "},null,null,null,null,null,null,0,null,null,null,0," "," "," "," "]
[{"$f":"IF(COUNTRY_INFO!A62=0,\" \",COUNTRY_INFO!A62)","v":"Guinea Bissau"},{"$f":"IF(COUNTRY_INFO!B62=0,\" \",COUNTRY_INFO!B62)","v":"Gabu"},{"$f":"IF(COUNTRY_INFO!C62=0,\" \",COUNTRY_INFO!C62)","v":"BURUNTUMA"},{"$f":"IF(OR(COUNTRY_INFO!$T$9:$T$1000=\"T1 (PZQ+ALB/MBD)\",COUNTRY_INFO!$U$9:$U$1000=\"T1 (PZQ+ALB/MBD)\"), \"T1 (PZQ+ALB/MBD)\", \" \")","v":" "},null,null,null,null,null,null,0,null,null,null,0," "," "," "," "]
[{"$f":"IF(COUNTRY_INFO!A63=0,\" \",COUNTRY_INFO!A63)","v":"Guinea Bissau"},{"$f":"IF(COUNTRY_INFO!B63=0,\" \",COUNTRY_INFO!B63)","v":"Gabu"},{"$f":"IF(COUNTRY_INFO!C63=0,\" \",COUNTRY_INFO!C63)","v":"CANJADUDE"},{"$f":"IF(OR(COUNTRY_INFO!$T$9:$T$1000=\"T1 (PZQ+ALB/MBD)\",COUNTRY_INFO!$U$9:$U$1000=\"T1 (PZQ+ALB/MBD)\"), \"T1 (PZQ+ALB/MBD)\", \" \")","v":" "},null,null,null,null,null,null,0,null,null,null,0," "," "," "," "]
[{"$f":"IF(COUNTRY_INFO!A64=0,\" \",COUNTRY_INFO!A64)","v":"Guinea Bissau"},{"$f":"IF(COUNTRY_INFO!B64=0,\" \",COUNTRY_INFO!B64)","v":"Gabu"},{"$f":"IF(COUNTRY_INFO!C64=0,\" \",COUNTRY_INFO!C64)","v":"CANQUELIFA"},{"$f":"IF(OR(COUNTRY_INFO!$T$9:$T$1000=\"T1 (PZQ+ALB/MBD)\",COUNTRY_INFO!$U$9:$U$1000=\"T1 (PZQ+ALB/MBD)\"), \"T1 (PZQ+ALB/MBD)\", \" \")","v":" "},null,null,null,null,null,null,0,null,null,null,0," "," "," "," "]
[{"$f":"IF(COUNTRY_INFO!A65=0,\" \",COUNTRY_INFO!A65)","v":"Guinea Bissau"},{"$f":"IF(COUNTRY_INFO!B65=0,\" \",COUNTRY_INFO!B65)","v":"Gabu"},{"$f":"IF(COUNTRY_INFO!C65=0,\" \",COUNTRY_INFO!C65)","v":"CANSISSE"},{"$f":"IF(OR(COUNTRY_INFO!$T$9:$T$1000=\"T1 (PZQ+ALB/MBD)\",COUNTRY_INFO!$U$9:$U$1000=\"T1 (PZQ+ALB/MBD)\"), \"T1 (PZQ+ALB/MBD)\", \" \")","v":" "},null,null,null,null,null,null,0,null,null,null,0," "," "," "," "]
[{"$f":"IF(COUNTRY_INFO!A66=0,\" \",COUNTRY_INFO!A66)","v":"Guinea Bissau"},{"$f":"IF(COUNTRY_INFO!B66=0,\" \",COUNTRY_INFO!B66)","v":"Gabu"},{"$f":"IF(COUNTRY_INFO!C66=0,\" \",COUNTRY_INFO!C66)","v":"FASSE"},{"$f":"IF(OR(COUNTRY_INFO!$T$9:$T$1000=\"T1 (PZQ+ALB/MBD)\",COUNTRY_INFO!$U$9:$U$1000=\"T1 (PZQ+ALB/MBD)\"), \"T1 (PZQ+ALB/MBD)\", \" \")","v":" "},null,null,null,null,null,null,0,null,null,null,0," "," "," "," "]
[{"$f":"IF(COUNTRY_INFO!A67=0,\" \",COUNTRY_INFO!A67)","v":"Guinea Bissau"},{"$f":"IF(COUNTRY_INFO!B67=0,\" \",COUNTRY_INFO!B67)","v":"Gabu"},{"$f":"IF(COUNTRY_INFO!C67=0,\" \",COUNTRY_INFO!C67)","v":"PAUNCA"},{"$f":"IF(OR(COUNTRY_INFO!$T$9:$T$1000=\"T1 (PZQ+ALB/MBD)\",COUNTRY_INFO!$U$9:$U$1000=\"T1 (PZQ+ALB/MBD)\"), \"T1 (PZQ+ALB/MBD)\", \" \")","v":" "},null,null,null,null,null,null,0,null,null,null,0," "," "," "," "]
[{"$f":"IF(COUNTRY_INFO!A68=0,\" \",COUNTRY_INFO!A68)","v":"Guinea Bissau"},{"$f":"IF(COUNTRY_INFO!B68=0,\" \",COUNTRY_INFO!B68)","v":"Gabu"},{"$f":"IF(COUNTRY_INFO!C68=0,\" \",COUNTRY_INFO!C68)","v":"PITCHE"},{"$f":"IF(OR(COUNTRY_INFO!$T$9:$T$1000=\"T1 (PZQ+ALB/MBD)\",COUNTRY_INFO!$U$9:$U$1000=\"T1 (PZQ+ALB/MBD)\"), \"T1 (PZQ+ALB/MBD)\", \" \")","v":" "},null,null,null,null,null,null,0,null,null,null,0," "," "," "," "]
[{"$f":"IF(COUNTRY_INFO!A69=0,\" \",COUNTRY_INFO!A69)","v":"Guinea Bissau"},{"$f":"IF(COUNTRY_INFO!B69=0,\" \",COUNTRY_INFO!B69)","v":"Gabu"},{"$f":"IF(COUNTRY_INFO!C69=0,\" \",COUNTRY_INFO!C69)","v":"DARA"},{"$f":"IF(OR(COUNTRY_INFO!$T$9:$T$1000=\"T1 (PZQ+ALB/MBD)\",COUNTRY_INFO!$U$9:$U$1000=\"T1 (PZQ+ALB/MBD)\"), \"T1 (PZQ+ALB/MBD)\", \" \")","v":" "},null,null,null,null,null,null,0,null,null,null,0," "," "," "," "]
[{"$f":"IF(COUNTRY_INFO!A70=0,\" \",COUNTRY_INFO!A70)","v":"Guinea Bissau"},{"$f":"IF(COUNTRY_INFO!B70=0,\" \",COUNTRY_INFO!B70)","v":"Gabu"},{"$f":"IF(COUNTRY_INFO!C70=0,\" \",COUNTRY_INFO!C70)","v":"PIRADA"},{"$f":"IF(OR(COUNTRY_INFO!$T$9:$T$1000=\"T1 (PZQ+ALB/MBD)\",COUNTRY_INFO!$U$9:$U$1000=\"T1 (PZQ+ALB/MBD)\"), \"T1 (PZQ+ALB/MBD)\", \" \")","v":" "},null,null,null,null,null,null,0,null,null,null,0," "," "," "," "]
[{"$f":"IF(COUNTRY_INFO!A71=0,\" \",COUNTRY_INFO!A71)","v":"Guinea Bissau"},{"$f":"IF(COUNTRY_INFO!B71=0,\" \",COUNTRY_INFO!B71)","v":"Gabu"},{"$f":"IF(COUNTRY_INFO!C71=0,\" \",COUNTRY_INFO!C71)","v":"DANDUM"},{"$f":"IF(OR(COUNTRY_INFO!$T$9:$T$1000=\"T1 (PZQ+ALB/MBD)\",COUNTRY_INFO!$U$9:$U$1000=\"T1 (PZQ+ALB/MBD)\"), \"T1 (PZQ+ALB/MBD)\", \" \")","v":" "},null,null,null,null,null,null,0,null,null,null,0," "," "," "," "]
[{"$f":"IF(COUNTRY_INFO!A72=0,\" \",COUNTRY_INFO!A72)","v":"Guinea Bissau"},{"$f":"IF(COUNTRY_INFO!B72=0,\" \",COUNTRY_INFO!B72)","v":"Gabu"},{"$f":"IF(COUNTRY_INFO!C72=0,\" \",COUNTRY_INFO!C72)","v":"MANSADJAM"},{"$f":"IF(OR(COUNTRY_INFO!$T$9:$T$1000=\"T1 (PZQ+ALB/MBD)\",COUNTRY_INFO!$U$9:$U$1000=\"T1 (PZQ+ALB/MBD)\"), \"T1 (PZQ+ALB/MBD)\", \" \")","v":" "},null,null,null,null,null,null,0,null,null,null,0," "," "," "," "]
[{"$f":"IF(COUNTRY_INFO!A73=0,\" \",COUNTRY_INFO!A73)","v":"Guinea Bissau"},{"$f":"IF(COUNTRY_INFO!B73=0,\" \",COUNTRY_INFO!B73)","v":"Gabu"},{"$f":"IF(COUNTRY_INFO!C73=0,\" \",COUNTRY_INFO!C73)","v":"SONACO"},{"$f":"IF(OR(COUNTRY_INFO!$T$9:$T$1000=\"T1 (PZQ+ALB/MBD)\",COUNTRY_INFO!$U$9:$U$1000=\"T1 (PZQ+ALB/MBD)\"), \"T1 (PZQ+ALB/MBD)\", \" \")","v":" "},null,null,null,null,null,null,0,null,null,null,0," "," "," "," "]
[{"$f":"IF(COUNTRY_INFO!A74=0,\" \",COUNTRY_INFO!A74)","v":"Guinea Bissau"},{"$f":"IF(COUNTRY_INFO!B74=0,\" \",COUNTRY_INFO!B74)","v":"Gabu"},{"$f":"IF(COUNTRY_INFO!C74=0,\" \",COUNTRY_INFO!C74)","v":"LUGADJOLE"},{"$f":"IF(OR(COUNTRY_INFO!$T$9:$T$1000=\"T1 (PZQ+ALB/MBD)\",COUNTRY_INFO!$U$9:$U$1000=\"T1 (PZQ+ALB/MBD)\"), \"T1 (PZQ+ALB/MBD)\", \" \")","v":" "},null,null,null,null,null,null,{"$f":"MAX(H74:I74)+G74+J74","v":0},null,null,null,{"$f":"SUM(L74:N74)","v":0},{"$f":"IF(G74<>0, IF(L74/G74*100=0, \"-\", L74/G74*100), \" \")","v":" "},{"$f":"IF(OR(I74<>0,H74<>0), IF(M74/MAX(H74,I74)*100=0, \"-\", M74/MAX(H74,I74)*100), \" \")","v":" "},{"$f":"IF(J74<>0, IF(N74/J74*100=0, \"-\", N74/J74*100), \" \")","v":" "},{"$f":"IF(K74<>0, IF(O74/K74*100=0, \"-\", O74/K74*100), \" \")","v":" "}]
[{"$f":"IF(COUNTRY_INFO!A75=0,\" \",COUNTRY_INFO!A75)","v":"Guinea Bissau"},{"$f":"IF(COUNTRY_INFO!B75=0,\" \",COUNTRY_INFO!B75)","v":"Gabu"},{"$f":"IF(COUNTRY_INFO!C75=0,\" \",COUNTRY_INFO!C75)","v":"GABU"},{"$f":"IF(OR(COUNTRY_INFO!$T$9:$T$1000=\"T1 (PZQ+ALB/MBD)\",COUNTRY_INFO!$U$9:$U$1000=\"T1 (PZQ+ALB/MBD)\"), \"T1 (PZQ+ALB/MBD)\", \" \")","v":" "},null,null,null,null,null,null,0,null,null,null,0," "," "," "," "]
[{"$f":"IF(COUNTRY_INFO!A76=0,\" \",COUNTRY_INFO!A76)","v":"Guinea Bissau"},{"$f":"IF(COUNTRY_INFO!B76=0,\" \",COUNTRY_INFO!B76)","v":"Gabu"},{"$f":"IF(COUNTRY_INFO!C76=0,\" \",COUNTRY_INFO!C76)","v":"CANDJUFA"},{"$f":"IF(OR(COUNTRY_INFO!$T$9:$T$1000=\"T1 (PZQ+ALB/MBD)\",COUNTRY_INFO!$U$9:$U$1000=\"T1 (PZQ+ALB/MBD)\"), \"T1 (PZQ+ALB/MBD)\", \" \")","v":" "},null,null,null,null,null,null,0,null,null,null,0," "," "," "," "]
[{"$f":"IF(COUNTRY_INFO!A77=0,\" \",COUNTRY_INFO!A77)","v":"Guinea Bissau"},{"$f":"IF(COUNTRY_INFO!B77=0,\" \",COUNTRY_INFO!B77)","v":"Gabu"},{"$f":"IF(COUNTRY_INFO!C77=0,\" \",COUNTRY_INFO!C77)","v":"MAFANCO"},{"$f":"IF(OR(COUNTRY_INFO!$T$9:$T$1000=\"T1 (PZQ+ALB/MBD)\",COUNTRY_INFO!$U$9:$U$1000=\"T1 (PZQ+ALB/MBD)\"), \"T1 (PZQ+ALB/MBD)\", \" \")","v":" "},null,null,null,null,null,null,0,null,null,null,0," "," "," "," "]
[{"$f":"IF(COUNTRY_INFO!A78=0,\" \",COUNTRY_INFO!A78)","v":"Guinea Bissau"},{"$f":"IF(COUNTRY_INFO!B78=0,\" \",COUNTRY_INFO!B78)","v":"Gabu"},{"$f":"IF(COUNTRY_INFO!C78=0,\" \",COUNTRY_INFO!C78)","v":"TUMANA"},{"$f":"IF(OR(COUNTRY_INFO!$T$9:$T$1000=\"T1 (PZQ+ALB/MBD)\",COUNTRY_INFO!$U$9:$U$1000=\"T1 (PZQ+ALB/MBD)\"), \"T1 (PZQ+ALB/MBD)\", \" \")","v":" "},null,null,null,null,null,null,0,null,null,null,0," "," "," "," "]
[{"$f":"IF(COUNTRY_INFO!A79=0,\" \",COUNTRY_INFO!A79)","v":"Guinea Bissau"},{"$f":"IF(COUNTRY_INFO!B79=0,\" \",COUNTRY_INFO!B79)","v":"Bafata"},{"$f":"IF(COUNTRY_INFO!C79=0,\" \",COUNTRY_INFO!C79)","v":"Xitole"},{"$f":"IF(OR(COUNTRY_INFO!$T$9:$T$1000=\"T1 (PZQ+ALB/MBD)\",COUNTRY_INFO!$U$9:$U$1000=\"T1 (PZQ+ALB/MBD)\"), \"T1 (PZQ+ALB/MBD)\", \" \")","v":" "},null,null,null,null,null,null,0,null,null,null,0," "," "," "," "]
[{"$f":"IF(COUNTRY_INFO!A80=0,\" \",COUNTRY_INFO!A80)","v":"Guinea Bissau"},{"$f":"IF(COUNTRY_INFO!B80=0,\" \",COUNTRY_INFO!B80)","v":"Bafata"},{"$f":"IF(COUNTRY_INFO!C80=0,\" \",COUNTRY_INFO!C80)","v":"Contubuel"},{"$f":"IF(OR(COUNTRY_INFO!$T$9:$T$1000=\"T1 (PZQ+ALB/MBD)\",COUNTRY_INFO!$U$9:$U$1000=\"T1 (PZQ+ALB/MBD)\"), \"T1 (PZQ+ALB/MBD)\", \" \")","v":" "},null,null,null,null,null,null,0,null,null,null,0," "," "," "," "]
[{"$f":"IF(COUNTRY_INFO!A81=0,\" \",COUNTRY_INFO!A81)","v":"Guinea Bissau"},{"$f":"IF(COUNTRY_INFO!B81=0,\" \",COUNTRY_INFO!B81)","v":"Bafata"},{"$f":"IF(COUNTRY_INFO!C81=0,\" \",COUNTRY_INFO!C81)","v":"Tendinto"},{"$f":"IF(OR(COUNTRY_INFO!$T$9:$T$1000=\"T1 (PZQ+ALB/MBD)\",COUNTRY_INFO!$U$9:$U$1000=\"T1 (PZQ+ALB/MBD)\"), \"T1 (PZQ+ALB/MBD)\", \" \")","v":" "},null,null,null,null,null,null,0,null,null,null,0," "," "," "," "]
[{"$f":"IF(COUNTRY_INFO!A82=0,\" \",COUNTRY_INFO!A82)","v":"Guinea Bissau"},{"$f":"IF(COUNTRY_INFO!B82=0,\" \",COUNTRY_INFO!B82)","v":"Bafata"},{"$f":"IF(COUNTRY_INFO!C82=0,\" \",COUNTRY_INFO!C82)","v":"Geba"},{"$f":"IF(OR(COUNTRY_INFO!$T$9:$T$1000=\"T1 (PZQ+ALB/MBD)\",COUNTRY_INFO!$U$9:$U$1000=\"T1 (PZQ+ALB/MBD)\"), \"T1 (PZQ+ALB/MBD)\", \" \")","v":" "},null,null,null,null,null,null,0,null,null,null,0," "," "," "," "]
[{"$f":"IF(COUNTRY_INFO!A83=0,\" \",COUNTRY_INFO!A83)","v":"Guinea Bissau"},{"$f":"IF(COUNTRY_INFO!B83=0,\" \",COUNTRY_INFO!B83)","v":"Bafata"},{"$f":"IF(COUNTRY_INFO!C83=0,\" \",COUNTRY_INFO!C83)","v":"Tantancosse"},{"$f":"IF(OR(COUNTRY_INFO!$T$9:$T$1000=\"T1 (PZQ+ALB/MBD)\",COUNTRY_INFO!$U$9:$U$1000=\"T1 (PZQ+ALB/MBD)\"), \"T1 (PZQ+ALB/MBD)\", \" \")","v":" "},null,null,null,null,null,null,0,null,null,null,0," "," "," "," "]
[{"$f":"IF(COUNTRY_INFO!A84=0,\" \",COUNTRY_INFO!A84)","v":"Guinea Bissau"},{"$f":"IF(COUNTRY_INFO!B84=0,\" \",COUNTRY_INFO!B84)","v":"Bafata"},{"$f":"IF(COUNTRY_INFO!C84=0,\" \",COUNTRY_INFO!C84)","v":"Ga-mamudo"},{"$f":"IF(OR(COUNTRY_INFO!$T$9:$T$1000=\"T1 (PZQ+ALB/MBD)\",COUNTRY_INFO!$U$9:$U$1000=\"T1 (PZQ+ALB/MBD)\"), \"T1 (PZQ+ALB/MBD)\", \" \")","v":" "},null,null,null,null,null,null,0,null,null,null,0," "," "," "," "]
[{"$f":"IF(COUNTRY_INFO!A85=0,\" \",COUNTRY_INFO!A85)","v":"Guinea Bissau"},{"$f":"IF(COUNTRY_INFO!B85=0,\" \",COUNTRY_INFO!B85)","v":"Bafata"},{"$f":"IF(COUNTRY_INFO!C85=0,\" \",COUNTRY_INFO!C85)","v":"Bambadinca"},{"$f":"IF(OR(COUNTRY_INFO!$T$9:$T$1000=\"T1 (PZQ+ALB/MBD)\",COUNTRY_INFO!$U$9:$U$1000=\"T1 (PZQ+ALB/MBD)\"), \"T1 (PZQ+ALB/MBD)\", \" \")","v":" "},null,null,null,null,null,null,0,null,null,null,0," "," "," "," "]
[{"$f":"IF(COUNTRY_INFO!A86=0,\" \",COUNTRY_INFO!A86)","v":"Guinea Bissau"},{"$f":"IF(COUNTRY_INFO!B86=0,\" \",COUNTRY_INFO!B86)","v":"Bafata"},{"$f":"IF(COUNTRY_INFO!C86=0,\" \",COUNTRY_INFO!C86)","v":"Ga carnes"},{"$f":"IF(OR(COUNTRY_INFO!$T$9:$T$1000=\"T1 (PZQ+ALB/MBD)\",COUNTRY_INFO!$U$9:$U$1000=\"T1 (PZQ+ALB/MBD)\"), \"T1 (PZQ+ALB/MBD)\", \" \")","v":" "},null,null,null,null,null,null,0,null,null,null,0," "," "," "," "]
[{"$f":"IF(COUNTRY_INFO!A87=0,\" \",COUNTRY_INFO!A87)","v":"Guinea Bissau"},{"$f":"IF(COUNTRY_INFO!B87=0,\" \",COUNTRY_INFO!B87)","v":"Bafata"},{"$f":"IF(COUNTRY_INFO!C87=0,\" \",COUNTRY_INFO!C87)","v":"Cambaju"},{"$f":"IF(OR(COUNTRY_INFO!$T$9:$T$1000=\"T1 (PZQ+ALB/MBD)\",COUNTRY_INFO!$U$9:$U$1000=\"T1 (PZQ+ALB/MBD)\"), \"T1 (PZQ+ALB/MBD)\", \" \")","v":" "},null,null,null,null,null,null,0,null,null,null,0," "," "," "," "]
[{"$f":"IF(COUNTRY_INFO!A88=0,\" \",COUNTRY_INFO!A88)","v":"Guinea Bissau"},{"$f":"IF(COUNTRY_INFO!B88=0,\" \",COUNTRY_INFO!B88)","v":"Bafata"},{"$f":"IF(COUNTRY_INFO!C88=0,\" \",COUNTRY_INFO!C88)","v":"Gam ture"},{"$f":"IF(OR(COUNTRY_INFO!$T$9:$T$1000=\"T1 (PZQ+ALB/MBD)\",COUNTRY_INFO!$U$9:$U$1000=\"T1 (PZQ+ALB/MBD)\"), \"T1 (PZQ+ALB/MBD)\", \" \")","v":" "},null,null,null,null,null,null,0,null,null,null,0," "," "," "," "]
[{"$f":"IF(COUNTRY_INFO!A89=0,\" \",COUNTRY_INFO!A89)","v":"Guinea Bissau"},{"$f":"IF(COUNTRY_INFO!B89=0,\" \",COUNTRY_INFO!B89)","v":"Bafata"},{"$f":"IF(COUNTRY_INFO!C89=0,\" \",COUNTRY_INFO!C89)","v":"Sare bacar"},{"$f":"IF(OR(COUNTRY_INFO!$T$9:$T$1000=\"T1 (PZQ+ALB/MBD)\",COUNTRY_INFO!$U$9:$U$1000=\"T1 (PZQ+ALB/MBD)\"), \"T1 (PZQ+ALB/MBD)\", \" \")","v":" "},null,null,null,null,null,null,0,null,null,null,0," "," "," "," "]
[{"$f":"IF(COUNTRY_INFO!A90=0,\" \",COUNTRY_INFO!A90)","v":"Guinea Bissau"},{"$f":"IF(COUNTRY_INFO!B90=0,\" \",COUNTRY_INFO!B90)","v":"Bafata"},{"$f":"IF(COUNTRY_INFO!C90=0,\" \",COUNTRY_INFO!C90)","v":"Fajonquito"},{"$f":"IF(OR(COUNTRY_INFO!$T$9:$T$1000=\"T1 (PZQ+ALB/MBD)\",COUNTRY_INFO!$U$9:$U$1000=\"T1 (PZQ+ALB/MBD)\"), \"T1 (PZQ+ALB/MBD)\", \" \")","v":" "},null,null,null,null,null,null,0,null,null,null,0," "," "," "," "]
[{"$f":"IF(COUNTRY_INFO!A91=0,\" \",COUNTRY_INFO!A91)","v":"Guinea Bissau"},{"$f":"IF(COUNTRY_INFO!B91=0,\" \",COUNTRY_INFO!B91)","v":"Bafata"},{"$f":"IF(COUNTRY_INFO!C91=0,\" \",COUNTRY_INFO!C91)","v":"Cosse"},{"$f":"IF(OR(COUNTRY_INFO!$T$9:$T$1000=\"T1 (PZQ+ALB/MBD)\",COUNTRY_INFO!$U$9:$U$1000=\"T1 (PZQ+ALB/MBD)\"), \"T1 (PZQ+ALB/MBD)\", \" \")","v":" "},null,null,null,null,null,null,0,null,null,null,0," "," "," "," "]
[{"$f":"IF(COUNTRY_INFO!A92=0,\" \",COUNTRY_INFO!A92)","v":"Guinea Bissau"},{"$f":"IF(COUNTRY_INFO!B92=0,\" \",COUNTRY_INFO!B92)","v":"Bafata"},{"$f":"IF(COUNTRY_INFO!C92=0,\" \",COUNTRY_INFO!C92)","v":"Bafata"},{"$f":"IF(OR(COUNTRY_INFO!$T$9:$T$1000=\"T1 (PZQ+ALB/MBD)\",COUNTRY_INFO!$U$9:$U$1000=\"T1 (PZQ+ALB/MBD)\"), \"T1 (PZQ+ALB/MBD)\", \" \")","v":" "},null,null,null,null,null,null,0,null,null,null,0," "," "," "," "]
[{"$f":"IF(COUNTRY_INFO!A93=0,\" \",COUNTRY_INFO!A93)","v":"Guinea Bissau"},{"$f":"IF(COUNTRY_INFO!B93=0,\" \",COUNTRY_INFO!B93)","v":"Tombali"},{"$f":"IF(COUNTRY_INFO!C93=0,\" \",COUNTRY_INFO!C93)","v":"BEDANDA"},{"$f":"IF(OR(COUNTRY_INFO!$T$9:$T$1000=\"T1 (PZQ+ALB/MBD)\",COUNTRY_INFO!$U$9:$U$1000=\"T1 (PZQ+ALB/MBD)\"), \"T1 (PZQ+ALB/MBD)\", \" \")","v":" "},null,null,null,null,null,null,0,null,null,null,0," "," "," "," "]
[{"$f":"IF(COUNTRY_INFO!A94=0,\" \",COUNTRY_INFO!A94)","v":"Guinea Bissau"},{"$f":"IF(COUNTRY_INFO!B94=0,\" \",COUNTRY_INFO!B94)","v":"Tombali"},{"$f":"IF(COUNTRY_INFO!C94=0,\" \",COUNTRY_INFO!C94)","v":"CACINE"},{"$f":"IF(OR(COUNTRY_INFO!$T$9:$T$1000=\"T1 (PZQ+ALB/MBD)\",COUNTRY_INFO!$U$9:$U$1000=\"T1 (PZQ+ALB/MBD)\"), \"T1 (PZQ+ALB/MBD)\", \" \")","v":" "},null,null,null,null,null,null,0,null,null,null,0," "," "," "," "]
[{"$f":"IF(COUNTRY_INFO!A95=0,\" \",COUNTRY_INFO!A95)","v":"Guinea Bissau"},{"$f":"IF(COUNTRY_INFO!B95=0,\" \",COUNTRY_INFO!B95)","v":"Tombali"},{"$f":"IF(COUNTRY_INFO!C95=0,\" \",COUNTRY_INFO!C95)","v":"CALAQUE"},{"$f":"IF(OR(COUNTRY_INFO!$T$9:$T$1000=\"T1 (PZQ+ALB/MBD)\",COUNTRY_INFO!$U$9:$U$1000=\"T1 (PZQ+ALB/MBD)\"), \"T1 (PZQ+ALB/MBD)\", \" \")","v":" "},null,null,null,null,null,null,0,null,null,null,0," "," "," "," "]
[{"$f":"IF(COUNTRY_INFO!A96=0,\" \",COUNTRY_INFO!A96)","v":"Guinea Bissau"},{"$f":"IF(COUNTRY_INFO!B96=0,\" \",COUNTRY_INFO!B96)","v":"Tombali"},{"$f":"IF(COUNTRY_INFO!C96=0,\" \",COUNTRY_INFO!C96)","v":"CATIO"},{"$f":"IF(OR(COUNTRY_INFO!$T$9:$T$1000=\"T1 (PZQ+ALB/MBD)\",COUNTRY_INFO!$U$9:$U$1000=\"T1 (PZQ+ALB/MBD)\"), \"T1 (PZQ+ALB/MBD)\", \" \")","v":" "},null,null,null,null,null,null,0,null,null,null,0," "," "," "," "]
[{"$f":"IF(COUNTRY_INFO!A97=0,\" \",COUNTRY_INFO!A97)","v":"Guinea Bissau"},{"$f":"IF(COUNTRY_INFO!B97=0,\" \",COUNTRY_INFO!B97)","v":"Tombali"},{"$f":"IF(COUNTRY_INFO!C97=0,\" \",COUNTRY_INFO!C97)","v":"KOMO"},{"$f":"IF(OR(COUNTRY_INFO!$T$9:$T$1000=\"T1 (PZQ+ALB/MBD)\",COUNTRY_INFO!$U$9:$U$1000=\"T1 (PZQ+ALB/MBD)\"), \"T1 (PZQ+ALB/MBD)\", \" \")","v":" "},null,null,null,null,null,null,0,null,null,null,0," "," "," "," "]
[{"$f":"IF(COUNTRY_INFO!A98=0,\" \",COUNTRY_INFO!A98)","v":"Guinea Bissau"},{"$f":"IF(COUNTRY_INFO!B98=0,\" \",COUNTRY_INFO!B98)","v":"Tombali"},{"$f":"IF(COUNTRY_INFO!C98=0,\" \",COUNTRY_INFO!C98)","v":"QUEBO"},{"$f":"IF(OR(COUNTRY_INFO!$T$9:$T$1000=\"T1 (PZQ+ALB/MBD)\",COUNTRY_INFO!$U$9:$U$1000=\"T1 (PZQ+ALB/MBD)\"), \"T1 (PZQ+ALB/MBD)\", \" \")","v":" "},null,null,null,null,null,null,0,null,null,null,0," "," "," "," "]
[{"$f":"IF(COUNTRY_INFO!A99=0,\" \",COUNTRY_INFO!A99)","v":"Guinea Bissau"},{"$f":"IF(COUNTRY_INFO!B99=0,\" \",COUNTRY_INFO!B99)","v":"Tombali"},{"$f":"IF(COUNTRY_INFO!C99=0,\" \",COUNTRY_INFO!C99)","v":"SANCONHA"},{"$f":"IF(OR(COUNTRY_INFO!$T$9:$T$1000=\"T1 (PZQ+ALB/MBD)\",COUNTRY_INFO!$U$9:$U$1000=\"T1 (PZQ+ALB/MBD)\"), \"T1 (PZQ+ALB/MBD)\", \" \")","v":" "},null,null,null,null,null,null,0,null,null,null,0," "," "," "," "]
[{"$f":"IF(COUNTRY_INFO!A100=0,\" \",COUNTRY_INFO!A100)","v":"Guinea Bissau"},{"$f":"IF(COUNTRY_INFO!B100=0,\" \",COUNTRY_INFO!B100)","v":"Tombali"},{"$f":"IF(COUNTRY_INFO!C100=0,\" \",COUNTRY_INFO!C100)","v":"TIMBO"},{"$f":"IF(OR(COUNTRY_INFO!$T$9:$T$1000=\"T1 (PZQ+ALB/MBD)\",COUNTRY_INFO!$U$9:$U$1000=\"T1 (PZQ+ALB/MBD)\"), \"T1 (PZQ+ALB/MBD)\", \" \")","v":" "},null,null,null,null,null,null,0,null,null,null,0," "," "," "," "]
[{"$f":"IF(COUNTRY_INFO!A101=0,\" \",COUNTRY_INFO!A101)","v":"Guinea Bissau"},{"$f":"IF(COUNTRY_INFO!B101=0,\" \",COUNTRY_INFO!B101)","v":"Quinara"},{"$f":"IF(COUNTRY_INFO!C101=0,\" \",COUNTRY_INFO!C101)","v":"BRANDÃO"},{"$f":"IF(OR(COUNTRY_INFO!$T$9:$T$1000=\"T1 (PZQ+ALB/MBD)\",COUNTRY_INFO!$U$9:$U$1000=\"T1 (PZQ+ALB/MBD)\"), \"T1 (PZQ+ALB/MBD)\", \" \")","v":" "},null,null,null,null,null,null,0,null,null,null,0," "," "," "," "]
[{"$f":"IF(COUNTRY_INFO!A102=0,\" \",COUNTRY_INFO!A102)","v":"Guinea Bissau"},{"$f":"IF(COUNTRY_INFO!B102=0,\" \",COUNTRY_INFO!B102)","v":"Quinara"},{"$f":"IF(COUNTRY_INFO!C102=0,\" \",COUNTRY_INFO!C102)","v":"BUBA"},{"$f":"IF(OR(COUNTRY_INFO!$T$9:$T$1000=\"T1 (PZQ+ALB/MBD)\",COUNTRY_INFO!$U$9:$U$1000=\"T1 (PZQ+ALB/MBD)\"), \"T1 (PZQ+ALB/MBD)\", \" \")","v":" "},null,null,null,null,null,null,0,null,null,null,0," "," "," "," "]
[{"$f":"IF(COUNTRY_INFO!A103=0,\" \",COUNTRY_INFO!A103)","v":"Guinea Bissau"},{"$f":"IF(COUNTRY_INFO!B103=0,\" \",COUNTRY_INFO!B103)","v":"Quinara"},{"$f":"IF(COUNTRY_INFO!C103=0,\" \",COUNTRY_INFO!C103)","v":"DAR-ES-SALAM"},{"$f":"IF(OR(COUNTRY_INFO!$T$9:$T$1000=\"T1 (PZQ+ALB/MBD)\",COUNTRY_INFO!$U$9:$U$1000=\"T1 (PZQ+ALB/MBD)\"), \"T1 (PZQ+ALB/MBD)\", \" \")","v":" "},null,null,null,null,null,null,0,null,null,null,0," "," "," "," "]
[{"$f":"IF(COUNTRY_INFO!A104=0,\" \",COUNTRY_INFO!A104)","v":"Guinea Bissau"},{"$f":"IF(COUNTRY_INFO!B104=0,\" \",COUNTRY_INFO!B104)","v":"Quinara"},{"$f":"IF(COUNTRY_INFO!C104=0,\" \",COUNTRY_INFO!C104)","v":"EMPADA"},{"$f":"IF(OR(COUNTRY_INFO!$T$9:$T$1000=\"T1 (PZQ+ALB/MBD)\",COUNTRY_INFO!$U$9:$U$1000=\"T1 (PZQ+ALB/MBD)\"), \"T1 (PZQ+ALB/MBD)\", \" \")","v":" "},null,null,null,null,null,null,0,null,null,null,0," "," "," "," "]
[{"$f":"IF(COUNTRY_INFO!A105=0,\" \",COUNTRY_INFO!A105)","v":"Guinea Bissau"},{"$f":"IF(COUNTRY_INFO!B105=0,\" \",COUNTRY_INFO!B105)","v":"Quinara"},{"$f":"IF(COUNTRY_INFO!C105=0,\" \",COUNTRY_INFO!C105)","v":"FULACUNDA"},{"$f":"IF(OR(COUNTRY_INFO!$T$9:$T$1000=\"T1 (PZQ+ALB/MBD)\",COUNTRY_INFO!$U$9:$U$1000=\"T1 (PZQ+ALB/MBD)\"), \"T1 (PZQ+ALB/MBD)\", \" \")","v":" "},null,null,null,null,null,null,0,null,null,null,0," "," "," "," "]
[{"$f":"IF(COUNTRY_INFO!A106=0,\" \",COUNTRY_INFO!A106)","v":"Guinea Bissau"},{"$f":"IF(COUNTRY_INFO!B106=0,\" \",COUNTRY_INFO!B106)","v":"Quinara"},{"$f":"IF(COUNTRY_INFO!C106=0,\" \",COUNTRY_INFO!C106)","v":"TITE"},{"$f":"IF(OR(COUNTRY_INFO!$T$9:$T$1000=\"T1 (PZQ+ALB/MBD)\",COUNTRY_INFO!$U$9:$U$1000=\"T1 (PZQ+ALB/MBD)\"), \"T1 (PZQ+ALB/MBD)\", \" \")","v":" "},null,null,null,null,null,null,0,null,null,null,0," "," "," "," "]
[{"$f":"IF(COUNTRY_INFO!A107=0,\" \",COUNTRY_INFO!A107)","v":"Guinea Bissau"},{"$f":"IF(COUNTRY_INFO!B107=0,\" \",COUNTRY_INFO!B107)","v":"Cacheu"},{"$f":"IF(COUNTRY_INFO!C107=0,\" \",COUNTRY_INFO!C107)","v":"Bará"},{"$f":"IF(OR(COUNTRY_INFO!$T$9:$T$1000=\"T1 (PZQ+ALB/MBD)\",COUNTRY_INFO!$U$9:$U$1000=\"T1 (PZQ+ALB/MBD)\"), \"T1 (PZQ+ALB/MBD)\", \" \")","v":" "},null,null,null,null,null,null,0,null,null,null,0," "," "," "," "]
[{"$f":"IF(COUNTRY_INFO!A108=0,\" \",COUNTRY_INFO!A108)","v":"Guinea Bissau"},{"$f":"IF(COUNTRY_INFO!B108=0,\" \",COUNTRY_INFO!B108)","v":"Cacheu"},{"$f":"IF(COUNTRY_INFO!C108=0,\" \",COUNTRY_INFO!C108)","v":"Barro"},{"$f":"IF(OR(COUNTRY_INFO!$T$9:$T$1000=\"T1 (PZQ+ALB/MBD)\",COUNTRY_INFO!$U$9:$U$1000=\"T1 (PZQ+ALB/MBD)\"), \"T1 (PZQ+ALB/MBD)\", \" \")","v":" "},null,null,null,null,null,null,0,null,null,null,0," "," "," "," "]
[{"$f":"IF(COUNTRY_INFO!A109=0,\" \",COUNTRY_INFO!A109)","v":"Guinea Bissau"},{"$f":"IF(COUNTRY_INFO!B109=0,\" \",COUNTRY_INFO!B109)","v":"Cacheu"},{"$f":"IF(COUNTRY_INFO!C109=0,\" \",COUNTRY_INFO!C109)","v":"Batucar"},{"$f":"IF(OR(COUNTRY_INFO!$T$9:$T$1000=\"T1 (PZQ+ALB/MBD)\",COUNTRY_INFO!$U$9:$U$1000=\"T1 (PZQ+ALB/MBD)\"), \"T1 (PZQ+ALB/MBD)\", \" \")","v":" "},null,null,null,null,null,null,0,null,null,null,0," "," "," "," "]
[{"$f":"IF(COUNTRY_INFO!A110=0,\" \",COUNTRY_INFO!A110)","v":"Guinea Bissau"},{"$f":"IF(COUNTRY_INFO!B110=0,\" \",COUNTRY_INFO!B110)","v":"Cacheu"},{"$f":"IF(COUNTRY_INFO!C110=0,\" \",COUNTRY_INFO!C110)","v":"Begene"},{"$f":"IF(OR(COUNTRY_INFO!$T$9:$T$1000=\"T1 (PZQ+ALB/MBD)\",COUNTRY_INFO!$U$9:$U$1000=\"T1 (PZQ+ALB/MBD)\"), \"T1 (PZQ+ALB/MBD)\", \" \")","v":" "},null,null,null,null,null,null,0,null,null,null,0," "," "," "," "]
[{"$f":"IF(COUNTRY_INFO!A111=0,\" \",COUNTRY_INFO!A111)","v":"Guinea Bissau"},{"$f":"IF(COUNTRY_INFO!B111=0,\" \",COUNTRY_INFO!B111)","v":"Cacheu"},{"$f":"IF(COUNTRY_INFO!C111=0,\" \",COUNTRY_INFO!C111)","v":"Bula"},{"$f":"IF(OR(COUNTRY_INFO!$T$9:$T$1000=\"T1 (PZQ+ALB/MBD)\",COUNTRY_INFO!$U$9:$U$1000=\"T1 (PZQ+ALB/MBD)\"), \"T1 (PZQ+ALB/MBD)\", \" \")","v":" "},null,null,null,null,null,null,0,null,null,null,0," "," "," "," "]
[{"$f":"IF(COUNTRY_INFO!A112=0,\" \",COUNTRY_INFO!A112)","v":"Guinea Bissau"},{"$f":"IF(COUNTRY_INFO!B112=0,\" \",COUNTRY_INFO!B112)","v":"Cacheu"},{"$f":"IF(COUNTRY_INFO!C112=0,\" \",COUNTRY_INFO!C112)","v":"Cacheu"},{"$f":"IF(OR(COUNTRY_INFO!$T$9:$T$1000=\"T1 (PZQ+ALB/MBD)\",COUNTRY_INFO!$U$9:$U$1000=\"T1 (PZQ+ALB/MBD)\"), \"T1 (PZQ+ALB/MBD)\", \" \")","v":" "},null,null,null,null,null,null,0,null,null,null,0," "," "," "," "]
[{"$f":"IF(COUNTRY_INFO!A113=0,\" \",COUNTRY_INFO!A113)","v":"Guinea Bissau"},{"$f":"IF(COUNTRY_INFO!B113=0,\" \",COUNTRY_INFO!B113)","v":"Cacheu"},{"$f":"IF(COUNTRY_INFO!C113=0,\" \",COUNTRY_INFO!C113)","v":"Caió"},{"$f":"IF(OR(COUNTRY_INFO!$T$9:$T$1000=\"T1 (PZQ+ALB/MBD)\",COUNTRY_INFO!$U$9:$U$1000=\"T1 (PZQ+ALB/MBD)\"), \"T1 (PZQ+ALB/MBD)\", \" \")","v":" "},null,null,null,null,null,null,0,null,null,null,0," "," "," "," "]
[{"$f":"IF(COUNTRY_INFO!A114=0,\" \",COUNTRY_INFO!A114)","v":"Guinea Bissau"},{"$f":"IF(COUNTRY_INFO!B114=0,\" \",COUNTRY_INFO!B114)","v":"Cacheu"},{"$f":"IF(COUNTRY_INFO!C114=0,\" \",COUNTRY_INFO!C114)","v":"Calequisse"},{"$f":"IF(OR(COUNTRY_INFO!$T$9:$T$1000=\"T1 (PZQ+ALB/MBD)\",COUNTRY_INFO!$U$9:$U$1000=\"T1 (PZQ+ALB/MBD)\"), \"T1 (PZQ+ALB/MBD)\", \" \")","v":" "},null,null,null,null,null,null,0,null,null,null,0," "," "," "," "]
[{"$f":"IF(COUNTRY_INFO!A115=0,\" \",COUNTRY_INFO!A115)","v":"Guinea Bissau"},{"$f":"IF(COUNTRY_INFO!B115=0,\" \",COUNTRY_INFO!B115)","v":"Cacheu"},{"$f":"IF(COUNTRY_INFO!C115=0,\" \",COUNTRY_INFO!C115)","v":"Canchungo"},{"$f":"IF(OR(COUNTRY_INFO!$T$9:$T$1000=\"T1 (PZQ+ALB/MBD)\",COUNTRY_INFO!$U$9:$U$1000=\"T1 (PZQ+ALB/MBD)\"), \"T1 (PZQ+ALB/MBD)\", \" \")","v":" "},null,null,null,null,null,null,0,null,null,null,0," "," "," "," "]
[{"$f":"IF(COUNTRY_INFO!A116=0,\" \",COUNTRY_INFO!A116)","v":"Guinea Bissau"},{"$f":"IF(COUNTRY_INFO!B116=0,\" \",COUNTRY_INFO!B116)","v":"Cacheu"},{"$f":"IF(COUNTRY_INFO!C116=0,\" \",COUNTRY_INFO!C116)","v":"Carenque"},{"$f":"IF(OR(COUNTRY_INFO!$T$9:$T$1000=\"T1 (PZQ+ALB/MBD)\",COUNTRY_INFO!$U$9:$U$1000=\"T1 (PZQ+ALB/MBD)\"), \"T1 (PZQ+ALB/MBD)\", \" \")","v":" "},null,null,null,null,null,null,0,null,null,null,0," "," "," "," "]
[{"$f":"IF(COUNTRY_INFO!A117=0,\" \",COUNTRY_INFO!A117)","v":"Guinea Bissau"},{"$f":"IF(COUNTRY_INFO!B117=0,\" \",COUNTRY_INFO!B117)","v":"Cacheu"},{"$f":"IF(COUNTRY_INFO!C117=0,\" \",COUNTRY_INFO!C117)","v":"Có"},{"$f":"IF(OR(COUNTRY_INFO!$T$9:$T$1000=\"T1 (PZQ+ALB/MBD)\",COUNTRY_INFO!$U$9:$U$1000=\"T1 (PZQ+ALB/MBD)\"), \"T1 (PZQ+ALB/MBD)\", \" \")","v":" "},null,null,null,null,null,null,0,null,null,null,0," "," "," "," "]
[{"$f":"IF(COUNTRY_INFO!A118=0,\" \",COUNTRY_INFO!A118)","v":"Guinea Bissau"},{"$f":"IF(COUNTRY_INFO!B118=0,\" \",COUNTRY_INFO!B118)","v":"Cacheu"},{"$f":"IF(COUNTRY_INFO!C118=0,\" \",COUNTRY_INFO!C118)","v":"Ingoré"},{"$f":"IF(OR(COUNTRY_INFO!$T$9:$T$1000=\"T1 (PZQ+ALB/MBD)\",COUNTRY_INFO!$U$9:$U$1000=\"T1 (PZQ+ALB/MBD)\"), \"T1 (PZQ+ALB/MBD)\", \" \")","v":" "},null,null,null,null,null,null,0,null,null,null,0," "," "," "," "]
[{"$f":"IF(COUNTRY_INFO!A119=0,\" \",COUNTRY_INFO!A119)","v":"Guinea Bissau"},{"$f":"IF(COUNTRY_INFO!B119=0,\" \",COUNTRY_INFO!B119)","v":"Cacheu"},{"$f":"IF(COUNTRY_INFO!C119=0,\" \",COUNTRY_INFO!C119)","v":"Jeta"},{"$f":"IF(OR(COUNTRY_INFO!$T$9:$T$1000=\"T1 (PZQ+ALB/MBD)\",COUNTRY_INFO!$U$9:$U$1000=\"T1 (PZQ+ALB/MBD)\"), \"T1 (PZQ+ALB/MBD)\", \" \")","v":" "},null,null,null,null,null,null,0,null,null,null,0," "," "," "," "]
[{"$f":"IF(COUNTRY_INFO!A120=0,\" \",COUNTRY_INFO!A120)","v":"Guinea Bissau"},{"$f":"IF(COUNTRY_INFO!B120=0,\" \",COUNTRY_INFO!B120)","v":"Cacheu"},{"$f":"IF(COUNTRY_INFO!C120=0,\" \",COUNTRY_INFO!C120)","v":"Pecixe"},{"$f":"IF(OR(COUNTRY_INFO!$T$9:$T$1000=\"T1 (PZQ+ALB/MBD)\",COUNTRY_INFO!$U$9:$U$1000=\"T1 (PZQ+ALB/MBD)\"), \"T1 (PZQ+ALB/MBD)\", \" \")","v":" "},null,null,null,null,null,null,0,null,null,null,0," "," "," "," "]
[{"$f":"IF(COUNTRY_INFO!A121=0,\" \",COUNTRY_INFO!A121)","v":"Guinea Bissau"},{"$f":"IF(COUNTRY_INFO!B121=0,\" \",COUNTRY_INFO!B121)","v":"Cacheu"},{"$f":"IF(COUNTRY_INFO!C121=0,\" \",COUNTRY_INFO!C121)","v":"Pelundo"},{"$f":"IF(OR(COUNTRY_INFO!$T$9:$T$1000=\"T1 (PZQ+ALB/MBD)\",COUNTRY_INFO!$U$9:$U$1000=\"T1 (PZQ+ALB/MBD)\"), \"T1 (PZQ+ALB/MBD)\", \" \")","v":" "},null,null,null,null,null,null,0,null,null,null,0," "," "," "," "]
[{"$f":"IF(COUNTRY_INFO!A122=0,\" \",COUNTRY_INFO!A122)","v":"Guinea Bissau"},{"$f":"IF(COUNTRY_INFO!B122=0,\" \",COUNTRY_INFO!B122)","v":"Cacheu"},{"$f":"IF(COUNTRY_INFO!C122=0,\" \",COUNTRY_INFO!C122)","v":"S.Domingos"},{"$f":"IF(OR(COUNTRY_INFO!$T$9:$T$1000=\"T1 (PZQ+ALB/MBD)\",COUNTRY_INFO!$U$9:$U$1000=\"T1 (PZQ+ALB/MBD)\"), \"T1 (PZQ+ALB/MBD)\", \" \")","v":" "},null,null,null,null,null,null,0,null,null,null,0," "," "," "," "]
[{"$f":"IF(COUNTRY_INFO!A123=0,\" \",COUNTRY_INFO!A123)","v":"Guinea Bissau"},{"$f":"IF(COUNTRY_INFO!B123=0,\" \",COUNTRY_INFO!B123)","v":"Cacheu"},{"$f":"IF(COUNTRY_INFO!C123=0,\" \",COUNTRY_INFO!C123)","v":"Sedengal"},{"$f":"IF(OR(COUNTRY_INFO!$T$9:$T$1000=\"T1 (PZQ+ALB/MBD)\",COUNTRY_INFO!$U$9:$U$1000=\"T1 (PZQ+ALB/MBD)\"), \"T1 (PZQ+ALB/MBD)\", \" \")","v":" "},null,null,null,null,null,null,0,null,null,null,0," "," "," "," "]
[{"$f":"IF(COUNTRY_INFO!A124=0,\" \",COUNTRY_INFO!A124)","v":"Guinea Bissau"},{"$f":"IF(COUNTRY_INFO!B124=0,\" \",COUNTRY_INFO!B124)","v":"Cacheu"},{"$f":"IF(COUNTRY_INFO!C124=0,\" \",COUNTRY_INFO!C124)","v":"Suzana"},{"$f":"IF(OR(COUNTRY_INFO!$T$9:$T$1000=\"T1 (PZQ+ALB/MBD)\",COUNTRY_INFO!$U$9:$U$1000=\"T1 (PZQ+ALB/MBD)\"), \"T1 (PZQ+ALB/MBD)\", \" \")","v":" "},null,null,null,null,null,null,0,null,null,null,0," "," "," "," "]
[{"$f":"IF(COUNTRY_INFO!A125=0,\" \",COUNTRY_INFO!A125)","v":"Guinea Bissau"},{"$f":"IF(COUNTRY_INFO!B125=0,\" \",COUNTRY_INFO!B125)","v":"Cacheu"},{"$f":"IF(COUNTRY_INFO!C125=0,\" \",COUNTRY_INFO!C125)","v":"Varela"},{"$f":"IF(OR(COUNTRY_INFO!$T$9:$T$1000=\"T1 (PZQ+ALB/MBD)\",COUNTRY_INFO!$U$9:$U$1000=\"T1 (PZQ+ALB/MBD)\"), \"T1 (PZQ+ALB/MBD)\", \" \")","v":" "},null,null,null,null,null,null,0,null,null,null,0," "," "," "," "]

{"sheet":"T2","index":6,"n_rows":125,"n_cols":18,"rows_kept":125,"cut":false,"hidden":false,"merged":[[5,5,5,8],[5,9,5,12],[5,13,5,16],[3,0,3,2],[5,0,5,2],[5,3,6,3],[5,4,6,4]]}
["T 2 - Praziquantel (PZQ) "]
["Structure administrative, population nécessitant une chimioprévention par groupe d'âge, population traitée par groupe d'âge et couverture"]
[]
["TOTAL",null,null,null,null,{"$f":"SUM(F$9:F$1000)","v":0},83717,0,83717,0,83515,0,83515,{"$f":"IF(F4<>0, IF(J4/F4*100=0, \"-\", J4/F4*100), \" \")","v":" "},{"$f":"IF(G4<>0, IF(K4/G4*100=0, \"-\", K4/G4*100), \" \")","v":99.758710895039243},{"$f":"IF(H4<>0, IF(L4/H4*100=0, \"-\", L4/H4*100), \" \")","v":" "},{"$f":"IF(I4<>0, IF(M4/I4*100=0, \"-\", M4/I4*100), \" \")","v":99.758710895039243}]
[]
["Structure administrative du pays",null,null,"Mise en oeuvre \nde la CP","Date","Population ciblée pour T2",null,null,null,"Population traitée",null,null,null,"Couverture du Programme (%)"]
["Pays","Région/Département","District",null,null,"EAPréS","EAS","Adultes","Total","EAPréS","EAS","Adultes","Total","EAPréS","EAS","Adultes","Total"]
[]
[{"$f":"IF(COUNTRY_INFO!A9=0,\" \",COUNTRY_INFO!A9)","v":"Guinea Bissau"},{"$f":"IF(COUNTRY_INFO!B9=0,\" \",COUNTRY_INFO!B9)","v":"SAB"},{"$f":"IF(COUNTRY_INFO!C9=0,\" \",COUNTRY_INFO!C9)","v":"AJUDA"},{"$f":"IF(OR(COUNTRY_INFO!$T$9:$T$1000=\"T2 (PZQ)\",COUNTRY_INFO!$U$9:$U$1000=\"T2 (PZQ)\"), \"T2 (PZQ)\", \" \")","v":" "},null,null,null,null,{"$f":"SUM(F9:H9)","v":0},null,null,null,{"$f":"SUM(J9:L9)","v":0},{"$f":"IF(F9<>0, IF(J9/F9*100=0, \"-\", J9/F9*100), \" \")","v":" "}," "," "," "]
[{"$f":"IF(COUNTRY_INFO!A10=0,\" \",COUNTRY_INFO!A10)","v":"Guinea Bissau"},{"$f":"IF(COUNTRY_INFO!B10=0,\" \",COUNTRY_INFO!B10)","v":"SAB"},{"$f":"IF(COUNTRY_INFO!C10=0,\" \",COUNTRY_INFO!C10)","v":"ANTULA"},{"$f":"IF(OR(COUNTRY_INFO!$T$9:$T$1000=\"T2 (PZQ)\",COUNTRY_INFO!$U$9:$U$1000=\"T2 (PZQ)\"), \"T2 (PZQ)\", \" \")","v":" "},null,null,null,null,{"$f":"SUM(F10:H10)","v":0},null,null,null,{"$f":"SUM(J10:L10)","v":0},{"$f":"IF(F10<>0, IF(J10/F10*100=0, \"-\", J10/F10*100), \" \")","v":" "},{"$f":"IF(G10<>0, IF(K10/G10*100=0, \"-\", K10/G10*100), \" \")","v":" "},{"$f":"IF(H10<>0, IF(L10/H10*100=0, \"-\", L10/H10*100), \" \")","v":" "},{"$f":"IF(I10<>0, IF(M10/I10*100=0, \"-\", M10/I10*100), \" \")","v":" "}]
[{"$f":"IF(COUNTRY_INFO!A11=0,\" \",COUNTRY_INFO!A11)","v":"Guinea Bissau"},{"$f":"IF(COUNTRY_INFO!B11=0,\" \",COUNTRY_INFO!B11)","v":"SAB"},{"$f":"IF(COUNTRY_INFO!C11=0,\" \",COUNTRY_INFO!C11)","v":"B. MILITAR"},{"$f":"IF(OR(COUNTRY_INFO!$T$9:$T$1000=\"T2 (PZQ)\",COUNTRY_INFO!$U$9:$U$1000=\"T2 (PZQ)\"), \"T2 (PZQ)\", \" \")","v":" "},null,null,null,null,0,null,null,null,0," "," "," "," "]
[{"$f":"IF(COUNTRY_INFO!A12=0,\" \",COUNTRY_INFO!A12)","v":"Guinea Bissau"},{"$f":"IF(COUNTRY_INFO!B12=0,\" \",COUNTRY_INFO!B12)","v":"SAB"},{"$f":"IF(COUNTRY_INFO!C12=0,\" \",COUNTRY_INFO!C12)","v":"BANDIM"},{"$f":"IF(OR(COUNTRY_INFO!$T$9:$T$1000=\"T2 (PZQ)\",COUNTRY_INFO!$U$9:$U$1000=\"T2 (PZQ)\"), \"T2 (PZQ)\", \" \")","v":" "},null,null,null,null,0,null,null,null,0," "," "," "," "]
[{"$f":"IF(COUNTRY_INFO!A13=0,\" \",COUNTRY_INFO!A13)","v":"Guinea Bissau"},{"$f":"IF(COUNTRY_INFO!B13=0,\" \",COUNTRY_INFO!B13)","v":"SAB"},{"$f":"IF(COUNTRY_INFO!C13=0,\" \",COUNTRY_INFO!C13)","v":"BELEM"},{"$f":"IF(OR(COUNTRY_INFO!$T$9:$T$1000=\"T2 (PZQ)\",COUNTRY_INFO!$U$9:$U$1000=\"T2 (PZQ)\"), \"T2 (PZQ)\", \" \")","v":" "},null,null,null,null,0,null,null,null,0," "," "," "," "]
[{"$f":"IF(COUNTRY_INFO!A14=0,\" \",COUNTRY_INFO!A14)","v":"Guinea Bissau"},{"$f":"IF(COUNTRY_INFO!B14=0,\" \",COUNTRY_INFO!B14)","v":"SAB"},{"$f":"IF(COUNTRY_INFO!C14=0,\" \",COUNTRY_INFO!C14)","v":"CMI"},{"$f":"IF(OR(COUNTRY_INFO!$T$9:$T$1000=\"T2 (PZQ)\",COUNTRY_INFO!$U$9:$U$1000=\"T2 (PZQ)\"), \"T2 (PZQ)\", \" \")","v":" "},null,null,null,null,0,null,null,null,0," "," "," "," "]
[{"$f":"IF(COUNTRY_INFO!A15=0,\" \",COUNTRY_INFO!A15)","v":"Guinea Bissau"},{"$f":"IF(COUNTRY_INFO!B15=0,\" \",COUNTRY_INFO!B15)","v":"SAB"},{"$f":"IF(COUNTRY_INFO!C15=0,\" \",COUNTRY_INFO!C15)","v":"CUNTUM"},{"$f":"IF(OR(COUNTRY_INFO!$T$9:$T$1000=\"T2 (PZQ)\",COUNTRY_INFO!$U$9:$U$1000=\"T2 (PZQ)\"), \"T2 (PZQ)\", \" \")","v":" "},null,null,null,null,0,null,null,null,0," "," "," "," "]
[{"$f":"IF(COUNTRY_INFO!A16=0,\" \",COUNTRY_INFO!A16)","v":"Guinea Bissau"},{"$f":"IF(COUNTRY_INFO!B16=0,\" \",COUNTRY_INFO!B16)","v":"SAB"},{"$f":"IF(COUNTRY_INFO!C16=0,\" \",COUNTRY_INFO!C16)","v":"LUANDA"},{"$f":"IF(OR(COUNTRY_INFO!$T$9:$T$1000=\"T2 (PZQ)\",COUNTRY_INFO!$U$9:$U$1000=\"T2 (PZQ)\"), \"T2 (PZQ)\", \" \")","v":" "},null,null,null,null,0,null,null,null,0," "," "," "," "]
[{"$f":"IF(COUNTRY_INFO!A17=0,\" \",COUNTRY_INFO!A17)","v":"Guinea Bissau"},{"$f":"IF(COUNTRY_INFO!B17=0,\" \",COUNTRY_INFO!B17)","v":"SAB"},{"$f":"IF(COUNTRY_INFO!C17=0,\" \",COUNTRY_INFO!C17)","v":"MISSIRA"},{"$f":"IF(OR(COUNTRY_INFO!$T$9:$T$1000=\"T2 (PZQ)\",COUNTRY_INFO!$U$9:$U$1000=\"T2 (PZQ)\"), \"T2 (PZQ)\", \" \")","v":" "},null,null,null,null,0,null,null,null,0," "," "," "," "]
[{"$f":"IF(COUNTRY_INFO!A18=0,\" \",COUNTRY_INFO!A18)","v":"Guinea Bissau"},{"$f":"IF(COUNTRY_INFO!B18=0,\" \",COUNTRY_INFO!B18)","v":"SAB"},{"$f":"IF(COUNTRY_INFO!C18=0,\" \",COUNTRY_INFO!C18)","v":"PEFINE"},{"$f":"IF(OR(COUNTRY_INFO!$T$9:$T$1000=\"T2 (PZQ)\",COUNTRY_INFO!$U$9:$U$1000=\"T2 (PZQ)\"), \"T2 (PZQ)\", \" \")","v":" "},null,null,null,null,0,null,null,null,0," "," "," "," "]
[{"$f":"IF(COUNTRY_INFO!A19=0,\" \",COUNTRY_INFO!A19)","v":"Guinea Bissau"},{"$f":"IF(COUNTRY_INFO!B19=0,\" \",COUNTRY_INFO!B19)","v":"SAB"},{"$f":"IF(COUNTRY_INFO!C19=0,\" \",COUNTRY_INFO!C19)","v":"PLACK II"},{"$f":"IF(OR(COUNTRY_INFO!$T$9:$T$1000=\"T2 (PZQ)\",COUNTRY_INFO!$U$9:$U$1000=\"T2 (PZQ)\"), \"T2 (PZQ)\", \" \")","v":" "},null,null,null,null,0,null,null,null,0," "," "," "," "]
[{"$f":"IF(COUNTRY_INFO!A20=0,\" \",COUNTRY_INFO!A20)","v":"Guinea Bissau"},{"$f":"IF(COUNTRY_INFO!B20=0,\" \",COUNTRY_INFO!B20)","v":"SAB"},{"$f":"IF(COUNTRY_INFO!C20=0,\" \",COUNTRY_INFO!C20)","v":"QUELELE"},{"$f":"IF(OR(COUNTRY_INFO!$T$9:$T$1000=\"T2 (PZQ)\",COUNTRY_INFO!$U$9:$U$1000=\"T2 (PZQ)\"), \"T2 (PZQ)\", \" \")","v":" "},null,null,null,null,0,null,null,null,0," "," "," "," "]
[{"$f":"IF(COUNTRY_INFO!A21=0,\" \",COUNTRY_INFO!A21)","v":"Guinea Bissau"},{"$f":"IF(COUNTRY_INFO!B21=0,\" \",COUNTRY_INFO!B21)","v":"SAB"},{"$f":"IF(COUNTRY_INFO!C21=0,\" \",COUNTRY_INFO!C21)","v":"SANTA LUZIA"},{"$f":"IF(OR(COUNTRY_INFO!$T$9:$T$1000=\"T2 (PZQ)\",COUNTRY_INFO!$U$9:$U$1000=\"T2 (PZQ)\"), \"T2 (PZQ)\", \" \")","v":" "},null,null,null,null,0,null,null,null,0," "," "," "," "]
[{"$f":"IF(COUNTRY_INFO!A22=0,\" \",COUNTRY_INFO!A22)","v":"Guinea Bissau"},{"$f":"IF(COUNTRY_INFO!B22=0,\" \",COUNTRY_INFO!B22)","v":"SAB"},{"$f":"IF(COUNTRY_INFO!C22=0,\" \",COUNTRY_INFO!C22)","v":"SINTRA NEMA"},{"$f":"IF(OR(COUNTRY_INFO!$T$9:$T$1000=\"T2 (PZQ)\",COUNTRY_INFO!$U$9:$U$1000=\"T2 (PZQ)\"), \"T2 (PZQ)\", \" \")","v":" "},null,null,null,null,0,null,null,null,0," "," "," "," "]
[{"$f":"IF(COUNTRY_INFO!A23=0,\" \",COUNTRY_INFO!A23)","v":"Guinea Bissau"},{"$f":"IF(COUNTRY_INFO!B23=0,\" \",COUNTRY_INFO!B23)","v":"Bijagos"},{"$f":"IF(COUNTRY_INFO!C23=0,\" \",COUNTRY_INFO!C23)","v":"Bubaque"},{"$f":"IF(OR(COUNTRY_INFO!$T$9:$T$1000=\"T2 (PZQ)\",COUNTRY_INFO!$U$9:$U$1000=\"T2 (PZQ)\"), \"T2 (PZQ)\", \" \")","v":" "},null,null,null,null,0,null,null,null,0," "," "," "," "]
[{"$f":"IF(COUNTRY_INFO!A24=0,\" \",COUNTRY_INFO!A24)","v":"Guinea Bissau"},{"$f":"IF(COUNTRY_INFO!B24=0,\" \",COUNTRY_INFO!B24)","v":"Bijagos"},{"$f":"IF(COUNTRY_INFO!C24=0,\" \",COUNTRY_INFO!C24)","v":"Canhabaque"},{"$f":"IF(OR(COUNTRY_INFO!$T$9:$T$1000=\"T2 (PZQ)\",COUNTRY_INFO!$U$9:$U$1000=\"T2 (PZQ)\"), \"T2 (PZQ)\", \" \")","v":" "},null,null,null,null,0,null,null,null,0," "," "," "," "]
[{"$f":"IF(COUNTRY_INFO!A25=0,\" \",COUNTRY_INFO!A25)","v":"Guinea Bissau"},{"$f":"IF(COUNTRY_INFO!B25=0,\" \",COUNTRY_INFO!B25)","v":"Bijagos"},{"$f":"IF(COUNTRY_INFO!C25=0,\" \",COUNTRY_INFO!C25)","v":"Canogo"},{"$f":"IF(OR(COUNTRY_INFO!$T$9:$T$1000=\"T2 (PZQ)\",COUNTRY_INFO!$U$9:$U$1000=\"T2 (PZQ)\"), \"T2 (PZQ)\", \" \")","v":" "},null,null,null,null,0,null,null,null,0," "," "," "," "]
[{"$f":"IF(COUNTRY_INFO!A26=0,\" \",COUNTRY_INFO!A26)","v":"Guinea Bissau"},{"$f":"IF(COUNTRY_INFO!B26=0,\" \",COUNTRY_INFO!B26)","v":"Bijagos"},{"$f":"IF(COUNTRY_INFO!C26=0,\" \",COUNTRY_INFO!C26)","v":"Caravela"},{"$f":"IF(OR(COUNTRY_INFO!$T$9:$T$1000=\"T2 (PZQ)\",COUNTRY_INFO!$U$9:$U$1000=\"T2 (PZQ)\"), \"T2 (PZQ)\", \" \")","v":" "},null,null,null,null,0,null,null,null,0," "," "," "," "]
[{"$f":"IF(COUNTRY_INFO!A27=0,\" \",COUNTRY_INFO!A27)","v":"Guinea Bissau"},{"$f":"IF(COUNTRY_INFO!B27=0,\" \",COUNTRY_INFO!B27)","v":"Bijagos"},{"$f":"IF(COUNTRY_INFO!C27=0,\" \",COUNTRY_INFO!C27)","v":"Formosa"},{"$f":"IF(OR(COUNTRY_INFO!$T$9:$T$1000=\"T2 (PZQ)\",COUNTRY_INFO!$U$9:$U$1000=\"T2 (PZQ)\"), \"T2 (PZQ)\", \" \")","v":" "},null,null,null,null,0,null,null,null,0," "," "," "," "]
[{"$f":"IF(COUNTRY_INFO!A28=0,\" \",COUNTRY_INFO!A28)","v":"Guinea Bissau"},{"$f":"IF(COUNTRY_INFO!B28=0,\" \",COUNTRY_INFO!B28)","v":"Bijagos"},{"$f":"IF(COUNTRY_INFO!C28=0,\" \",COUNTRY_INFO!C28)","v":"Orango Grande"},{"$f":"IF(OR(COUNTRY_INFO!$T$9:$T$1000=\"T2 (PZQ)\",COUNTRY_INFO!$U$9:$U$1000=\"T2 (PZQ)\"), \"T2 (PZQ)\", \" \")","v":" "},null,null,null,null,0,null,null,null,0," "," "," "," "]
[{"$f":"IF(COUNTRY_INFO!A29=0,\" \",COUNTRY_INFO!A29)","v":"Guinea Bissau"},{"$f":"IF(COUNTRY_INFO!B29=0,\" \",COUNTRY_INFO!B29)","v":"Bijagos"},{"$f":"IF(COUNTRY_INFO!C29=0,\" \",COUNTRY_INFO!C29)","v":"Orango zinho"},{"$f":"IF(OR(COUNTRY_INFO!$T$9:$T$1000=\"T2 (PZQ)\",COUNTRY_INFO!$U$9:$U$1000=\"T2 (PZQ)\"), \"T2 (PZQ)\", \" \")","v":" "},null,null,null,null,0,null,null,null,0," "," "," "," "]
[{"$f":"IF(COUNTRY_INFO!A30=0,\" \",COUNTRY_INFO!A30)","v":"Guinea Bissau"},{"$f":"IF(COUNTRY_INFO!B30=0,\" \",COUNTRY_INFO!B30)","v":"Bijagos"},{"$f":"IF(COUNTRY_INFO!C30=0,\" \",COUNTRY_INFO!C30)","v":"Soga"},{"$f":"IF(OR(COUNTRY_INFO!$T$9:$T$1000=\"T2 (PZQ)\",COUNTRY_INFO!$U$9:$U$1000=\"T2 (PZQ)\"), \"T2 (PZQ)\", \" \")","v":" "},null,null,null,null,0,null,null,null,0," "," "," "," "]
[{"$f":"IF(COUNTRY_INFO!A31=0,\" \",COUNTRY_INFO!A31)","v":"Guinea Bissau"},{"$f":"IF(COUNTRY_INFO!B31=0,\" \",COUNTRY_INFO!B31)","v":"Bijagos"},{"$f":"IF(COUNTRY_INFO!C31=0,\" \",COUNTRY_INFO!C31)","v":"Unhocomo"},{"$f":"IF(OR(COUNTRY_INFO!$T$9:$T$1000=\"T2 (PZQ)\",COUNTRY_INFO!$U$9:$U$1000=\"T2 (PZQ)\"), \"T2 (PZQ)\", \" \")","v":" "},null,null,null,null,0,null,null,null,0," "," "," "," "]
[{"$f":"IF(COUNTRY_INFO!A32=0,\" \",COUNTRY_INFO!A32)","v":"Guinea Bissau"},{"$f":"IF(COUNTRY_INFO!B32=0,\" \",COUNTRY_INFO!B32)","v":"Bijagos"},{"$f":"IF(COUNTRY_INFO!C32=0,\" \",COUNTRY_INFO!C32)","v":"Uno"},{"$f":"IF(OR(COUNTRY_INFO!$T$9:$T$1000=\"T2 (PZQ)\",COUNTRY_INFO!$U$9:$U$1000=\"T2 (PZQ)\"), \"T2 (PZQ)\", \" \")","v":" "},null,null,null,null,0,null,null,null,0," "," "," "," "]
[{"$f":"IF(COUNTRY_INFO!A33=0,\" \",COUNTRY_INFO!A33)","v":"Guinea Bissau"},{"$f":"IF(COUNTRY_INFO!B33=0,\" \",COUNTRY_INFO!B33)","v":"Bijagos"},{"$f":"IF(COUNTRY_INFO!C33=0,\" \",COUNTRY_INFO!C33)","v":"Uracane"},{"$f":"IF(OR(COUNTRY_INFO!$T$9:$T$1000=\"T2 (PZQ)\",COUNTRY_INFO!$U$9:$U$1000=\"T2 (PZQ)\"), \"T2 (PZQ)\", \" \")","v":" "},null,null,null,null,0,null,null,null,0," "," "," "," "]
[{"$f":"IF(COUNTRY_INFO!A34=0,\" \",COUNTRY_INFO!A34)","v":"Guinea Bissau"},{"$f":"IF(COUNTRY_INFO!B34=0,\" \",COUNTRY_INFO!B34)","v":"Biombo"},{"$f":"IF(COUNTRY_INFO!C34=0,\" \",COUNTRY_INFO!C34)","v":"BIJIMITA"},{"$f":"IF(OR(COUNTRY_INFO!$T$9:$T$1000=\"T2 (PZQ)\",COUNTRY_INFO!$U$9:$U$1000=\"T2 (PZQ)\"), \"T2 (PZQ)\", \" \")","v":" "},null,null,null,null,0,null,null,null,0," "," "," "," "]
[{"$f":"IF(COUNTRY_INFO!A35=0,\" \",COUNTRY_INFO!A35)","v":"Guinea Bissau"},{"$f":"IF(COUNTRY_INFO!B35=0,\" \",COUNTRY_INFO!B35)","v":"Biombo"},{"$f":"IF(COUNTRY_INFO!C35=0,\" \",COUNTRY_INFO!C35)","v":"CUMURA"},{"$f":"IF(OR(COUNTRY_INFO!$T$9:$T$1000=\"T2 (PZQ)\",COUNTRY_INFO!$U$9:$U$1000=\"T2 (PZQ)\"), \"T2 (PZQ)\", \" \")","v":" "},null,null,null,null,0,null,null,null,0," "," "," "," "]
[{"$f":"IF(COUNTRY_INFO!A36=0,\" \",COUNTRY_INFO!A36)","v":"Guinea Bissau"},{"$f":"IF(COUNTRY_INFO!B36=0,\" \",COUNTRY_INFO!B36)","v":"Biombo"},{"$f":"IF(COUNTRY_INFO!C36=0,\" \",COUNTRY_INFO!C36)","v":"DORSE"},{"$f":"IF(OR(COUNTRY_INFO!$T$9:$T$1000=\"T2 (PZQ)\",COUNTRY_INFO!$U$9:$U$1000=\"T2 (PZQ)\"), \"T2 (PZQ)\", \" \")","v":" "},null,null,null,null,0,null,null,null,0," "," "," "," "]
[{"$f":"IF(COUNTRY_INFO!A37=0,\" \",COUNTRY_INFO!A37)","v":"Guinea Bissau"},{"$f":"IF(COUNTRY_INFO!B37=0,\" \",COUNTRY_INFO!B37)","v":"Biombo"},{"$f":"IF(COUNTRY_INFO!C37=0,\" \",COUNTRY_INFO!C37)","v":"ILONDE"},{"$f":"IF(OR(COUNTRY_INFO!$T$9:$T$1000=\"T2 (PZQ)\",COUNTRY_INFO!$U$9:$U$1000=\"T2 (PZQ)\"), \"T2 (PZQ)\", \" \")","v":" "},null,null,null,null,0,null,null,null,0," "," "," "," "]
[{"$f":"IF(COUNTRY_INFO!A38=0,\" \",COUNTRY_INFO!A38)","v":"Guinea Bissau"},{"$f":"IF(COUNTRY_INFO!B38=0,\" \",COUNTRY_INFO!B38)","v":"Biombo"},{"$f":"IF(COUNTRY_INFO!C38=0,\" \",COUNTRY_INFO!C38)","v":"ONDAME"},{"$f":"IF(OR(COUNTRY_INFO!$T$9:$T$1000=\"T2 (PZQ)\",COUNTRY_INFO!$U$9:$U$1000=\"T2 (PZQ)\"), \"T2 (PZQ)\", \" \")","v":" "},null,null,null,null,0,null,null,null,0," "," "," "," "]
[{"$f":"IF(COUNTRY_INFO!A39=0,\" \",COUNTRY_INFO!A39)","v":"Guinea Bissau"},{"$f":"IF(COUNTRY_INFO!B39=0,\" \",COUNTRY_INFO!B39)","v":"Biombo"},{"$f":"IF(COUNTRY_INFO!C39=0,\" \",COUNTRY_INFO!C39)","v":"PRABIS"},{"$f":"IF(OR(COUNTRY_INFO!$T$9:$T$1000=\"T2 (PZQ)\",COUNTRY_INFO!$U$9:$U$1000=\"T2 (PZQ)\"), \"T2 (PZQ)\", \" \")","v":" "},null,null,null,null,0,null,null,null,0," "," "," "," "]
[{"$f":"IF(COUNTRY_INFO!A40=0,\" \",COUNTRY_INFO!A40)","v":"Guinea Bissau"},{"$f":"IF(COUNTRY_INFO!B40=0,\" \",COUNTRY_INFO!B40)","v":"Biombo"},{"$f":"IF(COUNTRY_INFO!C40=0,\" \",COUNTRY_INFO!C40)","v":"QUINHAMEL"},{"$f":"IF(OR(COUNTRY_INFO!$T$9:$T$1000=\"T2 (PZQ)\",COUNTRY_INFO!$U$9:$U$1000=\"T2 (PZQ)\"), \"T2 (PZQ)\", \" \")","v":" "},null,null,null,null,0,null,null,null,0," "," "," "," "]
[{"$f":"IF(COUNTRY_INFO!A41=0,\" \",COUNTRY_INFO!A41)","v":"Guinea Bissau"},{"$f":"IF(COUNTRY_INFO!B41=0,\" \",COUNTRY_INFO!B41)","v":"Biombo"},{"$f":"IF(COUNTRY_INFO!C41=0,\" \",COUNTRY_INFO!C41)","v":"SAFIM"},{"$f":"IF(OR(COUNTRY_INFO!$T$9:$T$1000=\"T2 (PZQ)\",COUNTRY_INFO!$U$9:$U$1000=\"T2 (PZQ)\"), \"T2 (PZQ)\", \" \")","v":" "},null,null,null,null,0,null,null,null,0," "," "," "," "]
[{"$f":"IF(COUNTRY_INFO!A42=0,\" \",COUNTRY_INFO!A42)","v":"Guinea Bissau"},{"$f":"IF(COUNTRY_INFO!B42=0,\" \",COUNTRY_INFO!B42)","v":"Farim"},{"$f":"IF(COUNTRY_INFO!C42=0,\" \",COUNTRY_INFO!C42)","v":"BINTA"},{"$f":"IF(OR(COUNTRY_INFO!$T$9:$T$1000=\"T2 (PZQ)\",COUNTRY_INFO!$U$9:$U$1000=\"T2 (PZQ)\"), \"T2 (PZQ)\", \" \")","v":"T2 (PZQ)"},"Juillet 2021",null,2007,null,2007,null,2007,null,2007," ",100," ",100]
[{"$f":"IF(COUNTRY_INFO!A43=0,\" \",COUNTRY_INFO!A43)","v":"Guinea Bissau"},{"$f":"IF(COUNTRY_INFO!B43=0,\" \",COUNTRY_INFO!B43)","v":"Farim"},{"$f":"IF(COUNTRY_INFO!C43=0,\" \",COUNTRY_INFO!C43)","v":"CANDJAMBARI"},{"$f":"IF(OR(COUNTRY_INFO!$T$9:$T$1000=\"T2 (PZQ)\",COUNTRY_INFO!$U$9:$U$1000=\"T2 (PZQ)\"), \"T2 (PZQ)\", \" \")","v":"T2 (PZQ)"},"Juillet 2021",null,1828,null,1828,null,1828,null,1828," ",100," ",100,{"$f":"COUNTRY_INFO!F43","v":1501}]
[{"$f":"IF(COUNTRY_INFO!A44=0,\" \",COUNTRY_INFO!A44)","v":"Guinea Bissau"},{"$f":"IF(COUNTRY_INFO!B44=0,\" \",COUNTRY_INFO!B44)","v":"Farim"},{"$f":"IF(COUNTRY_INFO!C44=0,\" \",COUNTRY_INFO!C44)","v":"CUNTIMA"},{"$f":"IF(OR(COUNTRY_INFO!$T$9:$T$1000=\"T2 (PZQ)\",COUNTRY_INFO!$U$9:$U$1000=\"T2 (PZQ)\"), \"T2 (PZQ)\", \" \")","v":"T2 (PZQ)"},"Juillet 2021",null,3402,null,3402,null,3200,null,3200," ",94.062316284538511," ",94.062316284538511]
[{"$f":"IF(COUNTRY_INFO!A45=0,\" \",COUNTRY_INFO!A45)","v":"Guinea Bissau"},{"$f":"IF(COUNTRY_INFO!B45=0,\" \",COUNTRY_INFO!B45)","v":"Farim"},{"$f":"IF(COUNTRY_INFO!C45=0,\" \",COUNTRY_INFO!C45)","v":"FARIM"},{"$f":"IF(OR(COUNTRY_INFO!$T$9:$T$1000=\"T2 (PZQ)\",COUNTRY_INFO!$U$9:$U$1000=\"T2 (PZQ)\"), \"T2 (PZQ)\", \" \")","v":"T2 (PZQ)"},"Juillet 2021",null,5378,null,5378,null,5378,null,5378," ",100," ",100]
[{"$f":"IF(COUNTRY_INFO!A46=0,\" \",COUNTRY_INFO!A46)","v":"Guinea Bissau"},{"$f":"IF(COUNTRY_INFO!B46=0,\" \",COUNTRY_INFO!B46)","v":"Farim"},{"$f":"IF(COUNTRY_INFO!C46=0,\" \",COUNTRY_INFO!C46)","v":"GUIDAGE"},{"$f":"IF(OR(COUNTRY_INFO!$T$9:$T$1000=\"T2 (PZQ)\",COUNTRY_INFO!$U$9:$U$1000=\"T2 (PZQ)\"), \"T2 (PZQ)\", \" \")","v":"T2 (PZQ)"},"Juillet 2021",null,1118,null,1118,null,1118,null,1118," ",100," ",100]
[{"$f":"IF(COUNTRY_INFO!A47=0,\" \",COUNTRY_INFO!A47)","v":"Guinea Bissau"},{"$f":"IF(COUNTRY_INFO!B47=0,\" \",COUNTRY_INFO!B47)","v":"Oio"},{"$f":"IF(COUNTRY_INFO!C47=0,\" \",COUNTRY_INFO!C47)","v":"BINAR"},{"$f":"IF(OR(COUNTRY_INFO!$T$9:$T$1000=\"T2 (PZQ)\",COUNTRY_INFO!$U$9:$U$1000=\"T2 (PZQ)\"), \"T2 (PZQ)\", \" \")","v":" "},null,null,null,null,0,null,null,null,0," "," "," "," "]
[{"$f":"IF(COUNTRY_INFO!A48=0,\" \",COUNTRY_INFO!A48)","v":"Guinea Bissau"},{"$f":"IF(COUNTRY_INFO!B48=0,\" \",COUNTRY_INFO!B48)","v":"Oio"},{"$f":"IF(COUNTRY_INFO!C48=0,\" \",COUNTRY_INFO!C48)","v":"BISSORA"},{"$f":"IF(OR(COUNTRY_INFO!$T$9:$T$1000=\"T2 (PZQ)\",COUNTRY_INFO!$U$9:$U$1000=\"T2 (PZQ)\"), \"T2 (PZQ)\", \" \")","v":" "},null,null,null,null,0,null,null,null,0," "," "," "," "]
[{"$f":"IF(COUNTRY_INFO!A49=0,\" \",COUNTRY_INFO!A49)","v":"Guinea Bissau"},{"$f":"IF(COUNTRY_INFO!B49=0,\" \",COUNTRY_INFO!B49)","v":"Oio"},{"$f":"IF(COUNTRY_INFO!C49=0,\" \",COUNTRY_INFO!C49)","v":"ENCHEIA"},{"$f":"IF(OR(COUNTRY_INFO!$T$9:$T$1000=\"T2 (PZQ)\",COUNTRY_INFO!$U$9:$U$1000=\"T2 (PZQ)\"), \"T2 (PZQ)\", \" \")","v":" "},null,null,null,null,0,null,null,null,0," "," "," "," "]
[{"$f":"IF(COUNTRY_INFO!A50=0,\" \",COUNTRY_INFO!A50)","v":"Guinea Bissau"},{"$f":"IF(COUNTRY_INFO!B50=0,\" \",COUNTRY_INFO!B50)","v":"Oio"},{"$f":"IF(COUNTRY_INFO!C50=0,\" \",COUNTRY_INFO!C50)","v":"GÃ-MAMUDO"},{"$f":"IF(OR(COUNTRY_INFO!$T$9:$T$1000=\"T2 (PZQ)\",COUNTRY_INFO!$U$9:$U$1000=\"T2 (PZQ)\"), \"T2 (PZQ)\", \" \")","v":" "},null,null,null,null,0,null,null,null,0," "," "," "," "]
[{"$f":"IF(COUNTRY_INFO!A51=0,\" \",COUNTRY_INFO!A51)","v":"Guinea Bissau"},{"$f":"IF(COUNTRY_INFO!B51=0,\" \",COUNTRY_INFO!B51)","v":"Oio"},{"$f":"IF(COUNTRY_INFO!C51=0,\" \",COUNTRY_INFO!C51)","v":"MANSABA"},{"$f":"IF(OR(COUNTRY_INFO!$T$9:$T$1000=\"T2 (PZQ)\",COUNTRY_INFO!$U$9:$U$1000=\"T2 (PZQ)\"), \"T2 (PZQ)\", \" \")","v":" "},null,null,null,null,0,null,null,null,0," "," "," "," "]
[{"$f":"IF(COUNTRY_INFO!A52=0,\" \",COUNTRY_INFO!A52)","v":"Guinea Bissau"},{"$f":"IF(COUNTRY_INFO!B52=0,\" \",COUNTRY_INFO!B52)","v":"Oio"},{"$f":"IF(COUNTRY_INFO!C52=0,\" \",COUNTRY_INFO!C52)","v":"MANSOA"},{"$f":"IF(OR(COUNTRY_INFO!$T$9:$T$1000=\"T2 (PZQ)\",COUNTRY_INFO!$U$9:$U$1000=\"T2 (PZQ)\"), \"T2 (PZQ)\", \" \")","v":" "},null,null,null,null,0,null,null,null,0," "," "," "," "]
[{"$f":"IF(COUNTRY_INFO!A53=0,\" \",COUNTRY_INFO!A53)","v":"Guinea Bissau"},{"$f":"IF(COUNTRY_INFO!B53=0,\" \",COUNTRY_INFO!B53)","v":"Oio"},{"$f":"IF(COUNTRY_INFO!C53=0,\" \",COUNTRY_INFO!C53)","v":"MORES"},{"$f":"IF(OR(COUNTRY_INFO!$T$9:$T$1000=\"T2 (PZQ)\",COUNTRY_INFO!$U$9:$U$1000=\"T2 (PZQ)\"), \"T2 (PZQ)\", \" \")","v":" "},null,null,null,null,0,null,null,null,0," "," "," "," "]
[{"$f":"IF(COUNTRY_INFO!A54=0,\" \",COUNTRY_INFO!A54)","v":"Guinea Bissau"},{"$f":"IF(COUNTRY_INFO!B54=0,\" \",COUNTRY_INFO!B54)","v":"Oio"},{"$f":"IF(COUNTRY_INFO!C54=0,\" \",COUNTRY_INFO!C54)","v":"NHACRA"},{"$f":"IF(OR(COUNTRY_INFO!$T$9:$T$1000=\"T2 (PZQ)\",COUNTRY_INFO!$U$9:$U$1000=\"T2 (PZQ)\"), \"T2 (PZQ)\", \" \")","v":" "},null,null,null,null,0,null,null,null,0," "," "," "," "]
[{"$f":"IF(COUNTRY_INFO!A55=0,\" \",COUNTRY_INFO!A55)","v":"Guinea Bissau"},{"$f":"IF(COUNTRY_INFO!B55=0,\" \",COUNTRY_INFO!B55)","v":"Oio"},{"$f":"IF(COUNTRY_INFO!C55=0,\" \",COUNTRY_INFO!C55)","v":"OLOSSATO"},{"$f":"IF(OR(COUNTRY_INFO!$T$9:$T$1000=\"T2 (PZQ)\",COUNTRY_INFO!$U$9:$U$1000=\"T2 (PZQ)\"), \"T2 (PZQ)\", \" \")","v":" "},null,null,null,null,0,null,null,null,0," "," "," "," "]
[{"$f":"IF(COUNTRY_INFO!A56=0,\" \",COUNTRY_INFO!A56)","v":"Guinea Bissau"},{"$f":"IF(COUNTRY_INFO!B56=0,\" \",COUNTRY_INFO!B56)","v":"Oio"},{"$f":"IF(COUNTRY_INFO!C56=0,\" \",COUNTRY_INFO!C56)","v":"PORTUGOL"},{"$f":"IF(OR(COUNTRY_INFO!$T$9:$T$1000=\"T2 (PZQ)\",COUNTRY_INFO!$U$9:$U$1000=\"T2 (PZQ)\"), \"T2 (PZQ)\", \" \")","v":" "},null,null,null,null,0,null,null,null,0," "," "," "," "]
[{"$f":"IF(COUNTRY_INFO!A57=0,\" \",COUNTRY_INFO!A57)","v":"Guinea Bissau"},{"$f":"IF(COUNTRY_INFO!B57=0,\" \",COUNTRY_INFO!B57)","v":"Bolama"},{"$f":"IF(COUNTRY_INFO!C57=0,\" \",COUNTRY_INFO!C57)","v":"BOLAMA"},{"$f":"IF(OR(COUNTRY_INFO!$T$9:$T$1000=\"T2 (PZQ)\",COUNTRY_INFO!$U$9:$U$1000=\"T2 (PZQ)\"), \"T2 (PZQ)\", \" \")","v":" "},null,null,null,null,0,null,null,null,0," "," "," "," "]
[{"$f":"IF(COUNTRY_INFO!A58=0,\" \",COUNTRY_INFO!A58)","v":"Guinea Bissau"},{"$f":"IF(COUNTRY_INFO!B58=0,\" \",COUNTRY_INFO!B58)","v":"Bolama"},{"$f":"IF(COUNTRY_INFO!C58=0,\" \",COUNTRY_INFO!C58)","v":"I.  GALINHAS"},{"$f":"IF(OR(COUNTRY_INFO!$T$9:$T$1000=\"T2 (PZQ)\",COUNTRY_INFO!$U$9:$U$1000=\"T2 (PZQ)\"), \"T2 (PZQ)\", \" \")","v":" "},null,null,null,null,0,null,null,null,0," "," "," "," "]
[{"$f":"IF(COUNTRY_INFO!A59=0,\" \",COUNTRY_INFO!A59)","v":"Guinea Bissau"},{"$f":"IF(COUNTRY_INFO!B59=0,\" \",COUNTRY_INFO!B59)","v":"Bolama"},{"$f":"IF(COUNTRY_INFO!C59=0,\" \",COUNTRY_INFO!C59)","v":"SÃO-JOÃO "},{"$f":"IF(OR(COUNTRY_INFO!$T$9:$T$1000=\"T2 (PZQ)\",COUNTRY_INFO!$U$9:$U$1000=\"T2 (PZQ)\"), \"T2 (PZQ)\", \" \")","v":" "},null,null,null,null,0,null,null,null,0," "," "," "," "]
[{"$f":"IF(COUNTRY_INFO!A60=0,\" \",COUNTRY_INFO!A60)","v":"Guinea Bissau"},{"$f":"IF(COUNTRY_INFO!B60=0,\" \",COUNTRY_INFO!B60)","v":"Gabu"},{"$f":"IF(COUNTRY_INFO!C60=0,\" \",COUNTRY_INFO!C60)","v":"BAJOCUNDA"},{"$f":"IF(OR(COUNTRY_INFO!$T$9:$T$1000=\"T2 (PZQ)\",COUNTRY_INFO!$U$9:$U$1000=\"T2 (PZQ)\"), \"T2 (PZQ)\", \" \")","v":"T2 (PZQ)"},"Juin 2021",null,1748,null,1748,null,1748,null,1748," ",100," ",100]
[{"$f":"IF(COUNTRY_INFO!A61=0,\" \",COUNTRY_INFO!A61)","v":"Guinea Bissau"},{"$f":"IF(COUNTRY_INFO!B61=0,\" \",COUNTRY_INFO!B61)","v":"Gabu"},{"$f":"IF(COUNTRY_INFO!C61=0,\" \",COUNTRY_INFO!C61)","v":"BELI"},{"$f":"IF(OR(COUNTRY_INFO!$T$9:$T$1000=\"T2 (PZQ)\",COUNTRY_INFO!$U$9:$U$1000=\"T2 (PZQ)\"), \"T2 (PZQ)\", \" \")","v":"T2 (PZQ)"},"Juin 2021",null,1554,null,1554,null,1554,null,1554," ",100," ",100]
[{"$f":"IF(COUNTRY_INFO!A62=0,\" \",COUNTRY_INFO!A62)","v":"Guinea Bissau"},{"$f":"IF(COUNTRY_INFO!B62=0,\" \",COUNTRY_INFO!B62)","v":"Gabu"},{"$f":"IF(COUNTRY_INFO!C62=0,\" \",COUNTRY_INFO!C62)","v":"BURUNTUMA"},{"$f":"IF(OR(COUNTRY_INFO!$T$9:$T$1000=\"T2 (PZQ)\",COUNTRY_INFO!$U$9:$U$1000=\"T2 (PZQ)\"), \"T2 (PZQ)\", \" \")","v":"T2 (PZQ)"},"Juin 2021",null,2797,null,2797,null,2797,null,2797," ",100," ",100]
[{"$f":"IF(COUNTRY_INFO!A63=0,\" \",COUNTRY_INFO!A63)","v":"Guinea Bissau"},{"$f":"IF(COUNTRY_INFO!B63=0,\" \",COUNTRY_INFO!B63)","v":"Gabu"},{"$f":"IF(COUNTRY_INFO!C63=0,\" \",COUNTRY_INFO!C63)","v":"CANJADUDE"},{"$f":"IF(OR(COUNTRY_INFO!$T$9:$T$1000=\"T2 (PZQ)\",COUNTRY_INFO!$U$9:$U$1000=\"T2 (PZQ)\"), \"T2 (PZQ)\", \" \")","v":"T2 (PZQ)"},"Juin 2021",null,2180,null,2180,null,2180,null,2180," ",100," ",100]
[{"$f":"IF(COUNTRY_INFO!A64=0,\" \",COUNTRY_INFO!A64)","v":"Guinea Bissau"},{"$f":"IF(COUNTRY_INFO!B64=0,\" \",COUNTRY_INFO!B64)","v":"Gabu"},{"$f":"IF(COUNTRY_INFO!C64=0,\" \",COUNTRY_INFO!C64)","v":"CANQUELIFA"},{"$f":"IF(OR(COUNTRY_INFO!$T$9:$T$1000=\"T2 (PZQ)\",COUNTRY_INFO!$U$9:$U$1000=\"T2 (PZQ)\"), \"T2 (PZQ)\", \" \")","v":"T2 (PZQ)"},"Juin 2021",null,1739,null,1739,null,1739,null,1739," ",100," ",100]
[{"$f":"IF(COUNTRY_INFO!A65=0,\" \",COUNTRY_INFO!A65)","v":"Guinea Bissau"},{"$f":"IF(COUNTRY_INFO!B65=0,\" \",COUNTRY_INFO!B65)","v":"Gabu"},{"$f":"IF(COUNTRY_INFO!C65=0,\" \",COUNTRY_INFO!C65)","v":"CANSISSE"},{"$f":"IF(OR(COUNTRY_INFO!$T$9:$T$1000=\"T2 (PZQ)\",COUNTRY_INFO!$U$9:$U$1000=\"T2 (PZQ)\"), \"T2 (PZQ)\", \" \")","v":"T2 (PZQ)"},"Juin 2021",null,1701,null,1701,null,1701,null,1701," ",100," ",100]
[{"$f":"IF(COUNTRY_INFO!A66=0,\" \",COUNTRY_INFO!A66)","v":"Guinea Bissau"},{"$f":"IF(COUNTRY_INFO!B66=0,\" \",COUNTRY_INFO!B66)","v":"Gabu"},{"$f":"IF(COUNTRY_INFO!C66=0,\" \",COUNTRY_INFO!C66)","v":"FASSE"},{"$f":"IF(OR(COUNTRY_INFO!$T$9:$T$1000=\"T2 (PZQ)\",COUNTRY_INFO!$U$9:$U$1000=\"T2 (PZQ)\"), \"T2 (PZQ)\", \" \")","v":"T2 (PZQ)"},"Juin 2021",null,2222,null,2222,null,2222,null,2222," ",100," ",100]
[{"$f":"IF(COUNTRY_INFO!A67=0,\" \",COUNTRY_INFO!A67)","v":"Guinea Bissau"},{"$f":"IF(COUNTRY_INFO!B67=0,\" \",COUNTRY_INFO!B67)","v":"Gabu"},{"$f":"IF(COUNTRY_INFO!C67=0,\" \",COUNTRY_INFO!C67)","v":"PAUNCA"},{"$f":"IF(OR(COUNTRY_INFO!$T$9:$T$1000=\"T2 (PZQ)\",COUNTRY_INFO!$U$9:$U$1000=\"T2 (PZQ)\"), \"T2 (PZQ)\", \" \")","v":"T2 (PZQ)"},"Juin 2021",null,4313,null,4313,null,4313,null,4313," ",100," ",100]
[{"$f":"IF(COUNTRY_INFO!A68=0,\" \",COUNTRY_INFO!A68)","v":"Guinea Bissau"},{"$f":"IF(COUNTRY_INFO!B68=0,\" \",COUNTRY_INFO!B68)","v":"Gabu"},{"$f":"IF(COUNTRY_INFO!C68=0,\" \",COUNTRY_INFO!C68)","v":"PITCHE"},{"$f":"IF(OR(COUNTRY_INFO!$T$9:$T$1000=\"T2 (PZQ)\",COUNTRY_INFO!$U$9:$U$1000=\"T2 (PZQ)\"), \"T2 (PZQ)\", \" \")","v":"T2 (PZQ)"},"Juin 2021",null,6847,null,6847,null,6847,null,6847," ",100," ",100,{"$f":"COUNTRY_INFO!F68","v":6037}]
[{"$f":"IF(COUNTRY_INFO!A69=0,\" \",COUNTRY_INFO!A69)","v":"Guinea Bissau"},{"$f":"IF(COUNTRY_INFO!B69=0,\" \",COUNTRY_INFO!B69)","v":"Gabu"},{"$f":"IF(COUNTRY_INFO!C69=0,\" \",COUNTRY_INFO!C69)","v":"DARA"},{"$f":"IF(OR(COUNTRY_INFO!$T$9:$T$1000=\"T2 (PZQ)\",COUNTRY_INFO!$U$9:$U$1000=\"T2 (PZQ)\"), \"T2 (PZQ)\", \" \")","v":"T2 (PZQ)"},"Juin 2021",null,4300,null,4300,null,4300,null,4300," ",100," ",100]
[{"$f":"IF(COUNTRY_INFO!A70=0,\" \",COUNTRY_INFO!A70)","v":"Guinea Bissau"},{"$f":"IF(COUNTRY_INFO!B70=0,\" \",COUNTRY_INFO!B70)","v":"Gabu"},{"$f":"IF(COUNTRY_INFO!C70=0,\" \",COUNTRY_INFO!C70)","v":"PIRADA"},{"$f":"IF(OR(COUNTRY_INFO!$T$9:$T$1000=\"T2 (PZQ)\",COUNTRY_INFO!$U$9:$U$1000=\"T2 (PZQ)\"), \"T2 (PZQ)\", \" \")","v":"T2 (PZQ)"},"Juin 2021",null,3404,null,3404,null,3404,null,3404," ",100," ",100]
[{"$f":"IF(COUNTRY_INFO!A71=0,\" \",COUNTRY_INFO!A71)","v":"Guinea Bissau"},{"$f":"IF(COUNTRY_INFO!B71=0,\" \",COUNTRY_INFO!B71)","v":"Gabu"},{"$f":"IF(COUNTRY_INFO!C71=0,\" \",COUNTRY_INFO!C71)","v":"DANDUM"},{"$f":"IF(OR(COUNTRY_INFO!$T$9:$T$1000=\"T2 (PZQ)\",COUNTRY_INFO!$U$9:$U$1000=\"T2 (PZQ)\"), \"T2 (PZQ)\", \" \")","v":"T2 (PZQ)"},"Juin 2021",null,1272,null,1272,null,1272,null,1272," ",100," ",100,{"$f":"COUNTRY_INFO!F71","v":1115}]
[{"$f":"IF(COUNTRY_INFO!A72=0,\" \",COUNTRY_INFO!A72)","v":"Guinea Bissau"},{"$f":"IF(COUNTRY_INFO!B72=0,\" \",COUNTRY_INFO!B72)","v":"Gabu"},{"$f":"IF(COUNTRY_INFO!C72=0,\" \",COUNTRY_INFO!C72)","v":"MANSADJAM"},{"$f":"IF(OR(COUNTRY_INFO!$T$9:$T$1000=\"T2 (PZQ)\",COUNTRY_INFO!$U$9:$U$1000=\"T2 (PZQ)\"), \"T2 (PZQ)\", \" \")","v":"T2 (PZQ)"},"Juin 2021",null,3927,null,3927,null,3927,null,3927," ",100," ",100]
[{"$f":"IF(COUNTRY_INFO!A73=0,\" \",COUNTRY_INFO!A73)","v":"Guinea Bissau"},{"$f":"IF(COUNTRY_INFO!B73=0,\" \",COUNTRY_INFO!B73)","v":"Gabu"},{"$f":"IF(COUNTRY_INFO!C73=0,\" \",COUNTRY_INFO!C73)","v":"SONACO"},{"$f":"IF(OR(COUNTRY_INFO!$T$9:$T$1000=\"T2 (PZQ)\",COUNTRY_INFO!$U$9:$U$1000=\"T2 (PZQ)\"), \"T2 (PZQ)\", \" \")","v":"T2 (PZQ)"},"Juin 2021",null,5118,null,5118,null,5118,null,5118," ",100," ",100]
[{"$f":"IF(COUNTRY_INFO!A74=0,\" \",COUNTRY_INFO!A74)","v":"Guinea Bissau"},{"$f":"IF(COUNTRY_INFO!B74=0,\" \",COUNTRY_INFO!B74)","v":"Gabu"},{"$f":"IF(COUNTRY_INFO!C74=0,\" \",COUNTRY_INFO!C74)","v":"LUGADJOLE"},{"$f":"IF(OR(COUNTRY_INFO!$T$9:$T$1000=\"T2 (PZQ)\",COUNTRY_INFO!$U$9:$U$1000=\"T2 (PZQ)\"), \"T2 (PZQ)\", \" \")","v":"T2 (PZQ)"},"Juin 2021",null,1132,null,{"$f":"SUM(F74:H74)","v":1132},null,1132,null,{"$f":"SUM(J74:L74)","v":1132},{"$f":"IF(F74<>0, IF(J74/F74*100=0, \"-\", J74/F74*100), \" \")","v":" "},{"$f":"IF(G74<>0, IF(K74/G74*100=0, \"-\", K74/G74*100), \" \")","v":100},{"$f":"IF(H74<>0, IF(L74/H74*100=0, \"-\", L74/H74*100), \" \")","v":" "},{"$f":"IF(I74<>0, IF(M74/I74*100=0, \"-\", M74/I74*100), \" \")","v":100}]
[{"$f":"IF(COUNTRY_INFO!A75=0,\" \",COUNTRY_INFO!A75)","v":"Guinea Bissau"},{"$f":"IF(COUNTRY_INFO!B75=0,\" \",COUNTRY_INFO!B75)","v":"Gabu"},{"$f":"IF(COUNTRY_INFO!C75=0,\" \",COUNTRY_INFO!C75)","v":"GABU"},{"$f":"IF(OR(COUNTRY_INFO!$T$9:$T$1000=\"T2 (PZQ)\",COUNTRY_INFO!$U$9:$U$1000=\"T2 (PZQ)\"), \"T2 (PZQ)\", \" \")","v":"T2 (PZQ)"},"Juin 2021",null,11545,null,11545,null,11545,null,11545," ",100," ",100]
[{"$f":"IF(COUNTRY_INFO!A76=0,\" \",COUNTRY_INFO!A76)","v":"Guinea Bissau"},{"$f":"IF(COUNTRY_INFO!B76=0,\" \",COUNTRY_INFO!B76)","v":"Gabu"},{"$f":"IF(COUNTRY_INFO!C76=0,\" \",COUNTRY_INFO!C76)","v":"CANDJUFA"},{"$f":"IF(OR(COUNTRY_INFO!$T$9:$T$1000=\"T2 (PZQ)\",COUNTRY_INFO!$U$9:$U$1000=\"T2 (PZQ)\"), \"T2 (PZQ)\", \" \")","v":"T2 (PZQ)"},"Juin 2021",null,5529,null,5529,null,5529,null,5529," ",100," ",100]
[{"$f":"IF(COUNTRY_INFO!A77=0,\" \",COUNTRY_INFO!A77)","v":"Guinea Bissau"},{"$f":"IF(COUNTRY_INFO!B77=0,\" \",COUNTRY_INFO!B77)","v":"Gabu"},{"$f":"IF(COUNTRY_INFO!C77=0,\" \",COUNTRY_INFO!C77)","v":"MAFANCO"},{"$f":"IF(OR(COUNTRY_INFO!$T$9:$T$1000=\"T2 (PZQ)\",COUNTRY_INFO!$U$9:$U$1000=\"T2 (PZQ)\"), \"T2 (PZQ)\", \" \")","v":"T2 (PZQ)"},"Juin 2021",null,4342,null,4342,null,4342,null,4342," ",100," ",100]
[{"$f":"IF(COUNTRY_INFO!A78=0,\" \",COUNTRY_INFO!A78)","v":"Guinea Bissau"},{"$f":"IF(COUNTRY_INFO!B78=0,\" \",COUNTRY_INFO!B78)","v":"Gabu"},{"$f":"IF(COUNTRY_INFO!C78=0,\" \",COUNTRY_INFO!C78)","v":"TUMANA"},{"$f":"IF(OR(COUNTRY_INFO!$T$9:$T$1000=\"T2 (PZQ)\",COUNTRY_INFO!$U$9:$U$1000=\"T2 (PZQ)\"), \"T2 (PZQ)\", \" \")","v":"T2 (PZQ)"},"Juin 2021",null,4314,null,4314,null,4314,null,4314," ",100," ",100]
[{"$f":"IF(COUNTRY_INFO!A79=0,\" \",COUNTRY_INFO!A79)","v":"Guinea Bissau"},{"$f":"IF(COUNTRY_INFO!B79=0,\" \",COUNTRY_INFO!B79)","v":"Bafata"},{"$f":"IF(COUNTRY_INFO!C79=0,\" \",COUNTRY_INFO!C79)","v":"Xitole"},{"$f":"IF(OR(COUNTRY_INFO!$T$9:$T$1000=\"T2 (PZQ)\",COUNTRY_INFO!$U$9:$U$1000=\"T2 (PZQ)\"), \"T2 (PZQ)\", \" \")","v":" "},null,null,null,null,0,null,null,null,0," "," "," "," "]
[{"$f":"IF(COUNTRY_INFO!A80=0,\" \",COUNTRY_INFO!A80)","v":"Guinea Bissau"},{"$f":"IF(COUNTRY_INFO!B80=0,\" \",COUNTRY_INFO!B80)","v":"Bafata"},{"$f":"IF(COUNTRY_INFO!C80=0,\" \",COUNTRY_INFO!C80)","v":"Contubuel"},{"$f":"IF(OR(COUNTRY_INFO!$T$9:$T$1000=\"T2 (PZQ)\",COUNTRY_INFO!$U$9:$U$1000=\"T2 (PZQ)\"), \"T2 (PZQ)\", \" \")","v":" "},null,null,null,null,0,null,null,null,0," "," "," "," "]
[{"$f":"IF(COUNTRY_INFO!A81=0,\" \",COUNTRY_INFO!A81)","v":"Guinea Bissau"},{"$f":"IF(COUNTRY_INFO!B81=0,\" \",COUNTRY_INFO!B81)","v":"Bafata"},{"$f":"IF(COUNTRY_INFO!C81=0,\" \",COUNTRY_INFO!C81)","v":"Tendinto"},{"$f":"IF(OR(COUNTRY_INFO!$T$9:$T$1000=\"T2 (PZQ)\",COUNTRY_INFO!$U$9:$U$1000=\"T2 (PZQ)\"), \"T2 (PZQ)\", \" \")","v":" "},null,null,null,null,0,null,null,null,0," "," "," "," "]
[{"$f":"IF(COUNTRY_INFO!A82=0,\" \",COUNTRY_INFO!A82)","v":"Guinea Bissau"},{"$f":"IF(COUNTRY_INFO!B82=0,\" \",COUNTRY_INFO!B82)","v":"Bafata"},{"$f":"IF(COUNTRY_INFO!C82=0,\" \",COUNTRY_INFO!C82)","v":"Geba"},{"$f":"IF(OR(COUNTRY_INFO!$T$9:$T$1000=\"T2 (PZQ)\",COUNTRY_INFO!$U$9:$U$1000=\"T2 (PZQ)\"), \"T2 (PZQ)\", \" \")","v":" "},null,null,null,null,0,null,null,null,0," "," "," "," "]
[{"$f":"IF(COUNTRY_INFO!A83=0,\" \",COUNTRY_INFO!A83)","v":"Guinea Bissau"},{"$f":"IF(COUNTRY_INFO!B83=0,\" \",COUNTRY_INFO!B83)","v":"Bafata"},{"$f":"IF(COUNTRY_INFO!C83=0,\" \",COUNTRY_INFO!C83)","v":"Tantancosse"},{"$f":"IF(OR(COUNTRY_INFO!$T$9:$T$1000=\"T2 (PZQ)\",COUNTRY_INFO!$U$9:$U$1000=\"T2 (PZQ)\"), \"T2 (PZQ)\", \" \")","v":" "},null,null,null,null,0,null,null,null,0," "," "," "," "]
[{"$f":"IF(COUNTRY_INFO!A84=0,\" \",COUNTRY_INFO!A84)","v":"Guinea Bissau"},{"$f":"IF(COUNTRY_INFO!B84=0,\" \",COUNTRY_INFO!B84)","v":"Bafata"},{"$f":"IF(COUNTRY_INFO!C84=0,\" \",COUNTRY_INFO!C84)","v":"Ga-mamudo"},{"$f":"IF(OR(COUNTRY_INFO!$T$9:$T$1000=\"T2 (PZQ)\",COUNTRY_INFO!$U$9:$U$1000=\"T2 (PZQ)\"), \"T2 (PZQ)\", \" \")","v":" "},null,null,null,null,0,null,null,null,0," "," "," "," "]
[{"$f":"IF(COUNTRY_INFO!A85=0,\" \",COUNTRY_INFO!A85)","v":"Guinea Bissau"},{"$f":"IF(COUNTRY_INFO!B85=0,\" \",COUNTRY_INFO!B85)","v":"Bafata"},{"$f":"IF(COUNTRY_INFO!C85=0,\" \",COUNTRY_INFO!C85)","v":"Bambadinca"},{"$f":"IF(OR(COUNTRY_INFO!$T$9:$T$1000=\"T2 (PZQ)\",COUNTRY_INFO!$U$9:$U$1000=\"T2 (PZQ)\"), \"T2 (PZQ)\", \" \")","v":" "},null,null,null,null,0,null,null,null,0," "," "," "," "]
[{"$f":"IF(COUNTRY_INFO!A86=0,\" \",COUNTRY_INFO!A86)","v":"Guinea Bissau"},{"$f":"IF(COUNTRY_INFO!B86=0,\" \",COUNTRY_INFO!B86)","v":"Bafata"},{"$f":"IF(COUNTRY_INFO!C86=0,\" \",COUNTRY_INFO!C86)","v":"Ga carnes"},{"$f":"IF(OR(COUNTRY_INFO!$T$9:$T$1000=\"T2 (PZQ)\",COUNTRY_INFO!$U$9:$U$1000=\"T2 (PZQ)\"), \"T2 (PZQ)\", \" \")","v":" "},null,null,null,null,0,null,null,null,0," "," "," "," "]
[{"$f":"IF(COUNTRY_INFO!A87=0,\" \",COUNTRY_INFO!A87)","v":"Guinea Bissau"},{"$f":"IF(COUNTRY_INFO!B87=0,\" \",COUNTRY_INFO!B87)","v":"Bafata"},{"$f":"IF(COUNTRY_INFO!C87=0,\" \",COUNTRY_INFO!C87)","v":"Cambaju"},{"$f":"IF(OR(COUNTRY_INFO!$T$9:$T$1000=\"T2 (PZQ)\",COUNTRY_INFO!$U$9:$U$1000=\"T2 (PZQ)\"), \"T2 (PZQ)\", \" \")","v":" "},null,null,null,null,0,null,null,null,0," "," "," "," "]
[{"$f":"IF(COUNTRY_INFO!A88=0,\" \",COUNTRY_INFO!A88)","v":"Guinea Bissau"},{"$f":"IF(COUNTRY_INFO!B88=0,\" \",COUNTRY_INFO!B88)","v":"Bafata"},{"$f":"IF(COUNTRY_INFO!C88=0,\" \",COUNTRY_INFO!C88)","v":"Gam ture"},{"$f":"IF(OR(COUNTRY_INFO!$T$9:$T$1000=\"T2 (PZQ)\",COUNTRY_INFO!$U$9:$U$1000=\"T2 (PZQ)\"), \"T2 (PZQ)\", \" \")","v":" "},null,null,null,null,0,null,null,null,0," "," "," "," "]
[{"$f":"IF(COUNTRY_INFO!A89=0,\" \",COUNTRY_INFO!A89)","v":"Guinea Bissau"},{"$f":"IF(COUNTRY_INFO!B89=0,\" \",COUNTRY_INFO!B89)","v":"Bafata"},{"$f":"IF(COUNTRY_INFO!C89=0,\" \",COUNTRY_INFO!C89)","v":"Sare bacar"},{"$f":"IF(OR(COUNTRY_INFO!$T$9:$T$1000=\"T2 (PZQ)\",COUNTRY_INFO!$U$9:$U$1000=\"T2 (PZQ)\"), \"T2 (PZQ)\", \" \")","v":" "},null,null,null,null,0,null,null,null,0," "," "," "," "]
[{"$f":"IF(COUNTRY_INFO!A90=0,\" \",COUNTRY_INFO!A90)","v":"Guinea Bissau"},{"$f":"IF(COUNTRY_INFO!B90=0,\" \",COUNTRY_INFO!B90)","v":"Bafata"},{"$f":"IF(COUNTRY_INFO!C90=0,\" \",COUNTRY_INFO!C90)","v":"Fajonquito"},{"$f":"IF(OR(COUNTRY_INFO!$T$9:$T$1000=\"T2 (PZQ)\",COUNTRY_INFO!$U$9:$U$1000=\"T2 (PZQ)\"), \"T2 (PZQ)\", \" \")","v":" "},null,null,null,null,0,null,null,null,0," "," "," "," "]
[{"$f":"IF(COUNTRY_INFO!A91=0,\" \",COUNTRY_INFO!A91)","v":"Guinea Bissau"},{"$f":"IF(COUNTRY_INFO!B91=0,\" \",COUNTRY_INFO!B91)","v":"Bafata"},{"$f":"IF(COUNTRY_INFO!C91=0,\" \",COUNTRY_INFO!C91)","v":"Cosse"},{"$f":"IF(OR(COUNTRY_INFO!$T$9:$T$1000=\"T2 (PZQ)\",COUNTRY_INFO!$U$9:$U$1000=\"T2 (PZQ)\"), \"T2 (PZQ)\", \" \")","v":" "},null,null,null,null,0,null,null,null,0," "," "," "," "]
[{"$f":"IF(COUNTRY_INFO!A92=0,\" \",COUNTRY_INFO!A92)","v":"Guinea Bissau"},{"$f":"IF(COUNTRY_INFO!B92=0,\" \",COUNTRY_INFO!B92)","v":"Bafata"},{"$f":"IF(COUNTRY_INFO!C92=0,\" \",COUNTRY_INFO!C92)","v":"Bafata"},{"$f":"IF(OR(COUNTRY_INFO!$T$9:$T$1000=\"T2 (PZQ)\",COUNTRY_INFO!$U$9:$U$1000=\"T2 (PZQ)\"), \"T2 (PZQ)\", \" \")","v":" "},null,null,null,null,0,null,null,null,0," "," "," "," "]
[{"$f":"IF(COUNTRY_INFO!A93=0,\" \",COUNTRY_INFO!A93)","v":"Guinea Bissau"},{"$f":"IF(COUNTRY_INFO!B93=0,\" \",COUNTRY_INFO!B93)","v":"Tombali"},{"$f":"IF(COUNTRY_INFO!C93=0,\" \",COUNTRY_INFO!C93)","v":"BEDANDA"},{"$f":"IF(OR(COUNTRY_INFO!$T$9:$T$1000=\"T2 (PZQ)\",COUNTRY_INFO!$U$9:$U$1000=\"T2 (PZQ)\"), \"T2 (PZQ)\", \" \")","v":" "},null,null,null,null,0,null,null,null,0," "," "," "," "]
[{"$f":"IF(COUNTRY_INFO!A94=0,\" \",COUNTRY_INFO!A94)","v":"Guinea Bissau"},{"$f":"IF(COUNTRY_INFO!B94=0,\" \",COUNTRY_INFO!B94)","v":"Tombali"},{"$f":"IF(COUNTRY_INFO!C94=0,\" \",COUNTRY_INFO!C94)","v":"CACINE"},{"$f":"IF(OR(COUNTRY_INFO!$T$9:$T$1000=\"T2 (PZQ)\",COUNTRY_INFO!$U$9:$U$1000=\"T2 (PZQ)\"), \"T2 (PZQ)\", \" \")","v":" "},null,null,null,null,0,null,null,null,0," "," "," "," "]
[{"$f":"IF(COUNTRY_INFO!A95=0,\" \",COUNTRY_INFO!A95)","v":"Guinea Bissau"},{"$f":"IF(COUNTRY_INFO!B95=0,\" \",COUNTRY_INFO!B95)","v":"Tombali"},{"$f":"IF(COUNTRY_INFO!C95=0,\" \",COUNTRY_INFO!C95)","v":"CALAQUE"},{"$f":"IF(OR(COUNTRY_INFO!$T$9:$T$1000=\"T2 (PZQ)\",COUNTRY_INFO!$U$9:$U$1000=\"T2 (PZQ)\"), \"T2 (PZQ)\", \" \")","v":" "},null,null,null,null,0,null,null,null,0," "," "," "," "]
[{"$f":"IF(COUNTRY_INFO!A96=0,\" \",COUNTRY_INFO!A96)","v":"Guinea Bissau"},{"$f":"IF(COUNTRY_INFO!B96=0,\" \",COUNTRY_INFO!B96)","v":"Tombali"},{"$f":"IF(COUNTRY_INFO!C96=0,\" \",COUNTRY_INFO!C96)","v":"CATIO"},{"$f":"IF(OR(COUNTRY_INFO!$T$9:$T$1000=\"T2 (PZQ)\",COUNTRY_INFO!$U$9:$U$1000=\"T2 (PZQ)\"), \"T2 (PZQ)\", \" \")","v":" "},null,null,null,null,0,null,null,null,0," "," "," "," "]
[{"$f":"IF(COUNTRY_INFO!A97=0,\" \",COUNTRY_INFO!A97)","v":"Guinea Bissau"},{"$f":"IF(COUNTRY_INFO!B97=0,\" \",COUNTRY_INFO!B97)","v":"Tombali"},{"$f":"IF(COUNTRY_INFO!C97=0,\" \",COUNTRY_INFO!C97)","v":"KOMO"},{"$f":"IF(OR(COUNTRY_INFO!$T$9:$T$1000=\"T2 (PZQ)\",COUNTRY_INFO!$U$9:$U$1000=\"T2 (PZQ)\"), \"T2 (PZQ)\", \" \")","v":" "},null,null,null,null,0,null,null,null,0," "," "," "," "]
[{"$f":"IF(COUNTRY_INFO!A98=0,\" \",COUNTRY_INFO!A98)","v":"Guinea Bissau"},{"$f":"IF(COUNTRY_INFO!B98=0,\" \",COUNTRY_INFO!B98)","v":"Tombali"},{"$f":"IF(COUNTRY_INFO!C98=0,\" \",COUNTRY_INFO!C98)","v":"QUEBO"},{"$f":"IF(OR(COUNTRY_INFO!$T$9:$T$1000=\"T2 (PZQ)\",COUNTRY_INFO!$U$9:$U$1000=\"T2 (PZQ)\"), \"T2 (PZQ)\", \" \")","v":" "},null,null,null,null,0,null,null,null,0," "," "," "," "]
[{"$f":"IF(COUNTRY_INFO!A99=0,\" \",COUNTRY_INFO!A99)","v":"Guinea Bissau"},{"$f":"IF(COUNTRY_INFO!B99=0,\" \",COUNTRY_INFO!B99)","v":"Tombali"},{"$f":"IF(COUNTRY_INFO!C99=0,\" \",COUNTRY_INFO!C99)","v":"SANCONHA"},{"$f":"IF(OR(COUNTRY_INFO!$T$9:$T$1000=\"T2 (PZQ)\",COUNTRY_INFO!$U$9:$U$1000=\"T2 (PZQ)\"), \"T2 (PZQ)\", \" \")","v":" "},null,null,null,null,0,null,null,null,0," "," "," "," "]
[{"$f":"IF(COUNTRY_INFO!A100=0,\" \",COUNTRY_INFO!A100)","v":"Guinea Bissau"},{"$f":"IF(COUNTRY_INFO!B100=0,\" \",COUNTRY_INFO!B100)","v":"Tombali"},{"$f":"IF(COUNTRY_INFO!C100=0,\" \",COUNTRY_INFO!C100)","v":"TIMBO"},{"$f":"IF(OR(COUNTRY_INFO!$T$9:$T$1000=\"T2 (PZQ)\",COUNTRY_INFO!$U$9:$U$1000=\"T2 (PZQ)\"), \"T2 (PZQ)\", \" \")","v":" "},null,null,null,null,0,null,null,null,0," "," "," "," "]
[{"$f":"IF(COUNTRY_INFO!A101=0,\" \",COUNTRY_INFO!A101)","v":"Guinea Bissau"},{"$f":"IF(COUNTRY_INFO!B101=0,\" \",COUNTRY_INFO!B101)","v":"Quinara"},{"$f":"IF(COUNTRY_INFO!C101=0,\" \",COUNTRY_INFO!C101)","v":"BRANDÃO"},{"$f":"IF(OR(COUNTRY_INFO!$T$9:$T$1000=\"T2 (PZQ)\",COUNTRY_INFO!$U$9:$U$1000=\"T2 (PZQ)\"), \"T2 (PZQ)\", \" \")","v":" "},null,null,null,null,0,null,null,null,0," "," "," "," "]
[{"$f":"IF(COUNTRY_INFO!A102=0,\" \",COUNTRY_INFO!A102)","v":"Guinea Bissau"},{"$f":"IF(COUNTRY_INFO!B102=0,\" \",COUNTRY_INFO!B102)","v":"Quinara"},{"$f":"IF(COUNTRY_INFO!C102=0,\" \",COUNTRY_INFO!C102)","v":"BUBA"},{"$f":"IF(OR(COUNTRY_INFO!$T$9:$T$1000=\"T2 (PZQ)\",COUNTRY_INFO!$U$9:$U$1000=\"T2 (PZQ)\"), \"T2 (PZQ)\", \" \")","v":" "},null,null,null,null,0,null,null,null,0," "," "," "," "]
[{"$f":"IF(COUNTRY_INFO!A103=0,\" \",COUNTRY_INFO!A103)","v":"Guinea Bissau"},{"$f":"IF(COUNTRY_INFO!B103=0,\" \",COUNTRY_INFO!B103)","v":"Quinara"},{"$f":"IF(COUNTRY_INFO!C103=0,\" \",COUNTRY_INFO!C103)","v":"DAR-ES-SALAM"},{"$f":"IF(OR(COUNTRY_INFO!$T$9:$T$1000=\"T2 (PZQ)\",COUNTRY_INFO!$U$9:$U$1000=\"T2 (PZQ)\"), \"T2 (PZQ)\", \" \")","v":" "},null,null,null,null,0,null,null,null,0," "," "," "," "]
[{"$f":"IF(COUNTRY_INFO!A104=0,\" \",COUNTRY_INFO!A104)","v":"Guinea Bissau"},{"$f":"IF(COUNTRY_INFO!B104=0,\" \",COUNTRY_INFO!B104)","v":"Quinara"},{"$f":"IF(COUNTRY_INFO!C104=0,\" \",COUNTRY_INFO!C104)","v":"EMPADA"},{"$f":"IF(OR(COUNTRY_INFO!$T$9:$T$1000=\"T2 (PZQ)\",COUNTRY_INFO!$U$9:$U$1000=\"T2 (PZQ)\"), \"T2 (PZQ)\", \" \")","v":" "},null,null,null,null,0,null,null,null,0," "," "," "," "]
[{"$f":"IF(COUNTRY_INFO!A105=0,\" \",COUNTRY_INFO!A105)","v":"Guinea Bissau"},{"$f":"IF(COUNTRY_INFO!B105=0,\" \",COUNTRY_INFO!B105)","v":"Quinara"},{"$f":"IF(COUNTRY_INFO!C105=0,\" \",COUNTRY_INFO!C105)","v":"FULACUNDA"},{"$f":"IF(OR(COUNTRY_INFO!$T$9:$T$1000=\"T2 (PZQ)\",COUNTRY_INFO!$U$9:$U$1000=\"T2 (PZQ)\"), \"T2 (PZQ)\", \" \")","v":" "},null,null,null,null,0,null,null,null,0," "," "," "," "]
[{"$f":"IF(COUNTRY_INFO!A106=0,\" \",COUNTRY_INFO!A106)","v":"Guinea Bissau"},{"$f":"IF(COUNTRY_INFO!B106=0,\" \",COUNTRY_INFO!B106)","v":"Quinara"},{"$f":"IF(COUNTRY_INFO!C106=0,\" \",COUNTRY_INFO!C106)","v":"TITE"},{"$f":"IF(OR(COUNTRY_INFO!$T$9:$T$1000=\"T2 (PZQ)\",COUNTRY_INFO!$U$9:$U$1000=\"T2 (PZQ)\"), \"T2 (PZQ)\", \" \")","v":" "},null,null,null,null,0,null,null,null,0," "," "," "," "]
[{"$f":"IF(COUNTRY_INFO!A107=0,\" \",COUNTRY_INFO!A107)","v":"Guinea Bissau"},{"$f":"IF(COUNTRY_INFO!B107=0,\" \",COUNTRY_INFO!B107)","v":"Cacheu"},{"$f":"IF(COUNTRY_INFO!C107=0,\" \",COUNTRY_INFO!C107)","v":"Bará"},{"$f":"IF(OR(COUNTRY_INFO!$T$9:$T$1000=\"T2 (PZQ)\",COUNTRY_INFO!$U$9:$U$1000=\"T2 (PZQ)\"), \"T2 (PZQ)\", \" \")","v":" "},null,null,null,null,0,null,null,null,0," "," "," "," "]
[{"$f":"IF(COUNTRY_INFO!A108=0,\" \",COUNTRY_INFO!A108)","v":"Guinea Bissau"},{"$f":"IF(COUNTRY_INFO!B108=0,\" \",COUNTRY_INFO!B108)","v":"Cacheu"},{"$f":"IF(COUNTRY_INFO!C108=0,\" \",COUNTRY_INFO!C108)","v":"Barro"},{"$f":"IF(OR(COUNTRY_INFO!$T$9:$T$1000=\"T2 (PZQ)\",COUNTRY_INFO!$U$9:$U$1000=\"T2 (PZQ)\"), \"T2 (PZQ)\", \" \")","v":" "},null,null,null,null,0,null,null,null,0," "," "," "," "]
[{"$f":"IF(COUNTRY_INFO!A109=0,\" \",COUNTRY_INFO!A109)","v":"Guinea Bissau"},{"$f":"IF(COUNTRY_INFO!B109=0,\" \",COUNTRY_INFO!B109)","v":"Cacheu"},{"$f":"IF(COUNTRY_INFO!C109=0,\" \",COUNTRY_INFO!C109)","v":"Batucar"},{"$f":"IF(OR(COUNTRY_INFO!$T$9:$T$1000=\"T2 (PZQ)\",COUNTRY_INFO!$U$9:$U$1000=\"T2 (PZQ)\"), \"T2 (PZQ)\", \" \")","v":" "},null,null,null,null,0,null,null,null,0," "," "," "," "]
[{"$f":"IF(COUNTRY_INFO!A110=0,\" \",COUNTRY_INFO!A110)","v":"Guinea Bissau"},{"$f":"IF(COUNTRY_INFO!B110=0,\" \",COUNTRY_INFO!B110)","v":"Cacheu"},{"$f":"IF(COUNTRY_INFO!C110=0,\" \",COUNTRY_INFO!C110)","v":"Begene"},{"$f":"IF(OR(COUNTRY_INFO!$T$9:$T$1000=\"T2 (PZQ)\",COUNTRY_INFO!$U$9:$U$1000=\"T2 (PZQ)\"), \"T2 (PZQ)\", \" \")","v":" "},null,null,null,null,0,null,null,null,0," "," "," "," "]
[{"$f":"IF(COUNTRY_INFO!A111=0,\" \",COUNTRY_INFO!A111)","v":"Guinea Bissau"},{"$f":"IF(COUNTRY_INFO!B111=0,\" \",COUNTRY_INFO!B111)","v":"Cacheu"},{"$f":"IF(COUNTRY_INFO!C111=0,\" \",COUNTRY_INFO!C111)","v":"Bula"},{"$f":"IF(OR(COUNTRY_INFO!$T$9:$T$1000=\"T2 (PZQ)\",COUNTRY_INFO!$U$9:$U$1000=\"T2 (PZQ)\"), \"T2 (PZQ)\", \" \")","v":" "},null,null,null,null,0,null,null,null,0," "," "," "," "]
[{"$f":"IF(COUNTRY_INFO!A112=0,\" \",COUNTRY_INFO!A112)","v":"Guinea Bissau"},{"$f":"IF(COUNTRY_INFO!B112=0,\" \",COUNTRY_INFO!B112)","v":"Cacheu"},{"$f":"IF(COUNTRY_INFO!C112=0,\" \",COUNTRY_INFO!C112)","v":"Cacheu"},{"$f":"IF(OR(COUNTRY_INFO!$T$9:$T$1000=\"T2 (PZQ)\",COUNTRY_INFO!$U$9:$U$1000=\"T2 (PZQ)\"), \"T2 (PZQ)\", \" \")","v":" "},null,null,null,null,0,null,null,null,0," "," "," "," "]
[{"$f":"IF(COUNTRY_INFO!A113=0,\" \",COUNTRY_INFO!A113)","v":"Guinea Bissau"},{"$f":"IF(COUNTRY_INFO!B113=0,\" \",COUNTRY_INFO!B113)","v":"Cacheu"},{"$f":"IF(COUNTRY_INFO!C113=0,\" \",COUNTRY_INFO!C113)","v":"Caió"},{"$f":"IF(OR(COUNTRY_INFO!$T$9:$T$1000=\"T2 (PZQ)\",COUNTRY_INFO!$U$9:$U$1000=\"T2 (PZQ)\"), \"T2 (PZQ)\", \" \")","v":" "},null,null,null,null,0,null,null,null,0," "," "," "," "]
[{"$f":"IF(COUNTRY_INFO!A114=0,\" \",COUNTRY_INFO!A114)","v":"Guinea Bissau"},{"$f":"IF(COUNTRY_INFO!B114=0,\" \",COUNTRY_INFO!B114)","v":"Cacheu"},{"$f":"IF(COUNTRY_INFO!C114=0,\" \",COUNTRY_INFO!C114)","v":"Calequisse"},{"$f":"IF(OR(COUNTRY_INFO!$T$9:$T$1000=\"T2 (PZQ)\",COUNTRY_INFO!$U$9:$U$1000=\"T2 (PZQ)\"), \"T2 (PZQ)\", \" \")","v":" "},null,null,null,null,0,null,null,null,0," "," "," "," "]
[{"$f":"IF(COUNTRY_INFO!A115=0,\" \",COUNTRY_INFO!A115)","v":"Guinea Bissau"},{"$f":"IF(COUNTRY_INFO!B115=0,\" \",COUNTRY_INFO!B115)","v":"Cacheu"},{"$f":"IF(COUNTRY_INFO!C115=0,\" \",COUNTRY_INFO!C115)","v":"Canchungo"},{"$f":"IF(OR(COUNTRY_INFO!$T$9:$T$1000=\"T2 (PZQ)\",COUNTRY_INFO!$U$9:$U$1000=\"T2 (PZQ)\"), \"T2 (PZQ)\", \" \")","v":" "},null,null,null,null,0,null,null,null,0," "," "," "," "]
[{"$f":"IF(COUNTRY_INFO!A116=0,\" \",COUNTRY_INFO!A116)","v":"Guinea Bissau"},{"$f":"IF(COUNTRY_INFO!B116=0,\" \",COUNTRY_INFO!B116)","v":"Cacheu"},{"$f":"IF(COUNTRY_INFO!C116=0,\" \",COUNTRY_INFO!C116)","v":"Carenque"},{"$f":"IF(OR(COUNTRY_INFO!$T$9:$T$1000=\"T2 (PZQ)\",COUNTRY_INFO!$U$9:$U$1000=\"T2 (PZQ)\"), \"T2 (PZQ)\", \" \")","v":" "},null,null,null,null,0,null,null,null,0," "," "," "," "]
[{"$f":"IF(COUNTRY_INFO!A117=0,\" \",COUNTRY_INFO!A117)","v":"Guinea Bissau"},{"$f":"IF(COUNTRY_INFO!B117=0,\" \",COUNTRY_INFO!B117)","v":"Cacheu"},{"$f":"IF(COUNTRY_INFO!C117=0,\" \",COUNTRY_INFO!C117)","v":"Có"},{"$f":"IF(OR(COUNTRY_INFO!$T$9:$T$1000=\"T2 (PZQ)\",COUNTRY_INFO!$U$9:$U$1000=\"T2 (PZQ)\"), \"T2 (PZQ)\", \" \")","v":" "},null,null,null,null,0,null,null,null,0," "," "," "," "]
[{"$f":"IF(COUNTRY_INFO!A118=0,\" \",COUNTRY_INFO!A118)","v":"Guinea Bissau"},{"$f":"IF(COUNTRY_INFO!B118=0,\" \",COUNTRY_INFO!B118)","v":"Cacheu"},{"$f":"IF(COUNTRY_INFO!C118=0,\" \",COUNTRY_INFO!C118)","v":"Ingoré"},{"$f":"IF(OR(COUNTRY_INFO!$T$9:$T$1000=\"T2 (PZQ)\",COUNTRY_INFO!$U$9:$U$1000=\"T2 (PZQ)\"), \"T2 (PZQ)\", \" \")","v":" "},null,null,null,null,0,null,null,null,0," "," "," "," "]
[{"$f":"IF(COUNTRY_INFO!A119=0,\" \",COUNTRY_INFO!A119)","v":"Guinea Bissau"},{"$f":"IF(COUNTRY_INFO!B119=0,\" \",COUNTRY_INFO!B119)","v":"Cacheu"},{"$f":"IF(COUNTRY_INFO!C119=0,\" \",COUNTRY_INFO!C119)","v":"Jeta"},{"$f":"IF(OR(COUNTRY_INFO!$T$9:$T$1000=\"T2 (PZQ)\",COUNTRY_INFO!$U$9:$U$1000=\"T2 (PZQ)\"), \"T2 (PZQ)\", \" \")","v":" "},null,null,null,null,0,null,null,null,0," "," "," "," "]
[{"$f":"IF(COUNTRY_INFO!A120=0,\" \",COUNTRY_INFO!A120)","v":"Guinea Bissau"},{"$f":"IF(COUNTRY_INFO!B120=0,\" \",COUNTRY_INFO!B120)","v":"Cacheu"},{"$f":"IF(COUNTRY_INFO!C120=0,\" \",COUNTRY_INFO!C120)","v":"Pecixe"},{"$f":"IF(OR(COUNTRY_INFO!$T$9:$T$1000=\"T2 (PZQ)\",COUNTRY_INFO!$U$9:$U$1000=\"T2 (PZQ)\"), \"T2 (PZQ)\", \" \")","v":" "},null,null,null,null,0,null,null,null,0," "," "," "," "]
[{"$f":"IF(COUNTRY_INFO!A121=0,\" \",COUNTRY_INFO!A121)","v":"Guinea Bissau"},{"$f":"IF(COUNTRY_INFO!B121=0,\" \",COUNTRY_INFO!B121)","v":"Cacheu"},{"$f":"IF(COUNTRY_INFO!C121=0,\" \",COUNTRY_INFO!C121)","v":"Pelundo"},{"$f":"IF(OR(COUNTRY_INFO!$T$9:$T$1000=\"T2 (PZQ)\",COUNTRY_INFO!$U$9:$U$1000=\"T2 (PZQ)\"), \"T2 (PZQ)\", \" \")","v":" "},null,null,null,null,0,null,null,null,0," "," "," "," "]
[{"$f":"IF(COUNTRY_INFO!A122=0,\" \",COUNTRY_INFO!A122)","v":"Guinea Bissau"},{"$f":"IF(COUNTRY_INFO!B122=0,\" \",COUNTRY_INFO!B122)","v":"Cacheu"},{"$f":"IF(COUNTRY_INFO!C122=0,\" \",COUNTRY_INFO!C122)","v":"S.Domingos"},{"$f":"IF(OR(COUNTRY_INFO!$T$9:$T$1000=\"T2 (PZQ)\",COUNTRY_INFO!$U$9:$U$1000=\"T2 (PZQ)\"), \"T2 (PZQ)\", \" \")","v":" "},null,null,null,null,0,null,null,null,0," "," "," "," "]
[{"$f":"IF(COUNTRY_INFO!A123=0,\" \",COUNTRY_INFO!A123)","v":"Guinea Bissau"},{"$f":"IF(COUNTRY_INFO!B123=0,\" \",COUNTRY_INFO!B123)","v":"Cacheu"},{"$f":"IF(COUNTRY_INFO!C123=0,\" \",COUNTRY_INFO!C123)","v":"Sedengal"},{"$f":"IF(OR(COUNTRY_INFO!$T$9:$T$1000=\"T2 (PZQ)\",COUNTRY_INFO!$U$9:$U$1000=\"T2 (PZQ)\"), \"T2 (PZQ)\", \" \")","v":" "},null,null,null,null,0,null,null,null,0," "," "," "," "]
[{"$f":"IF(COUNTRY_INFO!A124=0,\" \",COUNTRY_INFO!A124)","v":"Guinea Bissau"},{"$f":"IF(COUNTRY_INFO!B124=0,\" \",COUNTRY_INFO!B124)","v":"Cacheu"},{"$f":"IF(COUNTRY_INFO!C124=0,\" \",COUNTRY_INFO!C124)","v":"Suzana"},{"$f":"IF(OR(COUNTRY_INFO!$T$9:$T$1000=\"T2 (PZQ)\",COUNTRY_INFO!$U$9:$U$1000=\"T2 (PZQ)\"), \"T2 (PZQ)\", \" \")","v":" "},null,null,null,null,0,null,null,null,0," "," "," "," "]
[{"$f":"IF(COUNTRY_INFO!A125=0,\" \",COUNTRY_INFO!A125)","v":"Guinea Bissau"},{"$f":"IF(COUNTRY_INFO!B125=0,\" \",COUNTRY_INFO!B125)","v":"Cacheu"},{"$f":"IF(COUNTRY_INFO!C125=0,\" \",COUNTRY_INFO!C125)","v":"Varela"},{"$f":"IF(OR(COUNTRY_INFO!$T$9:$T$1000=\"T2 (PZQ)\",COUNTRY_INFO!$U$9:$U$1000=\"T2 (PZQ)\"), \"T2 (PZQ)\", \" \")","v":" "},null,null,null,null,0,null,null,null,0," "," "," "," "]

{"sheet":"T3_R1","index":7,"n_rows":125,"n_cols":18,"rows_kept":125,"cut":false,"hidden":false,"merged":[[5,6,5,9],[5,10,5,13],[5,14,5,17],[3,0,3,2],[5,0,5,2],[5,3,6,3],[5,5,6,5],[5,4,6,4]]}
["T 3 - Albendazole (ALB) ou Mebendazole (MBD) - Tournée 1"]
["Structure administrative, population nécessitant une chimioprévention par groupe d'âge, population traitée par groupe d'âge et couverture"]
[]
["TOTAL",null,null,null,null,null,{"$f":"SUM(G$9:G$1000)","v":0},32476,0,32476,0,29430,0,29430,{"$f":"IF(G4<>0, IF(K4/G4*100=0, \"-\", K4/G4*100), \" \")","v":" "},{"$f":"IF(H4<>0, IF(L4/H4*100=0, \"-\", L4/H4*100), \" \")","v":90.62076610420003},{"$f":"IF(I4<>0, IF(M4/I4*100=0, \"-\", M4/I4*100), \" \")","v":" "},{"$f":"IF(J4<>0, IF(N4/J4*100=0, \"-\", N4/J4*100), \" \")","v":90.62076610420003}]
[]
["Structure administrative du pays",null,null,"Mise en oeuvre \nde la CP","Médica-ment","Date","Population ciblée pour T3",null,null,null,"Population traitée",null,null,null,"Couverture du Programme (%)"]
["Pays","Région/Département","District",null,null,null,"EAPréS","EAS","Adultes","Total","EAPréS","EAS","Adultes","Total","EAPréS","EAS","Adultes","Total"]
[]
[{"$f":"IF(COUNTRY_INFO!A9=0,\" \",COUNTRY_INFO!A9)","v":"Guinea Bissau"},{"$f":"IF(COUNTRY_INFO!B9=0,\" \",COUNTRY_INFO!B9)","v":"SAB"},{"$f":"IF(COUNTRY_INFO!C9=0,\" \",COUNTRY_INFO!C9)","v":"AJUDA"},{"$f":"IF(OR(COUNTRY_INFO!$T$9:$T$1000=\"T3 (ALB/MBD)\",COUNTRY_INFO!$U$9:$U$1000=\"T3 (ALB/MBD)\"), \"T3 (ALB/MBD)\", \" \")","v":" "},null,null,null,null,null,{"$f":"SUM(G9:I9)","v":0},null,null,null,{"$f":"SUM(K9:M9)","v":0},{"$f":"IF(G9<>0, IF(K9/G9*100=0, \"-\", K9/G9*100), \" \")","v":" "}," "," "," "]
[{"$f":"IF(COUNTRY_INFO!A10=0,\" \",COUNTRY_INFO!A10)","v":"Guinea Bissau"},{"$f":"IF(COUNTRY_INFO!B10=0,\" \",COUNTRY_INFO!B10)","v":"SAB"},{"$f":"IF(COUNTRY_INFO!C10=0,\" \",COUNTRY_INFO!C10)","v":"ANTULA"},{"$f":"IF(OR(COUNTRY_INFO!$T$9:$T$1000=\"T3 (ALB/MBD)\",COUNTRY_INFO!$U$9:$U$1000=\"T3 (ALB/MBD)\"), \"T3 (ALB/MBD)\", \" \")","v":" "},null,null,null,null,null,{"$f":"SUM(G10:I10)","v":0},null,null,null,{"$f":"SUM(K10:M10)","v":0},{"$f":"IF(G10<>0, IF(K10/G10*100=0, \"-\", K10/G10*100), \" \")","v":" "},{"$f":"IF(H10<>0, IF(L10/H10*100=0, \"-\", L10/H10*100), \" \")","v":" "},{"$f":"IF(I10<>0, IF(M10/I10*100=0, \"-\", M10/I10*100), \" \")","v":" "},{"$f":"IF(J10<>0, IF(N10/J10*100=0, \"-\", N10/J10*100), \" \")","v":" "}]
[{"$f":"IF(COUNTRY_INFO!A11=0,\" \",COUNTRY_INFO!A11)","v":"Guinea Bissau"},{"$f":"IF(COUNTRY_INFO!B11=0,\" \",COUNTRY_INFO!B11)","v":"SAB"},{"$f":"IF(COUNTRY_INFO!C11=0,\" \",COUNTRY_INFO!C11)","v":"B. MILITAR"},{"$f":"IF(OR(COUNTRY_INFO!$T$9:$T$1000=\"T3 (ALB/MBD)\",COUNTRY_INFO!$U$9:$U$1000=\"T3 (ALB/MBD)\"), \"T3 (ALB/MBD)\", \" \")","v":" "},null,null,null,null,null,0,null,null,null,0," "," "," "," "]
[{"$f":"IF(COUNTRY_INFO!A12=0,\" \",COUNTRY_INFO!A12)","v":"Guinea Bissau"},{"$f":"IF(COUNTRY_INFO!B12=0,\" \",COUNTRY_INFO!B12)","v":"SAB"},{"$f":"IF(COUNTRY_INFO!C12=0,\" \",COUNTRY_INFO!C12)","v":"BANDIM"},{"$f":"IF(OR(COUNTRY_INFO!$T$9:$T$1000=\"T3 (ALB/MBD)\",COUNTRY_INFO!$U$9:$U$1000=\"T3 (ALB/MBD)\"), \"T3 (ALB/MBD)\", \" \")","v":" "},null,null,null,null,null,0,null,null,null,0," "," "," "," "]
[{"$f":"IF(COUNTRY_INFO!A13=0,\" \",COUNTRY_INFO!A13)","v":"Guinea Bissau"},{"$f":"IF(COUNTRY_INFO!B13=0,\" \",COUNTRY_INFO!B13)","v":"SAB"},{"$f":"IF(COUNTRY_INFO!C13=0,\" \",COUNTRY_INFO!C13)","v":"BELEM"},{"$f":"IF(OR(COUNTRY_INFO!$T$9:$T$1000=\"T3 (ALB/MBD)\",COUNTRY_INFO!$U$9:$U$1000=\"T3 (ALB/MBD)\"), \"T3 (ALB/MBD)\", \" \")","v":" "},null,null,null,null,null,0,null,null,null,0," "," "," "," "]
[{"$f":"IF(COUNTRY_INFO!A14=0,\" \",COUNTRY_INFO!A14)","v":"Guinea Bissau"},{"$f":"IF(COUNTRY_INFO!B14=0,\" \",COUNTRY_INFO!B14)","v":"SAB"},{"$f":"IF(COUNTRY_INFO!C14=0,\" \",COUNTRY_INFO!C14)","v":"CMI"},{"$f":"IF(OR(COUNTRY_INFO!$T$9:$T$1000=\"T3 (ALB/MBD)\",COUNTRY_INFO!$U$9:$U$1000=\"T3 (ALB/MBD)\"), \"T3 (ALB/MBD)\", \" \")","v":" "},null,null,null,null,null,0,null,null,null,0," "," "," "," "]
[{"$f":"IF(COUNTRY_INFO!A15=0,\" \",COUNTRY_INFO!A15)","v":"Guinea Bissau"},{"$f":"IF(COUNTRY_INFO!B15=0,\" \",COUNTRY_INFO!B15)","v":"SAB"},{"$f":"IF(COUNTRY_INFO!C15=0,\" \",COUNTRY_INFO!C15)","v":"CUNTUM"},{"$f":"IF(OR(COUNTRY_INFO!$T$9:$T$1000=\"T3 (ALB/MBD)\",COUNTRY_INFO!$U$9:$U$1000=\"T3 (ALB/MBD)\"), \"T3 (ALB/MBD)\", \" \")","v":" "},null,null,null,null,null,0,null,null,null,0," "," "," "," "]
[{"$f":"IF(COUNTRY_INFO!A16=0,\" \",COUNTRY_INFO!A16)","v":"Guinea Bissau"},{"$f":"IF(COUNTRY_INFO!B16=0,\" \",COUNTRY_INFO!B16)","v":"SAB"},{"$f":"IF(COUNTRY_INFO!C16=0,\" \",COUNTRY_INFO!C16)","v":"LUANDA"},{"$f":"IF(OR(COUNTRY_INFO!$T$9:$T$1000=\"T3 (ALB/MBD)\",COUNTRY_INFO!$U$9:$U$1000=\"T3 (ALB/MBD)\"), \"T3 (ALB/MBD)\", \" \")","v":" "},null,null,null,null,null,0,null,null,null,0," "," "," "," "]
[{"$f":"IF(COUNTRY_INFO!A17=0,\" \",COUNTRY_INFO!A17)","v":"Guinea Bissau"},{"$f":"IF(COUNTRY_INFO!B17=0,\" \",COUNTRY_INFO!B17)","v":"SAB"},{"$f":"IF(COUNTRY_INFO!C17=0,\" \",COUNTRY_INFO!C17)","v":"MISSIRA"},{"$f":"IF(OR(COUNTRY_INFO!$T$9:$T$1000=\"T3 (ALB/MBD)\",COUNTRY_INFO!$U$9:$U$1000=\"T3 (ALB/MBD)\"), \"T3 (ALB/MBD)\", \" \")","v":" "},null,null,null,null,null,0,null,null,null,0," "," "," "," "]
[{"$f":"IF(COUNTRY_INFO!A18=0,\" \",COUNTRY_INFO!A18)","v":"Guinea Bissau"},{"$f":"IF(COUNTRY_INFO!B18=0,\" \",COUNTRY_INFO!B18)","v":"SAB"},{"$f":"IF(COUNTRY_INFO!C18=0,\" \",COUNTRY_INFO!C18)","v":"PEFINE"},{"$f":"IF(OR(COUNTRY_INFO!$T$9:$T$1000=\"T3 (ALB/MBD)\",COUNTRY_INFO!$U$9:$U$1000=\"T3 (ALB/MBD)\"), \"T3 (ALB/MBD)\", \" \")","v":" "},null,null,null,null,null,0,null,null,null,0," "," "," "," "]
[{"$f":"IF(COUNTRY_INFO!A19=0,\" \",COUNTRY_INFO!A19)","v":"Guinea Bissau"},{"$f":"IF(COUNTRY_INFO!B19=0,\" \",COUNTRY_INFO!B19)","v":"SAB"},{"$f":"IF(COUNTRY_INFO!C19=0,\" \",COUNTRY_INFO!C19)","v":"PLACK II"},{"$f":"IF(OR(COUNTRY_INFO!$T$9:$T$1000=\"T3 (ALB/MBD)\",COUNTRY_INFO!$U$9:$U$1000=\"T3 (ALB/MBD)\"), \"T3 (ALB/MBD)\", \" \")","v":" "},null,null,null,null,null,0,null,null,null,0," "," "," "," "]
[{"$f":"IF(COUNTRY_INFO!A20=0,\" \",COUNTRY_INFO!A20)","v":"Guinea Bissau"},{"$f":"IF(COUNTRY_INFO!B20=0,\" \",COUNTRY_INFO!B20)","v":"SAB"},{"$f":"IF(COUNTRY_INFO!C20=0,\" \",COUNTRY_INFO!C20)","v":"QUELELE"},{"$f":"IF(OR(COUNTRY_INFO!$T$9:$T$1000=\"T3 (ALB/MBD)\",COUNTRY_INFO!$U$9:$U$1000=\"T3 (ALB/MBD)\"), \"T3 (ALB/MBD)\", \" \")","v":" "},null,null,null,null,null,0,null,null,null,0," "," "," "," "]
[{"$f":"IF(COUNTRY_INFO!A21=0,\" \",COUNTRY_INFO!A21)","v":"Guinea Bissau"},{"$f":"IF(COUNTRY_INFO!B21=0,\" \",COUNTRY_INFO!B21)","v":"SAB"},{"$f":"IF(COUNTRY_INFO!C21=0,\" \",COUNTRY_INFO!C21)","v":"SANTA LUZIA"},{"$f":"IF(OR(COUNTRY_INFO!$T$9:$T$1000=\"T3 (ALB/MBD)\",COUNTRY_INFO!$U$9:$U$1000=\"T3 (ALB/MBD)\"), \"T3 (ALB/MBD)\", \" \")","v":" "},null,null,null,null,null,0,null,null,null,0," "," "," "," "]
[{"$f":"IF(COUNTRY_INFO!A22=0,\" \",COUNTRY_INFO!A22)","v":"Guinea Bissau"},{"$f":"IF(COUNTRY_INFO!B22=0,\" \",COUNTRY_INFO!B22)","v":"SAB"},{"$f":"IF(COUNTRY_INFO!C22=0,\" \",COUNTRY_INFO!C22)","v":"SINTRA NEMA"},{"$f":"IF(OR(COUNTRY_INFO!$T$9:$T$1000=\"T3 (ALB/MBD)\",COUNTRY_INFO!$U$9:$U$1000=\"T3 (ALB/MBD)\"), \"T3 (ALB/MBD)\", \" \")","v":" "},null,null,null,null,null,0,null,null,null,0," "," "," "," "]
[{"$f":"IF(COUNTRY_INFO!A23=0,\" \",COUNTRY_INFO!A23)","v":"Guinea Bissau"},{"$f":"IF(COUNTRY_INFO!B23=0,\" \",COUNTRY_INFO!B23)","v":"Bijagos"},{"$f":"IF(COUNTRY_INFO!C23=0,\" \",COUNTRY_INFO!C23)","v":"Bubaque"},{"$f":"IF(OR(COUNTRY_INFO!$T$9:$T$1000=\"T3 (ALB/MBD)\",COUNTRY_INFO!$U$9:$U$1000=\"T3 (ALB/MBD)\"), \"T3 (ALB/MBD)\", \" \")","v":" "},null,null,null,null,null,0,null,null,null,0," "," "," "," "]
[{"$f":"IF(COUNTRY_INFO!A24=0,\" \",COUNTRY_INFO!A24)","v":"Guinea Bissau"},{"$f":"IF(COUNTRY_INFO!B24=0,\" \",COUNTRY_INFO!B24)","v":"Bijagos"},{"$f":"IF(COUNTRY_INFO!C24=0,\" \",COUNTRY_INFO!C24)","v":"Canhabaque"},{"$f":"IF(OR(COUNTRY_INFO!$T$9:$T$1000=\"T3 (ALB/MBD)\",COUNTRY_INFO!$U$9:$U$1000=\"T3 (ALB/MBD)\"), \"T3 (ALB/MBD)\", \" \")","v":" "},null,null,null,null,null,0,null,null,null,0," "," "," "," "]
[{"$f":"IF(COUNTRY_INFO!A25=0,\" \",COUNTRY_INFO!A25)","v":"Guinea Bissau"},{"$f":"IF(COUNTRY_INFO!B25=0,\" \",COUNTRY_INFO!B25)","v":"Bijagos"},{"$f":"IF(COUNTRY_INFO!C25=0,\" \",COUNTRY_INFO!C25)","v":"Canogo"},{"$f":"IF(OR(COUNTRY_INFO!$T$9:$T$1000=\"T3 (ALB/MBD)\",COUNTRY_INFO!$U$9:$U$1000=\"T3 (ALB/MBD)\"), \"T3 (ALB/MBD)\", \" \")","v":" "},null,null,null,null,null,0,null,null,null,0," "," "," "," "]
[{"$f":"IF(COUNTRY_INFO!A26=0,\" \",COUNTRY_INFO!A26)","v":"Guinea Bissau"},{"$f":"IF(COUNTRY_INFO!B26=0,\" \",COUNTRY_INFO!B26)","v":"Bijagos"},{"$f":"IF(COUNTRY_INFO!C26=0,\" \",COUNTRY_INFO!C26)","v":"Caravela"},{"$f":"IF(OR(COUNTRY_INFO!$T$9:$T$1000=\"T3 (ALB/MBD)\",COUNTRY_INFO!$U$9:$U$1000=\"T3 (ALB/MBD)\"), \"T3 (ALB/MBD)\", \" \")","v":" "},null,null,null,null,null,0,null,null,null,0," "," "," "," "]
[{"$f":"IF(COUNTRY_INFO!A27=0,\" \",COUNTRY_INFO!A27)","v":"Guinea Bissau"},{"$f":"IF(COUNTRY_INFO!B27=0,\" \",COUNTRY_INFO!B27)","v":"Bijagos"},{"$f":"IF(COUNTRY_INFO!C27=0,\" \",COUNTRY_INFO!C27)","v":"Formosa"},{"$f":"IF(OR(COUNTRY_INFO!$T$9:$T$1000=\"T3 (ALB/MBD)\",COUNTRY_INFO!$U$9:$U$1000=\"T3 (ALB/MBD)\"), \"T3 (ALB/MBD)\", \" \")","v":" "},null,null,null,null,null,0,null,null,null,0," "," "," "," "]
[{"$f":"IF(COUNTRY_INFO!A28=0,\" \",COUNTRY_INFO!A28)","v":"Guinea Bissau"},{"$f":"IF(COUNTRY_INFO!B28=0,\" \",COUNTRY_INFO!B28)","v":"Bijagos"},{"$f":"IF(COUNTRY_INFO!C28=0,\" \",COUNTRY_INFO!C28)","v":"Orango Grande"},{"$f":"IF(OR(COUNTRY_INFO!$T$9:$T$1000=\"T3 (ALB/MBD)\",COUNTRY_INFO!$U$9:$U$1000=\"T3 (ALB/MBD)\"), \"T3 (ALB/MBD)\", \" \")","v":" "},null,null,null,null,null,0,null,null,null,0," "," "," "," "]
[{"$f":"IF(COUNTRY_INFO!A29=0,\" \",COUNTRY_INFO!A29)","v":"Guinea Bissau"},{"$f":"IF(COUNTRY_INFO!B29=0,\" \",COUNTRY_INFO!B29)","v":"Bijagos"},{"$f":"IF(COUNTRY_INFO!C29=0,\" \",COUNTRY_INFO!C29)","v":"Orango zinho"},{"$f":"IF(OR(COUNTRY_INFO!$T$9:$T$1000=\"T3 (ALB/MBD)\",COUNTRY_INFO!$U$9:$U$1000=\"T3 (ALB/MBD)\"), \"T3 (ALB/MBD)\", \" \")","v":" "},null,null,null,null,null,0,null,null,null,0," "," "," "," "]
[{"$f":"IF(COUNTRY_INFO!A30=0,\" \",COUNTRY_INFO!A30)","v":"Guinea Bissau"},{"$f":"IF(COUNTRY_INFO!B30=0,\" \",COUNTRY_INFO!B30)","v":"Bijagos"},{"$f":"IF(COUNTRY_INFO!C30=0,\" \",COUNTRY_INFO!C30)","v":"Soga"},{"$f":"IF(OR(COUNTRY_INFO!$T$9:$T$1000=\"T3 (ALB/MBD)\",COUNTRY_INFO!$U$9:$U$1000=\"T3 (ALB/MBD)\"), \"T3 (ALB/MBD)\", \" \")","v":" "},null,null,null,null,null,0,null,null,null,0," "," "," "," "]
[{"$f":"IF(COUNTRY_INFO!A31=0,\" \",COUNTRY_INFO!A31)","v":"Guinea Bissau"},{"$f":"IF(COUNTRY_INFO!B31=0,\" \",COUNTRY_INFO!B31)","v":"Bijagos"},{"$f":"IF(COUNTRY_INFO!C31=0,\" \",COUNTRY_INFO!C31)","v":"Unhocomo"},{"$f":"IF(OR(COUNTRY_INFO!$T$9:$T$1000=\"T3 (ALB/MBD)\",COUNTRY_INFO!$U$9:$U$1000=\"T3 (ALB/MBD)\"), \"T3 (ALB/MBD)\", \" \")","v":" "},null,null,null,null,null,0,null,null,null,0," "," "," "," "]
[{"$f":"IF(COUNTRY_INFO!A32=0,\" \",COUNTRY_INFO!A32)","v":"Guinea Bissau"},{"$f":"IF(COUNTRY_INFO!B32=0,\" \",COUNTRY_INFO!B32)","v":"Bijagos"},{"$f":"IF(COUNTRY_INFO!C32=0,\" \",COUNTRY_INFO!C32)","v":"Uno"},{"$f":"IF(OR(COUNTRY_INFO!$T$9:$T$1000=\"T3 (ALB/MBD)\",COUNTRY_INFO!$U$9:$U$1000=\"T3 (ALB/MBD)\"), \"T3 (ALB/MBD)\", \" \")","v":" "},null,null,null,null,null,0,null,null,null,0," "," "," "," "]
[{"$f":"IF(COUNTRY_INFO!A33=0,\" \",COUNTRY_INFO!A33)","v":"Guinea Bissau"},{"$f":"IF(COUNTRY_INFO!B33=0,\" \",COUNTRY_INFO!B33)","v":"Bijagos"},{"$f":"IF(COUNTRY_INFO!C33=0,\" \",COUNTRY_INFO!C33)","v":"Uracane"},{"$f":"IF(OR(COUNTRY_INFO!$T$9:$T$1000=\"T3 (ALB/MBD)\",COUNTRY_INFO!$U$9:$U$1000=\"T3 (ALB/MBD)\"), \"T3 (ALB/MBD)\", \" \")","v":" "},null,null,null,null,null,0,null,null,null,0," "," "," "," "]
[{"$f":"IF(COUNTRY_INFO!A34=0,\" \",COUNTRY_INFO!A34)","v":"Guinea Bissau"},{"$f":"IF(COUNTRY_INFO!B34=0,\" \",COUNTRY_INFO!B34)","v":"Biombo"},{"$f":"IF(COUNTRY_INFO!C34=0,\" \",COUNTRY_INFO!C34)","v":"BIJIMITA"},{"$f":"IF(OR(COUNTRY_INFO!$T$9:$T$1000=\"T3 (ALB/MBD)\",COUNTRY_INFO!$U$9:$U$1000=\"T3 (ALB/MBD)\"), \"T3 (ALB/MBD)\", \" \")","v":" "},null,null,null,null,null,0,null,null,null,0," "," "," "," "]
[{"$f":"IF(COUNTRY_INFO!A35=0,\" \",COUNTRY_INFO!A35)","v":"Guinea Bissau"},{"$f":"IF(COUNTRY_INFO!B35=0,\" \",COUNTRY_INFO!B35)","v":"Biombo"},{"$f":"IF(COUNTRY_INFO!C35=0,\" \",COUNTRY_INFO!C35)","v":"CUMURA"},{"$f":"IF(OR(COUNTRY_INFO!$T$9:$T$1000=\"T3 (ALB/MBD)\",COUNTRY_INFO!$U$9:$U$1000=\"T3 (ALB/MBD)\"), \"T3 (ALB/MBD)\", \" \")","v":" "},null,null,null,null,null,0,null,null,null,0," "," "," "," "]
[{"$f":"IF(COUNTRY_INFO!A36=0,\" \",COUNTRY_INFO!A36)","v":"Guinea Bissau"},{"$f":"IF(COUNTRY_INFO!B36=0,\" \",COUNTRY_INFO!B36)","v":"Biombo"},{"$f":"IF(COUNTRY_INFO!C36=0,\" \",COUNTRY_INFO!C36)","v":"DORSE"},{"$f":"IF(OR(COUNTRY_INFO!$T$9:$T$1000=\"T3 (ALB/MBD)\",COUNTRY_INFO!$U$9:$U$1000=\"T3 (ALB/MBD)\"), \"T3 (ALB/MBD)\", \" \")","v":" "},null,null,null,null,null,0,null,null,null,0," "," "," "," "]
[{"$f":"IF(COUNTRY_INFO!A37=0,\" \",COUNTRY_INFO!A37)","v":"Guinea Bissau"},{"$f":"IF(COUNTRY_INFO!B37=0,\" \",COUNTRY_INFO!B37)","v":"Biombo"},{"$f":"IF(COUNTRY_INFO!C37=0,\" \",COUNTRY_INFO!C37)","v":"ILONDE"},{"$f":"IF(OR(COUNTRY_INFO!$T$9:$T$1000=\"T3 (ALB/MBD)\",COUNTRY_INFO!$U$9:$U$1000=\"T3 (ALB/MBD)\"), \"T3 (ALB/MBD)\", \" \")","v":" "},null,null,null,null,null,0,null,null,null,0," "," "," "," "]
[{"$f":"IF(COUNTRY_INFO!A38=0,\" \",COUNTRY_INFO!A38)","v":"Guinea Bissau"},{"$f":"IF(COUNTRY_INFO!B38=0,\" \",COUNTRY_INFO!B38)","v":"Biombo"},{"$f":"IF(COUNTRY_INFO!C38=0,\" \",COUNTRY_INFO!C38)","v":"ONDAME"},{"$f":"IF(OR(COUNTRY_INFO!$T$9:$T$1000=\"T3 (ALB/MBD)\",COUNTRY_INFO!$U$9:$U$1000=\"T3 (ALB/MBD)\"), \"T3 (ALB/MBD)\", \" \")","v":" "},null,null,null,null,null,0,null,null,null,0," "," "," "," "]
[{"$f":"IF(COUNTRY_INFO!A39=0,\" \",COUNTRY_INFO!A39)","v":"Guinea Bissau"},{"$f":"IF(COUNTRY_INFO!B39=0,\" \",COUNTRY_INFO!B39)","v":"Biombo"},{"$f":"IF(COUNTRY_INFO!C39=0,\" \",COUNTRY_INFO!C39)","v":"PRABIS"},{"$f":"IF(OR(COUNTRY_INFO!$T$9:$T$1000=\"T3 (ALB/MBD)\",COUNTRY_INFO!$U$9:$U$1000=\"T3 (ALB/MBD)\"), \"T3 (ALB/MBD)\", \" \")","v":" "},null,null,null,null,null,0,null,null,null,0," "," "," "," "]
[{"$f":"IF(COUNTRY_INFO!A40=0,\" \",COUNTRY_INFO!A40)","v":"Guinea Bissau"},{"$f":"IF(COUNTRY_INFO!B40=0,\" \",COUNTRY_INFO!B40)","v":"Biombo"},{"$f":"IF(COUNTRY_INFO!C40=0,\" \",COUNTRY_INFO!C40)","v":"QUINHAMEL"},{"$f":"IF(OR(COUNTRY_INFO!$T$9:$T$1000=\"T3 (ALB/MBD)\",COUNTRY_INFO!$U$9:$U$1000=\"T3 (ALB/MBD)\"), \"T3 (ALB/MBD)\", \" \")","v":" "},null,null,null,null,null,0,null,null,null,0," "," "," "," "]
[{"$f":"IF(COUNTRY_INFO!A41=0,\" \",COUNTRY_INFO!A41)","v":"Guinea Bissau"},{"$f":"IF(COUNTRY_INFO!B41=0,\" \",COUNTRY_INFO!B41)","v":"Biombo"},{"$f":"IF(COUNTRY_INFO!C41=0,\" \",COUNTRY_INFO!C41)","v":"SAFIM"},{"$f":"IF(OR(COUNTRY_INFO!$T$9:$T$1000=\"T3 (ALB/MBD)\",COUNTRY_INFO!$U$9:$U$1000=\"T3 (ALB/MBD)\"), \"T3 (ALB/MBD)\", \" \")","v":" "},null,null,null,null,null,0,null,null,null,0," "," "," "," "]
[{"$f":"IF(COUNTRY_INFO!A42=0,\" \",COUNTRY_INFO!A42)","v":"Guinea Bissau"},{"$f":"IF(COUNTRY_INFO!B42=0,\" \",COUNTRY_INFO!B42)","v":"Farim"},{"$f":"IF(COUNTRY_INFO!C42=0,\" \",COUNTRY_INFO!C42)","v":"BINTA"},{"$f":"IF(OR(COUNTRY_INFO!$T$9:$T$1000=\"T3 (ALB/MBD)\",COUNTRY_INFO!$U$9:$U$1000=\"T3 (ALB/MBD)\"), \"T3 (ALB/MBD)\", \" \")","v":" "},null,null,null,null,null,0,null,null,null,0," "," "," "," "]
[{"$f":"IF(COUNTRY_INFO!A43=0,\" \",COUNTRY_INFO!A43)","v":"Guinea Bissau"},{"$f":"IF(COUNTRY_INFO!B43=0,\" \",COUNTRY_INFO!B43)","v":"Farim"},{"$f":"IF(COUNTRY_INFO!C43=0,\" \",COUNTRY_INFO!C43)","v":"CANDJAMBARI"},{"$f":"IF(OR(COUNTRY_INFO!$T$9:$T$1000=\"T3 (ALB/MBD)\",COUNTRY_INFO!$U$9:$U$1000=\"T3 (ALB/MBD)\"), \"T3 (ALB/MBD)\", \" \")","v":" "},null,null,null,null,null,0,null,null,null,0," "," "," "," "]
[{"$f":"IF(COUNTRY_INFO!A44=0,\" \",COUNTRY_INFO!A44)","v":"Guinea Bissau"},{"$f":"IF(COUNTRY_INFO!B44=0,\" \",COUNTRY_INFO!B44)","v":"Farim"},{"$f":"IF(COUNTRY_INFO!C44=0,\" \",COUNTRY_INFO!C44)","v":"CUNTIMA"},{"$f":"IF(OR(COUNTRY_INFO!$T$9:$T$1000=\"T3 (ALB/MBD)\",COUNTRY_INFO!$U$9:$U$1000=\"T3 (ALB/MBD)\"), \"T3 (ALB/MBD)\", \" \")","v":" "},null,null,null,null,null,0,null,null,null,0," "," "," "," "]
[{"$f":"IF(COUNTRY_INFO!A45=0,\" \",COUNTRY_INFO!A45)","v":"Guinea Bissau"},{"$f":"IF(COUNTRY_INFO!B45=0,\" \",COUNTRY_INFO!B45)","v":"Farim"},{"$f":"IF(COUNTRY_INFO!C45=0,\" \",COUNTRY_INFO!C45)","v":"FARIM"},{"$f":"IF(OR(COUNTRY_INFO!$T$9:$T$1000=\"T3 (ALB/MBD)\",COUNTRY_INFO!$U$9:$U$1000=\"T3 (ALB/MBD)\"), \"T3 (ALB/MBD)\", \" \")","v":" "},null,null,null,null,null,0,null,null,null,0," "," "," "," "]
[{"$f":"IF(COUNTRY_INFO!A46=0,\" \",COUNTRY_INFO!A46)","v":"Guinea Bissau"},{"$f":"IF(COUNTRY_INFO!B46=0,\" \",COUNTRY_INFO!B46)","v":"Farim"},{"$f":"IF(COUNTRY_INFO!C46=0,\" \",COUNTRY_INFO!C46)","v":"GUIDAGE"},{"$f":"IF(OR(COUNTRY_INFO!$T$9:$T$1000=\"T3 (ALB/MBD)\",COUNTRY_INFO!$U$9:$U$1000=\"T3 (ALB/MBD)\"), \"T3 (ALB/MBD)\", \" \")","v":" "},null,null,null,null,null,0,null,null,null,0," "," "," "," "]
[{"$f":"IF(COUNTRY_INFO!A47=0,\" \",COUNTRY_INFO!A47)","v":"Guinea Bissau"},{"$f":"IF(COUNTRY_INFO!B47=0,\" \",COUNTRY_INFO!B47)","v":"Oio"},{"$f":"IF(COUNTRY_INFO!C47=0,\" \",COUNTRY_INFO!C47)","v":"BINAR"},{"$f":"IF(OR(COUNTRY_INFO!$T$9:$T$1000=\"T3 (ALB/MBD)\",COUNTRY_INFO!$U$9:$U$1000=\"T3 (ALB/MBD)\"), \"T3 (ALB/MBD)\", \" \")","v":" "},null,null,null,null,null,0,null,null,null,0," "," "," "," "]
[{"$f":"IF(COUNTRY_INFO!A48=0,\" \",COUNTRY_INFO!A48)","v":"Guinea Bissau"},{"$f":"IF(COUNTRY_INFO!B48=0,\" \",COUNTRY_INFO!B48)","v":"Oio"},{"$f":"IF(COUNTRY_INFO!C48=0,\" \",COUNTRY_INFO!C48)","v":"BISSORA"},{"$f":"IF(OR(COUNTRY_INFO!$T$9:$T$1000=\"T3 (ALB/MBD)\",COUNTRY_INFO!$U$9:$U$1000=\"T3 (ALB/MBD)\"), \"T3 (ALB/MBD)\", \" \")","v":" "},null,null,null,null,null,0,null,null,null,0," "," "," "," "]
[{"$f":"IF(COUNTRY_INFO!A49=0,\" \",COUNTRY_INFO!A49)","v":"Guinea Bissau"},{"$f":"IF(COUNTRY_INFO!B49=0,\" \",COUNTRY_INFO!B49)","v":"Oio"},{"$f":"IF(COUNTRY_INFO!C49=0,\" \",COUNTRY_INFO!C49)","v":"ENCHEIA"},{"$f":"IF(OR(COUNTRY_INFO!$T$9:$T$1000=\"T3 (ALB/MBD)\",COUNTRY_INFO!$U$9:$U$1000=\"T3 (ALB/MBD)\"), \"T3 (ALB/MBD)\", \" \")","v":" "},null,null,null,null,null,0,null,null,null,0," "," "," "," "]
[{"$f":"IF(COUNTRY_INFO!A50=0,\" \",COUNTRY_INFO!A50)","v":"Guinea Bissau"},{"$f":"IF(COUNTRY_INFO!B50=0,\" \",COUNTRY_INFO!B50)","v":"Oio"},{"$f":"IF(COUNTRY_INFO!C50=0,\" \",COUNTRY_INFO!C50)","v":"GÃ-MAMUDO"},{"$f":"IF(OR(COUNTRY_INFO!$T$9:$T$1000=\"T3 (ALB/MBD)\",COUNTRY_INFO!$U$9:$U$1000=\"T3 (ALB/MBD)\"), \"T3 (ALB/MBD)\", \" \")","v":" "},null,null,null,null,null,0,null,null,null,0," "," "," "," "]
[{"$f":"IF(COUNTRY_INFO!A51=0,\" \",COUNTRY_INFO!A51)","v":"Guinea Bissau"},{"$f":"IF(COUNTRY_INFO!B51=0,\" \",COUNTRY_INFO!B51)","v":"Oio"},{"$f":"IF(COUNTRY_INFO!C51=0,\" \",COUNTRY_INFO!C51)","v":"MANSABA"},{"$f":"IF(OR(COUNTRY_INFO!$T$9:$T$1000=\"T3 (ALB/MBD)\",COUNTRY_INFO!$U$9:$U$1000=\"T3 (ALB/MBD)\"), \"T3 (ALB/MBD)\", \" \")","v":" "},null,null,null,null,null,0,null,null,null,0," "," "," "," "]
[{"$f":"IF(COUNTRY_INFO!A52=0,\" \",COUNTRY_INFO!A52)","v":"Guinea Bissau"},{"$f":"IF(COUNTRY_INFO!B52=0,\" \",COUNTRY_INFO!B52)","v":"Oio"},{"$f":"IF(COUNTRY_INFO!C52=0,\" \",COUNTRY_INFO!C52)","v":"MANSOA"},{"$f":"IF(OR(COUNTRY_INFO!$T$9:$T$1000=\"T3 (ALB/MBD)\",COUNTRY_INFO!$U$9:$U$1000=\"T3 (ALB/MBD)\"), \"T3 (ALB/MBD)\", \" \")","v":" "},null,null,null,null,null,0,null,null,null,0," "," "," "," "]
[{"$f":"IF(COUNTRY_INFO!A53=0,\" \",COUNTRY_INFO!A53)","v":"Guinea Bissau"},{"$f":"IF(COUNTRY_INFO!B53=0,\" \",COUNTRY_INFO!B53)","v":"Oio"},{"$f":"IF(COUNTRY_INFO!C53=0,\" \",COUNTRY_INFO!C53)","v":"MORES"},{"$f":"IF(OR(COUNTRY_INFO!$T$9:$T$1000=\"T3 (ALB/MBD)\",COUNTRY_INFO!$U$9:$U$1000=\"T3 (ALB/MBD)\"), \"T3 (ALB/MBD)\", \" \")","v":" "},null,null,null,null,null,0,null,null,null,0," "," "," "," "]
[{"$f":"IF(COUNTRY_INFO!A54=0,\" \",COUNTRY_INFO!A54)","v":"Guinea Bissau"},{"$f":"IF(COUNTRY_INFO!B54=0,\" \",COUNTRY_INFO!B54)","v":"Oio"},{"$f":"IF(COUNTRY_INFO!C54=0,\" \",COUNTRY_INFO!C54)","v":"NHACRA"},{"$f":"IF(OR(COUNTRY_INFO!$T$9:$T$1000=\"T3 (ALB/MBD)\",COUNTRY_INFO!$U$9:$U$1000=\"T3 (ALB/MBD)\"), \"T3 (ALB/MBD)\", \" \")","v":" "},null,null,null,null,null,0,null,null,null,0," "," "," "," "]
[{"$f":"IF(COUNTRY_INFO!A55=0,\" \",COUNTRY_INFO!A55)","v":"Guinea Bissau"},{"$f":"IF(COUNTRY_INFO!B55=0,\" \",COUNTRY_INFO!B55)","v":"Oio"},{"$f":"IF(COUNTRY_INFO!C55=0,\" \",COUNTRY_INFO!C55)","v":"OLOSSATO"},{"$f":"IF(OR(COUNTRY_INFO!$T$9:$T$1000=\"T3 (ALB/MBD)\",COUNTRY_INFO!$U$9:$U$1000=\"T3 (ALB/MBD)\"), \"T3 (ALB/MBD)\", \" \")","v":" "},null,null,null,null,null,0,null,null,null,0," "," "," "," "]
[{"$f":"IF(COUNTRY_INFO!A56=0,\" \",COUNTRY_INFO!A56)","v":"Guinea Bissau"},{"$f":"IF(COUNTRY_INFO!B56=0,\" \",COUNTRY_INFO!B56)","v":"Oio"},{"$f":"IF(COUNTRY_INFO!C56=0,\" \",COUNTRY_INFO!C56)","v":"PORTUGOL"},{"$f":"IF(OR(COUNTRY_INFO!$T$9:$T$1000=\"T3 (ALB/MBD)\",COUNTRY_INFO!$U$9:$U$1000=\"T3 (ALB/MBD)\"), \"T3 (ALB/MBD)\", \" \")","v":" "},null,null,null,null,null,0,null,null,null,0," "," "," "," "]
[{"$f":"IF(COUNTRY_INFO!A57=0,\" \",COUNTRY_INFO!A57)","v":"Guinea Bissau"},{"$f":"IF(COUNTRY_INFO!B57=0,\" \",COUNTRY_INFO!B57)","v":"Bolama"},{"$f":"IF(COUNTRY_INFO!C57=0,\" \",COUNTRY_INFO!C57)","v":"BOLAMA"},{"$f":"IF(OR(COUNTRY_INFO!$T$9:$T$1000=\"T3 (ALB/MBD)\",COUNTRY_INFO!$U$9:$U$1000=\"T3 (ALB/MBD)\"), \"T3 (ALB/MBD)\", \" \")","v":" "},null,null,null,null,null,0,null,null,null,0," "," "," "," "]
[{"$f":"IF(COUNTRY_INFO!A58=0,\" \",COUNTRY_INFO!A58)","v":"Guinea Bissau"},{"$f":"IF(COUNTRY_INFO!B58=0,\" \",COUNTRY_INFO!B58)","v":"Bolama"},{"$f":"IF(COUNTRY_INFO!C58=0,\" \",COUNTRY_INFO!C58)","v":"I.  GALINHAS"},{"$f":"IF(OR(COUNTRY_INFO!$T$9:$T$1000=\"T3 (ALB/MBD)\",COUNTRY_INFO!$U$9:$U$1000=\"T3 (ALB/MBD)\"), \"T3 (ALB/MBD)\", \" \")","v":" "},null,null,null,null,null,0,null,null,null,0," "," "," "," "]
[{"$f":"IF(COUNTRY_INFO!A59=0,\" \",COUNTRY_INFO!A59)","v":"Guinea Bissau"},{"$f":"IF(COUNTRY_INFO!B59=0,\" \",COUNTRY_INFO!B59)","v":"Bolama"},{"$f":"IF(COUNTRY_INFO!C59=0,\" \",COUNTRY_INFO!C59)","v":"SÃO-JOÃO "},{"$f":"IF(OR(COUNTRY_INFO!$T$9:$T$1000=\"T3 (ALB/MBD)\",COUNTRY_INFO!$U$9:$U$1000=\"T3 (ALB/MBD)\"), \"T3 (ALB/MBD)\", \" \")","v":" "},null,null,null,null,null,0,null,null,null,0," "," "," "," "]
[{"$f":"IF(COUNTRY_INFO!A60=0,\" \",COUNTRY_INFO!A60)","v":"Guinea Bissau"},{"$f":"IF(COUNTRY_INFO!B60=0,\" \",COUNTRY_INFO!B60)","v":"Gabu"},{"$f":"IF(COUNTRY_INFO!C60=0,\" \",COUNTRY_INFO!C60)","v":"BAJOCUNDA"},{"$f":"IF(OR(COUNTRY_INFO!$T$9:$T$1000=\"T3 (ALB/MBD)\",COUNTRY_INFO!$U$9:$U$1000=\"T3 (ALB/MBD)\"), \"T3 (ALB/MBD)\", \" \")","v":" "},null,null,null,null,null,0,null,null,null,0," "," "," "," "]
[{"$f":"IF(COUNTRY_INFO!A61=0,\" \",COUNTRY_INFO!A61)","v":"Guinea Bissau"},{"$f":"IF(COUNTRY_INFO!B61=0,\" \",COUNTRY_INFO!B61)","v":"Gabu"},{"$f":"IF(COUNTRY_INFO!C61=0,\" \",COUNTRY_INFO!C61)","v":"BELI"},{"$f":"IF(OR(COUNTRY_INFO!$T$9:$T$1000=\"T3 (ALB/MBD)\",COUNTRY_INFO!$U$9:$U$1000=\"T3 (ALB/MBD)\"), \"T3 (ALB/MBD)\", \" \")","v":" "},null,null,null,null,null,0,null,null,null,0," "," "," "," "]
[{"$f":"IF(COUNTRY_INFO!A62=0,\" \",COUNTRY_INFO!A62)","v":"Guinea Bissau"},{"$f":"IF(COUNTRY_INFO!B62=0,\" \",COUNTRY_INFO!B62)","v":"Gabu"},{"$f":"IF(COUNTRY_INFO!C62=0,\" \",COUNTRY_INFO!C62)","v":"BURUNTUMA"},{"$f":"IF(OR(COUNTRY_INFO!$T$9:$T$1000=\"T3 (ALB/MBD)\",COUNTRY_INFO!$U$9:$U$1000=\"T3 (ALB/MBD)\"), \"T3 (ALB/MBD)\", \" \")","v":" "},null,null,null,null,null,0,null,null,null,0," "," "," "," "]
[{"$f":"IF(COUNTRY_INFO!A63=0,\" \",COUNTRY_INFO!A63)","v":"Guinea Bissau"},{"$f":"IF(COUNTRY_INFO!B63=0,\" \",COUNTRY_INFO!B63)","v":"Gabu"},{"$f":"IF(COUNTRY_INFO!C63=0,\" \",COUNTRY_INFO!C63)","v":"CANJADUDE"},{"$f":"IF(OR(COUNTRY_INFO!$T$9:$T$1000=\"T3 (ALB/MBD)\",COUNTRY_INFO!$U$9:$U$1000=\"T3 (ALB/MBD)\"), \"T3 (ALB/MBD)\", \" \")","v":" "},null,null,null,null,null,0,null,null,null,0," "," "," "," "]
[{"$f":"IF(COUNTRY_INFO!A64=0,\" \",COUNTRY_INFO!A64)","v":"Guinea Bissau"},{"$f":"IF(COUNTRY_INFO!B64=0,\" \",COUNTRY_INFO!B64)","v":"Gabu"},{"$f":"IF(COUNTRY_INFO!C64=0,\" \",COUNTRY_INFO!C64)","v":"CANQUELIFA"},{"$f":"IF(OR(COUNTRY_INFO!$T$9:$T$1000=\"T3 (ALB/MBD)\",COUNTRY_INFO!$U$9:$U$1000=\"T3 (ALB/MBD)\"), \"T3 (ALB/MBD)\", \" \")","v":" "},null,null,null,null,null,0,null,null,null,0," "," "," "," "]
[{"$f":"IF(COUNTRY_INFO!A65=0,\" \",COUNTRY_INFO!A65)","v":"Guinea Bissau"},{"$f":"IF(COUNTRY_INFO!B65=0,\" \",COUNTRY_INFO!B65)","v":"Gabu"},{"$f":"IF(COUNTRY_INFO!C65=0,\" \",COUNTRY_INFO!C65)","v":"CANSISSE"},{"$f":"IF(OR(COUNTRY_INFO!$T$9:$T$1000=\"T3 (ALB/MBD)\",COUNTRY_INFO!$U$9:$U$1000=\"T3 (ALB/MBD)\"), \"T3 (ALB/MBD)\", \" \")","v":" "},null,null,null,null,null,0,null,null,null,0," "," "," "," "]
[{"$f":"IF(COUNTRY_INFO!A66=0,\" \",COUNTRY_INFO!A66)","v":"Guinea Bissau"},{"$f":"IF(COUNTRY_INFO!B66=0,\" \",COUNTRY_INFO!B66)","v":"Gabu"},{"$f":"IF(COUNTRY_INFO!C66=0,\" \",COUNTRY_INFO!C66)","v":"FASSE"},{"$f":"IF(OR(COUNTRY_INFO!$T$9:$T$1000=\"T3 (ALB/MBD)\",COUNTRY_INFO!$U$9:$U$1000=\"T3 (ALB/MBD)\"), \"T3 (ALB/MBD)\", \" \")","v":" "},null,null,null,null,null,0,null,null,null,0," "," "," "," "]
[{"$f":"IF(COUNTRY_INFO!A67=0,\" \",COUNTRY_INFO!A67)","v":"Guinea Bissau"},{"$f":"IF(COUNTRY_INFO!B67=0,\" \",COUNTRY_INFO!B67)","v":"Gabu"},{"$f":"IF(COUNTRY_INFO!C67=0,\" \",COUNTRY_INFO!C67)","v":"PAUNCA"},{"$f":"IF(OR(COUNTRY_INFO!$T$9:$T$1000=\"T3 (ALB/MBD)\",COUNTRY_INFO!$U$9:$U$1000=\"T3 (ALB/MBD)\"), \"T3 (ALB/MBD)\", \" \")","v":" "},null,null,null,null,null,0,null,null,null,0," "," "," "," "]
[{"$f":"IF(COUNTRY_INFO!A68=0,\" \",COUNTRY_INFO!A68)","v":"Guinea Bissau"},{"$f":"IF(COUNTRY_INFO!B68=0,\" \",COUNTRY_INFO!B68)","v":"Gabu"},{"$f":"IF(COUNTRY_INFO!C68=0,\" \",COUNTRY_INFO!C68)","v":"PITCHE"},{"$f":"IF(OR(COUNTRY_INFO!$T$9:$T$1000=\"T3 (ALB/MBD)\",COUNTRY_INFO!$U$9:$U$1000=\"T3 (ALB/MBD)\"), \"T3 (ALB/MBD)\", \" \")","v":" "},null,null,null,null,null,0,null,null,null,0," "," "," "," "]
[{"$f":"IF(COUNTRY_INFO!A69=0,\" \",COUNTRY_INFO!A69)","v":"Guinea Bissau"},{"$f":"IF(COUNTRY_INFO!B69=0,\" \",COUNTRY_INFO!B69)","v":"Gabu"},{"$f":"IF(COUNTRY_INFO!C69=0,\" \",COUNTRY_INFO!C69)","v":"DARA"},{"$f":"IF(OR(COUNTRY_INFO!$T$9:$T$1000=\"T3 (ALB/MBD)\",COUNTRY_INFO!$U$9:$U$1000=\"T3 (ALB/MBD)\"), \"T3 (ALB/MBD)\", \" \")","v":" "},null,null,null,null,null,0,null,null,null,0," "," "," "," "]
[{"$f":"IF(COUNTRY_INFO!A70=0,\" \",COUNTRY_INFO!A70)","v":"Guinea Bissau"},{"$f":"IF(COUNTRY_INFO!B70=0,\" \",COUNTRY_INFO!B70)","v":"Gabu"},{"$f":"IF(COUNTRY_INFO!C70=0,\" \",COUNTRY_INFO!C70)","v":"PIRADA"},{"$f":"IF(OR(COUNTRY_INFO!$T$9:$T$1000=\"T3 (ALB/MBD)\",COUNTRY_INFO!$U$9:$U$1000=\"T3 (ALB/MBD)\"), \"T3 (ALB/MBD)\", \" \")","v":" "},null,null,null,null,null,0,null,null,null,0," "," "," "," "]
[{"$f":"IF(COUNTRY_INFO!A71=0,\" \",COUNTRY_INFO!A71)","v":"Guinea Bissau"},{"$f":"IF(COUNTRY_INFO!B71=0,\" \",COUNTRY_INFO!B71)","v":"Gabu"},{"$f":"IF(COUNTRY_INFO!C71=0,\" \",COUNTRY_INFO!C71)","v":"DANDUM"},{"$f":"IF(OR(COUNTRY_INFO!$T$9:$T$1000=\"T3 (ALB/MBD)\",COUNTRY_INFO!$U$9:$U$1000=\"T3 (ALB/MBD)\"), \"T3 (ALB/MBD)\", \" \")","v":" "},null,null,null,null,null,0,null,null,null,0," "," "," "," "]
[{"$f":"IF(COUNTRY_INFO!A72=0,\" \",COUNTRY_INFO!A72)","v":"Guinea Bissau"},{"$f":"IF(COUNTRY_INFO!B72=0,\" \",COUNTRY_INFO!B72)","v":"Gabu"},{"$f":"IF(COUNTRY_INFO!C72=0,\" \",COUNTRY_INFO!C72)","v":"MANSADJAM"},{"$f":"IF(OR(COUNTRY_INFO!$T$9:$T$1000=\"T3 (ALB/MBD)\",COUNTRY_INFO!$U$9:$U$1000=\"T3 (ALB/MBD)\"), \"T3 (ALB/MBD)\", \" \")","v":" "},null,null,null,null,null,0,null,null,null,0," "," "," "," "]
[{"$f":"IF(COUNTRY_INFO!A73=0,\" \",COUNTRY_INFO!A73)","v":"Guinea Bissau"},{"$f":"IF(COUNTRY_INFO!B73=0,\" \",COUNTRY_INFO!B73)","v":"Gabu"},{"$f":"IF(COUNTRY_INFO!C73=0,\" \",COUNTRY_INFO!C73)","v":"SONACO"},{"$f":"IF(OR(COUNTRY_INFO!$T$9:$T$1000=\"T3 (ALB/MBD)\",COUNTRY_INFO!$U$9:$U$1000=\"T3 (ALB/MBD)\"), \"T3 (ALB/MBD)\", \" \")","v":" "},null,null,null,null,null,0,null,null,null,0," "," "," "," "]
[{"$f":"IF(COUNTRY_INFO!A74=0,\" \",COUNTRY_INFO!A74)","v":"Guinea Bissau"},{"$f":"IF(COUNTRY_INFO!B74=0,\" \",COUNTRY_INFO!B74)","v":"Gabu"},{"$f":"IF(COUNTRY_INFO!C74=0,\" \",COUNTRY_INFO!C74)","v":"LUGADJOLE"},{"$f":"IF(OR(COUNTRY_INFO!$T$9:$T$1000=\"T3 (ALB/MBD)\",COUNTRY_INFO!$U$9:$U$1000=\"T3 (ALB/MBD)\"), \"T3 (ALB/MBD)\", \" \")","v":" "},null,null,null,null,null,{"$f":"SUM(G74:I74)","v":0},null,null,null,{"$f":"SUM(K74:M74)","v":0},{"$f":"IF(G74<>0, IF(K74/G74*100=0, \"-\", K74/G74*100), \" \")","v":" "},{"$f":"IF(H74<>0, IF(L74/H74*100=0, \"-\", L74/H74*100), \" \")","v":" "},{"$f":"IF(I74<>0, IF(M74/I74*100=0, \"-\", M74/I74*100), \" \")","v":" "},{"$f":"IF(J74<>0, IF(N74/J74*100=0, \"-\", N74/J74*100), \" \")","v":" "}]
[{"$f":"IF(COUNTRY_INFO!A75=0,\" \",COUNTRY_INFO!A75)","v":"Guinea Bissau"},{"$f":"IF(COUNTRY_INFO!B75=0,\" \",COUNTRY_INFO!B75)","v":"Gabu"},{"$f":"IF(COUNTRY_INFO!C75=0,\" \",COUNTRY_INFO!C75)","v":"GABU"},{"$f":"IF(OR(COUNTRY_INFO!$T$9:$T$1000=\"T3 (ALB/MBD)\",COUNTRY_INFO!$U$9:$U$1000=\"T3 (ALB/MBD)\"), \"T3 (ALB/MBD)\", \" \")","v":" "},null,null,null,null,null,0,null,null,null,0," "," "," "," "]
[{"$f":"IF(COUNTRY_INFO!A76=0,\" \",COUNTRY_INFO!A76)","v":"Guinea Bissau"},{"$f":"IF(COUNTRY_INFO!B76=0,\" \",COUNTRY_INFO!B76)","v":"Gabu"},{"$f":"IF(COUNTRY_INFO!C76=0,\" \",COUNTRY_INFO!C76)","v":"CANDJUFA"},{"$f":"IF(OR(COUNTRY_INFO!$T$9:$T$1000=\"T3 (ALB/MBD)\",COUNTRY_INFO!$U$9:$U$1000=\"T3 (ALB/MBD)\"), \"T3 (ALB/MBD)\", \" \")","v":" "},null,null,null,null,null,0,null,null,null,0," "," "," "," "]
[{"$f":"IF(COUNTRY_INFO!A77=0,\" \",COUNTRY_INFO!A77)","v":"Guinea Bissau"},{"$f":"IF(COUNTRY_INFO!B77=0,\" \",COUNTRY_INFO!B77)","v":"Gabu"},{"$f":"IF(COUNTRY_INFO!C77=0,\" \",COUNTRY_INFO!C77)","v":"MAFANCO"},{"$f":"IF(OR(COUNTRY_INFO!$T$9:$T$1000=\"T3 (ALB/MBD)\",COUNTRY_INFO!$U$9:$U$1000=\"T3 (ALB/MBD)\"), \"T3 (ALB/MBD)\", \" \")","v":" "},null,null,null,null,null,0,null,null,null,0," "," "," "," "]
[{"$f":"IF(COUNTRY_INFO!A78=0,\" \",COUNTRY_INFO!A78)","v":"Guinea Bissau"},{"$f":"IF(COUNTRY_INFO!B78=0,\" \",COUNTRY_INFO!B78)","v":"Gabu"},{"$f":"IF(COUNTRY_INFO!C78=0,\" \",COUNTRY_INFO!C78)","v":"TUMANA"},{"$f":"IF(OR(COUNTRY_INFO!$T$9:$T$1000=\"T3 (ALB/MBD)\",COUNTRY_INFO!$U$9:$U$1000=\"T3 (ALB/MBD)\"), \"T3 (ALB/MBD)\", \" \")","v":" "},null,null,null,null,null,0,null,null,null,0," "," "," "," "]
[{"$f":"IF(COUNTRY_INFO!A79=0,\" \",COUNTRY_INFO!A79)","v":"Guinea Bissau"},{"$f":"IF(COUNTRY_INFO!B79=0,\" \",COUNTRY_INFO!B79)","v":"Bafata"},{"$f":"IF(COUNTRY_INFO!C79=0,\" \",COUNTRY_INFO!C79)","v":"Xitole"},{"$f":"IF(OR(COUNTRY_INFO!$T$9:$T$1000=\"T3 (ALB/MBD)\",COUNTRY_INFO!$U$9:$U$1000=\"T3 (ALB/MBD)\"), \"T3 (ALB/MBD)\", \" \")","v":" "},null,null,null,null,null,0,null,null,null,0," "," "," "," "]
[{"$f":"IF(COUNTRY_INFO!A80=0,\" \",COUNTRY_INFO!A80)","v":"Guinea Bissau"},{"$f":"IF(COUNTRY_INFO!B80=0,\" \",COUNTRY_INFO!B80)","v":"Bafata"},{"$f":"IF(COUNTRY_INFO!C80=0,\" \",COUNTRY_INFO!C80)","v":"Contubuel"},{"$f":"IF(OR(COUNTRY_INFO!$T$9:$T$1000=\"T3 (ALB/MBD)\",COUNTRY_INFO!$U$9:$U$1000=\"T3 (ALB/MBD)\"), \"T3 (ALB/MBD)\", \" \")","v":" "},null,null,null,null,null,0,null,null,null,0," "," "," "," "]
[{"$f":"IF(COUNTRY_INFO!A81=0,\" \",COUNTRY_INFO!A81)","v":"Guinea Bissau"},{"$f":"IF(COUNTRY_INFO!B81=0,\" \",COUNTRY_INFO!B81)","v":"Bafata"},{"$f":"IF(COUNTRY_INFO!C81=0,\" \",COUNTRY_INFO!C81)","v":"Tendinto"},{"$f":"IF(OR(COUNTRY_INFO!$T$9:$T$1000=\"T3 (ALB/MBD)\",COUNTRY_INFO!$U$9:$U$1000=\"T3 (ALB/MBD)\"), \"T3 (ALB/MBD)\", \" \")","v":" "},null,null,null,null,null,0,null,null,null,0," "," "," "," "]
[{"$f":"IF(COUNTRY_INFO!A82=0,\" \",COUNTRY_INFO!A82)","v":"Guinea Bissau"},{"$f":"IF(COUNTRY_INFO!B82=0,\" \",COUNTRY_INFO!B82)","v":"Bafata"},{"$f":"IF(COUNTRY_INFO!C82=0,\" \",COUNTRY_INFO!C82)","v":"Geba"},{"$f":"IF(OR(COUNTRY_INFO!$T$9:$T$1000=\"T3 (ALB/MBD)\",COUNTRY_INFO!$U$9:$U$1000=\"T3 (ALB/MBD)\"), \"T3 (ALB/MBD)\", \" \")","v":" "},null,null,null,null,null,0,null,null,null,0," "," "," "," "]
[{"$f":"IF(COUNTRY_INFO!A83=0,\" \",COUNTRY_INFO!A83)","v":"Guinea Bissau"},{"$f":"IF(COUNTRY_INFO!B83=0,\" \",COUNTRY_INFO!B83)","v":"Bafata"},{"$f":"IF(COUNTRY_INFO!C83=0,\" \",COUNTRY_INFO!C83)","v":"Tantancosse"},{"$f":"IF(OR(COUNTRY_INFO!$T$9:$T$1000=\"T3 (ALB/MBD)\",COUNTRY_INFO!$U$9:$U$1000=\"T3 (ALB/MBD)\"), \"T3 (ALB/MBD)\", \" \")","v":" "},null,null,null,null,null,0,null,null,null,0," "," "," "," "]
[{"$f":"IF(COUNTRY_INFO!A84=0,\" \",COUNTRY_INFO!A84)","v":"Guinea Bissau"},{"$f":"IF(COUNTRY_INFO!B84=0,\" \",COUNTRY_INFO!B84)","v":"Bafata"},{"$f":"IF(COUNTRY_INFO!C84=0,\" \",COUNTRY_INFO!C84)","v":"Ga-mamudo"},{"$f":"IF(OR(COUNTRY_INFO!$T$9:$T$1000=\"T3 (ALB/MBD)\",COUNTRY_INFO!$U$9:$U$1000=\"T3 (ALB/MBD)\"), \"T3 (ALB/MBD)\", \" \")","v":" "},null,null,null,null,null,0,null,null,null,0," "," "," "," "]
[{"$f":"IF(COUNTRY_INFO!A85=0,\" \",COUNTRY_INFO!A85)","v":"Guinea Bissau"},{"$f":"IF(COUNTRY_INFO!B85=0,\" \",COUNTRY_INFO!B85)","v":"Bafata"},{"$f":"IF(COUNTRY_INFO!C85=0,\" \",COUNTRY_INFO!C85)","v":"Bambadinca"},{"$f":"IF(OR(COUNTRY_INFO!$T$9:$T$1000=\"T3 (ALB/MBD)\",COUNTRY_INFO!$U$9:$U$1000=\"T3 (ALB/MBD)\"), \"T3 (ALB/MBD)\", \" \")","v":" "},null,null,null,null,null,0,null,null,null,0," "," "," "," "]
[{"$f":"IF(COUNTRY_INFO!A86=0,\" \",COUNTRY_INFO!A86)","v":"Guinea Bissau"},{"$f":"IF(COUNTRY_INFO!B86=0,\" \",COUNTRY_INFO!B86)","v":"Bafata"},{"$f":"IF(COUNTRY_INFO!C86=0,\" \",COUNTRY_INFO!C86)","v":"Ga carnes"},{"$f":"IF(OR(COUNTRY_INFO!$T$9:$T$1000=\"T3 (ALB/MBD)\",COUNTRY_INFO!$U$9:$U$1000=\"T3 (ALB/MBD)\"), \"T3 (ALB/MBD)\", \" \")","v":" "},null,null,null,null,null,0,null,null,null,0," "," "," "," "]
[{"$f":"IF(COUNTRY_INFO!A87=0,\" \",COUNTRY_INFO!A87)","v":"Guinea Bissau"},{"$f":"IF(COUNTRY_INFO!B87=0,\" \",COUNTRY_INFO!B87)","v":"Bafata"},{"$f":"IF(COUNTRY_INFO!C87=0,\" \",COUNTRY_INFO!C87)","v":"Cambaju"},{"$f":"IF(OR(COUNTRY_INFO!$T$9:$T$1000=\"T3 (ALB/MBD)\",COUNTRY_INFO!$U$9:$U$1000=\"T3 (ALB/MBD)\"), \"T3 (ALB/MBD)\", \" \")","v":" "},null,null,null,null,null,0,null,null,null,0," "," "," "," "]
[{"$f":"IF(COUNTRY_INFO!A88=0,\" \",COUNTRY_INFO!A88)","v":"Guinea Bissau"},{"$f":"IF(COUNTRY_INFO!B88=0,\" \",COUNTRY_INFO!B88)","v":"Bafata"},{"$f":"IF(COUNTRY_INFO!C88=0,\" \",COUNTRY_INFO!C88)","v":"Gam ture"},{"$f":"IF(OR(COUNTRY_INFO!$T$9:$T$1000=\"T3 (ALB/MBD)\",COUNTRY_INFO!$U$9:$U$1000=\"T3 (ALB/MBD)\"), \"T3 (ALB/MBD)\", \" \")","v":" "},null,null,null,null,null,0,null,null,null,0," "," "," "," "]
[{"$f":"IF(COUNTRY_INFO!A89=0,\" \",COUNTRY_INFO!A89)","v":"Guinea Bissau"},{"$f":"IF(COUNTRY_INFO!B89=0,\" \",COUNTRY_INFO!B89)","v":"Bafata"},{"$f":"IF(COUNTRY_INFO!C89=0,\" \",COUNTRY_INFO!C89)","v":"Sare bacar"},{"$f":"IF(OR(COUNTRY_INFO!$T$9:$T$1000=\"T3 (ALB/MBD)\",COUNTRY_INFO!$U$9:$U$1000=\"T3 (ALB/MBD)\"), \"T3 (ALB/MBD)\", \" \")","v":" "},null,null,null,null,null,0,null,null,null,0," "," "," "," "]
[{"$f":"IF(COUNTRY_INFO!A90=0,\" \",COUNTRY_INFO!A90)","v":"Guinea Bissau"},{"$f":"IF(COUNTRY_INFO!B90=0,\" \",COUNTRY_INFO!B90)","v":"Bafata"},{"$f":"IF(COUNTRY_INFO!C90=0,\" \",COUNTRY_INFO!C90)","v":"Fajonquito"},{"$f":"IF(OR(COUNTRY_INFO!$T$9:$T$1000=\"T3 (ALB/MBD)\",COUNTRY_INFO!$U$9:$U$1000=\"T3 (ALB/MBD)\"), \"T3 (ALB/MBD)\", \" \")","v":" "},null,null,null,null,null,0,null,null,null,0," "," "," "," "]
[{"$f":"IF(COUNTRY_INFO!A91=0,\" \",COUNTRY_INFO!A91)","v":"Guinea Bissau"},{"$f":"IF(COUNTRY_INFO!B91=0,\" \",COUNTRY_INFO!B91)","v":"Bafata"},{"$f":"IF(COUNTRY_INFO!C91=0,\" \",COUNTRY_INFO!C91)","v":"Cosse"},{"$f":"IF(OR(COUNTRY_INFO!$T$9:$T$1000=\"T3 (ALB/MBD)\",COUNTRY_INFO!$U$9:$U$1000=\"T3 (ALB/MBD)\"), \"T3 (ALB/MBD)\", \" \")","v":" "},null,null,null,null,null,0,null,null,null,0," "," "," "," "]
[{"$f":"IF(COUNTRY_INFO!A92=0,\" \",COUNTRY_INFO!A92)","v":"Guinea Bissau"},{"$f":"IF(COUNTRY_INFO!B92=0,\" \",COUNTRY_INFO!B92)","v":"Bafata"},{"$f":"IF(COUNTRY_INFO!C92=0,\" \",COUNTRY_INFO!C92)","v":"Bafata"},{"$f":"IF(OR(COUNTRY_INFO!$T$9:$T$1000=\"T3 (ALB/MBD)\",COUNTRY_INFO!$U$9:$U$1000=\"T3 (ALB/MBD)\"), \"T3 (ALB/MBD)\", \" \")","v":" "},null,null,null,null,null,0,null,null,null,0," "," "," "," "]
[{"$f":"IF(COUNTRY_INFO!A93=0,\" \",COUNTRY_INFO!A93)","v":"Guinea Bissau"},{"$f":"IF(COUNTRY_INFO!B93=0,\" \",COUNTRY_INFO!B93)","v":"Tombali"},{"$f":"IF(COUNTRY_INFO!C93=0,\" \",COUNTRY_INFO!C93)","v":"BEDANDA"},{"$f":"IF(OR(COUNTRY_INFO!$T$9:$T$1000=\"T3 (ALB/MBD)\",COUNTRY_INFO!$U$9:$U$1000=\"T3 (ALB/MBD)\"), \"T3 (ALB/MBD)\", \" \")","v":"T3 (ALB/MBD)"},"ALB","Juin 2021",null,4767,null,4767,null,3871,null,3871," ",81.204111600587368," ",81.204111600587368]
[{"$f":"IF(COUNTRY_INFO!A94=0,\" \",COUNTRY_INFO!A94)","v":"Guinea Bissau"},{"$f":"IF(COUNTRY_INFO!B94=0,\" \",COUNTRY_INFO!B94)","v":"Tombali"},{"$f":"IF(COUNTRY_INFO!C94=0,\" \",COUNTRY_INFO!C94)","v":"CACINE"},{"$f":"IF(OR(COUNTRY_INFO!$T$9:$T$1000=\"T3 (ALB/MBD)\",COUNTRY_INFO!$U$9:$U$1000=\"T3 (ALB/MBD)\"), \"T3 (ALB/MBD)\", \" \")","v":"T3 (ALB/MBD)"},"ALB","Juin 2021",null,3475,null,3475,null,2661,null,2661," ",76.57553956834532," ",76.57553956834532]
[{"$f":"IF(COUNTRY_INFO!A95=0,\" \",COUNTRY_INFO!A95)","v":"Guinea Bissau"},{"$f":"IF(COUNTRY_INFO!B95=0,\" \",COUNTRY_INFO!B95)","v":"Tombali"},{"$f":"IF(COUNTRY_INFO!C95=0,\" \",COUNTRY_INFO!C95)","v":"CALAQUE"},{"$f":"IF(OR(COUNTRY_INFO!$T$9:$T$1000=\"T3 (ALB/MBD)\",COUNTRY_INFO!$U$9:$U$1000=\"T3 (ALB/MBD)\"), \"T3 (ALB/MBD)\", \" \")","v":"T3 (ALB/MBD)"},"ALB","Juin 2021",null,4496,null,4496,null,4353,null,4353," ",96.819395017793596," ",96.819395017793596]
[{"$f":"IF(COUNTRY_INFO!A96=0,\" \",COUNTRY_INFO!A96)","v":"Guinea Bissau"},{"$f":"IF(COUNTRY_INFO!B96=0,\" \",COUNTRY_INFO!B96)","v":"Tombali"},{"$f":"IF(COUNTRY_INFO!C96=0,\" \",COUNTRY_INFO!C96)","v":"CATIO"},{"$f":"IF(OR(COUNTRY_INFO!$T$9:$T$1000=\"T3 (ALB/MBD)\",COUNTRY_INFO!$U$9:$U$1000=\"T3 (ALB/MBD)\"), \"T3 (ALB/MBD)\", \" \")","v":"T3 (ALB/MBD)"},"ALB","Juin 2021",null,5254,null,5254,null,5308,null,5308," ",101.027788351732," ",101.027788351732]
[{"$f":"IF(COUNTRY_INFO!A97=0,\" \",COUNTRY_INFO!A97)","v":"Guinea Bissau"},{"$f":"IF(COUNTRY_INFO!B97=0,\" \",COUNTRY_INFO!B97)","v":"Tombali"},{"$f":"IF(COUNTRY_INFO!C97=0,\" \",COUNTRY_INFO!C97)","v":"KOMO"},{"$f":"IF(OR(COUNTRY_INFO!$T$9:$T$1000=\"T3 (ALB/MBD)\",COUNTRY_INFO!$U$9:$U$1000=\"T3 (ALB/MBD)\"), \"T3 (ALB/MBD)\", \" \")","v":"T3 (ALB/MBD)"},"ALB","Juin 2021",null,2985,null,2985,null,2020,null,2020," ",67.671691792294808," ",67.671691792294808]
[{"$f":"IF(COUNTRY_INFO!A98=0,\" \",COUNTRY_INFO!A98)","v":"Guinea Bissau"},{"$f":"IF(COUNTRY_INFO!B98=0,\" \",COUNTRY_INFO!B98)","v":"Tombali"},{"$f":"IF(COUNTRY_INFO!C98=0,\" \",COUNTRY_INFO!C98)","v":"QUEBO"},{"$f":"IF(OR(COUNTRY_INFO!$T$9:$T$1000=\"T3 (ALB/MBD)\",COUNTRY_INFO!$U$9:$U$1000=\"T3 (ALB/MBD)\"), \"T3 (ALB/MBD)\", \" \")","v":"T3 (ALB/MBD)"},"ALB","Juin 2021",null,5597,null,5597,null,5586,null,5586," ",99.803466142576383," ",99.803466142576383]
[{"$f":"IF(COUNTRY_INFO!A99=0,\" \",COUNTRY_INFO!A99)","v":"Guinea Bissau"},{"$f":"IF(COUNTRY_INFO!B99=0,\" \",COUNTRY_INFO!B99)","v":"Tombali"},{"$f":"IF(COUNTRY_INFO!C99=0,\" \",COUNTRY_INFO!C99)","v":"SANCONHA"},{"$f":"IF(OR(COUNTRY_INFO!$T$9:$T$1000=\"T3 (ALB/MBD)\",COUNTRY_INFO!$U$9:$U$1000=\"T3 (ALB/MBD)\"), \"T3 (ALB/MBD)\", \" \")","v":"T3 (ALB/MBD)"},"ALB","Juin 2021",null,2034,null,2034,null,1440,null,1440," ",70.796460176991147," ",70.796460176991147]
[{"$f":"IF(COUNTRY_INFO!A100=0,\" \",COUNTRY_INFO!A100)","v":"Guinea Bissau"},{"$f":"IF(COUNTRY_INFO!B100=0,\" \",COUNTRY_INFO!B100)","v":"Tombali"},{"$f":"IF(COUNTRY_INFO!C100=0,\" \",COUNTRY_INFO!C100)","v":"TIMBO"},{"$f":"IF(OR(COUNTRY_INFO!$T$9:$T$1000=\"T3 (ALB/MBD)\",COUNTRY_INFO!$U$9:$U$1000=\"T3 (ALB/MBD)\"), \"T3 (ALB/MBD)\", \" \")","v":"T3 (ALB/MBD)"},"ALB","Juin 2021",null,3868,null,3868,null,4191,null,4191," ",108.35056876938987," ",108.35056876938987]
[{"$f":"IF(COUNTRY_INFO!A101=0,\" \",COUNTRY_INFO!A101)","v":"Guinea Bissau"},{"$f":"IF(COUNTRY_INFO!B101=0,\" \",COUNTRY_INFO!B101)","v":"Quinara"},{"$f":"IF(COUNTRY_INFO!C101=0,\" \",COUNTRY_INFO!C101)","v":"BRANDÃO"},{"$f":"IF(OR(COUNTRY_INFO!$T$9:$T$1000=\"T3 (ALB/MBD)\",COUNTRY_INFO!$U$9:$U$1000=\"T3 (ALB/MBD)\"), \"T3 (ALB/MBD)\", \" \")","v":" "},null,null,null,null,null,0,null,null,null,0," "," "," "," "]
[{"$f":"IF(COUNTRY_INFO!A102=0,\" \",COUNTRY_INFO!A102)","v":"Guinea Bissau"},{"$f":"IF(COUNTRY_INFO!B102=0,\" \",COUNTRY_INFO!B102)","v":"Quinara"},{"$f":"IF(COUNTRY_INFO!C102=0,\" \",COUNTRY_INFO!C102)","v":"BUBA"},{"$f":"IF(OR(COUNTRY_INFO!$T$9:$T$1000=\"T3 (ALB/MBD)\",COUNTRY_INFO!$U$9:$U$1000=\"T3 (ALB/MBD)\"), \"T3 (ALB/MBD)\", \" \")","v":" "},null,null,null,null,null,0,null,null,null,0," "," "," "," "]
[{"$f":"IF(COUNTRY_INFO!A103=0,\" \",COUNTRY_INFO!A103)","v":"Guinea Bissau"},{"$f":"IF(COUNTRY_INFO!B103=0,\" \",COUNTRY_INFO!B103)","v":"Quinara"},{"$f":"IF(COUNTRY_INFO!C103=0,\" \",COUNTRY_INFO!C103)","v":"DAR-ES-SALAM"},{"$f":"IF(OR(COUNTRY_INFO!$T$9:$T$1000=\"T3 (ALB/MBD)\",COUNTRY_INFO!$U$9:$U$1000=\"T3 (ALB/MBD)\"), \"T3 (ALB/MBD)\", \" \")","v":" "},null,null,null,null,null,0,null,null,null,0," "," "," "," "]
[{"$f":"IF(COUNTRY_INFO!A104=0,\" \",COUNTRY_INFO!A104)","v":"Guinea Bissau"},{"$f":"IF(COUNTRY_INFO!B104=0,\" \",COUNTRY_INFO!B104)","v":"Quinara"},{"$f":"IF(COUNTRY_INFO!C104=0,\" \",COUNTRY_INFO!C104)","v":"EMPADA"},{"$f":"IF(OR(COUNTRY_INFO!$T$9:$T$1000=\"T3 (ALB/MBD)\",COUNTRY_INFO!$U$9:$U$1000=\"T3 (ALB/MBD)\"), \"T3 (ALB/MBD)\", \" \")","v":" "},null,null,null,null,null,0,null,null,null,0," "," "," "," "]
[{"$f":"IF(COUNTRY_INFO!A105=0,\" \",COUNTRY_INFO!A105)","v":"Guinea Bissau"},{"$f":"IF(COUNTRY_INFO!B105=0,\" \",COUNTRY_INFO!B105)","v":"Quinara"},{"$f":"IF(COUNTRY_INFO!C105=0,\" \",COUNTRY_INFO!C105)","v":"FULACUNDA"},{"$f":"IF(OR(COUNTRY_INFO!$T$9:$T$1000=\"T3 (ALB/MBD)\",COUNTRY_INFO!$U$9:$U$1000=\"T3 (ALB/MBD)\"), \"T3 (ALB/MBD)\", \" \")","v":" "},null,null,null,null,null,0,null,null,null,0," "," "," "," "]
[{"$f":"IF(COUNTRY_INFO!A106=0,\" \",COUNTRY_INFO!A106)","v":"Guinea Bissau"},{"$f":"IF(COUNTRY_INFO!B106=0,\" \",COUNTRY_INFO!B106)","v":"Quinara"},{"$f":"IF(COUNTRY_INFO!C106=0,\" \",COUNTRY_INFO!C106)","v":"TITE"},{"$f":"IF(OR(COUNTRY_INFO!$T$9:$T$1000=\"T3 (ALB/MBD)\",COUNTRY_INFO!$U$9:$U$1000=\"T3 (ALB/MBD)\"), \"T3 (ALB/MBD)\", \" \")","v":" "},null,null,null,null,null,0,null,null,null,0," "," "," "," "]
[{"$f":"IF(COUNTRY_INFO!A107=0,\" \",COUNTRY_INFO!A107)","v":"Guinea Bissau"},{"$f":"IF(COUNTRY_INFO!B107=0,\" \",COUNTRY_INFO!B107)","v":"Cacheu"},{"$f":"IF(COUNTRY_INFO!C107=0,\" \",COUNTRY_INFO!C107)","v":"Bará"},{"$f":"IF(OR(COUNTRY_INFO!$T$9:$T$1000=\"T3 (ALB/MBD)\",COUNTRY_INFO!$U$9:$U$1000=\"T3 (ALB/MBD)\"), \"T3 (ALB/MBD)\", \" \")","v":" "},null,null,null,null,null,0,null,null,null,0," "," "," "," "]
[{"$f":"IF(COUNTRY_INFO!A108=0,\" \",COUNTRY_INFO!A108)","v":"Guinea Bissau"},{"$f":"IF(COUNTRY_INFO!B108=0,\" \",COUNTRY_INFO!B108)","v":"Cacheu"},{"$f":"IF(COUNTRY_INFO!C108=0,\" \",COUNTRY_INFO!C108)","v":"Barro"},{"$f":"IF(OR(COUNTRY_INFO!$T$9:$T$1000=\"T3 (ALB/MBD)\",COUNTRY_INFO!$U$9:$U$1000=\"T3 (ALB/MBD)\"), \"T3 (ALB/MBD)\", \" \")","v":" "},null,null,null,null,null,0,null,null,null,0," "," "," "," "]
[{"$f":"IF(COUNTRY_INFO!A109=0,\" \",COUNTRY_INFO!A109)","v":"Guinea Bissau"},{"$f":"IF(COUNTRY_INFO!B109=0,\" \",COUNTRY_INFO!B109)","v":"Cacheu"},{"$f":"IF(COUNTRY_INFO!C109=0,\" \",COUNTRY_INFO!C109)","v":"Batucar"},{"$f":"IF(OR(COUNTRY_INFO!$T$9:$T$1000=\"T3 (ALB/MBD)\",COUNTRY_INFO!$U$9:$U$1000=\"T3 (ALB/MBD)\"), \"T3 (ALB/MBD)\", \" \")","v":" "},null,null,null,null,null,0,null,null,null,0," "," "," "," "]
[{"$f":"IF(COUNTRY_INFO!A110=0,\" \",COUNTRY_INFO!A110)","v":"Guinea Bissau"},{"$f":"IF(COUNTRY_INFO!B110=0,\" \",COUNTRY_INFO!B110)","v":"Cacheu"},{"$f":"IF(COUNTRY_INFO!C110=0,\" \",COUNTRY_INFO!C110)","v":"Begene"},{"$f":"IF(OR(COUNTRY_INFO!$T$9:$T$1000=\"T3 (ALB/MBD)\",COUNTRY_INFO!$U$9:$U$1000=\"T3 (ALB/MBD)\"), \"T3 (ALB/MBD)\", \" \")","v":" "},null,null,null,null,null,0,null,null,null,0," "," "," "," "]
[{"$f":"IF(COUNTRY_INFO!A111=0,\" \",COUNTRY_INFO!A111)","v":"Guinea Bissau"},{"$f":"IF(COUNTRY_INFO!B111=0,\" \",COUNTRY_INFO!B111)","v":"Cacheu"},{"$f":"IF(COUNTRY_INFO!C111=0,\" \",COUNTRY_INFO!C111)","v":"Bula"},{"$f":"IF(OR(COUNTRY_INFO!$T$9:$T$1000=\"T3 (ALB/MBD)\",COUNTRY_INFO!$U$9:$U$1000=\"T3 (ALB/MBD)\"), \"T3 (ALB/MBD)\", \" \")","v":" "},null,null,null,null,null,0,null,null,null,0," "," "," "," "]
[{"$f":"IF(COUNTRY_INFO!A112=0,\" \",COUNTRY_INFO!A112)","v":"Guinea Bissau"},{"$f":"IF(COUNTRY_INFO!B112=0,\" \",COUNTRY_INFO!B112)","v":"Cacheu"},{"$f":"IF(COUNTRY_INFO!C112=0,\" \",COUNTRY_INFO!C112)","v":"Cacheu"},{"$f":"IF(OR(COUNTRY_INFO!$T$9:$T$1000=\"T3 (ALB/MBD)\",COUNTRY_INFO!$U$9:$U$1000=\"T3 (ALB/MBD)\"), \"T3 (ALB/MBD)\", \" \")","v":" "},null,null,null,null,null,0,null,null,null,0," "," "," "," "]
[{"$f":"IF(COUNTRY_INFO!A113=0,\" \",COUNTRY_INFO!A113)","v":"Guinea Bissau"},{"$f":"IF(COUNTRY_INFO!B113=0,\" \",COUNTRY_INFO!B113)","v":"Cacheu"},{"$f":"IF(COUNTRY_INFO!C113=0,\" \",COUNTRY_INFO!C113)","v":"Caió"},{"$f":"IF(OR(COUNTRY_INFO!$T$9:$T$1000=\"T3 (ALB/MBD)\",COUNTRY_INFO!$U$9:$U$1000=\"T3 (ALB/MBD)\"), \"T3 (ALB/MBD)\", \" \")","v":" "},null,null,null,null,null,0,null,null,null,0," "," "," "," "]
[{"$f":"IF(COUNTRY_INFO!A114=0,\" \",COUNTRY_INFO!A114)","v":"Guinea Bissau"},{"$f":"IF(COUNTRY_INFO!B114=0,\" \",COUNTRY_INFO!B114)","v":"Cacheu"},{"$f":"IF(COUNTRY_INFO!C114=0,\" \",COUNTRY_INFO!C114)","v":"Calequisse"},{"$f":"IF(OR(COUNTRY_INFO!$T$9:$T$1000=\"T3 (ALB/MBD)\",COUNTRY_INFO!$U$9:$U$1000=\"T3 (ALB/MBD)\"), \"T3 (ALB/MBD)\", \" \")","v":" "},null,null,null,null,null,0,null,null,null,0," "," "," "," "]
[{"$f":"IF(COUNTRY_INFO!A115=0,\" \",COUNTRY_INFO!A115)","v":"Guinea Bissau"},{"$f":"IF(COUNTRY_INFO!B115=0,\" \",COUNTRY_INFO!B115)","v":"Cacheu"},{"$f":"IF(COUNTRY_INFO!C115=0,\" \",COUNTRY_INFO!C115)","v":"Canchungo"},{"$f":"IF(OR(COUNTRY_INFO!$T$9:$T$1000=\"T3 (ALB/MBD)\",COUNTRY_INFO!$U$9:$U$1000=\"T3 (ALB/MBD)\"), \"T3 (ALB/MBD)\", \" \")","v":" "},null,null,null,null,null,0,null,null,null,0," "," "," "," "]
[{"$f":"IF(COUNTRY_INFO!A116=0,\" \",COUNTRY_INFO!A116)","v":"Guinea Bissau"},{"$f":"IF(COUNTRY_INFO!B116=0,\" \",COUNTRY_INFO!B116)","v":"Cacheu"},{"$f":"IF(COUNTRY_INFO!C116=0,\" \",COUNTRY_INFO!C116)","v":"Carenque"},{"$f":"IF(OR(COUNTRY_INFO!$T$9:$T$1000=\"T3 (ALB/MBD)\",COUNTRY_INFO!$U$9:$U$1000=\"T3 (ALB/MBD)\"), \"T3 (ALB/MBD)\", \" \")","v":" "},null,null,null,null,null,0,null,null,null,0," "," "," "," "]
[{"$f":"IF(COUNTRY_INFO!A117=0,\" \",COUNTRY_INFO!A117)","v":"Guinea Bissau"},{"$f":"IF(COUNTRY_INFO!B117=0,\" \",COUNTRY_INFO!B117)","v":"Cacheu"},{"$f":"IF(COUNTRY_INFO!C117=0,\" \",COUNTRY_INFO!C117)","v":"Có"},{"$f":"IF(OR(COUNTRY_INFO!$T$9:$T$1000=\"T3 (ALB/MBD)\",COUNTRY_INFO!$U$9:$U$1000=\"T3 (ALB/MBD)\"), \"T3 (ALB/MBD)\", \" \")","v":" "},null,null,null,null,null,0,null,null,null,0," "," "," "," "]
[{"$f":"IF(COUNTRY_INFO!A118=0,\" \",COUNTRY_INFO!A118)","v":"Guinea Bissau"},{"$f":"IF(COUNTRY_INFO!B118=0,\" \",COUNTRY_INFO!B118)","v":"Cacheu"},{"$f":"IF(COUNTRY_INFO!C118=0,\" \",COUNTRY_INFO!C118)","v":"Ingoré"},{"$f":"IF(OR(COUNTRY_INFO!$T$9:$T$1000=\"T3 (ALB/MBD)\",COUNTRY_INFO!$U$9:$U$1000=\"T3 (ALB/MBD)\"), \"T3 (ALB/MBD)\", \" \")","v":" "},null,null,null,null,null,0,null,null,null,0," "," "," "," "]
[{"$f":"IF(COUNTRY_INFO!A119=0,\" \",COUNTRY_INFO!A119)","v":"Guinea Bissau"},{"$f":"IF(COUNTRY_INFO!B119=0,\" \",COUNTRY_INFO!B119)","v":"Cacheu"},{"$f":"IF(COUNTRY_INFO!C119=0,\" \",COUNTRY_INFO!C119)","v":"Jeta"},{"$f":"IF(OR(COUNTRY_INFO!$T$9:$T$1000=\"T3 (ALB/MBD)\",COUNTRY_INFO!$U$9:$U$1000=\"T3 (ALB/MBD)\"), \"T3 (ALB/MBD)\", \" \")","v":" "},null,null,null,null,null,0,null,null,null,0," "," "," "," "]
[{"$f":"IF(COUNTRY_INFO!A120=0,\" \",COUNTRY_INFO!A120)","v":"Guinea Bissau"},{"$f":"IF(COUNTRY_INFO!B120=0,\" \",COUNTRY_INFO!B120)","v":"Cacheu"},{"$f":"IF(COUNTRY_INFO!C120=0,\" \",COUNTRY_INFO!C120)","v":"Pecixe"},{"$f":"IF(OR(COUNTRY_INFO!$T$9:$T$1000=\"T3 (ALB/MBD)\",COUNTRY_INFO!$U$9:$U$1000=\"T3 (ALB/MBD)\"), \"T3 (ALB/MBD)\", \" \")","v":" "},null,null,null,null,null,0,null,null,null,0," "," "," "," "]
[{"$f":"IF(COUNTRY_INFO!A121=0,\" \",COUNTRY_INFO!A121)","v":"Guinea Bissau"},{"$f":"IF(COUNTRY_INFO!B121=0,\" \",COUNTRY_INFO!B121)","v":"Cacheu"},{"$f":"IF(COUNTRY_INFO!C121=0,\" \",COUNTRY_INFO!C121)","v":"Pelundo"},{"$f":"IF(OR(COUNTRY_INFO!$T$9:$T$1000=\"T3 (ALB/MBD)\",COUNTRY_INFO!$U$9:$U$1000=\"T3 (ALB/MBD)\"), \"T3 (ALB/MBD)\", \" \")","v":" "},null,null,null,null,null,0,null,null,null,0," "," "," "," "]
[{"$f":"IF(COUNTRY_INFO!A122=0,\" \",COUNTRY_INFO!A122)","v":"Guinea Bissau"},{"$f":"IF(COUNTRY_INFO!B122=0,\" \",COUNTRY_INFO!B122)","v":"Cacheu"},{"$f":"IF(COUNTRY_INFO!C122=0,\" \",COUNTRY_INFO!C122)","v":"S.Domingos"},{"$f":"IF(OR(COUNTRY_INFO!$T$9:$T$1000=\"T3 (ALB/MBD)\",COUNTRY_INFO!$U$9:$U$1000=\"T3 (ALB/MBD)\"), \"T3 (ALB/MBD)\", \" \")","v":" "},null,null,null,null,null,0,null,null,null,0," "," "," "," "]
[{"$f":"IF(COUNTRY_INFO!A123=0,\" \",COUNTRY_INFO!A123)","v":"Guinea Bissau"},{"$f":"IF(COUNTRY_INFO!B123=0,\" \",COUNTRY_INFO!B123)","v":"Cacheu"},{"$f":"IF(COUNTRY_INFO!C123=0,\" \",COUNTRY_INFO!C123)","v":"Sedengal"},{"$f":"IF(OR(COUNTRY_INFO!$T$9:$T$1000=\"T3 (ALB/MBD)\",COUNTRY_INFO!$U$9:$U$1000=\"T3 (ALB/MBD)\"), \"T3 (ALB/MBD)\", \" \")","v":" "},null,null,null,null,null,0,null,null,null,0," "," "," "," "]
[{"$f":"IF(COUNTRY_INFO!A124=0,\" \",COUNTRY_INFO!A124)","v":"Guinea Bissau"},{"$f":"IF(COUNTRY_INFO!B124=0,\" \",COUNTRY_INFO!B124)","v":"Cacheu"},{"$f":"IF(COUNTRY_INFO!C124=0,\" \",COUNTRY_INFO!C124)","v":"Suzana"},{"$f":"IF(OR(COUNTRY_INFO!$T$9:$T$1000=\"T3 (ALB/MBD)\",COUNTRY_INFO!$U$9:$U$1000=\"T3 (ALB/MBD)\"), \"T3 (ALB/MBD)\", \" \")","v":" "},null,null,null,null,null,0,null,null,null,0," "," "," "," "]
[{"$f":"IF(COUNTRY_INFO!A125=0,\" \",COUNTRY_INFO!A125)","v":"Guinea Bissau"},{"$f":"IF(COUNTRY_INFO!B125=0,\" \",COUNTRY_INFO!B125)","v":"Cacheu"},{"$f":"IF(COUNTRY_INFO!C125=0,\" \",COUNTRY_INFO!C125)","v":"Varela"},{"$f":"IF(OR(COUNTRY_INFO!$T$9:$T$1000=\"T3 (ALB/MBD)\",COUNTRY_INFO!$U$9:$U$1000=\"T3 (ALB/MBD)\"), \"T3 (ALB/MBD)\", \" \")","v":" "},null,null,null,null,null,0,null,null,null,0," "," "," "," "]

{"sheet":"T3_R2","index":8,"n_rows":125,"n_cols":18,"rows_kept":125,"cut":false,"hidden":false,"merged":[[5,6,5,9],[5,10,5,13],[5,14,5,17],[3,0,3,2],[5,0,5,2],[5,3,6,3],[5,5,6,5],[5,4,6,4]]}
["T 3 - Albendazole (ALB) ou Mebendazole (MBD) - Tournée 2"]
["Structure administrative, population nécessitant une chimioprévention par groupe d'âge, population traitée par groupe d'âge et couverture"]
[]
["TOTAL",null,null,null,null,null,{"$f":"SUM(G$9:G$1000)","v":0},0,0,0,0,0,0,0,{"$f":"IF(G4<>0, IF(K4/G4*100=0, \"-\", K4/G4*100), \" \")","v":" "},{"$f":"IF(H4<>0, IF(L4/H4*100=0, \"-\", L4/H4*100), \" \")","v":" "},{"$f":"IF(I4<>0, IF(M4/I4*100=0, \"-\", M4/I4*100), \" \")","v":" "},{"$f":"IF(J4<>0, IF(N4/J4*100=0, \"-\", N4/J4*100), \" \")","v":" "}]
[]
["Structure administrative du pays",null,null,"Mise en oeuvre \nde la CP","Médica-ment","Date","Population ciblée pour T3",null,null,null,"Population traitée",null,null,null,"Couverture du Programme (%)"]
["Pays","Région/Département","District",null,null,null,"EAPréS","EAS","Adultes","Total","EAPréS","EAS","Adultes","Total","EAPréS","EAS","Adultes","Total"]
[]
[{"$f":"IF(COUNTRY_INFO!A9=0,\" \",COUNTRY_INFO!A9)","v":"Guinea Bissau"},{"$f":"IF(COUNTRY_INFO!B9=0,\" \",COUNTRY_INFO!B9)","v":"SAB"},{"$f":"IF(COUNTRY_INFO!C9=0,\" \",COUNTRY_INFO!C9)","v":"AJUDA"},{"$f":"IF(AND(COUNTRY_INFO!$T$9:$T$1000=\"T3 (ALB/MBD)\",COUNTRY_INFO!$U$9:$U$1000=\"T3 (ALB/MBD)\"), \"T3 (ALB/MBD)\", \" \")","v":" "},null,null,null,null,null,{"$f":"SUM(G9:I9)","v":0},null,null,null,{"$f":"SUM(K9:M9)","v":0},{"$f":"IF(G9<>0, IF(K9/G9*100=0, \"-\", K9/G9*100), \" \")","v":" "}," "," "," "]
[{"$f":"IF(COUNTRY_INFO!A10=0,\" \",COUNTRY_INFO!A10)","v":"Guinea Bissau"},{"$f":"IF(COUNTRY_INFO!B10=0,\" \",COUNTRY_INFO!B10)","v":"SAB"},{"$f":"IF(COUNTRY_INFO!C10=0,\" \",COUNTRY_INFO!C10)","v":"ANTULA"},{"$f":"IF(AND(COUNTRY_INFO!$T$9:$T$1000=\"T3 (ALB/MBD)\",COUNTRY_INFO!$U$9:$U$1000=\"T3 (ALB/MBD)\"), \"T3 (ALB/MBD)\", \" \")","v":" "},null,null,null,null,null,{"$f":"SUM(G10:I10)","v":0},null,null,null,{"$f":"SUM(K10:M10)","v":0},{"$f":"IF(G10<>0, IF(K10/G10*100=0, \"-\", K10/G10*100), \" \")","v":" "},{"$f":"IF(H10<>0, IF(L10/H10*100=0, \"-\", L10/H10*100), \" \")","v":" "},{"$f":"IF(I10<>0, IF(M10/I10*100=0, \"-\", M10/I10*100), \" \")","v":" "},{"$f":"IF(J10<>0, IF(N10/J10*100=0, \"-\", N10/J10*100), \" \")","v":" "}]
[{"$f":"IF(COUNTRY_INFO!A11=0,\" \",COUNTRY_INFO!A11)","v":"Guinea Bissau"},{"$f":"IF(COUNTRY_INFO!B11=0,\" \",COUNTRY_INFO!B11)","v":"SAB"},{"$f":"IF(COUNTRY_INFO!C11=0,\" \",COUNTRY_INFO!C11)","v":"B. MILITAR"},{"$f":"IF(AND(COUNTRY_INFO!$T$9:$T$1000=\"T3 (ALB/MBD)\",COUNTRY_INFO!$U$9:$U$1000=\"T3 (ALB/MBD)\"), \"T3 (ALB/MBD)\", \" \")","v":" "},null,null,null,null,null,0,null,null,null,0," "," "," "," "]
[{"$f":"IF(COUNTRY_INFO!A12=0,\" \",COUNTRY_INFO!A12)","v":"Guinea Bissau"},{"$f":"IF(COUNTRY_INFO!B12=0,\" \",COUNTRY_INFO!B12)","v":"SAB"},{"$f":"IF(COUNTRY_INFO!C12=0,\" \",COUNTRY_INFO!C12)","v":"BANDIM"},{"$f":"IF(AND(COUNTRY_INFO!$T$9:$T$1000=\"T3 (ALB/MBD)\",COUNTRY_INFO!$U$9:$U$1000=\"T3 (ALB/MBD)\"), \"T3 (ALB/MBD)\", \" \")","v":" "},null,null,null,null,null,0,null,null,null,0," "," "," "," "]
[{"$f":"IF(COUNTRY_INFO!A13=0,\" \",COUNTRY_INFO!A13)","v":"Guinea Bissau"},{"$f":"IF(COUNTRY_INFO!B13=0,\" \",COUNTRY_INFO!B13)","v":"SAB"},{"$f":"IF(COUNTRY_INFO!C13=0,\" \",COUNTRY_INFO!C13)","v":"BELEM"},{"$f":"IF(AND(COUNTRY_INFO!$T$9:$T$1000=\"T3 (ALB/MBD)\",COUNTRY_INFO!$U$9:$U$1000=\"T3 (ALB/MBD)\"), \"T3 (ALB/MBD)\", \" \")","v":" "},null,null,null,null,null,0,null,null,null,0," "," "," "," "]
[{"$f":"IF(COUNTRY_INFO!A14=0,\" \",COUNTRY_INFO!A14)","v":"Guinea Bissau"},{"$f":"IF(COUNTRY_INFO!B14=0,\" \",COUNTRY_INFO!B14)","v":"SAB"},{"$f":"IF(COUNTRY_INFO!C14=0,\" \",COUNTRY_INFO!C14)","v":"CMI"},{"$f":"IF(AND(COUNTRY_INFO!$T$9:$T$1000=\"T3 (ALB/MBD)\",COUNTRY_INFO!$U$9:$U$1000=\"T3 (ALB/MBD)\"), \"T3 (ALB/MBD)\", \" \")","v":" "},null,null,null,null,null,0,null,null,null,0," "," "," "," "]
[{"$f":"IF(COUNTRY_INFO!A15=0,\" \",COUNTRY_INFO!A15)","v":"Guinea Bissau"},{"$f":"IF(COUNTRY_INFO!B15=0,\" \",COUNTRY_INFO!B15)","v":"SAB"},{"$f":"IF(COUNTRY_INFO!C15=0,\" \",COUNTRY_INFO!C15)","v":"CUNTUM"},{"$f":"IF(AND(COUNTRY_INFO!$T$9:$T$1000=\"T3 (ALB/MBD)\",COUNTRY_INFO!$U$9:$U$1000=\"T3 (ALB/MBD)\"), \"T3 (ALB/MBD)\", \" \")","v":" "},null,null,null,null,null,0,null,null,null,0," "," "," "," "]
[{"$f":"IF(COUNTRY_INFO!A16=0,\" \",COUNTRY_INFO!A16)","v":"Guinea Bissau"},{"$f":"IF(COUNTRY_INFO!B16=0,\" \",COUNTRY_INFO!B16)","v":"SAB"},{"$f":"IF(COUNTRY_INFO!C16=0,\" \",COUNTRY_INFO!C16)","v":"LUANDA"},{"$f":"IF(AND(COUNTRY_INFO!$T$9:$T$1000=\"T3 (ALB/MBD)\",COUNTRY_INFO!$U$9:$U$1000=\"T3 (ALB/MBD)\"), \"T3 (ALB/MBD)\", \" \")","v":" "},null,null,null,null,null,0,null,null,null,0," "," "," "," "]
[{"$f":"IF(COUNTRY_INFO!A17=0,\" \",COUNTRY_INFO!A17)","v":"Guinea Bissau"},{"$f":"IF(COUNTRY_INFO!B17=0,\" \",COUNTRY_INFO!B17)","v":"SAB"},{"$f":"IF(COUNTRY_INFO!C17=0,\" \",COUNTRY_INFO!C17)","v":"MISSIRA"},{"$f":"IF(AND(COUNTRY_INFO!$T$9:$T$1000=\"T3 (ALB/MBD)\",COUNTRY_INFO!$U$9:$U$1000=\"T3 (ALB/MBD)\"), \"T3 (ALB/MBD)\", \" \")","v":" "},null,null,null,null,null,0,null,null,null,0," "," "," "," "]
[{"$f":"IF(COUNTRY_INFO!A18=0,\" \",COUNTRY_INFO!A18)","v":"Guinea Bissau"},{"$f":"IF(COUNTRY_INFO!B18=0,\" \",COUNTRY_INFO!B18)","v":"SAB"},{"$f":"IF(COUNTRY_INFO!C18=0,\" \",COUNTRY_INFO!C18)","v":"PEFINE"},{"$f":"IF(AND(COUNTRY_INFO!$T$9:$T$1000=\"T3 (ALB/MBD)\",COUNTRY_INFO!$U$9:$U$1000=\"T3 (ALB/MBD)\"), \"T3 (ALB/MBD)\", \" \")","v":" "},null,null,null,null,null,0,null,null,null,0," "," "," "," "]
[{"$f":"IF(COUNTRY_INFO!A19=0,\" \",COUNTRY_INFO!A19)","v":"Guinea Bissau"},{"$f":"IF(COUNTRY_INFO!B19=0,\" \",COUNTRY_INFO!B19)","v":"SAB"},{"$f":"IF(COUNTRY_INFO!C19=0,\" \",COUNTRY_INFO!C19)","v":"PLACK II"},{"$f":"IF(AND(COUNTRY_INFO!$T$9:$T$1000=\"T3 (ALB/MBD)\",COUNTRY_INFO!$U$9:$U$1000=\"T3 (ALB/MBD)\"), \"T3 (ALB/MBD)\", \" \")","v":" "},null,null,null,null,null,0,null,null,null,0," "," "," "," "]
[{"$f":"IF(COUNTRY_INFO!A20=0,\" \",COUNTRY_INFO!A20)","v":"Guinea Bissau"},{"$f":"IF(COUNTRY_INFO!B20=0,\" \",COUNTRY_INFO!B20)","v":"SAB"},{"$f":"IF(COUNTRY_INFO!C20=0,\" \",COUNTRY_INFO!C20)","v":"QUELELE"},{"$f":"IF(AND(COUNTRY_INFO!$T$9:$T$1000=\"T3 (ALB/MBD)\",COUNTRY_INFO!$U$9:$U$1000=\"T3 (ALB/MBD)\"), \"T3 (ALB/MBD)\", \" \")","v":" "},null,null,null,null,null,0,null,null,null,0," "," "," "," "]
[{"$f":"IF(COUNTRY_INFO!A21=0,\" \",COUNTRY_INFO!A21)","v":"Guinea Bissau"},{"$f":"IF(COUNTRY_INFO!B21=0,\" \",COUNTRY_INFO!B21)","v":"SAB"},{"$f":"IF(COUNTRY_INFO!C21=0,\" \",COUNTRY_INFO!C21)","v":"SANTA LUZIA"},{"$f":"IF(AND(COUNTRY_INFO!$T$9:$T$1000=\"T3 (ALB/MBD)\",COUNTRY_INFO!$U$9:$U$1000=\"T3 (ALB/MBD)\"), \"T3 (ALB/MBD)\", \" \")","v":" "},null,null,null,null,null,0,null,null,null,0," "," "," "," "]
[{"$f":"IF(COUNTRY_INFO!A22=0,\" \",COUNTRY_INFO!A22)","v":"Guinea Bissau"},{"$f":"IF(COUNTRY_INFO!B22=0,\" \",COUNTRY_INFO!B22)","v":"SAB"},{"$f":"IF(COUNTRY_INFO!C22=0,\" \",COUNTRY_INFO!C22)","v":"SINTRA NEMA"},{"$f":"IF(AND(COUNTRY_INFO!$T$9:$T$1000=\"T3 (ALB/MBD)\",COUNTRY_INFO!$U$9:$U$1000=\"T3 (ALB/MBD)\"), \"T3 (ALB/MBD)\", \" \")","v":" "},null,null,null,null,null,0,null,null,null,0," "," "," "," "]
[{"$f":"IF(COUNTRY_INFO!A23=0,\" \",COUNTRY_INFO!A23)","v":"Guinea Bissau"},{"$f":"IF(COUNTRY_INFO!B23=0,\" \",COUNTRY_INFO!B23)","v":"Bijagos"},{"$f":"IF(COUNTRY_INFO!C23=0,\" \",COUNTRY_INFO!C23)","v":"Bubaque"},{"$f":"IF(AND(COUNTRY_INFO!$T$9:$T$1000=\"T3 (ALB/MBD)\",COUNTRY_INFO!$U$9:$U$1000=\"T3 (ALB/MBD)\"), \"T3 (ALB/MBD)\", \" \")","v":" "},null,null,null,null,null,0,null,null,null,0," "," "," "," "]
[{"$f":"IF(COUNTRY_INFO!A24=0,\" \",COUNTRY_INFO!A24)","v":"Guinea Bissau"},{"$f":"IF(COUNTRY_INFO!B24=0,\" \",COUNTRY_INFO!B24)","v":"Bijagos"},{"$f":"IF(COUNTRY_INFO!C24=0,\" \",COUNTRY_INFO!C24)","v":"Canhabaque"},{"$f":"IF(AND(COUNTRY_INFO!$T$9:$T$1000=\"T3 (ALB/MBD)\",COUNTRY_INFO!$U$9:$U$1000=\"T3 (ALB/MBD)\"), \"T3 (ALB/MBD)\", \" \")","v":" "},null,null,null,null,null,0,null,null,null,0," "," "," "," "]
[{"$f":"IF(COUNTRY_INFO!A25=0,\" \",COUNTRY_INFO!A25)","v":"Guinea Bissau"},{"$f":"IF(COUNTRY_INFO!B25=0,\" \",COUNTRY_INFO!B25)","v":"Bijagos"},{"$f":"IF(COUNTRY_INFO!C25=0,\" \",COUNTRY_INFO!C25)","v":"Canogo"},{"$f":"IF(AND(COUNTRY_INFO!$T$9:$T$1000=\"T3 (ALB/MBD)\",COUNTRY_INFO!$U$9:$U$1000=\"T3 (ALB/MBD)\"), \"T3 (ALB/MBD)\", \" \")","v":" "},null,null,null,null,null,0,null,null,null,0," "," "," "," "]
[{"$f":"IF(COUNTRY_INFO!A26=0,\" \",COUNTRY_INFO!A26)","v":"Guinea Bissau"},{"$f":"IF(COUNTRY_INFO!B26=0,\" \",COUNTRY_INFO!B26)","v":"Bijagos"},{"$f":"IF(COUNTRY_INFO!C26=0,\" \",COUNTRY_INFO!C26)","v":"Caravela"},{"$f":"IF(AND(COUNTRY_INFO!$T$9:$T$1000=\"T3 (ALB/MBD)\",COUNTRY_INFO!$U$9:$U$1000=\"T3 (ALB/MBD)\"), \"T3 (ALB/MBD)\", \" \")","v":" "},null,null,null,null,null,0,null,null,null,0," "," "," "," "]
[{"$f":"IF(COUNTRY_INFO!A27=0,\" \",COUNTRY_INFO!A27)","v":"Guinea Bissau"},{"$f":"IF(COUNTRY_INFO!B27=0,\" \",COUNTRY_INFO!B27)","v":"Bijagos"},{"$f":"IF(COUNTRY_INFO!C27=0,\" \",COUNTRY_INFO!C27)","v":"Formosa"},{"$f":"IF(AND(COUNTRY_INFO!$T$9:$T$1000=\"T3 (ALB/MBD)\",COUNTRY_INFO!$U$9:$U$1000=\"T3 (ALB/MBD)\"), \"T3 (ALB/MBD)\", \" \")","v":" "},null,null,null,null,null,0,null,null,null,0," "," "," "," "]
[{"$f":"IF(COUNTRY_INFO!A28=0,\" \",COUNTRY_INFO!A28)","v":"Guinea Bissau"},{"$f":"IF(COUNTRY_INFO!B28=0,\" \",COUNTRY_INFO!B28)","v":"Bijagos"},{"$f":"IF(COUNTRY_INFO!C28=0,\" \",COUNTRY_INFO!C28)","v":"Orango Grande"},{"$f":"IF(AND(COUNTRY_INFO!$T$9:$T$1000=\"T3 (ALB/MBD)\",COUNTRY_INFO!$U$9:$U$1000=\"T3 (ALB/MBD)\"), \"T3 (ALB/MBD)\", \" \")","v":" "},null,null,null,null,null,0,null,null,null,0," "," "," "," "]
[{"$f":"IF(COUNTRY_INFO!A29=0,\" \",COUNTRY_INFO!A29)","v":"Guinea Bissau"},{"$f":"IF(COUNTRY_INFO!B29=0,\" \",COUNTRY_INFO!B29)","v":"Bijagos"},{"$f":"IF(COUNTRY_INFO!C29=0,\" \",COUNTRY_INFO!C29)","v":"Orango zinho"},{"$f":"IF(AND(COUNTRY_INFO!$T$9:$T$1000=\"T3 (ALB/MBD)\",COUNTRY_INFO!$U$9:$U$1000=\"T3 (ALB/MBD)\"), \"T3 (ALB/MBD)\", \" \")","v":" "},null,null,null,null,null,0,null,null,null,0," "," "," "," "]
[{"$f":"IF(COUNTRY_INFO!A30=0,\" \",COUNTRY_INFO!A30)","v":"Guinea Bissau"},{"$f":"IF(COUNTRY_INFO!B30=0,\" \",COUNTRY_INFO!B30)","v":"Bijagos"},{"$f":"IF(COUNTRY_INFO!C30=0,\" \",COUNTRY_INFO!C30)","v":"Soga"},{"$f":"IF(AND(COUNTRY_INFO!$T$9:$T$1000=\"T3 (ALB/MBD)\",COUNTRY_INFO!$U$9:$U$1000=\"T3 (ALB/MBD)\"), \"T3 (ALB/MBD)\", \" \")","v":" "},null,null,null,null,null,0,null,null,null,0," "," "," "," "]
[{"$f":"IF(COUNTRY_INFO!A31=0,\" \",COUNTRY_INFO!A31)","v":"Guinea Bissau"},{"$f":"IF(COUNTRY_INFO!B31=0,\" \",COUNTRY_INFO!B31)","v":"Bijagos"},{"$f":"IF(COUNTRY_INFO!C31=0,\" \",COUNTRY_INFO!C31)","v":"Unhocomo"},{"$f":"IF(AND(COUNTRY_INFO!$T$9:$T$1000=\"T3 (ALB/MBD)\",COUNTRY_INFO!$U$9:$U$1000=\"T3 (ALB/MBD)\"), \"T3 (ALB/MBD)\", \" \")","v":" "},null,null,null,null,null,0,null,null,null,0," "," "," "," "]
[{"$f":"IF(COUNTRY_INFO!A32=0,\" \",COUNTRY_INFO!A32)","v":"Guinea Bissau"},{"$f":"IF(COUNTRY_INFO!B32=0,\" \",COUNTRY_INFO!B32)","v":"Bijagos"},{"$f":"IF(COUNTRY_INFO!C32=0,\" \",COUNTRY_INFO!C32)","v":"Uno"},{"$f":"IF(AND(COUNTRY_INFO!$T$9:$T$1000=\"T3 (ALB/MBD)\",COUNTRY_INFO!$U$9:$U$1000=\"T3 (ALB/MBD)\"), \"T3 (ALB/MBD)\", \" \")","v":" "},null,null,null,null,null,0,null,null,null,0," "," "," "," "]
[{"$f":"IF(COUNTRY_INFO!A33=0,\" \",COUNTRY_INFO!A33)","v":"Guinea Bissau"},{"$f":"IF(COUNTRY_INFO!B33=0,\" \",COUNTRY_INFO!B33)","v":"Bijagos"},{"$f":"IF(COUNTRY_INFO!C33=0,\" \",COUNTRY_INFO!C33)","v":"Uracane"},{"$f":"IF(AND(COUNTRY_INFO!$T$9:$T$1000=\"T3 (ALB/MBD)\",COUNTRY_INFO!$U$9:$U$1000=\"T3 (ALB/MBD)\"), \"T3 (ALB/MBD)\", \" \")","v":" "},null,null,null,null,null,0,null,null,null,0," "," "," "," "]
[{"$f":"IF(COUNTRY_INFO!A34=0,\" \",COUNTRY_INFO!A34)","v":"Guinea Bissau"},{"$f":"IF(COUNTRY_INFO!B34=0,\" \",COUNTRY_INFO!B34)","v":"Biombo"},{"$f":"IF(COUNTRY_INFO!C34=0,\" \",COUNTRY_INFO!C34)","v":"BIJIMITA"},{"$f":"IF(AND(COUNTRY_INFO!$T$9:$T$1000=\"T3 (ALB/MBD)\",COUNTRY_INFO!$U$9:$U$1000=\"T3 (ALB/MBD)\"), \"T3 (ALB/MBD)\", \" \")","v":" "},null,null,null,null,null,0,null,null,null,0," "," "," "," "]
[{"$f":"IF(COUNTRY_INFO!A35=0,\" \",COUNTRY_INFO!A35)","v":"Guinea Bissau"},{"$f":"IF(COUNTRY_INFO!B35=0,\" \",COUNTRY_INFO!B35)","v":"Biombo"},{"$f":"IF(COUNTRY_INFO!C35=0,\" \",COUNTRY_INFO!C35)","v":"CUMURA"},{"$f":"IF(AND(COUNTRY_INFO!$T$9:$T$1000=\"T3 (ALB/MBD)\",COUNTRY_INFO!$U$9:$U$1000=\"T3 (ALB/MBD)\"), \"T3 (ALB/MBD)\", \" \")","v":" "},null,null,null,null,null,0,null,null,null,0," "," "," "," "]
[{"$f":"IF(COUNTRY_INFO!A36=0,\" \",COUNTRY_INFO!A36)","v":"Guinea Bissau"},{"$f":"IF(COUNTRY_INFO!B36=0,\" \",COUNTRY_INFO!B36)","v":"Biombo"},{"$f":"IF(COUNTRY_INFO!C36=0,\" \",COUNTRY_INFO!C36)","v":"DORSE"},{"$f":"IF(AND(COUNTRY_INFO!$T$9:$T$1000=\"T3 (ALB/MBD)\",COUNTRY_INFO!$U$9:$U$1000=\"T3 (ALB/MBD)\"), \"T3 (ALB/MBD)\", \" \")","v":" "},null,null,null,null,null,0,null,null,null,0," "," "," "," "]
[{"$f":"IF(COUNTRY_INFO!A37=0,\" \",COUNTRY_INFO!A37)","v":"Guinea Bissau"},{"$f":"IF(COUNTRY_INFO!B37=0,\" \",COUNTRY_INFO!B37)","v":"Biombo"},{"$f":"IF(COUNTRY_INFO!C37=0,\" \",COUNTRY_INFO!C37)","v":"ILONDE"},{"$f":"IF(AND(COUNTRY_INFO!$T$9:$T$1000=\"T3 (ALB/MBD)\",COUNTRY_INFO!$U$9:$U$1000=\"T3 (ALB/MBD)\"), \"T3 (ALB/MBD)\", \" \")","v":" "},null,null,null,null,null,0,null,null,null,0," "," "," "," "]
[{"$f":"IF(COUNTRY_INFO!A38=0,\" \",COUNTRY_INFO!A38)","v":"Guinea Bissau"},{"$f":"IF(COUNTRY_INFO!B38=0,\" \",COUNTRY_INFO!B38)","v":"Biombo"},{"$f":"IF(COUNTRY_INFO!C38=0,\" \",COUNTRY_INFO!C38)","v":"ONDAME"},{"$f":"IF(AND(COUNTRY_INFO!$T$9:$T$1000=\"T3 (ALB/MBD)\",COUNTRY_INFO!$U$9:$U$1000=\"T3 (ALB/MBD)\"), \"T3 (ALB/MBD)\", \" \")","v":" "},null,null,null,null,null,0,null,null,null,0," "," "," "," "]
[{"$f":"IF(COUNTRY_INFO!A39=0,\" \",COUNTRY_INFO!A39)","v":"Guinea Bissau"},{"$f":"IF(COUNTRY_INFO!B39=0,\" \",COUNTRY_INFO!B39)","v":"Biombo"},{"$f":"IF(COUNTRY_INFO!C39=0,\" \",COUNTRY_INFO!C39)","v":"PRABIS"},{"$f":"IF(AND(COUNTRY_INFO!$T$9:$T$1000=\"T3 (ALB/MBD)\",COUNTRY_INFO!$U$9:$U$1000=\"T3 (ALB/MBD)\"), \"T3 (ALB/MBD)\", \" \")","v":" "},null,null,null,null,null,0,null,null,null,0," "," "," "," "]
[{"$f":"IF(COUNTRY_INFO!A40=0,\" \",COUNTRY_INFO!A40)","v":"Guinea Bissau"},{"$f":"IF(COUNTRY_INFO!B40=0,\" \",COUNTRY_INFO!B40)","v":"Biombo"},{"$f":"IF(COUNTRY_INFO!C40=0,\" \",COUNTRY_INFO!C40)","v":"QUINHAMEL"},{"$f":"IF(AND(COUNTRY_INFO!$T$9:$T$1000=\"T3 (ALB/MBD)\",COUNTRY_INFO!$U$9:$U$1000=\"T3 (ALB/MBD)\"), \"T3 (ALB/MBD)\", \" \")","v":" "},null,null,null,null,null,0,null,null,null,0," "," "," "," "]
[{"$f":"IF(COUNTRY_INFO!A41=0,\" \",COUNTRY_INFO!A41)","v":"Guinea Bissau"},{"$f":"IF(COUNTRY_INFO!B41=0,\" \",COUNTRY_INFO!B41)","v":"Biombo"},{"$f":"IF(COUNTRY_INFO!C41=0,\" \",COUNTRY_INFO!C41)","v":"SAFIM"},{"$f":"IF(AND(COUNTRY_INFO!$T$9:$T$1000=\"T3 (ALB/MBD)\",COUNTRY_INFO!$U$9:$U$1000=\"T3 (ALB/MBD)\"), \"T3 (ALB/MBD)\", \" \")","v":" "},null,null,null,null,null,0,null,null,null,0," "," "," "," "]
[{"$f":"IF(COUNTRY_INFO!A42=0,\" \",COUNTRY_INFO!A42)","v":"Guinea Bissau"},{"$f":"IF(COUNTRY_INFO!B42=0,\" \",COUNTRY_INFO!B42)","v":"Farim"},{"$f":"IF(COUNTRY_INFO!C42=0,\" \",COUNTRY_INFO!C42)","v":"BINTA"},{"$f":"IF(AND(COUNTRY_INFO!$T$9:$T$1000=\"T3 (ALB/MBD)\",COUNTRY_INFO!$U$9:$U$1000=\"T3 (ALB/MBD)\"), \"T3 (ALB/MBD)\", \" \")","v":" "},null,null,null,null,null,0,null,null,null,0," "," "," "," "]
[{"$f":"IF(COUNTRY_INFO!A43=0,\" \",COUNTRY_INFO!A43)","v":"Guinea Bissau"},{"$f":"IF(COUNTRY_INFO!B43=0,\" \",COUNTRY_INFO!B43)","v":"Farim"},{"$f":"IF(COUNTRY_INFO!C43=0,\" \",COUNTRY_INFO!C43)","v":"CANDJAMBARI"},{"$f":"IF(AND(COUNTRY_INFO!$T$9:$T$1000=\"T3 (ALB/MBD)\",COUNTRY_INFO!$U$9:$U$1000=\"T3 (ALB/MBD)\"), \"T3 (ALB/MBD)\", \" \")","v":" "},null,null,null,null,null,0,null,null,null,0," "," "," "," "]
[{"$f":"IF(COUNTRY_INFO!A44=0,\" \",COUNTRY_INFO!A44)","v":"Guinea Bissau"},{"$f":"IF(COUNTRY_INFO!B44=0,\" \",COUNTRY_INFO!B44)","v":"Farim"},{"$f":"IF(COUNTRY_INFO!C44=0,\" \",COUNTRY_INFO!C44)","v":"CUNTIMA"},{"$f":"IF(AND(COUNTRY_INFO!$T$9:$T$1000=\"T3 (ALB/MBD)\",COUNTRY_INFO!$U$9:$U$1000=\"T3 (ALB/MBD)\"), \"T3 (ALB/MBD)\", \" \")","v":" "},null,null,null,null,null,0,null,null,null,0," "," "," "," "]
[{"$f":"IF(COUNTRY_INFO!A45=0,\" \",COUNTRY_INFO!A45)","v":"Guinea Bissau"},{"$f":"IF(COUNTRY_INFO!B45=0,\" \",COUNTRY_INFO!B45)","v":"Farim"},{"$f":"IF(COUNTRY_INFO!C45=0,\" \",COUNTRY_INFO!C45)","v":"FARIM"},{"$f":"IF(AND(COUNTRY_INFO!$T$9:$T$1000=\"T3 (ALB/MBD)\",COUNTRY_INFO!$U$9:$U$1000=\"T3 (ALB/MBD)\"), \"T3 (ALB/MBD)\", \" \")","v":" "},null,null,null,null,null,0,null,null,null,0," "," "," "," "]
[{"$f":"IF(COUNTRY_INFO!A46=0,\" \",COUNTRY_INFO!A46)","v":"Guinea Bissau"},{"$f":"IF(COUNTRY_INFO!B46=0,\" \",COUNTRY_INFO!B46)","v":"Farim"},{"$f":"IF(COUNTRY_INFO!C46=0,\" \",COUNTRY_INFO!C46)","v":"GUIDAGE"},{"$f":"IF(AND(COUNTRY_INFO!$T$9:$T$1000=\"T3 (ALB/MBD)\",COUNTRY_INFO!$U$9:$U$1000=\"T3 (ALB/MBD)\"), \"T3 (ALB/MBD)\", \" \")","v":" "},null,null,null,null,null,0,null,null,null,0," "," "," "," "]
[{"$f":"IF(COUNTRY_INFO!A47=0,\" \",COUNTRY_INFO!A47)","v":"Guinea Bissau"},{"$f":"IF(COUNTRY_INFO!B47=0,\" \",COUNTRY_INFO!B47)","v":"Oio"},{"$f":"IF(COUNTRY_INFO!C47=0,\" \",COUNTRY_INFO!C47)","v":"BINAR"},{"$f":"IF(AND(COUNTRY_INFO!$T$9:$T$1000=\"T3 (ALB/MBD)\",COUNTRY_INFO!$U$9:$U$1000=\"T3 (ALB/MBD)\"), \"T3 (ALB/MBD)\", \" \")","v":" "},null,null,null,null,null,0,null,null,null,0," "," "," "," "]
[{"$f":"IF(COUNTRY_INFO!A48=0,\" \",COUNTRY_INFO!A48)","v":"Guinea Bissau"},{"$f":"IF(COUNTRY_INFO!B48=0,\" \",COUNTRY_INFO!B48)","v":"Oio"},{"$f":"IF(COUNTRY_INFO!C48=0,\" \",COUNTRY_INFO!C48)","v":"BISSORA"},{"$f":"IF(AND(COUNTRY_INFO!$T$9:$T$1000=\"T3 (ALB/MBD)\",COUNTRY_INFO!$U$9:$U$1000=\"T3 (ALB/MBD)\"), \"T3 (ALB/MBD)\", \" \")","v":" "},null,null,null,null,null,0,null,null,null,0," "," "," "," "]
[{"$f":"IF(COUNTRY_INFO!A49=0,\" \",COUNTRY_INFO!A49)","v":"Guinea Bissau"},{"$f":"IF(COUNTRY_INFO!B49=0,\" \",COUNTRY_INFO!B49)","v":"Oio"},{"$f":"IF(COUNTRY_INFO!C49=0,\" \",COUNTRY_INFO!C49)","v":"ENCHEIA"},{"$f":"IF(AND(COUNTRY_INFO!$T$9:$T$1000=\"T3 (ALB/MBD)\",COUNTRY_INFO!$U$9:$U$1000=\"T3 (ALB/MBD)\"), \"T3 (ALB/MBD)\", \" \")","v":" "},null,null,null,null,null,0,null,null,null,0," "," "," "," "]
[{"$f":"IF(COUNTRY_INFO!A50=0,\" \",COUNTRY_INFO!A50)","v":"Guinea Bissau"},{"$f":"IF(COUNTRY_INFO!B50=0,\" \",COUNTRY_INFO!B50)","v":"Oio"},{"$f":"IF(COUNTRY_INFO!C50=0,\" \",COUNTRY_INFO!C50)","v":"GÃ-MAMUDO"},{"$f":"IF(AND(COUNTRY_INFO!$T$9:$T$1000=\"T3 (ALB/MBD)\",COUNTRY_INFO!$U$9:$U$1000=\"T3 (ALB/MBD)\"), \"T3 (ALB/MBD)\", \" \")","v":" "},null,null,null,null,null,0,null,null,null,0," "," "," "," "]
[{"$f":"IF(COUNTRY_INFO!A51=0,\" \",COUNTRY_INFO!A51)","v":"Guinea Bissau"},{"$f":"IF(COUNTRY_INFO!B51=0,\" \",COUNTRY_INFO!B51)","v":"Oio"},{"$f":"IF(COUNTRY_INFO!C51=0,\" \",COUNTRY_INFO!C51)","v":"MANSABA"},{"$f":"IF(AND(COUNTRY_INFO!$T$9:$T$1000=\"T3 (ALB/MBD)\",COUNTRY_INFO!$U$9:$U$1000=\"T3 (ALB/MBD)\"), \"T3 (ALB/MBD)\", \" \")","v":" "},null,null,null,null,null,0,null,null,null,0," "," "," "," "]
[{"$f":"IF(COUNTRY_INFO!A52=0,\" \",COUNTRY_INFO!A52)","v":"Guinea Bissau"},{"$f":"IF(COUNTRY_INFO!B52=0,\" \",COUNTRY_INFO!B52)","v":"Oio"},{"$f":"IF(COUNTRY_INFO!C52=0,\" \",COUNTRY_INFO!C52)","v":"MANSOA"},{"$f":"IF(AND(COUNTRY_INFO!$T$9:$T$1000=\"T3 (ALB/MBD)\",COUNTRY_INFO!$U$9:$U$1000=\"T3 (ALB/MBD)\"), \"T3 (ALB/MBD)\", \" \")","v":" "},null,null,null,null,null,0,null,null,null,0," "," "," "," "]
[{"$f":"IF(COUNTRY_INFO!A53=0,\" \",COUNTRY_INFO!A53)","v":"Guinea Bissau"},{"$f":"IF(COUNTRY_INFO!B53=0,\" \",COUNTRY_INFO!B53)","v":"Oio"},{"$f":"IF(COUNTRY_INFO!C53=0,\" \",COUNTRY_INFO!C53)","v":"MORES"},{"$f":"IF(AND(COUNTRY_INFO!$T$9:$T$1000=\"T3 (ALB/MBD)\",COUNTRY_INFO!$U$9:$U$1000=\"T3 (ALB/MBD)\"), \"T3 (ALB/MBD)\", \" \")","v":" "},null,null,null,null,null,0,null,null,null,0," "," "," "," "]
[{"$f":"IF(COUNTRY_INFO!A54=0,\" \",COUNTRY_INFO!A54)","v":"Guinea Bissau"},{"$f":"IF(COUNTRY_INFO!B54=0,\" \",COUNTRY_INFO!B54)","v":"Oio"},{"$f":"IF(COUNTRY_INFO!C54=0,\" \",COUNTRY_INFO!C54)","v":"NHACRA"},{"$f":"IF(AND(COUNTRY_INFO!$T$9:$T$1000=\"T3 (ALB/MBD)\",COUNTRY_INFO!$U$9:$U$1000=\"T3 (ALB/MBD)\"), \"T3 (ALB/MBD)\", \" \")","v":" "},null,null,null,null,null,0,null,null,null,0," "," "," "," "]
[{"$f":"IF(COUNTRY_INFO!A55=0,\" \",COUNTRY_INFO!A55)","v":"Guinea Bissau"},{"$f":"IF(COUNTRY_INFO!B55=0,\" \",COUNTRY_INFO!B55)","v":"Oio"},{"$f":"IF(COUNTRY_INFO!C55=0,\" \",COUNTRY_INFO!C55)","v":"OLOSSATO"},{"$f":"IF(AND(COUNTRY_INFO!$T$9:$T$1000=\"T3 (ALB/MBD)\",COUNTRY_INFO!$U$9:$U$1000=\"T3 (ALB/MBD)\"), \"T3 (ALB/MBD)\", \" \")","v":" "},null,null,null,null,null,0,null,null,null,0," "," "," "," "]
[{"$f":"IF(COUNTRY_INFO!A56=0,\" \",COUNTRY_INFO!A56)","v":"Guinea Bissau"},{"$f":"IF(COUNTRY_INFO!B56=0,\" \",COUNTRY_INFO!B56)","v":"Oio"},{"$f":"IF(COUNTRY_INFO!C56=0,\" \",COUNTRY_INFO!C56)","v":"PORTUGOL"},{"$f":"IF(AND(COUNTRY_INFO!$T$9:$T$1000=\"T3 (ALB/MBD)\",COUNTRY_INFO!$U$9:$U$1000=\"T3 (ALB/MBD)\"), \"T3 (ALB/MBD)\", \" \")","v":" "},null,null,null,null,null,0,null,null,null,0," "," "," "," "]
[{"$f":"IF(COUNTRY_INFO!A57=0,\" \",COUNTRY_INFO!A57)","v":"Guinea Bissau"},{"$f":"IF(COUNTRY_INFO!B57=0,\" \",COUNTRY_INFO!B57)","v":"Bolama"},{"$f":"IF(COUNTRY_INFO!C57=0,\" \",COUNTRY_INFO!C57)","v":"BOLAMA"},{"$f":"IF(AND(COUNTRY_INFO!$T$9:$T$1000=\"T3 (ALB/MBD)\",COUNTRY_INFO!$U$9:$U$1000=\"T3 (ALB/MBD)\"), \"T3 (ALB/MBD)\", \" \")","v":" "},null,null,null,null,null,0,null,null,null,0," "," "," "," "]
[{"$f":"IF(COUNTRY_INFO!A58=0,\" \",COUNTRY_INFO!A58)","v":"Guinea Bissau"},{"$f":"IF(COUNTRY_INFO!B58=0,\" \",COUNTRY_INFO!B58)","v":"Bolama"},{"$f":"IF(COUNTRY_INFO!C58=0,\" \",COUNTRY_INFO!C58)","v":"I.  GALINHAS"},{"$f":"IF(AND(COUNTRY_INFO!$T$9:$T$1000=\"T3 (ALB/MBD)\",COUNTRY_INFO!$U$9:$U$1000=\"T3 (ALB/MBD)\"), \"T3 (ALB/MBD)\", \" \")","v":" "},null,null,null,null,null,0,null,null,null,0," "," "," "," "]
[{"$f":"IF(COUNTRY_INFO!A59=0,\" \",COUNTRY_INFO!A59)","v":"Guinea Bissau"},{"$f":"IF(COUNTRY_INFO!B59=0,\" \",COUNTRY_INFO!B59)","v":"Bolama"},{"$f":"IF(COUNTRY_INFO!C59=0,\" \",COUNTRY_INFO!C59)","v":"SÃO-JOÃO "},{"$f":"IF(AND(COUNTRY_INFO!$T$9:$T$1000=\"T3 (ALB/MBD)\",COUNTRY_INFO!$U$9:$U$1000=\"T3 (ALB/MBD)\"), \"T3 (ALB/MBD)\", \" \")","v":" "},null,null,null,null,null,0,null,null,null,0," "," "," "," "]
[{"$f":"IF(COUNTRY_INFO!A60=0,\" \",COUNTRY_INFO!A60)","v":"Guinea Bissau"},{"$f":"IF(COUNTRY_INFO!B60=0,\" \",COUNTRY_INFO!B60)","v":"Gabu"},{"$f":"IF(COUNTRY_INFO!C60=0,\" \",COUNTRY_INFO!C60)","v":"BAJOCUNDA"},{"$f":"IF(AND(COUNTRY_INFO!$T$9:$T$1000=\"T3 (ALB/MBD)\",COUNTRY_INFO!$U$9:$U$1000=\"T3 (ALB/MBD)\"), \"T3 (ALB/MBD)\", \" \")","v":" "},null,null,null,null,null,0,null,null,null,0," "," "," "," "]
[{"$f":"IF(COUNTRY_INFO!A61=0,\" \",COUNTRY_INFO!A61)","v":"Guinea Bissau"},{"$f":"IF(COUNTRY_INFO!B61=0,\" \",COUNTRY_INFO!B61)","v":"Gabu"},{"$f":"IF(COUNTRY_INFO!C61=0,\" \",COUNTRY_INFO!C61)","v":"BELI"},{"$f":"IF(AND(COUNTRY_INFO!$T$9:$T$1000=\"T3 (ALB/MBD)\",COUNTRY_INFO!$U$9:$U$1000=\"T3 (ALB/MBD)\"), \"T3 (ALB/MBD)\", \" \")","v":" "},null,null,null,null,null,0,null,null,null,0," "," "," "," "]
[{"$f":"IF(COUNTRY_INFO!A62=0,\" \",COUNTRY_INFO!A62)","v":"Guinea Bissau"},{"$f":"IF(COUNTRY_INFO!B62=0,\" \",COUNTRY_INFO!B62)","v":"Gabu"},{"$f":"IF(COUNTRY_INFO!C62=0,\" \",COUNTRY_INFO!C62)","v":"BURUNTUMA"},{"$f":"IF(AND(COUNTRY_INFO!$T$9:$T$1000=\"T3 (ALB/MBD)\",COUNTRY_INFO!$U$9:$U$1000=\"T3 (ALB/MBD)\"), \"T3 (ALB/MBD)\", \" \")","v":" "},null,null,null,null,null,0,null,null,null,0," "," "," "," "]
[{"$f":"IF(COUNTRY_INFO!A63=0,\" \",COUNTRY_INFO!A63)","v":"Guinea Bissau"},{"$f":"IF(COUNTRY_INFO!B63=0,\" \",COUNTRY_INFO!B63)","v":"Gabu"},{"$f":"IF(COUNTRY_INFO!C63=0,\" \",COUNTRY_INFO!C63)","v":"CANJADUDE"},{"$f":"IF(AND(COUNTRY_INFO!$T$9:$T$1000=\"T3 (ALB/MBD)\",COUNTRY_INFO!$U$9:$U$1000=\"T3 (ALB/MBD)\"), \"T3 (ALB/MBD)\", \" \")","v":" "},null,null,null,null,null,0,null,null,null,0," "," "," "," "]
[{"$f":"IF(COUNTRY_INFO!A64=0,\" \",COUNTRY_INFO!A64)","v":"Guinea Bissau"},{"$f":"IF(COUNTRY_INFO!B64=0,\" \",COUNTRY_INFO!B64)","v":"Gabu"},{"$f":"IF(COUNTRY_INFO!C64=0,\" \",COUNTRY_INFO!C64)","v":"CANQUELIFA"},{"$f":"IF(AND(COUNTRY_INFO!$T$9:$T$1000=\"T3 (ALB/MBD)\",COUNTRY_INFO!$U$9:$U$1000=\"T3 (ALB/MBD)\"), \"T3 (ALB/MBD)\", \" \")","v":" "},null,null,null,null,null,0,null,null,null,0," "," "," "," "]
[{"$f":"IF(COUNTRY_INFO!A65=0,\" \",COUNTRY_INFO!A65)","v":"Guinea Bissau"},{"$f":"IF(COUNTRY_INFO!B65=0,\" \",COUNTRY_INFO!B65)","v":"Gabu"},{"$f":"IF(COUNTRY_INFO!C65=0,\" \",COUNTRY_INFO!C65)","v":"CANSISSE"},{"$f":"IF(AND(COUNTRY_INFO!$T$9:$T$1000=\"T3 (ALB/MBD)\",COUNTRY_INFO!$U$9:$U$1000=\"T3 (ALB/MBD)\"), \"T3 (ALB/MBD)\", \" \")","v":" "},null,null,null,null,null,0,null,null,null,0," "," "," "," "]
[{"$f":"IF(COUNTRY_INFO!A66=0,\" \",COUNTRY_INFO!A66)","v":"Guinea Bissau"},{"$f":"IF(COUNTRY_INFO!B66=0,\" \",COUNTRY_INFO!B66)","v":"Gabu"},{"$f":"IF(COUNTRY_INFO!C66=0,\" \",COUNTRY_INFO!C66)","v":"FASSE"},{"$f":"IF(AND(COUNTRY_INFO!$T$9:$T$1000=\"T3 (ALB/MBD)\",COUNTRY_INFO!$U$9:$U$1000=\"T3 (ALB/MBD)\"), \"T3 (ALB/MBD)\", \" \")","v":" "},null,null,null,null,null,0,null,null,null,0," "," "," "," "]
[{"$f":"IF(COUNTRY_INFO!A67=0,\" \",COUNTRY_INFO!A67)","v":"Guinea Bissau"},{"$f":"IF(COUNTRY_INFO!B67=0,\" \",COUNTRY_INFO!B67)","v":"Gabu"},{"$f":"IF(COUNTRY_INFO!C67=0,\" \",COUNTRY_INFO!C67)","v":"PAUNCA"},{"$f":"IF(AND(COUNTRY_INFO!$T$9:$T$1000=\"T3 (ALB/MBD)\",COUNTRY_INFO!$U$9:$U$1000=\"T3 (ALB/MBD)\"), \"T3 (ALB/MBD)\", \" \")","v":" "},null,null,null,null,null,0,null,null,null,0," "," "," "," "]
[{"$f":"IF(COUNTRY_INFO!A68=0,\" \",COUNTRY_INFO!A68)","v":"Guinea Bissau"},{"$f":"IF(COUNTRY_INFO!B68=0,\" \",COUNTRY_INFO!B68)","v":"Gabu"},{"$f":"IF(COUNTRY_INFO!C68=0,\" \",COUNTRY_INFO!C68)","v":"PITCHE"},{"$f":"IF(AND(COUNTRY_INFO!$T$9:$T$1000=\"T3 (ALB/MBD)\",COUNTRY_INFO!$U$9:$U$1000=\"T3 (ALB/MBD)\"), \"T3 (ALB/MBD)\", \" \")","v":" "},null,null,null,null,null,0,null,null,null,0," "," "," "," "]
[{"$f":"IF(COUNTRY_INFO!A69=0,\" \",COUNTRY_INFO!A69)","v":"Guinea Bissau"},{"$f":"IF(COUNTRY_INFO!B69=0,\" \",COUNTRY_INFO!B69)","v":"Gabu"},{"$f":"IF(COUNTRY_INFO!C69=0,\" \",COUNTRY_INFO!C69)","v":"DARA"},{"$f":"IF(AND(COUNTRY_INFO!$T$9:$T$1000=\"T3 (ALB/MBD)\",COUNTRY_INFO!$U$9:$U$1000=\"T3 (ALB/MBD)\"), \"T3 (ALB/MBD)\", \" \")","v":" "},null,null,null,null,null,0,null,null,null,0," "," "," "," "]
[{"$f":"IF(COUNTRY_INFO!A70=0,\" \",COUNTRY_INFO!A70)","v":"Guinea Bissau"},{"$f":"IF(COUNTRY_INFO!B70=0,\" \",COUNTRY_INFO!B70)","v":"Gabu"},{"$f":"IF(COUNTRY_INFO!C70=0,\" \",COUNTRY_INFO!C70)","v":"PIRADA"},{"$f":"IF(AND(COUNTRY_INFO!$T$9:$T$1000=\"T3 (ALB/MBD)\",COUNTRY_INFO!$U$9:$U$1000=\"T3 (ALB/MBD)\"), \"T3 (ALB/MBD)\", \" \")","v":" "},null,null,null,null,null,0,null,null,null,0," "," "," "," "]
[{"$f":"IF(COUNTRY_INFO!A71=0,\" \",COUNTRY_INFO!A71)","v":"Guinea Bissau"},{"$f":"IF(COUNTRY_INFO!B71=0,\" \",COUNTRY_INFO!B71)","v":"Gabu"},{"$f":"IF(COUNTRY_INFO!C71=0,\" \",COUNTRY_INFO!C71)","v":"DANDUM"},{"$f":"IF(AND(COUNTRY_INFO!$T$9:$T$1000=\"T3 (ALB/MBD)\",COUNTRY_INFO!$U$9:$U$1000=\"T3 (ALB/MBD)\"), \"T3 (ALB/MBD)\", \" \")","v":" "},null,null,null,null,null,0,null,null,null,0," "," "," "," "]
[{"$f":"IF(COUNTRY_INFO!A72=0,\" \",COUNTRY_INFO!A72)","v":"Guinea Bissau"},{"$f":"IF(COUNTRY_INFO!B72=0,\" \",COUNTRY_INFO!B72)","v":"Gabu"},{"$f":"IF(COUNTRY_INFO!C72=0,\" \",COUNTRY_INFO!C72)","v":"MANSADJAM"},{"$f":"IF(AND(COUNTRY_INFO!$T$9:$T$1000=\"T3 (ALB/MBD)\",COUNTRY_INFO!$U$9:$U$1000=\"T3 (ALB/MBD)\"), \"T3 (ALB/MBD)\", \" \")","v":" "},null,null,null,null,null,0,null,null,null,0," "," "," "," "]
[{"$f":"IF(COUNTRY_INFO!A73=0,\" \",COUNTRY_INFO!A73)","v":"Guinea Bissau"},{"$f":"IF(COUNTRY_INFO!B73=0,\" \",COUNTRY_INFO!B73)","v":"Gabu"},{"$f":"IF(COUNTRY_INFO!C73=0,\" \",COUNTRY_INFO!C73)","v":"SONACO"},{"$f":"IF(AND(COUNTRY_INFO!$T$9:$T$1000=\"T3 (ALB/MBD)\",COUNTRY_INFO!$U$9:$U$1000=\"T3 (ALB/MBD)\"), \"T3 (ALB/MBD)\", \" \")","v":" "},null,null,null,null,null,0,null,null,null,0," "," "," "," "]
[{"$f":"IF(COUNTRY_INFO!A74=0,\" \",COUNTRY_INFO!A74)","v":"Guinea Bissau"},{"$f":"IF(COUNTRY_INFO!B74=0,\" \",COUNTRY_INFO!B74)","v":"Gabu"},{"$f":"IF(COUNTRY_INFO!C74=0,\" \",COUNTRY_INFO!C74)","v":"LUGADJOLE"},{"$f":"IF(AND(COUNTRY_INFO!$T$9:$T$1000=\"T3 (ALB/MBD)\",COUNTRY_INFO!$U$9:$U$1000=\"T3 (ALB/MBD)\"), \"T3 (ALB/MBD)\", \" \")","v":" "},null,null,null,null,null,{"$f":"SUM(G74:I74)","v":0},null,null,null,{"$f":"SUM(K74:M74)","v":0},{"$f":"IF(G74<>0, IF(K74/G74*100=0, \"-\", K74/G74*100), \" \")","v":" "},{"$f":"IF(H74<>0, IF(L74/H74*100=0, \"-\", L74/H74*100), \" \")","v":" "},{"$f":"IF(I74<>0, IF(M74/I74*100=0, \"-\", M74/I74*100), \" \")","v":" "},{"$f":"IF(J74<>0, IF(N74/J74*100=0, \"-\", N74/J74*100), \" \")","v":" "}]
[{"$f":"IF(COUNTRY_INFO!A75=0,\" \",COUNTRY_INFO!A75)","v":"Guinea Bissau"},{"$f":"IF(COUNTRY_INFO!B75=0,\" \",COUNTRY_INFO!B75)","v":"Gabu"},{"$f":"IF(COUNTRY_INFO!C75=0,\" \",COUNTRY_INFO!C75)","v":"GABU"},{"$f":"IF(AND(COUNTRY_INFO!$T$9:$T$1000=\"T3 (ALB/MBD)\",COUNTRY_INFO!$U$9:$U$1000=\"T3 (ALB/MBD)\"), \"T3 (ALB/MBD)\", \" \")","v":" "},null,null,null,null,null,0,null,null,null,0," "," "," "," "]
[{"$f":"IF(COUNTRY_INFO!A76=0,\" \",COUNTRY_INFO!A76)","v":"Guinea Bissau"},{"$f":"IF(COUNTRY_INFO!B76=0,\" \",COUNTRY_INFO!B76)","v":"Gabu"},{"$f":"IF(COUNTRY_INFO!C76=0,\" \",COUNTRY_INFO!C76)","v":"CANDJUFA"},{"$f":"IF(AND(COUNTRY_INFO!$T$9:$T$1000=\"T3 (ALB/MBD)\",COUNTRY_INFO!$U$9:$U$1000=\"T3 (ALB/MBD)\"), \"T3 (ALB/MBD)\", \" \")","v":" "},null,null,null,null,null,0,null,null,null,0," "," "," "," "]
[{"$f":"IF(COUNTRY_INFO!A77=0,\" \",COUNTRY_INFO!A77)","v":"Guinea Bissau"},{"$f":"IF(COUNTRY_INFO!B77=0,\" \",COUNTRY_INFO!B77)","v":"Gabu"},{"$f":"IF(COUNTRY_INFO!C77=0,\" \",COUNTRY_INFO!C77)","v":"MAFANCO"},{"$f":"IF(AND(COUNTRY_INFO!$T$9:$T$1000=\"T3 (ALB/MBD)\",COUNTRY_INFO!$U$9:$U$1000=\"T3 (ALB/MBD)\"), \"T3 (ALB/MBD)\", \" \")","v":" "},null,null,null,null,null,0,null,null,null,0," "," "," "," "]
[{"$f":"IF(COUNTRY_INFO!A78=0,\" \",COUNTRY_INFO!A78)","v":"Guinea Bissau"},{"$f":"IF(COUNTRY_INFO!B78=0,\" \",COUNTRY_INFO!B78)","v":"Gabu"},{"$f":"IF(COUNTRY_INFO!C78=0,\" \",COUNTRY_INFO!C78)","v":"TUMANA"},{"$f":"IF(AND(COUNTRY_INFO!$T$9:$T$1000=\"T3 (ALB/MBD)\",COUNTRY_INFO!$U$9:$U$1000=\"T3 (ALB/MBD)\"), \"T3 (ALB/MBD)\", \" \")","v":" "},null,null,null,null,null,0,null,null,null,0," "," "," "," "]
[{"$f":"IF(COUNTRY_INFO!A79=0,\" \",COUNTRY_INFO!A79)","v":"Guinea Bissau"},{"$f":"IF(COUNTRY_INFO!B79=0,\" \",COUNTRY_INFO!B79)","v":"Bafata"},{"$f":"IF(COUNTRY_INFO!C79=0,\" \",COUNTRY_INFO!C79)","v":"Xitole"},{"$f":"IF(AND(COUNTRY_INFO!$T$9:$T$1000=\"T3 (ALB/MBD)\",COUNTRY_INFO!$U$9:$U$1000=\"T3 (ALB/MBD)\"), \"T3 (ALB/MBD)\", \" \")","v":" "},null,null,null,null,null,0,null,null,null,0," "," "," "," "]
[{"$f":"IF(COUNTRY_INFO!A80=0,\" \",COUNTRY_INFO!A80)","v":"Guinea Bissau"},{"$f":"IF(COUNTRY_INFO!B80=0,\" \",COUNTRY_INFO!B80)","v":"Bafata"},{"$f":"IF(COUNTRY_INFO!C80=0,\" \",COUNTRY_INFO!C80)","v":"Contubuel"},{"$f":"IF(AND(COUNTRY_INFO!$T$9:$T$1000=\"T3 (ALB/MBD)\",COUNTRY_INFO!$U$9:$U$1000=\"T3 (ALB/MBD)\"), \"T3 (ALB/MBD)\", \" \")","v":" "},null,null,null,null,null,0,null,null,null,0," "," "," "," "]
[{"$f":"IF(COUNTRY_INFO!A81=0,\" \",COUNTRY_INFO!A81)","v":"Guinea Bissau"},{"$f":"IF(COUNTRY_INFO!B81=0,\" \",COUNTRY_INFO!B81)","v":"Bafata"},{"$f":"IF(COUNTRY_INFO!C81=0,\" \",COUNTRY_INFO!C81)","v":"Tendinto"},{"$f":"IF(AND(COUNTRY_INFO!$T$9:$T$1000=\"T3 (ALB/MBD)\",COUNTRY_INFO!$U$9:$U$1000=\"T3 (ALB/MBD)\"), \"T3 (ALB/MBD)\", \" \")","v":" "},null,null,null,null,null,0,null,null,null,0," "," "," "," "]
[{"$f":"IF(COUNTRY_INFO!A82=0,\" \",COUNTRY_INFO!A82)","v":"Guinea Bissau"},{"$f":"IF(COUNTRY_INFO!B82=0,\" \",COUNTRY_INFO!B82)","v":"Bafata"},{"$f":"IF(COUNTRY_INFO!C82=0,\" \",COUNTRY_INFO!C82)","v":"Geba"},{"$f":"IF(AND(COUNTRY_INFO!$T$9:$T$1000=\"T3 (ALB/MBD)\",COUNTRY_INFO!$U$9:$U$1000=\"T3 (ALB/MBD)\"), \"T3 (ALB/MBD)\", \" \")","v":" "},null,null,null,null,null,0,null,null,null,0," "," "," "," "]
[{"$f":"IF(COUNTRY_INFO!A83=0,\" \",COUNTRY_INFO!A83)","v":"Guinea Bissau"},{"$f":"IF(COUNTRY_INFO!B83=0,\" \",COUNTRY_INFO!B83)","v":"Bafata"},{"$f":"IF(COUNTRY_INFO!C83=0,\" \",COUNTRY_INFO!C83)","v":"Tantancosse"},{"$f":"IF(AND(COUNTRY_INFO!$T$9:$T$1000=\"T3 (ALB/MBD)\",COUNTRY_INFO!$U$9:$U$1000=\"T3 (ALB/MBD)\"), \"T3 (ALB/MBD)\", \" \")","v":" "},null,null,null,null,null,0,null,null,null,0," "," "," "," "]
[{"$f":"IF(COUNTRY_INFO!A84=0,\" \",COUNTRY_INFO!A84)","v":"Guinea Bissau"},{"$f":"IF(COUNTRY_INFO!B84=0,\" \",COUNTRY_INFO!B84)","v":"Bafata"},{"$f":"IF(COUNTRY_INFO!C84=0,\" \",COUNTRY_INFO!C84)","v":"Ga-mamudo"},{"$f":"IF(AND(COUNTRY_INFO!$T$9:$T$1000=\"T3 (ALB/MBD)\",COUNTRY_INFO!$U$9:$U$1000=\"T3 (ALB/MBD)\"), \"T3 (ALB/MBD)\", \" \")","v":" "},null,null,null,null,null,0,null,null,null,0," "," "," "," "]
[{"$f":"IF(COUNTRY_INFO!A85=0,\" \",COUNTRY_INFO!A85)","v":"Guinea Bissau"},{"$f":"IF(COUNTRY_INFO!B85=0,\" \",COUNTRY_INFO!B85)","v":"Bafata"},{"$f":"IF(COUNTRY_INFO!C85=0,\" \",COUNTRY_INFO!C85)","v":"Bambadinca"},{"$f":"IF(AND(COUNTRY_INFO!$T$9:$T$1000=\"T3 (ALB/MBD)\",COUNTRY_INFO!$U$9:$U$1000=\"T3 (ALB/MBD)\"), \"T3 (ALB/MBD)\", \" \")","v":" "},null,null,null,null,null,0,null,null,null,0," "," "," "," "]
[{"$f":"IF(COUNTRY_INFO!A86=0,\" \",COUNTRY_INFO!A86)","v":"Guinea Bissau"},{"$f":"IF(COUNTRY_INFO!B86=0,\" \",COUNTRY_INFO!B86)","v":"Bafata"},{"$f":"IF(COUNTRY_INFO!C86=0,\" \",COUNTRY_INFO!C86)","v":"Ga carnes"},{"$f":"IF(AND(COUNTRY_INFO!$T$9:$T$1000=\"T3 (ALB/MBD)\",COUNTRY_INFO!$U$9:$U$1000=\"T3 (ALB/MBD)\"), \"T3 (ALB/MBD)\", \" \")","v":" "},null,null,null,null,null,0,null,null,null,0," "," "," "," "]
[{"$f":"IF(COUNTRY_INFO!A87=0,\" \",COUNTRY_INFO!A87)","v":"Guinea Bissau"},{"$f":"IF(COUNTRY_INFO!B87=0,\" \",COUNTRY_INFO!B87)","v":"Bafata"},{"$f":"IF(COUNTRY_INFO!C87=0,\" \",COUNTRY_INFO!C87)","v":"Cambaju"},{"$f":"IF(AND(COUNTRY_INFO!$T$9:$T$1000=\"T3 (ALB/MBD)\",COUNTRY_INFO!$U$9:$U$1000=\"T3 (ALB/MBD)\"), \"T3 (ALB/MBD)\", \" \")","v":" "},null,null,null,null,null,0,null,null,null,0," "," "," "," "]
[{"$f":"IF(COUNTRY_INFO!A88=0,\" \",COUNTRY_INFO!A88)","v":"Guinea Bissau"},{"$f":"IF(COUNTRY_INFO!B88=0,\" \",COUNTRY_INFO!B88)","v":"Bafata"},{"$f":"IF(COUNTRY_INFO!C88=0,\" \",COUNTRY_INFO!C88)","v":"Gam ture"},{"$f":"IF(AND(COUNTRY_INFO!$T$9:$T$1000=\"T3 (ALB/MBD)\",COUNTRY_INFO!$U$9:$U$1000=\"T3 (ALB/MBD)\"), \"T3 (ALB/MBD)\", \" \")","v":" "},null,null,null,null,null,0,null,null,null,0," "," "," "," "]
[{"$f":"IF(COUNTRY_INFO!A89=0,\" \",COUNTRY_INFO!A89)","v":"Guinea Bissau"},{"$f":"IF(COUNTRY_INFO!B89=0,\" \",COUNTRY_INFO!B89)","v":"Bafata"},{"$f":"IF(COUNTRY_INFO!C89=0,\" \",COUNTRY_INFO!C89)","v":"Sare bacar"},{"$f":"IF(AND(COUNTRY_INFO!$T$9:$T$1000=\"T3 (ALB/MBD)\",COUNTRY_INFO!$U$9:$U$1000=\"T3 (ALB/MBD)\"), \"T3 (ALB/MBD)\", \" \")","v":" "},null,null,null,null,null,0,null,null,null,0," "," "," "," "]
[{"$f":"IF(COUNTRY_INFO!A90=0,\" \",COUNTRY_INFO!A90)","v":"Guinea Bissau"},{"$f":"IF(COUNTRY_INFO!B90=0,\" \",COUNTRY_INFO!B90)","v":"Bafata"},{"$f":"IF(COUNTRY_INFO!C90=0,\" \",COUNTRY_INFO!C90)","v":"Fajonquito"},{"$f":"IF(AND(COUNTRY_INFO!$T$9:$T$1000=\"T3 (ALB/MBD)\",COUNTRY_INFO!$U$9:$U$1000=\"T3 (ALB/MBD)\"), \"T3 (ALB/MBD)\", \" \")","v":" "},null,null,null,null,null,0,null,null,null,0," "," "," "," "]
[{"$f":"IF(COUNTRY_INFO!A91=0,\" \",COUNTRY_INFO!A91)","v":"Guinea Bissau"},{"$f":"IF(COUNTRY_INFO!B91=0,\" \",COUNTRY_INFO!B91)","v":"Bafata"},{"$f":"IF(COUNTRY_INFO!C91=0,\" \",COUNTRY_INFO!C91)","v":"Cosse"},{"$f":"IF(AND(COUNTRY_INFO!$T$9:$T$1000=\"T3 (ALB/MBD)\",COUNTRY_INFO!$U$9:$U$1000=\"T3 (ALB/MBD)\"), \"T3 (ALB/MBD)\", \" \")","v":" "},null,null,null,null,null,0,null,null,null,0," "," "," "," "]
[{"$f":"IF(COUNTRY_INFO!A92=0,\" \",COUNTRY_INFO!A92)","v":"Guinea Bissau"},{"$f":"IF(COUNTRY_INFO!B92=0,\" \",COUNTRY_INFO!B92)","v":"Bafata"},{"$f":"IF(COUNTRY_INFO!C92=0,\" \",COUNTRY_INFO!C92)","v":"Bafata"},{"$f":"IF(AND(COUNTRY_INFO!$T$9:$T$1000=\"T3 (ALB/MBD)\",COUNTRY_INFO!$U$9:$U$1000=\"T3 (ALB/MBD)\"), \"T3 (ALB/MBD)\", \" \")","v":" "},null,null,null,null,null,0,null,null,null,0," "," "," "," "]
[{"$f":"IF(COUNTRY_INFO!A93=0,\" \",COUNTRY_INFO!A93)","v":"Guinea Bissau"},{"$f":"IF(COUNTRY_INFO!B93=0,\" \",COUNTRY_INFO!B93)","v":"Tombali"},{"$f":"IF(COUNTRY_INFO!C93=0,\" \",COUNTRY_INFO!C93)","v":"BEDANDA"},{"$f":"IF(AND(COUNTRY_INFO!$T$9:$T$1000=\"T3 (ALB/MBD)\",COUNTRY_INFO!$U$9:$U$1000=\"T3 (ALB/MBD)\"), \"T3 (ALB/MBD)\", \" \")","v":" "},null,null,null,null,null,0,null,null,null,0," "," "," "," "]
[{"$f":"IF(COUNTRY_INFO!A94=0,\" \",COUNTRY_INFO!A94)","v":"Guinea Bissau"},{"$f":"IF(COUNTRY_INFO!B94=0,\" \",COUNTRY_INFO!B94)","v":"Tombali"},{"$f":"IF(COUNTRY_INFO!C94=0,\" \",COUNTRY_INFO!C94)","v":"CACINE"},{"$f":"IF(AND(COUNTRY_INFO!$T$9:$T$1000=\"T3 (ALB/MBD)\",COUNTRY_INFO!$U$9:$U$1000=\"T3 (ALB/MBD)\"), \"T3 (ALB/MBD)\", \" \")","v":" "},null,null,null,null,null,0,null,null,null,0," "," "," "," "]
[{"$f":"IF(COUNTRY_INFO!A95=0,\" \",COUNTRY_INFO!A95)","v":"Guinea Bissau"},{"$f":"IF(COUNTRY_INFO!B95=0,\" \",COUNTRY_INFO!B95)","v":"Tombali"},{"$f":"IF(COUNTRY_INFO!C95=0,\" \",COUNTRY_INFO!C95)","v":"CALAQUE"},{"$f":"IF(AND(COUNTRY_INFO!$T$9:$T$1000=\"T3 (ALB/MBD)\",COUNTRY_INFO!$U$9:$U$1000=\"T3 (ALB/MBD)\"), \"T3 (ALB/MBD)\", \" \")","v":" "},null,null,null,null,null,0,null,null,null,0," "," "," "," "]
[{"$f":"IF(COUNTRY_INFO!A96=0,\" \",COUNTRY_INFO!A96)","v":"Guinea Bissau"},{"$f":"IF(COUNTRY_INFO!B96=0,\" \",COUNTRY_INFO!B96)","v":"Tombali"},{"$f":"IF(COUNTRY_INFO!C96=0,\" \",COUNTRY_INFO!C96)","v":"CATIO"},{"$f":"IF(AND(COUNTRY_INFO!$T$9:$T$1000=\"T3 (ALB/MBD)\",COUNTRY_INFO!$U$9:$U$1000=\"T3 (ALB/MBD)\"), \"T3 (ALB/MBD)\", \" \")","v":" "},null,null,null,null,null,0,null,null,null,0," "," "," "," "]
[{"$f":"IF(COUNTRY_INFO!A97=0,\" \",COUNTRY_INFO!A97)","v":"Guinea Bissau"},{"$f":"IF(COUNTRY_INFO!B97=0,\" \",COUNTRY_INFO!B97)","v":"Tombali"},{"$f":"IF(COUNTRY_INFO!C97=0,\" \",COUNTRY_INFO!C97)","v":"KOMO"},{"$f":"IF(AND(COUNTRY_INFO!$T$9:$T$1000=\"T3 (ALB/MBD)\",COUNTRY_INFO!$U$9:$U$1000=\"T3 (ALB/MBD)\"), \"T3 (ALB/MBD)\", \" \")","v":" "},null,null,null,null,null,0,null,null,null,0," "," "," "," "]
[{"$f":"IF(COUNTRY_INFO!A98=0,\" \",COUNTRY_INFO!A98)","v":"Guinea Bissau"},{"$f":"IF(COUNTRY_INFO!B98=0,\" \",COUNTRY_INFO!B98)","v":"Tombali"},{"$f":"IF(COUNTRY_INFO!C98=0,\" \",COUNTRY_INFO!C98)","v":"QUEBO"},{"$f":"IF(AND(COUNTRY_INFO!$T$9:$T$1000=\"T3 (ALB/MBD)\",COUNTRY_INFO!$U$9:$U$1000=\"T3 (ALB/MBD)\"), \"T3 (ALB/MBD)\", \" \")","v":" "},null,null,null,null,null,0,null,null,null,0," "," "," "," "]
[{"$f":"IF(COUNTRY_INFO!A99=0,\" \",COUNTRY_INFO!A99)","v":"Guinea Bissau"},{"$f":"IF(COUNTRY_INFO!B99=0,\" \",COUNTRY_INFO!B99)","v":"Tombali"},{"$f":"IF(COUNTRY_INFO!C99=0,\" \",COUNTRY_INFO!C99)","v":"SANCONHA"},{"$f":"IF(AND(COUNTRY_INFO!$T$9:$T$1000=\"T3 (ALB/MBD)\",COUNTRY_INFO!$U$9:$U$1000=\"T3 (ALB/MBD)\"), \"T3 (ALB/MBD)\", \" \")","v":" "},null,null,null,null,null,0,null,null,null,0," "," "," "," "]
[{"$f":"IF(COUNTRY_INFO!A100=0,\" \",COUNTRY_INFO!A100)","v":"Guinea Bissau"},{"$f":"IF(COUNTRY_INFO!B100=0,\" \",COUNTRY_INFO!B100)","v":"Tombali"},{"$f":"IF(COUNTRY_INFO!C100=0,\" \",COUNTRY_INFO!C100)","v":"TIMBO"},{"$f":"IF(AND(COUNTRY_INFO!$T$9:$T$1000=\"T3 (ALB/MBD)\",COUNTRY_INFO!$U$9:$U$1000=\"T3 (ALB/MBD)\"), \"T3 (ALB/MBD)\", \" \")","v":" "},null,null,null,null,null,0,null,null,null,0," "," "," "," "]
[{"$f":"IF(COUNTRY_INFO!A101=0,\" \",COUNTRY_INFO!A101)","v":"Guinea Bissau"},{"$f":"IF(COUNTRY_INFO!B101=0,\" \",COUNTRY_INFO!B101)","v":"Quinara"},{"$f":"IF(COUNTRY_INFO!C101=0,\" \",COUNTRY_INFO!C101)","v":"BRANDÃO"},{"$f":"IF(AND(COUNTRY_INFO!$T$9:$T$1000=\"T3 (ALB/MBD)\",COUNTRY_INFO!$U$9:$U$1000=\"T3 (ALB/MBD)\"), \"T3 (ALB/MBD)\", \" \")","v":" "},null,null,null,null,null,0,null,null,null,0," "," "," "," "]
[{"$f":"IF(COUNTRY_INFO!A102=0,\" \",COUNTRY_INFO!A102)","v":"Guinea Bissau"},{"$f":"IF(COUNTRY_INFO!B102=0,\" \",COUNTRY_INFO!B102)","v":"Quinara"},{"$f":"IF(COUNTRY_INFO!C102=0,\" \",COUNTRY_INFO!C102)","v":"BUBA"},{"$f":"IF(AND(COUNTRY_INFO!$T$9:$T$1000=\"T3 (ALB/MBD)\",COUNTRY_INFO!$U$9:$U$1000=\"T3 (ALB/MBD)\"), \"T3 (ALB/MBD)\", \" \")","v":" "},null,null,null,null,null,0,null,null,null,0," "," "," "," "]
[{"$f":"IF(COUNTRY_INFO!A103=0,\" \",COUNTRY_INFO!A103)","v":"Guinea Bissau"},{"$f":"IF(COUNTRY_INFO!B103=0,\" \",COUNTRY_INFO!B103)","v":"Quinara"},{"$f":"IF(COUNTRY_INFO!C103=0,\" \",COUNTRY_INFO!C103)","v":"DAR-ES-SALAM"},{"$f":"IF(AND(COUNTRY_INFO!$T$9:$T$1000=\"T3 (ALB/MBD)\",COUNTRY_INFO!$U$9:$U$1000=\"T3 (ALB/MBD)\"), \"T3 (ALB/MBD)\", \" \")","v":" "},null,null,null,null,null,0,null,null,null,0," "," "," "," "]
[{"$f":"IF(COUNTRY_INFO!A104=0,\" \",COUNTRY_INFO!A104)","v":"Guinea Bissau"},{"$f":"IF(COUNTRY_INFO!B104=0,\" \",COUNTRY_INFO!B104)","v":"Quinara"},{"$f":"IF(COUNTRY_INFO!C104=0,\" \",COUNTRY_INFO!C104)","v":"EMPADA"},{"$f":"IF(AND(COUNTRY_INFO!$T$9:$T$1000=\"T3 (ALB/MBD)\",COUNTRY_INFO!$U$9:$U$1000=\"T3 (ALB/MBD)\"), \"T3 (ALB/MBD)\", \" \")","v":" "},null,null,null,null,null,0,null,null,null,0," "," "," "," "]
[{"$f":"IF(COUNTRY_INFO!A105=0,\" \",COUNTRY_INFO!A105)","v":"Guinea Bissau"},{"$f":"IF(COUNTRY_INFO!B105=0,\" \",COUNTRY_INFO!B105)","v":"Quinara"},{"$f":"IF(COUNTRY_INFO!C105=0,\" \",COUNTRY_INFO!C105)","v":"FULACUNDA"},{"$f":"IF(AND(COUNTRY_INFO!$T$9:$T$1000=\"T3 (ALB/MBD)\",COUNTRY_INFO!$U$9:$U$1000=\"T3 (ALB/MBD)\"), \"T3 (ALB/MBD)\", \" \")","v":" "},null,null,null,null,null,0,null,null,null,0," "," "," "," "]
[{"$f":"IF(COUNTRY_INFO!A106=0,\" \",COUNTRY_INFO!A106)","v":"Guinea Bissau"},{"$f":"IF(COUNTRY_INFO!B106=0,\" \",COUNTRY_INFO!B106)","v":"Quinara"},{"$f":"IF(COUNTRY_INFO!C106=0,\" \",COUNTRY_INFO!C106)","v":"TITE"},{"$f":"IF(AND(COUNTRY_INFO!$T$9:$T$1000=\"T3 (ALB/MBD)\",COUNTRY_INFO!$U$9:$U$1000=\"T3 (ALB/MBD)\"), \"T3 (ALB/MBD)\", \" \")","v":" "},null,null,null,null,null,0,null,null,null,0," "," "," "," "]
[{"$f":"IF(COUNTRY_INFO!A107=0,\" \",COUNTRY_INFO!A107)","v":"Guinea Bissau"},{"$f":"IF(COUNTRY_INFO!B107=0,\" \",COUNTRY_INFO!B107)","v":"Cacheu"},{"$f":"IF(COUNTRY_INFO!C107=0,\" \",COUNTRY_INFO!C107)","v":"Bará"},{"$f":"IF(AND(COUNTRY_INFO!$T$9:$T$1000=\"T3 (ALB/MBD)\",COUNTRY_INFO!$U$9:$U$1000=\"T3 (ALB/MBD)\"), \"T3 (ALB/MBD)\", \" \")","v":" "},null,null,null,null,null,0,null,null,null,0," "," "," "," "]
[{"$f":"IF(COUNTRY_INFO!A108=0,\" \",COUNTRY_INFO!A108)","v":"Guinea Bissau"},{"$f":"IF(COUNTRY_INFO!B108=0,\" \",COUNTRY_INFO!B108)","v":"Cacheu"},{"$f":"IF(COUNTRY_INFO!C108=0,\" \",COUNTRY_INFO!C108)","v":"Barro"},{"$f":"IF(AND(COUNTRY_INFO!$T$9:$T$1000=\"T3 (ALB/MBD)\",COUNTRY_INFO!$U$9:$U$1000=\"T3 (ALB/MBD)\"), \"T3 (ALB/MBD)\", \" \")","v":" "},null,null,null,null,null,0,null,null,null,0," "," "," "," "]
[{"$f":"IF(COUNTRY_INFO!A109=0,\" \",COUNTRY_INFO!A109)","v":"Guinea Bissau"},{"$f":"IF(COUNTRY_INFO!B109=0,\" \",COUNTRY_INFO!B109)","v":"Cacheu"},{"$f":"IF(COUNTRY_INFO!C109=0,\" \",COUNTRY_INFO!C109)","v":"Batucar"},{"$f":"IF(AND(COUNTRY_INFO!$T$9:$T$1000=\"T3 (ALB/MBD)\",COUNTRY_INFO!$U$9:$U$1000=\"T3 (ALB/MBD)\"), \"T3 (ALB/MBD)\", \" \")","v":" "},null,null,null,null,null,0,null,null,null,0," "," "," "," "]
[{"$f":"IF(COUNTRY_INFO!A110=0,\" \",COUNTRY_INFO!A110)","v":"Guinea Bissau"},{"$f":"IF(COUNTRY_INFO!B110=0,\" \",COUNTRY_INFO!B110)","v":"Cacheu"},{"$f":"IF(COUNTRY_INFO!C110=0,\" \",COUNTRY_INFO!C110)","v":"Begene"},{"$f":"IF(AND(COUNTRY_INFO!$T$9:$T$1000=\"T3 (ALB/MBD)\",COUNTRY_INFO!$U$9:$U$1000=\"T3 (ALB/MBD)\"), \"T3 (ALB/MBD)\", \" \")","v":" "},null,null,null,null,null,0,null,null,null,0," "," "," "," "]
[{"$f":"IF(COUNTRY_INFO!A111=0,\" \",COUNTRY_INFO!A111)","v":"Guinea Bissau"},{"$f":"IF(COUNTRY_INFO!B111=0,\" \",COUNTRY_INFO!B111)","v":"Cacheu"},{"$f":"IF(COUNTRY_INFO!C111=0,\" \",COUNTRY_INFO!C111)","v":"Bula"},{"$f":"IF(AND(COUNTRY_INFO!$T$9:$T$1000=\"T3 (ALB/MBD)\",COUNTRY_INFO!$U$9:$U$1000=\"T3 (ALB/MBD)\"), \"T3 (ALB/MBD)\", \" \")","v":" "},null,null,null,null,null,0,null,null,null,0," "," "," "," "]
[{"$f":"IF(COUNTRY_INFO!A112=0,\" \",COUNTRY_INFO!A112)","v":"Guinea Bissau"},{"$f":"IF(COUNTRY_INFO!B112=0,\" \",COUNTRY_INFO!B112)","v":"Cacheu"},{"$f":"IF(COUNTRY_INFO!C112=0,\" \",COUNTRY_INFO!C112)","v":"Cacheu"},{"$f":"IF(AND(COUNTRY_INFO!$T$9:$T$1000=\"T3 (ALB/MBD)\",COUNTRY_INFO!$U$9:$U$1000=\"T3 (ALB/MBD)\"), \"T3 (ALB/MBD)\", \" \")","v":" "},null,null,null,null,null,0,null,null,null,0," "," "," "," "]
[{"$f":"IF(COUNTRY_INFO!A113=0,\" \",COUNTRY_INFO!A113)","v":"Guinea Bissau"},{"$f":"IF(COUNTRY_INFO!B113=0,\" \",COUNTRY_INFO!B113)","v":"Cacheu"},{"$f":"IF(COUNTRY_INFO!C113=0,\" \",COUNTRY_INFO!C113)","v":"Caió"},{"$f":"IF(AND(COUNTRY_INFO!$T$9:$T$1000=\"T3 (ALB/MBD)\",COUNTRY_INFO!$U$9:$U$1000=\"T3 (ALB/MBD)\"), \"T3 (ALB/MBD)\", \" \")","v":" "},null,null,null,null,null,0,null,null,null,0," "," "," "," "]
[{"$f":"IF(COUNTRY_INFO!A114=0,\" \",COUNTRY_INFO!A114)","v":"Guinea Bissau"},{"$f":"IF(COUNTRY_INFO!B114=0,\" \",COUNTRY_INFO!B114)","v":"Cacheu"},{"$f":"IF(COUNTRY_INFO!C114=0,\" \",COUNTRY_INFO!C114)","v":"Calequisse"},{"$f":"IF(AND(COUNTRY_INFO!$T$9:$T$1000=\"T3 (ALB/MBD)\",COUNTRY_INFO!$U$9:$U$1000=\"T3 (ALB/MBD)\"), \"T3 (ALB/MBD)\", \" \")","v":" "},null,null,null,null,null,0,null,null,null,0," "," "," "," "]
[{"$f":"IF(COUNTRY_INFO!A115=0,\" \",COUNTRY_INFO!A115)","v":"Guinea Bissau"},{"$f":"IF(COUNTRY_INFO!B115=0,\" \",COUNTRY_INFO!B115)","v":"Cacheu"},{"$f":"IF(COUNTRY_INFO!C115=0,\" \",COUNTRY_INFO!C115)","v":"Canchungo"},{"$f":"IF(AND(COUNTRY_INFO!$T$9:$T$1000=\"T3 (ALB/MBD)\",COUNTRY_INFO!$U$9:$U$1000=\"T3 (ALB/MBD)\"), \"T3 (ALB/MBD)\", \" \")","v":" "},null,null,null,null,null,0,null,null,null,0," "," "," "," "]
[{"$f":"IF(COUNTRY_INFO!A116=0,\" \",COUNTRY_INFO!A116)","v":"Guinea Bissau"},{"$f":"IF(COUNTRY_INFO!B116=0,\" \",COUNTRY_INFO!B116)","v":"Cacheu"},{"$f":"IF(COUNTRY_INFO!C116=0,\" \",COUNTRY_INFO!C116)","v":"Carenque"},{"$f":"IF(AND(COUNTRY_INFO!$T$9:$T$1000=\"T3 (ALB/MBD)\",COUNTRY_INFO!$U$9:$U$1000=\"T3 (ALB/MBD)\"), \"T3 (ALB/MBD)\", \" \")","v":" "},null,null,null,null,null,0,null,null,null,0," "," "," "," "]
[{"$f":"IF(COUNTRY_INFO!A117=0,\" \",COUNTRY_INFO!A117)","v":"Guinea Bissau"},{"$f":"IF(COUNTRY_INFO!B117=0,\" \",COUNTRY_INFO!B117)","v":"Cacheu"},{"$f":"IF(COUNTRY_INFO!C117=0,\" \",COUNTRY_INFO!C117)","v":"Có"},{"$f":"IF(AND(COUNTRY_INFO!$T$9:$T$1000=\"T3 (ALB/MBD)\",COUNTRY_INFO!$U$9:$U$1000=\"T3 (ALB/MBD)\"), \"T3 (ALB/MBD)\", \" \")","v":" "},null,null,null,null,null,0,null,null,null,0," "," "," "," "]
[{"$f":"IF(COUNTRY_INFO!A118=0,\" \",COUNTRY_INFO!A118)","v":"Guinea Bissau"},{"$f":"IF(COUNTRY_INFO!B118=0,\" \",COUNTRY_INFO!B118)","v":"Cacheu"},{"$f":"IF(COUNTRY_INFO!C118=0,\" \",COUNTRY_INFO!C118)","v":"Ingoré"},{"$f":"IF(AND(COUNTRY_INFO!$T$9:$T$1000=\"T3 (ALB/MBD)\",COUNTRY_INFO!$U$9:$U$1000=\"T3 (ALB/MBD)\"), \"T3 (ALB/MBD)\", \" \")","v":" "},null,null,null,null,null,0,null,null,null,0," "," "," "," "]
[{"$f":"IF(COUNTRY_INFO!A119=0,\" \",COUNTRY_INFO!A119)","v":"Guinea Bissau"},{"$f":"IF(COUNTRY_INFO!B119=0,\" \",COUNTRY_INFO!B119)","v":"Cacheu"},{"$f":"IF(COUNTRY_INFO!C119=0,\" \",COUNTRY_INFO!C119)","v":"Jeta"},{"$f":"IF(AND(COUNTRY_INFO!$T$9:$T$1000=\"T3 (ALB/MBD)\",COUNTRY_INFO!$U$9:$U$1000=\"T3 (ALB/MBD)\"), \"T3 (ALB/MBD)\", \" \")","v":" "},null,null,null,null,null,0,null,null,null,0," "," "," "," "]
[{"$f":"IF(COUNTRY_INFO!A120=0,\" \",COUNTRY_INFO!A120)","v":"Guinea Bissau"},{"$f":"IF(COUNTRY_INFO!B120=0,\" \",COUNTRY_INFO!B120)","v":"Cacheu"},{"$f":"IF(COUNTRY_INFO!C120=0,\" \",COUNTRY_INFO!C120)","v":"Pecixe"},{"$f":"IF(AND(COUNTRY_INFO!$T$9:$T$1000=\"T3 (ALB/MBD)\",COUNTRY_INFO!$U$9:$U$1000=\"T3 (ALB/MBD)\"), \"T3 (ALB/MBD)\", \" \")","v":" "},null,null,null,null,null,0,null,null,null,0," "," "," "," "]
[{"$f":"IF(COUNTRY_INFO!A121=0,\" \",COUNTRY_INFO!A121)","v":"Guinea Bissau"},{"$f":"IF(COUNTRY_INFO!B121=0,\" \",COUNTRY_INFO!B121)","v":"Cacheu"},{"$f":"IF(COUNTRY_INFO!C121=0,\" \",COUNTRY_INFO!C121)","v":"Pelundo"},{"$f":"IF(AND(COUNTRY_INFO!$T$9:$T$1000=\"T3 (ALB/MBD)\",COUNTRY_INFO!$U$9:$U$1000=\"T3 (ALB/MBD)\"), \"T3 (ALB/MBD)\", \" \")","v":" "},null,null,null,null,null,0,null,null,null,0," "," "," "," "]
[{"$f":"IF(COUNTRY_INFO!A122=0,\" \",COUNTRY_INFO!A122)","v":"Guinea Bissau"},{"$f":"IF(COUNTRY_INFO!B122=0,\" \",COUNTRY_INFO!B122)","v":"Cacheu"},{"$f":"IF(COUNTRY_INFO!C122=0,\" \",COUNTRY_INFO!C122)","v":"S.Domingos"},{"$f":"IF(AND(COUNTRY_INFO!$T$9:$T$1000=\"T3 (ALB/MBD)\",COUNTRY_INFO!$U$9:$U$1000=\"T3 (ALB/MBD)\"), \"T3 (ALB/MBD)\", \" \")","v":" "},null,null,null,null,null,0,null,null,null,0," "," "," "," "]
[{"$f":"IF(COUNTRY_INFO!A123=0,\" \",COUNTRY_INFO!A123)","v":"Guinea Bissau"},{"$f":"IF(COUNTRY_INFO!B123=0,\" \",COUNTRY_INFO!B123)","v":"Cacheu"},{"$f":"IF(COUNTRY_INFO!C123=0,\" \",COUNTRY_INFO!C123)","v":"Sedengal"},{"$f":"IF(AND(COUNTRY_INFO!$T$9:$T$1000=\"T3 (ALB/MBD)\",COUNTRY_INFO!$U$9:$U$1000=\"T3 (ALB/MBD)\"), \"T3 (ALB/MBD)\", \" \")","v":" "},null,null,null,null,null,0,null,null,null,0," "," "," "," "]
[{"$f":"IF(COUNTRY_INFO!A124=0,\" \",COUNTRY_INFO!A124)","v":"Guinea Bissau"},{"$f":"IF(COUNTRY_INFO!B124=0,\" \",COUNTRY_INFO!B124)","v":"Cacheu"},{"$f":"IF(COUNTRY_INFO!C124=0,\" \",COUNTRY_INFO!C124)","v":"Suzana"},{"$f":"IF(AND(COUNTRY_INFO!$T$9:$T$1000=\"T3 (ALB/MBD)\",COUNTRY_INFO!$U$9:$U$1000=\"T3 (ALB/MBD)\"), \"T3 (ALB/MBD)\", \" \")","v":" "},null,null,null,null,null,0,null,null,null,0," "," "," "," "]
[{"$f":"IF(COUNTRY_INFO!A125=0,\" \",COUNTRY_INFO!A125)","v":"Guinea Bissau"},{"$f":"IF(COUNTRY_INFO!B125=0,\" \",COUNTRY_INFO!B125)","v":"Cacheu"},{"$f":"IF(COUNTRY_INFO!C125=0,\" \",COUNTRY_INFO!C125)","v":"Varela"},{"$f":"IF(AND(COUNTRY_INFO!$T$9:$T$1000=\"T3 (ALB/MBD)\",COUNTRY_INFO!$U$9:$U$1000=\"T3 (ALB/MBD)\"), \"T3 (ALB/MBD)\", \" \")","v":" "},null,null,null,null,null,0,null,null,null,0," "," "," "," "]

{"sheet":"DISTRICT","index":9,"n_rows":125,"n_cols":56,"rows_kept":125,"cut":false,"hidden":false,"merged":[[3,0,3,2],[5,0,5,2],[5,4,5,8],[5,10,5,14],[5,16,5,24],[5,26,5,34],[5,3,6,3],[5,9,6,9],[5,15,6,15],[5,25,6,25]]}
["Nombre d'individus traités"]
["Structure administrative, population traitée par groupe d'âge et sexe"]
[]
["TOTAL",null,null,{"$f":"SUM(D$9:D$1000)","v":1941909},{"$f":"SUM(E$9:E$1000)","v":112702},{"$f":"SUM(F$9:F$1000)","v":119859},{"$f":"SUM(G$9:G$1000)","v":232561},{"$f":"SUM(H$9:H$1000)","v":232561},{"$f":"IF(D4>0, IF(H4/D4*100<>0, H4/D4*100, \"-\"),0)","v":11.975895883895692},{"$f":"SUM(J$9:J$1000)","v":579506},{"$f":"SUM(K$9:K$1000)","v":0},{"$f":"SUM(L$9:L$1000)","v":0},{"$f":"SUM(M$9:M$1000)","v":232561},{"$f":"SUM(N$9:N$1000)","v":0},{"$f":"IF(J4>0, IF(N4/J4*100<>0, N4/J4*100, \"-\"),0)","v":"-"},{"$f":"SUM(P$9:P$1000)","v":387264},{"$f":"SUM(Q$9:Q$1000)","v":0},{"$f":"SUM(R$9:R$1000)","v":0},{"$f":"SUM(S$9:S$1000)","v":261991},{"$f":"SUM(T$9:T$1000)","v":0},null,70006,null,{"$f":"SUM(X$9:X$1000)","v":70006},{"$f":"IF(P4>0, IF(X4/P4*100<>0, X4/P4*100, \"-\"),0)","v":18.077074037349199},{"$f":"SUM(Z$9:Z$1000)","v":164887.44999999998},0,0,83515,40246.19,null,0,null,40246.19,{"$f":"IF(Z4>0, IF(AH4/Z4*100<>0, AH4/Z4*100, \"-\"),0)","v":24.408279708370774}]
[]
["Structure administrative du pays",null,null,"Population nécessitant la CP pour FL","Population traitée pour la filariose lymphatique",null,null,null,null,"Population nécessitant la CP pour ONCHO","Population traitée pour l'onchocercose",null,null,null,null,"Population nécessitant la CP pour STH","Population traitée pour les géohelminthiases",null,null,null,null,null,null,null,null,"Population nécessitant la CP pour SCH","Population traitée pour la schistosomiase",null,null,null,null,null,null,null,null,null,null,null,null,null,null,{"$f":"SUM(AP9:AP1000)","v":86022.779353294274},270602.67315167398,523000.33243045665,1100092.8280556244,{"$f":"SUM(AT9:AT1000)","v":1979718.6129910487},{"$f":"COUNTIF(AU9:AU1000,\"Y\")","v":29},{"$f":"SUM(AV9:AV1000)","v":0},225647,119859,{"$f":"SUM(AY9:AY1000)","v":345506},0,174086.19,119859,293945.19,{"$f":"IF(AT6<>0,BC6/AT6,0)","v":0.14847826760384611}]
["Pays","Région/Département","District",null,"Masculine","Féminine","Total traité","Total traité ayant besoin de CP","(%)",null,"Masculine","Féminine","Total traité","Total traité ayant besoin de CP","(%)",null,"Masculine","Féminine","Total traité","EAPréS traité ayant besoin de CP","EAPréS (%)","EAS traité ayant besoin de CP","EAS (%)","Total traité ayant besoin de CP","(%)",null,"Masculine","Féminine","Total traité","EAS traité ayant besoin de CP","EAS (%)","Adultes traité ayant besoin de CP","Adultes (%)","Total traité ayant besoin de CP","(%)",null,"LF","ONCHO","STH","SCH-SAC","SCH_Adults","<1","PreSAC","SAC","Adults","Total","Dis","PreSAC","SAC","Adults","Total","PreSAC","SAC","Adults","Total","Coverage"]
[]
[{"$f":"IF(COUNTRY_INFO!A9=0,\" \",COUNTRY_INFO!A9)","v":"Guinea Bissau"},{"$f":"IF(COUNTRY_INFO!B9=0,\" \",COUNTRY_INFO!B9)","v":"SAB"},{"$f":"IF(COUNTRY_INFO!C9=0,\" \",COUNTRY_INFO!C9)","v":"AJUDA"},{"$f":"COUNTRY_INFO!L9","v":15446},null,null,{"$f":"MAX('MDA1'!M9,'MDA2'!M9)","v":0},{"$f":"IF(AND(COUNTRY_INFO!H9>0,COUNTRY_INFO!H9<4),IF(D9>MAX('MDA1'!M9,'MDA2'!M9),MAX('MDA1'!M9,'MDA2'!M9),D9),0)","v":0},{"$f":"IF(AND(COUNTRY_INFO!H9>0,COUNTRY_INFO!H9<4), IF(G9/D9*100<>0, IF(G9/D9*100>100,100,G9/D9*100), \"-\"),0)","v":"-"},{"$f":"COUNTRY_INFO!M9","v":"Inconnu"},null,null,{"$f":"MAX('MDA1'!M9,MAX('MDA3'!I9,'MDA3'!L9)+MAX('MDA3'!J9,'MDA3'!M9))","v":0},{"$f":"IF(AND(COUNTRY_INFO!I9>0,COUNTRY_INFO!I9<4),IF(J9>MAX('MDA1'!M9,MAX('MDA3'!I9,'MDA3'!L9)+MAX('MDA3'!J9,'MDA3'!M9)),MAX('MDA1'!M9,MAX('MDA3'!I9,'MDA3'!L9)+MAX('MDA3'!J9,'MDA3'!M9)),J9),0)","v":0},{"$f":"IF(AND(COUNTRY_INFO!I9>0,COUNTRY_INFO!I9<4), IF(M9/J9*100<>0, IF(M9/J9*100>100,100,M9/J9*100), \"-\"),0)","v":0},{"$f":"COUNTRY_INFO!N9","v":6011},null,null,{"$f":"SUM(MAX('MDA2'!J9, 'T1'!L9, MAX(T3_R1!K9, T3_R2!K9)), MAX('MDA1'!K9, 'MDA2'!K9, 'T1'!M9, MAX(T3_R1!L9, T3_R2!L9)), MAX('MDA1'!L9, 'MDA2'!L9, 'T1'!N9, MAX(T3_R1!M9, T3_R2!M9)))","v":0},{"$f":"IF(AND(COUNTRY_INFO!J9>1,COUNTRY_INFO!J9<4),IF(COUNTRY_INFO!E9>MAX('MDA2'!J9,'T1'!L9,MAX(T3_R1!K9,T3_R2!K9)),MAX('MDA2'!J9,'T1'!L9,MAX(T3_R1!K9,T3_R2!K9)),COUNTRY_INFO!E9),0)","v":0},{"$f":"IF(AND(COUNTRY_INFO!J9>1,COUNTRY_INFO!J9<4), IF(T9/COUNTRY_INFO!E9*100<>0, IF(T9/COUNTRY_INFO!E9*100>100,100,T9/COUNTRY_INFO!E9*100), \"-\"),0)","v":"-"},{"$f":"IF(AND(COUNTRY_INFO!J9>1,COUNTRY_INFO!J9<4),IF(COUNTRY_INFO!F9>MAX('MDA1'!K9,'MDA2'!K9,'T1'!M9,MAX(T3_R1!L9,T3_R2!L9)),MAX('MDA1'!K9,'MDA2'!K9,'T1'!M9,MAX(T3_R1!L9,T3_R2!L9)),COUNTRY_INFO!F9),0)","v":0},{"$f":"IF(AND(COUNTRY_INFO!J9>1,COUNTRY_INFO!J9<4), IF(V9/COUNTRY_INFO!F9*100<>0, IF(V9/COUNTRY_INFO!F9*100>100,100,V9/COUNTRY_INFO!F9*100), \"-\"),0)","v":"-"},{"$f":"SUM(T9,V9)","v":0},{"$f":"IF(AND(COUNTRY_INFO!J9>1,COUNTRY_INFO!J9<4), IF(S9/P9*100<>0, IF(X9/P9*100>100,100,X9/P9*100), \"-\"),0)","v":"-"},{"$f":"COUNTRY_INFO!O9","v":1305.8100000000002},null,null,{"$f":"MAX('T1'!L9,'T2'!J9)+MAX('T1'!M9,'T2'!K9)+MAX('T1'!N9,'T2'!L9)","v":0},{"$f":"IF(COUNTRY_INFO!K9=1,IF(COUNTRY_INFO!F9*0.33>MAX('T1'!M9,'T2'!K9),MAX('T1'!M9,'T2'!K9),COUNTRY_INFO!F9*0.33),IF(COUNTRY_INFO!K9=2,IF(COUNTRY_INFO!F9*0.5>MAX('T1'!M9,'T2'!K9),MAX('T1'!M9,'T2'!K9),COUNTRY_INFO!F9*0.5),IF(COUNTRY_INFO!K9=3,IF(COUNTRY_INFO!F9>MAX('T1'!M9,'T2'!K9),MAX('T1'!M9,'T2'!K9),COUNTRY_INFO!F9),0)))","v":0},{"$f":"IF(AND(COUNTRY_INFO!K9>0,COUNTRY_INFO!K9<4),IF(Z9>0,IF(COUNTRY_INFO!K9=1, AD9/(COUNTRY_INFO!F9*0.33)*100, IF(COUNTRY_INFO!K9=2, AD9/(COUNTRY_INFO!F9*0.5)*100, IF(COUNTRY_INFO!K9=3, AD9/COUNTRY_INFO!F9*100))),\"-\"),0)","v":0},{"$f":"IF(COUNTRY_INFO!K9=2,IF(COUNTRY_INFO!G9*0.2>MAX('T1'!N9,'T2'!L9),MAX('T1'!N9,'T2'!L9),COUNTRY_INFO!G9*0.2),IF(COUNTRY_INFO!K9=3,IF(COUNTRY_INFO!G9>MAX('T1'!N9,'T2'!L9),MAX('T1'!N9,'T2'!L9),COUNTRY_INFO!G9),0))","v":0},{"$f":"IF(AND(COUNTRY_INFO!K9>0,COUNTRY_INFO!K9<4),IF(Z9>0,IF(COUNTRY_INFO!K9=1, 0, IF(COUNTRY_INFO!K9=2, AF9/(COUNTRY_INFO!G9*0.2)*100, IF(COUNTRY_INFO!K9=3, AF9/COUNTRY_INFO!G9*100))),\"-\"),0)","v":0},{"$f":"SUM(AD9,AF9)","v":0},{"$f":"IF(AND(COUNTRY_INFO!K9>0,COUNTRY_INFO!K9<4), IF(AC9/Z9*100<>0, IF(AH9/Z9*100>100,100,AH9/Z9*100), \"-\"),0)","v":"-"},null,{"$f":"IF(AND(D9<>0, D9<>\"Inconnu\",D9<>\"Interrompu\",D9<>\"Non requis\"),D9/COUNTRY_INFO!D9, 0)","v":1},{"$f":"IF(AND(J9<>0,J9<>\"Inconnu\",J9<>\"Interrompu\",J9<>\"Non requis\"),J9/COUNTRY_INFO!D9, 0)","v":0},{"$f":"IF(AND(P9<>0,P9<>\"Inconnu\",P9<>\"Non requis\"),P9/(COUNTRY_INFO!E9+COUNTRY_INFO!F9), 0)","v":1},{"$f":"IF(AND(Z9<>0,Z9<>\"Inconnu\",Z9<>\"Non requis\"),IF(COUNTRY_INFO!K9=1,1,IF(COUNTRY_INFO!K9=2,0.5*COUNTRY_INFO!F9/(0.5*COUNTRY_INFO!F9+0.2*COUNTRY_INFO!G9),IF(COUNTRY_INFO!K9=3,COUNTRY_INFO!F9/(COUNTRY_INFO!F9+COUNTRY_INFO!G9)))),0)","v":1},{"$f":"IF(AND(Z9<>0,Z9<>\"Inconnu\",Z9<>\"Non requis\"),IF(COUNTRY_INFO!K9=1,0,IF(COUNTRY_INFO!K9=2,0.2*COUNTRY_INFO!G9/(0.5*COUNTRY_INFO!F9+0.2*COUNTRY_INFO!G9),IF(COUNTRY_INFO!K9=3,COUNTRY_INFO!G9/(COUNTRY_INFO!F9+COUNTRY_INFO!G9)))),0)","v":0},{"$f":"MAX(COUNTRY_INFO!D9*AK9*PROFILE!$G$7,COUNTRY_INFO!D9*AL9*PROFILE!$G$7)","v":684.22765942739022},{"$f":"MAX(COUNTRY_INFO!D9*AK9*PROFILE!$G$8,COUNTRY_INFO!D9*AL9*PROFILE!$G$8,COUNTRY_INFO!D9*AM9*PROFILE!$G$8)","v":2054.3256383694056},{"$f":"MAX(COUNTRY_INFO!D9*AK9*PROFILE!$G$9,COUNTRY_INFO!D9*AL9*PROFILE!$G$9,COUNTRY_INFO!D9*AM9*PROFILE!$G$9,IF(AND(DISTRICT!Z9<>\"Inconnu\",Z9<>\"Non requis\"),COUNTRY_INFO!O9*DISTRICT!AN9,0))","v":3957.280149700121},{"$f":"MAX(COUNTRY_INFO!D9*AK9*PROFILE!$G$10,COUNTRY_INFO!D9*AL9*PROFILE!$G$10,IF(AND(DISTRICT!Z9<>\"Inconnu\",Z9<>\"Non requis\"),COUNTRY_INFO!O9*DISTRICT!AO9,0))","v":8750.1665525030821},{"$f":"SUM(AP9:AS9)","v":15446},{"$f":"IF(COUNTIFS(AK9:AN9,\">0\")=0,0, IF(COUNTIFS(AK9:AN9,\">0\")<=IF(AND(OR(D9>=0,D9=\"Non requis\",D9=\"Inconnu\",D9=\"Interrompu\"),D9>0,H9>0),1,0)+IF(AND(OR(J9>=0,J9=\"Non requis\",J9=\"Inconnu\",J9=\"Interrompu\"),J9>0,N9>0),1,0)+IF(AND(OR(P9>=0,P9=\"Non requis\",P9=\"Inconnu\"),P9>0,X9>0),1,0)+IF(AND(OR(Z9>=0,Z9=\"Non requis\",Z9=\"Inconnu\"),Z9>0,AH9>0),1,0),\"Y\",0))","v":0},{"$f":"MAX('MDA2'!J9,'T1'!L9,'T2'!J9,T3_R1!K9,T3_R2!K9)","v":0},{"$f":"MAX('MDA1'!K9,'MDA2'!K9,'MDA3'!I9,'MDA3'!L9,'T1'!M9,'T2'!K9,T3_R1!L9,T3_R2!L9)","v":0},{"$f":"MAX('MDA1'!L9,'MDA2'!L9,'MDA3'!J9,'MDA3'!M9,'T1'!N9,'T2'!L9,T3_R1!M9,T3_R2!M9)","v":0},{"$f":"SUM(AV9:AX9)","v":0},{"$f":"MAX('MDA2'!J9,T9)","v":0},{"$f":"MAX('MDA1'!K9,'MDA2'!K9,'MDA3'!I9,'MDA3'!L9,V9,AD9)","v":0},{"$f":"MAX('MDA1'!L9,'MDA2'!L9,'MDA3'!J9,'MDA3'!M9,AF9)","v":0},{"$f":"IF(AT9<SUM(AZ9:BB9), AT9,SUM(AZ9:BB9))","v":0},{"$f":"IF(AT9<>0,BC9/AT9*100,0)","v":0}]
[{"$f":"IF(COUNTRY_INFO!A10=0,\" \",COUNTRY_INFO!A10)","v":"Guinea Bissau"},{"$f":"IF(COUNTRY_INFO!B10=0,\" \",COUNTRY_INFO!B10)","v":"SAB"},{"$f":"IF(COUNTRY_INFO!C10=0,\" \",COUNTRY_INFO!C10)","v":"ANTULA"},{"$f":"COUNTRY_INFO!L10","v":45580},null,null,{"$f":"MAX('MDA1'!M10,'MDA2'!M10)","v":0},{"$f":"IF(AND(COUNTRY_INFO!H10>0,COUNTRY_INFO!H10<4),IF(D10>MAX('MDA1'!M10,'MDA2'!M10),MAX('MDA1'!M10,'MDA2'!M10),D10),0)","v":0},{"$f":"IF(AND(COUNTRY_INFO!H10>0,COUNTRY_INFO!H10<4), IF(G10/D10*100<>0, IF(G10/D10*100>100,100,G10/D10*100), \"-\"),0)","v":"-"},{"$f":"COUNTRY_INFO!M10","v":"Inconnu"},null,null,{"$f":"MAX('MDA1'!M10,MAX('MDA3'!I10,'MDA3'!L10)+MAX('MDA3'!J10,'MDA3'!M10))","v":0},{"$f":"IF(AND(COUNTRY_INFO!I10>0,COUNTRY_INFO!I10<4),IF(J10>MAX('MDA1'!M10,MAX('MDA3'!I10,'MDA3'!L10)+MAX('MDA3'!J10,'MDA3'!M10)),MAX('MDA1'!M10,MAX('MDA3'!I10,'MDA3'!L10)+MAX('MDA3'!J10,'MDA3'!M10)),J10),0)","v":0},{"$f":"IF(AND(COUNTRY_INFO!I10>0,COUNTRY_INFO!I10<4), IF(M10/J10*100<>0, IF(M10/J10*100>100,100,M10/J10*100), \"-\"),0)","v":0},{"$f":"COUNTRY_INFO!N10","v":17740},null,null,{"$f":"SUM(MAX('MDA2'!J10, 'T1'!L10, MAX(T3_R1!K10, T3_R2!K10)), MAX('MDA1'!K10, 'MDA2'!K10, 'T1'!M10, MAX(T3_R1!L10, T3_R2!L10)), MAX('MDA1'!L10, 'MDA2'!L10, 'T1'!N10, MAX(T3_R1!M10, T3_R2!M10)))","v":0},{"$f":"IF(AND(COUNTRY_INFO!J10>1,COUNTRY_INFO!J10<4),IF(COUNTRY_INFO!E10>MAX('MDA2'!J10,'T1'!L10,MAX(T3_R1!K10,T3_R2!K10)),MAX('MDA2'!J10,'T1'!L10,MAX(T3_R1!K10,T3_R2!K10)),COUNTRY_INFO!E10),0)","v":0},{"$f":"IF(AND(COUNTRY_INFO!J10>1,COUNTRY_INFO!J10<4), IF(T10/COUNTRY_INFO!E10*100<>0, IF(T10/COUNTRY_INFO!E10*100>100,100,T10/COUNTRY_INFO!E10*100), \"-\"),0)","v":"-"},{"$f":"IF(AND(COUNTRY_INFO!J10>1,COUNTRY_INFO!J10<4),IF(COUNTRY_INFO!F10>MAX('MDA1'!K10,'MDA2'!K10,'T1'!M10,MAX(T3_R1!L10,T3_R2!L10)),MAX('MDA1'!K10,'MDA2'!K10,'T1'!M10,MAX(T3_R1!L10,T3_R2!L10)),COUNTRY_INFO!F10),0)","v":0},{"$f":"IF(AND(COUNTRY_INFO!J10>1,COUNTRY_INFO!J10<4), IF(V10/COUNTRY_INFO!F10*100<>0, IF(V10/COUNTRY_INFO!F10*100>100,100,V10/COUNTRY_INFO!F10*100), \"-\"),0)","v":"-"},{"$f":"SUM(T10,V10)","v":0},{"$f":"IF(AND(COUNTRY_INFO!J10>1,COUNTRY_INFO!J10<4), IF(S10/P10*100<>0, IF(X10/P10*100>100,100,X10/P10*100), \"-\"),0)","v":"-"},{"$f":"COUNTRY_INFO!O10","v":3853.7400000000002},null,null,{"$f":"MAX('T1'!L10,'T2'!J10)+MAX('T1'!M10,'T2'!K10)+MAX('T1'!N10,'T2'!L10)","v":0},{"$f":"IF(COUNTRY_INFO!K10=1,IF(COUNTRY_INFO!F10*0.33>MAX('T1'!M10,'T2'!K10),MAX('T1'!M10,'T2'!K10),COUNTRY_INFO!F10*0.33),IF(COUNTRY_INFO!K10=2,IF(COUNTRY_INFO!F10*0.5>MAX('T1'!M10,'T2'!K10),MAX('T1'!M10,'T2'!K10),COUNTRY_INFO!F10*0.5),IF(COUNTRY_INFO!K10=3,IF(COUNTRY_INFO!F10>MAX('T1'!M10,'T2'!K10),MAX('T1'!M10,'T2'!K10),COUNTRY_INFO!F10),0)))","v":0},{"$f":"IF(AND(COUNTRY_INFO!K10>0,COUNTRY_INFO!K10<4),IF(Z10>0,IF(COUNTRY_INFO!K10=1, AD10/(COUNTRY_INFO!F10*0.33)*100, IF(COUNTRY_INFO!K10=2, AD10/(COUNTRY_INFO!F10*0.5)*100, IF(COUNTRY_INFO!K10=3, AD10/COUNTRY_INFO!F10*100))),\"-\"),0)","v":0},{"$f":"IF(COUNTRY_INFO!K10=2,IF(COUNTRY_INFO!G10*0.2>MAX('T1'!N10,'T2'!L10),MAX('T1'!N10,'T2'!L10),COUNTRY_INFO!G10*0.2),IF(COUNTRY_INFO!K10=3,IF(COUNTRY_INFO!G10>MAX('T1'!N10,'T2'!L10),MAX('T1'!N10,'T2'!L10),COUNTRY_INFO!G10),0))","v":0},{"$f":"IF(AND(COUNTRY_INFO!K10>0,COUNTRY_INFO!K10<4),IF(Z10>0,IF(COUNTRY_INFO!K10=1, 0, IF(COUNTRY_INFO!K10=2, AF10/(COUNTRY_INFO!G10*0.2)*100, IF(COUNTRY_INFO!K10=3, AF10/COUNTRY_INFO!G10*100))),\"-\"),0)","v":0},{"$f":"SUM(AD10,AF10)","v":0},{"$f":"IF(AND(COUNTRY_INFO!K10>0,COUNTRY_INFO!K10<4), IF(AC10/Z10*100<>0, IF(AH10/Z10*100>100,100,AH10/Z10*100), \"-\"),0)","v":"-"},null,{"$f":"IF(AND(D10<>0, D10<>\"Inconnu\",D10<>\"Interrompu\",D10<>\"Non requis\"),D10/COUNTRY_INFO!D10, 0)","v":1},{"$f":"IF(AND(J10<>0,J10<>\"Inconnu\",J10<>\"Interrompu\",J10<>\"Non requis\"),J10/COUNTRY_INFO!D10, 0)","v":0},{"$f":"IF(AND(P10<>0,P10<>\"Inconnu\",P10<>\"Non requis\"),P10/(COUNTRY_INFO!E10+COUNTRY_INFO!F10), 0)","v":1},{"$f":"IF(AND(Z10<>0,Z10<>\"Inconnu\",Z10<>\"Non requis\"),IF(COUNTRY_INFO!K10=1,1,IF(COUNTRY_INFO!K10=2,0.5*COUNTRY_INFO!F10/(0.5*COUNTRY_INFO!F10+0.2*COUNTRY_INFO!G10),IF(COUNTRY_INFO!K10=3,COUNTRY_INFO!F10/(COUNTRY_INFO!F10+COUNTRY_INFO!G10)))),0)","v":1},{"$f":"IF(AND(Z10<>0,Z10<>\"Inconnu\",Z10<>\"Non requis\"),IF(COUNTRY_INFO!K10=1,0,IF(COUNTRY_INFO!K10=2,0.2*COUNTRY_INFO!G10/(0.5*COUNTRY_INFO!F10+0.2*COUNTRY_INFO!G10),IF(COUNTRY_INFO!K10=3,COUNTRY_INFO!G10/(COUNTRY_INFO!F10+COUNTRY_INFO!G10)))),0)","v":0},{"$f":"MAX(COUNTRY_INFO!D10*AK10*PROFILE!$G$7,COUNTRY_INFO!D10*AL10*PROFILE!$G$7)","v":2019.1050574064773},{"$f":"MAX(COUNTRY_INFO!D10*AK10*PROFILE!$G$8,COUNTRY_INFO!D10*AL10*PROFILE!$G$8,COUNTRY_INFO!D10*AM10*PROFILE!$G$8)","v":6062.1625402613954},{"$f":"MAX(COUNTRY_INFO!D10*AK10*PROFILE!$G$9,COUNTRY_INFO!D10*AL10*PROFILE!$G$9,COUNTRY_INFO!D10*AM10*PROFILE!$G$9,IF(AND(DISTRICT!Z10<>\"Inconnu\",Z10<>\"Non requis\"),COUNTRY_INFO!O10*DISTRICT!AN10,0))","v":11677.640115455881},{"$f":"MAX(COUNTRY_INFO!D10*AK10*PROFILE!$G$10,COUNTRY_INFO!D10*AL10*PROFILE!$G$10,IF(AND(DISTRICT!Z10<>\"Inconnu\",Z10<>\"Non requis\"),COUNTRY_INFO!O10*DISTRICT!AO10,0))","v":25821.092286876246},{"$f":"SUM(AP10:AS10)","v":45580},0,{"$f":"MAX('MDA2'!J10,'T1'!L10,'T2'!J10,T3_R1!K10,T3_R2!K10)","v":0},{"$f":"MAX('MDA1'!K10,'MDA2'!K10,'MDA3'!I10,'MDA3'!L10,'T1'!M10,'T2'!K10,T3_R1!L10,T3_R2!L10)","v":0},{"$f":"MAX('MDA1'!L10,'MDA2'!L10,'MDA3'!J10,'MDA3'!M10,'T1'!N10,'T2'!L10,T3_R1!M10,T3_R2!M10)","v":0},{"$f":"SUM(AV10:AX10)","v":0},{"$f":"MAX('MDA2'!J10,T10)","v":0},{"$f":"MAX('MDA1'!K10,'MDA2'!K10,'MDA3'!I10,'MDA3'!L10,V10,AD10)","v":0},{"$f":"MAX('MDA1'!L10,'MDA2'!L10,'MDA3'!J10,'MDA3'!M10,AF10)","v":0},0,0]
[{"$f":"IF(COUNTRY_INFO!A11=0,\" \",COUNTRY_INFO!A11)","v":"Guinea Bissau"},{"$f":"IF(COUNTRY_INFO!B11=0,\" \",COUNTRY_INFO!B11)","v":"SAB"},{"$f":"IF(COUNTRY_INFO!C11=0,\" \",COUNTRY_INFO!C11)","v":"B. MILITAR"},{"$f":"COUNTRY_INFO!L11","v":96797},null,null,{"$f":"MAX('MDA1'!M11,'MDA2'!M11)","v":0},{"$f":"IF(AND(COUNTRY_INFO!H11>0,COUNTRY_INFO!H11<4),IF(D11>MAX('MDA1'!M11,'MDA2'!M11),MAX('MDA1'!M11,'MDA2'!M11),D11),0)","v":0},{"$f":"IF(AND(COUNTRY_INFO!H11>0,COUNTRY_INFO!H11<4), IF(G11/D11*100<>0, IF(G11/D11*100>100,100,G11/D11*100), \"-\"),0)","v":"-"},{"$f":"COUNTRY_INFO!M11","v":"Inconnu"},null,null,{"$f":"MAX('MDA1'!M11,MAX('MDA3'!I11,'MDA3'!L11)+MAX('MDA3'!J11,'MDA3'!M11))","v":0},{"$f":"IF(AND(COUNTRY_INFO!I11>0,COUNTRY_INFO!I11<4),IF(J11>MAX('MDA1'!M11,MAX('MDA3'!I11,'MDA3'!L11)+MAX('MDA3'!J11,'MDA3'!M11)),MAX('MDA1'!M11,MAX('MDA3'!I11,'MDA3'!L11)+MAX('MDA3'!J11,'MDA3'!M11)),J11),0)","v":0},{"$f":"IF(AND(COUNTRY_INFO!I11>0,COUNTRY_INFO!I11<4), IF(M11/J11*100<>0, IF(M11/J11*100>100,100,M11/J11*100), \"-\"),0)","v":0},{"$f":"COUNTRY_INFO!N11","v":0},null,null,{"$f":"SUM(MAX('MDA2'!J11, 'T1'!L11, MAX(T3_R1!K11, T3_R2!K11)), MAX('MDA1'!K11, 'MDA2'!K11, 'T1'!M11, MAX(T3_R1!L11, T3_R2!L11)), MAX('MDA1'!L11, 'MDA2'!L11, 'T1'!N11, MAX(T3_R1!M11, T3_R2!M11)))","v":0},{"$f":"IF(AND(COUNTRY_INFO!J11>1,COUNTRY_INFO!J11<4),IF(COUNTRY_INFO!E11>MAX('MDA2'!J11,'T1'!L11,MAX(T3_R1!K11,T3_R2!K11)),MAX('MDA2'!J11,'T1'!L11,MAX(T3_R1!K11,T3_R2!K11)),COUNTRY_INFO!E11),0)","v":0},{"$f":"IF(AND(COUNTRY_INFO!J11>1,COUNTRY_INFO!J11<4), IF(T11/COUNTRY_INFO!E11*100<>0, IF(T11/COUNTRY_INFO!E11*100>100,100,T11/COUNTRY_INFO!E11*100), \"-\"),0)","v":0},{"$f":"IF(AND(COUNTRY_INFO!J11>1,COUNTRY_INFO!J11<4),IF(COUNTRY_INFO!F11>MAX('MDA1'!K11,'MDA2'!K11,'T1'!M11,MAX(T3_R1!L11,T3_R2!L11)),MAX('MDA1'!K11,'MDA2'!K11,'T1'!M11,MAX(T3_R1!L11,T3_R2!L11)),COUNTRY_INFO!F11),0)","v":0},{"$f":"IF(AND(COUNTRY_INFO!J11>1,COUNTRY_INFO!J11<4), IF(V11/COUNTRY_INFO!F11*100<>0, IF(V11/COUNTRY_INFO!F11*100>100,100,V11/COUNTRY_INFO!F11*100), \"-\"),0)","v":0},0,{"$f":"IF(AND(COUNTRY_INFO!J11>1,COUNTRY_INFO!J11<4), IF(S11/P11*100<>0, IF(X11/P11*100>100,100,X11/P11*100), \"-\"),0)","v":0},{"$f":"COUNTRY_INFO!O11","v":0},null,null,{"$f":"MAX('T1'!L11,'T2'!J11)+MAX('T1'!M11,'T2'!K11)+MAX('T1'!N11,'T2'!L11)","v":0},{"$f":"IF(COUNTRY_INFO!K11=1,IF(COUNTRY_INFO!F11*0.33>MAX('T1'!M11,'T2'!K11),MAX('T1'!M11,'T2'!K11),COUNTRY_INFO!F11*0.33),IF(COUNTRY_INFO!K11=2,IF(COUNTRY_INFO!F11*0.5>MAX('T1'!M11,'T2'!K11),MAX('T1'!M11,'T2'!K11),COUNTRY_INFO!F11*0.5),IF(COUNTRY_INFO!K11=3,IF(COUNTRY_INFO!F11>MAX('T1'!M11,'T2'!K11),MAX('T1'!M11,'T2'!K11),COUNTRY_INFO!F11),0)))","v":0},{"$f":"IF(AND(COUNTRY_INFO!K11>0,COUNTRY_INFO!K11<4),IF(Z11>0,IF(COUNTRY_INFO!K11=1, AD11/(COUNTRY_INFO!F11*0.33)*100, IF(COUNTRY_INFO!K11=2, AD11/(COUNTRY_INFO!F11*0.5)*100, IF(COUNTRY_INFO!K11=3, AD11/COUNTRY_INFO!F11*100))),\"-\"),0)","v":0},{"$f":"IF(COUNTRY_INFO!K11=2,IF(COUNTRY_INFO!G11*0.2>MAX('T1'!N11,'T2'!L11),MAX('T1'!N11,'T2'!L11),COUNTRY_INFO!G11*0.2),IF(COUNTRY_INFO!K11=3,IF(COUNTRY_INFO!G11>MAX('T1'!N11,'T2'!L11),MAX('T1'!N11,'T2'!L11),COUNTRY_INFO!G11),0))","v":0},{"$f":"IF(AND(COUNTRY_INFO!K11>0,COUNTRY_INFO!K11<4),IF(Z11>0,IF(COUNTRY_INFO!K11=1, 0, IF(COUNTRY_INFO!K11=2, AF11/(COUNTRY_INFO!G11*0.2)*100, IF(COUNTRY_INFO!K11=3, AF11/COUNTRY_INFO!G11*100))),\"-\"),0)","v":0},0,{"$f":"IF(AND(COUNTRY_INFO!K11>0,COUNTRY_INFO!K11<4), IF(AC11/Z11*100<>0, IF(AH11/Z11*100>100,100,AH11/Z11*100), \"-\"),0)","v":0},null,{"$f":"IF(AND(D11<>0, D11<>\"Inconnu\",D11<>\"Interrompu\",D11<>\"Non requis\"),D11/COUNTRY_INFO!D11, 0)","v":1},{"$f":"IF(AND(J11<>0,J11<>\"Inconnu\",J11<>\"Interrompu\",J11<>\"Non requis\"),J11/COUNTRY_INFO!D11, 0)","v":0},{"$f":"IF(AND(P11<>0,P11<>\"Inconnu\",P11<>\"Non requis\"),P11/(COUNTRY_INFO!E11+COUNTRY_INFO!F11), 0)","v":0},{"$f":"IF(AND(Z11<>0,Z11<>\"Inconnu\",Z11<>\"Non requis\"),IF(COUNTRY_INFO!K11=1,1,IF(COUNTRY_INFO!K11=2,0.5*COUNTRY_INFO!F11/(0.5*COUNTRY_INFO!F11+0.2*COUNTRY_INFO!G11),IF(COUNTRY_INFO!K11=3,COUNTRY_INFO!F11/(COUNTRY_INFO!F11+COUNTRY_INFO!G11)))),0)","v":0},{"$f":"IF(AND(Z11<>0,Z11<>\"Inconnu\",Z11<>\"Non requis\"),IF(COUNTRY_INFO!K11=1,0,IF(COUNTRY_INFO!K11=2,0.2*COUNTRY_INFO!G11/(0.5*COUNTRY_INFO!F11+0.2*COUNTRY_INFO!G11),IF(COUNTRY_INFO!K11=3,COUNTRY_INFO!G11/(COUNTRY_INFO!F11+COUNTRY_INFO!G11)))),0)","v":0},{"$f":"MAX(COUNTRY_INFO!D11*AK11*PROFILE!$G$7,COUNTRY_INFO!D11*AL11*PROFILE!$G$7)","v":4287.9182150455199},{"$f":"MAX(COUNTRY_INFO!D11*AK11*PROFILE!$G$8,COUNTRY_INFO!D11*AL11*PROFILE!$G$8,COUNTRY_INFO!D11*AM11*PROFILE!$G$8)","v":12874.048868136953},{"$f":"MAX(COUNTRY_INFO!D11*AK11*PROFILE!$G$9,COUNTRY_INFO!D11*AL11*PROFILE!$G$9,COUNTRY_INFO!D11*AM11*PROFILE!$G$9,IF(AND(DISTRICT!Z11<>\"Inconnu\",Z11<>\"Non requis\"),COUNTRY_INFO!O11*DISTRICT!AN11,0))","v":24799.485086787688},{"$f":"MAX(COUNTRY_INFO!D11*AK11*PROFILE!$G$10,COUNTRY_INFO!D11*AL11*PROFILE!$G$10,IF(AND(DISTRICT!Z11<>\"Inconnu\",Z11<>\"Non requis\"),COUNTRY_INFO!O11*DISTRICT!AO11,0))","v":54835.547830029835},96797,0,{"$f":"MAX('MDA2'!J11,'T1'!L11,'T2'!J11,T3_R1!K11,T3_R2!K11)","v":0},{"$f":"MAX('MDA1'!K11,'MDA2'!K11,'MDA3'!I11,'MDA3'!L11,'T1'!M11,'T2'!K11,T3_R1!L11,T3_R2!L11)","v":0},{"$f":"MAX('MDA1'!L11,'MDA2'!L11,'MDA3'!J11,'MDA3'!M11,'T1'!N11,'T2'!L11,T3_R1!M11,T3_R2!M11)","v":0},0,{"$f":"MAX('MDA2'!J11,T11)","v":0},{"$f":"MAX('MDA1'!K11,'MDA2'!K11,'MDA3'!I11,'MDA3'!L11,V11,AD11)","v":0},{"$f":"MAX('MDA1'!L11,'MDA2'!L11,'MDA3'!J11,'MDA3'!M11,AF11)","v":0},0,0]
[{"$f":"IF(COUNTRY_INFO!A12=0,\" \",COUNTRY_INFO!A12)","v":"Guinea Bissau"},{"$f":"IF(COUNTRY_INFO!B12=0,\" \",COUNTRY_INFO!B12)","v":"SAB"},{"$f":"IF(COUNTRY_INFO!C12=0,\" \",COUNTRY_INFO!C12)","v":"BANDIM"},{"$f":"COUNTRY_INFO!L12","v":66226},null,null,{"$f":"MAX('MDA1'!M12,'MDA2'!M12)","v":0},{"$f":"IF(AND(COUNTRY_INFO!H12>0,COUNTRY_INFO!H12<4),IF(D12>MAX('MDA1'!M12,'MDA2'!M12),MAX('MDA1'!M12,'MDA2'!M12),D12),0)","v":0},{"$f":"IF(AND(COUNTRY_INFO!H12>0,COUNTRY_INFO!H12<4), IF(G12/D12*100<>0, IF(G12/D12*100>100,100,G12/D12*100), \"-\"),0)","v":"-"},{"$f":"COUNTRY_INFO!M12","v":"Inconnu"},null,null,{"$f":"MAX('MDA1'!M12,MAX('MDA3'!I12,'MDA3'!L12)+MAX('MDA3'!J12,'MDA3'!M12))","v":0},{"$f":"IF(AND(COUNTRY_INFO!I12>0,COUNTRY_INFO!I12<4),IF(J12>MAX('MDA1'!M12,MAX('MDA3'!I12,'MDA3'!L12)+MAX('MDA3'!J12,'MDA3'!M12)),MAX('MDA1'!M12,MAX('MDA3'!I12,'MDA3'!L12)+MAX('MDA3'!J12,'MDA3'!M12)),J12),0)","v":0},{"$f":"IF(AND(COUNTRY_INFO!I12>0,COUNTRY_INFO!I12<4), IF(M12/J12*100<>0, IF(M12/J12*100>100,100,M12/J12*100), \"-\"),0)","v":0},{"$f":"COUNTRY_INFO!N12","v":25775},null,null,{"$f":"SUM(MAX('MDA2'!J12, 'T1'!L12, MAX(T3_R1!K12, T3_R2!K12)), MAX('MDA1'!K12, 'MDA2'!K12, 'T1'!M12, MAX(T3_R1!L12, T3_R2!L12)), MAX('MDA1'!L12, 'MDA2'!L12, 'T1'!N12, MAX(T3_R1!M12, T3_R2!M12)))","v":0},{"$f":"IF(AND(COUNTRY_INFO!J12>1,COUNTRY_INFO!J12<4),IF(COUNTRY_INFO!E12>MAX('MDA2'!J12,'T1'!L12,MAX(T3_R1!K12,T3_R2!K12)),MAX('MDA2'!J12,'T1'!L12,MAX(T3_R1!K12,T3_R2!K12)),COUNTRY_INFO!E12),0)","v":0},{"$f":"IF(AND(COUNTRY_INFO!J12>1,COUNTRY_INFO!J12<4), IF(T12/COUNTRY_INFO!E12*100<>0, IF(T12/COUNTRY_INFO!E12*100>100,100,T12/COUNTRY_INFO!E12*100), \"-\"),0)","v":"-"},{"$f":"IF(AND(COUNTRY_INFO!J12>1,COUNTRY_INFO!J12<4),IF(COUNTRY_INFO!F12>MAX('MDA1'!K12,'MDA2'!K12,'T1'!M12,MAX(T3_R1!L12,T3_R2!L12)),MAX('MDA1'!K12,'MDA2'!K12,'T1'!M12,MAX(T3_R1!L12,T3_R2!L12)),COUNTRY_INFO!F12),0)","v":0},{"$f":"IF(AND(COUNTRY_INFO!J12>1,COUNTRY_INFO!J12<4), IF(V12/COUNTRY_INFO!F12*100<>0, IF(V12/COUNTRY_INFO!F12*100>100,100,V12/COUNTRY_INFO!F12*100), \"-\"),0)","v":"-"},0,{"$f":"IF(AND(COUNTRY_INFO!J12>1,COUNTRY_INFO!J12<4), IF(S12/P12*100<>0, IF(X12/P12*100>100,100,X12/P12*100), \"-\"),0)","v":"-"},{"$f":"COUNTRY_INFO!O12","v":5599.1100000000006},null,null,{"$f":"MAX('T1'!L12,'T2'!J12)+MAX('T1'!M12,'T2'!K12)+MAX('T1'!N12,'T2'!L12)","v":0},{"$f":"IF(COUNTRY_INFO!K12=1,IF(COUNTRY_INFO!F12*0.33>MAX('T1'!M12,'T2'!K12),MAX('T1'!M12,'T2'!K12),COUNTRY_INFO!F12*0.33),IF(COUNTRY_INFO!K12=2,IF(COUNTRY_INFO!F12*0.5>MAX('T1'!M12,'T2'!K12),MAX('T1'!M12,'T2'!K12),COUNTRY_INFO!F12*0.5),IF(COUNTRY_INFO!K12=3,IF(COUNTRY_INFO!F12>MAX('T1'!M12,'T2'!K12),MAX('T1'!M12,'T2'!K12),COUNTRY_INFO!F12),0)))","v":0},{"$f":"IF(AND(COUNTRY_INFO!K12>0,COUNTRY_INFO!K12<4),IF(Z12>0,IF(COUNTRY_INFO!K12=1, AD12/(COUNTRY_INFO!F12*0.33)*100, IF(COUNTRY_INFO!K12=2, AD12/(COUNTRY_INFO!F12*0.5)*100, IF(COUNTRY_INFO!K12=3, AD12/COUNTRY_INFO!F12*100))),\"-\"),0)","v":0},{"$f":"IF(COUNTRY_INFO!K12=2,IF(COUNTRY_INFO!G12*0.2>MAX('T1'!N12,'T2'!L12),MAX('T1'!N12,'T2'!L12),COUNTRY_INFO!G12*0.2),IF(COUNTRY_INFO!K12=3,IF(COUNTRY_INFO!G12>MAX('T1'!N12,'T2'!L12),MAX('T1'!N12,'T2'!L12),COUNTRY_INFO!G12),0))","v":0},{"$f":"IF(AND(COUNTRY_INFO!K12>0,COUNTRY_INFO!K12<4),IF(Z12>0,IF(COUNTRY_INFO!K12=1, 0, IF(COUNTRY_INFO!K12=2, AF12/(COUNTRY_INFO!G12*0.2)*100, IF(COUNTRY_INFO!K12=3, AF12/COUNTRY_INFO!G12*100))),\"-\"),0)","v":0},0,{"$f":"IF(AND(COUNTRY_INFO!K12>0,COUNTRY_INFO!K12<4), IF(AC12/Z12*100<>0, IF(AH12/Z12*100>100,100,AH12/Z12*100), \"-\"),0)","v":"-"},null,{"$f":"IF(AND(D12<>0, D12<>\"Inconnu\",D12<>\"Interrompu\",D12<>\"Non requis\"),D12/COUNTRY_INFO!D12, 0)","v":1},{"$f":"IF(AND(J12<>0,J12<>\"Inconnu\",J12<>\"Interrompu\",J12<>\"Non requis\"),J12/COUNTRY_INFO!D12, 0)","v":0},{"$f":"IF(AND(P12<>0,P12<>\"Inconnu\",P12<>\"Non requis\"),P12/(COUNTRY_INFO!E12+COUNTRY_INFO!F12), 0)","v":1},{"$f":"IF(AND(Z12<>0,Z12<>\"Inconnu\",Z12<>\"Non requis\"),IF(COUNTRY_INFO!K12=1,1,IF(COUNTRY_INFO!K12=2,0.5*COUNTRY_INFO!F12/(0.5*COUNTRY_INFO!F12+0.2*COUNTRY_INFO!G12),IF(COUNTRY_INFO!K12=3,COUNTRY_INFO!F12/(COUNTRY_INFO!F12+COUNTRY_INFO!G12)))),0)","v":1},{"$f":"IF(AND(Z12<>0,Z12<>\"Inconnu\",Z12<>\"Non requis\"),IF(COUNTRY_INFO!K12=1,0,IF(COUNTRY_INFO!K12=2,0.2*COUNTRY_INFO!G12/(0.5*COUNTRY_INFO!F12+0.2*COUNTRY_INFO!G12),IF(COUNTRY_INFO!K12=3,COUNTRY_INFO!G12/(COUNTRY_INFO!F12+COUNTRY_INFO!G12)))),0)","v":0},{"$f":"MAX(COUNTRY_INFO!D12*AK12*PROFILE!$G$7,COUNTRY_INFO!D12*AL12*PROFILE!$G$7)","v":2933.6825698069629},{"$f":"MAX(COUNTRY_INFO!D12*AK12*PROFILE!$G$8,COUNTRY_INFO!D12*AL12*PROFILE!$G$8,COUNTRY_INFO!D12*AM12*PROFILE!$G$8)","v":8808.0907501393413},{"$f":"MAX(COUNTRY_INFO!D12*AK12*PROFILE!$G$9,COUNTRY_INFO!D12*AL12*PROFILE!$G$9,COUNTRY_INFO!D12*AM12*PROFILE!$G$9,IF(AND(DISTRICT!Z12<>\"Inconnu\",Z12<>\"Non requis\"),COUNTRY_INFO!O12*DISTRICT!AN12,0))","v":16967.165298073302},{"$f":"MAX(COUNTRY_INFO!D12*AK12*PROFILE!$G$10,COUNTRY_INFO!D12*AL12*PROFILE!$G$10,IF(AND(DISTRICT!Z12<>\"Inconnu\",Z12<>\"Non requis\"),COUNTRY_INFO!O12*DISTRICT!AO12,0))","v":37517.061381980391},66226,0,{"$f":"MAX('MDA2'!J12,'T1'!L12,'T2'!J12,T3_R1!K12,T3_R2!K12)","v":0},{"$f":"MAX('MDA1'!K12,'MDA2'!K12,'MDA3'!I12,'MDA3'!L12,'T1'!M12,'T2'!K12,T3_R1!L12,T3_R2!L12)","v":0},{"$f":"MAX('MDA1'!L12,'MDA2'!L12,'MDA3'!J12,'MDA3'!M12,'T1'!N12,'T2'!L12,T3_R1!M12,T3_R2!M12)","v":0},0,{"$f":"MAX('MDA2'!J12,T12)","v":0},{"$f":"MAX('MDA1'!K12,'MDA2'!K12,'MDA3'!I12,'MDA3'!L12,V12,AD12)","v":0},{"$f":"MAX('MDA1'!L12,'MDA2'!L12,'MDA3'!J12,'MDA3'!M12,AF12)","v":0},0,0]
[{"$f":"IF(COUNTRY_INFO!A13=0,\" \",COUNTRY_INFO!A13)","v":"Guinea Bissau"},{"$f":"IF(COUNTRY_INFO!B13=0,\" \",COUNTRY_INFO!B13)","v":"SAB"},{"$f":"IF(COUNTRY_INFO!C13=0,\" \",COUNTRY_INFO!C13)","v":"BELEM"},{"$f":"COUNTRY_INFO!L13","v":25566},null,null,{"$f":"MAX('MDA1'!M13,'MDA2'!M13)","v":0},{"$f":"IF(AND(COUNTRY_INFO!H13>0,COUNTRY_INFO!H13<4),IF(D13>MAX('MDA1'!M13,'MDA2'!M13),MAX('MDA1'!M13,'MDA2'!M13),D13),0)","v":0},{"$f":"IF(AND(COUNTRY_INFO!H13>0,COUNTRY_INFO!H13<4), IF(G13/D13*100<>0, IF(G13/D13*100>100,100,G13/D13*100), \"-\"),0)","v":"-"},{"$f":"COUNTRY_INFO!M13","v":"Inconnu"},null,null,{"$f":"MAX('MDA1'!M13,MAX('MDA3'!I13,'MDA3'!L13)+MAX('MDA3'!J13,'MDA3'!M13))","v":0},{"$f":"IF(AND(COUNTRY_INFO!I13>0,COUNTRY_INFO!I13<4),IF(J13>MAX('MDA1'!M13,MAX('MDA3'!I13,'MDA3'!L13)+MAX('MDA3'!J13,'MDA3'!M13)),MAX('MDA1'!M13,MAX('MDA3'!I13,'MDA3'!L13)+MAX('MDA3'!J13,'MDA3'!M13)),J13),0)","v":0},{"$f":"IF(AND(COUNTRY_INFO!I13>0,COUNTRY_INFO!I13<4), IF(M13/J13*100<>0, IF(M13/J13*100>100,100,M13/J13*100), \"-\"),0)","v":0},{"$f":"COUNTRY_INFO!N13","v":9950},null,null,{"$f":"SUM(MAX('MDA2'!J13, 'T1'!L13, MAX(T3_R1!K13, T3_R2!K13)), MAX('MDA1'!K13, 'MDA2'!K13, 'T1'!M13, MAX(T3_R1!L13, T3_R2!L13)), MAX('MDA1'!L13, 'MDA2'!L13, 'T1'!N13, MAX(T3_R1!M13, T3_R2!M13)))","v":0},{"$f":"IF(AND(COUNTRY_INFO!J13>1,COUNTRY_INFO!J13<4),IF(COUNTRY_INFO!E13>MAX('MDA2'!J13,'T1'!L13,MAX(T3_R1!K13,T3_R2!K13)),MAX('MDA2'!J13,'T1'!L13,MAX(T3_R1!K13,T3_R2!K13)),COUNTRY_INFO!E13),0)","v":0},{"$f":"IF(AND(COUNTRY_INFO!J13>1,COUNTRY_INFO!J13<4), IF(T13/COUNTRY_INFO!E13*100<>0, IF(T13/COUNTRY_INFO!E13*100>100,100,T13/COUNTRY_INFO!E13*100), \"-\"),0)","v":"-"},{"$f":"IF(AND(COUNTRY_INFO!J13>1,COUNTRY_INFO!J13<4),IF(COUNTRY_INFO!F13>MAX('MDA1'!K13,'MDA2'!K13,'T1'!M13,MAX(T3_R1!L13,T3_R2!L13)),MAX('MDA1'!K13,'MDA2'!K13,'T1'!M13,MAX(T3_R1!L13,T3_R2!L13)),COUNTRY_INFO!F13),0)","v":0},{"$f":"IF(AND(COUNTRY_INFO!J13>1,COUNTRY_INFO!J13<4), IF(V13/COUNTRY_INFO!F13*100<>0, IF(V13/COUNTRY_INFO!F13*100>100,100,V13/COUNTRY_INFO!F13*100), \"-\"),0)","v":"-"},0,{"$f":"IF(AND(COUNTRY_INFO!J13>1,COUNTRY_INFO!J13<4), IF(S13/P13*100<>0, IF(X13/P13*100>100,100,X13/P13*100), \"-\"),0)","v":"-"},{"$f":"COUNTRY_INFO!O13","v":2161.5},null,null,{"$f":"MAX('T1'!L13,'T2'!J13)+MAX('T1'!M13,'T2'!K13)+MAX('T1'!N13,'T2'!L13)","v":0},{"$f":"IF(COUNTRY_INFO!K13=1,IF(COUNTRY_INFO!F13*0.33>MAX('T1'!M13,'T2'!K13),MAX('T1'!M13,'T2'!K13),COUNTRY_INFO!F13*0.33),IF(COUNTRY_INFO!K13=2,IF(COUNTRY_INFO!F13*0.5>MAX('T1'!M13,'T2'!K13),MAX('T1'!M13,'T2'!K13),COUNTRY_INFO!F13*0.5),IF(COUNTRY_INFO!K13=3,IF(COUNTRY_INFO!F13>MAX('T1'!M13,'T2'!K13),MAX('T1'!M13,'T2'!K13),COUNTRY_INFO!F13),0)))","v":0},{"$f":"IF(AND(COUNTRY_INFO!K13>0,COUNTRY_INFO!K13<4),IF(Z13>0,IF(COUNTRY_INFO!K13=1, AD13/(COUNTRY_INFO!F13*0.33)*100, IF(COUNTRY_INFO!K13=2, AD13/(COUNTRY_INFO!F13*0.5)*100, IF(COUNTRY_INFO!K13=3, AD13/COUNTRY_INFO!F13*100))),\"-\"),0)","v":0},{"$f":"IF(COUNTRY_INFO!K13=2,IF(COUNTRY_INFO!G13*0.2>MAX('T1'!N13,'T2'!L13),MAX('T1'!N13,'T2'!L13),COUNTRY_INFO!G13*0.2),IF(COUNTRY_INFO!K13=3,IF(COUNTRY_INFO!G13>MAX('T1'!N13,'T2'!L13),MAX('T1'!N13,'T2'!L13),COUNTRY_INFO!G13),0))","v":0},{"$f":"IF(AND(COUNTRY_INFO!K13>0,COUNTRY_INFO!K13<4),IF(Z13>0,IF(COUNTRY_INFO!K13=1, 0, IF(COUNTRY_INFO!K13=2, AF13/(COUNTRY_INFO!G13*0.2)*100, IF(COUNTRY_INFO!K13=3, AF13/COUNTRY_INFO!G13*100))),\"-\"),0)","v":0},0,{"$f":"IF(AND(COUNTRY_INFO!K13>0,COUNTRY_INFO!K13<4), IF(AC13/Z13*100<>0, IF(AH13/Z13*100>100,100,AH13/Z13*100), \"-\"),0)","v":"-"},null,{"$f":"IF(AND(D13<>0, D13<>\"Inconnu\",D13<>\"Interrompu\",D13<>\"Non requis\"),D13/COUNTRY_INFO!D13, 0)","v":1},{"$f":"IF(AND(J13<>0,J13<>\"Inconnu\",J13<>\"Interrompu\",J13<>\"Non requis\"),J13/COUNTRY_INFO!D13, 0)","v":0},{"$f":"IF(AND(P13<>0,P13<>\"Inconnu\",P13<>\"Non requis\"),P13/(COUNTRY_INFO!E13+COUNTRY_INFO!F13), 0)","v":1},{"$f":"IF(AND(Z13<>0,Z13<>\"Inconnu\",Z13<>\"Non requis\"),IF(COUNTRY_INFO!K13=1,1,IF(COUNTRY_INFO!K13=2,0.5*COUNTRY_INFO!F13/(0.5*COUNTRY_INFO!F13+0.2*COUNTRY_INFO!G13),IF(COUNTRY_INFO!K13=3,COUNTRY_INFO!F13/(COUNTRY_INFO!F13+COUNTRY_INFO!G13)))),0)","v":1},{"$f":"IF(AND(Z13<>0,Z13<>\"Inconnu\",Z13<>\"Non requis\"),IF(COUNTRY_INFO!K13=1,0,IF(COUNTRY_INFO!K13=2,0.2*COUNTRY_INFO!G13/(0.5*COUNTRY_INFO!F13+0.2*COUNTRY_INFO!G13),IF(COUNTRY_INFO!K13=3,COUNTRY_INFO!G13/(COUNTRY_INFO!F13+COUNTRY_INFO!G13)))),0)","v":0},{"$f":"MAX(COUNTRY_INFO!D13*AK13*PROFILE!$G$7,COUNTRY_INFO!D13*AL13*PROFILE!$G$7)","v":1132.5239117519525},{"$f":"MAX(COUNTRY_INFO!D13*AK13*PROFILE!$G$8,COUNTRY_INFO!D13*AL13*PROFILE!$G$8,COUNTRY_INFO!D13*AM13*PROFILE!$G$8)","v":3400.2906429206414},{"$f":"MAX(COUNTRY_INFO!D13*AK13*PROFILE!$G$9,COUNTRY_INFO!D13*AL13*PROFILE!$G$9,COUNTRY_INFO!D13*AM13*PROFILE!$G$9,IF(AND(DISTRICT!Z13<>\"Inconnu\",Z13<>\"Non requis\"),COUNTRY_INFO!O13*DISTRICT!AN13,0))","v":6550.0339445314839},{"$f":"MAX(COUNTRY_INFO!D13*AK13*PROFILE!$G$10,COUNTRY_INFO!D13*AL13*PROFILE!$G$10,IF(AND(DISTRICT!Z13<>\"Inconnu\",Z13<>\"Non requis\"),COUNTRY_INFO!O13*DISTRICT!AO13,0))","v":14483.151500795921},25566,0,{"$f":"MAX('MDA2'!J13,'T1'!L13,'T2'!J13,T3_R1!K13,T3_R2!K13)","v":0},{"$f":"MAX('MDA1'!K13,'MDA2'!K13,'MDA3'!I13,'MDA3'!L13,'T1'!M13,'T2'!K13,T3_R1!L13,T3_R2!L13)","v":0},{"$f":"MAX('MDA1'!L13,'MDA2'!L13,'MDA3'!J13,'MDA3'!M13,'T1'!N13,'T2'!L13,T3_R1!M13,T3_R2!M13)","v":0},0,{"$f":"MAX('MDA2'!J13,T13)","v":0},{"$f":"MAX('MDA1'!K13,'MDA2'!K13,'MDA3'!I13,'MDA3'!L13,V13,AD13)","v":0},{"$f":"MAX('MDA1'!L13,'MDA2'!L13,'MDA3'!J13,'MDA3'!M13,AF13)","v":0},0,0]
[{"$f":"IF(COUNTRY_INFO!A14=0,\" \",COUNTRY_INFO!A14)","v":"Guinea Bissau"},{"$f":"IF(COUNTRY_INFO!B14=0,\" \",COUNTRY_INFO!B14)","v":"SAB"},{"$f":"IF(COUNTRY_INFO!C14=0,\" \",COUNTRY_INFO!C14)","v":"CMI"},{"$f":"COUNTRY_INFO!L14","v":22194},null,null,{"$f":"MAX('MDA1'!M14,'MDA2'!M14)","v":0},{"$f":"IF(AND(COUNTRY_INFO!H14>0,COUNTRY_INFO!H14<4),IF(D14>MAX('MDA1'!M14,'MDA2'!M14),MAX('MDA1'!M14,'MDA2'!M14),D14),0)","v":0},{"$f":"IF(AND(COUNTRY_INFO!H14>0,COUNTRY_INFO!H14<4), IF(G14/D14*100<>0, IF(G14/D14*100>100,100,G14/D14*100), \"-\"),0)","v":"-"},{"$f":"COUNTRY_INFO!M14","v":"Inconnu"},null,null,{"$f":"MAX('MDA1'!M14,MAX('MDA3'!I14,'MDA3'!L14)+MAX('MDA3'!J14,'MDA3'!M14))","v":0},{"$f":"IF(AND(COUNTRY_INFO!I14>0,COUNTRY_INFO!I14<4),IF(J14>MAX('MDA1'!M14,MAX('MDA3'!I14,'MDA3'!L14)+MAX('MDA3'!J14,'MDA3'!M14)),MAX('MDA1'!M14,MAX('MDA3'!I14,'MDA3'!L14)+MAX('MDA3'!J14,'MDA3'!M14)),J14),0)","v":0},{"$f":"IF(AND(COUNTRY_INFO!I14>0,COUNTRY_INFO!I14<4), IF(M14/J14*100<>0, IF(M14/J14*100>100,100,M14/J14*100), \"-\"),0)","v":0},{"$f":"COUNTRY_INFO!N14","v":0},null,null,{"$f":"SUM(MAX('MDA2'!J14, 'T1'!L14, MAX(T3_R1!K14, T3_R2!K14)), MAX('MDA1'!K14, 'MDA2'!K14, 'T1'!M14, MAX(T3_R1!L14, T3_R2!L14)), MAX('MDA1'!L14, 'MDA2'!L14, 'T1'!N14, MAX(T3_R1!M14, T3_R2!M14)))","v":0},{"$f":"IF(AND(COUNTRY_INFO!J14>1,COUNTRY_INFO!J14<4),IF(COUNTRY_INFO!E14>MAX('MDA2'!J14,'T1'!L14,MAX(T3_R1!K14,T3_R2!K14)),MAX('MDA2'!J14,'T1'!L14,MAX(T3_R1!K14,T3_R2!K14)),COUNTRY_INFO!E14),0)","v":0},{"$f":"IF(AND(COUNTRY_INFO!J14>1,COUNTRY_INFO!J14<4), IF(T14/COUNTRY_INFO!E14*100<>0, IF(T14/COUNTRY_INFO!E14*100>100,100,T14/COUNTRY_INFO!E14*100), \"-\"),0)","v":0},{"$f":"IF(AND(COUNTRY_INFO!J14>1,COUNTRY_INFO!J14<4),IF(COUNTRY_INFO!F14>MAX('MDA1'!K14,'MDA2'!K14,'T1'!M14,MAX(T3_R1!L14,T3_R2!L14)),MAX('MDA1'!K14,'MDA2'!K14,'T1'!M14,MAX(T3_R1!L14,T3_R2!L14)),COUNTRY_INFO!F14),0)","v":0},{"$f":"IF(AND(COUNTRY_INFO!J14>1,COUNTRY_INFO!J14<4), IF(V14/COUNTRY_INFO!F14*100<>0, IF(V14/COUNTRY_INFO!F14*100>100,100,V14/COUNTRY_INFO!F14*100), \"-\"),0)","v":0},0,{"$f":"IF(AND(COUNTRY_INFO!J14>1,COUNTRY_INFO!J14<4), IF(S14/P14*100<>0, IF(X14/P14*100>100,100,X14/P14*100), \"-\"),0)","v":0},{"$f":"COUNTRY_INFO!O14","v":0},null,null,{"$f":"MAX('T1'!L14,'T2'!J14)+MAX('T1'!M14,'T2'!K14)+MAX('T1'!N14,'T2'!L14)","v":0},{"$f":"IF(COUNTRY_INFO!K14=1,IF(COUNTRY_INFO!F14*0.33>MAX('T1'!M14,'T2'!K14),MAX('T1'!M14,'T2'!K14),COUNTRY_INFO!F14*0.33),IF(COUNTRY_INFO!K14=2,IF(COUNTRY_INFO!F14*0.5>MAX('T1'!M14,'T2'!K14),MAX('T1'!M14,'T2'!K14),COUNTRY_INFO!F14*0.5),IF(COUNTRY_INFO!K14=3,IF(COUNTRY_INFO!F14>MAX('T1'!M14,'T2'!K14),MAX('T1'!M14,'T2'!K14),COUNTRY_INFO!F14),0)))","v":0},{"$f":"IF(AND(COUNTRY_INFO!K14>0,COUNTRY_INFO!K14<4),IF(Z14>0,IF(COUNTRY_INFO!K14=1, AD14/(COUNTRY_INFO!F14*0.33)*100, IF(COUNTRY_INFO!K14=2, AD14/(COUNTRY_INFO!F14*0.5)*100, IF(COUNTRY_INFO!K14=3, AD14/COUNTRY_INFO!F14*100))),\"-\"),0)","v":0},{"$f":"IF(COUNTRY_INFO!K14=2,IF(COUNTRY_INFO!G14*0.2>MAX('T1'!N14,'T2'!L14),MAX('T1'!N14,'T2'!L14),COUNTRY_INFO!G14*0.2),IF(COUNTRY_INFO!K14=3,IF(COUNTRY_INFO!G14>MAX('T1'!N14,'T2'!L14),MAX('T1'!N14,'T2'!L14),COUNTRY_INFO!G14),0))","v":0},{"$f":"IF(AND(COUNTRY_INFO!K14>0,COUNTRY_INFO!K14<4),IF(Z14>0,IF(COUNTRY_INFO!K14=1, 0, IF(COUNTRY_INFO!K14=2, AF14/(COUNTRY_INFO!G14*0.2)*100, IF(COUNTRY_INFO!K14=3, AF14/COUNTRY_INFO!G14*100))),\"-\"),0)","v":0},0,{"$f":"IF(AND(COUNTRY_INFO!K14>0,COUNTRY_INFO!K14<4), IF(AC14/Z14*100<>0, IF(AH14/Z14*100>100,100,AH14/Z14*100), \"-\"),0)","v":0},null,{"$f":"IF(AND(D14<>0, D14<>\"Inconnu\",D14<>\"Interrompu\",D14<>\"Non requis\"),D14/COUNTRY_INFO!D14, 0)","v":1},{"$f":"IF(AND(J14<>0,J14<>\"Inconnu\",J14<>\"Interrompu\",J14<>\"Non requis\"),J14/COUNTRY_INFO!D14, 0)","v":0},{"$f":"IF(AND(P14<>0,P14<>\"Inconnu\",P14<>\"Non requis\"),P14/(COUNTRY_INFO!E14+COUNTRY_INFO!F14), 0)","v":0},{"$f":"IF(AND(Z14<>0,Z14<>\"Inconnu\",Z14<>\"Non requis\"),IF(COUNTRY_INFO!K14=1,1,IF(COUNTRY_INFO!K14=2,0.5*COUNTRY_INFO!F14/(0.5*COUNTRY_INFO!F14+0.2*COUNTRY_INFO!G14),IF(COUNTRY_INFO!K14=3,COUNTRY_INFO!F14/(COUNTRY_INFO!F14+COUNTRY_INFO!G14)))),0)","v":0},{"$f":"IF(AND(Z14<>0,Z14<>\"Inconnu\",Z14<>\"Non requis\"),IF(COUNTRY_INFO!K14=1,0,IF(COUNTRY_INFO!K14=2,0.2*COUNTRY_INFO!G14/(0.5*COUNTRY_INFO!F14+0.2*COUNTRY_INFO!G14),IF(COUNTRY_INFO!K14=3,COUNTRY_INFO!G14/(COUNTRY_INFO!F14+COUNTRY_INFO!G14)))),0)","v":0},{"$f":"MAX(COUNTRY_INFO!D14*AK14*PROFILE!$G$7,COUNTRY_INFO!D14*AL14*PROFILE!$G$7)","v":983.15089170862996},{"$f":"MAX(COUNTRY_INFO!D14*AK14*PROFILE!$G$8,COUNTRY_INFO!D14*AL14*PROFILE!$G$8,COUNTRY_INFO!D14*AM14*PROFILE!$G$8)","v":2951.8129753962576},{"$f":"MAX(COUNTRY_INFO!D14*AK14*PROFILE!$G$9,COUNTRY_INFO!D14*AL14*PROFILE!$G$9,COUNTRY_INFO!D14*AM14*PROFILE!$G$9,IF(AND(DISTRICT!Z14<>\"Inconnu\",Z14<>\"Non requis\"),COUNTRY_INFO!O14*DISTRICT!AN14,0))","v":5686.1242808781881},{"$f":"MAX(COUNTRY_INFO!D14*AK14*PROFILE!$G$10,COUNTRY_INFO!D14*AL14*PROFILE!$G$10,IF(AND(DISTRICT!Z14<>\"Inconnu\",Z14<>\"Non requis\"),COUNTRY_INFO!O14*DISTRICT!AO14,0))","v":12572.911852016923},22194,0,{"$f":"MAX('MDA2'!J14,'T1'!L14,'T2'!J14,T3_R1!K14,T3_R2!K14)","v":0},{"$f":"MAX('MDA1'!K14,'MDA2'!K14,'MDA3'!I14,'MDA3'!L14,'T1'!M14,'T2'!K14,T3_R1!L14,T3_R2!L14)","v":0},{"$f":"MAX('MDA1'!L14,'MDA2'!L14,'MDA3'!J14,'MDA3'!M14,'T1'!N14,'T2'!L14,T3_R1!M14,T3_R2!M14)","v":0},0,{"$f":"MAX('MDA2'!J14,T14)","v":0},{"$f":"MAX('MDA1'!K14,'MDA2'!K14,'MDA3'!I14,'MDA3'!L14,V14,AD14)","v":0},{"$f":"MAX('MDA1'!L14,'MDA2'!L14,'MDA3'!J14,'MDA3'!M14,AF14)","v":0},0,0]
[{"$f":"IF(COUNTRY_INFO!A15=0,\" \",COUNTRY_INFO!A15)","v":"Guinea Bissau"},{"$f":"IF(COUNTRY_INFO!B15=0,\" \",COUNTRY_INFO!B15)","v":"SAB"},{"$f":"IF(COUNTRY_INFO!C15=0,\" \",COUNTRY_INFO!C15)","v":"CUNTUM"},{"$f":"COUNTRY_INFO!L15","v":67357},null,null,{"$f":"MAX('MDA1'!M15,'MDA2'!M15)","v":0},{"$f":"IF(AND(COUNTRY_INFO!H15>0,COUNTRY_INFO!H15<4),IF(D15>MAX('MDA1'!M15,'MDA2'!M15),MAX('MDA1'!M15,'MDA2'!M15),D15),0)","v":0},{"$f":"IF(AND(COUNTRY_INFO!H15>0,COUNTRY_INFO!H15<4), IF(G15/D15*100<>0, IF(G15/D15*100>100,100,G15/D15*100), \"-\"),0)","v":"-"},{"$f":"COUNTRY_INFO!M15","v":"Inconnu"},null,null,{"$f":"MAX('MDA1'!M15,MAX('MDA3'!I15,'MDA3'!L15)+MAX('MDA3'!J15,'MDA3'!M15))","v":0},{"$f":"IF(AND(COUNTRY_INFO!I15>0,COUNTRY_INFO!I15<4),IF(J15>MAX('MDA1'!M15,MAX('MDA3'!I15,'MDA3'!L15)+MAX('MDA3'!J15,'MDA3'!M15)),MAX('MDA1'!M15,MAX('MDA3'!I15,'MDA3'!L15)+MAX('MDA3'!J15,'MDA3'!M15)),J15),0)","v":0},{"$f":"IF(AND(COUNTRY_INFO!I15>0,COUNTRY_INFO!I15<4), IF(M15/J15*100<>0, IF(M15/J15*100>100,100,M15/J15*100), \"-\"),0)","v":0},{"$f":"COUNTRY_INFO!N15","v":0},null,null,{"$f":"SUM(MAX('MDA2'!J15, 'T1'!L15, MAX(T3_R1!K15, T3_R2!K15)), MAX('MDA1'!K15, 'MDA2'!K15, 'T1'!M15, MAX(T3_R1!L15, T3_R2!L15)), MAX('MDA1'!L15, 'MDA2'!L15, 'T1'!N15, MAX(T3_R1!M15, T3_R2!M15)))","v":0},{"$f":"IF(AND(COUNTRY_INFO!J15>1,COUNTRY_INFO!J15<4),IF(COUNTRY_INFO!E15>MAX('MDA2'!J15,'T1'!L15,MAX(T3_R1!K15,T3_R2!K15)),MAX('MDA2'!J15,'T1'!L15,MAX(T3_R1!K15,T3_R2!K15)),COUNTRY_INFO!E15),0)","v":0},{"$f":"IF(AND(COUNTRY_INFO!J15>1,COUNTRY_INFO!J15<4), IF(T15/COUNTRY_INFO!E15*100<>0, IF(T15/COUNTRY_INFO!E15*100>100,100,T15/COUNTRY_INFO!E15*100), \"-\"),0)","v":0},{"$f":"IF(AND(COUNTRY_INFO!J15>1,COUNTRY_INFO!J15<4),IF(COUNTRY_INFO!F15>MAX('MDA1'!K15,'MDA2'!K15,'T1'!M15,MAX(T3_R1!L15,T3_R2!L15)),MAX('MDA1'!K15,'MDA2'!K15,'T1'!M15,MAX(T3_R1!L15,T3_R2!L15)),COUNTRY_INFO!F15),0)","v":0},{"$f":"IF(AND(COUNTRY_INFO!J15>1,COUNTRY_INFO!J15<4), IF(V15/COUNTRY_INFO!F15*100<>0, IF(V15/COUNTRY_INFO!F15*100>100,100,V15/COUNTRY_INFO!F15*100), \"-\"),0)","v":0},0,{"$f":"IF(AND(COUNTRY_INFO!J15>1,COUNTRY_INFO!J15<4), IF(S15/P15*100<>0, IF(X15/P15*100>100,100,X15/P15*100), \"-\"),0)","v":0},{"$f":"COUNTRY_INFO!O15","v":0},null,null,{"$f":"MAX('T1'!L15,'T2'!J15)+MAX('T1'!M15,'T2'!K15)+MAX('T1'!N15,'T2'!L15)","v":0},{"$f":"IF(COUNTRY_INFO!K15=1,IF(COUNTRY_INFO!F15*0.33>MAX('T1'!M15,'T2'!K15),MAX('T1'!M15,'T2'!K15),COUNTRY_INFO!F15*0.33),IF(COUNTRY_INFO!K15=2,IF(COUNTRY_INFO!F15*0.5>MAX('T1'!M15,'T2'!K15),MAX('T1'!M15,'T2'!K15),COUNTRY_INFO!F15*0.5),IF(COUNTRY_INFO!K15=3,IF(COUNTRY_INFO!F15>MAX('T1'!M15,'T2'!K15),MAX('T1'!M15,'T2'!K15),COUNTRY_INFO!F15),0)))","v":0},{"$f":"IF(AND(COUNTRY_INFO!K15>0,COUNTRY_INFO!K15<4),IF(Z15>0,IF(COUNTRY_INFO!K15=1, AD15/(COUNTRY_INFO!F15*0.33)*100, IF(COUNTRY_INFO!K15=2, AD15/(COUNTRY_INFO!F15*0.5)*100, IF(COUNTRY_INFO!K15=3, AD15/COUNTRY_INFO!F15*100))),\"-\"),0)","v":0},{"$f":"IF(COUNTRY_INFO!K15=2,IF(COUNTRY_INFO!G15*0.2>MAX('T1'!N15,'T2'!L15),MAX('T1'!N15,'T2'!L15),COUNTRY_INFO!G15*0.2),IF(COUNTRY_INFO!K15=3,IF(COUNTRY_INFO!G15>MAX('T1'!N15,'T2'!L15),MAX('T1'!N15,'T2'!L15),COUNTRY_INFO!G15),0))","v":0},{"$f":"IF(AND(COUNTRY_INFO!K15>0,COUNTRY_INFO!K15<4),IF(Z15>0,IF(COUNTRY_INFO!K15=1, 0, IF(COUNTRY_INFO!K15=2, AF15/(COUNTRY_INFO!G15*0.2)*100, IF(COUNTRY_INFO!K15=3, AF15/COUNTRY_INFO!G15*100))),\"-\"),0)","v":0},0,{"$f":"IF(AND(COUNTRY_INFO!K15>0,COUNTRY_INFO!K15<4), IF(AC15/Z15*100<>0, IF(AH15/Z15*100>100,100,AH15/Z15*100), \"-\"),0)","v":0},null,{"$f":"IF(AND(D15<>0, D15<>\"Inconnu\",D15<>\"Interrompu\",D15<>\"Non requis\"),D15/COUNTRY_INFO!D15, 0)","v":1},{"$f":"IF(AND(J15<>0,J15<>\"Inconnu\",J15<>\"Interrompu\",J15<>\"Non requis\"),J15/COUNTRY_INFO!D15, 0)","v":0},{"$f":"IF(AND(P15<>0,P15<>\"Inconnu\",P15<>\"Non requis\"),P15/(COUNTRY_INFO!E15+COUNTRY_INFO!F15), 0)","v":0},{"$f":"IF(AND(Z15<>0,Z15<>\"Inconnu\",Z15<>\"Non requis\"),IF(COUNTRY_INFO!K15=1,1,IF(COUNTRY_INFO!K15=2,0.5*COUNTRY_INFO!F15/(0.5*COUNTRY_INFO!F15+0.2*COUNTRY_INFO!G15),IF(COUNTRY_INFO!K15=3,COUNTRY_INFO!F15/(COUNTRY_INFO!F15+COUNTRY_INFO!G15)))),0)","v":0},{"$f":"IF(AND(Z15<>0,Z15<>\"Inconnu\",Z15<>\"Non requis\"),IF(COUNTRY_INFO!K15=1,0,IF(COUNTRY_INFO!K15=2,0.2*COUNTRY_INFO!G15/(0.5*COUNTRY_INFO!F15+0.2*COUNTRY_INFO!G15),IF(COUNTRY_INFO!K15=3,COUNTRY_INFO!G15/(COUNTRY_INFO!F15+COUNTRY_INFO!G15)))),0)","v":0},{"$f":"MAX(COUNTRY_INFO!D15*AK15*PROFILE!$G$7,COUNTRY_INFO!D15*AL15*PROFILE!$G$7)","v":2983.7836628286109},{"$f":"MAX(COUNTRY_INFO!D15*AK15*PROFILE!$G$8,COUNTRY_INFO!D15*AL15*PROFILE!$G$8,COUNTRY_INFO!D15*AM15*PROFILE!$G$8)","v":8958.5143094424493},{"$f":"MAX(COUNTRY_INFO!D15*AK15*PROFILE!$G$9,COUNTRY_INFO!D15*AL15*PROFILE!$G$9,COUNTRY_INFO!D15*AM15*PROFILE!$G$9,IF(AND(DISTRICT!Z15<>\"Inconnu\",Z15<>\"Non requis\"),COUNTRY_INFO!O15*DISTRICT!AN15,0))","v":17256.928592732816},{"$f":"MAX(COUNTRY_INFO!D15*AK15*PROFILE!$G$10,COUNTRY_INFO!D15*AL15*PROFILE!$G$10,IF(AND(DISTRICT!Z15<>\"Inconnu\",Z15<>\"Non requis\"),COUNTRY_INFO!O15*DISTRICT!AO15,0))","v":38157.773434996125},67357,0,{"$f":"MAX('MDA2'!J15,'T1'!L15,'T2'!J15,T3_R1!K15,T3_R2!K15)","v":0},{"$f":"MAX('MDA1'!K15,'MDA2'!K15,'MDA3'!I15,'MDA3'!L15,'T1'!M15,'T2'!K15,T3_R1!L15,T3_R2!L15)","v":0},{"$f":"MAX('MDA1'!L15,'MDA2'!L15,'MDA3'!J15,'MDA3'!M15,'T1'!N15,'T2'!L15,T3_R1!M15,T3_R2!M15)","v":0},0,{"$f":"MAX('MDA2'!J15,T15)","v":0},{"$f":"MAX('MDA1'!K15,'MDA2'!K15,'MDA3'!I15,'MDA3'!L15,V15,AD15)","v":0},{"$f":"MAX('MDA1'!L15,'MDA2'!L15,'MDA3'!J15,'MDA3'!M15,AF15)","v":0},0,0]
[{"$f":"IF(COUNTRY_INFO!A16=0,\" \",COUNTRY_INFO!A16)","v":"Guinea Bissau"},{"$f":"IF(COUNTRY_INFO!B16=0,\" \",COUNTRY_INFO!B16)","v":"SAB"},{"$f":"IF(COUNTRY_INFO!C16=0,\" \",COUNTRY_INFO!C16)","v":"LUANDA"},{"$f":"COUNTRY_INFO!L16","v":37374},null,null,{"$f":"MAX('MDA1'!M16,'MDA2'!M16)","v":0},{"$f":"IF(AND(COUNTRY_INFO!H16>0,COUNTRY_INFO!H16<4),IF(D16>MAX('MDA1'!M16,'MDA2'!M16),MAX('MDA1'!M16,'MDA2'!M16),D16),0)","v":0},{"$f":"IF(AND(COUNTRY_INFO!H16>0,COUNTRY_INFO!H16<4), IF(G16/D16*100<>0, IF(G16/D16*100>100,100,G16/D16*100), \"-\"),0)","v":"-"},{"$f":"COUNTRY_INFO!M16","v":"Inconnu"},null,null,{"$f":"MAX('MDA1'!M16,MAX('MDA3'!I16,'MDA3'!L16)+MAX('MDA3'!J16,'MDA3'!M16))","v":0},{"$f":"IF(AND(COUNTRY_INFO!I16>0,COUNTRY_INFO!I16<4),IF(J16>MAX('MDA1'!M16,MAX('MDA3'!I16,'MDA3'!L16)+MAX('MDA3'!J16,'MDA3'!M16)),MAX('MDA1'!M16,MAX('MDA3'!I16,'MDA3'!L16)+MAX('MDA3'!J16,'MDA3'!M16)),J16),0)","v":0},{"$f":"IF(AND(COUNTRY_INFO!I16>0,COUNTRY_INFO!I16<4), IF(M16/J16*100<>0, IF(M16/J16*100>100,100,M16/J16*100), \"-\"),0)","v":0},{"$f":"COUNTRY_INFO!N16","v":14546},null,null,{"$f":"SUM(MAX('MDA2'!J16, 'T1'!L16, MAX(T3_R1!K16, T3_R2!K16)), MAX('MDA1'!K16, 'MDA2'!K16, 'T1'!M16, MAX(T3_R1!L16, T3_R2!L16)), MAX('MDA1'!L16, 'MDA2'!L16, 'T1'!N16, MAX(T3_R1!M16, T3_R2!M16)))","v":0},{"$f":"IF(AND(COUNTRY_INFO!J16>1,COUNTRY_INFO!J16<4),IF(COUNTRY_INFO!E16>MAX('MDA2'!J16,'T1'!L16,MAX(T3_R1!K16,T3_R2!K16)),MAX('MDA2'!J16,'T1'!L16,MAX(T3_R1!K16,T3_R2!K16)),COUNTRY_INFO!E16),0)","v":0},{"$f":"IF(AND(COUNTRY_INFO!J16>1,COUNTRY_INFO!J16<4), IF(T16/COUNTRY_INFO!E16*100<>0, IF(T16/COUNTRY_INFO!E16*100>100,100,T16/COUNTRY_INFO!E16*100), \"-\"),0)","v":"-"},{"$f":"IF(AND(COUNTRY_INFO!J16>1,COUNTRY_INFO!J16<4),IF(COUNTRY_INFO!F16>MAX('MDA1'!K16,'MDA2'!K16,'T1'!M16,MAX(T3_R1!L16,T3_R2!L16)),MAX('MDA1'!K16,'MDA2'!K16,'T1'!M16,MAX(T3_R1!L16,T3_R2!L16)),COUNTRY_INFO!F16),0)","v":0},{"$f":"IF(AND(COUNTRY_INFO!J16>1,COUNTRY_INFO!J16<4), IF(V16/COUNTRY_INFO!F16*100<>0, IF(V16/COUNTRY_INFO!F16*100>100,100,V16/COUNTRY_INFO!F16*100), \"-\"),0)","v":"-"},0,{"$f":"IF(AND(COUNTRY_INFO!J16>1,COUNTRY_INFO!J16<4), IF(S16/P16*100<>0, IF(X16/P16*100>100,100,X16/P16*100), \"-\"),0)","v":"-"},{"$f":"COUNTRY_INFO!O16","v":3159.75},null,null,{"$f":"MAX('T1'!L16,'T2'!J16)+MAX('T1'!M16,'T2'!K16)+MAX('T1'!N16,'T2'!L16)","v":0},{"$f":"IF(COUNTRY_INFO!K16=1,IF(COUNTRY_INFO!F16*0.33>MAX('T1'!M16,'T2'!K16),MAX('T1'!M16,'T2'!K16),COUNTRY_INFO!F16*0.33),IF(COUNTRY_INFO!K16=2,IF(COUNTRY_INFO!F16*0.5>MAX('T1'!M16,'T2'!K16),MAX('T1'!M16,'T2'!K16),COUNTRY_INFO!F16*0.5),IF(COUNTRY_INFO!K16=3,IF(COUNTRY_INFO!F16>MAX('T1'!M16,'T2'!K16),MAX('T1'!M16,'T2'!K16),COUNTRY_INFO!F16),0)))","v":0},{"$f":"IF(AND(COUNTRY_INFO!K16>0,COUNTRY_INFO!K16<4),IF(Z16>0,IF(COUNTRY_INFO!K16=1, AD16/(COUNTRY_INFO!F16*0.33)*100, IF(COUNTRY_INFO!K16=2, AD16/(COUNTRY_INFO!F16*0.5)*100, IF(COUNTRY_INFO!K16=3, AD16/COUNTRY_INFO!F16*100))),\"-\"),0)","v":0},{"$f":"IF(COUNTRY_INFO!K16=2,IF(COUNTRY_INFO!G16*0.2>MAX('T1'!N16,'T2'!L16),MAX('T1'!N16,'T2'!L16),COUNTRY_INFO!G16*0.2),IF(COUNTRY_INFO!K16=3,IF(COUNTRY_INFO!G16>MAX('T1'!N16,'T2'!L16),MAX('T1'!N16,'T2'!L16),COUNTRY_INFO!G16),0))","v":0},{"$f":"IF(AND(COUNTRY_INFO!K16>0,COUNTRY_INFO!K16<4),IF(Z16>0,IF(COUNTRY_INFO!K16=1, 0, IF(COUNTRY_INFO!K16=2, AF16/(COUNTRY_INFO!G16*0.2)*100, IF(COUNTRY_INFO!K16=3, AF16/COUNTRY_INFO!G16*100))),\"-\"),0)","v":0},0,{"$f":"IF(AND(COUNTRY_INFO!K16>0,COUNTRY_INFO!K16<4), IF(AC16/Z16*100<>0, IF(AH16/Z16*100>100,100,AH16/Z16*100), \"-\"),0)","v":"-"},null,{"$f":"IF(AND(D16<>0, D16<>\"Inconnu\",D16<>\"Interrompu\",D16<>\"Non requis\"),D16/COUNTRY_INFO!D16, 0)","v":1},{"$f":"IF(AND(J16<>0,J16<>\"Inconnu\",J16<>\"Interrompu\",J16<>\"Non requis\"),J16/COUNTRY_INFO!D16, 0)","v":0},{"$f":"IF(AND(P16<>0,P16<>\"Inconnu\",P16<>\"Non requis\"),P16/(COUNTRY_INFO!E16+COUNTRY_INFO!F16), 0)","v":1},{"$f":"IF(AND(Z16<>0,Z16<>\"Inconnu\",Z16<>\"Non requis\"),IF(COUNTRY_INFO!K16=1,1,IF(COUNTRY_INFO!K16=2,0.5*COUNTRY_INFO!F16/(0.5*COUNTRY_INFO!F16+0.2*COUNTRY_INFO!G16),IF(COUNTRY_INFO!K16=3,COUNTRY_INFO!F16/(COUNTRY_INFO!F16+COUNTRY_INFO!G16)))),0)","v":1},{"$f":"IF(AND(Z16<>0,Z16<>\"Inconnu\",Z16<>\"Non requis\"),IF(COUNTRY_INFO!K16=1,0,IF(COUNTRY_INFO!K16=2,0.2*COUNTRY_INFO!G16/(0.5*COUNTRY_INFO!F16+0.2*COUNTRY_INFO!G16),IF(COUNTRY_INFO!K16=3,COUNTRY_INFO!G16/(COUNTRY_INFO!F16+COUNTRY_INFO!G16)))),0)","v":0},{"$f":"MAX(COUNTRY_INFO!D16*AK16*PROFILE!$G$7,COUNTRY_INFO!D16*AL16*PROFILE!$G$7)","v":1655.5952701954734},{"$f":"MAX(COUNTRY_INFO!D16*AK16*PROFILE!$G$8,COUNTRY_INFO!D16*AL16*PROFILE!$G$8,COUNTRY_INFO!D16*AM16*PROFILE!$G$8)","v":4970.7604822231106},{"$f":"MAX(COUNTRY_INFO!D16*AK16*PROFILE!$G$9,COUNTRY_INFO!D16*AL16*PROFILE!$G$9,COUNTRY_INFO!D16*AM16*PROFILE!$G$9,IF(AND(DISTRICT!Z16<>\"Inconnu\",Z16<>\"Non requis\"),COUNTRY_INFO!O16*DISTRICT!AN16,0))","v":9575.2549731252311},{"$f":"MAX(COUNTRY_INFO!D16*AK16*PROFILE!$G$10,COUNTRY_INFO!D16*AL16*PROFILE!$G$10,IF(AND(DISTRICT!Z16<>\"Inconnu\",Z16<>\"Non requis\"),COUNTRY_INFO!O16*DISTRICT!AO16,0))","v":21172.389274456182},37374,0,{"$f":"MAX('MDA2'!J16,'T1'!L16,'T2'!J16,T3_R1!K16,T3_R2!K16)","v":0},{"$f":"MAX('MDA1'!K16,'MDA2'!K16,'MDA3'!I16,'MDA3'!L16,'T1'!M16,'T2'!K16,T3_R1!L16,T3_R2!L16)","v":0},{"$f":"MAX('MDA1'!L16,'MDA2'!L16,'MDA3'!J16,'MDA3'!M16,'T1'!N16,'T2'!L16,T3_R1!M16,T3_R2!M16)","v":0},0,{"$f":"MAX('MDA2'!J16,T16)","v":0},{"$f":"MAX('MDA1'!K16,'MDA2'!K16,'MDA3'!I16,'MDA3'!L16,V16,AD16)","v":0},{"$f":"MAX('MDA1'!L16,'MDA2'!L16,'MDA3'!J16,'MDA3'!M16,AF16)","v":0},0,0]
[{"$f":"IF(COUNTRY_INFO!A17=0,\" \",COUNTRY_INFO!A17)","v":"Guinea Bissau"},{"$f":"IF(COUNTRY_INFO!B17=0,\" \",COUNTRY_INFO!B17)","v":"SAB"},{"$f":"IF(COUNTRY_INFO!C17=0,\" \",COUNTRY_INFO!C17)","v":"MISSIRA"},{"$f":"COUNTRY_INFO!L17","v":57473},null,null,{"$f":"MAX('MDA1'!M17,'MDA2'!M17)","v":0},{"$f":"IF(AND(COUNTRY_INFO!H17>0,COUNTRY_INFO!H17<4),IF(D17>MAX('MDA1'!M17,'MDA2'!M17),MAX('MDA1'!M17,'MDA2'!M17),D17),0)","v":0},{"$f":"IF(AND(COUNTRY_INFO!H17>0,COUNTRY_INFO!H17<4), IF(G17/D17*100<>0, IF(G17/D17*100>100,100,G17/D17*100), \"-\"),0)","v":"-"},{"$f":"COUNTRY_INFO!M17","v":"Inconnu"},null,null,{"$f":"MAX('MDA1'!M17,MAX('MDA3'!I17,'MDA3'!L17)+MAX('MDA3'!J17,'MDA3'!M17))","v":0},{"$f":"IF(AND(COUNTRY_INFO!I17>0,COUNTRY_INFO!I17<4),IF(J17>MAX('MDA1'!M17,MAX('MDA3'!I17,'MDA3'!L17)+MAX('MDA3'!J17,'MDA3'!M17)),MAX('MDA1'!M17,MAX('MDA3'!I17,'MDA3'!L17)+MAX('MDA3'!J17,'MDA3'!M17)),J17),0)","v":0},{"$f":"IF(AND(COUNTRY_INFO!I17>0,COUNTRY_INFO!I17<4), IF(M17/J17*100<>0, IF(M17/J17*100>100,100,M17/J17*100), \"-\"),0)","v":0},{"$f":"COUNTRY_INFO!N17","v":0},null,null,{"$f":"SUM(MAX('MDA2'!J17, 'T1'!L17, MAX(T3_R1!K17, T3_R2!K17)), MAX('MDA1'!K17, 'MDA2'!K17, 'T1'!M17, MAX(T3_R1!L17, T3_R2!L17)), MAX('MDA1'!L17, 'MDA2'!L17, 'T1'!N17, MAX(T3_R1!M17, T3_R2!M17)))","v":0},{"$f":"IF(AND(COUNTRY_INFO!J17>1,COUNTRY_INFO!J17<4),IF(COUNTRY_INFO!E17>MAX('MDA2'!J17,'T1'!L17,MAX(T3_R1!K17,T3_R2!K17)),MAX('MDA2'!J17,'T1'!L17,MAX(T3_R1!K17,T3_R2!K17)),COUNTRY_INFO!E17),0)","v":0},{"$f":"IF(AND(COUNTRY_INFO!J17>1,COUNTRY_INFO!J17<4), IF(T17/COUNTRY_INFO!E17*100<>0, IF(T17/COUNTRY_INFO!E17*100>100,100,T17/COUNTRY_INFO!E17*100), \"-\"),0)","v":0},{"$f":"IF(AND(COUNTRY_INFO!J17>1,COUNTRY_INFO!J17<4),IF(COUNTRY_INFO!F17>MAX('MDA1'!K17,'MDA2'!K17,'T1'!M17,MAX(T3_R1!L17,T3_R2!L17)),MAX('MDA1'!K17,'MDA2'!K17,'T1'!M17,MAX(T3_R1!L17,T3_R2!L17)),COUNTRY_INFO!F17),0)","v":0},{"$f":"IF(AND(COUNTRY_INFO!J17>1,COUNTRY_INFO!J17<4), IF(V17/COUNTRY_INFO!F17*100<>0, IF(V17/COUNTRY_INFO!F17*100>100,100,V17/COUNTRY_INFO!F17*100), \"-\"),0)","v":0},0,{"$f":"IF(AND(COUNTRY_INFO!J17>1,COUNTRY_INFO!J17<4), IF(S17/P17*100<>0, IF(X17/P17*100>100,100,X17/P17*100), \"-\"),0)","v":0},{"$f":"COUNTRY_INFO!O17","v":4859.25},null,null,{"$f":"MAX('T1'!L17,'T2'!J17)+MAX('T1'!M17,'T2'!K17)+MAX('T1'!N17,'T2'!L17)","v":0},{"$f":"IF(COUNTRY_INFO!K17=1,IF(COUNTRY_INFO!F17*0.33>MAX('T1'!M17,'T2'!K17),MAX('T1'!M17,'T2'!K17),COUNTRY_INFO!F17*0.33),IF(COUNTRY_INFO!K17=2,IF(COUNTRY_INFO!F17*0.5>MAX('T1'!M17,'T2'!K17),MAX('T1'!M17,'T2'!K17),COUNTRY_INFO!F17*0.5),IF(COUNTRY_INFO!K17=3,IF(COUNTRY_INFO!F17>MAX('T1'!M17,'T2'!K17),MAX('T1'!M17,'T2'!K17),COUNTRY_INFO!F17),0)))","v":0},{"$f":"IF(AND(COUNTRY_INFO!K17>0,COUNTRY_INFO!K17<4),IF(Z17>0,IF(COUNTRY_INFO!K17=1, AD17/(COUNTRY_INFO!F17*0.33)*100, IF(COUNTRY_INFO!K17=2, AD17/(COUNTRY_INFO!F17*0.5)*100, IF(COUNTRY_INFO!K17=3, AD17/COUNTRY_INFO!F17*100))),\"-\"),0)","v":0},{"$f":"IF(COUNTRY_INFO!K17=2,IF(COUNTRY_INFO!G17*0.2>MAX('T1'!N17,'T2'!L17),MAX('T1'!N17,'T2'!L17),COUNTRY_INFO!G17*0.2),IF(COUNTRY_INFO!K17=3,IF(COUNTRY_INFO!G17>MAX('T1'!N17,'T2'!L17),MAX('T1'!N17,'T2'!L17),COUNTRY_INFO!G17),0))","v":0},{"$f":"IF(AND(COUNTRY_INFO!K17>0,COUNTRY_INFO!K17<4),IF(Z17>0,IF(COUNTRY_INFO!K17=1, 0, IF(COUNTRY_INFO!K17=2, AF17/(COUNTRY_INFO!G17*0.2)*100, IF(COUNTRY_INFO!K17=3, AF17/COUNTRY_INFO!G17*100))),\"-\"),0)","v":0},0,{"$f":"IF(AND(COUNTRY_INFO!K17>0,COUNTRY_INFO!K17<4), IF(AC17/Z17*100<>0, IF(AH17/Z17*100>100,100,AH17/Z17*100), \"-\"),0)","v":"-"},null,{"$f":"IF(AND(D17<>0, D17<>\"Inconnu\",D17<>\"Interrompu\",D17<>\"Non requis\"),D17/COUNTRY_INFO!D17, 0)","v":1},{"$f":"IF(AND(J17<>0,J17<>\"Inconnu\",J17<>\"Interrompu\",J17<>\"Non requis\"),J17/COUNTRY_INFO!D17, 0)","v":0},{"$f":"IF(AND(P17<>0,P17<>\"Inconnu\",P17<>\"Non requis\"),P17/(COUNTRY_INFO!E17+COUNTRY_INFO!F17), 0)","v":0},{"$f":"IF(AND(Z17<>0,Z17<>\"Inconnu\",Z17<>\"Non requis\"),IF(COUNTRY_INFO!K17=1,1,IF(COUNTRY_INFO!K17=2,0.5*COUNTRY_INFO!F17/(0.5*COUNTRY_INFO!F17+0.2*COUNTRY_INFO!G17),IF(COUNTRY_INFO!K17=3,COUNTRY_INFO!F17/(COUNTRY_INFO!F17+COUNTRY_INFO!G17)))),0)","v":1},{"$f":"IF(AND(Z17<>0,Z17<>\"Inconnu\",Z17<>\"Non requis\"),IF(COUNTRY_INFO!K17=1,0,IF(COUNTRY_INFO!K17=2,0.2*COUNTRY_INFO!G17/(0.5*COUNTRY_INFO!F17+0.2*COUNTRY_INFO!G17),IF(COUNTRY_INFO!K17=3,COUNTRY_INFO!G17/(COUNTRY_INFO!F17+COUNTRY_INFO!G17)))),0)","v":0},{"$f":"MAX(COUNTRY_INFO!D17*AK17*PROFILE!$G$7,COUNTRY_INFO!D17*AL17*PROFILE!$G$7)","v":2545.9417499851352},{"$f":"MAX(COUNTRY_INFO!D17*AK17*PROFILE!$G$8,COUNTRY_INFO!D17*AL17*PROFILE!$G$8,COUNTRY_INFO!D17*AM17*PROFILE!$G$8)","v":7643.9374215981388},{"$f":"MAX(COUNTRY_INFO!D17*AK17*PROFILE!$G$9,COUNTRY_INFO!D17*AL17*PROFILE!$G$9,COUNTRY_INFO!D17*AM17*PROFILE!$G$9,IF(AND(DISTRICT!Z17<>\"Inconnu\",Z17<>\"Non requis\"),COUNTRY_INFO!O17*DISTRICT!AN17,0))","v":14724.638226318468},{"$f":"MAX(COUNTRY_INFO!D17*AK17*PROFILE!$G$10,COUNTRY_INFO!D17*AL17*PROFILE!$G$10,IF(AND(DISTRICT!Z17<>\"Inconnu\",Z17<>\"Non requis\"),COUNTRY_INFO!O17*DISTRICT!AO17,0))","v":32558.482602098255},57473,0,{"$f":"MAX('MDA2'!J17,'T1'!L17,'T2'!J17,T3_R1!K17,T3_R2!K17)","v":0},{"$f":"MAX('MDA1'!K17,'MDA2'!K17,'MDA3'!I17,'MDA3'!L17,'T1'!M17,'T2'!K17,T3_R1!L17,T3_R2!L17)","v":0},{"$f":"MAX('MDA1'!L17,'MDA2'!L17,'MDA3'!J17,'MDA3'!M17,'T1'!N17,'T2'!L17,T3_R1!M17,T3_R2!M17)","v":0},0,{"$f":"MAX('MDA2'!J17,T17)","v":0},{"$f":"MAX('MDA1'!K17,'MDA2'!K17,'MDA3'!I17,'MDA3'!L17,V17,AD17)","v":0},{"$f":"MAX('MDA1'!L17,'MDA2'!L17,'MDA3'!J17,'MDA3'!M17,AF17)","v":0},0,0]
[{"$f":"IF(COUNTRY_INFO!A18=0,\" \",COUNTRY_INFO!A18)","v":"Guinea Bissau"},{"$f":"IF(COUNTRY_INFO!B18=0,\" \",COUNTRY_INFO!B18)","v":"SAB"},{"$f":"IF(COUNTRY_INFO!C18=0,\" \",COUNTRY_INFO!C18)","v":"PEFINE"},{"$f":"COUNTRY_INFO!L18","v":21931},null,null,{"$f":"MAX('MDA1'!M18,'MDA2'!M18)","v":0},{"$f":"IF(AND(COUNTRY_INFO!H18>0,COUNTRY_INFO!H18<4),IF(D18>MAX('MDA1'!M18,'MDA2'!M18),MAX('MDA1'!M18,'MDA2'!M18),D18),0)","v":0},{"$f":"IF(AND(COUNTRY_INFO!H18>0,COUNTRY_INFO!H18<4), IF(G18/D18*100<>0, IF(G18/D18*100>100,100,G18/D18*100), \"-\"),0)","v":"-"},{"$f":"COUNTRY_INFO!M18","v":"Inconnu"},null,null,{"$f":"MAX('MDA1'!M18,MAX('MDA3'!I18,'MDA3'!L18)+MAX('MDA3'!J18,'MDA3'!M18))","v":0},{"$f":"IF(AND(COUNTRY_INFO!I18>0,COUNTRY_INFO!I18<4),IF(J18>MAX('MDA1'!M18,MAX('MDA3'!I18,'MDA3'!L18)+MAX('MDA3'!J18,'MDA3'!M18)),MAX('MDA1'!M18,MAX('MDA3'!I18,'MDA3'!L18)+MAX('MDA3'!J18,'MDA3'!M18)),J18),0)","v":0},{"$f":"IF(AND(COUNTRY_INFO!I18>0,COUNTRY_INFO!I18<4), IF(M18/J18*100<>0, IF(M18/J18*100>100,100,M18/J18*100), \"-\"),0)","v":0},{"$f":"COUNTRY_INFO!N18","v":0},null,null,{"$f":"SUM(MAX('MDA2'!J18, 'T1'!L18, MAX(T3_R1!K18, T3_R2!K18)), MAX('MDA1'!K18, 'MDA2'!K18, 'T1'!M18, MAX(T3_R1!L18, T3_R2!L18)), MAX('MDA1'!L18, 'MDA2'!L18, 'T1'!N18, MAX(T3_R1!M18, T3_R2!M18)))","v":0},{"$f":"IF(AND(COUNTRY_INFO!J18>1,COUNTRY_INFO!J18<4),IF(COUNTRY_INFO!E18>MAX('MDA2'!J18,'T1'!L18,MAX(T3_R1!K18,T3_R2!K18)),MAX('MDA2'!J18,'T1'!L18,MAX(T3_R1!K18,T3_R2!K18)),COUNTRY_INFO!E18),0)","v":0},{"$f":"IF(AND(COUNTRY_INFO!J18>1,COUNTRY_INFO!J18<4), IF(T18/COUNTRY_INFO!E18*100<>0, IF(T18/COUNTRY_INFO!E18*100>100,100,T18/COUNTRY_INFO!E18*100), \"-\"),0)","v":0},{"$f":"IF(AND(COUNTRY_INFO!J18>1,COUNTRY_INFO!J18<4),IF(COUNTRY_INFO!F18>MAX('MDA1'!K18,'MDA2'!K18,'T1'!M18,MAX(T3_R1!L18,T3_R2!L18)),MAX('MDA1'!K18,'MDA2'!K18,'T1'!M18,MAX(T3_R1!L18,T3_R2!L18)),COUNTRY_INFO!F18),0)","v":0},{"$f":"IF(AND(COUNTRY_INFO!J18>1,COUNTRY_INFO!J18<4), IF(V18/COUNTRY_INFO!F18*100<>0, IF(V18/COUNTRY_INFO!F18*100>100,100,V18/COUNTRY_INFO!F18*100), \"-\"),0)","v":0},0,{"$f":"IF(AND(COUNTRY_INFO!J18>1,COUNTRY_INFO!J18<4), IF(S18/P18*100<>0, IF(X18/P18*100>100,100,X18/P18*100), \"-\"),0)","v":0},{"$f":"COUNTRY_INFO!O18","v":1854.27},null,null,{"$f":"MAX('T1'!L18,'T2'!J18)+MAX('T1'!M18,'T2'!K18)+MAX('T1'!N18,'T2'!L18)","v":0},{"$f":"IF(COUNTRY_INFO!K18=1,IF(COUNTRY_INFO!F18*0.33>MAX('T1'!M18,'T2'!K18),MAX('T1'!M18,'T2'!K18),COUNTRY_INFO!F18*0.33),IF(COUNTRY_INFO!K18=2,IF(COUNTRY_INFO!F18*0.5>MAX('T1'!M18,'T2'!K18),MAX('T1'!M18,'T2'!K18),COUNTRY_INFO!F18*0.5),IF(COUNTRY_INFO!K18=3,IF(COUNTRY_INFO!F18>MAX('T1'!M18,'T2'!K18),MAX('T1'!M18,'T2'!K18),COUNTRY_INFO!F18),0)))","v":0},{"$f":"IF(AND(COUNTRY_INFO!K18>0,COUNTRY_INFO!K18<4),IF(Z18>0,IF(COUNTRY_INFO!K18=1, AD18/(COUNTRY_INFO!F18*0.33)*100, IF(COUNTRY_INFO!K18=2, AD18/(COUNTRY_INFO!F18*0.5)*100, IF(COUNTRY_INFO!K18=3, AD18/COUNTRY_INFO!F18*100))),\"-\"),0)","v":0},{"$f":"IF(COUNTRY_INFO!K18=2,IF(COUNTRY_INFO!G18*0.2>MAX('T1'!N18,'T2'!L18),MAX('T1'!N18,'T2'!L18),COUNTRY_INFO!G18*0.2),IF(COUNTRY_INFO!K18=3,IF(COUNTRY_INFO!G18>MAX('T1'!N18,'T2'!L18),MAX('T1'!N18,'T2'!L18),COUNTRY_INFO!G18),0))","v":0},{"$f":"IF(AND(COUNTRY_INFO!K18>0,COUNTRY_INFO!K18<4),IF(Z18>0,IF(COUNTRY_INFO!K18=1, 0, IF(COUNTRY_INFO!K18=2, AF18/(COUNTRY_INFO!G18*0.2)*100, IF(COUNTRY_INFO!K18=3, AF18/COUNTRY_INFO!G18*100))),\"-\"),0)","v":0},0,{"$f":"IF(AND(COUNTRY_INFO!K18>0,COUNTRY_INFO!K18<4), IF(AC18/Z18*100<>0, IF(AH18/Z18*100>100,100,AH18/Z18*100), \"-\"),0)","v":"-"},null,{"$f":"IF(AND(D18<>0, D18<>\"Inconnu\",D18<>\"Interrompu\",D18<>\"Non requis\"),D18/COUNTRY_INFO!D18, 0)","v":1},{"$f":"IF(AND(J18<>0,J18<>\"Inconnu\",J18<>\"Interrompu\",J18<>\"Non requis\"),J18/COUNTRY_INFO!D18, 0)","v":0},{"$f":"IF(AND(P18<>0,P18<>\"Inconnu\",P18<>\"Non requis\"),P18/(COUNTRY_INFO!E18+COUNTRY_INFO!F18), 0)","v":0},{"$f":"IF(AND(Z18<>0,Z18<>\"Inconnu\",Z18<>\"Non requis\"),IF(COUNTRY_INFO!K18=1,1,IF(COUNTRY_INFO!K18=2,0.5*COUNTRY_INFO!F18/(0.5*COUNTRY_INFO!F18+0.2*COUNTRY_INFO!G18),IF(COUNTRY_INFO!K18=3,COUNTRY_INFO!F18/(COUNTRY_INFO!F18+COUNTRY_INFO!G18)))),0)","v":1},{"$f":"IF(AND(Z18<>0,Z18<>\"Inconnu\",Z18<>\"Non requis\"),IF(COUNTRY_INFO!K18=1,0,IF(COUNTRY_INFO!K18=2,0.2*COUNTRY_INFO!G18/(0.5*COUNTRY_INFO!F18+0.2*COUNTRY_INFO!G18),IF(COUNTRY_INFO!K18=3,COUNTRY_INFO!G18/(COUNTRY_INFO!F18+COUNTRY_INFO!G18)))),0)","v":0},{"$f":"MAX(COUNTRY_INFO!D18*AK18*PROFILE!$G$7,COUNTRY_INFO!D18*AL18*PROFILE!$G$7)","v":971.50050491402919},{"$f":"MAX(COUNTRY_INFO!D18*AK18*PROFILE!$G$8,COUNTRY_INFO!D18*AL18*PROFILE!$G$8,COUNTRY_INFO!D18*AM18*PROFILE!$G$8)","v":2916.8338453372676},{"$f":"MAX(COUNTRY_INFO!D18*AK18*PROFILE!$G$9,COUNTRY_INFO!D18*AL18*PROFILE!$G$9,COUNTRY_INFO!D18*AM18*PROFILE!$G$9,IF(AND(DISTRICT!Z18<>\"Inconnu\",Z18<>\"Non requis\"),COUNTRY_INFO!O18*DISTRICT!AN18,0))","v":5618.7434263287169},{"$f":"MAX(COUNTRY_INFO!D18*AK18*PROFILE!$G$10,COUNTRY_INFO!D18*AL18*PROFILE!$G$10,IF(AND(DISTRICT!Z18<>\"Inconnu\",Z18<>\"Non requis\"),COUNTRY_INFO!O18*DISTRICT!AO18,0))","v":12423.922223419986},21931,0,{"$f":"MAX('MDA2'!J18,'T1'!L18,'T2'!J18,T3_R1!K18,T3_R2!K18)","v":0},{"$f":"MAX('MDA1'!K18,'MDA2'!K18,'MDA3'!I18,'MDA3'!L18,'T1'!M18,'T2'!K18,T3_R1!L18,T3_R2!L18)","v":0},{"$f":"MAX('MDA1'!L18,'MDA2'!L18,'MDA3'!J18,'MDA3'!M18,'T1'!N18,'T2'!L18,T3_R1!M18,T3_R2!M18)","v":0},0,{"$f":"MAX('MDA2'!J18,T18)","v":0},{"$f":"MAX('MDA1'!K18,'MDA2'!K18,'MDA3'!I18,'MDA3'!L18,V18,AD18)","v":0},{"$f":"MAX('MDA1'!L18,'MDA2'!L18,'MDA3'!J18,'MDA3'!M18,AF18)","v":0},0,0]
[{"$f":"IF(COUNTRY_INFO!A19=0,\" \",COUNTRY_INFO!A19)","v":"Guinea Bissau"},{"$f":"IF(COUNTRY_INFO!B19=0,\" \",COUNTRY_INFO!B19)","v":"SAB"},{"$f":"IF(COUNTRY_INFO!C19=0,\" \",COUNTRY_INFO!C19)","v":"PLACK II"},{"$f":"COUNTRY_INFO!L19","v":40925},null,null,{"$f":"MAX('MDA1'!M19,'MDA2'!M19)","v":0},{"$f":"IF(AND(COUNTRY_INFO!H19>0,COUNTRY_INFO!H19<4),IF(D19>MAX('MDA1'!M19,'MDA2'!M19),MAX('MDA1'!M19,'MDA2'!M19),D19),0)","v":0},{"$f":"IF(AND(COUNTRY_INFO!H19>0,COUNTRY_INFO!H19<4), IF(G19/D19*100<>0, IF(G19/D19*100>100,100,G19/D19*100), \"-\"),0)","v":"-"},{"$f":"COUNTRY_INFO!M19","v":"Inconnu"},null,null,{"$f":"MAX('MDA1'!M19,MAX('MDA3'!I19,'MDA3'!L19)+MAX('MDA3'!J19,'MDA3'!M19))","v":0},{"$f":"IF(AND(COUNTRY_INFO!I19>0,COUNTRY_INFO!I19<4),IF(J19>MAX('MDA1'!M19,MAX('MDA3'!I19,'MDA3'!L19)+MAX('MDA3'!J19,'MDA3'!M19)),MAX('MDA1'!M19,MAX('MDA3'!I19,'MDA3'!L19)+MAX('MDA3'!J19,'MDA3'!M19)),J19),0)","v":0},{"$f":"IF(AND(COUNTRY_INFO!I19>0,COUNTRY_INFO!I19<4), IF(M19/J19*100<>0, IF(M19/J19*100>100,100,M19/J19*100), \"-\"),0)","v":0},{"$f":"COUNTRY_INFO!N19","v":15928},null,null,{"$f":"SUM(MAX('MDA2'!J19, 'T1'!L19, MAX(T3_R1!K19, T3_R2!K19)), MAX('MDA1'!K19, 'MDA2'!K19, 'T1'!M19, MAX(T3_R1!L19, T3_R2!L19)), MAX('MDA1'!L19, 'MDA2'!L19, 'T1'!N19, MAX(T3_R1!M19, T3_R2!M19)))","v":0},{"$f":"IF(AND(COUNTRY_INFO!J19>1,COUNTRY_INFO!J19<4),IF(COUNTRY_INFO!E19>MAX('MDA2'!J19,'T1'!L19,MAX(T3_R1!K19,T3_R2!K19)),MAX('MDA2'!J19,'T1'!L19,MAX(T3_R1!K19,T3_R2!K19)),COUNTRY_INFO!E19),0)","v":0},{"$f":"IF(AND(COUNTRY_INFO!J19>1,COUNTRY_INFO!J19<4), IF(T19/COUNTRY_INFO!E19*100<>0, IF(T19/COUNTRY_INFO!E19*100>100,100,T19/COUNTRY_INFO!E19*100), \"-\"),0)","v":"-"},{"$f":"IF(AND(COUNTRY_INFO!J19>1,COUNTRY_INFO!J19<4),IF(COUNTRY_INFO!F19>MAX('MDA1'!K19,'MDA2'!K19,'T1'!M19,MAX(T3_R1!L19,T3_R2!L19)),MAX('MDA1'!K19,'MDA2'!K19,'T1'!M19,MAX(T3_R1!L19,T3_R2!L19)),COUNTRY_INFO!F19),0)","v":0},{"$f":"IF(AND(COUNTRY_INFO!J19>1,COUNTRY_INFO!J19<4), IF(V19/COUNTRY_INFO!F19*100<>0, IF(V19/COUNTRY_INFO!F19*100>100,100,V19/COUNTRY_INFO!F19*100), \"-\"),0)","v":"-"},0,{"$f":"IF(AND(COUNTRY_INFO!J19>1,COUNTRY_INFO!J19<4), IF(S19/P19*100<>0, IF(X19/P19*100>100,100,X19/P19*100), \"-\"),0)","v":"-"},{"$f":"COUNTRY_INFO!O19","v":0},null,null,{"$f":"MAX('T1'!L19,'T2'!J19)+MAX('T1'!M19,'T2'!K19)+MAX('T1'!N19,'T2'!L19)","v":0},{"$f":"IF(COUNTRY_INFO!K19=1,IF(COUNTRY_INFO!F19*0.33>MAX('T1'!M19,'T2'!K19),MAX('T1'!M19,'T2'!K19),COUNTRY_INFO!F19*0.33),IF(COUNTRY_INFO!K19=2,IF(COUNTRY_INFO!F19*0.5>MAX('T1'!M19,'T2'!K19),MAX('T1'!M19,'T2'!K19),COUNTRY_INFO!F19*0.5),IF(COUNTRY_INFO!K19=3,IF(COUNTRY_INFO!F19>MAX('T1'!M19,'T2'!K19),MAX('T1'!M19,'T2'!K19),COUNTRY_INFO!F19),0)))","v":0},{"$f":"IF(AND(COUNTRY_INFO!K19>0,COUNTRY_INFO!K19<4),IF(Z19>0,IF(COUNTRY_INFO!K19=1, AD19/(COUNTRY_INFO!F19*0.33)*100, IF(COUNTRY_INFO!K19=2, AD19/(COUNTRY_INFO!F19*0.5)*100, IF(COUNTRY_INFO!K19=3, AD19/COUNTRY_INFO!F19*100))),\"-\"),0)","v":0},{"$f":"IF(COUNTRY_INFO!K19=2,IF(COUNTRY_INFO!G19*0.2>MAX('T1'!N19,'T2'!L19),MAX('T1'!N19,'T2'!L19),COUNTRY_INFO!G19*0.2),IF(COUNTRY_INFO!K19=3,IF(COUNTRY_INFO!G19>MAX('T1'!N19,'T2'!L19),MAX('T1'!N19,'T2'!L19),COUNTRY_INFO!G19),0))","v":0},{"$f":"IF(AND(COUNTRY_INFO!K19>0,COUNTRY_INFO!K19<4),IF(Z19>0,IF(COUNTRY_INFO!K19=1, 0, IF(COUNTRY_INFO!K19=2, AF19/(COUNTRY_INFO!G19*0.2)*100, IF(COUNTRY_INFO!K19=3, AF19/COUNTRY_INFO!G19*100))),\"-\"),0)","v":0},0,{"$f":"IF(AND(COUNTRY_INFO!K19>0,COUNTRY_INFO!K19<4), IF(AC19/Z19*100<>0, IF(AH19/Z19*100>100,100,AH19/Z19*100), \"-\"),0)","v":0},null,{"$f":"IF(AND(D19<>0, D19<>\"Inconnu\",D19<>\"Interrompu\",D19<>\"Non requis\"),D19/COUNTRY_INFO!D19, 0)","v":1},{"$f":"IF(AND(J19<>0,J19<>\"Inconnu\",J19<>\"Interrompu\",J19<>\"Non requis\"),J19/COUNTRY_INFO!D19, 0)","v":0},{"$f":"IF(AND(P19<>0,P19<>\"Inconnu\",P19<>\"Non requis\"),P19/(COUNTRY_INFO!E19+COUNTRY_INFO!F19), 0)","v":1},{"$f":"IF(AND(Z19<>0,Z19<>\"Inconnu\",Z19<>\"Non requis\"),IF(COUNTRY_INFO!K19=1,1,IF(COUNTRY_INFO!K19=2,0.5*COUNTRY_INFO!F19/(0.5*COUNTRY_INFO!F19+0.2*COUNTRY_INFO!G19),IF(COUNTRY_INFO!K19=3,COUNTRY_INFO!F19/(COUNTRY_INFO!F19+COUNTRY_INFO!G19)))),0)","v":0},{"$f":"IF(AND(Z19<>0,Z19<>\"Inconnu\",Z19<>\"Non requis\"),IF(COUNTRY_INFO!K19=1,0,IF(COUNTRY_INFO!K19=2,0.2*COUNTRY_INFO!G19/(0.5*COUNTRY_INFO!F19+0.2*COUNTRY_INFO!G19),IF(COUNTRY_INFO!K19=3,COUNTRY_INFO!G19/(COUNTRY_INFO!F19+COUNTRY_INFO!G19)))),0)","v":0},{"$f":"MAX(COUNTRY_INFO!D19*AK19*PROFILE!$G$7,COUNTRY_INFO!D19*AL19*PROFILE!$G$7)","v":1812.8976409469083},{"$f":"MAX(COUNTRY_INFO!D19*AK19*PROFILE!$G$8,COUNTRY_INFO!D19*AL19*PROFILE!$G$8,COUNTRY_INFO!D19*AM19*PROFILE!$G$8)","v":5443.0452382667308},{"$f":"MAX(COUNTRY_INFO!D19*AK19*PROFILE!$G$9,COUNTRY_INFO!D19*AL19*PROFILE!$G$9,COUNTRY_INFO!D19*AM19*PROFILE!$G$9,IF(AND(DISTRICT!Z19<>\"Inconnu\",Z19<>\"Non requis\"),COUNTRY_INFO!O19*DISTRICT!AN19,0))","v":10485.024610027027},{"$f":"MAX(COUNTRY_INFO!D19*AK19*PROFILE!$G$10,COUNTRY_INFO!D19*AL19*PROFILE!$G$10,IF(AND(DISTRICT!Z19<>\"Inconnu\",Z19<>\"Non requis\"),COUNTRY_INFO!O19*DISTRICT!AO19,0))","v":23184.032510759331},40925,0,{"$f":"MAX('MDA2'!J19,'T1'!L19,'T2'!J19,T3_R1!K19,T3_R2!K19)","v":0},{"$f":"MAX('MDA1'!K19,'MDA2'!K19,'MDA3'!I19,'MDA3'!L19,'T1'!M19,'T2'!K19,T3_R1!L19,T3_R2!L19)","v":0},{"$f":"MAX('MDA1'!L19,'MDA2'!L19,'MDA3'!J19,'MDA3'!M19,'T1'!N19,'T2'!L19,T3_R1!M19,T3_R2!M19)","v":0},0,{"$f":"MAX('MDA2'!J19,T19)","v":0},{"$f":"MAX('MDA1'!K19,'MDA2'!K19,'MDA3'!I19,'MDA3'!L19,V19,AD19)","v":0},{"$f":"MAX('MDA1'!L19,'MDA2'!L19,'MDA3'!J19,'MDA3'!M19,AF19)","v":0},0,0]
[{"$f":"IF(COUNTRY_INFO!A20=0,\" \",COUNTRY_INFO!A20)","v":"Guinea Bissau"},{"$f":"IF(COUNTRY_INFO!B20=0,\" \",COUNTRY_INFO!B20)","v":"SAB"},{"$f":"IF(COUNTRY_INFO!C20=0,\" \",COUNTRY_INFO!C20)","v":"QUELELE"},{"$f":"COUNTRY_INFO!L20","v":42798},null,null,{"$f":"MAX('MDA1'!M20,'MDA2'!M20)","v":0},{"$f":"IF(AND(COUNTRY_INFO!H20>0,COUNTRY_INFO!H20<4),IF(D20>MAX('MDA1'!M20,'MDA2'!M20),MAX('MDA1'!M20,'MDA2'!M20),D20),0)","v":0},{"$f":"IF(AND(COUNTRY_INFO!H20>0,COUNTRY_INFO!H20<4), IF(G20/D20*100<>0, IF(G20/D20*100>100,100,G20/D20*100), \"-\"),0)","v":"-"},{"$f":"COUNTRY_INFO!M20","v":"Inconnu"},null,null,{"$f":"MAX('MDA1'!M20,MAX('MDA3'!I20,'MDA3'!L20)+MAX('MDA3'!J20,'MDA3'!M20))","v":0},{"$f":"IF(AND(COUNTRY_INFO!I20>0,COUNTRY_INFO!I20<4),IF(J20>MAX('MDA1'!M20,MAX('MDA3'!I20,'MDA3'!L20)+MAX('MDA3'!J20,'MDA3'!M20)),MAX('MDA1'!M20,MAX('MDA3'!I20,'MDA3'!L20)+MAX('MDA3'!J20,'MDA3'!M20)),J20),0)","v":0},{"$f":"IF(AND(COUNTRY_INFO!I20>0,COUNTRY_INFO!I20<4), IF(M20/J20*100<>0, IF(M20/J20*100>100,100,M20/J20*100), \"-\"),0)","v":0},{"$f":"COUNTRY_INFO!N20","v":16657},null,null,{"$f":"SUM(MAX('MDA2'!J20, 'T1'!L20, MAX(T3_R1!K20, T3_R2!K20)), MAX('MDA1'!K20, 'MDA2'!K20, 'T1'!M20, MAX(T3_R1!L20, T3_R2!L20)), MAX('MDA1'!L20, 'MDA2'!L20, 'T1'!N20, MAX(T3_R1!M20, T3_R2!M20)))","v":0},{"$f":"IF(AND(COUNTRY_INFO!J20>1,COUNTRY_INFO!J20<4),IF(COUNTRY_INFO!E20>MAX('MDA2'!J20,'T1'!L20,MAX(T3_R1!K20,T3_R2!K20)),MAX('MDA2'!J20,'T1'!L20,MAX(T3_R1!K20,T3_R2!K20)),COUNTRY_INFO!E20),0)","v":0},{"$f":"IF(AND(COUNTRY_INFO!J20>1,COUNTRY_INFO!J20<4), IF(T20/COUNTRY_INFO!E20*100<>0, IF(T20/COUNTRY_INFO!E20*100>100,100,T20/COUNTRY_INFO!E20*100), \"-\"),0)","v":"-"},{"$f":"IF(AND(COUNTRY_INFO!J20>1,COUNTRY_INFO!J20<4),IF(COUNTRY_INFO!F20>MAX('MDA1'!K20,'MDA2'!K20,'T1'!M20,MAX(T3_R1!L20,T3_R2!L20)),MAX('MDA1'!K20,'MDA2'!K20,'T1'!M20,MAX(T3_R1!L20,T3_R2!L20)),COUNTRY_INFO!F20),0)","v":0},{"$f":"IF(AND(COUNTRY_INFO!J20>1,COUNTRY_INFO!J20<4), IF(V20/COUNTRY_INFO!F20*100<>0, IF(V20/COUNTRY_INFO!F20*100>100,100,V20/COUNTRY_INFO!F20*100), \"-\"),0)","v":"-"},0,{"$f":"IF(AND(COUNTRY_INFO!J20>1,COUNTRY_INFO!J20<4), IF(S20/P20*100<>0, IF(X20/P20*100>100,100,X20/P20*100), \"-\"),0)","v":"-"},{"$f":"COUNTRY_INFO!O20","v":0},null,null,{"$f":"MAX('T1'!L20,'T2'!J20)+MAX('T1'!M20,'T2'!K20)+MAX('T1'!N20,'T2'!L20)","v":0},{"$f":"IF(COUNTRY_INFO!K20=1,IF(COUNTRY_INFO!F20*0.33>MAX('T1'!M20,'T2'!K20),MAX('T1'!M20,'T2'!K20),COUNTRY_INFO!F20*0.33),IF(COUNTRY_INFO!K20=2,IF(COUNTRY_INFO!F20*0.5>MAX('T1'!M20,'T2'!K20),MAX('T1'!M20,'T2'!K20),COUNTRY_INFO!F20*0.5),IF(COUNTRY_INFO!K20=3,IF(COUNTRY_INFO!F20>MAX('T1'!M20,'T2'!K20),MAX('T1'!M20,'T2'!K20),COUNTRY_INFO!F20),0)))","v":0},{"$f":"IF(AND(COUNTRY_INFO!K20>0,COUNTRY_INFO!K20<4),IF(Z20>0,IF(COUNTRY_INFO!K20=1, AD20/(COUNTRY_INFO!F20*0.33)*100, IF(COUNTRY_INFO!K20=2, AD20/(COUNTRY_INFO!F20*0.5)*100, IF(COUNTRY_INFO!K20=3, AD20/COUNTRY_INFO!F20*100))),\"-\"),0)","v":0},{"$f":"IF(COUNTRY_INFO!K20=2,IF(COUNTRY_INFO!G20*0.2>MAX('T1'!N20,'T2'!L20),MAX('T1'!N20,'T2'!L20),COUNTRY_INFO!G20*0.2),IF(COUNTRY_INFO!K20=3,IF(COUNTRY_INFO!G20>MAX('T1'!N20,'T2'!L20),MAX('T1'!N20,'T2'!L20),COUNTRY_INFO!G20),0))","v":0},{"$f":"IF(AND(COUNTRY_INFO!K20>0,COUNTRY_INFO!K20<4),IF(Z20>0,IF(COUNTRY_INFO!K20=1, 0, IF(COUNTRY_INFO!K20=2, AF20/(COUNTRY_INFO!G20*0.2)*100, IF(COUNTRY_INFO!K20=3, AF20/COUNTRY_INFO!G20*100))),\"-\"),0)","v":0},0,{"$f":"IF(AND(COUNTRY_INFO!K20>0,COUNTRY_INFO!K20<4), IF(AC20/Z20*100<>0, IF(AH20/Z20*100>100,100,AH20/Z20*100), \"-\"),0)","v":0},null,{"$f":"IF(AND(D20<>0, D20<>\"Inconnu\",D20<>\"Interrompu\",D20<>\"Non requis\"),D20/COUNTRY_INFO!D20, 0)","v":1},{"$f":"IF(AND(J20<>0,J20<>\"Inconnu\",J20<>\"Interrompu\",J20<>\"Non requis\"),J20/COUNTRY_INFO!D20, 0)","v":0},{"$f":"IF(AND(P20<>0,P20<>\"Inconnu\",P20<>\"Non requis\"),P20/(COUNTRY_INFO!E20+COUNTRY_INFO!F20), 0)","v":1},{"$f":"IF(AND(Z20<>0,Z20<>\"Inconnu\",Z20<>\"Non requis\"),IF(COUNTRY_INFO!K20=1,1,IF(COUNTRY_INFO!K20=2,0.5*COUNTRY_INFO!F20/(0.5*COUNTRY_INFO!F20+0.2*COUNTRY_INFO!G20),IF(COUNTRY_INFO!K20=3,COUNTRY_INFO!F20/(COUNTRY_INFO!F20+COUNTRY_INFO!G20)))),0)","v":0},{"$f":"IF(AND(Z20<>0,Z20<>\"Inconnu\",Z20<>\"Non requis\"),IF(COUNTRY_INFO!K20=1,0,IF(COUNTRY_INFO!K20=2,0.2*COUNTRY_INFO!G20/(0.5*COUNTRY_INFO!F20+0.2*COUNTRY_INFO!G20),IF(COUNTRY_INFO!K20=3,COUNTRY_INFO!G20/(COUNTRY_INFO!F20+COUNTRY_INFO!G20)))),0)","v":0},{"$f":"MAX(COUNTRY_INFO!D20*AK20*PROFILE!$G$7,COUNTRY_INFO!D20*AL20*PROFILE!$G$7)","v":1895.8678860658713},{"$f":"MAX(COUNTRY_INFO!D20*AK20*PROFILE!$G$8,COUNTRY_INFO!D20*AL20*PROFILE!$G$8,COUNTRY_INFO!D20*AM20*PROFILE!$G$8)","v":5692.1551645043264},{"$f":"MAX(COUNTRY_INFO!D20*AK20*PROFILE!$G$9,COUNTRY_INFO!D20*AL20*PROFILE!$G$9,COUNTRY_INFO!D20*AM20*PROFILE!$G$9,IF(AND(DISTRICT!Z20<>\"Inconnu\",Z20<>\"Non requis\"),COUNTRY_INFO!O20*DISTRICT!AN20,0))","v":10964.889022845124},{"$f":"MAX(COUNTRY_INFO!D20*AK20*PROFILE!$G$10,COUNTRY_INFO!D20*AL20*PROFILE!$G$10,IF(AND(DISTRICT!Z20<>\"Inconnu\",Z20<>\"Non requis\"),COUNTRY_INFO!O20*DISTRICT!AO20,0))","v":24245.087926584678},42798,0,{"$f":"MAX('MDA2'!J20,'T1'!L20,'T2'!J20,T3_R1!K20,T3_R2!K20)","v":0},{"$f":"MAX('MDA1'!K20,'MDA2'!K20,'MDA3'!I20,'MDA3'!L20,'T1'!M20,'T2'!K20,T3_R1!L20,T3_R2!L20)","v":0},{"$f":"MAX('MDA1'!L20,'MDA2'!L20,'MDA3'!J20,'MDA3'!M20,'T1'!N20,'T2'!L20,T3_R1!M20,T3_R2!M20)","v":0},0,{"$f":"MAX('MDA2'!J20,T20)","v":0},{"$f":"MAX('MDA1'!K20,'MDA2'!K20,'MDA3'!I20,'MDA3'!L20,V20,AD20)","v":0},{"$f":"MAX('MDA1'!L20,'MDA2'!L20,'MDA3'!J20,'MDA3'!M20,AF20)","v":0},0,0]
[{"$f":"IF(COUNTRY_INFO!A21=0,\" \",COUNTRY_INFO!A21)","v":"Guinea Bissau"},{"$f":"IF(COUNTRY_INFO!B21=0,\" \",COUNTRY_INFO!B21)","v":"SAB"},{"$f":"IF(COUNTRY_INFO!C21=0,\" \",COUNTRY_INFO!C21)","v":"SANTA LUZIA"},{"$f":"COUNTRY_INFO!L21","v":25479},null,null,{"$f":"MAX('MDA1'!M21,'MDA2'!M21)","v":0},{"$f":"IF(AND(COUNTRY_INFO!H21>0,COUNTRY_INFO!H21<4),IF(D21>MAX('MDA1'!M21,'MDA2'!M21),MAX('MDA1'!M21,'MDA2'!M21),D21),0)","v":0},{"$f":"IF(AND(COUNTRY_INFO!H21>0,COUNTRY_INFO!H21<4), IF(G21/D21*100<>0, IF(G21/D21*100>100,100,G21/D21*100), \"-\"),0)","v":"-"},{"$f":"COUNTRY_INFO!M21","v":"Inconnu"},null,null,{"$f":"MAX('MDA1'!M21,MAX('MDA3'!I21,'MDA3'!L21)+MAX('MDA3'!J21,'MDA3'!M21))","v":0},{"$f":"IF(AND(COUNTRY_INFO!I21>0,COUNTRY_INFO!I21<4),IF(J21>MAX('MDA1'!M21,MAX('MDA3'!I21,'MDA3'!L21)+MAX('MDA3'!J21,'MDA3'!M21)),MAX('MDA1'!M21,MAX('MDA3'!I21,'MDA3'!L21)+MAX('MDA3'!J21,'MDA3'!M21)),J21),0)","v":0},{"$f":"IF(AND(COUNTRY_INFO!I21>0,COUNTRY_INFO!I21<4), IF(M21/J21*100<>0, IF(M21/J21*100>100,100,M21/J21*100), \"-\"),0)","v":0},{"$f":"COUNTRY_INFO!N21","v":9917},null,null,{"$f":"SUM(MAX('MDA2'!J21, 'T1'!L21, MAX(T3_R1!K21, T3_R2!K21)), MAX('MDA1'!K21, 'MDA2'!K21, 'T1'!M21, MAX(T3_R1!L21, T3_R2!L21)), MAX('MDA1'!L21, 'MDA2'!L21, 'T1'!N21, MAX(T3_R1!M21, T3_R2!M21)))","v":0},{"$f":"IF(AND(COUNTRY_INFO!J21>1,COUNTRY_INFO!J21<4),IF(COUNTRY_INFO!E21>MAX('MDA2'!J21,'T1'!L21,MAX(T3_R1!K21,T3_R2!K21)),MAX('MDA2'!J21,'T1'!L21,MAX(T3_R1!K21,T3_R2!K21)),COUNTRY_INFO!E21),0)","v":0},{"$f":"IF(AND(COUNTRY_INFO!J21>1,COUNTRY_INFO!J21<4), IF(T21/COUNTRY_INFO!E21*100<>0, IF(T21/COUNTRY_INFO!E21*100>100,100,T21/COUNTRY_INFO!E21*100), \"-\"),0)","v":"-"},{"$f":"IF(AND(COUNTRY_INFO!J21>1,COUNTRY_INFO!J21<4),IF(COUNTRY_INFO!F21>MAX('MDA1'!K21,'MDA2'!K21,'T1'!M21,MAX(T3_R1!L21,T3_R2!L21)),MAX('MDA1'!K21,'MDA2'!K21,'T1'!M21,MAX(T3_R1!L21,T3_R2!L21)),COUNTRY_INFO!F21),0)","v":0},{"$f":"IF(AND(COUNTRY_INFO!J21>1,COUNTRY_INFO!J21<4), IF(V21/COUNTRY_INFO!F21*100<>0, IF(V21/COUNTRY_INFO!F21*100>100,100,V21/COUNTRY_INFO!F21*100), \"-\"),0)","v":"-"},0,{"$f":"IF(AND(COUNTRY_INFO!J21>1,COUNTRY_INFO!J21<4), IF(S21/P21*100<>0, IF(X21/P21*100>100,100,X21/P21*100), \"-\"),0)","v":"-"},{"$f":"COUNTRY_INFO!O21","v":2154.2400000000002},null,null,{"$f":"MAX('T1'!L21,'T2'!J21)+MAX('T1'!M21,'T2'!K21)+MAX('T1'!N21,'T2'!L21)","v":0},{"$f":"IF(COUNTRY_INFO!K21=1,IF(COUNTRY_INFO!F21*0.33>MAX('T1'!M21,'T2'!K21),MAX('T1'!M21,'T2'!K21),COUNTRY_INFO!F21*0.33),IF(COUNTRY_INFO!K21=2,IF(COUNTRY_INFO!F21*0.5>MAX('T1'!M21,'T2'!K21),MAX('T1'!M21,'T2'!K21),COUNTRY_INFO!F21*0.5),IF(COUNTRY_INFO!K21=3,IF(COUNTRY_INFO!F21>MAX('T1'!M21,'T2'!K21),MAX('T1'!M21,'T2'!K21),COUNTRY_INFO!F21),0)))","v":0},{"$f":"IF(AND(COUNTRY_INFO!K21>0,COUNTRY_INFO!K21<4),IF(Z21>0,IF(COUNTRY_INFO!K21=1, AD21/(COUNTRY_INFO!F21*0.33)*100, IF(COUNTRY_INFO!K21=2, AD21/(COUNTRY_INFO!F21*0.5)*100, IF(COUNTRY_INFO!K21=3, AD21/COUNTRY_INFO!F21*100))),\"-\"),0)","v":0},{"$f":"IF(COUNTRY_INFO!K21=2,IF(COUNTRY_INFO!G21*0.2>MAX('T1'!N21,'T2'!L21),MAX('T1'!N21,'T2'!L21),COUNTRY_INFO!G21*0.2),IF(COUNTRY_INFO!K21=3,IF(COUNTRY_INFO!G21>MAX('T1'!N21,'T2'!L21),MAX('T1'!N21,'T2'!L21),COUNTRY_INFO!G21),0))","v":0},{"$f":"IF(AND(COUNTRY_INFO!K21>0,COUNTRY_INFO!K21<4),IF(Z21>0,IF(COUNTRY_INFO!K21=1, 0, IF(COUNTRY_INFO!K21=2, AF21/(COUNTRY_INFO!G21*0.2)*100, IF(COUNTRY_INFO!K21=3, AF21/COUNTRY_INFO!G21*100))),\"-\"),0)","v":0},0,{"$f":"IF(AND(COUNTRY_INFO!K21>0,COUNTRY_INFO!K21<4), IF(AC21/Z21*100<>0, IF(AH21/Z21*100>100,100,AH21/Z21*100), \"-\"),0)","v":"-"},null,{"$f":"IF(AND(D21<>0, D21<>\"Inconnu\",D21<>\"Interrompu\",D21<>\"Non requis\"),D21/COUNTRY_INFO!D21, 0)","v":1},{"$f":"IF(AND(J21<>0,J21<>\"Inconnu\",J21<>\"Interrompu\",J21<>\"Non requis\"),J21/COUNTRY_INFO!D21, 0)","v":0},{"$f":"IF(AND(P21<>0,P21<>\"Inconnu\",P21<>\"Non requis\"),P21/(COUNTRY_INFO!E21+COUNTRY_INFO!F21), 0)","v":1},{"$f":"IF(AND(Z21<>0,Z21<>\"Inconnu\",Z21<>\"Non requis\"),IF(COUNTRY_INFO!K21=1,1,IF(COUNTRY_INFO!K21=2,0.5*COUNTRY_INFO!F21/(0.5*COUNTRY_INFO!F21+0.2*COUNTRY_INFO!G21),IF(COUNTRY_INFO!K21=3,COUNTRY_INFO!F21/(COUNTRY_INFO!F21+COUNTRY_INFO!G21)))),0)","v":1},{"$f":"IF(AND(Z21<>0,Z21<>\"Inconnu\",Z21<>\"Non requis\"),IF(COUNTRY_INFO!K21=1,0,IF(COUNTRY_INFO!K21=2,0.2*COUNTRY_INFO!G21/(0.5*COUNTRY_INFO!F21+0.2*COUNTRY_INFO!G21),IF(COUNTRY_INFO!K21=3,COUNTRY_INFO!G21/(COUNTRY_INFO!F21+COUNTRY_INFO!G21)))),0)","v":0},{"$f":"MAX(COUNTRY_INFO!D21*AK21*PROFILE!$G$7,COUNTRY_INFO!D21*AL21*PROFILE!$G$7)","v":1128.6699815195182},{"$f":"MAX(COUNTRY_INFO!D21*AK21*PROFILE!$G$8,COUNTRY_INFO!D21*AL21*PROFILE!$G$8,COUNTRY_INFO!D21*AM21*PROFILE!$G$8)","v":3388.7195998973257},{"$f":"MAX(COUNTRY_INFO!D21*AK21*PROFILE!$G$9,COUNTRY_INFO!D21*AL21*PROFILE!$G$9,COUNTRY_INFO!D21*AM21*PROFILE!$G$9,IF(AND(DISTRICT!Z21<>\"Inconnu\",Z21<>\"Non requis\"),COUNTRY_INFO!O21*DISTRICT!AN21,0))","v":6527.7444603269059},{"$f":"MAX(COUNTRY_INFO!D21*AK21*PROFILE!$G$10,COUNTRY_INFO!D21*AL21*PROFILE!$G$10,IF(AND(DISTRICT!Z21<>\"Inconnu\",Z21<>\"Non requis\"),COUNTRY_INFO!O21*DISTRICT!AO21,0))","v":14433.86595825625},25479,0,{"$f":"MAX('MDA2'!J21,'T1'!L21,'T2'!J21,T3_R1!K21,T3_R2!K21)","v":0},{"$f":"MAX('MDA1'!K21,'MDA2'!K21,'MDA3'!I21,'MDA3'!L21,'T1'!M21,'T2'!K21,T3_R1!L21,T3_R2!L21)","v":0},{"$f":"MAX('MDA1'!L21,'MDA2'!L21,'MDA3'!J21,'MDA3'!M21,'T1'!N21,'T2'!L21,T3_R1!M21,T3_R2!M21)","v":0},0,{"$f":"MAX('MDA2'!J21,T21)","v":0},{"$f":"MAX('MDA1'!K21,'MDA2'!K21,'MDA3'!I21,'MDA3'!L21,V21,AD21)","v":0},{"$f":"MAX('MDA1'!L21,'MDA2'!L21,'MDA3'!J21,'MDA3'!M21,AF21)","v":0},0,0]
[{"$f":"IF(COUNTRY_INFO!A22=0,\" \",COUNTRY_INFO!A22)","v":"Guinea Bissau"},{"$f":"IF(COUNTRY_INFO!B22=0,\" \",COUNTRY_INFO!B22)","v":"SAB"},{"$f":"IF(COUNTRY_INFO!C22=0,\" \",COUNTRY_INFO!C22)","v":"SINTRA NEMA"},{"$f":"COUNTRY_INFO!L22","v":31768},null,null,{"$f":"MAX('MDA1'!M22,'MDA2'!M22)","v":0},{"$f":"IF(AND(COUNTRY_INFO!H22>0,COUNTRY_INFO!H22<4),IF(D22>MAX('MDA1'!M22,'MDA2'!M22),MAX('MDA1'!M22,'MDA2'!M22),D22),0)","v":0},{"$f":"IF(AND(COUNTRY_INFO!H22>0,COUNTRY_INFO!H22<4), IF(G22/D22*100<>0, IF(G22/D22*100>100,100,G22/D22*100), \"-\"),0)","v":"-"},{"$f":"COUNTRY_INFO!M22","v":"Inconnu"},null,null,{"$f":"MAX('MDA1'!M22,MAX('MDA3'!I22,'MDA3'!L22)+MAX('MDA3'!J22,'MDA3'!M22))","v":0},{"$f":"IF(AND(COUNTRY_INFO!I22>0,COUNTRY_INFO!I22<4),IF(J22>MAX('MDA1'!M22,MAX('MDA3'!I22,'MDA3'!L22)+MAX('MDA3'!J22,'MDA3'!M22)),MAX('MDA1'!M22,MAX('MDA3'!I22,'MDA3'!L22)+MAX('MDA3'!J22,'MDA3'!M22)),J22),0)","v":0},{"$f":"IF(AND(COUNTRY_INFO!I22>0,COUNTRY_INFO!I22<4), IF(M22/J22*100<>0, IF(M22/J22*100>100,100,M22/J22*100), \"-\"),0)","v":0},{"$f":"COUNTRY_INFO!N22","v":12364},null,null,{"$f":"SUM(MAX('MDA2'!J22, 'T1'!L22, MAX(T3_R1!K22, T3_R2!K22)), MAX('MDA1'!K22, 'MDA2'!K22, 'T1'!M22, MAX(T3_R1!L22, T3_R2!L22)), MAX('MDA1'!L22, 'MDA2'!L22, 'T1'!N22, MAX(T3_R1!M22, T3_R2!M22)))","v":0},{"$f":"IF(AND(COUNTRY_INFO!J22>1,COUNTRY_INFO!J22<4),IF(COUNTRY_INFO!E22>MAX('MDA2'!J22,'T1'!L22,MAX(T3_R1!K22,T3_R2!K22)),MAX('MDA2'!J22,'T1'!L22,MAX(T3_R1!K22,T3_R2!K22)),COUNTRY_INFO!E22),0)","v":0},{"$f":"IF(AND(COUNTRY_INFO!J22>1,COUNTRY_INFO!J22<4), IF(T22/COUNTRY_INFO!E22*100<>0, IF(T22/COUNTRY_INFO!E22*100>100,100,T22/COUNTRY_INFO!E22*100), \"-\"),0)","v":"-"},{"$f":"IF(AND(COUNTRY_INFO!J22>1,COUNTRY_INFO!J22<4),IF(COUNTRY_INFO!F22>MAX('MDA1'!K22,'MDA2'!K22,'T1'!M22,MAX(T3_R1!L22,T3_R2!L22)),MAX('MDA1'!K22,'MDA2'!K22,'T1'!M22,MAX(T3_R1!L22,T3_R2!L22)),COUNTRY_INFO!F22),0)","v":0},{"$f":"IF(AND(COUNTRY_INFO!J22>1,COUNTRY_INFO!J22<4), IF(V22/COUNTRY_INFO!F22*100<>0, IF(V22/COUNTRY_INFO!F22*100>100,100,V22/COUNTRY_INFO!F22*100), \"-\"),0)","v":"-"},0,{"$f":"IF(AND(COUNTRY_INFO!J22>1,COUNTRY_INFO!J22<4), IF(S22/P22*100<>0, IF(X22/P22*100>100,100,X22/P22*100), \"-\"),0)","v":"-"},{"$f":"COUNTRY_INFO!O22","v":2685.8700000000003},null,null,{"$f":"MAX('T1'!L22,'T2'!J22)+MAX('T1'!M22,'T2'!K22)+MAX('T1'!N22,'T2'!L22)","v":0},{"$f":"IF(COUNTRY_INFO!K22=1,IF(COUNTRY_INFO!F22*0.33>MAX('T1'!M22,'T2'!K22),MAX('T1'!M22,'T2'!K22),COUNTRY_INFO!F22*0.33),IF(COUNTRY_INFO!K22=2,IF(COUNTRY_INFO!F22*0.5>MAX('T1'!M22,'T2'!K22),MAX('T1'!M22,'T2'!K22),COUNTRY_INFO!F22*0.5),IF(COUNTRY_INFO!K22=3,IF(COUNTRY_INFO!F22>MAX('T1'!M22,'T2'!K22),MAX('T1'!M22,'T2'!K22),COUNTRY_INFO!F22),0)))","v":0},{"$f":"IF(AND(COUNTRY_INFO!K22>0,COUNTRY_INFO!K22<4),IF(Z22>0,IF(COUNTRY_INFO!K22=1, AD22/(COUNTRY_INFO!F22*0.33)*100, IF(COUNTRY_INFO!K22=2, AD22/(COUNTRY_INFO!F22*0.5)*100, IF(COUNTRY_INFO!K22=3, AD22/COUNTRY_INFO!F22*100))),\"-\"),0)","v":0},{"$f":"IF(COUNTRY_INFO!K22=2,IF(COUNTRY_INFO!G22*0.2>MAX('T1'!N22,'T2'!L22),MAX('T1'!N22,'T2'!L22),COUNTRY_INFO!G22*0.2),IF(COUNTRY_INFO!K22=3,IF(COUNTRY_INFO!G22>MAX('T1'!N22,'T2'!L22),MAX('T1'!N22,'T2'!L22),COUNTRY_INFO!G22),0))","v":0},{"$f":"IF(AND(COUNTRY_INFO!K22>0,COUNTRY_INFO!K22<4),IF(Z22>0,IF(COUNTRY_INFO!K22=1, 0, IF(COUNTRY_INFO!K22=2, AF22/(COUNTRY_INFO!G22*0.2)*100, IF(COUNTRY_INFO!K22=3, AF22/COUNTRY_INFO!G22*100))),\"-\"),0)","v":0},0,{"$f":"IF(AND(COUNTRY_INFO!K22>0,COUNTRY_INFO!K22<4), IF(AC22/Z22*100<>0, IF(AH22/Z22*100>100,100,AH22/Z22*100), \"-\"),0)","v":"-"},null,{"$f":"IF(AND(D22<>0, D22<>\"Inconnu\",D22<>\"Interrompu\",D22<>\"Non requis\"),D22/COUNTRY_INFO!D22, 0)","v":1},{"$f":"IF(AND(J22<>0,J22<>\"Inconnu\",J22<>\"Interrompu\",J22<>\"Non requis\"),J22/COUNTRY_INFO!D22, 0)","v":0},{"$f":"IF(AND(P22<>0,P22<>\"Inconnu\",P22<>\"Non requis\"),P22/(COUNTRY_INFO!E22+COUNTRY_INFO!F22), 0)","v":1},{"$f":"IF(AND(Z22<>0,Z22<>\"Inconnu\",Z22<>\"Non requis\"),IF(COUNTRY_INFO!K22=1,1,IF(COUNTRY_INFO!K22=2,0.5*COUNTRY_INFO!F22/(0.5*COUNTRY_INFO!F22+0.2*COUNTRY_INFO!G22),IF(COUNTRY_INFO!K22=3,COUNTRY_INFO!F22/(COUNTRY_INFO!F22+COUNTRY_INFO!G22)))),0)","v":1},{"$f":"IF(AND(Z22<>0,Z22<>\"Inconnu\",Z22<>\"Non requis\"),IF(COUNTRY_INFO!K22=1,0,IF(COUNTRY_INFO!K22=2,0.2*COUNTRY_INFO!G22/(0.5*COUNTRY_INFO!F22+0.2*COUNTRY_INFO!G22),IF(COUNTRY_INFO!K22=3,COUNTRY_INFO!G22/(COUNTRY_INFO!F22+COUNTRY_INFO!G22)))),0)","v":0},{"$f":"MAX(COUNTRY_INFO!D22*AK22*PROFILE!$G$7,COUNTRY_INFO!D22*AL22*PROFILE!$G$7)","v":1407.2604094710173},{"$f":"MAX(COUNTRY_INFO!D22*AK22*PROFILE!$G$8,COUNTRY_INFO!D22*AL22*PROFILE!$G$8,COUNTRY_INFO!D22*AM22*PROFILE!$G$8)","v":4225.1597099390965},{"$f":"MAX(COUNTRY_INFO!D22*AK22*PROFILE!$G$9,COUNTRY_INFO!D22*AL22*PROFILE!$G$9,COUNTRY_INFO!D22*AM22*PROFILE!$G$9,IF(AND(DISTRICT!Z22<>\"Inconnu\",Z22<>\"Non requis\"),COUNTRY_INFO!O22*DISTRICT!AN22,0))","v":8138.9923472532337},{"$f":"MAX(COUNTRY_INFO!D22*AK22*PROFILE!$G$10,COUNTRY_INFO!D22*AL22*PROFILE!$G$10,IF(AND(DISTRICT!Z22<>\"Inconnu\",Z22<>\"Non requis\"),COUNTRY_INFO!O22*DISTRICT!AO22,0))","v":17996.587533336653},31768,0,{"$f":"MAX('MDA2'!J22,'T1'!L22,'T2'!J22,T3_R1!K22,T3_R2!K22)","v":0},{"$f":"MAX('MDA1'!K22,'MDA2'!K22,'MDA3'!I22,'MDA3'!L22,'T1'!M22,'T2'!K22,T3_R1!L22,T3_R2!L22)","v":0},{"$f":"MAX('MDA1'!L22,'MDA2'!L22,'MDA3'!J22,'MDA3'!M22,'T1'!N22,'T2'!L22,T3_R1!M22,T3_R2!M22)","v":0},0,{"$f":"MAX('MDA2'!J22,T22)","v":0},{"$f":"MAX('MDA1'!K22,'MDA2'!K22,'MDA3'!I22,'MDA3'!L22,V22,AD22)","v":0},{"$f":"MAX('MDA1'!L22,'MDA2'!L22,'MDA3'!J22,'MDA3'!M22,AF22)","v":0},0,0]
[{"$f":"IF(COUNTRY_INFO!A23=0,\" \",COUNTRY_INFO!A23)","v":"Guinea Bissau"},{"$f":"IF(COUNTRY_INFO!B23=0,\" \",COUNTRY_INFO!B23)","v":"Bijagos"},{"$f":"IF(COUNTRY_INFO!C23=0,\" \",COUNTRY_INFO!C23)","v":"Bubaque"},{"$f":"COUNTRY_INFO!L23","v":7916},2451,2540,{"$f":"MAX('MDA1'!M23,'MDA2'!M23)","v":4991},{"$f":"IF(AND(COUNTRY_INFO!H23>0,COUNTRY_INFO!H23<4),IF(D23>MAX('MDA1'!M23,'MDA2'!M23),MAX('MDA1'!M23,'MDA2'!M23),D23),0)","v":4991},{"$f":"IF(AND(COUNTRY_INFO!H23>0,COUNTRY_INFO!H23<4), IF(G23/D23*100<>0, IF(G23/D23*100>100,100,G23/D23*100), \"-\"),0)","v":63.049519959575541},{"$f":"COUNTRY_INFO!M23","v":"Inconnu"},null,null,{"$f":"MAX('MDA1'!M23,MAX('MDA3'!I23,'MDA3'!L23)+MAX('MDA3'!J23,'MDA3'!M23))","v":4991},{"$f":"IF(AND(COUNTRY_INFO!I23>0,COUNTRY_INFO!I23<4),IF(J23>MAX('MDA1'!M23,MAX('MDA3'!I23,'MDA3'!L23)+MAX('MDA3'!J23,'MDA3'!M23)),MAX('MDA1'!M23,MAX('MDA3'!I23,'MDA3'!L23)+MAX('MDA3'!J23,'MDA3'!M23)),J23),0)","v":0},{"$f":"IF(AND(COUNTRY_INFO!I23>0,COUNTRY_INFO!I23<4), IF(M23/J23*100<>0, IF(M23/J23*100>100,100,M23/J23*100), \"-\"),0)","v":0},{"$f":"COUNTRY_INFO!N23","v":3081},null,null,{"$f":"SUM(MAX('MDA2'!J23, 'T1'!L23, MAX(T3_R1!K23, T3_R2!K23)), MAX('MDA1'!K23, 'MDA2'!K23, 'T1'!M23, MAX(T3_R1!L23, T3_R2!L23)), MAX('MDA1'!L23, 'MDA2'!L23, 'T1'!N23, MAX(T3_R1!M23, T3_R2!M23)))","v":4991},{"$f":"IF(AND(COUNTRY_INFO!J23>1,COUNTRY_INFO!J23<4),IF(COUNTRY_INFO!E23>MAX('MDA2'!J23,'T1'!L23,MAX(T3_R1!K23,T3_R2!K23)),MAX('MDA2'!J23,'T1'!L23,MAX(T3_R1!K23,T3_R2!K23)),COUNTRY_INFO!E23),0)","v":0},{"$f":"IF(AND(COUNTRY_INFO!J23>1,COUNTRY_INFO!J23<4), IF(T23/COUNTRY_INFO!E23*100<>0, IF(T23/COUNTRY_INFO!E23*100>100,100,T23/COUNTRY_INFO!E23*100), \"-\"),0)","v":"-"},{"$f":"IF(AND(COUNTRY_INFO!J23>1,COUNTRY_INFO!J23<4),IF(COUNTRY_INFO!F23>MAX('MDA1'!K23,'MDA2'!K23,'T1'!M23,MAX(T3_R1!L23,T3_R2!L23)),MAX('MDA1'!K23,'MDA2'!K23,'T1'!M23,MAX(T3_R1!L23,T3_R2!L23)),COUNTRY_INFO!F23),0)","v":2028},{"$f":"IF(AND(COUNTRY_INFO!J23>1,COUNTRY_INFO!J23<4), IF(V23/COUNTRY_INFO!F23*100<>0, IF(V23/COUNTRY_INFO!F23*100>100,100,V23/COUNTRY_INFO!F23*100), \"-\"),0)","v":100},2028,{"$f":"IF(AND(COUNTRY_INFO!J23>1,COUNTRY_INFO!J23<4), IF(S23/P23*100<>0, IF(X23/P23*100>100,100,X23/P23*100), \"-\"),0)","v":65.822784810126578},{"$f":"COUNTRY_INFO!O23","v":0},null,null,{"$f":"MAX('T1'!L23,'T2'!J23)+MAX('T1'!M23,'T2'!K23)+MAX('T1'!N23,'T2'!L23)","v":0},{"$f":"IF(COUNTRY_INFO!K23=1,IF(COUNTRY_INFO!F23*0.33>MAX('T1'!M23,'T2'!K23),MAX('T1'!M23,'T2'!K23),COUNTRY_INFO!F23*0.33),IF(COUNTRY_INFO!K23=2,IF(COUNTRY_INFO!F23*0.5>MAX('T1'!M23,'T2'!K23),MAX('T1'!M23,'T2'!K23),COUNTRY_INFO!F23*0.5),IF(COUNTRY_INFO!K23=3,IF(COUNTRY_INFO!F23>MAX('T1'!M23,'T2'!K23),MAX('T1'!M23,'T2'!K23),COUNTRY_INFO!F23),0)))","v":0},{"$f":"IF(AND(COUNTRY_INFO!K23>0,COUNTRY_INFO!K23<4),IF(Z23>0,IF(COUNTRY_INFO!K23=1, AD23/(COUNTRY_INFO!F23*0.33)*100, IF(COUNTRY_INFO!K23=2, AD23/(COUNTRY_INFO!F23*0.5)*100, IF(COUNTRY_INFO!K23=3, AD23/COUNTRY_INFO!F23*100))),\"-\"),0)","v":0},{"$f":"IF(COUNTRY_INFO!K23=2,IF(COUNTRY_INFO!G23*0.2>MAX('T1'!N23,'T2'!L23),MAX('T1'!N23,'T2'!L23),COUNTRY_INFO!G23*0.2),IF(COUNTRY_INFO!K23=3,IF(COUNTRY_INFO!G23>MAX('T1'!N23,'T2'!L23),MAX('T1'!N23,'T2'!L23),COUNTRY_INFO!G23),0))","v":0},{"$f":"IF(AND(COUNTRY_INFO!K23>0,COUNTRY_INFO!K23<4),IF(Z23>0,IF(COUNTRY_INFO!K23=1, 0, IF(COUNTRY_INFO!K23=2, AF23/(COUNTRY_INFO!G23*0.2)*100, IF(COUNTRY_INFO!K23=3, AF23/COUNTRY_INFO!G23*100))),\"-\"),0)","v":0},0,{"$f":"IF(AND(COUNTRY_INFO!K23>0,COUNTRY_INFO!K23<4), IF(AC23/Z23*100<>0, IF(AH23/Z23*100>100,100,AH23/Z23*100), \"-\"),0)","v":0},null,{"$f":"IF(AND(D23<>0, D23<>\"Inconnu\",D23<>\"Interrompu\",D23<>\"Non requis\"),D23/COUNTRY_INFO!D23, 0)","v":1},{"$f":"IF(AND(J23<>0,J23<>\"Inconnu\",J23<>\"Interrompu\",J23<>\"Non requis\"),J23/COUNTRY_INFO!D23, 0)","v":0},{"$f":"IF(AND(P23<>0,P23<>\"Inconnu\",P23<>\"Non requis\"),P23/(COUNTRY_INFO!E23+COUNTRY_INFO!F23), 0)","v":1},{"$f":"IF(AND(Z23<>0,Z23<>\"Inconnu\",Z23<>\"Non requis\"),IF(COUNTRY_INFO!K23=1,1,IF(COUNTRY_INFO!K23=2,0.5*COUNTRY_INFO!F23/(0.5*COUNTRY_INFO!F23+0.2*COUNTRY_INFO!G23),IF(COUNTRY_INFO!K23=3,COUNTRY_INFO!F23/(COUNTRY_INFO!F23+COUNTRY_INFO!G23)))),0)","v":0},{"$f":"IF(AND(Z23<>0,Z23<>\"Inconnu\",Z23<>\"Non requis\"),IF(COUNTRY_INFO!K23=1,0,IF(COUNTRY_INFO!K23=2,0.2*COUNTRY_INFO!G23/(0.5*COUNTRY_INFO!F23+0.2*COUNTRY_INFO!G23),IF(COUNTRY_INFO!K23=3,COUNTRY_INFO!G23/(COUNTRY_INFO!F23+COUNTRY_INFO!G23)))),0)","v":0},{"$f":"MAX(COUNTRY_INFO!D23*AK23*PROFILE!$G$7,COUNTRY_INFO!D23*AL23*PROFILE!$G$7)","v":350.66335310288883},{"$f":"MAX(COUNTRY_INFO!D23*AK23*PROFILE!$G$8,COUNTRY_INFO!D23*AL23*PROFILE!$G$8,COUNTRY_INFO!D23*AM23*PROFILE!$G$8)","v":1052.8319146272313},{"$f":"MAX(COUNTRY_INFO!D23*AK23*PROFILE!$G$9,COUNTRY_INFO!D23*AL23*PROFILE!$G$9,COUNTRY_INFO!D23*AM23*PROFILE!$G$9,IF(AND(DISTRICT!Z23<>\"Inconnu\",Z23<>\"Non requis\"),COUNTRY_INFO!O23*DISTRICT!AN23,0))","v":2028.0868616487219},{"$f":"MAX(COUNTRY_INFO!D23*AK23*PROFILE!$G$10,COUNTRY_INFO!D23*AL23*PROFILE!$G$10,IF(AND(DISTRICT!Z23<>\"Inconnu\",Z23<>\"Non requis\"),COUNTRY_INFO!O23*DISTRICT!AO23,0))","v":4484.4178706211578},7916,"Y",{"$f":"MAX('MDA2'!J23,'T1'!L23,'T2'!J23,T3_R1!K23,T3_R2!K23)","v":0},{"$f":"MAX('MDA1'!K23,'MDA2'!K23,'MDA3'!I23,'MDA3'!L23,'T1'!M23,'T2'!K23,T3_R1!L23,T3_R2!L23)","v":2451},{"$f":"MAX('MDA1'!L23,'MDA2'!L23,'MDA3'!J23,'MDA3'!M23,'T1'!N23,'T2'!L23,T3_R1!M23,T3_R2!M23)","v":2540},4991,{"$f":"MAX('MDA2'!J23,T23)","v":0},{"$f":"MAX('MDA1'!K23,'MDA2'!K23,'MDA3'!I23,'MDA3'!L23,V23,AD23)","v":2451},{"$f":"MAX('MDA1'!L23,'MDA2'!L23,'MDA3'!J23,'MDA3'!M23,AF23)","v":2540},4991,63.049519959575541]
[{"$f":"IF(COUNTRY_INFO!A24=0,\" \",COUNTRY_INFO!A24)","v":"Guinea Bissau"},{"$f":"IF(COUNTRY_INFO!B24=0,\" \",COUNTRY_INFO!B24)","v":"Bijagos"},{"$f":"IF(COUNTRY_INFO!C24=0,\" \",COUNTRY_INFO!C24)","v":"Canhabaque"},{"$f":"COUNTRY_INFO!L24","v":3114},1240,1223,{"$f":"MAX('MDA1'!M24,'MDA2'!M24)","v":2463},{"$f":"IF(AND(COUNTRY_INFO!H24>0,COUNTRY_INFO!H24<4),IF(D24>MAX('MDA1'!M24,'MDA2'!M24),MAX('MDA1'!M24,'MDA2'!M24),D24),0)","v":2463},{"$f":"IF(AND(COUNTRY_INFO!H24>0,COUNTRY_INFO!H24<4), IF(G24/D24*100<>0, IF(G24/D24*100>100,100,G24/D24*100), \"-\"),0)","v":79.094412331406545},{"$f":"COUNTRY_INFO!M24","v":"Inconnu"},null,null,{"$f":"MAX('MDA1'!M24,MAX('MDA3'!I24,'MDA3'!L24)+MAX('MDA3'!J24,'MDA3'!M24))","v":2463},{"$f":"IF(AND(COUNTRY_INFO!I24>0,COUNTRY_INFO!I24<4),IF(J24>MAX('MDA1'!M24,MAX('MDA3'!I24,'MDA3'!L24)+MAX('MDA3'!J24,'MDA3'!M24)),MAX('MDA1'!M24,MAX('MDA3'!I24,'MDA3'!L24)+MAX('MDA3'!J24,'MDA3'!M24)),J24),0)","v":0},{"$f":"IF(AND(COUNTRY_INFO!I24>0,COUNTRY_INFO!I24<4), IF(M24/J24*100<>0, IF(M24/J24*100>100,100,M24/J24*100), \"-\"),0)","v":0},{"$f":"COUNTRY_INFO!N24","v":1212},null,null,{"$f":"SUM(MAX('MDA2'!J24, 'T1'!L24, MAX(T3_R1!K24, T3_R2!K24)), MAX('MDA1'!K24, 'MDA2'!K24, 'T1'!M24, MAX(T3_R1!L24, T3_R2!L24)), MAX('MDA1'!L24, 'MDA2'!L24, 'T1'!N24, MAX(T3_R1!M24, T3_R2!M24)))","v":2463},{"$f":"IF(AND(COUNTRY_INFO!J24>1,COUNTRY_INFO!J24<4),IF(COUNTRY_INFO!E24>MAX('MDA2'!J24,'T1'!L24,MAX(T3_R1!K24,T3_R2!K24)),MAX('MDA2'!J24,'T1'!L24,MAX(T3_R1!K24,T3_R2!K24)),COUNTRY_INFO!E24),0)","v":0},{"$f":"IF(AND(COUNTRY_INFO!J24>1,COUNTRY_INFO!J24<4), IF(T24/COUNTRY_INFO!E24*100<>0, IF(T24/COUNTRY_INFO!E24*100>100,100,T24/COUNTRY_INFO!E24*100), \"-\"),0)","v":"-"},{"$f":"IF(AND(COUNTRY_INFO!J24>1,COUNTRY_INFO!J24<4),IF(COUNTRY_INFO!F24>MAX('MDA1'!K24,'MDA2'!K24,'T1'!M24,MAX(T3_R1!L24,T3_R2!L24)),MAX('MDA1'!K24,'MDA2'!K24,'T1'!M24,MAX(T3_R1!L24,T3_R2!L24)),COUNTRY_INFO!F24),0)","v":798},{"$f":"IF(AND(COUNTRY_INFO!J24>1,COUNTRY_INFO!J24<4), IF(V24/COUNTRY_INFO!F24*100<>0, IF(V24/COUNTRY_INFO!F24*100>100,100,V24/COUNTRY_INFO!F24*100), \"-\"),0)","v":100},798,{"$f":"IF(AND(COUNTRY_INFO!J24>1,COUNTRY_INFO!J24<4), IF(S24/P24*100<>0, IF(X24/P24*100>100,100,X24/P24*100), \"-\"),0)","v":65.841584158415841},{"$f":"COUNTRY_INFO!O24","v":0},null,null,{"$f":"MAX('T1'!L24,'T2'!J24)+MAX('T1'!M24,'T2'!K24)+MAX('T1'!N24,'T2'!L24)","v":0},{"$f":"IF(COUNTRY_INFO!K24=1,IF(COUNTRY_INFO!F24*0.33>MAX('T1'!M24,'T2'!K24),MAX('T1'!M24,'T2'!K24),COUNTRY_INFO!F24*0.33),IF(COUNTRY_INFO!K24=2,IF(COUNTRY_INFO!F24*0.5>MAX('T1'!M24,'T2'!K24),MAX('T1'!M24,'T2'!K24),COUNTRY_INFO!F24*0.5),IF(COUNTRY_INFO!K24=3,IF(COUNTRY_INFO!F24>MAX('T1'!M24,'T2'!K24),MAX('T1'!M24,'T2'!K24),COUNTRY_INFO!F24),0)))","v":0},{"$f":"IF(AND(COUNTRY_INFO!K24>0,COUNTRY_INFO!K24<4),IF(Z24>0,IF(COUNTRY_INFO!K24=1, AD24/(COUNTRY_INFO!F24*0.33)*100, IF(COUNTRY_INFO!K24=2, AD24/(COUNTRY_INFO!F24*0.5)*100, IF(COUNTRY_INFO!K24=3, AD24/COUNTRY_INFO!F24*100))),\"-\"),0)","v":0},{"$f":"IF(COUNTRY_INFO!K24=2,IF(COUNTRY_INFO!G24*0.2>MAX('T1'!N24,'T2'!L24),MAX('T1'!N24,'T2'!L24),COUNTRY_INFO!G24*0.2),IF(COUNTRY_INFO!K24=3,IF(COUNTRY_INFO!G24>MAX('T1'!N24,'T2'!L24),MAX('T1'!N24,'T2'!L24),COUNTRY_INFO!G24),0))","v":0},{"$f":"IF(AND(COUNTRY_INFO!K24>0,COUNTRY_INFO!K24<4),IF(Z24>0,IF(COUNTRY_INFO!K24=1, 0, IF(COUNTRY_INFO!K24=2, AF24/(COUNTRY_INFO!G24*0.2)*100, IF(COUNTRY_INFO!K24=3, AF24/COUNTRY_INFO!G24*100))),\"-\"),0)","v":0},0,{"$f":"IF(AND(COUNTRY_INFO!K24>0,COUNTRY_INFO!K24<4), IF(AC24/Z24*100<>0, IF(AH24/Z24*100>100,100,AH24/Z24*100), \"-\"),0)","v":0},null,{"$f":"IF(AND(D24<>0, D24<>\"Inconnu\",D24<>\"Interrompu\",D24<>\"Non requis\"),D24/COUNTRY_INFO!D24, 0)","v":1},{"$f":"IF(AND(J24<>0,J24<>\"Inconnu\",J24<>\"Interrompu\",J24<>\"Non requis\"),J24/COUNTRY_INFO!D24, 0)","v":0},{"$f":"IF(AND(P24<>0,P24<>\"Inconnu\",P24<>\"Non requis\"),P24/(COUNTRY_INFO!E24+COUNTRY_INFO!F24), 0)","v":1},{"$f":"IF(AND(Z24<>0,Z24<>\"Inconnu\",Z24<>\"Non requis\"),IF(COUNTRY_INFO!K24=1,1,IF(COUNTRY_INFO!K24=2,0.5*COUNTRY_INFO!F24/(0.5*COUNTRY_INFO!F24+0.2*COUNTRY_INFO!G24),IF(COUNTRY_INFO!K24=3,COUNTRY_INFO!F24/(COUNTRY_INFO!F24+COUNTRY_INFO!G24)))),0)","v":0},{"$f":"IF(AND(Z24<>0,Z24<>\"Inconnu\",Z24<>\"Non requis\"),IF(COUNTRY_INFO!K24=1,0,IF(COUNTRY_INFO!K24=2,0.2*COUNTRY_INFO!G24/(0.5*COUNTRY_INFO!F24+0.2*COUNTRY_INFO!G24),IF(COUNTRY_INFO!K24=3,COUNTRY_INFO!G24/(COUNTRY_INFO!F24+COUNTRY_INFO!G24)))),0)","v":0},{"$f":"MAX(COUNTRY_INFO!D24*AK24*PROFILE!$G$7,COUNTRY_INFO!D24*AL24*PROFILE!$G$7)","v":137.94412349196512},{"$f":"MAX(COUNTRY_INFO!D24*AK24*PROFILE!$G$8,COUNTRY_INFO!D24*AL24*PROFILE!$G$8,COUNTRY_INFO!D24*AM24*PROFILE!$G$8)","v":414.16353993799879},{"$f":"MAX(COUNTRY_INFO!D24*AK24*PROFILE!$G$9,COUNTRY_INFO!D24*AL24*PROFILE!$G$9,COUNTRY_INFO!D24*AM24*PROFILE!$G$9,IF(AND(DISTRICT!Z24<>\"Inconnu\",Z24<>\"Non requis\"),COUNTRY_INFO!O24*DISTRICT!AN24,0))","v":797.80981394316825},{"$f":"MAX(COUNTRY_INFO!D24*AK24*PROFILE!$G$10,COUNTRY_INFO!D24*AL24*PROFILE!$G$10,IF(AND(DISTRICT!Z24<>\"Inconnu\",Z24<>\"Non requis\"),COUNTRY_INFO!O24*DISTRICT!AO24,0))","v":1764.0825226268676},3113.9999999999995,"Y",{"$f":"MAX('MDA2'!J24,'T1'!L24,'T2'!J24,T3_R1!K24,T3_R2!K24)","v":0},{"$f":"MAX('MDA1'!K24,'MDA2'!K24,'MDA3'!I24,'MDA3'!L24,'T1'!M24,'T2'!K24,T3_R1!L24,T3_R2!L24)","v":1240},{"$f":"MAX('MDA1'!L24,'MDA2'!L24,'MDA3'!J24,'MDA3'!M24,'T1'!N24,'T2'!L24,T3_R1!M24,T3_R2!M24)","v":1223},2463,{"$f":"MAX('MDA2'!J24,T24)","v":0},{"$f":"MAX('MDA1'!K24,'MDA2'!K24,'MDA3'!I24,'MDA3'!L24,V24,AD24)","v":1240},{"$f":"MAX('MDA1'!L24,'MDA2'!L24,'MDA3'!J24,'MDA3'!M24,AF24)","v":1223},2463,79.094412331406559]
[{"$f":"IF(COUNTRY_INFO!A25=0,\" \",COUNTRY_INFO!A25)","v":"Guinea Bissau"},{"$f":"IF(COUNTRY_INFO!B25=0,\" \",COUNTRY_INFO!B25)","v":"Bijagos"},{"$f":"IF(COUNTRY_INFO!C25=0,\" \",COUNTRY_INFO!C25)","v":"Canogo"},{"$f":"COUNTRY_INFO!L25","v":711},285,257,{"$f":"MAX('MDA1'!M25,'MDA2'!M25)","v":542},{"$f":"IF(AND(COUNTRY_INFO!H25>0,COUNTRY_INFO!H25<4),IF(D25>MAX('MDA1'!M25,'MDA2'!M25),MAX('MDA1'!M25,'MDA2'!M25),D25),0)","v":542},{"$f":"IF(AND(COUNTRY_INFO!H25>0,COUNTRY_INFO!H25<4), IF(G25/D25*100<>0, IF(G25/D25*100>100,100,G25/D25*100), \"-\"),0)","v":76.230661040787624},{"$f":"COUNTRY_INFO!M25","v":"Inconnu"},null,null,{"$f":"MAX('MDA1'!M25,MAX('MDA3'!I25,'MDA3'!L25)+MAX('MDA3'!J25,'MDA3'!M25))","v":542},{"$f":"IF(AND(COUNTRY_INFO!I25>0,COUNTRY_INFO!I25<4),IF(J25>MAX('MDA1'!M25,MAX('MDA3'!I25,'MDA3'!L25)+MAX('MDA3'!J25,'MDA3'!M25)),MAX('MDA1'!M25,MAX('MDA3'!I25,'MDA3'!L25)+MAX('MDA3'!J25,'MDA3'!M25)),J25),0)","v":0},{"$f":"IF(AND(COUNTRY_INFO!I25>0,COUNTRY_INFO!I25<4), IF(M25/J25*100<>0, IF(M25/J25*100>100,100,M25/J25*100), \"-\"),0)","v":0},{"$f":"COUNTRY_INFO!N25","v":277},null,null,{"$f":"SUM(MAX('MDA2'!J25, 'T1'!L25, MAX(T3_R1!K25, T3_R2!K25)), MAX('MDA1'!K25, 'MDA2'!K25, 'T1'!M25, MAX(T3_R1!L25, T3_R2!L25)), MAX('MDA1'!L25, 'MDA2'!L25, 'T1'!N25, MAX(T3_R1!M25, T3_R2!M25)))","v":542},{"$f":"IF(AND(COUNTRY_INFO!J25>1,COUNTRY_INFO!J25<4),IF(COUNTRY_INFO!E25>MAX('MDA2'!J25,'T1'!L25,MAX(T3_R1!K25,T3_R2!K25)),MAX('MDA2'!J25,'T1'!L25,MAX(T3_R1!K25,T3_R2!K25)),COUNTRY_INFO!E25),0)","v":0},{"$f":"IF(AND(COUNTRY_INFO!J25>1,COUNTRY_INFO!J25<4), IF(T25/COUNTRY_INFO!E25*100<>0, IF(T25/COUNTRY_INFO!E25*100>100,100,T25/COUNTRY_INFO!E25*100), \"-\"),0)","v":"-"},{"$f":"IF(AND(COUNTRY_INFO!J25>1,COUNTRY_INFO!J25<4),IF(COUNTRY_INFO!F25>MAX('MDA1'!K25,'MDA2'!K25,'T1'!M25,MAX(T3_R1!L25,T3_R2!L25)),MAX('MDA1'!K25,'MDA2'!K25,'T1'!M25,MAX(T3_R1!L25,T3_R2!L25)),COUNTRY_INFO!F25),0)","v":182},{"$f":"IF(AND(COUNTRY_INFO!J25>1,COUNTRY_INFO!J25<4), IF(V25/COUNTRY_INFO!F25*100<>0, IF(V25/COUNTRY_INFO!F25*100>100,100,V25/COUNTRY_INFO!F25*100), \"-\"),0)","v":100},182,{"$f":"IF(AND(COUNTRY_INFO!J25>1,COUNTRY_INFO!J25<4), IF(S25/P25*100<>0, IF(X25/P25*100>100,100,X25/P25*100), \"-\"),0)","v":65.70397111913357},{"$f":"COUNTRY_INFO!O25","v":0},null,null,{"$f":"MAX('T1'!L25,'T2'!J25)+MAX('T1'!M25,'T2'!K25)+MAX('T1'!N25,'T2'!L25)","v":0},{"$f":"IF(COUNTRY_INFO!K25=1,IF(COUNTRY_INFO!F25*0.33>MAX('T1'!M25,'T2'!K25),MAX('T1'!M25,'T2'!K25),COUNTRY_INFO!F25*0.33),IF(COUNTRY_INFO!K25=2,IF(COUNTRY_INFO!F25*0.5>MAX('T1'!M25,'T2'!K25),MAX('T1'!M25,'T2'!K25),COUNTRY_INFO!F25*0.5),IF(COUNTRY_INFO!K25=3,IF(COUNTRY_INFO!F25>MAX('T1'!M25,'T2'!K25),MAX('T1'!M25,'T2'!K25),COUNTRY_INFO!F25),0)))","v":0},{"$f":"IF(AND(COUNTRY_INFO!K25>0,COUNTRY_INFO!K25<4),IF(Z25>0,IF(COUNTRY_INFO!K25=1, AD25/(COUNTRY_INFO!F25*0.33)*100, IF(COUNTRY_INFO!K25=2, AD25/(COUNTRY_INFO!F25*0.5)*100, IF(COUNTRY_INFO!K25=3, AD25/COUNTRY_INFO!F25*100))),\"-\"),0)","v":0},{"$f":"IF(COUNTRY_INFO!K25=2,IF(COUNTRY_INFO!G25*0.2>MAX('T1'!N25,'T2'!L25),MAX('T1'!N25,'T2'!L25),COUNTRY_INFO!G25*0.2),IF(COUNTRY_INFO!K25=3,IF(COUNTRY_INFO!G25>MAX('T1'!N25,'T2'!L25),MAX('T1'!N25,'T2'!L25),COUNTRY_INFO!G25),0))","v":0},{"$f":"IF(AND(COUNTRY_INFO!K25>0,COUNTRY_INFO!K25<4),IF(Z25>0,IF(COUNTRY_INFO!K25=1, 0, IF(COUNTRY_INFO!K25=2, AF25/(COUNTRY_INFO!G25*0.2)*100, IF(COUNTRY_INFO!K25=3, AF25/COUNTRY_INFO!G25*100))),\"-\"),0)","v":0},0,{"$f":"IF(AND(COUNTRY_INFO!K25>0,COUNTRY_INFO!K25<4), IF(AC25/Z25*100<>0, IF(AH25/Z25*100>100,100,AH25/Z25*100), \"-\"),0)","v":0},null,{"$f":"IF(AND(D25<>0, D25<>\"Inconnu\",D25<>\"Interrompu\",D25<>\"Non requis\"),D25/COUNTRY_INFO!D25, 0)","v":1},{"$f":"IF(AND(J25<>0,J25<>\"Inconnu\",J25<>\"Interrompu\",J25<>\"Non requis\"),J25/COUNTRY_INFO!D25, 0)","v":0},{"$f":"IF(AND(P25<>0,P25<>\"Inconnu\",P25<>\"Non requis\"),P25/(COUNTRY_INFO!E25+COUNTRY_INFO!F25), 0)","v":1},{"$f":"IF(AND(Z25<>0,Z25<>\"Inconnu\",Z25<>\"Non requis\"),IF(COUNTRY_INFO!K25=1,1,IF(COUNTRY_INFO!K25=2,0.5*COUNTRY_INFO!F25/(0.5*COUNTRY_INFO!F25+0.2*COUNTRY_INFO!G25),IF(COUNTRY_INFO!K25=3,COUNTRY_INFO!F25/(COUNTRY_INFO!F25+COUNTRY_INFO!G25)))),0)","v":0},{"$f":"IF(AND(Z25<>0,Z25<>\"Inconnu\",Z25<>\"Non requis\"),IF(COUNTRY_INFO!K25=1,0,IF(COUNTRY_INFO!K25=2,0.2*COUNTRY_INFO!G25/(0.5*COUNTRY_INFO!F25+0.2*COUNTRY_INFO!G25),IF(COUNTRY_INFO!K25=3,COUNTRY_INFO!G25/(COUNTRY_INFO!F25+COUNTRY_INFO!G25)))),0)","v":0},{"$f":"MAX(COUNTRY_INFO!D25*AK25*PROFILE!$G$7,COUNTRY_INFO!D25*AL25*PROFILE!$G$7)","v":31.495912589205908},{"$f":"MAX(COUNTRY_INFO!D25*AK25*PROFILE!$G$8,COUNTRY_INFO!D25*AL25*PROFILE!$G$8,COUNTRY_INFO!D25*AM25*PROFILE!$G$8)","v":94.563351604340767},{"$f":"MAX(COUNTRY_INFO!D25*AK25*PROFILE!$G$9,COUNTRY_INFO!D25*AL25*PROFILE!$G$9,COUNTRY_INFO!D25*AM25*PROFILE!$G$9,IF(AND(DISTRICT!Z25<>\"Inconnu\",Z25<>\"Non requis\"),COUNTRY_INFO!O25*DISTRICT!AN25,0))","v":182.15888815465402},{"$f":"MAX(COUNTRY_INFO!D25*AK25*PROFILE!$G$10,COUNTRY_INFO!D25*AL25*PROFILE!$G$10,IF(AND(DISTRICT!Z25<>\"Inconnu\",Z25<>\"Non requis\"),COUNTRY_INFO!O25*DISTRICT!AO25,0))","v":402.78184765179924},711,"Y",{"$f":"MAX('MDA2'!J25,'T1'!L25,'T2'!J25,T3_R1!K25,T3_R2!K25)","v":0},{"$f":"MAX('MDA1'!K25,'MDA2'!K25,'MDA3'!I25,'MDA3'!L25,'T1'!M25,'T2'!K25,T3_R1!L25,T3_R2!L25)","v":285},{"$f":"MAX('MDA1'!L25,'MDA2'!L25,'MDA3'!J25,'MDA3'!M25,'T1'!N25,'T2'!L25,T3_R1!M25,T3_R2!M25)","v":257},542,{"$f":"MAX('MDA2'!J25,T25)","v":0},{"$f":"MAX('MDA1'!K25,'MDA2'!K25,'MDA3'!I25,'MDA3'!L25,V25,AD25)","v":285},{"$f":"MAX('MDA1'!L25,'MDA2'!L25,'MDA3'!J25,'MDA3'!M25,AF25)","v":257},542,76.230661040787624]
[{"$f":"IF(COUNTRY_INFO!A26=0,\" \",COUNTRY_INFO!A26)","v":"Guinea Bissau"},{"$f":"IF(COUNTRY_INFO!B26=0,\" \",COUNTRY_INFO!B26)","v":"Bijagos"},{"$f":"IF(COUNTRY_INFO!C26=0,\" \",COUNTRY_INFO!C26)","v":"Caravela"},{"$f":"COUNTRY_INFO!L26","v":2206},737,743,{"$f":"MAX('MDA1'!M26,'MDA2'!M26)","v":1480},{"$f":"IF(AND(COUNTRY_INFO!H26>0,COUNTRY_INFO!H26<4),IF(D26>MAX('MDA1'!M26,'MDA2'!M26),MAX('MDA1'!M26,'MDA2'!M26),D26),0)","v":1480},{"$f":"IF(AND(COUNTRY_INFO!H26>0,COUNTRY_INFO!H26<4), IF(G26/D26*100<>0, IF(G26/D26*100>100,100,G26/D26*100), \"-\"),0)","v":67.089755213055298},{"$f":"COUNTRY_INFO!M26","v":"Inconnu"},null,null,{"$f":"MAX('MDA1'!M26,MAX('MDA3'!I26,'MDA3'!L26)+MAX('MDA3'!J26,'MDA3'!M26))","v":1480},{"$f":"IF(AND(COUNTRY_INFO!I26>0,COUNTRY_INFO!I26<4),IF(J26>MAX('MDA1'!M26,MAX('MDA3'!I26,'MDA3'!L26)+MAX('MDA3'!J26,'MDA3'!M26)),MAX('MDA1'!M26,MAX('MDA3'!I26,'MDA3'!L26)+MAX('MDA3'!J26,'MDA3'!M26)),J26),0)","v":0},{"$f":"IF(AND(COUNTRY_INFO!I26>0,COUNTRY_INFO!I26<4), IF(M26/J26*100<>0, IF(M26/J26*100>100,100,M26/J26*100), \"-\"),0)","v":0},{"$f":"COUNTRY_INFO!N26","v":858},null,null,{"$f":"SUM(MAX('MDA2'!J26, 'T1'!L26, MAX(T3_R1!K26, T3_R2!K26)), MAX('MDA1'!K26, 'MDA2'!K26, 'T1'!M26, MAX(T3_R1!L26, T3_R2!L26)), MAX('MDA1'!L26, 'MDA2'!L26, 'T1'!N26, MAX(T3_R1!M26, T3_R2!M26)))","v":1480},{"$f":"IF(AND(COUNTRY_INFO!J26>1,COUNTRY_INFO!J26<4),IF(COUNTRY_INFO!E26>MAX('MDA2'!J26,'T1'!L26,MAX(T3_R1!K26,T3_R2!K26)),MAX('MDA2'!J26,'T1'!L26,MAX(T3_R1!K26,T3_R2!K26)),COUNTRY_INFO!E26),0)","v":0},{"$f":"IF(AND(COUNTRY_INFO!J26>1,COUNTRY_INFO!J26<4), IF(T26/COUNTRY_INFO!E26*100<>0, IF(T26/COUNTRY_INFO!E26*100>100,100,T26/COUNTRY_INFO!E26*100), \"-\"),0)","v":"-"},{"$f":"IF(AND(COUNTRY_INFO!J26>1,COUNTRY_INFO!J26<4),IF(COUNTRY_INFO!F26>MAX('MDA1'!K26,'MDA2'!K26,'T1'!M26,MAX(T3_R1!L26,T3_R2!L26)),MAX('MDA1'!K26,'MDA2'!K26,'T1'!M26,MAX(T3_R1!L26,T3_R2!L26)),COUNTRY_INFO!F26),0)","v":565},{"$f":"IF(AND(COUNTRY_INFO!J26>1,COUNTRY_INFO!J26<4), IF(V26/COUNTRY_INFO!F26*100<>0, IF(V26/COUNTRY_INFO!F26*100>100,100,V26/COUNTRY_INFO!F26*100), \"-\"),0)","v":100},565,{"$f":"IF(AND(COUNTRY_INFO!J26>1,COUNTRY_INFO!J26<4), IF(S26/P26*100<>0, IF(X26/P26*100>100,100,X26/P26*100), \"-\"),0)","v":65.850815850815849},{"$f":"COUNTRY_INFO!O26","v":0},null,null,{"$f":"MAX('T1'!L26,'T2'!J26)+MAX('T1'!M26,'T2'!K26)+MAX('T1'!N26,'T2'!L26)","v":0},{"$f":"IF(COUNTRY_INFO!K26=1,IF(COUNTRY_INFO!F26*0.33>MAX('T1'!M26,'T2'!K26),MAX('T1'!M26,'T2'!K26),COUNTRY_INFO!F26*0.33),IF(COUNTRY_INFO!K26=2,IF(COUNTRY_INFO!F26*0.5>MAX('T1'!M26,'T2'!K26),MAX('T1'!M26,'T2'!K26),COUNTRY_INFO!F26*0.5),IF(COUNTRY_INFO!K26=3,IF(COUNTRY_INFO!F26>MAX('T1'!M26,'T2'!K26),MAX('T1'!M26,'T2'!K26),COUNTRY_INFO!F26),0)))","v":0},{"$f":"IF(AND(COUNTRY_INFO!K26>0,COUNTRY_INFO!K26<4),IF(Z26>0,IF(COUNTRY_INFO!K26=1, AD26/(COUNTRY_INFO!F26*0.33)*100, IF(COUNTRY_INFO!K26=2, AD26/(COUNTRY_INFO!F26*0.5)*100, IF(COUNTRY_INFO!K26=3, AD26/COUNTRY_INFO!F26*100))),\"-\"),0)","v":0},{"$f":"IF(COUNTRY_INFO!K26=2,IF(COUNTRY_INFO!G26*0.2>MAX('T1'!N26,'T2'!L26),MAX('T1'!N26,'T2'!L26),COUNTRY_INFO!G26*0.2),IF(COUNTRY_INFO!K26=3,IF(COUNTRY_INFO!G26>MAX('T1'!N26,'T2'!L26),MAX('T1'!N26,'T2'!L26),COUNTRY_INFO!G26),0))","v":0},{"$f":"IF(AND(COUNTRY_INFO!K26>0,COUNTRY_INFO!K26<4),IF(Z26>0,IF(COUNTRY_INFO!K26=1, 0, IF(COUNTRY_INFO!K26=2, AF26/(COUNTRY_INFO!G26*0.2)*100, IF(COUNTRY_INFO!K26=3, AF26/COUNTRY_INFO!G26*100))),\"-\"),0)","v":0},0,{"$f":"IF(AND(COUNTRY_INFO!K26>0,COUNTRY_INFO!K26<4), IF(AC26/Z26*100<>0, IF(AH26/Z26*100>100,100,AH26/Z26*100), \"-\"),0)","v":0},null,{"$f":"IF(AND(D26<>0, D26<>\"Inconnu\",D26<>\"Interrompu\",D26<>\"Non requis\"),D26/COUNTRY_INFO!D26, 0)","v":1},{"$f":"IF(AND(J26<>0,J26<>\"Inconnu\",J26<>\"Interrompu\",J26<>\"Non requis\"),J26/COUNTRY_INFO!D26, 0)","v":0},{"$f":"IF(AND(P26<>0,P26<>\"Inconnu\",P26<>\"Non requis\"),P26/(COUNTRY_INFO!E26+COUNTRY_INFO!F26), 0)","v":1},{"$f":"IF(AND(Z26<>0,Z26<>\"Inconnu\",Z26<>\"Non requis\"),IF(COUNTRY_INFO!K26=1,1,IF(COUNTRY_INFO!K26=2,0.5*COUNTRY_INFO!F26/(0.5*COUNTRY_INFO!F26+0.2*COUNTRY_INFO!G26),IF(COUNTRY_INFO!K26=3,COUNTRY_INFO!F26/(COUNTRY_INFO!F26+COUNTRY_INFO!G26)))),0)","v":0},{"$f":"IF(AND(Z26<>0,Z26<>\"Inconnu\",Z26<>\"Non requis\"),IF(COUNTRY_INFO!K26=1,0,IF(COUNTRY_INFO!K26=2,0.2*COUNTRY_INFO!G26/(0.5*COUNTRY_INFO!F26+0.2*COUNTRY_INFO!G26),IF(COUNTRY_INFO!K26=3,COUNTRY_INFO!G26/(COUNTRY_INFO!F26+COUNTRY_INFO!G26)))),0)","v":0},{"$f":"MAX(COUNTRY_INFO!D26*AK26*PROFILE!$G$7,COUNTRY_INFO!D26*AL26*PROFILE!$G$7)","v":97.721495318970796},{"$f":"MAX(COUNTRY_INFO!D26*AK26*PROFILE!$G$8,COUNTRY_INFO!D26*AL26*PROFILE!$G$8,COUNTRY_INFO!D26*AM26*PROFILE!$G$8)","v":293.39909091304605},{"$f":"MAX(COUNTRY_INFO!D26*AK26*PROFILE!$G$9,COUNTRY_INFO!D26*AL26*PROFILE!$G$9,COUNTRY_INFO!D26*AM26*PROFILE!$G$9,IF(AND(DISTRICT!Z26<>\"Inconnu\",Z26<>\"Non requis\"),COUNTRY_INFO!O26*DISTRICT!AN26,0))","v":565.17933511837805},{"$f":"MAX(COUNTRY_INFO!D26*AK26*PROFILE!$G$10,COUNTRY_INFO!D26*AL26*PROFILE!$G$10,IF(AND(DISTRICT!Z26<>\"Inconnu\",Z26<>\"Non requis\"),COUNTRY_INFO!O26*DISTRICT!AO26,0))","v":1249.7000786496051},2206,"Y",{"$f":"MAX('MDA2'!J26,'T1'!L26,'T2'!J26,T3_R1!K26,T3_R2!K26)","v":0},{"$f":"MAX('MDA1'!K26,'MDA2'!K26,'MDA3'!I26,'MDA3'!L26,'T1'!M26,'T2'!K26,T3_R1!L26,T3_R2!L26)","v":737},{"$f":"MAX('MDA1'!L26,'MDA2'!L26,'MDA3'!J26,'MDA3'!M26,'T1'!N26,'T2'!L26,T3_R1!M26,T3_R2!M26)","v":743},1480,{"$f":"MAX('MDA2'!J26,T26)","v":0},{"$f":"MAX('MDA1'!K26,'MDA2'!K26,'MDA3'!I26,'MDA3'!L26,V26,AD26)","v":737},{"$f":"MAX('MDA1'!L26,'MDA2'!L26,'MDA3'!J26,'MDA3'!M26,AF26)","v":743},1480,67.089755213055298]
[{"$f":"IF(COUNTRY_INFO!A27=0,\" \",COUNTRY_INFO!A27)","v":"Guinea Bissau"},{"$f":"IF(COUNTRY_INFO!B27=0,\" \",COUNTRY_INFO!B27)","v":"Bijagos"},{"$f":"IF(COUNTRY_INFO!C27=0,\" \",COUNTRY_INFO!C27)","v":"Formosa"},{"$f":"COUNTRY_INFO!L27","v":3644},1350,1279,{"$f":"MAX('MDA1'!M27,'MDA2'!M27)","v":2629},{"$f":"IF(AND(COUNTRY_INFO!H27>0,COUNTRY_INFO!H27<4),IF(D27>MAX('MDA1'!M27,'MDA2'!M27),MAX('MDA1'!M27,'MDA2'!M27),D27),0)","v":2629},{"$f":"IF(AND(COUNTRY_INFO!H27>0,COUNTRY_INFO!H27<4), IF(G27/D27*100<>0, IF(G27/D27*100>100,100,G27/D27*100), \"-\"),0)","v":72.145993413830951},{"$f":"COUNTRY_INFO!M27","v":"Inconnu"},null,null,{"$f":"MAX('MDA1'!M27,MAX('MDA3'!I27,'MDA3'!L27)+MAX('MDA3'!J27,'MDA3'!M27))","v":2629},{"$f":"IF(AND(COUNTRY_INFO!I27>0,COUNTRY_INFO!I27<4),IF(J27>MAX('MDA1'!M27,MAX('MDA3'!I27,'MDA3'!L27)+MAX('MDA3'!J27,'MDA3'!M27)),MAX('MDA1'!M27,MAX('MDA3'!I27,'MDA3'!L27)+MAX('MDA3'!J27,'MDA3'!M27)),J27),0)","v":0},{"$f":"IF(AND(COUNTRY_INFO!I27>0,COUNTRY_INFO!I27<4), IF(M27/J27*100<>0, IF(M27/J27*100>100,100,M27/J27*100), \"-\"),0)","v":0},{"$f":"COUNTRY_INFO!N27","v":1419},null,null,{"$f":"SUM(MAX('MDA2'!J27, 'T1'!L27, MAX(T3_R1!K27, T3_R2!K27)), MAX('MDA1'!K27, 'MDA2'!K27, 'T1'!M27, MAX(T3_R1!L27, T3_R2!L27)), MAX('MDA1'!L27, 'MDA2'!L27, 'T1'!N27, MAX(T3_R1!M27, T3_R2!M27)))","v":2629},{"$f":"IF(AND(COUNTRY_INFO!J27>1,COUNTRY_INFO!J27<4),IF(COUNTRY_INFO!E27>MAX('MDA2'!J27,'T1'!L27,MAX(T3_R1!K27,T3_R2!K27)),MAX('MDA2'!J27,'T1'!L27,MAX(T3_R1!K27,T3_R2!K27)),COUNTRY_INFO!E27),0)","v":0},{"$f":"IF(AND(COUNTRY_INFO!J27>1,COUNTRY_INFO!J27<4), IF(T27/COUNTRY_INFO!E27*100<>0, IF(T27/COUNTRY_INFO!E27*100>100,100,T27/COUNTRY_INFO!E27*100), \"-\"),0)","v":"-"},{"$f":"IF(AND(COUNTRY_INFO!J27>1,COUNTRY_INFO!J27<4),IF(COUNTRY_INFO!F27>MAX('MDA1'!K27,'MDA2'!K27,'T1'!M27,MAX(T3_R1!L27,T3_R2!L27)),MAX('MDA1'!K27,'MDA2'!K27,'T1'!M27,MAX(T3_R1!L27,T3_R2!L27)),COUNTRY_INFO!F27),0)","v":934},{"$f":"IF(AND(COUNTRY_INFO!J27>1,COUNTRY_INFO!J27<4), IF(V27/COUNTRY_INFO!F27*100<>0, IF(V27/COUNTRY_INFO!F27*100>100,100,V27/COUNTRY_INFO!F27*100), \"-\"),0)","v":100},934,{"$f":"IF(AND(COUNTRY_INFO!J27>1,COUNTRY_INFO!J27<4), IF(S27/P27*100<>0, IF(X27/P27*100>100,100,X27/P27*100), \"-\"),0)","v":65.821000704721627},{"$f":"COUNTRY_INFO!O27","v":0},null,null,{"$f":"MAX('T1'!L27,'T2'!J27)+MAX('T1'!M27,'T2'!K27)+MAX('T1'!N27,'T2'!L27)","v":0},{"$f":"IF(COUNTRY_INFO!K27=1,IF(COUNTRY_INFO!F27*0.33>MAX('T1'!M27,'T2'!K27),MAX('T1'!M27,'T2'!K27),COUNTRY_INFO!F27*0.33),IF(COUNTRY_INFO!K27=2,IF(COUNTRY_INFO!F27*0.5>MAX('T1'!M27,'T2'!K27),MAX('T1'!M27,'T2'!K27),COUNTRY_INFO!F27*0.5),IF(COUNTRY_INFO!K27=3,IF(COUNTRY_INFO!F27>MAX('T1'!M27,'T2'!K27),MAX('T1'!M27,'T2'!K27),COUNTRY_INFO!F27),0)))","v":0},{"$f":"IF(AND(COUNTRY_INFO!K27>0,COUNTRY_INFO!K27<4),IF(Z27>0,IF(COUNTRY_INFO!K27=1, AD27/(COUNTRY_INFO!F27*0.33)*100, IF(COUNTRY_INFO!K27=2, AD27/(COUNTRY_INFO!F27*0.5)*100, IF(COUNTRY_INFO!K27=3, AD27/COUNTRY_INFO!F27*100))),\"-\"),0)","v":0},{"$f":"IF(COUNTRY_INFO!K27=2,IF(COUNTRY_INFO!G27*0.2>MAX('T1'!N27,'T2'!L27),MAX('T1'!N27,'T2'!L27),COUNTRY_INFO!G27*0.2),IF(COUNTRY_INFO!K27=3,IF(COUNTRY_INFO!G27>MAX('T1'!N27,'T2'!L27),MAX('T1'!N27,'T2'!L27),COUNTRY_INFO!G27),0))","v":0},{"$f":"IF(AND(COUNTRY_INFO!K27>0,COUNTRY_INFO!K27<4),IF(Z27>0,IF(COUNTRY_INFO!K27=1, 0, IF(COUNTRY_INFO!K27=2, AF27/(COUNTRY_INFO!G27*0.2)*100, IF(COUNTRY_INFO!K27=3, AF27/COUNTRY_INFO!G27*100))),\"-\"),0)","v":0},0,{"$f":"IF(AND(COUNTRY_INFO!K27>0,COUNTRY_INFO!K27<4), IF(AC27/Z27*100<>0, IF(AH27/Z27*100>100,100,AH27/Z27*100), \"-\"),0)","v":0},null,{"$f":"IF(AND(D27<>0, D27<>\"Inconnu\",D27<>\"Interrompu\",D27<>\"Non requis\"),D27/COUNTRY_INFO!D27, 0)","v":1},{"$f":"IF(AND(J27<>0,J27<>\"Inconnu\",J27<>\"Interrompu\",J27<>\"Non requis\"),J27/COUNTRY_INFO!D27, 0)","v":0},{"$f":"IF(AND(P27<>0,P27<>\"Inconnu\",P27<>\"Non requis\"),P27/(COUNTRY_INFO!E27+COUNTRY_INFO!F27), 0)","v":1},{"$f":"IF(AND(Z27<>0,Z27<>\"Inconnu\",Z27<>\"Non requis\"),IF(COUNTRY_INFO!K27=1,1,IF(COUNTRY_INFO!K27=2,0.5*COUNTRY_INFO!F27/(0.5*COUNTRY_INFO!F27+0.2*COUNTRY_INFO!G27),IF(COUNTRY_INFO!K27=3,COUNTRY_INFO!F27/(COUNTRY_INFO!F27+COUNTRY_INFO!G27)))),0)","v":0},{"$f":"IF(AND(Z27<>0,Z27<>\"Inconnu\",Z27<>\"Non requis\"),IF(COUNTRY_INFO!K27=1,0,IF(COUNTRY_INFO!K27=2,0.2*COUNTRY_INFO!G27/(0.5*COUNTRY_INFO!F27+0.2*COUNTRY_INFO!G27),IF(COUNTRY_INFO!K27=3,COUNTRY_INFO!G27/(COUNTRY_INFO!F27+COUNTRY_INFO!G27)))),0)","v":0},{"$f":"MAX(COUNTRY_INFO!D27*AK27*PROFILE!$G$7,COUNTRY_INFO!D27*AL27*PROFILE!$G$7)","v":161.42208927576138},{"$f":"MAX(COUNTRY_INFO!D27*AK27*PROFILE!$G$8,COUNTRY_INFO!D27*AL27*PROFILE!$G$8,COUNTRY_INFO!D27*AM27*PROFILE!$G$8)","v":484.65380203406153},{"$f":"MAX(COUNTRY_INFO!D27*AK27*PROFILE!$G$9,COUNTRY_INFO!D27*AL27*PROFILE!$G$9,COUNTRY_INFO!D27*AM27*PROFILE!$G$9,IF(AND(DISTRICT!Z27<>\"Inconnu\",Z27<>\"Non requis\"),COUNTRY_INFO!O27*DISTRICT!AN27,0))","v":933.59632691358547},{"$f":"MAX(COUNTRY_INFO!D27*AK27*PROFILE!$G$10,COUNTRY_INFO!D27*AL27*PROFILE!$G$10,IF(AND(DISTRICT!Z27<>\"Inconnu\",Z27<>\"Non requis\"),COUNTRY_INFO!O27*DISTRICT!AO27,0))","v":2064.3277817765916},3644,"Y",{"$f":"MAX('MDA2'!J27,'T1'!L27,'T2'!J27,T3_R1!K27,T3_R2!K27)","v":0},{"$f":"MAX('MDA1'!K27,'MDA2'!K27,'MDA3'!I27,'MDA3'!L27,'T1'!M27,'T2'!K27,T3_R1!L27,T3_R2!L27)","v":1350},{"$f":"MAX('MDA1'!L27,'MDA2'!L27,'MDA3'!J27,'MDA3'!M27,'T1'!N27,'T2'!L27,T3_R1!M27,T3_R2!M27)","v":1279},2629,{"$f":"MAX('MDA2'!J27,T27)","v":0},{"$f":"MAX('MDA1'!K27,'MDA2'!K27,'MDA3'!I27,'MDA3'!L27,V27,AD27)","v":1350},{"$f":"MAX('MDA1'!L27,'MDA2'!L27,'MDA3'!J27,'MDA3'!M27,AF27)","v":1279},2629,72.145993413830951]
[{"$f":"IF(COUNTRY_INFO!A28=0,\" \",COUNTRY_INFO!A28)","v":"Guinea Bissau"},{"$f":"IF(COUNTRY_INFO!B28=0,\" \",COUNTRY_INFO!B28)","v":"Bijagos"},{"$f":"IF(COUNTRY_INFO!C28=0,\" \",COUNTRY_INFO!C28)","v":"Orango Grande"},{"$f":"COUNTRY_INFO!L28","v":1531},566,550,{"$f":"MAX('MDA1'!M28,'MDA2'!M28)","v":1116},{"$f":"IF(AND(COUNTRY_INFO!H28>0,COUNTRY_INFO!H28<4),IF(D28>MAX('MDA1'!M28,'MDA2'!M28),MAX('MDA1'!M28,'MDA2'!M28),D28),0)","v":1116},{"$f":"IF(AND(COUNTRY_INFO!H28>0,COUNTRY_INFO!H28<4), IF(G28/D28*100<>0, IF(G28/D28*100>100,100,G28/D28*100), \"-\"),0)","v":72.893533638145001},{"$f":"COUNTRY_INFO!M28","v":"Inconnu"},null,null,{"$f":"MAX('MDA1'!M28,MAX('MDA3'!I28,'MDA3'!L28)+MAX('MDA3'!J28,'MDA3'!M28))","v":1116},{"$f":"IF(AND(COUNTRY_INFO!I28>0,COUNTRY_INFO!I28<4),IF(J28>MAX('MDA1'!M28,MAX('MDA3'!I28,'MDA3'!L28)+MAX('MDA3'!J28,'MDA3'!M28)),MAX('MDA1'!M28,MAX('MDA3'!I28,'MDA3'!L28)+MAX('MDA3'!J28,'MDA3'!M28)),J28),0)","v":0},{"$f":"IF(AND(COUNTRY_INFO!I28>0,COUNTRY_INFO!I28<4), IF(M28/J28*100<>0, IF(M28/J28*100>100,100,M28/J28*100), \"-\"),0)","v":0},{"$f":"COUNTRY_INFO!N28","v":596},null,null,{"$f":"SUM(MAX('MDA2'!J28, 'T1'!L28, MAX(T3_R1!K28, T3_R2!K28)), MAX('MDA1'!K28, 'MDA2'!K28, 'T1'!M28, MAX(T3_R1!L28, T3_R2!L28)), MAX('MDA1'!L28, 'MDA2'!L28, 'T1'!N28, MAX(T3_R1!M28, T3_R2!M28)))","v":1116},{"$f":"IF(AND(COUNTRY_INFO!J28>1,COUNTRY_INFO!J28<4),IF(COUNTRY_INFO!E28>MAX('MDA2'!J28,'T1'!L28,MAX(T3_R1!K28,T3_R2!K28)),MAX('MDA2'!J28,'T1'!L28,MAX(T3_R1!K28,T3_R2!K28)),COUNTRY_INFO!E28),0)","v":0},{"$f":"IF(AND(COUNTRY_INFO!J28>1,COUNTRY_INFO!J28<4), IF(T28/COUNTRY_INFO!E28*100<>0, IF(T28/COUNTRY_INFO!E28*100>100,100,T28/COUNTRY_INFO!E28*100), \"-\"),0)","v":"-"},{"$f":"IF(AND(COUNTRY_INFO!J28>1,COUNTRY_INFO!J28<4),IF(COUNTRY_INFO!F28>MAX('MDA1'!K28,'MDA2'!K28,'T1'!M28,MAX(T3_R1!L28,T3_R2!L28)),MAX('MDA1'!K28,'MDA2'!K28,'T1'!M28,MAX(T3_R1!L28,T3_R2!L28)),COUNTRY_INFO!F28),0)","v":392},{"$f":"IF(AND(COUNTRY_INFO!J28>1,COUNTRY_INFO!J28<4), IF(V28/COUNTRY_INFO!F28*100<>0, IF(V28/COUNTRY_INFO!F28*100>100,100,V28/COUNTRY_INFO!F28*100), \"-\"),0)","v":100},392,{"$f":"IF(AND(COUNTRY_INFO!J28>1,COUNTRY_INFO!J28<4), IF(S28/P28*100<>0, IF(X28/P28*100>100,100,X28/P28*100), \"-\"),0)","v":65.771812080536918},{"$f":"COUNTRY_INFO!O28","v":0},null,null,{"$f":"MAX('T1'!L28,'T2'!J28)+MAX('T1'!M28,'T2'!K28)+MAX('T1'!N28,'T2'!L28)","v":0},{"$f":"IF(COUNTRY_INFO!K28=1,IF(COUNTRY_INFO!F28*0.33>MAX('T1'!M28,'T2'!K28),MAX('T1'!M28,'T2'!K28),COUNTRY_INFO!F28*0.33),IF(COUNTRY_INFO!K28=2,IF(COUNTRY_INFO!F28*0.5>MAX('T1'!M28,'T2'!K28),MAX('T1'!M28,'T2'!K28),COUNTRY_INFO!F28*0.5),IF(COUNTRY_INFO!K28=3,IF(COUNTRY_INFO!F28>MAX('T1'!M28,'T2'!K28),MAX('T1'!M28,'T2'!K28),COUNTRY_INFO!F28),0)))","v":0},{"$f":"IF(AND(COUNTRY_INFO!K28>0,COUNTRY_INFO!K28<4),IF(Z28>0,IF(COUNTRY_INFO!K28=1, AD28/(COUNTRY_INFO!F28*0.33)*100, IF(COUNTRY_INFO!K28=2, AD28/(COUNTRY_INFO!F28*0.5)*100, IF(COUNTRY_INFO!K28=3, AD28/COUNTRY_INFO!F28*100))),\"-\"),0)","v":0},{"$f":"IF(COUNTRY_INFO!K28=2,IF(COUNTRY_INFO!G28*0.2>MAX('T1'!N28,'T2'!L28),MAX('T1'!N28,'T2'!L28),COUNTRY_INFO!G28*0.2),IF(COUNTRY_INFO!K28=3,IF(COUNTRY_INFO!G28>MAX('T1'!N28,'T2'!L28),MAX('T1'!N28,'T2'!L28),COUNTRY_INFO!G28),0))","v":0},{"$f":"IF(AND(COUNTRY_INFO!K28>0,COUNTRY_INFO!K28<4),IF(Z28>0,IF(COUNTRY_INFO!K28=1, 0, IF(COUNTRY_INFO!K28=2, AF28/(COUNTRY_INFO!G28*0.2)*100, IF(COUNTRY_INFO!K28=3, AF28/COUNTRY_INFO!G28*100))),\"-\"),0)","v":0},0,{"$f":"IF(AND(COUNTRY_INFO!K28>0,COUNTRY_INFO!K28<4), IF(AC28/Z28*100<>0, IF(AH28/Z28*100>100,100,AH28/Z28*100), \"-\"),0)","v":0},null,{"$f":"IF(AND(D28<>0, D28<>\"Inconnu\",D28<>\"Interrompu\",D28<>\"Non requis\"),D28/COUNTRY_INFO!D28, 0)","v":1},{"$f":"IF(AND(J28<>0,J28<>\"Inconnu\",J28<>\"Interrompu\",J28<>\"Non requis\"),J28/COUNTRY_INFO!D28, 0)","v":0},{"$f":"IF(AND(P28<>0,P28<>\"Inconnu\",P28<>\"Non requis\"),P28/(COUNTRY_INFO!E28+COUNTRY_INFO!F28), 0)","v":1},{"$f":"IF(AND(Z28<>0,Z28<>\"Inconnu\",Z28<>\"Non requis\"),IF(COUNTRY_INFO!K28=1,1,IF(COUNTRY_INFO!K28=2,0.5*COUNTRY_INFO!F28/(0.5*COUNTRY_INFO!F28+0.2*COUNTRY_INFO!G28),IF(COUNTRY_INFO!K28=3,COUNTRY_INFO!F28/(COUNTRY_INFO!F28+COUNTRY_INFO!G28)))),0)","v":0},{"$f":"IF(AND(Z28<>0,Z28<>\"Inconnu\",Z28<>\"Non requis\"),IF(COUNTRY_INFO!K28=1,0,IF(COUNTRY_INFO!K28=2,0.2*COUNTRY_INFO!G28/(0.5*COUNTRY_INFO!F28+0.2*COUNTRY_INFO!G28),IF(COUNTRY_INFO!K28=3,COUNTRY_INFO!G28/(COUNTRY_INFO!F28+COUNTRY_INFO!G28)))),0)","v":0},{"$f":"MAX(COUNTRY_INFO!D28*AK28*PROFILE!$G$7,COUNTRY_INFO!D28*AL28*PROFILE!$G$7)","v":67.820312481117085},{"$f":"MAX(COUNTRY_INFO!D28*AK28*PROFILE!$G$8,COUNTRY_INFO!D28*AL28*PROFILE!$G$8,COUNTRY_INFO!D28*AM28*PROFILE!$G$8)","v":203.62375711145671},{"$f":"MAX(COUNTRY_INFO!D28*AK28*PROFILE!$G$9,COUNTRY_INFO!D28*AL28*PROFILE!$G$9,COUNTRY_INFO!D28*AM28*PROFILE!$G$9,IF(AND(DISTRICT!Z28<>\"Inconnu\",Z28<>\"Non requis\"),COUNTRY_INFO!O28*DISTRICT!AN28,0))","v":392.24368180699764},{"$f":"MAX(COUNTRY_INFO!D28*AK28*PROFILE!$G$10,COUNTRY_INFO!D28*AL28*PROFILE!$G$10,IF(AND(DISTRICT!Z28<>\"Inconnu\",Z28<>\"Non requis\"),COUNTRY_INFO!O28*DISTRICT!AO28,0))","v":867.31224860042846},1531,"Y",{"$f":"MAX('MDA2'!J28,'T1'!L28,'T2'!J28,T3_R1!K28,T3_R2!K28)","v":0},{"$f":"MAX('MDA1'!K28,'MDA2'!K28,'MDA3'!I28,'MDA3'!L28,'T1'!M28,'T2'!K28,T3_R1!L28,T3_R2!L28)","v":566},{"$f":"MAX('MDA1'!L28,'MDA2'!L28,'MDA3'!J28,'MDA3'!M28,'T1'!N28,'T2'!L28,T3_R1!M28,T3_R2!M28)","v":550},1116,{"$f":"MAX('MDA2'!J28,T28)","v":0},{"$f":"MAX('MDA1'!K28,'MDA2'!K28,'MDA3'!I28,'MDA3'!L28,V28,AD28)","v":566},{"$f":"MAX('MDA1'!L28,'MDA2'!L28,'MDA3'!J28,'MDA3'!M28,AF28)","v":550},1116,72.893533638145001]
[{"$f":"IF(COUNTRY_INFO!A29=0,\" \",COUNTRY_INFO!A29)","v":"Guinea Bissau"},{"$f":"IF(COUNTRY_INFO!B29=0,\" \",COUNTRY_INFO!B29)","v":"Bijagos"},{"$f":"IF(COUNTRY_INFO!C29=0,\" \",COUNTRY_INFO!C29)","v":"Orango zinho"},{"$f":"COUNTRY_INFO!L29","v":865},389,465,{"$f":"MAX('MDA1'!M29,'MDA2'!M29)","v":854},{"$f":"IF(AND(COUNTRY_INFO!H29>0,COUNTRY_INFO!H29<4),IF(D29>MAX('MDA1'!M29,'MDA2'!M29),MAX('MDA1'!M29,'MDA2'!M29),D29),0)","v":854},{"$f":"IF(AND(COUNTRY_INFO!H29>0,COUNTRY_INFO!H29<4), IF(G29/D29*100<>0, IF(G29/D29*100>100,100,G29/D29*100), \"-\"),0)","v":98.728323699421964},{"$f":"COUNTRY_INFO!M29","v":"Inconnu"},null,null,{"$f":"MAX('MDA1'!M29,MAX('MDA3'!I29,'MDA3'!L29)+MAX('MDA3'!J29,'MDA3'!M29))","v":854},{"$f":"IF(AND(COUNTRY_INFO!I29>0,COUNTRY_INFO!I29<4),IF(J29>MAX('MDA1'!M29,MAX('MDA3'!I29,'MDA3'!L29)+MAX('MDA3'!J29,'MDA3'!M29)),MAX('MDA1'!M29,MAX('MDA3'!I29,'MDA3'!L29)+MAX('MDA3'!J29,'MDA3'!M29)),J29),0)","v":0},{"$f":"IF(AND(COUNTRY_INFO!I29>0,COUNTRY_INFO!I29<4), IF(M29/J29*100<>0, IF(M29/J29*100>100,100,M29/J29*100), \"-\"),0)","v":0},{"$f":"COUNTRY_INFO!N29","v":337},null,null,{"$f":"SUM(MAX('MDA2'!J29, 'T1'!L29, MAX(T3_R1!K29, T3_R2!K29)), MAX('MDA1'!K29, 'MDA2'!K29, 'T1'!M29, MAX(T3_R1!L29, T3_R2!L29)), MAX('MDA1'!L29, 'MDA2'!L29, 'T1'!N29, MAX(T3_R1!M29, T3_R2!M29)))","v":854},{"$f":"IF(AND(COUNTRY_INFO!J29>1,COUNTRY_INFO!J29<4),IF(COUNTRY_INFO!E29>MAX('MDA2'!J29,'T1'!L29,MAX(T3_R1!K29,T3_R2!K29)),MAX('MDA2'!J29,'T1'!L29,MAX(T3_R1!K29,T3_R2!K29)),COUNTRY_INFO!E29),0)","v":0},{"$f":"IF(AND(COUNTRY_INFO!J29>1,COUNTRY_INFO!J29<4), IF(T29/COUNTRY_INFO!E29*100<>0, IF(T29/COUNTRY_INFO!E29*100>100,100,T29/COUNTRY_INFO!E29*100), \"-\"),0)","v":"-"},{"$f":"IF(AND(COUNTRY_INFO!J29>1,COUNTRY_INFO!J29<4),IF(COUNTRY_INFO!F29>MAX('MDA1'!K29,'MDA2'!K29,'T1'!M29,MAX(T3_R1!L29,T3_R2!L29)),MAX('MDA1'!K29,'MDA2'!K29,'T1'!M29,MAX(T3_R1!L29,T3_R2!L29)),COUNTRY_INFO!F29),0)","v":222},{"$f":"IF(AND(COUNTRY_INFO!J29>1,COUNTRY_INFO!J29<4), IF(V29/COUNTRY_INFO!F29*100<>0, IF(V29/COUNTRY_INFO!F29*100>100,100,V29/COUNTRY_INFO!F29*100), \"-\"),0)","v":100},222,{"$f":"IF(AND(COUNTRY_INFO!J29>1,COUNTRY_INFO!J29<4), IF(S29/P29*100<>0, IF(X29/P29*100>100,100,X29/P29*100), \"-\"),0)","v":65.875370919881306},{"$f":"COUNTRY_INFO!O29","v":0},null,null,{"$f":"MAX('T1'!L29,'T2'!J29)+MAX('T1'!M29,'T2'!K29)+MAX('T1'!N29,'T2'!L29)","v":0},{"$f":"IF(COUNTRY_INFO!K29=1,IF(COUNTRY_INFO!F29*0.33>MAX('T1'!M29,'T2'!K29),MAX('T1'!M29,'T2'!K29),COUNTRY_INFO!F29*0.33),IF(COUNTRY_INFO!K29=2,IF(COUNTRY_INFO!F29*0.5>MAX('T1'!M29,'T2'!K29),MAX('T1'!M29,'T2'!K29),COUNTRY_INFO!F29*0.5),IF(COUNTRY_INFO!K29=3,IF(COUNTRY_INFO!F29>MAX('T1'!M29,'T2'!K29),MAX('T1'!M29,'T2'!K29),COUNTRY_INFO!F29),0)))","v":0},{"$f":"IF(AND(COUNTRY_INFO!K29>0,COUNTRY_INFO!K29<4),IF(Z29>0,IF(COUNTRY_INFO!K29=1, AD29/(COUNTRY_INFO!F29*0.33)*100, IF(COUNTRY_INFO!K29=2, AD29/(COUNTRY_INFO!F29*0.5)*100, IF(COUNTRY_INFO!K29=3, AD29/COUNTRY_INFO!F29*100))),\"-\"),0)","v":0},{"$f":"IF(COUNTRY_INFO!K29=2,IF(COUNTRY_INFO!G29*0.2>MAX('T1'!N29,'T2'!L29),MAX('T1'!N29,'T2'!L29),COUNTRY_INFO!G29*0.2),IF(COUNTRY_INFO!K29=3,IF(COUNTRY_INFO!G29>MAX('T1'!N29,'T2'!L29),MAX('T1'!N29,'T2'!L29),COUNTRY_INFO!G29),0))","v":0},{"$f":"IF(AND(COUNTRY_INFO!K29>0,COUNTRY_INFO!K29<4),IF(Z29>0,IF(COUNTRY_INFO!K29=1, 0, IF(COUNTRY_INFO!K29=2, AF29/(COUNTRY_INFO!G29*0.2)*100, IF(COUNTRY_INFO!K29=3, AF29/COUNTRY_INFO!G29*100))),\"-\"),0)","v":0},0,{"$f":"IF(AND(COUNTRY_INFO!K29>0,COUNTRY_INFO!K29<4), IF(AC29/Z29*100<>0, IF(AH29/Z29*100>100,100,AH29/Z29*100), \"-\"),0)","v":0},null,{"$f":"IF(AND(D29<>0, D29<>\"Inconnu\",D29<>\"Interrompu\",D29<>\"Non requis\"),D29/COUNTRY_INFO!D29, 0)","v":1},{"$f":"IF(AND(J29<>0,J29<>\"Inconnu\",J29<>\"Interrompu\",J29<>\"Non requis\"),J29/COUNTRY_INFO!D29, 0)","v":0},{"$f":"IF(AND(P29<>0,P29<>\"Inconnu\",P29<>\"Non requis\"),P29/(COUNTRY_INFO!E29+COUNTRY_INFO!F29), 0)","v":1},{"$f":"IF(AND(Z29<>0,Z29<>\"Inconnu\",Z29<>\"Non requis\"),IF(COUNTRY_INFO!K29=1,1,IF(COUNTRY_INFO!K29=2,0.5*COUNTRY_INFO!F29/(0.5*COUNTRY_INFO!F29+0.2*COUNTRY_INFO!G29),IF(COUNTRY_INFO!K29=3,COUNTRY_INFO!F29/(COUNTRY_INFO!F29+COUNTRY_INFO!G29)))),0)","v":0},{"$f":"IF(AND(Z29<>0,Z29<>\"Inconnu\",Z29<>\"Non requis\"),IF(COUNTRY_INFO!K29=1,0,IF(COUNTRY_INFO!K29=2,0.2*COUNTRY_INFO!G29/(0.5*COUNTRY_INFO!F29+0.2*COUNTRY_INFO!G29),IF(COUNTRY_INFO!K29=3,COUNTRY_INFO!G29/(COUNTRY_INFO!F29+COUNTRY_INFO!G29)))),0)","v":0},{"$f":"MAX(COUNTRY_INFO!D29*AK29*PROFILE!$G$7,COUNTRY_INFO!D29*AL29*PROFILE!$G$7)","v":38.317812081101422},{"$f":"MAX(COUNTRY_INFO!D29*AK29*PROFILE!$G$8,COUNTRY_INFO!D29*AL29*PROFILE!$G$8,COUNTRY_INFO!D29*AM29*PROFILE!$G$8)","v":115.04542776055523},{"$f":"MAX(COUNTRY_INFO!D29*AK29*PROFILE!$G$9,COUNTRY_INFO!D29*AL29*PROFILE!$G$9,COUNTRY_INFO!D29*AM29*PROFILE!$G$9,IF(AND(DISTRICT!Z29<>\"Inconnu\",Z29<>\"Non requis\"),COUNTRY_INFO!O29*DISTRICT!AN29,0))","v":221.61383720643565},{"$f":"MAX(COUNTRY_INFO!D29*AK29*PROFILE!$G$10,COUNTRY_INFO!D29*AL29*PROFILE!$G$10,IF(AND(DISTRICT!Z29<>\"Inconnu\",Z29<>\"Non requis\"),COUNTRY_INFO!O29*DISTRICT!AO29,0))","v":490.02292295190767},865,"Y",{"$f":"MAX('MDA2'!J29,'T1'!L29,'T2'!J29,T3_R1!K29,T3_R2!K29)","v":0},{"$f":"MAX('MDA1'!K29,'MDA2'!K29,'MDA3'!I29,'MDA3'!L29,'T1'!M29,'T2'!K29,T3_R1!L29,T3_R2!L29)","v":389},{"$f":"MAX('MDA1'!L29,'MDA2'!L29,'MDA3'!J29,'MDA3'!M29,'T1'!N29,'T2'!L29,T3_R1!M29,T3_R2!M29)","v":465},854,{"$f":"MAX('MDA2'!J29,T29)","v":0},{"$f":"MAX('MDA1'!K29,'MDA2'!K29,'MDA3'!I29,'MDA3'!L29,V29,AD29)","v":389},{"$f":"MAX('MDA1'!L29,'MDA2'!L29,'MDA3'!J29,'MDA3'!M29,AF29)","v":465},854,98.728323699421964]
[{"$f":"IF(COUNTRY_INFO!A30=0,\" \",COUNTRY_INFO!A30)","v":"Guinea Bissau"},{"$f":"IF(COUNTRY_INFO!B30=0,\" \",COUNTRY_INFO!B30)","v":"Bijagos"},{"$f":"IF(COUNTRY_INFO!C30=0,\" \",COUNTRY_INFO!C30)","v":"Soga"},{"$f":"COUNTRY_INFO!L30","v":1032},322,388,{"$f":"MAX('MDA1'!M30,'MDA2'!M30)","v":710},{"$f":"IF(AND(COUNTRY_INFO!H30>0,COUNTRY_INFO!H30<4),IF(D30>MAX('MDA1'!M30,'MDA2'!M30),MAX('MDA1'!M30,'MDA2'!M30),D30),0)","v":710},{"$f":"IF(AND(COUNTRY_INFO!H30>0,COUNTRY_INFO!H30<4), IF(G30/D30*100<>0, IF(G30/D30*100>100,100,G30/D30*100), \"-\"),0)","v":68.798449612403104},{"$f":"COUNTRY_INFO!M30","v":"Inconnu"},null,null,{"$f":"MAX('MDA1'!M30,MAX('MDA3'!I30,'MDA3'!L30)+MAX('MDA3'!J30,'MDA3'!M30))","v":710},{"$f":"IF(AND(COUNTRY_INFO!I30>0,COUNTRY_INFO!I30<4),IF(J30>MAX('MDA1'!M30,MAX('MDA3'!I30,'MDA3'!L30)+MAX('MDA3'!J30,'MDA3'!M30)),MAX('MDA1'!M30,MAX('MDA3'!I30,'MDA3'!L30)+MAX('MDA3'!J30,'MDA3'!M30)),J30),0)","v":0},{"$f":"IF(AND(COUNTRY_INFO!I30>0,COUNTRY_INFO!I30<4), IF(M30/J30*100<>0, IF(M30/J30*100>100,100,M30/J30*100), \"-\"),0)","v":0},{"$f":"COUNTRY_INFO!N30","v":401},null,null,{"$f":"SUM(MAX('MDA2'!J30, 'T1'!L30, MAX(T3_R1!K30, T3_R2!K30)), MAX('MDA1'!K30, 'MDA2'!K30, 'T1'!M30, MAX(T3_R1!L30, T3_R2!L30)), MAX('MDA1'!L30, 'MDA2'!L30, 'T1'!N30, MAX(T3_R1!M30, T3_R2!M30)))","v":710},{"$f":"IF(AND(COUNTRY_INFO!J30>1,COUNTRY_INFO!J30<4),IF(COUNTRY_INFO!E30>MAX('MDA2'!J30,'T1'!L30,MAX(T3_R1!K30,T3_R2!K30)),MAX('MDA2'!J30,'T1'!L30,MAX(T3_R1!K30,T3_R2!K30)),COUNTRY_INFO!E30),0)","v":0},{"$f":"IF(AND(COUNTRY_INFO!J30>1,COUNTRY_INFO!J30<4), IF(T30/COUNTRY_INFO!E30*100<>0, IF(T30/COUNTRY_INFO!E30*100>100,100,T30/COUNTRY_INFO!E30*100), \"-\"),0)","v":"-"},{"$f":"IF(AND(COUNTRY_INFO!J30>1,COUNTRY_INFO!J30<4),IF(COUNTRY_INFO!F30>MAX('MDA1'!K30,'MDA2'!K30,'T1'!M30,MAX(T3_R1!L30,T3_R2!L30)),MAX('MDA1'!K30,'MDA2'!K30,'T1'!M30,MAX(T3_R1!L30,T3_R2!L30)),COUNTRY_INFO!F30),0)","v":264},{"$f":"IF(AND(COUNTRY_INFO!J30>1,COUNTRY_INFO!J30<4), IF(V30/COUNTRY_INFO!F30*100<>0, IF(V30/COUNTRY_INFO!F30*100>100,100,V30/COUNTRY_INFO!F30*100), \"-\"),0)","v":100},264,{"$f":"IF(AND(COUNTRY_INFO!J30>1,COUNTRY_INFO!J30<4), IF(S30/P30*100<>0, IF(X30/P30*100>100,100,X30/P30*100), \"-\"),0)","v":65.835411471321692},{"$f":"COUNTRY_INFO!O30","v":0},null,null,{"$f":"MAX('T1'!L30,'T2'!J30)+MAX('T1'!M30,'T2'!K30)+MAX('T1'!N30,'T2'!L30)","v":0},{"$f":"IF(COUNTRY_INFO!K30=1,IF(COUNTRY_INFO!F30*0.33>MAX('T1'!M30,'T2'!K30),MAX('T1'!M30,'T2'!K30),COUNTRY_INFO!F30*0.33),IF(COUNTRY_INFO!K30=2,IF(COUNTRY_INFO!F30*0.5>MAX('T1'!M30,'T2'!K30),MAX('T1'!M30,'T2'!K30),COUNTRY_INFO!F30*0.5),IF(COUNTRY_INFO!K30=3,IF(COUNTRY_INFO!F30>MAX('T1'!M30,'T2'!K30),MAX('T1'!M30,'T2'!K30),COUNTRY_INFO!F30),0)))","v":0},{"$f":"IF(AND(COUNTRY_INFO!K30>0,COUNTRY_INFO!K30<4),IF(Z30>0,IF(COUNTRY_INFO!K30=1, AD30/(COUNTRY_INFO!F30*0.33)*100, IF(COUNTRY_INFO!K30=2, AD30/(COUNTRY_INFO!F30*0.5)*100, IF(COUNTRY_INFO!K30=3, AD30/COUNTRY_INFO!F30*100))),\"-\"),0)","v":0},{"$f":"IF(COUNTRY_INFO!K30=2,IF(COUNTRY_INFO!G30*0.2>MAX('T1'!N30,'T2'!L30),MAX('T1'!N30,'T2'!L30),COUNTRY_INFO!G30*0.2),IF(COUNTRY_INFO!K30=3,IF(COUNTRY_INFO!G30>MAX('T1'!N30,'T2'!L30),MAX('T1'!N30,'T2'!L30),COUNTRY_INFO!G30),0))","v":0},{"$f":"IF(AND(COUNTRY_INFO!K30>0,COUNTRY_INFO!K30<4),IF(Z30>0,IF(COUNTRY_INFO!K30=1, 0, IF(COUNTRY_INFO!K30=2, AF30/(COUNTRY_INFO!G30*0.2)*100, IF(COUNTRY_INFO!K30=3, AF30/COUNTRY_INFO!G30*100))),\"-\"),0)","v":0},0,{"$f":"IF(AND(COUNTRY_INFO!K30>0,COUNTRY_INFO!K30<4), IF(AC30/Z30*100<>0, IF(AH30/Z30*100>100,100,AH30/Z30*100), \"-\"),0)","v":0},null,{"$f":"IF(AND(D30<>0, D30<>\"Inconnu\",D30<>\"Interrompu\",D30<>\"Non requis\"),D30/COUNTRY_INFO!D30, 0)","v":1},{"$f":"IF(AND(J30<>0,J30<>\"Inconnu\",J30<>\"Interrompu\",J30<>\"Non requis\"),J30/COUNTRY_INFO!D30, 0)","v":0},{"$f":"IF(AND(P30<>0,P30<>\"Inconnu\",P30<>\"Non requis\"),P30/(COUNTRY_INFO!E30+COUNTRY_INFO!F30), 0)","v":1},{"$f":"IF(AND(Z30<>0,Z30<>\"Inconnu\",Z30<>\"Non requis\"),IF(COUNTRY_INFO!K30=1,1,IF(COUNTRY_INFO!K30=2,0.5*COUNTRY_INFO!F30/(0.5*COUNTRY_INFO!F30+0.2*COUNTRY_INFO!G30),IF(COUNTRY_INFO!K30=3,COUNTRY_INFO!F30/(COUNTRY_INFO!F30+COUNTRY_INFO!G30)))),0)","v":0},{"$f":"IF(AND(Z30<>0,Z30<>\"Inconnu\",Z30<>\"Non requis\"),IF(COUNTRY_INFO!K30=1,0,IF(COUNTRY_INFO!K30=2,0.2*COUNTRY_INFO!G30/(0.5*COUNTRY_INFO!F30+0.2*COUNTRY_INFO!G30),IF(COUNTRY_INFO!K30=3,COUNTRY_INFO!G30/(COUNTRY_INFO!F30+COUNTRY_INFO!G30)))),0)","v":0},{"$f":"MAX(COUNTRY_INFO!D30*AK30*PROFILE!$G$7,COUNTRY_INFO!D30*AL30*PROFILE!$G$7)","v":45.715586205429673},{"$f":"MAX(COUNTRY_INFO!D30*AK30*PROFILE!$G$8,COUNTRY_INFO!D30*AL30*PROFILE!$G$8,COUNTRY_INFO!D30*AM30*PROFILE!$G$8)","v":137.25651034554102},{"$f":"MAX(COUNTRY_INFO!D30*AK30*PROFILE!$G$9,COUNTRY_INFO!D30*AL30*PROFILE!$G$9,COUNTRY_INFO!D30*AM30*PROFILE!$G$9,IF(AND(DISTRICT!Z30<>\"Inconnu\",Z30<>\"Non requis\"),COUNTRY_INFO!O30*DISTRICT!AN30,0))","v":264.39939884051051},{"$f":"MAX(COUNTRY_INFO!D30*AK30*PROFILE!$G$10,COUNTRY_INFO!D30*AL30*PROFILE!$G$10,IF(AND(DISTRICT!Z30<>\"Inconnu\",Z30<>\"Non requis\"),COUNTRY_INFO!O30*DISTRICT!AO30,0))","v":584.62850460851871},1032,"Y",{"$f":"MAX('MDA2'!J30,'T1'!L30,'T2'!J30,T3_R1!K30,T3_R2!K30)","v":0},{"$f":"MAX('MDA1'!K30,'MDA2'!K30,'MDA3'!I30,'MDA3'!L30,'T1'!M30,'T2'!K30,T3_R1!L30,T3_R2!L30)","v":322},{"$f":"MAX('MDA1'!L30,'MDA2'!L30,'MDA3'!J30,'MDA3'!M30,'T1'!N30,'T2'!L30,T3_R1!M30,T3_R2!M30)","v":388},710,{"$f":"MAX('MDA2'!J30,T30)","v":0},{"$f":"MAX('MDA1'!K30,'MDA2'!K30,'MDA3'!I30,'MDA3'!L30,V30,AD30)","v":322},{"$f":"MAX('MDA1'!L30,'MDA2'!L30,'MDA3'!J30,'MDA3'!M30,AF30)","v":388},710,68.798449612403104]
[{"$f":"IF(COUNTRY_INFO!A31=0,\" \",COUNTRY_INFO!A31)","v":"Guinea Bissau"},{"$f":"IF(COUNTRY_INFO!B31=0,\" \",COUNTRY_INFO!B31)","v":"Bijagos"},{"$f":"IF(COUNTRY_INFO!C31=0,\" \",COUNTRY_INFO!C31)","v":"Unhocomo"},{"$f":"COUNTRY_INFO!L31","v":1038},311,344,{"$f":"MAX('MDA1'!M31,'MDA2'!M31)","v":655},{"$f":"IF(AND(COUNTRY_INFO!H31>0,COUNTRY_INFO!H31<4),IF(D31>MAX('MDA1'!M31,'MDA2'!M31),MAX('MDA1'!M31,'MDA2'!M31),D31),0)","v":655},{"$f":"IF(AND(COUNTRY_INFO!H31>0,COUNTRY_INFO!H31<4), IF(G31/D31*100<>0, IF(G31/D31*100>100,100,G31/D31*100), \"-\"),0)","v":63.102119460500958},{"$f":"COUNTRY_INFO!M31","v":"Inconnu"},null,null,{"$f":"MAX('MDA1'!M31,MAX('MDA3'!I31,'MDA3'!L31)+MAX('MDA3'!J31,'MDA3'!M31))","v":655},{"$f":"IF(AND(COUNTRY_INFO!I31>0,COUNTRY_INFO!I31<4),IF(J31>MAX('MDA1'!M31,MAX('MDA3'!I31,'MDA3'!L31)+MAX('MDA3'!J31,'MDA3'!M31)),MAX('MDA1'!M31,MAX('MDA3'!I31,'MDA3'!L31)+MAX('MDA3'!J31,'MDA3'!M31)),J31),0)","v":0},{"$f":"IF(AND(COUNTRY_INFO!I31>0,COUNTRY_INFO!I31<4), IF(M31/J31*100<>0, IF(M31/J31*100>100,100,M31/J31*100), \"-\"),0)","v":0},{"$f":"COUNTRY_INFO!N31","v":404},null,null,{"$f":"SUM(MAX('MDA2'!J31, 'T1'!L31, MAX(T3_R1!K31, T3_R2!K31)), MAX('MDA1'!K31, 'MDA2'!K31, 'T1'!M31, MAX(T3_R1!L31, T3_R2!L31)), MAX('MDA1'!L31, 'MDA2'!L31, 'T1'!N31, MAX(T3_R1!M31, T3_R2!M31)))","v":655},{"$f":"IF(AND(COUNTRY_INFO!J31>1,COUNTRY_INFO!J31<4),IF(COUNTRY_INFO!E31>MAX('MDA2'!J31,'T1'!L31,MAX(T3_R1!K31,T3_R2!K31)),MAX('MDA2'!J31,'T1'!L31,MAX(T3_R1!K31,T3_R2!K31)),COUNTRY_INFO!E31),0)","v":0},{"$f":"IF(AND(COUNTRY_INFO!J31>1,COUNTRY_INFO!J31<4), IF(T31/COUNTRY_INFO!E31*100<>0, IF(T31/COUNTRY_INFO!E31*100>100,100,T31/COUNTRY_INFO!E31*100), \"-\"),0)","v":"-"},{"$f":"IF(AND(COUNTRY_INFO!J31>1,COUNTRY_INFO!J31<4),IF(COUNTRY_INFO!F31>MAX('MDA1'!K31,'MDA2'!K31,'T1'!M31,MAX(T3_R1!L31,T3_R2!L31)),MAX('MDA1'!K31,'MDA2'!K31,'T1'!M31,MAX(T3_R1!L31,T3_R2!L31)),COUNTRY_INFO!F31),0)","v":266},{"$f":"IF(AND(COUNTRY_INFO!J31>1,COUNTRY_INFO!J31<4), IF(V31/COUNTRY_INFO!F31*100<>0, IF(V31/COUNTRY_INFO!F31*100>100,100,V31/COUNTRY_INFO!F31*100), \"-\"),0)","v":100},266,{"$f":"IF(AND(COUNTRY_INFO!J31>1,COUNTRY_INFO!J31<4), IF(S31/P31*100<>0, IF(X31/P31*100>100,100,X31/P31*100), \"-\"),0)","v":65.841584158415841},{"$f":"COUNTRY_INFO!O31","v":0},null,null,{"$f":"MAX('T1'!L31,'T2'!J31)+MAX('T1'!M31,'T2'!K31)+MAX('T1'!N31,'T2'!L31)","v":0},{"$f":"IF(COUNTRY_INFO!K31=1,IF(COUNTRY_INFO!F31*0.33>MAX('T1'!M31,'T2'!K31),MAX('T1'!M31,'T2'!K31),COUNTRY_INFO!F31*0.33),IF(COUNTRY_INFO!K31=2,IF(COUNTRY_INFO!F31*0.5>MAX('T1'!M31,'T2'!K31),MAX('T1'!M31,'T2'!K31),COUNTRY_INFO!F31*0.5),IF(COUNTRY_INFO!K31=3,IF(COUNTRY_INFO!F31>MAX('T1'!M31,'T2'!K31),MAX('T1'!M31,'T2'!K31),COUNTRY_INFO!F31),0)))","v":0},{"$f":"IF(AND(COUNTRY_INFO!K31>0,COUNTRY_INFO!K31<4),IF(Z31>0,IF(COUNTRY_INFO!K31=1, AD31/(COUNTRY_INFO!F31*0.33)*100, IF(COUNTRY_INFO!K31=2, AD31/(COUNTRY_INFO!F31*0.5)*100, IF(COUNTRY_INFO!K31=3, AD31/COUNTRY_INFO!F31*100))),\"-\"),0)","v":0},{"$f":"IF(COUNTRY_INFO!K31=2,IF(COUNTRY_INFO!G31*0.2>MAX('T1'!N31,'T2'!L31),MAX('T1'!N31,'T2'!L31),COUNTRY_INFO!G31*0.2),IF(COUNTRY_INFO!K31=3,IF(COUNTRY_INFO!G31>MAX('T1'!N31,'T2'!L31),MAX('T1'!N31,'T2'!L31),COUNTRY_INFO!G31),0))","v":0},{"$f":"IF(AND(COUNTRY_INFO!K31>0,COUNTRY_INFO!K31<4),IF(Z31>0,IF(COUNTRY_INFO!K31=1, 0, IF(COUNTRY_INFO!K31=2, AF31/(COUNTRY_INFO!G31*0.2)*100, IF(COUNTRY_INFO!K31=3, AF31/COUNTRY_INFO!G31*100))),\"-\"),0)","v":0},0,{"$f":"IF(AND(COUNTRY_INFO!K31>0,COUNTRY_INFO!K31<4), IF(AC31/Z31*100<>0, IF(AH31/Z31*100>100,100,AH31/Z31*100), \"-\"),0)","v":0},null,{"$f":"IF(AND(D31<>0, D31<>\"Inconnu\",D31<>\"Interrompu\",D31<>\"Non requis\"),D31/COUNTRY_INFO!D31, 0)","v":1},{"$f":"IF(AND(J31<>0,J31<>\"Inconnu\",J31<>\"Interrompu\",J31<>\"Non requis\"),J31/COUNTRY_INFO!D31, 0)","v":0},{"$f":"IF(AND(P31<>0,P31<>\"Inconnu\",P31<>\"Non requis\"),P31/(COUNTRY_INFO!E31+COUNTRY_INFO!F31), 0)","v":1},{"$f":"IF(AND(Z31<>0,Z31<>\"Inconnu\",Z31<>\"Non requis\"),IF(COUNTRY_INFO!K31=1,1,IF(COUNTRY_INFO!K31=2,0.5*COUNTRY_INFO!F31/(0.5*COUNTRY_INFO!F31+0.2*COUNTRY_INFO!G31),IF(COUNTRY_INFO!K31=3,COUNTRY_INFO!F31/(COUNTRY_INFO!F31+COUNTRY_INFO!G31)))),0)","v":0},{"$f":"IF(AND(Z31<>0,Z31<>\"Inconnu\",Z31<>\"Non requis\"),IF(COUNTRY_INFO!K31=1,0,IF(COUNTRY_INFO!K31=2,0.2*COUNTRY_INFO!G31/(0.5*COUNTRY_INFO!F31+0.2*COUNTRY_INFO!G31),IF(COUNTRY_INFO!K31=3,COUNTRY_INFO!G31/(COUNTRY_INFO!F31+COUNTRY_INFO!G31)))),0)","v":0},{"$f":"MAX(COUNTRY_INFO!D31*AK31*PROFILE!$G$7,COUNTRY_INFO!D31*AL31*PROFILE!$G$7)","v":45.98137449732171},{"$f":"MAX(COUNTRY_INFO!D31*AK31*PROFILE!$G$8,COUNTRY_INFO!D31*AL31*PROFILE!$G$8,COUNTRY_INFO!D31*AM31*PROFILE!$G$8)","v":138.05451331266627},{"$f":"MAX(COUNTRY_INFO!D31*AK31*PROFILE!$G$9,COUNTRY_INFO!D31*AL31*PROFILE!$G$9,COUNTRY_INFO!D31*AM31*PROFILE!$G$9,IF(AND(DISTRICT!Z31<>\"Inconnu\",Z31<>\"Non requis\"),COUNTRY_INFO!O31*DISTRICT!AN31,0))","v":265.93660464772279},{"$f":"MAX(COUNTRY_INFO!D31*AK31*PROFILE!$G$10,COUNTRY_INFO!D31*AL31*PROFILE!$G$10,IF(AND(DISTRICT!Z31<>\"Inconnu\",Z31<>\"Non requis\"),COUNTRY_INFO!O31*DISTRICT!AO31,0))","v":588.02750754228919},1038,"Y",{"$f":"MAX('MDA2'!J31,'T1'!L31,'T2'!J31,T3_R1!K31,T3_R2!K31)","v":0},{"$f":"MAX('MDA1'!K31,'MDA2'!K31,'MDA3'!I31,'MDA3'!L31,'T1'!M31,'T2'!K31,T3_R1!L31,T3_R2!L31)","v":311},{"$f":"MAX('MDA1'!L31,'MDA2'!L31,'MDA3'!J31,'MDA3'!M31,'T1'!N31,'T2'!L31,T3_R1!M31,T3_R2!M31)","v":344},655,{"$f":"MAX('MDA2'!J31,T31)","v":0},{"$f":"MAX('MDA1'!K31,'MDA2'!K31,'MDA3'!I31,'MDA3'!L31,V31,AD31)","v":311},{"$f":"MAX('MDA1'!L31,'MDA2'!L31,'MDA3'!J31,'MDA3'!M31,AF31)","v":344},655,63.102119460500958]
[{"$f":"IF(COUNTRY_INFO!A32=0,\" \",COUNTRY_INFO!A32)","v":"Guinea Bissau"},{"$f":"IF(COUNTRY_INFO!B32=0,\" \",COUNTRY_INFO!B32)","v":"Bijagos"},{"$f":"IF(COUNTRY_INFO!C32=0,\" \",COUNTRY_INFO!C32)","v":"Uno"},{"$f":"COUNTRY_INFO!L32","v":4074},1734,1732,{"$f":"MAX('MDA1'!M32,'MDA2'!M32)","v":3466},{"$f":"IF(AND(COUNTRY_INFO!H32>0,COUNTRY_INFO!H32<4),IF(D32>MAX('MDA1'!M32,'MDA2'!M32),MAX('MDA1'!M32,'MDA2'!M32),D32),0)","v":3466},{"$f":"IF(AND(COUNTRY_INFO!H32>0,COUNTRY_INFO!H32<4), IF(G32/D32*100<>0, IF(G32/D32*100>100,100,G32/D32*100), \"-\"),0)","v":85.076092292587134},{"$f":"COUNTRY_INFO!M32","v":"Inconnu"},null,null,{"$f":"MAX('MDA1'!M32,MAX('MDA3'!I32,'MDA3'!L32)+MAX('MDA3'!J32,'MDA3'!M32))","v":3466},{"$f":"IF(AND(COUNTRY_INFO!I32>0,COUNTRY_INFO!I32<4),IF(J32>MAX('MDA1'!M32,MAX('MDA3'!I32,'MDA3'!L32)+MAX('MDA3'!J32,'MDA3'!M32)),MAX('MDA1'!M32,MAX('MDA3'!I32,'MDA3'!L32)+MAX('MDA3'!J32,'MDA3'!M32)),J32),0)","v":0},{"$f":"IF(AND(COUNTRY_INFO!I32>0,COUNTRY_INFO!I32<4), IF(M32/J32*100<>0, IF(M32/J32*100>100,100,M32/J32*100), \"-\"),0)","v":0},{"$f":"COUNTRY_INFO!N32","v":1586},null,null,{"$f":"SUM(MAX('MDA2'!J32, 'T1'!L32, MAX(T3_R1!K32, T3_R2!K32)), MAX('MDA1'!K32, 'MDA2'!K32, 'T1'!M32, MAX(T3_R1!L32, T3_R2!L32)), MAX('MDA1'!L32, 'MDA2'!L32, 'T1'!N32, MAX(T3_R1!M32, T3_R2!M32)))","v":3466},{"$f":"IF(AND(COUNTRY_INFO!J32>1,COUNTRY_INFO!J32<4),IF(COUNTRY_INFO!E32>MAX('MDA2'!J32,'T1'!L32,MAX(T3_R1!K32,T3_R2!K32)),MAX('MDA2'!J32,'T1'!L32,MAX(T3_R1!K32,T3_R2!K32)),COUNTRY_INFO!E32),0)","v":0},{"$f":"IF(AND(COUNTRY_INFO!J32>1,COUNTRY_INFO!J32<4), IF(T32/COUNTRY_INFO!E32*100<>0, IF(T32/COUNTRY_INFO!E32*100>100,100,T32/COUNTRY_INFO!E32*100), \"-\"),0)","v":"-"},{"$f":"IF(AND(COUNTRY_INFO!J32>1,COUNTRY_INFO!J32<4),IF(COUNTRY_INFO!F32>MAX('MDA1'!K32,'MDA2'!K32,'T1'!M32,MAX(T3_R1!L32,T3_R2!L32)),MAX('MDA1'!K32,'MDA2'!K32,'T1'!M32,MAX(T3_R1!L32,T3_R2!L32)),COUNTRY_INFO!F32),0)","v":1044},{"$f":"IF(AND(COUNTRY_INFO!J32>1,COUNTRY_INFO!J32<4), IF(V32/COUNTRY_INFO!F32*100<>0, IF(V32/COUNTRY_INFO!F32*100>100,100,V32/COUNTRY_INFO!F32*100), \"-\"),0)","v":100},1044,{"$f":"IF(AND(COUNTRY_INFO!J32>1,COUNTRY_INFO!J32<4), IF(S32/P32*100<>0, IF(X32/P32*100>100,100,X32/P32*100), \"-\"),0)","v":65.825977301387141},{"$f":"COUNTRY_INFO!O32","v":0},null,null,{"$f":"MAX('T1'!L32,'T2'!J32)+MAX('T1'!M32,'T2'!K32)+MAX('T1'!N32,'T2'!L32)","v":0},{"$f":"IF(COUNTRY_INFO!K32=1,IF(COUNTRY_INFO!F32*0.33>MAX('T1'!M32,'T2'!K32),MAX('T1'!M32,'T2'!K32),COUNTRY_INFO!F32*0.33),IF(COUNTRY_INFO!K32=2,IF(COUNTRY_INFO!F32*0.5>MAX('T1'!M32,'T2'!K32),MAX('T1'!M32,'T2'!K32),COUNTRY_INFO!F32*0.5),IF(COUNTRY_INFO!K32=3,IF(COUNTRY_INFO!F32>MAX('T1'!M32,'T2'!K32),MAX('T1'!M32,'T2'!K32),COUNTRY_INFO!F32),0)))","v":0},{"$f":"IF(AND(COUNTRY_INFO!K32>0,COUNTRY_INFO!K32<4),IF(Z32>0,IF(COUNTRY_INFO!K32=1, AD32/(COUNTRY_INFO!F32*0.33)*100, IF(COUNTRY_INFO!K32=2, AD32/(COUNTRY_INFO!F32*0.5)*100, IF(COUNTRY_INFO!K32=3, AD32/COUNTRY_INFO!F32*100))),\"-\"),0)","v":0},{"$f":"IF(COUNTRY_INFO!K32=2,IF(COUNTRY_INFO!G32*0.2>MAX('T1'!N32,'T2'!L32),MAX('T1'!N32,'T2'!L32),COUNTRY_INFO!G32*0.2),IF(COUNTRY_INFO!K32=3,IF(COUNTRY_INFO!G32>MAX('T1'!N32,'T2'!L32),MAX('T1'!N32,'T2'!L32),COUNTRY_INFO!G32),0))","v":0},{"$f":"IF(AND(COUNTRY_INFO!K32>0,COUNTRY_INFO!K32<4),IF(Z32>0,IF(COUNTRY_INFO!K32=1, 0, IF(COUNTRY_INFO!K32=2, AF32/(COUNTRY_INFO!G32*0.2)*100, IF(COUNTRY_INFO!K32=3, AF32/COUNTRY_INFO!G32*100))),\"-\"),0)","v":0},0,{"$f":"IF(AND(COUNTRY_INFO!K32>0,COUNTRY_INFO!K32<4), IF(AC32/Z32*100<>0, IF(AH32/Z32*100>100,100,AH32/Z32*100), \"-\"),0)","v":0},null,{"$f":"IF(AND(D32<>0, D32<>\"Inconnu\",D32<>\"Interrompu\",D32<>\"Non requis\"),D32/COUNTRY_INFO!D32, 0)","v":1},{"$f":"IF(AND(J32<>0,J32<>\"Inconnu\",J32<>\"Interrompu\",J32<>\"Non requis\"),J32/COUNTRY_INFO!D32, 0)","v":0},{"$f":"IF(AND(P32<>0,P32<>\"Inconnu\",P32<>\"Non requis\"),P32/(COUNTRY_INFO!E32+COUNTRY_INFO!F32), 0)","v":1},{"$f":"IF(AND(Z32<>0,Z32<>\"Inconnu\",Z32<>\"Non requis\"),IF(COUNTRY_INFO!K32=1,1,IF(COUNTRY_INFO!K32=2,0.5*COUNTRY_INFO!F32/(0.5*COUNTRY_INFO!F32+0.2*COUNTRY_INFO!G32),IF(COUNTRY_INFO!K32=3,COUNTRY_INFO!F32/(COUNTRY_INFO!F32+COUNTRY_INFO!G32)))),0)","v":0},{"$f":"IF(AND(Z32<>0,Z32<>\"Inconnu\",Z32<>\"Non requis\"),IF(COUNTRY_INFO!K32=1,0,IF(COUNTRY_INFO!K32=2,0.2*COUNTRY_INFO!G32/(0.5*COUNTRY_INFO!F32+0.2*COUNTRY_INFO!G32),IF(COUNTRY_INFO!K32=3,COUNTRY_INFO!G32/(COUNTRY_INFO!F32+COUNTRY_INFO!G32)))),0)","v":0},{"$f":"MAX(COUNTRY_INFO!D32*AK32*PROFILE!$G$7,COUNTRY_INFO!D32*AL32*PROFILE!$G$7)","v":180.47025019469041},{"$f":"MAX(COUNTRY_INFO!D32*AK32*PROFILE!$G$8,COUNTRY_INFO!D32*AL32*PROFILE!$G$8,COUNTRY_INFO!D32*AM32*PROFILE!$G$8)","v":541.84401467803696},{"$f":"MAX(COUNTRY_INFO!D32*AK32*PROFILE!$G$9,COUNTRY_INFO!D32*AL32*PROFILE!$G$9,COUNTRY_INFO!D32*AM32*PROFILE!$G$9,IF(AND(DISTRICT!Z32<>\"Inconnu\",Z32<>\"Non requis\"),COUNTRY_INFO!O32*DISTRICT!AN32,0))","v":1043.7627430971315},{"$f":"MAX(COUNTRY_INFO!D32*AK32*PROFILE!$G$10,COUNTRY_INFO!D32*AL32*PROFILE!$G$10,IF(AND(DISTRICT!Z32<>\"Inconnu\",Z32<>\"Non requis\"),COUNTRY_INFO!O32*DISTRICT!AO32,0))","v":2307.9229920301409},4074,"Y",{"$f":"MAX('MDA2'!J32,'T1'!L32,'T2'!J32,T3_R1!K32,T3_R2!K32)","v":0},{"$f":"MAX('MDA1'!K32,'MDA2'!K32,'MDA3'!I32,'MDA3'!L32,'T1'!M32,'T2'!K32,T3_R1!L32,T3_R2!L32)","v":1734},{"$f":"MAX('MDA1'!L32,'MDA2'!L32,'MDA3'!J32,'MDA3'!M32,'T1'!N32,'T2'!L32,T3_R1!M32,T3_R2!M32)","v":1732},3466,{"$f":"MAX('MDA2'!J32,T32)","v":0},{"$f":"MAX('MDA1'!K32,'MDA2'!K32,'MDA3'!I32,'MDA3'!L32,V32,AD32)","v":1734},{"$f":"MAX('MDA1'!L32,'MDA2'!L32,'MDA3'!J32,'MDA3'!M32,AF32)","v":1732},3466,85.076092292587134]
[{"$f":"IF(COUNTRY_INFO!A33=0,\" \",COUNTRY_INFO!A33)","v":"Guinea Bissau"},{"$f":"IF(COUNTRY_INFO!B33=0,\" \",COUNTRY_INFO!B33)","v":"Bijagos"},{"$f":"IF(COUNTRY_INFO!C33=0,\" \",COUNTRY_INFO!C33)","v":"Uracane"},{"$f":"COUNTRY_INFO!L33","v":1892},655,756,{"$f":"MAX('MDA1'!M33,'MDA2'!M33)","v":1411},{"$f":"IF(AND(COUNTRY_INFO!H33>0,COUNTRY_INFO!H33<4),IF(D33>MAX('MDA1'!M33,'MDA2'!M33),MAX('MDA1'!M33,'MDA2'!M33),D33),0)","v":1411},{"$f":"IF(AND(COUNTRY_INFO!H33>0,COUNTRY_INFO!H33<4), IF(G33/D33*100<>0, IF(G33/D33*100>100,100,G33/D33*100), \"-\"),0)","v":74.577167019027485},{"$f":"COUNTRY_INFO!M33","v":"Inconnu"},null,null,{"$f":"MAX('MDA1'!M33,MAX('MDA3'!I33,'MDA3'!L33)+MAX('MDA3'!J33,'MDA3'!M33))","v":1411},{"$f":"IF(AND(COUNTRY_INFO!I33>0,COUNTRY_INFO!I33<4),IF(J33>MAX('MDA1'!M33,MAX('MDA3'!I33,'MDA3'!L33)+MAX('MDA3'!J33,'MDA3'!M33)),MAX('MDA1'!M33,MAX('MDA3'!I33,'MDA3'!L33)+MAX('MDA3'!J33,'MDA3'!M33)),J33),0)","v":0},{"$f":"IF(AND(COUNTRY_INFO!I33>0,COUNTRY_INFO!I33<4), IF(M33/J33*100<>0, IF(M33/J33*100>100,100,M33/J33*100), \"-\"),0)","v":0},{"$f":"COUNTRY_INFO!N33","v":737},null,null,{"$f":"SUM(MAX('MDA2'!J33, 'T1'!L33, MAX(T3_R1!K33, T3_R2!K33)), MAX('MDA1'!K33, 'MDA2'!K33, 'T1'!M33, MAX(T3_R1!L33, T3_R2!L33)), MAX('MDA1'!L33, 'MDA2'!L33, 'T1'!N33, MAX(T3_R1!M33, T3_R2!M33)))","v":1411},{"$f":"IF(AND(COUNTRY_INFO!J33>1,COUNTRY_INFO!J33<4),IF(COUNTRY_INFO!E33>MAX('MDA2'!J33,'T1'!L33,MAX(T3_R1!K33,T3_R2!K33)),MAX('MDA2'!J33,'T1'!L33,MAX(T3_R1!K33,T3_R2!K33)),COUNTRY_INFO!E33),0)","v":0},{"$f":"IF(AND(COUNTRY_INFO!J33>1,COUNTRY_INFO!J33<4), IF(T33/COUNTRY_INFO!E33*100<>0, IF(T33/COUNTRY_INFO!E33*100>100,100,T33/COUNTRY_INFO!E33*100), \"-\"),0)","v":"-"},{"$f":"IF(AND(COUNTRY_INFO!J33>1,COUNTRY_INFO!J33<4),IF(COUNTRY_INFO!F33>MAX('MDA1'!K33,'MDA2'!K33,'T1'!M33,MAX(T3_R1!L33,T3_R2!L33)),MAX('MDA1'!K33,'MDA2'!K33,'T1'!M33,MAX(T3_R1!L33,T3_R2!L33)),COUNTRY_INFO!F33),0)","v":485},{"$f":"IF(AND(COUNTRY_INFO!J33>1,COUNTRY_INFO!J33<4), IF(V33/COUNTRY_INFO!F33*100<>0, IF(V33/COUNTRY_INFO!F33*100>100,100,V33/COUNTRY_INFO!F33*100), \"-\"),0)","v":100},485,{"$f":"IF(AND(COUNTRY_INFO!J33>1,COUNTRY_INFO!J33<4), IF(S33/P33*100<>0, IF(X33/P33*100>100,100,X33/P33*100), \"-\"),0)","v":65.807327001356853},{"$f":"COUNTRY_INFO!O33","v":0},null,null,{"$f":"MAX('T1'!L33,'T2'!J33)+MAX('T1'!M33,'T2'!K33)+MAX('T1'!N33,'T2'!L33)","v":0},{"$f":"IF(COUNTRY_INFO!K33=1,IF(COUNTRY_INFO!F33*0.33>MAX('T1'!M33,'T2'!K33),MAX('T1'!M33,'T2'!K33),COUNTRY_INFO!F33*0.33),IF(COUNTRY_INFO!K33=2,IF(COUNTRY_INFO!F33*0.5>MAX('T1'!M33,'T2'!K33),MAX('T1'!M33,'T2'!K33),COUNTRY_INFO!F33*0.5),IF(COUNTRY_INFO!K33=3,IF(COUNTRY_INFO!F33>MAX('T1'!M33,'T2'!K33),MAX('T1'!M33,'T2'!K33),COUNTRY_INFO!F33),0)))","v":0},{"$f":"IF(AND(COUNTRY_INFO!K33>0,COUNTRY_INFO!K33<4),IF(Z33>0,IF(COUNTRY_INFO!K33=1, AD33/(COUNTRY_INFO!F33*0.33)*100, IF(COUNTRY_INFO!K33=2, AD33/(COUNTRY_INFO!F33*0.5)*100, IF(COUNTRY_INFO!K33=3, AD33/COUNTRY_INFO!F33*100))),\"-\"),0)","v":0},{"$f":"IF(COUNTRY_INFO!K33=2,IF(COUNTRY_INFO!G33*0.2>MAX('T1'!N33,'T2'!L33),MAX('T1'!N33,'T2'!L33),COUNTRY_INFO!G33*0.2),IF(COUNTRY_INFO!K33=3,IF(COUNTRY_INFO!G33>MAX('T1'!N33,'T2'!L33),MAX('T1'!N33,'T2'!L33),COUNTRY_INFO!G33),0))","v":0},{"$f":"IF(AND(COUNTRY_INFO!K33>0,COUNTRY_INFO!K33<4),IF(Z33>0,IF(COUNTRY_INFO!K33=1, 0, IF(COUNTRY_INFO!K33=2, AF33/(COUNTRY_INFO!G33*0.2)*100, IF(COUNTRY_INFO!K33=3, AF33/COUNTRY_INFO!G33*100))),\"-\"),0)","v":0},0,{"$f":"IF(AND(COUNTRY_INFO!K33>0,COUNTRY_INFO!K33<4), IF(AC33/Z33*100<>0, IF(AH33/Z33*100>100,100,AH33/Z33*100), \"-\"),0)","v":0},null,{"$f":"IF(AND(D33<>0, D33<>\"Inconnu\",D33<>\"Interrompu\",D33<>\"Non requis\"),D33/COUNTRY_INFO!D33, 0)","v":1},{"$f":"IF(AND(J33<>0,J33<>\"Inconnu\",J33<>\"Interrompu\",J33<>\"Non requis\"),J33/COUNTRY_INFO!D33, 0)","v":0},{"$f":"IF(AND(P33<>0,P33<>\"Inconnu\",P33<>\"Non requis\"),P33/(COUNTRY_INFO!E33+COUNTRY_INFO!F33), 0)","v":1},{"$f":"IF(AND(Z33<>0,Z33<>\"Inconnu\",Z33<>\"Non requis\"),IF(COUNTRY_INFO!K33=1,1,IF(COUNTRY_INFO!K33=2,0.5*COUNTRY_INFO!F33/(0.5*COUNTRY_INFO!F33+0.2*COUNTRY_INFO!G33),IF(COUNTRY_INFO!K33=3,COUNTRY_INFO!F33/(COUNTRY_INFO!F33+COUNTRY_INFO!G33)))),0)","v":0},{"$f":"IF(AND(Z33<>0,Z33<>\"Inconnu\",Z33<>\"Non requis\"),IF(COUNTRY_INFO!K33=1,0,IF(COUNTRY_INFO!K33=2,0.2*COUNTRY_INFO!G33/(0.5*COUNTRY_INFO!F33+0.2*COUNTRY_INFO!G33),IF(COUNTRY_INFO!K33=3,COUNTRY_INFO!G33/(COUNTRY_INFO!F33+COUNTRY_INFO!G33)))),0)","v":0},{"$f":"MAX(COUNTRY_INFO!D33*AK33*PROFILE!$G$7,COUNTRY_INFO!D33*AL33*PROFILE!$G$7)","v":83.81190804328773},{"$f":"MAX(COUNTRY_INFO!D33*AK33*PROFILE!$G$8,COUNTRY_INFO!D33*AL33*PROFILE!$G$8,COUNTRY_INFO!D33*AM33*PROFILE!$G$8)","v":251.6369356334919},{"$f":"MAX(COUNTRY_INFO!D33*AK33*PROFILE!$G$9,COUNTRY_INFO!D33*AL33*PROFILE!$G$9,COUNTRY_INFO!D33*AM33*PROFILE!$G$9,IF(AND(DISTRICT!Z33<>\"Inconnu\",Z33<>\"Non requis\"),COUNTRY_INFO!O33*DISTRICT!AN33,0))","v":484.73223120760258},{"$f":"MAX(COUNTRY_INFO!D33*AK33*PROFILE!$G$10,COUNTRY_INFO!D33*AL33*PROFILE!$G$10,IF(AND(DISTRICT!Z33<>\"Inconnu\",Z33<>\"Non requis\"),COUNTRY_INFO!O33*DISTRICT!AO33,0))","v":1071.8189251156177},1892,"Y",{"$f":"MAX('MDA2'!J33,'T1'!L33,'T2'!J33,T3_R1!K33,T3_R2!K33)","v":0},{"$f":"MAX('MDA1'!K33,'MDA2'!K33,'MDA3'!I33,'MDA3'!L33,'T1'!M33,'T2'!K33,T3_R1!L33,T3_R2!L33)","v":655},{"$f":"MAX('MDA1'!L33,'MDA2'!L33,'MDA3'!J33,'MDA3'!M33,'T1'!N33,'T2'!L33,T3_R1!M33,T3_R2!M33)","v":756},1411,{"$f":"MAX('MDA2'!J33,T33)","v":0},{"$f":"MAX('MDA1'!K33,'MDA2'!K33,'MDA3'!I33,'MDA3'!L33,V33,AD33)","v":655},{"$f":"MAX('MDA1'!L33,'MDA2'!L33,'MDA3'!J33,'MDA3'!M33,AF33)","v":756},1411,74.577167019027485]
[{"$f":"IF(COUNTRY_INFO!A34=0,\" \",COUNTRY_INFO!A34)","v":"Guinea Bissau"},{"$f":"IF(COUNTRY_INFO!B34=0,\" \",COUNTRY_INFO!B34)","v":"Biombo"},{"$f":"IF(COUNTRY_INFO!C34=0,\" \",COUNTRY_INFO!C34)","v":"BIJIMITA"},{"$f":"COUNTRY_INFO!L34","v":12356},null,null,{"$f":"MAX('MDA1'!M34,'MDA2'!M34)","v":0},{"$f":"IF(AND(COUNTRY_INFO!H34>0,COUNTRY_INFO!H34<4),IF(D34>MAX('MDA1'!M34,'MDA2'!M34),MAX('MDA1'!M34,'MDA2'!M34),D34),0)","v":0},{"$f":"IF(AND(COUNTRY_INFO!H34>0,COUNTRY_INFO!H34<4), IF(G34/D34*100<>0, IF(G34/D34*100>100,100,G34/D34*100), \"-\"),0)","v":"-"},{"$f":"COUNTRY_INFO!M34","v":"Inconnu"},null,null,{"$f":"MAX('MDA1'!M34,MAX('MDA3'!I34,'MDA3'!L34)+MAX('MDA3'!J34,'MDA3'!M34))","v":0},{"$f":"IF(AND(COUNTRY_INFO!I34>0,COUNTRY_INFO!I34<4),IF(J34>MAX('MDA1'!M34,MAX('MDA3'!I34,'MDA3'!L34)+MAX('MDA3'!J34,'MDA3'!M34)),MAX('MDA1'!M34,MAX('MDA3'!I34,'MDA3'!L34)+MAX('MDA3'!J34,'MDA3'!M34)),J34),0)","v":0},{"$f":"IF(AND(COUNTRY_INFO!I34>0,COUNTRY_INFO!I34<4), IF(M34/J34*100<>0, IF(M34/J34*100>100,100,M34/J34*100), \"-\"),0)","v":0},{"$f":"COUNTRY_INFO!N34","v":4809},null,null,{"$f":"SUM(MAX('MDA2'!J34, 'T1'!L34, MAX(T3_R1!K34, T3_R2!K34)), MAX('MDA1'!K34, 'MDA2'!K34, 'T1'!M34, MAX(T3_R1!L34, T3_R2!L34)), MAX('MDA1'!L34, 'MDA2'!L34, 'T1'!N34, MAX(T3_R1!M34, T3_R2!M34)))","v":0},{"$f":"IF(AND(COUNTRY_INFO!J34>1,COUNTRY_INFO!J34<4),IF(COUNTRY_INFO!E34>MAX('MDA2'!J34,'T1'!L34,MAX(T3_R1!K34,T3_R2!K34)),MAX('MDA2'!J34,'T1'!L34,MAX(T3_R1!K34,T3_R2!K34)),COUNTRY_INFO!E34),0)","v":0},{"$f":"IF(AND(COUNTRY_INFO!J34>1,COUNTRY_INFO!J34<4), IF(T34/COUNTRY_INFO!E34*100<>0, IF(T34/COUNTRY_INFO!E34*100>100,100,T34/COUNTRY_INFO!E34*100), \"-\"),0)","v":"-"},{"$f":"IF(AND(COUNTRY_INFO!J34>1,COUNTRY_INFO!J34<4),IF(COUNTRY_INFO!F34>MAX('MDA1'!K34,'MDA2'!K34,'T1'!M34,MAX(T3_R1!L34,T3_R2!L34)),MAX('MDA1'!K34,'MDA2'!K34,'T1'!M34,MAX(T3_R1!L34,T3_R2!L34)),COUNTRY_INFO!F34),0)","v":0},{"$f":"IF(AND(COUNTRY_INFO!J34>1,COUNTRY_INFO!J34<4), IF(V34/COUNTRY_INFO!F34*100<>0, IF(V34/COUNTRY_INFO!F34*100>100,100,V34/COUNTRY_INFO!F34*100), \"-\"),0)","v":"-"},0,{"$f":"IF(AND(COUNTRY_INFO!J34>1,COUNTRY_INFO!J34<4), IF(S34/P34*100<>0, IF(X34/P34*100>100,100,X34/P34*100), \"-\"),0)","v":"-"},{"$f":"COUNTRY_INFO!O34","v":0},null,null,{"$f":"MAX('T1'!L34,'T2'!J34)+MAX('T1'!M34,'T2'!K34)+MAX('T1'!N34,'T2'!L34)","v":0},{"$f":"IF(COUNTRY_INFO!K34=1,IF(COUNTRY_INFO!F34*0.33>MAX('T1'!M34,'T2'!K34),MAX('T1'!M34,'T2'!K34),COUNTRY_INFO!F34*0.33),IF(COUNTRY_INFO!K34=2,IF(COUNTRY_INFO!F34*0.5>MAX('T1'!M34,'T2'!K34),MAX('T1'!M34,'T2'!K34),COUNTRY_INFO!F34*0.5),IF(COUNTRY_INFO!K34=3,IF(COUNTRY_INFO!F34>MAX('T1'!M34,'T2'!K34),MAX('T1'!M34,'T2'!K34),COUNTRY_INFO!F34),0)))","v":0},{"$f":"IF(AND(COUNTRY_INFO!K34>0,COUNTRY_INFO!K34<4),IF(Z34>0,IF(COUNTRY_INFO!K34=1, AD34/(COUNTRY_INFO!F34*0.33)*100, IF(COUNTRY_INFO!K34=2, AD34/(COUNTRY_INFO!F34*0.5)*100, IF(COUNTRY_INFO!K34=3, AD34/COUNTRY_INFO!F34*100))),\"-\"),0)","v":0},{"$f":"IF(COUNTRY_INFO!K34=2,IF(COUNTRY_INFO!G34*0.2>MAX('T1'!N34,'T2'!L34),MAX('T1'!N34,'T2'!L34),COUNTRY_INFO!G34*0.2),IF(COUNTRY_INFO!K34=3,IF(COUNTRY_INFO!G34>MAX('T1'!N34,'T2'!L34),MAX('T1'!N34,'T2'!L34),COUNTRY_INFO!G34),0))","v":0},{"$f":"IF(AND(COUNTRY_INFO!K34>0,COUNTRY_INFO!K34<4),IF(Z34>0,IF(COUNTRY_INFO!K34=1, 0, IF(COUNTRY_INFO!K34=2, AF34/(COUNTRY_INFO!G34*0.2)*100, IF(COUNTRY_INFO!K34=3, AF34/COUNTRY_INFO!G34*100))),\"-\"),0)","v":0},0,{"$f":"IF(AND(COUNTRY_INFO!K34>0,COUNTRY_INFO!K34<4), IF(AC34/Z34*100<>0, IF(AH34/Z34*100>100,100,AH34/Z34*100), \"-\"),0)","v":0},null,{"$f":"IF(AND(D34<>0, D34<>\"Inconnu\",D34<>\"Interrompu\",D34<>\"Non requis\"),D34/COUNTRY_INFO!D34, 0)","v":1},{"$f":"IF(AND(J34<>0,J34<>\"Inconnu\",J34<>\"Interrompu\",J34<>\"Non requis\"),J34/COUNTRY_INFO!D34, 0)","v":0},{"$f":"IF(AND(P34<>0,P34<>\"Inconnu\",P34<>\"Non requis\"),P34/(COUNTRY_INFO!E34+COUNTRY_INFO!F34), 0)","v":1},{"$f":"IF(AND(Z34<>0,Z34<>\"Inconnu\",Z34<>\"Non requis\"),IF(COUNTRY_INFO!K34=1,1,IF(COUNTRY_INFO!K34=2,0.5*COUNTRY_INFO!F34/(0.5*COUNTRY_INFO!F34+0.2*COUNTRY_INFO!G34),IF(COUNTRY_INFO!K34=3,COUNTRY_INFO!F34/(COUNTRY_INFO!F34+COUNTRY_INFO!G34)))),0)","v":0},{"$f":"IF(AND(Z34<>0,Z34<>\"Inconnu\",Z34<>\"Non requis\"),IF(COUNTRY_INFO!K34=1,0,IF(COUNTRY_INFO!K34=2,0.2*COUNTRY_INFO!G34/(0.5*COUNTRY_INFO!F34+0.2*COUNTRY_INFO!G34),IF(COUNTRY_INFO!K34=3,COUNTRY_INFO!G34/(COUNTRY_INFO!F34+COUNTRY_INFO!G34)))),0)","v":0},{"$f":"MAX(COUNTRY_INFO!D34*AK34*PROFILE!$G$7,COUNTRY_INFO!D34*AL34*PROFILE!$G$7)","v":547.34668910299331},{"$f":"MAX(COUNTRY_INFO!D34*AK34*PROFILE!$G$8,COUNTRY_INFO!D34*AL34*PROFILE!$G$8,COUNTRY_INFO!D34*AM34*PROFILE!$G$8)","v":1643.3541102999079},{"$f":"MAX(COUNTRY_INFO!D34*AK34*PROFILE!$G$9,COUNTRY_INFO!D34*AL34*PROFILE!$G$9,COUNTRY_INFO!D34*AM34*PROFILE!$G$9,IF(AND(DISTRICT!Z34<>\"Inconnu\",Z34<>\"Non requis\"),COUNTRY_INFO!O34*DISTRICT!AN34,0))","v":3165.6191589858017},{"$f":"MAX(COUNTRY_INFO!D34*AK34*PROFILE!$G$10,COUNTRY_INFO!D34*AL34*PROFILE!$G$10,IF(AND(DISTRICT!Z34<>\"Inconnu\",Z34<>\"Non requis\"),COUNTRY_INFO!O34*DISTRICT!AO34,0))","v":6999.6800416112965},12356,0,{"$f":"MAX('MDA2'!J34,'T1'!L34,'T2'!J34,T3_R1!K34,T3_R2!K34)","v":0},{"$f":"MAX('MDA1'!K34,'MDA2'!K34,'MDA3'!I34,'MDA3'!L34,'T1'!M34,'T2'!K34,T3_R1!L34,T3_R2!L34)","v":0},{"$f":"MAX('MDA1'!L34,'MDA2'!L34,'MDA3'!J34,'MDA3'!M34,'T1'!N34,'T2'!L34,T3_R1!M34,T3_R2!M34)","v":0},0,{"$f":"MAX('MDA2'!J34,T34)","v":0},{"$f":"MAX('MDA1'!K34,'MDA2'!K34,'MDA3'!I34,'MDA3'!L34,V34,AD34)","v":0},{"$f":"MAX('MDA1'!L34,'MDA2'!L34,'MDA3'!J34,'MDA3'!M34,AF34)","v":0},0,0]
[{"$f":"IF(COUNTRY_INFO!A35=0,\" \",COUNTRY_INFO!A35)","v":"Guinea Bissau"},{"$f":"IF(COUNTRY_INFO!B35=0,\" \",COUNTRY_INFO!B35)","v":"Biombo"},{"$f":"IF(COUNTRY_INFO!C35=0,\" \",COUNTRY_INFO!C35)","v":"CUMURA"},{"$f":"COUNTRY_INFO!L35","v":17181},null,null,{"$f":"MAX('MDA1'!M35,'MDA2'!M35)","v":0},{"$f":"IF(AND(COUNTRY_INFO!H35>0,COUNTRY_INFO!H35<4),IF(D35>MAX('MDA1'!M35,'MDA2'!M35),MAX('MDA1'!M35,'MDA2'!M35),D35),0)","v":0},{"$f":"IF(AND(COUNTRY_INFO!H35>0,COUNTRY_INFO!H35<4), IF(G35/D35*100<>0, IF(G35/D35*100>100,100,G35/D35*100), \"-\"),0)","v":"-"},{"$f":"COUNTRY_INFO!M35","v":"Inconnu"},null,null,{"$f":"MAX('MDA1'!M35,MAX('MDA3'!I35,'MDA3'!L35)+MAX('MDA3'!J35,'MDA3'!M35))","v":0},{"$f":"IF(AND(COUNTRY_INFO!I35>0,COUNTRY_INFO!I35<4),IF(J35>MAX('MDA1'!M35,MAX('MDA3'!I35,'MDA3'!L35)+MAX('MDA3'!J35,'MDA3'!M35)),MAX('MDA1'!M35,MAX('MDA3'!I35,'MDA3'!L35)+MAX('MDA3'!J35,'MDA3'!M35)),J35),0)","v":0},{"$f":"IF(AND(COUNTRY_INFO!I35>0,COUNTRY_INFO!I35<4), IF(M35/J35*100<>0, IF(M35/J35*100>100,100,M35/J35*100), \"-\"),0)","v":0},{"$f":"COUNTRY_INFO!N35","v":6687},null,null,{"$f":"SUM(MAX('MDA2'!J35, 'T1'!L35, MAX(T3_R1!K35, T3_R2!K35)), MAX('MDA1'!K35, 'MDA2'!K35, 'T1'!M35, MAX(T3_R1!L35, T3_R2!L35)), MAX('MDA1'!L35, 'MDA2'!L35, 'T1'!N35, MAX(T3_R1!M35, T3_R2!M35)))","v":0},{"$f":"IF(AND(COUNTRY_INFO!J35>1,COUNTRY_INFO!J35<4),IF(COUNTRY_INFO!E35>MAX('MDA2'!J35,'T1'!L35,MAX(T3_R1!K35,T3_R2!K35)),MAX('MDA2'!J35,'T1'!L35,MAX(T3_R1!K35,T3_R2!K35)),COUNTRY_INFO!E35),0)","v":0},{"$f":"IF(AND(COUNTRY_INFO!J35>1,COUNTRY_INFO!J35<4), IF(T35/COUNTRY_INFO!E35*100<>0, IF(T35/COUNTRY_INFO!E35*100>100,100,T35/COUNTRY_INFO!E35*100), \"-\"),0)","v":"-"},{"$f":"IF(AND(COUNTRY_INFO!J35>1,COUNTRY_INFO!J35<4),IF(COUNTRY_INFO!F35>MAX('MDA1'!K35,'MDA2'!K35,'T1'!M35,MAX(T3_R1!L35,T3_R2!L35)),MAX('MDA1'!K35,'MDA2'!K35,'T1'!M35,MAX(T3_R1!L35,T3_R2!L35)),COUNTRY_INFO!F35),0)","v":0},{"$f":"IF(AND(COUNTRY_INFO!J35>1,COUNTRY_INFO!J35<4), IF(V35/COUNTRY_INFO!F35*100<>0, IF(V35/COUNTRY_INFO!F35*100>100,100,V35/COUNTRY_INFO!F35*100), \"-\"),0)","v":"-"},0,{"$f":"IF(AND(COUNTRY_INFO!J35>1,COUNTRY_INFO!J35<4), IF(S35/P35*100<>0, IF(X35/P35*100>100,100,X35/P35*100), \"-\"),0)","v":"-"},{"$f":"COUNTRY_INFO!O35","v":0},null,null,{"$f":"MAX('T1'!L35,'T2'!J35)+MAX('T1'!M35,'T2'!K35)+MAX('T1'!N35,'T2'!L35)","v":0},{"$f":"IF(COUNTRY_INFO!K35=1,IF(COUNTRY_INFO!F35*0.33>MAX('T1'!M35,'T2'!K35),MAX('T1'!M35,'T2'!K35),COUNTRY_INFO!F35*0.33),IF(COUNTRY_INFO!K35=2,IF(COUNTRY_INFO!F35*0.5>MAX('T1'!M35,'T2'!K35),MAX('T1'!M35,'T2'!K35),COUNTRY_INFO!F35*0.5),IF(COUNTRY_INFO!K35=3,IF(COUNTRY_INFO!F35>MAX('T1'!M35,'T2'!K35),MAX('T1'!M35,'T2'!K35),COUNTRY_INFO!F35),0)))","v":0},{"$f":"IF(AND(COUNTRY_INFO!K35>0,COUNTRY_INFO!K35<4),IF(Z35>0,IF(COUNTRY_INFO!K35=1, AD35/(COUNTRY_INFO!F35*0.33)*100, IF(COUNTRY_INFO!K35=2, AD35/(COUNTRY_INFO!F35*0.5)*100, IF(COUNTRY_INFO!K35=3, AD35/COUNTRY_INFO!F35*100))),\"-\"),0)","v":0},{"$f":"IF(COUNTRY_INFO!K35=2,IF(COUNTRY_INFO!G35*0.2>MAX('T1'!N35,'T2'!L35),MAX('T1'!N35,'T2'!L35),COUNTRY_INFO!G35*0.2),IF(COUNTRY_INFO!K35=3,IF(COUNTRY_INFO!G35>MAX('T1'!N35,'T2'!L35),MAX('T1'!N35,'T2'!L35),COUNTRY_INFO!G35),0))","v":0},{"$f":"IF(AND(COUNTRY_INFO!K35>0,COUNTRY_INFO!K35<4),IF(Z35>0,IF(COUNTRY_INFO!K35=1, 0, IF(COUNTRY_INFO!K35=2, AF35/(COUNTRY_INFO!G35*0.2)*100, IF(COUNTRY_INFO!K35=3, AF35/COUNTRY_INFO!G35*100))),\"-\"),0)","v":0},0,{"$f":"IF(AND(COUNTRY_INFO!K35>0,COUNTRY_INFO!K35<4), IF(AC35/Z35*100<>0, IF(AH35/Z35*100>100,100,AH35/Z35*100), \"-\"),0)","v":0},null,{"$f":"IF(AND(D35<>0, D35<>\"Inconnu\",D35<>\"Interrompu\",D35<>\"Non requis\"),D35/COUNTRY_INFO!D35, 0)","v":1},{"$f":"IF(AND(J35<>0,J35<>\"Inconnu\",J35<>\"Interrompu\",J35<>\"Non requis\"),J35/COUNTRY_INFO!D35, 0)","v":0},{"$f":"IF(AND(P35<>0,P35<>\"Inconnu\",P35<>\"Non requis\"),P35/(COUNTRY_INFO!E35+COUNTRY_INFO!F35), 0)","v":1},{"$f":"IF(AND(Z35<>0,Z35<>\"Inconnu\",Z35<>\"Non requis\"),IF(COUNTRY_INFO!K35=1,1,IF(COUNTRY_INFO!K35=2,0.5*COUNTRY_INFO!F35/(0.5*COUNTRY_INFO!F35+0.2*COUNTRY_INFO!G35),IF(COUNTRY_INFO!K35=3,COUNTRY_INFO!F35/(COUNTRY_INFO!F35+COUNTRY_INFO!G35)))),0)","v":0},{"$f":"IF(AND(Z35<>0,Z35<>\"Inconnu\",Z35<>\"Non requis\"),IF(COUNTRY_INFO!K35=1,0,IF(COUNTRY_INFO!K35=2,0.2*COUNTRY_INFO!G35/(0.5*COUNTRY_INFO!F35+0.2*COUNTRY_INFO!G35),IF(COUNTRY_INFO!K35=3,COUNTRY_INFO!G35/(COUNTRY_INFO!F35+COUNTRY_INFO!G35)))),0)","v":0},{"$f":"MAX(COUNTRY_INFO!D35*AK35*PROFILE!$G$7,COUNTRY_INFO!D35*AL35*PROFILE!$G$7)","v":761.0847738328365},{"$f":"MAX(COUNTRY_INFO!D35*AK35*PROFILE!$G$8,COUNTRY_INFO!D35*AL35*PROFILE!$G$8,COUNTRY_INFO!D35*AM35*PROFILE!$G$8)","v":2285.0814963631206},{"$f":"MAX(COUNTRY_INFO!D35*AK35*PROFILE!$G$9,COUNTRY_INFO!D35*AL35*PROFILE!$G$9,COUNTRY_INFO!D35*AM35*PROFILE!$G$9,IF(AND(DISTRICT!Z35<>\"Inconnu\",Z35<>\"Non requis\"),COUNTRY_INFO!O35*DISTRICT!AN35,0))","v":4401.7888289523362},{"$f":"MAX(COUNTRY_INFO!D35*AK35*PROFILE!$G$10,COUNTRY_INFO!D35*AL35*PROFILE!$G$10,IF(AND(DISTRICT!Z35<>\"Inconnu\",Z35<>\"Non requis\"),COUNTRY_INFO!O35*DISTRICT!AO35,0))","v":9733.0449008517062},17181,0,{"$f":"MAX('MDA2'!J35,'T1'!L35,'T2'!J35,T3_R1!K35,T3_R2!K35)","v":0},{"$f":"MAX('MDA1'!K35,'MDA2'!K35,'MDA3'!I35,'MDA3'!L35,'T1'!M35,'T2'!K35,T3_R1!L35,T3_R2!L35)","v":0},{"$f":"MAX('MDA1'!L35,'MDA2'!L35,'MDA3'!J35,'MDA3'!M35,'T1'!N35,'T2'!L35,T3_R1!M35,T3_R2!M35)","v":0},0,{"$f":"MAX('MDA2'!J35,T35)","v":0},{"$f":"MAX('MDA1'!K35,'MDA2'!K35,'MDA3'!I35,'MDA3'!L35,V35,AD35)","v":0},{"$f":"MAX('MDA1'!L35,'MDA2'!L35,'MDA3'!J35,'MDA3'!M35,AF35)","v":0},0,0]
[{"$f":"IF(COUNTRY_INFO!A36=0,\" \",COUNTRY_INFO!A36)","v":"Guinea Bissau"},{"$f":"IF(COUNTRY_INFO!B36=0,\" \",COUNTRY_INFO!B36)","v":"Biombo"},{"$f":"IF(COUNTRY_INFO!C36=0,\" \",COUNTRY_INFO!C36)","v":"DORSE"},{"$f":"COUNTRY_INFO!L36","v":8054},null,null,{"$f":"MAX('MDA1'!M36,'MDA2'!M36)","v":0},{"$f":"IF(AND(COUNTRY_INFO!H36>0,COUNTRY_INFO!H36<4),IF(D36>MAX('MDA1'!M36,'MDA2'!M36),MAX('MDA1'!M36,'MDA2'!M36),D36),0)","v":0},{"$f":"IF(AND(COUNTRY_INFO!H36>0,COUNTRY_INFO!H36<4), IF(G36/D36*100<>0, IF(G36/D36*100>100,100,G36/D36*100), \"-\"),0)","v":"-"},{"$f":"COUNTRY_INFO!M36","v":"Inconnu"},null,null,{"$f":"MAX('MDA1'!M36,MAX('MDA3'!I36,'MDA3'!L36)+MAX('MDA3'!J36,'MDA3'!M36))","v":0},{"$f":"IF(AND(COUNTRY_INFO!I36>0,COUNTRY_INFO!I36<4),IF(J36>MAX('MDA1'!M36,MAX('MDA3'!I36,'MDA3'!L36)+MAX('MDA3'!J36,'MDA3'!M36)),MAX('MDA1'!M36,MAX('MDA3'!I36,'MDA3'!L36)+MAX('MDA3'!J36,'MDA3'!M36)),J36),0)","v":0},{"$f":"IF(AND(COUNTRY_INFO!I36>0,COUNTRY_INFO!I36<4), IF(M36/J36*100<>0, IF(M36/J36*100>100,100,M36/J36*100), \"-\"),0)","v":0},{"$f":"COUNTRY_INFO!N36","v":3134},null,null,{"$f":"SUM(MAX('MDA2'!J36, 'T1'!L36, MAX(T3_R1!K36, T3_R2!K36)), MAX('MDA1'!K36, 'MDA2'!K36, 'T1'!M36, MAX(T3_R1!L36, T3_R2!L36)), MAX('MDA1'!L36, 'MDA2'!L36, 'T1'!N36, MAX(T3_R1!M36, T3_R2!M36)))","v":0},{"$f":"IF(AND(COUNTRY_INFO!J36>1,COUNTRY_INFO!J36<4),IF(COUNTRY_INFO!E36>MAX('MDA2'!J36,'T1'!L36,MAX(T3_R1!K36,T3_R2!K36)),MAX('MDA2'!J36,'T1'!L36,MAX(T3_R1!K36,T3_R2!K36)),COUNTRY_INFO!E36),0)","v":0},{"$f":"IF(AND(COUNTRY_INFO!J36>1,COUNTRY_INFO!J36<4), IF(T36/COUNTRY_INFO!E36*100<>0, IF(T36/COUNTRY_INFO!E36*100>100,100,T36/COUNTRY_INFO!E36*100), \"-\"),0)","v":"-"},{"$f":"IF(AND(COUNTRY_INFO!J36>1,COUNTRY_INFO!J36<4),IF(COUNTRY_INFO!F36>MAX('MDA1'!K36,'MDA2'!K36,'T1'!M36,MAX(T3_R1!L36,T3_R2!L36)),MAX('MDA1'!K36,'MDA2'!K36,'T1'!M36,MAX(T3_R1!L36,T3_R2!L36)),COUNTRY_INFO!F36),0)","v":0},{"$f":"IF(AND(COUNTRY_INFO!J36>1,COUNTRY_INFO!J36<4), IF(V36/COUNTRY_INFO!F36*100<>0, IF(V36/COUNTRY_INFO!F36*100>100,100,V36/COUNTRY_INFO!F36*100), \"-\"),0)","v":"-"},0,{"$f":"IF(AND(COUNTRY_INFO!J36>1,COUNTRY_INFO!J36<4), IF(S36/P36*100<>0, IF(X36/P36*100>100,100,X36/P36*100), \"-\"),0)","v":"-"},{"$f":"COUNTRY_INFO!O36","v":0},null,null,{"$f":"MAX('T1'!L36,'T2'!J36)+MAX('T1'!M36,'T2'!K36)+MAX('T1'!N36,'T2'!L36)","v":0},{"$f":"IF(COUNTRY_INFO!K36=1,IF(COUNTRY_INFO!F36*0.33>MAX('T1'!M36,'T2'!K36),MAX('T1'!M36,'T2'!K36),COUNTRY_INFO!F36*0.33),IF(COUNTRY_INFO!K36=2,IF(COUNTRY_INFO!F36*0.5>MAX('T1'!M36,'T2'!K36),MAX('T1'!M36,'T2'!K36),COUNTRY_INFO!F36*0.5),IF(COUNTRY_INFO!K36=3,IF(COUNTRY_INFO!F36>MAX('T1'!M36,'T2'!K36),MAX('T1'!M36,'T2'!K36),COUNTRY_INFO!F36),0)))","v":0},{"$f":"IF(AND(COUNTRY_INFO!K36>0,COUNTRY_INFO!K36<4),IF(Z36>0,IF(COUNTRY_INFO!K36=1, AD36/(COUNTRY_INFO!F36*0.33)*100, IF(COUNTRY_INFO!K36=2, AD36/(COUNTRY_INFO!F36*0.5)*100, IF(COUNTRY_INFO!K36=3, AD36/COUNTRY_INFO!F36*100))),\"-\"),0)","v":0},{"$f":"IF(COUNTRY_INFO!K36=2,IF(COUNTRY_INFO!G36*0.2>MAX('T1'!N36,'T2'!L36),MAX('T1'!N36,'T2'!L36),COUNTRY_INFO!G36*0.2),IF(COUNTRY_INFO!K36=3,IF(COUNTRY_INFO!G36>MAX('T1'!N36,'T2'!L36),MAX('T1'!N36,'T2'!L36),COUNTRY_INFO!G36),0))","v":0},{"$f":"IF(AND(COUNTRY_INFO!K36>0,COUNTRY_INFO!K36<4),IF(Z36>0,IF(COUNTRY_INFO!K36=1, 0, IF(COUNTRY_INFO!K36=2, AF36/(COUNTRY_INFO!G36*0.2)*100, IF(COUNTRY_INFO!K36=3, AF36/COUNTRY_INFO!G36*100))),\"-\"),0)","v":0},0,{"$f":"IF(AND(COUNTRY_INFO!K36>0,COUNTRY_INFO!K36<4), IF(AC36/Z36*100<>0, IF(AH36/Z36*100>100,100,AH36/Z36*100), \"-\"),0)","v":0},null,{"$f":"IF(AND(D36<>0, D36<>\"Inconnu\",D36<>\"Interrompu\",D36<>\"Non requis\"),D36/COUNTRY_INFO!D36, 0)","v":1},{"$f":"IF(AND(J36<>0,J36<>\"Inconnu\",J36<>\"Interrompu\",J36<>\"Non requis\"),J36/COUNTRY_INFO!D36, 0)","v":0},{"$f":"IF(AND(P36<>0,P36<>\"Inconnu\",P36<>\"Non requis\"),P36/(COUNTRY_INFO!E36+COUNTRY_INFO!F36), 0)","v":1},{"$f":"IF(AND(Z36<>0,Z36<>\"Inconnu\",Z36<>\"Non requis\"),IF(COUNTRY_INFO!K36=1,1,IF(COUNTRY_INFO!K36=2,0.5*COUNTRY_INFO!F36/(0.5*COUNTRY_INFO!F36+0.2*COUNTRY_INFO!G36),IF(COUNTRY_INFO!K36=3,COUNTRY_INFO!F36/(COUNTRY_INFO!F36+COUNTRY_INFO!G36)))),0)","v":0},{"$f":"IF(AND(Z36<>0,Z36<>\"Inconnu\",Z36<>\"Non requis\"),IF(COUNTRY_INFO!K36=1,0,IF(COUNTRY_INFO!K36=2,0.2*COUNTRY_INFO!G36/(0.5*COUNTRY_INFO!F36+0.2*COUNTRY_INFO!G36),IF(COUNTRY_INFO!K36=3,COUNTRY_INFO!G36/(COUNTRY_INFO!F36+COUNTRY_INFO!G36)))),0)","v":0},{"$f":"MAX(COUNTRY_INFO!D36*AK36*PROFILE!$G$7,COUNTRY_INFO!D36*AL36*PROFILE!$G$7)","v":356.77648381640563},{"$f":"MAX(COUNTRY_INFO!D36*AK36*PROFILE!$G$8,COUNTRY_INFO!D36*AL36*PROFILE!$G$8,COUNTRY_INFO!D36*AM36*PROFILE!$G$8)","v":1071.1859828711119},{"$f":"MAX(COUNTRY_INFO!D36*AK36*PROFILE!$G$9,COUNTRY_INFO!D36*AL36*PROFILE!$G$9,COUNTRY_INFO!D36*AM36*PROFILE!$G$9,IF(AND(DISTRICT!Z36<>\"Inconnu\",Z36<>\"Non requis\"),COUNTRY_INFO!O36*DISTRICT!AN36,0))","v":2063.4425952146044},{"$f":"MAX(COUNTRY_INFO!D36*AK36*PROFILE!$G$10,COUNTRY_INFO!D36*AL36*PROFILE!$G$10,IF(AND(DISTRICT!Z36<>\"Inconnu\",Z36<>\"Non requis\"),COUNTRY_INFO!O36*DISTRICT!AO36,0))","v":4562.5949380978782},8054,0,{"$f":"MAX('MDA2'!J36,'T1'!L36,'T2'!J36,T3_R1!K36,T3_R2!K36)","v":0},{"$f":"MAX('MDA1'!K36,'MDA2'!K36,'MDA3'!I36,'MDA3'!L36,'T1'!M36,'T2'!K36,T3_R1!L36,T3_R2!L36)","v":0},{"$f":"MAX('MDA1'!L36,'MDA2'!L36,'MDA3'!J36,'MDA3'!M36,'T1'!N36,'T2'!L36,T3_R1!M36,T3_R2!M36)","v":0},0,{"$f":"MAX('MDA2'!J36,T36)","v":0},{"$f":"MAX('MDA1'!K36,'MDA2'!K36,'MDA3'!I36,'MDA3'!L36,V36,AD36)","v":0},{"$f":"MAX('MDA1'!L36,'MDA2'!L36,'MDA3'!J36,'MDA3'!M36,AF36)","v":0},0,0]
[{"$f":"IF(COUNTRY_INFO!A37=0,\" \",COUNTRY_INFO!A37)","v":"Guinea Bissau"},{"$f":"IF(COUNTRY_INFO!B37=0,\" \",COUNTRY_INFO!B37)","v":"Biombo"},{"$f":"IF(COUNTRY_INFO!C37=0,\" \",COUNTRY_INFO!C37)","v":"ILONDE"},{"$f":"COUNTRY_INFO!L37","v":9533},null,null,{"$f":"MAX('MDA1'!M37,'MDA2'!M37)","v":0},{"$f":"IF(AND(COUNTRY_INFO!H37>0,COUNTRY_INFO!H37<4),IF(D37>MAX('MDA1'!M37,'MDA2'!M37),MAX('MDA1'!M37,'MDA2'!M37),D37),0)","v":0},{"$f":"IF(AND(COUNTRY_INFO!H37>0,COUNTRY_INFO!H37<4), IF(G37/D37*100<>0, IF(G37/D37*100>100,100,G37/D37*100), \"-\"),0)","v":"-"},{"$f":"COUNTRY_INFO!M37","v":"Inconnu"},null,null,{"$f":"MAX('MDA1'!M37,MAX('MDA3'!I37,'MDA3'!L37)+MAX('MDA3'!J37,'MDA3'!M37))","v":0},{"$f":"IF(AND(COUNTRY_INFO!I37>0,COUNTRY_INFO!I37<4),IF(J37>MAX('MDA1'!M37,MAX('MDA3'!I37,'MDA3'!L37)+MAX('MDA3'!J37,'MDA3'!M37)),MAX('MDA1'!M37,MAX('MDA3'!I37,'MDA3'!L37)+MAX('MDA3'!J37,'MDA3'!M37)),J37),0)","v":0},{"$f":"IF(AND(COUNTRY_INFO!I37>0,COUNTRY_INFO!I37<4), IF(M37/J37*100<>0, IF(M37/J37*100>100,100,M37/J37*100), \"-\"),0)","v":0},{"$f":"COUNTRY_INFO!N37","v":0},null,null,{"$f":"SUM(MAX('MDA2'!J37, 'T1'!L37, MAX(T3_R1!K37, T3_R2!K37)), MAX('MDA1'!K37, 'MDA2'!K37, 'T1'!M37, MAX(T3_R1!L37, T3_R2!L37)), MAX('MDA1'!L37, 'MDA2'!L37, 'T1'!N37, MAX(T3_R1!M37, T3_R2!M37)))","v":0},{"$f":"IF(AND(COUNTRY_INFO!J37>1,COUNTRY_INFO!J37<4),IF(COUNTRY_INFO!E37>MAX('MDA2'!J37,'T1'!L37,MAX(T3_R1!K37,T3_R2!K37)),MAX('MDA2'!J37,'T1'!L37,MAX(T3_R1!K37,T3_R2!K37)),COUNTRY_INFO!E37),0)","v":0},{"$f":"IF(AND(COUNTRY_INFO!J37>1,COUNTRY_INFO!J37<4), IF(T37/COUNTRY_INFO!E37*100<>0, IF(T37/COUNTRY_INFO!E37*100>100,100,T37/COUNTRY_INFO!E37*100), \"-\"),0)","v":0},{"$f":"IF(AND(COUNTRY_INFO!J37>1,COUNTRY_INFO!J37<4),IF(COUNTRY_INFO!F37>MAX('MDA1'!K37,'MDA2'!K37,'T1'!M37,MAX(T3_R1!L37,T3_R2!L37)),MAX('MDA1'!K37,'MDA2'!K37,'T1'!M37,MAX(T3_R1!L37,T3_R2!L37)),COUNTRY_INFO!F37),0)","v":0},{"$f":"IF(AND(COUNTRY_INFO!J37>1,COUNTRY_INFO!J37<4), IF(V37/COUNTRY_INFO!F37*100<>0, IF(V37/COUNTRY_INFO!F37*100>100,100,V37/COUNTRY_INFO!F37*100), \"-\"),0)","v":0},0,{"$f":"IF(AND(COUNTRY_INFO!J37>1,COUNTRY_INFO!J37<4), IF(S37/P37*100<>0, IF(X37/P37*100>100,100,X37/P37*100), \"-\"),0)","v":0},{"$f":"COUNTRY_INFO!O37","v":0},null,null,{"$f":"MAX('T1'!L37,'T2'!J37)+MAX('T1'!M37,'T2'!K37)+MAX('T1'!N37,'T2'!L37)","v":0},{"$f":"IF(COUNTRY_INFO!K37=1,IF(COUNTRY_INFO!F37*0.33>MAX('T1'!M37,'T2'!K37),MAX('T1'!M37,'T2'!K37),COUNTRY_INFO!F37*0.33),IF(COUNTRY_INFO!K37=2,IF(COUNTRY_INFO!F37*0.5>MAX('T1'!M37,'T2'!K37),MAX('T1'!M37,'T2'!K37),COUNTRY_INFO!F37*0.5),IF(COUNTRY_INFO!K37=3,IF(COUNTRY_INFO!F37>MAX('T1'!M37,'T2'!K37),MAX('T1'!M37,'T2'!K37),COUNTRY_INFO!F37),0)))","v":0},{"$f":"IF(AND(COUNTRY_INFO!K37>0,COUNTRY_INFO!K37<4),IF(Z37>0,IF(COUNTRY_INFO!K37=1, AD37/(COUNTRY_INFO!F37*0.33)*100, IF(COUNTRY_INFO!K37=2, AD37/(COUNTRY_INFO!F37*0.5)*100, IF(COUNTRY_INFO!K37=3, AD37/COUNTRY_INFO!F37*100))),\"-\"),0)","v":0},{"$f":"IF(COUNTRY_INFO!K37=2,IF(COUNTRY_INFO!G37*0.2>MAX('T1'!N37,'T2'!L37),MAX('T1'!N37,'T2'!L37),COUNTRY_INFO!G37*0.2),IF(COUNTRY_INFO!K37=3,IF(COUNTRY_INFO!G37>MAX('T1'!N37,'T2'!L37),MAX('T1'!N37,'T2'!L37),COUNTRY_INFO!G37),0))","v":0},{"$f":"IF(AND(COUNTRY_INFO!K37>0,COUNTRY_INFO!K37<4),IF(Z37>0,IF(COUNTRY_INFO!K37=1, 0, IF(COUNTRY_INFO!K37=2, AF37/(COUNTRY_INFO!G37*0.2)*100, IF(COUNTRY_INFO!K37=3, AF37/COUNTRY_INFO!G37*100))),\"-\"),0)","v":0},0,{"$f":"IF(AND(COUNTRY_INFO!K37>0,COUNTRY_INFO!K37<4), IF(AC37/Z37*100<>0, IF(AH37/Z37*100>100,100,AH37/Z37*100), \"-\"),0)","v":0},null,{"$f":"IF(AND(D37<>0, D37<>\"Inconnu\",D37<>\"Interrompu\",D37<>\"Non requis\"),D37/COUNTRY_INFO!D37, 0)","v":1},{"$f":"IF(AND(J37<>0,J37<>\"Inconnu\",J37<>\"Interrompu\",J37<>\"Non requis\"),J37/COUNTRY_INFO!D37, 0)","v":0},{"$f":"IF(AND(P37<>0,P37<>\"Inconnu\",P37<>\"Non requis\"),P37/(COUNTRY_INFO!E37+COUNTRY_INFO!F37), 0)","v":0},{"$f":"IF(AND(Z37<>0,Z37<>\"Inconnu\",Z37<>\"Non requis\"),IF(COUNTRY_INFO!K37=1,1,IF(COUNTRY_INFO!K37=2,0.5*COUNTRY_INFO!F37/(0.5*COUNTRY_INFO!F37+0.2*COUNTRY_INFO!G37),IF(COUNTRY_INFO!K37=3,COUNTRY_INFO!F37/(COUNTRY_INFO!F37+COUNTRY_INFO!G37)))),0)","v":0},{"$f":"IF(AND(Z37<>0,Z37<>\"Inconnu\",Z37<>\"Non requis\"),IF(COUNTRY_INFO!K37=1,0,IF(COUNTRY_INFO!K37=2,0.2*COUNTRY_INFO!G37/(0.5*COUNTRY_INFO!F37+0.2*COUNTRY_INFO!G37),IF(COUNTRY_INFO!K37=3,COUNTRY_INFO!G37/(COUNTRY_INFO!F37+COUNTRY_INFO!G37)))),0)","v":0},{"$f":"MAX(COUNTRY_INFO!D37*AK37*PROFILE!$G$7,COUNTRY_INFO!D37*AL37*PROFILE!$G$7)","v":422.29329776779173},{"$f":"MAX(COUNTRY_INFO!D37*AK37*PROFILE!$G$8,COUNTRY_INFO!D37*AL37*PROFILE!$G$8,COUNTRY_INFO!D37*AM37*PROFILE!$G$8)","v":1267.8937142674831},{"$f":"MAX(COUNTRY_INFO!D37*AK37*PROFILE!$G$9,COUNTRY_INFO!D37*AL37*PROFILE!$G$9,COUNTRY_INFO!D37*AM37*PROFILE!$G$9,IF(AND(DISTRICT!Z37<>\"Inconnu\",Z37<>\"Non requis\"),COUNTRY_INFO!O37*DISTRICT!AN37,0))","v":2442.3638266924286},{"$f":"MAX(COUNTRY_INFO!D37*AK37*PROFILE!$G$10,COUNTRY_INFO!D37*AL37*PROFILE!$G$10,IF(AND(DISTRICT!Z37<>\"Inconnu\",Z37<>\"Non requis\"),COUNTRY_INFO!O37*DISTRICT!AO37,0))","v":5400.4491612722959},9533,0,{"$f":"MAX('MDA2'!J37,'T1'!L37,'T2'!J37,T3_R1!K37,T3_R2!K37)","v":0},{"$f":"MAX('MDA1'!K37,'MDA2'!K37,'MDA3'!I37,'MDA3'!L37,'T1'!M37,'T2'!K37,T3_R1!L37,T3_R2!L37)","v":0},{"$f":"MAX('MDA1'!L37,'MDA2'!L37,'MDA3'!J37,'MDA3'!M37,'T1'!N37,'T2'!L37,T3_R1!M37,T3_R2!M37)","v":0},0,{"$f":"MAX('MDA2'!J37,T37)","v":0},{"$f":"MAX('MDA1'!K37,'MDA2'!K37,'MDA3'!I37,'MDA3'!L37,V37,AD37)","v":0},{"$f":"MAX('MDA1'!L37,'MDA2'!L37,'MDA3'!J37,'MDA3'!M37,AF37)","v":0},0,0]
[{"$f":"IF(COUNTRY_INFO!A38=0,\" \",COUNTRY_INFO!A38)","v":"Guinea Bissau"},{"$f":"IF(COUNTRY_INFO!B38=0,\" \",COUNTRY_INFO!B38)","v":"Biombo"},{"$f":"IF(COUNTRY_INFO!C38=0,\" \",COUNTRY_INFO!C38)","v":"ONDAME"},{"$f":"COUNTRY_INFO!L38","v":16783},null,null,{"$f":"MAX('MDA1'!M38,'MDA2'!M38)","v":0},{"$f":"IF(AND(COUNTRY_INFO!H38>0,COUNTRY_INFO!H38<4),IF(D38>MAX('MDA1'!M38,'MDA2'!M38),MAX('MDA1'!M38,'MDA2'!M38),D38),0)","v":0},{"$f":"IF(AND(COUNTRY_INFO!H38>0,COUNTRY_INFO!H38<4), IF(G38/D38*100<>0, IF(G38/D38*100>100,100,G38/D38*100), \"-\"),0)","v":"-"},{"$f":"COUNTRY_INFO!M38","v":"Inconnu"},null,null,{"$f":"MAX('MDA1'!M38,MAX('MDA3'!I38,'MDA3'!L38)+MAX('MDA3'!J38,'MDA3'!M38))","v":0},{"$f":"IF(AND(COUNTRY_INFO!I38>0,COUNTRY_INFO!I38<4),IF(J38>MAX('MDA1'!M38,MAX('MDA3'!I38,'MDA3'!L38)+MAX('MDA3'!J38,'MDA3'!M38)),MAX('MDA1'!M38,MAX('MDA3'!I38,'MDA3'!L38)+MAX('MDA3'!J38,'MDA3'!M38)),J38),0)","v":0},{"$f":"IF(AND(COUNTRY_INFO!I38>0,COUNTRY_INFO!I38<4), IF(M38/J38*100<>0, IF(M38/J38*100>100,100,M38/J38*100), \"-\"),0)","v":0},{"$f":"COUNTRY_INFO!N38","v":6532},null,null,{"$f":"SUM(MAX('MDA2'!J38, 'T1'!L38, MAX(T3_R1!K38, T3_R2!K38)), MAX('MDA1'!K38, 'MDA2'!K38, 'T1'!M38, MAX(T3_R1!L38, T3_R2!L38)), MAX('MDA1'!L38, 'MDA2'!L38, 'T1'!N38, MAX(T3_R1!M38, T3_R2!M38)))","v":0},{"$f":"IF(AND(COUNTRY_INFO!J38>1,COUNTRY_INFO!J38<4),IF(COUNTRY_INFO!E38>MAX('MDA2'!J38,'T1'!L38,MAX(T3_R1!K38,T3_R2!K38)),MAX('MDA2'!J38,'T1'!L38,MAX(T3_R1!K38,T3_R2!K38)),COUNTRY_INFO!E38),0)","v":0},{"$f":"IF(AND(COUNTRY_INFO!J38>1,COUNTRY_INFO!J38<4), IF(T38/COUNTRY_INFO!E38*100<>0, IF(T38/COUNTRY_INFO!E38*100>100,100,T38/COUNTRY_INFO!E38*100), \"-\"),0)","v":"-"},{"$f":"IF(AND(COUNTRY_INFO!J38>1,COUNTRY_INFO!J38<4),IF(COUNTRY_INFO!F38>MAX('MDA1'!K38,'MDA2'!K38,'T1'!M38,MAX(T3_R1!L38,T3_R2!L38)),MAX('MDA1'!K38,'MDA2'!K38,'T1'!M38,MAX(T3_R1!L38,T3_R2!L38)),COUNTRY_INFO!F38),0)","v":0},{"$f":"IF(AND(COUNTRY_INFO!J38>1,COUNTRY_INFO!J38<4), IF(V38/COUNTRY_INFO!F38*100<>0, IF(V38/COUNTRY_INFO!F38*100>100,100,V38/COUNTRY_INFO!F38*100), \"-\"),0)","v":"-"},0,{"$f":"IF(AND(COUNTRY_INFO!J38>1,COUNTRY_INFO!J38<4), IF(S38/P38*100<>0, IF(X38/P38*100>100,100,X38/P38*100), \"-\"),0)","v":"-"},{"$f":"COUNTRY_INFO!O38","v":0},null,null,{"$f":"MAX('T1'!L38,'T2'!J38)+MAX('T1'!M38,'T2'!K38)+MAX('T1'!N38,'T2'!L38)","v":0},{"$f":"IF(COUNTRY_INFO!K38=1,IF(COUNTRY_INFO!F38*0.33>MAX('T1'!M38,'T2'!K38),MAX('T1'!M38,'T2'!K38),COUNTRY_INFO!F38*0.33),IF(COUNTRY_INFO!K38=2,IF(COUNTRY_INFO!F38*0.5>MAX('T1'!M38,'T2'!K38),MAX('T1'!M38,'T2'!K38),COUNTRY_INFO!F38*0.5),IF(COUNTRY_INFO!K38=3,IF(COUNTRY_INFO!F38>MAX('T1'!M38,'T2'!K38),MAX('T1'!M38,'T2'!K38),COUNTRY_INFO!F38),0)))","v":0},{"$f":"IF(AND(COUNTRY_INFO!K38>0,COUNTRY_INFO!K38<4),IF(Z38>0,IF(COUNTRY_INFO!K38=1, AD38/(COUNTRY_INFO!F38*0.33)*100, IF(COUNTRY_INFO!K38=2, AD38/(COUNTRY_INFO!F38*0.5)*100, IF(COUNTRY_INFO!K38=3, AD38/COUNTRY_INFO!F38*100))),\"-\"),0)","v":0},{"$f":"IF(COUNTRY_INFO!K38=2,IF(COUNTRY_INFO!G38*0.2>MAX('T1'!N38,'T2'!L38),MAX('T1'!N38,'T2'!L38),COUNTRY_INFO!G38*0.2),IF(COUNTRY_INFO!K38=3,IF(COUNTRY_INFO!G38>MAX('T1'!N38,'T2'!L38),MAX('T1'!N38,'T2'!L38),COUNTRY_INFO!G38),0))","v":0},{"$f":"IF(AND(COUNTRY_INFO!K38>0,COUNTRY_INFO!K38<4),IF(Z38>0,IF(COUNTRY_INFO!K38=1, 0, IF(COUNTRY_INFO!K38=2, AF38/(COUNTRY_INFO!G38*0.2)*100, IF(COUNTRY_INFO!K38=3, AF38/COUNTRY_INFO!G38*100))),\"-\"),0)","v":0},0,{"$f":"IF(AND(COUNTRY_INFO!K38>0,COUNTRY_INFO!K38<4), IF(AC38/Z38*100<>0, IF(AH38/Z38*100>100,100,AH38/Z38*100), \"-\"),0)","v":0},null,{"$f":"IF(AND(D38<>0, D38<>\"Inconnu\",D38<>\"Interrompu\",D38<>\"Non requis\"),D38/COUNTRY_INFO!D38, 0)","v":1},{"$f":"IF(AND(J38<>0,J38<>\"Inconnu\",J38<>\"Interrompu\",J38<>\"Non requis\"),J38/COUNTRY_INFO!D38, 0)","v":0},{"$f":"IF(AND(P38<>0,P38<>\"Inconnu\",P38<>\"Non requis\"),P38/(COUNTRY_INFO!E38+COUNTRY_INFO!F38), 0)","v":1},{"$f":"IF(AND(Z38<>0,Z38<>\"Inconnu\",Z38<>\"Non requis\"),IF(COUNTRY_INFO!K38=1,1,IF(COUNTRY_INFO!K38=2,0.5*COUNTRY_INFO!F38/(0.5*COUNTRY_INFO!F38+0.2*COUNTRY_INFO!G38),IF(COUNTRY_INFO!K38=3,COUNTRY_INFO!F38/(COUNTRY_INFO!F38+COUNTRY_INFO!G38)))),0)","v":0},{"$f":"IF(AND(Z38<>0,Z38<>\"Inconnu\",Z38<>\"Non requis\"),IF(COUNTRY_INFO!K38=1,0,IF(COUNTRY_INFO!K38=2,0.2*COUNTRY_INFO!G38/(0.5*COUNTRY_INFO!F38+0.2*COUNTRY_INFO!G38),IF(COUNTRY_INFO!K38=3,COUNTRY_INFO!G38/(COUNTRY_INFO!F38+COUNTRY_INFO!G38)))),0)","v":0},{"$f":"MAX(COUNTRY_INFO!D38*AK38*PROFILE!$G$7,COUNTRY_INFO!D38*AL38*PROFILE!$G$7)","v":743.4541504706649},{"$f":"MAX(COUNTRY_INFO!D38*AK38*PROFILE!$G$8,COUNTRY_INFO!D38*AL38*PROFILE!$G$8,COUNTRY_INFO!D38*AM38*PROFILE!$G$8)","v":2232.147299543813},{"$f":"MAX(COUNTRY_INFO!D38*AK38*PROFILE!$G$9,COUNTRY_INFO!D38*AL38*PROFILE!$G$9,COUNTRY_INFO!D38*AM38*PROFILE!$G$9,IF(AND(DISTRICT!Z38<>\"Inconnu\",Z38<>\"Non requis\"),COUNTRY_INFO!O38*DISTRICT!AN38,0))","v":4299.8208437405883},{"$f":"MAX(COUNTRY_INFO!D38*AK38*PROFILE!$G$10,COUNTRY_INFO!D38*AL38*PROFILE!$G$10,IF(AND(DISTRICT!Z38<>\"Inconnu\",Z38<>\"Non requis\"),COUNTRY_INFO!O38*DISTRICT!AO38,0))","v":9507.5777062449324},16783,0,{"$f":"MAX('MDA2'!J38,'T1'!L38,'T2'!J38,T3_R1!K38,T3_R2!K38)","v":0},{"$f":"MAX('MDA1'!K38,'MDA2'!K38,'MDA3'!I38,'MDA3'!L38,'T1'!M38,'T2'!K38,T3_R1!L38,T3_R2!L38)","v":0},{"$f":"MAX('MDA1'!L38,'MDA2'!L38,'MDA3'!J38,'MDA3'!M38,'T1'!N38,'T2'!L38,T3_R1!M38,T3_R2!M38)","v":0},0,{"$f":"MAX('MDA2'!J38,T38)","v":0},{"$f":"MAX('MDA1'!K38,'MDA2'!K38,'MDA3'!I38,'MDA3'!L38,V38,AD38)","v":0},{"$f":"MAX('MDA1'!L38,'MDA2'!L38,'MDA3'!J38,'MDA3'!M38,AF38)","v":0},0,0]
[{"$f":"IF(COUNTRY_INFO!A39=0,\" \",COUNTRY_INFO!A39)","v":"Guinea Bissau"},{"$f":"IF(COUNTRY_INFO!B39=0,\" \",COUNTRY_INFO!B39)","v":"Biombo"},{"$f":"IF(COUNTRY_INFO!C39=0,\" \",COUNTRY_INFO!C39)","v":"PRABIS"},{"$f":"COUNTRY_INFO!L39","v":11688},null,null,{"$f":"MAX('MDA1'!M39,'MDA2'!M39)","v":0},{"$f":"IF(AND(COUNTRY_INFO!H39>0,COUNTRY_INFO!H39<4),IF(D39>MAX('MDA1'!M39,'MDA2'!M39),MAX('MDA1'!M39,'MDA2'!M39),D39),0)","v":0},{"$f":"IF(AND(COUNTRY_INFO!H39>0,COUNTRY_INFO!H39<4), IF(G39/D39*100<>0, IF(G39/D39*100>100,100,G39/D39*100), \"-\"),0)","v":"-"},{"$f":"COUNTRY_INFO!M39","v":"Inconnu"},null,null,{"$f":"MAX('MDA1'!M39,MAX('MDA3'!I39,'MDA3'!L39)+MAX('MDA3'!J39,'MDA3'!M39))","v":0},{"$f":"IF(AND(COUNTRY_INFO!I39>0,COUNTRY_INFO!I39<4),IF(J39>MAX('MDA1'!M39,MAX('MDA3'!I39,'MDA3'!L39)+MAX('MDA3'!J39,'MDA3'!M39)),MAX('MDA1'!M39,MAX('MDA3'!I39,'MDA3'!L39)+MAX('MDA3'!J39,'MDA3'!M39)),J39),0)","v":0},{"$f":"IF(AND(COUNTRY_INFO!I39>0,COUNTRY_INFO!I39<4), IF(M39/J39*100<>0, IF(M39/J39*100>100,100,M39/J39*100), \"-\"),0)","v":0},{"$f":"COUNTRY_INFO!N39","v":4549},null,null,{"$f":"SUM(MAX('MDA2'!J39, 'T1'!L39, MAX(T3_R1!K39, T3_R2!K39)), MAX('MDA1'!K39, 'MDA2'!K39, 'T1'!M39, MAX(T3_R1!L39, T3_R2!L39)), MAX('MDA1'!L39, 'MDA2'!L39, 'T1'!N39, MAX(T3_R1!M39, T3_R2!M39)))","v":0},{"$f":"IF(AND(COUNTRY_INFO!J39>1,COUNTRY_INFO!J39<4),IF(COUNTRY_INFO!E39>MAX('MDA2'!J39,'T1'!L39,MAX(T3_R1!K39,T3_R2!K39)),MAX('MDA2'!J39,'T1'!L39,MAX(T3_R1!K39,T3_R2!K39)),COUNTRY_INFO!E39),0)","v":0},{"$f":"IF(AND(COUNTRY_INFO!J39>1,COUNTRY_INFO!J39<4), IF(T39/COUNTRY_INFO!E39*100<>0, IF(T39/COUNTRY_INFO!E39*100>100,100,T39/COUNTRY_INFO!E39*100), \"-\"),0)","v":"-"},{"$f":"IF(AND(COUNTRY_INFO!J39>1,COUNTRY_INFO!J39<4),IF(COUNTRY_INFO!F39>MAX('MDA1'!K39,'MDA2'!K39,'T1'!M39,MAX(T3_R1!L39,T3_R2!L39)),MAX('MDA1'!K39,'MDA2'!K39,'T1'!M39,MAX(T3_R1!L39,T3_R2!L39)),COUNTRY_INFO!F39),0)","v":0},{"$f":"IF(AND(COUNTRY_INFO!J39>1,COUNTRY_INFO!J39<4), IF(V39/COUNTRY_INFO!F39*100<>0, IF(V39/COUNTRY_INFO!F39*100>100,100,V39/COUNTRY_INFO!F39*100), \"-\"),0)","v":"-"},0,{"$f":"IF(AND(COUNTRY_INFO!J39>1,COUNTRY_INFO!J39<4), IF(S39/P39*100<>0, IF(X39/P39*100>100,100,X39/P39*100), \"-\"),0)","v":"-"},{"$f":"COUNTRY_INFO!O39","v":0},null,null,{"$f":"MAX('T1'!L39,'T2'!J39)+MAX('T1'!M39,'T2'!K39)+MAX('T1'!N39,'T2'!L39)","v":0},{"$f":"IF(COUNTRY_INFO!K39=1,IF(COUNTRY_INFO!F39*0.33>MAX('T1'!M39,'T2'!K39),MAX('T1'!M39,'T2'!K39),COUNTRY_INFO!F39*0.33),IF(COUNTRY_INFO!K39=2,IF(COUNTRY_INFO!F39*0.5>MAX('T1'!M39,'T2'!K39),MAX('T1'!M39,'T2'!K39),COUNTRY_INFO!F39*0.5),IF(COUNTRY_INFO!K39=3,IF(COUNTRY_INFO!F39>MAX('T1'!M39,'T2'!K39),MAX('T1'!M39,'T2'!K39),COUNTRY_INFO!F39),0)))","v":0},{"$f":"IF(AND(COUNTRY_INFO!K39>0,COUNTRY_INFO!K39<4),IF(Z39>0,IF(COUNTRY_INFO!K39=1, AD39/(COUNTRY_INFO!F39*0.33)*100, IF(COUNTRY_INFO!K39=2, AD39/(COUNTRY_INFO!F39*0.5)*100, IF(COUNTRY_INFO!K39=3, AD39/COUNTRY_INFO!F39*100))),\"-\"),0)","v":0},{"$f":"IF(COUNTRY_INFO!K39=2,IF(COUNTRY_INFO!G39*0.2>MAX('T1'!N39,'T2'!L39),MAX('T1'!N39,'T2'!L39),COUNTRY_INFO!G39*0.2),IF(COUNTRY_INFO!K39=3,IF(COUNTRY_INFO!G39>MAX('T1'!N39,'T2'!L39),MAX('T1'!N39,'T2'!L39),COUNTRY_INFO!G39),0))","v":0},{"$f":"IF(AND(COUNTRY_INFO!K39>0,COUNTRY_INFO!K39<4),IF(Z39>0,IF(COUNTRY_INFO!K39=1, 0, IF(COUNTRY_INFO!K39=2, AF39/(COUNTRY_INFO!G39*0.2)*100, IF(COUNTRY_INFO!K39=3, AF39/COUNTRY_INFO!G39*100))),\"-\"),0)","v":0},0,{"$f":"IF(AND(COUNTRY_INFO!K39>0,COUNTRY_INFO!K39<4), IF(AC39/Z39*100<>0, IF(AH39/Z39*100>100,100,AH39/Z39*100), \"-\"),0)","v":0},null,{"$f":"IF(AND(D39<>0, D39<>\"Inconnu\",D39<>\"Interrompu\",D39<>\"Non requis\"),D39/COUNTRY_INFO!D39, 0)","v":1},{"$f":"IF(AND(J39<>0,J39<>\"Inconnu\",J39<>\"Interrompu\",J39<>\"Non requis\"),J39/COUNTRY_INFO!D39, 0)","v":0},{"$f":"IF(AND(P39<>0,P39<>\"Inconnu\",P39<>\"Non requis\"),P39/(COUNTRY_INFO!E39+COUNTRY_INFO!F39), 0)","v":1},{"$f":"IF(AND(Z39<>0,Z39<>\"Inconnu\",Z39<>\"Non requis\"),IF(COUNTRY_INFO!K39=1,1,IF(COUNTRY_INFO!K39=2,0.5*COUNTRY_INFO!F39/(0.5*COUNTRY_INFO!F39+0.2*COUNTRY_INFO!G39),IF(COUNTRY_INFO!K39=3,COUNTRY_INFO!F39/(COUNTRY_INFO!F39+COUNTRY_INFO!G39)))),0)","v":0},{"$f":"IF(AND(Z39<>0,Z39<>\"Inconnu\",Z39<>\"Non requis\"),IF(COUNTRY_INFO!K39=1,0,IF(COUNTRY_INFO!K39=2,0.2*COUNTRY_INFO!G39/(0.5*COUNTRY_INFO!F39+0.2*COUNTRY_INFO!G39),IF(COUNTRY_INFO!K39=3,COUNTRY_INFO!G39/(COUNTRY_INFO!F39+COUNTRY_INFO!G39)))),0)","v":0},{"$f":"MAX(COUNTRY_INFO!D39*AK39*PROFILE!$G$7,COUNTRY_INFO!D39*AL39*PROFILE!$G$7)","v":517.75559260568025},{"$f":"MAX(COUNTRY_INFO!D39*AK39*PROFILE!$G$8,COUNTRY_INFO!D39*AL39*PROFILE!$G$8,COUNTRY_INFO!D39*AM39*PROFILE!$G$8)","v":1554.5097799599646},{"$f":"MAX(COUNTRY_INFO!D39*AK39*PROFILE!$G$9,COUNTRY_INFO!D39*AL39*PROFILE!$G$9,COUNTRY_INFO!D39*AM39*PROFILE!$G$9,IF(AND(DISTRICT!Z39<>\"Inconnu\",Z39<>\"Non requis\"),COUNTRY_INFO!O39*DISTRICT!AN39,0))","v":2994.4769124495024},{"$f":"MAX(COUNTRY_INFO!D39*AK39*PROFILE!$G$10,COUNTRY_INFO!D39*AL39*PROFILE!$G$10,IF(AND(DISTRICT!Z39<>\"Inconnu\",Z39<>\"Non requis\"),COUNTRY_INFO!O39*DISTRICT!AO39,0))","v":6621.2577149848521},11688,0,{"$f":"MAX('MDA2'!J39,'T1'!L39,'T2'!J39,T3_R1!K39,T3_R2!K39)","v":0},{"$f":"MAX('MDA1'!K39,'MDA2'!K39,'MDA3'!I39,'MDA3'!L39,'T1'!M39,'T2'!K39,T3_R1!L39,T3_R2!L39)","v":0},{"$f":"MAX('MDA1'!L39,'MDA2'!L39,'MDA3'!J39,'MDA3'!M39,'T1'!N39,'T2'!L39,T3_R1!M39,T3_R2!M39)","v":0},0,{"$f":"MAX('MDA2'!J39,T39)","v":0},{"$f":"MAX('MDA1'!K39,'MDA2'!K39,'MDA3'!I39,'MDA3'!L39,V39,AD39)","v":0},{"$f":"MAX('MDA1'!L39,'MDA2'!L39,'MDA3'!J39,'MDA3'!M39,AF39)","v":0},0,0]
[{"$f":"IF(COUNTRY_INFO!A40=0,\" \",COUNTRY_INFO!A40)","v":"Guinea Bissau"},{"$f":"IF(COUNTRY_INFO!B40=0,\" \",COUNTRY_INFO!B40)","v":"Biombo"},{"$f":"IF(COUNTRY_INFO!C40=0,\" \",COUNTRY_INFO!C40)","v":"QUINHAMEL"},{"$f":"COUNTRY_INFO!L40","v":17202},null,null,{"$f":"MAX('MDA1'!M40,'MDA2'!M40)","v":0},{"$f":"IF(AND(COUNTRY_INFO!H40>0,COUNTRY_INFO!H40<4),IF(D40>MAX('MDA1'!M40,'MDA2'!M40),MAX('MDA1'!M40,'MDA2'!M40),D40),0)","v":0},{"$f":"IF(AND(COUNTRY_INFO!H40>0,COUNTRY_INFO!H40<4), IF(G40/D40*100<>0, IF(G40/D40*100>100,100,G40/D40*100), \"-\"),0)","v":"-"},{"$f":"COUNTRY_INFO!M40","v":"Inconnu"},null,null,{"$f":"MAX('MDA1'!M40,MAX('MDA3'!I40,'MDA3'!L40)+MAX('MDA3'!J40,'MDA3'!M40))","v":0},{"$f":"IF(AND(COUNTRY_INFO!I40>0,COUNTRY_INFO!I40<4),IF(J40>MAX('MDA1'!M40,MAX('MDA3'!I40,'MDA3'!L40)+MAX('MDA3'!J40,'MDA3'!M40)),MAX('MDA1'!M40,MAX('MDA3'!I40,'MDA3'!L40)+MAX('MDA3'!J40,'MDA3'!M40)),J40),0)","v":0},{"$f":"IF(AND(COUNTRY_INFO!I40>0,COUNTRY_INFO!I40<4), IF(M40/J40*100<>0, IF(M40/J40*100>100,100,M40/J40*100), \"-\"),0)","v":0},{"$f":"COUNTRY_INFO!N40","v":6695},null,null,{"$f":"SUM(MAX('MDA2'!J40, 'T1'!L40, MAX(T3_R1!K40, T3_R2!K40)), MAX('MDA1'!K40, 'MDA2'!K40, 'T1'!M40, MAX(T3_R1!L40, T3_R2!L40)), MAX('MDA1'!L40, 'MDA2'!L40, 'T1'!N40, MAX(T3_R1!M40, T3_R2!M40)))","v":0},{"$f":"IF(AND(COUNTRY_INFO!J40>1,COUNTRY_INFO!J40<4),IF(COUNTRY_INFO!E40>MAX('MDA2'!J40,'T1'!L40,MAX(T3_R1!K40,T3_R2!K40)),MAX('MDA2'!J40,'T1'!L40,MAX(T3_R1!K40,T3_R2!K40)),COUNTRY_INFO!E40),0)","v":0},{"$f":"IF(AND(COUNTRY_INFO!J40>1,COUNTRY_INFO!J40<4), IF(T40/COUNTRY_INFO!E40*100<>0, IF(T40/COUNTRY_INFO!E40*100>100,100,T40/COUNTRY_INFO!E40*100), \"-\"),0)","v":"-"},{"$f":"IF(AND(COUNTRY_INFO!J40>1,COUNTRY_INFO!J40<4),IF(COUNTRY_INFO!F40>MAX('MDA1'!K40,'MDA2'!K40,'T1'!M40,MAX(T3_R1!L40,T3_R2!L40)),MAX('MDA1'!K40,'MDA2'!K40,'T1'!M40,MAX(T3_R1!L40,T3_R2!L40)),COUNTRY_INFO!F40),0)","v":0},{"$f":"IF(AND(COUNTRY_INFO!J40>1,COUNTRY_INFO!J40<4), IF(V40/COUNTRY_INFO!F40*100<>0, IF(V40/COUNTRY_INFO!F40*100>100,100,V40/COUNTRY_INFO!F40*100), \"-\"),0)","v":"-"},0,{"$f":"IF(AND(COUNTRY_INFO!J40>1,COUNTRY_INFO!J40<4), IF(S40/P40*100<>0, IF(X40/P40*100>100,100,X40/P40*100), \"-\"),0)","v":"-"},{"$f":"COUNTRY_INFO!O40","v":0},null,null,{"$f":"MAX('T1'!L40,'T2'!J40)+MAX('T1'!M40,'T2'!K40)+MAX('T1'!N40,'T2'!L40)","v":0},{"$f":"IF(COUNTRY_INFO!K40=1,IF(COUNTRY_INFO!F40*0.33>MAX('T1'!M40,'T2'!K40),MAX('T1'!M40,'T2'!K40),COUNTRY_INFO!F40*0.33),IF(COUNTRY_INFO!K40=2,IF(COUNTRY_INFO!F40*0.5>MAX('T1'!M40,'T2'!K40),MAX('T1'!M40,'T2'!K40),COUNTRY_INFO!F40*0.5),IF(COUNTRY_INFO!K40=3,IF(COUNTRY_INFO!F40>MAX('T1'!M40,'T2'!K40),MAX('T1'!M40,'T2'!K40),COUNTRY_INFO!F40),0)))","v":0},{"$f":"IF(AND(COUNTRY_INFO!K40>0,COUNTRY_INFO!K40<4),IF(Z40>0,IF(COUNTRY_INFO!K40=1, AD40/(COUNTRY_INFO!F40*0.33)*100, IF(COUNTRY_INFO!K40=2, AD40/(COUNTRY_INFO!F40*0.5)*100, IF(COUNTRY_INFO!K40=3, AD40/COUNTRY_INFO!F40*100))),\"-\"),0)","v":0},{"$f":"IF(COUNTRY_INFO!K40=2,IF(COUNTRY_INFO!G40*0.2>MAX('T1'!N40,'T2'!L40),MAX('T1'!N40,'T2'!L40),COUNTRY_INFO!G40*0.2),IF(COUNTRY_INFO!K40=3,IF(COUNTRY_INFO!G40>MAX('T1'!N40,'T2'!L40),MAX('T1'!N40,'T2'!L40),COUNTRY_INFO!G40),0))","v":0},{"$f":"IF(AND(COUNTRY_INFO!K40>0,COUNTRY_INFO!K40<4),IF(Z40>0,IF(COUNTRY_INFO!K40=1, 0, IF(COUNTRY_INFO!K40=2, AF40/(COUNTRY_INFO!G40*0.2)*100, IF(COUNTRY_INFO!K40=3, AF40/COUNTRY_INFO!G40*100))),\"-\"),0)","v":0},0,{"$f":"IF(AND(COUNTRY_INFO!K40>0,COUNTRY_INFO!K40<4), IF(AC40/Z40*100<>0, IF(AH40/Z40*100>100,100,AH40/Z40*100), \"-\"),0)","v":0},null,{"$f":"IF(AND(D40<>0, D40<>\"Inconnu\",D40<>\"Interrompu\",D40<>\"Non requis\"),D40/COUNTRY_INFO!D40, 0)","v":1},{"$f":"IF(AND(J40<>0,J40<>\"Inconnu\",J40<>\"Interrompu\",J40<>\"Non requis\"),J40/COUNTRY_INFO!D40, 0)","v":0},{"$f":"IF(AND(P40<>0,P40<>\"Inconnu\",P40<>\"Non requis\"),P40/(COUNTRY_INFO!E40+COUNTRY_INFO!F40), 0)","v":1},{"$f":"IF(AND(Z40<>0,Z40<>\"Inconnu\",Z40<>\"Non requis\"),IF(COUNTRY_INFO!K40=1,1,IF(COUNTRY_INFO!K40=2,0.5*COUNTRY_INFO!F40/(0.5*COUNTRY_INFO!F40+0.2*COUNTRY_INFO!G40),IF(COUNTRY_INFO!K40=3,COUNTRY_INFO!F40/(COUNTRY_INFO!F40+COUNTRY_INFO!G40)))),0)","v":0},{"$f":"IF(AND(Z40<>0,Z40<>\"Inconnu\",Z40<>\"Non requis\"),IF(COUNTRY_INFO!K40=1,0,IF(COUNTRY_INFO!K40=2,0.2*COUNTRY_INFO!G40/(0.5*COUNTRY_INFO!F40+0.2*COUNTRY_INFO!G40),IF(COUNTRY_INFO!K40=3,COUNTRY_INFO!G40/(COUNTRY_INFO!F40+COUNTRY_INFO!G40)))),0)","v":0},{"$f":"MAX(COUNTRY_INFO!D40*AK40*PROFILE!$G$7,COUNTRY_INFO!D40*AL40*PROFILE!$G$7)","v":762.01503285445858},{"$f":"MAX(COUNTRY_INFO!D40*AK40*PROFILE!$G$8,COUNTRY_INFO!D40*AL40*PROFILE!$G$8,COUNTRY_INFO!D40*AM40*PROFILE!$G$8)","v":2287.874506748059},{"$f":"MAX(COUNTRY_INFO!D40*AK40*PROFILE!$G$9,COUNTRY_INFO!D40*AL40*PROFILE!$G$9,COUNTRY_INFO!D40*AM40*PROFILE!$G$9,IF(AND(DISTRICT!Z40<>\"Inconnu\",Z40<>\"Non requis\"),COUNTRY_INFO!O40*DISTRICT!AN40,0))","v":4407.1690492775788},{"$f":"MAX(COUNTRY_INFO!D40*AK40*PROFILE!$G$10,COUNTRY_INFO!D40*AL40*PROFILE!$G$10,IF(AND(DISTRICT!Z40<>\"Inconnu\",Z40<>\"Non requis\"),COUNTRY_INFO!O40*DISTRICT!AO40,0))","v":9744.9414111199021},17202,0,{"$f":"MAX('MDA2'!J40,'T1'!L40,'T2'!J40,T3_R1!K40,T3_R2!K40)","v":0},{"$f":"MAX('MDA1'!K40,'MDA2'!K40,'MDA3'!I40,'MDA3'!L40,'T1'!M40,'T2'!K40,T3_R1!L40,T3_R2!L40)","v":0},{"$f":"MAX('MDA1'!L40,'MDA2'!L40,'MDA3'!J40,'MDA3'!M40,'T1'!N40,'T2'!L40,T3_R1!M40,T3_R2!M40)","v":0},0,{"$f":"MAX('MDA2'!J40,T40)","v":0},{"$f":"MAX('MDA1'!K40,'MDA2'!K40,'MDA3'!I40,'MDA3'!L40,V40,AD40)","v":0},{"$f":"MAX('MDA1'!L40,'MDA2'!L40,'MDA3'!J40,'MDA3'!M40,AF40)","v":0},0,0]
[{"$f":"IF(COUNTRY_INFO!A41=0,\" \",COUNTRY_INFO!A41)","v":"Guinea Bissau"},{"$f":"IF(COUNTRY_INFO!B41=0,\" \",COUNTRY_INFO!B41)","v":"Biombo"},{"$f":"IF(COUNTRY_INFO!C41=0,\" \",COUNTRY_INFO!C41)","v":"SAFIM"},{"$f":"COUNTRY_INFO!L41","v":17209},null,null,{"$f":"MAX('MDA1'!M41,'MDA2'!M41)","v":0},{"$f":"IF(AND(COUNTRY_INFO!H41>0,COUNTRY_INFO!H41<4),IF(D41>MAX('MDA1'!M41,'MDA2'!M41),MAX('MDA1'!M41,'MDA2'!M41),D41),0)","v":0},{"$f":"IF(AND(COUNTRY_INFO!H41>0,COUNTRY_INFO!H41<4), IF(G41/D41*100<>0, IF(G41/D41*100>100,100,G41/D41*100), \"-\"),0)","v":"-"},{"$f":"COUNTRY_INFO!M41","v":"Inconnu"},null,null,{"$f":"MAX('MDA1'!M41,MAX('MDA3'!I41,'MDA3'!L41)+MAX('MDA3'!J41,'MDA3'!M41))","v":0},{"$f":"IF(AND(COUNTRY_INFO!I41>0,COUNTRY_INFO!I41<4),IF(J41>MAX('MDA1'!M41,MAX('MDA3'!I41,'MDA3'!L41)+MAX('MDA3'!J41,'MDA3'!M41)),MAX('MDA1'!M41,MAX('MDA3'!I41,'MDA3'!L41)+MAX('MDA3'!J41,'MDA3'!M41)),J41),0)","v":0},{"$f":"IF(AND(COUNTRY_INFO!I41>0,COUNTRY_INFO!I41<4), IF(M41/J41*100<>0, IF(M41/J41*100>100,100,M41/J41*100), \"-\"),0)","v":0},{"$f":"COUNTRY_INFO!N41","v":6698},null,null,{"$f":"SUM(MAX('MDA2'!J41, 'T1'!L41, MAX(T3_R1!K41, T3_R2!K41)), MAX('MDA1'!K41, 'MDA2'!K41, 'T1'!M41, MAX(T3_R1!L41, T3_R2!L41)), MAX('MDA1'!L41, 'MDA2'!L41, 'T1'!N41, MAX(T3_R1!M41, T3_R2!M41)))","v":0},{"$f":"IF(AND(COUNTRY_INFO!J41>1,COUNTRY_INFO!J41<4),IF(COUNTRY_INFO!E41>MAX('MDA2'!J41,'T1'!L41,MAX(T3_R1!K41,T3_R2!K41)),MAX('MDA2'!J41,'T1'!L41,MAX(T3_R1!K41,T3_R2!K41)),COUNTRY_INFO!E41),0)","v":0},{"$f":"IF(AND(COUNTRY_INFO!J41>1,COUNTRY_INFO!J41<4), IF(T41/COUNTRY_INFO!E41*100<>0, IF(T41/COUNTRY_INFO!E41*100>100,100,T41/COUNTRY_INFO!E41*100), \"-\"),0)","v":"-"},{"$f":"IF(AND(COUNTRY_INFO!J41>1,COUNTRY_INFO!J41<4),IF(COUNTRY_INFO!F41>MAX('MDA1'!K41,'MDA2'!K41,'T1'!M41,MAX(T3_R1!L41,T3_R2!L41)),MAX('MDA1'!K41,'MDA2'!K41,'T1'!M41,MAX(T3_R1!L41,T3_R2!L41)),COUNTRY_INFO!F41),0)","v":0},{"$f":"IF(AND(COUNTRY_INFO!J41>1,COUNTRY_INFO!J41<4), IF(V41/COUNTRY_INFO!F41*100<>0, IF(V41/COUNTRY_INFO!F41*100>100,100,V41/COUNTRY_INFO!F41*100), \"-\"),0)","v":"-"},0,{"$f":"IF(AND(COUNTRY_INFO!J41>1,COUNTRY_INFO!J41<4), IF(S41/P41*100<>0, IF(X41/P41*100>100,100,X41/P41*100), \"-\"),0)","v":"-"},{"$f":"COUNTRY_INFO!O41","v":0},null,null,{"$f":"MAX('T1'!L41,'T2'!J41)+MAX('T1'!M41,'T2'!K41)+MAX('T1'!N41,'T2'!L41)","v":0},{"$f":"IF(COUNTRY_INFO!K41=1,IF(COUNTRY_INFO!F41*0.33>MAX('T1'!M41,'T2'!K41),MAX('T1'!M41,'T2'!K41),COUNTRY_INFO!F41*0.33),IF(COUNTRY_INFO!K41=2,IF(COUNTRY_INFO!F41*0.5>MAX('T1'!M41,'T2'!K41),MAX('T1'!M41,'T2'!K41),COUNTRY_INFO!F41*0.5),IF(COUNTRY_INFO!K41=3,IF(COUNTRY_INFO!F41>MAX('T1'!M41,'T2'!K41),MAX('T1'!M41,'T2'!K41),COUNTRY_INFO!F41),0)))","v":0},{"$f":"IF(AND(COUNTRY_INFO!K41>0,COUNTRY_INFO!K41<4),IF(Z41>0,IF(COUNTRY_INFO!K41=1, AD41/(COUNTRY_INFO!F41*0.33)*100, IF(COUNTRY_INFO!K41=2, AD41/(COUNTRY_INFO!F41*0.5)*100, IF(COUNTRY_INFO!K41=3, AD41/COUNTRY_INFO!F41*100))),\"-\"),0)","v":0},{"$f":"IF(COUNTRY_INFO!K41=2,IF(COUNTRY_INFO!G41*0.2>MAX('T1'!N41,'T2'!L41),MAX('T1'!N41,'T2'!L41),COUNTRY_INFO!G41*0.2),IF(COUNTRY_INFO!K41=3,IF(COUNTRY_INFO!G41>MAX('T1'!N41,'T2'!L41),MAX('T1'!N41,'T2'!L41),COUNTRY_INFO!G41),0))","v":0},{"$f":"IF(AND(COUNTRY_INFO!K41>0,COUNTRY_INFO!K41<4),IF(Z41>0,IF(COUNTRY_INFO!K41=1, 0, IF(COUNTRY_INFO!K41=2, AF41/(COUNTRY_INFO!G41*0.2)*100, IF(COUNTRY_INFO!K41=3, AF41/COUNTRY_INFO!G41*100))),\"-\"),0)","v":0},0,{"$f":"IF(AND(COUNTRY_INFO!K41>0,COUNTRY_INFO!K41<4), IF(AC41/Z41*100<>0, IF(AH41/Z41*100>100,100,AH41/Z41*100), \"-\"),0)","v":0},null,{"$f":"IF(AND(D41<>0, D41<>\"Inconnu\",D41<>\"Interrompu\",D41<>\"Non requis\"),D41/COUNTRY_INFO!D41, 0)","v":1},{"$f":"IF(AND(J41<>0,J41<>\"Inconnu\",J41<>\"Interrompu\",J41<>\"Non requis\"),J41/COUNTRY_INFO!D41, 0)","v":0},{"$f":"IF(AND(P41<>0,P41<>\"Inconnu\",P41<>\"Non requis\"),P41/(COUNTRY_INFO!E41+COUNTRY_INFO!F41), 0)","v":1},{"$f":"IF(AND(Z41<>0,Z41<>\"Inconnu\",Z41<>\"Non requis\"),IF(COUNTRY_INFO!K41=1,1,IF(COUNTRY_INFO!K41=2,0.5*COUNTRY_INFO!F41/(0.5*COUNTRY_INFO!F41+0.2*COUNTRY_INFO!G41),IF(COUNTRY_INFO!K41=3,COUNTRY_INFO!F41/(COUNTRY_INFO!F41+COUNTRY_INFO!G41)))),0)","v":0},{"$f":"IF(AND(Z41<>0,Z41<>\"Inconnu\",Z41<>\"Non requis\"),IF(COUNTRY_INFO!K41=1,0,IF(COUNTRY_INFO!K41=2,0.2*COUNTRY_INFO!G41/(0.5*COUNTRY_INFO!F41+0.2*COUNTRY_INFO!G41),IF(COUNTRY_INFO!K41=3,COUNTRY_INFO!G41/(COUNTRY_INFO!F41+COUNTRY_INFO!G41)))),0)","v":0},{"$f":"MAX(COUNTRY_INFO!D41*AK41*PROFILE!$G$7,COUNTRY_INFO!D41*AL41*PROFILE!$G$7)","v":762.32511919499927},{"$f":"MAX(COUNTRY_INFO!D41*AK41*PROFILE!$G$8,COUNTRY_INFO!D41*AL41*PROFILE!$G$8,COUNTRY_INFO!D41*AM41*PROFILE!$G$8)","v":2288.8055102097051},{"$f":"MAX(COUNTRY_INFO!D41*AK41*PROFILE!$G$9,COUNTRY_INFO!D41*AL41*PROFILE!$G$9,COUNTRY_INFO!D41*AM41*PROFILE!$G$9,IF(AND(DISTRICT!Z41<>\"Inconnu\",Z41<>\"Non requis\"),COUNTRY_INFO!O41*DISTRICT!AN41,0))","v":4408.9624560526599},{"$f":"MAX(COUNTRY_INFO!D41*AK41*PROFILE!$G$10,COUNTRY_INFO!D41*AL41*PROFILE!$G$10,IF(AND(DISTRICT!Z41<>\"Inconnu\",Z41<>\"Non requis\"),COUNTRY_INFO!O41*DISTRICT!AO41,0))","v":9748.9069145426347},17209,{"$f":"IF(COUNTIFS(AK41:AN41,\">0\")=0,0, IF(COUNTIFS(AK41:AN41,\">0\")<=IF(AND(OR(D41>=0,D41=\"Non requis\",D41=\"Inconnu\",D41=\"Interrompu\"),D41>0,H41>0),1,0)+IF(AND(OR(J41>=0,J41=\"Non requis\",J41=\"Inconnu\",J41=\"Interrompu\"),J41>0,N41>0),1,0)+IF(AND(OR(P41>=0,P41=\"Non requis\",P41=\"Inconnu\"),P41>0,X41>0),1,0)+IF(AND(OR(Z41>=0,Z41=\"Non requis\",Z41=\"Inconnu\"),Z41>0,AH41>0),1,0),\"Y\",0))","v":0},{"$f":"MAX('MDA2'!J41,'T1'!L41,'T2'!J41,T3_R1!K41,T3_R2!K41)","v":0},{"$f":"MAX('MDA1'!K41,'MDA2'!K41,'MDA3'!I41,'MDA3'!L41,'T1'!M41,'T2'!K41,T3_R1!L41,T3_R2!L41)","v":0},{"$f":"MAX('MDA1'!L41,'MDA2'!L41,'MDA3'!J41,'MDA3'!M41,'T1'!N41,'T2'!L41,T3_R1!M41,T3_R2!M41)","v":0},0,{"$f":"MAX('MDA2'!J41,T41)","v":0},{"$f":"MAX('MDA1'!K41,'MDA2'!K41,'MDA3'!I41,'MDA3'!L41,V41,AD41)","v":0},{"$f":"MAX('MDA1'!L41,'MDA2'!L41,'MDA3'!J41,'MDA3'!M41,AF41)","v":0},{"$f":"IF(AT41<SUM(AZ41:BB41), AT41,SUM(AZ41:BB41))","v":0},{"$f":"IF(AT41<>0,BC41/AT41*100,0)","v":0}]
[{"$f":"IF(COUNTRY_INFO!A42=0,\" \",COUNTRY_INFO!A42)","v":"Guinea Bissau"},{"$f":"IF(COUNTRY_INFO!B42=0,\" \",COUNTRY_INFO!B42)","v":"Farim"},{"$f":"IF(COUNTRY_INFO!C42=0,\" \",COUNTRY_INFO!C42)","v":"BINTA"},{"$f":"COUNTRY_INFO!L42","v":7807},null,null,{"$f":"MAX('MDA1'!M42,'MDA2'!M42)","v":0},{"$f":"IF(AND(COUNTRY_INFO!H42>0,COUNTRY_INFO!H42<4),IF(D42>MAX('MDA1'!M42,'MDA2'!M42),MAX('MDA1'!M42,'MDA2'!M42),D42),0)","v":0},{"$f":"IF(AND(COUNTRY_INFO!H42>0,COUNTRY_INFO!H42<4), IF(G42/D42*100<>0, IF(G42/D42*100>100,100,G42/D42*100), \"-\"),0)","v":"-"},{"$f":"COUNTRY_INFO!M42","v":"Inconnu"},null,null,{"$f":"MAX('MDA1'!M42,MAX('MDA3'!I42,'MDA3'!L42)+MAX('MDA3'!J42,'MDA3'!M42))","v":0},{"$f":"IF(AND(COUNTRY_INFO!I42>0,COUNTRY_INFO!I42<4),IF(J42>MAX('MDA1'!M42,MAX('MDA3'!I42,'MDA3'!L42)+MAX('MDA3'!J42,'MDA3'!M42)),MAX('MDA1'!M42,MAX('MDA3'!I42,'MDA3'!L42)+MAX('MDA3'!J42,'MDA3'!M42)),J42),0)","v":0},{"$f":"IF(AND(COUNTRY_INFO!I42>0,COUNTRY_INFO!I42<4), IF(M42/J42*100<>0, IF(M42/J42*100>100,100,M42/J42*100), \"-\"),0)","v":0},{"$f":"COUNTRY_INFO!N42","v":0},null,null,{"$f":"SUM(MAX('MDA2'!J42, 'T1'!L42, MAX(T3_R1!K42, T3_R2!K42)), MAX('MDA1'!K42, 'MDA2'!K42, 'T1'!M42, MAX(T3_R1!L42, T3_R2!L42)), MAX('MDA1'!L42, 'MDA2'!L42, 'T1'!N42, MAX(T3_R1!M42, T3_R2!M42)))","v":0},{"$f":"IF(AND(COUNTRY_INFO!J42>1,COUNTRY_INFO!J42<4),IF(COUNTRY_INFO!E42>MAX('MDA2'!J42,'T1'!L42,MAX(T3_R1!K42,T3_R2!K42)),MAX('MDA2'!J42,'T1'!L42,MAX(T3_R1!K42,T3_R2!K42)),COUNTRY_INFO!E42),0)","v":0},{"$f":"IF(AND(COUNTRY_INFO!J42>1,COUNTRY_INFO!J42<4), IF(T42/COUNTRY_INFO!E42*100<>0, IF(T42/COUNTRY_INFO!E42*100>100,100,T42/COUNTRY_INFO!E42*100), \"-\"),0)","v":0},{"$f":"IF(AND(COUNTRY_INFO!J42>1,COUNTRY_INFO!J42<4),IF(COUNTRY_INFO!F42>MAX('MDA1'!K42,'MDA2'!K42,'T1'!M42,MAX(T3_R1!L42,T3_R2!L42)),MAX('MDA1'!K42,'MDA2'!K42,'T1'!M42,MAX(T3_R1!L42,T3_R2!L42)),COUNTRY_INFO!F42),0)","v":0},{"$f":"IF(AND(COUNTRY_INFO!J42>1,COUNTRY_INFO!J42<4), IF(V42/COUNTRY_INFO!F42*100<>0, IF(V42/COUNTRY_INFO!F42*100>100,100,V42/COUNTRY_INFO!F42*100), \"-\"),0)","v":0},0,{"$f":"IF(AND(COUNTRY_INFO!J42>1,COUNTRY_INFO!J42<4), IF(S42/P42*100<>0, IF(X42/P42*100>100,100,X42/P42*100), \"-\"),0)","v":0},{"$f":"COUNTRY_INFO!O42","v":1884.6},null,null,{"$f":"MAX('T1'!L42,'T2'!J42)+MAX('T1'!M42,'T2'!K42)+MAX('T1'!N42,'T2'!L42)","v":2007},{"$f":"IF(COUNTRY_INFO!K42=1,IF(COUNTRY_INFO!F42*0.33>MAX('T1'!M42,'T2'!K42),MAX('T1'!M42,'T2'!K42),COUNTRY_INFO!F42*0.33),IF(COUNTRY_INFO!K42=2,IF(COUNTRY_INFO!F42*0.5>MAX('T1'!M42,'T2'!K42),MAX('T1'!M42,'T2'!K42),COUNTRY_INFO!F42*0.5),IF(COUNTRY_INFO!K42=3,IF(COUNTRY_INFO!F42>MAX('T1'!M42,'T2'!K42),MAX('T1'!M42,'T2'!K42),COUNTRY_INFO!F42),0)))","v":1000},{"$f":"IF(AND(COUNTRY_INFO!K42>0,COUNTRY_INFO!K42<4),IF(Z42>0,IF(COUNTRY_INFO!K42=1, AD42/(COUNTRY_INFO!F42*0.33)*100, IF(COUNTRY_INFO!K42=2, AD42/(COUNTRY_INFO!F42*0.5)*100, IF(COUNTRY_INFO!K42=3, AD42/COUNTRY_INFO!F42*100))),\"-\"),0)","v":100},{"$f":"IF(COUNTRY_INFO!K42=2,IF(COUNTRY_INFO!G42*0.2>MAX('T1'!N42,'T2'!L42),MAX('T1'!N42,'T2'!L42),COUNTRY_INFO!G42*0.2),IF(COUNTRY_INFO!K42=3,IF(COUNTRY_INFO!G42>MAX('T1'!N42,'T2'!L42),MAX('T1'!N42,'T2'!L42),COUNTRY_INFO!G42),0))","v":0},{"$f":"IF(AND(COUNTRY_INFO!K42>0,COUNTRY_INFO!K42<4),IF(Z42>0,IF(COUNTRY_INFO!K42=1, 0, IF(COUNTRY_INFO!K42=2, AF42/(COUNTRY_INFO!G42*0.2)*100, IF(COUNTRY_INFO!K42=3, AF42/COUNTRY_INFO!G42*100))),\"-\"),0)","v":0},1000,{"$f":"IF(AND(COUNTRY_INFO!K42>0,COUNTRY_INFO!K42<4), IF(AC42/Z42*100<>0, IF(AH42/Z42*100>100,100,AH42/Z42*100), \"-\"),0)","v":53.061657646184869},null,{"$f":"IF(AND(D42<>0, D42<>\"Inconnu\",D42<>\"Interrompu\",D42<>\"Non requis\"),D42/COUNTRY_INFO!D42, 0)","v":1},{"$f":"IF(AND(J42<>0,J42<>\"Inconnu\",J42<>\"Interrompu\",J42<>\"Non requis\"),J42/COUNTRY_INFO!D42, 0)","v":0},{"$f":"IF(AND(P42<>0,P42<>\"Inconnu\",P42<>\"Non requis\"),P42/(COUNTRY_INFO!E42+COUNTRY_INFO!F42), 0)","v":0},{"$f":"IF(AND(Z42<>0,Z42<>\"Inconnu\",Z42<>\"Non requis\"),IF(COUNTRY_INFO!K42=1,1,IF(COUNTRY_INFO!K42=2,0.5*COUNTRY_INFO!F42/(0.5*COUNTRY_INFO!F42+0.2*COUNTRY_INFO!G42),IF(COUNTRY_INFO!K42=3,COUNTRY_INFO!F42/(COUNTRY_INFO!F42+COUNTRY_INFO!G42)))),0)","v":0.53061657646184868},{"$f":"IF(AND(Z42<>0,Z42<>\"Inconnu\",Z42<>\"Non requis\"),IF(COUNTRY_INFO!K42=1,0,IF(COUNTRY_INFO!K42=2,0.2*COUNTRY_INFO!G42/(0.5*COUNTRY_INFO!F42+0.2*COUNTRY_INFO!G42),IF(COUNTRY_INFO!K42=3,COUNTRY_INFO!G42/(COUNTRY_INFO!F42+COUNTRY_INFO!G42)))),0)","v":0.46938342353815138},{"$f":"MAX(COUNTRY_INFO!D42*AK42*PROFILE!$G$7,COUNTRY_INFO!D42*AL42*PROFILE!$G$7)","v":345.83486580018359},{"$f":"MAX(COUNTRY_INFO!D42*AK42*PROFILE!$G$8,COUNTRY_INFO!D42*AL42*PROFILE!$G$8,COUNTRY_INFO!D42*AM42*PROFILE!$G$8)","v":1038.3348607244561},{"$f":"MAX(COUNTRY_INFO!D42*AK42*PROFILE!$G$9,COUNTRY_INFO!D42*AL42*PROFILE!$G$9,COUNTRY_INFO!D42*AM42*PROFILE!$G$9,IF(AND(DISTRICT!Z42<>\"Inconnu\",Z42<>\"Non requis\"),COUNTRY_INFO!O42*DISTRICT!AN42,0))","v":2000.1609561510325},{"$f":"MAX(COUNTRY_INFO!D42*AK42*PROFILE!$G$10,COUNTRY_INFO!D42*AL42*PROFILE!$G$10,IF(AND(DISTRICT!Z42<>\"Inconnu\",Z42<>\"Non requis\"),COUNTRY_INFO!O42*DISTRICT!AO42,0))","v":4422.6693173243275},7807,0,{"$f":"MAX('MDA2'!J42,'T1'!L42,'T2'!J42,T3_R1!K42,T3_R2!K42)","v":0},{"$f":"MAX('MDA1'!K42,'MDA2'!K42,'MDA3'!I42,'MDA3'!L42,'T1'!M42,'T2'!K42,T3_R1!L42,T3_R2!L42)","v":2007},{"$f":"MAX('MDA1'!L42,'MDA2'!L42,'MDA3'!J42,'MDA3'!M42,'T1'!N42,'T2'!L42,T3_R1!M42,T3_R2!M42)","v":0},2007,{"$f":"MAX('MDA2'!J42,T42)","v":0},{"$f":"MAX('MDA1'!K42,'MDA2'!K42,'MDA3'!I42,'MDA3'!L42,V42,AD42)","v":1000},{"$f":"MAX('MDA1'!L42,'MDA2'!L42,'MDA3'!J42,'MDA3'!M42,AF42)","v":0},1000,12.80901754835404]
[{"$f":"IF(COUNTRY_INFO!A43=0,\" \",COUNTRY_INFO!A43)","v":"Guinea Bissau"},{"$f":"IF(COUNTRY_INFO!B43=0,\" \",COUNTRY_INFO!B43)","v":"Farim"},{"$f":"IF(COUNTRY_INFO!C43=0,\" \",COUNTRY_INFO!C43)","v":"CANDJAMBARI"},{"$f":"COUNTRY_INFO!L43","v":5860},null,null,{"$f":"MAX('MDA1'!M43,'MDA2'!M43)","v":0},{"$f":"IF(AND(COUNTRY_INFO!H43>0,COUNTRY_INFO!H43<4),IF(D43>MAX('MDA1'!M43,'MDA2'!M43),MAX('MDA1'!M43,'MDA2'!M43),D43),0)","v":0},{"$f":"IF(AND(COUNTRY_INFO!H43>0,COUNTRY_INFO!H43<4), IF(G43/D43*100<>0, IF(G43/D43*100>100,100,G43/D43*100), \"-\"),0)","v":"-"},{"$f":"COUNTRY_INFO!M43","v":"Inconnu"},null,null,{"$f":"MAX('MDA1'!M43,MAX('MDA3'!I43,'MDA3'!L43)+MAX('MDA3'!J43,'MDA3'!M43))","v":0},{"$f":"IF(AND(COUNTRY_INFO!I43>0,COUNTRY_INFO!I43<4),IF(J43>MAX('MDA1'!M43,MAX('MDA3'!I43,'MDA3'!L43)+MAX('MDA3'!J43,'MDA3'!M43)),MAX('MDA1'!M43,MAX('MDA3'!I43,'MDA3'!L43)+MAX('MDA3'!J43,'MDA3'!M43)),J43),0)","v":0},{"$f":"IF(AND(COUNTRY_INFO!I43>0,COUNTRY_INFO!I43<4), IF(M43/J43*100<>0, IF(M43/J43*100>100,100,M43/J43*100), \"-\"),0)","v":0},{"$f":"COUNTRY_INFO!N43","v":0},null,null,{"$f":"SUM(MAX('MDA2'!J43, 'T1'!L43, MAX(T3_R1!K43, T3_R2!K43)), MAX('MDA1'!K43, 'MDA2'!K43, 'T1'!M43, MAX(T3_R1!L43, T3_R2!L43)), MAX('MDA1'!L43, 'MDA2'!L43, 'T1'!N43, MAX(T3_R1!M43, T3_R2!M43)))","v":0},{"$f":"IF(AND(COUNTRY_INFO!J43>1,COUNTRY_INFO!J43<4),IF(COUNTRY_INFO!E43>MAX('MDA2'!J43,'T1'!L43,MAX(T3_R1!K43,T3_R2!K43)),MAX('MDA2'!J43,'T1'!L43,MAX(T3_R1!K43,T3_R2!K43)),COUNTRY_INFO!E43),0)","v":0},{"$f":"IF(AND(COUNTRY_INFO!J43>1,COUNTRY_INFO!J43<4), IF(T43/COUNTRY_INFO!E43*100<>0, IF(T43/COUNTRY_INFO!E43*100>100,100,T43/COUNTRY_INFO!E43*100), \"-\"),0)","v":0},{"$f":"IF(AND(COUNTRY_INFO!J43>1,COUNTRY_INFO!J43<4),IF(COUNTRY_INFO!F43>MAX('MDA1'!K43,'MDA2'!K43,'T1'!M43,MAX(T3_R1!L43,T3_R2!L43)),MAX('MDA1'!K43,'MDA2'!K43,'T1'!M43,MAX(T3_R1!L43,T3_R2!L43)),COUNTRY_INFO!F43),0)","v":0},{"$f":"IF(AND(COUNTRY_INFO!J43>1,COUNTRY_INFO!J43<4), IF(V43/COUNTRY_INFO!F43*100<>0, IF(V43/COUNTRY_INFO!F43*100>100,100,V43/COUNTRY_INFO!F43*100), \"-\"),0)","v":0},0,{"$f":"IF(AND(COUNTRY_INFO!J43>1,COUNTRY_INFO!J43<4), IF(S43/P43*100<>0, IF(X43/P43*100>100,100,X43/P43*100), \"-\"),0)","v":0},{"$f":"COUNTRY_INFO!O43","v":1414.5},null,null,{"$f":"MAX('T1'!L43,'T2'!J43)+MAX('T1'!M43,'T2'!K43)+MAX('T1'!N43,'T2'!L43)","v":1828},{"$f":"IF(COUNTRY_INFO!K43=1,IF(COUNTRY_INFO!F43*0.33>MAX('T1'!M43,'T2'!K43),MAX('T1'!M43,'T2'!K43),COUNTRY_INFO!F43*0.33),IF(COUNTRY_INFO!K43=2,IF(COUNTRY_INFO!F43*0.5>MAX('T1'!M43,'T2'!K43),MAX('T1'!M43,'T2'!K43),COUNTRY_INFO!F43*0.5),IF(COUNTRY_INFO!K43=3,IF(COUNTRY_INFO!F43>MAX('T1'!M43,'T2'!K43),MAX('T1'!M43,'T2'!K43),COUNTRY_INFO!F43),0)))","v":750.5},{"$f":"IF(AND(COUNTRY_INFO!K43>0,COUNTRY_INFO!K43<4),IF(Z43>0,IF(COUNTRY_INFO!K43=1, AD43/(COUNTRY_INFO!F43*0.33)*100, IF(COUNTRY_INFO!K43=2, AD43/(COUNTRY_INFO!F43*0.5)*100, IF(COUNTRY_INFO!K43=3, AD43/COUNTRY_INFO!F43*100))),\"-\"),0)","v":100},{"$f":"IF(COUNTRY_INFO!K43=2,IF(COUNTRY_INFO!G43*0.2>MAX('T1'!N43,'T2'!L43),MAX('T1'!N43,'T2'!L43),COUNTRY_INFO!G43*0.2),IF(COUNTRY_INFO!K43=3,IF(COUNTRY_INFO!G43>MAX('T1'!N43,'T2'!L43),MAX('T1'!N43,'T2'!L43),COUNTRY_INFO!G43),0))","v":0},{"$f":"IF(AND(COUNTRY_INFO!K43>0,COUNTRY_INFO!K43<4),IF(Z43>0,IF(COUNTRY_INFO!K43=1, 0, IF(COUNTRY_INFO!K43=2, AF43/(COUNTRY_INFO!G43*0.2)*100, IF(COUNTRY_INFO!K43=3, AF43/COUNTRY_INFO!G43*100))),\"-\"),0)","v":0},750.5,{"$f":"IF(AND(COUNTRY_INFO!K43>0,COUNTRY_INFO!K43<4), IF(AC43/Z43*100<>0, IF(AH43/Z43*100>100,100,AH43/Z43*100), \"-\"),0)","v":53.057617532697066},null,{"$f":"IF(AND(D43<>0, D43<>\"Inconnu\",D43<>\"Interrompu\",D43<>\"Non requis\"),D43/COUNTRY_INFO!D43, 0)","v":1},{"$f":"IF(AND(J43<>0,J43<>\"Inconnu\",J43<>\"Interrompu\",J43<>\"Non requis\"),J43/COUNTRY_INFO!D43, 0)","v":0},{"$f":"IF(AND(P43<>0,P43<>\"Inconnu\",P43<>\"Non requis\"),P43/(COUNTRY_INFO!E43+COUNTRY_INFO!F43), 0)","v":0},{"$f":"IF(AND(Z43<>0,Z43<>\"Inconnu\",Z43<>\"Non requis\"),IF(COUNTRY_INFO!K43=1,1,IF(COUNTRY_INFO!K43=2,0.5*COUNTRY_INFO!F43/(0.5*COUNTRY_INFO!F43+0.2*COUNTRY_INFO!G43),IF(COUNTRY_INFO!K43=3,COUNTRY_INFO!F43/(COUNTRY_INFO!F43+COUNTRY_INFO!G43)))),0)","v":0.53057617532697066},{"$f":"IF(AND(Z43<>0,Z43<>\"Inconnu\",Z43<>\"Non requis\"),IF(COUNTRY_INFO!K43=1,0,IF(COUNTRY_INFO!K43=2,0.2*COUNTRY_INFO!G43/(0.5*COUNTRY_INFO!F43+0.2*COUNTRY_INFO!G43),IF(COUNTRY_INFO!K43=3,COUNTRY_INFO!G43/(COUNTRY_INFO!F43+COUNTRY_INFO!G43)))),0)","v":0.46942382467302934},{"$f":"MAX(COUNTRY_INFO!D43*AK43*PROFILE!$G$7,COUNTRY_INFO!D43*AL43*PROFILE!$G$7)","v":259.58656508121891},{"$f":"MAX(COUNTRY_INFO!D43*AK43*PROFILE!$G$8,COUNTRY_INFO!D43*AL43*PROFILE!$G$8,COUNTRY_INFO!D43*AM43*PROFILE!$G$8)","v":779.38289789231635},{"$f":"MAX(COUNTRY_INFO!D43*AK43*PROFILE!$G$9,COUNTRY_INFO!D43*AL43*PROFILE!$G$9,COUNTRY_INFO!D43*AM43*PROFILE!$G$9,IF(AND(DISTRICT!Z43<>\"Inconnu\",Z43<>\"Non requis\"),COUNTRY_INFO!O43*DISTRICT!AN43,0))","v":1501.3376717106507},{"$f":"MAX(COUNTRY_INFO!D43*AK43*PROFILE!$G$10,COUNTRY_INFO!D43*AL43*PROFILE!$G$10,IF(AND(DISTRICT!Z43<>\"Inconnu\",Z43<>\"Non requis\"),COUNTRY_INFO!O43*DISTRICT!AO43,0))","v":3319.6928653158138},5860,0,{"$f":"MAX('MDA2'!J43,'T1'!L43,'T2'!J43,T3_R1!K43,T3_R2!K43)","v":0},{"$f":"MAX('MDA1'!K43,'MDA2'!K43,'MDA3'!I43,'MDA3'!L43,'T1'!M43,'T2'!K43,T3_R1!L43,T3_R2!L43)","v":1828},{"$f":"MAX('MDA1'!L43,'MDA2'!L43,'MDA3'!J43,'MDA3'!M43,'T1'!N43,'T2'!L43,T3_R1!M43,T3_R2!M43)","v":0},1828,{"$f":"MAX('MDA2'!J43,T43)","v":0},{"$f":"MAX('MDA1'!K43,'MDA2'!K43,'MDA3'!I43,'MDA3'!L43,V43,AD43)","v":750.5},{"$f":"MAX('MDA1'!L43,'MDA2'!L43,'MDA3'!J43,'MDA3'!M43,AF43)","v":0},750.5,12.807167235494882]
[{"$f":"IF(COUNTRY_INFO!A44=0,\" \",COUNTRY_INFO!A44)","v":"Guinea Bissau"},{"$f":"IF(COUNTRY_INFO!B44=0,\" \",COUNTRY_INFO!B44)","v":"Farim"},{"$f":"IF(COUNTRY_INFO!C44=0,\" \",COUNTRY_INFO!C44)","v":"CUNTIMA"},{"$f":"COUNTRY_INFO!L44","v":13219},null,null,{"$f":"MAX('MDA1'!M44,'MDA2'!M44)","v":0},{"$f":"IF(AND(COUNTRY_INFO!H44>0,COUNTRY_INFO!H44<4),IF(D44>MAX('MDA1'!M44,'MDA2'!M44),MAX('MDA1'!M44,'MDA2'!M44),D44),0)","v":0},{"$f":"IF(AND(COUNTRY_INFO!H44>0,COUNTRY_INFO!H44<4), IF(G44/D44*100<>0, IF(G44/D44*100>100,100,G44/D44*100), \"-\"),0)","v":"-"},{"$f":"COUNTRY_INFO!M44","v":"Inconnu"},null,null,{"$f":"MAX('MDA1'!M44,MAX('MDA3'!I44,'MDA3'!L44)+MAX('MDA3'!J44,'MDA3'!M44))","v":0},{"$f":"IF(AND(COUNTRY_INFO!I44>0,COUNTRY_INFO!I44<4),IF(J44>MAX('MDA1'!M44,MAX('MDA3'!I44,'MDA3'!L44)+MAX('MDA3'!J44,'MDA3'!M44)),MAX('MDA1'!M44,MAX('MDA3'!I44,'MDA3'!L44)+MAX('MDA3'!J44,'MDA3'!M44)),J44),0)","v":0},{"$f":"IF(AND(COUNTRY_INFO!I44>0,COUNTRY_INFO!I44<4), IF(M44/J44*100<>0, IF(M44/J44*100>100,100,M44/J44*100), \"-\"),0)","v":0},{"$f":"COUNTRY_INFO!N44","v":0},null,null,{"$f":"SUM(MAX('MDA2'!J44, 'T1'!L44, MAX(T3_R1!K44, T3_R2!K44)), MAX('MDA1'!K44, 'MDA2'!K44, 'T1'!M44, MAX(T3_R1!L44, T3_R2!L44)), MAX('MDA1'!L44, 'MDA2'!L44, 'T1'!N44, MAX(T3_R1!M44, T3_R2!M44)))","v":0},{"$f":"IF(AND(COUNTRY_INFO!J44>1,COUNTRY_INFO!J44<4),IF(COUNTRY_INFO!E44>MAX('MDA2'!J44,'T1'!L44,MAX(T3_R1!K44,T3_R2!K44)),MAX('MDA2'!J44,'T1'!L44,MAX(T3_R1!K44,T3_R2!K44)),COUNTRY_INFO!E44),0)","v":0},{"$f":"IF(AND(COUNTRY_INFO!J44>1,COUNTRY_INFO!J44<4), IF(T44/COUNTRY_INFO!E44*100<>0, IF(T44/COUNTRY_INFO!E44*100>100,100,T44/COUNTRY_INFO!E44*100), \"-\"),0)","v":0},{"$f":"IF(AND(COUNTRY_INFO!J44>1,COUNTRY_INFO!J44<4),IF(COUNTRY_INFO!F44>MAX('MDA1'!K44,'MDA2'!K44,'T1'!M44,MAX(T3_R1!L44,T3_R2!L44)),MAX('MDA1'!K44,'MDA2'!K44,'T1'!M44,MAX(T3_R1!L44,T3_R2!L44)),COUNTRY_INFO!F44),0)","v":0},{"$f":"IF(AND(COUNTRY_INFO!J44>1,COUNTRY_INFO!J44<4), IF(V44/COUNTRY_INFO!F44*100<>0, IF(V44/COUNTRY_INFO!F44*100>100,100,V44/COUNTRY_INFO!F44*100), \"-\"),0)","v":0},0,{"$f":"IF(AND(COUNTRY_INFO!J44>1,COUNTRY_INFO!J44<4), IF(S44/P44*100<>0, IF(X44/P44*100>100,100,X44/P44*100), \"-\"),0)","v":0},{"$f":"COUNTRY_INFO!O44","v":10876},null,null,{"$f":"MAX('T1'!L44,'T2'!J44)+MAX('T1'!M44,'T2'!K44)+MAX('T1'!N44,'T2'!L44)","v":3200},{"$f":"IF(COUNTRY_INFO!K44=1,IF(COUNTRY_INFO!F44*0.33>MAX('T1'!M44,'T2'!K44),MAX('T1'!M44,'T2'!K44),COUNTRY_INFO!F44*0.33),IF(COUNTRY_INFO!K44=2,IF(COUNTRY_INFO!F44*0.5>MAX('T1'!M44,'T2'!K44),MAX('T1'!M44,'T2'!K44),COUNTRY_INFO!F44*0.5),IF(COUNTRY_INFO!K44=3,IF(COUNTRY_INFO!F44>MAX('T1'!M44,'T2'!K44),MAX('T1'!M44,'T2'!K44),COUNTRY_INFO!F44),0)))","v":3200},{"$f":"IF(AND(COUNTRY_INFO!K44>0,COUNTRY_INFO!K44<4),IF(Z44>0,IF(COUNTRY_INFO!K44=1, AD44/(COUNTRY_INFO!F44*0.33)*100, IF(COUNTRY_INFO!K44=2, AD44/(COUNTRY_INFO!F44*0.5)*100, IF(COUNTRY_INFO!K44=3, AD44/COUNTRY_INFO!F44*100))),\"-\"),0)","v":94.478889873043997},{"$f":"IF(COUNTRY_INFO!K44=2,IF(COUNTRY_INFO!G44*0.2>MAX('T1'!N44,'T2'!L44),MAX('T1'!N44,'T2'!L44),COUNTRY_INFO!G44*0.2),IF(COUNTRY_INFO!K44=3,IF(COUNTRY_INFO!G44>MAX('T1'!N44,'T2'!L44),MAX('T1'!N44,'T2'!L44),COUNTRY_INFO!G44),0))","v":0},{"$f":"IF(AND(COUNTRY_INFO!K44>0,COUNTRY_INFO!K44<4),IF(Z44>0,IF(COUNTRY_INFO!K44=1, 0, IF(COUNTRY_INFO!K44=2, AF44/(COUNTRY_INFO!G44*0.2)*100, IF(COUNTRY_INFO!K44=3, AF44/COUNTRY_INFO!G44*100))),\"-\"),0)","v":0},3200,{"$f":"IF(AND(COUNTRY_INFO!K44>0,COUNTRY_INFO!K44<4), IF(AC44/Z44*100<>0, IF(AH44/Z44*100>100,100,AH44/Z44*100), \"-\"),0)","v":29.422581831555718},null,{"$f":"IF(AND(D44<>0, D44<>\"Inconnu\",D44<>\"Interrompu\",D44<>\"Non requis\"),D44/COUNTRY_INFO!D44, 0)","v":1},{"$f":"IF(AND(J44<>0,J44<>\"Inconnu\",J44<>\"Interrompu\",J44<>\"Non requis\"),J44/COUNTRY_INFO!D44, 0)","v":0},{"$f":"IF(AND(P44<>0,P44<>\"Inconnu\",P44<>\"Non requis\"),P44/(COUNTRY_INFO!E44+COUNTRY_INFO!F44), 0)","v":0},{"$f":"IF(AND(Z44<>0,Z44<>\"Inconnu\",Z44<>\"Non requis\"),IF(COUNTRY_INFO!K44=1,1,IF(COUNTRY_INFO!K44=2,0.5*COUNTRY_INFO!F44/(0.5*COUNTRY_INFO!F44+0.2*COUNTRY_INFO!G44),IF(COUNTRY_INFO!K44=3,COUNTRY_INFO!F44/(COUNTRY_INFO!F44+COUNTRY_INFO!G44)))),0)","v":0.31141963957337254},{"$f":"IF(AND(Z44<>0,Z44<>\"Inconnu\",Z44<>\"Non requis\"),IF(COUNTRY_INFO!K44=1,0,IF(COUNTRY_INFO!K44=2,0.2*COUNTRY_INFO!G44/(0.5*COUNTRY_INFO!F44+0.2*COUNTRY_INFO!G44),IF(COUNTRY_INFO!K44=3,COUNTRY_INFO!G44/(COUNTRY_INFO!F44+COUNTRY_INFO!G44)))),0)","v":0.6885803604266274},{"$f":"MAX(COUNTRY_INFO!D44*AK44*PROFILE!$G$7,COUNTRY_INFO!D44*AL44*PROFILE!$G$7)","v":585.57590508679732},{"$f":"MAX(COUNTRY_INFO!D44*AK44*PROFILE!$G$8,COUNTRY_INFO!D44*AL44*PROFILE!$G$8,COUNTRY_INFO!D44*AM44*PROFILE!$G$8)","v":1758.1335370714214},{"$f":"MAX(COUNTRY_INFO!D44*AK44*PROFILE!$G$9,COUNTRY_INFO!D44*AL44*PROFILE!$G$9,COUNTRY_INFO!D44*AM44*PROFILE!$G$9,IF(AND(DISTRICT!Z44<>\"Inconnu\",Z44<>\"Non requis\"),COUNTRY_INFO!O44*DISTRICT!AN44,0))","v":3386.9999999999995},{"$f":"MAX(COUNTRY_INFO!D44*AK44*PROFILE!$G$10,COUNTRY_INFO!D44*AL44*PROFILE!$G$10,IF(AND(DISTRICT!Z44<>\"Inconnu\",Z44<>\"Non requis\"),COUNTRY_INFO!O44*DISTRICT!AO44,0))","v":7489},13219.709442158219,0,{"$f":"MAX('MDA2'!J44,'T1'!L44,'T2'!J44,T3_R1!K44,T3_R2!K44)","v":0},{"$f":"MAX('MDA1'!K44,'MDA2'!K44,'MDA3'!I44,'MDA3'!L44,'T1'!M44,'T2'!K44,T3_R1!L44,T3_R2!L44)","v":3200},{"$f":"MAX('MDA1'!L44,'MDA2'!L44,'MDA3'!J44,'MDA3'!M44,'T1'!N44,'T2'!L44,T3_R1!M44,T3_R2!M44)","v":0},3200,{"$f":"MAX('MDA2'!J44,T44)","v":0},{"$f":"MAX('MDA1'!K44,'MDA2'!K44,'MDA3'!I44,'MDA3'!L44,V44,AD44)","v":3200},{"$f":"MAX('MDA1'!L44,'MDA2'!L44,'MDA3'!J44,'MDA3'!M44,AF44)","v":0},3200,24.206280886893499]
[{"$f":"IF(COUNTRY_INFO!A45=0,\" \",COUNTRY_INFO!A45)","v":"Guinea Bissau"},{"$f":"IF(COUNTRY_INFO!B45=0,\" \",COUNTRY_INFO!B45)","v":"Farim"},{"$f":"IF(COUNTRY_INFO!C45=0,\" \",COUNTRY_INFO!C45)","v":"FARIM"},{"$f":"COUNTRY_INFO!L45","v":31030},null,null,{"$f":"MAX('MDA1'!M45,'MDA2'!M45)","v":0},{"$f":"IF(AND(COUNTRY_INFO!H45>0,COUNTRY_INFO!H45<4),IF(D45>MAX('MDA1'!M45,'MDA2'!M45),MAX('MDA1'!M45,'MDA2'!M45),D45),0)","v":0},{"$f":"IF(AND(COUNTRY_INFO!H45>0,COUNTRY_INFO!H45<4), IF(G45/D45*100<>0, IF(G45/D45*100>100,100,G45/D45*100), \"-\"),0)","v":"-"},{"$f":"COUNTRY_INFO!M45","v":"Inconnu"},null,null,{"$f":"MAX('MDA1'!M45,MAX('MDA3'!I45,'MDA3'!L45)+MAX('MDA3'!J45,'MDA3'!M45))","v":0},{"$f":"IF(AND(COUNTRY_INFO!I45>0,COUNTRY_INFO!I45<4),IF(J45>MAX('MDA1'!M45,MAX('MDA3'!I45,'MDA3'!L45)+MAX('MDA3'!J45,'MDA3'!M45)),MAX('MDA1'!M45,MAX('MDA3'!I45,'MDA3'!L45)+MAX('MDA3'!J45,'MDA3'!M45)),J45),0)","v":0},{"$f":"IF(AND(COUNTRY_INFO!I45>0,COUNTRY_INFO!I45<4), IF(M45/J45*100<>0, IF(M45/J45*100>100,100,M45/J45*100), \"-\"),0)","v":0},{"$f":"COUNTRY_INFO!N45","v":0},null,null,{"$f":"SUM(MAX('MDA2'!J45, 'T1'!L45, MAX(T3_R1!K45, T3_R2!K45)), MAX('MDA1'!K45, 'MDA2'!K45, 'T1'!M45, MAX(T3_R1!L45, T3_R2!L45)), MAX('MDA1'!L45, 'MDA2'!L45, 'T1'!N45, MAX(T3_R1!M45, T3_R2!M45)))","v":0},{"$f":"IF(AND(COUNTRY_INFO!J45>1,COUNTRY_INFO!J45<4),IF(COUNTRY_INFO!E45>MAX('MDA2'!J45,'T1'!L45,MAX(T3_R1!K45,T3_R2!K45)),MAX('MDA2'!J45,'T1'!L45,MAX(T3_R1!K45,T3_R2!K45)),COUNTRY_INFO!E45),0)","v":0},{"$f":"IF(AND(COUNTRY_INFO!J45>1,COUNTRY_INFO!J45<4), IF(T45/COUNTRY_INFO!E45*100<>0, IF(T45/COUNTRY_INFO!E45*100>100,100,T45/COUNTRY_INFO!E45*100), \"-\"),0)","v":0},{"$f":"IF(AND(COUNTRY_INFO!J45>1,COUNTRY_INFO!J45<4),IF(COUNTRY_INFO!F45>MAX('MDA1'!K45,'MDA2'!K45,'T1'!M45,MAX(T3_R1!L45,T3_R2!L45)),MAX('MDA1'!K45,'MDA2'!K45,'T1'!M45,MAX(T3_R1!L45,T3_R2!L45)),COUNTRY_INFO!F45),0)","v":0},{"$f":"IF(AND(COUNTRY_INFO!J45>1,COUNTRY_INFO!J45<4), IF(V45/COUNTRY_INFO!F45*100<>0, IF(V45/COUNTRY_INFO!F45*100>100,100,V45/COUNTRY_INFO!F45*100), \"-\"),0)","v":0},0,{"$f":"IF(AND(COUNTRY_INFO!J45>1,COUNTRY_INFO!J45<4), IF(S45/P45*100<>0, IF(X45/P45*100>100,100,X45/P45*100), \"-\"),0)","v":0},{"$f":"COUNTRY_INFO!O45","v":2623.5},null,null,{"$f":"MAX('T1'!L45,'T2'!J45)+MAX('T1'!M45,'T2'!K45)+MAX('T1'!N45,'T2'!L45)","v":5378},{"$f":"IF(COUNTRY_INFO!K45=1,IF(COUNTRY_INFO!F45*0.33>MAX('T1'!M45,'T2'!K45),MAX('T1'!M45,'T2'!K45),COUNTRY_INFO!F45*0.33),IF(COUNTRY_INFO!K45=2,IF(COUNTRY_INFO!F45*0.5>MAX('T1'!M45,'T2'!K45),MAX('T1'!M45,'T2'!K45),COUNTRY_INFO!F45*0.5),IF(COUNTRY_INFO!K45=3,IF(COUNTRY_INFO!F45>MAX('T1'!M45,'T2'!K45),MAX('T1'!M45,'T2'!K45),COUNTRY_INFO!F45),0)))","v":2623.5},{"$f":"IF(AND(COUNTRY_INFO!K45>0,COUNTRY_INFO!K45<4),IF(Z45>0,IF(COUNTRY_INFO!K45=1, AD45/(COUNTRY_INFO!F45*0.33)*100, IF(COUNTRY_INFO!K45=2, AD45/(COUNTRY_INFO!F45*0.5)*100, IF(COUNTRY_INFO!K45=3, AD45/COUNTRY_INFO!F45*100))),\"-\"),0)","v":100},{"$f":"IF(COUNTRY_INFO!K45=2,IF(COUNTRY_INFO!G45*0.2>MAX('T1'!N45,'T2'!L45),MAX('T1'!N45,'T2'!L45),COUNTRY_INFO!G45*0.2),IF(COUNTRY_INFO!K45=3,IF(COUNTRY_INFO!G45>MAX('T1'!N45,'T2'!L45),MAX('T1'!N45,'T2'!L45),COUNTRY_INFO!G45),0))","v":0},{"$f":"IF(AND(COUNTRY_INFO!K45>0,COUNTRY_INFO!K45<4),IF(Z45>0,IF(COUNTRY_INFO!K45=1, 0, IF(COUNTRY_INFO!K45=2, AF45/(COUNTRY_INFO!G45*0.2)*100, IF(COUNTRY_INFO!K45=3, AF45/COUNTRY_INFO!G45*100))),\"-\"),0)","v":0},2623.5,{"$f":"IF(AND(COUNTRY_INFO!K45>0,COUNTRY_INFO!K45<4), IF(AC45/Z45*100<>0, IF(AH45/Z45*100>100,100,AH45/Z45*100), \"-\"),0)","v":100},null,{"$f":"IF(AND(D45<>0, D45<>\"Inconnu\",D45<>\"Interrompu\",D45<>\"Non requis\"),D45/COUNTRY_INFO!D45, 0)","v":1},{"$f":"IF(AND(J45<>0,J45<>\"Inconnu\",J45<>\"Interrompu\",J45<>\"Non requis\"),J45/COUNTRY_INFO!D45, 0)","v":0},{"$f":"IF(AND(P45<>0,P45<>\"Inconnu\",P45<>\"Non requis\"),P45/(COUNTRY_INFO!E45+COUNTRY_INFO!F45), 0)","v":0},{"$f":"IF(AND(Z45<>0,Z45<>\"Inconnu\",Z45<>\"Non requis\"),IF(COUNTRY_INFO!K45=1,1,IF(COUNTRY_INFO!K45=2,0.5*COUNTRY_INFO!F45/(0.5*COUNTRY_INFO!F45+0.2*COUNTRY_INFO!G45),IF(COUNTRY_INFO!K45=3,COUNTRY_INFO!F45/(COUNTRY_INFO!F45+COUNTRY_INFO!G45)))),0)","v":1},{"$f":"IF(AND(Z45<>0,Z45<>\"Inconnu\",Z45<>\"Non requis\"),IF(COUNTRY_INFO!K45=1,0,IF(COUNTRY_INFO!K45=2,0.2*COUNTRY_INFO!G45/(0.5*COUNTRY_INFO!F45+0.2*COUNTRY_INFO!G45),IF(COUNTRY_INFO!K45=3,COUNTRY_INFO!G45/(COUNTRY_INFO!F45+COUNTRY_INFO!G45)))),0)","v":0},{"$f":"MAX(COUNTRY_INFO!D45*AK45*PROFILE!$G$7,COUNTRY_INFO!D45*AL45*PROFILE!$G$7)","v":1374.5684495682972},{"$f":"MAX(COUNTRY_INFO!D45*AK45*PROFILE!$G$8,COUNTRY_INFO!D45*AL45*PROFILE!$G$8,COUNTRY_INFO!D45*AM45*PROFILE!$G$8)","v":4127.0053449826919},{"$f":"MAX(COUNTRY_INFO!D45*AK45*PROFILE!$G$9,COUNTRY_INFO!D45*AL45*PROFILE!$G$9,COUNTRY_INFO!D45*AM45*PROFILE!$G$9,IF(AND(DISTRICT!Z45<>\"Inconnu\",Z45<>\"Non requis\"),COUNTRY_INFO!O45*DISTRICT!AN45,0))","v":7949.9160329661245},{"$f":"MAX(COUNTRY_INFO!D45*AK45*PROFILE!$G$10,COUNTRY_INFO!D45*AL45*PROFILE!$G$10,IF(AND(DISTRICT!Z45<>\"Inconnu\",Z45<>\"Non requis\"),COUNTRY_INFO!O45*DISTRICT!AO45,0))","v":17578.510172482886},31030,0,{"$f":"MAX('MDA2'!J45,'T1'!L45,'T2'!J45,T3_R1!K45,T3_R2!K45)","v":0},{"$f":"MAX('MDA1'!K45,'MDA2'!K45,'MDA3'!I45,'MDA3'!L45,'T1'!M45,'T2'!K45,T3_R1!L45,T3_R2!L45)","v":5378},{"$f":"MAX('MDA1'!L45,'MDA2'!L45,'MDA3'!J45,'MDA3'!M45,'T1'!N45,'T2'!L45,T3_R1!M45,T3_R2!M45)","v":0},5378,{"$f":"MAX('MDA2'!J45,T45)","v":0},{"$f":"MAX('MDA1'!K45,'MDA2'!K45,'MDA3'!I45,'MDA3'!L45,V45,AD45)","v":2623.5},{"$f":"MAX('MDA1'!L45,'MDA2'!L45,'MDA3'!J45,'MDA3'!M45,AF45)","v":0},2623.5,8.4547212375120839]
[{"$f":"IF(COUNTRY_INFO!A46=0,\" \",COUNTRY_INFO!A46)","v":"Guinea Bissau"},{"$f":"IF(COUNTRY_INFO!B46=0,\" \",COUNTRY_INFO!B46)","v":"Farim"},{"$f":"IF(COUNTRY_INFO!C46=0,\" \",COUNTRY_INFO!C46)","v":"GUIDAGE"},{"$f":"COUNTRY_INFO!L46","v":5052},null,null,{"$f":"MAX('MDA1'!M46,'MDA2'!M46)","v":0},{"$f":"IF(AND(COUNTRY_INFO!H46>0,COUNTRY_INFO!H46<4),IF(D46>MAX('MDA1'!M46,'MDA2'!M46),MAX('MDA1'!M46,'MDA2'!M46),D46),0)","v":0},{"$f":"IF(AND(COUNTRY_INFO!H46>0,COUNTRY_INFO!H46<4), IF(G46/D46*100<>0, IF(G46/D46*100>100,100,G46/D46*100), \"-\"),0)","v":"-"},{"$f":"COUNTRY_INFO!M46","v":"Inconnu"},null,null,{"$f":"MAX('MDA1'!M46,MAX('MDA3'!I46,'MDA3'!L46)+MAX('MDA3'!J46,'MDA3'!M46))","v":0},{"$f":"IF(AND(COUNTRY_INFO!I46>0,COUNTRY_INFO!I46<4),IF(J46>MAX('MDA1'!M46,MAX('MDA3'!I46,'MDA3'!L46)+MAX('MDA3'!J46,'MDA3'!M46)),MAX('MDA1'!M46,MAX('MDA3'!I46,'MDA3'!L46)+MAX('MDA3'!J46,'MDA3'!M46)),J46),0)","v":0},{"$f":"IF(AND(COUNTRY_INFO!I46>0,COUNTRY_INFO!I46<4), IF(M46/J46*100<>0, IF(M46/J46*100>100,100,M46/J46*100), \"-\"),0)","v":0},{"$f":"COUNTRY_INFO!N46","v":0},null,null,{"$f":"SUM(MAX('MDA2'!J46, 'T1'!L46, MAX(T3_R1!K46, T3_R2!K46)), MAX('MDA1'!K46, 'MDA2'!K46, 'T1'!M46, MAX(T3_R1!L46, T3_R2!L46)), MAX('MDA1'!L46, 'MDA2'!L46, 'T1'!N46, MAX(T3_R1!M46, T3_R2!M46)))","v":0},{"$f":"IF(AND(COUNTRY_INFO!J46>1,COUNTRY_INFO!J46<4),IF(COUNTRY_INFO!E46>MAX('MDA2'!J46,'T1'!L46,MAX(T3_R1!K46,T3_R2!K46)),MAX('MDA2'!J46,'T1'!L46,MAX(T3_R1!K46,T3_R2!K46)),COUNTRY_INFO!E46),0)","v":0},{"$f":"IF(AND(COUNTRY_INFO!J46>1,COUNTRY_INFO!J46<4), IF(T46/COUNTRY_INFO!E46*100<>0, IF(T46/COUNTRY_INFO!E46*100>100,100,T46/COUNTRY_INFO!E46*100), \"-\"),0)","v":0},{"$f":"IF(AND(COUNTRY_INFO!J46>1,COUNTRY_INFO!J46<4),IF(COUNTRY_INFO!F46>MAX('MDA1'!K46,'MDA2'!K46,'T1'!M46,MAX(T3_R1!L46,T3_R2!L46)),MAX('MDA1'!K46,'MDA2'!K46,'T1'!M46,MAX(T3_R1!L46,T3_R2!L46)),COUNTRY_INFO!F46),0)","v":0},{"$f":"IF(AND(COUNTRY_INFO!J46>1,COUNTRY_INFO!J46<4), IF(V46/COUNTRY_INFO!F46*100<>0, IF(V46/COUNTRY_INFO!F46*100>100,100,V46/COUNTRY_INFO!F46*100), \"-\"),0)","v":0},0,{"$f":"IF(AND(COUNTRY_INFO!J46>1,COUNTRY_INFO!J46<4), IF(S46/P46*100<>0, IF(X46/P46*100>100,100,X46/P46*100), \"-\"),0)","v":0},{"$f":"COUNTRY_INFO!O46","v":1219.4000000000001},null,null,{"$f":"MAX('T1'!L46,'T2'!J46)+MAX('T1'!M46,'T2'!K46)+MAX('T1'!N46,'T2'!L46)","v":1118},{"$f":"IF(COUNTRY_INFO!K46=1,IF(COUNTRY_INFO!F46*0.33>MAX('T1'!M46,'T2'!K46),MAX('T1'!M46,'T2'!K46),COUNTRY_INFO!F46*0.33),IF(COUNTRY_INFO!K46=2,IF(COUNTRY_INFO!F46*0.5>MAX('T1'!M46,'T2'!K46),MAX('T1'!M46,'T2'!K46),COUNTRY_INFO!F46*0.5),IF(COUNTRY_INFO!K46=3,IF(COUNTRY_INFO!F46>MAX('T1'!M46,'T2'!K46),MAX('T1'!M46,'T2'!K46),COUNTRY_INFO!F46),0)))","v":647},{"$f":"IF(AND(COUNTRY_INFO!K46>0,COUNTRY_INFO!K46<4),IF(Z46>0,IF(COUNTRY_INFO!K46=1, AD46/(COUNTRY_INFO!F46*0.33)*100, IF(COUNTRY_INFO!K46=2, AD46/(COUNTRY_INFO!F46*0.5)*100, IF(COUNTRY_INFO!K46=3, AD46/COUNTRY_INFO!F46*100))),\"-\"),0)","v":100},{"$f":"IF(COUNTRY_INFO!K46=2,IF(COUNTRY_INFO!G46*0.2>MAX('T1'!N46,'T2'!L46),MAX('T1'!N46,'T2'!L46),COUNTRY_INFO!G46*0.2),IF(COUNTRY_INFO!K46=3,IF(COUNTRY_INFO!G46>MAX('T1'!N46,'T2'!L46),MAX('T1'!N46,'T2'!L46),COUNTRY_INFO!G46),0))","v":0},{"$f":"IF(AND(COUNTRY_INFO!K46>0,COUNTRY_INFO!K46<4),IF(Z46>0,IF(COUNTRY_INFO!K46=1, 0, IF(COUNTRY_INFO!K46=2, AF46/(COUNTRY_INFO!G46*0.2)*100, IF(COUNTRY_INFO!K46=3, AF46/COUNTRY_INFO!G46*100))),\"-\"),0)","v":0},647,{"$f":"IF(AND(COUNTRY_INFO!K46>0,COUNTRY_INFO!K46<4), IF(AC46/Z46*100<>0, IF(AH46/Z46*100>100,100,AH46/Z46*100), \"-\"),0)","v":53.058881417090362},null,{"$f":"IF(AND(D46<>0, D46<>\"Inconnu\",D46<>\"Interrompu\",D46<>\"Non requis\"),D46/COUNTRY_INFO!D46, 0)","v":1},{"$f":"IF(AND(J46<>0,J46<>\"Inconnu\",J46<>\"Interrompu\",J46<>\"Non requis\"),J46/COUNTRY_INFO!D46, 0)","v":0},{"$f":"IF(AND(P46<>0,P46<>\"Inconnu\",P46<>\"Non requis\"),P46/(COUNTRY_INFO!E46+COUNTRY_INFO!F46), 0)","v":0},{"$f":"IF(AND(Z46<>0,Z46<>\"Inconnu\",Z46<>\"Non requis\"),IF(COUNTRY_INFO!K46=1,1,IF(COUNTRY_INFO!K46=2,0.5*COUNTRY_INFO!F46/(0.5*COUNTRY_INFO!F46+0.2*COUNTRY_INFO!G46),IF(COUNTRY_INFO!K46=3,COUNTRY_INFO!F46/(COUNTRY_INFO!F46+COUNTRY_INFO!G46)))),0)","v":0.53058881417090364},{"$f":"IF(AND(Z46<>0,Z46<>\"Inconnu\",Z46<>\"Non requis\"),IF(COUNTRY_INFO!K46=1,0,IF(COUNTRY_INFO!K46=2,0.2*COUNTRY_INFO!G46/(0.5*COUNTRY_INFO!F46+0.2*COUNTRY_INFO!G46),IF(COUNTRY_INFO!K46=3,COUNTRY_INFO!G46/(COUNTRY_INFO!F46+COUNTRY_INFO!G46)))),0)","v":0.46941118582909624},{"$f":"MAX(COUNTRY_INFO!D46*AK46*PROFILE!$G$7,COUNTRY_INFO!D46*AL46*PROFILE!$G$7)","v":223.79374177309177},{"$f":"MAX(COUNTRY_INFO!D46*AK46*PROFILE!$G$8,COUNTRY_INFO!D46*AL46*PROFILE!$G$8,COUNTRY_INFO!D46*AM46*PROFILE!$G$8)","v":671.9184983194508},{"$f":"MAX(COUNTRY_INFO!D46*AK46*PROFILE!$G$9,COUNTRY_INFO!D46*AL46*PROFILE!$G$9,COUNTRY_INFO!D46*AM46*PROFILE!$G$9,IF(AND(DISTRICT!Z46<>\"Inconnu\",Z46<>\"Non requis\"),COUNTRY_INFO!O46*DISTRICT!AN46,0))","v":1294.3272896727317},{"$f":"MAX(COUNTRY_INFO!D46*AK46*PROFILE!$G$10,COUNTRY_INFO!D46*AL46*PROFILE!$G$10,IF(AND(DISTRICT!Z46<>\"Inconnu\",Z46<>\"Non requis\"),COUNTRY_INFO!O46*DISTRICT!AO46,0))","v":2861.9604702347256},5052,0,{"$f":"MAX('MDA2'!J46,'T1'!L46,'T2'!J46,T3_R1!K46,T3_R2!K46)","v":0},{"$f":"MAX('MDA1'!K46,'MDA2'!K46,'MDA3'!I46,'MDA3'!L46,'T1'!M46,'T2'!K46,T3_R1!L46,T3_R2!L46)","v":1118},{"$f":"MAX('MDA1'!L46,'MDA2'!L46,'MDA3'!J46,'MDA3'!M46,'T1'!N46,'T2'!L46,T3_R1!M46,T3_R2!M46)","v":0},1118,{"$f":"MAX('MDA2'!J46,T46)","v":0},{"$f":"MAX('MDA1'!K46,'MDA2'!K46,'MDA3'!I46,'MDA3'!L46,V46,AD46)","v":647},{"$f":"MAX('MDA1'!L46,'MDA2'!L46,'MDA3'!J46,'MDA3'!M46,AF46)","v":0},647,12.806809184481393]
[{"$f":"IF(COUNTRY_INFO!A47=0,\" \",COUNTRY_INFO!A47)","v":"Guinea Bissau"},{"$f":"IF(COUNTRY_INFO!B47=0,\" \",COUNTRY_INFO!B47)","v":"Oio"},{"$f":"IF(COUNTRY_INFO!C47=0,\" \",COUNTRY_INFO!C47)","v":"BINAR"},{"$f":"COUNTRY_INFO!L47","v":15689},5871,5785,{"$f":"MAX('MDA1'!M47,'MDA2'!M47)","v":11656},{"$f":"IF(AND(COUNTRY_INFO!H47>0,COUNTRY_INFO!H47<4),IF(D47>MAX('MDA1'!M47,'MDA2'!M47),MAX('MDA1'!M47,'MDA2'!M47),D47),0)","v":11656},{"$f":"IF(AND(COUNTRY_INFO!H47>0,COUNTRY_INFO!H47<4), IF(G47/D47*100<>0, IF(G47/D47*100>100,100,G47/D47*100), \"-\"),0)","v":74.294091401618971},{"$f":"COUNTRY_INFO!M47","v":"Inconnu"},null,null,{"$f":"MAX('MDA1'!M47,MAX('MDA3'!I47,'MDA3'!L47)+MAX('MDA3'!J47,'MDA3'!M47))","v":11656},{"$f":"IF(AND(COUNTRY_INFO!I47>0,COUNTRY_INFO!I47<4),IF(J47>MAX('MDA1'!M47,MAX('MDA3'!I47,'MDA3'!L47)+MAX('MDA3'!J47,'MDA3'!M47)),MAX('MDA1'!M47,MAX('MDA3'!I47,'MDA3'!L47)+MAX('MDA3'!J47,'MDA3'!M47)),J47),0)","v":0},{"$f":"IF(AND(COUNTRY_INFO!I47>0,COUNTRY_INFO!I47<4), IF(M47/J47*100<>0, IF(M47/J47*100>100,100,M47/J47*100), \"-\"),0)","v":0},{"$f":"COUNTRY_INFO!N47","v":6107},null,null,{"$f":"SUM(MAX('MDA2'!J47, 'T1'!L47, MAX(T3_R1!K47, T3_R2!K47)), MAX('MDA1'!K47, 'MDA2'!K47, 'T1'!M47, MAX(T3_R1!L47, T3_R2!L47)), MAX('MDA1'!L47, 'MDA2'!L47, 'T1'!N47, MAX(T3_R1!M47, T3_R2!M47)))","v":11656},{"$f":"IF(AND(COUNTRY_INFO!J47>1,COUNTRY_INFO!J47<4),IF(COUNTRY_INFO!E47>MAX('MDA2'!J47,'T1'!L47,MAX(T3_R1!K47,T3_R2!K47)),MAX('MDA2'!J47,'T1'!L47,MAX(T3_R1!K47,T3_R2!K47)),COUNTRY_INFO!E47),0)","v":0},{"$f":"IF(AND(COUNTRY_INFO!J47>1,COUNTRY_INFO!J47<4), IF(T47/COUNTRY_INFO!E47*100<>0, IF(T47/COUNTRY_INFO!E47*100>100,100,T47/COUNTRY_INFO!E47*100), \"-\"),0)","v":"-"},{"$f":"IF(AND(COUNTRY_INFO!J47>1,COUNTRY_INFO!J47<4),IF(COUNTRY_INFO!F47>MAX('MDA1'!K47,'MDA2'!K47,'T1'!M47,MAX(T3_R1!L47,T3_R2!L47)),MAX('MDA1'!K47,'MDA2'!K47,'T1'!M47,MAX(T3_R1!L47,T3_R2!L47)),COUNTRY_INFO!F47),0)","v":4020},{"$f":"IF(AND(COUNTRY_INFO!J47>1,COUNTRY_INFO!J47<4), IF(V47/COUNTRY_INFO!F47*100<>0, IF(V47/COUNTRY_INFO!F47*100>100,100,V47/COUNTRY_INFO!F47*100), \"-\"),0)","v":100},4020,{"$f":"IF(AND(COUNTRY_INFO!J47>1,COUNTRY_INFO!J47<4), IF(S47/P47*100<>0, IF(X47/P47*100>100,100,X47/P47*100), \"-\"),0)","v":65.826101195349594},{"$f":"COUNTRY_INFO!O47","v":0},null,null,{"$f":"MAX('T1'!L47,'T2'!J47)+MAX('T1'!M47,'T2'!K47)+MAX('T1'!N47,'T2'!L47)","v":0},{"$f":"IF(COUNTRY_INFO!K47=1,IF(COUNTRY_INFO!F47*0.33>MAX('T1'!M47,'T2'!K47),MAX('T1'!M47,'T2'!K47),COUNTRY_INFO!F47*0.33),IF(COUNTRY_INFO!K47=2,IF(COUNTRY_INFO!F47*0.5>MAX('T1'!M47,'T2'!K47),MAX('T1'!M47,'T2'!K47),COUNTRY_INFO!F47*0.5),IF(COUNTRY_INFO!K47=3,IF(COUNTRY_INFO!F47>MAX('T1'!M47,'T2'!K47),MAX('T1'!M47,'T2'!K47),COUNTRY_INFO!F47),0)))","v":0},{"$f":"IF(AND(COUNTRY_INFO!K47>0,COUNTRY_INFO!K47<4),IF(Z47>0,IF(COUNTRY_INFO!K47=1, AD47/(COUNTRY_INFO!F47*0.33)*100, IF(COUNTRY_INFO!K47=2, AD47/(COUNTRY_INFO!F47*0.5)*100, IF(COUNTRY_INFO!K47=3, AD47/COUNTRY_INFO!F47*100))),\"-\"),0)","v":0},{"$f":"IF(COUNTRY_INFO!K47=2,IF(COUNTRY_INFO!G47*0.2>MAX('T1'!N47,'T2'!L47),MAX('T1'!N47,'T2'!L47),COUNTRY_INFO!G47*0.2),IF(COUNTRY_INFO!K47=3,IF(COUNTRY_INFO!G47>MAX('T1'!N47,'T2'!L47),MAX('T1'!N47,'T2'!L47),COUNTRY_INFO!G47),0))","v":0},{"$f":"IF(AND(COUNTRY_INFO!K47>0,COUNTRY_INFO!K47<4),IF(Z47>0,IF(COUNTRY_INFO!K47=1, 0, IF(COUNTRY_INFO!K47=2, AF47/(COUNTRY_INFO!G47*0.2)*100, IF(COUNTRY_INFO!K47=3, AF47/COUNTRY_INFO!G47*100))),\"-\"),0)","v":0},0,{"$f":"IF(AND(COUNTRY_INFO!K47>0,COUNTRY_INFO!K47<4), IF(AC47/Z47*100<>0, IF(AH47/Z47*100>100,100,AH47/Z47*100), \"-\"),0)","v":0},null,{"$f":"IF(AND(D47<>0, D47<>\"Inconnu\",D47<>\"Interrompu\",D47<>\"Non requis\"),D47/COUNTRY_INFO!D47, 0)","v":1},{"$f":"IF(AND(J47<>0,J47<>\"Inconnu\",J47<>\"Interrompu\",J47<>\"Non requis\"),J47/COUNTRY_INFO!D47, 0)","v":0},{"$f":"IF(AND(P47<>0,P47<>\"Inconnu\",P47<>\"Non requis\"),P47/(COUNTRY_INFO!E47+COUNTRY_INFO!F47), 0)","v":1},{"$f":"IF(AND(Z47<>0,Z47<>\"Inconnu\",Z47<>\"Non requis\"),IF(COUNTRY_INFO!K47=1,1,IF(COUNTRY_INFO!K47=2,0.5*COUNTRY_INFO!F47/(0.5*COUNTRY_INFO!F47+0.2*COUNTRY_INFO!G47),IF(COUNTRY_INFO!K47=3,COUNTRY_INFO!F47/(COUNTRY_INFO!F47+COUNTRY_INFO!G47)))),0)","v":0},{"$f":"IF(AND(Z47<>0,Z47<>\"Inconnu\",Z47<>\"Non requis\"),IF(COUNTRY_INFO!K47=1,0,IF(COUNTRY_INFO!K47=2,0.2*COUNTRY_INFO!G47/(0.5*COUNTRY_INFO!F47+0.2*COUNTRY_INFO!G47),IF(COUNTRY_INFO!K47=3,COUNTRY_INFO!G47/(COUNTRY_INFO!F47+COUNTRY_INFO!G47)))),0)","v":0},{"$f":"MAX(COUNTRY_INFO!D47*AK47*PROFILE!$G$7,COUNTRY_INFO!D47*AL47*PROFILE!$G$7)","v":694.99208524901758},{"$f":"MAX(COUNTRY_INFO!D47*AK47*PROFILE!$G$8,COUNTRY_INFO!D47*AL47*PROFILE!$G$8,COUNTRY_INFO!D47*AM47*PROFILE!$G$8)","v":2086.6447585379779},{"$f":"MAX(COUNTRY_INFO!D47*AK47*PROFILE!$G$9,COUNTRY_INFO!D47*AL47*PROFILE!$G$9,COUNTRY_INFO!D47*AM47*PROFILE!$G$9,IF(AND(DISTRICT!Z47<>\"Inconnu\",Z47<>\"Non requis\"),COUNTRY_INFO!O47*DISTRICT!AN47,0))","v":4019.5369848922182},{"$f":"MAX(COUNTRY_INFO!D47*AK47*PROFILE!$G$10,COUNTRY_INFO!D47*AL47*PROFILE!$G$10,IF(AND(DISTRICT!Z47<>\"Inconnu\",Z47<>\"Non requis\"),COUNTRY_INFO!O47*DISTRICT!AO47,0))","v":8887.8261713207849},15688.999999999998,"Y",{"$f":"MAX('MDA2'!J47,'T1'!L47,'T2'!J47,T3_R1!K47,T3_R2!K47)","v":0},{"$f":"MAX('MDA1'!K47,'MDA2'!K47,'MDA3'!I47,'MDA3'!L47,'T1'!M47,'T2'!K47,T3_R1!L47,T3_R2!L47)","v":5871},{"$f":"MAX('MDA1'!L47,'MDA2'!L47,'MDA3'!J47,'MDA3'!M47,'T1'!N47,'T2'!L47,T3_R1!M47,T3_R2!M47)","v":5785},11656,{"$f":"MAX('MDA2'!J47,T47)","v":0},{"$f":"MAX('MDA1'!K47,'MDA2'!K47,'MDA3'!I47,'MDA3'!L47,V47,AD47)","v":5871},{"$f":"MAX('MDA1'!L47,'MDA2'!L47,'MDA3'!J47,'MDA3'!M47,AF47)","v":5785},11656,74.294091401618971]
[{"$f":"IF(COUNTRY_INFO!A48=0,\" \",COUNTRY_INFO!A48)","v":"Guinea Bissau"},{"$f":"IF(COUNTRY_INFO!B48=0,\" \",COUNTRY_INFO!B48)","v":"Oio"},{"$f":"IF(COUNTRY_INFO!C48=0,\" \",COUNTRY_INFO!C48)","v":"BISSORA"},{"$f":"COUNTRY_INFO!L48","v":46372},14087,15294,{"$f":"MAX('MDA1'!M48,'MDA2'!M48)","v":29381},{"$f":"IF(AND(COUNTRY_INFO!H48>0,COUNTRY_INFO!H48<4),IF(D48>MAX('MDA1'!M48,'MDA2'!M48),MAX('MDA1'!M48,'MDA2'!M48),D48),0)","v":29381},{"$f":"IF(AND(COUNTRY_INFO!H48>0,COUNTRY_INFO!H48<4), IF(G48/D48*100<>0, IF(G48/D48*100>100,100,G48/D48*100), \"-\"),0)","v":63.359354783058741},{"$f":"COUNTRY_INFO!M48","v":"Inconnu"},null,null,{"$f":"MAX('MDA1'!M48,MAX('MDA3'!I48,'MDA3'!L48)+MAX('MDA3'!J48,'MDA3'!M48))","v":29381},{"$f":"IF(AND(COUNTRY_INFO!I48>0,COUNTRY_INFO!I48<4),IF(J48>MAX('MDA1'!M48,MAX('MDA3'!I48,'MDA3'!L48)+MAX('MDA3'!J48,'MDA3'!M48)),MAX('MDA1'!M48,MAX('MDA3'!I48,'MDA3'!L48)+MAX('MDA3'!J48,'MDA3'!M48)),J48),0)","v":0},{"$f":"IF(AND(COUNTRY_INFO!I48>0,COUNTRY_INFO!I48<4), IF(M48/J48*100<>0, IF(M48/J48*100>100,100,M48/J48*100), \"-\"),0)","v":0},{"$f":"COUNTRY_INFO!N48","v":0},null,null,{"$f":"SUM(MAX('MDA2'!J48, 'T1'!L48, MAX(T3_R1!K48, T3_R2!K48)), MAX('MDA1'!K48, 'MDA2'!K48, 'T1'!M48, MAX(T3_R1!L48, T3_R2!L48)), MAX('MDA1'!L48, 'MDA2'!L48, 'T1'!N48, MAX(T3_R1!M48, T3_R2!M48)))","v":29381},{"$f":"IF(AND(COUNTRY_INFO!J48>1,COUNTRY_INFO!J48<4),IF(COUNTRY_INFO!E48>MAX('MDA2'!J48,'T1'!L48,MAX(T3_R1!K48,T3_R2!K48)),MAX('MDA2'!J48,'T1'!L48,MAX(T3_R1!K48,T3_R2!K48)),COUNTRY_INFO!E48),0)","v":0},{"$f":"IF(AND(COUNTRY_INFO!J48>1,COUNTRY_INFO!J48<4), IF(T48/COUNTRY_INFO!E48*100<>0, IF(T48/COUNTRY_INFO!E48*100>100,100,T48/COUNTRY_INFO!E48*100), \"-\"),0)","v":0},{"$f":"IF(AND(COUNTRY_INFO!J48>1,COUNTRY_INFO!J48<4),IF(COUNTRY_INFO!F48>MAX('MDA1'!K48,'MDA2'!K48,'T1'!M48,MAX(T3_R1!L48,T3_R2!L48)),MAX('MDA1'!K48,'MDA2'!K48,'T1'!M48,MAX(T3_R1!L48,T3_R2!L48)),COUNTRY_INFO!F48),0)","v":0},{"$f":"IF(AND(COUNTRY_INFO!J48>1,COUNTRY_INFO!J48<4), IF(V48/COUNTRY_INFO!F48*100<>0, IF(V48/COUNTRY_INFO!F48*100>100,100,V48/COUNTRY_INFO!F48*100), \"-\"),0)","v":0},0,{"$f":"IF(AND(COUNTRY_INFO!J48>1,COUNTRY_INFO!J48<4), IF(S48/P48*100<>0, IF(X48/P48*100>100,100,X48/P48*100), \"-\"),0)","v":0},{"$f":"COUNTRY_INFO!O48","v":0},null,null,{"$f":"MAX('T1'!L48,'T2'!J48)+MAX('T1'!M48,'T2'!K48)+MAX('T1'!N48,'T2'!L48)","v":0},{"$f":"IF(COUNTRY_INFO!K48=1,IF(COUNTRY_INFO!F48*0.33>MAX('T1'!M48,'T2'!K48),MAX('T1'!M48,'T2'!K48),COUNTRY_INFO!F48*0.33),IF(COUNTRY_INFO!K48=2,IF(COUNTRY_INFO!F48*0.5>MAX('T1'!M48,'T2'!K48),MAX('T1'!M48,'T2'!K48),COUNTRY_INFO!F48*0.5),IF(COUNTRY_INFO!K48=3,IF(COUNTRY_INFO!F48>MAX('T1'!M48,'T2'!K48),MAX('T1'!M48,'T2'!K48),COUNTRY_INFO!F48),0)))","v":0},{"$f":"IF(AND(COUNTRY_INFO!K48>0,COUNTRY_INFO!K48<4),IF(Z48>0,IF(COUNTRY_INFO!K48=1, AD48/(COUNTRY_INFO!F48*0.33)*100, IF(COUNTRY_INFO!K48=2, AD48/(COUNTRY_INFO!F48*0.5)*100, IF(COUNTRY_INFO!K48=3, AD48/COUNTRY_INFO!F48*100))),\"-\"),0)","v":0},{"$f":"IF(COUNTRY_INFO!K48=2,IF(COUNTRY_INFO!G48*0.2>MAX('T1'!N48,'T2'!L48),MAX('T1'!N48,'T2'!L48),COUNTRY_INFO!G48*0.2),IF(COUNTRY_INFO!K48=3,IF(COUNTRY_INFO!G48>MAX('T1'!N48,'T2'!L48),MAX('T1'!N48,'T2'!L48),COUNTRY_INFO!G48),0))","v":0},{"$f":"IF(AND(COUNTRY_INFO!K48>0,COUNTRY_INFO!K48<4),IF(Z48>0,IF(COUNTRY_INFO!K48=1, 0, IF(COUNTRY_INFO!K48=2, AF48/(COUNTRY_INFO!G48*0.2)*100, IF(COUNTRY_INFO!K48=3, AF48/COUNTRY_INFO!G48*100))),\"-\"),0)","v":0},0,{"$f":"IF(AND(COUNTRY_INFO!K48>0,COUNTRY_INFO!K48<4), IF(AC48/Z48*100<>0, IF(AH48/Z48*100>100,100,AH48/Z48*100), \"-\"),0)","v":0},null,{"$f":"IF(AND(D48<>0, D48<>\"Inconnu\",D48<>\"Interrompu\",D48<>\"Non requis\"),D48/COUNTRY_INFO!D48, 0)","v":1},{"$f":"IF(AND(J48<>0,J48<>\"Inconnu\",J48<>\"Interrompu\",J48<>\"Non requis\"),J48/COUNTRY_INFO!D48, 0)","v":0},{"$f":"IF(AND(P48<>0,P48<>\"Inconnu\",P48<>\"Non requis\"),P48/(COUNTRY_INFO!E48+COUNTRY_INFO!F48), 0)","v":0},{"$f":"IF(AND(Z48<>0,Z48<>\"Inconnu\",Z48<>\"Non requis\"),IF(COUNTRY_INFO!K48=1,1,IF(COUNTRY_INFO!K48=2,0.5*COUNTRY_INFO!F48/(0.5*COUNTRY_INFO!F48+0.2*COUNTRY_INFO!G48),IF(COUNTRY_INFO!K48=3,COUNTRY_INFO!F48/(COUNTRY_INFO!F48+COUNTRY_INFO!G48)))),0)","v":0},{"$f":"IF(AND(Z48<>0,Z48<>\"Inconnu\",Z48<>\"Non requis\"),IF(COUNTRY_INFO!K48=1,0,IF(COUNTRY_INFO!K48=2,0.2*COUNTRY_INFO!G48/(0.5*COUNTRY_INFO!F48+0.2*COUNTRY_INFO!G48),IF(COUNTRY_INFO!K48=3,COUNTRY_INFO!G48/(COUNTRY_INFO!F48+COUNTRY_INFO!G48)))),0)","v":0},{"$f":"MAX(COUNTRY_INFO!D48*AK48*PROFILE!$G$7,COUNTRY_INFO!D48*AL48*PROFILE!$G$7)","v":2054.1891119362258},{"$f":"MAX(COUNTRY_INFO!D48*AK48*PROFILE!$G$8,COUNTRY_INFO!D48*AL48*PROFILE!$G$8,COUNTRY_INFO!D48*AM48*PROFILE!$G$8)","v":6167.4989319219267},{"$f":"MAX(COUNTRY_INFO!D48*AK48*PROFILE!$G$9,COUNTRY_INFO!D48*AL48*PROFILE!$G$9,COUNTRY_INFO!D48*AM48*PROFILE!$G$9,IF(AND(DISTRICT!Z48<>\"Inconnu\",Z48<>\"Non requis\"),COUNTRY_INFO!O48*DISTRICT!AN48,0))","v":11880.5512820079},{"$f":"MAX(COUNTRY_INFO!D48*AK48*PROFILE!$G$10,COUNTRY_INFO!D48*AL48*PROFILE!$G$10,IF(AND(DISTRICT!Z48<>\"Inconnu\",Z48<>\"Non requis\"),COUNTRY_INFO!O48*DISTRICT!AO48,0))","v":26269.760674133944},46372,"Y",{"$f":"MAX('MDA2'!J48,'T1'!L48,'T2'!J48,T3_R1!K48,T3_R2!K48)","v":0},{"$f":"MAX('MDA1'!K48,'MDA2'!K48,'MDA3'!I48,'MDA3'!L48,'T1'!M48,'T2'!K48,T3_R1!L48,T3_R2!L48)","v":14087},{"$f":"MAX('MDA1'!L48,'MDA2'!L48,'MDA3'!J48,'MDA3'!M48,'T1'!N48,'T2'!L48,T3_R1!M48,T3_R2!M48)","v":15294},29381,{"$f":"MAX('MDA2'!J48,T48)","v":0},{"$f":"MAX('MDA1'!K48,'MDA2'!K48,'MDA3'!I48,'MDA3'!L48,V48,AD48)","v":14087},{"$f":"MAX('MDA1'!L48,'MDA2'!L48,'MDA3'!J48,'MDA3'!M48,AF48)","v":15294},29381,63.359354783058741]
[{"$f":"IF(COUNTRY_INFO!A49=0,\" \",COUNTRY_INFO!A49)","v":"Guinea Bissau"},{"$f":"IF(COUNTRY_INFO!B49=0,\" \",COUNTRY_INFO!B49)","v":"Oio"},{"$f":"IF(COUNTRY_INFO!C49=0,\" \",COUNTRY_INFO!C49)","v":"ENCHEIA"},{"$f":"COUNTRY_INFO!L49","v":14835},5241,5315,{"$f":"MAX('MDA1'!M49,'MDA2'!M49)","v":10556},{"$f":"IF(AND(COUNTRY_INFO!H49>0,COUNTRY_INFO!H49<4),IF(D49>MAX('MDA1'!M49,'MDA2'!M49),MAX('MDA1'!M49,'MDA2'!M49),D49),0)","v":10556},{"$f":"IF(AND(COUNTRY_INFO!H49>0,COUNTRY_INFO!H49<4), IF(G49/D49*100<>0, IF(G49/D49*100>100,100,G49/D49*100), \"-\"),0)","v":71.156049882035717},{"$f":"COUNTRY_INFO!M49","v":"Inconnu"},null,null,{"$f":"MAX('MDA1'!M49,MAX('MDA3'!I49,'MDA3'!L49)+MAX('MDA3'!J49,'MDA3'!M49))","v":10556},{"$f":"IF(AND(COUNTRY_INFO!I49>0,COUNTRY_INFO!I49<4),IF(J49>MAX('MDA1'!M49,MAX('MDA3'!I49,'MDA3'!L49)+MAX('MDA3'!J49,'MDA3'!M49)),MAX('MDA1'!M49,MAX('MDA3'!I49,'MDA3'!L49)+MAX('MDA3'!J49,'MDA3'!M49)),J49),0)","v":0},{"$f":"IF(AND(COUNTRY_INFO!I49>0,COUNTRY_INFO!I49<4), IF(M49/J49*100<>0, IF(M49/J49*100>100,100,M49/J49*100), \"-\"),0)","v":0},{"$f":"COUNTRY_INFO!N49","v":5774},null,null,{"$f":"SUM(MAX('MDA2'!J49, 'T1'!L49, MAX(T3_R1!K49, T3_R2!K49)), MAX('MDA1'!K49, 'MDA2'!K49, 'T1'!M49, MAX(T3_R1!L49, T3_R2!L49)), MAX('MDA1'!L49, 'MDA2'!L49, 'T1'!N49, MAX(T3_R1!M49, T3_R2!M49)))","v":10556},{"$f":"IF(AND(COUNTRY_INFO!J49>1,COUNTRY_INFO!J49<4),IF(COUNTRY_INFO!E49>MAX('MDA2'!J49,'T1'!L49,MAX(T3_R1!K49,T3_R2!K49)),MAX('MDA2'!J49,'T1'!L49,MAX(T3_R1!K49,T3_R2!K49)),COUNTRY_INFO!E49),0)","v":0},{"$f":"IF(AND(COUNTRY_INFO!J49>1,COUNTRY_INFO!J49<4), IF(T49/COUNTRY_INFO!E49*100<>0, IF(T49/COUNTRY_INFO!E49*100>100,100,T49/COUNTRY_INFO!E49*100), \"-\"),0)","v":"-"},{"$f":"IF(AND(COUNTRY_INFO!J49>1,COUNTRY_INFO!J49<4),IF(COUNTRY_INFO!F49>MAX('MDA1'!K49,'MDA2'!K49,'T1'!M49,MAX(T3_R1!L49,T3_R2!L49)),MAX('MDA1'!K49,'MDA2'!K49,'T1'!M49,MAX(T3_R1!L49,T3_R2!L49)),COUNTRY_INFO!F49),0)","v":3801},{"$f":"IF(AND(COUNTRY_INFO!J49>1,COUNTRY_INFO!J49<4), IF(V49/COUNTRY_INFO!F49*100<>0, IF(V49/COUNTRY_INFO!F49*100>100,100,V49/COUNTRY_INFO!F49*100), \"-\"),0)","v":100},3801,{"$f":"IF(AND(COUNTRY_INFO!J49>1,COUNTRY_INFO!J49<4), IF(S49/P49*100<>0, IF(X49/P49*100>100,100,X49/P49*100), \"-\"),0)","v":65.829580879806031},{"$f":"COUNTRY_INFO!O49","v":0},null,null,{"$f":"MAX('T1'!L49,'T2'!J49)+MAX('T1'!M49,'T2'!K49)+MAX('T1'!N49,'T2'!L49)","v":0},{"$f":"IF(COUNTRY_INFO!K49=1,IF(COUNTRY_INFO!F49*0.33>MAX('T1'!M49,'T2'!K49),MAX('T1'!M49,'T2'!K49),COUNTRY_INFO!F49*0.33),IF(COUNTRY_INFO!K49=2,IF(COUNTRY_INFO!F49*0.5>MAX('T1'!M49,'T2'!K49),MAX('T1'!M49,'T2'!K49),COUNTRY_INFO!F49*0.5),IF(COUNTRY_INFO!K49=3,IF(COUNTRY_INFO!F49>MAX('T1'!M49,'T2'!K49),MAX('T1'!M49,'T2'!K49),COUNTRY_INFO!F49),0)))","v":0},{"$f":"IF(AND(COUNTRY_INFO!K49>0,COUNTRY_INFO!K49<4),IF(Z49>0,IF(COUNTRY_INFO!K49=1, AD49/(COUNTRY_INFO!F49*0.33)*100, IF(COUNTRY_INFO!K49=2, AD49/(COUNTRY_INFO!F49*0.5)*100, IF(COUNTRY_INFO!K49=3, AD49/COUNTRY_INFO!F49*100))),\"-\"),0)","v":0},{"$f":"IF(COUNTRY_INFO!K49=2,IF(COUNTRY_INFO!G49*0.2>MAX('T1'!N49,'T2'!L49),MAX('T1'!N49,'T2'!L49),COUNTRY_INFO!G49*0.2),IF(COUNTRY_INFO!K49=3,IF(COUNTRY_INFO!G49>MAX('T1'!N49,'T2'!L49),MAX('T1'!N49,'T2'!L49),COUNTRY_INFO!G49),0))","v":0},{"$f":"IF(AND(COUNTRY_INFO!K49>0,COUNTRY_INFO!K49<4),IF(Z49>0,IF(COUNTRY_INFO!K49=1, 0, IF(COUNTRY_INFO!K49=2, AF49/(COUNTRY_INFO!G49*0.2)*100, IF(COUNTRY_INFO!K49=3, AF49/COUNTRY_INFO!G49*100))),\"-\"),0)","v":0},0,{"$f":"IF(AND(COUNTRY_INFO!K49>0,COUNTRY_INFO!K49<4), IF(AC49/Z49*100<>0, IF(AH49/Z49*100>100,100,AH49/Z49*100), \"-\"),0)","v":0},null,{"$f":"IF(AND(D49<>0, D49<>\"Inconnu\",D49<>\"Interrompu\",D49<>\"Non requis\"),D49/COUNTRY_INFO!D49, 0)","v":1},{"$f":"IF(AND(J49<>0,J49<>\"Inconnu\",J49<>\"Interrompu\",J49<>\"Non requis\"),J49/COUNTRY_INFO!D49, 0)","v":0},{"$f":"IF(AND(P49<>0,P49<>\"Inconnu\",P49<>\"Non requis\"),P49/(COUNTRY_INFO!E49+COUNTRY_INFO!F49), 0)","v":1},{"$f":"IF(AND(Z49<>0,Z49<>\"Inconnu\",Z49<>\"Non requis\"),IF(COUNTRY_INFO!K49=1,1,IF(COUNTRY_INFO!K49=2,0.5*COUNTRY_INFO!F49/(0.5*COUNTRY_INFO!F49+0.2*COUNTRY_INFO!G49),IF(COUNTRY_INFO!K49=3,COUNTRY_INFO!F49/(COUNTRY_INFO!F49+COUNTRY_INFO!G49)))),0)","v":0},{"$f":"IF(AND(Z49<>0,Z49<>\"Inconnu\",Z49<>\"Non requis\"),IF(COUNTRY_INFO!K49=1,0,IF(COUNTRY_INFO!K49=2,0.2*COUNTRY_INFO!G49/(0.5*COUNTRY_INFO!F49+0.2*COUNTRY_INFO!G49),IF(COUNTRY_INFO!K49=3,COUNTRY_INFO!G49/(COUNTRY_INFO!F49+COUNTRY_INFO!G49)))),0)","v":0},{"$f":"MAX(COUNTRY_INFO!D49*AK49*PROFILE!$G$7,COUNTRY_INFO!D49*AL49*PROFILE!$G$7)","v":657.1615517030516},{"$f":"MAX(COUNTRY_INFO!D49*AK49*PROFILE!$G$8,COUNTRY_INFO!D49*AL49*PROFILE!$G$8,COUNTRY_INFO!D49*AM49*PROFILE!$G$8)","v":1973.0623362171523},{"$f":"MAX(COUNTRY_INFO!D49*AK49*PROFILE!$G$9,COUNTRY_INFO!D49*AL49*PROFILE!$G$9,COUNTRY_INFO!D49*AM49*PROFILE!$G$9,IF(AND(DISTRICT!Z49<>\"Inconnu\",Z49<>\"Non requis\"),COUNTRY_INFO!O49*DISTRICT!AN49,0))","v":3800.7413583323382},{"$f":"MAX(COUNTRY_INFO!D49*AK49*PROFILE!$G$10,COUNTRY_INFO!D49*AL49*PROFILE!$G$10,IF(AND(DISTRICT!Z49<>\"Inconnu\",Z49<>\"Non requis\"),COUNTRY_INFO!O49*DISTRICT!AO49,0))","v":8404.0347537474572},14835,"Y",{"$f":"MAX('MDA2'!J49,'T1'!L49,'T2'!J49,T3_R1!K49,T3_R2!K49)","v":0},{"$f":"MAX('MDA1'!K49,'MDA2'!K49,'MDA3'!I49,'MDA3'!L49,'T1'!M49,'T2'!K49,T3_R1!L49,T3_R2!L49)","v":5241},{"$f":"MAX('MDA1'!L49,'MDA2'!L49,'MDA3'!J49,'MDA3'!M49,'T1'!N49,'T2'!L49,T3_R1!M49,T3_R2!M49)","v":5315},10556,{"$f":"MAX('MDA2'!J49,T49)","v":0},{"$f":"MAX('MDA1'!K49,'MDA2'!K49,'MDA3'!I49,'MDA3'!L49,V49,AD49)","v":5241},{"$f":"MAX('MDA1'!L49,'MDA2'!L49,'MDA3'!J49,'MDA3'!M49,AF49)","v":5315},10556,71.156049882035717]
[{"$f":"IF(COUNTRY_INFO!A50=0,\" \",COUNTRY_INFO!A50)","v":"Guinea Bissau"},{"$f":"IF(COUNTRY_INFO!B50=0,\" \",COUNTRY_INFO!B50)","v":"Oio"},{"$f":"IF(COUNTRY_INFO!C50=0,\" \",COUNTRY_INFO!C50)","v":"GÃ-MAMUDO"},{"$f":"COUNTRY_INFO!L50","v":12044},4215,4470,{"$f":"MAX('MDA1'!M50,'MDA2'!M50)","v":8685},{"$f":"IF(AND(COUNTRY_INFO!H50>0,COUNTRY_INFO!H50<4),IF(D50>MAX('MDA1'!M50,'MDA2'!M50),MAX('MDA1'!M50,'MDA2'!M50),D50),0)","v":8685},{"$f":"IF(AND(COUNTRY_INFO!H50>0,COUNTRY_INFO!H50<4), IF(G50/D50*100<>0, IF(G50/D50*100>100,100,G50/D50*100), \"-\"),0)","v":72.110594486881425},{"$f":"COUNTRY_INFO!M50","v":"Inconnu"},null,null,{"$f":"MAX('MDA1'!M50,MAX('MDA3'!I50,'MDA3'!L50)+MAX('MDA3'!J50,'MDA3'!M50))","v":8685},{"$f":"IF(AND(COUNTRY_INFO!I50>0,COUNTRY_INFO!I50<4),IF(J50>MAX('MDA1'!M50,MAX('MDA3'!I50,'MDA3'!L50)+MAX('MDA3'!J50,'MDA3'!M50)),MAX('MDA1'!M50,MAX('MDA3'!I50,'MDA3'!L50)+MAX('MDA3'!J50,'MDA3'!M50)),J50),0)","v":0},{"$f":"IF(AND(COUNTRY_INFO!I50>0,COUNTRY_INFO!I50<4), IF(M50/J50*100<>0, IF(M50/J50*100>100,100,M50/J50*100), \"-\"),0)","v":0},{"$f":"COUNTRY_INFO!N50","v":4688},null,null,{"$f":"SUM(MAX('MDA2'!J50, 'T1'!L50, MAX(T3_R1!K50, T3_R2!K50)), MAX('MDA1'!K50, 'MDA2'!K50, 'T1'!M50, MAX(T3_R1!L50, T3_R2!L50)), MAX('MDA1'!L50, 'MDA2'!L50, 'T1'!N50, MAX(T3_R1!M50, T3_R2!M50)))","v":8685},{"$f":"IF(AND(COUNTRY_INFO!J50>1,COUNTRY_INFO!J50<4),IF(COUNTRY_INFO!E50>MAX('MDA2'!J50,'T1'!L50,MAX(T3_R1!K50,T3_R2!K50)),MAX('MDA2'!J50,'T1'!L50,MAX(T3_R1!K50,T3_R2!K50)),COUNTRY_INFO!E50),0)","v":0},{"$f":"IF(AND(COUNTRY_INFO!J50>1,COUNTRY_INFO!J50<4), IF(T50/COUNTRY_INFO!E50*100<>0, IF(T50/COUNTRY_INFO!E50*100>100,100,T50/COUNTRY_INFO!E50*100), \"-\"),0)","v":"-"},{"$f":"IF(AND(COUNTRY_INFO!J50>1,COUNTRY_INFO!J50<4),IF(COUNTRY_INFO!F50>MAX('MDA1'!K50,'MDA2'!K50,'T1'!M50,MAX(T3_R1!L50,T3_R2!L50)),MAX('MDA1'!K50,'MDA2'!K50,'T1'!M50,MAX(T3_R1!L50,T3_R2!L50)),COUNTRY_INFO!F50),0)","v":3086},{"$f":"IF(AND(COUNTRY_INFO!J50>1,COUNTRY_INFO!J50<4), IF(V50/COUNTRY_INFO!F50*100<>0, IF(V50/COUNTRY_INFO!F50*100>100,100,V50/COUNTRY_INFO!F50*100), \"-\"),0)","v":100},3086,{"$f":"IF(AND(COUNTRY_INFO!J50>1,COUNTRY_INFO!J50<4), IF(S50/P50*100<>0, IF(X50/P50*100>100,100,X50/P50*100), \"-\"),0)","v":65.827645051194537},{"$f":"COUNTRY_INFO!O50","v":1018.38},null,null,{"$f":"MAX('T1'!L50,'T2'!J50)+MAX('T1'!M50,'T2'!K50)+MAX('T1'!N50,'T2'!L50)","v":0},{"$f":"IF(COUNTRY_INFO!K50=1,IF(COUNTRY_INFO!F50*0.33>MAX('T1'!M50,'T2'!K50),MAX('T1'!M50,'T2'!K50),COUNTRY_INFO!F50*0.33),IF(COUNTRY_INFO!K50=2,IF(COUNTRY_INFO!F50*0.5>MAX('T1'!M50,'T2'!K50),MAX('T1'!M50,'T2'!K50),COUNTRY_INFO!F50*0.5),IF(COUNTRY_INFO!K50=3,IF(COUNTRY_INFO!F50>MAX('T1'!M50,'T2'!K50),MAX('T1'!M50,'T2'!K50),COUNTRY_INFO!F50),0)))","v":0},{"$f":"IF(AND(COUNTRY_INFO!K50>0,COUNTRY_INFO!K50<4),IF(Z50>0,IF(COUNTRY_INFO!K50=1, AD50/(COUNTRY_INFO!F50*0.33)*100, IF(COUNTRY_INFO!K50=2, AD50/(COUNTRY_INFO!F50*0.5)*100, IF(COUNTRY_INFO!K50=3, AD50/COUNTRY_INFO!F50*100))),\"-\"),0)","v":0},{"$f":"IF(COUNTRY_INFO!K50=2,IF(COUNTRY_INFO!G50*0.2>MAX('T1'!N50,'T2'!L50),MAX('T1'!N50,'T2'!L50),COUNTRY_INFO!G50*0.2),IF(COUNTRY_INFO!K50=3,IF(COUNTRY_INFO!G50>MAX('T1'!N50,'T2'!L50),MAX('T1'!N50,'T2'!L50),COUNTRY_INFO!G50),0))","v":0},{"$f":"IF(AND(COUNTRY_INFO!K50>0,COUNTRY_INFO!K50<4),IF(Z50>0,IF(COUNTRY_INFO!K50=1, 0, IF(COUNTRY_INFO!K50=2, AF50/(COUNTRY_INFO!G50*0.2)*100, IF(COUNTRY_INFO!K50=3, AF50/COUNTRY_INFO!G50*100))),\"-\"),0)","v":0},0,{"$f":"IF(AND(COUNTRY_INFO!K50>0,COUNTRY_INFO!K50<4), IF(AC50/Z50*100<>0, IF(AH50/Z50*100>100,100,AH50/Z50*100), \"-\"),0)","v":"-"},null,{"$f":"IF(AND(D50<>0, D50<>\"Inconnu\",D50<>\"Interrompu\",D50<>\"Non requis\"),D50/COUNTRY_INFO!D50, 0)","v":1},{"$f":"IF(AND(J50<>0,J50<>\"Inconnu\",J50<>\"Interrompu\",J50<>\"Non requis\"),J50/COUNTRY_INFO!D50, 0)","v":0},{"$f":"IF(AND(P50<>0,P50<>\"Inconnu\",P50<>\"Non requis\"),P50/(COUNTRY_INFO!E50+COUNTRY_INFO!F50), 0)","v":1},{"$f":"IF(AND(Z50<>0,Z50<>\"Inconnu\",Z50<>\"Non requis\"),IF(COUNTRY_INFO!K50=1,1,IF(COUNTRY_INFO!K50=2,0.5*COUNTRY_INFO!F50/(0.5*COUNTRY_INFO!F50+0.2*COUNTRY_INFO!G50),IF(COUNTRY_INFO!K50=3,COUNTRY_INFO!F50/(COUNTRY_INFO!F50+COUNTRY_INFO!G50)))),0)","v":1},{"$f":"IF(AND(Z50<>0,Z50<>\"Inconnu\",Z50<>\"Non requis\"),IF(COUNTRY_INFO!K50=1,0,IF(COUNTRY_INFO!K50=2,0.2*COUNTRY_INFO!G50/(0.5*COUNTRY_INFO!F50+0.2*COUNTRY_INFO!G50),IF(COUNTRY_INFO!K50=3,COUNTRY_INFO!G50/(COUNTRY_INFO!F50+COUNTRY_INFO!G50)))),0)","v":0},{"$f":"MAX(COUNTRY_INFO!D50*AK50*PROFILE!$G$7,COUNTRY_INFO!D50*AL50*PROFILE!$G$7)","v":533.52569792460758},{"$f":"MAX(COUNTRY_INFO!D50*AK50*PROFILE!$G$8,COUNTRY_INFO!D50*AL50*PROFILE!$G$8,COUNTRY_INFO!D50*AM50*PROFILE!$G$8)","v":1601.8579560093956},{"$f":"MAX(COUNTRY_INFO!D50*AK50*PROFILE!$G$9,COUNTRY_INFO!D50*AL50*PROFILE!$G$9,COUNTRY_INFO!D50*AM50*PROFILE!$G$9,IF(AND(DISTRICT!Z50<>\"Inconnu\",Z50<>\"Non requis\"),COUNTRY_INFO!O50*DISTRICT!AN50,0))","v":3085.6844570107637},{"$f":"MAX(COUNTRY_INFO!D50*AK50*PROFILE!$G$10,COUNTRY_INFO!D50*AL50*PROFILE!$G$10,IF(AND(DISTRICT!Z50<>\"Inconnu\",Z50<>\"Non requis\"),COUNTRY_INFO!O50*DISTRICT!AO50,0))","v":6822.9318890552322},12044,0,{"$f":"MAX('MDA2'!J50,'T1'!L50,'T2'!J50,T3_R1!K50,T3_R2!K50)","v":0},{"$f":"MAX('MDA1'!K50,'MDA2'!K50,'MDA3'!I50,'MDA3'!L50,'T1'!M50,'T2'!K50,T3_R1!L50,T3_R2!L50)","v":4215},{"$f":"MAX('MDA1'!L50,'MDA2'!L50,'MDA3'!J50,'MDA3'!M50,'T1'!N50,'T2'!L50,T3_R1!M50,T3_R2!M50)","v":4470},8685,{"$f":"MAX('MDA2'!J50,T50)","v":0},{"$f":"MAX('MDA1'!K50,'MDA2'!K50,'MDA3'!I50,'MDA3'!L50,V50,AD50)","v":4215},{"$f":"MAX('MDA1'!L50,'MDA2'!L50,'MDA3'!J50,'MDA3'!M50,AF50)","v":4470},8685,72.110594486881425]
[{"$f":"IF(COUNTRY_INFO!A51=0,\" \",COUNTRY_INFO!A51)","v":"Guinea Bissau"},{"$f":"IF(COUNTRY_INFO!B51=0,\" \",COUNTRY_INFO!B51)","v":"Oio"},{"$f":"IF(COUNTRY_INFO!C51=0,\" \",COUNTRY_INFO!C51)","v":"MANSABA"},{"$f":"COUNTRY_INFO!L51","v":27411},8247,9565,{"$f":"MAX('MDA1'!M51,'MDA2'!M51)","v":17812},{"$f":"IF(AND(COUNTRY_INFO!H51>0,COUNTRY_INFO!H51<4),IF(D51>MAX('MDA1'!M51,'MDA2'!M51),MAX('MDA1'!M51,'MDA2'!M51),D51),0)","v":17812},{"$f":"IF(AND(COUNTRY_INFO!H51>0,COUNTRY_INFO!H51<4), IF(G51/D51*100<>0, IF(G51/D51*100>100,100,G51/D51*100), \"-\"),0)","v":64.981211922221007},{"$f":"COUNTRY_INFO!M51","v":"Inconnu"},null,null,{"$f":"MAX('MDA1'!M51,MAX('MDA3'!I51,'MDA3'!L51)+MAX('MDA3'!J51,'MDA3'!M51))","v":17812},{"$f":"IF(AND(COUNTRY_INFO!I51>0,COUNTRY_INFO!I51<4),IF(J51>MAX('MDA1'!M51,MAX('MDA3'!I51,'MDA3'!L51)+MAX('MDA3'!J51,'MDA3'!M51)),MAX('MDA1'!M51,MAX('MDA3'!I51,'MDA3'!L51)+MAX('MDA3'!J51,'MDA3'!M51)),J51),0)","v":0},{"$f":"IF(AND(COUNTRY_INFO!I51>0,COUNTRY_INFO!I51<4), IF(M51/J51*100<>0, IF(M51/J51*100>100,100,M51/J51*100), \"-\"),0)","v":0},{"$f":"COUNTRY_INFO!N51","v":0},null,null,{"$f":"SUM(MAX('MDA2'!J51, 'T1'!L51, MAX(T3_R1!K51, T3_R2!K51)), MAX('MDA1'!K51, 'MDA2'!K51, 'T1'!M51, MAX(T3_R1!L51, T3_R2!L51)), MAX('MDA1'!L51, 'MDA2'!L51, 'T1'!N51, MAX(T3_R1!M51, T3_R2!M51)))","v":17812},{"$f":"IF(AND(COUNTRY_INFO!J51>1,COUNTRY_INFO!J51<4),IF(COUNTRY_INFO!E51>MAX('MDA2'!J51,'T1'!L51,MAX(T3_R1!K51,T3_R2!K51)),MAX('MDA2'!J51,'T1'!L51,MAX(T3_R1!K51,T3_R2!K51)),COUNTRY_INFO!E51),0)","v":0},{"$f":"IF(AND(COUNTRY_INFO!J51>1,COUNTRY_INFO!J51<4), IF(T51/COUNTRY_INFO!E51*100<>0, IF(T51/COUNTRY_INFO!E51*100>100,100,T51/COUNTRY_INFO!E51*100), \"-\"),0)","v":0},{"$f":"IF(AND(COUNTRY_INFO!J51>1,COUNTRY_INFO!J51<4),IF(COUNTRY_INFO!F51>MAX('MDA1'!K51,'MDA2'!K51,'T1'!M51,MAX(T3_R1!L51,T3_R2!L51)),MAX('MDA1'!K51,'MDA2'!K51,'T1'!M51,MAX(T3_R1!L51,T3_R2!L51)),COUNTRY_INFO!F51),0)","v":0},{"$f":"IF(AND(COUNTRY_INFO!J51>1,COUNTRY_INFO!J51<4), IF(V51/COUNTRY_INFO!F51*100<>0, IF(V51/COUNTRY_INFO!F51*100>100,100,V51/COUNTRY_INFO!F51*100), \"-\"),0)","v":0},0,{"$f":"IF(AND(COUNTRY_INFO!J51>1,COUNTRY_INFO!J51<4), IF(S51/P51*100<>0, IF(X51/P51*100>100,100,X51/P51*100), \"-\"),0)","v":0},{"$f":"COUNTRY_INFO!O51","v":0},null,null,{"$f":"MAX('T1'!L51,'T2'!J51)+MAX('T1'!M51,'T2'!K51)+MAX('T1'!N51,'T2'!L51)","v":0},{"$f":"IF(COUNTRY_INFO!K51=1,IF(COUNTRY_INFO!F51*0.33>MAX('T1'!M51,'T2'!K51),MAX('T1'!M51,'T2'!K51),COUNTRY_INFO!F51*0.33),IF(COUNTRY_INFO!K51=2,IF(COUNTRY_INFO!F51*0.5>MAX('T1'!M51,'T2'!K51),MAX('T1'!M51,'T2'!K51),COUNTRY_INFO!F51*0.5),IF(COUNTRY_INFO!K51=3,IF(COUNTRY_INFO!F51>MAX('T1'!M51,'T2'!K51),MAX('T1'!M51,'T2'!K51),COUNTRY_INFO!F51),0)))","v":0},{"$f":"IF(AND(COUNTRY_INFO!K51>0,COUNTRY_INFO!K51<4),IF(Z51>0,IF(COUNTRY_INFO!K51=1, AD51/(COUNTRY_INFO!F51*0.33)*100, IF(COUNTRY_INFO!K51=2, AD51/(COUNTRY_INFO!F51*0.5)*100, IF(COUNTRY_INFO!K51=3, AD51/COUNTRY_INFO!F51*100))),\"-\"),0)","v":0},{"$f":"IF(COUNTRY_INFO!K51=2,IF(COUNTRY_INFO!G51*0.2>MAX('T1'!N51,'T2'!L51),MAX('T1'!N51,'T2'!L51),COUNTRY_INFO!G51*0.2),IF(COUNTRY_INFO!K51=3,IF(COUNTRY_INFO!G51>MAX('T1'!N51,'T2'!L51),MAX('T1'!N51,'T2'!L51),COUNTRY_INFO!G51),0))","v":0},{"$f":"IF(AND(COUNTRY_INFO!K51>0,COUNTRY_INFO!K51<4),IF(Z51>0,IF(COUNTRY_INFO!K51=1, 0, IF(COUNTRY_INFO!K51=2, AF51/(COUNTRY_INFO!G51*0.2)*100, IF(COUNTRY_INFO!K51=3, AF51/COUNTRY_INFO!G51*100))),\"-\"),0)","v":0},0,{"$f":"IF(AND(COUNTRY_INFO!K51>0,COUNTRY_INFO!K51<4), IF(AC51/Z51*100<>0, IF(AH51/Z51*100>100,100,AH51/Z51*100), \"-\"),0)","v":0},null,{"$f":"IF(AND(D51<>0, D51<>\"Inconnu\",D51<>\"Interrompu\",D51<>\"Non requis\"),D51/COUNTRY_INFO!D51, 0)","v":1},{"$f":"IF(AND(J51<>0,J51<>\"Inconnu\",J51<>\"Interrompu\",J51<>\"Non requis\"),J51/COUNTRY_INFO!D51, 0)","v":0},{"$f":"IF(AND(P51<>0,P51<>\"Inconnu\",P51<>\"Non requis\"),P51/(COUNTRY_INFO!E51+COUNTRY_INFO!F51), 0)","v":0},{"$f":"IF(AND(Z51<>0,Z51<>\"Inconnu\",Z51<>\"Non requis\"),IF(COUNTRY_INFO!K51=1,1,IF(COUNTRY_INFO!K51=2,0.5*COUNTRY_INFO!F51/(0.5*COUNTRY_INFO!F51+0.2*COUNTRY_INFO!G51),IF(COUNTRY_INFO!K51=3,COUNTRY_INFO!F51/(COUNTRY_INFO!F51+COUNTRY_INFO!G51)))),0)","v":0},{"$f":"IF(AND(Z51<>0,Z51<>\"Inconnu\",Z51<>\"Non requis\"),IF(COUNTRY_INFO!K51=1,0,IF(COUNTRY_INFO!K51=2,0.2*COUNTRY_INFO!G51/(0.5*COUNTRY_INFO!F51+0.2*COUNTRY_INFO!G51),IF(COUNTRY_INFO!K51=3,COUNTRY_INFO!G51/(COUNTRY_INFO!F51+COUNTRY_INFO!G51)))),0)","v":0},{"$f":"MAX(COUNTRY_INFO!D51*AK51*PROFILE!$G$7,COUNTRY_INFO!D51*AL51*PROFILE!$G$7)","v":1214.2538115087527},{"$f":"MAX(COUNTRY_INFO!D51*AK51*PROFILE!$G$8,COUNTRY_INFO!D51*AL51*PROFILE!$G$8,COUNTRY_INFO!D51*AM51*PROFILE!$G$8)","v":3645.6765553116525},{"$f":"MAX(COUNTRY_INFO!D51*AK51*PROFILE!$G$9,COUNTRY_INFO!D51*AL51*PROFILE!$G$9,COUNTRY_INFO!D51*AM51*PROFILE!$G$9,IF(AND(DISTRICT!Z51<>\"Inconnu\",Z51<>\"Non requis\"),COUNTRY_INFO!O51*DISTRICT!AN51,0))","v":7022.7247302492569},{"$f":"MAX(COUNTRY_INFO!D51*AK51*PROFILE!$G$10,COUNTRY_INFO!D51*AL51*PROFILE!$G$10,IF(AND(DISTRICT!Z51<>\"Inconnu\",Z51<>\"Non requis\"),COUNTRY_INFO!O51*DISTRICT!AO51,0))","v":15528.344902930337},27411,"Y",{"$f":"MAX('MDA2'!J51,'T1'!L51,'T2'!J51,T3_R1!K51,T3_R2!K51)","v":0},{"$f":"MAX('MDA1'!K51,'MDA2'!K51,'MDA3'!I51,'MDA3'!L51,'T1'!M51,'T2'!K51,T3_R1!L51,T3_R2!L51)","v":8247},{"$f":"MAX('MDA1'!L51,'MDA2'!L51,'MDA3'!J51,'MDA3'!M51,'T1'!N51,'T2'!L51,T3_R1!M51,T3_R2!M51)","v":9565},17812,{"$f":"MAX('MDA2'!J51,T51)","v":0},{"$f":"MAX('MDA1'!K51,'MDA2'!K51,'MDA3'!I51,'MDA3'!L51,V51,AD51)","v":8247},{"$f":"MAX('MDA1'!L51,'MDA2'!L51,'MDA3'!J51,'MDA3'!M51,AF51)","v":9565},17812,64.981211922221007]
[{"$f":"IF(COUNTRY_INFO!A52=0,\" \",COUNTRY_INFO!A52)","v":"Guinea Bissau"},{"$f":"IF(COUNTRY_INFO!B52=0,\" \",COUNTRY_INFO!B52)","v":"Oio"},{"$f":"IF(COUNTRY_INFO!C52=0,\" \",COUNTRY_INFO!C52)","v":"MANSOA"},{"$f":"COUNTRY_INFO!L52","v":44132},13593,14276,{"$f":"MAX('MDA1'!M52,'MDA2'!M52)","v":27869},{"$f":"IF(AND(COUNTRY_INFO!H52>0,COUNTRY_INFO!H52<4),IF(D52>MAX('MDA1'!M52,'MDA2'!M52),MAX('MDA1'!M52,'MDA2'!M52),D52),0)","v":27869},{"$f":"IF(AND(COUNTRY_INFO!H52>0,COUNTRY_INFO!H52<4), IF(G52/D52*100<>0, IF(G52/D52*100>100,100,G52/D52*100), \"-\"),0)","v":63.149188797244626},{"$f":"COUNTRY_INFO!M52","v":"Inconnu"},null,null,{"$f":"MAX('MDA1'!M52,MAX('MDA3'!I52,'MDA3'!L52)+MAX('MDA3'!J52,'MDA3'!M52))","v":27869},{"$f":"IF(AND(COUNTRY_INFO!I52>0,COUNTRY_INFO!I52<4),IF(J52>MAX('MDA1'!M52,MAX('MDA3'!I52,'MDA3'!L52)+MAX('MDA3'!J52,'MDA3'!M52)),MAX('MDA1'!M52,MAX('MDA3'!I52,'MDA3'!L52)+MAX('MDA3'!J52,'MDA3'!M52)),J52),0)","v":0},{"$f":"IF(AND(COUNTRY_INFO!I52>0,COUNTRY_INFO!I52<4), IF(M52/J52*100<>0, IF(M52/J52*100>100,100,M52/J52*100), \"-\"),0)","v":0},{"$f":"COUNTRY_INFO!N52","v":0},null,null,{"$f":"SUM(MAX('MDA2'!J52, 'T1'!L52, MAX(T3_R1!K52, T3_R2!K52)), MAX('MDA1'!K52, 'MDA2'!K52, 'T1'!M52, MAX(T3_R1!L52, T3_R2!L52)), MAX('MDA1'!L52, 'MDA2'!L52, 'T1'!N52, MAX(T3_R1!M52, T3_R2!M52)))","v":27869},{"$f":"IF(AND(COUNTRY_INFO!J52>1,COUNTRY_INFO!J52<4),IF(COUNTRY_INFO!E52>MAX('MDA2'!J52,'T1'!L52,MAX(T3_R1!K52,T3_R2!K52)),MAX('MDA2'!J52,'T1'!L52,MAX(T3_R1!K52,T3_R2!K52)),COUNTRY_INFO!E52),0)","v":0},{"$f":"IF(AND(COUNTRY_INFO!J52>1,COUNTRY_INFO!J52<4), IF(T52/COUNTRY_INFO!E52*100<>0, IF(T52/COUNTRY_INFO!E52*100>100,100,T52/COUNTRY_INFO!E52*100), \"-\"),0)","v":0},{"$f":"IF(AND(COUNTRY_INFO!J52>1,COUNTRY_INFO!J52<4),IF(COUNTRY_INFO!F52>MAX('MDA1'!K52,'MDA2'!K52,'T1'!M52,MAX(T3_R1!L52,T3_R2!L52)),MAX('MDA1'!K52,'MDA2'!K52,'T1'!M52,MAX(T3_R1!L52,T3_R2!L52)),COUNTRY_INFO!F52),0)","v":0},{"$f":"IF(AND(COUNTRY_INFO!J52>1,COUNTRY_INFO!J52<4), IF(V52/COUNTRY_INFO!F52*100<>0, IF(V52/COUNTRY_INFO!F52*100>100,100,V52/COUNTRY_INFO!F52*100), \"-\"),0)","v":0},0,{"$f":"IF(AND(COUNTRY_INFO!J52>1,COUNTRY_INFO!J52<4), IF(S52/P52*100<>0, IF(X52/P52*100>100,100,X52/P52*100), \"-\"),0)","v":0},{"$f":"COUNTRY_INFO!O52","v":0},null,null,{"$f":"MAX('T1'!L52,'T2'!J52)+MAX('T1'!M52,'T2'!K52)+MAX('T1'!N52,'T2'!L52)","v":0},{"$f":"IF(COUNTRY_INFO!K52=1,IF(COUNTRY_INFO!F52*0.33>MAX('T1'!M52,'T2'!K52),MAX('T1'!M52,'T2'!K52),COUNTRY_INFO!F52*0.33),IF(COUNTRY_INFO!K52=2,IF(COUNTRY_INFO!F52*0.5>MAX('T1'!M52,'T2'!K52),MAX('T1'!M52,'T2'!K52),COUNTRY_INFO!F52*0.5),IF(COUNTRY_INFO!K52=3,IF(COUNTRY_INFO!F52>MAX('T1'!M52,'T2'!K52),MAX('T1'!M52,'T2'!K52),COUNTRY_INFO!F52),0)))","v":0},{"$f":"IF(AND(COUNTRY_INFO!K52>0,COUNTRY_INFO!K52<4),IF(Z52>0,IF(COUNTRY_INFO!K52=1, AD52/(COUNTRY_INFO!F52*0.33)*100, IF(COUNTRY_INFO!K52=2, AD52/(COUNTRY_INFO!F52*0.5)*100, IF(COUNTRY_INFO!K52=3, AD52/COUNTRY_INFO!F52*100))),\"-\"),0)","v":0},{"$f":"IF(COUNTRY_INFO!K52=2,IF(COUNTRY_INFO!G52*0.2>MAX('T1'!N52,'T2'!L52),MAX('T1'!N52,'T2'!L52),COUNTRY_INFO!G52*0.2),IF(COUNTRY_INFO!K52=3,IF(COUNTRY_INFO!G52>MAX('T1'!N52,'T2'!L52),MAX('T1'!N52,'T2'!L52),COUNTRY_INFO!G52),0))","v":0},{"$f":"IF(AND(COUNTRY_INFO!K52>0,COUNTRY_INFO!K52<4),IF(Z52>0,IF(COUNTRY_INFO!K52=1, 0, IF(COUNTRY_INFO!K52=2, AF52/(COUNTRY_INFO!G52*0.2)*100, IF(COUNTRY_INFO!K52=3, AF52/COUNTRY_INFO!G52*100))),\"-\"),0)","v":0},0,{"$f":"IF(AND(COUNTRY_INFO!K52>0,COUNTRY_INFO!K52<4), IF(AC52/Z52*100<>0, IF(AH52/Z52*100>100,100,AH52/Z52*100), \"-\"),0)","v":0},null,{"$f":"IF(AND(D52<>0, D52<>\"Inconnu\",D52<>\"Interrompu\",D52<>\"Non requis\"),D52/COUNTRY_INFO!D52, 0)","v":1},{"$f":"IF(AND(J52<>0,J52<>\"Inconnu\",J52<>\"Interrompu\",J52<>\"Non requis\"),J52/COUNTRY_INFO!D52, 0)","v":0},{"$f":"IF(AND(P52<>0,P52<>\"Inconnu\",P52<>\"Non requis\"),P52/(COUNTRY_INFO!E52+COUNTRY_INFO!F52), 0)","v":0},{"$f":"IF(AND(Z52<>0,Z52<>\"Inconnu\",Z52<>\"Non requis\"),IF(COUNTRY_INFO!K52=1,1,IF(COUNTRY_INFO!K52=2,0.5*COUNTRY_INFO!F52/(0.5*COUNTRY_INFO!F52+0.2*COUNTRY_INFO!G52),IF(COUNTRY_INFO!K52=3,COUNTRY_INFO!F52/(COUNTRY_INFO!F52+COUNTRY_INFO!G52)))),0)","v":0},{"$f":"IF(AND(Z52<>0,Z52<>\"Inconnu\",Z52<>\"Non requis\"),IF(COUNTRY_INFO!K52=1,0,IF(COUNTRY_INFO!K52=2,0.2*COUNTRY_INFO!G52/(0.5*COUNTRY_INFO!F52+0.2*COUNTRY_INFO!G52),IF(COUNTRY_INFO!K52=3,COUNTRY_INFO!G52/(COUNTRY_INFO!F52+COUNTRY_INFO!G52)))),0)","v":0},{"$f":"MAX(COUNTRY_INFO!D52*AK52*PROFILE!$G$7,COUNTRY_INFO!D52*AL52*PROFILE!$G$7)","v":1954.9614829631998},{"$f":"MAX(COUNTRY_INFO!D52*AK52*PROFILE!$G$8,COUNTRY_INFO!D52*AL52*PROFILE!$G$8,COUNTRY_INFO!D52*AM52*PROFILE!$G$8)","v":5869.5778241951712},{"$f":"MAX(COUNTRY_INFO!D52*AK52*PROFILE!$G$9,COUNTRY_INFO!D52*AL52*PROFILE!$G$9,COUNTRY_INFO!D52*AM52*PROFILE!$G$9,IF(AND(DISTRICT!Z52<>\"Inconnu\",Z52<>\"Non requis\"),COUNTRY_INFO!O52*DISTRICT!AN52,0))","v":11306.661113981985},{"$f":"MAX(COUNTRY_INFO!D52*AK52*PROFILE!$G$10,COUNTRY_INFO!D52*AL52*PROFILE!$G$10,IF(AND(DISTRICT!Z52<>\"Inconnu\",Z52<>\"Non requis\"),COUNTRY_INFO!O52*DISTRICT!AO52,0))","v":25000.799578859642},44132,"Y",{"$f":"MAX('MDA2'!J52,'T1'!L52,'T2'!J52,T3_R1!K52,T3_R2!K52)","v":0},{"$f":"MAX('MDA1'!K52,'MDA2'!K52,'MDA3'!I52,'MDA3'!L52,'T1'!M52,'T2'!K52,T3_R1!L52,T3_R2!L52)","v":13593},{"$f":"MAX('MDA1'!L52,'MDA2'!L52,'MDA3'!J52,'MDA3'!M52,'T1'!N52,'T2'!L52,T3_R1!M52,T3_R2!M52)","v":14276},27869,{"$f":"MAX('MDA2'!J52,T52)","v":0},{"$f":"MAX('MDA1'!K52,'MDA2'!K52,'MDA3'!I52,'MDA3'!L52,V52,AD52)","v":13593},{"$f":"MAX('MDA1'!L52,'MDA2'!L52,'MDA3'!J52,'MDA3'!M52,AF52)","v":14276},27869,63.149188797244626]
[{"$f":"IF(COUNTRY_INFO!A53=0,\" \",COUNTRY_INFO!A53)","v":"Guinea Bissau"},{"$f":"IF(COUNTRY_INFO!B53=0,\" \",COUNTRY_INFO!B53)","v":"Oio"},{"$f":"IF(COUNTRY_INFO!C53=0,\" \",COUNTRY_INFO!C53)","v":"MORES"},{"$f":"COUNTRY_INFO!L53","v":11653},3646,4305,{"$f":"MAX('MDA1'!M53,'MDA2'!M53)","v":7951},{"$f":"IF(AND(COUNTRY_INFO!H53>0,COUNTRY_INFO!H53<4),IF(D53>MAX('MDA1'!M53,'MDA2'!M53),MAX('MDA1'!M53,'MDA2'!M53),D53),0)","v":7951},{"$f":"IF(AND(COUNTRY_INFO!H53>0,COUNTRY_INFO!H53<4), IF(G53/D53*100<>0, IF(G53/D53*100>100,100,G53/D53*100), \"-\"),0)","v":68.231356732171974},{"$f":"COUNTRY_INFO!M53","v":"Inconnu"},null,null,{"$f":"MAX('MDA1'!M53,MAX('MDA3'!I53,'MDA3'!L53)+MAX('MDA3'!J53,'MDA3'!M53))","v":7951},{"$f":"IF(AND(COUNTRY_INFO!I53>0,COUNTRY_INFO!I53<4),IF(J53>MAX('MDA1'!M53,MAX('MDA3'!I53,'MDA3'!L53)+MAX('MDA3'!J53,'MDA3'!M53)),MAX('MDA1'!M53,MAX('MDA3'!I53,'MDA3'!L53)+MAX('MDA3'!J53,'MDA3'!M53)),J53),0)","v":0},{"$f":"IF(AND(COUNTRY_INFO!I53>0,COUNTRY_INFO!I53<4), IF(M53/J53*100<>0, IF(M53/J53*100>100,100,M53/J53*100), \"-\"),0)","v":0},{"$f":"COUNTRY_INFO!N53","v":4535},null,null,{"$f":"SUM(MAX('MDA2'!J53, 'T1'!L53, MAX(T3_R1!K53, T3_R2!K53)), MAX('MDA1'!K53, 'MDA2'!K53, 'T1'!M53, MAX(T3_R1!L53, T3_R2!L53)), MAX('MDA1'!L53, 'MDA2'!L53, 'T1'!N53, MAX(T3_R1!M53, T3_R2!M53)))","v":7951},{"$f":"IF(AND(COUNTRY_INFO!J53>1,COUNTRY_INFO!J53<4),IF(COUNTRY_INFO!E53>MAX('MDA2'!J53,'T1'!L53,MAX(T3_R1!K53,T3_R2!K53)),MAX('MDA2'!J53,'T1'!L53,MAX(T3_R1!K53,T3_R2!K53)),COUNTRY_INFO!E53),0)","v":0},{"$f":"IF(AND(COUNTRY_INFO!J53>1,COUNTRY_INFO!J53<4), IF(T53/COUNTRY_INFO!E53*100<>0, IF(T53/COUNTRY_INFO!E53*100>100,100,T53/COUNTRY_INFO!E53*100), \"-\"),0)","v":"-"},{"$f":"IF(AND(COUNTRY_INFO!J53>1,COUNTRY_INFO!J53<4),IF(COUNTRY_INFO!F53>MAX('MDA1'!K53,'MDA2'!K53,'T1'!M53,MAX(T3_R1!L53,T3_R2!L53)),MAX('MDA1'!K53,'MDA2'!K53,'T1'!M53,MAX(T3_R1!L53,T3_R2!L53)),COUNTRY_INFO!F53),0)","v":2985},{"$f":"IF(AND(COUNTRY_INFO!J53>1,COUNTRY_INFO!J53<4), IF(V53/COUNTRY_INFO!F53*100<>0, IF(V53/COUNTRY_INFO!F53*100>100,100,V53/COUNTRY_INFO!F53*100), \"-\"),0)","v":100},2985,{"$f":"IF(AND(COUNTRY_INFO!J53>1,COUNTRY_INFO!J53<4), IF(S53/P53*100<>0, IF(X53/P53*100>100,100,X53/P53*100), \"-\"),0)","v":65.821389195148839},{"$f":"COUNTRY_INFO!O53","v":0},null,null,{"$f":"MAX('T1'!L53,'T2'!J53)+MAX('T1'!M53,'T2'!K53)+MAX('T1'!N53,'T2'!L53)","v":0},{"$f":"IF(COUNTRY_INFO!K53=1,IF(COUNTRY_INFO!F53*0.33>MAX('T1'!M53,'T2'!K53),MAX('T1'!M53,'T2'!K53),COUNTRY_INFO!F53*0.33),IF(COUNTRY_INFO!K53=2,IF(COUNTRY_INFO!F53*0.5>MAX('T1'!M53,'T2'!K53),MAX('T1'!M53,'T2'!K53),COUNTRY_INFO!F53*0.5),IF(COUNTRY_INFO!K53=3,IF(COUNTRY_INFO!F53>MAX('T1'!M53,'T2'!K53),MAX('T1'!M53,'T2'!K53),COUNTRY_INFO!F53),0)))","v":0},{"$f":"IF(AND(COUNTRY_INFO!K53>0,COUNTRY_INFO!K53<4),IF(Z53>0,IF(COUNTRY_INFO!K53=1, AD53/(COUNTRY_INFO!F53*0.33)*100, IF(COUNTRY_INFO!K53=2, AD53/(COUNTRY_INFO!F53*0.5)*100, IF(COUNTRY_INFO!K53=3, AD53/COUNTRY_INFO!F53*100))),\"-\"),0)","v":0},{"$f":"IF(COUNTRY_INFO!K53=2,IF(COUNTRY_INFO!G53*0.2>MAX('T1'!N53,'T2'!L53),MAX('T1'!N53,'T2'!L53),COUNTRY_INFO!G53*0.2),IF(COUNTRY_INFO!K53=3,IF(COUNTRY_INFO!G53>MAX('T1'!N53,'T2'!L53),MAX('T1'!N53,'T2'!L53),COUNTRY_INFO!G53),0))","v":0},{"$f":"IF(AND(COUNTRY_INFO!K53>0,COUNTRY_INFO!K53<4),IF(Z53>0,IF(COUNTRY_INFO!K53=1, 0, IF(COUNTRY_INFO!K53=2, AF53/(COUNTRY_INFO!G53*0.2)*100, IF(COUNTRY_INFO!K53=3, AF53/COUNTRY_INFO!G53*100))),\"-\"),0)","v":0},0,{"$f":"IF(AND(COUNTRY_INFO!K53>0,COUNTRY_INFO!K53<4), IF(AC53/Z53*100<>0, IF(AH53/Z53*100>100,100,AH53/Z53*100), \"-\"),0)","v":0},null,{"$f":"IF(AND(D53<>0, D53<>\"Inconnu\",D53<>\"Interrompu\",D53<>\"Non requis\"),D53/COUNTRY_INFO!D53, 0)","v":1},{"$f":"IF(AND(J53<>0,J53<>\"Inconnu\",J53<>\"Interrompu\",J53<>\"Non requis\"),J53/COUNTRY_INFO!D53, 0)","v":0},{"$f":"IF(AND(P53<>0,P53<>\"Inconnu\",P53<>\"Non requis\"),P53/(COUNTRY_INFO!E53+COUNTRY_INFO!F53), 0)","v":1},{"$f":"IF(AND(Z53<>0,Z53<>\"Inconnu\",Z53<>\"Non requis\"),IF(COUNTRY_INFO!K53=1,1,IF(COUNTRY_INFO!K53=2,0.5*COUNTRY_INFO!F53/(0.5*COUNTRY_INFO!F53+0.2*COUNTRY_INFO!G53),IF(COUNTRY_INFO!K53=3,COUNTRY_INFO!F53/(COUNTRY_INFO!F53+COUNTRY_INFO!G53)))),0)","v":0},{"$f":"IF(AND(Z53<>0,Z53<>\"Inconnu\",Z53<>\"Non requis\"),IF(COUNTRY_INFO!K53=1,0,IF(COUNTRY_INFO!K53=2,0.2*COUNTRY_INFO!G53/(0.5*COUNTRY_INFO!F53+0.2*COUNTRY_INFO!G53),IF(COUNTRY_INFO!K53=3,COUNTRY_INFO!G53/(COUNTRY_INFO!F53+COUNTRY_INFO!G53)))),0)","v":0},{"$f":"MAX(COUNTRY_INFO!D53*AK53*PROFILE!$G$7,COUNTRY_INFO!D53*AL53*PROFILE!$G$7)","v":516.20516090297679},{"$f":"MAX(COUNTRY_INFO!D53*AK53*PROFILE!$G$8,COUNTRY_INFO!D53*AL53*PROFILE!$G$8,COUNTRY_INFO!D53*AM53*PROFILE!$G$8)","v":1549.8547626517341},{"$f":"MAX(COUNTRY_INFO!D53*AK53*PROFILE!$G$9,COUNTRY_INFO!D53*AL53*PROFILE!$G$9,COUNTRY_INFO!D53*AM53*PROFILE!$G$9,IF(AND(DISTRICT!Z53<>\"Inconnu\",Z53<>\"Non requis\"),COUNTRY_INFO!O53*DISTRICT!AN53,0))","v":2985.5098785740975},{"$f":"MAX(COUNTRY_INFO!D53*AK53*PROFILE!$G$10,COUNTRY_INFO!D53*AL53*PROFILE!$G$10,IF(AND(DISTRICT!Z53<>\"Inconnu\",Z53<>\"Non requis\"),COUNTRY_INFO!O53*DISTRICT!AO53,0))","v":6601.430197871191},11653,"Y",{"$f":"MAX('MDA2'!J53,'T1'!L53,'T2'!J53,T3_R1!K53,T3_R2!K53)","v":0},{"$f":"MAX('MDA1'!K53,'MDA2'!K53,'MDA3'!I53,'MDA3'!L53,'T1'!M53,'T2'!K53,T3_R1!L53,T3_R2!L53)","v":3646},{"$f":"MAX('MDA1'!L53,'MDA2'!L53,'MDA3'!J53,'MDA3'!M53,'T1'!N53,'T2'!L53,T3_R1!M53,T3_R2!M53)","v":4305},7951,{"$f":"MAX('MDA2'!J53,T53)","v":0},{"$f":"MAX('MDA1'!K53,'MDA2'!K53,'MDA3'!I53,'MDA3'!L53,V53,AD53)","v":3646},{"$f":"MAX('MDA1'!L53,'MDA2'!L53,'MDA3'!J53,'MDA3'!M53,AF53)","v":4305},7951,68.231356732171974]
[{"$f":"IF(COUNTRY_INFO!A54=0,\" \",COUNTRY_INFO!A54)","v":"Guinea Bissau"},{"$f":"IF(COUNTRY_INFO!B54=0,\" \",COUNTRY_INFO!B54)","v":"Oio"},{"$f":"IF(COUNTRY_INFO!C54=0,\" \",COUNTRY_INFO!C54)","v":"NHACRA"},{"$f":"COUNTRY_INFO!L54","v":28333},8794,9665,{"$f":"MAX('MDA1'!M54,'MDA2'!M54)","v":18459},{"$f":"IF(AND(COUNTRY_INFO!H54>0,COUNTRY_INFO!H54<4),IF(D54>MAX('MDA1'!M54,'MDA2'!M54),MAX('MDA1'!M54,'MDA2'!M54),D54),0)","v":18459},{"$f":"IF(AND(COUNTRY_INFO!H54>0,COUNTRY_INFO!H54<4), IF(G54/D54*100<>0, IF(G54/D54*100>100,100,G54/D54*100), \"-\"),0)","v":65.150178237391032},{"$f":"COUNTRY_INFO!M54","v":"Inconnu"},null,null,{"$f":"MAX('MDA1'!M54,MAX('MDA3'!I54,'MDA3'!L54)+MAX('MDA3'!J54,'MDA3'!M54))","v":18459},{"$f":"IF(AND(COUNTRY_INFO!I54>0,COUNTRY_INFO!I54<4),IF(J54>MAX('MDA1'!M54,MAX('MDA3'!I54,'MDA3'!L54)+MAX('MDA3'!J54,'MDA3'!M54)),MAX('MDA1'!M54,MAX('MDA3'!I54,'MDA3'!L54)+MAX('MDA3'!J54,'MDA3'!M54)),J54),0)","v":0},{"$f":"IF(AND(COUNTRY_INFO!I54>0,COUNTRY_INFO!I54<4), IF(M54/J54*100<>0, IF(M54/J54*100>100,100,M54/J54*100), \"-\"),0)","v":0},{"$f":"COUNTRY_INFO!N54","v":0},null,null,{"$f":"SUM(MAX('MDA2'!J54, 'T1'!L54, MAX(T3_R1!K54, T3_R2!K54)), MAX('MDA1'!K54, 'MDA2'!K54, 'T1'!M54, MAX(T3_R1!L54, T3_R2!L54)), MAX('MDA1'!L54, 'MDA2'!L54, 'T1'!N54, MAX(T3_R1!M54, T3_R2!M54)))","v":18459},{"$f":"IF(AND(COUNTRY_INFO!J54>1,COUNTRY_INFO!J54<4),IF(COUNTRY_INFO!E54>MAX('MDA2'!J54,'T1'!L54,MAX(T3_R1!K54,T3_R2!K54)),MAX('MDA2'!J54,'T1'!L54,MAX(T3_R1!K54,T3_R2!K54)),COUNTRY_INFO!E54),0)","v":0},{"$f":"IF(AND(COUNTRY_INFO!J54>1,COUNTRY_INFO!J54<4), IF(T54/COUNTRY_INFO!E54*100<>0, IF(T54/COUNTRY_INFO!E54*100>100,100,T54/COUNTRY_INFO!E54*100), \"-\"),0)","v":0},{"$f":"IF(AND(COUNTRY_INFO!J54>1,COUNTRY_INFO!J54<4),IF(COUNTRY_INFO!F54>MAX('MDA1'!K54,'MDA2'!K54,'T1'!M54,MAX(T3_R1!L54,T3_R2!L54)),MAX('MDA1'!K54,'MDA2'!K54,'T1'!M54,MAX(T3_R1!L54,T3_R2!L54)),COUNTRY_INFO!F54),0)","v":0},{"$f":"IF(AND(COUNTRY_INFO!J54>1,COUNTRY_INFO!J54<4), IF(V54/COUNTRY_INFO!F54*100<>0, IF(V54/COUNTRY_INFO!F54*100>100,100,V54/COUNTRY_INFO!F54*100), \"-\"),0)","v":0},0,{"$f":"IF(AND(COUNTRY_INFO!J54>1,COUNTRY_INFO!J54<4), IF(S54/P54*100<>0, IF(X54/P54*100>100,100,X54/P54*100), \"-\"),0)","v":0},{"$f":"COUNTRY_INFO!O54","v":0},null,null,{"$f":"MAX('T1'!L54,'T2'!J54)+MAX('T1'!M54,'T2'!K54)+MAX('T1'!N54,'T2'!L54)","v":0},{"$f":"IF(COUNTRY_INFO!K54=1,IF(COUNTRY_INFO!F54*0.33>MAX('T1'!M54,'T2'!K54),MAX('T1'!M54,'T2'!K54),COUNTRY_INFO!F54*0.33),IF(COUNTRY_INFO!K54=2,IF(COUNTRY_INFO!F54*0.5>MAX('T1'!M54,'T2'!K54),MAX('T1'!M54,'T2'!K54),COUNTRY_INFO!F54*0.5),IF(COUNTRY_INFO!K54=3,IF(COUNTRY_INFO!F54>MAX('T1'!M54,'T2'!K54),MAX('T1'!M54,'T2'!K54),COUNTRY_INFO!F54),0)))","v":0},{"$f":"IF(AND(COUNTRY_INFO!K54>0,COUNTRY_INFO!K54<4),IF(Z54>0,IF(COUNTRY_INFO!K54=1, AD54/(COUNTRY_INFO!F54*0.33)*100, IF(COUNTRY_INFO!K54=2, AD54/(COUNTRY_INFO!F54*0.5)*100, IF(COUNTRY_INFO!K54=3, AD54/COUNTRY_INFO!F54*100))),\"-\"),0)","v":0},{"$f":"IF(COUNTRY_INFO!K54=2,IF(COUNTRY_INFO!G54*0.2>MAX('T1'!N54,'T2'!L54),MAX('T1'!N54,'T2'!L54),COUNTRY_INFO!G54*0.2),IF(COUNTRY_INFO!K54=3,IF(COUNTRY_INFO!G54>MAX('T1'!N54,'T2'!L54),MAX('T1'!N54,'T2'!L54),COUNTRY_INFO!G54),0))","v":0},{"$f":"IF(AND(COUNTRY_INFO!K54>0,COUNTRY_INFO!K54<4),IF(Z54>0,IF(COUNTRY_INFO!K54=1, 0, IF(COUNTRY_INFO!K54=2, AF54/(COUNTRY_INFO!G54*0.2)*100, IF(COUNTRY_INFO!K54=3, AF54/COUNTRY_INFO!G54*100))),\"-\"),0)","v":0},0,{"$f":"IF(AND(COUNTRY_INFO!K54>0,COUNTRY_INFO!K54<4), IF(AC54/Z54*100<>0, IF(AH54/Z54*100>100,100,AH54/Z54*100), \"-\"),0)","v":0},null,{"$f":"IF(AND(D54<>0, D54<>\"Inconnu\",D54<>\"Interrompu\",D54<>\"Non requis\"),D54/COUNTRY_INFO!D54, 0)","v":1},{"$f":"IF(AND(J54<>0,J54<>\"Inconnu\",J54<>\"Interrompu\",J54<>\"Non requis\"),J54/COUNTRY_INFO!D54, 0)","v":0},{"$f":"IF(AND(P54<>0,P54<>\"Inconnu\",P54<>\"Non requis\"),P54/(COUNTRY_INFO!E54+COUNTRY_INFO!F54), 0)","v":0},{"$f":"IF(AND(Z54<>0,Z54<>\"Inconnu\",Z54<>\"Non requis\"),IF(COUNTRY_INFO!K54=1,1,IF(COUNTRY_INFO!K54=2,0.5*COUNTRY_INFO!F54/(0.5*COUNTRY_INFO!F54+0.2*COUNTRY_INFO!G54),IF(COUNTRY_INFO!K54=3,COUNTRY_INFO!F54/(COUNTRY_INFO!F54+COUNTRY_INFO!G54)))),0)","v":0},{"$f":"IF(AND(Z54<>0,Z54<>\"Inconnu\",Z54<>\"Non requis\"),IF(COUNTRY_INFO!K54=1,0,IF(COUNTRY_INFO!K54=2,0.2*COUNTRY_INFO!G54/(0.5*COUNTRY_INFO!F54+0.2*COUNTRY_INFO!G54),IF(COUNTRY_INFO!K54=3,COUNTRY_INFO!G54/(COUNTRY_INFO!F54+COUNTRY_INFO!G54)))),0)","v":0},{"$f":"MAX(COUNTRY_INFO!D54*AK54*PROFILE!$G$7,COUNTRY_INFO!D54*AL54*PROFILE!$G$7)","v":1255.0966123628284},{"$f":"MAX(COUNTRY_INFO!D54*AK54*PROFILE!$G$8,COUNTRY_INFO!D54*AL54*PROFILE!$G$8,COUNTRY_INFO!D54*AM54*PROFILE!$G$8)","v":3768.3030112598972},{"$f":"MAX(COUNTRY_INFO!D54*AK54*PROFILE!$G$9,COUNTRY_INFO!D54*AL54*PROFILE!$G$9,COUNTRY_INFO!D54*AM54*PROFILE!$G$9,IF(AND(DISTRICT!Z54<>\"Inconnu\",Z54<>\"Non requis\"),COUNTRY_INFO!O54*DISTRICT!AN54,0))","v":7258.9420226242091},{"$f":"MAX(COUNTRY_INFO!D54*AK54*PROFILE!$G$10,COUNTRY_INFO!D54*AL54*PROFILE!$G$10,IF(AND(DISTRICT!Z54<>\"Inconnu\",Z54<>\"Non requis\"),COUNTRY_INFO!O54*DISTRICT!AO54,0))","v":16050.658353753064},28333,"Y",{"$f":"MAX('MDA2'!J54,'T1'!L54,'T2'!J54,T3_R1!K54,T3_R2!K54)","v":0},{"$f":"MAX('MDA1'!K54,'MDA2'!K54,'MDA3'!I54,'MDA3'!L54,'T1'!M54,'T2'!K54,T3_R1!L54,T3_R2!L54)","v":8794},{"$f":"MAX('MDA1'!L54,'MDA2'!L54,'MDA3'!J54,'MDA3'!M54,'T1'!N54,'T2'!L54,T3_R1!M54,T3_R2!M54)","v":9665},18459,{"$f":"MAX('MDA2'!J54,T54)","v":0},{"$f":"MAX('MDA1'!K54,'MDA2'!K54,'MDA3'!I54,'MDA3'!L54,V54,AD54)","v":8794},{"$f":"MAX('MDA1'!L54,'MDA2'!L54,'MDA3'!J54,'MDA3'!M54,AF54)","v":9665},18459,65.150178237391032]
[{"$f":"IF(COUNTRY_INFO!A55=0,\" \",COUNTRY_INFO!A55)","v":"Guinea Bissau"},{"$f":"IF(COUNTRY_INFO!B55=0,\" \",COUNTRY_INFO!B55)","v":"Oio"},{"$f":"IF(COUNTRY_INFO!C55=0,\" \",COUNTRY_INFO!C55)","v":"OLOSSATO"},{"$f":"COUNTRY_INFO!L55","v":17592},6996,9228,{"$f":"MAX('MDA1'!M55,'MDA2'!M55)","v":16224},{"$f":"IF(AND(COUNTRY_INFO!H55>0,COUNTRY_INFO!H55<4),IF(D55>MAX('MDA1'!M55,'MDA2'!M55),MAX('MDA1'!M55,'MDA2'!M55),D55),0)","v":16224},{"$f":"IF(AND(COUNTRY_INFO!H55>0,COUNTRY_INFO!H55<4), IF(G55/D55*100<>0, IF(G55/D55*100>100,100,G55/D55*100), \"-\"),0)","v":92.2237380627558},{"$f":"COUNTRY_INFO!M55","v":"Inconnu"},null,null,{"$f":"MAX('MDA1'!M55,MAX('MDA3'!I55,'MDA3'!L55)+MAX('MDA3'!J55,'MDA3'!M55))","v":16224},{"$f":"IF(AND(COUNTRY_INFO!I55>0,COUNTRY_INFO!I55<4),IF(J55>MAX('MDA1'!M55,MAX('MDA3'!I55,'MDA3'!L55)+MAX('MDA3'!J55,'MDA3'!M55)),MAX('MDA1'!M55,MAX('MDA3'!I55,'MDA3'!L55)+MAX('MDA3'!J55,'MDA3'!M55)),J55),0)","v":0},{"$f":"IF(AND(COUNTRY_INFO!I55>0,COUNTRY_INFO!I55<4), IF(M55/J55*100<>0, IF(M55/J55*100>100,100,M55/J55*100), \"-\"),0)","v":0},{"$f":"COUNTRY_INFO!N55","v":6847},null,null,{"$f":"SUM(MAX('MDA2'!J55, 'T1'!L55, MAX(T3_R1!K55, T3_R2!K55)), MAX('MDA1'!K55, 'MDA2'!K55, 'T1'!M55, MAX(T3_R1!L55, T3_R2!L55)), MAX('MDA1'!L55, 'MDA2'!L55, 'T1'!N55, MAX(T3_R1!M55, T3_R2!M55)))","v":16224},{"$f":"IF(AND(COUNTRY_INFO!J55>1,COUNTRY_INFO!J55<4),IF(COUNTRY_INFO!E55>MAX('MDA2'!J55,'T1'!L55,MAX(T3_R1!K55,T3_R2!K55)),MAX('MDA2'!J55,'T1'!L55,MAX(T3_R1!K55,T3_R2!K55)),COUNTRY_INFO!E55),0)","v":0},{"$f":"IF(AND(COUNTRY_INFO!J55>1,COUNTRY_INFO!J55<4), IF(T55/COUNTRY_INFO!E55*100<>0, IF(T55/COUNTRY_INFO!E55*100>100,100,T55/COUNTRY_INFO!E55*100), \"-\"),0)","v":"-"},{"$f":"IF(AND(COUNTRY_INFO!J55>1,COUNTRY_INFO!J55<4),IF(COUNTRY_INFO!F55>MAX('MDA1'!K55,'MDA2'!K55,'T1'!M55,MAX(T3_R1!L55,T3_R2!L55)),MAX('MDA1'!K55,'MDA2'!K55,'T1'!M55,MAX(T3_R1!L55,T3_R2!L55)),COUNTRY_INFO!F55),0)","v":4507},{"$f":"IF(AND(COUNTRY_INFO!J55>1,COUNTRY_INFO!J55<4), IF(V55/COUNTRY_INFO!F55*100<>0, IF(V55/COUNTRY_INFO!F55*100>100,100,V55/COUNTRY_INFO!F55*100), \"-\"),0)","v":100},4507,{"$f":"IF(AND(COUNTRY_INFO!J55>1,COUNTRY_INFO!J55<4), IF(S55/P55*100<>0, IF(X55/P55*100>100,100,X55/P55*100), \"-\"),0)","v":65.824448663648312},{"$f":"COUNTRY_INFO!O55","v":0},null,null,{"$f":"MAX('T1'!L55,'T2'!J55)+MAX('T1'!M55,'T2'!K55)+MAX('T1'!N55,'T2'!L55)","v":0},{"$f":"IF(COUNTRY_INFO!K55=1,IF(COUNTRY_INFO!F55*0.33>MAX('T1'!M55,'T2'!K55),MAX('T1'!M55,'T2'!K55),COUNTRY_INFO!F55*0.33),IF(COUNTRY_INFO!K55=2,IF(COUNTRY_INFO!F55*0.5>MAX('T1'!M55,'T2'!K55),MAX('T1'!M55,'T2'!K55),COUNTRY_INFO!F55*0.5),IF(COUNTRY_INFO!K55=3,IF(COUNTRY_INFO!F55>MAX('T1'!M55,'T2'!K55),MAX('T1'!M55,'T2'!K55),COUNTRY_INFO!F55),0)))","v":0},{"$f":"IF(AND(COUNTRY_INFO!K55>0,COUNTRY_INFO!K55<4),IF(Z55>0,IF(COUNTRY_INFO!K55=1, AD55/(COUNTRY_INFO!F55*0.33)*100, IF(COUNTRY_INFO!K55=2, AD55/(COUNTRY_INFO!F55*0.5)*100, IF(COUNTRY_INFO!K55=3, AD55/COUNTRY_INFO!F55*100))),\"-\"),0)","v":0},{"$f":"IF(COUNTRY_INFO!K55=2,IF(COUNTRY_INFO!G55*0.2>MAX('T1'!N55,'T2'!L55),MAX('T1'!N55,'T2'!L55),COUNTRY_INFO!G55*0.2),IF(COUNTRY_INFO!K55=3,IF(COUNTRY_INFO!G55>MAX('T1'!N55,'T2'!L55),MAX('T1'!N55,'T2'!L55),COUNTRY_INFO!G55),0))","v":0},{"$f":"IF(AND(COUNTRY_INFO!K55>0,COUNTRY_INFO!K55<4),IF(Z55>0,IF(COUNTRY_INFO!K55=1, 0, IF(COUNTRY_INFO!K55=2, AF55/(COUNTRY_INFO!G55*0.2)*100, IF(COUNTRY_INFO!K55=3, AF55/COUNTRY_INFO!G55*100))),\"-\"),0)","v":0},0,{"$f":"IF(AND(COUNTRY_INFO!K55>0,COUNTRY_INFO!K55<4), IF(AC55/Z55*100<>0, IF(AH55/Z55*100>100,100,AH55/Z55*100), \"-\"),0)","v":0},null,{"$f":"IF(AND(D55<>0, D55<>\"Inconnu\",D55<>\"Interrompu\",D55<>\"Non requis\"),D55/COUNTRY_INFO!D55, 0)","v":1},{"$f":"IF(AND(J55<>0,J55<>\"Inconnu\",J55<>\"Interrompu\",J55<>\"Non requis\"),J55/COUNTRY_INFO!D55, 0)","v":0},{"$f":"IF(AND(P55<>0,P55<>\"Inconnu\",P55<>\"Non requis\"),P55/(COUNTRY_INFO!E55+COUNTRY_INFO!F55), 0)","v":1},{"$f":"IF(AND(Z55<>0,Z55<>\"Inconnu\",Z55<>\"Non requis\"),IF(COUNTRY_INFO!K55=1,1,IF(COUNTRY_INFO!K55=2,0.5*COUNTRY_INFO!F55/(0.5*COUNTRY_INFO!F55+0.2*COUNTRY_INFO!G55),IF(COUNTRY_INFO!K55=3,COUNTRY_INFO!F55/(COUNTRY_INFO!F55+COUNTRY_INFO!G55)))),0)","v":0},{"$f":"IF(AND(Z55<>0,Z55<>\"Inconnu\",Z55<>\"Non requis\"),IF(COUNTRY_INFO!K55=1,0,IF(COUNTRY_INFO!K55=2,0.2*COUNTRY_INFO!G55/(0.5*COUNTRY_INFO!F55+0.2*COUNTRY_INFO!G55),IF(COUNTRY_INFO!K55=3,COUNTRY_INFO!G55/(COUNTRY_INFO!F55+COUNTRY_INFO!G55)))),0)","v":0},{"$f":"MAX(COUNTRY_INFO!D55*AK55*PROFILE!$G$7,COUNTRY_INFO!D55*AL55*PROFILE!$G$7)","v":779.29127182744071},{"$f":"MAX(COUNTRY_INFO!D55*AK55*PROFILE!$G$8,COUNTRY_INFO!D55*AL55*PROFILE!$G$8,COUNTRY_INFO!D55*AM55*PROFILE!$G$8)","v":2339.7446996111994},{"$f":"MAX(COUNTRY_INFO!D55*AK55*PROFILE!$G$9,COUNTRY_INFO!D55*AL55*PROFILE!$G$9,COUNTRY_INFO!D55*AM55*PROFILE!$G$9,IF(AND(DISTRICT!Z55<>\"Inconnu\",Z55<>\"Non requis\"),COUNTRY_INFO!O55*DISTRICT!AN55,0))","v":4507.0874267463769},{"$f":"MAX(COUNTRY_INFO!D55*AK55*PROFILE!$G$10,COUNTRY_INFO!D55*AL55*PROFILE!$G$10,IF(AND(DISTRICT!Z55<>\"Inconnu\",Z55<>\"Non requis\"),COUNTRY_INFO!O55*DISTRICT!AO55,0))","v":9965.8766018149818},17592,"Y",{"$f":"MAX('MDA2'!J55,'T1'!L55,'T2'!J55,T3_R1!K55,T3_R2!K55)","v":0},{"$f":"MAX('MDA1'!K55,'MDA2'!K55,'MDA3'!I55,'MDA3'!L55,'T1'!M55,'T2'!K55,T3_R1!L55,T3_R2!L55)","v":6996},{"$f":"MAX('MDA1'!L55,'MDA2'!L55,'MDA3'!J55,'MDA3'!M55,'T1'!N55,'T2'!L55,T3_R1!M55,T3_R2!M55)","v":9228},16224,{"$f":"MAX('MDA2'!J55,T55)","v":0},{"$f":"MAX('MDA1'!K55,'MDA2'!K55,'MDA3'!I55,'MDA3'!L55,V55,AD55)","v":6996},{"$f":"MAX('MDA1'!L55,'MDA2'!L55,'MDA3'!J55,'MDA3'!M55,AF55)","v":9228},16224,92.2237380627558]
[{"$f":"IF(COUNTRY_INFO!A56=0,\" \",COUNTRY_INFO!A56)","v":"Guinea Bissau"},{"$f":"IF(COUNTRY_INFO!B56=0,\" \",COUNTRY_INFO!B56)","v":"Oio"},{"$f":"IF(COUNTRY_INFO!C56=0,\" \",COUNTRY_INFO!C56)","v":"PORTUGOL"},{"$f":"COUNTRY_INFO!L56","v":6461},2204,2138,{"$f":"MAX('MDA1'!M56,'MDA2'!M56)","v":4342},{"$f":"IF(AND(COUNTRY_INFO!H56>0,COUNTRY_INFO!H56<4),IF(D56>MAX('MDA1'!M56,'MDA2'!M56),MAX('MDA1'!M56,'MDA2'!M56),D56),0)","v":4342},{"$f":"IF(AND(COUNTRY_INFO!H56>0,COUNTRY_INFO!H56<4), IF(G56/D56*100<>0, IF(G56/D56*100>100,100,G56/D56*100), \"-\"),0)","v":67.203219315895367},{"$f":"COUNTRY_INFO!M56","v":"Inconnu"},null,null,{"$f":"MAX('MDA1'!M56,MAX('MDA3'!I56,'MDA3'!L56)+MAX('MDA3'!J56,'MDA3'!M56))","v":4342},{"$f":"IF(AND(COUNTRY_INFO!I56>0,COUNTRY_INFO!I56<4),IF(J56>MAX('MDA1'!M56,MAX('MDA3'!I56,'MDA3'!L56)+MAX('MDA3'!J56,'MDA3'!M56)),MAX('MDA1'!M56,MAX('MDA3'!I56,'MDA3'!L56)+MAX('MDA3'!J56,'MDA3'!M56)),J56),0)","v":0},{"$f":"IF(AND(COUNTRY_INFO!I56>0,COUNTRY_INFO!I56<4), IF(M56/J56*100<>0, IF(M56/J56*100>100,100,M56/J56*100), \"-\"),0)","v":0},{"$f":"COUNTRY_INFO!N56","v":2514},null,null,{"$f":"SUM(MAX('MDA2'!J56, 'T1'!L56, MAX(T3_R1!K56, T3_R2!K56)), MAX('MDA1'!K56, 'MDA2'!K56, 'T1'!M56, MAX(T3_R1!L56, T3_R2!L56)), MAX('MDA1'!L56, 'MDA2'!L56, 'T1'!N56, MAX(T3_R1!M56, T3_R2!M56)))","v":4342},{"$f":"IF(AND(COUNTRY_INFO!J56>1,COUNTRY_INFO!J56<4),IF(COUNTRY_INFO!E56>MAX('MDA2'!J56,'T1'!L56,MAX(T3_R1!K56,T3_R2!K56)),MAX('MDA2'!J56,'T1'!L56,MAX(T3_R1!K56,T3_R2!K56)),COUNTRY_INFO!E56),0)","v":0},{"$f":"IF(AND(COUNTRY_INFO!J56>1,COUNTRY_INFO!J56<4), IF(T56/COUNTRY_INFO!E56*100<>0, IF(T56/COUNTRY_INFO!E56*100>100,100,T56/COUNTRY_INFO!E56*100), \"-\"),0)","v":"-"},{"$f":"IF(AND(COUNTRY_INFO!J56>1,COUNTRY_INFO!J56<4),IF(COUNTRY_INFO!F56>MAX('MDA1'!K56,'MDA2'!K56,'T1'!M56,MAX(T3_R1!L56,T3_R2!L56)),MAX('MDA1'!K56,'MDA2'!K56,'T1'!M56,MAX(T3_R1!L56,T3_R2!L56)),COUNTRY_INFO!F56),0)","v":1655},{"$f":"IF(AND(COUNTRY_INFO!J56>1,COUNTRY_INFO!J56<4), IF(V56/COUNTRY_INFO!F56*100<>0, IF(V56/COUNTRY_INFO!F56*100>100,100,V56/COUNTRY_INFO!F56*100), \"-\"),0)","v":100},1655,{"$f":"IF(AND(COUNTRY_INFO!J56>1,COUNTRY_INFO!J56<4), IF(S56/P56*100<>0, IF(X56/P56*100>100,100,X56/P56*100), \"-\"),0)","v":65.831344470962605},{"$f":"COUNTRY_INFO!O56","v":0},null,null,{"$f":"MAX('T1'!L56,'T2'!J56)+MAX('T1'!M56,'T2'!K56)+MAX('T1'!N56,'T2'!L56)","v":0},{"$f":"IF(COUNTRY_INFO!K56=1,IF(COUNTRY_INFO!F56*0.33>MAX('T1'!M56,'T2'!K56),MAX('T1'!M56,'T2'!K56),COUNTRY_INFO!F56*0.33),IF(COUNTRY_INFO!K56=2,IF(COUNTRY_INFO!F56*0.5>MAX('T1'!M56,'T2'!K56),MAX('T1'!M56,'T2'!K56),COUNTRY_INFO!F56*0.5),IF(COUNTRY_INFO!K56=3,IF(COUNTRY_INFO!F56>MAX('T1'!M56,'T2'!K56),MAX('T1'!M56,'T2'!K56),COUNTRY_INFO!F56),0)))","v":0},{"$f":"IF(AND(COUNTRY_INFO!K56>0,COUNTRY_INFO!K56<4),IF(Z56>0,IF(COUNTRY_INFO!K56=1, AD56/(COUNTRY_INFO!F56*0.33)*100, IF(COUNTRY_INFO!K56=2, AD56/(COUNTRY_INFO!F56*0.5)*100, IF(COUNTRY_INFO!K56=3, AD56/COUNTRY_INFO!F56*100))),\"-\"),0)","v":0},{"$f":"IF(COUNTRY_INFO!K56=2,IF(COUNTRY_INFO!G56*0.2>MAX('T1'!N56,'T2'!L56),MAX('T1'!N56,'T2'!L56),COUNTRY_INFO!G56*0.2),IF(COUNTRY_INFO!K56=3,IF(COUNTRY_INFO!G56>MAX('T1'!N56,'T2'!L56),MAX('T1'!N56,'T2'!L56),COUNTRY_INFO!G56),0))","v":0},{"$f":"IF(AND(COUNTRY_INFO!K56>0,COUNTRY_INFO!K56<4),IF(Z56>0,IF(COUNTRY_INFO!K56=1, 0, IF(COUNTRY_INFO!K56=2, AF56/(COUNTRY_INFO!G56*0.2)*100, IF(COUNTRY_INFO!K56=3, AF56/COUNTRY_INFO!G56*100))),\"-\"),0)","v":0},0,{"$f":"IF(AND(COUNTRY_INFO!K56>0,COUNTRY_INFO!K56<4), IF(AC56/Z56*100<>0, IF(AH56/Z56*100>100,100,AH56/Z56*100), \"-\"),0)","v":0},null,{"$f":"IF(AND(D56<>0, D56<>\"Inconnu\",D56<>\"Interrompu\",D56<>\"Non requis\"),D56/COUNTRY_INFO!D56, 0)","v":1},{"$f":"IF(AND(J56<>0,J56<>\"Inconnu\",J56<>\"Interrompu\",J56<>\"Non requis\"),J56/COUNTRY_INFO!D56, 0)","v":0},{"$f":"IF(AND(P56<>0,P56<>\"Inconnu\",P56<>\"Non requis\"),P56/(COUNTRY_INFO!E56+COUNTRY_INFO!F56), 0)","v":1},{"$f":"IF(AND(Z56<>0,Z56<>\"Inconnu\",Z56<>\"Non requis\"),IF(COUNTRY_INFO!K56=1,1,IF(COUNTRY_INFO!K56=2,0.5*COUNTRY_INFO!F56/(0.5*COUNTRY_INFO!F56+0.2*COUNTRY_INFO!G56),IF(COUNTRY_INFO!K56=3,COUNTRY_INFO!F56/(COUNTRY_INFO!F56+COUNTRY_INFO!G56)))),0)","v":0},{"$f":"IF(AND(Z56<>0,Z56<>\"Inconnu\",Z56<>\"Non requis\"),IF(COUNTRY_INFO!K56=1,0,IF(COUNTRY_INFO!K56=2,0.2*COUNTRY_INFO!G56/(0.5*COUNTRY_INFO!F56+0.2*COUNTRY_INFO!G56),IF(COUNTRY_INFO!K56=3,COUNTRY_INFO!G56/(COUNTRY_INFO!F56+COUNTRY_INFO!G56)))),0)","v":0},{"$f":"MAX(COUNTRY_INFO!D56*AK56*PROFILE!$G$7,COUNTRY_INFO!D56*AL56*PROFILE!$G$7)","v":286.20969231907083},{"$f":"MAX(COUNTRY_INFO!D56*AK56*PROFILE!$G$8,COUNTRY_INFO!D56*AL56*PROFILE!$G$8,COUNTRY_INFO!D56*AM56*PROFILE!$G$8)","v":859.31619509936104},{"$f":"MAX(COUNTRY_INFO!D56*AK56*PROFILE!$G$9,COUNTRY_INFO!D56*AL56*PROFILE!$G$9,COUNTRY_INFO!D56*AM56*PROFILE!$G$9,IF(AND(DISTRICT!Z56<>\"Inconnu\",Z56<>\"Non requis\"),COUNTRY_INFO!O56*DISTRICT!AN56,0))","v":1655.3144533997463},{"$f":"MAX(COUNTRY_INFO!D56*AK56*PROFILE!$G$10,COUNTRY_INFO!D56*AL56*PROFILE!$G$10,IF(AND(DISTRICT!Z56<>\"Inconnu\",Z56<>\"Non requis\"),COUNTRY_INFO!O56*DISTRICT!AO56,0))","v":3660.1596591818216},6461,"Y",{"$f":"MAX('MDA2'!J56,'T1'!L56,'T2'!J56,T3_R1!K56,T3_R2!K56)","v":0},{"$f":"MAX('MDA1'!K56,'MDA2'!K56,'MDA3'!I56,'MDA3'!L56,'T1'!M56,'T2'!K56,T3_R1!L56,T3_R2!L56)","v":2204},{"$f":"MAX('MDA1'!L56,'MDA2'!L56,'MDA3'!J56,'MDA3'!M56,'T1'!N56,'T2'!L56,T3_R1!M56,T3_R2!M56)","v":2138},4342,{"$f":"MAX('MDA2'!J56,T56)","v":0},{"$f":"MAX('MDA1'!K56,'MDA2'!K56,'MDA3'!I56,'MDA3'!L56,V56,AD56)","v":2204},{"$f":"MAX('MDA1'!L56,'MDA2'!L56,'MDA3'!J56,'MDA3'!M56,AF56)","v":2138},4342,67.203219315895367]
[{"$f":"IF(COUNTRY_INFO!A57=0,\" \",COUNTRY_INFO!A57)","v":"Guinea Bissau"},{"$f":"IF(COUNTRY_INFO!B57=0,\" \",COUNTRY_INFO!B57)","v":"Bolama"},{"$f":"IF(COUNTRY_INFO!C57=0,\" \",COUNTRY_INFO!C57)","v":"BOLAMA"},{"$f":"COUNTRY_INFO!L57","v":7180},null,null,{"$f":"MAX('MDA1'!M57,'MDA2'!M57)","v":0},{"$f":"IF(AND(COUNTRY_INFO!H57>0,COUNTRY_INFO!H57<4),IF(D57>MAX('MDA1'!M57,'MDA2'!M57),MAX('MDA1'!M57,'MDA2'!M57),D57),0)","v":0},{"$f":"IF(AND(COUNTRY_INFO!H57>0,COUNTRY_INFO!H57<4), IF(G57/D57*100<>0, IF(G57/D57*100>100,100,G57/D57*100), \"-\"),0)","v":"-"},{"$f":"COUNTRY_INFO!M57","v":"Inconnu"},null,null,{"$f":"MAX('MDA1'!M57,MAX('MDA3'!I57,'MDA3'!L57)+MAX('MDA3'!J57,'MDA3'!M57))","v":0},{"$f":"IF(AND(COUNTRY_INFO!I57>0,COUNTRY_INFO!I57<4),IF(J57>MAX('MDA1'!M57,MAX('MDA3'!I57,'MDA3'!L57)+MAX('MDA3'!J57,'MDA3'!M57)),MAX('MDA1'!M57,MAX('MDA3'!I57,'MDA3'!L57)+MAX('MDA3'!J57,'MDA3'!M57)),J57),0)","v":0},{"$f":"IF(AND(COUNTRY_INFO!I57>0,COUNTRY_INFO!I57<4), IF(M57/J57*100<>0, IF(M57/J57*100>100,100,M57/J57*100), \"-\"),0)","v":0},{"$f":"COUNTRY_INFO!N57","v":0},null,null,{"$f":"SUM(MAX('MDA2'!J57, 'T1'!L57, MAX(T3_R1!K57, T3_R2!K57)), MAX('MDA1'!K57, 'MDA2'!K57, 'T1'!M57, MAX(T3_R1!L57, T3_R2!L57)), MAX('MDA1'!L57, 'MDA2'!L57, 'T1'!N57, MAX(T3_R1!M57, T3_R2!M57)))","v":0},{"$f":"IF(AND(COUNTRY_INFO!J57>1,COUNTRY_INFO!J57<4),IF(COUNTRY_INFO!E57>MAX('MDA2'!J57,'T1'!L57,MAX(T3_R1!K57,T3_R2!K57)),MAX('MDA2'!J57,'T1'!L57,MAX(T3_R1!K57,T3_R2!K57)),COUNTRY_INFO!E57),0)","v":0},{"$f":"IF(AND(COUNTRY_INFO!J57>1,COUNTRY_INFO!J57<4), IF(T57/COUNTRY_INFO!E57*100<>0, IF(T57/COUNTRY_INFO!E57*100>100,100,T57/COUNTRY_INFO!E57*100), \"-\"),0)","v":0},{"$f":"IF(AND(COUNTRY_INFO!J57>1,COUNTRY_INFO!J57<4),IF(COUNTRY_INFO!F57>MAX('MDA1'!K57,'MDA2'!K57,'T1'!M57,MAX(T3_R1!L57,T3_R2!L57)),MAX('MDA1'!K57,'MDA2'!K57,'T1'!M57,MAX(T3_R1!L57,T3_R2!L57)),COUNTRY_INFO!F57),0)","v":0},{"$f":"IF(AND(COUNTRY_INFO!J57>1,COUNTRY_INFO!J57<4), IF(V57/COUNTRY_INFO!F57*100<>0, IF(V57/COUNTRY_INFO!F57*100>100,100,V57/COUNTRY_INFO!F57*100), \"-\"),0)","v":0},0,{"$f":"IF(AND(COUNTRY_INFO!J57>1,COUNTRY_INFO!J57<4), IF(S57/P57*100<>0, IF(X57/P57*100>100,100,X57/P57*100), \"-\"),0)","v":0},{"$f":"COUNTRY_INFO!O57","v":0},null,null,{"$f":"MAX('T1'!L57,'T2'!J57)+MAX('T1'!M57,'T2'!K57)+MAX('T1'!N57,'T2'!L57)","v":0},{"$f":"IF(COUNTRY_INFO!K57=1,IF(COUNTRY_INFO!F57*0.33>MAX('T1'!M57,'T2'!K57),MAX('T1'!M57,'T2'!K57),COUNTRY_INFO!F57*0.33),IF(COUNTRY_INFO!K57=2,IF(COUNTRY_INFO!F57*0.5>MAX('T1'!M57,'T2'!K57),MAX('T1'!M57,'T2'!K57),COUNTRY_INFO!F57*0.5),IF(COUNTRY_INFO!K57=3,IF(COUNTRY_INFO!F57>MAX('T1'!M57,'T2'!K57),MAX('T1'!M57,'T2'!K57),COUNTRY_INFO!F57),0)))","v":0},{"$f":"IF(AND(COUNTRY_INFO!K57>0,COUNTRY_INFO!K57<4),IF(Z57>0,IF(COUNTRY_INFO!K57=1, AD57/(COUNTRY_INFO!F57*0.33)*100, IF(COUNTRY_INFO!K57=2, AD57/(COUNTRY_INFO!F57*0.5)*100, IF(COUNTRY_INFO!K57=3, AD57/COUNTRY_INFO!F57*100))),\"-\"),0)","v":0},{"$f":"IF(COUNTRY_INFO!K57=2,IF(COUNTRY_INFO!G57*0.2>MAX('T1'!N57,'T2'!L57),MAX('T1'!N57,'T2'!L57),COUNTRY_INFO!G57*0.2),IF(COUNTRY_INFO!K57=3,IF(COUNTRY_INFO!G57>MAX('T1'!N57,'T2'!L57),MAX('T1'!N57,'T2'!L57),COUNTRY_INFO!G57),0))","v":0},{"$f":"IF(AND(COUNTRY_INFO!K57>0,COUNTRY_INFO!K57<4),IF(Z57>0,IF(COUNTRY_INFO!K57=1, 0, IF(COUNTRY_INFO!K57=2, AF57/(COUNTRY_INFO!G57*0.2)*100, IF(COUNTRY_INFO!K57=3, AF57/COUNTRY_INFO!G57*100))),\"-\"),0)","v":0},0,{"$f":"IF(AND(COUNTRY_INFO!K57>0,COUNTRY_INFO!K57<4), IF(AC57/Z57*100<>0, IF(AH57/Z57*100>100,100,AH57/Z57*100), \"-\"),0)","v":0},null,{"$f":"IF(AND(D57<>0, D57<>\"Inconnu\",D57<>\"Interrompu\",D57<>\"Non requis\"),D57/COUNTRY_INFO!D57, 0)","v":1},{"$f":"IF(AND(J57<>0,J57<>\"Inconnu\",J57<>\"Interrompu\",J57<>\"Non requis\"),J57/COUNTRY_INFO!D57, 0)","v":0},{"$f":"IF(AND(P57<>0,P57<>\"Inconnu\",P57<>\"Non requis\"),P57/(COUNTRY_INFO!E57+COUNTRY_INFO!F57), 0)","v":0},{"$f":"IF(AND(Z57<>0,Z57<>\"Inconnu\",Z57<>\"Non requis\"),IF(COUNTRY_INFO!K57=1,1,IF(COUNTRY_INFO!K57=2,0.5*COUNTRY_INFO!F57/(0.5*COUNTRY_INFO!F57+0.2*COUNTRY_INFO!G57),IF(COUNTRY_INFO!K57=3,COUNTRY_INFO!F57/(COUNTRY_INFO!F57+COUNTRY_INFO!G57)))),0)","v":0},{"$f":"IF(AND(Z57<>0,Z57<>\"Inconnu\",Z57<>\"Non requis\"),IF(COUNTRY_INFO!K57=1,0,IF(COUNTRY_INFO!K57=2,0.2*COUNTRY_INFO!G57/(0.5*COUNTRY_INFO!F57+0.2*COUNTRY_INFO!G57),IF(COUNTRY_INFO!K57=3,COUNTRY_INFO!G57/(COUNTRY_INFO!F57+COUNTRY_INFO!G57)))),0)","v":0},{"$f":"MAX(COUNTRY_INFO!D57*AK57*PROFILE!$G$7,COUNTRY_INFO!D57*AL57*PROFILE!$G$7)","v":318.05998929746613},{"$f":"MAX(COUNTRY_INFO!D57*AK57*PROFILE!$G$8,COUNTRY_INFO!D57*AL57*PROFILE!$G$8,COUNTRY_INFO!D57*AM57*PROFILE!$G$8)","v":954.94355065986883},{"$f":"MAX(COUNTRY_INFO!D57*AK57*PROFILE!$G$9,COUNTRY_INFO!D57*AL57*PROFILE!$G$9,COUNTRY_INFO!D57*AM57*PROFILE!$G$9,IF(AND(DISTRICT!Z57<>\"Inconnu\",Z57<>\"Non requis\"),COUNTRY_INFO!O57*DISTRICT!AN57,0))","v":1839.5229492973501},{"$f":"MAX(COUNTRY_INFO!D57*AK57*PROFILE!$G$10,COUNTRY_INFO!D57*AL57*PROFILE!$G$10,IF(AND(DISTRICT!Z57<>\"Inconnu\",Z57<>\"Non requis\"),COUNTRY_INFO!O57*DISTRICT!AO57,0))","v":4067.4735107453148},7180,0,{"$f":"MAX('MDA2'!J57,'T1'!L57,'T2'!J57,T3_R1!K57,T3_R2!K57)","v":0},{"$f":"MAX('MDA1'!K57,'MDA2'!K57,'MDA3'!I57,'MDA3'!L57,'T1'!M57,'T2'!K57,T3_R1!L57,T3_R2!L57)","v":0},{"$f":"MAX('MDA1'!L57,'MDA2'!L57,'MDA3'!J57,'MDA3'!M57,'T1'!N57,'T2'!L57,T3_R1!M57,T3_R2!M57)","v":0},0,{"$f":"MAX('MDA2'!J57,T57)","v":0},{"$f":"MAX('MDA1'!K57,'MDA2'!K57,'MDA3'!I57,'MDA3'!L57,V57,AD57)","v":0},{"$f":"MAX('MDA1'!L57,'MDA2'!L57,'MDA3'!J57,'MDA3'!M57,AF57)","v":0},0,0]
[{"$f":"IF(COUNTRY_INFO!A58=0,\" \",COUNTRY_INFO!A58)","v":"Guinea Bissau"},{"$f":"IF(COUNTRY_INFO!B58=0,\" \",COUNTRY_INFO!B58)","v":"Bolama"},{"$f":"IF(COUNTRY_INFO!C58=0,\" \",COUNTRY_INFO!C58)","v":"I.  GALINHAS"},{"$f":"COUNTRY_INFO!L58","v":1946},null,null,{"$f":"MAX('MDA1'!M58,'MDA2'!M58)","v":0},{"$f":"IF(AND(COUNTRY_INFO!H58>0,COUNTRY_INFO!H58<4),IF(D58>MAX('MDA1'!M58,'MDA2'!M58),MAX('MDA1'!M58,'MDA2'!M58),D58),0)","v":0},{"$f":"IF(AND(COUNTRY_INFO!H58>0,COUNTRY_INFO!H58<4), IF(G58/D58*100<>0, IF(G58/D58*100>100,100,G58/D58*100), \"-\"),0)","v":"-"},{"$f":"COUNTRY_INFO!M58","v":"Inconnu"},null,null,{"$f":"MAX('MDA1'!M58,MAX('MDA3'!I58,'MDA3'!L58)+MAX('MDA3'!J58,'MDA3'!M58))","v":0},{"$f":"IF(AND(COUNTRY_INFO!I58>0,COUNTRY_INFO!I58<4),IF(J58>MAX('MDA1'!M58,MAX('MDA3'!I58,'MDA3'!L58)+MAX('MDA3'!J58,'MDA3'!M58)),MAX('MDA1'!M58,MAX('MDA3'!I58,'MDA3'!L58)+MAX('MDA3'!J58,'MDA3'!M58)),J58),0)","v":0},{"$f":"IF(AND(COUNTRY_INFO!I58>0,COUNTRY_INFO!I58<4), IF(M58/J58*100<>0, IF(M58/J58*100>100,100,M58/J58*100), \"-\"),0)","v":0},{"$f":"COUNTRY_INFO!N58","v":0},null,null,{"$f":"SUM(MAX('MDA2'!J58, 'T1'!L58, MAX(T3_R1!K58, T3_R2!K58)), MAX('MDA1'!K58, 'MDA2'!K58, 'T1'!M58, MAX(T3_R1!L58, T3_R2!L58)), MAX('MDA1'!L58, 'MDA2'!L58, 'T1'!N58, MAX(T3_R1!M58, T3_R2!M58)))","v":0},{"$f":"IF(AND(COUNTRY_INFO!J58>1,COUNTRY_INFO!J58<4),IF(COUNTRY_INFO!E58>MAX('MDA2'!J58,'T1'!L58,MAX(T3_R1!K58,T3_R2!K58)),MAX('MDA2'!J58,'T1'!L58,MAX(T3_R1!K58,T3_R2!K58)),COUNTRY_INFO!E58),0)","v":0},{"$f":"IF(AND(COUNTRY_INFO!J58>1,COUNTRY_INFO!J58<4), IF(T58/COUNTRY_INFO!E58*100<>0, IF(T58/COUNTRY_INFO!E58*100>100,100,T58/COUNTRY_INFO!E58*100), \"-\"),0)","v":0},{"$f":"IF(AND(COUNTRY_INFO!J58>1,COUNTRY_INFO!J58<4),IF(COUNTRY_INFO!F58>MAX('MDA1'!K58,'MDA2'!K58,'T1'!M58,MAX(T3_R1!L58,T3_R2!L58)),MAX('MDA1'!K58,'MDA2'!K58,'T1'!M58,MAX(T3_R1!L58,T3_R2!L58)),COUNTRY_INFO!F58),0)","v":0},{"$f":"IF(AND(COUNTRY_INFO!J58>1,COUNTRY_INFO!J58<4), IF(V58/COUNTRY_INFO!F58*100<>0, IF(V58/COUNTRY_INFO!F58*100>100,100,V58/COUNTRY_INFO!F58*100), \"-\"),0)","v":0},0,{"$f":"IF(AND(COUNTRY_INFO!J58>1,COUNTRY_INFO!J58<4), IF(S58/P58*100<>0, IF(X58/P58*100>100,100,X58/P58*100), \"-\"),0)","v":0},{"$f":"COUNTRY_INFO!O58","v":0},null,null,{"$f":"MAX('T1'!L58,'T2'!J58)+MAX('T1'!M58,'T2'!K58)+MAX('T1'!N58,'T2'!L58)","v":0},{"$f":"IF(COUNTRY_INFO!K58=1,IF(COUNTRY_INFO!F58*0.33>MAX('T1'!M58,'T2'!K58),MAX('T1'!M58,'T2'!K58),COUNTRY_INFO!F58*0.33),IF(COUNTRY_INFO!K58=2,IF(COUNTRY_INFO!F58*0.5>MAX('T1'!M58,'T2'!K58),MAX('T1'!M58,'T2'!K58),COUNTRY_INFO!F58*0.5),IF(COUNTRY_INFO!K58=3,IF(COUNTRY_INFO!F58>MAX('T1'!M58,'T2'!K58),MAX('T1'!M58,'T2'!K58),COUNTRY_INFO!F58),0)))","v":0},{"$f":"IF(AND(COUNTRY_INFO!K58>0,COUNTRY_INFO!K58<4),IF(Z58>0,IF(COUNTRY_INFO!K58=1, AD58/(COUNTRY_INFO!F58*0.33)*100, IF(COUNTRY_INFO!K58=2, AD58/(COUNTRY_INFO!F58*0.5)*100, IF(COUNTRY_INFO!K58=3, AD58/COUNTRY_INFO!F58*100))),\"-\"),0)","v":0},{"$f":"IF(COUNTRY_INFO!K58=2,IF(COUNTRY_INFO!G58*0.2>MAX('T1'!N58,'T2'!L58),MAX('T1'!N58,'T2'!L58),COUNTRY_INFO!G58*0.2),IF(COUNTRY_INFO!K58=3,IF(COUNTRY_INFO!G58>MAX('T1'!N58,'T2'!L58),MAX('T1'!N58,'T2'!L58),COUNTRY_INFO!G58),0))","v":0},{"$f":"IF(AND(COUNTRY_INFO!K58>0,COUNTRY_INFO!K58<4),IF(Z58>0,IF(COUNTRY_INFO!K58=1, 0, IF(COUNTRY_INFO!K58=2, AF58/(COUNTRY_INFO!G58*0.2)*100, IF(COUNTRY_INFO!K58=3, AF58/COUNTRY_INFO!G58*100))),\"-\"),0)","v":0},0,{"$f":"IF(AND(COUNTRY_INFO!K58>0,COUNTRY_INFO!K58<4), IF(AC58/Z58*100<>0, IF(AH58/Z58*100>100,100,AH58/Z58*100), \"-\"),0)","v":0},null,{"$f":"IF(AND(D58<>0, D58<>\"Inconnu\",D58<>\"Interrompu\",D58<>\"Non requis\"),D58/COUNTRY_INFO!D58, 0)","v":1},{"$f":"IF(AND(J58<>0,J58<>\"Inconnu\",J58<>\"Interrompu\",J58<>\"Non requis\"),J58/COUNTRY_INFO!D58, 0)","v":0},{"$f":"IF(AND(P58<>0,P58<>\"Inconnu\",P58<>\"Non requis\"),P58/(COUNTRY_INFO!E58+COUNTRY_INFO!F58), 0)","v":0},{"$f":"IF(AND(Z58<>0,Z58<>\"Inconnu\",Z58<>\"Non requis\"),IF(COUNTRY_INFO!K58=1,1,IF(COUNTRY_INFO!K58=2,0.5*COUNTRY_INFO!F58/(0.5*COUNTRY_INFO!F58+0.2*COUNTRY_INFO!G58),IF(COUNTRY_INFO!K58=3,COUNTRY_INFO!F58/(COUNTRY_INFO!F58+COUNTRY_INFO!G58)))),0)","v":0},{"$f":"IF(AND(Z58<>0,Z58<>\"Inconnu\",Z58<>\"Non requis\"),IF(COUNTRY_INFO!K58=1,0,IF(COUNTRY_INFO!K58=2,0.2*COUNTRY_INFO!G58/(0.5*COUNTRY_INFO!F58+0.2*COUNTRY_INFO!G58),IF(COUNTRY_INFO!K58=3,COUNTRY_INFO!G58/(COUNTRY_INFO!F58+COUNTRY_INFO!G58)))),0)","v":0},{"$f":"MAX(COUNTRY_INFO!D58*AK58*PROFILE!$G$7,COUNTRY_INFO!D58*AL58*PROFILE!$G$7)","v":86.204002670316029},{"$f":"MAX(COUNTRY_INFO!D58*AK58*PROFILE!$G$8,COUNTRY_INFO!D58*AL58*PROFILE!$G$8,COUNTRY_INFO!D58*AM58*PROFILE!$G$8)","v":258.81896233761904},{"$f":"MAX(COUNTRY_INFO!D58*AK58*PROFILE!$G$9,COUNTRY_INFO!D58*AL58*PROFILE!$G$9,COUNTRY_INFO!D58*AM58*PROFILE!$G$9,IF(AND(DISTRICT!Z58<>\"Inconnu\",Z58<>\"Non requis\"),COUNTRY_INFO!O58*DISTRICT!AN58,0))","v":498.56708347251299},{"$f":"MAX(COUNTRY_INFO!D58*AK58*PROFILE!$G$10,COUNTRY_INFO!D58*AL58*PROFILE!$G$10,IF(AND(DISTRICT!Z58<>\"Inconnu\",Z58<>\"Non requis\"),COUNTRY_INFO!O58*DISTRICT!AO58,0))","v":1102.4099515195519},1946,0,{"$f":"MAX('MDA2'!J58,'T1'!L58,'T2'!J58,T3_R1!K58,T3_R2!K58)","v":0},{"$f":"MAX('MDA1'!K58,'MDA2'!K58,'MDA3'!I58,'MDA3'!L58,'T1'!M58,'T2'!K58,T3_R1!L58,T3_R2!L58)","v":0},{"$f":"MAX('MDA1'!L58,'MDA2'!L58,'MDA3'!J58,'MDA3'!M58,'T1'!N58,'T2'!L58,T3_R1!M58,T3_R2!M58)","v":0},0,{"$f":"MAX('MDA2'!J58,T58)","v":0},{"$f":"MAX('MDA1'!K58,'MDA2'!K58,'MDA3'!I58,'MDA3'!L58,V58,AD58)","v":0},{"$f":"MAX('MDA1'!L58,'MDA2'!L58,'MDA3'!J58,'MDA3'!M58,AF58)","v":0},0,0]
[{"$f":"IF(COUNTRY_INFO!A59=0,\" \",COUNTRY_INFO!A59)","v":"Guinea Bissau"},{"$f":"IF(COUNTRY_INFO!B59=0,\" \",COUNTRY_INFO!B59)","v":"Bolama"},{"$f":"IF(COUNTRY_INFO!C59=0,\" \",COUNTRY_INFO!C59)","v":"SÃO-JOÃO "},{"$f":"COUNTRY_INFO!L59","v":3039},null,null,{"$f":"MAX('MDA1'!M59,'MDA2'!M59)","v":0},{"$f":"IF(AND(COUNTRY_INFO!H59>0,COUNTRY_INFO!H59<4),IF(D59>MAX('MDA1'!M59,'MDA2'!M59),MAX('MDA1'!M59,'MDA2'!M59),D59),0)","v":0},{"$f":"IF(AND(COUNTRY_INFO!H59>0,COUNTRY_INFO!H59<4), IF(G59/D59*100<>0, IF(G59/D59*100>100,100,G59/D59*100), \"-\"),0)","v":"-"},{"$f":"COUNTRY_INFO!M59","v":"Inconnu"},null,null,{"$f":"MAX('MDA1'!M59,MAX('MDA3'!I59,'MDA3'!L59)+MAX('MDA3'!J59,'MDA3'!M59))","v":0},{"$f":"IF(AND(COUNTRY_INFO!I59>0,COUNTRY_INFO!I59<4),IF(J59>MAX('MDA1'!M59,MAX('MDA3'!I59,'MDA3'!L59)+MAX('MDA3'!J59,'MDA3'!M59)),MAX('MDA1'!M59,MAX('MDA3'!I59,'MDA3'!L59)+MAX('MDA3'!J59,'MDA3'!M59)),J59),0)","v":0},{"$f":"IF(AND(COUNTRY_INFO!I59>0,COUNTRY_INFO!I59<4), IF(M59/J59*100<>0, IF(M59/J59*100>100,100,M59/J59*100), \"-\"),0)","v":0},{"$f":"COUNTRY_INFO!N59","v":0},null,null,{"$f":"SUM(MAX('MDA2'!J59, 'T1'!L59, MAX(T3_R1!K59, T3_R2!K59)), MAX('MDA1'!K59, 'MDA2'!K59, 'T1'!M59, MAX(T3_R1!L59, T3_R2!L59)), MAX('MDA1'!L59, 'MDA2'!L59, 'T1'!N59, MAX(T3_R1!M59, T3_R2!M59)))","v":0},{"$f":"IF(AND(COUNTRY_INFO!J59>1,COUNTRY_INFO!J59<4),IF(COUNTRY_INFO!E59>MAX('MDA2'!J59,'T1'!L59,MAX(T3_R1!K59,T3_R2!K59)),MAX('MDA2'!J59,'T1'!L59,MAX(T3_R1!K59,T3_R2!K59)),COUNTRY_INFO!E59),0)","v":0},{"$f":"IF(AND(COUNTRY_INFO!J59>1,COUNTRY_INFO!J59<4), IF(T59/COUNTRY_INFO!E59*100<>0, IF(T59/COUNTRY_INFO!E59*100>100,100,T59/COUNTRY_INFO!E59*100), \"-\"),0)","v":0},{"$f":"IF(AND(COUNTRY_INFO!J59>1,COUNTRY_INFO!J59<4),IF(COUNTRY_INFO!F59>MAX('MDA1'!K59,'MDA2'!K59,'T1'!M59,MAX(T3_R1!L59,T3_R2!L59)),MAX('MDA1'!K59,'MDA2'!K59,'T1'!M59,MAX(T3_R1!L59,T3_R2!L59)),COUNTRY_INFO!F59),0)","v":0},{"$f":"IF(AND(COUNTRY_INFO!J59>1,COUNTRY_INFO!J59<4), IF(V59/COUNTRY_INFO!F59*100<>0, IF(V59/COUNTRY_INFO!F59*100>100,100,V59/COUNTRY_INFO!F59*100), \"-\"),0)","v":0},0,{"$f":"IF(AND(COUNTRY_INFO!J59>1,COUNTRY_INFO!J59<4), IF(S59/P59*100<>0, IF(X59/P59*100>100,100,X59/P59*100), \"-\"),0)","v":0},{"$f":"COUNTRY_INFO!O59","v":0},null,null,{"$f":"MAX('T1'!L59,'T2'!J59)+MAX('T1'!M59,'T2'!K59)+MAX('T1'!N59,'T2'!L59)","v":0},{"$f":"IF(COUNTRY_INFO!K59=1,IF(COUNTRY_INFO!F59*0.33>MAX('T1'!M59,'T2'!K59),MAX('T1'!M59,'T2'!K59),COUNTRY_INFO!F59*0.33),IF(COUNTRY_INFO!K59=2,IF(COUNTRY_INFO!F59*0.5>MAX('T1'!M59,'T2'!K59),MAX('T1'!M59,'T2'!K59),COUNTRY_INFO!F59*0.5),IF(COUNTRY_INFO!K59=3,IF(COUNTRY_INFO!F59>MAX('T1'!M59,'T2'!K59),MAX('T1'!M59,'T2'!K59),COUNTRY_INFO!F59),0)))","v":0},{"$f":"IF(AND(COUNTRY_INFO!K59>0,COUNTRY_INFO!K59<4),IF(Z59>0,IF(COUNTRY_INFO!K59=1, AD59/(COUNTRY_INFO!F59*0.33)*100, IF(COUNTRY_INFO!K59=2, AD59/(COUNTRY_INFO!F59*0.5)*100, IF(COUNTRY_INFO!K59=3, AD59/COUNTRY_INFO!F59*100))),\"-\"),0)","v":0},{"$f":"IF(COUNTRY_INFO!K59=2,IF(COUNTRY_INFO!G59*0.2>MAX('T1'!N59,'T2'!L59),MAX('T1'!N59,'T2'!L59),COUNTRY_INFO!G59*0.2),IF(COUNTRY_INFO!K59=3,IF(COUNTRY_INFO!G59>MAX('T1'!N59,'T2'!L59),MAX('T1'!N59,'T2'!L59),COUNTRY_INFO!G59),0))","v":0},{"$f":"IF(AND(COUNTRY_INFO!K59>0,COUNTRY_INFO!K59<4),IF(Z59>0,IF(COUNTRY_INFO!K59=1, 0, IF(COUNTRY_INFO!K59=2, AF59/(COUNTRY_INFO!G59*0.2)*100, IF(COUNTRY_INFO!K59=3, AF59/COUNTRY_INFO!G59*100))),\"-\"),0)","v":0},0,{"$f":"IF(AND(COUNTRY_INFO!K59>0,COUNTRY_INFO!K59<4), IF(AC59/Z59*100<>0, IF(AH59/Z59*100>100,100,AH59/Z59*100), \"-\"),0)","v":0},null,{"$f":"IF(AND(D59<>0, D59<>\"Inconnu\",D59<>\"Interrompu\",D59<>\"Non requis\"),D59/COUNTRY_INFO!D59, 0)","v":1},{"$f":"IF(AND(J59<>0,J59<>\"Inconnu\",J59<>\"Interrompu\",J59<>\"Non requis\"),J59/COUNTRY_INFO!D59, 0)","v":0},{"$f":"IF(AND(P59<>0,P59<>\"Inconnu\",P59<>\"Non requis\"),P59/(COUNTRY_INFO!E59+COUNTRY_INFO!F59), 0)","v":0},{"$f":"IF(AND(Z59<>0,Z59<>\"Inconnu\",Z59<>\"Non requis\"),IF(COUNTRY_INFO!K59=1,1,IF(COUNTRY_INFO!K59=2,0.5*COUNTRY_INFO!F59/(0.5*COUNTRY_INFO!F59+0.2*COUNTRY_INFO!G59),IF(COUNTRY_INFO!K59=3,COUNTRY_INFO!F59/(COUNTRY_INFO!F59+COUNTRY_INFO!G59)))),0)","v":0},{"$f":"IF(AND(Z59<>0,Z59<>\"Inconnu\",Z59<>\"Non requis\"),IF(COUNTRY_INFO!K59=1,0,IF(COUNTRY_INFO!K59=2,0.2*COUNTRY_INFO!G59/(0.5*COUNTRY_INFO!F59+0.2*COUNTRY_INFO!G59),IF(COUNTRY_INFO!K59=3,COUNTRY_INFO!G59/(COUNTRY_INFO!F59+COUNTRY_INFO!G59)))),0)","v":0},{"$f":"MAX(COUNTRY_INFO!D59*AK59*PROFILE!$G$7,COUNTRY_INFO!D59*AL59*PROFILE!$G$7)","v":134.62176984331469},{"$f":"MAX(COUNTRY_INFO!D59*AK59*PROFILE!$G$8,COUNTRY_INFO!D59*AL59*PROFILE!$G$8,COUNTRY_INFO!D59*AM59*PROFILE!$G$8)","v":404.18850284893335},{"$f":"MAX(COUNTRY_INFO!D59*AK59*PROFILE!$G$9,COUNTRY_INFO!D59*AL59*PROFILE!$G$9,COUNTRY_INFO!D59*AM59*PROFILE!$G$9,IF(AND(DISTRICT!Z59<>\"Inconnu\",Z59<>\"Non requis\"),COUNTRY_INFO!O59*DISTRICT!AN59,0))","v":778.59474135301491},{"$f":"MAX(COUNTRY_INFO!D59*AK59*PROFILE!$G$10,COUNTRY_INFO!D59*AL59*PROFILE!$G$10,IF(AND(DISTRICT!Z59<>\"Inconnu\",Z59<>\"Non requis\"),COUNTRY_INFO!O59*DISTRICT!AO59,0))","v":1721.594985954737},3039,0,{"$f":"MAX('MDA2'!J59,'T1'!L59,'T2'!J59,T3_R1!K59,T3_R2!K59)","v":0},{"$f":"MAX('MDA1'!K59,'MDA2'!K59,'MDA3'!I59,'MDA3'!L59,'T1'!M59,'T2'!K59,T3_R1!L59,T3_R2!L59)","v":0},{"$f":"MAX('MDA1'!L59,'MDA2'!L59,'MDA3'!J59,'MDA3'!M59,'T1'!N59,'T2'!L59,T3_R1!M59,T3_R2!M59)","v":0},0,{"$f":"MAX('MDA2'!J59,T59)","v":0},{"$f":"MAX('MDA1'!K59,'MDA2'!K59,'MDA3'!I59,'MDA3'!L59,V59,AD59)","v":0},{"$f":"MAX('MDA1'!L59,'MDA2'!L59,'MDA3'!J59,'MDA3'!M59,AF59)","v":0},0,0]
[{"$f":"IF(COUNTRY_INFO!A60=0,\" \",COUNTRY_INFO!A60)","v":"Guinea Bissau"},{"$f":"IF(COUNTRY_INFO!B60=0,\" \",COUNTRY_INFO!B60)","v":"Gabu"},{"$f":"IF(COUNTRY_INFO!C60=0,\" \",COUNTRY_INFO!C60)","v":"BAJOCUNDA"},{"$f":"COUNTRY_INFO!L60","v":6921},null,null,{"$f":"MAX('MDA1'!M60,'MDA2'!M60)","v":0},{"$f":"IF(AND(COUNTRY_INFO!H60>0,COUNTRY_INFO!H60<4),IF(D60>MAX('MDA1'!M60,'MDA2'!M60),MAX('MDA1'!M60,'MDA2'!M60),D60),0)","v":0},{"$f":"IF(AND(COUNTRY_INFO!H60>0,COUNTRY_INFO!H60<4), IF(G60/D60*100<>0, IF(G60/D60*100>100,100,G60/D60*100), \"-\"),0)","v":"-"},{"$f":"COUNTRY_INFO!M60","v":6921},null,null,{"$f":"MAX('MDA1'!M60,MAX('MDA3'!I60,'MDA3'!L60)+MAX('MDA3'!J60,'MDA3'!M60))","v":0},{"$f":"IF(AND(COUNTRY_INFO!I60>0,COUNTRY_INFO!I60<4),IF(J60>MAX('MDA1'!M60,MAX('MDA3'!I60,'MDA3'!L60)+MAX('MDA3'!J60,'MDA3'!M60)),MAX('MDA1'!M60,MAX('MDA3'!I60,'MDA3'!L60)+MAX('MDA3'!J60,'MDA3'!M60)),J60),0)","v":0},{"$f":"IF(AND(COUNTRY_INFO!I60>0,COUNTRY_INFO!I60<4), IF(M60/J60*100<>0, IF(M60/J60*100>100,100,M60/J60*100), \"-\"),0)","v":"-"},{"$f":"COUNTRY_INFO!N60","v":2693},null,null,{"$f":"SUM(MAX('MDA2'!J60, 'T1'!L60, MAX(T3_R1!K60, T3_R2!K60)), MAX('MDA1'!K60, 'MDA2'!K60, 'T1'!M60, MAX(T3_R1!L60, T3_R2!L60)), MAX('MDA1'!L60, 'MDA2'!L60, 'T1'!N60, MAX(T3_R1!M60, T3_R2!M60)))","v":0},{"$f":"IF(AND(COUNTRY_INFO!J60>1,COUNTRY_INFO!J60<4),IF(COUNTRY_INFO!E60>MAX('MDA2'!J60,'T1'!L60,MAX(T3_R1!K60,T3_R2!K60)),MAX('MDA2'!J60,'T1'!L60,MAX(T3_R1!K60,T3_R2!K60)),COUNTRY_INFO!E60),0)","v":0},{"$f":"IF(AND(COUNTRY_INFO!J60>1,COUNTRY_INFO!J60<4), IF(T60/COUNTRY_INFO!E60*100<>0, IF(T60/COUNTRY_INFO!E60*100>100,100,T60/COUNTRY_INFO!E60*100), \"-\"),0)","v":"-"},{"$f":"IF(AND(COUNTRY_INFO!J60>1,COUNTRY_INFO!J60<4),IF(COUNTRY_INFO!F60>MAX('MDA1'!K60,'MDA2'!K60,'T1'!M60,MAX(T3_R1!L60,T3_R2!L60)),MAX('MDA1'!K60,'MDA2'!K60,'T1'!M60,MAX(T3_R1!L60,T3_R2!L60)),COUNTRY_INFO!F60),0)","v":0},{"$f":"IF(AND(COUNTRY_INFO!J60>1,COUNTRY_INFO!J60<4), IF(V60/COUNTRY_INFO!F60*100<>0, IF(V60/COUNTRY_INFO!F60*100>100,100,V60/COUNTRY_INFO!F60*100), \"-\"),0)","v":"-"},0,{"$f":"IF(AND(COUNTRY_INFO!J60>1,COUNTRY_INFO!J60<4), IF(S60/P60*100<>0, IF(X60/P60*100>100,100,X60/P60*100), \"-\"),0)","v":"-"},{"$f":"COUNTRY_INFO!O60","v":585.09},null,null,{"$f":"MAX('T1'!L60,'T2'!J60)+MAX('T1'!M60,'T2'!K60)+MAX('T1'!N60,'T2'!L60)","v":1748},{"$f":"IF(COUNTRY_INFO!K60=1,IF(COUNTRY_INFO!F60*0.33>MAX('T1'!M60,'T2'!K60),MAX('T1'!M60,'T2'!K60),COUNTRY_INFO!F60*0.33),IF(COUNTRY_INFO!K60=2,IF(COUNTRY_INFO!F60*0.5>MAX('T1'!M60,'T2'!K60),MAX('T1'!M60,'T2'!K60),COUNTRY_INFO!F60*0.5),IF(COUNTRY_INFO!K60=3,IF(COUNTRY_INFO!F60>MAX('T1'!M60,'T2'!K60),MAX('T1'!M60,'T2'!K60),COUNTRY_INFO!F60),0)))","v":585.09},{"$f":"IF(AND(COUNTRY_INFO!K60>0,COUNTRY_INFO!K60<4),IF(Z60>0,IF(COUNTRY_INFO!K60=1, AD60/(COUNTRY_INFO!F60*0.33)*100, IF(COUNTRY_INFO!K60=2, AD60/(COUNTRY_INFO!F60*0.5)*100, IF(COUNTRY_INFO!K60=3, AD60/COUNTRY_INFO!F60*100))),\"-\"),0)","v":100},{"$f":"IF(COUNTRY_INFO!K60=2,IF(COUNTRY_INFO!G60*0.2>MAX('T1'!N60,'T2'!L60),MAX('T1'!N60,'T2'!L60),COUNTRY_INFO!G60*0.2),IF(COUNTRY_INFO!K60=3,IF(COUNTRY_INFO!G60>MAX('T1'!N60,'T2'!L60),MAX('T1'!N60,'T2'!L60),COUNTRY_INFO!G60),0))","v":0},{"$f":"IF(AND(COUNTRY_INFO!K60>0,COUNTRY_INFO!K60<4),IF(Z60>0,IF(COUNTRY_INFO!K60=1, 0, IF(COUNTRY_INFO!K60=2, AF60/(COUNTRY_INFO!G60*0.2)*100, IF(COUNTRY_INFO!K60=3, AF60/COUNTRY_INFO!G60*100))),\"-\"),0)","v":0},585.09,{"$f":"IF(AND(COUNTRY_INFO!K60>0,COUNTRY_INFO!K60<4), IF(AC60/Z60*100<>0, IF(AH60/Z60*100>100,100,AH60/Z60*100), \"-\"),0)","v":100},null,{"$f":"IF(AND(D60<>0, D60<>\"Inconnu\",D60<>\"Interrompu\",D60<>\"Non requis\"),D60/COUNTRY_INFO!D60, 0)","v":1},{"$f":"IF(AND(J60<>0,J60<>\"Inconnu\",J60<>\"Interrompu\",J60<>\"Non requis\"),J60/COUNTRY_INFO!D60, 0)","v":1},{"$f":"IF(AND(P60<>0,P60<>\"Inconnu\",P60<>\"Non requis\"),P60/(COUNTRY_INFO!E60+COUNTRY_INFO!F60), 0)","v":1},{"$f":"IF(AND(Z60<>0,Z60<>\"Inconnu\",Z60<>\"Non requis\"),IF(COUNTRY_INFO!K60=1,1,IF(COUNTRY_INFO!K60=2,0.5*COUNTRY_INFO!F60/(0.5*COUNTRY_INFO!F60+0.2*COUNTRY_INFO!G60),IF(COUNTRY_INFO!K60=3,COUNTRY_INFO!F60/(COUNTRY_INFO!F60+COUNTRY_INFO!G60)))),0)","v":1},{"$f":"IF(AND(Z60<>0,Z60<>\"Inconnu\",Z60<>\"Non requis\"),IF(COUNTRY_INFO!K60=1,0,IF(COUNTRY_INFO!K60=2,0.2*COUNTRY_INFO!G60/(0.5*COUNTRY_INFO!F60+0.2*COUNTRY_INFO!G60),IF(COUNTRY_INFO!K60=3,COUNTRY_INFO!G60/(COUNTRY_INFO!F60+COUNTRY_INFO!G60)))),0)","v":0},{"$f":"MAX(COUNTRY_INFO!D60*AK60*PROFILE!$G$7,COUNTRY_INFO!D60*AL60*PROFILE!$G$7)","v":306.58679469746005},{"$f":"MAX(COUNTRY_INFO!D60*AK60*PROFILE!$G$8,COUNTRY_INFO!D60*AL60*PROFILE!$G$8,COUNTRY_INFO!D60*AM60*PROFILE!$G$8)","v":920.49642257896267},{"$f":"MAX(COUNTRY_INFO!D60*AK60*PROFILE!$G$9,COUNTRY_INFO!D60*AL60*PROFILE!$G$9,COUNTRY_INFO!D60*AM60*PROFILE!$G$9,IF(AND(DISTRICT!Z60<>\"Inconnu\",Z60<>\"Non requis\"),COUNTRY_INFO!O60*DISTRICT!AN60,0))","v":1773.1668986193538},{"$f":"MAX(COUNTRY_INFO!D60*AK60*PROFILE!$G$10,COUNTRY_INFO!D60*AL60*PROFILE!$G$10,IF(AND(DISTRICT!Z60<>\"Inconnu\",Z60<>\"Non requis\"),COUNTRY_INFO!O60*DISTRICT!AO60,0))","v":3920.7498841042234},6921,0,{"$f":"MAX('MDA2'!J60,'T1'!L60,'T2'!J60,T3_R1!K60,T3_R2!K60)","v":0},{"$f":"MAX('MDA1'!K60,'MDA2'!K60,'MDA3'!I60,'MDA3'!L60,'T1'!M60,'T2'!K60,T3_R1!L60,T3_R2!L60)","v":1748},{"$f":"MAX('MDA1'!L60,'MDA2'!L60,'MDA3'!J60,'MDA3'!M60,'T1'!N60,'T2'!L60,T3_R1!M60,T3_R2!M60)","v":0},1748,{"$f":"MAX('MDA2'!J60,T60)","v":0},{"$f":"MAX('MDA1'!K60,'MDA2'!K60,'MDA3'!I60,'MDA3'!L60,V60,AD60)","v":585.09},{"$f":"MAX('MDA1'!L60,'MDA2'!L60,'MDA3'!J60,'MDA3'!M60,AF60)","v":0},585.09,8.4538361508452535]
[{"$f":"IF(COUNTRY_INFO!A61=0,\" \",COUNTRY_INFO!A61)","v":"Guinea Bissau"},{"$f":"IF(COUNTRY_INFO!B61=0,\" \",COUNTRY_INFO!B61)","v":"Gabu"},{"$f":"IF(COUNTRY_INFO!C61=0,\" \",COUNTRY_INFO!C61)","v":"BELI"},{"$f":"COUNTRY_INFO!L61","v":6242},null,null,{"$f":"MAX('MDA1'!M61,'MDA2'!M61)","v":0},{"$f":"IF(AND(COUNTRY_INFO!H61>0,COUNTRY_INFO!H61<4),IF(D61>MAX('MDA1'!M61,'MDA2'!M61),MAX('MDA1'!M61,'MDA2'!M61),D61),0)","v":0},{"$f":"IF(AND(COUNTRY_INFO!H61>0,COUNTRY_INFO!H61<4), IF(G61/D61*100<>0, IF(G61/D61*100>100,100,G61/D61*100), \"-\"),0)","v":"-"},{"$f":"COUNTRY_INFO!M61","v":6242},null,null,{"$f":"MAX('MDA1'!M61,MAX('MDA3'!I61,'MDA3'!L61)+MAX('MDA3'!J61,'MDA3'!M61))","v":0},{"$f":"IF(AND(COUNTRY_INFO!I61>0,COUNTRY_INFO!I61<4),IF(J61>MAX('MDA1'!M61,MAX('MDA3'!I61,'MDA3'!L61)+MAX('MDA3'!J61,'MDA3'!M61)),MAX('MDA1'!M61,MAX('MDA3'!I61,'MDA3'!L61)+MAX('MDA3'!J61,'MDA3'!M61)),J61),0)","v":0},{"$f":"IF(AND(COUNTRY_INFO!I61>0,COUNTRY_INFO!I61<4), IF(M61/J61*100<>0, IF(M61/J61*100>100,100,M61/J61*100), \"-\"),0)","v":"-"},{"$f":"COUNTRY_INFO!N61","v":0},null,null,{"$f":"SUM(MAX('MDA2'!J61, 'T1'!L61, MAX(T3_R1!K61, T3_R2!K61)), MAX('MDA1'!K61, 'MDA2'!K61, 'T1'!M61, MAX(T3_R1!L61, T3_R2!L61)), MAX('MDA1'!L61, 'MDA2'!L61, 'T1'!N61, MAX(T3_R1!M61, T3_R2!M61)))","v":0},{"$f":"IF(AND(COUNTRY_INFO!J61>1,COUNTRY_INFO!J61<4),IF(COUNTRY_INFO!E61>MAX('MDA2'!J61,'T1'!L61,MAX(T3_R1!K61,T3_R2!K61)),MAX('MDA2'!J61,'T1'!L61,MAX(T3_R1!K61,T3_R2!K61)),COUNTRY_INFO!E61),0)","v":0},{"$f":"IF(AND(COUNTRY_INFO!J61>1,COUNTRY_INFO!J61<4), IF(T61/COUNTRY_INFO!E61*100<>0, IF(T61/COUNTRY_INFO!E61*100>100,100,T61/COUNTRY_INFO!E61*100), \"-\"),0)","v":0},{"$f":"IF(AND(COUNTRY_INFO!J61>1,COUNTRY_INFO!J61<4),IF(COUNTRY_INFO!F61>MAX('MDA1'!K61,'MDA2'!K61,'T1'!M61,MAX(T3_R1!L61,T3_R2!L61)),MAX('MDA1'!K61,'MDA2'!K61,'T1'!M61,MAX(T3_R1!L61,T3_R2!L61)),COUNTRY_INFO!F61),0)","v":0},{"$f":"IF(AND(COUNTRY_INFO!J61>1,COUNTRY_INFO!J61<4), IF(V61/COUNTRY_INFO!F61*100<>0, IF(V61/COUNTRY_INFO!F61*100>100,100,V61/COUNTRY_INFO!F61*100), \"-\"),0)","v":0},0,{"$f":"IF(AND(COUNTRY_INFO!J61>1,COUNTRY_INFO!J61<4), IF(S61/P61*100<>0, IF(X61/P61*100>100,100,X61/P61*100), \"-\"),0)","v":0},{"$f":"COUNTRY_INFO!O61","v":1506.7},null,null,{"$f":"MAX('T1'!L61,'T2'!J61)+MAX('T1'!M61,'T2'!K61)+MAX('T1'!N61,'T2'!L61)","v":1554},{"$f":"IF(COUNTRY_INFO!K61=1,IF(COUNTRY_INFO!F61*0.33>MAX('T1'!M61,'T2'!K61),MAX('T1'!M61,'T2'!K61),COUNTRY_INFO!F61*0.33),IF(COUNTRY_INFO!K61=2,IF(COUNTRY_INFO!F61*0.5>MAX('T1'!M61,'T2'!K61),MAX('T1'!M61,'T2'!K61),COUNTRY_INFO!F61*0.5),IF(COUNTRY_INFO!K61=3,IF(COUNTRY_INFO!F61>MAX('T1'!M61,'T2'!K61),MAX('T1'!M61,'T2'!K61),COUNTRY_INFO!F61),0)))","v":799.5},{"$f":"IF(AND(COUNTRY_INFO!K61>0,COUNTRY_INFO!K61<4),IF(Z61>0,IF(COUNTRY_INFO!K61=1, AD61/(COUNTRY_INFO!F61*0.33)*100, IF(COUNTRY_INFO!K61=2, AD61/(COUNTRY_INFO!F61*0.5)*100, IF(COUNTRY_INFO!K61=3, AD61/COUNTRY_INFO!F61*100))),\"-\"),0)","v":100},{"$f":"IF(COUNTRY_INFO!K61=2,IF(COUNTRY_INFO!G61*0.2>MAX('T1'!N61,'T2'!L61),MAX('T1'!N61,'T2'!L61),COUNTRY_INFO!G61*0.2),IF(COUNTRY_INFO!K61=3,IF(COUNTRY_INFO!G61>MAX('T1'!N61,'T2'!L61),MAX('T1'!N61,'T2'!L61),COUNTRY_INFO!G61),0))","v":0},{"$f":"IF(AND(COUNTRY_INFO!K61>0,COUNTRY_INFO!K61<4),IF(Z61>0,IF(COUNTRY_INFO!K61=1, 0, IF(COUNTRY_INFO!K61=2, AF61/(COUNTRY_INFO!G61*0.2)*100, IF(COUNTRY_INFO!K61=3, AF61/COUNTRY_INFO!G61*100))),\"-\"),0)","v":0},799.5,{"$f":"IF(AND(COUNTRY_INFO!K61>0,COUNTRY_INFO!K61<4), IF(AC61/Z61*100<>0, IF(AH61/Z61*100>100,100,AH61/Z61*100), \"-\"),0)","v":53.062985332182912},null,{"$f":"IF(AND(D61<>0, D61<>\"Inconnu\",D61<>\"Interrompu\",D61<>\"Non requis\"),D61/COUNTRY_INFO!D61, 0)","v":1},{"$f":"IF(AND(J61<>0,J61<>\"Inconnu\",J61<>\"Interrompu\",J61<>\"Non requis\"),J61/COUNTRY_INFO!D61, 0)","v":1},{"$f":"IF(AND(P61<>0,P61<>\"Inconnu\",P61<>\"Non requis\"),P61/(COUNTRY_INFO!E61+COUNTRY_INFO!F61), 0)","v":0},{"$f":"IF(AND(Z61<>0,Z61<>\"Inconnu\",Z61<>\"Non requis\"),IF(COUNTRY_INFO!K61=1,1,IF(COUNTRY_INFO!K61=2,0.5*COUNTRY_INFO!F61/(0.5*COUNTRY_INFO!F61+0.2*COUNTRY_INFO!G61),IF(COUNTRY_INFO!K61=3,COUNTRY_INFO!F61/(COUNTRY_INFO!F61+COUNTRY_INFO!G61)))),0)","v":0.5306298533218291},{"$f":"IF(AND(Z61<>0,Z61<>\"Inconnu\",Z61<>\"Non requis\"),IF(COUNTRY_INFO!K61=1,0,IF(COUNTRY_INFO!K61=2,0.2*COUNTRY_INFO!G61/(0.5*COUNTRY_INFO!F61+0.2*COUNTRY_INFO!G61),IF(COUNTRY_INFO!K61=3,COUNTRY_INFO!G61/(COUNTRY_INFO!F61+COUNTRY_INFO!G61)))),0)","v":0.46937014667817084},{"$f":"MAX(COUNTRY_INFO!D61*AK61*PROFILE!$G$7,COUNTRY_INFO!D61*AL61*PROFILE!$G$7)","v":276.50841966501167},{"$f":"MAX(COUNTRY_INFO!D61*AK61*PROFILE!$G$8,COUNTRY_INFO!D61*AL61*PROFILE!$G$8,COUNTRY_INFO!D61*AM61*PROFILE!$G$8)","v":830.18908679928984},{"$f":"MAX(COUNTRY_INFO!D61*AK61*PROFILE!$G$9,COUNTRY_INFO!D61*AL61*PROFILE!$G$9,COUNTRY_INFO!D61*AM61*PROFILE!$G$9,IF(AND(DISTRICT!Z61<>\"Inconnu\",Z61<>\"Non requis\"),COUNTRY_INFO!O61*DISTRICT!AN61,0))","v":1599.2064414364986},{"$f":"MAX(COUNTRY_INFO!D61*AK61*PROFILE!$G$10,COUNTRY_INFO!D61*AL61*PROFILE!$G$10,IF(AND(DISTRICT!Z61<>\"Inconnu\",Z61<>\"Non requis\"),COUNTRY_INFO!O61*DISTRICT!AO61,0))","v":3536.0960520991998},6242,0,{"$f":"MAX('MDA2'!J61,'T1'!L61,'T2'!J61,T3_R1!K61,T3_R2!K61)","v":0},{"$f":"MAX('MDA1'!K61,'MDA2'!K61,'MDA3'!I61,'MDA3'!L61,'T1'!M61,'T2'!K61,T3_R1!L61,T3_R2!L61)","v":1554},{"$f":"MAX('MDA1'!L61,'MDA2'!L61,'MDA3'!J61,'MDA3'!M61,'T1'!N61,'T2'!L61,T3_R1!M61,T3_R2!M61)","v":0},1554,{"$f":"MAX('MDA2'!J61,T61)","v":0},{"$f":"MAX('MDA1'!K61,'MDA2'!K61,'MDA3'!I61,'MDA3'!L61,V61,AD61)","v":799.5},{"$f":"MAX('MDA1'!L61,'MDA2'!L61,'MDA3'!J61,'MDA3'!M61,AF61)","v":0},799.5,12.808394745273951]
[{"$f":"IF(COUNTRY_INFO!A62=0,\" \",COUNTRY_INFO!A62)","v":"Guinea Bissau"},{"$f":"IF(COUNTRY_INFO!B62=0,\" \",COUNTRY_INFO!B62)","v":"Gabu"},{"$f":"IF(COUNTRY_INFO!C62=0,\" \",COUNTRY_INFO!C62)","v":"BURUNTUMA"},{"$f":"COUNTRY_INFO!L62","v":12135},null,null,{"$f":"MAX('MDA1'!M62,'MDA2'!M62)","v":0},{"$f":"IF(AND(COUNTRY_INFO!H62>0,COUNTRY_INFO!H62<4),IF(D62>MAX('MDA1'!M62,'MDA2'!M62),MAX('MDA1'!M62,'MDA2'!M62),D62),0)","v":0},{"$f":"IF(AND(COUNTRY_INFO!H62>0,COUNTRY_INFO!H62<4), IF(G62/D62*100<>0, IF(G62/D62*100>100,100,G62/D62*100), \"-\"),0)","v":"-"},{"$f":"COUNTRY_INFO!M62","v":12135},null,null,{"$f":"MAX('MDA1'!M62,MAX('MDA3'!I62,'MDA3'!L62)+MAX('MDA3'!J62,'MDA3'!M62))","v":0},{"$f":"IF(AND(COUNTRY_INFO!I62>0,COUNTRY_INFO!I62<4),IF(J62>MAX('MDA1'!M62,MAX('MDA3'!I62,'MDA3'!L62)+MAX('MDA3'!J62,'MDA3'!M62)),MAX('MDA1'!M62,MAX('MDA3'!I62,'MDA3'!L62)+MAX('MDA3'!J62,'MDA3'!M62)),J62),0)","v":0},{"$f":"IF(AND(COUNTRY_INFO!I62>0,COUNTRY_INFO!I62<4), IF(M62/J62*100<>0, IF(M62/J62*100>100,100,M62/J62*100), \"-\"),0)","v":"-"},{"$f":"COUNTRY_INFO!N62","v":4723},null,null,{"$f":"SUM(MAX('MDA2'!J62, 'T1'!L62, MAX(T3_R1!K62, T3_R2!K62)), MAX('MDA1'!K62, 'MDA2'!K62, 'T1'!M62, MAX(T3_R1!L62, T3_R2!L62)), MAX('MDA1'!L62, 'MDA2'!L62, 'T1'!N62, MAX(T3_R1!M62, T3_R2!M62)))","v":0},{"$f":"IF(AND(COUNTRY_INFO!J62>1,COUNTRY_INFO!J62<4),IF(COUNTRY_INFO!E62>MAX('MDA2'!J62,'T1'!L62,MAX(T3_R1!K62,T3_R2!K62)),MAX('MDA2'!J62,'T1'!L62,MAX(T3_R1!K62,T3_R2!K62)),COUNTRY_INFO!E62),0)","v":0},{"$f":"IF(AND(COUNTRY_INFO!J62>1,COUNTRY_INFO!J62<4), IF(T62/COUNTRY_INFO!E62*100<>0, IF(T62/COUNTRY_INFO!E62*100>100,100,T62/COUNTRY_INFO!E62*100), \"-\"),0)","v":"-"},{"$f":"IF(AND(COUNTRY_INFO!J62>1,COUNTRY_INFO!J62<4),IF(COUNTRY_INFO!F62>MAX('MDA1'!K62,'MDA2'!K62,'T1'!M62,MAX(T3_R1!L62,T3_R2!L62)),MAX('MDA1'!K62,'MDA2'!K62,'T1'!M62,MAX(T3_R1!L62,T3_R2!L62)),COUNTRY_INFO!F62),0)","v":0},{"$f":"IF(AND(COUNTRY_INFO!J62>1,COUNTRY_INFO!J62<4), IF(V62/COUNTRY_INFO!F62*100<>0, IF(V62/COUNTRY_INFO!F62*100>100,100,V62/COUNTRY_INFO!F62*100), \"-\"),0)","v":"-"},0,{"$f":"IF(AND(COUNTRY_INFO!J62>1,COUNTRY_INFO!J62<4), IF(S62/P62*100<>0, IF(X62/P62*100>100,100,X62/P62*100), \"-\"),0)","v":"-"},{"$f":"COUNTRY_INFO!O62","v":1025.97},null,null,{"$f":"MAX('T1'!L62,'T2'!J62)+MAX('T1'!M62,'T2'!K62)+MAX('T1'!N62,'T2'!L62)","v":2797},{"$f":"IF(COUNTRY_INFO!K62=1,IF(COUNTRY_INFO!F62*0.33>MAX('T1'!M62,'T2'!K62),MAX('T1'!M62,'T2'!K62),COUNTRY_INFO!F62*0.33),IF(COUNTRY_INFO!K62=2,IF(COUNTRY_INFO!F62*0.5>MAX('T1'!M62,'T2'!K62),MAX('T1'!M62,'T2'!K62),COUNTRY_INFO!F62*0.5),IF(COUNTRY_INFO!K62=3,IF(COUNTRY_INFO!F62>MAX('T1'!M62,'T2'!K62),MAX('T1'!M62,'T2'!K62),COUNTRY_INFO!F62),0)))","v":1025.97},{"$f":"IF(AND(COUNTRY_INFO!K62>0,COUNTRY_INFO!K62<4),IF(Z62>0,IF(COUNTRY_INFO!K62=1, AD62/(COUNTRY_INFO!F62*0.33)*100, IF(COUNTRY_INFO!K62=2, AD62/(COUNTRY_INFO!F62*0.5)*100, IF(COUNTRY_INFO!K62=3, AD62/COUNTRY_INFO!F62*100))),\"-\"),0)","v":100},{"$f":"IF(COUNTRY_INFO!K62=2,IF(COUNTRY_INFO!G62*0.2>MAX('T1'!N62,'T2'!L62),MAX('T1'!N62,'T2'!L62),COUNTRY_INFO!G62*0.2),IF(COUNTRY_INFO!K62=3,IF(COUNTRY_INFO!G62>MAX('T1'!N62,'T2'!L62),MAX('T1'!N62,'T2'!L62),COUNTRY_INFO!G62),0))","v":0},{"$f":"IF(AND(COUNTRY_INFO!K62>0,COUNTRY_INFO!K62<4),IF(Z62>0,IF(COUNTRY_INFO!K62=1, 0, IF(COUNTRY_INFO!K62=2, AF62/(COUNTRY_INFO!G62*0.2)*100, IF(COUNTRY_INFO!K62=3, AF62/COUNTRY_INFO!G62*100))),\"-\"),0)","v":0},1025.97,{"$f":"IF(AND(COUNTRY_INFO!K62>0,COUNTRY_INFO!K62<4), IF(AC62/Z62*100<>0, IF(AH62/Z62*100>100,100,AH62/Z62*100), \"-\"),0)","v":100},null,{"$f":"IF(AND(D62<>0, D62<>\"Inconnu\",D62<>\"Interrompu\",D62<>\"Non requis\"),D62/COUNTRY_INFO!D62, 0)","v":1},{"$f":"IF(AND(J62<>0,J62<>\"Inconnu\",J62<>\"Interrompu\",J62<>\"Non requis\"),J62/COUNTRY_INFO!D62, 0)","v":1},{"$f":"IF(AND(P62<>0,P62<>\"Inconnu\",P62<>\"Non requis\"),P62/(COUNTRY_INFO!E62+COUNTRY_INFO!F62), 0)","v":1},{"$f":"IF(AND(Z62<>0,Z62<>\"Inconnu\",Z62<>\"Non requis\"),IF(COUNTRY_INFO!K62=1,1,IF(COUNTRY_INFO!K62=2,0.5*COUNTRY_INFO!F62/(0.5*COUNTRY_INFO!F62+0.2*COUNTRY_INFO!G62),IF(COUNTRY_INFO!K62=3,COUNTRY_INFO!F62/(COUNTRY_INFO!F62+COUNTRY_INFO!G62)))),0)","v":1},{"$f":"IF(AND(Z62<>0,Z62<>\"Inconnu\",Z62<>\"Non requis\"),IF(COUNTRY_INFO!K62=1,0,IF(COUNTRY_INFO!K62=2,0.2*COUNTRY_INFO!G62/(0.5*COUNTRY_INFO!F62+0.2*COUNTRY_INFO!G62),IF(COUNTRY_INFO!K62=3,COUNTRY_INFO!G62/(COUNTRY_INFO!F62+COUNTRY_INFO!G62)))),0)","v":0},{"$f":"MAX(COUNTRY_INFO!D62*AK62*PROFILE!$G$7,COUNTRY_INFO!D62*AL62*PROFILE!$G$7)","v":537.5568203516367},{"$f":"MAX(COUNTRY_INFO!D62*AK62*PROFILE!$G$8,COUNTRY_INFO!D62*AL62*PROFILE!$G$8,COUNTRY_INFO!D62*AM62*PROFILE!$G$8)","v":1613.9610010107949},{"$f":"MAX(COUNTRY_INFO!D62*AK62*PROFILE!$G$9,COUNTRY_INFO!D62*AL62*PROFILE!$G$9,COUNTRY_INFO!D62*AM62*PROFILE!$G$9,IF(AND(DISTRICT!Z62<>\"Inconnu\",Z62<>\"Non requis\"),COUNTRY_INFO!O62*DISTRICT!AN62,0))","v":3108.9987450868166},{"$f":"MAX(COUNTRY_INFO!D62*AK62*PROFILE!$G$10,COUNTRY_INFO!D62*AL62*PROFILE!$G$10,IF(AND(DISTRICT!Z62<>\"Inconnu\",Z62<>\"Non requis\"),COUNTRY_INFO!O62*DISTRICT!AO62,0))","v":6874.4834335507512},12135,0,{"$f":"MAX('MDA2'!J62,'T1'!L62,'T2'!J62,T3_R1!K62,T3_R2!K62)","v":0},{"$f":"MAX('MDA1'!K62,'MDA2'!K62,'MDA3'!I62,'MDA3'!L62,'T1'!M62,'T2'!K62,T3_R1!L62,T3_R2!L62)","v":2797},{"$f":"MAX('MDA1'!L62,'MDA2'!L62,'MDA3'!J62,'MDA3'!M62,'T1'!N62,'T2'!L62,T3_R1!M62,T3_R2!M62)","v":0},2797,{"$f":"MAX('MDA2'!J62,T62)","v":0},{"$f":"MAX('MDA1'!K62,'MDA2'!K62,'MDA3'!I62,'MDA3'!L62,V62,AD62)","v":1025.97},{"$f":"MAX('MDA1'!L62,'MDA2'!L62,'MDA3'!J62,'MDA3'!M62,AF62)","v":0},1025.97,8.4546353522867737]
[{"$f":"IF(COUNTRY_INFO!A63=0,\" \",COUNTRY_INFO!A63)","v":"Guinea Bissau"},{"$f":"IF(COUNTRY_INFO!B63=0,\" \",COUNTRY_INFO!B63)","v":"Gabu"},{"$f":"IF(COUNTRY_INFO!C63=0,\" \",COUNTRY_INFO!C63)","v":"CANJADUDE"},{"$f":"COUNTRY_INFO!L63","v":9021},null,null,{"$f":"MAX('MDA1'!M63,'MDA2'!M63)","v":0},{"$f":"IF(AND(COUNTRY_INFO!H63>0,COUNTRY_INFO!H63<4),IF(D63>MAX('MDA1'!M63,'MDA2'!M63),MAX('MDA1'!M63,'MDA2'!M63),D63),0)","v":0},{"$f":"IF(AND(COUNTRY_INFO!H63>0,COUNTRY_INFO!H63<4), IF(G63/D63*100<>0, IF(G63/D63*100>100,100,G63/D63*100), \"-\"),0)","v":"-"},{"$f":"COUNTRY_INFO!M63","v":9021},null,null,{"$f":"MAX('MDA1'!M63,MAX('MDA3'!I63,'MDA3'!L63)+MAX('MDA3'!J63,'MDA3'!M63))","v":0},{"$f":"IF(AND(COUNTRY_INFO!I63>0,COUNTRY_INFO!I63<4),IF(J63>MAX('MDA1'!M63,MAX('MDA3'!I63,'MDA3'!L63)+MAX('MDA3'!J63,'MDA3'!M63)),MAX('MDA1'!M63,MAX('MDA3'!I63,'MDA3'!L63)+MAX('MDA3'!J63,'MDA3'!M63)),J63),0)","v":0},{"$f":"IF(AND(COUNTRY_INFO!I63>0,COUNTRY_INFO!I63<4), IF(M63/J63*100<>0, IF(M63/J63*100>100,100,M63/J63*100), \"-\"),0)","v":"-"},{"$f":"COUNTRY_INFO!N63","v":0},null,null,{"$f":"SUM(MAX('MDA2'!J63, 'T1'!L63, MAX(T3_R1!K63, T3_R2!K63)), MAX('MDA1'!K63, 'MDA2'!K63, 'T1'!M63, MAX(T3_R1!L63, T3_R2!L63)), MAX('MDA1'!L63, 'MDA2'!L63, 'T1'!N63, MAX(T3_R1!M63, T3_R2!M63)))","v":0},{"$f":"IF(AND(COUNTRY_INFO!J63>1,COUNTRY_INFO!J63<4),IF(COUNTRY_INFO!E63>MAX('MDA2'!J63,'T1'!L63,MAX(T3_R1!K63,T3_R2!K63)),MAX('MDA2'!J63,'T1'!L63,MAX(T3_R1!K63,T3_R2!K63)),COUNTRY_INFO!E63),0)","v":0},{"$f":"IF(AND(COUNTRY_INFO!J63>1,COUNTRY_INFO!J63<4), IF(T63/COUNTRY_INFO!E63*100<>0, IF(T63/COUNTRY_INFO!E63*100>100,100,T63/COUNTRY_INFO!E63*100), \"-\"),0)","v":0},{"$f":"IF(AND(COUNTRY_INFO!J63>1,COUNTRY_INFO!J63<4),IF(COUNTRY_INFO!F63>MAX('MDA1'!K63,'MDA2'!K63,'T1'!M63,MAX(T3_R1!L63,T3_R2!L63)),MAX('MDA1'!K63,'MDA2'!K63,'T1'!M63,MAX(T3_R1!L63,T3_R2!L63)),COUNTRY_INFO!F63),0)","v":0},{"$f":"IF(AND(COUNTRY_INFO!J63>1,COUNTRY_INFO!J63<4), IF(V63/COUNTRY_INFO!F63*100<>0, IF(V63/COUNTRY_INFO!F63*100>100,100,V63/COUNTRY_INFO!F63*100), \"-\"),0)","v":0},0,{"$f":"IF(AND(COUNTRY_INFO!J63>1,COUNTRY_INFO!J63<4), IF(S63/P63*100<>0, IF(X63/P63*100>100,100,X63/P63*100), \"-\"),0)","v":0},{"$f":"COUNTRY_INFO!O63","v":0},null,null,{"$f":"MAX('T1'!L63,'T2'!J63)+MAX('T1'!M63,'T2'!K63)+MAX('T1'!N63,'T2'!L63)","v":2180},{"$f":"IF(COUNTRY_INFO!K63=1,IF(COUNTRY_INFO!F63*0.33>MAX('T1'!M63,'T2'!K63),MAX('T1'!M63,'T2'!K63),COUNTRY_INFO!F63*0.33),IF(COUNTRY_INFO!K63=2,IF(COUNTRY_INFO!F63*0.5>MAX('T1'!M63,'T2'!K63),MAX('T1'!M63,'T2'!K63),COUNTRY_INFO!F63*0.5),IF(COUNTRY_INFO!K63=3,IF(COUNTRY_INFO!F63>MAX('T1'!M63,'T2'!K63),MAX('T1'!M63,'T2'!K63),COUNTRY_INFO!F63),0)))","v":0},{"$f":"IF(AND(COUNTRY_INFO!K63>0,COUNTRY_INFO!K63<4),IF(Z63>0,IF(COUNTRY_INFO!K63=1, AD63/(COUNTRY_INFO!F63*0.33)*100, IF(COUNTRY_INFO!K63=2, AD63/(COUNTRY_INFO!F63*0.5)*100, IF(COUNTRY_INFO!K63=3, AD63/COUNTRY_INFO!F63*100))),\"-\"),0)","v":0},{"$f":"IF(COUNTRY_INFO!K63=2,IF(COUNTRY_INFO!G63*0.2>MAX('T1'!N63,'T2'!L63),MAX('T1'!N63,'T2'!L63),COUNTRY_INFO!G63*0.2),IF(COUNTRY_INFO!K63=3,IF(COUNTRY_INFO!G63>MAX('T1'!N63,'T2'!L63),MAX('T1'!N63,'T2'!L63),COUNTRY_INFO!G63),0))","v":0},{"$f":"IF(AND(COUNTRY_INFO!K63>0,COUNTRY_INFO!K63<4),IF(Z63>0,IF(COUNTRY_INFO!K63=1, 0, IF(COUNTRY_INFO!K63=2, AF63/(COUNTRY_INFO!G63*0.2)*100, IF(COUNTRY_INFO!K63=3, AF63/COUNTRY_INFO!G63*100))),\"-\"),0)","v":0},0,{"$f":"IF(AND(COUNTRY_INFO!K63>0,COUNTRY_INFO!K63<4), IF(AC63/Z63*100<>0, IF(AH63/Z63*100>100,100,AH63/Z63*100), \"-\"),0)","v":0},null,{"$f":"IF(AND(D63<>0, D63<>\"Inconnu\",D63<>\"Interrompu\",D63<>\"Non requis\"),D63/COUNTRY_INFO!D63, 0)","v":1},{"$f":"IF(AND(J63<>0,J63<>\"Inconnu\",J63<>\"Interrompu\",J63<>\"Non requis\"),J63/COUNTRY_INFO!D63, 0)","v":1},{"$f":"IF(AND(P63<>0,P63<>\"Inconnu\",P63<>\"Non requis\"),P63/(COUNTRY_INFO!E63+COUNTRY_INFO!F63), 0)","v":0},{"$f":"IF(AND(Z63<>0,Z63<>\"Inconnu\",Z63<>\"Non requis\"),IF(COUNTRY_INFO!K63=1,1,IF(COUNTRY_INFO!K63=2,0.5*COUNTRY_INFO!F63/(0.5*COUNTRY_INFO!F63+0.2*COUNTRY_INFO!G63),IF(COUNTRY_INFO!K63=3,COUNTRY_INFO!F63/(COUNTRY_INFO!F63+COUNTRY_INFO!G63)))),0)","v":0},{"$f":"IF(AND(Z63<>0,Z63<>\"Inconnu\",Z63<>\"Non requis\"),IF(COUNTRY_INFO!K63=1,0,IF(COUNTRY_INFO!K63=2,0.2*COUNTRY_INFO!G63/(0.5*COUNTRY_INFO!F63+0.2*COUNTRY_INFO!G63),IF(COUNTRY_INFO!K63=3,COUNTRY_INFO!G63/(COUNTRY_INFO!F63+COUNTRY_INFO!G63)))),0)","v":0},{"$f":"MAX(COUNTRY_INFO!D63*AK63*PROFILE!$G$7,COUNTRY_INFO!D63*AL63*PROFILE!$G$7)","v":399.61269685967159},{"$f":"MAX(COUNTRY_INFO!D63*AK63*PROFILE!$G$8,COUNTRY_INFO!D63*AL63*PROFILE!$G$8,COUNTRY_INFO!D63*AM63*PROFILE!$G$8)","v":1199.7974610727961},{"$f":"MAX(COUNTRY_INFO!D63*AK63*PROFILE!$G$9,COUNTRY_INFO!D63*AL63*PROFILE!$G$9,COUNTRY_INFO!D63*AM63*PROFILE!$G$9,IF(AND(DISTRICT!Z63<>\"Inconnu\",Z63<>\"Non requis\"),COUNTRY_INFO!O63*DISTRICT!AN63,0))","v":2311.1889311436485},{"$f":"MAX(COUNTRY_INFO!D63*AK63*PROFILE!$G$10,COUNTRY_INFO!D63*AL63*PROFILE!$G$10,IF(AND(DISTRICT!Z63<>\"Inconnu\",Z63<>\"Non requis\"),COUNTRY_INFO!O63*DISTRICT!AO63,0))","v":5110.4009109238832},9021,0,{"$f":"MAX('MDA2'!J63,'T1'!L63,'T2'!J63,T3_R1!K63,T3_R2!K63)","v":0},{"$f":"MAX('MDA1'!K63,'MDA2'!K63,'MDA3'!I63,'MDA3'!L63,'T1'!M63,'T2'!K63,T3_R1!L63,T3_R2!L63)","v":2180},{"$f":"MAX('MDA1'!L63,'MDA2'!L63,'MDA3'!J63,'MDA3'!M63,'T1'!N63,'T2'!L63,T3_R1!M63,T3_R2!M63)","v":0},2180,{"$f":"MAX('MDA2'!J63,T63)","v":0},{"$f":"MAX('MDA1'!K63,'MDA2'!K63,'MDA3'!I63,'MDA3'!L63,V63,AD63)","v":0},{"$f":"MAX('MDA1'!L63,'MDA2'!L63,'MDA3'!J63,'MDA3'!M63,AF63)","v":0},0,0]
[{"$f":"IF(COUNTRY_INFO!A64=0,\" \",COUNTRY_INFO!A64)","v":"Guinea Bissau"},{"$f":"IF(COUNTRY_INFO!B64=0,\" \",COUNTRY_INFO!B64)","v":"Gabu"},{"$f":"IF(COUNTRY_INFO!C64=0,\" \",COUNTRY_INFO!C64)","v":"CANQUELIFA"},{"$f":"COUNTRY_INFO!L64","v":7401},null,null,{"$f":"MAX('MDA1'!M64,'MDA2'!M64)","v":0},{"$f":"IF(AND(COUNTRY_INFO!H64>0,COUNTRY_INFO!H64<4),IF(D64>MAX('MDA1'!M64,'MDA2'!M64),MAX('MDA1'!M64,'MDA2'!M64),D64),0)","v":0},{"$f":"IF(AND(COUNTRY_INFO!H64>0,COUNTRY_INFO!H64<4), IF(G64/D64*100<>0, IF(G64/D64*100>100,100,G64/D64*100), \"-\"),0)","v":"-"},{"$f":"COUNTRY_INFO!M64","v":7401},null,null,{"$f":"MAX('MDA1'!M64,MAX('MDA3'!I64,'MDA3'!L64)+MAX('MDA3'!J64,'MDA3'!M64))","v":0},{"$f":"IF(AND(COUNTRY_INFO!I64>0,COUNTRY_INFO!I64<4),IF(J64>MAX('MDA1'!M64,MAX('MDA3'!I64,'MDA3'!L64)+MAX('MDA3'!J64,'MDA3'!M64)),MAX('MDA1'!M64,MAX('MDA3'!I64,'MDA3'!L64)+MAX('MDA3'!J64,'MDA3'!M64)),J64),0)","v":0},{"$f":"IF(AND(COUNTRY_INFO!I64>0,COUNTRY_INFO!I64<4), IF(M64/J64*100<>0, IF(M64/J64*100>100,100,M64/J64*100), \"-\"),0)","v":"-"},{"$f":"COUNTRY_INFO!N64","v":2880},null,null,{"$f":"SUM(MAX('MDA2'!J64, 'T1'!L64, MAX(T3_R1!K64, T3_R2!K64)), MAX('MDA1'!K64, 'MDA2'!K64, 'T1'!M64, MAX(T3_R1!L64, T3_R2!L64)), MAX('MDA1'!L64, 'MDA2'!L64, 'T1'!N64, MAX(T3_R1!M64, T3_R2!M64)))","v":0},{"$f":"IF(AND(COUNTRY_INFO!J64>1,COUNTRY_INFO!J64<4),IF(COUNTRY_INFO!E64>MAX('MDA2'!J64,'T1'!L64,MAX(T3_R1!K64,T3_R2!K64)),MAX('MDA2'!J64,'T1'!L64,MAX(T3_R1!K64,T3_R2!K64)),COUNTRY_INFO!E64),0)","v":0},{"$f":"IF(AND(COUNTRY_INFO!J64>1,COUNTRY_INFO!J64<4), IF(T64/COUNTRY_INFO!E64*100<>0, IF(T64/COUNTRY_INFO!E64*100>100,100,T64/COUNTRY_INFO!E64*100), \"-\"),0)","v":"-"},{"$f":"IF(AND(COUNTRY_INFO!J64>1,COUNTRY_INFO!J64<4),IF(COUNTRY_INFO!F64>MAX('MDA1'!K64,'MDA2'!K64,'T1'!M64,MAX(T3_R1!L64,T3_R2!L64)),MAX('MDA1'!K64,'MDA2'!K64,'T1'!M64,MAX(T3_R1!L64,T3_R2!L64)),COUNTRY_INFO!F64),0)","v":0},{"$f":"IF(AND(COUNTRY_INFO!J64>1,COUNTRY_INFO!J64<4), IF(V64/COUNTRY_INFO!F64*100<>0, IF(V64/COUNTRY_INFO!F64*100>100,100,V64/COUNTRY_INFO!F64*100), \"-\"),0)","v":"-"},0,{"$f":"IF(AND(COUNTRY_INFO!J64>1,COUNTRY_INFO!J64<4), IF(S64/P64*100<>0, IF(X64/P64*100>100,100,X64/P64*100), \"-\"),0)","v":"-"},{"$f":"COUNTRY_INFO!O64","v":625.68000000000006},null,null,{"$f":"MAX('T1'!L64,'T2'!J64)+MAX('T1'!M64,'T2'!K64)+MAX('T1'!N64,'T2'!L64)","v":1739},{"$f":"IF(COUNTRY_INFO!K64=1,IF(COUNTRY_INFO!F64*0.33>MAX('T1'!M64,'T2'!K64),MAX('T1'!M64,'T2'!K64),COUNTRY_INFO!F64*0.33),IF(COUNTRY_INFO!K64=2,IF(COUNTRY_INFO!F64*0.5>MAX('T1'!M64,'T2'!K64),MAX('T1'!M64,'T2'!K64),COUNTRY_INFO!F64*0.5),IF(COUNTRY_INFO!K64=3,IF(COUNTRY_INFO!F64>MAX('T1'!M64,'T2'!K64),MAX('T1'!M64,'T2'!K64),COUNTRY_INFO!F64),0)))","v":625.68000000000006},{"$f":"IF(AND(COUNTRY_INFO!K64>0,COUNTRY_INFO!K64<4),IF(Z64>0,IF(COUNTRY_INFO!K64=1, AD64/(COUNTRY_INFO!F64*0.33)*100, IF(COUNTRY_INFO!K64=2, AD64/(COUNTRY_INFO!F64*0.5)*100, IF(COUNTRY_INFO!K64=3, AD64/COUNTRY_INFO!F64*100))),\"-\"),0)","v":100},{"$f":"IF(COUNTRY_INFO!K64=2,IF(COUNTRY_INFO!G64*0.2>MAX('T1'!N64,'T2'!L64),MAX('T1'!N64,'T2'!L64),COUNTRY_INFO!G64*0.2),IF(COUNTRY_INFO!K64=3,IF(COUNTRY_INFO!G64>MAX('T1'!N64,'T2'!L64),MAX('T1'!N64,'T2'!L64),COUNTRY_INFO!G64),0))","v":0},{"$f":"IF(AND(COUNTRY_INFO!K64>0,COUNTRY_INFO!K64<4),IF(Z64>0,IF(COUNTRY_INFO!K64=1, 0, IF(COUNTRY_INFO!K64=2, AF64/(COUNTRY_INFO!G64*0.2)*100, IF(COUNTRY_INFO!K64=3, AF64/COUNTRY_INFO!G64*100))),\"-\"),0)","v":0},625.68000000000006,{"$f":"IF(AND(COUNTRY_INFO!K64>0,COUNTRY_INFO!K64<4), IF(AC64/Z64*100<>0, IF(AH64/Z64*100>100,100,AH64/Z64*100), \"-\"),0)","v":100},null,{"$f":"IF(AND(D64<>0, D64<>\"Inconnu\",D64<>\"Interrompu\",D64<>\"Non requis\"),D64/COUNTRY_INFO!D64, 0)","v":1},{"$f":"IF(AND(J64<>0,J64<>\"Inconnu\",J64<>\"Interrompu\",J64<>\"Non requis\"),J64/COUNTRY_INFO!D64, 0)","v":1},{"$f":"IF(AND(P64<>0,P64<>\"Inconnu\",P64<>\"Non requis\"),P64/(COUNTRY_INFO!E64+COUNTRY_INFO!F64), 0)","v":1},{"$f":"IF(AND(Z64<>0,Z64<>\"Inconnu\",Z64<>\"Non requis\"),IF(COUNTRY_INFO!K64=1,1,IF(COUNTRY_INFO!K64=2,0.5*COUNTRY_INFO!F64/(0.5*COUNTRY_INFO!F64+0.2*COUNTRY_INFO!G64),IF(COUNTRY_INFO!K64=3,COUNTRY_INFO!F64/(COUNTRY_INFO!F64+COUNTRY_INFO!G64)))),0)","v":1},{"$f":"IF(AND(Z64<>0,Z64<>\"Inconnu\",Z64<>\"Non requis\"),IF(COUNTRY_INFO!K64=1,0,IF(COUNTRY_INFO!K64=2,0.2*COUNTRY_INFO!G64/(0.5*COUNTRY_INFO!F64+0.2*COUNTRY_INFO!G64),IF(COUNTRY_INFO!K64=3,COUNTRY_INFO!G64/(COUNTRY_INFO!F64+COUNTRY_INFO!G64)))),0)","v":0},{"$f":"MAX(COUNTRY_INFO!D64*AK64*PROFILE!$G$7,COUNTRY_INFO!D64*AL64*PROFILE!$G$7)","v":327.84985804882268},{"$f":"MAX(COUNTRY_INFO!D64*AK64*PROFILE!$G$8,COUNTRY_INFO!D64*AL64*PROFILE!$G$8,COUNTRY_INFO!D64*AM64*PROFILE!$G$8)","v":984.33665994898172},{"$f":"MAX(COUNTRY_INFO!D64*AK64*PROFILE!$G$9,COUNTRY_INFO!D64*AL64*PROFILE!$G$9,COUNTRY_INFO!D64*AM64*PROFILE!$G$9,IF(AND(DISTRICT!Z64<>\"Inconnu\",Z64<>\"Non requis\"),COUNTRY_INFO!O64*DISTRICT!AN64,0))","v":1896.1433631963355},{"$f":"MAX(COUNTRY_INFO!D64*AK64*PROFILE!$G$10,COUNTRY_INFO!D64*AL64*PROFILE!$G$10,IF(AND(DISTRICT!Z64<>\"Inconnu\",Z64<>\"Non requis\"),COUNTRY_INFO!O64*DISTRICT!AO64,0))","v":4192.6701188058596},7401,0,{"$f":"MAX('MDA2'!J64,'T1'!L64,'T2'!J64,T3_R1!K64,T3_R2!K64)","v":0},{"$f":"MAX('MDA1'!K64,'MDA2'!K64,'MDA3'!I64,'MDA3'!L64,'T1'!M64,'T2'!K64,T3_R1!L64,T3_R2!L64)","v":1739},{"$f":"MAX('MDA1'!L64,'MDA2'!L64,'MDA3'!J64,'MDA3'!M64,'T1'!N64,'T2'!L64,T3_R1!M64,T3_R2!M64)","v":0},1739,{"$f":"MAX('MDA2'!J64,T64)","v":0},{"$f":"MAX('MDA1'!K64,'MDA2'!K64,'MDA3'!I64,'MDA3'!L64,V64,AD64)","v":625.68000000000006},{"$f":"MAX('MDA1'!L64,'MDA2'!L64,'MDA3'!J64,'MDA3'!M64,AF64)","v":0},625.68000000000006,8.4539927036886908]
[{"$f":"IF(COUNTRY_INFO!A65=0,\" \",COUNTRY_INFO!A65)","v":"Guinea Bissau"},{"$f":"IF(COUNTRY_INFO!B65=0,\" \",COUNTRY_INFO!B65)","v":"Gabu"},{"$f":"IF(COUNTRY_INFO!C65=0,\" \",COUNTRY_INFO!C65)","v":"CANSISSE"},{"$f":"COUNTRY_INFO!L65","v":7146},null,null,{"$f":"MAX('MDA1'!M65,'MDA2'!M65)","v":0},{"$f":"IF(AND(COUNTRY_INFO!H65>0,COUNTRY_INFO!H65<4),IF(D65>MAX('MDA1'!M65,'MDA2'!M65),MAX('MDA1'!M65,'MDA2'!M65),D65),0)","v":0},{"$f":"IF(AND(COUNTRY_INFO!H65>0,COUNTRY_INFO!H65<4), IF(G65/D65*100<>0, IF(G65/D65*100>100,100,G65/D65*100), \"-\"),0)","v":"-"},{"$f":"COUNTRY_INFO!M65","v":7146},null,null,{"$f":"MAX('MDA1'!M65,MAX('MDA3'!I65,'MDA3'!L65)+MAX('MDA3'!J65,'MDA3'!M65))","v":0},{"$f":"IF(AND(COUNTRY_INFO!I65>0,COUNTRY_INFO!I65<4),IF(J65>MAX('MDA1'!M65,MAX('MDA3'!I65,'MDA3'!L65)+MAX('MDA3'!J65,'MDA3'!M65)),MAX('MDA1'!M65,MAX('MDA3'!I65,'MDA3'!L65)+MAX('MDA3'!J65,'MDA3'!M65)),J65),0)","v":0},{"$f":"IF(AND(COUNTRY_INFO!I65>0,COUNTRY_INFO!I65<4), IF(M65/J65*100<>0, IF(M65/J65*100>100,100,M65/J65*100), \"-\"),0)","v":"-"},{"$f":"COUNTRY_INFO!N65","v":2781},null,null,{"$f":"SUM(MAX('MDA2'!J65, 'T1'!L65, MAX(T3_R1!K65, T3_R2!K65)), MAX('MDA1'!K65, 'MDA2'!K65, 'T1'!M65, MAX(T3_R1!L65, T3_R2!L65)), MAX('MDA1'!L65, 'MDA2'!L65, 'T1'!N65, MAX(T3_R1!M65, T3_R2!M65)))","v":0},{"$f":"IF(AND(COUNTRY_INFO!J65>1,COUNTRY_INFO!J65<4),IF(COUNTRY_INFO!E65>MAX('MDA2'!J65,'T1'!L65,MAX(T3_R1!K65,T3_R2!K65)),MAX('MDA2'!J65,'T1'!L65,MAX(T3_R1!K65,T3_R2!K65)),COUNTRY_INFO!E65),0)","v":0},{"$f":"IF(AND(COUNTRY_INFO!J65>1,COUNTRY_INFO!J65<4), IF(T65/COUNTRY_INFO!E65*100<>0, IF(T65/COUNTRY_INFO!E65*100>100,100,T65/COUNTRY_INFO!E65*100), \"-\"),0)","v":"-"},{"$f":"IF(AND(COUNTRY_INFO!J65>1,COUNTRY_INFO!J65<4),IF(COUNTRY_INFO!F65>MAX('MDA1'!K65,'MDA2'!K65,'T1'!M65,MAX(T3_R1!L65,T3_R2!L65)),MAX('MDA1'!K65,'MDA2'!K65,'T1'!M65,MAX(T3_R1!L65,T3_R2!L65)),COUNTRY_INFO!F65),0)","v":0},{"$f":"IF(AND(COUNTRY_INFO!J65>1,COUNTRY_INFO!J65<4), IF(V65/COUNTRY_INFO!F65*100<>0, IF(V65/COUNTRY_INFO!F65*100>100,100,V65/COUNTRY_INFO!F65*100), \"-\"),0)","v":"-"},0,{"$f":"IF(AND(COUNTRY_INFO!J65>1,COUNTRY_INFO!J65<4), IF(S65/P65*100<>0, IF(X65/P65*100>100,100,X65/P65*100), \"-\"),0)","v":"-"},{"$f":"COUNTRY_INFO!O65","v":1725.1},null,null,{"$f":"MAX('T1'!L65,'T2'!J65)+MAX('T1'!M65,'T2'!K65)+MAX('T1'!N65,'T2'!L65)","v":1701},{"$f":"IF(COUNTRY_INFO!K65=1,IF(COUNTRY_INFO!F65*0.33>MAX('T1'!M65,'T2'!K65),MAX('T1'!M65,'T2'!K65),COUNTRY_INFO!F65*0.33),IF(COUNTRY_INFO!K65=2,IF(COUNTRY_INFO!F65*0.5>MAX('T1'!M65,'T2'!K65),MAX('T1'!M65,'T2'!K65),COUNTRY_INFO!F65*0.5),IF(COUNTRY_INFO!K65=3,IF(COUNTRY_INFO!F65>MAX('T1'!M65,'T2'!K65),MAX('T1'!M65,'T2'!K65),COUNTRY_INFO!F65),0)))","v":915.5},{"$f":"IF(AND(COUNTRY_INFO!K65>0,COUNTRY_INFO!K65<4),IF(Z65>0,IF(COUNTRY_INFO!K65=1, AD65/(COUNTRY_INFO!F65*0.33)*100, IF(COUNTRY_INFO!K65=2, AD65/(COUNTRY_INFO!F65*0.5)*100, IF(COUNTRY_INFO!K65=3, AD65/COUNTRY_INFO!F65*100))),\"-\"),0)","v":100},{"$f":"IF(COUNTRY_INFO!K65=2,IF(COUNTRY_INFO!G65*0.2>MAX('T1'!N65,'T2'!L65),MAX('T1'!N65,'T2'!L65),COUNTRY_INFO!G65*0.2),IF(COUNTRY_INFO!K65=3,IF(COUNTRY_INFO!G65>MAX('T1'!N65,'T2'!L65),MAX('T1'!N65,'T2'!L65),COUNTRY_INFO!G65),0))","v":0},{"$f":"IF(AND(COUNTRY_INFO!K65>0,COUNTRY_INFO!K65<4),IF(Z65>0,IF(COUNTRY_INFO!K65=1, 0, IF(COUNTRY_INFO!K65=2, AF65/(COUNTRY_INFO!G65*0.2)*100, IF(COUNTRY_INFO!K65=3, AF65/COUNTRY_INFO!G65*100))),\"-\"),0)","v":0},915.5,{"$f":"IF(AND(COUNTRY_INFO!K65>0,COUNTRY_INFO!K65<4), IF(AC65/Z65*100<>0, IF(AH65/Z65*100>100,100,AH65/Z65*100), \"-\"),0)","v":53.069387281896709},null,{"$f":"IF(AND(D65<>0, D65<>\"Inconnu\",D65<>\"Interrompu\",D65<>\"Non requis\"),D65/COUNTRY_INFO!D65, 0)","v":1},{"$f":"IF(AND(J65<>0,J65<>\"Inconnu\",J65<>\"Interrompu\",J65<>\"Non requis\"),J65/COUNTRY_INFO!D65, 0)","v":1},{"$f":"IF(AND(P65<>0,P65<>\"Inconnu\",P65<>\"Non requis\"),P65/(COUNTRY_INFO!E65+COUNTRY_INFO!F65), 0)","v":1},{"$f":"IF(AND(Z65<>0,Z65<>\"Inconnu\",Z65<>\"Non requis\"),IF(COUNTRY_INFO!K65=1,1,IF(COUNTRY_INFO!K65=2,0.5*COUNTRY_INFO!F65/(0.5*COUNTRY_INFO!F65+0.2*COUNTRY_INFO!G65),IF(COUNTRY_INFO!K65=3,COUNTRY_INFO!F65/(COUNTRY_INFO!F65+COUNTRY_INFO!G65)))),0)","v":0.53069387281896707},{"$f":"IF(AND(Z65<>0,Z65<>\"Inconnu\",Z65<>\"Non requis\"),IF(COUNTRY_INFO!K65=1,0,IF(COUNTRY_INFO!K65=2,0.2*COUNTRY_INFO!G65/(0.5*COUNTRY_INFO!F65+0.2*COUNTRY_INFO!G65),IF(COUNTRY_INFO!K65=3,COUNTRY_INFO!G65/(COUNTRY_INFO!F65+COUNTRY_INFO!G65)))),0)","v":0.46930612718103304},{"$f":"MAX(COUNTRY_INFO!D65*AK65*PROFILE!$G$7,COUNTRY_INFO!D65*AL65*PROFILE!$G$7)","v":316.55385564341128},{"$f":"MAX(COUNTRY_INFO!D65*AK65*PROFILE!$G$8,COUNTRY_INFO!D65*AL65*PROFILE!$G$8,COUNTRY_INFO!D65*AM65*PROFILE!$G$8)","v":950.42153384615915},{"$f":"MAX(COUNTRY_INFO!D65*AK65*PROFILE!$G$9,COUNTRY_INFO!D65*AL65*PROFILE!$G$9,COUNTRY_INFO!D65*AM65*PROFILE!$G$9,IF(AND(DISTRICT!Z65<>\"Inconnu\",Z65<>\"Non requis\"),COUNTRY_INFO!O65*DISTRICT!AN65,0))","v":1830.8121163898138},{"$f":"MAX(COUNTRY_INFO!D65*AK65*PROFILE!$G$10,COUNTRY_INFO!D65*AL65*PROFILE!$G$10,IF(AND(DISTRICT!Z65<>\"Inconnu\",Z65<>\"Non requis\"),COUNTRY_INFO!O65*DISTRICT!AO65,0))","v":4048.2124941206152},7146,0,{"$f":"MAX('MDA2'!J65,'T1'!L65,'T2'!J65,T3_R1!K65,T3_R2!K65)","v":0},{"$f":"MAX('MDA1'!K65,'MDA2'!K65,'MDA3'!I65,'MDA3'!L65,'T1'!M65,'T2'!K65,T3_R1!L65,T3_R2!L65)","v":1701},{"$f":"MAX('MDA1'!L65,'MDA2'!L65,'MDA3'!J65,'MDA3'!M65,'T1'!N65,'T2'!L65,T3_R1!M65,T3_R2!M65)","v":0},1701,{"$f":"MAX('MDA2'!J65,T65)","v":0},{"$f":"MAX('MDA1'!K65,'MDA2'!K65,'MDA3'!I65,'MDA3'!L65,V65,AD65)","v":915.5},{"$f":"MAX('MDA1'!L65,'MDA2'!L65,'MDA3'!J65,'MDA3'!M65,AF65)","v":0},915.5,12.811363000279878]
[{"$f":"IF(COUNTRY_INFO!A66=0,\" \",COUNTRY_INFO!A66)","v":"Guinea Bissau"},{"$f":"IF(COUNTRY_INFO!B66=0,\" \",COUNTRY_INFO!B66)","v":"Gabu"},{"$f":"IF(COUNTRY_INFO!C66=0,\" \",COUNTRY_INFO!C66)","v":"FASSE"},{"$f":"COUNTRY_INFO!L66","v":10844},null,null,{"$f":"MAX('MDA1'!M66,'MDA2'!M66)","v":0},{"$f":"IF(AND(COUNTRY_INFO!H66>0,COUNTRY_INFO!H66<4),IF(D66>MAX('MDA1'!M66,'MDA2'!M66),MAX('MDA1'!M66,'MDA2'!M66),D66),0)","v":0},{"$f":"IF(AND(COUNTRY_INFO!H66>0,COUNTRY_INFO!H66<4), IF(G66/D66*100<>0, IF(G66/D66*100>100,100,G66/D66*100), \"-\"),0)","v":"-"},{"$f":"COUNTRY_INFO!M66","v":10844},null,null,{"$f":"MAX('MDA1'!M66,MAX('MDA3'!I66,'MDA3'!L66)+MAX('MDA3'!J66,'MDA3'!M66))","v":0},{"$f":"IF(AND(COUNTRY_INFO!I66>0,COUNTRY_INFO!I66<4),IF(J66>MAX('MDA1'!M66,MAX('MDA3'!I66,'MDA3'!L66)+MAX('MDA3'!J66,'MDA3'!M66)),MAX('MDA1'!M66,MAX('MDA3'!I66,'MDA3'!L66)+MAX('MDA3'!J66,'MDA3'!M66)),J66),0)","v":0},{"$f":"IF(AND(COUNTRY_INFO!I66>0,COUNTRY_INFO!I66<4), IF(M66/J66*100<>0, IF(M66/J66*100>100,100,M66/J66*100), \"-\"),0)","v":"-"},{"$f":"COUNTRY_INFO!N66","v":4220},null,null,{"$f":"SUM(MAX('MDA2'!J66, 'T1'!L66, MAX(T3_R1!K66, T3_R2!K66)), MAX('MDA1'!K66, 'MDA2'!K66, 'T1'!M66, MAX(T3_R1!L66, T3_R2!L66)), MAX('MDA1'!L66, 'MDA2'!L66, 'T1'!N66, MAX(T3_R1!M66, T3_R2!M66)))","v":0},{"$f":"IF(AND(COUNTRY_INFO!J66>1,COUNTRY_INFO!J66<4),IF(COUNTRY_INFO!E66>MAX('MDA2'!J66,'T1'!L66,MAX(T3_R1!K66,T3_R2!K66)),MAX('MDA2'!J66,'T1'!L66,MAX(T3_R1!K66,T3_R2!K66)),COUNTRY_INFO!E66),0)","v":0},{"$f":"IF(AND(COUNTRY_INFO!J66>1,COUNTRY_INFO!J66<4), IF(T66/COUNTRY_INFO!E66*100<>0, IF(T66/COUNTRY_INFO!E66*100>100,100,T66/COUNTRY_INFO!E66*100), \"-\"),0)","v":"-"},{"$f":"IF(AND(COUNTRY_INFO!J66>1,COUNTRY_INFO!J66<4),IF(COUNTRY_INFO!F66>MAX('MDA1'!K66,'MDA2'!K66,'T1'!M66,MAX(T3_R1!L66,T3_R2!L66)),MAX('MDA1'!K66,'MDA2'!K66,'T1'!M66,MAX(T3_R1!L66,T3_R2!L66)),COUNTRY_INFO!F66),0)","v":0},{"$f":"IF(AND(COUNTRY_INFO!J66>1,COUNTRY_INFO!J66<4), IF(V66/COUNTRY_INFO!F66*100<>0, IF(V66/COUNTRY_INFO!F66*100>100,100,V66/COUNTRY_INFO!F66*100), \"-\"),0)","v":"-"},0,{"$f":"IF(AND(COUNTRY_INFO!J66>1,COUNTRY_INFO!J66<4), IF(S66/P66*100<>0, IF(X66/P66*100>100,100,X66/P66*100), \"-\"),0)","v":"-"},{"$f":"COUNTRY_INFO!O66","v":2617.6000000000004},null,null,{"$f":"MAX('T1'!L66,'T2'!J66)+MAX('T1'!M66,'T2'!K66)+MAX('T1'!N66,'T2'!L66)","v":2222},{"$f":"IF(COUNTRY_INFO!K66=1,IF(COUNTRY_INFO!F66*0.33>MAX('T1'!M66,'T2'!K66),MAX('T1'!M66,'T2'!K66),COUNTRY_INFO!F66*0.33),IF(COUNTRY_INFO!K66=2,IF(COUNTRY_INFO!F66*0.5>MAX('T1'!M66,'T2'!K66),MAX('T1'!M66,'T2'!K66),COUNTRY_INFO!F66*0.5),IF(COUNTRY_INFO!K66=3,IF(COUNTRY_INFO!F66>MAX('T1'!M66,'T2'!K66),MAX('T1'!M66,'T2'!K66),COUNTRY_INFO!F66),0)))","v":1389},{"$f":"IF(AND(COUNTRY_INFO!K66>0,COUNTRY_INFO!K66<4),IF(Z66>0,IF(COUNTRY_INFO!K66=1, AD66/(COUNTRY_INFO!F66*0.33)*100, IF(COUNTRY_INFO!K66=2, AD66/(COUNTRY_INFO!F66*0.5)*100, IF(COUNTRY_INFO!K66=3, AD66/COUNTRY_INFO!F66*100))),\"-\"),0)","v":100},{"$f":"IF(COUNTRY_INFO!K66=2,IF(COUNTRY_INFO!G66*0.2>MAX('T1'!N66,'T2'!L66),MAX('T1'!N66,'T2'!L66),COUNTRY_INFO!G66*0.2),IF(COUNTRY_INFO!K66=3,IF(COUNTRY_INFO!G66>MAX('T1'!N66,'T2'!L66),MAX('T1'!N66,'T2'!L66),COUNTRY_INFO!G66),0))","v":0},{"$f":"IF(AND(COUNTRY_INFO!K66>0,COUNTRY_INFO!K66<4),IF(Z66>0,IF(COUNTRY_INFO!K66=1, 0, IF(COUNTRY_INFO!K66=2, AF66/(COUNTRY_INFO!G66*0.2)*100, IF(COUNTRY_INFO!K66=3, AF66/COUNTRY_INFO!G66*100))),\"-\"),0)","v":0},1389,{"$f":"IF(AND(COUNTRY_INFO!K66>0,COUNTRY_INFO!K66<4), IF(AC66/Z66*100<>0, IF(AH66/Z66*100>100,100,AH66/Z66*100), \"-\"),0)","v":53.063875305623462},null,{"$f":"IF(AND(D66<>0, D66<>\"Inconnu\",D66<>\"Interrompu\",D66<>\"Non requis\"),D66/COUNTRY_INFO!D66, 0)","v":1},{"$f":"IF(AND(J66<>0,J66<>\"Inconnu\",J66<>\"Interrompu\",J66<>\"Non requis\"),J66/COUNTRY_INFO!D66, 0)","v":1},{"$f":"IF(AND(P66<>0,P66<>\"Inconnu\",P66<>\"Non requis\"),P66/(COUNTRY_INFO!E66+COUNTRY_INFO!F66), 0)","v":1},{"$f":"IF(AND(Z66<>0,Z66<>\"Inconnu\",Z66<>\"Non requis\"),IF(COUNTRY_INFO!K66=1,1,IF(COUNTRY_INFO!K66=2,0.5*COUNTRY_INFO!F66/(0.5*COUNTRY_INFO!F66+0.2*COUNTRY_INFO!G66),IF(COUNTRY_INFO!K66=3,COUNTRY_INFO!F66/(COUNTRY_INFO!F66+COUNTRY_INFO!G66)))),0)","v":0.53063875305623465},{"$f":"IF(AND(Z66<>0,Z66<>\"Inconnu\",Z66<>\"Non requis\"),IF(COUNTRY_INFO!K66=1,0,IF(COUNTRY_INFO!K66=2,0.2*COUNTRY_INFO!G66/(0.5*COUNTRY_INFO!F66+0.2*COUNTRY_INFO!G66),IF(COUNTRY_INFO!K66=3,COUNTRY_INFO!G66/(COUNTRY_INFO!F66+COUNTRY_INFO!G66)))),0)","v":0.46936124694376524},{"$f":"MAX(COUNTRY_INFO!D66*AK66*PROFILE!$G$7,COUNTRY_INFO!D66*AL66*PROFILE!$G$7)","v":480.36803954620098},{"$f":"MAX(COUNTRY_INFO!D66*AK66*PROFILE!$G$8,COUNTRY_INFO!D66*AL66*PROFILE!$G$8,COUNTRY_INFO!D66*AM66*PROFILE!$G$8)","v":1442.2573625843479},{"$f":"MAX(COUNTRY_INFO!D66*AK66*PROFILE!$G$9,COUNTRY_INFO!D66*AL66*PROFILE!$G$9,COUNTRY_INFO!D66*AM66*PROFILE!$G$9,IF(AND(DISTRICT!Z66<>\"Inconnu\",Z66<>\"Non requis\"),COUNTRY_INFO!O66*DISTRICT!AN66,0))","v":2778.2432955683098},{"$f":"MAX(COUNTRY_INFO!D66*AK66*PROFILE!$G$10,COUNTRY_INFO!D66*AL66*PROFILE!$G$10,IF(AND(DISTRICT!Z66<>\"Inconnu\",Z66<>\"Non requis\"),COUNTRY_INFO!O66*DISTRICT!AO66,0))","v":6143.1313023011407},10844,0,{"$f":"MAX('MDA2'!J66,'T1'!L66,'T2'!J66,T3_R1!K66,T3_R2!K66)","v":0},{"$f":"MAX('MDA1'!K66,'MDA2'!K66,'MDA3'!I66,'MDA3'!L66,'T1'!M66,'T2'!K66,T3_R1!L66,T3_R2!L66)","v":2222},{"$f":"MAX('MDA1'!L66,'MDA2'!L66,'MDA3'!J66,'MDA3'!M66,'T1'!N66,'T2'!L66,T3_R1!M66,T3_R2!M66)","v":0},2222,{"$f":"MAX('MDA2'!J66,T66)","v":0},{"$f":"MAX('MDA1'!K66,'MDA2'!K66,'MDA3'!I66,'MDA3'!L66,V66,AD66)","v":1389},{"$f":"MAX('MDA1'!L66,'MDA2'!L66,'MDA3'!J66,'MDA3'!M66,AF66)","v":0},1389,12.808926595352268]
[{"$f":"IF(COUNTRY_INFO!A67=0,\" \",COUNTRY_INFO!A67)","v":"Guinea Bissau"},{"$f":"IF(COUNTRY_INFO!B67=0,\" \",COUNTRY_INFO!B67)","v":"Gabu"},{"$f":"IF(COUNTRY_INFO!C67=0,\" \",COUNTRY_INFO!C67)","v":"PAUNCA"},{"$f":"COUNTRY_INFO!L67","v":18226},null,null,{"$f":"MAX('MDA1'!M67,'MDA2'!M67)","v":0},{"$f":"IF(AND(COUNTRY_INFO!H67>0,COUNTRY_INFO!H67<4),IF(D67>MAX('MDA1'!M67,'MDA2'!M67),MAX('MDA1'!M67,'MDA2'!M67),D67),0)","v":0},{"$f":"IF(AND(COUNTRY_INFO!H67>0,COUNTRY_INFO!H67<4), IF(G67/D67*100<>0, IF(G67/D67*100>100,100,G67/D67*100), \"-\"),0)","v":"-"},{"$f":"COUNTRY_INFO!M67","v":18226},null,null,{"$f":"MAX('MDA1'!M67,MAX('MDA3'!I67,'MDA3'!L67)+MAX('MDA3'!J67,'MDA3'!M67))","v":0},{"$f":"IF(AND(COUNTRY_INFO!I67>0,COUNTRY_INFO!I67<4),IF(J67>MAX('MDA1'!M67,MAX('MDA3'!I67,'MDA3'!L67)+MAX('MDA3'!J67,'MDA3'!M67)),MAX('MDA1'!M67,MAX('MDA3'!I67,'MDA3'!L67)+MAX('MDA3'!J67,'MDA3'!M67)),J67),0)","v":0},{"$f":"IF(AND(COUNTRY_INFO!I67>0,COUNTRY_INFO!I67<4), IF(M67/J67*100<>0, IF(M67/J67*100>100,100,M67/J67*100), \"-\"),0)","v":"-"},{"$f":"COUNTRY_INFO!N67","v":7094},null,null,{"$f":"SUM(MAX('MDA2'!J67, 'T1'!L67, MAX(T3_R1!K67, T3_R2!K67)), MAX('MDA1'!K67, 'MDA2'!K67, 'T1'!M67, MAX(T3_R1!L67, T3_R2!L67)), MAX('MDA1'!L67, 'MDA2'!L67, 'T1'!N67, MAX(T3_R1!M67, T3_R2!M67)))","v":0},{"$f":"IF(AND(COUNTRY_INFO!J67>1,COUNTRY_INFO!J67<4),IF(COUNTRY_INFO!E67>MAX('MDA2'!J67,'T1'!L67,MAX(T3_R1!K67,T3_R2!K67)),MAX('MDA2'!J67,'T1'!L67,MAX(T3_R1!K67,T3_R2!K67)),COUNTRY_INFO!E67),0)","v":0},{"$f":"IF(AND(COUNTRY_INFO!J67>1,COUNTRY_INFO!J67<4), IF(T67/COUNTRY_INFO!E67*100<>0, IF(T67/COUNTRY_INFO!E67*100>100,100,T67/COUNTRY_INFO!E67*100), \"-\"),0)","v":"-"},{"$f":"IF(AND(COUNTRY_INFO!J67>1,COUNTRY_INFO!J67<4),IF(COUNTRY_INFO!F67>MAX('MDA1'!K67,'MDA2'!K67,'T1'!M67,MAX(T3_R1!L67,T3_R2!L67)),MAX('MDA1'!K67,'MDA2'!K67,'T1'!M67,MAX(T3_R1!L67,T3_R2!L67)),COUNTRY_INFO!F67),0)","v":0},{"$f":"IF(AND(COUNTRY_INFO!J67>1,COUNTRY_INFO!J67<4), IF(V67/COUNTRY_INFO!F67*100<>0, IF(V67/COUNTRY_INFO!F67*100>100,100,V67/COUNTRY_INFO!F67*100), \"-\"),0)","v":"-"},0,{"$f":"IF(AND(COUNTRY_INFO!J67>1,COUNTRY_INFO!J67<4), IF(S67/P67*100<>0, IF(X67/P67*100>100,100,X67/P67*100), \"-\"),0)","v":"-"},{"$f":"COUNTRY_INFO!O67","v":1541.1000000000001},null,null,{"$f":"MAX('T1'!L67,'T2'!J67)+MAX('T1'!M67,'T2'!K67)+MAX('T1'!N67,'T2'!L67)","v":4313},{"$f":"IF(COUNTRY_INFO!K67=1,IF(COUNTRY_INFO!F67*0.33>MAX('T1'!M67,'T2'!K67),MAX('T1'!M67,'T2'!K67),COUNTRY_INFO!F67*0.33),IF(COUNTRY_INFO!K67=2,IF(COUNTRY_INFO!F67*0.5>MAX('T1'!M67,'T2'!K67),MAX('T1'!M67,'T2'!K67),COUNTRY_INFO!F67*0.5),IF(COUNTRY_INFO!K67=3,IF(COUNTRY_INFO!F67>MAX('T1'!M67,'T2'!K67),MAX('T1'!M67,'T2'!K67),COUNTRY_INFO!F67),0)))","v":1541.1000000000001},{"$f":"IF(AND(COUNTRY_INFO!K67>0,COUNTRY_INFO!K67<4),IF(Z67>0,IF(COUNTRY_INFO!K67=1, AD67/(COUNTRY_INFO!F67*0.33)*100, IF(COUNTRY_INFO!K67=2, AD67/(COUNTRY_INFO!F67*0.5)*100, IF(COUNTRY_INFO!K67=3, AD67/COUNTRY_INFO!F67*100))),\"-\"),0)","v":100},{"$f":"IF(COUNTRY_INFO!K67=2,IF(COUNTRY_INFO!G67*0.2>MAX('T1'!N67,'T2'!L67),MAX('T1'!N67,'T2'!L67),COUNTRY_INFO!G67*0.2),IF(COUNTRY_INFO!K67=3,IF(COUNTRY_INFO!G67>MAX('T1'!N67,'T2'!L67),MAX('T1'!N67,'T2'!L67),COUNTRY_INFO!G67),0))","v":0},{"$f":"IF(AND(COUNTRY_INFO!K67>0,COUNTRY_INFO!K67<4),IF(Z67>0,IF(COUNTRY_INFO!K67=1, 0, IF(COUNTRY_INFO!K67=2, AF67/(COUNTRY_INFO!G67*0.2)*100, IF(COUNTRY_INFO!K67=3, AF67/COUNTRY_INFO!G67*100))),\"-\"),0)","v":0},1541.1000000000001,{"$f":"IF(AND(COUNTRY_INFO!K67>0,COUNTRY_INFO!K67<4), IF(AC67/Z67*100<>0, IF(AH67/Z67*100>100,100,AH67/Z67*100), \"-\"),0)","v":100},null,{"$f":"IF(AND(D67<>0, D67<>\"Inconnu\",D67<>\"Interrompu\",D67<>\"Non requis\"),D67/COUNTRY_INFO!D67, 0)","v":1},{"$f":"IF(AND(J67<>0,J67<>\"Inconnu\",J67<>\"Interrompu\",J67<>\"Non requis\"),J67/COUNTRY_INFO!D67, 0)","v":1},{"$f":"IF(AND(P67<>0,P67<>\"Inconnu\",P67<>\"Non requis\"),P67/(COUNTRY_INFO!E67+COUNTRY_INFO!F67), 0)","v":1},{"$f":"IF(AND(Z67<>0,Z67<>\"Inconnu\",Z67<>\"Non requis\"),IF(COUNTRY_INFO!K67=1,1,IF(COUNTRY_INFO!K67=2,0.5*COUNTRY_INFO!F67/(0.5*COUNTRY_INFO!F67+0.2*COUNTRY_INFO!G67),IF(COUNTRY_INFO!K67=3,COUNTRY_INFO!F67/(COUNTRY_INFO!F67+COUNTRY_INFO!G67)))),0)","v":1},{"$f":"IF(AND(Z67<>0,Z67<>\"Inconnu\",Z67<>\"Non requis\"),IF(COUNTRY_INFO!K67=1,0,IF(COUNTRY_INFO!K67=2,0.2*COUNTRY_INFO!G67/(0.5*COUNTRY_INFO!F67+0.2*COUNTRY_INFO!G67),IF(COUNTRY_INFO!K67=3,COUNTRY_INFO!G67/(COUNTRY_INFO!F67+COUNTRY_INFO!G67)))),0)","v":0},{"$f":"MAX(COUNTRY_INFO!D67*AK67*PROFILE!$G$7,COUNTRY_INFO!D67*AL67*PROFILE!$G$7)","v":807.37623467069886},{"$f":"MAX(COUNTRY_INFO!D67*AK67*PROFILE!$G$8,COUNTRY_INFO!D67*AL67*PROFILE!$G$8,COUNTRY_INFO!D67*AM67*PROFILE!$G$8)","v":2424.0670131374332},{"$f":"MAX(COUNTRY_INFO!D67*AK67*PROFILE!$G$9,COUNTRY_INFO!D67*AL67*PROFILE!$G$9,COUNTRY_INFO!D67*AM67*PROFILE!$G$9,IF(AND(DISTRICT!Z67<>\"Inconnu\",Z67<>\"Non requis\"),COUNTRY_INFO!O67*DISTRICT!AN67,0))","v":4669.5188403751399},{"$f":"MAX(COUNTRY_INFO!D67*AK67*PROFILE!$G$10,COUNTRY_INFO!D67*AL67*PROFILE!$G$10,IF(AND(DISTRICT!Z67<>\"Inconnu\",Z67<>\"Non requis\"),COUNTRY_INFO!O67*DISTRICT!AO67,0))","v":10325.037911816728},18226,0,{"$f":"MAX('MDA2'!J67,'T1'!L67,'T2'!J67,T3_R1!K67,T3_R2!K67)","v":0},{"$f":"MAX('MDA1'!K67,'MDA2'!K67,'MDA3'!I67,'MDA3'!L67,'T1'!M67,'T2'!K67,T3_R1!L67,T3_R2!L67)","v":4313},{"$f":"MAX('MDA1'!L67,'MDA2'!L67,'MDA3'!J67,'MDA3'!M67,'T1'!N67,'T2'!L67,T3_R1!M67,T3_R2!M67)","v":0},4313,{"$f":"MAX('MDA2'!J67,T67)","v":0},{"$f":"MAX('MDA1'!K67,'MDA2'!K67,'MDA3'!I67,'MDA3'!L67,V67,AD67)","v":1541.1000000000001},{"$f":"MAX('MDA1'!L67,'MDA2'!L67,'MDA3'!J67,'MDA3'!M67,AF67)","v":0},1541.1000000000001,8.4555031274004175]
[{"$f":"IF(COUNTRY_INFO!A68=0,\" \",COUNTRY_INFO!A68)","v":"Guinea Bissau"},{"$f":"IF(COUNTRY_INFO!B68=0,\" \",COUNTRY_INFO!B68)","v":"Gabu"},{"$f":"IF(COUNTRY_INFO!C68=0,\" \",COUNTRY_INFO!C68)","v":"PITCHE"},{"$f":"COUNTRY_INFO!L68","v":23565},null,null,{"$f":"MAX('MDA1'!M68,'MDA2'!M68)","v":0},{"$f":"IF(AND(COUNTRY_INFO!H68>0,COUNTRY_INFO!H68<4),IF(D68>MAX('MDA1'!M68,'MDA2'!M68),MAX('MDA1'!M68,'MDA2'!M68),D68),0)","v":0},{"$f":"IF(AND(COUNTRY_INFO!H68>0,COUNTRY_INFO!H68<4), IF(G68/D68*100<>0, IF(G68/D68*100>100,100,G68/D68*100), \"-\"),0)","v":"-"},{"$f":"COUNTRY_INFO!M68","v":23565},null,null,{"$f":"MAX('MDA1'!M68,MAX('MDA3'!I68,'MDA3'!L68)+MAX('MDA3'!J68,'MDA3'!M68))","v":0},{"$f":"IF(AND(COUNTRY_INFO!I68>0,COUNTRY_INFO!I68<4),IF(J68>MAX('MDA1'!M68,MAX('MDA3'!I68,'MDA3'!L68)+MAX('MDA3'!J68,'MDA3'!M68)),MAX('MDA1'!M68,MAX('MDA3'!I68,'MDA3'!L68)+MAX('MDA3'!J68,'MDA3'!M68)),J68),0)","v":0},{"$f":"IF(AND(COUNTRY_INFO!I68>0,COUNTRY_INFO!I68<4), IF(M68/J68*100<>0, IF(M68/J68*100>100,100,M68/J68*100), \"-\"),0)","v":"-"},{"$f":"COUNTRY_INFO!N68","v":0},null,null,{"$f":"SUM(MAX('MDA2'!J68, 'T1'!L68, MAX(T3_R1!K68, T3_R2!K68)), MAX('MDA1'!K68, 'MDA2'!K68, 'T1'!M68, MAX(T3_R1!L68, T3_R2!L68)), MAX('MDA1'!L68, 'MDA2'!L68, 'T1'!N68, MAX(T3_R1!M68, T3_R2!M68)))","v":0},{"$f":"IF(AND(COUNTRY_INFO!J68>1,COUNTRY_INFO!J68<4),IF(COUNTRY_INFO!E68>MAX('MDA2'!J68,'T1'!L68,MAX(T3_R1!K68,T3_R2!K68)),MAX('MDA2'!J68,'T1'!L68,MAX(T3_R1!K68,T3_R2!K68)),COUNTRY_INFO!E68),0)","v":0},{"$f":"IF(AND(COUNTRY_INFO!J68>1,COUNTRY_INFO!J68<4), IF(T68/COUNTRY_INFO!E68*100<>0, IF(T68/COUNTRY_INFO!E68*100>100,100,T68/COUNTRY_INFO!E68*100), \"-\"),0)","v":0},{"$f":"IF(AND(COUNTRY_INFO!J68>1,COUNTRY_INFO!J68<4),IF(COUNTRY_INFO!F68>MAX('MDA1'!K68,'MDA2'!K68,'T1'!M68,MAX(T3_R1!L68,T3_R2!L68)),MAX('MDA1'!K68,'MDA2'!K68,'T1'!M68,MAX(T3_R1!L68,T3_R2!L68)),COUNTRY_INFO!F68),0)","v":0},{"$f":"IF(AND(COUNTRY_INFO!J68>1,COUNTRY_INFO!J68<4), IF(V68/COUNTRY_INFO!F68*100<>0, IF(V68/COUNTRY_INFO!F68*100>100,100,V68/COUNTRY_INFO!F68*100), \"-\"),0)","v":0},0,{"$f":"IF(AND(COUNTRY_INFO!J68>1,COUNTRY_INFO!J68<4), IF(S68/P68*100<>0, IF(X68/P68*100>100,100,X68/P68*100), \"-\"),0)","v":0},{"$f":"COUNTRY_INFO!O68","v":1992.21},null,null,{"$f":"MAX('T1'!L68,'T2'!J68)+MAX('T1'!M68,'T2'!K68)+MAX('T1'!N68,'T2'!L68)","v":6847},{"$f":"IF(COUNTRY_INFO!K68=1,IF(COUNTRY_INFO!F68*0.33>MAX('T1'!M68,'T2'!K68),MAX('T1'!M68,'T2'!K68),COUNTRY_INFO!F68*0.33),IF(COUNTRY_INFO!K68=2,IF(COUNTRY_INFO!F68*0.5>MAX('T1'!M68,'T2'!K68),MAX('T1'!M68,'T2'!K68),COUNTRY_INFO!F68*0.5),IF(COUNTRY_INFO!K68=3,IF(COUNTRY_INFO!F68>MAX('T1'!M68,'T2'!K68),MAX('T1'!M68,'T2'!K68),COUNTRY_INFO!F68),0)))","v":1992.21},{"$f":"IF(AND(COUNTRY_INFO!K68>0,COUNTRY_INFO!K68<4),IF(Z68>0,IF(COUNTRY_INFO!K68=1, AD68/(COUNTRY_INFO!F68*0.33)*100, IF(COUNTRY_INFO!K68=2, AD68/(COUNTRY_INFO!F68*0.5)*100, IF(COUNTRY_INFO!K68=3, AD68/COUNTRY_INFO!F68*100))),\"-\"),0)","v":100},{"$f":"IF(COUNTRY_INFO!K68=2,IF(COUNTRY_INFO!G68*0.2>MAX('T1'!N68,'T2'!L68),MAX('T1'!N68,'T2'!L68),COUNTRY_INFO!G68*0.2),IF(COUNTRY_INFO!K68=3,IF(COUNTRY_INFO!G68>MAX('T1'!N68,'T2'!L68),MAX('T1'!N68,'T2'!L68),COUNTRY_INFO!G68),0))","v":0},{"$f":"IF(AND(COUNTRY_INFO!K68>0,COUNTRY_INFO!K68<4),IF(Z68>0,IF(COUNTRY_INFO!K68=1, 0, IF(COUNTRY_INFO!K68=2, AF68/(COUNTRY_INFO!G68*0.2)*100, IF(COUNTRY_INFO!K68=3, AF68/COUNTRY_INFO!G68*100))),\"-\"),0)","v":0},1992.21,{"$f":"IF(AND(COUNTRY_INFO!K68>0,COUNTRY_INFO!K68<4), IF(AC68/Z68*100<>0, IF(AH68/Z68*100>100,100,AH68/Z68*100), \"-\"),0)","v":100},null,{"$f":"IF(AND(D68<>0, D68<>\"Inconnu\",D68<>\"Interrompu\",D68<>\"Non requis\"),D68/COUNTRY_INFO!D68, 0)","v":1},{"$f":"IF(AND(J68<>0,J68<>\"Inconnu\",J68<>\"Interrompu\",J68<>\"Non requis\"),J68/COUNTRY_INFO!D68, 0)","v":1},{"$f":"IF(AND(P68<>0,P68<>\"Inconnu\",P68<>\"Non requis\"),P68/(COUNTRY_INFO!E68+COUNTRY_INFO!F68), 0)","v":0},{"$f":"IF(AND(Z68<>0,Z68<>\"Inconnu\",Z68<>\"Non requis\"),IF(COUNTRY_INFO!K68=1,1,IF(COUNTRY_INFO!K68=2,0.5*COUNTRY_INFO!F68/(0.5*COUNTRY_INFO!F68+0.2*COUNTRY_INFO!G68),IF(COUNTRY_INFO!K68=3,COUNTRY_INFO!F68/(COUNTRY_INFO!F68+COUNTRY_INFO!G68)))),0)","v":1},{"$f":"IF(AND(Z68<>0,Z68<>\"Inconnu\",Z68<>\"Non requis\"),IF(COUNTRY_INFO!K68=1,0,IF(COUNTRY_INFO!K68=2,0.2*COUNTRY_INFO!G68/(0.5*COUNTRY_INFO!F68+0.2*COUNTRY_INFO!G68),IF(COUNTRY_INFO!K68=3,COUNTRY_INFO!G68/(COUNTRY_INFO!F68+COUNTRY_INFO!G68)))),0)","v":0},{"$f":"MAX(COUNTRY_INFO!D68*AK68*PROFILE!$G$7,COUNTRY_INFO!D68*AL68*PROFILE!$G$7)","v":1043.8835164059597},{"$f":"MAX(COUNTRY_INFO!D68*AK68*PROFILE!$G$8,COUNTRY_INFO!D68*AL68*PROFILE!$G$8,COUNTRY_INFO!D68*AM68*PROFILE!$G$8)","v":3134.1566533843743},{"$f":"MAX(COUNTRY_INFO!D68*AK68*PROFILE!$G$9,COUNTRY_INFO!D68*AL68*PROFILE!$G$9,COUNTRY_INFO!D68*AM68*PROFILE!$G$9,IF(AND(DISTRICT!Z68<>\"Inconnu\",Z68<>\"Non requis\"),COUNTRY_INFO!O68*DISTRICT!AN68,0))","v":6037.3758078261917},{"$f":"MAX(COUNTRY_INFO!D68*AK68*PROFILE!$G$10,COUNTRY_INFO!D68*AL68*PROFILE!$G$10,IF(AND(DISTRICT!Z68<>\"Inconnu\",Z68<>\"Non requis\"),COUNTRY_INFO!O68*DISTRICT!AO68,0))","v":13349.584022383473},23565,0,{"$f":"MAX('MDA2'!J68,'T1'!L68,'T2'!J68,T3_R1!K68,T3_R2!K68)","v":0},{"$f":"MAX('MDA1'!K68,'MDA2'!K68,'MDA3'!I68,'MDA3'!L68,'T1'!M68,'T2'!K68,T3_R1!L68,T3_R2!L68)","v":6847},{"$f":"MAX('MDA1'!L68,'MDA2'!L68,'MDA3'!J68,'MDA3'!M68,'T1'!N68,'T2'!L68,T3_R1!M68,T3_R2!M68)","v":0},6847,{"$f":"MAX('MDA2'!J68,T68)","v":0},{"$f":"MAX('MDA1'!K68,'MDA2'!K68,'MDA3'!I68,'MDA3'!L68,V68,AD68)","v":1992.21},{"$f":"MAX('MDA1'!L68,'MDA2'!L68,'MDA3'!J68,'MDA3'!M68,AF68)","v":0},1992.21,8.4541056651814142]
[{"$f":"IF(COUNTRY_INFO!A69=0,\" \",COUNTRY_INFO!A69)","v":"Guinea Bissau"},{"$f":"IF(COUNTRY_INFO!B69=0,\" \",COUNTRY_INFO!B69)","v":"Gabu"},{"$f":"IF(COUNTRY_INFO!C69=0,\" \",COUNTRY_INFO!C69)","v":"DARA"},{"$f":"COUNTRY_INFO!L69","v":17549},null,null,{"$f":"MAX('MDA1'!M69,'MDA2'!M69)","v":0},{"$f":"IF(AND(COUNTRY_INFO!H69>0,COUNTRY_INFO!H69<4),IF(D69>MAX('MDA1'!M69,'MDA2'!M69),MAX('MDA1'!M69,'MDA2'!M69),D69),0)","v":0},{"$f":"IF(AND(COUNTRY_INFO!H69>0,COUNTRY_INFO!H69<4), IF(G69/D69*100<>0, IF(G69/D69*100>100,100,G69/D69*100), \"-\"),0)","v":"-"},{"$f":"COUNTRY_INFO!M69","v":17549},null,null,{"$f":"MAX('MDA1'!M69,MAX('MDA3'!I69,'MDA3'!L69)+MAX('MDA3'!J69,'MDA3'!M69))","v":0},{"$f":"IF(AND(COUNTRY_INFO!I69>0,COUNTRY_INFO!I69<4),IF(J69>MAX('MDA1'!M69,MAX('MDA3'!I69,'MDA3'!L69)+MAX('MDA3'!J69,'MDA3'!M69)),MAX('MDA1'!M69,MAX('MDA3'!I69,'MDA3'!L69)+MAX('MDA3'!J69,'MDA3'!M69)),J69),0)","v":0},{"$f":"IF(AND(COUNTRY_INFO!I69>0,COUNTRY_INFO!I69<4), IF(M69/J69*100<>0, IF(M69/J69*100>100,100,M69/J69*100), \"-\"),0)","v":"-"},{"$f":"COUNTRY_INFO!N69","v":6830},null,null,{"$f":"SUM(MAX('MDA2'!J69, 'T1'!L69, MAX(T3_R1!K69, T3_R2!K69)), MAX('MDA1'!K69, 'MDA2'!K69, 'T1'!M69, MAX(T3_R1!L69, T3_R2!L69)), MAX('MDA1'!L69, 'MDA2'!L69, 'T1'!N69, MAX(T3_R1!M69, T3_R2!M69)))","v":0},{"$f":"IF(AND(COUNTRY_INFO!J69>1,COUNTRY_INFO!J69<4),IF(COUNTRY_INFO!E69>MAX('MDA2'!J69,'T1'!L69,MAX(T3_R1!K69,T3_R2!K69)),MAX('MDA2'!J69,'T1'!L69,MAX(T3_R1!K69,T3_R2!K69)),COUNTRY_INFO!E69),0)","v":0},{"$f":"IF(AND(COUNTRY_INFO!J69>1,COUNTRY_INFO!J69<4), IF(T69/COUNTRY_INFO!E69*100<>0, IF(T69/COUNTRY_INFO!E69*100>100,100,T69/COUNTRY_INFO!E69*100), \"-\"),0)","v":"-"},{"$f":"IF(AND(COUNTRY_INFO!J69>1,COUNTRY_INFO!J69<4),IF(COUNTRY_INFO!F69>MAX('MDA1'!K69,'MDA2'!K69,'T1'!M69,MAX(T3_R1!L69,T3_R2!L69)),MAX('MDA1'!K69,'MDA2'!K69,'T1'!M69,MAX(T3_R1!L69,T3_R2!L69)),COUNTRY_INFO!F69),0)","v":0},{"$f":"IF(AND(COUNTRY_INFO!J69>1,COUNTRY_INFO!J69<4), IF(V69/COUNTRY_INFO!F69*100<>0, IF(V69/COUNTRY_INFO!F69*100>100,100,V69/COUNTRY_INFO!F69*100), \"-\"),0)","v":"-"},0,{"$f":"IF(AND(COUNTRY_INFO!J69>1,COUNTRY_INFO!J69<4), IF(S69/P69*100<>0, IF(X69/P69*100>100,100,X69/P69*100), \"-\"),0)","v":"-"},{"$f":"COUNTRY_INFO!O69","v":4236.3999999999996},null,null,{"$f":"MAX('T1'!L69,'T2'!J69)+MAX('T1'!M69,'T2'!K69)+MAX('T1'!N69,'T2'!L69)","v":4300},{"$f":"IF(COUNTRY_INFO!K69=1,IF(COUNTRY_INFO!F69*0.33>MAX('T1'!M69,'T2'!K69),MAX('T1'!M69,'T2'!K69),COUNTRY_INFO!F69*0.33),IF(COUNTRY_INFO!K69=2,IF(COUNTRY_INFO!F69*0.5>MAX('T1'!M69,'T2'!K69),MAX('T1'!M69,'T2'!K69),COUNTRY_INFO!F69*0.5),IF(COUNTRY_INFO!K69=3,IF(COUNTRY_INFO!F69>MAX('T1'!M69,'T2'!K69),MAX('T1'!M69,'T2'!K69),COUNTRY_INFO!F69),0)))","v":2248},{"$f":"IF(AND(COUNTRY_INFO!K69>0,COUNTRY_INFO!K69<4),IF(Z69>0,IF(COUNTRY_INFO!K69=1, AD69/(COUNTRY_INFO!F69*0.33)*100, IF(COUNTRY_INFO!K69=2, AD69/(COUNTRY_INFO!F69*0.5)*100, IF(COUNTRY_INFO!K69=3, AD69/COUNTRY_INFO!F69*100))),\"-\"),0)","v":100},{"$f":"IF(COUNTRY_INFO!K69=2,IF(COUNTRY_INFO!G69*0.2>MAX('T1'!N69,'T2'!L69),MAX('T1'!N69,'T2'!L69),COUNTRY_INFO!G69*0.2),IF(COUNTRY_INFO!K69=3,IF(COUNTRY_INFO!G69>MAX('T1'!N69,'T2'!L69),MAX('T1'!N69,'T2'!L69),COUNTRY_INFO!G69),0))","v":0},{"$f":"IF(AND(COUNTRY_INFO!K69>0,COUNTRY_INFO!K69<4),IF(Z69>0,IF(COUNTRY_INFO!K69=1, 0, IF(COUNTRY_INFO!K69=2, AF69/(COUNTRY_INFO!G69*0.2)*100, IF(COUNTRY_INFO!K69=3, AF69/COUNTRY_INFO!G69*100))),\"-\"),0)","v":0},2248,{"$f":"IF(AND(COUNTRY_INFO!K69>0,COUNTRY_INFO!K69<4), IF(AC69/Z69*100<>0, IF(AH69/Z69*100>100,100,AH69/Z69*100), \"-\"),0)","v":53.063922198092726},null,{"$f":"IF(AND(D69<>0, D69<>\"Inconnu\",D69<>\"Interrompu\",D69<>\"Non requis\"),D69/COUNTRY_INFO!D69, 0)","v":1},{"$f":"IF(AND(J69<>0,J69<>\"Inconnu\",J69<>\"Interrompu\",J69<>\"Non requis\"),J69/COUNTRY_INFO!D69, 0)","v":1},{"$f":"IF(AND(P69<>0,P69<>\"Inconnu\",P69<>\"Non requis\"),P69/(COUNTRY_INFO!E69+COUNTRY_INFO!F69), 0)","v":1},{"$f":"IF(AND(Z69<>0,Z69<>\"Inconnu\",Z69<>\"Non requis\"),IF(COUNTRY_INFO!K69=1,1,IF(COUNTRY_INFO!K69=2,0.5*COUNTRY_INFO!F69/(0.5*COUNTRY_INFO!F69+0.2*COUNTRY_INFO!G69),IF(COUNTRY_INFO!K69=3,COUNTRY_INFO!F69/(COUNTRY_INFO!F69+COUNTRY_INFO!G69)))),0)","v":0.53063922198092728},{"$f":"IF(AND(Z69<>0,Z69<>\"Inconnu\",Z69<>\"Non requis\"),IF(COUNTRY_INFO!K69=1,0,IF(COUNTRY_INFO!K69=2,0.2*COUNTRY_INFO!G69/(0.5*COUNTRY_INFO!F69+0.2*COUNTRY_INFO!G69),IF(COUNTRY_INFO!K69=3,COUNTRY_INFO!G69/(COUNTRY_INFO!F69+COUNTRY_INFO!G69)))),0)","v":0.46936077801907283},{"$f":"MAX(COUNTRY_INFO!D69*AK69*PROFILE!$G$7,COUNTRY_INFO!D69*AL69*PROFILE!$G$7)","v":777.38645573554777},{"$f":"MAX(COUNTRY_INFO!D69*AK69*PROFILE!$G$8,COUNTRY_INFO!D69*AL69*PROFILE!$G$8,COUNTRY_INFO!D69*AM69*PROFILE!$G$8)","v":2334.0256783468017},{"$f":"MAX(COUNTRY_INFO!D69*AK69*PROFILE!$G$9,COUNTRY_INFO!D69*AL69*PROFILE!$G$9,COUNTRY_INFO!D69*AM69*PROFILE!$G$9,IF(AND(DISTRICT!Z69<>\"Inconnu\",Z69<>\"Non requis\"),COUNTRY_INFO!O69*DISTRICT!AN69,0))","v":4496.0707851280222},{"$f":"MAX(COUNTRY_INFO!D69*AK69*PROFILE!$G$10,COUNTRY_INFO!D69*AL69*PROFILE!$G$10,IF(AND(DISTRICT!Z69<>\"Inconnu\",Z69<>\"Non requis\"),COUNTRY_INFO!O69*DISTRICT!AO69,0))","v":9941.5170807896284},17549,0,{"$f":"MAX('MDA2'!J69,'T1'!L69,'T2'!J69,T3_R1!K69,T3_R2!K69)","v":0},{"$f":"MAX('MDA1'!K69,'MDA2'!K69,'MDA3'!I69,'MDA3'!L69,'T1'!M69,'T2'!K69,T3_R1!L69,T3_R2!L69)","v":4300},{"$f":"MAX('MDA1'!L69,'MDA2'!L69,'MDA3'!J69,'MDA3'!M69,'T1'!N69,'T2'!L69,T3_R1!M69,T3_R2!M69)","v":0},4300,{"$f":"MAX('MDA2'!J69,T69)","v":0},{"$f":"MAX('MDA1'!K69,'MDA2'!K69,'MDA3'!I69,'MDA3'!L69,V69,AD69)","v":2248},{"$f":"MAX('MDA1'!L69,'MDA2'!L69,'MDA3'!J69,'MDA3'!M69,AF69)","v":0},2248,12.809846714912531]
[{"$f":"IF(COUNTRY_INFO!A70=0,\" \",COUNTRY_INFO!A70)","v":"Guinea Bissau"},{"$f":"IF(COUNTRY_INFO!B70=0,\" \",COUNTRY_INFO!B70)","v":"Gabu"},{"$f":"IF(COUNTRY_INFO!C70=0,\" \",COUNTRY_INFO!C70)","v":"PIRADA"},{"$f":"COUNTRY_INFO!L70","v":14276},null,null,{"$f":"MAX('MDA1'!M70,'MDA2'!M70)","v":0},{"$f":"IF(AND(COUNTRY_INFO!H70>0,COUNTRY_INFO!H70<4),IF(D70>MAX('MDA1'!M70,'MDA2'!M70),MAX('MDA1'!M70,'MDA2'!M70),D70),0)","v":0},{"$f":"IF(AND(COUNTRY_INFO!H70>0,COUNTRY_INFO!H70<4), IF(G70/D70*100<>0, IF(G70/D70*100>100,100,G70/D70*100), \"-\"),0)","v":"-"},{"$f":"COUNTRY_INFO!M70","v":14276},null,null,{"$f":"MAX('MDA1'!M70,MAX('MDA3'!I70,'MDA3'!L70)+MAX('MDA3'!J70,'MDA3'!M70))","v":0},{"$f":"IF(AND(COUNTRY_INFO!I70>0,COUNTRY_INFO!I70<4),IF(J70>MAX('MDA1'!M70,MAX('MDA3'!I70,'MDA3'!L70)+MAX('MDA3'!J70,'MDA3'!M70)),MAX('MDA1'!M70,MAX('MDA3'!I70,'MDA3'!L70)+MAX('MDA3'!J70,'MDA3'!M70)),J70),0)","v":0},{"$f":"IF(AND(COUNTRY_INFO!I70>0,COUNTRY_INFO!I70<4), IF(M70/J70*100<>0, IF(M70/J70*100>100,100,M70/J70*100), \"-\"),0)","v":"-"},{"$f":"COUNTRY_INFO!N70","v":0},null,null,{"$f":"SUM(MAX('MDA2'!J70, 'T1'!L70, MAX(T3_R1!K70, T3_R2!K70)), MAX('MDA1'!K70, 'MDA2'!K70, 'T1'!M70, MAX(T3_R1!L70, T3_R2!L70)), MAX('MDA1'!L70, 'MDA2'!L70, 'T1'!N70, MAX(T3_R1!M70, T3_R2!M70)))","v":0},{"$f":"IF(AND(COUNTRY_INFO!J70>1,COUNTRY_INFO!J70<4),IF(COUNTRY_INFO!E70>MAX('MDA2'!J70,'T1'!L70,MAX(T3_R1!K70,T3_R2!K70)),MAX('MDA2'!J70,'T1'!L70,MAX(T3_R1!K70,T3_R2!K70)),COUNTRY_INFO!E70),0)","v":0},{"$f":"IF(AND(COUNTRY_INFO!J70>1,COUNTRY_INFO!J70<4), IF(T70/COUNTRY_INFO!E70*100<>0, IF(T70/COUNTRY_INFO!E70*100>100,100,T70/COUNTRY_INFO!E70*100), \"-\"),0)","v":0},{"$f":"IF(AND(COUNTRY_INFO!J70>1,COUNTRY_INFO!J70<4),IF(COUNTRY_INFO!F70>MAX('MDA1'!K70,'MDA2'!K70,'T1'!M70,MAX(T3_R1!L70,T3_R2!L70)),MAX('MDA1'!K70,'MDA2'!K70,'T1'!M70,MAX(T3_R1!L70,T3_R2!L70)),COUNTRY_INFO!F70),0)","v":0},{"$f":"IF(AND(COUNTRY_INFO!J70>1,COUNTRY_INFO!J70<4), IF(V70/COUNTRY_INFO!F70*100<>0, IF(V70/COUNTRY_INFO!F70*100>100,100,V70/COUNTRY_INFO!F70*100), \"-\"),0)","v":0},0,{"$f":"IF(AND(COUNTRY_INFO!J70>1,COUNTRY_INFO!J70<4), IF(S70/P70*100<>0, IF(X70/P70*100>100,100,X70/P70*100), \"-\"),0)","v":0},{"$f":"COUNTRY_INFO!O70","v":1207.1400000000001},null,null,{"$f":"MAX('T1'!L70,'T2'!J70)+MAX('T1'!M70,'T2'!K70)+MAX('T1'!N70,'T2'!L70)","v":3404},{"$f":"IF(COUNTRY_INFO!K70=1,IF(COUNTRY_INFO!F70*0.33>MAX('T1'!M70,'T2'!K70),MAX('T1'!M70,'T2'!K70),COUNTRY_INFO!F70*0.33),IF(COUNTRY_INFO!K70=2,IF(COUNTRY_INFO!F70*0.5>MAX('T1'!M70,'T2'!K70),MAX('T1'!M70,'T2'!K70),COUNTRY_INFO!F70*0.5),IF(COUNTRY_INFO!K70=3,IF(COUNTRY_INFO!F70>MAX('T1'!M70,'T2'!K70),MAX('T1'!M70,'T2'!K70),COUNTRY_INFO!F70),0)))","v":1207.1400000000001},{"$f":"IF(AND(COUNTRY_INFO!K70>0,COUNTRY_INFO!K70<4),IF(Z70>0,IF(COUNTRY_INFO!K70=1, AD70/(COUNTRY_INFO!F70*0.33)*100, IF(COUNTRY_INFO!K70=2, AD70/(COUNTRY_INFO!F70*0.5)*100, IF(COUNTRY_INFO!K70=3, AD70/COUNTRY_INFO!F70*100))),\"-\"),0)","v":100},{"$f":"IF(COUNTRY_INFO!K70=2,IF(COUNTRY_INFO!G70*0.2>MAX('T1'!N70,'T2'!L70),MAX('T1'!N70,'T2'!L70),COUNTRY_INFO!G70*0.2),IF(COUNTRY_INFO!K70=3,IF(COUNTRY_INFO!G70>MAX('T1'!N70,'T2'!L70),MAX('T1'!N70,'T2'!L70),COUNTRY_INFO!G70),0))","v":0},{"$f":"IF(AND(COUNTRY_INFO!K70>0,COUNTRY_INFO!K70<4),IF(Z70>0,IF(COUNTRY_INFO!K70=1, 0, IF(COUNTRY_INFO!K70=2, AF70/(COUNTRY_INFO!G70*0.2)*100, IF(COUNTRY_INFO!K70=3, AF70/COUNTRY_INFO!G70*100))),\"-\"),0)","v":0},1207.1400000000001,{"$f":"IF(AND(COUNTRY_INFO!K70>0,COUNTRY_INFO!K70<4), IF(AC70/Z70*100<>0, IF(AH70/Z70*100>100,100,AH70/Z70*100), \"-\"),0)","v":100},null,{"$f":"IF(AND(D70<>0, D70<>\"Inconnu\",D70<>\"Interrompu\",D70<>\"Non requis\"),D70/COUNTRY_INFO!D70, 0)","v":1},{"$f":"IF(AND(J70<>0,J70<>\"Inconnu\",J70<>\"Interrompu\",J70<>\"Non requis\"),J70/COUNTRY_INFO!D70, 0)","v":1},{"$f":"IF(AND(P70<>0,P70<>\"Inconnu\",P70<>\"Non requis\"),P70/(COUNTRY_INFO!E70+COUNTRY_INFO!F70), 0)","v":0},{"$f":"IF(AND(Z70<>0,Z70<>\"Inconnu\",Z70<>\"Non requis\"),IF(COUNTRY_INFO!K70=1,1,IF(COUNTRY_INFO!K70=2,0.5*COUNTRY_INFO!F70/(0.5*COUNTRY_INFO!F70+0.2*COUNTRY_INFO!G70),IF(COUNTRY_INFO!K70=3,COUNTRY_INFO!F70/(COUNTRY_INFO!F70+COUNTRY_INFO!G70)))),0)","v":1},{"$f":"IF(AND(Z70<>0,Z70<>\"Inconnu\",Z70<>\"Non requis\"),IF(COUNTRY_INFO!K70=1,0,IF(COUNTRY_INFO!K70=2,0.2*COUNTRY_INFO!G70/(0.5*COUNTRY_INFO!F70+0.2*COUNTRY_INFO!G70),IF(COUNTRY_INFO!K70=3,COUNTRY_INFO!G70/(COUNTRY_INFO!F70+COUNTRY_INFO!G70)))),0)","v":0},{"$f":"MAX(COUNTRY_INFO!D70*AK70*PROFILE!$G$7,COUNTRY_INFO!D70*AL70*PROFILE!$G$7)","v":632.39894250844384},{"$f":"MAX(COUNTRY_INFO!D70*AK70*PROFILE!$G$8,COUNTRY_INFO!D70*AL70*PROFILE!$G$8,COUNTRY_INFO!D70*AM70*PROFILE!$G$8)","v":1898.7150597799844},{"$f":"MAX(COUNTRY_INFO!D70*AK70*PROFILE!$G$9,COUNTRY_INFO!D70*AL70*PROFILE!$G$9,COUNTRY_INFO!D70*AM70*PROFILE!$G$9,IF(AND(DISTRICT!Z70<>\"Inconnu\",Z70<>\"Non requis\"),COUNTRY_INFO!O70*DISTRICT!AN70,0))","v":3657.5250172937285},{"$f":"MAX(COUNTRY_INFO!D70*AK70*PROFILE!$G$10,COUNTRY_INFO!D70*AL70*PROFILE!$G$10,IF(AND(DISTRICT!Z70<>\"Inconnu\",Z70<>\"Non requis\"),COUNTRY_INFO!O70*DISTRICT!AO70,0))","v":8087.3609804178432},14276,0,{"$f":"MAX('MDA2'!J70,'T1'!L70,'T2'!J70,T3_R1!K70,T3_R2!K70)","v":0},{"$f":"MAX('MDA1'!K70,'MDA2'!K70,'MDA3'!I70,'MDA3'!L70,'T1'!M70,'T2'!K70,T3_R1!L70,T3_R2!L70)","v":3404},{"$f":"MAX('MDA1'!L70,'MDA2'!L70,'MDA3'!J70,'MDA3'!M70,'T1'!N70,'T2'!L70,T3_R1!M70,T3_R2!M70)","v":0},3404,{"$f":"MAX('MDA2'!J70,T70)","v":0},{"$f":"MAX('MDA1'!K70,'MDA2'!K70,'MDA3'!I70,'MDA3'!L70,V70,AD70)","v":1207.1400000000001},{"$f":"MAX('MDA1'!L70,'MDA2'!L70,'MDA3'!J70,'MDA3'!M70,AF70)","v":0},1207.1400000000001,8.4557298963295047]
[{"$f":"IF(COUNTRY_INFO!A71=0,\" \",COUNTRY_INFO!A71)","v":"Guinea Bissau"},{"$f":"IF(COUNTRY_INFO!B71=0,\" \",COUNTRY_INFO!B71)","v":"Gabu"},{"$f":"IF(COUNTRY_INFO!C71=0,\" \",COUNTRY_INFO!C71)","v":"DANDUM"},{"$f":"COUNTRY_INFO!L71","v":4353},null,null,{"$f":"MAX('MDA1'!M71,'MDA2'!M71)","v":0},{"$f":"IF(AND(COUNTRY_INFO!H71>0,COUNTRY_INFO!H71<4),IF(D71>MAX('MDA1'!M71,'MDA2'!M71),MAX('MDA1'!M71,'MDA2'!M71),D71),0)","v":0},{"$f":"IF(AND(COUNTRY_INFO!H71>0,COUNTRY_INFO!H71<4), IF(G71/D71*100<>0, IF(G71/D71*100>100,100,G71/D71*100), \"-\"),0)","v":"-"},{"$f":"COUNTRY_INFO!M71","v":4353},null,null,{"$f":"MAX('MDA1'!M71,MAX('MDA3'!I71,'MDA3'!L71)+MAX('MDA3'!J71,'MDA3'!M71))","v":0},{"$f":"IF(AND(COUNTRY_INFO!I71>0,COUNTRY_INFO!I71<4),IF(J71>MAX('MDA1'!M71,MAX('MDA3'!I71,'MDA3'!L71)+MAX('MDA3'!J71,'MDA3'!M71)),MAX('MDA1'!M71,MAX('MDA3'!I71,'MDA3'!L71)+MAX('MDA3'!J71,'MDA3'!M71)),J71),0)","v":0},{"$f":"IF(AND(COUNTRY_INFO!I71>0,COUNTRY_INFO!I71<4), IF(M71/J71*100<>0, IF(M71/J71*100>100,100,M71/J71*100), \"-\"),0)","v":"-"},{"$f":"COUNTRY_INFO!N71","v":1694},null,null,{"$f":"SUM(MAX('MDA2'!J71, 'T1'!L71, MAX(T3_R1!K71, T3_R2!K71)), MAX('MDA1'!K71, 'MDA2'!K71, 'T1'!M71, MAX(T3_R1!L71, T3_R2!L71)), MAX('MDA1'!L71, 'MDA2'!L71, 'T1'!N71, MAX(T3_R1!M71, T3_R2!M71)))","v":0},{"$f":"IF(AND(COUNTRY_INFO!J71>1,COUNTRY_INFO!J71<4),IF(COUNTRY_INFO!E71>MAX('MDA2'!J71,'T1'!L71,MAX(T3_R1!K71,T3_R2!K71)),MAX('MDA2'!J71,'T1'!L71,MAX(T3_R1!K71,T3_R2!K71)),COUNTRY_INFO!E71),0)","v":0},{"$f":"IF(AND(COUNTRY_INFO!J71>1,COUNTRY_INFO!J71<4), IF(T71/COUNTRY_INFO!E71*100<>0, IF(T71/COUNTRY_INFO!E71*100>100,100,T71/COUNTRY_INFO!E71*100), \"-\"),0)","v":"-"},{"$f":"IF(AND(COUNTRY_INFO!J71>1,COUNTRY_INFO!J71<4),IF(COUNTRY_INFO!F71>MAX('MDA1'!K71,'MDA2'!K71,'T1'!M71,MAX(T3_R1!L71,T3_R2!L71)),MAX('MDA1'!K71,'MDA2'!K71,'T1'!M71,MAX(T3_R1!L71,T3_R2!L71)),COUNTRY_INFO!F71),0)","v":0},{"$f":"IF(AND(COUNTRY_INFO!J71>1,COUNTRY_INFO!J71<4), IF(V71/COUNTRY_INFO!F71*100<>0, IF(V71/COUNTRY_INFO!F71*100>100,100,V71/COUNTRY_INFO!F71*100), \"-\"),0)","v":"-"},0,{"$f":"IF(AND(COUNTRY_INFO!J71>1,COUNTRY_INFO!J71<4), IF(S71/P71*100<>0, IF(X71/P71*100>100,100,X71/P71*100), \"-\"),0)","v":"-"},{"$f":"COUNTRY_INFO!O71","v":1050.7},null,null,{"$f":"MAX('T1'!L71,'T2'!J71)+MAX('T1'!M71,'T2'!K71)+MAX('T1'!N71,'T2'!L71)","v":1272},{"$f":"IF(COUNTRY_INFO!K71=1,IF(COUNTRY_INFO!F71*0.33>MAX('T1'!M71,'T2'!K71),MAX('T1'!M71,'T2'!K71),COUNTRY_INFO!F71*0.33),IF(COUNTRY_INFO!K71=2,IF(COUNTRY_INFO!F71*0.5>MAX('T1'!M71,'T2'!K71),MAX('T1'!M71,'T2'!K71),COUNTRY_INFO!F71*0.5),IF(COUNTRY_INFO!K71=3,IF(COUNTRY_INFO!F71>MAX('T1'!M71,'T2'!K71),MAX('T1'!M71,'T2'!K71),COUNTRY_INFO!F71),0)))","v":557.5},{"$f":"IF(AND(COUNTRY_INFO!K71>0,COUNTRY_INFO!K71<4),IF(Z71>0,IF(COUNTRY_INFO!K71=1, AD71/(COUNTRY_INFO!F71*0.33)*100, IF(COUNTRY_INFO!K71=2, AD71/(COUNTRY_INFO!F71*0.5)*100, IF(COUNTRY_INFO!K71=3, AD71/COUNTRY_INFO!F71*100))),\"-\"),0)","v":100},{"$f":"IF(COUNTRY_INFO!K71=2,IF(COUNTRY_INFO!G71*0.2>MAX('T1'!N71,'T2'!L71),MAX('T1'!N71,'T2'!L71),COUNTRY_INFO!G71*0.2),IF(COUNTRY_INFO!K71=3,IF(COUNTRY_INFO!G71>MAX('T1'!N71,'T2'!L71),MAX('T1'!N71,'T2'!L71),COUNTRY_INFO!G71),0))","v":0},{"$f":"IF(AND(COUNTRY_INFO!K71>0,COUNTRY_INFO!K71<4),IF(Z71>0,IF(COUNTRY_INFO!K71=1, 0, IF(COUNTRY_INFO!K71=2, AF71/(COUNTRY_INFO!G71*0.2)*100, IF(COUNTRY_INFO!K71=3, AF71/COUNTRY_INFO!G71*100))),\"-\"),0)","v":0},557.5,{"$f":"IF(AND(COUNTRY_INFO!K71>0,COUNTRY_INFO!K71<4), IF(AC71/Z71*100<>0, IF(AH71/Z71*100>100,100,AH71/Z71*100), \"-\"),0)","v":53.059864852003422},null,{"$f":"IF(AND(D71<>0, D71<>\"Inconnu\",D71<>\"Interrompu\",D71<>\"Non requis\"),D71/COUNTRY_INFO!D71, 0)","v":1},{"$f":"IF(AND(J71<>0,J71<>\"Inconnu\",J71<>\"Interrompu\",J71<>\"Non requis\"),J71/COUNTRY_INFO!D71, 0)","v":1},{"$f":"IF(AND(P71<>0,P71<>\"Inconnu\",P71<>\"Non requis\"),P71/(COUNTRY_INFO!E71+COUNTRY_INFO!F71), 0)","v":1},{"$f":"IF(AND(Z71<>0,Z71<>\"Inconnu\",Z71<>\"Non requis\"),IF(COUNTRY_INFO!K71=1,1,IF(COUNTRY_INFO!K71=2,0.5*COUNTRY_INFO!F71/(0.5*COUNTRY_INFO!F71+0.2*COUNTRY_INFO!G71),IF(COUNTRY_INFO!K71=3,COUNTRY_INFO!F71/(COUNTRY_INFO!F71+COUNTRY_INFO!G71)))),0)","v":0.53059864852003424},{"$f":"IF(AND(Z71<>0,Z71<>\"Inconnu\",Z71<>\"Non requis\"),IF(COUNTRY_INFO!K71=1,0,IF(COUNTRY_INFO!K71=2,0.2*COUNTRY_INFO!G71/(0.5*COUNTRY_INFO!F71+0.2*COUNTRY_INFO!G71),IF(COUNTRY_INFO!K71=3,COUNTRY_INFO!G71/(COUNTRY_INFO!F71+COUNTRY_INFO!G71)))),0)","v":0.46940135147996576},{"$f":"MAX(COUNTRY_INFO!D71*AK71*PROFILE!$G$7,COUNTRY_INFO!D71*AL71*PROFILE!$G$7)","v":192.82940576766993},{"$f":"MAX(COUNTRY_INFO!D71*AK71*PROFILE!$G$8,COUNTRY_INFO!D71*AL71*PROFILE!$G$8,COUNTRY_INFO!D71*AM71*PROFILE!$G$8)","v":578.95115264936055},{"$f":"MAX(COUNTRY_INFO!D71*AK71*PROFILE!$G$9,COUNTRY_INFO!D71*AL71*PROFILE!$G$9,COUNTRY_INFO!D71*AM71*PROFILE!$G$9,IF(AND(DISTRICT!Z71<>\"Inconnu\",Z71<>\"Non requis\"),COUNTRY_INFO!O71*DISTRICT!AN71,0))","v":1115.2428131325021},{"$f":"MAX(COUNTRY_INFO!D71*AK71*PROFILE!$G$10,COUNTRY_INFO!D71*AL71*PROFILE!$G$10,IF(AND(DISTRICT!Z71<>\"Inconnu\",Z71<>\"Non requis\"),COUNTRY_INFO!O71*DISTRICT!AO71,0))","v":2465.9766284504672},4353,0,{"$f":"MAX('MDA2'!J71,'T1'!L71,'T2'!J71,T3_R1!K71,T3_R2!K71)","v":0},{"$f":"MAX('MDA1'!K71,'MDA2'!K71,'MDA3'!I71,'MDA3'!L71,'T1'!M71,'T2'!K71,T3_R1!L71,T3_R2!L71)","v":1272},{"$f":"MAX('MDA1'!L71,'MDA2'!L71,'MDA3'!J71,'MDA3'!M71,'T1'!N71,'T2'!L71,T3_R1!M71,T3_R2!M71)","v":0},1272,{"$f":"MAX('MDA2'!J71,T71)","v":0},{"$f":"MAX('MDA1'!K71,'MDA2'!K71,'MDA3'!I71,'MDA3'!L71,V71,AD71)","v":557.5},{"$f":"MAX('MDA1'!L71,'MDA2'!L71,'MDA3'!J71,'MDA3'!M71,AF71)","v":0},557.5,12.807259361359982]
[{"$f":"IF(COUNTRY_INFO!A72=0,\" \",COUNTRY_INFO!A72)","v":"Guinea Bissau"},{"$f":"IF(COUNTRY_INFO!B72=0,\" \",COUNTRY_INFO!B72)","v":"Gabu"},{"$f":"IF(COUNTRY_INFO!C72=0,\" \",COUNTRY_INFO!C72)","v":"MANSADJAM"},{"$f":"COUNTRY_INFO!L72","v":16471},null,null,{"$f":"MAX('MDA1'!M72,'MDA2'!M72)","v":0},{"$f":"IF(AND(COUNTRY_INFO!H72>0,COUNTRY_INFO!H72<4),IF(D72>MAX('MDA1'!M72,'MDA2'!M72),MAX('MDA1'!M72,'MDA2'!M72),D72),0)","v":0},{"$f":"IF(AND(COUNTRY_INFO!H72>0,COUNTRY_INFO!H72<4), IF(G72/D72*100<>0, IF(G72/D72*100>100,100,G72/D72*100), \"-\"),0)","v":"-"},{"$f":"COUNTRY_INFO!M72","v":16471},null,null,{"$f":"MAX('MDA1'!M72,MAX('MDA3'!I72,'MDA3'!L72)+MAX('MDA3'!J72,'MDA3'!M72))","v":0},{"$f":"IF(AND(COUNTRY_INFO!I72>0,COUNTRY_INFO!I72<4),IF(J72>MAX('MDA1'!M72,MAX('MDA3'!I72,'MDA3'!L72)+MAX('MDA3'!J72,'MDA3'!M72)),MAX('MDA1'!M72,MAX('MDA3'!I72,'MDA3'!L72)+MAX('MDA3'!J72,'MDA3'!M72)),J72),0)","v":0},{"$f":"IF(AND(COUNTRY_INFO!I72>0,COUNTRY_INFO!I72<4), IF(M72/J72*100<>0, IF(M72/J72*100>100,100,M72/J72*100), \"-\"),0)","v":"-"},{"$f":"COUNTRY_INFO!N72","v":6411},null,null,{"$f":"SUM(MAX('MDA2'!J72, 'T1'!L72, MAX(T3_R1!K72, T3_R2!K72)), MAX('MDA1'!K72, 'MDA2'!K72, 'T1'!M72, MAX(T3_R1!L72, T3_R2!L72)), MAX('MDA1'!L72, 'MDA2'!L72, 'T1'!N72, MAX(T3_R1!M72, T3_R2!M72)))","v":0},{"$f":"IF(AND(COUNTRY_INFO!J72>1,COUNTRY_INFO!J72<4),IF(COUNTRY_INFO!E72>MAX('MDA2'!J72,'T1'!L72,MAX(T3_R1!K72,T3_R2!K72)),MAX('MDA2'!J72,'T1'!L72,MAX(T3_R1!K72,T3_R2!K72)),COUNTRY_INFO!E72),0)","v":0},{"$f":"IF(AND(COUNTRY_INFO!J72>1,COUNTRY_INFO!J72<4), IF(T72/COUNTRY_INFO!E72*100<>0, IF(T72/COUNTRY_INFO!E72*100>100,100,T72/COUNTRY_INFO!E72*100), \"-\"),0)","v":"-"},{"$f":"IF(AND(COUNTRY_INFO!J72>1,COUNTRY_INFO!J72<4),IF(COUNTRY_INFO!F72>MAX('MDA1'!K72,'MDA2'!K72,'T1'!M72,MAX(T3_R1!L72,T3_R2!L72)),MAX('MDA1'!K72,'MDA2'!K72,'T1'!M72,MAX(T3_R1!L72,T3_R2!L72)),COUNTRY_INFO!F72),0)","v":0},{"$f":"IF(AND(COUNTRY_INFO!J72>1,COUNTRY_INFO!J72<4), IF(V72/COUNTRY_INFO!F72*100<>0, IF(V72/COUNTRY_INFO!F72*100>100,100,V72/COUNTRY_INFO!F72*100), \"-\"),0)","v":"-"},0,{"$f":"IF(AND(COUNTRY_INFO!J72>1,COUNTRY_INFO!J72<4), IF(S72/P72*100<>0, IF(X72/P72*100>100,100,X72/P72*100), \"-\"),0)","v":"-"},{"$f":"COUNTRY_INFO!O72","v":3976.2},null,null,{"$f":"MAX('T1'!L72,'T2'!J72)+MAX('T1'!M72,'T2'!K72)+MAX('T1'!N72,'T2'!L72)","v":3927},{"$f":"IF(COUNTRY_INFO!K72=1,IF(COUNTRY_INFO!F72*0.33>MAX('T1'!M72,'T2'!K72),MAX('T1'!M72,'T2'!K72),COUNTRY_INFO!F72*0.33),IF(COUNTRY_INFO!K72=2,IF(COUNTRY_INFO!F72*0.5>MAX('T1'!M72,'T2'!K72),MAX('T1'!M72,'T2'!K72),COUNTRY_INFO!F72*0.5),IF(COUNTRY_INFO!K72=3,IF(COUNTRY_INFO!F72>MAX('T1'!M72,'T2'!K72),MAX('T1'!M72,'T2'!K72),COUNTRY_INFO!F72),0)))","v":2110},{"$f":"IF(AND(COUNTRY_INFO!K72>0,COUNTRY_INFO!K72<4),IF(Z72>0,IF(COUNTRY_INFO!K72=1, AD72/(COUNTRY_INFO!F72*0.33)*100, IF(COUNTRY_INFO!K72=2, AD72/(COUNTRY_INFO!F72*0.5)*100, IF(COUNTRY_INFO!K72=3, AD72/COUNTRY_INFO!F72*100))),\"-\"),0)","v":100},{"$f":"IF(COUNTRY_INFO!K72=2,IF(COUNTRY_INFO!G72*0.2>MAX('T1'!N72,'T2'!L72),MAX('T1'!N72,'T2'!L72),COUNTRY_INFO!G72*0.2),IF(COUNTRY_INFO!K72=3,IF(COUNTRY_INFO!G72>MAX('T1'!N72,'T2'!L72),MAX('T1'!N72,'T2'!L72),COUNTRY_INFO!G72),0))","v":0},{"$f":"IF(AND(COUNTRY_INFO!K72>0,COUNTRY_INFO!K72<4),IF(Z72>0,IF(COUNTRY_INFO!K72=1, 0, IF(COUNTRY_INFO!K72=2, AF72/(COUNTRY_INFO!G72*0.2)*100, IF(COUNTRY_INFO!K72=3, AF72/COUNTRY_INFO!G72*100))),\"-\"),0)","v":0},2110,{"$f":"IF(AND(COUNTRY_INFO!K72>0,COUNTRY_INFO!K72<4), IF(AC72/Z72*100<>0, IF(AH72/Z72*100>100,100,AH72/Z72*100), \"-\"),0)","v":53.065741159901414},null,{"$f":"IF(AND(D72<>0, D72<>\"Inconnu\",D72<>\"Interrompu\",D72<>\"Non requis\"),D72/COUNTRY_INFO!D72, 0)","v":1},{"$f":"IF(AND(J72<>0,J72<>\"Inconnu\",J72<>\"Interrompu\",J72<>\"Non requis\"),J72/COUNTRY_INFO!D72, 0)","v":1},{"$f":"IF(AND(P72<>0,P72<>\"Inconnu\",P72<>\"Non requis\"),P72/(COUNTRY_INFO!E72+COUNTRY_INFO!F72), 0)","v":1},{"$f":"IF(AND(Z72<>0,Z72<>\"Inconnu\",Z72<>\"Non requis\"),IF(COUNTRY_INFO!K72=1,1,IF(COUNTRY_INFO!K72=2,0.5*COUNTRY_INFO!F72/(0.5*COUNTRY_INFO!F72+0.2*COUNTRY_INFO!G72),IF(COUNTRY_INFO!K72=3,COUNTRY_INFO!F72/(COUNTRY_INFO!F72+COUNTRY_INFO!G72)))),0)","v":0.53065741159901414},{"$f":"IF(AND(Z72<>0,Z72<>\"Inconnu\",Z72<>\"Non requis\"),IF(COUNTRY_INFO!K72=1,0,IF(COUNTRY_INFO!K72=2,0.2*COUNTRY_INFO!G72/(0.5*COUNTRY_INFO!F72+0.2*COUNTRY_INFO!G72),IF(COUNTRY_INFO!K72=3,COUNTRY_INFO!G72/(COUNTRY_INFO!F72+COUNTRY_INFO!G72)))),0)","v":0.46934258840098592},{"$f":"MAX(COUNTRY_INFO!D72*AK72*PROFILE!$G$7,COUNTRY_INFO!D72*AL72*PROFILE!$G$7)","v":729.63315929227917},{"$f":"MAX(COUNTRY_INFO!D72*AK72*PROFILE!$G$8,COUNTRY_INFO!D72*AL72*PROFILE!$G$8,COUNTRY_INFO!D72*AM72*PROFILE!$G$8)","v":2190.6511452533009},{"$f":"MAX(COUNTRY_INFO!D72*AK72*PROFILE!$G$9,COUNTRY_INFO!D72*AL72*PROFILE!$G$9,COUNTRY_INFO!D72*AM72*PROFILE!$G$9,IF(AND(DISTRICT!Z72<>\"Inconnu\",Z72<>\"Non requis\"),COUNTRY_INFO!O72*DISTRICT!AN72,0))","v":4219.8861417655507},{"$f":"MAX(COUNTRY_INFO!D72*AK72*PROFILE!$G$10,COUNTRY_INFO!D72*AL72*PROFILE!$G$10,IF(AND(DISTRICT!Z72<>\"Inconnu\",Z72<>\"Non requis\"),COUNTRY_INFO!O72*DISTRICT!AO72,0))","v":9330.8295536888691},16471,0,{"$f":"MAX('MDA2'!J72,'T1'!L72,'T2'!J72,T3_R1!K72,T3_R2!K72)","v":0},{"$f":"MAX('MDA1'!K72,'MDA2'!K72,'MDA3'!I72,'MDA3'!L72,'T1'!M72,'T2'!K72,T3_R1!L72,T3_R2!L72)","v":3927},{"$f":"MAX('MDA1'!L72,'MDA2'!L72,'MDA3'!J72,'MDA3'!M72,'T1'!N72,'T2'!L72,T3_R1!M72,T3_R2!M72)","v":0},3927,{"$f":"MAX('MDA2'!J72,T72)","v":0},{"$f":"MAX('MDA1'!K72,'MDA2'!K72,'MDA3'!I72,'MDA3'!L72,V72,AD72)","v":2110},{"$f":"MAX('MDA1'!L72,'MDA2'!L72,'MDA3'!J72,'MDA3'!M72,AF72)","v":0},2110,12.810394025863639]
[{"$f":"IF(COUNTRY_INFO!A73=0,\" \",COUNTRY_INFO!A73)","v":"Guinea Bissau"},{"$f":"IF(COUNTRY_INFO!B73=0,\" \",COUNTRY_INFO!B73)","v":"Gabu"},{"$f":"IF(COUNTRY_INFO!C73=0,\" \",COUNTRY_INFO!C73)","v":"SONACO"},{"$f":"COUNTRY_INFO!L73","v":21338},null,null,{"$f":"MAX('MDA1'!M73,'MDA2'!M73)","v":0},{"$f":"IF(AND(COUNTRY_INFO!H73>0,COUNTRY_INFO!H73<4),IF(D73>MAX('MDA1'!M73,'MDA2'!M73),MAX('MDA1'!M73,'MDA2'!M73),D73),0)","v":0},{"$f":"IF(AND(COUNTRY_INFO!H73>0,COUNTRY_INFO!H73<4), IF(G73/D73*100<>0, IF(G73/D73*100>100,100,G73/D73*100), \"-\"),0)","v":"-"},{"$f":"COUNTRY_INFO!M73","v":21338},null,null,{"$f":"MAX('MDA1'!M73,MAX('MDA3'!I73,'MDA3'!L73)+MAX('MDA3'!J73,'MDA3'!M73))","v":0},{"$f":"IF(AND(COUNTRY_INFO!I73>0,COUNTRY_INFO!I73<4),IF(J73>MAX('MDA1'!M73,MAX('MDA3'!I73,'MDA3'!L73)+MAX('MDA3'!J73,'MDA3'!M73)),MAX('MDA1'!M73,MAX('MDA3'!I73,'MDA3'!L73)+MAX('MDA3'!J73,'MDA3'!M73)),J73),0)","v":0},{"$f":"IF(AND(COUNTRY_INFO!I73>0,COUNTRY_INFO!I73<4), IF(M73/J73*100<>0, IF(M73/J73*100>100,100,M73/J73*100), \"-\"),0)","v":"-"},{"$f":"COUNTRY_INFO!N73","v":0},null,null,{"$f":"SUM(MAX('MDA2'!J73, 'T1'!L73, MAX(T3_R1!K73, T3_R2!K73)), MAX('MDA1'!K73, 'MDA2'!K73, 'T1'!M73, MAX(T3_R1!L73, T3_R2!L73)), MAX('MDA1'!L73, 'MDA2'!L73, 'T1'!N73, MAX(T3_R1!M73, T3_R2!M73)))","v":0},{"$f":"IF(AND(COUNTRY_INFO!J73>1,COUNTRY_INFO!J73<4),IF(COUNTRY_INFO!E73>MAX('MDA2'!J73,'T1'!L73,MAX(T3_R1!K73,T3_R2!K73)),MAX('MDA2'!J73,'T1'!L73,MAX(T3_R1!K73,T3_R2!K73)),COUNTRY_INFO!E73),0)","v":0},{"$f":"IF(AND(COUNTRY_INFO!J73>1,COUNTRY_INFO!J73<4), IF(T73/COUNTRY_INFO!E73*100<>0, IF(T73/COUNTRY_INFO!E73*100>100,100,T73/COUNTRY_INFO!E73*100), \"-\"),0)","v":0},{"$f":"IF(AND(COUNTRY_INFO!J73>1,COUNTRY_INFO!J73<4),IF(COUNTRY_INFO!F73>MAX('MDA1'!K73,'MDA2'!K73,'T1'!M73,MAX(T3_R1!L73,T3_R2!L73)),MAX('MDA1'!K73,'MDA2'!K73,'T1'!M73,MAX(T3_R1!L73,T3_R2!L73)),COUNTRY_INFO!F73),0)","v":0},{"$f":"IF(AND(COUNTRY_INFO!J73>1,COUNTRY_INFO!J73<4), IF(V73/COUNTRY_INFO!F73*100<>0, IF(V73/COUNTRY_INFO!F73*100>100,100,V73/COUNTRY_INFO!F73*100), \"-\"),0)","v":0},0,{"$f":"IF(AND(COUNTRY_INFO!J73>1,COUNTRY_INFO!J73<4), IF(S73/P73*100<>0, IF(X73/P73*100>100,100,X73/P73*100), \"-\"),0)","v":0},{"$f":"COUNTRY_INFO!O73","v":5151.1000000000004},null,null,{"$f":"MAX('T1'!L73,'T2'!J73)+MAX('T1'!M73,'T2'!K73)+MAX('T1'!N73,'T2'!L73)","v":5118},{"$f":"IF(COUNTRY_INFO!K73=1,IF(COUNTRY_INFO!F73*0.33>MAX('T1'!M73,'T2'!K73),MAX('T1'!M73,'T2'!K73),COUNTRY_INFO!F73*0.33),IF(COUNTRY_INFO!K73=2,IF(COUNTRY_INFO!F73*0.5>MAX('T1'!M73,'T2'!K73),MAX('T1'!M73,'T2'!K73),COUNTRY_INFO!F73*0.5),IF(COUNTRY_INFO!K73=3,IF(COUNTRY_INFO!F73>MAX('T1'!M73,'T2'!K73),MAX('T1'!M73,'T2'!K73),COUNTRY_INFO!F73),0)))","v":2733.5},{"$f":"IF(AND(COUNTRY_INFO!K73>0,COUNTRY_INFO!K73<4),IF(Z73>0,IF(COUNTRY_INFO!K73=1, AD73/(COUNTRY_INFO!F73*0.33)*100, IF(COUNTRY_INFO!K73=2, AD73/(COUNTRY_INFO!F73*0.5)*100, IF(COUNTRY_INFO!K73=3, AD73/COUNTRY_INFO!F73*100))),\"-\"),0)","v":100},{"$f":"IF(COUNTRY_INFO!K73=2,IF(COUNTRY_INFO!G73*0.2>MAX('T1'!N73,'T2'!L73),MAX('T1'!N73,'T2'!L73),COUNTRY_INFO!G73*0.2),IF(COUNTRY_INFO!K73=3,IF(COUNTRY_INFO!G73>MAX('T1'!N73,'T2'!L73),MAX('T1'!N73,'T2'!L73),COUNTRY_INFO!G73),0))","v":0},{"$f":"IF(AND(COUNTRY_INFO!K73>0,COUNTRY_INFO!K73<4),IF(Z73>0,IF(COUNTRY_INFO!K73=1, 0, IF(COUNTRY_INFO!K73=2, AF73/(COUNTRY_INFO!G73*0.2)*100, IF(COUNTRY_INFO!K73=3, AF73/COUNTRY_INFO!G73*100))),\"-\"),0)","v":0},2733.5,{"$f":"IF(AND(COUNTRY_INFO!K73>0,COUNTRY_INFO!K73<4), IF(AC73/Z73*100<>0, IF(AH73/Z73*100>100,100,AH73/Z73*100), \"-\"),0)","v":53.066335345848458},null,{"$f":"IF(AND(D73<>0, D73<>\"Inconnu\",D73<>\"Interrompu\",D73<>\"Non requis\"),D73/COUNTRY_INFO!D73, 0)","v":1},{"$f":"IF(AND(J73<>0,J73<>\"Inconnu\",J73<>\"Interrompu\",J73<>\"Non requis\"),J73/COUNTRY_INFO!D73, 0)","v":1},{"$f":"IF(AND(P73<>0,P73<>\"Inconnu\",P73<>\"Non requis\"),P73/(COUNTRY_INFO!E73+COUNTRY_INFO!F73), 0)","v":0},{"$f":"IF(AND(Z73<>0,Z73<>\"Inconnu\",Z73<>\"Non requis\"),IF(COUNTRY_INFO!K73=1,1,IF(COUNTRY_INFO!K73=2,0.5*COUNTRY_INFO!F73/(0.5*COUNTRY_INFO!F73+0.2*COUNTRY_INFO!G73),IF(COUNTRY_INFO!K73=3,COUNTRY_INFO!F73/(COUNTRY_INFO!F73+COUNTRY_INFO!G73)))),0)","v":0.53066335345848459},{"$f":"IF(AND(Z73<>0,Z73<>\"Inconnu\",Z73<>\"Non requis\"),IF(COUNTRY_INFO!K73=1,0,IF(COUNTRY_INFO!K73=2,0.2*COUNTRY_INFO!G73/(0.5*COUNTRY_INFO!F73+0.2*COUNTRY_INFO!G73),IF(COUNTRY_INFO!K73=3,COUNTRY_INFO!G73/(COUNTRY_INFO!F73+COUNTRY_INFO!G73)))),0)","v":0.46933664654151536},{"$f":"MAX(COUNTRY_INFO!D73*AK73*PROFILE!$G$7,COUNTRY_INFO!D73*AL73*PROFILE!$G$7)","v":945.23176206536664},{"$f":"MAX(COUNTRY_INFO!D73*AK73*PROFILE!$G$8,COUNTRY_INFO!D73*AL73*PROFILE!$G$8,COUNTRY_INFO!D73*AM73*PROFILE!$G$8)","v":2837.9645520863901},{"$f":"MAX(COUNTRY_INFO!D73*AK73*PROFILE!$G$9,COUNTRY_INFO!D73*AL73*PROFILE!$G$9,COUNTRY_INFO!D73*AM73*PROFILE!$G$9,IF(AND(DISTRICT!Z73<>\"Inconnu\",Z73<>\"Non requis\"),COUNTRY_INFO!O73*DISTRICT!AN73,0))","v":5466.8162523825704},{"$f":"MAX(COUNTRY_INFO!D73*AK73*PROFILE!$G$10,COUNTRY_INFO!D73*AL73*PROFILE!$G$10,IF(AND(DISTRICT!Z73<>\"Inconnu\",Z73<>\"Non requis\"),COUNTRY_INFO!O73*DISTRICT!AO73,0))","v":12087.987433465672},21338,{"$f":"IF(COUNTIFS(AK73:AN73,\">0\")=0,0, IF(COUNTIFS(AK73:AN73,\">0\")<=IF(AND(OR(D73>=0,D73=\"Non requis\",D73=\"Inconnu\",D73=\"Interrompu\"),D73>0,H73>0),1,0)+IF(AND(OR(J73>=0,J73=\"Non requis\",J73=\"Inconnu\",J73=\"Interrompu\"),J73>0,N73>0),1,0)+IF(AND(OR(P73>=0,P73=\"Non requis\",P73=\"Inconnu\"),P73>0,X73>0),1,0)+IF(AND(OR(Z73>=0,Z73=\"Non requis\",Z73=\"Inconnu\"),Z73>0,AH73>0),1,0),\"Y\",0))","v":0},{"$f":"MAX('MDA2'!J73,'T1'!L73,'T2'!J73,T3_R1!K73,T3_R2!K73)","v":0},{"$f":"MAX('MDA1'!K73,'MDA2'!K73,'MDA3'!I73,'MDA3'!L73,'T1'!M73,'T2'!K73,T3_R1!L73,T3_R2!L73)","v":5118},{"$f":"MAX('MDA1'!L73,'MDA2'!L73,'MDA3'!J73,'MDA3'!M73,'T1'!N73,'T2'!L73,T3_R1!M73,T3_R2!M73)","v":0},5118,{"$f":"MAX('MDA2'!J73,T73)","v":0},{"$f":"MAX('MDA1'!K73,'MDA2'!K73,'MDA3'!I73,'MDA3'!L73,V73,AD73)","v":2733.5},{"$f":"MAX('MDA1'!L73,'MDA2'!L73,'MDA3'!J73,'MDA3'!M73,AF73)","v":0},{"$f":"IF(AT73<SUM(AZ73:BB73), AT73,SUM(AZ73:BB73))","v":2733.5},{"$f":"IF(AT73<>0,BC73/AT73*100,0)","v":12.810478957727996}]
[{"$f":"IF(COUNTRY_INFO!A74=0,\" \",COUNTRY_INFO!A74)","v":"Guinea Bissau"},{"$f":"IF(COUNTRY_INFO!B74=0,\" \",COUNTRY_INFO!B74)","v":"Gabu"},{"$f":"IF(COUNTRY_INFO!C74=0,\" \",COUNTRY_INFO!C74)","v":"LUGADJOLE"},{"$f":"COUNTRY_INFO!L74","v":4775},null,null,{"$f":"MAX('MDA1'!M74,'MDA2'!M74)","v":0},{"$f":"IF(AND(COUNTRY_INFO!H74>0,COUNTRY_INFO!H74<4),IF(D74>MAX('MDA1'!M74,'MDA2'!M74),MAX('MDA1'!M74,'MDA2'!M74),D74),0)","v":0},{"$f":"IF(AND(COUNTRY_INFO!H74>0,COUNTRY_INFO!H74<4), IF(G74/D74*100<>0, IF(G74/D74*100>100,100,G74/D74*100), \"-\"),0)","v":"-"},{"$f":"COUNTRY_INFO!M74","v":4775},null,null,{"$f":"MAX('MDA1'!M74,MAX('MDA3'!I74,'MDA3'!L74)+MAX('MDA3'!J74,'MDA3'!M74))","v":0},{"$f":"IF(AND(COUNTRY_INFO!I74>0,COUNTRY_INFO!I74<4),IF(J74>MAX('MDA1'!M74,MAX('MDA3'!I74,'MDA3'!L74)+MAX('MDA3'!J74,'MDA3'!M74)),MAX('MDA1'!M74,MAX('MDA3'!I74,'MDA3'!L74)+MAX('MDA3'!J74,'MDA3'!M74)),J74),0)","v":0},{"$f":"IF(AND(COUNTRY_INFO!I74>0,COUNTRY_INFO!I74<4), IF(M74/J74*100<>0, IF(M74/J74*100>100,100,M74/J74*100), \"-\"),0)","v":"-"},{"$f":"COUNTRY_INFO!N74","v":1858},null,null,{"$f":"SUM(MAX('MDA2'!J74, 'T1'!L74, MAX(T3_R1!K74, T3_R2!K74)), MAX('MDA1'!K74, 'MDA2'!K74, 'T1'!M74, MAX(T3_R1!L74, T3_R2!L74)), MAX('MDA1'!L74, 'MDA2'!L74, 'T1'!N74, MAX(T3_R1!M74, T3_R2!M74)))","v":0},{"$f":"IF(AND(COUNTRY_INFO!J74>1,COUNTRY_INFO!J74<4),IF(COUNTRY_INFO!E74>MAX('MDA2'!J74,'T1'!L74,MAX(T3_R1!K74,T3_R2!K74)),MAX('MDA2'!J74,'T1'!L74,MAX(T3_R1!K74,T3_R2!K74)),COUNTRY_INFO!E74),0)","v":0},{"$f":"IF(AND(COUNTRY_INFO!J74>1,COUNTRY_INFO!J74<4), IF(T74/COUNTRY_INFO!E74*100<>0, IF(T74/COUNTRY_INFO!E74*100>100,100,T74/COUNTRY_INFO!E74*100), \"-\"),0)","v":"-"},{"$f":"IF(AND(COUNTRY_INFO!J74>1,COUNTRY_INFO!J74<4),IF(COUNTRY_INFO!F74>MAX('MDA1'!K74,'MDA2'!K74,'T1'!M74,MAX(T3_R1!L74,T3_R2!L74)),MAX('MDA1'!K74,'MDA2'!K74,'T1'!M74,MAX(T3_R1!L74,T3_R2!L74)),COUNTRY_INFO!F74),0)","v":0},{"$f":"IF(AND(COUNTRY_INFO!J74>1,COUNTRY_INFO!J74<4), IF(V74/COUNTRY_INFO!F74*100<>0, IF(V74/COUNTRY_INFO!F74*100>100,100,V74/COUNTRY_INFO!F74*100), \"-\"),0)","v":"-"},{"$f":"SUM(T74,V74)","v":0},{"$f":"IF(AND(COUNTRY_INFO!J74>1,COUNTRY_INFO!J74<4), IF(S74/P74*100<>0, IF(X74/P74*100>100,100,X74/P74*100), \"-\"),0)","v":"-"},{"$f":"COUNTRY_INFO!O74","v":1152.5},null,null,{"$f":"MAX('T1'!L74,'T2'!J74)+MAX('T1'!M74,'T2'!K74)+MAX('T1'!N74,'T2'!L74)","v":1132},{"$f":"IF(COUNTRY_INFO!K74=1,IF(COUNTRY_INFO!F74*0.33>MAX('T1'!M74,'T2'!K74),MAX('T1'!M74,'T2'!K74),COUNTRY_INFO!F74*0.33),IF(COUNTRY_INFO!K74=2,IF(COUNTRY_INFO!F74*0.5>MAX('T1'!M74,'T2'!K74),MAX('T1'!M74,'T2'!K74),COUNTRY_INFO!F74*0.5),IF(COUNTRY_INFO!K74=3,IF(COUNTRY_INFO!F74>MAX('T1'!M74,'T2'!K74),MAX('T1'!M74,'T2'!K74),COUNTRY_INFO!F74),0)))","v":611.5},{"$f":"IF(AND(COUNTRY_INFO!K74>0,COUNTRY_INFO!K74<4),IF(Z74>0,IF(COUNTRY_INFO!K74=1, AD74/(COUNTRY_INFO!F74*0.33)*100, IF(COUNTRY_INFO!K74=2, AD74/(COUNTRY_INFO!F74*0.5)*100, IF(COUNTRY_INFO!K74=3, AD74/COUNTRY_INFO!F74*100))),\"-\"),0)","v":100},{"$f":"IF(COUNTRY_INFO!K74=2,IF(COUNTRY_INFO!G74*0.2>MAX('T1'!N74,'T2'!L74),MAX('T1'!N74,'T2'!L74),COUNTRY_INFO!G74*0.2),IF(COUNTRY_INFO!K74=3,IF(COUNTRY_INFO!G74>MAX('T1'!N74,'T2'!L74),MAX('T1'!N74,'T2'!L74),COUNTRY_INFO!G74),0))","v":0},{"$f":"IF(AND(COUNTRY_INFO!K74>0,COUNTRY_INFO!K74<4),IF(Z74>0,IF(COUNTRY_INFO!K74=1, 0, IF(COUNTRY_INFO!K74=2, AF74/(COUNTRY_INFO!G74*0.2)*100, IF(COUNTRY_INFO!K74=3, AF74/COUNTRY_INFO!G74*100))),\"-\"),0)","v":0},{"$f":"SUM(AD74,AF74)","v":611.5},{"$f":"IF(AND(COUNTRY_INFO!K74>0,COUNTRY_INFO!K74<4), IF(AC74/Z74*100<>0, IF(AH74/Z74*100>100,100,AH74/Z74*100), \"-\"),0)","v":53.058568329718},null,{"$f":"IF(AND(D74<>0, D74<>\"Inconnu\",D74<>\"Interrompu\",D74<>\"Non requis\"),D74/COUNTRY_INFO!D74, 0)","v":1},{"$f":"IF(AND(J74<>0,J74<>\"Inconnu\",J74<>\"Interrompu\",J74<>\"Non requis\"),J74/COUNTRY_INFO!D74, 0)","v":1},{"$f":"IF(AND(P74<>0,P74<>\"Inconnu\",P74<>\"Non requis\"),P74/(COUNTRY_INFO!E74+COUNTRY_INFO!F74), 0)","v":1},{"$f":"IF(AND(Z74<>0,Z74<>\"Inconnu\",Z74<>\"Non requis\"),IF(COUNTRY_INFO!K74=1,1,IF(COUNTRY_INFO!K74=2,0.5*COUNTRY_INFO!F74/(0.5*COUNTRY_INFO!F74+0.2*COUNTRY_INFO!G74),IF(COUNTRY_INFO!K74=3,COUNTRY_INFO!F74/(COUNTRY_INFO!F74+COUNTRY_INFO!G74)))),0)","v":0.53058568329718003},{"$f":"IF(AND(Z74<>0,Z74<>\"Inconnu\",Z74<>\"Non requis\"),IF(COUNTRY_INFO!K74=1,0,IF(COUNTRY_INFO!K74=2,0.2*COUNTRY_INFO!G74/(0.5*COUNTRY_INFO!F74+0.2*COUNTRY_INFO!G74),IF(COUNTRY_INFO!K74=3,COUNTRY_INFO!G74/(COUNTRY_INFO!F74+COUNTRY_INFO!G74)))),0)","v":0.46941431670281997},{"$f":"MAX(COUNTRY_INFO!D74*AK74*PROFILE!$G$7,COUNTRY_INFO!D74*AL74*PROFILE!$G$7)","v":211.52318229740959},{"$f":"MAX(COUNTRY_INFO!D74*AK74*PROFILE!$G$8,COUNTRY_INFO!D74*AL74*PROFILE!$G$8,COUNTRY_INFO!D74*AM74*PROFILE!$G$8)","v":635.07736133716901},{"$f":"MAX(COUNTRY_INFO!D74*AK74*PROFILE!$G$9,COUNTRY_INFO!D74*AL74*PROFILE!$G$9,COUNTRY_INFO!D74*AM74*PROFILE!$G$9,IF(AND(DISTRICT!Z74<>\"Inconnu\",Z74<>\"Non requis\"),COUNTRY_INFO!O74*DISTRICT!AN74,0))","v":1223.3596215730984},{"$f":"MAX(COUNTRY_INFO!D74*AK74*PROFILE!$G$10,COUNTRY_INFO!D74*AL74*PROFILE!$G$10,IF(AND(DISTRICT!Z74<>\"Inconnu\",Z74<>\"Non requis\"),COUNTRY_INFO!O74*DISTRICT!AO74,0))","v":2705.0398347923228},{"$f":"SUM(AP74:AS74)","v":4775},0,{"$f":"MAX('MDA2'!J74,'T1'!L74,'T2'!J74,T3_R1!K74,T3_R2!K74)","v":0},{"$f":"MAX('MDA1'!K74,'MDA2'!K74,'MDA3'!I74,'MDA3'!L74,'T1'!M74,'T2'!K74,T3_R1!L74,T3_R2!L74)","v":1132},{"$f":"MAX('MDA1'!L74,'MDA2'!L74,'MDA3'!J74,'MDA3'!M74,'T1'!N74,'T2'!L74,T3_R1!M74,T3_R2!M74)","v":0},{"$f":"SUM(AV74:AX74)","v":1132},{"$f":"MAX('MDA2'!J74,T74)","v":0},{"$f":"MAX('MDA1'!K74,'MDA2'!K74,'MDA3'!I74,'MDA3'!L74,V74,AD74)","v":611.5},{"$f":"MAX('MDA1'!L74,'MDA2'!L74,'MDA3'!J74,'MDA3'!M74,AF74)","v":0},611.5,12.806282722513087]
[{"$f":"IF(COUNTRY_INFO!A75=0,\" \",COUNTRY_INFO!A75)","v":"Guinea Bissau"},{"$f":"IF(COUNTRY_INFO!B75=0,\" \",COUNTRY_INFO!B75)","v":"Gabu"},{"$f":"IF(COUNTRY_INFO!C75=0,\" \",COUNTRY_INFO!C75)","v":"GABU"},{"$f":"COUNTRY_INFO!L75","v":47738},null,null,{"$f":"MAX('MDA1'!M75,'MDA2'!M75)","v":0},{"$f":"IF(AND(COUNTRY_INFO!H75>0,COUNTRY_INFO!H75<4),IF(D75>MAX('MDA1'!M75,'MDA2'!M75),MAX('MDA1'!M75,'MDA2'!M75),D75),0)","v":0},{"$f":"IF(AND(COUNTRY_INFO!H75>0,COUNTRY_INFO!H75<4), IF(G75/D75*100<>0, IF(G75/D75*100>100,100,G75/D75*100), \"-\"),0)","v":"-"},{"$f":"COUNTRY_INFO!M75","v":47738},null,null,{"$f":"MAX('MDA1'!M75,MAX('MDA3'!I75,'MDA3'!L75)+MAX('MDA3'!J75,'MDA3'!M75))","v":0},{"$f":"IF(AND(COUNTRY_INFO!I75>0,COUNTRY_INFO!I75<4),IF(J75>MAX('MDA1'!M75,MAX('MDA3'!I75,'MDA3'!L75)+MAX('MDA3'!J75,'MDA3'!M75)),MAX('MDA1'!M75,MAX('MDA3'!I75,'MDA3'!L75)+MAX('MDA3'!J75,'MDA3'!M75)),J75),0)","v":0},{"$f":"IF(AND(COUNTRY_INFO!I75>0,COUNTRY_INFO!I75<4), IF(M75/J75*100<>0, IF(M75/J75*100>100,100,M75/J75*100), \"-\"),0)","v":"-"},{"$f":"COUNTRY_INFO!N75","v":0},null,null,{"$f":"SUM(MAX('MDA2'!J75, 'T1'!L75, MAX(T3_R1!K75, T3_R2!K75)), MAX('MDA1'!K75, 'MDA2'!K75, 'T1'!M75, MAX(T3_R1!L75, T3_R2!L75)), MAX('MDA1'!L75, 'MDA2'!L75, 'T1'!N75, MAX(T3_R1!M75, T3_R2!M75)))","v":0},{"$f":"IF(AND(COUNTRY_INFO!J75>1,COUNTRY_INFO!J75<4),IF(COUNTRY_INFO!E75>MAX('MDA2'!J75,'T1'!L75,MAX(T3_R1!K75,T3_R2!K75)),MAX('MDA2'!J75,'T1'!L75,MAX(T3_R1!K75,T3_R2!K75)),COUNTRY_INFO!E75),0)","v":0},{"$f":"IF(AND(COUNTRY_INFO!J75>1,COUNTRY_INFO!J75<4), IF(T75/COUNTRY_INFO!E75*100<>0, IF(T75/COUNTRY_INFO!E75*100>100,100,T75/COUNTRY_INFO!E75*100), \"-\"),0)","v":0},{"$f":"IF(AND(COUNTRY_INFO!J75>1,COUNTRY_INFO!J75<4),IF(COUNTRY_INFO!F75>MAX('MDA1'!K75,'MDA2'!K75,'T1'!M75,MAX(T3_R1!L75,T3_R2!L75)),MAX('MDA1'!K75,'MDA2'!K75,'T1'!M75,MAX(T3_R1!L75,T3_R2!L75)),COUNTRY_INFO!F75),0)","v":0},{"$f":"IF(AND(COUNTRY_INFO!J75>1,COUNTRY_INFO!J75<4), IF(V75/COUNTRY_INFO!F75*100<>0, IF(V75/COUNTRY_INFO!F75*100>100,100,V75/COUNTRY_INFO!F75*100), \"-\"),0)","v":0},0,{"$f":"IF(AND(COUNTRY_INFO!J75>1,COUNTRY_INFO!J75<4), IF(S75/P75*100<>0, IF(X75/P75*100>100,100,X75/P75*100), \"-\"),0)","v":0},{"$f":"COUNTRY_INFO!O75","v":11523.8},null,null,{"$f":"MAX('T1'!L75,'T2'!J75)+MAX('T1'!M75,'T2'!K75)+MAX('T1'!N75,'T2'!L75)","v":11545},{"$f":"IF(COUNTRY_INFO!K75=1,IF(COUNTRY_INFO!F75*0.33>MAX('T1'!M75,'T2'!K75),MAX('T1'!M75,'T2'!K75),COUNTRY_INFO!F75*0.33),IF(COUNTRY_INFO!K75=2,IF(COUNTRY_INFO!F75*0.5>MAX('T1'!M75,'T2'!K75),MAX('T1'!M75,'T2'!K75),COUNTRY_INFO!F75*0.5),IF(COUNTRY_INFO!K75=3,IF(COUNTRY_INFO!F75>MAX('T1'!M75,'T2'!K75),MAX('T1'!M75,'T2'!K75),COUNTRY_INFO!F75),0)))","v":6115},{"$f":"IF(AND(COUNTRY_INFO!K75>0,COUNTRY_INFO!K75<4),IF(Z75>0,IF(COUNTRY_INFO!K75=1, AD75/(COUNTRY_INFO!F75*0.33)*100, IF(COUNTRY_INFO!K75=2, AD75/(COUNTRY_INFO!F75*0.5)*100, IF(COUNTRY_INFO!K75=3, AD75/COUNTRY_INFO!F75*100))),\"-\"),0)","v":100},{"$f":"IF(COUNTRY_INFO!K75=2,IF(COUNTRY_INFO!G75*0.2>MAX('T1'!N75,'T2'!L75),MAX('T1'!N75,'T2'!L75),COUNTRY_INFO!G75*0.2),IF(COUNTRY_INFO!K75=3,IF(COUNTRY_INFO!G75>MAX('T1'!N75,'T2'!L75),MAX('T1'!N75,'T2'!L75),COUNTRY_INFO!G75),0))","v":0},{"$f":"IF(AND(COUNTRY_INFO!K75>0,COUNTRY_INFO!K75<4),IF(Z75>0,IF(COUNTRY_INFO!K75=1, 0, IF(COUNTRY_INFO!K75=2, AF75/(COUNTRY_INFO!G75*0.2)*100, IF(COUNTRY_INFO!K75=3, AF75/COUNTRY_INFO!G75*100))),\"-\"),0)","v":0},6115,{"$f":"IF(AND(COUNTRY_INFO!K75>0,COUNTRY_INFO!K75<4), IF(AC75/Z75*100<>0, IF(AH75/Z75*100>100,100,AH75/Z75*100), \"-\"),0)","v":53.064093441399542},null,{"$f":"IF(AND(D75<>0, D75<>\"Inconnu\",D75<>\"Interrompu\",D75<>\"Non requis\"),D75/COUNTRY_INFO!D75, 0)","v":1},{"$f":"IF(AND(J75<>0,J75<>\"Inconnu\",J75<>\"Interrompu\",J75<>\"Non requis\"),J75/COUNTRY_INFO!D75, 0)","v":1},{"$f":"IF(AND(P75<>0,P75<>\"Inconnu\",P75<>\"Non requis\"),P75/(COUNTRY_INFO!E75+COUNTRY_INFO!F75), 0)","v":0},{"$f":"IF(AND(Z75<>0,Z75<>\"Inconnu\",Z75<>\"Non requis\"),IF(COUNTRY_INFO!K75=1,1,IF(COUNTRY_INFO!K75=2,0.5*COUNTRY_INFO!F75/(0.5*COUNTRY_INFO!F75+0.2*COUNTRY_INFO!G75),IF(COUNTRY_INFO!K75=3,COUNTRY_INFO!F75/(COUNTRY_INFO!F75+COUNTRY_INFO!G75)))),0)","v":0.5306409344139954},{"$f":"IF(AND(Z75<>0,Z75<>\"Inconnu\",Z75<>\"Non requis\"),IF(COUNTRY_INFO!K75=1,0,IF(COUNTRY_INFO!K75=2,0.2*COUNTRY_INFO!G75/(0.5*COUNTRY_INFO!F75+0.2*COUNTRY_INFO!G75),IF(COUNTRY_INFO!K75=3,COUNTRY_INFO!G75/(COUNTRY_INFO!F75+COUNTRY_INFO!G75)))),0)","v":0.46935906558600465},{"$f":"MAX(COUNTRY_INFO!D75*AK75*PROFILE!$G$7,COUNTRY_INFO!D75*AL75*PROFILE!$G$7)","v":2114.7002463903118},{"$f":"MAX(COUNTRY_INFO!D75*AK75*PROFILE!$G$8,COUNTRY_INFO!D75*AL75*PROFILE!$G$8,COUNTRY_INFO!D75*AM75*PROFILE!$G$8)","v":6349.1776074374393},{"$f":"MAX(COUNTRY_INFO!D75*AK75*PROFILE!$G$9,COUNTRY_INFO!D75*AL75*PROFILE!$G$9,COUNTRY_INFO!D75*AM75*PROFILE!$G$9,IF(AND(DISTRICT!Z75<>\"Inconnu\",Z75<>\"Non requis\"),COUNTRY_INFO!O75*DISTRICT!AN75,0))","v":12230.521804116559},{"$f":"MAX(COUNTRY_INFO!D75*AK75*PROFILE!$G$10,COUNTRY_INFO!D75*AL75*PROFILE!$G$10,IF(AND(DISTRICT!Z75<>\"Inconnu\",Z75<>\"Non requis\"),COUNTRY_INFO!O75*DISTRICT!AO75,0))","v":27043.600342055688},47738,0,{"$f":"MAX('MDA2'!J75,'T1'!L75,'T2'!J75,T3_R1!K75,T3_R2!K75)","v":0},{"$f":"MAX('MDA1'!K75,'MDA2'!K75,'MDA3'!I75,'MDA3'!L75,'T1'!M75,'T2'!K75,T3_R1!L75,T3_R2!L75)","v":11545},{"$f":"MAX('MDA1'!L75,'MDA2'!L75,'MDA3'!J75,'MDA3'!M75,'T1'!N75,'T2'!L75,T3_R1!M75,T3_R2!M75)","v":0},11545,{"$f":"MAX('MDA2'!J75,T75)","v":0},{"$f":"MAX('MDA1'!K75,'MDA2'!K75,'MDA3'!I75,'MDA3'!L75,V75,AD75)","v":6115},{"$f":"MAX('MDA1'!L75,'MDA2'!L75,'MDA3'!J75,'MDA3'!M75,AF75)","v":0},6115,12.80950186434287]
[{"$f":"IF(COUNTRY_INFO!A76=0,\" \",COUNTRY_INFO!A76)","v":"Guinea Bissau"},{"$f":"IF(COUNTRY_INFO!B76=0,\" \",COUNTRY_INFO!B76)","v":"Gabu"},{"$f":"IF(COUNTRY_INFO!C76=0,\" \",COUNTRY_INFO!C76)","v":"CANDJUFA"},{"$f":"COUNTRY_INFO!L76","v":23094},null,null,{"$f":"MAX('MDA1'!M76,'MDA2'!M76)","v":0},{"$f":"IF(AND(COUNTRY_INFO!H76>0,COUNTRY_INFO!H76<4),IF(D76>MAX('MDA1'!M76,'MDA2'!M76),MAX('MDA1'!M76,'MDA2'!M76),D76),0)","v":0},{"$f":"IF(AND(COUNTRY_INFO!H76>0,COUNTRY_INFO!H76<4), IF(G76/D76*100<>0, IF(G76/D76*100>100,100,G76/D76*100), \"-\"),0)","v":"-"},{"$f":"COUNTRY_INFO!M76","v":23094},null,null,{"$f":"MAX('MDA1'!M76,MAX('MDA3'!I76,'MDA3'!L76)+MAX('MDA3'!J76,'MDA3'!M76))","v":0},{"$f":"IF(AND(COUNTRY_INFO!I76>0,COUNTRY_INFO!I76<4),IF(J76>MAX('MDA1'!M76,MAX('MDA3'!I76,'MDA3'!L76)+MAX('MDA3'!J76,'MDA3'!M76)),MAX('MDA1'!M76,MAX('MDA3'!I76,'MDA3'!L76)+MAX('MDA3'!J76,'MDA3'!M76)),J76),0)","v":0},{"$f":"IF(AND(COUNTRY_INFO!I76>0,COUNTRY_INFO!I76<4), IF(M76/J76*100<>0, IF(M76/J76*100>100,100,M76/J76*100), \"-\"),0)","v":"-"},{"$f":"COUNTRY_INFO!N76","v":8989},null,null,{"$f":"SUM(MAX('MDA2'!J76, 'T1'!L76, MAX(T3_R1!K76, T3_R2!K76)), MAX('MDA1'!K76, 'MDA2'!K76, 'T1'!M76, MAX(T3_R1!L76, T3_R2!L76)), MAX('MDA1'!L76, 'MDA2'!L76, 'T1'!N76, MAX(T3_R1!M76, T3_R2!M76)))","v":0},{"$f":"IF(AND(COUNTRY_INFO!J76>1,COUNTRY_INFO!J76<4),IF(COUNTRY_INFO!E76>MAX('MDA2'!J76,'T1'!L76,MAX(T3_R1!K76,T3_R2!K76)),MAX('MDA2'!J76,'T1'!L76,MAX(T3_R1!K76,T3_R2!K76)),COUNTRY_INFO!E76),0)","v":0},{"$f":"IF(AND(COUNTRY_INFO!J76>1,COUNTRY_INFO!J76<4), IF(T76/COUNTRY_INFO!E76*100<>0, IF(T76/COUNTRY_INFO!E76*100>100,100,T76/COUNTRY_INFO!E76*100), \"-\"),0)","v":"-"},{"$f":"IF(AND(COUNTRY_INFO!J76>1,COUNTRY_INFO!J76<4),IF(COUNTRY_INFO!F76>MAX('MDA1'!K76,'MDA2'!K76,'T1'!M76,MAX(T3_R1!L76,T3_R2!L76)),MAX('MDA1'!K76,'MDA2'!K76,'T1'!M76,MAX(T3_R1!L76,T3_R2!L76)),COUNTRY_INFO!F76),0)","v":0},{"$f":"IF(AND(COUNTRY_INFO!J76>1,COUNTRY_INFO!J76<4), IF(V76/COUNTRY_INFO!F76*100<>0, IF(V76/COUNTRY_INFO!F76*100>100,100,V76/COUNTRY_INFO!F76*100), \"-\"),0)","v":"-"},0,{"$f":"IF(AND(COUNTRY_INFO!J76>1,COUNTRY_INFO!J76<4), IF(S76/P76*100<>0, IF(X76/P76*100>100,100,X76/P76*100), \"-\"),0)","v":"-"},{"$f":"COUNTRY_INFO!O76","v":5575.1},null,null,{"$f":"MAX('T1'!L76,'T2'!J76)+MAX('T1'!M76,'T2'!K76)+MAX('T1'!N76,'T2'!L76)","v":5529},{"$f":"IF(COUNTRY_INFO!K76=1,IF(COUNTRY_INFO!F76*0.33>MAX('T1'!M76,'T2'!K76),MAX('T1'!M76,'T2'!K76),COUNTRY_INFO!F76*0.33),IF(COUNTRY_INFO!K76=2,IF(COUNTRY_INFO!F76*0.5>MAX('T1'!M76,'T2'!K76),MAX('T1'!M76,'T2'!K76),COUNTRY_INFO!F76*0.5),IF(COUNTRY_INFO!K76=3,IF(COUNTRY_INFO!F76>MAX('T1'!M76,'T2'!K76),MAX('T1'!M76,'T2'!K76),COUNTRY_INFO!F76),0)))","v":2958.5},{"$f":"IF(AND(COUNTRY_INFO!K76>0,COUNTRY_INFO!K76<4),IF(Z76>0,IF(COUNTRY_INFO!K76=1, AD76/(COUNTRY_INFO!F76*0.33)*100, IF(COUNTRY_INFO!K76=2, AD76/(COUNTRY_INFO!F76*0.5)*100, IF(COUNTRY_INFO!K76=3, AD76/COUNTRY_INFO!F76*100))),\"-\"),0)","v":100},{"$f":"IF(COUNTRY_INFO!K76=2,IF(COUNTRY_INFO!G76*0.2>MAX('T1'!N76,'T2'!L76),MAX('T1'!N76,'T2'!L76),COUNTRY_INFO!G76*0.2),IF(COUNTRY_INFO!K76=3,IF(COUNTRY_INFO!G76>MAX('T1'!N76,'T2'!L76),MAX('T1'!N76,'T2'!L76),COUNTRY_INFO!G76),0))","v":0},{"$f":"IF(AND(COUNTRY_INFO!K76>0,COUNTRY_INFO!K76<4),IF(Z76>0,IF(COUNTRY_INFO!K76=1, 0, IF(COUNTRY_INFO!K76=2, AF76/(COUNTRY_INFO!G76*0.2)*100, IF(COUNTRY_INFO!K76=3, AF76/COUNTRY_INFO!G76*100))),\"-\"),0)","v":0},2958.5,{"$f":"IF(AND(COUNTRY_INFO!K76>0,COUNTRY_INFO!K76<4), IF(AC76/Z76*100<>0, IF(AH76/Z76*100>100,100,AH76/Z76*100), \"-\"),0)","v":53.066312711879604},null,{"$f":"IF(AND(D76<>0, D76<>\"Inconnu\",D76<>\"Interrompu\",D76<>\"Non requis\"),D76/COUNTRY_INFO!D76, 0)","v":1},{"$f":"IF(AND(J76<>0,J76<>\"Inconnu\",J76<>\"Interrompu\",J76<>\"Non requis\"),J76/COUNTRY_INFO!D76, 0)","v":1},{"$f":"IF(AND(P76<>0,P76<>\"Inconnu\",P76<>\"Non requis\"),P76/(COUNTRY_INFO!E76+COUNTRY_INFO!F76), 0)","v":1},{"$f":"IF(AND(Z76<>0,Z76<>\"Inconnu\",Z76<>\"Non requis\"),IF(COUNTRY_INFO!K76=1,1,IF(COUNTRY_INFO!K76=2,0.5*COUNTRY_INFO!F76/(0.5*COUNTRY_INFO!F76+0.2*COUNTRY_INFO!G76),IF(COUNTRY_INFO!K76=3,COUNTRY_INFO!F76/(COUNTRY_INFO!F76+COUNTRY_INFO!G76)))),0)","v":0.53066312711879604},{"$f":"IF(AND(Z76<>0,Z76<>\"Inconnu\",Z76<>\"Non requis\"),IF(COUNTRY_INFO!K76=1,0,IF(COUNTRY_INFO!K76=2,0.2*COUNTRY_INFO!G76/(0.5*COUNTRY_INFO!F76+0.2*COUNTRY_INFO!G76),IF(COUNTRY_INFO!K76=3,COUNTRY_INFO!G76/(COUNTRY_INFO!F76+COUNTRY_INFO!G76)))),0)","v":0.46933687288120396},{"$f":"MAX(COUNTRY_INFO!D76*AK76*PROFILE!$G$7,COUNTRY_INFO!D76*AL76*PROFILE!$G$7)","v":1023.019135492435},{"$f":"MAX(COUNTRY_INFO!D76*AK76*PROFILE!$G$8,COUNTRY_INFO!D76*AL76*PROFILE!$G$8,COUNTRY_INFO!D76*AM76*PROFILE!$G$8)","v":3071.5134204650431},{"$f":"MAX(COUNTRY_INFO!D76*AK76*PROFILE!$G$9,COUNTRY_INFO!D76*AL76*PROFILE!$G$9,COUNTRY_INFO!D76*AM76*PROFILE!$G$9,IF(AND(DISTRICT!Z76<>\"Inconnu\",Z76<>\"Non requis\"),COUNTRY_INFO!O76*DISTRICT!AN76,0))","v":5916.7051519600282},{"$f":"MAX(COUNTRY_INFO!D76*AK76*PROFILE!$G$10,COUNTRY_INFO!D76*AL76*PROFILE!$G$10,IF(AND(DISTRICT!Z76<>\"Inconnu\",Z76<>\"Non requis\"),COUNTRY_INFO!O76*DISTRICT!AO76,0))","v":13082.762292082492},23094,0,{"$f":"MAX('MDA2'!J76,'T1'!L76,'T2'!J76,T3_R1!K76,T3_R2!K76)","v":0},{"$f":"MAX('MDA1'!K76,'MDA2'!K76,'MDA3'!I76,'MDA3'!L76,'T1'!M76,'T2'!K76,T3_R1!L76,T3_R2!L76)","v":5529},{"$f":"MAX('MDA1'!L76,'MDA2'!L76,'MDA3'!J76,'MDA3'!M76,'T1'!N76,'T2'!L76,T3_R1!M76,T3_R2!M76)","v":0},5529,{"$f":"MAX('MDA2'!J76,T76)","v":0},{"$f":"MAX('MDA1'!K76,'MDA2'!K76,'MDA3'!I76,'MDA3'!L76,V76,AD76)","v":2958.5},{"$f":"MAX('MDA1'!L76,'MDA2'!L76,'MDA3'!J76,'MDA3'!M76,AF76)","v":0},2958.5,12.810686758465403]
[{"$f":"IF(COUNTRY_INFO!A77=0,\" \",COUNTRY_INFO!A77)","v":"Guinea Bissau"},{"$f":"IF(COUNTRY_INFO!B77=0,\" \",COUNTRY_INFO!B77)","v":"Gabu"},{"$f":"IF(COUNTRY_INFO!C77=0,\" \",COUNTRY_INFO!C77)","v":"MAFANCO"},{"$f":"COUNTRY_INFO!L77","v":18226},null,null,{"$f":"MAX('MDA1'!M77,'MDA2'!M77)","v":0},{"$f":"IF(AND(COUNTRY_INFO!H77>0,COUNTRY_INFO!H77<4),IF(D77>MAX('MDA1'!M77,'MDA2'!M77),MAX('MDA1'!M77,'MDA2'!M77),D77),0)","v":0},{"$f":"IF(AND(COUNTRY_INFO!H77>0,COUNTRY_INFO!H77<4), IF(G77/D77*100<>0, IF(G77/D77*100>100,100,G77/D77*100), \"-\"),0)","v":"-"},{"$f":"COUNTRY_INFO!M77","v":18226},null,null,{"$f":"MAX('MDA1'!M77,MAX('MDA3'!I77,'MDA3'!L77)+MAX('MDA3'!J77,'MDA3'!M77))","v":0},{"$f":"IF(AND(COUNTRY_INFO!I77>0,COUNTRY_INFO!I77<4),IF(J77>MAX('MDA1'!M77,MAX('MDA3'!I77,'MDA3'!L77)+MAX('MDA3'!J77,'MDA3'!M77)),MAX('MDA1'!M77,MAX('MDA3'!I77,'MDA3'!L77)+MAX('MDA3'!J77,'MDA3'!M77)),J77),0)","v":0},{"$f":"IF(AND(COUNTRY_INFO!I77>0,COUNTRY_INFO!I77<4), IF(M77/J77*100<>0, IF(M77/J77*100>100,100,M77/J77*100), \"-\"),0)","v":"-"},{"$f":"COUNTRY_INFO!N77","v":7094},null,null,{"$f":"SUM(MAX('MDA2'!J77, 'T1'!L77, MAX(T3_R1!K77, T3_R2!K77)), MAX('MDA1'!K77, 'MDA2'!K77, 'T1'!M77, MAX(T3_R1!L77, T3_R2!L77)), MAX('MDA1'!L77, 'MDA2'!L77, 'T1'!N77, MAX(T3_R1!M77, T3_R2!M77)))","v":0},{"$f":"IF(AND(COUNTRY_INFO!J77>1,COUNTRY_INFO!J77<4),IF(COUNTRY_INFO!E77>MAX('MDA2'!J77,'T1'!L77,MAX(T3_R1!K77,T3_R2!K77)),MAX('MDA2'!J77,'T1'!L77,MAX(T3_R1!K77,T3_R2!K77)),COUNTRY_INFO!E77),0)","v":0},{"$f":"IF(AND(COUNTRY_INFO!J77>1,COUNTRY_INFO!J77<4), IF(T77/COUNTRY_INFO!E77*100<>0, IF(T77/COUNTRY_INFO!E77*100>100,100,T77/COUNTRY_INFO!E77*100), \"-\"),0)","v":"-"},{"$f":"IF(AND(COUNTRY_INFO!J77>1,COUNTRY_INFO!J77<4),IF(COUNTRY_INFO!F77>MAX('MDA1'!K77,'MDA2'!K77,'T1'!M77,MAX(T3_R1!L77,T3_R2!L77)),MAX('MDA1'!K77,'MDA2'!K77,'T1'!M77,MAX(T3_R1!L77,T3_R2!L77)),COUNTRY_INFO!F77),0)","v":0},{"$f":"IF(AND(COUNTRY_INFO!J77>1,COUNTRY_INFO!J77<4), IF(V77/COUNTRY_INFO!F77*100<>0, IF(V77/COUNTRY_INFO!F77*100>100,100,V77/COUNTRY_INFO!F77*100), \"-\"),0)","v":"-"},0,{"$f":"IF(AND(COUNTRY_INFO!J77>1,COUNTRY_INFO!J77<4), IF(S77/P77*100<>0, IF(X77/P77*100>100,100,X77/P77*100), \"-\"),0)","v":"-"},{"$f":"COUNTRY_INFO!O77","v":4400},null,null,{"$f":"MAX('T1'!L77,'T2'!J77)+MAX('T1'!M77,'T2'!K77)+MAX('T1'!N77,'T2'!L77)","v":4342},{"$f":"IF(COUNTRY_INFO!K77=1,IF(COUNTRY_INFO!F77*0.33>MAX('T1'!M77,'T2'!K77),MAX('T1'!M77,'T2'!K77),COUNTRY_INFO!F77*0.33),IF(COUNTRY_INFO!K77=2,IF(COUNTRY_INFO!F77*0.5>MAX('T1'!M77,'T2'!K77),MAX('T1'!M77,'T2'!K77),COUNTRY_INFO!F77*0.5),IF(COUNTRY_INFO!K77=3,IF(COUNTRY_INFO!F77>MAX('T1'!M77,'T2'!K77),MAX('T1'!M77,'T2'!K77),COUNTRY_INFO!F77),0)))","v":2335},{"$f":"IF(AND(COUNTRY_INFO!K77>0,COUNTRY_INFO!K77<4),IF(Z77>0,IF(COUNTRY_INFO!K77=1, AD77/(COUNTRY_INFO!F77*0.33)*100, IF(COUNTRY_INFO!K77=2, AD77/(COUNTRY_INFO!F77*0.5)*100, IF(COUNTRY_INFO!K77=3, AD77/COUNTRY_INFO!F77*100))),\"-\"),0)","v":100},{"$f":"IF(COUNTRY_INFO!K77=2,IF(COUNTRY_INFO!G77*0.2>MAX('T1'!N77,'T2'!L77),MAX('T1'!N77,'T2'!L77),COUNTRY_INFO!G77*0.2),IF(COUNTRY_INFO!K77=3,IF(COUNTRY_INFO!G77>MAX('T1'!N77,'T2'!L77),MAX('T1'!N77,'T2'!L77),COUNTRY_INFO!G77),0))","v":0},{"$f":"IF(AND(COUNTRY_INFO!K77>0,COUNTRY_INFO!K77<4),IF(Z77>0,IF(COUNTRY_INFO!K77=1, 0, IF(COUNTRY_INFO!K77=2, AF77/(COUNTRY_INFO!G77*0.2)*100, IF(COUNTRY_INFO!K77=3, AF77/COUNTRY_INFO!G77*100))),\"-\"),0)","v":0},2335,{"$f":"IF(AND(COUNTRY_INFO!K77>0,COUNTRY_INFO!K77<4), IF(AC77/Z77*100<>0, IF(AH77/Z77*100>100,100,AH77/Z77*100), \"-\"),0)","v":53.068181818181813},null,{"$f":"IF(AND(D77<>0, D77<>\"Inconnu\",D77<>\"Interrompu\",D77<>\"Non requis\"),D77/COUNTRY_INFO!D77, 0)","v":1},{"$f":"IF(AND(J77<>0,J77<>\"Inconnu\",J77<>\"Interrompu\",J77<>\"Non requis\"),J77/COUNTRY_INFO!D77, 0)","v":1},{"$f":"IF(AND(P77<>0,P77<>\"Inconnu\",P77<>\"Non requis\"),P77/(COUNTRY_INFO!E77+COUNTRY_INFO!F77), 0)","v":1},{"$f":"IF(AND(Z77<>0,Z77<>\"Inconnu\",Z77<>\"Non requis\"),IF(COUNTRY_INFO!K77=1,1,IF(COUNTRY_INFO!K77=2,0.5*COUNTRY_INFO!F77/(0.5*COUNTRY_INFO!F77+0.2*COUNTRY_INFO!G77),IF(COUNTRY_INFO!K77=3,COUNTRY_INFO!F77/(COUNTRY_INFO!F77+COUNTRY_INFO!G77)))),0)","v":0.53068181818181814},{"$f":"IF(AND(Z77<>0,Z77<>\"Inconnu\",Z77<>\"Non requis\"),IF(COUNTRY_INFO!K77=1,0,IF(COUNTRY_INFO!K77=2,0.2*COUNTRY_INFO!G77/(0.5*COUNTRY_INFO!F77+0.2*COUNTRY_INFO!G77),IF(COUNTRY_INFO!K77=3,COUNTRY_INFO!G77/(COUNTRY_INFO!F77+COUNTRY_INFO!G77)))),0)","v":0.4693181818181818},{"$f":"MAX(COUNTRY_INFO!D77*AK77*PROFILE!$G$7,COUNTRY_INFO!D77*AL77*PROFILE!$G$7)","v":807.37623467069886},{"$f":"MAX(COUNTRY_INFO!D77*AK77*PROFILE!$G$8,COUNTRY_INFO!D77*AL77*PROFILE!$G$8,COUNTRY_INFO!D77*AM77*PROFILE!$G$8)","v":2424.0670131374332},{"$f":"MAX(COUNTRY_INFO!D77*AK77*PROFILE!$G$9,COUNTRY_INFO!D77*AL77*PROFILE!$G$9,COUNTRY_INFO!D77*AM77*PROFILE!$G$9,IF(AND(DISTRICT!Z77<>\"Inconnu\",Z77<>\"Non requis\"),COUNTRY_INFO!O77*DISTRICT!AN77,0))","v":4669.5188403751399},{"$f":"MAX(COUNTRY_INFO!D77*AK77*PROFILE!$G$10,COUNTRY_INFO!D77*AL77*PROFILE!$G$10,IF(AND(DISTRICT!Z77<>\"Inconnu\",Z77<>\"Non requis\"),COUNTRY_INFO!O77*DISTRICT!AO77,0))","v":10325.037911816728},18226,0,{"$f":"MAX('MDA2'!J77,'T1'!L77,'T2'!J77,T3_R1!K77,T3_R2!K77)","v":0},{"$f":"MAX('MDA1'!K77,'MDA2'!K77,'MDA3'!I77,'MDA3'!L77,'T1'!M77,'T2'!K77,T3_R1!L77,T3_R2!L77)","v":4342},{"$f":"MAX('MDA1'!L77,'MDA2'!L77,'MDA3'!J77,'MDA3'!M77,'T1'!N77,'T2'!L77,T3_R1!M77,T3_R2!M77)","v":0},4342,{"$f":"MAX('MDA2'!J77,T77)","v":0},{"$f":"MAX('MDA1'!K77,'MDA2'!K77,'MDA3'!I77,'MDA3'!L77,V77,AD77)","v":2335},{"$f":"MAX('MDA1'!L77,'MDA2'!L77,'MDA3'!J77,'MDA3'!M77,AF77)","v":0},2335,12.811368374849117]
[{"$f":"IF(COUNTRY_INFO!A78=0,\" \",COUNTRY_INFO!A78)","v":"Guinea Bissau"},{"$f":"IF(COUNTRY_INFO!B78=0,\" \",COUNTRY_INFO!B78)","v":"Gabu"},{"$f":"IF(COUNTRY_INFO!C78=0,\" \",COUNTRY_INFO!C78)","v":"TUMANA"},{"$f":"COUNTRY_INFO!L78","v":17759},null,null,{"$f":"MAX('MDA1'!M78,'MDA2'!M78)","v":0},{"$f":"IF(AND(COUNTRY_INFO!H78>0,COUNTRY_INFO!H78<4),IF(D78>MAX('MDA1'!M78,'MDA2'!M78),MAX('MDA1'!M78,'MDA2'!M78),D78),0)","v":0},{"$f":"IF(AND(COUNTRY_INFO!H78>0,COUNTRY_INFO!H78<4), IF(G78/D78*100<>0, IF(G78/D78*100>100,100,G78/D78*100), \"-\"),0)","v":"-"},{"$f":"COUNTRY_INFO!M78","v":17759},null,null,{"$f":"MAX('MDA1'!M78,MAX('MDA3'!I78,'MDA3'!L78)+MAX('MDA3'!J78,'MDA3'!M78))","v":0},{"$f":"IF(AND(COUNTRY_INFO!I78>0,COUNTRY_INFO!I78<4),IF(J78>MAX('MDA1'!M78,MAX('MDA3'!I78,'MDA3'!L78)+MAX('MDA3'!J78,'MDA3'!M78)),MAX('MDA1'!M78,MAX('MDA3'!I78,'MDA3'!L78)+MAX('MDA3'!J78,'MDA3'!M78)),J78),0)","v":0},{"$f":"IF(AND(COUNTRY_INFO!I78>0,COUNTRY_INFO!I78<4), IF(M78/J78*100<>0, IF(M78/J78*100>100,100,M78/J78*100), \"-\"),0)","v":"-"},{"$f":"COUNTRY_INFO!N78","v":6912},null,null,{"$f":"SUM(MAX('MDA2'!J78, 'T1'!L78, MAX(T3_R1!K78, T3_R2!K78)), MAX('MDA1'!K78, 'MDA2'!K78, 'T1'!M78, MAX(T3_R1!L78, T3_R2!L78)), MAX('MDA1'!L78, 'MDA2'!L78, 'T1'!N78, MAX(T3_R1!M78, T3_R2!M78)))","v":0},{"$f":"IF(AND(COUNTRY_INFO!J78>1,COUNTRY_INFO!J78<4),IF(COUNTRY_INFO!E78>MAX('MDA2'!J78,'T1'!L78,MAX(T3_R1!K78,T3_R2!K78)),MAX('MDA2'!J78,'T1'!L78,MAX(T3_R1!K78,T3_R2!K78)),COUNTRY_INFO!E78),0)","v":0},{"$f":"IF(AND(COUNTRY_INFO!J78>1,COUNTRY_INFO!J78<4), IF(T78/COUNTRY_INFO!E78*100<>0, IF(T78/COUNTRY_INFO!E78*100>100,100,T78/COUNTRY_INFO!E78*100), \"-\"),0)","v":"-"},{"$f":"IF(AND(COUNTRY_INFO!J78>1,COUNTRY_INFO!J78<4),IF(COUNTRY_INFO!F78>MAX('MDA1'!K78,'MDA2'!K78,'T1'!M78,MAX(T3_R1!L78,T3_R2!L78)),MAX('MDA1'!K78,'MDA2'!K78,'T1'!M78,MAX(T3_R1!L78,T3_R2!L78)),COUNTRY_INFO!F78),0)","v":0},{"$f":"IF(AND(COUNTRY_INFO!J78>1,COUNTRY_INFO!J78<4), IF(V78/COUNTRY_INFO!F78*100<>0, IF(V78/COUNTRY_INFO!F78*100>100,100,V78/COUNTRY_INFO!F78*100), \"-\"),0)","v":"-"},0,{"$f":"IF(AND(COUNTRY_INFO!J78>1,COUNTRY_INFO!J78<4), IF(S78/P78*100<>0, IF(X78/P78*100>100,100,X78/P78*100), \"-\"),0)","v":"-"},{"$f":"COUNTRY_INFO!O78","v":4287},null,null,{"$f":"MAX('T1'!L78,'T2'!J78)+MAX('T1'!M78,'T2'!K78)+MAX('T1'!N78,'T2'!L78)","v":4314},{"$f":"IF(COUNTRY_INFO!K78=1,IF(COUNTRY_INFO!F78*0.33>MAX('T1'!M78,'T2'!K78),MAX('T1'!M78,'T2'!K78),COUNTRY_INFO!F78*0.33),IF(COUNTRY_INFO!K78=2,IF(COUNTRY_INFO!F78*0.5>MAX('T1'!M78,'T2'!K78),MAX('T1'!M78,'T2'!K78),COUNTRY_INFO!F78*0.5),IF(COUNTRY_INFO!K78=3,IF(COUNTRY_INFO!F78>MAX('T1'!M78,'T2'!K78),MAX('T1'!M78,'T2'!K78),COUNTRY_INFO!F78),0)))","v":2275},{"$f":"IF(AND(COUNTRY_INFO!K78>0,COUNTRY_INFO!K78<4),IF(Z78>0,IF(COUNTRY_INFO!K78=1, AD78/(COUNTRY_INFO!F78*0.33)*100, IF(COUNTRY_INFO!K78=2, AD78/(COUNTRY_INFO!F78*0.5)*100, IF(COUNTRY_INFO!K78=3, AD78/COUNTRY_INFO!F78*100))),\"-\"),0)","v":100},{"$f":"IF(COUNTRY_INFO!K78=2,IF(COUNTRY_INFO!G78*0.2>MAX('T1'!N78,'T2'!L78),MAX('T1'!N78,'T2'!L78),COUNTRY_INFO!G78*0.2),IF(COUNTRY_INFO!K78=3,IF(COUNTRY_INFO!G78>MAX('T1'!N78,'T2'!L78),MAX('T1'!N78,'T2'!L78),COUNTRY_INFO!G78),0))","v":0},{"$f":"IF(AND(COUNTRY_INFO!K78>0,COUNTRY_INFO!K78<4),IF(Z78>0,IF(COUNTRY_INFO!K78=1, 0, IF(COUNTRY_INFO!K78=2, AF78/(COUNTRY_INFO!G78*0.2)*100, IF(COUNTRY_INFO!K78=3, AF78/COUNTRY_INFO!G78*100))),\"-\"),0)","v":0},2275,{"$f":"IF(AND(COUNTRY_INFO!K78>0,COUNTRY_INFO!K78<4), IF(AC78/Z78*100<>0, IF(AH78/Z78*100>100,100,AH78/Z78*100), \"-\"),0)","v":53.067413109400519},null,{"$f":"IF(AND(D78<>0, D78<>\"Inconnu\",D78<>\"Interrompu\",D78<>\"Non requis\"),D78/COUNTRY_INFO!D78, 0)","v":1},{"$f":"IF(AND(J78<>0,J78<>\"Inconnu\",J78<>\"Interrompu\",J78<>\"Non requis\"),J78/COUNTRY_INFO!D78, 0)","v":1},{"$f":"IF(AND(P78<>0,P78<>\"Inconnu\",P78<>\"Non requis\"),P78/(COUNTRY_INFO!E78+COUNTRY_INFO!F78), 0)","v":1},{"$f":"IF(AND(Z78<>0,Z78<>\"Inconnu\",Z78<>\"Non requis\"),IF(COUNTRY_INFO!K78=1,1,IF(COUNTRY_INFO!K78=2,0.5*COUNTRY_INFO!F78/(0.5*COUNTRY_INFO!F78+0.2*COUNTRY_INFO!G78),IF(COUNTRY_INFO!K78=3,COUNTRY_INFO!F78/(COUNTRY_INFO!F78+COUNTRY_INFO!G78)))),0)","v":0.53067413109400519},{"$f":"IF(AND(Z78<>0,Z78<>\"Inconnu\",Z78<>\"Non requis\"),IF(COUNTRY_INFO!K78=1,0,IF(COUNTRY_INFO!K78=2,0.2*COUNTRY_INFO!G78/(0.5*COUNTRY_INFO!F78+0.2*COUNTRY_INFO!G78),IF(COUNTRY_INFO!K78=3,COUNTRY_INFO!G78/(COUNTRY_INFO!F78+COUNTRY_INFO!G78)))),0)","v":0.46932586890599487},{"$f":"MAX(COUNTRY_INFO!D78*AK78*PROFILE!$G$7,COUNTRY_INFO!D78*AL78*PROFILE!$G$7)","v":786.689045951769},{"$f":"MAX(COUNTRY_INFO!D78*AK78*PROFILE!$G$8,COUNTRY_INFO!D78*AL78*PROFILE!$G$8,COUNTRY_INFO!D78*AM78*PROFILE!$G$8)","v":2361.9557821961853},{"$f":"MAX(COUNTRY_INFO!D78*AK78*PROFILE!$G$9,COUNTRY_INFO!D78*AL78*PROFILE!$G$9,COUNTRY_INFO!D78*AM78*PROFILE!$G$9,IF(AND(DISTRICT!Z78<>\"Inconnu\",Z78<>\"Non requis\"),COUNTRY_INFO!O78*DISTRICT!AN78,0))","v":4549.8729883804517},{"$f":"MAX(COUNTRY_INFO!D78*AK78*PROFILE!$G$10,COUNTRY_INFO!D78*AL78*PROFILE!$G$10,IF(AND(DISTRICT!Z78<>\"Inconnu\",Z78<>\"Non requis\"),COUNTRY_INFO!O78*DISTRICT!AO78,0))","v":10060.482183471593},17759,0,{"$f":"MAX('MDA2'!J78,'T1'!L78,'T2'!J78,T3_R1!K78,T3_R2!K78)","v":0},{"$f":"MAX('MDA1'!K78,'MDA2'!K78,'MDA3'!I78,'MDA3'!L78,'T1'!M78,'T2'!K78,T3_R1!L78,T3_R2!L78)","v":4314},{"$f":"MAX('MDA1'!L78,'MDA2'!L78,'MDA3'!J78,'MDA3'!M78,'T1'!N78,'T2'!L78,T3_R1!M78,T3_R2!M78)","v":0},4314,{"$f":"MAX('MDA2'!J78,T78)","v":0},{"$f":"MAX('MDA1'!K78,'MDA2'!K78,'MDA3'!I78,'MDA3'!L78,V78,AD78)","v":2275},{"$f":"MAX('MDA1'!L78,'MDA2'!L78,'MDA3'!J78,'MDA3'!M78,AF78)","v":0},2275,12.810405991328341]
[{"$f":"IF(COUNTRY_INFO!A79=0,\" \",COUNTRY_INFO!A79)","v":"Guinea Bissau"},{"$f":"IF(COUNTRY_INFO!B79=0,\" \",COUNTRY_INFO!B79)","v":"Bafata"},{"$f":"IF(COUNTRY_INFO!C79=0,\" \",COUNTRY_INFO!C79)","v":"Xitole"},{"$f":"COUNTRY_INFO!L79","v":20191},null,null,{"$f":"MAX('MDA1'!M79,'MDA2'!M79)","v":0},{"$f":"IF(AND(COUNTRY_INFO!H79>0,COUNTRY_INFO!H79<4),IF(D79>MAX('MDA1'!M79,'MDA2'!M79),MAX('MDA1'!M79,'MDA2'!M79),D79),0)","v":0},{"$f":"IF(AND(COUNTRY_INFO!H79>0,COUNTRY_INFO!H79<4), IF(G79/D79*100<>0, IF(G79/D79*100>100,100,G79/D79*100), \"-\"),0)","v":"-"},{"$f":"COUNTRY_INFO!M79","v":20191},null,null,{"$f":"MAX('MDA1'!M79,MAX('MDA3'!I79,'MDA3'!L79)+MAX('MDA3'!J79,'MDA3'!M79))","v":0},{"$f":"IF(AND(COUNTRY_INFO!I79>0,COUNTRY_INFO!I79<4),IF(J79>MAX('MDA1'!M79,MAX('MDA3'!I79,'MDA3'!L79)+MAX('MDA3'!J79,'MDA3'!M79)),MAX('MDA1'!M79,MAX('MDA3'!I79,'MDA3'!L79)+MAX('MDA3'!J79,'MDA3'!M79)),J79),0)","v":0},{"$f":"IF(AND(COUNTRY_INFO!I79>0,COUNTRY_INFO!I79<4), IF(M79/J79*100<>0, IF(M79/J79*100>100,100,M79/J79*100), \"-\"),0)","v":"-"},{"$f":"COUNTRY_INFO!N79","v":0},null,null,{"$f":"SUM(MAX('MDA2'!J79, 'T1'!L79, MAX(T3_R1!K79, T3_R2!K79)), MAX('MDA1'!K79, 'MDA2'!K79, 'T1'!M79, MAX(T3_R1!L79, T3_R2!L79)), MAX('MDA1'!L79, 'MDA2'!L79, 'T1'!N79, MAX(T3_R1!M79, T3_R2!M79)))","v":0},{"$f":"IF(AND(COUNTRY_INFO!J79>1,COUNTRY_INFO!J79<4),IF(COUNTRY_INFO!E79>MAX('MDA2'!J79,'T1'!L79,MAX(T3_R1!K79,T3_R2!K79)),MAX('MDA2'!J79,'T1'!L79,MAX(T3_R1!K79,T3_R2!K79)),COUNTRY_INFO!E79),0)","v":0},{"$f":"IF(AND(COUNTRY_INFO!J79>1,COUNTRY_INFO!J79<4), IF(T79/COUNTRY_INFO!E79*100<>0, IF(T79/COUNTRY_INFO!E79*100>100,100,T79/COUNTRY_INFO!E79*100), \"-\"),0)","v":0},{"$f":"IF(AND(COUNTRY_INFO!J79>1,COUNTRY_INFO!J79<4),IF(COUNTRY_INFO!F79>MAX('MDA1'!K79,'MDA2'!K79,'T1'!M79,MAX(T3_R1!L79,T3_R2!L79)),MAX('MDA1'!K79,'MDA2'!K79,'T1'!M79,MAX(T3_R1!L79,T3_R2!L79)),COUNTRY_INFO!F79),0)","v":0},{"$f":"IF(AND(COUNTRY_INFO!J79>1,COUNTRY_INFO!J79<4), IF(V79/COUNTRY_INFO!F79*100<>0, IF(V79/COUNTRY_INFO!F79*100>100,100,V79/COUNTRY_INFO!F79*100), \"-\"),0)","v":0},0,{"$f":"IF(AND(COUNTRY_INFO!J79>1,COUNTRY_INFO!J79<4), IF(S79/P79*100<>0, IF(X79/P79*100>100,100,X79/P79*100), \"-\"),0)","v":0},{"$f":"COUNTRY_INFO!O79","v":1707.0900000000001},null,null,{"$f":"MAX('T1'!L79,'T2'!J79)+MAX('T1'!M79,'T2'!K79)+MAX('T1'!N79,'T2'!L79)","v":0},{"$f":"IF(COUNTRY_INFO!K79=1,IF(COUNTRY_INFO!F79*0.33>MAX('T1'!M79,'T2'!K79),MAX('T1'!M79,'T2'!K79),COUNTRY_INFO!F79*0.33),IF(COUNTRY_INFO!K79=2,IF(COUNTRY_INFO!F79*0.5>MAX('T1'!M79,'T2'!K79),MAX('T1'!M79,'T2'!K79),COUNTRY_INFO!F79*0.5),IF(COUNTRY_INFO!K79=3,IF(COUNTRY_INFO!F79>MAX('T1'!M79,'T2'!K79),MAX('T1'!M79,'T2'!K79),COUNTRY_INFO!F79),0)))","v":0},{"$f":"IF(AND(COUNTRY_INFO!K79>0,COUNTRY_INFO!K79<4),IF(Z79>0,IF(COUNTRY_INFO!K79=1, AD79/(COUNTRY_INFO!F79*0.33)*100, IF(COUNTRY_INFO!K79=2, AD79/(COUNTRY_INFO!F79*0.5)*100, IF(COUNTRY_INFO!K79=3, AD79/COUNTRY_INFO!F79*100))),\"-\"),0)","v":0},{"$f":"IF(COUNTRY_INFO!K79=2,IF(COUNTRY_INFO!G79*0.2>MAX('T1'!N79,'T2'!L79),MAX('T1'!N79,'T2'!L79),COUNTRY_INFO!G79*0.2),IF(COUNTRY_INFO!K79=3,IF(COUNTRY_INFO!G79>MAX('T1'!N79,'T2'!L79),MAX('T1'!N79,'T2'!L79),COUNTRY_INFO!G79),0))","v":0},{"$f":"IF(AND(COUNTRY_INFO!K79>0,COUNTRY_INFO!K79<4),IF(Z79>0,IF(COUNTRY_INFO!K79=1, 0, IF(COUNTRY_INFO!K79=2, AF79/(COUNTRY_INFO!G79*0.2)*100, IF(COUNTRY_INFO!K79=3, AF79/COUNTRY_INFO!G79*100))),\"-\"),0)","v":0},0,{"$f":"IF(AND(COUNTRY_INFO!K79>0,COUNTRY_INFO!K79<4), IF(AC79/Z79*100<>0, IF(AH79/Z79*100>100,100,AH79/Z79*100), \"-\"),0)","v":"-"},null,{"$f":"IF(AND(D79<>0, D79<>\"Inconnu\",D79<>\"Interrompu\",D79<>\"Non requis\"),D79/COUNTRY_INFO!D79, 0)","v":1},{"$f":"IF(AND(J79<>0,J79<>\"Inconnu\",J79<>\"Interrompu\",J79<>\"Non requis\"),J79/COUNTRY_INFO!D79, 0)","v":1},{"$f":"IF(AND(P79<>0,P79<>\"Inconnu\",P79<>\"Non requis\"),P79/(COUNTRY_INFO!E79+COUNTRY_INFO!F79), 0)","v":0},{"$f":"IF(AND(Z79<>0,Z79<>\"Inconnu\",Z79<>\"Non requis\"),IF(COUNTRY_INFO!K79=1,1,IF(COUNTRY_INFO!K79=2,0.5*COUNTRY_INFO!F79/(0.5*COUNTRY_INFO!F79+0.2*COUNTRY_INFO!G79),IF(COUNTRY_INFO!K79=3,COUNTRY_INFO!F79/(COUNTRY_INFO!F79+COUNTRY_INFO!G79)))),0)","v":1},{"$f":"IF(AND(Z79<>0,Z79<>\"Inconnu\",Z79<>\"Non requis\"),IF(COUNTRY_INFO!K79=1,0,IF(COUNTRY_INFO!K79=2,0.2*COUNTRY_INFO!G79/(0.5*COUNTRY_INFO!F79+0.2*COUNTRY_INFO!G79),IF(COUNTRY_INFO!K79=3,COUNTRY_INFO!G79/(COUNTRY_INFO!F79+COUNTRY_INFO!G79)))),0)","v":0},{"$f":"MAX(COUNTRY_INFO!D79*AK79*PROFILE!$G$7,COUNTRY_INFO!D79*AL79*PROFILE!$G$7)","v":894.42190026533967},{"$f":"MAX(COUNTRY_INFO!D79*AK79*PROFILE!$G$8,COUNTRY_INFO!D79*AL79*PROFILE!$G$8,COUNTRY_INFO!D79*AM79*PROFILE!$G$8)","v":2685.4129848709485},{"$f":"MAX(COUNTRY_INFO!D79*AK79*PROFILE!$G$9,COUNTRY_INFO!D79*AL79*PROFILE!$G$9,COUNTRY_INFO!D79*AM79*PROFILE!$G$9,IF(AND(DISTRICT!Z79<>\"Inconnu\",Z79<>\"Non requis\"),COUNTRY_INFO!O79*DISTRICT!AN79,0))","v":5172.9537422371586},{"$f":"MAX(COUNTRY_INFO!D79*AK79*PROFILE!$G$10,COUNTRY_INFO!D79*AL79*PROFILE!$G$10,IF(AND(DISTRICT!Z79<>\"Inconnu\",Z79<>\"Non requis\"),COUNTRY_INFO!O79*DISTRICT!AO79,0))","v":11438.211372626552},20191,0,{"$f":"MAX('MDA2'!J79,'T1'!L79,'T2'!J79,T3_R1!K79,T3_R2!K79)","v":0},{"$f":"MAX('MDA1'!K79,'MDA2'!K79,'MDA3'!I79,'MDA3'!L79,'T1'!M79,'T2'!K79,T3_R1!L79,T3_R2!L79)","v":0},{"$f":"MAX('MDA1'!L79,'MDA2'!L79,'MDA3'!J79,'MDA3'!M79,'T1'!N79,'T2'!L79,T3_R1!M79,T3_R2!M79)","v":0},0,{"$f":"MAX('MDA2'!J79,T79)","v":0},{"$f":"MAX('MDA1'!K79,'MDA2'!K79,'MDA3'!I79,'MDA3'!L79,V79,AD79)","v":0},{"$f":"MAX('MDA1'!L79,'MDA2'!L79,'MDA3'!J79,'MDA3'!M79,AF79)","v":0},0,0]
[{"$f":"IF(COUNTRY_INFO!A80=0,\" \",COUNTRY_INFO!A80)","v":"Guinea Bissau"},{"$f":"IF(COUNTRY_INFO!B80=0,\" \",COUNTRY_INFO!B80)","v":"Bafata"},{"$f":"IF(COUNTRY_INFO!C80=0,\" \",COUNTRY_INFO!C80)","v":"Contubuel"},{"$f":"COUNTRY_INFO!L80","v":30661},null,null,{"$f":"MAX('MDA1'!M80,'MDA2'!M80)","v":0},{"$f":"IF(AND(COUNTRY_INFO!H80>0,COUNTRY_INFO!H80<4),IF(D80>MAX('MDA1'!M80,'MDA2'!M80),MAX('MDA1'!M80,'MDA2'!M80),D80),0)","v":0},{"$f":"IF(AND(COUNTRY_INFO!H80>0,COUNTRY_INFO!H80<4), IF(G80/D80*100<>0, IF(G80/D80*100>100,100,G80/D80*100), \"-\"),0)","v":"-"},{"$f":"COUNTRY_INFO!M80","v":30661},null,null,{"$f":"MAX('MDA1'!M80,MAX('MDA3'!I80,'MDA3'!L80)+MAX('MDA3'!J80,'MDA3'!M80))","v":0},{"$f":"IF(AND(COUNTRY_INFO!I80>0,COUNTRY_INFO!I80<4),IF(J80>MAX('MDA1'!M80,MAX('MDA3'!I80,'MDA3'!L80)+MAX('MDA3'!J80,'MDA3'!M80)),MAX('MDA1'!M80,MAX('MDA3'!I80,'MDA3'!L80)+MAX('MDA3'!J80,'MDA3'!M80)),J80),0)","v":0},{"$f":"IF(AND(COUNTRY_INFO!I80>0,COUNTRY_INFO!I80<4), IF(M80/J80*100<>0, IF(M80/J80*100>100,100,M80/J80*100), \"-\"),0)","v":"-"},{"$f":"COUNTRY_INFO!N80","v":0},null,null,{"$f":"SUM(MAX('MDA2'!J80, 'T1'!L80, MAX(T3_R1!K80, T3_R2!K80)), MAX('MDA1'!K80, 'MDA2'!K80, 'T1'!M80, MAX(T3_R1!L80, T3_R2!L80)), MAX('MDA1'!L80, 'MDA2'!L80, 'T1'!N80, MAX(T3_R1!M80, T3_R2!M80)))","v":0},{"$f":"IF(AND(COUNTRY_INFO!J80>1,COUNTRY_INFO!J80<4),IF(COUNTRY_INFO!E80>MAX('MDA2'!J80,'T1'!L80,MAX(T3_R1!K80,T3_R2!K80)),MAX('MDA2'!J80,'T1'!L80,MAX(T3_R1!K80,T3_R2!K80)),COUNTRY_INFO!E80),0)","v":0},{"$f":"IF(AND(COUNTRY_INFO!J80>1,COUNTRY_INFO!J80<4), IF(T80/COUNTRY_INFO!E80*100<>0, IF(T80/COUNTRY_INFO!E80*100>100,100,T80/COUNTRY_INFO!E80*100), \"-\"),0)","v":0},{"$f":"IF(AND(COUNTRY_INFO!J80>1,COUNTRY_INFO!J80<4),IF(COUNTRY_INFO!F80>MAX('MDA1'!K80,'MDA2'!K80,'T1'!M80,MAX(T3_R1!L80,T3_R2!L80)),MAX('MDA1'!K80,'MDA2'!K80,'T1'!M80,MAX(T3_R1!L80,T3_R2!L80)),COUNTRY_INFO!F80),0)","v":0},{"$f":"IF(AND(COUNTRY_INFO!J80>1,COUNTRY_INFO!J80<4), IF(V80/COUNTRY_INFO!F80*100<>0, IF(V80/COUNTRY_INFO!F80*100>100,100,V80/COUNTRY_INFO!F80*100), \"-\"),0)","v":0},0,{"$f":"IF(AND(COUNTRY_INFO!J80>1,COUNTRY_INFO!J80<4), IF(S80/P80*100<>0, IF(X80/P80*100>100,100,X80/P80*100), \"-\"),0)","v":0},{"$f":"COUNTRY_INFO!O80","v":7401.3},null,null,{"$f":"MAX('T1'!L80,'T2'!J80)+MAX('T1'!M80,'T2'!K80)+MAX('T1'!N80,'T2'!L80)","v":0},{"$f":"IF(COUNTRY_INFO!K80=1,IF(COUNTRY_INFO!F80*0.33>MAX('T1'!M80,'T2'!K80),MAX('T1'!M80,'T2'!K80),COUNTRY_INFO!F80*0.33),IF(COUNTRY_INFO!K80=2,IF(COUNTRY_INFO!F80*0.5>MAX('T1'!M80,'T2'!K80),MAX('T1'!M80,'T2'!K80),COUNTRY_INFO!F80*0.5),IF(COUNTRY_INFO!K80=3,IF(COUNTRY_INFO!F80>MAX('T1'!M80,'T2'!K80),MAX('T1'!M80,'T2'!K80),COUNTRY_INFO!F80),0)))","v":0},{"$f":"IF(AND(COUNTRY_INFO!K80>0,COUNTRY_INFO!K80<4),IF(Z80>0,IF(COUNTRY_INFO!K80=1, AD80/(COUNTRY_INFO!F80*0.33)*100, IF(COUNTRY_INFO!K80=2, AD80/(COUNTRY_INFO!F80*0.5)*100, IF(COUNTRY_INFO!K80=3, AD80/COUNTRY_INFO!F80*100))),\"-\"),0)","v":0},{"$f":"IF(COUNTRY_INFO!K80=2,IF(COUNTRY_INFO!G80*0.2>MAX('T1'!N80,'T2'!L80),MAX('T1'!N80,'T2'!L80),COUNTRY_INFO!G80*0.2),IF(COUNTRY_INFO!K80=3,IF(COUNTRY_INFO!G80>MAX('T1'!N80,'T2'!L80),MAX('T1'!N80,'T2'!L80),COUNTRY_INFO!G80),0))","v":0},{"$f":"IF(AND(COUNTRY_INFO!K80>0,COUNTRY_INFO!K80<4),IF(Z80>0,IF(COUNTRY_INFO!K80=1, 0, IF(COUNTRY_INFO!K80=2, AF80/(COUNTRY_INFO!G80*0.2)*100, IF(COUNTRY_INFO!K80=3, AF80/COUNTRY_INFO!G80*100))),\"-\"),0)","v":0},0,{"$f":"IF(AND(COUNTRY_INFO!K80>0,COUNTRY_INFO!K80<4), IF(AC80/Z80*100<>0, IF(AH80/Z80*100>100,100,AH80/Z80*100), \"-\"),0)","v":"-"},null,{"$f":"IF(AND(D80<>0, D80<>\"Inconnu\",D80<>\"Interrompu\",D80<>\"Non requis\"),D80/COUNTRY_INFO!D80, 0)","v":1},{"$f":"IF(AND(J80<>0,J80<>\"Inconnu\",J80<>\"Interrompu\",J80<>\"Non requis\"),J80/COUNTRY_INFO!D80, 0)","v":1},{"$f":"IF(AND(P80<>0,P80<>\"Inconnu\",P80<>\"Non requis\"),P80/(COUNTRY_INFO!E80+COUNTRY_INFO!F80), 0)","v":0},{"$f":"IF(AND(Z80<>0,Z80<>\"Inconnu\",Z80<>\"Non requis\"),IF(COUNTRY_INFO!K80=1,1,IF(COUNTRY_INFO!K80=2,0.5*COUNTRY_INFO!F80/(0.5*COUNTRY_INFO!F80+0.2*COUNTRY_INFO!G80),IF(COUNTRY_INFO!K80=3,COUNTRY_INFO!F80/(COUNTRY_INFO!F80+COUNTRY_INFO!G80)))),0)","v":0.53065002094226688},{"$f":"IF(AND(Z80<>0,Z80<>\"Inconnu\",Z80<>\"Non requis\"),IF(COUNTRY_INFO!K80=1,0,IF(COUNTRY_INFO!K80=2,0.2*COUNTRY_INFO!G80/(0.5*COUNTRY_INFO!F80+0.2*COUNTRY_INFO!G80),IF(COUNTRY_INFO!K80=3,COUNTRY_INFO!G80/(COUNTRY_INFO!F80+COUNTRY_INFO!G80)))),0)","v":0.46934997905773312},{"$f":"MAX(COUNTRY_INFO!D80*AK80*PROFILE!$G$7,COUNTRY_INFO!D80*AL80*PROFILE!$G$7)","v":1358.2224696169371},{"$f":"MAX(COUNTRY_INFO!D80*AK80*PROFILE!$G$8,COUNTRY_INFO!D80*AL80*PROFILE!$G$8,COUNTRY_INFO!D80*AM80*PROFILE!$G$8)","v":4077.92816250449},{"$f":"MAX(COUNTRY_INFO!D80*AK80*PROFILE!$G$9,COUNTRY_INFO!D80*AL80*PROFILE!$G$9,COUNTRY_INFO!D80*AM80*PROFILE!$G$9,IF(AND(DISTRICT!Z80<>\"Inconnu\",Z80<>\"Non requis\"),COUNTRY_INFO!O80*DISTRICT!AN80,0))","v":7855.3778758225699},{"$f":"MAX(COUNTRY_INFO!D80*AK80*PROFILE!$G$10,COUNTRY_INFO!D80*AL80*PROFILE!$G$10,IF(AND(DISTRICT!Z80<>\"Inconnu\",Z80<>\"Non requis\"),COUNTRY_INFO!O80*DISTRICT!AO80,0))","v":17369.471492056},30660.999999999996,0,{"$f":"MAX('MDA2'!J80,'T1'!L80,'T2'!J80,T3_R1!K80,T3_R2!K80)","v":0},{"$f":"MAX('MDA1'!K80,'MDA2'!K80,'MDA3'!I80,'MDA3'!L80,'T1'!M80,'T2'!K80,T3_R1!L80,T3_R2!L80)","v":0},{"$f":"MAX('MDA1'!L80,'MDA2'!L80,'MDA3'!J80,'MDA3'!M80,'T1'!N80,'T2'!L80,T3_R1!M80,T3_R2!M80)","v":0},0,{"$f":"MAX('MDA2'!J80,T80)","v":0},{"$f":"MAX('MDA1'!K80,'MDA2'!K80,'MDA3'!I80,'MDA3'!L80,V80,AD80)","v":0},{"$f":"MAX('MDA1'!L80,'MDA2'!L80,'MDA3'!J80,'MDA3'!M80,AF80)","v":0},0,0]
[{"$f":"IF(COUNTRY_INFO!A81=0,\" \",COUNTRY_INFO!A81)","v":"Guinea Bissau"},{"$f":"IF(COUNTRY_INFO!B81=0,\" \",COUNTRY_INFO!B81)","v":"Bafata"},{"$f":"IF(COUNTRY_INFO!C81=0,\" \",COUNTRY_INFO!C81)","v":"Tendinto"},{"$f":"COUNTRY_INFO!L81","v":8405},null,null,{"$f":"MAX('MDA1'!M81,'MDA2'!M81)","v":0},{"$f":"IF(AND(COUNTRY_INFO!H81>0,COUNTRY_INFO!H81<4),IF(D81>MAX('MDA1'!M81,'MDA2'!M81),MAX('MDA1'!M81,'MDA2'!M81),D81),0)","v":0},{"$f":"IF(AND(COUNTRY_INFO!H81>0,COUNTRY_INFO!H81<4), IF(G81/D81*100<>0, IF(G81/D81*100>100,100,G81/D81*100), \"-\"),0)","v":"-"},{"$f":"COUNTRY_INFO!M81","v":8405},null,null,{"$f":"MAX('MDA1'!M81,MAX('MDA3'!I81,'MDA3'!L81)+MAX('MDA3'!J81,'MDA3'!M81))","v":0},{"$f":"IF(AND(COUNTRY_INFO!I81>0,COUNTRY_INFO!I81<4),IF(J81>MAX('MDA1'!M81,MAX('MDA3'!I81,'MDA3'!L81)+MAX('MDA3'!J81,'MDA3'!M81)),MAX('MDA1'!M81,MAX('MDA3'!I81,'MDA3'!L81)+MAX('MDA3'!J81,'MDA3'!M81)),J81),0)","v":0},{"$f":"IF(AND(COUNTRY_INFO!I81>0,COUNTRY_INFO!I81<4), IF(M81/J81*100<>0, IF(M81/J81*100>100,100,M81/J81*100), \"-\"),0)","v":"-"},{"$f":"COUNTRY_INFO!N81","v":0},null,null,{"$f":"SUM(MAX('MDA2'!J81, 'T1'!L81, MAX(T3_R1!K81, T3_R2!K81)), MAX('MDA1'!K81, 'MDA2'!K81, 'T1'!M81, MAX(T3_R1!L81, T3_R2!L81)), MAX('MDA1'!L81, 'MDA2'!L81, 'T1'!N81, MAX(T3_R1!M81, T3_R2!M81)))","v":0},{"$f":"IF(AND(COUNTRY_INFO!J81>1,COUNTRY_INFO!J81<4),IF(COUNTRY_INFO!E81>MAX('MDA2'!J81,'T1'!L81,MAX(T3_R1!K81,T3_R2!K81)),MAX('MDA2'!J81,'T1'!L81,MAX(T3_R1!K81,T3_R2!K81)),COUNTRY_INFO!E81),0)","v":0},{"$f":"IF(AND(COUNTRY_INFO!J81>1,COUNTRY_INFO!J81<4), IF(T81/COUNTRY_INFO!E81*100<>0, IF(T81/COUNTRY_INFO!E81*100>100,100,T81/COUNTRY_INFO!E81*100), \"-\"),0)","v":0},{"$f":"IF(AND(COUNTRY_INFO!J81>1,COUNTRY_INFO!J81<4),IF(COUNTRY_INFO!F81>MAX('MDA1'!K81,'MDA2'!K81,'T1'!M81,MAX(T3_R1!L81,T3_R2!L81)),MAX('MDA1'!K81,'MDA2'!K81,'T1'!M81,MAX(T3_R1!L81,T3_R2!L81)),COUNTRY_INFO!F81),0)","v":0},{"$f":"IF(AND(COUNTRY_INFO!J81>1,COUNTRY_INFO!J81<4), IF(V81/COUNTRY_INFO!F81*100<>0, IF(V81/COUNTRY_INFO!F81*100>100,100,V81/COUNTRY_INFO!F81*100), \"-\"),0)","v":0},0,{"$f":"IF(AND(COUNTRY_INFO!J81>1,COUNTRY_INFO!J81<4), IF(S81/P81*100<>0, IF(X81/P81*100>100,100,X81/P81*100), \"-\"),0)","v":0},{"$f":"COUNTRY_INFO!O81","v":2028.7},null,null,{"$f":"MAX('T1'!L81,'T2'!J81)+MAX('T1'!M81,'T2'!K81)+MAX('T1'!N81,'T2'!L81)","v":0},{"$f":"IF(COUNTRY_INFO!K81=1,IF(COUNTRY_INFO!F81*0.33>MAX('T1'!M81,'T2'!K81),MAX('T1'!M81,'T2'!K81),COUNTRY_INFO!F81*0.33),IF(COUNTRY_INFO!K81=2,IF(COUNTRY_INFO!F81*0.5>MAX('T1'!M81,'T2'!K81),MAX('T1'!M81,'T2'!K81),COUNTRY_INFO!F81*0.5),IF(COUNTRY_INFO!K81=3,IF(COUNTRY_INFO!F81>MAX('T1'!M81,'T2'!K81),MAX('T1'!M81,'T2'!K81),COUNTRY_INFO!F81),0)))","v":0},{"$f":"IF(AND(COUNTRY_INFO!K81>0,COUNTRY_INFO!K81<4),IF(Z81>0,IF(COUNTRY_INFO!K81=1, AD81/(COUNTRY_INFO!F81*0.33)*100, IF(COUNTRY_INFO!K81=2, AD81/(COUNTRY_INFO!F81*0.5)*100, IF(COUNTRY_INFO!K81=3, AD81/COUNTRY_INFO!F81*100))),\"-\"),0)","v":0},{"$f":"IF(COUNTRY_INFO!K81=2,IF(COUNTRY_INFO!G81*0.2>MAX('T1'!N81,'T2'!L81),MAX('T1'!N81,'T2'!L81),COUNTRY_INFO!G81*0.2),IF(COUNTRY_INFO!K81=3,IF(COUNTRY_INFO!G81>MAX('T1'!N81,'T2'!L81),MAX('T1'!N81,'T2'!L81),COUNTRY_INFO!G81),0))","v":0},{"$f":"IF(AND(COUNTRY_INFO!K81>0,COUNTRY_INFO!K81<4),IF(Z81>0,IF(COUNTRY_INFO!K81=1, 0, IF(COUNTRY_INFO!K81=2, AF81/(COUNTRY_INFO!G81*0.2)*100, IF(COUNTRY_INFO!K81=3, AF81/COUNTRY_INFO!G81*100))),\"-\"),0)","v":0},0,{"$f":"IF(AND(COUNTRY_INFO!K81>0,COUNTRY_INFO!K81<4), IF(AC81/Z81*100<>0, IF(AH81/Z81*100>100,100,AH81/Z81*100), \"-\"),0)","v":"-"},null,{"$f":"IF(AND(D81<>0, D81<>\"Inconnu\",D81<>\"Interrompu\",D81<>\"Non requis\"),D81/COUNTRY_INFO!D81, 0)","v":1},{"$f":"IF(AND(J81<>0,J81<>\"Inconnu\",J81<>\"Interrompu\",J81<>\"Non requis\"),J81/COUNTRY_INFO!D81, 0)","v":1},{"$f":"IF(AND(P81<>0,P81<>\"Inconnu\",P81<>\"Non requis\"),P81/(COUNTRY_INFO!E81+COUNTRY_INFO!F81), 0)","v":0},{"$f":"IF(AND(Z81<>0,Z81<>\"Inconnu\",Z81<>\"Non requis\"),IF(COUNTRY_INFO!K81=1,1,IF(COUNTRY_INFO!K81=2,0.5*COUNTRY_INFO!F81/(0.5*COUNTRY_INFO!F81+0.2*COUNTRY_INFO!G81),IF(COUNTRY_INFO!K81=3,COUNTRY_INFO!F81/(COUNTRY_INFO!F81+COUNTRY_INFO!G81)))),0)","v":0.53063538226450435},{"$f":"IF(AND(Z81<>0,Z81<>\"Inconnu\",Z81<>\"Non requis\"),IF(COUNTRY_INFO!K81=1,0,IF(COUNTRY_INFO!K81=2,0.2*COUNTRY_INFO!G81/(0.5*COUNTRY_INFO!F81+0.2*COUNTRY_INFO!G81),IF(COUNTRY_INFO!K81=3,COUNTRY_INFO!G81/(COUNTRY_INFO!F81+COUNTRY_INFO!G81)))),0)","v":0.46936461773549565},{"$f":"MAX(COUNTRY_INFO!D81*AK81*PROFILE!$G$7,COUNTRY_INFO!D81*AL81*PROFILE!$G$7)","v":372.32509889208956},{"$f":"MAX(COUNTRY_INFO!D81*AK81*PROFILE!$G$8,COUNTRY_INFO!D81*AL81*PROFILE!$G$8,COUNTRY_INFO!D81*AM81*PROFILE!$G$8)","v":1117.8691564479384},{"$f":"MAX(COUNTRY_INFO!D81*AK81*PROFILE!$G$9,COUNTRY_INFO!D81*AL81*PROFILE!$G$9,COUNTRY_INFO!D81*AM81*PROFILE!$G$9,IF(AND(DISTRICT!Z81<>\"Inconnu\",Z81<>\"Non requis\"),COUNTRY_INFO!O81*DISTRICT!AN81,0))","v":2153.3691349365222},{"$f":"MAX(COUNTRY_INFO!D81*AK81*PROFILE!$G$10,COUNTRY_INFO!D81*AL81*PROFILE!$G$10,IF(AND(DISTRICT!Z81<>\"Inconnu\",Z81<>\"Non requis\"),COUNTRY_INFO!O81*DISTRICT!AO81,0))","v":4761.4366097234497},8405,0,{"$f":"MAX('MDA2'!J81,'T1'!L81,'T2'!J81,T3_R1!K81,T3_R2!K81)","v":0},{"$f":"MAX('MDA1'!K81,'MDA2'!K81,'MDA3'!I81,'MDA3'!L81,'T1'!M81,'T2'!K81,T3_R1!L81,T3_R2!L81)","v":0},{"$f":"MAX('MDA1'!L81,'MDA2'!L81,'MDA3'!J81,'MDA3'!M81,'T1'!N81,'T2'!L81,T3_R1!M81,T3_R2!M81)","v":0},0,{"$f":"MAX('MDA2'!J81,T81)","v":0},{"$f":"MAX('MDA1'!K81,'MDA2'!K81,'MDA3'!I81,'MDA3'!L81,V81,AD81)","v":0},{"$f":"MAX('MDA1'!L81,'MDA2'!L81,'MDA3'!J81,'MDA3'!M81,AF81)","v":0},0,0]
[{"$f":"IF(COUNTRY_INFO!A82=0,\" \",COUNTRY_INFO!A82)","v":"Guinea Bissau"},{"$f":"IF(COUNTRY_INFO!B82=0,\" \",COUNTRY_INFO!B82)","v":"Bafata"},{"$f":"IF(COUNTRY_INFO!C82=0,\" \",COUNTRY_INFO!C82)","v":"Geba"},{"$f":"COUNTRY_INFO!L82","v":14925},null,null,{"$f":"MAX('MDA1'!M82,'MDA2'!M82)","v":0},{"$f":"IF(AND(COUNTRY_INFO!H82>0,COUNTRY_INFO!H82<4),IF(D82>MAX('MDA1'!M82,'MDA2'!M82),MAX('MDA1'!M82,'MDA2'!M82),D82),0)","v":0},{"$f":"IF(AND(COUNTRY_INFO!H82>0,COUNTRY_INFO!H82<4), IF(G82/D82*100<>0, IF(G82/D82*100>100,100,G82/D82*100), \"-\"),0)","v":"-"},{"$f":"COUNTRY_INFO!M82","v":14925},null,null,{"$f":"MAX('MDA1'!M82,MAX('MDA3'!I82,'MDA3'!L82)+MAX('MDA3'!J82,'MDA3'!M82))","v":0},{"$f":"IF(AND(COUNTRY_INFO!I82>0,COUNTRY_INFO!I82<4),IF(J82>MAX('MDA1'!M82,MAX('MDA3'!I82,'MDA3'!L82)+MAX('MDA3'!J82,'MDA3'!M82)),MAX('MDA1'!M82,MAX('MDA3'!I82,'MDA3'!L82)+MAX('MDA3'!J82,'MDA3'!M82)),J82),0)","v":0},{"$f":"IF(AND(COUNTRY_INFO!I82>0,COUNTRY_INFO!I82<4), IF(M82/J82*100<>0, IF(M82/J82*100>100,100,M82/J82*100), \"-\"),0)","v":"-"},{"$f":"COUNTRY_INFO!N82","v":0},null,null,{"$f":"SUM(MAX('MDA2'!J82, 'T1'!L82, MAX(T3_R1!K82, T3_R2!K82)), MAX('MDA1'!K82, 'MDA2'!K82, 'T1'!M82, MAX(T3_R1!L82, T3_R2!L82)), MAX('MDA1'!L82, 'MDA2'!L82, 'T1'!N82, MAX(T3_R1!M82, T3_R2!M82)))","v":0},{"$f":"IF(AND(COUNTRY_INFO!J82>1,COUNTRY_INFO!J82<4),IF(COUNTRY_INFO!E82>MAX('MDA2'!J82,'T1'!L82,MAX(T3_R1!K82,T3_R2!K82)),MAX('MDA2'!J82,'T1'!L82,MAX(T3_R1!K82,T3_R2!K82)),COUNTRY_INFO!E82),0)","v":0},{"$f":"IF(AND(COUNTRY_INFO!J82>1,COUNTRY_INFO!J82<4), IF(T82/COUNTRY_INFO!E82*100<>0, IF(T82/COUNTRY_INFO!E82*100>100,100,T82/COUNTRY_INFO!E82*100), \"-\"),0)","v":0},{"$f":"IF(AND(COUNTRY_INFO!J82>1,COUNTRY_INFO!J82<4),IF(COUNTRY_INFO!F82>MAX('MDA1'!K82,'MDA2'!K82,'T1'!M82,MAX(T3_R1!L82,T3_R2!L82)),MAX('MDA1'!K82,'MDA2'!K82,'T1'!M82,MAX(T3_R1!L82,T3_R2!L82)),COUNTRY_INFO!F82),0)","v":0},{"$f":"IF(AND(COUNTRY_INFO!J82>1,COUNTRY_INFO!J82<4), IF(V82/COUNTRY_INFO!F82*100<>0, IF(V82/COUNTRY_INFO!F82*100>100,100,V82/COUNTRY_INFO!F82*100), \"-\"),0)","v":0},0,{"$f":"IF(AND(COUNTRY_INFO!J82>1,COUNTRY_INFO!J82<4), IF(S82/P82*100<>0, IF(X82/P82*100>100,100,X82/P82*100), \"-\"),0)","v":0},{"$f":"COUNTRY_INFO!O82","v":1261.92},null,null,{"$f":"MAX('T1'!L82,'T2'!J82)+MAX('T1'!M82,'T2'!K82)+MAX('T1'!N82,'T2'!L82)","v":0},{"$f":"IF(COUNTRY_INFO!K82=1,IF(COUNTRY_INFO!F82*0.33>MAX('T1'!M82,'T2'!K82),MAX('T1'!M82,'T2'!K82),COUNTRY_INFO!F82*0.33),IF(COUNTRY_INFO!K82=2,IF(COUNTRY_INFO!F82*0.5>MAX('T1'!M82,'T2'!K82),MAX('T1'!M82,'T2'!K82),COUNTRY_INFO!F82*0.5),IF(COUNTRY_INFO!K82=3,IF(COUNTRY_INFO!F82>MAX('T1'!M82,'T2'!K82),MAX('T1'!M82,'T2'!K82),COUNTRY_INFO!F82),0)))","v":0},{"$f":"IF(AND(COUNTRY_INFO!K82>0,COUNTRY_INFO!K82<4),IF(Z82>0,IF(COUNTRY_INFO!K82=1, AD82/(COUNTRY_INFO!F82*0.33)*100, IF(COUNTRY_INFO!K82=2, AD82/(COUNTRY_INFO!F82*0.5)*100, IF(COUNTRY_INFO!K82=3, AD82/COUNTRY_INFO!F82*100))),\"-\"),0)","v":0},{"$f":"IF(COUNTRY_INFO!K82=2,IF(COUNTRY_INFO!G82*0.2>MAX('T1'!N82,'T2'!L82),MAX('T1'!N82,'T2'!L82),COUNTRY_INFO!G82*0.2),IF(COUNTRY_INFO!K82=3,IF(COUNTRY_INFO!G82>MAX('T1'!N82,'T2'!L82),MAX('T1'!N82,'T2'!L82),COUNTRY_INFO!G82),0))","v":0},{"$f":"IF(AND(COUNTRY_INFO!K82>0,COUNTRY_INFO!K82<4),IF(Z82>0,IF(COUNTRY_INFO!K82=1, 0, IF(COUNTRY_INFO!K82=2, AF82/(COUNTRY_INFO!G82*0.2)*100, IF(COUNTRY_INFO!K82=3, AF82/COUNTRY_INFO!G82*100))),\"-\"),0)","v":0},0,{"$f":"IF(AND(COUNTRY_INFO!K82>0,COUNTRY_INFO!K82<4), IF(AC82/Z82*100<>0, IF(AH82/Z82*100>100,100,AH82/Z82*100), \"-\"),0)","v":"-"},null,{"$f":"IF(AND(D82<>0, D82<>\"Inconnu\",D82<>\"Interrompu\",D82<>\"Non requis\"),D82/COUNTRY_INFO!D82, 0)","v":1},{"$f":"IF(AND(J82<>0,J82<>\"Inconnu\",J82<>\"Interrompu\",J82<>\"Non requis\"),J82/COUNTRY_INFO!D82, 0)","v":1},{"$f":"IF(AND(P82<>0,P82<>\"Inconnu\",P82<>\"Non requis\"),P82/(COUNTRY_INFO!E82+COUNTRY_INFO!F82), 0)","v":0},{"$f":"IF(AND(Z82<>0,Z82<>\"Inconnu\",Z82<>\"Non requis\"),IF(COUNTRY_INFO!K82=1,1,IF(COUNTRY_INFO!K82=2,0.5*COUNTRY_INFO!F82/(0.5*COUNTRY_INFO!F82+0.2*COUNTRY_INFO!G82),IF(COUNTRY_INFO!K82=3,COUNTRY_INFO!F82/(COUNTRY_INFO!F82+COUNTRY_INFO!G82)))),0)","v":1},{"$f":"IF(AND(Z82<>0,Z82<>\"Inconnu\",Z82<>\"Non requis\"),IF(COUNTRY_INFO!K82=1,0,IF(COUNTRY_INFO!K82=2,0.2*COUNTRY_INFO!G82/(0.5*COUNTRY_INFO!F82+0.2*COUNTRY_INFO!G82),IF(COUNTRY_INFO!K82=3,COUNTRY_INFO!G82/(COUNTRY_INFO!F82+COUNTRY_INFO!G82)))),0)","v":0},{"$f":"MAX(COUNTRY_INFO!D82*AK82*PROFILE!$G$7,COUNTRY_INFO!D82*AL82*PROFILE!$G$7)","v":661.14837608143205},{"$f":"MAX(COUNTRY_INFO!D82*AK82*PROFILE!$G$8,COUNTRY_INFO!D82*AL82*PROFILE!$G$8,COUNTRY_INFO!D82*AM82*PROFILE!$G$8)","v":1985.0323807240309},{"$f":"MAX(COUNTRY_INFO!D82*AK82*PROFILE!$G$9,COUNTRY_INFO!D82*AL82*PROFILE!$G$9,COUNTRY_INFO!D82*AM82*PROFILE!$G$9,IF(AND(DISTRICT!Z82<>\"Inconnu\",Z82<>\"Non requis\"),COUNTRY_INFO!O82*DISTRICT!AN82,0))","v":3823.7994454405225},{"$f":"MAX(COUNTRY_INFO!D82*AK82*PROFILE!$G$10,COUNTRY_INFO!D82*AL82*PROFILE!$G$10,IF(AND(DISTRICT!Z82<>\"Inconnu\",Z82<>\"Non requis\"),COUNTRY_INFO!O82*DISTRICT!AO82,0))","v":8455.0197977540138},14925,0,{"$f":"MAX('MDA2'!J82,'T1'!L82,'T2'!J82,T3_R1!K82,T3_R2!K82)","v":0},{"$f":"MAX('MDA1'!K82,'MDA2'!K82,'MDA3'!I82,'MDA3'!L82,'T1'!M82,'T2'!K82,T3_R1!L82,T3_R2!L82)","v":0},{"$f":"MAX('MDA1'!L82,'MDA2'!L82,'MDA3'!J82,'MDA3'!M82,'T1'!N82,'T2'!L82,T3_R1!M82,T3_R2!M82)","v":0},0,{"$f":"MAX('MDA2'!J82,T82)","v":0},{"$f":"MAX('MDA1'!K82,'MDA2'!K82,'MDA3'!I82,'MDA3'!L82,V82,AD82)","v":0},{"$f":"MAX('MDA1'!L82,'MDA2'!L82,'MDA3'!J82,'MDA3'!M82,AF82)","v":0},0,0]
[{"$f":"IF(COUNTRY_INFO!A83=0,\" \",COUNTRY_INFO!A83)","v":"Guinea Bissau"},{"$f":"IF(COUNTRY_INFO!B83=0,\" \",COUNTRY_INFO!B83)","v":"Bafata"},{"$f":"IF(COUNTRY_INFO!C83=0,\" \",COUNTRY_INFO!C83)","v":"Tantancosse"},{"$f":"COUNTRY_INFO!L83","v":17403},null,null,{"$f":"MAX('MDA1'!M83,'MDA2'!M83)","v":0},{"$f":"IF(AND(COUNTRY_INFO!H83>0,COUNTRY_INFO!H83<4),IF(D83>MAX('MDA1'!M83,'MDA2'!M83),MAX('MDA1'!M83,'MDA2'!M83),D83),0)","v":0},{"$f":"IF(AND(COUNTRY_INFO!H83>0,COUNTRY_INFO!H83<4), IF(G83/D83*100<>0, IF(G83/D83*100>100,100,G83/D83*100), \"-\"),0)","v":"-"},{"$f":"COUNTRY_INFO!M83","v":17403},null,null,{"$f":"MAX('MDA1'!M83,MAX('MDA3'!I83,'MDA3'!L83)+MAX('MDA3'!J83,'MDA3'!M83))","v":0},{"$f":"IF(AND(COUNTRY_INFO!I83>0,COUNTRY_INFO!I83<4),IF(J83>MAX('MDA1'!M83,MAX('MDA3'!I83,'MDA3'!L83)+MAX('MDA3'!J83,'MDA3'!M83)),MAX('MDA1'!M83,MAX('MDA3'!I83,'MDA3'!L83)+MAX('MDA3'!J83,'MDA3'!M83)),J83),0)","v":0},{"$f":"IF(AND(COUNTRY_INFO!I83>0,COUNTRY_INFO!I83<4), IF(M83/J83*100<>0, IF(M83/J83*100>100,100,M83/J83*100), \"-\"),0)","v":"-"},{"$f":"COUNTRY_INFO!N83","v":0},null,null,{"$f":"SUM(MAX('MDA2'!J83, 'T1'!L83, MAX(T3_R1!K83, T3_R2!K83)), MAX('MDA1'!K83, 'MDA2'!K83, 'T1'!M83, MAX(T3_R1!L83, T3_R2!L83)), MAX('MDA1'!L83, 'MDA2'!L83, 'T1'!N83, MAX(T3_R1!M83, T3_R2!M83)))","v":0},{"$f":"IF(AND(COUNTRY_INFO!J83>1,COUNTRY_INFO!J83<4),IF(COUNTRY_INFO!E83>MAX('MDA2'!J83,'T1'!L83,MAX(T3_R1!K83,T3_R2!K83)),MAX('MDA2'!J83,'T1'!L83,MAX(T3_R1!K83,T3_R2!K83)),COUNTRY_INFO!E83),0)","v":0},{"$f":"IF(AND(COUNTRY_INFO!J83>1,COUNTRY_INFO!J83<4), IF(T83/COUNTRY_INFO!E83*100<>0, IF(T83/COUNTRY_INFO!E83*100>100,100,T83/COUNTRY_INFO!E83*100), \"-\"),0)","v":0},{"$f":"IF(AND(COUNTRY_INFO!J83>1,COUNTRY_INFO!J83<4),IF(COUNTRY_INFO!F83>MAX('MDA1'!K83,'MDA2'!K83,'T1'!M83,MAX(T3_R1!L83,T3_R2!L83)),MAX('MDA1'!K83,'MDA2'!K83,'T1'!M83,MAX(T3_R1!L83,T3_R2!L83)),COUNTRY_INFO!F83),0)","v":0},{"$f":"IF(AND(COUNTRY_INFO!J83>1,COUNTRY_INFO!J83<4), IF(V83/COUNTRY_INFO!F83*100<>0, IF(V83/COUNTRY_INFO!F83*100>100,100,V83/COUNTRY_INFO!F83*100), \"-\"),0)","v":0},0,{"$f":"IF(AND(COUNTRY_INFO!J83>1,COUNTRY_INFO!J83<4), IF(S83/P83*100<>0, IF(X83/P83*100>100,100,X83/P83*100), \"-\"),0)","v":0},{"$f":"COUNTRY_INFO!O83","v":1471.47},null,null,{"$f":"MAX('T1'!L83,'T2'!J83)+MAX('T1'!M83,'T2'!K83)+MAX('T1'!N83,'T2'!L83)","v":0},{"$f":"IF(COUNTRY_INFO!K83=1,IF(COUNTRY_INFO!F83*0.33>MAX('T1'!M83,'T2'!K83),MAX('T1'!M83,'T2'!K83),COUNTRY_INFO!F83*0.33),IF(COUNTRY_INFO!K83=2,IF(COUNTRY_INFO!F83*0.5>MAX('T1'!M83,'T2'!K83),MAX('T1'!M83,'T2'!K83),COUNTRY_INFO!F83*0.5),IF(COUNTRY_INFO!K83=3,IF(COUNTRY_INFO!F83>MAX('T1'!M83,'T2'!K83),MAX('T1'!M83,'T2'!K83),COUNTRY_INFO!F83),0)))","v":0},{"$f":"IF(AND(COUNTRY_INFO!K83>0,COUNTRY_INFO!K83<4),IF(Z83>0,IF(COUNTRY_INFO!K83=1, AD83/(COUNTRY_INFO!F83*0.33)*100, IF(COUNTRY_INFO!K83=2, AD83/(COUNTRY_INFO!F83*0.5)*100, IF(COUNTRY_INFO!K83=3, AD83/COUNTRY_INFO!F83*100))),\"-\"),0)","v":0},{"$f":"IF(COUNTRY_INFO!K83=2,IF(COUNTRY_INFO!G83*0.2>MAX('T1'!N83,'T2'!L83),MAX('T1'!N83,'T2'!L83),COUNTRY_INFO!G83*0.2),IF(COUNTRY_INFO!K83=3,IF(COUNTRY_INFO!G83>MAX('T1'!N83,'T2'!L83),MAX('T1'!N83,'T2'!L83),COUNTRY_INFO!G83),0))","v":0},{"$f":"IF(AND(COUNTRY_INFO!K83>0,COUNTRY_INFO!K83<4),IF(Z83>0,IF(COUNTRY_INFO!K83=1, 0, IF(COUNTRY_INFO!K83=2, AF83/(COUNTRY_INFO!G83*0.2)*100, IF(COUNTRY_INFO!K83=3, AF83/COUNTRY_INFO!G83*100))),\"-\"),0)","v":0},0,{"$f":"IF(AND(COUNTRY_INFO!K83>0,COUNTRY_INFO!K83<4), IF(AC83/Z83*100<>0, IF(AH83/Z83*100>100,100,AH83/Z83*100), \"-\"),0)","v":"-"},null,{"$f":"IF(AND(D83<>0, D83<>\"Inconnu\",D83<>\"Interrompu\",D83<>\"Non requis\"),D83/COUNTRY_INFO!D83, 0)","v":1},{"$f":"IF(AND(J83<>0,J83<>\"Inconnu\",J83<>\"Interrompu\",J83<>\"Non requis\"),J83/COUNTRY_INFO!D83, 0)","v":1},{"$f":"IF(AND(P83<>0,P83<>\"Inconnu\",P83<>\"Non requis\"),P83/(COUNTRY_INFO!E83+COUNTRY_INFO!F83), 0)","v":0},{"$f":"IF(AND(Z83<>0,Z83<>\"Inconnu\",Z83<>\"Non requis\"),IF(COUNTRY_INFO!K83=1,1,IF(COUNTRY_INFO!K83=2,0.5*COUNTRY_INFO!F83/(0.5*COUNTRY_INFO!F83+0.2*COUNTRY_INFO!G83),IF(COUNTRY_INFO!K83=3,COUNTRY_INFO!F83/(COUNTRY_INFO!F83+COUNTRY_INFO!G83)))),0)","v":1},{"$f":"IF(AND(Z83<>0,Z83<>\"Inconnu\",Z83<>\"Non requis\"),IF(COUNTRY_INFO!K83=1,0,IF(COUNTRY_INFO!K83=2,0.2*COUNTRY_INFO!G83/(0.5*COUNTRY_INFO!F83+0.2*COUNTRY_INFO!G83),IF(COUNTRY_INFO!K83=3,COUNTRY_INFO!G83/(COUNTRY_INFO!F83+COUNTRY_INFO!G83)))),0)","v":0},{"$f":"MAX(COUNTRY_INFO!D83*AK83*PROFILE!$G$7,COUNTRY_INFO!D83*AL83*PROFILE!$G$7)","v":770.91894063284167},{"$f":"MAX(COUNTRY_INFO!D83*AK83*PROFILE!$G$8,COUNTRY_INFO!D83*AL83*PROFILE!$G$8,COUNTRY_INFO!D83*AM83*PROFILE!$G$8)","v":2314.6076061467543},{"$f":"MAX(COUNTRY_INFO!D83*AK83*PROFILE!$G$9,COUNTRY_INFO!D83*AL83*PROFILE!$G$9,COUNTRY_INFO!D83*AM83*PROFILE!$G$9,IF(AND(DISTRICT!Z83<>\"Inconnu\",Z83<>\"Non requis\"),COUNTRY_INFO!O83*DISTRICT!AN83,0))","v":4458.6654438191899},{"$f":"MAX(COUNTRY_INFO!D83*AK83*PROFILE!$G$10,COUNTRY_INFO!D83*AL83*PROFILE!$G$10,IF(AND(DISTRICT!Z83<>\"Inconnu\",Z83<>\"Non requis\"),COUNTRY_INFO!O83*DISTRICT!AO83,0))","v":9858.808009401213},17403,0,{"$f":"MAX('MDA2'!J83,'T1'!L83,'T2'!J83,T3_R1!K83,T3_R2!K83)","v":0},{"$f":"MAX('MDA1'!K83,'MDA2'!K83,'MDA3'!I83,'MDA3'!L83,'T1'!M83,'T2'!K83,T3_R1!L83,T3_R2!L83)","v":0},{"$f":"MAX('MDA1'!L83,'MDA2'!L83,'MDA3'!J83,'MDA3'!M83,'T1'!N83,'T2'!L83,T3_R1!M83,T3_R2!M83)","v":0},0,{"$f":"MAX('MDA2'!J83,T83)","v":0},{"$f":"MAX('MDA1'!K83,'MDA2'!K83,'MDA3'!I83,'MDA3'!L83,V83,AD83)","v":0},{"$f":"MAX('MDA1'!L83,'MDA2'!L83,'MDA3'!J83,'MDA3'!M83,AF83)","v":0},0,0]
[{"$f":"IF(COUNTRY_INFO!A84=0,\" \",COUNTRY_INFO!A84)","v":"Guinea Bissau"},{"$f":"IF(COUNTRY_INFO!B84=0,\" \",COUNTRY_INFO!B84)","v":"Bafata"},{"$f":"IF(COUNTRY_INFO!C84=0,\" \",COUNTRY_INFO!C84)","v":"Ga-mamudo"},{"$f":"COUNTRY_INFO!L84","v":21832},null,null,{"$f":"MAX('MDA1'!M84,'MDA2'!M84)","v":0},{"$f":"IF(AND(COUNTRY_INFO!H84>0,COUNTRY_INFO!H84<4),IF(D84>MAX('MDA1'!M84,'MDA2'!M84),MAX('MDA1'!M84,'MDA2'!M84),D84),0)","v":0},{"$f":"IF(AND(COUNTRY_INFO!H84>0,COUNTRY_INFO!H84<4), IF(G84/D84*100<>0, IF(G84/D84*100>100,100,G84/D84*100), \"-\"),0)","v":"-"},{"$f":"COUNTRY_INFO!M84","v":21832},null,null,{"$f":"MAX('MDA1'!M84,MAX('MDA3'!I84,'MDA3'!L84)+MAX('MDA3'!J84,'MDA3'!M84))","v":0},{"$f":"IF(AND(COUNTRY_INFO!I84>0,COUNTRY_INFO!I84<4),IF(J84>MAX('MDA1'!M84,MAX('MDA3'!I84,'MDA3'!L84)+MAX('MDA3'!J84,'MDA3'!M84)),MAX('MDA1'!M84,MAX('MDA3'!I84,'MDA3'!L84)+MAX('MDA3'!J84,'MDA3'!M84)),J84),0)","v":0},{"$f":"IF(AND(COUNTRY_INFO!I84>0,COUNTRY_INFO!I84<4), IF(M84/J84*100<>0, IF(M84/J84*100>100,100,M84/J84*100), \"-\"),0)","v":"-"},{"$f":"COUNTRY_INFO!N84","v":0},null,null,{"$f":"SUM(MAX('MDA2'!J84, 'T1'!L84, MAX(T3_R1!K84, T3_R2!K84)), MAX('MDA1'!K84, 'MDA2'!K84, 'T1'!M84, MAX(T3_R1!L84, T3_R2!L84)), MAX('MDA1'!L84, 'MDA2'!L84, 'T1'!N84, MAX(T3_R1!M84, T3_R2!M84)))","v":0},{"$f":"IF(AND(COUNTRY_INFO!J84>1,COUNTRY_INFO!J84<4),IF(COUNTRY_INFO!E84>MAX('MDA2'!J84,'T1'!L84,MAX(T3_R1!K84,T3_R2!K84)),MAX('MDA2'!J84,'T1'!L84,MAX(T3_R1!K84,T3_R2!K84)),COUNTRY_INFO!E84),0)","v":0},{"$f":"IF(AND(COUNTRY_INFO!J84>1,COUNTRY_INFO!J84<4), IF(T84/COUNTRY_INFO!E84*100<>0, IF(T84/COUNTRY_INFO!E84*100>100,100,T84/COUNTRY_INFO!E84*100), \"-\"),0)","v":0},{"$f":"IF(AND(COUNTRY_INFO!J84>1,COUNTRY_INFO!J84<4),IF(COUNTRY_INFO!F84>MAX('MDA1'!K84,'MDA2'!K84,'T1'!M84,MAX(T3_R1!L84,T3_R2!L84)),MAX('MDA1'!K84,'MDA2'!K84,'T1'!M84,MAX(T3_R1!L84,T3_R2!L84)),COUNTRY_INFO!F84),0)","v":0},{"$f":"IF(AND(COUNTRY_INFO!J84>1,COUNTRY_INFO!J84<4), IF(V84/COUNTRY_INFO!F84*100<>0, IF(V84/COUNTRY_INFO!F84*100>100,100,V84/COUNTRY_INFO!F84*100), \"-\"),0)","v":0},0,{"$f":"IF(AND(COUNTRY_INFO!J84>1,COUNTRY_INFO!J84<4), IF(S84/P84*100<>0, IF(X84/P84*100>100,100,X84/P84*100), \"-\"),0)","v":0},{"$f":"COUNTRY_INFO!O84","v":5270.1},null,null,{"$f":"MAX('T1'!L84,'T2'!J84)+MAX('T1'!M84,'T2'!K84)+MAX('T1'!N84,'T2'!L84)","v":0},{"$f":"IF(COUNTRY_INFO!K84=1,IF(COUNTRY_INFO!F84*0.33>MAX('T1'!M84,'T2'!K84),MAX('T1'!M84,'T2'!K84),COUNTRY_INFO!F84*0.33),IF(COUNTRY_INFO!K84=2,IF(COUNTRY_INFO!F84*0.5>MAX('T1'!M84,'T2'!K84),MAX('T1'!M84,'T2'!K84),COUNTRY_INFO!F84*0.5),IF(COUNTRY_INFO!K84=3,IF(COUNTRY_INFO!F84>MAX('T1'!M84,'T2'!K84),MAX('T1'!M84,'T2'!K84),COUNTRY_INFO!F84),0)))","v":0},{"$f":"IF(AND(COUNTRY_INFO!K84>0,COUNTRY_INFO!K84<4),IF(Z84>0,IF(COUNTRY_INFO!K84=1, AD84/(COUNTRY_INFO!F84*0.33)*100, IF(COUNTRY_INFO!K84=2, AD84/(COUNTRY_INFO!F84*0.5)*100, IF(COUNTRY_INFO!K84=3, AD84/COUNTRY_INFO!F84*100))),\"-\"),0)","v":0},{"$f":"IF(COUNTRY_INFO!K84=2,IF(COUNTRY_INFO!G84*0.2>MAX('T1'!N84,'T2'!L84),MAX('T1'!N84,'T2'!L84),COUNTRY_INFO!G84*0.2),IF(COUNTRY_INFO!K84=3,IF(COUNTRY_INFO!G84>MAX('T1'!N84,'T2'!L84),MAX('T1'!N84,'T2'!L84),COUNTRY_INFO!G84),0))","v":0},{"$f":"IF(AND(COUNTRY_INFO!K84>0,COUNTRY_INFO!K84<4),IF(Z84>0,IF(COUNTRY_INFO!K84=1, 0, IF(COUNTRY_INFO!K84=2, AF84/(COUNTRY_INFO!G84*0.2)*100, IF(COUNTRY_INFO!K84=3, AF84/COUNTRY_INFO!G84*100))),\"-\"),0)","v":0},0,{"$f":"IF(AND(COUNTRY_INFO!K84>0,COUNTRY_INFO!K84<4), IF(AC84/Z84*100<>0, IF(AH84/Z84*100>100,100,AH84/Z84*100), \"-\"),0)","v":"-"},null,{"$f":"IF(AND(D84<>0, D84<>\"Inconnu\",D84<>\"Interrompu\",D84<>\"Non requis\"),D84/COUNTRY_INFO!D84, 0)","v":1},{"$f":"IF(AND(J84<>0,J84<>\"Inconnu\",J84<>\"Interrompu\",J84<>\"Non requis\"),J84/COUNTRY_INFO!D84, 0)","v":1},{"$f":"IF(AND(P84<>0,P84<>\"Inconnu\",P84<>\"Non requis\"),P84/(COUNTRY_INFO!E84+COUNTRY_INFO!F84), 0)","v":0},{"$f":"IF(AND(Z84<>0,Z84<>\"Inconnu\",Z84<>\"Non requis\"),IF(COUNTRY_INFO!K84=1,1,IF(COUNTRY_INFO!K84=2,0.5*COUNTRY_INFO!F84/(0.5*COUNTRY_INFO!F84+0.2*COUNTRY_INFO!G84),IF(COUNTRY_INFO!K84=3,COUNTRY_INFO!F84/(COUNTRY_INFO!F84+COUNTRY_INFO!G84)))),0)","v":0.5306350923132388},{"$f":"IF(AND(Z84<>0,Z84<>\"Inconnu\",Z84<>\"Non requis\"),IF(COUNTRY_INFO!K84=1,0,IF(COUNTRY_INFO!K84=2,0.2*COUNTRY_INFO!G84/(0.5*COUNTRY_INFO!F84+0.2*COUNTRY_INFO!G84),IF(COUNTRY_INFO!K84=3,COUNTRY_INFO!G84/(COUNTRY_INFO!F84+COUNTRY_INFO!G84)))),0)","v":0.4693649076867612},{"$f":"MAX(COUNTRY_INFO!D84*AK84*PROFILE!$G$7,COUNTRY_INFO!D84*AL84*PROFILE!$G$7)","v":967.11499809781071},{"$f":"MAX(COUNTRY_INFO!D84*AK84*PROFILE!$G$8,COUNTRY_INFO!D84*AL84*PROFILE!$G$8,COUNTRY_INFO!D84*AM84*PROFILE!$G$8)","v":2903.6667963797013},{"$f":"MAX(COUNTRY_INFO!D84*AK84*PROFILE!$G$9,COUNTRY_INFO!D84*AL84*PROFILE!$G$9,COUNTRY_INFO!D84*AM84*PROFILE!$G$9,IF(AND(DISTRICT!Z84<>\"Inconnu\",Z84<>\"Non requis\"),COUNTRY_INFO!O84*DISTRICT!AN84,0))","v":5593.3795305097137},{"$f":"MAX(COUNTRY_INFO!D84*AK84*PROFILE!$G$10,COUNTRY_INFO!D84*AL84*PROFILE!$G$10,IF(AND(DISTRICT!Z84<>\"Inconnu\",Z84<>\"Non requis\"),COUNTRY_INFO!O84*DISTRICT!AO84,0))","v":12367.838675012772},21832,0,{"$f":"MAX('MDA2'!J84,'T1'!L84,'T2'!J84,T3_R1!K84,T3_R2!K84)","v":0},{"$f":"MAX('MDA1'!K84,'MDA2'!K84,'MDA3'!I84,'MDA3'!L84,'T1'!M84,'T2'!K84,T3_R1!L84,T3_R2!L84)","v":0},{"$f":"MAX('MDA1'!L84,'MDA2'!L84,'MDA3'!J84,'MDA3'!M84,'T1'!N84,'T2'!L84,T3_R1!M84,T3_R2!M84)","v":0},0,{"$f":"MAX('MDA2'!J84,T84)","v":0},{"$f":"MAX('MDA1'!K84,'MDA2'!K84,'MDA3'!I84,'MDA3'!L84,V84,AD84)","v":0},{"$f":"MAX('MDA1'!L84,'MDA2'!L84,'MDA3'!J84,'MDA3'!M84,AF84)","v":0},0,0]
[{"$f":"IF(COUNTRY_INFO!A85=0,\" \",COUNTRY_INFO!A85)","v":"Guinea Bissau"},{"$f":"IF(COUNTRY_INFO!B85=0,\" \",COUNTRY_INFO!B85)","v":"Bafata"},{"$f":"IF(COUNTRY_INFO!C85=0,\" \",COUNTRY_INFO!C85)","v":"Bambadinca"},{"$f":"COUNTRY_INFO!L85","v":32066},null,null,{"$f":"MAX('MDA1'!M85,'MDA2'!M85)","v":0},{"$f":"IF(AND(COUNTRY_INFO!H85>0,COUNTRY_INFO!H85<4),IF(D85>MAX('MDA1'!M85,'MDA2'!M85),MAX('MDA1'!M85,'MDA2'!M85),D85),0)","v":0},{"$f":"IF(AND(COUNTRY_INFO!H85>0,COUNTRY_INFO!H85<4), IF(G85/D85*100<>0, IF(G85/D85*100>100,100,G85/D85*100), \"-\"),0)","v":"-"},{"$f":"COUNTRY_INFO!M85","v":32066},null,null,{"$f":"MAX('MDA1'!M85,MAX('MDA3'!I85,'MDA3'!L85)+MAX('MDA3'!J85,'MDA3'!M85))","v":0},{"$f":"IF(AND(COUNTRY_INFO!I85>0,COUNTRY_INFO!I85<4),IF(J85>MAX('MDA1'!M85,MAX('MDA3'!I85,'MDA3'!L85)+MAX('MDA3'!J85,'MDA3'!M85)),MAX('MDA1'!M85,MAX('MDA3'!I85,'MDA3'!L85)+MAX('MDA3'!J85,'MDA3'!M85)),J85),0)","v":0},{"$f":"IF(AND(COUNTRY_INFO!I85>0,COUNTRY_INFO!I85<4), IF(M85/J85*100<>0, IF(M85/J85*100>100,100,M85/J85*100), \"-\"),0)","v":"-"},{"$f":"COUNTRY_INFO!N85","v":0},null,null,{"$f":"SUM(MAX('MDA2'!J85, 'T1'!L85, MAX(T3_R1!K85, T3_R2!K85)), MAX('MDA1'!K85, 'MDA2'!K85, 'T1'!M85, MAX(T3_R1!L85, T3_R2!L85)), MAX('MDA1'!L85, 'MDA2'!L85, 'T1'!N85, MAX(T3_R1!M85, T3_R2!M85)))","v":0},{"$f":"IF(AND(COUNTRY_INFO!J85>1,COUNTRY_INFO!J85<4),IF(COUNTRY_INFO!E85>MAX('MDA2'!J85,'T1'!L85,MAX(T3_R1!K85,T3_R2!K85)),MAX('MDA2'!J85,'T1'!L85,MAX(T3_R1!K85,T3_R2!K85)),COUNTRY_INFO!E85),0)","v":0},{"$f":"IF(AND(COUNTRY_INFO!J85>1,COUNTRY_INFO!J85<4), IF(T85/COUNTRY_INFO!E85*100<>0, IF(T85/COUNTRY_INFO!E85*100>100,100,T85/COUNTRY_INFO!E85*100), \"-\"),0)","v":0},{"$f":"IF(AND(COUNTRY_INFO!J85>1,COUNTRY_INFO!J85<4),IF(COUNTRY_INFO!F85>MAX('MDA1'!K85,'MDA2'!K85,'T1'!M85,MAX(T3_R1!L85,T3_R2!L85)),MAX('MDA1'!K85,'MDA2'!K85,'T1'!M85,MAX(T3_R1!L85,T3_R2!L85)),COUNTRY_INFO!F85),0)","v":0},{"$f":"IF(AND(COUNTRY_INFO!J85>1,COUNTRY_INFO!J85<4), IF(V85/COUNTRY_INFO!F85*100<>0, IF(V85/COUNTRY_INFO!F85*100>100,100,V85/COUNTRY_INFO!F85*100), \"-\"),0)","v":0},0,{"$f":"IF(AND(COUNTRY_INFO!J85>1,COUNTRY_INFO!J85<4), IF(S85/P85*100<>0, IF(X85/P85*100>100,100,X85/P85*100), \"-\"),0)","v":0},{"$f":"COUNTRY_INFO!O85","v":2710.9500000000003},null,null,{"$f":"MAX('T1'!L85,'T2'!J85)+MAX('T1'!M85,'T2'!K85)+MAX('T1'!N85,'T2'!L85)","v":0},{"$f":"IF(COUNTRY_INFO!K85=1,IF(COUNTRY_INFO!F85*0.33>MAX('T1'!M85,'T2'!K85),MAX('T1'!M85,'T2'!K85),COUNTRY_INFO!F85*0.33),IF(COUNTRY_INFO!K85=2,IF(COUNTRY_INFO!F85*0.5>MAX('T1'!M85,'T2'!K85),MAX('T1'!M85,'T2'!K85),COUNTRY_INFO!F85*0.5),IF(COUNTRY_INFO!K85=3,IF(COUNTRY_INFO!F85>MAX('T1'!M85,'T2'!K85),MAX('T1'!M85,'T2'!K85),COUNTRY_INFO!F85),0)))","v":0},{"$f":"IF(AND(COUNTRY_INFO!K85>0,COUNTRY_INFO!K85<4),IF(Z85>0,IF(COUNTRY_INFO!K85=1, AD85/(COUNTRY_INFO!F85*0.33)*100, IF(COUNTRY_INFO!K85=2, AD85/(COUNTRY_INFO!F85*0.5)*100, IF(COUNTRY_INFO!K85=3, AD85/COUNTRY_INFO!F85*100))),\"-\"),0)","v":0},{"$f":"IF(COUNTRY_INFO!K85=2,IF(COUNTRY_INFO!G85*0.2>MAX('T1'!N85,'T2'!L85),MAX('T1'!N85,'T2'!L85),COUNTRY_INFO!G85*0.2),IF(COUNTRY_INFO!K85=3,IF(COUNTRY_INFO!G85>MAX('T1'!N85,'T2'!L85),MAX('T1'!N85,'T2'!L85),COUNTRY_INFO!G85),0))","v":0},{"$f":"IF(AND(COUNTRY_INFO!K85>0,COUNTRY_INFO!K85<4),IF(Z85>0,IF(COUNTRY_INFO!K85=1, 0, IF(COUNTRY_INFO!K85=2, AF85/(COUNTRY_INFO!G85*0.2)*100, IF(COUNTRY_INFO!K85=3, AF85/COUNTRY_INFO!G85*100))),\"-\"),0)","v":0},0,{"$f":"IF(AND(COUNTRY_INFO!K85>0,COUNTRY_INFO!K85<4), IF(AC85/Z85*100<>0, IF(AH85/Z85*100>100,100,AH85/Z85*100), \"-\"),0)","v":"-"},null,{"$f":"IF(AND(D85<>0, D85<>\"Inconnu\",D85<>\"Interrompu\",D85<>\"Non requis\"),D85/COUNTRY_INFO!D85, 0)","v":1},{"$f":"IF(AND(J85<>0,J85<>\"Inconnu\",J85<>\"Interrompu\",J85<>\"Non requis\"),J85/COUNTRY_INFO!D85, 0)","v":1},{"$f":"IF(AND(P85<>0,P85<>\"Inconnu\",P85<>\"Non requis\"),P85/(COUNTRY_INFO!E85+COUNTRY_INFO!F85), 0)","v":0},{"$f":"IF(AND(Z85<>0,Z85<>\"Inconnu\",Z85<>\"Non requis\"),IF(COUNTRY_INFO!K85=1,1,IF(COUNTRY_INFO!K85=2,0.5*COUNTRY_INFO!F85/(0.5*COUNTRY_INFO!F85+0.2*COUNTRY_INFO!G85),IF(COUNTRY_INFO!K85=3,COUNTRY_INFO!F85/(COUNTRY_INFO!F85+COUNTRY_INFO!G85)))),0)","v":1},{"$f":"IF(AND(Z85<>0,Z85<>\"Inconnu\",Z85<>\"Non requis\"),IF(COUNTRY_INFO!K85=1,0,IF(COUNTRY_INFO!K85=2,0.2*COUNTRY_INFO!G85/(0.5*COUNTRY_INFO!F85+0.2*COUNTRY_INFO!G85),IF(COUNTRY_INFO!K85=3,COUNTRY_INFO!G85/(COUNTRY_INFO!F85+COUNTRY_INFO!G85)))),0)","v":0},{"$f":"MAX(COUNTRY_INFO!D85*AK85*PROFILE!$G$7,COUNTRY_INFO!D85*AL85*PROFILE!$G$7)","v":1420.4612279683215},{"$f":"MAX(COUNTRY_INFO!D85*AK85*PROFILE!$G$8,COUNTRY_INFO!D85*AL85*PROFILE!$G$8,COUNTRY_INFO!D85*AM85*PROFILE!$G$8)","v":4264.7938573063166},{"$f":"MAX(COUNTRY_INFO!D85*AK85*PROFILE!$G$9,COUNTRY_INFO!D85*AL85*PROFILE!$G$9,COUNTRY_INFO!D85*AM85*PROFILE!$G$9,IF(AND(DISTRICT!Z85<>\"Inconnu\",Z85<>\"Non requis\"),COUNTRY_INFO!O85*DISTRICT!AN85,0))","v":8215.3402356781098},{"$f":"MAX(COUNTRY_INFO!D85*AK85*PROFILE!$G$10,COUNTRY_INFO!D85*AL85*PROFILE!$G$10,IF(AND(DISTRICT!Z85<>\"Inconnu\",Z85<>\"Non requis\"),COUNTRY_INFO!O85*DISTRICT!AO85,0))","v":18165.404679047249},32065.999999999996,0,{"$f":"MAX('MDA2'!J85,'T1'!L85,'T2'!J85,T3_R1!K85,T3_R2!K85)","v":0},{"$f":"MAX('MDA1'!K85,'MDA2'!K85,'MDA3'!I85,'MDA3'!L85,'T1'!M85,'T2'!K85,T3_R1!L85,T3_R2!L85)","v":0},{"$f":"MAX('MDA1'!L85,'MDA2'!L85,'MDA3'!J85,'MDA3'!M85,'T1'!N85,'T2'!L85,T3_R1!M85,T3_R2!M85)","v":0},0,{"$f":"MAX('MDA2'!J85,T85)","v":0},{"$f":"MAX('MDA1'!K85,'MDA2'!K85,'MDA3'!I85,'MDA3'!L85,V85,AD85)","v":0},{"$f":"MAX('MDA1'!L85,'MDA2'!L85,'MDA3'!J85,'MDA3'!M85,AF85)","v":0},0,0]
[{"$f":"IF(COUNTRY_INFO!A86=0,\" \",COUNTRY_INFO!A86)","v":"Guinea Bissau"},{"$f":"IF(COUNTRY_INFO!B86=0,\" \",COUNTRY_INFO!B86)","v":"Bafata"},{"$f":"IF(COUNTRY_INFO!C86=0,\" \",COUNTRY_INFO!C86)","v":"Ga carnes"},{"$f":"COUNTRY_INFO!L86","v":4604},null,null,{"$f":"MAX('MDA1'!M86,'MDA2'!M86)","v":0},{"$f":"IF(AND(COUNTRY_INFO!H86>0,COUNTRY_INFO!H86<4),IF(D86>MAX('MDA1'!M86,'MDA2'!M86),MAX('MDA1'!M86,'MDA2'!M86),D86),0)","v":0},{"$f":"IF(AND(COUNTRY_INFO!H86>0,COUNTRY_INFO!H86<4), IF(G86/D86*100<>0, IF(G86/D86*100>100,100,G86/D86*100), \"-\"),0)","v":"-"},{"$f":"COUNTRY_INFO!M86","v":4604},null,null,{"$f":"MAX('MDA1'!M86,MAX('MDA3'!I86,'MDA3'!L86)+MAX('MDA3'!J86,'MDA3'!M86))","v":0},{"$f":"IF(AND(COUNTRY_INFO!I86>0,COUNTRY_INFO!I86<4),IF(J86>MAX('MDA1'!M86,MAX('MDA3'!I86,'MDA3'!L86)+MAX('MDA3'!J86,'MDA3'!M86)),MAX('MDA1'!M86,MAX('MDA3'!I86,'MDA3'!L86)+MAX('MDA3'!J86,'MDA3'!M86)),J86),0)","v":0},{"$f":"IF(AND(COUNTRY_INFO!I86>0,COUNTRY_INFO!I86<4), IF(M86/J86*100<>0, IF(M86/J86*100>100,100,M86/J86*100), \"-\"),0)","v":"-"},{"$f":"COUNTRY_INFO!N86","v":0},null,null,{"$f":"SUM(MAX('MDA2'!J86, 'T1'!L86, MAX(T3_R1!K86, T3_R2!K86)), MAX('MDA1'!K86, 'MDA2'!K86, 'T1'!M86, MAX(T3_R1!L86, T3_R2!L86)), MAX('MDA1'!L86, 'MDA2'!L86, 'T1'!N86, MAX(T3_R1!M86, T3_R2!M86)))","v":0},{"$f":"IF(AND(COUNTRY_INFO!J86>1,COUNTRY_INFO!J86<4),IF(COUNTRY_INFO!E86>MAX('MDA2'!J86,'T1'!L86,MAX(T3_R1!K86,T3_R2!K86)),MAX('MDA2'!J86,'T1'!L86,MAX(T3_R1!K86,T3_R2!K86)),COUNTRY_INFO!E86),0)","v":0},{"$f":"IF(AND(COUNTRY_INFO!J86>1,COUNTRY_INFO!J86<4), IF(T86/COUNTRY_INFO!E86*100<>0, IF(T86/COUNTRY_INFO!E86*100>100,100,T86/COUNTRY_INFO!E86*100), \"-\"),0)","v":0},{"$f":"IF(AND(COUNTRY_INFO!J86>1,COUNTRY_INFO!J86<4),IF(COUNTRY_INFO!F86>MAX('MDA1'!K86,'MDA2'!K86,'T1'!M86,MAX(T3_R1!L86,T3_R2!L86)),MAX('MDA1'!K86,'MDA2'!K86,'T1'!M86,MAX(T3_R1!L86,T3_R2!L86)),COUNTRY_INFO!F86),0)","v":0},{"$f":"IF(AND(COUNTRY_INFO!J86>1,COUNTRY_INFO!J86<4), IF(V86/COUNTRY_INFO!F86*100<>0, IF(V86/COUNTRY_INFO!F86*100>100,100,V86/COUNTRY_INFO!F86*100), \"-\"),0)","v":0},0,{"$f":"IF(AND(COUNTRY_INFO!J86>1,COUNTRY_INFO!J86<4), IF(S86/P86*100<>0, IF(X86/P86*100>100,100,X86/P86*100), \"-\"),0)","v":0},{"$f":"COUNTRY_INFO!O86","v":389.40000000000003},null,null,{"$f":"MAX('T1'!L86,'T2'!J86)+MAX('T1'!M86,'T2'!K86)+MAX('T1'!N86,'T2'!L86)","v":0},{"$f":"IF(COUNTRY_INFO!K86=1,IF(COUNTRY_INFO!F86*0.33>MAX('T1'!M86,'T2'!K86),MAX('T1'!M86,'T2'!K86),COUNTRY_INFO!F86*0.33),IF(COUNTRY_INFO!K86=2,IF(COUNTRY_INFO!F86*0.5>MAX('T1'!M86,'T2'!K86),MAX('T1'!M86,'T2'!K86),COUNTRY_INFO!F86*0.5),IF(COUNTRY_INFO!K86=3,IF(COUNTRY_INFO!F86>MAX('T1'!M86,'T2'!K86),MAX('T1'!M86,'T2'!K86),COUNTRY_INFO!F86),0)))","v":0},{"$f":"IF(AND(COUNTRY_INFO!K86>0,COUNTRY_INFO!K86<4),IF(Z86>0,IF(COUNTRY_INFO!K86=1, AD86/(COUNTRY_INFO!F86*0.33)*100, IF(COUNTRY_INFO!K86=2, AD86/(COUNTRY_INFO!F86*0.5)*100, IF(COUNTRY_INFO!K86=3, AD86/COUNTRY_INFO!F86*100))),\"-\"),0)","v":0},{"$f":"IF(COUNTRY_INFO!K86=2,IF(COUNTRY_INFO!G86*0.2>MAX('T1'!N86,'T2'!L86),MAX('T1'!N86,'T2'!L86),COUNTRY_INFO!G86*0.2),IF(COUNTRY_INFO!K86=3,IF(COUNTRY_INFO!G86>MAX('T1'!N86,'T2'!L86),MAX('T1'!N86,'T2'!L86),COUNTRY_INFO!G86),0))","v":0},{"$f":"IF(AND(COUNTRY_INFO!K86>0,COUNTRY_INFO!K86<4),IF(Z86>0,IF(COUNTRY_INFO!K86=1, 0, IF(COUNTRY_INFO!K86=2, AF86/(COUNTRY_INFO!G86*0.2)*100, IF(COUNTRY_INFO!K86=3, AF86/COUNTRY_INFO!G86*100))),\"-\"),0)","v":0},0,{"$f":"IF(AND(COUNTRY_INFO!K86>0,COUNTRY_INFO!K86<4), IF(AC86/Z86*100<>0, IF(AH86/Z86*100>100,100,AH86/Z86*100), \"-\"),0)","v":"-"},null,{"$f":"IF(AND(D86<>0, D86<>\"Inconnu\",D86<>\"Interrompu\",D86<>\"Non requis\"),D86/COUNTRY_INFO!D86, 0)","v":1},{"$f":"IF(AND(J86<>0,J86<>\"Inconnu\",J86<>\"Interrompu\",J86<>\"Non requis\"),J86/COUNTRY_INFO!D86, 0)","v":1},{"$f":"IF(AND(P86<>0,P86<>\"Inconnu\",P86<>\"Non requis\"),P86/(COUNTRY_INFO!E86+COUNTRY_INFO!F86), 0)","v":0},{"$f":"IF(AND(Z86<>0,Z86<>\"Inconnu\",Z86<>\"Non requis\"),IF(COUNTRY_INFO!K86=1,1,IF(COUNTRY_INFO!K86=2,0.5*COUNTRY_INFO!F86/(0.5*COUNTRY_INFO!F86+0.2*COUNTRY_INFO!G86),IF(COUNTRY_INFO!K86=3,COUNTRY_INFO!F86/(COUNTRY_INFO!F86+COUNTRY_INFO!G86)))),0)","v":1},{"$f":"IF(AND(Z86<>0,Z86<>\"Inconnu\",Z86<>\"Non requis\"),IF(COUNTRY_INFO!K86=1,0,IF(COUNTRY_INFO!K86=2,0.2*COUNTRY_INFO!G86/(0.5*COUNTRY_INFO!F86+0.2*COUNTRY_INFO!G86),IF(COUNTRY_INFO!K86=3,COUNTRY_INFO!G86/(COUNTRY_INFO!F86+COUNTRY_INFO!G86)))),0)","v":0},{"$f":"MAX(COUNTRY_INFO!D86*AK86*PROFILE!$G$7,COUNTRY_INFO!D86*AL86*PROFILE!$G$7)","v":203.94821597848664},{"$f":"MAX(COUNTRY_INFO!D86*AK86*PROFILE!$G$8,COUNTRY_INFO!D86*AL86*PROFILE!$G$8,COUNTRY_INFO!D86*AM86*PROFILE!$G$8)","v":612.33427677409975},{"$f":"MAX(COUNTRY_INFO!D86*AK86*PROFILE!$G$9,COUNTRY_INFO!D86*AL86*PROFILE!$G$9,COUNTRY_INFO!D86*AM86*PROFILE!$G$9,IF(AND(DISTRICT!Z86<>\"Inconnu\",Z86<>\"Non requis\"),COUNTRY_INFO!O86*DISTRICT!AN86,0))","v":1179.5492560675486},{"$f":"MAX(COUNTRY_INFO!D86*AK86*PROFILE!$G$10,COUNTRY_INFO!D86*AL86*PROFILE!$G$10,IF(AND(DISTRICT!Z86<>\"Inconnu\",Z86<>\"Non requis\"),COUNTRY_INFO!O86*DISTRICT!AO86,0))","v":2608.1682511798649},4604,0,{"$f":"MAX('MDA2'!J86,'T1'!L86,'T2'!J86,T3_R1!K86,T3_R2!K86)","v":0},{"$f":"MAX('MDA1'!K86,'MDA2'!K86,'MDA3'!I86,'MDA3'!L86,'T1'!M86,'T2'!K86,T3_R1!L86,T3_R2!L86)","v":0},{"$f":"MAX('MDA1'!L86,'MDA2'!L86,'MDA3'!J86,'MDA3'!M86,'T1'!N86,'T2'!L86,T3_R1!M86,T3_R2!M86)","v":0},0,{"$f":"MAX('MDA2'!J86,T86)","v":0},{"$f":"MAX('MDA1'!K86,'MDA2'!K86,'MDA3'!I86,'MDA3'!L86,V86,AD86)","v":0},{"$f":"MAX('MDA1'!L86,'MDA2'!L86,'MDA3'!J86,'MDA3'!M86,AF86)","v":0},0,0]
[{"$f":"IF(COUNTRY_INFO!A87=0,\" \",COUNTRY_INFO!A87)","v":"Guinea Bissau"},{"$f":"IF(COUNTRY_INFO!B87=0,\" \",COUNTRY_INFO!B87)","v":"Bafata"},{"$f":"IF(COUNTRY_INFO!C87=0,\" \",COUNTRY_INFO!C87)","v":"Cambaju"},{"$f":"COUNTRY_INFO!L87","v":8507},null,null,{"$f":"MAX('MDA1'!M87,'MDA2'!M87)","v":0},{"$f":"IF(AND(COUNTRY_INFO!H87>0,COUNTRY_INFO!H87<4),IF(D87>MAX('MDA1'!M87,'MDA2'!M87),MAX('MDA1'!M87,'MDA2'!M87),D87),0)","v":0},{"$f":"IF(AND(COUNTRY_INFO!H87>0,COUNTRY_INFO!H87<4), IF(G87/D87*100<>0, IF(G87/D87*100>100,100,G87/D87*100), \"-\"),0)","v":"-"},{"$f":"COUNTRY_INFO!M87","v":8507},null,null,{"$f":"MAX('MDA1'!M87,MAX('MDA3'!I87,'MDA3'!L87)+MAX('MDA3'!J87,'MDA3'!M87))","v":0},{"$f":"IF(AND(COUNTRY_INFO!I87>0,COUNTRY_INFO!I87<4),IF(J87>MAX('MDA1'!M87,MAX('MDA3'!I87,'MDA3'!L87)+MAX('MDA3'!J87,'MDA3'!M87)),MAX('MDA1'!M87,MAX('MDA3'!I87,'MDA3'!L87)+MAX('MDA3'!J87,'MDA3'!M87)),J87),0)","v":0},{"$f":"IF(AND(COUNTRY_INFO!I87>0,COUNTRY_INFO!I87<4), IF(M87/J87*100<>0, IF(M87/J87*100>100,100,M87/J87*100), \"-\"),0)","v":"-"},{"$f":"COUNTRY_INFO!N87","v":0},null,null,{"$f":"SUM(MAX('MDA2'!J87, 'T1'!L87, MAX(T3_R1!K87, T3_R2!K87)), MAX('MDA1'!K87, 'MDA2'!K87, 'T1'!M87, MAX(T3_R1!L87, T3_R2!L87)), MAX('MDA1'!L87, 'MDA2'!L87, 'T1'!N87, MAX(T3_R1!M87, T3_R2!M87)))","v":0},{"$f":"IF(AND(COUNTRY_INFO!J87>1,COUNTRY_INFO!J87<4),IF(COUNTRY_INFO!E87>MAX('MDA2'!J87,'T1'!L87,MAX(T3_R1!K87,T3_R2!K87)),MAX('MDA2'!J87,'T1'!L87,MAX(T3_R1!K87,T3_R2!K87)),COUNTRY_INFO!E87),0)","v":0},{"$f":"IF(AND(COUNTRY_INFO!J87>1,COUNTRY_INFO!J87<4), IF(T87/COUNTRY_INFO!E87*100<>0, IF(T87/COUNTRY_INFO!E87*100>100,100,T87/COUNTRY_INFO!E87*100), \"-\"),0)","v":0},{"$f":"IF(AND(COUNTRY_INFO!J87>1,COUNTRY_INFO!J87<4),IF(COUNTRY_INFO!F87>MAX('MDA1'!K87,'MDA2'!K87,'T1'!M87,MAX(T3_R1!L87,T3_R2!L87)),MAX('MDA1'!K87,'MDA2'!K87,'T1'!M87,MAX(T3_R1!L87,T3_R2!L87)),COUNTRY_INFO!F87),0)","v":0},{"$f":"IF(AND(COUNTRY_INFO!J87>1,COUNTRY_INFO!J87<4), IF(V87/COUNTRY_INFO!F87*100<>0, IF(V87/COUNTRY_INFO!F87*100>100,100,V87/COUNTRY_INFO!F87*100), \"-\"),0)","v":0},0,{"$f":"IF(AND(COUNTRY_INFO!J87>1,COUNTRY_INFO!J87<4), IF(S87/P87*100<>0, IF(X87/P87*100>100,100,X87/P87*100), \"-\"),0)","v":0},{"$f":"COUNTRY_INFO!O87","v":719.07},null,null,{"$f":"MAX('T1'!L87,'T2'!J87)+MAX('T1'!M87,'T2'!K87)+MAX('T1'!N87,'T2'!L87)","v":0},{"$f":"IF(COUNTRY_INFO!K87=1,IF(COUNTRY_INFO!F87*0.33>MAX('T1'!M87,'T2'!K87),MAX('T1'!M87,'T2'!K87),COUNTRY_INFO!F87*0.33),IF(COUNTRY_INFO!K87=2,IF(COUNTRY_INFO!F87*0.5>MAX('T1'!M87,'T2'!K87),MAX('T1'!M87,'T2'!K87),COUNTRY_INFO!F87*0.5),IF(COUNTRY_INFO!K87=3,IF(COUNTRY_INFO!F87>MAX('T1'!M87,'T2'!K87),MAX('T1'!M87,'T2'!K87),COUNTRY_INFO!F87),0)))","v":0},{"$f":"IF(AND(COUNTRY_INFO!K87>0,COUNTRY_INFO!K87<4),IF(Z87>0,IF(COUNTRY_INFO!K87=1, AD87/(COUNTRY_INFO!F87*0.33)*100, IF(COUNTRY_INFO!K87=2, AD87/(COUNTRY_INFO!F87*0.5)*100, IF(COUNTRY_INFO!K87=3, AD87/COUNTRY_INFO!F87*100))),\"-\"),0)","v":0},{"$f":"IF(COUNTRY_INFO!K87=2,IF(COUNTRY_INFO!G87*0.2>MAX('T1'!N87,'T2'!L87),MAX('T1'!N87,'T2'!L87),COUNTRY_INFO!G87*0.2),IF(COUNTRY_INFO!K87=3,IF(COUNTRY_INFO!G87>MAX('T1'!N87,'T2'!L87),MAX('T1'!N87,'T2'!L87),COUNTRY_INFO!G87),0))","v":0},{"$f":"IF(AND(COUNTRY_INFO!K87>0,COUNTRY_INFO!K87<4),IF(Z87>0,IF(COUNTRY_INFO!K87=1, 0, IF(COUNTRY_INFO!K87=2, AF87/(COUNTRY_INFO!G87*0.2)*100, IF(COUNTRY_INFO!K87=3, AF87/COUNTRY_INFO!G87*100))),\"-\"),0)","v":0},0,{"$f":"IF(AND(COUNTRY_INFO!K87>0,COUNTRY_INFO!K87<4), IF(AC87/Z87*100<>0, IF(AH87/Z87*100>100,100,AH87/Z87*100), \"-\"),0)","v":"-"},null,{"$f":"IF(AND(D87<>0, D87<>\"Inconnu\",D87<>\"Interrompu\",D87<>\"Non requis\"),D87/COUNTRY_INFO!D87, 0)","v":1},{"$f":"IF(AND(J87<>0,J87<>\"Inconnu\",J87<>\"Interrompu\",J87<>\"Non requis\"),J87/COUNTRY_INFO!D87, 0)","v":1},{"$f":"IF(AND(P87<>0,P87<>\"Inconnu\",P87<>\"Non requis\"),P87/(COUNTRY_INFO!E87+COUNTRY_INFO!F87), 0)","v":0},{"$f":"IF(AND(Z87<>0,Z87<>\"Inconnu\",Z87<>\"Non requis\"),IF(COUNTRY_INFO!K87=1,1,IF(COUNTRY_INFO!K87=2,0.5*COUNTRY_INFO!F87/(0.5*COUNTRY_INFO!F87+0.2*COUNTRY_INFO!G87),IF(COUNTRY_INFO!K87=3,COUNTRY_INFO!F87/(COUNTRY_INFO!F87+COUNTRY_INFO!G87)))),0)","v":1},{"$f":"IF(AND(Z87<>0,Z87<>\"Inconnu\",Z87<>\"Non requis\"),IF(COUNTRY_INFO!K87=1,0,IF(COUNTRY_INFO!K87=2,0.2*COUNTRY_INFO!G87/(0.5*COUNTRY_INFO!F87+0.2*COUNTRY_INFO!G87),IF(COUNTRY_INFO!K87=3,COUNTRY_INFO!G87/(COUNTRY_INFO!F87+COUNTRY_INFO!G87)))),0)","v":0},{"$f":"MAX(COUNTRY_INFO!D87*AK87*PROFILE!$G$7,COUNTRY_INFO!D87*AL87*PROFILE!$G$7)","v":376.84349985425411},{"$f":"MAX(COUNTRY_INFO!D87*AK87*PROFILE!$G$8,COUNTRY_INFO!D87*AL87*PROFILE!$G$8,COUNTRY_INFO!D87*AM87*PROFILE!$G$8)","v":1131.4352068890673},{"$f":"MAX(COUNTRY_INFO!D87*AK87*PROFILE!$G$9,COUNTRY_INFO!D87*AL87*PROFILE!$G$9,COUNTRY_INFO!D87*AM87*PROFILE!$G$9,IF(AND(DISTRICT!Z87<>\"Inconnu\",Z87<>\"Non requis\"),COUNTRY_INFO!O87*DISTRICT!AN87,0))","v":2179.5016336591307},{"$f":"MAX(COUNTRY_INFO!D87*AK87*PROFILE!$G$10,COUNTRY_INFO!D87*AL87*PROFILE!$G$10,IF(AND(DISTRICT!Z87<>\"Inconnu\",Z87<>\"Non requis\"),COUNTRY_INFO!O87*DISTRICT!AO87,0))","v":4819.2196595975474},8507,0,{"$f":"MAX('MDA2'!J87,'T1'!L87,'T2'!J87,T3_R1!K87,T3_R2!K87)","v":0},{"$f":"MAX('MDA1'!K87,'MDA2'!K87,'MDA3'!I87,'MDA3'!L87,'T1'!M87,'T2'!K87,T3_R1!L87,T3_R2!L87)","v":0},{"$f":"MAX('MDA1'!L87,'MDA2'!L87,'MDA3'!J87,'MDA3'!M87,'T1'!N87,'T2'!L87,T3_R1!M87,T3_R2!M87)","v":0},0,{"$f":"MAX('MDA2'!J87,T87)","v":0},{"$f":"MAX('MDA1'!K87,'MDA2'!K87,'MDA3'!I87,'MDA3'!L87,V87,AD87)","v":0},{"$f":"MAX('MDA1'!L87,'MDA2'!L87,'MDA3'!J87,'MDA3'!M87,AF87)","v":0},0,0]
[{"$f":"IF(COUNTRY_INFO!A88=0,\" \",COUNTRY_INFO!A88)","v":"Guinea Bissau"},{"$f":"IF(COUNTRY_INFO!B88=0,\" \",COUNTRY_INFO!B88)","v":"Bafata"},{"$f":"IF(COUNTRY_INFO!C88=0,\" \",COUNTRY_INFO!C88)","v":"Gam ture"},{"$f":"COUNTRY_INFO!L88","v":9131},null,null,{"$f":"MAX('MDA1'!M88,'MDA2'!M88)","v":0},{"$f":"IF(AND(COUNTRY_INFO!H88>0,COUNTRY_INFO!H88<4),IF(D88>MAX('MDA1'!M88,'MDA2'!M88),MAX('MDA1'!M88,'MDA2'!M88),D88),0)","v":0},{"$f":"IF(AND(COUNTRY_INFO!H88>0,COUNTRY_INFO!H88<4), IF(G88/D88*100<>0, IF(G88/D88*100>100,100,G88/D88*100), \"-\"),0)","v":"-"},{"$f":"COUNTRY_INFO!M88","v":9131},null,null,{"$f":"MAX('MDA1'!M88,MAX('MDA3'!I88,'MDA3'!L88)+MAX('MDA3'!J88,'MDA3'!M88))","v":0},{"$f":"IF(AND(COUNTRY_INFO!I88>0,COUNTRY_INFO!I88<4),IF(J88>MAX('MDA1'!M88,MAX('MDA3'!I88,'MDA3'!L88)+MAX('MDA3'!J88,'MDA3'!M88)),MAX('MDA1'!M88,MAX('MDA3'!I88,'MDA3'!L88)+MAX('MDA3'!J88,'MDA3'!M88)),J88),0)","v":0},{"$f":"IF(AND(COUNTRY_INFO!I88>0,COUNTRY_INFO!I88<4), IF(M88/J88*100<>0, IF(M88/J88*100>100,100,M88/J88*100), \"-\"),0)","v":"-"},{"$f":"COUNTRY_INFO!N88","v":0},null,null,{"$f":"SUM(MAX('MDA2'!J88, 'T1'!L88, MAX(T3_R1!K88, T3_R2!K88)), MAX('MDA1'!K88, 'MDA2'!K88, 'T1'!M88, MAX(T3_R1!L88, T3_R2!L88)), MAX('MDA1'!L88, 'MDA2'!L88, 'T1'!N88, MAX(T3_R1!M88, T3_R2!M88)))","v":0},{"$f":"IF(AND(COUNTRY_INFO!J88>1,COUNTRY_INFO!J88<4),IF(COUNTRY_INFO!E88>MAX('MDA2'!J88,'T1'!L88,MAX(T3_R1!K88,T3_R2!K88)),MAX('MDA2'!J88,'T1'!L88,MAX(T3_R1!K88,T3_R2!K88)),COUNTRY_INFO!E88),0)","v":0},{"$f":"IF(AND(COUNTRY_INFO!J88>1,COUNTRY_INFO!J88<4), IF(T88/COUNTRY_INFO!E88*100<>0, IF(T88/COUNTRY_INFO!E88*100>100,100,T88/COUNTRY_INFO!E88*100), \"-\"),0)","v":0},{"$f":"IF(AND(COUNTRY_INFO!J88>1,COUNTRY_INFO!J88<4),IF(COUNTRY_INFO!F88>MAX('MDA1'!K88,'MDA2'!K88,'T1'!M88,MAX(T3_R1!L88,T3_R2!L88)),MAX('MDA1'!K88,'MDA2'!K88,'T1'!M88,MAX(T3_R1!L88,T3_R2!L88)),COUNTRY_INFO!F88),0)","v":0},{"$f":"IF(AND(COUNTRY_INFO!J88>1,COUNTRY_INFO!J88<4), IF(V88/COUNTRY_INFO!F88*100<>0, IF(V88/COUNTRY_INFO!F88*100>100,100,V88/COUNTRY_INFO!F88*100), \"-\"),0)","v":0},0,{"$f":"IF(AND(COUNTRY_INFO!J88>1,COUNTRY_INFO!J88<4), IF(S88/P88*100<>0, IF(X88/P88*100>100,100,X88/P88*100), \"-\"),0)","v":0},{"$f":"COUNTRY_INFO!O88","v":771.87},null,null,{"$f":"MAX('T1'!L88,'T2'!J88)+MAX('T1'!M88,'T2'!K88)+MAX('T1'!N88,'T2'!L88)","v":0},{"$f":"IF(COUNTRY_INFO!K88=1,IF(COUNTRY_INFO!F88*0.33>MAX('T1'!M88,'T2'!K88),MAX('T1'!M88,'T2'!K88),COUNTRY_INFO!F88*0.33),IF(COUNTRY_INFO!K88=2,IF(COUNTRY_INFO!F88*0.5>MAX('T1'!M88,'T2'!K88),MAX('T1'!M88,'T2'!K88),COUNTRY_INFO!F88*0.5),IF(COUNTRY_INFO!K88=3,IF(COUNTRY_INFO!F88>MAX('T1'!M88,'T2'!K88),MAX('T1'!M88,'T2'!K88),COUNTRY_INFO!F88),0)))","v":0},{"$f":"IF(AND(COUNTRY_INFO!K88>0,COUNTRY_INFO!K88<4),IF(Z88>0,IF(COUNTRY_INFO!K88=1, AD88/(COUNTRY_INFO!F88*0.33)*100, IF(COUNTRY_INFO!K88=2, AD88/(COUNTRY_INFO!F88*0.5)*100, IF(COUNTRY_INFO!K88=3, AD88/COUNTRY_INFO!F88*100))),\"-\"),0)","v":0},{"$f":"IF(COUNTRY_INFO!K88=2,IF(COUNTRY_INFO!G88*0.2>MAX('T1'!N88,'T2'!L88),MAX('T1'!N88,'T2'!L88),COUNTRY_INFO!G88*0.2),IF(COUNTRY_INFO!K88=3,IF(COUNTRY_INFO!G88>MAX('T1'!N88,'T2'!L88),MAX('T1'!N88,'T2'!L88),COUNTRY_INFO!G88),0))","v":0},{"$f":"IF(AND(COUNTRY_INFO!K88>0,COUNTRY_INFO!K88<4),IF(Z88>0,IF(COUNTRY_INFO!K88=1, 0, IF(COUNTRY_INFO!K88=2, AF88/(COUNTRY_INFO!G88*0.2)*100, IF(COUNTRY_INFO!K88=3, AF88/COUNTRY_INFO!G88*100))),\"-\"),0)","v":0},0,{"$f":"IF(AND(COUNTRY_INFO!K88>0,COUNTRY_INFO!K88<4), IF(AC88/Z88*100<>0, IF(AH88/Z88*100>100,100,AH88/Z88*100), \"-\"),0)","v":"-"},null,{"$f":"IF(AND(D88<>0, D88<>\"Inconnu\",D88<>\"Interrompu\",D88<>\"Non requis\"),D88/COUNTRY_INFO!D88, 0)","v":1},{"$f":"IF(AND(J88<>0,J88<>\"Inconnu\",J88<>\"Interrompu\",J88<>\"Non requis\"),J88/COUNTRY_INFO!D88, 0)","v":1},{"$f":"IF(AND(P88<>0,P88<>\"Inconnu\",P88<>\"Non requis\"),P88/(COUNTRY_INFO!E88+COUNTRY_INFO!F88), 0)","v":0},{"$f":"IF(AND(Z88<>0,Z88<>\"Inconnu\",Z88<>\"Non requis\"),IF(COUNTRY_INFO!K88=1,1,IF(COUNTRY_INFO!K88=2,0.5*COUNTRY_INFO!F88/(0.5*COUNTRY_INFO!F88+0.2*COUNTRY_INFO!G88),IF(COUNTRY_INFO!K88=3,COUNTRY_INFO!F88/(COUNTRY_INFO!F88+COUNTRY_INFO!G88)))),0)","v":1},{"$f":"IF(AND(Z88<>0,Z88<>\"Inconnu\",Z88<>\"Non requis\"),IF(COUNTRY_INFO!K88=1,0,IF(COUNTRY_INFO!K88=2,0.2*COUNTRY_INFO!G88/(0.5*COUNTRY_INFO!F88+0.2*COUNTRY_INFO!G88),IF(COUNTRY_INFO!K88=3,COUNTRY_INFO!G88/(COUNTRY_INFO!F88+COUNTRY_INFO!G88)))),0)","v":0},{"$f":"MAX(COUNTRY_INFO!D88*AK88*PROFILE!$G$7,COUNTRY_INFO!D88*AL88*PROFILE!$G$7)","v":404.48548221102556},{"$f":"MAX(COUNTRY_INFO!D88*AK88*PROFILE!$G$8,COUNTRY_INFO!D88*AL88*PROFILE!$G$8,COUNTRY_INFO!D88*AM88*PROFILE!$G$8)","v":1214.4275154700922},{"$f":"MAX(COUNTRY_INFO!D88*AK88*PROFILE!$G$9,COUNTRY_INFO!D88*AL88*PROFILE!$G$9,COUNTRY_INFO!D88*AM88*PROFILE!$G$9,IF(AND(DISTRICT!Z88<>\"Inconnu\",Z88<>\"Non requis\"),COUNTRY_INFO!O88*DISTRICT!AN88,0))","v":2339.3710376092067},{"$f":"MAX(COUNTRY_INFO!D88*AK88*PROFILE!$G$10,COUNTRY_INFO!D88*AL88*PROFILE!$G$10,IF(AND(DISTRICT!Z88<>\"Inconnu\",Z88<>\"Non requis\"),COUNTRY_INFO!O88*DISTRICT!AO88,0))","v":5172.7159647096751},9131,0,{"$f":"MAX('MDA2'!J88,'T1'!L88,'T2'!J88,T3_R1!K88,T3_R2!K88)","v":0},{"$f":"MAX('MDA1'!K88,'MDA2'!K88,'MDA3'!I88,'MDA3'!L88,'T1'!M88,'T2'!K88,T3_R1!L88,T3_R2!L88)","v":0},{"$f":"MAX('MDA1'!L88,'MDA2'!L88,'MDA3'!J88,'MDA3'!M88,'T1'!N88,'T2'!L88,T3_R1!M88,T3_R2!M88)","v":0},0,{"$f":"MAX('MDA2'!J88,T88)","v":0},{"$f":"MAX('MDA1'!K88,'MDA2'!K88,'MDA3'!I88,'MDA3'!L88,V88,AD88)","v":0},{"$f":"MAX('MDA1'!L88,'MDA2'!L88,'MDA3'!J88,'MDA3'!M88,AF88)","v":0},0,0]
[{"$f":"IF(COUNTRY_INFO!A89=0,\" \",COUNTRY_INFO!A89)","v":"Guinea Bissau"},{"$f":"IF(COUNTRY_INFO!B89=0,\" \",COUNTRY_INFO!B89)","v":"Bafata"},{"$f":"IF(COUNTRY_INFO!C89=0,\" \",COUNTRY_INFO!C89)","v":"Sare bacar"},{"$f":"COUNTRY_INFO!L89","v":8861},null,null,{"$f":"MAX('MDA1'!M89,'MDA2'!M89)","v":0},{"$f":"IF(AND(COUNTRY_INFO!H89>0,COUNTRY_INFO!H89<4),IF(D89>MAX('MDA1'!M89,'MDA2'!M89),MAX('MDA1'!M89,'MDA2'!M89),D89),0)","v":0},{"$f":"IF(AND(COUNTRY_INFO!H89>0,COUNTRY_INFO!H89<4), IF(G89/D89*100<>0, IF(G89/D89*100>100,100,G89/D89*100), \"-\"),0)","v":"-"},{"$f":"COUNTRY_INFO!M89","v":8861},null,null,{"$f":"MAX('MDA1'!M89,MAX('MDA3'!I89,'MDA3'!L89)+MAX('MDA3'!J89,'MDA3'!M89))","v":0},{"$f":"IF(AND(COUNTRY_INFO!I89>0,COUNTRY_INFO!I89<4),IF(J89>MAX('MDA1'!M89,MAX('MDA3'!I89,'MDA3'!L89)+MAX('MDA3'!J89,'MDA3'!M89)),MAX('MDA1'!M89,MAX('MDA3'!I89,'MDA3'!L89)+MAX('MDA3'!J89,'MDA3'!M89)),J89),0)","v":0},{"$f":"IF(AND(COUNTRY_INFO!I89>0,COUNTRY_INFO!I89<4), IF(M89/J89*100<>0, IF(M89/J89*100>100,100,M89/J89*100), \"-\"),0)","v":"-"},{"$f":"COUNTRY_INFO!N89","v":0},null,null,{"$f":"SUM(MAX('MDA2'!J89, 'T1'!L89, MAX(T3_R1!K89, T3_R2!K89)), MAX('MDA1'!K89, 'MDA2'!K89, 'T1'!M89, MAX(T3_R1!L89, T3_R2!L89)), MAX('MDA1'!L89, 'MDA2'!L89, 'T1'!N89, MAX(T3_R1!M89, T3_R2!M89)))","v":0},{"$f":"IF(AND(COUNTRY_INFO!J89>1,COUNTRY_INFO!J89<4),IF(COUNTRY_INFO!E89>MAX('MDA2'!J89,'T1'!L89,MAX(T3_R1!K89,T3_R2!K89)),MAX('MDA2'!J89,'T1'!L89,MAX(T3_R1!K89,T3_R2!K89)),COUNTRY_INFO!E89),0)","v":0},{"$f":"IF(AND(COUNTRY_INFO!J89>1,COUNTRY_INFO!J89<4), IF(T89/COUNTRY_INFO!E89*100<>0, IF(T89/COUNTRY_INFO!E89*100>100,100,T89/COUNTRY_INFO!E89*100), \"-\"),0)","v":0},{"$f":"IF(AND(COUNTRY_INFO!J89>1,COUNTRY_INFO!J89<4),IF(COUNTRY_INFO!F89>MAX('MDA1'!K89,'MDA2'!K89,'T1'!M89,MAX(T3_R1!L89,T3_R2!L89)),MAX('MDA1'!K89,'MDA2'!K89,'T1'!M89,MAX(T3_R1!L89,T3_R2!L89)),COUNTRY_INFO!F89),0)","v":0},{"$f":"IF(AND(COUNTRY_INFO!J89>1,COUNTRY_INFO!J89<4), IF(V89/COUNTRY_INFO!F89*100<>0, IF(V89/COUNTRY_INFO!F89*100>100,100,V89/COUNTRY_INFO!F89*100), \"-\"),0)","v":0},0,{"$f":"IF(AND(COUNTRY_INFO!J89>1,COUNTRY_INFO!J89<4), IF(S89/P89*100<>0, IF(X89/P89*100>100,100,X89/P89*100), \"-\"),0)","v":0},{"$f":"COUNTRY_INFO!O89","v":2139},null,null,{"$f":"MAX('T1'!L89,'T2'!J89)+MAX('T1'!M89,'T2'!K89)+MAX('T1'!N89,'T2'!L89)","v":0},{"$f":"IF(COUNTRY_INFO!K89=1,IF(COUNTRY_INFO!F89*0.33>MAX('T1'!M89,'T2'!K89),MAX('T1'!M89,'T2'!K89),COUNTRY_INFO!F89*0.33),IF(COUNTRY_INFO!K89=2,IF(COUNTRY_INFO!F89*0.5>MAX('T1'!M89,'T2'!K89),MAX('T1'!M89,'T2'!K89),COUNTRY_INFO!F89*0.5),IF(COUNTRY_INFO!K89=3,IF(COUNTRY_INFO!F89>MAX('T1'!M89,'T2'!K89),MAX('T1'!M89,'T2'!K89),COUNTRY_INFO!F89),0)))","v":0},{"$f":"IF(AND(COUNTRY_INFO!K89>0,COUNTRY_INFO!K89<4),IF(Z89>0,IF(COUNTRY_INFO!K89=1, AD89/(COUNTRY_INFO!F89*0.33)*100, IF(COUNTRY_INFO!K89=2, AD89/(COUNTRY_INFO!F89*0.5)*100, IF(COUNTRY_INFO!K89=3, AD89/COUNTRY_INFO!F89*100))),\"-\"),0)","v":0},{"$f":"IF(COUNTRY_INFO!K89=2,IF(COUNTRY_INFO!G89*0.2>MAX('T1'!N89,'T2'!L89),MAX('T1'!N89,'T2'!L89),COUNTRY_INFO!G89*0.2),IF(COUNTRY_INFO!K89=3,IF(COUNTRY_INFO!G89>MAX('T1'!N89,'T2'!L89),MAX('T1'!N89,'T2'!L89),COUNTRY_INFO!G89),0))","v":0},{"$f":"IF(AND(COUNTRY_INFO!K89>0,COUNTRY_INFO!K89<4),IF(Z89>0,IF(COUNTRY_INFO!K89=1, 0, IF(COUNTRY_INFO!K89=2, AF89/(COUNTRY_INFO!G89*0.2)*100, IF(COUNTRY_INFO!K89=3, AF89/COUNTRY_INFO!G89*100))),\"-\"),0)","v":0},0,{"$f":"IF(AND(COUNTRY_INFO!K89>0,COUNTRY_INFO!K89<4), IF(AC89/Z89*100<>0, IF(AH89/Z89*100>100,100,AH89/Z89*100), \"-\"),0)","v":"-"},null,{"$f":"IF(AND(D89<>0, D89<>\"Inconnu\",D89<>\"Interrompu\",D89<>\"Non requis\"),D89/COUNTRY_INFO!D89, 0)","v":1},{"$f":"IF(AND(J89<>0,J89<>\"Inconnu\",J89<>\"Interrompu\",J89<>\"Non requis\"),J89/COUNTRY_INFO!D89, 0)","v":1},{"$f":"IF(AND(P89<>0,P89<>\"Inconnu\",P89<>\"Non requis\"),P89/(COUNTRY_INFO!E89+COUNTRY_INFO!F89), 0)","v":0},{"$f":"IF(AND(Z89<>0,Z89<>\"Inconnu\",Z89<>\"Non requis\"),IF(COUNTRY_INFO!K89=1,1,IF(COUNTRY_INFO!K89=2,0.5*COUNTRY_INFO!F89/(0.5*COUNTRY_INFO!F89+0.2*COUNTRY_INFO!G89),IF(COUNTRY_INFO!K89=3,COUNTRY_INFO!F89/(COUNTRY_INFO!F89+COUNTRY_INFO!G89)))),0)","v":0.53062178588125297},{"$f":"IF(AND(Z89<>0,Z89<>\"Inconnu\",Z89<>\"Non requis\"),IF(COUNTRY_INFO!K89=1,0,IF(COUNTRY_INFO!K89=2,0.2*COUNTRY_INFO!G89/(0.5*COUNTRY_INFO!F89+0.2*COUNTRY_INFO!G89),IF(COUNTRY_INFO!K89=3,COUNTRY_INFO!G89/(COUNTRY_INFO!F89+COUNTRY_INFO!G89)))),0)","v":0.46937821411874708},{"$f":"MAX(COUNTRY_INFO!D89*AK89*PROFILE!$G$7,COUNTRY_INFO!D89*AL89*PROFILE!$G$7)","v":392.52500907588404},{"$f":"MAX(COUNTRY_INFO!D89*AK89*PROFILE!$G$8,COUNTRY_INFO!D89*AL89*PROFILE!$G$8,COUNTRY_INFO!D89*AM89*PROFILE!$G$8)","v":1178.5173819494564},{"$f":"MAX(COUNTRY_INFO!D89*AK89*PROFILE!$G$9,COUNTRY_INFO!D89*AL89*PROFILE!$G$9,COUNTRY_INFO!D89*AM89*PROFILE!$G$9,IF(AND(DISTRICT!Z89<>\"Inconnu\",Z89<>\"Non requis\"),COUNTRY_INFO!O89*DISTRICT!AN89,0))","v":2270.1967762846543},{"$f":"MAX(COUNTRY_INFO!D89*AK89*PROFILE!$G$10,COUNTRY_INFO!D89*AL89*PROFILE!$G$10,IF(AND(DISTRICT!Z89<>\"Inconnu\",Z89<>\"Non requis\"),COUNTRY_INFO!O89*DISTRICT!AO89,0))","v":5019.7608326900045},8861,0,{"$f":"MAX('MDA2'!J89,'T1'!L89,'T2'!J89,T3_R1!K89,T3_R2!K89)","v":0},{"$f":"MAX('MDA1'!K89,'MDA2'!K89,'MDA3'!I89,'MDA3'!L89,'T1'!M89,'T2'!K89,T3_R1!L89,T3_R2!L89)","v":0},{"$f":"MAX('MDA1'!L89,'MDA2'!L89,'MDA3'!J89,'MDA3'!M89,'T1'!N89,'T2'!L89,T3_R1!M89,T3_R2!M89)","v":0},0,{"$f":"MAX('MDA2'!J89,T89)","v":0},{"$f":"MAX('MDA1'!K89,'MDA2'!K89,'MDA3'!I89,'MDA3'!L89,V89,AD89)","v":0},{"$f":"MAX('MDA1'!L89,'MDA2'!L89,'MDA3'!J89,'MDA3'!M89,AF89)","v":0},0,0]
[{"$f":"IF(COUNTRY_INFO!A90=0,\" \",COUNTRY_INFO!A90)","v":"Guinea Bissau"},{"$f":"IF(COUNTRY_INFO!B90=0,\" \",COUNTRY_INFO!B90)","v":"Bafata"},{"$f":"IF(COUNTRY_INFO!C90=0,\" \",COUNTRY_INFO!C90)","v":"Fajonquito"},{"$f":"COUNTRY_INFO!L90","v":15014},null,null,{"$f":"MAX('MDA1'!M90,'MDA2'!M90)","v":0},{"$f":"IF(AND(COUNTRY_INFO!H90>0,COUNTRY_INFO!H90<4),IF(D90>MAX('MDA1'!M90,'MDA2'!M90),MAX('MDA1'!M90,'MDA2'!M90),D90),0)","v":0},{"$f":"IF(AND(COUNTRY_INFO!H90>0,COUNTRY_INFO!H90<4), IF(G90/D90*100<>0, IF(G90/D90*100>100,100,G90/D90*100), \"-\"),0)","v":"-"},{"$f":"COUNTRY_INFO!M90","v":15014},null,null,{"$f":"MAX('MDA1'!M90,MAX('MDA3'!I90,'MDA3'!L90)+MAX('MDA3'!J90,'MDA3'!M90))","v":0},{"$f":"IF(AND(COUNTRY_INFO!I90>0,COUNTRY_INFO!I90<4),IF(J90>MAX('MDA1'!M90,MAX('MDA3'!I90,'MDA3'!L90)+MAX('MDA3'!J90,'MDA3'!M90)),MAX('MDA1'!M90,MAX('MDA3'!I90,'MDA3'!L90)+MAX('MDA3'!J90,'MDA3'!M90)),J90),0)","v":0},{"$f":"IF(AND(COUNTRY_INFO!I90>0,COUNTRY_INFO!I90<4), IF(M90/J90*100<>0, IF(M90/J90*100>100,100,M90/J90*100), \"-\"),0)","v":"-"},{"$f":"COUNTRY_INFO!N90","v":0},null,null,{"$f":"SUM(MAX('MDA2'!J90, 'T1'!L90, MAX(T3_R1!K90, T3_R2!K90)), MAX('MDA1'!K90, 'MDA2'!K90, 'T1'!M90, MAX(T3_R1!L90, T3_R2!L90)), MAX('MDA1'!L90, 'MDA2'!L90, 'T1'!N90, MAX(T3_R1!M90, T3_R2!M90)))","v":0},{"$f":"IF(AND(COUNTRY_INFO!J90>1,COUNTRY_INFO!J90<4),IF(COUNTRY_INFO!E90>MAX('MDA2'!J90,'T1'!L90,MAX(T3_R1!K90,T3_R2!K90)),MAX('MDA2'!J90,'T1'!L90,MAX(T3_R1!K90,T3_R2!K90)),COUNTRY_INFO!E90),0)","v":0},{"$f":"IF(AND(COUNTRY_INFO!J90>1,COUNTRY_INFO!J90<4), IF(T90/COUNTRY_INFO!E90*100<>0, IF(T90/COUNTRY_INFO!E90*100>100,100,T90/COUNTRY_INFO!E90*100), \"-\"),0)","v":0},{"$f":"IF(AND(COUNTRY_INFO!J90>1,COUNTRY_INFO!J90<4),IF(COUNTRY_INFO!F90>MAX('MDA1'!K90,'MDA2'!K90,'T1'!M90,MAX(T3_R1!L90,T3_R2!L90)),MAX('MDA1'!K90,'MDA2'!K90,'T1'!M90,MAX(T3_R1!L90,T3_R2!L90)),COUNTRY_INFO!F90),0)","v":0},{"$f":"IF(AND(COUNTRY_INFO!J90>1,COUNTRY_INFO!J90<4), IF(V90/COUNTRY_INFO!F90*100<>0, IF(V90/COUNTRY_INFO!F90*100>100,100,V90/COUNTRY_INFO!F90*100), \"-\"),0)","v":0},0,{"$f":"IF(AND(COUNTRY_INFO!J90>1,COUNTRY_INFO!J90<4), IF(S90/P90*100<>0, IF(X90/P90*100>100,100,X90/P90*100), \"-\"),0)","v":0},{"$f":"COUNTRY_INFO!O90","v":3624.5},null,null,{"$f":"MAX('T1'!L90,'T2'!J90)+MAX('T1'!M90,'T2'!K90)+MAX('T1'!N90,'T2'!L90)","v":0},{"$f":"IF(COUNTRY_INFO!K90=1,IF(COUNTRY_INFO!F90*0.33>MAX('T1'!M90,'T2'!K90),MAX('T1'!M90,'T2'!K90),COUNTRY_INFO!F90*0.33),IF(COUNTRY_INFO!K90=2,IF(COUNTRY_INFO!F90*0.5>MAX('T1'!M90,'T2'!K90),MAX('T1'!M90,'T2'!K90),COUNTRY_INFO!F90*0.5),IF(COUNTRY_INFO!K90=3,IF(COUNTRY_INFO!F90>MAX('T1'!M90,'T2'!K90),MAX('T1'!M90,'T2'!K90),COUNTRY_INFO!F90),0)))","v":0},{"$f":"IF(AND(COUNTRY_INFO!K90>0,COUNTRY_INFO!K90<4),IF(Z90>0,IF(COUNTRY_INFO!K90=1, AD90/(COUNTRY_INFO!F90*0.33)*100, IF(COUNTRY_INFO!K90=2, AD90/(COUNTRY_INFO!F90*0.5)*100, IF(COUNTRY_INFO!K90=3, AD90/COUNTRY_INFO!F90*100))),\"-\"),0)","v":0},{"$f":"IF(COUNTRY_INFO!K90=2,IF(COUNTRY_INFO!G90*0.2>MAX('T1'!N90,'T2'!L90),MAX('T1'!N90,'T2'!L90),COUNTRY_INFO!G90*0.2),IF(COUNTRY_INFO!K90=3,IF(COUNTRY_INFO!G90>MAX('T1'!N90,'T2'!L90),MAX('T1'!N90,'T2'!L90),COUNTRY_INFO!G90),0))","v":0},{"$f":"IF(AND(COUNTRY_INFO!K90>0,COUNTRY_INFO!K90<4),IF(Z90>0,IF(COUNTRY_INFO!K90=1, 0, IF(COUNTRY_INFO!K90=2, AF90/(COUNTRY_INFO!G90*0.2)*100, IF(COUNTRY_INFO!K90=3, AF90/COUNTRY_INFO!G90*100))),\"-\"),0)","v":0},0,{"$f":"IF(AND(COUNTRY_INFO!K90>0,COUNTRY_INFO!K90<4), IF(AC90/Z90*100<>0, IF(AH90/Z90*100>100,100,AH90/Z90*100), \"-\"),0)","v":"-"},null,{"$f":"IF(AND(D90<>0, D90<>\"Inconnu\",D90<>\"Interrompu\",D90<>\"Non requis\"),D90/COUNTRY_INFO!D90, 0)","v":1},{"$f":"IF(AND(J90<>0,J90<>\"Inconnu\",J90<>\"Interrompu\",J90<>\"Non requis\"),J90/COUNTRY_INFO!D90, 0)","v":1},{"$f":"IF(AND(P90<>0,P90<>\"Inconnu\",P90<>\"Non requis\"),P90/(COUNTRY_INFO!E90+COUNTRY_INFO!F90), 0)","v":0},{"$f":"IF(AND(Z90<>0,Z90<>\"Inconnu\",Z90<>\"Non requis\"),IF(COUNTRY_INFO!K90=1,1,IF(COUNTRY_INFO!K90=2,0.5*COUNTRY_INFO!F90/(0.5*COUNTRY_INFO!F90+0.2*COUNTRY_INFO!G90),IF(COUNTRY_INFO!K90=3,COUNTRY_INFO!F90/(COUNTRY_INFO!F90+COUNTRY_INFO!G90)))),0)","v":0.53069388881224999},{"$f":"IF(AND(Z90<>0,Z90<>\"Inconnu\",Z90<>\"Non requis\"),IF(COUNTRY_INFO!K90=1,0,IF(COUNTRY_INFO!K90=2,0.2*COUNTRY_INFO!G90/(0.5*COUNTRY_INFO!F90+0.2*COUNTRY_INFO!G90),IF(COUNTRY_INFO!K90=3,COUNTRY_INFO!G90/(COUNTRY_INFO!F90+COUNTRY_INFO!G90)))),0)","v":0.46930611118775001},{"$f":"MAX(COUNTRY_INFO!D90*AK90*PROFILE!$G$7,COUNTRY_INFO!D90*AL90*PROFILE!$G$7)","v":665.09090241116382},{"$f":"MAX(COUNTRY_INFO!D90*AK90*PROFILE!$G$8,COUNTRY_INFO!D90*AL90*PROFILE!$G$8,COUNTRY_INFO!D90*AM90*PROFILE!$G$8)","v":1996.8694247363885},{"$f":"MAX(COUNTRY_INFO!D90*AK90*PROFILE!$G$9,COUNTRY_INFO!D90*AL90*PROFILE!$G$9,COUNTRY_INFO!D90*AM90*PROFILE!$G$9,IF(AND(DISTRICT!Z90<>\"Inconnu\",Z90<>\"Non requis\"),COUNTRY_INFO!O90*DISTRICT!AN90,0))","v":3846.6013315808377},{"$f":"MAX(COUNTRY_INFO!D90*AK90*PROFILE!$G$10,COUNTRY_INFO!D90*AL90*PROFILE!$G$10,IF(AND(DISTRICT!Z90<>\"Inconnu\",Z90<>\"Non requis\"),COUNTRY_INFO!O90*DISTRICT!AO90,0))","v":8505.4383412716088},15014,0,{"$f":"MAX('MDA2'!J90,'T1'!L90,'T2'!J90,T3_R1!K90,T3_R2!K90)","v":0},{"$f":"MAX('MDA1'!K90,'MDA2'!K90,'MDA3'!I90,'MDA3'!L90,'T1'!M90,'T2'!K90,T3_R1!L90,T3_R2!L90)","v":0},{"$f":"MAX('MDA1'!L90,'MDA2'!L90,'MDA3'!J90,'MDA3'!M90,'T1'!N90,'T2'!L90,T3_R1!M90,T3_R2!M90)","v":0},0,{"$f":"MAX('MDA2'!J90,T90)","v":0},{"$f":"MAX('MDA1'!K90,'MDA2'!K90,'MDA3'!I90,'MDA3'!L90,V90,AD90)","v":0},{"$f":"MAX('MDA1'!L90,'MDA2'!L90,'MDA3'!J90,'MDA3'!M90,AF90)","v":0},0,0]
[{"$f":"IF(COUNTRY_INFO!A91=0,\" \",COUNTRY_INFO!A91)","v":"Guinea Bissau"},{"$f":"IF(COUNTRY_INFO!B91=0,\" \",COUNTRY_INFO!B91)","v":"Bafata"},{"$f":"IF(COUNTRY_INFO!C91=0,\" \",COUNTRY_INFO!C91)","v":"Cosse"},{"$f":"COUNTRY_INFO!L91","v":24255},null,null,{"$f":"MAX('MDA1'!M91,'MDA2'!M91)","v":0},{"$f":"IF(AND(COUNTRY_INFO!H91>0,COUNTRY_INFO!H91<4),IF(D91>MAX('MDA1'!M91,'MDA2'!M91),MAX('MDA1'!M91,'MDA2'!M91),D91),0)","v":0},{"$f":"IF(AND(COUNTRY_INFO!H91>0,COUNTRY_INFO!H91<4), IF(G91/D91*100<>0, IF(G91/D91*100>100,100,G91/D91*100), \"-\"),0)","v":"-"},{"$f":"COUNTRY_INFO!M91","v":24255},null,null,{"$f":"MAX('MDA1'!M91,MAX('MDA3'!I91,'MDA3'!L91)+MAX('MDA3'!J91,'MDA3'!M91))","v":0},{"$f":"IF(AND(COUNTRY_INFO!I91>0,COUNTRY_INFO!I91<4),IF(J91>MAX('MDA1'!M91,MAX('MDA3'!I91,'MDA3'!L91)+MAX('MDA3'!J91,'MDA3'!M91)),MAX('MDA1'!M91,MAX('MDA3'!I91,'MDA3'!L91)+MAX('MDA3'!J91,'MDA3'!M91)),J91),0)","v":0},{"$f":"IF(AND(COUNTRY_INFO!I91>0,COUNTRY_INFO!I91<4), IF(M91/J91*100<>0, IF(M91/J91*100>100,100,M91/J91*100), \"-\"),0)","v":"-"},{"$f":"COUNTRY_INFO!N91","v":0},null,null,{"$f":"SUM(MAX('MDA2'!J91, 'T1'!L91, MAX(T3_R1!K91, T3_R2!K91)), MAX('MDA1'!K91, 'MDA2'!K91, 'T1'!M91, MAX(T3_R1!L91, T3_R2!L91)), MAX('MDA1'!L91, 'MDA2'!L91, 'T1'!N91, MAX(T3_R1!M91, T3_R2!M91)))","v":0},{"$f":"IF(AND(COUNTRY_INFO!J91>1,COUNTRY_INFO!J91<4),IF(COUNTRY_INFO!E91>MAX('MDA2'!J91,'T1'!L91,MAX(T3_R1!K91,T3_R2!K91)),MAX('MDA2'!J91,'T1'!L91,MAX(T3_R1!K91,T3_R2!K91)),COUNTRY_INFO!E91),0)","v":0},{"$f":"IF(AND(COUNTRY_INFO!J91>1,COUNTRY_INFO!J91<4), IF(T91/COUNTRY_INFO!E91*100<>0, IF(T91/COUNTRY_INFO!E91*100>100,100,T91/COUNTRY_INFO!E91*100), \"-\"),0)","v":0},{"$f":"IF(AND(COUNTRY_INFO!J91>1,COUNTRY_INFO!J91<4),IF(COUNTRY_INFO!F91>MAX('MDA1'!K91,'MDA2'!K91,'T1'!M91,MAX(T3_R1!L91,T3_R2!L91)),MAX('MDA1'!K91,'MDA2'!K91,'T1'!M91,MAX(T3_R1!L91,T3_R2!L91)),COUNTRY_INFO!F91),0)","v":0},{"$f":"IF(AND(COUNTRY_INFO!J91>1,COUNTRY_INFO!J91<4), IF(V91/COUNTRY_INFO!F91*100<>0, IF(V91/COUNTRY_INFO!F91*100>100,100,V91/COUNTRY_INFO!F91*100), \"-\"),0)","v":0},0,{"$f":"IF(AND(COUNTRY_INFO!J91>1,COUNTRY_INFO!J91<4), IF(S91/P91*100<>0, IF(X91/P91*100>100,100,X91/P91*100), \"-\"),0)","v":0},{"$f":"COUNTRY_INFO!O91","v":2050.62},null,null,{"$f":"MAX('T1'!L91,'T2'!J91)+MAX('T1'!M91,'T2'!K91)+MAX('T1'!N91,'T2'!L91)","v":0},{"$f":"IF(COUNTRY_INFO!K91=1,IF(COUNTRY_INFO!F91*0.33>MAX('T1'!M91,'T2'!K91),MAX('T1'!M91,'T2'!K91),COUNTRY_INFO!F91*0.33),IF(COUNTRY_INFO!K91=2,IF(COUNTRY_INFO!F91*0.5>MAX('T1'!M91,'T2'!K91),MAX('T1'!M91,'T2'!K91),COUNTRY_INFO!F91*0.5),IF(COUNTRY_INFO!K91=3,IF(COUNTRY_INFO!F91>MAX('T1'!M91,'T2'!K91),MAX('T1'!M91,'T2'!K91),COUNTRY_INFO!F91),0)))","v":0},{"$f":"IF(AND(COUNTRY_INFO!K91>0,COUNTRY_INFO!K91<4),IF(Z91>0,IF(COUNTRY_INFO!K91=1, AD91/(COUNTRY_INFO!F91*0.33)*100, IF(COUNTRY_INFO!K91=2, AD91/(COUNTRY_INFO!F91*0.5)*100, IF(COUNTRY_INFO!K91=3, AD91/COUNTRY_INFO!F91*100))),\"-\"),0)","v":0},{"$f":"IF(COUNTRY_INFO!K91=2,IF(COUNTRY_INFO!G91*0.2>MAX('T1'!N91,'T2'!L91),MAX('T1'!N91,'T2'!L91),COUNTRY_INFO!G91*0.2),IF(COUNTRY_INFO!K91=3,IF(COUNTRY_INFO!G91>MAX('T1'!N91,'T2'!L91),MAX('T1'!N91,'T2'!L91),COUNTRY_INFO!G91),0))","v":0},{"$f":"IF(AND(COUNTRY_INFO!K91>0,COUNTRY_INFO!K91<4),IF(Z91>0,IF(COUNTRY_INFO!K91=1, 0, IF(COUNTRY_INFO!K91=2, AF91/(COUNTRY_INFO!G91*0.2)*100, IF(COUNTRY_INFO!K91=3, AF91/COUNTRY_INFO!G91*100))),\"-\"),0)","v":0},0,{"$f":"IF(AND(COUNTRY_INFO!K91>0,COUNTRY_INFO!K91<4), IF(AC91/Z91*100<>0, IF(AH91/Z91*100>100,100,AH91/Z91*100), \"-\"),0)","v":"-"},null,{"$f":"IF(AND(D91<>0, D91<>\"Inconnu\",D91<>\"Interrompu\",D91<>\"Non requis\"),D91/COUNTRY_INFO!D91, 0)","v":1},{"$f":"IF(AND(J91<>0,J91<>\"Inconnu\",J91<>\"Interrompu\",J91<>\"Non requis\"),J91/COUNTRY_INFO!D91, 0)","v":1},{"$f":"IF(AND(P91<>0,P91<>\"Inconnu\",P91<>\"Non requis\"),P91/(COUNTRY_INFO!E91+COUNTRY_INFO!F91), 0)","v":0},{"$f":"IF(AND(Z91<>0,Z91<>\"Inconnu\",Z91<>\"Non requis\"),IF(COUNTRY_INFO!K91=1,1,IF(COUNTRY_INFO!K91=2,0.5*COUNTRY_INFO!F91/(0.5*COUNTRY_INFO!F91+0.2*COUNTRY_INFO!G91),IF(COUNTRY_INFO!K91=3,COUNTRY_INFO!F91/(COUNTRY_INFO!F91+COUNTRY_INFO!G91)))),0)","v":1},{"$f":"IF(AND(Z91<>0,Z91<>\"Inconnu\",Z91<>\"Non requis\"),IF(COUNTRY_INFO!K91=1,0,IF(COUNTRY_INFO!K91=2,0.2*COUNTRY_INFO!G91/(0.5*COUNTRY_INFO!F91+0.2*COUNTRY_INFO!G91),IF(COUNTRY_INFO!K91=3,COUNTRY_INFO!G91/(COUNTRY_INFO!F91+COUNTRY_INFO!G91)))),0)","v":0},{"$f":"MAX(COUNTRY_INFO!D91*AK91*PROFILE!$G$7,COUNTRY_INFO!D91*AL91*PROFILE!$G$7)","v":1074.4491699735433},{"$f":"MAX(COUNTRY_INFO!D91*AK91*PROFILE!$G$8,COUNTRY_INFO!D91*AL91*PROFILE!$G$8,COUNTRY_INFO!D91*AM91*PROFILE!$G$8)","v":3225.9269946037766},{"$f":"MAX(COUNTRY_INFO!D91*AK91*PROFILE!$G$9,COUNTRY_INFO!D91*AL91*PROFILE!$G$9,COUNTRY_INFO!D91*AM91*PROFILE!$G$9,IF(AND(DISTRICT!Z91<>\"Inconnu\",Z91<>\"Non requis\"),COUNTRY_INFO!O91*DISTRICT!AN91,0))","v":6214.1544756556023},{"$f":"MAX(COUNTRY_INFO!D91*AK91*PROFILE!$G$10,COUNTRY_INFO!D91*AL91*PROFILE!$G$10,IF(AND(DISTRICT!Z91<>\"Inconnu\",Z91<>\"Non requis\"),COUNTRY_INFO!O91*DISTRICT!AO91,0))","v":13740.469359767076},24255,0,{"$f":"MAX('MDA2'!J91,'T1'!L91,'T2'!J91,T3_R1!K91,T3_R2!K91)","v":0},{"$f":"MAX('MDA1'!K91,'MDA2'!K91,'MDA3'!I91,'MDA3'!L91,'T1'!M91,'T2'!K91,T3_R1!L91,T3_R2!L91)","v":0},{"$f":"MAX('MDA1'!L91,'MDA2'!L91,'MDA3'!J91,'MDA3'!M91,'T1'!N91,'T2'!L91,T3_R1!M91,T3_R2!M91)","v":0},0,{"$f":"MAX('MDA2'!J91,T91)","v":0},{"$f":"MAX('MDA1'!K91,'MDA2'!K91,'MDA3'!I91,'MDA3'!L91,V91,AD91)","v":0},{"$f":"MAX('MDA1'!L91,'MDA2'!L91,'MDA3'!J91,'MDA3'!M91,AF91)","v":0},0,0]
[{"$f":"IF(COUNTRY_INFO!A92=0,\" \",COUNTRY_INFO!A92)","v":"Guinea Bissau"},{"$f":"IF(COUNTRY_INFO!B92=0,\" \",COUNTRY_INFO!B92)","v":"Bafata"},{"$f":"IF(COUNTRY_INFO!C92=0,\" \",COUNTRY_INFO!C92)","v":"Bafata"},{"$f":"COUNTRY_INFO!L92","v":76571},null,null,{"$f":"MAX('MDA1'!M92,'MDA2'!M92)","v":0},{"$f":"IF(AND(COUNTRY_INFO!H92>0,COUNTRY_INFO!H92<4),IF(D92>MAX('MDA1'!M92,'MDA2'!M92),MAX('MDA1'!M92,'MDA2'!M92),D92),0)","v":0},{"$f":"IF(AND(COUNTRY_INFO!H92>0,COUNTRY_INFO!H92<4), IF(G92/D92*100<>0, IF(G92/D92*100>100,100,G92/D92*100), \"-\"),0)","v":"-"},{"$f":"COUNTRY_INFO!M92","v":76571},null,null,{"$f":"MAX('MDA1'!M92,MAX('MDA3'!I92,'MDA3'!L92)+MAX('MDA3'!J92,'MDA3'!M92))","v":0},{"$f":"IF(AND(COUNTRY_INFO!I92>0,COUNTRY_INFO!I92<4),IF(J92>MAX('MDA1'!M92,MAX('MDA3'!I92,'MDA3'!L92)+MAX('MDA3'!J92,'MDA3'!M92)),MAX('MDA1'!M92,MAX('MDA3'!I92,'MDA3'!L92)+MAX('MDA3'!J92,'MDA3'!M92)),J92),0)","v":0},{"$f":"IF(AND(COUNTRY_INFO!I92>0,COUNTRY_INFO!I92<4), IF(M92/J92*100<>0, IF(M92/J92*100>100,100,M92/J92*100), \"-\"),0)","v":"-"},{"$f":"COUNTRY_INFO!N92","v":0},null,null,{"$f":"SUM(MAX('MDA2'!J92, 'T1'!L92, MAX(T3_R1!K92, T3_R2!K92)), MAX('MDA1'!K92, 'MDA2'!K92, 'T1'!M92, MAX(T3_R1!L92, T3_R2!L92)), MAX('MDA1'!L92, 'MDA2'!L92, 'T1'!N92, MAX(T3_R1!M92, T3_R2!M92)))","v":0},{"$f":"IF(AND(COUNTRY_INFO!J92>1,COUNTRY_INFO!J92<4),IF(COUNTRY_INFO!E92>MAX('MDA2'!J92,'T1'!L92,MAX(T3_R1!K92,T3_R2!K92)),MAX('MDA2'!J92,'T1'!L92,MAX(T3_R1!K92,T3_R2!K92)),COUNTRY_INFO!E92),0)","v":0},{"$f":"IF(AND(COUNTRY_INFO!J92>1,COUNTRY_INFO!J92<4), IF(T92/COUNTRY_INFO!E92*100<>0, IF(T92/COUNTRY_INFO!E92*100>100,100,T92/COUNTRY_INFO!E92*100), \"-\"),0)","v":0},{"$f":"IF(AND(COUNTRY_INFO!J92>1,COUNTRY_INFO!J92<4),IF(COUNTRY_INFO!F92>MAX('MDA1'!K92,'MDA2'!K92,'T1'!M92,MAX(T3_R1!L92,T3_R2!L92)),MAX('MDA1'!K92,'MDA2'!K92,'T1'!M92,MAX(T3_R1!L92,T3_R2!L92)),COUNTRY_INFO!F92),0)","v":0},{"$f":"IF(AND(COUNTRY_INFO!J92>1,COUNTRY_INFO!J92<4), IF(V92/COUNTRY_INFO!F92*100<>0, IF(V92/COUNTRY_INFO!F92*100>100,100,V92/COUNTRY_INFO!F92*100), \"-\"),0)","v":0},0,{"$f":"IF(AND(COUNTRY_INFO!J92>1,COUNTRY_INFO!J92<4), IF(S92/P92*100<>0, IF(X92/P92*100>100,100,X92/P92*100), \"-\"),0)","v":0},{"$f":"COUNTRY_INFO!O92","v":18483.900000000001},null,null,{"$f":"MAX('T1'!L92,'T2'!J92)+MAX('T1'!M92,'T2'!K92)+MAX('T1'!N92,'T2'!L92)","v":0},{"$f":"IF(COUNTRY_INFO!K92=1,IF(COUNTRY_INFO!F92*0.33>MAX('T1'!M92,'T2'!K92),MAX('T1'!M92,'T2'!K92),COUNTRY_INFO!F92*0.33),IF(COUNTRY_INFO!K92=2,IF(COUNTRY_INFO!F92*0.5>MAX('T1'!M92,'T2'!K92),MAX('T1'!M92,'T2'!K92),COUNTRY_INFO!F92*0.5),IF(COUNTRY_INFO!K92=3,IF(COUNTRY_INFO!F92>MAX('T1'!M92,'T2'!K92),MAX('T1'!M92,'T2'!K92),COUNTRY_INFO!F92),0)))","v":0},{"$f":"IF(AND(COUNTRY_INFO!K92>0,COUNTRY_INFO!K92<4),IF(Z92>0,IF(COUNTRY_INFO!K92=1, AD92/(COUNTRY_INFO!F92*0.33)*100, IF(COUNTRY_INFO!K92=2, AD92/(COUNTRY_INFO!F92*0.5)*100, IF(COUNTRY_INFO!K92=3, AD92/COUNTRY_INFO!F92*100))),\"-\"),0)","v":0},{"$f":"IF(COUNTRY_INFO!K92=2,IF(COUNTRY_INFO!G92*0.2>MAX('T1'!N92,'T2'!L92),MAX('T1'!N92,'T2'!L92),COUNTRY_INFO!G92*0.2),IF(COUNTRY_INFO!K92=3,IF(COUNTRY_INFO!G92>MAX('T1'!N92,'T2'!L92),MAX('T1'!N92,'T2'!L92),COUNTRY_INFO!G92),0))","v":0},{"$f":"IF(AND(COUNTRY_INFO!K92>0,COUNTRY_INFO!K92<4),IF(Z92>0,IF(COUNTRY_INFO!K92=1, 0, IF(COUNTRY_INFO!K92=2, AF92/(COUNTRY_INFO!G92*0.2)*100, IF(COUNTRY_INFO!K92=3, AF92/COUNTRY_INFO!G92*100))),\"-\"),0)","v":0},0,{"$f":"IF(AND(COUNTRY_INFO!K92>0,COUNTRY_INFO!K92<4), IF(AC92/Z92*100<>0, IF(AH92/Z92*100>100,100,AH92/Z92*100), \"-\"),0)","v":"-"},null,{"$f":"IF(AND(D92<>0, D92<>\"Inconnu\",D92<>\"Interrompu\",D92<>\"Non requis\"),D92/COUNTRY_INFO!D92, 0)","v":1},{"$f":"IF(AND(J92<>0,J92<>\"Inconnu\",J92<>\"Interrompu\",J92<>\"Non requis\"),J92/COUNTRY_INFO!D92, 0)","v":1},{"$f":"IF(AND(P92<>0,P92<>\"Inconnu\",P92<>\"Non requis\"),P92/(COUNTRY_INFO!E92+COUNTRY_INFO!F92), 0)","v":0},{"$f":"IF(AND(Z92<>0,Z92<>\"Inconnu\",Z92<>\"Non requis\"),IF(COUNTRY_INFO!K92=1,1,IF(COUNTRY_INFO!K92=2,0.5*COUNTRY_INFO!F92/(0.5*COUNTRY_INFO!F92+0.2*COUNTRY_INFO!G92),IF(COUNTRY_INFO!K92=3,COUNTRY_INFO!F92/(COUNTRY_INFO!F92+COUNTRY_INFO!G92)))),0)","v":0.53065099897748846},{"$f":"IF(AND(Z92<>0,Z92<>\"Inconnu\",Z92<>\"Non requis\"),IF(COUNTRY_INFO!K92=1,0,IF(COUNTRY_INFO!K92=2,0.2*COUNTRY_INFO!G92/(0.5*COUNTRY_INFO!F92+0.2*COUNTRY_INFO!G92),IF(COUNTRY_INFO!K92=3,COUNTRY_INFO!G92/(COUNTRY_INFO!F92+COUNTRY_INFO!G92)))),0)","v":0.46934900102251143},{"$f":"MAX(COUNTRY_INFO!D92*AK92*PROFILE!$G$7,COUNTRY_INFO!D92*AL92*PROFILE!$G$7)","v":3391.9458830774761},{"$f":"MAX(COUNTRY_INFO!D92*AK92*PROFILE!$G$8,COUNTRY_INFO!D92*AL92*PROFILE!$G$8,COUNTRY_INFO!D92*AM92*PROFILE!$G$8)","v":10183.980865957774},{"$f":"MAX(COUNTRY_INFO!D92*AK92*PROFILE!$G$9,COUNTRY_INFO!D92*AL92*PROFILE!$G$9,COUNTRY_INFO!D92*AM92*PROFILE!$G$9,IF(AND(DISTRICT!Z92<>\"Inconnu\",Z92<>\"Non requis\"),COUNTRY_INFO!O92*DISTRICT!AN92,0))","v":19617.564310675123},{"$f":"MAX(COUNTRY_INFO!D92*AK92*PROFILE!$G$10,COUNTRY_INFO!D92*AL92*PROFILE!$G$10,IF(AND(DISTRICT!Z92<>\"Inconnu\",Z92<>\"Non requis\"),COUNTRY_INFO!O92*DISTRICT!AO92,0))","v":43377.508940289619},76571,0,{"$f":"MAX('MDA2'!J92,'T1'!L92,'T2'!J92,T3_R1!K92,T3_R2!K92)","v":0},{"$f":"MAX('MDA1'!K92,'MDA2'!K92,'MDA3'!I92,'MDA3'!L92,'T1'!M92,'T2'!K92,T3_R1!L92,T3_R2!L92)","v":0},{"$f":"MAX('MDA1'!L92,'MDA2'!L92,'MDA3'!J92,'MDA3'!M92,'T1'!N92,'T2'!L92,T3_R1!M92,T3_R2!M92)","v":0},0,{"$f":"MAX('MDA2'!J92,T92)","v":0},{"$f":"MAX('MDA1'!K92,'MDA2'!K92,'MDA3'!I92,'MDA3'!L92,V92,AD92)","v":0},{"$f":"MAX('MDA1'!L92,'MDA2'!L92,'MDA3'!J92,'MDA3'!M92,AF92)","v":0},0,0]
[{"$f":"IF(COUNTRY_INFO!A93=0,\" \",COUNTRY_INFO!A93)","v":"Guinea Bissau"},{"$f":"IF(COUNTRY_INFO!B93=0,\" \",COUNTRY_INFO!B93)","v":"Tombali"},{"$f":"IF(COUNTRY_INFO!C93=0,\" \",COUNTRY_INFO!C93)","v":"BEDANDA"},{"$f":"COUNTRY_INFO!L93","v":0},null,null,{"$f":"MAX('MDA1'!M93,'MDA2'!M93)","v":0},{"$f":"IF(AND(COUNTRY_INFO!H93>0,COUNTRY_INFO!H93<4),IF(D93>MAX('MDA1'!M93,'MDA2'!M93),MAX('MDA1'!M93,'MDA2'!M93),D93),0)","v":0},{"$f":"IF(AND(COUNTRY_INFO!H93>0,COUNTRY_INFO!H93<4), IF(G93/D93*100<>0, IF(G93/D93*100>100,100,G93/D93*100), \"-\"),0)","v":0},{"$f":"COUNTRY_INFO!M93","v":"Inconnu"},null,null,{"$f":"MAX('MDA1'!M93,MAX('MDA3'!I93,'MDA3'!L93)+MAX('MDA3'!J93,'MDA3'!M93))","v":0},{"$f":"IF(AND(COUNTRY_INFO!I93>0,COUNTRY_INFO!I93<4),IF(J93>MAX('MDA1'!M93,MAX('MDA3'!I93,'MDA3'!L93)+MAX('MDA3'!J93,'MDA3'!M93)),MAX('MDA1'!M93,MAX('MDA3'!I93,'MDA3'!L93)+MAX('MDA3'!J93,'MDA3'!M93)),J93),0)","v":0},{"$f":"IF(AND(COUNTRY_INFO!I93>0,COUNTRY_INFO!I93<4), IF(M93/J93*100<>0, IF(M93/J93*100>100,100,M93/J93*100), \"-\"),0)","v":0},{"$f":"COUNTRY_INFO!N93","v":7241},null,null,{"$f":"SUM(MAX('MDA2'!J93, 'T1'!L93, MAX(T3_R1!K93, T3_R2!K93)), MAX('MDA1'!K93, 'MDA2'!K93, 'T1'!M93, MAX(T3_R1!L93, T3_R2!L93)), MAX('MDA1'!L93, 'MDA2'!L93, 'T1'!N93, MAX(T3_R1!M93, T3_R2!M93)))","v":3871},{"$f":"IF(AND(COUNTRY_INFO!J93>1,COUNTRY_INFO!J93<4),IF(COUNTRY_INFO!E93>MAX('MDA2'!J93,'T1'!L93,MAX(T3_R1!K93,T3_R2!K93)),MAX('MDA2'!J93,'T1'!L93,MAX(T3_R1!K93,T3_R2!K93)),COUNTRY_INFO!E93),0)","v":0},{"$f":"IF(AND(COUNTRY_INFO!J93>1,COUNTRY_INFO!J93<4), IF(T93/COUNTRY_INFO!E93*100<>0, IF(T93/COUNTRY_INFO!E93*100>100,100,T93/COUNTRY_INFO!E93*100), \"-\"),0)","v":"-"},{"$f":"IF(AND(COUNTRY_INFO!J93>1,COUNTRY_INFO!J93<4),IF(COUNTRY_INFO!F93>MAX('MDA1'!K93,'MDA2'!K93,'T1'!M93,MAX(T3_R1!L93,T3_R2!L93)),MAX('MDA1'!K93,'MDA2'!K93,'T1'!M93,MAX(T3_R1!L93,T3_R2!L93)),COUNTRY_INFO!F93),0)","v":3871},{"$f":"IF(AND(COUNTRY_INFO!J93>1,COUNTRY_INFO!J93<4), IF(V93/COUNTRY_INFO!F93*100<>0, IF(V93/COUNTRY_INFO!F93*100>100,100,V93/COUNTRY_INFO!F93*100), \"-\"),0)","v":81.204111600587368},3871,{"$f":"IF(AND(COUNTRY_INFO!J93>1,COUNTRY_INFO!J93<4), IF(S93/P93*100<>0, IF(X93/P93*100>100,100,X93/P93*100), \"-\"),0)","v":53.459466924457942},{"$f":"COUNTRY_INFO!O93","v":0},null,null,{"$f":"MAX('T1'!L93,'T2'!J93)+MAX('T1'!M93,'T2'!K93)+MAX('T1'!N93,'T2'!L93)","v":0},{"$f":"IF(COUNTRY_INFO!K93=1,IF(COUNTRY_INFO!F93*0.33>MAX('T1'!M93,'T2'!K93),MAX('T1'!M93,'T2'!K93),COUNTRY_INFO!F93*0.33),IF(COUNTRY_INFO!K93=2,IF(COUNTRY_INFO!F93*0.5>MAX('T1'!M93,'T2'!K93),MAX('T1'!M93,'T2'!K93),COUNTRY_INFO!F93*0.5),IF(COUNTRY_INFO!K93=3,IF(COUNTRY_INFO!F93>MAX('T1'!M93,'T2'!K93),MAX('T1'!M93,'T2'!K93),COUNTRY_INFO!F93),0)))","v":0},{"$f":"IF(AND(COUNTRY_INFO!K93>0,COUNTRY_INFO!K93<4),IF(Z93>0,IF(COUNTRY_INFO!K93=1, AD93/(COUNTRY_INFO!F93*0.33)*100, IF(COUNTRY_INFO!K93=2, AD93/(COUNTRY_INFO!F93*0.5)*100, IF(COUNTRY_INFO!K93=3, AD93/COUNTRY_INFO!F93*100))),\"-\"),0)","v":0},{"$f":"IF(COUNTRY_INFO!K93=2,IF(COUNTRY_INFO!G93*0.2>MAX('T1'!N93,'T2'!L93),MAX('T1'!N93,'T2'!L93),COUNTRY_INFO!G93*0.2),IF(COUNTRY_INFO!K93=3,IF(COUNTRY_INFO!G93>MAX('T1'!N93,'T2'!L93),MAX('T1'!N93,'T2'!L93),COUNTRY_INFO!G93),0))","v":0},{"$f":"IF(AND(COUNTRY_INFO!K93>0,COUNTRY_INFO!K93<4),IF(Z93>0,IF(COUNTRY_INFO!K93=1, 0, IF(COUNTRY_INFO!K93=2, AF93/(COUNTRY_INFO!G93*0.2)*100, IF(COUNTRY_INFO!K93=3, AF93/COUNTRY_INFO!G93*100))),\"-\"),0)","v":0},0,{"$f":"IF(AND(COUNTRY_INFO!K93>0,COUNTRY_INFO!K93<4), IF(AC93/Z93*100<>0, IF(AH93/Z93*100>100,100,AH93/Z93*100), \"-\"),0)","v":0},null,{"$f":"IF(AND(D93<>0, D93<>\"Inconnu\",D93<>\"Interrompu\",D93<>\"Non requis\"),D93/COUNTRY_INFO!D93, 0)","v":0},{"$f":"IF(AND(J93<>0,J93<>\"Inconnu\",J93<>\"Interrompu\",J93<>\"Non requis\"),J93/COUNTRY_INFO!D93, 0)","v":0},{"$f":"IF(AND(P93<>0,P93<>\"Inconnu\",P93<>\"Non requis\"),P93/(COUNTRY_INFO!E93+COUNTRY_INFO!F93), 0)","v":1},{"$f":"IF(AND(Z93<>0,Z93<>\"Inconnu\",Z93<>\"Non requis\"),IF(COUNTRY_INFO!K93=1,1,IF(COUNTRY_INFO!K93=2,0.5*COUNTRY_INFO!F93/(0.5*COUNTRY_INFO!F93+0.2*COUNTRY_INFO!G93),IF(COUNTRY_INFO!K93=3,COUNTRY_INFO!F93/(COUNTRY_INFO!F93+COUNTRY_INFO!G93)))),0)","v":0},{"$f":"IF(AND(Z93<>0,Z93<>\"Inconnu\",Z93<>\"Non requis\"),IF(COUNTRY_INFO!K93=1,0,IF(COUNTRY_INFO!K93=2,0.2*COUNTRY_INFO!G93/(0.5*COUNTRY_INFO!F93+0.2*COUNTRY_INFO!G93),IF(COUNTRY_INFO!K93=3,COUNTRY_INFO!G93/(COUNTRY_INFO!F93+COUNTRY_INFO!G93)))),0)","v":0},{"$f":"MAX(COUNTRY_INFO!D93*AK93*PROFILE!$G$7,COUNTRY_INFO!D93*AL93*PROFILE!$G$7)","v":0},{"$f":"MAX(COUNTRY_INFO!D93*AK93*PROFILE!$G$8,COUNTRY_INFO!D93*AL93*PROFILE!$G$8,COUNTRY_INFO!D93*AM93*PROFILE!$G$8)","v":2474.4742005608437},{"$f":"MAX(COUNTRY_INFO!D93*AK93*PROFILE!$G$9,COUNTRY_INFO!D93*AL93*PROFILE!$G$9,COUNTRY_INFO!D93*AM93*PROFILE!$G$9,IF(AND(DISTRICT!Z93<>\"Inconnu\",Z93<>\"Non requis\"),COUNTRY_INFO!O93*DISTRICT!AN93,0))","v":4766.6190071973815},{"$f":"MAX(COUNTRY_INFO!D93*AK93*PROFILE!$G$10,COUNTRY_INFO!D93*AL93*PROFILE!$G$10,IF(AND(DISTRICT!Z93<>\"Inconnu\",Z93<>\"Non requis\"),COUNTRY_INFO!O93*DISTRICT!AO93,0))","v":0},7241.0932077582256,"Y",{"$f":"MAX('MDA2'!J93,'T1'!L93,'T2'!J93,T3_R1!K93,T3_R2!K93)","v":0},{"$f":"MAX('MDA1'!K93,'MDA2'!K93,'MDA3'!I93,'MDA3'!L93,'T1'!M93,'T2'!K93,T3_R1!L93,T3_R2!L93)","v":3871},{"$f":"MAX('MDA1'!L93,'MDA2'!L93,'MDA3'!J93,'MDA3'!M93,'T1'!N93,'T2'!L93,T3_R1!M93,T3_R2!M93)","v":0},3871,{"$f":"MAX('MDA2'!J93,T93)","v":0},{"$f":"MAX('MDA1'!K93,'MDA2'!K93,'MDA3'!I93,'MDA3'!L93,V93,AD93)","v":3871},{"$f":"MAX('MDA1'!L93,'MDA2'!L93,'MDA3'!J93,'MDA3'!M93,AF93)","v":0},3871,53.458778791198924]
[{"$f":"IF(COUNTRY_INFO!A94=0,\" \",COUNTRY_INFO!A94)","v":"Guinea Bissau"},{"$f":"IF(COUNTRY_INFO!B94=0,\" \",COUNTRY_INFO!B94)","v":"Tombali"},{"$f":"IF(COUNTRY_INFO!C94=0,\" \",COUNTRY_INFO!C94)","v":"CACINE"},{"$f":"COUNTRY_INFO!L94","v":0},null,null,{"$f":"MAX('MDA1'!M94,'MDA2'!M94)","v":0},{"$f":"IF(AND(COUNTRY_INFO!H94>0,COUNTRY_INFO!H94<4),IF(D94>MAX('MDA1'!M94,'MDA2'!M94),MAX('MDA1'!M94,'MDA2'!M94),D94),0)","v":0},{"$f":"IF(AND(COUNTRY_INFO!H94>0,COUNTRY_INFO!H94<4), IF(G94/D94*100<>0, IF(G94/D94*100>100,100,G94/D94*100), \"-\"),0)","v":0},{"$f":"COUNTRY_INFO!M94","v":"Inconnu"},null,null,{"$f":"MAX('MDA1'!M94,MAX('MDA3'!I94,'MDA3'!L94)+MAX('MDA3'!J94,'MDA3'!M94))","v":0},{"$f":"IF(AND(COUNTRY_INFO!I94>0,COUNTRY_INFO!I94<4),IF(J94>MAX('MDA1'!M94,MAX('MDA3'!I94,'MDA3'!L94)+MAX('MDA3'!J94,'MDA3'!M94)),MAX('MDA1'!M94,MAX('MDA3'!I94,'MDA3'!L94)+MAX('MDA3'!J94,'MDA3'!M94)),J94),0)","v":0},{"$f":"IF(AND(COUNTRY_INFO!I94>0,COUNTRY_INFO!I94<4), IF(M94/J94*100<>0, IF(M94/J94*100>100,100,M94/J94*100), \"-\"),0)","v":0},{"$f":"COUNTRY_INFO!N94","v":0},null,null,{"$f":"SUM(MAX('MDA2'!J94, 'T1'!L94, MAX(T3_R1!K94, T3_R2!K94)), MAX('MDA1'!K94, 'MDA2'!K94, 'T1'!M94, MAX(T3_R1!L94, T3_R2!L94)), MAX('MDA1'!L94, 'MDA2'!L94, 'T1'!N94, MAX(T3_R1!M94, T3_R2!M94)))","v":2661},{"$f":"IF(AND(COUNTRY_INFO!J94>1,COUNTRY_INFO!J94<4),IF(COUNTRY_INFO!E94>MAX('MDA2'!J94,'T1'!L94,MAX(T3_R1!K94,T3_R2!K94)),MAX('MDA2'!J94,'T1'!L94,MAX(T3_R1!K94,T3_R2!K94)),COUNTRY_INFO!E94),0)","v":0},{"$f":"IF(AND(COUNTRY_INFO!J94>1,COUNTRY_INFO!J94<4), IF(T94/COUNTRY_INFO!E94*100<>0, IF(T94/COUNTRY_INFO!E94*100>100,100,T94/COUNTRY_INFO!E94*100), \"-\"),0)","v":0},{"$f":"IF(AND(COUNTRY_INFO!J94>1,COUNTRY_INFO!J94<4),IF(COUNTRY_INFO!F94>MAX('MDA1'!K94,'MDA2'!K94,'T1'!M94,MAX(T3_R1!L94,T3_R2!L94)),MAX('MDA1'!K94,'MDA2'!K94,'T1'!M94,MAX(T3_R1!L94,T3_R2!L94)),COUNTRY_INFO!F94),0)","v":0},{"$f":"IF(AND(COUNTRY_INFO!J94>1,COUNTRY_INFO!J94<4), IF(V94/COUNTRY_INFO!F94*100<>0, IF(V94/COUNTRY_INFO!F94*100>100,100,V94/COUNTRY_INFO!F94*100), \"-\"),0)","v":0},0,{"$f":"IF(AND(COUNTRY_INFO!J94>1,COUNTRY_INFO!J94<4), IF(S94/P94*100<>0, IF(X94/P94*100>100,100,X94/P94*100), \"-\"),0)","v":0},{"$f":"COUNTRY_INFO!O94","v":0},null,null,{"$f":"MAX('T1'!L94,'T2'!J94)+MAX('T1'!M94,'T2'!K94)+MAX('T1'!N94,'T2'!L94)","v":0},{"$f":"IF(COUNTRY_INFO!K94=1,IF(COUNTRY_INFO!F94*0.33>MAX('T1'!M94,'T2'!K94),MAX('T1'!M94,'T2'!K94),COUNTRY_INFO!F94*0.33),IF(COUNTRY_INFO!K94=2,IF(COUNTRY_INFO!F94*0.5>MAX('T1'!M94,'T2'!K94),MAX('T1'!M94,'T2'!K94),COUNTRY_INFO!F94*0.5),IF(COUNTRY_INFO!K94=3,IF(COUNTRY_INFO!F94>MAX('T1'!M94,'T2'!K94),MAX('T1'!M94,'T2'!K94),COUNTRY_INFO!F94),0)))","v":0},{"$f":"IF(AND(COUNTRY_INFO!K94>0,COUNTRY_INFO!K94<4),IF(Z94>0,IF(COUNTRY_INFO!K94=1, AD94/(COUNTRY_INFO!F94*0.33)*100, IF(COUNTRY_INFO!K94=2, AD94/(COUNTRY_INFO!F94*0.5)*100, IF(COUNTRY_INFO!K94=3, AD94/COUNTRY_INFO!F94*100))),\"-\"),0)","v":0},{"$f":"IF(COUNTRY_INFO!K94=2,IF(COUNTRY_INFO!G94*0.2>MAX('T1'!N94,'T2'!L94),MAX('T1'!N94,'T2'!L94),COUNTRY_INFO!G94*0.2),IF(COUNTRY_INFO!K94=3,IF(COUNTRY_INFO!G94>MAX('T1'!N94,'T2'!L94),MAX('T1'!N94,'T2'!L94),COUNTRY_INFO!G94),0))","v":0},{"$f":"IF(AND(COUNTRY_INFO!K94>0,COUNTRY_INFO!K94<4),IF(Z94>0,IF(COUNTRY_INFO!K94=1, 0, IF(COUNTRY_INFO!K94=2, AF94/(COUNTRY_INFO!G94*0.2)*100, IF(COUNTRY_INFO!K94=3, AF94/COUNTRY_INFO!G94*100))),\"-\"),0)","v":0},0,{"$f":"IF(AND(COUNTRY_INFO!K94>0,COUNTRY_INFO!K94<4), IF(AC94/Z94*100<>0, IF(AH94/Z94*100>100,100,AH94/Z94*100), \"-\"),0)","v":0},null,{"$f":"IF(AND(D94<>0, D94<>\"Inconnu\",D94<>\"Interrompu\",D94<>\"Non requis\"),D94/COUNTRY_INFO!D94, 0)","v":0},{"$f":"IF(AND(J94<>0,J94<>\"Inconnu\",J94<>\"Interrompu\",J94<>\"Non requis\"),J94/COUNTRY_INFO!D94, 0)","v":0},{"$f":"IF(AND(P94<>0,P94<>\"Inconnu\",P94<>\"Non requis\"),P94/(COUNTRY_INFO!E94+COUNTRY_INFO!F94), 0)","v":0},{"$f":"IF(AND(Z94<>0,Z94<>\"Inconnu\",Z94<>\"Non requis\"),IF(COUNTRY_INFO!K94=1,1,IF(COUNTRY_INFO!K94=2,0.5*COUNTRY_INFO!F94/(0.5*COUNTRY_INFO!F94+0.2*COUNTRY_INFO!G94),IF(COUNTRY_INFO!K94=3,COUNTRY_INFO!F94/(COUNTRY_INFO!F94+COUNTRY_INFO!G94)))),0)","v":0},{"$f":"IF(AND(Z94<>0,Z94<>\"Inconnu\",Z94<>\"Non requis\"),IF(COUNTRY_INFO!K94=1,0,IF(COUNTRY_INFO!K94=2,0.2*COUNTRY_INFO!G94/(0.5*COUNTRY_INFO!F94+0.2*COUNTRY_INFO!G94),IF(COUNTRY_INFO!K94=3,COUNTRY_INFO!G94/(COUNTRY_INFO!F94+COUNTRY_INFO!G94)))),0)","v":0},{"$f":"MAX(COUNTRY_INFO!D94*AK94*PROFILE!$G$7,COUNTRY_INFO!D94*AL94*PROFILE!$G$7)","v":0},{"$f":"MAX(COUNTRY_INFO!D94*AK94*PROFILE!$G$8,COUNTRY_INFO!D94*AL94*PROFILE!$G$8,COUNTRY_INFO!D94*AM94*PROFILE!$G$8)","v":0},{"$f":"MAX(COUNTRY_INFO!D94*AK94*PROFILE!$G$9,COUNTRY_INFO!D94*AL94*PROFILE!$G$9,COUNTRY_INFO!D94*AM94*PROFILE!$G$9,IF(AND(DISTRICT!Z94<>\"Inconnu\",Z94<>\"Non requis\"),COUNTRY_INFO!O94*DISTRICT!AN94,0))","v":0},{"$f":"MAX(COUNTRY_INFO!D94*AK94*PROFILE!$G$10,COUNTRY_INFO!D94*AL94*PROFILE!$G$10,IF(AND(DISTRICT!Z94<>\"Inconnu\",Z94<>\"Non requis\"),COUNTRY_INFO!O94*DISTRICT!AO94,0))","v":0},0,0,{"$f":"MAX('MDA2'!J94,'T1'!L94,'T2'!J94,T3_R1!K94,T3_R2!K94)","v":0},{"$f":"MAX('MDA1'!K94,'MDA2'!K94,'MDA3'!I94,'MDA3'!L94,'T1'!M94,'T2'!K94,T3_R1!L94,T3_R2!L94)","v":2661},{"$f":"MAX('MDA1'!L94,'MDA2'!L94,'MDA3'!J94,'MDA3'!M94,'T1'!N94,'T2'!L94,T3_R1!M94,T3_R2!M94)","v":0},2661,{"$f":"MAX('MDA2'!J94,T94)","v":0},{"$f":"MAX('MDA1'!K94,'MDA2'!K94,'MDA3'!I94,'MDA3'!L94,V94,AD94)","v":0},{"$f":"MAX('MDA1'!L94,'MDA2'!L94,'MDA3'!J94,'MDA3'!M94,AF94)","v":0},0,0]
[{"$f":"IF(COUNTRY_INFO!A95=0,\" \",COUNTRY_INFO!A95)","v":"Guinea Bissau"},{"$f":"IF(COUNTRY_INFO!B95=0,\" \",COUNTRY_INFO!B95)","v":"Tombali"},{"$f":"IF(COUNTRY_INFO!C95=0,\" \",COUNTRY_INFO!C95)","v":"CALAQUE"},{"$f":"COUNTRY_INFO!L95","v":0},null,null,{"$f":"MAX('MDA1'!M95,'MDA2'!M95)","v":0},{"$f":"IF(AND(COUNTRY_INFO!H95>0,COUNTRY_INFO!H95<4),IF(D95>MAX('MDA1'!M95,'MDA2'!M95),MAX('MDA1'!M95,'MDA2'!M95),D95),0)","v":0},{"$f":"IF(AND(COUNTRY_INFO!H95>0,COUNTRY_INFO!H95<4), IF(G95/D95*100<>0, IF(G95/D95*100>100,100,G95/D95*100), \"-\"),0)","v":0},{"$f":"COUNTRY_INFO!M95","v":"Inconnu"},null,null,{"$f":"MAX('MDA1'!M95,MAX('MDA3'!I95,'MDA3'!L95)+MAX('MDA3'!J95,'MDA3'!M95))","v":0},{"$f":"IF(AND(COUNTRY_INFO!I95>0,COUNTRY_INFO!I95<4),IF(J95>MAX('MDA1'!M95,MAX('MDA3'!I95,'MDA3'!L95)+MAX('MDA3'!J95,'MDA3'!M95)),MAX('MDA1'!M95,MAX('MDA3'!I95,'MDA3'!L95)+MAX('MDA3'!J95,'MDA3'!M95)),J95),0)","v":0},{"$f":"IF(AND(COUNTRY_INFO!I95>0,COUNTRY_INFO!I95<4), IF(M95/J95*100<>0, IF(M95/J95*100>100,100,M95/J95*100), \"-\"),0)","v":0},{"$f":"COUNTRY_INFO!N95","v":6830},null,null,{"$f":"SUM(MAX('MDA2'!J95, 'T1'!L95, MAX(T3_R1!K95, T3_R2!K95)), MAX('MDA1'!K95, 'MDA2'!K95, 'T1'!M95, MAX(T3_R1!L95, T3_R2!L95)), MAX('MDA1'!L95, 'MDA2'!L95, 'T1'!N95, MAX(T3_R1!M95, T3_R2!M95)))","v":4353},{"$f":"IF(AND(COUNTRY_INFO!J95>1,COUNTRY_INFO!J95<4),IF(COUNTRY_INFO!E95>MAX('MDA2'!J95,'T1'!L95,MAX(T3_R1!K95,T3_R2!K95)),MAX('MDA2'!J95,'T1'!L95,MAX(T3_R1!K95,T3_R2!K95)),COUNTRY_INFO!E95),0)","v":0},{"$f":"IF(AND(COUNTRY_INFO!J95>1,COUNTRY_INFO!J95<4), IF(T95/COUNTRY_INFO!E95*100<>0, IF(T95/COUNTRY_INFO!E95*100>100,100,T95/COUNTRY_INFO!E95*100), \"-\"),0)","v":"-"},{"$f":"IF(AND(COUNTRY_INFO!J95>1,COUNTRY_INFO!J95<4),IF(COUNTRY_INFO!F95>MAX('MDA1'!K95,'MDA2'!K95,'T1'!M95,MAX(T3_R1!L95,T3_R2!L95)),MAX('MDA1'!K95,'MDA2'!K95,'T1'!M95,MAX(T3_R1!L95,T3_R2!L95)),COUNTRY_INFO!F95),0)","v":4353},{"$f":"IF(AND(COUNTRY_INFO!J95>1,COUNTRY_INFO!J95<4), IF(V95/COUNTRY_INFO!F95*100<>0, IF(V95/COUNTRY_INFO!F95*100>100,100,V95/COUNTRY_INFO!F95*100), \"-\"),0)","v":96.819395017793596},4353,{"$f":"IF(AND(COUNTRY_INFO!J95>1,COUNTRY_INFO!J95<4), IF(S95/P95*100<>0, IF(X95/P95*100>100,100,X95/P95*100), \"-\"),0)","v":63.733528550512439},{"$f":"COUNTRY_INFO!O95","v":1483.68},null,null,{"$f":"MAX('T1'!L95,'T2'!J95)+MAX('T1'!M95,'T2'!K95)+MAX('T1'!N95,'T2'!L95)","v":0},{"$f":"IF(COUNTRY_INFO!K95=1,IF(COUNTRY_INFO!F95*0.33>MAX('T1'!M95,'T2'!K95),MAX('T1'!M95,'T2'!K95),COUNTRY_INFO!F95*0.33),IF(COUNTRY_INFO!K95=2,IF(COUNTRY_INFO!F95*0.5>MAX('T1'!M95,'T2'!K95),MAX('T1'!M95,'T2'!K95),COUNTRY_INFO!F95*0.5),IF(COUNTRY_INFO!K95=3,IF(COUNTRY_INFO!F95>MAX('T1'!M95,'T2'!K95),MAX('T1'!M95,'T2'!K95),COUNTRY_INFO!F95),0)))","v":0},{"$f":"IF(AND(COUNTRY_INFO!K95>0,COUNTRY_INFO!K95<4),IF(Z95>0,IF(COUNTRY_INFO!K95=1, AD95/(COUNTRY_INFO!F95*0.33)*100, IF(COUNTRY_INFO!K95=2, AD95/(COUNTRY_INFO!F95*0.5)*100, IF(COUNTRY_INFO!K95=3, AD95/COUNTRY_INFO!F95*100))),\"-\"),0)","v":0},{"$f":"IF(COUNTRY_INFO!K95=2,IF(COUNTRY_INFO!G95*0.2>MAX('T1'!N95,'T2'!L95),MAX('T1'!N95,'T2'!L95),COUNTRY_INFO!G95*0.2),IF(COUNTRY_INFO!K95=3,IF(COUNTRY_INFO!G95>MAX('T1'!N95,'T2'!L95),MAX('T1'!N95,'T2'!L95),COUNTRY_INFO!G95),0))","v":0},{"$f":"IF(AND(COUNTRY_INFO!K95>0,COUNTRY_INFO!K95<4),IF(Z95>0,IF(COUNTRY_INFO!K95=1, 0, IF(COUNTRY_INFO!K95=2, AF95/(COUNTRY_INFO!G95*0.2)*100, IF(COUNTRY_INFO!K95=3, AF95/COUNTRY_INFO!G95*100))),\"-\"),0)","v":0},0,{"$f":"IF(AND(COUNTRY_INFO!K95>0,COUNTRY_INFO!K95<4), IF(AC95/Z95*100<>0, IF(AH95/Z95*100>100,100,AH95/Z95*100), \"-\"),0)","v":"-"},null,{"$f":"IF(AND(D95<>0, D95<>\"Inconnu\",D95<>\"Interrompu\",D95<>\"Non requis\"),D95/COUNTRY_INFO!D95, 0)","v":0},{"$f":"IF(AND(J95<>0,J95<>\"Inconnu\",J95<>\"Interrompu\",J95<>\"Non requis\"),J95/COUNTRY_INFO!D95, 0)","v":0},{"$f":"IF(AND(P95<>0,P95<>\"Inconnu\",P95<>\"Non requis\"),P95/(COUNTRY_INFO!E95+COUNTRY_INFO!F95), 0)","v":1},{"$f":"IF(AND(Z95<>0,Z95<>\"Inconnu\",Z95<>\"Non requis\"),IF(COUNTRY_INFO!K95=1,1,IF(COUNTRY_INFO!K95=2,0.5*COUNTRY_INFO!F95/(0.5*COUNTRY_INFO!F95+0.2*COUNTRY_INFO!G95),IF(COUNTRY_INFO!K95=3,COUNTRY_INFO!F95/(COUNTRY_INFO!F95+COUNTRY_INFO!G95)))),0)","v":1},{"$f":"IF(AND(Z95<>0,Z95<>\"Inconnu\",Z95<>\"Non requis\"),IF(COUNTRY_INFO!K95=1,0,IF(COUNTRY_INFO!K95=2,0.2*COUNTRY_INFO!G95/(0.5*COUNTRY_INFO!F95+0.2*COUNTRY_INFO!G95),IF(COUNTRY_INFO!K95=3,COUNTRY_INFO!G95/(COUNTRY_INFO!F95+COUNTRY_INFO!G95)))),0)","v":0},{"$f":"MAX(COUNTRY_INFO!D95*AK95*PROFILE!$G$7,COUNTRY_INFO!D95*AL95*PROFILE!$G$7)","v":0},{"$f":"MAX(COUNTRY_INFO!D95*AK95*PROFILE!$G$8,COUNTRY_INFO!D95*AL95*PROFILE!$G$8,COUNTRY_INFO!D95*AM95*PROFILE!$G$8)","v":2334.1586788413229},{"$f":"MAX(COUNTRY_INFO!D95*AK95*PROFILE!$G$9,COUNTRY_INFO!D95*AL95*PROFILE!$G$9,COUNTRY_INFO!D95*AM95*PROFILE!$G$9,IF(AND(DISTRICT!Z95<>\"Inconnu\",Z95<>\"Non requis\"),COUNTRY_INFO!O95*DISTRICT!AN95,0))","v":4496.3269860958908},{"$f":"MAX(COUNTRY_INFO!D95*AK95*PROFILE!$G$10,COUNTRY_INFO!D95*AL95*PROFILE!$G$10,IF(AND(DISTRICT!Z95<>\"Inconnu\",Z95<>\"Non requis\"),COUNTRY_INFO!O95*DISTRICT!AO95,0))","v":0},6830.4856649372141,0,{"$f":"MAX('MDA2'!J95,'T1'!L95,'T2'!J95,T3_R1!K95,T3_R2!K95)","v":0},{"$f":"MAX('MDA1'!K95,'MDA2'!K95,'MDA3'!I95,'MDA3'!L95,'T1'!M95,'T2'!K95,T3_R1!L95,T3_R2!L95)","v":4353},{"$f":"MAX('MDA1'!L95,'MDA2'!L95,'MDA3'!J95,'MDA3'!M95,'T1'!N95,'T2'!L95,T3_R1!M95,T3_R2!M95)","v":0},4353,{"$f":"MAX('MDA2'!J95,T95)","v":0},{"$f":"MAX('MDA1'!K95,'MDA2'!K95,'MDA3'!I95,'MDA3'!L95,V95,AD95)","v":4353},{"$f":"MAX('MDA1'!L95,'MDA2'!L95,'MDA3'!J95,'MDA3'!M95,AF95)","v":0},4353,63.728996934217449]
[{"$f":"IF(COUNTRY_INFO!A96=0,\" \",COUNTRY_INFO!A96)","v":"Guinea Bissau"},{"$f":"IF(COUNTRY_INFO!B96=0,\" \",COUNTRY_INFO!B96)","v":"Tombali"},{"$f":"IF(COUNTRY_INFO!C96=0,\" \",COUNTRY_INFO!C96)","v":"CATIO"},{"$f":"COUNTRY_INFO!L96","v":0},null,null,{"$f":"MAX('MDA1'!M96,'MDA2'!M96)","v":0},{"$f":"IF(AND(COUNTRY_INFO!H96>0,COUNTRY_INFO!H96<4),IF(D96>MAX('MDA1'!M96,'MDA2'!M96),MAX('MDA1'!M96,'MDA2'!M96),D96),0)","v":0},{"$f":"IF(AND(COUNTRY_INFO!H96>0,COUNTRY_INFO!H96<4), IF(G96/D96*100<>0, IF(G96/D96*100>100,100,G96/D96*100), \"-\"),0)","v":0},{"$f":"COUNTRY_INFO!M96","v":"Inconnu"},null,null,{"$f":"MAX('MDA1'!M96,MAX('MDA3'!I96,'MDA3'!L96)+MAX('MDA3'!J96,'MDA3'!M96))","v":0},{"$f":"IF(AND(COUNTRY_INFO!I96>0,COUNTRY_INFO!I96<4),IF(J96>MAX('MDA1'!M96,MAX('MDA3'!I96,'MDA3'!L96)+MAX('MDA3'!J96,'MDA3'!M96)),MAX('MDA1'!M96,MAX('MDA3'!I96,'MDA3'!L96)+MAX('MDA3'!J96,'MDA3'!M96)),J96),0)","v":0},{"$f":"IF(AND(COUNTRY_INFO!I96>0,COUNTRY_INFO!I96<4), IF(M96/J96*100<>0, IF(M96/J96*100>100,100,M96/J96*100), \"-\"),0)","v":0},{"$f":"COUNTRY_INFO!N96","v":0},null,null,{"$f":"SUM(MAX('MDA2'!J96, 'T1'!L96, MAX(T3_R1!K96, T3_R2!K96)), MAX('MDA1'!K96, 'MDA2'!K96, 'T1'!M96, MAX(T3_R1!L96, T3_R2!L96)), MAX('MDA1'!L96, 'MDA2'!L96, 'T1'!N96, MAX(T3_R1!M96, T3_R2!M96)))","v":5308},{"$f":"IF(AND(COUNTRY_INFO!J96>1,COUNTRY_INFO!J96<4),IF(COUNTRY_INFO!E96>MAX('MDA2'!J96,'T1'!L96,MAX(T3_R1!K96,T3_R2!K96)),MAX('MDA2'!J96,'T1'!L96,MAX(T3_R1!K96,T3_R2!K96)),COUNTRY_INFO!E96),0)","v":0},{"$f":"IF(AND(COUNTRY_INFO!J96>1,COUNTRY_INFO!J96<4), IF(T96/COUNTRY_INFO!E96*100<>0, IF(T96/COUNTRY_INFO!E96*100>100,100,T96/COUNTRY_INFO!E96*100), \"-\"),0)","v":0},{"$f":"IF(AND(COUNTRY_INFO!J96>1,COUNTRY_INFO!J96<4),IF(COUNTRY_INFO!F96>MAX('MDA1'!K96,'MDA2'!K96,'T1'!M96,MAX(T3_R1!L96,T3_R2!L96)),MAX('MDA1'!K96,'MDA2'!K96,'T1'!M96,MAX(T3_R1!L96,T3_R2!L96)),COUNTRY_INFO!F96),0)","v":0},{"$f":"IF(AND(COUNTRY_INFO!J96>1,COUNTRY_INFO!J96<4), IF(V96/COUNTRY_INFO!F96*100<>0, IF(V96/COUNTRY_INFO!F96*100>100,100,V96/COUNTRY_INFO!F96*100), \"-\"),0)","v":0},0,{"$f":"IF(AND(COUNTRY_INFO!J96>1,COUNTRY_INFO!J96<4), IF(S96/P96*100<>0, IF(X96/P96*100>100,100,X96/P96*100), \"-\"),0)","v":0},{"$f":"COUNTRY_INFO!O96","v":1733.8200000000002},null,null,{"$f":"MAX('T1'!L96,'T2'!J96)+MAX('T1'!M96,'T2'!K96)+MAX('T1'!N96,'T2'!L96)","v":0},{"$f":"IF(COUNTRY_INFO!K96=1,IF(COUNTRY_INFO!F96*0.33>MAX('T1'!M96,'T2'!K96),MAX('T1'!M96,'T2'!K96),COUNTRY_INFO!F96*0.33),IF(COUNTRY_INFO!K96=2,IF(COUNTRY_INFO!F96*0.5>MAX('T1'!M96,'T2'!K96),MAX('T1'!M96,'T2'!K96),COUNTRY_INFO!F96*0.5),IF(COUNTRY_INFO!K96=3,IF(COUNTRY_INFO!F96>MAX('T1'!M96,'T2'!K96),MAX('T1'!M96,'T2'!K96),COUNTRY_INFO!F96),0)))","v":0},{"$f":"IF(AND(COUNTRY_INFO!K96>0,COUNTRY_INFO!K96<4),IF(Z96>0,IF(COUNTRY_INFO!K96=1, AD96/(COUNTRY_INFO!F96*0.33)*100, IF(COUNTRY_INFO!K96=2, AD96/(COUNTRY_INFO!F96*0.5)*100, IF(COUNTRY_INFO!K96=3, AD96/COUNTRY_INFO!F96*100))),\"-\"),0)","v":0},{"$f":"IF(COUNTRY_INFO!K96=2,IF(COUNTRY_INFO!G96*0.2>MAX('T1'!N96,'T2'!L96),MAX('T1'!N96,'T2'!L96),COUNTRY_INFO!G96*0.2),IF(COUNTRY_INFO!K96=3,IF(COUNTRY_INFO!G96>MAX('T1'!N96,'T2'!L96),MAX('T1'!N96,'T2'!L96),COUNTRY_INFO!G96),0))","v":0},{"$f":"IF(AND(COUNTRY_INFO!K96>0,COUNTRY_INFO!K96<4),IF(Z96>0,IF(COUNTRY_INFO!K96=1, 0, IF(COUNTRY_INFO!K96=2, AF96/(COUNTRY_INFO!G96*0.2)*100, IF(COUNTRY_INFO!K96=3, AF96/COUNTRY_INFO!G96*100))),\"-\"),0)","v":0},0,{"$f":"IF(AND(COUNTRY_INFO!K96>0,COUNTRY_INFO!K96<4), IF(AC96/Z96*100<>0, IF(AH96/Z96*100>100,100,AH96/Z96*100), \"-\"),0)","v":"-"},null,{"$f":"IF(AND(D96<>0, D96<>\"Inconnu\",D96<>\"Interrompu\",D96<>\"Non requis\"),D96/COUNTRY_INFO!D96, 0)","v":0},{"$f":"IF(AND(J96<>0,J96<>\"Inconnu\",J96<>\"Interrompu\",J96<>\"Non requis\"),J96/COUNTRY_INFO!D96, 0)","v":0},{"$f":"IF(AND(P96<>0,P96<>\"Inconnu\",P96<>\"Non requis\"),P96/(COUNTRY_INFO!E96+COUNTRY_INFO!F96), 0)","v":0},{"$f":"IF(AND(Z96<>0,Z96<>\"Inconnu\",Z96<>\"Non requis\"),IF(COUNTRY_INFO!K96=1,1,IF(COUNTRY_INFO!K96=2,0.5*COUNTRY_INFO!F96/(0.5*COUNTRY_INFO!F96+0.2*COUNTRY_INFO!G96),IF(COUNTRY_INFO!K96=3,COUNTRY_INFO!F96/(COUNTRY_INFO!F96+COUNTRY_INFO!G96)))),0)","v":1},{"$f":"IF(AND(Z96<>0,Z96<>\"Inconnu\",Z96<>\"Non requis\"),IF(COUNTRY_INFO!K96=1,0,IF(COUNTRY_INFO!K96=2,0.2*COUNTRY_INFO!G96/(0.5*COUNTRY_INFO!F96+0.2*COUNTRY_INFO!G96),IF(COUNTRY_INFO!K96=3,COUNTRY_INFO!G96/(COUNTRY_INFO!F96+COUNTRY_INFO!G96)))),0)","v":0},{"$f":"MAX(COUNTRY_INFO!D96*AK96*PROFILE!$G$7,COUNTRY_INFO!D96*AL96*PROFILE!$G$7)","v":0},{"$f":"MAX(COUNTRY_INFO!D96*AK96*PROFILE!$G$8,COUNTRY_INFO!D96*AL96*PROFILE!$G$8,COUNTRY_INFO!D96*AM96*PROFILE!$G$8)","v":0},{"$f":"MAX(COUNTRY_INFO!D96*AK96*PROFILE!$G$9,COUNTRY_INFO!D96*AL96*PROFILE!$G$9,COUNTRY_INFO!D96*AM96*PROFILE!$G$9,IF(AND(DISTRICT!Z96<>\"Inconnu\",Z96<>\"Non requis\"),COUNTRY_INFO!O96*DISTRICT!AN96,0))","v":1733.8200000000002},{"$f":"MAX(COUNTRY_INFO!D96*AK96*PROFILE!$G$10,COUNTRY_INFO!D96*AL96*PROFILE!$G$10,IF(AND(DISTRICT!Z96<>\"Inconnu\",Z96<>\"Non requis\"),COUNTRY_INFO!O96*DISTRICT!AO96,0))","v":0},1733.8200000000002,0,{"$f":"MAX('MDA2'!J96,'T1'!L96,'T2'!J96,T3_R1!K96,T3_R2!K96)","v":0},{"$f":"MAX('MDA1'!K96,'MDA2'!K96,'MDA3'!I96,'MDA3'!L96,'T1'!M96,'T2'!K96,T3_R1!L96,T3_R2!L96)","v":5308},{"$f":"MAX('MDA1'!L96,'MDA2'!L96,'MDA3'!J96,'MDA3'!M96,'T1'!N96,'T2'!L96,T3_R1!M96,T3_R2!M96)","v":0},5308,{"$f":"MAX('MDA2'!J96,T96)","v":0},{"$f":"MAX('MDA1'!K96,'MDA2'!K96,'MDA3'!I96,'MDA3'!L96,V96,AD96)","v":0},{"$f":"MAX('MDA1'!L96,'MDA2'!L96,'MDA3'!J96,'MDA3'!M96,AF96)","v":0},0,0]
[{"$f":"IF(COUNTRY_INFO!A97=0,\" \",COUNTRY_INFO!A97)","v":"Guinea Bissau"},{"$f":"IF(COUNTRY_INFO!B97=0,\" \",COUNTRY_INFO!B97)","v":"Tombali"},{"$f":"IF(COUNTRY_INFO!C97=0,\" \",COUNTRY_INFO!C97)","v":"KOMO"},{"$f":"COUNTRY_INFO!L97","v":0},null,null,{"$f":"MAX('MDA1'!M97,'MDA2'!M97)","v":0},{"$f":"IF(AND(COUNTRY_INFO!H97>0,COUNTRY_INFO!H97<4),IF(D97>MAX('MDA1'!M97,'MDA2'!M97),MAX('MDA1'!M97,'MDA2'!M97),D97),0)","v":0},{"$f":"IF(AND(COUNTRY_INFO!H97>0,COUNTRY_INFO!H97<4), IF(G97/D97*100<>0, IF(G97/D97*100>100,100,G97/D97*100), \"-\"),0)","v":0},{"$f":"COUNTRY_INFO!M97","v":"Inconnu"},null,null,{"$f":"MAX('MDA1'!M97,MAX('MDA3'!I97,'MDA3'!L97)+MAX('MDA3'!J97,'MDA3'!M97))","v":0},{"$f":"IF(AND(COUNTRY_INFO!I97>0,COUNTRY_INFO!I97<4),IF(J97>MAX('MDA1'!M97,MAX('MDA3'!I97,'MDA3'!L97)+MAX('MDA3'!J97,'MDA3'!M97)),MAX('MDA1'!M97,MAX('MDA3'!I97,'MDA3'!L97)+MAX('MDA3'!J97,'MDA3'!M97)),J97),0)","v":0},{"$f":"IF(AND(COUNTRY_INFO!I97>0,COUNTRY_INFO!I97<4), IF(M97/J97*100<>0, IF(M97/J97*100>100,100,M97/J97*100), \"-\"),0)","v":0},{"$f":"COUNTRY_INFO!N97","v":4534},null,null,{"$f":"SUM(MAX('MDA2'!J97, 'T1'!L97, MAX(T3_R1!K97, T3_R2!K97)), MAX('MDA1'!K97, 'MDA2'!K97, 'T1'!M97, MAX(T3_R1!L97, T3_R2!L97)), MAX('MDA1'!L97, 'MDA2'!L97, 'T1'!N97, MAX(T3_R1!M97, T3_R2!M97)))","v":2020},{"$f":"IF(AND(COUNTRY_INFO!J97>1,COUNTRY_INFO!J97<4),IF(COUNTRY_INFO!E97>MAX('MDA2'!J97,'T1'!L97,MAX(T3_R1!K97,T3_R2!K97)),MAX('MDA2'!J97,'T1'!L97,MAX(T3_R1!K97,T3_R2!K97)),COUNTRY_INFO!E97),0)","v":0},{"$f":"IF(AND(COUNTRY_INFO!J97>1,COUNTRY_INFO!J97<4), IF(T97/COUNTRY_INFO!E97*100<>0, IF(T97/COUNTRY_INFO!E97*100>100,100,T97/COUNTRY_INFO!E97*100), \"-\"),0)","v":"-"},{"$f":"IF(AND(COUNTRY_INFO!J97>1,COUNTRY_INFO!J97<4),IF(COUNTRY_INFO!F97>MAX('MDA1'!K97,'MDA2'!K97,'T1'!M97,MAX(T3_R1!L97,T3_R2!L97)),MAX('MDA1'!K97,'MDA2'!K97,'T1'!M97,MAX(T3_R1!L97,T3_R2!L97)),COUNTRY_INFO!F97),0)","v":2020},{"$f":"IF(AND(COUNTRY_INFO!J97>1,COUNTRY_INFO!J97<4), IF(V97/COUNTRY_INFO!F97*100<>0, IF(V97/COUNTRY_INFO!F97*100>100,100,V97/COUNTRY_INFO!F97*100), \"-\"),0)","v":67.671691792294808},2020,{"$f":"IF(AND(COUNTRY_INFO!J97>1,COUNTRY_INFO!J97<4), IF(S97/P97*100<>0, IF(X97/P97*100>100,100,X97/P97*100), \"-\"),0)","v":44.552271724746362},{"$f":"COUNTRY_INFO!O97","v":985.05000000000007},null,null,{"$f":"MAX('T1'!L97,'T2'!J97)+MAX('T1'!M97,'T2'!K97)+MAX('T1'!N97,'T2'!L97)","v":0},{"$f":"IF(COUNTRY_INFO!K97=1,IF(COUNTRY_INFO!F97*0.33>MAX('T1'!M97,'T2'!K97),MAX('T1'!M97,'T2'!K97),COUNTRY_INFO!F97*0.33),IF(COUNTRY_INFO!K97=2,IF(COUNTRY_INFO!F97*0.5>MAX('T1'!M97,'T2'!K97),MAX('T1'!M97,'T2'!K97),COUNTRY_INFO!F97*0.5),IF(COUNTRY_INFO!K97=3,IF(COUNTRY_INFO!F97>MAX('T1'!M97,'T2'!K97),MAX('T1'!M97,'T2'!K97),COUNTRY_INFO!F97),0)))","v":0},{"$f":"IF(AND(COUNTRY_INFO!K97>0,COUNTRY_INFO!K97<4),IF(Z97>0,IF(COUNTRY_INFO!K97=1, AD97/(COUNTRY_INFO!F97*0.33)*100, IF(COUNTRY_INFO!K97=2, AD97/(COUNTRY_INFO!F97*0.5)*100, IF(COUNTRY_INFO!K97=3, AD97/COUNTRY_INFO!F97*100))),\"-\"),0)","v":0},{"$f":"IF(COUNTRY_INFO!K97=2,IF(COUNTRY_INFO!G97*0.2>MAX('T1'!N97,'T2'!L97),MAX('T1'!N97,'T2'!L97),COUNTRY_INFO!G97*0.2),IF(COUNTRY_INFO!K97=3,IF(COUNTRY_INFO!G97>MAX('T1'!N97,'T2'!L97),MAX('T1'!N97,'T2'!L97),COUNTRY_INFO!G97),0))","v":0},{"$f":"IF(AND(COUNTRY_INFO!K97>0,COUNTRY_INFO!K97<4),IF(Z97>0,IF(COUNTRY_INFO!K97=1, 0, IF(COUNTRY_INFO!K97=2, AF97/(COUNTRY_INFO!G97*0.2)*100, IF(COUNTRY_INFO!K97=3, AF97/COUNTRY_INFO!G97*100))),\"-\"),0)","v":0},0,{"$f":"IF(AND(COUNTRY_INFO!K97>0,COUNTRY_INFO!K97<4), IF(AC97/Z97*100<>0, IF(AH97/Z97*100>100,100,AH97/Z97*100), \"-\"),0)","v":"-"},null,{"$f":"IF(AND(D97<>0, D97<>\"Inconnu\",D97<>\"Interrompu\",D97<>\"Non requis\"),D97/COUNTRY_INFO!D97, 0)","v":0},{"$f":"IF(AND(J97<>0,J97<>\"Inconnu\",J97<>\"Interrompu\",J97<>\"Non requis\"),J97/COUNTRY_INFO!D97, 0)","v":0},{"$f":"IF(AND(P97<>0,P97<>\"Inconnu\",P97<>\"Non requis\"),P97/(COUNTRY_INFO!E97+COUNTRY_INFO!F97), 0)","v":1},{"$f":"IF(AND(Z97<>0,Z97<>\"Inconnu\",Z97<>\"Non requis\"),IF(COUNTRY_INFO!K97=1,1,IF(COUNTRY_INFO!K97=2,0.5*COUNTRY_INFO!F97/(0.5*COUNTRY_INFO!F97+0.2*COUNTRY_INFO!G97),IF(COUNTRY_INFO!K97=3,COUNTRY_INFO!F97/(COUNTRY_INFO!F97+COUNTRY_INFO!G97)))),0)","v":1},{"$f":"IF(AND(Z97<>0,Z97<>\"Inconnu\",Z97<>\"Non requis\"),IF(COUNTRY_INFO!K97=1,0,IF(COUNTRY_INFO!K97=2,0.2*COUNTRY_INFO!G97/(0.5*COUNTRY_INFO!F97+0.2*COUNTRY_INFO!G97),IF(COUNTRY_INFO!K97=3,COUNTRY_INFO!G97/(COUNTRY_INFO!F97+COUNTRY_INFO!G97)))),0)","v":0},{"$f":"MAX(COUNTRY_INFO!D97*AK97*PROFILE!$G$7,COUNTRY_INFO!D97*AL97*PROFILE!$G$7)","v":0},{"$f":"MAX(COUNTRY_INFO!D97*AK97*PROFILE!$G$8,COUNTRY_INFO!D97*AL97*PROFILE!$G$8,COUNTRY_INFO!D97*AM97*PROFILE!$G$8)","v":1549.4557611681714},{"$f":"MAX(COUNTRY_INFO!D97*AK97*PROFILE!$G$9,COUNTRY_INFO!D97*AL97*PROFILE!$G$9,COUNTRY_INFO!D97*AM97*PROFILE!$G$9,IF(AND(DISTRICT!Z97<>\"Inconnu\",Z97<>\"Non requis\"),COUNTRY_INFO!O97*DISTRICT!AN97,0))","v":2984.7412756704916},{"$f":"MAX(COUNTRY_INFO!D97*AK97*PROFILE!$G$10,COUNTRY_INFO!D97*AL97*PROFILE!$G$10,IF(AND(DISTRICT!Z97<>\"Inconnu\",Z97<>\"Non requis\"),COUNTRY_INFO!O97*DISTRICT!AO97,0))","v":0},4534.1970368386628,0,{"$f":"MAX('MDA2'!J97,'T1'!L97,'T2'!J97,T3_R1!K97,T3_R2!K97)","v":0},{"$f":"MAX('MDA1'!K97,'MDA2'!K97,'MDA3'!I97,'MDA3'!L97,'T1'!M97,'T2'!K97,T3_R1!L97,T3_R2!L97)","v":2020},{"$f":"MAX('MDA1'!L97,'MDA2'!L97,'MDA3'!J97,'MDA3'!M97,'T1'!N97,'T2'!L97,T3_R1!M97,T3_R2!M97)","v":0},2020,{"$f":"MAX('MDA2'!J97,T97)","v":0},{"$f":"MAX('MDA1'!K97,'MDA2'!K97,'MDA3'!I97,'MDA3'!L97,V97,AD97)","v":2020},{"$f":"MAX('MDA1'!L97,'MDA2'!L97,'MDA3'!J97,'MDA3'!M97,AF97)","v":0},2020,44.550335673290157]
[{"$f":"IF(COUNTRY_INFO!A98=0,\" \",COUNTRY_INFO!A98)","v":"Guinea Bissau"},{"$f":"IF(COUNTRY_INFO!B98=0,\" \",COUNTRY_INFO!B98)","v":"Tombali"},{"$f":"IF(COUNTRY_INFO!C98=0,\" \",COUNTRY_INFO!C98)","v":"QUEBO"},{"$f":"COUNTRY_INFO!L98","v":0},null,null,{"$f":"MAX('MDA1'!M98,'MDA2'!M98)","v":0},{"$f":"IF(AND(COUNTRY_INFO!H98>0,COUNTRY_INFO!H98<4),IF(D98>MAX('MDA1'!M98,'MDA2'!M98),MAX('MDA1'!M98,'MDA2'!M98),D98),0)","v":0},{"$f":"IF(AND(COUNTRY_INFO!H98>0,COUNTRY_INFO!H98<4), IF(G98/D98*100<>0, IF(G98/D98*100>100,100,G98/D98*100), \"-\"),0)","v":0},{"$f":"COUNTRY_INFO!M98","v":"Inconnu"},null,null,{"$f":"MAX('MDA1'!M98,MAX('MDA3'!I98,'MDA3'!L98)+MAX('MDA3'!J98,'MDA3'!M98))","v":0},{"$f":"IF(AND(COUNTRY_INFO!I98>0,COUNTRY_INFO!I98<4),IF(J98>MAX('MDA1'!M98,MAX('MDA3'!I98,'MDA3'!L98)+MAX('MDA3'!J98,'MDA3'!M98)),MAX('MDA1'!M98,MAX('MDA3'!I98,'MDA3'!L98)+MAX('MDA3'!J98,'MDA3'!M98)),J98),0)","v":0},{"$f":"IF(AND(COUNTRY_INFO!I98>0,COUNTRY_INFO!I98<4), IF(M98/J98*100<>0, IF(M98/J98*100>100,100,M98/J98*100), \"-\"),0)","v":0},{"$f":"COUNTRY_INFO!N98","v":8503},null,null,{"$f":"SUM(MAX('MDA2'!J98, 'T1'!L98, MAX(T3_R1!K98, T3_R2!K98)), MAX('MDA1'!K98, 'MDA2'!K98, 'T1'!M98, MAX(T3_R1!L98, T3_R2!L98)), MAX('MDA1'!L98, 'MDA2'!L98, 'T1'!N98, MAX(T3_R1!M98, T3_R2!M98)))","v":5586},{"$f":"IF(AND(COUNTRY_INFO!J98>1,COUNTRY_INFO!J98<4),IF(COUNTRY_INFO!E98>MAX('MDA2'!J98,'T1'!L98,MAX(T3_R1!K98,T3_R2!K98)),MAX('MDA2'!J98,'T1'!L98,MAX(T3_R1!K98,T3_R2!K98)),COUNTRY_INFO!E98),0)","v":0},{"$f":"IF(AND(COUNTRY_INFO!J98>1,COUNTRY_INFO!J98<4), IF(T98/COUNTRY_INFO!E98*100<>0, IF(T98/COUNTRY_INFO!E98*100>100,100,T98/COUNTRY_INFO!E98*100), \"-\"),0)","v":"-"},{"$f":"IF(AND(COUNTRY_INFO!J98>1,COUNTRY_INFO!J98<4),IF(COUNTRY_INFO!F98>MAX('MDA1'!K98,'MDA2'!K98,'T1'!M98,MAX(T3_R1!L98,T3_R2!L98)),MAX('MDA1'!K98,'MDA2'!K98,'T1'!M98,MAX(T3_R1!L98,T3_R2!L98)),COUNTRY_INFO!F98),0)","v":5586},{"$f":"IF(AND(COUNTRY_INFO!J98>1,COUNTRY_INFO!J98<4), IF(V98/COUNTRY_INFO!F98*100<>0, IF(V98/COUNTRY_INFO!F98*100>100,100,V98/COUNTRY_INFO!F98*100), \"-\"),0)","v":99.803466142576383},5586,{"$f":"IF(AND(COUNTRY_INFO!J98>1,COUNTRY_INFO!J98<4), IF(S98/P98*100<>0, IF(X98/P98*100>100,100,X98/P98*100), \"-\"),0)","v":65.694460778548745},{"$f":"COUNTRY_INFO!O98","v":0},null,null,{"$f":"MAX('T1'!L98,'T2'!J98)+MAX('T1'!M98,'T2'!K98)+MAX('T1'!N98,'T2'!L98)","v":0},{"$f":"IF(COUNTRY_INFO!K98=1,IF(COUNTRY_INFO!F98*0.33>MAX('T1'!M98,'T2'!K98),MAX('T1'!M98,'T2'!K98),COUNTRY_INFO!F98*0.33),IF(COUNTRY_INFO!K98=2,IF(COUNTRY_INFO!F98*0.5>MAX('T1'!M98,'T2'!K98),MAX('T1'!M98,'T2'!K98),COUNTRY_INFO!F98*0.5),IF(COUNTRY_INFO!K98=3,IF(COUNTRY_INFO!F98>MAX('T1'!M98,'T2'!K98),MAX('T1'!M98,'T2'!K98),COUNTRY_INFO!F98),0)))","v":0},{"$f":"IF(AND(COUNTRY_INFO!K98>0,COUNTRY_INFO!K98<4),IF(Z98>0,IF(COUNTRY_INFO!K98=1, AD98/(COUNTRY_INFO!F98*0.33)*100, IF(COUNTRY_INFO!K98=2, AD98/(COUNTRY_INFO!F98*0.5)*100, IF(COUNTRY_INFO!K98=3, AD98/COUNTRY_INFO!F98*100))),\"-\"),0)","v":0},{"$f":"IF(COUNTRY_INFO!K98=2,IF(COUNTRY_INFO!G98*0.2>MAX('T1'!N98,'T2'!L98),MAX('T1'!N98,'T2'!L98),COUNTRY_INFO!G98*0.2),IF(COUNTRY_INFO!K98=3,IF(COUNTRY_INFO!G98>MAX('T1'!N98,'T2'!L98),MAX('T1'!N98,'T2'!L98),COUNTRY_INFO!G98),0))","v":0},{"$f":"IF(AND(COUNTRY_INFO!K98>0,COUNTRY_INFO!K98<4),IF(Z98>0,IF(COUNTRY_INFO!K98=1, 0, IF(COUNTRY_INFO!K98=2, AF98/(COUNTRY_INFO!G98*0.2)*100, IF(COUNTRY_INFO!K98=3, AF98/COUNTRY_INFO!G98*100))),\"-\"),0)","v":0},0,{"$f":"IF(AND(COUNTRY_INFO!K98>0,COUNTRY_INFO!K98<4), IF(AC98/Z98*100<>0, IF(AH98/Z98*100>100,100,AH98/Z98*100), \"-\"),0)","v":0},null,{"$f":"IF(AND(D98<>0, D98<>\"Inconnu\",D98<>\"Interrompu\",D98<>\"Non requis\"),D98/COUNTRY_INFO!D98, 0)","v":0},{"$f":"IF(AND(J98<>0,J98<>\"Inconnu\",J98<>\"Interrompu\",J98<>\"Non requis\"),J98/COUNTRY_INFO!D98, 0)","v":0},{"$f":"IF(AND(P98<>0,P98<>\"Inconnu\",P98<>\"Non requis\"),P98/(COUNTRY_INFO!E98+COUNTRY_INFO!F98), 0)","v":1},{"$f":"IF(AND(Z98<>0,Z98<>\"Inconnu\",Z98<>\"Non requis\"),IF(COUNTRY_INFO!K98=1,1,IF(COUNTRY_INFO!K98=2,0.5*COUNTRY_INFO!F98/(0.5*COUNTRY_INFO!F98+0.2*COUNTRY_INFO!G98),IF(COUNTRY_INFO!K98=3,COUNTRY_INFO!F98/(COUNTRY_INFO!F98+COUNTRY_INFO!G98)))),0)","v":0},{"$f":"IF(AND(Z98<>0,Z98<>\"Inconnu\",Z98<>\"Non requis\"),IF(COUNTRY_INFO!K98=1,0,IF(COUNTRY_INFO!K98=2,0.2*COUNTRY_INFO!G98/(0.5*COUNTRY_INFO!F98+0.2*COUNTRY_INFO!G98),IF(COUNTRY_INFO!K98=3,COUNTRY_INFO!G98/(COUNTRY_INFO!F98+COUNTRY_INFO!G98)))),0)","v":0},{"$f":"MAX(COUNTRY_INFO!D98*AK98*PROFILE!$G$7,COUNTRY_INFO!D98*AL98*PROFILE!$G$7)","v":0},{"$f":"MAX(COUNTRY_INFO!D98*AK98*PROFILE!$G$8,COUNTRY_INFO!D98*AL98*PROFILE!$G$8,COUNTRY_INFO!D98*AM98*PROFILE!$G$8)","v":2905.5288033029938},{"$f":"MAX(COUNTRY_INFO!D98*AK98*PROFILE!$G$9,COUNTRY_INFO!D98*AL98*PROFILE!$G$9,COUNTRY_INFO!D98*AM98*PROFILE!$G$9,IF(AND(DISTRICT!Z98<>\"Inconnu\",Z98<>\"Non requis\"),COUNTRY_INFO!O98*DISTRICT!AN98,0))","v":5596.9663440598761},{"$f":"MAX(COUNTRY_INFO!D98*AK98*PROFILE!$G$10,COUNTRY_INFO!D98*AL98*PROFILE!$G$10,IF(AND(DISTRICT!Z98<>\"Inconnu\",Z98<>\"Non requis\"),COUNTRY_INFO!O98*DISTRICT!AO98,0))","v":0},8502.4951473628698,"Y",{"$f":"MAX('MDA2'!J98,'T1'!L98,'T2'!J98,T3_R1!K98,T3_R2!K98)","v":0},{"$f":"MAX('MDA1'!K98,'MDA2'!K98,'MDA3'!I98,'MDA3'!L98,'T1'!M98,'T2'!K98,T3_R1!L98,T3_R2!L98)","v":5586},{"$f":"MAX('MDA1'!L98,'MDA2'!L98,'MDA3'!J98,'MDA3'!M98,'T1'!N98,'T2'!L98,T3_R1!M98,T3_R2!M98)","v":0},5586,{"$f":"MAX('MDA2'!J98,T98)","v":0},{"$f":"MAX('MDA1'!K98,'MDA2'!K98,'MDA3'!I98,'MDA3'!L98,V98,AD98)","v":5586},{"$f":"MAX('MDA1'!L98,'MDA2'!L98,'MDA3'!J98,'MDA3'!M98,AF98)","v":0},5586,65.698361518413222]
[{"$f":"IF(COUNTRY_INFO!A99=0,\" \",COUNTRY_INFO!A99)","v":"Guinea Bissau"},{"$f":"IF(COUNTRY_INFO!B99=0,\" \",COUNTRY_INFO!B99)","v":"Tombali"},{"$f":"IF(COUNTRY_INFO!C99=0,\" \",COUNTRY_INFO!C99)","v":"SANCONHA"},{"$f":"COUNTRY_INFO!L99","v":0},null,null,{"$f":"MAX('MDA1'!M99,'MDA2'!M99)","v":0},{"$f":"IF(AND(COUNTRY_INFO!H99>0,COUNTRY_INFO!H99<4),IF(D99>MAX('MDA1'!M99,'MDA2'!M99),MAX('MDA1'!M99,'MDA2'!M99),D99),0)","v":0},{"$f":"IF(AND(COUNTRY_INFO!H99>0,COUNTRY_INFO!H99<4), IF(G99/D99*100<>0, IF(G99/D99*100>100,100,G99/D99*100), \"-\"),0)","v":0},{"$f":"COUNTRY_INFO!M99","v":"Inconnu"},null,null,{"$f":"MAX('MDA1'!M99,MAX('MDA3'!I99,'MDA3'!L99)+MAX('MDA3'!J99,'MDA3'!M99))","v":0},{"$f":"IF(AND(COUNTRY_INFO!I99>0,COUNTRY_INFO!I99<4),IF(J99>MAX('MDA1'!M99,MAX('MDA3'!I99,'MDA3'!L99)+MAX('MDA3'!J99,'MDA3'!M99)),MAX('MDA1'!M99,MAX('MDA3'!I99,'MDA3'!L99)+MAX('MDA3'!J99,'MDA3'!M99)),J99),0)","v":0},{"$f":"IF(AND(COUNTRY_INFO!I99>0,COUNTRY_INFO!I99<4), IF(M99/J99*100<>0, IF(M99/J99*100>100,100,M99/J99*100), \"-\"),0)","v":0},{"$f":"COUNTRY_INFO!N99","v":3090},null,null,{"$f":"SUM(MAX('MDA2'!J99, 'T1'!L99, MAX(T3_R1!K99, T3_R2!K99)), MAX('MDA1'!K99, 'MDA2'!K99, 'T1'!M99, MAX(T3_R1!L99, T3_R2!L99)), MAX('MDA1'!L99, 'MDA2'!L99, 'T1'!N99, MAX(T3_R1!M99, T3_R2!M99)))","v":1440},{"$f":"IF(AND(COUNTRY_INFO!J99>1,COUNTRY_INFO!J99<4),IF(COUNTRY_INFO!E99>MAX('MDA2'!J99,'T1'!L99,MAX(T3_R1!K99,T3_R2!K99)),MAX('MDA2'!J99,'T1'!L99,MAX(T3_R1!K99,T3_R2!K99)),COUNTRY_INFO!E99),0)","v":0},{"$f":"IF(AND(COUNTRY_INFO!J99>1,COUNTRY_INFO!J99<4), IF(T99/COUNTRY_INFO!E99*100<>0, IF(T99/COUNTRY_INFO!E99*100>100,100,T99/COUNTRY_INFO!E99*100), \"-\"),0)","v":"-"},{"$f":"IF(AND(COUNTRY_INFO!J99>1,COUNTRY_INFO!J99<4),IF(COUNTRY_INFO!F99>MAX('MDA1'!K99,'MDA2'!K99,'T1'!M99,MAX(T3_R1!L99,T3_R2!L99)),MAX('MDA1'!K99,'MDA2'!K99,'T1'!M99,MAX(T3_R1!L99,T3_R2!L99)),COUNTRY_INFO!F99),0)","v":1440},{"$f":"IF(AND(COUNTRY_INFO!J99>1,COUNTRY_INFO!J99<4), IF(V99/COUNTRY_INFO!F99*100<>0, IF(V99/COUNTRY_INFO!F99*100>100,100,V99/COUNTRY_INFO!F99*100), \"-\"),0)","v":70.796460176991147},1440,{"$f":"IF(AND(COUNTRY_INFO!J99>1,COUNTRY_INFO!J99<4), IF(S99/P99*100<>0, IF(X99/P99*100>100,100,X99/P99*100), \"-\"),0)","v":46.601941747572816},{"$f":"COUNTRY_INFO!O99","v":0},null,null,{"$f":"MAX('T1'!L99,'T2'!J99)+MAX('T1'!M99,'T2'!K99)+MAX('T1'!N99,'T2'!L99)","v":0},{"$f":"IF(COUNTRY_INFO!K99=1,IF(COUNTRY_INFO!F99*0.33>MAX('T1'!M99,'T2'!K99),MAX('T1'!M99,'T2'!K99),COUNTRY_INFO!F99*0.33),IF(COUNTRY_INFO!K99=2,IF(COUNTRY_INFO!F99*0.5>MAX('T1'!M99,'T2'!K99),MAX('T1'!M99,'T2'!K99),COUNTRY_INFO!F99*0.5),IF(COUNTRY_INFO!K99=3,IF(COUNTRY_INFO!F99>MAX('T1'!M99,'T2'!K99),MAX('T1'!M99,'T2'!K99),COUNTRY_INFO!F99),0)))","v":0},{"$f":"IF(AND(COUNTRY_INFO!K99>0,COUNTRY_INFO!K99<4),IF(Z99>0,IF(COUNTRY_INFO!K99=1, AD99/(COUNTRY_INFO!F99*0.33)*100, IF(COUNTRY_INFO!K99=2, AD99/(COUNTRY_INFO!F99*0.5)*100, IF(COUNTRY_INFO!K99=3, AD99/COUNTRY_INFO!F99*100))),\"-\"),0)","v":0},{"$f":"IF(COUNTRY_INFO!K99=2,IF(COUNTRY_INFO!G99*0.2>MAX('T1'!N99,'T2'!L99),MAX('T1'!N99,'T2'!L99),COUNTRY_INFO!G99*0.2),IF(COUNTRY_INFO!K99=3,IF(COUNTRY_INFO!G99>MAX('T1'!N99,'T2'!L99),MAX('T1'!N99,'T2'!L99),COUNTRY_INFO!G99),0))","v":0},{"$f":"IF(AND(COUNTRY_INFO!K99>0,COUNTRY_INFO!K99<4),IF(Z99>0,IF(COUNTRY_INFO!K99=1, 0, IF(COUNTRY_INFO!K99=2, AF99/(COUNTRY_INFO!G99*0.2)*100, IF(COUNTRY_INFO!K99=3, AF99/COUNTRY_INFO!G99*100))),\"-\"),0)","v":0},0,{"$f":"IF(AND(COUNTRY_INFO!K99>0,COUNTRY_INFO!K99<4), IF(AC99/Z99*100<>0, IF(AH99/Z99*100>100,100,AH99/Z99*100), \"-\"),0)","v":0},null,{"$f":"IF(AND(D99<>0, D99<>\"Inconnu\",D99<>\"Interrompu\",D99<>\"Non requis\"),D99/COUNTRY_INFO!D99, 0)","v":0},{"$f":"IF(AND(J99<>0,J99<>\"Inconnu\",J99<>\"Interrompu\",J99<>\"Non requis\"),J99/COUNTRY_INFO!D99, 0)","v":0},{"$f":"IF(AND(P99<>0,P99<>\"Inconnu\",P99<>\"Non requis\"),P99/(COUNTRY_INFO!E99+COUNTRY_INFO!F99), 0)","v":1},{"$f":"IF(AND(Z99<>0,Z99<>\"Inconnu\",Z99<>\"Non requis\"),IF(COUNTRY_INFO!K99=1,1,IF(COUNTRY_INFO!K99=2,0.5*COUNTRY_INFO!F99/(0.5*COUNTRY_INFO!F99+0.2*COUNTRY_INFO!G99),IF(COUNTRY_INFO!K99=3,COUNTRY_INFO!F99/(COUNTRY_INFO!F99+COUNTRY_INFO!G99)))),0)","v":0},{"$f":"IF(AND(Z99<>0,Z99<>\"Inconnu\",Z99<>\"Non requis\"),IF(COUNTRY_INFO!K99=1,0,IF(COUNTRY_INFO!K99=2,0.2*COUNTRY_INFO!G99/(0.5*COUNTRY_INFO!F99+0.2*COUNTRY_INFO!G99),IF(COUNTRY_INFO!K99=3,COUNTRY_INFO!G99/(COUNTRY_INFO!F99+COUNTRY_INFO!G99)))),0)","v":0},{"$f":"MAX(COUNTRY_INFO!D99*AK99*PROFILE!$G$7,COUNTRY_INFO!D99*AL99*PROFILE!$G$7)","v":0},{"$f":"MAX(COUNTRY_INFO!D99*AK99*PROFILE!$G$8,COUNTRY_INFO!D99*AL99*PROFILE!$G$8,COUNTRY_INFO!D99*AM99*PROFILE!$G$8)","v":1056.1569269902532},{"$f":"MAX(COUNTRY_INFO!D99*AK99*PROFILE!$G$9,COUNTRY_INFO!D99*AL99*PROFILE!$G$9,COUNTRY_INFO!D99*AM99*PROFILE!$G$9,IF(AND(DISTRICT!Z99<>\"Inconnu\",Z99<>\"Non requis\"),COUNTRY_INFO!O99*DISTRICT!AN99,0))","v":2034.4918858454398},{"$f":"MAX(COUNTRY_INFO!D99*AK99*PROFILE!$G$10,COUNTRY_INFO!D99*AL99*PROFILE!$G$10,IF(AND(DISTRICT!Z99<>\"Inconnu\",Z99<>\"Non requis\"),COUNTRY_INFO!O99*DISTRICT!AO99,0))","v":0},3090.6488128356932,"Y",{"$f":"MAX('MDA2'!J99,'T1'!L99,'T2'!J99,T3_R1!K99,T3_R2!K99)","v":0},{"$f":"MAX('MDA1'!K99,'MDA2'!K99,'MDA3'!I99,'MDA3'!L99,'T1'!M99,'T2'!K99,T3_R1!L99,T3_R2!L99)","v":1440},{"$f":"MAX('MDA1'!L99,'MDA2'!L99,'MDA3'!J99,'MDA3'!M99,'T1'!N99,'T2'!L99,T3_R1!M99,T3_R2!M99)","v":0},1440,{"$f":"MAX('MDA2'!J99,T99)","v":0},{"$f":"MAX('MDA1'!K99,'MDA2'!K99,'MDA3'!I99,'MDA3'!L99,V99,AD99)","v":1440},{"$f":"MAX('MDA1'!L99,'MDA2'!L99,'MDA3'!J99,'MDA3'!M99,AF99)","v":0},1440,46.592158708539557]
[{"$f":"IF(COUNTRY_INFO!A100=0,\" \",COUNTRY_INFO!A100)","v":"Guinea Bissau"},{"$f":"IF(COUNTRY_INFO!B100=0,\" \",COUNTRY_INFO!B100)","v":"Tombali"},{"$f":"IF(COUNTRY_INFO!C100=0,\" \",COUNTRY_INFO!C100)","v":"TIMBO"},{"$f":"COUNTRY_INFO!L100","v":0},null,null,{"$f":"MAX('MDA1'!M100,'MDA2'!M100)","v":0},{"$f":"IF(AND(COUNTRY_INFO!H100>0,COUNTRY_INFO!H100<4),IF(D100>MAX('MDA1'!M100,'MDA2'!M100),MAX('MDA1'!M100,'MDA2'!M100),D100),0)","v":0},{"$f":"IF(AND(COUNTRY_INFO!H100>0,COUNTRY_INFO!H100<4), IF(G100/D100*100<>0, IF(G100/D100*100>100,100,G100/D100*100), \"-\"),0)","v":0},{"$f":"COUNTRY_INFO!M100","v":"Inconnu"},null,null,{"$f":"MAX('MDA1'!M100,MAX('MDA3'!I100,'MDA3'!L100)+MAX('MDA3'!J100,'MDA3'!M100))","v":0},{"$f":"IF(AND(COUNTRY_INFO!I100>0,COUNTRY_INFO!I100<4),IF(J100>MAX('MDA1'!M100,MAX('MDA3'!I100,'MDA3'!L100)+MAX('MDA3'!J100,'MDA3'!M100)),MAX('MDA1'!M100,MAX('MDA3'!I100,'MDA3'!L100)+MAX('MDA3'!J100,'MDA3'!M100)),J100),0)","v":0},{"$f":"IF(AND(COUNTRY_INFO!I100>0,COUNTRY_INFO!I100<4), IF(M100/J100*100<>0, IF(M100/J100*100>100,100,M100/J100*100), \"-\"),0)","v":0},{"$f":"COUNTRY_INFO!N100","v":5876},null,null,{"$f":"SUM(MAX('MDA2'!J100, 'T1'!L100, MAX(T3_R1!K100, T3_R2!K100)), MAX('MDA1'!K100, 'MDA2'!K100, 'T1'!M100, MAX(T3_R1!L100, T3_R2!L100)), MAX('MDA1'!L100, 'MDA2'!L100, 'T1'!N100, MAX(T3_R1!M100, T3_R2!M100)))","v":4191},{"$f":"IF(AND(COUNTRY_INFO!J100>1,COUNTRY_INFO!J100<4),IF(COUNTRY_INFO!E100>MAX('MDA2'!J100,'T1'!L100,MAX(T3_R1!K100,T3_R2!K100)),MAX('MDA2'!J100,'T1'!L100,MAX(T3_R1!K100,T3_R2!K100)),COUNTRY_INFO!E100),0)","v":0},{"$f":"IF(AND(COUNTRY_INFO!J100>1,COUNTRY_INFO!J100<4), IF(T100/COUNTRY_INFO!E100*100<>0, IF(T100/COUNTRY_INFO!E100*100>100,100,T100/COUNTRY_INFO!E100*100), \"-\"),0)","v":"-"},{"$f":"IF(AND(COUNTRY_INFO!J100>1,COUNTRY_INFO!J100<4),IF(COUNTRY_INFO!F100>MAX('MDA1'!K100,'MDA2'!K100,'T1'!M100,MAX(T3_R1!L100,T3_R2!L100)),MAX('MDA1'!K100,'MDA2'!K100,'T1'!M100,MAX(T3_R1!L100,T3_R2!L100)),COUNTRY_INFO!F100),0)","v":3868},{"$f":"IF(AND(COUNTRY_INFO!J100>1,COUNTRY_INFO!J100<4), IF(V100/COUNTRY_INFO!F100*100<>0, IF(V100/COUNTRY_INFO!F100*100>100,100,V100/COUNTRY_INFO!F100*100), \"-\"),0)","v":100},3868,{"$f":"IF(AND(COUNTRY_INFO!J100>1,COUNTRY_INFO!J100<4), IF(S100/P100*100<>0, IF(X100/P100*100>100,100,X100/P100*100), \"-\"),0)","v":65.827093260721583},{"$f":"COUNTRY_INFO!O100","v":1276.44},null,null,{"$f":"MAX('T1'!L100,'T2'!J100)+MAX('T1'!M100,'T2'!K100)+MAX('T1'!N100,'T2'!L100)","v":0},{"$f":"IF(COUNTRY_INFO!K100=1,IF(COUNTRY_INFO!F100*0.33>MAX('T1'!M100,'T2'!K100),MAX('T1'!M100,'T2'!K100),COUNTRY_INFO!F100*0.33),IF(COUNTRY_INFO!K100=2,IF(COUNTRY_INFO!F100*0.5>MAX('T1'!M100,'T2'!K100),MAX('T1'!M100,'T2'!K100),COUNTRY_INFO!F100*0.5),IF(COUNTRY_INFO!K100=3,IF(COUNTRY_INFO!F100>MAX('T1'!M100,'T2'!K100),MAX('T1'!M100,'T2'!K100),COUNTRY_INFO!F100),0)))","v":0},{"$f":"IF(AND(COUNTRY_INFO!K100>0,COUNTRY_INFO!K100<4),IF(Z100>0,IF(COUNTRY_INFO!K100=1, AD100/(COUNTRY_INFO!F100*0.33)*100, IF(COUNTRY_INFO!K100=2, AD100/(COUNTRY_INFO!F100*0.5)*100, IF(COUNTRY_INFO!K100=3, AD100/COUNTRY_INFO!F100*100))),\"-\"),0)","v":0},{"$f":"IF(COUNTRY_INFO!K100=2,IF(COUNTRY_INFO!G100*0.2>MAX('T1'!N100,'T2'!L100),MAX('T1'!N100,'T2'!L100),COUNTRY_INFO!G100*0.2),IF(COUNTRY_INFO!K100=3,IF(COUNTRY_INFO!G100>MAX('T1'!N100,'T2'!L100),MAX('T1'!N100,'T2'!L100),COUNTRY_INFO!G100),0))","v":0},{"$f":"IF(AND(COUNTRY_INFO!K100>0,COUNTRY_INFO!K100<4),IF(Z100>0,IF(COUNTRY_INFO!K100=1, 0, IF(COUNTRY_INFO!K100=2, AF100/(COUNTRY_INFO!G100*0.2)*100, IF(COUNTRY_INFO!K100=3, AF100/COUNTRY_INFO!G100*100))),\"-\"),0)","v":0},0,{"$f":"IF(AND(COUNTRY_INFO!K100>0,COUNTRY_INFO!K100<4), IF(AC100/Z100*100<>0, IF(AH100/Z100*100>100,100,AH100/Z100*100), \"-\"),0)","v":"-"},null,{"$f":"IF(AND(D100<>0, D100<>\"Inconnu\",D100<>\"Interrompu\",D100<>\"Non requis\"),D100/COUNTRY_INFO!D100, 0)","v":0},{"$f":"IF(AND(J100<>0,J100<>\"Inconnu\",J100<>\"Interrompu\",J100<>\"Non requis\"),J100/COUNTRY_INFO!D100, 0)","v":0},{"$f":"IF(AND(P100<>0,P100<>\"Inconnu\",P100<>\"Non requis\"),P100/(COUNTRY_INFO!E100+COUNTRY_INFO!F100), 0)","v":1},{"$f":"IF(AND(Z100<>0,Z100<>\"Inconnu\",Z100<>\"Non requis\"),IF(COUNTRY_INFO!K100=1,1,IF(COUNTRY_INFO!K100=2,0.5*COUNTRY_INFO!F100/(0.5*COUNTRY_INFO!F100+0.2*COUNTRY_INFO!G100),IF(COUNTRY_INFO!K100=3,COUNTRY_INFO!F100/(COUNTRY_INFO!F100+COUNTRY_INFO!G100)))),0)","v":1},{"$f":"IF(AND(Z100<>0,Z100<>\"Inconnu\",Z100<>\"Non requis\"),IF(COUNTRY_INFO!K100=1,0,IF(COUNTRY_INFO!K100=2,0.2*COUNTRY_INFO!G100/(0.5*COUNTRY_INFO!F100+0.2*COUNTRY_INFO!G100),IF(COUNTRY_INFO!K100=3,COUNTRY_INFO!G100/(COUNTRY_INFO!F100+COUNTRY_INFO!G100)))),0)","v":0},{"$f":"MAX(COUNTRY_INFO!D100*AK100*PROFILE!$G$7,COUNTRY_INFO!D100*AL100*PROFILE!$G$7)","v":0},{"$f":"MAX(COUNTRY_INFO!D100*AK100*PROFILE!$G$8,COUNTRY_INFO!D100*AL100*PROFILE!$G$8,COUNTRY_INFO!D100*AM100*PROFILE!$G$8)","v":2008.041466276142},{"$f":"MAX(COUNTRY_INFO!D100*AK100*PROFILE!$G$9,COUNTRY_INFO!D100*AL100*PROFILE!$G$9,COUNTRY_INFO!D100*AM100*PROFILE!$G$9,IF(AND(DISTRICT!Z100<>\"Inconnu\",Z100<>\"Non requis\"),COUNTRY_INFO!O100*DISTRICT!AN100,0))","v":3868.1222128818094},{"$f":"MAX(COUNTRY_INFO!D100*AK100*PROFILE!$G$10,COUNTRY_INFO!D100*AL100*PROFILE!$G$10,IF(AND(DISTRICT!Z100<>\"Inconnu\",Z100<>\"Non requis\"),COUNTRY_INFO!O100*DISTRICT!AO100,0))","v":0},5876.1636791579513,0,{"$f":"MAX('MDA2'!J100,'T1'!L100,'T2'!J100,T3_R1!K100,T3_R2!K100)","v":0},{"$f":"MAX('MDA1'!K100,'MDA2'!K100,'MDA3'!I100,'MDA3'!L100,'T1'!M100,'T2'!K100,T3_R1!L100,T3_R2!L100)","v":4191},{"$f":"MAX('MDA1'!L100,'MDA2'!L100,'MDA3'!J100,'MDA3'!M100,'T1'!N100,'T2'!L100,T3_R1!M100,T3_R2!M100)","v":0},4191,{"$f":"MAX('MDA2'!J100,T100)","v":0},{"$f":"MAX('MDA1'!K100,'MDA2'!K100,'MDA3'!I100,'MDA3'!L100,V100,AD100)","v":3868},{"$f":"MAX('MDA1'!L100,'MDA2'!L100,'MDA3'!J100,'MDA3'!M100,AF100)","v":0},3868,65.82525966251302]
[{"$f":"IF(COUNTRY_INFO!A101=0,\" \",COUNTRY_INFO!A101)","v":"Guinea Bissau"},{"$f":"IF(COUNTRY_INFO!B101=0,\" \",COUNTRY_INFO!B101)","v":"Quinara"},{"$f":"IF(COUNTRY_INFO!C101=0,\" \",COUNTRY_INFO!C101)","v":"BRANDÃO"},{"$f":"COUNTRY_INFO!L101","v":10252},2927,2750,{"$f":"MAX('MDA1'!M101,'MDA2'!M101)","v":5677},{"$f":"IF(AND(COUNTRY_INFO!H101>0,COUNTRY_INFO!H101<4),IF(D101>MAX('MDA1'!M101,'MDA2'!M101),MAX('MDA1'!M101,'MDA2'!M101),D101),0)","v":5677},{"$f":"IF(AND(COUNTRY_INFO!H101>0,COUNTRY_INFO!H101<4), IF(G101/D101*100<>0, IF(G101/D101*100>100,100,G101/D101*100), \"-\"),0)","v":55.374561061256344},{"$f":"COUNTRY_INFO!M101","v":"Inconnu"},null,null,{"$f":"MAX('MDA1'!M101,MAX('MDA3'!I101,'MDA3'!L101)+MAX('MDA3'!J101,'MDA3'!M101))","v":5677},{"$f":"IF(AND(COUNTRY_INFO!I101>0,COUNTRY_INFO!I101<4),IF(J101>MAX('MDA1'!M101,MAX('MDA3'!I101,'MDA3'!L101)+MAX('MDA3'!J101,'MDA3'!M101)),MAX('MDA1'!M101,MAX('MDA3'!I101,'MDA3'!L101)+MAX('MDA3'!J101,'MDA3'!M101)),J101),0)","v":0},{"$f":"IF(AND(COUNTRY_INFO!I101>0,COUNTRY_INFO!I101<4), IF(M101/J101*100<>0, IF(M101/J101*100>100,100,M101/J101*100), \"-\"),0)","v":0},{"$f":"COUNTRY_INFO!N101","v":3991},null,null,{"$f":"SUM(MAX('MDA2'!J101, 'T1'!L101, MAX(T3_R1!K101, T3_R2!K101)), MAX('MDA1'!K101, 'MDA2'!K101, 'T1'!M101, MAX(T3_R1!L101, T3_R2!L101)), MAX('MDA1'!L101, 'MDA2'!L101, 'T1'!N101, MAX(T3_R1!M101, T3_R2!M101)))","v":5677},{"$f":"IF(AND(COUNTRY_INFO!J101>1,COUNTRY_INFO!J101<4),IF(COUNTRY_INFO!E101>MAX('MDA2'!J101,'T1'!L101,MAX(T3_R1!K101,T3_R2!K101)),MAX('MDA2'!J101,'T1'!L101,MAX(T3_R1!K101,T3_R2!K101)),COUNTRY_INFO!E101),0)","v":0},{"$f":"IF(AND(COUNTRY_INFO!J101>1,COUNTRY_INFO!J101<4), IF(T101/COUNTRY_INFO!E101*100<>0, IF(T101/COUNTRY_INFO!E101*100>100,100,T101/COUNTRY_INFO!E101*100), \"-\"),0)","v":"-"},{"$f":"IF(AND(COUNTRY_INFO!J101>1,COUNTRY_INFO!J101<4),IF(COUNTRY_INFO!F101>MAX('MDA1'!K101,'MDA2'!K101,'T1'!M101,MAX(T3_R1!L101,T3_R2!L101)),MAX('MDA1'!K101,'MDA2'!K101,'T1'!M101,MAX(T3_R1!L101,T3_R2!L101)),COUNTRY_INFO!F101),0)","v":2627},{"$f":"IF(AND(COUNTRY_INFO!J101>1,COUNTRY_INFO!J101<4), IF(V101/COUNTRY_INFO!F101*100<>0, IF(V101/COUNTRY_INFO!F101*100>100,100,V101/COUNTRY_INFO!F101*100), \"-\"),0)","v":100},2627,{"$f":"IF(AND(COUNTRY_INFO!J101>1,COUNTRY_INFO!J101<4), IF(S101/P101*100<>0, IF(X101/P101*100>100,100,X101/P101*100), \"-\"),0)","v":65.823101979453767},{"$f":"COUNTRY_INFO!O101","v":0},null,null,{"$f":"MAX('T1'!L101,'T2'!J101)+MAX('T1'!M101,'T2'!K101)+MAX('T1'!N101,'T2'!L101)","v":0},{"$f":"IF(COUNTRY_INFO!K101=1,IF(COUNTRY_INFO!F101*0.33>MAX('T1'!M101,'T2'!K101),MAX('T1'!M101,'T2'!K101),COUNTRY_INFO!F101*0.33),IF(COUNTRY_INFO!K101=2,IF(COUNTRY_INFO!F101*0.5>MAX('T1'!M101,'T2'!K101),MAX('T1'!M101,'T2'!K101),COUNTRY_INFO!F101*0.5),IF(COUNTRY_INFO!K101=3,IF(COUNTRY_INFO!F101>MAX('T1'!M101,'T2'!K101),MAX('T1'!M101,'T2'!K101),COUNTRY_INFO!F101),0)))","v":0},{"$f":"IF(AND(COUNTRY_INFO!K101>0,COUNTRY_INFO!K101<4),IF(Z101>0,IF(COUNTRY_INFO!K101=1, AD101/(COUNTRY_INFO!F101*0.33)*100, IF(COUNTRY_INFO!K101=2, AD101/(COUNTRY_INFO!F101*0.5)*100, IF(COUNTRY_INFO!K101=3, AD101/COUNTRY_INFO!F101*100))),\"-\"),0)","v":0},{"$f":"IF(COUNTRY_INFO!K101=2,IF(COUNTRY_INFO!G101*0.2>MAX('T1'!N101,'T2'!L101),MAX('T1'!N101,'T2'!L101),COUNTRY_INFO!G101*0.2),IF(COUNTRY_INFO!K101=3,IF(COUNTRY_INFO!G101>MAX('T1'!N101,'T2'!L101),MAX('T1'!N101,'T2'!L101),COUNTRY_INFO!G101),0))","v":0},{"$f":"IF(AND(COUNTRY_INFO!K101>0,COUNTRY_INFO!K101<4),IF(Z101>0,IF(COUNTRY_INFO!K101=1, 0, IF(COUNTRY_INFO!K101=2, AF101/(COUNTRY_INFO!G101*0.2)*100, IF(COUNTRY_INFO!K101=3, AF101/COUNTRY_INFO!G101*100))),\"-\"),0)","v":0},0,{"$f":"IF(AND(COUNTRY_INFO!K101>0,COUNTRY_INFO!K101<4), IF(AC101/Z101*100<>0, IF(AH101/Z101*100>100,100,AH101/Z101*100), \"-\"),0)","v":0},null,{"$f":"IF(AND(D101<>0, D101<>\"Inconnu\",D101<>\"Interrompu\",D101<>\"Non requis\"),D101/COUNTRY_INFO!D101, 0)","v":1},{"$f":"IF(AND(J101<>0,J101<>\"Inconnu\",J101<>\"Interrompu\",J101<>\"Non requis\"),J101/COUNTRY_INFO!D101, 0)","v":0},{"$f":"IF(AND(P101<>0,P101<>\"Inconnu\",P101<>\"Non requis\"),P101/(COUNTRY_INFO!E101+COUNTRY_INFO!F101), 0)","v":1},{"$f":"IF(AND(Z101<>0,Z101<>\"Inconnu\",Z101<>\"Non requis\"),IF(COUNTRY_INFO!K101=1,1,IF(COUNTRY_INFO!K101=2,0.5*COUNTRY_INFO!F101/(0.5*COUNTRY_INFO!F101+0.2*COUNTRY_INFO!G101),IF(COUNTRY_INFO!K101=3,COUNTRY_INFO!F101/(COUNTRY_INFO!F101+COUNTRY_INFO!G101)))),0)","v":0},{"$f":"IF(AND(Z101<>0,Z101<>\"Inconnu\",Z101<>\"Non requis\"),IF(COUNTRY_INFO!K101=1,0,IF(COUNTRY_INFO!K101=2,0.2*COUNTRY_INFO!G101/(0.5*COUNTRY_INFO!F101+0.2*COUNTRY_INFO!G101),IF(COUNTRY_INFO!K101=3,COUNTRY_INFO!G101/(COUNTRY_INFO!F101+COUNTRY_INFO!G101)))),0)","v":0},{"$f":"MAX(COUNTRY_INFO!D101*AK101*PROFILE!$G$7,COUNTRY_INFO!D101*AL101*PROFILE!$G$7)","v":454.14359474618703},{"$f":"MAX(COUNTRY_INFO!D101*AK101*PROFILE!$G$8,COUNTRY_INFO!D101*AL101*PROFILE!$G$8,COUNTRY_INFO!D101*AM101*PROFILE!$G$8)","v":1363.5210698279909},{"$f":"MAX(COUNTRY_INFO!D101*AK101*PROFILE!$G$9,COUNTRY_INFO!D101*AL101*PROFILE!$G$9,COUNTRY_INFO!D101*AM101*PROFILE!$G$9,IF(AND(DISTRICT!Z101<>\"Inconnu\",Z101<>\"Non requis\"),COUNTRY_INFO!O101*DISTRICT!AN101,0))","v":2626.5723225900324},{"$f":"MAX(COUNTRY_INFO!D101*AK101*PROFILE!$G$10,COUNTRY_INFO!D101*AL101*PROFILE!$G$10,IF(AND(DISTRICT!Z101<>\"Inconnu\",Z101<>\"Non requis\"),COUNTRY_INFO!O101*DISTRICT!AO101,0))","v":5807.7630128357887},10252,"Y",{"$f":"MAX('MDA2'!J101,'T1'!L101,'T2'!J101,T3_R1!K101,T3_R2!K101)","v":0},{"$f":"MAX('MDA1'!K101,'MDA2'!K101,'MDA3'!I101,'MDA3'!L101,'T1'!M101,'T2'!K101,T3_R1!L101,T3_R2!L101)","v":2927},{"$f":"MAX('MDA1'!L101,'MDA2'!L101,'MDA3'!J101,'MDA3'!M101,'T1'!N101,'T2'!L101,T3_R1!M101,T3_R2!M101)","v":2750},5677,{"$f":"MAX('MDA2'!J101,T101)","v":0},{"$f":"MAX('MDA1'!K101,'MDA2'!K101,'MDA3'!I101,'MDA3'!L101,V101,AD101)","v":2927},{"$f":"MAX('MDA1'!L101,'MDA2'!L101,'MDA3'!J101,'MDA3'!M101,AF101)","v":2750},5677,55.374561061256344]
[{"$f":"IF(COUNTRY_INFO!A102=0,\" \",COUNTRY_INFO!A102)","v":"Guinea Bissau"},{"$f":"IF(COUNTRY_INFO!B102=0,\" \",COUNTRY_INFO!B102)","v":"Quinara"},{"$f":"IF(COUNTRY_INFO!C102=0,\" \",COUNTRY_INFO!C102)","v":"BUBA"},{"$f":"COUNTRY_INFO!L102","v":23963},8041,8363,{"$f":"MAX('MDA1'!M102,'MDA2'!M102)","v":16404},{"$f":"IF(AND(COUNTRY_INFO!H102>0,COUNTRY_INFO!H102<4),IF(D102>MAX('MDA1'!M102,'MDA2'!M102),MAX('MDA1'!M102,'MDA2'!M102),D102),0)","v":16404},{"$f":"IF(AND(COUNTRY_INFO!H102>0,COUNTRY_INFO!H102<4), IF(G102/D102*100<>0, IF(G102/D102*100>100,100,G102/D102*100), \"-\"),0)","v":68.455535617410177},{"$f":"COUNTRY_INFO!M102","v":"Inconnu"},null,null,{"$f":"MAX('MDA1'!M102,MAX('MDA3'!I102,'MDA3'!L102)+MAX('MDA3'!J102,'MDA3'!M102))","v":16404},{"$f":"IF(AND(COUNTRY_INFO!I102>0,COUNTRY_INFO!I102<4),IF(J102>MAX('MDA1'!M102,MAX('MDA3'!I102,'MDA3'!L102)+MAX('MDA3'!J102,'MDA3'!M102)),MAX('MDA1'!M102,MAX('MDA3'!I102,'MDA3'!L102)+MAX('MDA3'!J102,'MDA3'!M102)),J102),0)","v":0},{"$f":"IF(AND(COUNTRY_INFO!I102>0,COUNTRY_INFO!I102<4), IF(M102/J102*100<>0, IF(M102/J102*100>100,100,M102/J102*100), \"-\"),0)","v":0},{"$f":"COUNTRY_INFO!N102","v":9326},null,null,{"$f":"SUM(MAX('MDA2'!J102, 'T1'!L102, MAX(T3_R1!K102, T3_R2!K102)), MAX('MDA1'!K102, 'MDA2'!K102, 'T1'!M102, MAX(T3_R1!L102, T3_R2!L102)), MAX('MDA1'!L102, 'MDA2'!L102, 'T1'!N102, MAX(T3_R1!M102, T3_R2!M102)))","v":16404},{"$f":"IF(AND(COUNTRY_INFO!J102>1,COUNTRY_INFO!J102<4),IF(COUNTRY_INFO!E102>MAX('MDA2'!J102,'T1'!L102,MAX(T3_R1!K102,T3_R2!K102)),MAX('MDA2'!J102,'T1'!L102,MAX(T3_R1!K102,T3_R2!K102)),COUNTRY_INFO!E102),0)","v":0},{"$f":"IF(AND(COUNTRY_INFO!J102>1,COUNTRY_INFO!J102<4), IF(T102/COUNTRY_INFO!E102*100<>0, IF(T102/COUNTRY_INFO!E102*100>100,100,T102/COUNTRY_INFO!E102*100), \"-\"),0)","v":"-"},{"$f":"IF(AND(COUNTRY_INFO!J102>1,COUNTRY_INFO!J102<4),IF(COUNTRY_INFO!F102>MAX('MDA1'!K102,'MDA2'!K102,'T1'!M102,MAX(T3_R1!L102,T3_R2!L102)),MAX('MDA1'!K102,'MDA2'!K102,'T1'!M102,MAX(T3_R1!L102,T3_R2!L102)),COUNTRY_INFO!F102),0)","v":6139},{"$f":"IF(AND(COUNTRY_INFO!J102>1,COUNTRY_INFO!J102<4), IF(V102/COUNTRY_INFO!F102*100<>0, IF(V102/COUNTRY_INFO!F102*100>100,100,V102/COUNTRY_INFO!F102*100), \"-\"),0)","v":100},6139,{"$f":"IF(AND(COUNTRY_INFO!J102>1,COUNTRY_INFO!J102<4), IF(S102/P102*100<>0, IF(X102/P102*100>100,100,X102/P102*100), \"-\"),0)","v":65.826720995067561},{"$f":"COUNTRY_INFO!O102","v":0},null,null,{"$f":"MAX('T1'!L102,'T2'!J102)+MAX('T1'!M102,'T2'!K102)+MAX('T1'!N102,'T2'!L102)","v":0},{"$f":"IF(COUNTRY_INFO!K102=1,IF(COUNTRY_INFO!F102*0.33>MAX('T1'!M102,'T2'!K102),MAX('T1'!M102,'T2'!K102),COUNTRY_INFO!F102*0.33),IF(COUNTRY_INFO!K102=2,IF(COUNTRY_INFO!F102*0.5>MAX('T1'!M102,'T2'!K102),MAX('T1'!M102,'T2'!K102),COUNTRY_INFO!F102*0.5),IF(COUNTRY_INFO!K102=3,IF(COUNTRY_INFO!F102>MAX('T1'!M102,'T2'!K102),MAX('T1'!M102,'T2'!K102),COUNTRY_INFO!F102),0)))","v":0},{"$f":"IF(AND(COUNTRY_INFO!K102>0,COUNTRY_INFO!K102<4),IF(Z102>0,IF(COUNTRY_INFO!K102=1, AD102/(COUNTRY_INFO!F102*0.33)*100, IF(COUNTRY_INFO!K102=2, AD102/(COUNTRY_INFO!F102*0.5)*100, IF(COUNTRY_INFO!K102=3, AD102/COUNTRY_INFO!F102*100))),\"-\"),0)","v":0},{"$f":"IF(COUNTRY_INFO!K102=2,IF(COUNTRY_INFO!G102*0.2>MAX('T1'!N102,'T2'!L102),MAX('T1'!N102,'T2'!L102),COUNTRY_INFO!G102*0.2),IF(COUNTRY_INFO!K102=3,IF(COUNTRY_INFO!G102>MAX('T1'!N102,'T2'!L102),MAX('T1'!N102,'T2'!L102),COUNTRY_INFO!G102),0))","v":0},{"$f":"IF(AND(COUNTRY_INFO!K102>0,COUNTRY_INFO!K102<4),IF(Z102>0,IF(COUNTRY_INFO!K102=1, 0, IF(COUNTRY_INFO!K102=2, AF102/(COUNTRY_INFO!G102*0.2)*100, IF(COUNTRY_INFO!K102=3, AF102/COUNTRY_INFO!G102*100))),\"-\"),0)","v":0},0,{"$f":"IF(AND(COUNTRY_INFO!K102>0,COUNTRY_INFO!K102<4), IF(AC102/Z102*100<>0, IF(AH102/Z102*100>100,100,AH102/Z102*100), \"-\"),0)","v":0},null,{"$f":"IF(AND(D102<>0, D102<>\"Inconnu\",D102<>\"Interrompu\",D102<>\"Non requis\"),D102/COUNTRY_INFO!D102, 0)","v":1},{"$f":"IF(AND(J102<>0,J102<>\"Inconnu\",J102<>\"Interrompu\",J102<>\"Non requis\"),J102/COUNTRY_INFO!D102, 0)","v":0},{"$f":"IF(AND(P102<>0,P102<>\"Inconnu\",P102<>\"Non requis\"),P102/(COUNTRY_INFO!E102+COUNTRY_INFO!F102), 0)","v":1},{"$f":"IF(AND(Z102<>0,Z102<>\"Inconnu\",Z102<>\"Non requis\"),IF(COUNTRY_INFO!K102=1,1,IF(COUNTRY_INFO!K102=2,0.5*COUNTRY_INFO!F102/(0.5*COUNTRY_INFO!F102+0.2*COUNTRY_INFO!G102),IF(COUNTRY_INFO!K102=3,COUNTRY_INFO!F102/(COUNTRY_INFO!F102+COUNTRY_INFO!G102)))),0)","v":0},{"$f":"IF(AND(Z102<>0,Z102<>\"Inconnu\",Z102<>\"Non requis\"),IF(COUNTRY_INFO!K102=1,0,IF(COUNTRY_INFO!K102=2,0.2*COUNTRY_INFO!G102/(0.5*COUNTRY_INFO!F102+0.2*COUNTRY_INFO!G102),IF(COUNTRY_INFO!K102=3,COUNTRY_INFO!G102/(COUNTRY_INFO!F102+COUNTRY_INFO!G102)))),0)","v":0},{"$f":"MAX(COUNTRY_INFO!D102*AK102*PROFILE!$G$7,COUNTRY_INFO!D102*AL102*PROFILE!$G$7)","v":1061.5141397681311},{"$f":"MAX(COUNTRY_INFO!D102*AK102*PROFILE!$G$8,COUNTRY_INFO!D102*AL102*PROFILE!$G$8,COUNTRY_INFO!D102*AM102*PROFILE!$G$8)","v":3187.0908502036818},{"$f":"MAX(COUNTRY_INFO!D102*AK102*PROFILE!$G$9,COUNTRY_INFO!D102*AL102*PROFILE!$G$9,COUNTRY_INFO!D102*AM102*PROFILE!$G$9,IF(AND(DISTRICT!Z102<>\"Inconnu\",Z102<>\"Non requis\"),COUNTRY_INFO!O102*DISTRICT!AN102,0))","v":6139.3437930379387},{"$f":"MAX(COUNTRY_INFO!D102*AK102*PROFILE!$G$10,COUNTRY_INFO!D102*AL102*PROFILE!$G$10,IF(AND(DISTRICT!Z102<>\"Inconnu\",Z102<>\"Non requis\"),COUNTRY_INFO!O102*DISTRICT!AO102,0))","v":13575.051216990247},23963,"Y",{"$f":"MAX('MDA2'!J102,'T1'!L102,'T2'!J102,T3_R1!K102,T3_R2!K102)","v":0},{"$f":"MAX('MDA1'!K102,'MDA2'!K102,'MDA3'!I102,'MDA3'!L102,'T1'!M102,'T2'!K102,T3_R1!L102,T3_R2!L102)","v":8041},{"$f":"MAX('MDA1'!L102,'MDA2'!L102,'MDA3'!J102,'MDA3'!M102,'T1'!N102,'T2'!L102,T3_R1!M102,T3_R2!M102)","v":8363},16404,{"$f":"MAX('MDA2'!J102,T102)","v":0},{"$f":"MAX('MDA1'!K102,'MDA2'!K102,'MDA3'!I102,'MDA3'!L102,V102,AD102)","v":8041},{"$f":"MAX('MDA1'!L102,'MDA2'!L102,'MDA3'!J102,'MDA3'!M102,AF102)","v":8363},16404,68.455535617410177]
[{"$f":"IF(COUNTRY_INFO!A103=0,\" \",COUNTRY_INFO!A103)","v":"Guinea Bissau"},{"$f":"IF(COUNTRY_INFO!B103=0,\" \",COUNTRY_INFO!B103)","v":"Quinara"},{"$f":"IF(COUNTRY_INFO!C103=0,\" \",COUNTRY_INFO!C103)","v":"DAR-ES-SALAM"},{"$f":"COUNTRY_INFO!L103","v":6681},2053,2121,{"$f":"MAX('MDA1'!M103,'MDA2'!M103)","v":4174},{"$f":"IF(AND(COUNTRY_INFO!H103>0,COUNTRY_INFO!H103<4),IF(D103>MAX('MDA1'!M103,'MDA2'!M103),MAX('MDA1'!M103,'MDA2'!M103),D103),0)","v":4174},{"$f":"IF(AND(COUNTRY_INFO!H103>0,COUNTRY_INFO!H103<4), IF(G103/D103*100<>0, IF(G103/D103*100>100,100,G103/D103*100), \"-\"),0)","v":62.475677293818286},{"$f":"COUNTRY_INFO!M103","v":"Inconnu"},null,null,{"$f":"MAX('MDA1'!M103,MAX('MDA3'!I103,'MDA3'!L103)+MAX('MDA3'!J103,'MDA3'!M103))","v":4174},{"$f":"IF(AND(COUNTRY_INFO!I103>0,COUNTRY_INFO!I103<4),IF(J103>MAX('MDA1'!M103,MAX('MDA3'!I103,'MDA3'!L103)+MAX('MDA3'!J103,'MDA3'!M103)),MAX('MDA1'!M103,MAX('MDA3'!I103,'MDA3'!L103)+MAX('MDA3'!J103,'MDA3'!M103)),J103),0)","v":0},{"$f":"IF(AND(COUNTRY_INFO!I103>0,COUNTRY_INFO!I103<4), IF(M103/J103*100<>0, IF(M103/J103*100>100,100,M103/J103*100), \"-\"),0)","v":0},{"$f":"COUNTRY_INFO!N103","v":2601},null,null,{"$f":"SUM(MAX('MDA2'!J103, 'T1'!L103, MAX(T3_R1!K103, T3_R2!K103)), MAX('MDA1'!K103, 'MDA2'!K103, 'T1'!M103, MAX(T3_R1!L103, T3_R2!L103)), MAX('MDA1'!L103, 'MDA2'!L103, 'T1'!N103, MAX(T3_R1!M103, T3_R2!M103)))","v":4174},{"$f":"IF(AND(COUNTRY_INFO!J103>1,COUNTRY_INFO!J103<4),IF(COUNTRY_INFO!E103>MAX('MDA2'!J103,'T1'!L103,MAX(T3_R1!K103,T3_R2!K103)),MAX('MDA2'!J103,'T1'!L103,MAX(T3_R1!K103,T3_R2!K103)),COUNTRY_INFO!E103),0)","v":0},{"$f":"IF(AND(COUNTRY_INFO!J103>1,COUNTRY_INFO!J103<4), IF(T103/COUNTRY_INFO!E103*100<>0, IF(T103/COUNTRY_INFO!E103*100>100,100,T103/COUNTRY_INFO!E103*100), \"-\"),0)","v":"-"},{"$f":"IF(AND(COUNTRY_INFO!J103>1,COUNTRY_INFO!J103<4),IF(COUNTRY_INFO!F103>MAX('MDA1'!K103,'MDA2'!K103,'T1'!M103,MAX(T3_R1!L103,T3_R2!L103)),MAX('MDA1'!K103,'MDA2'!K103,'T1'!M103,MAX(T3_R1!L103,T3_R2!L103)),COUNTRY_INFO!F103),0)","v":1712},{"$f":"IF(AND(COUNTRY_INFO!J103>1,COUNTRY_INFO!J103<4), IF(V103/COUNTRY_INFO!F103*100<>0, IF(V103/COUNTRY_INFO!F103*100>100,100,V103/COUNTRY_INFO!F103*100), \"-\"),0)","v":100},1712,{"$f":"IF(AND(COUNTRY_INFO!J103>1,COUNTRY_INFO!J103<4), IF(S103/P103*100<>0, IF(X103/P103*100>100,100,X103/P103*100), \"-\"),0)","v":65.820838139177241},{"$f":"COUNTRY_INFO!O103","v":0},null,null,{"$f":"MAX('T1'!L103,'T2'!J103)+MAX('T1'!M103,'T2'!K103)+MAX('T1'!N103,'T2'!L103)","v":0},{"$f":"IF(COUNTRY_INFO!K103=1,IF(COUNTRY_INFO!F103*0.33>MAX('T1'!M103,'T2'!K103),MAX('T1'!M103,'T2'!K103),COUNTRY_INFO!F103*0.33),IF(COUNTRY_INFO!K103=2,IF(COUNTRY_INFO!F103*0.5>MAX('T1'!M103,'T2'!K103),MAX('T1'!M103,'T2'!K103),COUNTRY_INFO!F103*0.5),IF(COUNTRY_INFO!K103=3,IF(COUNTRY_INFO!F103>MAX('T1'!M103,'T2'!K103),MAX('T1'!M103,'T2'!K103),COUNTRY_INFO!F103),0)))","v":0},{"$f":"IF(AND(COUNTRY_INFO!K103>0,COUNTRY_INFO!K103<4),IF(Z103>0,IF(COUNTRY_INFO!K103=1, AD103/(COUNTRY_INFO!F103*0.33)*100, IF(COUNTRY_INFO!K103=2, AD103/(COUNTRY_INFO!F103*0.5)*100, IF(COUNTRY_INFO!K103=3, AD103/COUNTRY_INFO!F103*100))),\"-\"),0)","v":0},{"$f":"IF(COUNTRY_INFO!K103=2,IF(COUNTRY_INFO!G103*0.2>MAX('T1'!N103,'T2'!L103),MAX('T1'!N103,'T2'!L103),COUNTRY_INFO!G103*0.2),IF(COUNTRY_INFO!K103=3,IF(COUNTRY_INFO!G103>MAX('T1'!N103,'T2'!L103),MAX('T1'!N103,'T2'!L103),COUNTRY_INFO!G103),0))","v":0},{"$f":"IF(AND(COUNTRY_INFO!K103>0,COUNTRY_INFO!K103<4),IF(Z103>0,IF(COUNTRY_INFO!K103=1, 0, IF(COUNTRY_INFO!K103=2, AF103/(COUNTRY_INFO!G103*0.2)*100, IF(COUNTRY_INFO!K103=3, AF103/COUNTRY_INFO!G103*100))),\"-\"),0)","v":0},0,{"$f":"IF(AND(COUNTRY_INFO!K103>0,COUNTRY_INFO!K103<4), IF(AC103/Z103*100<>0, IF(AH103/Z103*100>100,100,AH103/Z103*100), \"-\"),0)","v":0},null,{"$f":"IF(AND(D103<>0, D103<>\"Inconnu\",D103<>\"Interrompu\",D103<>\"Non requis\"),D103/COUNTRY_INFO!D103, 0)","v":1},{"$f":"IF(AND(J103<>0,J103<>\"Inconnu\",J103<>\"Interrompu\",J103<>\"Non requis\"),J103/COUNTRY_INFO!D103, 0)","v":0},{"$f":"IF(AND(P103<>0,P103<>\"Inconnu\",P103<>\"Non requis\"),P103/(COUNTRY_INFO!E103+COUNTRY_INFO!F103), 0)","v":1},{"$f":"IF(AND(Z103<>0,Z103<>\"Inconnu\",Z103<>\"Non requis\"),IF(COUNTRY_INFO!K103=1,1,IF(COUNTRY_INFO!K103=2,0.5*COUNTRY_INFO!F103/(0.5*COUNTRY_INFO!F103+0.2*COUNTRY_INFO!G103),IF(COUNTRY_INFO!K103=3,COUNTRY_INFO!F103/(COUNTRY_INFO!F103+COUNTRY_INFO!G103)))),0)","v":0},{"$f":"IF(AND(Z103<>0,Z103<>\"Inconnu\",Z103<>\"Non requis\"),IF(COUNTRY_INFO!K103=1,0,IF(COUNTRY_INFO!K103=2,0.2*COUNTRY_INFO!G103/(0.5*COUNTRY_INFO!F103+0.2*COUNTRY_INFO!G103),IF(COUNTRY_INFO!K103=3,COUNTRY_INFO!G103/(COUNTRY_INFO!F103+COUNTRY_INFO!G103)))),0)","v":0},{"$f":"MAX(COUNTRY_INFO!D103*AK103*PROFILE!$G$7,COUNTRY_INFO!D103*AL103*PROFILE!$G$7)","v":295.95526302177871},{"$f":"MAX(COUNTRY_INFO!D103*AK103*PROFILE!$G$8,COUNTRY_INFO!D103*AL103*PROFILE!$G$8,COUNTRY_INFO!D103*AM103*PROFILE!$G$8)","v":888.57630389395308},{"$f":"MAX(COUNTRY_INFO!D103*AK103*PROFILE!$G$9,COUNTRY_INFO!D103*AL103*PROFILE!$G$9,COUNTRY_INFO!D103*AM103*PROFILE!$G$9,IF(AND(DISTRICT!Z103<>\"Inconnu\",Z103<>\"Non requis\"),COUNTRY_INFO!O103*DISTRICT!AN103,0))","v":1711.6786663308631},{"$f":"MAX(COUNTRY_INFO!D103*AK103*PROFILE!$G$10,COUNTRY_INFO!D103*AL103*PROFILE!$G$10,IF(AND(DISTRICT!Z103<>\"Inconnu\",Z103<>\"Non requis\"),COUNTRY_INFO!O103*DISTRICT!AO103,0))","v":3784.7897667534048},6681,"Y",{"$f":"MAX('MDA2'!J103,'T1'!L103,'T2'!J103,T3_R1!K103,T3_R2!K103)","v":0},{"$f":"MAX('MDA1'!K103,'MDA2'!K103,'MDA3'!I103,'MDA3'!L103,'T1'!M103,'T2'!K103,T3_R1!L103,T3_R2!L103)","v":2053},{"$f":"MAX('MDA1'!L103,'MDA2'!L103,'MDA3'!J103,'MDA3'!M103,'T1'!N103,'T2'!L103,T3_R1!M103,T3_R2!M103)","v":2121},4174,{"$f":"MAX('MDA2'!J103,T103)","v":0},{"$f":"MAX('MDA1'!K103,'MDA2'!K103,'MDA3'!I103,'MDA3'!L103,V103,AD103)","v":2053},{"$f":"MAX('MDA1'!L103,'MDA2'!L103,'MDA3'!J103,'MDA3'!M103,AF103)","v":2121},4174,62.475677293818286]
[{"$f":"IF(COUNTRY_INFO!A104=0,\" \",COUNTRY_INFO!A104)","v":"Guinea Bissau"},{"$f":"IF(COUNTRY_INFO!B104=0,\" \",COUNTRY_INFO!B104)","v":"Quinara"},{"$f":"IF(COUNTRY_INFO!C104=0,\" \",COUNTRY_INFO!C104)","v":"EMPADA"},{"$f":"COUNTRY_INFO!L104","v":17488},6440,6355,{"$f":"MAX('MDA1'!M104,'MDA2'!M104)","v":12795},{"$f":"IF(AND(COUNTRY_INFO!H104>0,COUNTRY_INFO!H104<4),IF(D104>MAX('MDA1'!M104,'MDA2'!M104),MAX('MDA1'!M104,'MDA2'!M104),D104),0)","v":12795},{"$f":"IF(AND(COUNTRY_INFO!H104>0,COUNTRY_INFO!H104<4), IF(G104/D104*100<>0, IF(G104/D104*100>100,100,G104/D104*100), \"-\"),0)","v":73.164455626715466},{"$f":"COUNTRY_INFO!M104","v":"Inconnu"},null,null,{"$f":"MAX('MDA1'!M104,MAX('MDA3'!I104,'MDA3'!L104)+MAX('MDA3'!J104,'MDA3'!M104))","v":12795},{"$f":"IF(AND(COUNTRY_INFO!I104>0,COUNTRY_INFO!I104<4),IF(J104>MAX('MDA1'!M104,MAX('MDA3'!I104,'MDA3'!L104)+MAX('MDA3'!J104,'MDA3'!M104)),MAX('MDA1'!M104,MAX('MDA3'!I104,'MDA3'!L104)+MAX('MDA3'!J104,'MDA3'!M104)),J104),0)","v":0},{"$f":"IF(AND(COUNTRY_INFO!I104>0,COUNTRY_INFO!I104<4), IF(M104/J104*100<>0, IF(M104/J104*100>100,100,M104/J104*100), \"-\"),0)","v":0},{"$f":"COUNTRY_INFO!N104","v":6806},null,null,{"$f":"SUM(MAX('MDA2'!J104, 'T1'!L104, MAX(T3_R1!K104, T3_R2!K104)), MAX('MDA1'!K104, 'MDA2'!K104, 'T1'!M104, MAX(T3_R1!L104, T3_R2!L104)), MAX('MDA1'!L104, 'MDA2'!L104, 'T1'!N104, MAX(T3_R1!M104, T3_R2!M104)))","v":12795},{"$f":"IF(AND(COUNTRY_INFO!J104>1,COUNTRY_INFO!J104<4),IF(COUNTRY_INFO!E104>MAX('MDA2'!J104,'T1'!L104,MAX(T3_R1!K104,T3_R2!K104)),MAX('MDA2'!J104,'T1'!L104,MAX(T3_R1!K104,T3_R2!K104)),COUNTRY_INFO!E104),0)","v":0},{"$f":"IF(AND(COUNTRY_INFO!J104>1,COUNTRY_INFO!J104<4), IF(T104/COUNTRY_INFO!E104*100<>0, IF(T104/COUNTRY_INFO!E104*100>100,100,T104/COUNTRY_INFO!E104*100), \"-\"),0)","v":"-"},{"$f":"IF(AND(COUNTRY_INFO!J104>1,COUNTRY_INFO!J104<4),IF(COUNTRY_INFO!F104>MAX('MDA1'!K104,'MDA2'!K104,'T1'!M104,MAX(T3_R1!L104,T3_R2!L104)),MAX('MDA1'!K104,'MDA2'!K104,'T1'!M104,MAX(T3_R1!L104,T3_R2!L104)),COUNTRY_INFO!F104),0)","v":4480},{"$f":"IF(AND(COUNTRY_INFO!J104>1,COUNTRY_INFO!J104<4), IF(V104/COUNTRY_INFO!F104*100<>0, IF(V104/COUNTRY_INFO!F104*100>100,100,V104/COUNTRY_INFO!F104*100), \"-\"),0)","v":100},4480,{"$f":"IF(AND(COUNTRY_INFO!J104>1,COUNTRY_INFO!J104<4), IF(S104/P104*100<>0, IF(X104/P104*100>100,100,X104/P104*100), \"-\"),0)","v":65.824272700558325},{"$f":"COUNTRY_INFO!O104","v":0},null,null,{"$f":"MAX('T1'!L104,'T2'!J104)+MAX('T1'!M104,'T2'!K104)+MAX('T1'!N104,'T2'!L104)","v":0},{"$f":"IF(COUNTRY_INFO!K104=1,IF(COUNTRY_INFO!F104*0.33>MAX('T1'!M104,'T2'!K104),MAX('T1'!M104,'T2'!K104),COUNTRY_INFO!F104*0.33),IF(COUNTRY_INFO!K104=2,IF(COUNTRY_INFO!F104*0.5>MAX('T1'!M104,'T2'!K104),MAX('T1'!M104,'T2'!K104),COUNTRY_INFO!F104*0.5),IF(COUNTRY_INFO!K104=3,IF(COUNTRY_INFO!F104>MAX('T1'!M104,'T2'!K104),MAX('T1'!M104,'T2'!K104),COUNTRY_INFO!F104),0)))","v":0},{"$f":"IF(AND(COUNTRY_INFO!K104>0,COUNTRY_INFO!K104<4),IF(Z104>0,IF(COUNTRY_INFO!K104=1, AD104/(COUNTRY_INFO!F104*0.33)*100, IF(COUNTRY_INFO!K104=2, AD104/(COUNTRY_INFO!F104*0.5)*100, IF(COUNTRY_INFO!K104=3, AD104/COUNTRY_INFO!F104*100))),\"-\"),0)","v":0},{"$f":"IF(COUNTRY_INFO!K104=2,IF(COUNTRY_INFO!G104*0.2>MAX('T1'!N104,'T2'!L104),MAX('T1'!N104,'T2'!L104),COUNTRY_INFO!G104*0.2),IF(COUNTRY_INFO!K104=3,IF(COUNTRY_INFO!G104>MAX('T1'!N104,'T2'!L104),MAX('T1'!N104,'T2'!L104),COUNTRY_INFO!G104),0))","v":0},{"$f":"IF(AND(COUNTRY_INFO!K104>0,COUNTRY_INFO!K104<4),IF(Z104>0,IF(COUNTRY_INFO!K104=1, 0, IF(COUNTRY_INFO!K104=2, AF104/(COUNTRY_INFO!G104*0.2)*100, IF(COUNTRY_INFO!K104=3, AF104/COUNTRY_INFO!G104*100))),\"-\"),0)","v":0},0,{"$f":"IF(AND(COUNTRY_INFO!K104>0,COUNTRY_INFO!K104<4), IF(AC104/Z104*100<>0, IF(AH104/Z104*100>100,100,AH104/Z104*100), \"-\"),0)","v":0},null,{"$f":"IF(AND(D104<>0, D104<>\"Inconnu\",D104<>\"Interrompu\",D104<>\"Non requis\"),D104/COUNTRY_INFO!D104, 0)","v":1},{"$f":"IF(AND(J104<>0,J104<>\"Inconnu\",J104<>\"Interrompu\",J104<>\"Non requis\"),J104/COUNTRY_INFO!D104, 0)","v":0},{"$f":"IF(AND(P104<>0,P104<>\"Inconnu\",P104<>\"Non requis\"),P104/(COUNTRY_INFO!E104+COUNTRY_INFO!F104), 0)","v":1},{"$f":"IF(AND(Z104<>0,Z104<>\"Inconnu\",Z104<>\"Non requis\"),IF(COUNTRY_INFO!K104=1,1,IF(COUNTRY_INFO!K104=2,0.5*COUNTRY_INFO!F104/(0.5*COUNTRY_INFO!F104+0.2*COUNTRY_INFO!G104),IF(COUNTRY_INFO!K104=3,COUNTRY_INFO!F104/(COUNTRY_INFO!F104+COUNTRY_INFO!G104)))),0)","v":0},{"$f":"IF(AND(Z104<>0,Z104<>\"Inconnu\",Z104<>\"Non requis\"),IF(COUNTRY_INFO!K104=1,0,IF(COUNTRY_INFO!K104=2,0.2*COUNTRY_INFO!G104/(0.5*COUNTRY_INFO!F104+0.2*COUNTRY_INFO!G104),IF(COUNTRY_INFO!K104=3,COUNTRY_INFO!G104/(COUNTRY_INFO!F104+COUNTRY_INFO!G104)))),0)","v":0},{"$f":"MAX(COUNTRY_INFO!D104*AK104*PROFILE!$G$7,COUNTRY_INFO!D104*AL104*PROFILE!$G$7)","v":774.68427476797876},{"$f":"MAX(COUNTRY_INFO!D104*AK104*PROFILE!$G$8,COUNTRY_INFO!D104*AL104*PROFILE!$G$8,COUNTRY_INFO!D104*AM104*PROFILE!$G$8)","v":2325.9126481810285},{"$f":"MAX(COUNTRY_INFO!D104*AK104*PROFILE!$G$9,COUNTRY_INFO!D104*AL104*PROFILE!$G$9,COUNTRY_INFO!D104*AM104*PROFILE!$G$9,IF(AND(DISTRICT!Z104<>\"Inconnu\",Z104<>\"Non requis\"),COUNTRY_INFO!O104*DISTRICT!AN104,0))","v":4480.4425260880307},{"$f":"MAX(COUNTRY_INFO!D104*AK104*PROFILE!$G$10,COUNTRY_INFO!D104*AL104*PROFILE!$G$10,IF(AND(DISTRICT!Z104<>\"Inconnu\",Z104<>\"Non requis\"),COUNTRY_INFO!O104*DISTRICT!AO104,0))","v":9906.9605509629619},17488,"Y",{"$f":"MAX('MDA2'!J104,'T1'!L104,'T2'!J104,T3_R1!K104,T3_R2!K104)","v":0},{"$f":"MAX('MDA1'!K104,'MDA2'!K104,'MDA3'!I104,'MDA3'!L104,'T1'!M104,'T2'!K104,T3_R1!L104,T3_R2!L104)","v":6440},{"$f":"MAX('MDA1'!L104,'MDA2'!L104,'MDA3'!J104,'MDA3'!M104,'T1'!N104,'T2'!L104,T3_R1!M104,T3_R2!M104)","v":6355},12795,{"$f":"MAX('MDA2'!J104,T104)","v":0},{"$f":"MAX('MDA1'!K104,'MDA2'!K104,'MDA3'!I104,'MDA3'!L104,V104,AD104)","v":6440},{"$f":"MAX('MDA1'!L104,'MDA2'!L104,'MDA3'!J104,'MDA3'!M104,AF104)","v":6355},12795,73.164455626715466]
[{"$f":"IF(COUNTRY_INFO!A105=0,\" \",COUNTRY_INFO!A105)","v":"Guinea Bissau"},{"$f":"IF(COUNTRY_INFO!B105=0,\" \",COUNTRY_INFO!B105)","v":"Quinara"},{"$f":"IF(COUNTRY_INFO!C105=0,\" \",COUNTRY_INFO!C105)","v":"FULACUNDA"},{"$f":"COUNTRY_INFO!L105","v":14474},5821,5838,{"$f":"MAX('MDA1'!M105,'MDA2'!M105)","v":11659},{"$f":"IF(AND(COUNTRY_INFO!H105>0,COUNTRY_INFO!H105<4),IF(D105>MAX('MDA1'!M105,'MDA2'!M105),MAX('MDA1'!M105,'MDA2'!M105),D105),0)","v":11659},{"$f":"IF(AND(COUNTRY_INFO!H105>0,COUNTRY_INFO!H105<4), IF(G105/D105*100<>0, IF(G105/D105*100>100,100,G105/D105*100), \"-\"),0)","v":80.551333425452526},{"$f":"COUNTRY_INFO!M105","v":"Inconnu"},null,null,{"$f":"MAX('MDA1'!M105,MAX('MDA3'!I105,'MDA3'!L105)+MAX('MDA3'!J105,'MDA3'!M105))","v":11659},{"$f":"IF(AND(COUNTRY_INFO!I105>0,COUNTRY_INFO!I105<4),IF(J105>MAX('MDA1'!M105,MAX('MDA3'!I105,'MDA3'!L105)+MAX('MDA3'!J105,'MDA3'!M105)),MAX('MDA1'!M105,MAX('MDA3'!I105,'MDA3'!L105)+MAX('MDA3'!J105,'MDA3'!M105)),J105),0)","v":0},{"$f":"IF(AND(COUNTRY_INFO!I105>0,COUNTRY_INFO!I105<4), IF(M105/J105*100<>0, IF(M105/J105*100>100,100,M105/J105*100), \"-\"),0)","v":0},{"$f":"COUNTRY_INFO!N105","v":5633},null,null,{"$f":"SUM(MAX('MDA2'!J105, 'T1'!L105, MAX(T3_R1!K105, T3_R2!K105)), MAX('MDA1'!K105, 'MDA2'!K105, 'T1'!M105, MAX(T3_R1!L105, T3_R2!L105)), MAX('MDA1'!L105, 'MDA2'!L105, 'T1'!N105, MAX(T3_R1!M105, T3_R2!M105)))","v":11659},{"$f":"IF(AND(COUNTRY_INFO!J105>1,COUNTRY_INFO!J105<4),IF(COUNTRY_INFO!E105>MAX('MDA2'!J105,'T1'!L105,MAX(T3_R1!K105,T3_R2!K105)),MAX('MDA2'!J105,'T1'!L105,MAX(T3_R1!K105,T3_R2!K105)),COUNTRY_INFO!E105),0)","v":0},{"$f":"IF(AND(COUNTRY_INFO!J105>1,COUNTRY_INFO!J105<4), IF(T105/COUNTRY_INFO!E105*100<>0, IF(T105/COUNTRY_INFO!E105*100>100,100,T105/COUNTRY_INFO!E105*100), \"-\"),0)","v":"-"},{"$f":"IF(AND(COUNTRY_INFO!J105>1,COUNTRY_INFO!J105<4),IF(COUNTRY_INFO!F105>MAX('MDA1'!K105,'MDA2'!K105,'T1'!M105,MAX(T3_R1!L105,T3_R2!L105)),MAX('MDA1'!K105,'MDA2'!K105,'T1'!M105,MAX(T3_R1!L105,T3_R2!L105)),COUNTRY_INFO!F105),0)","v":3708},{"$f":"IF(AND(COUNTRY_INFO!J105>1,COUNTRY_INFO!J105<4), IF(V105/COUNTRY_INFO!F105*100<>0, IF(V105/COUNTRY_INFO!F105*100>100,100,V105/COUNTRY_INFO!F105*100), \"-\"),0)","v":100},3708,{"$f":"IF(AND(COUNTRY_INFO!J105>1,COUNTRY_INFO!J105<4), IF(S105/P105*100<>0, IF(X105/P105*100>100,100,X105/P105*100), \"-\"),0)","v":65.826380259186934},{"$f":"COUNTRY_INFO!O105","v":0},null,null,{"$f":"MAX('T1'!L105,'T2'!J105)+MAX('T1'!M105,'T2'!K105)+MAX('T1'!N105,'T2'!L105)","v":0},{"$f":"IF(COUNTRY_INFO!K105=1,IF(COUNTRY_INFO!F105*0.33>MAX('T1'!M105,'T2'!K105),MAX('T1'!M105,'T2'!K105),COUNTRY_INFO!F105*0.33),IF(COUNTRY_INFO!K105=2,IF(COUNTRY_INFO!F105*0.5>MAX('T1'!M105,'T2'!K105),MAX('T1'!M105,'T2'!K105),COUNTRY_INFO!F105*0.5),IF(COUNTRY_INFO!K105=3,IF(COUNTRY_INFO!F105>MAX('T1'!M105,'T2'!K105),MAX('T1'!M105,'T2'!K105),COUNTRY_INFO!F105),0)))","v":0},{"$f":"IF(AND(COUNTRY_INFO!K105>0,COUNTRY_INFO!K105<4),IF(Z105>0,IF(COUNTRY_INFO!K105=1, AD105/(COUNTRY_INFO!F105*0.33)*100, IF(COUNTRY_INFO!K105=2, AD105/(COUNTRY_INFO!F105*0.5)*100, IF(COUNTRY_INFO!K105=3, AD105/COUNTRY_INFO!F105*100))),\"-\"),0)","v":0},{"$f":"IF(COUNTRY_INFO!K105=2,IF(COUNTRY_INFO!G105*0.2>MAX('T1'!N105,'T2'!L105),MAX('T1'!N105,'T2'!L105),COUNTRY_INFO!G105*0.2),IF(COUNTRY_INFO!K105=3,IF(COUNTRY_INFO!G105>MAX('T1'!N105,'T2'!L105),MAX('T1'!N105,'T2'!L105),COUNTRY_INFO!G105),0))","v":0},{"$f":"IF(AND(COUNTRY_INFO!K105>0,COUNTRY_INFO!K105<4),IF(Z105>0,IF(COUNTRY_INFO!K105=1, 0, IF(COUNTRY_INFO!K105=2, AF105/(COUNTRY_INFO!G105*0.2)*100, IF(COUNTRY_INFO!K105=3, AF105/COUNTRY_INFO!G105*100))),\"-\"),0)","v":0},0,{"$f":"IF(AND(COUNTRY_INFO!K105>0,COUNTRY_INFO!K105<4), IF(AC105/Z105*100<>0, IF(AH105/Z105*100>100,100,AH105/Z105*100), \"-\"),0)","v":0},null,{"$f":"IF(AND(D105<>0, D105<>\"Inconnu\",D105<>\"Interrompu\",D105<>\"Non requis\"),D105/COUNTRY_INFO!D105, 0)","v":1},{"$f":"IF(AND(J105<>0,J105<>\"Inconnu\",J105<>\"Interrompu\",J105<>\"Non requis\"),J105/COUNTRY_INFO!D105, 0)","v":0},{"$f":"IF(AND(P105<>0,P105<>\"Inconnu\",P105<>\"Non requis\"),P105/(COUNTRY_INFO!E105+COUNTRY_INFO!F105), 0)","v":1},{"$f":"IF(AND(Z105<>0,Z105<>\"Inconnu\",Z105<>\"Non requis\"),IF(COUNTRY_INFO!K105=1,1,IF(COUNTRY_INFO!K105=2,0.5*COUNTRY_INFO!F105/(0.5*COUNTRY_INFO!F105+0.2*COUNTRY_INFO!G105),IF(COUNTRY_INFO!K105=3,COUNTRY_INFO!F105/(COUNTRY_INFO!F105+COUNTRY_INFO!G105)))),0)","v":0},{"$f":"IF(AND(Z105<>0,Z105<>\"Inconnu\",Z105<>\"Non requis\"),IF(COUNTRY_INFO!K105=1,0,IF(COUNTRY_INFO!K105=2,0.2*COUNTRY_INFO!G105/(0.5*COUNTRY_INFO!F105+0.2*COUNTRY_INFO!G105),IF(COUNTRY_INFO!K105=3,COUNTRY_INFO!G105/(COUNTRY_INFO!F105+COUNTRY_INFO!G105)))),0)","v":0},{"$f":"MAX(COUNTRY_INFO!D105*AK105*PROFILE!$G$7,COUNTRY_INFO!D105*AL105*PROFILE!$G$7)","v":641.16995614088091},{"$f":"MAX(COUNTRY_INFO!D105*AK105*PROFILE!$G$8,COUNTRY_INFO!D105*AL105*PROFILE!$G$8,COUNTRY_INFO!D105*AM105*PROFILE!$G$8)","v":1925.0491576951172},{"$f":"MAX(COUNTRY_INFO!D105*AK105*PROFILE!$G$9,COUNTRY_INFO!D105*AL105*PROFILE!$G$9,COUNTRY_INFO!D105*AM105*PROFILE!$G$9,IF(AND(DISTRICT!Z105<>\"Inconnu\",Z105<>\"Non requis\"),COUNTRY_INFO!O105*DISTRICT!AN105,0))","v":3708.2528089317334},{"$f":"MAX(COUNTRY_INFO!D105*AK105*PROFILE!$G$10,COUNTRY_INFO!D105*AL105*PROFILE!$G$10,IF(AND(DISTRICT!Z105<>\"Inconnu\",Z105<>\"Non requis\"),COUNTRY_INFO!O105*DISTRICT!AO105,0))","v":8199.5280772322676},14474,{"$f":"IF(COUNTIFS(AK105:AN105,\">0\")=0,0, IF(COUNTIFS(AK105:AN105,\">0\")<=IF(AND(OR(D105>=0,D105=\"Non requis\",D105=\"Inconnu\",D105=\"Interrompu\"),D105>0,H105>0),1,0)+IF(AND(OR(J105>=0,J105=\"Non requis\",J105=\"Inconnu\",J105=\"Interrompu\"),J105>0,N105>0),1,0)+IF(AND(OR(P105>=0,P105=\"Non requis\",P105=\"Inconnu\"),P105>0,X105>0),1,0)+IF(AND(OR(Z105>=0,Z105=\"Non requis\",Z105=\"Inconnu\"),Z105>0,AH105>0),1,0),\"Y\",0))","v":"Y"},{"$f":"MAX('MDA2'!J105,'T1'!L105,'T2'!J105,T3_R1!K105,T3_R2!K105)","v":0},{"$f":"MAX('MDA1'!K105,'MDA2'!K105,'MDA3'!I105,'MDA3'!L105,'T1'!M105,'T2'!K105,T3_R1!L105,T3_R2!L105)","v":5821},{"$f":"MAX('MDA1'!L105,'MDA2'!L105,'MDA3'!J105,'MDA3'!M105,'T1'!N105,'T2'!L105,T3_R1!M105,T3_R2!M105)","v":5838},11659,{"$f":"MAX('MDA2'!J105,T105)","v":0},{"$f":"MAX('MDA1'!K105,'MDA2'!K105,'MDA3'!I105,'MDA3'!L105,V105,AD105)","v":5821},{"$f":"MAX('MDA1'!L105,'MDA2'!L105,'MDA3'!J105,'MDA3'!M105,AF105)","v":5838},{"$f":"IF(AT105<SUM(AZ105:BB105), AT105,SUM(AZ105:BB105))","v":11659},{"$f":"IF(AT105<>0,BC105/AT105*100,0)","v":80.551333425452526}]
[{"$f":"IF(COUNTRY_INFO!A106=0,\" \",COUNTRY_INFO!A106)","v":"Guinea Bissau"},{"$f":"IF(COUNTRY_INFO!B106=0,\" \",COUNTRY_INFO!B106)","v":"Quinara"},{"$f":"IF(COUNTRY_INFO!C106=0,\" \",COUNTRY_INFO!C106)","v":"TITE"},{"$f":"COUNTRY_INFO!L106","v":11586},4486,4114,{"$f":"MAX('MDA1'!M106,'MDA2'!M106)","v":8600},{"$f":"IF(AND(COUNTRY_INFO!H106>0,COUNTRY_INFO!H106<4),IF(D106>MAX('MDA1'!M106,'MDA2'!M106),MAX('MDA1'!M106,'MDA2'!M106),D106),0)","v":8600},{"$f":"IF(AND(COUNTRY_INFO!H106>0,COUNTRY_INFO!H106<4), IF(G106/D106*100<>0, IF(G106/D106*100>100,100,G106/D106*100), \"-\"),0)","v":74.227515967547049},{"$f":"COUNTRY_INFO!M106","v":"Inconnu"},null,null,{"$f":"MAX('MDA1'!M106,MAX('MDA3'!I106,'MDA3'!L106)+MAX('MDA3'!J106,'MDA3'!M106))","v":8600},{"$f":"IF(AND(COUNTRY_INFO!I106>0,COUNTRY_INFO!I106<4),IF(J106>MAX('MDA1'!M106,MAX('MDA3'!I106,'MDA3'!L106)+MAX('MDA3'!J106,'MDA3'!M106)),MAX('MDA1'!M106,MAX('MDA3'!I106,'MDA3'!L106)+MAX('MDA3'!J106,'MDA3'!M106)),J106),0)","v":0},{"$f":"IF(AND(COUNTRY_INFO!I106>0,COUNTRY_INFO!I106<4), IF(M106/J106*100<>0, IF(M106/J106*100>100,100,M106/J106*100), \"-\"),0)","v":0},{"$f":"COUNTRY_INFO!N106","v":4509},null,null,{"$f":"SUM(MAX('MDA2'!J106, 'T1'!L106, MAX(T3_R1!K106, T3_R2!K106)), MAX('MDA1'!K106, 'MDA2'!K106, 'T1'!M106, MAX(T3_R1!L106, T3_R2!L106)), MAX('MDA1'!L106, 'MDA2'!L106, 'T1'!N106, MAX(T3_R1!M106, T3_R2!M106)))","v":8600},{"$f":"IF(AND(COUNTRY_INFO!J106>1,COUNTRY_INFO!J106<4),IF(COUNTRY_INFO!E106>MAX('MDA2'!J106,'T1'!L106,MAX(T3_R1!K106,T3_R2!K106)),MAX('MDA2'!J106,'T1'!L106,MAX(T3_R1!K106,T3_R2!K106)),COUNTRY_INFO!E106),0)","v":0},{"$f":"IF(AND(COUNTRY_INFO!J106>1,COUNTRY_INFO!J106<4), IF(T106/COUNTRY_INFO!E106*100<>0, IF(T106/COUNTRY_INFO!E106*100>100,100,T106/COUNTRY_INFO!E106*100), \"-\"),0)","v":"-"},{"$f":"IF(AND(COUNTRY_INFO!J106>1,COUNTRY_INFO!J106<4),IF(COUNTRY_INFO!F106>MAX('MDA1'!K106,'MDA2'!K106,'T1'!M106,MAX(T3_R1!L106,T3_R2!L106)),MAX('MDA1'!K106,'MDA2'!K106,'T1'!M106,MAX(T3_R1!L106,T3_R2!L106)),COUNTRY_INFO!F106),0)","v":2968},{"$f":"IF(AND(COUNTRY_INFO!J106>1,COUNTRY_INFO!J106<4), IF(V106/COUNTRY_INFO!F106*100<>0, IF(V106/COUNTRY_INFO!F106*100>100,100,V106/COUNTRY_INFO!F106*100), \"-\"),0)","v":100},2968,{"$f":"IF(AND(COUNTRY_INFO!J106>1,COUNTRY_INFO!J106<4), IF(S106/P106*100<>0, IF(X106/P106*100>100,100,X106/P106*100), \"-\"),0)","v":65.823907740075398},{"$f":"COUNTRY_INFO!O106","v":0},null,null,{"$f":"MAX('T1'!L106,'T2'!J106)+MAX('T1'!M106,'T2'!K106)+MAX('T1'!N106,'T2'!L106)","v":0},{"$f":"IF(COUNTRY_INFO!K106=1,IF(COUNTRY_INFO!F106*0.33>MAX('T1'!M106,'T2'!K106),MAX('T1'!M106,'T2'!K106),COUNTRY_INFO!F106*0.33),IF(COUNTRY_INFO!K106=2,IF(COUNTRY_INFO!F106*0.5>MAX('T1'!M106,'T2'!K106),MAX('T1'!M106,'T2'!K106),COUNTRY_INFO!F106*0.5),IF(COUNTRY_INFO!K106=3,IF(COUNTRY_INFO!F106>MAX('T1'!M106,'T2'!K106),MAX('T1'!M106,'T2'!K106),COUNTRY_INFO!F106),0)))","v":0},{"$f":"IF(AND(COUNTRY_INFO!K106>0,COUNTRY_INFO!K106<4),IF(Z106>0,IF(COUNTRY_INFO!K106=1, AD106/(COUNTRY_INFO!F106*0.33)*100, IF(COUNTRY_INFO!K106=2, AD106/(COUNTRY_INFO!F106*0.5)*100, IF(COUNTRY_INFO!K106=3, AD106/COUNTRY_INFO!F106*100))),\"-\"),0)","v":0},{"$f":"IF(COUNTRY_INFO!K106=2,IF(COUNTRY_INFO!G106*0.2>MAX('T1'!N106,'T2'!L106),MAX('T1'!N106,'T2'!L106),COUNTRY_INFO!G106*0.2),IF(COUNTRY_INFO!K106=3,IF(COUNTRY_INFO!G106>MAX('T1'!N106,'T2'!L106),MAX('T1'!N106,'T2'!L106),COUNTRY_INFO!G106),0))","v":0},{"$f":"IF(AND(COUNTRY_INFO!K106>0,COUNTRY_INFO!K106<4),IF(Z106>0,IF(COUNTRY_INFO!K106=1, 0, IF(COUNTRY_INFO!K106=2, AF106/(COUNTRY_INFO!G106*0.2)*100, IF(COUNTRY_INFO!K106=3, AF106/COUNTRY_INFO!G106*100))),\"-\"),0)","v":0},0,{"$f":"IF(AND(COUNTRY_INFO!K106>0,COUNTRY_INFO!K106<4), IF(AC106/Z106*100<>0, IF(AH106/Z106*100>100,100,AH106/Z106*100), \"-\"),0)","v":0},null,{"$f":"IF(AND(D106<>0, D106<>\"Inconnu\",D106<>\"Interrompu\",D106<>\"Non requis\"),D106/COUNTRY_INFO!D106, 0)","v":1},{"$f":"IF(AND(J106<>0,J106<>\"Inconnu\",J106<>\"Interrompu\",J106<>\"Non requis\"),J106/COUNTRY_INFO!D106, 0)","v":0},{"$f":"IF(AND(P106<>0,P106<>\"Inconnu\",P106<>\"Non requis\"),P106/(COUNTRY_INFO!E106+COUNTRY_INFO!F106), 0)","v":1},{"$f":"IF(AND(Z106<>0,Z106<>\"Inconnu\",Z106<>\"Non requis\"),IF(COUNTRY_INFO!K106=1,1,IF(COUNTRY_INFO!K106=2,0.5*COUNTRY_INFO!F106/(0.5*COUNTRY_INFO!F106+0.2*COUNTRY_INFO!G106),IF(COUNTRY_INFO!K106=3,COUNTRY_INFO!F106/(COUNTRY_INFO!F106+COUNTRY_INFO!G106)))),0)","v":0},{"$f":"IF(AND(Z106<>0,Z106<>\"Inconnu\",Z106<>\"Non requis\"),IF(COUNTRY_INFO!K106=1,0,IF(COUNTRY_INFO!K106=2,0.2*COUNTRY_INFO!G106/(0.5*COUNTRY_INFO!F106+0.2*COUNTRY_INFO!G106),IF(COUNTRY_INFO!K106=3,COUNTRY_INFO!G106/(COUNTRY_INFO!F106+COUNTRY_INFO!G106)))),0)","v":0},{"$f":"MAX(COUNTRY_INFO!D106*AK106*PROFILE!$G$7,COUNTRY_INFO!D106*AL106*PROFILE!$G$7)","v":513.23719164351564},{"$f":"MAX(COUNTRY_INFO!D106*AK106*PROFILE!$G$8,COUNTRY_INFO!D106*AL106*PROFILE!$G$8,COUNTRY_INFO!D106*AM106*PROFILE!$G$8)","v":1540.9437295188357},{"$f":"MAX(COUNTRY_INFO!D106*AK106*PROFILE!$G$9,COUNTRY_INFO!D106*AL106*PROFILE!$G$9,COUNTRY_INFO!D106*AM106*PROFILE!$G$9,IF(AND(DISTRICT!Z106<>\"Inconnu\",Z106<>\"Non requis\"),COUNTRY_INFO!O106*DISTRICT!AN106,0))","v":2968.3444137268939},{"$f":"MAX(COUNTRY_INFO!D106*AK106*PROFILE!$G$10,COUNTRY_INFO!D106*AL106*PROFILE!$G$10,IF(AND(DISTRICT!Z106<>\"Inconnu\",Z106<>\"Non requis\"),COUNTRY_INFO!O106*DISTRICT!AO106,0))","v":6563.4746651107544},11586,"Y",{"$f":"MAX('MDA2'!J106,'T1'!L106,'T2'!J106,T3_R1!K106,T3_R2!K106)","v":0},{"$f":"MAX('MDA1'!K106,'MDA2'!K106,'MDA3'!I106,'MDA3'!L106,'T1'!M106,'T2'!K106,T3_R1!L106,T3_R2!L106)","v":4486},{"$f":"MAX('MDA1'!L106,'MDA2'!L106,'MDA3'!J106,'MDA3'!M106,'T1'!N106,'T2'!L106,T3_R1!M106,T3_R2!M106)","v":4114},8600,{"$f":"MAX('MDA2'!J106,T106)","v":0},{"$f":"MAX('MDA1'!K106,'MDA2'!K106,'MDA3'!I106,'MDA3'!L106,V106,AD106)","v":4486},{"$f":"MAX('MDA1'!L106,'MDA2'!L106,'MDA3'!J106,'MDA3'!M106,AF106)","v":4114},8600,74.227515967547049]
[{"$f":"IF(COUNTRY_INFO!A107=0,\" \",COUNTRY_INFO!A107)","v":"Guinea Bissau"},{"$f":"IF(COUNTRY_INFO!B107=0,\" \",COUNTRY_INFO!B107)","v":"Cacheu"},{"$f":"IF(COUNTRY_INFO!C107=0,\" \",COUNTRY_INFO!C107)","v":"Bará"},{"$f":"COUNTRY_INFO!L107","v":6106},null,null,{"$f":"MAX('MDA1'!M107,'MDA2'!M107)","v":0},{"$f":"IF(AND(COUNTRY_INFO!H107>0,COUNTRY_INFO!H107<4),IF(D107>MAX('MDA1'!M107,'MDA2'!M107),MAX('MDA1'!M107,'MDA2'!M107),D107),0)","v":0},{"$f":"IF(AND(COUNTRY_INFO!H107>0,COUNTRY_INFO!H107<4), IF(G107/D107*100<>0, IF(G107/D107*100>100,100,G107/D107*100), \"-\"),0)","v":"-"},{"$f":"COUNTRY_INFO!M107","v":"Inconnu"},null,null,{"$f":"MAX('MDA1'!M107,MAX('MDA3'!I107,'MDA3'!L107)+MAX('MDA3'!J107,'MDA3'!M107))","v":0},{"$f":"IF(AND(COUNTRY_INFO!I107>0,COUNTRY_INFO!I107<4),IF(J107>MAX('MDA1'!M107,MAX('MDA3'!I107,'MDA3'!L107)+MAX('MDA3'!J107,'MDA3'!M107)),MAX('MDA1'!M107,MAX('MDA3'!I107,'MDA3'!L107)+MAX('MDA3'!J107,'MDA3'!M107)),J107),0)","v":0},{"$f":"IF(AND(COUNTRY_INFO!I107>0,COUNTRY_INFO!I107<4), IF(M107/J107*100<>0, IF(M107/J107*100>100,100,M107/J107*100), \"-\"),0)","v":0},{"$f":"COUNTRY_INFO!N107","v":2376},null,null,{"$f":"SUM(MAX('MDA2'!J107, 'T1'!L107, MAX(T3_R1!K107, T3_R2!K107)), MAX('MDA1'!K107, 'MDA2'!K107, 'T1'!M107, MAX(T3_R1!L107, T3_R2!L107)), MAX('MDA1'!L107, 'MDA2'!L107, 'T1'!N107, MAX(T3_R1!M107, T3_R2!M107)))","v":0},{"$f":"IF(AND(COUNTRY_INFO!J107>1,COUNTRY_INFO!J107<4),IF(COUNTRY_INFO!E107>MAX('MDA2'!J107,'T1'!L107,MAX(T3_R1!K107,T3_R2!K107)),MAX('MDA2'!J107,'T1'!L107,MAX(T3_R1!K107,T3_R2!K107)),COUNTRY_INFO!E107),0)","v":0},{"$f":"IF(AND(COUNTRY_INFO!J107>1,COUNTRY_INFO!J107<4), IF(T107/COUNTRY_INFO!E107*100<>0, IF(T107/COUNTRY_INFO!E107*100>100,100,T107/COUNTRY_INFO!E107*100), \"-\"),0)","v":"-"},{"$f":"IF(AND(COUNTRY_INFO!J107>1,COUNTRY_INFO!J107<4),IF(COUNTRY_INFO!F107>MAX('MDA1'!K107,'MDA2'!K107,'T1'!M107,MAX(T3_R1!L107,T3_R2!L107)),MAX('MDA1'!K107,'MDA2'!K107,'T1'!M107,MAX(T3_R1!L107,T3_R2!L107)),COUNTRY_INFO!F107),0)","v":0},{"$f":"IF(AND(COUNTRY_INFO!J107>1,COUNTRY_INFO!J107<4), IF(V107/COUNTRY_INFO!F107*100<>0, IF(V107/COUNTRY_INFO!F107*100>100,100,V107/COUNTRY_INFO!F107*100), \"-\"),0)","v":"-"},0,{"$f":"IF(AND(COUNTRY_INFO!J107>1,COUNTRY_INFO!J107<4), IF(S107/P107*100<>0, IF(X107/P107*100>100,100,X107/P107*100), \"-\"),0)","v":"-"},{"$f":"COUNTRY_INFO!O107","v":0},null,null,{"$f":"MAX('T1'!L107,'T2'!J107)+MAX('T1'!M107,'T2'!K107)+MAX('T1'!N107,'T2'!L107)","v":0},{"$f":"IF(COUNTRY_INFO!K107=1,IF(COUNTRY_INFO!F107*0.33>MAX('T1'!M107,'T2'!K107),MAX('T1'!M107,'T2'!K107),COUNTRY_INFO!F107*0.33),IF(COUNTRY_INFO!K107=2,IF(COUNTRY_INFO!F107*0.5>MAX('T1'!M107,'T2'!K107),MAX('T1'!M107,'T2'!K107),COUNTRY_INFO!F107*0.5),IF(COUNTRY_INFO!K107=3,IF(COUNTRY_INFO!F107>MAX('T1'!M107,'T2'!K107),MAX('T1'!M107,'T2'!K107),COUNTRY_INFO!F107),0)))","v":0},{"$f":"IF(AND(COUNTRY_INFO!K107>0,COUNTRY_INFO!K107<4),IF(Z107>0,IF(COUNTRY_INFO!K107=1, AD107/(COUNTRY_INFO!F107*0.33)*100, IF(COUNTRY_INFO!K107=2, AD107/(COUNTRY_INFO!F107*0.5)*100, IF(COUNTRY_INFO!K107=3, AD107/COUNTRY_INFO!F107*100))),\"-\"),0)","v":0},{"$f":"IF(COUNTRY_INFO!K107=2,IF(COUNTRY_INFO!G107*0.2>MAX('T1'!N107,'T2'!L107),MAX('T1'!N107,'T2'!L107),COUNTRY_INFO!G107*0.2),IF(COUNTRY_INFO!K107=3,IF(COUNTRY_INFO!G107>MAX('T1'!N107,'T2'!L107),MAX('T1'!N107,'T2'!L107),COUNTRY_INFO!G107),0))","v":0},{"$f":"IF(AND(COUNTRY_INFO!K107>0,COUNTRY_INFO!K107<4),IF(Z107>0,IF(COUNTRY_INFO!K107=1, 0, IF(COUNTRY_INFO!K107=2, AF107/(COUNTRY_INFO!G107*0.2)*100, IF(COUNTRY_INFO!K107=3, AF107/COUNTRY_INFO!G107*100))),\"-\"),0)","v":0},0,{"$f":"IF(AND(COUNTRY_INFO!K107>0,COUNTRY_INFO!K107<4), IF(AC107/Z107*100<>0, IF(AH107/Z107*100>100,100,AH107/Z107*100), \"-\"),0)","v":0},null,{"$f":"IF(AND(D107<>0, D107<>\"Inconnu\",D107<>\"Interrompu\",D107<>\"Non requis\"),D107/COUNTRY_INFO!D107, 0)","v":1},{"$f":"IF(AND(J107<>0,J107<>\"Inconnu\",J107<>\"Interrompu\",J107<>\"Non requis\"),J107/COUNTRY_INFO!D107, 0)","v":0},{"$f":"IF(AND(P107<>0,P107<>\"Inconnu\",P107<>\"Non requis\"),P107/(COUNTRY_INFO!E107+COUNTRY_INFO!F107), 0)","v":1},{"$f":"IF(AND(Z107<>0,Z107<>\"Inconnu\",Z107<>\"Non requis\"),IF(COUNTRY_INFO!K107=1,1,IF(COUNTRY_INFO!K107=2,0.5*COUNTRY_INFO!F107/(0.5*COUNTRY_INFO!F107+0.2*COUNTRY_INFO!G107),IF(COUNTRY_INFO!K107=3,COUNTRY_INFO!F107/(COUNTRY_INFO!F107+COUNTRY_INFO!G107)))),0)","v":0},{"$f":"IF(AND(Z107<>0,Z107<>\"Inconnu\",Z107<>\"Non requis\"),IF(COUNTRY_INFO!K107=1,0,IF(COUNTRY_INFO!K107=2,0.2*COUNTRY_INFO!G107/(0.5*COUNTRY_INFO!F107+0.2*COUNTRY_INFO!G107),IF(COUNTRY_INFO!K107=3,COUNTRY_INFO!G107/(COUNTRY_INFO!F107+COUNTRY_INFO!G107)))),0)","v":0},{"$f":"MAX(COUNTRY_INFO!D107*AK107*PROFILE!$G$7,COUNTRY_INFO!D107*AL107*PROFILE!$G$7)","v":270.48388504879222},{"$f":"MAX(COUNTRY_INFO!D107*AK107*PROFILE!$G$8,COUNTRY_INFO!D107*AL107*PROFILE!$G$8,COUNTRY_INFO!D107*AM107*PROFILE!$G$8)","v":812.10101954445111},{"$f":"MAX(COUNTRY_INFO!D107*AK107*PROFILE!$G$9,COUNTRY_INFO!D107*AL107*PROFILE!$G$9,COUNTRY_INFO!D107*AM107*PROFILE!$G$9,IF(AND(DISTRICT!Z107<>\"Inconnu\",Z107<>\"Non requis\"),COUNTRY_INFO!O107*DISTRICT!AN107,0))","v":1564.3631098063538},{"$f":"MAX(COUNTRY_INFO!D107*AK107*PROFILE!$G$10,COUNTRY_INFO!D107*AL107*PROFILE!$G$10,IF(AND(DISTRICT!Z107<>\"Inconnu\",Z107<>\"Non requis\"),COUNTRY_INFO!O107*DISTRICT!AO107,0))","v":3459.0519856004025},6106,0,{"$f":"MAX('MDA2'!J107,'T1'!L107,'T2'!J107,T3_R1!K107,T3_R2!K107)","v":0},{"$f":"MAX('MDA1'!K107,'MDA2'!K107,'MDA3'!I107,'MDA3'!L107,'T1'!M107,'T2'!K107,T3_R1!L107,T3_R2!L107)","v":0},{"$f":"MAX('MDA1'!L107,'MDA2'!L107,'MDA3'!J107,'MDA3'!M107,'T1'!N107,'T2'!L107,T3_R1!M107,T3_R2!M107)","v":0},0,{"$f":"MAX('MDA2'!J107,T107)","v":0},{"$f":"MAX('MDA1'!K107,'MDA2'!K107,'MDA3'!I107,'MDA3'!L107,V107,AD107)","v":0},{"$f":"MAX('MDA1'!L107,'MDA2'!L107,'MDA3'!J107,'MDA3'!M107,AF107)","v":0},0,0]
[{"$f":"IF(COUNTRY_INFO!A108=0,\" \",COUNTRY_INFO!A108)","v":"Guinea Bissau"},{"$f":"IF(COUNTRY_INFO!B108=0,\" \",COUNTRY_INFO!B108)","v":"Cacheu"},{"$f":"IF(COUNTRY_INFO!C108=0,\" \",COUNTRY_INFO!C108)","v":"Barro"},{"$f":"COUNTRY_INFO!L108","v":8926},null,null,{"$f":"MAX('MDA1'!M108,'MDA2'!M108)","v":0},{"$f":"IF(AND(COUNTRY_INFO!H108>0,COUNTRY_INFO!H108<4),IF(D108>MAX('MDA1'!M108,'MDA2'!M108),MAX('MDA1'!M108,'MDA2'!M108),D108),0)","v":0},{"$f":"IF(AND(COUNTRY_INFO!H108>0,COUNTRY_INFO!H108<4), IF(G108/D108*100<>0, IF(G108/D108*100>100,100,G108/D108*100), \"-\"),0)","v":"-"},{"$f":"COUNTRY_INFO!M108","v":"Inconnu"},null,null,{"$f":"MAX('MDA1'!M108,MAX('MDA3'!I108,'MDA3'!L108)+MAX('MDA3'!J108,'MDA3'!M108))","v":0},{"$f":"IF(AND(COUNTRY_INFO!I108>0,COUNTRY_INFO!I108<4),IF(J108>MAX('MDA1'!M108,MAX('MDA3'!I108,'MDA3'!L108)+MAX('MDA3'!J108,'MDA3'!M108)),MAX('MDA1'!M108,MAX('MDA3'!I108,'MDA3'!L108)+MAX('MDA3'!J108,'MDA3'!M108)),J108),0)","v":0},{"$f":"IF(AND(COUNTRY_INFO!I108>0,COUNTRY_INFO!I108<4), IF(M108/J108*100<>0, IF(M108/J108*100>100,100,M108/J108*100), \"-\"),0)","v":0},{"$f":"COUNTRY_INFO!N108","v":3474},null,null,{"$f":"SUM(MAX('MDA2'!J108, 'T1'!L108, MAX(T3_R1!K108, T3_R2!K108)), MAX('MDA1'!K108, 'MDA2'!K108, 'T1'!M108, MAX(T3_R1!L108, T3_R2!L108)), MAX('MDA1'!L108, 'MDA2'!L108, 'T1'!N108, MAX(T3_R1!M108, T3_R2!M108)))","v":0},{"$f":"IF(AND(COUNTRY_INFO!J108>1,COUNTRY_INFO!J108<4),IF(COUNTRY_INFO!E108>MAX('MDA2'!J108,'T1'!L108,MAX(T3_R1!K108,T3_R2!K108)),MAX('MDA2'!J108,'T1'!L108,MAX(T3_R1!K108,T3_R2!K108)),COUNTRY_INFO!E108),0)","v":0},{"$f":"IF(AND(COUNTRY_INFO!J108>1,COUNTRY_INFO!J108<4), IF(T108/COUNTRY_INFO!E108*100<>0, IF(T108/COUNTRY_INFO!E108*100>100,100,T108/COUNTRY_INFO!E108*100), \"-\"),0)","v":"-"},{"$f":"IF(AND(COUNTRY_INFO!J108>1,COUNTRY_INFO!J108<4),IF(COUNTRY_INFO!F108>MAX('MDA1'!K108,'MDA2'!K108,'T1'!M108,MAX(T3_R1!L108,T3_R2!L108)),MAX('MDA1'!K108,'MDA2'!K108,'T1'!M108,MAX(T3_R1!L108,T3_R2!L108)),COUNTRY_INFO!F108),0)","v":0},{"$f":"IF(AND(COUNTRY_INFO!J108>1,COUNTRY_INFO!J108<4), IF(V108/COUNTRY_INFO!F108*100<>0, IF(V108/COUNTRY_INFO!F108*100>100,100,V108/COUNTRY_INFO!F108*100), \"-\"),0)","v":"-"},0,{"$f":"IF(AND(COUNTRY_INFO!J108>1,COUNTRY_INFO!J108<4), IF(S108/P108*100<>0, IF(X108/P108*100>100,100,X108/P108*100), \"-\"),0)","v":"-"},{"$f":"COUNTRY_INFO!O108","v":0},null,null,{"$f":"MAX('T1'!L108,'T2'!J108)+MAX('T1'!M108,'T2'!K108)+MAX('T1'!N108,'T2'!L108)","v":0},{"$f":"IF(COUNTRY_INFO!K108=1,IF(COUNTRY_INFO!F108*0.33>MAX('T1'!M108,'T2'!K108),MAX('T1'!M108,'T2'!K108),COUNTRY_INFO!F108*0.33),IF(COUNTRY_INFO!K108=2,IF(COUNTRY_INFO!F108*0.5>MAX('T1'!M108,'T2'!K108),MAX('T1'!M108,'T2'!K108),COUNTRY_INFO!F108*0.5),IF(COUNTRY_INFO!K108=3,IF(COUNTRY_INFO!F108>MAX('T1'!M108,'T2'!K108),MAX('T1'!M108,'T2'!K108),COUNTRY_INFO!F108),0)))","v":0},{"$f":"IF(AND(COUNTRY_INFO!K108>0,COUNTRY_INFO!K108<4),IF(Z108>0,IF(COUNTRY_INFO!K108=1, AD108/(COUNTRY_INFO!F108*0.33)*100, IF(COUNTRY_INFO!K108=2, AD108/(COUNTRY_INFO!F108*0.5)*100, IF(COUNTRY_INFO!K108=3, AD108/COUNTRY_INFO!F108*100))),\"-\"),0)","v":0},{"$f":"IF(COUNTRY_INFO!K108=2,IF(COUNTRY_INFO!G108*0.2>MAX('T1'!N108,'T2'!L108),MAX('T1'!N108,'T2'!L108),COUNTRY_INFO!G108*0.2),IF(COUNTRY_INFO!K108=3,IF(COUNTRY_INFO!G108>MAX('T1'!N108,'T2'!L108),MAX('T1'!N108,'T2'!L108),COUNTRY_INFO!G108),0))","v":0},{"$f":"IF(AND(COUNTRY_INFO!K108>0,COUNTRY_INFO!K108<4),IF(Z108>0,IF(COUNTRY_INFO!K108=1, 0, IF(COUNTRY_INFO!K108=2, AF108/(COUNTRY_INFO!G108*0.2)*100, IF(COUNTRY_INFO!K108=3, AF108/COUNTRY_INFO!G108*100))),\"-\"),0)","v":0},0,{"$f":"IF(AND(COUNTRY_INFO!K108>0,COUNTRY_INFO!K108<4), IF(AC108/Z108*100<>0, IF(AH108/Z108*100>100,100,AH108/Z108*100), \"-\"),0)","v":0},null,{"$f":"IF(AND(D108<>0, D108<>\"Inconnu\",D108<>\"Interrompu\",D108<>\"Non requis\"),D108/COUNTRY_INFO!D108, 0)","v":1},{"$f":"IF(AND(J108<>0,J108<>\"Inconnu\",J108<>\"Interrompu\",J108<>\"Non requis\"),J108/COUNTRY_INFO!D108, 0)","v":0},{"$f":"IF(AND(P108<>0,P108<>\"Inconnu\",P108<>\"Non requis\"),P108/(COUNTRY_INFO!E108+COUNTRY_INFO!F108), 0)","v":1},{"$f":"IF(AND(Z108<>0,Z108<>\"Inconnu\",Z108<>\"Non requis\"),IF(COUNTRY_INFO!K108=1,1,IF(COUNTRY_INFO!K108=2,0.5*COUNTRY_INFO!F108/(0.5*COUNTRY_INFO!F108+0.2*COUNTRY_INFO!G108),IF(COUNTRY_INFO!K108=3,COUNTRY_INFO!F108/(COUNTRY_INFO!F108+COUNTRY_INFO!G108)))),0)","v":0},{"$f":"IF(AND(Z108<>0,Z108<>\"Inconnu\",Z108<>\"Non requis\"),IF(COUNTRY_INFO!K108=1,0,IF(COUNTRY_INFO!K108=2,0.2*COUNTRY_INFO!G108/(0.5*COUNTRY_INFO!F108+0.2*COUNTRY_INFO!G108),IF(COUNTRY_INFO!K108=3,COUNTRY_INFO!G108/(COUNTRY_INFO!F108+COUNTRY_INFO!G108)))),0)","v":0},{"$f":"MAX(COUNTRY_INFO!D108*AK108*PROFILE!$G$7,COUNTRY_INFO!D108*AL108*PROFILE!$G$7)","v":395.40438223804773},{"$f":"MAX(COUNTRY_INFO!D108*AK108*PROFILE!$G$8,COUNTRY_INFO!D108*AL108*PROFILE!$G$8,COUNTRY_INFO!D108*AM108*PROFILE!$G$8)","v":1187.1624140933131},{"$f":"MAX(COUNTRY_INFO!D108*AK108*PROFILE!$G$9,COUNTRY_INFO!D108*AL108*PROFILE!$G$9,COUNTRY_INFO!D108*AM108*PROFILE!$G$9,IF(AND(DISTRICT!Z108<>\"Inconnu\",Z108<>\"Non requis\"),COUNTRY_INFO!O108*DISTRICT!AN108,0))","v":2286.8498391961207},{"$f":"MAX(COUNTRY_INFO!D108*AK108*PROFILE!$G$10,COUNTRY_INFO!D108*AL108*PROFILE!$G$10,IF(AND(DISTRICT!Z108<>\"Inconnu\",Z108<>\"Non requis\"),COUNTRY_INFO!O108*DISTRICT!AO108,0))","v":5056.583364472518},8926,0,{"$f":"MAX('MDA2'!J108,'T1'!L108,'T2'!J108,T3_R1!K108,T3_R2!K108)","v":0},{"$f":"MAX('MDA1'!K108,'MDA2'!K108,'MDA3'!I108,'MDA3'!L108,'T1'!M108,'T2'!K108,T3_R1!L108,T3_R2!L108)","v":0},{"$f":"MAX('MDA1'!L108,'MDA2'!L108,'MDA3'!J108,'MDA3'!M108,'T1'!N108,'T2'!L108,T3_R1!M108,T3_R2!M108)","v":0},0,{"$f":"MAX('MDA2'!J108,T108)","v":0},{"$f":"MAX('MDA1'!K108,'MDA2'!K108,'MDA3'!I108,'MDA3'!L108,V108,AD108)","v":0},{"$f":"MAX('MDA1'!L108,'MDA2'!L108,'MDA3'!J108,'MDA3'!M108,AF108)","v":0},0,0]
[{"$f":"IF(COUNTRY_INFO!A109=0,\" \",COUNTRY_INFO!A109)","v":"Guinea Bissau"},{"$f":"IF(COUNTRY_INFO!B109=0,\" \",COUNTRY_INFO!B109)","v":"Cacheu"},{"$f":"IF(COUNTRY_INFO!C109=0,\" \",COUNTRY_INFO!C109)","v":"Batucar"},{"$f":"COUNTRY_INFO!L109","v":7272},null,null,{"$f":"MAX('MDA1'!M109,'MDA2'!M109)","v":0},{"$f":"IF(AND(COUNTRY_INFO!H109>0,COUNTRY_INFO!H109<4),IF(D109>MAX('MDA1'!M109,'MDA2'!M109),MAX('MDA1'!M109,'MDA2'!M109),D109),0)","v":0},{"$f":"IF(AND(COUNTRY_INFO!H109>0,COUNTRY_INFO!H109<4), IF(G109/D109*100<>0, IF(G109/D109*100>100,100,G109/D109*100), \"-\"),0)","v":"-"},{"$f":"COUNTRY_INFO!M109","v":"Inconnu"},null,null,{"$f":"MAX('MDA1'!M109,MAX('MDA3'!I109,'MDA3'!L109)+MAX('MDA3'!J109,'MDA3'!M109))","v":0},{"$f":"IF(AND(COUNTRY_INFO!I109>0,COUNTRY_INFO!I109<4),IF(J109>MAX('MDA1'!M109,MAX('MDA3'!I109,'MDA3'!L109)+MAX('MDA3'!J109,'MDA3'!M109)),MAX('MDA1'!M109,MAX('MDA3'!I109,'MDA3'!L109)+MAX('MDA3'!J109,'MDA3'!M109)),J109),0)","v":0},{"$f":"IF(AND(COUNTRY_INFO!I109>0,COUNTRY_INFO!I109<4), IF(M109/J109*100<>0, IF(M109/J109*100>100,100,M109/J109*100), \"-\"),0)","v":0},{"$f":"COUNTRY_INFO!N109","v":2830},null,null,{"$f":"SUM(MAX('MDA2'!J109, 'T1'!L109, MAX(T3_R1!K109, T3_R2!K109)), MAX('MDA1'!K109, 'MDA2'!K109, 'T1'!M109, MAX(T3_R1!L109, T3_R2!L109)), MAX('MDA1'!L109, 'MDA2'!L109, 'T1'!N109, MAX(T3_R1!M109, T3_R2!M109)))","v":0},{"$f":"IF(AND(COUNTRY_INFO!J109>1,COUNTRY_INFO!J109<4),IF(COUNTRY_INFO!E109>MAX('MDA2'!J109,'T1'!L109,MAX(T3_R1!K109,T3_R2!K109)),MAX('MDA2'!J109,'T1'!L109,MAX(T3_R1!K109,T3_R2!K109)),COUNTRY_INFO!E109),0)","v":0},{"$f":"IF(AND(COUNTRY_INFO!J109>1,COUNTRY_INFO!J109<4), IF(T109/COUNTRY_INFO!E109*100<>0, IF(T109/COUNTRY_INFO!E109*100>100,100,T109/COUNTRY_INFO!E109*100), \"-\"),0)","v":"-"},{"$f":"IF(AND(COUNTRY_INFO!J109>1,COUNTRY_INFO!J109<4),IF(COUNTRY_INFO!F109>MAX('MDA1'!K109,'MDA2'!K109,'T1'!M109,MAX(T3_R1!L109,T3_R2!L109)),MAX('MDA1'!K109,'MDA2'!K109,'T1'!M109,MAX(T3_R1!L109,T3_R2!L109)),COUNTRY_INFO!F109),0)","v":0},{"$f":"IF(AND(COUNTRY_INFO!J109>1,COUNTRY_INFO!J109<4), IF(V109/COUNTRY_INFO!F109*100<>0, IF(V109/COUNTRY_INFO!F109*100>100,100,V109/COUNTRY_INFO!F109*100), \"-\"),0)","v":"-"},0,{"$f":"IF(AND(COUNTRY_INFO!J109>1,COUNTRY_INFO!J109<4), IF(S109/P109*100<>0, IF(X109/P109*100>100,100,X109/P109*100), \"-\"),0)","v":"-"},{"$f":"COUNTRY_INFO!O109","v":0},null,null,{"$f":"MAX('T1'!L109,'T2'!J109)+MAX('T1'!M109,'T2'!K109)+MAX('T1'!N109,'T2'!L109)","v":0},{"$f":"IF(COUNTRY_INFO!K109=1,IF(COUNTRY_INFO!F109*0.33>MAX('T1'!M109,'T2'!K109),MAX('T1'!M109,'T2'!K109),COUNTRY_INFO!F109*0.33),IF(COUNTRY_INFO!K109=2,IF(COUNTRY_INFO!F109*0.5>MAX('T1'!M109,'T2'!K109),MAX('T1'!M109,'T2'!K109),COUNTRY_INFO!F109*0.5),IF(COUNTRY_INFO!K109=3,IF(COUNTRY_INFO!F109>MAX('T1'!M109,'T2'!K109),MAX('T1'!M109,'T2'!K109),COUNTRY_INFO!F109),0)))","v":0},{"$f":"IF(AND(COUNTRY_INFO!K109>0,COUNTRY_INFO!K109<4),IF(Z109>0,IF(COUNTRY_INFO!K109=1, AD109/(COUNTRY_INFO!F109*0.33)*100, IF(COUNTRY_INFO!K109=2, AD109/(COUNTRY_INFO!F109*0.5)*100, IF(COUNTRY_INFO!K109=3, AD109/COUNTRY_INFO!F109*100))),\"-\"),0)","v":0},{"$f":"IF(COUNTRY_INFO!K109=2,IF(COUNTRY_INFO!G109*0.2>MAX('T1'!N109,'T2'!L109),MAX('T1'!N109,'T2'!L109),COUNTRY_INFO!G109*0.2),IF(COUNTRY_INFO!K109=3,IF(COUNTRY_INFO!G109>MAX('T1'!N109,'T2'!L109),MAX('T1'!N109,'T2'!L109),COUNTRY_INFO!G109),0))","v":0},{"$f":"IF(AND(COUNTRY_INFO!K109>0,COUNTRY_INFO!K109<4),IF(Z109>0,IF(COUNTRY_INFO!K109=1, 0, IF(COUNTRY_INFO!K109=2, AF109/(COUNTRY_INFO!G109*0.2)*100, IF(COUNTRY_INFO!K109=3, AF109/COUNTRY_INFO!G109*100))),\"-\"),0)","v":0},0,{"$f":"IF(AND(COUNTRY_INFO!K109>0,COUNTRY_INFO!K109<4), IF(AC109/Z109*100<>0, IF(AH109/Z109*100>100,100,AH109/Z109*100), \"-\"),0)","v":0},null,{"$f":"IF(AND(D109<>0, D109<>\"Inconnu\",D109<>\"Interrompu\",D109<>\"Non requis\"),D109/COUNTRY_INFO!D109, 0)","v":1},{"$f":"IF(AND(J109<>0,J109<>\"Inconnu\",J109<>\"Interrompu\",J109<>\"Non requis\"),J109/COUNTRY_INFO!D109, 0)","v":0},{"$f":"IF(AND(P109<>0,P109<>\"Inconnu\",P109<>\"Non requis\"),P109/(COUNTRY_INFO!E109+COUNTRY_INFO!F109), 0)","v":1},{"$f":"IF(AND(Z109<>0,Z109<>\"Inconnu\",Z109<>\"Non requis\"),IF(COUNTRY_INFO!K109=1,1,IF(COUNTRY_INFO!K109=2,0.5*COUNTRY_INFO!F109/(0.5*COUNTRY_INFO!F109+0.2*COUNTRY_INFO!G109),IF(COUNTRY_INFO!K109=3,COUNTRY_INFO!F109/(COUNTRY_INFO!F109+COUNTRY_INFO!G109)))),0)","v":0},{"$f":"IF(AND(Z109<>0,Z109<>\"Inconnu\",Z109<>\"Non requis\"),IF(COUNTRY_INFO!K109=1,0,IF(COUNTRY_INFO!K109=2,0.2*COUNTRY_INFO!G109/(0.5*COUNTRY_INFO!F109+0.2*COUNTRY_INFO!G109),IF(COUNTRY_INFO!K109=3,COUNTRY_INFO!G109/(COUNTRY_INFO!F109+COUNTRY_INFO!G109)))),0)","v":0},{"$f":"MAX(COUNTRY_INFO!D109*AK109*PROFILE!$G$7,COUNTRY_INFO!D109*AL109*PROFILE!$G$7)","v":322.13540977314398},{"$f":"MAX(COUNTRY_INFO!D109*AK109*PROFILE!$G$8,COUNTRY_INFO!D109*AL109*PROFILE!$G$8,COUNTRY_INFO!D109*AM109*PROFILE!$G$8)","v":967.17959615578911},{"$f":"MAX(COUNTRY_INFO!D109*AK109*PROFILE!$G$9,COUNTRY_INFO!D109*AL109*PROFILE!$G$9,COUNTRY_INFO!D109*AM109*PROFILE!$G$9,IF(AND(DISTRICT!Z109<>\"Inconnu\",Z109<>\"Non requis\"),COUNTRY_INFO!O109*DISTRICT!AN109,0))","v":1863.0934383412716},{"$f":"MAX(COUNTRY_INFO!D109*AK109*PROFILE!$G$10,COUNTRY_INFO!D109*AL109*PROFILE!$G$10,IF(AND(DISTRICT!Z109<>\"Inconnu\",Z109<>\"Non requis\"),COUNTRY_INFO!O109*DISTRICT!AO109,0))","v":4119.5915557297949},7272,0,{"$f":"MAX('MDA2'!J109,'T1'!L109,'T2'!J109,T3_R1!K109,T3_R2!K109)","v":0},{"$f":"MAX('MDA1'!K109,'MDA2'!K109,'MDA3'!I109,'MDA3'!L109,'T1'!M109,'T2'!K109,T3_R1!L109,T3_R2!L109)","v":0},{"$f":"MAX('MDA1'!L109,'MDA2'!L109,'MDA3'!J109,'MDA3'!M109,'T1'!N109,'T2'!L109,T3_R1!M109,T3_R2!M109)","v":0},0,{"$f":"MAX('MDA2'!J109,T109)","v":0},{"$f":"MAX('MDA1'!K109,'MDA2'!K109,'MDA3'!I109,'MDA3'!L109,V109,AD109)","v":0},{"$f":"MAX('MDA1'!L109,'MDA2'!L109,'MDA3'!J109,'MDA3'!M109,AF109)","v":0},0,0]
[{"$f":"IF(COUNTRY_INFO!A110=0,\" \",COUNTRY_INFO!A110)","v":"Guinea Bissau"},{"$f":"IF(COUNTRY_INFO!B110=0,\" \",COUNTRY_INFO!B110)","v":"Cacheu"},{"$f":"IF(COUNTRY_INFO!C110=0,\" \",COUNTRY_INFO!C110)","v":"Begene"},{"$f":"COUNTRY_INFO!L110","v":16267},null,null,{"$f":"MAX('MDA1'!M110,'MDA2'!M110)","v":0},{"$f":"IF(AND(COUNTRY_INFO!H110>0,COUNTRY_INFO!H110<4),IF(D110>MAX('MDA1'!M110,'MDA2'!M110),MAX('MDA1'!M110,'MDA2'!M110),D110),0)","v":0},{"$f":"IF(AND(COUNTRY_INFO!H110>0,COUNTRY_INFO!H110<4), IF(G110/D110*100<>0, IF(G110/D110*100>100,100,G110/D110*100), \"-\"),0)","v":"-"},{"$f":"COUNTRY_INFO!M110","v":"Inconnu"},null,null,{"$f":"MAX('MDA1'!M110,MAX('MDA3'!I110,'MDA3'!L110)+MAX('MDA3'!J110,'MDA3'!M110))","v":0},{"$f":"IF(AND(COUNTRY_INFO!I110>0,COUNTRY_INFO!I110<4),IF(J110>MAX('MDA1'!M110,MAX('MDA3'!I110,'MDA3'!L110)+MAX('MDA3'!J110,'MDA3'!M110)),MAX('MDA1'!M110,MAX('MDA3'!I110,'MDA3'!L110)+MAX('MDA3'!J110,'MDA3'!M110)),J110),0)","v":0},{"$f":"IF(AND(COUNTRY_INFO!I110>0,COUNTRY_INFO!I110<4), IF(M110/J110*100<>0, IF(M110/J110*100>100,100,M110/J110*100), \"-\"),0)","v":0},{"$f":"COUNTRY_INFO!N110","v":6332},null,null,{"$f":"SUM(MAX('MDA2'!J110, 'T1'!L110, MAX(T3_R1!K110, T3_R2!K110)), MAX('MDA1'!K110, 'MDA2'!K110, 'T1'!M110, MAX(T3_R1!L110, T3_R2!L110)), MAX('MDA1'!L110, 'MDA2'!L110, 'T1'!N110, MAX(T3_R1!M110, T3_R2!M110)))","v":0},{"$f":"IF(AND(COUNTRY_INFO!J110>1,COUNTRY_INFO!J110<4),IF(COUNTRY_INFO!E110>MAX('MDA2'!J110,'T1'!L110,MAX(T3_R1!K110,T3_R2!K110)),MAX('MDA2'!J110,'T1'!L110,MAX(T3_R1!K110,T3_R2!K110)),COUNTRY_INFO!E110),0)","v":0},{"$f":"IF(AND(COUNTRY_INFO!J110>1,COUNTRY_INFO!J110<4), IF(T110/COUNTRY_INFO!E110*100<>0, IF(T110/COUNTRY_INFO!E110*100>100,100,T110/COUNTRY_INFO!E110*100), \"-\"),0)","v":"-"},{"$f":"IF(AND(COUNTRY_INFO!J110>1,COUNTRY_INFO!J110<4),IF(COUNTRY_INFO!F110>MAX('MDA1'!K110,'MDA2'!K110,'T1'!M110,MAX(T3_R1!L110,T3_R2!L110)),MAX('MDA1'!K110,'MDA2'!K110,'T1'!M110,MAX(T3_R1!L110,T3_R2!L110)),COUNTRY_INFO!F110),0)","v":0},{"$f":"IF(AND(COUNTRY_INFO!J110>1,COUNTRY_INFO!J110<4), IF(V110/COUNTRY_INFO!F110*100<>0, IF(V110/COUNTRY_INFO!F110*100>100,100,V110/COUNTRY_INFO!F110*100), \"-\"),0)","v":"-"},0,{"$f":"IF(AND(COUNTRY_INFO!J110>1,COUNTRY_INFO!J110<4), IF(S110/P110*100<>0, IF(X110/P110*100>100,100,X110/P110*100), \"-\"),0)","v":"-"},{"$f":"COUNTRY_INFO!O110","v":0},null,null,{"$f":"MAX('T1'!L110,'T2'!J110)+MAX('T1'!M110,'T2'!K110)+MAX('T1'!N110,'T2'!L110)","v":0},{"$f":"IF(COUNTRY_INFO!K110=1,IF(COUNTRY_INFO!F110*0.33>MAX('T1'!M110,'T2'!K110),MAX('T1'!M110,'T2'!K110),COUNTRY_INFO!F110*0.33),IF(COUNTRY_INFO!K110=2,IF(COUNTRY_INFO!F110*0.5>MAX('T1'!M110,'T2'!K110),MAX('T1'!M110,'T2'!K110),COUNTRY_INFO!F110*0.5),IF(COUNTRY_INFO!K110=3,IF(COUNTRY_INFO!F110>MAX('T1'!M110,'T2'!K110),MAX('T1'!M110,'T2'!K110),COUNTRY_INFO!F110),0)))","v":0},{"$f":"IF(AND(COUNTRY_INFO!K110>0,COUNTRY_INFO!K110<4),IF(Z110>0,IF(COUNTRY_INFO!K110=1, AD110/(COUNTRY_INFO!F110*0.33)*100, IF(COUNTRY_INFO!K110=2, AD110/(COUNTRY_INFO!F110*0.5)*100, IF(COUNTRY_INFO!K110=3, AD110/COUNTRY_INFO!F110*100))),\"-\"),0)","v":0},{"$f":"IF(COUNTRY_INFO!K110=2,IF(COUNTRY_INFO!G110*0.2>MAX('T1'!N110,'T2'!L110),MAX('T1'!N110,'T2'!L110),COUNTRY_INFO!G110*0.2),IF(COUNTRY_INFO!K110=3,IF(COUNTRY_INFO!G110>MAX('T1'!N110,'T2'!L110),MAX('T1'!N110,'T2'!L110),COUNTRY_INFO!G110),0))","v":0},{"$f":"IF(AND(COUNTRY_INFO!K110>0,COUNTRY_INFO!K110<4),IF(Z110>0,IF(COUNTRY_INFO!K110=1, 0, IF(COUNTRY_INFO!K110=2, AF110/(COUNTRY_INFO!G110*0.2)*100, IF(COUNTRY_INFO!K110=3, AF110/COUNTRY_INFO!G110*100))),\"-\"),0)","v":0},0,{"$f":"IF(AND(COUNTRY_INFO!K110>0,COUNTRY_INFO!K110<4), IF(AC110/Z110*100<>0, IF(AH110/Z110*100>100,100,AH110/Z110*100), \"-\"),0)","v":0},null,{"$f":"IF(AND(D110<>0, D110<>\"Inconnu\",D110<>\"Interrompu\",D110<>\"Non requis\"),D110/COUNTRY_INFO!D110, 0)","v":1},{"$f":"IF(AND(J110<>0,J110<>\"Inconnu\",J110<>\"Interrompu\",J110<>\"Non requis\"),J110/COUNTRY_INFO!D110, 0)","v":0},{"$f":"IF(AND(P110<>0,P110<>\"Inconnu\",P110<>\"Non requis\"),P110/(COUNTRY_INFO!E110+COUNTRY_INFO!F110), 0)","v":1},{"$f":"IF(AND(Z110<>0,Z110<>\"Inconnu\",Z110<>\"Non requis\"),IF(COUNTRY_INFO!K110=1,1,IF(COUNTRY_INFO!K110=2,0.5*COUNTRY_INFO!F110/(0.5*COUNTRY_INFO!F110+0.2*COUNTRY_INFO!G110),IF(COUNTRY_INFO!K110=3,COUNTRY_INFO!F110/(COUNTRY_INFO!F110+COUNTRY_INFO!G110)))),0)","v":0},{"$f":"IF(AND(Z110<>0,Z110<>\"Inconnu\",Z110<>\"Non requis\"),IF(COUNTRY_INFO!K110=1,0,IF(COUNTRY_INFO!K110=2,0.2*COUNTRY_INFO!G110/(0.5*COUNTRY_INFO!F110+0.2*COUNTRY_INFO!G110),IF(COUNTRY_INFO!K110=3,COUNTRY_INFO!G110/(COUNTRY_INFO!F110+COUNTRY_INFO!G110)))),0)","v":0},{"$f":"MAX(COUNTRY_INFO!D110*AK110*PROFILE!$G$7,COUNTRY_INFO!D110*AL110*PROFILE!$G$7)","v":720.59635736795008},{"$f":"MAX(COUNTRY_INFO!D110*AK110*PROFILE!$G$8,COUNTRY_INFO!D110*AL110*PROFILE!$G$8,COUNTRY_INFO!D110*AM110*PROFILE!$G$8)","v":2163.5190443710426},{"$f":"MAX(COUNTRY_INFO!D110*AK110*PROFILE!$G$9,COUNTRY_INFO!D110*AL110*PROFILE!$G$9,COUNTRY_INFO!D110*AM110*PROFILE!$G$9,IF(AND(DISTRICT!Z110<>\"Inconnu\",Z110<>\"Non requis\"),COUNTRY_INFO!O110*DISTRICT!AN110,0))","v":4167.6211443203338},{"$f":"MAX(COUNTRY_INFO!D110*AK110*PROFILE!$G$10,COUNTRY_INFO!D110*AL110*PROFILE!$G$10,IF(AND(DISTRICT!Z110<>\"Inconnu\",Z110<>\"Non requis\"),COUNTRY_INFO!O110*DISTRICT!AO110,0))","v":9215.2634539406736},16267,0,{"$f":"MAX('MDA2'!J110,'T1'!L110,'T2'!J110,T3_R1!K110,T3_R2!K110)","v":0},{"$f":"MAX('MDA1'!K110,'MDA2'!K110,'MDA3'!I110,'MDA3'!L110,'T1'!M110,'T2'!K110,T3_R1!L110,T3_R2!L110)","v":0},{"$f":"MAX('MDA1'!L110,'MDA2'!L110,'MDA3'!J110,'MDA3'!M110,'T1'!N110,'T2'!L110,T3_R1!M110,T3_R2!M110)","v":0},0,{"$f":"MAX('MDA2'!J110,T110)","v":0},{"$f":"MAX('MDA1'!K110,'MDA2'!K110,'MDA3'!I110,'MDA3'!L110,V110,AD110)","v":0},{"$f":"MAX('MDA1'!L110,'MDA2'!L110,'MDA3'!J110,'MDA3'!M110,AF110)","v":0},0,0]
[{"$f":"IF(COUNTRY_INFO!A111=0,\" \",COUNTRY_INFO!A111)","v":"Guinea Bissau"},{"$f":"IF(COUNTRY_INFO!B111=0,\" \",COUNTRY_INFO!B111)","v":"Cacheu"},{"$f":"IF(COUNTRY_INFO!C111=0,\" \",COUNTRY_INFO!C111)","v":"Bula"},{"$f":"COUNTRY_INFO!L111","v":23593},null,null,{"$f":"MAX('MDA1'!M111,'MDA2'!M111)","v":0},{"$f":"IF(AND(COUNTRY_INFO!H111>0,COUNTRY_INFO!H111<4),IF(D111>MAX('MDA1'!M111,'MDA2'!M111),MAX('MDA1'!M111,'MDA2'!M111),D111),0)","v":0},{"$f":"IF(AND(COUNTRY_INFO!H111>0,COUNTRY_INFO!H111<4), IF(G111/D111*100<>0, IF(G111/D111*100>100,100,G111/D111*100), \"-\"),0)","v":"-"},{"$f":"COUNTRY_INFO!M111","v":"Inconnu"},null,null,{"$f":"MAX('MDA1'!M111,MAX('MDA3'!I111,'MDA3'!L111)+MAX('MDA3'!J111,'MDA3'!M111))","v":0},{"$f":"IF(AND(COUNTRY_INFO!I111>0,COUNTRY_INFO!I111<4),IF(J111>MAX('MDA1'!M111,MAX('MDA3'!I111,'MDA3'!L111)+MAX('MDA3'!J111,'MDA3'!M111)),MAX('MDA1'!M111,MAX('MDA3'!I111,'MDA3'!L111)+MAX('MDA3'!J111,'MDA3'!M111)),J111),0)","v":0},{"$f":"IF(AND(COUNTRY_INFO!I111>0,COUNTRY_INFO!I111<4), IF(M111/J111*100<>0, IF(M111/J111*100>100,100,M111/J111*100), \"-\"),0)","v":0},{"$f":"COUNTRY_INFO!N111","v":0},null,null,{"$f":"SUM(MAX('MDA2'!J111, 'T1'!L111, MAX(T3_R1!K111, T3_R2!K111)), MAX('MDA1'!K111, 'MDA2'!K111, 'T1'!M111, MAX(T3_R1!L111, T3_R2!L111)), MAX('MDA1'!L111, 'MDA2'!L111, 'T1'!N111, MAX(T3_R1!M111, T3_R2!M111)))","v":0},{"$f":"IF(AND(COUNTRY_INFO!J111>1,COUNTRY_INFO!J111<4),IF(COUNTRY_INFO!E111>MAX('MDA2'!J111,'T1'!L111,MAX(T3_R1!K111,T3_R2!K111)),MAX('MDA2'!J111,'T1'!L111,MAX(T3_R1!K111,T3_R2!K111)),COUNTRY_INFO!E111),0)","v":0},{"$f":"IF(AND(COUNTRY_INFO!J111>1,COUNTRY_INFO!J111<4), IF(T111/COUNTRY_INFO!E111*100<>0, IF(T111/COUNTRY_INFO!E111*100>100,100,T111/COUNTRY_INFO!E111*100), \"-\"),0)","v":0},{"$f":"IF(AND(COUNTRY_INFO!J111>1,COUNTRY_INFO!J111<4),IF(COUNTRY_INFO!F111>MAX('MDA1'!K111,'MDA2'!K111,'T1'!M111,MAX(T3_R1!L111,T3_R2!L111)),MAX('MDA1'!K111,'MDA2'!K111,'T1'!M111,MAX(T3_R1!L111,T3_R2!L111)),COUNTRY_INFO!F111),0)","v":0},{"$f":"IF(AND(COUNTRY_INFO!J111>1,COUNTRY_INFO!J111<4), IF(V111/COUNTRY_INFO!F111*100<>0, IF(V111/COUNTRY_INFO!F111*100>100,100,V111/COUNTRY_INFO!F111*100), \"-\"),0)","v":0},0,{"$f":"IF(AND(COUNTRY_INFO!J111>1,COUNTRY_INFO!J111<4), IF(S111/P111*100<>0, IF(X111/P111*100>100,100,X111/P111*100), \"-\"),0)","v":0},{"$f":"COUNTRY_INFO!O111","v":0},null,null,{"$f":"MAX('T1'!L111,'T2'!J111)+MAX('T1'!M111,'T2'!K111)+MAX('T1'!N111,'T2'!L111)","v":0},{"$f":"IF(COUNTRY_INFO!K111=1,IF(COUNTRY_INFO!F111*0.33>MAX('T1'!M111,'T2'!K111),MAX('T1'!M111,'T2'!K111),COUNTRY_INFO!F111*0.33),IF(COUNTRY_INFO!K111=2,IF(COUNTRY_INFO!F111*0.5>MAX('T1'!M111,'T2'!K111),MAX('T1'!M111,'T2'!K111),COUNTRY_INFO!F111*0.5),IF(COUNTRY_INFO!K111=3,IF(COUNTRY_INFO!F111>MAX('T1'!M111,'T2'!K111),MAX('T1'!M111,'T2'!K111),COUNTRY_INFO!F111),0)))","v":0},{"$f":"IF(AND(COUNTRY_INFO!K111>0,COUNTRY_INFO!K111<4),IF(Z111>0,IF(COUNTRY_INFO!K111=1, AD111/(COUNTRY_INFO!F111*0.33)*100, IF(COUNTRY_INFO!K111=2, AD111/(COUNTRY_INFO!F111*0.5)*100, IF(COUNTRY_INFO!K111=3, AD111/COUNTRY_INFO!F111*100))),\"-\"),0)","v":0},{"$f":"IF(COUNTRY_INFO!K111=2,IF(COUNTRY_INFO!G111*0.2>MAX('T1'!N111,'T2'!L111),MAX('T1'!N111,'T2'!L111),COUNTRY_INFO!G111*0.2),IF(COUNTRY_INFO!K111=3,IF(COUNTRY_INFO!G111>MAX('T1'!N111,'T2'!L111),MAX('T1'!N111,'T2'!L111),COUNTRY_INFO!G111),0))","v":0},{"$f":"IF(AND(COUNTRY_INFO!K111>0,COUNTRY_INFO!K111<4),IF(Z111>0,IF(COUNTRY_INFO!K111=1, 0, IF(COUNTRY_INFO!K111=2, AF111/(COUNTRY_INFO!G111*0.2)*100, IF(COUNTRY_INFO!K111=3, AF111/COUNTRY_INFO!G111*100))),\"-\"),0)","v":0},0,{"$f":"IF(AND(COUNTRY_INFO!K111>0,COUNTRY_INFO!K111<4), IF(AC111/Z111*100<>0, IF(AH111/Z111*100>100,100,AH111/Z111*100), \"-\"),0)","v":0},null,{"$f":"IF(AND(D111<>0, D111<>\"Inconnu\",D111<>\"Interrompu\",D111<>\"Non requis\"),D111/COUNTRY_INFO!D111, 0)","v":1},{"$f":"IF(AND(J111<>0,J111<>\"Inconnu\",J111<>\"Interrompu\",J111<>\"Non requis\"),J111/COUNTRY_INFO!D111, 0)","v":0},{"$f":"IF(AND(P111<>0,P111<>\"Inconnu\",P111<>\"Non requis\"),P111/(COUNTRY_INFO!E111+COUNTRY_INFO!F111), 0)","v":0},{"$f":"IF(AND(Z111<>0,Z111<>\"Inconnu\",Z111<>\"Non requis\"),IF(COUNTRY_INFO!K111=1,1,IF(COUNTRY_INFO!K111=2,0.5*COUNTRY_INFO!F111/(0.5*COUNTRY_INFO!F111+0.2*COUNTRY_INFO!G111),IF(COUNTRY_INFO!K111=3,COUNTRY_INFO!F111/(COUNTRY_INFO!F111+COUNTRY_INFO!G111)))),0)","v":0},{"$f":"IF(AND(Z111<>0,Z111<>\"Inconnu\",Z111<>\"Non requis\"),IF(COUNTRY_INFO!K111=1,0,IF(COUNTRY_INFO!K111=2,0.2*COUNTRY_INFO!G111/(0.5*COUNTRY_INFO!F111+0.2*COUNTRY_INFO!G111),IF(COUNTRY_INFO!K111=3,COUNTRY_INFO!G111/(COUNTRY_INFO!F111+COUNTRY_INFO!G111)))),0)","v":0},{"$f":"MAX(COUNTRY_INFO!D111*AK111*PROFILE!$G$7,COUNTRY_INFO!D111*AL111*PROFILE!$G$7)","v":1045.1238617681224},{"$f":"MAX(COUNTRY_INFO!D111*AK111*PROFILE!$G$8,COUNTRY_INFO!D111*AL111*PROFILE!$G$8,COUNTRY_INFO!D111*AM111*PROFILE!$G$8)","v":3137.8806672309588},{"$f":"MAX(COUNTRY_INFO!D111*AK111*PROFILE!$G$9,COUNTRY_INFO!D111*AL111*PROFILE!$G$9,COUNTRY_INFO!D111*AM111*PROFILE!$G$9,IF(AND(DISTRICT!Z111<>\"Inconnu\",Z111<>\"Non requis\"),COUNTRY_INFO!O111*DISTRICT!AN111,0))","v":6044.5494349265155},{"$f":"MAX(COUNTRY_INFO!D111*AK111*PROFILE!$G$10,COUNTRY_INFO!D111*AL111*PROFILE!$G$10,IF(AND(DISTRICT!Z111<>\"Inconnu\",Z111<>\"Non requis\"),COUNTRY_INFO!O111*DISTRICT!AO111,0))","v":13365.446036074401},23593,0,{"$f":"MAX('MDA2'!J111,'T1'!L111,'T2'!J111,T3_R1!K111,T3_R2!K111)","v":0},{"$f":"MAX('MDA1'!K111,'MDA2'!K111,'MDA3'!I111,'MDA3'!L111,'T1'!M111,'T2'!K111,T3_R1!L111,T3_R2!L111)","v":0},{"$f":"MAX('MDA1'!L111,'MDA2'!L111,'MDA3'!J111,'MDA3'!M111,'T1'!N111,'T2'!L111,T3_R1!M111,T3_R2!M111)","v":0},0,{"$f":"MAX('MDA2'!J111,T111)","v":0},{"$f":"MAX('MDA1'!K111,'MDA2'!K111,'MDA3'!I111,'MDA3'!L111,V111,AD111)","v":0},{"$f":"MAX('MDA1'!L111,'MDA2'!L111,'MDA3'!J111,'MDA3'!M111,AF111)","v":0},0,0]
[{"$f":"IF(COUNTRY_INFO!A112=0,\" \",COUNTRY_INFO!A112)","v":"Guinea Bissau"},{"$f":"IF(COUNTRY_INFO!B112=0,\" \",COUNTRY_INFO!B112)","v":"Cacheu"},{"$f":"IF(COUNTRY_INFO!C112=0,\" \",COUNTRY_INFO!C112)","v":"Cacheu"},{"$f":"COUNTRY_INFO!L112","v":14195},null,null,{"$f":"MAX('MDA1'!M112,'MDA2'!M112)","v":0},{"$f":"IF(AND(COUNTRY_INFO!H112>0,COUNTRY_INFO!H112<4),IF(D112>MAX('MDA1'!M112,'MDA2'!M112),MAX('MDA1'!M112,'MDA2'!M112),D112),0)","v":0},{"$f":"IF(AND(COUNTRY_INFO!H112>0,COUNTRY_INFO!H112<4), IF(G112/D112*100<>0, IF(G112/D112*100>100,100,G112/D112*100), \"-\"),0)","v":"-"},{"$f":"COUNTRY_INFO!M112","v":"Inconnu"},null,null,{"$f":"MAX('MDA1'!M112,MAX('MDA3'!I112,'MDA3'!L112)+MAX('MDA3'!J112,'MDA3'!M112))","v":0},{"$f":"IF(AND(COUNTRY_INFO!I112>0,COUNTRY_INFO!I112<4),IF(J112>MAX('MDA1'!M112,MAX('MDA3'!I112,'MDA3'!L112)+MAX('MDA3'!J112,'MDA3'!M112)),MAX('MDA1'!M112,MAX('MDA3'!I112,'MDA3'!L112)+MAX('MDA3'!J112,'MDA3'!M112)),J112),0)","v":0},{"$f":"IF(AND(COUNTRY_INFO!I112>0,COUNTRY_INFO!I112<4), IF(M112/J112*100<>0, IF(M112/J112*100>100,100,M112/J112*100), \"-\"),0)","v":0},{"$f":"COUNTRY_INFO!N112","v":0},null,null,{"$f":"SUM(MAX('MDA2'!J112, 'T1'!L112, MAX(T3_R1!K112, T3_R2!K112)), MAX('MDA1'!K112, 'MDA2'!K112, 'T1'!M112, MAX(T3_R1!L112, T3_R2!L112)), MAX('MDA1'!L112, 'MDA2'!L112, 'T1'!N112, MAX(T3_R1!M112, T3_R2!M112)))","v":0},{"$f":"IF(AND(COUNTRY_INFO!J112>1,COUNTRY_INFO!J112<4),IF(COUNTRY_INFO!E112>MAX('MDA2'!J112,'T1'!L112,MAX(T3_R1!K112,T3_R2!K112)),MAX('MDA2'!J112,'T1'!L112,MAX(T3_R1!K112,T3_R2!K112)),COUNTRY_INFO!E112),0)","v":0},{"$f":"IF(AND(COUNTRY_INFO!J112>1,COUNTRY_INFO!J112<4), IF(T112/COUNTRY_INFO!E112*100<>0, IF(T112/COUNTRY_INFO!E112*100>100,100,T112/COUNTRY_INFO!E112*100), \"-\"),0)","v":0},{"$f":"IF(AND(COUNTRY_INFO!J112>1,COUNTRY_INFO!J112<4),IF(COUNTRY_INFO!F112>MAX('MDA1'!K112,'MDA2'!K112,'T1'!M112,MAX(T3_R1!L112,T3_R2!L112)),MAX('MDA1'!K112,'MDA2'!K112,'T1'!M112,MAX(T3_R1!L112,T3_R2!L112)),COUNTRY_INFO!F112),0)","v":0},{"$f":"IF(AND(COUNTRY_INFO!J112>1,COUNTRY_INFO!J112<4), IF(V112/COUNTRY_INFO!F112*100<>0, IF(V112/COUNTRY_INFO!F112*100>100,100,V112/COUNTRY_INFO!F112*100), \"-\"),0)","v":0},0,{"$f":"IF(AND(COUNTRY_INFO!J112>1,COUNTRY_INFO!J112<4), IF(S112/P112*100<>0, IF(X112/P112*100>100,100,X112/P112*100), \"-\"),0)","v":0},{"$f":"COUNTRY_INFO!O112","v":0},null,null,{"$f":"MAX('T1'!L112,'T2'!J112)+MAX('T1'!M112,'T2'!K112)+MAX('T1'!N112,'T2'!L112)","v":0},{"$f":"IF(COUNTRY_INFO!K112=1,IF(COUNTRY_INFO!F112*0.33>MAX('T1'!M112,'T2'!K112),MAX('T1'!M112,'T2'!K112),COUNTRY_INFO!F112*0.33),IF(COUNTRY_INFO!K112=2,IF(COUNTRY_INFO!F112*0.5>MAX('T1'!M112,'T2'!K112),MAX('T1'!M112,'T2'!K112),COUNTRY_INFO!F112*0.5),IF(COUNTRY_INFO!K112=3,IF(COUNTRY_INFO!F112>MAX('T1'!M112,'T2'!K112),MAX('T1'!M112,'T2'!K112),COUNTRY_INFO!F112),0)))","v":0},{"$f":"IF(AND(COUNTRY_INFO!K112>0,COUNTRY_INFO!K112<4),IF(Z112>0,IF(COUNTRY_INFO!K112=1, AD112/(COUNTRY_INFO!F112*0.33)*100, IF(COUNTRY_INFO!K112=2, AD112/(COUNTRY_INFO!F112*0.5)*100, IF(COUNTRY_INFO!K112=3, AD112/COUNTRY_INFO!F112*100))),\"-\"),0)","v":0},{"$f":"IF(COUNTRY_INFO!K112=2,IF(COUNTRY_INFO!G112*0.2>MAX('T1'!N112,'T2'!L112),MAX('T1'!N112,'T2'!L112),COUNTRY_INFO!G112*0.2),IF(COUNTRY_INFO!K112=3,IF(COUNTRY_INFO!G112>MAX('T1'!N112,'T2'!L112),MAX('T1'!N112,'T2'!L112),COUNTRY_INFO!G112),0))","v":0},{"$f":"IF(AND(COUNTRY_INFO!K112>0,COUNTRY_INFO!K112<4),IF(Z112>0,IF(COUNTRY_INFO!K112=1, 0, IF(COUNTRY_INFO!K112=2, AF112/(COUNTRY_INFO!G112*0.2)*100, IF(COUNTRY_INFO!K112=3, AF112/COUNTRY_INFO!G112*100))),\"-\"),0)","v":0},0,{"$f":"IF(AND(COUNTRY_INFO!K112>0,COUNTRY_INFO!K112<4), IF(AC112/Z112*100<>0, IF(AH112/Z112*100>100,100,AH112/Z112*100), \"-\"),0)","v":0},null,{"$f":"IF(AND(D112<>0, D112<>\"Inconnu\",D112<>\"Interrompu\",D112<>\"Non requis\"),D112/COUNTRY_INFO!D112, 0)","v":1},{"$f":"IF(AND(J112<>0,J112<>\"Inconnu\",J112<>\"Interrompu\",J112<>\"Non requis\"),J112/COUNTRY_INFO!D112, 0)","v":0},{"$f":"IF(AND(P112<>0,P112<>\"Inconnu\",P112<>\"Non requis\"),P112/(COUNTRY_INFO!E112+COUNTRY_INFO!F112), 0)","v":0},{"$f":"IF(AND(Z112<>0,Z112<>\"Inconnu\",Z112<>\"Non requis\"),IF(COUNTRY_INFO!K112=1,1,IF(COUNTRY_INFO!K112=2,0.5*COUNTRY_INFO!F112/(0.5*COUNTRY_INFO!F112+0.2*COUNTRY_INFO!G112),IF(COUNTRY_INFO!K112=3,COUNTRY_INFO!F112/(COUNTRY_INFO!F112+COUNTRY_INFO!G112)))),0)","v":0},{"$f":"IF(AND(Z112<>0,Z112<>\"Inconnu\",Z112<>\"Non requis\"),IF(COUNTRY_INFO!K112=1,0,IF(COUNTRY_INFO!K112=2,0.2*COUNTRY_INFO!G112/(0.5*COUNTRY_INFO!F112+0.2*COUNTRY_INFO!G112),IF(COUNTRY_INFO!K112=3,COUNTRY_INFO!G112/(COUNTRY_INFO!F112+COUNTRY_INFO!G112)))),0)","v":0},{"$f":"MAX(COUNTRY_INFO!D112*AK112*PROFILE!$G$7,COUNTRY_INFO!D112*AL112*PROFILE!$G$7)","v":628.81080056790142},{"$f":"MAX(COUNTRY_INFO!D112*AK112*PROFILE!$G$8,COUNTRY_INFO!D112*AL112*PROFILE!$G$8,COUNTRY_INFO!D112*AM112*PROFILE!$G$8)","v":1887.9420197237935},{"$f":"MAX(COUNTRY_INFO!D112*AK112*PROFILE!$G$9,COUNTRY_INFO!D112*AL112*PROFILE!$G$9,COUNTRY_INFO!D112*AM112*PROFILE!$G$9,IF(AND(DISTRICT!Z112<>\"Inconnu\",Z112<>\"Non requis\"),COUNTRY_INFO!O112*DISTRICT!AN112,0))","v":3636.7727388963626},{"$f":"MAX(COUNTRY_INFO!D112*AK112*PROFILE!$G$10,COUNTRY_INFO!D112*AL112*PROFILE!$G$10,IF(AND(DISTRICT!Z112<>\"Inconnu\",Z112<>\"Non requis\"),COUNTRY_INFO!O112*DISTRICT!AO112,0))","v":8041.4744408119413},14195,0,{"$f":"MAX('MDA2'!J112,'T1'!L112,'T2'!J112,T3_R1!K112,T3_R2!K112)","v":0},{"$f":"MAX('MDA1'!K112,'MDA2'!K112,'MDA3'!I112,'MDA3'!L112,'T1'!M112,'T2'!K112,T3_R1!L112,T3_R2!L112)","v":0},{"$f":"MAX('MDA1'!L112,'MDA2'!L112,'MDA3'!J112,'MDA3'!M112,'T1'!N112,'T2'!L112,T3_R1!M112,T3_R2!M112)","v":0},0,{"$f":"MAX('MDA2'!J112,T112)","v":0},{"$f":"MAX('MDA1'!K112,'MDA2'!K112,'MDA3'!I112,'MDA3'!L112,V112,AD112)","v":0},{"$f":"MAX('MDA1'!L112,'MDA2'!L112,'MDA3'!J112,'MDA3'!M112,AF112)","v":0},0,0]
[{"$f":"IF(COUNTRY_INFO!A113=0,\" \",COUNTRY_INFO!A113)","v":"Guinea Bissau"},{"$f":"IF(COUNTRY_INFO!B113=0,\" \",COUNTRY_INFO!B113)","v":"Cacheu"},{"$f":"IF(COUNTRY_INFO!C113=0,\" \",COUNTRY_INFO!C113)","v":"Caió"},{"$f":"COUNTRY_INFO!L113","v":10898},null,null,{"$f":"MAX('MDA1'!M113,'MDA2'!M113)","v":0},{"$f":"IF(AND(COUNTRY_INFO!H113>0,COUNTRY_INFO!H113<4),IF(D113>MAX('MDA1'!M113,'MDA2'!M113),MAX('MDA1'!M113,'MDA2'!M113),D113),0)","v":0},{"$f":"IF(AND(COUNTRY_INFO!H113>0,COUNTRY_INFO!H113<4), IF(G113/D113*100<>0, IF(G113/D113*100>100,100,G113/D113*100), \"-\"),0)","v":"-"},{"$f":"COUNTRY_INFO!M113","v":"Inconnu"},null,null,{"$f":"MAX('MDA1'!M113,MAX('MDA3'!I113,'MDA3'!L113)+MAX('MDA3'!J113,'MDA3'!M113))","v":0},{"$f":"IF(AND(COUNTRY_INFO!I113>0,COUNTRY_INFO!I113<4),IF(J113>MAX('MDA1'!M113,MAX('MDA3'!I113,'MDA3'!L113)+MAX('MDA3'!J113,'MDA3'!M113)),MAX('MDA1'!M113,MAX('MDA3'!I113,'MDA3'!L113)+MAX('MDA3'!J113,'MDA3'!M113)),J113),0)","v":0},{"$f":"IF(AND(COUNTRY_INFO!I113>0,COUNTRY_INFO!I113<4), IF(M113/J113*100<>0, IF(M113/J113*100>100,100,M113/J113*100), \"-\"),0)","v":0},{"$f":"COUNTRY_INFO!N113","v":0},null,null,{"$f":"SUM(MAX('MDA2'!J113, 'T1'!L113, MAX(T3_R1!K113, T3_R2!K113)), MAX('MDA1'!K113, 'MDA2'!K113, 'T1'!M113, MAX(T3_R1!L113, T3_R2!L113)), MAX('MDA1'!L113, 'MDA2'!L113, 'T1'!N113, MAX(T3_R1!M113, T3_R2!M113)))","v":0},{"$f":"IF(AND(COUNTRY_INFO!J113>1,COUNTRY_INFO!J113<4),IF(COUNTRY_INFO!E113>MAX('MDA2'!J113,'T1'!L113,MAX(T3_R1!K113,T3_R2!K113)),MAX('MDA2'!J113,'T1'!L113,MAX(T3_R1!K113,T3_R2!K113)),COUNTRY_INFO!E113),0)","v":0},{"$f":"IF(AND(COUNTRY_INFO!J113>1,COUNTRY_INFO!J113<4), IF(T113/COUNTRY_INFO!E113*100<>0, IF(T113/COUNTRY_INFO!E113*100>100,100,T113/COUNTRY_INFO!E113*100), \"-\"),0)","v":0},{"$f":"IF(AND(COUNTRY_INFO!J113>1,COUNTRY_INFO!J113<4),IF(COUNTRY_INFO!F113>MAX('MDA1'!K113,'MDA2'!K113,'T1'!M113,MAX(T3_R1!L113,T3_R2!L113)),MAX('MDA1'!K113,'MDA2'!K113,'T1'!M113,MAX(T3_R1!L113,T3_R2!L113)),COUNTRY_INFO!F113),0)","v":0},{"$f":"IF(AND(COUNTRY_INFO!J113>1,COUNTRY_INFO!J113<4), IF(V113/COUNTRY_INFO!F113*100<>0, IF(V113/COUNTRY_INFO!F113*100>100,100,V113/COUNTRY_INFO!F113*100), \"-\"),0)","v":0},0,{"$f":"IF(AND(COUNTRY_INFO!J113>1,COUNTRY_INFO!J113<4), IF(S113/P113*100<>0, IF(X113/P113*100>100,100,X113/P113*100), \"-\"),0)","v":0},{"$f":"COUNTRY_INFO!O113","v":0},null,null,{"$f":"MAX('T1'!L113,'T2'!J113)+MAX('T1'!M113,'T2'!K113)+MAX('T1'!N113,'T2'!L113)","v":0},{"$f":"IF(COUNTRY_INFO!K113=1,IF(COUNTRY_INFO!F113*0.33>MAX('T1'!M113,'T2'!K113),MAX('T1'!M113,'T2'!K113),COUNTRY_INFO!F113*0.33),IF(COUNTRY_INFO!K113=2,IF(COUNTRY_INFO!F113*0.5>MAX('T1'!M113,'T2'!K113),MAX('T1'!M113,'T2'!K113),COUNTRY_INFO!F113*0.5),IF(COUNTRY_INFO!K113=3,IF(COUNTRY_INFO!F113>MAX('T1'!M113,'T2'!K113),MAX('T1'!M113,'T2'!K113),COUNTRY_INFO!F113),0)))","v":0},{"$f":"IF(AND(COUNTRY_INFO!K113>0,COUNTRY_INFO!K113<4),IF(Z113>0,IF(COUNTRY_INFO!K113=1, AD113/(COUNTRY_INFO!F113*0.33)*100, IF(COUNTRY_INFO!K113=2, AD113/(COUNTRY_INFO!F113*0.5)*100, IF(COUNTRY_INFO!K113=3, AD113/COUNTRY_INFO!F113*100))),\"-\"),0)","v":0},{"$f":"IF(COUNTRY_INFO!K113=2,IF(COUNTRY_INFO!G113*0.2>MAX('T1'!N113,'T2'!L113),MAX('T1'!N113,'T2'!L113),COUNTRY_INFO!G113*0.2),IF(COUNTRY_INFO!K113=3,IF(COUNTRY_INFO!G113>MAX('T1'!N113,'T2'!L113),MAX('T1'!N113,'T2'!L113),COUNTRY_INFO!G113),0))","v":0},{"$f":"IF(AND(COUNTRY_INFO!K113>0,COUNTRY_INFO!K113<4),IF(Z113>0,IF(COUNTRY_INFO!K113=1, 0, IF(COUNTRY_INFO!K113=2, AF113/(COUNTRY_INFO!G113*0.2)*100, IF(COUNTRY_INFO!K113=3, AF113/COUNTRY_INFO!G113*100))),\"-\"),0)","v":0},0,{"$f":"IF(AND(COUNTRY_INFO!K113>0,COUNTRY_INFO!K113<4), IF(AC113/Z113*100<>0, IF(AH113/Z113*100>100,100,AH113/Z113*100), \"-\"),0)","v":0},null,{"$f":"IF(AND(D113<>0, D113<>\"Inconnu\",D113<>\"Interrompu\",D113<>\"Non requis\"),D113/COUNTRY_INFO!D113, 0)","v":1},{"$f":"IF(AND(J113<>0,J113<>\"Inconnu\",J113<>\"Interrompu\",J113<>\"Non requis\"),J113/COUNTRY_INFO!D113, 0)","v":0},{"$f":"IF(AND(P113<>0,P113<>\"Inconnu\",P113<>\"Non requis\"),P113/(COUNTRY_INFO!E113+COUNTRY_INFO!F113), 0)","v":0},{"$f":"IF(AND(Z113<>0,Z113<>\"Inconnu\",Z113<>\"Non requis\"),IF(COUNTRY_INFO!K113=1,1,IF(COUNTRY_INFO!K113=2,0.5*COUNTRY_INFO!F113/(0.5*COUNTRY_INFO!F113+0.2*COUNTRY_INFO!G113),IF(COUNTRY_INFO!K113=3,COUNTRY_INFO!F113/(COUNTRY_INFO!F113+COUNTRY_INFO!G113)))),0)","v":0},{"$f":"IF(AND(Z113<>0,Z113<>\"Inconnu\",Z113<>\"Non requis\"),IF(COUNTRY_INFO!K113=1,0,IF(COUNTRY_INFO!K113=2,0.2*COUNTRY_INFO!G113/(0.5*COUNTRY_INFO!F113+0.2*COUNTRY_INFO!G113),IF(COUNTRY_INFO!K113=3,COUNTRY_INFO!G113/(COUNTRY_INFO!F113+COUNTRY_INFO!G113)))),0)","v":0},{"$f":"MAX(COUNTRY_INFO!D113*AK113*PROFILE!$G$7,COUNTRY_INFO!D113*AL113*PROFILE!$G$7)","v":482.76013417322923},{"$f":"MAX(COUNTRY_INFO!D113*AK113*PROFILE!$G$8,COUNTRY_INFO!D113*AL113*PROFILE!$G$8,COUNTRY_INFO!D113*AM113*PROFILE!$G$8)","v":1449.439389288475},{"$f":"MAX(COUNTRY_INFO!D113*AK113*PROFILE!$G$9,COUNTRY_INFO!D113*AL113*PROFILE!$G$9,COUNTRY_INFO!D113*AM113*PROFILE!$G$9,IF(AND(DISTRICT!Z113<>\"Inconnu\",Z113<>\"Non requis\"),COUNTRY_INFO!O113*DISTRICT!AN113,0))","v":2792.0781478332201},{"$f":"MAX(COUNTRY_INFO!D113*AK113*PROFILE!$G$10,COUNTRY_INFO!D113*AL113*PROFILE!$G$10,IF(AND(DISTRICT!Z113<>\"Inconnu\",Z113<>\"Non requis\"),COUNTRY_INFO!O113*DISTRICT!AO113,0))","v":6173.7223287050747},10898,0,{"$f":"MAX('MDA2'!J113,'T1'!L113,'T2'!J113,T3_R1!K113,T3_R2!K113)","v":0},{"$f":"MAX('MDA1'!K113,'MDA2'!K113,'MDA3'!I113,'MDA3'!L113,'T1'!M113,'T2'!K113,T3_R1!L113,T3_R2!L113)","v":0},{"$f":"MAX('MDA1'!L113,'MDA2'!L113,'MDA3'!J113,'MDA3'!M113,'T1'!N113,'T2'!L113,T3_R1!M113,T3_R2!M113)","v":0},0,{"$f":"MAX('MDA2'!J113,T113)","v":0},{"$f":"MAX('MDA1'!K113,'MDA2'!K113,'MDA3'!I113,'MDA3'!L113,V113,AD113)","v":0},{"$f":"MAX('MDA1'!L113,'MDA2'!L113,'MDA3'!J113,'MDA3'!M113,AF113)","v":0},0,0]
[{"$f":"IF(COUNTRY_INFO!A114=0,\" \",COUNTRY_INFO!A114)","v":"Guinea Bissau"},{"$f":"IF(COUNTRY_INFO!B114=0,\" \",COUNTRY_INFO!B114)","v":"Cacheu"},{"$f":"IF(COUNTRY_INFO!C114=0,\" \",COUNTRY_INFO!C114)","v":"Calequisse"},{"$f":"COUNTRY_INFO!L114","v":9820},null,null,{"$f":"MAX('MDA1'!M114,'MDA2'!M114)","v":0},{"$f":"IF(AND(COUNTRY_INFO!H114>0,COUNTRY_INFO!H114<4),IF(D114>MAX('MDA1'!M114,'MDA2'!M114),MAX('MDA1'!M114,'MDA2'!M114),D114),0)","v":0},{"$f":"IF(AND(COUNTRY_INFO!H114>0,COUNTRY_INFO!H114<4), IF(G114/D114*100<>0, IF(G114/D114*100>100,100,G114/D114*100), \"-\"),0)","v":"-"},{"$f":"COUNTRY_INFO!M114","v":"Inconnu"},null,null,{"$f":"MAX('MDA1'!M114,MAX('MDA3'!I114,'MDA3'!L114)+MAX('MDA3'!J114,'MDA3'!M114))","v":0},{"$f":"IF(AND(COUNTRY_INFO!I114>0,COUNTRY_INFO!I114<4),IF(J114>MAX('MDA1'!M114,MAX('MDA3'!I114,'MDA3'!L114)+MAX('MDA3'!J114,'MDA3'!M114)),MAX('MDA1'!M114,MAX('MDA3'!I114,'MDA3'!L114)+MAX('MDA3'!J114,'MDA3'!M114)),J114),0)","v":0},{"$f":"IF(AND(COUNTRY_INFO!I114>0,COUNTRY_INFO!I114<4), IF(M114/J114*100<>0, IF(M114/J114*100>100,100,M114/J114*100), \"-\"),0)","v":0},{"$f":"COUNTRY_INFO!N114","v":0},null,null,{"$f":"SUM(MAX('MDA2'!J114, 'T1'!L114, MAX(T3_R1!K114, T3_R2!K114)), MAX('MDA1'!K114, 'MDA2'!K114, 'T1'!M114, MAX(T3_R1!L114, T3_R2!L114)), MAX('MDA1'!L114, 'MDA2'!L114, 'T1'!N114, MAX(T3_R1!M114, T3_R2!M114)))","v":0},{"$f":"IF(AND(COUNTRY_INFO!J114>1,COUNTRY_INFO!J114<4),IF(COUNTRY_INFO!E114>MAX('MDA2'!J114,'T1'!L114,MAX(T3_R1!K114,T3_R2!K114)),MAX('MDA2'!J114,'T1'!L114,MAX(T3_R1!K114,T3_R2!K114)),COUNTRY_INFO!E114),0)","v":0},{"$f":"IF(AND(COUNTRY_INFO!J114>1,COUNTRY_INFO!J114<4), IF(T114/COUNTRY_INFO!E114*100<>0, IF(T114/COUNTRY_INFO!E114*100>100,100,T114/COUNTRY_INFO!E114*100), \"-\"),0)","v":0},{"$f":"IF(AND(COUNTRY_INFO!J114>1,COUNTRY_INFO!J114<4),IF(COUNTRY_INFO!F114>MAX('MDA1'!K114,'MDA2'!K114,'T1'!M114,MAX(T3_R1!L114,T3_R2!L114)),MAX('MDA1'!K114,'MDA2'!K114,'T1'!M114,MAX(T3_R1!L114,T3_R2!L114)),COUNTRY_INFO!F114),0)","v":0},{"$f":"IF(AND(COUNTRY_INFO!J114>1,COUNTRY_INFO!J114<4), IF(V114/COUNTRY_INFO!F114*100<>0, IF(V114/COUNTRY_INFO!F114*100>100,100,V114/COUNTRY_INFO!F114*100), \"-\"),0)","v":0},0,{"$f":"IF(AND(COUNTRY_INFO!J114>1,COUNTRY_INFO!J114<4), IF(S114/P114*100<>0, IF(X114/P114*100>100,100,X114/P114*100), \"-\"),0)","v":0},{"$f":"COUNTRY_INFO!O114","v":0},null,null,{"$f":"MAX('T1'!L114,'T2'!J114)+MAX('T1'!M114,'T2'!K114)+MAX('T1'!N114,'T2'!L114)","v":0},{"$f":"IF(COUNTRY_INFO!K114=1,IF(COUNTRY_INFO!F114*0.33>MAX('T1'!M114,'T2'!K114),MAX('T1'!M114,'T2'!K114),COUNTRY_INFO!F114*0.33),IF(COUNTRY_INFO!K114=2,IF(COUNTRY_INFO!F114*0.5>MAX('T1'!M114,'T2'!K114),MAX('T1'!M114,'T2'!K114),COUNTRY_INFO!F114*0.5),IF(COUNTRY_INFO!K114=3,IF(COUNTRY_INFO!F114>MAX('T1'!M114,'T2'!K114),MAX('T1'!M114,'T2'!K114),COUNTRY_INFO!F114),0)))","v":0},{"$f":"IF(AND(COUNTRY_INFO!K114>0,COUNTRY_INFO!K114<4),IF(Z114>0,IF(COUNTRY_INFO!K114=1, AD114/(COUNTRY_INFO!F114*0.33)*100, IF(COUNTRY_INFO!K114=2, AD114/(COUNTRY_INFO!F114*0.5)*100, IF(COUNTRY_INFO!K114=3, AD114/COUNTRY_INFO!F114*100))),\"-\"),0)","v":0},{"$f":"IF(COUNTRY_INFO!K114=2,IF(COUNTRY_INFO!G114*0.2>MAX('T1'!N114,'T2'!L114),MAX('T1'!N114,'T2'!L114),COUNTRY_INFO!G114*0.2),IF(COUNTRY_INFO!K114=3,IF(COUNTRY_INFO!G114>MAX('T1'!N114,'T2'!L114),MAX('T1'!N114,'T2'!L114),COUNTRY_INFO!G114),0))","v":0},{"$f":"IF(AND(COUNTRY_INFO!K114>0,COUNTRY_INFO!K114<4),IF(Z114>0,IF(COUNTRY_INFO!K114=1, 0, IF(COUNTRY_INFO!K114=2, AF114/(COUNTRY_INFO!G114*0.2)*100, IF(COUNTRY_INFO!K114=3, AF114/COUNTRY_INFO!G114*100))),\"-\"),0)","v":0},0,{"$f":"IF(AND(COUNTRY_INFO!K114>0,COUNTRY_INFO!K114<4), IF(AC114/Z114*100<>0, IF(AH114/Z114*100>100,100,AH114/Z114*100), \"-\"),0)","v":0},null,{"$f":"IF(AND(D114<>0, D114<>\"Inconnu\",D114<>\"Interrompu\",D114<>\"Non requis\"),D114/COUNTRY_INFO!D114, 0)","v":1},{"$f":"IF(AND(J114<>0,J114<>\"Inconnu\",J114<>\"Interrompu\",J114<>\"Non requis\"),J114/COUNTRY_INFO!D114, 0)","v":0},{"$f":"IF(AND(P114<>0,P114<>\"Inconnu\",P114<>\"Non requis\"),P114/(COUNTRY_INFO!E114+COUNTRY_INFO!F114), 0)","v":0},{"$f":"IF(AND(Z114<>0,Z114<>\"Inconnu\",Z114<>\"Non requis\"),IF(COUNTRY_INFO!K114=1,1,IF(COUNTRY_INFO!K114=2,0.5*COUNTRY_INFO!F114/(0.5*COUNTRY_INFO!F114+0.2*COUNTRY_INFO!G114),IF(COUNTRY_INFO!K114=3,COUNTRY_INFO!F114/(COUNTRY_INFO!F114+COUNTRY_INFO!G114)))),0)","v":0},{"$f":"IF(AND(Z114<>0,Z114<>\"Inconnu\",Z114<>\"Non requis\"),IF(COUNTRY_INFO!K114=1,0,IF(COUNTRY_INFO!K114=2,0.2*COUNTRY_INFO!G114/(0.5*COUNTRY_INFO!F114+0.2*COUNTRY_INFO!G114),IF(COUNTRY_INFO!K114=3,COUNTRY_INFO!G114/(COUNTRY_INFO!F114+COUNTRY_INFO!G114)))),0)","v":0},{"$f":"MAX(COUNTRY_INFO!D114*AK114*PROFILE!$G$7,COUNTRY_INFO!D114*AL114*PROFILE!$G$7)","v":435.00683772996064},{"$f":"MAX(COUNTRY_INFO!D114*AK114*PROFILE!$G$8,COUNTRY_INFO!D114*AL114*PROFILE!$G$8,COUNTRY_INFO!D114*AM114*PROFILE!$G$8)","v":1306.0648561949738},{"$f":"MAX(COUNTRY_INFO!D114*AK114*PROFILE!$G$9,COUNTRY_INFO!D114*AL114*PROFILE!$G$9,COUNTRY_INFO!D114*AM114*PROFILE!$G$9,IF(AND(DISTRICT!Z114<>\"Inconnu\",Z114<>\"Non requis\"),COUNTRY_INFO!O114*DISTRICT!AN114,0))","v":2515.8935044707491},{"$f":"MAX(COUNTRY_INFO!D114*AK114*PROFILE!$G$10,COUNTRY_INFO!D114*AL114*PROFILE!$G$10,IF(AND(DISTRICT!Z114<>\"Inconnu\",Z114<>\"Non requis\"),COUNTRY_INFO!O114*DISTRICT!AO114,0))","v":5563.0348016043163},9820,0,{"$f":"MAX('MDA2'!J114,'T1'!L114,'T2'!J114,T3_R1!K114,T3_R2!K114)","v":0},{"$f":"MAX('MDA1'!K114,'MDA2'!K114,'MDA3'!I114,'MDA3'!L114,'T1'!M114,'T2'!K114,T3_R1!L114,T3_R2!L114)","v":0},{"$f":"MAX('MDA1'!L114,'MDA2'!L114,'MDA3'!J114,'MDA3'!M114,'T1'!N114,'T2'!L114,T3_R1!M114,T3_R2!M114)","v":0},0,{"$f":"MAX('MDA2'!J114,T114)","v":0},{"$f":"MAX('MDA1'!K114,'MDA2'!K114,'MDA3'!I114,'MDA3'!L114,V114,AD114)","v":0},{"$f":"MAX('MDA1'!L114,'MDA2'!L114,'MDA3'!J114,'MDA3'!M114,AF114)","v":0},0,0]
[{"$f":"IF(COUNTRY_INFO!A115=0,\" \",COUNTRY_INFO!A115)","v":"Guinea Bissau"},{"$f":"IF(COUNTRY_INFO!B115=0,\" \",COUNTRY_INFO!B115)","v":"Cacheu"},{"$f":"IF(COUNTRY_INFO!C115=0,\" \",COUNTRY_INFO!C115)","v":"Canchungo"},{"$f":"COUNTRY_INFO!L115","v":21724},null,null,{"$f":"MAX('MDA1'!M115,'MDA2'!M115)","v":0},{"$f":"IF(AND(COUNTRY_INFO!H115>0,COUNTRY_INFO!H115<4),IF(D115>MAX('MDA1'!M115,'MDA2'!M115),MAX('MDA1'!M115,'MDA2'!M115),D115),0)","v":0},{"$f":"IF(AND(COUNTRY_INFO!H115>0,COUNTRY_INFO!H115<4), IF(G115/D115*100<>0, IF(G115/D115*100>100,100,G115/D115*100), \"-\"),0)","v":"-"},{"$f":"COUNTRY_INFO!M115","v":"Inconnu"},null,null,{"$f":"MAX('MDA1'!M115,MAX('MDA3'!I115,'MDA3'!L115)+MAX('MDA3'!J115,'MDA3'!M115))","v":0},{"$f":"IF(AND(COUNTRY_INFO!I115>0,COUNTRY_INFO!I115<4),IF(J115>MAX('MDA1'!M115,MAX('MDA3'!I115,'MDA3'!L115)+MAX('MDA3'!J115,'MDA3'!M115)),MAX('MDA1'!M115,MAX('MDA3'!I115,'MDA3'!L115)+MAX('MDA3'!J115,'MDA3'!M115)),J115),0)","v":0},{"$f":"IF(AND(COUNTRY_INFO!I115>0,COUNTRY_INFO!I115<4), IF(M115/J115*100<>0, IF(M115/J115*100>100,100,M115/J115*100), \"-\"),0)","v":0},{"$f":"COUNTRY_INFO!N115","v":0},null,null,{"$f":"SUM(MAX('MDA2'!J115, 'T1'!L115, MAX(T3_R1!K115, T3_R2!K115)), MAX('MDA1'!K115, 'MDA2'!K115, 'T1'!M115, MAX(T3_R1!L115, T3_R2!L115)), MAX('MDA1'!L115, 'MDA2'!L115, 'T1'!N115, MAX(T3_R1!M115, T3_R2!M115)))","v":0},{"$f":"IF(AND(COUNTRY_INFO!J115>1,COUNTRY_INFO!J115<4),IF(COUNTRY_INFO!E115>MAX('MDA2'!J115,'T1'!L115,MAX(T3_R1!K115,T3_R2!K115)),MAX('MDA2'!J115,'T1'!L115,MAX(T3_R1!K115,T3_R2!K115)),COUNTRY_INFO!E115),0)","v":0},{"$f":"IF(AND(COUNTRY_INFO!J115>1,COUNTRY_INFO!J115<4), IF(T115/COUNTRY_INFO!E115*100<>0, IF(T115/COUNTRY_INFO!E115*100>100,100,T115/COUNTRY_INFO!E115*100), \"-\"),0)","v":0},{"$f":"IF(AND(COUNTRY_INFO!J115>1,COUNTRY_INFO!J115<4),IF(COUNTRY_INFO!F115>MAX('MDA1'!K115,'MDA2'!K115,'T1'!M115,MAX(T3_R1!L115,T3_R2!L115)),MAX('MDA1'!K115,'MDA2'!K115,'T1'!M115,MAX(T3_R1!L115,T3_R2!L115)),COUNTRY_INFO!F115),0)","v":0},{"$f":"IF(AND(COUNTRY_INFO!J115>1,COUNTRY_INFO!J115<4), IF(V115/COUNTRY_INFO!F115*100<>0, IF(V115/COUNTRY_INFO!F115*100>100,100,V115/COUNTRY_INFO!F115*100), \"-\"),0)","v":0},0,{"$f":"IF(AND(COUNTRY_INFO!J115>1,COUNTRY_INFO!J115<4), IF(S115/P115*100<>0, IF(X115/P115*100>100,100,X115/P115*100), \"-\"),0)","v":0},{"$f":"COUNTRY_INFO!O115","v":0},null,null,{"$f":"MAX('T1'!L115,'T2'!J115)+MAX('T1'!M115,'T2'!K115)+MAX('T1'!N115,'T2'!L115)","v":0},{"$f":"IF(COUNTRY_INFO!K115=1,IF(COUNTRY_INFO!F115*0.33>MAX('T1'!M115,'T2'!K115),MAX('T1'!M115,'T2'!K115),COUNTRY_INFO!F115*0.33),IF(COUNTRY_INFO!K115=2,IF(COUNTRY_INFO!F115*0.5>MAX('T1'!M115,'T2'!K115),MAX('T1'!M115,'T2'!K115),COUNTRY_INFO!F115*0.5),IF(COUNTRY_INFO!K115=3,IF(COUNTRY_INFO!F115>MAX('T1'!M115,'T2'!K115),MAX('T1'!M115,'T2'!K115),COUNTRY_INFO!F115),0)))","v":0},{"$f":"IF(AND(COUNTRY_INFO!K115>0,COUNTRY_INFO!K115<4),IF(Z115>0,IF(COUNTRY_INFO!K115=1, AD115/(COUNTRY_INFO!F115*0.33)*100, IF(COUNTRY_INFO!K115=2, AD115/(COUNTRY_INFO!F115*0.5)*100, IF(COUNTRY_INFO!K115=3, AD115/COUNTRY_INFO!F115*100))),\"-\"),0)","v":0},{"$f":"IF(COUNTRY_INFO!K115=2,IF(COUNTRY_INFO!G115*0.2>MAX('T1'!N115,'T2'!L115),MAX('T1'!N115,'T2'!L115),COUNTRY_INFO!G115*0.2),IF(COUNTRY_INFO!K115=3,IF(COUNTRY_INFO!G115>MAX('T1'!N115,'T2'!L115),MAX('T1'!N115,'T2'!L115),COUNTRY_INFO!G115),0))","v":0},{"$f":"IF(AND(COUNTRY_INFO!K115>0,COUNTRY_INFO!K115<4),IF(Z115>0,IF(COUNTRY_INFO!K115=1, 0, IF(COUNTRY_INFO!K115=2, AF115/(COUNTRY_INFO!G115*0.2)*100, IF(COUNTRY_INFO!K115=3, AF115/COUNTRY_INFO!G115*100))),\"-\"),0)","v":0},0,{"$f":"IF(AND(COUNTRY_INFO!K115>0,COUNTRY_INFO!K115<4), IF(AC115/Z115*100<>0, IF(AH115/Z115*100>100,100,AH115/Z115*100), \"-\"),0)","v":0},null,{"$f":"IF(AND(D115<>0, D115<>\"Inconnu\",D115<>\"Interrompu\",D115<>\"Non requis\"),D115/COUNTRY_INFO!D115, 0)","v":1},{"$f":"IF(AND(J115<>0,J115<>\"Inconnu\",J115<>\"Interrompu\",J115<>\"Non requis\"),J115/COUNTRY_INFO!D115, 0)","v":0},{"$f":"IF(AND(P115<>0,P115<>\"Inconnu\",P115<>\"Non requis\"),P115/(COUNTRY_INFO!E115+COUNTRY_INFO!F115), 0)","v":0},{"$f":"IF(AND(Z115<>0,Z115<>\"Inconnu\",Z115<>\"Non requis\"),IF(COUNTRY_INFO!K115=1,1,IF(COUNTRY_INFO!K115=2,0.5*COUNTRY_INFO!F115/(0.5*COUNTRY_INFO!F115+0.2*COUNTRY_INFO!G115),IF(COUNTRY_INFO!K115=3,COUNTRY_INFO!F115/(COUNTRY_INFO!F115+COUNTRY_INFO!G115)))),0)","v":0},{"$f":"IF(AND(Z115<>0,Z115<>\"Inconnu\",Z115<>\"Non requis\"),IF(COUNTRY_INFO!K115=1,0,IF(COUNTRY_INFO!K115=2,0.2*COUNTRY_INFO!G115/(0.5*COUNTRY_INFO!F115+0.2*COUNTRY_INFO!G115),IF(COUNTRY_INFO!K115=3,COUNTRY_INFO!G115/(COUNTRY_INFO!F115+COUNTRY_INFO!G115)))),0)","v":0},{"$f":"MAX(COUNTRY_INFO!D115*AK115*PROFILE!$G$7,COUNTRY_INFO!D115*AL115*PROFILE!$G$7)","v":962.33080884375408},{"$f":"MAX(COUNTRY_INFO!D115*AK115*PROFILE!$G$8,COUNTRY_INFO!D115*AL115*PROFILE!$G$8,COUNTRY_INFO!D115*AM115*PROFILE!$G$8)","v":2889.3027429714471},{"$f":"MAX(COUNTRY_INFO!D115*AK115*PROFILE!$G$9,COUNTRY_INFO!D115*AL115*PROFILE!$G$9,COUNTRY_INFO!D115*AM115*PROFILE!$G$9,IF(AND(DISTRICT!Z115<>\"Inconnu\",Z115<>\"Non requis\"),COUNTRY_INFO!O115*DISTRICT!AN115,0))","v":5565.7098259798931},{"$f":"MAX(COUNTRY_INFO!D115*AK115*PROFILE!$G$10,COUNTRY_INFO!D115*AL115*PROFILE!$G$10,IF(AND(DISTRICT!Z115<>\"Inconnu\",Z115<>\"Non requis\"),COUNTRY_INFO!O115*DISTRICT!AO115,0))","v":12306.656622204904},21724,0,{"$f":"MAX('MDA2'!J115,'T1'!L115,'T2'!J115,T3_R1!K115,T3_R2!K115)","v":0},{"$f":"MAX('MDA1'!K115,'MDA2'!K115,'MDA3'!I115,'MDA3'!L115,'T1'!M115,'T2'!K115,T3_R1!L115,T3_R2!L115)","v":0},{"$f":"MAX('MDA1'!L115,'MDA2'!L115,'MDA3'!J115,'MDA3'!M115,'T1'!N115,'T2'!L115,T3_R1!M115,T3_R2!M115)","v":0},0,{"$f":"MAX('MDA2'!J115,T115)","v":0},{"$f":"MAX('MDA1'!K115,'MDA2'!K115,'MDA3'!I115,'MDA3'!L115,V115,AD115)","v":0},{"$f":"MAX('MDA1'!L115,'MDA2'!L115,'MDA3'!J115,'MDA3'!M115,AF115)","v":0},0,0]
[{"$f":"IF(COUNTRY_INFO!A116=0,\" \",COUNTRY_INFO!A116)","v":"Guinea Bissau"},{"$f":"IF(COUNTRY_INFO!B116=0,\" \",COUNTRY_INFO!B116)","v":"Cacheu"},{"$f":"IF(COUNTRY_INFO!C116=0,\" \",COUNTRY_INFO!C116)","v":"Carenque"},{"$f":"COUNTRY_INFO!L116","v":9489},null,null,{"$f":"MAX('MDA1'!M116,'MDA2'!M116)","v":0},{"$f":"IF(AND(COUNTRY_INFO!H116>0,COUNTRY_INFO!H116<4),IF(D116>MAX('MDA1'!M116,'MDA2'!M116),MAX('MDA1'!M116,'MDA2'!M116),D116),0)","v":0},{"$f":"IF(AND(COUNTRY_INFO!H116>0,COUNTRY_INFO!H116<4), IF(G116/D116*100<>0, IF(G116/D116*100>100,100,G116/D116*100), \"-\"),0)","v":"-"},{"$f":"COUNTRY_INFO!M116","v":"Inconnu"},null,null,{"$f":"MAX('MDA1'!M116,MAX('MDA3'!I116,'MDA3'!L116)+MAX('MDA3'!J116,'MDA3'!M116))","v":0},{"$f":"IF(AND(COUNTRY_INFO!I116>0,COUNTRY_INFO!I116<4),IF(J116>MAX('MDA1'!M116,MAX('MDA3'!I116,'MDA3'!L116)+MAX('MDA3'!J116,'MDA3'!M116)),MAX('MDA1'!M116,MAX('MDA3'!I116,'MDA3'!L116)+MAX('MDA3'!J116,'MDA3'!M116)),J116),0)","v":0},{"$f":"IF(AND(COUNTRY_INFO!I116>0,COUNTRY_INFO!I116<4), IF(M116/J116*100<>0, IF(M116/J116*100>100,100,M116/J116*100), \"-\"),0)","v":0},{"$f":"COUNTRY_INFO!N116","v":3693},null,null,{"$f":"SUM(MAX('MDA2'!J116, 'T1'!L116, MAX(T3_R1!K116, T3_R2!K116)), MAX('MDA1'!K116, 'MDA2'!K116, 'T1'!M116, MAX(T3_R1!L116, T3_R2!L116)), MAX('MDA1'!L116, 'MDA2'!L116, 'T1'!N116, MAX(T3_R1!M116, T3_R2!M116)))","v":0},{"$f":"IF(AND(COUNTRY_INFO!J116>1,COUNTRY_INFO!J116<4),IF(COUNTRY_INFO!E116>MAX('MDA2'!J116,'T1'!L116,MAX(T3_R1!K116,T3_R2!K116)),MAX('MDA2'!J116,'T1'!L116,MAX(T3_R1!K116,T3_R2!K116)),COUNTRY_INFO!E116),0)","v":0},{"$f":"IF(AND(COUNTRY_INFO!J116>1,COUNTRY_INFO!J116<4), IF(T116/COUNTRY_INFO!E116*100<>0, IF(T116/COUNTRY_INFO!E116*100>100,100,T116/COUNTRY_INFO!E116*100), \"-\"),0)","v":"-"},{"$f":"IF(AND(COUNTRY_INFO!J116>1,COUNTRY_INFO!J116<4),IF(COUNTRY_INFO!F116>MAX('MDA1'!K116,'MDA2'!K116,'T1'!M116,MAX(T3_R1!L116,T3_R2!L116)),MAX('MDA1'!K116,'MDA2'!K116,'T1'!M116,MAX(T3_R1!L116,T3_R2!L116)),COUNTRY_INFO!F116),0)","v":0},{"$f":"IF(AND(COUNTRY_INFO!J116>1,COUNTRY_INFO!J116<4), IF(V116/COUNTRY_INFO!F116*100<>0, IF(V116/COUNTRY_INFO!F116*100>100,100,V116/COUNTRY_INFO!F116*100), \"-\"),0)","v":"-"},0,{"$f":"IF(AND(COUNTRY_INFO!J116>1,COUNTRY_INFO!J116<4), IF(S116/P116*100<>0, IF(X116/P116*100>100,100,X116/P116*100), \"-\"),0)","v":"-"},{"$f":"COUNTRY_INFO!O116","v":0},null,null,{"$f":"MAX('T1'!L116,'T2'!J116)+MAX('T1'!M116,'T2'!K116)+MAX('T1'!N116,'T2'!L116)","v":0},{"$f":"IF(COUNTRY_INFO!K116=1,IF(COUNTRY_INFO!F116*0.33>MAX('T1'!M116,'T2'!K116),MAX('T1'!M116,'T2'!K116),COUNTRY_INFO!F116*0.33),IF(COUNTRY_INFO!K116=2,IF(COUNTRY_INFO!F116*0.5>MAX('T1'!M116,'T2'!K116),MAX('T1'!M116,'T2'!K116),COUNTRY_INFO!F116*0.5),IF(COUNTRY_INFO!K116=3,IF(COUNTRY_INFO!F116>MAX('T1'!M116,'T2'!K116),MAX('T1'!M116,'T2'!K116),COUNTRY_INFO!F116),0)))","v":0},{"$f":"IF(AND(COUNTRY_INFO!K116>0,COUNTRY_INFO!K116<4),IF(Z116>0,IF(COUNTRY_INFO!K116=1, AD116/(COUNTRY_INFO!F116*0.33)*100, IF(COUNTRY_INFO!K116=2, AD116/(COUNTRY_INFO!F116*0.5)*100, IF(COUNTRY_INFO!K116=3, AD116/COUNTRY_INFO!F116*100))),\"-\"),0)","v":0},{"$f":"IF(COUNTRY_INFO!K116=2,IF(COUNTRY_INFO!G116*0.2>MAX('T1'!N116,'T2'!L116),MAX('T1'!N116,'T2'!L116),COUNTRY_INFO!G116*0.2),IF(COUNTRY_INFO!K116=3,IF(COUNTRY_INFO!G116>MAX('T1'!N116,'T2'!L116),MAX('T1'!N116,'T2'!L116),COUNTRY_INFO!G116),0))","v":0},{"$f":"IF(AND(COUNTRY_INFO!K116>0,COUNTRY_INFO!K116<4),IF(Z116>0,IF(COUNTRY_INFO!K116=1, 0, IF(COUNTRY_INFO!K116=2, AF116/(COUNTRY_INFO!G116*0.2)*100, IF(COUNTRY_INFO!K116=3, AF116/COUNTRY_INFO!G116*100))),\"-\"),0)","v":0},0,{"$f":"IF(AND(COUNTRY_INFO!K116>0,COUNTRY_INFO!K116<4), IF(AC116/Z116*100<>0, IF(AH116/Z116*100>100,100,AH116/Z116*100), \"-\"),0)","v":0},null,{"$f":"IF(AND(D116<>0, D116<>\"Inconnu\",D116<>\"Interrompu\",D116<>\"Non requis\"),D116/COUNTRY_INFO!D116, 0)","v":1},{"$f":"IF(AND(J116<>0,J116<>\"Inconnu\",J116<>\"Interrompu\",J116<>\"Non requis\"),J116/COUNTRY_INFO!D116, 0)","v":0},{"$f":"IF(AND(P116<>0,P116<>\"Inconnu\",P116<>\"Non requis\"),P116/(COUNTRY_INFO!E116+COUNTRY_INFO!F116), 0)","v":1},{"$f":"IF(AND(Z116<>0,Z116<>\"Inconnu\",Z116<>\"Non requis\"),IF(COUNTRY_INFO!K116=1,1,IF(COUNTRY_INFO!K116=2,0.5*COUNTRY_INFO!F116/(0.5*COUNTRY_INFO!F116+0.2*COUNTRY_INFO!G116),IF(COUNTRY_INFO!K116=3,COUNTRY_INFO!F116/(COUNTRY_INFO!F116+COUNTRY_INFO!G116)))),0)","v":0},{"$f":"IF(AND(Z116<>0,Z116<>\"Inconnu\",Z116<>\"Non requis\"),IF(COUNTRY_INFO!K116=1,0,IF(COUNTRY_INFO!K116=2,0.2*COUNTRY_INFO!G116/(0.5*COUNTRY_INFO!F116+0.2*COUNTRY_INFO!G116),IF(COUNTRY_INFO!K116=3,COUNTRY_INFO!G116/(COUNTRY_INFO!F116+COUNTRY_INFO!G116)))),0)","v":0},{"$f":"MAX(COUNTRY_INFO!D116*AK116*PROFILE!$G$7,COUNTRY_INFO!D116*AL116*PROFILE!$G$7)","v":420.34418362725017},{"$f":"MAX(COUNTRY_INFO!D116*AK116*PROFILE!$G$8,COUNTRY_INFO!D116*AL116*PROFILE!$G$8,COUNTRY_INFO!D116*AM116*PROFILE!$G$8)","v":1262.0416925085647},{"$f":"MAX(COUNTRY_INFO!D116*AK116*PROFILE!$G$9,COUNTRY_INFO!D116*AL116*PROFILE!$G$9,COUNTRY_INFO!D116*AM116*PROFILE!$G$9,IF(AND(DISTRICT!Z116<>\"Inconnu\",Z116<>\"Non requis\"),COUNTRY_INFO!O116*DISTRICT!AN116,0))","v":2431.0909841062053},{"$f":"MAX(COUNTRY_INFO!D116*AK116*PROFILE!$G$10,COUNTRY_INFO!D116*AL116*PROFILE!$G$10,IF(AND(DISTRICT!Z116<>\"Inconnu\",Z116<>\"Non requis\"),COUNTRY_INFO!O116*DISTRICT!AO116,0))","v":5375.5231397579792},9489,0,{"$f":"MAX('MDA2'!J116,'T1'!L116,'T2'!J116,T3_R1!K116,T3_R2!K116)","v":0},{"$f":"MAX('MDA1'!K116,'MDA2'!K116,'MDA3'!I116,'MDA3'!L116,'T1'!M116,'T2'!K116,T3_R1!L116,T3_R2!L116)","v":0},{"$f":"MAX('MDA1'!L116,'MDA2'!L116,'MDA3'!J116,'MDA3'!M116,'T1'!N116,'T2'!L116,T3_R1!M116,T3_R2!M116)","v":0},0,{"$f":"MAX('MDA2'!J116,T116)","v":0},{"$f":"MAX('MDA1'!K116,'MDA2'!K116,'MDA3'!I116,'MDA3'!L116,V116,AD116)","v":0},{"$f":"MAX('MDA1'!L116,'MDA2'!L116,'MDA3'!J116,'MDA3'!M116,AF116)","v":0},0,0]
[{"$f":"IF(COUNTRY_INFO!A117=0,\" \",COUNTRY_INFO!A117)","v":"Guinea Bissau"},{"$f":"IF(COUNTRY_INFO!B117=0,\" \",COUNTRY_INFO!B117)","v":"Cacheu"},{"$f":"IF(COUNTRY_INFO!C117=0,\" \",COUNTRY_INFO!C117)","v":"Có"},{"$f":"COUNTRY_INFO!L117","v":7709},null,null,{"$f":"MAX('MDA1'!M117,'MDA2'!M117)","v":0},{"$f":"IF(AND(COUNTRY_INFO!H117>0,COUNTRY_INFO!H117<4),IF(D117>MAX('MDA1'!M117,'MDA2'!M117),MAX('MDA1'!M117,'MDA2'!M117),D117),0)","v":0},{"$f":"IF(AND(COUNTRY_INFO!H117>0,COUNTRY_INFO!H117<4), IF(G117/D117*100<>0, IF(G117/D117*100>100,100,G117/D117*100), \"-\"),0)","v":"-"},{"$f":"COUNTRY_INFO!M117","v":"Inconnu"},null,null,{"$f":"MAX('MDA1'!M117,MAX('MDA3'!I117,'MDA3'!L117)+MAX('MDA3'!J117,'MDA3'!M117))","v":0},{"$f":"IF(AND(COUNTRY_INFO!I117>0,COUNTRY_INFO!I117<4),IF(J117>MAX('MDA1'!M117,MAX('MDA3'!I117,'MDA3'!L117)+MAX('MDA3'!J117,'MDA3'!M117)),MAX('MDA1'!M117,MAX('MDA3'!I117,'MDA3'!L117)+MAX('MDA3'!J117,'MDA3'!M117)),J117),0)","v":0},{"$f":"IF(AND(COUNTRY_INFO!I117>0,COUNTRY_INFO!I117<4), IF(M117/J117*100<>0, IF(M117/J117*100>100,100,M117/J117*100), \"-\"),0)","v":0},{"$f":"COUNTRY_INFO!N117","v":3000},null,null,{"$f":"SUM(MAX('MDA2'!J117, 'T1'!L117, MAX(T3_R1!K117, T3_R2!K117)), MAX('MDA1'!K117, 'MDA2'!K117, 'T1'!M117, MAX(T3_R1!L117, T3_R2!L117)), MAX('MDA1'!L117, 'MDA2'!L117, 'T1'!N117, MAX(T3_R1!M117, T3_R2!M117)))","v":0},{"$f":"IF(AND(COUNTRY_INFO!J117>1,COUNTRY_INFO!J117<4),IF(COUNTRY_INFO!E117>MAX('MDA2'!J117,'T1'!L117,MAX(T3_R1!K117,T3_R2!K117)),MAX('MDA2'!J117,'T1'!L117,MAX(T3_R1!K117,T3_R2!K117)),COUNTRY_INFO!E117),0)","v":0},{"$f":"IF(AND(COUNTRY_INFO!J117>1,COUNTRY_INFO!J117<4), IF(T117/COUNTRY_INFO!E117*100<>0, IF(T117/COUNTRY_INFO!E117*100>100,100,T117/COUNTRY_INFO!E117*100), \"-\"),0)","v":"-"},{"$f":"IF(AND(COUNTRY_INFO!J117>1,COUNTRY_INFO!J117<4),IF(COUNTRY_INFO!F117>MAX('MDA1'!K117,'MDA2'!K117,'T1'!M117,MAX(T3_R1!L117,T3_R2!L117)),MAX('MDA1'!K117,'MDA2'!K117,'T1'!M117,MAX(T3_R1!L117,T3_R2!L117)),COUNTRY_INFO!F117),0)","v":0},{"$f":"IF(AND(COUNTRY_INFO!J117>1,COUNTRY_INFO!J117<4), IF(V117/COUNTRY_INFO!F117*100<>0, IF(V117/COUNTRY_INFO!F117*100>100,100,V117/COUNTRY_INFO!F117*100), \"-\"),0)","v":"-"},0,{"$f":"IF(AND(COUNTRY_INFO!J117>1,COUNTRY_INFO!J117<4), IF(S117/P117*100<>0, IF(X117/P117*100>100,100,X117/P117*100), \"-\"),0)","v":"-"},{"$f":"COUNTRY_INFO!O117","v":0},null,null,{"$f":"MAX('T1'!L117,'T2'!J117)+MAX('T1'!M117,'T2'!K117)+MAX('T1'!N117,'T2'!L117)","v":0},{"$f":"IF(COUNTRY_INFO!K117=1,IF(COUNTRY_INFO!F117*0.33>MAX('T1'!M117,'T2'!K117),MAX('T1'!M117,'T2'!K117),COUNTRY_INFO!F117*0.33),IF(COUNTRY_INFO!K117=2,IF(COUNTRY_INFO!F117*0.5>MAX('T1'!M117,'T2'!K117),MAX('T1'!M117,'T2'!K117),COUNTRY_INFO!F117*0.5),IF(COUNTRY_INFO!K117=3,IF(COUNTRY_INFO!F117>MAX('T1'!M117,'T2'!K117),MAX('T1'!M117,'T2'!K117),COUNTRY_INFO!F117),0)))","v":0},{"$f":"IF(AND(COUNTRY_INFO!K117>0,COUNTRY_INFO!K117<4),IF(Z117>0,IF(COUNTRY_INFO!K117=1, AD117/(COUNTRY_INFO!F117*0.33)*100, IF(COUNTRY_INFO!K117=2, AD117/(COUNTRY_INFO!F117*0.5)*100, IF(COUNTRY_INFO!K117=3, AD117/COUNTRY_INFO!F117*100))),\"-\"),0)","v":0},{"$f":"IF(COUNTRY_INFO!K117=2,IF(COUNTRY_INFO!G117*0.2>MAX('T1'!N117,'T2'!L117),MAX('T1'!N117,'T2'!L117),COUNTRY_INFO!G117*0.2),IF(COUNTRY_INFO!K117=3,IF(COUNTRY_INFO!G117>MAX('T1'!N117,'T2'!L117),MAX('T1'!N117,'T2'!L117),COUNTRY_INFO!G117),0))","v":0},{"$f":"IF(AND(COUNTRY_INFO!K117>0,COUNTRY_INFO!K117<4),IF(Z117>0,IF(COUNTRY_INFO!K117=1, 0, IF(COUNTRY_INFO!K117=2, AF117/(COUNTRY_INFO!G117*0.2)*100, IF(COUNTRY_INFO!K117=3, AF117/COUNTRY_INFO!G117*100))),\"-\"),0)","v":0},0,{"$f":"IF(AND(COUNTRY_INFO!K117>0,COUNTRY_INFO!K117<4), IF(AC117/Z117*100<>0, IF(AH117/Z117*100>100,100,AH117/Z117*100), \"-\"),0)","v":0},null,{"$f":"IF(AND(D117<>0, D117<>\"Inconnu\",D117<>\"Interrompu\",D117<>\"Non requis\"),D117/COUNTRY_INFO!D117, 0)","v":1},{"$f":"IF(AND(J117<>0,J117<>\"Inconnu\",J117<>\"Interrompu\",J117<>\"Non requis\"),J117/COUNTRY_INFO!D117, 0)","v":0},{"$f":"IF(AND(P117<>0,P117<>\"Inconnu\",P117<>\"Non requis\"),P117/(COUNTRY_INFO!E117+COUNTRY_INFO!F117), 0)","v":1},{"$f":"IF(AND(Z117<>0,Z117<>\"Inconnu\",Z117<>\"Non requis\"),IF(COUNTRY_INFO!K117=1,1,IF(COUNTRY_INFO!K117=2,0.5*COUNTRY_INFO!F117/(0.5*COUNTRY_INFO!F117+0.2*COUNTRY_INFO!G117),IF(COUNTRY_INFO!K117=3,COUNTRY_INFO!F117/(COUNTRY_INFO!F117+COUNTRY_INFO!G117)))),0)","v":0},{"$f":"IF(AND(Z117<>0,Z117<>\"Inconnu\",Z117<>\"Non requis\"),IF(COUNTRY_INFO!K117=1,0,IF(COUNTRY_INFO!K117=2,0.2*COUNTRY_INFO!G117/(0.5*COUNTRY_INFO!F117+0.2*COUNTRY_INFO!G117),IF(COUNTRY_INFO!K117=3,COUNTRY_INFO!G117/(COUNTRY_INFO!F117+COUNTRY_INFO!G117)))),0)","v":0},{"$f":"MAX(COUNTRY_INFO!D117*AK117*PROFILE!$G$7,COUNTRY_INFO!D117*AL117*PROFILE!$G$7)","v":341.49365703261373},{"$f":"MAX(COUNTRY_INFO!D117*AK117*PROFILE!$G$8,COUNTRY_INFO!D117*AL117*PROFILE!$G$8,COUNTRY_INFO!D117*AM117*PROFILE!$G$8)","v":1025.3008122614106},{"$f":"MAX(COUNTRY_INFO!D117*AK117*PROFILE!$G$9,COUNTRY_INFO!D117*AL117*PROFILE!$G$9,COUNTRY_INFO!D117*AM117*PROFILE!$G$9,IF(AND(DISTRICT!Z117<>\"Inconnu\",Z117<>\"Non requis\"),COUNTRY_INFO!O117*DISTRICT!AN117,0))","v":1975.0532612998986},{"$f":"MAX(COUNTRY_INFO!D117*AK117*PROFILE!$G$10,COUNTRY_INFO!D117*AL117*PROFILE!$G$10,IF(AND(DISTRICT!Z117<>\"Inconnu\",Z117<>\"Non requis\"),COUNTRY_INFO!O117*DISTRICT!AO117,0))","v":4367.1522694060768},7709,0,{"$f":"MAX('MDA2'!J117,'T1'!L117,'T2'!J117,T3_R1!K117,T3_R2!K117)","v":0},{"$f":"MAX('MDA1'!K117,'MDA2'!K117,'MDA3'!I117,'MDA3'!L117,'T1'!M117,'T2'!K117,T3_R1!L117,T3_R2!L117)","v":0},{"$f":"MAX('MDA1'!L117,'MDA2'!L117,'MDA3'!J117,'MDA3'!M117,'T1'!N117,'T2'!L117,T3_R1!M117,T3_R2!M117)","v":0},0,{"$f":"MAX('MDA2'!J117,T117)","v":0},{"$f":"MAX('MDA1'!K117,'MDA2'!K117,'MDA3'!I117,'MDA3'!L117,V117,AD117)","v":0},{"$f":"MAX('MDA1'!L117,'MDA2'!L117,'MDA3'!J117,'MDA3'!M117,AF117)","v":0},0,0]
[{"$f":"IF(COUNTRY_INFO!A118=0,\" \",COUNTRY_INFO!A118)","v":"Guinea Bissau"},{"$f":"IF(COUNTRY_INFO!B118=0,\" \",COUNTRY_INFO!B118)","v":"Cacheu"},{"$f":"IF(COUNTRY_INFO!C118=0,\" \",COUNTRY_INFO!C118)","v":"Ingoré"},{"$f":"COUNTRY_INFO!L118","v":26373},null,null,{"$f":"MAX('MDA1'!M118,'MDA2'!M118)","v":0},{"$f":"IF(AND(COUNTRY_INFO!H118>0,COUNTRY_INFO!H118<4),IF(D118>MAX('MDA1'!M118,'MDA2'!M118),MAX('MDA1'!M118,'MDA2'!M118),D118),0)","v":0},{"$f":"IF(AND(COUNTRY_INFO!H118>0,COUNTRY_INFO!H118<4), IF(G118/D118*100<>0, IF(G118/D118*100>100,100,G118/D118*100), \"-\"),0)","v":"-"},{"$f":"COUNTRY_INFO!M118","v":"Inconnu"},null,null,{"$f":"MAX('MDA1'!M118,MAX('MDA3'!I118,'MDA3'!L118)+MAX('MDA3'!J118,'MDA3'!M118))","v":0},{"$f":"IF(AND(COUNTRY_INFO!I118>0,COUNTRY_INFO!I118<4),IF(J118>MAX('MDA1'!M118,MAX('MDA3'!I118,'MDA3'!L118)+MAX('MDA3'!J118,'MDA3'!M118)),MAX('MDA1'!M118,MAX('MDA3'!I118,'MDA3'!L118)+MAX('MDA3'!J118,'MDA3'!M118)),J118),0)","v":0},{"$f":"IF(AND(COUNTRY_INFO!I118>0,COUNTRY_INFO!I118<4), IF(M118/J118*100<>0, IF(M118/J118*100>100,100,M118/J118*100), \"-\"),0)","v":0},{"$f":"COUNTRY_INFO!N118","v":0},null,null,{"$f":"SUM(MAX('MDA2'!J118, 'T1'!L118, MAX(T3_R1!K118, T3_R2!K118)), MAX('MDA1'!K118, 'MDA2'!K118, 'T1'!M118, MAX(T3_R1!L118, T3_R2!L118)), MAX('MDA1'!L118, 'MDA2'!L118, 'T1'!N118, MAX(T3_R1!M118, T3_R2!M118)))","v":0},{"$f":"IF(AND(COUNTRY_INFO!J118>1,COUNTRY_INFO!J118<4),IF(COUNTRY_INFO!E118>MAX('MDA2'!J118,'T1'!L118,MAX(T3_R1!K118,T3_R2!K118)),MAX('MDA2'!J118,'T1'!L118,MAX(T3_R1!K118,T3_R2!K118)),COUNTRY_INFO!E118),0)","v":0},{"$f":"IF(AND(COUNTRY_INFO!J118>1,COUNTRY_INFO!J118<4), IF(T118/COUNTRY_INFO!E118*100<>0, IF(T118/COUNTRY_INFO!E118*100>100,100,T118/COUNTRY_INFO!E118*100), \"-\"),0)","v":0},{"$f":"IF(AND(COUNTRY_INFO!J118>1,COUNTRY_INFO!J118<4),IF(COUNTRY_INFO!F118>MAX('MDA1'!K118,'MDA2'!K118,'T1'!M118,MAX(T3_R1!L118,T3_R2!L118)),MAX('MDA1'!K118,'MDA2'!K118,'T1'!M118,MAX(T3_R1!L118,T3_R2!L118)),COUNTRY_INFO!F118),0)","v":0},{"$f":"IF(AND(COUNTRY_INFO!J118>1,COUNTRY_INFO!J118<4), IF(V118/COUNTRY_INFO!F118*100<>0, IF(V118/COUNTRY_INFO!F118*100>100,100,V118/COUNTRY_INFO!F118*100), \"-\"),0)","v":0},0,{"$f":"IF(AND(COUNTRY_INFO!J118>1,COUNTRY_INFO!J118<4), IF(S118/P118*100<>0, IF(X118/P118*100>100,100,X118/P118*100), \"-\"),0)","v":0},{"$f":"COUNTRY_INFO!O118","v":0},null,null,{"$f":"MAX('T1'!L118,'T2'!J118)+MAX('T1'!M118,'T2'!K118)+MAX('T1'!N118,'T2'!L118)","v":0},{"$f":"IF(COUNTRY_INFO!K118=1,IF(COUNTRY_INFO!F118*0.33>MAX('T1'!M118,'T2'!K118),MAX('T1'!M118,'T2'!K118),COUNTRY_INFO!F118*0.33),IF(COUNTRY_INFO!K118=2,IF(COUNTRY_INFO!F118*0.5>MAX('T1'!M118,'T2'!K118),MAX('T1'!M118,'T2'!K118),COUNTRY_INFO!F118*0.5),IF(COUNTRY_INFO!K118=3,IF(COUNTRY_INFO!F118>MAX('T1'!M118,'T2'!K118),MAX('T1'!M118,'T2'!K118),COUNTRY_INFO!F118),0)))","v":0},{"$f":"IF(AND(COUNTRY_INFO!K118>0,COUNTRY_INFO!K118<4),IF(Z118>0,IF(COUNTRY_INFO!K118=1, AD118/(COUNTRY_INFO!F118*0.33)*100, IF(COUNTRY_INFO!K118=2, AD118/(COUNTRY_INFO!F118*0.5)*100, IF(COUNTRY_INFO!K118=3, AD118/COUNTRY_INFO!F118*100))),\"-\"),0)","v":0},{"$f":"IF(COUNTRY_INFO!K118=2,IF(COUNTRY_INFO!G118*0.2>MAX('T1'!N118,'T2'!L118),MAX('T1'!N118,'T2'!L118),COUNTRY_INFO!G118*0.2),IF(COUNTRY_INFO!K118=3,IF(COUNTRY_INFO!G118>MAX('T1'!N118,'T2'!L118),MAX('T1'!N118,'T2'!L118),COUNTRY_INFO!G118),0))","v":0},{"$f":"IF(AND(COUNTRY_INFO!K118>0,COUNTRY_INFO!K118<4),IF(Z118>0,IF(COUNTRY_INFO!K118=1, 0, IF(COUNTRY_INFO!K118=2, AF118/(COUNTRY_INFO!G118*0.2)*100, IF(COUNTRY_INFO!K118=3, AF118/COUNTRY_INFO!G118*100))),\"-\"),0)","v":0},0,{"$f":"IF(AND(COUNTRY_INFO!K118>0,COUNTRY_INFO!K118<4), IF(AC118/Z118*100<>0, IF(AH118/Z118*100>100,100,AH118/Z118*100), \"-\"),0)","v":0},null,{"$f":"IF(AND(D118<>0, D118<>\"Inconnu\",D118<>\"Interrompu\",D118<>\"Non requis\"),D118/COUNTRY_INFO!D118, 0)","v":1},{"$f":"IF(AND(J118<>0,J118<>\"Inconnu\",J118<>\"Interrompu\",J118<>\"Non requis\"),J118/COUNTRY_INFO!D118, 0)","v":0},{"$f":"IF(AND(P118<>0,P118<>\"Inconnu\",P118<>\"Non requis\"),P118/(COUNTRY_INFO!E118+COUNTRY_INFO!F118), 0)","v":0},{"$f":"IF(AND(Z118<>0,Z118<>\"Inconnu\",Z118<>\"Non requis\"),IF(COUNTRY_INFO!K118=1,1,IF(COUNTRY_INFO!K118=2,0.5*COUNTRY_INFO!F118/(0.5*COUNTRY_INFO!F118+0.2*COUNTRY_INFO!G118),IF(COUNTRY_INFO!K118=3,COUNTRY_INFO!F118/(COUNTRY_INFO!F118+COUNTRY_INFO!G118)))),0)","v":0},{"$f":"IF(AND(Z118<>0,Z118<>\"Inconnu\",Z118<>\"Non requis\"),IF(COUNTRY_INFO!K118=1,0,IF(COUNTRY_INFO!K118=2,0.2*COUNTRY_INFO!G118/(0.5*COUNTRY_INFO!F118+0.2*COUNTRY_INFO!G118),IF(COUNTRY_INFO!K118=3,COUNTRY_INFO!G118/(COUNTRY_INFO!F118+COUNTRY_INFO!G118)))),0)","v":0},{"$f":"MAX(COUNTRY_INFO!D118*AK118*PROFILE!$G$7,COUNTRY_INFO!D118*AL118*PROFILE!$G$7)","v":1168.2724370114311},{"$f":"MAX(COUNTRY_INFO!D118*AK118*PROFILE!$G$8,COUNTRY_INFO!D118*AL118*PROFILE!$G$8,COUNTRY_INFO!D118*AM118*PROFILE!$G$8)","v":3507.6220419989859},{"$f":"MAX(COUNTRY_INFO!D118*AK118*PROFILE!$G$9,COUNTRY_INFO!D118*AL118*PROFILE!$G$9,COUNTRY_INFO!D118*AM118*PROFILE!$G$9,IF(AND(DISTRICT!Z118<>\"Inconnu\",Z118<>\"Non requis\"),COUNTRY_INFO!O118*DISTRICT!AN118,0))","v":6756.7881256015344},{"$f":"MAX(COUNTRY_INFO!D118*AK118*PROFILE!$G$10,COUNTRY_INFO!D118*AL118*PROFILE!$G$10,IF(AND(DISTRICT!Z118<>\"Inconnu\",Z118<>\"Non requis\"),COUNTRY_INFO!O118*DISTRICT!AO118,0))","v":14940.317395388049},26373,0,{"$f":"MAX('MDA2'!J118,'T1'!L118,'T2'!J118,T3_R1!K118,T3_R2!K118)","v":0},{"$f":"MAX('MDA1'!K118,'MDA2'!K118,'MDA3'!I118,'MDA3'!L118,'T1'!M118,'T2'!K118,T3_R1!L118,T3_R2!L118)","v":0},{"$f":"MAX('MDA1'!L118,'MDA2'!L118,'MDA3'!J118,'MDA3'!M118,'T1'!N118,'T2'!L118,T3_R1!M118,T3_R2!M118)","v":0},0,{"$f":"MAX('MDA2'!J118,T118)","v":0},{"$f":"MAX('MDA1'!K118,'MDA2'!K118,'MDA3'!I118,'MDA3'!L118,V118,AD118)","v":0},{"$f":"MAX('MDA1'!L118,'MDA2'!L118,'MDA3'!J118,'MDA3'!M118,AF118)","v":0},0,0]
[{"$f":"IF(COUNTRY_INFO!A119=0,\" \",COUNTRY_INFO!A119)","v":"Guinea Bissau"},{"$f":"IF(COUNTRY_INFO!B119=0,\" \",COUNTRY_INFO!B119)","v":"Cacheu"},{"$f":"IF(COUNTRY_INFO!C119=0,\" \",COUNTRY_INFO!C119)","v":"Jeta"},{"$f":"COUNTRY_INFO!L119","v":1969},null,null,{"$f":"MAX('MDA1'!M119,'MDA2'!M119)","v":0},{"$f":"IF(AND(COUNTRY_INFO!H119>0,COUNTRY_INFO!H119<4),IF(D119>MAX('MDA1'!M119,'MDA2'!M119),MAX('MDA1'!M119,'MDA2'!M119),D119),0)","v":0},{"$f":"IF(AND(COUNTRY_INFO!H119>0,COUNTRY_INFO!H119<4), IF(G119/D119*100<>0, IF(G119/D119*100>100,100,G119/D119*100), \"-\"),0)","v":"-"},{"$f":"COUNTRY_INFO!M119","v":"Inconnu"},null,null,{"$f":"MAX('MDA1'!M119,MAX('MDA3'!I119,'MDA3'!L119)+MAX('MDA3'!J119,'MDA3'!M119))","v":0},{"$f":"IF(AND(COUNTRY_INFO!I119>0,COUNTRY_INFO!I119<4),IF(J119>MAX('MDA1'!M119,MAX('MDA3'!I119,'MDA3'!L119)+MAX('MDA3'!J119,'MDA3'!M119)),MAX('MDA1'!M119,MAX('MDA3'!I119,'MDA3'!L119)+MAX('MDA3'!J119,'MDA3'!M119)),J119),0)","v":0},{"$f":"IF(AND(COUNTRY_INFO!I119>0,COUNTRY_INFO!I119<4), IF(M119/J119*100<>0, IF(M119/J119*100>100,100,M119/J119*100), \"-\"),0)","v":0},{"$f":"COUNTRY_INFO!N119","v":766},null,null,{"$f":"SUM(MAX('MDA2'!J119, 'T1'!L119, MAX(T3_R1!K119, T3_R2!K119)), MAX('MDA1'!K119, 'MDA2'!K119, 'T1'!M119, MAX(T3_R1!L119, T3_R2!L119)), MAX('MDA1'!L119, 'MDA2'!L119, 'T1'!N119, MAX(T3_R1!M119, T3_R2!M119)))","v":0},{"$f":"IF(AND(COUNTRY_INFO!J119>1,COUNTRY_INFO!J119<4),IF(COUNTRY_INFO!E119>MAX('MDA2'!J119,'T1'!L119,MAX(T3_R1!K119,T3_R2!K119)),MAX('MDA2'!J119,'T1'!L119,MAX(T3_R1!K119,T3_R2!K119)),COUNTRY_INFO!E119),0)","v":0},{"$f":"IF(AND(COUNTRY_INFO!J119>1,COUNTRY_INFO!J119<4), IF(T119/COUNTRY_INFO!E119*100<>0, IF(T119/COUNTRY_INFO!E119*100>100,100,T119/COUNTRY_INFO!E119*100), \"-\"),0)","v":"-"},{"$f":"IF(AND(COUNTRY_INFO!J119>1,COUNTRY_INFO!J119<4),IF(COUNTRY_INFO!F119>MAX('MDA1'!K119,'MDA2'!K119,'T1'!M119,MAX(T3_R1!L119,T3_R2!L119)),MAX('MDA1'!K119,'MDA2'!K119,'T1'!M119,MAX(T3_R1!L119,T3_R2!L119)),COUNTRY_INFO!F119),0)","v":0},{"$f":"IF(AND(COUNTRY_INFO!J119>1,COUNTRY_INFO!J119<4), IF(V119/COUNTRY_INFO!F119*100<>0, IF(V119/COUNTRY_INFO!F119*100>100,100,V119/COUNTRY_INFO!F119*100), \"-\"),0)","v":"-"},0,{"$f":"IF(AND(COUNTRY_INFO!J119>1,COUNTRY_INFO!J119<4), IF(S119/P119*100<>0, IF(X119/P119*100>100,100,X119/P119*100), \"-\"),0)","v":"-"},{"$f":"COUNTRY_INFO!O119","v":166.32000000000002},null,null,{"$f":"MAX('T1'!L119,'T2'!J119)+MAX('T1'!M119,'T2'!K119)+MAX('T1'!N119,'T2'!L119)","v":0},{"$f":"IF(COUNTRY_INFO!K119=1,IF(COUNTRY_INFO!F119*0.33>MAX('T1'!M119,'T2'!K119),MAX('T1'!M119,'T2'!K119),COUNTRY_INFO!F119*0.33),IF(COUNTRY_INFO!K119=2,IF(COUNTRY_INFO!F119*0.5>MAX('T1'!M119,'T2'!K119),MAX('T1'!M119,'T2'!K119),COUNTRY_INFO!F119*0.5),IF(COUNTRY_INFO!K119=3,IF(COUNTRY_INFO!F119>MAX('T1'!M119,'T2'!K119),MAX('T1'!M119,'T2'!K119),COUNTRY_INFO!F119),0)))","v":0},{"$f":"IF(AND(COUNTRY_INFO!K119>0,COUNTRY_INFO!K119<4),IF(Z119>0,IF(COUNTRY_INFO!K119=1, AD119/(COUNTRY_INFO!F119*0.33)*100, IF(COUNTRY_INFO!K119=2, AD119/(COUNTRY_INFO!F119*0.5)*100, IF(COUNTRY_INFO!K119=3, AD119/COUNTRY_INFO!F119*100))),\"-\"),0)","v":0},{"$f":"IF(COUNTRY_INFO!K119=2,IF(COUNTRY_INFO!G119*0.2>MAX('T1'!N119,'T2'!L119),MAX('T1'!N119,'T2'!L119),COUNTRY_INFO!G119*0.2),IF(COUNTRY_INFO!K119=3,IF(COUNTRY_INFO!G119>MAX('T1'!N119,'T2'!L119),MAX('T1'!N119,'T2'!L119),COUNTRY_INFO!G119),0))","v":0},{"$f":"IF(AND(COUNTRY_INFO!K119>0,COUNTRY_INFO!K119<4),IF(Z119>0,IF(COUNTRY_INFO!K119=1, 0, IF(COUNTRY_INFO!K119=2, AF119/(COUNTRY_INFO!G119*0.2)*100, IF(COUNTRY_INFO!K119=3, AF119/COUNTRY_INFO!G119*100))),\"-\"),0)","v":0},0,{"$f":"IF(AND(COUNTRY_INFO!K119>0,COUNTRY_INFO!K119<4), IF(AC119/Z119*100<>0, IF(AH119/Z119*100>100,100,AH119/Z119*100), \"-\"),0)","v":"-"},null,{"$f":"IF(AND(D119<>0, D119<>\"Inconnu\",D119<>\"Interrompu\",D119<>\"Non requis\"),D119/COUNTRY_INFO!D119, 0)","v":1},{"$f":"IF(AND(J119<>0,J119<>\"Inconnu\",J119<>\"Interrompu\",J119<>\"Non requis\"),J119/COUNTRY_INFO!D119, 0)","v":0},{"$f":"IF(AND(P119<>0,P119<>\"Inconnu\",P119<>\"Non requis\"),P119/(COUNTRY_INFO!E119+COUNTRY_INFO!F119), 0)","v":1},{"$f":"IF(AND(Z119<>0,Z119<>\"Inconnu\",Z119<>\"Non requis\"),IF(COUNTRY_INFO!K119=1,1,IF(COUNTRY_INFO!K119=2,0.5*COUNTRY_INFO!F119/(0.5*COUNTRY_INFO!F119+0.2*COUNTRY_INFO!G119),IF(COUNTRY_INFO!K119=3,COUNTRY_INFO!F119/(COUNTRY_INFO!F119+COUNTRY_INFO!G119)))),0)","v":1},{"$f":"IF(AND(Z119<>0,Z119<>\"Inconnu\",Z119<>\"Non requis\"),IF(COUNTRY_INFO!K119=1,0,IF(COUNTRY_INFO!K119=2,0.2*COUNTRY_INFO!G119/(0.5*COUNTRY_INFO!F119+0.2*COUNTRY_INFO!G119),IF(COUNTRY_INFO!K119=3,COUNTRY_INFO!G119/(COUNTRY_INFO!F119+COUNTRY_INFO!G119)))),0)","v":0},{"$f":"MAX(COUNTRY_INFO!D119*AK119*PROFILE!$G$7,COUNTRY_INFO!D119*AL119*PROFILE!$G$7)","v":87.222857789235491},{"$f":"MAX(COUNTRY_INFO!D119*AK119*PROFILE!$G$8,COUNTRY_INFO!D119*AL119*PROFILE!$G$8,COUNTRY_INFO!D119*AM119*PROFILE!$G$8)","v":261.87797371159911},{"$f":"MAX(COUNTRY_INFO!D119*AK119*PROFILE!$G$9,COUNTRY_INFO!D119*AL119*PROFILE!$G$9,COUNTRY_INFO!D119*AM119*PROFILE!$G$9,IF(AND(DISTRICT!Z119<>\"Inconnu\",Z119<>\"Non requis\"),COUNTRY_INFO!O119*DISTRICT!AN119,0))","v":504.45970573349337},{"$f":"MAX(COUNTRY_INFO!D119*AK119*PROFILE!$G$10,COUNTRY_INFO!D119*AL119*PROFILE!$G$10,IF(AND(DISTRICT!Z119<>\"Inconnu\",Z119<>\"Non requis\"),COUNTRY_INFO!O119*DISTRICT!AO119,0))","v":1115.439462765672},1969,0,{"$f":"MAX('MDA2'!J119,'T1'!L119,'T2'!J119,T3_R1!K119,T3_R2!K119)","v":0},{"$f":"MAX('MDA1'!K119,'MDA2'!K119,'MDA3'!I119,'MDA3'!L119,'T1'!M119,'T2'!K119,T3_R1!L119,T3_R2!L119)","v":0},{"$f":"MAX('MDA1'!L119,'MDA2'!L119,'MDA3'!J119,'MDA3'!M119,'T1'!N119,'T2'!L119,T3_R1!M119,T3_R2!M119)","v":0},0,{"$f":"MAX('MDA2'!J119,T119)","v":0},{"$f":"MAX('MDA1'!K119,'MDA2'!K119,'MDA3'!I119,'MDA3'!L119,V119,AD119)","v":0},{"$f":"MAX('MDA1'!L119,'MDA2'!L119,'MDA3'!J119,'MDA3'!M119,AF119)","v":0},0,0]
[{"$f":"IF(COUNTRY_INFO!A120=0,\" \",COUNTRY_INFO!A120)","v":"Guinea Bissau"},{"$f":"IF(COUNTRY_INFO!B120=0,\" \",COUNTRY_INFO!B120)","v":"Cacheu"},{"$f":"IF(COUNTRY_INFO!C120=0,\" \",COUNTRY_INFO!C120)","v":"Pecixe"},{"$f":"COUNTRY_INFO!L120","v":7487},null,null,{"$f":"MAX('MDA1'!M120,'MDA2'!M120)","v":0},{"$f":"IF(AND(COUNTRY_INFO!H120>0,COUNTRY_INFO!H120<4),IF(D120>MAX('MDA1'!M120,'MDA2'!M120),MAX('MDA1'!M120,'MDA2'!M120),D120),0)","v":0},{"$f":"IF(AND(COUNTRY_INFO!H120>0,COUNTRY_INFO!H120<4), IF(G120/D120*100<>0, IF(G120/D120*100>100,100,G120/D120*100), \"-\"),0)","v":"-"},{"$f":"COUNTRY_INFO!M120","v":"Inconnu"},null,null,{"$f":"MAX('MDA1'!M120,MAX('MDA3'!I120,'MDA3'!L120)+MAX('MDA3'!J120,'MDA3'!M120))","v":0},{"$f":"IF(AND(COUNTRY_INFO!I120>0,COUNTRY_INFO!I120<4),IF(J120>MAX('MDA1'!M120,MAX('MDA3'!I120,'MDA3'!L120)+MAX('MDA3'!J120,'MDA3'!M120)),MAX('MDA1'!M120,MAX('MDA3'!I120,'MDA3'!L120)+MAX('MDA3'!J120,'MDA3'!M120)),J120),0)","v":0},{"$f":"IF(AND(COUNTRY_INFO!I120>0,COUNTRY_INFO!I120<4), IF(M120/J120*100<>0, IF(M120/J120*100>100,100,M120/J120*100), \"-\"),0)","v":0},{"$f":"COUNTRY_INFO!N120","v":2914},null,null,{"$f":"SUM(MAX('MDA2'!J120, 'T1'!L120, MAX(T3_R1!K120, T3_R2!K120)), MAX('MDA1'!K120, 'MDA2'!K120, 'T1'!M120, MAX(T3_R1!L120, T3_R2!L120)), MAX('MDA1'!L120, 'MDA2'!L120, 'T1'!N120, MAX(T3_R1!M120, T3_R2!M120)))","v":0},{"$f":"IF(AND(COUNTRY_INFO!J120>1,COUNTRY_INFO!J120<4),IF(COUNTRY_INFO!E120>MAX('MDA2'!J120,'T1'!L120,MAX(T3_R1!K120,T3_R2!K120)),MAX('MDA2'!J120,'T1'!L120,MAX(T3_R1!K120,T3_R2!K120)),COUNTRY_INFO!E120),0)","v":0},{"$f":"IF(AND(COUNTRY_INFO!J120>1,COUNTRY_INFO!J120<4), IF(T120/COUNTRY_INFO!E120*100<>0, IF(T120/COUNTRY_INFO!E120*100>100,100,T120/COUNTRY_INFO!E120*100), \"-\"),0)","v":"-"},{"$f":"IF(AND(COUNTRY_INFO!J120>1,COUNTRY_INFO!J120<4),IF(COUNTRY_INFO!F120>MAX('MDA1'!K120,'MDA2'!K120,'T1'!M120,MAX(T3_R1!L120,T3_R2!L120)),MAX('MDA1'!K120,'MDA2'!K120,'T1'!M120,MAX(T3_R1!L120,T3_R2!L120)),COUNTRY_INFO!F120),0)","v":0},{"$f":"IF(AND(COUNTRY_INFO!J120>1,COUNTRY_INFO!J120<4), IF(V120/COUNTRY_INFO!F120*100<>0, IF(V120/COUNTRY_INFO!F120*100>100,100,V120/COUNTRY_INFO!F120*100), \"-\"),0)","v":"-"},0,{"$f":"IF(AND(COUNTRY_INFO!J120>1,COUNTRY_INFO!J120<4), IF(S120/P120*100<>0, IF(X120/P120*100>100,100,X120/P120*100), \"-\"),0)","v":"-"},{"$f":"COUNTRY_INFO!O120","v":632.94000000000005},null,null,{"$f":"MAX('T1'!L120,'T2'!J120)+MAX('T1'!M120,'T2'!K120)+MAX('T1'!N120,'T2'!L120)","v":0},{"$f":"IF(COUNTRY_INFO!K120=1,IF(COUNTRY_INFO!F120*0.33>MAX('T1'!M120,'T2'!K120),MAX('T1'!M120,'T2'!K120),COUNTRY_INFO!F120*0.33),IF(COUNTRY_INFO!K120=2,IF(COUNTRY_INFO!F120*0.5>MAX('T1'!M120,'T2'!K120),MAX('T1'!M120,'T2'!K120),COUNTRY_INFO!F120*0.5),IF(COUNTRY_INFO!K120=3,IF(COUNTRY_INFO!F120>MAX('T1'!M120,'T2'!K120),MAX('T1'!M120,'T2'!K120),COUNTRY_INFO!F120),0)))","v":0},{"$f":"IF(AND(COUNTRY_INFO!K120>0,COUNTRY_INFO!K120<4),IF(Z120>0,IF(COUNTRY_INFO!K120=1, AD120/(COUNTRY_INFO!F120*0.33)*100, IF(COUNTRY_INFO!K120=2, AD120/(COUNTRY_INFO!F120*0.5)*100, IF(COUNTRY_INFO!K120=3, AD120/COUNTRY_INFO!F120*100))),\"-\"),0)","v":0},{"$f":"IF(COUNTRY_INFO!K120=2,IF(COUNTRY_INFO!G120*0.2>MAX('T1'!N120,'T2'!L120),MAX('T1'!N120,'T2'!L120),COUNTRY_INFO!G120*0.2),IF(COUNTRY_INFO!K120=3,IF(COUNTRY_INFO!G120>MAX('T1'!N120,'T2'!L120),MAX('T1'!N120,'T2'!L120),COUNTRY_INFO!G120),0))","v":0},{"$f":"IF(AND(COUNTRY_INFO!K120>0,COUNTRY_INFO!K120<4),IF(Z120>0,IF(COUNTRY_INFO!K120=1, 0, IF(COUNTRY_INFO!K120=2, AF120/(COUNTRY_INFO!G120*0.2)*100, IF(COUNTRY_INFO!K120=3, AF120/COUNTRY_INFO!G120*100))),\"-\"),0)","v":0},0,{"$f":"IF(AND(COUNTRY_INFO!K120>0,COUNTRY_INFO!K120<4), IF(AC120/Z120*100<>0, IF(AH120/Z120*100>100,100,AH120/Z120*100), \"-\"),0)","v":"-"},null,{"$f":"IF(AND(D120<>0, D120<>\"Inconnu\",D120<>\"Interrompu\",D120<>\"Non requis\"),D120/COUNTRY_INFO!D120, 0)","v":1},{"$f":"IF(AND(J120<>0,J120<>\"Inconnu\",J120<>\"Interrompu\",J120<>\"Non requis\"),J120/COUNTRY_INFO!D120, 0)","v":0},{"$f":"IF(AND(P120<>0,P120<>\"Inconnu\",P120<>\"Non requis\"),P120/(COUNTRY_INFO!E120+COUNTRY_INFO!F120), 0)","v":1},{"$f":"IF(AND(Z120<>0,Z120<>\"Inconnu\",Z120<>\"Non requis\"),IF(COUNTRY_INFO!K120=1,1,IF(COUNTRY_INFO!K120=2,0.5*COUNTRY_INFO!F120/(0.5*COUNTRY_INFO!F120+0.2*COUNTRY_INFO!G120),IF(COUNTRY_INFO!K120=3,COUNTRY_INFO!F120/(COUNTRY_INFO!F120+COUNTRY_INFO!G120)))),0)","v":1},{"$f":"IF(AND(Z120<>0,Z120<>\"Inconnu\",Z120<>\"Non requis\"),IF(COUNTRY_INFO!K120=1,0,IF(COUNTRY_INFO!K120=2,0.2*COUNTRY_INFO!G120/(0.5*COUNTRY_INFO!F120+0.2*COUNTRY_INFO!G120),IF(COUNTRY_INFO!K120=3,COUNTRY_INFO!G120/(COUNTRY_INFO!F120+COUNTRY_INFO!G120)))),0)","v":0},{"$f":"MAX(COUNTRY_INFO!D120*AK120*PROFILE!$G$7,COUNTRY_INFO!D120*AL120*PROFILE!$G$7)","v":331.6594902326085},{"$f":"MAX(COUNTRY_INFO!D120*AK120*PROFILE!$G$8,COUNTRY_INFO!D120*AL120*PROFILE!$G$8,COUNTRY_INFO!D120*AM120*PROFILE!$G$8)","v":995.77470247777683},{"$f":"MAX(COUNTRY_INFO!D120*AK120*PROFILE!$G$9,COUNTRY_INFO!D120*AL120*PROFILE!$G$9,COUNTRY_INFO!D120*AM120*PROFILE!$G$9,IF(AND(DISTRICT!Z120<>\"Inconnu\",Z120<>\"Non requis\"),COUNTRY_INFO!O120*DISTRICT!AN120,0))","v":1918.1766464330447},{"$f":"MAX(COUNTRY_INFO!D120*AK120*PROFILE!$G$10,COUNTRY_INFO!D120*AL120*PROFILE!$G$10,IF(AND(DISTRICT!Z120<>\"Inconnu\",Z120<>\"Non requis\"),COUNTRY_INFO!O120*DISTRICT!AO120,0))","v":4241.38916085657},7487,0,{"$f":"MAX('MDA2'!J120,'T1'!L120,'T2'!J120,T3_R1!K120,T3_R2!K120)","v":0},{"$f":"MAX('MDA1'!K120,'MDA2'!K120,'MDA3'!I120,'MDA3'!L120,'T1'!M120,'T2'!K120,T3_R1!L120,T3_R2!L120)","v":0},{"$f":"MAX('MDA1'!L120,'MDA2'!L120,'MDA3'!J120,'MDA3'!M120,'T1'!N120,'T2'!L120,T3_R1!M120,T3_R2!M120)","v":0},0,{"$f":"MAX('MDA2'!J120,T120)","v":0},{"$f":"MAX('MDA1'!K120,'MDA2'!K120,'MDA3'!I120,'MDA3'!L120,V120,AD120)","v":0},{"$f":"MAX('MDA1'!L120,'MDA2'!L120,'MDA3'!J120,'MDA3'!M120,AF120)","v":0},0,0]
[{"$f":"IF(COUNTRY_INFO!A121=0,\" \",COUNTRY_INFO!A121)","v":"Guinea Bissau"},{"$f":"IF(COUNTRY_INFO!B121=0,\" \",COUNTRY_INFO!B121)","v":"Cacheu"},{"$f":"IF(COUNTRY_INFO!C121=0,\" \",COUNTRY_INFO!C121)","v":"Pelundo"},{"$f":"COUNTRY_INFO!L121","v":12557},null,null,{"$f":"MAX('MDA1'!M121,'MDA2'!M121)","v":0},{"$f":"IF(AND(COUNTRY_INFO!H121>0,COUNTRY_INFO!H121<4),IF(D121>MAX('MDA1'!M121,'MDA2'!M121),MAX('MDA1'!M121,'MDA2'!M121),D121),0)","v":0},{"$f":"IF(AND(COUNTRY_INFO!H121>0,COUNTRY_INFO!H121<4), IF(G121/D121*100<>0, IF(G121/D121*100>100,100,G121/D121*100), \"-\"),0)","v":"-"},{"$f":"COUNTRY_INFO!M121","v":"Inconnu"},null,null,{"$f":"MAX('MDA1'!M121,MAX('MDA3'!I121,'MDA3'!L121)+MAX('MDA3'!J121,'MDA3'!M121))","v":0},{"$f":"IF(AND(COUNTRY_INFO!I121>0,COUNTRY_INFO!I121<4),IF(J121>MAX('MDA1'!M121,MAX('MDA3'!I121,'MDA3'!L121)+MAX('MDA3'!J121,'MDA3'!M121)),MAX('MDA1'!M121,MAX('MDA3'!I121,'MDA3'!L121)+MAX('MDA3'!J121,'MDA3'!M121)),J121),0)","v":0},{"$f":"IF(AND(COUNTRY_INFO!I121>0,COUNTRY_INFO!I121<4), IF(M121/J121*100<>0, IF(M121/J121*100>100,100,M121/J121*100), \"-\"),0)","v":0},{"$f":"COUNTRY_INFO!N121","v":4887},null,null,{"$f":"SUM(MAX('MDA2'!J121, 'T1'!L121, MAX(T3_R1!K121, T3_R2!K121)), MAX('MDA1'!K121, 'MDA2'!K121, 'T1'!M121, MAX(T3_R1!L121, T3_R2!L121)), MAX('MDA1'!L121, 'MDA2'!L121, 'T1'!N121, MAX(T3_R1!M121, T3_R2!M121)))","v":0},{"$f":"IF(AND(COUNTRY_INFO!J121>1,COUNTRY_INFO!J121<4),IF(COUNTRY_INFO!E121>MAX('MDA2'!J121,'T1'!L121,MAX(T3_R1!K121,T3_R2!K121)),MAX('MDA2'!J121,'T1'!L121,MAX(T3_R1!K121,T3_R2!K121)),COUNTRY_INFO!E121),0)","v":0},{"$f":"IF(AND(COUNTRY_INFO!J121>1,COUNTRY_INFO!J121<4), IF(T121/COUNTRY_INFO!E121*100<>0, IF(T121/COUNTRY_INFO!E121*100>100,100,T121/COUNTRY_INFO!E121*100), \"-\"),0)","v":"-"},{"$f":"IF(AND(COUNTRY_INFO!J121>1,COUNTRY_INFO!J121<4),IF(COUNTRY_INFO!F121>MAX('MDA1'!K121,'MDA2'!K121,'T1'!M121,MAX(T3_R1!L121,T3_R2!L121)),MAX('MDA1'!K121,'MDA2'!K121,'T1'!M121,MAX(T3_R1!L121,T3_R2!L121)),COUNTRY_INFO!F121),0)","v":0},{"$f":"IF(AND(COUNTRY_INFO!J121>1,COUNTRY_INFO!J121<4), IF(V121/COUNTRY_INFO!F121*100<>0, IF(V121/COUNTRY_INFO!F121*100>100,100,V121/COUNTRY_INFO!F121*100), \"-\"),0)","v":"-"},0,{"$f":"IF(AND(COUNTRY_INFO!J121>1,COUNTRY_INFO!J121<4), IF(S121/P121*100<>0, IF(X121/P121*100>100,100,X121/P121*100), \"-\"),0)","v":"-"},{"$f":"COUNTRY_INFO!O121","v":0},null,null,{"$f":"MAX('T1'!L121,'T2'!J121)+MAX('T1'!M121,'T2'!K121)+MAX('T1'!N121,'T2'!L121)","v":0},{"$f":"IF(COUNTRY_INFO!K121=1,IF(COUNTRY_INFO!F121*0.33>MAX('T1'!M121,'T2'!K121),MAX('T1'!M121,'T2'!K121),COUNTRY_INFO!F121*0.33),IF(COUNTRY_INFO!K121=2,IF(COUNTRY_INFO!F121*0.5>MAX('T1'!M121,'T2'!K121),MAX('T1'!M121,'T2'!K121),COUNTRY_INFO!F121*0.5),IF(COUNTRY_INFO!K121=3,IF(COUNTRY_INFO!F121>MAX('T1'!M121,'T2'!K121),MAX('T1'!M121,'T2'!K121),COUNTRY_INFO!F121),0)))","v":0},{"$f":"IF(AND(COUNTRY_INFO!K121>0,COUNTRY_INFO!K121<4),IF(Z121>0,IF(COUNTRY_INFO!K121=1, AD121/(COUNTRY_INFO!F121*0.33)*100, IF(COUNTRY_INFO!K121=2, AD121/(COUNTRY_INFO!F121*0.5)*100, IF(COUNTRY_INFO!K121=3, AD121/COUNTRY_INFO!F121*100))),\"-\"),0)","v":0},{"$f":"IF(COUNTRY_INFO!K121=2,IF(COUNTRY_INFO!G121*0.2>MAX('T1'!N121,'T2'!L121),MAX('T1'!N121,'T2'!L121),COUNTRY_INFO!G121*0.2),IF(COUNTRY_INFO!K121=3,IF(COUNTRY_INFO!G121>MAX('T1'!N121,'T2'!L121),MAX('T1'!N121,'T2'!L121),COUNTRY_INFO!G121),0))","v":0},{"$f":"IF(AND(COUNTRY_INFO!K121>0,COUNTRY_INFO!K121<4),IF(Z121>0,IF(COUNTRY_INFO!K121=1, 0, IF(COUNTRY_INFO!K121=2, AF121/(COUNTRY_INFO!G121*0.2)*100, IF(COUNTRY_INFO!K121=3, AF121/COUNTRY_INFO!G121*100))),\"-\"),0)","v":0},0,{"$f":"IF(AND(COUNTRY_INFO!K121>0,COUNTRY_INFO!K121<4), IF(AC121/Z121*100<>0, IF(AH121/Z121*100>100,100,AH121/Z121*100), \"-\"),0)","v":0},null,{"$f":"IF(AND(D121<>0, D121<>\"Inconnu\",D121<>\"Interrompu\",D121<>\"Non requis\"),D121/COUNTRY_INFO!D121, 0)","v":1},{"$f":"IF(AND(J121<>0,J121<>\"Inconnu\",J121<>\"Interrompu\",J121<>\"Non requis\"),J121/COUNTRY_INFO!D121, 0)","v":0},{"$f":"IF(AND(P121<>0,P121<>\"Inconnu\",P121<>\"Non requis\"),P121/(COUNTRY_INFO!E121+COUNTRY_INFO!F121), 0)","v":1},{"$f":"IF(AND(Z121<>0,Z121<>\"Inconnu\",Z121<>\"Non requis\"),IF(COUNTRY_INFO!K121=1,1,IF(COUNTRY_INFO!K121=2,0.5*COUNTRY_INFO!F121/(0.5*COUNTRY_INFO!F121+0.2*COUNTRY_INFO!G121),IF(COUNTRY_INFO!K121=3,COUNTRY_INFO!F121/(COUNTRY_INFO!F121+COUNTRY_INFO!G121)))),0)","v":0},{"$f":"IF(AND(Z121<>0,Z121<>\"Inconnu\",Z121<>\"Non requis\"),IF(COUNTRY_INFO!K121=1,0,IF(COUNTRY_INFO!K121=2,0.2*COUNTRY_INFO!G121/(0.5*COUNTRY_INFO!F121+0.2*COUNTRY_INFO!G121),IF(COUNTRY_INFO!K121=3,COUNTRY_INFO!G121/(COUNTRY_INFO!F121+COUNTRY_INFO!G121)))),0)","v":0},{"$f":"MAX(COUNTRY_INFO!D121*AK121*PROFILE!$G$7,COUNTRY_INFO!D121*AL121*PROFILE!$G$7)","v":556.2505968813764},{"$f":"MAX(COUNTRY_INFO!D121*AK121*PROFILE!$G$8,COUNTRY_INFO!D121*AL121*PROFILE!$G$8,COUNTRY_INFO!D121*AM121*PROFILE!$G$8)","v":1670.0872096986034},{"$f":"MAX(COUNTRY_INFO!D121*AK121*PROFILE!$G$9,COUNTRY_INFO!D121*AL121*PROFILE!$G$9,COUNTRY_INFO!D121*AM121*PROFILE!$G$9,IF(AND(DISTRICT!Z121<>\"Inconnu\",Z121<>\"Non requis\"),COUNTRY_INFO!O121*DISTRICT!AN121,0))","v":3217.1155535274129},{"$f":"MAX(COUNTRY_INFO!D121*AK121*PROFILE!$G$10,COUNTRY_INFO!D121*AL121*PROFILE!$G$10,IF(AND(DISTRICT!Z121<>\"Inconnu\",Z121<>\"Non requis\"),COUNTRY_INFO!O121*DISTRICT!AO121,0))","v":7113.5466398926064},12557,0,{"$f":"MAX('MDA2'!J121,'T1'!L121,'T2'!J121,T3_R1!K121,T3_R2!K121)","v":0},{"$f":"MAX('MDA1'!K121,'MDA2'!K121,'MDA3'!I121,'MDA3'!L121,'T1'!M121,'T2'!K121,T3_R1!L121,T3_R2!L121)","v":0},{"$f":"MAX('MDA1'!L121,'MDA2'!L121,'MDA3'!J121,'MDA3'!M121,'T1'!N121,'T2'!L121,T3_R1!M121,T3_R2!M121)","v":0},0,{"$f":"MAX('MDA2'!J121,T121)","v":0},{"$f":"MAX('MDA1'!K121,'MDA2'!K121,'MDA3'!I121,'MDA3'!L121,V121,AD121)","v":0},{"$f":"MAX('MDA1'!L121,'MDA2'!L121,'MDA3'!J121,'MDA3'!M121,AF121)","v":0},0,0]
[{"$f":"IF(COUNTRY_INFO!A122=0,\" \",COUNTRY_INFO!A122)","v":"Guinea Bissau"},{"$f":"IF(COUNTRY_INFO!B122=0,\" \",COUNTRY_INFO!B122)","v":"Cacheu"},{"$f":"IF(COUNTRY_INFO!C122=0,\" \",COUNTRY_INFO!C122)","v":"S.Domingos"},{"$f":"COUNTRY_INFO!L122","v":21700},null,null,{"$f":"MAX('MDA1'!M122,'MDA2'!M122)","v":0},{"$f":"IF(AND(COUNTRY_INFO!H122>0,COUNTRY_INFO!H122<4),IF(D122>MAX('MDA1'!M122,'MDA2'!M122),MAX('MDA1'!M122,'MDA2'!M122),D122),0)","v":0},{"$f":"IF(AND(COUNTRY_INFO!H122>0,COUNTRY_INFO!H122<4), IF(G122/D122*100<>0, IF(G122/D122*100>100,100,G122/D122*100), \"-\"),0)","v":"-"},{"$f":"COUNTRY_INFO!M122","v":"Inconnu"},null,null,{"$f":"MAX('MDA1'!M122,MAX('MDA3'!I122,'MDA3'!L122)+MAX('MDA3'!J122,'MDA3'!M122))","v":0},{"$f":"IF(AND(COUNTRY_INFO!I122>0,COUNTRY_INFO!I122<4),IF(J122>MAX('MDA1'!M122,MAX('MDA3'!I122,'MDA3'!L122)+MAX('MDA3'!J122,'MDA3'!M122)),MAX('MDA1'!M122,MAX('MDA3'!I122,'MDA3'!L122)+MAX('MDA3'!J122,'MDA3'!M122)),J122),0)","v":0},{"$f":"IF(AND(COUNTRY_INFO!I122>0,COUNTRY_INFO!I122<4), IF(M122/J122*100<>0, IF(M122/J122*100>100,100,M122/J122*100), \"-\"),0)","v":0},{"$f":"COUNTRY_INFO!N122","v":0},null,null,{"$f":"SUM(MAX('MDA2'!J122, 'T1'!L122, MAX(T3_R1!K122, T3_R2!K122)), MAX('MDA1'!K122, 'MDA2'!K122, 'T1'!M122, MAX(T3_R1!L122, T3_R2!L122)), MAX('MDA1'!L122, 'MDA2'!L122, 'T1'!N122, MAX(T3_R1!M122, T3_R2!M122)))","v":0},{"$f":"IF(AND(COUNTRY_INFO!J122>1,COUNTRY_INFO!J122<4),IF(COUNTRY_INFO!E122>MAX('MDA2'!J122,'T1'!L122,MAX(T3_R1!K122,T3_R2!K122)),MAX('MDA2'!J122,'T1'!L122,MAX(T3_R1!K122,T3_R2!K122)),COUNTRY_INFO!E122),0)","v":0},{"$f":"IF(AND(COUNTRY_INFO!J122>1,COUNTRY_INFO!J122<4), IF(T122/COUNTRY_INFO!E122*100<>0, IF(T122/COUNTRY_INFO!E122*100>100,100,T122/COUNTRY_INFO!E122*100), \"-\"),0)","v":0},{"$f":"IF(AND(COUNTRY_INFO!J122>1,COUNTRY_INFO!J122<4),IF(COUNTRY_INFO!F122>MAX('MDA1'!K122,'MDA2'!K122,'T1'!M122,MAX(T3_R1!L122,T3_R2!L122)),MAX('MDA1'!K122,'MDA2'!K122,'T1'!M122,MAX(T3_R1!L122,T3_R2!L122)),COUNTRY_INFO!F122),0)","v":0},{"$f":"IF(AND(COUNTRY_INFO!J122>1,COUNTRY_INFO!J122<4), IF(V122/COUNTRY_INFO!F122*100<>0, IF(V122/COUNTRY_INFO!F122*100>100,100,V122/COUNTRY_INFO!F122*100), \"-\"),0)","v":0},0,{"$f":"IF(AND(COUNTRY_INFO!J122>1,COUNTRY_INFO!J122<4), IF(S122/P122*100<>0, IF(X122/P122*100>100,100,X122/P122*100), \"-\"),0)","v":0},{"$f":"COUNTRY_INFO!O122","v":5238.6000000000004},null,null,{"$f":"MAX('T1'!L122,'T2'!J122)+MAX('T1'!M122,'T2'!K122)+MAX('T1'!N122,'T2'!L122)","v":0},{"$f":"IF(COUNTRY_INFO!K122=1,IF(COUNTRY_INFO!F122*0.33>MAX('T1'!M122,'T2'!K122),MAX('T1'!M122,'T2'!K122),COUNTRY_INFO!F122*0.33),IF(COUNTRY_INFO!K122=2,IF(COUNTRY_INFO!F122*0.5>MAX('T1'!M122,'T2'!K122),MAX('T1'!M122,'T2'!K122),COUNTRY_INFO!F122*0.5),IF(COUNTRY_INFO!K122=3,IF(COUNTRY_INFO!F122>MAX('T1'!M122,'T2'!K122),MAX('T1'!M122,'T2'!K122),COUNTRY_INFO!F122),0)))","v":0},{"$f":"IF(AND(COUNTRY_INFO!K122>0,COUNTRY_INFO!K122<4),IF(Z122>0,IF(COUNTRY_INFO!K122=1, AD122/(COUNTRY_INFO!F122*0.33)*100, IF(COUNTRY_INFO!K122=2, AD122/(COUNTRY_INFO!F122*0.5)*100, IF(COUNTRY_INFO!K122=3, AD122/COUNTRY_INFO!F122*100))),\"-\"),0)","v":0},{"$f":"IF(COUNTRY_INFO!K122=2,IF(COUNTRY_INFO!G122*0.2>MAX('T1'!N122,'T2'!L122),MAX('T1'!N122,'T2'!L122),COUNTRY_INFO!G122*0.2),IF(COUNTRY_INFO!K122=3,IF(COUNTRY_INFO!G122>MAX('T1'!N122,'T2'!L122),MAX('T1'!N122,'T2'!L122),COUNTRY_INFO!G122),0))","v":0},{"$f":"IF(AND(COUNTRY_INFO!K122>0,COUNTRY_INFO!K122<4),IF(Z122>0,IF(COUNTRY_INFO!K122=1, 0, IF(COUNTRY_INFO!K122=2, AF122/(COUNTRY_INFO!G122*0.2)*100, IF(COUNTRY_INFO!K122=3, AF122/COUNTRY_INFO!G122*100))),\"-\"),0)","v":0},0,{"$f":"IF(AND(COUNTRY_INFO!K122>0,COUNTRY_INFO!K122<4), IF(AC122/Z122*100<>0, IF(AH122/Z122*100>100,100,AH122/Z122*100), \"-\"),0)","v":"-"},null,{"$f":"IF(AND(D122<>0, D122<>\"Inconnu\",D122<>\"Interrompu\",D122<>\"Non requis\"),D122/COUNTRY_INFO!D122, 0)","v":1},{"$f":"IF(AND(J122<>0,J122<>\"Inconnu\",J122<>\"Interrompu\",J122<>\"Non requis\"),J122/COUNTRY_INFO!D122, 0)","v":0},{"$f":"IF(AND(P122<>0,P122<>\"Inconnu\",P122<>\"Non requis\"),P122/(COUNTRY_INFO!E122+COUNTRY_INFO!F122), 0)","v":0},{"$f":"IF(AND(Z122<>0,Z122<>\"Inconnu\",Z122<>\"Non requis\"),IF(COUNTRY_INFO!K122=1,1,IF(COUNTRY_INFO!K122=2,0.5*COUNTRY_INFO!F122/(0.5*COUNTRY_INFO!F122+0.2*COUNTRY_INFO!G122),IF(COUNTRY_INFO!K122=3,COUNTRY_INFO!F122/(COUNTRY_INFO!F122+COUNTRY_INFO!G122)))),0)","v":0.53067613484518761},{"$f":"IF(AND(Z122<>0,Z122<>\"Inconnu\",Z122<>\"Non requis\"),IF(COUNTRY_INFO!K122=1,0,IF(COUNTRY_INFO!K122=2,0.2*COUNTRY_INFO!G122/(0.5*COUNTRY_INFO!F122+0.2*COUNTRY_INFO!G122),IF(COUNTRY_INFO!K122=3,COUNTRY_INFO!G122/(COUNTRY_INFO!F122+COUNTRY_INFO!G122)))),0)","v":0.46932386515481239},{"$f":"MAX(COUNTRY_INFO!D122*AK122*PROFILE!$G$7,COUNTRY_INFO!D122*AL122*PROFILE!$G$7)","v":961.267655676186},{"$f":"MAX(COUNTRY_INFO!D122*AK122*PROFILE!$G$8,COUNTRY_INFO!D122*AL122*PROFILE!$G$8,COUNTRY_INFO!D122*AM122*PROFILE!$G$8)","v":2886.1107311029459},{"$f":"MAX(COUNTRY_INFO!D122*AK122*PROFILE!$G$9,COUNTRY_INFO!D122*AL122*PROFILE!$G$9,COUNTRY_INFO!D122*AM122*PROFILE!$G$9,IF(AND(DISTRICT!Z122<>\"Inconnu\",Z122<>\"Non requis\"),COUNTRY_INFO!O122*DISTRICT!AN122,0))","v":5559.5610027510438},{"$f":"MAX(COUNTRY_INFO!D122*AK122*PROFILE!$G$10,COUNTRY_INFO!D122*AL122*PROFILE!$G$10,IF(AND(DISTRICT!Z122<>\"Inconnu\",Z122<>\"Non requis\"),COUNTRY_INFO!O122*DISTRICT!AO122,0))","v":12293.060610469824},21700,0,{"$f":"MAX('MDA2'!J122,'T1'!L122,'T2'!J122,T3_R1!K122,T3_R2!K122)","v":0},{"$f":"MAX('MDA1'!K122,'MDA2'!K122,'MDA3'!I122,'MDA3'!L122,'T1'!M122,'T2'!K122,T3_R1!L122,T3_R2!L122)","v":0},{"$f":"MAX('MDA1'!L122,'MDA2'!L122,'MDA3'!J122,'MDA3'!M122,'T1'!N122,'T2'!L122,T3_R1!M122,T3_R2!M122)","v":0},0,{"$f":"MAX('MDA2'!J122,T122)","v":0},{"$f":"MAX('MDA1'!K122,'MDA2'!K122,'MDA3'!I122,'MDA3'!L122,V122,AD122)","v":0},{"$f":"MAX('MDA1'!L122,'MDA2'!L122,'MDA3'!J122,'MDA3'!M122,AF122)","v":0},0,0]
[{"$f":"IF(COUNTRY_INFO!A123=0,\" \",COUNTRY_INFO!A123)","v":"Guinea Bissau"},{"$f":"IF(COUNTRY_INFO!B123=0,\" \",COUNTRY_INFO!B123)","v":"Cacheu"},{"$f":"IF(COUNTRY_INFO!C123=0,\" \",COUNTRY_INFO!C123)","v":"Sedengal"},{"$f":"COUNTRY_INFO!L123","v":15002},null,null,{"$f":"MAX('MDA1'!M123,'MDA2'!M123)","v":0},{"$f":"IF(AND(COUNTRY_INFO!H123>0,COUNTRY_INFO!H123<4),IF(D123>MAX('MDA1'!M123,'MDA2'!M123),MAX('MDA1'!M123,'MDA2'!M123),D123),0)","v":0},{"$f":"IF(AND(COUNTRY_INFO!H123>0,COUNTRY_INFO!H123<4), IF(G123/D123*100<>0, IF(G123/D123*100>100,100,G123/D123*100), \"-\"),0)","v":"-"},{"$f":"COUNTRY_INFO!M123","v":"Inconnu"},null,null,{"$f":"MAX('MDA1'!M123,MAX('MDA3'!I123,'MDA3'!L123)+MAX('MDA3'!J123,'MDA3'!M123))","v":0},{"$f":"IF(AND(COUNTRY_INFO!I123>0,COUNTRY_INFO!I123<4),IF(J123>MAX('MDA1'!M123,MAX('MDA3'!I123,'MDA3'!L123)+MAX('MDA3'!J123,'MDA3'!M123)),MAX('MDA1'!M123,MAX('MDA3'!I123,'MDA3'!L123)+MAX('MDA3'!J123,'MDA3'!M123)),J123),0)","v":0},{"$f":"IF(AND(COUNTRY_INFO!I123>0,COUNTRY_INFO!I123<4), IF(M123/J123*100<>0, IF(M123/J123*100>100,100,M123/J123*100), \"-\"),0)","v":0},{"$f":"COUNTRY_INFO!N123","v":5839},null,null,{"$f":"SUM(MAX('MDA2'!J123, 'T1'!L123, MAX(T3_R1!K123, T3_R2!K123)), MAX('MDA1'!K123, 'MDA2'!K123, 'T1'!M123, MAX(T3_R1!L123, T3_R2!L123)), MAX('MDA1'!L123, 'MDA2'!L123, 'T1'!N123, MAX(T3_R1!M123, T3_R2!M123)))","v":0},{"$f":"IF(AND(COUNTRY_INFO!J123>1,COUNTRY_INFO!J123<4),IF(COUNTRY_INFO!E123>MAX('MDA2'!J123,'T1'!L123,MAX(T3_R1!K123,T3_R2!K123)),MAX('MDA2'!J123,'T1'!L123,MAX(T3_R1!K123,T3_R2!K123)),COUNTRY_INFO!E123),0)","v":0},{"$f":"IF(AND(COUNTRY_INFO!J123>1,COUNTRY_INFO!J123<4), IF(T123/COUNTRY_INFO!E123*100<>0, IF(T123/COUNTRY_INFO!E123*100>100,100,T123/COUNTRY_INFO!E123*100), \"-\"),0)","v":"-"},{"$f":"IF(AND(COUNTRY_INFO!J123>1,COUNTRY_INFO!J123<4),IF(COUNTRY_INFO!F123>MAX('MDA1'!K123,'MDA2'!K123,'T1'!M123,MAX(T3_R1!L123,T3_R2!L123)),MAX('MDA1'!K123,'MDA2'!K123,'T1'!M123,MAX(T3_R1!L123,T3_R2!L123)),COUNTRY_INFO!F123),0)","v":0},{"$f":"IF(AND(COUNTRY_INFO!J123>1,COUNTRY_INFO!J123<4), IF(V123/COUNTRY_INFO!F123*100<>0, IF(V123/COUNTRY_INFO!F123*100>100,100,V123/COUNTRY_INFO!F123*100), \"-\"),0)","v":"-"},0,{"$f":"IF(AND(COUNTRY_INFO!J123>1,COUNTRY_INFO!J123<4), IF(S123/P123*100<>0, IF(X123/P123*100>100,100,X123/P123*100), \"-\"),0)","v":"-"},{"$f":"COUNTRY_INFO!O123","v":0},null,null,{"$f":"MAX('T1'!L123,'T2'!J123)+MAX('T1'!M123,'T2'!K123)+MAX('T1'!N123,'T2'!L123)","v":0},{"$f":"IF(COUNTRY_INFO!K123=1,IF(COUNTRY_INFO!F123*0.33>MAX('T1'!M123,'T2'!K123),MAX('T1'!M123,'T2'!K123),COUNTRY_INFO!F123*0.33),IF(COUNTRY_INFO!K123=2,IF(COUNTRY_INFO!F123*0.5>MAX('T1'!M123,'T2'!K123),MAX('T1'!M123,'T2'!K123),COUNTRY_INFO!F123*0.5),IF(COUNTRY_INFO!K123=3,IF(COUNTRY_INFO!F123>MAX('T1'!M123,'T2'!K123),MAX('T1'!M123,'T2'!K123),COUNTRY_INFO!F123),0)))","v":0},{"$f":"IF(AND(COUNTRY_INFO!K123>0,COUNTRY_INFO!K123<4),IF(Z123>0,IF(COUNTRY_INFO!K123=1, AD123/(COUNTRY_INFO!F123*0.33)*100, IF(COUNTRY_INFO!K123=2, AD123/(COUNTRY_INFO!F123*0.5)*100, IF(COUNTRY_INFO!K123=3, AD123/COUNTRY_INFO!F123*100))),\"-\"),0)","v":0},{"$f":"IF(COUNTRY_INFO!K123=2,IF(COUNTRY_INFO!G123*0.2>MAX('T1'!N123,'T2'!L123),MAX('T1'!N123,'T2'!L123),COUNTRY_INFO!G123*0.2),IF(COUNTRY_INFO!K123=3,IF(COUNTRY_INFO!G123>MAX('T1'!N123,'T2'!L123),MAX('T1'!N123,'T2'!L123),COUNTRY_INFO!G123),0))","v":0},{"$f":"IF(AND(COUNTRY_INFO!K123>0,COUNTRY_INFO!K123<4),IF(Z123>0,IF(COUNTRY_INFO!K123=1, 0, IF(COUNTRY_INFO!K123=2, AF123/(COUNTRY_INFO!G123*0.2)*100, IF(COUNTRY_INFO!K123=3, AF123/COUNTRY_INFO!G123*100))),\"-\"),0)","v":0},0,{"$f":"IF(AND(COUNTRY_INFO!K123>0,COUNTRY_INFO!K123<4), IF(AC123/Z123*100<>0, IF(AH123/Z123*100>100,100,AH123/Z123*100), \"-\"),0)","v":0},null,{"$f":"IF(AND(D123<>0, D123<>\"Inconnu\",D123<>\"Interrompu\",D123<>\"Non requis\"),D123/COUNTRY_INFO!D123, 0)","v":1},{"$f":"IF(AND(J123<>0,J123<>\"Inconnu\",J123<>\"Interrompu\",J123<>\"Non requis\"),J123/COUNTRY_INFO!D123, 0)","v":0},{"$f":"IF(AND(P123<>0,P123<>\"Inconnu\",P123<>\"Non requis\"),P123/(COUNTRY_INFO!E123+COUNTRY_INFO!F123), 0)","v":1},{"$f":"IF(AND(Z123<>0,Z123<>\"Inconnu\",Z123<>\"Non requis\"),IF(COUNTRY_INFO!K123=1,1,IF(COUNTRY_INFO!K123=2,0.5*COUNTRY_INFO!F123/(0.5*COUNTRY_INFO!F123+0.2*COUNTRY_INFO!G123),IF(COUNTRY_INFO!K123=3,COUNTRY_INFO!F123/(COUNTRY_INFO!F123+COUNTRY_INFO!G123)))),0)","v":0},{"$f":"IF(AND(Z123<>0,Z123<>\"Inconnu\",Z123<>\"Non requis\"),IF(COUNTRY_INFO!K123=1,0,IF(COUNTRY_INFO!K123=2,0.2*COUNTRY_INFO!G123/(0.5*COUNTRY_INFO!F123+0.2*COUNTRY_INFO!G123),IF(COUNTRY_INFO!K123=3,COUNTRY_INFO!G123/(COUNTRY_INFO!F123+COUNTRY_INFO!G123)))),0)","v":0},{"$f":"MAX(COUNTRY_INFO!D123*AK123*PROFILE!$G$7,COUNTRY_INFO!D123*AL123*PROFILE!$G$7)","v":664.55932582737978},{"$f":"MAX(COUNTRY_INFO!D123*AK123*PROFILE!$G$8,COUNTRY_INFO!D123*AL123*PROFILE!$G$8,COUNTRY_INFO!D123*AM123*PROFILE!$G$8)","v":1995.2734188021382},{"$f":"MAX(COUNTRY_INFO!D123*AK123*PROFILE!$G$9,COUNTRY_INFO!D123*AL123*PROFILE!$G$9,COUNTRY_INFO!D123*AM123*PROFILE!$G$9,IF(AND(DISTRICT!Z123<>\"Inconnu\",Z123<>\"Non requis\"),COUNTRY_INFO!O123*DISTRICT!AN123,0))","v":3843.5269199664131},{"$f":"MAX(COUNTRY_INFO!D123*AK123*PROFILE!$G$10,COUNTRY_INFO!D123*AL123*PROFILE!$G$10,IF(AND(DISTRICT!Z123<>\"Inconnu\",Z123<>\"Non requis\"),COUNTRY_INFO!O123*DISTRICT!AO123,0))","v":8498.6403354040685},15002,0,{"$f":"MAX('MDA2'!J123,'T1'!L123,'T2'!J123,T3_R1!K123,T3_R2!K123)","v":0},{"$f":"MAX('MDA1'!K123,'MDA2'!K123,'MDA3'!I123,'MDA3'!L123,'T1'!M123,'T2'!K123,T3_R1!L123,T3_R2!L123)","v":0},{"$f":"MAX('MDA1'!L123,'MDA2'!L123,'MDA3'!J123,'MDA3'!M123,'T1'!N123,'T2'!L123,T3_R1!M123,T3_R2!M123)","v":0},0,{"$f":"MAX('MDA2'!J123,T123)","v":0},{"$f":"MAX('MDA1'!K123,'MDA2'!K123,'MDA3'!I123,'MDA3'!L123,V123,AD123)","v":0},{"$f":"MAX('MDA1'!L123,'MDA2'!L123,'MDA3'!J123,'MDA3'!M123,AF123)","v":0},0,0]
[{"$f":"IF(COUNTRY_INFO!A124=0,\" \",COUNTRY_INFO!A124)","v":"Guinea Bissau"},{"$f":"IF(COUNTRY_INFO!B124=0,\" \",COUNTRY_INFO!B124)","v":"Cacheu"},{"$f":"IF(COUNTRY_INFO!C124=0,\" \",COUNTRY_INFO!C124)","v":"Suzana"},{"$f":"COUNTRY_INFO!L124","v":10321},null,null,{"$f":"MAX('MDA1'!M124,'MDA2'!M124)","v":0},{"$f":"IF(AND(COUNTRY_INFO!H124>0,COUNTRY_INFO!H124<4),IF(D124>MAX('MDA1'!M124,'MDA2'!M124),MAX('MDA1'!M124,'MDA2'!M124),D124),0)","v":0},{"$f":"IF(AND(COUNTRY_INFO!H124>0,COUNTRY_INFO!H124<4), IF(G124/D124*100<>0, IF(G124/D124*100>100,100,G124/D124*100), \"-\"),0)","v":"-"},{"$f":"COUNTRY_INFO!M124","v":"Inconnu"},null,null,{"$f":"MAX('MDA1'!M124,MAX('MDA3'!I124,'MDA3'!L124)+MAX('MDA3'!J124,'MDA3'!M124))","v":0},{"$f":"IF(AND(COUNTRY_INFO!I124>0,COUNTRY_INFO!I124<4),IF(J124>MAX('MDA1'!M124,MAX('MDA3'!I124,'MDA3'!L124)+MAX('MDA3'!J124,'MDA3'!M124)),MAX('MDA1'!M124,MAX('MDA3'!I124,'MDA3'!L124)+MAX('MDA3'!J124,'MDA3'!M124)),J124),0)","v":0},{"$f":"IF(AND(COUNTRY_INFO!I124>0,COUNTRY_INFO!I124<4), IF(M124/J124*100<>0, IF(M124/J124*100>100,100,M124/J124*100), \"-\"),0)","v":0},{"$f":"COUNTRY_INFO!N124","v":4017},null,null,{"$f":"SUM(MAX('MDA2'!J124, 'T1'!L124, MAX(T3_R1!K124, T3_R2!K124)), MAX('MDA1'!K124, 'MDA2'!K124, 'T1'!M124, MAX(T3_R1!L124, T3_R2!L124)), MAX('MDA1'!L124, 'MDA2'!L124, 'T1'!N124, MAX(T3_R1!M124, T3_R2!M124)))","v":0},{"$f":"IF(AND(COUNTRY_INFO!J124>1,COUNTRY_INFO!J124<4),IF(COUNTRY_INFO!E124>MAX('MDA2'!J124,'T1'!L124,MAX(T3_R1!K124,T3_R2!K124)),MAX('MDA2'!J124,'T1'!L124,MAX(T3_R1!K124,T3_R2!K124)),COUNTRY_INFO!E124),0)","v":0},{"$f":"IF(AND(COUNTRY_INFO!J124>1,COUNTRY_INFO!J124<4), IF(T124/COUNTRY_INFO!E124*100<>0, IF(T124/COUNTRY_INFO!E124*100>100,100,T124/COUNTRY_INFO!E124*100), \"-\"),0)","v":"-"},{"$f":"IF(AND(COUNTRY_INFO!J124>1,COUNTRY_INFO!J124<4),IF(COUNTRY_INFO!F124>MAX('MDA1'!K124,'MDA2'!K124,'T1'!M124,MAX(T3_R1!L124,T3_R2!L124)),MAX('MDA1'!K124,'MDA2'!K124,'T1'!M124,MAX(T3_R1!L124,T3_R2!L124)),COUNTRY_INFO!F124),0)","v":0},{"$f":"IF(AND(COUNTRY_INFO!J124>1,COUNTRY_INFO!J124<4), IF(V124/COUNTRY_INFO!F124*100<>0, IF(V124/COUNTRY_INFO!F124*100>100,100,V124/COUNTRY_INFO!F124*100), \"-\"),0)","v":"-"},0,{"$f":"IF(AND(COUNTRY_INFO!J124>1,COUNTRY_INFO!J124<4), IF(S124/P124*100<>0, IF(X124/P124*100>100,100,X124/P124*100), \"-\"),0)","v":"-"},{"$f":"COUNTRY_INFO!O124","v":2491.4},null,null,{"$f":"MAX('T1'!L124,'T2'!J124)+MAX('T1'!M124,'T2'!K124)+MAX('T1'!N124,'T2'!L124)","v":0},{"$f":"IF(COUNTRY_INFO!K124=1,IF(COUNTRY_INFO!F124*0.33>MAX('T1'!M124,'T2'!K124),MAX('T1'!M124,'T2'!K124),COUNTRY_INFO!F124*0.33),IF(COUNTRY_INFO!K124=2,IF(COUNTRY_INFO!F124*0.5>MAX('T1'!M124,'T2'!K124),MAX('T1'!M124,'T2'!K124),COUNTRY_INFO!F124*0.5),IF(COUNTRY_INFO!K124=3,IF(COUNTRY_INFO!F124>MAX('T1'!M124,'T2'!K124),MAX('T1'!M124,'T2'!K124),COUNTRY_INFO!F124),0)))","v":0},{"$f":"IF(AND(COUNTRY_INFO!K124>0,COUNTRY_INFO!K124<4),IF(Z124>0,IF(COUNTRY_INFO!K124=1, AD124/(COUNTRY_INFO!F124*0.33)*100, IF(COUNTRY_INFO!K124=2, AD124/(COUNTRY_INFO!F124*0.5)*100, IF(COUNTRY_INFO!K124=3, AD124/COUNTRY_INFO!F124*100))),\"-\"),0)","v":0},{"$f":"IF(COUNTRY_INFO!K124=2,IF(COUNTRY_INFO!G124*0.2>MAX('T1'!N124,'T2'!L124),MAX('T1'!N124,'T2'!L124),COUNTRY_INFO!G124*0.2),IF(COUNTRY_INFO!K124=3,IF(COUNTRY_INFO!G124>MAX('T1'!N124,'T2'!L124),MAX('T1'!N124,'T2'!L124),COUNTRY_INFO!G124),0))","v":0},{"$f":"IF(AND(COUNTRY_INFO!K124>0,COUNTRY_INFO!K124<4),IF(Z124>0,IF(COUNTRY_INFO!K124=1, 0, IF(COUNTRY_INFO!K124=2, AF124/(COUNTRY_INFO!G124*0.2)*100, IF(COUNTRY_INFO!K124=3, AF124/COUNTRY_INFO!G124*100))),\"-\"),0)","v":0},0,{"$f":"IF(AND(COUNTRY_INFO!K124>0,COUNTRY_INFO!K124<4), IF(AC124/Z124*100<>0, IF(AH124/Z124*100>100,100,AH124/Z124*100), \"-\"),0)","v":"-"},null,{"$f":"IF(AND(D124<>0, D124<>\"Inconnu\",D124<>\"Interrompu\",D124<>\"Non requis\"),D124/COUNTRY_INFO!D124, 0)","v":1},{"$f":"IF(AND(J124<>0,J124<>\"Inconnu\",J124<>\"Interrompu\",J124<>\"Non requis\"),J124/COUNTRY_INFO!D124, 0)","v":0},{"$f":"IF(AND(P124<>0,P124<>\"Inconnu\",P124<>\"Non requis\"),P124/(COUNTRY_INFO!E124+COUNTRY_INFO!F124), 0)","v":1},{"$f":"IF(AND(Z124<>0,Z124<>\"Inconnu\",Z124<>\"Non requis\"),IF(COUNTRY_INFO!K124=1,1,IF(COUNTRY_INFO!K124=2,0.5*COUNTRY_INFO!F124/(0.5*COUNTRY_INFO!F124+0.2*COUNTRY_INFO!G124),IF(COUNTRY_INFO!K124=3,COUNTRY_INFO!F124/(COUNTRY_INFO!F124+COUNTRY_INFO!G124)))),0)","v":0.53062535120815602},{"$f":"IF(AND(Z124<>0,Z124<>\"Inconnu\",Z124<>\"Non requis\"),IF(COUNTRY_INFO!K124=1,0,IF(COUNTRY_INFO!K124=2,0.2*COUNTRY_INFO!G124/(0.5*COUNTRY_INFO!F124+0.2*COUNTRY_INFO!G124),IF(COUNTRY_INFO!K124=3,COUNTRY_INFO!G124/(COUNTRY_INFO!F124+COUNTRY_INFO!G124)))),0)","v":0.46937464879184398},{"$f":"MAX(COUNTRY_INFO!D124*AK124*PROFILE!$G$7,COUNTRY_INFO!D124*AL124*PROFILE!$G$7)","v":457.2001601029454},{"$f":"MAX(COUNTRY_INFO!D124*AK124*PROFILE!$G$8,COUNTRY_INFO!D124*AL124*PROFILE!$G$8,COUNTRY_INFO!D124*AM124*PROFILE!$G$8)","v":1372.6981039499312},{"$f":"MAX(COUNTRY_INFO!D124*AK124*PROFILE!$G$9,COUNTRY_INFO!D124*AL124*PROFILE!$G$9,COUNTRY_INFO!D124*AM124*PROFILE!$G$9,IF(AND(DISTRICT!Z124<>\"Inconnu\",Z124<>\"Non requis\"),COUNTRY_INFO!O124*DISTRICT!AN124,0))","v":2644.2501893729736},{"$f":"MAX(COUNTRY_INFO!D124*AK124*PROFILE!$G$10,COUNTRY_INFO!D124*AL124*PROFILE!$G$10,IF(AND(DISTRICT!Z124<>\"Inconnu\",Z124<>\"Non requis\"),COUNTRY_INFO!O124*DISTRICT!AO124,0))","v":5846.8515465741493},10321,0,{"$f":"MAX('MDA2'!J124,'T1'!L124,'T2'!J124,T3_R1!K124,T3_R2!K124)","v":0},{"$f":"MAX('MDA1'!K124,'MDA2'!K124,'MDA3'!I124,'MDA3'!L124,'T1'!M124,'T2'!K124,T3_R1!L124,T3_R2!L124)","v":0},{"$f":"MAX('MDA1'!L124,'MDA2'!L124,'MDA3'!J124,'MDA3'!M124,'T1'!N124,'T2'!L124,T3_R1!M124,T3_R2!M124)","v":0},0,{"$f":"MAX('MDA2'!J124,T124)","v":0},{"$f":"MAX('MDA1'!K124,'MDA2'!K124,'MDA3'!I124,'MDA3'!L124,V124,AD124)","v":0},{"$f":"MAX('MDA1'!L124,'MDA2'!L124,'MDA3'!J124,'MDA3'!M124,AF124)","v":0},0,0]
[{"$f":"IF(COUNTRY_INFO!A125=0,\" \",COUNTRY_INFO!A125)","v":"Guinea Bissau"},{"$f":"IF(COUNTRY_INFO!B125=0,\" \",COUNTRY_INFO!B125)","v":"Cacheu"},{"$f":"IF(COUNTRY_INFO!C125=0,\" \",COUNTRY_INFO!C125)","v":"Varela"},{"$f":"COUNTRY_INFO!L125","v":11953},null,null,{"$f":"MAX('MDA1'!M125,'MDA2'!M125)","v":0},{"$f":"IF(AND(COUNTRY_INFO!H125>0,COUNTRY_INFO!H125<4),IF(D125>MAX('MDA1'!M125,'MDA2'!M125),MAX('MDA1'!M125,'MDA2'!M125),D125),0)","v":0},{"$f":"IF(AND(COUNTRY_INFO!H125>0,COUNTRY_INFO!H125<4), IF(G125/D125*100<>0, IF(G125/D125*100>100,100,G125/D125*100), \"-\"),0)","v":"-"},{"$f":"COUNTRY_INFO!M125","v":"Inconnu"},null,null,{"$f":"MAX('MDA1'!M125,MAX('MDA3'!I125,'MDA3'!L125)+MAX('MDA3'!J125,'MDA3'!M125))","v":0},{"$f":"IF(AND(COUNTRY_INFO!I125>0,COUNTRY_INFO!I125<4),IF(J125>MAX('MDA1'!M125,MAX('MDA3'!I125,'MDA3'!L125)+MAX('MDA3'!J125,'MDA3'!M125)),MAX('MDA1'!M125,MAX('MDA3'!I125,'MDA3'!L125)+MAX('MDA3'!J125,'MDA3'!M125)),J125),0)","v":0},{"$f":"IF(AND(COUNTRY_INFO!I125>0,COUNTRY_INFO!I125<4), IF(M125/J125*100<>0, IF(M125/J125*100>100,100,M125/J125*100), \"-\"),0)","v":0},{"$f":"COUNTRY_INFO!N125","v":4652},null,null,{"$f":"SUM(MAX('MDA2'!J125, 'T1'!L125, MAX(T3_R1!K125, T3_R2!K125)), MAX('MDA1'!K125, 'MDA2'!K125, 'T1'!M125, MAX(T3_R1!L125, T3_R2!L125)), MAX('MDA1'!L125, 'MDA2'!L125, 'T1'!N125, MAX(T3_R1!M125, T3_R2!M125)))","v":0},{"$f":"IF(AND(COUNTRY_INFO!J125>1,COUNTRY_INFO!J125<4),IF(COUNTRY_INFO!E125>MAX('MDA2'!J125,'T1'!L125,MAX(T3_R1!K125,T3_R2!K125)),MAX('MDA2'!J125,'T1'!L125,MAX(T3_R1!K125,T3_R2!K125)),COUNTRY_INFO!E125),0)","v":0},{"$f":"IF(AND(COUNTRY_INFO!J125>1,COUNTRY_INFO!J125<4), IF(T125/COUNTRY_INFO!E125*100<>0, IF(T125/COUNTRY_INFO!E125*100>100,100,T125/COUNTRY_INFO!E125*100), \"-\"),0)","v":"-"},{"$f":"IF(AND(COUNTRY_INFO!J125>1,COUNTRY_INFO!J125<4),IF(COUNTRY_INFO!F125>MAX('MDA1'!K125,'MDA2'!K125,'T1'!M125,MAX(T3_R1!L125,T3_R2!L125)),MAX('MDA1'!K125,'MDA2'!K125,'T1'!M125,MAX(T3_R1!L125,T3_R2!L125)),COUNTRY_INFO!F125),0)","v":0},{"$f":"IF(AND(COUNTRY_INFO!J125>1,COUNTRY_INFO!J125<4), IF(V125/COUNTRY_INFO!F125*100<>0, IF(V125/COUNTRY_INFO!F125*100>100,100,V125/COUNTRY_INFO!F125*100), \"-\"),0)","v":"-"},0,{"$f":"IF(AND(COUNTRY_INFO!J125>1,COUNTRY_INFO!J125<4), IF(S125/P125*100<>0, IF(X125/P125*100>100,100,X125/P125*100), \"-\"),0)","v":"-"},{"$f":"COUNTRY_INFO!O125","v":0},null,null,{"$f":"MAX('T1'!L125,'T2'!J125)+MAX('T1'!M125,'T2'!K125)+MAX('T1'!N125,'T2'!L125)","v":0},{"$f":"IF(COUNTRY_INFO!K125=1,IF(COUNTRY_INFO!F125*0.33>MAX('T1'!M125,'T2'!K125),MAX('T1'!M125,'T2'!K125),COUNTRY_INFO!F125*0.33),IF(COUNTRY_INFO!K125=2,IF(COUNTRY_INFO!F125*0.5>MAX('T1'!M125,'T2'!K125),MAX('T1'!M125,'T2'!K125),COUNTRY_INFO!F125*0.5),IF(COUNTRY_INFO!K125=3,IF(COUNTRY_INFO!F125>MAX('T1'!M125,'T2'!K125),MAX('T1'!M125,'T2'!K125),COUNTRY_INFO!F125),0)))","v":0},{"$f":"IF(AND(COUNTRY_INFO!K125>0,COUNTRY_INFO!K125<4),IF(Z125>0,IF(COUNTRY_INFO!K125=1, AD125/(COUNTRY_INFO!F125*0.33)*100, IF(COUNTRY_INFO!K125=2, AD125/(COUNTRY_INFO!F125*0.5)*100, IF(COUNTRY_INFO!K125=3, AD125/COUNTRY_INFO!F125*100))),\"-\"),0)","v":0},{"$f":"IF(COUNTRY_INFO!K125=2,IF(COUNTRY_INFO!G125*0.2>MAX('T1'!N125,'T2'!L125),MAX('T1'!N125,'T2'!L125),COUNTRY_INFO!G125*0.2),IF(COUNTRY_INFO!K125=3,IF(COUNTRY_INFO!G125>MAX('T1'!N125,'T2'!L125),MAX('T1'!N125,'T2'!L125),COUNTRY_INFO!G125),0))","v":0},{"$f":"IF(AND(COUNTRY_INFO!K125>0,COUNTRY_INFO!K125<4),IF(Z125>0,IF(COUNTRY_INFO!K125=1, 0, IF(COUNTRY_INFO!K125=2, AF125/(COUNTRY_INFO!G125*0.2)*100, IF(COUNTRY_INFO!K125=3, AF125/COUNTRY_INFO!G125*100))),\"-\"),0)","v":0},0,{"$f":"IF(AND(COUNTRY_INFO!K125>0,COUNTRY_INFO!K125<4), IF(AC125/Z125*100<>0, IF(AH125/Z125*100>100,100,AH125/Z125*100), \"-\"),0)","v":0},null,{"$f":"IF(AND(D125<>0, D125<>\"Inconnu\",D125<>\"Interrompu\",D125<>\"Non requis\"),D125/COUNTRY_INFO!D125, 0)","v":1},{"$f":"IF(AND(J125<>0,J125<>\"Inconnu\",J125<>\"Interrompu\",J125<>\"Non requis\"),J125/COUNTRY_INFO!D125, 0)","v":0},{"$f":"IF(AND(P125<>0,P125<>\"Inconnu\",P125<>\"Non requis\"),P125/(COUNTRY_INFO!E125+COUNTRY_INFO!F125), 0)","v":1},{"$f":"IF(AND(Z125<>0,Z125<>\"Inconnu\",Z125<>\"Non requis\"),IF(COUNTRY_INFO!K125=1,1,IF(COUNTRY_INFO!K125=2,0.5*COUNTRY_INFO!F125/(0.5*COUNTRY_INFO!F125+0.2*COUNTRY_INFO!G125),IF(COUNTRY_INFO!K125=3,COUNTRY_INFO!F125/(COUNTRY_INFO!F125+COUNTRY_INFO!G125)))),0)","v":0},{"$f":"IF(AND(Z125<>0,Z125<>\"Inconnu\",Z125<>\"Non requis\"),IF(COUNTRY_INFO!K125=1,0,IF(COUNTRY_INFO!K125=2,0.2*COUNTRY_INFO!G125/(0.5*COUNTRY_INFO!F125+0.2*COUNTRY_INFO!G125),IF(COUNTRY_INFO!K125=3,COUNTRY_INFO!G125/(COUNTRY_INFO!F125+COUNTRY_INFO!G125)))),0)","v":0},{"$f":"MAX(COUNTRY_INFO!D125*AK125*PROFILE!$G$7,COUNTRY_INFO!D125*AL125*PROFILE!$G$7)","v":529.49457549757835},{"$f":"MAX(COUNTRY_INFO!D125*AK125*PROFILE!$G$8,COUNTRY_INFO!D125*AL125*PROFILE!$G$8,COUNTRY_INFO!D125*AM125*PROFILE!$G$8)","v":1589.754911007996},{"$f":"MAX(COUNTRY_INFO!D125*AK125*PROFILE!$G$9,COUNTRY_INFO!D125*AL125*PROFILE!$G$9,COUNTRY_INFO!D125*AM125*PROFILE!$G$9,IF(AND(DISTRICT!Z125<>\"Inconnu\",Z125<>\"Non requis\"),COUNTRY_INFO!O125*DISTRICT!AN125,0))","v":3062.3701689347113},{"$f":"MAX(COUNTRY_INFO!D125*AK125*PROFILE!$G$10,COUNTRY_INFO!D125*AL125*PROFILE!$G$10,IF(AND(DISTRICT!Z125<>\"Inconnu\",Z125<>\"Non requis\"),COUNTRY_INFO!O125*DISTRICT!AO125,0))","v":6771.3803445597141},11953,0,{"$f":"MAX('MDA2'!J125,'T1'!L125,'T2'!J125,T3_R1!K125,T3_R2!K125)","v":0},{"$f":"MAX('MDA1'!K125,'MDA2'!K125,'MDA3'!I125,'MDA3'!L125,'T1'!M125,'T2'!K125,T3_R1!L125,T3_R2!L125)","v":0},{"$f":"MAX('MDA1'!L125,'MDA2'!L125,'MDA3'!J125,'MDA3'!M125,'T1'!N125,'T2'!L125,T3_R1!M125,T3_R2!M125)","v":0},0,{"$f":"MAX('MDA2'!J125,T125)","v":0},{"$f":"MAX('MDA1'!K125,'MDA2'!K125,'MDA3'!I125,'MDA3'!L125,V125,AD125)","v":0},{"$f":"MAX('MDA1'!L125,'MDA2'!L125,'MDA3'!J125,'MDA3'!M125,AF125)","v":0},0,0]

{"sheet":"SUMMARY","index":10,"n_rows":71,"n_cols":8,"rows_kept":71,"cut":false,"hidden":false,"merged":[[70,1,70,2],[36,1,36,2],[37,1,37,2],[38,1,38,2],[67,1,67,7],[54,1,60,7],[69,1,69,2],[49,1,49,7],[50,3,50,4],[63,1,63,3],[63,4,63,7],[64,4,65,7],[65,1,65,3],[62,1,62,7],[32,1,32,2],[33,1,33,2],[34,1,34,2],[35,1,35,2],[23,1,23,5],[31,1,31,2],[24,1,24,5],[25,1,25,5],[26,1,26,5],[27,1,27,5],[15,1,15,3],[0,1,0,5],[1,1,1,7],[5,1,11,7],[3,3,3,5]]}
[]
[null,"Formulaire de Rapport Commun v.3.1"]
[]
[null,"Pays",null,{"$f":"IF(INTRO!$E$34<>0,INTRO!$E$34,\" \")","v":"Guinea Bissau"},null,null,"Année",{"$f":"IF(INTRO!$E$36<>0,INTRO!$E$36,\" \")","v":2021}]
[]
[null,"Les autorités nationales sont priées de compléter ce formulaire de rapport commun et de le soumettre à l'Organisation mondiale de la Santé avant le 15 août de l'année en cours pour rapporter les données des activités de chimioprévention mises en oeuvre l'année précédente. "]
[]
[]
[]
[]
[]
[]
[]
[null,"Nombre de personnes ayant reçu un traitement (au moins une fois) pour les maladies"]
[]
[null,null,null,null,"EAPréS","EAS","Adultes","Total"]
[null,"Filariose lymphatique",null,null,"Non admissible",112702,119859,{"$f":"SUM(E17:G17)","v":232561}]
[null,"Onchocercose",null,null,"Non admissible",112702,119859,{"$f":"SUM(E18:G18)","v":232561}]
[null,"Géohelminthiases",null,null,0,142132,119859,{"$f":"SUM(E19:G19)","v":261991}]
[null,"Schistosomiase",null,null,"Non ciblŽ",83515,0,{"$f":"SUM(E20:G20)","v":83515}]
[]
[null,"Couverture des interventions de CP contre les maladies (%) "]
[]
[null,null,null,null,null,null,"Géographique","National"]
[null,"Filariose lymphatique",null,null,null,null,24.770642201834864,11.975895883895692]
[null,"Onchocercose",null,null,null,null,0,"-"]
[null,"Géohelminthiases",null,null,null,null,41.428571428571431,18.077074037349199]
[null,"Schistosomiase",null,null,null,null,41.81818181818182,24.408279708370774]
[]
[null,"Nombre de personnes traitées et couverture du programme en pourcentage, par intervention de CP"]
[]
[null,null,null,"EAPréS","EAS","Adultes","Total","Couverture"]
[null,"MDA 1 (IVM+ALB)",null,"Non admissible",{"$f":"'MDA1'!$K$4","v":112702},{"$f":"'MDA1'!$L$4","v":119859},{"$f":"'MDA1'!$M$4","v":232561},{"$f":"'MDA1'!$Q$4","v":83.883452422603995}]
[null,"MDA 2 (DEC+ALB)",null,{"$f":"'MDA2'!$J$4","v":0},{"$f":"'MDA2'!$K$4","v":0},{"$f":"'MDA2'!$L$4","v":0},{"$f":"'MDA2'!$M$4","v":0},{"$f":"'MDA2'!$Q$4","v":" "}]
[null,"MDA 3 (IVM)",null,"Non admissible",{"$f":"'MDA3'!$O$4","v":0},{"$f":"'MDA3'!$P$4","v":0},{"$f":"'MDA3'!$Q$4","v":0},{"$f":"'MDA3'!$T$4","v":" "}]
[null,"T 1 (PZQ+ALB/MBD)",null,{"$f":"IF('T1'!$L$4<>0,'T1'!$L$4,\"Non ciblé\")","v":"Non ciblé"},{"$f":"'T1'!$M$4","v":0},{"$f":"IF('T1'!$N$4<>0,'T1'!$N$4,\"Non ciblé\")","v":"Non ciblé"},{"$f":"'T1'!$O$4","v":0},{"$f":"'T1'!$S$4","v":" "}]
[null,"T 2 (PZQ)",null,{"$f":"IF('T2'!$J$4<>0,'T2'!$J$4,\"Non ciblé\")","v":"Non ciblé"},{"$f":"'T2'!$K$4","v":83515},{"$f":"'T2'!$L$4","v":0},{"$f":"'T2'!$M$4","v":83515},{"$f":"'T2'!$Q$4","v":99.758710895039243}]
[null,"T 3 (ALB/MBD) - tournée 1",null,{"$f":"T3_R1!$K$4","v":0},{"$f":"T3_R1!$L$4","v":29430},{"$f":"IF(T3_R1!$M$4<>0,T3_R1!$M$4,\"Non ciblé\")","v":"Non ciblé"},{"$f":"T3_R1!$N$4","v":29430},{"$f":"T3_R1!$R$4","v":90.62076610420003}]
[null,"T 3 (ALB/MBD) - tournée 2",null,{"$f":"T3_R2!$K$4","v":0},{"$f":"T3_R2!$L$4","v":0},{"$f":"IF(T3_R2!$M$4<>0,T3_R2!$M$4,\"Non ciblé\")","v":"Non ciblé"},{"$f":"T3_R2!$N$4","v":0},{"$f":"T3_R2!$R$4","v":" "}]
[]
[null,"Inventaire des médicaments pour la chimiothérapie préventive dans le pays"]
[]
[null,null,"IVM","DEC","ALB (FL)","ALB (STH)","MBD","PZQ"]
[null,"Disponible"]
[null,"Distribué"]
[null,"Gaspillé"]
[null,"Reçus"]
[null,"Restant",{"$f":"C44-C45-C46+C47","v":0},0,0,0,0,0]
[]
[null,"Veuillez indiquer le médicament qui a été utilisé pour traiter les EAPréS, et les mécanismes de distribution"]
[null,"Médicament","Mebendazole","Mécanismes de distribution",null,"Ecoles","Source","Service de Nutrition"]
[]
[null,"Remarques supplémentaires évenuelles concernant le rapport"]
[]
[null,"La distribution de l'ivermectine contre l'onchocercose n'a pas eu lieu en 2021 pour raison de planifications des enquêtes TAS pour la FL"]
[]
[]
[]
[]
[]
[]
[]
[null,"         J’ai pris connaissance et accepté la politique de la communication de données de l’OMS"]
[null,"Nom et signature du Coordonnateur MTN \nou du Représentant du Ministère de la Santé :",null,null,"Alberto Luis Papique"]
[]
[null,"Date:"]
[]
[null,"Veuillez envoyer le rapport national (signé et sous format électronique) au représentant de l'OMS du pays en mettant en copie :"]
[]
[null,"Siège de l'OMS ",null,"PC_JointForms@who.int"]
[null,"Bureau régional de l'OMS",null,"Conseiller régional MTN"]

{"sheet":"PROFILE","index":11,"n_rows":124,"n_cols":8,"rows_kept":124,"cut":false,"hidden":true,"merged":[[123,1,124,7],[85,6,85,7],[87,6,87,7],[89,6,89,7],[86,6,86,7],[88,6,88,7],[81,1,81,3],[19,1,19,6],[43,1,43,3],[77,1,77,3],[80,1,80,3],[78,1,78,3],[23,1,23,3],[20,1,20,6],[79,1,79,3],[55,1,55,3],[65,1,65,3],[29,1,29,3],[21,1,21,6],[69,1,69,3],[73,1,73,3],[26,1,26,3],[28,1,28,3],[59,1,59,3],[30,1,30,3],[34,1,34,3],[42,1,42,3],[63,1,63,3],[25,1,25,3],[0,1,0,5],[1,1,1,7],[3,3,3,5],[5,3,5,5],[4,1,4,7],[5,1,5,2],[11,1,11,6],[6,1,6,3],[6,4,6,5],[12,1,12,6],[47,1,47,3],[51,1,51,3],[13,1,13,6],[27,1,27,3],[16,1,16,6],[18,1,18,6],[14,1,14,6],[15,1,15,6],[7,4,7,5],[8,4,8,5],[9,4,9,5],[7,1,7,3],[8,1,8,3],[9,1,9,3],[17,1,17,6]]}
[]
[null,"Formulaire de Rapport Commun v.3.1 - CP"]
[]
[null,"Pays",null,{"$f":"IF(INTRO!$E$34<>0,INTRO!$E$34,\" \")","v":"Guinea Bissau"},null,null,"Année",{"$f":"IF(INTRO!$E$36<>0,INTRO!$E$36,\" \")","v":2021}]
[null,"!!! ATTENTION !!!\nAvant d’analyser les données dans le profil du pays, merci de vous assurer que le rapport dans l’onglet SUMMARY est bien mis à jour"]
[null,"Population totale ",null,null,null,null,1,{"$f":"COUNTRY_INFO!D4","v":2068669}]
[null,"Population — autres groupes d’âge",null,null,null,null,{"$f":"IF($H$6<>0,H7/$H$6,0)","v":4.4298048648672164E-2},{"$f":"H6-SUM(H8:H10)","v":91638}]
[null,"Population — EAPréS",null,null,{"$f":"INTRO!B48","v":"1-4 ans"},null,{"$f":"IF($H$6<>0,H8/$H$6,0)","v":0.13300049452087309},{"$f":"COUNTRY_INFO!E4","v":275134}]
[null,"Population — EAS",null,null,{"$f":"INTRO!B49","v":"5-14 ans"},null,{"$f":"IF($H$6<>0,H9/$H$6,0)","v":0.25620096786871172},{"$f":"COUNTRY_INFO!F4","v":529995}]
[null,"Population — Adults",null,null,{"$f":"INTRO!B50","v":"15 ans et plus"},null,0.56650048896174299,{"$f":"COUNTRY_INFO!G4","v":1171902}]
[]
[null,"Nombre total d’individus nécessitant une CP pour au moins une des maladies (FL, Oncho, STH, SCH)",null,null,null,null,null,{"$f":"DISTRICT!AT6","v":1979718.6129910487}]
[null,"Proportion du nombre d’individus nécessitant un CP pour au moins une maladie parmi la population totale",null,null,null,null,null,{"$f":"IF(H6<>0,H12/H6,0)","v":0.95700115049389178}]
[null,"Nombre d’UMOs nécessitant une CP pour au moins une des maladies (FL, Oncho, STH, SCH)",null,null,null,null,null,{"$f":"COUNTIF(DISTRICT!AT9:AT1000,\">0\")","v":116}]
[null,"Nombre d’UMOs ayant reçu une CP pour au moins une des maladies (FL, Oncho, STH, SCH)",null,null,null,null,null,{"$f":"COUNTIF(DISTRICT!AY9:AY1000,\">0\")","v":59}]
[null,"Proportion d’UMOs nécessitant une CP pour au moins une maladie et l’ayant reçue",null,null,null,null,null,{"$f":"IF(H14<>0,H15/H14,0)","v":0.50862068965517238}]
[null,"Nombre total d’individus ayant été traités pour au moins une maladie (FL, Oncho, STH, SCH)",null,null,null,null,null,{"$f":"DISTRICT!AY6","v":345506}]
[null,"Nombre total d’individus nécessitant un traitement ayant reçu une CP pour au moins une maladie (FL, Oncho, STH, SCH)",null,null,null,null,null,{"$f":"DISTRICT!BC6","v":293945.19}]
[null,"Couverture CP pour au moins une maladie (FL, Oncho, STH, SCH)",null,null,null,null,null,{"$f":"DISTRICT!BD6","v":0.14847826760384611}]
[null,"Nombre d’UMOs ayant été traitées pour toutes les maladies nécessitant une CP dans ces unités",null,null,null,null,null,{"$f":"DISTRICT!AU6","v":29}]
[null,"Population nécessitant une CP dans des UMOs qui ont été traitées pour toutes les maladies requérant une CP",null,null,null,null,null,{"$f":"SUMIF(DISTRICT!AU9:AU1000,\"Y\",DISTRICT!AT9:AT1000)","v":343779.23716795677}]
[null,"Population ayant reçu une CP dans des UMOs qui ont été traitées pour toutes les maladies nécessitant une CP",null,null,null,null,null,{"$f":"SUMIF(DISTRICT!AU9:AU1000,\"Y\",DISTRICT!AY9:AY1000)","v":234773}]
[]
[null,null,null,null,"FL","ONCHO","STH","SCH"]
[]
[null,"Maladies nécessitant une CP dans la pays",null,null,{"$f":"IF(INTRO!E38=\"Endémique\",\"Yes\",\"No\")","v":"Yes"},{"$f":"IF(INTRO!E40=\"Endémique\",\"Yes\",\"No\")","v":"Yes"},{"$f":"IF(INTRO!E42=\"Endémique\",\"Yes\",\"No\")","v":"Yes"},{"$f":"IF(INTRO!E44=\"Endémique\",\"Yes\",\"No\")","v":"Yes"}]
[null,"Nombre d’UMOs dans le pays",null,null,{"$f":"IF(E26=\"Yes\",INTRO!$E$46,\"-\")","v":117},{"$f":"IF(F26=\"Yes\",INTRO!$E$46,\"-\")","v":117},{"$f":"IF(G26=\"Yes\",INTRO!$E$46,\"-\")","v":117},{"$f":"IF(H26=\"Yes\",INTRO!$E$46,\"-\")","v":117}]
[null,"Nombre d’UMOs dont le statut d’endémicité est connu",null,null,{"$f":"IF(E26=\"Yes\",E27-E29,\"-\")","v":117},{"$f":"IF(F26=\"Yes\",F27-F29,\"-\")","v":33},{"$f":"IF(G26=\"Yes\",G27-G29,\"-\")","v":117},{"$f":"IF(H26=\"Yes\",H27-H29,\"-\")","v":117}]
[null,"Nombre d’UMOs dont le statut d’endémicité est inconnu",null,null,{"$f":"IF(E26=\"Yes\",E27-(992-COUNTIF(COUNTRY_INFO!H$9:H$1000,\"\"))+COUNTIF(COUNTRY_INFO!H$9:H$1000,\"=4\"),\"-\")","v":0},{"$f":"IF(F26=\"Yes\",F27-(992-COUNTIF(COUNTRY_INFO!I$9:I$1000,\"\"))+COUNTIF(COUNTRY_INFO!I$9:I$1000,\"=4\"),\"-\")","v":84},{"$f":"IF(G26=\"Yes\",G27-(992-COUNTIF(COUNTRY_INFO!J$9:J$1000,\"\"))+COUNTIF(COUNTRY_INFO!J$9:J$1000,\"=4\")+COUNTIF(COUNTRY_INFO!J$9:J$1000,\"=5\"),\"-\")","v":0},{"$f":"IF(H26=\"Yes\",H27-(992-COUNTIF(COUNTRY_INFO!K$9:K$1000,\"\"))+COUNTIF(COUNTRY_INFO!K$9:K$1000,\"=4\")+COUNTIF(COUNTRY_INFO!K$9:K$1000,\"=5\"),\"-\")","v":0}]
[null,"Nombre d’UMOs non-endémiques",null,null,{"$f":"IF(E26=\"Yes\",COUNTIF(COUNTRY_INFO!H$9:H$1000,\"=0\"),\"-\")","v":8},{"$f":"IF(F26=\"Yes\",COUNTIF(COUNTRY_INFO!I$9:I$1000,\"=0\"),\"-\")","v":0},{"$f":"IF(G26=\"Yes\",COUNTIF(COUNTRY_INFO!J$9:J$1000,\"=0\"),\"-\")","v":9},{"$f":"IF(H26=\"Yes\",COUNTIF(COUNTRY_INFO!K$9:K$1000,\"=0\"),\"-\")","v":62}]
[null,"Nombre d’UMOs nécessitant une CP (total)",null,null,{"$f":"COUNTIF(COUNTRY_INFO!H$9:H$1000,\"=1\")","v":109},{"$f":"COUNTIF(COUNTRY_INFO!I$9:I$1000,\"=1\")","v":33},{"$f":"SUM(G33:G34)","v":70},{"$f":"SUM(H32:H34)","v":55}]
[null,null,null,"prevalence basse",null,null,{"$f":"COUNTIF(COUNTRY_INFO!J$9:J$1000,\"=1\")","v":38},{"$f":"COUNTIF(COUNTRY_INFO!K$9:K$1000,\"=1\")","v":31}]
[null,null,null,"prevalence modérée",null,null,{"$f":"COUNTIF(COUNTRY_INFO!J$9:J$1000,\"=2\")","v":30},{"$f":"COUNTIF(COUNTRY_INFO!K$9:K$1000,\"=2\")","v":23}]
[null,null,null,"prevalence haute",null,null,{"$f":"COUNTIF(COUNTRY_INFO!J$9:J$1000,\"=3\")","v":40},{"$f":"COUNTIF(COUNTRY_INFO!K$9:K$1000,\"=3\")","v":1}]
[null,"Population nécessitant une CP dans le pays (total) ",null,null,{"$f":"COUNTRY_INFO!L4","v":1941909},{"$f":"COUNTRY_INFO!M4","v":579506},{"$f":"COUNTRY_INFO!N4","v":387264},{"$f":"COUNTRY_INFO!O4","v":164887.44999999998}]
[null,null,"EAPréS","prevalence modérée",null,null,{"$f":"SUMIF(COUNTRY_INFO!J$9:J$1000,\"=2\",COUNTRY_INFO!E$9:E$1000)","v":84172}]
[null,null,null,"prevalence haute",null,null,{"$f":"SUMIF(COUNTRY_INFO!J$9:J$1000,\"=3\",COUNTRY_INFO!E$9:E$1000)","v":48167}]
[null,null,"EAS","prevalence basse",null,null,null,{"$f":"SUMIF(COUNTRY_INFO!K$9:K$1000,\"=1\",COUNTRY_INFO!F$9:F$1000)*0.33","v":55613.25}]
[null,null,null,"prevalence modérée",null,null,{"$f":"SUMIF(COUNTRY_INFO!J$9:J$1000,\"=2\",COUNTRY_INFO!F$9:F$1000)","v":162145},{"$f":"SUMIF(COUNTRY_INFO!K$9:K$1000,\"=2\",COUNTRY_INFO!F$9:F$1000)*0.5","v":52215}]
[null,null,null,"prevalence haute",null,null,{"$f":"SUMIF(COUNTRY_INFO!J$9:J$1000,\"=3\",COUNTRY_INFO!F$9:F$1000)","v":92780},{"$f":"SUMIF(COUNTRY_INFO!K$9:K$1000,\"=3\",COUNTRY_INFO!F$9:F$1000)","v":3387}]
[null,null,"Adults","prevalence modérée",null,null,null,{"$f":"SUMIF(COUNTRY_INFO!K$9:K$1000,\"=2\",COUNTRY_INFO!G$9:G$1000)*0.2","v":46183.200000000004}]
[null,null,null,"prevalence haute",null,null,null,{"$f":"SUMIF(COUNTRY_INFO!K$9:K$1000,\"=3\",COUNTRY_INFO!G$9:G$1000)","v":7489}]
[null,"Nombre d’UMOs où une CP a été mise en oeuvre (total)",null,null,{"$f":"COUNTIF(DISTRICT!G$9:G$1000,\">0\")","v":27},{"$f":"COUNTIF(DISTRICT!M$9:M$1000,\">0\")","v":27},{"$f":"COUNTIF(DISTRICT!S$9:S$1000,\">0\")","v":35},{"$f":"COUNTIF(DISTRICT!AC$9:AC$1000,\">0\")","v":24}]
[null,"Nombre d’UMOs nécessitant une CP et  où elle a été mise en oeuvre",null,null,{"$f":"COUNTIF(DISTRICT!H$9:H$1000,\">0\")","v":27},{"$f":"COUNTIF(DISTRICT!N$9:N$1000,\">0\")","v":0},{"$f":"COUNTIF(DISTRICT!X$9:X$1000,\">0\")","v":29},{"$f":"COUNTIF(DISTRICT!AH$9:AH$1000,\">0\")","v":23}]
[null,null,"EAPréS",null,null,null,{"$f":"COUNTIF(DISTRICT!T$9:T$1000,\">0\")","v":0}]
[null,null,"EAS",null,null,null,{"$f":"COUNTIF(DISTRICT!V$9:V$1000,\">0\")","v":29},{"$f":"COUNTIF(DISTRICT!AD$9:AD$1000,\">0\")","v":23}]
[null,null,"Adults",null,null,null,null,{"$f":"COUNTIF(DISTRICT!AF$9:AF$1000,\">0\")","v":0}]
[null,"Nombre d’individus traités (total)",null,null,{"$f":"DISTRICT!G4","v":232561},{"$f":"DISTRICT!M4","v":232561},{"$f":"DISTRICT!S4","v":261991},{"$f":"DISTRICT!AC4","v":83515}]
[null,null,"EAPréS",null,{"$f":"SUMMARY!$E17","v":"Non admissible"},{"$f":"SUMMARY!$E18","v":"Non admissible"},{"$f":"SUMMARY!$E19","v":0},{"$f":"SUMMARY!$E20","v":"Non ciblŽ"}]
[null,null,"EAS",null,{"$f":"SUMMARY!$F17","v":112702},{"$f":"SUMMARY!$F18","v":112702},{"$f":"SUMMARY!$F19","v":142132},{"$f":"SUMMARY!$F20","v":83515}]
[null,null,"Adults",null,{"$f":"SUMMARY!$G17","v":119859},{"$f":"SUMMARY!$G18","v":119859},{"$f":"SUMMARY!$G19","v":119859},{"$f":"SUMMARY!$G20","v":0}]
[null,"Nombre d’individus nécessitant CP et traités (total)",null,null,{"$f":"DISTRICT!H4","v":232561},{"$f":"DISTRICT!N4","v":0},{"$f":"DISTRICT!X4","v":70006},{"$f":"DISTRICT!AH4","v":40246.19}]
[null,null,"EAPréS",null,null,null,{"$f":"DISTRICT!T4","v":0}]
[null,null,"EAS",null,null,null,{"$f":"DISTRICT!V4","v":70006},{"$f":"DISTRICT!AD4","v":40246.19}]
[null,null,"Adults",null,null,null,null,{"$f":"DISTRICT!AF4","v":0}]
[null,"Couverture géographique (tous âges)",null,null,{"$f":"IF(E31<>0,E44/E31,0)","v":0.24770642201834864},{"$f":"IF(F31<>0,F44/F31,0)","v":0},{"$f":"IF(G31<>0,G44/G31,0)","v":0.41428571428571431},{"$f":"IF(H31<>0,H44/H31,0)","v":0.41818181818181815}]
[null,null,"EAPréS",null,null,null,{"$f":"IF(G31<>0,G45/G31,0)","v":0}]
[null,null,"EAS",null,null,null,{"$f":"IF(G31<>0,G46/G31,0)","v":0.41428571428571431},{"$f":"IF(H31<>0,H46/H31,0)","v":0.41818181818181815}]
[null,null,"Adults",null,null,null,null,{"$f":"IF(SUM(H33:H34)<>0,H47/SUM(H33:H34),0)","v":0}]
[null,"Couverture nationale (total)",null,null,{"$f":"IF(E35<>0,E52/E35,0)","v":0.11975895883895692},{"$f":"IF(F35<>0,F52/F35,0)","v":0},{"$f":"IF(G35<>0,G52/G35,0)","v":0.18077074037349197},{"$f":"IF(H35<>0,H52/H35,0)","v":0.24408279708370775}]
[null,null,"EAPréS",null,null,null,{"$f":"IF(SUM(G36:G37)<>0,G53/SUM(G36:G37),0)","v":0}]
[null,null,"EAS",null,null,null,{"$f":"IF(SUM(G39:G40)<>0,G54/SUM(G39:G40),0)","v":0.27461410218691773},{"$f":"IF(SUM(H38:H40)<>0,H54/SUM(H38:H40),0)","v":0.36187654121174934}]
[null,null,"Adults",null,null,null,null,{"$f":"IF(SUM(H41:H42)<>0,H55/SUM(H41:H42),0)","v":0}]
[null,null,null,null,"FL","ONCHO","STH","SCH"]
[]
[null,"Nombre d’UMOs ayant réalisé une couverture efficace (tous âges)",null,null,{"$f":"COUNTIF(DISTRICT!I$9:I$1000,\">=65\")","v":20},{"$f":"COUNTIF(DISTRICT!O$9:O$1000,\">=65\")","v":0},{"$f":"COUNTIF(DISTRICT!Y$9:Y$1000,\">=75\")","v":0},{"$f":"COUNTIF(DISTRICT!AI$9:AI$1000,\">=75\")","v":7}]
[null,null,"EAPréS",null,null,null,{"$f":"COUNTIF(DISTRICT!U$9:U$1000,\">=75\")","v":0}]
[null,null,"EAS",null,null,null,{"$f":"COUNTIF(DISTRICT!W$9:W$1000,\">=75\")","v":27},{"$f":"COUNTIF(DISTRICT!AE$9:AE$1000,\">=75\")","v":23}]
[null,null,"Adults",null,null,null,null,{"$f":"COUNTIF(DISTRICT!AG$9:AG$1000,\">=75\")","v":0}]
[null,"Nombre d’individus nécessitant un traitement dans des UMOs ayant réalisé une couverture efficace (total)",null,null,{"$f":"SUMIF(DISTRICT!I9:I1000,\">=65\",DISTRICT!H9:H1000)","v":142002},{"$f":"SUMIF(DISTRICT!O9:O1000,\">=65\",DISTRICT!N9:N1000)","v":0},{"$f":"SUMIF(DISTRICT!Y9:Y1000,\">=75\",DISTRICT!X9:X1000)","v":0},{"$f":"SUMIF(DISTRICT!AI9:AI1000,\">=75\",DISTRICT!AH9:AH1000)","v":9600.69}]
[null,null,"EAPréS",null,null,null,{"$f":"SUMIF(DISTRICT!U9:U1000,\">=75\",DISTRICT!T9:T1000)","v":0}]
[null,null,"EAS",null,null,null,{"$f":"SUMIF(DISTRICT!W9:W1000,\">=75\",DISTRICT!V9:V1000)","v":66546},{"$f":"SUMIF(DISTRICT!AE9:AE1000,\">=75\",DISTRICT!AD9:AD1000)","v":40246.19}]
[null,null,"Adults",null,null,null,null,{"$f":"SUMIF(DISTRICT!AG9:AG1000,\">=75\",DISTRICT!AF9:AF1000)","v":0}]
[null,"Proportion d’UMOs nécessitant une CP and ayant réalisé une couverture efficace (total)",null,null,{"$f":"IF(E44<>0,E66/E44,0)","v":0.7407407407407407},{"$f":"IF(F44<>0,F66/F44,0)","v":0},{"$f":"IF(G44<>0,G66/G44,0)","v":0},{"$f":"IF(H44<>0,H66/H44,0)","v":0.30434782608695654}]
[null,null,"EAPréS",null,null,null,{"$f":"IF(G45<>0,G67/G45,0)","v":0}]
[null,null,"EAS",null,null,null,{"$f":"IF(G46<>0,G68/G46,0)","v":0.93103448275862066},{"$f":"IF(H46<>0,H68/H46,0)","v":1}]
[null,null,"Adults",null,null,null,null,{"$f":"IF(H47<>0,H69/H47,0)","v":0}]
[null,"Nombre d’UMOs où la CP a été stoppée (càd sous surveillance)",null,null,{"$f":"COUNTIF(COUNTRY_INFO!H$9:H$1000,\"=99\")","v":0},{"$f":"COUNTIF(COUNTRY_INFO!I$9:I$1000,\"=99\")","v":0}]
[null,"Nombre d’individus dans les UMOs ne nécessitant plus de CP (stoppée)",null,null,{"$f":"SUMIF(COUNTRY_INFO!H$9:H$1000,\"=99\",COUNTRY_INFO!D$9:D$1000)","v":0},{"$f":"SUMIF(COUNTRY_INFO!I$9:I$1000,\"=99\",COUNTRY_INFO!D$9:D$1000)","v":0}]
[null,"Nombre d’individus nécessitant une CP vivants dans des UMOs ciblées pour la CP",null,null,{"$f":"SUMIF(DISTRICT!H$9:H$1000,\">0\",DISTRICT!D$9:D$1000)","v":336989},{"$f":"SUMIF(DISTRICT!N$9:N$1000,\">0\",DISTRICT!J$9:J$1000)","v":0},{"$f":"SUMIF(DISTRICT!X$9:X$1000,\">0\",DISTRICT!P$9:P$1000)","v":110313},{"$f":"SUMIF(DISTRICT!AH$9:AH$1000,\">0\",DISTRICT!Z$9:Z$1000)","v":72197.389999999985}]
[null,"Nombre d’individus nécessitant une CP vivant dans des UMOs non ciblées pour la CP",null,null,{"$f":"SUMIF(DISTRICT!H$9:H$1000,\"=0\",DISTRICT!D$9:D$1000)","v":1604920},{"$f":"SUMIF(DISTRICT!N$9:N$1000,\"=0\",DISTRICT!J$9:J$1000)","v":579506},{"$f":"SUMIF(DISTRICT!X$9:X$1000,\"=0\",DISTRICT!P$9:P$1000)","v":276951},{"$f":"SUMIF(DISTRICT!AH$9:AH$1000,\"=0\",DISTRICT!Z$9:Z$1000)","v":92690.060000000012}]
[null,null,null,null,{"$f":"E35-E52","v":1709348},{"$f":"F35-F52","v":579506},317258,124641.25999999998]
[null,"Nombre d’UMOs nécessitant et recevant la CP",null,null,{"$f":"E31-E44","v":82},{"$f":"F31-F44","v":33},41,32]
[null,null,null,null,{"$f":"E27-E31-E29","v":8},0,47,{"$f":"H27-H31-H29","v":62}]
[]
[null,null,null,null,null,null,"Nécessitant et recevant une CP"]
[null,null,null,null,null,null,"Nécessitant mais ne recevant pas de CP"]
[null,null,null,null,null,null,"Ne nécessitant pas de CP"]
[null,null,null,null,null,null,"Statut inconnu"]
[]
[]
[]
[]
[]
[]
[]
[]
[]
[]
[]
[]
[]
[]
[]
[]
[]
[]
[]
[]
[]
[]
[]
[]
[]
[]
[]
[]
[]
[]
[]
[]
[]
[]
[null,"Cliquer ici pour accéder au portail des données de la CP"]

{"sheet":"DATA_POLICY","index":12,"n_rows":39,"n_cols":8,"rows_kept":39,"cut":false,"hidden":true,"merged":[[55,1,55,2],[0,1,0,5],[1,1,1,7],[3,3,3,5],[6,1,6,7],[8,1,12,7],[13,1,16,7],[17,1,21,7],[22,1,25,7],[26,2,36,7],[38,1,45,7]]}
[]
[null,"Formulaire de Rapport Commun v.3.1"]
[]
[null,"Pays",null,{"$f":"IF(INTRO!$E$34<>0,INTRO!$E$34,\" \")","v":"Guinea Bissau"},null,null,"Année",{"$f":"IF(INTRO!$E$36<>0,INTRO!$E$36,\" \")","v":2021}]
[]
[]
[null,"Déclaration de principe sur la communication de données par l’OMS"]
[]
[null,"Les données sont le fondement de toutes les mesures rationnelles de santé publique et les avantages de la communication de données, y compris pour la science et la santé publique, sont largement reconnus. L’OMS souhaite promouvoir autant que possible la communication de données sanitaires, y compris, mais pas uniquement, de données épidémiologiques et de surveillance."]
[]
[]
[]
[]
[null,{"$f":"\"À cet égard, et sans préjudice des instruments juridiquement contraignants régissant la communication et la publication d’informations, le Ministère de la santé de \" & D4 & \", en fournissant des données à l’OMS :\"","v":"À cet égard, et sans préjudice des instruments juridiquement contraignants régissant la communication et la publication d’informations, le Ministère de la santé de Guinea Bissau, en fournissant des données à l’OMS :"}]
[]
[]
[]
[null,"confirme que toutes les données à fournir à l’OMS, ont été collectées conformément à la législation nationale applicable, y compris aux lois de protection des données visant à préserver l’anonymat des personnes identifiables ;"]
[]
[]
[]
[]
[null,{"$f":"\"convient que l’OMS aura le droit, toujours sous réserve des mesures visant à garantir l’utilisation éthique et sécurisée des données et toujours sous réserve d’une reconnaissance appropriée de la part de \"&D4&\":\"","v":"convient que l’OMS aura le droit, toujours sous réserve des mesures visant à garantir l’utilisation éthique et sécurisée des données et toujours sous réserve d’une reconnaissance appropriée de la part de Guinea Bissau:"}]
[]
[]
[]
[null,null,"de publier les données, dépourvues de tout élément d’identification personnelle (ci-après dénommées « les données ») et de les mettre à la disposition de toute partie intéressée, sur demande (dans la mesure où elles n’ont pas, ou pas encore, été publiées par l’OMS), selon des modalités autorisant leur utilisation non commerciale et sans but lucratif à des fins de santé publique (pour autant que l’OMS garde la maîtrise de la publication des données) ;\nd’utiliser, de compiler, d’agréger, d’évaluer et d’analyser les données et de publier et de diffuser les résultats obtenus grâce à ces données en rapport avec des travaux de l’OMS et conformément aux politiques et pratiques de l’Organisation."]
[]
[]
[]
[]
[]
[]
[]
[]
[]
[]
[]
[null,{"$f":"CONCATENATE(\"Sauf lorsque des instruments juridiquement contraignants (RSI, Règlement de Nomenclature de l’OMS, de 1967, etc.) disposent que les données doivent être communiquées et publiées, le Ministère de la santé de \", D4,\" peut, pour certaines données, décider de ne pas appliquer (tout ou partie des) (les) dispositions qui précèdent,\" & \" en informant l’OMS par écrit à l’adresse suivante, à condition que cette notification précise clairement les données, \" & \"dont il s’agit et indique clairement lesquelles des dispositions qui précèdent ne seront pas appliquées, et pour quels motifs.\")","v":"Sauf lorsque des instruments juridiquement contraignants (RSI, Règlement de Nomenclature de l’OMS, de 1967, etc.) disposent que les données doivent être communiquées et publiées, le Ministère de la santé de Guinea Bissau peut, pour certaines données, décider de ne pas appliquer (tout ou partie des) (les) dispositions qui précèdent, en informant l’OMS par écrit à l’adresse suivante, à condition que cette notification précise clairement les données, dont il s’agit et indique clairement lesquelles des dispositions qui précèdent ne seront pas appliquées, et pour quels motifs."}]