{"text_format":"1","workbook":"xlsx","n_sheets":10,"sheets":["INTRO","COUNTRY_INFO","DEC","ALB_MBD","PZQ","IVM","IVM+","SUMMARY","SHIPMENT","DATA_POLICY"],"not_rendered":{"charts":0,"images":3,"macros":1,"external_links":0,"defined_names":10,"comments":9,"pivot_tables":0},"unopened":[],"bounds":{"document_bytes":16777216,"sheet_cells":100000,"rows_first":2000,"rows_last":500,"rows_between":2000,"halvings":0,"cell_chars":16384,"cell_head_chars":4096},"cells_cut":0,"cells_raw":0,"read":"whole","date_system":"1900"}

{"sheet":"INTRO","index":0,"n_rows":51,"n_cols":8,"rows_kept":51,"cut":false,"hidden":false,"merged":[[21,1,21,4],[46,1,46,4],[38,1,38,2],[40,1,40,2],[42,1,42,2],[44,1,44,2],[36,1,36,2],[22,2,23,4],[25,2,26,4],[27,1,27,4],[32,1,32,2],[29,1,29,4],[30,1,30,4],[28,2,28,4],[24,1,24,4],[34,1,34,2],[0,1,0,4],[2,1,2,4],[1,1,1,4],[5,1,5,4],[3,1,3,4],[7,2,7,4],[11,1,11,4],[4,1,4,4],[10,2,10,4],[20,2,20,4],[17,1,17,4],[13,1,13,4],[18,2,18,4],[8,2,8,4],[9,2,9,4],[19,1,19,4],[12,1,12,4],[16,1,16,4],[14,1,14,4],[15,1,15,4]]}
[]
[null,"Joint request for selected PC medicines v.4.1"]
[]
[null,"As part of global efforts to accelerate expansion of preventive chemotherapy (PC) for control and elimination of lymphatic filariasis, schistosomiasis and soil-transmitted helminthiases, the World Health Organization (WHO) facilitates the supply of albendazole 400 mg tablets (GSK) to national lymphatic filariasis elimination programmes and national soil-transmitted helminth control programmes; diethylcarbamazine citrate 100 mg tablets (Eisai) to national lymphatic filariasis elimination programmes; mebendazole 500 mg tablets (J&J) for national soil-transmitted helminth control programmes; and praziquantel 600 mg tablets (Merck KGaA)  for school-age children to national schistosomiasis control programmes. WHO also collaborates to supply ivermectin 3 mg tablets (Merck) for onchocerciasis and lymphatic filariasis donation programmes.  \nThis Excel-based tool is designed to assist countries in quantifying the number of tablets of relevant PC medicines required to reach the planned target population and districts for the year of request. Output of the tool is a joint request for PC medicines, which can be printed, signed and submitted to WHO to request these medicines."]
[]
[null,"Structure of the application (worksheets):"]
[]
[null,"INTRO","This worksheet includes guides on how to complete the joint request for selected PC medicines and information about the status of PC for endemic diseases in the country."]
[null,"COUNTRY_INFO","This worksheet includes information about administrative structure of the country, population by age group, status of endemicity for each disease, population requiring PC and planned interventions."]
[null,"DEC, ALB_MBD, PZQ and IVM","These worksheets include information about endemic districts targeted for treatment with specified PC medicines, treatment plan, and number of tablets required and requested. "]
[null,"SUMMARY","This worksheet includes summary of number of tablets requested, information about stock, and date for submission of requested medicines. Before generating the report (run macros) please select the medicine for which the report is needed. Follow the same rule to see the number of people to be treated for the specific disease. \nThis worksheet should be printed and submitted as a joint request for selected PC medicines (see the instruction for submission in the SUMMARY worksheet)."]
[]
[null,"Instruction for data entry"]
[]
[null,"Most of the cells in the above-mentioned worksheets include formula that are calculated automatically according to the treatment policy recommended by WHO for each disease.\nSee the link https://www.who.int/publications/i/item/9789241599993."]
[]
[null,"Please enter your data into the cells according to their colour code:"]
[]
[null,null,"White - cell is not protected. Please enter the value of the requested indicator."]
[]
[null,null,"Yellow - cell is protected and includes name of indicator. No data entry required."]
[]
[null,null,"Orange - cell is not protected and includes a drop-down menu. Please select the value from the drop-down list."]
[]
[]
[null,null,"Green - cell is not protected and includes formula. Please change the value only if your data are different from those that are calculated automatically."]
[]
[]
[null,null,"Blue - cell is protected and includes formula. No data entry required."]
[]
[null,"Country data"]
[]
[null,"COUNTRY",null,null,"Ghana",null,"GH","GHA"]
[null,null,null,null,5]
[null,"Year for request of the medicine",null,null,2024]
[]
[null,"Is country endemic for lymphatic filariasis (LF)?",null,null,"Endemic"]
[]
[null,"Is country endemic for onchocerciasis (ONCHO)?",null,null,"Endemic"]
[]
[null,"Is country endemic for soil-transmitted helminthiases (STH)?",null,null,"Endemic but PC is not required"]
[]
[null,"Is country endemic for schistosomiasis (SCH)?",null,null,"Endemic"]
[]
[null,"How many administrative units in the country?",null,null,261]
[]
[null,"If demographical data at the second administrative level are not available by age group, please enter the proportion (%) of population by age group in the country. If data are available, please leave these cells blank."]
[null,"1-4 years age","Preschool-age children (PreSAC)",null,0.104]
[null,"5-14 years age","School-age children (SAC)",null,0.245]
[null,"15 years +","Adults",null,0.65100000000000002]
[null,"15-49 years","Women of reproductive age (WRA)",null,0.2535]

{"sheet":"COUNTRY_INFO","index":1,"n_rows":270,"n_cols":35,"rows_kept":270,"cut":false,"hidden":false,"merged":[[3,0,3,2],[3,7,3,10],[3,21,3,24],[5,0,5,2],[3,26,3,29],[5,26,5,29],[5,3,5,6],[5,7,5,10],[5,11,5,20],[5,21,5,24],[6,3,7,3],[6,2,7,2],[6,1,7,1],[6,0,7,0],[6,21,7,21],[6,13,6,16],[6,11,7,11],[6,12,7,12],[6,7,7,7],[6,8,7,8],[6,9,7,9],[6,10,7,10],[6,6,7,6],[6,5,7,5],[6,4,7,4],[6,28,7,28],[6,29,7,29],[6,17,6,20],[6,25,7,25],[6,22,7,22],[6,23,7,23],[6,24,7,24],[6,26,7,26],[6,27,7,27]]}
["COUNTRY INFORMATION"]
["Administrative structure, population by age group, status of endemicity and planned interventions"]
[]
["TOTAL",null,null,{"$f":"SUBTOTAL(9,D$10:D$1010)","v":32074136.600000001},{"$f":"SUBTOTAL(9,E$10:E$1010)","v":3335711},7858161,20880255,null,null,null,null,{"$f":"SUBTOTAL(9,L$10:L$1010)","v":1066952.2},8276119.3399999999,0,0,0,0,2147010,6219696,1885938,10229190]
[]
["Country administrative structure",null,null,"Population",null,null,null,"Endemicity",null,null,null,"Population requiring PC",null,null,null,null,null,null,null,null,null,"Number of treatment rounds planned for the year",null,null,null,"Criteria to apply for \nIVM+DEC+ALB therapy","Epidemiological surveys planned for the year"]
["Country","Province/State","District","Total","PreSAC","SAC","Adults","LF","Oncho","STH","SCH","LF","ONCHO","STH",null,null,null,"SCH",null,null,null,"LF","Oncho","STH","SCH","LF","LF","Oncho","STH","SCH"]
[null,null,null,null,null,null,null,null,null,null,null,null,null,"PreSAC","SAC","WRA","TOTAL","PreSAC","SAC","Adults","TOTAL",null,null,null,null,null,null,null,null,null,null,null,null,"IU ID","IU Name"]
[]
[{"$f":"IF(INTRO!$E$33<>0,INTRO!$E$33, \" \")","v":"Ghana"},"Ahafo","Asunafo North",156572.5,{"$f":"IF(INTRO!$E$48=\"\",\"\",ROUND($D10*INTRO!$E$48,0))","v":16284},{"$f":"IF(INTRO!$E$49=\"\",\"\",ROUND($D10*INTRO!$E$49,0))","v":38360},{"$f":"IF(INTRO!$E$50=\"\",\"\",ROUND($D10*INTRO!$E$50,0))","v":101929},0,1,null,2,{"$f":"IF(INTRO!$E$37=\"Endemic\",IF($H10>0,IF($H10=4,\"Unknown\",IF($H10=99,\"Stopped\",$D10)),0),\"Not required\")","v":0},35029,{"$f":"IF(INTRO!$E$41=\"Endemic\", IF($J10>1, IF($J10=4, \"Unknown\", IF($J10=99, \"Surveillance\", E10)), 0),\"Not required\")","v":"Not required"},{"$f":"IF(INTRO!$E$41=\"Endemic\", IF($J10>1, IF($J10=4, \"Unknown\", IF($J10=99, \"Surveillance\", F10)), 0),\"Not required\")","v":"Not required"},{"$f":"IF(INTRO!$E$41=\"Endemic\", IF($J10>1, IF($J10=4, \"Unknown\", IF($J10=99, \"Surveillance\", ROUND(D10*INTRO!$E$51,0))), 0),\"Not required\")","v":"Not required"},{"$f":"IF(INTRO!$E$41=\"Endemic\", IF($J10>1, IF($J10=4, \"Unknown\", IF($J10=99, \"Surveillance\", SUM($N10:$P10))), 0),\"Not required\")","v":"Not required"},{"$f":"IF(INTRO!$E$43=\"Endemic\", IF($K10>1, IF($K10=4, \"Unknown\", IF($K10=99, \"Surveillance\", ROUND(E10*0.75,0))), 0),\"Not required\")","v":12213},{"$f":"IF(INTRO!$E$43=\"Endemic\", IF($K10>1, IF($K10=4, \"Unknown\", IF($K10=99, \"Surveillance\", F10)), 0),\"Not required\")","v":38360},0,{"$f":"IF(INTRO!$E$43=\"Endemic\", IF($K10>1, IF($K10=4, \"Unknown\", IF($K10=99, \"Surveillance\", SUM($R10:$T10))), 0),\"Not required\")","v":50573},0,2,null,1,null,null,null,null,null,null,null,null,21408,"Asunafo North"]
[{"$f":"IF(INTRO!$E$33<>0,INTRO!$E$33, \" \")","v":"Ghana"},"Ahafo","Asunafo South",95584.5,{"$f":"IF(INTRO!$E$48=\"\",\"\",ROUND($D11*INTRO!$E$48,0))","v":9941},{"$f":"IF(INTRO!$E$49=\"\",\"\",ROUND($D11*INTRO!$E$49,0))","v":23418},{"$f":"IF(INTRO!$E$50=\"\",\"\",ROUND($D11*INTRO!$E$50,0))","v":62226},0,1,null,2,{"$f":"IF(INTRO!$E$37=\"Endemic\",IF($H11>0,IF($H11=4,\"Unknown\",IF($H11=99,\"Stopped\",$D11)),0),\"Not required\")","v":0},26539.82,{"$f":"IF(INTRO!$E$41=\"Endemic\", IF($J11>1, IF($J11=4, \"Unknown\", IF($J11=99, \"Surveillance\", E11)), 0),\"Not required\")","v":"Not required"},{"$f":"IF(INTRO!$E$41=\"Endemic\", IF($J11>1, IF($J11=4, \"Unknown\", IF($J11=99, \"Surveillance\", F11)), 0),\"Not required\")","v":"Not required"},{"$f":"IF(INTRO!$E$41=\"Endemic\", IF($J11>1, IF($J11=4, \"Unknown\", IF($J11=99, \"Surveillance\", ROUND(D11*INTRO!$E$51,0))), 0),\"Not required\")","v":"Not required"},{"$f":"IF(INTRO!$E$41=\"Endemic\", IF($J11>1, IF($J11=4, \"Unknown\", IF($J11=99, \"Surveillance\", SUM($N11:$P11))), 0),\"Not required\")","v":"Not required"},{"$f":"IF(INTRO!$E$43=\"Endemic\", IF($K11>1, IF($K11=4, \"Unknown\", IF($K11=99, \"Surveillance\", ROUND(E11*0.75,0))), 0),\"Not required\")","v":7456},{"$f":"IF(INTRO!$E$43=\"Endemic\", IF($K11>1, IF($K11=4, \"Unknown\", IF($K11=99, \"Surveillance\", F11)), 0),\"Not required\")","v":23418},0,{"$f":"IF(INTRO!$E$43=\"Endemic\", IF($K11>1, IF($K11=4, \"Unknown\", IF($K11=99, \"Surveillance\", SUM($R11:$T11))), 0),\"Not required\")","v":30874},0,2,null,1,null,null,null,null,null,null,null,null,21409,"Asunafo South"]
[{"$f":"IF(INTRO!$E$33<>0,INTRO!$E$33, \" \")","v":"Ghana"},"Ahafo","Asutifi North",76677.899999999994,{"$f":"IF(INTRO!$E$48=\"\",\"\",ROUND($D12*INTRO!$E$48,0))","v":7975},{"$f":"IF(INTRO!$E$49=\"\",\"\",ROUND($D12*INTRO!$E$49,0))","v":18786},{"$f":"IF(INTRO!$E$50=\"\",\"\",ROUND($D12*INTRO!$E$50,0))","v":49917},0,1,null,2,{"$f":"IF(INTRO!$E$37=\"Endemic\",IF($H12>0,IF($H12=4,\"Unknown\",IF($H12=99,\"Stopped\",$D12)),0),\"Not required\")","v":0},32687,{"$f":"IF(INTRO!$E$41=\"Endemic\", IF($J12>1, IF($J12=4, \"Unknown\", IF($J12=99, \"Surveillance\", E12)), 0),\"Not required\")","v":"Not required"},{"$f":"IF(INTRO!$E$41=\"Endemic\", IF($J12>1, IF($J12=4, \"Unknown\", IF($J12=99, \"Surveillance\", F12)), 0),\"Not required\")","v":"Not required"},{"$f":"IF(INTRO!$E$41=\"Endemic\", IF($J12>1, IF($J12=4, \"Unknown\", IF($J12=99, \"Surveillance\", ROUND(D12*INTRO!$E$51,0))), 0),\"Not required\")","v":"Not required"},{"$f":"IF(INTRO!$E$41=\"Endemic\", IF($J12>1, IF($J12=4, \"Unknown\", IF($J12=99, \"Surveillance\", SUM($N12:$P12))), 0),\"Not required\")","v":"Not required"},{"$f":"IF(INTRO!$E$43=\"Endemic\", IF($K12>1, IF($K12=4, \"Unknown\", IF($K12=99, \"Surveillance\", ROUND(E12*0.75,0))), 0),\"Not required\")","v":5981},{"$f":"IF(INTRO!$E$43=\"Endemic\", IF($K12>1, IF($K12=4, \"Unknown\", IF($K12=99, \"Surveillance\", F12)), 0),\"Not required\")","v":18786},0,{"$f":"IF(INTRO!$E$43=\"Endemic\", IF($K12>1, IF($K12=4, \"Unknown\", IF($K12=99, \"Surveillance\", SUM($R12:$T12))), 0),\"Not required\")","v":24767},0,2,null,1,null,null,null,null,null,null,null,null,21411,"Asutifi North"]
[{"$f":"IF(INTRO!$E$33<>0,INTRO!$E$33, \" \")","v":"Ghana"},"Ahafo","Asutifi South",71296.7,{"$f":"IF(INTRO!$E$48=\"\",\"\",ROUND($D13*INTRO!$E$48,0))","v":7415},{"$f":"IF(INTRO!$E$49=\"\",\"\",ROUND($D13*INTRO!$E$49,0))","v":17468},{"$f":"IF(INTRO!$E$50=\"\",\"\",ROUND($D13*INTRO!$E$50,0))","v":46414},0,1,null,2,{"$f":"IF(INTRO!$E$37=\"Endemic\",IF($H13>0,IF($H13=4,\"Unknown\",IF($H13=99,\"Stopped\",$D13)),0),\"Not required\")","v":0},49483,{"$f":"IF(INTRO!$E$41=\"Endemic\", IF($J13>1, IF($J13=4, \"Unknown\", IF($J13=99, \"Surveillance\", E13)), 0),\"Not required\")","v":"Not required"},{"$f":"IF(INTRO!$E$41=\"Endemic\", IF($J13>1, IF($J13=4, \"Unknown\", IF($J13=99, \"Surveillance\", F13)), 0),\"Not required\")","v":"Not required"},{"$f":"IF(INTRO!$E$41=\"Endemic\", IF($J13>1, IF($J13=4, \"Unknown\", IF($J13=99, \"Surveillance\", ROUND(D13*INTRO!$E$51,0))), 0),\"Not required\")","v":"Not required"},{"$f":"IF(INTRO!$E$41=\"Endemic\", IF($J13>1, IF($J13=4, \"Unknown\", IF($J13=99, \"Surveillance\", SUM($N13:$P13))), 0),\"Not required\")","v":"Not required"},{"$f":"IF(INTRO!$E$43=\"Endemic\", IF($K13>1, IF($K13=4, \"Unknown\", IF($K13=99, \"Surveillance\", ROUND(E13*0.75,0))), 0),\"Not required\")","v":5561},{"$f":"IF(INTRO!$E$43=\"Endemic\", IF($K13>1, IF($K13=4, \"Unknown\", IF($K13=99, \"Surveillance\", F13)), 0),\"Not required\")","v":17468},0,{"$f":"IF(INTRO!$E$43=\"Endemic\", IF($K13>1, IF($K13=4, \"Unknown\", IF($K13=99, \"Surveillance\", SUM($R13:$T13))), 0),\"Not required\")","v":23029},0,2,null,1,null,null,null,null,null,null,null,null,21412,"Asutifi South"]
[{"$f":"IF(INTRO!$E$33<>0,INTRO!$E$33, \" \")","v":"Ghana"},"Ahafo","Tano North",80839.5,{"$f":"IF(INTRO!$E$48=\"\",\"\",ROUND($D14*INTRO!$E$48,0))","v":8407},{"$f":"IF(INTRO!$E$49=\"\",\"\",ROUND($D14*INTRO!$E$49,0))","v":19806},{"$f":"IF(INTRO!$E$50=\"\",\"\",ROUND($D14*INTRO!$E$50,0))","v":52627},0,1,null,2,{"$f":"IF(INTRO!$E$37=\"Endemic\",IF($H14>0,IF($H14=4,\"Unknown\",IF($H14=99,\"Stopped\",$D14)),0),\"Not required\")","v":0},86548,{"$f":"IF(INTRO!$E$41=\"Endemic\", IF($J14>1, IF($J14=4, \"Unknown\", IF($J14=99, \"Surveillance\", E14)), 0),\"Not required\")","v":"Not required"},{"$f":"IF(INTRO!$E$41=\"Endemic\", IF($J14>1, IF($J14=4, \"Unknown\", IF($J14=99, \"Surveillance\", F14)), 0),\"Not required\")","v":"Not required"},{"$f":"IF(INTRO!$E$41=\"Endemic\", IF($J14>1, IF($J14=4, \"Unknown\", IF($J14=99, \"Surveillance\", ROUND(D14*INTRO!$E$51,0))), 0),\"Not required\")","v":"Not required"},{"$f":"IF(INTRO!$E$41=\"Endemic\", IF($J14>1, IF($J14=4, \"Unknown\", IF($J14=99, \"Surveillance\", SUM($N14:$P14))), 0),\"Not required\")","v":"Not required"},{"$f":"IF(INTRO!$E$43=\"Endemic\", IF($K14>1, IF($K14=4, \"Unknown\", IF($K14=99, \"Surveillance\", ROUND(E14*0.75,0))), 0),\"Not required\")","v":6305},{"$f":"IF(INTRO!$E$43=\"Endemic\", IF($K14>1, IF($K14=4, \"Unknown\", IF($K14=99, \"Surveillance\", F14)), 0),\"Not required\")","v":19806},0,{"$f":"IF(INTRO!$E$43=\"Endemic\", IF($K14>1, IF($K14=4, \"Unknown\", IF($K14=99, \"Surveillance\", SUM($R14:$T14))), 0),\"Not required\")","v":26111},0,2,null,1,null,null,null,null,null,null,null,null,21432,"Tano North"]
[{"$f":"IF(INTRO!$E$33<>0,INTRO!$E$33, \" \")","v":"Ghana"},"Ahafo","Tano South",90920.8,{"$f":"IF(INTRO!$E$48=\"\",\"\",ROUND($D15*INTRO!$E$48,0))","v":9456},{"$f":"IF(INTRO!$E$49=\"\",\"\",ROUND($D15*INTRO!$E$49,0))","v":22276},{"$f":"IF(INTRO!$E$50=\"\",\"\",ROUND($D15*INTRO!$E$50,0))","v":59189},0,1,null,2,{"$f":"IF(INTRO!$E$37=\"Endemic\",IF($H15>0,IF($H15=4,\"Unknown\",IF($H15=99,\"Stopped\",$D15)),0),\"Not required\")","v":0},24746,{"$f":"IF(INTRO!$E$41=\"Endemic\", IF($J15>1, IF($J15=4, \"Unknown\", IF($J15=99, \"Surveillance\", E15)), 0),\"Not required\")","v":"Not required"},{"$f":"IF(INTRO!$E$41=\"Endemic\", IF($J15>1, IF($J15=4, \"Unknown\", IF($J15=99, \"Surveillance\", F15)), 0),\"Not required\")","v":"Not required"},{"$f":"IF(INTRO!$E$41=\"Endemic\", IF($J15>1, IF($J15=4, \"Unknown\", IF($J15=99, \"Surveillance\", ROUND(D15*INTRO!$E$51,0))), 0),\"Not required\")","v":"Not required"},{"$f":"IF(INTRO!$E$41=\"Endemic\", IF($J15>1, IF($J15=4, \"Unknown\", IF($J15=99, \"Surveillance\", SUM($N15:$P15))), 0),\"Not required\")","v":"Not required"},{"$f":"IF(INTRO!$E$43=\"Endemic\", IF($K15>1, IF($K15=4, \"Unknown\", IF($K15=99, \"Surveillance\", ROUND(E15*0.75,0))), 0),\"Not required\")","v":7092},{"$f":"IF(INTRO!$E$43=\"Endemic\", IF($K15>1, IF($K15=4, \"Unknown\", IF($K15=99, \"Surveillance\", F15)), 0),\"Not required\")","v":22276},0,{"$f":"IF(INTRO!$E$43=\"Endemic\", IF($K15>1, IF($K15=4, \"Unknown\", IF($K15=99, \"Surveillance\", SUM($R15:$T15))), 0),\"Not required\")","v":29368},0,2,null,1,null,null,null,null,null,null,null,null,21433,"Tano South"]
[{"$f":"IF(INTRO!$E$33<>0,INTRO!$E$33, \" \")","v":"Ghana"},"Ashanti","Adansi Akrofuom",51382.9,{"$f":"IF(INTRO!$E$48=\"\",\"\",ROUND($D16*INTRO!$E$48,0))","v":5344},{"$f":"IF(INTRO!$E$49=\"\",\"\",ROUND($D16*INTRO!$E$49,0))","v":12589},{"$f":"IF(INTRO!$E$50=\"\",\"\",ROUND($D16*INTRO!$E$50,0))","v":33450},0,1,null,2,{"$f":"IF(INTRO!$E$37=\"Endemic\",IF($H16>0,IF($H16=4,\"Unknown\",IF($H16=99,\"Stopped\",$D16)),0),\"Not required\")","v":0},27145,{"$f":"IF(INTRO!$E$41=\"Endemic\", IF($J16>1, IF($J16=4, \"Unknown\", IF($J16=99, \"Surveillance\", E16)), 0),\"Not required\")","v":"Not required"},{"$f":"IF(INTRO!$E$41=\"Endemic\", IF($J16>1, IF($J16=4, \"Unknown\", IF($J16=99, \"Surveillance\", F16)), 0),\"Not required\")","v":"Not required"},{"$f":"IF(INTRO!$E$41=\"Endemic\", IF($J16>1, IF($J16=4, \"Unknown\", IF($J16=99, \"Surveillance\", ROUND(D16*INTRO!$E$51,0))), 0),\"Not required\")","v":"Not required"},{"$f":"IF(INTRO!$E$41=\"Endemic\", IF($J16>1, IF($J16=4, \"Unknown\", IF($J16=99, \"Surveillance\", SUM($N16:$P16))), 0),\"Not required\")","v":"Not required"},{"$f":"IF(INTRO!$E$43=\"Endemic\", IF($K16>1, IF($K16=4, \"Unknown\", IF($K16=99, \"Surveillance\", ROUND(E16*0.75,0))), 0),\"Not required\")","v":4008},{"$f":"IF(INTRO!$E$43=\"Endemic\", IF($K16>1, IF($K16=4, \"Unknown\", IF($K16=99, \"Surveillance\", F16)), 0),\"Not required\")","v":12589},0,{"$f":"IF(INTRO!$E$43=\"Endemic\", IF($K16>1, IF($K16=4, \"Unknown\", IF($K16=99, \"Surveillance\", SUM($R16:$T16))), 0),\"Not required\")","v":16597},0,2,null,1,null,null,null,null,null,null,null,null,21622,"Adansi Akrofuom"]
[{"$f":"IF(INTRO!$E$33<>0,INTRO!$E$33, \" \")","v":"Ghana"},"Ashanti","Adansi Asokwa",74893.2,{"$f":"IF(INTRO!$E$48=\"\",\"\",ROUND($D17*INTRO!$E$48,0))","v":7789},{"$f":"IF(INTRO!$E$49=\"\",\"\",ROUND($D17*INTRO!$E$49,0))","v":18349},{"$f":"IF(INTRO!$E$50=\"\",\"\",ROUND($D17*INTRO!$E$50,0))","v":48755},0,1,null,2,{"$f":"IF(INTRO!$E$37=\"Endemic\",IF($H17>0,IF($H17=4,\"Unknown\",IF($H17=99,\"Stopped\",$D17)),0),\"Not required\")","v":0},44925,{"$f":"IF(INTRO!$E$41=\"Endemic\", IF($J17>1, IF($J17=4, \"Unknown\", IF($J17=99, \"Surveillance\", E17)), 0),\"Not required\")","v":"Not required"},{"$f":"IF(INTRO!$E$41=\"Endemic\", IF($J17>1, IF($J17=4, \"Unknown\", IF($J17=99, \"Surveillance\", F17)), 0),\"Not required\")","v":"Not required"},{"$f":"IF(INTRO!$E$41=\"Endemic\", IF($J17>1, IF($J17=4, \"Unknown\", IF($J17=99, \"Surveillance\", ROUND(D17*INTRO!$E$51,0))), 0),\"Not required\")","v":"Not required"},{"$f":"IF(INTRO!$E$41=\"Endemic\", IF($J17>1, IF($J17=4, \"Unknown\", IF($J17=99, \"Surveillance\", SUM($N17:$P17))), 0),\"Not required\")","v":"Not required"},{"$f":"IF(INTRO!$E$43=\"Endemic\", IF($K17>1, IF($K17=4, \"Unknown\", IF($K17=99, \"Surveillance\", ROUND(E17*0.75,0))), 0),\"Not required\")","v":5842},{"$f":"IF(INTRO!$E$43=\"Endemic\", IF($K17>1, IF($K17=4, \"Unknown\", IF($K17=99, \"Surveillance\", F17)), 0),\"Not required\")","v":18349},0,{"$f":"IF(INTRO!$E$43=\"Endemic\", IF($K17>1, IF($K17=4, \"Unknown\", IF($K17=99, \"Surveillance\", SUM($R17:$T17))), 0),\"Not required\")","v":24191},0,2,null,1,null,null,null,null,null,null,null,null,21604,"Adansi Asokwa"]
[{"$f":"IF(INTRO!$E$33<>0,INTRO!$E$33, \" \")","v":"Ghana"},"Ashanti","Adansi North",56453.3,{"$f":"IF(INTRO!$E$48=\"\",\"\",ROUND($D18*INTRO!$E$48,0))","v":5871},{"$f":"IF(INTRO!$E$49=\"\",\"\",ROUND($D18*INTRO!$E$49,0))","v":13831},{"$f":"IF(INTRO!$E$50=\"\",\"\",ROUND($D18*INTRO!$E$50,0))","v":36751},0,1,null,2,{"$f":"IF(INTRO!$E$37=\"Endemic\",IF($H18>0,IF($H18=4,\"Unknown\",IF($H18=99,\"Stopped\",$D18)),0),\"Not required\")","v":0},45733,{"$f":"IF(INTRO!$E$41=\"Endemic\", IF($J18>1, IF($J18=4, \"Unknown\", IF($J18=99, \"Surveillance\", E18)), 0),\"Not required\")","v":"Not required"},{"$f":"IF(INTRO!$E$41=\"Endemic\", IF($J18>1, IF($J18=4, \"Unknown\", IF($J18=99, \"Surveillance\", F18)), 0),\"Not required\")","v":"Not required"},{"$f":"IF(INTRO!$E$41=\"Endemic\", IF($J18>1, IF($J18=4, \"Unknown\", IF($J18=99, \"Surveillance\", ROUND(D18*INTRO!$E$51,0))), 0),\"Not required\")","v":"Not required"},{"$f":"IF(INTRO!$E$41=\"Endemic\", IF($J18>1, IF($J18=4, \"Unknown\", IF($J18=99, \"Surveillance\", SUM($N18:$P18))), 0),\"Not required\")","v":"Not required"},{"$f":"IF(INTRO!$E$43=\"Endemic\", IF($K18>1, IF($K18=4, \"Unknown\", IF($K18=99, \"Surveillance\", ROUND(E18*0.75,0))), 0),\"Not required\")","v":4403},{"$f":"IF(INTRO!$E$43=\"Endemic\", IF($K18>1, IF($K18=4, \"Unknown\", IF($K18=99, \"Surveillance\", F18)), 0),\"Not required\")","v":13831},0,{"$f":"IF(INTRO!$E$43=\"Endemic\", IF($K18>1, IF($K18=4, \"Unknown\", IF($K18=99, \"Surveillance\", SUM($R18:$T18))), 0),\"Not required\")","v":18234},0,2,null,1,null,null,null,null,null,null,null,null,21605,"Adansi North"]
[{"$f":"IF(INTRO!$E$33<>0,INTRO!$E$33, \" \")","v":"Ghana"},"Ashanti","Adansi South",88815.9,{"$f":"IF(INTRO!$E$48=\"\",\"\",ROUND($D19*INTRO!$E$48,0))","v":9237},{"$f":"IF(INTRO!$E$49=\"\",\"\",ROUND($D19*INTRO!$E$49,0))","v":21760},{"$f":"IF(INTRO!$E$50=\"\",\"\",ROUND($D19*INTRO!$E$50,0))","v":57819},0,1,null,2,{"$f":"IF(INTRO!$E$37=\"Endemic\",IF($H19>0,IF($H19=4,\"Unknown\",IF($H19=99,\"Stopped\",$D19)),0),\"Not required\")","v":0},82147,{"$f":"IF(INTRO!$E$41=\"Endemic\", IF($J19>1, IF($J19=4, \"Unknown\", IF($J19=99, \"Surveillance\", E19)), 0),\"Not required\")","v":"Not required"},{"$f":"IF(INTRO!$E$41=\"Endemic\", IF($J19>1, IF($J19=4, \"Unknown\", IF($J19=99, \"Surveillance\", F19)), 0),\"Not required\")","v":"Not required"},{"$f":"IF(INTRO!$E$41=\"Endemic\", IF($J19>1, IF($J19=4, \"Unknown\", IF($J19=99, \"Surveillance\", ROUND(D19*INTRO!$E$51,0))), 0),\"Not required\")","v":"Not required"},{"$f":"IF(INTRO!$E$41=\"Endemic\", IF($J19>1, IF($J19=4, \"Unknown\", IF($J19=99, \"Surveillance\", SUM($N19:$P19))), 0),\"Not required\")","v":"Not required"},{"$f":"IF(INTRO!$E$43=\"Endemic\", IF($K19>1, IF($K19=4, \"Unknown\", IF($K19=99, \"Surveillance\", ROUND(E19*0.75,0))), 0),\"Not required\")","v":6928},{"$f":"IF(INTRO!$E$43=\"Endemic\", IF($K19>1, IF($K19=4, \"Unknown\", IF($K19=99, \"Surveillance\", F19)), 0),\"Not required\")","v":21760},0,{"$f":"IF(INTRO!$E$43=\"Endemic\", IF($K19>1, IF($K19=4, \"Unknown\", IF($K19=99, \"Surveillance\", SUM($R19:$T19))), 0),\"Not required\")","v":28688},0,2,null,1,null,null,null,null,null,null,null,null,21380,"Adansi South"]
[{"$f":"IF(INTRO!$E$33<>0,INTRO!$E$33, \" \")","v":"Ghana"},"Ashanti","Afigya Kwabre North",76442.100000000006,{"$f":"IF(INTRO!$E$48=\"\",\"\",ROUND($D20*INTRO!$E$48,0))","v":7950},{"$f":"IF(INTRO!$E$49=\"\",\"\",ROUND($D20*INTRO!$E$49,0))","v":18728},{"$f":"IF(INTRO!$E$50=\"\",\"\",ROUND($D20*INTRO!$E$50,0))","v":49764},0,1,null,2,{"$f":"IF(INTRO!$E$37=\"Endemic\",IF($H20>0,IF($H20=4,\"Unknown\",IF($H20=99,\"Stopped\",$D20)),0),\"Not required\")","v":0},44602,{"$f":"IF(INTRO!$E$41=\"Endemic\", IF($J20>1, IF($J20=4, \"Unknown\", IF($J20=99, \"Surveillance\", E20)), 0),\"Not required\")","v":"Not required"},{"$f":"IF(INTRO!$E$41=\"Endemic\", IF($J20>1, IF($J20=4, \"Unknown\", IF($J20=99, \"Surveillance\", F20)), 0),\"Not required\")","v":"Not required"},{"$f":"IF(INTRO!$E$41=\"Endemic\", IF($J20>1, IF($J20=4, \"Unknown\", IF($J20=99, \"Surveillance\", ROUND(D20*INTRO!$E$51,0))), 0),\"Not required\")","v":"Not required"},{"$f":"IF(INTRO!$E$41=\"Endemic\", IF($J20>1, IF($J20=4, \"Unknown\", IF($J20=99, \"Surveillance\", SUM($N20:$P20))), 0),\"Not required\")","v":"Not required"},{"$f":"IF(INTRO!$E$43=\"Endemic\", IF($K20>1, IF($K20=4, \"Unknown\", IF($K20=99, \"Surveillance\", ROUND(E20*0.75,0))), 0),\"Not required\")","v":5963},{"$f":"IF(INTRO!$E$43=\"Endemic\", IF($K20>1, IF($K20=4, \"Unknown\", IF($K20=99, \"Surveillance\", F20)), 0),\"Not required\")","v":18728},0,{"$f":"IF(INTRO!$E$43=\"Endemic\", IF($K20>1, IF($K20=4, \"Unknown\", IF($K20=99, \"Surveillance\", SUM($R20:$T20))), 0),\"Not required\")","v":24691},0,2,null,1,null,null,null,null,null,null,null,null,21606,"Afigya Kwabre North"]
[{"$f":"IF(INTRO!$E$33<>0,INTRO!$E$33, \" \")","v":"Ghana"},"Ashanti","Afigya Kwabre South",244626.4,{"$f":"IF(INTRO!$E$48=\"\",\"\",ROUND($D21*INTRO!$E$48,0))","v":25441},{"$f":"IF(INTRO!$E$49=\"\",\"\",ROUND($D21*INTRO!$E$49,0))","v":59933},{"$f":"IF(INTRO!$E$50=\"\",\"\",ROUND($D21*INTRO!$E$50,0))","v":159252},0,1,null,2,{"$f":"IF(INTRO!$E$37=\"Endemic\",IF($H21>0,IF($H21=4,\"Unknown\",IF($H21=99,\"Stopped\",$D21)),0),\"Not required\")","v":0},27740,{"$f":"IF(INTRO!$E$41=\"Endemic\", IF($J21>1, IF($J21=4, \"Unknown\", IF($J21=99, \"Surveillance\", E21)), 0),\"Not required\")","v":"Not required"},{"$f":"IF(INTRO!$E$41=\"Endemic\", IF($J21>1, IF($J21=4, \"Unknown\", IF($J21=99, \"Surveillance\", F21)), 0),\"Not required\")","v":"Not required"},{"$f":"IF(INTRO!$E$41=\"Endemic\", IF($J21>1, IF($J21=4, \"Unknown\", IF($J21=99, \"Surveillance\", ROUND(D21*INTRO!$E$51,0))), 0),\"Not required\")","v":"Not required"},{"$f":"IF(INTRO!$E$41=\"Endemic\", IF($J21>1, IF($J21=4, \"Unknown\", IF($J21=99, \"Surveillance\", SUM($N21:$P21))), 0),\"Not required\")","v":"Not required"},{"$f":"IF(INTRO!$E$43=\"Endemic\", IF($K21>1, IF($K21=4, \"Unknown\", IF($K21=99, \"Surveillance\", ROUND(E21*0.75,0))), 0),\"Not required\")","v":19081},{"$f":"IF(INTRO!$E$43=\"Endemic\", IF($K21>1, IF($K21=4, \"Unknown\", IF($K21=99, \"Surveillance\", F21)), 0),\"Not required\")","v":59933},0,{"$f":"IF(INTRO!$E$43=\"Endemic\", IF($K21>1, IF($K21=4, \"Unknown\", IF($K21=99, \"Surveillance\", SUM($R21:$T21))), 0),\"Not required\")","v":79014},0,2,null,1,null,null,null,null,null,null,null,null,21607,"Afigya Kwabre South"]
[{"$f":"IF(INTRO!$E$33<>0,INTRO!$E$33, \" \")","v":"Ghana"},"Ashanti","Ahafo Ano North",96678.1,{"$f":"IF(INTRO!$E$48=\"\",\"\",ROUND($D22*INTRO!$E$48,0))","v":10055},{"$f":"IF(INTRO!$E$49=\"\",\"\",ROUND($D22*INTRO!$E$49,0))","v":23686},{"$f":"IF(INTRO!$E$50=\"\",\"\",ROUND($D22*INTRO!$E$50,0))","v":62937},0,1,null,2,{"$f":"IF(INTRO!$E$37=\"Endemic\",IF($H22>0,IF($H22=4,\"Unknown\",IF($H22=99,\"Stopped\",$D22)),0),\"Not required\")","v":0},41249.665000000001,{"$f":"IF(INTRO!$E$41=\"Endemic\", IF($J22>1, IF($J22=4, \"Unknown\", IF($J22=99, \"Surveillance\", E22)), 0),\"Not required\")","v":"Not required"},{"$f":"IF(INTRO!$E$41=\"Endemic\", IF($J22>1, IF($J22=4, \"Unknown\", IF($J22=99, \"Surveillance\", F22)), 0),\"Not required\")","v":"Not required"},{"$f":"IF(INTRO!$E$41=\"Endemic\", IF($J22>1, IF($J22=4, \"Unknown\", IF($J22=99, \"Surveillance\", ROUND(D22*INTRO!$E$51,0))), 0),\"Not required\")","v":"Not required"},{"$f":"IF(INTRO!$E$41=\"Endemic\", IF($J22>1, IF($J22=4, \"Unknown\", IF($J22=99, \"Surveillance\", SUM($N22:$P22))), 0),\"Not required\")","v":"Not required"},{"$f":"IF(INTRO!$E$43=\"Endemic\", IF($K22>1, IF($K22=4, \"Unknown\", IF($K22=99, \"Surveillance\", ROUND(E22*0.75,0))), 0),\"Not required\")","v":7541},{"$f":"IF(INTRO!$E$43=\"Endemic\", IF($K22>1, IF($K22=4, \"Unknown\", IF($K22=99, \"Surveillance\", F22)), 0),\"Not required\")","v":23686},0,{"$f":"IF(INTRO!$E$43=\"Endemic\", IF($K22>1, IF($K22=4, \"Unknown\", IF($K22=99, \"Surveillance\", SUM($R22:$T22))), 0),\"Not required\")","v":31227},0,2,null,1,null,null,null,null,null,null,null,null,21382,"Ahafo-Ano North"]
[{"$f":"IF(INTRO!$E$33<>0,INTRO!$E$33, \" \")","v":"Ghana"},"Ashanti","Ahafo Ano South East",66161.600000000006,{"$f":"IF(INTRO!$E$48=\"\",\"\",ROUND($D23*INTRO!$E$48,0))","v":6881},{"$f":"IF(INTRO!$E$49=\"\",\"\",ROUND($D23*INTRO!$E$49,0))","v":16210},{"$f":"IF(INTRO!$E$50=\"\",\"\",ROUND($D23*INTRO!$E$50,0))","v":43071},0,1,null,3,{"$f":"IF(INTRO!$E$37=\"Endemic\",IF($H23>0,IF($H23=4,\"Unknown\",IF($H23=99,\"Stopped\",$D23)),0),\"Not required\")","v":0},40417,{"$f":"IF(INTRO!$E$41=\"Endemic\", IF($J23>1, IF($J23=4, \"Unknown\", IF($J23=99, \"Surveillance\", E23)), 0),\"Not required\")","v":"Not required"},{"$f":"IF(INTRO!$E$41=\"Endemic\", IF($J23>1, IF($J23=4, \"Unknown\", IF($J23=99, \"Surveillance\", F23)), 0),\"Not required\")","v":"Not required"},{"$f":"IF(INTRO!$E$41=\"Endemic\", IF($J23>1, IF($J23=4, \"Unknown\", IF($J23=99, \"Surveillance\", ROUND(D23*INTRO!$E$51,0))), 0),\"Not required\")","v":"Not required"},{"$f":"IF(INTRO!$E$41=\"Endemic\", IF($J23>1, IF($J23=4, \"Unknown\", IF($J23=99, \"Surveillance\", SUM($N23:$P23))), 0),\"Not required\")","v":"Not required"},{"$f":"IF(INTRO!$E$43=\"Endemic\", IF($K23>1, IF($K23=4, \"Unknown\", IF($K23=99, \"Surveillance\", ROUND(E23*0.75,0))), 0),\"Not required\")","v":5161},{"$f":"IF(INTRO!$E$43=\"Endemic\", IF($K23>1, IF($K23=4, \"Unknown\", IF($K23=99, \"Surveillance\", F23)), 0),\"Not required\")","v":16210},25641,{"$f":"IF(INTRO!$E$43=\"Endemic\", IF($K23>1, IF($K23=4, \"Unknown\", IF($K23=99, \"Surveillance\", SUM($R23:$T23))), 0),\"Not required\")","v":47012},0,2,null,1,null,null,null,null,null,null,null,null,21609,"Ahafo Ano South East"]
[{"$f":"IF(INTRO!$E$33<>0,INTRO!$E$33, \" \")","v":"Ghana"},"Ashanti","Ahafo Ano South West",68561.399999999994,{"$f":"IF(INTRO!$E$48=\"\",\"\",ROUND($D24*INTRO!$E$48,0))","v":7130},{"$f":"IF(INTRO!$E$49=\"\",\"\",ROUND($D24*INTRO!$E$49,0))","v":16798},{"$f":"IF(INTRO!$E$50=\"\",\"\",ROUND($D24*INTRO!$E$50,0))","v":44633},0,1,null,3,{"$f":"IF(INTRO!$E$37=\"Endemic\",IF($H24>0,IF($H24=4,\"Unknown\",IF($H24=99,\"Stopped\",$D24)),0),\"Not required\")","v":0},40492,{"$f":"IF(INTRO!$E$41=\"Endemic\", IF($J24>1, IF($J24=4, \"Unknown\", IF($J24=99, \"Surveillance\", E24)), 0),\"Not required\")","v":"Not required"},{"$f":"IF(INTRO!$E$41=\"Endemic\", IF($J24>1, IF($J24=4, \"Unknown\", IF($J24=99, \"Surveillance\", F24)), 0),\"Not required\")","v":"Not required"},{"$f":"IF(INTRO!$E$41=\"Endemic\", IF($J24>1, IF($J24=4, \"Unknown\", IF($J24=99, \"Surveillance\", ROUND(D24*INTRO!$E$51,0))), 0),\"Not required\")","v":"Not required"},{"$f":"IF(INTRO!$E$41=\"Endemic\", IF($J24>1, IF($J24=4, \"Unknown\", IF($J24=99, \"Surveillance\", SUM($N24:$P24))), 0),\"Not required\")","v":"Not required"},{"$f":"IF(INTRO!$E$43=\"Endemic\", IF($K24>1, IF($K24=4, \"Unknown\", IF($K24=99, \"Surveillance\", ROUND(E24*0.75,0))), 0),\"Not required\")","v":5348},{"$f":"IF(INTRO!$E$43=\"Endemic\", IF($K24>1, IF($K24=4, \"Unknown\", IF($K24=99, \"Surveillance\", F24)), 0),\"Not required\")","v":16798},24326,{"$f":"IF(INTRO!$E$43=\"Endemic\", IF($K24>1, IF($K24=4, \"Unknown\", IF($K24=99, \"Surveillance\", SUM($R24:$T24))), 0),\"Not required\")","v":46472},0,2,null,1,null,null,null,null,null,null,null,null,21608,"Ahafo Ano South West"]
[{"$f":"IF(INTRO!$E$33<>0,INTRO!$E$33, \" \")","v":"Ghana"},"Ashanti","Amansie Central",97001.3,{"$f":"IF(INTRO!$E$48=\"\",\"\",ROUND($D25*INTRO!$E$48,0))","v":10088},{"$f":"IF(INTRO!$E$49=\"\",\"\",ROUND($D25*INTRO!$E$49,0))","v":23765},{"$f":"IF(INTRO!$E$50=\"\",\"\",ROUND($D25*INTRO!$E$50,0))","v":63148},0,1,null,3,{"$f":"IF(INTRO!$E$37=\"Endemic\",IF($H25>0,IF($H25=4,\"Unknown\",IF($H25=99,\"Stopped\",$D25)),0),\"Not required\")","v":0},43698,{"$f":"IF(INTRO!$E$41=\"Endemic\", IF($J25>1, IF($J25=4, \"Unknown\", IF($J25=99, \"Surveillance\", E25)), 0),\"Not required\")","v":"Not required"},{"$f":"IF(INTRO!$E$41=\"Endemic\", IF($J25>1, IF($J25=4, \"Unknown\", IF($J25=99, \"Surveillance\", F25)), 0),\"Not required\")","v":"Not required"},{"$f":"IF(INTRO!$E$41=\"Endemic\", IF($J25>1, IF($J25=4, \"Unknown\", IF($J25=99, \"Surveillance\", ROUND(D25*INTRO!$E$51,0))), 0),\"Not required\")","v":"Not required"},{"$f":"IF(INTRO!$E$41=\"Endemic\", IF($J25>1, IF($J25=4, \"Unknown\", IF($J25=99, \"Surveillance\", SUM($N25:$P25))), 0),\"Not required\")","v":"Not required"},{"$f":"IF(INTRO!$E$43=\"Endemic\", IF($K25>1, IF($K25=4, \"Unknown\", IF($K25=99, \"Surveillance\", ROUND(E25*0.75,0))), 0),\"Not required\")","v":7566},{"$f":"IF(INTRO!$E$43=\"Endemic\", IF($K25>1, IF($K25=4, \"Unknown\", IF($K25=99, \"Surveillance\", F25)), 0),\"Not required\")","v":23765},30265,{"$f":"IF(INTRO!$E$43=\"Endemic\", IF($K25>1, IF($K25=4, \"Unknown\", IF($K25=99, \"Surveillance\", SUM($R25:$T25))), 0),\"Not required\")","v":61596},0,2,null,1,null,null,null,null,null,null,null,null,21384,"Amansie Central"]
[{"$f":"IF(INTRO!$E$33<>0,INTRO!$E$33, \" \")","v":"Ghana"},"Ashanti","Amansie South",121304.7,{"$f":"IF(INTRO!$E$48=\"\",\"\",ROUND($D26*INTRO!$E$48,0))","v":12616},{"$f":"IF(INTRO!$E$49=\"\",\"\",ROUND($D26*INTRO!$E$49,0))","v":29720},{"$f":"IF(INTRO!$E$50=\"\",\"\",ROUND($D26*INTRO!$E$50,0))","v":78969},0,1,null,3,{"$f":"IF(INTRO!$E$37=\"Endemic\",IF($H26>0,IF($H26=4,\"Unknown\",IF($H26=99,\"Stopped\",$D26)),0),\"Not required\")","v":0},57981,{"$f":"IF(INTRO!$E$41=\"Endemic\", IF($J26>1, IF($J26=4, \"Unknown\", IF($J26=99, \"Surveillance\", E26)), 0),\"Not required\")","v":"Not required"},{"$f":"IF(INTRO!$E$41=\"Endemic\", IF($J26>1, IF($J26=4, \"Unknown\", IF($J26=99, \"Surveillance\", F26)), 0),\"Not required\")","v":"Not required"},{"$f":"IF(INTRO!$E$41=\"Endemic\", IF($J26>1, IF($J26=4, \"Unknown\", IF($J26=99, \"Surveillance\", ROUND(D26*INTRO!$E$51,0))), 0),\"Not required\")","v":"Not required"},{"$f":"IF(INTRO!$E$41=\"Endemic\", IF($J26>1, IF($J26=4, \"Unknown\", IF($J26=99, \"Surveillance\", SUM($N26:$P26))), 0),\"Not required\")","v":"Not required"},{"$f":"IF(INTRO!$E$43=\"Endemic\", IF($K26>1, IF($K26=4, \"Unknown\", IF($K26=99, \"Surveillance\", ROUND(E26*0.75,0))), 0),\"Not required\")","v":9462},{"$f":"IF(INTRO!$E$43=\"Endemic\", IF($K26>1, IF($K26=4, \"Unknown\", IF($K26=99, \"Surveillance\", F26)), 0),\"Not required\")","v":29720},25362,{"$f":"IF(INTRO!$E$43=\"Endemic\", IF($K26>1, IF($K26=4, \"Unknown\", IF($K26=99, \"Surveillance\", SUM($R26:$T26))), 0),\"Not required\")","v":64544},0,2,null,1,null,null,null,null,null,null,null,null,21610,"Amansie South"]
[{"$f":"IF(INTRO!$E$33<>0,INTRO!$E$33, \" \")","v":"Ghana"},"Ashanti","Amansie West",114059.8,{"$f":"IF(INTRO!$E$48=\"\",\"\",ROUND($D27*INTRO!$E$48,0))","v":11862},{"$f":"IF(INTRO!$E$49=\"\",\"\",ROUND($D27*INTRO!$E$49,0))","v":27945},{"$f":"IF(INTRO!$E$50=\"\",\"\",ROUND($D27*INTRO!$E$50,0))","v":74253},0,0,null,3,{"$f":"IF(INTRO!$E$37=\"Endemic\",IF($H27>0,IF($H27=4,\"Unknown\",IF($H27=99,\"Stopped\",$D27)),0),\"Not required\")","v":0},0,{"$f":"IF(INTRO!$E$41=\"Endemic\", IF($J27>1, IF($J27=4, \"Unknown\", IF($J27=99, \"Surveillance\", E27)), 0),\"Not required\")","v":"Not required"},{"$f":"IF(INTRO!$E$41=\"Endemic\", IF($J27>1, IF($J27=4, \"Unknown\", IF($J27=99, \"Surveillance\", F27)), 0),\"Not required\")","v":"Not required"},{"$f":"IF(INTRO!$E$41=\"Endemic\", IF($J27>1, IF($J27=4, \"Unknown\", IF($J27=99, \"Surveillance\", ROUND(D27*INTRO!$E$51,0))), 0),\"Not required\")","v":"Not required"},{"$f":"IF(INTRO!$E$41=\"Endemic\", IF($J27>1, IF($J27=4, \"Unknown\", IF($J27=99, \"Surveillance\", SUM($N27:$P27))), 0),\"Not required\")","v":"Not required"},{"$f":"IF(INTRO!$E$43=\"Endemic\", IF($K27>1, IF($K27=4, \"Unknown\", IF($K27=99, \"Surveillance\", ROUND(E27*0.75,0))), 0),\"Not required\")","v":8897},{"$f":"IF(INTRO!$E$43=\"Endemic\", IF($K27>1, IF($K27=4, \"Unknown\", IF($K27=99, \"Surveillance\", F27)), 0),\"Not required\")","v":27945},21236,{"$f":"IF(INTRO!$E$43=\"Endemic\", IF($K27>1, IF($K27=4, \"Unknown\", IF($K27=99, \"Surveillance\", SUM($R27:$T27))), 0),\"Not required\")","v":58078},0,0,null,1,null,null,null,null,null,null,null,null,21611,"Amansie West"]
[{"$f":"IF(INTRO!$E$33<>0,INTRO!$E$33, \" \")","v":"Ghana"},"Ashanti","Asante Akim Central",95563.8,{"$f":"IF(INTRO!$E$48=\"\",\"\",ROUND($D28*INTRO!$E$48,0))","v":9939},{"$f":"IF(INTRO!$E$49=\"\",\"\",ROUND($D28*INTRO!$E$49,0))","v":23413},{"$f":"IF(INTRO!$E$50=\"\",\"\",ROUND($D28*INTRO!$E$50,0))","v":62212},0,0,null,2,{"$f":"IF(INTRO!$E$37=\"Endemic\",IF($H28>0,IF($H28=4,\"Unknown\",IF($H28=99,\"Stopped\",$D28)),0),\"Not required\")","v":0},0,{"$f":"IF(INTRO!$E$41=\"Endemic\", IF($J28>1, IF($J28=4, \"Unknown\", IF($J28=99, \"Surveillance\", E28)), 0),\"Not required\")","v":"Not required"},{"$f":"IF(INTRO!$E$41=\"Endemic\", IF($J28>1, IF($J28=4, \"Unknown\", IF($J28=99, \"Surveillance\", F28)), 0),\"Not required\")","v":"Not required"},{"$f":"IF(INTRO!$E$41=\"Endemic\", IF($J28>1, IF($J28=4, \"Unknown\", IF($J28=99, \"Surveillance\", ROUND(D28*INTRO!$E$51,0))), 0),\"Not required\")","v":"Not required"},{"$f":"IF(INTRO!$E$41=\"Endemic\", IF($J28>1, IF($J28=4, \"Unknown\", IF($J28=99, \"Surveillance\", SUM($N28:$P28))), 0),\"Not required\")","v":"Not required"},{"$f":"IF(INTRO!$E$43=\"Endemic\", IF($K28>1, IF($K28=4, \"Unknown\", IF($K28=99, \"Surveillance\", ROUND(E28*0.75,0))), 0),\"Not required\")","v":7454},{"$f":"IF(INTRO!$E$43=\"Endemic\", IF($K28>1, IF($K28=4, \"Unknown\", IF($K28=99, \"Surveillance\", F28)), 0),\"Not required\")","v":23413},0,{"$f":"IF(INTRO!$E$43=\"Endemic\", IF($K28>1, IF($K28=4, \"Unknown\", IF($K28=99, \"Surveillance\", SUM($R28:$T28))), 0),\"Not required\")","v":30867},0,0,null,1,null,null,null,null,null,null,null,null,21388,"Asante Akim Central"]
[{"$f":"IF(INTRO!$E$33<>0,INTRO!$E$33, \" \")","v":"Ghana"},"Ashanti","Asante Akim North",89428.9,{"$f":"IF(INTRO!$E$48=\"\",\"\",ROUND($D29*INTRO!$E$48,0))","v":9301},{"$f":"IF(INTRO!$E$49=\"\",\"\",ROUND($D29*INTRO!$E$49,0))","v":21910},{"$f":"IF(INTRO!$E$50=\"\",\"\",ROUND($D29*INTRO!$E$50,0))","v":58218},0,0,null,2,{"$f":"IF(INTRO!$E$37=\"Endemic\",IF($H29>0,IF($H29=4,\"Unknown\",IF($H29=99,\"Stopped\",$D29)),0),\"Not required\")","v":0},0,{"$f":"IF(INTRO!$E$41=\"Endemic\", IF($J29>1, IF($J29=4, \"Unknown\", IF($J29=99, \"Surveillance\", E29)), 0),\"Not required\")","v":"Not required"},{"$f":"IF(INTRO!$E$41=\"Endemic\", IF($J29>1, IF($J29=4, \"Unknown\", IF($J29=99, \"Surveillance\", F29)), 0),\"Not required\")","v":"Not required"},{"$f":"IF(INTRO!$E$41=\"Endemic\", IF($J29>1, IF($J29=4, \"Unknown\", IF($J29=99, \"Surveillance\", ROUND(D29*INTRO!$E$51,0))), 0),\"Not required\")","v":"Not required"},{"$f":"IF(INTRO!$E$41=\"Endemic\", IF($J29>1, IF($J29=4, \"Unknown\", IF($J29=99, \"Surveillance\", SUM($N29:$P29))), 0),\"Not required\")","v":"Not required"},{"$f":"IF(INTRO!$E$43=\"Endemic\", IF($K29>1, IF($K29=4, \"Unknown\", IF($K29=99, \"Surveillance\", ROUND(E29*0.75,0))), 0),\"Not required\")","v":6976},{"$f":"IF(INTRO!$E$43=\"Endemic\", IF($K29>1, IF($K29=4, \"Unknown\", IF($K29=99, \"Surveillance\", F29)), 0),\"Not required\")","v":21910},0,{"$f":"IF(INTRO!$E$43=\"Endemic\", IF($K29>1, IF($K29=4, \"Unknown\", IF($K29=99, \"Surveillance\", SUM($R29:$T29))), 0),\"Not required\")","v":28886},0,0,null,1,null,null,null,null,null,null,null,null,21386,"Asante Akim North"]
[{"$f":"IF(INTRO!$E$33<>0,INTRO!$E$33, \" \")","v":"Ghana"},"Ashanti","Asante Akim South",128880.1,{"$f":"IF(INTRO!$E$48=\"\",\"\",ROUND($D30*INTRO!$E$48,0))","v":13404},{"$f":"IF(INTRO!$E$49=\"\",\"\",ROUND($D30*INTRO!$E$49,0))","v":31576},{"$f":"IF(INTRO!$E$50=\"\",\"\",ROUND($D30*INTRO!$E$50,0))","v":83901},0,1,null,2,{"$f":"IF(INTRO!$E$37=\"Endemic\",IF($H30>0,IF($H30=4,\"Unknown\",IF($H30=99,\"Stopped\",$D30)),0),\"Not required\")","v":0},125332,{"$f":"IF(INTRO!$E$41=\"Endemic\", IF($J30>1, IF($J30=4, \"Unknown\", IF($J30=99, \"Surveillance\", E30)), 0),\"Not required\")","v":"Not required"},{"$f":"IF(INTRO!$E$41=\"Endemic\", IF($J30>1, IF($J30=4, \"Unknown\", IF($J30=99, \"Surveillance\", F30)), 0),\"Not required\")","v":"Not required"},{"$f":"IF(INTRO!$E$41=\"Endemic\", IF($J30>1, IF($J30=4, \"Unknown\", IF($J30=99, \"Surveillance\", ROUND(D30*INTRO!$E$51,0))), 0),\"Not required\")","v":"Not required"},{"$f":"IF(INTRO!$E$41=\"Endemic\", IF($J30>1, IF($J30=4, \"Unknown\", IF($J30=99, \"Surveillance\", SUM($N30:$P30))), 0),\"Not required\")","v":"Not required"},{"$f":"IF(INTRO!$E$43=\"Endemic\", IF($K30>1, IF($K30=4, \"Unknown\", IF($K30=99, \"Surveillance\", ROUND(E30*0.75,0))), 0),\"Not required\")","v":10053},{"$f":"IF(INTRO!$E$43=\"Endemic\", IF($K30>1, IF($K30=4, \"Unknown\", IF($K30=99, \"Surveillance\", F30)), 0),\"Not required\")","v":31576},0,{"$f":"IF(INTRO!$E$43=\"Endemic\", IF($K30>1, IF($K30=4, \"Unknown\", IF($K30=99, \"Surveillance\", SUM($R30:$T30))), 0),\"Not required\")","v":41629},0,2,null,1,null,null,null,null,null,null,null,null,21387,"Asante Akim South"]
[{"$f":"IF(INTRO!$E$33<>0,INTRO!$E$33, \" \")","v":"Ghana"},"Ashanti","Asante Mampong",120887.7,{"$f":"IF(INTRO!$E$48=\"\",\"\",ROUND($D31*INTRO!$E$48,0))","v":12572},{"$f":"IF(INTRO!$E$49=\"\",\"\",ROUND($D31*INTRO!$E$49,0))","v":29617},{"$f":"IF(INTRO!$E$50=\"\",\"\",ROUND($D31*INTRO!$E$50,0))","v":78698},0,1,null,2,{"$f":"IF(INTRO!$E$37=\"Endemic\",IF($H31>0,IF($H31=4,\"Unknown\",IF($H31=99,\"Stopped\",$D31)),0),\"Not required\")","v":0},42443.619999999995,{"$f":"IF(INTRO!$E$41=\"Endemic\", IF($J31>1, IF($J31=4, \"Unknown\", IF($J31=99, \"Surveillance\", E31)), 0),\"Not required\")","v":"Not required"},{"$f":"IF(INTRO!$E$41=\"Endemic\", IF($J31>1, IF($J31=4, \"Unknown\", IF($J31=99, \"Surveillance\", F31)), 0),\"Not required\")","v":"Not required"},{"$f":"IF(INTRO!$E$41=\"Endemic\", IF($J31>1, IF($J31=4, \"Unknown\", IF($J31=99, \"Surveillance\", ROUND(D31*INTRO!$E$51,0))), 0),\"Not required\")","v":"Not required"},{"$f":"IF(INTRO!$E$41=\"Endemic\", IF($J31>1, IF($J31=4, \"Unknown\", IF($J31=99, \"Surveillance\", SUM($N31:$P31))), 0),\"Not required\")","v":"Not required"},{"$f":"IF(INTRO!$E$43=\"Endemic\", IF($K31>1, IF($K31=4, \"Unknown\", IF($K31=99, \"Surveillance\", ROUND(E31*0.75,0))), 0),\"Not required\")","v":9429},{"$f":"IF(INTRO!$E$43=\"Endemic\", IF($K31>1, IF($K31=4, \"Unknown\", IF($K31=99, \"Surveillance\", F31)), 0),\"Not required\")","v":29617},0,{"$f":"IF(INTRO!$E$43=\"Endemic\", IF($K31>1, IF($K31=4, \"Unknown\", IF($K31=99, \"Surveillance\", SUM($R31:$T31))), 0),\"Not required\")","v":39046},0,2,null,1,null,null,null,null,null,null,null,null,21378,"Mampong Muncipal"]
[{"$f":"IF(INTRO!$E$33<>0,INTRO!$E$33, \" \")","v":"Ghana"},"Ashanti","Asokore Mampong",199525.1,{"$f":"IF(INTRO!$E$48=\"\",\"\",ROUND($D32*INTRO!$E$48,0))","v":20751},{"$f":"IF(INTRO!$E$49=\"\",\"\",ROUND($D32*INTRO!$E$49,0))","v":48884},{"$f":"IF(INTRO!$E$50=\"\",\"\",ROUND($D32*INTRO!$E$50,0))","v":129891},0,0,null,2,{"$f":"IF(INTRO!$E$37=\"Endemic\",IF($H32>0,IF($H32=4,\"Unknown\",IF($H32=99,\"Stopped\",$D32)),0),\"Not required\")","v":0},0,{"$f":"IF(INTRO!$E$41=\"Endemic\", IF($J32>1, IF($J32=4, \"Unknown\", IF($J32=99, \"Surveillance\", E32)), 0),\"Not required\")","v":"Not required"},{"$f":"IF(INTRO!$E$41=\"Endemic\", IF($J32>1, IF($J32=4, \"Unknown\", IF($J32=99, \"Surveillance\", F32)), 0),\"Not required\")","v":"Not required"},{"$f":"IF(INTRO!$E$41=\"Endemic\", IF($J32>1, IF($J32=4, \"Unknown\", IF($J32=99, \"Surveillance\", ROUND(D32*INTRO!$E$51,0))), 0),\"Not required\")","v":"Not required"},{"$f":"IF(INTRO!$E$41=\"Endemic\", IF($J32>1, IF($J32=4, \"Unknown\", IF($J32=99, \"Surveillance\", SUM($N32:$P32))), 0),\"Not required\")","v":"Not required"},{"$f":"IF(INTRO!$E$43=\"Endemic\", IF($K32>1, IF($K32=4, \"Unknown\", IF($K32=99, \"Surveillance\", ROUND(E32*0.75,0))), 0),\"Not required\")","v":15563},{"$f":"IF(INTRO!$E$43=\"Endemic\", IF($K32>1, IF($K32=4, \"Unknown\", IF($K32=99, \"Surveillance\", F32)), 0),\"Not required\")","v":48884},0,{"$f":"IF(INTRO!$E$43=\"Endemic\", IF($K32>1, IF($K32=4, \"Unknown\", IF($K32=99, \"Surveillance\", SUM($R32:$T32))), 0),\"Not required\")","v":64447},0,0,null,0,null,null,null,null,null,null,null,null,21389,"Asokore Mampong"]
[{"$f":"IF(INTRO!$E$33<>0,INTRO!$E$33, \" \")","v":"Ghana"},"Ashanti","Asokwa",130974.39999999999,{"$f":"IF(INTRO!$E$48=\"\",\"\",ROUND($D33*INTRO!$E$48,0))","v":13621},{"$f":"IF(INTRO!$E$49=\"\",\"\",ROUND($D33*INTRO!$E$49,0))","v":32089},{"$f":"IF(INTRO!$E$50=\"\",\"\",ROUND($D33*INTRO!$E$50,0))","v":85264},0,0,null,2,{"$f":"IF(INTRO!$E$37=\"Endemic\",IF($H33>0,IF($H33=4,\"Unknown\",IF($H33=99,\"Stopped\",$D33)),0),\"Not required\")","v":0},0,{"$f":"IF(INTRO!$E$41=\"Endemic\", IF($J33>1, IF($J33=4, \"Unknown\", IF($J33=99, \"Surveillance\", E33)), 0),\"Not required\")","v":"Not required"},{"$f":"IF(INTRO!$E$41=\"Endemic\", IF($J33>1, IF($J33=4, \"Unknown\", IF($J33=99, \"Surveillance\", F33)), 0),\"Not required\")","v":"Not required"},{"$f":"IF(INTRO!$E$41=\"Endemic\", IF($J33>1, IF($J33=4, \"Unknown\", IF($J33=99, \"Surveillance\", ROUND(D33*INTRO!$E$51,0))), 0),\"Not required\")","v":"Not required"},{"$f":"IF(INTRO!$E$41=\"Endemic\", IF($J33>1, IF($J33=4, \"Unknown\", IF($J33=99, \"Surveillance\", SUM($N33:$P33))), 0),\"Not required\")","v":"Not required"},{"$f":"IF(INTRO!$E$43=\"Endemic\", IF($K33>1, IF($K33=4, \"Unknown\", IF($K33=99, \"Surveillance\", ROUND(E33*0.75,0))), 0),\"Not required\")","v":10216},{"$f":"IF(INTRO!$E$43=\"Endemic\", IF($K33>1, IF($K33=4, \"Unknown\", IF($K33=99, \"Surveillance\", F33)), 0),\"Not required\")","v":32089},0,{"$f":"IF(INTRO!$E$43=\"Endemic\", IF($K33>1, IF($K33=4, \"Unknown\", IF($K33=99, \"Surveillance\", SUM($R33:$T33))), 0),\"Not required\")","v":42305},0,0,null,0,null,null,null,null,null,null,null,null,21616,"Asokwa"]
[{"$f":"IF(INTRO!$E$33<>0,INTRO!$E$33, \" \")","v":"Ghana"},"Ashanti","Atwima Kwanwoma",244813.1,{"$f":"IF(INTRO!$E$48=\"\",\"\",ROUND($D34*INTRO!$E$48,0))","v":25461},{"$f":"IF(INTRO!$E$49=\"\",\"\",ROUND($D34*INTRO!$E$49,0))","v":59979},{"$f":"IF(INTRO!$E$50=\"\",\"\",ROUND($D34*INTRO!$E$50,0))","v":159373},0,0,null,2,{"$f":"IF(INTRO!$E$37=\"Endemic\",IF($H34>0,IF($H34=4,\"Unknown\",IF($H34=99,\"Stopped\",$D34)),0),\"Not required\")","v":0},0,{"$f":"IF(INTRO!$E$41=\"Endemic\", IF($J34>1, IF($J34=4, \"Unknown\", IF($J34=99, \"Surveillance\", E34)), 0),\"Not required\")","v":"Not required"},{"$f":"IF(INTRO!$E$41=\"Endemic\", IF($J34>1, IF($J34=4, \"Unknown\", IF($J34=99, \"Surveillance\", F34)), 0),\"Not required\")","v":"Not required"},{"$f":"IF(INTRO!$E$41=\"Endemic\", IF($J34>1, IF($J34=4, \"Unknown\", IF($J34=99, \"Surveillance\", ROUND(D34*INTRO!$E$51,0))), 0),\"Not required\")","v":"Not required"},{"$f":"IF(INTRO!$E$41=\"Endemic\", IF($J34>1, IF($J34=4, \"Unknown\", IF($J34=99, \"Surveillance\", SUM($N34:$P34))), 0),\"Not required\")","v":"Not required"},{"$f":"IF(INTRO!$E$43=\"Endemic\", IF($K34>1, IF($K34=4, \"Unknown\", IF($K34=99, \"Surveillance\", ROUND(E34*0.75,0))), 0),\"Not required\")","v":19096},{"$f":"IF(INTRO!$E$43=\"Endemic\", IF($K34>1, IF($K34=4, \"Unknown\", IF($K34=99, \"Surveillance\", F34)), 0),\"Not required\")","v":59979},0,{"$f":"IF(INTRO!$E$43=\"Endemic\", IF($K34>1, IF($K34=4, \"Unknown\", IF($K34=99, \"Surveillance\", SUM($R34:$T34))), 0),\"Not required\")","v":79075},0,0,null,0,null,null,null,null,null,null,null,null,21390,"Atwima-Kwanwoma"]
[{"$f":"IF(INTRO!$E$33<>0,INTRO!$E$33, \" \")","v":"Ghana"},"Ashanti","Atwima Mponua",161843.20000000001,{"$f":"IF(INTRO!$E$48=\"\",\"\",ROUND($D35*INTRO!$E$48,0))","v":16832},{"$f":"IF(INTRO!$E$49=\"\",\"\",ROUND($D35*INTRO!$E$49,0))","v":39652},{"$f":"IF(INTRO!$E$50=\"\",\"\",ROUND($D35*INTRO!$E$50,0))","v":105360},0,1,null,3,{"$f":"IF(INTRO!$E$37=\"Endemic\",IF($H35>0,IF($H35=4,\"Unknown\",IF($H35=99,\"Stopped\",$D35)),0),\"Not required\")","v":0},130796,{"$f":"IF(INTRO!$E$41=\"Endemic\", IF($J35>1, IF($J35=4, \"Unknown\", IF($J35=99, \"Surveillance\", E35)), 0),\"Not required\")","v":"Not required"},{"$f":"IF(INTRO!$E$41=\"Endemic\", IF($J35>1, IF($J35=4, \"Unknown\", IF($J35=99, \"Surveillance\", F35)), 0),\"Not required\")","v":"Not required"},{"$f":"IF(INTRO!$E$41=\"Endemic\", IF($J35>1, IF($J35=4, \"Unknown\", IF($J35=99, \"Surveillance\", ROUND(D35*INTRO!$E$51,0))), 0),\"Not required\")","v":"Not required"},{"$f":"IF(INTRO!$E$41=\"Endemic\", IF($J35>1, IF($J35=4, \"Unknown\", IF($J35=99, \"Surveillance\", SUM($N35:$P35))), 0),\"Not required\")","v":"Not required"},{"$f":"IF(INTRO!$E$43=\"Endemic\", IF($K35>1, IF($K35=4, \"Unknown\", IF($K35=99, \"Surveillance\", ROUND(E35*0.75,0))), 0),\"Not required\")","v":12624},{"$f":"IF(INTRO!$E$43=\"Endemic\", IF($K35>1, IF($K35=4, \"Unknown\", IF($K35=99, \"Surveillance\", F35)), 0),\"Not required\")","v":39652},56524,{"$f":"IF(INTRO!$E$43=\"Endemic\", IF($K35>1, IF($K35=4, \"Unknown\", IF($K35=99, \"Surveillance\", SUM($R35:$T35))), 0),\"Not required\")","v":108800},0,2,null,1,null,null,null,null,null,null,null,null,21391,"Atwima Mponua"]
[{"$f":"IF(INTRO!$E$33<>0,INTRO!$E$33, \" \")","v":"Ghana"},"Ashanti","Atwima Nwabiagya",168763.8,{"$f":"IF(INTRO!$E$48=\"\",\"\",ROUND($D36*INTRO!$E$48,0))","v":17551},{"$f":"IF(INTRO!$E$49=\"\",\"\",ROUND($D36*INTRO!$E$49,0))","v":41347},{"$f":"IF(INTRO!$E$50=\"\",\"\",ROUND($D36*INTRO!$E$50,0))","v":109865},0,0,null,2,{"$f":"IF(INTRO!$E$37=\"Endemic\",IF($H36>0,IF($H36=4,\"Unknown\",IF($H36=99,\"Stopped\",$D36)),0),\"Not required\")","v":0},0,{"$f":"IF(INTRO!$E$41=\"Endemic\", IF($J36>1, IF($J36=4, \"Unknown\", IF($J36=99, \"Surveillance\", E36)), 0),\"Not required\")","v":"Not required"},{"$f":"IF(INTRO!$E$41=\"Endemic\", IF($J36>1, IF($J36=4, \"Unknown\", IF($J36=99, \"Surveillance\", F36)), 0),\"Not required\")","v":"Not required"},{"$f":"IF(INTRO!$E$41=\"Endemic\", IF($J36>1, IF($J36=4, \"Unknown\", IF($J36=99, \"Surveillance\", ROUND(D36*INTRO!$E$51,0))), 0),\"Not required\")","v":"Not required"},{"$f":"IF(INTRO!$E$41=\"Endemic\", IF($J36>1, IF($J36=4, \"Unknown\", IF($J36=99, \"Surveillance\", SUM($N36:$P36))), 0),\"Not required\")","v":"Not required"},{"$f":"IF(INTRO!$E$43=\"Endemic\", IF($K36>1, IF($K36=4, \"Unknown\", IF($K36=99, \"Surveillance\", ROUND(E36*0.75,0))), 0),\"Not required\")","v":13163},{"$f":"IF(INTRO!$E$43=\"Endemic\", IF($K36>1, IF($K36=4, \"Unknown\", IF($K36=99, \"Surveillance\", F36)), 0),\"Not required\")","v":41347},0,{"$f":"IF(INTRO!$E$43=\"Endemic\", IF($K36>1, IF($K36=4, \"Unknown\", IF($K36=99, \"Surveillance\", SUM($R36:$T36))), 0),\"Not required\")","v":54510},0,0,null,1,null,null,null,null,null,null,null,null,21612,"Atwima Nwabiagya"]
[{"$f":"IF(INTRO!$E$33<>0,INTRO!$E$33, \" \")","v":"Ghana"},"Ashanti","Atwima Nwabiagya North",161604.4,{"$f":"IF(INTRO!$E$48=\"\",\"\",ROUND($D37*INTRO!$E$48,0))","v":16807},{"$f":"IF(INTRO!$E$49=\"\",\"\",ROUND($D37*INTRO!$E$49,0))","v":39593},{"$f":"IF(INTRO!$E$50=\"\",\"\",ROUND($D37*INTRO!$E$50,0))","v":105204},0,1,null,2,{"$f":"IF(INTRO!$E$37=\"Endemic\",IF($H37>0,IF($H37=4,\"Unknown\",IF($H37=99,\"Stopped\",$D37)),0),\"Not required\")","v":0},33926,{"$f":"IF(INTRO!$E$41=\"Endemic\", IF($J37>1, IF($J37=4, \"Unknown\", IF($J37=99, \"Surveillance\", E37)), 0),\"Not required\")","v":"Not required"},{"$f":"IF(INTRO!$E$41=\"Endemic\", IF($J37>1, IF($J37=4, \"Unknown\", IF($J37=99, \"Surveillance\", F37)), 0),\"Not required\")","v":"Not required"},{"$f":"IF(INTRO!$E$41=\"Endemic\", IF($J37>1, IF($J37=4, \"Unknown\", IF($J37=99, \"Surveillance\", ROUND(D37*INTRO!$E$51,0))), 0),\"Not required\")","v":"Not required"},{"$f":"IF(INTRO!$E$41=\"Endemic\", IF($J37>1, IF($J37=4, \"Unknown\", IF($J37=99, \"Surveillance\", SUM($N37:$P37))), 0),\"Not required\")","v":"Not required"},{"$f":"IF(INTRO!$E$43=\"Endemic\", IF($K37>1, IF($K37=4, \"Unknown\", IF($K37=99, \"Surveillance\", ROUND(E37*0.75,0))), 0),\"Not required\")","v":12605},{"$f":"IF(INTRO!$E$43=\"Endemic\", IF($K37>1, IF($K37=4, \"Unknown\", IF($K37=99, \"Surveillance\", F37)), 0),\"Not required\")","v":39593},0,{"$f":"IF(INTRO!$E$43=\"Endemic\", IF($K37>1, IF($K37=4, \"Unknown\", IF($K37=99, \"Surveillance\", SUM($R37:$T37))), 0),\"Not required\")","v":52198},0,2,null,1,null,null,null,null,null,null,null,null,21613,"Atwima Nwabiagya North"]
[{"$f":"IF(INTRO!$E$33<>0,INTRO!$E$33, \" \")","v":"Ghana"},"Ashanti","Bekwai",143822.5,{"$f":"IF(INTRO!$E$48=\"\",\"\",ROUND($D38*INTRO!$E$48,0))","v":14958},{"$f":"IF(INTRO!$E$49=\"\",\"\",ROUND($D38*INTRO!$E$49,0))","v":35237},{"$f":"IF(INTRO!$E$50=\"\",\"\",ROUND($D38*INTRO!$E$50,0))","v":93628},0,0,null,2,{"$f":"IF(INTRO!$E$37=\"Endemic\",IF($H38>0,IF($H38=4,\"Unknown\",IF($H38=99,\"Stopped\",$D38)),0),\"Not required\")","v":0},0,{"$f":"IF(INTRO!$E$41=\"Endemic\", IF($J38>1, IF($J38=4, \"Unknown\", IF($J38=99, \"Surveillance\", E38)), 0),\"Not required\")","v":"Not required"},{"$f":"IF(INTRO!$E$41=\"Endemic\", IF($J38>1, IF($J38=4, \"Unknown\", IF($J38=99, \"Surveillance\", F38)), 0),\"Not required\")","v":"Not required"},{"$f":"IF(INTRO!$E$41=\"Endemic\", IF($J38>1, IF($J38=4, \"Unknown\", IF($J38=99, \"Surveillance\", ROUND(D38*INTRO!$E$51,0))), 0),\"Not required\")","v":"Not required"},{"$f":"IF(INTRO!$E$41=\"Endemic\", IF($J38>1, IF($J38=4, \"Unknown\", IF($J38=99, \"Surveillance\", SUM($N38:$P38))), 0),\"Not required\")","v":"Not required"},{"$f":"IF(INTRO!$E$43=\"Endemic\", IF($K38>1, IF($K38=4, \"Unknown\", IF($K38=99, \"Surveillance\", ROUND(E38*0.75,0))), 0),\"Not required\")","v":11219},{"$f":"IF(INTRO!$E$43=\"Endemic\", IF($K38>1, IF($K38=4, \"Unknown\", IF($K38=99, \"Surveillance\", F38)), 0),\"Not required\")","v":35237},0,{"$f":"IF(INTRO!$E$43=\"Endemic\", IF($K38>1, IF($K38=4, \"Unknown\", IF($K38=99, \"Surveillance\", SUM($R38:$T38))), 0),\"Not required\")","v":46456},0,0,null,0,null,null,null,null,null,null,null,null,21393,"Bekwai Municipal"]
[{"$f":"IF(INTRO!$E$33<>0,INTRO!$E$33, \" \")","v":"Ghana"},"Ashanti","Bosome Freho",64901.3,{"$f":"IF(INTRO!$E$48=\"\",\"\",ROUND($D39*INTRO!$E$48,0))","v":6750},{"$f":"IF(INTRO!$E$49=\"\",\"\",ROUND($D39*INTRO!$E$49,0))","v":15901},{"$f":"IF(INTRO!$E$50=\"\",\"\",ROUND($D39*INTRO!$E$50,0))","v":42251},0,1,null,3,{"$f":"IF(INTRO!$E$37=\"Endemic\",IF($H39>0,IF($H39=4,\"Unknown\",IF($H39=99,\"Stopped\",$D39)),0),\"Not required\")","v":0},62824,{"$f":"IF(INTRO!$E$41=\"Endemic\", IF($J39>1, IF($J39=4, \"Unknown\", IF($J39=99, \"Surveillance\", E39)), 0),\"Not required\")","v":"Not required"},{"$f":"IF(INTRO!$E$41=\"Endemic\", IF($J39>1, IF($J39=4, \"Unknown\", IF($J39=99, \"Surveillance\", F39)), 0),\"Not required\")","v":"Not required"},{"$f":"IF(INTRO!$E$41=\"Endemic\", IF($J39>1, IF($J39=4, \"Unknown\", IF($J39=99, \"Surveillance\", ROUND(D39*INTRO!$E$51,0))), 0),\"Not required\")","v":"Not required"},{"$f":"IF(INTRO!$E$41=\"Endemic\", IF($J39>1, IF($J39=4, \"Unknown\", IF($J39=99, \"Surveillance\", SUM($N39:$P39))), 0),\"Not required\")","v":"Not required"},{"$f":"IF(INTRO!$E$43=\"Endemic\", IF($K39>1, IF($K39=4, \"Unknown\", IF($K39=99, \"Surveillance\", ROUND(E39*0.75,0))), 0),\"Not required\")","v":5063},{"$f":"IF(INTRO!$E$43=\"Endemic\", IF($K39>1, IF($K39=4, \"Unknown\", IF($K39=99, \"Surveillance\", F39)), 0),\"Not required\")","v":15901},25632,{"$f":"IF(INTRO!$E$43=\"Endemic\", IF($K39>1, IF($K39=4, \"Unknown\", IF($K39=99, \"Surveillance\", SUM($R39:$T39))), 0),\"Not required\")","v":46596},0,2,null,1,null,null,null,null,null,null,null,null,21394,"Bosome-Freho"]
[{"$f":"IF(INTRO!$E$33<>0,INTRO!$E$33, \" \")","v":"Ghana"},"Ashanti","Bosomtwe",172190.4,{"$f":"IF(INTRO!$E$48=\"\",\"\",ROUND($D40*INTRO!$E$48,0))","v":17908},{"$f":"IF(INTRO!$E$49=\"\",\"\",ROUND($D40*INTRO!$E$49,0))","v":42187},{"$f":"IF(INTRO!$E$50=\"\",\"\",ROUND($D40*INTRO!$E$50,0))","v":112096},0,0,null,2,{"$f":"IF(INTRO!$E$37=\"Endemic\",IF($H40>0,IF($H40=4,\"Unknown\",IF($H40=99,\"Stopped\",$D40)),0),\"Not required\")","v":0},0,{"$f":"IF(INTRO!$E$41=\"Endemic\", IF($J40>1, IF($J40=4, \"Unknown\", IF($J40=99, \"Surveillance\", E40)), 0),\"Not required\")","v":"Not required"},{"$f":"IF(INTRO!$E$41=\"Endemic\", IF($J40>1, IF($J40=4, \"Unknown\", IF($J40=99, \"Surveillance\", F40)), 0),\"Not required\")","v":"Not required"},{"$f":"IF(INTRO!$E$41=\"Endemic\", IF($J40>1, IF($J40=4, \"Unknown\", IF($J40=99, \"Surveillance\", ROUND(D40*INTRO!$E$51,0))), 0),\"Not required\")","v":"Not required"},{"$f":"IF(INTRO!$E$41=\"Endemic\", IF($J40>1, IF($J40=4, \"Unknown\", IF($J40=99, \"Surveillance\", SUM($N40:$P40))), 0),\"Not required\")","v":"Not required"},{"$f":"IF(INTRO!$E$43=\"Endemic\", IF($K40>1, IF($K40=4, \"Unknown\", IF($K40=99, \"Surveillance\", ROUND(E40*0.75,0))), 0),\"Not required\")","v":13431},{"$f":"IF(INTRO!$E$43=\"Endemic\", IF($K40>1, IF($K40=4, \"Unknown\", IF($K40=99, \"Surveillance\", F40)), 0),\"Not required\")","v":42187},0,{"$f":"IF(INTRO!$E$43=\"Endemic\", IF($K40>1, IF($K40=4, \"Unknown\", IF($K40=99, \"Surveillance\", SUM($R40:$T40))), 0),\"Not required\")","v":55618},0,0,null,1,null,null,null,null,null,null,null,null,21395,"Bosomtwe"]
[{"$f":"IF(INTRO!$E$33<>0,INTRO!$E$33, \" \")","v":"Ghana"},"Ashanti","Ejisu",188393.1,{"$f":"IF(INTRO!$E$48=\"\",\"\",ROUND($D41*INTRO!$E$48,0))","v":19593},{"$f":"IF(INTRO!$E$49=\"\",\"\",ROUND($D41*INTRO!$E$49,0))","v":46156},{"$f":"IF(INTRO!$E$50=\"\",\"\",ROUND($D41*INTRO!$E$50,0))","v":122644},0,1,null,2,{"$f":"IF(INTRO!$E$37=\"Endemic\",IF($H41>0,IF($H41=4,\"Unknown\",IF($H41=99,\"Stopped\",$D41)),0),\"Not required\")","v":0},66503,{"$f":"IF(INTRO!$E$41=\"Endemic\", IF($J41>1, IF($J41=4, \"Unknown\", IF($J41=99, \"Surveillance\", E41)), 0),\"Not required\")","v":"Not required"},{"$f":"IF(INTRO!$E$41=\"Endemic\", IF($J41>1, IF($J41=4, \"Unknown\", IF($J41=99, \"Surveillance\", F41)), 0),\"Not required\")","v":"Not required"},{"$f":"IF(INTRO!$E$41=\"Endemic\", IF($J41>1, IF($J41=4, \"Unknown\", IF($J41=99, \"Surveillance\", ROUND(D41*INTRO!$E$51,0))), 0),\"Not required\")","v":"Not required"},{"$f":"IF(INTRO!$E$41=\"Endemic\", IF($J41>1, IF($J41=4, \"Unknown\", IF($J41=99, \"Surveillance\", SUM($N41:$P41))), 0),\"Not required\")","v":"Not required"},{"$f":"IF(INTRO!$E$43=\"Endemic\", IF($K41>1, IF($K41=4, \"Unknown\", IF($K41=99, \"Surveillance\", ROUND(E41*0.75,0))), 0),\"Not required\")","v":14695},{"$f":"IF(INTRO!$E$43=\"Endemic\", IF($K41>1, IF($K41=4, \"Unknown\", IF($K41=99, \"Surveillance\", F41)), 0),\"Not required\")","v":46156},0,{"$f":"IF(INTRO!$E$43=\"Endemic\", IF($K41>1, IF($K41=4, \"Unknown\", IF($K41=99, \"Surveillance\", SUM($R41:$T41))), 0),\"Not required\")","v":60851},0,2,null,1,null,null,null,null,null,null,null,null,21614,"Ejisu"]
[{"$f":"IF(INTRO!$E$33<>0,INTRO!$E$33, \" \")","v":"Ghana"},"Ashanti","Ejura-Sekyedumase",143514.9,{"$f":"IF(INTRO!$E$48=\"\",\"\",ROUND($D42*INTRO!$E$48,0))","v":14926},{"$f":"IF(INTRO!$E$49=\"\",\"\",ROUND($D42*INTRO!$E$49,0))","v":35161},{"$f":"IF(INTRO!$E$50=\"\",\"\",ROUND($D42*INTRO!$E$50,0))","v":93428},0,1,null,3,{"$f":"IF(INTRO!$E$37=\"Endemic\",IF($H42>0,IF($H42=4,\"Unknown\",IF($H42=99,\"Stopped\",$D42)),0),\"Not required\")","v":0},32058,{"$f":"IF(INTRO!$E$41=\"Endemic\", IF($J42>1, IF($J42=4, \"Unknown\", IF($J42=99, \"Surveillance\", E42)), 0),\"Not required\")","v":"Not required"},{"$f":"IF(INTRO!$E$41=\"Endemic\", IF($J42>1, IF($J42=4, \"Unknown\", IF($J42=99, \"Surveillance\", F42)), 0),\"Not required\")","v":"Not required"},{"$f":"IF(INTRO!$E$41=\"Endemic\", IF($J42>1, IF($J42=4, \"Unknown\", IF($J42=99, \"Surveillance\", ROUND(D42*INTRO!$E$51,0))), 0),\"Not required\")","v":"Not required"},{"$f":"IF(INTRO!$E$41=\"Endemic\", IF($J42>1, IF($J42=4, \"Unknown\", IF($J42=99, \"Surveillance\", SUM($N42:$P42))), 0),\"Not required\")","v":"Not required"},{"$f":"IF(INTRO!$E$43=\"Endemic\", IF($K42>1, IF($K42=4, \"Unknown\", IF($K42=99, \"Surveillance\", ROUND(E42*0.75,0))), 0),\"Not required\")","v":11195},{"$f":"IF(INTRO!$E$43=\"Endemic\", IF($K42>1, IF($K42=4, \"Unknown\", IF($K42=99, \"Surveillance\", F42)), 0),\"Not required\")","v":35161},37895,{"$f":"IF(INTRO!$E$43=\"Endemic\", IF($K42>1, IF($K42=4, \"Unknown\", IF($K42=99, \"Surveillance\", SUM($R42:$T42))), 0),\"Not required\")","v":84251},0,2,null,1,null,null,null,null,null,null,null,null,21397,"Ejura-Sekyedomasi"]
[{"$f":"IF(INTRO!$E$33<>0,INTRO!$E$33, \" \")","v":"Ghana"},"Ashanti","Juaben",66642.3,{"$f":"IF(INTRO!$E$48=\"\",\"\",ROUND($D43*INTRO!$E$48,0))","v":6931},{"$f":"IF(INTRO!$E$49=\"\",\"\",ROUND($D43*INTRO!$E$49,0))","v":16327},{"$f":"IF(INTRO!$E$50=\"\",\"\",ROUND($D43*INTRO!$E$50,0))","v":43384},0,1,null,2,{"$f":"IF(INTRO!$E$37=\"Endemic\",IF($H43>0,IF($H43=4,\"Unknown\",IF($H43=99,\"Stopped\",$D43)),0),\"Not required\")","v":0},42697,{"$f":"IF(INTRO!$E$41=\"Endemic\", IF($J43>1, IF($J43=4, \"Unknown\", IF($J43=99, \"Surveillance\", E43)), 0),\"Not required\")","v":"Not required"},{"$f":"IF(INTRO!$E$41=\"Endemic\", IF($J43>1, IF($J43=4, \"Unknown\", IF($J43=99, \"Surveillance\", F43)), 0),\"Not required\")","v":"Not required"},{"$f":"IF(INTRO!$E$41=\"Endemic\", IF($J43>1, IF($J43=4, \"Unknown\", IF($J43=99, \"Surveillance\", ROUND(D43*INTRO!$E$51,0))), 0),\"Not required\")","v":"Not required"},{"$f":"IF(INTRO!$E$41=\"Endemic\", IF($J43>1, IF($J43=4, \"Unknown\", IF($J43=99, \"Surveillance\", SUM($N43:$P43))), 0),\"Not required\")","v":"Not required"},{"$f":"IF(INTRO!$E$43=\"Endemic\", IF($K43>1, IF($K43=4, \"Unknown\", IF($K43=99, \"Surveillance\", ROUND(E43*0.75,0))), 0),\"Not required\")","v":5198},{"$f":"IF(INTRO!$E$43=\"Endemic\", IF($K43>1, IF($K43=4, \"Unknown\", IF($K43=99, \"Surveillance\", F43)), 0),\"Not required\")","v":16327},0,{"$f":"IF(INTRO!$E$43=\"Endemic\", IF($K43>1, IF($K43=4, \"Unknown\", IF($K43=99, \"Surveillance\", SUM($R43:$T43))), 0),\"Not required\")","v":21525},0,2,null,1,null,null,null,null,null,null,null,null,21615,"Juaben"]
[{"$f":"IF(INTRO!$E$33<>0,INTRO!$E$33, \" \")","v":"Ghana"},"Ashanti","Kumasi",462824.1,{"$f":"IF(INTRO!$E$48=\"\",\"\",ROUND($D44*INTRO!$E$48,0))","v":48134},{"$f":"IF(INTRO!$E$49=\"\",\"\",ROUND($D44*INTRO!$E$49,0))","v":113392},{"$f":"IF(INTRO!$E$50=\"\",\"\",ROUND($D44*INTRO!$E$50,0))","v":301298},0,0,null,2,{"$f":"IF(INTRO!$E$37=\"Endemic\",IF($H44>0,IF($H44=4,\"Unknown\",IF($H44=99,\"Stopped\",$D44)),0),\"Not required\")","v":0},0,{"$f":"IF(INTRO!$E$41=\"Endemic\", IF($J44>1, IF($J44=4, \"Unknown\", IF($J44=99, \"Surveillance\", E44)), 0),\"Not required\")","v":"Not required"},{"$f":"IF(INTRO!$E$41=\"Endemic\", IF($J44>1, IF($J44=4, \"Unknown\", IF($J44=99, \"Surveillance\", F44)), 0),\"Not required\")","v":"Not required"},{"$f":"IF(INTRO!$E$41=\"Endemic\", IF($J44>1, IF($J44=4, \"Unknown\", IF($J44=99, \"Surveillance\", ROUND(D44*INTRO!$E$51,0))), 0),\"Not required\")","v":"Not required"},{"$f":"IF(INTRO!$E$41=\"Endemic\", IF($J44>1, IF($J44=4, \"Unknown\", IF($J44=99, \"Surveillance\", SUM($N44:$P44))), 0),\"Not required\")","v":"Not required"},{"$f":"IF(INTRO!$E$43=\"Endemic\", IF($K44>1, IF($K44=4, \"Unknown\", IF($K44=99, \"Surveillance\", ROUND(E44*0.75,0))), 0),\"Not required\")","v":36101},{"$f":"IF(INTRO!$E$43=\"Endemic\", IF($K44>1, IF($K44=4, \"Unknown\", IF($K44=99, \"Surveillance\", F44)), 0),\"Not required\")","v":113392},0,{"$f":"IF(INTRO!$E$43=\"Endemic\", IF($K44>1, IF($K44=4, \"Unknown\", IF($K44=99, \"Surveillance\", SUM($R44:$T44))), 0),\"Not required\")","v":149493},0,0,null,0,null,null,null,null,null,null,null,null,21621,"Kumasi Metropolis"]
[{"$f":"IF(INTRO!$E$33<>0,INTRO!$E$33, \" \")","v":"Ghana"},"Ashanti","Kwabre East",309411.20000000001,{"$f":"IF(INTRO!$E$48=\"\",\"\",ROUND($D45*INTRO!$E$48,0))","v":32179},{"$f":"IF(INTRO!$E$49=\"\",\"\",ROUND($D45*INTRO!$E$49,0))","v":75806},{"$f":"IF(INTRO!$E$50=\"\",\"\",ROUND($D45*INTRO!$E$50,0))","v":201427},0,0,null,2,{"$f":"IF(INTRO!$E$37=\"Endemic\",IF($H45>0,IF($H45=4,\"Unknown\",IF($H45=99,\"Stopped\",$D45)),0),\"Not required\")","v":0},0,{"$f":"IF(INTRO!$E$41=\"Endemic\", IF($J45>1, IF($J45=4, \"Unknown\", IF($J45=99, \"Surveillance\", E45)), 0),\"Not required\")","v":"Not required"},{"$f":"IF(INTRO!$E$41=\"Endemic\", IF($J45>1, IF($J45=4, \"Unknown\", IF($J45=99, \"Surveillance\", F45)), 0),\"Not required\")","v":"Not required"},{"$f":"IF(INTRO!$E$41=\"Endemic\", IF($J45>1, IF($J45=4, \"Unknown\", IF($J45=99, \"Surveillance\", ROUND(D45*INTRO!$E$51,0))), 0),\"Not required\")","v":"Not required"},{"$f":"IF(INTRO!$E$41=\"Endemic\", IF($J45>1, IF($J45=4, \"Unknown\", IF($J45=99, \"Surveillance\", SUM($N45:$P45))), 0),\"Not required\")","v":"Not required"},{"$f":"IF(INTRO!$E$43=\"Endemic\", IF($K45>1, IF($K45=4, \"Unknown\", IF($K45=99, \"Surveillance\", ROUND(E45*0.75,0))), 0),\"Not required\")","v":24134},{"$f":"IF(INTRO!$E$43=\"Endemic\", IF($K45>1, IF($K45=4, \"Unknown\", IF($K45=99, \"Surveillance\", F45)), 0),\"Not required\")","v":75806},0,{"$f":"IF(INTRO!$E$43=\"Endemic\", IF($K45>1, IF($K45=4, \"Unknown\", IF($K45=99, \"Surveillance\", SUM($R45:$T45))), 0),\"Not required\")","v":99940},0,0,null,0,null,null,null,null,null,null,null,null,21400,"Kwabre"]
[{"$f":"IF(INTRO!$E$33<>0,INTRO!$E$33, \" \")","v":"Ghana"},"Ashanti","Kwadaso",161084.29999999999,{"$f":"IF(INTRO!$E$48=\"\",\"\",ROUND($D46*INTRO!$E$48,0))","v":16753},{"$f":"IF(INTRO!$E$49=\"\",\"\",ROUND($D46*INTRO!$E$49,0))","v":39466},{"$f":"IF(INTRO!$E$50=\"\",\"\",ROUND($D46*INTRO!$E$50,0))","v":104866},0,0,null,2,{"$f":"IF(INTRO!$E$37=\"Endemic\",IF($H46>0,IF($H46=4,\"Unknown\",IF($H46=99,\"Stopped\",$D46)),0),\"Not required\")","v":0},0,{"$f":"IF(INTRO!$E$41=\"Endemic\", IF($J46>1, IF($J46=4, \"Unknown\", IF($J46=99, \"Surveillance\", E46)), 0),\"Not required\")","v":"Not required"},{"$f":"IF(INTRO!$E$41=\"Endemic\", IF($J46>1, IF($J46=4, \"Unknown\", IF($J46=99, \"Surveillance\", F46)), 0),\"Not required\")","v":"Not required"},{"$f":"IF(INTRO!$E$41=\"Endemic\", IF($J46>1, IF($J46=4, \"Unknown\", IF($J46=99, \"Surveillance\", ROUND(D46*INTRO!$E$51,0))), 0),\"Not required\")","v":"Not required"},{"$f":"IF(INTRO!$E$41=\"Endemic\", IF($J46>1, IF($J46=4, \"Unknown\", IF($J46=99, \"Surveillance\", SUM($N46:$P46))), 0),\"Not required\")","v":"Not required"},{"$f":"IF(INTRO!$E$43=\"Endemic\", IF($K46>1, IF($K46=4, \"Unknown\", IF($K46=99, \"Surveillance\", ROUND(E46*0.75,0))), 0),\"Not required\")","v":12565},{"$f":"IF(INTRO!$E$43=\"Endemic\", IF($K46>1, IF($K46=4, \"Unknown\", IF($K46=99, \"Surveillance\", F46)), 0),\"Not required\")","v":39466},0,{"$f":"IF(INTRO!$E$43=\"Endemic\", IF($K46>1, IF($K46=4, \"Unknown\", IF($K46=99, \"Surveillance\", SUM($R46:$T46))), 0),\"Not required\")","v":52031},0,0,null,0,null,null,null,null,null,null,null,null,21617,"Kwadaso"]
[{"$f":"IF(INTRO!$E$33<>0,INTRO!$E$33, \" \")","v":"Ghana"},"Ashanti","Obuasi",108723.4,{"$f":"IF(INTRO!$E$48=\"\",\"\",ROUND($D47*INTRO!$E$48,0))","v":11307},{"$f":"IF(INTRO!$E$49=\"\",\"\",ROUND($D47*INTRO!$E$49,0))","v":26637},{"$f":"IF(INTRO!$E$50=\"\",\"\",ROUND($D47*INTRO!$E$50,0))","v":70779},0,1,null,2,{"$f":"IF(INTRO!$E$37=\"Endemic\",IF($H47>0,IF($H47=4,\"Unknown\",IF($H47=99,\"Stopped\",$D47)),0),\"Not required\")","v":0},40977,{"$f":"IF(INTRO!$E$41=\"Endemic\", IF($J47>1, IF($J47=4, \"Unknown\", IF($J47=99, \"Surveillance\", E47)), 0),\"Not required\")","v":"Not required"},{"$f":"IF(INTRO!$E$41=\"Endemic\", IF($J47>1, IF($J47=4, \"Unknown\", IF($J47=99, \"Surveillance\", F47)), 0),\"Not required\")","v":"Not required"},{"$f":"IF(INTRO!$E$41=\"Endemic\", IF($J47>1, IF($J47=4, \"Unknown\", IF($J47=99, \"Surveillance\", ROUND(D47*INTRO!$E$51,0))), 0),\"Not required\")","v":"Not required"},{"$f":"IF(INTRO!$E$41=\"Endemic\", IF($J47>1, IF($J47=4, \"Unknown\", IF($J47=99, \"Surveillance\", SUM($N47:$P47))), 0),\"Not required\")","v":"Not required"},{"$f":"IF(INTRO!$E$43=\"Endemic\", IF($K47>1, IF($K47=4, \"Unknown\", IF($K47=99, \"Surveillance\", ROUND(E47*0.75,0))), 0),\"Not required\")","v":8480},{"$f":"IF(INTRO!$E$43=\"Endemic\", IF($K47>1, IF($K47=4, \"Unknown\", IF($K47=99, \"Surveillance\", F47)), 0),\"Not required\")","v":26637},0,{"$f":"IF(INTRO!$E$43=\"Endemic\", IF($K47>1, IF($K47=4, \"Unknown\", IF($K47=99, \"Surveillance\", SUM($R47:$T47))), 0),\"Not required\")","v":35117},0,2,null,1,null,null,null,null,null,null,null,null,21624,"Obuasi Municipal"]
[{"$f":"IF(INTRO!$E$33<>0,INTRO!$E$33, \" \")","v":"Ghana"},"Ashanti","Obuasi East",96322.6,{"$f":"IF(INTRO!$E$48=\"\",\"\",ROUND($D48*INTRO!$E$48,0))","v":10018},{"$f":"IF(INTRO!$E$49=\"\",\"\",ROUND($D48*INTRO!$E$49,0))","v":23599},{"$f":"IF(INTRO!$E$50=\"\",\"\",ROUND($D48*INTRO!$E$50,0))","v":62706},0,1,null,2,{"$f":"IF(INTRO!$E$37=\"Endemic\",IF($H48>0,IF($H48=4,\"Unknown\",IF($H48=99,\"Stopped\",$D48)),0),\"Not required\")","v":0},37127,{"$f":"IF(INTRO!$E$41=\"Endemic\", IF($J48>1, IF($J48=4, \"Unknown\", IF($J48=99, \"Surveillance\", E48)), 0),\"Not required\")","v":"Not required"},{"$f":"IF(INTRO!$E$41=\"Endemic\", IF($J48>1, IF($J48=4, \"Unknown\", IF($J48=99, \"Surveillance\", F48)), 0),\"Not required\")","v":"Not required"},{"$f":"IF(INTRO!$E$41=\"Endemic\", IF($J48>1, IF($J48=4, \"Unknown\", IF($J48=99, \"Surveillance\", ROUND(D48*INTRO!$E$51,0))), 0),\"Not required\")","v":"Not required"},{"$f":"IF(INTRO!$E$41=\"Endemic\", IF($J48>1, IF($J48=4, \"Unknown\", IF($J48=99, \"Surveillance\", SUM($N48:$P48))), 0),\"Not required\")","v":"Not required"},{"$f":"IF(INTRO!$E$43=\"Endemic\", IF($K48>1, IF($K48=4, \"Unknown\", IF($K48=99, \"Surveillance\", ROUND(E48*0.75,0))), 0),\"Not required\")","v":7514},{"$f":"IF(INTRO!$E$43=\"Endemic\", IF($K48>1, IF($K48=4, \"Unknown\", IF($K48=99, \"Surveillance\", F48)), 0),\"Not required\")","v":23599},0,{"$f":"IF(INTRO!$E$43=\"Endemic\", IF($K48>1, IF($K48=4, \"Unknown\", IF($K48=99, \"Surveillance\", SUM($R48:$T48))), 0),\"Not required\")","v":31113},0,2,null,1,null,null,null,null,null,null,null,null,21623,"Obuasi East"]
[{"$f":"IF(INTRO!$E$33<>0,INTRO!$E$33, \" \")","v":"Ghana"},"Ashanti","Offinso",143097.9,{"$f":"IF(INTRO!$E$48=\"\",\"\",ROUND($D49*INTRO!$E$48,0))","v":14882},{"$f":"IF(INTRO!$E$49=\"\",\"\",ROUND($D49*INTRO!$E$49,0))","v":35059},{"$f":"IF(INTRO!$E$50=\"\",\"\",ROUND($D49*INTRO!$E$50,0))","v":93157},0,1,null,2,{"$f":"IF(INTRO!$E$37=\"Endemic\",IF($H49>0,IF($H49=4,\"Unknown\",IF($H49=99,\"Stopped\",$D49)),0),\"Not required\")","v":0},79336,{"$f":"IF(INTRO!$E$41=\"Endemic\", IF($J49>1, IF($J49=4, \"Unknown\", IF($J49=99, \"Surveillance\", E49)), 0),\"Not required\")","v":"Not required"},{"$f":"IF(INTRO!$E$41=\"Endemic\", IF($J49>1, IF($J49=4, \"Unknown\", IF($J49=99, \"Surveillance\", F49)), 0),\"Not required\")","v":"Not required"},{"$f":"IF(INTRO!$E$41=\"Endemic\", IF($J49>1, IF($J49=4, \"Unknown\", IF($J49=99, \"Surveillance\", ROUND(D49*INTRO!$E$51,0))), 0),\"Not required\")","v":"Not required"},{"$f":"IF(INTRO!$E$41=\"Endemic\", IF($J49>1, IF($J49=4, \"Unknown\", IF($J49=99, \"Surveillance\", SUM($N49:$P49))), 0),\"Not required\")","v":"Not required"},{"$f":"IF(INTRO!$E$43=\"Endemic\", IF($K49>1, IF($K49=4, \"Unknown\", IF($K49=99, \"Surveillance\", ROUND(E49*0.75,0))), 0),\"Not required\")","v":11162},{"$f":"IF(INTRO!$E$43=\"Endemic\", IF($K49>1, IF($K49=4, \"Unknown\", IF($K49=99, \"Surveillance\", F49)), 0),\"Not required\")","v":35059},0,{"$f":"IF(INTRO!$E$43=\"Endemic\", IF($K49>1, IF($K49=4, \"Unknown\", IF($K49=99, \"Surveillance\", SUM($R49:$T49))), 0),\"Not required\")","v":46221},0,2,null,1,null,null,null,null,null,null,null,null,21402,"Offiinso Municipal"]
[{"$f":"IF(INTRO!$E$33<>0,INTRO!$E$33, \" \")","v":"Ghana"},"Ashanti","Offinso North",86981.3,{"$f":"IF(INTRO!$E$48=\"\",\"\",ROUND($D50*INTRO!$E$48,0))","v":9046},{"$f":"IF(INTRO!$E$49=\"\",\"\",ROUND($D50*INTRO!$E$49,0))","v":21310},{"$f":"IF(INTRO!$E$50=\"\",\"\",ROUND($D50*INTRO!$E$50,0))","v":56625},0,1,null,2,{"$f":"IF(INTRO!$E$37=\"Endemic\",IF($H50>0,IF($H50=4,\"Unknown\",IF($H50=99,\"Stopped\",$D50)),0),\"Not required\")","v":0},62993,{"$f":"IF(INTRO!$E$41=\"Endemic\", IF($J50>1, IF($J50=4, \"Unknown\", IF($J50=99, \"Surveillance\", E50)), 0),\"Not required\")","v":"Not required"},{"$f":"IF(INTRO!$E$41=\"Endemic\", IF($J50>1, IF($J50=4, \"Unknown\", IF($J50=99, \"Surveillance\", F50)), 0),\"Not required\")","v":"Not required"},{"$f":"IF(INTRO!$E$41=\"Endemic\", IF($J50>1, IF($J50=4, \"Unknown\", IF($J50=99, \"Surveillance\", ROUND(D50*INTRO!$E$51,0))), 0),\"Not required\")","v":"Not required"},{"$f":"IF(INTRO!$E$41=\"Endemic\", IF($J50>1, IF($J50=4, \"Unknown\", IF($J50=99, \"Surveillance\", SUM($N50:$P50))), 0),\"Not required\")","v":"Not required"},{"$f":"IF(INTRO!$E$43=\"Endemic\", IF($K50>1, IF($K50=4, \"Unknown\", IF($K50=99, \"Surveillance\", ROUND(E50*0.75,0))), 0),\"Not required\")","v":6785},{"$f":"IF(INTRO!$E$43=\"Endemic\", IF($K50>1, IF($K50=4, \"Unknown\", IF($K50=99, \"Surveillance\", F50)), 0),\"Not required\")","v":21310},0,{"$f":"IF(INTRO!$E$43=\"Endemic\", IF($K50>1, IF($K50=4, \"Unknown\", IF($K50=99, \"Surveillance\", SUM($R50:$T50))), 0),\"Not required\")","v":28095},0,2,null,1,null,null,null,null,null,null,null,null,21403,"Offinso North"]
[{"$f":"IF(INTRO!$E$33<>0,INTRO!$E$33, \" \")","v":"Ghana"},"Ashanti","Oforikrom",222171.1,{"$f":"IF(INTRO!$E$48=\"\",\"\",ROUND($D51*INTRO!$E$48,0))","v":23106},{"$f":"IF(INTRO!$E$49=\"\",\"\",ROUND($D51*INTRO!$E$49,0))","v":54432},{"$f":"IF(INTRO!$E$50=\"\",\"\",ROUND($D51*INTRO!$E$50,0))","v":144633},0,0,null,2,{"$f":"IF(INTRO!$E$37=\"Endemic\",IF($H51>0,IF($H51=4,\"Unknown\",IF($H51=99,\"Stopped\",$D51)),0),\"Not required\")","v":0},0,{"$f":"IF(INTRO!$E$41=\"Endemic\", IF($J51>1, IF($J51=4, \"Unknown\", IF($J51=99, \"Surveillance\", E51)), 0),\"Not required\")","v":"Not required"},{"$f":"IF(INTRO!$E$41=\"Endemic\", IF($J51>1, IF($J51=4, \"Unknown\", IF($J51=99, \"Surveillance\", F51)), 0),\"Not required\")","v":"Not required"},{"$f":"IF(INTRO!$E$41=\"Endemic\", IF($J51>1, IF($J51=4, \"Unknown\", IF($J51=99, \"Surveillance\", ROUND(D51*INTRO!$E$51,0))), 0),\"Not required\")","v":"Not required"},{"$f":"IF(INTRO!$E$41=\"Endemic\", IF($J51>1, IF($J51=4, \"Unknown\", IF($J51=99, \"Surveillance\", SUM($N51:$P51))), 0),\"Not required\")","v":"Not required"},{"$f":"IF(INTRO!$E$43=\"Endemic\", IF($K51>1, IF($K51=4, \"Unknown\", IF($K51=99, \"Surveillance\", ROUND(E51*0.75,0))), 0),\"Not required\")","v":17330},{"$f":"IF(INTRO!$E$43=\"Endemic\", IF($K51>1, IF($K51=4, \"Unknown\", IF($K51=99, \"Surveillance\", F51)), 0),\"Not required\")","v":54432},0,{"$f":"IF(INTRO!$E$43=\"Endemic\", IF($K51>1, IF($K51=4, \"Unknown\", IF($K51=99, \"Surveillance\", SUM($R51:$T51))), 0),\"Not required\")","v":71762},0,0,null,0,null,null,null,null,null,null,null,null,21618,"Oforikrom"]
[{"$f":"IF(INTRO!$E$33<>0,INTRO!$E$33, \" \")","v":"Ghana"},"Ashanti","Old Tafo",119222,{"$f":"IF(INTRO!$E$48=\"\",\"\",ROUND($D52*INTRO!$E$48,0))","v":12399},{"$f":"IF(INTRO!$E$49=\"\",\"\",ROUND($D52*INTRO!$E$49,0))","v":29209},{"$f":"IF(INTRO!$E$50=\"\",\"\",ROUND($D52*INTRO!$E$50,0))","v":77614},0,0,null,2,{"$f":"IF(INTRO!$E$37=\"Endemic\",IF($H52>0,IF($H52=4,\"Unknown\",IF($H52=99,\"Stopped\",$D52)),0),\"Not required\")","v":0},0,{"$f":"IF(INTRO!$E$41=\"Endemic\", IF($J52>1, IF($J52=4, \"Unknown\", IF($J52=99, \"Surveillance\", E52)), 0),\"Not required\")","v":"Not required"},{"$f":"IF(INTRO!$E$41=\"Endemic\", IF($J52>1, IF($J52=4, \"Unknown\", IF($J52=99, \"Surveillance\", F52)), 0),\"Not required\")","v":"Not required"},{"$f":"IF(INTRO!$E$41=\"Endemic\", IF($J52>1, IF($J52=4, \"Unknown\", IF($J52=99, \"Surveillance\", ROUND(D52*INTRO!$E$51,0))), 0),\"Not required\")","v":"Not required"},{"$f":"IF(INTRO!$E$41=\"Endemic\", IF($J52>1, IF($J52=4, \"Unknown\", IF($J52=99, \"Surveillance\", SUM($N52:$P52))), 0),\"Not required\")","v":"Not required"},{"$f":"IF(INTRO!$E$43=\"Endemic\", IF($K52>1, IF($K52=4, \"Unknown\", IF($K52=99, \"Surveillance\", ROUND(E52*0.75,0))), 0),\"Not required\")","v":9299},{"$f":"IF(INTRO!$E$43=\"Endemic\", IF($K52>1, IF($K52=4, \"Unknown\", IF($K52=99, \"Surveillance\", F52)), 0),\"Not required\")","v":29209},0,{"$f":"IF(INTRO!$E$43=\"Endemic\", IF($K52>1, IF($K52=4, \"Unknown\", IF($K52=99, \"Surveillance\", SUM($R52:$T52))), 0),\"Not required\")","v":38508},0,0,null,0,null,null,null,null,null,null,null,null,21619,"Old Tafo"]
[{"$f":"IF(INTRO!$E$33<>0,INTRO!$E$33, \" \")","v":"Ghana"},"Ashanti","Sekyere Afram Plains",34025.300000000003,{"$f":"IF(INTRO!$E$48=\"\",\"\",ROUND($D53*INTRO!$E$48,0))","v":3539},{"$f":"IF(INTRO!$E$49=\"\",\"\",ROUND($D53*INTRO!$E$49,0))","v":8336},{"$f":"IF(INTRO!$E$50=\"\",\"\",ROUND($D53*INTRO!$E$50,0))","v":22150},0,1,null,3,{"$f":"IF(INTRO!$E$37=\"Endemic\",IF($H53>0,IF($H53=4,\"Unknown\",IF($H53=99,\"Stopped\",$D53)),0),\"Not required\")","v":0},34249,{"$f":"IF(INTRO!$E$41=\"Endemic\", IF($J53>1, IF($J53=4, \"Unknown\", IF($J53=99, \"Surveillance\", E53)), 0),\"Not required\")","v":"Not required"},{"$f":"IF(INTRO!$E$41=\"Endemic\", IF($J53>1, IF($J53=4, \"Unknown\", IF($J53=99, \"Surveillance\", F53)), 0),\"Not required\")","v":"Not required"},{"$f":"IF(INTRO!$E$41=\"Endemic\", IF($J53>1, IF($J53=4, \"Unknown\", IF($J53=99, \"Surveillance\", ROUND(D53*INTRO!$E$51,0))), 0),\"Not required\")","v":"Not required"},{"$f":"IF(INTRO!$E$41=\"Endemic\", IF($J53>1, IF($J53=4, \"Unknown\", IF($J53=99, \"Surveillance\", SUM($N53:$P53))), 0),\"Not required\")","v":"Not required"},{"$f":"IF(INTRO!$E$43=\"Endemic\", IF($K53>1, IF($K53=4, \"Unknown\", IF($K53=99, \"Surveillance\", ROUND(E53*0.75,0))), 0),\"Not required\")","v":2654},{"$f":"IF(INTRO!$E$43=\"Endemic\", IF($K53>1, IF($K53=4, \"Unknown\", IF($K53=99, \"Surveillance\", F53)), 0),\"Not required\")","v":8336},{"$f":"IF(INTRO!$E$43=\"Endemic\", IF($K53>1, IF($K53=4, \"Unknown\", IF($K53=99, \"Surveillance\", G53)), 0),\"Not required\")","v":22150},{"$f":"IF(INTRO!$E$43=\"Endemic\", IF($K53>1, IF($K53=4, \"Unknown\", IF($K53=99, \"Surveillance\", SUM($R53:$T53))), 0),\"Not required\")","v":33140},0,2,null,1,null,null,null,null,null,null,null,null,21407,"Sekyere-Afram Plains"]
[{"$f":"IF(INTRO!$E$33<>0,INTRO!$E$33, \" \")","v":"Ghana"},"Ashanti","Sekyere Central",76335.8,{"$f":"IF(INTRO!$E$48=\"\",\"\",ROUND($D54*INTRO!$E$48,0))","v":7939},{"$f":"IF(INTRO!$E$49=\"\",\"\",ROUND($D54*INTRO!$E$49,0))","v":18702},{"$f":"IF(INTRO!$E$50=\"\",\"\",ROUND($D54*INTRO!$E$50,0))","v":49695},0,1,null,2,{"$f":"IF(INTRO!$E$37=\"Endemic\",IF($H54>0,IF($H54=4,\"Unknown\",IF($H54=99,\"Stopped\",$D54)),0),\"Not required\")","v":0},46202,{"$f":"IF(INTRO!$E$41=\"Endemic\", IF($J54>1, IF($J54=4, \"Unknown\", IF($J54=99, \"Surveillance\", E54)), 0),\"Not required\")","v":"Not required"},{"$f":"IF(INTRO!$E$41=\"Endemic\", IF($J54>1, IF($J54=4, \"Unknown\", IF($J54=99, \"Surveillance\", F54)), 0),\"Not required\")","v":"Not required"},{"$f":"IF(INTRO!$E$41=\"Endemic\", IF($J54>1, IF($J54=4, \"Unknown\", IF($J54=99, \"Surveillance\", ROUND(D54*INTRO!$E$51,0))), 0),\"Not required\")","v":"Not required"},{"$f":"IF(INTRO!$E$41=\"Endemic\", IF($J54>1, IF($J54=4, \"Unknown\", IF($J54=99, \"Surveillance\", SUM($N54:$P54))), 0),\"Not required\")","v":"Not required"},{"$f":"IF(INTRO!$E$43=\"Endemic\", IF($K54>1, IF($K54=4, \"Unknown\", IF($K54=99, \"Surveillance\", ROUND(E54*0.75,0))), 0),\"Not required\")","v":5954},{"$f":"IF(INTRO!$E$43=\"Endemic\", IF($K54>1, IF($K54=4, \"Unknown\", IF($K54=99, \"Surveillance\", F54)), 0),\"Not required\")","v":18702},0,{"$f":"IF(INTRO!$E$43=\"Endemic\", IF($K54>1, IF($K54=4, \"Unknown\", IF($K54=99, \"Surveillance\", SUM($R54:$T54))), 0),\"Not required\")","v":24656},0,2,null,1,null,null,null,null,null,null,null,null,21404,"Sekyere Central"]
[{"$f":"IF(INTRO!$E$33<>0,INTRO!$E$33, \" \")","v":"Ghana"},"Ashanti","Sekyere East",77963.199999999997,{"$f":"IF(INTRO!$E$48=\"\",\"\",ROUND($D55*INTRO!$E$48,0))","v":8108},{"$f":"IF(INTRO!$E$49=\"\",\"\",ROUND($D55*INTRO!$E$49,0))","v":19101},{"$f":"IF(INTRO!$E$50=\"\",\"\",ROUND($D55*INTRO!$E$50,0))","v":50754},0,1,null,2,{"$f":"IF(INTRO!$E$37=\"Endemic\",IF($H55>0,IF($H55=4,\"Unknown\",IF($H55=99,\"Stopped\",$D55)),0),\"Not required\")","v":0},39889.64,{"$f":"IF(INTRO!$E$41=\"Endemic\", IF($J55>1, IF($J55=4, \"Unknown\", IF($J55=99, \"Surveillance\", E55)), 0),\"Not required\")","v":"Not required"},{"$f":"IF(INTRO!$E$41=\"Endemic\", IF($J55>1, IF($J55=4, \"Unknown\", IF($J55=99, \"Surveillance\", F55)), 0),\"Not required\")","v":"Not required"},{"$f":"IF(INTRO!$E$41=\"Endemic\", IF($J55>1, IF($J55=4, \"Unknown\", IF($J55=99, \"Surveillance\", ROUND(D55*INTRO!$E$51,0))), 0),\"Not required\")","v":"Not required"},{"$f":"IF(INTRO!$E$41=\"Endemic\", IF($J55>1, IF($J55=4, \"Unknown\", IF($J55=99, \"Surveillance\", SUM($N55:$P55))), 0),\"Not required\")","v":"Not required"},{"$f":"IF(INTRO!$E$43=\"Endemic\", IF($K55>1, IF($K55=4, \"Unknown\", IF($K55=99, \"Surveillance\", ROUND(E55*0.75,0))), 0),\"Not required\")","v":6081},{"$f":"IF(INTRO!$E$43=\"Endemic\", IF($K55>1, IF($K55=4, \"Unknown\", IF($K55=99, \"Surveillance\", F55)), 0),\"Not required\")","v":19101},0,{"$f":"IF(INTRO!$E$43=\"Endemic\", IF($K55>1, IF($K55=4, \"Unknown\", IF($K55=99, \"Surveillance\", SUM($R55:$T55))), 0),\"Not required\")","v":25182},0,2,null,1,null,null,null,null,null,null,null,null,21405,"Sekyere East"]
[{"$f":"IF(INTRO!$E$33<>0,INTRO!$E$33, \" \")","v":"Ghana"},"Ashanti","Sekyere Kumawu",67128.899999999994,{"$f":"IF(INTRO!$E$48=\"\",\"\",ROUND($D56*INTRO!$E$48,0))","v":6981},{"$f":"IF(INTRO!$E$49=\"\",\"\",ROUND($D56*INTRO!$E$49,0))","v":16447},{"$f":"IF(INTRO!$E$50=\"\",\"\",ROUND($D56*INTRO!$E$50,0))","v":43701},0,1,null,3,{"$f":"IF(INTRO!$E$37=\"Endemic\",IF($H56>0,IF($H56=4,\"Unknown\",IF($H56=99,\"Stopped\",$D56)),0),\"Not required\")","v":0},39199,{"$f":"IF(INTRO!$E$41=\"Endemic\", IF($J56>1, IF($J56=4, \"Unknown\", IF($J56=99, \"Surveillance\", E56)), 0),\"Not required\")","v":"Not required"},{"$f":"IF(INTRO!$E$41=\"Endemic\", IF($J56>1, IF($J56=4, \"Unknown\", IF($J56=99, \"Surveillance\", F56)), 0),\"Not required\")","v":"Not required"},{"$f":"IF(INTRO!$E$41=\"Endemic\", IF($J56>1, IF($J56=4, \"Unknown\", IF($J56=99, \"Surveillance\", ROUND(D56*INTRO!$E$51,0))), 0),\"Not required\")","v":"Not required"},{"$f":"IF(INTRO!$E$41=\"Endemic\", IF($J56>1, IF($J56=4, \"Unknown\", IF($J56=99, \"Surveillance\", SUM($N56:$P56))), 0),\"Not required\")","v":"Not required"},{"$f":"IF(INTRO!$E$43=\"Endemic\", IF($K56>1, IF($K56=4, \"Unknown\", IF($K56=99, \"Surveillance\", ROUND(E56*0.75,0))), 0),\"Not required\")","v":5236},{"$f":"IF(INTRO!$E$43=\"Endemic\", IF($K56>1, IF($K56=4, \"Unknown\", IF($K56=99, \"Surveillance\", F56)), 0),\"Not required\")","v":16447},24562,{"$f":"IF(INTRO!$E$43=\"Endemic\", IF($K56>1, IF($K56=4, \"Unknown\", IF($K56=99, \"Surveillance\", SUM($R56:$T56))), 0),\"Not required\")","v":46245},0,2,null,1,null,null,null,null,null,null,null,null,21399,"Kumawu"]
[{"$f":"IF(INTRO!$E$33<>0,INTRO!$E$33, \" \")","v":"Ghana"},"Ashanti","Sekyere South",125172,{"$f":"IF(INTRO!$E$48=\"\",\"\",ROUND($D57*INTRO!$E$48,0))","v":13018},{"$f":"IF(INTRO!$E$49=\"\",\"\",ROUND($D57*INTRO!$E$49,0))","v":30667},{"$f":"IF(INTRO!$E$50=\"\",\"\",ROUND($D57*INTRO!$E$50,0))","v":81487},0,1,null,2,{"$f":"IF(INTRO!$E$37=\"Endemic\",IF($H57>0,IF($H57=4,\"Unknown\",IF($H57=99,\"Stopped\",$D57)),0),\"Not required\")","v":0},0,{"$f":"IF(INTRO!$E$41=\"Endemic\", IF($J57>1, IF($J57=4, \"Unknown\", IF($J57=99, \"Surveillance\", E57)), 0),\"Not required\")","v":"Not required"},{"$f":"IF(INTRO!$E$41=\"Endemic\", IF($J57>1, IF($J57=4, \"Unknown\", IF($J57=99, \"Surveillance\", F57)), 0),\"Not required\")","v":"Not required"},{"$f":"IF(INTRO!$E$41=\"Endemic\", IF($J57>1, IF($J57=4, \"Unknown\", IF($J57=99, \"Surveillance\", ROUND(D57*INTRO!$E$51,0))), 0),\"Not required\")","v":"Not required"},{"$f":"IF(INTRO!$E$41=\"Endemic\", IF($J57>1, IF($J57=4, \"Unknown\", IF($J57=99, \"Surveillance\", SUM($N57:$P57))), 0),\"Not required\")","v":"Not required"},{"$f":"IF(INTRO!$E$43=\"Endemic\", IF($K57>1, IF($K57=4, \"Unknown\", IF($K57=99, \"Surveillance\", ROUND(E57*0.75,0))), 0),\"Not required\")","v":9764},{"$f":"IF(INTRO!$E$43=\"Endemic\", IF($K57>1, IF($K57=4, \"Unknown\", IF($K57=99, \"Surveillance\", F57)), 0),\"Not required\")","v":30667},0,{"$f":"IF(INTRO!$E$43=\"Endemic\", IF($K57>1, IF($K57=4, \"Unknown\", IF($K57=99, \"Surveillance\", SUM($R57:$T57))), 0),\"Not required\")","v":40431},0,2,null,1,null,null,null,null,null,null,null,null,21406,"Sekyere South"]
[{"$f":"IF(INTRO!$E$33<>0,INTRO!$E$33, \" \")","v":"Ghana"},"Ashanti","Suame",142074.29999999999,{"$f":"IF(INTRO!$E$48=\"\",\"\",ROUND($D58*INTRO!$E$48,0))","v":14776},{"$f":"IF(INTRO!$E$49=\"\",\"\",ROUND($D58*INTRO!$E$49,0))","v":34808},{"$f":"IF(INTRO!$E$50=\"\",\"\",ROUND($D58*INTRO!$E$50,0))","v":92490},0,0,null,2,{"$f":"IF(INTRO!$E$37=\"Endemic\",IF($H58>0,IF($H58=4,\"Unknown\",IF($H58=99,\"Stopped\",$D58)),0),\"Not required\")","v":0},0,{"$f":"IF(INTRO!$E$41=\"Endemic\", IF($J58>1, IF($J58=4, \"Unknown\", IF($J58=99, \"Surveillance\", E58)), 0),\"Not required\")","v":"Not required"},{"$f":"IF(INTRO!$E$41=\"Endemic\", IF($J58>1, IF($J58=4, \"Unknown\", IF($J58=99, \"Surveillance\", F58)), 0),\"Not required\")","v":"Not required"},{"$f":"IF(INTRO!$E$41=\"Endemic\", IF($J58>1, IF($J58=4, \"Unknown\", IF($J58=99, \"Surveillance\", ROUND(D58*INTRO!$E$51,0))), 0),\"Not required\")","v":"Not required"},{"$f":"IF(INTRO!$E$41=\"Endemic\", IF($J58>1, IF($J58=4, \"Unknown\", IF($J58=99, \"Surveillance\", SUM($N58:$P58))), 0),\"Not required\")","v":"Not required"},{"$f":"IF(INTRO!$E$43=\"Endemic\", IF($K58>1, IF($K58=4, \"Unknown\", IF($K58=99, \"Surveillance\", ROUND(E58*0.75,0))), 0),\"Not required\")","v":11082},{"$f":"IF(INTRO!$E$43=\"Endemic\", IF($K58>1, IF($K58=4, \"Unknown\", IF($K58=99, \"Surveillance\", F58)), 0),\"Not required\")","v":34808},0,{"$f":"IF(INTRO!$E$43=\"Endemic\", IF($K58>1, IF($K58=4, \"Unknown\", IF($K58=99, \"Surveillance\", SUM($R58:$T58))), 0),\"Not required\")","v":45890},0,0,null,0,null,null,null,null,null,null,null,null,21620,"Suame"]
[{"$f":"IF(INTRO!$E$33<>0,INTRO!$E$33, \" \")","v":"Ghana"},"Bono","Banda",29374.9,{"$f":"IF(INTRO!$E$48=\"\",\"\",ROUND($D59*INTRO!$E$48,0))","v":3055},{"$f":"IF(INTRO!$E$49=\"\",\"\",ROUND($D59*INTRO!$E$49,0))","v":7197},{"$f":"IF(INTRO!$E$50=\"\",\"\",ROUND($D59*INTRO!$E$50,0))","v":19123},0,1,null,3,{"$f":"IF(INTRO!$E$37=\"Endemic\",IF($H59>0,IF($H59=4,\"Unknown\",IF($H59=99,\"Stopped\",$D59)),0),\"Not required\")","v":0},29777,{"$f":"IF(INTRO!$E$41=\"Endemic\", IF($J59>1, IF($J59=4, \"Unknown\", IF($J59=99, \"Surveillance\", E59)), 0),\"Not required\")","v":"Not required"},{"$f":"IF(INTRO!$E$41=\"Endemic\", IF($J59>1, IF($J59=4, \"Unknown\", IF($J59=99, \"Surveillance\", F59)), 0),\"Not required\")","v":"Not required"},{"$f":"IF(INTRO!$E$41=\"Endemic\", IF($J59>1, IF($J59=4, \"Unknown\", IF($J59=99, \"Surveillance\", ROUND(D59*INTRO!$E$51,0))), 0),\"Not required\")","v":"Not required"},{"$f":"IF(INTRO!$E$41=\"Endemic\", IF($J59>1, IF($J59=4, \"Unknown\", IF($J59=99, \"Surveillance\", SUM($N59:$P59))), 0),\"Not required\")","v":"Not required"},{"$f":"IF(INTRO!$E$43=\"Endemic\", IF($K59>1, IF($K59=4, \"Unknown\", IF($K59=99, \"Surveillance\", ROUND(E59*0.75,0))), 0),\"Not required\")","v":2291},{"$f":"IF(INTRO!$E$43=\"Endemic\", IF($K59>1, IF($K59=4, \"Unknown\", IF($K59=99, \"Surveillance\", F59)), 0),\"Not required\")","v":7197},{"$f":"IF(INTRO!$E$43=\"Endemic\", IF($K59>1, IF($K59=4, \"Unknown\", IF($K59=99, \"Surveillance\", G59)), 0),\"Not required\")","v":19123},{"$f":"IF(INTRO!$E$43=\"Endemic\", IF($K59>1, IF($K59=4, \"Unknown\", IF($K59=99, \"Surveillance\", SUM($R59:$T59))), 0),\"Not required\")","v":28611},0,2,null,1,null,null,null,null,null,null,null,null,21414,"Banda"]
[{"$f":"IF(INTRO!$E$33<>0,INTRO!$E$33, \" \")","v":"Ghana"},"Bono","Berekum",110761.4,{"$f":"IF(INTRO!$E$48=\"\",\"\",ROUND($D60*INTRO!$E$48,0))","v":11519},{"$f":"IF(INTRO!$E$49=\"\",\"\",ROUND($D60*INTRO!$E$49,0))","v":27137},{"$f":"IF(INTRO!$E$50=\"\",\"\",ROUND($D60*INTRO!$E$50,0))","v":72106},0,0,null,1,{"$f":"IF(INTRO!$E$37=\"Endemic\",IF($H60>0,IF($H60=4,\"Unknown\",IF($H60=99,\"Stopped\",$D60)),0),\"Not required\")","v":0},0,{"$f":"IF(INTRO!$E$41=\"Endemic\", IF($J60>1, IF($J60=4, \"Unknown\", IF($J60=99, \"Surveillance\", E60)), 0),\"Not required\")","v":"Not required"},{"$f":"IF(INTRO!$E$41=\"Endemic\", IF($J60>1, IF($J60=4, \"Unknown\", IF($J60=99, \"Surveillance\", F60)), 0),\"Not required\")","v":"Not required"},{"$f":"IF(INTRO!$E$41=\"Endemic\", IF($J60>1, IF($J60=4, \"Unknown\", IF($J60=99, \"Surveillance\", ROUND(D60*INTRO!$E$51,0))), 0),\"Not required\")","v":"Not required"},{"$f":"IF(INTRO!$E$41=\"Endemic\", IF($J60>1, IF($J60=4, \"Unknown\", IF($J60=99, \"Surveillance\", SUM($N60:$P60))), 0),\"Not required\")","v":"Not required"},{"$f":"IF(INTRO!$E$43=\"Endemic\", IF($K60>1, IF($K60=4, \"Unknown\", IF($K60=99, \"Surveillance\", ROUND(E60*0.75,0))), 0),\"Not required\")","v":0},{"$f":"IF(INTRO!$E$43=\"Endemic\", IF($K60>1, IF($K60=4, \"Unknown\", IF($K60=99, \"Surveillance\", F60)), 0),\"Not required\")","v":0},{"$f":"IF(INTRO!$E$43=\"Endemic\", IF($K60>1, IF($K60=4, \"Unknown\", IF($K60=99, \"Surveillance\", G60)), 0),\"Not required\")","v":0},{"$f":"IF(INTRO!$E$43=\"Endemic\", IF($K60>1, IF($K60=4, \"Unknown\", IF($K60=99, \"Surveillance\", SUM($R60:$T60))), 0),\"Not required\")","v":0},0,0,null,0,null,null,null,null,null,null,null,null,21626,"Berekum"]
[{"$f":"IF(INTRO!$E$33<>0,INTRO!$E$33, \" \")","v":"Ghana"},"Bono","Berekum West",51563.3,{"$f":"IF(INTRO!$E$48=\"\",\"\",ROUND($D61*INTRO!$E$48,0))","v":5363},{"$f":"IF(INTRO!$E$49=\"\",\"\",ROUND($D61*INTRO!$E$49,0))","v":12633},{"$f":"IF(INTRO!$E$50=\"\",\"\",ROUND($D61*INTRO!$E$50,0))","v":33568},0,0,null,1,{"$f":"IF(INTRO!$E$37=\"Endemic\",IF($H61>0,IF($H61=4,\"Unknown\",IF($H61=99,\"Stopped\",$D61)),0),\"Not required\")","v":0},0,{"$f":"IF(INTRO!$E$41=\"Endemic\", IF($J61>1, IF($J61=4, \"Unknown\", IF($J61=99, \"Surveillance\", E61)), 0),\"Not required\")","v":"Not required"},{"$f":"IF(INTRO!$E$41=\"Endemic\", IF($J61>1, IF($J61=4, \"Unknown\", IF($J61=99, \"Surveillance\", F61)), 0),\"Not required\")","v":"Not required"},{"$f":"IF(INTRO!$E$41=\"Endemic\", IF($J61>1, IF($J61=4, \"Unknown\", IF($J61=99, \"Surveillance\", ROUND(D61*INTRO!$E$51,0))), 0),\"Not required\")","v":"Not required"},{"$f":"IF(INTRO!$E$41=\"Endemic\", IF($J61>1, IF($J61=4, \"Unknown\", IF($J61=99, \"Surveillance\", SUM($N61:$P61))), 0),\"Not required\")","v":"Not required"},{"$f":"IF(INTRO!$E$43=\"Endemic\", IF($K61>1, IF($K61=4, \"Unknown\", IF($K61=99, \"Surveillance\", ROUND(E61*0.75,0))), 0),\"Not required\")","v":0},{"$f":"IF(INTRO!$E$43=\"Endemic\", IF($K61>1, IF($K61=4, \"Unknown\", IF($K61=99, \"Surveillance\", F61)), 0),\"Not required\")","v":0},{"$f":"IF(INTRO!$E$43=\"Endemic\", IF($K61>1, IF($K61=4, \"Unknown\", IF($K61=99, \"Surveillance\", G61)), 0),\"Not required\")","v":0},{"$f":"IF(INTRO!$E$43=\"Endemic\", IF($K61>1, IF($K61=4, \"Unknown\", IF($K61=99, \"Surveillance\", SUM($R61:$T61))), 0),\"Not required\")","v":0},0,0,null,0,null,null,null,null,null,null,null,null,21625,"Berekum West"]
[{"$f":"IF(INTRO!$E$33<>0,INTRO!$E$33, \" \")","v":"Ghana"},"Bono","Dormaa East",70780.7,{"$f":"IF(INTRO!$E$48=\"\",\"\",ROUND($D62*INTRO!$E$48,0))","v":7361},{"$f":"IF(INTRO!$E$49=\"\",\"\",ROUND($D62*INTRO!$E$49,0))","v":17341},{"$f":"IF(INTRO!$E$50=\"\",\"\",ROUND($D62*INTRO!$E$50,0))","v":46078},0,0,null,1,{"$f":"IF(INTRO!$E$37=\"Endemic\",IF($H62>0,IF($H62=4,\"Unknown\",IF($H62=99,\"Stopped\",$D62)),0),\"Not required\")","v":0},0,{"$f":"IF(INTRO!$E$41=\"Endemic\", IF($J62>1, IF($J62=4, \"Unknown\", IF($J62=99, \"Surveillance\", E62)), 0),\"Not required\")","v":"Not required"},{"$f":"IF(INTRO!$E$41=\"Endemic\", IF($J62>1, IF($J62=4, \"Unknown\", IF($J62=99, \"Surveillance\", F62)), 0),\"Not required\")","v":"Not required"},{"$f":"IF(INTRO!$E$41=\"Endemic\", IF($J62>1, IF($J62=4, \"Unknown\", IF($J62=99, \"Surveillance\", ROUND(D62*INTRO!$E$51,0))), 0),\"Not required\")","v":"Not required"},{"$f":"IF(INTRO!$E$41=\"Endemic\", IF($J62>1, IF($J62=4, \"Unknown\", IF($J62=99, \"Surveillance\", SUM($N62:$P62))), 0),\"Not required\")","v":"Not required"},{"$f":"IF(INTRO!$E$43=\"Endemic\", IF($K62>1, IF($K62=4, \"Unknown\", IF($K62=99, \"Surveillance\", ROUND(E62*0.75,0))), 0),\"Not required\")","v":0},{"$f":"IF(INTRO!$E$43=\"Endemic\", IF($K62>1, IF($K62=4, \"Unknown\", IF($K62=99, \"Surveillance\", F62)), 0),\"Not required\")","v":0},{"$f":"IF(INTRO!$E$43=\"Endemic\", IF($K62>1, IF($K62=4, \"Unknown\", IF($K62=99, \"Surveillance\", G62)), 0),\"Not required\")","v":0},{"$f":"IF(INTRO!$E$43=\"Endemic\", IF($K62>1, IF($K62=4, \"Unknown\", IF($K62=99, \"Surveillance\", SUM($R62:$T62))), 0),\"Not required\")","v":0},0,0,null,0,null,null,null,null,null,null,null,null,21416,"Dormaa East"]
[{"$f":"IF(INTRO!$E$33<>0,INTRO!$E$33, \" \")","v":"Ghana"},"Bono","Dormaa Municipal",117485.1,{"$f":"IF(INTRO!$E$48=\"\",\"\",ROUND($D63*INTRO!$E$48,0))","v":12218},{"$f":"IF(INTRO!$E$49=\"\",\"\",ROUND($D63*INTRO!$E$49,0))","v":28784},{"$f":"IF(INTRO!$E$50=\"\",\"\",ROUND($D63*INTRO!$E$50,0))","v":76483},0,0,null,1,{"$f":"IF(INTRO!$E$37=\"Endemic\",IF($H63>0,IF($H63=4,\"Unknown\",IF($H63=99,\"Stopped\",$D63)),0),\"Not required\")","v":0},0,{"$f":"IF(INTRO!$E$41=\"Endemic\", IF($J63>1, IF($J63=4, \"Unknown\", IF($J63=99, \"Surveillance\", E63)), 0),\"Not required\")","v":"Not required"},{"$f":"IF(INTRO!$E$41=\"Endemic\", IF($J63>1, IF($J63=4, \"Unknown\", IF($J63=99, \"Surveillance\", F63)), 0),\"Not required\")","v":"Not required"},{"$f":"IF(INTRO!$E$41=\"Endemic\", IF($J63>1, IF($J63=4, \"Unknown\", IF($J63=99, \"Surveillance\", ROUND(D63*INTRO!$E$51,0))), 0),\"Not required\")","v":"Not required"},{"$f":"IF(INTRO!$E$41=\"Endemic\", IF($J63>1, IF($J63=4, \"Unknown\", IF($J63=99, \"Surveillance\", SUM($N63:$P63))), 0),\"Not required\")","v":"Not required"},{"$f":"IF(INTRO!$E$43=\"Endemic\", IF($K63>1, IF($K63=4, \"Unknown\", IF($K63=99, \"Surveillance\", ROUND(E63*0.75,0))), 0),\"Not required\")","v":0},{"$f":"IF(INTRO!$E$43=\"Endemic\", IF($K63>1, IF($K63=4, \"Unknown\", IF($K63=99, \"Surveillance\", F63)), 0),\"Not required\")","v":0},{"$f":"IF(INTRO!$E$43=\"Endemic\", IF($K63>1, IF($K63=4, \"Unknown\", IF($K63=99, \"Surveillance\", G63)), 0),\"Not required\")","v":0},{"$f":"IF(INTRO!$E$43=\"Endemic\", IF($K63>1, IF($K63=4, \"Unknown\", IF($K63=99, \"Surveillance\", SUM($R63:$T63))), 0),\"Not required\")","v":0},0,0,null,0,null,null,null,null,null,null,null,null,21417,"Dormaa Municipal"]
[{"$f":"IF(INTRO!$E$33<>0,INTRO!$E$33, \" \")","v":"Ghana"},"Bono","Dormaa West",49946.5,{"$f":"IF(INTRO!$E$48=\"\",\"\",ROUND($D64*INTRO!$E$48,0))","v":5194},{"$f":"IF(INTRO!$E$49=\"\",\"\",ROUND($D64*INTRO!$E$49,0))","v":12237},{"$f":"IF(INTRO!$E$50=\"\",\"\",ROUND($D64*INTRO!$E$50,0))","v":32515},0,0,null,1,{"$f":"IF(INTRO!$E$37=\"Endemic\",IF($H64>0,IF($H64=4,\"Unknown\",IF($H64=99,\"Stopped\",$D64)),0),\"Not required\")","v":0},0,{"$f":"IF(INTRO!$E$41=\"Endemic\", IF($J64>1, IF($J64=4, \"Unknown\", IF($J64=99, \"Surveillance\", E64)), 0),\"Not required\")","v":"Not required"},{"$f":"IF(INTRO!$E$41=\"Endemic\", IF($J64>1, IF($J64=4, \"Unknown\", IF($J64=99, \"Surveillance\", F64)), 0),\"Not required\")","v":"Not required"},{"$f":"IF(INTRO!$E$41=\"Endemic\", IF($J64>1, IF($J64=4, \"Unknown\", IF($J64=99, \"Surveillance\", ROUND(D64*INTRO!$E$51,0))), 0),\"Not required\")","v":"Not required"},{"$f":"IF(INTRO!$E$41=\"Endemic\", IF($J64>1, IF($J64=4, \"Unknown\", IF($J64=99, \"Surveillance\", SUM($N64:$P64))), 0),\"Not required\")","v":"Not required"},{"$f":"IF(INTRO!$E$43=\"Endemic\", IF($K64>1, IF($K64=4, \"Unknown\", IF($K64=99, \"Surveillance\", ROUND(E64*0.75,0))), 0),\"Not required\")","v":0},{"$f":"IF(INTRO!$E$43=\"Endemic\", IF($K64>1, IF($K64=4, \"Unknown\", IF($K64=99, \"Surveillance\", F64)), 0),\"Not required\")","v":0},{"$f":"IF(INTRO!$E$43=\"Endemic\", IF($K64>1, IF($K64=4, \"Unknown\", IF($K64=99, \"Surveillance\", G64)), 0),\"Not required\")","v":0},{"$f":"IF(INTRO!$E$43=\"Endemic\", IF($K64>1, IF($K64=4, \"Unknown\", IF($K64=99, \"Surveillance\", SUM($R64:$T64))), 0),\"Not required\")","v":0},0,0,null,0,null,null,null,null,null,null,null,null,21418,"Dormaa West"]
[{"$f":"IF(INTRO!$E$33<>0,INTRO!$E$33, \" \")","v":"Ghana"},"Bono","Jaman North",122913.1,{"$f":"IF(INTRO!$E$48=\"\",\"\",ROUND($D65*INTRO!$E$48,0))","v":12783},{"$f":"IF(INTRO!$E$49=\"\",\"\",ROUND($D65*INTRO!$E$49,0))","v":30114},{"$f":"IF(INTRO!$E$50=\"\",\"\",ROUND($D65*INTRO!$E$50,0))","v":80016},0,0,null,2,{"$f":"IF(INTRO!$E$37=\"Endemic\",IF($H65>0,IF($H65=4,\"Unknown\",IF($H65=99,\"Stopped\",$D65)),0),\"Not required\")","v":0},0,{"$f":"IF(INTRO!$E$41=\"Endemic\", IF($J65>1, IF($J65=4, \"Unknown\", IF($J65=99, \"Surveillance\", E65)), 0),\"Not required\")","v":"Not required"},{"$f":"IF(INTRO!$E$41=\"Endemic\", IF($J65>1, IF($J65=4, \"Unknown\", IF($J65=99, \"Surveillance\", F65)), 0),\"Not required\")","v":"Not required"},{"$f":"IF(INTRO!$E$41=\"Endemic\", IF($J65>1, IF($J65=4, \"Unknown\", IF($J65=99, \"Surveillance\", ROUND(D65*INTRO!$E$51,0))), 0),\"Not required\")","v":"Not required"},{"$f":"IF(INTRO!$E$41=\"Endemic\", IF($J65>1, IF($J65=4, \"Unknown\", IF($J65=99, \"Surveillance\", SUM($N65:$P65))), 0),\"Not required\")","v":"Not required"},{"$f":"IF(INTRO!$E$43=\"Endemic\", IF($K65>1, IF($K65=4, \"Unknown\", IF($K65=99, \"Surveillance\", ROUND(E65*0.75,0))), 0),\"Not required\")","v":9587},{"$f":"IF(INTRO!$E$43=\"Endemic\", IF($K65>1, IF($K65=4, \"Unknown\", IF($K65=99, \"Surveillance\", F65)), 0),\"Not required\")","v":30114},0,{"$f":"IF(INTRO!$E$43=\"Endemic\", IF($K65>1, IF($K65=4, \"Unknown\", IF($K65=99, \"Surveillance\", SUM($R65:$T65))), 0),\"Not required\")","v":39701},0,0,null,1,null,null,null,null,null,null,null,null,21419,"Jaman North"]
[{"$f":"IF(INTRO!$E$33<>0,INTRO!$E$33, \" \")","v":"Ghana"},"Bono","Jaman South",112988,{"$f":"IF(INTRO!$E$48=\"\",\"\",ROUND($D66*INTRO!$E$48,0))","v":11751},{"$f":"IF(INTRO!$E$49=\"\",\"\",ROUND($D66*INTRO!$E$49,0))","v":27682},{"$f":"IF(INTRO!$E$50=\"\",\"\",ROUND($D66*INTRO!$E$50,0))","v":73555},0,0,null,1,{"$f":"IF(INTRO!$E$37=\"Endemic\",IF($H66>0,IF($H66=4,\"Unknown\",IF($H66=99,\"Stopped\",$D66)),0),\"Not required\")","v":0},0,{"$f":"IF(INTRO!$E$41=\"Endemic\", IF($J66>1, IF($J66=4, \"Unknown\", IF($J66=99, \"Surveillance\", E66)), 0),\"Not required\")","v":"Not required"},{"$f":"IF(INTRO!$E$41=\"Endemic\", IF($J66>1, IF($J66=4, \"Unknown\", IF($J66=99, \"Surveillance\", F66)), 0),\"Not required\")","v":"Not required"},{"$f":"IF(INTRO!$E$41=\"Endemic\", IF($J66>1, IF($J66=4, \"Unknown\", IF($J66=99, \"Surveillance\", ROUND(D66*INTRO!$E$51,0))), 0),\"Not required\")","v":"Not required"},{"$f":"IF(INTRO!$E$41=\"Endemic\", IF($J66>1, IF($J66=4, \"Unknown\", IF($J66=99, \"Surveillance\", SUM($N66:$P66))), 0),\"Not required\")","v":"Not required"},{"$f":"IF(INTRO!$E$43=\"Endemic\", IF($K66>1, IF($K66=4, \"Unknown\", IF($K66=99, \"Surveillance\", ROUND(E66*0.75,0))), 0),\"Not required\")","v":0},{"$f":"IF(INTRO!$E$43=\"Endemic\", IF($K66>1, IF($K66=4, \"Unknown\", IF($K66=99, \"Surveillance\", F66)), 0),\"Not required\")","v":0},{"$f":"IF(INTRO!$E$43=\"Endemic\", IF($K66>1, IF($K66=4, \"Unknown\", IF($K66=99, \"Surveillance\", G66)), 0),\"Not required\")","v":0},{"$f":"IF(INTRO!$E$43=\"Endemic\", IF($K66>1, IF($K66=4, \"Unknown\", IF($K66=99, \"Surveillance\", SUM($R66:$T66))), 0),\"Not required\")","v":0},0,0,null,0,null,null,null,null,null,null,null,null,21420,"Jaman south"]
[{"$f":"IF(INTRO!$E$33<>0,INTRO!$E$33, \" \")","v":"Ghana"},"Bono","Sunyani Municipal",201811.4,{"$f":"IF(INTRO!$E$48=\"\",\"\",ROUND($D67*INTRO!$E$48,0))","v":20988},{"$f":"IF(INTRO!$E$49=\"\",\"\",ROUND($D67*INTRO!$E$49,0))","v":49444},{"$f":"IF(INTRO!$E$50=\"\",\"\",ROUND($D67*INTRO!$E$50,0))","v":131379},99,0,null,2,{"$f":"IF(INTRO!$E$37=\"Endemic\",IF($H67>0,IF($H67=4,\"Unknown\",IF($H67=99,\"Stopped\",$D67)),0),\"Not required\")","v":"Stopped"},0,{"$f":"IF(INTRO!$E$41=\"Endemic\", IF($J67>1, IF($J67=4, \"Unknown\", IF($J67=99, \"Surveillance\", E67)), 0),\"Not required\")","v":"Not required"},{"$f":"IF(INTRO!$E$41=\"Endemic\", IF($J67>1, IF($J67=4, \"Unknown\", IF($J67=99, \"Surveillance\", F67)), 0),\"Not required\")","v":"Not required"},{"$f":"IF(INTRO!$E$41=\"Endemic\", IF($J67>1, IF($J67=4, \"Unknown\", IF($J67=99, \"Surveillance\", ROUND(D67*INTRO!$E$51,0))), 0),\"Not required\")","v":"Not required"},{"$f":"IF(INTRO!$E$41=\"Endemic\", IF($J67>1, IF($J67=4, \"Unknown\", IF($J67=99, \"Surveillance\", SUM($N67:$P67))), 0),\"Not required\")","v":"Not required"},{"$f":"IF(INTRO!$E$43=\"Endemic\", IF($K67>1, IF($K67=4, \"Unknown\", IF($K67=99, \"Surveillance\", ROUND(E67*0.75,0))), 0),\"Not required\")","v":15741},{"$f":"IF(INTRO!$E$43=\"Endemic\", IF($K67>1, IF($K67=4, \"Unknown\", IF($K67=99, \"Surveillance\", F67)), 0),\"Not required\")","v":49444},0,{"$f":"IF(INTRO!$E$43=\"Endemic\", IF($K67>1, IF($K67=4, \"Unknown\", IF($K67=99, \"Surveillance\", SUM($R67:$T67))), 0),\"Not required\")","v":65185},1,0,null,1,null,null,null,null,null,null,null,null,21429,"Sunyani Municipal"]
[{"$f":"IF(INTRO!$E$33<>0,INTRO!$E$33, \" \")","v":"Ghana"},"Bono","Sunyani West",141794.79999999999,{"$f":"IF(INTRO!$E$48=\"\",\"\",ROUND($D68*INTRO!$E$48,0))","v":14747},{"$f":"IF(INTRO!$E$49=\"\",\"\",ROUND($D68*INTRO!$E$49,0))","v":34740},{"$f":"IF(INTRO!$E$50=\"\",\"\",ROUND($D68*INTRO!$E$50,0))","v":92308},1,1,null,1,{"$f":"IF(INTRO!$E$37=\"Endemic\",IF($H68>0,IF($H68=4,\"Unknown\",IF($H68=99,\"Stopped\",$D68)),0),\"Not required\")","v":141794.79999999999},11684,{"$f":"IF(INTRO!$E$41=\"Endemic\", IF($J68>1, IF($J68=4, \"Unknown\", IF($J68=99, \"Surveillance\", E68)), 0),\"Not required\")","v":"Not required"},{"$f":"IF(INTRO!$E$41=\"Endemic\", IF($J68>1, IF($J68=4, \"Unknown\", IF($J68=99, \"Surveillance\", F68)), 0),\"Not required\")","v":"Not required"},{"$f":"IF(INTRO!$E$41=\"Endemic\", IF($J68>1, IF($J68=4, \"Unknown\", IF($J68=99, \"Surveillance\", ROUND(D68*INTRO!$E$51,0))), 0),\"Not required\")","v":"Not required"},{"$f":"IF(INTRO!$E$41=\"Endemic\", IF($J68>1, IF($J68=4, \"Unknown\", IF($J68=99, \"Surveillance\", SUM($N68:$P68))), 0),\"Not required\")","v":"Not required"},{"$f":"IF(INTRO!$E$43=\"Endemic\", IF($K68>1, IF($K68=4, \"Unknown\", IF($K68=99, \"Surveillance\", ROUND(E68*0.75,0))), 0),\"Not required\")","v":0},{"$f":"IF(INTRO!$E$43=\"Endemic\", IF($K68>1, IF($K68=4, \"Unknown\", IF($K68=99, \"Surveillance\", F68)), 0),\"Not required\")","v":0},{"$f":"IF(INTRO!$E$43=\"Endemic\", IF($K68>1, IF($K68=4, \"Unknown\", IF($K68=99, \"Surveillance\", G68)), 0),\"Not required\")","v":0},{"$f":"IF(INTRO!$E$43=\"Endemic\", IF($K68>1, IF($K68=4, \"Unknown\", IF($K68=99, \"Surveillance\", SUM($R68:$T68))), 0),\"Not required\")","v":0},1,2,null,0,null,"SS/SC",null,null,null,null,null,null,21430,"Sunyani West"]
[{"$f":"IF(INTRO!$E$33<>0,INTRO!$E$33, \" \")","v":"Ghana"},"Bono","Tain",120472.7,{"$f":"IF(INTRO!$E$48=\"\",\"\",ROUND($D69*INTRO!$E$48,0))","v":12529},{"$f":"IF(INTRO!$E$49=\"\",\"\",ROUND($D69*INTRO!$E$49,0))","v":29516},{"$f":"IF(INTRO!$E$50=\"\",\"\",ROUND($D69*INTRO!$E$50,0))","v":78428},0,1,null,1,{"$f":"IF(INTRO!$E$37=\"Endemic\",IF($H69>0,IF($H69=4,\"Unknown\",IF($H69=99,\"Stopped\",$D69)),0),\"Not required\")","v":0},33216,{"$f":"IF(INTRO!$E$41=\"Endemic\", IF($J69>1, IF($J69=4, \"Unknown\", IF($J69=99, \"Surveillance\", E69)), 0),\"Not required\")","v":"Not required"},{"$f":"IF(INTRO!$E$41=\"Endemic\", IF($J69>1, IF($J69=4, \"Unknown\", IF($J69=99, \"Surveillance\", F69)), 0),\"Not required\")","v":"Not required"},{"$f":"IF(INTRO!$E$41=\"Endemic\", IF($J69>1, IF($J69=4, \"Unknown\", IF($J69=99, \"Surveillance\", ROUND(D69*INTRO!$E$51,0))), 0),\"Not required\")","v":"Not required"},{"$f":"IF(INTRO!$E$41=\"Endemic\", IF($J69>1, IF($J69=4, \"Unknown\", IF($J69=99, \"Surveillance\", SUM($N69:$P69))), 0),\"Not required\")","v":"Not required"},{"$f":"IF(INTRO!$E$43=\"Endemic\", IF($K69>1, IF($K69=4, \"Unknown\", IF($K69=99, \"Surveillance\", ROUND(E69*0.75,0))), 0),\"Not required\")","v":0},{"$f":"IF(INTRO!$E$43=\"Endemic\", IF($K69>1, IF($K69=4, \"Unknown\", IF($K69=99, \"Surveillance\", F69)), 0),\"Not required\")","v":0},{"$f":"IF(INTRO!$E$43=\"Endemic\", IF($K69>1, IF($K69=4, \"Unknown\", IF($K69=99, \"Surveillance\", G69)), 0),\"Not required\")","v":0},{"$f":"IF(INTRO!$E$43=\"Endemic\", IF($K69>1, IF($K69=4, \"Unknown\", IF($K69=99, \"Surveillance\", SUM($R69:$T69))), 0),\"Not required\")","v":0},0,2,null,0,null,null,null,null,null,null,null,null,21431,"Tain"]
[{"$f":"IF(INTRO!$E$33<>0,INTRO!$E$33, \" \")","v":"Ghana"},"Bono","Wenchi",130052.8,{"$f":"IF(INTRO!$E$48=\"\",\"\",ROUND($D70*INTRO!$E$48,0))","v":13525},{"$f":"IF(INTRO!$E$49=\"\",\"\",ROUND($D70*INTRO!$E$49,0))","v":31863},{"$f":"IF(INTRO!$E$50=\"\",\"\",ROUND($D70*INTRO!$E$50,0))","v":84664},1,1,null,1,{"$f":"IF(INTRO!$E$37=\"Endemic\",IF($H70>0,IF($H70=4,\"Unknown\",IF($H70=99,\"Stopped\",$D70)),0),\"Not required\")","v":130052.8},117804,{"$f":"IF(INTRO!$E$41=\"Endemic\", IF($J70>1, IF($J70=4, \"Unknown\", IF($J70=99, \"Surveillance\", E70)), 0),\"Not required\")","v":"Not required"},{"$f":"IF(INTRO!$E$41=\"Endemic\", IF($J70>1, IF($J70=4, \"Unknown\", IF($J70=99, \"Surveillance\", F70)), 0),\"Not required\")","v":"Not required"},{"$f":"IF(INTRO!$E$41=\"Endemic\", IF($J70>1, IF($J70=4, \"Unknown\", IF($J70=99, \"Surveillance\", ROUND(D70*INTRO!$E$51,0))), 0),\"Not required\")","v":"Not required"},{"$f":"IF(INTRO!$E$41=\"Endemic\", IF($J70>1, IF($J70=4, \"Unknown\", IF($J70=99, \"Surveillance\", SUM($N70:$P70))), 0),\"Not required\")","v":"Not required"},{"$f":"IF(INTRO!$E$43=\"Endemic\", IF($K70>1, IF($K70=4, \"Unknown\", IF($K70=99, \"Surveillance\", ROUND(E70*0.75,0))), 0),\"Not required\")","v":0},{"$f":"IF(INTRO!$E$43=\"Endemic\", IF($K70>1, IF($K70=4, \"Unknown\", IF($K70=99, \"Surveillance\", F70)), 0),\"Not required\")","v":0},{"$f":"IF(INTRO!$E$43=\"Endemic\", IF($K70>1, IF($K70=4, \"Unknown\", IF($K70=99, \"Surveillance\", G70)), 0),\"Not required\")","v":0},{"$f":"IF(INTRO!$E$43=\"Endemic\", IF($K70>1, IF($K70=4, \"Unknown\", IF($K70=99, \"Surveillance\", SUM($R70:$T70))), 0),\"Not required\")","v":0},1,2,null,0,null,null,null,null,null,null,null,null,21436,"Wenchi Municipal"]
[{"$f":"IF(INTRO!$E$33<>0,INTRO!$E$33, \" \")","v":"Ghana"},"Bono East","Atebubu-Amanten",151098.70000000001,{"$f":"IF(INTRO!$E$48=\"\",\"\",ROUND($D71*INTRO!$E$48,0))","v":15714},{"$f":"IF(INTRO!$E$49=\"\",\"\",ROUND($D71*INTRO!$E$49,0))","v":37019},{"$f":"IF(INTRO!$E$50=\"\",\"\",ROUND($D71*INTRO!$E$50,0))","v":98365},0,1,null,2,{"$f":"IF(INTRO!$E$37=\"Endemic\",IF($H71>0,IF($H71=4,\"Unknown\",IF($H71=99,\"Stopped\",$D71)),0),\"Not required\")","v":0},58389,{"$f":"IF(INTRO!$E$41=\"Endemic\", IF($J71>1, IF($J71=4, \"Unknown\", IF($J71=99, \"Surveillance\", E71)), 0),\"Not required\")","v":"Not required"},{"$f":"IF(INTRO!$E$41=\"Endemic\", IF($J71>1, IF($J71=4, \"Unknown\", IF($J71=99, \"Surveillance\", F71)), 0),\"Not required\")","v":"Not required"},{"$f":"IF(INTRO!$E$41=\"Endemic\", IF($J71>1, IF($J71=4, \"Unknown\", IF($J71=99, \"Surveillance\", ROUND(D71*INTRO!$E$51,0))), 0),\"Not required\")","v":"Not required"},{"$f":"IF(INTRO!$E$41=\"Endemic\", IF($J71>1, IF($J71=4, \"Unknown\", IF($J71=99, \"Surveillance\", SUM($N71:$P71))), 0),\"Not required\")","v":"Not required"},{"$f":"IF(INTRO!$E$43=\"Endemic\", IF($K71>1, IF($K71=4, \"Unknown\", IF($K71=99, \"Surveillance\", ROUND(E71*0.75,0))), 0),\"Not required\")","v":11786},{"$f":"IF(INTRO!$E$43=\"Endemic\", IF($K71>1, IF($K71=4, \"Unknown\", IF($K71=99, \"Surveillance\", F71)), 0),\"Not required\")","v":37019},0,{"$f":"IF(INTRO!$E$43=\"Endemic\", IF($K71>1, IF($K71=4, \"Unknown\", IF($K71=99, \"Surveillance\", SUM($R71:$T71))), 0),\"Not required\")","v":48805},0,2,null,1,null,null,null,null,null,null,null,null,21413,"Atebubu-Amanteng"]
[{"$f":"IF(INTRO!$E$33<>0,INTRO!$E$33, \" \")","v":"Ghana"},"Bono East","Kintampo North",145428.9,{"$f":"IF(INTRO!$E$48=\"\",\"\",ROUND($D72*INTRO!$E$48,0))","v":15125},{"$f":"IF(INTRO!$E$49=\"\",\"\",ROUND($D72*INTRO!$E$49,0))","v":35630},{"$f":"IF(INTRO!$E$50=\"\",\"\",ROUND($D72*INTRO!$E$50,0))","v":94674},0,1,null,2,{"$f":"IF(INTRO!$E$37=\"Endemic\",IF($H72>0,IF($H72=4,\"Unknown\",IF($H72=99,\"Stopped\",$D72)),0),\"Not required\")","v":0},129186,{"$f":"IF(INTRO!$E$41=\"Endemic\", IF($J72>1, IF($J72=4, \"Unknown\", IF($J72=99, \"Surveillance\", E72)), 0),\"Not required\")","v":"Not required"},{"$f":"IF(INTRO!$E$41=\"Endemic\", IF($J72>1, IF($J72=4, \"Unknown\", IF($J72=99, \"Surveillance\", F72)), 0),\"Not required\")","v":"Not required"},{"$f":"IF(INTRO!$E$41=\"Endemic\", IF($J72>1, IF($J72=4, \"Unknown\", IF($J72=99, \"Surveillance\", ROUND(D72*INTRO!$E$51,0))), 0),\"Not required\")","v":"Not required"},{"$f":"IF(INTRO!$E$41=\"Endemic\", IF($J72>1, IF($J72=4, \"Unknown\", IF($J72=99, \"Surveillance\", SUM($N72:$P72))), 0),\"Not required\")","v":"Not required"},{"$f":"IF(INTRO!$E$43=\"Endemic\", IF($K72>1, IF($K72=4, \"Unknown\", IF($K72=99, \"Surveillance\", ROUND(E72*0.75,0))), 0),\"Not required\")","v":11344},{"$f":"IF(INTRO!$E$43=\"Endemic\", IF($K72>1, IF($K72=4, \"Unknown\", IF($K72=99, \"Surveillance\", F72)), 0),\"Not required\")","v":35630},0,{"$f":"IF(INTRO!$E$43=\"Endemic\", IF($K72>1, IF($K72=4, \"Unknown\", IF($K72=99, \"Surveillance\", SUM($R72:$T72))), 0),\"Not required\")","v":46974},0,2,null,1,null,null,null,null,null,null,null,null,21421,"Kintampo North"]
[{"$f":"IF(INTRO!$E$33<>0,INTRO!$E$33, \" \")","v":"Ghana"},"Bono East","Kintampo South",92908.5,{"$f":"IF(INTRO!$E$48=\"\",\"\",ROUND($D73*INTRO!$E$48,0))","v":9662},{"$f":"IF(INTRO!$E$49=\"\",\"\",ROUND($D73*INTRO!$E$49,0))","v":22763},{"$f":"IF(INTRO!$E$50=\"\",\"\",ROUND($D73*INTRO!$E$50,0))","v":60483},0,1,null,2,{"$f":"IF(INTRO!$E$37=\"Endemic\",IF($H73>0,IF($H73=4,\"Unknown\",IF($H73=99,\"Stopped\",$D73)),0),\"Not required\")","v":0},89883,{"$f":"IF(INTRO!$E$41=\"Endemic\", IF($J73>1, IF($J73=4, \"Unknown\", IF($J73=99, \"Surveillance\", E73)), 0),\"Not required\")","v":"Not required"},{"$f":"IF(INTRO!$E$41=\"Endemic\", IF($J73>1, IF($J73=4, \"Unknown\", IF($J73=99, \"Surveillance\", F73)), 0),\"Not required\")","v":"Not required"},{"$f":"IF(INTRO!$E$41=\"Endemic\", IF($J73>1, IF($J73=4, \"Unknown\", IF($J73=99, \"Surveillance\", ROUND(D73*INTRO!$E$51,0))), 0),\"Not required\")","v":"Not required"},{"$f":"IF(INTRO!$E$41=\"Endemic\", IF($J73>1, IF($J73=4, \"Unknown\", IF($J73=99, \"Surveillance\", SUM($N73:$P73))), 0),\"Not required\")","v":"Not required"},{"$f":"IF(INTRO!$E$43=\"Endemic\", IF($K73>1, IF($K73=4, \"Unknown\", IF($K73=99, \"Surveillance\", ROUND(E73*0.75,0))), 0),\"Not required\")","v":7247},{"$f":"IF(INTRO!$E$43=\"Endemic\", IF($K73>1, IF($K73=4, \"Unknown\", IF($K73=99, \"Surveillance\", F73)), 0),\"Not required\")","v":22763},0,{"$f":"IF(INTRO!$E$43=\"Endemic\", IF($K73>1, IF($K73=4, \"Unknown\", IF($K73=99, \"Surveillance\", SUM($R73:$T73))), 0),\"Not required\")","v":30010},0,2,null,1,null,null,null,null,null,null,null,null,21422,"Kintampo South"]
[{"$f":"IF(INTRO!$E$33<>0,INTRO!$E$33, \" \")","v":"Ghana"},"Bono East","Nkoranza North",58864.5,{"$f":"IF(INTRO!$E$48=\"\",\"\",ROUND($D74*INTRO!$E$48,0))","v":6122},{"$f":"IF(INTRO!$E$49=\"\",\"\",ROUND($D74*INTRO!$E$49,0))","v":14422},{"$f":"IF(INTRO!$E$50=\"\",\"\",ROUND($D74*INTRO!$E$50,0))","v":38321},0,1,null,2,{"$f":"IF(INTRO!$E$37=\"Endemic\",IF($H74>0,IF($H74=4,\"Unknown\",IF($H74=99,\"Stopped\",$D74)),0),\"Not required\")","v":0},103358,{"$f":"IF(INTRO!$E$41=\"Endemic\", IF($J74>1, IF($J74=4, \"Unknown\", IF($J74=99, \"Surveillance\", E74)), 0),\"Not required\")","v":"Not required"},{"$f":"IF(INTRO!$E$41=\"Endemic\", IF($J74>1, IF($J74=4, \"Unknown\", IF($J74=99, \"Surveillance\", F74)), 0),\"Not required\")","v":"Not required"},{"$f":"IF(INTRO!$E$41=\"Endemic\", IF($J74>1, IF($J74=4, \"Unknown\", IF($J74=99, \"Surveillance\", ROUND(D74*INTRO!$E$51,0))), 0),\"Not required\")","v":"Not required"},{"$f":"IF(INTRO!$E$41=\"Endemic\", IF($J74>1, IF($J74=4, \"Unknown\", IF($J74=99, \"Surveillance\", SUM($N74:$P74))), 0),\"Not required\")","v":"Not required"},{"$f":"IF(INTRO!$E$43=\"Endemic\", IF($K74>1, IF($K74=4, \"Unknown\", IF($K74=99, \"Surveillance\", ROUND(E74*0.75,0))), 0),\"Not required\")","v":4592},{"$f":"IF(INTRO!$E$43=\"Endemic\", IF($K74>1, IF($K74=4, \"Unknown\", IF($K74=99, \"Surveillance\", F74)), 0),\"Not required\")","v":14422},0,{"$f":"IF(INTRO!$E$43=\"Endemic\", IF($K74>1, IF($K74=4, \"Unknown\", IF($K74=99, \"Surveillance\", SUM($R74:$T74))), 0),\"Not required\")","v":19014},0,2,null,1,null,null,null,null,null,null,null,null,21423,"Nkoranza North"]
[{"$f":"IF(INTRO!$E$33<>0,INTRO!$E$33, \" \")","v":"Ghana"},"Bono East","Nkoranza South",119507.4,{"$f":"IF(INTRO!$E$48=\"\",\"\",ROUND($D75*INTRO!$E$48,0))","v":12429},{"$f":"IF(INTRO!$E$49=\"\",\"\",ROUND($D75*INTRO!$E$49,0))","v":29279},{"$f":"IF(INTRO!$E$50=\"\",\"\",ROUND($D75*INTRO!$E$50,0))","v":77799},1,1,null,2,{"$f":"IF(INTRO!$E$37=\"Endemic\",IF($H75>0,IF($H75=4,\"Unknown\",IF($H75=99,\"Stopped\",$D75)),0),\"Not required\")","v":119507.4},114386,{"$f":"IF(INTRO!$E$41=\"Endemic\", IF($J75>1, IF($J75=4, \"Unknown\", IF($J75=99, \"Surveillance\", E75)), 0),\"Not required\")","v":"Not required"},{"$f":"IF(INTRO!$E$41=\"Endemic\", IF($J75>1, IF($J75=4, \"Unknown\", IF($J75=99, \"Surveillance\", F75)), 0),\"Not required\")","v":"Not required"},{"$f":"IF(INTRO!$E$41=\"Endemic\", IF($J75>1, IF($J75=4, \"Unknown\", IF($J75=99, \"Surveillance\", ROUND(D75*INTRO!$E$51,0))), 0),\"Not required\")","v":"Not required"},{"$f":"IF(INTRO!$E$41=\"Endemic\", IF($J75>1, IF($J75=4, \"Unknown\", IF($J75=99, \"Surveillance\", SUM($N75:$P75))), 0),\"Not required\")","v":"Not required"},{"$f":"IF(INTRO!$E$43=\"Endemic\", IF($K75>1, IF($K75=4, \"Unknown\", IF($K75=99, \"Surveillance\", ROUND(E75*0.75,0))), 0),\"Not required\")","v":9322},{"$f":"IF(INTRO!$E$43=\"Endemic\", IF($K75>1, IF($K75=4, \"Unknown\", IF($K75=99, \"Surveillance\", F75)), 0),\"Not required\")","v":29279},0,{"$f":"IF(INTRO!$E$43=\"Endemic\", IF($K75>1, IF($K75=4, \"Unknown\", IF($K75=99, \"Surveillance\", SUM($R75:$T75))), 0),\"Not required\")","v":38601},1,2,null,1,null,null,null,null,null,null,null,null,21424,"Nkoranza South"]
[{"$f":"IF(INTRO!$E$33<>0,INTRO!$E$33, \" \")","v":"Ghana"},"Bono East","Pru",105854.7,{"$f":"IF(INTRO!$E$48=\"\",\"\",ROUND($D76*INTRO!$E$48,0))","v":11009},{"$f":"IF(INTRO!$E$49=\"\",\"\",ROUND($D76*INTRO!$E$49,0))","v":25934},{"$f":"IF(INTRO!$E$50=\"\",\"\",ROUND($D76*INTRO!$E$50,0))","v":68911},0,1,null,3,{"$f":"IF(INTRO!$E$37=\"Endemic\",IF($H76>0,IF($H76=4,\"Unknown\",IF($H76=99,\"Stopped\",$D76)),0),\"Not required\")","v":0},93174.175000000003,{"$f":"IF(INTRO!$E$41=\"Endemic\", IF($J76>1, IF($J76=4, \"Unknown\", IF($J76=99, \"Surveillance\", E76)), 0),\"Not required\")","v":"Not required"},{"$f":"IF(INTRO!$E$41=\"Endemic\", IF($J76>1, IF($J76=4, \"Unknown\", IF($J76=99, \"Surveillance\", F76)), 0),\"Not required\")","v":"Not required"},{"$f":"IF(INTRO!$E$41=\"Endemic\", IF($J76>1, IF($J76=4, \"Unknown\", IF($J76=99, \"Surveillance\", ROUND(D76*INTRO!$E$51,0))), 0),\"Not required\")","v":"Not required"},{"$f":"IF(INTRO!$E$41=\"Endemic\", IF($J76>1, IF($J76=4, \"Unknown\", IF($J76=99, \"Surveillance\", SUM($N76:$P76))), 0),\"Not required\")","v":"Not required"},{"$f":"IF(INTRO!$E$43=\"Endemic\", IF($K76>1, IF($K76=4, \"Unknown\", IF($K76=99, \"Surveillance\", ROUND(E76*0.75,0))), 0),\"Not required\")","v":8257},{"$f":"IF(INTRO!$E$43=\"Endemic\", IF($K76>1, IF($K76=4, \"Unknown\", IF($K76=99, \"Surveillance\", F76)), 0),\"Not required\")","v":25934},28565,{"$f":"IF(INTRO!$E$43=\"Endemic\", IF($K76>1, IF($K76=4, \"Unknown\", IF($K76=99, \"Surveillance\", SUM($R76:$T76))), 0),\"Not required\")","v":62756},0,2,null,1,null,null,null,null,null,null,null,null,21628,"Pru"]
[{"$f":"IF(INTRO!$E$33<>0,INTRO!$E$33, \" \")","v":"Ghana"},"Bono East","Pru West",72327.600000000006,{"$f":"IF(INTRO!$E$48=\"\",\"\",ROUND($D77*INTRO!$E$48,0))","v":7522},{"$f":"IF(INTRO!$E$49=\"\",\"\",ROUND($D77*INTRO!$E$49,0))","v":17720},{"$f":"IF(INTRO!$E$50=\"\",\"\",ROUND($D77*INTRO!$E$50,0))","v":47085},0,1,null,3,{"$f":"IF(INTRO!$E$37=\"Endemic\",IF($H77>0,IF($H77=4,\"Unknown\",IF($H77=99,\"Stopped\",$D77)),0),\"Not required\")","v":0},58939.05,{"$f":"IF(INTRO!$E$41=\"Endemic\", IF($J77>1, IF($J77=4, \"Unknown\", IF($J77=99, \"Surveillance\", E77)), 0),\"Not required\")","v":"Not required"},{"$f":"IF(INTRO!$E$41=\"Endemic\", IF($J77>1, IF($J77=4, \"Unknown\", IF($J77=99, \"Surveillance\", F77)), 0),\"Not required\")","v":"Not required"},{"$f":"IF(INTRO!$E$41=\"Endemic\", IF($J77>1, IF($J77=4, \"Unknown\", IF($J77=99, \"Surveillance\", ROUND(D77*INTRO!$E$51,0))), 0),\"Not required\")","v":"Not required"},{"$f":"IF(INTRO!$E$41=\"Endemic\", IF($J77>1, IF($J77=4, \"Unknown\", IF($J77=99, \"Surveillance\", SUM($N77:$P77))), 0),\"Not required\")","v":"Not required"},{"$f":"IF(INTRO!$E$43=\"Endemic\", IF($K77>1, IF($K77=4, \"Unknown\", IF($K77=99, \"Surveillance\", ROUND(E77*0.75,0))), 0),\"Not required\")","v":5642},{"$f":"IF(INTRO!$E$43=\"Endemic\", IF($K77>1, IF($K77=4, \"Unknown\", IF($K77=99, \"Surveillance\", F77)), 0),\"Not required\")","v":17720},17895,{"$f":"IF(INTRO!$E$43=\"Endemic\", IF($K77>1, IF($K77=4, \"Unknown\", IF($K77=99, \"Surveillance\", SUM($R77:$T77))), 0),\"Not required\")","v":41257},0,2,null,1,null,null,null,null,null,null,null,null,21627,"Pru West"]
[{"$f":"IF(INTRO!$E$33<>0,INTRO!$E$33, \" \")","v":"Ghana"},"Bono East","Sene East",75140.2,{"$f":"IF(INTRO!$E$48=\"\",\"\",ROUND($D78*INTRO!$E$48,0))","v":7815},{"$f":"IF(INTRO!$E$49=\"\",\"\",ROUND($D78*INTRO!$E$49,0))","v":18409},{"$f":"IF(INTRO!$E$50=\"\",\"\",ROUND($D78*INTRO!$E$50,0))","v":48916},0,1,null,3,{"$f":"IF(INTRO!$E$37=\"Endemic\",IF($H78>0,IF($H78=4,\"Unknown\",IF($H78=99,\"Stopped\",$D78)),0),\"Not required\")","v":0},65299,{"$f":"IF(INTRO!$E$41=\"Endemic\", IF($J78>1, IF($J78=4, \"Unknown\", IF($J78=99, \"Surveillance\", E78)), 0),\"Not required\")","v":"Not required"},{"$f":"IF(INTRO!$E$41=\"Endemic\", IF($J78>1, IF($J78=4, \"Unknown\", IF($J78=99, \"Surveillance\", F78)), 0),\"Not required\")","v":"Not required"},{"$f":"IF(INTRO!$E$41=\"Endemic\", IF($J78>1, IF($J78=4, \"Unknown\", IF($J78=99, \"Surveillance\", ROUND(D78*INTRO!$E$51,0))), 0),\"Not required\")","v":"Not required"},{"$f":"IF(INTRO!$E$41=\"Endemic\", IF($J78>1, IF($J78=4, \"Unknown\", IF($J78=99, \"Surveillance\", SUM($N78:$P78))), 0),\"Not required\")","v":"Not required"},{"$f":"IF(INTRO!$E$43=\"Endemic\", IF($K78>1, IF($K78=4, \"Unknown\", IF($K78=99, \"Surveillance\", ROUND(E78*0.75,0))), 0),\"Not required\")","v":5861},{"$f":"IF(INTRO!$E$43=\"Endemic\", IF($K78>1, IF($K78=4, \"Unknown\", IF($K78=99, \"Surveillance\", F78)), 0),\"Not required\")","v":18409},25698,{"$f":"IF(INTRO!$E$43=\"Endemic\", IF($K78>1, IF($K78=4, \"Unknown\", IF($K78=99, \"Surveillance\", SUM($R78:$T78))), 0),\"Not required\")","v":49968},0,2,null,1,null,null,null,null,null,null,null,null,21427,"Sene East"]
[{"$f":"IF(INTRO!$E$33<>0,INTRO!$E$33, \" \")","v":"Ghana"},"Bono East","Sene West",72800,{"$f":"IF(INTRO!$E$48=\"\",\"\",ROUND($D79*INTRO!$E$48,0))","v":7571},{"$f":"IF(INTRO!$E$49=\"\",\"\",ROUND($D79*INTRO!$E$49,0))","v":17836},{"$f":"IF(INTRO!$E$50=\"\",\"\",ROUND($D79*INTRO!$E$50,0))","v":47393},0,1,null,3,{"$f":"IF(INTRO!$E$37=\"Endemic\",IF($H79>0,IF($H79=4,\"Unknown\",IF($H79=99,\"Stopped\",$D79)),0),\"Not required\")","v":0},34980.369999999995,{"$f":"IF(INTRO!$E$41=\"Endemic\", IF($J79>1, IF($J79=4, \"Unknown\", IF($J79=99, \"Surveillance\", E79)), 0),\"Not required\")","v":"Not required"},{"$f":"IF(INTRO!$E$41=\"Endemic\", IF($J79>1, IF($J79=4, \"Unknown\", IF($J79=99, \"Surveillance\", F79)), 0),\"Not required\")","v":"Not required"},{"$f":"IF(INTRO!$E$41=\"Endemic\", IF($J79>1, IF($J79=4, \"Unknown\", IF($J79=99, \"Surveillance\", ROUND(D79*INTRO!$E$51,0))), 0),\"Not required\")","v":"Not required"},{"$f":"IF(INTRO!$E$41=\"Endemic\", IF($J79>1, IF($J79=4, \"Unknown\", IF($J79=99, \"Surveillance\", SUM($N79:$P79))), 0),\"Not required\")","v":"Not required"},{"$f":"IF(INTRO!$E$43=\"Endemic\", IF($K79>1, IF($K79=4, \"Unknown\", IF($K79=99, \"Surveillance\", ROUND(E79*0.75,0))), 0),\"Not required\")","v":5678},{"$f":"IF(INTRO!$E$43=\"Endemic\", IF($K79>1, IF($K79=4, \"Unknown\", IF($K79=99, \"Surveillance\", F79)), 0),\"Not required\")","v":17836},19635,{"$f":"IF(INTRO!$E$43=\"Endemic\", IF($K79>1, IF($K79=4, \"Unknown\", IF($K79=99, \"Surveillance\", SUM($R79:$T79))), 0),\"Not required\")","v":43149},0,2,null,1,null,null,null,null,null,null,null,null,21428,"Sene West"]
[{"$f":"IF(INTRO!$E$33<>0,INTRO!$E$33, \" \")","v":"Ghana"},"Bono East","Techiman Municipal",237415.6,{"$f":"IF(INTRO!$E$48=\"\",\"\",ROUND($D80*INTRO!$E$48,0))","v":24691},{"$f":"IF(INTRO!$E$49=\"\",\"\",ROUND($D80*INTRO!$E$49,0))","v":58167},{"$f":"IF(INTRO!$E$50=\"\",\"\",ROUND($D80*INTRO!$E$50,0))","v":154558},99,0,null,2,{"$f":"IF(INTRO!$E$37=\"Endemic\",IF($H80>0,IF($H80=4,\"Unknown\",IF($H80=99,\"Stopped\",$D80)),0),\"Not required\")","v":"Stopped"},0,{"$f":"IF(INTRO!$E$41=\"Endemic\", IF($J80>1, IF($J80=4, \"Unknown\", IF($J80=99, \"Surveillance\", E80)), 0),\"Not required\")","v":"Not required"},{"$f":"IF(INTRO!$E$41=\"Endemic\", IF($J80>1, IF($J80=4, \"Unknown\", IF($J80=99, \"Surveillance\", F80)), 0),\"Not required\")","v":"Not required"},{"$f":"IF(INTRO!$E$41=\"Endemic\", IF($J80>1, IF($J80=4, \"Unknown\", IF($J80=99, \"Surveillance\", ROUND(D80*INTRO!$E$51,0))), 0),\"Not required\")","v":"Not required"},{"$f":"IF(INTRO!$E$41=\"Endemic\", IF($J80>1, IF($J80=4, \"Unknown\", IF($J80=99, \"Surveillance\", SUM($N80:$P80))), 0),\"Not required\")","v":"Not required"},{"$f":"IF(INTRO!$E$43=\"Endemic\", IF($K80>1, IF($K80=4, \"Unknown\", IF($K80=99, \"Surveillance\", ROUND(E80*0.75,0))), 0),\"Not required\")","v":18518},{"$f":"IF(INTRO!$E$43=\"Endemic\", IF($K80>1, IF($K80=4, \"Unknown\", IF($K80=99, \"Surveillance\", F80)), 0),\"Not required\")","v":58167},0,{"$f":"IF(INTRO!$E$43=\"Endemic\", IF($K80>1, IF($K80=4, \"Unknown\", IF($K80=99, \"Surveillance\", SUM($R80:$T80))), 0),\"Not required\")","v":76685},0,0,null,1,null,null,null,null,null,null,null,null,21434,"Techiman Municipal"]
[{"$f":"IF(INTRO!$E$33<>0,INTRO!$E$33, \" \")","v":"Ghana"},"Bono East","Techiman North",92984.8,{"$f":"IF(INTRO!$E$48=\"\",\"\",ROUND($D81*INTRO!$E$48,0))","v":9670},{"$f":"IF(INTRO!$E$49=\"\",\"\",ROUND($D81*INTRO!$E$49,0))","v":22781},{"$f":"IF(INTRO!$E$50=\"\",\"\",ROUND($D81*INTRO!$E$50,0))","v":60533},99,1,null,2,{"$f":"IF(INTRO!$E$37=\"Endemic\",IF($H81>0,IF($H81=4,\"Unknown\",IF($H81=99,\"Stopped\",$D81)),0),\"Not required\")","v":"Stopped"},34086,{"$f":"IF(INTRO!$E$41=\"Endemic\", IF($J81>1, IF($J81=4, \"Unknown\", IF($J81=99, \"Surveillance\", E81)), 0),\"Not required\")","v":"Not required"},{"$f":"IF(INTRO!$E$41=\"Endemic\", IF($J81>1, IF($J81=4, \"Unknown\", IF($J81=99, \"Surveillance\", F81)), 0),\"Not required\")","v":"Not required"},{"$f":"IF(INTRO!$E$41=\"Endemic\", IF($J81>1, IF($J81=4, \"Unknown\", IF($J81=99, \"Surveillance\", ROUND(D81*INTRO!$E$51,0))), 0),\"Not required\")","v":"Not required"},{"$f":"IF(INTRO!$E$41=\"Endemic\", IF($J81>1, IF($J81=4, \"Unknown\", IF($J81=99, \"Surveillance\", SUM($N81:$P81))), 0),\"Not required\")","v":"Not required"},{"$f":"IF(INTRO!$E$43=\"Endemic\", IF($K81>1, IF($K81=4, \"Unknown\", IF($K81=99, \"Surveillance\", ROUND(E81*0.75,0))), 0),\"Not required\")","v":7253},{"$f":"IF(INTRO!$E$43=\"Endemic\", IF($K81>1, IF($K81=4, \"Unknown\", IF($K81=99, \"Surveillance\", F81)), 0),\"Not required\")","v":22781},0,{"$f":"IF(INTRO!$E$43=\"Endemic\", IF($K81>1, IF($K81=4, \"Unknown\", IF($K81=99, \"Surveillance\", SUM($R81:$T81))), 0),\"Not required\")","v":30034},0,2,null,1,null,null,null,null,null,null,null,null,21435,"Techiman North"]
[{"$f":"IF(INTRO!$E$33<>0,INTRO!$E$33, \" \")","v":"Ghana"},"Central","Abura-Asebu-Kwamankese",129747.5,{"$f":"IF(INTRO!$E$48=\"\",\"\",ROUND($D82*INTRO!$E$48,0))","v":13494},{"$f":"IF(INTRO!$E$49=\"\",\"\",ROUND($D82*INTRO!$E$49,0))","v":31788},{"$f":"IF(INTRO!$E$50=\"\",\"\",ROUND($D82*INTRO!$E$50,0))","v":84466},99,0,null,2,{"$f":"IF(INTRO!$E$37=\"Endemic\",IF($H82>0,IF($H82=4,\"Unknown\",IF($H82=99,\"Stopped\",$D82)),0),\"Not required\")","v":"Stopped"},0,{"$f":"IF(INTRO!$E$41=\"Endemic\", IF($J82>1, IF($J82=4, \"Unknown\", IF($J82=99, \"Surveillance\", E82)), 0),\"Not required\")","v":"Not required"},{"$f":"IF(INTRO!$E$41=\"Endemic\", IF($J82>1, IF($J82=4, \"Unknown\", IF($J82=99, \"Surveillance\", F82)), 0),\"Not required\")","v":"Not required"},{"$f":"IF(INTRO!$E$41=\"Endemic\", IF($J82>1, IF($J82=4, \"Unknown\", IF($J82=99, \"Surveillance\", ROUND(D82*INTRO!$E$51,0))), 0),\"Not required\")","v":"Not required"},{"$f":"IF(INTRO!$E$41=\"Endemic\", IF($J82>1, IF($J82=4, \"Unknown\", IF($J82=99, \"Surveillance\", SUM($N82:$P82))), 0),\"Not required\")","v":"Not required"},{"$f":"IF(INTRO!$E$43=\"Endemic\", IF($K82>1, IF($K82=4, \"Unknown\", IF($K82=99, \"Surveillance\", ROUND(E82*0.75,0))), 0),\"Not required\")","v":10121},{"$f":"IF(INTRO!$E$43=\"Endemic\", IF($K82>1, IF($K82=4, \"Unknown\", IF($K82=99, \"Surveillance\", F82)), 0),\"Not required\")","v":31788},0,{"$f":"IF(INTRO!$E$43=\"Endemic\", IF($K82>1, IF($K82=4, \"Unknown\", IF($K82=99, \"Surveillance\", SUM($R82:$T82))), 0),\"Not required\")","v":41909},0,0,null,1,null,null,null,null,null,null,null,null,21437,"Abura-Asebu-Kwamankese"]
[{"$f":"IF(INTRO!$E$33<>0,INTRO!$E$33, \" \")","v":"Ghana"},"Central","Agona East",102497,{"$f":"IF(INTRO!$E$48=\"\",\"\",ROUND($D83*INTRO!$E$48,0))","v":10660},{"$f":"IF(INTRO!$E$49=\"\",\"\",ROUND($D83*INTRO!$E$49,0))","v":25112},{"$f":"IF(INTRO!$E$50=\"\",\"\",ROUND($D83*INTRO!$E$50,0))","v":66726},99,0,null,2,{"$f":"IF(INTRO!$E$37=\"Endemic\",IF($H83>0,IF($H83=4,\"Unknown\",IF($H83=99,\"Stopped\",$D83)),0),\"Not required\")","v":"Stopped"},0,{"$f":"IF(INTRO!$E$41=\"Endemic\", IF($J83>1, IF($J83=4, \"Unknown\", IF($J83=99, \"Surveillance\", E83)), 0),\"Not required\")","v":"Not required"},{"$f":"IF(INTRO!$E$41=\"Endemic\", IF($J83>1, IF($J83=4, \"Unknown\", IF($J83=99, \"Surveillance\", F83)), 0),\"Not required\")","v":"Not required"},{"$f":"IF(INTRO!$E$41=\"Endemic\", IF($J83>1, IF($J83=4, \"Unknown\", IF($J83=99, \"Surveillance\", ROUND(D83*INTRO!$E$51,0))), 0),\"Not required\")","v":"Not required"},{"$f":"IF(INTRO!$E$41=\"Endemic\", IF($J83>1, IF($J83=4, \"Unknown\", IF($J83=99, \"Surveillance\", SUM($N83:$P83))), 0),\"Not required\")","v":"Not required"},{"$f":"IF(INTRO!$E$43=\"Endemic\", IF($K83>1, IF($K83=4, \"Unknown\", IF($K83=99, \"Surveillance\", ROUND(E83*0.75,0))), 0),\"Not required\")","v":7995},{"$f":"IF(INTRO!$E$43=\"Endemic\", IF($K83>1, IF($K83=4, \"Unknown\", IF($K83=99, \"Surveillance\", F83)), 0),\"Not required\")","v":25112},0,{"$f":"IF(INTRO!$E$43=\"Endemic\", IF($K83>1, IF($K83=4, \"Unknown\", IF($K83=99, \"Surveillance\", SUM($R83:$T83))), 0),\"Not required\")","v":33107},0,0,null,1,null,null,null,null,null,null,null,null,21438,"Agona East"]
[{"$f":"IF(INTRO!$E$33<>0,INTRO!$E$33, \" \")","v":"Ghana"},"Central","Agona West",142691.4,{"$f":"IF(INTRO!$E$48=\"\",\"\",ROUND($D84*INTRO!$E$48,0))","v":14840},{"$f":"IF(INTRO!$E$49=\"\",\"\",ROUND($D84*INTRO!$E$49,0))","v":34959},{"$f":"IF(INTRO!$E$50=\"\",\"\",ROUND($D84*INTRO!$E$50,0))","v":92892},99,0,null,2,{"$f":"IF(INTRO!$E$37=\"Endemic\",IF($H84>0,IF($H84=4,\"Unknown\",IF($H84=99,\"Stopped\",$D84)),0),\"Not required\")","v":"Stopped"},0,{"$f":"IF(INTRO!$E$41=\"Endemic\", IF($J84>1, IF($J84=4, \"Unknown\", IF($J84=99, \"Surveillance\", E84)), 0),\"Not required\")","v":"Not required"},{"$f":"IF(INTRO!$E$41=\"Endemic\", IF($J84>1, IF($J84=4, \"Unknown\", IF($J84=99, \"Surveillance\", F84)), 0),\"Not required\")","v":"Not required"},{"$f":"IF(INTRO!$E$41=\"Endemic\", IF($J84>1, IF($J84=4, \"Unknown\", IF($J84=99, \"Surveillance\", ROUND(D84*INTRO!$E$51,0))), 0),\"Not required\")","v":"Not required"},{"$f":"IF(INTRO!$E$41=\"Endemic\", IF($J84>1, IF($J84=4, \"Unknown\", IF($J84=99, \"Surveillance\", SUM($N84:$P84))), 0),\"Not required\")","v":"Not required"},{"$f":"IF(INTRO!$E$43=\"Endemic\", IF($K84>1, IF($K84=4, \"Unknown\", IF($K84=99, \"Surveillance\", ROUND(E84*0.75,0))), 0),\"Not required\")","v":11130},{"$f":"IF(INTRO!$E$43=\"Endemic\", IF($K84>1, IF($K84=4, \"Unknown\", IF($K84=99, \"Surveillance\", F84)), 0),\"Not required\")","v":34959},0,{"$f":"IF(INTRO!$E$43=\"Endemic\", IF($K84>1, IF($K84=4, \"Unknown\", IF($K84=99, \"Surveillance\", SUM($R84:$T84))), 0),\"Not required\")","v":46089},0,0,null,1,null,null,null,null,null,null,null,null,21439,"Agona West"]
[{"$f":"IF(INTRO!$E$33<>0,INTRO!$E$33, \" \")","v":"Ghana"},"Central","Ajumako-Enyan-Essiam",125703.8,{"$f":"IF(INTRO!$E$48=\"\",\"\",ROUND($D85*INTRO!$E$48,0))","v":13073},{"$f":"IF(INTRO!$E$49=\"\",\"\",ROUND($D85*INTRO!$E$49,0))","v":30797},{"$f":"IF(INTRO!$E$50=\"\",\"\",ROUND($D85*INTRO!$E$50,0))","v":81833},99,0,null,2,{"$f":"IF(INTRO!$E$37=\"Endemic\",IF($H85>0,IF($H85=4,\"Unknown\",IF($H85=99,\"Stopped\",$D85)),0),\"Not required\")","v":"Stopped"},0,{"$f":"IF(INTRO!$E$41=\"Endemic\", IF($J85>1, IF($J85=4, \"Unknown\", IF($J85=99, \"Surveillance\", E85)), 0),\"Not required\")","v":"Not required"},{"$f":"IF(INTRO!$E$41=\"Endemic\", IF($J85>1, IF($J85=4, \"Unknown\", IF($J85=99, \"Surveillance\", F85)), 0),\"Not required\")","v":"Not required"},{"$f":"IF(INTRO!$E$41=\"Endemic\", IF($J85>1, IF($J85=4, \"Unknown\", IF($J85=99, \"Surveillance\", ROUND(D85*INTRO!$E$51,0))), 0),\"Not required\")","v":"Not required"},{"$f":"IF(INTRO!$E$41=\"Endemic\", IF($J85>1, IF($J85=4, \"Unknown\", IF($J85=99, \"Surveillance\", SUM($N85:$P85))), 0),\"Not required\")","v":"Not required"},{"$f":"IF(INTRO!$E$43=\"Endemic\", IF($K85>1, IF($K85=4, \"Unknown\", IF($K85=99, \"Surveillance\", ROUND(E85*0.75,0))), 0),\"Not required\")","v":9805},{"$f":"IF(INTRO!$E$43=\"Endemic\", IF($K85>1, IF($K85=4, \"Unknown\", IF($K85=99, \"Surveillance\", F85)), 0),\"Not required\")","v":30797},0,{"$f":"IF(INTRO!$E$43=\"Endemic\", IF($K85>1, IF($K85=4, \"Unknown\", IF($K85=99, \"Surveillance\", SUM($R85:$T85))), 0),\"Not required\")","v":40602},0,0,null,1,null,null,null,null,null,null,null,null,21440,"Ajumako-Enyan-Essiam"]
[{"$f":"IF(INTRO!$E$33<>0,INTRO!$E$33, \" \")","v":"Ghana"},"Central","Asikuma-Odoben-Brakwa",132382.70000000001,{"$f":"IF(INTRO!$E$48=\"\",\"\",ROUND($D86*INTRO!$E$48,0))","v":13768},{"$f":"IF(INTRO!$E$49=\"\",\"\",ROUND($D86*INTRO!$E$49,0))","v":32434},{"$f":"IF(INTRO!$E$50=\"\",\"\",ROUND($D86*INTRO!$E$50,0))","v":86181},99,0,null,3,{"$f":"IF(INTRO!$E$37=\"Endemic\",IF($H86>0,IF($H86=4,\"Unknown\",IF($H86=99,\"Stopped\",$D86)),0),\"Not required\")","v":"Stopped"},0,{"$f":"IF(INTRO!$E$41=\"Endemic\", IF($J86>1, IF($J86=4, \"Unknown\", IF($J86=99, \"Surveillance\", E86)), 0),\"Not required\")","v":"Not required"},{"$f":"IF(INTRO!$E$41=\"Endemic\", IF($J86>1, IF($J86=4, \"Unknown\", IF($J86=99, \"Surveillance\", F86)), 0),\"Not required\")","v":"Not required"},{"$f":"IF(INTRO!$E$41=\"Endemic\", IF($J86>1, IF($J86=4, \"Unknown\", IF($J86=99, \"Surveillance\", ROUND(D86*INTRO!$E$51,0))), 0),\"Not required\")","v":"Not required"},{"$f":"IF(INTRO!$E$41=\"Endemic\", IF($J86>1, IF($J86=4, \"Unknown\", IF($J86=99, \"Surveillance\", SUM($N86:$P86))), 0),\"Not required\")","v":"Not required"},{"$f":"IF(INTRO!$E$43=\"Endemic\", IF($K86>1, IF($K86=4, \"Unknown\", IF($K86=99, \"Surveillance\", ROUND(E86*0.75,0))), 0),\"Not required\")","v":10326},{"$f":"IF(INTRO!$E$43=\"Endemic\", IF($K86>1, IF($K86=4, \"Unknown\", IF($K86=99, \"Surveillance\", F86)), 0),\"Not required\")","v":32434},24659,{"$f":"IF(INTRO!$E$43=\"Endemic\", IF($K86>1, IF($K86=4, \"Unknown\", IF($K86=99, \"Surveillance\", SUM($R86:$T86))), 0),\"Not required\")","v":67419},0,0,null,1,null,null,null,null,null,null,null,null,21441,"Asikuma-Odoben-Brakwa"]
[{"$f":"IF(INTRO!$E$33<>0,INTRO!$E$33, \" \")","v":"Ghana"},"Central","Assin Foso",92519.8,{"$f":"IF(INTRO!$E$48=\"\",\"\",ROUND($D87*INTRO!$E$48,0))","v":9622},{"$f":"IF(INTRO!$E$49=\"\",\"\",ROUND($D87*INTRO!$E$49,0))","v":22667},{"$f":"IF(INTRO!$E$50=\"\",\"\",ROUND($D87*INTRO!$E$50,0))","v":60230},99,1,null,3,{"$f":"IF(INTRO!$E$37=\"Endemic\",IF($H87>0,IF($H87=4,\"Unknown\",IF($H87=99,\"Stopped\",$D87)),0),\"Not required\")","v":"Stopped"},87671,{"$f":"IF(INTRO!$E$41=\"Endemic\", IF($J87>1, IF($J87=4, \"Unknown\", IF($J87=99, \"Surveillance\", E87)), 0),\"Not required\")","v":"Not required"},{"$f":"IF(INTRO!$E$41=\"Endemic\", IF($J87>1, IF($J87=4, \"Unknown\", IF($J87=99, \"Surveillance\", F87)), 0),\"Not required\")","v":"Not required"},{"$f":"IF(INTRO!$E$41=\"Endemic\", IF($J87>1, IF($J87=4, \"Unknown\", IF($J87=99, \"Surveillance\", ROUND(D87*INTRO!$E$51,0))), 0),\"Not required\")","v":"Not required"},{"$f":"IF(INTRO!$E$41=\"Endemic\", IF($J87>1, IF($J87=4, \"Unknown\", IF($J87=99, \"Surveillance\", SUM($N87:$P87))), 0),\"Not required\")","v":"Not required"},{"$f":"IF(INTRO!$E$43=\"Endemic\", IF($K87>1, IF($K87=4, \"Unknown\", IF($K87=99, \"Surveillance\", ROUND(E87*0.75,0))), 0),\"Not required\")","v":7217},{"$f":"IF(INTRO!$E$43=\"Endemic\", IF($K87>1, IF($K87=4, \"Unknown\", IF($K87=99, \"Surveillance\", F87)), 0),\"Not required\")","v":22667},17569,{"$f":"IF(INTRO!$E$43=\"Endemic\", IF($K87>1, IF($K87=4, \"Unknown\", IF($K87=99, \"Surveillance\", SUM($R87:$T87))), 0),\"Not required\")","v":47453},0,2,null,1,null,null,null,null,null,null,null,null,21629,"Assin Foso"]
[{"$f":"IF(INTRO!$E$33<>0,INTRO!$E$33, \" \")","v":"Ghana"},"Central","Assin North",83957,{"$f":"IF(INTRO!$E$48=\"\",\"\",ROUND($D88*INTRO!$E$48,0))","v":8732},{"$f":"IF(INTRO!$E$49=\"\",\"\",ROUND($D88*INTRO!$E$49,0))","v":20569},{"$f":"IF(INTRO!$E$50=\"\",\"\",ROUND($D88*INTRO!$E$50,0))","v":54656},99,1,null,3,{"$f":"IF(INTRO!$E$37=\"Endemic\",IF($H88>0,IF($H88=4,\"Unknown\",IF($H88=99,\"Stopped\",$D88)),0),\"Not required\")","v":"Stopped"},78792,{"$f":"IF(INTRO!$E$41=\"Endemic\", IF($J88>1, IF($J88=4, \"Unknown\", IF($J88=99, \"Surveillance\", E88)), 0),\"Not required\")","v":"Not required"},{"$f":"IF(INTRO!$E$41=\"Endemic\", IF($J88>1, IF($J88=4, \"Unknown\", IF($J88=99, \"Surveillance\", F88)), 0),\"Not required\")","v":"Not required"},{"$f":"IF(INTRO!$E$41=\"Endemic\", IF($J88>1, IF($J88=4, \"Unknown\", IF($J88=99, \"Surveillance\", ROUND(D88*INTRO!$E$51,0))), 0),\"Not required\")","v":"Not required"},{"$f":"IF(INTRO!$E$41=\"Endemic\", IF($J88>1, IF($J88=4, \"Unknown\", IF($J88=99, \"Surveillance\", SUM($N88:$P88))), 0),\"Not required\")","v":"Not required"},{"$f":"IF(INTRO!$E$43=\"Endemic\", IF($K88>1, IF($K88=4, \"Unknown\", IF($K88=99, \"Surveillance\", ROUND(E88*0.75,0))), 0),\"Not required\")","v":6549},{"$f":"IF(INTRO!$E$43=\"Endemic\", IF($K88>1, IF($K88=4, \"Unknown\", IF($K88=99, \"Surveillance\", F88)), 0),\"Not required\")","v":20569},32659,{"$f":"IF(INTRO!$E$43=\"Endemic\", IF($K88>1, IF($K88=4, \"Unknown\", IF($K88=99, \"Surveillance\", SUM($R88:$T88))), 0),\"Not required\")","v":59777},0,2,null,1,null,null,null,null,null,null,null,null,21630,"Assin North"]
[{"$f":"IF(INTRO!$E$33<>0,INTRO!$E$33, \" \")","v":"Ghana"},"Central","Assin South",110493.5,{"$f":"IF(INTRO!$E$48=\"\",\"\",ROUND($D89*INTRO!$E$48,0))","v":11491},{"$f":"IF(INTRO!$E$49=\"\",\"\",ROUND($D89*INTRO!$E$49,0))","v":27071},{"$f":"IF(INTRO!$E$50=\"\",\"\",ROUND($D89*INTRO!$E$50,0))","v":71931},99,1,null,2,{"$f":"IF(INTRO!$E$37=\"Endemic\",IF($H89>0,IF($H89=4,\"Unknown\",IF($H89=99,\"Stopped\",$D89)),0),\"Not required\")","v":"Stopped"},52176,{"$f":"IF(INTRO!$E$41=\"Endemic\", IF($J89>1, IF($J89=4, \"Unknown\", IF($J89=99, \"Surveillance\", E89)), 0),\"Not required\")","v":"Not required"},{"$f":"IF(INTRO!$E$41=\"Endemic\", IF($J89>1, IF($J89=4, \"Unknown\", IF($J89=99, \"Surveillance\", F89)), 0),\"Not required\")","v":"Not required"},{"$f":"IF(INTRO!$E$41=\"Endemic\", IF($J89>1, IF($J89=4, \"Unknown\", IF($J89=99, \"Surveillance\", ROUND(D89*INTRO!$E$51,0))), 0),\"Not required\")","v":"Not required"},{"$f":"IF(INTRO!$E$41=\"Endemic\", IF($J89>1, IF($J89=4, \"Unknown\", IF($J89=99, \"Surveillance\", SUM($N89:$P89))), 0),\"Not required\")","v":"Not required"},{"$f":"IF(INTRO!$E$43=\"Endemic\", IF($K89>1, IF($K89=4, \"Unknown\", IF($K89=99, \"Surveillance\", ROUND(E89*0.75,0))), 0),\"Not required\")","v":8618},{"$f":"IF(INTRO!$E$43=\"Endemic\", IF($K89>1, IF($K89=4, \"Unknown\", IF($K89=99, \"Surveillance\", F89)), 0),\"Not required\")","v":27071},0,{"$f":"IF(INTRO!$E$43=\"Endemic\", IF($K89>1, IF($K89=4, \"Unknown\", IF($K89=99, \"Surveillance\", SUM($R89:$T89))), 0),\"Not required\")","v":35689},0,2,null,1,null,null,null,null,null,null,null,null,21443,"Assin South"]
[{"$f":"IF(INTRO!$E$33<>0,INTRO!$E$33, \" \")","v":"Ghana"},"Central","Awutu Senya",168312.5,{"$f":"IF(INTRO!$E$48=\"\",\"\",ROUND($D90*INTRO!$E$48,0))","v":17505},{"$f":"IF(INTRO!$E$49=\"\",\"\",ROUND($D90*INTRO!$E$49,0))","v":41237},{"$f":"IF(INTRO!$E$50=\"\",\"\",ROUND($D90*INTRO!$E$50,0))","v":109571},99,0,null,2,{"$f":"IF(INTRO!$E$37=\"Endemic\",IF($H90>0,IF($H90=4,\"Unknown\",IF($H90=99,\"Stopped\",$D90)),0),\"Not required\")","v":"Stopped"},0,{"$f":"IF(INTRO!$E$41=\"Endemic\", IF($J90>1, IF($J90=4, \"Unknown\", IF($J90=99, \"Surveillance\", E90)), 0),\"Not required\")","v":"Not required"},{"$f":"IF(INTRO!$E$41=\"Endemic\", IF($J90>1, IF($J90=4, \"Unknown\", IF($J90=99, \"Surveillance\", F90)), 0),\"Not required\")","v":"Not required"},{"$f":"IF(INTRO!$E$41=\"Endemic\", IF($J90>1, IF($J90=4, \"Unknown\", IF($J90=99, \"Surveillance\", ROUND(D90*INTRO!$E$51,0))), 0),\"Not required\")","v":"Not required"},{"$f":"IF(INTRO!$E$41=\"Endemic\", IF($J90>1, IF($J90=4, \"Unknown\", IF($J90=99, \"Surveillance\", SUM($N90:$P90))), 0),\"Not required\")","v":"Not required"},{"$f":"IF(INTRO!$E$43=\"Endemic\", IF($K90>1, IF($K90=4, \"Unknown\", IF($K90=99, \"Surveillance\", ROUND(E90*0.75,0))), 0),\"Not required\")","v":13129},{"$f":"IF(INTRO!$E$43=\"Endemic\", IF($K90>1, IF($K90=4, \"Unknown\", IF($K90=99, \"Surveillance\", F90)), 0),\"Not required\")","v":41237},0,{"$f":"IF(INTRO!$E$43=\"Endemic\", IF($K90>1, IF($K90=4, \"Unknown\", IF($K90=99, \"Surveillance\", SUM($R90:$T90))), 0),\"Not required\")","v":54366},0,0,null,1,null,null,null,null,null,null,null,null,21445,"Awutu-Senya West"]
[{"$f":"IF(INTRO!$E$33<>0,INTRO!$E$33, \" \")","v":"Ghana"},"Central","Awutu Senya East",246565.3,{"$f":"IF(INTRO!$E$48=\"\",\"\",ROUND($D91*INTRO!$E$48,0))","v":25643},{"$f":"IF(INTRO!$E$49=\"\",\"\",ROUND($D91*INTRO!$E$49,0))","v":60408},{"$f":"IF(INTRO!$E$50=\"\",\"\",ROUND($D91*INTRO!$E$50,0))","v":160514},99,0,null,2,{"$f":"IF(INTRO!$E$37=\"Endemic\",IF($H91>0,IF($H91=4,\"Unknown\",IF($H91=99,\"Stopped\",$D91)),0),\"Not required\")","v":"Stopped"},0,{"$f":"IF(INTRO!$E$41=\"Endemic\", IF($J91>1, IF($J91=4, \"Unknown\", IF($J91=99, \"Surveillance\", E91)), 0),\"Not required\")","v":"Not required"},{"$f":"IF(INTRO!$E$41=\"Endemic\", IF($J91>1, IF($J91=4, \"Unknown\", IF($J91=99, \"Surveillance\", F91)), 0),\"Not required\")","v":"Not required"},{"$f":"IF(INTRO!$E$41=\"Endemic\", IF($J91>1, IF($J91=4, \"Unknown\", IF($J91=99, \"Surveillance\", ROUND(D91*INTRO!$E$51,0))), 0),\"Not required\")","v":"Not required"},{"$f":"IF(INTRO!$E$41=\"Endemic\", IF($J91>1, IF($J91=4, \"Unknown\", IF($J91=99, \"Surveillance\", SUM($N91:$P91))), 0),\"Not required\")","v":"Not required"},{"$f":"IF(INTRO!$E$43=\"Endemic\", IF($K91>1, IF($K91=4, \"Unknown\", IF($K91=99, \"Surveillance\", ROUND(E91*0.75,0))), 0),\"Not required\")","v":19232},{"$f":"IF(INTRO!$E$43=\"Endemic\", IF($K91>1, IF($K91=4, \"Unknown\", IF($K91=99, \"Surveillance\", F91)), 0),\"Not required\")","v":60408},0,{"$f":"IF(INTRO!$E$43=\"Endemic\", IF($K91>1, IF($K91=4, \"Unknown\", IF($K91=99, \"Surveillance\", SUM($R91:$T91))), 0),\"Not required\")","v":79640},0,0,null,1,null,null,null,null,null,null,null,null,21444,"Awutu-Senya East"]
[{"$f":"IF(INTRO!$E$33<>0,INTRO!$E$33, \" \")","v":"Ghana"},"Central","Cape Coast",197985.6,{"$f":"IF(INTRO!$E$48=\"\",\"\",ROUND($D92*INTRO!$E$48,0))","v":20591},{"$f":"IF(INTRO!$E$49=\"\",\"\",ROUND($D92*INTRO!$E$49,0))","v":48506},{"$f":"IF(INTRO!$E$50=\"\",\"\",ROUND($D92*INTRO!$E$50,0))","v":128889},99,0,null,2,{"$f":"IF(INTRO!$E$37=\"Endemic\",IF($H92>0,IF($H92=4,\"Unknown\",IF($H92=99,\"Stopped\",$D92)),0),\"Not required\")","v":"Stopped"},0,{"$f":"IF(INTRO!$E$41=\"Endemic\", IF($J92>1, IF($J92=4, \"Unknown\", IF($J92=99, \"Surveillance\", E92)), 0),\"Not required\")","v":"Not required"},{"$f":"IF(INTRO!$E$41=\"Endemic\", IF($J92>1, IF($J92=4, \"Unknown\", IF($J92=99, \"Surveillance\", F92)), 0),\"Not required\")","v":"Not required"},{"$f":"IF(INTRO!$E$41=\"Endemic\", IF($J92>1, IF($J92=4, \"Unknown\", IF($J92=99, \"Surveillance\", ROUND(D92*INTRO!$E$51,0))), 0),\"Not required\")","v":"Not required"},{"$f":"IF(INTRO!$E$41=\"Endemic\", IF($J92>1, IF($J92=4, \"Unknown\", IF($J92=99, \"Surveillance\", SUM($N92:$P92))), 0),\"Not required\")","v":"Not required"},{"$f":"IF(INTRO!$E$43=\"Endemic\", IF($K92>1, IF($K92=4, \"Unknown\", IF($K92=99, \"Surveillance\", ROUND(E92*0.75,0))), 0),\"Not required\")","v":15443},{"$f":"IF(INTRO!$E$43=\"Endemic\", IF($K92>1, IF($K92=4, \"Unknown\", IF($K92=99, \"Surveillance\", F92)), 0),\"Not required\")","v":48506},0,{"$f":"IF(INTRO!$E$43=\"Endemic\", IF($K92>1, IF($K92=4, \"Unknown\", IF($K92=99, \"Surveillance\", SUM($R92:$T92))), 0),\"Not required\")","v":63949},0,0,null,1,null,null,null,null,null,null,null,null,21446,"Cape Coast"]
[{"$f":"IF(INTRO!$E$33<>0,INTRO!$E$33, \" \")","v":"Ghana"},"Central","Efutu",112373,{"$f":"IF(INTRO!$E$48=\"\",\"\",ROUND($D93*INTRO!$E$48,0))","v":11687},{"$f":"IF(INTRO!$E$49=\"\",\"\",ROUND($D93*INTRO!$E$49,0))","v":27531},{"$f":"IF(INTRO!$E$50=\"\",\"\",ROUND($D93*INTRO!$E$50,0))","v":73155},99,0,null,2,{"$f":"IF(INTRO!$E$37=\"Endemic\",IF($H93>0,IF($H93=4,\"Unknown\",IF($H93=99,\"Stopped\",$D93)),0),\"Not required\")","v":"Stopped"},0,{"$f":"IF(INTRO!$E$41=\"Endemic\", IF($J93>1, IF($J93=4, \"Unknown\", IF($J93=99, \"Surveillance\", E93)), 0),\"Not required\")","v":"Not required"},{"$f":"IF(INTRO!$E$41=\"Endemic\", IF($J93>1, IF($J93=4, \"Unknown\", IF($J93=99, \"Surveillance\", F93)), 0),\"Not required\")","v":"Not required"},{"$f":"IF(INTRO!$E$41=\"Endemic\", IF($J93>1, IF($J93=4, \"Unknown\", IF($J93=99, \"Surveillance\", ROUND(D93*INTRO!$E$51,0))), 0),\"Not required\")","v":"Not required"},{"$f":"IF(INTRO!$E$41=\"Endemic\", IF($J93>1, IF($J93=4, \"Unknown\", IF($J93=99, \"Surveillance\", SUM($N93:$P93))), 0),\"Not required\")","v":"Not required"},{"$f":"IF(INTRO!$E$43=\"Endemic\", IF($K93>1, IF($K93=4, \"Unknown\", IF($K93=99, \"Surveillance\", ROUND(E93*0.75,0))), 0),\"Not required\")","v":8765},{"$f":"IF(INTRO!$E$43=\"Endemic\", IF($K93>1, IF($K93=4, \"Unknown\", IF($K93=99, \"Surveillance\", F93)), 0),\"Not required\")","v":27531},0,{"$f":"IF(INTRO!$E$43=\"Endemic\", IF($K93>1, IF($K93=4, \"Unknown\", IF($K93=99, \"Surveillance\", SUM($R93:$T93))), 0),\"Not required\")","v":36296},0,0,null,1,null,null,null,null,null,null,null,null,21447,"Efutu"]
[{"$f":"IF(INTRO!$E$33<>0,INTRO!$E$33, \" \")","v":"Ghana"},"Central","Ekumfi",59149.2,{"$f":"IF(INTRO!$E$48=\"\",\"\",ROUND($D94*INTRO!$E$48,0))","v":6152},{"$f":"IF(INTRO!$E$49=\"\",\"\",ROUND($D94*INTRO!$E$49,0))","v":14492},{"$f":"IF(INTRO!$E$50=\"\",\"\",ROUND($D94*INTRO!$E$50,0))","v":38506},99,0,null,1,{"$f":"IF(INTRO!$E$37=\"Endemic\",IF($H94>0,IF($H94=4,\"Unknown\",IF($H94=99,\"Stopped\",$D94)),0),\"Not required\")","v":"Stopped"},0,{"$f":"IF(INTRO!$E$41=\"Endemic\", IF($J94>1, IF($J94=4, \"Unknown\", IF($J94=99, \"Surveillance\", E94)), 0),\"Not required\")","v":"Not required"},{"$f":"IF(INTRO!$E$41=\"Endemic\", IF($J94>1, IF($J94=4, \"Unknown\", IF($J94=99, \"Surveillance\", F94)), 0),\"Not required\")","v":"Not required"},{"$f":"IF(INTRO!$E$41=\"Endemic\", IF($J94>1, IF($J94=4, \"Unknown\", IF($J94=99, \"Surveillance\", ROUND(D94*INTRO!$E$51,0))), 0),\"Not required\")","v":"Not required"},{"$f":"IF(INTRO!$E$41=\"Endemic\", IF($J94>1, IF($J94=4, \"Unknown\", IF($J94=99, \"Surveillance\", SUM($N94:$P94))), 0),\"Not required\")","v":"Not required"},{"$f":"IF(INTRO!$E$43=\"Endemic\", IF($K94>1, IF($K94=4, \"Unknown\", IF($K94=99, \"Surveillance\", ROUND(E94*0.75,0))), 0),\"Not required\")","v":0},{"$f":"IF(INTRO!$E$43=\"Endemic\", IF($K94>1, IF($K94=4, \"Unknown\", IF($K94=99, \"Surveillance\", F94)), 0),\"Not required\")","v":0},{"$f":"IF(INTRO!$E$43=\"Endemic\", IF($K94>1, IF($K94=4, \"Unknown\", IF($K94=99, \"Surveillance\", G94)), 0),\"Not required\")","v":0},{"$f":"IF(INTRO!$E$43=\"Endemic\", IF($K94>1, IF($K94=4, \"Unknown\", IF($K94=99, \"Surveillance\", SUM($R94:$T94))), 0),\"Not required\")","v":0},0,0,null,1,null,null,null,null,null,null,null,null,21448,"Ekumfi"]
[{"$f":"IF(INTRO!$E$33<>0,INTRO!$E$33, \" \")","v":"Ghana"},"Central","Gomoa Central",87158.5,{"$f":"IF(INTRO!$E$48=\"\",\"\",ROUND($D95*INTRO!$E$48,0))","v":9064},{"$f":"IF(INTRO!$E$49=\"\",\"\",ROUND($D95*INTRO!$E$49,0))","v":21354},{"$f":"IF(INTRO!$E$50=\"\",\"\",ROUND($D95*INTRO!$E$50,0))","v":56740},99,0,null,2,{"$f":"IF(INTRO!$E$37=\"Endemic\",IF($H95>0,IF($H95=4,\"Unknown\",IF($H95=99,\"Stopped\",$D95)),0),\"Not required\")","v":"Stopped"},0,{"$f":"IF(INTRO!$E$41=\"Endemic\", IF($J95>1, IF($J95=4, \"Unknown\", IF($J95=99, \"Surveillance\", E95)), 0),\"Not required\")","v":"Not required"},{"$f":"IF(INTRO!$E$41=\"Endemic\", IF($J95>1, IF($J95=4, \"Unknown\", IF($J95=99, \"Surveillance\", F95)), 0),\"Not required\")","v":"Not required"},{"$f":"IF(INTRO!$E$41=\"Endemic\", IF($J95>1, IF($J95=4, \"Unknown\", IF($J95=99, \"Surveillance\", ROUND(D95*INTRO!$E$51,0))), 0),\"Not required\")","v":"Not required"},{"$f":"IF(INTRO!$E$41=\"Endemic\", IF($J95>1, IF($J95=4, \"Unknown\", IF($J95=99, \"Surveillance\", SUM($N95:$P95))), 0),\"Not required\")","v":"Not required"},{"$f":"IF(INTRO!$E$43=\"Endemic\", IF($K95>1, IF($K95=4, \"Unknown\", IF($K95=99, \"Surveillance\", ROUND(E95*0.75,0))), 0),\"Not required\")","v":6798},{"$f":"IF(INTRO!$E$43=\"Endemic\", IF($K95>1, IF($K95=4, \"Unknown\", IF($K95=99, \"Surveillance\", F95)), 0),\"Not required\")","v":21354},0,{"$f":"IF(INTRO!$E$43=\"Endemic\", IF($K95>1, IF($K95=4, \"Unknown\", IF($K95=99, \"Surveillance\", SUM($R95:$T95))), 0),\"Not required\")","v":28152},0,0,null,1,null,null,null,null,null,null,null,null,21631,"Gomoa Central"]
[{"$f":"IF(INTRO!$E$33<>0,INTRO!$E$33, \" \")","v":"Ghana"},"Central","Gomoa East",321798.59999999998,{"$f":"IF(INTRO!$E$48=\"\",\"\",ROUND($D96*INTRO!$E$48,0))","v":33467},{"$f":"IF(INTRO!$E$49=\"\",\"\",ROUND($D96*INTRO!$E$49,0))","v":78841},{"$f":"IF(INTRO!$E$50=\"\",\"\",ROUND($D96*INTRO!$E$50,0))","v":209491},99,0,null,2,{"$f":"IF(INTRO!$E$37=\"Endemic\",IF($H96>0,IF($H96=4,\"Unknown\",IF($H96=99,\"Stopped\",$D96)),0),\"Not required\")","v":"Stopped"},0,{"$f":"IF(INTRO!$E$41=\"Endemic\", IF($J96>1, IF($J96=4, \"Unknown\", IF($J96=99, \"Surveillance\", E96)), 0),\"Not required\")","v":"Not required"},{"$f":"IF(INTRO!$E$41=\"Endemic\", IF($J96>1, IF($J96=4, \"Unknown\", IF($J96=99, \"Surveillance\", F96)), 0),\"Not required\")","v":"Not required"},{"$f":"IF(INTRO!$E$41=\"Endemic\", IF($J96>1, IF($J96=4, \"Unknown\", IF($J96=99, \"Surveillance\", ROUND(D96*INTRO!$E$51,0))), 0),\"Not required\")","v":"Not required"},{"$f":"IF(INTRO!$E$41=\"Endemic\", IF($J96>1, IF($J96=4, \"Unknown\", IF($J96=99, \"Surveillance\", SUM($N96:$P96))), 0),\"Not required\")","v":"Not required"},{"$f":"IF(INTRO!$E$43=\"Endemic\", IF($K96>1, IF($K96=4, \"Unknown\", IF($K96=99, \"Surveillance\", ROUND(E96*0.75,0))), 0),\"Not required\")","v":25100},{"$f":"IF(INTRO!$E$43=\"Endemic\", IF($K96>1, IF($K96=4, \"Unknown\", IF($K96=99, \"Surveillance\", F96)), 0),\"Not required\")","v":78841},0,{"$f":"IF(INTRO!$E$43=\"Endemic\", IF($K96>1, IF($K96=4, \"Unknown\", IF($K96=99, \"Surveillance\", SUM($R96:$T96))), 0),\"Not required\")","v":103941},0,0,null,1,null,null,null,null,null,null,null,null,21632,"Gomoa East"]
[{"$f":"IF(INTRO!$E$33<>0,INTRO!$E$33, \" \")","v":"Ghana"},"Central","Gomoa West",135008.70000000001,{"$f":"IF(INTRO!$E$48=\"\",\"\",ROUND($D97*INTRO!$E$48,0))","v":14041},{"$f":"IF(INTRO!$E$49=\"\",\"\",ROUND($D97*INTRO!$E$49,0))","v":33077},{"$f":"IF(INTRO!$E$50=\"\",\"\",ROUND($D97*INTRO!$E$50,0))","v":87891},99,0,null,2,{"$f":"IF(INTRO!$E$37=\"Endemic\",IF($H97>0,IF($H97=4,\"Unknown\",IF($H97=99,\"Stopped\",$D97)),0),\"Not required\")","v":"Stopped"},0,{"$f":"IF(INTRO!$E$41=\"Endemic\", IF($J97>1, IF($J97=4, \"Unknown\", IF($J97=99, \"Surveillance\", E97)), 0),\"Not required\")","v":"Not required"},{"$f":"IF(INTRO!$E$41=\"Endemic\", IF($J97>1, IF($J97=4, \"Unknown\", IF($J97=99, \"Surveillance\", F97)), 0),\"Not required\")","v":"Not required"},{"$f":"IF(INTRO!$E$41=\"Endemic\", IF($J97>1, IF($J97=4, \"Unknown\", IF($J97=99, \"Surveillance\", ROUND(D97*INTRO!$E$51,0))), 0),\"Not required\")","v":"Not required"},{"$f":"IF(INTRO!$E$41=\"Endemic\", IF($J97>1, IF($J97=4, \"Unknown\", IF($J97=99, \"Surveillance\", SUM($N97:$P97))), 0),\"Not required\")","v":"Not required"},{"$f":"IF(INTRO!$E$43=\"Endemic\", IF($K97>1, IF($K97=4, \"Unknown\", IF($K97=99, \"Surveillance\", ROUND(E97*0.75,0))), 0),\"Not required\")","v":10531},{"$f":"IF(INTRO!$E$43=\"Endemic\", IF($K97>1, IF($K97=4, \"Unknown\", IF($K97=99, \"Surveillance\", F97)), 0),\"Not required\")","v":33077},0,{"$f":"IF(INTRO!$E$43=\"Endemic\", IF($K97>1, IF($K97=4, \"Unknown\", IF($K97=99, \"Surveillance\", SUM($R97:$T97))), 0),\"Not required\")","v":43608},0,0,null,1,null,null,null,null,null,null,null,null,21450,"Gomoa West"]
[{"$f":"IF(INTRO!$E$33<>0,INTRO!$E$33, \" \")","v":"Ghana"},"Central","Komenda-Edna-Eguafo-Abirem",173063.1,{"$f":"IF(INTRO!$E$48=\"\",\"\",ROUND($D98*INTRO!$E$48,0))","v":17999},{"$f":"IF(INTRO!$E$49=\"\",\"\",ROUND($D98*INTRO!$E$49,0))","v":42400},{"$f":"IF(INTRO!$E$50=\"\",\"\",ROUND($D98*INTRO!$E$50,0))","v":112664},99,0,null,2,{"$f":"IF(INTRO!$E$37=\"Endemic\",IF($H98>0,IF($H98=4,\"Unknown\",IF($H98=99,\"Stopped\",$D98)),0),\"Not required\")","v":"Stopped"},0,{"$f":"IF(INTRO!$E$41=\"Endemic\", IF($J98>1, IF($J98=4, \"Unknown\", IF($J98=99, \"Surveillance\", E98)), 0),\"Not required\")","v":"Not required"},{"$f":"IF(INTRO!$E$41=\"Endemic\", IF($J98>1, IF($J98=4, \"Unknown\", IF($J98=99, \"Surveillance\", F98)), 0),\"Not required\")","v":"Not required"},{"$f":"IF(INTRO!$E$41=\"Endemic\", IF($J98>1, IF($J98=4, \"Unknown\", IF($J98=99, \"Surveillance\", ROUND(D98*INTRO!$E$51,0))), 0),\"Not required\")","v":"Not required"},{"$f":"IF(INTRO!$E$41=\"Endemic\", IF($J98>1, IF($J98=4, \"Unknown\", IF($J98=99, \"Surveillance\", SUM($N98:$P98))), 0),\"Not required\")","v":"Not required"},{"$f":"IF(INTRO!$E$43=\"Endemic\", IF($K98>1, IF($K98=4, \"Unknown\", IF($K98=99, \"Surveillance\", ROUND(E98*0.75,0))), 0),\"Not required\")","v":13499},{"$f":"IF(INTRO!$E$43=\"Endemic\", IF($K98>1, IF($K98=4, \"Unknown\", IF($K98=99, \"Surveillance\", F98)), 0),\"Not required\")","v":42400},0,{"$f":"IF(INTRO!$E$43=\"Endemic\", IF($K98>1, IF($K98=4, \"Unknown\", IF($K98=99, \"Surveillance\", SUM($R98:$T98))), 0),\"Not required\")","v":55899},0,0,null,1,null,null,null,null,null,null,null,null,21451,"Komenda-Edina-Eguafo-Abirem"]
[{"$f":"IF(INTRO!$E$33<>0,INTRO!$E$33, \" \")","v":"Ghana"},"Central","Mfantsiman",176591,{"$f":"IF(INTRO!$E$48=\"\",\"\",ROUND($D99*INTRO!$E$48,0))","v":18365},{"$f":"IF(INTRO!$E$49=\"\",\"\",ROUND($D99*INTRO!$E$49,0))","v":43265},{"$f":"IF(INTRO!$E$50=\"\",\"\",ROUND($D99*INTRO!$E$50,0))","v":114961},99,0,null,1,{"$f":"IF(INTRO!$E$37=\"Endemic\",IF($H99>0,IF($H99=4,\"Unknown\",IF($H99=99,\"Stopped\",$D99)),0),\"Not required\")","v":"Stopped"},0,{"$f":"IF(INTRO!$E$41=\"Endemic\", IF($J99>1, IF($J99=4, \"Unknown\", IF($J99=99, \"Surveillance\", E99)), 0),\"Not required\")","v":"Not required"},{"$f":"IF(INTRO!$E$41=\"Endemic\", IF($J99>1, IF($J99=4, \"Unknown\", IF($J99=99, \"Surveillance\", F99)), 0),\"Not required\")","v":"Not required"},{"$f":"IF(INTRO!$E$41=\"Endemic\", IF($J99>1, IF($J99=4, \"Unknown\", IF($J99=99, \"Surveillance\", ROUND(D99*INTRO!$E$51,0))), 0),\"Not required\")","v":"Not required"},{"$f":"IF(INTRO!$E$41=\"Endemic\", IF($J99>1, IF($J99=4, \"Unknown\", IF($J99=99, \"Surveillance\", SUM($N99:$P99))), 0),\"Not required\")","v":"Not required"},{"$f":"IF(INTRO!$E$43=\"Endemic\", IF($K99>1, IF($K99=4, \"Unknown\", IF($K99=99, \"Surveillance\", ROUND(E99*0.75,0))), 0),\"Not required\")","v":0},{"$f":"IF(INTRO!$E$43=\"Endemic\", IF($K99>1, IF($K99=4, \"Unknown\", IF($K99=99, \"Surveillance\", F99)), 0),\"Not required\")","v":0},23454,{"$f":"IF(INTRO!$E$43=\"Endemic\", IF($K99>1, IF($K99=4, \"Unknown\", IF($K99=99, \"Surveillance\", SUM($R99:$T99))), 0),\"Not required\")","v":0},0,0,null,1,null,null,null,null,null,null,null,null,21453,"Mfansteman"]
[{"$f":"IF(INTRO!$E$33<>0,INTRO!$E$33, \" \")","v":"Ghana"},"Central","Twifo-Ati-Mokwa",105131.3,{"$f":"IF(INTRO!$E$48=\"\",\"\",ROUND($D100*INTRO!$E$48,0))","v":10934},{"$f":"IF(INTRO!$E$49=\"\",\"\",ROUND($D100*INTRO!$E$49,0))","v":25757},{"$f":"IF(INTRO!$E$50=\"\",\"\",ROUND($D100*INTRO!$E$50,0))","v":68440},99,1,null,2,{"$f":"IF(INTRO!$E$37=\"Endemic\",IF($H100>0,IF($H100=4,\"Unknown\",IF($H100=99,\"Stopped\",$D100)),0),\"Not required\")","v":"Stopped"},63852,{"$f":"IF(INTRO!$E$41=\"Endemic\", IF($J100>1, IF($J100=4, \"Unknown\", IF($J100=99, \"Surveillance\", E100)), 0),\"Not required\")","v":"Not required"},{"$f":"IF(INTRO!$E$41=\"Endemic\", IF($J100>1, IF($J100=4, \"Unknown\", IF($J100=99, \"Surveillance\", F100)), 0),\"Not required\")","v":"Not required"},{"$f":"IF(INTRO!$E$41=\"Endemic\", IF($J100>1, IF($J100=4, \"Unknown\", IF($J100=99, \"Surveillance\", ROUND(D100*INTRO!$E$51,0))), 0),\"Not required\")","v":"Not required"},{"$f":"IF(INTRO!$E$41=\"Endemic\", IF($J100>1, IF($J100=4, \"Unknown\", IF($J100=99, \"Surveillance\", SUM($N100:$P100))), 0),\"Not required\")","v":"Not required"},{"$f":"IF(INTRO!$E$43=\"Endemic\", IF($K100>1, IF($K100=4, \"Unknown\", IF($K100=99, \"Surveillance\", ROUND(E100*0.75,0))), 0),\"Not required\")","v":8201},{"$f":"IF(INTRO!$E$43=\"Endemic\", IF($K100>1, IF($K100=4, \"Unknown\", IF($K100=99, \"Surveillance\", F100)), 0),\"Not required\")","v":25757},0,{"$f":"IF(INTRO!$E$43=\"Endemic\", IF($K100>1, IF($K100=4, \"Unknown\", IF($K100=99, \"Surveillance\", SUM($R100:$T100))), 0),\"Not required\")","v":33958},0,2,null,1,null,null,null,null,null,null,null,null,21455,"Twifu-Ati Mokwa"]
[{"$f":"IF(INTRO!$E$33<>0,INTRO!$E$33, \" \")","v":"Ghana"},"Central","Twifo-Hemang Lower Denkyira",68879.3,{"$f":"IF(INTRO!$E$48=\"\",\"\",ROUND($D101*INTRO!$E$48,0))","v":7163},{"$f":"IF(INTRO!$E$49=\"\",\"\",ROUND($D101*INTRO!$E$49,0))","v":16875},{"$f":"IF(INTRO!$E$50=\"\",\"\",ROUND($D101*INTRO!$E$50,0))","v":44840},99,1,null,2,{"$f":"IF(INTRO!$E$37=\"Endemic\",IF($H101>0,IF($H101=4,\"Unknown\",IF($H101=99,\"Stopped\",$D101)),0),\"Not required\")","v":"Stopped"},57005,{"$f":"IF(INTRO!$E$41=\"Endemic\", IF($J101>1, IF($J101=4, \"Unknown\", IF($J101=99, \"Surveillance\", E101)), 0),\"Not required\")","v":"Not required"},{"$f":"IF(INTRO!$E$41=\"Endemic\", IF($J101>1, IF($J101=4, \"Unknown\", IF($J101=99, \"Surveillance\", F101)), 0),\"Not required\")","v":"Not required"},{"$f":"IF(INTRO!$E$41=\"Endemic\", IF($J101>1, IF($J101=4, \"Unknown\", IF($J101=99, \"Surveillance\", ROUND(D101*INTRO!$E$51,0))), 0),\"Not required\")","v":"Not required"},{"$f":"IF(INTRO!$E$41=\"Endemic\", IF($J101>1, IF($J101=4, \"Unknown\", IF($J101=99, \"Surveillance\", SUM($N101:$P101))), 0),\"Not required\")","v":"Not required"},{"$f":"IF(INTRO!$E$43=\"Endemic\", IF($K101>1, IF($K101=4, \"Unknown\", IF($K101=99, \"Surveillance\", ROUND(E101*0.75,0))), 0),\"Not required\")","v":5372},{"$f":"IF(INTRO!$E$43=\"Endemic\", IF($K101>1, IF($K101=4, \"Unknown\", IF($K101=99, \"Surveillance\", F101)), 0),\"Not required\")","v":16875},0,{"$f":"IF(INTRO!$E$43=\"Endemic\", IF($K101>1, IF($K101=4, \"Unknown\", IF($K101=99, \"Surveillance\", SUM($R101:$T101))), 0),\"Not required\")","v":22247},0,2,null,1,null,null,null,null,null,null,null,null,21454,"Lower Denkyira"]
[{"$f":"IF(INTRO!$E$33<>0,INTRO!$E$33, \" \")","v":"Ghana"},"Central","Upper Denkyira East",114815.5,{"$f":"IF(INTRO!$E$48=\"\",\"\",ROUND($D102*INTRO!$E$48,0))","v":11941},{"$f":"IF(INTRO!$E$49=\"\",\"\",ROUND($D102*INTRO!$E$49,0))","v":28130},{"$f":"IF(INTRO!$E$50=\"\",\"\",ROUND($D102*INTRO!$E$50,0))","v":74745},0,1,null,3,{"$f":"IF(INTRO!$E$37=\"Endemic\",IF($H102>0,IF($H102=4,\"Unknown\",IF($H102=99,\"Stopped\",$D102)),0),\"Not required\")","v":0},61569,{"$f":"IF(INTRO!$E$41=\"Endemic\", IF($J102>1, IF($J102=4, \"Unknown\", IF($J102=99, \"Surveillance\", E102)), 0),\"Not required\")","v":"Not required"},{"$f":"IF(INTRO!$E$41=\"Endemic\", IF($J102>1, IF($J102=4, \"Unknown\", IF($J102=99, \"Surveillance\", F102)), 0),\"Not required\")","v":"Not required"},{"$f":"IF(INTRO!$E$41=\"Endemic\", IF($J102>1, IF($J102=4, \"Unknown\", IF($J102=99, \"Surveillance\", ROUND(D102*INTRO!$E$51,0))), 0),\"Not required\")","v":"Not required"},{"$f":"IF(INTRO!$E$41=\"Endemic\", IF($J102>1, IF($J102=4, \"Unknown\", IF($J102=99, \"Surveillance\", SUM($N102:$P102))), 0),\"Not required\")","v":"Not required"},{"$f":"IF(INTRO!$E$43=\"Endemic\", IF($K102>1, IF($K102=4, \"Unknown\", IF($K102=99, \"Surveillance\", ROUND(E102*0.75,0))), 0),\"Not required\")","v":8956},{"$f":"IF(INTRO!$E$43=\"Endemic\", IF($K102>1, IF($K102=4, \"Unknown\", IF($K102=99, \"Surveillance\", F102)), 0),\"Not required\")","v":28130},44565,{"$f":"IF(INTRO!$E$43=\"Endemic\", IF($K102>1, IF($K102=4, \"Unknown\", IF($K102=99, \"Surveillance\", SUM($R102:$T102))), 0),\"Not required\")","v":81651},0,2,null,1,null,null,null,null,null,null,null,null,21456,"Upper Denkyira East"]
[{"$f":"IF(INTRO!$E$33<>0,INTRO!$E$33, \" \")","v":"Ghana"},"Central","Upper Denkyira West",94888.1,{"$f":"IF(INTRO!$E$48=\"\",\"\",ROUND($D103*INTRO!$E$48,0))","v":9868},{"$f":"IF(INTRO!$E$49=\"\",\"\",ROUND($D103*INTRO!$E$49,0))","v":23248},{"$f":"IF(INTRO!$E$50=\"\",\"\",ROUND($D103*INTRO!$E$50,0))","v":61772},0,1,null,2,{"$f":"IF(INTRO!$E$37=\"Endemic\",IF($H103>0,IF($H103=4,\"Unknown\",IF($H103=99,\"Stopped\",$D103)),0),\"Not required\")","v":0},61569,{"$f":"IF(INTRO!$E$41=\"Endemic\", IF($J103>1, IF($J103=4, \"Unknown\", IF($J103=99, \"Surveillance\", E103)), 0),\"Not required\")","v":"Not required"},{"$f":"IF(INTRO!$E$41=\"Endemic\", IF($J103>1, IF($J103=4, \"Unknown\", IF($J103=99, \"Surveillance\", F103)), 0),\"Not required\")","v":"Not required"},{"$f":"IF(INTRO!$E$41=\"Endemic\", IF($J103>1, IF($J103=4, \"Unknown\", IF($J103=99, \"Surveillance\", ROUND(D103*INTRO!$E$51,0))), 0),\"Not required\")","v":"Not required"},{"$f":"IF(INTRO!$E$41=\"Endemic\", IF($J103>1, IF($J103=4, \"Unknown\", IF($J103=99, \"Surveillance\", SUM($N103:$P103))), 0),\"Not required\")","v":"Not required"},{"$f":"IF(INTRO!$E$43=\"Endemic\", IF($K103>1, IF($K103=4, \"Unknown\", IF($K103=99, \"Surveillance\", ROUND(E103*0.75,0))), 0),\"Not required\")","v":7401},{"$f":"IF(INTRO!$E$43=\"Endemic\", IF($K103>1, IF($K103=4, \"Unknown\", IF($K103=99, \"Surveillance\", F103)), 0),\"Not required\")","v":23248},0,{"$f":"IF(INTRO!$E$43=\"Endemic\", IF($K103>1, IF($K103=4, \"Unknown\", IF($K103=99, \"Surveillance\", SUM($R103:$T103))), 0),\"Not required\")","v":30649},0,2,null,1,null,null,null,null,null,null,null,null,21457,"Upper Denkyira West"]
[{"$f":"IF(INTRO!$E$33<>0,INTRO!$E$33, \" \")","v":"Ghana"},"Eastern","Abuakwa North",95171.7,{"$f":"IF(INTRO!$E$48=\"\",\"\",ROUND($D104*INTRO!$E$48,0))","v":9898},{"$f":"IF(INTRO!$E$49=\"\",\"\",ROUND($D104*INTRO!$E$49,0))","v":23317},{"$f":"IF(INTRO!$E$50=\"\",\"\",ROUND($D104*INTRO!$E$50,0))","v":61957},0,1,null,2,{"$f":"IF(INTRO!$E$37=\"Endemic\",IF($H104>0,IF($H104=4,\"Unknown\",IF($H104=99,\"Stopped\",$D104)),0),\"Not required\")","v":0},70550,{"$f":"IF(INTRO!$E$41=\"Endemic\", IF($J104>1, IF($J104=4, \"Unknown\", IF($J104=99, \"Surveillance\", E104)), 0),\"Not required\")","v":"Not required"},{"$f":"IF(INTRO!$E$41=\"Endemic\", IF($J104>1, IF($J104=4, \"Unknown\", IF($J104=99, \"Surveillance\", F104)), 0),\"Not required\")","v":"Not required"},{"$f":"IF(INTRO!$E$41=\"Endemic\", IF($J104>1, IF($J104=4, \"Unknown\", IF($J104=99, \"Surveillance\", ROUND(D104*INTRO!$E$51,0))), 0),\"Not required\")","v":"Not required"},{"$f":"IF(INTRO!$E$41=\"Endemic\", IF($J104>1, IF($J104=4, \"Unknown\", IF($J104=99, \"Surveillance\", SUM($N104:$P104))), 0),\"Not required\")","v":"Not required"},{"$f":"IF(INTRO!$E$43=\"Endemic\", IF($K104>1, IF($K104=4, \"Unknown\", IF($K104=99, \"Surveillance\", ROUND(E104*0.75,0))), 0),\"Not required\")","v":7424},{"$f":"IF(INTRO!$E$43=\"Endemic\", IF($K104>1, IF($K104=4, \"Unknown\", IF($K104=99, \"Surveillance\", F104)), 0),\"Not required\")","v":23317},0,{"$f":"IF(INTRO!$E$43=\"Endemic\", IF($K104>1, IF($K104=4, \"Unknown\", IF($K104=99, \"Surveillance\", SUM($R104:$T104))), 0),\"Not required\")","v":30741},0,2,null,1,null,null,null,null,"Yes",null,null,null,21641,"Abuakwa North"]
[{"$f":"IF(INTRO!$E$33<>0,INTRO!$E$33, \" \")","v":"Ghana"},"Eastern","Abuakwa South",77087.5,{"$f":"IF(INTRO!$E$48=\"\",\"\",ROUND($D105*INTRO!$E$48,0))","v":8017},{"$f":"IF(INTRO!$E$49=\"\",\"\",ROUND($D105*INTRO!$E$49,0))","v":18886},{"$f":"IF(INTRO!$E$50=\"\",\"\",ROUND($D105*INTRO!$E$50,0))","v":50184},0,1,null,2,{"$f":"IF(INTRO!$E$37=\"Endemic\",IF($H105>0,IF($H105=4,\"Unknown\",IF($H105=99,\"Stopped\",$D105)),0),\"Not required\")","v":0},65325,{"$f":"IF(INTRO!$E$41=\"Endemic\", IF($J105>1, IF($J105=4, \"Unknown\", IF($J105=99, \"Surveillance\", E105)), 0),\"Not required\")","v":"Not required"},{"$f":"IF(INTRO!$E$41=\"Endemic\", IF($J105>1, IF($J105=4, \"Unknown\", IF($J105=99, \"Surveillance\", F105)), 0),\"Not required\")","v":"Not required"},{"$f":"IF(INTRO!$E$41=\"Endemic\", IF($J105>1, IF($J105=4, \"Unknown\", IF($J105=99, \"Surveillance\", ROUND(D105*INTRO!$E$51,0))), 0),\"Not required\")","v":"Not required"},{"$f":"IF(INTRO!$E$41=\"Endemic\", IF($J105>1, IF($J105=4, \"Unknown\", IF($J105=99, \"Surveillance\", SUM($N105:$P105))), 0),\"Not required\")","v":"Not required"},{"$f":"IF(INTRO!$E$43=\"Endemic\", IF($K105>1, IF($K105=4, \"Unknown\", IF($K105=99, \"Surveillance\", ROUND(E105*0.75,0))), 0),\"Not required\")","v":6013},{"$f":"IF(INTRO!$E$43=\"Endemic\", IF($K105>1, IF($K105=4, \"Unknown\", IF($K105=99, \"Surveillance\", F105)), 0),\"Not required\")","v":18886},0,{"$f":"IF(INTRO!$E$43=\"Endemic\", IF($K105>1, IF($K105=4, \"Unknown\", IF($K105=99, \"Surveillance\", SUM($R105:$T105))), 0),\"Not required\")","v":24899},0,2,null,1,null,null,null,null,"Yes",null,null,null,21642,"Abuakwa South"]
[{"$f":"IF(INTRO!$E$33<>0,INTRO!$E$33, \" \")","v":"Ghana"},"Eastern","Achiase",58739.6,{"$f":"IF(INTRO!$E$48=\"\",\"\",ROUND($D106*INTRO!$E$48,0))","v":6109},{"$f":"IF(INTRO!$E$49=\"\",\"\",ROUND($D106*INTRO!$E$49,0))","v":14391},{"$f":"IF(INTRO!$E$50=\"\",\"\",ROUND($D106*INTRO!$E$50,0))","v":38239},0,1,null,3,{"$f":"IF(INTRO!$E$37=\"Endemic\",IF($H106>0,IF($H106=4,\"Unknown\",IF($H106=99,\"Stopped\",$D106)),0),\"Not required\")","v":0},113485,{"$f":"IF(INTRO!$E$41=\"Endemic\", IF($J106>1, IF($J106=4, \"Unknown\", IF($J106=99, \"Surveillance\", E106)), 0),\"Not required\")","v":"Not required"},{"$f":"IF(INTRO!$E$41=\"Endemic\", IF($J106>1, IF($J106=4, \"Unknown\", IF($J106=99, \"Surveillance\", F106)), 0),\"Not required\")","v":"Not required"},{"$f":"IF(INTRO!$E$41=\"Endemic\", IF($J106>1, IF($J106=4, \"Unknown\", IF($J106=99, \"Surveillance\", ROUND(D106*INTRO!$E$51,0))), 0),\"Not required\")","v":"Not required"},{"$f":"IF(INTRO!$E$41=\"Endemic\", IF($J106>1, IF($J106=4, \"Unknown\", IF($J106=99, \"Surveillance\", SUM($N106:$P106))), 0),\"Not required\")","v":"Not required"},{"$f":"IF(INTRO!$E$43=\"Endemic\", IF($K106>1, IF($K106=4, \"Unknown\", IF($K106=99, \"Surveillance\", ROUND(E106*0.75,0))), 0),\"Not required\")","v":4582},{"$f":"IF(INTRO!$E$43=\"Endemic\", IF($K106>1, IF($K106=4, \"Unknown\", IF($K106=99, \"Surveillance\", F106)), 0),\"Not required\")","v":14391},38656,{"$f":"IF(INTRO!$E$43=\"Endemic\", IF($K106>1, IF($K106=4, \"Unknown\", IF($K106=99, \"Surveillance\", SUM($R106:$T106))), 0),\"Not required\")","v":57629},0,2,null,1,null,null,null,null,"Yes",null,null,null,21639,"Achiase"]
[{"$f":"IF(INTRO!$E$33<>0,INTRO!$E$33, \" \")","v":"Ghana"},"Eastern","Akwapim North",109784.7,{"$f":"IF(INTRO!$E$48=\"\",\"\",ROUND($D107*INTRO!$E$48,0))","v":11418},{"$f":"IF(INTRO!$E$49=\"\",\"\",ROUND($D107*INTRO!$E$49,0))","v":26897},{"$f":"IF(INTRO!$E$50=\"\",\"\",ROUND($D107*INTRO!$E$50,0))","v":71470},0,1,null,2,{"$f":"IF(INTRO!$E$37=\"Endemic\",IF($H107>0,IF($H107=4,\"Unknown\",IF($H107=99,\"Stopped\",$D107)),0),\"Not required\")","v":0},54556,{"$f":"IF(INTRO!$E$41=\"Endemic\", IF($J107>1, IF($J107=4, \"Unknown\", IF($J107=99, \"Surveillance\", E107)), 0),\"Not required\")","v":"Not required"},{"$f":"IF(INTRO!$E$41=\"Endemic\", IF($J107>1, IF($J107=4, \"Unknown\", IF($J107=99, \"Surveillance\", F107)), 0),\"Not required\")","v":"Not required"},{"$f":"IF(INTRO!$E$41=\"Endemic\", IF($J107>1, IF($J107=4, \"Unknown\", IF($J107=99, \"Surveillance\", ROUND(D107*INTRO!$E$51,0))), 0),\"Not required\")","v":"Not required"},{"$f":"IF(INTRO!$E$41=\"Endemic\", IF($J107>1, IF($J107=4, \"Unknown\", IF($J107=99, \"Surveillance\", SUM($N107:$P107))), 0),\"Not required\")","v":"Not required"},{"$f":"IF(INTRO!$E$43=\"Endemic\", IF($K107>1, IF($K107=4, \"Unknown\", IF($K107=99, \"Surveillance\", ROUND(E107*0.75,0))), 0),\"Not required\")","v":8564},{"$f":"IF(INTRO!$E$43=\"Endemic\", IF($K107>1, IF($K107=4, \"Unknown\", IF($K107=99, \"Surveillance\", F107)), 0),\"Not required\")","v":26897},0,{"$f":"IF(INTRO!$E$43=\"Endemic\", IF($K107>1, IF($K107=4, \"Unknown\", IF($K107=99, \"Surveillance\", SUM($R107:$T107))), 0),\"Not required\")","v":35461},0,2,null,1,null,null,null,null,"Yes",null,null,null,21634,"Akwapim North"]
[{"$f":"IF(INTRO!$E$33<>0,INTRO!$E$33, \" \")","v":"Ghana"},"Eastern","Akwapim South",80186.600000000006,{"$f":"IF(INTRO!$E$48=\"\",\"\",ROUND($D108*INTRO!$E$48,0))","v":8339},{"$f":"IF(INTRO!$E$49=\"\",\"\",ROUND($D108*INTRO!$E$49,0))","v":19646},{"$f":"IF(INTRO!$E$50=\"\",\"\",ROUND($D108*INTRO!$E$50,0))","v":52201},99,0,null,2,{"$f":"IF(INTRO!$E$37=\"Endemic\",IF($H108>0,IF($H108=4,\"Unknown\",IF($H108=99,\"Stopped\",$D108)),0),\"Not required\")","v":"Stopped"},0,{"$f":"IF(INTRO!$E$41=\"Endemic\", IF($J108>1, IF($J108=4, \"Unknown\", IF($J108=99, \"Surveillance\", E108)), 0),\"Not required\")","v":"Not required"},{"$f":"IF(INTRO!$E$41=\"Endemic\", IF($J108>1, IF($J108=4, \"Unknown\", IF($J108=99, \"Surveillance\", F108)), 0),\"Not required\")","v":"Not required"},{"$f":"IF(INTRO!$E$41=\"Endemic\", IF($J108>1, IF($J108=4, \"Unknown\", IF($J108=99, \"Surveillance\", ROUND(D108*INTRO!$E$51,0))), 0),\"Not required\")","v":"Not required"},{"$f":"IF(INTRO!$E$41=\"Endemic\", IF($J108>1, IF($J108=4, \"Unknown\", IF($J108=99, \"Surveillance\", SUM($N108:$P108))), 0),\"Not required\")","v":"Not required"},{"$f":"IF(INTRO!$E$43=\"Endemic\", IF($K108>1, IF($K108=4, \"Unknown\", IF($K108=99, \"Surveillance\", ROUND(E108*0.75,0))), 0),\"Not required\")","v":6254},{"$f":"IF(INTRO!$E$43=\"Endemic\", IF($K108>1, IF($K108=4, \"Unknown\", IF($K108=99, \"Surveillance\", F108)), 0),\"Not required\")","v":19646},0,{"$f":"IF(INTRO!$E$43=\"Endemic\", IF($K108>1, IF($K108=4, \"Unknown\", IF($K108=99, \"Surveillance\", SUM($R108:$T108))), 0),\"Not required\")","v":25900},0,0,null,1,null,null,null,null,"Yes",null,null,null,21459,"Akwapim South"]
[{"$f":"IF(INTRO!$E$33<>0,INTRO!$E$33, \" \")","v":"Ghana"},"Eastern","Akyemansa",94901.6,{"$f":"IF(INTRO!$E$48=\"\",\"\",ROUND($D109*INTRO!$E$48,0))","v":9870},{"$f":"IF(INTRO!$E$49=\"\",\"\",ROUND($D109*INTRO!$E$49,0))","v":23251},{"$f":"IF(INTRO!$E$50=\"\",\"\",ROUND($D109*INTRO!$E$50,0))","v":61781},0,1,null,2,{"$f":"IF(INTRO!$E$37=\"Endemic\",IF($H109>0,IF($H109=4,\"Unknown\",IF($H109=99,\"Stopped\",$D109)),0),\"Not required\")","v":0},103336,{"$f":"IF(INTRO!$E$41=\"Endemic\", IF($J109>1, IF($J109=4, \"Unknown\", IF($J109=99, \"Surveillance\", E109)), 0),\"Not required\")","v":"Not required"},{"$f":"IF(INTRO!$E$41=\"Endemic\", IF($J109>1, IF($J109=4, \"Unknown\", IF($J109=99, \"Surveillance\", F109)), 0),\"Not required\")","v":"Not required"},{"$f":"IF(INTRO!$E$41=\"Endemic\", IF($J109>1, IF($J109=4, \"Unknown\", IF($J109=99, \"Surveillance\", ROUND(D109*INTRO!$E$51,0))), 0),\"Not required\")","v":"Not required"},{"$f":"IF(INTRO!$E$41=\"Endemic\", IF($J109>1, IF($J109=4, \"Unknown\", IF($J109=99, \"Surveillance\", SUM($N109:$P109))), 0),\"Not required\")","v":"Not required"},{"$f":"IF(INTRO!$E$43=\"Endemic\", IF($K109>1, IF($K109=4, \"Unknown\", IF($K109=99, \"Surveillance\", ROUND(E109*0.75,0))), 0),\"Not required\")","v":7403},{"$f":"IF(INTRO!$E$43=\"Endemic\", IF($K109>1, IF($K109=4, \"Unknown\", IF($K109=99, \"Surveillance\", F109)), 0),\"Not required\")","v":23251},0,{"$f":"IF(INTRO!$E$43=\"Endemic\", IF($K109>1, IF($K109=4, \"Unknown\", IF($K109=99, \"Surveillance\", SUM($R109:$T109))), 0),\"Not required\")","v":30654},0,2,null,1,null,null,null,null,"Yes",null,null,null,21460,"Akyemansa"]
[{"$f":"IF(INTRO!$E$33<>0,INTRO!$E$33, \" \")","v":"Ghana"},"Eastern","Asene Manso Akroso",80787.100000000006,{"$f":"IF(INTRO!$E$48=\"\",\"\",ROUND($D110*INTRO!$E$48,0))","v":8402},{"$f":"IF(INTRO!$E$49=\"\",\"\",ROUND($D110*INTRO!$E$49,0))","v":19793},{"$f":"IF(INTRO!$E$50=\"\",\"\",ROUND($D110*INTRO!$E$50,0))","v":52592},0,1,null,2,{"$f":"IF(INTRO!$E$37=\"Endemic\",IF($H110>0,IF($H110=4,\"Unknown\",IF($H110=99,\"Stopped\",$D110)),0),\"Not required\")","v":0},77409,{"$f":"IF(INTRO!$E$41=\"Endemic\", IF($J110>1, IF($J110=4, \"Unknown\", IF($J110=99, \"Surveillance\", E110)), 0),\"Not required\")","v":"Not required"},{"$f":"IF(INTRO!$E$41=\"Endemic\", IF($J110>1, IF($J110=4, \"Unknown\", IF($J110=99, \"Surveillance\", F110)), 0),\"Not required\")","v":"Not required"},{"$f":"IF(INTRO!$E$41=\"Endemic\", IF($J110>1, IF($J110=4, \"Unknown\", IF($J110=99, \"Surveillance\", ROUND(D110*INTRO!$E$51,0))), 0),\"Not required\")","v":"Not required"},{"$f":"IF(INTRO!$E$41=\"Endemic\", IF($J110>1, IF($J110=4, \"Unknown\", IF($J110=99, \"Surveillance\", SUM($N110:$P110))), 0),\"Not required\")","v":"Not required"},{"$f":"IF(INTRO!$E$43=\"Endemic\", IF($K110>1, IF($K110=4, \"Unknown\", IF($K110=99, \"Surveillance\", ROUND(E110*0.75,0))), 0),\"Not required\")","v":6302},{"$f":"IF(INTRO!$E$43=\"Endemic\", IF($K110>1, IF($K110=4, \"Unknown\", IF($K110=99, \"Surveillance\", F110)), 0),\"Not required\")","v":19793},0,{"$f":"IF(INTRO!$E$43=\"Endemic\", IF($K110>1, IF($K110=4, \"Unknown\", IF($K110=99, \"Surveillance\", SUM($R110:$T110))), 0),\"Not required\")","v":26095},0,2,null,1,null,null,null,null,"Yes",null,null,null,21637,"Asene Manso Akroso"]
[{"$f":"IF(INTRO!$E$33<>0,INTRO!$E$33, \" \")","v":"Ghana"},"Eastern","Asuogyaman",105553.5,{"$f":"IF(INTRO!$E$48=\"\",\"\",ROUND($D111*INTRO!$E$48,0))","v":10978},{"$f":"IF(INTRO!$E$49=\"\",\"\",ROUND($D111*INTRO!$E$49,0))","v":25861},{"$f":"IF(INTRO!$E$50=\"\",\"\",ROUND($D111*INTRO!$E$50,0))","v":68715},0,0,null,2,{"$f":"IF(INTRO!$E$37=\"Endemic\",IF($H111>0,IF($H111=4,\"Unknown\",IF($H111=99,\"Stopped\",$D111)),0),\"Not required\")","v":0},0,{"$f":"IF(INTRO!$E$41=\"Endemic\", IF($J111>1, IF($J111=4, \"Unknown\", IF($J111=99, \"Surveillance\", E111)), 0),\"Not required\")","v":"Not required"},{"$f":"IF(INTRO!$E$41=\"Endemic\", IF($J111>1, IF($J111=4, \"Unknown\", IF($J111=99, \"Surveillance\", F111)), 0),\"Not required\")","v":"Not required"},{"$f":"IF(INTRO!$E$41=\"Endemic\", IF($J111>1, IF($J111=4, \"Unknown\", IF($J111=99, \"Surveillance\", ROUND(D111*INTRO!$E$51,0))), 0),\"Not required\")","v":"Not required"},{"$f":"IF(INTRO!$E$41=\"Endemic\", IF($J111>1, IF($J111=4, \"Unknown\", IF($J111=99, \"Surveillance\", SUM($N111:$P111))), 0),\"Not required\")","v":"Not required"},{"$f":"IF(INTRO!$E$43=\"Endemic\", IF($K111>1, IF($K111=4, \"Unknown\", IF($K111=99, \"Surveillance\", ROUND(E111*0.75,0))), 0),\"Not required\")","v":8234},{"$f":"IF(INTRO!$E$43=\"Endemic\", IF($K111>1, IF($K111=4, \"Unknown\", IF($K111=99, \"Surveillance\", F111)), 0),\"Not required\")","v":25861},0,{"$f":"IF(INTRO!$E$43=\"Endemic\", IF($K111>1, IF($K111=4, \"Unknown\", IF($K111=99, \"Surveillance\", SUM($R111:$T111))), 0),\"Not required\")","v":34095},0,0,null,1,null,null,null,null,"Yes",null,null,null,21461,"Asuogyaman"]
[{"$f":"IF(INTRO!$E$33<>0,INTRO!$E$33, \" \")","v":"Ghana"},"Eastern","Atiwa East",67390.7,{"$f":"IF(INTRO!$E$48=\"\",\"\",ROUND($D112*INTRO!$E$48,0))","v":7009},{"$f":"IF(INTRO!$E$49=\"\",\"\",ROUND($D112*INTRO!$E$49,0))","v":16511},{"$f":"IF(INTRO!$E$50=\"\",\"\",ROUND($D112*INTRO!$E$50,0))","v":43871},0,1,null,3,{"$f":"IF(INTRO!$E$37=\"Endemic\",IF($H112>0,IF($H112=4,\"Unknown\",IF($H112=99,\"Stopped\",$D112)),0),\"Not required\")","v":0},56456,{"$f":"IF(INTRO!$E$41=\"Endemic\", IF($J112>1, IF($J112=4, \"Unknown\", IF($J112=99, \"Surveillance\", E112)), 0),\"Not required\")","v":"Not required"},{"$f":"IF(INTRO!$E$41=\"Endemic\", IF($J112>1, IF($J112=4, \"Unknown\", IF($J112=99, \"Surveillance\", F112)), 0),\"Not required\")","v":"Not required"},{"$f":"IF(INTRO!$E$41=\"Endemic\", IF($J112>1, IF($J112=4, \"Unknown\", IF($J112=99, \"Surveillance\", ROUND(D112*INTRO!$E$51,0))), 0),\"Not required\")","v":"Not required"},{"$f":"IF(INTRO!$E$41=\"Endemic\", IF($J112>1, IF($J112=4, \"Unknown\", IF($J112=99, \"Surveillance\", SUM($N112:$P112))), 0),\"Not required\")","v":"Not required"},{"$f":"IF(INTRO!$E$43=\"Endemic\", IF($K112>1, IF($K112=4, \"Unknown\", IF($K112=99, \"Surveillance\", ROUND(E112*0.75,0))), 0),\"Not required\")","v":5257},{"$f":"IF(INTRO!$E$43=\"Endemic\", IF($K112>1, IF($K112=4, \"Unknown\", IF($K112=99, \"Surveillance\", F112)), 0),\"Not required\")","v":16511},24578,{"$f":"IF(INTRO!$E$43=\"Endemic\", IF($K112>1, IF($K112=4, \"Unknown\", IF($K112=99, \"Surveillance\", SUM($R112:$T112))), 0),\"Not required\")","v":46346},0,2,null,1,null,null,null,null,"Yes",null,null,null,21635,"Atiwa East"]
[{"$f":"IF(INTRO!$E$33<>0,INTRO!$E$33, \" \")","v":"Ghana"},"Eastern","Atiwa West",63817.3,{"$f":"IF(INTRO!$E$48=\"\",\"\",ROUND($D113*INTRO!$E$48,0))","v":6637},{"$f":"IF(INTRO!$E$49=\"\",\"\",ROUND($D113*INTRO!$E$49,0))","v":15635},{"$f":"IF(INTRO!$E$50=\"\",\"\",ROUND($D113*INTRO!$E$50,0))","v":41545},0,1,null,3,{"$f":"IF(INTRO!$E$37=\"Endemic\",IF($H113>0,IF($H113=4,\"Unknown\",IF($H113=99,\"Stopped\",$D113)),0),\"Not required\")","v":0},36254,{"$f":"IF(INTRO!$E$41=\"Endemic\", IF($J113>1, IF($J113=4, \"Unknown\", IF($J113=99, \"Surveillance\", E113)), 0),\"Not required\")","v":"Not required"},{"$f":"IF(INTRO!$E$41=\"Endemic\", IF($J113>1, IF($J113=4, \"Unknown\", IF($J113=99, \"Surveillance\", F113)), 0),\"Not required\")","v":"Not required"},{"$f":"IF(INTRO!$E$41=\"Endemic\", IF($J113>1, IF($J113=4, \"Unknown\", IF($J113=99, \"Surveillance\", ROUND(D113*INTRO!$E$51,0))), 0),\"Not required\")","v":"Not required"},{"$f":"IF(INTRO!$E$41=\"Endemic\", IF($J113>1, IF($J113=4, \"Unknown\", IF($J113=99, \"Surveillance\", SUM($N113:$P113))), 0),\"Not required\")","v":"Not required"},{"$f":"IF(INTRO!$E$43=\"Endemic\", IF($K113>1, IF($K113=4, \"Unknown\", IF($K113=99, \"Surveillance\", ROUND(E113*0.75,0))), 0),\"Not required\")","v":4978},{"$f":"IF(INTRO!$E$43=\"Endemic\", IF($K113>1, IF($K113=4, \"Unknown\", IF($K113=99, \"Surveillance\", F113)), 0),\"Not required\")","v":15635},28659,{"$f":"IF(INTRO!$E$43=\"Endemic\", IF($K113>1, IF($K113=4, \"Unknown\", IF($K113=99, \"Surveillance\", SUM($R113:$T113))), 0),\"Not required\")","v":49272},0,2,null,1,null,null,null,null,"Yes",null,null,null,21636,"Atiwa West"]
[{"$f":"IF(INTRO!$E$33<>0,INTRO!$E$33, \" \")","v":"Ghana"},"Eastern","Ayensuano",98608.5,{"$f":"IF(INTRO!$E$48=\"\",\"\",ROUND($D114*INTRO!$E$48,0))","v":10255},{"$f":"IF(INTRO!$E$49=\"\",\"\",ROUND($D114*INTRO!$E$49,0))","v":24159},{"$f":"IF(INTRO!$E$50=\"\",\"\",ROUND($D114*INTRO!$E$50,0))","v":64194},99,0,null,2,{"$f":"IF(INTRO!$E$37=\"Endemic\",IF($H114>0,IF($H114=4,\"Unknown\",IF($H114=99,\"Stopped\",$D114)),0),\"Not required\")","v":"Stopped"},0,{"$f":"IF(INTRO!$E$41=\"Endemic\", IF($J114>1, IF($J114=4, \"Unknown\", IF($J114=99, \"Surveillance\", E114)), 0),\"Not required\")","v":"Not required"},{"$f":"IF(INTRO!$E$41=\"Endemic\", IF($J114>1, IF($J114=4, \"Unknown\", IF($J114=99, \"Surveillance\", F114)), 0),\"Not required\")","v":"Not required"},{"$f":"IF(INTRO!$E$41=\"Endemic\", IF($J114>1, IF($J114=4, \"Unknown\", IF($J114=99, \"Surveillance\", ROUND(D114*INTRO!$E$51,0))), 0),\"Not required\")","v":"Not required"},{"$f":"IF(INTRO!$E$41=\"Endemic\", IF($J114>1, IF($J114=4, \"Unknown\", IF($J114=99, \"Surveillance\", SUM($N114:$P114))), 0),\"Not required\")","v":"Not required"},{"$f":"IF(INTRO!$E$43=\"Endemic\", IF($K114>1, IF($K114=4, \"Unknown\", IF($K114=99, \"Surveillance\", ROUND(E114*0.75,0))), 0),\"Not required\")","v":7691},{"$f":"IF(INTRO!$E$43=\"Endemic\", IF($K114>1, IF($K114=4, \"Unknown\", IF($K114=99, \"Surveillance\", F114)), 0),\"Not required\")","v":24159},34562,{"$f":"IF(INTRO!$E$43=\"Endemic\", IF($K114>1, IF($K114=4, \"Unknown\", IF($K114=99, \"Surveillance\", SUM($R114:$T114))), 0),\"Not required\")","v":66412},0,0,null,1,null,null,null,null,"Yes",null,null,null,21463,"Ayensuano"]
[{"$f":"IF(INTRO!$E$33<>0,INTRO!$E$33, \" \")","v":"Ghana"},"Eastern","Birim Central",79540.399999999994,{"$f":"IF(INTRO!$E$48=\"\",\"\",ROUND($D115*INTRO!$E$48,0))","v":8272},{"$f":"IF(INTRO!$E$49=\"\",\"\",ROUND($D115*INTRO!$E$49,0))","v":19487},{"$f":"IF(INTRO!$E$50=\"\",\"\",ROUND($D115*INTRO!$E$50,0))","v":51781},0,1,null,2,{"$f":"IF(INTRO!$E$37=\"Endemic\",IF($H115>0,IF($H115=4,\"Unknown\",IF($H115=99,\"Stopped\",$D115)),0),\"Not required\")","v":0},76247,{"$f":"IF(INTRO!$E$41=\"Endemic\", IF($J115>1, IF($J115=4, \"Unknown\", IF($J115=99, \"Surveillance\", E115)), 0),\"Not required\")","v":"Not required"},{"$f":"IF(INTRO!$E$41=\"Endemic\", IF($J115>1, IF($J115=4, \"Unknown\", IF($J115=99, \"Surveillance\", F115)), 0),\"Not required\")","v":"Not required"},{"$f":"IF(INTRO!$E$41=\"Endemic\", IF($J115>1, IF($J115=4, \"Unknown\", IF($J115=99, \"Surveillance\", ROUND(D115*INTRO!$E$51,0))), 0),\"Not required\")","v":"Not required"},{"$f":"IF(INTRO!$E$41=\"Endemic\", IF($J115>1, IF($J115=4, \"Unknown\", IF($J115=99, \"Surveillance\", SUM($N115:$P115))), 0),\"Not required\")","v":"Not required"},{"$f":"IF(INTRO!$E$43=\"Endemic\", IF($K115>1, IF($K115=4, \"Unknown\", IF($K115=99, \"Surveillance\", ROUND(E115*0.75,0))), 0),\"Not required\")","v":6204},{"$f":"IF(INTRO!$E$43=\"Endemic\", IF($K115>1, IF($K115=4, \"Unknown\", IF($K115=99, \"Surveillance\", F115)), 0),\"Not required\")","v":19487},0,{"$f":"IF(INTRO!$E$43=\"Endemic\", IF($K115>1, IF($K115=4, \"Unknown\", IF($K115=99, \"Surveillance\", SUM($R115:$T115))), 0),\"Not required\")","v":25691},0,2,null,1,null,null,null,null,"Yes",null,null,null,21638,"Birim Central"]
[{"$f":"IF(INTRO!$E$33<>0,INTRO!$E$33, \" \")","v":"Ghana"},"Eastern","Birim North",86177.5,{"$f":"IF(INTRO!$E$48=\"\",\"\",ROUND($D116*INTRO!$E$48,0))","v":8962},{"$f":"IF(INTRO!$E$49=\"\",\"\",ROUND($D116*INTRO!$E$49,0))","v":21113},{"$f":"IF(INTRO!$E$50=\"\",\"\",ROUND($D116*INTRO!$E$50,0))","v":56102},0,1,null,2,{"$f":"IF(INTRO!$E$37=\"Endemic\",IF($H116>0,IF($H116=4,\"Unknown\",IF($H116=99,\"Stopped\",$D116)),0),\"Not required\")","v":0},83730,{"$f":"IF(INTRO!$E$41=\"Endemic\", IF($J116>1, IF($J116=4, \"Unknown\", IF($J116=99, \"Surveillance\", E116)), 0),\"Not required\")","v":"Not required"},{"$f":"IF(INTRO!$E$41=\"Endemic\", IF($J116>1, IF($J116=4, \"Unknown\", IF($J116=99, \"Surveillance\", F116)), 0),\"Not required\")","v":"Not required"},{"$f":"IF(INTRO!$E$41=\"Endemic\", IF($J116>1, IF($J116=4, \"Unknown\", IF($J116=99, \"Surveillance\", ROUND(D116*INTRO!$E$51,0))), 0),\"Not required\")","v":"Not required"},{"$f":"IF(INTRO!$E$41=\"Endemic\", IF($J116>1, IF($J116=4, \"Unknown\", IF($J116=99, \"Surveillance\", SUM($N116:$P116))), 0),\"Not required\")","v":"Not required"},{"$f":"IF(INTRO!$E$43=\"Endemic\", IF($K116>1, IF($K116=4, \"Unknown\", IF($K116=99, \"Surveillance\", ROUND(E116*0.75,0))), 0),\"Not required\")","v":6722},{"$f":"IF(INTRO!$E$43=\"Endemic\", IF($K116>1, IF($K116=4, \"Unknown\", IF($K116=99, \"Surveillance\", F116)), 0),\"Not required\")","v":21113},0,{"$f":"IF(INTRO!$E$43=\"Endemic\", IF($K116>1, IF($K116=4, \"Unknown\", IF($K116=99, \"Surveillance\", SUM($R116:$T116))), 0),\"Not required\")","v":27835},0,2,null,1,null,null,null,null,"Yes",null,null,null,21465,"Birim North"]
[{"$f":"IF(INTRO!$E$33<>0,INTRO!$E$33, \" \")","v":"Ghana"},"Eastern","Birim South",37167.199999999997,{"$f":"IF(INTRO!$E$48=\"\",\"\",ROUND($D117*INTRO!$E$48,0))","v":3865},{"$f":"IF(INTRO!$E$49=\"\",\"\",ROUND($D117*INTRO!$E$49,0))","v":9106},{"$f":"IF(INTRO!$E$50=\"\",\"\",ROUND($D117*INTRO!$E$50,0))","v":24196},0,1,null,3,{"$f":"IF(INTRO!$E$37=\"Endemic\",IF($H117>0,IF($H117=4,\"Unknown\",IF($H117=99,\"Stopped\",$D117)),0),\"Not required\")","v":0},48667,{"$f":"IF(INTRO!$E$41=\"Endemic\", IF($J117>1, IF($J117=4, \"Unknown\", IF($J117=99, \"Surveillance\", E117)), 0),\"Not required\")","v":"Not required"},{"$f":"IF(INTRO!$E$41=\"Endemic\", IF($J117>1, IF($J117=4, \"Unknown\", IF($J117=99, \"Surveillance\", F117)), 0),\"Not required\")","v":"Not required"},{"$f":"IF(INTRO!$E$41=\"Endemic\", IF($J117>1, IF($J117=4, \"Unknown\", IF($J117=99, \"Surveillance\", ROUND(D117*INTRO!$E$51,0))), 0),\"Not required\")","v":"Not required"},{"$f":"IF(INTRO!$E$41=\"Endemic\", IF($J117>1, IF($J117=4, \"Unknown\", IF($J117=99, \"Surveillance\", SUM($N117:$P117))), 0),\"Not required\")","v":"Not required"},{"$f":"IF(INTRO!$E$43=\"Endemic\", IF($K117>1, IF($K117=4, \"Unknown\", IF($K117=99, \"Surveillance\", ROUND(E117*0.75,0))), 0),\"Not required\")","v":2899},{"$f":"IF(INTRO!$E$43=\"Endemic\", IF($K117>1, IF($K117=4, \"Unknown\", IF($K117=99, \"Surveillance\", F117)), 0),\"Not required\")","v":9106},16598,{"$f":"IF(INTRO!$E$43=\"Endemic\", IF($K117>1, IF($K117=4, \"Unknown\", IF($K117=99, \"Surveillance\", SUM($R117:$T117))), 0),\"Not required\")","v":28603},0,2,null,1,null,null,null,null,"Yes",null,null,null,21640,"Birim South"]
[{"$f":"IF(INTRO!$E$33<>0,INTRO!$E$33, \" \")","v":"Ghana"},"Eastern","Denkyembour",80298.2,{"$f":"IF(INTRO!$E$48=\"\",\"\",ROUND($D118*INTRO!$E$48,0))","v":8351},{"$f":"IF(INTRO!$E$49=\"\",\"\",ROUND($D118*INTRO!$E$49,0))","v":19673},{"$f":"IF(INTRO!$E$50=\"\",\"\",ROUND($D118*INTRO!$E$50,0))","v":52274},0,0,null,3,{"$f":"IF(INTRO!$E$37=\"Endemic\",IF($H118>0,IF($H118=4,\"Unknown\",IF($H118=99,\"Stopped\",$D118)),0),\"Not required\")","v":0},0,{"$f":"IF(INTRO!$E$41=\"Endemic\", IF($J118>1, IF($J118=4, \"Unknown\", IF($J118=99, \"Surveillance\", E118)), 0),\"Not required\")","v":"Not required"},{"$f":"IF(INTRO!$E$41=\"Endemic\", IF($J118>1, IF($J118=4, \"Unknown\", IF($J118=99, \"Surveillance\", F118)), 0),\"Not required\")","v":"Not required"},{"$f":"IF(INTRO!$E$41=\"Endemic\", IF($J118>1, IF($J118=4, \"Unknown\", IF($J118=99, \"Surveillance\", ROUND(D118*INTRO!$E$51,0))), 0),\"Not required\")","v":"Not required"},{"$f":"IF(INTRO!$E$41=\"Endemic\", IF($J118>1, IF($J118=4, \"Unknown\", IF($J118=99, \"Surveillance\", SUM($N118:$P118))), 0),\"Not required\")","v":"Not required"},{"$f":"IF(INTRO!$E$43=\"Endemic\", IF($K118>1, IF($K118=4, \"Unknown\", IF($K118=99, \"Surveillance\", ROUND(E118*0.75,0))), 0),\"Not required\")","v":6263},{"$f":"IF(INTRO!$E$43=\"Endemic\", IF($K118>1, IF($K118=4, \"Unknown\", IF($K118=99, \"Surveillance\", F118)), 0),\"Not required\")","v":19673},28965,{"$f":"IF(INTRO!$E$43=\"Endemic\", IF($K118>1, IF($K118=4, \"Unknown\", IF($K118=99, \"Surveillance\", SUM($R118:$T118))), 0),\"Not required\")","v":54901},0,0,null,1,null,null,null,null,"Yes",null,null,null,21468,"Denkyembour"]
[{"$f":"IF(INTRO!$E$33<>0,INTRO!$E$33, \" \")","v":"Ghana"},"Eastern","Fanteakwa North",59405.7,{"$f":"IF(INTRO!$E$48=\"\",\"\",ROUND($D119*INTRO!$E$48,0))","v":6178},{"$f":"IF(INTRO!$E$49=\"\",\"\",ROUND($D119*INTRO!$E$49,0))","v":14554},{"$f":"IF(INTRO!$E$50=\"\",\"\",ROUND($D119*INTRO!$E$50,0))","v":38673},0,1,null,3,{"$f":"IF(INTRO!$E$37=\"Endemic\",IF($H119>0,IF($H119=4,\"Unknown\",IF($H119=99,\"Stopped\",$D119)),0),\"Not required\")","v":0},66417,{"$f":"IF(INTRO!$E$41=\"Endemic\", IF($J119>1, IF($J119=4, \"Unknown\", IF($J119=99, \"Surveillance\", E119)), 0),\"Not required\")","v":"Not required"},{"$f":"IF(INTRO!$E$41=\"Endemic\", IF($J119>1, IF($J119=4, \"Unknown\", IF($J119=99, \"Surveillance\", F119)), 0),\"Not required\")","v":"Not required"},{"$f":"IF(INTRO!$E$41=\"Endemic\", IF($J119>1, IF($J119=4, \"Unknown\", IF($J119=99, \"Surveillance\", ROUND(D119*INTRO!$E$51,0))), 0),\"Not required\")","v":"Not required"},{"$f":"IF(INTRO!$E$41=\"Endemic\", IF($J119>1, IF($J119=4, \"Unknown\", IF($J119=99, \"Surveillance\", SUM($N119:$P119))), 0),\"Not required\")","v":"Not required"},{"$f":"IF(INTRO!$E$43=\"Endemic\", IF($K119>1, IF($K119=4, \"Unknown\", IF($K119=99, \"Surveillance\", ROUND(E119*0.75,0))), 0),\"Not required\")","v":4634},{"$f":"IF(INTRO!$E$43=\"Endemic\", IF($K119>1, IF($K119=4, \"Unknown\", IF($K119=99, \"Surveillance\", F119)), 0),\"Not required\")","v":14554},36568,{"$f":"IF(INTRO!$E$43=\"Endemic\", IF($K119>1, IF($K119=4, \"Unknown\", IF($K119=99, \"Surveillance\", SUM($R119:$T119))), 0),\"Not required\")","v":55756},0,2,null,1,null,null,null,null,"Yes",null,null,null,21643,"Fanteakwa North"]
[{"$f":"IF(INTRO!$E$33<>0,INTRO!$E$33, \" \")","v":"Ghana"},"Eastern","Fanteakwa South",56952.7,{"$f":"IF(INTRO!$E$48=\"\",\"\",ROUND($D120*INTRO!$E$48,0))","v":5923},{"$f":"IF(INTRO!$E$49=\"\",\"\",ROUND($D120*INTRO!$E$49,0))","v":13953},{"$f":"IF(INTRO!$E$50=\"\",\"\",ROUND($D120*INTRO!$E$50,0))","v":37076},0,1,null,3,{"$f":"IF(INTRO!$E$37=\"Endemic\",IF($H120>0,IF($H120=4,\"Unknown\",IF($H120=99,\"Stopped\",$D120)),0),\"Not required\")","v":0},50488,{"$f":"IF(INTRO!$E$41=\"Endemic\", IF($J120>1, IF($J120=4, \"Unknown\", IF($J120=99, \"Surveillance\", E120)), 0),\"Not required\")","v":"Not required"},{"$f":"IF(INTRO!$E$41=\"Endemic\", IF($J120>1, IF($J120=4, \"Unknown\", IF($J120=99, \"Surveillance\", F120)), 0),\"Not required\")","v":"Not required"},{"$f":"IF(INTRO!$E$41=\"Endemic\", IF($J120>1, IF($J120=4, \"Unknown\", IF($J120=99, \"Surveillance\", ROUND(D120*INTRO!$E$51,0))), 0),\"Not required\")","v":"Not required"},{"$f":"IF(INTRO!$E$41=\"Endemic\", IF($J120>1, IF($J120=4, \"Unknown\", IF($J120=99, \"Surveillance\", SUM($N120:$P120))), 0),\"Not required\")","v":"Not required"},{"$f":"IF(INTRO!$E$43=\"Endemic\", IF($K120>1, IF($K120=4, \"Unknown\", IF($K120=99, \"Surveillance\", ROUND(E120*0.75,0))), 0),\"Not required\")","v":4442},{"$f":"IF(INTRO!$E$43=\"Endemic\", IF($K120>1, IF($K120=4, \"Unknown\", IF($K120=99, \"Surveillance\", F120)), 0),\"Not required\")","v":13953},15465,{"$f":"IF(INTRO!$E$43=\"Endemic\", IF($K120>1, IF($K120=4, \"Unknown\", IF($K120=99, \"Surveillance\", SUM($R120:$T120))), 0),\"Not required\")","v":33860},0,2,null,1,null,null,null,null,"Yes",null,null,null,21644,"Fanteakwa South"]
[{"$f":"IF(INTRO!$E$33<>0,INTRO!$E$33, \" \")","v":"Ghana"},"Eastern","Kwaebibirem",126863,{"$f":"IF(INTRO!$E$48=\"\",\"\",ROUND($D121*INTRO!$E$48,0))","v":13194},{"$f":"IF(INTRO!$E$49=\"\",\"\",ROUND($D121*INTRO!$E$49,0))","v":31081},{"$f":"IF(INTRO!$E$50=\"\",\"\",ROUND($D121*INTRO!$E$50,0))","v":82588},0,1,null,3,{"$f":"IF(INTRO!$E$37=\"Endemic\",IF($H121>0,IF($H121=4,\"Unknown\",IF($H121=99,\"Stopped\",$D121)),0),\"Not required\")","v":0},85157,{"$f":"IF(INTRO!$E$41=\"Endemic\", IF($J121>1, IF($J121=4, \"Unknown\", IF($J121=99, \"Surveillance\", E121)), 0),\"Not required\")","v":"Not required"},{"$f":"IF(INTRO!$E$41=\"Endemic\", IF($J121>1, IF($J121=4, \"Unknown\", IF($J121=99, \"Surveillance\", F121)), 0),\"Not required\")","v":"Not required"},{"$f":"IF(INTRO!$E$41=\"Endemic\", IF($J121>1, IF($J121=4, \"Unknown\", IF($J121=99, \"Surveillance\", ROUND(D121*INTRO!$E$51,0))), 0),\"Not required\")","v":"Not required"},{"$f":"IF(INTRO!$E$41=\"Endemic\", IF($J121>1, IF($J121=4, \"Unknown\", IF($J121=99, \"Surveillance\", SUM($N121:$P121))), 0),\"Not required\")","v":"Not required"},{"$f":"IF(INTRO!$E$43=\"Endemic\", IF($K121>1, IF($K121=4, \"Unknown\", IF($K121=99, \"Surveillance\", ROUND(E121*0.75,0))), 0),\"Not required\")","v":9896},{"$f":"IF(INTRO!$E$43=\"Endemic\", IF($K121>1, IF($K121=4, \"Unknown\", IF($K121=99, \"Surveillance\", F121)), 0),\"Not required\")","v":31081},23656,{"$f":"IF(INTRO!$E$43=\"Endemic\", IF($K121>1, IF($K121=4, \"Unknown\", IF($K121=99, \"Surveillance\", SUM($R121:$T121))), 0),\"Not required\")","v":64633},0,2,null,1,null,null,null,null,"Yes",null,null,null,21471,"Kwaebibirem"]
[{"$f":"IF(INTRO!$E$33<>0,INTRO!$E$33, \" \")","v":"Ghana"},"Eastern","Kwahu Afram Plains North",69379.600000000006,{"$f":"IF(INTRO!$E$48=\"\",\"\",ROUND($D122*INTRO!$E$48,0))","v":7215},{"$f":"IF(INTRO!$E$49=\"\",\"\",ROUND($D122*INTRO!$E$49,0))","v":16998},{"$f":"IF(INTRO!$E$50=\"\",\"\",ROUND($D122*INTRO!$E$50,0))","v":45166},0,1,null,3,{"$f":"IF(INTRO!$E$37=\"Endemic\",IF($H122>0,IF($H122=4,\"Unknown\",IF($H122=99,\"Stopped\",$D122)),0),\"Not required\")","v":0},32514,{"$f":"IF(INTRO!$E$41=\"Endemic\", IF($J122>1, IF($J122=4, \"Unknown\", IF($J122=99, \"Surveillance\", E122)), 0),\"Not required\")","v":"Not required"},{"$f":"IF(INTRO!$E$41=\"Endemic\", IF($J122>1, IF($J122=4, \"Unknown\", IF($J122=99, \"Surveillance\", F122)), 0),\"Not required\")","v":"Not required"},{"$f":"IF(INTRO!$E$41=\"Endemic\", IF($J122>1, IF($J122=4, \"Unknown\", IF($J122=99, \"Surveillance\", ROUND(D122*INTRO!$E$51,0))), 0),\"Not required\")","v":"Not required"},{"$f":"IF(INTRO!$E$41=\"Endemic\", IF($J122>1, IF($J122=4, \"Unknown\", IF($J122=99, \"Surveillance\", SUM($N122:$P122))), 0),\"Not required\")","v":"Not required"},{"$f":"IF(INTRO!$E$43=\"Endemic\", IF($K122>1, IF($K122=4, \"Unknown\", IF($K122=99, \"Surveillance\", ROUND(E122*0.75,0))), 0),\"Not required\")","v":5411},{"$f":"IF(INTRO!$E$43=\"Endemic\", IF($K122>1, IF($K122=4, \"Unknown\", IF($K122=99, \"Surveillance\", F122)), 0),\"Not required\")","v":16998},46523,{"$f":"IF(INTRO!$E$43=\"Endemic\", IF($K122>1, IF($K122=4, \"Unknown\", IF($K122=99, \"Surveillance\", SUM($R122:$T122))), 0),\"Not required\")","v":68932},0,2,null,1,null,null,null,null,null,null,null,null,21472,"Kwahu Afram Plains North"]
[{"$f":"IF(INTRO!$E$33<>0,INTRO!$E$33, \" \")","v":"Ghana"},"Eastern","Kwahu Afram Plains South",77142.7,{"$f":"IF(INTRO!$E$48=\"\",\"\",ROUND($D123*INTRO!$E$48,0))","v":8023},{"$f":"IF(INTRO!$E$49=\"\",\"\",ROUND($D123*INTRO!$E$49,0))","v":18900},{"$f":"IF(INTRO!$E$50=\"\",\"\",ROUND($D123*INTRO!$E$50,0))","v":50220},0,1,null,3,{"$f":"IF(INTRO!$E$37=\"Endemic\",IF($H123>0,IF($H123=4,\"Unknown\",IF($H123=99,\"Stopped\",$D123)),0),\"Not required\")","v":0},17017,{"$f":"IF(INTRO!$E$41=\"Endemic\", IF($J123>1, IF($J123=4, \"Unknown\", IF($J123=99, \"Surveillance\", E123)), 0),\"Not required\")","v":"Not required"},{"$f":"IF(INTRO!$E$41=\"Endemic\", IF($J123>1, IF($J123=4, \"Unknown\", IF($J123=99, \"Surveillance\", F123)), 0),\"Not required\")","v":"Not required"},{"$f":"IF(INTRO!$E$41=\"Endemic\", IF($J123>1, IF($J123=4, \"Unknown\", IF($J123=99, \"Surveillance\", ROUND(D123*INTRO!$E$51,0))), 0),\"Not required\")","v":"Not required"},{"$f":"IF(INTRO!$E$41=\"Endemic\", IF($J123>1, IF($J123=4, \"Unknown\", IF($J123=99, \"Surveillance\", SUM($N123:$P123))), 0),\"Not required\")","v":"Not required"},{"$f":"IF(INTRO!$E$43=\"Endemic\", IF($K123>1, IF($K123=4, \"Unknown\", IF($K123=99, \"Surveillance\", ROUND(E123*0.75,0))), 0),\"Not required\")","v":6017},{"$f":"IF(INTRO!$E$43=\"Endemic\", IF($K123>1, IF($K123=4, \"Unknown\", IF($K123=99, \"Surveillance\", F123)), 0),\"Not required\")","v":18900},34569,{"$f":"IF(INTRO!$E$43=\"Endemic\", IF($K123>1, IF($K123=4, \"Unknown\", IF($K123=99, \"Surveillance\", SUM($R123:$T123))), 0),\"Not required\")","v":59486},0,2,null,1,null,null,null,null,null,null,null,null,21473,"Kwahu Afram Plains South"]
[{"$f":"IF(INTRO!$E$33<>0,INTRO!$E$33, \" \")","v":"Ghana"},"Eastern","Kwahu East",83109.7,{"$f":"IF(INTRO!$E$48=\"\",\"\",ROUND($D124*INTRO!$E$48,0))","v":8643},{"$f":"IF(INTRO!$E$49=\"\",\"\",ROUND($D124*INTRO!$E$49,0))","v":20362},{"$f":"IF(INTRO!$E$50=\"\",\"\",ROUND($D124*INTRO!$E$50,0))","v":54104},0,1,null,3,{"$f":"IF(INTRO!$E$37=\"Endemic\",IF($H124>0,IF($H124=4,\"Unknown\",IF($H124=99,\"Stopped\",$D124)),0),\"Not required\")","v":0},30017,{"$f":"IF(INTRO!$E$41=\"Endemic\", IF($J124>1, IF($J124=4, \"Unknown\", IF($J124=99, \"Surveillance\", E124)), 0),\"Not required\")","v":"Not required"},{"$f":"IF(INTRO!$E$41=\"Endemic\", IF($J124>1, IF($J124=4, \"Unknown\", IF($J124=99, \"Surveillance\", F124)), 0),\"Not required\")","v":"Not required"},{"$f":"IF(INTRO!$E$41=\"Endemic\", IF($J124>1, IF($J124=4, \"Unknown\", IF($J124=99, \"Surveillance\", ROUND(D124*INTRO!$E$51,0))), 0),\"Not required\")","v":"Not required"},{"$f":"IF(INTRO!$E$41=\"Endemic\", IF($J124>1, IF($J124=4, \"Unknown\", IF($J124=99, \"Surveillance\", SUM($N124:$P124))), 0),\"Not required\")","v":"Not required"},{"$f":"IF(INTRO!$E$43=\"Endemic\", IF($K124>1, IF($K124=4, \"Unknown\", IF($K124=99, \"Surveillance\", ROUND(E124*0.75,0))), 0),\"Not required\")","v":6482},{"$f":"IF(INTRO!$E$43=\"Endemic\", IF($K124>1, IF($K124=4, \"Unknown\", IF($K124=99, \"Surveillance\", F124)), 0),\"Not required\")","v":20362},17895,{"$f":"IF(INTRO!$E$43=\"Endemic\", IF($K124>1, IF($K124=4, \"Unknown\", IF($K124=99, \"Surveillance\", SUM($R124:$T124))), 0),\"Not required\")","v":44739},0,2,null,1,null,null,null,null,null,null,null,null,21474,"Kwahu East"]
[{"$f":"IF(INTRO!$E$33<>0,INTRO!$E$33, \" \")","v":"Ghana"},"Eastern","Kwahu South",83768.5,{"$f":"IF(INTRO!$E$48=\"\",\"\",ROUND($D125*INTRO!$E$48,0))","v":8712},{"$f":"IF(INTRO!$E$49=\"\",\"\",ROUND($D125*INTRO!$E$49,0))","v":20523},{"$f":"IF(INTRO!$E$50=\"\",\"\",ROUND($D125*INTRO!$E$50,0))","v":54533},0,1,null,3,{"$f":"IF(INTRO!$E$37=\"Endemic\",IF($H125>0,IF($H125=4,\"Unknown\",IF($H125=99,\"Stopped\",$D125)),0),\"Not required\")","v":0},0,{"$f":"IF(INTRO!$E$41=\"Endemic\", IF($J125>1, IF($J125=4, \"Unknown\", IF($J125=99, \"Surveillance\", E125)), 0),\"Not required\")","v":"Not required"},{"$f":"IF(INTRO!$E$41=\"Endemic\", IF($J125>1, IF($J125=4, \"Unknown\", IF($J125=99, \"Surveillance\", F125)), 0),\"Not required\")","v":"Not required"},{"$f":"IF(INTRO!$E$41=\"Endemic\", IF($J125>1, IF($J125=4, \"Unknown\", IF($J125=99, \"Surveillance\", ROUND(D125*INTRO!$E$51,0))), 0),\"Not required\")","v":"Not required"},{"$f":"IF(INTRO!$E$41=\"Endemic\", IF($J125>1, IF($J125=4, \"Unknown\", IF($J125=99, \"Surveillance\", SUM($N125:$P125))), 0),\"Not required\")","v":"Not required"},{"$f":"IF(INTRO!$E$43=\"Endemic\", IF($K125>1, IF($K125=4, \"Unknown\", IF($K125=99, \"Surveillance\", ROUND(E125*0.75,0))), 0),\"Not required\")","v":6534},{"$f":"IF(INTRO!$E$43=\"Endemic\", IF($K125>1, IF($K125=4, \"Unknown\", IF($K125=99, \"Surveillance\", F125)), 0),\"Not required\")","v":20523},18659,{"$f":"IF(INTRO!$E$43=\"Endemic\", IF($K125>1, IF($K125=4, \"Unknown\", IF($K125=99, \"Surveillance\", SUM($R125:$T125))), 0),\"Not required\")","v":45716},0,2,null,1,null,null,null,null,null,null,null,null,21476,"Kwahu South"]
[{"$f":"IF(INTRO!$E$33<>0,INTRO!$E$33, \" \")","v":"Ghana"},"Eastern","Kwahu West",151601,{"$f":"IF(INTRO!$E$48=\"\",\"\",ROUND($D126*INTRO!$E$48,0))","v":15767},{"$f":"IF(INTRO!$E$49=\"\",\"\",ROUND($D126*INTRO!$E$49,0))","v":37142},{"$f":"IF(INTRO!$E$50=\"\",\"\",ROUND($D126*INTRO!$E$50,0))","v":98692},0,1,null,2,{"$f":"IF(INTRO!$E$37=\"Endemic\",IF($H126>0,IF($H126=4,\"Unknown\",IF($H126=99,\"Stopped\",$D126)),0),\"Not required\")","v":0},8980,{"$f":"IF(INTRO!$E$41=\"Endemic\", IF($J126>1, IF($J126=4, \"Unknown\", IF($J126=99, \"Surveillance\", E126)), 0),\"Not required\")","v":"Not required"},{"$f":"IF(INTRO!$E$41=\"Endemic\", IF($J126>1, IF($J126=4, \"Unknown\", IF($J126=99, \"Surveillance\", F126)), 0),\"Not required\")","v":"Not required"},{"$f":"IF(INTRO!$E$41=\"Endemic\", IF($J126>1, IF($J126=4, \"Unknown\", IF($J126=99, \"Surveillance\", ROUND(D126*INTRO!$E$51,0))), 0),\"Not required\")","v":"Not required"},{"$f":"IF(INTRO!$E$41=\"Endemic\", IF($J126>1, IF($J126=4, \"Unknown\", IF($J126=99, \"Surveillance\", SUM($N126:$P126))), 0),\"Not required\")","v":"Not required"},{"$f":"IF(INTRO!$E$43=\"Endemic\", IF($K126>1, IF($K126=4, \"Unknown\", IF($K126=99, \"Surveillance\", ROUND(E126*0.75,0))), 0),\"Not required\")","v":11825},{"$f":"IF(INTRO!$E$43=\"Endemic\", IF($K126>1, IF($K126=4, \"Unknown\", IF($K126=99, \"Surveillance\", F126)), 0),\"Not required\")","v":37142},0,{"$f":"IF(INTRO!$E$43=\"Endemic\", IF($K126>1, IF($K126=4, \"Unknown\", IF($K126=99, \"Surveillance\", SUM($R126:$T126))), 0),\"Not required\")","v":48967},0,2,null,1,null,null,null,null,null,null,null,null,21477,"Kwahu West"]
[{"$f":"IF(INTRO!$E$33<>0,INTRO!$E$33, \" \")","v":"Ghana"},"Eastern","Lower Manya-Krobo",126633.7,{"$f":"IF(INTRO!$E$48=\"\",\"\",ROUND($D127*INTRO!$E$48,0))","v":13170},{"$f":"IF(INTRO!$E$49=\"\",\"\",ROUND($D127*INTRO!$E$49,0))","v":31025},{"$f":"IF(INTRO!$E$50=\"\",\"\",ROUND($D127*INTRO!$E$50,0))","v":82439},0,0,null,2,{"$f":"IF(INTRO!$E$37=\"Endemic\",IF($H127>0,IF($H127=4,\"Unknown\",IF($H127=99,\"Stopped\",$D127)),0),\"Not required\")","v":0},0,{"$f":"IF(INTRO!$E$41=\"Endemic\", IF($J127>1, IF($J127=4, \"Unknown\", IF($J127=99, \"Surveillance\", E127)), 0),\"Not required\")","v":"Not required"},{"$f":"IF(INTRO!$E$41=\"Endemic\", IF($J127>1, IF($J127=4, \"Unknown\", IF($J127=99, \"Surveillance\", F127)), 0),\"Not required\")","v":"Not required"},{"$f":"IF(INTRO!$E$41=\"Endemic\", IF($J127>1, IF($J127=4, \"Unknown\", IF($J127=99, \"Surveillance\", ROUND(D127*INTRO!$E$51,0))), 0),\"Not required\")","v":"Not required"},{"$f":"IF(INTRO!$E$41=\"Endemic\", IF($J127>1, IF($J127=4, \"Unknown\", IF($J127=99, \"Surveillance\", SUM($N127:$P127))), 0),\"Not required\")","v":"Not required"},{"$f":"IF(INTRO!$E$43=\"Endemic\", IF($K127>1, IF($K127=4, \"Unknown\", IF($K127=99, \"Surveillance\", ROUND(E127*0.75,0))), 0),\"Not required\")","v":9878},{"$f":"IF(INTRO!$E$43=\"Endemic\", IF($K127>1, IF($K127=4, \"Unknown\", IF($K127=99, \"Surveillance\", F127)), 0),\"Not required\")","v":31025},0,{"$f":"IF(INTRO!$E$43=\"Endemic\", IF($K127>1, IF($K127=4, \"Unknown\", IF($K127=99, \"Surveillance\", SUM($R127:$T127))), 0),\"Not required\")","v":40903},0,0,null,1,null,null,null,null,null,null,null,null,21478,"Lower Manya Krobo"]
[{"$f":"IF(INTRO!$E$33<>0,INTRO!$E$33, \" \")","v":"Ghana"},"Eastern","New Juaben North",97156.6,{"$f":"IF(INTRO!$E$48=\"\",\"\",ROUND($D128*INTRO!$E$48,0))","v":10104},{"$f":"IF(INTRO!$E$49=\"\",\"\",ROUND($D128*INTRO!$E$49,0))","v":23803},{"$f":"IF(INTRO!$E$50=\"\",\"\",ROUND($D128*INTRO!$E$50,0))","v":63249},0,1,null,2,{"$f":"IF(INTRO!$E$37=\"Endemic\",IF($H128>0,IF($H128=4,\"Unknown\",IF($H128=99,\"Stopped\",$D128)),0),\"Not required\")","v":0},49669,{"$f":"IF(INTRO!$E$41=\"Endemic\", IF($J128>1, IF($J128=4, \"Unknown\", IF($J128=99, \"Surveillance\", E128)), 0),\"Not required\")","v":"Not required"},{"$f":"IF(INTRO!$E$41=\"Endemic\", IF($J128>1, IF($J128=4, \"Unknown\", IF($J128=99, \"Surveillance\", F128)), 0),\"Not required\")","v":"Not required"},{"$f":"IF(INTRO!$E$41=\"Endemic\", IF($J128>1, IF($J128=4, \"Unknown\", IF($J128=99, \"Surveillance\", ROUND(D128*INTRO!$E$51,0))), 0),\"Not required\")","v":"Not required"},{"$f":"IF(INTRO!$E$41=\"Endemic\", IF($J128>1, IF($J128=4, \"Unknown\", IF($J128=99, \"Surveillance\", SUM($N128:$P128))), 0),\"Not required\")","v":"Not required"},{"$f":"IF(INTRO!$E$43=\"Endemic\", IF($K128>1, IF($K128=4, \"Unknown\", IF($K128=99, \"Surveillance\", ROUND(E128*0.75,0))), 0),\"Not required\")","v":7578},{"$f":"IF(INTRO!$E$43=\"Endemic\", IF($K128>1, IF($K128=4, \"Unknown\", IF($K128=99, \"Surveillance\", F128)), 0),\"Not required\")","v":23803},0,{"$f":"IF(INTRO!$E$43=\"Endemic\", IF($K128>1, IF($K128=4, \"Unknown\", IF($K128=99, \"Surveillance\", SUM($R128:$T128))), 0),\"Not required\")","v":31381},0,2,null,1,null,null,null,null,null,null,null,null,21645,"New Juaben North"]
[{"$f":"IF(INTRO!$E$33<>0,INTRO!$E$33, \" \")","v":"Ghana"},"Eastern","New Juaben South",130572,{"$f":"IF(INTRO!$E$48=\"\",\"\",ROUND($D129*INTRO!$E$48,0))","v":13579},{"$f":"IF(INTRO!$E$49=\"\",\"\",ROUND($D129*INTRO!$E$49,0))","v":31990},{"$f":"IF(INTRO!$E$50=\"\",\"\",ROUND($D129*INTRO!$E$50,0))","v":85002},0,0,null,2,{"$f":"IF(INTRO!$E$37=\"Endemic\",IF($H129>0,IF($H129=4,\"Unknown\",IF($H129=99,\"Stopped\",$D129)),0),\"Not required\")","v":0},0,{"$f":"IF(INTRO!$E$41=\"Endemic\", IF($J129>1, IF($J129=4, \"Unknown\", IF($J129=99, \"Surveillance\", E129)), 0),\"Not required\")","v":"Not required"},{"$f":"IF(INTRO!$E$41=\"Endemic\", IF($J129>1, IF($J129=4, \"Unknown\", IF($J129=99, \"Surveillance\", F129)), 0),\"Not required\")","v":"Not required"},{"$f":"IF(INTRO!$E$41=\"Endemic\", IF($J129>1, IF($J129=4, \"Unknown\", IF($J129=99, \"Surveillance\", ROUND(D129*INTRO!$E$51,0))), 0),\"Not required\")","v":"Not required"},{"$f":"IF(INTRO!$E$41=\"Endemic\", IF($J129>1, IF($J129=4, \"Unknown\", IF($J129=99, \"Surveillance\", SUM($N129:$P129))), 0),\"Not required\")","v":"Not required"},{"$f":"IF(INTRO!$E$43=\"Endemic\", IF($K129>1, IF($K129=4, \"Unknown\", IF($K129=99, \"Surveillance\", ROUND(E129*0.75,0))), 0),\"Not required\")","v":10184},{"$f":"IF(INTRO!$E$43=\"Endemic\", IF($K129>1, IF($K129=4, \"Unknown\", IF($K129=99, \"Surveillance\", F129)), 0),\"Not required\")","v":31990},0,{"$f":"IF(INTRO!$E$43=\"Endemic\", IF($K129>1, IF($K129=4, \"Unknown\", IF($K129=99, \"Surveillance\", SUM($R129:$T129))), 0),\"Not required\")","v":42174},0,0,null,1,null,null,null,null,null,null,null,null,21646,"New Juaben South"]
[{"$f":"IF(INTRO!$E$33<>0,INTRO!$E$33, \" \")","v":"Ghana"},"Eastern","Nsawam-Adoagyiri",162200.6,{"$f":"IF(INTRO!$E$48=\"\",\"\",ROUND($D130*INTRO!$E$48,0))","v":16869},{"$f":"IF(INTRO!$E$49=\"\",\"\",ROUND($D130*INTRO!$E$49,0))","v":39739},{"$f":"IF(INTRO!$E$50=\"\",\"\",ROUND($D130*INTRO!$E$50,0))","v":105593},99,0,null,2,{"$f":"IF(INTRO!$E$37=\"Endemic\",IF($H130>0,IF($H130=4,\"Unknown\",IF($H130=99,\"Stopped\",$D130)),0),\"Not required\")","v":"Stopped"},0,{"$f":"IF(INTRO!$E$41=\"Endemic\", IF($J130>1, IF($J130=4, \"Unknown\", IF($J130=99, \"Surveillance\", E130)), 0),\"Not required\")","v":"Not required"},{"$f":"IF(INTRO!$E$41=\"Endemic\", IF($J130>1, IF($J130=4, \"Unknown\", IF($J130=99, \"Surveillance\", F130)), 0),\"Not required\")","v":"Not required"},{"$f":"IF(INTRO!$E$41=\"Endemic\", IF($J130>1, IF($J130=4, \"Unknown\", IF($J130=99, \"Surveillance\", ROUND(D130*INTRO!$E$51,0))), 0),\"Not required\")","v":"Not required"},{"$f":"IF(INTRO!$E$41=\"Endemic\", IF($J130>1, IF($J130=4, \"Unknown\", IF($J130=99, \"Surveillance\", SUM($N130:$P130))), 0),\"Not required\")","v":"Not required"},{"$f":"IF(INTRO!$E$43=\"Endemic\", IF($K130>1, IF($K130=4, \"Unknown\", IF($K130=99, \"Surveillance\", ROUND(E130*0.75,0))), 0),\"Not required\")","v":12652},{"$f":"IF(INTRO!$E$43=\"Endemic\", IF($K130>1, IF($K130=4, \"Unknown\", IF($K130=99, \"Surveillance\", F130)), 0),\"Not required\")","v":39739},0,{"$f":"IF(INTRO!$E$43=\"Endemic\", IF($K130>1, IF($K130=4, \"Unknown\", IF($K130=99, \"Surveillance\", SUM($R130:$T130))), 0),\"Not required\")","v":52391},0,0,null,1,null,null,null,null,null,null,null,null,21480,"Nsawam Adoagyiri Municipal"]
[{"$f":"IF(INTRO!$E$33<>0,INTRO!$E$33, \" \")","v":"Ghana"},"Eastern","Okere",53868.2,{"$f":"IF(INTRO!$E$48=\"\",\"\",ROUND($D131*INTRO!$E$48,0))","v":5602},{"$f":"IF(INTRO!$E$49=\"\",\"\",ROUND($D131*INTRO!$E$49,0))","v":13198},{"$f":"IF(INTRO!$E$50=\"\",\"\",ROUND($D131*INTRO!$E$50,0))","v":35068},0,0,null,2,{"$f":"IF(INTRO!$E$37=\"Endemic\",IF($H131>0,IF($H131=4,\"Unknown\",IF($H131=99,\"Stopped\",$D131)),0),\"Not required\")","v":0},0,{"$f":"IF(INTRO!$E$41=\"Endemic\", IF($J131>1, IF($J131=4, \"Unknown\", IF($J131=99, \"Surveillance\", E131)), 0),\"Not required\")","v":"Not required"},{"$f":"IF(INTRO!$E$41=\"Endemic\", IF($J131>1, IF($J131=4, \"Unknown\", IF($J131=99, \"Surveillance\", F131)), 0),\"Not required\")","v":"Not required"},{"$f":"IF(INTRO!$E$41=\"Endemic\", IF($J131>1, IF($J131=4, \"Unknown\", IF($J131=99, \"Surveillance\", ROUND(D131*INTRO!$E$51,0))), 0),\"Not required\")","v":"Not required"},{"$f":"IF(INTRO!$E$41=\"Endemic\", IF($J131>1, IF($J131=4, \"Unknown\", IF($J131=99, \"Surveillance\", SUM($N131:$P131))), 0),\"Not required\")","v":"Not required"},{"$f":"IF(INTRO!$E$43=\"Endemic\", IF($K131>1, IF($K131=4, \"Unknown\", IF($K131=99, \"Surveillance\", ROUND(E131*0.75,0))), 0),\"Not required\")","v":4202},{"$f":"IF(INTRO!$E$43=\"Endemic\", IF($K131>1, IF($K131=4, \"Unknown\", IF($K131=99, \"Surveillance\", F131)), 0),\"Not required\")","v":13198},0,{"$f":"IF(INTRO!$E$43=\"Endemic\", IF($K131>1, IF($K131=4, \"Unknown\", IF($K131=99, \"Surveillance\", SUM($R131:$T131))), 0),\"Not required\")","v":17400},0,0,null,0,null,null,null,null,null,null,null,null,21633,"Okere"]
[{"$f":"IF(INTRO!$E$33<>0,INTRO!$E$33, \" \")","v":"Ghana"},"Eastern","Suhum",131767.6,{"$f":"IF(INTRO!$E$48=\"\",\"\",ROUND($D132*INTRO!$E$48,0))","v":13704},{"$f":"IF(INTRO!$E$49=\"\",\"\",ROUND($D132*INTRO!$E$49,0))","v":32283},{"$f":"IF(INTRO!$E$50=\"\",\"\",ROUND($D132*INTRO!$E$50,0))","v":85781},99,1,null,2,{"$f":"IF(INTRO!$E$37=\"Endemic\",IF($H132>0,IF($H132=4,\"Unknown\",IF($H132=99,\"Stopped\",$D132)),0),\"Not required\")","v":"Stopped"},24562,{"$f":"IF(INTRO!$E$41=\"Endemic\", IF($J132>1, IF($J132=4, \"Unknown\", IF($J132=99, \"Surveillance\", E132)), 0),\"Not required\")","v":"Not required"},{"$f":"IF(INTRO!$E$41=\"Endemic\", IF($J132>1, IF($J132=4, \"Unknown\", IF($J132=99, \"Surveillance\", F132)), 0),\"Not required\")","v":"Not required"},{"$f":"IF(INTRO!$E$41=\"Endemic\", IF($J132>1, IF($J132=4, \"Unknown\", IF($J132=99, \"Surveillance\", ROUND(D132*INTRO!$E$51,0))), 0),\"Not required\")","v":"Not required"},{"$f":"IF(INTRO!$E$41=\"Endemic\", IF($J132>1, IF($J132=4, \"Unknown\", IF($J132=99, \"Surveillance\", SUM($N132:$P132))), 0),\"Not required\")","v":"Not required"},{"$f":"IF(INTRO!$E$43=\"Endemic\", IF($K132>1, IF($K132=4, \"Unknown\", IF($K132=99, \"Surveillance\", ROUND(E132*0.75,0))), 0),\"Not required\")","v":10278},{"$f":"IF(INTRO!$E$43=\"Endemic\", IF($K132>1, IF($K132=4, \"Unknown\", IF($K132=99, \"Surveillance\", F132)), 0),\"Not required\")","v":32283},0,{"$f":"IF(INTRO!$E$43=\"Endemic\", IF($K132>1, IF($K132=4, \"Unknown\", IF($K132=99, \"Surveillance\", SUM($R132:$T132))), 0),\"Not required\")","v":42561},0,2,null,1,null,null,null,null,null,null,null,null,21481,"Suhum"]
[{"$f":"IF(INTRO!$E$33<>0,INTRO!$E$33, \" \")","v":"Ghana"},"Eastern","Upper Manya-Krobo",73675.5,{"$f":"IF(INTRO!$E$48=\"\",\"\",ROUND($D133*INTRO!$E$48,0))","v":7662},{"$f":"IF(INTRO!$E$49=\"\",\"\",ROUND($D133*INTRO!$E$49,0))","v":18050},{"$f":"IF(INTRO!$E$50=\"\",\"\",ROUND($D133*INTRO!$E$50,0))","v":47963},0,0,null,3,{"$f":"IF(INTRO!$E$37=\"Endemic\",IF($H133>0,IF($H133=4,\"Unknown\",IF($H133=99,\"Stopped\",$D133)),0),\"Not required\")","v":0},0,{"$f":"IF(INTRO!$E$41=\"Endemic\", IF($J133>1, IF($J133=4, \"Unknown\", IF($J133=99, \"Surveillance\", E133)), 0),\"Not required\")","v":"Not required"},{"$f":"IF(INTRO!$E$41=\"Endemic\", IF($J133>1, IF($J133=4, \"Unknown\", IF($J133=99, \"Surveillance\", F133)), 0),\"Not required\")","v":"Not required"},{"$f":"IF(INTRO!$E$41=\"Endemic\", IF($J133>1, IF($J133=4, \"Unknown\", IF($J133=99, \"Surveillance\", ROUND(D133*INTRO!$E$51,0))), 0),\"Not required\")","v":"Not required"},{"$f":"IF(INTRO!$E$41=\"Endemic\", IF($J133>1, IF($J133=4, \"Unknown\", IF($J133=99, \"Surveillance\", SUM($N133:$P133))), 0),\"Not required\")","v":"Not required"},{"$f":"IF(INTRO!$E$43=\"Endemic\", IF($K133>1, IF($K133=4, \"Unknown\", IF($K133=99, \"Surveillance\", ROUND(E133*0.75,0))), 0),\"Not required\")","v":5747},{"$f":"IF(INTRO!$E$43=\"Endemic\", IF($K133>1, IF($K133=4, \"Unknown\", IF($K133=99, \"Surveillance\", F133)), 0),\"Not required\")","v":18050},12365,{"$f":"IF(INTRO!$E$43=\"Endemic\", IF($K133>1, IF($K133=4, \"Unknown\", IF($K133=99, \"Surveillance\", SUM($R133:$T133))), 0),\"Not required\")","v":36162},0,0,null,1,null,null,null,null,null,null,null,null,21482,"Upper Manya Krobo"]
[{"$f":"IF(INTRO!$E$33<>0,INTRO!$E$33, \" \")","v":"Ghana"},"Eastern","Upper West Akim",97354.5,{"$f":"IF(INTRO!$E$48=\"\",\"\",ROUND($D134*INTRO!$E$48,0))","v":10125},{"$f":"IF(INTRO!$E$49=\"\",\"\",ROUND($D134*INTRO!$E$49,0))","v":23852},{"$f":"IF(INTRO!$E$50=\"\",\"\",ROUND($D134*INTRO!$E$50,0))","v":63378},99,0,null,3,{"$f":"IF(INTRO!$E$37=\"Endemic\",IF($H134>0,IF($H134=4,\"Unknown\",IF($H134=99,\"Stopped\",$D134)),0),\"Not required\")","v":"Stopped"},0,{"$f":"IF(INTRO!$E$41=\"Endemic\", IF($J134>1, IF($J134=4, \"Unknown\", IF($J134=99, \"Surveillance\", E134)), 0),\"Not required\")","v":"Not required"},{"$f":"IF(INTRO!$E$41=\"Endemic\", IF($J134>1, IF($J134=4, \"Unknown\", IF($J134=99, \"Surveillance\", F134)), 0),\"Not required\")","v":"Not required"},{"$f":"IF(INTRO!$E$41=\"Endemic\", IF($J134>1, IF($J134=4, \"Unknown\", IF($J134=99, \"Surveillance\", ROUND(D134*INTRO!$E$51,0))), 0),\"Not required\")","v":"Not required"},{"$f":"IF(INTRO!$E$41=\"Endemic\", IF($J134>1, IF($J134=4, \"Unknown\", IF($J134=99, \"Surveillance\", SUM($N134:$P134))), 0),\"Not required\")","v":"Not required"},{"$f":"IF(INTRO!$E$43=\"Endemic\", IF($K134>1, IF($K134=4, \"Unknown\", IF($K134=99, \"Surveillance\", ROUND(E134*0.75,0))), 0),\"Not required\")","v":7594},{"$f":"IF(INTRO!$E$43=\"Endemic\", IF($K134>1, IF($K134=4, \"Unknown\", IF($K134=99, \"Surveillance\", F134)), 0),\"Not required\")","v":23852},13659,{"$f":"IF(INTRO!$E$43=\"Endemic\", IF($K134>1, IF($K134=4, \"Unknown\", IF($K134=99, \"Surveillance\", SUM($R134:$T134))), 0),\"Not required\")","v":45105},0,0,null,1,null,null,null,null,null,null,null,null,21483,"Upper West Akim"]
[{"$f":"IF(INTRO!$E$33<>0,INTRO!$E$33, \" \")","v":"Ghana"},"Eastern","West Akim",125244.2,{"$f":"IF(INTRO!$E$48=\"\",\"\",ROUND($D135*INTRO!$E$48,0))","v":13025},{"$f":"IF(INTRO!$E$49=\"\",\"\",ROUND($D135*INTRO!$E$49,0))","v":30685},{"$f":"IF(INTRO!$E$50=\"\",\"\",ROUND($D135*INTRO!$E$50,0))","v":81534},99,1,null,3,{"$f":"IF(INTRO!$E$37=\"Endemic\",IF($H135>0,IF($H135=4,\"Unknown\",IF($H135=99,\"Stopped\",$D135)),0),\"Not required\")","v":"Stopped"},0,{"$f":"IF(INTRO!$E$41=\"Endemic\", IF($J135>1, IF($J135=4, \"Unknown\", IF($J135=99, \"Surveillance\", E135)), 0),\"Not required\")","v":"Not required"},{"$f":"IF(INTRO!$E$41=\"Endemic\", IF($J135>1, IF($J135=4, \"Unknown\", IF($J135=99, \"Surveillance\", F135)), 0),\"Not required\")","v":"Not required"},{"$f":"IF(INTRO!$E$41=\"Endemic\", IF($J135>1, IF($J135=4, \"Unknown\", IF($J135=99, \"Surveillance\", ROUND(D135*INTRO!$E$51,0))), 0),\"Not required\")","v":"Not required"},{"$f":"IF(INTRO!$E$41=\"Endemic\", IF($J135>1, IF($J135=4, \"Unknown\", IF($J135=99, \"Surveillance\", SUM($N135:$P135))), 0),\"Not required\")","v":"Not required"},{"$f":"IF(INTRO!$E$43=\"Endemic\", IF($K135>1, IF($K135=4, \"Unknown\", IF($K135=99, \"Surveillance\", ROUND(E135*0.75,0))), 0),\"Not required\")","v":9769},{"$f":"IF(INTRO!$E$43=\"Endemic\", IF($K135>1, IF($K135=4, \"Unknown\", IF($K135=99, \"Surveillance\", F135)), 0),\"Not required\")","v":30685},19568,{"$f":"IF(INTRO!$E$43=\"Endemic\", IF($K135>1, IF($K135=4, \"Unknown\", IF($K135=99, \"Surveillance\", SUM($R135:$T135))), 0),\"Not required\")","v":60022},0,2,null,1,null,null,null,null,null,null,null,null,21484,"West Akim Municipal"]
[{"$f":"IF(INTRO!$E$33<>0,INTRO!$E$33, \" \")","v":"Ghana"},"Eastern","Yilo-Krobo",127912.8,{"$f":"IF(INTRO!$E$48=\"\",\"\",ROUND($D136*INTRO!$E$48,0))","v":13303},{"$f":"IF(INTRO!$E$49=\"\",\"\",ROUND($D136*INTRO!$E$49,0))","v":31339},{"$f":"IF(INTRO!$E$50=\"\",\"\",ROUND($D136*INTRO!$E$50,0))","v":83271},0,1,null,2,{"$f":"IF(INTRO!$E$37=\"Endemic\",IF($H136>0,IF($H136=4,\"Unknown\",IF($H136=99,\"Stopped\",$D136)),0),\"Not required\")","v":0},0,{"$f":"IF(INTRO!$E$41=\"Endemic\", IF($J136>1, IF($J136=4, \"Unknown\", IF($J136=99, \"Surveillance\", E136)), 0),\"Not required\")","v":"Not required"},{"$f":"IF(INTRO!$E$41=\"Endemic\", IF($J136>1, IF($J136=4, \"Unknown\", IF($J136=99, \"Surveillance\", F136)), 0),\"Not required\")","v":"Not required"},{"$f":"IF(INTRO!$E$41=\"Endemic\", IF($J136>1, IF($J136=4, \"Unknown\", IF($J136=99, \"Surveillance\", ROUND(D136*INTRO!$E$51,0))), 0),\"Not required\")","v":"Not required"},{"$f":"IF(INTRO!$E$41=\"Endemic\", IF($J136>1, IF($J136=4, \"Unknown\", IF($J136=99, \"Surveillance\", SUM($N136:$P136))), 0),\"Not required\")","v":"Not required"},{"$f":"IF(INTRO!$E$43=\"Endemic\", IF($K136>1, IF($K136=4, \"Unknown\", IF($K136=99, \"Surveillance\", ROUND(E136*0.75,0))), 0),\"Not required\")","v":9977},{"$f":"IF(INTRO!$E$43=\"Endemic\", IF($K136>1, IF($K136=4, \"Unknown\", IF($K136=99, \"Surveillance\", F136)), 0),\"Not required\")","v":31339},0,{"$f":"IF(INTRO!$E$43=\"Endemic\", IF($K136>1, IF($K136=4, \"Unknown\", IF($K136=99, \"Surveillance\", SUM($R136:$T136))), 0),\"Not required\")","v":41316},0,2,null,1,null,null,null,null,null,null,null,null,21485,"Yilo Krobo"]
[{"$f":"IF(INTRO!$E$33<>0,INTRO!$E$33, \" \")","v":"Ghana"},"Greater Accra","Ablekuma Central",176324.7,{"$f":"IF(INTRO!$E$48=\"\",\"\",ROUND($D137*INTRO!$E$48,0))","v":18338},{"$f":"IF(INTRO!$E$49=\"\",\"\",ROUND($D137*INTRO!$E$49,0))","v":43200},{"$f":"IF(INTRO!$E$50=\"\",\"\",ROUND($D137*INTRO!$E$50,0))","v":114787},99,0,null,2,{"$f":"IF(INTRO!$E$37=\"Endemic\",IF($H137>0,IF($H137=4,\"Unknown\",IF($H137=99,\"Stopped\",$D137)),0),\"Not required\")","v":"Stopped"},0,{"$f":"IF(INTRO!$E$41=\"Endemic\", IF($J137>1, IF($J137=4, \"Unknown\", IF($J137=99, \"Surveillance\", E137)), 0),\"Not required\")","v":"Not required"},{"$f":"IF(INTRO!$E$41=\"Endemic\", IF($J137>1, IF($J137=4, \"Unknown\", IF($J137=99, \"Surveillance\", F137)), 0),\"Not required\")","v":"Not required"},{"$f":"IF(INTRO!$E$41=\"Endemic\", IF($J137>1, IF($J137=4, \"Unknown\", IF($J137=99, \"Surveillance\", ROUND(D137*INTRO!$E$51,0))), 0),\"Not required\")","v":"Not required"},{"$f":"IF(INTRO!$E$41=\"Endemic\", IF($J137>1, IF($J137=4, \"Unknown\", IF($J137=99, \"Surveillance\", SUM($N137:$P137))), 0),\"Not required\")","v":"Not required"},{"$f":"IF(INTRO!$E$43=\"Endemic\", IF($K137>1, IF($K137=4, \"Unknown\", IF($K137=99, \"Surveillance\", ROUND(E137*0.75,0))), 0),\"Not required\")","v":13754},0,0,{"$f":"IF(INTRO!$E$43=\"Endemic\", IF($K137>1, IF($K137=4, \"Unknown\", IF($K137=99, \"Surveillance\", SUM($R137:$T137))), 0),\"Not required\")","v":13754},0,0,null,0,null,null,null,null,null,null,null,null,21647,"Ablekuma Central"]
[{"$f":"IF(INTRO!$E$33<>0,INTRO!$E$33, \" \")","v":"Ghana"},"Greater Accra","Ablekuma North",165964.9,{"$f":"IF(INTRO!$E$48=\"\",\"\",ROUND($D138*INTRO!$E$48,0))","v":17260},{"$f":"IF(INTRO!$E$49=\"\",\"\",ROUND($D138*INTRO!$E$49,0))","v":40661},{"$f":"IF(INTRO!$E$50=\"\",\"\",ROUND($D138*INTRO!$E$50,0))","v":108043},99,0,null,2,{"$f":"IF(INTRO!$E$37=\"Endemic\",IF($H138>0,IF($H138=4,\"Unknown\",IF($H138=99,\"Stopped\",$D138)),0),\"Not required\")","v":"Stopped"},0,{"$f":"IF(INTRO!$E$41=\"Endemic\", IF($J138>1, IF($J138=4, \"Unknown\", IF($J138=99, \"Surveillance\", E138)), 0),\"Not required\")","v":"Not required"},{"$f":"IF(INTRO!$E$41=\"Endemic\", IF($J138>1, IF($J138=4, \"Unknown\", IF($J138=99, \"Surveillance\", F138)), 0),\"Not required\")","v":"Not required"},{"$f":"IF(INTRO!$E$41=\"Endemic\", IF($J138>1, IF($J138=4, \"Unknown\", IF($J138=99, \"Surveillance\", ROUND(D138*INTRO!$E$51,0))), 0),\"Not required\")","v":"Not required"},{"$f":"IF(INTRO!$E$41=\"Endemic\", IF($J138>1, IF($J138=4, \"Unknown\", IF($J138=99, \"Surveillance\", SUM($N138:$P138))), 0),\"Not required\")","v":"Not required"},{"$f":"IF(INTRO!$E$43=\"Endemic\", IF($K138>1, IF($K138=4, \"Unknown\", IF($K138=99, \"Surveillance\", ROUND(E138*0.75,0))), 0),\"Not required\")","v":12945},0,0,{"$f":"IF(INTRO!$E$43=\"Endemic\", IF($K138>1, IF($K138=4, \"Unknown\", IF($K138=99, \"Surveillance\", SUM($R138:$T138))), 0),\"Not required\")","v":12945},0,0,null,0,null,null,null,null,null,null,null,null,21648,"Ablekuma North"]
[{"$f":"IF(INTRO!$E$33<>0,INTRO!$E$33, \" \")","v":"Ghana"},"Greater Accra","Ablekuma West",160004.29999999999,{"$f":"IF(INTRO!$E$48=\"\",\"\",ROUND($D139*INTRO!$E$48,0))","v":16640},{"$f":"IF(INTRO!$E$49=\"\",\"\",ROUND($D139*INTRO!$E$49,0))","v":39201},{"$f":"IF(INTRO!$E$50=\"\",\"\",ROUND($D139*INTRO!$E$50,0))","v":104163},99,0,null,2,{"$f":"IF(INTRO!$E$37=\"Endemic\",IF($H139>0,IF($H139=4,\"Unknown\",IF($H139=99,\"Stopped\",$D139)),0),\"Not required\")","v":"Stopped"},0,{"$f":"IF(INTRO!$E$41=\"Endemic\", IF($J139>1, IF($J139=4, \"Unknown\", IF($J139=99, \"Surveillance\", E139)), 0),\"Not required\")","v":"Not required"},{"$f":"IF(INTRO!$E$41=\"Endemic\", IF($J139>1, IF($J139=4, \"Unknown\", IF($J139=99, \"Surveillance\", F139)), 0),\"Not required\")","v":"Not required"},{"$f":"IF(INTRO!$E$41=\"Endemic\", IF($J139>1, IF($J139=4, \"Unknown\", IF($J139=99, \"Surveillance\", ROUND(D139*INTRO!$E$51,0))), 0),\"Not required\")","v":"Not required"},{"$f":"IF(INTRO!$E$41=\"Endemic\", IF($J139>1, IF($J139=4, \"Unknown\", IF($J139=99, \"Surveillance\", SUM($N139:$P139))), 0),\"Not required\")","v":"Not required"},{"$f":"IF(INTRO!$E$43=\"Endemic\", IF($K139>1, IF($K139=4, \"Unknown\", IF($K139=99, \"Surveillance\", ROUND(E139*0.75,0))), 0),\"Not required\")","v":12480},0,0,{"$f":"IF(INTRO!$E$43=\"Endemic\", IF($K139>1, IF($K139=4, \"Unknown\", IF($K139=99, \"Surveillance\", SUM($R139:$T139))), 0),\"Not required\")","v":12480},0,0,null,0,null,null,null,null,null,null,null,null,21649,"Ablekuma West"]
[{"$f":"IF(INTRO!$E$33<>0,INTRO!$E$33, \" \")","v":"Ghana"},"Greater Accra","Accra Metro",296182.40000000002,{"$f":"IF(INTRO!$E$48=\"\",\"\",ROUND($D140*INTRO!$E$48,0))","v":30803},{"$f":"IF(INTRO!$E$49=\"\",\"\",ROUND($D140*INTRO!$E$49,0))","v":72565},{"$f":"IF(INTRO!$E$50=\"\",\"\",ROUND($D140*INTRO!$E$50,0))","v":192815},99,0,null,2,{"$f":"IF(INTRO!$E$37=\"Endemic\",IF($H140>0,IF($H140=4,\"Unknown\",IF($H140=99,\"Stopped\",$D140)),0),\"Not required\")","v":"Stopped"},0,{"$f":"IF(INTRO!$E$41=\"Endemic\", IF($J140>1, IF($J140=4, \"Unknown\", IF($J140=99, \"Surveillance\", E140)), 0),\"Not required\")","v":"Not required"},{"$f":"IF(INTRO!$E$41=\"Endemic\", IF($J140>1, IF($J140=4, \"Unknown\", IF($J140=99, \"Surveillance\", F140)), 0),\"Not required\")","v":"Not required"},{"$f":"IF(INTRO!$E$41=\"Endemic\", IF($J140>1, IF($J140=4, \"Unknown\", IF($J140=99, \"Surveillance\", ROUND(D140*INTRO!$E$51,0))), 0),\"Not required\")","v":"Not required"},{"$f":"IF(INTRO!$E$41=\"Endemic\", IF($J140>1, IF($J140=4, \"Unknown\", IF($J140=99, \"Surveillance\", SUM($N140:$P140))), 0),\"Not required\")","v":"Not required"},{"$f":"IF(INTRO!$E$43=\"Endemic\", IF($K140>1, IF($K140=4, \"Unknown\", IF($K140=99, \"Surveillance\", ROUND(E140*0.75,0))), 0),\"Not required\")","v":23102},0,0,{"$f":"IF(INTRO!$E$43=\"Endemic\", IF($K140>1, IF($K140=4, \"Unknown\", IF($K140=99, \"Surveillance\", SUM($R140:$T140))), 0),\"Not required\")","v":23102},0,0,null,0,null,null,null,null,null,null,null,null,21656,"Accra Metro"]
[{"$f":"IF(INTRO!$E$33<>0,INTRO!$E$33, \" \")","v":"Ghana"},"Greater Accra","Ada East",79654,{"$f":"IF(INTRO!$E$48=\"\",\"\",ROUND($D141*INTRO!$E$48,0))","v":8284},{"$f":"IF(INTRO!$E$49=\"\",\"\",ROUND($D141*INTRO!$E$49,0))","v":19515},{"$f":"IF(INTRO!$E$50=\"\",\"\",ROUND($D141*INTRO!$E$50,0))","v":51855},0,0,null,2,{"$f":"IF(INTRO!$E$37=\"Endemic\",IF($H141>0,IF($H141=4,\"Unknown\",IF($H141=99,\"Stopped\",$D141)),0),\"Not required\")","v":0},0,{"$f":"IF(INTRO!$E$41=\"Endemic\", IF($J141>1, IF($J141=4, \"Unknown\", IF($J141=99, \"Surveillance\", E141)), 0),\"Not required\")","v":"Not required"},{"$f":"IF(INTRO!$E$41=\"Endemic\", IF($J141>1, IF($J141=4, \"Unknown\", IF($J141=99, \"Surveillance\", F141)), 0),\"Not required\")","v":"Not required"},{"$f":"IF(INTRO!$E$41=\"Endemic\", IF($J141>1, IF($J141=4, \"Unknown\", IF($J141=99, \"Surveillance\", ROUND(D141*INTRO!$E$51,0))), 0),\"Not required\")","v":"Not required"},{"$f":"IF(INTRO!$E$41=\"Endemic\", IF($J141>1, IF($J141=4, \"Unknown\", IF($J141=99, \"Surveillance\", SUM($N141:$P141))), 0),\"Not required\")","v":"Not required"},{"$f":"IF(INTRO!$E$43=\"Endemic\", IF($K141>1, IF($K141=4, \"Unknown\", IF($K141=99, \"Surveillance\", ROUND(E141*0.75,0))), 0),\"Not required\")","v":6213},{"$f":"IF(INTRO!$E$43=\"Endemic\", IF($K141>1, IF($K141=4, \"Unknown\", IF($K141=99, \"Surveillance\", F141)), 0),\"Not required\")","v":19515},0,{"$f":"IF(INTRO!$E$43=\"Endemic\", IF($K141>1, IF($K141=4, \"Unknown\", IF($K141=99, \"Surveillance\", SUM($R141:$T141))), 0),\"Not required\")","v":25728},0,0,null,1,null,null,null,null,null,null,null,null,21487,"Ada East"]
[{"$f":"IF(INTRO!$E$33<>0,INTRO!$E$33, \" \")","v":"Ghana"},"Greater Accra","Ada West",79316.2,{"$f":"IF(INTRO!$E$48=\"\",\"\",ROUND($D142*INTRO!$E$48,0))","v":8249},{"$f":"IF(INTRO!$E$49=\"\",\"\",ROUND($D142*INTRO!$E$49,0))","v":19432},{"$f":"IF(INTRO!$E$50=\"\",\"\",ROUND($D142*INTRO!$E$50,0))","v":51635},0,0,null,2,{"$f":"IF(INTRO!$E$37=\"Endemic\",IF($H142>0,IF($H142=4,\"Unknown\",IF($H142=99,\"Stopped\",$D142)),0),\"Not required\")","v":0},0,{"$f":"IF(INTRO!$E$41=\"Endemic\", IF($J142>1, IF($J142=4, \"Unknown\", IF($J142=99, \"Surveillance\", E142)), 0),\"Not required\")","v":"Not required"},{"$f":"IF(INTRO!$E$41=\"Endemic\", IF($J142>1, IF($J142=4, \"Unknown\", IF($J142=99, \"Surveillance\", F142)), 0),\"Not required\")","v":"Not required"},{"$f":"IF(INTRO!$E$41=\"Endemic\", IF($J142>1, IF($J142=4, \"Unknown\", IF($J142=99, \"Surveillance\", ROUND(D142*INTRO!$E$51,0))), 0),\"Not required\")","v":"Not required"},{"$f":"IF(INTRO!$E$41=\"Endemic\", IF($J142>1, IF($J142=4, \"Unknown\", IF($J142=99, \"Surveillance\", SUM($N142:$P142))), 0),\"Not required\")","v":"Not required"},{"$f":"IF(INTRO!$E$43=\"Endemic\", IF($K142>1, IF($K142=4, \"Unknown\", IF($K142=99, \"Surveillance\", ROUND(E142*0.75,0))), 0),\"Not required\")","v":6187},{"$f":"IF(INTRO!$E$43=\"Endemic\", IF($K142>1, IF($K142=4, \"Unknown\", IF($K142=99, \"Surveillance\", F142)), 0),\"Not required\")","v":19432},0,{"$f":"IF(INTRO!$E$43=\"Endemic\", IF($K142>1, IF($K142=4, \"Unknown\", IF($K142=99, \"Surveillance\", SUM($R142:$T142))), 0),\"Not required\")","v":25619},0,0,null,1,null,null,null,null,null,null,null,null,21488,"Ada West"]
[{"$f":"IF(INTRO!$E$33<>0,INTRO!$E$33, \" \")","v":"Ghana"},"Greater Accra","Adentan",247627.6,{"$f":"IF(INTRO!$E$48=\"\",\"\",ROUND($D143*INTRO!$E$48,0))","v":25753},{"$f":"IF(INTRO!$E$49=\"\",\"\",ROUND($D143*INTRO!$E$49,0))","v":60669},{"$f":"IF(INTRO!$E$50=\"\",\"\",ROUND($D143*INTRO!$E$50,0))","v":161206},0,0,null,2,{"$f":"IF(INTRO!$E$37=\"Endemic\",IF($H143>0,IF($H143=4,\"Unknown\",IF($H143=99,\"Stopped\",$D143)),0),\"Not required\")","v":0},0,{"$f":"IF(INTRO!$E$41=\"Endemic\", IF($J143>1, IF($J143=4, \"Unknown\", IF($J143=99, \"Surveillance\", E143)), 0),\"Not required\")","v":"Not required"},{"$f":"IF(INTRO!$E$41=\"Endemic\", IF($J143>1, IF($J143=4, \"Unknown\", IF($J143=99, \"Surveillance\", F143)), 0),\"Not required\")","v":"Not required"},{"$f":"IF(INTRO!$E$41=\"Endemic\", IF($J143>1, IF($J143=4, \"Unknown\", IF($J143=99, \"Surveillance\", ROUND(D143*INTRO!$E$51,0))), 0),\"Not required\")","v":"Not required"},{"$f":"IF(INTRO!$E$41=\"Endemic\", IF($J143>1, IF($J143=4, \"Unknown\", IF($J143=99, \"Surveillance\", SUM($N143:$P143))), 0),\"Not required\")","v":"Not required"},{"$f":"IF(INTRO!$E$43=\"Endemic\", IF($K143>1, IF($K143=4, \"Unknown\", IF($K143=99, \"Surveillance\", ROUND(E143*0.75,0))), 0),\"Not required\")","v":19315},{"$f":"IF(INTRO!$E$43=\"Endemic\", IF($K143>1, IF($K143=4, \"Unknown\", IF($K143=99, \"Surveillance\", F143)), 0),\"Not required\")","v":60669},0,{"$f":"IF(INTRO!$E$43=\"Endemic\", IF($K143>1, IF($K143=4, \"Unknown\", IF($K143=99, \"Surveillance\", SUM($R143:$T143))), 0),\"Not required\")","v":79984},0,0,null,1,null,null,null,null,null,null,null,null,21489,"Adenta"]
[{"$f":"IF(INTRO!$E$33<>0,INTRO!$E$33, \" \")","v":"Ghana"},"Greater Accra","Ashaiman",216890.1,{"$f":"IF(INTRO!$E$48=\"\",\"\",ROUND($D144*INTRO!$E$48,0))","v":22557},{"$f":"IF(INTRO!$E$49=\"\",\"\",ROUND($D144*INTRO!$E$49,0))","v":53138},{"$f":"IF(INTRO!$E$50=\"\",\"\",ROUND($D144*INTRO!$E$50,0))","v":141195},0,0,null,2,{"$f":"IF(INTRO!$E$37=\"Endemic\",IF($H144>0,IF($H144=4,\"Unknown\",IF($H144=99,\"Stopped\",$D144)),0),\"Not required\")","v":0},0,{"$f":"IF(INTRO!$E$41=\"Endemic\", IF($J144>1, IF($J144=4, \"Unknown\", IF($J144=99, \"Surveillance\", E144)), 0),\"Not required\")","v":"Not required"},{"$f":"IF(INTRO!$E$41=\"Endemic\", IF($J144>1, IF($J144=4, \"Unknown\", IF($J144=99, \"Surveillance\", F144)), 0),\"Not required\")","v":"Not required"},{"$f":"IF(INTRO!$E$41=\"Endemic\", IF($J144>1, IF($J144=4, \"Unknown\", IF($J144=99, \"Surveillance\", ROUND(D144*INTRO!$E$51,0))), 0),\"Not required\")","v":"Not required"},{"$f":"IF(INTRO!$E$41=\"Endemic\", IF($J144>1, IF($J144=4, \"Unknown\", IF($J144=99, \"Surveillance\", SUM($N144:$P144))), 0),\"Not required\")","v":"Not required"},{"$f":"IF(INTRO!$E$43=\"Endemic\", IF($K144>1, IF($K144=4, \"Unknown\", IF($K144=99, \"Surveillance\", ROUND(E144*0.75,0))), 0),\"Not required\")","v":16918},{"$f":"IF(INTRO!$E$43=\"Endemic\", IF($K144>1, IF($K144=4, \"Unknown\", IF($K144=99, \"Surveillance\", F144)), 0),\"Not required\")","v":53138},0,{"$f":"IF(INTRO!$E$43=\"Endemic\", IF($K144>1, IF($K144=4, \"Unknown\", IF($K144=99, \"Surveillance\", SUM($R144:$T144))), 0),\"Not required\")","v":70056},0,0,null,1,null,null,null,null,null,null,null,null,21490,"Ashiaman"]
[{"$f":"IF(INTRO!$E$33<>0,INTRO!$E$33, \" \")","v":"Ghana"},"Greater Accra","Ayawaso Central",98855.8,{"$f":"IF(INTRO!$E$48=\"\",\"\",ROUND($D145*INTRO!$E$48,0))","v":10281},{"$f":"IF(INTRO!$E$49=\"\",\"\",ROUND($D145*INTRO!$E$49,0))","v":24220},{"$f":"IF(INTRO!$E$50=\"\",\"\",ROUND($D145*INTRO!$E$50,0))","v":64355},99,0,null,2,{"$f":"IF(INTRO!$E$37=\"Endemic\",IF($H145>0,IF($H145=4,\"Unknown\",IF($H145=99,\"Stopped\",$D145)),0),\"Not required\")","v":"Stopped"},0,{"$f":"IF(INTRO!$E$41=\"Endemic\", IF($J145>1, IF($J145=4, \"Unknown\", IF($J145=99, \"Surveillance\", E145)), 0),\"Not required\")","v":"Not required"},{"$f":"IF(INTRO!$E$41=\"Endemic\", IF($J145>1, IF($J145=4, \"Unknown\", IF($J145=99, \"Surveillance\", F145)), 0),\"Not required\")","v":"Not required"},{"$f":"IF(INTRO!$E$41=\"Endemic\", IF($J145>1, IF($J145=4, \"Unknown\", IF($J145=99, \"Surveillance\", ROUND(D145*INTRO!$E$51,0))), 0),\"Not required\")","v":"Not required"},{"$f":"IF(INTRO!$E$41=\"Endemic\", IF($J145>1, IF($J145=4, \"Unknown\", IF($J145=99, \"Surveillance\", SUM($N145:$P145))), 0),\"Not required\")","v":"Not required"},{"$f":"IF(INTRO!$E$43=\"Endemic\", IF($K145>1, IF($K145=4, \"Unknown\", IF($K145=99, \"Surveillance\", ROUND(E145*0.75,0))), 0),\"Not required\")","v":7711},0,0,{"$f":"IF(INTRO!$E$43=\"Endemic\", IF($K145>1, IF($K145=4, \"Unknown\", IF($K145=99, \"Surveillance\", SUM($R145:$T145))), 0),\"Not required\")","v":7711},0,0,null,0,null,null,null,null,null,null,null,null,21650,"Ayawaso Central"]
[{"$f":"IF(INTRO!$E$33<>0,INTRO!$E$33, \" \")","v":"Ghana"},"Greater Accra","Ayawaso East",55253.7,{"$f":"IF(INTRO!$E$48=\"\",\"\",ROUND($D146*INTRO!$E$48,0))","v":5746},{"$f":"IF(INTRO!$E$49=\"\",\"\",ROUND($D146*INTRO!$E$49,0))","v":13537},{"$f":"IF(INTRO!$E$50=\"\",\"\",ROUND($D146*INTRO!$E$50,0))","v":35970},99,0,null,2,{"$f":"IF(INTRO!$E$37=\"Endemic\",IF($H146>0,IF($H146=4,\"Unknown\",IF($H146=99,\"Stopped\",$D146)),0),\"Not required\")","v":"Stopped"},0,{"$f":"IF(INTRO!$E$41=\"Endemic\", IF($J146>1, IF($J146=4, \"Unknown\", IF($J146=99, \"Surveillance\", E146)), 0),\"Not required\")","v":"Not required"},{"$f":"IF(INTRO!$E$41=\"Endemic\", IF($J146>1, IF($J146=4, \"Unknown\", IF($J146=99, \"Surveillance\", F146)), 0),\"Not required\")","v":"Not required"},{"$f":"IF(INTRO!$E$41=\"Endemic\", IF($J146>1, IF($J146=4, \"Unknown\", IF($J146=99, \"Surveillance\", ROUND(D146*INTRO!$E$51,0))), 0),\"Not required\")","v":"Not required"},{"$f":"IF(INTRO!$E$41=\"Endemic\", IF($J146>1, IF($J146=4, \"Unknown\", IF($J146=99, \"Surveillance\", SUM($N146:$P146))), 0),\"Not required\")","v":"Not required"},{"$f":"IF(INTRO!$E$43=\"Endemic\", IF($K146>1, IF($K146=4, \"Unknown\", IF($K146=99, \"Surveillance\", ROUND(E146*0.75,0))), 0),\"Not required\")","v":4310},0,0,{"$f":"IF(INTRO!$E$43=\"Endemic\", IF($K146>1, IF($K146=4, \"Unknown\", IF($K146=99, \"Surveillance\", SUM($R146:$T146))), 0),\"Not required\")","v":4310},0,0,null,0,null,null,null,null,null,null,null,null,21651,"Ayawaso East"]
[{"$f":"IF(INTRO!$E$33<>0,INTRO!$E$33, \" \")","v":"Ghana"},"Greater Accra","Ayawaso North",66076.2,{"$f":"IF(INTRO!$E$48=\"\",\"\",ROUND($D147*INTRO!$E$48,0))","v":6872},{"$f":"IF(INTRO!$E$49=\"\",\"\",ROUND($D147*INTRO!$E$49,0))","v":16189},{"$f":"IF(INTRO!$E$50=\"\",\"\",ROUND($D147*INTRO!$E$50,0))","v":43016},99,0,null,2,{"$f":"IF(INTRO!$E$37=\"Endemic\",IF($H147>0,IF($H147=4,\"Unknown\",IF($H147=99,\"Stopped\",$D147)),0),\"Not required\")","v":"Stopped"},0,{"$f":"IF(INTRO!$E$41=\"Endemic\", IF($J147>1, IF($J147=4, \"Unknown\", IF($J147=99, \"Surveillance\", E147)), 0),\"Not required\")","v":"Not required"},{"$f":"IF(INTRO!$E$41=\"Endemic\", IF($J147>1, IF($J147=4, \"Unknown\", IF($J147=99, \"Surveillance\", F147)), 0),\"Not required\")","v":"Not required"},{"$f":"IF(INTRO!$E$41=\"Endemic\", IF($J147>1, IF($J147=4, \"Unknown\", IF($J147=99, \"Surveillance\", ROUND(D147*INTRO!$E$51,0))), 0),\"Not required\")","v":"Not required"},{"$f":"IF(INTRO!$E$41=\"Endemic\", IF($J147>1, IF($J147=4, \"Unknown\", IF($J147=99, \"Surveillance\", SUM($N147:$P147))), 0),\"Not required\")","v":"Not required"},{"$f":"IF(INTRO!$E$43=\"Endemic\", IF($K147>1, IF($K147=4, \"Unknown\", IF($K147=99, \"Surveillance\", ROUND(E147*0.75,0))), 0),\"Not required\")","v":5154},0,0,{"$f":"IF(INTRO!$E$43=\"Endemic\", IF($K147>1, IF($K147=4, \"Unknown\", IF($K147=99, \"Surveillance\", SUM($R147:$T147))), 0),\"Not required\")","v":5154},0,0,null,0,null,null,null,null,null,null,null,null,21652,"Ayawaso North"]
[{"$f":"IF(INTRO!$E$33<>0,INTRO!$E$33, \" \")","v":"Ghana"},"Greater Accra","Ayawaso West",78498.899999999994,{"$f":"IF(INTRO!$E$48=\"\",\"\",ROUND($D148*INTRO!$E$48,0))","v":8164},{"$f":"IF(INTRO!$E$49=\"\",\"\",ROUND($D148*INTRO!$E$49,0))","v":19232},{"$f":"IF(INTRO!$E$50=\"\",\"\",ROUND($D148*INTRO!$E$50,0))","v":51103},99,0,null,2,{"$f":"IF(INTRO!$E$37=\"Endemic\",IF($H148>0,IF($H148=4,\"Unknown\",IF($H148=99,\"Stopped\",$D148)),0),\"Not required\")","v":"Stopped"},0,{"$f":"IF(INTRO!$E$41=\"Endemic\", IF($J148>1, IF($J148=4, \"Unknown\", IF($J148=99, \"Surveillance\", E148)), 0),\"Not required\")","v":"Not required"},{"$f":"IF(INTRO!$E$41=\"Endemic\", IF($J148>1, IF($J148=4, \"Unknown\", IF($J148=99, \"Surveillance\", F148)), 0),\"Not required\")","v":"Not required"},{"$f":"IF(INTRO!$E$41=\"Endemic\", IF($J148>1, IF($J148=4, \"Unknown\", IF($J148=99, \"Surveillance\", ROUND(D148*INTRO!$E$51,0))), 0),\"Not required\")","v":"Not required"},{"$f":"IF(INTRO!$E$41=\"Endemic\", IF($J148>1, IF($J148=4, \"Unknown\", IF($J148=99, \"Surveillance\", SUM($N148:$P148))), 0),\"Not required\")","v":"Not required"},{"$f":"IF(INTRO!$E$43=\"Endemic\", IF($K148>1, IF($K148=4, \"Unknown\", IF($K148=99, \"Surveillance\", ROUND(E148*0.75,0))), 0),\"Not required\")","v":6123},0,0,{"$f":"IF(INTRO!$E$43=\"Endemic\", IF($K148>1, IF($K148=4, \"Unknown\", IF($K148=99, \"Surveillance\", SUM($R148:$T148))), 0),\"Not required\")","v":6123},0,0,null,0,null,null,null,null,null,null,null,null,21653,"Ayawaso West"]
[{"$f":"IF(INTRO!$E$33<>0,INTRO!$E$33, \" \")","v":"Ghana"},"Greater Accra","Ga Central",346332.2,{"$f":"IF(INTRO!$E$48=\"\",\"\",ROUND($D149*INTRO!$E$48,0))","v":36019},{"$f":"IF(INTRO!$E$49=\"\",\"\",ROUND($D149*INTRO!$E$49,0))","v":84851},{"$f":"IF(INTRO!$E$50=\"\",\"\",ROUND($D149*INTRO!$E$50,0))","v":225462},99,0,null,3,{"$f":"IF(INTRO!$E$37=\"Endemic\",IF($H149>0,IF($H149=4,\"Unknown\",IF($H149=99,\"Stopped\",$D149)),0),\"Not required\")","v":"Stopped"},0,{"$f":"IF(INTRO!$E$41=\"Endemic\", IF($J149>1, IF($J149=4, \"Unknown\", IF($J149=99, \"Surveillance\", E149)), 0),\"Not required\")","v":"Not required"},{"$f":"IF(INTRO!$E$41=\"Endemic\", IF($J149>1, IF($J149=4, \"Unknown\", IF($J149=99, \"Surveillance\", F149)), 0),\"Not required\")","v":"Not required"},{"$f":"IF(INTRO!$E$41=\"Endemic\", IF($J149>1, IF($J149=4, \"Unknown\", IF($J149=99, \"Surveillance\", ROUND(D149*INTRO!$E$51,0))), 0),\"Not required\")","v":"Not required"},{"$f":"IF(INTRO!$E$41=\"Endemic\", IF($J149>1, IF($J149=4, \"Unknown\", IF($J149=99, \"Surveillance\", SUM($N149:$P149))), 0),\"Not required\")","v":"Not required"},{"$f":"IF(INTRO!$E$43=\"Endemic\", IF($K149>1, IF($K149=4, \"Unknown\", IF($K149=99, \"Surveillance\", ROUND(E149*0.75,0))), 0),\"Not required\")","v":27014},0,0,{"$f":"IF(INTRO!$E$43=\"Endemic\", IF($K149>1, IF($K149=4, \"Unknown\", IF($K149=99, \"Surveillance\", SUM($R149:$T149))), 0),\"Not required\")","v":27014},0,0,null,0,null,null,null,null,null,null,null,null,21492,"Ga Central"]
[{"$f":"IF(INTRO!$E$33<>0,INTRO!$E$33, \" \")","v":"Ghana"},"Greater Accra","Ga East",295405.8,{"$f":"IF(INTRO!$E$48=\"\",\"\",ROUND($D150*INTRO!$E$48,0))","v":30722},{"$f":"IF(INTRO!$E$49=\"\",\"\",ROUND($D150*INTRO!$E$49,0))","v":72374},{"$f":"IF(INTRO!$E$50=\"\",\"\",ROUND($D150*INTRO!$E$50,0))","v":192309},99,0,null,2,{"$f":"IF(INTRO!$E$37=\"Endemic\",IF($H150>0,IF($H150=4,\"Unknown\",IF($H150=99,\"Stopped\",$D150)),0),\"Not required\")","v":"Stopped"},0,{"$f":"IF(INTRO!$E$41=\"Endemic\", IF($J150>1, IF($J150=4, \"Unknown\", IF($J150=99, \"Surveillance\", E150)), 0),\"Not required\")","v":"Not required"},{"$f":"IF(INTRO!$E$41=\"Endemic\", IF($J150>1, IF($J150=4, \"Unknown\", IF($J150=99, \"Surveillance\", F150)), 0),\"Not required\")","v":"Not required"},{"$f":"IF(INTRO!$E$41=\"Endemic\", IF($J150>1, IF($J150=4, \"Unknown\", IF($J150=99, \"Surveillance\", ROUND(D150*INTRO!$E$51,0))), 0),\"Not required\")","v":"Not required"},{"$f":"IF(INTRO!$E$41=\"Endemic\", IF($J150>1, IF($J150=4, \"Unknown\", IF($J150=99, \"Surveillance\", SUM($N150:$P150))), 0),\"Not required\")","v":"Not required"},{"$f":"IF(INTRO!$E$43=\"Endemic\", IF($K150>1, IF($K150=4, \"Unknown\", IF($K150=99, \"Surveillance\", ROUND(E150*0.75,0))), 0),\"Not required\")","v":23042},{"$f":"IF(INTRO!$E$43=\"Endemic\", IF($K150>1, IF($K150=4, \"Unknown\", IF($K150=99, \"Surveillance\", F150)), 0),\"Not required\")","v":72374},0,{"$f":"IF(INTRO!$E$43=\"Endemic\", IF($K150>1, IF($K150=4, \"Unknown\", IF($K150=99, \"Surveillance\", SUM($R150:$T150))), 0),\"Not required\")","v":95416},0,0,null,1,null,null,null,null,null,null,null,null,21493,"Ga East"]
[{"$f":"IF(INTRO!$E$33<>0,INTRO!$E$33, \" \")","v":"Ghana"},"Greater Accra","Ga North",245278.1,{"$f":"IF(INTRO!$E$48=\"\",\"\",ROUND($D151*INTRO!$E$48,0))","v":25509},{"$f":"IF(INTRO!$E$49=\"\",\"\",ROUND($D151*INTRO!$E$49,0))","v":60093},{"$f":"IF(INTRO!$E$50=\"\",\"\",ROUND($D151*INTRO!$E$50,0))","v":159676},99,0,null,3,{"$f":"IF(INTRO!$E$37=\"Endemic\",IF($H151>0,IF($H151=4,\"Unknown\",IF($H151=99,\"Stopped\",$D151)),0),\"Not required\")","v":"Stopped"},0,{"$f":"IF(INTRO!$E$41=\"Endemic\", IF($J151>1, IF($J151=4, \"Unknown\", IF($J151=99, \"Surveillance\", E151)), 0),\"Not required\")","v":"Not required"},{"$f":"IF(INTRO!$E$41=\"Endemic\", IF($J151>1, IF($J151=4, \"Unknown\", IF($J151=99, \"Surveillance\", F151)), 0),\"Not required\")","v":"Not required"},{"$f":"IF(INTRO!$E$41=\"Endemic\", IF($J151>1, IF($J151=4, \"Unknown\", IF($J151=99, \"Surveillance\", ROUND(D151*INTRO!$E$51,0))), 0),\"Not required\")","v":"Not required"},{"$f":"IF(INTRO!$E$41=\"Endemic\", IF($J151>1, IF($J151=4, \"Unknown\", IF($J151=99, \"Surveillance\", SUM($N151:$P151))), 0),\"Not required\")","v":"Not required"},{"$f":"IF(INTRO!$E$43=\"Endemic\", IF($K151>1, IF($K151=4, \"Unknown\", IF($K151=99, \"Surveillance\", ROUND(E151*0.75,0))), 0),\"Not required\")","v":19132},{"$f":"IF(INTRO!$E$43=\"Endemic\", IF($K151>1, IF($K151=4, \"Unknown\", IF($K151=99, \"Surveillance\", F151)), 0),\"Not required\")","v":60093},12365,{"$f":"IF(INTRO!$E$43=\"Endemic\", IF($K151>1, IF($K151=4, \"Unknown\", IF($K151=99, \"Surveillance\", SUM($R151:$T151))), 0),\"Not required\")","v":91590},0,0,null,1,null,null,null,null,null,null,null,null,21659,"Ga North"]
[{"$f":"IF(INTRO!$E$33<>0,INTRO!$E$33, \" \")","v":"Ghana"},"Greater Accra","Ga South",364980.3,{"$f":"IF(INTRO!$E$48=\"\",\"\",ROUND($D152*INTRO!$E$48,0))","v":37958},{"$f":"IF(INTRO!$E$49=\"\",\"\",ROUND($D152*INTRO!$E$49,0))","v":89420},{"$f":"IF(INTRO!$E$50=\"\",\"\",ROUND($D152*INTRO!$E$50,0))","v":237602},99,0,null,3,{"$f":"IF(INTRO!$E$37=\"Endemic\",IF($H152>0,IF($H152=4,\"Unknown\",IF($H152=99,\"Stopped\",$D152)),0),\"Not required\")","v":"Stopped"},0,{"$f":"IF(INTRO!$E$41=\"Endemic\", IF($J152>1, IF($J152=4, \"Unknown\", IF($J152=99, \"Surveillance\", E152)), 0),\"Not required\")","v":"Not required"},{"$f":"IF(INTRO!$E$41=\"Endemic\", IF($J152>1, IF($J152=4, \"Unknown\", IF($J152=99, \"Surveillance\", F152)), 0),\"Not required\")","v":"Not required"},{"$f":"IF(INTRO!$E$41=\"Endemic\", IF($J152>1, IF($J152=4, \"Unknown\", IF($J152=99, \"Surveillance\", ROUND(D152*INTRO!$E$51,0))), 0),\"Not required\")","v":"Not required"},{"$f":"IF(INTRO!$E$41=\"Endemic\", IF($J152>1, IF($J152=4, \"Unknown\", IF($J152=99, \"Surveillance\", SUM($N152:$P152))), 0),\"Not required\")","v":"Not required"},{"$f":"IF(INTRO!$E$43=\"Endemic\", IF($K152>1, IF($K152=4, \"Unknown\", IF($K152=99, \"Surveillance\", ROUND(E152*0.75,0))), 0),\"Not required\")","v":28469},32154,54562,{"$f":"IF(INTRO!$E$43=\"Endemic\", IF($K152>1, IF($K152=4, \"Unknown\", IF($K152=99, \"Surveillance\", SUM($R152:$T152))), 0),\"Not required\")","v":115185},0,0,null,1,null,null,null,null,null,null,null,null,21658,"Ga South"]
[{"$f":"IF(INTRO!$E$33<>0,INTRO!$E$33, \" \")","v":"Ghana"},"Greater Accra","Ga West",327638.3,{"$f":"IF(INTRO!$E$48=\"\",\"\",ROUND($D153*INTRO!$E$48,0))","v":34074},{"$f":"IF(INTRO!$E$49=\"\",\"\",ROUND($D153*INTRO!$E$49,0))","v":80271},{"$f":"IF(INTRO!$E$50=\"\",\"\",ROUND($D153*INTRO!$E$50,0))","v":213293},99,0,null,3,{"$f":"IF(INTRO!$E$37=\"Endemic\",IF($H153>0,IF($H153=4,\"Unknown\",IF($H153=99,\"Stopped\",$D153)),0),\"Not required\")","v":"Stopped"},0,{"$f":"IF(INTRO!$E$41=\"Endemic\", IF($J153>1, IF($J153=4, \"Unknown\", IF($J153=99, \"Surveillance\", E153)), 0),\"Not required\")","v":"Not required"},{"$f":"IF(INTRO!$E$41=\"Endemic\", IF($J153>1, IF($J153=4, \"Unknown\", IF($J153=99, \"Surveillance\", F153)), 0),\"Not required\")","v":"Not required"},{"$f":"IF(INTRO!$E$41=\"Endemic\", IF($J153>1, IF($J153=4, \"Unknown\", IF($J153=99, \"Surveillance\", ROUND(D153*INTRO!$E$51,0))), 0),\"Not required\")","v":"Not required"},{"$f":"IF(INTRO!$E$41=\"Endemic\", IF($J153>1, IF($J153=4, \"Unknown\", IF($J153=99, \"Surveillance\", SUM($N153:$P153))), 0),\"Not required\")","v":"Not required"},{"$f":"IF(INTRO!$E$43=\"Endemic\", IF($K153>1, IF($K153=4, \"Unknown\", IF($K153=99, \"Surveillance\", ROUND(E153*0.75,0))), 0),\"Not required\")","v":25556},{"$f":"IF(INTRO!$E$43=\"Endemic\", IF($K153>1, IF($K153=4, \"Unknown\", IF($K153=99, \"Surveillance\", F153)), 0),\"Not required\")","v":80271},0,{"$f":"IF(INTRO!$E$43=\"Endemic\", IF($K153>1, IF($K153=4, \"Unknown\", IF($K153=99, \"Surveillance\", SUM($R153:$T153))), 0),\"Not required\")","v":105827},0,0,null,1,null,null,null,null,null,null,null,null,21660,"Ga West"]
[{"$f":"IF(INTRO!$E$33<>0,INTRO!$E$33, \" \")","v":"Ghana"},"Greater Accra","Korle-Klottey",71545.899999999994,{"$f":"IF(INTRO!$E$48=\"\",\"\",ROUND($D154*INTRO!$E$48,0))","v":7441},{"$f":"IF(INTRO!$E$49=\"\",\"\",ROUND($D154*INTRO!$E$49,0))","v":17529},{"$f":"IF(INTRO!$E$50=\"\",\"\",ROUND($D154*INTRO!$E$50,0))","v":46576},99,0,null,2,{"$f":"IF(INTRO!$E$37=\"Endemic\",IF($H154>0,IF($H154=4,\"Unknown\",IF($H154=99,\"Stopped\",$D154)),0),\"Not required\")","v":"Stopped"},0,{"$f":"IF(INTRO!$E$41=\"Endemic\", IF($J154>1, IF($J154=4, \"Unknown\", IF($J154=99, \"Surveillance\", E154)), 0),\"Not required\")","v":"Not required"},{"$f":"IF(INTRO!$E$41=\"Endemic\", IF($J154>1, IF($J154=4, \"Unknown\", IF($J154=99, \"Surveillance\", F154)), 0),\"Not required\")","v":"Not required"},{"$f":"IF(INTRO!$E$41=\"Endemic\", IF($J154>1, IF($J154=4, \"Unknown\", IF($J154=99, \"Surveillance\", ROUND(D154*INTRO!$E$51,0))), 0),\"Not required\")","v":"Not required"},{"$f":"IF(INTRO!$E$41=\"Endemic\", IF($J154>1, IF($J154=4, \"Unknown\", IF($J154=99, \"Surveillance\", SUM($N154:$P154))), 0),\"Not required\")","v":"Not required"},{"$f":"IF(INTRO!$E$43=\"Endemic\", IF($K154>1, IF($K154=4, \"Unknown\", IF($K154=99, \"Surveillance\", ROUND(E154*0.75,0))), 0),\"Not required\")","v":5581},0,0,{"$f":"IF(INTRO!$E$43=\"Endemic\", IF($K154>1, IF($K154=4, \"Unknown\", IF($K154=99, \"Surveillance\", SUM($R154:$T154))), 0),\"Not required\")","v":5581},0,0,null,0,null,null,null,null,null,null,null,null,21654,"Korle-Klottey"]
[{"$f":"IF(INTRO!$E$33<>0,INTRO!$E$33, \" \")","v":"Ghana"},"Greater Accra","Kpone-Katamanso",435046.1,{"$f":"IF(INTRO!$E$48=\"\",\"\",ROUND($D155*INTRO!$E$48,0))","v":45245},{"$f":"IF(INTRO!$E$49=\"\",\"\",ROUND($D155*INTRO!$E$49,0))","v":106586},{"$f":"IF(INTRO!$E$50=\"\",\"\",ROUND($D155*INTRO!$E$50,0))","v":283215},0,0,null,2,{"$f":"IF(INTRO!$E$37=\"Endemic\",IF($H155>0,IF($H155=4,\"Unknown\",IF($H155=99,\"Stopped\",$D155)),0),\"Not required\")","v":0},0,{"$f":"IF(INTRO!$E$41=\"Endemic\", IF($J155>1, IF($J155=4, \"Unknown\", IF($J155=99, \"Surveillance\", E155)), 0),\"Not required\")","v":"Not required"},{"$f":"IF(INTRO!$E$41=\"Endemic\", IF($J155>1, IF($J155=4, \"Unknown\", IF($J155=99, \"Surveillance\", F155)), 0),\"Not required\")","v":"Not required"},{"$f":"IF(INTRO!$E$41=\"Endemic\", IF($J155>1, IF($J155=4, \"Unknown\", IF($J155=99, \"Surveillance\", ROUND(D155*INTRO!$E$51,0))), 0),\"Not required\")","v":"Not required"},{"$f":"IF(INTRO!$E$41=\"Endemic\", IF($J155>1, IF($J155=4, \"Unknown\", IF($J155=99, \"Surveillance\", SUM($N155:$P155))), 0),\"Not required\")","v":"Not required"},{"$f":"IF(INTRO!$E$43=\"Endemic\", IF($K155>1, IF($K155=4, \"Unknown\", IF($K155=99, \"Surveillance\", ROUND(E155*0.75,0))), 0),\"Not required\")","v":33934},{"$f":"IF(INTRO!$E$43=\"Endemic\", IF($K155>1, IF($K155=4, \"Unknown\", IF($K155=99, \"Surveillance\", F155)), 0),\"Not required\")","v":106586},0,{"$f":"IF(INTRO!$E$43=\"Endemic\", IF($K155>1, IF($K155=4, \"Unknown\", IF($K155=99, \"Surveillance\", SUM($R155:$T155))), 0),\"Not required\")","v":140520},0,0,null,1,null,null,null,null,null,null,null,null,21496,"Kpone Katamanso"]
[{"$f":"IF(INTRO!$E$33<>0,INTRO!$E$33, \" \")","v":"Ghana"},"Greater Accra","Krowor",149081.60000000001,{"$f":"IF(INTRO!$E$48=\"\",\"\",ROUND($D156*INTRO!$E$48,0))","v":15504},{"$f":"IF(INTRO!$E$49=\"\",\"\",ROUND($D156*INTRO!$E$49,0))","v":36525},{"$f":"IF(INTRO!$E$50=\"\",\"\",ROUND($D156*INTRO!$E$50,0))","v":97052},99,0,null,2,{"$f":"IF(INTRO!$E$37=\"Endemic\",IF($H156>0,IF($H156=4,\"Unknown\",IF($H156=99,\"Stopped\",$D156)),0),\"Not required\")","v":"Stopped"},0,{"$f":"IF(INTRO!$E$41=\"Endemic\", IF($J156>1, IF($J156=4, \"Unknown\", IF($J156=99, \"Surveillance\", E156)), 0),\"Not required\")","v":"Not required"},{"$f":"IF(INTRO!$E$41=\"Endemic\", IF($J156>1, IF($J156=4, \"Unknown\", IF($J156=99, \"Surveillance\", F156)), 0),\"Not required\")","v":"Not required"},{"$f":"IF(INTRO!$E$41=\"Endemic\", IF($J156>1, IF($J156=4, \"Unknown\", IF($J156=99, \"Surveillance\", ROUND(D156*INTRO!$E$51,0))), 0),\"Not required\")","v":"Not required"},{"$f":"IF(INTRO!$E$41=\"Endemic\", IF($J156>1, IF($J156=4, \"Unknown\", IF($J156=99, \"Surveillance\", SUM($N156:$P156))), 0),\"Not required\")","v":"Not required"},{"$f":"IF(INTRO!$E$43=\"Endemic\", IF($K156>1, IF($K156=4, \"Unknown\", IF($K156=99, \"Surveillance\", ROUND(E156*0.75,0))), 0),\"Not required\")","v":11628},{"$f":"IF(INTRO!$E$43=\"Endemic\", IF($K156>1, IF($K156=4, \"Unknown\", IF($K156=99, \"Surveillance\", F156)), 0),\"Not required\")","v":36525},0,{"$f":"IF(INTRO!$E$43=\"Endemic\", IF($K156>1, IF($K156=4, \"Unknown\", IF($K156=99, \"Surveillance\", SUM($R156:$T156))), 0),\"Not required\")","v":48153},0,0,null,0,null,null,null,null,null,null,null,null,21661,"Krowor"]
[{"$f":"IF(INTRO!$E$33<>0,INTRO!$E$33, \" \")","v":"Ghana"},"Greater Accra","La-Dade-Kotopon",146217.9,{"$f":"IF(INTRO!$E$48=\"\",\"\",ROUND($D157*INTRO!$E$48,0))","v":15207},{"$f":"IF(INTRO!$E$49=\"\",\"\",ROUND($D157*INTRO!$E$49,0))","v":35823},{"$f":"IF(INTRO!$E$50=\"\",\"\",ROUND($D157*INTRO!$E$50,0))","v":95188},99,0,null,2,{"$f":"IF(INTRO!$E$37=\"Endemic\",IF($H157>0,IF($H157=4,\"Unknown\",IF($H157=99,\"Stopped\",$D157)),0),\"Not required\")","v":"Stopped"},0,{"$f":"IF(INTRO!$E$41=\"Endemic\", IF($J157>1, IF($J157=4, \"Unknown\", IF($J157=99, \"Surveillance\", E157)), 0),\"Not required\")","v":"Not required"},{"$f":"IF(INTRO!$E$41=\"Endemic\", IF($J157>1, IF($J157=4, \"Unknown\", IF($J157=99, \"Surveillance\", F157)), 0),\"Not required\")","v":"Not required"},{"$f":"IF(INTRO!$E$41=\"Endemic\", IF($J157>1, IF($J157=4, \"Unknown\", IF($J157=99, \"Surveillance\", ROUND(D157*INTRO!$E$51,0))), 0),\"Not required\")","v":"Not required"},{"$f":"IF(INTRO!$E$41=\"Endemic\", IF($J157>1, IF($J157=4, \"Unknown\", IF($J157=99, \"Surveillance\", SUM($N157:$P157))), 0),\"Not required\")","v":"Not required"},{"$f":"IF(INTRO!$E$43=\"Endemic\", IF($K157>1, IF($K157=4, \"Unknown\", IF($K157=99, \"Surveillance\", ROUND(E157*0.75,0))), 0),\"Not required\")","v":11405},{"$f":"IF(INTRO!$E$43=\"Endemic\", IF($K157>1, IF($K157=4, \"Unknown\", IF($K157=99, \"Surveillance\", F157)), 0),\"Not required\")","v":35823},0,{"$f":"IF(INTRO!$E$43=\"Endemic\", IF($K157>1, IF($K157=4, \"Unknown\", IF($K157=99, \"Surveillance\", SUM($R157:$T157))), 0),\"Not required\")","v":47228},0,0,null,0,null,null,null,null,null,null,null,null,21497,"La Dade-Kotopon"]
[{"$f":"IF(INTRO!$E$33<>0,INTRO!$E$33, \" \")","v":"Ghana"},"Greater Accra","La-Nkwantanang-Madina",255060.3,{"$f":"IF(INTRO!$E$48=\"\",\"\",ROUND($D158*INTRO!$E$48,0))","v":26526},{"$f":"IF(INTRO!$E$49=\"\",\"\",ROUND($D158*INTRO!$E$49,0))","v":62490},{"$f":"IF(INTRO!$E$50=\"\",\"\",ROUND($D158*INTRO!$E$50,0))","v":166044},99,0,null,2,{"$f":"IF(INTRO!$E$37=\"Endemic\",IF($H158>0,IF($H158=4,\"Unknown\",IF($H158=99,\"Stopped\",$D158)),0),\"Not required\")","v":"Stopped"},0,{"$f":"IF(INTRO!$E$41=\"Endemic\", IF($J158>1, IF($J158=4, \"Unknown\", IF($J158=99, \"Surveillance\", E158)), 0),\"Not required\")","v":"Not required"},{"$f":"IF(INTRO!$E$41=\"Endemic\", IF($J158>1, IF($J158=4, \"Unknown\", IF($J158=99, \"Surveillance\", F158)), 0),\"Not required\")","v":"Not required"},{"$f":"IF(INTRO!$E$41=\"Endemic\", IF($J158>1, IF($J158=4, \"Unknown\", IF($J158=99, \"Surveillance\", ROUND(D158*INTRO!$E$51,0))), 0),\"Not required\")","v":"Not required"},{"$f":"IF(INTRO!$E$41=\"Endemic\", IF($J158>1, IF($J158=4, \"Unknown\", IF($J158=99, \"Surveillance\", SUM($N158:$P158))), 0),\"Not required\")","v":"Not required"},{"$f":"IF(INTRO!$E$43=\"Endemic\", IF($K158>1, IF($K158=4, \"Unknown\", IF($K158=99, \"Surveillance\", ROUND(E158*0.75,0))), 0),\"Not required\")","v":19895},{"$f":"IF(INTRO!$E$43=\"Endemic\", IF($K158>1, IF($K158=4, \"Unknown\", IF($K158=99, \"Surveillance\", F158)), 0),\"Not required\")","v":62490},0,{"$f":"IF(INTRO!$E$43=\"Endemic\", IF($K158>1, IF($K158=4, \"Unknown\", IF($K158=99, \"Surveillance\", SUM($R158:$T158))), 0),\"Not required\")","v":82385},0,0,null,1,null,null,null,null,null,null,null,null,21498,"La-Nkwantanang-Madina"]
[{"$f":"IF(INTRO!$E$33<>0,INTRO!$E$33, \" \")","v":"Ghana"},"Greater Accra","Ledzokuku",226526.5,{"$f":"IF(INTRO!$E$48=\"\",\"\",ROUND($D159*INTRO!$E$48,0))","v":23559},{"$f":"IF(INTRO!$E$49=\"\",\"\",ROUND($D159*INTRO!$E$49,0))","v":55499},{"$f":"IF(INTRO!$E$50=\"\",\"\",ROUND($D159*INTRO!$E$50,0))","v":147469},99,0,null,2,{"$f":"IF(INTRO!$E$37=\"Endemic\",IF($H159>0,IF($H159=4,\"Unknown\",IF($H159=99,\"Stopped\",$D159)),0),\"Not required\")","v":"Stopped"},0,{"$f":"IF(INTRO!$E$41=\"Endemic\", IF($J159>1, IF($J159=4, \"Unknown\", IF($J159=99, \"Surveillance\", E159)), 0),\"Not required\")","v":"Not required"},{"$f":"IF(INTRO!$E$41=\"Endemic\", IF($J159>1, IF($J159=4, \"Unknown\", IF($J159=99, \"Surveillance\", F159)), 0),\"Not required\")","v":"Not required"},{"$f":"IF(INTRO!$E$41=\"Endemic\", IF($J159>1, IF($J159=4, \"Unknown\", IF($J159=99, \"Surveillance\", ROUND(D159*INTRO!$E$51,0))), 0),\"Not required\")","v":"Not required"},{"$f":"IF(INTRO!$E$41=\"Endemic\", IF($J159>1, IF($J159=4, \"Unknown\", IF($J159=99, \"Surveillance\", SUM($N159:$P159))), 0),\"Not required\")","v":"Not required"},{"$f":"IF(INTRO!$E$43=\"Endemic\", IF($K159>1, IF($K159=4, \"Unknown\", IF($K159=99, \"Surveillance\", ROUND(E159*0.75,0))), 0),\"Not required\")","v":17669},{"$f":"IF(INTRO!$E$43=\"Endemic\", IF($K159>1, IF($K159=4, \"Unknown\", IF($K159=99, \"Surveillance\", F159)), 0),\"Not required\")","v":55499},0,{"$f":"IF(INTRO!$E$43=\"Endemic\", IF($K159>1, IF($K159=4, \"Unknown\", IF($K159=99, \"Surveillance\", SUM($R159:$T159))), 0),\"Not required\")","v":73168},0,0,null,0,null,null,null,null,null,null,null,null,21662,"Ledzokuku"]
[{"$f":"IF(INTRO!$E$33<>0,INTRO!$E$33, \" \")","v":"Ghana"},"Greater Accra","Ningo Prampram",213359.5,{"$f":"IF(INTRO!$E$48=\"\",\"\",ROUND($D160*INTRO!$E$48,0))","v":22189},{"$f":"IF(INTRO!$E$49=\"\",\"\",ROUND($D160*INTRO!$E$49,0))","v":52273},{"$f":"IF(INTRO!$E$50=\"\",\"\",ROUND($D160*INTRO!$E$50,0))","v":138897},0,0,null,2,{"$f":"IF(INTRO!$E$37=\"Endemic\",IF($H160>0,IF($H160=4,\"Unknown\",IF($H160=99,\"Stopped\",$D160)),0),\"Not required\")","v":0},0,{"$f":"IF(INTRO!$E$41=\"Endemic\", IF($J160>1, IF($J160=4, \"Unknown\", IF($J160=99, \"Surveillance\", E160)), 0),\"Not required\")","v":"Not required"},{"$f":"IF(INTRO!$E$41=\"Endemic\", IF($J160>1, IF($J160=4, \"Unknown\", IF($J160=99, \"Surveillance\", F160)), 0),\"Not required\")","v":"Not required"},{"$f":"IF(INTRO!$E$41=\"Endemic\", IF($J160>1, IF($J160=4, \"Unknown\", IF($J160=99, \"Surveillance\", ROUND(D160*INTRO!$E$51,0))), 0),\"Not required\")","v":"Not required"},{"$f":"IF(INTRO!$E$41=\"Endemic\", IF($J160>1, IF($J160=4, \"Unknown\", IF($J160=99, \"Surveillance\", SUM($N160:$P160))), 0),\"Not required\")","v":"Not required"},{"$f":"IF(INTRO!$E$43=\"Endemic\", IF($K160>1, IF($K160=4, \"Unknown\", IF($K160=99, \"Surveillance\", ROUND(E160*0.75,0))), 0),\"Not required\")","v":16642},{"$f":"IF(INTRO!$E$43=\"Endemic\", IF($K160>1, IF($K160=4, \"Unknown\", IF($K160=99, \"Surveillance\", F160)), 0),\"Not required\")","v":52273},0,{"$f":"IF(INTRO!$E$43=\"Endemic\", IF($K160>1, IF($K160=4, \"Unknown\", IF($K160=99, \"Surveillance\", SUM($R160:$T160))), 0),\"Not required\")","v":68915},0,0,null,1,null,null,null,null,null,null,null,null,21500,"Ningo Prampram"]
[{"$f":"IF(INTRO!$E$33<>0,INTRO!$E$33, \" \")","v":"Ghana"},"Greater Accra","Okai Koi North",167255.5,{"$f":"IF(INTRO!$E$48=\"\",\"\",ROUND($D161*INTRO!$E$48,0))","v":17395},{"$f":"IF(INTRO!$E$49=\"\",\"\",ROUND($D161*INTRO!$E$49,0))","v":40978},{"$f":"IF(INTRO!$E$50=\"\",\"\",ROUND($D161*INTRO!$E$50,0))","v":108883},99,0,null,2,{"$f":"IF(INTRO!$E$37=\"Endemic\",IF($H161>0,IF($H161=4,\"Unknown\",IF($H161=99,\"Stopped\",$D161)),0),\"Not required\")","v":"Stopped"},0,{"$f":"IF(INTRO!$E$41=\"Endemic\", IF($J161>1, IF($J161=4, \"Unknown\", IF($J161=99, \"Surveillance\", E161)), 0),\"Not required\")","v":"Not required"},{"$f":"IF(INTRO!$E$41=\"Endemic\", IF($J161>1, IF($J161=4, \"Unknown\", IF($J161=99, \"Surveillance\", F161)), 0),\"Not required\")","v":"Not required"},{"$f":"IF(INTRO!$E$41=\"Endemic\", IF($J161>1, IF($J161=4, \"Unknown\", IF($J161=99, \"Surveillance\", ROUND(D161*INTRO!$E$51,0))), 0),\"Not required\")","v":"Not required"},{"$f":"IF(INTRO!$E$41=\"Endemic\", IF($J161>1, IF($J161=4, \"Unknown\", IF($J161=99, \"Surveillance\", SUM($N161:$P161))), 0),\"Not required\")","v":"Not required"},{"$f":"IF(INTRO!$E$43=\"Endemic\", IF($K161>1, IF($K161=4, \"Unknown\", IF($K161=99, \"Surveillance\", ROUND(E161*0.75,0))), 0),\"Not required\")","v":13046},{"$f":"IF(INTRO!$E$43=\"Endemic\", IF($K161>1, IF($K161=4, \"Unknown\", IF($K161=99, \"Surveillance\", F161)), 0),\"Not required\")","v":40978},0,{"$f":"IF(INTRO!$E$43=\"Endemic\", IF($K161>1, IF($K161=4, \"Unknown\", IF($K161=99, \"Surveillance\", SUM($R161:$T161))), 0),\"Not required\")","v":54024},0,0,null,0,null,null,null,null,null,null,null,null,21655,"Okai Koi North"]
[{"$f":"IF(INTRO!$E$33<>0,INTRO!$E$33, \" \")","v":"Ghana"},"Greater Accra","Shai-Osudoku",110092.2,{"$f":"IF(INTRO!$E$48=\"\",\"\",ROUND($D162*INTRO!$E$48,0))","v":11450},{"$f":"IF(INTRO!$E$49=\"\",\"\",ROUND($D162*INTRO!$E$49,0))","v":26973},{"$f":"IF(INTRO!$E$50=\"\",\"\",ROUND($D162*INTRO!$E$50,0))","v":71670},0,0,null,2,{"$f":"IF(INTRO!$E$37=\"Endemic\",IF($H162>0,IF($H162=4,\"Unknown\",IF($H162=99,\"Stopped\",$D162)),0),\"Not required\")","v":0},0,{"$f":"IF(INTRO!$E$41=\"Endemic\", IF($J162>1, IF($J162=4, \"Unknown\", IF($J162=99, \"Surveillance\", E162)), 0),\"Not required\")","v":"Not required"},{"$f":"IF(INTRO!$E$41=\"Endemic\", IF($J162>1, IF($J162=4, \"Unknown\", IF($J162=99, \"Surveillance\", F162)), 0),\"Not required\")","v":"Not required"},{"$f":"IF(INTRO!$E$41=\"Endemic\", IF($J162>1, IF($J162=4, \"Unknown\", IF($J162=99, \"Surveillance\", ROUND(D162*INTRO!$E$51,0))), 0),\"Not required\")","v":"Not required"},{"$f":"IF(INTRO!$E$41=\"Endemic\", IF($J162>1, IF($J162=4, \"Unknown\", IF($J162=99, \"Surveillance\", SUM($N162:$P162))), 0),\"Not required\")","v":"Not required"},{"$f":"IF(INTRO!$E$43=\"Endemic\", IF($K162>1, IF($K162=4, \"Unknown\", IF($K162=99, \"Surveillance\", ROUND(E162*0.75,0))), 0),\"Not required\")","v":8588},{"$f":"IF(INTRO!$E$43=\"Endemic\", IF($K162>1, IF($K162=4, \"Unknown\", IF($K162=99, \"Surveillance\", F162)), 0),\"Not required\")","v":26973},0,{"$f":"IF(INTRO!$E$43=\"Endemic\", IF($K162>1, IF($K162=4, \"Unknown\", IF($K162=99, \"Surveillance\", SUM($R162:$T162))), 0),\"Not required\")","v":35561},0,0,null,0,null,null,null,null,null,null,null,null,21501,"Shai Osudoku"]
[{"$f":"IF(INTRO!$E$33<>0,INTRO!$E$33, \" \")","v":"Ghana"},"Greater Accra","Tema",185475.3,{"$f":"IF(INTRO!$E$48=\"\",\"\",ROUND($D163*INTRO!$E$48,0))","v":19289},{"$f":"IF(INTRO!$E$49=\"\",\"\",ROUND($D163*INTRO!$E$49,0))","v":45441},{"$f":"IF(INTRO!$E$50=\"\",\"\",ROUND($D163*INTRO!$E$50,0))","v":120744},0,0,null,2,{"$f":"IF(INTRO!$E$37=\"Endemic\",IF($H163>0,IF($H163=4,\"Unknown\",IF($H163=99,\"Stopped\",$D163)),0),\"Not required\")","v":0},0,{"$f":"IF(INTRO!$E$41=\"Endemic\", IF($J163>1, IF($J163=4, \"Unknown\", IF($J163=99, \"Surveillance\", E163)), 0),\"Not required\")","v":"Not required"},{"$f":"IF(INTRO!$E$41=\"Endemic\", IF($J163>1, IF($J163=4, \"Unknown\", IF($J163=99, \"Surveillance\", F163)), 0),\"Not required\")","v":"Not required"},{"$f":"IF(INTRO!$E$41=\"Endemic\", IF($J163>1, IF($J163=4, \"Unknown\", IF($J163=99, \"Surveillance\", ROUND(D163*INTRO!$E$51,0))), 0),\"Not required\")","v":"Not required"},{"$f":"IF(INTRO!$E$41=\"Endemic\", IF($J163>1, IF($J163=4, \"Unknown\", IF($J163=99, \"Surveillance\", SUM($N163:$P163))), 0),\"Not required\")","v":"Not required"},{"$f":"IF(INTRO!$E$43=\"Endemic\", IF($K163>1, IF($K163=4, \"Unknown\", IF($K163=99, \"Surveillance\", ROUND(E163*0.75,0))), 0),\"Not required\")","v":14467},0,0,{"$f":"IF(INTRO!$E$43=\"Endemic\", IF($K163>1, IF($K163=4, \"Unknown\", IF($K163=99, \"Surveillance\", SUM($R163:$T163))), 0),\"Not required\")","v":14467},0,0,null,0,null,null,null,null,null,null,null,null,21664,"Tema"]
[{"$f":"IF(INTRO!$E$33<>0,INTRO!$E$33, \" \")","v":"Ghana"},"Greater Accra","Tema West",204551.9,{"$f":"IF(INTRO!$E$48=\"\",\"\",ROUND($D164*INTRO!$E$48,0))","v":21273},{"$f":"IF(INTRO!$E$49=\"\",\"\",ROUND($D164*INTRO!$E$49,0))","v":50115},{"$f":"IF(INTRO!$E$50=\"\",\"\",ROUND($D164*INTRO!$E$50,0))","v":133163},0,0,null,2,{"$f":"IF(INTRO!$E$37=\"Endemic\",IF($H164>0,IF($H164=4,\"Unknown\",IF($H164=99,\"Stopped\",$D164)),0),\"Not required\")","v":0},0,{"$f":"IF(INTRO!$E$41=\"Endemic\", IF($J164>1, IF($J164=4, \"Unknown\", IF($J164=99, \"Surveillance\", E164)), 0),\"Not required\")","v":"Not required"},{"$f":"IF(INTRO!$E$41=\"Endemic\", IF($J164>1, IF($J164=4, \"Unknown\", IF($J164=99, \"Surveillance\", F164)), 0),\"Not required\")","v":"Not required"},{"$f":"IF(INTRO!$E$41=\"Endemic\", IF($J164>1, IF($J164=4, \"Unknown\", IF($J164=99, \"Surveillance\", ROUND(D164*INTRO!$E$51,0))), 0),\"Not required\")","v":"Not required"},{"$f":"IF(INTRO!$E$41=\"Endemic\", IF($J164>1, IF($J164=4, \"Unknown\", IF($J164=99, \"Surveillance\", SUM($N164:$P164))), 0),\"Not required\")","v":"Not required"},{"$f":"IF(INTRO!$E$43=\"Endemic\", IF($K164>1, IF($K164=4, \"Unknown\", IF($K164=99, \"Surveillance\", ROUND(E164*0.75,0))), 0),\"Not required\")","v":15955},0,0,{"$f":"IF(INTRO!$E$43=\"Endemic\", IF($K164>1, IF($K164=4, \"Unknown\", IF($K164=99, \"Surveillance\", SUM($R164:$T164))), 0),\"Not required\")","v":15955},0,0,null,1,null,null,null,null,null,null,null,null,21663,"Tema West"]
[{"$f":"IF(INTRO!$E$33<>0,INTRO!$E$33, \" \")","v":"Ghana"},"Greater Accra","Weija-Gbawe",222742.6,{"$f":"IF(INTRO!$E$48=\"\",\"\",ROUND($D165*INTRO!$E$48,0))","v":23165},{"$f":"IF(INTRO!$E$49=\"\",\"\",ROUND($D165*INTRO!$E$49,0))","v":54572},{"$f":"IF(INTRO!$E$50=\"\",\"\",ROUND($D165*INTRO!$E$50,0))","v":145005},99,0,null,3,{"$f":"IF(INTRO!$E$37=\"Endemic\",IF($H165>0,IF($H165=4,\"Unknown\",IF($H165=99,\"Stopped\",$D165)),0),\"Not required\")","v":"Stopped"},0,{"$f":"IF(INTRO!$E$41=\"Endemic\", IF($J165>1, IF($J165=4, \"Unknown\", IF($J165=99, \"Surveillance\", E165)), 0),\"Not required\")","v":"Not required"},{"$f":"IF(INTRO!$E$41=\"Endemic\", IF($J165>1, IF($J165=4, \"Unknown\", IF($J165=99, \"Surveillance\", F165)), 0),\"Not required\")","v":"Not required"},{"$f":"IF(INTRO!$E$41=\"Endemic\", IF($J165>1, IF($J165=4, \"Unknown\", IF($J165=99, \"Surveillance\", ROUND(D165*INTRO!$E$51,0))), 0),\"Not required\")","v":"Not required"},{"$f":"IF(INTRO!$E$41=\"Endemic\", IF($J165>1, IF($J165=4, \"Unknown\", IF($J165=99, \"Surveillance\", SUM($N165:$P165))), 0),\"Not required\")","v":"Not required"},{"$f":"IF(INTRO!$E$43=\"Endemic\", IF($K165>1, IF($K165=4, \"Unknown\", IF($K165=99, \"Surveillance\", ROUND(E165*0.75,0))), 0),\"Not required\")","v":17374},{"$f":"IF(INTRO!$E$43=\"Endemic\", IF($K165>1, IF($K165=4, \"Unknown\", IF($K165=99, \"Surveillance\", F165)), 0),\"Not required\")","v":54572},24513,{"$f":"IF(INTRO!$E$43=\"Endemic\", IF($K165>1, IF($K165=4, \"Unknown\", IF($K165=99, \"Surveillance\", SUM($R165:$T165))), 0),\"Not required\")","v":96459},0,0,null,1,null,null,null,null,null,null,null,null,21657,"Weija-Gbawe"]
[{"$f":"IF(INTRO!$E$33<>0,INTRO!$E$33, \" \")","v":"Ghana"},"North East","Bunkpurugu -Nakpanduri",85880.4,{"$f":"IF(INTRO!$E$48=\"\",\"\",ROUND($D166*INTRO!$E$48,0))","v":8932},{"$f":"IF(INTRO!$E$49=\"\",\"\",ROUND($D166*INTRO!$E$49,0))","v":21041},{"$f":"IF(INTRO!$E$50=\"\",\"\",ROUND($D166*INTRO!$E$50,0))","v":55908},99,0,null,1,{"$f":"IF(INTRO!$E$37=\"Endemic\",IF($H166>0,IF($H166=4,\"Unknown\",IF($H166=99,\"Stopped\",$D166)),0),\"Not required\")","v":"Stopped"},0,{"$f":"IF(INTRO!$E$41=\"Endemic\", IF($J166>1, IF($J166=4, \"Unknown\", IF($J166=99, \"Surveillance\", E166)), 0),\"Not required\")","v":"Not required"},{"$f":"IF(INTRO!$E$41=\"Endemic\", IF($J166>1, IF($J166=4, \"Unknown\", IF($J166=99, \"Surveillance\", F166)), 0),\"Not required\")","v":"Not required"},{"$f":"IF(INTRO!$E$41=\"Endemic\", IF($J166>1, IF($J166=4, \"Unknown\", IF($J166=99, \"Surveillance\", ROUND(D166*INTRO!$E$51,0))), 0),\"Not required\")","v":"Not required"},{"$f":"IF(INTRO!$E$41=\"Endemic\", IF($J166>1, IF($J166=4, \"Unknown\", IF($J166=99, \"Surveillance\", SUM($N166:$P166))), 0),\"Not required\")","v":"Not required"},{"$f":"IF(INTRO!$E$43=\"Endemic\", IF($K166>1, IF($K166=4, \"Unknown\", IF($K166=99, \"Surveillance\", ROUND(E166*0.75,0))), 0),\"Not required\")","v":0},{"$f":"IF(INTRO!$E$43=\"Endemic\", IF($K166>1, IF($K166=4, \"Unknown\", IF($K166=99, \"Surveillance\", F166)), 0),\"Not required\")","v":0},{"$f":"IF(INTRO!$E$43=\"Endemic\", IF($K166>1, IF($K166=4, \"Unknown\", IF($K166=99, \"Surveillance\", G166)), 0),\"Not required\")","v":0},{"$f":"IF(INTRO!$E$43=\"Endemic\", IF($K166>1, IF($K166=4, \"Unknown\", IF($K166=99, \"Surveillance\", SUM($R166:$T166))), 0),\"Not required\")","v":0},0,0,null,0,null,null,null,null,null,null,null,null,21665,"Bunkpurugu -Nakpanduri"]
[{"$f":"IF(INTRO!$E$33<>0,INTRO!$E$33, \" \")","v":"Ghana"},"North East","Chereponi",90875.7,{"$f":"IF(INTRO!$E$48=\"\",\"\",ROUND($D167*INTRO!$E$48,0))","v":9451},{"$f":"IF(INTRO!$E$49=\"\",\"\",ROUND($D167*INTRO!$E$49,0))","v":22265},{"$f":"IF(INTRO!$E$50=\"\",\"\",ROUND($D167*INTRO!$E$50,0))","v":59160},99,1,null,1,{"$f":"IF(INTRO!$E$37=\"Endemic\",IF($H167>0,IF($H167=4,\"Unknown\",IF($H167=99,\"Stopped\",$D167)),0),\"Not required\")","v":"Stopped"},29669,{"$f":"IF(INTRO!$E$41=\"Endemic\", IF($J167>1, IF($J167=4, \"Unknown\", IF($J167=99, \"Surveillance\", E167)), 0),\"Not required\")","v":"Not required"},{"$f":"IF(INTRO!$E$41=\"Endemic\", IF($J167>1, IF($J167=4, \"Unknown\", IF($J167=99, \"Surveillance\", F167)), 0),\"Not required\")","v":"Not required"},{"$f":"IF(INTRO!$E$41=\"Endemic\", IF($J167>1, IF($J167=4, \"Unknown\", IF($J167=99, \"Surveillance\", ROUND(D167*INTRO!$E$51,0))), 0),\"Not required\")","v":"Not required"},{"$f":"IF(INTRO!$E$41=\"Endemic\", IF($J167>1, IF($J167=4, \"Unknown\", IF($J167=99, \"Surveillance\", SUM($N167:$P167))), 0),\"Not required\")","v":"Not required"},{"$f":"IF(INTRO!$E$43=\"Endemic\", IF($K167>1, IF($K167=4, \"Unknown\", IF($K167=99, \"Surveillance\", ROUND(E167*0.75,0))), 0),\"Not required\")","v":0},{"$f":"IF(INTRO!$E$43=\"Endemic\", IF($K167>1, IF($K167=4, \"Unknown\", IF($K167=99, \"Surveillance\", F167)), 0),\"Not required\")","v":0},{"$f":"IF(INTRO!$E$43=\"Endemic\", IF($K167>1, IF($K167=4, \"Unknown\", IF($K167=99, \"Surveillance\", G167)), 0),\"Not required\")","v":0},{"$f":"IF(INTRO!$E$43=\"Endemic\", IF($K167>1, IF($K167=4, \"Unknown\", IF($K167=99, \"Surveillance\", SUM($R167:$T167))), 0),\"Not required\")","v":0},0,2,null,0,null,null,null,null,null,null,null,null,21506,"Chereponi"]
[{"$f":"IF(INTRO!$E$33<>0,INTRO!$E$33, \" \")","v":"Ghana"},"North East","East Mamprusi",195985.2,{"$f":"IF(INTRO!$E$48=\"\",\"\",ROUND($D168*INTRO!$E$48,0))","v":20382},{"$f":"IF(INTRO!$E$49=\"\",\"\",ROUND($D168*INTRO!$E$49,0))","v":48016},{"$f":"IF(INTRO!$E$50=\"\",\"\",ROUND($D168*INTRO!$E$50,0))","v":127586},99,0,null,1,{"$f":"IF(INTRO!$E$37=\"Endemic\",IF($H168>0,IF($H168=4,\"Unknown\",IF($H168=99,\"Stopped\",$D168)),0),\"Not required\")","v":"Stopped"},0,{"$f":"IF(INTRO!$E$41=\"Endemic\", IF($J168>1, IF($J168=4, \"Unknown\", IF($J168=99, \"Surveillance\", E168)), 0),\"Not required\")","v":"Not required"},{"$f":"IF(INTRO!$E$41=\"Endemic\", IF($J168>1, IF($J168=4, \"Unknown\", IF($J168=99, \"Surveillance\", F168)), 0),\"Not required\")","v":"Not required"},{"$f":"IF(INTRO!$E$41=\"Endemic\", IF($J168>1, IF($J168=4, \"Unknown\", IF($J168=99, \"Surveillance\", ROUND(D168*INTRO!$E$51,0))), 0),\"Not required\")","v":"Not required"},{"$f":"IF(INTRO!$E$41=\"Endemic\", IF($J168>1, IF($J168=4, \"Unknown\", IF($J168=99, \"Surveillance\", SUM($N168:$P168))), 0),\"Not required\")","v":"Not required"},{"$f":"IF(INTRO!$E$43=\"Endemic\", IF($K168>1, IF($K168=4, \"Unknown\", IF($K168=99, \"Surveillance\", ROUND(E168*0.75,0))), 0),\"Not required\")","v":0},{"$f":"IF(INTRO!$E$43=\"Endemic\", IF($K168>1, IF($K168=4, \"Unknown\", IF($K168=99, \"Surveillance\", F168)), 0),\"Not required\")","v":0},{"$f":"IF(INTRO!$E$43=\"Endemic\", IF($K168>1, IF($K168=4, \"Unknown\", IF($K168=99, \"Surveillance\", G168)), 0),\"Not required\")","v":0},{"$f":"IF(INTRO!$E$43=\"Endemic\", IF($K168>1, IF($K168=4, \"Unknown\", IF($K168=99, \"Surveillance\", SUM($R168:$T168))), 0),\"Not required\")","v":0},0,0,null,0,null,null,null,null,null,null,null,null,21508,"East Mamprusi"]
[{"$f":"IF(INTRO!$E$33<>0,INTRO!$E$33, \" \")","v":"Ghana"},"North East","Mamprugu-Moagduri",71663.600000000006,{"$f":"IF(INTRO!$E$48=\"\",\"\",ROUND($D169*INTRO!$E$48,0))","v":7453},{"$f":"IF(INTRO!$E$49=\"\",\"\",ROUND($D169*INTRO!$E$49,0))","v":17558},{"$f":"IF(INTRO!$E$50=\"\",\"\",ROUND($D169*INTRO!$E$50,0))","v":46653},99,1,null,2,{"$f":"IF(INTRO!$E$37=\"Endemic\",IF($H169>0,IF($H169=4,\"Unknown\",IF($H169=99,\"Stopped\",$D169)),0),\"Not required\")","v":"Stopped"},75580,{"$f":"IF(INTRO!$E$41=\"Endemic\", IF($J169>1, IF($J169=4, \"Unknown\", IF($J169=99, \"Surveillance\", E169)), 0),\"Not required\")","v":"Not required"},{"$f":"IF(INTRO!$E$41=\"Endemic\", IF($J169>1, IF($J169=4, \"Unknown\", IF($J169=99, \"Surveillance\", F169)), 0),\"Not required\")","v":"Not required"},{"$f":"IF(INTRO!$E$41=\"Endemic\", IF($J169>1, IF($J169=4, \"Unknown\", IF($J169=99, \"Surveillance\", ROUND(D169*INTRO!$E$51,0))), 0),\"Not required\")","v":"Not required"},{"$f":"IF(INTRO!$E$41=\"Endemic\", IF($J169>1, IF($J169=4, \"Unknown\", IF($J169=99, \"Surveillance\", SUM($N169:$P169))), 0),\"Not required\")","v":"Not required"},{"$f":"IF(INTRO!$E$43=\"Endemic\", IF($K169>1, IF($K169=4, \"Unknown\", IF($K169=99, \"Surveillance\", ROUND(E169*0.75,0))), 0),\"Not required\")","v":5590},{"$f":"IF(INTRO!$E$43=\"Endemic\", IF($K169>1, IF($K169=4, \"Unknown\", IF($K169=99, \"Surveillance\", F169)), 0),\"Not required\")","v":17558},0,{"$f":"IF(INTRO!$E$43=\"Endemic\", IF($K169>1, IF($K169=4, \"Unknown\", IF($K169=99, \"Surveillance\", SUM($R169:$T169))), 0),\"Not required\")","v":23148},0,2,null,1,null,null,null,null,null,null,null,null,21513,"Mamprugo Moaduri"]
[{"$f":"IF(INTRO!$E$33<>0,INTRO!$E$33, \" \")","v":"Ghana"},"North East","West Mamprusi",183214.3,{"$f":"IF(INTRO!$E$48=\"\",\"\",ROUND($D170*INTRO!$E$48,0))","v":19054},{"$f":"IF(INTRO!$E$49=\"\",\"\",ROUND($D170*INTRO!$E$49,0))","v":44888},{"$f":"IF(INTRO!$E$50=\"\",\"\",ROUND($D170*INTRO!$E$50,0))","v":119273},99,0,null,2,{"$f":"IF(INTRO!$E$37=\"Endemic\",IF($H170>0,IF($H170=4,\"Unknown\",IF($H170=99,\"Stopped\",$D170)),0),\"Not required\")","v":"Stopped"},0,{"$f":"IF(INTRO!$E$41=\"Endemic\", IF($J170>1, IF($J170=4, \"Unknown\", IF($J170=99, \"Surveillance\", E170)), 0),\"Not required\")","v":"Not required"},{"$f":"IF(INTRO!$E$41=\"Endemic\", IF($J170>1, IF($J170=4, \"Unknown\", IF($J170=99, \"Surveillance\", F170)), 0),\"Not required\")","v":"Not required"},{"$f":"IF(INTRO!$E$41=\"Endemic\", IF($J170>1, IF($J170=4, \"Unknown\", IF($J170=99, \"Surveillance\", ROUND(D170*INTRO!$E$51,0))), 0),\"Not required\")","v":"Not required"},{"$f":"IF(INTRO!$E$41=\"Endemic\", IF($J170>1, IF($J170=4, \"Unknown\", IF($J170=99, \"Surveillance\", SUM($N170:$P170))), 0),\"Not required\")","v":"Not required"},{"$f":"IF(INTRO!$E$43=\"Endemic\", IF($K170>1, IF($K170=4, \"Unknown\", IF($K170=99, \"Surveillance\", ROUND(E170*0.75,0))), 0),\"Not required\")","v":14291},{"$f":"IF(INTRO!$E$43=\"Endemic\", IF($K170>1, IF($K170=4, \"Unknown\", IF($K170=99, \"Surveillance\", F170)), 0),\"Not required\")","v":44888},0,{"$f":"IF(INTRO!$E$43=\"Endemic\", IF($K170>1, IF($K170=4, \"Unknown\", IF($K170=99, \"Surveillance\", SUM($R170:$T170))), 0),\"Not required\")","v":59179},0,0,null,1,null,null,null,null,null,null,null,null,21527,"West Mamprusi"]
[{"$f":"IF(INTRO!$E$33<>0,INTRO!$E$33, \" \")","v":"Ghana"},"North East","Yunyoo-Nasuan",59293,{"$f":"IF(INTRO!$E$48=\"\",\"\",ROUND($D171*INTRO!$E$48,0))","v":6166},{"$f":"IF(INTRO!$E$49=\"\",\"\",ROUND($D171*INTRO!$E$49,0))","v":14527},{"$f":"IF(INTRO!$E$50=\"\",\"\",ROUND($D171*INTRO!$E$50,0))","v":38600},99,0,null,1,{"$f":"IF(INTRO!$E$37=\"Endemic\",IF($H171>0,IF($H171=4,\"Unknown\",IF($H171=99,\"Stopped\",$D171)),0),\"Not required\")","v":"Stopped"},0,{"$f":"IF(INTRO!$E$41=\"Endemic\", IF($J171>1, IF($J171=4, \"Unknown\", IF($J171=99, \"Surveillance\", E171)), 0),\"Not required\")","v":"Not required"},{"$f":"IF(INTRO!$E$41=\"Endemic\", IF($J171>1, IF($J171=4, \"Unknown\", IF($J171=99, \"Surveillance\", F171)), 0),\"Not required\")","v":"Not required"},{"$f":"IF(INTRO!$E$41=\"Endemic\", IF($J171>1, IF($J171=4, \"Unknown\", IF($J171=99, \"Surveillance\", ROUND(D171*INTRO!$E$51,0))), 0),\"Not required\")","v":"Not required"},{"$f":"IF(INTRO!$E$41=\"Endemic\", IF($J171>1, IF($J171=4, \"Unknown\", IF($J171=99, \"Surveillance\", SUM($N171:$P171))), 0),\"Not required\")","v":"Not required"},{"$f":"IF(INTRO!$E$43=\"Endemic\", IF($K171>1, IF($K171=4, \"Unknown\", IF($K171=99, \"Surveillance\", ROUND(E171*0.75,0))), 0),\"Not required\")","v":0},{"$f":"IF(INTRO!$E$43=\"Endemic\", IF($K171>1, IF($K171=4, \"Unknown\", IF($K171=99, \"Surveillance\", F171)), 0),\"Not required\")","v":0},{"$f":"IF(INTRO!$E$43=\"Endemic\", IF($K171>1, IF($K171=4, \"Unknown\", IF($K171=99, \"Surveillance\", G171)), 0),\"Not required\")","v":0},{"$f":"IF(INTRO!$E$43=\"Endemic\", IF($K171>1, IF($K171=4, \"Unknown\", IF($K171=99, \"Surveillance\", SUM($R171:$T171))), 0),\"Not required\")","v":0},0,0,null,0,null,null,null,null,null,null,null,null,21666,"Yunyoo-Nasuan"]
[{"$f":"IF(INTRO!$E$33<>0,INTRO!$E$33, \" \")","v":"Ghana"},"Northern","Gushiegu",160499.5,{"$f":"IF(INTRO!$E$48=\"\",\"\",ROUND($D172*INTRO!$E$48,0))","v":16692},{"$f":"IF(INTRO!$E$49=\"\",\"\",ROUND($D172*INTRO!$E$49,0))","v":39322},{"$f":"IF(INTRO!$E$50=\"\",\"\",ROUND($D172*INTRO!$E$50,0))","v":104485},99,1,null,1,{"$f":"IF(INTRO!$E$37=\"Endemic\",IF($H172>0,IF($H172=4,\"Unknown\",IF($H172=99,\"Stopped\",$D172)),0),\"Not required\")","v":"Stopped"},17244,{"$f":"IF(INTRO!$E$41=\"Endemic\", IF($J172>1, IF($J172=4, \"Unknown\", IF($J172=99, \"Surveillance\", E172)), 0),\"Not required\")","v":"Not required"},{"$f":"IF(INTRO!$E$41=\"Endemic\", IF($J172>1, IF($J172=4, \"Unknown\", IF($J172=99, \"Surveillance\", F172)), 0),\"Not required\")","v":"Not required"},{"$f":"IF(INTRO!$E$41=\"Endemic\", IF($J172>1, IF($J172=4, \"Unknown\", IF($J172=99, \"Surveillance\", ROUND(D172*INTRO!$E$51,0))), 0),\"Not required\")","v":"Not required"},{"$f":"IF(INTRO!$E$41=\"Endemic\", IF($J172>1, IF($J172=4, \"Unknown\", IF($J172=99, \"Surveillance\", SUM($N172:$P172))), 0),\"Not required\")","v":"Not required"},{"$f":"IF(INTRO!$E$43=\"Endemic\", IF($K172>1, IF($K172=4, \"Unknown\", IF($K172=99, \"Surveillance\", ROUND(E172*0.75,0))), 0),\"Not required\")","v":0},{"$f":"IF(INTRO!$E$43=\"Endemic\", IF($K172>1, IF($K172=4, \"Unknown\", IF($K172=99, \"Surveillance\", F172)), 0),\"Not required\")","v":0},{"$f":"IF(INTRO!$E$43=\"Endemic\", IF($K172>1, IF($K172=4, \"Unknown\", IF($K172=99, \"Surveillance\", G172)), 0),\"Not required\")","v":0},{"$f":"IF(INTRO!$E$43=\"Endemic\", IF($K172>1, IF($K172=4, \"Unknown\", IF($K172=99, \"Surveillance\", SUM($R172:$T172))), 0),\"Not required\")","v":0},0,2,null,0,null,null,null,null,null,null,null,null,21509,"Gushiegu"]
[{"$f":"IF(INTRO!$E$33<>0,INTRO!$E$33, \" \")","v":"Ghana"},"Northern","Karaga",119072.9,{"$f":"IF(INTRO!$E$48=\"\",\"\",ROUND($D173*INTRO!$E$48,0))","v":12384},{"$f":"IF(INTRO!$E$49=\"\",\"\",ROUND($D173*INTRO!$E$49,0))","v":29173},{"$f":"IF(INTRO!$E$50=\"\",\"\",ROUND($D173*INTRO!$E$50,0))","v":77516},99,0,null,1,{"$f":"IF(INTRO!$E$37=\"Endemic\",IF($H173>0,IF($H173=4,\"Unknown\",IF($H173=99,\"Stopped\",$D173)),0),\"Not required\")","v":"Stopped"},0,{"$f":"IF(INTRO!$E$41=\"Endemic\", IF($J173>1, IF($J173=4, \"Unknown\", IF($J173=99, \"Surveillance\", E173)), 0),\"Not required\")","v":"Not required"},{"$f":"IF(INTRO!$E$41=\"Endemic\", IF($J173>1, IF($J173=4, \"Unknown\", IF($J173=99, \"Surveillance\", F173)), 0),\"Not required\")","v":"Not required"},{"$f":"IF(INTRO!$E$41=\"Endemic\", IF($J173>1, IF($J173=4, \"Unknown\", IF($J173=99, \"Surveillance\", ROUND(D173*INTRO!$E$51,0))), 0),\"Not required\")","v":"Not required"},{"$f":"IF(INTRO!$E$41=\"Endemic\", IF($J173>1, IF($J173=4, \"Unknown\", IF($J173=99, \"Surveillance\", SUM($N173:$P173))), 0),\"Not required\")","v":"Not required"},{"$f":"IF(INTRO!$E$43=\"Endemic\", IF($K173>1, IF($K173=4, \"Unknown\", IF($K173=99, \"Surveillance\", ROUND(E173*0.75,0))), 0),\"Not required\")","v":0},{"$f":"IF(INTRO!$E$43=\"Endemic\", IF($K173>1, IF($K173=4, \"Unknown\", IF($K173=99, \"Surveillance\", F173)), 0),\"Not required\")","v":0},{"$f":"IF(INTRO!$E$43=\"Endemic\", IF($K173>1, IF($K173=4, \"Unknown\", IF($K173=99, \"Surveillance\", G173)), 0),\"Not required\")","v":0},{"$f":"IF(INTRO!$E$43=\"Endemic\", IF($K173>1, IF($K173=4, \"Unknown\", IF($K173=99, \"Surveillance\", SUM($R173:$T173))), 0),\"Not required\")","v":0},0,0,null,0,null,null,null,null,null,null,null,null,21510,"Karaga"]
[{"$f":"IF(INTRO!$E$33<>0,INTRO!$E$33, \" \")","v":"Ghana"},"Northern","Kpandai",131569.60000000001,{"$f":"IF(INTRO!$E$48=\"\",\"\",ROUND($D174*INTRO!$E$48,0))","v":13683},{"$f":"IF(INTRO!$E$49=\"\",\"\",ROUND($D174*INTRO!$E$49,0))","v":32235},{"$f":"IF(INTRO!$E$50=\"\",\"\",ROUND($D174*INTRO!$E$50,0))","v":85652},99,1,null,3,{"$f":"IF(INTRO!$E$37=\"Endemic\",IF($H174>0,IF($H174=4,\"Unknown\",IF($H174=99,\"Stopped\",$D174)),0),\"Not required\")","v":"Stopped"},133480,{"$f":"IF(INTRO!$E$41=\"Endemic\", IF($J174>1, IF($J174=4, \"Unknown\", IF($J174=99, \"Surveillance\", E174)), 0),\"Not required\")","v":"Not required"},{"$f":"IF(INTRO!$E$41=\"Endemic\", IF($J174>1, IF($J174=4, \"Unknown\", IF($J174=99, \"Surveillance\", F174)), 0),\"Not required\")","v":"Not required"},{"$f":"IF(INTRO!$E$41=\"Endemic\", IF($J174>1, IF($J174=4, \"Unknown\", IF($J174=99, \"Surveillance\", ROUND(D174*INTRO!$E$51,0))), 0),\"Not required\")","v":"Not required"},{"$f":"IF(INTRO!$E$41=\"Endemic\", IF($J174>1, IF($J174=4, \"Unknown\", IF($J174=99, \"Surveillance\", SUM($N174:$P174))), 0),\"Not required\")","v":"Not required"},{"$f":"IF(INTRO!$E$43=\"Endemic\", IF($K174>1, IF($K174=4, \"Unknown\", IF($K174=99, \"Surveillance\", ROUND(E174*0.75,0))), 0),\"Not required\")","v":10262},{"$f":"IF(INTRO!$E$43=\"Endemic\", IF($K174>1, IF($K174=4, \"Unknown\", IF($K174=99, \"Surveillance\", F174)), 0),\"Not required\")","v":32235},56232,{"$f":"IF(INTRO!$E$43=\"Endemic\", IF($K174>1, IF($K174=4, \"Unknown\", IF($K174=99, \"Surveillance\", SUM($R174:$T174))), 0),\"Not required\")","v":98729},0,2,null,1,null,null,null,null,null,null,null,null,21511,"Kpandai"]
[{"$f":"IF(INTRO!$E$33<>0,INTRO!$E$33, \" \")","v":"Ghana"},"Northern","Kumbungu",115279.4,{"$f":"IF(INTRO!$E$48=\"\",\"\",ROUND($D175*INTRO!$E$48,0))","v":11989},{"$f":"IF(INTRO!$E$49=\"\",\"\",ROUND($D175*INTRO!$E$49,0))","v":28243},{"$f":"IF(INTRO!$E$50=\"\",\"\",ROUND($D175*INTRO!$E$50,0))","v":75047},99,1,null,1,{"$f":"IF(INTRO!$E$37=\"Endemic\",IF($H175>0,IF($H175=4,\"Unknown\",IF($H175=99,\"Stopped\",$D175)),0),\"Not required\")","v":"Stopped"},62353,{"$f":"IF(INTRO!$E$41=\"Endemic\", IF($J175>1, IF($J175=4, \"Unknown\", IF($J175=99, \"Surveillance\", E175)), 0),\"Not required\")","v":"Not required"},{"$f":"IF(INTRO!$E$41=\"Endemic\", IF($J175>1, IF($J175=4, \"Unknown\", IF($J175=99, \"Surveillance\", F175)), 0),\"Not required\")","v":"Not required"},{"$f":"IF(INTRO!$E$41=\"Endemic\", IF($J175>1, IF($J175=4, \"Unknown\", IF($J175=99, \"Surveillance\", ROUND(D175*INTRO!$E$51,0))), 0),\"Not required\")","v":"Not required"},{"$f":"IF(INTRO!$E$41=\"Endemic\", IF($J175>1, IF($J175=4, \"Unknown\", IF($J175=99, \"Surveillance\", SUM($N175:$P175))), 0),\"Not required\")","v":"Not required"},{"$f":"IF(INTRO!$E$43=\"Endemic\", IF($K175>1, IF($K175=4, \"Unknown\", IF($K175=99, \"Surveillance\", ROUND(E175*0.75,0))), 0),\"Not required\")","v":0},{"$f":"IF(INTRO!$E$43=\"Endemic\", IF($K175>1, IF($K175=4, \"Unknown\", IF($K175=99, \"Surveillance\", F175)), 0),\"Not required\")","v":0},{"$f":"IF(INTRO!$E$43=\"Endemic\", IF($K175>1, IF($K175=4, \"Unknown\", IF($K175=99, \"Surveillance\", G175)), 0),\"Not required\")","v":0},{"$f":"IF(INTRO!$E$43=\"Endemic\", IF($K175>1, IF($K175=4, \"Unknown\", IF($K175=99, \"Surveillance\", SUM($R175:$T175))), 0),\"Not required\")","v":0},0,2,null,0,null,null,null,null,null,null,null,null,21512,"Kumbungu"]
[{"$f":"IF(INTRO!$E$33<>0,INTRO!$E$33, \" \")","v":"Ghana"},"Northern","Mion",98959,{"$f":"IF(INTRO!$E$48=\"\",\"\",ROUND($D176*INTRO!$E$48,0))","v":10292},{"$f":"IF(INTRO!$E$49=\"\",\"\",ROUND($D176*INTRO!$E$49,0))","v":24245},{"$f":"IF(INTRO!$E$50=\"\",\"\",ROUND($D176*INTRO!$E$50,0))","v":64422},99,0,null,1,{"$f":"IF(INTRO!$E$37=\"Endemic\",IF($H176>0,IF($H176=4,\"Unknown\",IF($H176=99,\"Stopped\",$D176)),0),\"Not required\")","v":"Stopped"},0,{"$f":"IF(INTRO!$E$41=\"Endemic\", IF($J176>1, IF($J176=4, \"Unknown\", IF($J176=99, \"Surveillance\", E176)), 0),\"Not required\")","v":"Not required"},{"$f":"IF(INTRO!$E$41=\"Endemic\", IF($J176>1, IF($J176=4, \"Unknown\", IF($J176=99, \"Surveillance\", F176)), 0),\"Not required\")","v":"Not required"},{"$f":"IF(INTRO!$E$41=\"Endemic\", IF($J176>1, IF($J176=4, \"Unknown\", IF($J176=99, \"Surveillance\", ROUND(D176*INTRO!$E$51,0))), 0),\"Not required\")","v":"Not required"},{"$f":"IF(INTRO!$E$41=\"Endemic\", IF($J176>1, IF($J176=4, \"Unknown\", IF($J176=99, \"Surveillance\", SUM($N176:$P176))), 0),\"Not required\")","v":"Not required"},{"$f":"IF(INTRO!$E$43=\"Endemic\", IF($K176>1, IF($K176=4, \"Unknown\", IF($K176=99, \"Surveillance\", ROUND(E176*0.75,0))), 0),\"Not required\")","v":0},{"$f":"IF(INTRO!$E$43=\"Endemic\", IF($K176>1, IF($K176=4, \"Unknown\", IF($K176=99, \"Surveillance\", F176)), 0),\"Not required\")","v":0},{"$f":"IF(INTRO!$E$43=\"Endemic\", IF($K176>1, IF($K176=4, \"Unknown\", IF($K176=99, \"Surveillance\", G176)), 0),\"Not required\")","v":0},{"$f":"IF(INTRO!$E$43=\"Endemic\", IF($K176>1, IF($K176=4, \"Unknown\", IF($K176=99, \"Surveillance\", SUM($R176:$T176))), 0),\"Not required\")","v":0},0,0,null,0,null,null,null,null,null,null,null,null,21514,"Mion"]
[{"$f":"IF(INTRO!$E$33<>0,INTRO!$E$33, \" \")","v":"Ghana"},"Northern","Nanton",52921.599999999999,{"$f":"IF(INTRO!$E$48=\"\",\"\",ROUND($D177*INTRO!$E$48,0))","v":5504},{"$f":"IF(INTRO!$E$49=\"\",\"\",ROUND($D177*INTRO!$E$49,0))","v":12966},{"$f":"IF(INTRO!$E$50=\"\",\"\",ROUND($D177*INTRO!$E$50,0))","v":34452},99,0,null,1,{"$f":"IF(INTRO!$E$37=\"Endemic\",IF($H177>0,IF($H177=4,\"Unknown\",IF($H177=99,\"Stopped\",$D177)),0),\"Not required\")","v":"Stopped"},0,{"$f":"IF(INTRO!$E$41=\"Endemic\", IF($J177>1, IF($J177=4, \"Unknown\", IF($J177=99, \"Surveillance\", E177)), 0),\"Not required\")","v":"Not required"},{"$f":"IF(INTRO!$E$41=\"Endemic\", IF($J177>1, IF($J177=4, \"Unknown\", IF($J177=99, \"Surveillance\", F177)), 0),\"Not required\")","v":"Not required"},{"$f":"IF(INTRO!$E$41=\"Endemic\", IF($J177>1, IF($J177=4, \"Unknown\", IF($J177=99, \"Surveillance\", ROUND(D177*INTRO!$E$51,0))), 0),\"Not required\")","v":"Not required"},{"$f":"IF(INTRO!$E$41=\"Endemic\", IF($J177>1, IF($J177=4, \"Unknown\", IF($J177=99, \"Surveillance\", SUM($N177:$P177))), 0),\"Not required\")","v":"Not required"},{"$f":"IF(INTRO!$E$43=\"Endemic\", IF($K177>1, IF($K177=4, \"Unknown\", IF($K177=99, \"Surveillance\", ROUND(E177*0.75,0))), 0),\"Not required\")","v":0},{"$f":"IF(INTRO!$E$43=\"Endemic\", IF($K177>1, IF($K177=4, \"Unknown\", IF($K177=99, \"Surveillance\", F177)), 0),\"Not required\")","v":0},{"$f":"IF(INTRO!$E$43=\"Endemic\", IF($K177>1, IF($K177=4, \"Unknown\", IF($K177=99, \"Surveillance\", G177)), 0),\"Not required\")","v":0},{"$f":"IF(INTRO!$E$43=\"Endemic\", IF($K177>1, IF($K177=4, \"Unknown\", IF($K177=99, \"Surveillance\", SUM($R177:$T177))), 0),\"Not required\")","v":0},0,0,null,0,null,null,null,null,null,null,null,null,21667,"Nanton"]
[{"$f":"IF(INTRO!$E$33<>0,INTRO!$E$33, \" \")","v":"Ghana"},"Northern","Nanumba North",196687.7,{"$f":"IF(INTRO!$E$48=\"\",\"\",ROUND($D178*INTRO!$E$48,0))","v":20456},{"$f":"IF(INTRO!$E$49=\"\",\"\",ROUND($D178*INTRO!$E$49,0))","v":48188},{"$f":"IF(INTRO!$E$50=\"\",\"\",ROUND($D178*INTRO!$E$50,0))","v":128044},99,1,null,2,{"$f":"IF(INTRO!$E$37=\"Endemic\",IF($H178>0,IF($H178=4,\"Unknown\",IF($H178=99,\"Stopped\",$D178)),0),\"Not required\")","v":"Stopped"},52472,{"$f":"IF(INTRO!$E$41=\"Endemic\", IF($J178>1, IF($J178=4, \"Unknown\", IF($J178=99, \"Surveillance\", E178)), 0),\"Not required\")","v":"Not required"},{"$f":"IF(INTRO!$E$41=\"Endemic\", IF($J178>1, IF($J178=4, \"Unknown\", IF($J178=99, \"Surveillance\", F178)), 0),\"Not required\")","v":"Not required"},{"$f":"IF(INTRO!$E$41=\"Endemic\", IF($J178>1, IF($J178=4, \"Unknown\", IF($J178=99, \"Surveillance\", ROUND(D178*INTRO!$E$51,0))), 0),\"Not required\")","v":"Not required"},{"$f":"IF(INTRO!$E$41=\"Endemic\", IF($J178>1, IF($J178=4, \"Unknown\", IF($J178=99, \"Surveillance\", SUM($N178:$P178))), 0),\"Not required\")","v":"Not required"},{"$f":"IF(INTRO!$E$43=\"Endemic\", IF($K178>1, IF($K178=4, \"Unknown\", IF($K178=99, \"Surveillance\", ROUND(E178*0.75,0))), 0),\"Not required\")","v":15342},{"$f":"IF(INTRO!$E$43=\"Endemic\", IF($K178>1, IF($K178=4, \"Unknown\", IF($K178=99, \"Surveillance\", F178)), 0),\"Not required\")","v":48188},0,{"$f":"IF(INTRO!$E$43=\"Endemic\", IF($K178>1, IF($K178=4, \"Unknown\", IF($K178=99, \"Surveillance\", SUM($R178:$T178))), 0),\"Not required\")","v":63530},0,2,null,1,null,null,null,null,null,null,null,null,21515,"Nanumba North"]
[{"$f":"IF(INTRO!$E$33<>0,INTRO!$E$33, \" \")","v":"Ghana"},"Northern","Nanumba South",110888.6,{"$f":"IF(INTRO!$E$48=\"\",\"\",ROUND($D179*INTRO!$E$48,0))","v":11532},{"$f":"IF(INTRO!$E$49=\"\",\"\",ROUND($D179*INTRO!$E$49,0))","v":27168},{"$f":"IF(INTRO!$E$50=\"\",\"\",ROUND($D179*INTRO!$E$50,0))","v":72188},99,1,null,2,{"$f":"IF(INTRO!$E$37=\"Endemic\",IF($H179>0,IF($H179=4,\"Unknown\",IF($H179=99,\"Stopped\",$D179)),0),\"Not required\")","v":"Stopped"},94686,{"$f":"IF(INTRO!$E$41=\"Endemic\", IF($J179>1, IF($J179=4, \"Unknown\", IF($J179=99, \"Surveillance\", E179)), 0),\"Not required\")","v":"Not required"},{"$f":"IF(INTRO!$E$41=\"Endemic\", IF($J179>1, IF($J179=4, \"Unknown\", IF($J179=99, \"Surveillance\", F179)), 0),\"Not required\")","v":"Not required"},{"$f":"IF(INTRO!$E$41=\"Endemic\", IF($J179>1, IF($J179=4, \"Unknown\", IF($J179=99, \"Surveillance\", ROUND(D179*INTRO!$E$51,0))), 0),\"Not required\")","v":"Not required"},{"$f":"IF(INTRO!$E$41=\"Endemic\", IF($J179>1, IF($J179=4, \"Unknown\", IF($J179=99, \"Surveillance\", SUM($N179:$P179))), 0),\"Not required\")","v":"Not required"},{"$f":"IF(INTRO!$E$43=\"Endemic\", IF($K179>1, IF($K179=4, \"Unknown\", IF($K179=99, \"Surveillance\", ROUND(E179*0.75,0))), 0),\"Not required\")","v":8649},{"$f":"IF(INTRO!$E$43=\"Endemic\", IF($K179>1, IF($K179=4, \"Unknown\", IF($K179=99, \"Surveillance\", F179)), 0),\"Not required\")","v":27168},0,{"$f":"IF(INTRO!$E$43=\"Endemic\", IF($K179>1, IF($K179=4, \"Unknown\", IF($K179=99, \"Surveillance\", SUM($R179:$T179))), 0),\"Not required\")","v":35817},0,2,null,1,null,null,null,null,null,null,null,null,21516,"Nanumba South"]
[{"$f":"IF(INTRO!$E$33<>0,INTRO!$E$33, \" \")","v":"Ghana"},"Northern","Saboba",99743.8,{"$f":"IF(INTRO!$E$48=\"\",\"\",ROUND($D180*INTRO!$E$48,0))","v":10373},{"$f":"IF(INTRO!$E$49=\"\",\"\",ROUND($D180*INTRO!$E$49,0))","v":24437},{"$f":"IF(INTRO!$E$50=\"\",\"\",ROUND($D180*INTRO!$E$50,0))","v":64933},99,1,null,1,{"$f":"IF(INTRO!$E$37=\"Endemic\",IF($H180>0,IF($H180=4,\"Unknown\",IF($H180=99,\"Stopped\",$D180)),0),\"Not required\")","v":"Stopped"},84992,{"$f":"IF(INTRO!$E$41=\"Endemic\", IF($J180>1, IF($J180=4, \"Unknown\", IF($J180=99, \"Surveillance\", E180)), 0),\"Not required\")","v":"Not required"},{"$f":"IF(INTRO!$E$41=\"Endemic\", IF($J180>1, IF($J180=4, \"Unknown\", IF($J180=99, \"Surveillance\", F180)), 0),\"Not required\")","v":"Not required"},{"$f":"IF(INTRO!$E$41=\"Endemic\", IF($J180>1, IF($J180=4, \"Unknown\", IF($J180=99, \"Surveillance\", ROUND(D180*INTRO!$E$51,0))), 0),\"Not required\")","v":"Not required"},{"$f":"IF(INTRO!$E$41=\"Endemic\", IF($J180>1, IF($J180=4, \"Unknown\", IF($J180=99, \"Surveillance\", SUM($N180:$P180))), 0),\"Not required\")","v":"Not required"},{"$f":"IF(INTRO!$E$43=\"Endemic\", IF($K180>1, IF($K180=4, \"Unknown\", IF($K180=99, \"Surveillance\", ROUND(E180*0.75,0))), 0),\"Not required\")","v":0},{"$f":"IF(INTRO!$E$43=\"Endemic\", IF($K180>1, IF($K180=4, \"Unknown\", IF($K180=99, \"Surveillance\", F180)), 0),\"Not required\")","v":0},{"$f":"IF(INTRO!$E$43=\"Endemic\", IF($K180>1, IF($K180=4, \"Unknown\", IF($K180=99, \"Surveillance\", G180)), 0),\"Not required\")","v":0},{"$f":"IF(INTRO!$E$43=\"Endemic\", IF($K180>1, IF($K180=4, \"Unknown\", IF($K180=99, \"Surveillance\", SUM($R180:$T180))), 0),\"Not required\")","v":0},0,2,null,0,null,null,null,null,null,null,null,null,21518,"Saboba"]
[{"$f":"IF(INTRO!$E$33<>0,INTRO!$E$33, \" \")","v":"Ghana"},"Northern","Sagnarigu",356213.5,{"$f":"IF(INTRO!$E$48=\"\",\"\",ROUND($D181*INTRO!$E$48,0))","v":37046},{"$f":"IF(INTRO!$E$49=\"\",\"\",ROUND($D181*INTRO!$E$49,0))","v":87272},{"$f":"IF(INTRO!$E$50=\"\",\"\",ROUND($D181*INTRO!$E$50,0))","v":231895},99,0,null,1,{"$f":"IF(INTRO!$E$37=\"Endemic\",IF($H181>0,IF($H181=4,\"Unknown\",IF($H181=99,\"Stopped\",$D181)),0),\"Not required\")","v":"Stopped"},0,{"$f":"IF(INTRO!$E$41=\"Endemic\", IF($J181>1, IF($J181=4, \"Unknown\", IF($J181=99, \"Surveillance\", E181)), 0),\"Not required\")","v":"Not required"},{"$f":"IF(INTRO!$E$41=\"Endemic\", IF($J181>1, IF($J181=4, \"Unknown\", IF($J181=99, \"Surveillance\", F181)), 0),\"Not required\")","v":"Not required"},{"$f":"IF(INTRO!$E$41=\"Endemic\", IF($J181>1, IF($J181=4, \"Unknown\", IF($J181=99, \"Surveillance\", ROUND(D181*INTRO!$E$51,0))), 0),\"Not required\")","v":"Not required"},{"$f":"IF(INTRO!$E$41=\"Endemic\", IF($J181>1, IF($J181=4, \"Unknown\", IF($J181=99, \"Surveillance\", SUM($N181:$P181))), 0),\"Not required\")","v":"Not required"},{"$f":"IF(INTRO!$E$43=\"Endemic\", IF($K181>1, IF($K181=4, \"Unknown\", IF($K181=99, \"Surveillance\", ROUND(E181*0.75,0))), 0),\"Not required\")","v":0},{"$f":"IF(INTRO!$E$43=\"Endemic\", IF($K181>1, IF($K181=4, \"Unknown\", IF($K181=99, \"Surveillance\", F181)), 0),\"Not required\")","v":0},{"$f":"IF(INTRO!$E$43=\"Endemic\", IF($K181>1, IF($K181=4, \"Unknown\", IF($K181=99, \"Surveillance\", G181)), 0),\"Not required\")","v":0},{"$f":"IF(INTRO!$E$43=\"Endemic\", IF($K181>1, IF($K181=4, \"Unknown\", IF($K181=99, \"Surveillance\", SUM($R181:$T181))), 0),\"Not required\")","v":0},0,0,null,0,null,null,null,null,null,null,null,null,21519,"Sagnarigu"]
[{"$f":"IF(INTRO!$E$33<>0,INTRO!$E$33, \" \")","v":"Ghana"},"Northern","Savelugu",128103.4,{"$f":"IF(INTRO!$E$48=\"\",\"\",ROUND($D182*INTRO!$E$48,0))","v":13323},{"$f":"IF(INTRO!$E$49=\"\",\"\",ROUND($D182*INTRO!$E$49,0))","v":31385},{"$f":"IF(INTRO!$E$50=\"\",\"\",ROUND($D182*INTRO!$E$50,0))","v":83395},99,1,null,1,{"$f":"IF(INTRO!$E$37=\"Endemic\",IF($H182>0,IF($H182=4,\"Unknown\",IF($H182=99,\"Stopped\",$D182)),0),\"Not required\")","v":"Stopped"},17519,{"$f":"IF(INTRO!$E$41=\"Endemic\", IF($J182>1, IF($J182=4, \"Unknown\", IF($J182=99, \"Surveillance\", E182)), 0),\"Not required\")","v":"Not required"},{"$f":"IF(INTRO!$E$41=\"Endemic\", IF($J182>1, IF($J182=4, \"Unknown\", IF($J182=99, \"Surveillance\", F182)), 0),\"Not required\")","v":"Not required"},{"$f":"IF(INTRO!$E$41=\"Endemic\", IF($J182>1, IF($J182=4, \"Unknown\", IF($J182=99, \"Surveillance\", ROUND(D182*INTRO!$E$51,0))), 0),\"Not required\")","v":"Not required"},{"$f":"IF(INTRO!$E$41=\"Endemic\", IF($J182>1, IF($J182=4, \"Unknown\", IF($J182=99, \"Surveillance\", SUM($N182:$P182))), 0),\"Not required\")","v":"Not required"},{"$f":"IF(INTRO!$E$43=\"Endemic\", IF($K182>1, IF($K182=4, \"Unknown\", IF($K182=99, \"Surveillance\", ROUND(E182*0.75,0))), 0),\"Not required\")","v":0},{"$f":"IF(INTRO!$E$43=\"Endemic\", IF($K182>1, IF($K182=4, \"Unknown\", IF($K182=99, \"Surveillance\", F182)), 0),\"Not required\")","v":0},{"$f":"IF(INTRO!$E$43=\"Endemic\", IF($K182>1, IF($K182=4, \"Unknown\", IF($K182=99, \"Surveillance\", G182)), 0),\"Not required\")","v":0},{"$f":"IF(INTRO!$E$43=\"Endemic\", IF($K182>1, IF($K182=4, \"Unknown\", IF($K182=99, \"Surveillance\", SUM($R182:$T182))), 0),\"Not required\")","v":0},0,2,null,0,null,null,null,null,null,null,null,null,21668,"Savelugu"]
[{"$f":"IF(INTRO!$E$33<>0,INTRO!$E$33, \" \")","v":"Ghana"},"Northern","Tamale",390648.5,{"$f":"IF(INTRO!$E$48=\"\",\"\",ROUND($D183*INTRO!$E$48,0))","v":40627},{"$f":"IF(INTRO!$E$49=\"\",\"\",ROUND($D183*INTRO!$E$49,0))","v":95709},{"$f":"IF(INTRO!$E$50=\"\",\"\",ROUND($D183*INTRO!$E$50,0))","v":254312},99,0,null,1,{"$f":"IF(INTRO!$E$37=\"Endemic\",IF($H183>0,IF($H183=4,\"Unknown\",IF($H183=99,\"Stopped\",$D183)),0),\"Not required\")","v":"Stopped"},0,{"$f":"IF(INTRO!$E$41=\"Endemic\", IF($J183>1, IF($J183=4, \"Unknown\", IF($J183=99, \"Surveillance\", E183)), 0),\"Not required\")","v":"Not required"},{"$f":"IF(INTRO!$E$41=\"Endemic\", IF($J183>1, IF($J183=4, \"Unknown\", IF($J183=99, \"Surveillance\", F183)), 0),\"Not required\")","v":"Not required"},{"$f":"IF(INTRO!$E$41=\"Endemic\", IF($J183>1, IF($J183=4, \"Unknown\", IF($J183=99, \"Surveillance\", ROUND(D183*INTRO!$E$51,0))), 0),\"Not required\")","v":"Not required"},{"$f":"IF(INTRO!$E$41=\"Endemic\", IF($J183>1, IF($J183=4, \"Unknown\", IF($J183=99, \"Surveillance\", SUM($N183:$P183))), 0),\"Not required\")","v":"Not required"},{"$f":"IF(INTRO!$E$43=\"Endemic\", IF($K183>1, IF($K183=4, \"Unknown\", IF($K183=99, \"Surveillance\", ROUND(E183*0.75,0))), 0),\"Not required\")","v":0},{"$f":"IF(INTRO!$E$43=\"Endemic\", IF($K183>1, IF($K183=4, \"Unknown\", IF($K183=99, \"Surveillance\", F183)), 0),\"Not required\")","v":0},{"$f":"IF(INTRO!$E$43=\"Endemic\", IF($K183>1, IF($K183=4, \"Unknown\", IF($K183=99, \"Surveillance\", G183)), 0),\"Not required\")","v":0},{"$f":"IF(INTRO!$E$43=\"Endemic\", IF($K183>1, IF($K183=4, \"Unknown\", IF($K183=99, \"Surveillance\", SUM($R183:$T183))), 0),\"Not required\")","v":0},0,0,null,0,null,null,null,null,null,null,null,null,21523,"Tamale"]
[{"$f":"IF(INTRO!$E$33<>0,INTRO!$E$33, \" \")","v":"Ghana"},"Northern","Tatale-Sangule",77979.8,{"$f":"IF(INTRO!$E$48=\"\",\"\",ROUND($D184*INTRO!$E$48,0))","v":8110},{"$f":"IF(INTRO!$E$49=\"\",\"\",ROUND($D184*INTRO!$E$49,0))","v":19105},{"$f":"IF(INTRO!$E$50=\"\",\"\",ROUND($D184*INTRO!$E$50,0))","v":50765},99,1,null,2,{"$f":"IF(INTRO!$E$37=\"Endemic\",IF($H184>0,IF($H184=4,\"Unknown\",IF($H184=99,\"Stopped\",$D184)),0),\"Not required\")","v":"Stopped"},43786,{"$f":"IF(INTRO!$E$41=\"Endemic\", IF($J184>1, IF($J184=4, \"Unknown\", IF($J184=99, \"Surveillance\", E184)), 0),\"Not required\")","v":"Not required"},{"$f":"IF(INTRO!$E$41=\"Endemic\", IF($J184>1, IF($J184=4, \"Unknown\", IF($J184=99, \"Surveillance\", F184)), 0),\"Not required\")","v":"Not required"},{"$f":"IF(INTRO!$E$41=\"Endemic\", IF($J184>1, IF($J184=4, \"Unknown\", IF($J184=99, \"Surveillance\", ROUND(D184*INTRO!$E$51,0))), 0),\"Not required\")","v":"Not required"},{"$f":"IF(INTRO!$E$41=\"Endemic\", IF($J184>1, IF($J184=4, \"Unknown\", IF($J184=99, \"Surveillance\", SUM($N184:$P184))), 0),\"Not required\")","v":"Not required"},{"$f":"IF(INTRO!$E$43=\"Endemic\", IF($K184>1, IF($K184=4, \"Unknown\", IF($K184=99, \"Surveillance\", ROUND(E184*0.75,0))), 0),\"Not required\")","v":6083},{"$f":"IF(INTRO!$E$43=\"Endemic\", IF($K184>1, IF($K184=4, \"Unknown\", IF($K184=99, \"Surveillance\", F184)), 0),\"Not required\")","v":19105},0,{"$f":"IF(INTRO!$E$43=\"Endemic\", IF($K184>1, IF($K184=4, \"Unknown\", IF($K184=99, \"Surveillance\", SUM($R184:$T184))), 0),\"Not required\")","v":25188},0,2,null,1,null,null,null,null,null,null,null,null,21524,"Tatale Sangule"]
[{"$f":"IF(INTRO!$E$33<>0,INTRO!$E$33, \" \")","v":"Ghana"},"Northern","Tolon",123113.3,{"$f":"IF(INTRO!$E$48=\"\",\"\",ROUND($D185*INTRO!$E$48,0))","v":12804},{"$f":"IF(INTRO!$E$49=\"\",\"\",ROUND($D185*INTRO!$E$49,0))","v":30163},{"$f":"IF(INTRO!$E$50=\"\",\"\",ROUND($D185*INTRO!$E$50,0))","v":80147},99,0,null,1,{"$f":"IF(INTRO!$E$37=\"Endemic\",IF($H185>0,IF($H185=4,\"Unknown\",IF($H185=99,\"Stopped\",$D185)),0),\"Not required\")","v":"Stopped"},0,{"$f":"IF(INTRO!$E$41=\"Endemic\", IF($J185>1, IF($J185=4, \"Unknown\", IF($J185=99, \"Surveillance\", E185)), 0),\"Not required\")","v":"Not required"},{"$f":"IF(INTRO!$E$41=\"Endemic\", IF($J185>1, IF($J185=4, \"Unknown\", IF($J185=99, \"Surveillance\", F185)), 0),\"Not required\")","v":"Not required"},{"$f":"IF(INTRO!$E$41=\"Endemic\", IF($J185>1, IF($J185=4, \"Unknown\", IF($J185=99, \"Surveillance\", ROUND(D185*INTRO!$E$51,0))), 0),\"Not required\")","v":"Not required"},{"$f":"IF(INTRO!$E$41=\"Endemic\", IF($J185>1, IF($J185=4, \"Unknown\", IF($J185=99, \"Surveillance\", SUM($N185:$P185))), 0),\"Not required\")","v":"Not required"},{"$f":"IF(INTRO!$E$43=\"Endemic\", IF($K185>1, IF($K185=4, \"Unknown\", IF($K185=99, \"Surveillance\", ROUND(E185*0.75,0))), 0),\"Not required\")","v":0},{"$f":"IF(INTRO!$E$43=\"Endemic\", IF($K185>1, IF($K185=4, \"Unknown\", IF($K185=99, \"Surveillance\", F185)), 0),\"Not required\")","v":0},{"$f":"IF(INTRO!$E$43=\"Endemic\", IF($K185>1, IF($K185=4, \"Unknown\", IF($K185=99, \"Surveillance\", G185)), 0),\"Not required\")","v":0},{"$f":"IF(INTRO!$E$43=\"Endemic\", IF($K185>1, IF($K185=4, \"Unknown\", IF($K185=99, \"Surveillance\", SUM($R185:$T185))), 0),\"Not required\")","v":0},0,0,null,0,null,null,null,null,null,null,null,null,21525,"Tolon"]
[{"$f":"IF(INTRO!$E$33<>0,INTRO!$E$33, \" \")","v":"Ghana"},"Northern","Yendi",160974.79999999999,{"$f":"IF(INTRO!$E$48=\"\",\"\",ROUND($D186*INTRO!$E$48,0))","v":16741},{"$f":"IF(INTRO!$E$49=\"\",\"\",ROUND($D186*INTRO!$E$49,0))","v":39439},{"$f":"IF(INTRO!$E$50=\"\",\"\",ROUND($D186*INTRO!$E$50,0))","v":104795},99,0,null,1,{"$f":"IF(INTRO!$E$37=\"Endemic\",IF($H186>0,IF($H186=4,\"Unknown\",IF($H186=99,\"Stopped\",$D186)),0),\"Not required\")","v":"Stopped"},0,{"$f":"IF(INTRO!$E$41=\"Endemic\", IF($J186>1, IF($J186=4, \"Unknown\", IF($J186=99, \"Surveillance\", E186)), 0),\"Not required\")","v":"Not required"},{"$f":"IF(INTRO!$E$41=\"Endemic\", IF($J186>1, IF($J186=4, \"Unknown\", IF($J186=99, \"Surveillance\", F186)), 0),\"Not required\")","v":"Not required"},{"$f":"IF(INTRO!$E$41=\"Endemic\", IF($J186>1, IF($J186=4, \"Unknown\", IF($J186=99, \"Surveillance\", ROUND(D186*INTRO!$E$51,0))), 0),\"Not required\")","v":"Not required"},{"$f":"IF(INTRO!$E$41=\"Endemic\", IF($J186>1, IF($J186=4, \"Unknown\", IF($J186=99, \"Surveillance\", SUM($N186:$P186))), 0),\"Not required\")","v":"Not required"},{"$f":"IF(INTRO!$E$43=\"Endemic\", IF($K186>1, IF($K186=4, \"Unknown\", IF($K186=99, \"Surveillance\", ROUND(E186*0.75,0))), 0),\"Not required\")","v":0},{"$f":"IF(INTRO!$E$43=\"Endemic\", IF($K186>1, IF($K186=4, \"Unknown\", IF($K186=99, \"Surveillance\", F186)), 0),\"Not required\")","v":0},{"$f":"IF(INTRO!$E$43=\"Endemic\", IF($K186>1, IF($K186=4, \"Unknown\", IF($K186=99, \"Surveillance\", G186)), 0),\"Not required\")","v":0},{"$f":"IF(INTRO!$E$43=\"Endemic\", IF($K186>1, IF($K186=4, \"Unknown\", IF($K186=99, \"Surveillance\", SUM($R186:$T186))), 0),\"Not required\")","v":0},0,0,null,0,null,null,null,null,null,null,null,null,21528,"Yendi"]
[{"$f":"IF(INTRO!$E$33<>0,INTRO!$E$33, \" \")","v":"Ghana"},"Northern","Zabzugu",86362.1,{"$f":"IF(INTRO!$E$48=\"\",\"\",ROUND($D187*INTRO!$E$48,0))","v":8982},{"$f":"IF(INTRO!$E$49=\"\",\"\",ROUND($D187*INTRO!$E$49,0))","v":21159},{"$f":"IF(INTRO!$E$50=\"\",\"\",ROUND($D187*INTRO!$E$50,0))","v":56222},99,1,null,2,{"$f":"IF(INTRO!$E$37=\"Endemic\",IF($H187>0,IF($H187=4,\"Unknown\",IF($H187=99,\"Stopped\",$D187)),0),\"Not required\")","v":"Stopped"},71993,{"$f":"IF(INTRO!$E$41=\"Endemic\", IF($J187>1, IF($J187=4, \"Unknown\", IF($J187=99, \"Surveillance\", E187)), 0),\"Not required\")","v":"Not required"},{"$f":"IF(INTRO!$E$41=\"Endemic\", IF($J187>1, IF($J187=4, \"Unknown\", IF($J187=99, \"Surveillance\", F187)), 0),\"Not required\")","v":"Not required"},{"$f":"IF(INTRO!$E$41=\"Endemic\", IF($J187>1, IF($J187=4, \"Unknown\", IF($J187=99, \"Surveillance\", ROUND(D187*INTRO!$E$51,0))), 0),\"Not required\")","v":"Not required"},{"$f":"IF(INTRO!$E$41=\"Endemic\", IF($J187>1, IF($J187=4, \"Unknown\", IF($J187=99, \"Surveillance\", SUM($N187:$P187))), 0),\"Not required\")","v":"Not required"},{"$f":"IF(INTRO!$E$43=\"Endemic\", IF($K187>1, IF($K187=4, \"Unknown\", IF($K187=99, \"Surveillance\", ROUND(E187*0.75,0))), 0),\"Not required\")","v":6737},{"$f":"IF(INTRO!$E$43=\"Endemic\", IF($K187>1, IF($K187=4, \"Unknown\", IF($K187=99, \"Surveillance\", F187)), 0),\"Not required\")","v":21159},0,{"$f":"IF(INTRO!$E$43=\"Endemic\", IF($K187>1, IF($K187=4, \"Unknown\", IF($K187=99, \"Surveillance\", SUM($R187:$T187))), 0),\"Not required\")","v":27896},0,2,null,1,null,null,null,null,null,null,null,null,21529,"Zabzugu"]
[{"$f":"IF(INTRO!$E$33<>0,INTRO!$E$33, \" \")","v":"Ghana"},"Oti","Biakoye",74875,{"$f":"IF(INTRO!$E$48=\"\",\"\",ROUND($D188*INTRO!$E$48,0))","v":7787},{"$f":"IF(INTRO!$E$49=\"\",\"\",ROUND($D188*INTRO!$E$49,0))","v":18344},{"$f":"IF(INTRO!$E$50=\"\",\"\",ROUND($D188*INTRO!$E$50,0))","v":48744},0,1,null,3,{"$f":"IF(INTRO!$E$37=\"Endemic\",IF($H188>0,IF($H188=4,\"Unknown\",IF($H188=99,\"Stopped\",$D188)),0),\"Not required\")","v":0},0,{"$f":"IF(INTRO!$E$41=\"Endemic\", IF($J188>1, IF($J188=4, \"Unknown\", IF($J188=99, \"Surveillance\", E188)), 0),\"Not required\")","v":"Not required"},{"$f":"IF(INTRO!$E$41=\"Endemic\", IF($J188>1, IF($J188=4, \"Unknown\", IF($J188=99, \"Surveillance\", F188)), 0),\"Not required\")","v":"Not required"},{"$f":"IF(INTRO!$E$41=\"Endemic\", IF($J188>1, IF($J188=4, \"Unknown\", IF($J188=99, \"Surveillance\", ROUND(D188*INTRO!$E$51,0))), 0),\"Not required\")","v":"Not required"},{"$f":"IF(INTRO!$E$41=\"Endemic\", IF($J188>1, IF($J188=4, \"Unknown\", IF($J188=99, \"Surveillance\", SUM($N188:$P188))), 0),\"Not required\")","v":"Not required"},{"$f":"IF(INTRO!$E$43=\"Endemic\", IF($K188>1, IF($K188=4, \"Unknown\", IF($K188=99, \"Surveillance\", ROUND(E188*0.75,0))), 0),\"Not required\")","v":5840},{"$f":"IF(INTRO!$E$43=\"Endemic\", IF($K188>1, IF($K188=4, \"Unknown\", IF($K188=99, \"Surveillance\", F188)), 0),\"Not required\")","v":18344},0,{"$f":"IF(INTRO!$E$43=\"Endemic\", IF($K188>1, IF($K188=4, \"Unknown\", IF($K188=99, \"Surveillance\", SUM($R188:$T188))), 0),\"Not required\")","v":24184},0,2,null,1,null,null,null,null,null,null,null,null,21560,"Biakoye"]
[{"$f":"IF(INTRO!$E$33<>0,INTRO!$E$33, \" \")","v":"Ghana"},"Oti","Guan",29435,{"$f":"IF(INTRO!$E$48=\"\",\"\",ROUND($D189*INTRO!$E$48,0))","v":3061},{"$f":"IF(INTRO!$E$49=\"\",\"\",ROUND($D189*INTRO!$E$49,0))","v":7212},{"$f":"IF(INTRO!$E$50=\"\",\"\",ROUND($D189*INTRO!$E$50,0))","v":19162},0,1,null,2,{"$f":"IF(INTRO!$E$37=\"Endemic\",IF($H189>0,IF($H189=4,\"Unknown\",IF($H189=99,\"Stopped\",$D189)),0),\"Not required\")","v":0},45987,{"$f":"IF(INTRO!$E$41=\"Endemic\", IF($J189>1, IF($J189=4, \"Unknown\", IF($J189=99, \"Surveillance\", E189)), 0),\"Not required\")","v":"Not required"},{"$f":"IF(INTRO!$E$41=\"Endemic\", IF($J189>1, IF($J189=4, \"Unknown\", IF($J189=99, \"Surveillance\", F189)), 0),\"Not required\")","v":"Not required"},{"$f":"IF(INTRO!$E$41=\"Endemic\", IF($J189>1, IF($J189=4, \"Unknown\", IF($J189=99, \"Surveillance\", ROUND(D189*INTRO!$E$51,0))), 0),\"Not required\")","v":"Not required"},{"$f":"IF(INTRO!$E$41=\"Endemic\", IF($J189>1, IF($J189=4, \"Unknown\", IF($J189=99, \"Surveillance\", SUM($N189:$P189))), 0),\"Not required\")","v":"Not required"},{"$f":"IF(INTRO!$E$43=\"Endemic\", IF($K189>1, IF($K189=4, \"Unknown\", IF($K189=99, \"Surveillance\", ROUND(E189*0.75,0))), 0),\"Not required\")","v":2296},{"$f":"IF(INTRO!$E$43=\"Endemic\", IF($K189>1, IF($K189=4, \"Unknown\", IF($K189=99, \"Surveillance\", F189)), 0),\"Not required\")","v":7212},0,{"$f":"IF(INTRO!$E$43=\"Endemic\", IF($K189>1, IF($K189=4, \"Unknown\", IF($K189=99, \"Surveillance\", SUM($R189:$T189))), 0),\"Not required\")","v":9508},0,2,null,1,null,null,null,null,null,null,null,null,21679,"Guan"]
[{"$f":"IF(INTRO!$E$33<>0,INTRO!$E$33, \" \")","v":"Ghana"},"Oti","Jasikan",62229,{"$f":"IF(INTRO!$E$48=\"\",\"\",ROUND($D190*INTRO!$E$48,0))","v":6472},{"$f":"IF(INTRO!$E$49=\"\",\"\",ROUND($D190*INTRO!$E$49,0))","v":15246},{"$f":"IF(INTRO!$E$50=\"\",\"\",ROUND($D190*INTRO!$E$50,0))","v":40511},0,1,null,2,{"$f":"IF(INTRO!$E$37=\"Endemic\",IF($H190>0,IF($H190=4,\"Unknown\",IF($H190=99,\"Stopped\",$D190)),0),\"Not required\")","v":0},78965,{"$f":"IF(INTRO!$E$41=\"Endemic\", IF($J190>1, IF($J190=4, \"Unknown\", IF($J190=99, \"Surveillance\", E190)), 0),\"Not required\")","v":"Not required"},{"$f":"IF(INTRO!$E$41=\"Endemic\", IF($J190>1, IF($J190=4, \"Unknown\", IF($J190=99, \"Surveillance\", F190)), 0),\"Not required\")","v":"Not required"},{"$f":"IF(INTRO!$E$41=\"Endemic\", IF($J190>1, IF($J190=4, \"Unknown\", IF($J190=99, \"Surveillance\", ROUND(D190*INTRO!$E$51,0))), 0),\"Not required\")","v":"Not required"},{"$f":"IF(INTRO!$E$41=\"Endemic\", IF($J190>1, IF($J190=4, \"Unknown\", IF($J190=99, \"Surveillance\", SUM($N190:$P190))), 0),\"Not required\")","v":"Not required"},{"$f":"IF(INTRO!$E$43=\"Endemic\", IF($K190>1, IF($K190=4, \"Unknown\", IF($K190=99, \"Surveillance\", ROUND(E190*0.75,0))), 0),\"Not required\")","v":4854},{"$f":"IF(INTRO!$E$43=\"Endemic\", IF($K190>1, IF($K190=4, \"Unknown\", IF($K190=99, \"Surveillance\", F190)), 0),\"Not required\")","v":15246},0,{"$f":"IF(INTRO!$E$43=\"Endemic\", IF($K190>1, IF($K190=4, \"Unknown\", IF($K190=99, \"Surveillance\", SUM($R190:$T190))), 0),\"Not required\")","v":20100},0,2,null,1,null,null,null,null,null,null,null,null,21565,"Jasikan"]
[{"$f":"IF(INTRO!$E$33<>0,INTRO!$E$33, \" \")","v":"Ghana"},"Oti","Kadjebi",77097.8,{"$f":"IF(INTRO!$E$48=\"\",\"\",ROUND($D191*INTRO!$E$48,0))","v":8018},{"$f":"IF(INTRO!$E$49=\"\",\"\",ROUND($D191*INTRO!$E$49,0))","v":18889},{"$f":"IF(INTRO!$E$50=\"\",\"\",ROUND($D191*INTRO!$E$50,0))","v":50191},0,1,null,2,{"$f":"IF(INTRO!$E$37=\"Endemic\",IF($H191>0,IF($H191=4,\"Unknown\",IF($H191=99,\"Stopped\",$D191)),0),\"Not required\")","v":0},70125,{"$f":"IF(INTRO!$E$41=\"Endemic\", IF($J191>1, IF($J191=4, \"Unknown\", IF($J191=99, \"Surveillance\", E191)), 0),\"Not required\")","v":"Not required"},{"$f":"IF(INTRO!$E$41=\"Endemic\", IF($J191>1, IF($J191=4, \"Unknown\", IF($J191=99, \"Surveillance\", F191)), 0),\"Not required\")","v":"Not required"},{"$f":"IF(INTRO!$E$41=\"Endemic\", IF($J191>1, IF($J191=4, \"Unknown\", IF($J191=99, \"Surveillance\", ROUND(D191*INTRO!$E$51,0))), 0),\"Not required\")","v":"Not required"},{"$f":"IF(INTRO!$E$41=\"Endemic\", IF($J191>1, IF($J191=4, \"Unknown\", IF($J191=99, \"Surveillance\", SUM($N191:$P191))), 0),\"Not required\")","v":"Not required"},{"$f":"IF(INTRO!$E$43=\"Endemic\", IF($K191>1, IF($K191=4, \"Unknown\", IF($K191=99, \"Surveillance\", ROUND(E191*0.75,0))), 0),\"Not required\")","v":6014},{"$f":"IF(INTRO!$E$43=\"Endemic\", IF($K191>1, IF($K191=4, \"Unknown\", IF($K191=99, \"Surveillance\", F191)), 0),\"Not required\")","v":18889},0,{"$f":"IF(INTRO!$E$43=\"Endemic\", IF($K191>1, IF($K191=4, \"Unknown\", IF($K191=99, \"Surveillance\", SUM($R191:$T191))), 0),\"Not required\")","v":24903},0,2,null,1,null,null,null,null,null,null,null,null,21566,"Kadjebi"]
[{"$f":"IF(INTRO!$E$33<>0,INTRO!$E$33, \" \")","v":"Ghana"},"Oti","Krachi East",115121.7,{"$f":"IF(INTRO!$E$48=\"\",\"\",ROUND($D192*INTRO!$E$48,0))","v":11973},{"$f":"IF(INTRO!$E$49=\"\",\"\",ROUND($D192*INTRO!$E$49,0))","v":28205},{"$f":"IF(INTRO!$E$50=\"\",\"\",ROUND($D192*INTRO!$E$50,0))","v":74944},0,1,null,3,{"$f":"IF(INTRO!$E$37=\"Endemic\",IF($H192>0,IF($H192=4,\"Unknown\",IF($H192=99,\"Stopped\",$D192)),0),\"Not required\")","v":0},124512,{"$f":"IF(INTRO!$E$41=\"Endemic\", IF($J192>1, IF($J192=4, \"Unknown\", IF($J192=99, \"Surveillance\", E192)), 0),\"Not required\")","v":"Not required"},{"$f":"IF(INTRO!$E$41=\"Endemic\", IF($J192>1, IF($J192=4, \"Unknown\", IF($J192=99, \"Surveillance\", F192)), 0),\"Not required\")","v":"Not required"},{"$f":"IF(INTRO!$E$41=\"Endemic\", IF($J192>1, IF($J192=4, \"Unknown\", IF($J192=99, \"Surveillance\", ROUND(D192*INTRO!$E$51,0))), 0),\"Not required\")","v":"Not required"},{"$f":"IF(INTRO!$E$41=\"Endemic\", IF($J192>1, IF($J192=4, \"Unknown\", IF($J192=99, \"Surveillance\", SUM($N192:$P192))), 0),\"Not required\")","v":"Not required"},{"$f":"IF(INTRO!$E$43=\"Endemic\", IF($K192>1, IF($K192=4, \"Unknown\", IF($K192=99, \"Surveillance\", ROUND(E192*0.75,0))), 0),\"Not required\")","v":8980},{"$f":"IF(INTRO!$E$43=\"Endemic\", IF($K192>1, IF($K192=4, \"Unknown\", IF($K192=99, \"Surveillance\", F192)), 0),\"Not required\")","v":28205},{"$f":"IF(INTRO!$E$43=\"Endemic\", IF($K192>1, IF($K192=4, \"Unknown\", IF($K192=99, \"Surveillance\", G192)), 0),\"Not required\")","v":74944},{"$f":"IF(INTRO!$E$43=\"Endemic\", IF($K192>1, IF($K192=4, \"Unknown\", IF($K192=99, \"Surveillance\", SUM($R192:$T192))), 0),\"Not required\")","v":112129},0,2,null,1,null,null,null,null,null,null,null,null,21571,"Krachi East"]
[{"$f":"IF(INTRO!$E$33<>0,INTRO!$E$33, \" \")","v":"Ghana"},"Oti","Krachi Nchumuru",83326.8,{"$f":"IF(INTRO!$E$48=\"\",\"\",ROUND($D193*INTRO!$E$48,0))","v":8666},{"$f":"IF(INTRO!$E$49=\"\",\"\",ROUND($D193*INTRO!$E$49,0))","v":20415},{"$f":"IF(INTRO!$E$50=\"\",\"\",ROUND($D193*INTRO!$E$50,0))","v":54246},0,1,null,3,{"$f":"IF(INTRO!$E$37=\"Endemic\",IF($H193>0,IF($H193=4,\"Unknown\",IF($H193=99,\"Stopped\",$D193)),0),\"Not required\")","v":0},47125,{"$f":"IF(INTRO!$E$41=\"Endemic\", IF($J193>1, IF($J193=4, \"Unknown\", IF($J193=99, \"Surveillance\", E193)), 0),\"Not required\")","v":"Not required"},{"$f":"IF(INTRO!$E$41=\"Endemic\", IF($J193>1, IF($J193=4, \"Unknown\", IF($J193=99, \"Surveillance\", F193)), 0),\"Not required\")","v":"Not required"},{"$f":"IF(INTRO!$E$41=\"Endemic\", IF($J193>1, IF($J193=4, \"Unknown\", IF($J193=99, \"Surveillance\", ROUND(D193*INTRO!$E$51,0))), 0),\"Not required\")","v":"Not required"},{"$f":"IF(INTRO!$E$41=\"Endemic\", IF($J193>1, IF($J193=4, \"Unknown\", IF($J193=99, \"Surveillance\", SUM($N193:$P193))), 0),\"Not required\")","v":"Not required"},{"$f":"IF(INTRO!$E$43=\"Endemic\", IF($K193>1, IF($K193=4, \"Unknown\", IF($K193=99, \"Surveillance\", ROUND(E193*0.75,0))), 0),\"Not required\")","v":6500},{"$f":"IF(INTRO!$E$43=\"Endemic\", IF($K193>1, IF($K193=4, \"Unknown\", IF($K193=99, \"Surveillance\", F193)), 0),\"Not required\")","v":20415},{"$f":"IF(INTRO!$E$43=\"Endemic\", IF($K193>1, IF($K193=4, \"Unknown\", IF($K193=99, \"Surveillance\", G193)), 0),\"Not required\")","v":54246},{"$f":"IF(INTRO!$E$43=\"Endemic\", IF($K193>1, IF($K193=4, \"Unknown\", IF($K193=99, \"Surveillance\", SUM($R193:$T193))), 0),\"Not required\")","v":81161},0,2,null,1,null,null,null,null,null,null,null,null,21572,"Krachi Nchumuru"]
[{"$f":"IF(INTRO!$E$33<>0,INTRO!$E$33, \" \")","v":"Ghana"},"Oti","Krachi West",63722.5,{"$f":"IF(INTRO!$E$48=\"\",\"\",ROUND($D194*INTRO!$E$48,0))","v":6627},{"$f":"IF(INTRO!$E$49=\"\",\"\",ROUND($D194*INTRO!$E$49,0))","v":15612},{"$f":"IF(INTRO!$E$50=\"\",\"\",ROUND($D194*INTRO!$E$50,0))","v":41483},0,0,null,3,{"$f":"IF(INTRO!$E$37=\"Endemic\",IF($H194>0,IF($H194=4,\"Unknown\",IF($H194=99,\"Stopped\",$D194)),0),\"Not required\")","v":0},0,{"$f":"IF(INTRO!$E$41=\"Endemic\", IF($J194>1, IF($J194=4, \"Unknown\", IF($J194=99, \"Surveillance\", E194)), 0),\"Not required\")","v":"Not required"},{"$f":"IF(INTRO!$E$41=\"Endemic\", IF($J194>1, IF($J194=4, \"Unknown\", IF($J194=99, \"Surveillance\", F194)), 0),\"Not required\")","v":"Not required"},{"$f":"IF(INTRO!$E$41=\"Endemic\", IF($J194>1, IF($J194=4, \"Unknown\", IF($J194=99, \"Surveillance\", ROUND(D194*INTRO!$E$51,0))), 0),\"Not required\")","v":"Not required"},{"$f":"IF(INTRO!$E$41=\"Endemic\", IF($J194>1, IF($J194=4, \"Unknown\", IF($J194=99, \"Surveillance\", SUM($N194:$P194))), 0),\"Not required\")","v":"Not required"},{"$f":"IF(INTRO!$E$43=\"Endemic\", IF($K194>1, IF($K194=4, \"Unknown\", IF($K194=99, \"Surveillance\", ROUND(E194*0.75,0))), 0),\"Not required\")","v":4970},{"$f":"IF(INTRO!$E$43=\"Endemic\", IF($K194>1, IF($K194=4, \"Unknown\", IF($K194=99, \"Surveillance\", F194)), 0),\"Not required\")","v":15612},{"$f":"IF(INTRO!$E$43=\"Endemic\", IF($K194>1, IF($K194=4, \"Unknown\", IF($K194=99, \"Surveillance\", G194)), 0),\"Not required\")","v":41483},{"$f":"IF(INTRO!$E$43=\"Endemic\", IF($K194>1, IF($K194=4, \"Unknown\", IF($K194=99, \"Surveillance\", SUM($R194:$T194))), 0),\"Not required\")","v":62065},0,0,null,1,null,null,null,null,null,null,null,null,21573,"Krachi West"]
[{"$f":"IF(INTRO!$E$33<>0,INTRO!$E$33, \" \")","v":"Ghana"},"Oti","Nkwanta North",131447.6,{"$f":"IF(INTRO!$E$48=\"\",\"\",ROUND($D195*INTRO!$E$48,0))","v":13671},{"$f":"IF(INTRO!$E$49=\"\",\"\",ROUND($D195*INTRO!$E$49,0))","v":32205},{"$f":"IF(INTRO!$E$50=\"\",\"\",ROUND($D195*INTRO!$E$50,0))","v":85572},0,1,null,3,{"$f":"IF(INTRO!$E$37=\"Endemic\",IF($H195>0,IF($H195=4,\"Unknown\",IF($H195=99,\"Stopped\",$D195)),0),\"Not required\")","v":0},74512,{"$f":"IF(INTRO!$E$41=\"Endemic\", IF($J195>1, IF($J195=4, \"Unknown\", IF($J195=99, \"Surveillance\", E195)), 0),\"Not required\")","v":"Not required"},{"$f":"IF(INTRO!$E$41=\"Endemic\", IF($J195>1, IF($J195=4, \"Unknown\", IF($J195=99, \"Surveillance\", F195)), 0),\"Not required\")","v":"Not required"},{"$f":"IF(INTRO!$E$41=\"Endemic\", IF($J195>1, IF($J195=4, \"Unknown\", IF($J195=99, \"Surveillance\", ROUND(D195*INTRO!$E$51,0))), 0),\"Not required\")","v":"Not required"},{"$f":"IF(INTRO!$E$41=\"Endemic\", IF($J195>1, IF($J195=4, \"Unknown\", IF($J195=99, \"Surveillance\", SUM($N195:$P195))), 0),\"Not required\")","v":"Not required"},{"$f":"IF(INTRO!$E$43=\"Endemic\", IF($K195>1, IF($K195=4, \"Unknown\", IF($K195=99, \"Surveillance\", ROUND(E195*0.75,0))), 0),\"Not required\")","v":10253},{"$f":"IF(INTRO!$E$43=\"Endemic\", IF($K195>1, IF($K195=4, \"Unknown\", IF($K195=99, \"Surveillance\", F195)), 0),\"Not required\")","v":32205},45696,{"$f":"IF(INTRO!$E$43=\"Endemic\", IF($K195>1, IF($K195=4, \"Unknown\", IF($K195=99, \"Surveillance\", SUM($R195:$T195))), 0),\"Not required\")","v":88154},0,2,null,1,null,null,null,null,null,null,null,null,21574,"Nkwanta North"]
[{"$f":"IF(INTRO!$E$33<>0,INTRO!$E$33, \" \")","v":"Ghana"},"Oti","Nkwanta South",142707,{"$f":"IF(INTRO!$E$48=\"\",\"\",ROUND($D196*INTRO!$E$48,0))","v":14842},{"$f":"IF(INTRO!$E$49=\"\",\"\",ROUND($D196*INTRO!$E$49,0))","v":34963},{"$f":"IF(INTRO!$E$50=\"\",\"\",ROUND($D196*INTRO!$E$50,0))","v":92902},0,1,null,2,{"$f":"IF(INTRO!$E$37=\"Endemic\",IF($H196>0,IF($H196=4,\"Unknown\",IF($H196=99,\"Stopped\",$D196)),0),\"Not required\")","v":0},0,{"$f":"IF(INTRO!$E$41=\"Endemic\", IF($J196>1, IF($J196=4, \"Unknown\", IF($J196=99, \"Surveillance\", E196)), 0),\"Not required\")","v":"Not required"},{"$f":"IF(INTRO!$E$41=\"Endemic\", IF($J196>1, IF($J196=4, \"Unknown\", IF($J196=99, \"Surveillance\", F196)), 0),\"Not required\")","v":"Not required"},{"$f":"IF(INTRO!$E$41=\"Endemic\", IF($J196>1, IF($J196=4, \"Unknown\", IF($J196=99, \"Surveillance\", ROUND(D196*INTRO!$E$51,0))), 0),\"Not required\")","v":"Not required"},{"$f":"IF(INTRO!$E$41=\"Endemic\", IF($J196>1, IF($J196=4, \"Unknown\", IF($J196=99, \"Surveillance\", SUM($N196:$P196))), 0),\"Not required\")","v":"Not required"},{"$f":"IF(INTRO!$E$43=\"Endemic\", IF($K196>1, IF($K196=4, \"Unknown\", IF($K196=99, \"Surveillance\", ROUND(E196*0.75,0))), 0),\"Not required\")","v":11132},{"$f":"IF(INTRO!$E$43=\"Endemic\", IF($K196>1, IF($K196=4, \"Unknown\", IF($K196=99, \"Surveillance\", F196)), 0),\"Not required\")","v":34963},0,{"$f":"IF(INTRO!$E$43=\"Endemic\", IF($K196>1, IF($K196=4, \"Unknown\", IF($K196=99, \"Surveillance\", SUM($R196:$T196))), 0),\"Not required\")","v":46095},0,2,null,1,null,null,null,null,null,null,null,null,21575,"Nkwanta South"]
[{"$f":"IF(INTRO!$E$33<>0,INTRO!$E$33, \" \")","v":"Ghana"},"Savannah","Bole",120714.6,{"$f":"IF(INTRO!$E$48=\"\",\"\",ROUND($D197*INTRO!$E$48,0))","v":12554},{"$f":"IF(INTRO!$E$49=\"\",\"\",ROUND($D197*INTRO!$E$49,0))","v":29575},{"$f":"IF(INTRO!$E$50=\"\",\"\",ROUND($D197*INTRO!$E$50,0))","v":78585},1,1,null,3,{"$f":"IF(INTRO!$E$37=\"Endemic\",IF($H197>0,IF($H197=4,\"Unknown\",IF($H197=99,\"Stopped\",$D197)),0),\"Not required\")","v":120714.6},69228,{"$f":"IF(INTRO!$E$41=\"Endemic\", IF($J197>1, IF($J197=4, \"Unknown\", IF($J197=99, \"Surveillance\", E197)), 0),\"Not required\")","v":"Not required"},{"$f":"IF(INTRO!$E$41=\"Endemic\", IF($J197>1, IF($J197=4, \"Unknown\", IF($J197=99, \"Surveillance\", F197)), 0),\"Not required\")","v":"Not required"},{"$f":"IF(INTRO!$E$41=\"Endemic\", IF($J197>1, IF($J197=4, \"Unknown\", IF($J197=99, \"Surveillance\", ROUND(D197*INTRO!$E$51,0))), 0),\"Not required\")","v":"Not required"},{"$f":"IF(INTRO!$E$41=\"Endemic\", IF($J197>1, IF($J197=4, \"Unknown\", IF($J197=99, \"Surveillance\", SUM($N197:$P197))), 0),\"Not required\")","v":"Not required"},{"$f":"IF(INTRO!$E$43=\"Endemic\", IF($K197>1, IF($K197=4, \"Unknown\", IF($K197=99, \"Surveillance\", ROUND(E197*0.75,0))), 0),\"Not required\")","v":9416},{"$f":"IF(INTRO!$E$43=\"Endemic\", IF($K197>1, IF($K197=4, \"Unknown\", IF($K197=99, \"Surveillance\", F197)), 0),\"Not required\")","v":29575},{"$f":"IF(INTRO!$E$43=\"Endemic\", IF($K197>1, IF($K197=4, \"Unknown\", IF($K197=99, \"Surveillance\", G197)), 0),\"Not required\")","v":78585},{"$f":"IF(INTRO!$E$43=\"Endemic\", IF($K197>1, IF($K197=4, \"Unknown\", IF($K197=99, \"Surveillance\", SUM($R197:$T197))), 0),\"Not required\")","v":117576},1,2,null,1,null,"SS/SC",null,null,null,null,null,null,21503,"Bole"]
[{"$f":"IF(INTRO!$E$33<>0,INTRO!$E$33, \" \")","v":"Ghana"},"Savannah","Central Gonja",148820.9,{"$f":"IF(INTRO!$E$48=\"\",\"\",ROUND($D198*INTRO!$E$48,0))","v":15477},{"$f":"IF(INTRO!$E$49=\"\",\"\",ROUND($D198*INTRO!$E$49,0))","v":36461},{"$f":"IF(INTRO!$E$50=\"\",\"\",ROUND($D198*INTRO!$E$50,0))","v":96882},99,0,null,2,{"$f":"IF(INTRO!$E$37=\"Endemic\",IF($H198>0,IF($H198=4,\"Unknown\",IF($H198=99,\"Stopped\",$D198)),0),\"Not required\")","v":"Stopped"},0,{"$f":"IF(INTRO!$E$41=\"Endemic\", IF($J198>1, IF($J198=4, \"Unknown\", IF($J198=99, \"Surveillance\", E198)), 0),\"Not required\")","v":"Not required"},{"$f":"IF(INTRO!$E$41=\"Endemic\", IF($J198>1, IF($J198=4, \"Unknown\", IF($J198=99, \"Surveillance\", F198)), 0),\"Not required\")","v":"Not required"},{"$f":"IF(INTRO!$E$41=\"Endemic\", IF($J198>1, IF($J198=4, \"Unknown\", IF($J198=99, \"Surveillance\", ROUND(D198*INTRO!$E$51,0))), 0),\"Not required\")","v":"Not required"},{"$f":"IF(INTRO!$E$41=\"Endemic\", IF($J198>1, IF($J198=4, \"Unknown\", IF($J198=99, \"Surveillance\", SUM($N198:$P198))), 0),\"Not required\")","v":"Not required"},{"$f":"IF(INTRO!$E$43=\"Endemic\", IF($K198>1, IF($K198=4, \"Unknown\", IF($K198=99, \"Surveillance\", ROUND(E198*0.75,0))), 0),\"Not required\")","v":11608},{"$f":"IF(INTRO!$E$43=\"Endemic\", IF($K198>1, IF($K198=4, \"Unknown\", IF($K198=99, \"Surveillance\", F198)), 0),\"Not required\")","v":36461},0,{"$f":"IF(INTRO!$E$43=\"Endemic\", IF($K198>1, IF($K198=4, \"Unknown\", IF($K198=99, \"Surveillance\", SUM($R198:$T198))), 0),\"Not required\")","v":48069},0,0,null,1,null,null,null,null,null,null,null,null,21505,"Central Gonja"]
[{"$f":"IF(INTRO!$E$33<>0,INTRO!$E$33, \" \")","v":"Ghana"},"Savannah","East Gonja",122752.7,{"$f":"IF(INTRO!$E$48=\"\",\"\",ROUND($D199*INTRO!$E$48,0))","v":12766},{"$f":"IF(INTRO!$E$49=\"\",\"\",ROUND($D199*INTRO!$E$49,0))","v":30074},{"$f":"IF(INTRO!$E$50=\"\",\"\",ROUND($D199*INTRO!$E$50,0))","v":79912},99,1,null,1,{"$f":"IF(INTRO!$E$37=\"Endemic\",IF($H199>0,IF($H199=4,\"Unknown\",IF($H199=99,\"Stopped\",$D199)),0),\"Not required\")","v":"Stopped"},105073,{"$f":"IF(INTRO!$E$41=\"Endemic\", IF($J199>1, IF($J199=4, \"Unknown\", IF($J199=99, \"Surveillance\", E199)), 0),\"Not required\")","v":"Not required"},{"$f":"IF(INTRO!$E$41=\"Endemic\", IF($J199>1, IF($J199=4, \"Unknown\", IF($J199=99, \"Surveillance\", F199)), 0),\"Not required\")","v":"Not required"},{"$f":"IF(INTRO!$E$41=\"Endemic\", IF($J199>1, IF($J199=4, \"Unknown\", IF($J199=99, \"Surveillance\", ROUND(D199*INTRO!$E$51,0))), 0),\"Not required\")","v":"Not required"},{"$f":"IF(INTRO!$E$41=\"Endemic\", IF($J199>1, IF($J199=4, \"Unknown\", IF($J199=99, \"Surveillance\", SUM($N199:$P199))), 0),\"Not required\")","v":"Not required"},{"$f":"IF(INTRO!$E$43=\"Endemic\", IF($K199>1, IF($K199=4, \"Unknown\", IF($K199=99, \"Surveillance\", ROUND(E199*0.75,0))), 0),\"Not required\")","v":0},{"$f":"IF(INTRO!$E$43=\"Endemic\", IF($K199>1, IF($K199=4, \"Unknown\", IF($K199=99, \"Surveillance\", F199)), 0),\"Not required\")","v":0},{"$f":"IF(INTRO!$E$43=\"Endemic\", IF($K199>1, IF($K199=4, \"Unknown\", IF($K199=99, \"Surveillance\", G199)), 0),\"Not required\")","v":0},{"$f":"IF(INTRO!$E$43=\"Endemic\", IF($K199>1, IF($K199=4, \"Unknown\", IF($K199=99, \"Surveillance\", SUM($R199:$T199))), 0),\"Not required\")","v":0},0,2,null,1,null,null,null,null,null,null,null,null,21670,"East Gonja"]
[{"$f":"IF(INTRO!$E$33<>0,INTRO!$E$33, \" \")","v":"Ghana"},"Savannah","North Gonja",64039.199999999997,{"$f":"IF(INTRO!$E$48=\"\",\"\",ROUND($D200*INTRO!$E$48,0))","v":6660},{"$f":"IF(INTRO!$E$49=\"\",\"\",ROUND($D200*INTRO!$E$49,0))","v":15690},{"$f":"IF(INTRO!$E$50=\"\",\"\",ROUND($D200*INTRO!$E$50,0))","v":41690},99,1,null,1,{"$f":"IF(INTRO!$E$37=\"Endemic\",IF($H200>0,IF($H200=4,\"Unknown\",IF($H200=99,\"Stopped\",$D200)),0),\"Not required\")","v":"Stopped"},49839,{"$f":"IF(INTRO!$E$41=\"Endemic\", IF($J200>1, IF($J200=4, \"Unknown\", IF($J200=99, \"Surveillance\", E200)), 0),\"Not required\")","v":"Not required"},{"$f":"IF(INTRO!$E$41=\"Endemic\", IF($J200>1, IF($J200=4, \"Unknown\", IF($J200=99, \"Surveillance\", F200)), 0),\"Not required\")","v":"Not required"},{"$f":"IF(INTRO!$E$41=\"Endemic\", IF($J200>1, IF($J200=4, \"Unknown\", IF($J200=99, \"Surveillance\", ROUND(D200*INTRO!$E$51,0))), 0),\"Not required\")","v":"Not required"},{"$f":"IF(INTRO!$E$41=\"Endemic\", IF($J200>1, IF($J200=4, \"Unknown\", IF($J200=99, \"Surveillance\", SUM($N200:$P200))), 0),\"Not required\")","v":"Not required"},{"$f":"IF(INTRO!$E$43=\"Endemic\", IF($K200>1, IF($K200=4, \"Unknown\", IF($K200=99, \"Surveillance\", ROUND(E200*0.75,0))), 0),\"Not required\")","v":0},{"$f":"IF(INTRO!$E$43=\"Endemic\", IF($K200>1, IF($K200=4, \"Unknown\", IF($K200=99, \"Surveillance\", F200)), 0),\"Not required\")","v":0},{"$f":"IF(INTRO!$E$43=\"Endemic\", IF($K200>1, IF($K200=4, \"Unknown\", IF($K200=99, \"Surveillance\", G200)), 0),\"Not required\")","v":0},{"$f":"IF(INTRO!$E$43=\"Endemic\", IF($K200>1, IF($K200=4, \"Unknown\", IF($K200=99, \"Surveillance\", SUM($R200:$T200))), 0),\"Not required\")","v":0},0,2,null,0,null,null,null,null,null,null,null,null,21517,"North Gonja"]
[{"$f":"IF(INTRO!$E$33<>0,INTRO!$E$33, \" \")","v":"Ghana"},"Savannah","North-East Gonja",41076.400000000001,{"$f":"IF(INTRO!$E$48=\"\",\"\",ROUND($D201*INTRO!$E$48,0))","v":4272},{"$f":"IF(INTRO!$E$49=\"\",\"\",ROUND($D201*INTRO!$E$49,0))","v":10064},{"$f":"IF(INTRO!$E$50=\"\",\"\",ROUND($D201*INTRO!$E$50,0))","v":26741},99,1,null,3,{"$f":"IF(INTRO!$E$37=\"Endemic\",IF($H201>0,IF($H201=4,\"Unknown\",IF($H201=99,\"Stopped\",$D201)),0),\"Not required\")","v":"Stopped"},47206,{"$f":"IF(INTRO!$E$41=\"Endemic\", IF($J201>1, IF($J201=4, \"Unknown\", IF($J201=99, \"Surveillance\", E201)), 0),\"Not required\")","v":"Not required"},{"$f":"IF(INTRO!$E$41=\"Endemic\", IF($J201>1, IF($J201=4, \"Unknown\", IF($J201=99, \"Surveillance\", F201)), 0),\"Not required\")","v":"Not required"},{"$f":"IF(INTRO!$E$41=\"Endemic\", IF($J201>1, IF($J201=4, \"Unknown\", IF($J201=99, \"Surveillance\", ROUND(D201*INTRO!$E$51,0))), 0),\"Not required\")","v":"Not required"},{"$f":"IF(INTRO!$E$41=\"Endemic\", IF($J201>1, IF($J201=4, \"Unknown\", IF($J201=99, \"Surveillance\", SUM($N201:$P201))), 0),\"Not required\")","v":"Not required"},{"$f":"IF(INTRO!$E$43=\"Endemic\", IF($K201>1, IF($K201=4, \"Unknown\", IF($K201=99, \"Surveillance\", ROUND(E201*0.75,0))), 0),\"Not required\")","v":3204},{"$f":"IF(INTRO!$E$43=\"Endemic\", IF($K201>1, IF($K201=4, \"Unknown\", IF($K201=99, \"Surveillance\", F201)), 0),\"Not required\")","v":10064},55232,{"$f":"IF(INTRO!$E$43=\"Endemic\", IF($K201>1, IF($K201=4, \"Unknown\", IF($K201=99, \"Surveillance\", SUM($R201:$T201))), 0),\"Not required\")","v":68500},0,2,null,1,null,null,null,null,null,null,null,null,21669,"North-East Gonja"]
[{"$f":"IF(INTRO!$E$33<>0,INTRO!$E$33, \" \")","v":"Ghana"},"Savannah","Sawla-Tuna-Kalba",117445.4,{"$f":"IF(INTRO!$E$48=\"\",\"\",ROUND($D202*INTRO!$E$48,0))","v":12214},{"$f":"IF(INTRO!$E$49=\"\",\"\",ROUND($D202*INTRO!$E$49,0))","v":28774},{"$f":"IF(INTRO!$E$50=\"\",\"\",ROUND($D202*INTRO!$E$50,0))","v":76457},1,1,null,1,{"$f":"IF(INTRO!$E$37=\"Endemic\",IF($H202>0,IF($H202=4,\"Unknown\",IF($H202=99,\"Stopped\",$D202)),0),\"Not required\")","v":117445.4},111835,{"$f":"IF(INTRO!$E$41=\"Endemic\", IF($J202>1, IF($J202=4, \"Unknown\", IF($J202=99, \"Surveillance\", E202)), 0),\"Not required\")","v":"Not required"},{"$f":"IF(INTRO!$E$41=\"Endemic\", IF($J202>1, IF($J202=4, \"Unknown\", IF($J202=99, \"Surveillance\", F202)), 0),\"Not required\")","v":"Not required"},{"$f":"IF(INTRO!$E$41=\"Endemic\", IF($J202>1, IF($J202=4, \"Unknown\", IF($J202=99, \"Surveillance\", ROUND(D202*INTRO!$E$51,0))), 0),\"Not required\")","v":"Not required"},{"$f":"IF(INTRO!$E$41=\"Endemic\", IF($J202>1, IF($J202=4, \"Unknown\", IF($J202=99, \"Surveillance\", SUM($N202:$P202))), 0),\"Not required\")","v":"Not required"},{"$f":"IF(INTRO!$E$43=\"Endemic\", IF($K202>1, IF($K202=4, \"Unknown\", IF($K202=99, \"Surveillance\", ROUND(E202*0.75,0))), 0),\"Not required\")","v":0},{"$f":"IF(INTRO!$E$43=\"Endemic\", IF($K202>1, IF($K202=4, \"Unknown\", IF($K202=99, \"Surveillance\", F202)), 0),\"Not required\")","v":0},{"$f":"IF(INTRO!$E$43=\"Endemic\", IF($K202>1, IF($K202=4, \"Unknown\", IF($K202=99, \"Surveillance\", G202)), 0),\"Not required\")","v":0},{"$f":"IF(INTRO!$E$43=\"Endemic\", IF($K202>1, IF($K202=4, \"Unknown\", IF($K202=99, \"Surveillance\", SUM($R202:$T202))), 0),\"Not required\")","v":0},1,2,null,0,null,"SS/SC",null,null,null,null,null,null,21521,"Sawla-Tuna-Kalba"]
[{"$f":"IF(INTRO!$E$33<>0,INTRO!$E$33, \" \")","v":"Ghana"},"Savannah","West Gonja",66141.899999999994,{"$f":"IF(INTRO!$E$48=\"\",\"\",ROUND($D203*INTRO!$E$48,0))","v":6879},{"$f":"IF(INTRO!$E$49=\"\",\"\",ROUND($D203*INTRO!$E$49,0))","v":16205},{"$f":"IF(INTRO!$E$50=\"\",\"\",ROUND($D203*INTRO!$E$50,0))","v":43058},99,0,null,1,{"$f":"IF(INTRO!$E$37=\"Endemic\",IF($H203>0,IF($H203=4,\"Unknown\",IF($H203=99,\"Stopped\",$D203)),0),\"Not required\")","v":"Stopped"},0,{"$f":"IF(INTRO!$E$41=\"Endemic\", IF($J203>1, IF($J203=4, \"Unknown\", IF($J203=99, \"Surveillance\", E203)), 0),\"Not required\")","v":"Not required"},{"$f":"IF(INTRO!$E$41=\"Endemic\", IF($J203>1, IF($J203=4, \"Unknown\", IF($J203=99, \"Surveillance\", F203)), 0),\"Not required\")","v":"Not required"},{"$f":"IF(INTRO!$E$41=\"Endemic\", IF($J203>1, IF($J203=4, \"Unknown\", IF($J203=99, \"Surveillance\", ROUND(D203*INTRO!$E$51,0))), 0),\"Not required\")","v":"Not required"},{"$f":"IF(INTRO!$E$41=\"Endemic\", IF($J203>1, IF($J203=4, \"Unknown\", IF($J203=99, \"Surveillance\", SUM($N203:$P203))), 0),\"Not required\")","v":"Not required"},{"$f":"IF(INTRO!$E$43=\"Endemic\", IF($K203>1, IF($K203=4, \"Unknown\", IF($K203=99, \"Surveillance\", ROUND(E203*0.75,0))), 0),\"Not required\")","v":0},{"$f":"IF(INTRO!$E$43=\"Endemic\", IF($K203>1, IF($K203=4, \"Unknown\", IF($K203=99, \"Surveillance\", F203)), 0),\"Not required\")","v":0},{"$f":"IF(INTRO!$E$43=\"Endemic\", IF($K203>1, IF($K203=4, \"Unknown\", IF($K203=99, \"Surveillance\", G203)), 0),\"Not required\")","v":0},{"$f":"IF(INTRO!$E$43=\"Endemic\", IF($K203>1, IF($K203=4, \"Unknown\", IF($K203=99, \"Surveillance\", SUM($R203:$T203))), 0),\"Not required\")","v":0},0,0,null,0,null,null,null,null,null,null,null,null,21526,"West Gonja"]
[{"$f":"IF(INTRO!$E$33<>0,INTRO!$E$33, \" \")","v":"Ghana"},"Upper East","Bawku Municipal",124528,{"$f":"IF(INTRO!$E$48=\"\",\"\",ROUND($D204*INTRO!$E$48,0))","v":12951},{"$f":"IF(INTRO!$E$49=\"\",\"\",ROUND($D204*INTRO!$E$49,0))","v":30509},{"$f":"IF(INTRO!$E$50=\"\",\"\",ROUND($D204*INTRO!$E$50,0))","v":81068},99,0,null,2,{"$f":"IF(INTRO!$E$37=\"Endemic\",IF($H204>0,IF($H204=4,\"Unknown\",IF($H204=99,\"Stopped\",$D204)),0),\"Not required\")","v":"Stopped"},0,{"$f":"IF(INTRO!$E$41=\"Endemic\", IF($J204>1, IF($J204=4, \"Unknown\", IF($J204=99, \"Surveillance\", E204)), 0),\"Not required\")","v":"Not required"},{"$f":"IF(INTRO!$E$41=\"Endemic\", IF($J204>1, IF($J204=4, \"Unknown\", IF($J204=99, \"Surveillance\", F204)), 0),\"Not required\")","v":"Not required"},{"$f":"IF(INTRO!$E$41=\"Endemic\", IF($J204>1, IF($J204=4, \"Unknown\", IF($J204=99, \"Surveillance\", ROUND(D204*INTRO!$E$51,0))), 0),\"Not required\")","v":"Not required"},{"$f":"IF(INTRO!$E$41=\"Endemic\", IF($J204>1, IF($J204=4, \"Unknown\", IF($J204=99, \"Surveillance\", SUM($N204:$P204))), 0),\"Not required\")","v":"Not required"},{"$f":"IF(INTRO!$E$43=\"Endemic\", IF($K204>1, IF($K204=4, \"Unknown\", IF($K204=99, \"Surveillance\", ROUND(E204*0.75,0))), 0),\"Not required\")","v":9713},{"$f":"IF(INTRO!$E$43=\"Endemic\", IF($K204>1, IF($K204=4, \"Unknown\", IF($K204=99, \"Surveillance\", F204)), 0),\"Not required\")","v":30509},0,{"$f":"IF(INTRO!$E$43=\"Endemic\", IF($K204>1, IF($K204=4, \"Unknown\", IF($K204=99, \"Surveillance\", SUM($R204:$T204))), 0),\"Not required\")","v":40222},0,0,null,1,null,null,null,null,null,null,null,null,21530,"Bawku Municipal"]
[{"$f":"IF(INTRO!$E$33<>0,INTRO!$E$33, \" \")","v":"Ghana"},"Upper East","Bawku West",150308,{"$f":"IF(INTRO!$E$48=\"\",\"\",ROUND($D205*INTRO!$E$48,0))","v":15632},{"$f":"IF(INTRO!$E$49=\"\",\"\",ROUND($D205*INTRO!$E$49,0))","v":36825},{"$f":"IF(INTRO!$E$50=\"\",\"\",ROUND($D205*INTRO!$E$50,0))","v":97851},99,1,null,2,{"$f":"IF(INTRO!$E$37=\"Endemic\",IF($H205>0,IF($H205=4,\"Unknown\",IF($H205=99,\"Stopped\",$D205)),0),\"Not required\")","v":"Stopped"},101864,{"$f":"IF(INTRO!$E$41=\"Endemic\", IF($J205>1, IF($J205=4, \"Unknown\", IF($J205=99, \"Surveillance\", E205)), 0),\"Not required\")","v":"Not required"},{"$f":"IF(INTRO!$E$41=\"Endemic\", IF($J205>1, IF($J205=4, \"Unknown\", IF($J205=99, \"Surveillance\", F205)), 0),\"Not required\")","v":"Not required"},{"$f":"IF(INTRO!$E$41=\"Endemic\", IF($J205>1, IF($J205=4, \"Unknown\", IF($J205=99, \"Surveillance\", ROUND(D205*INTRO!$E$51,0))), 0),\"Not required\")","v":"Not required"},{"$f":"IF(INTRO!$E$41=\"Endemic\", IF($J205>1, IF($J205=4, \"Unknown\", IF($J205=99, \"Surveillance\", SUM($N205:$P205))), 0),\"Not required\")","v":"Not required"},{"$f":"IF(INTRO!$E$43=\"Endemic\", IF($K205>1, IF($K205=4, \"Unknown\", IF($K205=99, \"Surveillance\", ROUND(E205*0.75,0))), 0),\"Not required\")","v":11724},{"$f":"IF(INTRO!$E$43=\"Endemic\", IF($K205>1, IF($K205=4, \"Unknown\", IF($K205=99, \"Surveillance\", F205)), 0),\"Not required\")","v":36825},0,{"$f":"IF(INTRO!$E$43=\"Endemic\", IF($K205>1, IF($K205=4, \"Unknown\", IF($K205=99, \"Surveillance\", SUM($R205:$T205))), 0),\"Not required\")","v":48549},0,2,null,1,null,null,null,null,null,null,null,null,21531,"Bawku West"]
[{"$f":"IF(INTRO!$E$33<>0,INTRO!$E$33, \" \")","v":"Ghana"},"Upper East","Binduri",79933.399999999994,{"$f":"IF(INTRO!$E$48=\"\",\"\",ROUND($D206*INTRO!$E$48,0))","v":8313},{"$f":"IF(INTRO!$E$49=\"\",\"\",ROUND($D206*INTRO!$E$49,0))","v":19584},{"$f":"IF(INTRO!$E$50=\"\",\"\",ROUND($D206*INTRO!$E$50,0))","v":52037},99,0,null,2,{"$f":"IF(INTRO!$E$37=\"Endemic\",IF($H206>0,IF($H206=4,\"Unknown\",IF($H206=99,\"Stopped\",$D206)),0),\"Not required\")","v":"Stopped"},0,{"$f":"IF(INTRO!$E$41=\"Endemic\", IF($J206>1, IF($J206=4, \"Unknown\", IF($J206=99, \"Surveillance\", E206)), 0),\"Not required\")","v":"Not required"},{"$f":"IF(INTRO!$E$41=\"Endemic\", IF($J206>1, IF($J206=4, \"Unknown\", IF($J206=99, \"Surveillance\", F206)), 0),\"Not required\")","v":"Not required"},{"$f":"IF(INTRO!$E$41=\"Endemic\", IF($J206>1, IF($J206=4, \"Unknown\", IF($J206=99, \"Surveillance\", ROUND(D206*INTRO!$E$51,0))), 0),\"Not required\")","v":"Not required"},{"$f":"IF(INTRO!$E$41=\"Endemic\", IF($J206>1, IF($J206=4, \"Unknown\", IF($J206=99, \"Surveillance\", SUM($N206:$P206))), 0),\"Not required\")","v":"Not required"},{"$f":"IF(INTRO!$E$43=\"Endemic\", IF($K206>1, IF($K206=4, \"Unknown\", IF($K206=99, \"Surveillance\", ROUND(E206*0.75,0))), 0),\"Not required\")","v":6235},{"$f":"IF(INTRO!$E$43=\"Endemic\", IF($K206>1, IF($K206=4, \"Unknown\", IF($K206=99, \"Surveillance\", F206)), 0),\"Not required\")","v":19584},0,{"$f":"IF(INTRO!$E$43=\"Endemic\", IF($K206>1, IF($K206=4, \"Unknown\", IF($K206=99, \"Surveillance\", SUM($R206:$T206))), 0),\"Not required\")","v":25819},0,0,null,1,null,null,null,null,null,null,null,null,21532,"Binduri"]
[{"$f":"IF(INTRO!$E$33<>0,INTRO!$E$33, \" \")","v":"Ghana"},"Upper East","Bolgatanga East",40471.800000000003,{"$f":"IF(INTRO!$E$48=\"\",\"\",ROUND($D207*INTRO!$E$48,0))","v":4209},{"$f":"IF(INTRO!$E$49=\"\",\"\",ROUND($D207*INTRO!$E$49,0))","v":9916},{"$f":"IF(INTRO!$E$50=\"\",\"\",ROUND($D207*INTRO!$E$50,0))","v":26347},99,0,null,2,{"$f":"IF(INTRO!$E$37=\"Endemic\",IF($H207>0,IF($H207=4,\"Unknown\",IF($H207=99,\"Stopped\",$D207)),0),\"Not required\")","v":"Stopped"},0,{"$f":"IF(INTRO!$E$41=\"Endemic\", IF($J207>1, IF($J207=4, \"Unknown\", IF($J207=99, \"Surveillance\", E207)), 0),\"Not required\")","v":"Not required"},{"$f":"IF(INTRO!$E$41=\"Endemic\", IF($J207>1, IF($J207=4, \"Unknown\", IF($J207=99, \"Surveillance\", F207)), 0),\"Not required\")","v":"Not required"},{"$f":"IF(INTRO!$E$41=\"Endemic\", IF($J207>1, IF($J207=4, \"Unknown\", IF($J207=99, \"Surveillance\", ROUND(D207*INTRO!$E$51,0))), 0),\"Not required\")","v":"Not required"},{"$f":"IF(INTRO!$E$41=\"Endemic\", IF($J207>1, IF($J207=4, \"Unknown\", IF($J207=99, \"Surveillance\", SUM($N207:$P207))), 0),\"Not required\")","v":"Not required"},{"$f":"IF(INTRO!$E$43=\"Endemic\", IF($K207>1, IF($K207=4, \"Unknown\", IF($K207=99, \"Surveillance\", ROUND(E207*0.75,0))), 0),\"Not required\")","v":3157},{"$f":"IF(INTRO!$E$43=\"Endemic\", IF($K207>1, IF($K207=4, \"Unknown\", IF($K207=99, \"Surveillance\", F207)), 0),\"Not required\")","v":9916},0,{"$f":"IF(INTRO!$E$43=\"Endemic\", IF($K207>1, IF($K207=4, \"Unknown\", IF($K207=99, \"Surveillance\", SUM($R207:$T207))), 0),\"Not required\")","v":13073},0,0,null,1,null,null,null,null,null,null,null,null,21671,"Bolgatanga East"]
[{"$f":"IF(INTRO!$E$33<>0,INTRO!$E$33, \" \")","v":"Ghana"},"Upper East","Bolgatanga Municipal",145799.79999999999,{"$f":"IF(INTRO!$E$48=\"\",\"\",ROUND($D208*INTRO!$E$48,0))","v":15163},{"$f":"IF(INTRO!$E$49=\"\",\"\",ROUND($D208*INTRO!$E$49,0))","v":35721},{"$f":"IF(INTRO!$E$50=\"\",\"\",ROUND($D208*INTRO!$E$50,0))","v":94916},99,0,null,2,{"$f":"IF(INTRO!$E$37=\"Endemic\",IF($H208>0,IF($H208=4,\"Unknown\",IF($H208=99,\"Stopped\",$D208)),0),\"Not required\")","v":"Stopped"},0,{"$f":"IF(INTRO!$E$41=\"Endemic\", IF($J208>1, IF($J208=4, \"Unknown\", IF($J208=99, \"Surveillance\", E208)), 0),\"Not required\")","v":"Not required"},{"$f":"IF(INTRO!$E$41=\"Endemic\", IF($J208>1, IF($J208=4, \"Unknown\", IF($J208=99, \"Surveillance\", F208)), 0),\"Not required\")","v":"Not required"},{"$f":"IF(INTRO!$E$41=\"Endemic\", IF($J208>1, IF($J208=4, \"Unknown\", IF($J208=99, \"Surveillance\", ROUND(D208*INTRO!$E$51,0))), 0),\"Not required\")","v":"Not required"},{"$f":"IF(INTRO!$E$41=\"Endemic\", IF($J208>1, IF($J208=4, \"Unknown\", IF($J208=99, \"Surveillance\", SUM($N208:$P208))), 0),\"Not required\")","v":"Not required"},{"$f":"IF(INTRO!$E$43=\"Endemic\", IF($K208>1, IF($K208=4, \"Unknown\", IF($K208=99, \"Surveillance\", ROUND(E208*0.75,0))), 0),\"Not required\")","v":11372},{"$f":"IF(INTRO!$E$43=\"Endemic\", IF($K208>1, IF($K208=4, \"Unknown\", IF($K208=99, \"Surveillance\", F208)), 0),\"Not required\")","v":35721},0,{"$f":"IF(INTRO!$E$43=\"Endemic\", IF($K208>1, IF($K208=4, \"Unknown\", IF($K208=99, \"Surveillance\", SUM($R208:$T208))), 0),\"Not required\")","v":47093},0,0,null,1,null,null,null,null,null,null,null,null,21672,"Bolgatanga Municipal"]
[{"$f":"IF(INTRO!$E$33<>0,INTRO!$E$33, \" \")","v":"Ghana"},"Upper East","Bongo",125357.6,{"$f":"IF(INTRO!$E$48=\"\",\"\",ROUND($D209*INTRO!$E$48,0))","v":13037},{"$f":"IF(INTRO!$E$49=\"\",\"\",ROUND($D209*INTRO!$E$49,0))","v":30713},{"$f":"IF(INTRO!$E$50=\"\",\"\",ROUND($D209*INTRO!$E$50,0))","v":81608},99,0,null,3,{"$f":"IF(INTRO!$E$37=\"Endemic\",IF($H209>0,IF($H209=4,\"Unknown\",IF($H209=99,\"Stopped\",$D209)),0),\"Not required\")","v":"Stopped"},0,{"$f":"IF(INTRO!$E$41=\"Endemic\", IF($J209>1, IF($J209=4, \"Unknown\", IF($J209=99, \"Surveillance\", E209)), 0),\"Not required\")","v":"Not required"},{"$f":"IF(INTRO!$E$41=\"Endemic\", IF($J209>1, IF($J209=4, \"Unknown\", IF($J209=99, \"Surveillance\", F209)), 0),\"Not required\")","v":"Not required"},{"$f":"IF(INTRO!$E$41=\"Endemic\", IF($J209>1, IF($J209=4, \"Unknown\", IF($J209=99, \"Surveillance\", ROUND(D209*INTRO!$E$51,0))), 0),\"Not required\")","v":"Not required"},{"$f":"IF(INTRO!$E$41=\"Endemic\", IF($J209>1, IF($J209=4, \"Unknown\", IF($J209=99, \"Surveillance\", SUM($N209:$P209))), 0),\"Not required\")","v":"Not required"},{"$f":"IF(INTRO!$E$43=\"Endemic\", IF($K209>1, IF($K209=4, \"Unknown\", IF($K209=99, \"Surveillance\", ROUND(E209*0.75,0))), 0),\"Not required\")","v":9778},{"$f":"IF(INTRO!$E$43=\"Endemic\", IF($K209>1, IF($K209=4, \"Unknown\", IF($K209=99, \"Surveillance\", F209)), 0),\"Not required\")","v":30713},{"$f":"IF(INTRO!$E$43=\"Endemic\", IF($K209>1, IF($K209=4, \"Unknown\", IF($K209=99, \"Surveillance\", G209)), 0),\"Not required\")","v":81608},{"$f":"IF(INTRO!$E$43=\"Endemic\", IF($K209>1, IF($K209=4, \"Unknown\", IF($K209=99, \"Surveillance\", SUM($R209:$T209))), 0),\"Not required\")","v":122099},0,0,null,1,null,null,null,null,null,null,null,null,21534,"Bongo"]
[{"$f":"IF(INTRO!$E$33<>0,INTRO!$E$33, \" \")","v":"Ghana"},"Upper East","Builsa North",58971.9,{"$f":"IF(INTRO!$E$48=\"\",\"\",ROUND($D210*INTRO!$E$48,0))","v":6133},{"$f":"IF(INTRO!$E$49=\"\",\"\",ROUND($D210*INTRO!$E$49,0))","v":14448},{"$f":"IF(INTRO!$E$50=\"\",\"\",ROUND($D210*INTRO!$E$50,0))","v":38391},99,0,null,2,{"$f":"IF(INTRO!$E$37=\"Endemic\",IF($H210>0,IF($H210=4,\"Unknown\",IF($H210=99,\"Stopped\",$D210)),0),\"Not required\")","v":"Stopped"},0,{"$f":"IF(INTRO!$E$41=\"Endemic\", IF($J210>1, IF($J210=4, \"Unknown\", IF($J210=99, \"Surveillance\", E210)), 0),\"Not required\")","v":"Not required"},{"$f":"IF(INTRO!$E$41=\"Endemic\", IF($J210>1, IF($J210=4, \"Unknown\", IF($J210=99, \"Surveillance\", F210)), 0),\"Not required\")","v":"Not required"},{"$f":"IF(INTRO!$E$41=\"Endemic\", IF($J210>1, IF($J210=4, \"Unknown\", IF($J210=99, \"Surveillance\", ROUND(D210*INTRO!$E$51,0))), 0),\"Not required\")","v":"Not required"},{"$f":"IF(INTRO!$E$41=\"Endemic\", IF($J210>1, IF($J210=4, \"Unknown\", IF($J210=99, \"Surveillance\", SUM($N210:$P210))), 0),\"Not required\")","v":"Not required"},{"$f":"IF(INTRO!$E$43=\"Endemic\", IF($K210>1, IF($K210=4, \"Unknown\", IF($K210=99, \"Surveillance\", ROUND(E210*0.75,0))), 0),\"Not required\")","v":4600},{"$f":"IF(INTRO!$E$43=\"Endemic\", IF($K210>1, IF($K210=4, \"Unknown\", IF($K210=99, \"Surveillance\", F210)), 0),\"Not required\")","v":14448},0,{"$f":"IF(INTRO!$E$43=\"Endemic\", IF($K210>1, IF($K210=4, \"Unknown\", IF($K210=99, \"Surveillance\", SUM($R210:$T210))), 0),\"Not required\")","v":19048},0,0,null,1,null,null,null,null,null,null,null,null,21536,"Builsa North"]
[{"$f":"IF(INTRO!$E$33<>0,INTRO!$E$33, \" \")","v":"Ghana"},"Upper East","Builsa South",38127.300000000003,{"$f":"IF(INTRO!$E$48=\"\",\"\",ROUND($D211*INTRO!$E$48,0))","v":3965},{"$f":"IF(INTRO!$E$49=\"\",\"\",ROUND($D211*INTRO!$E$49,0))","v":9341},{"$f":"IF(INTRO!$E$50=\"\",\"\",ROUND($D211*INTRO!$E$50,0))","v":24821},99,1,null,2,{"$f":"IF(INTRO!$E$37=\"Endemic\",IF($H211>0,IF($H211=4,\"Unknown\",IF($H211=99,\"Stopped\",$D211)),0),\"Not required\")","v":"Stopped"},8622,{"$f":"IF(INTRO!$E$41=\"Endemic\", IF($J211>1, IF($J211=4, \"Unknown\", IF($J211=99, \"Surveillance\", E211)), 0),\"Not required\")","v":"Not required"},{"$f":"IF(INTRO!$E$41=\"Endemic\", IF($J211>1, IF($J211=4, \"Unknown\", IF($J211=99, \"Surveillance\", F211)), 0),\"Not required\")","v":"Not required"},{"$f":"IF(INTRO!$E$41=\"Endemic\", IF($J211>1, IF($J211=4, \"Unknown\", IF($J211=99, \"Surveillance\", ROUND(D211*INTRO!$E$51,0))), 0),\"Not required\")","v":"Not required"},{"$f":"IF(INTRO!$E$41=\"Endemic\", IF($J211>1, IF($J211=4, \"Unknown\", IF($J211=99, \"Surveillance\", SUM($N211:$P211))), 0),\"Not required\")","v":"Not required"},{"$f":"IF(INTRO!$E$43=\"Endemic\", IF($K211>1, IF($K211=4, \"Unknown\", IF($K211=99, \"Surveillance\", ROUND(E211*0.75,0))), 0),\"Not required\")","v":2974},{"$f":"IF(INTRO!$E$43=\"Endemic\", IF($K211>1, IF($K211=4, \"Unknown\", IF($K211=99, \"Surveillance\", F211)), 0),\"Not required\")","v":9341},0,{"$f":"IF(INTRO!$E$43=\"Endemic\", IF($K211>1, IF($K211=4, \"Unknown\", IF($K211=99, \"Surveillance\", SUM($R211:$T211))), 0),\"Not required\")","v":12315},0,2,null,1,null,null,null,null,null,null,null,null,21537,"Builsa South"]
[{"$f":"IF(INTRO!$E$33<>0,INTRO!$E$33, \" \")","v":"Ghana"},"Upper East","Garu",74820.2,{"$f":"IF(INTRO!$E$48=\"\",\"\",ROUND($D212*INTRO!$E$48,0))","v":7781},{"$f":"IF(INTRO!$E$49=\"\",\"\",ROUND($D212*INTRO!$E$49,0))","v":18331},{"$f":"IF(INTRO!$E$50=\"\",\"\",ROUND($D212*INTRO!$E$50,0))","v":48708},99,0,null,2,{"$f":"IF(INTRO!$E$37=\"Endemic\",IF($H212>0,IF($H212=4,\"Unknown\",IF($H212=99,\"Stopped\",$D212)),0),\"Not required\")","v":"Stopped"},0,{"$f":"IF(INTRO!$E$41=\"Endemic\", IF($J212>1, IF($J212=4, \"Unknown\", IF($J212=99, \"Surveillance\", E212)), 0),\"Not required\")","v":"Not required"},{"$f":"IF(INTRO!$E$41=\"Endemic\", IF($J212>1, IF($J212=4, \"Unknown\", IF($J212=99, \"Surveillance\", F212)), 0),\"Not required\")","v":"Not required"},{"$f":"IF(INTRO!$E$41=\"Endemic\", IF($J212>1, IF($J212=4, \"Unknown\", IF($J212=99, \"Surveillance\", ROUND(D212*INTRO!$E$51,0))), 0),\"Not required\")","v":"Not required"},{"$f":"IF(INTRO!$E$41=\"Endemic\", IF($J212>1, IF($J212=4, \"Unknown\", IF($J212=99, \"Surveillance\", SUM($N212:$P212))), 0),\"Not required\")","v":"Not required"},{"$f":"IF(INTRO!$E$43=\"Endemic\", IF($K212>1, IF($K212=4, \"Unknown\", IF($K212=99, \"Surveillance\", ROUND(E212*0.75,0))), 0),\"Not required\")","v":5836},{"$f":"IF(INTRO!$E$43=\"Endemic\", IF($K212>1, IF($K212=4, \"Unknown\", IF($K212=99, \"Surveillance\", F212)), 0),\"Not required\")","v":18331},0,{"$f":"IF(INTRO!$E$43=\"Endemic\", IF($K212>1, IF($K212=4, \"Unknown\", IF($K212=99, \"Surveillance\", SUM($R212:$T212))), 0),\"Not required\")","v":24167},0,0,null,1,null,null,null,null,null,null,null,null,21673,"Garu"]
[{"$f":"IF(INTRO!$E$33<>0,INTRO!$E$33, \" \")","v":"Ghana"},"Upper East","Kasena-Nankana",104134.6,{"$f":"IF(INTRO!$E$48=\"\",\"\",ROUND($D213*INTRO!$E$48,0))","v":10830},{"$f":"IF(INTRO!$E$49=\"\",\"\",ROUND($D213*INTRO!$E$49,0))","v":25513},{"$f":"IF(INTRO!$E$50=\"\",\"\",ROUND($D213*INTRO!$E$50,0))","v":67792},99,0,null,1,{"$f":"IF(INTRO!$E$37=\"Endemic\",IF($H213>0,IF($H213=4,\"Unknown\",IF($H213=99,\"Stopped\",$D213)),0),\"Not required\")","v":"Stopped"},0,{"$f":"IF(INTRO!$E$41=\"Endemic\", IF($J213>1, IF($J213=4, \"Unknown\", IF($J213=99, \"Surveillance\", E213)), 0),\"Not required\")","v":"Not required"},{"$f":"IF(INTRO!$E$41=\"Endemic\", IF($J213>1, IF($J213=4, \"Unknown\", IF($J213=99, \"Surveillance\", F213)), 0),\"Not required\")","v":"Not required"},{"$f":"IF(INTRO!$E$41=\"Endemic\", IF($J213>1, IF($J213=4, \"Unknown\", IF($J213=99, \"Surveillance\", ROUND(D213*INTRO!$E$51,0))), 0),\"Not required\")","v":"Not required"},{"$f":"IF(INTRO!$E$41=\"Endemic\", IF($J213>1, IF($J213=4, \"Unknown\", IF($J213=99, \"Surveillance\", SUM($N213:$P213))), 0),\"Not required\")","v":"Not required"},{"$f":"IF(INTRO!$E$43=\"Endemic\", IF($K213>1, IF($K213=4, \"Unknown\", IF($K213=99, \"Surveillance\", ROUND(E213*0.75,0))), 0),\"Not required\")","v":0},{"$f":"IF(INTRO!$E$43=\"Endemic\", IF($K213>1, IF($K213=4, \"Unknown\", IF($K213=99, \"Surveillance\", F213)), 0),\"Not required\")","v":0},{"$f":"IF(INTRO!$E$43=\"Endemic\", IF($K213>1, IF($K213=4, \"Unknown\", IF($K213=99, \"Surveillance\", G213)), 0),\"Not required\")","v":0},{"$f":"IF(INTRO!$E$43=\"Endemic\", IF($K213>1, IF($K213=4, \"Unknown\", IF($K213=99, \"Surveillance\", SUM($R213:$T213))), 0),\"Not required\")","v":0},0,0,null,1,null,null,null,null,null,null,null,null,21539,"Kasena Nankana"]
[{"$f":"IF(INTRO!$E$33<>0,INTRO!$E$33, \" \")","v":"Ghana"},"Upper East","Kasena-Nankana West",94586,{"$f":"IF(INTRO!$E$48=\"\",\"\",ROUND($D214*INTRO!$E$48,0))","v":9837},{"$f":"IF(INTRO!$E$49=\"\",\"\",ROUND($D214*INTRO!$E$49,0))","v":23174},{"$f":"IF(INTRO!$E$50=\"\",\"\",ROUND($D214*INTRO!$E$50,0))","v":61575},99,1,null,3,{"$f":"IF(INTRO!$E$37=\"Endemic\",IF($H214>0,IF($H214=4,\"Unknown\",IF($H214=99,\"Stopped\",$D214)),0),\"Not required\")","v":"Stopped"},31857,{"$f":"IF(INTRO!$E$41=\"Endemic\", IF($J214>1, IF($J214=4, \"Unknown\", IF($J214=99, \"Surveillance\", E214)), 0),\"Not required\")","v":"Not required"},{"$f":"IF(INTRO!$E$41=\"Endemic\", IF($J214>1, IF($J214=4, \"Unknown\", IF($J214=99, \"Surveillance\", F214)), 0),\"Not required\")","v":"Not required"},{"$f":"IF(INTRO!$E$41=\"Endemic\", IF($J214>1, IF($J214=4, \"Unknown\", IF($J214=99, \"Surveillance\", ROUND(D214*INTRO!$E$51,0))), 0),\"Not required\")","v":"Not required"},{"$f":"IF(INTRO!$E$41=\"Endemic\", IF($J214>1, IF($J214=4, \"Unknown\", IF($J214=99, \"Surveillance\", SUM($N214:$P214))), 0),\"Not required\")","v":"Not required"},{"$f":"IF(INTRO!$E$43=\"Endemic\", IF($K214>1, IF($K214=4, \"Unknown\", IF($K214=99, \"Surveillance\", ROUND(E214*0.75,0))), 0),\"Not required\")","v":7378},{"$f":"IF(INTRO!$E$43=\"Endemic\", IF($K214>1, IF($K214=4, \"Unknown\", IF($K214=99, \"Surveillance\", F214)), 0),\"Not required\")","v":23174},{"$f":"IF(INTRO!$E$43=\"Endemic\", IF($K214>1, IF($K214=4, \"Unknown\", IF($K214=99, \"Surveillance\", G214)), 0),\"Not required\")","v":61575},{"$f":"IF(INTRO!$E$43=\"Endemic\", IF($K214>1, IF($K214=4, \"Unknown\", IF($K214=99, \"Surveillance\", SUM($R214:$T214))), 0),\"Not required\")","v":92127},0,2,null,1,null,null,null,null,null,null,null,null,21540,"Kasena Nankana West"]
[{"$f":"IF(INTRO!$E$33<>0,INTRO!$E$33, \" \")","v":"Ghana"},"Upper East","Nabdam",54062,{"$f":"IF(INTRO!$E$48=\"\",\"\",ROUND($D215*INTRO!$E$48,0))","v":5622},{"$f":"IF(INTRO!$E$49=\"\",\"\",ROUND($D215*INTRO!$E$49,0))","v":13245},{"$f":"IF(INTRO!$E$50=\"\",\"\",ROUND($D215*INTRO!$E$50,0))","v":35194},19,0,null,2,{"$f":"IF(INTRO!$E$37=\"Endemic\",IF($H215>0,IF($H215=4,\"Unknown\",IF($H215=99,\"Stopped\",$D215)),0),\"Not required\")","v":54062},0,{"$f":"IF(INTRO!$E$41=\"Endemic\", IF($J215>1, IF($J215=4, \"Unknown\", IF($J215=99, \"Surveillance\", E215)), 0),\"Not required\")","v":"Not required"},{"$f":"IF(INTRO!$E$41=\"Endemic\", IF($J215>1, IF($J215=4, \"Unknown\", IF($J215=99, \"Surveillance\", F215)), 0),\"Not required\")","v":"Not required"},{"$f":"IF(INTRO!$E$41=\"Endemic\", IF($J215>1, IF($J215=4, \"Unknown\", IF($J215=99, \"Surveillance\", ROUND(D215*INTRO!$E$51,0))), 0),\"Not required\")","v":"Not required"},{"$f":"IF(INTRO!$E$41=\"Endemic\", IF($J215>1, IF($J215=4, \"Unknown\", IF($J215=99, \"Surveillance\", SUM($N215:$P215))), 0),\"Not required\")","v":"Not required"},{"$f":"IF(INTRO!$E$43=\"Endemic\", IF($K215>1, IF($K215=4, \"Unknown\", IF($K215=99, \"Surveillance\", ROUND(E215*0.75,0))), 0),\"Not required\")","v":4217},{"$f":"IF(INTRO!$E$43=\"Endemic\", IF($K215>1, IF($K215=4, \"Unknown\", IF($K215=99, \"Surveillance\", F215)), 0),\"Not required\")","v":13245},0,{"$f":"IF(INTRO!$E$43=\"Endemic\", IF($K215>1, IF($K215=4, \"Unknown\", IF($K215=99, \"Surveillance\", SUM($R215:$T215))), 0),\"Not required\")","v":17462},0,0,null,1,null,"TAS","Yes",null,null,null,null,null,21541,"Nabdam"]
[{"$f":"IF(INTRO!$E$33<>0,INTRO!$E$33, \" \")","v":"Ghana"},"Upper East","Pusiga",83950.8,{"$f":"IF(INTRO!$E$48=\"\",\"\",ROUND($D216*INTRO!$E$48,0))","v":8731},{"$f":"IF(INTRO!$E$49=\"\",\"\",ROUND($D216*INTRO!$E$49,0))","v":20568},{"$f":"IF(INTRO!$E$50=\"\",\"\",ROUND($D216*INTRO!$E$50,0))","v":54652},99,0,null,2,{"$f":"IF(INTRO!$E$37=\"Endemic\",IF($H216>0,IF($H216=4,\"Unknown\",IF($H216=99,\"Stopped\",$D216)),0),\"Not required\")","v":"Stopped"},0,{"$f":"IF(INTRO!$E$41=\"Endemic\", IF($J216>1, IF($J216=4, \"Unknown\", IF($J216=99, \"Surveillance\", E216)), 0),\"Not required\")","v":"Not required"},{"$f":"IF(INTRO!$E$41=\"Endemic\", IF($J216>1, IF($J216=4, \"Unknown\", IF($J216=99, \"Surveillance\", F216)), 0),\"Not required\")","v":"Not required"},{"$f":"IF(INTRO!$E$41=\"Endemic\", IF($J216>1, IF($J216=4, \"Unknown\", IF($J216=99, \"Surveillance\", ROUND(D216*INTRO!$E$51,0))), 0),\"Not required\")","v":"Not required"},{"$f":"IF(INTRO!$E$41=\"Endemic\", IF($J216>1, IF($J216=4, \"Unknown\", IF($J216=99, \"Surveillance\", SUM($N216:$P216))), 0),\"Not required\")","v":"Not required"},{"$f":"IF(INTRO!$E$43=\"Endemic\", IF($K216>1, IF($K216=4, \"Unknown\", IF($K216=99, \"Surveillance\", ROUND(E216*0.75,0))), 0),\"Not required\")","v":6548},{"$f":"IF(INTRO!$E$43=\"Endemic\", IF($K216>1, IF($K216=4, \"Unknown\", IF($K216=99, \"Surveillance\", F216)), 0),\"Not required\")","v":20568},0,{"$f":"IF(INTRO!$E$43=\"Endemic\", IF($K216>1, IF($K216=4, \"Unknown\", IF($K216=99, \"Surveillance\", SUM($R216:$T216))), 0),\"Not required\")","v":27116},0,0,null,1,null,null,null,null,null,null,null,null,21542,"Pusiga"]
[{"$f":"IF(INTRO!$E$33<>0,INTRO!$E$33, \" \")","v":"Ghana"},"Upper East","Talensi",90714.2,{"$f":"IF(INTRO!$E$48=\"\",\"\",ROUND($D217*INTRO!$E$48,0))","v":9434},{"$f":"IF(INTRO!$E$49=\"\",\"\",ROUND($D217*INTRO!$E$49,0))","v":22225},{"$f":"IF(INTRO!$E$50=\"\",\"\",ROUND($D217*INTRO!$E$50,0))","v":59055},99,0,null,2,{"$f":"IF(INTRO!$E$37=\"Endemic\",IF($H217>0,IF($H217=4,\"Unknown\",IF($H217=99,\"Stopped\",$D217)),0),\"Not required\")","v":"Stopped"},0,{"$f":"IF(INTRO!$E$41=\"Endemic\", IF($J217>1, IF($J217=4, \"Unknown\", IF($J217=99, \"Surveillance\", E217)), 0),\"Not required\")","v":"Not required"},{"$f":"IF(INTRO!$E$41=\"Endemic\", IF($J217>1, IF($J217=4, \"Unknown\", IF($J217=99, \"Surveillance\", F217)), 0),\"Not required\")","v":"Not required"},{"$f":"IF(INTRO!$E$41=\"Endemic\", IF($J217>1, IF($J217=4, \"Unknown\", IF($J217=99, \"Surveillance\", ROUND(D217*INTRO!$E$51,0))), 0),\"Not required\")","v":"Not required"},{"$f":"IF(INTRO!$E$41=\"Endemic\", IF($J217>1, IF($J217=4, \"Unknown\", IF($J217=99, \"Surveillance\", SUM($N217:$P217))), 0),\"Not required\")","v":"Not required"},{"$f":"IF(INTRO!$E$43=\"Endemic\", IF($K217>1, IF($K217=4, \"Unknown\", IF($K217=99, \"Surveillance\", ROUND(E217*0.75,0))), 0),\"Not required\")","v":7076},{"$f":"IF(INTRO!$E$43=\"Endemic\", IF($K217>1, IF($K217=4, \"Unknown\", IF($K217=99, \"Surveillance\", F217)), 0),\"Not required\")","v":22225},0,{"$f":"IF(INTRO!$E$43=\"Endemic\", IF($K217>1, IF($K217=4, \"Unknown\", IF($K217=99, \"Surveillance\", SUM($R217:$T217))), 0),\"Not required\")","v":29301},0,0,null,1,null,null,null,null,null,null,null,null,21543,"Talensi"]
[{"$f":"IF(INTRO!$E$33<>0,INTRO!$E$33, \" \")","v":"Ghana"},"Upper East","Tempane",90685,{"$f":"IF(INTRO!$E$48=\"\",\"\",ROUND($D218*INTRO!$E$48,0))","v":9431},{"$f":"IF(INTRO!$E$49=\"\",\"\",ROUND($D218*INTRO!$E$49,0))","v":22218},{"$f":"IF(INTRO!$E$50=\"\",\"\",ROUND($D218*INTRO!$E$50,0))","v":59036},99,1,null,2,{"$f":"IF(INTRO!$E$37=\"Endemic\",IF($H218>0,IF($H218=4,\"Unknown\",IF($H218=99,\"Stopped\",$D218)),0),\"Not required\")","v":"Stopped"},15767,{"$f":"IF(INTRO!$E$41=\"Endemic\", IF($J218>1, IF($J218=4, \"Unknown\", IF($J218=99, \"Surveillance\", E218)), 0),\"Not required\")","v":"Not required"},{"$f":"IF(INTRO!$E$41=\"Endemic\", IF($J218>1, IF($J218=4, \"Unknown\", IF($J218=99, \"Surveillance\", F218)), 0),\"Not required\")","v":"Not required"},{"$f":"IF(INTRO!$E$41=\"Endemic\", IF($J218>1, IF($J218=4, \"Unknown\", IF($J218=99, \"Surveillance\", ROUND(D218*INTRO!$E$51,0))), 0),\"Not required\")","v":"Not required"},{"$f":"IF(INTRO!$E$41=\"Endemic\", IF($J218>1, IF($J218=4, \"Unknown\", IF($J218=99, \"Surveillance\", SUM($N218:$P218))), 0),\"Not required\")","v":"Not required"},{"$f":"IF(INTRO!$E$43=\"Endemic\", IF($K218>1, IF($K218=4, \"Unknown\", IF($K218=99, \"Surveillance\", ROUND(E218*0.75,0))), 0),\"Not required\")","v":7073},{"$f":"IF(INTRO!$E$43=\"Endemic\", IF($K218>1, IF($K218=4, \"Unknown\", IF($K218=99, \"Surveillance\", F218)), 0),\"Not required\")","v":22218},0,{"$f":"IF(INTRO!$E$43=\"Endemic\", IF($K218>1, IF($K218=4, \"Unknown\", IF($K218=99, \"Surveillance\", SUM($R218:$T218))), 0),\"Not required\")","v":29291},0,2,null,1,null,null,null,null,null,null,null,null,21674,"Tempane"]
[{"$f":"IF(INTRO!$E$33<>0,INTRO!$E$33, \" \")","v":"Ghana"},"Upper West","Daffiama-Bussie-Issa",40397.800000000003,{"$f":"IF(INTRO!$E$48=\"\",\"\",ROUND($D219*INTRO!$E$48,0))","v":4201},{"$f":"IF(INTRO!$E$49=\"\",\"\",ROUND($D219*INTRO!$E$49,0))","v":9897},{"$f":"IF(INTRO!$E$50=\"\",\"\",ROUND($D219*INTRO!$E$50,0))","v":26299},99,1,null,2,{"$f":"IF(INTRO!$E$37=\"Endemic\",IF($H219>0,IF($H219=4,\"Unknown\",IF($H219=99,\"Stopped\",$D219)),0),\"Not required\")","v":"Stopped"},35633,{"$f":"IF(INTRO!$E$41=\"Endemic\", IF($J219>1, IF($J219=4, \"Unknown\", IF($J219=99, \"Surveillance\", E219)), 0),\"Not required\")","v":"Not required"},{"$f":"IF(INTRO!$E$41=\"Endemic\", IF($J219>1, IF($J219=4, \"Unknown\", IF($J219=99, \"Surveillance\", F219)), 0),\"Not required\")","v":"Not required"},{"$f":"IF(INTRO!$E$41=\"Endemic\", IF($J219>1, IF($J219=4, \"Unknown\", IF($J219=99, \"Surveillance\", ROUND(D219*INTRO!$E$51,0))), 0),\"Not required\")","v":"Not required"},{"$f":"IF(INTRO!$E$41=\"Endemic\", IF($J219>1, IF($J219=4, \"Unknown\", IF($J219=99, \"Surveillance\", SUM($N219:$P219))), 0),\"Not required\")","v":"Not required"},{"$f":"IF(INTRO!$E$43=\"Endemic\", IF($K219>1, IF($K219=4, \"Unknown\", IF($K219=99, \"Surveillance\", ROUND(E219*0.75,0))), 0),\"Not required\")","v":3151},{"$f":"IF(INTRO!$E$43=\"Endemic\", IF($K219>1, IF($K219=4, \"Unknown\", IF($K219=99, \"Surveillance\", F219)), 0),\"Not required\")","v":9897},0,{"$f":"IF(INTRO!$E$43=\"Endemic\", IF($K219>1, IF($K219=4, \"Unknown\", IF($K219=99, \"Surveillance\", SUM($R219:$T219))), 0),\"Not required\")","v":13048},0,2,null,1,null,null,null,null,null,null,null,null,21544,"Daffiama Bussie Issa"]
[{"$f":"IF(INTRO!$E$33<>0,INTRO!$E$33, \" \")","v":"Ghana"},"Upper West","Jirapa",95153.2,{"$f":"IF(INTRO!$E$48=\"\",\"\",ROUND($D220*INTRO!$E$48,0))","v":9896},{"$f":"IF(INTRO!$E$49=\"\",\"\",ROUND($D220*INTRO!$E$49,0))","v":23313},{"$f":"IF(INTRO!$E$50=\"\",\"\",ROUND($D220*INTRO!$E$50,0))","v":61945},99,1,null,2,{"$f":"IF(INTRO!$E$37=\"Endemic\",IF($H220>0,IF($H220=4,\"Unknown\",IF($H220=99,\"Stopped\",$D220)),0),\"Not required\")","v":"Stopped"},95533,{"$f":"IF(INTRO!$E$41=\"Endemic\", IF($J220>1, IF($J220=4, \"Unknown\", IF($J220=99, \"Surveillance\", E220)), 0),\"Not required\")","v":"Not required"},{"$f":"IF(INTRO!$E$41=\"Endemic\", IF($J220>1, IF($J220=4, \"Unknown\", IF($J220=99, \"Surveillance\", F220)), 0),\"Not required\")","v":"Not required"},{"$f":"IF(INTRO!$E$41=\"Endemic\", IF($J220>1, IF($J220=4, \"Unknown\", IF($J220=99, \"Surveillance\", ROUND(D220*INTRO!$E$51,0))), 0),\"Not required\")","v":"Not required"},{"$f":"IF(INTRO!$E$41=\"Endemic\", IF($J220>1, IF($J220=4, \"Unknown\", IF($J220=99, \"Surveillance\", SUM($N220:$P220))), 0),\"Not required\")","v":"Not required"},{"$f":"IF(INTRO!$E$43=\"Endemic\", IF($K220>1, IF($K220=4, \"Unknown\", IF($K220=99, \"Surveillance\", ROUND(E220*0.75,0))), 0),\"Not required\")","v":7422},{"$f":"IF(INTRO!$E$43=\"Endemic\", IF($K220>1, IF($K220=4, \"Unknown\", IF($K220=99, \"Surveillance\", F220)), 0),\"Not required\")","v":23313},0,{"$f":"IF(INTRO!$E$43=\"Endemic\", IF($K220>1, IF($K220=4, \"Unknown\", IF($K220=99, \"Surveillance\", SUM($R220:$T220))), 0),\"Not required\")","v":30735},1,2,null,1,null,null,null,null,null,null,null,null,21545,"Jirapa"]
[{"$f":"IF(INTRO!$E$33<>0,INTRO!$E$33, \" \")","v":"Ghana"},"Upper West","Lambussie",53287.1,{"$f":"IF(INTRO!$E$48=\"\",\"\",ROUND($D221*INTRO!$E$48,0))","v":5542},{"$f":"IF(INTRO!$E$49=\"\",\"\",ROUND($D221*INTRO!$E$49,0))","v":13055},{"$f":"IF(INTRO!$E$50=\"\",\"\",ROUND($D221*INTRO!$E$50,0))","v":34690},99,0,null,2,{"$f":"IF(INTRO!$E$37=\"Endemic\",IF($H221>0,IF($H221=4,\"Unknown\",IF($H221=99,\"Stopped\",$D221)),0),\"Not required\")","v":"Stopped"},0,{"$f":"IF(INTRO!$E$41=\"Endemic\", IF($J221>1, IF($J221=4, \"Unknown\", IF($J221=99, \"Surveillance\", E221)), 0),\"Not required\")","v":"Not required"},{"$f":"IF(INTRO!$E$41=\"Endemic\", IF($J221>1, IF($J221=4, \"Unknown\", IF($J221=99, \"Surveillance\", F221)), 0),\"Not required\")","v":"Not required"},{"$f":"IF(INTRO!$E$41=\"Endemic\", IF($J221>1, IF($J221=4, \"Unknown\", IF($J221=99, \"Surveillance\", ROUND(D221*INTRO!$E$51,0))), 0),\"Not required\")","v":"Not required"},{"$f":"IF(INTRO!$E$41=\"Endemic\", IF($J221>1, IF($J221=4, \"Unknown\", IF($J221=99, \"Surveillance\", SUM($N221:$P221))), 0),\"Not required\")","v":"Not required"},{"$f":"IF(INTRO!$E$43=\"Endemic\", IF($K221>1, IF($K221=4, \"Unknown\", IF($K221=99, \"Surveillance\", ROUND(E221*0.75,0))), 0),\"Not required\")","v":4157},{"$f":"IF(INTRO!$E$43=\"Endemic\", IF($K221>1, IF($K221=4, \"Unknown\", IF($K221=99, \"Surveillance\", F221)), 0),\"Not required\")","v":13055},0,{"$f":"IF(INTRO!$E$43=\"Endemic\", IF($K221>1, IF($K221=4, \"Unknown\", IF($K221=99, \"Surveillance\", SUM($R221:$T221))), 0),\"Not required\")","v":17212},0,0,null,1,null,null,null,null,null,null,null,null,21546,"Lambussie"]
[{"$f":"IF(INTRO!$E$33<>0,INTRO!$E$33, \" \")","v":"Ghana"},"Upper West","Lawra",60913,{"$f":"IF(INTRO!$E$48=\"\",\"\",ROUND($D222*INTRO!$E$48,0))","v":6335},{"$f":"IF(INTRO!$E$49=\"\",\"\",ROUND($D222*INTRO!$E$49,0))","v":14924},{"$f":"IF(INTRO!$E$50=\"\",\"\",ROUND($D222*INTRO!$E$50,0))","v":39654},1,1,null,1,{"$f":"IF(INTRO!$E$37=\"Endemic\",IF($H222>0,IF($H222=4,\"Unknown\",IF($H222=99,\"Stopped\",$D222)),0),\"Not required\")","v":60913},59140,{"$f":"IF(INTRO!$E$41=\"Endemic\", IF($J222>1, IF($J222=4, \"Unknown\", IF($J222=99, \"Surveillance\", E222)), 0),\"Not required\")","v":"Not required"},{"$f":"IF(INTRO!$E$41=\"Endemic\", IF($J222>1, IF($J222=4, \"Unknown\", IF($J222=99, \"Surveillance\", F222)), 0),\"Not required\")","v":"Not required"},{"$f":"IF(INTRO!$E$41=\"Endemic\", IF($J222>1, IF($J222=4, \"Unknown\", IF($J222=99, \"Surveillance\", ROUND(D222*INTRO!$E$51,0))), 0),\"Not required\")","v":"Not required"},{"$f":"IF(INTRO!$E$41=\"Endemic\", IF($J222>1, IF($J222=4, \"Unknown\", IF($J222=99, \"Surveillance\", SUM($N222:$P222))), 0),\"Not required\")","v":"Not required"},{"$f":"IF(INTRO!$E$43=\"Endemic\", IF($K222>1, IF($K222=4, \"Unknown\", IF($K222=99, \"Surveillance\", ROUND(E222*0.75,0))), 0),\"Not required\")","v":0},{"$f":"IF(INTRO!$E$43=\"Endemic\", IF($K222>1, IF($K222=4, \"Unknown\", IF($K222=99, \"Surveillance\", F222)), 0),\"Not required\")","v":0},{"$f":"IF(INTRO!$E$43=\"Endemic\", IF($K222>1, IF($K222=4, \"Unknown\", IF($K222=99, \"Surveillance\", G222)), 0),\"Not required\")","v":0},{"$f":"IF(INTRO!$E$43=\"Endemic\", IF($K222>1, IF($K222=4, \"Unknown\", IF($K222=99, \"Surveillance\", SUM($R222:$T222))), 0),\"Not required\")","v":0},1,2,null,0,null,"SS/SC",null,null,null,null,null,null,21547,"Lawra"]
[{"$f":"IF(INTRO!$E$33<>0,INTRO!$E$33, \" \")","v":"Ghana"},"Upper West","Nadowli-Kaleo",80328.2,{"$f":"IF(INTRO!$E$48=\"\",\"\",ROUND($D223*INTRO!$E$48,0))","v":8354},{"$f":"IF(INTRO!$E$49=\"\",\"\",ROUND($D223*INTRO!$E$49,0))","v":19680},{"$f":"IF(INTRO!$E$50=\"\",\"\",ROUND($D223*INTRO!$E$50,0))","v":52294},99,1,null,2,{"$f":"IF(INTRO!$E$37=\"Endemic\",IF($H223>0,IF($H223=4,\"Unknown\",IF($H223=99,\"Stopped\",$D223)),0),\"Not required\")","v":"Stopped"},66720,{"$f":"IF(INTRO!$E$41=\"Endemic\", IF($J223>1, IF($J223=4, \"Unknown\", IF($J223=99, \"Surveillance\", E223)), 0),\"Not required\")","v":"Not required"},{"$f":"IF(INTRO!$E$41=\"Endemic\", IF($J223>1, IF($J223=4, \"Unknown\", IF($J223=99, \"Surveillance\", F223)), 0),\"Not required\")","v":"Not required"},{"$f":"IF(INTRO!$E$41=\"Endemic\", IF($J223>1, IF($J223=4, \"Unknown\", IF($J223=99, \"Surveillance\", ROUND(D223*INTRO!$E$51,0))), 0),\"Not required\")","v":"Not required"},{"$f":"IF(INTRO!$E$41=\"Endemic\", IF($J223>1, IF($J223=4, \"Unknown\", IF($J223=99, \"Surveillance\", SUM($N223:$P223))), 0),\"Not required\")","v":"Not required"},{"$f":"IF(INTRO!$E$43=\"Endemic\", IF($K223>1, IF($K223=4, \"Unknown\", IF($K223=99, \"Surveillance\", ROUND(E223*0.75,0))), 0),\"Not required\")","v":6266},{"$f":"IF(INTRO!$E$43=\"Endemic\", IF($K223>1, IF($K223=4, \"Unknown\", IF($K223=99, \"Surveillance\", F223)), 0),\"Not required\")","v":19680},0,{"$f":"IF(INTRO!$E$43=\"Endemic\", IF($K223>1, IF($K223=4, \"Unknown\", IF($K223=99, \"Surveillance\", SUM($R223:$T223))), 0),\"Not required\")","v":25946},0,2,null,1,null,null,null,null,null,null,null,null,21548,"Nadowli"]
[{"$f":"IF(INTRO!$E$33<>0,INTRO!$E$33, \" \")","v":"Ghana"},"Upper West","Nandom",53506.5,{"$f":"IF(INTRO!$E$48=\"\",\"\",ROUND($D224*INTRO!$E$48,0))","v":5565},{"$f":"IF(INTRO!$E$49=\"\",\"\",ROUND($D224*INTRO!$E$49,0))","v":13109},{"$f":"IF(INTRO!$E$50=\"\",\"\",ROUND($D224*INTRO!$E$50,0))","v":34833},99,1,null,1,{"$f":"IF(INTRO!$E$37=\"Endemic\",IF($H224>0,IF($H224=4,\"Unknown\",IF($H224=99,\"Stopped\",$D224)),0),\"Not required\")","v":"Stopped"},50033,{"$f":"IF(INTRO!$E$41=\"Endemic\", IF($J224>1, IF($J224=4, \"Unknown\", IF($J224=99, \"Surveillance\", E224)), 0),\"Not required\")","v":"Not required"},{"$f":"IF(INTRO!$E$41=\"Endemic\", IF($J224>1, IF($J224=4, \"Unknown\", IF($J224=99, \"Surveillance\", F224)), 0),\"Not required\")","v":"Not required"},{"$f":"IF(INTRO!$E$41=\"Endemic\", IF($J224>1, IF($J224=4, \"Unknown\", IF($J224=99, \"Surveillance\", ROUND(D224*INTRO!$E$51,0))), 0),\"Not required\")","v":"Not required"},{"$f":"IF(INTRO!$E$41=\"Endemic\", IF($J224>1, IF($J224=4, \"Unknown\", IF($J224=99, \"Surveillance\", SUM($N224:$P224))), 0),\"Not required\")","v":"Not required"},{"$f":"IF(INTRO!$E$43=\"Endemic\", IF($K224>1, IF($K224=4, \"Unknown\", IF($K224=99, \"Surveillance\", ROUND(E224*0.75,0))), 0),\"Not required\")","v":0},{"$f":"IF(INTRO!$E$43=\"Endemic\", IF($K224>1, IF($K224=4, \"Unknown\", IF($K224=99, \"Surveillance\", F224)), 0),\"Not required\")","v":0},{"$f":"IF(INTRO!$E$43=\"Endemic\", IF($K224>1, IF($K224=4, \"Unknown\", IF($K224=99, \"Surveillance\", G224)), 0),\"Not required\")","v":0},{"$f":"IF(INTRO!$E$43=\"Endemic\", IF($K224>1, IF($K224=4, \"Unknown\", IF($K224=99, \"Surveillance\", SUM($R224:$T224))), 0),\"Not required\")","v":0},0,2,null,0,null,null,null,null,null,null,null,null,21549,"Nandom"]
[{"$f":"IF(INTRO!$E$33<>0,INTRO!$E$33, \" \")","v":"Ghana"},"Upper West","Sissala East",84039.4,{"$f":"IF(INTRO!$E$48=\"\",\"\",ROUND($D225*INTRO!$E$48,0))","v":8740},{"$f":"IF(INTRO!$E$49=\"\",\"\",ROUND($D225*INTRO!$E$49,0))","v":20590},{"$f":"IF(INTRO!$E$50=\"\",\"\",ROUND($D225*INTRO!$E$50,0))","v":54710},99,1,null,2,{"$f":"IF(INTRO!$E$37=\"Endemic\",IF($H225>0,IF($H225=4,\"Unknown\",IF($H225=99,\"Stopped\",$D225)),0),\"Not required\")","v":"Stopped"},33294,{"$f":"IF(INTRO!$E$41=\"Endemic\", IF($J225>1, IF($J225=4, \"Unknown\", IF($J225=99, \"Surveillance\", E225)), 0),\"Not required\")","v":"Not required"},{"$f":"IF(INTRO!$E$41=\"Endemic\", IF($J225>1, IF($J225=4, \"Unknown\", IF($J225=99, \"Surveillance\", F225)), 0),\"Not required\")","v":"Not required"},{"$f":"IF(INTRO!$E$41=\"Endemic\", IF($J225>1, IF($J225=4, \"Unknown\", IF($J225=99, \"Surveillance\", ROUND(D225*INTRO!$E$51,0))), 0),\"Not required\")","v":"Not required"},{"$f":"IF(INTRO!$E$41=\"Endemic\", IF($J225>1, IF($J225=4, \"Unknown\", IF($J225=99, \"Surveillance\", SUM($N225:$P225))), 0),\"Not required\")","v":"Not required"},{"$f":"IF(INTRO!$E$43=\"Endemic\", IF($K225>1, IF($K225=4, \"Unknown\", IF($K225=99, \"Surveillance\", ROUND(E225*0.75,0))), 0),\"Not required\")","v":6555},{"$f":"IF(INTRO!$E$43=\"Endemic\", IF($K225>1, IF($K225=4, \"Unknown\", IF($K225=99, \"Surveillance\", F225)), 0),\"Not required\")","v":20590},0,{"$f":"IF(INTRO!$E$43=\"Endemic\", IF($K225>1, IF($K225=4, \"Unknown\", IF($K225=99, \"Surveillance\", SUM($R225:$T225))), 0),\"Not required\")","v":27145},0,2,null,1,null,null,null,null,null,null,null,null,21550,"Sissala East"]
[{"$f":"IF(INTRO!$E$33<>0,INTRO!$E$33, \" \")","v":"Ghana"},"Upper West","Sissala West",66536.7,{"$f":"IF(INTRO!$E$48=\"\",\"\",ROUND($D226*INTRO!$E$48,0))","v":6920},{"$f":"IF(INTRO!$E$49=\"\",\"\",ROUND($D226*INTRO!$E$49,0))","v":16301},{"$f":"IF(INTRO!$E$50=\"\",\"\",ROUND($D226*INTRO!$E$50,0))","v":43315},99,0,null,3,{"$f":"IF(INTRO!$E$37=\"Endemic\",IF($H226>0,IF($H226=4,\"Unknown\",IF($H226=99,\"Stopped\",$D226)),0),\"Not required\")","v":"Stopped"},0,{"$f":"IF(INTRO!$E$41=\"Endemic\", IF($J226>1, IF($J226=4, \"Unknown\", IF($J226=99, \"Surveillance\", E226)), 0),\"Not required\")","v":"Not required"},{"$f":"IF(INTRO!$E$41=\"Endemic\", IF($J226>1, IF($J226=4, \"Unknown\", IF($J226=99, \"Surveillance\", F226)), 0),\"Not required\")","v":"Not required"},{"$f":"IF(INTRO!$E$41=\"Endemic\", IF($J226>1, IF($J226=4, \"Unknown\", IF($J226=99, \"Surveillance\", ROUND(D226*INTRO!$E$51,0))), 0),\"Not required\")","v":"Not required"},{"$f":"IF(INTRO!$E$41=\"Endemic\", IF($J226>1, IF($J226=4, \"Unknown\", IF($J226=99, \"Surveillance\", SUM($N226:$P226))), 0),\"Not required\")","v":"Not required"},{"$f":"IF(INTRO!$E$43=\"Endemic\", IF($K226>1, IF($K226=4, \"Unknown\", IF($K226=99, \"Surveillance\", ROUND(E226*0.75,0))), 0),\"Not required\")","v":5190},{"$f":"IF(INTRO!$E$43=\"Endemic\", IF($K226>1, IF($K226=4, \"Unknown\", IF($K226=99, \"Surveillance\", F226)), 0),\"Not required\")","v":16301},{"$f":"IF(INTRO!$E$43=\"Endemic\", IF($K226>1, IF($K226=4, \"Unknown\", IF($K226=99, \"Surveillance\", G226)), 0),\"Not required\")","v":43315},{"$f":"IF(INTRO!$E$43=\"Endemic\", IF($K226>1, IF($K226=4, \"Unknown\", IF($K226=99, \"Surveillance\", SUM($R226:$T226))), 0),\"Not required\")","v":64806},0,0,null,1,null,null,null,null,null,null,null,null,21551,"Sissala West"]
[{"$f":"IF(INTRO!$E$33<>0,INTRO!$E$33, \" \")","v":"Ghana"},"Upper West","Wa East",95339,{"$f":"IF(INTRO!$E$48=\"\",\"\",ROUND($D227*INTRO!$E$48,0))","v":9915},{"$f":"IF(INTRO!$E$49=\"\",\"\",ROUND($D227*INTRO!$E$49,0))","v":23358},{"$f":"IF(INTRO!$E$50=\"\",\"\",ROUND($D227*INTRO!$E$50,0))","v":62066},19,1,null,1,{"$f":"IF(INTRO!$E$37=\"Endemic\",IF($H227>0,IF($H227=4,\"Unknown\",IF($H227=99,\"Stopped\",$D227)),0),\"Not required\")","v":95339},78092,{"$f":"IF(INTRO!$E$41=\"Endemic\", IF($J227>1, IF($J227=4, \"Unknown\", IF($J227=99, \"Surveillance\", E227)), 0),\"Not required\")","v":"Not required"},{"$f":"IF(INTRO!$E$41=\"Endemic\", IF($J227>1, IF($J227=4, \"Unknown\", IF($J227=99, \"Surveillance\", F227)), 0),\"Not required\")","v":"Not required"},{"$f":"IF(INTRO!$E$41=\"Endemic\", IF($J227>1, IF($J227=4, \"Unknown\", IF($J227=99, \"Surveillance\", ROUND(D227*INTRO!$E$51,0))), 0),\"Not required\")","v":"Not required"},{"$f":"IF(INTRO!$E$41=\"Endemic\", IF($J227>1, IF($J227=4, \"Unknown\", IF($J227=99, \"Surveillance\", SUM($N227:$P227))), 0),\"Not required\")","v":"Not required"},{"$f":"IF(INTRO!$E$43=\"Endemic\", IF($K227>1, IF($K227=4, \"Unknown\", IF($K227=99, \"Surveillance\", ROUND(E227*0.75,0))), 0),\"Not required\")","v":0},{"$f":"IF(INTRO!$E$43=\"Endemic\", IF($K227>1, IF($K227=4, \"Unknown\", IF($K227=99, \"Surveillance\", F227)), 0),\"Not required\")","v":0},{"$f":"IF(INTRO!$E$43=\"Endemic\", IF($K227>1, IF($K227=4, \"Unknown\", IF($K227=99, \"Surveillance\", G227)), 0),\"Not required\")","v":0},{"$f":"IF(INTRO!$E$43=\"Endemic\", IF($K227>1, IF($K227=4, \"Unknown\", IF($K227=99, \"Surveillance\", SUM($R227:$T227))), 0),\"Not required\")","v":0},0,2,null,0,null,"TAS","Yes",null,null,null,null,null,21552,"Wa East"]
[{"$f":"IF(INTRO!$E$33<>0,INTRO!$E$33, \" \")","v":"Ghana"},"Upper West","Wa Municipal",209187.20000000001,{"$f":"IF(INTRO!$E$48=\"\",\"\",ROUND($D228*INTRO!$E$48,0))","v":21755},{"$f":"IF(INTRO!$E$49=\"\",\"\",ROUND($D228*INTRO!$E$49,0))","v":51251},{"$f":"IF(INTRO!$E$50=\"\",\"\",ROUND($D228*INTRO!$E$50,0))","v":136181},99,0,null,1,{"$f":"IF(INTRO!$E$37=\"Endemic\",IF($H228>0,IF($H228=4,\"Unknown\",IF($H228=99,\"Stopped\",$D228)),0),\"Not required\")","v":"Stopped"},0,{"$f":"IF(INTRO!$E$41=\"Endemic\", IF($J228>1, IF($J228=4, \"Unknown\", IF($J228=99, \"Surveillance\", E228)), 0),\"Not required\")","v":"Not required"},{"$f":"IF(INTRO!$E$41=\"Endemic\", IF($J228>1, IF($J228=4, \"Unknown\", IF($J228=99, \"Surveillance\", F228)), 0),\"Not required\")","v":"Not required"},{"$f":"IF(INTRO!$E$41=\"Endemic\", IF($J228>1, IF($J228=4, \"Unknown\", IF($J228=99, \"Surveillance\", ROUND(D228*INTRO!$E$51,0))), 0),\"Not required\")","v":"Not required"},{"$f":"IF(INTRO!$E$41=\"Endemic\", IF($J228>1, IF($J228=4, \"Unknown\", IF($J228=99, \"Surveillance\", SUM($N228:$P228))), 0),\"Not required\")","v":"Not required"},{"$f":"IF(INTRO!$E$43=\"Endemic\", IF($K228>1, IF($K228=4, \"Unknown\", IF($K228=99, \"Surveillance\", ROUND(E228*0.75,0))), 0),\"Not required\")","v":0},{"$f":"IF(INTRO!$E$43=\"Endemic\", IF($K228>1, IF($K228=4, \"Unknown\", IF($K228=99, \"Surveillance\", F228)), 0),\"Not required\")","v":0},{"$f":"IF(INTRO!$E$43=\"Endemic\", IF($K228>1, IF($K228=4, \"Unknown\", IF($K228=99, \"Surveillance\", G228)), 0),\"Not required\")","v":0},{"$f":"IF(INTRO!$E$43=\"Endemic\", IF($K228>1, IF($K228=4, \"Unknown\", IF($K228=99, \"Surveillance\", SUM($R228:$T228))), 0),\"Not required\")","v":0},0,0,null,0,null,null,null,null,null,null,null,null,21553,"Wa Municipal"]
[{"$f":"IF(INTRO!$E$33<>0,INTRO!$E$33, \" \")","v":"Ghana"},"Upper West","Wa West",101071.6,{"$f":"IF(INTRO!$E$48=\"\",\"\",ROUND($D229*INTRO!$E$48,0))","v":10511},{"$f":"IF(INTRO!$E$49=\"\",\"\",ROUND($D229*INTRO!$E$49,0))","v":24763},{"$f":"IF(INTRO!$E$50=\"\",\"\",ROUND($D229*INTRO!$E$50,0))","v":65798},19,1,null,1,{"$f":"IF(INTRO!$E$37=\"Endemic\",IF($H229>0,IF($H229=4,\"Unknown\",IF($H229=99,\"Stopped\",$D229)),0),\"Not required\")","v":101071.6},87943,{"$f":"IF(INTRO!$E$41=\"Endemic\", IF($J229>1, IF($J229=4, \"Unknown\", IF($J229=99, \"Surveillance\", E229)), 0),\"Not required\")","v":"Not required"},{"$f":"IF(INTRO!$E$41=\"Endemic\", IF($J229>1, IF($J229=4, \"Unknown\", IF($J229=99, \"Surveillance\", F229)), 0),\"Not required\")","v":"Not required"},{"$f":"IF(INTRO!$E$41=\"Endemic\", IF($J229>1, IF($J229=4, \"Unknown\", IF($J229=99, \"Surveillance\", ROUND(D229*INTRO!$E$51,0))), 0),\"Not required\")","v":"Not required"},{"$f":"IF(INTRO!$E$41=\"Endemic\", IF($J229>1, IF($J229=4, \"Unknown\", IF($J229=99, \"Surveillance\", SUM($N229:$P229))), 0),\"Not required\")","v":"Not required"},{"$f":"IF(INTRO!$E$43=\"Endemic\", IF($K229>1, IF($K229=4, \"Unknown\", IF($K229=99, \"Surveillance\", ROUND(E229*0.75,0))), 0),\"Not required\")","v":0},{"$f":"IF(INTRO!$E$43=\"Endemic\", IF($K229>1, IF($K229=4, \"Unknown\", IF($K229=99, \"Surveillance\", F229)), 0),\"Not required\")","v":0},{"$f":"IF(INTRO!$E$43=\"Endemic\", IF($K229>1, IF($K229=4, \"Unknown\", IF($K229=99, \"Surveillance\", G229)), 0),\"Not required\")","v":0},{"$f":"IF(INTRO!$E$43=\"Endemic\", IF($K229>1, IF($K229=4, \"Unknown\", IF($K229=99, \"Surveillance\", SUM($R229:$T229))), 0),\"Not required\")","v":0},0,2,null,0,null,"TAS","Yes",null,null,null,null,null,21554,"Wa West"]
[{"$f":"IF(INTRO!$E$33<>0,INTRO!$E$33, \" \")","v":"Ghana"},"Volta","Adaklu",40289.199999999997,{"$f":"IF(INTRO!$E$48=\"\",\"\",ROUND($D230*INTRO!$E$48,0))","v":4190},{"$f":"IF(INTRO!$E$49=\"\",\"\",ROUND($D230*INTRO!$E$49,0))","v":9871},{"$f":"IF(INTRO!$E$50=\"\",\"\",ROUND($D230*INTRO!$E$50,0))","v":26228},0,1,null,2,{"$f":"IF(INTRO!$E$37=\"Endemic\",IF($H230>0,IF($H230=4,\"Unknown\",IF($H230=99,\"Stopped\",$D230)),0),\"Not required\")","v":0},7831,{"$f":"IF(INTRO!$E$41=\"Endemic\", IF($J230>1, IF($J230=4, \"Unknown\", IF($J230=99, \"Surveillance\", E230)), 0),\"Not required\")","v":"Not required"},{"$f":"IF(INTRO!$E$41=\"Endemic\", IF($J230>1, IF($J230=4, \"Unknown\", IF($J230=99, \"Surveillance\", F230)), 0),\"Not required\")","v":"Not required"},{"$f":"IF(INTRO!$E$41=\"Endemic\", IF($J230>1, IF($J230=4, \"Unknown\", IF($J230=99, \"Surveillance\", ROUND(D230*INTRO!$E$51,0))), 0),\"Not required\")","v":"Not required"},{"$f":"IF(INTRO!$E$41=\"Endemic\", IF($J230>1, IF($J230=4, \"Unknown\", IF($J230=99, \"Surveillance\", SUM($N230:$P230))), 0),\"Not required\")","v":"Not required"},{"$f":"IF(INTRO!$E$43=\"Endemic\", IF($K230>1, IF($K230=4, \"Unknown\", IF($K230=99, \"Surveillance\", ROUND(E230*0.75,0))), 0),\"Not required\")","v":3143},{"$f":"IF(INTRO!$E$43=\"Endemic\", IF($K230>1, IF($K230=4, \"Unknown\", IF($K230=99, \"Surveillance\", F230)), 0),\"Not required\")","v":9871},0,{"$f":"IF(INTRO!$E$43=\"Endemic\", IF($K230>1, IF($K230=4, \"Unknown\", IF($K230=99, \"Surveillance\", SUM($R230:$T230))), 0),\"Not required\")","v":13014},0,2,null,1,null,null,null,null,null,null,null,null,21555,"Adaklu"]
[{"$f":"IF(INTRO!$E$33<>0,INTRO!$E$33, \" \")","v":"Ghana"},"Volta","Afadjato South",76250.5,{"$f":"IF(INTRO!$E$48=\"\",\"\",ROUND($D231*INTRO!$E$48,0))","v":7930},{"$f":"IF(INTRO!$E$49=\"\",\"\",ROUND($D231*INTRO!$E$49,0))","v":18681},{"$f":"IF(INTRO!$E$50=\"\",\"\",ROUND($D231*INTRO!$E$50,0))","v":49639},0,1,null,3,{"$f":"IF(INTRO!$E$37=\"Endemic\",IF($H231>0,IF($H231=4,\"Unknown\",IF($H231=99,\"Stopped\",$D231)),0),\"Not required\")","v":0},104165,{"$f":"IF(INTRO!$E$41=\"Endemic\", IF($J231>1, IF($J231=4, \"Unknown\", IF($J231=99, \"Surveillance\", E231)), 0),\"Not required\")","v":"Not required"},{"$f":"IF(INTRO!$E$41=\"Endemic\", IF($J231>1, IF($J231=4, \"Unknown\", IF($J231=99, \"Surveillance\", F231)), 0),\"Not required\")","v":"Not required"},{"$f":"IF(INTRO!$E$41=\"Endemic\", IF($J231>1, IF($J231=4, \"Unknown\", IF($J231=99, \"Surveillance\", ROUND(D231*INTRO!$E$51,0))), 0),\"Not required\")","v":"Not required"},{"$f":"IF(INTRO!$E$41=\"Endemic\", IF($J231>1, IF($J231=4, \"Unknown\", IF($J231=99, \"Surveillance\", SUM($N231:$P231))), 0),\"Not required\")","v":"Not required"},{"$f":"IF(INTRO!$E$43=\"Endemic\", IF($K231>1, IF($K231=4, \"Unknown\", IF($K231=99, \"Surveillance\", ROUND(E231*0.75,0))), 0),\"Not required\")","v":5948},{"$f":"IF(INTRO!$E$43=\"Endemic\", IF($K231>1, IF($K231=4, \"Unknown\", IF($K231=99, \"Surveillance\", F231)), 0),\"Not required\")","v":18681},{"$f":"IF(INTRO!$E$43=\"Endemic\", IF($K231>1, IF($K231=4, \"Unknown\", IF($K231=99, \"Surveillance\", G231)), 0),\"Not required\")","v":49639},{"$f":"IF(INTRO!$E$43=\"Endemic\", IF($K231>1, IF($K231=4, \"Unknown\", IF($K231=99, \"Surveillance\", SUM($R231:$T231))), 0),\"Not required\")","v":74268},0,2,null,1,null,null,null,null,"Yes",null,null,null,21556,"Afadjato South"]
[{"$f":"IF(INTRO!$E$33<>0,INTRO!$E$33, \" \")","v":"Ghana"},"Volta","Agortime-Ziope",41231.699999999997,{"$f":"IF(INTRO!$E$48=\"\",\"\",ROUND($D232*INTRO!$E$48,0))","v":4288},{"$f":"IF(INTRO!$E$49=\"\",\"\",ROUND($D232*INTRO!$E$49,0))","v":10102},{"$f":"IF(INTRO!$E$50=\"\",\"\",ROUND($D232*INTRO!$E$50,0))","v":26842},0,1,null,2,{"$f":"IF(INTRO!$E$37=\"Endemic\",IF($H232>0,IF($H232=4,\"Unknown\",IF($H232=99,\"Stopped\",$D232)),0),\"Not required\")","v":0},16900,{"$f":"IF(INTRO!$E$41=\"Endemic\", IF($J232>1, IF($J232=4, \"Unknown\", IF($J232=99, \"Surveillance\", E232)), 0),\"Not required\")","v":"Not required"},{"$f":"IF(INTRO!$E$41=\"Endemic\", IF($J232>1, IF($J232=4, \"Unknown\", IF($J232=99, \"Surveillance\", F232)), 0),\"Not required\")","v":"Not required"},{"$f":"IF(INTRO!$E$41=\"Endemic\", IF($J232>1, IF($J232=4, \"Unknown\", IF($J232=99, \"Surveillance\", ROUND(D232*INTRO!$E$51,0))), 0),\"Not required\")","v":"Not required"},{"$f":"IF(INTRO!$E$41=\"Endemic\", IF($J232>1, IF($J232=4, \"Unknown\", IF($J232=99, \"Surveillance\", SUM($N232:$P232))), 0),\"Not required\")","v":"Not required"},{"$f":"IF(INTRO!$E$43=\"Endemic\", IF($K232>1, IF($K232=4, \"Unknown\", IF($K232=99, \"Surveillance\", ROUND(E232*0.75,0))), 0),\"Not required\")","v":3216},{"$f":"IF(INTRO!$E$43=\"Endemic\", IF($K232>1, IF($K232=4, \"Unknown\", IF($K232=99, \"Surveillance\", F232)), 0),\"Not required\")","v":10102},0,{"$f":"IF(INTRO!$E$43=\"Endemic\", IF($K232>1, IF($K232=4, \"Unknown\", IF($K232=99, \"Surveillance\", SUM($R232:$T232))), 0),\"Not required\")","v":13318},0,2,null,1,null,null,null,null,"Yes",null,null,null,21557,"Agotime Ziope"]
[{"$f":"IF(INTRO!$E$33<>0,INTRO!$E$33, \" \")","v":"Ghana"},"Volta","Akatsi North",33922,{"$f":"IF(INTRO!$E$48=\"\",\"\",ROUND($D233*INTRO!$E$48,0))","v":3528},{"$f":"IF(INTRO!$E$49=\"\",\"\",ROUND($D233*INTRO!$E$49,0))","v":8311},{"$f":"IF(INTRO!$E$50=\"\",\"\",ROUND($D233*INTRO!$E$50,0))","v":22083},0,0,null,2,{"$f":"IF(INTRO!$E$37=\"Endemic\",IF($H233>0,IF($H233=4,\"Unknown\",IF($H233=99,\"Stopped\",$D233)),0),\"Not required\")","v":0},0,{"$f":"IF(INTRO!$E$41=\"Endemic\", IF($J233>1, IF($J233=4, \"Unknown\", IF($J233=99, \"Surveillance\", E233)), 0),\"Not required\")","v":"Not required"},{"$f":"IF(INTRO!$E$41=\"Endemic\", IF($J233>1, IF($J233=4, \"Unknown\", IF($J233=99, \"Surveillance\", F233)), 0),\"Not required\")","v":"Not required"},{"$f":"IF(INTRO!$E$41=\"Endemic\", IF($J233>1, IF($J233=4, \"Unknown\", IF($J233=99, \"Surveillance\", ROUND(D233*INTRO!$E$51,0))), 0),\"Not required\")","v":"Not required"},{"$f":"IF(INTRO!$E$41=\"Endemic\", IF($J233>1, IF($J233=4, \"Unknown\", IF($J233=99, \"Surveillance\", SUM($N233:$P233))), 0),\"Not required\")","v":"Not required"},{"$f":"IF(INTRO!$E$43=\"Endemic\", IF($K233>1, IF($K233=4, \"Unknown\", IF($K233=99, \"Surveillance\", ROUND(E233*0.75,0))), 0),\"Not required\")","v":2646},{"$f":"IF(INTRO!$E$43=\"Endemic\", IF($K233>1, IF($K233=4, \"Unknown\", IF($K233=99, \"Surveillance\", F233)), 0),\"Not required\")","v":8311},0,{"$f":"IF(INTRO!$E$43=\"Endemic\", IF($K233>1, IF($K233=4, \"Unknown\", IF($K233=99, \"Surveillance\", SUM($R233:$T233))), 0),\"Not required\")","v":10957},0,0,null,1,null,null,null,null,"Yes",null,null,null,21559,"Akatsi North"]
[{"$f":"IF(INTRO!$E$33<>0,INTRO!$E$33, \" \")","v":"Ghana"},"Volta","Akatsi South",96419.6,{"$f":"IF(INTRO!$E$48=\"\",\"\",ROUND($D234*INTRO!$E$48,0))","v":10028},{"$f":"IF(INTRO!$E$49=\"\",\"\",ROUND($D234*INTRO!$E$49,0))","v":23623},{"$f":"IF(INTRO!$E$50=\"\",\"\",ROUND($D234*INTRO!$E$50,0))","v":62769},0,0,null,2,{"$f":"IF(INTRO!$E$37=\"Endemic\",IF($H234>0,IF($H234=4,\"Unknown\",IF($H234=99,\"Stopped\",$D234)),0),\"Not required\")","v":0},0,{"$f":"IF(INTRO!$E$41=\"Endemic\", IF($J234>1, IF($J234=4, \"Unknown\", IF($J234=99, \"Surveillance\", E234)), 0),\"Not required\")","v":"Not required"},{"$f":"IF(INTRO!$E$41=\"Endemic\", IF($J234>1, IF($J234=4, \"Unknown\", IF($J234=99, \"Surveillance\", F234)), 0),\"Not required\")","v":"Not required"},{"$f":"IF(INTRO!$E$41=\"Endemic\", IF($J234>1, IF($J234=4, \"Unknown\", IF($J234=99, \"Surveillance\", ROUND(D234*INTRO!$E$51,0))), 0),\"Not required\")","v":"Not required"},{"$f":"IF(INTRO!$E$41=\"Endemic\", IF($J234>1, IF($J234=4, \"Unknown\", IF($J234=99, \"Surveillance\", SUM($N234:$P234))), 0),\"Not required\")","v":"Not required"},{"$f":"IF(INTRO!$E$43=\"Endemic\", IF($K234>1, IF($K234=4, \"Unknown\", IF($K234=99, \"Surveillance\", ROUND(E234*0.75,0))), 0),\"Not required\")","v":7521},{"$f":"IF(INTRO!$E$43=\"Endemic\", IF($K234>1, IF($K234=4, \"Unknown\", IF($K234=99, \"Surveillance\", F234)), 0),\"Not required\")","v":23623},0,{"$f":"IF(INTRO!$E$43=\"Endemic\", IF($K234>1, IF($K234=4, \"Unknown\", IF($K234=99, \"Surveillance\", SUM($R234:$T234))), 0),\"Not required\")","v":31144},0,0,null,1,null,null,null,null,"Yes",null,null,null,21558,"Akatsi"]
[{"$f":"IF(INTRO!$E$33<>0,INTRO!$E$33, \" \")","v":"Ghana"},"Volta","Anloga",98922.3,{"$f":"IF(INTRO!$E$48=\"\",\"\",ROUND($D235*INTRO!$E$48,0))","v":10288},{"$f":"IF(INTRO!$E$49=\"\",\"\",ROUND($D235*INTRO!$E$49,0))","v":24236},{"$f":"IF(INTRO!$E$50=\"\",\"\",ROUND($D235*INTRO!$E$50,0))","v":64398},0,0,null,2,{"$f":"IF(INTRO!$E$37=\"Endemic\",IF($H235>0,IF($H235=4,\"Unknown\",IF($H235=99,\"Stopped\",$D235)),0),\"Not required\")","v":0},0,{"$f":"IF(INTRO!$E$41=\"Endemic\", IF($J235>1, IF($J235=4, \"Unknown\", IF($J235=99, \"Surveillance\", E235)), 0),\"Not required\")","v":"Not required"},{"$f":"IF(INTRO!$E$41=\"Endemic\", IF($J235>1, IF($J235=4, \"Unknown\", IF($J235=99, \"Surveillance\", F235)), 0),\"Not required\")","v":"Not required"},{"$f":"IF(INTRO!$E$41=\"Endemic\", IF($J235>1, IF($J235=4, \"Unknown\", IF($J235=99, \"Surveillance\", ROUND(D235*INTRO!$E$51,0))), 0),\"Not required\")","v":"Not required"},{"$f":"IF(INTRO!$E$41=\"Endemic\", IF($J235>1, IF($J235=4, \"Unknown\", IF($J235=99, \"Surveillance\", SUM($N235:$P235))), 0),\"Not required\")","v":"Not required"},{"$f":"IF(INTRO!$E$43=\"Endemic\", IF($K235>1, IF($K235=4, \"Unknown\", IF($K235=99, \"Surveillance\", ROUND(E235*0.75,0))), 0),\"Not required\")","v":7716},{"$f":"IF(INTRO!$E$43=\"Endemic\", IF($K235>1, IF($K235=4, \"Unknown\", IF($K235=99, \"Surveillance\", F235)), 0),\"Not required\")","v":24236},0,{"$f":"IF(INTRO!$E$43=\"Endemic\", IF($K235>1, IF($K235=4, \"Unknown\", IF($K235=99, \"Surveillance\", SUM($R235:$T235))), 0),\"Not required\")","v":31952},0,0,null,1,null,null,null,null,"Yes",null,null,null,21675,"Anloga"]
[{"$f":"IF(INTRO!$E$33<>0,INTRO!$E$33, \" \")","v":"Ghana"},"Volta","Central Tongu",87359.8,{"$f":"IF(INTRO!$E$48=\"\",\"\",ROUND($D236*INTRO!$E$48,0))","v":9085},{"$f":"IF(INTRO!$E$49=\"\",\"\",ROUND($D236*INTRO!$E$49,0))","v":21403},{"$f":"IF(INTRO!$E$50=\"\",\"\",ROUND($D236*INTRO!$E$50,0))","v":56871},0,0,null,2,{"$f":"IF(INTRO!$E$37=\"Endemic\",IF($H236>0,IF($H236=4,\"Unknown\",IF($H236=99,\"Stopped\",$D236)),0),\"Not required\")","v":0},0,{"$f":"IF(INTRO!$E$41=\"Endemic\", IF($J236>1, IF($J236=4, \"Unknown\", IF($J236=99, \"Surveillance\", E236)), 0),\"Not required\")","v":"Not required"},{"$f":"IF(INTRO!$E$41=\"Endemic\", IF($J236>1, IF($J236=4, \"Unknown\", IF($J236=99, \"Surveillance\", F236)), 0),\"Not required\")","v":"Not required"},{"$f":"IF(INTRO!$E$41=\"Endemic\", IF($J236>1, IF($J236=4, \"Unknown\", IF($J236=99, \"Surveillance\", ROUND(D236*INTRO!$E$51,0))), 0),\"Not required\")","v":"Not required"},{"$f":"IF(INTRO!$E$41=\"Endemic\", IF($J236>1, IF($J236=4, \"Unknown\", IF($J236=99, \"Surveillance\", SUM($N236:$P236))), 0),\"Not required\")","v":"Not required"},{"$f":"IF(INTRO!$E$43=\"Endemic\", IF($K236>1, IF($K236=4, \"Unknown\", IF($K236=99, \"Surveillance\", ROUND(E236*0.75,0))), 0),\"Not required\")","v":6814},{"$f":"IF(INTRO!$E$43=\"Endemic\", IF($K236>1, IF($K236=4, \"Unknown\", IF($K236=99, \"Surveillance\", F236)), 0),\"Not required\")","v":21403},0,{"$f":"IF(INTRO!$E$43=\"Endemic\", IF($K236>1, IF($K236=4, \"Unknown\", IF($K236=99, \"Surveillance\", SUM($R236:$T236))), 0),\"Not required\")","v":28217},0,0,null,1,null,null,null,null,"Yes",null,null,null,21561,"Central Tongu"]
[{"$f":"IF(INTRO!$E$33<>0,INTRO!$E$33, \" \")","v":"Ghana"},"Volta","Ho",188077.3,{"$f":"IF(INTRO!$E$48=\"\",\"\",ROUND($D237*INTRO!$E$48,0))","v":19560},{"$f":"IF(INTRO!$E$49=\"\",\"\",ROUND($D237*INTRO!$E$49,0))","v":46079},{"$f":"IF(INTRO!$E$50=\"\",\"\",ROUND($D237*INTRO!$E$50,0))","v":122438},0,1,null,2,{"$f":"IF(INTRO!$E$37=\"Endemic\",IF($H237>0,IF($H237=4,\"Unknown\",IF($H237=99,\"Stopped\",$D237)),0),\"Not required\")","v":0},62541,{"$f":"IF(INTRO!$E$41=\"Endemic\", IF($J237>1, IF($J237=4, \"Unknown\", IF($J237=99, \"Surveillance\", E237)), 0),\"Not required\")","v":"Not required"},{"$f":"IF(INTRO!$E$41=\"Endemic\", IF($J237>1, IF($J237=4, \"Unknown\", IF($J237=99, \"Surveillance\", F237)), 0),\"Not required\")","v":"Not required"},{"$f":"IF(INTRO!$E$41=\"Endemic\", IF($J237>1, IF($J237=4, \"Unknown\", IF($J237=99, \"Surveillance\", ROUND(D237*INTRO!$E$51,0))), 0),\"Not required\")","v":"Not required"},{"$f":"IF(INTRO!$E$41=\"Endemic\", IF($J237>1, IF($J237=4, \"Unknown\", IF($J237=99, \"Surveillance\", SUM($N237:$P237))), 0),\"Not required\")","v":"Not required"},{"$f":"IF(INTRO!$E$43=\"Endemic\", IF($K237>1, IF($K237=4, \"Unknown\", IF($K237=99, \"Surveillance\", ROUND(E237*0.75,0))), 0),\"Not required\")","v":14670},{"$f":"IF(INTRO!$E$43=\"Endemic\", IF($K237>1, IF($K237=4, \"Unknown\", IF($K237=99, \"Surveillance\", F237)), 0),\"Not required\")","v":46079},0,{"$f":"IF(INTRO!$E$43=\"Endemic\", IF($K237>1, IF($K237=4, \"Unknown\", IF($K237=99, \"Surveillance\", SUM($R237:$T237))), 0),\"Not required\")","v":60749},0,2,null,1,null,null,null,null,"Yes",null,null,null,21562,"Ho Municipal"]
[{"$f":"IF(INTRO!$E$33<>0,INTRO!$E$33, \" \")","v":"Ghana"},"Volta","Ho West",86403.7,{"$f":"IF(INTRO!$E$48=\"\",\"\",ROUND($D238*INTRO!$E$48,0))","v":8986},{"$f":"IF(INTRO!$E$49=\"\",\"\",ROUND($D238*INTRO!$E$49,0))","v":21169},{"$f":"IF(INTRO!$E$50=\"\",\"\",ROUND($D238*INTRO!$E$50,0))","v":56249},0,1,null,2,{"$f":"IF(INTRO!$E$37=\"Endemic\",IF($H238>0,IF($H238=4,\"Unknown\",IF($H238=99,\"Stopped\",$D238)),0),\"Not required\")","v":0},100381,{"$f":"IF(INTRO!$E$41=\"Endemic\", IF($J238>1, IF($J238=4, \"Unknown\", IF($J238=99, \"Surveillance\", E238)), 0),\"Not required\")","v":"Not required"},{"$f":"IF(INTRO!$E$41=\"Endemic\", IF($J238>1, IF($J238=4, \"Unknown\", IF($J238=99, \"Surveillance\", F238)), 0),\"Not required\")","v":"Not required"},{"$f":"IF(INTRO!$E$41=\"Endemic\", IF($J238>1, IF($J238=4, \"Unknown\", IF($J238=99, \"Surveillance\", ROUND(D238*INTRO!$E$51,0))), 0),\"Not required\")","v":"Not required"},{"$f":"IF(INTRO!$E$41=\"Endemic\", IF($J238>1, IF($J238=4, \"Unknown\", IF($J238=99, \"Surveillance\", SUM($N238:$P238))), 0),\"Not required\")","v":"Not required"},{"$f":"IF(INTRO!$E$43=\"Endemic\", IF($K238>1, IF($K238=4, \"Unknown\", IF($K238=99, \"Surveillance\", ROUND(E238*0.75,0))), 0),\"Not required\")","v":6740},{"$f":"IF(INTRO!$E$43=\"Endemic\", IF($K238>1, IF($K238=4, \"Unknown\", IF($K238=99, \"Surveillance\", F238)), 0),\"Not required\")","v":21169},0,{"$f":"IF(INTRO!$E$43=\"Endemic\", IF($K238>1, IF($K238=4, \"Unknown\", IF($K238=99, \"Surveillance\", SUM($R238:$T238))), 0),\"Not required\")","v":27909},0,2,null,1,null,null,null,null,"Yes",null,null,null,21563,"Ho West"]
[{"$f":"IF(INTRO!$E$33<>0,INTRO!$E$33, \" \")","v":"Ghana"},"Volta","Hohoe",95728.6,{"$f":"IF(INTRO!$E$48=\"\",\"\",ROUND($D239*INTRO!$E$48,0))","v":9956},{"$f":"IF(INTRO!$E$49=\"\",\"\",ROUND($D239*INTRO!$E$49,0))","v":23454},{"$f":"IF(INTRO!$E$50=\"\",\"\",ROUND($D239*INTRO!$E$50,0))","v":62319},0,1,null,2,{"$f":"IF(INTRO!$E$37=\"Endemic\",IF($H239>0,IF($H239=4,\"Unknown\",IF($H239=99,\"Stopped\",$D239)),0),\"Not required\")","v":0},107311,{"$f":"IF(INTRO!$E$41=\"Endemic\", IF($J239>1, IF($J239=4, \"Unknown\", IF($J239=99, \"Surveillance\", E239)), 0),\"Not required\")","v":"Not required"},{"$f":"IF(INTRO!$E$41=\"Endemic\", IF($J239>1, IF($J239=4, \"Unknown\", IF($J239=99, \"Surveillance\", F239)), 0),\"Not required\")","v":"Not required"},{"$f":"IF(INTRO!$E$41=\"Endemic\", IF($J239>1, IF($J239=4, \"Unknown\", IF($J239=99, \"Surveillance\", ROUND(D239*INTRO!$E$51,0))), 0),\"Not required\")","v":"Not required"},{"$f":"IF(INTRO!$E$41=\"Endemic\", IF($J239>1, IF($J239=4, \"Unknown\", IF($J239=99, \"Surveillance\", SUM($N239:$P239))), 0),\"Not required\")","v":"Not required"},{"$f":"IF(INTRO!$E$43=\"Endemic\", IF($K239>1, IF($K239=4, \"Unknown\", IF($K239=99, \"Surveillance\", ROUND(E239*0.75,0))), 0),\"Not required\")","v":7467},{"$f":"IF(INTRO!$E$43=\"Endemic\", IF($K239>1, IF($K239=4, \"Unknown\", IF($K239=99, \"Surveillance\", F239)), 0),\"Not required\")","v":23454},0,{"$f":"IF(INTRO!$E$43=\"Endemic\", IF($K239>1, IF($K239=4, \"Unknown\", IF($K239=99, \"Surveillance\", SUM($R239:$T239))), 0),\"Not required\")","v":30921},0,2,null,1,null,null,null,null,"Yes",null,null,null,21564,"Hohoe"]
[{"$f":"IF(INTRO!$E$33<>0,INTRO!$E$33, \" \")","v":"Ghana"},"Volta","Keta",82209,{"$f":"IF(INTRO!$E$48=\"\",\"\",ROUND($D240*INTRO!$E$48,0))","v":8550},{"$f":"IF(INTRO!$E$49=\"\",\"\",ROUND($D240*INTRO!$E$49,0))","v":20141},{"$f":"IF(INTRO!$E$50=\"\",\"\",ROUND($D240*INTRO!$E$50,0))","v":53518},0,0,null,2,{"$f":"IF(INTRO!$E$37=\"Endemic\",IF($H240>0,IF($H240=4,\"Unknown\",IF($H240=99,\"Stopped\",$D240)),0),\"Not required\")","v":0},0,{"$f":"IF(INTRO!$E$41=\"Endemic\", IF($J240>1, IF($J240=4, \"Unknown\", IF($J240=99, \"Surveillance\", E240)), 0),\"Not required\")","v":"Not required"},{"$f":"IF(INTRO!$E$41=\"Endemic\", IF($J240>1, IF($J240=4, \"Unknown\", IF($J240=99, \"Surveillance\", F240)), 0),\"Not required\")","v":"Not required"},{"$f":"IF(INTRO!$E$41=\"Endemic\", IF($J240>1, IF($J240=4, \"Unknown\", IF($J240=99, \"Surveillance\", ROUND(D240*INTRO!$E$51,0))), 0),\"Not required\")","v":"Not required"},{"$f":"IF(INTRO!$E$41=\"Endemic\", IF($J240>1, IF($J240=4, \"Unknown\", IF($J240=99, \"Surveillance\", SUM($N240:$P240))), 0),\"Not required\")","v":"Not required"},{"$f":"IF(INTRO!$E$43=\"Endemic\", IF($K240>1, IF($K240=4, \"Unknown\", IF($K240=99, \"Surveillance\", ROUND(E240*0.75,0))), 0),\"Not required\")","v":6413},{"$f":"IF(INTRO!$E$43=\"Endemic\", IF($K240>1, IF($K240=4, \"Unknown\", IF($K240=99, \"Surveillance\", F240)), 0),\"Not required\")","v":20141},0,{"$f":"IF(INTRO!$E$43=\"Endemic\", IF($K240>1, IF($K240=4, \"Unknown\", IF($K240=99, \"Surveillance\", SUM($R240:$T240))), 0),\"Not required\")","v":26554},0,0,null,1,null,null,null,null,"Yes",null,null,null,21676,"Keta"]
[{"$f":"IF(INTRO!$E$33<>0,INTRO!$E$33, \" \")","v":"Ghana"},"Volta","Ketu North",119720.1,{"$f":"IF(INTRO!$E$48=\"\",\"\",ROUND($D241*INTRO!$E$48,0))","v":12451},{"$f":"IF(INTRO!$E$49=\"\",\"\",ROUND($D241*INTRO!$E$49,0))","v":29331},{"$f":"IF(INTRO!$E$50=\"\",\"\",ROUND($D241*INTRO!$E$50,0))","v":77938},0,0,null,2,{"$f":"IF(INTRO!$E$37=\"Endemic\",IF($H241>0,IF($H241=4,\"Unknown\",IF($H241=99,\"Stopped\",$D241)),0),\"Not required\")","v":0},0,{"$f":"IF(INTRO!$E$41=\"Endemic\", IF($J241>1, IF($J241=4, \"Unknown\", IF($J241=99, \"Surveillance\", E241)), 0),\"Not required\")","v":"Not required"},{"$f":"IF(INTRO!$E$41=\"Endemic\", IF($J241>1, IF($J241=4, \"Unknown\", IF($J241=99, \"Surveillance\", F241)), 0),\"Not required\")","v":"Not required"},{"$f":"IF(INTRO!$E$41=\"Endemic\", IF($J241>1, IF($J241=4, \"Unknown\", IF($J241=99, \"Surveillance\", ROUND(D241*INTRO!$E$51,0))), 0),\"Not required\")","v":"Not required"},{"$f":"IF(INTRO!$E$41=\"Endemic\", IF($J241>1, IF($J241=4, \"Unknown\", IF($J241=99, \"Surveillance\", SUM($N241:$P241))), 0),\"Not required\")","v":"Not required"},{"$f":"IF(INTRO!$E$43=\"Endemic\", IF($K241>1, IF($K241=4, \"Unknown\", IF($K241=99, \"Surveillance\", ROUND(E241*0.75,0))), 0),\"Not required\")","v":9338},{"$f":"IF(INTRO!$E$43=\"Endemic\", IF($K241>1, IF($K241=4, \"Unknown\", IF($K241=99, \"Surveillance\", F241)), 0),\"Not required\")","v":29331},0,{"$f":"IF(INTRO!$E$43=\"Endemic\", IF($K241>1, IF($K241=4, \"Unknown\", IF($K241=99, \"Surveillance\", SUM($R241:$T241))), 0),\"Not required\")","v":38669},0,0,null,1,null,null,null,null,"Yes",null,null,null,21568,"Ketu North"]
[{"$f":"IF(INTRO!$E$33<>0,INTRO!$E$33, \" \")","v":"Ghana"},"Volta","Ketu South",263864.8,{"$f":"IF(INTRO!$E$48=\"\",\"\",ROUND($D242*INTRO!$E$48,0))","v":27442},{"$f":"IF(INTRO!$E$49=\"\",\"\",ROUND($D242*INTRO!$E$49,0))","v":64647},{"$f":"IF(INTRO!$E$50=\"\",\"\",ROUND($D242*INTRO!$E$50,0))","v":171776},0,0,null,2,{"$f":"IF(INTRO!$E$37=\"Endemic\",IF($H242>0,IF($H242=4,\"Unknown\",IF($H242=99,\"Stopped\",$D242)),0),\"Not required\")","v":0},0,{"$f":"IF(INTRO!$E$41=\"Endemic\", IF($J242>1, IF($J242=4, \"Unknown\", IF($J242=99, \"Surveillance\", E242)), 0),\"Not required\")","v":"Not required"},{"$f":"IF(INTRO!$E$41=\"Endemic\", IF($J242>1, IF($J242=4, \"Unknown\", IF($J242=99, \"Surveillance\", F242)), 0),\"Not required\")","v":"Not required"},{"$f":"IF(INTRO!$E$41=\"Endemic\", IF($J242>1, IF($J242=4, \"Unknown\", IF($J242=99, \"Surveillance\", ROUND(D242*INTRO!$E$51,0))), 0),\"Not required\")","v":"Not required"},{"$f":"IF(INTRO!$E$41=\"Endemic\", IF($J242>1, IF($J242=4, \"Unknown\", IF($J242=99, \"Surveillance\", SUM($N242:$P242))), 0),\"Not required\")","v":"Not required"},{"$f":"IF(INTRO!$E$43=\"Endemic\", IF($K242>1, IF($K242=4, \"Unknown\", IF($K242=99, \"Surveillance\", ROUND(E242*0.75,0))), 0),\"Not required\")","v":20582},{"$f":"IF(INTRO!$E$43=\"Endemic\", IF($K242>1, IF($K242=4, \"Unknown\", IF($K242=99, \"Surveillance\", F242)), 0),\"Not required\")","v":64647},0,{"$f":"IF(INTRO!$E$43=\"Endemic\", IF($K242>1, IF($K242=4, \"Unknown\", IF($K242=99, \"Surveillance\", SUM($R242:$T242))), 0),\"Not required\")","v":85229},0,0,null,1,null,null,null,null,"Yes",null,null,null,21569,"Ketu South"]
[{"$f":"IF(INTRO!$E$33<>0,INTRO!$E$33, \" \")","v":"Ghana"},"Volta","Kpando",61037,{"$f":"IF(INTRO!$E$48=\"\",\"\",ROUND($D243*INTRO!$E$48,0))","v":6348},{"$f":"IF(INTRO!$E$49=\"\",\"\",ROUND($D243*INTRO!$E$49,0))","v":14954},{"$f":"IF(INTRO!$E$50=\"\",\"\",ROUND($D243*INTRO!$E$50,0))","v":39735},0,1,null,3,{"$f":"IF(INTRO!$E$37=\"Endemic\",IF($H243>0,IF($H243=4,\"Unknown\",IF($H243=99,\"Stopped\",$D243)),0),\"Not required\")","v":0},15363,{"$f":"IF(INTRO!$E$41=\"Endemic\", IF($J243>1, IF($J243=4, \"Unknown\", IF($J243=99, \"Surveillance\", E243)), 0),\"Not required\")","v":"Not required"},{"$f":"IF(INTRO!$E$41=\"Endemic\", IF($J243>1, IF($J243=4, \"Unknown\", IF($J243=99, \"Surveillance\", F243)), 0),\"Not required\")","v":"Not required"},{"$f":"IF(INTRO!$E$41=\"Endemic\", IF($J243>1, IF($J243=4, \"Unknown\", IF($J243=99, \"Surveillance\", ROUND(D243*INTRO!$E$51,0))), 0),\"Not required\")","v":"Not required"},{"$f":"IF(INTRO!$E$41=\"Endemic\", IF($J243>1, IF($J243=4, \"Unknown\", IF($J243=99, \"Surveillance\", SUM($N243:$P243))), 0),\"Not required\")","v":"Not required"},{"$f":"IF(INTRO!$E$43=\"Endemic\", IF($K243>1, IF($K243=4, \"Unknown\", IF($K243=99, \"Surveillance\", ROUND(E243*0.75,0))), 0),\"Not required\")","v":4761},{"$f":"IF(INTRO!$E$43=\"Endemic\", IF($K243>1, IF($K243=4, \"Unknown\", IF($K243=99, \"Surveillance\", F243)), 0),\"Not required\")","v":14954},{"$f":"IF(INTRO!$E$43=\"Endemic\", IF($K243>1, IF($K243=4, \"Unknown\", IF($K243=99, \"Surveillance\", G243)), 0),\"Not required\")","v":39735},{"$f":"IF(INTRO!$E$43=\"Endemic\", IF($K243>1, IF($K243=4, \"Unknown\", IF($K243=99, \"Surveillance\", SUM($R243:$T243))), 0),\"Not required\")","v":59450},0,2,null,1,null,null,null,null,"Yes",null,null,null,21570,"Kpando"]
[{"$f":"IF(INTRO!$E$33<>0,INTRO!$E$33, \" \")","v":"Ghana"},"Volta","North Dayi",40934.6,{"$f":"IF(INTRO!$E$48=\"\",\"\",ROUND($D244*INTRO!$E$48,0))","v":4257},{"$f":"IF(INTRO!$E$49=\"\",\"\",ROUND($D244*INTRO!$E$49,0))","v":10029},{"$f":"IF(INTRO!$E$50=\"\",\"\",ROUND($D244*INTRO!$E$50,0))","v":26648},0,1,null,3,{"$f":"IF(INTRO!$E$37=\"Endemic\",IF($H244>0,IF($H244=4,\"Unknown\",IF($H244=99,\"Stopped\",$D244)),0),\"Not required\")","v":0},31867,{"$f":"IF(INTRO!$E$41=\"Endemic\", IF($J244>1, IF($J244=4, \"Unknown\", IF($J244=99, \"Surveillance\", E244)), 0),\"Not required\")","v":"Not required"},{"$f":"IF(INTRO!$E$41=\"Endemic\", IF($J244>1, IF($J244=4, \"Unknown\", IF($J244=99, \"Surveillance\", F244)), 0),\"Not required\")","v":"Not required"},{"$f":"IF(INTRO!$E$41=\"Endemic\", IF($J244>1, IF($J244=4, \"Unknown\", IF($J244=99, \"Surveillance\", ROUND(D244*INTRO!$E$51,0))), 0),\"Not required\")","v":"Not required"},{"$f":"IF(INTRO!$E$41=\"Endemic\", IF($J244>1, IF($J244=4, \"Unknown\", IF($J244=99, \"Surveillance\", SUM($N244:$P244))), 0),\"Not required\")","v":"Not required"},{"$f":"IF(INTRO!$E$43=\"Endemic\", IF($K244>1, IF($K244=4, \"Unknown\", IF($K244=99, \"Surveillance\", ROUND(E244*0.75,0))), 0),\"Not required\")","v":3193},{"$f":"IF(INTRO!$E$43=\"Endemic\", IF($K244>1, IF($K244=4, \"Unknown\", IF($K244=99, \"Surveillance\", F244)), 0),\"Not required\")","v":10029},{"$f":"IF(INTRO!$E$43=\"Endemic\", IF($K244>1, IF($K244=4, \"Unknown\", IF($K244=99, \"Surveillance\", G244)), 0),\"Not required\")","v":26648},{"$f":"IF(INTRO!$E$43=\"Endemic\", IF($K244>1, IF($K244=4, \"Unknown\", IF($K244=99, \"Surveillance\", SUM($R244:$T244))), 0),\"Not required\")","v":39870},0,2,null,1,null,null,null,null,"Yes",null,null,null,21576,"North Dayi"]
[{"$f":"IF(INTRO!$E$33<>0,INTRO!$E$33, \" \")","v":"Ghana"},"Volta","North Tongu",115597.3,{"$f":"IF(INTRO!$E$48=\"\",\"\",ROUND($D245*INTRO!$E$48,0))","v":12022},{"$f":"IF(INTRO!$E$49=\"\",\"\",ROUND($D245*INTRO!$E$49,0))","v":28321},{"$f":"IF(INTRO!$E$50=\"\",\"\",ROUND($D245*INTRO!$E$50,0))","v":75254},0,0,null,2,{"$f":"IF(INTRO!$E$37=\"Endemic\",IF($H245>0,IF($H245=4,\"Unknown\",IF($H245=99,\"Stopped\",$D245)),0),\"Not required\")","v":0},0,{"$f":"IF(INTRO!$E$41=\"Endemic\", IF($J245>1, IF($J245=4, \"Unknown\", IF($J245=99, \"Surveillance\", E245)), 0),\"Not required\")","v":"Not required"},{"$f":"IF(INTRO!$E$41=\"Endemic\", IF($J245>1, IF($J245=4, \"Unknown\", IF($J245=99, \"Surveillance\", F245)), 0),\"Not required\")","v":"Not required"},{"$f":"IF(INTRO!$E$41=\"Endemic\", IF($J245>1, IF($J245=4, \"Unknown\", IF($J245=99, \"Surveillance\", ROUND(D245*INTRO!$E$51,0))), 0),\"Not required\")","v":"Not required"},{"$f":"IF(INTRO!$E$41=\"Endemic\", IF($J245>1, IF($J245=4, \"Unknown\", IF($J245=99, \"Surveillance\", SUM($N245:$P245))), 0),\"Not required\")","v":"Not required"},{"$f":"IF(INTRO!$E$43=\"Endemic\", IF($K245>1, IF($K245=4, \"Unknown\", IF($K245=99, \"Surveillance\", ROUND(E245*0.75,0))), 0),\"Not required\")","v":9017},{"$f":"IF(INTRO!$E$43=\"Endemic\", IF($K245>1, IF($K245=4, \"Unknown\", IF($K245=99, \"Surveillance\", F245)), 0),\"Not required\")","v":28321},0,{"$f":"IF(INTRO!$E$43=\"Endemic\", IF($K245>1, IF($K245=4, \"Unknown\", IF($K245=99, \"Surveillance\", SUM($R245:$T245))), 0),\"Not required\")","v":37338},0,0,null,1,null,null,null,null,"Yes",null,null,null,21577,"North Tongu"]
[{"$f":"IF(INTRO!$E$33<>0,INTRO!$E$33, \" \")","v":"Ghana"},"Volta","South Dayi",59967.3,{"$f":"IF(INTRO!$E$48=\"\",\"\",ROUND($D246*INTRO!$E$48,0))","v":6237},{"$f":"IF(INTRO!$E$49=\"\",\"\",ROUND($D246*INTRO!$E$49,0))","v":14692},{"$f":"IF(INTRO!$E$50=\"\",\"\",ROUND($D246*INTRO!$E$50,0))","v":39039},0,0,null,3,{"$f":"IF(INTRO!$E$37=\"Endemic\",IF($H246>0,IF($H246=4,\"Unknown\",IF($H246=99,\"Stopped\",$D246)),0),\"Not required\")","v":0},0,{"$f":"IF(INTRO!$E$41=\"Endemic\", IF($J246>1, IF($J246=4, \"Unknown\", IF($J246=99, \"Surveillance\", E246)), 0),\"Not required\")","v":"Not required"},{"$f":"IF(INTRO!$E$41=\"Endemic\", IF($J246>1, IF($J246=4, \"Unknown\", IF($J246=99, \"Surveillance\", F246)), 0),\"Not required\")","v":"Not required"},{"$f":"IF(INTRO!$E$41=\"Endemic\", IF($J246>1, IF($J246=4, \"Unknown\", IF($J246=99, \"Surveillance\", ROUND(D246*INTRO!$E$51,0))), 0),\"Not required\")","v":"Not required"},{"$f":"IF(INTRO!$E$41=\"Endemic\", IF($J246>1, IF($J246=4, \"Unknown\", IF($J246=99, \"Surveillance\", SUM($N246:$P246))), 0),\"Not required\")","v":"Not required"},{"$f":"IF(INTRO!$E$43=\"Endemic\", IF($K246>1, IF($K246=4, \"Unknown\", IF($K246=99, \"Surveillance\", ROUND(E246*0.75,0))), 0),\"Not required\")","v":4678},{"$f":"IF(INTRO!$E$43=\"Endemic\", IF($K246>1, IF($K246=4, \"Unknown\", IF($K246=99, \"Surveillance\", F246)), 0),\"Not required\")","v":14692},{"$f":"IF(INTRO!$E$43=\"Endemic\", IF($K246>1, IF($K246=4, \"Unknown\", IF($K246=99, \"Surveillance\", G246)), 0),\"Not required\")","v":39039},{"$f":"IF(INTRO!$E$43=\"Endemic\", IF($K246>1, IF($K246=4, \"Unknown\", IF($K246=99, \"Surveillance\", SUM($R246:$T246))), 0),\"Not required\")","v":58409},0,0,null,1,null,null,null,null,"Yes",null,null,null,21578,"South Dayi"]
[{"$f":"IF(INTRO!$E$33<>0,INTRO!$E$33, \" \")","v":"Ghana"},"Volta","South Tongu",117914.6,{"$f":"IF(INTRO!$E$48=\"\",\"\",ROUND($D247*INTRO!$E$48,0))","v":12263},{"$f":"IF(INTRO!$E$49=\"\",\"\",ROUND($D247*INTRO!$E$49,0))","v":28889},{"$f":"IF(INTRO!$E$50=\"\",\"\",ROUND($D247*INTRO!$E$50,0))","v":76762},0,0,null,2,{"$f":"IF(INTRO!$E$37=\"Endemic\",IF($H247>0,IF($H247=4,\"Unknown\",IF($H247=99,\"Stopped\",$D247)),0),\"Not required\")","v":0},0,{"$f":"IF(INTRO!$E$41=\"Endemic\", IF($J247>1, IF($J247=4, \"Unknown\", IF($J247=99, \"Surveillance\", E247)), 0),\"Not required\")","v":"Not required"},{"$f":"IF(INTRO!$E$41=\"Endemic\", IF($J247>1, IF($J247=4, \"Unknown\", IF($J247=99, \"Surveillance\", F247)), 0),\"Not required\")","v":"Not required"},{"$f":"IF(INTRO!$E$41=\"Endemic\", IF($J247>1, IF($J247=4, \"Unknown\", IF($J247=99, \"Surveillance\", ROUND(D247*INTRO!$E$51,0))), 0),\"Not required\")","v":"Not required"},{"$f":"IF(INTRO!$E$41=\"Endemic\", IF($J247>1, IF($J247=4, \"Unknown\", IF($J247=99, \"Surveillance\", SUM($N247:$P247))), 0),\"Not required\")","v":"Not required"},{"$f":"IF(INTRO!$E$43=\"Endemic\", IF($K247>1, IF($K247=4, \"Unknown\", IF($K247=99, \"Surveillance\", ROUND(E247*0.75,0))), 0),\"Not required\")","v":9197},{"$f":"IF(INTRO!$E$43=\"Endemic\", IF($K247>1, IF($K247=4, \"Unknown\", IF($K247=99, \"Surveillance\", F247)), 0),\"Not required\")","v":28889},0,{"$f":"IF(INTRO!$E$43=\"Endemic\", IF($K247>1, IF($K247=4, \"Unknown\", IF($K247=99, \"Surveillance\", SUM($R247:$T247))), 0),\"Not required\")","v":38086},0,0,null,1,null,null,null,null,null,null,null,null,21579,"South Tongu"]
[{"$f":"IF(INTRO!$E$33<>0,INTRO!$E$33, \" \")","v":"Ghana"},"Western","Ahanta West",159673.79999999999,{"$f":"IF(INTRO!$E$48=\"\",\"\",ROUND($D248*INTRO!$E$48,0))","v":16606},{"$f":"IF(INTRO!$E$49=\"\",\"\",ROUND($D248*INTRO!$E$49,0))","v":39120},{"$f":"IF(INTRO!$E$50=\"\",\"\",ROUND($D248*INTRO!$E$50,0))","v":103948},99,0,null,2,{"$f":"IF(INTRO!$E$37=\"Endemic\",IF($H248>0,IF($H248=4,\"Unknown\",IF($H248=99,\"Stopped\",$D248)),0),\"Not required\")","v":"Stopped"},0,{"$f":"IF(INTRO!$E$41=\"Endemic\", IF($J248>1, IF($J248=4, \"Unknown\", IF($J248=99, \"Surveillance\", E248)), 0),\"Not required\")","v":"Not required"},{"$f":"IF(INTRO!$E$41=\"Endemic\", IF($J248>1, IF($J248=4, \"Unknown\", IF($J248=99, \"Surveillance\", F248)), 0),\"Not required\")","v":"Not required"},{"$f":"IF(INTRO!$E$41=\"Endemic\", IF($J248>1, IF($J248=4, \"Unknown\", IF($J248=99, \"Surveillance\", ROUND(D248*INTRO!$E$51,0))), 0),\"Not required\")","v":"Not required"},{"$f":"IF(INTRO!$E$41=\"Endemic\", IF($J248>1, IF($J248=4, \"Unknown\", IF($J248=99, \"Surveillance\", SUM($N248:$P248))), 0),\"Not required\")","v":"Not required"},{"$f":"IF(INTRO!$E$43=\"Endemic\", IF($K248>1, IF($K248=4, \"Unknown\", IF($K248=99, \"Surveillance\", ROUND(E248*0.75,0))), 0),\"Not required\")","v":12455},{"$f":"IF(INTRO!$E$43=\"Endemic\", IF($K248>1, IF($K248=4, \"Unknown\", IF($K248=99, \"Surveillance\", F248)), 0),\"Not required\")","v":39120},0,{"$f":"IF(INTRO!$E$43=\"Endemic\", IF($K248>1, IF($K248=4, \"Unknown\", IF($K248=99, \"Surveillance\", SUM($R248:$T248))), 0),\"Not required\")","v":51575},0,0,null,1,null,null,null,null,null,null,null,null,21580,"Ahanta West"]
[{"$f":"IF(INTRO!$E$33<>0,INTRO!$E$33, \" \")","v":"Ghana"},"Western","Effia-Kwesimintsim",181435.1,{"$f":"IF(INTRO!$E$48=\"\",\"\",ROUND($D249*INTRO!$E$48,0))","v":18869},{"$f":"IF(INTRO!$E$49=\"\",\"\",ROUND($D249*INTRO!$E$49,0))","v":44452},{"$f":"IF(INTRO!$E$50=\"\",\"\",ROUND($D249*INTRO!$E$50,0))","v":118114},99,0,null,2,{"$f":"IF(INTRO!$E$37=\"Endemic\",IF($H249>0,IF($H249=4,\"Unknown\",IF($H249=99,\"Stopped\",$D249)),0),\"Not required\")","v":"Stopped"},0,{"$f":"IF(INTRO!$E$41=\"Endemic\", IF($J249>1, IF($J249=4, \"Unknown\", IF($J249=99, \"Surveillance\", E249)), 0),\"Not required\")","v":"Not required"},{"$f":"IF(INTRO!$E$41=\"Endemic\", IF($J249>1, IF($J249=4, \"Unknown\", IF($J249=99, \"Surveillance\", F249)), 0),\"Not required\")","v":"Not required"},{"$f":"IF(INTRO!$E$41=\"Endemic\", IF($J249>1, IF($J249=4, \"Unknown\", IF($J249=99, \"Surveillance\", ROUND(D249*INTRO!$E$51,0))), 0),\"Not required\")","v":"Not required"},{"$f":"IF(INTRO!$E$41=\"Endemic\", IF($J249>1, IF($J249=4, \"Unknown\", IF($J249=99, \"Surveillance\", SUM($N249:$P249))), 0),\"Not required\")","v":"Not required"},{"$f":"IF(INTRO!$E$43=\"Endemic\", IF($K249>1, IF($K249=4, \"Unknown\", IF($K249=99, \"Surveillance\", ROUND(E249*0.75,0))), 0),\"Not required\")","v":14152},{"$f":"IF(INTRO!$E$43=\"Endemic\", IF($K249>1, IF($K249=4, \"Unknown\", IF($K249=99, \"Surveillance\", F249)), 0),\"Not required\")","v":44452},0,{"$f":"IF(INTRO!$E$43=\"Endemic\", IF($K249>1, IF($K249=4, \"Unknown\", IF($K249=99, \"Surveillance\", SUM($R249:$T249))), 0),\"Not required\")","v":58604},0,0,null,1,null,null,null,null,null,null,null,null,21677,"Effia-Kwesimintsim"]
[{"$f":"IF(INTRO!$E$33<>0,INTRO!$E$33, \" \")","v":"Ghana"},"Western","Ellembelle",126051.6,{"$f":"IF(INTRO!$E$48=\"\",\"\",ROUND($D250*INTRO!$E$48,0))","v":13109},{"$f":"IF(INTRO!$E$49=\"\",\"\",ROUND($D250*INTRO!$E$49,0))","v":30883},{"$f":"IF(INTRO!$E$50=\"\",\"\",ROUND($D250*INTRO!$E$50,0))","v":82060},1,0,null,2,{"$f":"IF(INTRO!$E$37=\"Endemic\",IF($H250>0,IF($H250=4,\"Unknown\",IF($H250=99,\"Stopped\",$D250)),0),\"Not required\")","v":126051.6},0,{"$f":"IF(INTRO!$E$41=\"Endemic\", IF($J250>1, IF($J250=4, \"Unknown\", IF($J250=99, \"Surveillance\", E250)), 0),\"Not required\")","v":"Not required"},{"$f":"IF(INTRO!$E$41=\"Endemic\", IF($J250>1, IF($J250=4, \"Unknown\", IF($J250=99, \"Surveillance\", F250)), 0),\"Not required\")","v":"Not required"},{"$f":"IF(INTRO!$E$41=\"Endemic\", IF($J250>1, IF($J250=4, \"Unknown\", IF($J250=99, \"Surveillance\", ROUND(D250*INTRO!$E$51,0))), 0),\"Not required\")","v":"Not required"},{"$f":"IF(INTRO!$E$41=\"Endemic\", IF($J250>1, IF($J250=4, \"Unknown\", IF($J250=99, \"Surveillance\", SUM($N250:$P250))), 0),\"Not required\")","v":"Not required"},{"$f":"IF(INTRO!$E$43=\"Endemic\", IF($K250>1, IF($K250=4, \"Unknown\", IF($K250=99, \"Surveillance\", ROUND(E250*0.75,0))), 0),\"Not required\")","v":9832},{"$f":"IF(INTRO!$E$43=\"Endemic\", IF($K250>1, IF($K250=4, \"Unknown\", IF($K250=99, \"Surveillance\", F250)), 0),\"Not required\")","v":30883},0,{"$f":"IF(INTRO!$E$43=\"Endemic\", IF($K250>1, IF($K250=4, \"Unknown\", IF($K250=99, \"Surveillance\", SUM($R250:$T250))), 0),\"Not required\")","v":40715},1,0,null,1,null,"SS/SC",null,null,null,null,null,null,21587,"Ellembelle"]
[{"$f":"IF(INTRO!$E$33<>0,INTRO!$E$33, \" \")","v":"Ghana"},"Western","Jomoro",131976.5,{"$f":"IF(INTRO!$E$48=\"\",\"\",ROUND($D251*INTRO!$E$48,0))","v":13726},{"$f":"IF(INTRO!$E$49=\"\",\"\",ROUND($D251*INTRO!$E$49,0))","v":32334},{"$f":"IF(INTRO!$E$50=\"\",\"\",ROUND($D251*INTRO!$E$50,0))","v":85917},99,1,null,2,{"$f":"IF(INTRO!$E$37=\"Endemic\",IF($H251>0,IF($H251=4,\"Unknown\",IF($H251=99,\"Stopped\",$D251)),0),\"Not required\")","v":"Stopped"},21185,{"$f":"IF(INTRO!$E$41=\"Endemic\", IF($J251>1, IF($J251=4, \"Unknown\", IF($J251=99, \"Surveillance\", E251)), 0),\"Not required\")","v":"Not required"},{"$f":"IF(INTRO!$E$41=\"Endemic\", IF($J251>1, IF($J251=4, \"Unknown\", IF($J251=99, \"Surveillance\", F251)), 0),\"Not required\")","v":"Not required"},{"$f":"IF(INTRO!$E$41=\"Endemic\", IF($J251>1, IF($J251=4, \"Unknown\", IF($J251=99, \"Surveillance\", ROUND(D251*INTRO!$E$51,0))), 0),\"Not required\")","v":"Not required"},{"$f":"IF(INTRO!$E$41=\"Endemic\", IF($J251>1, IF($J251=4, \"Unknown\", IF($J251=99, \"Surveillance\", SUM($N251:$P251))), 0),\"Not required\")","v":"Not required"},{"$f":"IF(INTRO!$E$43=\"Endemic\", IF($K251>1, IF($K251=4, \"Unknown\", IF($K251=99, \"Surveillance\", ROUND(E251*0.75,0))), 0),\"Not required\")","v":10295},{"$f":"IF(INTRO!$E$43=\"Endemic\", IF($K251>1, IF($K251=4, \"Unknown\", IF($K251=99, \"Surveillance\", F251)), 0),\"Not required\")","v":32334},0,{"$f":"IF(INTRO!$E$43=\"Endemic\", IF($K251>1, IF($K251=4, \"Unknown\", IF($K251=99, \"Surveillance\", SUM($R251:$T251))), 0),\"Not required\")","v":42629},0,2,null,1,null,null,null,null,null,null,null,null,21588,"Jomoro"]
[{"$f":"IF(INTRO!$E$33<>0,INTRO!$E$33, \" \")","v":"Ghana"},"Western","Mpohor",57449,{"$f":"IF(INTRO!$E$48=\"\",\"\",ROUND($D252*INTRO!$E$48,0))","v":5975},{"$f":"IF(INTRO!$E$49=\"\",\"\",ROUND($D252*INTRO!$E$49,0))","v":14075},{"$f":"IF(INTRO!$E$50=\"\",\"\",ROUND($D252*INTRO!$E$50,0))","v":37399},99,1,null,2,{"$f":"IF(INTRO!$E$37=\"Endemic\",IF($H252>0,IF($H252=4,\"Unknown\",IF($H252=99,\"Stopped\",$D252)),0),\"Not required\")","v":"Stopped"},49915,{"$f":"IF(INTRO!$E$41=\"Endemic\", IF($J252>1, IF($J252=4, \"Unknown\", IF($J252=99, \"Surveillance\", E252)), 0),\"Not required\")","v":"Not required"},{"$f":"IF(INTRO!$E$41=\"Endemic\", IF($J252>1, IF($J252=4, \"Unknown\", IF($J252=99, \"Surveillance\", F252)), 0),\"Not required\")","v":"Not required"},{"$f":"IF(INTRO!$E$41=\"Endemic\", IF($J252>1, IF($J252=4, \"Unknown\", IF($J252=99, \"Surveillance\", ROUND(D252*INTRO!$E$51,0))), 0),\"Not required\")","v":"Not required"},{"$f":"IF(INTRO!$E$41=\"Endemic\", IF($J252>1, IF($J252=4, \"Unknown\", IF($J252=99, \"Surveillance\", SUM($N252:$P252))), 0),\"Not required\")","v":"Not required"},{"$f":"IF(INTRO!$E$43=\"Endemic\", IF($K252>1, IF($K252=4, \"Unknown\", IF($K252=99, \"Surveillance\", ROUND(E252*0.75,0))), 0),\"Not required\")","v":4481},{"$f":"IF(INTRO!$E$43=\"Endemic\", IF($K252>1, IF($K252=4, \"Unknown\", IF($K252=99, \"Surveillance\", F252)), 0),\"Not required\")","v":14075},0,{"$f":"IF(INTRO!$E$43=\"Endemic\", IF($K252>1, IF($K252=4, \"Unknown\", IF($K252=99, \"Surveillance\", SUM($R252:$T252))), 0),\"Not required\")","v":18556},0,2,null,1,null,null,null,null,null,null,null,null,21590,"Mpohor"]
[{"$f":"IF(INTRO!$E$33<>0,INTRO!$E$33, \" \")","v":"Ghana"},"Western","Nzema East",98658.3,{"$f":"IF(INTRO!$E$48=\"\",\"\",ROUND($D253*INTRO!$E$48,0))","v":10260},{"$f":"IF(INTRO!$E$49=\"\",\"\",ROUND($D253*INTRO!$E$49,0))","v":24171},{"$f":"IF(INTRO!$E$50=\"\",\"\",ROUND($D253*INTRO!$E$50,0))","v":64227},99,0,null,2,{"$f":"IF(INTRO!$E$37=\"Endemic\",IF($H253>0,IF($H253=4,\"Unknown\",IF($H253=99,\"Stopped\",$D253)),0),\"Not required\")","v":"Stopped"},0,{"$f":"IF(INTRO!$E$41=\"Endemic\", IF($J253>1, IF($J253=4, \"Unknown\", IF($J253=99, \"Surveillance\", E253)), 0),\"Not required\")","v":"Not required"},{"$f":"IF(INTRO!$E$41=\"Endemic\", IF($J253>1, IF($J253=4, \"Unknown\", IF($J253=99, \"Surveillance\", F253)), 0),\"Not required\")","v":"Not required"},{"$f":"IF(INTRO!$E$41=\"Endemic\", IF($J253>1, IF($J253=4, \"Unknown\", IF($J253=99, \"Surveillance\", ROUND(D253*INTRO!$E$51,0))), 0),\"Not required\")","v":"Not required"},{"$f":"IF(INTRO!$E$41=\"Endemic\", IF($J253>1, IF($J253=4, \"Unknown\", IF($J253=99, \"Surveillance\", SUM($N253:$P253))), 0),\"Not required\")","v":"Not required"},{"$f":"IF(INTRO!$E$43=\"Endemic\", IF($K253>1, IF($K253=4, \"Unknown\", IF($K253=99, \"Surveillance\", ROUND(E253*0.75,0))), 0),\"Not required\")","v":7695},{"$f":"IF(INTRO!$E$43=\"Endemic\", IF($K253>1, IF($K253=4, \"Unknown\", IF($K253=99, \"Surveillance\", F253)), 0),\"Not required\")","v":24171},0,{"$f":"IF(INTRO!$E$43=\"Endemic\", IF($K253>1, IF($K253=4, \"Unknown\", IF($K253=99, \"Surveillance\", SUM($R253:$T253))), 0),\"Not required\")","v":31866},0,0,null,1,null,null,null,null,null,null,null,null,21592,"Axim Municipal "]
[{"$f":"IF(INTRO!$E$33<>0,INTRO!$E$33, \" \")","v":"Ghana"},"Western","Prestea-Huni Valley",239085.5,{"$f":"IF(INTRO!$E$48=\"\",\"\",ROUND($D254*INTRO!$E$48,0))","v":24865},{"$f":"IF(INTRO!$E$49=\"\",\"\",ROUND($D254*INTRO!$E$49,0))","v":58576},{"$f":"IF(INTRO!$E$50=\"\",\"\",ROUND($D254*INTRO!$E$50,0))","v":155645},99,1,null,2,{"$f":"IF(INTRO!$E$37=\"Endemic\",IF($H254>0,IF($H254=4,\"Unknown\",IF($H254=99,\"Stopped\",$D254)),0),\"Not required\")","v":"Stopped"},97468,{"$f":"IF(INTRO!$E$41=\"Endemic\", IF($J254>1, IF($J254=4, \"Unknown\", IF($J254=99, \"Surveillance\", E254)), 0),\"Not required\")","v":"Not required"},{"$f":"IF(INTRO!$E$41=\"Endemic\", IF($J254>1, IF($J254=4, \"Unknown\", IF($J254=99, \"Surveillance\", F254)), 0),\"Not required\")","v":"Not required"},{"$f":"IF(INTRO!$E$41=\"Endemic\", IF($J254>1, IF($J254=4, \"Unknown\", IF($J254=99, \"Surveillance\", ROUND(D254*INTRO!$E$51,0))), 0),\"Not required\")","v":"Not required"},{"$f":"IF(INTRO!$E$41=\"Endemic\", IF($J254>1, IF($J254=4, \"Unknown\", IF($J254=99, \"Surveillance\", SUM($N254:$P254))), 0),\"Not required\")","v":"Not required"},{"$f":"IF(INTRO!$E$43=\"Endemic\", IF($K254>1, IF($K254=4, \"Unknown\", IF($K254=99, \"Surveillance\", ROUND(E254*0.75,0))), 0),\"Not required\")","v":18649},{"$f":"IF(INTRO!$E$43=\"Endemic\", IF($K254>1, IF($K254=4, \"Unknown\", IF($K254=99, \"Surveillance\", F254)), 0),\"Not required\")","v":58576},0,{"$f":"IF(INTRO!$E$43=\"Endemic\", IF($K254>1, IF($K254=4, \"Unknown\", IF($K254=99, \"Surveillance\", SUM($R254:$T254))), 0),\"Not required\")","v":77225},0,2,null,1,null,null,null,null,null,null,null,null,21593,"Prestea-Huni-Valley"]
[{"$f":"IF(INTRO!$E$33<>0,INTRO!$E$33, \" \")","v":"Ghana"},"Western","Sekondi-Takoradi",255852.3,{"$f":"IF(INTRO!$E$48=\"\",\"\",ROUND($D255*INTRO!$E$48,0))","v":26609},{"$f":"IF(INTRO!$E$49=\"\",\"\",ROUND($D255*INTRO!$E$49,0))","v":62684},{"$f":"IF(INTRO!$E$50=\"\",\"\",ROUND($D255*INTRO!$E$50,0))","v":166560},99,0,null,2,{"$f":"IF(INTRO!$E$37=\"Endemic\",IF($H255>0,IF($H255=4,\"Unknown\",IF($H255=99,\"Stopped\",$D255)),0),\"Not required\")","v":"Stopped"},0,{"$f":"IF(INTRO!$E$41=\"Endemic\", IF($J255>1, IF($J255=4, \"Unknown\", IF($J255=99, \"Surveillance\", E255)), 0),\"Not required\")","v":"Not required"},{"$f":"IF(INTRO!$E$41=\"Endemic\", IF($J255>1, IF($J255=4, \"Unknown\", IF($J255=99, \"Surveillance\", F255)), 0),\"Not required\")","v":"Not required"},{"$f":"IF(INTRO!$E$41=\"Endemic\", IF($J255>1, IF($J255=4, \"Unknown\", IF($J255=99, \"Surveillance\", ROUND(D255*INTRO!$E$51,0))), 0),\"Not required\")","v":"Not required"},{"$f":"IF(INTRO!$E$41=\"Endemic\", IF($J255>1, IF($J255=4, \"Unknown\", IF($J255=99, \"Surveillance\", SUM($N255:$P255))), 0),\"Not required\")","v":"Not required"},{"$f":"IF(INTRO!$E$43=\"Endemic\", IF($K255>1, IF($K255=4, \"Unknown\", IF($K255=99, \"Surveillance\", ROUND(E255*0.75,0))), 0),\"Not required\")","v":19957},{"$f":"IF(INTRO!$E$43=\"Endemic\", IF($K255>1, IF($K255=4, \"Unknown\", IF($K255=99, \"Surveillance\", F255)), 0),\"Not required\")","v":62684},0,{"$f":"IF(INTRO!$E$43=\"Endemic\", IF($K255>1, IF($K255=4, \"Unknown\", IF($K255=99, \"Surveillance\", SUM($R255:$T255))), 0),\"Not required\")","v":82641},0,0,null,1,null,null,null,null,null,null,null,null,21678,"Sekondi-Takoradi"]
[{"$f":"IF(INTRO!$E$33<>0,INTRO!$E$33, \" \")","v":"Ghana"},"Western","Shama",122224.9,{"$f":"IF(INTRO!$E$48=\"\",\"\",ROUND($D256*INTRO!$E$48,0))","v":12711},{"$f":"IF(INTRO!$E$49=\"\",\"\",ROUND($D256*INTRO!$E$49,0))","v":29945},{"$f":"IF(INTRO!$E$50=\"\",\"\",ROUND($D256*INTRO!$E$50,0))","v":79568},99,0,null,2,{"$f":"IF(INTRO!$E$37=\"Endemic\",IF($H256>0,IF($H256=4,\"Unknown\",IF($H256=99,\"Stopped\",$D256)),0),\"Not required\")","v":"Stopped"},0,{"$f":"IF(INTRO!$E$41=\"Endemic\", IF($J256>1, IF($J256=4, \"Unknown\", IF($J256=99, \"Surveillance\", E256)), 0),\"Not required\")","v":"Not required"},{"$f":"IF(INTRO!$E$41=\"Endemic\", IF($J256>1, IF($J256=4, \"Unknown\", IF($J256=99, \"Surveillance\", F256)), 0),\"Not required\")","v":"Not required"},{"$f":"IF(INTRO!$E$41=\"Endemic\", IF($J256>1, IF($J256=4, \"Unknown\", IF($J256=99, \"Surveillance\", ROUND(D256*INTRO!$E$51,0))), 0),\"Not required\")","v":"Not required"},{"$f":"IF(INTRO!$E$41=\"Endemic\", IF($J256>1, IF($J256=4, \"Unknown\", IF($J256=99, \"Surveillance\", SUM($N256:$P256))), 0),\"Not required\")","v":"Not required"},{"$f":"IF(INTRO!$E$43=\"Endemic\", IF($K256>1, IF($K256=4, \"Unknown\", IF($K256=99, \"Surveillance\", ROUND(E256*0.75,0))), 0),\"Not required\")","v":9533},{"$f":"IF(INTRO!$E$43=\"Endemic\", IF($K256>1, IF($K256=4, \"Unknown\", IF($K256=99, \"Surveillance\", F256)), 0),\"Not required\")","v":29945},0,{"$f":"IF(INTRO!$E$43=\"Endemic\", IF($K256>1, IF($K256=4, \"Unknown\", IF($K256=99, \"Surveillance\", SUM($R256:$T256))), 0),\"Not required\")","v":39478},0,0,null,1,null,null,null,null,null,null,null,null,21597,"Shama"]
[{"$f":"IF(INTRO!$E$33<>0,INTRO!$E$33, \" \")","v":"Ghana"},"Western","Tarkwa-Nsuaem",227992.4,{"$f":"IF(INTRO!$E$48=\"\",\"\",ROUND($D257*INTRO!$E$48,0))","v":23711},{"$f":"IF(INTRO!$E$49=\"\",\"\",ROUND($D257*INTRO!$E$49,0))","v":55858},{"$f":"IF(INTRO!$E$50=\"\",\"\",ROUND($D257*INTRO!$E$50,0))","v":148423},99,1,null,2,{"$f":"IF(INTRO!$E$37=\"Endemic\",IF($H257>0,IF($H257=4,\"Unknown\",IF($H257=99,\"Stopped\",$D257)),0),\"Not required\")","v":"Stopped"},103912,{"$f":"IF(INTRO!$E$41=\"Endemic\", IF($J257>1, IF($J257=4, \"Unknown\", IF($J257=99, \"Surveillance\", E257)), 0),\"Not required\")","v":"Not required"},{"$f":"IF(INTRO!$E$41=\"Endemic\", IF($J257>1, IF($J257=4, \"Unknown\", IF($J257=99, \"Surveillance\", F257)), 0),\"Not required\")","v":"Not required"},{"$f":"IF(INTRO!$E$41=\"Endemic\", IF($J257>1, IF($J257=4, \"Unknown\", IF($J257=99, \"Surveillance\", ROUND(D257*INTRO!$E$51,0))), 0),\"Not required\")","v":"Not required"},{"$f":"IF(INTRO!$E$41=\"Endemic\", IF($J257>1, IF($J257=4, \"Unknown\", IF($J257=99, \"Surveillance\", SUM($N257:$P257))), 0),\"Not required\")","v":"Not required"},{"$f":"IF(INTRO!$E$43=\"Endemic\", IF($K257>1, IF($K257=4, \"Unknown\", IF($K257=99, \"Surveillance\", ROUND(E257*0.75,0))), 0),\"Not required\")","v":17783},{"$f":"IF(INTRO!$E$43=\"Endemic\", IF($K257>1, IF($K257=4, \"Unknown\", IF($K257=99, \"Surveillance\", F257)), 0),\"Not required\")","v":55858},0,{"$f":"IF(INTRO!$E$43=\"Endemic\", IF($K257>1, IF($K257=4, \"Unknown\", IF($K257=99, \"Surveillance\", SUM($R257:$T257))), 0),\"Not required\")","v":73641},0,2,null,1,null,null,null,null,null,null,null,null,21599,"Tarkwa-Nsuaem"]
[{"$f":"IF(INTRO!$E$33<>0,INTRO!$E$33, \" \")","v":"Ghana"},"Western","Wassa Amenfi Central",124200.6,{"$f":"IF(INTRO!$E$48=\"\",\"\",ROUND($D258*INTRO!$E$48,0))","v":12917},{"$f":"IF(INTRO!$E$49=\"\",\"\",ROUND($D258*INTRO!$E$49,0))","v":30429},{"$f":"IF(INTRO!$E$50=\"\",\"\",ROUND($D258*INTRO!$E$50,0))","v":80855},0,1,null,2,{"$f":"IF(INTRO!$E$37=\"Endemic\",IF($H258>0,IF($H258=4,\"Unknown\",IF($H258=99,\"Stopped\",$D258)),0),\"Not required\")","v":0},72250,{"$f":"IF(INTRO!$E$41=\"Endemic\", IF($J258>1, IF($J258=4, \"Unknown\", IF($J258=99, \"Surveillance\", E258)), 0),\"Not required\")","v":"Not required"},{"$f":"IF(INTRO!$E$41=\"Endemic\", IF($J258>1, IF($J258=4, \"Unknown\", IF($J258=99, \"Surveillance\", F258)), 0),\"Not required\")","v":"Not required"},{"$f":"IF(INTRO!$E$41=\"Endemic\", IF($J258>1, IF($J258=4, \"Unknown\", IF($J258=99, \"Surveillance\", ROUND(D258*INTRO!$E$51,0))), 0),\"Not required\")","v":"Not required"},{"$f":"IF(INTRO!$E$41=\"Endemic\", IF($J258>1, IF($J258=4, \"Unknown\", IF($J258=99, \"Surveillance\", SUM($N258:$P258))), 0),\"Not required\")","v":"Not required"},{"$f":"IF(INTRO!$E$43=\"Endemic\", IF($K258>1, IF($K258=4, \"Unknown\", IF($K258=99, \"Surveillance\", ROUND(E258*0.75,0))), 0),\"Not required\")","v":9688},{"$f":"IF(INTRO!$E$43=\"Endemic\", IF($K258>1, IF($K258=4, \"Unknown\", IF($K258=99, \"Surveillance\", F258)), 0),\"Not required\")","v":30429},0,{"$f":"IF(INTRO!$E$43=\"Endemic\", IF($K258>1, IF($K258=4, \"Unknown\", IF($K258=99, \"Surveillance\", SUM($R258:$T258))), 0),\"Not required\")","v":40117},0,2,null,1,null,null,null,null,null,null,null,null,21600,"Wassa Amenfi Central"]
[{"$f":"IF(INTRO!$E$33<>0,INTRO!$E$33, \" \")","v":"Ghana"},"Western","Wassa Amenfi East",187361.7,{"$f":"IF(INTRO!$E$48=\"\",\"\",ROUND($D259*INTRO!$E$48,0))","v":19486},{"$f":"IF(INTRO!$E$49=\"\",\"\",ROUND($D259*INTRO!$E$49,0))","v":45904},{"$f":"IF(INTRO!$E$50=\"\",\"\",ROUND($D259*INTRO!$E$50,0))","v":121972},0,1,null,2,{"$f":"IF(INTRO!$E$37=\"Endemic\",IF($H259>0,IF($H259=4,\"Unknown\",IF($H259=99,\"Stopped\",$D259)),0),\"Not required\")","v":0},90321,{"$f":"IF(INTRO!$E$41=\"Endemic\", IF($J259>1, IF($J259=4, \"Unknown\", IF($J259=99, \"Surveillance\", E259)), 0),\"Not required\")","v":"Not required"},{"$f":"IF(INTRO!$E$41=\"Endemic\", IF($J259>1, IF($J259=4, \"Unknown\", IF($J259=99, \"Surveillance\", F259)), 0),\"Not required\")","v":"Not required"},{"$f":"IF(INTRO!$E$41=\"Endemic\", IF($J259>1, IF($J259=4, \"Unknown\", IF($J259=99, \"Surveillance\", ROUND(D259*INTRO!$E$51,0))), 0),\"Not required\")","v":"Not required"},{"$f":"IF(INTRO!$E$41=\"Endemic\", IF($J259>1, IF($J259=4, \"Unknown\", IF($J259=99, \"Surveillance\", SUM($N259:$P259))), 0),\"Not required\")","v":"Not required"},{"$f":"IF(INTRO!$E$43=\"Endemic\", IF($K259>1, IF($K259=4, \"Unknown\", IF($K259=99, \"Surveillance\", ROUND(E259*0.75,0))), 0),\"Not required\")","v":14615},{"$f":"IF(INTRO!$E$43=\"Endemic\", IF($K259>1, IF($K259=4, \"Unknown\", IF($K259=99, \"Surveillance\", F259)), 0),\"Not required\")","v":45904},0,{"$f":"IF(INTRO!$E$43=\"Endemic\", IF($K259>1, IF($K259=4, \"Unknown\", IF($K259=99, \"Surveillance\", SUM($R259:$T259))), 0),\"Not required\")","v":60519},0,2,null,1,null,null,null,null,null,null,null,null,21602,"Wassa-Amenfi East"]
[{"$f":"IF(INTRO!$E$33<>0,INTRO!$E$33, \" \")","v":"Ghana"},"Western","Wassa Amenfi West",135423.4,{"$f":"IF(INTRO!$E$48=\"\",\"\",ROUND($D260*INTRO!$E$48,0))","v":14084},{"$f":"IF(INTRO!$E$49=\"\",\"\",ROUND($D260*INTRO!$E$49,0))","v":33179},{"$f":"IF(INTRO!$E$50=\"\",\"\",ROUND($D260*INTRO!$E$50,0))","v":88161},0,1,null,3,{"$f":"IF(INTRO!$E$37=\"Endemic\",IF($H260>0,IF($H260=4,\"Unknown\",IF($H260=99,\"Stopped\",$D260)),0),\"Not required\")","v":0},97632,{"$f":"IF(INTRO!$E$41=\"Endemic\", IF($J260>1, IF($J260=4, \"Unknown\", IF($J260=99, \"Surveillance\", E260)), 0),\"Not required\")","v":"Not required"},{"$f":"IF(INTRO!$E$41=\"Endemic\", IF($J260>1, IF($J260=4, \"Unknown\", IF($J260=99, \"Surveillance\", F260)), 0),\"Not required\")","v":"Not required"},{"$f":"IF(INTRO!$E$41=\"Endemic\", IF($J260>1, IF($J260=4, \"Unknown\", IF($J260=99, \"Surveillance\", ROUND(D260*INTRO!$E$51,0))), 0),\"Not required\")","v":"Not required"},{"$f":"IF(INTRO!$E$41=\"Endemic\", IF($J260>1, IF($J260=4, \"Unknown\", IF($J260=99, \"Surveillance\", SUM($N260:$P260))), 0),\"Not required\")","v":"Not required"},{"$f":"IF(INTRO!$E$43=\"Endemic\", IF($K260>1, IF($K260=4, \"Unknown\", IF($K260=99, \"Surveillance\", ROUND(E260*0.75,0))), 0),\"Not required\")","v":10563},{"$f":"IF(INTRO!$E$43=\"Endemic\", IF($K260>1, IF($K260=4, \"Unknown\", IF($K260=99, \"Surveillance\", F260)), 0),\"Not required\")","v":33179},{"$f":"IF(INTRO!$E$43=\"Endemic\", IF($K260>1, IF($K260=4, \"Unknown\", IF($K260=99, \"Surveillance\", G260)), 0),\"Not required\")","v":88161},{"$f":"IF(INTRO!$E$43=\"Endemic\", IF($K260>1, IF($K260=4, \"Unknown\", IF($K260=99, \"Surveillance\", SUM($R260:$T260))), 0),\"Not required\")","v":131903},0,2,null,1,null,null,null,null,null,null,null,null,21603,"Wassa-Amenfi West"]
[{"$f":"IF(INTRO!$E$33<>0,INTRO!$E$33, \" \")","v":"Ghana"},"Western","Wassa East",103892.9,{"$f":"IF(INTRO!$E$48=\"\",\"\",ROUND($D261*INTRO!$E$48,0))","v":10805},{"$f":"IF(INTRO!$E$49=\"\",\"\",ROUND($D261*INTRO!$E$49,0))","v":25454},{"$f":"IF(INTRO!$E$50=\"\",\"\",ROUND($D261*INTRO!$E$50,0))","v":67634},99,1,null,2,{"$f":"IF(INTRO!$E$37=\"Endemic\",IF($H261>0,IF($H261=4,\"Unknown\",IF($H261=99,\"Stopped\",$D261)),0),\"Not required\")","v":"Stopped"},90511,{"$f":"IF(INTRO!$E$41=\"Endemic\", IF($J261>1, IF($J261=4, \"Unknown\", IF($J261=99, \"Surveillance\", E261)), 0),\"Not required\")","v":"Not required"},{"$f":"IF(INTRO!$E$41=\"Endemic\", IF($J261>1, IF($J261=4, \"Unknown\", IF($J261=99, \"Surveillance\", F261)), 0),\"Not required\")","v":"Not required"},{"$f":"IF(INTRO!$E$41=\"Endemic\", IF($J261>1, IF($J261=4, \"Unknown\", IF($J261=99, \"Surveillance\", ROUND(D261*INTRO!$E$51,0))), 0),\"Not required\")","v":"Not required"},{"$f":"IF(INTRO!$E$41=\"Endemic\", IF($J261>1, IF($J261=4, \"Unknown\", IF($J261=99, \"Surveillance\", SUM($N261:$P261))), 0),\"Not required\")","v":"Not required"},{"$f":"IF(INTRO!$E$43=\"Endemic\", IF($K261>1, IF($K261=4, \"Unknown\", IF($K261=99, \"Surveillance\", ROUND(E261*0.75,0))), 0),\"Not required\")","v":8104},{"$f":"IF(INTRO!$E$43=\"Endemic\", IF($K261>1, IF($K261=4, \"Unknown\", IF($K261=99, \"Surveillance\", F261)), 0),\"Not required\")","v":25454},0,{"$f":"IF(INTRO!$E$43=\"Endemic\", IF($K261>1, IF($K261=4, \"Unknown\", IF($K261=99, \"Surveillance\", SUM($R261:$T261))), 0),\"Not required\")","v":33558},0,2,null,1,null,null,null,null,null,null,null,null,21601,"Wassa East"]
[{"$f":"IF(INTRO!$E$33<>0,INTRO!$E$33, \" \")","v":"Ghana"},"Western North","Aowin",135226.29999999999,{"$f":"IF(INTRO!$E$48=\"\",\"\",ROUND($D262*INTRO!$E$48,0))","v":14064},{"$f":"IF(INTRO!$E$49=\"\",\"\",ROUND($D262*INTRO!$E$49,0))","v":33130},{"$f":"IF(INTRO!$E$50=\"\",\"\",ROUND($D262*INTRO!$E$50,0))","v":88032},99,1,null,1,{"$f":"IF(INTRO!$E$37=\"Endemic\",IF($H262>0,IF($H262=4,\"Unknown\",IF($H262=99,\"Stopped\",$D262)),0),\"Not required\")","v":"Stopped"},138648,{"$f":"IF(INTRO!$E$41=\"Endemic\", IF($J262>1, IF($J262=4, \"Unknown\", IF($J262=99, \"Surveillance\", E262)), 0),\"Not required\")","v":"Not required"},{"$f":"IF(INTRO!$E$41=\"Endemic\", IF($J262>1, IF($J262=4, \"Unknown\", IF($J262=99, \"Surveillance\", F262)), 0),\"Not required\")","v":"Not required"},{"$f":"IF(INTRO!$E$41=\"Endemic\", IF($J262>1, IF($J262=4, \"Unknown\", IF($J262=99, \"Surveillance\", ROUND(D262*INTRO!$E$51,0))), 0),\"Not required\")","v":"Not required"},{"$f":"IF(INTRO!$E$41=\"Endemic\", IF($J262>1, IF($J262=4, \"Unknown\", IF($J262=99, \"Surveillance\", SUM($N262:$P262))), 0),\"Not required\")","v":"Not required"},{"$f":"IF(INTRO!$E$43=\"Endemic\", IF($K262>1, IF($K262=4, \"Unknown\", IF($K262=99, \"Surveillance\", ROUND(E262*0.75,0))), 0),\"Not required\")","v":0},{"$f":"IF(INTRO!$E$43=\"Endemic\", IF($K262>1, IF($K262=4, \"Unknown\", IF($K262=99, \"Surveillance\", F262)), 0),\"Not required\")","v":0},{"$f":"IF(INTRO!$E$43=\"Endemic\", IF($K262>1, IF($K262=4, \"Unknown\", IF($K262=99, \"Surveillance\", G262)), 0),\"Not required\")","v":0},{"$f":"IF(INTRO!$E$43=\"Endemic\", IF($K262>1, IF($K262=4, \"Unknown\", IF($K262=99, \"Surveillance\", SUM($R262:$T262))), 0),\"Not required\")","v":0},0,2,null,1,null,null,null,null,null,null,null,null,21581,"Aowin"]
[{"$f":"IF(INTRO!$E$33<>0,INTRO!$E$33, \" \")","v":"Ghana"},"Western North","Bia East",55325.9,{"$f":"IF(INTRO!$E$48=\"\",\"\",ROUND($D263*INTRO!$E$48,0))","v":5754},{"$f":"IF(INTRO!$E$49=\"\",\"\",ROUND($D263*INTRO!$E$49,0))","v":13555},{"$f":"IF(INTRO!$E$50=\"\",\"\",ROUND($D263*INTRO!$E$50,0))","v":36017},0,1,null,2,{"$f":"IF(INTRO!$E$37=\"Endemic\",IF($H263>0,IF($H263=4,\"Unknown\",IF($H263=99,\"Stopped\",$D263)),0),\"Not required\")","v":0},33265,{"$f":"IF(INTRO!$E$41=\"Endemic\", IF($J263>1, IF($J263=4, \"Unknown\", IF($J263=99, \"Surveillance\", E263)), 0),\"Not required\")","v":"Not required"},{"$f":"IF(INTRO!$E$41=\"Endemic\", IF($J263>1, IF($J263=4, \"Unknown\", IF($J263=99, \"Surveillance\", F263)), 0),\"Not required\")","v":"Not required"},{"$f":"IF(INTRO!$E$41=\"Endemic\", IF($J263>1, IF($J263=4, \"Unknown\", IF($J263=99, \"Surveillance\", ROUND(D263*INTRO!$E$51,0))), 0),\"Not required\")","v":"Not required"},{"$f":"IF(INTRO!$E$41=\"Endemic\", IF($J263>1, IF($J263=4, \"Unknown\", IF($J263=99, \"Surveillance\", SUM($N263:$P263))), 0),\"Not required\")","v":"Not required"},{"$f":"IF(INTRO!$E$43=\"Endemic\", IF($K263>1, IF($K263=4, \"Unknown\", IF($K263=99, \"Surveillance\", ROUND(E263*0.75,0))), 0),\"Not required\")","v":4316},{"$f":"IF(INTRO!$E$43=\"Endemic\", IF($K263>1, IF($K263=4, \"Unknown\", IF($K263=99, \"Surveillance\", F263)), 0),\"Not required\")","v":13555},0,{"$f":"IF(INTRO!$E$43=\"Endemic\", IF($K263>1, IF($K263=4, \"Unknown\", IF($K263=99, \"Surveillance\", SUM($R263:$T263))), 0),\"Not required\")","v":17871},0,2,null,1,null,null,null,null,null,null,null,null,21583,"Bia East"]
[{"$f":"IF(INTRO!$E$33<>0,INTRO!$E$33, \" \")","v":"Ghana"},"Western North","Bia West",120799.6,{"$f":"IF(INTRO!$E$48=\"\",\"\",ROUND($D264*INTRO!$E$48,0))","v":12563},{"$f":"IF(INTRO!$E$49=\"\",\"\",ROUND($D264*INTRO!$E$49,0))","v":29596},{"$f":"IF(INTRO!$E$50=\"\",\"\",ROUND($D264*INTRO!$E$50,0))","v":78641},0,1,null,2,{"$f":"IF(INTRO!$E$37=\"Endemic\",IF($H264>0,IF($H264=4,\"Unknown\",IF($H264=99,\"Stopped\",$D264)),0),\"Not required\")","v":0},94824,{"$f":"IF(INTRO!$E$41=\"Endemic\", IF($J264>1, IF($J264=4, \"Unknown\", IF($J264=99, \"Surveillance\", E264)), 0),\"Not required\")","v":"Not required"},{"$f":"IF(INTRO!$E$41=\"Endemic\", IF($J264>1, IF($J264=4, \"Unknown\", IF($J264=99, \"Surveillance\", F264)), 0),\"Not required\")","v":"Not required"},{"$f":"IF(INTRO!$E$41=\"Endemic\", IF($J264>1, IF($J264=4, \"Unknown\", IF($J264=99, \"Surveillance\", ROUND(D264*INTRO!$E$51,0))), 0),\"Not required\")","v":"Not required"},{"$f":"IF(INTRO!$E$41=\"Endemic\", IF($J264>1, IF($J264=4, \"Unknown\", IF($J264=99, \"Surveillance\", SUM($N264:$P264))), 0),\"Not required\")","v":"Not required"},{"$f":"IF(INTRO!$E$43=\"Endemic\", IF($K264>1, IF($K264=4, \"Unknown\", IF($K264=99, \"Surveillance\", ROUND(E264*0.75,0))), 0),\"Not required\")","v":9422},{"$f":"IF(INTRO!$E$43=\"Endemic\", IF($K264>1, IF($K264=4, \"Unknown\", IF($K264=99, \"Surveillance\", F264)), 0),\"Not required\")","v":29596},0,{"$f":"IF(INTRO!$E$43=\"Endemic\", IF($K264>1, IF($K264=4, \"Unknown\", IF($K264=99, \"Surveillance\", SUM($R264:$T264))), 0),\"Not required\")","v":39018},0,2,null,1,null,null,null,null,null,null,null,null,21584,"Bia West"]
[{"$f":"IF(INTRO!$E$33<>0,INTRO!$E$33, \" \")","v":"Ghana"},"Western North","Bibiani-Anhwiaso-Bekwai",175099.9,{"$f":"IF(INTRO!$E$48=\"\",\"\",ROUND($D265*INTRO!$E$48,0))","v":18210},{"$f":"IF(INTRO!$E$49=\"\",\"\",ROUND($D265*INTRO!$E$49,0))","v":42899},{"$f":"IF(INTRO!$E$50=\"\",\"\",ROUND($D265*INTRO!$E$50,0))","v":113990},0,1,null,2,{"$f":"IF(INTRO!$E$37=\"Endemic\",IF($H265>0,IF($H265=4,\"Unknown\",IF($H265=99,\"Stopped\",$D265)),0),\"Not required\")","v":0},129939,{"$f":"IF(INTRO!$E$41=\"Endemic\", IF($J265>1, IF($J265=4, \"Unknown\", IF($J265=99, \"Surveillance\", E265)), 0),\"Not required\")","v":"Not required"},{"$f":"IF(INTRO!$E$41=\"Endemic\", IF($J265>1, IF($J265=4, \"Unknown\", IF($J265=99, \"Surveillance\", F265)), 0),\"Not required\")","v":"Not required"},{"$f":"IF(INTRO!$E$41=\"Endemic\", IF($J265>1, IF($J265=4, \"Unknown\", IF($J265=99, \"Surveillance\", ROUND(D265*INTRO!$E$51,0))), 0),\"Not required\")","v":"Not required"},{"$f":"IF(INTRO!$E$41=\"Endemic\", IF($J265>1, IF($J265=4, \"Unknown\", IF($J265=99, \"Surveillance\", SUM($N265:$P265))), 0),\"Not required\")","v":"Not required"},{"$f":"IF(INTRO!$E$43=\"Endemic\", IF($K265>1, IF($K265=4, \"Unknown\", IF($K265=99, \"Surveillance\", ROUND(E265*0.75,0))), 0),\"Not required\")","v":13658},{"$f":"IF(INTRO!$E$43=\"Endemic\", IF($K265>1, IF($K265=4, \"Unknown\", IF($K265=99, \"Surveillance\", F265)), 0),\"Not required\")","v":42899},0,{"$f":"IF(INTRO!$E$43=\"Endemic\", IF($K265>1, IF($K265=4, \"Unknown\", IF($K265=99, \"Surveillance\", SUM($R265:$T265))), 0),\"Not required\")","v":56557},0,2,null,1,null,null,null,null,null,null,null,null,21585,"Bibiani-Anhwiaso-Bekwai"]
[{"$f":"IF(INTRO!$E$33<>0,INTRO!$E$33, \" \")","v":"Ghana"},"Western North","Bodi",68538.399999999994,{"$f":"IF(INTRO!$E$48=\"\",\"\",ROUND($D266*INTRO!$E$48,0))","v":7128},{"$f":"IF(INTRO!$E$49=\"\",\"\",ROUND($D266*INTRO!$E$49,0))","v":16792},{"$f":"IF(INTRO!$E$50=\"\",\"\",ROUND($D266*INTRO!$E$50,0))","v":44618},0,1,null,2,{"$f":"IF(INTRO!$E$37=\"Endemic\",IF($H266>0,IF($H266=4,\"Unknown\",IF($H266=99,\"Stopped\",$D266)),0),\"Not required\")","v":0},55685,{"$f":"IF(INTRO!$E$41=\"Endemic\", IF($J266>1, IF($J266=4, \"Unknown\", IF($J266=99, \"Surveillance\", E266)), 0),\"Not required\")","v":"Not required"},{"$f":"IF(INTRO!$E$41=\"Endemic\", IF($J266>1, IF($J266=4, \"Unknown\", IF($J266=99, \"Surveillance\", F266)), 0),\"Not required\")","v":"Not required"},{"$f":"IF(INTRO!$E$41=\"Endemic\", IF($J266>1, IF($J266=4, \"Unknown\", IF($J266=99, \"Surveillance\", ROUND(D266*INTRO!$E$51,0))), 0),\"Not required\")","v":"Not required"},{"$f":"IF(INTRO!$E$41=\"Endemic\", IF($J266>1, IF($J266=4, \"Unknown\", IF($J266=99, \"Surveillance\", SUM($N266:$P266))), 0),\"Not required\")","v":"Not required"},{"$f":"IF(INTRO!$E$43=\"Endemic\", IF($K266>1, IF($K266=4, \"Unknown\", IF($K266=99, \"Surveillance\", ROUND(E266*0.75,0))), 0),\"Not required\")","v":5346},{"$f":"IF(INTRO!$E$43=\"Endemic\", IF($K266>1, IF($K266=4, \"Unknown\", IF($K266=99, \"Surveillance\", F266)), 0),\"Not required\")","v":16792},0,{"$f":"IF(INTRO!$E$43=\"Endemic\", IF($K266>1, IF($K266=4, \"Unknown\", IF($K266=99, \"Surveillance\", SUM($R266:$T266))), 0),\"Not required\")","v":22138},0,2,null,1,null,null,null,null,null,null,null,null,21586,"Bodi"]
[{"$f":"IF(INTRO!$E$33<>0,INTRO!$E$33, \" \")","v":"Ghana"},"Western North","Juaboso",92583.3,{"$f":"IF(INTRO!$E$48=\"\",\"\",ROUND($D267*INTRO!$E$48,0))","v":9629},{"$f":"IF(INTRO!$E$49=\"\",\"\",ROUND($D267*INTRO!$E$49,0))","v":22683},{"$f":"IF(INTRO!$E$50=\"\",\"\",ROUND($D267*INTRO!$E$50,0))","v":60272},0,1,null,2,{"$f":"IF(INTRO!$E$37=\"Endemic\",IF($H267>0,IF($H267=4,\"Unknown\",IF($H267=99,\"Stopped\",$D267)),0),\"Not required\")","v":0},62107,{"$f":"IF(INTRO!$E$41=\"Endemic\", IF($J267>1, IF($J267=4, \"Unknown\", IF($J267=99, \"Surveillance\", E267)), 0),\"Not required\")","v":"Not required"},{"$f":"IF(INTRO!$E$41=\"Endemic\", IF($J267>1, IF($J267=4, \"Unknown\", IF($J267=99, \"Surveillance\", F267)), 0),\"Not required\")","v":"Not required"},{"$f":"IF(INTRO!$E$41=\"Endemic\", IF($J267>1, IF($J267=4, \"Unknown\", IF($J267=99, \"Surveillance\", ROUND(D267*INTRO!$E$51,0))), 0),\"Not required\")","v":"Not required"},{"$f":"IF(INTRO!$E$41=\"Endemic\", IF($J267>1, IF($J267=4, \"Unknown\", IF($J267=99, \"Surveillance\", SUM($N267:$P267))), 0),\"Not required\")","v":"Not required"},{"$f":"IF(INTRO!$E$43=\"Endemic\", IF($K267>1, IF($K267=4, \"Unknown\", IF($K267=99, \"Surveillance\", ROUND(E267*0.75,0))), 0),\"Not required\")","v":7222},{"$f":"IF(INTRO!$E$43=\"Endemic\", IF($K267>1, IF($K267=4, \"Unknown\", IF($K267=99, \"Surveillance\", F267)), 0),\"Not required\")","v":22683},0,{"$f":"IF(INTRO!$E$43=\"Endemic\", IF($K267>1, IF($K267=4, \"Unknown\", IF($K267=99, \"Surveillance\", SUM($R267:$T267))), 0),\"Not required\")","v":29905},0,2,null,1,null,null,null,null,null,null,null,null,21589,"Juabeso"]
[{"$f":"IF(INTRO!$E$33<>0,INTRO!$E$33, \" \")","v":"Ghana"},"Western North","Sefwi-Akontombra",73205.7,{"$f":"IF(INTRO!$E$48=\"\",\"\",ROUND($D268*INTRO!$E$48,0))","v":7613},{"$f":"IF(INTRO!$E$49=\"\",\"\",ROUND($D268*INTRO!$E$49,0))","v":17935},{"$f":"IF(INTRO!$E$50=\"\",\"\",ROUND($D268*INTRO!$E$50,0))","v":47657},0,1,null,2,{"$f":"IF(INTRO!$E$37=\"Endemic\",IF($H268>0,IF($H268=4,\"Unknown\",IF($H268=99,\"Stopped\",$D268)),0),\"Not required\")","v":0},86927,{"$f":"IF(INTRO!$E$41=\"Endemic\", IF($J268>1, IF($J268=4, \"Unknown\", IF($J268=99, \"Surveillance\", E268)), 0),\"Not required\")","v":"Not required"},{"$f":"IF(INTRO!$E$41=\"Endemic\", IF($J268>1, IF($J268=4, \"Unknown\", IF($J268=99, \"Surveillance\", F268)), 0),\"Not required\")","v":"Not required"},{"$f":"IF(INTRO!$E$41=\"Endemic\", IF($J268>1, IF($J268=4, \"Unknown\", IF($J268=99, \"Surveillance\", ROUND(D268*INTRO!$E$51,0))), 0),\"Not required\")","v":"Not required"},{"$f":"IF(INTRO!$E$41=\"Endemic\", IF($J268>1, IF($J268=4, \"Unknown\", IF($J268=99, \"Surveillance\", SUM($N268:$P268))), 0),\"Not required\")","v":"Not required"},{"$f":"IF(INTRO!$E$43=\"Endemic\", IF($K268>1, IF($K268=4, \"Unknown\", IF($K268=99, \"Surveillance\", ROUND(E268*0.75,0))), 0),\"Not required\")","v":5710},{"$f":"IF(INTRO!$E$43=\"Endemic\", IF($K268>1, IF($K268=4, \"Unknown\", IF($K268=99, \"Surveillance\", F268)), 0),\"Not required\")","v":17935},0,{"$f":"IF(INTRO!$E$43=\"Endemic\", IF($K268>1, IF($K268=4, \"Unknown\", IF($K268=99, \"Surveillance\", SUM($R268:$T268))), 0),\"Not required\")","v":23645},0,2,null,1,null,null,null,null,null,null,null,null,21594,"Sefwi-Akontombra"]
[{"$f":"IF(INTRO!$E$33<>0,INTRO!$E$33, \" \")","v":"Ghana"},"Western North","Sefwi-Wiawso",157638,{"$f":"IF(INTRO!$E$48=\"\",\"\",ROUND($D269*INTRO!$E$48,0))","v":16394},{"$f":"IF(INTRO!$E$49=\"\",\"\",ROUND($D269*INTRO!$E$49,0))","v":38621},{"$f":"IF(INTRO!$E$50=\"\",\"\",ROUND($D269*INTRO!$E$50,0))","v":102622},0,1,null,2,{"$f":"IF(INTRO!$E$37=\"Endemic\",IF($H269>0,IF($H269=4,\"Unknown\",IF($H269=99,\"Stopped\",$D269)),0),\"Not required\")","v":0},152195,{"$f":"IF(INTRO!$E$41=\"Endemic\", IF($J269>1, IF($J269=4, \"Unknown\", IF($J269=99, \"Surveillance\", E269)), 0),\"Not required\")","v":"Not required"},{"$f":"IF(INTRO!$E$41=\"Endemic\", IF($J269>1, IF($J269=4, \"Unknown\", IF($J269=99, \"Surveillance\", F269)), 0),\"Not required\")","v":"Not required"},{"$f":"IF(INTRO!$E$41=\"Endemic\", IF($J269>1, IF($J269=4, \"Unknown\", IF($J269=99, \"Surveillance\", ROUND(D269*INTRO!$E$51,0))), 0),\"Not required\")","v":"Not required"},{"$f":"IF(INTRO!$E$41=\"Endemic\", IF($J269>1, IF($J269=4, \"Unknown\", IF($J269=99, \"Surveillance\", SUM($N269:$P269))), 0),\"Not required\")","v":"Not required"},{"$f":"IF(INTRO!$E$43=\"Endemic\", IF($K269>1, IF($K269=4, \"Unknown\", IF($K269=99, \"Surveillance\", ROUND(E269*0.75,0))), 0),\"Not required\")","v":12296},{"$f":"IF(INTRO!$E$43=\"Endemic\", IF($K269>1, IF($K269=4, \"Unknown\", IF($K269=99, \"Surveillance\", F269)), 0),\"Not required\")","v":38621},0,{"$f":"IF(INTRO!$E$43=\"Endemic\", IF($K269>1, IF($K269=4, \"Unknown\", IF($K269=99, \"Surveillance\", SUM($R269:$T269))), 0),\"Not required\")","v":50917},0,2,null,1,null,null,null,null,null,null,null,null,21595,"Sefwi-Wiawso"]
[{"$f":"IF(INTRO!$E$33<>0,INTRO!$E$33, \" \")","v":"Ghana"},"Western North","Suaman",39892.1,{"$f":"IF(INTRO!$E$48=\"\",\"\",ROUND($D270*INTRO!$E$48,0))","v":4149},{"$f":"IF(INTRO!$E$49=\"\",\"\",ROUND($D270*INTRO!$E$49,0))","v":9774},{"$f":"IF(INTRO!$E$50=\"\",\"\",ROUND($D270*INTRO!$E$50,0))","v":25970},99,1,null,1,{"$f":"IF(INTRO!$E$37=\"Endemic\",IF($H270>0,IF($H270=4,\"Unknown\",IF($H270=99,\"Stopped\",$D270)),0),\"Not required\")","v":"Stopped"},24951,{"$f":"IF(INTRO!$E$41=\"Endemic\", IF($J270>1, IF($J270=4, \"Unknown\", IF($J270=99, \"Surveillance\", E270)), 0),\"Not required\")","v":"Not required"},{"$f":"IF(INTRO!$E$41=\"Endemic\", IF($J270>1, IF($J270=4, \"Unknown\", IF($J270=99, \"Surveillance\", F270)), 0),\"Not required\")","v":"Not required"},{"$f":"IF(INTRO!$E$41=\"Endemic\", IF($J270>1, IF($J270=4, \"Unknown\", IF($J270=99, \"Surveillance\", ROUND(D270*INTRO!$E$51,0))), 0),\"Not required\")","v":"Not required"},{"$f":"IF(INTRO!$E$41=\"Endemic\", IF($J270>1, IF($J270=4, \"Unknown\", IF($J270=99, \"Surveillance\", SUM($N270:$P270))), 0),\"Not required\")","v":"Not required"},{"$f":"IF(INTRO!$E$43=\"Endemic\", IF($K270>1, IF($K270=4, \"Unknown\", IF($K270=99, \"Surveillance\", ROUND(E270*0.75,0))), 0),\"Not required\")","v":0},{"$f":"IF(INTRO!$E$43=\"Endemic\", IF($K270>1, IF($K270=4, \"Unknown\", IF($K270=99, \"Surveillance\", F270)), 0),\"Not required\")","v":0},{"$f":"IF(INTRO!$E$43=\"Endemic\", IF($K270>1, IF($K270=4, \"Unknown\", IF($K270=99, \"Surveillance\", G270)), 0),\"Not required\")","v":0},{"$f":"IF(INTRO!$E$43=\"Endemic\", IF($K270>1, IF($K270=4, \"Unknown\", IF($K270=99, \"Surveillance\", SUM($R270:$T270))), 0),\"Not required\")","v":0},0,2,null,1,null,null,null,null,null,null,null,null,21598,"Suaman"]

{"sheet":"DEC","index":2,"n_rows":270,"n_cols":12,"rows_kept":270,"cut":false,"hidden":true,"merged":[[3,0,3,2],[5,0,5,2],[6,5,7,5],[6,2,7,2],[6,1,7,1],[6,10,7,10],[6,0,7,0],[6,11,7,11],[5,3,5,6],[5,9,5,11],[6,4,7,4],[6,3,7,3],[6,8,7,8],[6,7,7,7],[6,6,7,6],[6,9,7,9]]}
["Diethylcarbamazine citrate (DEC)"]
["Administrative structure, eligible population by age group, treatment plan and information about tablets"]
[]
["TOTAL",null,null,{"$f":"SUBTOTAL(9,D$10:D$1010)","v":0},0,0,0,null,{"$f":"SUBTOTAL(9,I$10:I$1010)","v":0},0,0,0]
[]
["Country administrative structure",null,null,"Population requiring treatment with DEC",null,null,null,"Treatment plan","Target population","Diethylcarbamazine citrate (DEC)"]
["Country","Province/State","District","PreSAC","SAC","Adults","Total","LF","LF","Total required","Remaining in stock","Tablets to be procured"]
[]
[]
[{"$f":"IF(INTRO!$E$39<>\"Non-endemic\", \" \", IF(INTRO!$E$37=\"Non-endemic\",\" \", IF(COUNTRY_INFO!A10=0,\" \",COUNTRY_INFO!A10)))","v":" "},{"$f":"IF(INTRO!$E$39<>\"Non-endemic\", \" \", IF(INTRO!$E$37=\"Non-endemic\",\" \", IF(COUNTRY_INFO!B10=0,\" \",COUNTRY_INFO!B10)))","v":" "},{"$f":"IF(INTRO!$E$39<>\"Non-endemic\", \" \", IF(INTRO!$E$37=\"Non-endemic\",\" \", IF(COUNTRY_INFO!C10=0,\" \",COUNTRY_INFO!C10)))","v":" "},{"$f":"IF(INTRO!$E$39<>\"Non-endemic\", 0, IF(INTRO!$E$37=\"Non-endemic\",0,IF(COUNTRY_INFO!$H10=1,COUNTRY_INFO!E10,0)))","v":0},{"$f":"IF(INTRO!$E$39<>\"Non-endemic\", 0, IF(INTRO!$E$37=\"Non-endemic\",0,IF(COUNTRY_INFO!$H10=1,COUNTRY_INFO!F10,0)))","v":0},{"$f":"IF(INTRO!$E$39<>\"Non-endemic\", 0, IF(INTRO!$E$37=\"Non-endemic\",0,IF(COUNTRY_INFO!$H10=1,COUNTRY_INFO!G10,0)))","v":0},{"$f":"SUM(D10:F10)","v":0},{"$f":"IF(INTRO!$E$39=\"Non-endemic\",IF(INTRO!$E$37=\"Non-endemic\",\"Not required\",COUNTRY_INFO!V10),\"Treat with IVM\")","v":"Treat with IVM"},{"$f":"IF(H10=1,G10,0)","v":0},{"$f":"IF(I10>0,I10*2.5,0)","v":0},null,{"$f":"IF($J10>$K10,$J10-$K10,0)","v":0}]
[{"$f":"IF(INTRO!$E$39<>\"Non-endemic\", \" \", IF(INTRO!$E$37=\"Non-endemic\",\" \", IF(COUNTRY_INFO!A11=0,\" \",COUNTRY_INFO!A11)))","v":" "},{"$f":"IF(INTRO!$E$39<>\"Non-endemic\", \" \", IF(INTRO!$E$37=\"Non-endemic\",\" \", IF(COUNTRY_INFO!B11=0,\" \",COUNTRY_INFO!B11)))","v":" "},{"$f":"IF(INTRO!$E$39<>\"Non-endemic\", \" \", IF(INTRO!$E$37=\"Non-endemic\",\" \", IF(COUNTRY_INFO!C11=0,\" \",COUNTRY_INFO!C11)))","v":" "},{"$f":"IF(INTRO!$E$39<>\"Non-endemic\", 0, IF(INTRO!$E$37=\"Non-endemic\",0,IF(COUNTRY_INFO!$H11=1,COUNTRY_INFO!E11,0)))","v":0},{"$f":"IF(INTRO!$E$39<>\"Non-endemic\", 0, IF(INTRO!$E$37=\"Non-endemic\",0,IF(COUNTRY_INFO!$H11=1,COUNTRY_INFO!F11,0)))","v":0},{"$f":"IF(INTRO!$E$39<>\"Non-endemic\", 0, IF(INTRO!$E$37=\"Non-endemic\",0,IF(COUNTRY_INFO!$H11=1,COUNTRY_INFO!G11,0)))","v":0},{"$f":"SUM(D11:F11)","v":0},{"$f":"IF(INTRO!$E$39=\"Non-endemic\",IF(INTRO!$E$37=\"Non-endemic\",\"Not required\",COUNTRY_INFO!V11),\"Treat with IVM\")","v":"Treat with IVM"},{"$f":"IF(H11=1,G11,0)","v":0},{"$f":"IF(I11>0,I11*2.5,0)","v":0},null,0]
[{"$f":"IF(INTRO!$E$39<>\"Non-endemic\", \" \", IF(INTRO!$E$37=\"Non-endemic\",\" \", IF(COUNTRY_INFO!A12=0,\" \",COUNTRY_INFO!A12)))","v":" "},{"$f":"IF(INTRO!$E$39<>\"Non-endemic\", \" \", IF(INTRO!$E$37=\"Non-endemic\",\" \", IF(COUNTRY_INFO!B12=0,\" \",COUNTRY_INFO!B12)))","v":" "},{"$f":"IF(INTRO!$E$39<>\"Non-endemic\", \" \", IF(INTRO!$E$37=\"Non-endemic\",\" \", IF(COUNTRY_INFO!C12=0,\" \",COUNTRY_INFO!C12)))","v":" "},{"$f":"IF(INTRO!$E$39<>\"Non-endemic\", 0, IF(INTRO!$E$37=\"Non-endemic\",0,IF(COUNTRY_INFO!$H12=1,COUNTRY_INFO!E12,0)))","v":0},{"$f":"IF(INTRO!$E$39<>\"Non-endemic\", 0, IF(INTRO!$E$37=\"Non-endemic\",0,IF(COUNTRY_INFO!$H12=1,COUNTRY_INFO!F12,0)))","v":0},{"$f":"IF(INTRO!$E$39<>\"Non-endemic\", 0, IF(INTRO!$E$37=\"Non-endemic\",0,IF(COUNTRY_INFO!$H12=1,COUNTRY_INFO!G12,0)))","v":0},0,{"$f":"IF(INTRO!$E$39=\"Non-endemic\",IF(INTRO!$E$37=\"Non-endemic\",\"Not required\",COUNTRY_INFO!V12),\"Treat with IVM\")","v":"Treat with IVM"},0,0,null,0]
[{"$f":"IF(INTRO!$E$39<>\"Non-endemic\", \" \", IF(INTRO!$E$37=\"Non-endemic\",\" \", IF(COUNTRY_INFO!A13=0,\" \",COUNTRY_INFO!A13)))","v":" "},{"$f":"IF(INTRO!$E$39<>\"Non-endemic\", \" \", IF(INTRO!$E$37=\"Non-endemic\",\" \", IF(COUNTRY_INFO!B13=0,\" \",COUNTRY_INFO!B13)))","v":" "},{"$f":"IF(INTRO!$E$39<>\"Non-endemic\", \" \", IF(INTRO!$E$37=\"Non-endemic\",\" \", IF(COUNTRY_INFO!C13=0,\" \",COUNTRY_INFO!C13)))","v":" "},{"$f":"IF(INTRO!$E$39<>\"Non-endemic\", 0, IF(INTRO!$E$37=\"Non-endemic\",0,IF(COUNTRY_INFO!$H13=1,COUNTRY_INFO!E13,0)))","v":0},{"$f":"IF(INTRO!$E$39<>\"Non-endemic\", 0, IF(INTRO!$E$37=\"Non-endemic\",0,IF(COUNTRY_INFO!$H13=1,COUNTRY_INFO!F13,0)))","v":0},{"$f":"IF(INTRO!$E$39<>\"Non-endemic\", 0, IF(INTRO!$E$37=\"Non-endemic\",0,IF(COUNTRY_INFO!$H13=1,COUNTRY_INFO!G13,0)))","v":0},0,{"$f":"IF(INTRO!$E$39=\"Non-endemic\",IF(INTRO!$E$37=\"Non-endemic\",\"Not required\",COUNTRY_INFO!V13),\"Treat with IVM\")","v":"Treat with IVM"},0,0,null,0]
[{"$f":"IF(INTRO!$E$39<>\"Non-endemic\", \" \", IF(INTRO!$E$37=\"Non-endemic\",\" \", IF(COUNTRY_INFO!A14=0,\" \",COUNTRY_INFO!A14)))","v":" "},{"$f":"IF(INTRO!$E$39<>\"Non-endemic\", \" \", IF(INTRO!$E$37=\"Non-endemic\",\" \", IF(COUNTRY_INFO!B14=0,\" \",COUNTRY_INFO!B14)))","v":" "},{"$f":"IF(INTRO!$E$39<>\"Non-endemic\", \" \", IF(INTRO!$E$37=\"Non-endemic\",\" \", IF(COUNTRY_INFO!C14=0,\" \",COUNTRY_INFO!C14)))","v":" "},{"$f":"IF(INTRO!$E$39<>\"Non-endemic\", 0, IF(INTRO!$E$37=\"Non-endemic\",0,IF(COUNTRY_INFO!$H14=1,COUNTRY_INFO!E14,0)))","v":0},{"$f":"IF(INTRO!$E$39<>\"Non-endemic\", 0, IF(INTRO!$E$37=\"Non-endemic\",0,IF(COUNTRY_INFO!$H14=1,COUNTRY_INFO!F14,0)))","v":0},{"$f":"IF(INTRO!$E$39<>\"Non-endemic\", 0, IF(INTRO!$E$37=\"Non-endemic\",0,IF(COUNTRY_INFO!$H14=1,COUNTRY_INFO!G14,0)))","v":0},0,{"$f":"IF(INTRO!$E$39=\"Non-endemic\",IF(INTRO!$E$37=\"Non-endemic\",\"Not required\",COUNTRY_INFO!V14),\"Treat with IVM\")","v":"Treat with IVM"},0,0,null,0]
[{"$f":"IF(INTRO!$E$39<>\"Non-endemic\", \" \", IF(INTRO!$E$37=\"Non-endemic\",\" \", IF(COUNTRY_INFO!A15=0,\" \",COUNTRY_INFO!A15)))","v":" "},{"$f":"IF(INTRO!$E$39<>\"Non-endemic\", \" \", IF(INTRO!$E$37=\"Non-endemic\",\" \", IF(COUNTRY_INFO!B15=0,\" \",COUNTRY_INFO!B15)))","v":" "},{"$f":"IF(INTRO!$E$39<>\"Non-endemic\", \" \", IF(INTRO!$E$37=\"Non-endemic\",\" \", IF(COUNTRY_INFO!C15=0,\" \",COUNTRY_INFO!C15)))","v":" "},{"$f":"IF(INTRO!$E$39<>\"Non-endemic\", 0, IF(INTRO!$E$37=\"Non-endemic\",0,IF(COUNTRY_INFO!$H15=1,COUNTRY_INFO!E15,0)))","v":0},{"$f":"IF(INTRO!$E$39<>\"Non-endemic\", 0, IF(INTRO!$E$37=\"Non-endemic\",0,IF(COUNTRY_INFO!$H15=1,COUNTRY_INFO!F15,0)))","v":0},{"$f":"IF(INTRO!$E$39<>\"Non-endemic\", 0, IF(INTRO!$E$37=\"Non-endemic\",0,IF(COUNTRY_INFO!$H15=1,COUNTRY_INFO!G15,0)))","v":0},0,{"$f":"IF(INTRO!$E$39=\"Non-endemic\",IF(INTRO!$E$37=\"Non-endemic\",\"Not required\",COUNTRY_INFO!V15),\"Treat with IVM\")","v":"Treat with IVM"},0,0,null,0]
[{"$f":"IF(INTRO!$E$39<>\"Non-endemic\", \" \", IF(INTRO!$E$37=\"Non-endemic\",\" \", IF(COUNTRY_INFO!A16=0,\" \",COUNTRY_INFO!A16)))","v":" "},{"$f":"IF(INTRO!$E$39<>\"Non-endemic\", \" \", IF(INTRO!$E$37=\"Non-endemic\",\" \", IF(COUNTRY_INFO!B16=0,\" \",COUNTRY_INFO!B16)))","v":" "},{"$f":"IF(INTRO!$E$39<>\"Non-endemic\", \" \", IF(INTRO!$E$37=\"Non-endemic\",\" \", IF(COUNTRY_INFO!C16=0,\" \",COUNTRY_INFO!C16)))","v":" "},{"$f":"IF(INTRO!$E$39<>\"Non-endemic\", 0, IF(INTRO!$E$37=\"Non-endemic\",0,IF(COUNTRY_INFO!$H16=1,COUNTRY_INFO!E16,0)))","v":0},{"$f":"IF(INTRO!$E$39<>\"Non-endemic\", 0, IF(INTRO!$E$37=\"Non-endemic\",0,IF(COUNTRY_INFO!$H16=1,COUNTRY_INFO!F16,0)))","v":0},{"$f":"IF(INTRO!$E$39<>\"Non-endemic\", 0, IF(INTRO!$E$37=\"Non-endemic\",0,IF(COUNTRY_INFO!$H16=1,COUNTRY_INFO!G16,0)))","v":0},0,{"$f":"IF(INTRO!$E$39=\"Non-endemic\",IF(INTRO!$E$37=\"Non-endemic\",\"Not required\",COUNTRY_INFO!V16),\"Treat with IVM\")","v":"Treat with IVM"},0,0,null,0]
[{"$f":"IF(INTRO!$E$39<>\"Non-endemic\", \" \", IF(INTRO!$E$37=\"Non-endemic\",\" \", IF(COUNTRY_INFO!A17=0,\" \",COUNTRY_INFO!A17)))","v":" "},{"$f":"IF(INTRO!$E$39<>\"Non-endemic\", \" \", IF(INTRO!$E$37=\"Non-endemic\",\" \", IF(COUNTRY_INFO!B17=0,\" \",COUNTRY_INFO!B17)))","v":" "},{"$f":"IF(INTRO!$E$39<>\"Non-endemic\", \" \", IF(INTRO!$E$37=\"Non-endemic\",\" \", IF(COUNTRY_INFO!C17=0,\" \",COUNTRY_INFO!C17)))","v":" "},{"$f":"IF(INTRO!$E$39<>\"Non-endemic\", 0, IF(INTRO!$E$37=\"Non-endemic\",0,IF(COUNTRY_INFO!$H17=1,COUNTRY_INFO!E17,0)))","v":0},{"$f":"IF(INTRO!$E$39<>\"Non-endemic\", 0, IF(INTRO!$E$37=\"Non-endemic\",0,IF(COUNTRY_INFO!$H17=1,COUNTRY_INFO!F17,0)))","v":0},{"$f":"IF(INTRO!$E$39<>\"Non-endemic\", 0, IF(INTRO!$E$37=\"Non-endemic\",0,IF(COUNTRY_INFO!$H17=1,COUNTRY_INFO!G17,0)))","v":0},0,{"$f":"IF(INTRO!$E$39=\"Non-endemic\",IF(INTRO!$E$37=\"Non-endemic\",\"Not required\",COUNTRY_INFO!V17),\"Treat with IVM\")","v":"Treat with IVM"},0,0,null,0]
[{"$f":"IF(INTRO!$E$39<>\"Non-endemic\", \" \", IF(INTRO!$E$37=\"Non-endemic\",\" \", IF(COUNTRY_INFO!A18=0,\" \",COUNTRY_INFO!A18)))","v":" "},{"$f":"IF(INTRO!$E$39<>\"Non-endemic\", \" \", IF(INTRO!$E$37=\"Non-endemic\",\" \", IF(COUNTRY_INFO!B18=0,\" \",COUNTRY_INFO!B18)))","v":" "},{"$f":"IF(INTRO!$E$39<>\"Non-endemic\", \" \", IF(INTRO!$E$37=\"Non-endemic\",\" \", IF(COUNTRY_INFO!C18=0,\" \",COUNTRY_INFO!C18)))","v":" "},{"$f":"IF(INTRO!$E$39<>\"Non-endemic\", 0, IF(INTRO!$E$37=\"Non-endemic\",0,IF(COUNTRY_INFO!$H18=1,COUNTRY_INFO!E18,0)))","v":0},{"$f":"IF(INTRO!$E$39<>\"Non-endemic\", 0, IF(INTRO!$E$37=\"Non-endemic\",0,IF(COUNTRY_INFO!$H18=1,COUNTRY_INFO!F18,0)))","v":0},{"$f":"IF(INTRO!$E$39<>\"Non-endemic\", 0, IF(INTRO!$E$37=\"Non-endemic\",0,IF(COUNTRY_INFO!$H18=1,COUNTRY_INFO!G18,0)))","v":0},0,{"$f":"IF(INTRO!$E$39=\"Non-endemic\",IF(INTRO!$E$37=\"Non-endemic\",\"Not required\",COUNTRY_INFO!V18),\"Treat with IVM\")","v":"Treat with IVM"},0,0,null,0]
[{"$f":"IF(INTRO!$E$39<>\"Non-endemic\", \" \", IF(INTRO!$E$37=\"Non-endemic\",\" \", IF(COUNTRY_INFO!A19=0,\" \",COUNTRY_INFO!A19)))","v":" "},{"$f":"IF(INTRO!$E$39<>\"Non-endemic\", \" \", IF(INTRO!$E$37=\"Non-endemic\",\" \", IF(COUNTRY_INFO!B19=0,\" \",COUNTRY_INFO!B19)))","v":" "},{"$f":"IF(INTRO!$E$39<>\"Non-endemic\", \" \", IF(INTRO!$E$37=\"Non-endemic\",\" \", IF(COUNTRY_INFO!C19=0,\" \",COUNTRY_INFO!C19)))","v":" "},{"$f":"IF(INTRO!$E$39<>\"Non-endemic\", 0, IF(INTRO!$E$37=\"Non-endemic\",0,IF(COUNTRY_INFO!$H19=1,COUNTRY_INFO!E19,0)))","v":0},{"$f":"IF(INTRO!$E$39<>\"Non-endemic\", 0, IF(INTRO!$E$37=\"Non-endemic\",0,IF(COUNTRY_INFO!$H19=1,COUNTRY_INFO!F19,0)))","v":0},{"$f":"IF(INTRO!$E$39<>\"Non-endemic\", 0, IF(INTRO!$E$37=\"Non-endemic\",0,IF(COUNTRY_INFO!$H19=1,COUNTRY_INFO!G19,0)))","v":0},0,{"$f":"IF(INTRO!$E$39=\"Non-endemic\",IF(INTRO!$E$37=\"Non-endemic\",\"Not required\",COUNTRY_INFO!V19),\"Treat with IVM\")","v":"Treat with IVM"},0,0,null,0]
[{"$f":"IF(INTRO!$E$39<>\"Non-endemic\", \" \", IF(INTRO!$E$37=\"Non-endemic\",\" \", IF(COUNTRY_INFO!A20=0,\" \",COUNTRY_INFO!A20)))","v":" "},{"$f":"IF(INTRO!$E$39<>\"Non-endemic\", \" \", IF(INTRO!$E$37=\"Non-endemic\",\" \", IF(COUNTRY_INFO!B20=0,\" \",COUNTRY_INFO!B20)))","v":" "},{"$f":"IF(INTRO!$E$39<>\"Non-endemic\", \" \", IF(INTRO!$E$37=\"Non-endemic\",\" \", IF(COUNTRY_INFO!C20=0,\" \",COUNTRY_INFO!C20)))","v":" "},{"$f":"IF(INTRO!$E$39<>\"Non-endemic\", 0, IF(INTRO!$E$37=\"Non-endemic\",0,IF(COUNTRY_INFO!$H20=1,COUNTRY_INFO!E20,0)))","v":0},{"$f":"IF(INTRO!$E$39<>\"Non-endemic\", 0, IF(INTRO!$E$37=\"Non-endemic\",0,IF(COUNTRY_INFO!$H20=1,COUNTRY_INFO!F20,0)))","v":0},{"$f":"IF(INTRO!$E$39<>\"Non-endemic\", 0, IF(INTRO!$E$37=\"Non-endemic\",0,IF(COUNTRY_INFO!$H20=1,COUNTRY_INFO!G20,0)))","v":0},0,{"$f":"IF(INTRO!$E$39=\"Non-endemic\",IF(INTRO!$E$37=\"Non-endemic\",\"Not required\",COUNTRY_INFO!V20),\"Treat with IVM\")","v":"Treat with IVM"},0,0,null,0]
[{"$f":"IF(INTRO!$E$39<>\"Non-endemic\", \" \", IF(INTRO!$E$37=\"Non-endemic\",\" \", IF(COUNTRY_INFO!A21=0,\" \",COUNTRY_INFO!A21)))","v":" "},{"$f":"IF(INTRO!$E$39<>\"Non-endemic\", \" \", IF(INTRO!$E$37=\"Non-endemic\",\" \", IF(COUNTRY_INFO!B21=0,\" \",COUNTRY_INFO!B21)))","v":" "},{"$f":"IF(INTRO!$E$39<>\"Non-endemic\", \" \", IF(INTRO!$E$37=\"Non-endemic\",\" \", IF(COUNTRY_INFO!C21=0,\" \",COUNTRY_INFO!C21)))","v":" "},{"$f":"IF(INTRO!$E$39<>\"Non-endemic\", 0, IF(INTRO!$E$37=\"Non-endemic\",0,IF(COUNTRY_INFO!$H21=1,COUNTRY_INFO!E21,0)))","v":0},{"$f":"IF(INTRO!$E$39<>\"Non-endemic\", 0, IF(INTRO!$E$37=\"Non-endemic\",0,IF(COUNTRY_INFO!$H21=1,COUNTRY_INFO!F21,0)))","v":0},{"$f":"IF(INTRO!$E$39<>\"Non-endemic\", 0, IF(INTRO!$E$37=\"Non-endemic\",0,IF(COUNTRY_INFO!$H21=1,COUNTRY_INFO!G21,0)))","v":0},0,{"$f":"IF(INTRO!$E$39=\"Non-endemic\",IF(INTRO!$E$37=\"Non-endemic\",\"Not required\",COUNTRY_INFO!V21),\"Treat with IVM\")","v":"Treat with IVM"},0,0,null,0]
[{"$f":"IF(INTRO!$E$39<>\"Non-endemic\", \" \", IF(INTRO!$E$37=\"Non-endemic\",\" \", IF(COUNTRY_INFO!A22=0,\" \",COUNTRY_INFO!A22)))","v":" "},{"$f":"IF(INTRO!$E$39<>\"Non-endemic\", \" \", IF(INTRO!$E$37=\"Non-endemic\",\" \", IF(COUNTRY_INFO!B22=0,\" \",COUNTRY_INFO!B22)))","v":" "},{"$f":"IF(INTRO!$E$39<>\"Non-endemic\", \" \", IF(INTRO!$E$37=\"Non-endemic\",\" \", IF(COUNTRY_INFO!C22=0,\" \",COUNTRY_INFO!C22)))","v":" "},{"$f":"IF(INTRO!$E$39<>\"Non-endemic\", 0, IF(INTRO!$E$37=\"Non-endemic\",0,IF(COUNTRY_INFO!$H22=1,COUNTRY_INFO!E22,0)))","v":0},{"$f":"IF(INTRO!$E$39<>\"Non-endemic\", 0, IF(INTRO!$E$37=\"Non-endemic\",0,IF(COUNTRY_INFO!$H22=1,COUNTRY_INFO!F22,0)))","v":0},{"$f":"IF(INTRO!$E$39<>\"Non-endemic\", 0, IF(INTRO!$E$37=\"Non-endemic\",0,IF(COUNTRY_INFO!$H22=1,COUNTRY_INFO!G22,0)))","v":0},0,{"$f":"IF(INTRO!$E$39=\"Non-endemic\",IF(INTRO!$E$37=\"Non-endemic\",\"Not required\",COUNTRY_INFO!V22),\"Treat with IVM\")","v":"Treat with IVM"},0,0,null,0]
[{"$f":"IF(INTRO!$E$39<>\"Non-endemic\", \" \", IF(INTRO!$E$37=\"Non-endemic\",\" \", IF(COUNTRY_INFO!A23=0,\" \",COUNTRY_INFO!A23)))","v":" "},{"$f":"IF(INTRO!$E$39<>\"Non-endemic\", \" \", IF(INTRO!$E$37=\"Non-endemic\",\" \", IF(COUNTRY_INFO!B23=0,\" \",COUNTRY_INFO!B23)))","v":" "},{"$f":"IF(INTRO!$E$39<>\"Non-endemic\", \" \", IF(INTRO!$E$37=\"Non-endemic\",\" \", IF(COUNTRY_INFO!C23=0,\" \",COUNTRY_INFO!C23)))","v":" "},{"$f":"IF(INTRO!$E$39<>\"Non-endemic\", 0, IF(INTRO!$E$37=\"Non-endemic\",0,IF(COUNTRY_INFO!$H23=1,COUNTRY_INFO!E23,0)))","v":0},{"$f":"IF(INTRO!$E$39<>\"Non-endemic\", 0, IF(INTRO!$E$37=\"Non-endemic\",0,IF(COUNTRY_INFO!$H23=1,COUNTRY_INFO!F23,0)))","v":0},{"$f":"IF(INTRO!$E$39<>\"Non-endemic\", 0, IF(INTRO!$E$37=\"Non-endemic\",0,IF(COUNTRY_INFO!$H23=1,COUNTRY_INFO!G23,0)))","v":0},0,{"$f":"IF(INTRO!$E$39=\"Non-endemic\",IF(INTRO!$E$37=\"Non-endemic\",\"Not required\",COUNTRY_INFO!V23),\"Treat with IVM\")","v":"Treat with IVM"},0,0,null,0]
[{"$f":"IF(INTRO!$E$39<>\"Non-endemic\", \" \", IF(INTRO!$E$37=\"Non-endemic\",\" \", IF(COUNTRY_INFO!A24=0,\" \",COUNTRY_INFO!A24)))","v":" "},{"$f":"IF(INTRO!$E$39<>\"Non-endemic\", \" \", IF(INTRO!$E$37=\"Non-endemic\",\" \", IF(COUNTRY_INFO!B24=0,\" \",COUNTRY_INFO!B24)))","v":" "},{"$f":"IF(INTRO!$E$39<>\"Non-endemic\", \" \", IF(INTRO!$E$37=\"Non-endemic\",\" \", IF(COUNTRY_INFO!C24=0,\" \",COUNTRY_INFO!C24)))","v":" "},{"$f":"IF(INTRO!$E$39<>\"Non-endemic\", 0, IF(INTRO!$E$37=\"Non-endemic\",0,IF(COUNTRY_INFO!$H24=1,COUNTRY_INFO!E24,0)))","v":0},{"$f":"IF(INTRO!$E$39<>\"Non-endemic\", 0, IF(INTRO!$E$37=\"Non-endemic\",0,IF(COUNTRY_INFO!$H24=1,COUNTRY_INFO!F24,0)))","v":0},{"$f":"IF(INTRO!$E$39<>\"Non-endemic\", 0, IF(INTRO!$E$37=\"Non-endemic\",0,IF(COUNTRY_INFO!$H24=1,COUNTRY_INFO!G24,0)))","v":0},0,{"$f":"IF(INTRO!$E$39=\"Non-endemic\",IF(INTRO!$E$37=\"Non-endemic\",\"Not required\",COUNTRY_INFO!V24),\"Treat with IVM\")","v":"Treat with IVM"},0,0,null,0]
[{"$f":"IF(INTRO!$E$39<>\"Non-endemic\", \" \", IF(INTRO!$E$37=\"Non-endemic\",\" \", IF(COUNTRY_INFO!A25=0,\" \",COUNTRY_INFO!A25)))","v":" "},{"$f":"IF(INTRO!$E$39<>\"Non-endemic\", \" \", IF(INTRO!$E$37=\"Non-endemic\",\" \", IF(COUNTRY_INFO!B25=0,\" \",COUNTRY_INFO!B25)))","v":" "},{"$f":"IF(INTRO!$E$39<>\"Non-endemic\", \" \", IF(INTRO!$E$37=\"Non-endemic\",\" \", IF(COUNTRY_INFO!C25=0,\" \",COUNTRY_INFO!C25)))","v":" "},{"$f":"IF(INTRO!$E$39<>\"Non-endemic\", 0, IF(INTRO!$E$37=\"Non-endemic\",0,IF(COUNTRY_INFO!$H25=1,COUNTRY_INFO!E25,0)))","v":0},{"$f":"IF(INTRO!$E$39<>\"Non-endemic\", 0, IF(INTRO!$E$37=\"Non-endemic\",0,IF(COUNTRY_INFO!$H25=1,COUNTRY_INFO!F25,0)))","v":0},{"$f":"IF(INTRO!$E$39<>\"Non-endemic\", 0, IF(INTRO!$E$37=\"Non-endemic\",0,IF(COUNTRY_INFO!$H25=1,COUNTRY_INFO!G25,0)))","v":0},0,{"$f":"IF(INTRO!$E$39=\"Non-endemic\",IF(INTRO!$E$37=\"Non-endemic\",\"Not required\",COUNTRY_INFO!V25),\"Treat with IVM\")","v":"Treat with IVM"},0,0,null,0]
[{"$f":"IF(INTRO!$E$39<>\"Non-endemic\", \" \", IF(INTRO!$E$37=\"Non-endemic\",\" \", IF(COUNTRY_INFO!A26=0,\" \",COUNTRY_INFO!A26)))","v":" "},{"$f":"IF(INTRO!$E$39<>\"Non-endemic\", \" \", IF(INTRO!$E$37=\"Non-endemic\",\" \", IF(COUNTRY_INFO!B26=0,\" \",COUNTRY_INFO!B26)))","v":" "},{"$f":"IF(INTRO!$E$39<>\"Non-endemic\", \" \", IF(INTRO!$E$37=\"Non-endemic\",\" \", IF(COUNTRY_INFO!C26=0,\" \",COUNTRY_INFO!C26)))","v":" "},{"$f":"IF(INTRO!$E$39<>\"Non-endemic\", 0, IF(INTRO!$E$37=\"Non-endemic\",0,IF(COUNTRY_INFO!$H26=1,COUNTRY_INFO!E26,0)))","v":0},{"$f":"IF(INTRO!$E$39<>\"Non-endemic\", 0, IF(INTRO!$E$37=\"Non-endemic\",0,IF(COUNTRY_INFO!$H26=1,COUNTRY_INFO!F26,0)))","v":0},{"$f":"IF(INTRO!$E$39<>\"Non-endemic\", 0, IF(INTRO!$E$37=\"Non-endemic\",0,IF(COUNTRY_INFO!$H26=1,COUNTRY_INFO!G26,0)))","v":0},0,{"$f":"IF(INTRO!$E$39=\"Non-endemic\",IF(INTRO!$E$37=\"Non-endemic\",\"Not required\",COUNTRY_INFO!V26),\"Treat with IVM\")","v":"Treat with IVM"},0,0,null,0]
[{"$f":"IF(INTRO!$E$39<>\"Non-endemic\", \" \", IF(INTRO!$E$37=\"Non-endemic\",\" \", IF(COUNTRY_INFO!A27=0,\" \",COUNTRY_INFO!A27)))","v":" "},{"$f":"IF(INTRO!$E$39<>\"Non-endemic\", \" \", IF(INTRO!$E$37=\"Non-endemic\",\" \", IF(COUNTRY_INFO!B27=0,\" \",COUNTRY_INFO!B27)))","v":" "},{"$f":"IF(INTRO!$E$39<>\"Non-endemic\", \" \", IF(INTRO!$E$37=\"Non-endemic\",\" \", IF(COUNTRY_INFO!C27=0,\" \",COUNTRY_INFO!C27)))","v":" "},{"$f":"IF(INTRO!$E$39<>\"Non-endemic\", 0, IF(INTRO!$E$37=\"Non-endemic\",0,IF(COUNTRY_INFO!$H27=1,COUNTRY_INFO!E27,0)))","v":0},{"$f":"IF(INTRO!$E$39<>\"Non-endemic\", 0, IF(INTRO!$E$37=\"Non-endemic\",0,IF(COUNTRY_INFO!$H27=1,COUNTRY_INFO!F27,0)))","v":0},{"$f":"IF(INTRO!$E$39<>\"Non-endemic\", 0, IF(INTRO!$E$37=\"Non-endemic\",0,IF(COUNTRY_INFO!$H27=1,COUNTRY_INFO!G27,0)))","v":0},0,{"$f":"IF(INTRO!$E$39=\"Non-endemic\",IF(INTRO!$E$37=\"Non-endemic\",\"Not required\",COUNTRY_INFO!V27),\"Treat with IVM\")","v":"Treat with IVM"},0,0,null,0]
[{"$f":"IF(INTRO!$E$39<>\"Non-endemic\", \" \", IF(INTRO!$E$37=\"Non-endemic\",\" \", IF(COUNTRY_INFO!A28=0,\" \",COUNTRY_INFO!A28)))","v":" "},{"$f":"IF(INTRO!$E$39<>\"Non-endemic\", \" \", IF(INTRO!$E$37=\"Non-endemic\",\" \", IF(COUNTRY_INFO!B28=0,\" \",COUNTRY_INFO!B28)))","v":" "},{"$f":"IF(INTRO!$E$39<>\"Non-endemic\", \" \", IF(INTRO!$E$37=\"Non-endemic\",\" \", IF(COUNTRY_INFO!C28=0,\" \",COUNTRY_INFO!C28)))","v":" "},{"$f":"IF(INTRO!$E$39<>\"Non-endemic\", 0, IF(INTRO!$E$37=\"Non-endemic\",0,IF(COUNTRY_INFO!$H28=1,COUNTRY_INFO!E28,0)))","v":0},{"$f":"IF(INTRO!$E$39<>\"Non-endemic\", 0, IF(INTRO!$E$37=\"Non-endemic\",0,IF(COUNTRY_INFO!$H28=1,COUNTRY_INFO!F28,0)))","v":0},{"$f":"IF(INTRO!$E$39<>\"Non-endemic\", 0, IF(INTRO!$E$37=\"Non-endemic\",0,IF(COUNTRY_INFO!$H28=1,COUNTRY_INFO!G28,0)))","v":0},0,{"$f":"IF(INTRO!$E$39=\"Non-endemic\",IF(INTRO!$E$37=\"Non-endemic\",\"Not required\",COUNTRY_INFO!V28),\"Treat with IVM\")","v":"Treat with IVM"},0,0,null,0]
[{"$f":"IF(INTRO!$E$39<>\"Non-endemic\", \" \", IF(INTRO!$E$37=\"Non-endemic\",\" \", IF(COUNTRY_INFO!A29=0,\" \",COUNTRY_INFO!A29)))","v":" "},{"$f":"IF(INTRO!$E$39<>\"Non-endemic\", \" \", IF(INTRO!$E$37=\"Non-endemic\",\" \", IF(COUNTRY_INFO!B29=0,\" \",COUNTRY_INFO!B29)))","v":" "},{"$f":"IF(INTRO!$E$39<>\"Non-endemic\", \" \", IF(INTRO!$E$37=\"Non-endemic\",\" \", IF(COUNTRY_INFO!C29=0,\" \",COUNTRY_INFO!C29)))","v":" "},{"$f":"IF(INTRO!$E$39<>\"Non-endemic\", 0, IF(INTRO!$E$37=\"Non-endemic\",0,IF(COUNTRY_INFO!$H29=1,COUNTRY_INFO!E29,0)))","v":0},{"$f":"IF(INTRO!$E$39<>\"Non-endemic\", 0, IF(INTRO!$E$37=\"Non-endemic\",0,IF(COUNTRY_INFO!$H29=1,COUNTRY_INFO!F29,0)))","v":0},{"$f":"IF(INTRO!$E$39<>\"Non-endemic\", 0, IF(INTRO!$E$37=\"Non-endemic\",0,IF(COUNTRY_INFO!$H29=1,COUNTRY_INFO!G29,0)))","v":0},0,{"$f":"IF(INTRO!$E$39=\"Non-endemic\",IF(INTRO!$E$37=\"Non-endemic\",\"Not required\",COUNTRY_INFO!V29),\"Treat with IVM\")","v":"Treat with IVM"},0,0,null,0]
[{"$f":"IF(INTRO!$E$39<>\"Non-endemic\", \" \", IF(INTRO!$E$37=\"Non-endemic\",\" \", IF(COUNTRY_INFO!A30=0,\" \",COUNTRY_INFO!A30)))","v":" "},{"$f":"IF(INTRO!$E$39<>\"Non-endemic\", \" \", IF(INTRO!$E$37=\"Non-endemic\",\" \", IF(COUNTRY_INFO!B30=0,\" \",COUNTRY_INFO!B30)))","v":" "},{"$f":"IF(INTRO!$E$39<>\"Non-endemic\", \" \", IF(INTRO!$E$37=\"Non-endemic\",\" \", IF(COUNTRY_INFO!C30=0,\" \",COUNTRY_INFO!C30)))","v":" "},{"$f":"IF(INTRO!$E$39<>\"Non-endemic\", 0, IF(INTRO!$E$37=\"Non-endemic\",0,IF(COUNTRY_INFO!$H30=1,COUNTRY_INFO!E30,0)))","v":0},{"$f":"IF(INTRO!$E$39<>\"Non-endemic\", 0, IF(INTRO!$E$37=\"Non-endemic\",0,IF(COUNTRY_INFO!$H30=1,COUNTRY_INFO!F30,0)))","v":0},{"$f":"IF(INTRO!$E$39<>\"Non-endemic\", 0, IF(INTRO!$E$37=\"Non-endemic\",0,IF(COUNTRY_INFO!$H30=1,COUNTRY_INFO!G30,0)))","v":0},0,{"$f":"IF(INTRO!$E$39=\"Non-endemic\",IF(INTRO!$E$37=\"Non-endemic\",\"Not required\",COUNTRY_INFO!V30),\"Treat with IVM\")","v":"Treat with IVM"},0,0,null,0]
[{"$f":"IF(INTRO!$E$39<>\"Non-endemic\", \" \", IF(INTRO!$E$37=\"Non-endemic\",\" \", IF(COUNTRY_INFO!A31=0,\" \",COUNTRY_INFO!A31)))","v":" "},{"$f":"IF(INTRO!$E$39<>\"Non-endemic\", \" \", IF(INTRO!$E$37=\"Non-endemic\",\" \", IF(COUNTRY_INFO!B31=0,\" \",COUNTRY_INFO!B31)))","v":" "},{"$f":"IF(INTRO!$E$39<>\"Non-endemic\", \" \", IF(INTRO!$E$37=\"Non-endemic\",\" \", IF(COUNTRY_INFO!C31=0,\" \",COUNTRY_INFO!C31)))","v":" "},{"$f":"IF(INTRO!$E$39<>\"Non-endemic\", 0, IF(INTRO!$E$37=\"Non-endemic\",0,IF(COUNTRY_INFO!$H31=1,COUNTRY_INFO!E31,0)))","v":0},{"$f":"IF(INTRO!$E$39<>\"Non-endemic\", 0, IF(INTRO!$E$37=\"Non-endemic\",0,IF(COUNTRY_INFO!$H31=1,COUNTRY_INFO!F31,0)))","v":0},{"$f":"IF(INTRO!$E$39<>\"Non-endemic\", 0, IF(INTRO!$E$37=\"Non-endemic\",0,IF(COUNTRY_INFO!$H31=1,COUNTRY_INFO!G31,0)))","v":0},0,{"$f":"IF(INTRO!$E$39=\"Non-endemic\",IF(INTRO!$E$37=\"Non-endemic\",\"Not required\",COUNTRY_INFO!V31),\"Treat with IVM\")","v":"Treat with IVM"},0,0,null,0]
[{"$f":"IF(INTRO!$E$39<>\"Non-endemic\", \" \", IF(INTRO!$E$37=\"Non-endemic\",\" \", IF(COUNTRY_INFO!A32=0,\" \",COUNTRY_INFO!A32)))","v":" "},{"$f":"IF(INTRO!$E$39<>\"Non-endemic\", \" \", IF(INTRO!$E$37=\"Non-endemic\",\" \", IF(COUNTRY_INFO!B32=0,\" \",COUNTRY_INFO!B32)))","v":" "},{"$f":"IF(INTRO!$E$39<>\"Non-endemic\", \" \", IF(INTRO!$E$37=\"Non-endemic\",\" \", IF(COUNTRY_INFO!C32=0,\" \",COUNTRY_INFO!C32)))","v":" "},{"$f":"IF(INTRO!$E$39<>\"Non-endemic\", 0, IF(INTRO!$E$37=\"Non-endemic\",0,IF(COUNTRY_INFO!$H32=1,COUNTRY_INFO!E32,0)))","v":0},{"$f":"IF(INTRO!$E$39<>\"Non-endemic\", 0, IF(INTRO!$E$37=\"Non-endemic\",0,IF(COUNTRY_INFO!$H32=1,COUNTRY_INFO!F32,0)))","v":0},{"$f":"IF(INTRO!$E$39<>\"Non-endemic\", 0, IF(INTRO!$E$37=\"Non-endemic\",0,IF(COUNTRY_INFO!$H32=1,COUNTRY_INFO!G32,0)))","v":0},0,{"$f":"IF(INTRO!$E$39=\"Non-endemic\",IF(INTRO!$E$37=\"Non-endemic\",\"Not required\",COUNTRY_INFO!V32),\"Treat with IVM\")","v":"Treat with IVM"},0,0,null,0]
[{"$f":"IF(INTRO!$E$39<>\"Non-endemic\", \" \", IF(INTRO!$E$37=\"Non-endemic\",\" \", IF(COUNTRY_INFO!A33=0,\" \",COUNTRY_INFO!A33)))","v":" "},{"$f":"IF(INTRO!$E$39<>\"Non-endemic\", \" \", IF(INTRO!$E$37=\"Non-endemic\",\" \", IF(COUNTRY_INFO!B33=0,\" \",COUNTRY_INFO!B33)))","v":" "},{"$f":"IF(INTRO!$E$39<>\"Non-endemic\", \" \", IF(INTRO!$E$37=\"Non-endemic\",\" \", IF(COUNTRY_INFO!C33=0,\" \",COUNTRY_INFO!C33)))","v":" "},{"$f":"IF(INTRO!$E$39<>\"Non-endemic\", 0, IF(INTRO!$E$37=\"Non-endemic\",0,IF(COUNTRY_INFO!$H33=1,COUNTRY_INFO!E33,0)))","v":0},{"$f":"IF(INTRO!$E$39<>\"Non-endemic\", 0, IF(INTRO!$E$37=\"Non-endemic\",0,IF(COUNTRY_INFO!$H33=1,COUNTRY_INFO!F33,0)))","v":0},{"$f":"IF(INTRO!$E$39<>\"Non-endemic\", 0, IF(INTRO!$E$37=\"Non-endemic\",0,IF(COUNTRY_INFO!$H33=1,COUNTRY_INFO!G33,0)))","v":0},0,{"$f":"IF(INTRO!$E$39=\"Non-endemic\",IF(INTRO!$E$37=\"Non-endemic\",\"Not required\",COUNTRY_INFO!V33),\"Treat with IVM\")","v":"Treat with IVM"},0,0,null,0]
[{"$f":"IF(INTRO!$E$39<>\"Non-endemic\", \" \", IF(INTRO!$E$37=\"Non-endemic\",\" \", IF(COUNTRY_INFO!A34=0,\" \",COUNTRY_INFO!A34)))","v":" "},{"$f":"IF(INTRO!$E$39<>\"Non-endemic\", \" \", IF(INTRO!$E$37=\"Non-endemic\",\" \", IF(COUNTRY_INFO!B34=0,\" \",COUNTRY_INFO!B34)))","v":" "},{"$f":"IF(INTRO!$E$39<>\"Non-endemic\", \" \", IF(INTRO!$E$37=\"Non-endemic\",\" \", IF(COUNTRY_INFO!C34=0,\" \",COUNTRY_INFO!C34)))","v":" "},{"$f":"IF(INTRO!$E$39<>\"Non-endemic\", 0, IF(INTRO!$E$37=\"Non-endemic\",0,IF(COUNTRY_INFO!$H34=1,COUNTRY_INFO!E34,0)))","v":0},{"$f":"IF(INTRO!$E$39<>\"Non-endemic\", 0, IF(INTRO!$E$37=\"Non-endemic\",0,IF(COUNTRY_INFO!$H34=1,COUNTRY_INFO!F34,0)))","v":0},{"$f":"IF(INTRO!$E$39<>\"Non-endemic\", 0, IF(INTRO!$E$37=\"Non-endemic\",0,IF(COUNTRY_INFO!$H34=1,COUNTRY_INFO!G34,0)))","v":0},0,{"$f":"IF(INTRO!$E$39=\"Non-endemic\",IF(INTRO!$E$37=\"Non-endemic\",\"Not required\",COUNTRY_INFO!V34),\"Treat with IVM\")","v":"Treat with IVM"},0,0,null,0]
[{"$f":"IF(INTRO!$E$39<>\"Non-endemic\", \" \", IF(INTRO!$E$37=\"Non-endemic\",\" \", IF(COUNTRY_INFO!A35=0,\" \",COUNTRY_INFO!A35)))","v":" "},{"$f":"IF(INTRO!$E$39<>\"Non-endemic\", \" \", IF(INTRO!$E$37=\"Non-endemic\",\" \", IF(COUNTRY_INFO!B35=0,\" \",COUNTRY_INFO!B35)))","v":" "},{"$f":"IF(INTRO!$E$39<>\"Non-endemic\", \" \", IF(INTRO!$E$37=\"Non-endemic\",\" \", IF(COUNTRY_INFO!C35=0,\" \",COUNTRY_INFO!C35)))","v":" "},{"$f":"IF(INTRO!$E$39<>\"Non-endemic\", 0, IF(INTRO!$E$37=\"Non-endemic\",0,IF(COUNTRY_INFO!$H35=1,COUNTRY_INFO!E35,0)))","v":0},{"$f":"IF(INTRO!$E$39<>\"Non-endemic\", 0, IF(INTRO!$E$37=\"Non-endemic\",0,IF(COUNTRY_INFO!$H35=1,COUNTRY_INFO!F35,0)))","v":0},{"$f":"IF(INTRO!$E$39<>\"Non-endemic\", 0, IF(INTRO!$E$37=\"Non-endemic\",0,IF(COUNTRY_INFO!$H35=1,COUNTRY_INFO!G35,0)))","v":0},0,{"$f":"IF(INTRO!$E$39=\"Non-endemic\",IF(INTRO!$E$37=\"Non-endemic\",\"Not required\",COUNTRY_INFO!V35),\"Treat with IVM\")","v":"Treat with IVM"},0,0,null,0]
[{"$f":"IF(INTRO!$E$39<>\"Non-endemic\", \" \", IF(INTRO!$E$37=\"Non-endemic\",\" \", IF(COUNTRY_INFO!A36=0,\" \",COUNTRY_INFO!A36)))","v":" "},{"$f":"IF(INTRO!$E$39<>\"Non-endemic\", \" \", IF(INTRO!$E$37=\"Non-endemic\",\" \", IF(COUNTRY_INFO!B36=0,\" \",COUNTRY_INFO!B36)))","v":" "},{"$f":"IF(INTRO!$E$39<>\"Non-endemic\", \" \", IF(INTRO!$E$37=\"Non-endemic\",\" \", IF(COUNTRY_INFO!C36=0,\" \",COUNTRY_INFO!C36)))","v":" "},{"$f":"IF(INTRO!$E$39<>\"Non-endemic\", 0, IF(INTRO!$E$37=\"Non-endemic\",0,IF(COUNTRY_INFO!$H36=1,COUNTRY_INFO!E36,0)))","v":0},{"$f":"IF(INTRO!$E$39<>\"Non-endemic\", 0, IF(INTRO!$E$37=\"Non-endemic\",0,IF(COUNTRY_INFO!$H36=1,COUNTRY_INFO!F36,0)))","v":0},{"$f":"IF(INTRO!$E$39<>\"Non-endemic\", 0, IF(INTRO!$E$37=\"Non-endemic\",0,IF(COUNTRY_INFO!$H36=1,COUNTRY_INFO!G36,0)))","v":0},0,{"$f":"IF(INTRO!$E$39=\"Non-endemic\",IF(INTRO!$E$37=\"Non-endemic\",\"Not required\",COUNTRY_INFO!V36),\"Treat with IVM\")","v":"Treat with IVM"},0,0,null,0]
[{"$f":"IF(INTRO!$E$39<>\"Non-endemic\", \" \", IF(INTRO!$E$37=\"Non-endemic\",\" \", IF(COUNTRY_INFO!A37=0,\" \",COUNTRY_INFO!A37)))","v":" "},{"$f":"IF(INTRO!$E$39<>\"Non-endemic\", \" \", IF(INTRO!$E$37=\"Non-endemic\",\" \", IF(COUNTRY_INFO!B37=0,\" \",COUNTRY_INFO!B37)))","v":" "},{"$f":"IF(INTRO!$E$39<>\"Non-endemic\", \" \", IF(INTRO!$E$37=\"Non-endemic\",\" \", IF(COUNTRY_INFO!C37=0,\" \",COUNTRY_INFO!C37)))","v":" "},{"$f":"IF(INTRO!$E$39<>\"Non-endemic\", 0, IF(INTRO!$E$37=\"Non-endemic\",0,IF(COUNTRY_INFO!$H37=1,COUNTRY_INFO!E37,0)))","v":0},{"$f":"IF(INTRO!$E$39<>\"Non-endemic\", 0, IF(INTRO!$E$37=\"Non-endemic\",0,IF(COUNTRY_INFO!$H37=1,COUNTRY_INFO!F37,0)))","v":0},{"$f":"IF(INTRO!$E$39<>\"Non-endemic\", 0, IF(INTRO!$E$37=\"Non-endemic\",0,IF(COUNTRY_INFO!$H37=1,COUNTRY_INFO!G37,0)))","v":0},0,{"$f":"IF(INTRO!$E$39=\"Non-endemic\",IF(INTRO!$E$37=\"Non-endemic\",\"Not required\",COUNTRY_INFO!V37),\"Treat with IVM\")","v":"Treat with IVM"},0,0,null,0]
[{"$f":"IF(INTRO!$E$39<>\"Non-endemic\", \" \", IF(INTRO!$E$37=\"Non-endemic\",\" \", IF(COUNTRY_INFO!A38=0,\" \",COUNTRY_INFO!A38)))","v":" "},{"$f":"IF(INTRO!$E$39<>\"Non-endemic\", \" \", IF(INTRO!$E$37=\"Non-endemic\",\" \", IF(COUNTRY_INFO!B38=0,\" \",COUNTRY_INFO!B38)))","v":" "},{"$f":"IF(INTRO!$E$39<>\"Non-endemic\", \" \", IF(INTRO!$E$37=\"Non-endemic\",\" \", IF(COUNTRY_INFO!C38=0,\" \",COUNTRY_INFO!C38)))","v":" "},{"$f":"IF(INTRO!$E$39<>\"Non-endemic\", 0, IF(INTRO!$E$37=\"Non-endemic\",0,IF(COUNTRY_INFO!$H38=1,COUNTRY_INFO!E38,0)))","v":0},{"$f":"IF(INTRO!$E$39<>\"Non-endemic\", 0, IF(INTRO!$E$37=\"Non-endemic\",0,IF(COUNTRY_INFO!$H38=1,COUNTRY_INFO!F38,0)))","v":0},{"$f":"IF(INTRO!$E$39<>\"Non-endemic\", 0, IF(INTRO!$E$37=\"Non-endemic\",0,IF(COUNTRY_INFO!$H38=1,COUNTRY_INFO!G38,0)))","v":0},0,{"$f":"IF(INTRO!$E$39=\"Non-endemic\",IF(INTRO!$E$37=\"Non-endemic\",\"Not required\",COUNTRY_INFO!V38),\"Treat with IVM\")","v":"Treat with IVM"},0,0,null,0]
[{"$f":"IF(INTRO!$E$39<>\"Non-endemic\", \" \", IF(INTRO!$E$37=\"Non-endemic\",\" \", IF(COUNTRY_INFO!A39=0,\" \",COUNTRY_INFO!A39)))","v":" "},{"$f":"IF(INTRO!$E$39<>\"Non-endemic\", \" \", IF(INTRO!$E$37=\"Non-endemic\",\" \", IF(COUNTRY_INFO!B39=0,\" \",COUNTRY_INFO!B39)))","v":" "},{"$f":"IF(INTRO!$E$39<>\"Non-endemic\", \" \", IF(INTRO!$E$37=\"Non-endemic\",\" \", IF(COUNTRY_INFO!C39=0,\" \",COUNTRY_INFO!C39)))","v":" "},{"$f":"IF(INTRO!$E$39<>\"Non-endemic\", 0, IF(INTRO!$E$37=\"Non-endemic\",0,IF(COUNTRY_INFO!$H39=1,COUNTRY_INFO!E39,0)))","v":0},{"$f":"IF(INTRO!$E$39<>\"Non-endemic\", 0, IF(INTRO!$E$37=\"Non-endemic\",0,IF(COUNTRY_INFO!$H39=1,COUNTRY_INFO!F39,0)))","v":0},{"$f":"IF(INTRO!$E$39<>\"Non-endemic\", 0, IF(INTRO!$E$37=\"Non-endemic\",0,IF(COUNTRY_INFO!$H39=1,COUNTRY_INFO!G39,0)))","v":0},0,{"$f":"IF(INTRO!$E$39=\"Non-endemic\",IF(INTRO!$E$37=\"Non-endemic\",\"Not required\",COUNTRY_INFO!V39),\"Treat with IVM\")","v":"Treat with IVM"},0,0,null,0]
[{"$f":"IF(INTRO!$E$39<>\"Non-endemic\", \" \", IF(INTRO!$E$37=\"Non-endemic\",\" \", IF(COUNTRY_INFO!A40=0,\" \",COUNTRY_INFO!A40)))","v":" "},{"$f":"IF(INTRO!$E$39<>\"Non-endemic\", \" \", IF(INTRO!$E$37=\"Non-endemic\",\" \", IF(COUNTRY_INFO!B40=0,\" \",COUNTRY_INFO!B40)))","v":" "},{"$f":"IF(INTRO!$E$39<>\"Non-endemic\", \" \", IF(INTRO!$E$37=\"Non-endemic\",\" \", IF(COUNTRY_INFO!C40=0,\" \",COUNTRY_INFO!C40)))","v":" "},{"$f":"IF(INTRO!$E$39<>\"Non-endemic\", 0, IF(INTRO!$E$37=\"Non-endemic\",0,IF(COUNTRY_INFO!$H40=1,COUNTRY_INFO!E40,0)))","v":0},{"$f":"IF(INTRO!$E$39<>\"Non-endemic\", 0, IF(INTRO!$E$37=\"Non-endemic\",0,IF(COUNTRY_INFO!$H40=1,COUNTRY_INFO!F40,0)))","v":0},{"$f":"IF(INTRO!$E$39<>\"Non-endemic\", 0, IF(INTRO!$E$37=\"Non-endemic\",0,IF(COUNTRY_INFO!$H40=1,COUNTRY_INFO!G40,0)))","v":0},0,{"$f":"IF(INTRO!$E$39=\"Non-endemic\",IF(INTRO!$E$37=\"Non-endemic\",\"Not required\",COUNTRY_INFO!V40),\"Treat with IVM\")","v":"Treat with IVM"},0,0,null,0]
[{"$f":"IF(INTRO!$E$39<>\"Non-endemic\", \" \", IF(INTRO!$E$37=\"Non-endemic\",\" \", IF(COUNTRY_INFO!A41=0,\" \",COUNTRY_INFO!A41)))","v":" "},{"$f":"IF(INTRO!$E$39<>\"Non-endemic\", \" \", IF(INTRO!$E$37=\"Non-endemic\",\" \", IF(COUNTRY_INFO!B41=0,\" \",COUNTRY_INFO!B41)))","v":" "},{"$f":"IF(INTRO!$E$39<>\"Non-endemic\", \" \", IF(INTRO!$E$37=\"Non-endemic\",\" \", IF(COUNTRY_INFO!C41=0,\" \",COUNTRY_INFO!C41)))","v":" "},{"$f":"IF(INTRO!$E$39<>\"Non-endemic\", 0, IF(INTRO!$E$37=\"Non-endemic\",0,IF(COUNTRY_INFO!$H41=1,COUNTRY_INFO!E41,0)))","v":0},{"$f":"IF(INTRO!$E$39<>\"Non-endemic\", 0, IF(INTRO!$E$37=\"Non-endemic\",0,IF(COUNTRY_INFO!$H41=1,COUNTRY_INFO!F41,0)))","v":0},{"$f":"IF(INTRO!$E$39<>\"Non-endemic\", 0, IF(INTRO!$E$37=\"Non-endemic\",0,IF(COUNTRY_INFO!$H41=1,COUNTRY_INFO!G41,0)))","v":0},0,{"$f":"IF(INTRO!$E$39=\"Non-endemic\",IF(INTRO!$E$37=\"Non-endemic\",\"Not required\",COUNTRY_INFO!V41),\"Treat with IVM\")","v":"Treat with IVM"},0,0,null,0]
[{"$f":"IF(INTRO!$E$39<>\"Non-endemic\", \" \", IF(INTRO!$E$37=\"Non-endemic\",\" \", IF(COUNTRY_INFO!A42=0,\" \",COUNTRY_INFO!A42)))","v":" "},{"$f":"IF(INTRO!$E$39<>\"Non-endemic\", \" \", IF(INTRO!$E$37=\"Non-endemic\",\" \", IF(COUNTRY_INFO!B42=0,\" \",COUNTRY_INFO!B42)))","v":" "},{"$f":"IF(INTRO!$E$39<>\"Non-endemic\", \" \", IF(INTRO!$E$37=\"Non-endemic\",\" \", IF(COUNTRY_INFO!C42=0,\" \",COUNTRY_INFO!C42)))","v":" "},{"$f":"IF(INTRO!$E$39<>\"Non-endemic\", 0, IF(INTRO!$E$37=\"Non-endemic\",0,IF(COUNTRY_INFO!$H42=1,COUNTRY_INFO!E42,0)))","v":0},{"$f":"IF(INTRO!$E$39<>\"Non-endemic\", 0, IF(INTRO!$E$37=\"Non-endemic\",0,IF(COUNTRY_INFO!$H42=1,COUNTRY_INFO!F42,0)))","v":0},{"$f":"IF(INTRO!$E$39<>\"Non-endemic\", 0, IF(INTRO!$E$37=\"Non-endemic\",0,IF(COUNTRY_INFO!$H42=1,COUNTRY_INFO!G42,0)))","v":0},0,{"$f":"IF(INTRO!$E$39=\"Non-endemic\",IF(INTRO!$E$37=\"Non-endemic\",\"Not required\",COUNTRY_INFO!V42),\"Treat with IVM\")","v":"Treat with IVM"},0,0,null,0]
[{"$f":"IF(INTRO!$E$39<>\"Non-endemic\", \" \", IF(INTRO!$E$37=\"Non-endemic\",\" \", IF(COUNTRY_INFO!A43=0,\" \",COUNTRY_INFO!A43)))","v":" "},{"$f":"IF(INTRO!$E$39<>\"Non-endemic\", \" \", IF(INTRO!$E$37=\"Non-endemic\",\" \", IF(COUNTRY_INFO!B43=0,\" \",COUNTRY_INFO!B43)))","v":" "},{"$f":"IF(INTRO!$E$39<>\"Non-endemic\", \" \", IF(INTRO!$E$37=\"Non-endemic\",\" \", IF(COUNTRY_INFO!C43=0,\" \",COUNTRY_INFO!C43)))","v":" "},{"$f":"IF(INTRO!$E$39<>\"Non-endemic\", 0, IF(INTRO!$E$37=\"Non-endemic\",0,IF(COUNTRY_INFO!$H43=1,COUNTRY_INFO!E43,0)))","v":0},{"$f":"IF(INTRO!$E$39<>\"Non-endemic\", 0, IF(INTRO!$E$37=\"Non-endemic\",0,IF(COUNTRY_INFO!$H43=1,COUNTRY_INFO!F43,0)))","v":0},{"$f":"IF(INTRO!$E$39<>\"Non-endemic\", 0, IF(INTRO!$E$37=\"Non-endemic\",0,IF(COUNTRY_INFO!$H43=1,COUNTRY_INFO!G43,0)))","v":0},0,{"$f":"IF(INTRO!$E$39=\"Non-endemic\",IF(INTRO!$E$37=\"Non-endemic\",\"Not required\",COUNTRY_INFO!V43),\"Treat with IVM\")","v":"Treat with IVM"},0,0,null,0]
[{"$f":"IF(INTRO!$E$39<>\"Non-endemic\", \" \", IF(INTRO!$E$37=\"Non-endemic\",\" \", IF(COUNTRY_INFO!A44=0,\" \",COUNTRY_INFO!A44)))","v":" "},{"$f":"IF(INTRO!$E$39<>\"Non-endemic\", \" \", IF(INTRO!$E$37=\"Non-endemic\",\" \", IF(COUNTRY_INFO!B44=0,\" \",COUNTRY_INFO!B44)))","v":" "},{"$f":"IF(INTRO!$E$39<>\"Non-endemic\", \" \", IF(INTRO!$E$37=\"Non-endemic\",\" \", IF(COUNTRY_INFO!C44=0,\" \",COUNTRY_INFO!C44)))","v":" "},{"$f":"IF(INTRO!$E$39<>\"Non-endemic\", 0, IF(INTRO!$E$37=\"Non-endemic\",0,IF(COUNTRY_INFO!$H44=1,COUNTRY_INFO!E44,0)))","v":0},{"$f":"IF(INTRO!$E$39<>\"Non-endemic\", 0, IF(INTRO!$E$37=\"Non-endemic\",0,IF(COUNTRY_INFO!$H44=1,COUNTRY_INFO!F44,0)))","v":0},{"$f":"IF(INTRO!$E$39<>\"Non-endemic\", 0, IF(INTRO!$E$37=\"Non-endemic\",0,IF(COUNTRY_INFO!$H44=1,COUNTRY_INFO!G44,0)))","v":0},0,{"$f":"IF(INTRO!$E$39=\"Non-endemic\",IF(INTRO!$E$37=\"Non-endemic\",\"Not required\",COUNTRY_INFO!V44),\"Treat with IVM\")","v":"Treat with IVM"},0,0,null,0]
[{"$f":"IF(INTRO!$E$39<>\"Non-endemic\", \" \", IF(INTRO!$E$37=\"Non-endemic\",\" \", IF(COUNTRY_INFO!A45=0,\" \",COUNTRY_INFO!A45)))","v":" "},{"$f":"IF(INTRO!$E$39<>\"Non-endemic\", \" \", IF(INTRO!$E$37=\"Non-endemic\",\" \", IF(COUNTRY_INFO!B45=0,\" \",COUNTRY_INFO!B45)))","v":" "},{"$f":"IF(INTRO!$E$39<>\"Non-endemic\", \" \", IF(INTRO!$E$37=\"Non-endemic\",\" \", IF(COUNTRY_INFO!C45=0,\" \",COUNTRY_INFO!C45)))","v":" "},{"$f":"IF(INTRO!$E$39<>\"Non-endemic\", 0, IF(INTRO!$E$37=\"Non-endemic\",0,IF(COUNTRY_INFO!$H45=1,COUNTRY_INFO!E45,0)))","v":0},{"$f":"IF(INTRO!$E$39<>\"Non-endemic\", 0, IF(INTRO!$E$37=\"Non-endemic\",0,IF(COUNTRY_INFO!$H45=1,COUNTRY_INFO!F45,0)))","v":0},{"$f":"IF(INTRO!$E$39<>\"Non-endemic\", 0, IF(INTRO!$E$37=\"Non-endemic\",0,IF(COUNTRY_INFO!$H45=1,COUNTRY_INFO!G45,0)))","v":0},0,{"$f":"IF(INTRO!$E$39=\"Non-endemic\",IF(INTRO!$E$37=\"Non-endemic\",\"Not required\",COUNTRY_INFO!V45),\"Treat with IVM\")","v":"Treat with IVM"},0,0,null,0]
[{"$f":"IF(INTRO!$E$39<>\"Non-endemic\", \" \", IF(INTRO!$E$37=\"Non-endemic\",\" \", IF(COUNTRY_INFO!A46=0,\" \",COUNTRY_INFO!A46)))","v":" "},{"$f":"IF(INTRO!$E$39<>\"Non-endemic\", \" \", IF(INTRO!$E$37=\"Non-endemic\",\" \", IF(COUNTRY_INFO!B46=0,\" \",COUNTRY_INFO!B46)))","v":" "},{"$f":"IF(INTRO!$E$39<>\"Non-endemic\", \" \", IF(INTRO!$E$37=\"Non-endemic\",\" \", IF(COUNTRY_INFO!C46=0,\" \",COUNTRY_INFO!C46)))","v":" "},{"$f":"IF(INTRO!$E$39<>\"Non-endemic\", 0, IF(INTRO!$E$37=\"Non-endemic\",0,IF(COUNTRY_INFO!$H46=1,COUNTRY_INFO!E46,0)))","v":0},{"$f":"IF(INTRO!$E$39<>\"Non-endemic\", 0, IF(INTRO!$E$37=\"Non-endemic\",0,IF(COUNTRY_INFO!$H46=1,COUNTRY_INFO!F46,0)))","v":0},{"$f":"IF(INTRO!$E$39<>\"Non-endemic\", 0, IF(INTRO!$E$37=\"Non-endemic\",0,IF(COUNTRY_INFO!$H46=1,COUNTRY_INFO!G46,0)))","v":0},0,{"$f":"IF(INTRO!$E$39=\"Non-endemic\",IF(INTRO!$E$37=\"Non-endemic\",\"Not required\",COUNTRY_INFO!V46),\"Treat with IVM\")","v":"Treat with IVM"},0,0,null,0]
[{"$f":"IF(INTRO!$E$39<>\"Non-endemic\", \" \", IF(INTRO!$E$37=\"Non-endemic\",\" \", IF(COUNTRY_INFO!A47=0,\" \",COUNTRY_INFO!A47)))","v":" "},{"$f":"IF(INTRO!$E$39<>\"Non-endemic\", \" \", IF(INTRO!$E$37=\"Non-endemic\",\" \", IF(COUNTRY_INFO!B47=0,\" \",COUNTRY_INFO!B47)))","v":" "},{"$f":"IF(INTRO!$E$39<>\"Non-endemic\", \" \", IF(INTRO!$E$37=\"Non-endemic\",\" \", IF(COUNTRY_INFO!C47=0,\" \",COUNTRY_INFO!C47)))","v":" "},{"$f":"IF(INTRO!$E$39<>\"Non-endemic\", 0, IF(INTRO!$E$37=\"Non-endemic\",0,IF(COUNTRY_INFO!$H47=1,COUNTRY_INFO!E47,0)))","v":0},{"$f":"IF(INTRO!$E$39<>\"Non-endemic\", 0, IF(INTRO!$E$37=\"Non-endemic\",0,IF(COUNTRY_INFO!$H47=1,COUNTRY_INFO!F47,0)))","v":0},{"$f":"IF(INTRO!$E$39<>\"Non-endemic\", 0, IF(INTRO!$E$37=\"Non-endemic\",0,IF(COUNTRY_INFO!$H47=1,COUNTRY_INFO!G47,0)))","v":0},0,{"$f":"IF(INTRO!$E$39=\"Non-endemic\",IF(INTRO!$E$37=\"Non-endemic\",\"Not required\",COUNTRY_INFO!V47),\"Treat with IVM\")","v":"Treat with IVM"},0,0,null,0]
[{"$f":"IF(INTRO!$E$39<>\"Non-endemic\", \" \", IF(INTRO!$E$37=\"Non-endemic\",\" \", IF(COUNTRY_INFO!A48=0,\" \",COUNTRY_INFO!A48)))","v":" "},{"$f":"IF(INTRO!$E$39<>\"Non-endemic\", \" \", IF(INTRO!$E$37=\"Non-endemic\",\" \", IF(COUNTRY_INFO!B48=0,\" \",COUNTRY_INFO!B48)))","v":" "},{"$f":"IF(INTRO!$E$39<>\"Non-endemic\", \" \", IF(INTRO!$E$37=\"Non-endemic\",\" \", IF(COUNTRY_INFO!C48=0,\" \",COUNTRY_INFO!C48)))","v":" "},{"$f":"IF(INTRO!$E$39<>\"Non-endemic\", 0, IF(INTRO!$E$37=\"Non-endemic\",0,IF(COUNTRY_INFO!$H48=1,COUNTRY_INFO!E48,0)))","v":0},{"$f":"IF(INTRO!$E$39<>\"Non-endemic\", 0, IF(INTRO!$E$37=\"Non-endemic\",0,IF(COUNTRY_INFO!$H48=1,COUNTRY_INFO!F48,0)))","v":0},{"$f":"IF(INTRO!$E$39<>\"Non-endemic\", 0, IF(INTRO!$E$37=\"Non-endemic\",0,IF(COUNTRY_INFO!$H48=1,COUNTRY_INFO!G48,0)))","v":0},0,{"$f":"IF(INTRO!$E$39=\"Non-endemic\",IF(INTRO!$E$37=\"Non-endemic\",\"Not required\",COUNTRY_INFO!V48),\"Treat with IVM\")","v":"Treat with IVM"},0,0,null,0]
[{"$f":"IF(INTRO!$E$39<>\"Non-endemic\", \" \", IF(INTRO!$E$37=\"Non-endemic\",\" \", IF(COUNTRY_INFO!A49=0,\" \",COUNTRY_INFO!A49)))","v":" "},{"$f":"IF(INTRO!$E$39<>\"Non-endemic\", \" \", IF(INTRO!$E$37=\"Non-endemic\",\" \", IF(COUNTRY_INFO!B49=0,\" \",COUNTRY_INFO!B49)))","v":" "},{"$f":"IF(INTRO!$E$39<>\"Non-endemic\", \" \", IF(INTRO!$E$37=\"Non-endemic\",\" \", IF(COUNTRY_INFO!C49=0,\" \",COUNTRY_INFO!C49)))","v":" "},{"$f":"IF(INTRO!$E$39<>\"Non-endemic\", 0, IF(INTRO!$E$37=\"Non-endemic\",0,IF(COUNTRY_INFO!$H49=1,COUNTRY_INFO!E49,0)))","v":0},{"$f":"IF(INTRO!$E$39<>\"Non-endemic\", 0, IF(INTRO!$E$37=\"Non-endemic\",0,IF(COUNTRY_INFO!$H49=1,COUNTRY_INFO!F49,0)))","v":0},{"$f":"IF(INTRO!$E$39<>\"Non-endemic\", 0, IF(INTRO!$E$37=\"Non-endemic\",0,IF(COUNTRY_INFO!$H49=1,COUNTRY_INFO!G49,0)))","v":0},0,{"$f":"IF(INTRO!$E$39=\"Non-endemic\",IF(INTRO!$E$37=\"Non-endemic\",\"Not required\",COUNTRY_INFO!V49),\"Treat with IVM\")","v":"Treat with IVM"},0,0,null,0]
[{"$f":"IF(INTRO!$E$39<>\"Non-endemic\", \" \", IF(INTRO!$E$37=\"Non-endemic\",\" \", IF(COUNTRY_INFO!A50=0,\" \",COUNTRY_INFO!A50)))","v":" "},{"$f":"IF(INTRO!$E$39<>\"Non-endemic\", \" \", IF(INTRO!$E$37=\"Non-endemic\",\" \", IF(COUNTRY_INFO!B50=0,\" \",COUNTRY_INFO!B50)))","v":" "},{"$f":"IF(INTRO!$E$39<>\"Non-endemic\", \" \", IF(INTRO!$E$37=\"Non-endemic\",\" \", IF(COUNTRY_INFO!C50=0,\" \",COUNTRY_INFO!C50)))","v":" "},{"$f":"IF(INTRO!$E$39<>\"Non-endemic\", 0, IF(INTRO!$E$37=\"Non-endemic\",0,IF(COUNTRY_INFO!$H50=1,COUNTRY_INFO!E50,0)))","v":0},{"$f":"IF(INTRO!$E$39<>\"Non-endemic\", 0, IF(INTRO!$E$37=\"Non-endemic\",0,IF(COUNTRY_INFO!$H50=1,COUNTRY_INFO!F50,0)))","v":0},{"$f":"IF(INTRO!$E$39<>\"Non-endemic\", 0, IF(INTRO!$E$37=\"Non-endemic\",0,IF(COUNTRY_INFO!$H50=1,COUNTRY_INFO!G50,0)))","v":0},0,{"$f":"IF(INTRO!$E$39=\"Non-endemic\",IF(INTRO!$E$37=\"Non-endemic\",\"Not required\",COUNTRY_INFO!V50),\"Treat with IVM\")","v":"Treat with IVM"},0,0,null,0]
[{"$f":"IF(INTRO!$E$39<>\"Non-endemic\", \" \", IF(INTRO!$E$37=\"Non-endemic\",\" \", IF(COUNTRY_INFO!A51=0,\" \",COUNTRY_INFO!A51)))","v":" "},{"$f":"IF(INTRO!$E$39<>\"Non-endemic\", \" \", IF(INTRO!$E$37=\"Non-endemic\",\" \", IF(COUNTRY_INFO!B51=0,\" \",COUNTRY_INFO!B51)))","v":" "},{"$f":"IF(INTRO!$E$39<>\"Non-endemic\", \" \", IF(INTRO!$E$37=\"Non-endemic\",\" \", IF(COUNTRY_INFO!C51=0,\" \",COUNTRY_INFO!C51)))","v":" "},{"$f":"IF(INTRO!$E$39<>\"Non-endemic\", 0, IF(INTRO!$E$37=\"Non-endemic\",0,IF(COUNTRY_INFO!$H51=1,COUNTRY_INFO!E51,0)))","v":0},{"$f":"IF(INTRO!$E$39<>\"Non-endemic\", 0, IF(INTRO!$E$37=\"Non-endemic\",0,IF(COUNTRY_INFO!$H51=1,COUNTRY_INFO!F51,0)))","v":0},{"$f":"IF(INTRO!$E$39<>\"Non-endemic\", 0, IF(INTRO!$E$37=\"Non-endemic\",0,IF(COUNTRY_INFO!$H51=1,COUNTRY_INFO!G51,0)))","v":0},0,{"$f":"IF(INTRO!$E$39=\"Non-endemic\",IF(INTRO!$E$37=\"Non-endemic\",\"Not required\",COUNTRY_INFO!V51),\"Treat with IVM\")","v":"Treat with IVM"},0,0,null,0]
[{"$f":"IF(INTRO!$E$39<>\"Non-endemic\", \" \", IF(INTRO!$E$37=\"Non-endemic\",\" \", IF(COUNTRY_INFO!A52=0,\" \",COUNTRY_INFO!A52)))","v":" "},{"$f":"IF(INTRO!$E$39<>\"Non-endemic\", \" \", IF(INTRO!$E$37=\"Non-endemic\",\" \", IF(COUNTRY_INFO!B52=0,\" \",COUNTRY_INFO!B52)))","v":" "},{"$f":"IF(INTRO!$E$39<>\"Non-endemic\", \" \", IF(INTRO!$E$37=\"Non-endemic\",\" \", IF(COUNTRY_INFO!C52=0,\" \",COUNTRY_INFO!C52)))","v":" "},{"$f":"IF(INTRO!$E$39<>\"Non-endemic\", 0, IF(INTRO!$E$37=\"Non-endemic\",0,IF(COUNTRY_INFO!$H52=1,COUNTRY_INFO!E52,0)))","v":0},{"$f":"IF(INTRO!$E$39<>\"Non-endemic\", 0, IF(INTRO!$E$37=\"Non-endemic\",0,IF(COUNTRY_INFO!$H52=1,COUNTRY_INFO!F52,0)))","v":0},{"$f":"IF(INTRO!$E$39<>\"Non-endemic\", 0, IF(INTRO!$E$37=\"Non-endemic\",0,IF(COUNTRY_INFO!$H52=1,COUNTRY_INFO!G52,0)))","v":0},0,{"$f":"IF(INTRO!$E$39=\"Non-endemic\",IF(INTRO!$E$37=\"Non-endemic\",\"Not required\",COUNTRY_INFO!V52),\"Treat with IVM\")","v":"Treat with IVM"},0,0,null,0]
[{"$f":"IF(INTRO!$E$39<>\"Non-endemic\", \" \", IF(INTRO!$E$37=\"Non-endemic\",\" \", IF(COUNTRY_INFO!A53=0,\" \",COUNTRY_INFO!A53)))","v":" "},{"$f":"IF(INTRO!$E$39<>\"Non-endemic\", \" \", IF(INTRO!$E$37=\"Non-endemic\",\" \", IF(COUNTRY_INFO!B53=0,\" \",COUNTRY_INFO!B53)))","v":" "},{"$f":"IF(INTRO!$E$39<>\"Non-endemic\", \" \", IF(INTRO!$E$37=\"Non-endemic\",\" \", IF(COUNTRY_INFO!C53=0,\" \",COUNTRY_INFO!C53)))","v":" "},{"$f":"IF(INTRO!$E$39<>\"Non-endemic\", 0, IF(INTRO!$E$37=\"Non-endemic\",0,IF(COUNTRY_INFO!$H53=1,COUNTRY_INFO!E53,0)))","v":0},{"$f":"IF(INTRO!$E$39<>\"Non-endemic\", 0, IF(INTRO!$E$37=\"Non-endemic\",0,IF(COUNTRY_INFO!$H53=1,COUNTRY_INFO!F53,0)))","v":0},{"$f":"IF(INTRO!$E$39<>\"Non-endemic\", 0, IF(INTRO!$E$37=\"Non-endemic\",0,IF(COUNTRY_INFO!$H53=1,COUNTRY_INFO!G53,0)))","v":0},0,{"$f":"IF(INTRO!$E$39=\"Non-endemic\",IF(INTRO!$E$37=\"Non-endemic\",\"Not required\",COUNTRY_INFO!V53),\"Treat with IVM\")","v":"Treat with IVM"},0,0,null,0]
[{"$f":"IF(INTRO!$E$39<>\"Non-endemic\", \" \", IF(INTRO!$E$37=\"Non-endemic\",\" \", IF(COUNTRY_INFO!A54=0,\" \",COUNTRY_INFO!A54)))","v":" "},{"$f":"IF(INTRO!$E$39<>\"Non-endemic\", \" \", IF(INTRO!$E$37=\"Non-endemic\",\" \", IF(COUNTRY_INFO!B54=0,\" \",COUNTRY_INFO!B54)))","v":" "},{"$f":"IF(INTRO!$E$39<>\"Non-endemic\", \" \", IF(INTRO!$E$37=\"Non-endemic\",\" \", IF(COUNTRY_INFO!C54=0,\" \",COUNTRY_INFO!C54)))","v":" "},{"$f":"IF(INTRO!$E$39<>\"Non-endemic\", 0, IF(INTRO!$E$37=\"Non-endemic\",0,IF(COUNTRY_INFO!$H54=1,COUNTRY_INFO!E54,0)))","v":0},{"$f":"IF(INTRO!$E$39<>\"Non-endemic\", 0, IF(INTRO!$E$37=\"Non-endemic\",0,IF(COUNTRY_INFO!$H54=1,COUNTRY_INFO!F54,0)))","v":0},{"$f":"IF(INTRO!$E$39<>\"Non-endemic\", 0, IF(INTRO!$E$37=\"Non-endemic\",0,IF(COUNTRY_INFO!$H54=1,COUNTRY_INFO!G54,0)))","v":0},0,{"$f":"IF(INTRO!$E$39=\"Non-endemic\",IF(INTRO!$E$37=\"Non-endemic\",\"Not required\",COUNTRY_INFO!V54),\"Treat with IVM\")","v":"Treat with IVM"},0,0,null,0]
[{"$f":"IF(INTRO!$E$39<>\"Non-endemic\", \" \", IF(INTRO!$E$37=\"Non-endemic\",\" \", IF(COUNTRY_INFO!A55=0,\" \",COUNTRY_INFO!A55)))","v":" "},{"$f":"IF(INTRO!$E$39<>\"Non-endemic\", \" \", IF(INTRO!$E$37=\"Non-endemic\",\" \", IF(COUNTRY_INFO!B55=0,\" \",COUNTRY_INFO!B55)))","v":" "},{"$f":"IF(INTRO!$E$39<>\"Non-endemic\", \" \", IF(INTRO!$E$37=\"Non-endemic\",\" \", IF(COUNTRY_INFO!C55=0,\" \",COUNTRY_INFO!C55)))","v":" "},{"$f":"IF(INTRO!$E$39<>\"Non-endemic\", 0, IF(INTRO!$E$37=\"Non-endemic\",0,IF(COUNTRY_INFO!$H55=1,COUNTRY_INFO!E55,0)))","v":0},{"$f":"IF(INTRO!$E$39<>\"Non-endemic\", 0, IF(INTRO!$E$37=\"Non-endemic\",0,IF(COUNTRY_INFO!$H55=1,COUNTRY_INFO!F55,0)))","v":0},{"$f":"IF(INTRO!$E$39<>\"Non-endemic\", 0, IF(INTRO!$E$37=\"Non-endemic\",0,IF(COUNTRY_INFO!$H55=1,COUNTRY_INFO!G55,0)))","v":0},0,{"$f":"IF(INTRO!$E$39=\"Non-endemic\",IF(INTRO!$E$37=\"Non-endemic\",\"Not required\",COUNTRY_INFO!V55),\"Treat with IVM\")","v":"Treat with IVM"},0,0,null,0]
[{"$f":"IF(INTRO!$E$39<>\"Non-endemic\", \" \", IF(INTRO!$E$37=\"Non-endemic\",\" \", IF(COUNTRY_INFO!A56=0,\" \",COUNTRY_INFO!A56)))","v":" "},{"$f":"IF(INTRO!$E$39<>\"Non-endemic\", \" \", IF(INTRO!$E$37=\"Non-endemic\",\" \", IF(COUNTRY_INFO!B56=0,\" \",COUNTRY_INFO!B56)))","v":" "},{"$f":"IF(INTRO!$E$39<>\"Non-endemic\", \" \", IF(INTRO!$E$37=\"Non-endemic\",\" \", IF(COUNTRY_INFO!C56=0,\" \",COUNTRY_INFO!C56)))","v":" "},{"$f":"IF(INTRO!$E$39<>\"Non-endemic\", 0, IF(INTRO!$E$37=\"Non-endemic\",0,IF(COUNTRY_INFO!$H56=1,COUNTRY_INFO!E56,0)))","v":0},{"$f":"IF(INTRO!$E$39<>\"Non-endemic\", 0, IF(INTRO!$E$37=\"Non-endemic\",0,IF(COUNTRY_INFO!$H56=1,COUNTRY_INFO!F56,0)))","v":0},{"$f":"IF(INTRO!$E$39<>\"Non-endemic\", 0, IF(INTRO!$E$37=\"Non-endemic\",0,IF(COUNTRY_INFO!$H56=1,COUNTRY_INFO!G56,0)))","v":0},0,{"$f":"IF(INTRO!$E$39=\"Non-endemic\",IF(INTRO!$E$37=\"Non-endemic\",\"Not required\",COUNTRY_INFO!V56),\"Treat with IVM\")","v":"Treat with IVM"},0,0,null,0]
[{"$f":"IF(INTRO!$E$39<>\"Non-endemic\", \" \", IF(INTRO!$E$37=\"Non-endemic\",\" \", IF(COUNTRY_INFO!A57=0,\" \",COUNTRY_INFO!A57)))","v":" "},{"$f":"IF(INTRO!$E$39<>\"Non-endemic\", \" \", IF(INTRO!$E$37=\"Non-endemic\",\" \", IF(COUNTRY_INFO!B57=0,\" \",COUNTRY_INFO!B57)))","v":" "},{"$f":"IF(INTRO!$E$39<>\"Non-endemic\", \" \", IF(INTRO!$E$37=\"Non-endemic\",\" \", IF(COUNTRY_INFO!C57=0,\" \",COUNTRY_INFO!C57)))","v":" "},{"$f":"IF(INTRO!$E$39<>\"Non-endemic\", 0, IF(INTRO!$E$37=\"Non-endemic\",0,IF(COUNTRY_INFO!$H57=1,COUNTRY_INFO!E57,0)))","v":0},{"$f":"IF(INTRO!$E$39<>\"Non-endemic\", 0, IF(INTRO!$E$37=\"Non-endemic\",0,IF(COUNTRY_INFO!$H57=1,COUNTRY_INFO!F57,0)))","v":0},{"$f":"IF(INTRO!$E$39<>\"Non-endemic\", 0, IF(INTRO!$E$37=\"Non-endemic\",0,IF(COUNTRY_INFO!$H57=1,COUNTRY_INFO!G57,0)))","v":0},0,{"$f":"IF(INTRO!$E$39=\"Non-endemic\",IF(INTRO!$E$37=\"Non-endemic\",\"Not required\",COUNTRY_INFO!V57),\"Treat with IVM\")","v":"Treat with IVM"},0,0,null,0]
[{"$f":"IF(INTRO!$E$39<>\"Non-endemic\", \" \", IF(INTRO!$E$37=\"Non-endemic\",\" \", IF(COUNTRY_INFO!A58=0,\" \",COUNTRY_INFO!A58)))","v":" "},{"$f":"IF(INTRO!$E$39<>\"Non-endemic\", \" \", IF(INTRO!$E$37=\"Non-endemic\",\" \", IF(COUNTRY_INFO!B58=0,\" \",COUNTRY_INFO!B58)))","v":" "},{"$f":"IF(INTRO!$E$39<>\"Non-endemic\", \" \", IF(INTRO!$E$37=\"Non-endemic\",\" \", IF(COUNTRY_INFO!C58=0,\" \",COUNTRY_INFO!C58)))","v":" "},{"$f":"IF(INTRO!$E$39<>\"Non-endemic\", 0, IF(INTRO!$E$37=\"Non-endemic\",0,IF(COUNTRY_INFO!$H58=1,COUNTRY_INFO!E58,0)))","v":0},{"$f":"IF(INTRO!$E$39<>\"Non-endemic\", 0, IF(INTRO!$E$37=\"Non-endemic\",0,IF(COUNTRY_INFO!$H58=1,COUNTRY_INFO!F58,0)))","v":0},{"$f":"IF(INTRO!$E$39<>\"Non-endemic\", 0, IF(INTRO!$E$37=\"Non-endemic\",0,IF(COUNTRY_INFO!$H58=1,COUNTRY_INFO!G58,0)))","v":0},0,{"$f":"IF(INTRO!$E$39=\"Non-endemic\",IF(INTRO!$E$37=\"Non-endemic\",\"Not required\",COUNTRY_INFO!V58),\"Treat with IVM\")","v":"Treat with IVM"},0,0,null,0]
[{"$f":"IF(INTRO!$E$39<>\"Non-endemic\", \" \", IF(INTRO!$E$37=\"Non-endemic\",\" \", IF(COUNTRY_INFO!A59=0,\" \",COUNTRY_INFO!A59)))","v":" "},{"$f":"IF(INTRO!$E$39<>\"Non-endemic\", \" \", IF(INTRO!$E$37=\"Non-endemic\",\" \", IF(COUNTRY_INFO!B59=0,\" \",COUNTRY_INFO!B59)))","v":" "},{"$f":"IF(INTRO!$E$39<>\"Non-endemic\", \" \", IF(INTRO!$E$37=\"Non-endemic\",\" \", IF(COUNTRY_INFO!C59=0,\" \",COUNTRY_INFO!C59)))","v":" "},{"$f":"IF(INTRO!$E$39<>\"Non-endemic\", 0, IF(INTRO!$E$37=\"Non-endemic\",0,IF(COUNTRY_INFO!$H59=1,COUNTRY_INFO!E59,0)))","v":0},{"$f":"IF(INTRO!$E$39<>\"Non-endemic\", 0, IF(INTRO!$E$37=\"Non-endemic\",0,IF(COUNTRY_INFO!$H59=1,COUNTRY_INFO!F59,0)))","v":0},{"$f":"IF(INTRO!$E$39<>\"Non-endemic\", 0, IF(INTRO!$E$37=\"Non-endemic\",0,IF(COUNTRY_INFO!$H59=1,COUNTRY_INFO!G59,0)))","v":0},0,{"$f":"IF(INTRO!$E$39=\"Non-endemic\",IF(INTRO!$E$37=\"Non-endemic\",\"Not required\",COUNTRY_INFO!V59),\"Treat with IVM\")","v":"Treat with IVM"},0,0,null,0]
[{"$f":"IF(INTRO!$E$39<>\"Non-endemic\", \" \", IF(INTRO!$E$37=\"Non-endemic\",\" \", IF(COUNTRY_INFO!A60=0,\" \",COUNTRY_INFO!A60)))","v":" "},{"$f":"IF(INTRO!$E$39<>\"Non-endemic\", \" \", IF(INTRO!$E$37=\"Non-endemic\",\" \", IF(COUNTRY_INFO!B60=0,\" \",COUNTRY_INFO!B60)))","v":" "},{"$f":"IF(INTRO!$E$39<>\"Non-endemic\", \" \", IF(INTRO!$E$37=\"Non-endemic\",\" \", IF(COUNTRY_INFO!C60=0,\" \",COUNTRY_INFO!C60)))","v":" "},{"$f":"IF(INTRO!$E$39<>\"Non-endemic\", 0, IF(INTRO!$E$37=\"Non-endemic\",0,IF(COUNTRY_INFO!$H60=1,COUNTRY_INFO!E60,0)))","v":0},{"$f":"IF(INTRO!$E$39<>\"Non-endemic\", 0, IF(INTRO!$E$37=\"Non-endemic\",0,IF(COUNTRY_INFO!$H60=1,COUNTRY_INFO!F60,0)))","v":0},{"$f":"IF(INTRO!$E$39<>\"Non-endemic\", 0, IF(INTRO!$E$37=\"Non-endemic\",0,IF(COUNTRY_INFO!$H60=1,COUNTRY_INFO!G60,0)))","v":0},0,{"$f":"IF(INTRO!$E$39=\"Non-endemic\",IF(INTRO!$E$37=\"Non-endemic\",\"Not required\",COUNTRY_INFO!V60),\"Treat with IVM\")","v":"Treat with IVM"},0,0,null,0]
[{"$f":"IF(INTRO!$E$39<>\"Non-endemic\", \" \", IF(INTRO!$E$37=\"Non-endemic\",\" \", IF(COUNTRY_INFO!A61=0,\" \",COUNTRY_INFO!A61)))","v":" "},{"$f":"IF(INTRO!$E$39<>\"Non-endemic\", \" \", IF(INTRO!$E$37=\"Non-endemic\",\" \", IF(COUNTRY_INFO!B61=0,\" \",COUNTRY_INFO!B61)))","v":" "},{"$f":"IF(INTRO!$E$39<>\"Non-endemic\", \" \", IF(INTRO!$E$37=\"Non-endemic\",\" \", IF(COUNTRY_INFO!C61=0,\" \",COUNTRY_INFO!C61)))","v":" "},{"$f":"IF(INTRO!$E$39<>\"Non-endemic\", 0, IF(INTRO!$E$37=\"Non-endemic\",0,IF(COUNTRY_INFO!$H61=1,COUNTRY_INFO!E61,0)))","v":0},{"$f":"IF(INTRO!$E$39<>\"Non-endemic\", 0, IF(INTRO!$E$37=\"Non-endemic\",0,IF(COUNTRY_INFO!$H61=1,COUNTRY_INFO!F61,0)))","v":0},{"$f":"IF(INTRO!$E$39<>\"Non-endemic\", 0, IF(INTRO!$E$37=\"Non-endemic\",0,IF(COUNTRY_INFO!$H61=1,COUNTRY_INFO!G61,0)))","v":0},0,{"$f":"IF(INTRO!$E$39=\"Non-endemic\",IF(INTRO!$E$37=\"Non-endemic\",\"Not required\",COUNTRY_INFO!V61),\"Treat with IVM\")","v":"Treat with IVM"},0,0,null,0]
[{"$f":"IF(INTRO!$E$39<>\"Non-endemic\", \" \", IF(INTRO!$E$37=\"Non-endemic\",\" \", IF(COUNTRY_INFO!A62=0,\" \",COUNTRY_INFO!A62)))","v":" "},{"$f":"IF(INTRO!$E$39<>\"Non-endemic\", \" \", IF(INTRO!$E$37=\"Non-endemic\",\" \", IF(COUNTRY_INFO!B62=0,\" \",COUNTRY_INFO!B62)))","v":" "},{"$f":"IF(INTRO!$E$39<>\"Non-endemic\", \" \", IF(INTRO!$E$37=\"Non-endemic\",\" \", IF(COUNTRY_INFO!C62=0,\" \",COUNTRY_INFO!C62)))","v":" "},{"$f":"IF(INTRO!$E$39<>\"Non-endemic\", 0, IF(INTRO!$E$37=\"Non-endemic\",0,IF(COUNTRY_INFO!$H62=1,COUNTRY_INFO!E62,0)))","v":0},{"$f":"IF(INTRO!$E$39<>\"Non-endemic\", 0, IF(INTRO!$E$37=\"Non-endemic\",0,IF(COUNTRY_INFO!$H62=1,COUNTRY_INFO!F62,0)))","v":0},{"$f":"IF(INTRO!$E$39<>\"Non-endemic\", 0, IF(INTRO!$E$37=\"Non-endemic\",0,IF(COUNTRY_INFO!$H62=1,COUNTRY_INFO!G62,0)))","v":0},0,{"$f":"IF(INTRO!$E$39=\"Non-endemic\",IF(INTRO!$E$37=\"Non-endemic\",\"Not required\",COUNTRY_INFO!V62),\"Treat with IVM\")","v":"Treat with IVM"},0,0,null,0]
[{"$f":"IF(INTRO!$E$39<>\"Non-endemic\", \" \", IF(INTRO!$E$37=\"Non-endemic\",\" \", IF(COUNTRY_INFO!A63=0,\" \",COUNTRY_INFO!A63)))","v":" "},{"$f":"IF(INTRO!$E$39<>\"Non-endemic\", \" \", IF(INTRO!$E$37=\"Non-endemic\",\" \", IF(COUNTRY_INFO!B63=0,\" \",COUNTRY_INFO!B63)))","v":" "},{"$f":"IF(INTRO!$E$39<>\"Non-endemic\", \" \", IF(INTRO!$E$37=\"Non-endemic\",\" \", IF(COUNTRY_INFO!C63=0,\" \",COUNTRY_INFO!C63)))","v":" "},{"$f":"IF(INTRO!$E$39<>\"Non-endemic\", 0, IF(INTRO!$E$37=\"Non-endemic\",0,IF(COUNTRY_INFO!$H63=1,COUNTRY_INFO!E63,0)))","v":0},{"$f":"IF(INTRO!$E$39<>\"Non-endemic\", 0, IF(INTRO!$E$37=\"Non-endemic\",0,IF(COUNTRY_INFO!$H63=1,COUNTRY_INFO!F63,0)))","v":0},{"$f":"IF(INTRO!$E$39<>\"Non-endemic\", 0, IF(INTRO!$E$37=\"Non-endemic\",0,IF(COUNTRY_INFO!$H63=1,COUNTRY_INFO!G63,0)))","v":0},0,{"$f":"IF(INTRO!$E$39=\"Non-endemic\",IF(INTRO!$E$37=\"Non-endemic\",\"Not required\",COUNTRY_INFO!V63),\"Treat with IVM\")","v":"Treat with IVM"},0,0,null,0]
[{"$f":"IF(INTRO!$E$39<>\"Non-endemic\", \" \", IF(INTRO!$E$37=\"Non-endemic\",\" \", IF(COUNTRY_INFO!A64=0,\" \",COUNTRY_INFO!A64)))","v":" "},{"$f":"IF(INTRO!$E$39<>\"Non-endemic\", \" \", IF(INTRO!$E$37=\"Non-endemic\",\" \", IF(COUNTRY_INFO!B64=0,\" \",COUNTRY_INFO!B64)))","v":" "},{"$f":"IF(INTRO!$E$39<>\"Non-endemic\", \" \", IF(INTRO!$E$37=\"Non-endemic\",\" \", IF(COUNTRY_INFO!C64=0,\" \",COUNTRY_INFO!C64)))","v":" "},{"$f":"IF(INTRO!$E$39<>\"Non-endemic\", 0, IF(INTRO!$E$37=\"Non-endemic\",0,IF(COUNTRY_INFO!$H64=1,COUNTRY_INFO!E64,0)))","v":0},{"$f":"IF(INTRO!$E$39<>\"Non-endemic\", 0, IF(INTRO!$E$37=\"Non-endemic\",0,IF(COUNTRY_INFO!$H64=1,COUNTRY_INFO!F64,0)))","v":0},{"$f":"IF(INTRO!$E$39<>\"Non-endemic\", 0, IF(INTRO!$E$37=\"Non-endemic\",0,IF(COUNTRY_INFO!$H64=1,COUNTRY_INFO!G64,0)))","v":0},0,{"$f":"IF(INTRO!$E$39=\"Non-endemic\",IF(INTRO!$E$37=\"Non-endemic\",\"Not required\",COUNTRY_INFO!V64),\"Treat with IVM\")","v":"Treat with IVM"},0,0,null,0]
[{"$f":"IF(INTRO!$E$39<>\"Non-endemic\", \" \", IF(INTRO!$E$37=\"Non-endemic\",\" \", IF(COUNTRY_INFO!A65=0,\" \",COUNTRY_INFO!A65)))","v":" "},{"$f":"IF(INTRO!$E$39<>\"Non-endemic\", \" \", IF(INTRO!$E$37=\"Non-endemic\",\" \", IF(COUNTRY_INFO!B65=0,\" \",COUNTRY_INFO!B65)))","v":" "},{"$f":"IF(INTRO!$E$39<>\"Non-endemic\", \" \", IF(INTRO!$E$37=\"Non-endemic\",\" \", IF(COUNTRY_INFO!C65=0,\" \",COUNTRY_INFO!C65)))","v":" "},{"$f":"IF(INTRO!$E$39<>\"Non-endemic\", 0, IF(INTRO!$E$37=\"Non-endemic\",0,IF(COUNTRY_INFO!$H65=1,COUNTRY_INFO!E65,0)))","v":0},{"$f":"IF(INTRO!$E$39<>\"Non-endemic\", 0, IF(INTRO!$E$37=\"Non-endemic\",0,IF(COUNTRY_INFO!$H65=1,COUNTRY_INFO!F65,0)))","v":0},{"$f":"IF(INTRO!$E$39<>\"Non-endemic\", 0, IF(INTRO!$E$37=\"Non-endemic\",0,IF(COUNTRY_INFO!$H65=1,COUNTRY_INFO!G65,0)))","v":0},0,{"$f":"IF(INTRO!$E$39=\"Non-endemic\",IF(INTRO!$E$37=\"Non-endemic\",\"Not required\",COUNTRY_INFO!V65),\"Treat with IVM\")","v":"Treat with IVM"},0,0,null,0]
[{"$f":"IF(INTRO!$E$39<>\"Non-endemic\", \" \", IF(INTRO!$E$37=\"Non-endemic\",\" \", IF(COUNTRY_INFO!A66=0,\" \",COUNTRY_INFO!A66)))","v":" "},{"$f":"IF(INTRO!$E$39<>\"Non-endemic\", \" \", IF(INTRO!$E$37=\"Non-endemic\",\" \", IF(COUNTRY_INFO!B66=0,\" \",COUNTRY_INFO!B66)))","v":" "},{"$f":"IF(INTRO!$E$39<>\"Non-endemic\", \" \", IF(INTRO!$E$37=\"Non-endemic\",\" \", IF(COUNTRY_INFO!C66=0,\" \",COUNTRY_INFO!C66)))","v":" "},{"$f":"IF(INTRO!$E$39<>\"Non-endemic\", 0, IF(INTRO!$E$37=\"Non-endemic\",0,IF(COUNTRY_INFO!$H66=1,COUNTRY_INFO!E66,0)))","v":0},{"$f":"IF(INTRO!$E$39<>\"Non-endemic\", 0, IF(INTRO!$E$37=\"Non-endemic\",0,IF(COUNTRY_INFO!$H66=1,COUNTRY_INFO!F66,0)))","v":0},{"$f":"IF(INTRO!$E$39<>\"Non-endemic\", 0, IF(INTRO!$E$37=\"Non-endemic\",0,IF(COUNTRY_INFO!$H66=1,COUNTRY_INFO!G66,0)))","v":0},0,{"$f":"IF(INTRO!$E$39=\"Non-endemic\",IF(INTRO!$E$37=\"Non-endemic\",\"Not required\",COUNTRY_INFO!V66),\"Treat with IVM\")","v":"Treat with IVM"},0,0,null,0]
[{"$f":"IF(INTRO!$E$39<>\"Non-endemic\", \" \", IF(INTRO!$E$37=\"Non-endemic\",\" \", IF(COUNTRY_INFO!A67=0,\" \",COUNTRY_INFO!A67)))","v":" "},{"$f":"IF(INTRO!$E$39<>\"Non-endemic\", \" \", IF(INTRO!$E$37=\"Non-endemic\",\" \", IF(COUNTRY_INFO!B67=0,\" \",COUNTRY_INFO!B67)))","v":" "},{"$f":"IF(INTRO!$E$39<>\"Non-endemic\", \" \", IF(INTRO!$E$37=\"Non-endemic\",\" \", IF(COUNTRY_INFO!C67=0,\" \",COUNTRY_INFO!C67)))","v":" "},{"$f":"IF(INTRO!$E$39<>\"Non-endemic\", 0, IF(INTRO!$E$37=\"Non-endemic\",0,IF(COUNTRY_INFO!$H67=1,COUNTRY_INFO!E67,0)))","v":0},{"$f":"IF(INTRO!$E$39<>\"Non-endemic\", 0, IF(INTRO!$E$37=\"Non-endemic\",0,IF(COUNTRY_INFO!$H67=1,COUNTRY_INFO!F67,0)))","v":0},{"$f":"IF(INTRO!$E$39<>\"Non-endemic\", 0, IF(INTRO!$E$37=\"Non-endemic\",0,IF(COUNTRY_INFO!$H67=1,COUNTRY_INFO!G67,0)))","v":0},0,{"$f":"IF(INTRO!$E$39=\"Non-endemic\",IF(INTRO!$E$37=\"Non-endemic\",\"Not required\",COUNTRY_INFO!V67),\"Treat with IVM\")","v":"Treat with IVM"},0,0,null,0]
[{"$f":"IF(INTRO!$E$39<>\"Non-endemic\", \" \", IF(INTRO!$E$37=\"Non-endemic\",\" \", IF(COUNTRY_INFO!A68=0,\" \",COUNTRY_INFO!A68)))","v":" "},{"$f":"IF(INTRO!$E$39<>\"Non-endemic\", \" \", IF(INTRO!$E$37=\"Non-endemic\",\" \", IF(COUNTRY_INFO!B68=0,\" \",COUNTRY_INFO!B68)))","v":" "},{"$f":"IF(INTRO!$E$39<>\"Non-endemic\", \" \", IF(INTRO!$E$37=\"Non-endemic\",\" \", IF(COUNTRY_INFO!C68=0,\" \",COUNTRY_INFO!C68)))","v":" "},{"$f":"IF(INTRO!$E$39<>\"Non-endemic\", 0, IF(INTRO!$E$37=\"Non-endemic\",0,IF(COUNTRY_INFO!$H68=1,COUNTRY_INFO!E68,0)))","v":0},{"$f":"IF(INTRO!$E$39<>\"Non-endemic\", 0, IF(INTRO!$E$37=\"Non-endemic\",0,IF(COUNTRY_INFO!$H68=1,COUNTRY_INFO!F68,0)))","v":0},{"$f":"IF(INTRO!$E$39<>\"Non-endemic\", 0, IF(INTRO!$E$37=\"Non-endemic\",0,IF(COUNTRY_INFO!$H68=1,COUNTRY_INFO!G68,0)))","v":0},0,{"$f":"IF(INTRO!$E$39=\"Non-endemic\",IF(INTRO!$E$37=\"Non-endemic\",\"Not required\",COUNTRY_INFO!V68),\"Treat with IVM\")","v":"Treat with IVM"},0,0,null,0]
[{"$f":"IF(INTRO!$E$39<>\"Non-endemic\", \" \", IF(INTRO!$E$37=\"Non-endemic\",\" \", IF(COUNTRY_INFO!A69=0,\" \",COUNTRY_INFO!A69)))","v":" "},{"$f":"IF(INTRO!$E$39<>\"Non-endemic\", \" \", IF(INTRO!$E$37=\"Non-endemic\",\" \", IF(COUNTRY_INFO!B69=0,\" \",COUNTRY_INFO!B69)))","v":" "},{"$f":"IF(INTRO!$E$39<>\"Non-endemic\", \" \", IF(INTRO!$E$37=\"Non-endemic\",\" \", IF(COUNTRY_INFO!C69=0,\" \",COUNTRY_INFO!C69)))","v":" "},{"$f":"IF(INTRO!$E$39<>\"Non-endemic\", 0, IF(INTRO!$E$37=\"Non-endemic\",0,IF(COUNTRY_INFO!$H69=1,COUNTRY_INFO!E69,0)))","v":0},{"$f":"IF(INTRO!$E$39<>\"Non-endemic\", 0, IF(INTRO!$E$37=\"Non-endemic\",0,IF(COUNTRY_INFO!$H69=1,COUNTRY_INFO!F69,0)))","v":0},{"$f":"IF(INTRO!$E$39<>\"Non-endemic\", 0, IF(INTRO!$E$37=\"Non-endemic\",0,IF(COUNTRY_INFO!$H69=1,COUNTRY_INFO!G69,0)))","v":0},0,{"$f":"IF(INTRO!$E$39=\"Non-endemic\",IF(INTRO!$E$37=\"Non-endemic\",\"Not required\",COUNTRY_INFO!V69),\"Treat with IVM\")","v":"Treat with IVM"},0,0,null,0]
[{"$f":"IF(INTRO!$E$39<>\"Non-endemic\", \" \", IF(INTRO!$E$37=\"Non-endemic\",\" \", IF(COUNTRY_INFO!A70=0,\" \",COUNTRY_INFO!A70)))","v":" "},{"$f":"IF(INTRO!$E$39<>\"Non-endemic\", \" \", IF(INTRO!$E$37=\"Non-endemic\",\" \", IF(COUNTRY_INFO!B70=0,\" \",COUNTRY_INFO!B70)))","v":" "},{"$f":"IF(INTRO!$E$39<>\"Non-endemic\", \" \", IF(INTRO!$E$37=\"Non-endemic\",\" \", IF(COUNTRY_INFO!C70=0,\" \",COUNTRY_INFO!C70)))","v":" "},{"$f":"IF(INTRO!$E$39<>\"Non-endemic\", 0, IF(INTRO!$E$37=\"Non-endemic\",0,IF(COUNTRY_INFO!$H70=1,COUNTRY_INFO!E70,0)))","v":0},{"$f":"IF(INTRO!$E$39<>\"Non-endemic\", 0, IF(INTRO!$E$37=\"Non-endemic\",0,IF(COUNTRY_INFO!$H70=1,COUNTRY_INFO!F70,0)))","v":0},{"$f":"IF(INTRO!$E$39<>\"Non-endemic\", 0, IF(INTRO!$E$37=\"Non-endemic\",0,IF(COUNTRY_INFO!$H70=1,COUNTRY_INFO!G70,0)))","v":0},0,{"$f":"IF(INTRO!$E$39=\"Non-endemic\",IF(INTRO!$E$37=\"Non-endemic\",\"Not required\",COUNTRY_INFO!V70),\"Treat with IVM\")","v":"Treat with IVM"},0,0,null,0]
[{"$f":"IF(INTRO!$E$39<>\"Non-endemic\", \" \", IF(INTRO!$E$37=\"Non-endemic\",\" \", IF(COUNTRY_INFO!A71=0,\" \",COUNTRY_INFO!A71)))","v":" "},{"$f":"IF(INTRO!$E$39<>\"Non-endemic\", \" \", IF(INTRO!$E$37=\"Non-endemic\",\" \", IF(COUNTRY_INFO!B71=0,\" \",COUNTRY_INFO!B71)))","v":" "},{"$f":"IF(INTRO!$E$39<>\"Non-endemic\", \" \", IF(INTRO!$E$37=\"Non-endemic\",\" \", IF(COUNTRY_INFO!C71=0,\" \",COUNTRY_INFO!C71)))","v":" "},{"$f":"IF(INTRO!$E$39<>\"Non-endemic\", 0, IF(INTRO!$E$37=\"Non-endemic\",0,IF(COUNTRY_INFO!$H71=1,COUNTRY_INFO!E71,0)))","v":0},{"$f":"IF(INTRO!$E$39<>\"Non-endemic\", 0, IF(INTRO!$E$37=\"Non-endemic\",0,IF(COUNTRY_INFO!$H71=1,COUNTRY_INFO!F71,0)))","v":0},{"$f":"IF(INTRO!$E$39<>\"Non-endemic\", 0, IF(INTRO!$E$37=\"Non-endemic\",0,IF(COUNTRY_INFO!$H71=1,COUNTRY_INFO!G71,0)))","v":0},0,{"$f":"IF(INTRO!$E$39=\"Non-endemic\",IF(INTRO!$E$37=\"Non-endemic\",\"Not required\",COUNTRY_INFO!V71),\"Treat with IVM\")","v":"Treat with IVM"},0,0,null,0]
[{"$f":"IF(INTRO!$E$39<>\"Non-endemic\", \" \", IF(INTRO!$E$37=\"Non-endemic\",\" \", IF(COUNTRY_INFO!A72=0,\" \",COUNTRY_INFO!A72)))","v":" "},{"$f":"IF(INTRO!$E$39<>\"Non-endemic\", \" \", IF(INTRO!$E$37=\"Non-endemic\",\" \", IF(COUNTRY_INFO!B72=0,\" \",COUNTRY_INFO!B72)))","v":" "},{"$f":"IF(INTRO!$E$39<>\"Non-endemic\", \" \", IF(INTRO!$E$37=\"Non-endemic\",\" \", IF(COUNTRY_INFO!C72=0,\" \",COUNTRY_INFO!C72)))","v":" "},{"$f":"IF(INTRO!$E$39<>\"Non-endemic\", 0, IF(INTRO!$E$37=\"Non-endemic\",0,IF(COUNTRY_INFO!$H72=1,COUNTRY_INFO!E72,0)))","v":0},{"$f":"IF(INTRO!$E$39<>\"Non-endemic\", 0, IF(INTRO!$E$37=\"Non-endemic\",0,IF(COUNTRY_INFO!$H72=1,COUNTRY_INFO!F72,0)))","v":0},{"$f":"IF(INTRO!$E$39<>\"Non-endemic\", 0, IF(INTRO!$E$37=\"Non-endemic\",0,IF(COUNTRY_INFO!$H72=1,COUNTRY_INFO!G72,0)))","v":0},0,{"$f":"IF(INTRO!$E$39=\"Non-endemic\",IF(INTRO!$E$37=\"Non-endemic\",\"Not required\",COUNTRY_INFO!V72),\"Treat with IVM\")","v":"Treat with IVM"},0,0,null,0]
[{"$f":"IF(INTRO!$E$39<>\"Non-endemic\", \" \", IF(INTRO!$E$37=\"Non-endemic\",\" \", IF(COUNTRY_INFO!A73=0,\" \",COUNTRY_INFO!A73)))","v":" "},{"$f":"IF(INTRO!$E$39<>\"Non-endemic\", \" \", IF(INTRO!$E$37=\"Non-endemic\",\" \", IF(COUNTRY_INFO!B73=0,\" \",COUNTRY_INFO!B73)))","v":" "},{"$f":"IF(INTRO!$E$39<>\"Non-endemic\", \" \", IF(INTRO!$E$37=\"Non-endemic\",\" \", IF(COUNTRY_INFO!C73=0,\" \",COUNTRY_INFO!C73)))","v":" "},{"$f":"IF(INTRO!$E$39<>\"Non-endemic\", 0, IF(INTRO!$E$37=\"Non-endemic\",0,IF(COUNTRY_INFO!$H73=1,COUNTRY_INFO!E73,0)))","v":0},{"$f":"IF(INTRO!$E$39<>\"Non-endemic\", 0, IF(INTRO!$E$37=\"Non-endemic\",0,IF(COUNTRY_INFO!$H73=1,COUNTRY_INFO!F73,0)))","v":0},{"$f":"IF(INTRO!$E$39<>\"Non-endemic\", 0, IF(INTRO!$E$37=\"Non-endemic\",0,IF(COUNTRY_INFO!$H73=1,COUNTRY_INFO!G73,0)))","v":0},0,{"$f":"IF(INTRO!$E$39=\"Non-endemic\",IF(INTRO!$E$37=\"Non-endemic\",\"Not required\",COUNTRY_INFO!V73),\"Treat with IVM\")","v":"Treat with IVM"},0,0,null,0]
[{"$f":"IF(INTRO!$E$39<>\"Non-endemic\", \" \", IF(INTRO!$E$37=\"Non-endemic\",\" \", IF(COUNTRY_INFO!A74=0,\" \",COUNTRY_INFO!A74)))","v":" "},{"$f":"IF(INTRO!$E$39<>\"Non-endemic\", \" \", IF(INTRO!$E$37=\"Non-endemic\",\" \", IF(COUNTRY_INFO!B74=0,\" \",COUNTRY_INFO!B74)))","v":" "},{"$f":"IF(INTRO!$E$39<>\"Non-endemic\", \" \", IF(INTRO!$E$37=\"Non-endemic\",\" \", IF(COUNTRY_INFO!C74=0,\" \",COUNTRY_INFO!C74)))","v":" "},{"$f":"IF(INTRO!$E$39<>\"Non-endemic\", 0, IF(INTRO!$E$37=\"Non-endemic\",0,IF(COUNTRY_INFO!$H74=1,COUNTRY_INFO!E74,0)))","v":0},{"$f":"IF(INTRO!$E$39<>\"Non-endemic\", 0, IF(INTRO!$E$37=\"Non-endemic\",0,IF(COUNTRY_INFO!$H74=1,COUNTRY_INFO!F74,0)))","v":0},{"$f":"IF(INTRO!$E$39<>\"Non-endemic\", 0, IF(INTRO!$E$37=\"Non-endemic\",0,IF(COUNTRY_INFO!$H74=1,COUNTRY_INFO!G74,0)))","v":0},0,{"$f":"IF(INTRO!$E$39=\"Non-endemic\",IF(INTRO!$E$37=\"Non-endemic\",\"Not required\",COUNTRY_INFO!V74),\"Treat with IVM\")","v":"Treat with IVM"},0,0,null,0]
[{"$f":"IF(INTRO!$E$39<>\"Non-endemic\", \" \", IF(INTRO!$E$37=\"Non-endemic\",\" \", IF(COUNTRY_INFO!A75=0,\" \",COUNTRY_INFO!A75)))","v":" "},{"$f":"IF(INTRO!$E$39<>\"Non-endemic\", \" \", IF(INTRO!$E$37=\"Non-endemic\",\" \", IF(COUNTRY_INFO!B75=0,\" \",COUNTRY_INFO!B75)))","v":" "},{"$f":"IF(INTRO!$E$39<>\"Non-endemic\", \" \", IF(INTRO!$E$37=\"Non-endemic\",\" \", IF(COUNTRY_INFO!C75=0,\" \",COUNTRY_INFO!C75)))","v":" "},{"$f":"IF(INTRO!$E$39<>\"Non-endemic\", 0, IF(INTRO!$E$37=\"Non-endemic\",0,IF(COUNTRY_INFO!$H75=1,COUNTRY_INFO!E75,0)))","v":0},{"$f":"IF(INTRO!$E$39<>\"Non-endemic\", 0, IF(INTRO!$E$37=\"Non-endemic\",0,IF(COUNTRY_INFO!$H75=1,COUNTRY_INFO!F75,0)))","v":0},{"$f":"IF(INTRO!$E$39<>\"Non-endemic\", 0, IF(INTRO!$E$37=\"Non-endemic\",0,IF(COUNTRY_INFO!$H75=1,COUNTRY_INFO!G75,0)))","v":0},{"$f":"SUM(D75:F75)","v":0},{"$f":"IF(INTRO!$E$39=\"Non-endemic\",IF(INTRO!$E$37=\"Non-endemic\",\"Not required\",COUNTRY_INFO!V75),\"Treat with IVM\")","v":"Treat with IVM"},{"$f":"IF(H75=1,G75,0)","v":0},{"$f":"IF(I75>0,I75*2.5,0)","v":0},null,0]
[{"$f":"IF(INTRO!$E$39<>\"Non-endemic\", \" \", IF(INTRO!$E$37=\"Non-endemic\",\" \", IF(COUNTRY_INFO!A76=0,\" \",COUNTRY_INFO!A76)))","v":" "},{"$f":"IF(INTRO!$E$39<>\"Non-endemic\", \" \", IF(INTRO!$E$37=\"Non-endemic\",\" \", IF(COUNTRY_INFO!B76=0,\" \",COUNTRY_INFO!B76)))","v":" "},{"$f":"IF(INTRO!$E$39<>\"Non-endemic\", \" \", IF(INTRO!$E$37=\"Non-endemic\",\" \", IF(COUNTRY_INFO!C76=0,\" \",COUNTRY_INFO!C76)))","v":" "},{"$f":"IF(INTRO!$E$39<>\"Non-endemic\", 0, IF(INTRO!$E$37=\"Non-endemic\",0,IF(COUNTRY_INFO!$H76=1,COUNTRY_INFO!E76,0)))","v":0},{"$f":"IF(INTRO!$E$39<>\"Non-endemic\", 0, IF(INTRO!$E$37=\"Non-endemic\",0,IF(COUNTRY_INFO!$H76=1,COUNTRY_INFO!F76,0)))","v":0},{"$f":"IF(INTRO!$E$39<>\"Non-endemic\", 0, IF(INTRO!$E$37=\"Non-endemic\",0,IF(COUNTRY_INFO!$H76=1,COUNTRY_INFO!G76,0)))","v":0},0,{"$f":"IF(INTRO!$E$39=\"Non-endemic\",IF(INTRO!$E$37=\"Non-endemic\",\"Not required\",COUNTRY_INFO!V76),\"Treat with IVM\")","v":"Treat with IVM"},0,0,null,0]
[{"$f":"IF(INTRO!$E$39<>\"Non-endemic\", \" \", IF(INTRO!$E$37=\"Non-endemic\",\" \", IF(COUNTRY_INFO!A77=0,\" \",COUNTRY_INFO!A77)))","v":" "},{"$f":"IF(INTRO!$E$39<>\"Non-endemic\", \" \", IF(INTRO!$E$37=\"Non-endemic\",\" \", IF(COUNTRY_INFO!B77=0,\" \",COUNTRY_INFO!B77)))","v":" "},{"$f":"IF(INTRO!$E$39<>\"Non-endemic\", \" \", IF(INTRO!$E$37=\"Non-endemic\",\" \", IF(COUNTRY_INFO!C77=0,\" \",COUNTRY_INFO!C77)))","v":" "},{"$f":"IF(INTRO!$E$39<>\"Non-endemic\", 0, IF(INTRO!$E$37=\"Non-endemic\",0,IF(COUNTRY_INFO!$H77=1,COUNTRY_INFO!E77,0)))","v":0},{"$f":"IF(INTRO!$E$39<>\"Non-endemic\", 0, IF(INTRO!$E$37=\"Non-endemic\",0,IF(COUNTRY_INFO!$H77=1,COUNTRY_INFO!F77,0)))","v":0},{"$f":"IF(INTRO!$E$39<>\"Non-endemic\", 0, IF(INTRO!$E$37=\"Non-endemic\",0,IF(COUNTRY_INFO!$H77=1,COUNTRY_INFO!G77,0)))","v":0},0,{"$f":"IF(INTRO!$E$39=\"Non-endemic\",IF(INTRO!$E$37=\"Non-endemic\",\"Not required\",COUNTRY_INFO!V77),\"Treat with IVM\")","v":"Treat with IVM"},0,0,null,0]
[{"$f":"IF(INTRO!$E$39<>\"Non-endemic\", \" \", IF(INTRO!$E$37=\"Non-endemic\",\" \", IF(COUNTRY_INFO!A78=0,\" \",COUNTRY_INFO!A78)))","v":" "},{"$f":"IF(INTRO!$E$39<>\"Non-endemic\", \" \", IF(INTRO!$E$37=\"Non-endemic\",\" \", IF(COUNTRY_INFO!B78=0,\" \",COUNTRY_INFO!B78)))","v":" "},{"$f":"IF(INTRO!$E$39<>\"Non-endemic\", \" \", IF(INTRO!$E$37=\"Non-endemic\",\" \", IF(COUNTRY_INFO!C78=0,\" \",COUNTRY_INFO!C78)))","v":" "},{"$f":"IF(INTRO!$E$39<>\"Non-endemic\", 0, IF(INTRO!$E$37=\"Non-endemic\",0,IF(COUNTRY_INFO!$H78=1,COUNTRY_INFO!E78,0)))","v":0},{"$f":"IF(INTRO!$E$39<>\"Non-endemic\", 0, IF(INTRO!$E$37=\"Non-endemic\",0,IF(COUNTRY_INFO!$H78=1,COUNTRY_INFO!F78,0)))","v":0},{"$f":"IF(INTRO!$E$39<>\"Non-endemic\", 0, IF(INTRO!$E$37=\"Non-endemic\",0,IF(COUNTRY_INFO!$H78=1,COUNTRY_INFO!G78,0)))","v":0},0,{"$f":"IF(INTRO!$E$39=\"Non-endemic\",IF(INTRO!$E$37=\"Non-endemic\",\"Not required\",COUNTRY_INFO!V78),\"Treat with IVM\")","v":"Treat with IVM"},0,0,null,0]
[{"$f":"IF(INTRO!$E$39<>\"Non-endemic\", \" \", IF(INTRO!$E$37=\"Non-endemic\",\" \", IF(COUNTRY_INFO!A79=0,\" \",COUNTRY_INFO!A79)))","v":" "},{"$f":"IF(INTRO!$E$39<>\"Non-endemic\", \" \", IF(INTRO!$E$37=\"Non-endemic\",\" \", IF(COUNTRY_INFO!B79=0,\" \",COUNTRY_INFO!B79)))","v":" "},{"$f":"IF(INTRO!$E$39<>\"Non-endemic\", \" \", IF(INTRO!$E$37=\"Non-endemic\",\" \", IF(COUNTRY_INFO!C79=0,\" \",COUNTRY_INFO!C79)))","v":" "},{"$f":"IF(INTRO!$E$39<>\"Non-endemic\", 0, IF(INTRO!$E$37=\"Non-endemic\",0,IF(COUNTRY_INFO!$H79=1,COUNTRY_INFO!E79,0)))","v":0},{"$f":"IF(INTRO!$E$39<>\"Non-endemic\", 0, IF(INTRO!$E$37=\"Non-endemic\",0,IF(COUNTRY_INFO!$H79=1,COUNTRY_INFO!F79,0)))","v":0},{"$f":"IF(INTRO!$E$39<>\"Non-endemic\", 0, IF(INTRO!$E$37=\"Non-endemic\",0,IF(COUNTRY_INFO!$H79=1,COUNTRY_INFO!G79,0)))","v":0},0,{"$f":"IF(INTRO!$E$39=\"Non-endemic\",IF(INTRO!$E$37=\"Non-endemic\",\"Not required\",COUNTRY_INFO!V79),\"Treat with IVM\")","v":"Treat with IVM"},0,0,null,0]
[{"$f":"IF(INTRO!$E$39<>\"Non-endemic\", \" \", IF(INTRO!$E$37=\"Non-endemic\",\" \", IF(COUNTRY_INFO!A80=0,\" \",COUNTRY_INFO!A80)))","v":" "},{"$f":"IF(INTRO!$E$39<>\"Non-endemic\", \" \", IF(INTRO!$E$37=\"Non-endemic\",\" \", IF(COUNTRY_INFO!B80=0,\" \",COUNTRY_INFO!B80)))","v":" "},{"$f":"IF(INTRO!$E$39<>\"Non-endemic\", \" \", IF(INTRO!$E$37=\"Non-endemic\",\" \", IF(COUNTRY_INFO!C80=0,\" \",COUNTRY_INFO!C80)))","v":" "},{"$f":"IF(INTRO!$E$39<>\"Non-endemic\", 0, IF(INTRO!$E$37=\"Non-endemic\",0,IF(COUNTRY_INFO!$H80=1,COUNTRY_INFO!E80,0)))","v":0},{"$f":"IF(INTRO!$E$39<>\"Non-endemic\", 0, IF(INTRO!$E$37=\"Non-endemic\",0,IF(COUNTRY_INFO!$H80=1,COUNTRY_INFO!F80,0)))","v":0},{"$f":"IF(INTRO!$E$39<>\"Non-endemic\", 0, IF(INTRO!$E$37=\"Non-endemic\",0,IF(COUNTRY_INFO!$H80=1,COUNTRY_INFO!G80,0)))","v":0},0,{"$f":"IF(INTRO!$E$39=\"Non-endemic\",IF(INTRO!$E$37=\"Non-endemic\",\"Not required\",COUNTRY_INFO!V80),\"Treat with IVM\")","v":"Treat with IVM"},0,0,null,0]
[{"$f":"IF(INTRO!$E$39<>\"Non-endemic\", \" \", IF(INTRO!$E$37=\"Non-endemic\",\" \", IF(COUNTRY_INFO!A81=0,\" \",COUNTRY_INFO!A81)))","v":" "},{"$f":"IF(INTRO!$E$39<>\"Non-endemic\", \" \", IF(INTRO!$E$37=\"Non-endemic\",\" \", IF(COUNTRY_INFO!B81=0,\" \",COUNTRY_INFO!B81)))","v":" "},{"$f":"IF(INTRO!$E$39<>\"Non-endemic\", \" \", IF(INTRO!$E$37=\"Non-endemic\",\" \", IF(COUNTRY_INFO!C81=0,\" \",COUNTRY_INFO!C81)))","v":" "},{"$f":"IF(INTRO!$E$39<>\"Non-endemic\", 0, IF(INTRO!$E$37=\"Non-endemic\",0,IF(COUNTRY_INFO!$H81=1,COUNTRY_INFO!E81,0)))","v":0},{"$f":"IF(INTRO!$E$39<>\"Non-endemic\", 0, IF(INTRO!$E$37=\"Non-endemic\",0,IF(COUNTRY_INFO!$H81=1,COUNTRY_INFO!F81,0)))","v":0},{"$f":"IF(INTRO!$E$39<>\"Non-endemic\", 0, IF(INTRO!$E$37=\"Non-endemic\",0,IF(COUNTRY_INFO!$H81=1,COUNTRY_INFO!G81,0)))","v":0},0,{"$f":"IF(INTRO!$E$39=\"Non-endemic\",IF(INTRO!$E$37=\"Non-endemic\",\"Not required\",COUNTRY_INFO!V81),\"Treat with IVM\")","v":"Treat with IVM"},0,0,null,0]
[{"$f":"IF(INTRO!$E$39<>\"Non-endemic\", \" \", IF(INTRO!$E$37=\"Non-endemic\",\" \", IF(COUNTRY_INFO!A82=0,\" \",COUNTRY_INFO!A82)))","v":" "},{"$f":"IF(INTRO!$E$39<>\"Non-endemic\", \" \", IF(INTRO!$E$37=\"Non-endemic\",\" \", IF(COUNTRY_INFO!B82=0,\" \",COUNTRY_INFO!B82)))","v":" "},{"$f":"IF(INTRO!$E$39<>\"Non-endemic\", \" \", IF(INTRO!$E$37=\"Non-endemic\",\" \", IF(COUNTRY_INFO!C82=0,\" \",COUNTRY_INFO!C82)))","v":" "},{"$f":"IF(INTRO!$E$39<>\"Non-endemic\", 0, IF(INTRO!$E$37=\"Non-endemic\",0,IF(COUNTRY_INFO!$H82=1,COUNTRY_INFO!E82,0)))","v":0},{"$f":"IF(INTRO!$E$39<>\"Non-endemic\", 0, IF(INTRO!$E$37=\"Non-endemic\",0,IF(COUNTRY_INFO!$H82=1,COUNTRY_INFO!F82,0)))","v":0},{"$f":"IF(INTRO!$E$39<>\"Non-endemic\", 0, IF(INTRO!$E$37=\"Non-endemic\",0,IF(COUNTRY_INFO!$H82=1,COUNTRY_INFO!G82,0)))","v":0},0,{"$f":"IF(INTRO!$E$39=\"Non-endemic\",IF(INTRO!$E$37=\"Non-endemic\",\"Not required\",COUNTRY_INFO!V82),\"Treat with IVM\")","v":"Treat with IVM"},0,0,null,0]
[{"$f":"IF(INTRO!$E$39<>\"Non-endemic\", \" \", IF(INTRO!$E$37=\"Non-endemic\",\" \", IF(COUNTRY_INFO!A83=0,\" \",COUNTRY_INFO!A83)))","v":" "},{"$f":"IF(INTRO!$E$39<>\"Non-endemic\", \" \", IF(INTRO!$E$37=\"Non-endemic\",\" \", IF(COUNTRY_INFO!B83=0,\" \",COUNTRY_INFO!B83)))","v":" "},{"$f":"IF(INTRO!$E$39<>\"Non-endemic\", \" \", IF(INTRO!$E$37=\"Non-endemic\",\" \", IF(COUNTRY_INFO!C83=0,\" \",COUNTRY_INFO!C83)))","v":" "},{"$f":"IF(INTRO!$E$39<>\"Non-endemic\", 0, IF(INTRO!$E$37=\"Non-endemic\",0,IF(COUNTRY_INFO!$H83=1,COUNTRY_INFO!E83,0)))","v":0},{"$f":"IF(INTRO!$E$39<>\"Non-endemic\", 0, IF(INTRO!$E$37=\"Non-endemic\",0,IF(COUNTRY_INFO!$H83=1,COUNTRY_INFO!F83,0)))","v":0},{"$f":"IF(INTRO!$E$39<>\"Non-endemic\", 0, IF(INTRO!$E$37=\"Non-endemic\",0,IF(COUNTRY_INFO!$H83=1,COUNTRY_INFO!G83,0)))","v":0},0,{"$f":"IF(INTRO!$E$39=\"Non-endemic\",IF(INTRO!$E$37=\"Non-endemic\",\"Not required\",COUNTRY_INFO!V83),\"Treat with IVM\")","v":"Treat with IVM"},0,0,null,0]
[{"$f":"IF(INTRO!$E$39<>\"Non-endemic\", \" \", IF(INTRO!$E$37=\"Non-endemic\",\" \", IF(COUNTRY_INFO!A84=0,\" \",COUNTRY_INFO!A84)))","v":" "},{"$f":"IF(INTRO!$E$39<>\"Non-endemic\", \" \", IF(INTRO!$E$37=\"Non-endemic\",\" \", IF(COUNTRY_INFO!B84=0,\" \",COUNTRY_INFO!B84)))","v":" "},{"$f":"IF(INTRO!$E$39<>\"Non-endemic\", \" \", IF(INTRO!$E$37=\"Non-endemic\",\" \", IF(COUNTRY_INFO!C84=0,\" \",COUNTRY_INFO!C84)))","v":" "},{"$f":"IF(INTRO!$E$39<>\"Non-endemic\", 0, IF(INTRO!$E$37=\"Non-endemic\",0,IF(COUNTRY_INFO!$H84=1,COUNTRY_INFO!E84,0)))","v":0},{"$f":"IF(INTRO!$E$39<>\"Non-endemic\", 0, IF(INTRO!$E$37=\"Non-endemic\",0,IF(COUNTRY_INFO!$H84=1,COUNTRY_INFO!F84,0)))","v":0},{"$f":"IF(INTRO!$E$39<>\"Non-endemic\", 0, IF(INTRO!$E$37=\"Non-endemic\",0,IF(COUNTRY_INFO!$H84=1,COUNTRY_INFO!G84,0)))","v":0},0,{"$f":"IF(INTRO!$E$39=\"Non-endemic\",IF(INTRO!$E$37=\"Non-endemic\",\"Not required\",COUNTRY_INFO!V84),\"Treat with IVM\")","v":"Treat with IVM"},0,0,null,0]
[{"$f":"IF(INTRO!$E$39<>\"Non-endemic\", \" \", IF(INTRO!$E$37=\"Non-endemic\",\" \", IF(COUNTRY_INFO!A85=0,\" \",COUNTRY_INFO!A85)))","v":" "},{"$f":"IF(INTRO!$E$39<>\"Non-endemic\", \" \", IF(INTRO!$E$37=\"Non-endemic\",\" \", IF(COUNTRY_INFO!B85=0,\" \",COUNTRY_INFO!B85)))","v":" "},{"$f":"IF(INTRO!$E$39<>\"Non-endemic\", \" \", IF(INTRO!$E$37=\"Non-endemic\",\" \", IF(COUNTRY_INFO!C85=0,\" \",COUNTRY_INFO!C85)))","v":" "},{"$f":"IF(INTRO!$E$39<>\"Non-endemic\", 0, IF(INTRO!$E$37=\"Non-endemic\",0,IF(COUNTRY_INFO!$H85=1,COUNTRY_INFO!E85,0)))","v":0},{"$f":"IF(INTRO!$E$39<>\"Non-endemic\", 0, IF(INTRO!$E$37=\"Non-endemic\",0,IF(COUNTRY_INFO!$H85=1,COUNTRY_INFO!F85,0)))","v":0},{"$f":"IF(INTRO!$E$39<>\"Non-endemic\", 0, IF(INTRO!$E$37=\"Non-endemic\",0,IF(COUNTRY_INFO!$H85=1,COUNTRY_INFO!G85,0)))","v":0},0,{"$f":"IF(INTRO!$E$39=\"Non-endemic\",IF(INTRO!$E$37=\"Non-endemic\",\"Not required\",COUNTRY_INFO!V85),\"Treat with IVM\")","v":"Treat with IVM"},0,0,null,0]
[{"$f":"IF(INTRO!$E$39<>\"Non-endemic\", \" \", IF(INTRO!$E$37=\"Non-endemic\",\" \", IF(COUNTRY_INFO!A86=0,\" \",COUNTRY_INFO!A86)))","v":" "},{"$f":"IF(INTRO!$E$39<>\"Non-endemic\", \" \", IF(INTRO!$E$37=\"Non-endemic\",\" \", IF(COUNTRY_INFO!B86=0,\" \",COUNTRY_INFO!B86)))","v":" "},{"$f":"IF(INTRO!$E$39<>\"Non-endemic\", \" \", IF(INTRO!$E$37=\"Non-endemic\",\" \", IF(COUNTRY_INFO!C86=0,\" \",COUNTRY_INFO!C86)))","v":" "},{"$f":"IF(INTRO!$E$39<>\"Non-endemic\", 0, IF(INTRO!$E$37=\"Non-endemic\",0,IF(COUNTRY_INFO!$H86=1,COUNTRY_INFO!E86,0)))","v":0},{"$f":"IF(INTRO!$E$39<>\"Non-endemic\", 0, IF(INTRO!$E$37=\"Non-endemic\",0,IF(COUNTRY_INFO!$H86=1,COUNTRY_INFO!F86,0)))","v":0},{"$f":"IF(INTRO!$E$39<>\"Non-endemic\", 0, IF(INTRO!$E$37=\"Non-endemic\",0,IF(COUNTRY_INFO!$H86=1,COUNTRY_INFO!G86,0)))","v":0},0,{"$f":"IF(INTRO!$E$39=\"Non-endemic\",IF(INTRO!$E$37=\"Non-endemic\",\"Not required\",COUNTRY_INFO!V86),\"Treat with IVM\")","v":"Treat with IVM"},0,0,null,0]
[{"$f":"IF(INTRO!$E$39<>\"Non-endemic\", \" \", IF(INTRO!$E$37=\"Non-endemic\",\" \", IF(COUNTRY_INFO!A87=0,\" \",COUNTRY_INFO!A87)))","v":" "},{"$f":"IF(INTRO!$E$39<>\"Non-endemic\", \" \", IF(INTRO!$E$37=\"Non-endemic\",\" \", IF(COUNTRY_INFO!B87=0,\" \",COUNTRY_INFO!B87)))","v":" "},{"$f":"IF(INTRO!$E$39<>\"Non-endemic\", \" \", IF(INTRO!$E$37=\"Non-endemic\",\" \", IF(COUNTRY_INFO!C87=0,\" \",COUNTRY_INFO!C87)))","v":" "},{"$f":"IF(INTRO!$E$39<>\"Non-endemic\", 0, IF(INTRO!$E$37=\"Non-endemic\",0,IF(COUNTRY_INFO!$H87=1,COUNTRY_INFO!E87,0)))","v":0},{"$f":"IF(INTRO!$E$39<>\"Non-endemic\", 0, IF(INTRO!$E$37=\"Non-endemic\",0,IF(COUNTRY_INFO!$H87=1,COUNTRY_INFO!F87,0)))","v":0},{"$f":"IF(INTRO!$E$39<>\"Non-endemic\", 0, IF(INTRO!$E$37=\"Non-endemic\",0,IF(COUNTRY_INFO!$H87=1,COUNTRY_INFO!G87,0)))","v":0},0,{"$f":"IF(INTRO!$E$39=\"Non-endemic\",IF(INTRO!$E$37=\"Non-endemic\",\"Not required\",COUNTRY_INFO!V87),\"Treat with IVM\")","v":"Treat with IVM"},0,0,null,0]
[{"$f":"IF(INTRO!$E$39<>\"Non-endemic\", \" \", IF(INTRO!$E$37=\"Non-endemic\",\" \", IF(COUNTRY_INFO!A88=0,\" \",COUNTRY_INFO!A88)))","v":" "},{"$f":"IF(INTRO!$E$39<>\"Non-endemic\", \" \", IF(INTRO!$E$37=\"Non-endemic\",\" \", IF(COUNTRY_INFO!B88=0,\" \",COUNTRY_INFO!B88)))","v":" "},{"$f":"IF(INTRO!$E$39<>\"Non-endemic\", \" \", IF(INTRO!$E$37=\"Non-endemic\",\" \", IF(COUNTRY_INFO!C88=0,\" \",COUNTRY_INFO!C88)))","v":" "},{"$f":"IF(INTRO!$E$39<>\"Non-endemic\", 0, IF(INTRO!$E$37=\"Non-endemic\",0,IF(COUNTRY_INFO!$H88=1,COUNTRY_INFO!E88,0)))","v":0},{"$f":"IF(INTRO!$E$39<>\"Non-endemic\", 0, IF(INTRO!$E$37=\"Non-endemic\",0,IF(COUNTRY_INFO!$H88=1,COUNTRY_INFO!F88,0)))","v":0},{"$f":"IF(INTRO!$E$39<>\"Non-endemic\", 0, IF(INTRO!$E$37=\"Non-endemic\",0,IF(COUNTRY_INFO!$H88=1,COUNTRY_INFO!G88,0)))","v":0},0,{"$f":"IF(INTRO!$E$39=\"Non-endemic\",IF(INTRO!$E$37=\"Non-endemic\",\"Not required\",COUNTRY_INFO!V88),\"Treat with IVM\")","v":"Treat with IVM"},0,0,null,0]
[{"$f":"IF(INTRO!$E$39<>\"Non-endemic\", \" \", IF(INTRO!$E$37=\"Non-endemic\",\" \", IF(COUNTRY_INFO!A89=0,\" \",COUNTRY_INFO!A89)))","v":" "},{"$f":"IF(INTRO!$E$39<>\"Non-endemic\", \" \", IF(INTRO!$E$37=\"Non-endemic\",\" \", IF(COUNTRY_INFO!B89=0,\" \",COUNTRY_INFO!B89)))","v":" "},{"$f":"IF(INTRO!$E$39<>\"Non-endemic\", \" \", IF(INTRO!$E$37=\"Non-endemic\",\" \", IF(COUNTRY_INFO!C89=0,\" \",COUNTRY_INFO!C89)))","v":" "},{"$f":"IF(INTRO!$E$39<>\"Non-endemic\", 0, IF(INTRO!$E$37=\"Non-endemic\",0,IF(COUNTRY_INFO!$H89=1,COUNTRY_INFO!E89,0)))","v":0},{"$f":"IF(INTRO!$E$39<>\"Non-endemic\", 0, IF(INTRO!$E$37=\"Non-endemic\",0,IF(COUNTRY_INFO!$H89=1,COUNTRY_INFO!F89,0)))","v":0},{"$f":"IF(INTRO!$E$39<>\"Non-endemic\", 0, IF(INTRO!$E$37=\"Non-endemic\",0,IF(COUNTRY_INFO!$H89=1,COUNTRY_INFO!G89,0)))","v":0},0,{"$f":"IF(INTRO!$E$39=\"Non-endemic\",IF(INTRO!$E$37=\"Non-endemic\",\"Not required\",COUNTRY_INFO!V89),\"Treat with IVM\")","v":"Treat with IVM"},0,0,null,0]
[{"$f":"IF(INTRO!$E$39<>\"Non-endemic\", \" \", IF(INTRO!$E$37=\"Non-endemic\",\" \", IF(COUNTRY_INFO!A90=0,\" \",COUNTRY_INFO!A90)))","v":" "},{"$f":"IF(INTRO!$E$39<>\"Non-endemic\", \" \", IF(INTRO!$E$37=\"Non-endemic\",\" \", IF(COUNTRY_INFO!B90=0,\" \",COUNTRY_INFO!B90)))","v":" "},{"$f":"IF(INTRO!$E$39<>\"Non-endemic\", \" \", IF(INTRO!$E$37=\"Non-endemic\",\" \", IF(COUNTRY_INFO!C90=0,\" \",COUNTRY_INFO!C90)))","v":" "},{"$f":"IF(INTRO!$E$39<>\"Non-endemic\", 0, IF(INTRO!$E$37=\"Non-endemic\",0,IF(COUNTRY_INFO!$H90=1,COUNTRY_INFO!E90,0)))","v":0},{"$f":"IF(INTRO!$E$39<>\"Non-endemic\", 0, IF(INTRO!$E$37=\"Non-endemic\",0,IF(COUNTRY_INFO!$H90=1,COUNTRY_INFO!F90,0)))","v":0},{"$f":"IF(INTRO!$E$39<>\"Non-endemic\", 0, IF(INTRO!$E$37=\"Non-endemic\",0,IF(COUNTRY_INFO!$H90=1,COUNTRY_INFO!G90,0)))","v":0},0,{"$f":"IF(INTRO!$E$39=\"Non-endemic\",IF(INTRO!$E$37=\"Non-endemic\",\"Not required\",COUNTRY_INFO!V90),\"Treat with IVM\")","v":"Treat with IVM"},0,0,null,0]
[{"$f":"IF(INTRO!$E$39<>\"Non-endemic\", \" \", IF(INTRO!$E$37=\"Non-endemic\",\" \", IF(COUNTRY_INFO!A91=0,\" \",COUNTRY_INFO!A91)))","v":" "},{"$f":"IF(INTRO!$E$39<>\"Non-endemic\", \" \", IF(INTRO!$E$37=\"Non-endemic\",\" \", IF(COUNTRY_INFO!B91=0,\" \",COUNTRY_INFO!B91)))","v":" "},{"$f":"IF(INTRO!$E$39<>\"Non-endemic\", \" \", IF(INTRO!$E$37=\"Non-endemic\",\" \", IF(COUNTRY_INFO!C91=0,\" \",COUNTRY_INFO!C91)))","v":" "},{"$f":"IF(INTRO!$E$39<>\"Non-endemic\", 0, IF(INTRO!$E$37=\"Non-endemic\",0,IF(COUNTRY_INFO!$H91=1,COUNTRY_INFO!E91,0)))","v":0},{"$f":"IF(INTRO!$E$39<>\"Non-endemic\", 0, IF(INTRO!$E$37=\"Non-endemic\",0,IF(COUNTRY_INFO!$H91=1,COUNTRY_INFO!F91,0)))","v":0},{"$f":"IF(INTRO!$E$39<>\"Non-endemic\", 0, IF(INTRO!$E$37=\"Non-endemic\",0,IF(COUNTRY_INFO!$H91=1,COUNTRY_INFO!G91,0)))","v":0},0,{"$f":"IF(INTRO!$E$39=\"Non-endemic\",IF(INTRO!$E$37=\"Non-endemic\",\"Not required\",COUNTRY_INFO!V91),\"Treat with IVM\")","v":"Treat with IVM"},0,0,null,0]
[{"$f":"IF(INTRO!$E$39<>\"Non-endemic\", \" \", IF(INTRO!$E$37=\"Non-endemic\",\" \", IF(COUNTRY_INFO!A92=0,\" \",COUNTRY_INFO!A92)))","v":" "},{"$f":"IF(INTRO!$E$39<>\"Non-endemic\", \" \", IF(INTRO!$E$37=\"Non-endemic\",\" \", IF(COUNTRY_INFO!B92=0,\" \",COUNTRY_INFO!B92)))","v":" "},{"$f":"IF(INTRO!$E$39<>\"Non-endemic\", \" \", IF(INTRO!$E$37=\"Non-endemic\",\" \", IF(COUNTRY_INFO!C92=0,\" \",COUNTRY_INFO!C92)))","v":" "},{"$f":"IF(INTRO!$E$39<>\"Non-endemic\", 0, IF(INTRO!$E$37=\"Non-endemic\",0,IF(COUNTRY_INFO!$H92=1,COUNTRY_INFO!E92,0)))","v":0},{"$f":"IF(INTRO!$E$39<>\"Non-endemic\", 0, IF(INTRO!$E$37=\"Non-endemic\",0,IF(COUNTRY_INFO!$H92=1,COUNTRY_INFO!F92,0)))","v":0},{"$f":"IF(INTRO!$E$39<>\"Non-endemic\", 0, IF(INTRO!$E$37=\"Non-endemic\",0,IF(COUNTRY_INFO!$H92=1,COUNTRY_INFO!G92,0)))","v":0},0,{"$f":"IF(INTRO!$E$39=\"Non-endemic\",IF(INTRO!$E$37=\"Non-endemic\",\"Not required\",COUNTRY_INFO!V92),\"Treat with IVM\")","v":"Treat with IVM"},0,0,null,0]
[{"$f":"IF(INTRO!$E$39<>\"Non-endemic\", \" \", IF(INTRO!$E$37=\"Non-endemic\",\" \", IF(COUNTRY_INFO!A93=0,\" \",COUNTRY_INFO!A93)))","v":" "},{"$f":"IF(INTRO!$E$39<>\"Non-endemic\", \" \", IF(INTRO!$E$37=\"Non-endemic\",\" \", IF(COUNTRY_INFO!B93=0,\" \",COUNTRY_INFO!B93)))","v":" "},{"$f":"IF(INTRO!$E$39<>\"Non-endemic\", \" \", IF(INTRO!$E$37=\"Non-endemic\",\" \", IF(COUNTRY_INFO!C93=0,\" \",COUNTRY_INFO!C93)))","v":" "},{"$f":"IF(INTRO!$E$39<>\"Non-endemic\", 0, IF(INTRO!$E$37=\"Non-endemic\",0,IF(COUNTRY_INFO!$H93=1,COUNTRY_INFO!E93,0)))","v":0},{"$f":"IF(INTRO!$E$39<>\"Non-endemic\", 0, IF(INTRO!$E$37=\"Non-endemic\",0,IF(COUNTRY_INFO!$H93=1,COUNTRY_INFO!F93,0)))","v":0},{"$f":"IF(INTRO!$E$39<>\"Non-endemic\", 0, IF(INTRO!$E$37=\"Non-endemic\",0,IF(COUNTRY_INFO!$H93=1,COUNTRY_INFO!G93,0)))","v":0},0,{"$f":"IF(INTRO!$E$39=\"Non-endemic\",IF(INTRO!$E$37=\"Non-endemic\",\"Not required\",COUNTRY_INFO!V93),\"Treat with IVM\")","v":"Treat with IVM"},0,0,null,0]
[{"$f":"IF(INTRO!$E$39<>\"Non-endemic\", \" \", IF(INTRO!$E$37=\"Non-endemic\",\" \", IF(COUNTRY_INFO!A94=0,\" \",COUNTRY_INFO!A94)))","v":" "},{"$f":"IF(INTRO!$E$39<>\"Non-endemic\", \" \", IF(INTRO!$E$37=\"Non-endemic\",\" \", IF(COUNTRY_INFO!B94=0,\" \",COUNTRY_INFO!B94)))","v":" "},{"$f":"IF(INTRO!$E$39<>\"Non-endemic\", \" \", IF(INTRO!$E$37=\"Non-endemic\",\" \", IF(COUNTRY_INFO!C94=0,\" \",COUNTRY_INFO!C94)))","v":" "},{"$f":"IF(INTRO!$E$39<>\"Non-endemic\", 0, IF(INTRO!$E$37=\"Non-endemic\",0,IF(COUNTRY_INFO!$H94=1,COUNTRY_INFO!E94,0)))","v":0},{"$f":"IF(INTRO!$E$39<>\"Non-endemic\", 0, IF(INTRO!$E$37=\"Non-endemic\",0,IF(COUNTRY_INFO!$H94=1,COUNTRY_INFO!F94,0)))","v":0},{"$f":"IF(INTRO!$E$39<>\"Non-endemic\", 0, IF(INTRO!$E$37=\"Non-endemic\",0,IF(COUNTRY_INFO!$H94=1,COUNTRY_INFO!G94,0)))","v":0},0,{"$f":"IF(INTRO!$E$39=\"Non-endemic\",IF(INTRO!$E$37=\"Non-endemic\",\"Not required\",COUNTRY_INFO!V94),\"Treat with IVM\")","v":"Treat with IVM"},0,0,null,0]
[{"$f":"IF(INTRO!$E$39<>\"Non-endemic\", \" \", IF(INTRO!$E$37=\"Non-endemic\",\" \", IF(COUNTRY_INFO!A95=0,\" \",COUNTRY_INFO!A95)))","v":" "},{"$f":"IF(INTRO!$E$39<>\"Non-endemic\", \" \", IF(INTRO!$E$37=\"Non-endemic\",\" \", IF(COUNTRY_INFO!B95=0,\" \",COUNTRY_INFO!B95)))","v":" "},{"$f":"IF(INTRO!$E$39<>\"Non-endemic\", \" \", IF(INTRO!$E$37=\"Non-endemic\",\" \", IF(COUNTRY_INFO!C95=0,\" \",COUNTRY_INFO!C95)))","v":" "},{"$f":"IF(INTRO!$E$39<>\"Non-endemic\", 0, IF(INTRO!$E$37=\"Non-endemic\",0,IF(COUNTRY_INFO!$H95=1,COUNTRY_INFO!E95,0)))","v":0},{"$f":"IF(INTRO!$E$39<>\"Non-endemic\", 0, IF(INTRO!$E$37=\"Non-endemic\",0,IF(COUNTRY_INFO!$H95=1,COUNTRY_INFO!F95,0)))","v":0},{"$f":"IF(INTRO!$E$39<>\"Non-endemic\", 0, IF(INTRO!$E$37=\"Non-endemic\",0,IF(COUNTRY_INFO!$H95=1,COUNTRY_INFO!G95,0)))","v":0},0,{"$f":"IF(INTRO!$E$39=\"Non-endemic\",IF(INTRO!$E$37=\"Non-endemic\",\"Not required\",COUNTRY_INFO!V95),\"Treat with IVM\")","v":"Treat with IVM"},0,0,null,0]
[{"$f":"IF(INTRO!$E$39<>\"Non-endemic\", \" \", IF(INTRO!$E$37=\"Non-endemic\",\" \", IF(COUNTRY_INFO!A96=0,\" \",COUNTRY_INFO!A96)))","v":" "},{"$f":"IF(INTRO!$E$39<>\"Non-endemic\", \" \", IF(INTRO!$E$37=\"Non-endemic\",\" \", IF(COUNTRY_INFO!B96=0,\" \",COUNTRY_INFO!B96)))","v":" "},{"$f":"IF(INTRO!$E$39<>\"Non-endemic\", \" \", IF(INTRO!$E$37=\"Non-endemic\",\" \", IF(COUNTRY_INFO!C96=0,\" \",COUNTRY_INFO!C96)))","v":" "},{"$f":"IF(INTRO!$E$39<>\"Non-endemic\", 0, IF(INTRO!$E$37=\"Non-endemic\",0,IF(COUNTRY_INFO!$H96=1,COUNTRY_INFO!E96,0)))","v":0},{"$f":"IF(INTRO!$E$39<>\"Non-endemic\", 0, IF(INTRO!$E$37=\"Non-endemic\",0,IF(COUNTRY_INFO!$H96=1,COUNTRY_INFO!F96,0)))","v":0},{"$f":"IF(INTRO!$E$39<>\"Non-endemic\", 0, IF(INTRO!$E$37=\"Non-endemic\",0,IF(COUNTRY_INFO!$H96=1,COUNTRY_INFO!G96,0)))","v":0},0,{"$f":"IF(INTRO!$E$39=\"Non-endemic\",IF(INTRO!$E$37=\"Non-endemic\",\"Not required\",COUNTRY_INFO!V96),\"Treat with IVM\")","v":"Treat with IVM"},0,0,null,0]
[{"$f":"IF(INTRO!$E$39<>\"Non-endemic\", \" \", IF(INTRO!$E$37=\"Non-endemic\",\" \", IF(COUNTRY_INFO!A97=0,\" \",COUNTRY_INFO!A97)))","v":" "},{"$f":"IF(INTRO!$E$39<>\"Non-endemic\", \" \", IF(INTRO!$E$37=\"Non-endemic\",\" \", IF(COUNTRY_INFO!B97=0,\" \",COUNTRY_INFO!B97)))","v":" "},{"$f":"IF(INTRO!$E$39<>\"Non-endemic\", \" \", IF(INTRO!$E$37=\"Non-endemic\",\" \", IF(COUNTRY_INFO!C97=0,\" \",COUNTRY_INFO!C97)))","v":" "},{"$f":"IF(INTRO!$E$39<>\"Non-endemic\", 0, IF(INTRO!$E$37=\"Non-endemic\",0,IF(COUNTRY_INFO!$H97=1,COUNTRY_INFO!E97,0)))","v":0},{"$f":"IF(INTRO!$E$39<>\"Non-endemic\", 0, IF(INTRO!$E$37=\"Non-endemic\",0,IF(COUNTRY_INFO!$H97=1,COUNTRY_INFO!F97,0)))","v":0},{"$f":"IF(INTRO!$E$39<>\"Non-endemic\", 0, IF(INTRO!$E$37=\"Non-endemic\",0,IF(COUNTRY_INFO!$H97=1,COUNTRY_INFO!G97,0)))","v":0},0,{"$f":"IF(INTRO!$E$39=\"Non-endemic\",IF(INTRO!$E$37=\"Non-endemic\",\"Not required\",COUNTRY_INFO!V97),\"Treat with IVM\")","v":"Treat with IVM"},0,0,null,0]
[{"$f":"IF(INTRO!$E$39<>\"Non-endemic\", \" \", IF(INTRO!$E$37=\"Non-endemic\",\" \", IF(COUNTRY_INFO!A98=0,\" \",COUNTRY_INFO!A98)))","v":" "},{"$f":"IF(INTRO!$E$39<>\"Non-endemic\", \" \", IF(INTRO!$E$37=\"Non-endemic\",\" \", IF(COUNTRY_INFO!B98=0,\" \",COUNTRY_INFO!B98)))","v":" "},{"$f":"IF(INTRO!$E$39<>\"Non-endemic\", \" \", IF(INTRO!$E$37=\"Non-endemic\",\" \", IF(COUNTRY_INFO!C98=0,\" \",COUNTRY_INFO!C98)))","v":" "},{"$f":"IF(INTRO!$E$39<>\"Non-endemic\", 0, IF(INTRO!$E$37=\"Non-endemic\",0,IF(COUNTRY_INFO!$H98=1,COUNTRY_INFO!E98,0)))","v":0},{"$f":"IF(INTRO!$E$39<>\"Non-endemic\", 0, IF(INTRO!$E$37=\"Non-endemic\",0,IF(COUNTRY_INFO!$H98=1,COUNTRY_INFO!F98,0)))","v":0},{"$f":"IF(INTRO!$E$39<>\"Non-endemic\", 0, IF(INTRO!$E$37=\"Non-endemic\",0,IF(COUNTRY_INFO!$H98=1,COUNTRY_INFO!G98,0)))","v":0},0,{"$f":"IF(INTRO!$E$39=\"Non-endemic\",IF(INTRO!$E$37=\"Non-endemic\",\"Not required\",COUNTRY_INFO!V98),\"Treat with IVM\")","v":"Treat with IVM"},0,0,null,0]
[{"$f":"IF(INTRO!$E$39<>\"Non-endemic\", \" \", IF(INTRO!$E$37=\"Non-endemic\",\" \", IF(COUNTRY_INFO!A99=0,\" \",COUNTRY_INFO!A99)))","v":" "},{"$f":"IF(INTRO!$E$39<>\"Non-endemic\", \" \", IF(INTRO!$E$37=\"Non-endemic\",\" \", IF(COUNTRY_INFO!B99=0,\" \",COUNTRY_INFO!B99)))","v":" "},{"$f":"IF(INTRO!$E$39<>\"Non-endemic\", \" \", IF(INTRO!$E$37=\"Non-endemic\",\" \", IF(COUNTRY_INFO!C99=0,\" \",COUNTRY_INFO!C99)))","v":" "},{"$f":"IF(INTRO!$E$39<>\"Non-endemic\", 0, IF(INTRO!$E$37=\"Non-endemic\",0,IF(COUNTRY_INFO!$H99=1,COUNTRY_INFO!E99,0)))","v":0},{"$f":"IF(INTRO!$E$39<>\"Non-endemic\", 0, IF(INTRO!$E$37=\"Non-endemic\",0,IF(COUNTRY_INFO!$H99=1,COUNTRY_INFO!F99,0)))","v":0},{"$f":"IF(INTRO!$E$39<>\"Non-endemic\", 0, IF(INTRO!$E$37=\"Non-endemic\",0,IF(COUNTRY_INFO!$H99=1,COUNTRY_INFO!G99,0)))","v":0},0,{"$f":"IF(INTRO!$E$39=\"Non-endemic\",IF(INTRO!$E$37=\"Non-endemic\",\"Not required\",COUNTRY_INFO!V99),\"Treat with IVM\")","v":"Treat with IVM"},0,0,null,0]
[{"$f":"IF(INTRO!$E$39<>\"Non-endemic\", \" \", IF(INTRO!$E$37=\"Non-endemic\",\" \", IF(COUNTRY_INFO!A100=0,\" \",COUNTRY_INFO!A100)))","v":" "},{"$f":"IF(INTRO!$E$39<>\"Non-endemic\", \" \", IF(INTRO!$E$37=\"Non-endemic\",\" \", IF(COUNTRY_INFO!B100=0,\" \",COUNTRY_INFO!B100)))","v":" "},{"$f":"IF(INTRO!$E$39<>\"Non-endemic\", \" \", IF(INTRO!$E$37=\"Non-endemic\",\" \", IF(COUNTRY_INFO!C100=0,\" \",COUNTRY_INFO!C100)))","v":" "},{"$f":"IF(INTRO!$E$39<>\"Non-endemic\", 0, IF(INTRO!$E$37=\"Non-endemic\",0,IF(COUNTRY_INFO!$H100=1,COUNTRY_INFO!E100,0)))","v":0},{"$f":"IF(INTRO!$E$39<>\"Non-endemic\", 0, IF(INTRO!$E$37=\"Non-endemic\",0,IF(COUNTRY_INFO!$H100=1,COUNTRY_INFO!F100,0)))","v":0},{"$f":"IF(INTRO!$E$39<>\"Non-endemic\", 0, IF(INTRO!$E$37=\"Non-endemic\",0,IF(COUNTRY_INFO!$H100=1,COUNTRY_INFO!G100,0)))","v":0},0,{"$f":"IF(INTRO!$E$39=\"Non-endemic\",IF(INTRO!$E$37=\"Non-endemic\",\"Not required\",COUNTRY_INFO!V100),\"Treat with IVM\")","v":"Treat with IVM"},0,0,null,0]
[{"$f":"IF(INTRO!$E$39<>\"Non-endemic\", \" \", IF(INTRO!$E$37=\"Non-endemic\",\" \", IF(COUNTRY_INFO!A101=0,\" \",COUNTRY_INFO!A101)))","v":" "},{"$f":"IF(INTRO!$E$39<>\"Non-endemic\", \" \", IF(INTRO!$E$37=\"Non-endemic\",\" \", IF(COUNTRY_INFO!B101=0,\" \",COUNTRY_INFO!B101)))","v":" "},{"$f":"IF(INTRO!$E$39<>\"Non-endemic\", \" \", IF(INTRO!$E$37=\"Non-endemic\",\" \", IF(COUNTRY_INFO!C101=0,\" \",COUNTRY_INFO!C101)))","v":" "},{"$f":"IF(INTRO!$E$39<>\"Non-endemic\", 0, IF(INTRO!$E$37=\"Non-endemic\",0,IF(COUNTRY_INFO!$H101=1,COUNTRY_INFO!E101,0)))","v":0},{"$f":"IF(INTRO!$E$39<>\"Non-endemic\", 0, IF(INTRO!$E$37=\"Non-endemic\",0,IF(COUNTRY_INFO!$H101=1,COUNTRY_INFO!F101,0)))","v":0},{"$f":"IF(INTRO!$E$39<>\"Non-endemic\", 0, IF(INTRO!$E$37=\"Non-endemic\",0,IF(COUNTRY_INFO!$H101=1,COUNTRY_INFO!G101,0)))","v":0},0,{"$f":"IF(INTRO!$E$39=\"Non-endemic\",IF(INTRO!$E$37=\"Non-endemic\",\"Not required\",COUNTRY_INFO!V101),\"Treat with IVM\")","v":"Treat with IVM"},0,0,null,0]
[{"$f":"IF(INTRO!$E$39<>\"Non-endemic\", \" \", IF(INTRO!$E$37=\"Non-endemic\",\" \", IF(COUNTRY_INFO!A102=0,\" \",COUNTRY_INFO!A102)))","v":" "},{"$f":"IF(INTRO!$E$39<>\"Non-endemic\", \" \", IF(INTRO!$E$37=\"Non-endemic\",\" \", IF(COUNTRY_INFO!B102=0,\" \",COUNTRY_INFO!B102)))","v":" "},{"$f":"IF(INTRO!$E$39<>\"Non-endemic\", \" \", IF(INTRO!$E$37=\"Non-endemic\",\" \", IF(COUNTRY_INFO!C102=0,\" \",COUNTRY_INFO!C102)))","v":" "},{"$f":"IF(INTRO!$E$39<>\"Non-endemic\", 0, IF(INTRO!$E$37=\"Non-endemic\",0,IF(COUNTRY_INFO!$H102=1,COUNTRY_INFO!E102,0)))","v":0},{"$f":"IF(INTRO!$E$39<>\"Non-endemic\", 0, IF(INTRO!$E$37=\"Non-endemic\",0,IF(COUNTRY_INFO!$H102=1,COUNTRY_INFO!F102,0)))","v":0},{"$f":"IF(INTRO!$E$39<>\"Non-endemic\", 0, IF(INTRO!$E$37=\"Non-endemic\",0,IF(COUNTRY_INFO!$H102=1,COUNTRY_INFO!G102,0)))","v":0},0,{"$f":"IF(INTRO!$E$39=\"Non-endemic\",IF(INTRO!$E$37=\"Non-endemic\",\"Not required\",COUNTRY_INFO!V102),\"Treat with IVM\")","v":"Treat with IVM"},0,0,null,0]
[{"$f":"IF(INTRO!$E$39<>\"Non-endemic\", \" \", IF(INTRO!$E$37=\"Non-endemic\",\" \", IF(COUNTRY_INFO!A103=0,\" \",COUNTRY_INFO!A103)))","v":" "},{"$f":"IF(INTRO!$E$39<>\"Non-endemic\", \" \", IF(INTRO!$E$37=\"Non-endemic\",\" \", IF(COUNTRY_INFO!B103=0,\" \",COUNTRY_INFO!B103)))","v":" "},{"$f":"IF(INTRO!$E$39<>\"Non-endemic\", \" \", IF(INTRO!$E$37=\"Non-endemic\",\" \", IF(COUNTRY_INFO!C103=0,\" \",COUNTRY_INFO!C103)))","v":" "},{"$f":"IF(INTRO!$E$39<>\"Non-endemic\", 0, IF(INTRO!$E$37=\"Non-endemic\",0,IF(COUNTRY_INFO!$H103=1,COUNTRY_INFO!E103,0)))","v":0},{"$f":"IF(INTRO!$E$39<>\"Non-endemic\", 0, IF(INTRO!$E$37=\"Non-endemic\",0,IF(COUNTRY_INFO!$H103=1,COUNTRY_INFO!F103,0)))","v":0},{"$f":"IF(INTRO!$E$39<>\"Non-endemic\", 0, IF(INTRO!$E$37=\"Non-endemic\",0,IF(COUNTRY_INFO!$H103=1,COUNTRY_INFO!G103,0)))","v":0},0,{"$f":"IF(INTRO!$E$39=\"Non-endemic\",IF(INTRO!$E$37=\"Non-endemic\",\"Not required\",COUNTRY_INFO!V103),\"Treat with IVM\")","v":"Treat with IVM"},0,0,null,0]
[{"$f":"IF(INTRO!$E$39<>\"Non-endemic\", \" \", IF(INTRO!$E$37=\"Non-endemic\",\" \", IF(COUNTRY_INFO!A104=0,\" \",COUNTRY_INFO!A104)))","v":" "},{"$f":"IF(INTRO!$E$39<>\"Non-endemic\", \" \", IF(INTRO!$E$37=\"Non-endemic\",\" \", IF(COUNTRY_INFO!B104=0,\" \",COUNTRY_INFO!B104)))","v":" "},{"$f":"IF(INTRO!$E$39<>\"Non-endemic\", \" \", IF(INTRO!$E$37=\"Non-endemic\",\" \", IF(COUNTRY_INFO!C104=0,\" \",COUNTRY_INFO!C104)))","v":" "},{"$f":"IF(INTRO!$E$39<>\"Non-endemic\", 0, IF(INTRO!$E$37=\"Non-endemic\",0,IF(COUNTRY_INFO!$H104=1,COUNTRY_INFO!E104,0)))","v":0},{"$f":"IF(INTRO!$E$39<>\"Non-endemic\", 0, IF(INTRO!$E$37=\"Non-endemic\",0,IF(COUNTRY_INFO!$H104=1,COUNTRY_INFO!F104,0)))","v":0},{"$f":"IF(INTRO!$E$39<>\"Non-endemic\", 0, IF(INTRO!$E$37=\"Non-endemic\",0,IF(COUNTRY_INFO!$H104=1,COUNTRY_INFO!G104,0)))","v":0},0,{"$f":"IF(INTRO!$E$39=\"Non-endemic\",IF(INTRO!$E$37=\"Non-endemic\",\"Not required\",COUNTRY_INFO!V104),\"Treat with IVM\")","v":"Treat with IVM"},0,0,null,0]
[{"$f":"IF(INTRO!$E$39<>\"Non-endemic\", \" \", IF(INTRO!$E$37=\"Non-endemic\",\" \", IF(COUNTRY_INFO!A105=0,\" \",COUNTRY_INFO!A105)))","v":" "},{"$f":"IF(INTRO!$E$39<>\"Non-endemic\", \" \", IF(INTRO!$E$37=\"Non-endemic\",\" \", IF(COUNTRY_INFO!B105=0,\" \",COUNTRY_INFO!B105)))","v":" "},{"$f":"IF(INTRO!$E$39<>\"Non-endemic\", \" \", IF(INTRO!$E$37=\"Non-endemic\",\" \", IF(COUNTRY_INFO!C105=0,\" \",COUNTRY_INFO!C105)))","v":" "},{"$f":"IF(INTRO!$E$39<>\"Non-endemic\", 0, IF(INTRO!$E$37=\"Non-endemic\",0,IF(COUNTRY_INFO!$H105=1,COUNTRY_INFO!E105,0)))","v":0},{"$f":"IF(INTRO!$E$39<>\"Non-endemic\", 0, IF(INTRO!$E$37=\"Non-endemic\",0,IF(COUNTRY_INFO!$H105=1,COUNTRY_INFO!F105,0)))","v":0},{"$f":"IF(INTRO!$E$39<>\"Non-endemic\", 0, IF(INTRO!$E$37=\"Non-endemic\",0,IF(COUNTRY_INFO!$H105=1,COUNTRY_INFO!G105,0)))","v":0},0,{"$f":"IF(INTRO!$E$39=\"Non-endemic\",IF(INTRO!$E$37=\"Non-endemic\",\"Not required\",COUNTRY_INFO!V105),\"Treat with IVM\")","v":"Treat with IVM"},0,0,null,0]
[{"$f":"IF(INTRO!$E$39<>\"Non-endemic\", \" \", IF(INTRO!$E$37=\"Non-endemic\",\" \", IF(COUNTRY_INFO!A106=0,\" \",COUNTRY_INFO!A106)))","v":" "},{"$f":"IF(INTRO!$E$39<>\"Non-endemic\", \" \", IF(INTRO!$E$37=\"Non-endemic\",\" \", IF(COUNTRY_INFO!B106=0,\" \",COUNTRY_INFO!B106)))","v":" "},{"$f":"IF(INTRO!$E$39<>\"Non-endemic\", \" \", IF(INTRO!$E$37=\"Non-endemic\",\" \", IF(COUNTRY_INFO!C106=0,\" \",COUNTRY_INFO!C106)))","v":" "},{"$f":"IF(INTRO!$E$39<>\"Non-endemic\", 0, IF(INTRO!$E$37=\"Non-endemic\",0,IF(COUNTRY_INFO!$H106=1,COUNTRY_INFO!E106,0)))","v":0},{"$f":"IF(INTRO!$E$39<>\"Non-endemic\", 0, IF(INTRO!$E$37=\"Non-endemic\",0,IF(COUNTRY_INFO!$H106=1,COUNTRY_INFO!F106,0)))","v":0},{"$f":"IF(INTRO!$E$39<>\"Non-endemic\", 0, IF(INTRO!$E$37=\"Non-endemic\",0,IF(COUNTRY_INFO!$H106=1,COUNTRY_INFO!G106,0)))","v":0},0,{"$f":"IF(INTRO!$E$39=\"Non-endemic\",IF(INTRO!$E$37=\"Non-endemic\",\"Not required\",COUNTRY_INFO!V106),\"Treat with IVM\")","v":"Treat with IVM"},0,0,null,0]
[{"$f":"IF(INTRO!$E$39<>\"Non-endemic\", \" \", IF(INTRO!$E$37=\"Non-endemic\",\" \", IF(COUNTRY_INFO!A107=0,\" \",COUNTRY_INFO!A107)))","v":" "},{"$f":"IF(INTRO!$E$39<>\"Non-endemic\", \" \", IF(INTRO!$E$37=\"Non-endemic\",\" \", IF(COUNTRY_INFO!B107=0,\" \",COUNTRY_INFO!B107)))","v":" "},{"$f":"IF(INTRO!$E$39<>\"Non-endemic\", \" \", IF(INTRO!$E$37=\"Non-endemic\",\" \", IF(COUNTRY_INFO!C107=0,\" \",COUNTRY_INFO!C107)))","v":" "},{"$f":"IF(INTRO!$E$39<>\"Non-endemic\", 0, IF(INTRO!$E$37=\"Non-endemic\",0,IF(COUNTRY_INFO!$H107=1,COUNTRY_INFO!E107,0)))","v":0},{"$f":"IF(INTRO!$E$39<>\"Non-endemic\", 0, IF(INTRO!$E$37=\"Non-endemic\",0,IF(COUNTRY_INFO!$H107=1,COUNTRY_INFO!F107,0)))","v":0},{"$f":"IF(INTRO!$E$39<>\"Non-endemic\", 0, IF(INTRO!$E$37=\"Non-endemic\",0,IF(COUNTRY_INFO!$H107=1,COUNTRY_INFO!G107,0)))","v":0},0,{"$f":"IF(INTRO!$E$39=\"Non-endemic\",IF(INTRO!$E$37=\"Non-endemic\",\"Not required\",COUNTRY_INFO!V107),\"Treat with IVM\")","v":"Treat with IVM"},0,0,null,0]
[{"$f":"IF(INTRO!$E$39<>\"Non-endemic\", \" \", IF(INTRO!$E$37=\"Non-endemic\",\" \", IF(COUNTRY_INFO!A108=0,\" \",COUNTRY_INFO!A108)))","v":" "},{"$f":"IF(INTRO!$E$39<>\"Non-endemic\", \" \", IF(INTRO!$E$37=\"Non-endemic\",\" \", IF(COUNTRY_INFO!B108=0,\" \",COUNTRY_INFO!B108)))","v":" "},{"$f":"IF(INTRO!$E$39<>\"Non-endemic\", \" \", IF(INTRO!$E$37=\"Non-endemic\",\" \", IF(COUNTRY_INFO!C108=0,\" \",COUNTRY_INFO!C108)))","v":" "},{"$f":"IF(INTRO!$E$39<>\"Non-endemic\", 0, IF(INTRO!$E$37=\"Non-endemic\",0,IF(COUNTRY_INFO!$H108=1,COUNTRY_INFO!E108,0)))","v":0},{"$f":"IF(INTRO!$E$39<>\"Non-endemic\", 0, IF(INTRO!$E$37=\"Non-endemic\",0,IF(COUNTRY_INFO!$H108=1,COUNTRY_INFO!F108,0)))","v":0},{"$f":"IF(INTRO!$E$39<>\"Non-endemic\", 0, IF(INTRO!$E$37=\"Non-endemic\",0,IF(COUNTRY_INFO!$H108=1,COUNTRY_INFO!G108,0)))","v":0},0,{"$f":"IF(INTRO!$E$39=\"Non-endemic\",IF(INTRO!$E$37=\"Non-endemic\",\"Not required\",COUNTRY_INFO!V108),\"Treat with IVM\")","v":"Treat with IVM"},0,0,null,0]
[{"$f":"IF(INTRO!$E$39<>\"Non-endemic\", \" \", IF(INTRO!$E$37=\"Non-endemic\",\" \", IF(COUNTRY_INFO!A109=0,\" \",COUNTRY_INFO!A109)))","v":" "},{"$f":"IF(INTRO!$E$39<>\"Non-endemic\", \" \", IF(INTRO!$E$37=\"Non-endemic\",\" \", IF(COUNTRY_INFO!B109=0,\" \",COUNTRY_INFO!B109)))","v":" "},{"$f":"IF(INTRO!$E$39<>\"Non-endemic\", \" \", IF(INTRO!$E$37=\"Non-endemic\",\" \", IF(COUNTRY_INFO!C109=0,\" \",COUNTRY_INFO!C109)))","v":" "},{"$f":"IF(INTRO!$E$39<>\"Non-endemic\", 0, IF(INTRO!$E$37=\"Non-endemic\",0,IF(COUNTRY_INFO!$H109=1,COUNTRY_INFO!E109,0)))","v":0},{"$f":"IF(INTRO!$E$39<>\"Non-endemic\", 0, IF(INTRO!$E$37=\"Non-endemic\",0,IF(COUNTRY_INFO!$H109=1,COUNTRY_INFO!F109,0)))","v":0},{"$f":"IF(INTRO!$E$39<>\"Non-endemic\", 0, IF(INTRO!$E$37=\"Non-endemic\",0,IF(COUNTRY_INFO!$H109=1,COUNTRY_INFO!G109,0)))","v":0},0,{"$f":"IF(INTRO!$E$39=\"Non-endemic\",IF(INTRO!$E$37=\"Non-endemic\",\"Not required\",COUNTRY_INFO!V109),\"Treat with IVM\")","v":"Treat with IVM"},0,0,null,0]
[{"$f":"IF(INTRO!$E$39<>\"Non-endemic\", \" \", IF(INTRO!$E$37=\"Non-endemic\",\" \", IF(COUNTRY_INFO!A110=0,\" \",COUNTRY_INFO!A110)))","v":" "},{"$f":"IF(INTRO!$E$39<>\"Non-endemic\", \" \", IF(INTRO!$E$37=\"Non-endemic\",\" \", IF(COUNTRY_INFO!B110=0,\" \",COUNTRY_INFO!B110)))","v":" "},{"$f":"IF(INTRO!$E$39<>\"Non-endemic\", \" \", IF(INTRO!$E$37=\"Non-endemic\",\" \", IF(COUNTRY_INFO!C110=0,\" \",COUNTRY_INFO!C110)))","v":" "},{"$f":"IF(INTRO!$E$39<>\"Non-endemic\", 0, IF(INTRO!$E$37=\"Non-endemic\",0,IF(COUNTRY_INFO!$H110=1,COUNTRY_INFO!E110,0)))","v":0},{"$f":"IF(INTRO!$E$39<>\"Non-endemic\", 0, IF(INTRO!$E$37=\"Non-endemic\",0,IF(COUNTRY_INFO!$H110=1,COUNTRY_INFO!F110,0)))","v":0},{"$f":"IF(INTRO!$E$39<>\"Non-endemic\", 0, IF(INTRO!$E$37=\"Non-endemic\",0,IF(COUNTRY_INFO!$H110=1,COUNTRY_INFO!G110,0)))","v":0},0,{"$f":"IF(INTRO!$E$39=\"Non-endemic\",IF(INTRO!$E$37=\"Non-endemic\",\"Not required\",COUNTRY_INFO!V110),\"Treat with IVM\")","v":"Treat with IVM"},0,0,null,0]
[{"$f":"IF(INTRO!$E$39<>\"Non-endemic\", \" \", IF(INTRO!$E$37=\"Non-endemic\",\" \", IF(COUNTRY_INFO!A111=0,\" \",COUNTRY_INFO!A111)))","v":" "},{"$f":"IF(INTRO!$E$39<>\"Non-endemic\", \" \", IF(INTRO!$E$37=\"Non-endemic\",\" \", IF(COUNTRY_INFO!B111=0,\" \",COUNTRY_INFO!B111)))","v":" "},{"$f":"IF(INTRO!$E$39<>\"Non-endemic\", \" \", IF(INTRO!$E$37=\"Non-endemic\",\" \", IF(COUNTRY_INFO!C111=0,\" \",COUNTRY_INFO!C111)))","v":" "},{"$f":"IF(INTRO!$E$39<>\"Non-endemic\", 0, IF(INTRO!$E$37=\"Non-endemic\",0,IF(COUNTRY_INFO!$H111=1,COUNTRY_INFO!E111,0)))","v":0},{"$f":"IF(INTRO!$E$39<>\"Non-endemic\", 0, IF(INTRO!$E$37=\"Non-endemic\",0,IF(COUNTRY_INFO!$H111=1,COUNTRY_INFO!F111,0)))","v":0},{"$f":"IF(INTRO!$E$39<>\"Non-endemic\", 0, IF(INTRO!$E$37=\"Non-endemic\",0,IF(COUNTRY_INFO!$H111=1,COUNTRY_INFO!G111,0)))","v":0},0,{"$f":"IF(INTRO!$E$39=\"Non-endemic\",IF(INTRO!$E$37=\"Non-endemic\",\"Not required\",COUNTRY_INFO!V111),\"Treat with IVM\")","v":"Treat with IVM"},0,0,null,0]
[{"$f":"IF(INTRO!$E$39<>\"Non-endemic\", \" \", IF(INTRO!$E$37=\"Non-endemic\",\" \", IF(COUNTRY_INFO!A112=0,\" \",COUNTRY_INFO!A112)))","v":" "},{"$f":"IF(INTRO!$E$39<>\"Non-endemic\", \" \", IF(INTRO!$E$37=\"Non-endemic\",\" \", IF(COUNTRY_INFO!B112=0,\" \",COUNTRY_INFO!B112)))","v":" "},{"$f":"IF(INTRO!$E$39<>\"Non-endemic\", \" \", IF(INTRO!$E$37=\"Non-endemic\",\" \", IF(COUNTRY_INFO!C112=0,\" \",COUNTRY_INFO!C112)))","v":" "},{"$f":"IF(INTRO!$E$39<>\"Non-endemic\", 0, IF(INTRO!$E$37=\"Non-endemic\",0,IF(COUNTRY_INFO!$H112=1,COUNTRY_INFO!E112,0)))","v":0},{"$f":"IF(INTRO!$E$39<>\"Non-endemic\", 0, IF(INTRO!$E$37=\"Non-endemic\",0,IF(COUNTRY_INFO!$H112=1,COUNTRY_INFO!F112,0)))","v":0},{"$f":"IF(INTRO!$E$39<>\"Non-endemic\", 0, IF(INTRO!$E$37=\"Non-endemic\",0,IF(COUNTRY_INFO!$H112=1,COUNTRY_INFO!G112,0)))","v":0},0,{"$f":"IF(INTRO!$E$39=\"Non-endemic\",IF(INTRO!$E$37=\"Non-endemic\",\"Not required\",COUNTRY_INFO!V112),\"Treat with IVM\")","v":"Treat with IVM"},0,0,null,0]
[{"$f":"IF(INTRO!$E$39<>\"Non-endemic\", \" \", IF(INTRO!$E$37=\"Non-endemic\",\" \", IF(COUNTRY_INFO!A113=0,\" \",COUNTRY_INFO!A113)))","v":" "},{"$f":"IF(INTRO!$E$39<>\"Non-endemic\", \" \", IF(INTRO!$E$37=\"Non-endemic\",\" \", IF(COUNTRY_INFO!B113=0,\" \",COUNTRY_INFO!B113)))","v":" "},{"$f":"IF(INTRO!$E$39<>\"Non-endemic\", \" \", IF(INTRO!$E$37=\"Non-endemic\",\" \", IF(COUNTRY_INFO!C113=0,\" \",COUNTRY_INFO!C113)))","v":" "},{"$f":"IF(INTRO!$E$39<>\"Non-endemic\", 0, IF(INTRO!$E$37=\"Non-endemic\",0,IF(COUNTRY_INFO!$H113=1,COUNTRY_INFO!E113,0)))","v":0},{"$f":"IF(INTRO!$E$39<>\"Non-endemic\", 0, IF(INTRO!$E$37=\"Non-endemic\",0,IF(COUNTRY_INFO!$H113=1,COUNTRY_INFO!F113,0)))","v":0},{"$f":"IF(INTRO!$E$39<>\"Non-endemic\", 0, IF(INTRO!$E$37=\"Non-endemic\",0,IF(COUNTRY_INFO!$H113=1,COUNTRY_INFO!G113,0)))","v":0},0,{"$f":"IF(INTRO!$E$39=\"Non-endemic\",IF(INTRO!$E$37=\"Non-endemic\",\"Not required\",COUNTRY_INFO!V113),\"Treat with IVM\")","v":"Treat with IVM"},0,0,null,0]
[{"$f":"IF(INTRO!$E$39<>\"Non-endemic\", \" \", IF(INTRO!$E$37=\"Non-endemic\",\" \", IF(COUNTRY_INFO!A114=0,\" \",COUNTRY_INFO!A114)))","v":" "},{"$f":"IF(INTRO!$E$39<>\"Non-endemic\", \" \", IF(INTRO!$E$37=\"Non-endemic\",\" \", IF(COUNTRY_INFO!B114=0,\" \",COUNTRY_INFO!B114)))","v":" "},{"$f":"IF(INTRO!$E$39<>\"Non-endemic\", \" \", IF(INTRO!$E$37=\"Non-endemic\",\" \", IF(COUNTRY_INFO!C114=0,\" \",COUNTRY_INFO!C114)))","v":" "},{"$f":"IF(INTRO!$E$39<>\"Non-endemic\", 0, IF(INTRO!$E$37=\"Non-endemic\",0,IF(COUNTRY_INFO!$H114=1,COUNTRY_INFO!E114,0)))","v":0},{"$f":"IF(INTRO!$E$39<>\"Non-endemic\", 0, IF(INTRO!$E$37=\"Non-endemic\",0,IF(COUNTRY_INFO!$H114=1,COUNTRY_INFO!F114,0)))","v":0},{"$f":"IF(INTRO!$E$39<>\"Non-endemic\", 0, IF(INTRO!$E$37=\"Non-endemic\",0,IF(COUNTRY_INFO!$H114=1,COUNTRY_INFO!G114,0)))","v":0},0,{"$f":"IF(INTRO!$E$39=\"Non-endemic\",IF(INTRO!$E$37=\"Non-endemic\",\"Not required\",COUNTRY_INFO!V114),\"Treat with IVM\")","v":"Treat with IVM"},0,0,null,0]
[{"$f":"IF(INTRO!$E$39<>\"Non-endemic\", \" \", IF(INTRO!$E$37=\"Non-endemic\",\" \", IF(COUNTRY_INFO!A115=0,\" \",COUNTRY_INFO!A115)))","v":" "},{"$f":"IF(INTRO!$E$39<>\"Non-endemic\", \" \", IF(INTRO!$E$37=\"Non-endemic\",\" \", IF(COUNTRY_INFO!B115=0,\" \",COUNTRY_INFO!B115)))","v":" "},{"$f":"IF(INTRO!$E$39<>\"Non-endemic\", \" \", IF(INTRO!$E$37=\"Non-endemic\",\" \", IF(COUNTRY_INFO!C115=0,\" \",COUNTRY_INFO!C115)))","v":" "},{"$f":"IF(INTRO!$E$39<>\"Non-endemic\", 0, IF(INTRO!$E$37=\"Non-endemic\",0,IF(COUNTRY_INFO!$H115=1,COUNTRY_INFO!E115,0)))","v":0},{"$f":"IF(INTRO!$E$39<>\"Non-endemic\", 0, IF(INTRO!$E$37=\"Non-endemic\",0,IF(COUNTRY_INFO!$H115=1,COUNTRY_INFO!F115,0)))","v":0},{"$f":"IF(INTRO!$E$39<>\"Non-endemic\", 0, IF(INTRO!$E$37=\"Non-endemic\",0,IF(COUNTRY_INFO!$H115=1,COUNTRY_INFO!G115,0)))","v":0},0,{"$f":"IF(INTRO!$E$39=\"Non-endemic\",IF(INTRO!$E$37=\"Non-endemic\",\"Not required\",COUNTRY_INFO!V115),\"Treat with IVM\")","v":"Treat with IVM"},0,0,null,0]
[{"$f":"IF(INTRO!$E$39<>\"Non-endemic\", \" \", IF(INTRO!$E$37=\"Non-endemic\",\" \", IF(COUNTRY_INFO!A116=0,\" \",COUNTRY_INFO!A116)))","v":" "},{"$f":"IF(INTRO!$E$39<>\"Non-endemic\", \" \", IF(INTRO!$E$37=\"Non-endemic\",\" \", IF(COUNTRY_INFO!B116=0,\" \",COUNTRY_INFO!B116)))","v":" "},{"$f":"IF(INTRO!$E$39<>\"Non-endemic\", \" \", IF(INTRO!$E$37=\"Non-endemic\",\" \", IF(COUNTRY_INFO!C116=0,\" \",COUNTRY_INFO!C116)))","v":" "},{"$f":"IF(INTRO!$E$39<>\"Non-endemic\", 0, IF(INTRO!$E$37=\"Non-endemic\",0,IF(COUNTRY_INFO!$H116=1,COUNTRY_INFO!E116,0)))","v":0},{"$f":"IF(INTRO!$E$39<>\"Non-endemic\", 0, IF(INTRO!$E$37=\"Non-endemic\",0,IF(COUNTRY_INFO!$H116=1,COUNTRY_INFO!F116,0)))","v":0},{"$f":"IF(INTRO!$E$39<>\"Non-endemic\", 0, IF(INTRO!$E$37=\"Non-endemic\",0,IF(COUNTRY_INFO!$H116=1,COUNTRY_INFO!G116,0)))","v":0},0,{"$f":"IF(INTRO!$E$39=\"Non-endemic\",IF(INTRO!$E$37=\"Non-endemic\",\"Not required\",COUNTRY_INFO!V116),\"Treat with IVM\")","v":"Treat with IVM"},0,0,null,0]
[{"$f":"IF(INTRO!$E$39<>\"Non-endemic\", \" \", IF(INTRO!$E$37=\"Non-endemic\",\" \", IF(COUNTRY_INFO!A117=0,\" \",COUNTRY_INFO!A117)))","v":" "},{"$f":"IF(INTRO!$E$39<>\"Non-endemic\", \" \", IF(INTRO!$E$37=\"Non-endemic\",\" \", IF(COUNTRY_INFO!B117=0,\" \",COUNTRY_INFO!B117)))","v":" "},{"$f":"IF(INTRO!$E$39<>\"Non-endemic\", \" \", IF(INTRO!$E$37=\"Non-endemic\",\" \", IF(COUNTRY_INFO!C117=0,\" \",COUNTRY_INFO!C117)))","v":" "},{"$f":"IF(INTRO!$E$39<>\"Non-endemic\", 0, IF(INTRO!$E$37=\"Non-endemic\",0,IF(COUNTRY_INFO!$H117=1,COUNTRY_INFO!E117,0)))","v":0},{"$f":"IF(INTRO!$E$39<>\"Non-endemic\", 0, IF(INTRO!$E$37=\"Non-endemic\",0,IF(COUNTRY_INFO!$H117=1,COUNTRY_INFO!F117,0)))","v":0},{"$f":"IF(INTRO!$E$39<>\"Non-endemic\", 0, IF(INTRO!$E$37=\"Non-endemic\",0,IF(COUNTRY_INFO!$H117=1,COUNTRY_INFO!G117,0)))","v":0},0,{"$f":"IF(INTRO!$E$39=\"Non-endemic\",IF(INTRO!$E$37=\"Non-endemic\",\"Not required\",COUNTRY_INFO!V117),\"Treat with IVM\")","v":"Treat with IVM"},0,0,null,0]
[{"$f":"IF(INTRO!$E$39<>\"Non-endemic\", \" \", IF(INTRO!$E$37=\"Non-endemic\",\" \", IF(COUNTRY_INFO!A118=0,\" \",COUNTRY_INFO!A118)))","v":" "},{"$f":"IF(INTRO!$E$39<>\"Non-endemic\", \" \", IF(INTRO!$E$37=\"Non-endemic\",\" \", IF(COUNTRY_INFO!B118=0,\" \",COUNTRY_INFO!B118)))","v":" "},{"$f":"IF(INTRO!$E$39<>\"Non-endemic\", \" \", IF(INTRO!$E$37=\"Non-endemic\",\" \", IF(COUNTRY_INFO!C118=0,\" \",COUNTRY_INFO!C118)))","v":" "},{"$f":"IF(INTRO!$E$39<>\"Non-endemic\", 0, IF(INTRO!$E$37=\"Non-endemic\",0,IF(COUNTRY_INFO!$H118=1,COUNTRY_INFO!E118,0)))","v":0},{"$f":"IF(INTRO!$E$39<>\"Non-endemic\", 0, IF(INTRO!$E$37=\"Non-endemic\",0,IF(COUNTRY_INFO!$H118=1,COUNTRY_INFO!F118,0)))","v":0},{"$f":"IF(INTRO!$E$39<>\"Non-endemic\", 0, IF(INTRO!$E$37=\"Non-endemic\",0,IF(COUNTRY_INFO!$H118=1,COUNTRY_INFO!G118,0)))","v":0},0,{"$f":"IF(INTRO!$E$39=\"Non-endemic\",IF(INTRO!$E$37=\"Non-endemic\",\"Not required\",COUNTRY_INFO!V118),\"Treat with IVM\")","v":"Treat with IVM"},0,0,null,0]
[{"$f":"IF(INTRO!$E$39<>\"Non-endemic\", \" \", IF(INTRO!$E$37=\"Non-endemic\",\" \", IF(COUNTRY_INFO!A119=0,\" \",COUNTRY_INFO!A119)))","v":" "},{"$f":"IF(INTRO!$E$39<>\"Non-endemic\", \" \", IF(INTRO!$E$37=\"Non-endemic\",\" \", IF(COUNTRY_INFO!B119=0,\" \",COUNTRY_INFO!B119)))","v":" "},{"$f":"IF(INTRO!$E$39<>\"Non-endemic\", \" \", IF(INTRO!$E$37=\"Non-endemic\",\" \", IF(COUNTRY_INFO!C119=0,\" \",COUNTRY_INFO!C119)))","v":" "},{"$f":"IF(INTRO!$E$39<>\"Non-endemic\", 0, IF(INTRO!$E$37=\"Non-endemic\",0,IF(COUNTRY_INFO!$H119=1,COUNTRY_INFO!E119,0)))","v":0},{"$f":"IF(INTRO!$E$39<>\"Non-endemic\", 0, IF(INTRO!$E$37=\"Non-endemic\",0,IF(COUNTRY_INFO!$H119=1,COUNTRY_INFO!F119,0)))","v":0},{"$f":"IF(INTRO!$E$39<>\"Non-endemic\", 0, IF(INTRO!$E$37=\"Non-endemic\",0,IF(COUNTRY_INFO!$H119=1,COUNTRY_INFO!G119,0)))","v":0},0,{"$f":"IF(INTRO!$E$39=\"Non-endemic\",IF(INTRO!$E$37=\"Non-endemic\",\"Not required\",COUNTRY_INFO!V119),\"Treat with IVM\")","v":"Treat with IVM"},0,0,null,0]
[{"$f":"IF(INTRO!$E$39<>\"Non-endemic\", \" \", IF(INTRO!$E$37=\"Non-endemic\",\" \", IF(COUNTRY_INFO!A120=0,\" \",COUNTRY_INFO!A120)))","v":" "},{"$f":"IF(INTRO!$E$39<>\"Non-endemic\", \" \", IF(INTRO!$E$37=\"Non-endemic\",\" \", IF(COUNTRY_INFO!B120=0,\" \",COUNTRY_INFO!B120)))","v":" "},{"$f":"IF(INTRO!$E$39<>\"Non-endemic\", \" \", IF(INTRO!$E$37=\"Non-endemic\",\" \", IF(COUNTRY_INFO!C120=0,\" \",COUNTRY_INFO!C120)))","v":" "},{"$f":"IF(INTRO!$E$39<>\"Non-endemic\", 0, IF(INTRO!$E$37=\"Non-endemic\",0,IF(COUNTRY_INFO!$H120=1,COUNTRY_INFO!E120,0)))","v":0},{"$f":"IF(INTRO!$E$39<>\"Non-endemic\", 0, IF(INTRO!$E$37=\"Non-endemic\",0,IF(COUNTRY_INFO!$H120=1,COUNTRY_INFO!F120,0)))","v":0},{"$f":"IF(INTRO!$E$39<>\"Non-endemic\", 0, IF(INTRO!$E$37=\"Non-endemic\",0,IF(COUNTRY_INFO!$H120=1,COUNTRY_INFO!G120,0)))","v":0},0,{"$f":"IF(INTRO!$E$39=\"Non-endemic\",IF(INTRO!$E$37=\"Non-endemic\",\"Not required\",COUNTRY_INFO!V120),\"Treat with IVM\")","v":"Treat with IVM"},0,0,null,0]
[{"$f":"IF(INTRO!$E$39<>\"Non-endemic\", \" \", IF(INTRO!$E$37=\"Non-endemic\",\" \", IF(COUNTRY_INFO!A121=0,\" \",COUNTRY_INFO!A121)))","v":" "},{"$f":"IF(INTRO!$E$39<>\"Non-endemic\", \" \", IF(INTRO!$E$37=\"Non-endemic\",\" \", IF(COUNTRY_INFO!B121=0,\" \",COUNTRY_INFO!B121)))","v":" "},{"$f":"IF(INTRO!$E$39<>\"Non-endemic\", \" \", IF(INTRO!$E$37=\"Non-endemic\",\" \", IF(COUNTRY_INFO!C121=0,\" \",COUNTRY_INFO!C121)))","v":" "},{"$f":"IF(INTRO!$E$39<>\"Non-endemic\", 0, IF(INTRO!$E$37=\"Non-endemic\",0,IF(COUNTRY_INFO!$H121=1,COUNTRY_INFO!E121,0)))","v":0},{"$f":"IF(INTRO!$E$39<>\"Non-endemic\", 0, IF(INTRO!$E$37=\"Non-endemic\",0,IF(COUNTRY_INFO!$H121=1,COUNTRY_INFO!F121,0)))","v":0},{"$f":"IF(INTRO!$E$39<>\"Non-endemic\", 0, IF(INTRO!$E$37=\"Non-endemic\",0,IF(COUNTRY_INFO!$H121=1,COUNTRY_INFO!G121,0)))","v":0},0,{"$f":"IF(INTRO!$E$39=\"Non-endemic\",IF(INTRO!$E$37=\"Non-endemic\",\"Not required\",COUNTRY_INFO!V121),\"Treat with IVM\")","v":"Treat with IVM"},0,0,null,0]
[{"$f":"IF(INTRO!$E$39<>\"Non-endemic\", \" \", IF(INTRO!$E$37=\"Non-endemic\",\" \", IF(COUNTRY_INFO!A122=0,\" \",COUNTRY_INFO!A122)))","v":" "},{"$f":"IF(INTRO!$E$39<>\"Non-endemic\", \" \", IF(INTRO!$E$37=\"Non-endemic\",\" \", IF(COUNTRY_INFO!B122=0,\" \",COUNTRY_INFO!B122)))","v":" "},{"$f":"IF(INTRO!$E$39<>\"Non-endemic\", \" \", IF(INTRO!$E$37=\"Non-endemic\",\" \", IF(COUNTRY_INFO!C122=0,\" \",COUNTRY_INFO!C122)))","v":" "},{"$f":"IF(INTRO!$E$39<>\"Non-endemic\", 0, IF(INTRO!$E$37=\"Non-endemic\",0,IF(COUNTRY_INFO!$H122=1,COUNTRY_INFO!E122,0)))","v":0},{"$f":"IF(INTRO!$E$39<>\"Non-endemic\", 0, IF(INTRO!$E$37=\"Non-endemic\",0,IF(COUNTRY_INFO!$H122=1,COUNTRY_INFO!F122,0)))","v":0},{"$f":"IF(INTRO!$E$39<>\"Non-endemic\", 0, IF(INTRO!$E$37=\"Non-endemic\",0,IF(COUNTRY_INFO!$H122=1,COUNTRY_INFO!G122,0)))","v":0},0,{"$f":"IF(INTRO!$E$39=\"Non-endemic\",IF(INTRO!$E$37=\"Non-endemic\",\"Not required\",COUNTRY_INFO!V122),\"Treat with IVM\")","v":"Treat with IVM"},0,0,null,0]
[{"$f":"IF(INTRO!$E$39<>\"Non-endemic\", \" \", IF(INTRO!$E$37=\"Non-endemic\",\" \", IF(COUNTRY_INFO!A123=0,\" \",COUNTRY_INFO!A123)))","v":" "},{"$f":"IF(INTRO!$E$39<>\"Non-endemic\", \" \", IF(INTRO!$E$37=\"Non-endemic\",\" \", IF(COUNTRY_INFO!B123=0,\" \",COUNTRY_INFO!B123)))","v":" "},{"$f":"IF(INTRO!$E$39<>\"Non-endemic\", \" \", IF(INTRO!$E$37=\"Non-endemic\",\" \", IF(COUNTRY_INFO!C123=0,\" \",COUNTRY_INFO!C123)))","v":" "},{"$f":"IF(INTRO!$E$39<>\"Non-endemic\", 0, IF(INTRO!$E$37=\"Non-endemic\",0,IF(COUNTRY_INFO!$H123=1,COUNTRY_INFO!E123,0)))","v":0},{"$f":"IF(INTRO!$E$39<>\"Non-endemic\", 0, IF(INTRO!$E$37=\"Non-endemic\",0,IF(COUNTRY_INFO!$H123=1,COUNTRY_INFO!F123,0)))","v":0},{"$f":"IF(INTRO!$E$39<>\"Non-endemic\", 0, IF(INTRO!$E$37=\"Non-endemic\",0,IF(COUNTRY_INFO!$H123=1,COUNTRY_INFO!G123,0)))","v":0},0,{"$f":"IF(INTRO!$E$39=\"Non-endemic\",IF(INTRO!$E$37=\"Non-endemic\",\"Not required\",COUNTRY_INFO!V123),\"Treat with IVM\")","v":"Treat with IVM"},0,0,null,0]
[{"$f":"IF(INTRO!$E$39<>\"Non-endemic\", \" \", IF(INTRO!$E$37=\"Non-endemic\",\" \", IF(COUNTRY_INFO!A124=0,\" \",COUNTRY_INFO!A124)))","v":" "},{"$f":"IF(INTRO!$E$39<>\"Non-endemic\", \" \", IF(INTRO!$E$37=\"Non-endemic\",\" \", IF(COUNTRY_INFO!B124=0,\" \",COUNTRY_INFO!B124)))","v":" "},{"$f":"IF(INTRO!$E$39<>\"Non-endemic\", \" \", IF(INTRO!$E$37=\"Non-endemic\",\" \", IF(COUNTRY_INFO!C124=0,\" \",COUNTRY_INFO!C124)))","v":" "},{"$f":"IF(INTRO!$E$39<>\"Non-endemic\", 0, IF(INTRO!$E$37=\"Non-endemic\",0,IF(COUNTRY_INFO!$H124=1,COUNTRY_INFO!E124,0)))","v":0},{"$f":"IF(INTRO!$E$39<>\"Non-endemic\", 0, IF(INTRO!$E$37=\"Non-endemic\",0,IF(COUNTRY_INFO!$H124=1,COUNTRY_INFO!F124,0)))","v":0},{"$f":"IF(INTRO!$E$39<>\"Non-endemic\", 0, IF(INTRO!$E$37=\"Non-endemic\",0,IF(COUNTRY_INFO!$H124=1,COUNTRY_INFO!G124,0)))","v":0},0,{"$f":"IF(INTRO!$E$39=\"Non-endemic\",IF(INTRO!$E$37=\"Non-endemic\",\"Not required\",COUNTRY_INFO!V124),\"Treat with IVM\")","v":"Treat with IVM"},0,0,null,0]
[{"$f":"IF(INTRO!$E$39<>\"Non-endemic\", \" \", IF(INTRO!$E$37=\"Non-endemic\",\" \", IF(COUNTRY_INFO!A125=0,\" \",COUNTRY_INFO!A125)))","v":" "},{"$f":"IF(INTRO!$E$39<>\"Non-endemic\", \" \", IF(INTRO!$E$37=\"Non-endemic\",\" \", IF(COUNTRY_INFO!B125=0,\" \",COUNTRY_INFO!B125)))","v":" "},{"$f":"IF(INTRO!$E$39<>\"Non-endemic\", \" \", IF(INTRO!$E$37=\"Non-endemic\",\" \", IF(COUNTRY_INFO!C125=0,\" \",COUNTRY_INFO!C125)))","v":" "},{"$f":"IF(INTRO!$E$39<>\"Non-endemic\", 0, IF(INTRO!$E$37=\"Non-endemic\",0,IF(COUNTRY_INFO!$H125=1,COUNTRY_INFO!E125,0)))","v":0},{"$f":"IF(INTRO!$E$39<>\"Non-endemic\", 0, IF(INTRO!$E$37=\"Non-endemic\",0,IF(COUNTRY_INFO!$H125=1,COUNTRY_INFO!F125,0)))","v":0},{"$f":"IF(INTRO!$E$39<>\"Non-endemic\", 0, IF(INTRO!$E$37=\"Non-endemic\",0,IF(COUNTRY_INFO!$H125=1,COUNTRY_INFO!G125,0)))","v":0},0,{"$f":"IF(INTRO!$E$39=\"Non-endemic\",IF(INTRO!$E$37=\"Non-endemic\",\"Not required\",COUNTRY_INFO!V125),\"Treat with IVM\")","v":"Treat with IVM"},0,0,null,0]
[{"$f":"IF(INTRO!$E$39<>\"Non-endemic\", \" \", IF(INTRO!$E$37=\"Non-endemic\",\" \", IF(COUNTRY_INFO!A126=0,\" \",COUNTRY_INFO!A126)))","v":" "},{"$f":"IF(INTRO!$E$39<>\"Non-endemic\", \" \", IF(INTRO!$E$37=\"Non-endemic\",\" \", IF(COUNTRY_INFO!B126=0,\" \",COUNTRY_INFO!B126)))","v":" "},{"$f":"IF(INTRO!$E$39<>\"Non-endemic\", \" \", IF(INTRO!$E$37=\"Non-endemic\",\" \", IF(COUNTRY_INFO!C126=0,\" \",COUNTRY_INFO!C126)))","v":" "},{"$f":"IF(INTRO!$E$39<>\"Non-endemic\", 0, IF(INTRO!$E$37=\"Non-endemic\",0,IF(COUNTRY_INFO!$H126=1,COUNTRY_INFO!E126,0)))","v":0},{"$f":"IF(INTRO!$E$39<>\"Non-endemic\", 0, IF(INTRO!$E$37=\"Non-endemic\",0,IF(COUNTRY_INFO!$H126=1,COUNTRY_INFO!F126,0)))","v":0},{"$f":"IF(INTRO!$E$39<>\"Non-endemic\", 0, IF(INTRO!$E$37=\"Non-endemic\",0,IF(COUNTRY_INFO!$H126=1,COUNTRY_INFO!G126,0)))","v":0},0,{"$f":"IF(INTRO!$E$39=\"Non-endemic\",IF(INTRO!$E$37=\"Non-endemic\",\"Not required\",COUNTRY_INFO!V126),\"Treat with IVM\")","v":"Treat with IVM"},0,0,null,0]
[{"$f":"IF(INTRO!$E$39<>\"Non-endemic\", \" \", IF(INTRO!$E$37=\"Non-endemic\",\" \", IF(COUNTRY_INFO!A127=0,\" \",COUNTRY_INFO!A127)))","v":" "},{"$f":"IF(INTRO!$E$39<>\"Non-endemic\", \" \", IF(INTRO!$E$37=\"Non-endemic\",\" \", IF(COUNTRY_INFO!B127=0,\" \",COUNTRY_INFO!B127)))","v":" "},{"$f":"IF(INTRO!$E$39<>\"Non-endemic\", \" \", IF(INTRO!$E$37=\"Non-endemic\",\" \", IF(COUNTRY_INFO!C127=0,\" \",COUNTRY_INFO!C127)))","v":" "},{"$f":"IF(INTRO!$E$39<>\"Non-endemic\", 0, IF(INTRO!$E$37=\"Non-endemic\",0,IF(COUNTRY_INFO!$H127=1,COUNTRY_INFO!E127,0)))","v":0},{"$f":"IF(INTRO!$E$39<>\"Non-endemic\", 0, IF(INTRO!$E$37=\"Non-endemic\",0,IF(COUNTRY_INFO!$H127=1,COUNTRY_INFO!F127,0)))","v":0},{"$f":"IF(INTRO!$E$39<>\"Non-endemic\", 0, IF(INTRO!$E$37=\"Non-endemic\",0,IF(COUNTRY_INFO!$H127=1,COUNTRY_INFO!G127,0)))","v":0},0,{"$f":"IF(INTRO!$E$39=\"Non-endemic\",IF(INTRO!$E$37=\"Non-endemic\",\"Not required\",COUNTRY_INFO!V127),\"Treat with IVM\")","v":"Treat with IVM"},0,0,null,0]
[{"$f":"IF(INTRO!$E$39<>\"Non-endemic\", \" \", IF(INTRO!$E$37=\"Non-endemic\",\" \", IF(COUNTRY_INFO!A128=0,\" \",COUNTRY_INFO!A128)))","v":" "},{"$f":"IF(INTRO!$E$39<>\"Non-endemic\", \" \", IF(INTRO!$E$37=\"Non-endemic\",\" \", IF(COUNTRY_INFO!B128=0,\" \",COUNTRY_INFO!B128)))","v":" "},{"$f":"IF(INTRO!$E$39<>\"Non-endemic\", \" \", IF(INTRO!$E$37=\"Non-endemic\",\" \", IF(COUNTRY_INFO!C128=0,\" \",COUNTRY_INFO!C128)))","v":" "},{"$f":"IF(INTRO!$E$39<>\"Non-endemic\", 0, IF(INTRO!$E$37=\"Non-endemic\",0,IF(COUNTRY_INFO!$H128=1,COUNTRY_INFO!E128,0)))","v":0},{"$f":"IF(INTRO!$E$39<>\"Non-endemic\", 0, IF(INTRO!$E$37=\"Non-endemic\",0,IF(COUNTRY_INFO!$H128=1,COUNTRY_INFO!F128,0)))","v":0},{"$f":"IF(INTRO!$E$39<>\"Non-endemic\", 0, IF(INTRO!$E$37=\"Non-endemic\",0,IF(COUNTRY_INFO!$H128=1,COUNTRY_INFO!G128,0)))","v":0},0,{"$f":"IF(INTRO!$E$39=\"Non-endemic\",IF(INTRO!$E$37=\"Non-endemic\",\"Not required\",COUNTRY_INFO!V128),\"Treat with IVM\")","v":"Treat with IVM"},0,0,null,0]
[{"$f":"IF(INTRO!$E$39<>\"Non-endemic\", \" \", IF(INTRO!$E$37=\"Non-endemic\",\" \", IF(COUNTRY_INFO!A129=0,\" \",COUNTRY_INFO!A129)))","v":" "},{"$f":"IF(INTRO!$E$39<>\"Non-endemic\", \" \", IF(INTRO!$E$37=\"Non-endemic\",\" \", IF(COUNTRY_INFO!B129=0,\" \",COUNTRY_INFO!B129)))","v":" "},{"$f":"IF(INTRO!$E$39<>\"Non-endemic\", \" \", IF(INTRO!$E$37=\"Non-endemic\",\" \", IF(COUNTRY_INFO!C129=0,\" \",COUNTRY_INFO!C129)))","v":" "},{"$f":"IF(INTRO!$E$39<>\"Non-endemic\", 0, IF(INTRO!$E$37=\"Non-endemic\",0,IF(COUNTRY_INFO!$H129=1,COUNTRY_INFO!E129,0)))","v":0},{"$f":"IF(INTRO!$E$39<>\"Non-endemic\", 0, IF(INTRO!$E$37=\"Non-endemic\",0,IF(COUNTRY_INFO!$H129=1,COUNTRY_INFO!F129,0)))","v":0},{"$f":"IF(INTRO!$E$39<>\"Non-endemic\", 0, IF(INTRO!$E$37=\"Non-endemic\",0,IF(COUNTRY_INFO!$H129=1,COUNTRY_INFO!G129,0)))","v":0},0,{"$f":"IF(INTRO!$E$39=\"Non-endemic\",IF(INTRO!$E$37=\"Non-endemic\",\"Not required\",COUNTRY_INFO!V129),\"Treat with IVM\")","v":"Treat with IVM"},0,0,null,0]
[{"$f":"IF(INTRO!$E$39<>\"Non-endemic\", \" \", IF(INTRO!$E$37=\"Non-endemic\",\" \", IF(COUNTRY_INFO!A130=0,\" \",COUNTRY_INFO!A130)))","v":" "},{"$f":"IF(INTRO!$E$39<>\"Non-endemic\", \" \", IF(INTRO!$E$37=\"Non-endemic\",\" \", IF(COUNTRY_INFO!B130=0,\" \",COUNTRY_INFO!B130)))","v":" "},{"$f":"IF(INTRO!$E$39<>\"Non-endemic\", \" \", IF(INTRO!$E$37=\"Non-endemic\",\" \", IF(COUNTRY_INFO!C130=0,\" \",COUNTRY_INFO!C130)))","v":" "},{"$f":"IF(INTRO!$E$39<>\"Non-endemic\", 0, IF(INTRO!$E$37=\"Non-endemic\",0,IF(COUNTRY_INFO!$H130=1,COUNTRY_INFO!E130,0)))","v":0},{"$f":"IF(INTRO!$E$39<>\"Non-endemic\", 0, IF(INTRO!$E$37=\"Non-endemic\",0,IF(COUNTRY_INFO!$H130=1,COUNTRY_INFO!F130,0)))","v":0},{"$f":"IF(INTRO!$E$39<>\"Non-endemic\", 0, IF(INTRO!$E$37=\"Non-endemic\",0,IF(COUNTRY_INFO!$H130=1,COUNTRY_INFO!G130,0)))","v":0},0,{"$f":"IF(INTRO!$E$39=\"Non-endemic\",IF(INTRO!$E$37=\"Non-endemic\",\"Not required\",COUNTRY_INFO!V130),\"Treat with IVM\")","v":"Treat with IVM"},0,0,null,0]
[{"$f":"IF(INTRO!$E$39<>\"Non-endemic\", \" \", IF(INTRO!$E$37=\"Non-endemic\",\" \", IF(COUNTRY_INFO!A131=0,\" \",COUNTRY_INFO!A131)))","v":" "},{"$f":"IF(INTRO!$E$39<>\"Non-endemic\", \" \", IF(INTRO!$E$37=\"Non-endemic\",\" \", IF(COUNTRY_INFO!B131=0,\" \",COUNTRY_INFO!B131)))","v":" "},{"$f":"IF(INTRO!$E$39<>\"Non-endemic\", \" \", IF(INTRO!$E$37=\"Non-endemic\",\" \", IF(COUNTRY_INFO!C131=0,\" \",COUNTRY_INFO!C131)))","v":" "},{"$f":"IF(INTRO!$E$39<>\"Non-endemic\", 0, IF(INTRO!$E$37=\"Non-endemic\",0,IF(COUNTRY_INFO!$H131=1,COUNTRY_INFO!E131,0)))","v":0},{"$f":"IF(INTRO!$E$39<>\"Non-endemic\", 0, IF(INTRO!$E$37=\"Non-endemic\",0,IF(COUNTRY_INFO!$H131=1,COUNTRY_INFO!F131,0)))","v":0},{"$f":"IF(INTRO!$E$39<>\"Non-endemic\", 0, IF(INTRO!$E$37=\"Non-endemic\",0,IF(COUNTRY_INFO!$H131=1,COUNTRY_INFO!G131,0)))","v":0},0,{"$f":"IF(INTRO!$E$39=\"Non-endemic\",IF(INTRO!$E$37=\"Non-endemic\",\"Not required\",COUNTRY_INFO!V131),\"Treat with IVM\")","v":"Treat with IVM"},0,0,null,0]
[{"$f":"IF(INTRO!$E$39<>\"Non-endemic\", \" \", IF(INTRO!$E$37=\"Non-endemic\",\" \", IF(COUNTRY_INFO!A132=0,\" \",COUNTRY_INFO!A132)))","v":" "},{"$f":"IF(INTRO!$E$39<>\"Non-endemic\", \" \", IF(INTRO!$E$37=\"Non-endemic\",\" \", IF(COUNTRY_INFO!B132=0,\" \",COUNTRY_INFO!B132)))","v":" "},{"$f":"IF(INTRO!$E$39<>\"Non-endemic\", \" \", IF(INTRO!$E$37=\"Non-endemic\",\" \", IF(COUNTRY_INFO!C132=0,\" \",COUNTRY_INFO!C132)))","v":" "},{"$f":"IF(INTRO!$E$39<>\"Non-endemic\", 0, IF(INTRO!$E$37=\"Non-endemic\",0,IF(COUNTRY_INFO!$H132=1,COUNTRY_INFO!E132,0)))","v":0},{"$f":"IF(INTRO!$E$39<>\"Non-endemic\", 0, IF(INTRO!$E$37=\"Non-endemic\",0,IF(COUNTRY_INFO!$H132=1,COUNTRY_INFO!F132,0)))","v":0},{"$f":"IF(INTRO!$E$39<>\"Non-endemic\", 0, IF(INTRO!$E$37=\"Non-endemic\",0,IF(COUNTRY_INFO!$H132=1,COUNTRY_INFO!G132,0)))","v":0},0,{"$f":"IF(INTRO!$E$39=\"Non-endemic\",IF(INTRO!$E$37=\"Non-endemic\",\"Not required\",COUNTRY_INFO!V132),\"Treat with IVM\")","v":"Treat with IVM"},0,0,null,0]
[{"$f":"IF(INTRO!$E$39<>\"Non-endemic\", \" \", IF(INTRO!$E$37=\"Non-endemic\",\" \", IF(COUNTRY_INFO!A133=0,\" \",COUNTRY_INFO!A133)))","v":" "},{"$f":"IF(INTRO!$E$39<>\"Non-endemic\", \" \", IF(INTRO!$E$37=\"Non-endemic\",\" \", IF(COUNTRY_INFO!B133=0,\" \",COUNTRY_INFO!B133)))","v":" "},{"$f":"IF(INTRO!$E$39<>\"Non-endemic\", \" \", IF(INTRO!$E$37=\"Non-endemic\",\" \", IF(COUNTRY_INFO!C133=0,\" \",COUNTRY_INFO!C133)))","v":" "},{"$f":"IF(INTRO!$E$39<>\"Non-endemic\", 0, IF(INTRO!$E$37=\"Non-endemic\",0,IF(COUNTRY_INFO!$H133=1,COUNTRY_INFO!E133,0)))","v":0},{"$f":"IF(INTRO!$E$39<>\"Non-endemic\", 0, IF(INTRO!$E$37=\"Non-endemic\",0,IF(COUNTRY_INFO!$H133=1,COUNTRY_INFO!F133,0)))","v":0},{"$f":"IF(INTRO!$E$39<>\"Non-endemic\", 0, IF(INTRO!$E$37=\"Non-endemic\",0,IF(COUNTRY_INFO!$H133=1,COUNTRY_INFO!G133,0)))","v":0},0,{"$f":"IF(INTRO!$E$39=\"Non-endemic\",IF(INTRO!$E$37=\"Non-endemic\",\"Not required\",COUNTRY_INFO!V133),\"Treat with IVM\")","v":"Treat with IVM"},0,0,null,0]
[{"$f":"IF(INTRO!$E$39<>\"Non-endemic\", \" \", IF(INTRO!$E$37=\"Non-endemic\",\" \", IF(COUNTRY_INFO!A134=0,\" \",COUNTRY_INFO!A134)))","v":" "},{"$f":"IF(INTRO!$E$39<>\"Non-endemic\", \" \", IF(INTRO!$E$37=\"Non-endemic\",\" \", IF(COUNTRY_INFO!B134=0,\" \",COUNTRY_INFO!B134)))","v":" "},{"$f":"IF(INTRO!$E$39<>\"Non-endemic\", \" \", IF(INTRO!$E$37=\"Non-endemic\",\" \", IF(COUNTRY_INFO!C134=0,\" \",COUNTRY_INFO!C134)))","v":" "},{"$f":"IF(INTRO!$E$39<>\"Non-endemic\", 0, IF(INTRO!$E$37=\"Non-endemic\",0,IF(COUNTRY_INFO!$H134=1,COUNTRY_INFO!E134,0)))","v":0},{"$f":"IF(INTRO!$E$39<>\"Non-endemic\", 0, IF(INTRO!$E$37=\"Non-endemic\",0,IF(COUNTRY_INFO!$H134=1,COUNTRY_INFO!F134,0)))","v":0},{"$f":"IF(INTRO!$E$39<>\"Non-endemic\", 0, IF(INTRO!$E$37=\"Non-endemic\",0,IF(COUNTRY_INFO!$H134=1,COUNTRY_INFO!G134,0)))","v":0},0,{"$f":"IF(INTRO!$E$39=\"Non-endemic\",IF(INTRO!$E$37=\"Non-endemic\",\"Not required\",COUNTRY_INFO!V134),\"Treat with IVM\")","v":"Treat with IVM"},0,0,null,0]
[{"$f":"IF(INTRO!$E$39<>\"Non-endemic\", \" \", IF(INTRO!$E$37=\"Non-endemic\",\" \", IF(COUNTRY_INFO!A135=0,\" \",COUNTRY_INFO!A135)))","v":" "},{"$f":"IF(INTRO!$E$39<>\"Non-endemic\", \" \", IF(INTRO!$E$37=\"Non-endemic\",\" \", IF(COUNTRY_INFO!B135=0,\" \",COUNTRY_INFO!B135)))","v":" "},{"$f":"IF(INTRO!$E$39<>\"Non-endemic\", \" \", IF(INTRO!$E$37=\"Non-endemic\",\" \", IF(COUNTRY_INFO!C135=0,\" \",COUNTRY_INFO!C135)))","v":" "},{"$f":"IF(INTRO!$E$39<>\"Non-endemic\", 0, IF(INTRO!$E$37=\"Non-endemic\",0,IF(COUNTRY_INFO!$H135=1,COUNTRY_INFO!E135,0)))","v":0},{"$f":"IF(INTRO!$E$39<>\"Non-endemic\", 0, IF(INTRO!$E$37=\"Non-endemic\",0,IF(COUNTRY_INFO!$H135=1,COUNTRY_INFO!F135,0)))","v":0},{"$f":"IF(INTRO!$E$39<>\"Non-endemic\", 0, IF(INTRO!$E$37=\"Non-endemic\",0,IF(COUNTRY_INFO!$H135=1,COUNTRY_INFO!G135,0)))","v":0},0,{"$f":"IF(INTRO!$E$39=\"Non-endemic\",IF(INTRO!$E$37=\"Non-endemic\",\"Not required\",COUNTRY_INFO!V135),\"Treat with IVM\")","v":"Treat with IVM"},0,0,null,0]
[{"$f":"IF(INTRO!$E$39<>\"Non-endemic\", \" \", IF(INTRO!$E$37=\"Non-endemic\",\" \", IF(COUNTRY_INFO!A136=0,\" \",COUNTRY_INFO!A136)))","v":" "},{"$f":"IF(INTRO!$E$39<>\"Non-endemic\", \" \", IF(INTRO!$E$37=\"Non-endemic\",\" \", IF(COUNTRY_INFO!B136=0,\" \",COUNTRY_INFO!B136)))","v":" "},{"$f":"IF(INTRO!$E$39<>\"Non-endemic\", \" \", IF(INTRO!$E$37=\"Non-endemic\",\" \", IF(COUNTRY_INFO!C136=0,\" \",COUNTRY_INFO!C136)))","v":" "},{"$f":"IF(INTRO!$E$39<>\"Non-endemic\", 0, IF(INTRO!$E$37=\"Non-endemic\",0,IF(COUNTRY_INFO!$H136=1,COUNTRY_INFO!E136,0)))","v":0},{"$f":"IF(INTRO!$E$39<>\"Non-endemic\", 0, IF(INTRO!$E$37=\"Non-endemic\",0,IF(COUNTRY_INFO!$H136=1,COUNTRY_INFO!F136,0)))","v":0},{"$f":"IF(INTRO!$E$39<>\"Non-endemic\", 0, IF(INTRO!$E$37=\"Non-endemic\",0,IF(COUNTRY_INFO!$H136=1,COUNTRY_INFO!G136,0)))","v":0},0,{"$f":"IF(INTRO!$E$39=\"Non-endemic\",IF(INTRO!$E$37=\"Non-endemic\",\"Not required\",COUNTRY_INFO!V136),\"Treat with IVM\")","v":"Treat with IVM"},0,0,null,0]
[{"$f":"IF(INTRO!$E$39<>\"Non-endemic\", \" \", IF(INTRO!$E$37=\"Non-endemic\",\" \", IF(COUNTRY_INFO!A137=0,\" \",COUNTRY_INFO!A137)))","v":" "},{"$f":"IF(INTRO!$E$39<>\"Non-endemic\", \" \", IF(INTRO!$E$37=\"Non-endemic\",\" \", IF(COUNTRY_INFO!B137=0,\" \",COUNTRY_INFO!B137)))","v":" "},{"$f":"IF(INTRO!$E$39<>\"Non-endemic\", \" \", IF(INTRO!$E$37=\"Non-endemic\",\" \", IF(COUNTRY_INFO!C137=0,\" \",COUNTRY_INFO!C137)))","v":" "},{"$f":"IF(INTRO!$E$39<>\"Non-endemic\", 0, IF(INTRO!$E$37=\"Non-endemic\",0,IF(COUNTRY_INFO!$H137=1,COUNTRY_INFO!E137,0)))","v":0},{"$f":"IF(INTRO!$E$39<>\"Non-endemic\", 0, IF(INTRO!$E$37=\"Non-endemic\",0,IF(COUNTRY_INFO!$H137=1,COUNTRY_INFO!F137,0)))","v":0},{"$f":"IF(INTRO!$E$39<>\"Non-endemic\", 0, IF(INTRO!$E$37=\"Non-endemic\",0,IF(COUNTRY_INFO!$H137=1,COUNTRY_INFO!G137,0)))","v":0},0,{"$f":"IF(INTRO!$E$39=\"Non-endemic\",IF(INTRO!$E$37=\"Non-endemic\",\"Not required\",COUNTRY_INFO!V137),\"Treat with IVM\")","v":"Treat with IVM"},0,0,null,0]
[{"$f":"IF(INTRO!$E$39<>\"Non-endemic\", \" \", IF(INTRO!$E$37=\"Non-endemic\",\" \", IF(COUNTRY_INFO!A138=0,\" \",COUNTRY_INFO!A138)))","v":" "},{"$f":"IF(INTRO!$E$39<>\"Non-endemic\", \" \", IF(INTRO!$E$37=\"Non-endemic\",\" \", IF(COUNTRY_INFO!B138=0,\" \",COUNTRY_INFO!B138)))","v":" "},{"$f":"IF(INTRO!$E$39<>\"Non-endemic\", \" \", IF(INTRO!$E$37=\"Non-endemic\",\" \", IF(COUNTRY_INFO!C138=0,\" \",COUNTRY_INFO!C138)))","v":" "},{"$f":"IF(INTRO!$E$39<>\"Non-endemic\", 0, IF(INTRO!$E$37=\"Non-endemic\",0,IF(COUNTRY_INFO!$H138=1,COUNTRY_INFO!E138,0)))","v":0},{"$f":"IF(INTRO!$E$39<>\"Non-endemic\", 0, IF(INTRO!$E$37=\"Non-endemic\",0,IF(COUNTRY_INFO!$H138=1,COUNTRY_INFO!F138,0)))","v":0},{"$f":"IF(INTRO!$E$39<>\"Non-endemic\", 0, IF(INTRO!$E$37=\"Non-endemic\",0,IF(COUNTRY_INFO!$H138=1,COUNTRY_INFO!G138,0)))","v":0},0,{"$f":"IF(INTRO!$E$39=\"Non-endemic\",IF(INTRO!$E$37=\"Non-endemic\",\"Not required\",COUNTRY_INFO!V138),\"Treat with IVM\")","v":"Treat with IVM"},0,0,null,0]
[{"$f":"IF(INTRO!$E$39<>\"Non-endemic\", \" \", IF(INTRO!$E$37=\"Non-endemic\",\" \", IF(COUNTRY_INFO!A139=0,\" \",COUNTRY_INFO!A139)))","v":" "},{"$f":"IF(INTRO!$E$39<>\"Non-endemic\", \" \", IF(INTRO!$E$37=\"Non-endemic\",\" \", IF(COUNTRY_INFO!B139=0,\" \",COUNTRY_INFO!B139)))","v":" "},{"$f":"IF(INTRO!$E$39<>\"Non-endemic\", \" \", IF(INTRO!$E$37=\"Non-endemic\",\" \", IF(COUNTRY_INFO!C139=0,\" \",COUNTRY_INFO!C139)))","v":" "},{"$f":"IF(INTRO!$E$39<>\"Non-endemic\", 0, IF(INTRO!$E$37=\"Non-endemic\",0,IF(COUNTRY_INFO!$H139=1,COUNTRY_INFO!E139,0)))","v":0},{"$f":"IF(INTRO!$E$39<>\"Non-endemic\", 0, IF(INTRO!$E$37=\"Non-endemic\",0,IF(COUNTRY_INFO!$H139=1,COUNTRY_INFO!F139,0)))","v":0},{"$f":"IF(INTRO!$E$39<>\"Non-endemic\", 0, IF(INTRO!$E$37=\"Non-endemic\",0,IF(COUNTRY_INFO!$H139=1,COUNTRY_INFO!G139,0)))","v":0},{"$f":"SUM(D139:F139)","v":0},{"$f":"IF(INTRO!$E$39=\"Non-endemic\",IF(INTRO!$E$37=\"Non-endemic\",\"Not required\",COUNTRY_INFO!V139),\"Treat with IVM\")","v":"Treat with IVM"},{"$f":"IF(H139=1,G139,0)","v":0},{"$f":"IF(I139>0,I139*2.5,0)","v":0},null,0]
[{"$f":"IF(INTRO!$E$39<>\"Non-endemic\", \" \", IF(INTRO!$E$37=\"Non-endemic\",\" \", IF(COUNTRY_INFO!A140=0,\" \",COUNTRY_INFO!A140)))","v":" "},{"$f":"IF(INTRO!$E$39<>\"Non-endemic\", \" \", IF(INTRO!$E$37=\"Non-endemic\",\" \", IF(COUNTRY_INFO!B140=0,\" \",COUNTRY_INFO!B140)))","v":" "},{"$f":"IF(INTRO!$E$39<>\"Non-endemic\", \" \", IF(INTRO!$E$37=\"Non-endemic\",\" \", IF(COUNTRY_INFO!C140=0,\" \",COUNTRY_INFO!C140)))","v":" "},{"$f":"IF(INTRO!$E$39<>\"Non-endemic\", 0, IF(INTRO!$E$37=\"Non-endemic\",0,IF(COUNTRY_INFO!$H140=1,COUNTRY_INFO!E140,0)))","v":0},{"$f":"IF(INTRO!$E$39<>\"Non-endemic\", 0, IF(INTRO!$E$37=\"Non-endemic\",0,IF(COUNTRY_INFO!$H140=1,COUNTRY_INFO!F140,0)))","v":0},{"$f":"IF(INTRO!$E$39<>\"Non-endemic\", 0, IF(INTRO!$E$37=\"Non-endemic\",0,IF(COUNTRY_INFO!$H140=1,COUNTRY_INFO!G140,0)))","v":0},0,{"$f":"IF(INTRO!$E$39=\"Non-endemic\",IF(INTRO!$E$37=\"Non-endemic\",\"Not required\",COUNTRY_INFO!V140),\"Treat with IVM\")","v":"Treat with IVM"},0,0,null,0]
[{"$f":"IF(INTRO!$E$39<>\"Non-endemic\", \" \", IF(INTRO!$E$37=\"Non-endemic\",\" \", IF(COUNTRY_INFO!A141=0,\" \",COUNTRY_INFO!A141)))","v":" "},{"$f":"IF(INTRO!$E$39<>\"Non-endemic\", \" \", IF(INTRO!$E$37=\"Non-endemic\",\" \", IF(COUNTRY_INFO!B141=0,\" \",COUNTRY_INFO!B141)))","v":" "},{"$f":"IF(INTRO!$E$39<>\"Non-endemic\", \" \", IF(INTRO!$E$37=\"Non-endemic\",\" \", IF(COUNTRY_INFO!C141=0,\" \",COUNTRY_INFO!C141)))","v":" "},{"$f":"IF(INTRO!$E$39<>\"Non-endemic\", 0, IF(INTRO!$E$37=\"Non-endemic\",0,IF(COUNTRY_INFO!$H141=1,COUNTRY_INFO!E141,0)))","v":0},{"$f":"IF(INTRO!$E$39<>\"Non-endemic\", 0, IF(INTRO!$E$37=\"Non-endemic\",0,IF(COUNTRY_INFO!$H141=1,COUNTRY_INFO!F141,0)))","v":0},{"$f":"IF(INTRO!$E$39<>\"Non-endemic\", 0, IF(INTRO!$E$37=\"Non-endemic\",0,IF(COUNTRY_INFO!$H141=1,COUNTRY_INFO!G141,0)))","v":0},0,{"$f":"IF(INTRO!$E$39=\"Non-endemic\",IF(INTRO!$E$37=\"Non-endemic\",\"Not required\",COUNTRY_INFO!V141),\"Treat with IVM\")","v":"Treat with IVM"},0,0,null,0]
[{"$f":"IF(INTRO!$E$39<>\"Non-endemic\", \" \", IF(INTRO!$E$37=\"Non-endemic\",\" \", IF(COUNTRY_INFO!A142=0,\" \",COUNTRY_INFO!A142)))","v":" "},{"$f":"IF(INTRO!$E$39<>\"Non-endemic\", \" \", IF(INTRO!$E$37=\"Non-endemic\",\" \", IF(COUNTRY_INFO!B142=0,\" \",COUNTRY_INFO!B142)))","v":" "},{"$f":"IF(INTRO!$E$39<>\"Non-endemic\", \" \", IF(INTRO!$E$37=\"Non-endemic\",\" \", IF(COUNTRY_INFO!C142=0,\" \",COUNTRY_INFO!C142)))","v":" "},{"$f":"IF(INTRO!$E$39<>\"Non-endemic\", 0, IF(INTRO!$E$37=\"Non-endemic\",0,IF(COUNTRY_INFO!$H142=1,COUNTRY_INFO!E142,0)))","v":0},{"$f":"IF(INTRO!$E$39<>\"Non-endemic\", 0, IF(INTRO!$E$37=\"Non-endemic\",0,IF(COUNTRY_INFO!$H142=1,COUNTRY_INFO!F142,0)))","v":0},{"$f":"IF(INTRO!$E$39<>\"Non-endemic\", 0, IF(INTRO!$E$37=\"Non-endemic\",0,IF(COUNTRY_INFO!$H142=1,COUNTRY_INFO!G142,0)))","v":0},0,{"$f":"IF(INTRO!$E$39=\"Non-endemic\",IF(INTRO!$E$37=\"Non-endemic\",\"Not required\",COUNTRY_INFO!V142),\"Treat with IVM\")","v":"Treat with IVM"},0,0,null,0]
[{"$f":"IF(INTRO!$E$39<>\"Non-endemic\", \" \", IF(INTRO!$E$37=\"Non-endemic\",\" \", IF(COUNTRY_INFO!A143=0,\" \",COUNTRY_INFO!A143)))","v":" "},{"$f":"IF(INTRO!$E$39<>\"Non-endemic\", \" \", IF(INTRO!$E$37=\"Non-endemic\",\" \", IF(COUNTRY_INFO!B143=0,\" \",COUNTRY_INFO!B143)))","v":" "},{"$f":"IF(INTRO!$E$39<>\"Non-endemic\", \" \", IF(INTRO!$E$37=\"Non-endemic\",\" \", IF(COUNTRY_INFO!C143=0,\" \",COUNTRY_INFO!C143)))","v":" "},{"$f":"IF(INTRO!$E$39<>\"Non-endemic\", 0, IF(INTRO!$E$37=\"Non-endemic\",0,IF(COUNTRY_INFO!$H143=1,COUNTRY_INFO!E143,0)))","v":0},{"$f":"IF(INTRO!$E$39<>\"Non-endemic\", 0, IF(INTRO!$E$37=\"Non-endemic\",0,IF(COUNTRY_INFO!$H143=1,COUNTRY_INFO!F143,0)))","v":0},{"$f":"IF(INTRO!$E$39<>\"Non-endemic\", 0, IF(INTRO!$E$37=\"Non-endemic\",0,IF(COUNTRY_INFO!$H143=1,COUNTRY_INFO!G143,0)))","v":0},0,{"$f":"IF(INTRO!$E$39=\"Non-endemic\",IF(INTRO!$E$37=\"Non-endemic\",\"Not required\",COUNTRY_INFO!V143),\"Treat with IVM\")","v":"Treat with IVM"},0,0,null,0]
[{"$f":"IF(INTRO!$E$39<>\"Non-endemic\", \" \", IF(INTRO!$E$37=\"Non-endemic\",\" \", IF(COUNTRY_INFO!A144=0,\" \",COUNTRY_INFO!A144)))","v":" "},{"$f":"IF(INTRO!$E$39<>\"Non-endemic\", \" \", IF(INTRO!$E$37=\"Non-endemic\",\" \", IF(COUNTRY_INFO!B144=0,\" \",COUNTRY_INFO!B144)))","v":" "},{"$f":"IF(INTRO!$E$39<>\"Non-endemic\", \" \", IF(INTRO!$E$37=\"Non-endemic\",\" \", IF(COUNTRY_INFO!C144=0,\" \",COUNTRY_INFO!C144)))","v":" "},{"$f":"IF(INTRO!$E$39<>\"Non-endemic\", 0, IF(INTRO!$E$37=\"Non-endemic\",0,IF(COUNTRY_INFO!$H144=1,COUNTRY_INFO!E144,0)))","v":0},{"$f":"IF(INTRO!$E$39<>\"Non-endemic\", 0, IF(INTRO!$E$37=\"Non-endemic\",0,IF(COUNTRY_INFO!$H144=1,COUNTRY_INFO!F144,0)))","v":0},{"$f":"IF(INTRO!$E$39<>\"Non-endemic\", 0, IF(INTRO!$E$37=\"Non-endemic\",0,IF(COUNTRY_INFO!$H144=1,COUNTRY_INFO!G144,0)))","v":0},0,{"$f":"IF(INTRO!$E$39=\"Non-endemic\",IF(INTRO!$E$37=\"Non-endemic\",\"Not required\",COUNTRY_INFO!V144),\"Treat with IVM\")","v":"Treat with IVM"},0,0,null,0]
[{"$f":"IF(INTRO!$E$39<>\"Non-endemic\", \" \", IF(INTRO!$E$37=\"Non-endemic\",\" \", IF(COUNTRY_INFO!A145=0,\" \",COUNTRY_INFO!A145)))","v":" "},{"$f":"IF(INTRO!$E$39<>\"Non-endemic\", \" \", IF(INTRO!$E$37=\"Non-endemic\",\" \", IF(COUNTRY_INFO!B145=0,\" \",COUNTRY_INFO!B145)))","v":" "},{"$f":"IF(INTRO!$E$39<>\"Non-endemic\", \" \", IF(INTRO!$E$37=\"Non-endemic\",\" \", IF(COUNTRY_INFO!C145=0,\" \",COUNTRY_INFO!C145)))","v":" "},{"$f":"IF(INTRO!$E$39<>\"Non-endemic\", 0, IF(INTRO!$E$37=\"Non-endemic\",0,IF(COUNTRY_INFO!$H145=1,COUNTRY_INFO!E145,0)))","v":0},{"$f":"IF(INTRO!$E$39<>\"Non-endemic\", 0, IF(INTRO!$E$37=\"Non-endemic\",0,IF(COUNTRY_INFO!$H145=1,COUNTRY_INFO!F145,0)))","v":0},{"$f":"IF(INTRO!$E$39<>\"Non-endemic\", 0, IF(INTRO!$E$37=\"Non-endemic\",0,IF(COUNTRY_INFO!$H145=1,COUNTRY_INFO!G145,0)))","v":0},0,{"$f":"IF(INTRO!$E$39=\"Non-endemic\",IF(INTRO!$E$37=\"Non-endemic\",\"Not required\",COUNTRY_INFO!V145),\"Treat with IVM\")","v":"Treat with IVM"},0,0,null,0]
[{"$f":"IF(INTRO!$E$39<>\"Non-endemic\", \" \", IF(INTRO!$E$37=\"Non-endemic\",\" \", IF(COUNTRY_INFO!A146=0,\" \",COUNTRY_INFO!A146)))","v":" "},{"$f":"IF(INTRO!$E$39<>\"Non-endemic\", \" \", IF(INTRO!$E$37=\"Non-endemic\",\" \", IF(COUNTRY_INFO!B146=0,\" \",COUNTRY_INFO!B146)))","v":" "},{"$f":"IF(INTRO!$E$39<>\"Non-endemic\", \" \", IF(INTRO!$E$37=\"Non-endemic\",\" \", IF(COUNTRY_INFO!C146=0,\" \",COUNTRY_INFO!C146)))","v":" "},{"$f":"IF(INTRO!$E$39<>\"Non-endemic\", 0, IF(INTRO!$E$37=\"Non-endemic\",0,IF(COUNTRY_INFO!$H146=1,COUNTRY_INFO!E146,0)))","v":0},{"$f":"IF(INTRO!$E$39<>\"Non-endemic\", 0, IF(INTRO!$E$37=\"Non-endemic\",0,IF(COUNTRY_INFO!$H146=1,COUNTRY_INFO!F146,0)))","v":0},{"$f":"IF(INTRO!$E$39<>\"Non-endemic\", 0, IF(INTRO!$E$37=\"Non-endemic\",0,IF(COUNTRY_INFO!$H146=1,COUNTRY_INFO!G146,0)))","v":0},0,{"$f":"IF(INTRO!$E$39=\"Non-endemic\",IF(INTRO!$E$37=\"Non-endemic\",\"Not required\",COUNTRY_INFO!V146),\"Treat with IVM\")","v":"Treat with IVM"},0,0,null,0]
[{"$f":"IF(INTRO!$E$39<>\"Non-endemic\", \" \", IF(INTRO!$E$37=\"Non-endemic\",\" \", IF(COUNTRY_INFO!A147=0,\" \",COUNTRY_INFO!A147)))","v":" "},{"$f":"IF(INTRO!$E$39<>\"Non-endemic\", \" \", IF(INTRO!$E$37=\"Non-endemic\",\" \", IF(COUNTRY_INFO!B147=0,\" \",COUNTRY_INFO!B147)))","v":" "},{"$f":"IF(INTRO!$E$39<>\"Non-endemic\", \" \", IF(INTRO!$E$37=\"Non-endemic\",\" \", IF(COUNTRY_INFO!C147=0,\" \",COUNTRY_INFO!C147)))","v":" "},{"$f":"IF(INTRO!$E$39<>\"Non-endemic\", 0, IF(INTRO!$E$37=\"Non-endemic\",0,IF(COUNTRY_INFO!$H147=1,COUNTRY_INFO!E147,0)))","v":0},{"$f":"IF(INTRO!$E$39<>\"Non-endemic\", 0, IF(INTRO!$E$37=\"Non-endemic\",0,IF(COUNTRY_INFO!$H147=1,COUNTRY_INFO!F147,0)))","v":0},{"$f":"IF(INTRO!$E$39<>\"Non-endemic\", 0, IF(INTRO!$E$37=\"Non-endemic\",0,IF(COUNTRY_INFO!$H147=1,COUNTRY_INFO!G147,0)))","v":0},0,{"$f":"IF(INTRO!$E$39=\"Non-endemic\",IF(INTRO!$E$37=\"Non-endemic\",\"Not required\",COUNTRY_INFO!V147),\"Treat with IVM\")","v":"Treat with IVM"},0,0,null,0]
[{"$f":"IF(INTRO!$E$39<>\"Non-endemic\", \" \", IF(INTRO!$E$37=\"Non-endemic\",\" \", IF(COUNTRY_INFO!A148=0,\" \",COUNTRY_INFO!A148)))","v":" "},{"$f":"IF(INTRO!$E$39<>\"Non-endemic\", \" \", IF(INTRO!$E$37=\"Non-endemic\",\" \", IF(COUNTRY_INFO!B148=0,\" \",COUNTRY_INFO!B148)))","v":" "},{"$f":"IF(INTRO!$E$39<>\"Non-endemic\", \" \", IF(INTRO!$E$37=\"Non-endemic\",\" \", IF(COUNTRY_INFO!C148=0,\" \",COUNTRY_INFO!C148)))","v":" "},{"$f":"IF(INTRO!$E$39<>\"Non-endemic\", 0, IF(INTRO!$E$37=\"Non-endemic\",0,IF(COUNTRY_INFO!$H148=1,COUNTRY_INFO!E148,0)))","v":0},{"$f":"IF(INTRO!$E$39<>\"Non-endemic\", 0, IF(INTRO!$E$37=\"Non-endemic\",0,IF(COUNTRY_INFO!$H148=1,COUNTRY_INFO!F148,0)))","v":0},{"$f":"IF(INTRO!$E$39<>\"Non-endemic\", 0, IF(INTRO!$E$37=\"Non-endemic\",0,IF(COUNTRY_INFO!$H148=1,COUNTRY_INFO!G148,0)))","v":0},0,{"$f":"IF(INTRO!$E$39=\"Non-endemic\",IF(INTRO!$E$37=\"Non-endemic\",\"Not required\",COUNTRY_INFO!V148),\"Treat with IVM\")","v":"Treat with IVM"},0,0,null,0]
[{"$f":"IF(INTRO!$E$39<>\"Non-endemic\", \" \", IF(INTRO!$E$37=\"Non-endemic\",\" \", IF(COUNTRY_INFO!A149=0,\" \",COUNTRY_INFO!A149)))","v":" "},{"$f":"IF(INTRO!$E$39<>\"Non-endemic\", \" \", IF(INTRO!$E$37=\"Non-endemic\",\" \", IF(COUNTRY_INFO!B149=0,\" \",COUNTRY_INFO!B149)))","v":" "},{"$f":"IF(INTRO!$E$39<>\"Non-endemic\", \" \", IF(INTRO!$E$37=\"Non-endemic\",\" \", IF(COUNTRY_INFO!C149=0,\" \",COUNTRY_INFO!C149)))","v":" "},{"$f":"IF(INTRO!$E$39<>\"Non-endemic\", 0, IF(INTRO!$E$37=\"Non-endemic\",0,IF(COUNTRY_INFO!$H149=1,COUNTRY_INFO!E149,0)))","v":0},{"$f":"IF(INTRO!$E$39<>\"Non-endemic\", 0, IF(INTRO!$E$37=\"Non-endemic\",0,IF(COUNTRY_INFO!$H149=1,COUNTRY_INFO!F149,0)))","v":0},{"$f":"IF(INTRO!$E$39<>\"Non-endemic\", 0, IF(INTRO!$E$37=\"Non-endemic\",0,IF(COUNTRY_INFO!$H149=1,COUNTRY_INFO!G149,0)))","v":0},0,{"$f":"IF(INTRO!$E$39=\"Non-endemic\",IF(INTRO!$E$37=\"Non-endemic\",\"Not required\",COUNTRY_INFO!V149),\"Treat with IVM\")","v":"Treat with IVM"},0,0,null,0]
[{"$f":"IF(INTRO!$E$39<>\"Non-endemic\", \" \", IF(INTRO!$E$37=\"Non-endemic\",\" \", IF(COUNTRY_INFO!A150=0,\" \",COUNTRY_INFO!A150)))","v":" "},{"$f":"IF(INTRO!$E$39<>\"Non-endemic\", \" \", IF(INTRO!$E$37=\"Non-endemic\",\" \", IF(COUNTRY_INFO!B150=0,\" \",COUNTRY_INFO!B150)))","v":" "},{"$f":"IF(INTRO!$E$39<>\"Non-endemic\", \" \", IF(INTRO!$E$37=\"Non-endemic\",\" \", IF(COUNTRY_INFO!C150=0,\" \",COUNTRY_INFO!C150)))","v":" "},{"$f":"IF(INTRO!$E$39<>\"Non-endemic\", 0, IF(INTRO!$E$37=\"Non-endemic\",0,IF(COUNTRY_INFO!$H150=1,COUNTRY_INFO!E150,0)))","v":0},{"$f":"IF(INTRO!$E$39<>\"Non-endemic\", 0, IF(INTRO!$E$37=\"Non-endemic\",0,IF(COUNTRY_INFO!$H150=1,COUNTRY_INFO!F150,0)))","v":0},{"$f":"IF(INTRO!$E$39<>\"Non-endemic\", 0, IF(INTRO!$E$37=\"Non-endemic\",0,IF(COUNTRY_INFO!$H150=1,COUNTRY_INFO!G150,0)))","v":0},0,{"$f":"IF(INTRO!$E$39=\"Non-endemic\",IF(INTRO!$E$37=\"Non-endemic\",\"Not required\",COUNTRY_INFO!V150),\"Treat with IVM\")","v":"Treat with IVM"},0,0,null,0]
[{"$f":"IF(INTRO!$E$39<>\"Non-endemic\", \" \", IF(INTRO!$E$37=\"Non-endemic\",\" \", IF(COUNTRY_INFO!A151=0,\" \",COUNTRY_INFO!A151)))","v":" "},{"$f":"IF(INTRO!$E$39<>\"Non-endemic\", \" \", IF(INTRO!$E$37=\"Non-endemic\",\" \", IF(COUNTRY_INFO!B151=0,\" \",COUNTRY_INFO!B151)))","v":" "},{"$f":"IF(INTRO!$E$39<>\"Non-endemic\", \" \", IF(INTRO!$E$37=\"Non-endemic\",\" \", IF(COUNTRY_INFO!C151=0,\" \",COUNTRY_INFO!C151)))","v":" "},{"$f":"IF(INTRO!$E$39<>\"Non-endemic\", 0, IF(INTRO!$E$37=\"Non-endemic\",0,IF(COUNTRY_INFO!$H151=1,COUNTRY_INFO!E151,0)))","v":0},{"$f":"IF(INTRO!$E$39<>\"Non-endemic\", 0, IF(INTRO!$E$37=\"Non-endemic\",0,IF(COUNTRY_INFO!$H151=1,COUNTRY_INFO!F151,0)))","v":0},{"$f":"IF(INTRO!$E$39<>\"Non-endemic\", 0, IF(INTRO!$E$37=\"Non-endemic\",0,IF(COUNTRY_INFO!$H151=1,COUNTRY_INFO!G151,0)))","v":0},0,{"$f":"IF(INTRO!$E$39=\"Non-endemic\",IF(INTRO!$E$37=\"Non-endemic\",\"Not required\",COUNTRY_INFO!V151),\"Treat with IVM\")","v":"Treat with IVM"},0,0,null,0]
[{"$f":"IF(INTRO!$E$39<>\"Non-endemic\", \" \", IF(INTRO!$E$37=\"Non-endemic\",\" \", IF(COUNTRY_INFO!A152=0,\" \",COUNTRY_INFO!A152)))","v":" "},{"$f":"IF(INTRO!$E$39<>\"Non-endemic\", \" \", IF(INTRO!$E$37=\"Non-endemic\",\" \", IF(COUNTRY_INFO!B152=0,\" \",COUNTRY_INFO!B152)))","v":" "},{"$f":"IF(INTRO!$E$39<>\"Non-endemic\", \" \", IF(INTRO!$E$37=\"Non-endemic\",\" \", IF(COUNTRY_INFO!C152=0,\" \",COUNTRY_INFO!C152)))","v":" "},{"$f":"IF(INTRO!$E$39<>\"Non-endemic\", 0, IF(INTRO!$E$37=\"Non-endemic\",0,IF(COUNTRY_INFO!$H152=1,COUNTRY_INFO!E152,0)))","v":0},{"$f":"IF(INTRO!$E$39<>\"Non-endemic\", 0, IF(INTRO!$E$37=\"Non-endemic\",0,IF(COUNTRY_INFO!$H152=1,COUNTRY_INFO!F152,0)))","v":0},{"$f":"IF(INTRO!$E$39<>\"Non-endemic\", 0, IF(INTRO!$E$37=\"Non-endemic\",0,IF(COUNTRY_INFO!$H152=1,COUNTRY_INFO!G152,0)))","v":0},0,{"$f":"IF(INTRO!$E$39=\"Non-endemic\",IF(INTRO!$E$37=\"Non-endemic\",\"Not required\",COUNTRY_INFO!V152),\"Treat with IVM\")","v":"Treat with IVM"},0,0,null,0]
[{"$f":"IF(INTRO!$E$39<>\"Non-endemic\", \" \", IF(INTRO!$E$37=\"Non-endemic\",\" \", IF(COUNTRY_INFO!A153=0,\" \",COUNTRY_INFO!A153)))","v":" "},{"$f":"IF(INTRO!$E$39<>\"Non-endemic\", \" \", IF(INTRO!$E$37=\"Non-endemic\",\" \", IF(COUNTRY_INFO!B153=0,\" \",COUNTRY_INFO!B153)))","v":" "},{"$f":"IF(INTRO!$E$39<>\"Non-endemic\", \" \", IF(INTRO!$E$37=\"Non-endemic\",\" \", IF(COUNTRY_INFO!C153=0,\" \",COUNTRY_INFO!C153)))","v":" "},{"$f":"IF(INTRO!$E$39<>\"Non-endemic\", 0, IF(INTRO!$E$37=\"Non-endemic\",0,IF(COUNTRY_INFO!$H153=1,COUNTRY_INFO!E153,0)))","v":0},{"$f":"IF(INTRO!$E$39<>\"Non-endemic\", 0, IF(INTRO!$E$37=\"Non-endemic\",0,IF(COUNTRY_INFO!$H153=1,COUNTRY_INFO!F153,0)))","v":0},{"$f":"IF(INTRO!$E$39<>\"Non-endemic\", 0, IF(INTRO!$E$37=\"Non-endemic\",0,IF(COUNTRY_INFO!$H153=1,COUNTRY_INFO!G153,0)))","v":0},0,{"$f":"IF(INTRO!$E$39=\"Non-endemic\",IF(INTRO!$E$37=\"Non-endemic\",\"Not required\",COUNTRY_INFO!V153),\"Treat with IVM\")","v":"Treat with IVM"},0,0,null,0]
[{"$f":"IF(INTRO!$E$39<>\"Non-endemic\", \" \", IF(INTRO!$E$37=\"Non-endemic\",\" \", IF(COUNTRY_INFO!A154=0,\" \",COUNTRY_INFO!A154)))","v":" "},{"$f":"IF(INTRO!$E$39<>\"Non-endemic\", \" \", IF(INTRO!$E$37=\"Non-endemic\",\" \", IF(COUNTRY_INFO!B154=0,\" \",COUNTRY_INFO!B154)))","v":" "},{"$f":"IF(INTRO!$E$39<>\"Non-endemic\", \" \", IF(INTRO!$E$37=\"Non-endemic\",\" \", IF(COUNTRY_INFO!C154=0,\" \",COUNTRY_INFO!C154)))","v":" "},{"$f":"IF(INTRO!$E$39<>\"Non-endemic\", 0, IF(INTRO!$E$37=\"Non-endemic\",0,IF(COUNTRY_INFO!$H154=1,COUNTRY_INFO!E154,0)))","v":0},{"$f":"IF(INTRO!$E$39<>\"Non-endemic\", 0, IF(INTRO!$E$37=\"Non-endemic\",0,IF(COUNTRY_INFO!$H154=1,COUNTRY_INFO!F154,0)))","v":0},{"$f":"IF(INTRO!$E$39<>\"Non-endemic\", 0, IF(INTRO!$E$37=\"Non-endemic\",0,IF(COUNTRY_INFO!$H154=1,COUNTRY_INFO!G154,0)))","v":0},0,{"$f":"IF(INTRO!$E$39=\"Non-endemic\",IF(INTRO!$E$37=\"Non-endemic\",\"Not required\",COUNTRY_INFO!V154),\"Treat with IVM\")","v":"Treat with IVM"},0,0,null,0]
[{"$f":"IF(INTRO!$E$39<>\"Non-endemic\", \" \", IF(INTRO!$E$37=\"Non-endemic\",\" \", IF(COUNTRY_INFO!A155=0,\" \",COUNTRY_INFO!A155)))","v":" "},{"$f":"IF(INTRO!$E$39<>\"Non-endemic\", \" \", IF(INTRO!$E$37=\"Non-endemic\",\" \", IF(COUNTRY_INFO!B155=0,\" \",COUNTRY_INFO!B155)))","v":" "},{"$f":"IF(INTRO!$E$39<>\"Non-endemic\", \" \", IF(INTRO!$E$37=\"Non-endemic\",\" \", IF(COUNTRY_INFO!C155=0,\" \",COUNTRY_INFO!C155)))","v":" "},{"$f":"IF(INTRO!$E$39<>\"Non-endemic\", 0, IF(INTRO!$E$37=\"Non-endemic\",0,IF(COUNTRY_INFO!$H155=1,COUNTRY_INFO!E155,0)))","v":0},{"$f":"IF(INTRO!$E$39<>\"Non-endemic\", 0, IF(INTRO!$E$37=\"Non-endemic\",0,IF(COUNTRY_INFO!$H155=1,COUNTRY_INFO!F155,0)))","v":0},{"$f":"IF(INTRO!$E$39<>\"Non-endemic\", 0, IF(INTRO!$E$37=\"Non-endemic\",0,IF(COUNTRY_INFO!$H155=1,COUNTRY_INFO!G155,0)))","v":0},0,{"$f":"IF(INTRO!$E$39=\"Non-endemic\",IF(INTRO!$E$37=\"Non-endemic\",\"Not required\",COUNTRY_INFO!V155),\"Treat with IVM\")","v":"Treat with IVM"},0,0,null,0]
[{"$f":"IF(INTRO!$E$39<>\"Non-endemic\", \" \", IF(INTRO!$E$37=\"Non-endemic\",\" \", IF(COUNTRY_INFO!A156=0,\" \",COUNTRY_INFO!A156)))","v":" "},{"$f":"IF(INTRO!$E$39<>\"Non-endemic\", \" \", IF(INTRO!$E$37=\"Non-endemic\",\" \", IF(COUNTRY_INFO!B156=0,\" \",COUNTRY_INFO!B156)))","v":" "},{"$f":"IF(INTRO!$E$39<>\"Non-endemic\", \" \", IF(INTRO!$E$37=\"Non-endemic\",\" \", IF(COUNTRY_INFO!C156=0,\" \",COUNTRY_INFO!C156)))","v":" "},{"$f":"IF(INTRO!$E$39<>\"Non-endemic\", 0, IF(INTRO!$E$37=\"Non-endemic\",0,IF(COUNTRY_INFO!$H156=1,COUNTRY_INFO!E156,0)))","v":0},{"$f":"IF(INTRO!$E$39<>\"Non-endemic\", 0, IF(INTRO!$E$37=\"Non-endemic\",0,IF(COUNTRY_INFO!$H156=1,COUNTRY_INFO!F156,0)))","v":0},{"$f":"IF(INTRO!$E$39<>\"Non-endemic\", 0, IF(INTRO!$E$37=\"Non-endemic\",0,IF(COUNTRY_INFO!$H156=1,COUNTRY_INFO!G156,0)))","v":0},0,{"$f":"IF(INTRO!$E$39=\"Non-endemic\",IF(INTRO!$E$37=\"Non-endemic\",\"Not required\",COUNTRY_INFO!V156),\"Treat with IVM\")","v":"Treat with IVM"},0,0,null,0]
[{"$f":"IF(INTRO!$E$39<>\"Non-endemic\", \" \", IF(INTRO!$E$37=\"Non-endemic\",\" \", IF(COUNTRY_INFO!A157=0,\" \",COUNTRY_INFO!A157)))","v":" "},{"$f":"IF(INTRO!$E$39<>\"Non-endemic\", \" \", IF(INTRO!$E$37=\"Non-endemic\",\" \", IF(COUNTRY_INFO!B157=0,\" \",COUNTRY_INFO!B157)))","v":" "},{"$f":"IF(INTRO!$E$39<>\"Non-endemic\", \" \", IF(INTRO!$E$37=\"Non-endemic\",\" \", IF(COUNTRY_INFO!C157=0,\" \",COUNTRY_INFO!C157)))","v":" "},{"$f":"IF(INTRO!$E$39<>\"Non-endemic\", 0, IF(INTRO!$E$37=\"Non-endemic\",0,IF(COUNTRY_INFO!$H157=1,COUNTRY_INFO!E157,0)))","v":0},{"$f":"IF(INTRO!$E$39<>\"Non-endemic\", 0, IF(INTRO!$E$37=\"Non-endemic\",0,IF(COUNTRY_INFO!$H157=1,COUNTRY_INFO!F157,0)))","v":0},{"$f":"IF(INTRO!$E$39<>\"Non-endemic\", 0, IF(INTRO!$E$37=\"Non-endemic\",0,IF(COUNTRY_INFO!$H157=1,COUNTRY_INFO!G157,0)))","v":0},0,{"$f":"IF(INTRO!$E$39=\"Non-endemic\",IF(INTRO!$E$37=\"Non-endemic\",\"Not required\",COUNTRY_INFO!V157),\"Treat with IVM\")","v":"Treat with IVM"},0,0,null,0]
[{"$f":"IF(INTRO!$E$39<>\"Non-endemic\", \" \", IF(INTRO!$E$37=\"Non-endemic\",\" \", IF(COUNTRY_INFO!A158=0,\" \",COUNTRY_INFO!A158)))","v":" "},{"$f":"IF(INTRO!$E$39<>\"Non-endemic\", \" \", IF(INTRO!$E$37=\"Non-endemic\",\" \", IF(COUNTRY_INFO!B158=0,\" \",COUNTRY_INFO!B158)))","v":" "},{"$f":"IF(INTRO!$E$39<>\"Non-endemic\", \" \", IF(INTRO!$E$37=\"Non-endemic\",\" \", IF(COUNTRY_INFO!C158=0,\" \",COUNTRY_INFO!C158)))","v":" "},{"$f":"IF(INTRO!$E$39<>\"Non-endemic\", 0, IF(INTRO!$E$37=\"Non-endemic\",0,IF(COUNTRY_INFO!$H158=1,COUNTRY_INFO!E158,0)))","v":0},{"$f":"IF(INTRO!$E$39<>\"Non-endemic\", 0, IF(INTRO!$E$37=\"Non-endemic\",0,IF(COUNTRY_INFO!$H158=1,COUNTRY_INFO!F158,0)))","v":0},{"$f":"IF(INTRO!$E$39<>\"Non-endemic\", 0, IF(INTRO!$E$37=\"Non-endemic\",0,IF(COUNTRY_INFO!$H158=1,COUNTRY_INFO!G158,0)))","v":0},0,{"$f":"IF(INTRO!$E$39=\"Non-endemic\",IF(INTRO!$E$37=\"Non-endemic\",\"Not required\",COUNTRY_INFO!V158),\"Treat with IVM\")","v":"Treat with IVM"},0,0,null,0]
[{"$f":"IF(INTRO!$E$39<>\"Non-endemic\", \" \", IF(INTRO!$E$37=\"Non-endemic\",\" \", IF(COUNTRY_INFO!A159=0,\" \",COUNTRY_INFO!A159)))","v":" "},{"$f":"IF(INTRO!$E$39<>\"Non-endemic\", \" \", IF(INTRO!$E$37=\"Non-endemic\",\" \", IF(COUNTRY_INFO!B159=0,\" \",COUNTRY_INFO!B159)))","v":" "},{"$f":"IF(INTRO!$E$39<>\"Non-endemic\", \" \", IF(INTRO!$E$37=\"Non-endemic\",\" \", IF(COUNTRY_INFO!C159=0,\" \",COUNTRY_INFO!C159)))","v":" "},{"$f":"IF(INTRO!$E$39<>\"Non-endemic\", 0, IF(INTRO!$E$37=\"Non-endemic\",0,IF(COUNTRY_INFO!$H159=1,COUNTRY_INFO!E159,0)))","v":0},{"$f":"IF(INTRO!$E$39<>\"Non-endemic\", 0, IF(INTRO!$E$37=\"Non-endemic\",0,IF(COUNTRY_INFO!$H159=1,COUNTRY_INFO!F159,0)))","v":0},{"$f":"IF(INTRO!$E$39<>\"Non-endemic\", 0, IF(INTRO!$E$37=\"Non-endemic\",0,IF(COUNTRY_INFO!$H159=1,COUNTRY_INFO!G159,0)))","v":0},0,{"$f":"IF(INTRO!$E$39=\"Non-endemic\",IF(INTRO!$E$37=\"Non-endemic\",\"Not required\",COUNTRY_INFO!V159),\"Treat with IVM\")","v":"Treat with IVM"},0,0,null,0]
[{"$f":"IF(INTRO!$E$39<>\"Non-endemic\", \" \", IF(INTRO!$E$37=\"Non-endemic\",\" \", IF(COUNTRY_INFO!A160=0,\" \",COUNTRY_INFO!A160)))","v":" "},{"$f":"IF(INTRO!$E$39<>\"Non-endemic\", \" \", IF(INTRO!$E$37=\"Non-endemic\",\" \", IF(COUNTRY_INFO!B160=0,\" \",COUNTRY_INFO!B160)))","v":" "},{"$f":"IF(INTRO!$E$39<>\"Non-endemic\", \" \", IF(INTRO!$E$37=\"Non-endemic\",\" \", IF(COUNTRY_INFO!C160=0,\" \",COUNTRY_INFO!C160)))","v":" "},{"$f":"IF(INTRO!$E$39<>\"Non-endemic\", 0, IF(INTRO!$E$37=\"Non-endemic\",0,IF(COUNTRY_INFO!$H160=1,COUNTRY_INFO!E160,0)))","v":0},{"$f":"IF(INTRO!$E$39<>\"Non-endemic\", 0, IF(INTRO!$E$37=\"Non-endemic\",0,IF(COUNTRY_INFO!$H160=1,COUNTRY_INFO!F160,0)))","v":0},{"$f":"IF(INTRO!$E$39<>\"Non-endemic\", 0, IF(INTRO!$E$37=\"Non-endemic\",0,IF(COUNTRY_INFO!$H160=1,COUNTRY_INFO!G160,0)))","v":0},0,{"$f":"IF(INTRO!$E$39=\"Non-endemic\",IF(INTRO!$E$37=\"Non-endemic\",\"Not required\",COUNTRY_INFO!V160),\"Treat with IVM\")","v":"Treat with IVM"},0,0,null,0]
[{"$f":"IF(INTRO!$E$39<>\"Non-endemic\", \" \", IF(INTRO!$E$37=\"Non-endemic\",\" \", IF(COUNTRY_INFO!A161=0,\" \",COUNTRY_INFO!A161)))","v":" "},{"$f":"IF(INTRO!$E$39<>\"Non-endemic\", \" \", IF(INTRO!$E$37=\"Non-endemic\",\" \", IF(COUNTRY_INFO!B161=0,\" \",COUNTRY_INFO!B161)))","v":" "},{"$f":"IF(INTRO!$E$39<>\"Non-endemic\", \" \", IF(INTRO!$E$37=\"Non-endemic\",\" \", IF(COUNTRY_INFO!C161=0,\" \",COUNTRY_INFO!C161)))","v":" "},{"$f":"IF(INTRO!$E$39<>\"Non-endemic\", 0, IF(INTRO!$E$37=\"Non-endemic\",0,IF(COUNTRY_INFO!$H161=1,COUNTRY_INFO!E161,0)))","v":0},{"$f":"IF(INTRO!$E$39<>\"Non-endemic\", 0, IF(INTRO!$E$37=\"Non-endemic\",0,IF(COUNTRY_INFO!$H161=1,COUNTRY_INFO!F161,0)))","v":0},{"$f":"IF(INTRO!$E$39<>\"Non-endemic\", 0, IF(INTRO!$E$37=\"Non-endemic\",0,IF(COUNTRY_INFO!$H161=1,COUNTRY_INFO!G161,0)))","v":0},0,{"$f":"IF(INTRO!$E$39=\"Non-endemic\",IF(INTRO!$E$37=\"Non-endemic\",\"Not required\",COUNTRY_INFO!V161),\"Treat with IVM\")","v":"Treat with IVM"},0,0,null,0]
[{"$f":"IF(INTRO!$E$39<>\"Non-endemic\", \" \", IF(INTRO!$E$37=\"Non-endemic\",\" \", IF(COUNTRY_INFO!A162=0,\" \",COUNTRY_INFO!A162)))","v":" "},{"$f":"IF(INTRO!$E$39<>\"Non-endemic\", \" \", IF(INTRO!$E$37=\"Non-endemic\",\" \", IF(COUNTRY_INFO!B162=0,\" \",COUNTRY_INFO!B162)))","v":" "},{"$f":"IF(INTRO!$E$39<>\"Non-endemic\", \" \", IF(INTRO!$E$37=\"Non-endemic\",\" \", IF(COUNTRY_INFO!C162=0,\" \",COUNTRY_INFO!C162)))","v":" "},{"$f":"IF(INTRO!$E$39<>\"Non-endemic\", 0, IF(INTRO!$E$37=\"Non-endemic\",0,IF(COUNTRY_INFO!$H162=1,COUNTRY_INFO!E162,0)))","v":0},{"$f":"IF(INTRO!$E$39<>\"Non-endemic\", 0, IF(INTRO!$E$37=\"Non-endemic\",0,IF(COUNTRY_INFO!$H162=1,COUNTRY_INFO!F162,0)))","v":0},{"$f":"IF(INTRO!$E$39<>\"Non-endemic\", 0, IF(INTRO!$E$37=\"Non-endemic\",0,IF(COUNTRY_INFO!$H162=1,COUNTRY_INFO!G162,0)))","v":0},0,{"$f":"IF(INTRO!$E$39=\"Non-endemic\",IF(INTRO!$E$37=\"Non-endemic\",\"Not required\",COUNTRY_INFO!V162),\"Treat with IVM\")","v":"Treat with IVM"},0,0,null,0]
[{"$f":"IF(INTRO!$E$39<>\"Non-endemic\", \" \", IF(INTRO!$E$37=\"Non-endemic\",\" \", IF(COUNTRY_INFO!A163=0,\" \",COUNTRY_INFO!A163)))","v":" "},{"$f":"IF(INTRO!$E$39<>\"Non-endemic\", \" \", IF(INTRO!$E$37=\"Non-endemic\",\" \", IF(COUNTRY_INFO!B163=0,\" \",COUNTRY_INFO!B163)))","v":" "},{"$f":"IF(INTRO!$E$39<>\"Non-endemic\", \" \", IF(INTRO!$E$37=\"Non-endemic\",\" \", IF(COUNTRY_INFO!C163=0,\" \",COUNTRY_INFO!C163)))","v":" "},{"$f":"IF(INTRO!$E$39<>\"Non-endemic\", 0, IF(INTRO!$E$37=\"Non-endemic\",0,IF(COUNTRY_INFO!$H163=1,COUNTRY_INFO!E163,0)))","v":0},{"$f":"IF(INTRO!$E$39<>\"Non-endemic\", 0, IF(INTRO!$E$37=\"Non-endemic\",0,IF(COUNTRY_INFO!$H163=1,COUNTRY_INFO!F163,0)))","v":0},{"$f":"IF(INTRO!$E$39<>\"Non-endemic\", 0, IF(INTRO!$E$37=\"Non-endemic\",0,IF(COUNTRY_INFO!$H163=1,COUNTRY_INFO!G163,0)))","v":0},0,{"$f":"IF(INTRO!$E$39=\"Non-endemic\",IF(INTRO!$E$37=\"Non-endemic\",\"Not required\",COUNTRY_INFO!V163),\"Treat with IVM\")","v":"Treat with IVM"},0,0,null,0]
[{"$f":"IF(INTRO!$E$39<>\"Non-endemic\", \" \", IF(INTRO!$E$37=\"Non-endemic\",\" \", IF(COUNTRY_INFO!A164=0,\" \",COUNTRY_INFO!A164)))","v":" "},{"$f":"IF(INTRO!$E$39<>\"Non-endemic\", \" \", IF(INTRO!$E$37=\"Non-endemic\",\" \", IF(COUNTRY_INFO!B164=0,\" \",COUNTRY_INFO!B164)))","v":" "},{"$f":"IF(INTRO!$E$39<>\"Non-endemic\", \" \", IF(INTRO!$E$37=\"Non-endemic\",\" \", IF(COUNTRY_INFO!C164=0,\" \",COUNTRY_INFO!C164)))","v":" "},{"$f":"IF(INTRO!$E$39<>\"Non-endemic\", 0, IF(INTRO!$E$37=\"Non-endemic\",0,IF(COUNTRY_INFO!$H164=1,COUNTRY_INFO!E164,0)))","v":0},{"$f":"IF(INTRO!$E$39<>\"Non-endemic\", 0, IF(INTRO!$E$37=\"Non-endemic\",0,IF(COUNTRY_INFO!$H164=1,COUNTRY_INFO!F164,0)))","v":0},{"$f":"IF(INTRO!$E$39<>\"Non-endemic\", 0, IF(INTRO!$E$37=\"Non-endemic\",0,IF(COUNTRY_INFO!$H164=1,COUNTRY_INFO!G164,0)))","v":0},0,{"$f":"IF(INTRO!$E$39=\"Non-endemic\",IF(INTRO!$E$37=\"Non-endemic\",\"Not required\",COUNTRY_INFO!V164),\"Treat with IVM\")","v":"Treat with IVM"},0,0,null,0]
[{"$f":"IF(INTRO!$E$39<>\"Non-endemic\", \" \", IF(INTRO!$E$37=\"Non-endemic\",\" \", IF(COUNTRY_INFO!A165=0,\" \",COUNTRY_INFO!A165)))","v":" "},{"$f":"IF(INTRO!$E$39<>\"Non-endemic\", \" \", IF(INTRO!$E$37=\"Non-endemic\",\" \", IF(COUNTRY_INFO!B165=0,\" \",COUNTRY_INFO!B165)))","v":" "},{"$f":"IF(INTRO!$E$39<>\"Non-endemic\", \" \", IF(INTRO!$E$37=\"Non-endemic\",\" \", IF(COUNTRY_INFO!C165=0,\" \",COUNTRY_INFO!C165)))","v":" "},{"$f":"IF(INTRO!$E$39<>\"Non-endemic\", 0, IF(INTRO!$E$37=\"Non-endemic\",0,IF(COUNTRY_INFO!$H165=1,COUNTRY_INFO!E165,0)))","v":0},{"$f":"IF(INTRO!$E$39<>\"Non-endemic\", 0, IF(INTRO!$E$37=\"Non-endemic\",0,IF(COUNTRY_INFO!$H165=1,COUNTRY_INFO!F165,0)))","v":0},{"$f":"IF(INTRO!$E$39<>\"Non-endemic\", 0, IF(INTRO!$E$37=\"Non-endemic\",0,IF(COUNTRY_INFO!$H165=1,COUNTRY_INFO!G165,0)))","v":0},0,{"$f":"IF(INTRO!$E$39=\"Non-endemic\",IF(INTRO!$E$37=\"Non-endemic\",\"Not required\",COUNTRY_INFO!V165),\"Treat with IVM\")","v":"Treat with IVM"},0,0,null,0]
[{"$f":"IF(INTRO!$E$39<>\"Non-endemic\", \" \", IF(INTRO!$E$37=\"Non-endemic\",\" \", IF(COUNTRY_INFO!A166=0,\" \",COUNTRY_INFO!A166)))","v":" "},{"$f":"IF(INTRO!$E$39<>\"Non-endemic\", \" \", IF(INTRO!$E$37=\"Non-endemic\",\" \", IF(COUNTRY_INFO!B166=0,\" \",COUNTRY_INFO!B166)))","v":" "},{"$f":"IF(INTRO!$E$39<>\"Non-endemic\", \" \", IF(INTRO!$E$37=\"Non-endemic\",\" \", IF(COUNTRY_INFO!C166=0,\" \",COUNTRY_INFO!C166)))","v":" "},{"$f":"IF(INTRO!$E$39<>\"Non-endemic\", 0, IF(INTRO!$E$37=\"Non-endemic\",0,IF(COUNTRY_INFO!$H166=1,COUNTRY_INFO!E166,0)))","v":0},{"$f":"IF(INTRO!$E$39<>\"Non-endemic\", 0, IF(INTRO!$E$37=\"Non-endemic\",0,IF(COUNTRY_INFO!$H166=1,COUNTRY_INFO!F166,0)))","v":0},{"$f":"IF(INTRO!$E$39<>\"Non-endemic\", 0, IF(INTRO!$E$37=\"Non-endemic\",0,IF(COUNTRY_INFO!$H166=1,COUNTRY_INFO!G166,0)))","v":0},0,{"$f":"IF(INTRO!$E$39=\"Non-endemic\",IF(INTRO!$E$37=\"Non-endemic\",\"Not required\",COUNTRY_INFO!V166),\"Treat with IVM\")","v":"Treat with IVM"},0,0,null,0]
[{"$f":"IF(INTRO!$E$39<>\"Non-endemic\", \" \", IF(INTRO!$E$37=\"Non-endemic\",\" \", IF(COUNTRY_INFO!A167=0,\" \",COUNTRY_INFO!A167)))","v":" "},{"$f":"IF(INTRO!$E$39<>\"Non-endemic\", \" \", IF(INTRO!$E$37=\"Non-endemic\",\" \", IF(COUNTRY_INFO!B167=0,\" \",COUNTRY_INFO!B167)))","v":" "},{"$f":"IF(INTRO!$E$39<>\"Non-endemic\", \" \", IF(INTRO!$E$37=\"Non-endemic\",\" \", IF(COUNTRY_INFO!C167=0,\" \",COUNTRY_INFO!C167)))","v":" "},{"$f":"IF(INTRO!$E$39<>\"Non-endemic\", 0, IF(INTRO!$E$37=\"Non-endemic\",0,IF(COUNTRY_INFO!$H167=1,COUNTRY_INFO!E167,0)))","v":0},{"$f":"IF(INTRO!$E$39<>\"Non-endemic\", 0, IF(INTRO!$E$37=\"Non-endemic\",0,IF(COUNTRY_INFO!$H167=1,COUNTRY_INFO!F167,0)))","v":0},{"$f":"IF(INTRO!$E$39<>\"Non-endemic\", 0, IF(INTRO!$E$37=\"Non-endemic\",0,IF(COUNTRY_INFO!$H167=1,COUNTRY_INFO!G167,0)))","v":0},0,{"$f":"IF(INTRO!$E$39=\"Non-endemic\",IF(INTRO!$E$37=\"Non-endemic\",\"Not required\",COUNTRY_INFO!V167),\"Treat with IVM\")","v":"Treat with IVM"},0,0,null,0]
[{"$f":"IF(INTRO!$E$39<>\"Non-endemic\", \" \", IF(INTRO!$E$37=\"Non-endemic\",\" \", IF(COUNTRY_INFO!A168=0,\" \",COUNTRY_INFO!A168)))","v":" "},{"$f":"IF(INTRO!$E$39<>\"Non-endemic\", \" \", IF(INTRO!$E$37=\"Non-endemic\",\" \", IF(COUNTRY_INFO!B168=0,\" \",COUNTRY_INFO!B168)))","v":" "},{"$f":"IF(INTRO!$E$39<>\"Non-endemic\", \" \", IF(INTRO!$E$37=\"Non-endemic\",\" \", IF(COUNTRY_INFO!C168=0,\" \",COUNTRY_INFO!C168)))","v":" "},{"$f":"IF(INTRO!$E$39<>\"Non-endemic\", 0, IF(INTRO!$E$37=\"Non-endemic\",0,IF(COUNTRY_INFO!$H168=1,COUNTRY_INFO!E168,0)))","v":0},{"$f":"IF(INTRO!$E$39<>\"Non-endemic\", 0, IF(INTRO!$E$37=\"Non-endemic\",0,IF(COUNTRY_INFO!$H168=1,COUNTRY_INFO!F168,0)))","v":0},{"$f":"IF(INTRO!$E$39<>\"Non-endemic\", 0, IF(INTRO!$E$37=\"Non-endemic\",0,IF(COUNTRY_INFO!$H168=1,COUNTRY_INFO!G168,0)))","v":0},0,{"$f":"IF(INTRO!$E$39=\"Non-endemic\",IF(INTRO!$E$37=\"Non-endemic\",\"Not required\",COUNTRY_INFO!V168),\"Treat with IVM\")","v":"Treat with IVM"},0,0,null,0]
[{"$f":"IF(INTRO!$E$39<>\"Non-endemic\", \" \", IF(INTRO!$E$37=\"Non-endemic\",\" \", IF(COUNTRY_INFO!A169=0,\" \",COUNTRY_INFO!A169)))","v":" "},{"$f":"IF(INTRO!$E$39<>\"Non-endemic\", \" \", IF(INTRO!$E$37=\"Non-endemic\",\" \", IF(COUNTRY_INFO!B169=0,\" \",COUNTRY_INFO!B169)))","v":" "},{"$f":"IF(INTRO!$E$39<>\"Non-endemic\", \" \", IF(INTRO!$E$37=\"Non-endemic\",\" \", IF(COUNTRY_INFO!C169=0,\" \",COUNTRY_INFO!C169)))","v":" "},{"$f":"IF(INTRO!$E$39<>\"Non-endemic\", 0, IF(INTRO!$E$37=\"Non-endemic\",0,IF(COUNTRY_INFO!$H169=1,COUNTRY_INFO!E169,0)))","v":0},{"$f":"IF(INTRO!$E$39<>\"Non-endemic\", 0, IF(INTRO!$E$37=\"Non-endemic\",0,IF(COUNTRY_INFO!$H169=1,COUNTRY_INFO!F169,0)))","v":0},{"$f":"IF(INTRO!$E$39<>\"Non-endemic\", 0, IF(INTRO!$E$37=\"Non-endemic\",0,IF(COUNTRY_INFO!$H169=1,COUNTRY_INFO!G169,0)))","v":0},0,{"$f":"IF(INTRO!$E$39=\"Non-endemic\",IF(INTRO!$E$37=\"Non-endemic\",\"Not required\",COUNTRY_INFO!V169),\"Treat with IVM\")","v":"Treat with IVM"},0,0,null,0]
[{"$f":"IF(INTRO!$E$39<>\"Non-endemic\", \" \", IF(INTRO!$E$37=\"Non-endemic\",\" \", IF(COUNTRY_INFO!A170=0,\" \",COUNTRY_INFO!A170)))","v":" "},{"$f":"IF(INTRO!$E$39<>\"Non-endemic\", \" \", IF(INTRO!$E$37=\"Non-endemic\",\" \", IF(COUNTRY_INFO!B170=0,\" \",COUNTRY_INFO!B170)))","v":" "},{"$f":"IF(INTRO!$E$39<>\"Non-endemic\", \" \", IF(INTRO!$E$37=\"Non-endemic\",\" \", IF(COUNTRY_INFO!C170=0,\" \",COUNTRY_INFO!C170)))","v":" "},{"$f":"IF(INTRO!$E$39<>\"Non-endemic\", 0, IF(INTRO!$E$37=\"Non-endemic\",0,IF(COUNTRY_INFO!$H170=1,COUNTRY_INFO!E170,0)))","v":0},{"$f":"IF(INTRO!$E$39<>\"Non-endemic\", 0, IF(INTRO!$E$37=\"Non-endemic\",0,IF(COUNTRY_INFO!$H170=1,COUNTRY_INFO!F170,0)))","v":0},{"$f":"IF(INTRO!$E$39<>\"Non-endemic\", 0, IF(INTRO!$E$37=\"Non-endemic\",0,IF(COUNTRY_INFO!$H170=1,COUNTRY_INFO!G170,0)))","v":0},0,{"$f":"IF(INTRO!$E$39=\"Non-endemic\",IF(INTRO!$E$37=\"Non-endemic\",\"Not required\",COUNTRY_INFO!V170),\"Treat with IVM\")","v":"Treat with IVM"},0,0,null,0]
[{"$f":"IF(INTRO!$E$39<>\"Non-endemic\", \" \", IF(INTRO!$E$37=\"Non-endemic\",\" \", IF(COUNTRY_INFO!A171=0,\" \",COUNTRY_INFO!A171)))","v":" "},{"$f":"IF(INTRO!$E$39<>\"Non-endemic\", \" \", IF(INTRO!$E$37=\"Non-endemic\",\" \", IF(COUNTRY_INFO!B171=0,\" \",COUNTRY_INFO!B171)))","v":" "},{"$f":"IF(INTRO!$E$39<>\"Non-endemic\", \" \", IF(INTRO!$E$37=\"Non-endemic\",\" \", IF(COUNTRY_INFO!C171=0,\" \",COUNTRY_INFO!C171)))","v":" "},{"$f":"IF(INTRO!$E$39<>\"Non-endemic\", 0, IF(INTRO!$E$37=\"Non-endemic\",0,IF(COUNTRY_INFO!$H171=1,COUNTRY_INFO!E171,0)))","v":0},{"$f":"IF(INTRO!$E$39<>\"Non-endemic\", 0, IF(INTRO!$E$37=\"Non-endemic\",0,IF(COUNTRY_INFO!$H171=1,COUNTRY_INFO!F171,0)))","v":0},{"$f":"IF(INTRO!$E$39<>\"Non-endemic\", 0, IF(INTRO!$E$37=\"Non-endemic\",0,IF(COUNTRY_INFO!$H171=1,COUNTRY_INFO!G171,0)))","v":0},0,{"$f":"IF(INTRO!$E$39=\"Non-endemic\",IF(INTRO!$E$37=\"Non-endemic\",\"Not required\",COUNTRY_INFO!V171),\"Treat with IVM\")","v":"Treat with IVM"},0,0,null,0]
[{"$f":"IF(INTRO!$E$39<>\"Non-endemic\", \" \", IF(INTRO!$E$37=\"Non-endemic\",\" \", IF(COUNTRY_INFO!A172=0,\" \",COUNTRY_INFO!A172)))","v":" "},{"$f":"IF(INTRO!$E$39<>\"Non-endemic\", \" \", IF(INTRO!$E$37=\"Non-endemic\",\" \", IF(COUNTRY_INFO!B172=0,\" \",COUNTRY_INFO!B172)))","v":" "},{"$f":"IF(INTRO!$E$39<>\"Non-endemic\", \" \", IF(INTRO!$E$37=\"Non-endemic\",\" \", IF(COUNTRY_INFO!C172=0,\" \",COUNTRY_INFO!C172)))","v":" "},{"$f":"IF(INTRO!$E$39<>\"Non-endemic\", 0, IF(INTRO!$E$37=\"Non-endemic\",0,IF(COUNTRY_INFO!$H172=1,COUNTRY_INFO!E172,0)))","v":0},{"$f":"IF(INTRO!$E$39<>\"Non-endemic\", 0, IF(INTRO!$E$37=\"Non-endemic\",0,IF(COUNTRY_INFO!$H172=1,COUNTRY_INFO!F172,0)))","v":0},{"$f":"IF(INTRO!$E$39<>\"Non-endemic\", 0, IF(INTRO!$E$37=\"Non-endemic\",0,IF(COUNTRY_INFO!$H172=1,COUNTRY_INFO!G172,0)))","v":0},0,{"$f":"IF(INTRO!$E$39=\"Non-endemic\",IF(INTRO!$E$37=\"Non-endemic\",\"Not required\",COUNTRY_INFO!V172),\"Treat with IVM\")","v":"Treat with IVM"},0,0,null,0]
[{"$f":"IF(INTRO!$E$39<>\"Non-endemic\", \" \", IF(INTRO!$E$37=\"Non-endemic\",\" \", IF(COUNTRY_INFO!A173=0,\" \",COUNTRY_INFO!A173)))","v":" "},{"$f":"IF(INTRO!$E$39<>\"Non-endemic\", \" \", IF(INTRO!$E$37=\"Non-endemic\",\" \", IF(COUNTRY_INFO!B173=0,\" \",COUNTRY_INFO!B173)))","v":" "},{"$f":"IF(INTRO!$E$39<>\"Non-endemic\", \" \", IF(INTRO!$E$37=\"Non-endemic\",\" \", IF(COUNTRY_INFO!C173=0,\" \",COUNTRY_INFO!C173)))","v":" "},{"$f":"IF(INTRO!$E$39<>\"Non-endemic\", 0, IF(INTRO!$E$37=\"Non-endemic\",0,IF(COUNTRY_INFO!$H173=1,COUNTRY_INFO!E173,0)))","v":0},{"$f":"IF(INTRO!$E$39<>\"Non-endemic\", 0, IF(INTRO!$E$37=\"Non-endemic\",0,IF(COUNTRY_INFO!$H173=1,COUNTRY_INFO!F173,0)))","v":0},{"$f":"IF(INTRO!$E$39<>\"Non-endemic\", 0, IF(INTRO!$E$37=\"Non-endemic\",0,IF(COUNTRY_INFO!$H173=1,COUNTRY_INFO!G173,0)))","v":0},0,{"$f":"IF(INTRO!$E$39=\"Non-endemic\",IF(INTRO!$E$37=\"Non-endemic\",\"Not required\",COUNTRY_INFO!V173),\"Treat with IVM\")","v":"Treat with IVM"},0,0,null,0]
[{"$f":"IF(INTRO!$E$39<>\"Non-endemic\", \" \", IF(INTRO!$E$37=\"Non-endemic\",\" \", IF(COUNTRY_INFO!A174=0,\" \",COUNTRY_INFO!A174)))","v":" "},{"$f":"IF(INTRO!$E$39<>\"Non-endemic\", \" \", IF(INTRO!$E$37=\"Non-endemic\",\" \", IF(COUNTRY_INFO!B174=0,\" \",COUNTRY_INFO!B174)))","v":" "},{"$f":"IF(INTRO!$E$39<>\"Non-endemic\", \" \", IF(INTRO!$E$37=\"Non-endemic\",\" \", IF(COUNTRY_INFO!C174=0,\" \",COUNTRY_INFO!C174)))","v":" "},{"$f":"IF(INTRO!$E$39<>\"Non-endemic\", 0, IF(INTRO!$E$37=\"Non-endemic\",0,IF(COUNTRY_INFO!$H174=1,COUNTRY_INFO!E174,0)))","v":0},{"$f":"IF(INTRO!$E$39<>\"Non-endemic\", 0, IF(INTRO!$E$37=\"Non-endemic\",0,IF(COUNTRY_INFO!$H174=1,COUNTRY_INFO!F174,0)))","v":0},{"$f":"IF(INTRO!$E$39<>\"Non-endemic\", 0, IF(INTRO!$E$37=\"Non-endemic\",0,IF(COUNTRY_INFO!$H174=1,COUNTRY_INFO!G174,0)))","v":0},0,{"$f":"IF(INTRO!$E$39=\"Non-endemic\",IF(INTRO!$E$37=\"Non-endemic\",\"Not required\",COUNTRY_INFO!V174),\"Treat with IVM\")","v":"Treat with IVM"},0,0,null,0]
[{"$f":"IF(INTRO!$E$39<>\"Non-endemic\", \" \", IF(INTRO!$E$37=\"Non-endemic\",\" \", IF(COUNTRY_INFO!A175=0,\" \",COUNTRY_INFO!A175)))","v":" "},{"$f":"IF(INTRO!$E$39<>\"Non-endemic\", \" \", IF(INTRO!$E$37=\"Non-endemic\",\" \", IF(COUNTRY_INFO!B175=0,\" \",COUNTRY_INFO!B175)))","v":" "},{"$f":"IF(INTRO!$E$39<>\"Non-endemic\", \" \", IF(INTRO!$E$37=\"Non-endemic\",\" \", IF(COUNTRY_INFO!C175=0,\" \",COUNTRY_INFO!C175)))","v":" "},{"$f":"IF(INTRO!$E$39<>\"Non-endemic\", 0, IF(INTRO!$E$37=\"Non-endemic\",0,IF(COUNTRY_INFO!$H175=1,COUNTRY_INFO!E175,0)))","v":0},{"$f":"IF(INTRO!$E$39<>\"Non-endemic\", 0, IF(INTRO!$E$37=\"Non-endemic\",0,IF(COUNTRY_INFO!$H175=1,COUNTRY_INFO!F175,0)))","v":0},{"$f":"IF(INTRO!$E$39<>\"Non-endemic\", 0, IF(INTRO!$E$37=\"Non-endemic\",0,IF(COUNTRY_INFO!$H175=1,COUNTRY_INFO!G175,0)))","v":0},0,{"$f":"IF(INTRO!$E$39=\"Non-endemic\",IF(INTRO!$E$37=\"Non-endemic\",\"Not required\",COUNTRY_INFO!V175),\"Treat with IVM\")","v":"Treat with IVM"},0,0,null,0]
[{"$f":"IF(INTRO!$E$39<>\"Non-endemic\", \" \", IF(INTRO!$E$37=\"Non-endemic\",\" \", IF(COUNTRY_INFO!A176=0,\" \",COUNTRY_INFO!A176)))","v":" "},{"$f":"IF(INTRO!$E$39<>\"Non-endemic\", \" \", IF(INTRO!$E$37=\"Non-endemic\",\" \", IF(COUNTRY_INFO!B176=0,\" \",COUNTRY_INFO!B176)))","v":" "},{"$f":"IF(INTRO!$E$39<>\"Non-endemic\", \" \", IF(INTRO!$E$37=\"Non-endemic\",\" \", IF(COUNTRY_INFO!C176=0,\" \",COUNTRY_INFO!C176)))","v":" "},{"$f":"IF(INTRO!$E$39<>\"Non-endemic\", 0, IF(INTRO!$E$37=\"Non-endemic\",0,IF(COUNTRY_INFO!$H176=1,COUNTRY_INFO!E176,0)))","v":0},{"$f":"IF(INTRO!$E$39<>\"Non-endemic\", 0, IF(INTRO!$E$37=\"Non-endemic\",0,IF(COUNTRY_INFO!$H176=1,COUNTRY_INFO!F176,0)))","v":0},{"$f":"IF(INTRO!$E$39<>\"Non-endemic\", 0, IF(INTRO!$E$37=\"Non-endemic\",0,IF(COUNTRY_INFO!$H176=1,COUNTRY_INFO!G176,0)))","v":0},0,{"$f":"IF(INTRO!$E$39=\"Non-endemic\",IF(INTRO!$E$37=\"Non-endemic\",\"Not required\",COUNTRY_INFO!V176),\"Treat with IVM\")","v":"Treat with IVM"},0,0,null,0]
[{"$f":"IF(INTRO!$E$39<>\"Non-endemic\", \" \", IF(INTRO!$E$37=\"Non-endemic\",\" \", IF(COUNTRY_INFO!A177=0,\" \",COUNTRY_INFO!A177)))","v":" "},{"$f":"IF(INTRO!$E$39<>\"Non-endemic\", \" \", IF(INTRO!$E$37=\"Non-endemic\",\" \", IF(COUNTRY_INFO!B177=0,\" \",COUNTRY_INFO!B177)))","v":" "},{"$f":"IF(INTRO!$E$39<>\"Non-endemic\", \" \", IF(INTRO!$E$37=\"Non-endemic\",\" \", IF(COUNTRY_INFO!C177=0,\" \",COUNTRY_INFO!C177)))","v":" "},{"$f":"IF(INTRO!$E$39<>\"Non-endemic\", 0, IF(INTRO!$E$37=\"Non-endemic\",0,IF(COUNTRY_INFO!$H177=1,COUNTRY_INFO!E177,0)))","v":0},{"$f":"IF(INTRO!$E$39<>\"Non-endemic\", 0, IF(INTRO!$E$37=\"Non-endemic\",0,IF(COUNTRY_INFO!$H177=1,COUNTRY_INFO!F177,0)))","v":0},{"$f":"IF(INTRO!$E$39<>\"Non-endemic\", 0, IF(INTRO!$E$37=\"Non-endemic\",0,IF(COUNTRY_INFO!$H177=1,COUNTRY_INFO!G177,0)))","v":0},0,{"$f":"IF(INTRO!$E$39=\"Non-endemic\",IF(INTRO!$E$37=\"Non-endemic\",\"Not required\",COUNTRY_INFO!V177),\"Treat with IVM\")","v":"Treat with IVM"},0,0,null,0]
[{"$f":"IF(INTRO!$E$39<>\"Non-endemic\", \" \", IF(INTRO!$E$37=\"Non-endemic\",\" \", IF(COUNTRY_INFO!A178=0,\" \",COUNTRY_INFO!A178)))","v":" "},{"$f":"IF(INTRO!$E$39<>\"Non-endemic\", \" \", IF(INTRO!$E$37=\"Non-endemic\",\" \", IF(COUNTRY_INFO!B178=0,\" \",COUNTRY_INFO!B178)))","v":" "},{"$f":"IF(INTRO!$E$39<>\"Non-endemic\", \" \", IF(INTRO!$E$37=\"Non-endemic\",\" \", IF(COUNTRY_INFO!C178=0,\" \",COUNTRY_INFO!C178)))","v":" "},{"$f":"IF(INTRO!$E$39<>\"Non-endemic\", 0, IF(INTRO!$E$37=\"Non-endemic\",0,IF(COUNTRY_INFO!$H178=1,COUNTRY_INFO!E178,0)))","v":0},{"$f":"IF(INTRO!$E$39<>\"Non-endemic\", 0, IF(INTRO!$E$37=\"Non-endemic\",0,IF(COUNTRY_INFO!$H178=1,COUNTRY_INFO!F178,0)))","v":0},{"$f":"IF(INTRO!$E$39<>\"Non-endemic\", 0, IF(INTRO!$E$37=\"Non-endemic\",0,IF(COUNTRY_INFO!$H178=1,COUNTRY_INFO!G178,0)))","v":0},0,{"$f":"IF(INTRO!$E$39=\"Non-endemic\",IF(INTRO!$E$37=\"Non-endemic\",\"Not required\",COUNTRY_INFO!V178),\"Treat with IVM\")","v":"Treat with IVM"},0,0,null,0]
[{"$f":"IF(INTRO!$E$39<>\"Non-endemic\", \" \", IF(INTRO!$E$37=\"Non-endemic\",\" \", IF(COUNTRY_INFO!A179=0,\" \",COUNTRY_INFO!A179)))","v":" "},{"$f":"IF(INTRO!$E$39<>\"Non-endemic\", \" \", IF(INTRO!$E$37=\"Non-endemic\",\" \", IF(COUNTRY_INFO!B179=0,\" \",COUNTRY_INFO!B179)))","v":" "},{"$f":"IF(INTRO!$E$39<>\"Non-endemic\", \" \", IF(INTRO!$E$37=\"Non-endemic\",\" \", IF(COUNTRY_INFO!C179=0,\" \",COUNTRY_INFO!C179)))","v":" "},{"$f":"IF(INTRO!$E$39<>\"Non-endemic\", 0, IF(INTRO!$E$37=\"Non-endemic\",0,IF(COUNTRY_INFO!$H179=1,COUNTRY_INFO!E179,0)))","v":0},{"$f":"IF(INTRO!$E$39<>\"Non-endemic\", 0, IF(INTRO!$E$37=\"Non-endemic\",0,IF(COUNTRY_INFO!$H179=1,COUNTRY_INFO!F179,0)))","v":0},{"$f":"IF(INTRO!$E$39<>\"Non-endemic\", 0, IF(INTRO!$E$37=\"Non-endemic\",0,IF(COUNTRY_INFO!$H179=1,COUNTRY_INFO!G179,0)))","v":0},0,{"$f":"IF(INTRO!$E$39=\"Non-endemic\",IF(INTRO!$E$37=\"Non-endemic\",\"Not required\",COUNTRY_INFO!V179),\"Treat with IVM\")","v":"Treat with IVM"},0,0,null,0]
[{"$f":"IF(INTRO!$E$39<>\"Non-endemic\", \" \", IF(INTRO!$E$37=\"Non-endemic\",\" \", IF(COUNTRY_INFO!A180=0,\" \",COUNTRY_INFO!A180)))","v":" "},{"$f":"IF(INTRO!$E$39<>\"Non-endemic\", \" \", IF(INTRO!$E$37=\"Non-endemic\",\" \", IF(COUNTRY_INFO!B180=0,\" \",COUNTRY_INFO!B180)))","v":" "},{"$f":"IF(INTRO!$E$39<>\"Non-endemic\", \" \", IF(INTRO!$E$37=\"Non-endemic\",\" \", IF(COUNTRY_INFO!C180=0,\" \",COUNTRY_INFO!C180)))","v":" "},{"$f":"IF(INTRO!$E$39<>\"Non-endemic\", 0, IF(INTRO!$E$37=\"Non-endemic\",0,IF(COUNTRY_INFO!$H180=1,COUNTRY_INFO!E180,0)))","v":0},{"$f":"IF(INTRO!$E$39<>\"Non-endemic\", 0, IF(INTRO!$E$37=\"Non-endemic\",0,IF(COUNTRY_INFO!$H180=1,COUNTRY_INFO!F180,0)))","v":0},{"$f":"IF(INTRO!$E$39<>\"Non-endemic\", 0, IF(INTRO!$E$37=\"Non-endemic\",0,IF(COUNTRY_INFO!$H180=1,COUNTRY_INFO!G180,0)))","v":0},0,{"$f":"IF(INTRO!$E$39=\"Non-endemic\",IF(INTRO!$E$37=\"Non-endemic\",\"Not required\",COUNTRY_INFO!V180),\"Treat with IVM\")","v":"Treat with IVM"},0,0,null,0]
[{"$f":"IF(INTRO!$E$39<>\"Non-endemic\", \" \", IF(INTRO!$E$37=\"Non-endemic\",\" \", IF(COUNTRY_INFO!A181=0,\" \",COUNTRY_INFO!A181)))","v":" "},{"$f":"IF(INTRO!$E$39<>\"Non-endemic\", \" \", IF(INTRO!$E$37=\"Non-endemic\",\" \", IF(COUNTRY_INFO!B181=0,\" \",COUNTRY_INFO!B181)))","v":" "},{"$f":"IF(INTRO!$E$39<>\"Non-endemic\", \" \", IF(INTRO!$E$37=\"Non-endemic\",\" \", IF(COUNTRY_INFO!C181=0,\" \",COUNTRY_INFO!C181)))","v":" "},{"$f":"IF(INTRO!$E$39<>\"Non-endemic\", 0, IF(INTRO!$E$37=\"Non-endemic\",0,IF(COUNTRY_INFO!$H181=1,COUNTRY_INFO!E181,0)))","v":0},{"$f":"IF(INTRO!$E$39<>\"Non-endemic\", 0, IF(INTRO!$E$37=\"Non-endemic\",0,IF(COUNTRY_INFO!$H181=1,COUNTRY_INFO!F181,0)))","v":0},{"$f":"IF(INTRO!$E$39<>\"Non-endemic\", 0, IF(INTRO!$E$37=\"Non-endemic\",0,IF(COUNTRY_INFO!$H181=1,COUNTRY_INFO!G181,0)))","v":0},0,{"$f":"IF(INTRO!$E$39=\"Non-endemic\",IF(INTRO!$E$37=\"Non-endemic\",\"Not required\",COUNTRY_INFO!V181),\"Treat with IVM\")","v":"Treat with IVM"},0,0,null,0]
[{"$f":"IF(INTRO!$E$39<>\"Non-endemic\", \" \", IF(INTRO!$E$37=\"Non-endemic\",\" \", IF(COUNTRY_INFO!A182=0,\" \",COUNTRY_INFO!A182)))","v":" "},{"$f":"IF(INTRO!$E$39<>\"Non-endemic\", \" \", IF(INTRO!$E$37=\"Non-endemic\",\" \", IF(COUNTRY_INFO!B182=0,\" \",COUNTRY_INFO!B182)))","v":" "},{"$f":"IF(INTRO!$E$39<>\"Non-endemic\", \" \", IF(INTRO!$E$37=\"Non-endemic\",\" \", IF(COUNTRY_INFO!C182=0,\" \",COUNTRY_INFO!C182)))","v":" "},{"$f":"IF(INTRO!$E$39<>\"Non-endemic\", 0, IF(INTRO!$E$37=\"Non-endemic\",0,IF(COUNTRY_INFO!$H182=1,COUNTRY_INFO!E182,0)))","v":0},{"$f":"IF(INTRO!$E$39<>\"Non-endemic\", 0, IF(INTRO!$E$37=\"Non-endemic\",0,IF(COUNTRY_INFO!$H182=1,COUNTRY_INFO!F182,0)))","v":0},{"$f":"IF(INTRO!$E$39<>\"Non-endemic\", 0, IF(INTRO!$E$37=\"Non-endemic\",0,IF(COUNTRY_INFO!$H182=1,COUNTRY_INFO!G182,0)))","v":0},0,{"$f":"IF(INTRO!$E$39=\"Non-endemic\",IF(INTRO!$E$37=\"Non-endemic\",\"Not required\",COUNTRY_INFO!V182),\"Treat with IVM\")","v":"Treat with IVM"},0,0,null,0]
[{"$f":"IF(INTRO!$E$39<>\"Non-endemic\", \" \", IF(INTRO!$E$37=\"Non-endemic\",\" \", IF(COUNTRY_INFO!A183=0,\" \",COUNTRY_INFO!A183)))","v":" "},{"$f":"IF(INTRO!$E$39<>\"Non-endemic\", \" \", IF(INTRO!$E$37=\"Non-endemic\",\" \", IF(COUNTRY_INFO!B183=0,\" \",COUNTRY_INFO!B183)))","v":" "},{"$f":"IF(INTRO!$E$39<>\"Non-endemic\", \" \", IF(INTRO!$E$37=\"Non-endemic\",\" \", IF(COUNTRY_INFO!C183=0,\" \",COUNTRY_INFO!C183)))","v":" "},{"$f":"IF(INTRO!$E$39<>\"Non-endemic\", 0, IF(INTRO!$E$37=\"Non-endemic\",0,IF(COUNTRY_INFO!$H183=1,COUNTRY_INFO!E183,0)))","v":0},{"$f":"IF(INTRO!$E$39<>\"Non-endemic\", 0, IF(INTRO!$E$37=\"Non-endemic\",0,IF(COUNTRY_INFO!$H183=1,COUNTRY_INFO!F183,0)))","v":0},{"$f":"IF(INTRO!$E$39<>\"Non-endemic\", 0, IF(INTRO!$E$37=\"Non-endemic\",0,IF(COUNTRY_INFO!$H183=1,COUNTRY_INFO!G183,0)))","v":0},0,{"$f":"IF(INTRO!$E$39=\"Non-endemic\",IF(INTRO!$E$37=\"Non-endemic\",\"Not required\",COUNTRY_INFO!V183),\"Treat with IVM\")","v":"Treat with IVM"},0,0,null,0]
[{"$f":"IF(INTRO!$E$39<>\"Non-endemic\", \" \", IF(INTRO!$E$37=\"Non-endemic\",\" \", IF(COUNTRY_INFO!A184=0,\" \",COUNTRY_INFO!A184)))","v":" "},{"$f":"IF(INTRO!$E$39<>\"Non-endemic\", \" \", IF(INTRO!$E$37=\"Non-endemic\",\" \", IF(COUNTRY_INFO!B184=0,\" \",COUNTRY_INFO!B184)))","v":" "},{"$f":"IF(INTRO!$E$39<>\"Non-endemic\", \" \", IF(INTRO!$E$37=\"Non-endemic\",\" \", IF(COUNTRY_INFO!C184=0,\" \",COUNTRY_INFO!C184)))","v":" "},{"$f":"IF(INTRO!$E$39<>\"Non-endemic\", 0, IF(INTRO!$E$37=\"Non-endemic\",0,IF(COUNTRY_INFO!$H184=1,COUNTRY_INFO!E184,0)))","v":0},{"$f":"IF(INTRO!$E$39<>\"Non-endemic\", 0, IF(INTRO!$E$37=\"Non-endemic\",0,IF(COUNTRY_INFO!$H184=1,COUNTRY_INFO!F184,0)))","v":0},{"$f":"IF(INTRO!$E$39<>\"Non-endemic\", 0, IF(INTRO!$E$37=\"Non-endemic\",0,IF(COUNTRY_INFO!$H184=1,COUNTRY_INFO!G184,0)))","v":0},0,{"$f":"IF(INTRO!$E$39=\"Non-endemic\",IF(INTRO!$E$37=\"Non-endemic\",\"Not required\",COUNTRY_INFO!V184),\"Treat with IVM\")","v":"Treat with IVM"},0,0,null,0]
[{"$f":"IF(INTRO!$E$39<>\"Non-endemic\", \" \", IF(INTRO!$E$37=\"Non-endemic\",\" \", IF(COUNTRY_INFO!A185=0,\" \",COUNTRY_INFO!A185)))","v":" "},{"$f":"IF(INTRO!$E$39<>\"Non-endemic\", \" \", IF(INTRO!$E$37=\"Non-endemic\",\" \", IF(COUNTRY_INFO!B185=0,\" \",COUNTRY_INFO!B185)))","v":" "},{"$f":"IF(INTRO!$E$39<>\"Non-endemic\", \" \", IF(INTRO!$E$37=\"Non-endemic\",\" \", IF(COUNTRY_INFO!C185=0,\" \",COUNTRY_INFO!C185)))","v":" "},{"$f":"IF(INTRO!$E$39<>\"Non-endemic\", 0, IF(INTRO!$E$37=\"Non-endemic\",0,IF(COUNTRY_INFO!$H185=1,COUNTRY_INFO!E185,0)))","v":0},{"$f":"IF(INTRO!$E$39<>\"Non-endemic\", 0, IF(INTRO!$E$37=\"Non-endemic\",0,IF(COUNTRY_INFO!$H185=1,COUNTRY_INFO!F185,0)))","v":0},{"$f":"IF(INTRO!$E$39<>\"Non-endemic\", 0, IF(INTRO!$E$37=\"Non-endemic\",0,IF(COUNTRY_INFO!$H185=1,COUNTRY_INFO!G185,0)))","v":0},0,{"$f":"IF(INTRO!$E$39=\"Non-endemic\",IF(INTRO!$E$37=\"Non-endemic\",\"Not required\",COUNTRY_INFO!V185),\"Treat with IVM\")","v":"Treat with IVM"},0,0,null,0]
[{"$f":"IF(INTRO!$E$39<>\"Non-endemic\", \" \", IF(INTRO!$E$37=\"Non-endemic\",\" \", IF(COUNTRY_INFO!A186=0,\" \",COUNTRY_INFO!A186)))","v":" "},{"$f":"IF(INTRO!$E$39<>\"Non-endemic\", \" \", IF(INTRO!$E$37=\"Non-endemic\",\" \", IF(COUNTRY_INFO!B186=0,\" \",COUNTRY_INFO!B186)))","v":" "},{"$f":"IF(INTRO!$E$39<>\"Non-endemic\", \" \", IF(INTRO!$E$37=\"Non-endemic\",\" \", IF(COUNTRY_INFO!C186=0,\" \",COUNTRY_INFO!C186)))","v":" "},{"$f":"IF(INTRO!$E$39<>\"Non-endemic\", 0, IF(INTRO!$E$37=\"Non-endemic\",0,IF(COUNTRY_INFO!$H186=1,COUNTRY_INFO!E186,0)))","v":0},{"$f":"IF(INTRO!$E$39<>\"Non-endemic\", 0, IF(INTRO!$E$37=\"Non-endemic\",0,IF(COUNTRY_INFO!$H186=1,COUNTRY_INFO!F186,0)))","v":0},{"$f":"IF(INTRO!$E$39<>\"Non-endemic\", 0, IF(INTRO!$E$37=\"Non-endemic\",0,IF(COUNTRY_INFO!$H186=1,COUNTRY_INFO!G186,0)))","v":0},0,{"$f":"IF(INTRO!$E$39=\"Non-endemic\",IF(INTRO!$E$37=\"Non-endemic\",\"Not required\",COUNTRY_INFO!V186),\"Treat with IVM\")","v":"Treat with IVM"},0,0,null,0]
[{"$f":"IF(INTRO!$E$39<>\"Non-endemic\", \" \", IF(INTRO!$E$37=\"Non-endemic\",\" \", IF(COUNTRY_INFO!A187=0,\" \",COUNTRY_INFO!A187)))","v":" "},{"$f":"IF(INTRO!$E$39<>\"Non-endemic\", \" \", IF(INTRO!$E$37=\"Non-endemic\",\" \", IF(COUNTRY_INFO!B187=0,\" \",COUNTRY_INFO!B187)))","v":" "},{"$f":"IF(INTRO!$E$39<>\"Non-endemic\", \" \", IF(INTRO!$E$37=\"Non-endemic\",\" \", IF(COUNTRY_INFO!C187=0,\" \",COUNTRY_INFO!C187)))","v":" "},{"$f":"IF(INTRO!$E$39<>\"Non-endemic\", 0, IF(INTRO!$E$37=\"Non-endemic\",0,IF(COUNTRY_INFO!$H187=1,COUNTRY_INFO!E187,0)))","v":0},{"$f":"IF(INTRO!$E$39<>\"Non-endemic\", 0, IF(INTRO!$E$37=\"Non-endemic\",0,IF(COUNTRY_INFO!$H187=1,COUNTRY_INFO!F187,0)))","v":0},{"$f":"IF(INTRO!$E$39<>\"Non-endemic\", 0, IF(INTRO!$E$37=\"Non-endemic\",0,IF(COUNTRY_INFO!$H187=1,COUNTRY_INFO!G187,0)))","v":0},0,{"$f":"IF(INTRO!$E$39=\"Non-endemic\",IF(INTRO!$E$37=\"Non-endemic\",\"Not required\",COUNTRY_INFO!V187),\"Treat with IVM\")","v":"Treat with IVM"},0,0,null,0]
[{"$f":"IF(INTRO!$E$39<>\"Non-endemic\", \" \", IF(INTRO!$E$37=\"Non-endemic\",\" \", IF(COUNTRY_INFO!A188=0,\" \",COUNTRY_INFO!A188)))","v":" "},{"$f":"IF(INTRO!$E$39<>\"Non-endemic\", \" \", IF(INTRO!$E$37=\"Non-endemic\",\" \", IF(COUNTRY_INFO!B188=0,\" \",COUNTRY_INFO!B188)))","v":" "},{"$f":"IF(INTRO!$E$39<>\"Non-endemic\", \" \", IF(INTRO!$E$37=\"Non-endemic\",\" \", IF(COUNTRY_INFO!C188=0,\" \",COUNTRY_INFO!C188)))","v":" "},{"$f":"IF(INTRO!$E$39<>\"Non-endemic\", 0, IF(INTRO!$E$37=\"Non-endemic\",0,IF(COUNTRY_INFO!$H188=1,COUNTRY_INFO!E188,0)))","v":0},{"$f":"IF(INTRO!$E$39<>\"Non-endemic\", 0, IF(INTRO!$E$37=\"Non-endemic\",0,IF(COUNTRY_INFO!$H188=1,COUNTRY_INFO!F188,0)))","v":0},{"$f":"IF(INTRO!$E$39<>\"Non-endemic\", 0, IF(INTRO!$E$37=\"Non-endemic\",0,IF(COUNTRY_INFO!$H188=1,COUNTRY_INFO!G188,0)))","v":0},0,{"$f":"IF(INTRO!$E$39=\"Non-endemic\",IF(INTRO!$E$37=\"Non-endemic\",\"Not required\",COUNTRY_INFO!V188),\"Treat with IVM\")","v":"Treat with IVM"},0,0,null,0]
[{"$f":"IF(INTRO!$E$39<>\"Non-endemic\", \" \", IF(INTRO!$E$37=\"Non-endemic\",\" \", IF(COUNTRY_INFO!A189=0,\" \",COUNTRY_INFO!A189)))","v":" "},{"$f":"IF(INTRO!$E$39<>\"Non-endemic\", \" \", IF(INTRO!$E$37=\"Non-endemic\",\" \", IF(COUNTRY_INFO!B189=0,\" \",COUNTRY_INFO!B189)))","v":" "},{"$f":"IF(INTRO!$E$39<>\"Non-endemic\", \" \", IF(INTRO!$E$37=\"Non-endemic\",\" \", IF(COUNTRY_INFO!C189=0,\" \",COUNTRY_INFO!C189)))","v":" "},{"$f":"IF(INTRO!$E$39<>\"Non-endemic\", 0, IF(INTRO!$E$37=\"Non-endemic\",0,IF(COUNTRY_INFO!$H189=1,COUNTRY_INFO!E189,0)))","v":0},{"$f":"IF(INTRO!$E$39<>\"Non-endemic\", 0, IF(INTRO!$E$37=\"Non-endemic\",0,IF(COUNTRY_INFO!$H189=1,COUNTRY_INFO!F189,0)))","v":0},{"$f":"IF(INTRO!$E$39<>\"Non-endemic\", 0, IF(INTRO!$E$37=\"Non-endemic\",0,IF(COUNTRY_INFO!$H189=1,COUNTRY_INFO!G189,0)))","v":0},0,{"$f":"IF(INTRO!$E$39=\"Non-endemic\",IF(INTRO!$E$37=\"Non-endemic\",\"Not required\",COUNTRY_INFO!V189),\"Treat with IVM\")","v":"Treat with IVM"},0,0,null,0]
[{"$f":"IF(INTRO!$E$39<>\"Non-endemic\", \" \", IF(INTRO!$E$37=\"Non-endemic\",\" \", IF(COUNTRY_INFO!A190=0,\" \",COUNTRY_INFO!A190)))","v":" "},{"$f":"IF(INTRO!$E$39<>\"Non-endemic\", \" \", IF(INTRO!$E$37=\"Non-endemic\",\" \", IF(COUNTRY_INFO!B190=0,\" \",COUNTRY_INFO!B190)))","v":" "},{"$f":"IF(INTRO!$E$39<>\"Non-endemic\", \" \", IF(INTRO!$E$37=\"Non-endemic\",\" \", IF(COUNTRY_INFO!C190=0,\" \",COUNTRY_INFO!C190)))","v":" "},{"$f":"IF(INTRO!$E$39<>\"Non-endemic\", 0, IF(INTRO!$E$37=\"Non-endemic\",0,IF(COUNTRY_INFO!$H190=1,COUNTRY_INFO!E190,0)))","v":0},{"$f":"IF(INTRO!$E$39<>\"Non-endemic\", 0, IF(INTRO!$E$37=\"Non-endemic\",0,IF(COUNTRY_INFO!$H190=1,COUNTRY_INFO!F190,0)))","v":0},{"$f":"IF(INTRO!$E$39<>\"Non-endemic\", 0, IF(INTRO!$E$37=\"Non-endemic\",0,IF(COUNTRY_INFO!$H190=1,COUNTRY_INFO!G190,0)))","v":0},0,{"$f":"IF(INTRO!$E$39=\"Non-endemic\",IF(INTRO!$E$37=\"Non-endemic\",\"Not required\",COUNTRY_INFO!V190),\"Treat with IVM\")","v":"Treat with IVM"},0,0,null,0]
[{"$f":"IF(INTRO!$E$39<>\"Non-endemic\", \" \", IF(INTRO!$E$37=\"Non-endemic\",\" \", IF(COUNTRY_INFO!A191=0,\" \",COUNTRY_INFO!A191)))","v":" "},{"$f":"IF(INTRO!$E$39<>\"Non-endemic\", \" \", IF(INTRO!$E$37=\"Non-endemic\",\" \", IF(COUNTRY_INFO!B191=0,\" \",COUNTRY_INFO!B191)))","v":" "},{"$f":"IF(INTRO!$E$39<>\"Non-endemic\", \" \", IF(INTRO!$E$37=\"Non-endemic\",\" \", IF(COUNTRY_INFO!C191=0,\" \",COUNTRY_INFO!C191)))","v":" "},{"$f":"IF(INTRO!$E$39<>\"Non-endemic\", 0, IF(INTRO!$E$37=\"Non-endemic\",0,IF(COUNTRY_INFO!$H191=1,COUNTRY_INFO!E191,0)))","v":0},{"$f":"IF(INTRO!$E$39<>\"Non-endemic\", 0, IF(INTRO!$E$37=\"Non-endemic\",0,IF(COUNTRY_INFO!$H191=1,COUNTRY_INFO!F191,0)))","v":0},{"$f":"IF(INTRO!$E$39<>\"Non-endemic\", 0, IF(INTRO!$E$37=\"Non-endemic\",0,IF(COUNTRY_INFO!$H191=1,COUNTRY_INFO!G191,0)))","v":0},0,{"$f":"IF(INTRO!$E$39=\"Non-endemic\",IF(INTRO!$E$37=\"Non-endemic\",\"Not required\",COUNTRY_INFO!V191),\"Treat with IVM\")","v":"Treat with IVM"},0,0,null,0]
[{"$f":"IF(INTRO!$E$39<>\"Non-endemic\", \" \", IF(INTRO!$E$37=\"Non-endemic\",\" \", IF(COUNTRY_INFO!A192=0,\" \",COUNTRY_INFO!A192)))","v":" "},{"$f":"IF(INTRO!$E$39<>\"Non-endemic\", \" \", IF(INTRO!$E$37=\"Non-endemic\",\" \", IF(COUNTRY_INFO!B192=0,\" \",COUNTRY_INFO!B192)))","v":" "},{"$f":"IF(INTRO!$E$39<>\"Non-endemic\", \" \", IF(INTRO!$E$37=\"Non-endemic\",\" \", IF(COUNTRY_INFO!C192=0,\" \",COUNTRY_INFO!C192)))","v":" "},{"$f":"IF(INTRO!$E$39<>\"Non-endemic\", 0, IF(INTRO!$E$37=\"Non-endemic\",0,IF(COUNTRY_INFO!$H192=1,COUNTRY_INFO!E192,0)))","v":0},{"$f":"IF(INTRO!$E$39<>\"Non-endemic\", 0, IF(INTRO!$E$37=\"Non-endemic\",0,IF(COUNTRY_INFO!$H192=1,COUNTRY_INFO!F192,0)))","v":0},{"$f":"IF(INTRO!$E$39<>\"Non-endemic\", 0, IF(INTRO!$E$37=\"Non-endemic\",0,IF(COUNTRY_INFO!$H192=1,COUNTRY_INFO!G192,0)))","v":0},0,{"$f":"IF(INTRO!$E$39=\"Non-endemic\",IF(INTRO!$E$37=\"Non-endemic\",\"Not required\",COUNTRY_INFO!V192),\"Treat with IVM\")","v":"Treat with IVM"},0,0,null,0]
[{"$f":"IF(INTRO!$E$39<>\"Non-endemic\", \" \", IF(INTRO!$E$37=\"Non-endemic\",\" \", IF(COUNTRY_INFO!A193=0,\" \",COUNTRY_INFO!A193)))","v":" "},{"$f":"IF(INTRO!$E$39<>\"Non-endemic\", \" \", IF(INTRO!$E$37=\"Non-endemic\",\" \", IF(COUNTRY_INFO!B193=0,\" \",COUNTRY_INFO!B193)))","v":" "},{"$f":"IF(INTRO!$E$39<>\"Non-endemic\", \" \", IF(INTRO!$E$37=\"Non-endemic\",\" \", IF(COUNTRY_INFO!C193=0,\" \",COUNTRY_INFO!C193)))","v":" "},{"$f":"IF(INTRO!$E$39<>\"Non-endemic\", 0, IF(INTRO!$E$37=\"Non-endemic\",0,IF(COUNTRY_INFO!$H193=1,COUNTRY_INFO!E193,0)))","v":0},{"$f":"IF(INTRO!$E$39<>\"Non-endemic\", 0, IF(INTRO!$E$37=\"Non-endemic\",0,IF(COUNTRY_INFO!$H193=1,COUNTRY_INFO!F193,0)))","v":0},{"$f":"IF(INTRO!$E$39<>\"Non-endemic\", 0, IF(INTRO!$E$37=\"Non-endemic\",0,IF(COUNTRY_INFO!$H193=1,COUNTRY_INFO!G193,0)))","v":0},0,{"$f":"IF(INTRO!$E$39=\"Non-endemic\",IF(INTRO!$E$37=\"Non-endemic\",\"Not required\",COUNTRY_INFO!V193),\"Treat with IVM\")","v":"Treat with IVM"},0,0,null,0]
[{"$f":"IF(INTRO!$E$39<>\"Non-endemic\", \" \", IF(INTRO!$E$37=\"Non-endemic\",\" \", IF(COUNTRY_INFO!A194=0,\" \",COUNTRY_INFO!A194)))","v":" "},{"$f":"IF(INTRO!$E$39<>\"Non-endemic\", \" \", IF(INTRO!$E$37=\"Non-endemic\",\" \", IF(COUNTRY_INFO!B194=0,\" \",COUNTRY_INFO!B194)))","v":" "},{"$f":"IF(INTRO!$E$39<>\"Non-endemic\", \" \", IF(INTRO!$E$37=\"Non-endemic\",\" \", IF(COUNTRY_INFO!C194=0,\" \",COUNTRY_INFO!C194)))","v":" "},{"$f":"IF(INTRO!$E$39<>\"Non-endemic\", 0, IF(INTRO!$E$37=\"Non-endemic\",0,IF(COUNTRY_INFO!$H194=1,COUNTRY_INFO!E194,0)))","v":0},{"$f":"IF(INTRO!$E$39<>\"Non-endemic\", 0, IF(INTRO!$E$37=\"Non-endemic\",0,IF(COUNTRY_INFO!$H194=1,COUNTRY_INFO!F194,0)))","v":0},{"$f":"IF(INTRO!$E$39<>\"Non-endemic\", 0, IF(INTRO!$E$37=\"Non-endemic\",0,IF(COUNTRY_INFO!$H194=1,COUNTRY_INFO!G194,0)))","v":0},0,{"$f":"IF(INTRO!$E$39=\"Non-endemic\",IF(INTRO!$E$37=\"Non-endemic\",\"Not required\",COUNTRY_INFO!V194),\"Treat with IVM\")","v":"Treat with IVM"},0,0,null,0]
[{"$f":"IF(INTRO!$E$39<>\"Non-endemic\", \" \", IF(INTRO!$E$37=\"Non-endemic\",\" \", IF(COUNTRY_INFO!A195=0,\" \",COUNTRY_INFO!A195)))","v":" "},{"$f":"IF(INTRO!$E$39<>\"Non-endemic\", \" \", IF(INTRO!$E$37=\"Non-endemic\",\" \", IF(COUNTRY_INFO!B195=0,\" \",COUNTRY_INFO!B195)))","v":" "},{"$f":"IF(INTRO!$E$39<>\"Non-endemic\", \" \", IF(INTRO!$E$37=\"Non-endemic\",\" \", IF(COUNTRY_INFO!C195=0,\" \",COUNTRY_INFO!C195)))","v":" "},{"$f":"IF(INTRO!$E$39<>\"Non-endemic\", 0, IF(INTRO!$E$37=\"Non-endemic\",0,IF(COUNTRY_INFO!$H195=1,COUNTRY_INFO!E195,0)))","v":0},{"$f":"IF(INTRO!$E$39<>\"Non-endemic\", 0, IF(INTRO!$E$37=\"Non-endemic\",0,IF(COUNTRY_INFO!$H195=1,COUNTRY_INFO!F195,0)))","v":0},{"$f":"IF(INTRO!$E$39<>\"Non-endemic\", 0, IF(INTRO!$E$37=\"Non-endemic\",0,IF(COUNTRY_INFO!$H195=1,COUNTRY_INFO!G195,0)))","v":0},0,{"$f":"IF(INTRO!$E$39=\"Non-endemic\",IF(INTRO!$E$37=\"Non-endemic\",\"Not required\",COUNTRY_INFO!V195),\"Treat with IVM\")","v":"Treat with IVM"},0,0,null,0]
[{"$f":"IF(INTRO!$E$39<>\"Non-endemic\", \" \", IF(INTRO!$E$37=\"Non-endemic\",\" \", IF(COUNTRY_INFO!A196=0,\" \",COUNTRY_INFO!A196)))","v":" "},{"$f":"IF(INTRO!$E$39<>\"Non-endemic\", \" \", IF(INTRO!$E$37=\"Non-endemic\",\" \", IF(COUNTRY_INFO!B196=0,\" \",COUNTRY_INFO!B196)))","v":" "},{"$f":"IF(INTRO!$E$39<>\"Non-endemic\", \" \", IF(INTRO!$E$37=\"Non-endemic\",\" \", IF(COUNTRY_INFO!C196=0,\" \",COUNTRY_INFO!C196)))","v":" "},{"$f":"IF(INTRO!$E$39<>\"Non-endemic\", 0, IF(INTRO!$E$37=\"Non-endemic\",0,IF(COUNTRY_INFO!$H196=1,COUNTRY_INFO!E196,0)))","v":0},{"$f":"IF(INTRO!$E$39<>\"Non-endemic\", 0, IF(INTRO!$E$37=\"Non-endemic\",0,IF(COUNTRY_INFO!$H196=1,COUNTRY_INFO!F196,0)))","v":0},{"$f":"IF(INTRO!$E$39<>\"Non-endemic\", 0, IF(INTRO!$E$37=\"Non-endemic\",0,IF(COUNTRY_INFO!$H196=1,COUNTRY_INFO!G196,0)))","v":0},0,{"$f":"IF(INTRO!$E$39=\"Non-endemic\",IF(INTRO!$E$37=\"Non-endemic\",\"Not required\",COUNTRY_INFO!V196),\"Treat with IVM\")","v":"Treat with IVM"},0,0,null,0]
[{"$f":"IF(INTRO!$E$39<>\"Non-endemic\", \" \", IF(INTRO!$E$37=\"Non-endemic\",\" \", IF(COUNTRY_INFO!A197=0,\" \",COUNTRY_INFO!A197)))","v":" "},{"$f":"IF(INTRO!$E$39<>\"Non-endemic\", \" \", IF(INTRO!$E$37=\"Non-endemic\",\" \", IF(COUNTRY_INFO!B197=0,\" \",COUNTRY_INFO!B197)))","v":" "},{"$f":"IF(INTRO!$E$39<>\"Non-endemic\", \" \", IF(INTRO!$E$37=\"Non-endemic\",\" \", IF(COUNTRY_INFO!C197=0,\" \",COUNTRY_INFO!C197)))","v":" "},{"$f":"IF(INTRO!$E$39<>\"Non-endemic\", 0, IF(INTRO!$E$37=\"Non-endemic\",0,IF(COUNTRY_INFO!$H197=1,COUNTRY_INFO!E197,0)))","v":0},{"$f":"IF(INTRO!$E$39<>\"Non-endemic\", 0, IF(INTRO!$E$37=\"Non-endemic\",0,IF(COUNTRY_INFO!$H197=1,COUNTRY_INFO!F197,0)))","v":0},{"$f":"IF(INTRO!$E$39<>\"Non-endemic\", 0, IF(INTRO!$E$37=\"Non-endemic\",0,IF(COUNTRY_INFO!$H197=1,COUNTRY_INFO!G197,0)))","v":0},0,{"$f":"IF(INTRO!$E$39=\"Non-endemic\",IF(INTRO!$E$37=\"Non-endemic\",\"Not required\",COUNTRY_INFO!V197),\"Treat with IVM\")","v":"Treat with IVM"},0,0,null,0]
[{"$f":"IF(INTRO!$E$39<>\"Non-endemic\", \" \", IF(INTRO!$E$37=\"Non-endemic\",\" \", IF(COUNTRY_INFO!A198=0,\" \",COUNTRY_INFO!A198)))","v":" "},{"$f":"IF(INTRO!$E$39<>\"Non-endemic\", \" \", IF(INTRO!$E$37=\"Non-endemic\",\" \", IF(COUNTRY_INFO!B198=0,\" \",COUNTRY_INFO!B198)))","v":" "},{"$f":"IF(INTRO!$E$39<>\"Non-endemic\", \" \", IF(INTRO!$E$37=\"Non-endemic\",\" \", IF(COUNTRY_INFO!C198=0,\" \",COUNTRY_INFO!C198)))","v":" "},{"$f":"IF(INTRO!$E$39<>\"Non-endemic\", 0, IF(INTRO!$E$37=\"Non-endemic\",0,IF(COUNTRY_INFO!$H198=1,COUNTRY_INFO!E198,0)))","v":0},{"$f":"IF(INTRO!$E$39<>\"Non-endemic\", 0, IF(INTRO!$E$37=\"Non-endemic\",0,IF(COUNTRY_INFO!$H198=1,COUNTRY_INFO!F198,0)))","v":0},{"$f":"IF(INTRO!$E$39<>\"Non-endemic\", 0, IF(INTRO!$E$37=\"Non-endemic\",0,IF(COUNTRY_INFO!$H198=1,COUNTRY_INFO!G198,0)))","v":0},0,{"$f":"IF(INTRO!$E$39=\"Non-endemic\",IF(INTRO!$E$37=\"Non-endemic\",\"Not required\",COUNTRY_INFO!V198),\"Treat with IVM\")","v":"Treat with IVM"},0,0,null,0]
[{"$f":"IF(INTRO!$E$39<>\"Non-endemic\", \" \", IF(INTRO!$E$37=\"Non-endemic\",\" \", IF(COUNTRY_INFO!A199=0,\" \",COUNTRY_INFO!A199)))","v":" "},{"$f":"IF(INTRO!$E$39<>\"Non-endemic\", \" \", IF(INTRO!$E$37=\"Non-endemic\",\" \", IF(COUNTRY_INFO!B199=0,\" \",COUNTRY_INFO!B199)))","v":" "},{"$f":"IF(INTRO!$E$39<>\"Non-endemic\", \" \", IF(INTRO!$E$37=\"Non-endemic\",\" \", IF(COUNTRY_INFO!C199=0,\" \",COUNTRY_INFO!C199)))","v":" "},{"$f":"IF(INTRO!$E$39<>\"Non-endemic\", 0, IF(INTRO!$E$37=\"Non-endemic\",0,IF(COUNTRY_INFO!$H199=1,COUNTRY_INFO!E199,0)))","v":0},{"$f":"IF(INTRO!$E$39<>\"Non-endemic\", 0, IF(INTRO!$E$37=\"Non-endemic\",0,IF(COUNTRY_INFO!$H199=1,COUNTRY_INFO!F199,0)))","v":0},{"$f":"IF(INTRO!$E$39<>\"Non-endemic\", 0, IF(INTRO!$E$37=\"Non-endemic\",0,IF(COUNTRY_INFO!$H199=1,COUNTRY_INFO!G199,0)))","v":0},0,{"$f":"IF(INTRO!$E$39=\"Non-endemic\",IF(INTRO!$E$37=\"Non-endemic\",\"Not required\",COUNTRY_INFO!V199),\"Treat with IVM\")","v":"Treat with IVM"},0,0,null,0]
[{"$f":"IF(INTRO!$E$39<>\"Non-endemic\", \" \", IF(INTRO!$E$37=\"Non-endemic\",\" \", IF(COUNTRY_INFO!A200=0,\" \",COUNTRY_INFO!A200)))","v":" "},{"$f":"IF(INTRO!$E$39<>\"Non-endemic\", \" \", IF(INTRO!$E$37=\"Non-endemic\",\" \", IF(COUNTRY_INFO!B200=0,\" \",COUNTRY_INFO!B200)))","v":" "},{"$f":"IF(INTRO!$E$39<>\"Non-endemic\", \" \", IF(INTRO!$E$37=\"Non-endemic\",\" \", IF(COUNTRY_INFO!C200=0,\" \",COUNTRY_INFO!C200)))","v":" "},{"$f":"IF(INTRO!$E$39<>\"Non-endemic\", 0, IF(INTRO!$E$37=\"Non-endemic\",0,IF(COUNTRY_INFO!$H200=1,COUNTRY_INFO!E200,0)))","v":0},{"$f":"IF(INTRO!$E$39<>\"Non-endemic\", 0, IF(INTRO!$E$37=\"Non-endemic\",0,IF(COUNTRY_INFO!$H200=1,COUNTRY_INFO!F200,0)))","v":0},{"$f":"IF(INTRO!$E$39<>\"Non-endemic\", 0, IF(INTRO!$E$37=\"Non-endemic\",0,IF(COUNTRY_INFO!$H200=1,COUNTRY_INFO!G200,0)))","v":0},0,{"$f":"IF(INTRO!$E$39=\"Non-endemic\",IF(INTRO!$E$37=\"Non-endemic\",\"Not required\",COUNTRY_INFO!V200),\"Treat with IVM\")","v":"Treat with IVM"},0,0,null,0]
[{"$f":"IF(INTRO!$E$39<>\"Non-endemic\", \" \", IF(INTRO!$E$37=\"Non-endemic\",\" \", IF(COUNTRY_INFO!A201=0,\" \",COUNTRY_INFO!A201)))","v":" "},{"$f":"IF(INTRO!$E$39<>\"Non-endemic\", \" \", IF(INTRO!$E$37=\"Non-endemic\",\" \", IF(COUNTRY_INFO!B201=0,\" \",COUNTRY_INFO!B201)))","v":" "},{"$f":"IF(INTRO!$E$39<>\"Non-endemic\", \" \", IF(INTRO!$E$37=\"Non-endemic\",\" \", IF(COUNTRY_INFO!C201=0,\" \",COUNTRY_INFO!C201)))","v":" "},{"$f":"IF(INTRO!$E$39<>\"Non-endemic\", 0, IF(INTRO!$E$37=\"Non-endemic\",0,IF(COUNTRY_INFO!$H201=1,COUNTRY_INFO!E201,0)))","v":0},{"$f":"IF(INTRO!$E$39<>\"Non-endemic\", 0, IF(INTRO!$E$37=\"Non-endemic\",0,IF(COUNTRY_INFO!$H201=1,COUNTRY_INFO!F201,0)))","v":0},{"$f":"IF(INTRO!$E$39<>\"Non-endemic\", 0, IF(INTRO!$E$37=\"Non-endemic\",0,IF(COUNTRY_INFO!$H201=1,COUNTRY_INFO!G201,0)))","v":0},0,{"$f":"IF(INTRO!$E$39=\"Non-endemic\",IF(INTRO!$E$37=\"Non-endemic\",\"Not required\",COUNTRY_INFO!V201),\"Treat with IVM\")","v":"Treat with IVM"},0,0,null,0]
[{"$f":"IF(INTRO!$E$39<>\"Non-endemic\", \" \", IF(INTRO!$E$37=\"Non-endemic\",\" \", IF(COUNTRY_INFO!A202=0,\" \",COUNTRY_INFO!A202)))","v":" "},{"$f":"IF(INTRO!$E$39<>\"Non-endemic\", \" \", IF(INTRO!$E$37=\"Non-endemic\",\" \", IF(COUNTRY_INFO!B202=0,\" \",COUNTRY_INFO!B202)))","v":" "},{"$f":"IF(INTRO!$E$39<>\"Non-endemic\", \" \", IF(INTRO!$E$37=\"Non-endemic\",\" \", IF(COUNTRY_INFO!C202=0,\" \",COUNTRY_INFO!C202)))","v":" "},{"$f":"IF(INTRO!$E$39<>\"Non-endemic\", 0, IF(INTRO!$E$37=\"Non-endemic\",0,IF(COUNTRY_INFO!$H202=1,COUNTRY_INFO!E202,0)))","v":0},{"$f":"IF(INTRO!$E$39<>\"Non-endemic\", 0, IF(INTRO!$E$37=\"Non-endemic\",0,IF(COUNTRY_INFO!$H202=1,COUNTRY_INFO!F202,0)))","v":0},{"$f":"IF(INTRO!$E$39<>\"Non-endemic\", 0, IF(INTRO!$E$37=\"Non-endemic\",0,IF(COUNTRY_INFO!$H202=1,COUNTRY_INFO!G202,0)))","v":0},0,{"$f":"IF(INTRO!$E$39=\"Non-endemic\",IF(INTRO!$E$37=\"Non-endemic\",\"Not required\",COUNTRY_INFO!V202),\"Treat with IVM\")","v":"Treat with IVM"},0,0,null,0]
[{"$f":"IF(INTRO!$E$39<>\"Non-endemic\", \" \", IF(INTRO!$E$37=\"Non-endemic\",\" \", IF(COUNTRY_INFO!A203=0,\" \",COUNTRY_INFO!A203)))","v":" "},{"$f":"IF(INTRO!$E$39<>\"Non-endemic\", \" \", IF(INTRO!$E$37=\"Non-endemic\",\" \", IF(COUNTRY_INFO!B203=0,\" \",COUNTRY_INFO!B203)))","v":" "},{"$f":"IF(INTRO!$E$39<>\"Non-endemic\", \" \", IF(INTRO!$E$37=\"Non-endemic\",\" \", IF(COUNTRY_INFO!C203=0,\" \",COUNTRY_INFO!C203)))","v":" "},{"$f":"IF(INTRO!$E$39<>\"Non-endemic\", 0, IF(INTRO!$E$37=\"Non-endemic\",0,IF(COUNTRY_INFO!$H203=1,COUNTRY_INFO!E203,0)))","v":0},{"$f":"IF(INTRO!$E$39<>\"Non-endemic\", 0, IF(INTRO!$E$37=\"Non-endemic\",0,IF(COUNTRY_INFO!$H203=1,COUNTRY_INFO!F203,0)))","v":0},{"$f":"IF(INTRO!$E$39<>\"Non-endemic\", 0, IF(INTRO!$E$37=\"Non-endemic\",0,IF(COUNTRY_INFO!$H203=1,COUNTRY_INFO!G203,0)))","v":0},{"$f":"SUM(D203:F203)","v":0},{"$f":"IF(INTRO!$E$39=\"Non-endemic\",IF(INTRO!$E$37=\"Non-endemic\",\"Not required\",COUNTRY_INFO!V203),\"Treat with IVM\")","v":"Treat with IVM"},{"$f":"IF(H203=1,G203,0)","v":0},{"$f":"IF(I203>0,I203*2.5,0)","v":0},null,0]
[{"$f":"IF(INTRO!$E$39<>\"Non-endemic\", \" \", IF(INTRO!$E$37=\"Non-endemic\",\" \", IF(COUNTRY_INFO!A204=0,\" \",COUNTRY_INFO!A204)))","v":" "},{"$f":"IF(INTRO!$E$39<>\"Non-endemic\", \" \", IF(INTRO!$E$37=\"Non-endemic\",\" \", IF(COUNTRY_INFO!B204=0,\" \",COUNTRY_INFO!B204)))","v":" "},{"$f":"IF(INTRO!$E$39<>\"Non-endemic\", \" \", IF(INTRO!$E$37=\"Non-endemic\",\" \", IF(COUNTRY_INFO!C204=0,\" \",COUNTRY_INFO!C204)))","v":" "},{"$f":"IF(INTRO!$E$39<>\"Non-endemic\", 0, IF(INTRO!$E$37=\"Non-endemic\",0,IF(COUNTRY_INFO!$H204=1,COUNTRY_INFO!E204,0)))","v":0},{"$f":"IF(INTRO!$E$39<>\"Non-endemic\", 0, IF(INTRO!$E$37=\"Non-endemic\",0,IF(COUNTRY_INFO!$H204=1,COUNTRY_INFO!F204,0)))","v":0},{"$f":"IF(INTRO!$E$39<>\"Non-endemic\", 0, IF(INTRO!$E$37=\"Non-endemic\",0,IF(COUNTRY_INFO!$H204=1,COUNTRY_INFO!G204,0)))","v":0},0,{"$f":"IF(INTRO!$E$39=\"Non-endemic\",IF(INTRO!$E$37=\"Non-endemic\",\"Not required\",COUNTRY_INFO!V204),\"Treat with IVM\")","v":"Treat with IVM"},0,0,null,0]
[{"$f":"IF(INTRO!$E$39<>\"Non-endemic\", \" \", IF(INTRO!$E$37=\"Non-endemic\",\" \", IF(COUNTRY_INFO!A205=0,\" \",COUNTRY_INFO!A205)))","v":" "},{"$f":"IF(INTRO!$E$39<>\"Non-endemic\", \" \", IF(INTRO!$E$37=\"Non-endemic\",\" \", IF(COUNTRY_INFO!B205=0,\" \",COUNTRY_INFO!B205)))","v":" "},{"$f":"IF(INTRO!$E$39<>\"Non-endemic\", \" \", IF(INTRO!$E$37=\"Non-endemic\",\" \", IF(COUNTRY_INFO!C205=0,\" \",COUNTRY_INFO!C205)))","v":" "},{"$f":"IF(INTRO!$E$39<>\"Non-endemic\", 0, IF(INTRO!$E$37=\"Non-endemic\",0,IF(COUNTRY_INFO!$H205=1,COUNTRY_INFO!E205,0)))","v":0},{"$f":"IF(INTRO!$E$39<>\"Non-endemic\", 0, IF(INTRO!$E$37=\"Non-endemic\",0,IF(COUNTRY_INFO!$H205=1,COUNTRY_INFO!F205,0)))","v":0},{"$f":"IF(INTRO!$E$39<>\"Non-endemic\", 0, IF(INTRO!$E$37=\"Non-endemic\",0,IF(COUNTRY_INFO!$H205=1,COUNTRY_INFO!G205,0)))","v":0},0,{"$f":"IF(INTRO!$E$39=\"Non-endemic\",IF(INTRO!$E$37=\"Non-endemic\",\"Not required\",COUNTRY_INFO!V205),\"Treat with IVM\")","v":"Treat with IVM"},0,0,null,0]
[{"$f":"IF(INTRO!$E$39<>\"Non-endemic\", \" \", IF(INTRO!$E$37=\"Non-endemic\",\" \", IF(COUNTRY_INFO!A206=0,\" \",COUNTRY_INFO!A206)))","v":" "},{"$f":"IF(INTRO!$E$39<>\"Non-endemic\", \" \", IF(INTRO!$E$37=\"Non-endemic\",\" \", IF(COUNTRY_INFO!B206=0,\" \",COUNTRY_INFO!B206)))","v":" "},{"$f":"IF(INTRO!$E$39<>\"Non-endemic\", \" \", IF(INTRO!$E$37=\"Non-endemic\",\" \", IF(COUNTRY_INFO!C206=0,\" \",COUNTRY_INFO!C206)))","v":" "},{"$f":"IF(INTRO!$E$39<>\"Non-endemic\", 0, IF(INTRO!$E$37=\"Non-endemic\",0,IF(COUNTRY_INFO!$H206=1,COUNTRY_INFO!E206,0)))","v":0},{"$f":"IF(INTRO!$E$39<>\"Non-endemic\", 0, IF(INTRO!$E$37=\"Non-endemic\",0,IF(COUNTRY_INFO!$H206=1,COUNTRY_INFO!F206,0)))","v":0},{"$f":"IF(INTRO!$E$39<>\"Non-endemic\", 0, IF(INTRO!$E$37=\"Non-endemic\",0,IF(COUNTRY_INFO!$H206=1,COUNTRY_INFO!G206,0)))","v":0},0,{"$f":"IF(INTRO!$E$39=\"Non-endemic\",IF(INTRO!$E$37=\"Non-endemic\",\"Not required\",COUNTRY_INFO!V206),\"Treat with IVM\")","v":"Treat with IVM"},0,0,null,0]
[{"$f":"IF(INTRO!$E$39<>\"Non-endemic\", \" \", IF(INTRO!$E$37=\"Non-endemic\",\" \", IF(COUNTRY_INFO!A207=0,\" \",COUNTRY_INFO!A207)))","v":" "},{"$f":"IF(INTRO!$E$39<>\"Non-endemic\", \" \", IF(INTRO!$E$37=\"Non-endemic\",\" \", IF(COUNTRY_INFO!B207=0,\" \",COUNTRY_INFO!B207)))","v":" "},{"$f":"IF(INTRO!$E$39<>\"Non-endemic\", \" \", IF(INTRO!$E$37=\"Non-endemic\",\" \", IF(COUNTRY_INFO!C207=0,\" \",COUNTRY_INFO!C207)))","v":" "},{"$f":"IF(INTRO!$E$39<>\"Non-endemic\", 0, IF(INTRO!$E$37=\"Non-endemic\",0,IF(COUNTRY_INFO!$H207=1,COUNTRY_INFO!E207,0)))","v":0},{"$f":"IF(INTRO!$E$39<>\"Non-endemic\", 0, IF(INTRO!$E$37=\"Non-endemic\",0,IF(COUNTRY_INFO!$H207=1,COUNTRY_INFO!F207,0)))","v":0},{"$f":"IF(INTRO!$E$39<>\"Non-endemic\", 0, IF(INTRO!$E$37=\"Non-endemic\",0,IF(COUNTRY_INFO!$H207=1,COUNTRY_INFO!G207,0)))","v":0},0,{"$f":"IF(INTRO!$E$39=\"Non-endemic\",IF(INTRO!$E$37=\"Non-endemic\",\"Not required\",COUNTRY_INFO!V207),\"Treat with IVM\")","v":"Treat with IVM"},0,0,null,0]
[{"$f":"IF(INTRO!$E$39<>\"Non-endemic\", \" \", IF(INTRO!$E$37=\"Non-endemic\",\" \", IF(COUNTRY_INFO!A208=0,\" \",COUNTRY_INFO!A208)))","v":" "},{"$f":"IF(INTRO!$E$39<>\"Non-endemic\", \" \", IF(INTRO!$E$37=\"Non-endemic\",\" \", IF(COUNTRY_INFO!B208=0,\" \",COUNTRY_INFO!B208)))","v":" "},{"$f":"IF(INTRO!$E$39<>\"Non-endemic\", \" \", IF(INTRO!$E$37=\"Non-endemic\",\" \", IF(COUNTRY_INFO!C208=0,\" \",COUNTRY_INFO!C208)))","v":" "},{"$f":"IF(INTRO!$E$39<>\"Non-endemic\", 0, IF(INTRO!$E$37=\"Non-endemic\",0,IF(COUNTRY_INFO!$H208=1,COUNTRY_INFO!E208,0)))","v":0},{"$f":"IF(INTRO!$E$39<>\"Non-endemic\", 0, IF(INTRO!$E$37=\"Non-endemic\",0,IF(COUNTRY_INFO!$H208=1,COUNTRY_INFO!F208,0)))","v":0},{"$f":"IF(INTRO!$E$39<>\"Non-endemic\", 0, IF(INTRO!$E$37=\"Non-endemic\",0,IF(COUNTRY_INFO!$H208=1,COUNTRY_INFO!G208,0)))","v":0},0,{"$f":"IF(INTRO!$E$39=\"Non-endemic\",IF(INTRO!$E$37=\"Non-endemic\",\"Not required\",COUNTRY_INFO!V208),\"Treat with IVM\")","v":"Treat with IVM"},0,0,null,0]
[{"$f":"IF(INTRO!$E$39<>\"Non-endemic\", \" \", IF(INTRO!$E$37=\"Non-endemic\",\" \", IF(COUNTRY_INFO!A209=0,\" \",COUNTRY_INFO!A209)))","v":" "},{"$f":"IF(INTRO!$E$39<>\"Non-endemic\", \" \", IF(INTRO!$E$37=\"Non-endemic\",\" \", IF(COUNTRY_INFO!B209=0,\" \",COUNTRY_INFO!B209)))","v":" "},{"$f":"IF(INTRO!$E$39<>\"Non-endemic\", \" \", IF(INTRO!$E$37=\"Non-endemic\",\" \", IF(COUNTRY_INFO!C209=0,\" \",COUNTRY_INFO!C209)))","v":" "},{"$f":"IF(INTRO!$E$39<>\"Non-endemic\", 0, IF(INTRO!$E$37=\"Non-endemic\",0,IF(COUNTRY_INFO!$H209=1,COUNTRY_INFO!E209,0)))","v":0},{"$f":"IF(INTRO!$E$39<>\"Non-endemic\", 0, IF(INTRO!$E$37=\"Non-endemic\",0,IF(COUNTRY_INFO!$H209=1,COUNTRY_INFO!F209,0)))","v":0},{"$f":"IF(INTRO!$E$39<>\"Non-endemic\", 0, IF(INTRO!$E$37=\"Non-endemic\",0,IF(COUNTRY_INFO!$H209=1,COUNTRY_INFO!G209,0)))","v":0},0,{"$f":"IF(INTRO!$E$39=\"Non-endemic\",IF(INTRO!$E$37=\"Non-endemic\",\"Not required\",COUNTRY_INFO!V209),\"Treat with IVM\")","v":"Treat with IVM"},0,0,null,0]
[{"$f":"IF(INTRO!$E$39<>\"Non-endemic\", \" \", IF(INTRO!$E$37=\"Non-endemic\",\" \", IF(COUNTRY_INFO!A210=0,\" \",COUNTRY_INFO!A210)))","v":" "},{"$f":"IF(INTRO!$E$39<>\"Non-endemic\", \" \", IF(INTRO!$E$37=\"Non-endemic\",\" \", IF(COUNTRY_INFO!B210=0,\" \",COUNTRY_INFO!B210)))","v":" "},{"$f":"IF(INTRO!$E$39<>\"Non-endemic\", \" \", IF(INTRO!$E$37=\"Non-endemic\",\" \", IF(COUNTRY_INFO!C210=0,\" \",COUNTRY_INFO!C210)))","v":" "},{"$f":"IF(INTRO!$E$39<>\"Non-endemic\", 0, IF(INTRO!$E$37=\"Non-endemic\",0,IF(COUNTRY_INFO!$H210=1,COUNTRY_INFO!E210,0)))","v":0},{"$f":"IF(INTRO!$E$39<>\"Non-endemic\", 0, IF(INTRO!$E$37=\"Non-endemic\",0,IF(COUNTRY_INFO!$H210=1,COUNTRY_INFO!F210,0)))","v":0},{"$f":"IF(INTRO!$E$39<>\"Non-endemic\", 0, IF(INTRO!$E$37=\"Non-endemic\",0,IF(COUNTRY_INFO!$H210=1,COUNTRY_INFO!G210,0)))","v":0},0,{"$f":"IF(INTRO!$E$39=\"Non-endemic\",IF(INTRO!$E$37=\"Non-endemic\",\"Not required\",COUNTRY_INFO!V210),\"Treat with IVM\")","v":"Treat with IVM"},0,0,null,0]
[{"$f":"IF(INTRO!$E$39<>\"Non-endemic\", \" \", IF(INTRO!$E$37=\"Non-endemic\",\" \", IF(COUNTRY_INFO!A211=0,\" \",COUNTRY_INFO!A211)))","v":" "},{"$f":"IF(INTRO!$E$39<>\"Non-endemic\", \" \", IF(INTRO!$E$37=\"Non-endemic\",\" \", IF(COUNTRY_INFO!B211=0,\" \",COUNTRY_INFO!B211)))","v":" "},{"$f":"IF(INTRO!$E$39<>\"Non-endemic\", \" \", IF(INTRO!$E$37=\"Non-endemic\",\" \", IF(COUNTRY_INFO!C211=0,\" \",COUNTRY_INFO!C211)))","v":" "},{"$f":"IF(INTRO!$E$39<>\"Non-endemic\", 0, IF(INTRO!$E$37=\"Non-endemic\",0,IF(COUNTRY_INFO!$H211=1,COUNTRY_INFO!E211,0)))","v":0},{"$f":"IF(INTRO!$E$39<>\"Non-endemic\", 0, IF(INTRO!$E$37=\"Non-endemic\",0,IF(COUNTRY_INFO!$H211=1,COUNTRY_INFO!F211,0)))","v":0},{"$f":"IF(INTRO!$E$39<>\"Non-endemic\", 0, IF(INTRO!$E$37=\"Non-endemic\",0,IF(COUNTRY_INFO!$H211=1,COUNTRY_INFO!G211,0)))","v":0},0,{"$f":"IF(INTRO!$E$39=\"Non-endemic\",IF(INTRO!$E$37=\"Non-endemic\",\"Not required\",COUNTRY_INFO!V211),\"Treat with IVM\")","v":"Treat with IVM"},0,0,null,0]
[{"$f":"IF(INTRO!$E$39<>\"Non-endemic\", \" \", IF(INTRO!$E$37=\"Non-endemic\",\" \", IF(COUNTRY_INFO!A212=0,\" \",COUNTRY_INFO!A212)))","v":" "},{"$f":"IF(INTRO!$E$39<>\"Non-endemic\", \" \", IF(INTRO!$E$37=\"Non-endemic\",\" \", IF(COUNTRY_INFO!B212=0,\" \",COUNTRY_INFO!B212)))","v":" "},{"$f":"IF(INTRO!$E$39<>\"Non-endemic\", \" \", IF(INTRO!$E$37=\"Non-endemic\",\" \", IF(COUNTRY_INFO!C212=0,\" \",COUNTRY_INFO!C212)))","v":" "},{"$f":"IF(INTRO!$E$39<>\"Non-endemic\", 0, IF(INTRO!$E$37=\"Non-endemic\",0,IF(COUNTRY_INFO!$H212=1,COUNTRY_INFO!E212,0)))","v":0},{"$f":"IF(INTRO!$E$39<>\"Non-endemic\", 0, IF(INTRO!$E$37=\"Non-endemic\",0,IF(COUNTRY_INFO!$H212=1,COUNTRY_INFO!F212,0)))","v":0},{"$f":"IF(INTRO!$E$39<>\"Non-endemic\", 0, IF(INTRO!$E$37=\"Non-endemic\",0,IF(COUNTRY_INFO!$H212=1,COUNTRY_INFO!G212,0)))","v":0},0,{"$f":"IF(INTRO!$E$39=\"Non-endemic\",IF(INTRO!$E$37=\"Non-endemic\",\"Not required\",COUNTRY_INFO!V212),\"Treat with IVM\")","v":"Treat with IVM"},0,0,null,0]
[{"$f":"IF(INTRO!$E$39<>\"Non-endemic\", \" \", IF(INTRO!$E$37=\"Non-endemic\",\" \", IF(COUNTRY_INFO!A213=0,\" \",COUNTRY_INFO!A213)))","v":" "},{"$f":"IF(INTRO!$E$39<>\"Non-endemic\", \" \", IF(INTRO!$E$37=\"Non-endemic\",\" \", IF(COUNTRY_INFO!B213=0,\" \",COUNTRY_INFO!B213)))","v":" "},{"$f":"IF(INTRO!$E$39<>\"Non-endemic\", \" \", IF(INTRO!$E$37=\"Non-endemic\",\" \", IF(COUNTRY_INFO!C213=0,\" \",COUNTRY_INFO!C213)))","v":" "},{"$f":"IF(INTRO!$E$39<>\"Non-endemic\", 0, IF(INTRO!$E$37=\"Non-endemic\",0,IF(COUNTRY_INFO!$H213=1,COUNTRY_INFO!E213,0)))","v":0},{"$f":"IF(INTRO!$E$39<>\"Non-endemic\", 0, IF(INTRO!$E$37=\"Non-endemic\",0,IF(COUNTRY_INFO!$H213=1,COUNTRY_INFO!F213,0)))","v":0},{"$f":"IF(INTRO!$E$39<>\"Non-endemic\", 0, IF(INTRO!$E$37=\"Non-endemic\",0,IF(COUNTRY_INFO!$H213=1,COUNTRY_INFO!G213,0)))","v":0},0,{"$f":"IF(INTRO!$E$39=\"Non-endemic\",IF(INTRO!$E$37=\"Non-endemic\",\"Not required\",COUNTRY_INFO!V213),\"Treat with IVM\")","v":"Treat with IVM"},0,0,null,0]
[{"$f":"IF(INTRO!$E$39<>\"Non-endemic\", \" \", IF(INTRO!$E$37=\"Non-endemic\",\" \", IF(COUNTRY_INFO!A214=0,\" \",COUNTRY_INFO!A214)))","v":" "},{"$f":"IF(INTRO!$E$39<>\"Non-endemic\", \" \", IF(INTRO!$E$37=\"Non-endemic\",\" \", IF(COUNTRY_INFO!B214=0,\" \",COUNTRY_INFO!B214)))","v":" "},{"$f":"IF(INTRO!$E$39<>\"Non-endemic\", \" \", IF(INTRO!$E$37=\"Non-endemic\",\" \", IF(COUNTRY_INFO!C214=0,\" \",COUNTRY_INFO!C214)))","v":" "},{"$f":"IF(INTRO!$E$39<>\"Non-endemic\", 0, IF(INTRO!$E$37=\"Non-endemic\",0,IF(COUNTRY_INFO!$H214=1,COUNTRY_INFO!E214,0)))","v":0},{"$f":"IF(INTRO!$E$39<>\"Non-endemic\", 0, IF(INTRO!$E$37=\"Non-endemic\",0,IF(COUNTRY_INFO!$H214=1,COUNTRY_INFO!F214,0)))","v":0},{"$f":"IF(INTRO!$E$39<>\"Non-endemic\", 0, IF(INTRO!$E$37=\"Non-endemic\",0,IF(COUNTRY_INFO!$H214=1,COUNTRY_INFO!G214,0)))","v":0},0,{"$f":"IF(INTRO!$E$39=\"Non-endemic\",IF(INTRO!$E$37=\"Non-endemic\",\"Not required\",COUNTRY_INFO!V214),\"Treat with IVM\")","v":"Treat with IVM"},0,0,null,0]
[{"$f":"IF(INTRO!$E$39<>\"Non-endemic\", \" \", IF(INTRO!$E$37=\"Non-endemic\",\" \", IF(COUNTRY_INFO!A215=0,\" \",COUNTRY_INFO!A215)))","v":" "},{"$f":"IF(INTRO!$E$39<>\"Non-endemic\", \" \", IF(INTRO!$E$37=\"Non-endemic\",\" \", IF(COUNTRY_INFO!B215=0,\" \",COUNTRY_INFO!B215)))","v":" "},{"$f":"IF(INTRO!$E$39<>\"Non-endemic\", \" \", IF(INTRO!$E$37=\"Non-endemic\",\" \", IF(COUNTRY_INFO!C215=0,\" \",COUNTRY_INFO!C215)))","v":" "},{"$f":"IF(INTRO!$E$39<>\"Non-endemic\", 0, IF(INTRO!$E$37=\"Non-endemic\",0,IF(COUNTRY_INFO!$H215=1,COUNTRY_INFO!E215,0)))","v":0},{"$f":"IF(INTRO!$E$39<>\"Non-endemic\", 0, IF(INTRO!$E$37=\"Non-endemic\",0,IF(COUNTRY_INFO!$H215=1,COUNTRY_INFO!F215,0)))","v":0},{"$f":"IF(INTRO!$E$39<>\"Non-endemic\", 0, IF(INTRO!$E$37=\"Non-endemic\",0,IF(COUNTRY_INFO!$H215=1,COUNTRY_INFO!G215,0)))","v":0},0,{"$f":"IF(INTRO!$E$39=\"Non-endemic\",IF(INTRO!$E$37=\"Non-endemic\",\"Not required\",COUNTRY_INFO!V215),\"Treat with IVM\")","v":"Treat with IVM"},0,0,null,0]
[{"$f":"IF(INTRO!$E$39<>\"Non-endemic\", \" \", IF(INTRO!$E$37=\"Non-endemic\",\" \", IF(COUNTRY_INFO!A216=0,\" \",COUNTRY_INFO!A216)))","v":" "},{"$f":"IF(INTRO!$E$39<>\"Non-endemic\", \" \", IF(INTRO!$E$37=\"Non-endemic\",\" \", IF(COUNTRY_INFO!B216=0,\" \",COUNTRY_INFO!B216)))","v":" "},{"$f":"IF(INTRO!$E$39<>\"Non-endemic\", \" \", IF(INTRO!$E$37=\"Non-endemic\",\" \", IF(COUNTRY_INFO!C216=0,\" \",COUNTRY_INFO!C216)))","v":" "},{"$f":"IF(INTRO!$E$39<>\"Non-endemic\", 0, IF(INTRO!$E$37=\"Non-endemic\",0,IF(COUNTRY_INFO!$H216=1,COUNTRY_INFO!E216,0)))","v":0},{"$f":"IF(INTRO!$E$39<>\"Non-endemic\", 0, IF(INTRO!$E$37=\"Non-endemic\",0,IF(COUNTRY_INFO!$H216=1,COUNTRY_INFO!F216,0)))","v":0},{"$f":"IF(INTRO!$E$39<>\"Non-endemic\", 0, IF(INTRO!$E$37=\"Non-endemic\",0,IF(COUNTRY_INFO!$H216=1,COUNTRY_INFO!G216,0)))","v":0},0,{"$f":"IF(INTRO!$E$39=\"Non-endemic\",IF(INTRO!$E$37=\"Non-endemic\",\"Not required\",COUNTRY_INFO!V216),\"Treat with IVM\")","v":"Treat with IVM"},0,0,null,0]
[{"$f":"IF(INTRO!$E$39<>\"Non-endemic\", \" \", IF(INTRO!$E$37=\"Non-endemic\",\" \", IF(COUNTRY_INFO!A217=0,\" \",COUNTRY_INFO!A217)))","v":" "},{"$f":"IF(INTRO!$E$39<>\"Non-endemic\", \" \", IF(INTRO!$E$37=\"Non-endemic\",\" \", IF(COUNTRY_INFO!B217=0,\" \",COUNTRY_INFO!B217)))","v":" "},{"$f":"IF(INTRO!$E$39<>\"Non-endemic\", \" \", IF(INTRO!$E$37=\"Non-endemic\",\" \", IF(COUNTRY_INFO!C217=0,\" \",COUNTRY_INFO!C217)))","v":" "},{"$f":"IF(INTRO!$E$39<>\"Non-endemic\", 0, IF(INTRO!$E$37=\"Non-endemic\",0,IF(COUNTRY_INFO!$H217=1,COUNTRY_INFO!E217,0)))","v":0},{"$f":"IF(INTRO!$E$39<>\"Non-endemic\", 0, IF(INTRO!$E$37=\"Non-endemic\",0,IF(COUNTRY_INFO!$H217=1,COUNTRY_INFO!F217,0)))","v":0},{"$f":"IF(INTRO!$E$39<>\"Non-endemic\", 0, IF(INTRO!$E$37=\"Non-endemic\",0,IF(COUNTRY_INFO!$H217=1,COUNTRY_INFO!G217,0)))","v":0},0,{"$f":"IF(INTRO!$E$39=\"Non-endemic\",IF(INTRO!$E$37=\"Non-endemic\",\"Not required\",COUNTRY_INFO!V217),\"Treat with IVM\")","v":"Treat with IVM"},0,0,null,0]
[{"$f":"IF(INTRO!$E$39<>\"Non-endemic\", \" \", IF(INTRO!$E$37=\"Non-endemic\",\" \", IF(COUNTRY_INFO!A218=0,\" \",COUNTRY_INFO!A218)))","v":" "},{"$f":"IF(INTRO!$E$39<>\"Non-endemic\", \" \", IF(INTRO!$E$37=\"Non-endemic\",\" \", IF(COUNTRY_INFO!B218=0,\" \",COUNTRY_INFO!B218)))","v":" "},{"$f":"IF(INTRO!$E$39<>\"Non-endemic\", \" \", IF(INTRO!$E$37=\"Non-endemic\",\" \", IF(COUNTRY_INFO!C218=0,\" \",COUNTRY_INFO!C218)))","v":" "},{"$f":"IF(INTRO!$E$39<>\"Non-endemic\", 0, IF(INTRO!$E$37=\"Non-endemic\",0,IF(COUNTRY_INFO!$H218=1,COUNTRY_INFO!E218,0)))","v":0},{"$f":"IF(INTRO!$E$39<>\"Non-endemic\", 0, IF(INTRO!$E$37=\"Non-endemic\",0,IF(COUNTRY_INFO!$H218=1,COUNTRY_INFO!F218,0)))","v":0},{"$f":"IF(INTRO!$E$39<>\"Non-endemic\", 0, IF(INTRO!$E$37=\"Non-endemic\",0,IF(COUNTRY_INFO!$H218=1,COUNTRY_INFO!G218,0)))","v":0},0,{"$f":"IF(INTRO!$E$39=\"Non-endemic\",IF(INTRO!$E$37=\"Non-endemic\",\"Not required\",COUNTRY_INFO!V218),\"Treat with IVM\")","v":"Treat with IVM"},0,0,null,0]
[{"$f":"IF(INTRO!$E$39<>\"Non-endemic\", \" \", IF(INTRO!$E$37=\"Non-endemic\",\" \", IF(COUNTRY_INFO!A219=0,\" \",COUNTRY_INFO!A219)))","v":" "},{"$f":"IF(INTRO!$E$39<>\"Non-endemic\", \" \", IF(INTRO!$E$37=\"Non-endemic\",\" \", IF(COUNTRY_INFO!B219=0,\" \",COUNTRY_INFO!B219)))","v":" "},{"$f":"IF(INTRO!$E$39<>\"Non-endemic\", \" \", IF(INTRO!$E$37=\"Non-endemic\",\" \", IF(COUNTRY_INFO!C219=0,\" \",COUNTRY_INFO!C219)))","v":" "},{"$f":"IF(INTRO!$E$39<>\"Non-endemic\", 0, IF(INTRO!$E$37=\"Non-endemic\",0,IF(COUNTRY_INFO!$H219=1,COUNTRY_INFO!E219,0)))","v":0},{"$f":"IF(INTRO!$E$39<>\"Non-endemic\", 0, IF(INTRO!$E$37=\"Non-endemic\",0,IF(COUNTRY_INFO!$H219=1,COUNTRY_INFO!F219,0)))","v":0},{"$f":"IF(INTRO!$E$39<>\"Non-endemic\", 0, IF(INTRO!$E$37=\"Non-endemic\",0,IF(COUNTRY_INFO!$H219=1,COUNTRY_INFO!G219,0)))","v":0},0,{"$f":"IF(INTRO!$E$39=\"Non-endemic\",IF(INTRO!$E$37=\"Non-endemic\",\"Not required\",COUNTRY_INFO!V219),\"Treat with IVM\")","v":"Treat with IVM"},0,0,null,0]
[{"$f":"IF(INTRO!$E$39<>\"Non-endemic\", \" \", IF(INTRO!$E$37=\"Non-endemic\",\" \", IF(COUNTRY_INFO!A220=0,\" \",COUNTRY_INFO!A220)))","v":" "},{"$f":"IF(INTRO!$E$39<>\"Non-endemic\", \" \", IF(INTRO!$E$37=\"Non-endemic\",\" \", IF(COUNTRY_INFO!B220=0,\" \",COUNTRY_INFO!B220)))","v":" "},{"$f":"IF(INTRO!$E$39<>\"Non-endemic\", \" \", IF(INTRO!$E$37=\"Non-endemic\",\" \", IF(COUNTRY_INFO!C220=0,\" \",COUNTRY_INFO!C220)))","v":" "},{"$f":"IF(INTRO!$E$39<>\"Non-endemic\", 0, IF(INTRO!$E$37=\"Non-endemic\",0,IF(COUNTRY_INFO!$H220=1,COUNTRY_INFO!E220,0)))","v":0},{"$f":"IF(INTRO!$E$39<>\"Non-endemic\", 0, IF(INTRO!$E$37=\"Non-endemic\",0,IF(COUNTRY_INFO!$H220=1,COUNTRY_INFO!F220,0)))","v":0},{"$f":"IF(INTRO!$E$39<>\"Non-endemic\", 0, IF(INTRO!$E$37=\"Non-endemic\",0,IF(COUNTRY_INFO!$H220=1,COUNTRY_INFO!G220,0)))","v":0},0,{"$f":"IF(INTRO!$E$39=\"Non-endemic\",IF(INTRO!$E$37=\"Non-endemic\",\"Not required\",COUNTRY_INFO!V220),\"Treat with IVM\")","v":"Treat with IVM"},0,0,null,0]
[{"$f":"IF(INTRO!$E$39<>\"Non-endemic\", \" \", IF(INTRO!$E$37=\"Non-endemic\",\" \", IF(COUNTRY_INFO!A221=0,\" \",COUNTRY_INFO!A221)))","v":" "},{"$f":"IF(INTRO!$E$39<>\"Non-endemic\", \" \", IF(INTRO!$E$37=\"Non-endemic\",\" \", IF(COUNTRY_INFO!B221=0,\" \",COUNTRY_INFO!B221)))","v":" "},{"$f":"IF(INTRO!$E$39<>\"Non-endemic\", \" \", IF(INTRO!$E$37=\"Non-endemic\",\" \", IF(COUNTRY_INFO!C221=0,\" \",COUNTRY_INFO!C221)))","v":" "},{"$f":"IF(INTRO!$E$39<>\"Non-endemic\", 0, IF(INTRO!$E$37=\"Non-endemic\",0,IF(COUNTRY_INFO!$H221=1,COUNTRY_INFO!E221,0)))","v":0},{"$f":"IF(INTRO!$E$39<>\"Non-endemic\", 0, IF(INTRO!$E$37=\"Non-endemic\",0,IF(COUNTRY_INFO!$H221=1,COUNTRY_INFO!F221,0)))","v":0},{"$f":"IF(INTRO!$E$39<>\"Non-endemic\", 0, IF(INTRO!$E$37=\"Non-endemic\",0,IF(COUNTRY_INFO!$H221=1,COUNTRY_INFO!G221,0)))","v":0},0,{"$f":"IF(INTRO!$E$39=\"Non-endemic\",IF(INTRO!$E$37=\"Non-endemic\",\"Not required\",COUNTRY_INFO!V221),\"Treat with IVM\")","v":"Treat with IVM"},0,0,null,0]
[{"$f":"IF(INTRO!$E$39<>\"Non-endemic\", \" \", IF(INTRO!$E$37=\"Non-endemic\",\" \", IF(COUNTRY_INFO!A222=0,\" \",COUNTRY_INFO!A222)))","v":" "},{"$f":"IF(INTRO!$E$39<>\"Non-endemic\", \" \", IF(INTRO!$E$37=\"Non-endemic\",\" \", IF(COUNTRY_INFO!B222=0,\" \",COUNTRY_INFO!B222)))","v":" "},{"$f":"IF(INTRO!$E$39<>\"Non-endemic\", \" \", IF(INTRO!$E$37=\"Non-endemic\",\" \", IF(COUNTRY_INFO!C222=0,\" \",COUNTRY_INFO!C222)))","v":" "},{"$f":"IF(INTRO!$E$39<>\"Non-endemic\", 0, IF(INTRO!$E$37=\"Non-endemic\",0,IF(COUNTRY_INFO!$H222=1,COUNTRY_INFO!E222,0)))","v":0},{"$f":"IF(INTRO!$E$39<>\"Non-endemic\", 0, IF(INTRO!$E$37=\"Non-endemic\",0,IF(COUNTRY_INFO!$H222=1,COUNTRY_INFO!F222,0)))","v":0},{"$f":"IF(INTRO!$E$39<>\"Non-endemic\", 0, IF(INTRO!$E$37=\"Non-endemic\",0,IF(COUNTRY_INFO!$H222=1,COUNTRY_INFO!G222,0)))","v":0},0,{"$f":"IF(INTRO!$E$39=\"Non-endemic\",IF(INTRO!$E$37=\"Non-endemic\",\"Not required\",COUNTRY_INFO!V222),\"Treat with IVM\")","v":"Treat with IVM"},0,0,null,0]
[{"$f":"IF(INTRO!$E$39<>\"Non-endemic\", \" \", IF(INTRO!$E$37=\"Non-endemic\",\" \", IF(COUNTRY_INFO!A223=0,\" \",COUNTRY_INFO!A223)))","v":" "},{"$f":"IF(INTRO!$E$39<>\"Non-endemic\", \" \", IF(INTRO!$E$37=\"Non-endemic\",\" \", IF(COUNTRY_INFO!B223=0,\" \",COUNTRY_INFO!B223)))","v":" "},{"$f":"IF(INTRO!$E$39<>\"Non-endemic\", \" \", IF(INTRO!$E$37=\"Non-endemic\",\" \", IF(COUNTRY_INFO!C223=0,\" \",COUNTRY_INFO!C223)))","v":" "},{"$f":"IF(INTRO!$E$39<>\"Non-endemic\", 0, IF(INTRO!$E$37=\"Non-endemic\",0,IF(COUNTRY_INFO!$H223=1,COUNTRY_INFO!E223,0)))","v":0},{"$f":"IF(INTRO!$E$39<>\"Non-endemic\", 0, IF(INTRO!$E$37=\"Non-endemic\",0,IF(COUNTRY_INFO!$H223=1,COUNTRY_INFO!F223,0)))","v":0},{"$f":"IF(INTRO!$E$39<>\"Non-endemic\", 0, IF(INTRO!$E$37=\"Non-endemic\",0,IF(COUNTRY_INFO!$H223=1,COUNTRY_INFO!G223,0)))","v":0},0,{"$f":"IF(INTRO!$E$39=\"Non-endemic\",IF(INTRO!$E$37=\"Non-endemic\",\"Not required\",COUNTRY_INFO!V223),\"Treat with IVM\")","v":"Treat with IVM"},0,0,null,0]
[{"$f":"IF(INTRO!$E$39<>\"Non-endemic\", \" \", IF(INTRO!$E$37=\"Non-endemic\",\" \", IF(COUNTRY_INFO!A224=0,\" \",COUNTRY_INFO!A224)))","v":" "},{"$f":"IF(INTRO!$E$39<>\"Non-endemic\", \" \", IF(INTRO!$E$37=\"Non-endemic\",\" \", IF(COUNTRY_INFO!B224=0,\" \",COUNTRY_INFO!B224)))","v":" "},{"$f":"IF(INTRO!$E$39<>\"Non-endemic\", \" \", IF(INTRO!$E$37=\"Non-endemic\",\" \", IF(COUNTRY_INFO!C224=0,\" \",COUNTRY_INFO!C224)))","v":" "},{"$f":"IF(INTRO!$E$39<>\"Non-endemic\", 0, IF(INTRO!$E$37=\"Non-endemic\",0,IF(COUNTRY_INFO!$H224=1,COUNTRY_INFO!E224,0)))","v":0},{"$f":"IF(INTRO!$E$39<>\"Non-endemic\", 0, IF(INTRO!$E$37=\"Non-endemic\",0,IF(COUNTRY_INFO!$H224=1,COUNTRY_INFO!F224,0)))","v":0},{"$f":"IF(INTRO!$E$39<>\"Non-endemic\", 0, IF(INTRO!$E$37=\"Non-endemic\",0,IF(COUNTRY_INFO!$H224=1,COUNTRY_INFO!G224,0)))","v":0},0,{"$f":"IF(INTRO!$E$39=\"Non-endemic\",IF(INTRO!$E$37=\"Non-endemic\",\"Not required\",COUNTRY_INFO!V224),\"Treat with IVM\")","v":"Treat with IVM"},0,0,null,0]
[{"$f":"IF(INTRO!$E$39<>\"Non-endemic\", \" \", IF(INTRO!$E$37=\"Non-endemic\",\" \", IF(COUNTRY_INFO!A225=0,\" \",COUNTRY_INFO!A225)))","v":" "},{"$f":"IF(INTRO!$E$39<>\"Non-endemic\", \" \", IF(INTRO!$E$37=\"Non-endemic\",\" \", IF(COUNTRY_INFO!B225=0,\" \",COUNTRY_INFO!B225)))","v":" "},{"$f":"IF(INTRO!$E$39<>\"Non-endemic\", \" \", IF(INTRO!$E$37=\"Non-endemic\",\" \", IF(COUNTRY_INFO!C225=0,\" \",COUNTRY_INFO!C225)))","v":" "},{"$f":"IF(INTRO!$E$39<>\"Non-endemic\", 0, IF(INTRO!$E$37=\"Non-endemic\",0,IF(COUNTRY_INFO!$H225=1,COUNTRY_INFO!E225,0)))","v":0},{"$f":"IF(INTRO!$E$39<>\"Non-endemic\", 0, IF(INTRO!$E$37=\"Non-endemic\",0,IF(COUNTRY_INFO!$H225=1,COUNTRY_INFO!F225,0)))","v":0},{"$f":"IF(INTRO!$E$39<>\"Non-endemic\", 0, IF(INTRO!$E$37=\"Non-endemic\",0,IF(COUNTRY_INFO!$H225=1,COUNTRY_INFO!G225,0)))","v":0},0,{"$f":"IF(INTRO!$E$39=\"Non-endemic\",IF(INTRO!$E$37=\"Non-endemic\",\"Not required\",COUNTRY_INFO!V225),\"Treat with IVM\")","v":"Treat with IVM"},0,0,null,0]
[{"$f":"IF(INTRO!$E$39<>\"Non-endemic\", \" \", IF(INTRO!$E$37=\"Non-endemic\",\" \", IF(COUNTRY_INFO!A226=0,\" \",COUNTRY_INFO!A226)))","v":" "},{"$f":"IF(INTRO!$E$39<>\"Non-endemic\", \" \", IF(INTRO!$E$37=\"Non-endemic\",\" \", IF(COUNTRY_INFO!B226=0,\" \",COUNTRY_INFO!B226)))","v":" "},{"$f":"IF(INTRO!$E$39<>\"Non-endemic\", \" \", IF(INTRO!$E$37=\"Non-endemic\",\" \", IF(COUNTRY_INFO!C226=0,\" \",COUNTRY_INFO!C226)))","v":" "},{"$f":"IF(INTRO!$E$39<>\"Non-endemic\", 0, IF(INTRO!$E$37=\"Non-endemic\",0,IF(COUNTRY_INFO!$H226=1,COUNTRY_INFO!E226,0)))","v":0},{"$f":"IF(INTRO!$E$39<>\"Non-endemic\", 0, IF(INTRO!$E$37=\"Non-endemic\",0,IF(COUNTRY_INFO!$H226=1,COUNTRY_INFO!F226,0)))","v":0},{"$f":"IF(INTRO!$E$39<>\"Non-endemic\", 0, IF(INTRO!$E$37=\"Non-endemic\",0,IF(COUNTRY_INFO!$H226=1,COUNTRY_INFO!G226,0)))","v":0},0,{"$f":"IF(INTRO!$E$39=\"Non-endemic\",IF(INTRO!$E$37=\"Non-endemic\",\"Not required\",COUNTRY_INFO!V226),\"Treat with IVM\")","v":"Treat with IVM"},0,0,null,0]
[{"$f":"IF(INTRO!$E$39<>\"Non-endemic\", \" \", IF(INTRO!$E$37=\"Non-endemic\",\" \", IF(COUNTRY_INFO!A227=0,\" \",COUNTRY_INFO!A227)))","v":" "},{"$f":"IF(INTRO!$E$39<>\"Non-endemic\", \" \", IF(INTRO!$E$37=\"Non-endemic\",\" \", IF(COUNTRY_INFO!B227=0,\" \",COUNTRY_INFO!B227)))","v":" "},{"$f":"IF(INTRO!$E$39<>\"Non-endemic\", \" \", IF(INTRO!$E$37=\"Non-endemic\",\" \", IF(COUNTRY_INFO!C227=0,\" \",COUNTRY_INFO!C227)))","v":" "},{"$f":"IF(INTRO!$E$39<>\"Non-endemic\", 0, IF(INTRO!$E$37=\"Non-endemic\",0,IF(COUNTRY_INFO!$H227=1,COUNTRY_INFO!E227,0)))","v":0},{"$f":"IF(INTRO!$E$39<>\"Non-endemic\", 0, IF(INTRO!$E$37=\"Non-endemic\",0,IF(COUNTRY_INFO!$H227=1,COUNTRY_INFO!F227,0)))","v":0},{"$f":"IF(INTRO!$E$39<>\"Non-endemic\", 0, IF(INTRO!$E$37=\"Non-endemic\",0,IF(COUNTRY_INFO!$H227=1,COUNTRY_INFO!G227,0)))","v":0},0,{"$f":"IF(INTRO!$E$39=\"Non-endemic\",IF(INTRO!$E$37=\"Non-endemic\",\"Not required\",COUNTRY_INFO!V227),\"Treat with IVM\")","v":"Treat with IVM"},0,0,null,0]
[{"$f":"IF(INTRO!$E$39<>\"Non-endemic\", \" \", IF(INTRO!$E$37=\"Non-endemic\",\" \", IF(COUNTRY_INFO!A228=0,\" \",COUNTRY_INFO!A228)))","v":" "},{"$f":"IF(INTRO!$E$39<>\"Non-endemic\", \" \", IF(INTRO!$E$37=\"Non-endemic\",\" \", IF(COUNTRY_INFO!B228=0,\" \",COUNTRY_INFO!B228)))","v":" "},{"$f":"IF(INTRO!$E$39<>\"Non-endemic\", \" \", IF(INTRO!$E$37=\"Non-endemic\",\" \", IF(COUNTRY_INFO!C228=0,\" \",COUNTRY_INFO!C228)))","v":" "},{"$f":"IF(INTRO!$E$39<>\"Non-endemic\", 0, IF(INTRO!$E$37=\"Non-endemic\",0,IF(COUNTRY_INFO!$H228=1,COUNTRY_INFO!E228,0)))","v":0},{"$f":"IF(INTRO!$E$39<>\"Non-endemic\", 0, IF(INTRO!$E$37=\"Non-endemic\",0,IF(COUNTRY_INFO!$H228=1,COUNTRY_INFO!F228,0)))","v":0},{"$f":"IF(INTRO!$E$39<>\"Non-endemic\", 0, IF(INTRO!$E$37=\"Non-endemic\",0,IF(COUNTRY_INFO!$H228=1,COUNTRY_INFO!G228,0)))","v":0},0,{"$f":"IF(INTRO!$E$39=\"Non-endemic\",IF(INTRO!$E$37=\"Non-endemic\",\"Not required\",COUNTRY_INFO!V228),\"Treat with IVM\")","v":"Treat with IVM"},0,0,null,0]
[{"$f":"IF(INTRO!$E$39<>\"Non-endemic\", \" \", IF(INTRO!$E$37=\"Non-endemic\",\" \", IF(COUNTRY_INFO!A229=0,\" \",COUNTRY_INFO!A229)))","v":" "},{"$f":"IF(INTRO!$E$39<>\"Non-endemic\", \" \", IF(INTRO!$E$37=\"Non-endemic\",\" \", IF(COUNTRY_INFO!B229=0,\" \",COUNTRY_INFO!B229)))","v":" "},{"$f":"IF(INTRO!$E$39<>\"Non-endemic\", \" \", IF(INTRO!$E$37=\"Non-endemic\",\" \", IF(COUNTRY_INFO!C229=0,\" \",COUNTRY_INFO!C229)))","v":" "},{"$f":"IF(INTRO!$E$39<>\"Non-endemic\", 0, IF(INTRO!$E$37=\"Non-endemic\",0,IF(COUNTRY_INFO!$H229=1,COUNTRY_INFO!E229,0)))","v":0},{"$f":"IF(INTRO!$E$39<>\"Non-endemic\", 0, IF(INTRO!$E$37=\"Non-endemic\",0,IF(COUNTRY_INFO!$H229=1,COUNTRY_INFO!F229,0)))","v":0},{"$f":"IF(INTRO!$E$39<>\"Non-endemic\", 0, IF(INTRO!$E$37=\"Non-endemic\",0,IF(COUNTRY_INFO!$H229=1,COUNTRY_INFO!G229,0)))","v":0},0,{"$f":"IF(INTRO!$E$39=\"Non-endemic\",IF(INTRO!$E$37=\"Non-endemic\",\"Not required\",COUNTRY_INFO!V229),\"Treat with IVM\")","v":"Treat with IVM"},0,0,null,0]
[{"$f":"IF(INTRO!$E$39<>\"Non-endemic\", \" \", IF(INTRO!$E$37=\"Non-endemic\",\" \", IF(COUNTRY_INFO!A230=0,\" \",COUNTRY_INFO!A230)))","v":" "},{"$f":"IF(INTRO!$E$39<>\"Non-endemic\", \" \", IF(INTRO!$E$37=\"Non-endemic\",\" \", IF(COUNTRY_INFO!B230=0,\" \",COUNTRY_INFO!B230)))","v":" "},{"$f":"IF(INTRO!$E$39<>\"Non-endemic\", \" \", IF(INTRO!$E$37=\"Non-endemic\",\" \", IF(COUNTRY_INFO!C230=0,\" \",COUNTRY_INFO!C230)))","v":" "},{"$f":"IF(INTRO!$E$39<>\"Non-endemic\", 0, IF(INTRO!$E$37=\"Non-endemic\",0,IF(COUNTRY_INFO!$H230=1,COUNTRY_INFO!E230,0)))","v":0},{"$f":"IF(INTRO!$E$39<>\"Non-endemic\", 0, IF(INTRO!$E$37=\"Non-endemic\",0,IF(COUNTRY_INFO!$H230=1,COUNTRY_INFO!F230,0)))","v":0},{"$f":"IF(INTRO!$E$39<>\"Non-endemic\", 0, IF(INTRO!$E$37=\"Non-endemic\",0,IF(COUNTRY_INFO!$H230=1,COUNTRY_INFO!G230,0)))","v":0},0,{"$f":"IF(INTRO!$E$39=\"Non-endemic\",IF(INTRO!$E$37=\"Non-endemic\",\"Not required\",COUNTRY_INFO!V230),\"Treat with IVM\")","v":"Treat with IVM"},0,0,null,0]
[{"$f":"IF(INTRO!$E$39<>\"Non-endemic\", \" \", IF(INTRO!$E$37=\"Non-endemic\",\" \", IF(COUNTRY_INFO!A231=0,\" \",COUNTRY_INFO!A231)))","v":" "},{"$f":"IF(INTRO!$E$39<>\"Non-endemic\", \" \", IF(INTRO!$E$37=\"Non-endemic\",\" \", IF(COUNTRY_INFO!B231=0,\" \",COUNTRY_INFO!B231)))","v":" "},{"$f":"IF(INTRO!$E$39<>\"Non-endemic\", \" \", IF(INTRO!$E$37=\"Non-endemic\",\" \", IF(COUNTRY_INFO!C231=0,\" \",COUNTRY_INFO!C231)))","v":" "},{"$f":"IF(INTRO!$E$39<>\"Non-endemic\", 0, IF(INTRO!$E$37=\"Non-endemic\",0,IF(COUNTRY_INFO!$H231=1,COUNTRY_INFO!E231,0)))","v":0},{"$f":"IF(INTRO!$E$39<>\"Non-endemic\", 0, IF(INTRO!$E$37=\"Non-endemic\",0,IF(COUNTRY_INFO!$H231=1,COUNTRY_INFO!F231,0)))","v":0},{"$f":"IF(INTRO!$E$39<>\"Non-endemic\", 0, IF(INTRO!$E$37=\"Non-endemic\",0,IF(COUNTRY_INFO!$H231=1,COUNTRY_INFO!G231,0)))","v":0},0,{"$f":"IF(INTRO!$E$39=\"Non-endemic\",IF(INTRO!$E$37=\"Non-endemic\",\"Not required\",COUNTRY_INFO!V231),\"Treat with IVM\")","v":"Treat with IVM"},0,0,null,0]
[{"$f":"IF(INTRO!$E$39<>\"Non-endemic\", \" \", IF(INTRO!$E$37=\"Non-endemic\",\" \", IF(COUNTRY_INFO!A232=0,\" \",COUNTRY_INFO!A232)))","v":" "},{"$f":"IF(INTRO!$E$39<>\"Non-endemic\", \" \", IF(INTRO!$E$37=\"Non-endemic\",\" \", IF(COUNTRY_INFO!B232=0,\" \",COUNTRY_INFO!B232)))","v":" "},{"$f":"IF(INTRO!$E$39<>\"Non-endemic\", \" \", IF(INTRO!$E$37=\"Non-endemic\",\" \", IF(COUNTRY_INFO!C232=0,\" \",COUNTRY_INFO!C232)))","v":" "},{"$f":"IF(INTRO!$E$39<>\"Non-endemic\", 0, IF(INTRO!$E$37=\"Non-endemic\",0,IF(COUNTRY_INFO!$H232=1,COUNTRY_INFO!E232,0)))","v":0},{"$f":"IF(INTRO!$E$39<>\"Non-endemic\", 0, IF(INTRO!$E$37=\"Non-endemic\",0,IF(COUNTRY_INFO!$H232=1,COUNTRY_INFO!F232,0)))","v":0},{"$f":"IF(INTRO!$E$39<>\"Non-endemic\", 0, IF(INTRO!$E$37=\"Non-endemic\",0,IF(COUNTRY_INFO!$H232=1,COUNTRY_INFO!G232,0)))","v":0},0,{"$f":"IF(INTRO!$E$39=\"Non-endemic\",IF(INTRO!$E$37=\"Non-endemic\",\"Not required\",COUNTRY_INFO!V232),\"Treat with IVM\")","v":"Treat with IVM"},0,0,null,0]
[{"$f":"IF(INTRO!$E$39<>\"Non-endemic\", \" \", IF(INTRO!$E$37=\"Non-endemic\",\" \", IF(COUNTRY_INFO!A233=0,\" \",COUNTRY_INFO!A233)))","v":" "},{"$f":"IF(INTRO!$E$39<>\"Non-endemic\", \" \", IF(INTRO!$E$37=\"Non-endemic\",\" \", IF(COUNTRY_INFO!B233=0,\" \",COUNTRY_INFO!B233)))","v":" "},{"$f":"IF(INTRO!$E$39<>\"Non-endemic\", \" \", IF(INTRO!$E$37=\"Non-endemic\",\" \", IF(COUNTRY_INFO!C233=0,\" \",COUNTRY_INFO!C233)))","v":" "},{"$f":"IF(INTRO!$E$39<>\"Non-endemic\", 0, IF(INTRO!$E$37=\"Non-endemic\",0,IF(COUNTRY_INFO!$H233=1,COUNTRY_INFO!E233,0)))","v":0},{"$f":"IF(INTRO!$E$39<>\"Non-endemic\", 0, IF(INTRO!$E$37=\"Non-endemic\",0,IF(COUNTRY_INFO!$H233=1,COUNTRY_INFO!F233,0)))","v":0},{"$f":"IF(INTRO!$E$39<>\"Non-endemic\", 0, IF(INTRO!$E$37=\"Non-endemic\",0,IF(COUNTRY_INFO!$H233=1,COUNTRY_INFO!G233,0)))","v":0},0,{"$f":"IF(INTRO!$E$39=\"Non-endemic\",IF(INTRO!$E$37=\"Non-endemic\",\"Not required\",COUNTRY_INFO!V233),\"Treat with IVM\")","v":"Treat with IVM"},0,0,null,0]
[{"$f":"IF(INTRO!$E$39<>\"Non-endemic\", \" \", IF(INTRO!$E$37=\"Non-endemic\",\" \", IF(COUNTRY_INFO!A234=0,\" \",COUNTRY_INFO!A234)))","v":" "},{"$f":"IF(INTRO!$E$39<>\"Non-endemic\", \" \", IF(INTRO!$E$37=\"Non-endemic\",\" \", IF(COUNTRY_INFO!B234=0,\" \",COUNTRY_INFO!B234)))","v":" "},{"$f":"IF(INTRO!$E$39<>\"Non-endemic\", \" \", IF(INTRO!$E$37=\"Non-endemic\",\" \", IF(COUNTRY_INFO!C234=0,\" \",COUNTRY_INFO!C234)))","v":" "},{"$f":"IF(INTRO!$E$39<>\"Non-endemic\", 0, IF(INTRO!$E$37=\"Non-endemic\",0,IF(COUNTRY_INFO!$H234=1,COUNTRY_INFO!E234,0)))","v":0},{"$f":"IF(INTRO!$E$39<>\"Non-endemic\", 0, IF(INTRO!$E$37=\"Non-endemic\",0,IF(COUNTRY_INFO!$H234=1,COUNTRY_INFO!F234,0)))","v":0},{"$f":"IF(INTRO!$E$39<>\"Non-endemic\", 0, IF(INTRO!$E$37=\"Non-endemic\",0,IF(COUNTRY_INFO!$H234=1,COUNTRY_INFO!G234,0)))","v":0},0,{"$f":"IF(INTRO!$E$39=\"Non-endemic\",IF(INTRO!$E$37=\"Non-endemic\",\"Not required\",COUNTRY_INFO!V234),\"Treat with IVM\")","v":"Treat with IVM"},0,0,null,0]
[{"$f":"IF(INTRO!$E$39<>\"Non-endemic\", \" \", IF(INTRO!$E$37=\"Non-endemic\",\" \", IF(COUNTRY_INFO!A235=0,\" \",COUNTRY_INFO!A235)))","v":" "},{"$f":"IF(INTRO!$E$39<>\"Non-endemic\", \" \", IF(INTRO!$E$37=\"Non-endemic\",\" \", IF(COUNTRY_INFO!B235=0,\" \",COUNTRY_INFO!B235)))","v":" "},{"$f":"IF(INTRO!$E$39<>\"Non-endemic\", \" \", IF(INTRO!$E$37=\"Non-endemic\",\" \", IF(COUNTRY_INFO!C235=0,\" \",COUNTRY_INFO!C235)))","v":" "},{"$f":"IF(INTRO!$E$39<>\"Non-endemic\", 0, IF(INTRO!$E$37=\"Non-endemic\",0,IF(COUNTRY_INFO!$H235=1,COUNTRY_INFO!E235,0)))","v":0},{"$f":"IF(INTRO!$E$39<>\"Non-endemic\", 0, IF(INTRO!$E$37=\"Non-endemic\",0,IF(COUNTRY_INFO!$H235=1,COUNTRY_INFO!F235,0)))","v":0},{"$f":"IF(INTRO!$E$39<>\"Non-endemic\", 0, IF(INTRO!$E$37=\"Non-endemic\",0,IF(COUNTRY_INFO!$H235=1,COUNTRY_INFO!G235,0)))","v":0},0,{"$f":"IF(INTRO!$E$39=\"Non-endemic\",IF(INTRO!$E$37=\"Non-endemic\",\"Not required\",COUNTRY_INFO!V235),\"Treat with IVM\")","v":"Treat with IVM"},0,0,null,0]
[{"$f":"IF(INTRO!$E$39<>\"Non-endemic\", \" \", IF(INTRO!$E$37=\"Non-endemic\",\" \", IF(COUNTRY_INFO!A236=0,\" \",COUNTRY_INFO!A236)))","v":" "},{"$f":"IF(INTRO!$E$39<>\"Non-endemic\", \" \", IF(INTRO!$E$37=\"Non-endemic\",\" \", IF(COUNTRY_INFO!B236=0,\" \",COUNTRY_INFO!B236)))","v":" "},{"$f":"IF(INTRO!$E$39<>\"Non-endemic\", \" \", IF(INTRO!$E$37=\"Non-endemic\",\" \", IF(COUNTRY_INFO!C236=0,\" \",COUNTRY_INFO!C236)))","v":" "},{"$f":"IF(INTRO!$E$39<>\"Non-endemic\", 0, IF(INTRO!$E$37=\"Non-endemic\",0,IF(COUNTRY_INFO!$H236=1,COUNTRY_INFO!E236,0)))","v":0},{"$f":"IF(INTRO!$E$39<>\"Non-endemic\", 0, IF(INTRO!$E$37=\"Non-endemic\",0,IF(COUNTRY_INFO!$H236=1,COUNTRY_INFO!F236,0)))","v":0},{"$f":"IF(INTRO!$E$39<>\"Non-endemic\", 0, IF(INTRO!$E$37=\"Non-endemic\",0,IF(COUNTRY_INFO!$H236=1,COUNTRY_INFO!G236,0)))","v":0},0,{"$f":"IF(INTRO!$E$39=\"Non-endemic\",IF(INTRO!$E$37=\"Non-endemic\",\"Not required\",COUNTRY_INFO!V236),\"Treat with IVM\")","v":"Treat with IVM"},0,0,null,0]
[{"$f":"IF(INTRO!$E$39<>\"Non-endemic\", \" \", IF(INTRO!$E$37=\"Non-endemic\",\" \", IF(COUNTRY_INFO!A237=0,\" \",COUNTRY_INFO!A237)))","v":" "},{"$f":"IF(INTRO!$E$39<>\"Non-endemic\", \" \", IF(INTRO!$E$37=\"Non-endemic\",\" \", IF(COUNTRY_INFO!B237=0,\" \",COUNTRY_INFO!B237)))","v":" "},{"$f":"IF(INTRO!$E$39<>\"Non-endemic\", \" \", IF(INTRO!$E$37=\"Non-endemic\",\" \", IF(COUNTRY_INFO!C237=0,\" \",COUNTRY_INFO!C237)))","v":" "},{"$f":"IF(INTRO!$E$39<>\"Non-endemic\", 0, IF(INTRO!$E$37=\"Non-endemic\",0,IF(COUNTRY_INFO!$H237=1,COUNTRY_INFO!E237,0)))","v":0},{"$f":"IF(INTRO!$E$39<>\"Non-endemic\", 0, IF(INTRO!$E$37=\"Non-endemic\",0,IF(COUNTRY_INFO!$H237=1,COUNTRY_INFO!F237,0)))","v":0},{"$f":"IF(INTRO!$E$39<>\"Non-endemic\", 0, IF(INTRO!$E$37=\"Non-endemic\",0,IF(COUNTRY_INFO!$H237=1,COUNTRY_INFO!G237,0)))","v":0},0,{"$f":"IF(INTRO!$E$39=\"Non-endemic\",IF(INTRO!$E$37=\"Non-endemic\",\"Not required\",COUNTRY_INFO!V237),\"Treat with IVM\")","v":"Treat with IVM"},0,0,null,0]
[{"$f":"IF(INTRO!$E$39<>\"Non-endemic\", \" \", IF(INTRO!$E$37=\"Non-endemic\",\" \", IF(COUNTRY_INFO!A238=0,\" \",COUNTRY_INFO!A238)))","v":" "},{"$f":"IF(INTRO!$E$39<>\"Non-endemic\", \" \", IF(INTRO!$E$37=\"Non-endemic\",\" \", IF(COUNTRY_INFO!B238=0,\" \",COUNTRY_INFO!B238)))","v":" "},{"$f":"IF(INTRO!$E$39<>\"Non-endemic\", \" \", IF(INTRO!$E$37=\"Non-endemic\",\" \", IF(COUNTRY_INFO!C238=0,\" \",COUNTRY_INFO!C238)))","v":" "},{"$f":"IF(INTRO!$E$39<>\"Non-endemic\", 0, IF(INTRO!$E$37=\"Non-endemic\",0,IF(COUNTRY_INFO!$H238=1,COUNTRY_INFO!E238,0)))","v":0},{"$f":"IF(INTRO!$E$39<>\"Non-endemic\", 0, IF(INTRO!$E$37=\"Non-endemic\",0,IF(COUNTRY_INFO!$H238=1,COUNTRY_INFO!F238,0)))","v":0},{"$f":"IF(INTRO!$E$39<>\"Non-endemic\", 0, IF(INTRO!$E$37=\"Non-endemic\",0,IF(COUNTRY_INFO!$H238=1,COUNTRY_INFO!G238,0)))","v":0},0,{"$f":"IF(INTRO!$E$39=\"Non-endemic\",IF(INTRO!$E$37=\"Non-endemic\",\"Not required\",COUNTRY_INFO!V238),\"Treat with IVM\")","v":"Treat with IVM"},0,0,null,0]
[{"$f":"IF(INTRO!$E$39<>\"Non-endemic\", \" \", IF(INTRO!$E$37=\"Non-endemic\",\" \", IF(COUNTRY_INFO!A239=0,\" \",COUNTRY_INFO!A239)))","v":" "},{"$f":"IF(INTRO!$E$39<>\"Non-endemic\", \" \", IF(INTRO!$E$37=\"Non-endemic\",\" \", IF(COUNTRY_INFO!B239=0,\" \",COUNTRY_INFO!B239)))","v":" "},{"$f":"IF(INTRO!$E$39<>\"Non-endemic\", \" \", IF(INTRO!$E$37=\"Non-endemic\",\" \", IF(COUNTRY_INFO!C239=0,\" \",COUNTRY_INFO!C239)))","v":" "},{"$f":"IF(INTRO!$E$39<>\"Non-endemic\", 0, IF(INTRO!$E$37=\"Non-endemic\",0,IF(COUNTRY_INFO!$H239=1,COUNTRY_INFO!E239,0)))","v":0},{"$f":"IF(INTRO!$E$39<>\"Non-endemic\", 0, IF(INTRO!$E$37=\"Non-endemic\",0,IF(COUNTRY_INFO!$H239=1,COUNTRY_INFO!F239,0)))","v":0},{"$f":"IF(INTRO!$E$39<>\"Non-endemic\", 0, IF(INTRO!$E$37=\"Non-endemic\",0,IF(COUNTRY_INFO!$H239=1,COUNTRY_INFO!G239,0)))","v":0},0,{"$f":"IF(INTRO!$E$39=\"Non-endemic\",IF(INTRO!$E$37=\"Non-endemic\",\"Not required\",COUNTRY_INFO!V239),\"Treat with IVM\")","v":"Treat with IVM"},0,0,null,0]
[{"$f":"IF(INTRO!$E$39<>\"Non-endemic\", \" \", IF(INTRO!$E$37=\"Non-endemic\",\" \", IF(COUNTRY_INFO!A240=0,\" \",COUNTRY_INFO!A240)))","v":" "},{"$f":"IF(INTRO!$E$39<>\"Non-endemic\", \" \", IF(INTRO!$E$37=\"Non-endemic\",\" \", IF(COUNTRY_INFO!B240=0,\" \",COUNTRY_INFO!B240)))","v":" "},{"$f":"IF(INTRO!$E$39<>\"Non-endemic\", \" \", IF(INTRO!$E$37=\"Non-endemic\",\" \", IF(COUNTRY_INFO!C240=0,\" \",COUNTRY_INFO!C240)))","v":" "},{"$f":"IF(INTRO!$E$39<>\"Non-endemic\", 0, IF(INTRO!$E$37=\"Non-endemic\",0,IF(COUNTRY_INFO!$H240=1,COUNTRY_INFO!E240,0)))","v":0},{"$f":"IF(INTRO!$E$39<>\"Non-endemic\", 0, IF(INTRO!$E$37=\"Non-endemic\",0,IF(COUNTRY_INFO!$H240=1,COUNTRY_INFO!F240,0)))","v":0},{"$f":"IF(INTRO!$E$39<>\"Non-endemic\", 0, IF(INTRO!$E$37=\"Non-endemic\",0,IF(COUNTRY_INFO!$H240=1,COUNTRY_INFO!G240,0)))","v":0},0,{"$f":"IF(INTRO!$E$39=\"Non-endemic\",IF(INTRO!$E$37=\"Non-endemic\",\"Not required\",COUNTRY_INFO!V240),\"Treat with IVM\")","v":"Treat with IVM"},0,0,null,0]
[{"$f":"IF(INTRO!$E$39<>\"Non-endemic\", \" \", IF(INTRO!$E$37=\"Non-endemic\",\" \", IF(COUNTRY_INFO!A241=0,\" \",COUNTRY_INFO!A241)))","v":" "},{"$f":"IF(INTRO!$E$39<>\"Non-endemic\", \" \", IF(INTRO!$E$37=\"Non-endemic\",\" \", IF(COUNTRY_INFO!B241=0,\" \",COUNTRY_INFO!B241)))","v":" "},{"$f":"IF(INTRO!$E$39<>\"Non-endemic\", \" \", IF(INTRO!$E$37=\"Non-endemic\",\" \", IF(COUNTRY_INFO!C241=0,\" \",COUNTRY_INFO!C241)))","v":" "},{"$f":"IF(INTRO!$E$39<>\"Non-endemic\", 0, IF(INTRO!$E$37=\"Non-endemic\",0,IF(COUNTRY_INFO!$H241=1,COUNTRY_INFO!E241,0)))","v":0},{"$f":"IF(INTRO!$E$39<>\"Non-endemic\", 0, IF(INTRO!$E$37=\"Non-endemic\",0,IF(COUNTRY_INFO!$H241=1,COUNTRY_INFO!F241,0)))","v":0},{"$f":"IF(INTRO!$E$39<>\"Non-endemic\", 0, IF(INTRO!$E$37=\"Non-endemic\",0,IF(COUNTRY_INFO!$H241=1,COUNTRY_INFO!G241,0)))","v":0},0,{"$f":"IF(INTRO!$E$39=\"Non-endemic\",IF(INTRO!$E$37=\"Non-endemic\",\"Not required\",COUNTRY_INFO!V241),\"Treat with IVM\")","v":"Treat with IVM"},0,0,null,0]
[{"$f":"IF(INTRO!$E$39<>\"Non-endemic\", \" \", IF(INTRO!$E$37=\"Non-endemic\",\" \", IF(COUNTRY_INFO!A242=0,\" \",COUNTRY_INFO!A242)))","v":" "},{"$f":"IF(INTRO!$E$39<>\"Non-endemic\", \" \", IF(INTRO!$E$37=\"Non-endemic\",\" \", IF(COUNTRY_INFO!B242=0,\" \",COUNTRY_INFO!B242)))","v":" "},{"$f":"IF(INTRO!$E$39<>\"Non-endemic\", \" \", IF(INTRO!$E$37=\"Non-endemic\",\" \", IF(COUNTRY_INFO!C242=0,\" \",COUNTRY_INFO!C242)))","v":" "},{"$f":"IF(INTRO!$E$39<>\"Non-endemic\", 0, IF(INTRO!$E$37=\"Non-endemic\",0,IF(COUNTRY_INFO!$H242=1,COUNTRY_INFO!E242,0)))","v":0},{"$f":"IF(INTRO!$E$39<>\"Non-endemic\", 0, IF(INTRO!$E$37=\"Non-endemic\",0,IF(COUNTRY_INFO!$H242=1,COUNTRY_INFO!F242,0)))","v":0},{"$f":"IF(INTRO!$E$39<>\"Non-endemic\", 0, IF(INTRO!$E$37=\"Non-endemic\",0,IF(COUNTRY_INFO!$H242=1,COUNTRY_INFO!G242,0)))","v":0},0,{"$f":"IF(INTRO!$E$39=\"Non-endemic\",IF(INTRO!$E$37=\"Non-endemic\",\"Not required\",COUNTRY_INFO!V242),\"Treat with IVM\")","v":"Treat with IVM"},0,0,null,0]
[{"$f":"IF(INTRO!$E$39<>\"Non-endemic\", \" \", IF(INTRO!$E$37=\"Non-endemic\",\" \", IF(COUNTRY_INFO!A243=0,\" \",COUNTRY_INFO!A243)))","v":" "},{"$f":"IF(INTRO!$E$39<>\"Non-endemic\", \" \", IF(INTRO!$E$37=\"Non-endemic\",\" \", IF(COUNTRY_INFO!B243=0,\" \",COUNTRY_INFO!B243)))","v":" "},{"$f":"IF(INTRO!$E$39<>\"Non-endemic\", \" \", IF(INTRO!$E$37=\"Non-endemic\",\" \", IF(COUNTRY_INFO!C243=0,\" \",COUNTRY_INFO!C243)))","v":" "},{"$f":"IF(INTRO!$E$39<>\"Non-endemic\", 0, IF(INTRO!$E$37=\"Non-endemic\",0,IF(COUNTRY_INFO!$H243=1,COUNTRY_INFO!E243,0)))","v":0},{"$f":"IF(INTRO!$E$39<>\"Non-endemic\", 0, IF(INTRO!$E$37=\"Non-endemic\",0,IF(COUNTRY_INFO!$H243=1,COUNTRY_INFO!F243,0)))","v":0},{"$f":"IF(INTRO!$E$39<>\"Non-endemic\", 0, IF(INTRO!$E$37=\"Non-endemic\",0,IF(COUNTRY_INFO!$H243=1,COUNTRY_INFO!G243,0)))","v":0},0,{"$f":"IF(INTRO!$E$39=\"Non-endemic\",IF(INTRO!$E$37=\"Non-endemic\",\"Not required\",COUNTRY_INFO!V243),\"Treat with IVM\")","v":"Treat with IVM"},0,0,null,0]
[{"$f":"IF(INTRO!$E$39<>\"Non-endemic\", \" \", IF(INTRO!$E$37=\"Non-endemic\",\" \", IF(COUNTRY_INFO!A244=0,\" \",COUNTRY_INFO!A244)))","v":" "},{"$f":"IF(INTRO!$E$39<>\"Non-endemic\", \" \", IF(INTRO!$E$37=\"Non-endemic\",\" \", IF(COUNTRY_INFO!B244=0,\" \",COUNTRY_INFO!B244)))","v":" "},{"$f":"IF(INTRO!$E$39<>\"Non-endemic\", \" \", IF(INTRO!$E$37=\"Non-endemic\",\" \", IF(COUNTRY_INFO!C244=0,\" \",COUNTRY_INFO!C244)))","v":" "},{"$f":"IF(INTRO!$E$39<>\"Non-endemic\", 0, IF(INTRO!$E$37=\"Non-endemic\",0,IF(COUNTRY_INFO!$H244=1,COUNTRY_INFO!E244,0)))","v":0},{"$f":"IF(INTRO!$E$39<>\"Non-endemic\", 0, IF(INTRO!$E$37=\"Non-endemic\",0,IF(COUNTRY_INFO!$H244=1,COUNTRY_INFO!F244,0)))","v":0},{"$f":"IF(INTRO!$E$39<>\"Non-endemic\", 0, IF(INTRO!$E$37=\"Non-endemic\",0,IF(COUNTRY_INFO!$H244=1,COUNTRY_INFO!G244,0)))","v":0},0,{"$f":"IF(INTRO!$E$39=\"Non-endemic\",IF(INTRO!$E$37=\"Non-endemic\",\"Not required\",COUNTRY_INFO!V244),\"Treat with IVM\")","v":"Treat with IVM"},0,0,null,0]
[{"$f":"IF(INTRO!$E$39<>\"Non-endemic\", \" \", IF(INTRO!$E$37=\"Non-endemic\",\" \", IF(COUNTRY_INFO!A245=0,\" \",COUNTRY_INFO!A245)))","v":" "},{"$f":"IF(INTRO!$E$39<>\"Non-endemic\", \" \", IF(INTRO!$E$37=\"Non-endemic\",\" \", IF(COUNTRY_INFO!B245=0,\" \",COUNTRY_INFO!B245)))","v":" "},{"$f":"IF(INTRO!$E$39<>\"Non-endemic\", \" \", IF(INTRO!$E$37=\"Non-endemic\",\" \", IF(COUNTRY_INFO!C245=0,\" \",COUNTRY_INFO!C245)))","v":" "},{"$f":"IF(INTRO!$E$39<>\"Non-endemic\", 0, IF(INTRO!$E$37=\"Non-endemic\",0,IF(COUNTRY_INFO!$H245=1,COUNTRY_INFO!E245,0)))","v":0},{"$f":"IF(INTRO!$E$39<>\"Non-endemic\", 0, IF(INTRO!$E$37=\"Non-endemic\",0,IF(COUNTRY_INFO!$H245=1,COUNTRY_INFO!F245,0)))","v":0},{"$f":"IF(INTRO!$E$39<>\"Non-endemic\", 0, IF(INTRO!$E$37=\"Non-endemic\",0,IF(COUNTRY_INFO!$H245=1,COUNTRY_INFO!G245,0)))","v":0},0,{"$f":"IF(INTRO!$E$39=\"Non-endemic\",IF(INTRO!$E$37=\"Non-endemic\",\"Not required\",COUNTRY_INFO!V245),\"Treat with IVM\")","v":"Treat with IVM"},0,0,null,0]
[{"$f":"IF(INTRO!$E$39<>\"Non-endemic\", \" \", IF(INTRO!$E$37=\"Non-endemic\",\" \", IF(COUNTRY_INFO!A246=0,\" \",COUNTRY_INFO!A246)))","v":" "},{"$f":"IF(INTRO!$E$39<>\"Non-endemic\", \" \", IF(INTRO!$E$37=\"Non-endemic\",\" \", IF(COUNTRY_INFO!B246=0,\" \",COUNTRY_INFO!B246)))","v":" "},{"$f":"IF(INTRO!$E$39<>\"Non-endemic\", \" \", IF(INTRO!$E$37=\"Non-endemic\",\" \", IF(COUNTRY_INFO!C246=0,\" \",COUNTRY_INFO!C246)))","v":" "},{"$f":"IF(INTRO!$E$39<>\"Non-endemic\", 0, IF(INTRO!$E$37=\"Non-endemic\",0,IF(COUNTRY_INFO!$H246=1,COUNTRY_INFO!E246,0)))","v":0},{"$f":"IF(INTRO!$E$39<>\"Non-endemic\", 0, IF(INTRO!$E$37=\"Non-endemic\",0,IF(COUNTRY_INFO!$H246=1,COUNTRY_INFO!F246,0)))","v":0},{"$f":"IF(INTRO!$E$39<>\"Non-endemic\", 0, IF(INTRO!$E$37=\"Non-endemic\",0,IF(COUNTRY_INFO!$H246=1,COUNTRY_INFO!G246,0)))","v":0},0,{"$f":"IF(INTRO!$E$39=\"Non-endemic\",IF(INTRO!$E$37=\"Non-endemic\",\"Not required\",COUNTRY_INFO!V246),\"Treat with IVM\")","v":"Treat with IVM"},0,0,null,0]
[{"$f":"IF(INTRO!$E$39<>\"Non-endemic\", \" \", IF(INTRO!$E$37=\"Non-endemic\",\" \", IF(COUNTRY_INFO!A247=0,\" \",COUNTRY_INFO!A247)))","v":" "},{"$f":"IF(INTRO!$E$39<>\"Non-endemic\", \" \", IF(INTRO!$E$37=\"Non-endemic\",\" \", IF(COUNTRY_INFO!B247=0,\" \",COUNTRY_INFO!B247)))","v":" "},{"$f":"IF(INTRO!$E$39<>\"Non-endemic\", \" \", IF(INTRO!$E$37=\"Non-endemic\",\" \", IF(COUNTRY_INFO!C247=0,\" \",COUNTRY_INFO!C247)))","v":" "},{"$f":"IF(INTRO!$E$39<>\"Non-endemic\", 0, IF(INTRO!$E$37=\"Non-endemic\",0,IF(COUNTRY_INFO!$H247=1,COUNTRY_INFO!E247,0)))","v":0},{"$f":"IF(INTRO!$E$39<>\"Non-endemic\", 0, IF(INTRO!$E$37=\"Non-endemic\",0,IF(COUNTRY_INFO!$H247=1,COUNTRY_INFO!F247,0)))","v":0},{"$f":"IF(INTRO!$E$39<>\"Non-endemic\", 0, IF(INTRO!$E$37=\"Non-endemic\",0,IF(COUNTRY_INFO!$H247=1,COUNTRY_INFO!G247,0)))","v":0},0,{"$f":"IF(INTRO!$E$39=\"Non-endemic\",IF(INTRO!$E$37=\"Non-endemic\",\"Not required\",COUNTRY_INFO!V247),\"Treat with IVM\")","v":"Treat with IVM"},0,0,null,0]
[{"$f":"IF(INTRO!$E$39<>\"Non-endemic\", \" \", IF(INTRO!$E$37=\"Non-endemic\",\" \", IF(COUNTRY_INFO!A248=0,\" \",COUNTRY_INFO!A248)))","v":" "},{"$f":"IF(INTRO!$E$39<>\"Non-endemic\", \" \", IF(INTRO!$E$37=\"Non-endemic\",\" \", IF(COUNTRY_INFO!B248=0,\" \",COUNTRY_INFO!B248)))","v":" "},{"$f":"IF(INTRO!$E$39<>\"Non-endemic\", \" \", IF(INTRO!$E$37=\"Non-endemic\",\" \", IF(COUNTRY_INFO!C248=0,\" \",COUNTRY_INFO!C248)))","v":" "},{"$f":"IF(INTRO!$E$39<>\"Non-endemic\", 0, IF(INTRO!$E$37=\"Non-endemic\",0,IF(COUNTRY_INFO!$H248=1,COUNTRY_INFO!E248,0)))","v":0},{"$f":"IF(INTRO!$E$39<>\"Non-endemic\", 0, IF(INTRO!$E$37=\"Non-endemic\",0,IF(COUNTRY_INFO!$H248=1,COUNTRY_INFO!F248,0)))","v":0},{"$f":"IF(INTRO!$E$39<>\"Non-endemic\", 0, IF(INTRO!$E$37=\"Non-endemic\",0,IF(COUNTRY_INFO!$H248=1,COUNTRY_INFO!G248,0)))","v":0},0,{"$f":"IF(INTRO!$E$39=\"Non-endemic\",IF(INTRO!$E$37=\"Non-endemic\",\"Not required\",COUNTRY_INFO!V248),\"Treat with IVM\")","v":"Treat with IVM"},0,0,null,0]
[{"$f":"IF(INTRO!$E$39<>\"Non-endemic\", \" \", IF(INTRO!$E$37=\"Non-endemic\",\" \", IF(COUNTRY_INFO!A249=0,\" \",COUNTRY_INFO!A249)))","v":" "},{"$f":"IF(INTRO!$E$39<>\"Non-endemic\", \" \", IF(INTRO!$E$37=\"Non-endemic\",\" \", IF(COUNTRY_INFO!B249=0,\" \",COUNTRY_INFO!B249)))","v":" "},{"$f":"IF(INTRO!$E$39<>\"Non-endemic\", \" \", IF(INTRO!$E$37=\"Non-endemic\",\" \", IF(COUNTRY_INFO!C249=0,\" \",COUNTRY_INFO!C249)))","v":" "},{"$f":"IF(INTRO!$E$39<>\"Non-endemic\", 0, IF(INTRO!$E$37=\"Non-endemic\",0,IF(COUNTRY_INFO!$H249=1,COUNTRY_INFO!E249,0)))","v":0},{"$f":"IF(INTRO!$E$39<>\"Non-endemic\", 0, IF(INTRO!$E$37=\"Non-endemic\",0,IF(COUNTRY_INFO!$H249=1,COUNTRY_INFO!F249,0)))","v":0},{"$f":"IF(INTRO!$E$39<>\"Non-endemic\", 0, IF(INTRO!$E$37=\"Non-endemic\",0,IF(COUNTRY_INFO!$H249=1,COUNTRY_INFO!G249,0)))","v":0},0,{"$f":"IF(INTRO!$E$39=\"Non-endemic\",IF(INTRO!$E$37=\"Non-endemic\",\"Not required\",COUNTRY_INFO!V249),\"Treat with IVM\")","v":"Treat with IVM"},0,0,null,0]
[{"$f":"IF(INTRO!$E$39<>\"Non-endemic\", \" \", IF(INTRO!$E$37=\"Non-endemic\",\" \", IF(COUNTRY_INFO!A250=0,\" \",COUNTRY_INFO!A250)))","v":" "},{"$f":"IF(INTRO!$E$39<>\"Non-endemic\", \" \", IF(INTRO!$E$37=\"Non-endemic\",\" \", IF(COUNTRY_INFO!B250=0,\" \",COUNTRY_INFO!B250)))","v":" "},{"$f":"IF(INTRO!$E$39<>\"Non-endemic\", \" \", IF(INTRO!$E$37=\"Non-endemic\",\" \", IF(COUNTRY_INFO!C250=0,\" \",COUNTRY_INFO!C250)))","v":" "},{"$f":"IF(INTRO!$E$39<>\"Non-endemic\", 0, IF(INTRO!$E$37=\"Non-endemic\",0,IF(COUNTRY_INFO!$H250=1,COUNTRY_INFO!E250,0)))","v":0},{"$f":"IF(INTRO!$E$39<>\"Non-endemic\", 0, IF(INTRO!$E$37=\"Non-endemic\",0,IF(COUNTRY_INFO!$H250=1,COUNTRY_INFO!F250,0)))","v":0},{"$f":"IF(INTRO!$E$39<>\"Non-endemic\", 0, IF(INTRO!$E$37=\"Non-endemic\",0,IF(COUNTRY_INFO!$H250=1,COUNTRY_INFO!G250,0)))","v":0},0,{"$f":"IF(INTRO!$E$39=\"Non-endemic\",IF(INTRO!$E$37=\"Non-endemic\",\"Not required\",COUNTRY_INFO!V250),\"Treat with IVM\")","v":"Treat with IVM"},0,0,null,0]
[{"$f":"IF(INTRO!$E$39<>\"Non-endemic\", \" \", IF(INTRO!$E$37=\"Non-endemic\",\" \", IF(COUNTRY_INFO!A251=0,\" \",COUNTRY_INFO!A251)))","v":" "},{"$f":"IF(INTRO!$E$39<>\"Non-endemic\", \" \", IF(INTRO!$E$37=\"Non-endemic\",\" \", IF(COUNTRY_INFO!B251=0,\" \",COUNTRY_INFO!B251)))","v":" "},{"$f":"IF(INTRO!$E$39<>\"Non-endemic\", \" \", IF(INTRO!$E$37=\"Non-endemic\",\" \", IF(COUNTRY_INFO!C251=0,\" \",COUNTRY_INFO!C251)))","v":" "},{"$f":"IF(INTRO!$E$39<>\"Non-endemic\", 0, IF(INTRO!$E$37=\"Non-endemic\",0,IF(COUNTRY_INFO!$H251=1,COUNTRY_INFO!E251,0)))","v":0},{"$f":"IF(INTRO!$E$39<>\"Non-endemic\", 0, IF(INTRO!$E$37=\"Non-endemic\",0,IF(COUNTRY_INFO!$H251=1,COUNTRY_INFO!F251,0)))","v":0},{"$f":"IF(INTRO!$E$39<>\"Non-endemic\", 0, IF(INTRO!$E$37=\"Non-endemic\",0,IF(COUNTRY_INFO!$H251=1,COUNTRY_INFO!G251,0)))","v":0},0,{"$f":"IF(INTRO!$E$39=\"Non-endemic\",IF(INTRO!$E$37=\"Non-endemic\",\"Not required\",COUNTRY_INFO!V251),\"Treat with IVM\")","v":"Treat with IVM"},0,0,null,0]
[{"$f":"IF(INTRO!$E$39<>\"Non-endemic\", \" \", IF(INTRO!$E$37=\"Non-endemic\",\" \", IF(COUNTRY_INFO!A252=0,\" \",COUNTRY_INFO!A252)))","v":" "},{"$f":"IF(INTRO!$E$39<>\"Non-endemic\", \" \", IF(INTRO!$E$37=\"Non-endemic\",\" \", IF(COUNTRY_INFO!B252=0,\" \",COUNTRY_INFO!B252)))","v":" "},{"$f":"IF(INTRO!$E$39<>\"Non-endemic\", \" \", IF(INTRO!$E$37=\"Non-endemic\",\" \", IF(COUNTRY_INFO!C252=0,\" \",COUNTRY_INFO!C252)))","v":" "},{"$f":"IF(INTRO!$E$39<>\"Non-endemic\", 0, IF(INTRO!$E$37=\"Non-endemic\",0,IF(COUNTRY_INFO!$H252=1,COUNTRY_INFO!E252,0)))","v":0},{"$f":"IF(INTRO!$E$39<>\"Non-endemic\", 0, IF(INTRO!$E$37=\"Non-endemic\",0,IF(COUNTRY_INFO!$H252=1,COUNTRY_INFO!F252,0)))","v":0},{"$f":"IF(INTRO!$E$39<>\"Non-endemic\", 0, IF(INTRO!$E$37=\"Non-endemic\",0,IF(COUNTRY_INFO!$H252=1,COUNTRY_INFO!G252,0)))","v":0},0,{"$f":"IF(INTRO!$E$39=\"Non-endemic\",IF(INTRO!$E$37=\"Non-endemic\",\"Not required\",COUNTRY_INFO!V252),\"Treat with IVM\")","v":"Treat with IVM"},0,0,null,0]
[{"$f":"IF(INTRO!$E$39<>\"Non-endemic\", \" \", IF(INTRO!$E$37=\"Non-endemic\",\" \", IF(COUNTRY_INFO!A253=0,\" \",COUNTRY_INFO!A253)))","v":" "},{"$f":"IF(INTRO!$E$39<>\"Non-endemic\", \" \", IF(INTRO!$E$37=\"Non-endemic\",\" \", IF(COUNTRY_INFO!B253=0,\" \",COUNTRY_INFO!B253)))","v":" "},{"$f":"IF(INTRO!$E$39<>\"Non-endemic\", \" \", IF(INTRO!$E$37=\"Non-endemic\",\" \", IF(COUNTRY_INFO!C253=0,\" \",COUNTRY_INFO!C253)))","v":" "},{"$f":"IF(INTRO!$E$39<>\"Non-endemic\", 0, IF(INTRO!$E$37=\"Non-endemic\",0,IF(COUNTRY_INFO!$H253=1,COUNTRY_INFO!E253,0)))","v":0},{"$f":"IF(INTRO!$E$39<>\"Non-endemic\", 0, IF(INTRO!$E$37=\"Non-endemic\",0,IF(COUNTRY_INFO!$H253=1,COUNTRY_INFO!F253,0)))","v":0},{"$f":"IF(INTRO!$E$39<>\"Non-endemic\", 0, IF(INTRO!$E$37=\"Non-endemic\",0,IF(COUNTRY_INFO!$H253=1,COUNTRY_INFO!G253,0)))","v":0},0,{"$f":"IF(INTRO!$E$39=\"Non-endemic\",IF(INTRO!$E$37=\"Non-endemic\",\"Not required\",COUNTRY_INFO!V253),\"Treat with IVM\")","v":"Treat with IVM"},0,0,null,0]
[{"$f":"IF(INTRO!$E$39<>\"Non-endemic\", \" \", IF(INTRO!$E$37=\"Non-endemic\",\" \", IF(COUNTRY_INFO!A254=0,\" \",COUNTRY_INFO!A254)))","v":" "},{"$f":"IF(INTRO!$E$39<>\"Non-endemic\", \" \", IF(INTRO!$E$37=\"Non-endemic\",\" \", IF(COUNTRY_INFO!B254=0,\" \",COUNTRY_INFO!B254)))","v":" "},{"$f":"IF(INTRO!$E$39<>\"Non-endemic\", \" \", IF(INTRO!$E$37=\"Non-endemic\",\" \", IF(COUNTRY_INFO!C254=0,\" \",COUNTRY_INFO!C254)))","v":" "},{"$f":"IF(INTRO!$E$39<>\"Non-endemic\", 0, IF(INTRO!$E$37=\"Non-endemic\",0,IF(COUNTRY_INFO!$H254=1,COUNTRY_INFO!E254,0)))","v":0},{"$f":"IF(INTRO!$E$39<>\"Non-endemic\", 0, IF(INTRO!$E$37=\"Non-endemic\",0,IF(COUNTRY_INFO!$H254=1,COUNTRY_INFO!F254,0)))","v":0},{"$f":"IF(INTRO!$E$39<>\"Non-endemic\", 0, IF(INTRO!$E$37=\"Non-endemic\",0,IF(COUNTRY_INFO!$H254=1,COUNTRY_INFO!G254,0)))","v":0},0,{"$f":"IF(INTRO!$E$39=\"Non-endemic\",IF(INTRO!$E$37=\"Non-endemic\",\"Not required\",COUNTRY_INFO!V254),\"Treat with IVM\")","v":"Treat with IVM"},0,0,null,0]
[{"$f":"IF(INTRO!$E$39<>\"Non-endemic\", \" \", IF(INTRO!$E$37=\"Non-endemic\",\" \", IF(COUNTRY_INFO!A255=0,\" \",COUNTRY_INFO!A255)))","v":" "},{"$f":"IF(INTRO!$E$39<>\"Non-endemic\", \" \", IF(INTRO!$E$37=\"Non-endemic\",\" \", IF(COUNTRY_INFO!B255=0,\" \",COUNTRY_INFO!B255)))","v":" "},{"$f":"IF(INTRO!$E$39<>\"Non-endemic\", \" \", IF(INTRO!$E$37=\"Non-endemic\",\" \", IF(COUNTRY_INFO!C255=0,\" \",COUNTRY_INFO!C255)))","v":" "},{"$f":"IF(INTRO!$E$39<>\"Non-endemic\", 0, IF(INTRO!$E$37=\"Non-endemic\",0,IF(COUNTRY_INFO!$H255=1,COUNTRY_INFO!E255,0)))","v":0},{"$f":"IF(INTRO!$E$39<>\"Non-endemic\", 0, IF(INTRO!$E$37=\"Non-endemic\",0,IF(COUNTRY_INFO!$H255=1,COUNTRY_INFO!F255,0)))","v":0},{"$f":"IF(INTRO!$E$39<>\"Non-endemic\", 0, IF(INTRO!$E$37=\"Non-endemic\",0,IF(COUNTRY_INFO!$H255=1,COUNTRY_INFO!G255,0)))","v":0},0,{"$f":"IF(INTRO!$E$39=\"Non-endemic\",IF(INTRO!$E$37=\"Non-endemic\",\"Not required\",COUNTRY_INFO!V255),\"Treat with IVM\")","v":"Treat with IVM"},0,0,null,0]
[{"$f":"IF(INTRO!$E$39<>\"Non-endemic\", \" \", IF(INTRO!$E$37=\"Non-endemic\",\" \", IF(COUNTRY_INFO!A256=0,\" \",COUNTRY_INFO!A256)))","v":" "},{"$f":"IF(INTRO!$E$39<>\"Non-endemic\", \" \", IF(INTRO!$E$37=\"Non-endemic\",\" \", IF(COUNTRY_INFO!B256=0,\" \",COUNTRY_INFO!B256)))","v":" "},{"$f":"IF(INTRO!$E$39<>\"Non-endemic\", \" \", IF(INTRO!$E$37=\"Non-endemic\",\" \", IF(COUNTRY_INFO!C256=0,\" \",COUNTRY_INFO!C256)))","v":" "},{"$f":"IF(INTRO!$E$39<>\"Non-endemic\", 0, IF(INTRO!$E$37=\"Non-endemic\",0,IF(COUNTRY_INFO!$H256=1,COUNTRY_INFO!E256,0)))","v":0},{"$f":"IF(INTRO!$E$39<>\"Non-endemic\", 0, IF(INTRO!$E$37=\"Non-endemic\",0,IF(COUNTRY_INFO!$H256=1,COUNTRY_INFO!F256,0)))","v":0},{"$f":"IF(INTRO!$E$39<>\"Non-endemic\", 0, IF(INTRO!$E$37=\"Non-endemic\",0,IF(COUNTRY_INFO!$H256=1,COUNTRY_INFO!G256,0)))","v":0},0,{"$f":"IF(INTRO!$E$39=\"Non-endemic\",IF(INTRO!$E$37=\"Non-endemic\",\"Not required\",COUNTRY_INFO!V256),\"Treat with IVM\")","v":"Treat with IVM"},0,0,null,0]
[{"$f":"IF(INTRO!$E$39<>\"Non-endemic\", \" \", IF(INTRO!$E$37=\"Non-endemic\",\" \", IF(COUNTRY_INFO!A257=0,\" \",COUNTRY_INFO!A257)))","v":" "},{"$f":"IF(INTRO!$E$39<>\"Non-endemic\", \" \", IF(INTRO!$E$37=\"Non-endemic\",\" \", IF(COUNTRY_INFO!B257=0,\" \",COUNTRY_INFO!B257)))","v":" "},{"$f":"IF(INTRO!$E$39<>\"Non-endemic\", \" \", IF(INTRO!$E$37=\"Non-endemic\",\" \", IF(COUNTRY_INFO!C257=0,\" \",COUNTRY_INFO!C257)))","v":" "},{"$f":"IF(INTRO!$E$39<>\"Non-endemic\", 0, IF(INTRO!$E$37=\"Non-endemic\",0,IF(COUNTRY_INFO!$H257=1,COUNTRY_INFO!E257,0)))","v":0},{"$f":"IF(INTRO!$E$39<>\"Non-endemic\", 0, IF(INTRO!$E$37=\"Non-endemic\",0,IF(COUNTRY_INFO!$H257=1,COUNTRY_INFO!F257,0)))","v":0},{"$f":"IF(INTRO!$E$39<>\"Non-endemic\", 0, IF(INTRO!$E$37=\"Non-endemic\",0,IF(COUNTRY_INFO!$H257=1,COUNTRY_INFO!G257,0)))","v":0},0,{"$f":"IF(INTRO!$E$39=\"Non-endemic\",IF(INTRO!$E$37=\"Non-endemic\",\"Not required\",COUNTRY_INFO!V257),\"Treat with IVM\")","v":"Treat with IVM"},0,0,null,0]
[{"$f":"IF(INTRO!$E$39<>\"Non-endemic\", \" \", IF(INTRO!$E$37=\"Non-endemic\",\" \", IF(COUNTRY_INFO!A258=0,\" \",COUNTRY_INFO!A258)))","v":" "},{"$f":"IF(INTRO!$E$39<>\"Non-endemic\", \" \", IF(INTRO!$E$37=\"Non-endemic\",\" \", IF(COUNTRY_INFO!B258=0,\" \",COUNTRY_INFO!B258)))","v":" "},{"$f":"IF(INTRO!$E$39<>\"Non-endemic\", \" \", IF(INTRO!$E$37=\"Non-endemic\",\" \", IF(COUNTRY_INFO!C258=0,\" \",COUNTRY_INFO!C258)))","v":" "},{"$f":"IF(INTRO!$E$39<>\"Non-endemic\", 0, IF(INTRO!$E$37=\"Non-endemic\",0,IF(COUNTRY_INFO!$H258=1,COUNTRY_INFO!E258,0)))","v":0},{"$f":"IF(INTRO!$E$39<>\"Non-endemic\", 0, IF(INTRO!$E$37=\"Non-endemic\",0,IF(COUNTRY_INFO!$H258=1,COUNTRY_INFO!F258,0)))","v":0},{"$f":"IF(INTRO!$E$39<>\"Non-endemic\", 0, IF(INTRO!$E$37=\"Non-endemic\",0,IF(COUNTRY_INFO!$H258=1,COUNTRY_INFO!G258,0)))","v":0},0,{"$f":"IF(INTRO!$E$39=\"Non-endemic\",IF(INTRO!$E$37=\"Non-endemic\",\"Not required\",COUNTRY_INFO!V258),\"Treat with IVM\")","v":"Treat with IVM"},0,0,null,0]
[{"$f":"IF(INTRO!$E$39<>\"Non-endemic\", \" \", IF(INTRO!$E$37=\"Non-endemic\",\" \", IF(COUNTRY_INFO!A259=0,\" \",COUNTRY_INFO!A259)))","v":" "},{"$f":"IF(INTRO!$E$39<>\"Non-endemic\", \" \", IF(INTRO!$E$37=\"Non-endemic\",\" \", IF(COUNTRY_INFO!B259=0,\" \",COUNTRY_INFO!B259)))","v":" "},{"$f":"IF(INTRO!$E$39<>\"Non-endemic\", \" \", IF(INTRO!$E$37=\"Non-endemic\",\" \", IF(COUNTRY_INFO!C259=0,\" \",COUNTRY_INFO!C259)))","v":" "},{"$f":"IF(INTRO!$E$39<>\"Non-endemic\", 0, IF(INTRO!$E$37=\"Non-endemic\",0,IF(COUNTRY_INFO!$H259=1,COUNTRY_INFO!E259,0)))","v":0},{"$f":"IF(INTRO!$E$39<>\"Non-endemic\", 0, IF(INTRO!$E$37=\"Non-endemic\",0,IF(COUNTRY_INFO!$H259=1,COUNTRY_INFO!F259,0)))","v":0},{"$f":"IF(INTRO!$E$39<>\"Non-endemic\", 0, IF(INTRO!$E$37=\"Non-endemic\",0,IF(COUNTRY_INFO!$H259=1,COUNTRY_INFO!G259,0)))","v":0},0,{"$f":"IF(INTRO!$E$39=\"Non-endemic\",IF(INTRO!$E$37=\"Non-endemic\",\"Not required\",COUNTRY_INFO!V259),\"Treat with IVM\")","v":"Treat with IVM"},0,0,null,0]
[{"$f":"IF(INTRO!$E$39<>\"Non-endemic\", \" \", IF(INTRO!$E$37=\"Non-endemic\",\" \", IF(COUNTRY_INFO!A260=0,\" \",COUNTRY_INFO!A260)))","v":" "},{"$f":"IF(INTRO!$E$39<>\"Non-endemic\", \" \", IF(INTRO!$E$37=\"Non-endemic\",\" \", IF(COUNTRY_INFO!B260=0,\" \",COUNTRY_INFO!B260)))","v":" "},{"$f":"IF(INTRO!$E$39<>\"Non-endemic\", \" \", IF(INTRO!$E$37=\"Non-endemic\",\" \", IF(COUNTRY_INFO!C260=0,\" \",COUNTRY_INFO!C260)))","v":" "},{"$f":"IF(INTRO!$E$39<>\"Non-endemic\", 0, IF(INTRO!$E$37=\"Non-endemic\",0,IF(COUNTRY_INFO!$H260=1,COUNTRY_INFO!E260,0)))","v":0},{"$f":"IF(INTRO!$E$39<>\"Non-endemic\", 0, IF(INTRO!$E$37=\"Non-endemic\",0,IF(COUNTRY_INFO!$H260=1,COUNTRY_INFO!F260,0)))","v":0},{"$f":"IF(INTRO!$E$39<>\"Non-endemic\", 0, IF(INTRO!$E$37=\"Non-endemic\",0,IF(COUNTRY_INFO!$H260=1,COUNTRY_INFO!G260,0)))","v":0},0,{"$f":"IF(INTRO!$E$39=\"Non-endemic\",IF(INTRO!$E$37=\"Non-endemic\",\"Not required\",COUNTRY_INFO!V260),\"Treat with IVM\")","v":"Treat with IVM"},0,0,null,0]
[{"$f":"IF(INTRO!$E$39<>\"Non-endemic\", \" \", IF(INTRO!$E$37=\"Non-endemic\",\" \", IF(COUNTRY_INFO!A261=0,\" \",COUNTRY_INFO!A261)))","v":" "},{"$f":"IF(INTRO!$E$39<>\"Non-endemic\", \" \", IF(INTRO!$E$37=\"Non-endemic\",\" \", IF(COUNTRY_INFO!B261=0,\" \",COUNTRY_INFO!B261)))","v":" "},{"$f":"IF(INTRO!$E$39<>\"Non-endemic\", \" \", IF(INTRO!$E$37=\"Non-endemic\",\" \", IF(COUNTRY_INFO!C261=0,\" \",COUNTRY_INFO!C261)))","v":" "},{"$f":"IF(INTRO!$E$39<>\"Non-endemic\", 0, IF(INTRO!$E$37=\"Non-endemic\",0,IF(COUNTRY_INFO!$H261=1,COUNTRY_INFO!E261,0)))","v":0},{"$f":"IF(INTRO!$E$39<>\"Non-endemic\", 0, IF(INTRO!$E$37=\"Non-endemic\",0,IF(COUNTRY_INFO!$H261=1,COUNTRY_INFO!F261,0)))","v":0},{"$f":"IF(INTRO!$E$39<>\"Non-endemic\", 0, IF(INTRO!$E$37=\"Non-endemic\",0,IF(COUNTRY_INFO!$H261=1,COUNTRY_INFO!G261,0)))","v":0},0,{"$f":"IF(INTRO!$E$39=\"Non-endemic\",IF(INTRO!$E$37=\"Non-endemic\",\"Not required\",COUNTRY_INFO!V261),\"Treat with IVM\")","v":"Treat with IVM"},0,0,null,0]
[{"$f":"IF(INTRO!$E$39<>\"Non-endemic\", \" \", IF(INTRO!$E$37=\"Non-endemic\",\" \", IF(COUNTRY_INFO!A262=0,\" \",COUNTRY_INFO!A262)))","v":" "},{"$f":"IF(INTRO!$E$39<>\"Non-endemic\", \" \", IF(INTRO!$E$37=\"Non-endemic\",\" \", IF(COUNTRY_INFO!B262=0,\" \",COUNTRY_INFO!B262)))","v":" "},{"$f":"IF(INTRO!$E$39<>\"Non-endemic\", \" \", IF(INTRO!$E$37=\"Non-endemic\",\" \", IF(COUNTRY_INFO!C262=0,\" \",COUNTRY_INFO!C262)))","v":" "},{"$f":"IF(INTRO!$E$39<>\"Non-endemic\", 0, IF(INTRO!$E$37=\"Non-endemic\",0,IF(COUNTRY_INFO!$H262=1,COUNTRY_INFO!E262,0)))","v":0},{"$f":"IF(INTRO!$E$39<>\"Non-endemic\", 0, IF(INTRO!$E$37=\"Non-endemic\",0,IF(COUNTRY_INFO!$H262=1,COUNTRY_INFO!F262,0)))","v":0},{"$f":"IF(INTRO!$E$39<>\"Non-endemic\", 0, IF(INTRO!$E$37=\"Non-endemic\",0,IF(COUNTRY_INFO!$H262=1,COUNTRY_INFO!G262,0)))","v":0},0,{"$f":"IF(INTRO!$E$39=\"Non-endemic\",IF(INTRO!$E$37=\"Non-endemic\",\"Not required\",COUNTRY_INFO!V262),\"Treat with IVM\")","v":"Treat with IVM"},0,0,null,0]
[{"$f":"IF(INTRO!$E$39<>\"Non-endemic\", \" \", IF(INTRO!$E$37=\"Non-endemic\",\" \", IF(COUNTRY_INFO!A263=0,\" \",COUNTRY_INFO!A263)))","v":" "},{"$f":"IF(INTRO!$E$39<>\"Non-endemic\", \" \", IF(INTRO!$E$37=\"Non-endemic\",\" \", IF(COUNTRY_INFO!B263=0,\" \",COUNTRY_INFO!B263)))","v":" "},{"$f":"IF(INTRO!$E$39<>\"Non-endemic\", \" \", IF(INTRO!$E$37=\"Non-endemic\",\" \", IF(COUNTRY_INFO!C263=0,\" \",COUNTRY_INFO!C263)))","v":" "},{"$f":"IF(INTRO!$E$39<>\"Non-endemic\", 0, IF(INTRO!$E$37=\"Non-endemic\",0,IF(COUNTRY_INFO!$H263=1,COUNTRY_INFO!E263,0)))","v":0},{"$f":"IF(INTRO!$E$39<>\"Non-endemic\", 0, IF(INTRO!$E$37=\"Non-endemic\",0,IF(COUNTRY_INFO!$H263=1,COUNTRY_INFO!F263,0)))","v":0},{"$f":"IF(INTRO!$E$39<>\"Non-endemic\", 0, IF(INTRO!$E$37=\"Non-endemic\",0,IF(COUNTRY_INFO!$H263=1,COUNTRY_INFO!G263,0)))","v":0},0,{"$f":"IF(INTRO!$E$39=\"Non-endemic\",IF(INTRO!$E$37=\"Non-endemic\",\"Not required\",COUNTRY_INFO!V263),\"Treat with IVM\")","v":"Treat with IVM"},0,0,null,0]
[{"$f":"IF(INTRO!$E$39<>\"Non-endemic\", \" \", IF(INTRO!$E$37=\"Non-endemic\",\" \", IF(COUNTRY_INFO!A264=0,\" \",COUNTRY_INFO!A264)))","v":" "},{"$f":"IF(INTRO!$E$39<>\"Non-endemic\", \" \", IF(INTRO!$E$37=\"Non-endemic\",\" \", IF(COUNTRY_INFO!B264=0,\" \",COUNTRY_INFO!B264)))","v":" "},{"$f":"IF(INTRO!$E$39<>\"Non-endemic\", \" \", IF(INTRO!$E$37=\"Non-endemic\",\" \", IF(COUNTRY_INFO!C264=0,\" \",COUNTRY_INFO!C264)))","v":" "},{"$f":"IF(INTRO!$E$39<>\"Non-endemic\", 0, IF(INTRO!$E$37=\"Non-endemic\",0,IF(COUNTRY_INFO!$H264=1,COUNTRY_INFO!E264,0)))","v":0},{"$f":"IF(INTRO!$E$39<>\"Non-endemic\", 0, IF(INTRO!$E$37=\"Non-endemic\",0,IF(COUNTRY_INFO!$H264=1,COUNTRY_INFO!F264,0)))","v":0},{"$f":"IF(INTRO!$E$39<>\"Non-endemic\", 0, IF(INTRO!$E$37=\"Non-endemic\",0,IF(COUNTRY_INFO!$H264=1,COUNTRY_INFO!G264,0)))","v":0},0,{"$f":"IF(INTRO!$E$39=\"Non-endemic\",IF(INTRO!$E$37=\"Non-endemic\",\"Not required\",COUNTRY_INFO!V264),\"Treat with IVM\")","v":"Treat with IVM"},0,0,null,0]
[{"$f":"IF(INTRO!$E$39<>\"Non-endemic\", \" \", IF(INTRO!$E$37=\"Non-endemic\",\" \", IF(COUNTRY_INFO!A265=0,\" \",COUNTRY_INFO!A265)))","v":" "},{"$f":"IF(INTRO!$E$39<>\"Non-endemic\", \" \", IF(INTRO!$E$37=\"Non-endemic\",\" \", IF(COUNTRY_INFO!B265=0,\" \",COUNTRY_INFO!B265)))","v":" "},{"$f":"IF(INTRO!$E$39<>\"Non-endemic\", \" \", IF(INTRO!$E$37=\"Non-endemic\",\" \", IF(COUNTRY_INFO!C265=0,\" \",COUNTRY_INFO!C265)))","v":" "},{"$f":"IF(INTRO!$E$39<>\"Non-endemic\", 0, IF(INTRO!$E$37=\"Non-endemic\",0,IF(COUNTRY_INFO!$H265=1,COUNTRY_INFO!E265,0)))","v":0},{"$f":"IF(INTRO!$E$39<>\"Non-endemic\", 0, IF(INTRO!$E$37=\"Non-endemic\",0,IF(COUNTRY_INFO!$H265=1,COUNTRY_INFO!F265,0)))","v":0},{"$f":"IF(INTRO!$E$39<>\"Non-endemic\", 0, IF(INTRO!$E$37=\"Non-endemic\",0,IF(COUNTRY_INFO!$H265=1,COUNTRY_INFO!G265,0)))","v":0},0,{"$f":"IF(INTRO!$E$39=\"Non-endemic\",IF(INTRO!$E$37=\"Non-endemic\",\"Not required\",COUNTRY_INFO!V265),\"Treat with IVM\")","v":"Treat with IVM"},0,0,null,{"$f":"IF($J265>$K265,$J265-$K265,0)","v":0}]
[{"$f":"IF(INTRO!$E$39<>\"Non-endemic\", \" \", IF(INTRO!$E$37=\"Non-endemic\",\" \", IF(COUNTRY_INFO!A266=0,\" \",COUNTRY_INFO!A266)))","v":" "},{"$f":"IF(INTRO!$E$39<>\"Non-endemic\", \" \", IF(INTRO!$E$37=\"Non-endemic\",\" \", IF(COUNTRY_INFO!B266=0,\" \",COUNTRY_INFO!B266)))","v":" "},{"$f":"IF(INTRO!$E$39<>\"Non-endemic\", \" \", IF(INTRO!$E$37=\"Non-endemic\",\" \", IF(COUNTRY_INFO!C266=0,\" \",COUNTRY_INFO!C266)))","v":" "},{"$f":"IF(INTRO!$E$39<>\"Non-endemic\", 0, IF(INTRO!$E$37=\"Non-endemic\",0,IF(COUNTRY_INFO!$H266=1,COUNTRY_INFO!E266,0)))","v":0},{"$f":"IF(INTRO!$E$39<>\"Non-endemic\", 0, IF(INTRO!$E$37=\"Non-endemic\",0,IF(COUNTRY_INFO!$H266=1,COUNTRY_INFO!F266,0)))","v":0},{"$f":"IF(INTRO!$E$39<>\"Non-endemic\", 0, IF(INTRO!$E$37=\"Non-endemic\",0,IF(COUNTRY_INFO!$H266=1,COUNTRY_INFO!G266,0)))","v":0},0,{"$f":"IF(INTRO!$E$39=\"Non-endemic\",IF(INTRO!$E$37=\"Non-endemic\",\"Not required\",COUNTRY_INFO!V266),\"Treat with IVM\")","v":"Treat with IVM"},0,0,null,0]
[{"$f":"IF(INTRO!$E$39<>\"Non-endemic\", \" \", IF(INTRO!$E$37=\"Non-endemic\",\" \", IF(COUNTRY_INFO!A267=0,\" \",COUNTRY_INFO!A267)))","v":" "},{"$f":"IF(INTRO!$E$39<>\"Non-endemic\", \" \", IF(INTRO!$E$37=\"Non-endemic\",\" \", IF(COUNTRY_INFO!B267=0,\" \",COUNTRY_INFO!B267)))","v":" "},{"$f":"IF(INTRO!$E$39<>\"Non-endemic\", \" \", IF(INTRO!$E$37=\"Non-endemic\",\" \", IF(COUNTRY_INFO!C267=0,\" \",COUNTRY_INFO!C267)))","v":" "},{"$f":"IF(INTRO!$E$39<>\"Non-endemic\", 0, IF(INTRO!$E$37=\"Non-endemic\",0,IF(COUNTRY_INFO!$H267=1,COUNTRY_INFO!E267,0)))","v":0},{"$f":"IF(INTRO!$E$39<>\"Non-endemic\", 0, IF(INTRO!$E$37=\"Non-endemic\",0,IF(COUNTRY_INFO!$H267=1,COUNTRY_INFO!F267,0)))","v":0},{"$f":"IF(INTRO!$E$39<>\"Non-endemic\", 0, IF(INTRO!$E$37=\"Non-endemic\",0,IF(COUNTRY_INFO!$H267=1,COUNTRY_INFO!G267,0)))","v":0},{"$f":"SUM(D267:F267)","v":0},{"$f":"IF(INTRO!$E$39=\"Non-endemic\",IF(INTRO!$E$37=\"Non-endemic\",\"Not required\",COUNTRY_INFO!V267),\"Treat with IVM\")","v":"Treat with IVM"},{"$f":"IF(H267=1,G267,0)","v":0},{"$f":"IF(I267>0,I267*2.5,0)","v":0},null,0]
[{"$f":"IF(INTRO!$E$39<>\"Non-endemic\", \" \", IF(INTRO!$E$37=\"Non-endemic\",\" \", IF(COUNTRY_INFO!A268=0,\" \",COUNTRY_INFO!A268)))","v":" "},{"$f":"IF(INTRO!$E$39<>\"Non-endemic\", \" \", IF(INTRO!$E$37=\"Non-endemic\",\" \", IF(COUNTRY_INFO!B268=0,\" \",COUNTRY_INFO!B268)))","v":" "},{"$f":"IF(INTRO!$E$39<>\"Non-endemic\", \" \", IF(INTRO!$E$37=\"Non-endemic\",\" \", IF(COUNTRY_INFO!C268=0,\" \",COUNTRY_INFO!C268)))","v":" "},{"$f":"IF(INTRO!$E$39<>\"Non-endemic\", 0, IF(INTRO!$E$37=\"Non-endemic\",0,IF(COUNTRY_INFO!$H268=1,COUNTRY_INFO!E268,0)))","v":0},{"$f":"IF(INTRO!$E$39<>\"Non-endemic\", 0, IF(INTRO!$E$37=\"Non-endemic\",0,IF(COUNTRY_INFO!$H268=1,COUNTRY_INFO!F268,0)))","v":0},{"$f":"IF(INTRO!$E$39<>\"Non-endemic\", 0, IF(INTRO!$E$37=\"Non-endemic\",0,IF(COUNTRY_INFO!$H268=1,COUNTRY_INFO!G268,0)))","v":0},0,{"$f":"IF(INTRO!$E$39=\"Non-endemic\",IF(INTRO!$E$37=\"Non-endemic\",\"Not required\",COUNTRY_INFO!V268),\"Treat with IVM\")","v":"Treat with IVM"},0,0,null,0]
[{"$f":"IF(INTRO!$E$39<>\"Non-endemic\", \" \", IF(INTRO!$E$37=\"Non-endemic\",\" \", IF(COUNTRY_INFO!A269=0,\" \",COUNTRY_INFO!A269)))","v":" "},{"$f":"IF(INTRO!$E$39<>\"Non-endemic\", \" \", IF(INTRO!$E$37=\"Non-endemic\",\" \", IF(COUNTRY_INFO!B269=0,\" \",COUNTRY_INFO!B269)))","v":" "},{"$f":"IF(INTRO!$E$39<>\"Non-endemic\", \" \", IF(INTRO!$E$37=\"Non-endemic\",\" \", IF(COUNTRY_INFO!C269=0,\" \",COUNTRY_INFO!C269)))","v":" "},{"$f":"IF(INTRO!$E$39<>\"Non-endemic\", 0, IF(INTRO!$E$37=\"Non-endemic\",0,IF(COUNTRY_INFO!$H269=1,COUNTRY_INFO!E269,0)))","v":0},{"$f":"IF(INTRO!$E$39<>\"Non-endemic\", 0, IF(INTRO!$E$37=\"Non-endemic\",0,IF(COUNTRY_INFO!$H269=1,COUNTRY_INFO!F269,0)))","v":0},{"$f":"IF(INTRO!$E$39<>\"Non-endemic\", 0, IF(INTRO!$E$37=\"Non-endemic\",0,IF(COUNTRY_INFO!$H269=1,COUNTRY_INFO!G269,0)))","v":0},0,{"$f":"IF(INTRO!$E$39=\"Non-endemic\",IF(INTRO!$E$37=\"Non-endemic\",\"Not required\",COUNTRY_INFO!V269),\"Treat with IVM\")","v":"Treat with IVM"},0,0,null,0]
[{"$f":"IF(INTRO!$E$39<>\"Non-endemic\", \" \", IF(INTRO!$E$37=\"Non-endemic\",\" \", IF(COUNTRY_INFO!A270=0,\" \",COUNTRY_INFO!A270)))","v":" "},{"$f":"IF(INTRO!$E$39<>\"Non-endemic\", \" \", IF(INTRO!$E$37=\"Non-endemic\",\" \", IF(COUNTRY_INFO!B270=0,\" \",COUNTRY_INFO!B270)))","v":" "},{"$f":"IF(INTRO!$E$39<>\"Non-endemic\", \" \", IF(INTRO!$E$37=\"Non-endemic\",\" \", IF(COUNTRY_INFO!C270=0,\" \",COUNTRY_INFO!C270)))","v":" "},{"$f":"IF(INTRO!$E$39<>\"Non-endemic\", 0, IF(INTRO!$E$37=\"Non-endemic\",0,IF(COUNTRY_INFO!$H270=1,COUNTRY_INFO!E270,0)))","v":0},{"$f":"IF(INTRO!$E$39<>\"Non-endemic\", 0, IF(INTRO!$E$37=\"Non-endemic\",0,IF(COUNTRY_INFO!$H270=1,COUNTRY_INFO!F270,0)))","v":0},{"$f":"IF(INTRO!$E$39<>\"Non-endemic\", 0, IF(INTRO!$E$37=\"Non-endemic\",0,IF(COUNTRY_INFO!$H270=1,COUNTRY_INFO!G270,0)))","v":0},0,{"$f":"IF(INTRO!$E$39=\"Non-endemic\",IF(INTRO!$E$37=\"Non-endemic\",\"Not required\",COUNTRY_INFO!V270),\"Treat with IVM\")","v":"Treat with IVM"},0,0,null,0]

{"sheet":"ALB_MBD","index":3,"n_rows":270,"n_cols":21,"rows_kept":270,"cut":false,"hidden":false,"merged":[[6,9,6,10],[6,11,7,11],[0,6,0,10],[1,6,1,7],[1,9,1,10],[5,6,5,11],[6,6,6,7],[3,0,3,2],[3,3,3,4],[5,0,5,2],[5,3,5,4],[5,5,7,5],[6,0,7,0],[6,1,7,1],[6,2,7,2],[6,3,7,3],[6,4,7,4],[5,12,5,17],[6,20,7,20],[5,18,5,20],[6,18,7,18],[6,19,7,19],[6,16,7,16],[6,17,7,17],[6,15,7,15],[6,12,7,12],[6,13,7,13],[6,14,7,14]]}
["Albendazole (ALB) and Mebendazole (MBD)",null,null,null,null,null,"Select medicine for treatment of STH for each age group"]
["Administrative structure, eligible population by age group, treatment plan and information about tablets"]
[]
["TOTAL",null,null,null,null,{"$f":"SUBTOTAL(9,F$10:F$1010)","v":731565},null,{"$f":"SUBTOTAL(9,H$10:H$1010)","v":0},0,null,0,0,731565,0,731565,0,0,0,0,0,0]
[]
["Country administrative structure",null,null,"Treatment plan",null,"People targeted by PELF with ALB","Target population for STH",null,null,null,null,null,"Albendazole (ALB)",null,null,null,null,null,"Mebendazole (MBD)"]
["Country","Province/State","District","LF","STH",null,"PreSAC",null,"SAC","WRA",null,"Total","Total required","Remaining in stock (LF)","Tablets to be procured (LF)","Total required","Remaining in stock (STH)","Tablets to be procured (STH)","Total required","Remaining in stock","Tablets to be procured"]
[null,null,null,null,null,null,"Rounds","People","People","Rounds","People"]
[]
[{"$f":"IF(AND(INTRO!$E$37=\"Non-endemic\",INTRO!$E$41=\"Non-endemic\"),\" \",IF(COUNTRY_INFO!A10=0,\" \",COUNTRY_INFO!A10))","v":"Ghana"},{"$f":"IF(AND(INTRO!$E$37=\"Non-endemic\",INTRO!$E$41=\"Non-endemic\"),\" \",IF(COUNTRY_INFO!B10=0,\" \",COUNTRY_INFO!B10))","v":"Ahafo"},{"$f":"IF(AND(INTRO!$E$37=\"Non-endemic\",INTRO!$E$41=\"Non-endemic\"),\" \",IF(COUNTRY_INFO!C10=0,\" \",COUNTRY_INFO!C10))","v":"Asunafo North"},{"$f":"IF(AND(INTRO!$E$37=\"Non-endemic\",INTRO!$E$41=\"Non-endemic\"),0,COUNTRY_INFO!V10)","v":0},{"$f":"IF(AND(INTRO!$E$37=\"Non-endemic\",INTRO!$E$41=\"Non-endemic\"),0,COUNTRY_INFO!X10)","v":0},{"$f":"IF(INTRO!$E$39=\"Non-endemic\",IF($D10=1,DEC!I10,0),IF($D10=1,IVM!G10,0))","v":0},null,{"$f":"IF(OR(COUNTRY_INFO!N10=\"Unknown\",COUNTRY_INFO!N10=\"Surveillance\",COUNTRY_INFO!N10=\"Not required\",COUNTRY_INFO!N10=0),0,IF(INTRO!$E$39=\"Non-endemic\",IF(AND($E10<>0,$G10=\"\"),IF($F10=0,COUNTRY_INFO!N10*$E10,COUNTRY_INFO!N10*($E10-$D10)),IF(AND($E10<>0,$G10<>0),IF($F10=0,COUNTRY_INFO!N10*$G10,COUNTRY_INFO!N10*($G10-$D10)),0)),IF($G10=\"\",COUNTRY_INFO!N10*$E10,COUNTRY_INFO!N10*$G10)))","v":0},{"$f":"IF(OR(COUNTRY_INFO!O10=\"Unknown\",COUNTRY_INFO!O10=\"Surveillance\",COUNTRY_INFO!O10=\"Not required\",COUNTRY_INFO!O10=0),0,IF($E10<>0, IF($F10=0,COUNTRY_INFO!O10*$E10,COUNTRY_INFO!O10*($E10-$D10)),COUNTRY_INFO!O10*$E10))","v":0},null,{"$f":"IF(OR(COUNTRY_INFO!P10=\"Unknown\",COUNTRY_INFO!P10=\"Surveillance\",COUNTRY_INFO!P10=\"Not required\",COUNTRY_INFO!P10=0),0,IF(AND($E10<>0,$J10=\"\"),IF($F10=0,COUNTRY_INFO!P10*$E10,COUNTRY_INFO!P10*($E10-$D10)), IF(AND($E10<>0,$J10<>0),IF($F10=0,COUNTRY_INFO!P10*$J10,COUNTRY_INFO!P10*($J10-$D10)), COUNTRY_INFO!P10*$J10)))","v":0},{"$f":"ROUND($H10,0)+ROUND($I10,0)+ROUND($K10,0)","v":0},{"$f":"$F10","v":0},null,{"$f":"IF($M10>$N10, $M10-$N10,0)","v":0},{"$f":"ROUND((IF($G$2=\"ALB\",$H10,0)+IF($I$2=\"ALB\",$I10,0)+IF($J$2=\"ALB\",$K10,0)),0)","v":0},null,{"$f":"IF($P10>$Q10,$P10-$Q10,0)","v":0},{"$f":"ROUND((IF($G$2=\"MBD\",$H10,0)+IF($I$2=\"MBD\",$I10,0)+IF($J$2=\"MBD\",$K10,0)),0)","v":0},null,{"$f":"IF($S10>$T10,$S10-$T10,0)","v":0}]
[{"$f":"IF(AND(INTRO!$E$37=\"Non-endemic\",INTRO!$E$41=\"Non-endemic\"),\" \",IF(COUNTRY_INFO!A11=0,\" \",COUNTRY_INFO!A11))","v":"Ghana"},{"$f":"IF(AND(INTRO!$E$37=\"Non-endemic\",INTRO!$E$41=\"Non-endemic\"),\" \",IF(COUNTRY_INFO!B11=0,\" \",COUNTRY_INFO!B11))","v":"Ahafo"},{"$f":"IF(AND(INTRO!$E$37=\"Non-endemic\",INTRO!$E$41=\"Non-endemic\"),\" \",IF(COUNTRY_INFO!C11=0,\" \",COUNTRY_INFO!C11))","v":"Asunafo South"},{"$f":"IF(AND(INTRO!$E$37=\"Non-endemic\",INTRO!$E$41=\"Non-endemic\"),0,COUNTRY_INFO!V11)","v":0},{"$f":"IF(AND(INTRO!$E$37=\"Non-endemic\",INTRO!$E$41=\"Non-endemic\"),0,COUNTRY_INFO!X11)","v":0},{"$f":"IF(INTRO!$E$39=\"Non-endemic\",IF($D11=1,DEC!I11,0),IF($D11=1,IVM!G11,0))","v":0},null,{"$f":"IF(OR(COUNTRY_INFO!N11=\"Unknown\",COUNTRY_INFO!N11=\"Surveillance\",COUNTRY_INFO!N11=\"Not required\",COUNTRY_INFO!N11=0),0,IF(INTRO!$E$39=\"Non-endemic\",IF(AND($E11<>0,$G11=\"\"),IF($F11=0,COUNTRY_INFO!N11*$E11,COUNTRY_INFO!N11*($E11-$D11)),IF(AND($E11<>0,$G11<>0),IF($F11=0,COUNTRY_INFO!N11*$G11,COUNTRY_INFO!N11*($G11-$D11)),0)),IF($G11=\"\",COUNTRY_INFO!N11*$E11,COUNTRY_INFO!N11*$G11)))","v":0},{"$f":"IF(OR(COUNTRY_INFO!O11=\"Unknown\",COUNTRY_INFO!O11=\"Surveillance\",COUNTRY_INFO!O11=\"Not required\",COUNTRY_INFO!O11=0),0,IF($E11<>0, IF($F11=0,COUNTRY_INFO!O11*$E11,COUNTRY_INFO!O11*($E11-$D11)),COUNTRY_INFO!O11*$E11))","v":0},null,{"$f":"IF(OR(COUNTRY_INFO!P11=\"Unknown\",COUNTRY_INFO!P11=\"Surveillance\",COUNTRY_INFO!P11=\"Not required\",COUNTRY_INFO!P11=0),0,IF(AND($E11<>0,$J11=\"\"),IF($F11=0,COUNTRY_INFO!P11*$E11,COUNTRY_INFO!P11*($E11-$D11)), IF(AND($E11<>0,$J11<>0),IF($F11=0,COUNTRY_INFO!P11*$J11,COUNTRY_INFO!P11*($J11-$D11)), COUNTRY_INFO!P11*$J11)))","v":0},0,0,null,0,0,null,0,0,null,0]
[{"$f":"IF(AND(INTRO!$E$37=\"Non-endemic\",INTRO!$E$41=\"Non-endemic\"),\" \",IF(COUNTRY_INFO!A12=0,\" \",COUNTRY_INFO!A12))","v":"Ghana"},{"$f":"IF(AND(INTRO!$E$37=\"Non-endemic\",INTRO!$E$41=\"Non-endemic\"),\" \",IF(COUNTRY_INFO!B12=0,\" \",COUNTRY_INFO!B12))","v":"Ahafo"},{"$f":"IF(AND(INTRO!$E$37=\"Non-endemic\",INTRO!$E$41=\"Non-endemic\"),\" \",IF(COUNTRY_INFO!C12=0,\" \",COUNTRY_INFO!C12))","v":"Asutifi North"},{"$f":"IF(AND(INTRO!$E$37=\"Non-endemic\",INTRO!$E$41=\"Non-endemic\"),0,COUNTRY_INFO!V12)","v":0},{"$f":"IF(AND(INTRO!$E$37=\"Non-endemic\",INTRO!$E$41=\"Non-endemic\"),0,COUNTRY_INFO!X12)","v":0},{"$f":"IF(INTRO!$E$39=\"Non-endemic\",IF($D12=1,DEC!I12,0),IF($D12=1,IVM!G12,0))","v":0},null,{"$f":"IF(OR(COUNTRY_INFO!N12=\"Unknown\",COUNTRY_INFO!N12=\"Surveillance\",COUNTRY_INFO!N12=\"Not required\",COUNTRY_INFO!N12=0),0,IF(INTRO!$E$39=\"Non-endemic\",IF(AND($E12<>0,$G12=\"\"),IF($F12=0,COUNTRY_INFO!N12*$E12,COUNTRY_INFO!N12*($E12-$D12)),IF(AND($E12<>0,$G12<>0),IF($F12=0,COUNTRY_INFO!N12*$G12,COUNTRY_INFO!N12*($G12-$D12)),0)),IF($G12=\"\",COUNTRY_INFO!N12*$E12,COUNTRY_INFO!N12*$G12)))","v":0},{"$f":"IF(OR(COUNTRY_INFO!O12=\"Unknown\",COUNTRY_INFO!O12=\"Surveillance\",COUNTRY_INFO!O12=\"Not required\",COUNTRY_INFO!O12=0),0,IF($E12<>0, IF($F12=0,COUNTRY_INFO!O12*$E12,COUNTRY_INFO!O12*($E12-$D12)),COUNTRY_INFO!O12*$E12))","v":0},null,{"$f":"IF(OR(COUNTRY_INFO!P12=\"Unknown\",COUNTRY_INFO!P12=\"Surveillance\",COUNTRY_INFO!P12=\"Not required\",COUNTRY_INFO!P12=0),0,IF(AND($E12<>0,$J12=\"\"),IF($F12=0,COUNTRY_INFO!P12*$E12,COUNTRY_INFO!P12*($E12-$D12)), IF(AND($E12<>0,$J12<>0),IF($F12=0,COUNTRY_INFO!P12*$J12,COUNTRY_INFO!P12*($J12-$D12)), COUNTRY_INFO!P12*$J12)))","v":0},0,0,null,0,0,null,0,0,null,0]
[{"$f":"IF(AND(INTRO!$E$37=\"Non-endemic\",INTRO!$E$41=\"Non-endemic\"),\" \",IF(COUNTRY_INFO!A13=0,\" \",COUNTRY_INFO!A13))","v":"Ghana"},{"$f":"IF(AND(INTRO!$E$37=\"Non-endemic\",INTRO!$E$41=\"Non-endemic\"),\" \",IF(COUNTRY_INFO!B13=0,\" \",COUNTRY_INFO!B13))","v":"Ahafo"},{"$f":"IF(AND(INTRO!$E$37=\"Non-endemic\",INTRO!$E$41=\"Non-endemic\"),\" \",IF(COUNTRY_INFO!C13=0,\" \",COUNTRY_INFO!C13))","v":"Asutifi South"},{"$f":"IF(AND(INTRO!$E$37=\"Non-endemic\",INTRO!$E$41=\"Non-endemic\"),0,COUNTRY_INFO!V13)","v":0},{"$f":"IF(AND(INTRO!$E$37=\"Non-endemic\",INTRO!$E$41=\"Non-endemic\"),0,COUNTRY_INFO!X13)","v":0},{"$f":"IF(INTRO!$E$39=\"Non-endemic\",IF($D13=1,DEC!I13,0),IF($D13=1,IVM!G13,0))","v":0},null,{"$f":"IF(OR(COUNTRY_INFO!N13=\"Unknown\",COUNTRY_INFO!N13=\"Surveillance\",COUNTRY_INFO!N13=\"Not required\",COUNTRY_INFO!N13=0),0,IF(INTRO!$E$39=\"Non-endemic\",IF(AND($E13<>0,$G13=\"\"),IF($F13=0,COUNTRY_INFO!N13*$E13,COUNTRY_INFO!N13*($E13-$D13)),IF(AND($E13<>0,$G13<>0),IF($F13=0,COUNTRY_INFO!N13*$G13,COUNTRY_INFO!N13*($G13-$D13)),0)),IF($G13=\"\",COUNTRY_INFO!N13*$E13,COUNTRY_INFO!N13*$G13)))","v":0},{"$f":"IF(OR(COUNTRY_INFO!O13=\"Unknown\",COUNTRY_INFO!O13=\"Surveillance\",COUNTRY_INFO!O13=\"Not required\",COUNTRY_INFO!O13=0),0,IF($E13<>0, IF($F13=0,COUNTRY_INFO!O13*$E13,COUNTRY_INFO!O13*($E13-$D13)),COUNTRY_INFO!O13*$E13))","v":0},null,{"$f":"IF(OR(COUNTRY_INFO!P13=\"Unknown\",COUNTRY_INFO!P13=\"Surveillance\",COUNTRY_INFO!P13=\"Not required\",COUNTRY_INFO!P13=0),0,IF(AND($E13<>0,$J13=\"\"),IF($F13=0,COUNTRY_INFO!P13*$E13,COUNTRY_INFO!P13*($E13-$D13)), IF(AND($E13<>0,$J13<>0),IF($F13=0,COUNTRY_INFO!P13*$J13,COUNTRY_INFO!P13*($J13-$D13)), COUNTRY_INFO!P13*$J13)))","v":0},0,0,null,0,0,null,0,0,null,0]
[{"$f":"IF(AND(INTRO!$E$37=\"Non-endemic\",INTRO!$E$41=\"Non-endemic\"),\" \",IF(COUNTRY_INFO!A14=0,\" \",COUNTRY_INFO!A14))","v":"Ghana"},{"$f":"IF(AND(INTRO!$E$37=\"Non-endemic\",INTRO!$E$41=\"Non-endemic\"),\" \",IF(COUNTRY_INFO!B14=0,\" \",COUNTRY_INFO!B14))","v":"Ahafo"},{"$f":"IF(AND(INTRO!$E$37=\"Non-endemic\",INTRO!$E$41=\"Non-endemic\"),\" \",IF(COUNTRY_INFO!C14=0,\" \",COUNTRY_INFO!C14))","v":"Tano North"},{"$f":"IF(AND(INTRO!$E$37=\"Non-endemic\",INTRO!$E$41=\"Non-endemic\"),0,COUNTRY_INFO!V14)","v":0},{"$f":"IF(AND(INTRO!$E$37=\"Non-endemic\",INTRO!$E$41=\"Non-endemic\"),0,COUNTRY_INFO!X14)","v":0},{"$f":"IF(INTRO!$E$39=\"Non-endemic\",IF($D14=1,DEC!I14,0),IF($D14=1,IVM!G14,0))","v":0},null,{"$f":"IF(OR(COUNTRY_INFO!N14=\"Unknown\",COUNTRY_INFO!N14=\"Surveillance\",COUNTRY_INFO!N14=\"Not required\",COUNTRY_INFO!N14=0),0,IF(INTRO!$E$39=\"Non-endemic\",IF(AND($E14<>0,$G14=\"\"),IF($F14=0,COUNTRY_INFO!N14*$E14,COUNTRY_INFO!N14*($E14-$D14)),IF(AND($E14<>0,$G14<>0),IF($F14=0,COUNTRY_INFO!N14*$G14,COUNTRY_INFO!N14*($G14-$D14)),0)),IF($G14=\"\",COUNTRY_INFO!N14*$E14,COUNTRY_INFO!N14*$G14)))","v":0},{"$f":"IF(OR(COUNTRY_INFO!O14=\"Unknown\",COUNTRY_INFO!O14=\"Surveillance\",COUNTRY_INFO!O14=\"Not required\",COUNTRY_INFO!O14=0),0,IF($E14<>0, IF($F14=0,COUNTRY_INFO!O14*$E14,COUNTRY_INFO!O14*($E14-$D14)),COUNTRY_INFO!O14*$E14))","v":0},null,{"$f":"IF(OR(COUNTRY_INFO!P14=\"Unknown\",COUNTRY_INFO!P14=\"Surveillance\",COUNTRY_INFO!P14=\"Not required\",COUNTRY_INFO!P14=0),0,IF(AND($E14<>0,$J14=\"\"),IF($F14=0,COUNTRY_INFO!P14*$E14,COUNTRY_INFO!P14*($E14-$D14)), IF(AND($E14<>0,$J14<>0),IF($F14=0,COUNTRY_INFO!P14*$J14,COUNTRY_INFO!P14*($J14-$D14)), COUNTRY_INFO!P14*$J14)))","v":0},0,0,null,0,0,null,0,0,null,0]
[{"$f":"IF(AND(INTRO!$E$37=\"Non-endemic\",INTRO!$E$41=\"Non-endemic\"),\" \",IF(COUNTRY_INFO!A15=0,\" \",COUNTRY_INFO!A15))","v":"Ghana"},{"$f":"IF(AND(INTRO!$E$37=\"Non-endemic\",INTRO!$E$41=\"Non-endemic\"),\" \",IF(COUNTRY_INFO!B15=0,\" \",COUNTRY_INFO!B15))","v":"Ahafo"},{"$f":"IF(AND(INTRO!$E$37=\"Non-endemic\",INTRO!$E$41=\"Non-endemic\"),\" \",IF(COUNTRY_INFO!C15=0,\" \",COUNTRY_INFO!C15))","v":"Tano South"},{"$f":"IF(AND(INTRO!$E$37=\"Non-endemic\",INTRO!$E$41=\"Non-endemic\"),0,COUNTRY_INFO!V15)","v":0},{"$f":"IF(AND(INTRO!$E$37=\"Non-endemic\",INTRO!$E$41=\"Non-endemic\"),0,COUNTRY_INFO!X15)","v":0},{"$f":"IF(INTRO!$E$39=\"Non-endemic\",IF($D15=1,DEC!I15,0),IF($D15=1,IVM!G15,0))","v":0},null,{"$f":"IF(OR(COUNTRY_INFO!N15=\"Unknown\",COUNTRY_INFO!N15=\"Surveillance\",COUNTRY_INFO!N15=\"Not required\",COUNTRY_INFO!N15=0),0,IF(INTRO!$E$39=\"Non-endemic\",IF(AND($E15<>0,$G15=\"\"),IF($F15=0,COUNTRY_INFO!N15*$E15,COUNTRY_INFO!N15*($E15-$D15)),IF(AND($E15<>0,$G15<>0),IF($F15=0,COUNTRY_INFO!N15*$G15,COUNTRY_INFO!N15*($G15-$D15)),0)),IF($G15=\"\",COUNTRY_INFO!N15*$E15,COUNTRY_INFO!N15*$G15)))","v":0},{"$f":"IF(OR(COUNTRY_INFO!O15=\"Unknown\",COUNTRY_INFO!O15=\"Surveillance\",COUNTRY_INFO!O15=\"Not required\",COUNTRY_INFO!O15=0),0,IF($E15<>0, IF($F15=0,COUNTRY_INFO!O15*$E15,COUNTRY_INFO!O15*($E15-$D15)),COUNTRY_INFO!O15*$E15))","v":0},null,{"$f":"IF(OR(COUNTRY_INFO!P15=\"Unknown\",COUNTRY_INFO!P15=\"Surveillance\",COUNTRY_INFO!P15=\"Not required\",COUNTRY_INFO!P15=0),0,IF(AND($E15<>0,$J15=\"\"),IF($F15=0,COUNTRY_INFO!P15*$E15,COUNTRY_INFO!P15*($E15-$D15)), IF(AND($E15<>0,$J15<>0),IF($F15=0,COUNTRY_INFO!P15*$J15,COUNTRY_INFO!P15*($J15-$D15)), COUNTRY_INFO!P15*$J15)))","v":0},0,0,null,0,0,null,0,0,null,0]
[{"$f":"IF(AND(INTRO!$E$37=\"Non-endemic\",INTRO!$E$41=\"Non-endemic\"),\" \",IF(COUNTRY_INFO!A16=0,\" \",COUNTRY_INFO!A16))","v":"Ghana"},{"$f":"IF(AND(INTRO!$E$37=\"Non-endemic\",INTRO!$E$41=\"Non-endemic\"),\" \",IF(COUNTRY_INFO!B16=0,\" \",COUNTRY_INFO!B16))","v":"Ashanti"},{"$f":"IF(AND(INTRO!$E$37=\"Non-endemic\",INTRO!$E$41=\"Non-endemic\"),\" \",IF(COUNTRY_INFO!C16=0,\" \",COUNTRY_INFO!C16))","v":"Adansi Akrofuom"},{"$f":"IF(AND(INTRO!$E$37=\"Non-endemic\",INTRO!$E$41=\"Non-endemic\"),0,COUNTRY_INFO!V16)","v":0},{"$f":"IF(AND(INTRO!$E$37=\"Non-endemic\",INTRO!$E$41=\"Non-endemic\"),0,COUNTRY_INFO!X16)","v":0},{"$f":"IF(INTRO!$E$39=\"Non-endemic\",IF($D16=1,DEC!I16,0),IF($D16=1,IVM!G16,0))","v":0},null,{"$f":"IF(OR(COUNTRY_INFO!N16=\"Unknown\",COUNTRY_INFO!N16=\"Surveillance\",COUNTRY_INFO!N16=\"Not required\",COUNTRY_INFO!N16=0),0,IF(INTRO!$E$39=\"Non-endemic\",IF(AND($E16<>0,$G16=\"\"),IF($F16=0,COUNTRY_INFO!N16*$E16,COUNTRY_INFO!N16*($E16-$D16)),IF(AND($E16<>0,$G16<>0),IF($F16=0,COUNTRY_INFO!N16*$G16,COUNTRY_INFO!N16*($G16-$D16)),0)),IF($G16=\"\",COUNTRY_INFO!N16*$E16,COUNTRY_INFO!N16*$G16)))","v":0},{"$f":"IF(OR(COUNTRY_INFO!O16=\"Unknown\",COUNTRY_INFO!O16=\"Surveillance\",COUNTRY_INFO!O16=\"Not required\",COUNTRY_INFO!O16=0),0,IF($E16<>0, IF($F16=0,COUNTRY_INFO!O16*$E16,COUNTRY_INFO!O16*($E16-$D16)),COUNTRY_INFO!O16*$E16))","v":0},null,{"$f":"IF(OR(COUNTRY_INFO!P16=\"Unknown\",COUNTRY_INFO!P16=\"Surveillance\",COUNTRY_INFO!P16=\"Not required\",COUNTRY_INFO!P16=0),0,IF(AND($E16<>0,$J16=\"\"),IF($F16=0,COUNTRY_INFO!P16*$E16,COUNTRY_INFO!P16*($E16-$D16)), IF(AND($E16<>0,$J16<>0),IF($F16=0,COUNTRY_INFO!P16*$J16,COUNTRY_INFO!P16*($J16-$D16)), COUNTRY_INFO!P16*$J16)))","v":0},0,0,null,0,0,null,0,0,null,0]
[{"$f":"IF(AND(INTRO!$E$37=\"Non-endemic\",INTRO!$E$41=\"Non-endemic\"),\" \",IF(COUNTRY_INFO!A17=0,\" \",COUNTRY_INFO!A17))","v":"Ghana"},{"$f":"IF(AND(INTRO!$E$37=\"Non-endemic\",INTRO!$E$41=\"Non-endemic\"),\" \",IF(COUNTRY_INFO!B17=0,\" \",COUNTRY_INFO!B17))","v":"Ashanti"},{"$f":"IF(AND(INTRO!$E$37=\"Non-endemic\",INTRO!$E$41=\"Non-endemic\"),\" \",IF(COUNTRY_INFO!C17=0,\" \",COUNTRY_INFO!C17))","v":"Adansi Asokwa"},{"$f":"IF(AND(INTRO!$E$37=\"Non-endemic\",INTRO!$E$41=\"Non-endemic\"),0,COUNTRY_INFO!V17)","v":0},{"$f":"IF(AND(INTRO!$E$37=\"Non-endemic\",INTRO!$E$41=\"Non-endemic\"),0,COUNTRY_INFO!X17)","v":0},{"$f":"IF(INTRO!$E$39=\"Non-endemic\",IF($D17=1,DEC!I17,0),IF($D17=1,IVM!G17,0))","v":0},null,{"$f":"IF(OR(COUNTRY_INFO!N17=\"Unknown\",COUNTRY_INFO!N17=\"Surveillance\",COUNTRY_INFO!N17=\"Not required\",COUNTRY_INFO!N17=0),0,IF(INTRO!$E$39=\"Non-endemic\",IF(AND($E17<>0,$G17=\"\"),IF($F17=0,COUNTRY_INFO!N17*$E17,COUNTRY_INFO!N17*($E17-$D17)),IF(AND($E17<>0,$G17<>0),IF($F17=0,COUNTRY_INFO!N17*$G17,COUNTRY_INFO!N17*($G17-$D17)),0)),IF($G17=\"\",COUNTRY_INFO!N17*$E17,COUNTRY_INFO!N17*$G17)))","v":0},{"$f":"IF(OR(COUNTRY_INFO!O17=\"Unknown\",COUNTRY_INFO!O17=\"Surveillance\",COUNTRY_INFO!O17=\"Not required\",COUNTRY_INFO!O17=0),0,IF($E17<>0, IF($F17=0,COUNTRY_INFO!O17*$E17,COUNTRY_INFO!O17*($E17-$D17)),COUNTRY_INFO!O17*$E17))","v":0},null,{"$f":"IF(OR(COUNTRY_INFO!P17=\"Unknown\",COUNTRY_INFO!P17=\"Surveillance\",COUNTRY_INFO!P17=\"Not required\",COUNTRY_INFO!P17=0),0,IF(AND($E17<>0,$J17=\"\"),IF($F17=0,COUNTRY_INFO!P17*$E17,COUNTRY_INFO!P17*($E17-$D17)), IF(AND($E17<>0,$J17<>0),IF($F17=0,COUNTRY_INFO!P17*$J17,COUNTRY_INFO!P17*($J17-$D17)), COUNTRY_INFO!P17*$J17)))","v":0},0,0,null,0,0,null,0,0,null,0]
[{"$f":"IF(AND(INTRO!$E$37=\"Non-endemic\",INTRO!$E$41=\"Non-endemic\"),\" \",IF(COUNTRY_INFO!A18=0,\" \",COUNTRY_INFO!A18))","v":"Ghana"},{"$f":"IF(AND(INTRO!$E$37=\"Non-endemic\",INTRO!$E$41=\"Non-endemic\"),\" \",IF(COUNTRY_INFO!B18=0,\" \",COUNTRY_INFO!B18))","v":"Ashanti"},{"$f":"IF(AND(INTRO!$E$37=\"Non-endemic\",INTRO!$E$41=\"Non-endemic\"),\" \",IF(COUNTRY_INFO!C18=0,\" \",COUNTRY_INFO!C18))","v":"Adansi North"},{"$f":"IF(AND(INTRO!$E$37=\"Non-endemic\",INTRO!$E$41=\"Non-endemic\"),0,COUNTRY_INFO!V18)","v":0},{"$f":"IF(AND(INTRO!$E$37=\"Non-endemic\",INTRO!$E$41=\"Non-endemic\"),0,COUNTRY_INFO!X18)","v":0},{"$f":"IF(INTRO!$E$39=\"Non-endemic\",IF($D18=1,DEC!I18,0),IF($D18=1,IVM!G18,0))","v":0},null,{"$f":"IF(OR(COUNTRY_INFO!N18=\"Unknown\",COUNTRY_INFO!N18=\"Surveillance\",COUNTRY_INFO!N18=\"Not required\",COUNTRY_INFO!N18=0),0,IF(INTRO!$E$39=\"Non-endemic\",IF(AND($E18<>0,$G18=\"\"),IF($F18=0,COUNTRY_INFO!N18*$E18,COUNTRY_INFO!N18*($E18-$D18)),IF(AND($E18<>0,$G18<>0),IF($F18=0,COUNTRY_INFO!N18*$G18,COUNTRY_INFO!N18*($G18-$D18)),0)),IF($G18=\"\",COUNTRY_INFO!N18*$E18,COUNTRY_INFO!N18*$G18)))","v":0},{"$f":"IF(OR(COUNTRY_INFO!O18=\"Unknown\",COUNTRY_INFO!O18=\"Surveillance\",COUNTRY_INFO!O18=\"Not required\",COUNTRY_INFO!O18=0),0,IF($E18<>0, IF($F18=0,COUNTRY_INFO!O18*$E18,COUNTRY_INFO!O18*($E18-$D18)),COUNTRY_INFO!O18*$E18))","v":0},null,{"$f":"IF(OR(COUNTRY_INFO!P18=\"Unknown\",COUNTRY_INFO!P18=\"Surveillance\",COUNTRY_INFO!P18=\"Not required\",COUNTRY_INFO!P18=0),0,IF(AND($E18<>0,$J18=\"\"),IF($F18=0,COUNTRY_INFO!P18*$E18,COUNTRY_INFO!P18*($E18-$D18)), IF(AND($E18<>0,$J18<>0),IF($F18=0,COUNTRY_INFO!P18*$J18,COUNTRY_INFO!P18*($J18-$D18)), COUNTRY_INFO!P18*$J18)))","v":0},0,0,null,0,0,null,0,0,null,0]
[{"$f":"IF(AND(INTRO!$E$37=\"Non-endemic\",INTRO!$E$41=\"Non-endemic\"),\" \",IF(COUNTRY_INFO!A19=0,\" \",COUNTRY_INFO!A19))","v":"Ghana"},{"$f":"IF(AND(INTRO!$E$37=\"Non-endemic\",INTRO!$E$41=\"Non-endemic\"),\" \",IF(COUNTRY_INFO!B19=0,\" \",COUNTRY_INFO!B19))","v":"Ashanti"},{"$f":"IF(AND(INTRO!$E$37=\"Non-endemic\",INTRO!$E$41=\"Non-endemic\"),\" \",IF(COUNTRY_INFO!C19=0,\" \",COUNTRY_INFO!C19))","v":"Adansi South"},{"$f":"IF(AND(INTRO!$E$37=\"Non-endemic\",INTRO!$E$41=\"Non-endemic\"),0,COUNTRY_INFO!V19)","v":0},{"$f":"IF(AND(INTRO!$E$37=\"Non-endemic\",INTRO!$E$41=\"Non-endemic\"),0,COUNTRY_INFO!X19)","v":0},{"$f":"IF(INTRO!$E$39=\"Non-endemic\",IF($D19=1,DEC!I19,0),IF($D19=1,IVM!G19,0))","v":0},null,{"$f":"IF(OR(COUNTRY_INFO!N19=\"Unknown\",COUNTRY_INFO!N19=\"Surveillance\",COUNTRY_INFO!N19=\"Not required\",COUNTRY_INFO!N19=0),0,IF(INTRO!$E$39=\"Non-endemic\",IF(AND($E19<>0,$G19=\"\"),IF($F19=0,COUNTRY_INFO!N19*$E19,COUNTRY_INFO!N19*($E19-$D19)),IF(AND($E19<>0,$G19<>0),IF($F19=0,COUNTRY_INFO!N19*$G19,COUNTRY_INFO!N19*($G19-$D19)),0)),IF($G19=\"\",COUNTRY_INFO!N19*$E19,COUNTRY_INFO!N19*$G19)))","v":0},{"$f":"IF(OR(COUNTRY_INFO!O19=\"Unknown\",COUNTRY_INFO!O19=\"Surveillance\",COUNTRY_INFO!O19=\"Not required\",COUNTRY_INFO!O19=0),0,IF($E19<>0, IF($F19=0,COUNTRY_INFO!O19*$E19,COUNTRY_INFO!O19*($E19-$D19)),COUNTRY_INFO!O19*$E19))","v":0},null,{"$f":"IF(OR(COUNTRY_INFO!P19=\"Unknown\",COUNTRY_INFO!P19=\"Surveillance\",COUNTRY_INFO!P19=\"Not required\",COUNTRY_INFO!P19=0),0,IF(AND($E19<>0,$J19=\"\"),IF($F19=0,COUNTRY_INFO!P19*$E19,COUNTRY_INFO!P19*($E19-$D19)), IF(AND($E19<>0,$J19<>0),IF($F19=0,COUNTRY_INFO!P19*$J19,COUNTRY_INFO!P19*($J19-$D19)), COUNTRY_INFO!P19*$J19)))","v":0},0,0,null,0,0,null,0,0,null,0]
[{"$f":"IF(AND(INTRO!$E$37=\"Non-endemic\",INTRO!$E$41=\"Non-endemic\"),\" \",IF(COUNTRY_INFO!A20=0,\" \",COUNTRY_INFO!A20))","v":"Ghana"},{"$f":"IF(AND(INTRO!$E$37=\"Non-endemic\",INTRO!$E$41=\"Non-endemic\"),\" \",IF(COUNTRY_INFO!B20=0,\" \",COUNTRY_INFO!B20))","v":"Ashanti"},{"$f":"IF(AND(INTRO!$E$37=\"Non-endemic\",INTRO!$E$41=\"Non-endemic\"),\" \",IF(COUNTRY_INFO!C20=0,\" \",COUNTRY_INFO!C20))","v":"Afigya Kwabre North"},{"$f":"IF(AND(INTRO!$E$37=\"Non-endemic\",INTRO!$E$41=\"Non-endemic\"),0,COUNTRY_INFO!V20)","v":0},{"$f":"IF(AND(INTRO!$E$37=\"Non-endemic\",INTRO!$E$41=\"Non-endemic\"),0,COUNTRY_INFO!X20)","v":0},{"$f":"IF(INTRO!$E$39=\"Non-endemic\",IF($D20=1,DEC!I20,0),IF($D20=1,IVM!G20,0))","v":0},null,{"$f":"IF(OR(COUNTRY_INFO!N20=\"Unknown\",COUNTRY_INFO!N20=\"Surveillance\",COUNTRY_INFO!N20=\"Not required\",COUNTRY_INFO!N20=0),0,IF(INTRO!$E$39=\"Non-endemic\",IF(AND($E20<>0,$G20=\"\"),IF($F20=0,COUNTRY_INFO!N20*$E20,COUNTRY_INFO!N20*($E20-$D20)),IF(AND($E20<>0,$G20<>0),IF($F20=0,COUNTRY_INFO!N20*$G20,COUNTRY_INFO!N20*($G20-$D20)),0)),IF($G20=\"\",COUNTRY_INFO!N20*$E20,COUNTRY_INFO!N20*$G20)))","v":0},{"$f":"IF(OR(COUNTRY_INFO!O20=\"Unknown\",COUNTRY_INFO!O20=\"Surveillance\",COUNTRY_INFO!O20=\"Not required\",COUNTRY_INFO!O20=0),0,IF($E20<>0, IF($F20=0,COUNTRY_INFO!O20*$E20,COUNTRY_INFO!O20*($E20-$D20)),COUNTRY_INFO!O20*$E20))","v":0},null,{"$f":"IF(OR(COUNTRY_INFO!P20=\"Unknown\",COUNTRY_INFO!P20=\"Surveillance\",COUNTRY_INFO!P20=\"Not required\",COUNTRY_INFO!P20=0),0,IF(AND($E20<>0,$J20=\"\"),IF($F20=0,COUNTRY_INFO!P20*$E20,COUNTRY_INFO!P20*($E20-$D20)), IF(AND($E20<>0,$J20<>0),IF($F20=0,COUNTRY_INFO!P20*$J20,COUNTRY_INFO!P20*($J20-$D20)), COUNTRY_INFO!P20*$J20)))","v":0},0,0,null,0,0,null,0,0,null,0]
[{"$f":"IF(AND(INTRO!$E$37=\"Non-endemic\",INTRO!$E$41=\"Non-endemic\"),\" \",IF(COUNTRY_INFO!A21=0,\" \",COUNTRY_INFO!A21))","v":"Ghana"},{"$f":"IF(AND(INTRO!$E$37=\"Non-endemic\",INTRO!$E$41=\"Non-endemic\"),\" \",IF(COUNTRY_INFO!B21=0,\" \",COUNTRY_INFO!B21))","v":"Ashanti"},{"$f":"IF(AND(INTRO!$E$37=\"Non-endemic\",INTRO!$E$41=\"Non-endemic\"),\" \",IF(COUNTRY_INFO!C21=0,\" \",COUNTRY_INFO!C21))","v":"Afigya Kwabre South"},{"$f":"IF(AND(INTRO!$E$37=\"Non-endemic\",INTRO!$E$41=\"Non-endemic\"),0,COUNTRY_INFO!V21)","v":0},{"$f":"IF(AND(INTRO!$E$37=\"Non-endemic\",INTRO!$E$41=\"Non-endemic\"),0,COUNTRY_INFO!X21)","v":0},{"$f":"IF(INTRO!$E$39=\"Non-endemic\",IF($D21=1,DEC!I21,0),IF($D21=1,IVM!G21,0))","v":0},null,{"$f":"IF(OR(COUNTRY_INFO!N21=\"Unknown\",COUNTRY_INFO!N21=\"Surveillance\",COUNTRY_INFO!N21=\"Not required\",COUNTRY_INFO!N21=0),0,IF(INTRO!$E$39=\"Non-endemic\",IF(AND($E21<>0,$G21=\"\"),IF($F21=0,COUNTRY_INFO!N21*$E21,COUNTRY_INFO!N21*($E21-$D21)),IF(AND($E21<>0,$G21<>0),IF($F21=0,COUNTRY_INFO!N21*$G21,COUNTRY_INFO!N21*($G21-$D21)),0)),IF($G21=\"\",COUNTRY_INFO!N21*$E21,COUNTRY_INFO!N21*$G21)))","v":0},{"$f":"IF(OR(COUNTRY_INFO!O21=\"Unknown\",COUNTRY_INFO!O21=\"Surveillance\",COUNTRY_INFO!O21=\"Not required\",COUNTRY_INFO!O21=0),0,IF($E21<>0, IF($F21=0,COUNTRY_INFO!O21*$E21,COUNTRY_INFO!O21*($E21-$D21)),COUNTRY_INFO!O21*$E21))","v":0},null,{"$f":"IF(OR(COUNTRY_INFO!P21=\"Unknown\",COUNTRY_INFO!P21=\"Surveillance\",COUNTRY_INFO!P21=\"Not required\",COUNTRY_INFO!P21=0),0,IF(AND($E21<>0,$J21=\"\"),IF($F21=0,COUNTRY_INFO!P21*$E21,COUNTRY_INFO!P21*($E21-$D21)), IF(AND($E21<>0,$J21<>0),IF($F21=0,COUNTRY_INFO!P21*$J21,COUNTRY_INFO!P21*($J21-$D21)), COUNTRY_INFO!P21*$J21)))","v":0},0,0,null,0,0,null,0,0,null,0]
[{"$f":"IF(AND(INTRO!$E$37=\"Non-endemic\",INTRO!$E$41=\"Non-endemic\"),\" \",IF(COUNTRY_INFO!A22=0,\" \",COUNTRY_INFO!A22))","v":"Ghana"},{"$f":"IF(AND(INTRO!$E$37=\"Non-endemic\",INTRO!$E$41=\"Non-endemic\"),\" \",IF(COUNTRY_INFO!B22=0,\" \",COUNTRY_INFO!B22))","v":"Ashanti"},{"$f":"IF(AND(INTRO!$E$37=\"Non-endemic\",INTRO!$E$41=\"Non-endemic\"),\" \",IF(COUNTRY_INFO!C22=0,\" \",COUNTRY_INFO!C22))","v":"Ahafo Ano North"},{"$f":"IF(AND(INTRO!$E$37=\"Non-endemic\",INTRO!$E$41=\"Non-endemic\"),0,COUNTRY_INFO!V22)","v":0},{"$f":"IF(AND(INTRO!$E$37=\"Non-endemic\",INTRO!$E$41=\"Non-endemic\"),0,COUNTRY_INFO!X22)","v":0},{"$f":"IF(INTRO!$E$39=\"Non-endemic\",IF($D22=1,DEC!I22,0),IF($D22=1,IVM!G22,0))","v":0},null,{"$f":"IF(OR(COUNTRY_INFO!N22=\"Unknown\",COUNTRY_INFO!N22=\"Surveillance\",COUNTRY_INFO!N22=\"Not required\",COUNTRY_INFO!N22=0),0,IF(INTRO!$E$39=\"Non-endemic\",IF(AND($E22<>0,$G22=\"\"),IF($F22=0,COUNTRY_INFO!N22*$E22,COUNTRY_INFO!N22*($E22-$D22)),IF(AND($E22<>0,$G22<>0),IF($F22=0,COUNTRY_INFO!N22*$G22,COUNTRY_INFO!N22*($G22-$D22)),0)),IF($G22=\"\",COUNTRY_INFO!N22*$E22,COUNTRY_INFO!N22*$G22)))","v":0},{"$f":"IF(OR(COUNTRY_INFO!O22=\"Unknown\",COUNTRY_INFO!O22=\"Surveillance\",COUNTRY_INFO!O22=\"Not required\",COUNTRY_INFO!O22=0),0,IF($E22<>0, IF($F22=0,COUNTRY_INFO!O22*$E22,COUNTRY_INFO!O22*($E22-$D22)),COUNTRY_INFO!O22*$E22))","v":0},null,{"$f":"IF(OR(COUNTRY_INFO!P22=\"Unknown\",COUNTRY_INFO!P22=\"Surveillance\",COUNTRY_INFO!P22=\"Not required\",COUNTRY_INFO!P22=0),0,IF(AND($E22<>0,$J22=\"\"),IF($F22=0,COUNTRY_INFO!P22*$E22,COUNTRY_INFO!P22*($E22-$D22)), IF(AND($E22<>0,$J22<>0),IF($F22=0,COUNTRY_INFO!P22*$J22,COUNTRY_INFO!P22*($J22-$D22)), COUNTRY_INFO!P22*$J22)))","v":0},0,0,null,0,0,null,0,0,null,0]
[{"$f":"IF(AND(INTRO!$E$37=\"Non-endemic\",INTRO!$E$41=\"Non-endemic\"),\" \",IF(COUNTRY_INFO!A23=0,\" \",COUNTRY_INFO!A23))","v":"Ghana"},{"$f":"IF(AND(INTRO!$E$37=\"Non-endemic\",INTRO!$E$41=\"Non-endemic\"),\" \",IF(COUNTRY_INFO!B23=0,\" \",COUNTRY_INFO!B23))","v":"Ashanti"},{"$f":"IF(AND(INTRO!$E$37=\"Non-endemic\",INTRO!$E$41=\"Non-endemic\"),\" \",IF(COUNTRY_INFO!C23=0,\" \",COUNTRY_INFO!C23))","v":"Ahafo Ano South East"},{"$f":"IF(AND(INTRO!$E$37=\"Non-endemic\",INTRO!$E$41=\"Non-endemic\"),0,COUNTRY_INFO!V23)","v":0},{"$f":"IF(AND(INTRO!$E$37=\"Non-endemic\",INTRO!$E$41=\"Non-endemic\"),0,COUNTRY_INFO!X23)","v":0},{"$f":"IF(INTRO!$E$39=\"Non-endemic\",IF($D23=1,DEC!I23,0),IF($D23=1,IVM!G23,0))","v":0},null,{"$f":"IF(OR(COUNTRY_INFO!N23=\"Unknown\",COUNTRY_INFO!N23=\"Surveillance\",COUNTRY_INFO!N23=\"Not required\",COUNTRY_INFO!N23=0),0,IF(INTRO!$E$39=\"Non-endemic\",IF(AND($E23<>0,$G23=\"\"),IF($F23=0,COUNTRY_INFO!N23*$E23,COUNTRY_INFO!N23*($E23-$D23)),IF(AND($E23<>0,$G23<>0),IF($F23=0,COUNTRY_INFO!N23*$G23,COUNTRY_INFO!N23*($G23-$D23)),0)),IF($G23=\"\",COUNTRY_INFO!N23*$E23,COUNTRY_INFO!N23*$G23)))","v":0},{"$f":"IF(OR(COUNTRY_INFO!O23=\"Unknown\",COUNTRY_INFO!O23=\"Surveillance\",COUNTRY_INFO!O23=\"Not required\",COUNTRY_INFO!O23=0),0,IF($E23<>0, IF($F23=0,COUNTRY_INFO!O23*$E23,COUNTRY_INFO!O23*($E23-$D23)),COUNTRY_INFO!O23*$E23))","v":0},null,{"$f":"IF(OR(COUNTRY_INFO!P23=\"Unknown\",COUNTRY_INFO!P23=\"Surveillance\",COUNTRY_INFO!P23=\"Not required\",COUNTRY_INFO!P23=0),0,IF(AND($E23<>0,$J23=\"\"),IF($F23=0,COUNTRY_INFO!P23*$E23,COUNTRY_INFO!P23*($E23-$D23)), IF(AND($E23<>0,$J23<>0),IF($F23=0,COUNTRY_INFO!P23*$J23,COUNTRY_INFO!P23*($J23-$D23)), COUNTRY_INFO!P23*$J23)))","v":0},0,0,null,0,0,null,0,0,null,0]
[{"$f":"IF(AND(INTRO!$E$37=\"Non-endemic\",INTRO!$E$41=\"Non-endemic\"),\" \",IF(COUNTRY_INFO!A24=0,\" \",COUNTRY_INFO!A24))","v":"Ghana"},{"$f":"IF(AND(INTRO!$E$37=\"Non-endemic\",INTRO!$E$41=\"Non-endemic\"),\" \",IF(COUNTRY_INFO!B24=0,\" \",COUNTRY_INFO!B24))","v":"Ashanti"},{"$f":"IF(AND(INTRO!$E$37=\"Non-endemic\",INTRO!$E$41=\"Non-endemic\"),\" \",IF(COUNTRY_INFO!C24=0,\" \",COUNTRY_INFO!C24))","v":"Ahafo Ano South West"},{"$f":"IF(AND(INTRO!$E$37=\"Non-endemic\",INTRO!$E$41=\"Non-endemic\"),0,COUNTRY_INFO!V24)","v":0},{"$f":"IF(AND(INTRO!$E$37=\"Non-endemic\",INTRO!$E$41=\"Non-endemic\"),0,COUNTRY_INFO!X24)","v":0},{"$f":"IF(INTRO!$E$39=\"Non-endemic\",IF($D24=1,DEC!I24,0),IF($D24=1,IVM!G24,0))","v":0},null,{"$f":"IF(OR(COUNTRY_INFO!N24=\"Unknown\",COUNTRY_INFO!N24=\"Surveillance\",COUNTRY_INFO!N24=\"Not required\",COUNTRY_INFO!N24=0),0,IF(INTRO!$E$39=\"Non-endemic\",IF(AND($E24<>0,$G24=\"\"),IF($F24=0,COUNTRY_INFO!N24*$E24,COUNTRY_INFO!N24*($E24-$D24)),IF(AND($E24<>0,$G24<>0),IF($F24=0,COUNTRY_INFO!N24*$G24,COUNTRY_INFO!N24*($G24-$D24)),0)),IF($G24=\"\",COUNTRY_INFO!N24*$E24,COUNTRY_INFO!N24*$G24)))","v":0},{"$f":"IF(OR(COUNTRY_INFO!O24=\"Unknown\",COUNTRY_INFO!O24=\"Surveillance\",COUNTRY_INFO!O24=\"Not required\",COUNTRY_INFO!O24=0),0,IF($E24<>0, IF($F24=0,COUNTRY_INFO!O24*$E24,COUNTRY_INFO!O24*($E24-$D24)),COUNTRY_INFO!O24*$E24))","v":0},null,{"$f":"IF(OR(COUNTRY_INFO!P24=\"Unknown\",COUNTRY_INFO!P24=\"Surveillance\",COUNTRY_INFO!P24=\"Not required\",COUNTRY_INFO!P24=0),0,IF(AND($E24<>0,$J24=\"\"),IF($F24=0,COUNTRY_INFO!P24*$E24,COUNTRY_INFO!P24*($E24-$D24)), IF(AND($E24<>0,$J24<>0),IF($F24=0,COUNTRY_INFO!P24*$J24,COUNTRY_INFO!P24*($J24-$D24)), COUNTRY_INFO!P24*$J24)))","v":0},0,0,null,0,0,null,0,0,null,0]
[{"$f":"IF(AND(INTRO!$E$37=\"Non-endemic\",INTRO!$E$41=\"Non-endemic\"),\" \",IF(COUNTRY_INFO!A25=0,\" \",COUNTRY_INFO!A25))","v":"Ghana"},{"$f":"IF(AND(INTRO!$E$37=\"Non-endemic\",INTRO!$E$41=\"Non-endemic\"),\" \",IF(COUNTRY_INFO!B25=0,\" \",COUNTRY_INFO!B25))","v":"Ashanti"},{"$f":"IF(AND(INTRO!$E$37=\"Non-endemic\",INTRO!$E$41=\"Non-endemic\"),\" \",IF(COUNTRY_INFO!C25=0,\" \",COUNTRY_INFO!C25))","v":"Amansie Central"},{"$f":"IF(AND(INTRO!$E$37=\"Non-endemic\",INTRO!$E$41=\"Non-endemic\"),0,COUNTRY_INFO!V25)","v":0},{"$f":"IF(AND(INTRO!$E$37=\"Non-endemic\",INTRO!$E$41=\"Non-endemic\"),0,COUNTRY_INFO!X25)","v":0},{"$f":"IF(INTRO!$E$39=\"Non-endemic\",IF($D25=1,DEC!I25,0),IF($D25=1,IVM!G25,0))","v":0},null,{"$f":"IF(OR(COUNTRY_INFO!N25=\"Unknown\",COUNTRY_INFO!N25=\"Surveillance\",COUNTRY_INFO!N25=\"Not required\",COUNTRY_INFO!N25=0),0,IF(INTRO!$E$39=\"Non-endemic\",IF(AND($E25<>0,$G25=\"\"),IF($F25=0,COUNTRY_INFO!N25*$E25,COUNTRY_INFO!N25*($E25-$D25)),IF(AND($E25<>0,$G25<>0),IF($F25=0,COUNTRY_INFO!N25*$G25,COUNTRY_INFO!N25*($G25-$D25)),0)),IF($G25=\"\",COUNTRY_INFO!N25*$E25,COUNTRY_INFO!N25*$G25)))","v":0},{"$f":"IF(OR(COUNTRY_INFO!O25=\"Unknown\",COUNTRY_INFO!O25=\"Surveillance\",COUNTRY_INFO!O25=\"Not required\",COUNTRY_INFO!O25=0),0,IF($E25<>0, IF($F25=0,COUNTRY_INFO!O25*$E25,COUNTRY_INFO!O25*($E25-$D25)),COUNTRY_INFO!O25*$E25))","v":0},null,{"$f":"IF(OR(COUNTRY_INFO!P25=\"Unknown\",COUNTRY_INFO!P25=\"Surveillance\",COUNTRY_INFO!P25=\"Not required\",COUNTRY_INFO!P25=0),0,IF(AND($E25<>0,$J25=\"\"),IF($F25=0,COUNTRY_INFO!P25*$E25,COUNTRY_INFO!P25*($E25-$D25)), IF(AND($E25<>0,$J25<>0),IF($F25=0,COUNTRY_INFO!P25*$J25,COUNTRY_INFO!P25*($J25-$D25)), COUNTRY_INFO!P25*$J25)))","v":0},0,0,null,0,0,null,0,0,null,0]
[{"$f":"IF(AND(INTRO!$E$37=\"Non-endemic\",INTRO!$E$41=\"Non-endemic\"),\" \",IF(COUNTRY_INFO!A26=0,\" \",COUNTRY_INFO!A26))","v":"Ghana"},{"$f":"IF(AND(INTRO!$E$37=\"Non-endemic\",INTRO!$E$41=\"Non-endemic\"),\" \",IF(COUNTRY_INFO!B26=0,\" \",COUNTRY_INFO!B26))","v":"Ashanti"},{"$f":"IF(AND(INTRO!$E$37=\"Non-endemic\",INTRO!$E$41=\"Non-endemic\"),\" \",IF(COUNTRY_INFO!C26=0,\" \",COUNTRY_INFO!C26))","v":"Amansie South"},{"$f":"IF(AND(INTRO!$E$37=\"Non-endemic\",INTRO!$E$41=\"Non-endemic\"),0,COUNTRY_INFO!V26)","v":0},{"$f":"IF(AND(INTRO!$E$37=\"Non-endemic\",INTRO!$E$41=\"Non-endemic\"),0,COUNTRY_INFO!X26)","v":0},{"$f":"IF(INTRO!$E$39=\"Non-endemic\",IF($D26=1,DEC!I26,0),IF($D26=1,IVM!G26,0))","v":0},null,{"$f":"IF(OR(COUNTRY_INFO!N26=\"Unknown\",COUNTRY_INFO!N26=\"Surveillance\",COUNTRY_INFO!N26=\"Not required\",COUNTRY_INFO!N26=0),0,IF(INTRO!$E$39=\"Non-endemic\",IF(AND($E26<>0,$G26=\"\"),IF($F26=0,COUNTRY_INFO!N26*$E26,COUNTRY_INFO!N26*($E26-$D26)),IF(AND($E26<>0,$G26<>0),IF($F26=0,COUNTRY_INFO!N26*$G26,COUNTRY_INFO!N26*($G26-$D26)),0)),IF($G26=\"\",COUNTRY_INFO!N26*$E26,COUNTRY_INFO!N26*$G26)))","v":0},{"$f":"IF(OR(COUNTRY_INFO!O26=\"Unknown\",COUNTRY_INFO!O26=\"Surveillance\",COUNTRY_INFO!O26=\"Not required\",COUNTRY_INFO!O26=0),0,IF($E26<>0, IF($F26=0,COUNTRY_INFO!O26*$E26,COUNTRY_INFO!O26*($E26-$D26)),COUNTRY_INFO!O26*$E26))","v":0},null,{"$f":"IF(OR(COUNTRY_INFO!P26=\"Unknown\",COUNTRY_INFO!P26=\"Surveillance\",COUNTRY_INFO!P26=\"Not required\",COUNTRY_INFO!P26=0),0,IF(AND($E26<>0,$J26=\"\"),IF($F26=0,COUNTRY_INFO!P26*$E26,COUNTRY_INFO!P26*($E26-$D26)), IF(AND($E26<>0,$J26<>0),IF($F26=0,COUNTRY_INFO!P26*$J26,COUNTRY_INFO!P26*($J26-$D26)), COUNTRY_INFO!P26*$J26)))","v":0},0,0,null,0,0,null,0,0,null,0]
[{"$f":"IF(AND(INTRO!$E$37=\"Non-endemic\",INTRO!$E$41=\"Non-endemic\"),\" \",IF(COUNTRY_INFO!A27=0,\" \",COUNTRY_INFO!A27))","v":"Ghana"},{"$f":"IF(AND(INTRO!$E$37=\"Non-endemic\",INTRO!$E$41=\"Non-endemic\"),\" \",IF(COUNTRY_INFO!B27=0,\" \",COUNTRY_INFO!B27))","v":"Ashanti"},{"$f":"IF(AND(INTRO!$E$37=\"Non-endemic\",INTRO!$E$41=\"Non-endemic\"),\" \",IF(COUNTRY_INFO!C27=0,\" \",COUNTRY_INFO!C27))","v":"Amansie West"},{"$f":"IF(AND(INTRO!$E$37=\"Non-endemic\",INTRO!$E$41=\"Non-endemic\"),0,COUNTRY_INFO!V27)","v":0},{"$f":"IF(AND(INTRO!$E$37=\"Non-endemic\",INTRO!$E$41=\"Non-endemic\"),0,COUNTRY_INFO!X27)","v":0},{"$f":"IF(INTRO!$E$39=\"Non-endemic\",IF($D27=1,DEC!I27,0),IF($D27=1,IVM!G27,0))","v":0},null,{"$f":"IF(OR(COUNTRY_INFO!N27=\"Unknown\",COUNTRY_INFO!N27=\"Surveillance\",COUNTRY_INFO!N27=\"Not required\",COUNTRY_INFO!N27=0),0,IF(INTRO!$E$39=\"Non-endemic\",IF(AND($E27<>0,$G27=\"\"),IF($F27=0,COUNTRY_INFO!N27*$E27,COUNTRY_INFO!N27*($E27-$D27)),IF(AND($E27<>0,$G27<>0),IF($F27=0,COUNTRY_INFO!N27*$G27,COUNTRY_INFO!N27*($G27-$D27)),0)),IF($G27=\"\",COUNTRY_INFO!N27*$E27,COUNTRY_INFO!N27*$G27)))","v":0},{"$f":"IF(OR(COUNTRY_INFO!O27=\"Unknown\",COUNTRY_INFO!O27=\"Surveillance\",COUNTRY_INFO!O27=\"Not required\",COUNTRY_INFO!O27=0),0,IF($E27<>0, IF($F27=0,COUNTRY_INFO!O27*$E27,COUNTRY_INFO!O27*($E27-$D27)),COUNTRY_INFO!O27*$E27))","v":0},null,{"$f":"IF(OR(COUNTRY_INFO!P27=\"Unknown\",COUNTRY_INFO!P27=\"Surveillance\",COUNTRY_INFO!P27=\"Not required\",COUNTRY_INFO!P27=0),0,IF(AND($E27<>0,$J27=\"\"),IF($F27=0,COUNTRY_INFO!P27*$E27,COUNTRY_INFO!P27*($E27-$D27)), IF(AND($E27<>0,$J27<>0),IF($F27=0,COUNTRY_INFO!P27*$J27,COUNTRY_INFO!P27*($J27-$D27)), COUNTRY_INFO!P27*$J27)))","v":0},0,0,null,0,0,null,0,0,null,0]
[{"$f":"IF(AND(INTRO!$E$37=\"Non-endemic\",INTRO!$E$41=\"Non-endemic\"),\" \",IF(COUNTRY_INFO!A28=0,\" \",COUNTRY_INFO!A28))","v":"Ghana"},{"$f":"IF(AND(INTRO!$E$37=\"Non-endemic\",INTRO!$E$41=\"Non-endemic\"),\" \",IF(COUNTRY_INFO!B28=0,\" \",COUNTRY_INFO!B28))","v":"Ashanti"},{"$f":"IF(AND(INTRO!$E$37=\"Non-endemic\",INTRO!$E$41=\"Non-endemic\"),\" \",IF(COUNTRY_INFO!C28=0,\" \",COUNTRY_INFO!C28))","v":"Asante Akim Central"},{"$f":"IF(AND(INTRO!$E$37=\"Non-endemic\",INTRO!$E$41=\"Non-endemic\"),0,COUNTRY_INFO!V28)","v":0},{"$f":"IF(AND(INTRO!$E$37=\"Non-endemic\",INTRO!$E$41=\"Non-endemic\"),0,COUNTRY_INFO!X28)","v":0},{"$f":"IF(INTRO!$E$39=\"Non-endemic\",IF($D28=1,DEC!I28,0),IF($D28=1,IVM!G28,0))","v":0},null,{"$f":"IF(OR(COUNTRY_INFO!N28=\"Unknown\",COUNTRY_INFO!N28=\"Surveillance\",COUNTRY_INFO!N28=\"Not required\",COUNTRY_INFO!N28=0),0,IF(INTRO!$E$39=\"Non-endemic\",IF(AND($E28<>0,$G28=\"\"),IF($F28=0,COUNTRY_INFO!N28*$E28,COUNTRY_INFO!N28*($E28-$D28)),IF(AND($E28<>0,$G28<>0),IF($F28=0,COUNTRY_INFO!N28*$G28,COUNTRY_INFO!N28*($G28-$D28)),0)),IF($G28=\"\",COUNTRY_INFO!N28*$E28,COUNTRY_INFO!N28*$G28)))","v":0},{"$f":"IF(OR(COUNTRY_INFO!O28=\"Unknown\",COUNTRY_INFO!O28=\"Surveillance\",COUNTRY_INFO!O28=\"Not required\",COUNTRY_INFO!O28=0),0,IF($E28<>0, IF($F28=0,COUNTRY_INFO!O28*$E28,COUNTRY_INFO!O28*($E28-$D28)),COUNTRY_INFO!O28*$E28))","v":0},null,{"$f":"IF(OR(COUNTRY_INFO!P28=\"Unknown\",COUNTRY_INFO!P28=\"Surveillance\",COUNTRY_INFO!P28=\"Not required\",COUNTRY_INFO!P28=0),0,IF(AND($E28<>0,$J28=\"\"),IF($F28=0,COUNTRY_INFO!P28*$E28,COUNTRY_INFO!P28*($E28-$D28)), IF(AND($E28<>0,$J28<>0),IF($F28=0,COUNTRY_INFO!P28*$J28,COUNTRY_INFO!P28*($J28-$D28)), COUNTRY_INFO!P28*$J28)))","v":0},0,0,null,0,0,null,0,0,null,0]
[{"$f":"IF(AND(INTRO!$E$37=\"Non-endemic\",INTRO!$E$41=\"Non-endemic\"),\" \",IF(COUNTRY_INFO!A29=0,\" \",COUNTRY_INFO!A29))","v":"Ghana"},{"$f":"IF(AND(INTRO!$E$37=\"Non-endemic\",INTRO!$E$41=\"Non-endemic\"),\" \",IF(COUNTRY_INFO!B29=0,\" \",COUNTRY_INFO!B29))","v":"Ashanti"},{"$f":"IF(AND(INTRO!$E$37=\"Non-endemic\",INTRO!$E$41=\"Non-endemic\"),\" \",IF(COUNTRY_INFO!C29=0,\" \",COUNTRY_INFO!C29))","v":"Asante Akim North"},{"$f":"IF(AND(INTRO!$E$37=\"Non-endemic\",INTRO!$E$41=\"Non-endemic\"),0,COUNTRY_INFO!V29)","v":0},{"$f":"IF(AND(INTRO!$E$37=\"Non-endemic\",INTRO!$E$41=\"Non-endemic\"),0,COUNTRY_INFO!X29)","v":0},{"$f":"IF(INTRO!$E$39=\"Non-endemic\",IF($D29=1,DEC!I29,0),IF($D29=1,IVM!G29,0))","v":0},null,{"$f":"IF(OR(COUNTRY_INFO!N29=\"Unknown\",COUNTRY_INFO!N29=\"Surveillance\",COUNTRY_INFO!N29=\"Not required\",COUNTRY_INFO!N29=0),0,IF(INTRO!$E$39=\"Non-endemic\",IF(AND($E29<>0,$G29=\"\"),IF($F29=0,COUNTRY_INFO!N29*$E29,COUNTRY_INFO!N29*($E29-$D29)),IF(AND($E29<>0,$G29<>0),IF($F29=0,COUNTRY_INFO!N29*$G29,COUNTRY_INFO!N29*($G29-$D29)),0)),IF($G29=\"\",COUNTRY_INFO!N29*$E29,COUNTRY_INFO!N29*$G29)))","v":0},{"$f":"IF(OR(COUNTRY_INFO!O29=\"Unknown\",COUNTRY_INFO!O29=\"Surveillance\",COUNTRY_INFO!O29=\"Not required\",COUNTRY_INFO!O29=0),0,IF($E29<>0, IF($F29=0,COUNTRY_INFO!O29*$E29,COUNTRY_INFO!O29*($E29-$D29)),COUNTRY_INFO!O29*$E29))","v":0},null,{"$f":"IF(OR(COUNTRY_INFO!P29=\"Unknown\",COUNTRY_INFO!P29=\"Surveillance\",COUNTRY_INFO!P29=\"Not required\",COUNTRY_INFO!P29=0),0,IF(AND($E29<>0,$J29=\"\"),IF($F29=0,COUNTRY_INFO!P29*$E29,COUNTRY_INFO!P29*($E29-$D29)), IF(AND($E29<>0,$J29<>0),IF($F29=0,COUNTRY_INFO!P29*$J29,COUNTRY_INFO!P29*($J29-$D29)), COUNTRY_INFO!P29*$J29)))","v":0},0,0,null,0,0,null,0,0,null,0]
[{"$f":"IF(AND(INTRO!$E$37=\"Non-endemic\",INTRO!$E$41=\"Non-endemic\"),\" \",IF(COUNTRY_INFO!A30=0,\" \",COUNTRY_INFO!A30))","v":"Ghana"},{"$f":"IF(AND(INTRO!$E$37=\"Non-endemic\",INTRO!$E$41=\"Non-endemic\"),\" \",IF(COUNTRY_INFO!B30=0,\" \",COUNTRY_INFO!B30))","v":"Ashanti"},{"$f":"IF(AND(INTRO!$E$37=\"Non-endemic\",INTRO!$E$41=\"Non-endemic\"),\" \",IF(COUNTRY_INFO!C30=0,\" \",COUNTRY_INFO!C30))","v":"Asante Akim South"},{"$f":"IF(AND(INTRO!$E$37=\"Non-endemic\",INTRO!$E$41=\"Non-endemic\"),0,COUNTRY_INFO!V30)","v":0},{"$f":"IF(AND(INTRO!$E$37=\"Non-endemic\",INTRO!$E$41=\"Non-endemic\"),0,COUNTRY_INFO!X30)","v":0},{"$f":"IF(INTRO!$E$39=\"Non-endemic\",IF($D30=1,DEC!I30,0),IF($D30=1,IVM!G30,0))","v":0},null,{"$f":"IF(OR(COUNTRY_INFO!N30=\"Unknown\",COUNTRY_INFO!N30=\"Surveillance\",COUNTRY_INFO!N30=\"Not required\",COUNTRY_INFO!N30=0),0,IF(INTRO!$E$39=\"Non-endemic\",IF(AND($E30<>0,$G30=\"\"),IF($F30=0,COUNTRY_INFO!N30*$E30,COUNTRY_INFO!N30*($E30-$D30)),IF(AND($E30<>0,$G30<>0),IF($F30=0,COUNTRY_INFO!N30*$G30,COUNTRY_INFO!N30*($G30-$D30)),0)),IF($G30=\"\",COUNTRY_INFO!N30*$E30,COUNTRY_INFO!N30*$G30)))","v":0},{"$f":"IF(OR(COUNTRY_INFO!O30=\"Unknown\",COUNTRY_INFO!O30=\"Surveillance\",COUNTRY_INFO!O30=\"Not required\",COUNTRY_INFO!O30=0),0,IF($E30<>0, IF($F30=0,COUNTRY_INFO!O30*$E30,COUNTRY_INFO!O30*($E30-$D30)),COUNTRY_INFO!O30*$E30))","v":0},null,{"$f":"IF(OR(COUNTRY_INFO!P30=\"Unknown\",COUNTRY_INFO!P30=\"Surveillance\",COUNTRY_INFO!P30=\"Not required\",COUNTRY_INFO!P30=0),0,IF(AND($E30<>0,$J30=\"\"),IF($F30=0,COUNTRY_INFO!P30*$E30,COUNTRY_INFO!P30*($E30-$D30)), IF(AND($E30<>0,$J30<>0),IF($F30=0,COUNTRY_INFO!P30*$J30,COUNTRY_INFO!P30*($J30-$D30)), COUNTRY_INFO!P30*$J30)))","v":0},0,0,null,0,0,null,0,0,null,0]
[{"$f":"IF(AND(INTRO!$E$37=\"Non-endemic\",INTRO!$E$41=\"Non-endemic\"),\" \",IF(COUNTRY_INFO!A31=0,\" \",COUNTRY_INFO!A31))","v":"Ghana"},{"$f":"IF(AND(INTRO!$E$37=\"Non-endemic\",INTRO!$E$41=\"Non-endemic\"),\" \",IF(COUNTRY_INFO!B31=0,\" \",COUNTRY_INFO!B31))","v":"Ashanti"},{"$f":"IF(AND(INTRO!$E$37=\"Non-endemic\",INTRO!$E$41=\"Non-endemic\"),\" \",IF(COUNTRY_INFO!C31=0,\" \",COUNTRY_INFO!C31))","v":"Asante Mampong"},{"$f":"IF(AND(INTRO!$E$37=\"Non-endemic\",INTRO!$E$41=\"Non-endemic\"),0,COUNTRY_INFO!V31)","v":0},{"$f":"IF(AND(INTRO!$E$37=\"Non-endemic\",INTRO!$E$41=\"Non-endemic\"),0,COUNTRY_INFO!X31)","v":0},{"$f":"IF(INTRO!$E$39=\"Non-endemic\",IF($D31=1,DEC!I31,0),IF($D31=1,IVM!G31,0))","v":0},null,{"$f":"IF(OR(COUNTRY_INFO!N31=\"Unknown\",COUNTRY_INFO!N31=\"Surveillance\",COUNTRY_INFO!N31=\"Not required\",COUNTRY_INFO!N31=0),0,IF(INTRO!$E$39=\"Non-endemic\",IF(AND($E31<>0,$G31=\"\"),IF($F31=0,COUNTRY_INFO!N31*$E31,COUNTRY_INFO!N31*($E31-$D31)),IF(AND($E31<>0,$G31<>0),IF($F31=0,COUNTRY_INFO!N31*$G31,COUNTRY_INFO!N31*($G31-$D31)),0)),IF($G31=\"\",COUNTRY_INFO!N31*$E31,COUNTRY_INFO!N31*$G31)))","v":0},{"$f":"IF(OR(COUNTRY_INFO!O31=\"Unknown\",COUNTRY_INFO!O31=\"Surveillance\",COUNTRY_INFO!O31=\"Not required\",COUNTRY_INFO!O31=0),0,IF($E31<>0, IF($F31=0,COUNTRY_INFO!O31*$E31,COUNTRY_INFO!O31*($E31-$D31)),COUNTRY_INFO!O31*$E31))","v":0},null,{"$f":"IF(OR(COUNTRY_INFO!P31=\"Unknown\",COUNTRY_INFO!P31=\"Surveillance\",COUNTRY_INFO!P31=\"Not required\",COUNTRY_INFO!P31=0),0,IF(AND($E31<>0,$J31=\"\"),IF($F31=0,COUNTRY_INFO!P31*$E31,COUNTRY_INFO!P31*($E31-$D31)), IF(AND($E31<>0,$J31<>0),IF($F31=0,COUNTRY_INFO!P31*$J31,COUNTRY_INFO!P31*($J31-$D31)), COUNTRY_INFO!P31*$J31)))","v":0},0,0,null,0,0,null,0,0,null,0]
[{"$f":"IF(AND(INTRO!$E$37=\"Non-endemic\",INTRO!$E$41=\"Non-endemic\"),\" \",IF(COUNTRY_INFO!A32=0,\" \",COUNTRY_INFO!A32))","v":"Ghana"},{"$f":"IF(AND(INTRO!$E$37=\"Non-endemic\",INTRO!$E$41=\"Non-endemic\"),\" \",IF(COUNTRY_INFO!B32=0,\" \",COUNTRY_INFO!B32))","v":"Ashanti"},{"$f":"IF(AND(INTRO!$E$37=\"Non-endemic\",INTRO!$E$41=\"Non-endemic\"),\" \",IF(COUNTRY_INFO!C32=0,\" \",COUNTRY_INFO!C32))","v":"Asokore Mampong"},{"$f":"IF(AND(INTRO!$E$37=\"Non-endemic\",INTRO!$E$41=\"Non-endemic\"),0,COUNTRY_INFO!V32)","v":0},{"$f":"IF(AND(INTRO!$E$37=\"Non-endemic\",INTRO!$E$41=\"Non-endemic\"),0,COUNTRY_INFO!X32)","v":0},{"$f":"IF(INTRO!$E$39=\"Non-endemic\",IF($D32=1,DEC!I32,0),IF($D32=1,IVM!G32,0))","v":0},null,{"$f":"IF(OR(COUNTRY_INFO!N32=\"Unknown\",COUNTRY_INFO!N32=\"Surveillance\",COUNTRY_INFO!N32=\"Not required\",COUNTRY_INFO!N32=0),0,IF(INTRO!$E$39=\"Non-endemic\",IF(AND($E32<>0,$G32=\"\"),IF($F32=0,COUNTRY_INFO!N32*$E32,COUNTRY_INFO!N32*($E32-$D32)),IF(AND($E32<>0,$G32<>0),IF($F32=0,COUNTRY_INFO!N32*$G32,COUNTRY_INFO!N32*($G32-$D32)),0)),IF($G32=\"\",COUNTRY_INFO!N32*$E32,COUNTRY_INFO!N32*$G32)))","v":0},{"$f":"IF(OR(COUNTRY_INFO!O32=\"Unknown\",COUNTRY_INFO!O32=\"Surveillance\",COUNTRY_INFO!O32=\"Not required\",COUNTRY_INFO!O32=0),0,IF($E32<>0, IF($F32=0,COUNTRY_INFO!O32*$E32,COUNTRY_INFO!O32*($E32-$D32)),COUNTRY_INFO!O32*$E32))","v":0},null,{"$f":"IF(OR(COUNTRY_INFO!P32=\"Unknown\",COUNTRY_INFO!P32=\"Surveillance\",COUNTRY_INFO!P32=\"Not required\",COUNTRY_INFO!P32=0),0,IF(AND($E32<>0,$J32=\"\"),IF($F32=0,COUNTRY_INFO!P32*$E32,COUNTRY_INFO!P32*($E32-$D32)), IF(AND($E32<>0,$J32<>0),IF($F32=0,COUNTRY_INFO!P32*$J32,COUNTRY_INFO!P32*($J32-$D32)), COUNTRY_INFO!P32*$J32)))","v":0},0,0,null,0,0,null,0,0,null,0]
[{"$f":"IF(AND(INTRO!$E$37=\"Non-endemic\",INTRO!$E$41=\"Non-endemic\"),\" \",IF(COUNTRY_INFO!A33=0,\" \",COUNTRY_INFO!A33))","v":"Ghana"},{"$f":"IF(AND(INTRO!$E$37=\"Non-endemic\",INTRO!$E$41=\"Non-endemic\"),\" \",IF(COUNTRY_INFO!B33=0,\" \",COUNTRY_INFO!B33))","v":"Ashanti"},{"$f":"IF(AND(INTRO!$E$37=\"Non-endemic\",INTRO!$E$41=\"Non-endemic\"),\" \",IF(COUNTRY_INFO!C33=0,\" \",COUNTRY_INFO!C33))","v":"Asokwa"},{"$f":"IF(AND(INTRO!$E$37=\"Non-endemic\",INTRO!$E$41=\"Non-endemic\"),0,COUNTRY_INFO!V33)","v":0},{"$f":"IF(AND(INTRO!$E$37=\"Non-endemic\",INTRO!$E$41=\"Non-endemic\"),0,COUNTRY_INFO!X33)","v":0},{"$f":"IF(INTRO!$E$39=\"Non-endemic\",IF($D33=1,DEC!I33,0),IF($D33=1,IVM!G33,0))","v":0},null,{"$f":"IF(OR(COUNTRY_INFO!N33=\"Unknown\",COUNTRY_INFO!N33=\"Surveillance\",COUNTRY_INFO!N33=\"Not required\",COUNTRY_INFO!N33=0),0,IF(INTRO!$E$39=\"Non-endemic\",IF(AND($E33<>0,$G33=\"\"),IF($F33=0,COUNTRY_INFO!N33*$E33,COUNTRY_INFO!N33*($E33-$D33)),IF(AND($E33<>0,$G33<>0),IF($F33=0,COUNTRY_INFO!N33*$G33,COUNTRY_INFO!N33*($G33-$D33)),0)),IF($G33=\"\",COUNTRY_INFO!N33*$E33,COUNTRY_INFO!N33*$G33)))","v":0},{"$f":"IF(OR(COUNTRY_INFO!O33=\"Unknown\",COUNTRY_INFO!O33=\"Surveillance\",COUNTRY_INFO!O33=\"Not required\",COUNTRY_INFO!O33=0),0,IF($E33<>0, IF($F33=0,COUNTRY_INFO!O33*$E33,COUNTRY_INFO!O33*($E33-$D33)),COUNTRY_INFO!O33*$E33))","v":0},null,{"$f":"IF(OR(COUNTRY_INFO!P33=\"Unknown\",COUNTRY_INFO!P33=\"Surveillance\",COUNTRY_INFO!P33=\"Not required\",COUNTRY_INFO!P33=0),0,IF(AND($E33<>0,$J33=\"\"),IF($F33=0,COUNTRY_INFO!P33*$E33,COUNTRY_INFO!P33*($E33-$D33)), IF(AND($E33<>0,$J33<>0),IF($F33=0,COUNTRY_INFO!P33*$J33,COUNTRY_INFO!P33*($J33-$D33)), COUNTRY_INFO!P33*$J33)))","v":0},0,0,null,0,0,null,0,0,null,0]
[{"$f":"IF(AND(INTRO!$E$37=\"Non-endemic\",INTRO!$E$41=\"Non-endemic\"),\" \",IF(COUNTRY_INFO!A34=0,\" \",COUNTRY_INFO!A34))","v":"Ghana"},{"$f":"IF(AND(INTRO!$E$37=\"Non-endemic\",INTRO!$E$41=\"Non-endemic\"),\" \",IF(COUNTRY_INFO!B34=0,\" \",COUNTRY_INFO!B34))","v":"Ashanti"},{"$f":"IF(AND(INTRO!$E$37=\"Non-endemic\",INTRO!$E$41=\"Non-endemic\"),\" \",IF(COUNTRY_INFO!C34=0,\" \",COUNTRY_INFO!C34))","v":"Atwima Kwanwoma"},{"$f":"IF(AND(INTRO!$E$37=\"Non-endemic\",INTRO!$E$41=\"Non-endemic\"),0,COUNTRY_INFO!V34)","v":0},{"$f":"IF(AND(INTRO!$E$37=\"Non-endemic\",INTRO!$E$41=\"Non-endemic\"),0,COUNTRY_INFO!X34)","v":0},{"$f":"IF(INTRO!$E$39=\"Non-endemic\",IF($D34=1,DEC!I34,0),IF($D34=1,IVM!G34,0))","v":0},null,{"$f":"IF(OR(COUNTRY_INFO!N34=\"Unknown\",COUNTRY_INFO!N34=\"Surveillance\",COUNTRY_INFO!N34=\"Not required\",COUNTRY_INFO!N34=0),0,IF(INTRO!$E$39=\"Non-endemic\",IF(AND($E34<>0,$G34=\"\"),IF($F34=0,COUNTRY_INFO!N34*$E34,COUNTRY_INFO!N34*($E34-$D34)),IF(AND($E34<>0,$G34<>0),IF($F34=0,COUNTRY_INFO!N34*$G34,COUNTRY_INFO!N34*($G34-$D34)),0)),IF($G34=\"\",COUNTRY_INFO!N34*$E34,COUNTRY_INFO!N34*$G34)))","v":0},{"$f":"IF(OR(COUNTRY_INFO!O34=\"Unknown\",COUNTRY_INFO!O34=\"Surveillance\",COUNTRY_INFO!O34=\"Not required\",COUNTRY_INFO!O34=0),0,IF($E34<>0, IF($F34=0,COUNTRY_INFO!O34*$E34,COUNTRY_INFO!O34*($E34-$D34)),COUNTRY_INFO!O34*$E34))","v":0},null,{"$f":"IF(OR(COUNTRY_INFO!P34=\"Unknown\",COUNTRY_INFO!P34=\"Surveillance\",COUNTRY_INFO!P34=\"Not required\",COUNTRY_INFO!P34=0),0,IF(AND($E34<>0,$J34=\"\"),IF($F34=0,COUNTRY_INFO!P34*$E34,COUNTRY_INFO!P34*($E34-$D34)), IF(AND($E34<>0,$J34<>0),IF($F34=0,COUNTRY_INFO!P34*$J34,COUNTRY_INFO!P34*($J34-$D34)), COUNTRY_INFO!P34*$J34)))","v":0},0,0,null,0,0,null,0,0,null,0]
[{"$f":"IF(AND(INTRO!$E$37=\"Non-endemic\",INTRO!$E$41=\"Non-endemic\"),\" \",IF(COUNTRY_INFO!A35=0,\" \",COUNTRY_INFO!A35))","v":"Ghana"},{"$f":"IF(AND(INTRO!$E$37=\"Non-endemic\",INTRO!$E$41=\"Non-endemic\"),\" \",IF(COUNTRY_INFO!B35=0,\" \",COUNTRY_INFO!B35))","v":"Ashanti"},{"$f":"IF(AND(INTRO!$E$37=\"Non-endemic\",INTRO!$E$41=\"Non-endemic\"),\" \",IF(COUNTRY_INFO!C35=0,\" \",COUNTRY_INFO!C35))","v":"Atwima Mponua"},{"$f":"IF(AND(INTRO!$E$37=\"Non-endemic\",INTRO!$E$41=\"Non-endemic\"),0,COUNTRY_INFO!V35)","v":0},{"$f":"IF(AND(INTRO!$E$37=\"Non-endemic\",INTRO!$E$41=\"Non-endemic\"),0,COUNTRY_INFO!X35)","v":0},{"$f":"IF(INTRO!$E$39=\"Non-endemic\",IF($D35=1,DEC!I35,0),IF($D35=1,IVM!G35,0))","v":0},null,{"$f":"IF(OR(COUNTRY_INFO!N35=\"Unknown\",COUNTRY_INFO!N35=\"Surveillance\",COUNTRY_INFO!N35=\"Not required\",COUNTRY_INFO!N35=0),0,IF(INTRO!$E$39=\"Non-endemic\",IF(AND($E35<>0,$G35=\"\"),IF($F35=0,COUNTRY_INFO!N35*$E35,COUNTRY_INFO!N35*($E35-$D35)),IF(AND($E35<>0,$G35<>0),IF($F35=0,COUNTRY_INFO!N35*$G35,COUNTRY_INFO!N35*($G35-$D35)),0)),IF($G35=\"\",COUNTRY_INFO!N35*$E35,COUNTRY_INFO!N35*$G35)))","v":0},{"$f":"IF(OR(COUNTRY_INFO!O35=\"Unknown\",COUNTRY_INFO!O35=\"Surveillance\",COUNTRY_INFO!O35=\"Not required\",COUNTRY_INFO!O35=0),0,IF($E35<>0, IF($F35=0,COUNTRY_INFO!O35*$E35,COUNTRY_INFO!O35*($E35-$D35)),COUNTRY_INFO!O35*$E35))","v":0},null,{"$f":"IF(OR(COUNTRY_INFO!P35=\"Unknown\",COUNTRY_INFO!P35=\"Surveillance\",COUNTRY_INFO!P35=\"Not required\",COUNTRY_INFO!P35=0),0,IF(AND($E35<>0,$J35=\"\"),IF($F35=0,COUNTRY_INFO!P35*$E35,COUNTRY_INFO!P35*($E35-$D35)), IF(AND($E35<>0,$J35<>0),IF($F35=0,COUNTRY_INFO!P35*$J35,COUNTRY_INFO!P35*($J35-$D35)), COUNTRY_INFO!P35*$J35)))","v":0},0,0,null,0,0,null,0,0,null,0]
[{"$f":"IF(AND(INTRO!$E$37=\"Non-endemic\",INTRO!$E$41=\"Non-endemic\"),\" \",IF(COUNTRY_INFO!A36=0,\" \",COUNTRY_INFO!A36))","v":"Ghana"},{"$f":"IF(AND(INTRO!$E$37=\"Non-endemic\",INTRO!$E$41=\"Non-endemic\"),\" \",IF(COUNTRY_INFO!B36=0,\" \",COUNTRY_INFO!B36))","v":"Ashanti"},{"$f":"IF(AND(INTRO!$E$37=\"Non-endemic\",INTRO!$E$41=\"Non-endemic\"),\" \",IF(COUNTRY_INFO!C36=0,\" \",COUNTRY_INFO!C36))","v":"Atwima Nwabiagya"},{"$f":"IF(AND(INTRO!$E$37=\"Non-endemic\",INTRO!$E$41=\"Non-endemic\"),0,COUNTRY_INFO!V36)","v":0},{"$f":"IF(AND(INTRO!$E$37=\"Non-endemic\",INTRO!$E$41=\"Non-endemic\"),0,COUNTRY_INFO!X36)","v":0},{"$f":"IF(INTRO!$E$39=\"Non-endemic\",IF($D36=1,DEC!I36,0),IF($D36=1,IVM!G36,0))","v":0},null,{"$f":"IF(OR(COUNTRY_INFO!N36=\"Unknown\",COUNTRY_INFO!N36=\"Surveillance\",COUNTRY_INFO!N36=\"Not required\",COUNTRY_INFO!N36=0),0,IF(INTRO!$E$39=\"Non-endemic\",IF(AND($E36<>0,$G36=\"\"),IF($F36=0,COUNTRY_INFO!N36*$E36,COUNTRY_INFO!N36*($E36-$D36)),IF(AND($E36<>0,$G36<>0),IF($F36=0,COUNTRY_INFO!N36*$G36,COUNTRY_INFO!N36*($G36-$D36)),0)),IF($G36=\"\",COUNTRY_INFO!N36*$E36,COUNTRY_INFO!N36*$G36)))","v":0},{"$f":"IF(OR(COUNTRY_INFO!O36=\"Unknown\",COUNTRY_INFO!O36=\"Surveillance\",COUNTRY_INFO!O36=\"Not required\",COUNTRY_INFO!O36=0),0,IF($E36<>0, IF($F36=0,COUNTRY_INFO!O36*$E36,COUNTRY_INFO!O36*($E36-$D36)),COUNTRY_INFO!O36*$E36))","v":0},null,{"$f":"IF(OR(COUNTRY_INFO!P36=\"Unknown\",COUNTRY_INFO!P36=\"Surveillance\",COUNTRY_INFO!P36=\"Not required\",COUNTRY_INFO!P36=0),0,IF(AND($E36<>0,$J36=\"\"),IF($F36=0,COUNTRY_INFO!P36*$E36,COUNTRY_INFO!P36*($E36-$D36)), IF(AND($E36<>0,$J36<>0),IF($F36=0,COUNTRY_INFO!P36*$J36,COUNTRY_INFO!P36*($J36-$D36)), COUNTRY_INFO!P36*$J36)))","v":0},0,0,null,0,0,null,0,0,null,0]
[{"$f":"IF(AND(INTRO!$E$37=\"Non-endemic\",INTRO!$E$41=\"Non-endemic\"),\" \",IF(COUNTRY_INFO!A37=0,\" \",COUNTRY_INFO!A37))","v":"Ghana"},{"$f":"IF(AND(INTRO!$E$37=\"Non-endemic\",INTRO!$E$41=\"Non-endemic\"),\" \",IF(COUNTRY_INFO!B37=0,\" \",COUNTRY_INFO!B37))","v":"Ashanti"},{"$f":"IF(AND(INTRO!$E$37=\"Non-endemic\",INTRO!$E$41=\"Non-endemic\"),\" \",IF(COUNTRY_INFO!C37=0,\" \",COUNTRY_INFO!C37))","v":"Atwima Nwabiagya North"},{"$f":"IF(AND(INTRO!$E$37=\"Non-endemic\",INTRO!$E$41=\"Non-endemic\"),0,COUNTRY_INFO!V37)","v":0},{"$f":"IF(AND(INTRO!$E$37=\"Non-endemic\",INTRO!$E$41=\"Non-endemic\"),0,COUNTRY_INFO!X37)","v":0},{"$f":"IF(INTRO!$E$39=\"Non-endemic\",IF($D37=1,DEC!I37,0),IF($D37=1,IVM!G37,0))","v":0},null,{"$f":"IF(OR(COUNTRY_INFO!N37=\"Unknown\",COUNTRY_INFO!N37=\"Surveillance\",COUNTRY_INFO!N37=\"Not required\",COUNTRY_INFO!N37=0),0,IF(INTRO!$E$39=\"Non-endemic\",IF(AND($E37<>0,$G37=\"\"),IF($F37=0,COUNTRY_INFO!N37*$E37,COUNTRY_INFO!N37*($E37-$D37)),IF(AND($E37<>0,$G37<>0),IF($F37=0,COUNTRY_INFO!N37*$G37,COUNTRY_INFO!N37*($G37-$D37)),0)),IF($G37=\"\",COUNTRY_INFO!N37*$E37,COUNTRY_INFO!N37*$G37)))","v":0},{"$f":"IF(OR(COUNTRY_INFO!O37=\"Unknown\",COUNTRY_INFO!O37=\"Surveillance\",COUNTRY_INFO!O37=\"Not required\",COUNTRY_INFO!O37=0),0,IF($E37<>0, IF($F37=0,COUNTRY_INFO!O37*$E37,COUNTRY_INFO!O37*($E37-$D37)),COUNTRY_INFO!O37*$E37))","v":0},null,{"$f":"IF(OR(COUNTRY_INFO!P37=\"Unknown\",COUNTRY_INFO!P37=\"Surveillance\",COUNTRY_INFO!P37=\"Not required\",COUNTRY_INFO!P37=0),0,IF(AND($E37<>0,$J37=\"\"),IF($F37=0,COUNTRY_INFO!P37*$E37,COUNTRY_INFO!P37*($E37-$D37)), IF(AND($E37<>0,$J37<>0),IF($F37=0,COUNTRY_INFO!P37*$J37,COUNTRY_INFO!P37*($J37-$D37)), COUNTRY_INFO!P37*$J37)))","v":0},0,0,null,0,0,null,0,0,null,0]
[{"$f":"IF(AND(INTRO!$E$37=\"Non-endemic\",INTRO!$E$41=\"Non-endemic\"),\" \",IF(COUNTRY_INFO!A38=0,\" \",COUNTRY_INFO!A38))","v":"Ghana"},{"$f":"IF(AND(INTRO!$E$37=\"Non-endemic\",INTRO!$E$41=\"Non-endemic\"),\" \",IF(COUNTRY_INFO!B38=0,\" \",COUNTRY_INFO!B38))","v":"Ashanti"},{"$f":"IF(AND(INTRO!$E$37=\"Non-endemic\",INTRO!$E$41=\"Non-endemic\"),\" \",IF(COUNTRY_INFO!C38=0,\" \",COUNTRY_INFO!C38))","v":"Bekwai"},{"$f":"IF(AND(INTRO!$E$37=\"Non-endemic\",INTRO!$E$41=\"Non-endemic\"),0,COUNTRY_INFO!V38)","v":0},{"$f":"IF(AND(INTRO!$E$37=\"Non-endemic\",INTRO!$E$41=\"Non-endemic\"),0,COUNTRY_INFO!X38)","v":0},{"$f":"IF(INTRO!$E$39=\"Non-endemic\",IF($D38=1,DEC!I38,0),IF($D38=1,IVM!G38,0))","v":0},null,{"$f":"IF(OR(COUNTRY_INFO!N38=\"Unknown\",COUNTRY_INFO!N38=\"Surveillance\",COUNTRY_INFO!N38=\"Not required\",COUNTRY_INFO!N38=0),0,IF(INTRO!$E$39=\"Non-endemic\",IF(AND($E38<>0,$G38=\"\"),IF($F38=0,COUNTRY_INFO!N38*$E38,COUNTRY_INFO!N38*($E38-$D38)),IF(AND($E38<>0,$G38<>0),IF($F38=0,COUNTRY_INFO!N38*$G38,COUNTRY_INFO!N38*($G38-$D38)),0)),IF($G38=\"\",COUNTRY_INFO!N38*$E38,COUNTRY_INFO!N38*$G38)))","v":0},{"$f":"IF(OR(COUNTRY_INFO!O38=\"Unknown\",COUNTRY_INFO!O38=\"Surveillance\",COUNTRY_INFO!O38=\"Not required\",COUNTRY_INFO!O38=0),0,IF($E38<>0, IF($F38=0,COUNTRY_INFO!O38*$E38,COUNTRY_INFO!O38*($E38-$D38)),COUNTRY_INFO!O38*$E38))","v":0},null,{"$f":"IF(OR(COUNTRY_INFO!P38=\"Unknown\",COUNTRY_INFO!P38=\"Surveillance\",COUNTRY_INFO!P38=\"Not required\",COUNTRY_INFO!P38=0),0,IF(AND($E38<>0,$J38=\"\"),IF($F38=0,COUNTRY_INFO!P38*$E38,COUNTRY_INFO!P38*($E38-$D38)), IF(AND($E38<>0,$J38<>0),IF($F38=0,COUNTRY_INFO!P38*$J38,COUNTRY_INFO!P38*($J38-$D38)), COUNTRY_INFO!P38*$J38)))","v":0},0,0,null,0,0,null,0,0,null,0]
[{"$f":"IF(AND(INTRO!$E$37=\"Non-endemic\",INTRO!$E$41=\"Non-endemic\"),\" \",IF(COUNTRY_INFO!A39=0,\" \",COUNTRY_INFO!A39))","v":"Ghana"},{"$f":"IF(AND(INTRO!$E$37=\"Non-endemic\",INTRO!$E$41=\"Non-endemic\"),\" \",IF(COUNTRY_INFO!B39=0,\" \",COUNTRY_INFO!B39))","v":"Ashanti"},{"$f":"IF(AND(INTRO!$E$37=\"Non-endemic\",INTRO!$E$41=\"Non-endemic\"),\" \",IF(COUNTRY_INFO!C39=0,\" \",COUNTRY_INFO!C39))","v":"Bosome Freho"},{"$f":"IF(AND(INTRO!$E$37=\"Non-endemic\",INTRO!$E$41=\"Non-endemic\"),0,COUNTRY_INFO!V39)","v":0},{"$f":"IF(AND(INTRO!$E$37=\"Non-endemic\",INTRO!$E$41=\"Non-endemic\"),0,COUNTRY_INFO!X39)","v":0},{"$f":"IF(INTRO!$E$39=\"Non-endemic\",IF($D39=1,DEC!I39,0),IF($D39=1,IVM!G39,0))","v":0},null,{"$f":"IF(OR(COUNTRY_INFO!N39=\"Unknown\",COUNTRY_INFO!N39=\"Surveillance\",COUNTRY_INFO!N39=\"Not required\",COUNTRY_INFO!N39=0),0,IF(INTRO!$E$39=\"Non-endemic\",IF(AND($E39<>0,$G39=\"\"),IF($F39=0,COUNTRY_INFO!N39*$E39,COUNTRY_INFO!N39*($E39-$D39)),IF(AND($E39<>0,$G39<>0),IF($F39=0,COUNTRY_INFO!N39*$G39,COUNTRY_INFO!N39*($G39-$D39)),0)),IF($G39=\"\",COUNTRY_INFO!N39*$E39,COUNTRY_INFO!N39*$G39)))","v":0},{"$f":"IF(OR(COUNTRY_INFO!O39=\"Unknown\",COUNTRY_INFO!O39=\"Surveillance\",COUNTRY_INFO!O39=\"Not required\",COUNTRY_INFO!O39=0),0,IF($E39<>0, IF($F39=0,COUNTRY_INFO!O39*$E39,COUNTRY_INFO!O39*($E39-$D39)),COUNTRY_INFO!O39*$E39))","v":0},null,{"$f":"IF(OR(COUNTRY_INFO!P39=\"Unknown\",COUNTRY_INFO!P39=\"Surveillance\",COUNTRY_INFO!P39=\"Not required\",COUNTRY_INFO!P39=0),0,IF(AND($E39<>0,$J39=\"\"),IF($F39=0,COUNTRY_INFO!P39*$E39,COUNTRY_INFO!P39*($E39-$D39)), IF(AND($E39<>0,$J39<>0),IF($F39=0,COUNTRY_INFO!P39*$J39,COUNTRY_INFO!P39*($J39-$D39)), COUNTRY_INFO!P39*$J39)))","v":0},0,0,null,0,0,null,0,0,null,0]
[{"$f":"IF(AND(INTRO!$E$37=\"Non-endemic\",INTRO!$E$41=\"Non-endemic\"),\" \",IF(COUNTRY_INFO!A40=0,\" \",COUNTRY_INFO!A40))","v":"Ghana"},{"$f":"IF(AND(INTRO!$E$37=\"Non-endemic\",INTRO!$E$41=\"Non-endemic\"),\" \",IF(COUNTRY_INFO!B40=0,\" \",COUNTRY_INFO!B40))","v":"Ashanti"},{"$f":"IF(AND(INTRO!$E$37=\"Non-endemic\",INTRO!$E$41=\"Non-endemic\"),\" \",IF(COUNTRY_INFO!C40=0,\" \",COUNTRY_INFO!C40))","v":"Bosomtwe"},{"$f":"IF(AND(INTRO!$E$37=\"Non-endemic\",INTRO!$E$41=\"Non-endemic\"),0,COUNTRY_INFO!V40)","v":0},{"$f":"IF(AND(INTRO!$E$37=\"Non-endemic\",INTRO!$E$41=\"Non-endemic\"),0,COUNTRY_INFO!X40)","v":0},{"$f":"IF(INTRO!$E$39=\"Non-endemic\",IF($D40=1,DEC!I40,0),IF($D40=1,IVM!G40,0))","v":0},null,{"$f":"IF(OR(COUNTRY_INFO!N40=\"Unknown\",COUNTRY_INFO!N40=\"Surveillance\",COUNTRY_INFO!N40=\"Not required\",COUNTRY_INFO!N40=0),0,IF(INTRO!$E$39=\"Non-endemic\",IF(AND($E40<>0,$G40=\"\"),IF($F40=0,COUNTRY_INFO!N40*$E40,COUNTRY_INFO!N40*($E40-$D40)),IF(AND($E40<>0,$G40<>0),IF($F40=0,COUNTRY_INFO!N40*$G40,COUNTRY_INFO!N40*($G40-$D40)),0)),IF($G40=\"\",COUNTRY_INFO!N40*$E40,COUNTRY_INFO!N40*$G40)))","v":0},{"$f":"IF(OR(COUNTRY_INFO!O40=\"Unknown\",COUNTRY_INFO!O40=\"Surveillance\",COUNTRY_INFO!O40=\"Not required\",COUNTRY_INFO!O40=0),0,IF($E40<>0, IF($F40=0,COUNTRY_INFO!O40*$E40,COUNTRY_INFO!O40*($E40-$D40)),COUNTRY_INFO!O40*$E40))","v":0},null,{"$f":"IF(OR(COUNTRY_INFO!P40=\"Unknown\",COUNTRY_INFO!P40=\"Surveillance\",COUNTRY_INFO!P40=\"Not required\",COUNTRY_INFO!P40=0),0,IF(AND($E40<>0,$J40=\"\"),IF($F40=0,COUNTRY_INFO!P40*$E40,COUNTRY_INFO!P40*($E40-$D40)), IF(AND($E40<>0,$J40<>0),IF($F40=0,COUNTRY_INFO!P40*$J40,COUNTRY_INFO!P40*($J40-$D40)), COUNTRY_INFO!P40*$J40)))","v":0},0,0,null,0,0,null,0,0,null,0]
[{"$f":"IF(AND(INTRO!$E$37=\"Non-endemic\",INTRO!$E$41=\"Non-endemic\"),\" \",IF(COUNTRY_INFO!A41=0,\" \",COUNTRY_INFO!A41))","v":"Ghana"},{"$f":"IF(AND(INTRO!$E$37=\"Non-endemic\",INTRO!$E$41=\"Non-endemic\"),\" \",IF(COUNTRY_INFO!B41=0,\" \",COUNTRY_INFO!B41))","v":"Ashanti"},{"$f":"IF(AND(INTRO!$E$37=\"Non-endemic\",INTRO!$E$41=\"Non-endemic\"),\" \",IF(COUNTRY_INFO!C41=0,\" \",COUNTRY_INFO!C41))","v":"Ejisu"},{"$f":"IF(AND(INTRO!$E$37=\"Non-endemic\",INTRO!$E$41=\"Non-endemic\"),0,COUNTRY_INFO!V41)","v":0},{"$f":"IF(AND(INTRO!$E$37=\"Non-endemic\",INTRO!$E$41=\"Non-endemic\"),0,COUNTRY_INFO!X41)","v":0},{"$f":"IF(INTRO!$E$39=\"Non-endemic\",IF($D41=1,DEC!I41,0),IF($D41=1,IVM!G41,0))","v":0},null,{"$f":"IF(OR(COUNTRY_INFO!N41=\"Unknown\",COUNTRY_INFO!N41=\"Surveillance\",COUNTRY_INFO!N41=\"Not required\",COUNTRY_INFO!N41=0),0,IF(INTRO!$E$39=\"Non-endemic\",IF(AND($E41<>0,$G41=\"\"),IF($F41=0,COUNTRY_INFO!N41*$E41,COUNTRY_INFO!N41*($E41-$D41)),IF(AND($E41<>0,$G41<>0),IF($F41=0,COUNTRY_INFO!N41*$G41,COUNTRY_INFO!N41*($G41-$D41)),0)),IF($G41=\"\",COUNTRY_INFO!N41*$E41,COUNTRY_INFO!N41*$G41)))","v":0},{"$f":"IF(OR(COUNTRY_INFO!O41=\"Unknown\",COUNTRY_INFO!O41=\"Surveillance\",COUNTRY_INFO!O41=\"Not required\",COUNTRY_INFO!O41=0),0,IF($E41<>0, IF($F41=0,COUNTRY_INFO!O41*$E41,COUNTRY_INFO!O41*($E41-$D41)),COUNTRY_INFO!O41*$E41))","v":0},null,{"$f":"IF(OR(COUNTRY_INFO!P41=\"Unknown\",COUNTRY_INFO!P41=\"Surveillance\",COUNTRY_INFO!P41=\"Not required\",COUNTRY_INFO!P41=0),0,IF(AND($E41<>0,$J41=\"\"),IF($F41=0,COUNTRY_INFO!P41*$E41,COUNTRY_INFO!P41*($E41-$D41)), IF(AND($E41<>0,$J41<>0),IF($F41=0,COUNTRY_INFO!P41*$J41,COUNTRY_INFO!P41*($J41-$D41)), COUNTRY_INFO!P41*$J41)))","v":0},0,0,null,0,0,null,0,0,null,0]
[{"$f":"IF(AND(INTRO!$E$37=\"Non-endemic\",INTRO!$E$41=\"Non-endemic\"),\" \",IF(COUNTRY_INFO!A42=0,\" \",COUNTRY_INFO!A42))","v":"Ghana"},{"$f":"IF(AND(INTRO!$E$37=\"Non-endemic\",INTRO!$E$41=\"Non-endemic\"),\" \",IF(COUNTRY_INFO!B42=0,\" \",COUNTRY_INFO!B42))","v":"Ashanti"},{"$f":"IF(AND(INTRO!$E$37=\"Non-endemic\",INTRO!$E$41=\"Non-endemic\"),\" \",IF(COUNTRY_INFO!C42=0,\" \",COUNTRY_INFO!C42))","v":"Ejura-Sekyedumase"},{"$f":"IF(AND(INTRO!$E$37=\"Non-endemic\",INTRO!$E$41=\"Non-endemic\"),0,COUNTRY_INFO!V42)","v":0},{"$f":"IF(AND(INTRO!$E$37=\"Non-endemic\",INTRO!$E$41=\"Non-endemic\"),0,COUNTRY_INFO!X42)","v":0},{"$f":"IF(INTRO!$E$39=\"Non-endemic\",IF($D42=1,DEC!I42,0),IF($D42=1,IVM!G42,0))","v":0},null,{"$f":"IF(OR(COUNTRY_INFO!N42=\"Unknown\",COUNTRY_INFO!N42=\"Surveillance\",COUNTRY_INFO!N42=\"Not required\",COUNTRY_INFO!N42=0),0,IF(INTRO!$E$39=\"Non-endemic\",IF(AND($E42<>0,$G42=\"\"),IF($F42=0,COUNTRY_INFO!N42*$E42,COUNTRY_INFO!N42*($E42-$D42)),IF(AND($E42<>0,$G42<>0),IF($F42=0,COUNTRY_INFO!N42*$G42,COUNTRY_INFO!N42*($G42-$D42)),0)),IF($G42=\"\",COUNTRY_INFO!N42*$E42,COUNTRY_INFO!N42*$G42)))","v":0},{"$f":"IF(OR(COUNTRY_INFO!O42=\"Unknown\",COUNTRY_INFO!O42=\"Surveillance\",COUNTRY_INFO!O42=\"Not required\",COUNTRY_INFO!O42=0),0,IF($E42<>0, IF($F42=0,COUNTRY_INFO!O42*$E42,COUNTRY_INFO!O42*($E42-$D42)),COUNTRY_INFO!O42*$E42))","v":0},null,{"$f":"IF(OR(COUNTRY_INFO!P42=\"Unknown\",COUNTRY_INFO!P42=\"Surveillance\",COUNTRY_INFO!P42=\"Not required\",COUNTRY_INFO!P42=0),0,IF(AND($E42<>0,$J42=\"\"),IF($F42=0,COUNTRY_INFO!P42*$E42,COUNTRY_INFO!P42*($E42-$D42)), IF(AND($E42<>0,$J42<>0),IF($F42=0,COUNTRY_INFO!P42*$J42,COUNTRY_INFO!P42*($J42-$D42)), COUNTRY_INFO!P42*$J42)))","v":0},0,0,null,0,0,null,0,0,null,0]
[{"$f":"IF(AND(INTRO!$E$37=\"Non-endemic\",INTRO!$E$41=\"Non-endemic\"),\" \",IF(COUNTRY_INFO!A43=0,\" \",COUNTRY_INFO!A43))","v":"Ghana"},{"$f":"IF(AND(INTRO!$E$37=\"Non-endemic\",INTRO!$E$41=\"Non-endemic\"),\" \",IF(COUNTRY_INFO!B43=0,\" \",COUNTRY_INFO!B43))","v":"Ashanti"},{"$f":"IF(AND(INTRO!$E$37=\"Non-endemic\",INTRO!$E$41=\"Non-endemic\"),\" \",IF(COUNTRY_INFO!C43=0,\" \",COUNTRY_INFO!C43))","v":"Juaben"},{"$f":"IF(AND(INTRO!$E$37=\"Non-endemic\",INTRO!$E$41=\"Non-endemic\"),0,COUNTRY_INFO!V43)","v":0},{"$f":"IF(AND(INTRO!$E$37=\"Non-endemic\",INTRO!$E$41=\"Non-endemic\"),0,COUNTRY_INFO!X43)","v":0},{"$f":"IF(INTRO!$E$39=\"Non-endemic\",IF($D43=1,DEC!I43,0),IF($D43=1,IVM!G43,0))","v":0},null,{"$f":"IF(OR(COUNTRY_INFO!N43=\"Unknown\",COUNTRY_INFO!N43=\"Surveillance\",COUNTRY_INFO!N43=\"Not required\",COUNTRY_INFO!N43=0),0,IF(INTRO!$E$39=\"Non-endemic\",IF(AND($E43<>0,$G43=\"\"),IF($F43=0,COUNTRY_INFO!N43*$E43,COUNTRY_INFO!N43*($E43-$D43)),IF(AND($E43<>0,$G43<>0),IF($F43=0,COUNTRY_INFO!N43*$G43,COUNTRY_INFO!N43*($G43-$D43)),0)),IF($G43=\"\",COUNTRY_INFO!N43*$E43,COUNTRY_INFO!N43*$G43)))","v":0},{"$f":"IF(OR(COUNTRY_INFO!O43=\"Unknown\",COUNTRY_INFO!O43=\"Surveillance\",COUNTRY_INFO!O43=\"Not required\",COUNTRY_INFO!O43=0),0,IF($E43<>0, IF($F43=0,COUNTRY_INFO!O43*$E43,COUNTRY_INFO!O43*($E43-$D43)),COUNTRY_INFO!O43*$E43))","v":0},null,{"$f":"IF(OR(COUNTRY_INFO!P43=\"Unknown\",COUNTRY_INFO!P43=\"Surveillance\",COUNTRY_INFO!P43=\"Not required\",COUNTRY_INFO!P43=0),0,IF(AND($E43<>0,$J43=\"\"),IF($F43=0,COUNTRY_INFO!P43*$E43,COUNTRY_INFO!P43*($E43-$D43)), IF(AND($E43<>0,$J43<>0),IF($F43=0,COUNTRY_INFO!P43*$J43,COUNTRY_INFO!P43*($J43-$D43)), COUNTRY_INFO!P43*$J43)))","v":0},0,0,null,0,0,null,0,0,null,0]
[{"$f":"IF(AND(INTRO!$E$37=\"Non-endemic\",INTRO!$E$41=\"Non-endemic\"),\" \",IF(COUNTRY_INFO!A44=0,\" \",COUNTRY_INFO!A44))","v":"Ghana"},{"$f":"IF(AND(INTRO!$E$37=\"Non-endemic\",INTRO!$E$41=\"Non-endemic\"),\" \",IF(COUNTRY_INFO!B44=0,\" \",COUNTRY_INFO!B44))","v":"Ashanti"},{"$f":"IF(AND(INTRO!$E$37=\"Non-endemic\",INTRO!$E$41=\"Non-endemic\"),\" \",IF(COUNTRY_INFO!C44=0,\" \",COUNTRY_INFO!C44))","v":"Kumasi"},{"$f":"IF(AND(INTRO!$E$37=\"Non-endemic\",INTRO!$E$41=\"Non-endemic\"),0,COUNTRY_INFO!V44)","v":0},{"$f":"IF(AND(INTRO!$E$37=\"Non-endemic\",INTRO!$E$41=\"Non-endemic\"),0,COUNTRY_INFO!X44)","v":0},{"$f":"IF(INTRO!$E$39=\"Non-endemic\",IF($D44=1,DEC!I44,0),IF($D44=1,IVM!G44,0))","v":0},null,{"$f":"IF(OR(COUNTRY_INFO!N44=\"Unknown\",COUNTRY_INFO!N44=\"Surveillance\",COUNTRY_INFO!N44=\"Not required\",COUNTRY_INFO!N44=0),0,IF(INTRO!$E$39=\"Non-endemic\",IF(AND($E44<>0,$G44=\"\"),IF($F44=0,COUNTRY_INFO!N44*$E44,COUNTRY_INFO!N44*($E44-$D44)),IF(AND($E44<>0,$G44<>0),IF($F44=0,COUNTRY_INFO!N44*$G44,COUNTRY_INFO!N44*($G44-$D44)),0)),IF($G44=\"\",COUNTRY_INFO!N44*$E44,COUNTRY_INFO!N44*$G44)))","v":0},{"$f":"IF(OR(COUNTRY_INFO!O44=\"Unknown\",COUNTRY_INFO!O44=\"Surveillance\",COUNTRY_INFO!O44=\"Not required\",COUNTRY_INFO!O44=0),0,IF($E44<>0, IF($F44=0,COUNTRY_INFO!O44*$E44,COUNTRY_INFO!O44*($E44-$D44)),COUNTRY_INFO!O44*$E44))","v":0},null,{"$f":"IF(OR(COUNTRY_INFO!P44=\"Unknown\",COUNTRY_INFO!P44=\"Surveillance\",COUNTRY_INFO!P44=\"Not required\",COUNTRY_INFO!P44=0),0,IF(AND($E44<>0,$J44=\"\"),IF($F44=0,COUNTRY_INFO!P44*$E44,COUNTRY_INFO!P44*($E44-$D44)), IF(AND($E44<>0,$J44<>0),IF($F44=0,COUNTRY_INFO!P44*$J44,COUNTRY_INFO!P44*($J44-$D44)), COUNTRY_INFO!P44*$J44)))","v":0},0,0,null,0,0,null,0,0,null,0]
[{"$f":"IF(AND(INTRO!$E$37=\"Non-endemic\",INTRO!$E$41=\"Non-endemic\"),\" \",IF(COUNTRY_INFO!A45=0,\" \",COUNTRY_INFO!A45))","v":"Ghana"},{"$f":"IF(AND(INTRO!$E$37=\"Non-endemic\",INTRO!$E$41=\"Non-endemic\"),\" \",IF(COUNTRY_INFO!B45=0,\" \",COUNTRY_INFO!B45))","v":"Ashanti"},{"$f":"IF(AND(INTRO!$E$37=\"Non-endemic\",INTRO!$E$41=\"Non-endemic\"),\" \",IF(COUNTRY_INFO!C45=0,\" \",COUNTRY_INFO!C45))","v":"Kwabre East"},{"$f":"IF(AND(INTRO!$E$37=\"Non-endemic\",INTRO!$E$41=\"Non-endemic\"),0,COUNTRY_INFO!V45)","v":0},{"$f":"IF(AND(INTRO!$E$37=\"Non-endemic\",INTRO!$E$41=\"Non-endemic\"),0,COUNTRY_INFO!X45)","v":0},{"$f":"IF(INTRO!$E$39=\"Non-endemic\",IF($D45=1,DEC!I45,0),IF($D45=1,IVM!G45,0))","v":0},null,{"$f":"IF(OR(COUNTRY_INFO!N45=\"Unknown\",COUNTRY_INFO!N45=\"Surveillance\",COUNTRY_INFO!N45=\"Not required\",COUNTRY_INFO!N45=0),0,IF(INTRO!$E$39=\"Non-endemic\",IF(AND($E45<>0,$G45=\"\"),IF($F45=0,COUNTRY_INFO!N45*$E45,COUNTRY_INFO!N45*($E45-$D45)),IF(AND($E45<>0,$G45<>0),IF($F45=0,COUNTRY_INFO!N45*$G45,COUNTRY_INFO!N45*($G45-$D45)),0)),IF($G45=\"\",COUNTRY_INFO!N45*$E45,COUNTRY_INFO!N45*$G45)))","v":0},{"$f":"IF(OR(COUNTRY_INFO!O45=\"Unknown\",COUNTRY_INFO!O45=\"Surveillance\",COUNTRY_INFO!O45=\"Not required\",COUNTRY_INFO!O45=0),0,IF($E45<>0, IF($F45=0,COUNTRY_INFO!O45*$E45,COUNTRY_INFO!O45*($E45-$D45)),COUNTRY_INFO!O45*$E45))","v":0},null,{"$f":"IF(OR(COUNTRY_INFO!P45=\"Unknown\",COUNTRY_INFO!P45=\"Surveillance\",COUNTRY_INFO!P45=\"Not required\",COUNTRY_INFO!P45=0),0,IF(AND($E45<>0,$J45=\"\"),IF($F45=0,COUNTRY_INFO!P45*$E45,COUNTRY_INFO!P45*($E45-$D45)), IF(AND($E45<>0,$J45<>0),IF($F45=0,COUNTRY_INFO!P45*$J45,COUNTRY_INFO!P45*($J45-$D45)), COUNTRY_INFO!P45*$J45)))","v":0},0,0,null,0,0,null,0,0,null,0]
[{"$f":"IF(AND(INTRO!$E$37=\"Non-endemic\",INTRO!$E$41=\"Non-endemic\"),\" \",IF(COUNTRY_INFO!A46=0,\" \",COUNTRY_INFO!A46))","v":"Ghana"},{"$f":"IF(AND(INTRO!$E$37=\"Non-endemic\",INTRO!$E$41=\"Non-endemic\"),\" \",IF(COUNTRY_INFO!B46=0,\" \",COUNTRY_INFO!B46))","v":"Ashanti"},{"$f":"IF(AND(INTRO!$E$37=\"Non-endemic\",INTRO!$E$41=\"Non-endemic\"),\" \",IF(COUNTRY_INFO!C46=0,\" \",COUNTRY_INFO!C46))","v":"Kwadaso"},{"$f":"IF(AND(INTRO!$E$37=\"Non-endemic\",INTRO!$E$41=\"Non-endemic\"),0,COUNTRY_INFO!V46)","v":0},{"$f":"IF(AND(INTRO!$E$37=\"Non-endemic\",INTRO!$E$41=\"Non-endemic\"),0,COUNTRY_INFO!X46)","v":0},{"$f":"IF(INTRO!$E$39=\"Non-endemic\",IF($D46=1,DEC!I46,0),IF($D46=1,IVM!G46,0))","v":0},null,{"$f":"IF(OR(COUNTRY_INFO!N46=\"Unknown\",COUNTRY_INFO!N46=\"Surveillance\",COUNTRY_INFO!N46=\"Not required\",COUNTRY_INFO!N46=0),0,IF(INTRO!$E$39=\"Non-endemic\",IF(AND($E46<>0,$G46=\"\"),IF($F46=0,COUNTRY_INFO!N46*$E46,COUNTRY_INFO!N46*($E46-$D46)),IF(AND($E46<>0,$G46<>0),IF($F46=0,COUNTRY_INFO!N46*$G46,COUNTRY_INFO!N46*($G46-$D46)),0)),IF($G46=\"\",COUNTRY_INFO!N46*$E46,COUNTRY_INFO!N46*$G46)))","v":0},{"$f":"IF(OR(COUNTRY_INFO!O46=\"Unknown\",COUNTRY_INFO!O46=\"Surveillance\",COUNTRY_INFO!O46=\"Not required\",COUNTRY_INFO!O46=0),0,IF($E46<>0, IF($F46=0,COUNTRY_INFO!O46*$E46,COUNTRY_INFO!O46*($E46-$D46)),COUNTRY_INFO!O46*$E46))","v":0},null,{"$f":"IF(OR(COUNTRY_INFO!P46=\"Unknown\",COUNTRY_INFO!P46=\"Surveillance\",COUNTRY_INFO!P46=\"Not required\",COUNTRY_INFO!P46=0),0,IF(AND($E46<>0,$J46=\"\"),IF($F46=0,COUNTRY_INFO!P46*$E46,COUNTRY_INFO!P46*($E46-$D46)), IF(AND($E46<>0,$J46<>0),IF($F46=0,COUNTRY_INFO!P46*$J46,COUNTRY_INFO!P46*($J46-$D46)), COUNTRY_INFO!P46*$J46)))","v":0},0,0,null,0,0,null,0,0,null,0]
[{"$f":"IF(AND(INTRO!$E$37=\"Non-endemic\",INTRO!$E$41=\"Non-endemic\"),\" \",IF(COUNTRY_INFO!A47=0,\" \",COUNTRY_INFO!A47))","v":"Ghana"},{"$f":"IF(AND(INTRO!$E$37=\"Non-endemic\",INTRO!$E$41=\"Non-endemic\"),\" \",IF(COUNTRY_INFO!B47=0,\" \",COUNTRY_INFO!B47))","v":"Ashanti"},{"$f":"IF(AND(INTRO!$E$37=\"Non-endemic\",INTRO!$E$41=\"Non-endemic\"),\" \",IF(COUNTRY_INFO!C47=0,\" \",COUNTRY_INFO!C47))","v":"Obuasi"},{"$f":"IF(AND(INTRO!$E$37=\"Non-endemic\",INTRO!$E$41=\"Non-endemic\"),0,COUNTRY_INFO!V47)","v":0},{"$f":"IF(AND(INTRO!$E$37=\"Non-endemic\",INTRO!$E$41=\"Non-endemic\"),0,COUNTRY_INFO!X47)","v":0},{"$f":"IF(INTRO!$E$39=\"Non-endemic\",IF($D47=1,DEC!I47,0),IF($D47=1,IVM!G47,0))","v":0},null,{"$f":"IF(OR(COUNTRY_INFO!N47=\"Unknown\",COUNTRY_INFO!N47=\"Surveillance\",COUNTRY_INFO!N47=\"Not required\",COUNTRY_INFO!N47=0),0,IF(INTRO!$E$39=\"Non-endemic\",IF(AND($E47<>0,$G47=\"\"),IF($F47=0,COUNTRY_INFO!N47*$E47,COUNTRY_INFO!N47*($E47-$D47)),IF(AND($E47<>0,$G47<>0),IF($F47=0,COUNTRY_INFO!N47*$G47,COUNTRY_INFO!N47*($G47-$D47)),0)),IF($G47=\"\",COUNTRY_INFO!N47*$E47,COUNTRY_INFO!N47*$G47)))","v":0},{"$f":"IF(OR(COUNTRY_INFO!O47=\"Unknown\",COUNTRY_INFO!O47=\"Surveillance\",COUNTRY_INFO!O47=\"Not required\",COUNTRY_INFO!O47=0),0,IF($E47<>0, IF($F47=0,COUNTRY_INFO!O47*$E47,COUNTRY_INFO!O47*($E47-$D47)),COUNTRY_INFO!O47*$E47))","v":0},null,{"$f":"IF(OR(COUNTRY_INFO!P47=\"Unknown\",COUNTRY_INFO!P47=\"Surveillance\",COUNTRY_INFO!P47=\"Not required\",COUNTRY_INFO!P47=0),0,IF(AND($E47<>0,$J47=\"\"),IF($F47=0,COUNTRY_INFO!P47*$E47,COUNTRY_INFO!P47*($E47-$D47)), IF(AND($E47<>0,$J47<>0),IF($F47=0,COUNTRY_INFO!P47*$J47,COUNTRY_INFO!P47*($J47-$D47)), COUNTRY_INFO!P47*$J47)))","v":0},0,0,null,0,0,null,0,0,null,0]
[{"$f":"IF(AND(INTRO!$E$37=\"Non-endemic\",INTRO!$E$41=\"Non-endemic\"),\" \",IF(COUNTRY_INFO!A48=0,\" \",COUNTRY_INFO!A48))","v":"Ghana"},{"$f":"IF(AND(INTRO!$E$37=\"Non-endemic\",INTRO!$E$41=\"Non-endemic\"),\" \",IF(COUNTRY_INFO!B48=0,\" \",COUNTRY_INFO!B48))","v":"Ashanti"},{"$f":"IF(AND(INTRO!$E$37=\"Non-endemic\",INTRO!$E$41=\"Non-endemic\"),\" \",IF(COUNTRY_INFO!C48=0,\" \",COUNTRY_INFO!C48))","v":"Obuasi East"},{"$f":"IF(AND(INTRO!$E$37=\"Non-endemic\",INTRO!$E$41=\"Non-endemic\"),0,COUNTRY_INFO!V48)","v":0},{"$f":"IF(AND(INTRO!$E$37=\"Non-endemic\",INTRO!$E$41=\"Non-endemic\"),0,COUNTRY_INFO!X48)","v":0},{"$f":"IF(INTRO!$E$39=\"Non-endemic\",IF($D48=1,DEC!I48,0),IF($D48=1,IVM!G48,0))","v":0},null,{"$f":"IF(OR(COUNTRY_INFO!N48=\"Unknown\",COUNTRY_INFO!N48=\"Surveillance\",COUNTRY_INFO!N48=\"Not required\",COUNTRY_INFO!N48=0),0,IF(INTRO!$E$39=\"Non-endemic\",IF(AND($E48<>0,$G48=\"\"),IF($F48=0,COUNTRY_INFO!N48*$E48,COUNTRY_INFO!N48*($E48-$D48)),IF(AND($E48<>0,$G48<>0),IF($F48=0,COUNTRY_INFO!N48*$G48,COUNTRY_INFO!N48*($G48-$D48)),0)),IF($G48=\"\",COUNTRY_INFO!N48*$E48,COUNTRY_INFO!N48*$G48)))","v":0},{"$f":"IF(OR(COUNTRY_INFO!O48=\"Unknown\",COUNTRY_INFO!O48=\"Surveillance\",COUNTRY_INFO!O48=\"Not required\",COUNTRY_INFO!O48=0),0,IF($E48<>0, IF($F48=0,COUNTRY_INFO!O48*$E48,COUNTRY_INFO!O48*($E48-$D48)),COUNTRY_INFO!O48*$E48))","v":0},null,{"$f":"IF(OR(COUNTRY_INFO!P48=\"Unknown\",COUNTRY_INFO!P48=\"Surveillance\",COUNTRY_INFO!P48=\"Not required\",COUNTRY_INFO!P48=0),0,IF(AND($E48<>0,$J48=\"\"),IF($F48=0,COUNTRY_INFO!P48*$E48,COUNTRY_INFO!P48*($E48-$D48)), IF(AND($E48<>0,$J48<>0),IF($F48=0,COUNTRY_INFO!P48*$J48,COUNTRY_INFO!P48*($J48-$D48)), COUNTRY_INFO!P48*$J48)))","v":0},0,0,null,0,0,null,0,0,null,0]
[{"$f":"IF(AND(INTRO!$E$37=\"Non-endemic\",INTRO!$E$41=\"Non-endemic\"),\" \",IF(COUNTRY_INFO!A49=0,\" \",COUNTRY_INFO!A49))","v":"Ghana"},{"$f":"IF(AND(INTRO!$E$37=\"Non-endemic\",INTRO!$E$41=\"Non-endemic\"),\" \",IF(COUNTRY_INFO!B49=0,\" \",COUNTRY_INFO!B49))","v":"Ashanti"},{"$f":"IF(AND(INTRO!$E$37=\"Non-endemic\",INTRO!$E$41=\"Non-endemic\"),\" \",IF(COUNTRY_INFO!C49=0,\" \",COUNTRY_INFO!C49))","v":"Offinso"},{"$f":"IF(AND(INTRO!$E$37=\"Non-endemic\",INTRO!$E$41=\"Non-endemic\"),0,COUNTRY_INFO!V49)","v":0},{"$f":"IF(AND(INTRO!$E$37=\"Non-endemic\",INTRO!$E$41=\"Non-endemic\"),0,COUNTRY_INFO!X49)","v":0},{"$f":"IF(INTRO!$E$39=\"Non-endemic\",IF($D49=1,DEC!I49,0),IF($D49=1,IVM!G49,0))","v":0},null,{"$f":"IF(OR(COUNTRY_INFO!N49=\"Unknown\",COUNTRY_INFO!N49=\"Surveillance\",COUNTRY_INFO!N49=\"Not required\",COUNTRY_INFO!N49=0),0,IF(INTRO!$E$39=\"Non-endemic\",IF(AND($E49<>0,$G49=\"\"),IF($F49=0,COUNTRY_INFO!N49*$E49,COUNTRY_INFO!N49*($E49-$D49)),IF(AND($E49<>0,$G49<>0),IF($F49=0,COUNTRY_INFO!N49*$G49,COUNTRY_INFO!N49*($G49-$D49)),0)),IF($G49=\"\",COUNTRY_INFO!N49*$E49,COUNTRY_INFO!N49*$G49)))","v":0},{"$f":"IF(OR(COUNTRY_INFO!O49=\"Unknown\",COUNTRY_INFO!O49=\"Surveillance\",COUNTRY_INFO!O49=\"Not required\",COUNTRY_INFO!O49=0),0,IF($E49<>0, IF($F49=0,COUNTRY_INFO!O49*$E49,COUNTRY_INFO!O49*($E49-$D49)),COUNTRY_INFO!O49*$E49))","v":0},null,{"$f":"IF(OR(COUNTRY_INFO!P49=\"Unknown\",COUNTRY_INFO!P49=\"Surveillance\",COUNTRY_INFO!P49=\"Not required\",COUNTRY_INFO!P49=0),0,IF(AND($E49<>0,$J49=\"\"),IF($F49=0,COUNTRY_INFO!P49*$E49,COUNTRY_INFO!P49*($E49-$D49)), IF(AND($E49<>0,$J49<>0),IF($F49=0,COUNTRY_INFO!P49*$J49,COUNTRY_INFO!P49*($J49-$D49)), COUNTRY_INFO!P49*$J49)))","v":0},0,0,null,0,0,null,0,0,null,0]
[{"$f":"IF(AND(INTRO!$E$37=\"Non-endemic\",INTRO!$E$41=\"Non-endemic\"),\" \",IF(COUNTRY_INFO!A50=0,\" \",COUNTRY_INFO!A50))","v":"Ghana"},{"$f":"IF(AND(INTRO!$E$37=\"Non-endemic\",INTRO!$E$41=\"Non-endemic\"),\" \",IF(COUNTRY_INFO!B50=0,\" \",COUNTRY_INFO!B50))","v":"Ashanti"},{"$f":"IF(AND(INTRO!$E$37=\"Non-endemic\",INTRO!$E$41=\"Non-endemic\"),\" \",IF(COUNTRY_INFO!C50=0,\" \",COUNTRY_INFO!C50))","v":"Offinso North"},{"$f":"IF(AND(INTRO!$E$37=\"Non-endemic\",INTRO!$E$41=\"Non-endemic\"),0,COUNTRY_INFO!V50)","v":0},{"$f":"IF(AND(INTRO!$E$37=\"Non-endemic\",INTRO!$E$41=\"Non-endemic\"),0,COUNTRY_INFO!X50)","v":0},{"$f":"IF(INTRO!$E$39=\"Non-endemic\",IF($D50=1,DEC!I50,0),IF($D50=1,IVM!G50,0))","v":0},null,{"$f":"IF(OR(COUNTRY_INFO!N50=\"Unknown\",COUNTRY_INFO!N50=\"Surveillance\",COUNTRY_INFO!N50=\"Not required\",COUNTRY_INFO!N50=0),0,IF(INTRO!$E$39=\"Non-endemic\",IF(AND($E50<>0,$G50=\"\"),IF($F50=0,COUNTRY_INFO!N50*$E50,COUNTRY_INFO!N50*($E50-$D50)),IF(AND($E50<>0,$G50<>0),IF($F50=0,COUNTRY_INFO!N50*$G50,COUNTRY_INFO!N50*($G50-$D50)),0)),IF($G50=\"\",COUNTRY_INFO!N50*$E50,COUNTRY_INFO!N50*$G50)))","v":0},{"$f":"IF(OR(COUNTRY_INFO!O50=\"Unknown\",COUNTRY_INFO!O50=\"Surveillance\",COUNTRY_INFO!O50=\"Not required\",COUNTRY_INFO!O50=0),0,IF($E50<>0, IF($F50=0,COUNTRY_INFO!O50*$E50,COUNTRY_INFO!O50*($E50-$D50)),COUNTRY_INFO!O50*$E50))","v":0},null,{"$f":"IF(OR(COUNTRY_INFO!P50=\"Unknown\",COUNTRY_INFO!P50=\"Surveillance\",COUNTRY_INFO!P50=\"Not required\",COUNTRY_INFO!P50=0),0,IF(AND($E50<>0,$J50=\"\"),IF($F50=0,COUNTRY_INFO!P50*$E50,COUNTRY_INFO!P50*($E50-$D50)), IF(AND($E50<>0,$J50<>0),IF($F50=0,COUNTRY_INFO!P50*$J50,COUNTRY_INFO!P50*($J50-$D50)), COUNTRY_INFO!P50*$J50)))","v":0},0,0,null,0,0,null,0,0,null,0]
[{"$f":"IF(AND(INTRO!$E$37=\"Non-endemic\",INTRO!$E$41=\"Non-endemic\"),\" \",IF(COUNTRY_INFO!A51=0,\" \",COUNTRY_INFO!A51))","v":"Ghana"},{"$f":"IF(AND(INTRO!$E$37=\"Non-endemic\",INTRO!$E$41=\"Non-endemic\"),\" \",IF(COUNTRY_INFO!B51=0,\" \",COUNTRY_INFO!B51))","v":"Ashanti"},{"$f":"IF(AND(INTRO!$E$37=\"Non-endemic\",INTRO!$E$41=\"Non-endemic\"),\" \",IF(COUNTRY_INFO!C51=0,\" \",COUNTRY_INFO!C51))","v":"Oforikrom"},{"$f":"IF(AND(INTRO!$E$37=\"Non-endemic\",INTRO!$E$41=\"Non-endemic\"),0,COUNTRY_INFO!V51)","v":0},{"$f":"IF(AND(INTRO!$E$37=\"Non-endemic\",INTRO!$E$41=\"Non-endemic\"),0,COUNTRY_INFO!X51)","v":0},{"$f":"IF(INTRO!$E$39=\"Non-endemic\",IF($D51=1,DEC!I51,0),IF($D51=1,IVM!G51,0))","v":0},null,{"$f":"IF(OR(COUNTRY_INFO!N51=\"Unknown\",COUNTRY_INFO!N51=\"Surveillance\",COUNTRY_INFO!N51=\"Not required\",COUNTRY_INFO!N51=0),0,IF(INTRO!$E$39=\"Non-endemic\",IF(AND($E51<>0,$G51=\"\"),IF($F51=0,COUNTRY_INFO!N51*$E51,COUNTRY_INFO!N51*($E51-$D51)),IF(AND($E51<>0,$G51<>0),IF($F51=0,COUNTRY_INFO!N51*$G51,COUNTRY_INFO!N51*($G51-$D51)),0)),IF($G51=\"\",COUNTRY_INFO!N51*$E51,COUNTRY_INFO!N51*$G51)))","v":0},{"$f":"IF(OR(COUNTRY_INFO!O51=\"Unknown\",COUNTRY_INFO!O51=\"Surveillance\",COUNTRY_INFO!O51=\"Not required\",COUNTRY_INFO!O51=0),0,IF($E51<>0, IF($F51=0,COUNTRY_INFO!O51*$E51,COUNTRY_INFO!O51*($E51-$D51)),COUNTRY_INFO!O51*$E51))","v":0},null,{"$f":"IF(OR(COUNTRY_INFO!P51=\"Unknown\",COUNTRY_INFO!P51=\"Surveillance\",COUNTRY_INFO!P51=\"Not required\",COUNTRY_INFO!P51=0),0,IF(AND($E51<>0,$J51=\"\"),IF($F51=0,COUNTRY_INFO!P51*$E51,COUNTRY_INFO!P51*($E51-$D51)), IF(AND($E51<>0,$J51<>0),IF($F51=0,COUNTRY_INFO!P51*$J51,COUNTRY_INFO!P51*($J51-$D51)), COUNTRY_INFO!P51*$J51)))","v":0},0,0,null,0,0,null,0,0,null,0]
[{"$f":"IF(AND(INTRO!$E$37=\"Non-endemic\",INTRO!$E$41=\"Non-endemic\"),\" \",IF(COUNTRY_INFO!A52=0,\" \",COUNTRY_INFO!A52))","v":"Ghana"},{"$f":"IF(AND(INTRO!$E$37=\"Non-endemic\",INTRO!$E$41=\"Non-endemic\"),\" \",IF(COUNTRY_INFO!B52=0,\" \",COUNTRY_INFO!B52))","v":"Ashanti"},{"$f":"IF(AND(INTRO!$E$37=\"Non-endemic\",INTRO!$E$41=\"Non-endemic\"),\" \",IF(COUNTRY_INFO!C52=0,\" \",COUNTRY_INFO!C52))","v":"Old Tafo"},{"$f":"IF(AND(INTRO!$E$37=\"Non-endemic\",INTRO!$E$41=\"Non-endemic\"),0,COUNTRY_INFO!V52)","v":0},{"$f":"IF(AND(INTRO!$E$37=\"Non-endemic\",INTRO!$E$41=\"Non-endemic\"),0,COUNTRY_INFO!X52)","v":0},{"$f":"IF(INTRO!$E$39=\"Non-endemic\",IF($D52=1,DEC!I52,0),IF($D52=1,IVM!G52,0))","v":0},null,{"$f":"IF(OR(COUNTRY_INFO!N52=\"Unknown\",COUNTRY_INFO!N52=\"Surveillance\",COUNTRY_INFO!N52=\"Not required\",COUNTRY_INFO!N52=0),0,IF(INTRO!$E$39=\"Non-endemic\",IF(AND($E52<>0,$G52=\"\"),IF($F52=0,COUNTRY_INFO!N52*$E52,COUNTRY_INFO!N52*($E52-$D52)),IF(AND($E52<>0,$G52<>0),IF($F52=0,COUNTRY_INFO!N52*$G52,COUNTRY_INFO!N52*($G52-$D52)),0)),IF($G52=\"\",COUNTRY_INFO!N52*$E52,COUNTRY_INFO!N52*$G52)))","v":0},{"$f":"IF(OR(COUNTRY_INFO!O52=\"Unknown\",COUNTRY_INFO!O52=\"Surveillance\",COUNTRY_INFO!O52=\"Not required\",COUNTRY_INFO!O52=0),0,IF($E52<>0, IF($F52=0,COUNTRY_INFO!O52*$E52,COUNTRY_INFO!O52*($E52-$D52)),COUNTRY_INFO!O52*$E52))","v":0},null,{"$f":"IF(OR(COUNTRY_INFO!P52=\"Unknown\",COUNTRY_INFO!P52=\"Surveillance\",COUNTRY_INFO!P52=\"Not required\",COUNTRY_INFO!P52=0),0,IF(AND($E52<>0,$J52=\"\"),IF($F52=0,COUNTRY_INFO!P52*$E52,COUNTRY_INFO!P52*($E52-$D52)), IF(AND($E52<>0,$J52<>0),IF($F52=0,COUNTRY_INFO!P52*$J52,COUNTRY_INFO!P52*($J52-$D52)), COUNTRY_INFO!P52*$J52)))","v":0},0,0,null,0,0,null,0,0,null,0]
[{"$f":"IF(AND(INTRO!$E$37=\"Non-endemic\",INTRO!$E$41=\"Non-endemic\"),\" \",IF(COUNTRY_INFO!A53=0,\" \",COUNTRY_INFO!A53))","v":"Ghana"},{"$f":"IF(AND(INTRO!$E$37=\"Non-endemic\",INTRO!$E$41=\"Non-endemic\"),\" \",IF(COUNTRY_INFO!B53=0,\" \",COUNTRY_INFO!B53))","v":"Ashanti"},{"$f":"IF(AND(INTRO!$E$37=\"Non-endemic\",INTRO!$E$41=\"Non-endemic\"),\" \",IF(COUNTRY_INFO!C53=0,\" \",COUNTRY_INFO!C53))","v":"Sekyere Afram Plains"},{"$f":"IF(AND(INTRO!$E$37=\"Non-endemic\",INTRO!$E$41=\"Non-endemic\"),0,COUNTRY_INFO!V53)","v":0},{"$f":"IF(AND(INTRO!$E$37=\"Non-endemic\",INTRO!$E$41=\"Non-endemic\"),0,COUNTRY_INFO!X53)","v":0},{"$f":"IF(INTRO!$E$39=\"Non-endemic\",IF($D53=1,DEC!I53,0),IF($D53=1,IVM!G53,0))","v":0},null,{"$f":"IF(OR(COUNTRY_INFO!N53=\"Unknown\",COUNTRY_INFO!N53=\"Surveillance\",COUNTRY_INFO!N53=\"Not required\",COUNTRY_INFO!N53=0),0,IF(INTRO!$E$39=\"Non-endemic\",IF(AND($E53<>0,$G53=\"\"),IF($F53=0,COUNTRY_INFO!N53*$E53,COUNTRY_INFO!N53*($E53-$D53)),IF(AND($E53<>0,$G53<>0),IF($F53=0,COUNTRY_INFO!N53*$G53,COUNTRY_INFO!N53*($G53-$D53)),0)),IF($G53=\"\",COUNTRY_INFO!N53*$E53,COUNTRY_INFO!N53*$G53)))","v":0},{"$f":"IF(OR(COUNTRY_INFO!O53=\"Unknown\",COUNTRY_INFO!O53=\"Surveillance\",COUNTRY_INFO!O53=\"Not required\",COUNTRY_INFO!O53=0),0,IF($E53<>0, IF($F53=0,COUNTRY_INFO!O53*$E53,COUNTRY_INFO!O53*($E53-$D53)),COUNTRY_INFO!O53*$E53))","v":0},null,{"$f":"IF(OR(COUNTRY_INFO!P53=\"Unknown\",COUNTRY_INFO!P53=\"Surveillance\",COUNTRY_INFO!P53=\"Not required\",COUNTRY_INFO!P53=0),0,IF(AND($E53<>0,$J53=\"\"),IF($F53=0,COUNTRY_INFO!P53*$E53,COUNTRY_INFO!P53*($E53-$D53)), IF(AND($E53<>0,$J53<>0),IF($F53=0,COUNTRY_INFO!P53*$J53,COUNTRY_INFO!P53*($J53-$D53)), COUNTRY_INFO!P53*$J53)))","v":0},0,0,null,0,0,null,0,0,null,0]
[{"$f":"IF(AND(INTRO!$E$37=\"Non-endemic\",INTRO!$E$41=\"Non-endemic\"),\" \",IF(COUNTRY_INFO!A54=0,\" \",COUNTRY_INFO!A54))","v":"Ghana"},{"$f":"IF(AND(INTRO!$E$37=\"Non-endemic\",INTRO!$E$41=\"Non-endemic\"),\" \",IF(COUNTRY_INFO!B54=0,\" \",COUNTRY_INFO!B54))","v":"Ashanti"},{"$f":"IF(AND(INTRO!$E$37=\"Non-endemic\",INTRO!$E$41=\"Non-endemic\"),\" \",IF(COUNTRY_INFO!C54=0,\" \",COUNTRY_INFO!C54))","v":"Sekyere Central"},{"$f":"IF(AND(INTRO!$E$37=\"Non-endemic\",INTRO!$E$41=\"Non-endemic\"),0,COUNTRY_INFO!V54)","v":0},{"$f":"IF(AND(INTRO!$E$37=\"Non-endemic\",INTRO!$E$41=\"Non-endemic\"),0,COUNTRY_INFO!X54)","v":0},{"$f":"IF(INTRO!$E$39=\"Non-endemic\",IF($D54=1,DEC!I54,0),IF($D54=1,IVM!G54,0))","v":0},null,{"$f":"IF(OR(COUNTRY_INFO!N54=\"Unknown\",COUNTRY_INFO!N54=\"Surveillance\",COUNTRY_INFO!N54=\"Not required\",COUNTRY_INFO!N54=0),0,IF(INTRO!$E$39=\"Non-endemic\",IF(AND($E54<>0,$G54=\"\"),IF($F54=0,COUNTRY_INFO!N54*$E54,COUNTRY_INFO!N54*($E54-$D54)),IF(AND($E54<>0,$G54<>0),IF($F54=0,COUNTRY_INFO!N54*$G54,COUNTRY_INFO!N54*($G54-$D54)),0)),IF($G54=\"\",COUNTRY_INFO!N54*$E54,COUNTRY_INFO!N54*$G54)))","v":0},{"$f":"IF(OR(COUNTRY_INFO!O54=\"Unknown\",COUNTRY_INFO!O54=\"Surveillance\",COUNTRY_INFO!O54=\"Not required\",COUNTRY_INFO!O54=0),0,IF($E54<>0, IF($F54=0,COUNTRY_INFO!O54*$E54,COUNTRY_INFO!O54*($E54-$D54)),COUNTRY_INFO!O54*$E54))","v":0},null,{"$f":"IF(OR(COUNTRY_INFO!P54=\"Unknown\",COUNTRY_INFO!P54=\"Surveillance\",COUNTRY_INFO!P54=\"Not required\",COUNTRY_INFO!P54=0),0,IF(AND($E54<>0,$J54=\"\"),IF($F54=0,COUNTRY_INFO!P54*$E54,COUNTRY_INFO!P54*($E54-$D54)), IF(AND($E54<>0,$J54<>0),IF($F54=0,COUNTRY_INFO!P54*$J54,COUNTRY_INFO!P54*($J54-$D54)), COUNTRY_INFO!P54*$J54)))","v":0},0,0,null,0,0,null,0,0,null,0]
[{"$f":"IF(AND(INTRO!$E$37=\"Non-endemic\",INTRO!$E$41=\"Non-endemic\"),\" \",IF(COUNTRY_INFO!A55=0,\" \",COUNTRY_INFO!A55))","v":"Ghana"},{"$f":"IF(AND(INTRO!$E$37=\"Non-endemic\",INTRO!$E$41=\"Non-endemic\"),\" \",IF(COUNTRY_INFO!B55=0,\" \",COUNTRY_INFO!B55))","v":"Ashanti"},{"$f":"IF(AND(INTRO!$E$37=\"Non-endemic\",INTRO!$E$41=\"Non-endemic\"),\" \",IF(COUNTRY_INFO!C55=0,\" \",COUNTRY_INFO!C55))","v":"Sekyere East"},{"$f":"IF(AND(INTRO!$E$37=\"Non-endemic\",INTRO!$E$41=\"Non-endemic\"),0,COUNTRY_INFO!V55)","v":0},{"$f":"IF(AND(INTRO!$E$37=\"Non-endemic\",INTRO!$E$41=\"Non-endemic\"),0,COUNTRY_INFO!X55)","v":0},{"$f":"IF(INTRO!$E$39=\"Non-endemic\",IF($D55=1,DEC!I55,0),IF($D55=1,IVM!G55,0))","v":0},null,{"$f":"IF(OR(COUNTRY_INFO!N55=\"Unknown\",COUNTRY_INFO!N55=\"Surveillance\",COUNTRY_INFO!N55=\"Not required\",COUNTRY_INFO!N55=0),0,IF(INTRO!$E$39=\"Non-endemic\",IF(AND($E55<>0,$G55=\"\"),IF($F55=0,COUNTRY_INFO!N55*$E55,COUNTRY_INFO!N55*($E55-$D55)),IF(AND($E55<>0,$G55<>0),IF($F55=0,COUNTRY_INFO!N55*$G55,COUNTRY_INFO!N55*($G55-$D55)),0)),IF($G55=\"\",COUNTRY_INFO!N55*$E55,COUNTRY_INFO!N55*$G55)))","v":0},{"$f":"IF(OR(COUNTRY_INFO!O55=\"Unknown\",COUNTRY_INFO!O55=\"Surveillance\",COUNTRY_INFO!O55=\"Not required\",COUNTRY_INFO!O55=0),0,IF($E55<>0, IF($F55=0,COUNTRY_INFO!O55*$E55,COUNTRY_INFO!O55*($E55-$D55)),COUNTRY_INFO!O55*$E55))","v":0},null,{"$f":"IF(OR(COUNTRY_INFO!P55=\"Unknown\",COUNTRY_INFO!P55=\"Surveillance\",COUNTRY_INFO!P55=\"Not required\",COUNTRY_INFO!P55=0),0,IF(AND($E55<>0,$J55=\"\"),IF($F55=0,COUNTRY_INFO!P55*$E55,COUNTRY_INFO!P55*($E55-$D55)), IF(AND($E55<>0,$J55<>0),IF($F55=0,COUNTRY_INFO!P55*$J55,COUNTRY_INFO!P55*($J55-$D55)), COUNTRY_INFO!P55*$J55)))","v":0},0,0,null,0,0,null,0,0,null,0]
[{"$f":"IF(AND(INTRO!$E$37=\"Non-endemic\",INTRO!$E$41=\"Non-endemic\"),\" \",IF(COUNTRY_INFO!A56=0,\" \",COUNTRY_INFO!A56))","v":"Ghana"},{"$f":"IF(AND(INTRO!$E$37=\"Non-endemic\",INTRO!$E$41=\"Non-endemic\"),\" \",IF(COUNTRY_INFO!B56=0,\" \",COUNTRY_INFO!B56))","v":"Ashanti"},{"$f":"IF(AND(INTRO!$E$37=\"Non-endemic\",INTRO!$E$41=\"Non-endemic\"),\" \",IF(COUNTRY_INFO!C56=0,\" \",COUNTRY_INFO!C56))","v":"Sekyere Kumawu"},{"$f":"IF(AND(INTRO!$E$37=\"Non-endemic\",INTRO!$E$41=\"Non-endemic\"),0,COUNTRY_INFO!V56)","v":0},{"$f":"IF(AND(INTRO!$E$37=\"Non-endemic\",INTRO!$E$41=\"Non-endemic\"),0,COUNTRY_INFO!X56)","v":0},{"$f":"IF(INTRO!$E$39=\"Non-endemic\",IF($D56=1,DEC!I56,0),IF($D56=1,IVM!G56,0))","v":0},null,{"$f":"IF(OR(COUNTRY_INFO!N56=\"Unknown\",COUNTRY_INFO!N56=\"Surveillance\",COUNTRY_INFO!N56=\"Not required\",COUNTRY_INFO!N56=0),0,IF(INTRO!$E$39=\"Non-endemic\",IF(AND($E56<>0,$G56=\"\"),IF($F56=0,COUNTRY_INFO!N56*$E56,COUNTRY_INFO!N56*($E56-$D56)),IF(AND($E56<>0,$G56<>0),IF($F56=0,COUNTRY_INFO!N56*$G56,COUNTRY_INFO!N56*($G56-$D56)),0)),IF($G56=\"\",COUNTRY_INFO!N56*$E56,COUNTRY_INFO!N56*$G56)))","v":0},{"$f":"IF(OR(COUNTRY_INFO!O56=\"Unknown\",COUNTRY_INFO!O56=\"Surveillance\",COUNTRY_INFO!O56=\"Not required\",COUNTRY_INFO!O56=0),0,IF($E56<>0, IF($F56=0,COUNTRY_INFO!O56*$E56,COUNTRY_INFO!O56*($E56-$D56)),COUNTRY_INFO!O56*$E56))","v":0},null,{"$f":"IF(OR(COUNTRY_INFO!P56=\"Unknown\",COUNTRY_INFO!P56=\"Surveillance\",COUNTRY_INFO!P56=\"Not required\",COUNTRY_INFO!P56=0),0,IF(AND($E56<>0,$J56=\"\"),IF($F56=0,COUNTRY_INFO!P56*$E56,COUNTRY_INFO!P56*($E56-$D56)), IF(AND($E56<>0,$J56<>0),IF($F56=0,COUNTRY_INFO!P56*$J56,COUNTRY_INFO!P56*($J56-$D56)), COUNTRY_INFO!P56*$J56)))","v":0},0,0,null,0,0,null,0,0,null,0]
[{"$f":"IF(AND(INTRO!$E$37=\"Non-endemic\",INTRO!$E$41=\"Non-endemic\"),\" \",IF(COUNTRY_INFO!A57=0,\" \",COUNTRY_INFO!A57))","v":"Ghana"},{"$f":"IF(AND(INTRO!$E$37=\"Non-endemic\",INTRO!$E$41=\"Non-endemic\"),\" \",IF(COUNTRY_INFO!B57=0,\" \",COUNTRY_INFO!B57))","v":"Ashanti"},{"$f":"IF(AND(INTRO!$E$37=\"Non-endemic\",INTRO!$E$41=\"Non-endemic\"),\" \",IF(COUNTRY_INFO!C57=0,\" \",COUNTRY_INFO!C57))","v":"Sekyere South"},{"$f":"IF(AND(INTRO!$E$37=\"Non-endemic\",INTRO!$E$41=\"Non-endemic\"),0,COUNTRY_INFO!V57)","v":0},{"$f":"IF(AND(INTRO!$E$37=\"Non-endemic\",INTRO!$E$41=\"Non-endemic\"),0,COUNTRY_INFO!X57)","v":0},{"$f":"IF(INTRO!$E$39=\"Non-endemic\",IF($D57=1,DEC!I57,0),IF($D57=1,IVM!G57,0))","v":0},null,{"$f":"IF(OR(COUNTRY_INFO!N57=\"Unknown\",COUNTRY_INFO!N57=\"Surveillance\",COUNTRY_INFO!N57=\"Not required\",COUNTRY_INFO!N57=0),0,IF(INTRO!$E$39=\"Non-endemic\",IF(AND($E57<>0,$G57=\"\"),IF($F57=0,COUNTRY_INFO!N57*$E57,COUNTRY_INFO!N57*($E57-$D57)),IF(AND($E57<>0,$G57<>0),IF($F57=0,COUNTRY_INFO!N57*$G57,COUNTRY_INFO!N57*($G57-$D57)),0)),IF($G57=\"\",COUNTRY_INFO!N57*$E57,COUNTRY_INFO!N57*$G57)))","v":0},{"$f":"IF(OR(COUNTRY_INFO!O57=\"Unknown\",COUNTRY_INFO!O57=\"Surveillance\",COUNTRY_INFO!O57=\"Not required\",COUNTRY_INFO!O57=0),0,IF($E57<>0, IF($F57=0,COUNTRY_INFO!O57*$E57,COUNTRY_INFO!O57*($E57-$D57)),COUNTRY_INFO!O57*$E57))","v":0},null,{"$f":"IF(OR(COUNTRY_INFO!P57=\"Unknown\",COUNTRY_INFO!P57=\"Surveillance\",COUNTRY_INFO!P57=\"Not required\",COUNTRY_INFO!P57=0),0,IF(AND($E57<>0,$J57=\"\"),IF($F57=0,COUNTRY_INFO!P57*$E57,COUNTRY_INFO!P57*($E57-$D57)), IF(AND($E57<>0,$J57<>0),IF($F57=0,COUNTRY_INFO!P57*$J57,COUNTRY_INFO!P57*($J57-$D57)), COUNTRY_INFO!P57*$J57)))","v":0},0,0,null,0,0,null,0,0,null,0]
[{"$f":"IF(AND(INTRO!$E$37=\"Non-endemic\",INTRO!$E$41=\"Non-endemic\"),\" \",IF(COUNTRY_INFO!A58=0,\" \",COUNTRY_INFO!A58))","v":"Ghana"},{"$f":"IF(AND(INTRO!$E$37=\"Non-endemic\",INTRO!$E$41=\"Non-endemic\"),\" \",IF(COUNTRY_INFO!B58=0,\" \",COUNTRY_INFO!B58))","v":"Ashanti"},{"$f":"IF(AND(INTRO!$E$37=\"Non-endemic\",INTRO!$E$41=\"Non-endemic\"),\" \",IF(COUNTRY_INFO!C58=0,\" \",COUNTRY_INFO!C58))","v":"Suame"},{"$f":"IF(AND(INTRO!$E$37=\"Non-endemic\",INTRO!$E$41=\"Non-endemic\"),0,COUNTRY_INFO!V58)","v":0},{"$f":"IF(AND(INTRO!$E$37=\"Non-endemic\",INTRO!$E$41=\"Non-endemic\"),0,COUNTRY_INFO!X58)","v":0},{"$f":"IF(INTRO!$E$39=\"Non-endemic\",IF($D58=1,DEC!I58,0),IF($D58=1,IVM!G58,0))","v":0},null,{"$f":"IF(OR(COUNTRY_INFO!N58=\"Unknown\",COUNTRY_INFO!N58=\"Surveillance\",COUNTRY_INFO!N58=\"Not required\",COUNTRY_INFO!N58=0),0,IF(INTRO!$E$39=\"Non-endemic\",IF(AND($E58<>0,$G58=\"\"),IF($F58=0,COUNTRY_INFO!N58*$E58,COUNTRY_INFO!N58*($E58-$D58)),IF(AND($E58<>0,$G58<>0),IF($F58=0,COUNTRY_INFO!N58*$G58,COUNTRY_INFO!N58*($G58-$D58)),0)),IF($G58=\"\",COUNTRY_INFO!N58*$E58,COUNTRY_INFO!N58*$G58)))","v":0},{"$f":"IF(OR(COUNTRY_INFO!O58=\"Unknown\",COUNTRY_INFO!O58=\"Surveillance\",COUNTRY_INFO!O58=\"Not required\",COUNTRY_INFO!O58=0),0,IF($E58<>0, IF($F58=0,COUNTRY_INFO!O58*$E58,COUNTRY_INFO!O58*($E58-$D58)),COUNTRY_INFO!O58*$E58))","v":0},null,{"$f":"IF(OR(COUNTRY_INFO!P58=\"Unknown\",COUNTRY_INFO!P58=\"Surveillance\",COUNTRY_INFO!P58=\"Not required\",COUNTRY_INFO!P58=0),0,IF(AND($E58<>0,$J58=\"\"),IF($F58=0,COUNTRY_INFO!P58*$E58,COUNTRY_INFO!P58*($E58-$D58)), IF(AND($E58<>0,$J58<>0),IF($F58=0,COUNTRY_INFO!P58*$J58,COUNTRY_INFO!P58*($J58-$D58)), COUNTRY_INFO!P58*$J58)))","v":0},0,0,null,0,0,null,0,0,null,0]
[{"$f":"IF(AND(INTRO!$E$37=\"Non-endemic\",INTRO!$E$41=\"Non-endemic\"),\" \",IF(COUNTRY_INFO!A59=0,\" \",COUNTRY_INFO!A59))","v":"Ghana"},{"$f":"IF(AND(INTRO!$E$37=\"Non-endemic\",INTRO!$E$41=\"Non-endemic\"),\" \",IF(COUNTRY_INFO!B59=0,\" \",COUNTRY_INFO!B59))","v":"Bono"},{"$f":"IF(AND(INTRO!$E$37=\"Non-endemic\",INTRO!$E$41=\"Non-endemic\"),\" \",IF(COUNTRY_INFO!C59=0,\" \",COUNTRY_INFO!C59))","v":"Banda"},{"$f":"IF(AND(INTRO!$E$37=\"Non-endemic\",INTRO!$E$41=\"Non-endemic\"),0,COUNTRY_INFO!V59)","v":0},{"$f":"IF(AND(INTRO!$E$37=\"Non-endemic\",INTRO!$E$41=\"Non-endemic\"),0,COUNTRY_INFO!X59)","v":0},{"$f":"IF(INTRO!$E$39=\"Non-endemic\",IF($D59=1,DEC!I59,0),IF($D59=1,IVM!G59,0))","v":0},null,{"$f":"IF(OR(COUNTRY_INFO!N59=\"Unknown\",COUNTRY_INFO!N59=\"Surveillance\",COUNTRY_INFO!N59=\"Not required\",COUNTRY_INFO!N59=0),0,IF(INTRO!$E$39=\"Non-endemic\",IF(AND($E59<>0,$G59=\"\"),IF($F59=0,COUNTRY_INFO!N59*$E59,COUNTRY_INFO!N59*($E59-$D59)),IF(AND($E59<>0,$G59<>0),IF($F59=0,COUNTRY_INFO!N59*$G59,COUNTRY_INFO!N59*($G59-$D59)),0)),IF($G59=\"\",COUNTRY_INFO!N59*$E59,COUNTRY_INFO!N59*$G59)))","v":0},{"$f":"IF(OR(COUNTRY_INFO!O59=\"Unknown\",COUNTRY_INFO!O59=\"Surveillance\",COUNTRY_INFO!O59=\"Not required\",COUNTRY_INFO!O59=0),0,IF($E59<>0, IF($F59=0,COUNTRY_INFO!O59*$E59,COUNTRY_INFO!O59*($E59-$D59)),COUNTRY_INFO!O59*$E59))","v":0},null,{"$f":"IF(OR(COUNTRY_INFO!P59=\"Unknown\",COUNTRY_INFO!P59=\"Surveillance\",COUNTRY_INFO!P59=\"Not required\",COUNTRY_INFO!P59=0),0,IF(AND($E59<>0,$J59=\"\"),IF($F59=0,COUNTRY_INFO!P59*$E59,COUNTRY_INFO!P59*($E59-$D59)), IF(AND($E59<>0,$J59<>0),IF($F59=0,COUNTRY_INFO!P59*$J59,COUNTRY_INFO!P59*($J59-$D59)), COUNTRY_INFO!P59*$J59)))","v":0},0,0,null,0,0,null,0,0,null,0]
[{"$f":"IF(AND(INTRO!$E$37=\"Non-endemic\",INTRO!$E$41=\"Non-endemic\"),\" \",IF(COUNTRY_INFO!A60=0,\" \",COUNTRY_INFO!A60))","v":"Ghana"},{"$f":"IF(AND(INTRO!$E$37=\"Non-endemic\",INTRO!$E$41=\"Non-endemic\"),\" \",IF(COUNTRY_INFO!B60=0,\" \",COUNTRY_INFO!B60))","v":"Bono"},{"$f":"IF(AND(INTRO!$E$37=\"Non-endemic\",INTRO!$E$41=\"Non-endemic\"),\" \",IF(COUNTRY_INFO!C60=0,\" \",COUNTRY_INFO!C60))","v":"Berekum"},{"$f":"IF(AND(INTRO!$E$37=\"Non-endemic\",INTRO!$E$41=\"Non-endemic\"),0,COUNTRY_INFO!V60)","v":0},{"$f":"IF(AND(INTRO!$E$37=\"Non-endemic\",INTRO!$E$41=\"Non-endemic\"),0,COUNTRY_INFO!X60)","v":0},{"$f":"IF(INTRO!$E$39=\"Non-endemic\",IF($D60=1,DEC!I60,0),IF($D60=1,IVM!G60,0))","v":0},null,{"$f":"IF(OR(COUNTRY_INFO!N60=\"Unknown\",COUNTRY_INFO!N60=\"Surveillance\",COUNTRY_INFO!N60=\"Not required\",COUNTRY_INFO!N60=0),0,IF(INTRO!$E$39=\"Non-endemic\",IF(AND($E60<>0,$G60=\"\"),IF($F60=0,COUNTRY_INFO!N60*$E60,COUNTRY_INFO!N60*($E60-$D60)),IF(AND($E60<>0,$G60<>0),IF($F60=0,COUNTRY_INFO!N60*$G60,COUNTRY_INFO!N60*($G60-$D60)),0)),IF($G60=\"\",COUNTRY_INFO!N60*$E60,COUNTRY_INFO!N60*$G60)))","v":0},{"$f":"IF(OR(COUNTRY_INFO!O60=\"Unknown\",COUNTRY_INFO!O60=\"Surveillance\",COUNTRY_INFO!O60=\"Not required\",COUNTRY_INFO!O60=0),0,IF($E60<>0, IF($F60=0,COUNTRY_INFO!O60*$E60,COUNTRY_INFO!O60*($E60-$D60)),COUNTRY_INFO!O60*$E60))","v":0},null,{"$f":"IF(OR(COUNTRY_INFO!P60=\"Unknown\",COUNTRY_INFO!P60=\"Surveillance\",COUNTRY_INFO!P60=\"Not required\",COUNTRY_INFO!P60=0),0,IF(AND($E60<>0,$J60=\"\"),IF($F60=0,COUNTRY_INFO!P60*$E60,COUNTRY_INFO!P60*($E60-$D60)), IF(AND($E60<>0,$J60<>0),IF($F60=0,COUNTRY_INFO!P60*$J60,COUNTRY_INFO!P60*($J60-$D60)), COUNTRY_INFO!P60*$J60)))","v":0},0,0,null,0,0,null,0,0,null,0]
[{"$f":"IF(AND(INTRO!$E$37=\"Non-endemic\",INTRO!$E$41=\"Non-endemic\"),\" \",IF(COUNTRY_INFO!A61=0,\" \",COUNTRY_INFO!A61))","v":"Ghana"},{"$f":"IF(AND(INTRO!$E$37=\"Non-endemic\",INTRO!$E$41=\"Non-endemic\"),\" \",IF(COUNTRY_INFO!B61=0,\" \",COUNTRY_INFO!B61))","v":"Bono"},{"$f":"IF(AND(INTRO!$E$37=\"Non-endemic\",INTRO!$E$41=\"Non-endemic\"),\" \",IF(COUNTRY_INFO!C61=0,\" \",COUNTRY_INFO!C61))","v":"Berekum West"},{"$f":"IF(AND(INTRO!$E$37=\"Non-endemic\",INTRO!$E$41=\"Non-endemic\"),0,COUNTRY_INFO!V61)","v":0},{"$f":"IF(AND(INTRO!$E$37=\"Non-endemic\",INTRO!$E$41=\"Non-endemic\"),0,COUNTRY_INFO!X61)","v":0},{"$f":"IF(INTRO!$E$39=\"Non-endemic\",IF($D61=1,DEC!I61,0),IF($D61=1,IVM!G61,0))","v":0},null,{"$f":"IF(OR(COUNTRY_INFO!N61=\"Unknown\",COUNTRY_INFO!N61=\"Surveillance\",COUNTRY_INFO!N61=\"Not required\",COUNTRY_INFO!N61=0),0,IF(INTRO!$E$39=\"Non-endemic\",IF(AND($E61<>0,$G61=\"\"),IF($F61=0,COUNTRY_INFO!N61*$E61,COUNTRY_INFO!N61*($E61-$D61)),IF(AND($E61<>0,$G61<>0),IF($F61=0,COUNTRY_INFO!N61*$G61,COUNTRY_INFO!N61*($G61-$D61)),0)),IF($G61=\"\",COUNTRY_INFO!N61*$E61,COUNTRY_INFO!N61*$G61)))","v":0},{"$f":"IF(OR(COUNTRY_INFO!O61=\"Unknown\",COUNTRY_INFO!O61=\"Surveillance\",COUNTRY_INFO!O61=\"Not required\",COUNTRY_INFO!O61=0),0,IF($E61<>0, IF($F61=0,COUNTRY_INFO!O61*$E61,COUNTRY_INFO!O61*($E61-$D61)),COUNTRY_INFO!O61*$E61))","v":0},null,{"$f":"IF(OR(COUNTRY_INFO!P61=\"Unknown\",COUNTRY_INFO!P61=\"Surveillance\",COUNTRY_INFO!P61=\"Not required\",COUNTRY_INFO!P61=0),0,IF(AND($E61<>0,$J61=\"\"),IF($F61=0,COUNTRY_INFO!P61*$E61,COUNTRY_INFO!P61*($E61-$D61)), IF(AND($E61<>0,$J61<>0),IF($F61=0,COUNTRY_INFO!P61*$J61,COUNTRY_INFO!P61*($J61-$D61)), COUNTRY_INFO!P61*$J61)))","v":0},0,0,null,0,0,null,0,0,null,0]
[{"$f":"IF(AND(INTRO!$E$37=\"Non-endemic\",INTRO!$E$41=\"Non-endemic\"),\" \",IF(COUNTRY_INFO!A62=0,\" \",COUNTRY_INFO!A62))","v":"Ghana"},{"$f":"IF(AND(INTRO!$E$37=\"Non-endemic\",INTRO!$E$41=\"Non-endemic\"),\" \",IF(COUNTRY_INFO!B62=0,\" \",COUNTRY_INFO!B62))","v":"Bono"},{"$f":"IF(AND(INTRO!$E$37=\"Non-endemic\",INTRO!$E$41=\"Non-endemic\"),\" \",IF(COUNTRY_INFO!C62=0,\" \",COUNTRY_INFO!C62))","v":"Dormaa East"},{"$f":"IF(AND(INTRO!$E$37=\"Non-endemic\",INTRO!$E$41=\"Non-endemic\"),0,COUNTRY_INFO!V62)","v":0},{"$f":"IF(AND(INTRO!$E$37=\"Non-endemic\",INTRO!$E$41=\"Non-endemic\"),0,COUNTRY_INFO!X62)","v":0},{"$f":"IF(INTRO!$E$39=\"Non-endemic\",IF($D62=1,DEC!I62,0),IF($D62=1,IVM!G62,0))","v":0},null,{"$f":"IF(OR(COUNTRY_INFO!N62=\"Unknown\",COUNTRY_INFO!N62=\"Surveillance\",COUNTRY_INFO!N62=\"Not required\",COUNTRY_INFO!N62=0),0,IF(INTRO!$E$39=\"Non-endemic\",IF(AND($E62<>0,$G62=\"\"),IF($F62=0,COUNTRY_INFO!N62*$E62,COUNTRY_INFO!N62*($E62-$D62)),IF(AND($E62<>0,$G62<>0),IF($F62=0,COUNTRY_INFO!N62*$G62,COUNTRY_INFO!N62*($G62-$D62)),0)),IF($G62=\"\",COUNTRY_INFO!N62*$E62,COUNTRY_INFO!N62*$G62)))","v":0},{"$f":"IF(OR(COUNTRY_INFO!O62=\"Unknown\",COUNTRY_INFO!O62=\"Surveillance\",COUNTRY_INFO!O62=\"Not required\",COUNTRY_INFO!O62=0),0,IF($E62<>0, IF($F62=0,COUNTRY_INFO!O62*$E62,COUNTRY_INFO!O62*($E62-$D62)),COUNTRY_INFO!O62*$E62))","v":0},null,{"$f":"IF(OR(COUNTRY_INFO!P62=\"Unknown\",COUNTRY_INFO!P62=\"Surveillance\",COUNTRY_INFO!P62=\"Not required\",COUNTRY_INFO!P62=0),0,IF(AND($E62<>0,$J62=\"\"),IF($F62=0,COUNTRY_INFO!P62*$E62,COUNTRY_INFO!P62*($E62-$D62)), IF(AND($E62<>0,$J62<>0),IF($F62=0,COUNTRY_INFO!P62*$J62,COUNTRY_INFO!P62*($J62-$D62)), COUNTRY_INFO!P62*$J62)))","v":0},0,0,null,0,0,null,0,0,null,0]
[{"$f":"IF(AND(INTRO!$E$37=\"Non-endemic\",INTRO!$E$41=\"Non-endemic\"),\" \",IF(COUNTRY_INFO!A63=0,\" \",COUNTRY_INFO!A63))","v":"Ghana"},{"$f":"IF(AND(INTRO!$E$37=\"Non-endemic\",INTRO!$E$41=\"Non-endemic\"),\" \",IF(COUNTRY_INFO!B63=0,\" \",COUNTRY_INFO!B63))","v":"Bono"},{"$f":"IF(AND(INTRO!$E$37=\"Non-endemic\",INTRO!$E$41=\"Non-endemic\"),\" \",IF(COUNTRY_INFO!C63=0,\" \",COUNTRY_INFO!C63))","v":"Dormaa Municipal"},{"$f":"IF(AND(INTRO!$E$37=\"Non-endemic\",INTRO!$E$41=\"Non-endemic\"),0,COUNTRY_INFO!V63)","v":0},{"$f":"IF(AND(INTRO!$E$37=\"Non-endemic\",INTRO!$E$41=\"Non-endemic\"),0,COUNTRY_INFO!X63)","v":0},{"$f":"IF(INTRO!$E$39=\"Non-endemic\",IF($D63=1,DEC!I63,0),IF($D63=1,IVM!G63,0))","v":0},null,{"$f":"IF(OR(COUNTRY_INFO!N63=\"Unknown\",COUNTRY_INFO!N63=\"Surveillance\",COUNTRY_INFO!N63=\"Not required\",COUNTRY_INFO!N63=0),0,IF(INTRO!$E$39=\"Non-endemic\",IF(AND($E63<>0,$G63=\"\"),IF($F63=0,COUNTRY_INFO!N63*$E63,COUNTRY_INFO!N63*($E63-$D63)),IF(AND($E63<>0,$G63<>0),IF($F63=0,COUNTRY_INFO!N63*$G63,COUNTRY_INFO!N63*($G63-$D63)),0)),IF($G63=\"\",COUNTRY_INFO!N63*$E63,COUNTRY_INFO!N63*$G63)))","v":0},{"$f":"IF(OR(COUNTRY_INFO!O63=\"Unknown\",COUNTRY_INFO!O63=\"Surveillance\",COUNTRY_INFO!O63=\"Not required\",COUNTRY_INFO!O63=0),0,IF($E63<>0, IF($F63=0,COUNTRY_INFO!O63*$E63,COUNTRY_INFO!O63*($E63-$D63)),COUNTRY_INFO!O63*$E63))","v":0},null,{"$f":"IF(OR(COUNTRY_INFO!P63=\"Unknown\",COUNTRY_INFO!P63=\"Surveillance\",COUNTRY_INFO!P63=\"Not required\",COUNTRY_INFO!P63=0),0,IF(AND($E63<>0,$J63=\"\"),IF($F63=0,COUNTRY_INFO!P63*$E63,COUNTRY_INFO!P63*($E63-$D63)), IF(AND($E63<>0,$J63<>0),IF($F63=0,COUNTRY_INFO!P63*$J63,COUNTRY_INFO!P63*($J63-$D63)), COUNTRY_INFO!P63*$J63)))","v":0},0,0,null,0,0,null,0,0,null,0]
[{"$f":"IF(AND(INTRO!$E$37=\"Non-endemic\",INTRO!$E$41=\"Non-endemic\"),\" \",IF(COUNTRY_INFO!A64=0,\" \",COUNTRY_INFO!A64))","v":"Ghana"},{"$f":"IF(AND(INTRO!$E$37=\"Non-endemic\",INTRO!$E$41=\"Non-endemic\"),\" \",IF(COUNTRY_INFO!B64=0,\" \",COUNTRY_INFO!B64))","v":"Bono"},{"$f":"IF(AND(INTRO!$E$37=\"Non-endemic\",INTRO!$E$41=\"Non-endemic\"),\" \",IF(COUNTRY_INFO!C64=0,\" \",COUNTRY_INFO!C64))","v":"Dormaa West"},{"$f":"IF(AND(INTRO!$E$37=\"Non-endemic\",INTRO!$E$41=\"Non-endemic\"),0,COUNTRY_INFO!V64)","v":0},{"$f":"IF(AND(INTRO!$E$37=\"Non-endemic\",INTRO!$E$41=\"Non-endemic\"),0,COUNTRY_INFO!X64)","v":0},{"$f":"IF(INTRO!$E$39=\"Non-endemic\",IF($D64=1,DEC!I64,0),IF($D64=1,IVM!G64,0))","v":0},null,{"$f":"IF(OR(COUNTRY_INFO!N64=\"Unknown\",COUNTRY_INFO!N64=\"Surveillance\",COUNTRY_INFO!N64=\"Not required\",COUNTRY_INFO!N64=0),0,IF(INTRO!$E$39=\"Non-endemic\",IF(AND($E64<>0,$G64=\"\"),IF($F64=0,COUNTRY_INFO!N64*$E64,COUNTRY_INFO!N64*($E64-$D64)),IF(AND($E64<>0,$G64<>0),IF($F64=0,COUNTRY_INFO!N64*$G64,COUNTRY_INFO!N64*($G64-$D64)),0)),IF($G64=\"\",COUNTRY_INFO!N64*$E64,COUNTRY_INFO!N64*$G64)))","v":0},{"$f":"IF(OR(COUNTRY_INFO!O64=\"Unknown\",COUNTRY_INFO!O64=\"Surveillance\",COUNTRY_INFO!O64=\"Not required\",COUNTRY_INFO!O64=0),0,IF($E64<>0, IF($F64=0,COUNTRY_INFO!O64*$E64,COUNTRY_INFO!O64*($E64-$D64)),COUNTRY_INFO!O64*$E64))","v":0},null,{"$f":"IF(OR(COUNTRY_INFO!P64=\"Unknown\",COUNTRY_INFO!P64=\"Surveillance\",COUNTRY_INFO!P64=\"Not required\",COUNTRY_INFO!P64=0),0,IF(AND($E64<>0,$J64=\"\"),IF($F64=0,COUNTRY_INFO!P64*$E64,COUNTRY_INFO!P64*($E64-$D64)), IF(AND($E64<>0,$J64<>0),IF($F64=0,COUNTRY_INFO!P64*$J64,COUNTRY_INFO!P64*($J64-$D64)), COUNTRY_INFO!P64*$J64)))","v":0},0,0,null,0,0,null,0,0,null,0]
[{"$f":"IF(AND(INTRO!$E$37=\"Non-endemic\",INTRO!$E$41=\"Non-endemic\"),\" \",IF(COUNTRY_INFO!A65=0,\" \",COUNTRY_INFO!A65))","v":"Ghana"},{"$f":"IF(AND(INTRO!$E$37=\"Non-endemic\",INTRO!$E$41=\"Non-endemic\"),\" \",IF(COUNTRY_INFO!B65=0,\" \",COUNTRY_INFO!B65))","v":"Bono"},{"$f":"IF(AND(INTRO!$E$37=\"Non-endemic\",INTRO!$E$41=\"Non-endemic\"),\" \",IF(COUNTRY_INFO!C65=0,\" \",COUNTRY_INFO!C65))","v":"Jaman North"},{"$f":"IF(AND(INTRO!$E$37=\"Non-endemic\",INTRO!$E$41=\"Non-endemic\"),0,COUNTRY_INFO!V65)","v":0},{"$f":"IF(AND(INTRO!$E$37=\"Non-endemic\",INTRO!$E$41=\"Non-endemic\"),0,COUNTRY_INFO!X65)","v":0},{"$f":"IF(INTRO!$E$39=\"Non-endemic\",IF($D65=1,DEC!I65,0),IF($D65=1,IVM!G65,0))","v":0},null,{"$f":"IF(OR(COUNTRY_INFO!N65=\"Unknown\",COUNTRY_INFO!N65=\"Surveillance\",COUNTRY_INFO!N65=\"Not required\",COUNTRY_INFO!N65=0),0,IF(INTRO!$E$39=\"Non-endemic\",IF(AND($E65<>0,$G65=\"\"),IF($F65=0,COUNTRY_INFO!N65*$E65,COUNTRY_INFO!N65*($E65-$D65)),IF(AND($E65<>0,$G65<>0),IF($F65=0,COUNTRY_INFO!N65*$G65,COUNTRY_INFO!N65*($G65-$D65)),0)),IF($G65=\"\",COUNTRY_INFO!N65*$E65,COUNTRY_INFO!N65*$G65)))","v":0},{"$f":"IF(OR(COUNTRY_INFO!O65=\"Unknown\",COUNTRY_INFO!O65=\"Surveillance\",COUNTRY_INFO!O65=\"Not required\",COUNTRY_INFO!O65=0),0,IF($E65<>0, IF($F65=0,COUNTRY_INFO!O65*$E65,COUNTRY_INFO!O65*($E65-$D65)),COUNTRY_INFO!O65*$E65))","v":0},null,{"$f":"IF(OR(COUNTRY_INFO!P65=\"Unknown\",COUNTRY_INFO!P65=\"Surveillance\",COUNTRY_INFO!P65=\"Not required\",COUNTRY_INFO!P65=0),0,IF(AND($E65<>0,$J65=\"\"),IF($F65=0,COUNTRY_INFO!P65*$E65,COUNTRY_INFO!P65*($E65-$D65)), IF(AND($E65<>0,$J65<>0),IF($F65=0,COUNTRY_INFO!P65*$J65,COUNTRY_INFO!P65*($J65-$D65)), COUNTRY_INFO!P65*$J65)))","v":0},0,0,null,0,0,null,0,0,null,0]
[{"$f":"IF(AND(INTRO!$E$37=\"Non-endemic\",INTRO!$E$41=\"Non-endemic\"),\" \",IF(COUNTRY_INFO!A66=0,\" \",COUNTRY_INFO!A66))","v":"Ghana"},{"$f":"IF(AND(INTRO!$E$37=\"Non-endemic\",INTRO!$E$41=\"Non-endemic\"),\" \",IF(COUNTRY_INFO!B66=0,\" \",COUNTRY_INFO!B66))","v":"Bono"},{"$f":"IF(AND(INTRO!$E$37=\"Non-endemic\",INTRO!$E$41=\"Non-endemic\"),\" \",IF(COUNTRY_INFO!C66=0,\" \",COUNTRY_INFO!C66))","v":"Jaman South"},{"$f":"IF(AND(INTRO!$E$37=\"Non-endemic\",INTRO!$E$41=\"Non-endemic\"),0,COUNTRY_INFO!V66)","v":0},{"$f":"IF(AND(INTRO!$E$37=\"Non-endemic\",INTRO!$E$41=\"Non-endemic\"),0,COUNTRY_INFO!X66)","v":0},{"$f":"IF(INTRO!$E$39=\"Non-endemic\",IF($D66=1,DEC!I66,0),IF($D66=1,IVM!G66,0))","v":0},null,{"$f":"IF(OR(COUNTRY_INFO!N66=\"Unknown\",COUNTRY_INFO!N66=\"Surveillance\",COUNTRY_INFO!N66=\"Not required\",COUNTRY_INFO!N66=0),0,IF(INTRO!$E$39=\"Non-endemic\",IF(AND($E66<>0,$G66=\"\"),IF($F66=0,COUNTRY_INFO!N66*$E66,COUNTRY_INFO!N66*($E66-$D66)),IF(AND($E66<>0,$G66<>0),IF($F66=0,COUNTRY_INFO!N66*$G66,COUNTRY_INFO!N66*($G66-$D66)),0)),IF($G66=\"\",COUNTRY_INFO!N66*$E66,COUNTRY_INFO!N66*$G66)))","v":0},{"$f":"IF(OR(COUNTRY_INFO!O66=\"Unknown\",COUNTRY_INFO!O66=\"Surveillance\",COUNTRY_INFO!O66=\"Not required\",COUNTRY_INFO!O66=0),0,IF($E66<>0, IF($F66=0,COUNTRY_INFO!O66*$E66,COUNTRY_INFO!O66*($E66-$D66)),COUNTRY_INFO!O66*$E66))","v":0},null,{"$f":"IF(OR(COUNTRY_INFO!P66=\"Unknown\",COUNTRY_INFO!P66=\"Surveillance\",COUNTRY_INFO!P66=\"Not required\",COUNTRY_INFO!P66=0),0,IF(AND($E66<>0,$J66=\"\"),IF($F66=0,COUNTRY_INFO!P66*$E66,COUNTRY_INFO!P66*($E66-$D66)), IF(AND($E66<>0,$J66<>0),IF($F66=0,COUNTRY_INFO!P66*$J66,COUNTRY_INFO!P66*($J66-$D66)), COUNTRY_INFO!P66*$J66)))","v":0},0,0,null,0,0,null,0,0,null,0]
[{"$f":"IF(AND(INTRO!$E$37=\"Non-endemic\",INTRO!$E$41=\"Non-endemic\"),\" \",IF(COUNTRY_INFO!A67=0,\" \",COUNTRY_INFO!A67))","v":"Ghana"},{"$f":"IF(AND(INTRO!$E$37=\"Non-endemic\",INTRO!$E$41=\"Non-endemic\"),\" \",IF(COUNTRY_INFO!B67=0,\" \",COUNTRY_INFO!B67))","v":"Bono"},{"$f":"IF(AND(INTRO!$E$37=\"Non-endemic\",INTRO!$E$41=\"Non-endemic\"),\" \",IF(COUNTRY_INFO!C67=0,\" \",COUNTRY_INFO!C67))","v":"Sunyani Municipal"},{"$f":"IF(AND(INTRO!$E$37=\"Non-endemic\",INTRO!$E$41=\"Non-endemic\"),0,COUNTRY_INFO!V67)","v":1},{"$f":"IF(AND(INTRO!$E$37=\"Non-endemic\",INTRO!$E$41=\"Non-endemic\"),0,COUNTRY_INFO!X67)","v":0},{"$f":"IF(INTRO!$E$39=\"Non-endemic\",IF($D67=1,DEC!I67,0),IF($D67=1,IVM!G67,0))","v":0},null,{"$f":"IF(OR(COUNTRY_INFO!N67=\"Unknown\",COUNTRY_INFO!N67=\"Surveillance\",COUNTRY_INFO!N67=\"Not required\",COUNTRY_INFO!N67=0),0,IF(INTRO!$E$39=\"Non-endemic\",IF(AND($E67<>0,$G67=\"\"),IF($F67=0,COUNTRY_INFO!N67*$E67,COUNTRY_INFO!N67*($E67-$D67)),IF(AND($E67<>0,$G67<>0),IF($F67=0,COUNTRY_INFO!N67*$G67,COUNTRY_INFO!N67*($G67-$D67)),0)),IF($G67=\"\",COUNTRY_INFO!N67*$E67,COUNTRY_INFO!N67*$G67)))","v":0},{"$f":"IF(OR(COUNTRY_INFO!O67=\"Unknown\",COUNTRY_INFO!O67=\"Surveillance\",COUNTRY_INFO!O67=\"Not required\",COUNTRY_INFO!O67=0),0,IF($E67<>0, IF($F67=0,COUNTRY_INFO!O67*$E67,COUNTRY_INFO!O67*($E67-$D67)),COUNTRY_INFO!O67*$E67))","v":0},null,{"$f":"IF(OR(COUNTRY_INFO!P67=\"Unknown\",COUNTRY_INFO!P67=\"Surveillance\",COUNTRY_INFO!P67=\"Not required\",COUNTRY_INFO!P67=0),0,IF(AND($E67<>0,$J67=\"\"),IF($F67=0,COUNTRY_INFO!P67*$E67,COUNTRY_INFO!P67*($E67-$D67)), IF(AND($E67<>0,$J67<>0),IF($F67=0,COUNTRY_INFO!P67*$J67,COUNTRY_INFO!P67*($J67-$D67)), COUNTRY_INFO!P67*$J67)))","v":0},0,0,null,0,0,null,0,0,null,0]
[{"$f":"IF(AND(INTRO!$E$37=\"Non-endemic\",INTRO!$E$41=\"Non-endemic\"),\" \",IF(COUNTRY_INFO!A68=0,\" \",COUNTRY_INFO!A68))","v":"Ghana"},{"$f":"IF(AND(INTRO!$E$37=\"Non-endemic\",INTRO!$E$41=\"Non-endemic\"),\" \",IF(COUNTRY_INFO!B68=0,\" \",COUNTRY_INFO!B68))","v":"Bono"},{"$f":"IF(AND(INTRO!$E$37=\"Non-endemic\",INTRO!$E$41=\"Non-endemic\"),\" \",IF(COUNTRY_INFO!C68=0,\" \",COUNTRY_INFO!C68))","v":"Sunyani West"},{"$f":"IF(AND(INTRO!$E$37=\"Non-endemic\",INTRO!$E$41=\"Non-endemic\"),0,COUNTRY_INFO!V68)","v":1},{"$f":"IF(AND(INTRO!$E$37=\"Non-endemic\",INTRO!$E$41=\"Non-endemic\"),0,COUNTRY_INFO!X68)","v":0},{"$f":"IF(INTRO!$E$39=\"Non-endemic\",IF($D68=1,DEC!I68,0),IF($D68=1,IVM!G68,0))","v":127048},null,{"$f":"IF(OR(COUNTRY_INFO!N68=\"Unknown\",COUNTRY_INFO!N68=\"Surveillance\",COUNTRY_INFO!N68=\"Not required\",COUNTRY_INFO!N68=0),0,IF(INTRO!$E$39=\"Non-endemic\",IF(AND($E68<>0,$G68=\"\"),IF($F68=0,COUNTRY_INFO!N68*$E68,COUNTRY_INFO!N68*($E68-$D68)),IF(AND($E68<>0,$G68<>0),IF($F68=0,COUNTRY_INFO!N68*$G68,COUNTRY_INFO!N68*($G68-$D68)),0)),IF($G68=\"\",COUNTRY_INFO!N68*$E68,COUNTRY_INFO!N68*$G68)))","v":0},{"$f":"IF(OR(COUNTRY_INFO!O68=\"Unknown\",COUNTRY_INFO!O68=\"Surveillance\",COUNTRY_INFO!O68=\"Not required\",COUNTRY_INFO!O68=0),0,IF($E68<>0, IF($F68=0,COUNTRY_INFO!O68*$E68,COUNTRY_INFO!O68*($E68-$D68)),COUNTRY_INFO!O68*$E68))","v":0},null,{"$f":"IF(OR(COUNTRY_INFO!P68=\"Unknown\",COUNTRY_INFO!P68=\"Surveillance\",COUNTRY_INFO!P68=\"Not required\",COUNTRY_INFO!P68=0),0,IF(AND($E68<>0,$J68=\"\"),IF($F68=0,COUNTRY_INFO!P68*$E68,COUNTRY_INFO!P68*($E68-$D68)), IF(AND($E68<>0,$J68<>0),IF($F68=0,COUNTRY_INFO!P68*$J68,COUNTRY_INFO!P68*($J68-$D68)), COUNTRY_INFO!P68*$J68)))","v":0},0,127048,null,127048,0,null,0,0,null,0]
[{"$f":"IF(AND(INTRO!$E$37=\"Non-endemic\",INTRO!$E$41=\"Non-endemic\"),\" \",IF(COUNTRY_INFO!A69=0,\" \",COUNTRY_INFO!A69))","v":"Ghana"},{"$f":"IF(AND(INTRO!$E$37=\"Non-endemic\",INTRO!$E$41=\"Non-endemic\"),\" \",IF(COUNTRY_INFO!B69=0,\" \",COUNTRY_INFO!B69))","v":"Bono"},{"$f":"IF(AND(INTRO!$E$37=\"Non-endemic\",INTRO!$E$41=\"Non-endemic\"),\" \",IF(COUNTRY_INFO!C69=0,\" \",COUNTRY_INFO!C69))","v":"Tain"},{"$f":"IF(AND(INTRO!$E$37=\"Non-endemic\",INTRO!$E$41=\"Non-endemic\"),0,COUNTRY_INFO!V69)","v":0},{"$f":"IF(AND(INTRO!$E$37=\"Non-endemic\",INTRO!$E$41=\"Non-endemic\"),0,COUNTRY_INFO!X69)","v":0},{"$f":"IF(INTRO!$E$39=\"Non-endemic\",IF($D69=1,DEC!I69,0),IF($D69=1,IVM!G69,0))","v":0},null,{"$f":"IF(OR(COUNTRY_INFO!N69=\"Unknown\",COUNTRY_INFO!N69=\"Surveillance\",COUNTRY_INFO!N69=\"Not required\",COUNTRY_INFO!N69=0),0,IF(INTRO!$E$39=\"Non-endemic\",IF(AND($E69<>0,$G69=\"\"),IF($F69=0,COUNTRY_INFO!N69*$E69,COUNTRY_INFO!N69*($E69-$D69)),IF(AND($E69<>0,$G69<>0),IF($F69=0,COUNTRY_INFO!N69*$G69,COUNTRY_INFO!N69*($G69-$D69)),0)),IF($G69=\"\",COUNTRY_INFO!N69*$E69,COUNTRY_INFO!N69*$G69)))","v":0},{"$f":"IF(OR(COUNTRY_INFO!O69=\"Unknown\",COUNTRY_INFO!O69=\"Surveillance\",COUNTRY_INFO!O69=\"Not required\",COUNTRY_INFO!O69=0),0,IF($E69<>0, IF($F69=0,COUNTRY_INFO!O69*$E69,COUNTRY_INFO!O69*($E69-$D69)),COUNTRY_INFO!O69*$E69))","v":0},null,{"$f":"IF(OR(COUNTRY_INFO!P69=\"Unknown\",COUNTRY_INFO!P69=\"Surveillance\",COUNTRY_INFO!P69=\"Not required\",COUNTRY_INFO!P69=0),0,IF(AND($E69<>0,$J69=\"\"),IF($F69=0,COUNTRY_INFO!P69*$E69,COUNTRY_INFO!P69*($E69-$D69)), IF(AND($E69<>0,$J69<>0),IF($F69=0,COUNTRY_INFO!P69*$J69,COUNTRY_INFO!P69*($J69-$D69)), COUNTRY_INFO!P69*$J69)))","v":0},0,0,null,0,0,null,0,0,null,0]
[{"$f":"IF(AND(INTRO!$E$37=\"Non-endemic\",INTRO!$E$41=\"Non-endemic\"),\" \",IF(COUNTRY_INFO!A70=0,\" \",COUNTRY_INFO!A70))","v":"Ghana"},{"$f":"IF(AND(INTRO!$E$37=\"Non-endemic\",INTRO!$E$41=\"Non-endemic\"),\" \",IF(COUNTRY_INFO!B70=0,\" \",COUNTRY_INFO!B70))","v":"Bono"},{"$f":"IF(AND(INTRO!$E$37=\"Non-endemic\",INTRO!$E$41=\"Non-endemic\"),\" \",IF(COUNTRY_INFO!C70=0,\" \",COUNTRY_INFO!C70))","v":"Wenchi"},{"$f":"IF(AND(INTRO!$E$37=\"Non-endemic\",INTRO!$E$41=\"Non-endemic\"),0,COUNTRY_INFO!V70)","v":1},{"$f":"IF(AND(INTRO!$E$37=\"Non-endemic\",INTRO!$E$41=\"Non-endemic\"),0,COUNTRY_INFO!X70)","v":0},{"$f":"IF(INTRO!$E$39=\"Non-endemic\",IF($D70=1,DEC!I70,0),IF($D70=1,IVM!G70,0))","v":116527},null,{"$f":"IF(OR(COUNTRY_INFO!N70=\"Unknown\",COUNTRY_INFO!N70=\"Surveillance\",COUNTRY_INFO!N70=\"Not required\",COUNTRY_INFO!N70=0),0,IF(INTRO!$E$39=\"Non-endemic\",IF(AND($E70<>0,$G70=\"\"),IF($F70=0,COUNTRY_INFO!N70*$E70,COUNTRY_INFO!N70*($E70-$D70)),IF(AND($E70<>0,$G70<>0),IF($F70=0,COUNTRY_INFO!N70*$G70,COUNTRY_INFO!N70*($G70-$D70)),0)),IF($G70=\"\",COUNTRY_INFO!N70*$E70,COUNTRY_INFO!N70*$G70)))","v":0},{"$f":"IF(OR(COUNTRY_INFO!O70=\"Unknown\",COUNTRY_INFO!O70=\"Surveillance\",COUNTRY_INFO!O70=\"Not required\",COUNTRY_INFO!O70=0),0,IF($E70<>0, IF($F70=0,COUNTRY_INFO!O70*$E70,COUNTRY_INFO!O70*($E70-$D70)),COUNTRY_INFO!O70*$E70))","v":0},null,{"$f":"IF(OR(COUNTRY_INFO!P70=\"Unknown\",COUNTRY_INFO!P70=\"Surveillance\",COUNTRY_INFO!P70=\"Not required\",COUNTRY_INFO!P70=0),0,IF(AND($E70<>0,$J70=\"\"),IF($F70=0,COUNTRY_INFO!P70*$E70,COUNTRY_INFO!P70*($E70-$D70)), IF(AND($E70<>0,$J70<>0),IF($F70=0,COUNTRY_INFO!P70*$J70,COUNTRY_INFO!P70*($J70-$D70)), COUNTRY_INFO!P70*$J70)))","v":0},0,116527,null,116527,0,null,0,0,null,0]
[{"$f":"IF(AND(INTRO!$E$37=\"Non-endemic\",INTRO!$E$41=\"Non-endemic\"),\" \",IF(COUNTRY_INFO!A71=0,\" \",COUNTRY_INFO!A71))","v":"Ghana"},{"$f":"IF(AND(INTRO!$E$37=\"Non-endemic\",INTRO!$E$41=\"Non-endemic\"),\" \",IF(COUNTRY_INFO!B71=0,\" \",COUNTRY_INFO!B71))","v":"Bono East"},{"$f":"IF(AND(INTRO!$E$37=\"Non-endemic\",INTRO!$E$41=\"Non-endemic\"),\" \",IF(COUNTRY_INFO!C71=0,\" \",COUNTRY_INFO!C71))","v":"Atebubu-Amanten"},{"$f":"IF(AND(INTRO!$E$37=\"Non-endemic\",INTRO!$E$41=\"Non-endemic\"),0,COUNTRY_INFO!V71)","v":0},{"$f":"IF(AND(INTRO!$E$37=\"Non-endemic\",INTRO!$E$41=\"Non-endemic\"),0,COUNTRY_INFO!X71)","v":0},{"$f":"IF(INTRO!$E$39=\"Non-endemic\",IF($D71=1,DEC!I71,0),IF($D71=1,IVM!G71,0))","v":0},null,{"$f":"IF(OR(COUNTRY_INFO!N71=\"Unknown\",COUNTRY_INFO!N71=\"Surveillance\",COUNTRY_INFO!N71=\"Not required\",COUNTRY_INFO!N71=0),0,IF(INTRO!$E$39=\"Non-endemic\",IF(AND($E71<>0,$G71=\"\"),IF($F71=0,COUNTRY_INFO!N71*$E71,COUNTRY_INFO!N71*($E71-$D71)),IF(AND($E71<>0,$G71<>0),IF($F71=0,COUNTRY_INFO!N71*$G71,COUNTRY_INFO!N71*($G71-$D71)),0)),IF($G71=\"\",COUNTRY_INFO!N71*$E71,COUNTRY_INFO!N71*$G71)))","v":0},{"$f":"IF(OR(COUNTRY_INFO!O71=\"Unknown\",COUNTRY_INFO!O71=\"Surveillance\",COUNTRY_INFO!O71=\"Not required\",COUNTRY_INFO!O71=0),0,IF($E71<>0, IF($F71=0,COUNTRY_INFO!O71*$E71,COUNTRY_INFO!O71*($E71-$D71)),COUNTRY_INFO!O71*$E71))","v":0},null,{"$f":"IF(OR(COUNTRY_INFO!P71=\"Unknown\",COUNTRY_INFO!P71=\"Surveillance\",COUNTRY_INFO!P71=\"Not required\",COUNTRY_INFO!P71=0),0,IF(AND($E71<>0,$J71=\"\"),IF($F71=0,COUNTRY_INFO!P71*$E71,COUNTRY_INFO!P71*($E71-$D71)), IF(AND($E71<>0,$J71<>0),IF($F71=0,COUNTRY_INFO!P71*$J71,COUNTRY_INFO!P71*($J71-$D71)), COUNTRY_INFO!P71*$J71)))","v":0},0,0,null,0,0,null,0,0,null,0]
[{"$f":"IF(AND(INTRO!$E$37=\"Non-endemic\",INTRO!$E$41=\"Non-endemic\"),\" \",IF(COUNTRY_INFO!A72=0,\" \",COUNTRY_INFO!A72))","v":"Ghana"},{"$f":"IF(AND(INTRO!$E$37=\"Non-endemic\",INTRO!$E$41=\"Non-endemic\"),\" \",IF(COUNTRY_INFO!B72=0,\" \",COUNTRY_INFO!B72))","v":"Bono East"},{"$f":"IF(AND(INTRO!$E$37=\"Non-endemic\",INTRO!$E$41=\"Non-endemic\"),\" \",IF(COUNTRY_INFO!C72=0,\" \",COUNTRY_INFO!C72))","v":"Kintampo North"},{"$f":"IF(AND(INTRO!$E$37=\"Non-endemic\",INTRO!$E$41=\"Non-endemic\"),0,COUNTRY_INFO!V72)","v":0},{"$f":"IF(AND(INTRO!$E$37=\"Non-endemic\",INTRO!$E$41=\"Non-endemic\"),0,COUNTRY_INFO!X72)","v":0},{"$f":"IF(INTRO!$E$39=\"Non-endemic\",IF($D72=1,DEC!I72,0),IF($D72=1,IVM!G72,0))","v":0},null,{"$f":"IF(OR(COUNTRY_INFO!N72=\"Unknown\",COUNTRY_INFO!N72=\"Surveillance\",COUNTRY_INFO!N72=\"Not required\",COUNTRY_INFO!N72=0),0,IF(INTRO!$E$39=\"Non-endemic\",IF(AND($E72<>0,$G72=\"\"),IF($F72=0,COUNTRY_INFO!N72*$E72,COUNTRY_INFO!N72*($E72-$D72)),IF(AND($E72<>0,$G72<>0),IF($F72=0,COUNTRY_INFO!N72*$G72,COUNTRY_INFO!N72*($G72-$D72)),0)),IF($G72=\"\",COUNTRY_INFO!N72*$E72,COUNTRY_INFO!N72*$G72)))","v":0},{"$f":"IF(OR(COUNTRY_INFO!O72=\"Unknown\",COUNTRY_INFO!O72=\"Surveillance\",COUNTRY_INFO!O72=\"Not required\",COUNTRY_INFO!O72=0),0,IF($E72<>0, IF($F72=0,COUNTRY_INFO!O72*$E72,COUNTRY_INFO!O72*($E72-$D72)),COUNTRY_INFO!O72*$E72))","v":0},null,{"$f":"IF(OR(COUNTRY_INFO!P72=\"Unknown\",COUNTRY_INFO!P72=\"Surveillance\",COUNTRY_INFO!P72=\"Not required\",COUNTRY_INFO!P72=0),0,IF(AND($E72<>0,$J72=\"\"),IF($F72=0,COUNTRY_INFO!P72*$E72,COUNTRY_INFO!P72*($E72-$D72)), IF(AND($E72<>0,$J72<>0),IF($F72=0,COUNTRY_INFO!P72*$J72,COUNTRY_INFO!P72*($J72-$D72)), COUNTRY_INFO!P72*$J72)))","v":0},0,0,null,0,0,null,0,0,null,0]
[{"$f":"IF(AND(INTRO!$E$37=\"Non-endemic\",INTRO!$E$41=\"Non-endemic\"),\" \",IF(COUNTRY_INFO!A73=0,\" \",COUNTRY_INFO!A73))","v":"Ghana"},{"$f":"IF(AND(INTRO!$E$37=\"Non-endemic\",INTRO!$E$41=\"Non-endemic\"),\" \",IF(COUNTRY_INFO!B73=0,\" \",COUNTRY_INFO!B73))","v":"Bono East"},{"$f":"IF(AND(INTRO!$E$37=\"Non-endemic\",INTRO!$E$41=\"Non-endemic\"),\" \",IF(COUNTRY_INFO!C73=0,\" \",COUNTRY_INFO!C73))","v":"Kintampo South"},{"$f":"IF(AND(INTRO!$E$37=\"Non-endemic\",INTRO!$E$41=\"Non-endemic\"),0,COUNTRY_INFO!V73)","v":0},{"$f":"IF(AND(INTRO!$E$37=\"Non-endemic\",INTRO!$E$41=\"Non-endemic\"),0,COUNTRY_INFO!X73)","v":0},{"$f":"IF(INTRO!$E$39=\"Non-endemic\",IF($D73=1,DEC!I73,0),IF($D73=1,IVM!G73,0))","v":0},null,{"$f":"IF(OR(COUNTRY_INFO!N73=\"Unknown\",COUNTRY_INFO!N73=\"Surveillance\",COUNTRY_INFO!N73=\"Not required\",COUNTRY_INFO!N73=0),0,IF(INTRO!$E$39=\"Non-endemic\",IF(AND($E73<>0,$G73=\"\"),IF($F73=0,COUNTRY_INFO!N73*$E73,COUNTRY_INFO!N73*($E73-$D73)),IF(AND($E73<>0,$G73<>0),IF($F73=0,COUNTRY_INFO!N73*$G73,COUNTRY_INFO!N73*($G73-$D73)),0)),IF($G73=\"\",COUNTRY_INFO!N73*$E73,COUNTRY_INFO!N73*$G73)))","v":0},{"$f":"IF(OR(COUNTRY_INFO!O73=\"Unknown\",COUNTRY_INFO!O73=\"Surveillance\",COUNTRY_INFO!O73=\"Not required\",COUNTRY_INFO!O73=0),0,IF($E73<>0, IF($F73=0,COUNTRY_INFO!O73*$E73,COUNTRY_INFO!O73*($E73-$D73)),COUNTRY_INFO!O73*$E73))","v":0},null,{"$f":"IF(OR(COUNTRY_INFO!P73=\"Unknown\",COUNTRY_INFO!P73=\"Surveillance\",COUNTRY_INFO!P73=\"Not required\",COUNTRY_INFO!P73=0),0,IF(AND($E73<>0,$J73=\"\"),IF($F73=0,COUNTRY_INFO!P73*$E73,COUNTRY_INFO!P73*($E73-$D73)), IF(AND($E73<>0,$J73<>0),IF($F73=0,COUNTRY_INFO!P73*$J73,COUNTRY_INFO!P73*($J73-$D73)), COUNTRY_INFO!P73*$J73)))","v":0},0,0,null,0,0,null,0,0,null,0]
[{"$f":"IF(AND(INTRO!$E$37=\"Non-endemic\",INTRO!$E$41=\"Non-endemic\"),\" \",IF(COUNTRY_INFO!A74=0,\" \",COUNTRY_INFO!A74))","v":"Ghana"},{"$f":"IF(AND(INTRO!$E$37=\"Non-endemic\",INTRO!$E$41=\"Non-endemic\"),\" \",IF(COUNTRY_INFO!B74=0,\" \",COUNTRY_INFO!B74))","v":"Bono East"},{"$f":"IF(AND(INTRO!$E$37=\"Non-endemic\",INTRO!$E$41=\"Non-endemic\"),\" \",IF(COUNTRY_INFO!C74=0,\" \",COUNTRY_INFO!C74))","v":"Nkoranza North"},{"$f":"IF(AND(INTRO!$E$37=\"Non-endemic\",INTRO!$E$41=\"Non-endemic\"),0,COUNTRY_INFO!V74)","v":0},{"$f":"IF(AND(INTRO!$E$37=\"Non-endemic\",INTRO!$E$41=\"Non-endemic\"),0,COUNTRY_INFO!X74)","v":0},{"$f":"IF(INTRO!$E$39=\"Non-endemic\",IF($D74=1,DEC!I74,0),IF($D74=1,IVM!G74,0))","v":0},null,{"$f":"IF(OR(COUNTRY_INFO!N74=\"Unknown\",COUNTRY_INFO!N74=\"Surveillance\",COUNTRY_INFO!N74=\"Not required\",COUNTRY_INFO!N74=0),0,IF(INTRO!$E$39=\"Non-endemic\",IF(AND($E74<>0,$G74=\"\"),IF($F74=0,COUNTRY_INFO!N74*$E74,COUNTRY_INFO!N74*($E74-$D74)),IF(AND($E74<>0,$G74<>0),IF($F74=0,COUNTRY_INFO!N74*$G74,COUNTRY_INFO!N74*($G74-$D74)),0)),IF($G74=\"\",COUNTRY_INFO!N74*$E74,COUNTRY_INFO!N74*$G74)))","v":0},{"$f":"IF(OR(COUNTRY_INFO!O74=\"Unknown\",COUNTRY_INFO!O74=\"Surveillance\",COUNTRY_INFO!O74=\"Not required\",COUNTRY_INFO!O74=0),0,IF($E74<>0, IF($F74=0,COUNTRY_INFO!O74*$E74,COUNTRY_INFO!O74*($E74-$D74)),COUNTRY_INFO!O74*$E74))","v":0},null,{"$f":"IF(OR(COUNTRY_INFO!P74=\"Unknown\",COUNTRY_INFO!P74=\"Surveillance\",COUNTRY_INFO!P74=\"Not required\",COUNTRY_INFO!P74=0),0,IF(AND($E74<>0,$J74=\"\"),IF($F74=0,COUNTRY_INFO!P74*$E74,COUNTRY_INFO!P74*($E74-$D74)), IF(AND($E74<>0,$J74<>0),IF($F74=0,COUNTRY_INFO!P74*$J74,COUNTRY_INFO!P74*($J74-$D74)), COUNTRY_INFO!P74*$J74)))","v":0},0,0,null,0,0,null,0,0,null,0]
[{"$f":"IF(AND(INTRO!$E$37=\"Non-endemic\",INTRO!$E$41=\"Non-endemic\"),\" \",IF(COUNTRY_INFO!A75=0,\" \",COUNTRY_INFO!A75))","v":"Ghana"},{"$f":"IF(AND(INTRO!$E$37=\"Non-endemic\",INTRO!$E$41=\"Non-endemic\"),\" \",IF(COUNTRY_INFO!B75=0,\" \",COUNTRY_INFO!B75))","v":"Bono East"},{"$f":"IF(AND(INTRO!$E$37=\"Non-endemic\",INTRO!$E$41=\"Non-endemic\"),\" \",IF(COUNTRY_INFO!C75=0,\" \",COUNTRY_INFO!C75))","v":"Nkoranza South"},{"$f":"IF(AND(INTRO!$E$37=\"Non-endemic\",INTRO!$E$41=\"Non-endemic\"),0,COUNTRY_INFO!V75)","v":1},{"$f":"IF(AND(INTRO!$E$37=\"Non-endemic\",INTRO!$E$41=\"Non-endemic\"),0,COUNTRY_INFO!X75)","v":0},{"$f":"IF(INTRO!$E$39=\"Non-endemic\",IF($D75=1,DEC!I75,0),IF($D75=1,IVM!G75,0))","v":107078},null,{"$f":"IF(OR(COUNTRY_INFO!N75=\"Unknown\",COUNTRY_INFO!N75=\"Surveillance\",COUNTRY_INFO!N75=\"Not required\",COUNTRY_INFO!N75=0),0,IF(INTRO!$E$39=\"Non-endemic\",IF(AND($E75<>0,$G75=\"\"),IF($F75=0,COUNTRY_INFO!N75*$E75,COUNTRY_INFO!N75*($E75-$D75)),IF(AND($E75<>0,$G75<>0),IF($F75=0,COUNTRY_INFO!N75*$G75,COUNTRY_INFO!N75*($G75-$D75)),0)),IF($G75=\"\",COUNTRY_INFO!N75*$E75,COUNTRY_INFO!N75*$G75)))","v":0},{"$f":"IF(OR(COUNTRY_INFO!O75=\"Unknown\",COUNTRY_INFO!O75=\"Surveillance\",COUNTRY_INFO!O75=\"Not required\",COUNTRY_INFO!O75=0),0,IF($E75<>0, IF($F75=0,COUNTRY_INFO!O75*$E75,COUNTRY_INFO!O75*($E75-$D75)),COUNTRY_INFO!O75*$E75))","v":0},null,{"$f":"IF(OR(COUNTRY_INFO!P75=\"Unknown\",COUNTRY_INFO!P75=\"Surveillance\",COUNTRY_INFO!P75=\"Not required\",COUNTRY_INFO!P75=0),0,IF(AND($E75<>0,$J75=\"\"),IF($F75=0,COUNTRY_INFO!P75*$E75,COUNTRY_INFO!P75*($E75-$D75)), IF(AND($E75<>0,$J75<>0),IF($F75=0,COUNTRY_INFO!P75*$J75,COUNTRY_INFO!P75*($J75-$D75)), COUNTRY_INFO!P75*$J75)))","v":0},0,107078,null,107078,0,null,0,0,null,0]
[{"$f":"IF(AND(INTRO!$E$37=\"Non-endemic\",INTRO!$E$41=\"Non-endemic\"),\" \",IF(COUNTRY_INFO!A76=0,\" \",COUNTRY_INFO!A76))","v":"Ghana"},{"$f":"IF(AND(INTRO!$E$37=\"Non-endemic\",INTRO!$E$41=\"Non-endemic\"),\" \",IF(COUNTRY_INFO!B76=0,\" \",COUNTRY_INFO!B76))","v":"Bono East"},{"$f":"IF(AND(INTRO!$E$37=\"Non-endemic\",INTRO!$E$41=\"Non-endemic\"),\" \",IF(COUNTRY_INFO!C76=0,\" \",COUNTRY_INFO!C76))","v":"Pru"},{"$f":"IF(AND(INTRO!$E$37=\"Non-endemic\",INTRO!$E$41=\"Non-endemic\"),0,COUNTRY_INFO!V76)","v":0},{"$f":"IF(AND(INTRO!$E$37=\"Non-endemic\",INTRO!$E$41=\"Non-endemic\"),0,COUNTRY_INFO!X76)","v":0},{"$f":"IF(INTRO!$E$39=\"Non-endemic\",IF($D76=1,DEC!I76,0),IF($D76=1,IVM!G76,0))","v":0},null,{"$f":"IF(OR(COUNTRY_INFO!N76=\"Unknown\",COUNTRY_INFO!N76=\"Surveillance\",COUNTRY_INFO!N76=\"Not required\",COUNTRY_INFO!N76=0),0,IF(INTRO!$E$39=\"Non-endemic\",IF(AND($E76<>0,$G76=\"\"),IF($F76=0,COUNTRY_INFO!N76*$E76,COUNTRY_INFO!N76*($E76-$D76)),IF(AND($E76<>0,$G76<>0),IF($F76=0,COUNTRY_INFO!N76*$G76,COUNTRY_INFO!N76*($G76-$D76)),0)),IF($G76=\"\",COUNTRY_INFO!N76*$E76,COUNTRY_INFO!N76*$G76)))","v":0},{"$f":"IF(OR(COUNTRY_INFO!O76=\"Unknown\",COUNTRY_INFO!O76=\"Surveillance\",COUNTRY_INFO!O76=\"Not required\",COUNTRY_INFO!O76=0),0,IF($E76<>0, IF($F76=0,COUNTRY_INFO!O76*$E76,COUNTRY_INFO!O76*($E76-$D76)),COUNTRY_INFO!O76*$E76))","v":0},null,{"$f":"IF(OR(COUNTRY_INFO!P76=\"Unknown\",COUNTRY_INFO!P76=\"Surveillance\",COUNTRY_INFO!P76=\"Not required\",COUNTRY_INFO!P76=0),0,IF(AND($E76<>0,$J76=\"\"),IF($F76=0,COUNTRY_INFO!P76*$E76,COUNTRY_INFO!P76*($E76-$D76)), IF(AND($E76<>0,$J76<>0),IF($F76=0,COUNTRY_INFO!P76*$J76,COUNTRY_INFO!P76*($J76-$D76)), COUNTRY_INFO!P76*$J76)))","v":0},0,0,null,0,0,null,0,0,null,0]
[{"$f":"IF(AND(INTRO!$E$37=\"Non-endemic\",INTRO!$E$41=\"Non-endemic\"),\" \",IF(COUNTRY_INFO!A77=0,\" \",COUNTRY_INFO!A77))","v":"Ghana"},{"$f":"IF(AND(INTRO!$E$37=\"Non-endemic\",INTRO!$E$41=\"Non-endemic\"),\" \",IF(COUNTRY_INFO!B77=0,\" \",COUNTRY_INFO!B77))","v":"Bono East"},{"$f":"IF(AND(INTRO!$E$37=\"Non-endemic\",INTRO!$E$41=\"Non-endemic\"),\" \",IF(COUNTRY_INFO!C77=0,\" \",COUNTRY_INFO!C77))","v":"Pru West"},{"$f":"IF(AND(INTRO!$E$37=\"Non-endemic\",INTRO!$E$41=\"Non-endemic\"),0,COUNTRY_INFO!V77)","v":0},{"$f":"IF(AND(INTRO!$E$37=\"Non-endemic\",INTRO!$E$41=\"Non-endemic\"),0,COUNTRY_INFO!X77)","v":0},{"$f":"IF(INTRO!$E$39=\"Non-endemic\",IF($D77=1,DEC!I77,0),IF($D77=1,IVM!G77,0))","v":0},null,{"$f":"IF(OR(COUNTRY_INFO!N77=\"Unknown\",COUNTRY_INFO!N77=\"Surveillance\",COUNTRY_INFO!N77=\"Not required\",COUNTRY_INFO!N77=0),0,IF(INTRO!$E$39=\"Non-endemic\",IF(AND($E77<>0,$G77=\"\"),IF($F77=0,COUNTRY_INFO!N77*$E77,COUNTRY_INFO!N77*($E77-$D77)),IF(AND($E77<>0,$G77<>0),IF($F77=0,COUNTRY_INFO!N77*$G77,COUNTRY_INFO!N77*($G77-$D77)),0)),IF($G77=\"\",COUNTRY_INFO!N77*$E77,COUNTRY_INFO!N77*$G77)))","v":0},{"$f":"IF(OR(COUNTRY_INFO!O77=\"Unknown\",COUNTRY_INFO!O77=\"Surveillance\",COUNTRY_INFO!O77=\"Not required\",COUNTRY_INFO!O77=0),0,IF($E77<>0, IF($F77=0,COUNTRY_INFO!O77*$E77,COUNTRY_INFO!O77*($E77-$D77)),COUNTRY_INFO!O77*$E77))","v":0},null,{"$f":"IF(OR(COUNTRY_INFO!P77=\"Unknown\",COUNTRY_INFO!P77=\"Surveillance\",COUNTRY_INFO!P77=\"Not required\",COUNTRY_INFO!P77=0),0,IF(AND($E77<>0,$J77=\"\"),IF($F77=0,COUNTRY_INFO!P77*$E77,COUNTRY_INFO!P77*($E77-$D77)), IF(AND($E77<>0,$J77<>0),IF($F77=0,COUNTRY_INFO!P77*$J77,COUNTRY_INFO!P77*($J77-$D77)), COUNTRY_INFO!P77*$J77)))","v":0},0,0,null,0,0,null,0,0,null,0]
[{"$f":"IF(AND(INTRO!$E$37=\"Non-endemic\",INTRO!$E$41=\"Non-endemic\"),\" \",IF(COUNTRY_INFO!A78=0,\" \",COUNTRY_INFO!A78))","v":"Ghana"},{"$f":"IF(AND(INTRO!$E$37=\"Non-endemic\",INTRO!$E$41=\"Non-endemic\"),\" \",IF(COUNTRY_INFO!B78=0,\" \",COUNTRY_INFO!B78))","v":"Bono East"},{"$f":"IF(AND(INTRO!$E$37=\"Non-endemic\",INTRO!$E$41=\"Non-endemic\"),\" \",IF(COUNTRY_INFO!C78=0,\" \",COUNTRY_INFO!C78))","v":"Sene East"},{"$f":"IF(AND(INTRO!$E$37=\"Non-endemic\",INTRO!$E$41=\"Non-endemic\"),0,COUNTRY_INFO!V78)","v":0},{"$f":"IF(AND(INTRO!$E$37=\"Non-endemic\",INTRO!$E$41=\"Non-endemic\"),0,COUNTRY_INFO!X78)","v":0},{"$f":"IF(INTRO!$E$39=\"Non-endemic\",IF($D78=1,DEC!I78,0),IF($D78=1,IVM!G78,0))","v":0},null,{"$f":"IF(OR(COUNTRY_INFO!N78=\"Unknown\",COUNTRY_INFO!N78=\"Surveillance\",COUNTRY_INFO!N78=\"Not required\",COUNTRY_INFO!N78=0),0,IF(INTRO!$E$39=\"Non-endemic\",IF(AND($E78<>0,$G78=\"\"),IF($F78=0,COUNTRY_INFO!N78*$E78,COUNTRY_INFO!N78*($E78-$D78)),IF(AND($E78<>0,$G78<>0),IF($F78=0,COUNTRY_INFO!N78*$G78,COUNTRY_INFO!N78*($G78-$D78)),0)),IF($G78=\"\",COUNTRY_INFO!N78*$E78,COUNTRY_INFO!N78*$G78)))","v":0},{"$f":"IF(OR(COUNTRY_INFO!O78=\"Unknown\",COUNTRY_INFO!O78=\"Surveillance\",COUNTRY_INFO!O78=\"Not required\",COUNTRY_INFO!O78=0),0,IF($E78<>0, IF($F78=0,COUNTRY_INFO!O78*$E78,COUNTRY_INFO!O78*($E78-$D78)),COUNTRY_INFO!O78*$E78))","v":0},null,{"$f":"IF(OR(COUNTRY_INFO!P78=\"Unknown\",COUNTRY_INFO!P78=\"Surveillance\",COUNTRY_INFO!P78=\"Not required\",COUNTRY_INFO!P78=0),0,IF(AND($E78<>0,$J78=\"\"),IF($F78=0,COUNTRY_INFO!P78*$E78,COUNTRY_INFO!P78*($E78-$D78)), IF(AND($E78<>0,$J78<>0),IF($F78=0,COUNTRY_INFO!P78*$J78,COUNTRY_INFO!P78*($J78-$D78)), COUNTRY_INFO!P78*$J78)))","v":0},0,0,null,0,0,null,0,0,null,0]
[{"$f":"IF(AND(INTRO!$E$37=\"Non-endemic\",INTRO!$E$41=\"Non-endemic\"),\" \",IF(COUNTRY_INFO!A79=0,\" \",COUNTRY_INFO!A79))","v":"Ghana"},{"$f":"IF(AND(INTRO!$E$37=\"Non-endemic\",INTRO!$E$41=\"Non-endemic\"),\" \",IF(COUNTRY_INFO!B79=0,\" \",COUNTRY_INFO!B79))","v":"Bono East"},{"$f":"IF(AND(INTRO!$E$37=\"Non-endemic\",INTRO!$E$41=\"Non-endemic\"),\" \",IF(COUNTRY_INFO!C79=0,\" \",COUNTRY_INFO!C79))","v":"Sene West"},{"$f":"IF(AND(INTRO!$E$37=\"Non-endemic\",INTRO!$E$41=\"Non-endemic\"),0,COUNTRY_INFO!V79)","v":0},{"$f":"IF(AND(INTRO!$E$37=\"Non-endemic\",INTRO!$E$41=\"Non-endemic\"),0,COUNTRY_INFO!X79)","v":0},{"$f":"IF(INTRO!$E$39=\"Non-endemic\",IF($D79=1,DEC!I79,0),IF($D79=1,IVM!G79,0))","v":0},null,{"$f":"IF(OR(COUNTRY_INFO!N79=\"Unknown\",COUNTRY_INFO!N79=\"Surveillance\",COUNTRY_INFO!N79=\"Not required\",COUNTRY_INFO!N79=0),0,IF(INTRO!$E$39=\"Non-endemic\",IF(AND($E79<>0,$G79=\"\"),IF($F79=0,COUNTRY_INFO!N79*$E79,COUNTRY_INFO!N79*($E79-$D79)),IF(AND($E79<>0,$G79<>0),IF($F79=0,COUNTRY_INFO!N79*$G79,COUNTRY_INFO!N79*($G79-$D79)),0)),IF($G79=\"\",COUNTRY_INFO!N79*$E79,COUNTRY_INFO!N79*$G79)))","v":0},{"$f":"IF(OR(COUNTRY_INFO!O79=\"Unknown\",COUNTRY_INFO!O79=\"Surveillance\",COUNTRY_INFO!O79=\"Not required\",COUNTRY_INFO!O79=0),0,IF($E79<>0, IF($F79=0,COUNTRY_INFO!O79*$E79,COUNTRY_INFO!O79*($E79-$D79)),COUNTRY_INFO!O79*$E79))","v":0},null,{"$f":"IF(OR(COUNTRY_INFO!P79=\"Unknown\",COUNTRY_INFO!P79=\"Surveillance\",COUNTRY_INFO!P79=\"Not required\",COUNTRY_INFO!P79=0),0,IF(AND($E79<>0,$J79=\"\"),IF($F79=0,COUNTRY_INFO!P79*$E79,COUNTRY_INFO!P79*($E79-$D79)), IF(AND($E79<>0,$J79<>0),IF($F79=0,COUNTRY_INFO!P79*$J79,COUNTRY_INFO!P79*($J79-$D79)), COUNTRY_INFO!P79*$J79)))","v":0},0,0,null,0,0,null,0,0,null,0]
[{"$f":"IF(AND(INTRO!$E$37=\"Non-endemic\",INTRO!$E$41=\"Non-endemic\"),\" \",IF(COUNTRY_INFO!A80=0,\" \",COUNTRY_INFO!A80))","v":"Ghana"},{"$f":"IF(AND(INTRO!$E$37=\"Non-endemic\",INTRO!$E$41=\"Non-endemic\"),\" \",IF(COUNTRY_INFO!B80=0,\" \",COUNTRY_INFO!B80))","v":"Bono East"},{"$f":"IF(AND(INTRO!$E$37=\"Non-endemic\",INTRO!$E$41=\"Non-endemic\"),\" \",IF(COUNTRY_INFO!C80=0,\" \",COUNTRY_INFO!C80))","v":"Techiman Municipal"},{"$f":"IF(AND(INTRO!$E$37=\"Non-endemic\",INTRO!$E$41=\"Non-endemic\"),0,COUNTRY_INFO!V80)","v":0},{"$f":"IF(AND(INTRO!$E$37=\"Non-endemic\",INTRO!$E$41=\"Non-endemic\"),0,COUNTRY_INFO!X80)","v":0},{"$f":"IF(INTRO!$E$39=\"Non-endemic\",IF($D80=1,DEC!I80,0),IF($D80=1,IVM!G80,0))","v":0},null,{"$f":"IF(OR(COUNTRY_INFO!N80=\"Unknown\",COUNTRY_INFO!N80=\"Surveillance\",COUNTRY_INFO!N80=\"Not required\",COUNTRY_INFO!N80=0),0,IF(INTRO!$E$39=\"Non-endemic\",IF(AND($E80<>0,$G80=\"\"),IF($F80=0,COUNTRY_INFO!N80*$E80,COUNTRY_INFO!N80*($E80-$D80)),IF(AND($E80<>0,$G80<>0),IF($F80=0,COUNTRY_INFO!N80*$G80,COUNTRY_INFO!N80*($G80-$D80)),0)),IF($G80=\"\",COUNTRY_INFO!N80*$E80,COUNTRY_INFO!N80*$G80)))","v":0},{"$f":"IF(OR(COUNTRY_INFO!O80=\"Unknown\",COUNTRY_INFO!O80=\"Surveillance\",COUNTRY_INFO!O80=\"Not required\",COUNTRY_INFO!O80=0),0,IF($E80<>0, IF($F80=0,COUNTRY_INFO!O80*$E80,COUNTRY_INFO!O80*($E80-$D80)),COUNTRY_INFO!O80*$E80))","v":0},null,{"$f":"IF(OR(COUNTRY_INFO!P80=\"Unknown\",COUNTRY_INFO!P80=\"Surveillance\",COUNTRY_INFO!P80=\"Not required\",COUNTRY_INFO!P80=0),0,IF(AND($E80<>0,$J80=\"\"),IF($F80=0,COUNTRY_INFO!P80*$E80,COUNTRY_INFO!P80*($E80-$D80)), IF(AND($E80<>0,$J80<>0),IF($F80=0,COUNTRY_INFO!P80*$J80,COUNTRY_INFO!P80*($J80-$D80)), COUNTRY_INFO!P80*$J80)))","v":0},0,0,null,0,0,null,0,0,null,0]
[{"$f":"IF(AND(INTRO!$E$37=\"Non-endemic\",INTRO!$E$41=\"Non-endemic\"),\" \",IF(COUNTRY_INFO!A81=0,\" \",COUNTRY_INFO!A81))","v":"Ghana"},{"$f":"IF(AND(INTRO!$E$37=\"Non-endemic\",INTRO!$E$41=\"Non-endemic\"),\" \",IF(COUNTRY_INFO!B81=0,\" \",COUNTRY_INFO!B81))","v":"Bono East"},{"$f":"IF(AND(INTRO!$E$37=\"Non-endemic\",INTRO!$E$41=\"Non-endemic\"),\" \",IF(COUNTRY_INFO!C81=0,\" \",COUNTRY_INFO!C81))","v":"Techiman North"},{"$f":"IF(AND(INTRO!$E$37=\"Non-endemic\",INTRO!$E$41=\"Non-endemic\"),0,COUNTRY_INFO!V81)","v":0},{"$f":"IF(AND(INTRO!$E$37=\"Non-endemic\",INTRO!$E$41=\"Non-endemic\"),0,COUNTRY_INFO!X81)","v":0},{"$f":"IF(INTRO!$E$39=\"Non-endemic\",IF($D81=1,DEC!I81,0),IF($D81=1,IVM!G81,0))","v":0},null,{"$f":"IF(OR(COUNTRY_INFO!N81=\"Unknown\",COUNTRY_INFO!N81=\"Surveillance\",COUNTRY_INFO!N81=\"Not required\",COUNTRY_INFO!N81=0),0,IF(INTRO!$E$39=\"Non-endemic\",IF(AND($E81<>0,$G81=\"\"),IF($F81=0,COUNTRY_INFO!N81*$E81,COUNTRY_INFO!N81*($E81-$D81)),IF(AND($E81<>0,$G81<>0),IF($F81=0,COUNTRY_INFO!N81*$G81,COUNTRY_INFO!N81*($G81-$D81)),0)),IF($G81=\"\",COUNTRY_INFO!N81*$E81,COUNTRY_INFO!N81*$G81)))","v":0},{"$f":"IF(OR(COUNTRY_INFO!O81=\"Unknown\",COUNTRY_INFO!O81=\"Surveillance\",COUNTRY_INFO!O81=\"Not required\",COUNTRY_INFO!O81=0),0,IF($E81<>0, IF($F81=0,COUNTRY_INFO!O81*$E81,COUNTRY_INFO!O81*($E81-$D81)),COUNTRY_INFO!O81*$E81))","v":0},null,{"$f":"IF(OR(COUNTRY_INFO!P81=\"Unknown\",COUNTRY_INFO!P81=\"Surveillance\",COUNTRY_INFO!P81=\"Not required\",COUNTRY_INFO!P81=0),0,IF(AND($E81<>0,$J81=\"\"),IF($F81=0,COUNTRY_INFO!P81*$E81,COUNTRY_INFO!P81*($E81-$D81)), IF(AND($E81<>0,$J81<>0),IF($F81=0,COUNTRY_INFO!P81*$J81,COUNTRY_INFO!P81*($J81-$D81)), COUNTRY_INFO!P81*$J81)))","v":0},0,0,null,0,0,null,0,0,null,0]
[{"$f":"IF(AND(INTRO!$E$37=\"Non-endemic\",INTRO!$E$41=\"Non-endemic\"),\" \",IF(COUNTRY_INFO!A82=0,\" \",COUNTRY_INFO!A82))","v":"Ghana"},{"$f":"IF(AND(INTRO!$E$37=\"Non-endemic\",INTRO!$E$41=\"Non-endemic\"),\" \",IF(COUNTRY_INFO!B82=0,\" \",COUNTRY_INFO!B82))","v":"Central"},{"$f":"IF(AND(INTRO!$E$37=\"Non-endemic\",INTRO!$E$41=\"Non-endemic\"),\" \",IF(COUNTRY_INFO!C82=0,\" \",COUNTRY_INFO!C82))","v":"Abura-Asebu-Kwamankese"},{"$f":"IF(AND(INTRO!$E$37=\"Non-endemic\",INTRO!$E$41=\"Non-endemic\"),0,COUNTRY_INFO!V82)","v":0},{"$f":"IF(AND(INTRO!$E$37=\"Non-endemic\",INTRO!$E$41=\"Non-endemic\"),0,COUNTRY_INFO!X82)","v":0},{"$f":"IF(INTRO!$E$39=\"Non-endemic\",IF($D82=1,DEC!I82,0),IF($D82=1,IVM!G82,0))","v":0},null,{"$f":"IF(OR(COUNTRY_INFO!N82=\"Unknown\",COUNTRY_INFO!N82=\"Surveillance\",COUNTRY_INFO!N82=\"Not required\",COUNTRY_INFO!N82=0),0,IF(INTRO!$E$39=\"Non-endemic\",IF(AND($E82<>0,$G82=\"\"),IF($F82=0,COUNTRY_INFO!N82*$E82,COUNTRY_INFO!N82*($E82-$D82)),IF(AND($E82<>0,$G82<>0),IF($F82=0,COUNTRY_INFO!N82*$G82,COUNTRY_INFO!N82*($G82-$D82)),0)),IF($G82=\"\",COUNTRY_INFO!N82*$E82,COUNTRY_INFO!N82*$G82)))","v":0},{"$f":"IF(OR(COUNTRY_INFO!O82=\"Unknown\",COUNTRY_INFO!O82=\"Surveillance\",COUNTRY_INFO!O82=\"Not required\",COUNTRY_INFO!O82=0),0,IF($E82<>0, IF($F82=0,COUNTRY_INFO!O82*$E82,COUNTRY_INFO!O82*($E82-$D82)),COUNTRY_INFO!O82*$E82))","v":0},null,{"$f":"IF(OR(COUNTRY_INFO!P82=\"Unknown\",COUNTRY_INFO!P82=\"Surveillance\",COUNTRY_INFO!P82=\"Not required\",COUNTRY_INFO!P82=0),0,IF(AND($E82<>0,$J82=\"\"),IF($F82=0,COUNTRY_INFO!P82*$E82,COUNTRY_INFO!P82*($E82-$D82)), IF(AND($E82<>0,$J82<>0),IF($F82=0,COUNTRY_INFO!P82*$J82,COUNTRY_INFO!P82*($J82-$D82)), COUNTRY_INFO!P82*$J82)))","v":0},0,0,null,0,0,null,0,0,null,0]
[{"$f":"IF(AND(INTRO!$E$37=\"Non-endemic\",INTRO!$E$41=\"Non-endemic\"),\" \",IF(COUNTRY_INFO!A83=0,\" \",COUNTRY_INFO!A83))","v":"Ghana"},{"$f":"IF(AND(INTRO!$E$37=\"Non-endemic\",INTRO!$E$41=\"Non-endemic\"),\" \",IF(COUNTRY_INFO!B83=0,\" \",COUNTRY_INFO!B83))","v":"Central"},{"$f":"IF(AND(INTRO!$E$37=\"Non-endemic\",INTRO!$E$41=\"Non-endemic\"),\" \",IF(COUNTRY_INFO!C83=0,\" \",COUNTRY_INFO!C83))","v":"Agona East"},{"$f":"IF(AND(INTRO!$E$37=\"Non-endemic\",INTRO!$E$41=\"Non-endemic\"),0,COUNTRY_INFO!V83)","v":0},{"$f":"IF(AND(INTRO!$E$37=\"Non-endemic\",INTRO!$E$41=\"Non-endemic\"),0,COUNTRY_INFO!X83)","v":0},{"$f":"IF(INTRO!$E$39=\"Non-endemic\",IF($D83=1,DEC!I83,0),IF($D83=1,IVM!G83,0))","v":0},null,{"$f":"IF(OR(COUNTRY_INFO!N83=\"Unknown\",COUNTRY_INFO!N83=\"Surveillance\",COUNTRY_INFO!N83=\"Not required\",COUNTRY_INFO!N83=0),0,IF(INTRO!$E$39=\"Non-endemic\",IF(AND($E83<>0,$G83=\"\"),IF($F83=0,COUNTRY_INFO!N83*$E83,COUNTRY_INFO!N83*($E83-$D83)),IF(AND($E83<>0,$G83<>0),IF($F83=0,COUNTRY_INFO!N83*$G83,COUNTRY_INFO!N83*($G83-$D83)),0)),IF($G83=\"\",COUNTRY_INFO!N83*$E83,COUNTRY_INFO!N83*$G83)))","v":0},{"$f":"IF(OR(COUNTRY_INFO!O83=\"Unknown\",COUNTRY_INFO!O83=\"Surveillance\",COUNTRY_INFO!O83=\"Not required\",COUNTRY_INFO!O83=0),0,IF($E83<>0, IF($F83=0,COUNTRY_INFO!O83*$E83,COUNTRY_INFO!O83*($E83-$D83)),COUNTRY_INFO!O83*$E83))","v":0},null,{"$f":"IF(OR(COUNTRY_INFO!P83=\"Unknown\",COUNTRY_INFO!P83=\"Surveillance\",COUNTRY_INFO!P83=\"Not required\",COUNTRY_INFO!P83=0),0,IF(AND($E83<>0,$J83=\"\"),IF($F83=0,COUNTRY_INFO!P83*$E83,COUNTRY_INFO!P83*($E83-$D83)), IF(AND($E83<>0,$J83<>0),IF($F83=0,COUNTRY_INFO!P83*$J83,COUNTRY_INFO!P83*($J83-$D83)), COUNTRY_INFO!P83*$J83)))","v":0},0,0,null,0,0,null,0,0,null,0]
[{"$f":"IF(AND(INTRO!$E$37=\"Non-endemic\",INTRO!$E$41=\"Non-endemic\"),\" \",IF(COUNTRY_INFO!A84=0,\" \",COUNTRY_INFO!A84))","v":"Ghana"},{"$f":"IF(AND(INTRO!$E$37=\"Non-endemic\",INTRO!$E$41=\"Non-endemic\"),\" \",IF(COUNTRY_INFO!B84=0,\" \",COUNTRY_INFO!B84))","v":"Central"},{"$f":"IF(AND(INTRO!$E$37=\"Non-endemic\",INTRO!$E$41=\"Non-endemic\"),\" \",IF(COUNTRY_INFO!C84=0,\" \",COUNTRY_INFO!C84))","v":"Agona West"},{"$f":"IF(AND(INTRO!$E$37=\"Non-endemic\",INTRO!$E$41=\"Non-endemic\"),0,COUNTRY_INFO!V84)","v":0},{"$f":"IF(AND(INTRO!$E$37=\"Non-endemic\",INTRO!$E$41=\"Non-endemic\"),0,COUNTRY_INFO!X84)","v":0},{"$f":"IF(INTRO!$E$39=\"Non-endemic\",IF($D84=1,DEC!I84,0),IF($D84=1,IVM!G84,0))","v":0},null,{"$f":"IF(OR(COUNTRY_INFO!N84=\"Unknown\",COUNTRY_INFO!N84=\"Surveillance\",COUNTRY_INFO!N84=\"Not required\",COUNTRY_INFO!N84=0),0,IF(INTRO!$E$39=\"Non-endemic\",IF(AND($E84<>0,$G84=\"\"),IF($F84=0,COUNTRY_INFO!N84*$E84,COUNTRY_INFO!N84*($E84-$D84)),IF(AND($E84<>0,$G84<>0),IF($F84=0,COUNTRY_INFO!N84*$G84,COUNTRY_INFO!N84*($G84-$D84)),0)),IF($G84=\"\",COUNTRY_INFO!N84*$E84,COUNTRY_INFO!N84*$G84)))","v":0},{"$f":"IF(OR(COUNTRY_INFO!O84=\"Unknown\",COUNTRY_INFO!O84=\"Surveillance\",COUNTRY_INFO!O84=\"Not required\",COUNTRY_INFO!O84=0),0,IF($E84<>0, IF($F84=0,COUNTRY_INFO!O84*$E84,COUNTRY_INFO!O84*($E84-$D84)),COUNTRY_INFO!O84*$E84))","v":0},null,{"$f":"IF(OR(COUNTRY_INFO!P84=\"Unknown\",COUNTRY_INFO!P84=\"Surveillance\",COUNTRY_INFO!P84=\"Not required\",COUNTRY_INFO!P84=0),0,IF(AND($E84<>0,$J84=\"\"),IF($F84=0,COUNTRY_INFO!P84*$E84,COUNTRY_INFO!P84*($E84-$D84)), IF(AND($E84<>0,$J84<>0),IF($F84=0,COUNTRY_INFO!P84*$J84,COUNTRY_INFO!P84*($J84-$D84)), COUNTRY_INFO!P84*$J84)))","v":0},0,0,null,0,0,null,0,0,null,0]
[{"$f":"IF(AND(INTRO!$E$37=\"Non-endemic\",INTRO!$E$41=\"Non-endemic\"),\" \",IF(COUNTRY_INFO!A85=0,\" \",COUNTRY_INFO!A85))","v":"Ghana"},{"$f":"IF(AND(INTRO!$E$37=\"Non-endemic\",INTRO!$E$41=\"Non-endemic\"),\" \",IF(COUNTRY_INFO!B85=0,\" \",COUNTRY_INFO!B85))","v":"Central"},{"$f":"IF(AND(INTRO!$E$37=\"Non-endemic\",INTRO!$E$41=\"Non-endemic\"),\" \",IF(COUNTRY_INFO!C85=0,\" \",COUNTRY_INFO!C85))","v":"Ajumako-Enyan-Essiam"},{"$f":"IF(AND(INTRO!$E$37=\"Non-endemic\",INTRO!$E$41=\"Non-endemic\"),0,COUNTRY_INFO!V85)","v":0},{"$f":"IF(AND(INTRO!$E$37=\"Non-endemic\",INTRO!$E$41=\"Non-endemic\"),0,COUNTRY_INFO!X85)","v":0},{"$f":"IF(INTRO!$E$39=\"Non-endemic\",IF($D85=1,DEC!I85,0),IF($D85=1,IVM!G85,0))","v":0},null,{"$f":"IF(OR(COUNTRY_INFO!N85=\"Unknown\",COUNTRY_INFO!N85=\"Surveillance\",COUNTRY_INFO!N85=\"Not required\",COUNTRY_INFO!N85=0),0,IF(INTRO!$E$39=\"Non-endemic\",IF(AND($E85<>0,$G85=\"\"),IF($F85=0,COUNTRY_INFO!N85*$E85,COUNTRY_INFO!N85*($E85-$D85)),IF(AND($E85<>0,$G85<>0),IF($F85=0,COUNTRY_INFO!N85*$G85,COUNTRY_INFO!N85*($G85-$D85)),0)),IF($G85=\"\",COUNTRY_INFO!N85*$E85,COUNTRY_INFO!N85*$G85)))","v":0},{"$f":"IF(OR(COUNTRY_INFO!O85=\"Unknown\",COUNTRY_INFO!O85=\"Surveillance\",COUNTRY_INFO!O85=\"Not required\",COUNTRY_INFO!O85=0),0,IF($E85<>0, IF($F85=0,COUNTRY_INFO!O85*$E85,COUNTRY_INFO!O85*($E85-$D85)),COUNTRY_INFO!O85*$E85))","v":0},null,{"$f":"IF(OR(COUNTRY_INFO!P85=\"Unknown\",COUNTRY_INFO!P85=\"Surveillance\",COUNTRY_INFO!P85=\"Not required\",COUNTRY_INFO!P85=0),0,IF(AND($E85<>0,$J85=\"\"),IF($F85=0,COUNTRY_INFO!P85*$E85,COUNTRY_INFO!P85*($E85-$D85)), IF(AND($E85<>0,$J85<>0),IF($F85=0,COUNTRY_INFO!P85*$J85,COUNTRY_INFO!P85*($J85-$D85)), COUNTRY_INFO!P85*$J85)))","v":0},0,0,null,0,0,null,0,0,null,0]
[{"$f":"IF(AND(INTRO!$E$37=\"Non-endemic\",INTRO!$E$41=\"Non-endemic\"),\" \",IF(COUNTRY_INFO!A86=0,\" \",COUNTRY_INFO!A86))","v":"Ghana"},{"$f":"IF(AND(INTRO!$E$37=\"Non-endemic\",INTRO!$E$41=\"Non-endemic\"),\" \",IF(COUNTRY_INFO!B86=0,\" \",COUNTRY_INFO!B86))","v":"Central"},{"$f":"IF(AND(INTRO!$E$37=\"Non-endemic\",INTRO!$E$41=\"Non-endemic\"),\" \",IF(COUNTRY_INFO!C86=0,\" \",COUNTRY_INFO!C86))","v":"Asikuma-Odoben-Brakwa"},{"$f":"IF(AND(INTRO!$E$37=\"Non-endemic\",INTRO!$E$41=\"Non-endemic\"),0,COUNTRY_INFO!V86)","v":0},{"$f":"IF(AND(INTRO!$E$37=\"Non-endemic\",INTRO!$E$41=\"Non-endemic\"),0,COUNTRY_INFO!X86)","v":0},{"$f":"IF(INTRO!$E$39=\"Non-endemic\",IF($D86=1,DEC!I86,0),IF($D86=1,IVM!G86,0))","v":0},null,{"$f":"IF(OR(COUNTRY_INFO!N86=\"Unknown\",COUNTRY_INFO!N86=\"Surveillance\",COUNTRY_INFO!N86=\"Not required\",COUNTRY_INFO!N86=0),0,IF(INTRO!$E$39=\"Non-endemic\",IF(AND($E86<>0,$G86=\"\"),IF($F86=0,COUNTRY_INFO!N86*$E86,COUNTRY_INFO!N86*($E86-$D86)),IF(AND($E86<>0,$G86<>0),IF($F86=0,COUNTRY_INFO!N86*$G86,COUNTRY_INFO!N86*($G86-$D86)),0)),IF($G86=\"\",COUNTRY_INFO!N86*$E86,COUNTRY_INFO!N86*$G86)))","v":0},{"$f":"IF(OR(COUNTRY_INFO!O86=\"Unknown\",COUNTRY_INFO!O86=\"Surveillance\",COUNTRY_INFO!O86=\"Not required\",COUNTRY_INFO!O86=0),0,IF($E86<>0, IF($F86=0,COUNTRY_INFO!O86*$E86,COUNTRY_INFO!O86*($E86-$D86)),COUNTRY_INFO!O86*$E86))","v":0},null,{"$f":"IF(OR(COUNTRY_INFO!P86=\"Unknown\",COUNTRY_INFO!P86=\"Surveillance\",COUNTRY_INFO!P86=\"Not required\",COUNTRY_INFO!P86=0),0,IF(AND($E86<>0,$J86=\"\"),IF($F86=0,COUNTRY_INFO!P86*$E86,COUNTRY_INFO!P86*($E86-$D86)), IF(AND($E86<>0,$J86<>0),IF($F86=0,COUNTRY_INFO!P86*$J86,COUNTRY_INFO!P86*($J86-$D86)), COUNTRY_INFO!P86*$J86)))","v":0},0,0,null,0,0,null,0,0,null,0]
[{"$f":"IF(AND(INTRO!$E$37=\"Non-endemic\",INTRO!$E$41=\"Non-endemic\"),\" \",IF(COUNTRY_INFO!A87=0,\" \",COUNTRY_INFO!A87))","v":"Ghana"},{"$f":"IF(AND(INTRO!$E$37=\"Non-endemic\",INTRO!$E$41=\"Non-endemic\"),\" \",IF(COUNTRY_INFO!B87=0,\" \",COUNTRY_INFO!B87))","v":"Central"},{"$f":"IF(AND(INTRO!$E$37=\"Non-endemic\",INTRO!$E$41=\"Non-endemic\"),\" \",IF(COUNTRY_INFO!C87=0,\" \",COUNTRY_INFO!C87))","v":"Assin Foso"},{"$f":"IF(AND(INTRO!$E$37=\"Non-endemic\",INTRO!$E$41=\"Non-endemic\"),0,COUNTRY_INFO!V87)","v":0},{"$f":"IF(AND(INTRO!$E$37=\"Non-endemic\",INTRO!$E$41=\"Non-endemic\"),0,COUNTRY_INFO!X87)","v":0},{"$f":"IF(INTRO!$E$39=\"Non-endemic\",IF($D87=1,DEC!I87,0),IF($D87=1,IVM!G87,0))","v":0},null,{"$f":"IF(OR(COUNTRY_INFO!N87=\"Unknown\",COUNTRY_INFO!N87=\"Surveillance\",COUNTRY_INFO!N87=\"Not required\",COUNTRY_INFO!N87=0),0,IF(INTRO!$E$39=\"Non-endemic\",IF(AND($E87<>0,$G87=\"\"),IF($F87=0,COUNTRY_INFO!N87*$E87,COUNTRY_INFO!N87*($E87-$D87)),IF(AND($E87<>0,$G87<>0),IF($F87=0,COUNTRY_INFO!N87*$G87,COUNTRY_INFO!N87*($G87-$D87)),0)),IF($G87=\"\",COUNTRY_INFO!N87*$E87,COUNTRY_INFO!N87*$G87)))","v":0},{"$f":"IF(OR(COUNTRY_INFO!O87=\"Unknown\",COUNTRY_INFO!O87=\"Surveillance\",COUNTRY_INFO!O87=\"Not required\",COUNTRY_INFO!O87=0),0,IF($E87<>0, IF($F87=0,COUNTRY_INFO!O87*$E87,COUNTRY_INFO!O87*($E87-$D87)),COUNTRY_INFO!O87*$E87))","v":0},null,{"$f":"IF(OR(COUNTRY_INFO!P87=\"Unknown\",COUNTRY_INFO!P87=\"Surveillance\",COUNTRY_INFO!P87=\"Not required\",COUNTRY_INFO!P87=0),0,IF(AND($E87<>0,$J87=\"\"),IF($F87=0,COUNTRY_INFO!P87*$E87,COUNTRY_INFO!P87*($E87-$D87)), IF(AND($E87<>0,$J87<>0),IF($F87=0,COUNTRY_INFO!P87*$J87,COUNTRY_INFO!P87*($J87-$D87)), COUNTRY_INFO!P87*$J87)))","v":0},0,0,null,0,0,null,0,0,null,0]
[{"$f":"IF(AND(INTRO!$E$37=\"Non-endemic\",INTRO!$E$41=\"Non-endemic\"),\" \",IF(COUNTRY_INFO!A88=0,\" \",COUNTRY_INFO!A88))","v":"Ghana"},{"$f":"IF(AND(INTRO!$E$37=\"Non-endemic\",INTRO!$E$41=\"Non-endemic\"),\" \",IF(COUNTRY_INFO!B88=0,\" \",COUNTRY_INFO!B88))","v":"Central"},{"$f":"IF(AND(INTRO!$E$37=\"Non-endemic\",INTRO!$E$41=\"Non-endemic\"),\" \",IF(COUNTRY_INFO!C88=0,\" \",COUNTRY_INFO!C88))","v":"Assin North"},{"$f":"IF(AND(INTRO!$E$37=\"Non-endemic\",INTRO!$E$41=\"Non-endemic\"),0,COUNTRY_INFO!V88)","v":0},{"$f":"IF(AND(INTRO!$E$37=\"Non-endemic\",INTRO!$E$41=\"Non-endemic\"),0,COUNTRY_INFO!X88)","v":0},{"$f":"IF(INTRO!$E$39=\"Non-endemic\",IF($D88=1,DEC!I88,0),IF($D88=1,IVM!G88,0))","v":0},null,{"$f":"IF(OR(COUNTRY_INFO!N88=\"Unknown\",COUNTRY_INFO!N88=\"Surveillance\",COUNTRY_INFO!N88=\"Not required\",COUNTRY_INFO!N88=0),0,IF(INTRO!$E$39=\"Non-endemic\",IF(AND($E88<>0,$G88=\"\"),IF($F88=0,COUNTRY_INFO!N88*$E88,COUNTRY_INFO!N88*($E88-$D88)),IF(AND($E88<>0,$G88<>0),IF($F88=0,COUNTRY_INFO!N88*$G88,COUNTRY_INFO!N88*($G88-$D88)),0)),IF($G88=\"\",COUNTRY_INFO!N88*$E88,COUNTRY_INFO!N88*$G88)))","v":0},{"$f":"IF(OR(COUNTRY_INFO!O88=\"Unknown\",COUNTRY_INFO!O88=\"Surveillance\",COUNTRY_INFO!O88=\"Not required\",COUNTRY_INFO!O88=0),0,IF($E88<>0, IF($F88=0,COUNTRY_INFO!O88*$E88,COUNTRY_INFO!O88*($E88-$D88)),COUNTRY_INFO!O88*$E88))","v":0},null,{"$f":"IF(OR(COUNTRY_INFO!P88=\"Unknown\",COUNTRY_INFO!P88=\"Surveillance\",COUNTRY_INFO!P88=\"Not required\",COUNTRY_INFO!P88=0),0,IF(AND($E88<>0,$J88=\"\"),IF($F88=0,COUNTRY_INFO!P88*$E88,COUNTRY_INFO!P88*($E88-$D88)), IF(AND($E88<>0,$J88<>0),IF($F88=0,COUNTRY_INFO!P88*$J88,COUNTRY_INFO!P88*($J88-$D88)), COUNTRY_INFO!P88*$J88)))","v":0},0,0,null,0,0,null,0,0,null,0]
[{"$f":"IF(AND(INTRO!$E$37=\"Non-endemic\",INTRO!$E$41=\"Non-endemic\"),\" \",IF(COUNTRY_INFO!A89=0,\" \",COUNTRY_INFO!A89))","v":"Ghana"},{"$f":"IF(AND(INTRO!$E$37=\"Non-endemic\",INTRO!$E$41=\"Non-endemic\"),\" \",IF(COUNTRY_INFO!B89=0,\" \",COUNTRY_INFO!B89))","v":"Central"},{"$f":"IF(AND(INTRO!$E$37=\"Non-endemic\",INTRO!$E$41=\"Non-endemic\"),\" \",IF(COUNTRY_INFO!C89=0,\" \",COUNTRY_INFO!C89))","v":"Assin South"},{"$f":"IF(AND(INTRO!$E$37=\"Non-endemic\",INTRO!$E$41=\"Non-endemic\"),0,COUNTRY_INFO!V89)","v":0},{"$f":"IF(AND(INTRO!$E$37=\"Non-endemic\",INTRO!$E$41=\"Non-endemic\"),0,COUNTRY_INFO!X89)","v":0},{"$f":"IF(INTRO!$E$39=\"Non-endemic\",IF($D89=1,DEC!I89,0),IF($D89=1,IVM!G89,0))","v":0},null,{"$f":"IF(OR(COUNTRY_INFO!N89=\"Unknown\",COUNTRY_INFO!N89=\"Surveillance\",COUNTRY_INFO!N89=\"Not required\",COUNTRY_INFO!N89=0),0,IF(INTRO!$E$39=\"Non-endemic\",IF(AND($E89<>0,$G89=\"\"),IF($F89=0,COUNTRY_INFO!N89*$E89,COUNTRY_INFO!N89*($E89-$D89)),IF(AND($E89<>0,$G89<>0),IF($F89=0,COUNTRY_INFO!N89*$G89,COUNTRY_INFO!N89*($G89-$D89)),0)),IF($G89=\"\",COUNTRY_INFO!N89*$E89,COUNTRY_INFO!N89*$G89)))","v":0},{"$f":"IF(OR(COUNTRY_INFO!O89=\"Unknown\",COUNTRY_INFO!O89=\"Surveillance\",COUNTRY_INFO!O89=\"Not required\",COUNTRY_INFO!O89=0),0,IF($E89<>0, IF($F89=0,COUNTRY_INFO!O89*$E89,COUNTRY_INFO!O89*($E89-$D89)),COUNTRY_INFO!O89*$E89))","v":0},null,{"$f":"IF(OR(COUNTRY_INFO!P89=\"Unknown\",COUNTRY_INFO!P89=\"Surveillance\",COUNTRY_INFO!P89=\"Not required\",COUNTRY_INFO!P89=0),0,IF(AND($E89<>0,$J89=\"\"),IF($F89=0,COUNTRY_INFO!P89*$E89,COUNTRY_INFO!P89*($E89-$D89)), IF(AND($E89<>0,$J89<>0),IF($F89=0,COUNTRY_INFO!P89*$J89,COUNTRY_INFO!P89*($J89-$D89)), COUNTRY_INFO!P89*$J89)))","v":0},0,0,null,0,0,null,0,0,null,0]
[{"$f":"IF(AND(INTRO!$E$37=\"Non-endemic\",INTRO!$E$41=\"Non-endemic\"),\" \",IF(COUNTRY_INFO!A90=0,\" \",COUNTRY_INFO!A90))","v":"Ghana"},{"$f":"IF(AND(INTRO!$E$37=\"Non-endemic\",INTRO!$E$41=\"Non-endemic\"),\" \",IF(COUNTRY_INFO!B90=0,\" \",COUNTRY_INFO!B90))","v":"Central"},{"$f":"IF(AND(INTRO!$E$37=\"Non-endemic\",INTRO!$E$41=\"Non-endemic\"),\" \",IF(COUNTRY_INFO!C90=0,\" \",COUNTRY_INFO!C90))","v":"Awutu Senya"},{"$f":"IF(AND(INTRO!$E$37=\"Non-endemic\",INTRO!$E$41=\"Non-endemic\"),0,COUNTRY_INFO!V90)","v":0},{"$f":"IF(AND(INTRO!$E$37=\"Non-endemic\",INTRO!$E$41=\"Non-endemic\"),0,COUNTRY_INFO!X90)","v":0},{"$f":"IF(INTRO!$E$39=\"Non-endemic\",IF($D90=1,DEC!I90,0),IF($D90=1,IVM!G90,0))","v":0},null,{"$f":"IF(OR(COUNTRY_INFO!N90=\"Unknown\",COUNTRY_INFO!N90=\"Surveillance\",COUNTRY_INFO!N90=\"Not required\",COUNTRY_INFO!N90=0),0,IF(INTRO!$E$39=\"Non-endemic\",IF(AND($E90<>0,$G90=\"\"),IF($F90=0,COUNTRY_INFO!N90*$E90,COUNTRY_INFO!N90*($E90-$D90)),IF(AND($E90<>0,$G90<>0),IF($F90=0,COUNTRY_INFO!N90*$G90,COUNTRY_INFO!N90*($G90-$D90)),0)),IF($G90=\"\",COUNTRY_INFO!N90*$E90,COUNTRY_INFO!N90*$G90)))","v":0},{"$f":"IF(OR(COUNTRY_INFO!O90=\"Unknown\",COUNTRY_INFO!O90=\"Surveillance\",COUNTRY_INFO!O90=\"Not required\",COUNTRY_INFO!O90=0),0,IF($E90<>0, IF($F90=0,COUNTRY_INFO!O90*$E90,COUNTRY_INFO!O90*($E90-$D90)),COUNTRY_INFO!O90*$E90))","v":0},null,{"$f":"IF(OR(COUNTRY_INFO!P90=\"Unknown\",COUNTRY_INFO!P90=\"Surveillance\",COUNTRY_INFO!P90=\"Not required\",COUNTRY_INFO!P90=0),0,IF(AND($E90<>0,$J90=\"\"),IF($F90=0,COUNTRY_INFO!P90*$E90,COUNTRY_INFO!P90*($E90-$D90)), IF(AND($E90<>0,$J90<>0),IF($F90=0,COUNTRY_INFO!P90*$J90,COUNTRY_INFO!P90*($J90-$D90)), COUNTRY_INFO!P90*$J90)))","v":0},0,0,null,0,0,null,0,0,null,0]
[{"$f":"IF(AND(INTRO!$E$37=\"Non-endemic\",INTRO!$E$41=\"Non-endemic\"),\" \",IF(COUNTRY_INFO!A91=0,\" \",COUNTRY_INFO!A91))","v":"Ghana"},{"$f":"IF(AND(INTRO!$E$37=\"Non-endemic\",INTRO!$E$41=\"Non-endemic\"),\" \",IF(COUNTRY_INFO!B91=0,\" \",COUNTRY_INFO!B91))","v":"Central"},{"$f":"IF(AND(INTRO!$E$37=\"Non-endemic\",INTRO!$E$41=\"Non-endemic\"),\" \",IF(COUNTRY_INFO!C91=0,\" \",COUNTRY_INFO!C91))","v":"Awutu Senya East"},{"$f":"IF(AND(INTRO!$E$37=\"Non-endemic\",INTRO!$E$41=\"Non-endemic\"),0,COUNTRY_INFO!V91)","v":0},{"$f":"IF(AND(INTRO!$E$37=\"Non-endemic\",INTRO!$E$41=\"Non-endemic\"),0,COUNTRY_INFO!X91)","v":0},{"$f":"IF(INTRO!$E$39=\"Non-endemic\",IF($D91=1,DEC!I91,0),IF($D91=1,IVM!G91,0))","v":0},null,{"$f":"IF(OR(COUNTRY_INFO!N91=\"Unknown\",COUNTRY_INFO!N91=\"Surveillance\",COUNTRY_INFO!N91=\"Not required\",COUNTRY_INFO!N91=0),0,IF(INTRO!$E$39=\"Non-endemic\",IF(AND($E91<>0,$G91=\"\"),IF($F91=0,COUNTRY_INFO!N91*$E91,COUNTRY_INFO!N91*($E91-$D91)),IF(AND($E91<>0,$G91<>0),IF($F91=0,COUNTRY_INFO!N91*$G91,COUNTRY_INFO!N91*($G91-$D91)),0)),IF($G91=\"\",COUNTRY_INFO!N91*$E91,COUNTRY_INFO!N91*$G91)))","v":0},{"$f":"IF(OR(COUNTRY_INFO!O91=\"Unknown\",COUNTRY_INFO!O91=\"Surveillance\",COUNTRY_INFO!O91=\"Not required\",COUNTRY_INFO!O91=0),0,IF($E91<>0, IF($F91=0,COUNTRY_INFO!O91*$E91,COUNTRY_INFO!O91*($E91-$D91)),COUNTRY_INFO!O91*$E91))","v":0},null,{"$f":"IF(OR(COUNTRY_INFO!P91=\"Unknown\",COUNTRY_INFO!P91=\"Surveillance\",COUNTRY_INFO!P91=\"Not required\",COUNTRY_INFO!P91=0),0,IF(AND($E91<>0,$J91=\"\"),IF($F91=0,COUNTRY_INFO!P91*$E91,COUNTRY_INFO!P91*($E91-$D91)), IF(AND($E91<>0,$J91<>0),IF($F91=0,COUNTRY_INFO!P91*$J91,COUNTRY_INFO!P91*($J91-$D91)), COUNTRY_INFO!P91*$J91)))","v":0},0,0,null,0,0,null,0,0,null,0]
[{"$f":"IF(AND(INTRO!$E$37=\"Non-endemic\",INTRO!$E$41=\"Non-endemic\"),\" \",IF(COUNTRY_INFO!A92=0,\" \",COUNTRY_INFO!A92))","v":"Ghana"},{"$f":"IF(AND(INTRO!$E$37=\"Non-endemic\",INTRO!$E$41=\"Non-endemic\"),\" \",IF(COUNTRY_INFO!B92=0,\" \",COUNTRY_INFO!B92))","v":"Central"},{"$f":"IF(AND(INTRO!$E$37=\"Non-endemic\",INTRO!$E$41=\"Non-endemic\"),\" \",IF(COUNTRY_INFO!C92=0,\" \",COUNTRY_INFO!C92))","v":"Cape Coast"},{"$f":"IF(AND(INTRO!$E$37=\"Non-endemic\",INTRO!$E$41=\"Non-endemic\"),0,COUNTRY_INFO!V92)","v":0},{"$f":"IF(AND(INTRO!$E$37=\"Non-endemic\",INTRO!$E$41=\"Non-endemic\"),0,COUNTRY_INFO!X92)","v":0},{"$f":"IF(INTRO!$E$39=\"Non-endemic\",IF($D92=1,DEC!I92,0),IF($D92=1,IVM!G92,0))","v":0},null,{"$f":"IF(OR(COUNTRY_INFO!N92=\"Unknown\",COUNTRY_INFO!N92=\"Surveillance\",COUNTRY_INFO!N92=\"Not required\",COUNTRY_INFO!N92=0),0,IF(INTRO!$E$39=\"Non-endemic\",IF(AND($E92<>0,$G92=\"\"),IF($F92=0,COUNTRY_INFO!N92*$E92,COUNTRY_INFO!N92*($E92-$D92)),IF(AND($E92<>0,$G92<>0),IF($F92=0,COUNTRY_INFO!N92*$G92,COUNTRY_INFO!N92*($G92-$D92)),0)),IF($G92=\"\",COUNTRY_INFO!N92*$E92,COUNTRY_INFO!N92*$G92)))","v":0},{"$f":"IF(OR(COUNTRY_INFO!O92=\"Unknown\",COUNTRY_INFO!O92=\"Surveillance\",COUNTRY_INFO!O92=\"Not required\",COUNTRY_INFO!O92=0),0,IF($E92<>0, IF($F92=0,COUNTRY_INFO!O92*$E92,COUNTRY_INFO!O92*($E92-$D92)),COUNTRY_INFO!O92*$E92))","v":0},null,{"$f":"IF(OR(COUNTRY_INFO!P92=\"Unknown\",COUNTRY_INFO!P92=\"Surveillance\",COUNTRY_INFO!P92=\"Not required\",COUNTRY_INFO!P92=0),0,IF(AND($E92<>0,$J92=\"\"),IF($F92=0,COUNTRY_INFO!P92*$E92,COUNTRY_INFO!P92*($E92-$D92)), IF(AND($E92<>0,$J92<>0),IF($F92=0,COUNTRY_INFO!P92*$J92,COUNTRY_INFO!P92*($J92-$D92)), COUNTRY_INFO!P92*$J92)))","v":0},0,0,null,0,0,null,0,0,null,0]
[{"$f":"IF(AND(INTRO!$E$37=\"Non-endemic\",INTRO!$E$41=\"Non-endemic\"),\" \",IF(COUNTRY_INFO!A93=0,\" \",COUNTRY_INFO!A93))","v":"Ghana"},{"$f":"IF(AND(INTRO!$E$37=\"Non-endemic\",INTRO!$E$41=\"Non-endemic\"),\" \",IF(COUNTRY_INFO!B93=0,\" \",COUNTRY_INFO!B93))","v":"Central"},{"$f":"IF(AND(INTRO!$E$37=\"Non-endemic\",INTRO!$E$41=\"Non-endemic\"),\" \",IF(COUNTRY_INFO!C93=0,\" \",COUNTRY_INFO!C93))","v":"Efutu"},{"$f":"IF(AND(INTRO!$E$37=\"Non-endemic\",INTRO!$E$41=\"Non-endemic\"),0,COUNTRY_INFO!V93)","v":0},{"$f":"IF(AND(INTRO!$E$37=\"Non-endemic\",INTRO!$E$41=\"Non-endemic\"),0,COUNTRY_INFO!X93)","v":0},{"$f":"IF(INTRO!$E$39=\"Non-endemic\",IF($D93=1,DEC!I93,0),IF($D93=1,IVM!G93,0))","v":0},null,{"$f":"IF(OR(COUNTRY_INFO!N93=\"Unknown\",COUNTRY_INFO!N93=\"Surveillance\",COUNTRY_INFO!N93=\"Not required\",COUNTRY_INFO!N93=0),0,IF(INTRO!$E$39=\"Non-endemic\",IF(AND($E93<>0,$G93=\"\"),IF($F93=0,COUNTRY_INFO!N93*$E93,COUNTRY_INFO!N93*($E93-$D93)),IF(AND($E93<>0,$G93<>0),IF($F93=0,COUNTRY_INFO!N93*$G93,COUNTRY_INFO!N93*($G93-$D93)),0)),IF($G93=\"\",COUNTRY_INFO!N93*$E93,COUNTRY_INFO!N93*$G93)))","v":0},{"$f":"IF(OR(COUNTRY_INFO!O93=\"Unknown\",COUNTRY_INFO!O93=\"Surveillance\",COUNTRY_INFO!O93=\"Not required\",COUNTRY_INFO!O93=0),0,IF($E93<>0, IF($F93=0,COUNTRY_INFO!O93*$E93,COUNTRY_INFO!O93*($E93-$D93)),COUNTRY_INFO!O93*$E93))","v":0},null,{"$f":"IF(OR(COUNTRY_INFO!P93=\"Unknown\",COUNTRY_INFO!P93=\"Surveillance\",COUNTRY_INFO!P93=\"Not required\",COUNTRY_INFO!P93=0),0,IF(AND($E93<>0,$J93=\"\"),IF($F93=0,COUNTRY_INFO!P93*$E93,COUNTRY_INFO!P93*($E93-$D93)), IF(AND($E93<>0,$J93<>0),IF($F93=0,COUNTRY_INFO!P93*$J93,COUNTRY_INFO!P93*($J93-$D93)), COUNTRY_INFO!P93*$J93)))","v":0},0,0,null,0,0,null,0,0,null,0]
[{"$f":"IF(AND(INTRO!$E$37=\"Non-endemic\",INTRO!$E$41=\"Non-endemic\"),\" \",IF(COUNTRY_INFO!A94=0,\" \",COUNTRY_INFO!A94))","v":"Ghana"},{"$f":"IF(AND(INTRO!$E$37=\"Non-endemic\",INTRO!$E$41=\"Non-endemic\"),\" \",IF(COUNTRY_INFO!B94=0,\" \",COUNTRY_INFO!B94))","v":"Central"},{"$f":"IF(AND(INTRO!$E$37=\"Non-endemic\",INTRO!$E$41=\"Non-endemic\"),\" \",IF(COUNTRY_INFO!C94=0,\" \",COUNTRY_INFO!C94))","v":"Ekumfi"},{"$f":"IF(AND(INTRO!$E$37=\"Non-endemic\",INTRO!$E$41=\"Non-endemic\"),0,COUNTRY_INFO!V94)","v":0},{"$f":"IF(AND(INTRO!$E$37=\"Non-endemic\",INTRO!$E$41=\"Non-endemic\"),0,COUNTRY_INFO!X94)","v":0},{"$f":"IF(INTRO!$E$39=\"Non-endemic\",IF($D94=1,DEC!I94,0),IF($D94=1,IVM!G94,0))","v":0},null,{"$f":"IF(OR(COUNTRY_INFO!N94=\"Unknown\",COUNTRY_INFO!N94=\"Surveillance\",COUNTRY_INFO!N94=\"Not required\",COUNTRY_INFO!N94=0),0,IF(INTRO!$E$39=\"Non-endemic\",IF(AND($E94<>0,$G94=\"\"),IF($F94=0,COUNTRY_INFO!N94*$E94,COUNTRY_INFO!N94*($E94-$D94)),IF(AND($E94<>0,$G94<>0),IF($F94=0,COUNTRY_INFO!N94*$G94,COUNTRY_INFO!N94*($G94-$D94)),0)),IF($G94=\"\",COUNTRY_INFO!N94*$E94,COUNTRY_INFO!N94*$G94)))","v":0},{"$f":"IF(OR(COUNTRY_INFO!O94=\"Unknown\",COUNTRY_INFO!O94=\"Surveillance\",COUNTRY_INFO!O94=\"Not required\",COUNTRY_INFO!O94=0),0,IF($E94<>0, IF($F94=0,COUNTRY_INFO!O94*$E94,COUNTRY_INFO!O94*($E94-$D94)),COUNTRY_INFO!O94*$E94))","v":0},null,{"$f":"IF(OR(COUNTRY_INFO!P94=\"Unknown\",COUNTRY_INFO!P94=\"Surveillance\",COUNTRY_INFO!P94=\"Not required\",COUNTRY_INFO!P94=0),0,IF(AND($E94<>0,$J94=\"\"),IF($F94=0,COUNTRY_INFO!P94*$E94,COUNTRY_INFO!P94*($E94-$D94)), IF(AND($E94<>0,$J94<>0),IF($F94=0,COUNTRY_INFO!P94*$J94,COUNTRY_INFO!P94*($J94-$D94)), COUNTRY_INFO!P94*$J94)))","v":0},0,0,null,0,0,null,0,0,null,0]
[{"$f":"IF(AND(INTRO!$E$37=\"Non-endemic\",INTRO!$E$41=\"Non-endemic\"),\" \",IF(COUNTRY_INFO!A95=0,\" \",COUNTRY_INFO!A95))","v":"Ghana"},{"$f":"IF(AND(INTRO!$E$37=\"Non-endemic\",INTRO!$E$41=\"Non-endemic\"),\" \",IF(COUNTRY_INFO!B95=0,\" \",COUNTRY_INFO!B95))","v":"Central"},{"$f":"IF(AND(INTRO!$E$37=\"Non-endemic\",INTRO!$E$41=\"Non-endemic\"),\" \",IF(COUNTRY_INFO!C95=0,\" \",COUNTRY_INFO!C95))","v":"Gomoa Central"},{"$f":"IF(AND(INTRO!$E$37=\"Non-endemic\",INTRO!$E$41=\"Non-endemic\"),0,COUNTRY_INFO!V95)","v":0},{"$f":"IF(AND(INTRO!$E$37=\"Non-endemic\",INTRO!$E$41=\"Non-endemic\"),0,COUNTRY_INFO!X95)","v":0},{"$f":"IF(INTRO!$E$39=\"Non-endemic\",IF($D95=1,DEC!I95,0),IF($D95=1,IVM!G95,0))","v":0},null,{"$f":"IF(OR(COUNTRY_INFO!N95=\"Unknown\",COUNTRY_INFO!N95=\"Surveillance\",COUNTRY_INFO!N95=\"Not required\",COUNTRY_INFO!N95=0),0,IF(INTRO!$E$39=\"Non-endemic\",IF(AND($E95<>0,$G95=\"\"),IF($F95=0,COUNTRY_INFO!N95*$E95,COUNTRY_INFO!N95*($E95-$D95)),IF(AND($E95<>0,$G95<>0),IF($F95=0,COUNTRY_INFO!N95*$G95,COUNTRY_INFO!N95*($G95-$D95)),0)),IF($G95=\"\",COUNTRY_INFO!N95*$E95,COUNTRY_INFO!N95*$G95)))","v":0},{"$f":"IF(OR(COUNTRY_INFO!O95=\"Unknown\",COUNTRY_INFO!O95=\"Surveillance\",COUNTRY_INFO!O95=\"Not required\",COUNTRY_INFO!O95=0),0,IF($E95<>0, IF($F95=0,COUNTRY_INFO!O95*$E95,COUNTRY_INFO!O95*($E95-$D95)),COUNTRY_INFO!O95*$E95))","v":0},null,{"$f":"IF(OR(COUNTRY_INFO!P95=\"Unknown\",COUNTRY_INFO!P95=\"Surveillance\",COUNTRY_INFO!P95=\"Not required\",COUNTRY_INFO!P95=0),0,IF(AND($E95<>0,$J95=\"\"),IF($F95=0,COUNTRY_INFO!P95*$E95,COUNTRY_INFO!P95*($E95-$D95)), IF(AND($E95<>0,$J95<>0),IF($F95=0,COUNTRY_INFO!P95*$J95,COUNTRY_INFO!P95*($J95-$D95)), COUNTRY_INFO!P95*$J95)))","v":0},0,0,null,0,0,null,0,0,null,0]
[{"$f":"IF(AND(INTRO!$E$37=\"Non-endemic\",INTRO!$E$41=\"Non-endemic\"),\" \",IF(COUNTRY_INFO!A96=0,\" \",COUNTRY_INFO!A96))","v":"Ghana"},{"$f":"IF(AND(INTRO!$E$37=\"Non-endemic\",INTRO!$E$41=\"Non-endemic\"),\" \",IF(COUNTRY_INFO!B96=0,\" \",COUNTRY_INFO!B96))","v":"Central"},{"$f":"IF(AND(INTRO!$E$37=\"Non-endemic\",INTRO!$E$41=\"Non-endemic\"),\" \",IF(COUNTRY_INFO!C96=0,\" \",COUNTRY_INFO!C96))","v":"Gomoa East"},{"$f":"IF(AND(INTRO!$E$37=\"Non-endemic\",INTRO!$E$41=\"Non-endemic\"),0,COUNTRY_INFO!V96)","v":0},{"$f":"IF(AND(INTRO!$E$37=\"Non-endemic\",INTRO!$E$41=\"Non-endemic\"),0,COUNTRY_INFO!X96)","v":0},{"$f":"IF(INTRO!$E$39=\"Non-endemic\",IF($D96=1,DEC!I96,0),IF($D96=1,IVM!G96,0))","v":0},null,{"$f":"IF(OR(COUNTRY_INFO!N96=\"Unknown\",COUNTRY_INFO!N96=\"Surveillance\",COUNTRY_INFO!N96=\"Not required\",COUNTRY_INFO!N96=0),0,IF(INTRO!$E$39=\"Non-endemic\",IF(AND($E96<>0,$G96=\"\"),IF($F96=0,COUNTRY_INFO!N96*$E96,COUNTRY_INFO!N96*($E96-$D96)),IF(AND($E96<>0,$G96<>0),IF($F96=0,COUNTRY_INFO!N96*$G96,COUNTRY_INFO!N96*($G96-$D96)),0)),IF($G96=\"\",COUNTRY_INFO!N96*$E96,COUNTRY_INFO!N96*$G96)))","v":0},{"$f":"IF(OR(COUNTRY_INFO!O96=\"Unknown\",COUNTRY_INFO!O96=\"Surveillance\",COUNTRY_INFO!O96=\"Not required\",COUNTRY_INFO!O96=0),0,IF($E96<>0, IF($F96=0,COUNTRY_INFO!O96*$E96,COUNTRY_INFO!O96*($E96-$D96)),COUNTRY_INFO!O96*$E96))","v":0},null,{"$f":"IF(OR(COUNTRY_INFO!P96=\"Unknown\",COUNTRY_INFO!P96=\"Surveillance\",COUNTRY_INFO!P96=\"Not required\",COUNTRY_INFO!P96=0),0,IF(AND($E96<>0,$J96=\"\"),IF($F96=0,COUNTRY_INFO!P96*$E96,COUNTRY_INFO!P96*($E96-$D96)), IF(AND($E96<>0,$J96<>0),IF($F96=0,COUNTRY_INFO!P96*$J96,COUNTRY_INFO!P96*($J96-$D96)), COUNTRY_INFO!P96*$J96)))","v":0},0,0,null,0,0,null,0,0,null,0]
[{"$f":"IF(AND(INTRO!$E$37=\"Non-endemic\",INTRO!$E$41=\"Non-endemic\"),\" \",IF(COUNTRY_INFO!A97=0,\" \",COUNTRY_INFO!A97))","v":"Ghana"},{"$f":"IF(AND(INTRO!$E$37=\"Non-endemic\",INTRO!$E$41=\"Non-endemic\"),\" \",IF(COUNTRY_INFO!B97=0,\" \",COUNTRY_INFO!B97))","v":"Central"},{"$f":"IF(AND(INTRO!$E$37=\"Non-endemic\",INTRO!$E$41=\"Non-endemic\"),\" \",IF(COUNTRY_INFO!C97=0,\" \",COUNTRY_INFO!C97))","v":"Gomoa West"},{"$f":"IF(AND(INTRO!$E$37=\"Non-endemic\",INTRO!$E$41=\"Non-endemic\"),0,COUNTRY_INFO!V97)","v":0},{"$f":"IF(AND(INTRO!$E$37=\"Non-endemic\",INTRO!$E$41=\"Non-endemic\"),0,COUNTRY_INFO!X97)","v":0},{"$f":"IF(INTRO!$E$39=\"Non-endemic\",IF($D97=1,DEC!I97,0),IF($D97=1,IVM!G97,0))","v":0},null,{"$f":"IF(OR(COUNTRY_INFO!N97=\"Unknown\",COUNTRY_INFO!N97=\"Surveillance\",COUNTRY_INFO!N97=\"Not required\",COUNTRY_INFO!N97=0),0,IF(INTRO!$E$39=\"Non-endemic\",IF(AND($E97<>0,$G97=\"\"),IF($F97=0,COUNTRY_INFO!N97*$E97,COUNTRY_INFO!N97*($E97-$D97)),IF(AND($E97<>0,$G97<>0),IF($F97=0,COUNTRY_INFO!N97*$G97,COUNTRY_INFO!N97*($G97-$D97)),0)),IF($G97=\"\",COUNTRY_INFO!N97*$E97,COUNTRY_INFO!N97*$G97)))","v":0},{"$f":"IF(OR(COUNTRY_INFO!O97=\"Unknown\",COUNTRY_INFO!O97=\"Surveillance\",COUNTRY_INFO!O97=\"Not required\",COUNTRY_INFO!O97=0),0,IF($E97<>0, IF($F97=0,COUNTRY_INFO!O97*$E97,COUNTRY_INFO!O97*($E97-$D97)),COUNTRY_INFO!O97*$E97))","v":0},null,{"$f":"IF(OR(COUNTRY_INFO!P97=\"Unknown\",COUNTRY_INFO!P97=\"Surveillance\",COUNTRY_INFO!P97=\"Not required\",COUNTRY_INFO!P97=0),0,IF(AND($E97<>0,$J97=\"\"),IF($F97=0,COUNTRY_INFO!P97*$E97,COUNTRY_INFO!P97*($E97-$D97)), IF(AND($E97<>0,$J97<>0),IF($F97=0,COUNTRY_INFO!P97*$J97,COUNTRY_INFO!P97*($J97-$D97)), COUNTRY_INFO!P97*$J97)))","v":0},0,0,null,0,0,null,0,0,null,0]
[{"$f":"IF(AND(INTRO!$E$37=\"Non-endemic\",INTRO!$E$41=\"Non-endemic\"),\" \",IF(COUNTRY_INFO!A98=0,\" \",COUNTRY_INFO!A98))","v":"Ghana"},{"$f":"IF(AND(INTRO!$E$37=\"Non-endemic\",INTRO!$E$41=\"Non-endemic\"),\" \",IF(COUNTRY_INFO!B98=0,\" \",COUNTRY_INFO!B98))","v":"Central"},{"$f":"IF(AND(INTRO!$E$37=\"Non-endemic\",INTRO!$E$41=\"Non-endemic\"),\" \",IF(COUNTRY_INFO!C98=0,\" \",COUNTRY_INFO!C98))","v":"Komenda-Edna-Eguafo-Abirem"},{"$f":"IF(AND(INTRO!$E$37=\"Non-endemic\",INTRO!$E$41=\"Non-endemic\"),0,COUNTRY_INFO!V98)","v":0},{"$f":"IF(AND(INTRO!$E$37=\"Non-endemic\",INTRO!$E$41=\"Non-endemic\"),0,COUNTRY_INFO!X98)","v":0},{"$f":"IF(INTRO!$E$39=\"Non-endemic\",IF($D98=1,DEC!I98,0),IF($D98=1,IVM!G98,0))","v":0},null,{"$f":"IF(OR(COUNTRY_INFO!N98=\"Unknown\",COUNTRY_INFO!N98=\"Surveillance\",COUNTRY_INFO!N98=\"Not required\",COUNTRY_INFO!N98=0),0,IF(INTRO!$E$39=\"Non-endemic\",IF(AND($E98<>0,$G98=\"\"),IF($F98=0,COUNTRY_INFO!N98*$E98,COUNTRY_INFO!N98*($E98-$D98)),IF(AND($E98<>0,$G98<>0),IF($F98=0,COUNTRY_INFO!N98*$G98,COUNTRY_INFO!N98*($G98-$D98)),0)),IF($G98=\"\",COUNTRY_INFO!N98*$E98,COUNTRY_INFO!N98*$G98)))","v":0},{"$f":"IF(OR(COUNTRY_INFO!O98=\"Unknown\",COUNTRY_INFO!O98=\"Surveillance\",COUNTRY_INFO!O98=\"Not required\",COUNTRY_INFO!O98=0),0,IF($E98<>0, IF($F98=0,COUNTRY_INFO!O98*$E98,COUNTRY_INFO!O98*($E98-$D98)),COUNTRY_INFO!O98*$E98))","v":0},null,{"$f":"IF(OR(COUNTRY_INFO!P98=\"Unknown\",COUNTRY_INFO!P98=\"Surveillance\",COUNTRY_INFO!P98=\"Not required\",COUNTRY_INFO!P98=0),0,IF(AND($E98<>0,$J98=\"\"),IF($F98=0,COUNTRY_INFO!P98*$E98,COUNTRY_INFO!P98*($E98-$D98)), IF(AND($E98<>0,$J98<>0),IF($F98=0,COUNTRY_INFO!P98*$J98,COUNTRY_INFO!P98*($J98-$D98)), COUNTRY_INFO!P98*$J98)))","v":0},0,0,null,0,0,null,0,0,null,0]
[{"$f":"IF(AND(INTRO!$E$37=\"Non-endemic\",INTRO!$E$41=\"Non-endemic\"),\" \",IF(COUNTRY_INFO!A99=0,\" \",COUNTRY_INFO!A99))","v":"Ghana"},{"$f":"IF(AND(INTRO!$E$37=\"Non-endemic\",INTRO!$E$41=\"Non-endemic\"),\" \",IF(COUNTRY_INFO!B99=0,\" \",COUNTRY_INFO!B99))","v":"Central"},{"$f":"IF(AND(INTRO!$E$37=\"Non-endemic\",INTRO!$E$41=\"Non-endemic\"),\" \",IF(COUNTRY_INFO!C99=0,\" \",COUNTRY_INFO!C99))","v":"Mfantsiman"},{"$f":"IF(AND(INTRO!$E$37=\"Non-endemic\",INTRO!$E$41=\"Non-endemic\"),0,COUNTRY_INFO!V99)","v":0},{"$f":"IF(AND(INTRO!$E$37=\"Non-endemic\",INTRO!$E$41=\"Non-endemic\"),0,COUNTRY_INFO!X99)","v":0},{"$f":"IF(INTRO!$E$39=\"Non-endemic\",IF($D99=1,DEC!I99,0),IF($D99=1,IVM!G99,0))","v":0},null,{"$f":"IF(OR(COUNTRY_INFO!N99=\"Unknown\",COUNTRY_INFO!N99=\"Surveillance\",COUNTRY_INFO!N99=\"Not required\",COUNTRY_INFO!N99=0),0,IF(INTRO!$E$39=\"Non-endemic\",IF(AND($E99<>0,$G99=\"\"),IF($F99=0,COUNTRY_INFO!N99*$E99,COUNTRY_INFO!N99*($E99-$D99)),IF(AND($E99<>0,$G99<>0),IF($F99=0,COUNTRY_INFO!N99*$G99,COUNTRY_INFO!N99*($G99-$D99)),0)),IF($G99=\"\",COUNTRY_INFO!N99*$E99,COUNTRY_INFO!N99*$G99)))","v":0},{"$f":"IF(OR(COUNTRY_INFO!O99=\"Unknown\",COUNTRY_INFO!O99=\"Surveillance\",COUNTRY_INFO!O99=\"Not required\",COUNTRY_INFO!O99=0),0,IF($E99<>0, IF($F99=0,COUNTRY_INFO!O99*$E99,COUNTRY_INFO!O99*($E99-$D99)),COUNTRY_INFO!O99*$E99))","v":0},null,{"$f":"IF(OR(COUNTRY_INFO!P99=\"Unknown\",COUNTRY_INFO!P99=\"Surveillance\",COUNTRY_INFO!P99=\"Not required\",COUNTRY_INFO!P99=0),0,IF(AND($E99<>0,$J99=\"\"),IF($F99=0,COUNTRY_INFO!P99*$E99,COUNTRY_INFO!P99*($E99-$D99)), IF(AND($E99<>0,$J99<>0),IF($F99=0,COUNTRY_INFO!P99*$J99,COUNTRY_INFO!P99*($J99-$D99)), COUNTRY_INFO!P99*$J99)))","v":0},0,0,null,0,0,null,0,0,null,0]
[{"$f":"IF(AND(INTRO!$E$37=\"Non-endemic\",INTRO!$E$41=\"Non-endemic\"),\" \",IF(COUNTRY_INFO!A100=0,\" \",COUNTRY_INFO!A100))","v":"Ghana"},{"$f":"IF(AND(INTRO!$E$37=\"Non-endemic\",INTRO!$E$41=\"Non-endemic\"),\" \",IF(COUNTRY_INFO!B100=0,\" \",COUNTRY_INFO!B100))","v":"Central"},{"$f":"IF(AND(INTRO!$E$37=\"Non-endemic\",INTRO!$E$41=\"Non-endemic\"),\" \",IF(COUNTRY_INFO!C100=0,\" \",COUNTRY_INFO!C100))","v":"Twifo-Ati-Mokwa"},{"$f":"IF(AND(INTRO!$E$37=\"Non-endemic\",INTRO!$E$41=\"Non-endemic\"),0,COUNTRY_INFO!V100)","v":0},{"$f":"IF(AND(INTRO!$E$37=\"Non-endemic\",INTRO!$E$41=\"Non-endemic\"),0,COUNTRY_INFO!X100)","v":0},{"$f":"IF(INTRO!$E$39=\"Non-endemic\",IF($D100=1,DEC!I100,0),IF($D100=1,IVM!G100,0))","v":0},null,{"$f":"IF(OR(COUNTRY_INFO!N100=\"Unknown\",COUNTRY_INFO!N100=\"Surveillance\",COUNTRY_INFO!N100=\"Not required\",COUNTRY_INFO!N100=0),0,IF(INTRO!$E$39=\"Non-endemic\",IF(AND($E100<>0,$G100=\"\"),IF($F100=0,COUNTRY_INFO!N100*$E100,COUNTRY_INFO!N100*($E100-$D100)),IF(AND($E100<>0,$G100<>0),IF($F100=0,COUNTRY_INFO!N100*$G100,COUNTRY_INFO!N100*($G100-$D100)),0)),IF($G100=\"\",COUNTRY_INFO!N100*$E100,COUNTRY_INFO!N100*$G100)))","v":0},{"$f":"IF(OR(COUNTRY_INFO!O100=\"Unknown\",COUNTRY_INFO!O100=\"Surveillance\",COUNTRY_INFO!O100=\"Not required\",COUNTRY_INFO!O100=0),0,IF($E100<>0, IF($F100=0,COUNTRY_INFO!O100*$E100,COUNTRY_INFO!O100*($E100-$D100)),COUNTRY_INFO!O100*$E100))","v":0},null,{"$f":"IF(OR(COUNTRY_INFO!P100=\"Unknown\",COUNTRY_INFO!P100=\"Surveillance\",COUNTRY_INFO!P100=\"Not required\",COUNTRY_INFO!P100=0),0,IF(AND($E100<>0,$J100=\"\"),IF($F100=0,COUNTRY_INFO!P100*$E100,COUNTRY_INFO!P100*($E100-$D100)), IF(AND($E100<>0,$J100<>0),IF($F100=0,COUNTRY_INFO!P100*$J100,COUNTRY_INFO!P100*($J100-$D100)), COUNTRY_INFO!P100*$J100)))","v":0},0,0,null,0,0,null,0,0,null,0]
[{"$f":"IF(AND(INTRO!$E$37=\"Non-endemic\",INTRO!$E$41=\"Non-endemic\"),\" \",IF(COUNTRY_INFO!A101=0,\" \",COUNTRY_INFO!A101))","v":"Ghana"},{"$f":"IF(AND(INTRO!$E$37=\"Non-endemic\",INTRO!$E$41=\"Non-endemic\"),\" \",IF(COUNTRY_INFO!B101=0,\" \",COUNTRY_INFO!B101))","v":"Central"},{"$f":"IF(AND(INTRO!$E$37=\"Non-endemic\",INTRO!$E$41=\"Non-endemic\"),\" \",IF(COUNTRY_INFO!C101=0,\" \",COUNTRY_INFO!C101))","v":"Twifo-Hemang Lower Denkyira"},{"$f":"IF(AND(INTRO!$E$37=\"Non-endemic\",INTRO!$E$41=\"Non-endemic\"),0,COUNTRY_INFO!V101)","v":0},{"$f":"IF(AND(INTRO!$E$37=\"Non-endemic\",INTRO!$E$41=\"Non-endemic\"),0,COUNTRY_INFO!X101)","v":0},{"$f":"IF(INTRO!$E$39=\"Non-endemic\",IF($D101=1,DEC!I101,0),IF($D101=1,IVM!G101,0))","v":0},null,{"$f":"IF(OR(COUNTRY_INFO!N101=\"Unknown\",COUNTRY_INFO!N101=\"Surveillance\",COUNTRY_INFO!N101=\"Not required\",COUNTRY_INFO!N101=0),0,IF(INTRO!$E$39=\"Non-endemic\",IF(AND($E101<>0,$G101=\"\"),IF($F101=0,COUNTRY_INFO!N101*$E101,COUNTRY_INFO!N101*($E101-$D101)),IF(AND($E101<>0,$G101<>0),IF($F101=0,COUNTRY_INFO!N101*$G101,COUNTRY_INFO!N101*($G101-$D101)),0)),IF($G101=\"\",COUNTRY_INFO!N101*$E101,COUNTRY_INFO!N101*$G101)))","v":0},{"$f":"IF(OR(COUNTRY_INFO!O101=\"Unknown\",COUNTRY_INFO!O101=\"Surveillance\",COUNTRY_INFO!O101=\"Not required\",COUNTRY_INFO!O101=0),0,IF($E101<>0, IF($F101=0,COUNTRY_INFO!O101*$E101,COUNTRY_INFO!O101*($E101-$D101)),COUNTRY_INFO!O101*$E101))","v":0},null,{"$f":"IF(OR(COUNTRY_INFO!P101=\"Unknown\",COUNTRY_INFO!P101=\"Surveillance\",COUNTRY_INFO!P101=\"Not required\",COUNTRY_INFO!P101=0),0,IF(AND($E101<>0,$J101=\"\"),IF($F101=0,COUNTRY_INFO!P101*$E101,COUNTRY_INFO!P101*($E101-$D101)), IF(AND($E101<>0,$J101<>0),IF($F101=0,COUNTRY_INFO!P101*$J101,COUNTRY_INFO!P101*($J101-$D101)), COUNTRY_INFO!P101*$J101)))","v":0},0,0,null,0,0,null,0,0,null,0]
[{"$f":"IF(AND(INTRO!$E$37=\"Non-endemic\",INTRO!$E$41=\"Non-endemic\"),\" \",IF(COUNTRY_INFO!A102=0,\" \",COUNTRY_INFO!A102))","v":"Ghana"},{"$f":"IF(AND(INTRO!$E$37=\"Non-endemic\",INTRO!$E$41=\"Non-endemic\"),\" \",IF(COUNTRY_INFO!B102=0,\" \",COUNTRY_INFO!B102))","v":"Central"},{"$f":"IF(AND(INTRO!$E$37=\"Non-endemic\",INTRO!$E$41=\"Non-endemic\"),\" \",IF(COUNTRY_INFO!C102=0,\" \",COUNTRY_INFO!C102))","v":"Upper Denkyira East"},{"$f":"IF(AND(INTRO!$E$37=\"Non-endemic\",INTRO!$E$41=\"Non-endemic\"),0,COUNTRY_INFO!V102)","v":0},{"$f":"IF(AND(INTRO!$E$37=\"Non-endemic\",INTRO!$E$41=\"Non-endemic\"),0,COUNTRY_INFO!X102)","v":0},{"$f":"IF(INTRO!$E$39=\"Non-endemic\",IF($D102=1,DEC!I102,0),IF($D102=1,IVM!G102,0))","v":0},null,{"$f":"IF(OR(COUNTRY_INFO!N102=\"Unknown\",COUNTRY_INFO!N102=\"Surveillance\",COUNTRY_INFO!N102=\"Not required\",COUNTRY_INFO!N102=0),0,IF(INTRO!$E$39=\"Non-endemic\",IF(AND($E102<>0,$G102=\"\"),IF($F102=0,COUNTRY_INFO!N102*$E102,COUNTRY_INFO!N102*($E102-$D102)),IF(AND($E102<>0,$G102<>0),IF($F102=0,COUNTRY_INFO!N102*$G102,COUNTRY_INFO!N102*($G102-$D102)),0)),IF($G102=\"\",COUNTRY_INFO!N102*$E102,COUNTRY_INFO!N102*$G102)))","v":0},{"$f":"IF(OR(COUNTRY_INFO!O102=\"Unknown\",COUNTRY_INFO!O102=\"Surveillance\",COUNTRY_INFO!O102=\"Not required\",COUNTRY_INFO!O102=0),0,IF($E102<>0, IF($F102=0,COUNTRY_INFO!O102*$E102,COUNTRY_INFO!O102*($E102-$D102)),COUNTRY_INFO!O102*$E102))","v":0},null,{"$f":"IF(OR(COUNTRY_INFO!P102=\"Unknown\",COUNTRY_INFO!P102=\"Surveillance\",COUNTRY_INFO!P102=\"Not required\",COUNTRY_INFO!P102=0),0,IF(AND($E102<>0,$J102=\"\"),IF($F102=0,COUNTRY_INFO!P102*$E102,COUNTRY_INFO!P102*($E102-$D102)), IF(AND($E102<>0,$J102<>0),IF($F102=0,COUNTRY_INFO!P102*$J102,COUNTRY_INFO!P102*($J102-$D102)), COUNTRY_INFO!P102*$J102)))","v":0},0,0,null,0,0,null,0,0,null,0]
[{"$f":"IF(AND(INTRO!$E$37=\"Non-endemic\",INTRO!$E$41=\"Non-endemic\"),\" \",IF(COUNTRY_INFO!A103=0,\" \",COUNTRY_INFO!A103))","v":"Ghana"},{"$f":"IF(AND(INTRO!$E$37=\"Non-endemic\",INTRO!$E$41=\"Non-endemic\"),\" \",IF(COUNTRY_INFO!B103=0,\" \",COUNTRY_INFO!B103))","v":"Central"},{"$f":"IF(AND(INTRO!$E$37=\"Non-endemic\",INTRO!$E$41=\"Non-endemic\"),\" \",IF(COUNTRY_INFO!C103=0,\" \",COUNTRY_INFO!C103))","v":"Upper Denkyira West"},{"$f":"IF(AND(INTRO!$E$37=\"Non-endemic\",INTRO!$E$41=\"Non-endemic\"),0,COUNTRY_INFO!V103)","v":0},{"$f":"IF(AND(INTRO!$E$37=\"Non-endemic\",INTRO!$E$41=\"Non-endemic\"),0,COUNTRY_INFO!X103)","v":0},{"$f":"IF(INTRO!$E$39=\"Non-endemic\",IF($D103=1,DEC!I103,0),IF($D103=1,IVM!G103,0))","v":0},null,{"$f":"IF(OR(COUNTRY_INFO!N103=\"Unknown\",COUNTRY_INFO!N103=\"Surveillance\",COUNTRY_INFO!N103=\"Not required\",COUNTRY_INFO!N103=0),0,IF(INTRO!$E$39=\"Non-endemic\",IF(AND($E103<>0,$G103=\"\"),IF($F103=0,COUNTRY_INFO!N103*$E103,COUNTRY_INFO!N103*($E103-$D103)),IF(AND($E103<>0,$G103<>0),IF($F103=0,COUNTRY_INFO!N103*$G103,COUNTRY_INFO!N103*($G103-$D103)),0)),IF($G103=\"\",COUNTRY_INFO!N103*$E103,COUNTRY_INFO!N103*$G103)))","v":0},{"$f":"IF(OR(COUNTRY_INFO!O103=\"Unknown\",COUNTRY_INFO!O103=\"Surveillance\",COUNTRY_INFO!O103=\"Not required\",COUNTRY_INFO!O103=0),0,IF($E103<>0, IF($F103=0,COUNTRY_INFO!O103*$E103,COUNTRY_INFO!O103*($E103-$D103)),COUNTRY_INFO!O103*$E103))","v":0},null,{"$f":"IF(OR(COUNTRY_INFO!P103=\"Unknown\",COUNTRY_INFO!P103=\"Surveillance\",COUNTRY_INFO!P103=\"Not required\",COUNTRY_INFO!P103=0),0,IF(AND($E103<>0,$J103=\"\"),IF($F103=0,COUNTRY_INFO!P103*$E103,COUNTRY_INFO!P103*($E103-$D103)), IF(AND($E103<>0,$J103<>0),IF($F103=0,COUNTRY_INFO!P103*$J103,COUNTRY_INFO!P103*($J103-$D103)), COUNTRY_INFO!P103*$J103)))","v":0},0,0,null,0,0,null,0,0,null,0]
[{"$f":"IF(AND(INTRO!$E$37=\"Non-endemic\",INTRO!$E$41=\"Non-endemic\"),\" \",IF(COUNTRY_INFO!A104=0,\" \",COUNTRY_INFO!A104))","v":"Ghana"},{"$f":"IF(AND(INTRO!$E$37=\"Non-endemic\",INTRO!$E$41=\"Non-endemic\"),\" \",IF(COUNTRY_INFO!B104=0,\" \",COUNTRY_INFO!B104))","v":"Eastern"},{"$f":"IF(AND(INTRO!$E$37=\"Non-endemic\",INTRO!$E$41=\"Non-endemic\"),\" \",IF(COUNTRY_INFO!C104=0,\" \",COUNTRY_INFO!C104))","v":"Abuakwa North"},{"$f":"IF(AND(INTRO!$E$37=\"Non-endemic\",INTRO!$E$41=\"Non-endemic\"),0,COUNTRY_INFO!V104)","v":0},{"$f":"IF(AND(INTRO!$E$37=\"Non-endemic\",INTRO!$E$41=\"Non-endemic\"),0,COUNTRY_INFO!X104)","v":0},{"$f":"IF(INTRO!$E$39=\"Non-endemic\",IF($D104=1,DEC!I104,0),IF($D104=1,IVM!G104,0))","v":0},null,{"$f":"IF(OR(COUNTRY_INFO!N104=\"Unknown\",COUNTRY_INFO!N104=\"Surveillance\",COUNTRY_INFO!N104=\"Not required\",COUNTRY_INFO!N104=0),0,IF(INTRO!$E$39=\"Non-endemic\",IF(AND($E104<>0,$G104=\"\"),IF($F104=0,COUNTRY_INFO!N104*$E104,COUNTRY_INFO!N104*($E104-$D104)),IF(AND($E104<>0,$G104<>0),IF($F104=0,COUNTRY_INFO!N104*$G104,COUNTRY_INFO!N104*($G104-$D104)),0)),IF($G104=\"\",COUNTRY_INFO!N104*$E104,COUNTRY_INFO!N104*$G104)))","v":0},{"$f":"IF(OR(COUNTRY_INFO!O104=\"Unknown\",COUNTRY_INFO!O104=\"Surveillance\",COUNTRY_INFO!O104=\"Not required\",COUNTRY_INFO!O104=0),0,IF($E104<>0, IF($F104=0,COUNTRY_INFO!O104*$E104,COUNTRY_INFO!O104*($E104-$D104)),COUNTRY_INFO!O104*$E104))","v":0},null,{"$f":"IF(OR(COUNTRY_INFO!P104=\"Unknown\",COUNTRY_INFO!P104=\"Surveillance\",COUNTRY_INFO!P104=\"Not required\",COUNTRY_INFO!P104=0),0,IF(AND($E104<>0,$J104=\"\"),IF($F104=0,COUNTRY_INFO!P104*$E104,COUNTRY_INFO!P104*($E104-$D104)), IF(AND($E104<>0,$J104<>0),IF($F104=0,COUNTRY_INFO!P104*$J104,COUNTRY_INFO!P104*($J104-$D104)), COUNTRY_INFO!P104*$J104)))","v":0},0,0,null,0,0,null,0,0,null,0]
[{"$f":"IF(AND(INTRO!$E$37=\"Non-endemic\",INTRO!$E$41=\"Non-endemic\"),\" \",IF(COUNTRY_INFO!A105=0,\" \",COUNTRY_INFO!A105))","v":"Ghana"},{"$f":"IF(AND(INTRO!$E$37=\"Non-endemic\",INTRO!$E$41=\"Non-endemic\"),\" \",IF(COUNTRY_INFO!B105=0,\" \",COUNTRY_INFO!B105))","v":"Eastern"},{"$f":"IF(AND(INTRO!$E$37=\"Non-endemic\",INTRO!$E$41=\"Non-endemic\"),\" \",IF(COUNTRY_INFO!C105=0,\" \",COUNTRY_INFO!C105))","v":"Abuakwa South"},{"$f":"IF(AND(INTRO!$E$37=\"Non-endemic\",INTRO!$E$41=\"Non-endemic\"),0,COUNTRY_INFO!V105)","v":0},{"$f":"IF(AND(INTRO!$E$37=\"Non-endemic\",INTRO!$E$41=\"Non-endemic\"),0,COUNTRY_INFO!X105)","v":0},{"$f":"IF(INTRO!$E$39=\"Non-endemic\",IF($D105=1,DEC!I105,0),IF($D105=1,IVM!G105,0))","v":0},null,{"$f":"IF(OR(COUNTRY_INFO!N105=\"Unknown\",COUNTRY_INFO!N105=\"Surveillance\",COUNTRY_INFO!N105=\"Not required\",COUNTRY_INFO!N105=0),0,IF(INTRO!$E$39=\"Non-endemic\",IF(AND($E105<>0,$G105=\"\"),IF($F105=0,COUNTRY_INFO!N105*$E105,COUNTRY_INFO!N105*($E105-$D105)),IF(AND($E105<>0,$G105<>0),IF($F105=0,COUNTRY_INFO!N105*$G105,COUNTRY_INFO!N105*($G105-$D105)),0)),IF($G105=\"\",COUNTRY_INFO!N105*$E105,COUNTRY_INFO!N105*$G105)))","v":0},{"$f":"IF(OR(COUNTRY_INFO!O105=\"Unknown\",COUNTRY_INFO!O105=\"Surveillance\",COUNTRY_INFO!O105=\"Not required\",COUNTRY_INFO!O105=0),0,IF($E105<>0, IF($F105=0,COUNTRY_INFO!O105*$E105,COUNTRY_INFO!O105*($E105-$D105)),COUNTRY_INFO!O105*$E105))","v":0},null,{"$f":"IF(OR(COUNTRY_INFO!P105=\"Unknown\",COUNTRY_INFO!P105=\"Surveillance\",COUNTRY_INFO!P105=\"Not required\",COUNTRY_INFO!P105=0),0,IF(AND($E105<>0,$J105=\"\"),IF($F105=0,COUNTRY_INFO!P105*$E105,COUNTRY_INFO!P105*($E105-$D105)), IF(AND($E105<>0,$J105<>0),IF($F105=0,COUNTRY_INFO!P105*$J105,COUNTRY_INFO!P105*($J105-$D105)), COUNTRY_INFO!P105*$J105)))","v":0},0,0,null,0,0,null,0,0,null,0]
[{"$f":"IF(AND(INTRO!$E$37=\"Non-endemic\",INTRO!$E$41=\"Non-endemic\"),\" \",IF(COUNTRY_INFO!A106=0,\" \",COUNTRY_INFO!A106))","v":"Ghana"},{"$f":"IF(AND(INTRO!$E$37=\"Non-endemic\",INTRO!$E$41=\"Non-endemic\"),\" \",IF(COUNTRY_INFO!B106=0,\" \",COUNTRY_INFO!B106))","v":"Eastern"},{"$f":"IF(AND(INTRO!$E$37=\"Non-endemic\",INTRO!$E$41=\"Non-endemic\"),\" \",IF(COUNTRY_INFO!C106=0,\" \",COUNTRY_INFO!C106))","v":"Achiase"},{"$f":"IF(AND(INTRO!$E$37=\"Non-endemic\",INTRO!$E$41=\"Non-endemic\"),0,COUNTRY_INFO!V106)","v":0},{"$f":"IF(AND(INTRO!$E$37=\"Non-endemic\",INTRO!$E$41=\"Non-endemic\"),0,COUNTRY_INFO!X106)","v":0},{"$f":"IF(INTRO!$E$39=\"Non-endemic\",IF($D106=1,DEC!I106,0),IF($D106=1,IVM!G106,0))","v":0},null,{"$f":"IF(OR(COUNTRY_INFO!N106=\"Unknown\",COUNTRY_INFO!N106=\"Surveillance\",COUNTRY_INFO!N106=\"Not required\",COUNTRY_INFO!N106=0),0,IF(INTRO!$E$39=\"Non-endemic\",IF(AND($E106<>0,$G106=\"\"),IF($F106=0,COUNTRY_INFO!N106*$E106,COUNTRY_INFO!N106*($E106-$D106)),IF(AND($E106<>0,$G106<>0),IF($F106=0,COUNTRY_INFO!N106*$G106,COUNTRY_INFO!N106*($G106-$D106)),0)),IF($G106=\"\",COUNTRY_INFO!N106*$E106,COUNTRY_INFO!N106*$G106)))","v":0},{"$f":"IF(OR(COUNTRY_INFO!O106=\"Unknown\",COUNTRY_INFO!O106=\"Surveillance\",COUNTRY_INFO!O106=\"Not required\",COUNTRY_INFO!O106=0),0,IF($E106<>0, IF($F106=0,COUNTRY_INFO!O106*$E106,COUNTRY_INFO!O106*($E106-$D106)),COUNTRY_INFO!O106*$E106))","v":0},null,{"$f":"IF(OR(COUNTRY_INFO!P106=\"Unknown\",COUNTRY_INFO!P106=\"Surveillance\",COUNTRY_INFO!P106=\"Not required\",COUNTRY_INFO!P106=0),0,IF(AND($E106<>0,$J106=\"\"),IF($F106=0,COUNTRY_INFO!P106*$E106,COUNTRY_INFO!P106*($E106-$D106)), IF(AND($E106<>0,$J106<>0),IF($F106=0,COUNTRY_INFO!P106*$J106,COUNTRY_INFO!P106*($J106-$D106)), COUNTRY_INFO!P106*$J106)))","v":0},0,0,null,0,0,null,0,0,null,0]
[{"$f":"IF(AND(INTRO!$E$37=\"Non-endemic\",INTRO!$E$41=\"Non-endemic\"),\" \",IF(COUNTRY_INFO!A107=0,\" \",COUNTRY_INFO!A107))","v":"Ghana"},{"$f":"IF(AND(INTRO!$E$37=\"Non-endemic\",INTRO!$E$41=\"Non-endemic\"),\" \",IF(COUNTRY_INFO!B107=0,\" \",COUNTRY_INFO!B107))","v":"Eastern"},{"$f":"IF(AND(INTRO!$E$37=\"Non-endemic\",INTRO!$E$41=\"Non-endemic\"),\" \",IF(COUNTRY_INFO!C107=0,\" \",COUNTRY_INFO!C107))","v":"Akwapim North"},{"$f":"IF(AND(INTRO!$E$37=\"Non-endemic\",INTRO!$E$41=\"Non-endemic\"),0,COUNTRY_INFO!V107)","v":0},{"$f":"IF(AND(INTRO!$E$37=\"Non-endemic\",INTRO!$E$41=\"Non-endemic\"),0,COUNTRY_INFO!X107)","v":0},{"$f":"IF(INTRO!$E$39=\"Non-endemic\",IF($D107=1,DEC!I107,0),IF($D107=1,IVM!G107,0))","v":0},null,{"$f":"IF(OR(COUNTRY_INFO!N107=\"Unknown\",COUNTRY_INFO!N107=\"Surveillance\",COUNTRY_INFO!N107=\"Not required\",COUNTRY_INFO!N107=0),0,IF(INTRO!$E$39=\"Non-endemic\",IF(AND($E107<>0,$G107=\"\"),IF($F107=0,COUNTRY_INFO!N107*$E107,COUNTRY_INFO!N107*($E107-$D107)),IF(AND($E107<>0,$G107<>0),IF($F107=0,COUNTRY_INFO!N107*$G107,COUNTRY_INFO!N107*($G107-$D107)),0)),IF($G107=\"\",COUNTRY_INFO!N107*$E107,COUNTRY_INFO!N107*$G107)))","v":0},{"$f":"IF(OR(COUNTRY_INFO!O107=\"Unknown\",COUNTRY_INFO!O107=\"Surveillance\",COUNTRY_INFO!O107=\"Not required\",COUNTRY_INFO!O107=0),0,IF($E107<>0, IF($F107=0,COUNTRY_INFO!O107*$E107,COUNTRY_INFO!O107*($E107-$D107)),COUNTRY_INFO!O107*$E107))","v":0},null,{"$f":"IF(OR(COUNTRY_INFO!P107=\"Unknown\",COUNTRY_INFO!P107=\"Surveillance\",COUNTRY_INFO!P107=\"Not required\",COUNTRY_INFO!P107=0),0,IF(AND($E107<>0,$J107=\"\"),IF($F107=0,COUNTRY_INFO!P107*$E107,COUNTRY_INFO!P107*($E107-$D107)), IF(AND($E107<>0,$J107<>0),IF($F107=0,COUNTRY_INFO!P107*$J107,COUNTRY_INFO!P107*($J107-$D107)), COUNTRY_INFO!P107*$J107)))","v":0},0,0,null,0,0,null,0,0,null,0]
[{"$f":"IF(AND(INTRO!$E$37=\"Non-endemic\",INTRO!$E$41=\"Non-endemic\"),\" \",IF(COUNTRY_INFO!A108=0,\" \",COUNTRY_INFO!A108))","v":"Ghana"},{"$f":"IF(AND(INTRO!$E$37=\"Non-endemic\",INTRO!$E$41=\"Non-endemic\"),\" \",IF(COUNTRY_INFO!B108=0,\" \",COUNTRY_INFO!B108))","v":"Eastern"},{"$f":"IF(AND(INTRO!$E$37=\"Non-endemic\",INTRO!$E$41=\"Non-endemic\"),\" \",IF(COUNTRY_INFO!C108=0,\" \",COUNTRY_INFO!C108))","v":"Akwapim South"},{"$f":"IF(AND(INTRO!$E$37=\"Non-endemic\",INTRO!$E$41=\"Non-endemic\"),0,COUNTRY_INFO!V108)","v":0},{"$f":"IF(AND(INTRO!$E$37=\"Non-endemic\",INTRO!$E$41=\"Non-endemic\"),0,COUNTRY_INFO!X108)","v":0},{"$f":"IF(INTRO!$E$39=\"Non-endemic\",IF($D108=1,DEC!I108,0),IF($D108=1,IVM!G108,0))","v":0},null,{"$f":"IF(OR(COUNTRY_INFO!N108=\"Unknown\",COUNTRY_INFO!N108=\"Surveillance\",COUNTRY_INFO!N108=\"Not required\",COUNTRY_INFO!N108=0),0,IF(INTRO!$E$39=\"Non-endemic\",IF(AND($E108<>0,$G108=\"\"),IF($F108=0,COUNTRY_INFO!N108*$E108,COUNTRY_INFO!N108*($E108-$D108)),IF(AND($E108<>0,$G108<>0),IF($F108=0,COUNTRY_INFO!N108*$G108,COUNTRY_INFO!N108*($G108-$D108)),0)),IF($G108=\"\",COUNTRY_INFO!N108*$E108,COUNTRY_INFO!N108*$G108)))","v":0},{"$f":"IF(OR(COUNTRY_INFO!O108=\"Unknown\",COUNTRY_INFO!O108=\"Surveillance\",COUNTRY_INFO!O108=\"Not required\",COUNTRY_INFO!O108=0),0,IF($E108<>0, IF($F108=0,COUNTRY_INFO!O108*$E108,COUNTRY_INFO!O108*($E108-$D108)),COUNTRY_INFO!O108*$E108))","v":0},null,{"$f":"IF(OR(COUNTRY_INFO!P108=\"Unknown\",COUNTRY_INFO!P108=\"Surveillance\",COUNTRY_INFO!P108=\"Not required\",COUNTRY_INFO!P108=0),0,IF(AND($E108<>0,$J108=\"\"),IF($F108=0,COUNTRY_INFO!P108*$E108,COUNTRY_INFO!P108*($E108-$D108)), IF(AND($E108<>0,$J108<>0),IF($F108=0,COUNTRY_INFO!P108*$J108,COUNTRY_INFO!P108*($J108-$D108)), COUNTRY_INFO!P108*$J108)))","v":0},0,0,null,0,0,null,0,0,null,0]
[{"$f":"IF(AND(INTRO!$E$37=\"Non-endemic\",INTRO!$E$41=\"Non-endemic\"),\" \",IF(COUNTRY_INFO!A109=0,\" \",COUNTRY_INFO!A109))","v":"Ghana"},{"$f":"IF(AND(INTRO!$E$37=\"Non-endemic\",INTRO!$E$41=\"Non-endemic\"),\" \",IF(COUNTRY_INFO!B109=0,\" \",COUNTRY_INFO!B109))","v":"Eastern"},{"$f":"IF(AND(INTRO!$E$37=\"Non-endemic\",INTRO!$E$41=\"Non-endemic\"),\" \",IF(COUNTRY_INFO!C109=0,\" \",COUNTRY_INFO!C109))","v":"Akyemansa"},{"$f":"IF(AND(INTRO!$E$37=\"Non-endemic\",INTRO!$E$41=\"Non-endemic\"),0,COUNTRY_INFO!V109)","v":0},{"$f":"IF(AND(INTRO!$E$37=\"Non-endemic\",INTRO!$E$41=\"Non-endemic\"),0,COUNTRY_INFO!X109)","v":0},{"$f":"IF(INTRO!$E$39=\"Non-endemic\",IF($D109=1,DEC!I109,0),IF($D109=1,IVM!G109,0))","v":0},null,{"$f":"IF(OR(COUNTRY_INFO!N109=\"Unknown\",COUNTRY_INFO!N109=\"Surveillance\",COUNTRY_INFO!N109=\"Not required\",COUNTRY_INFO!N109=0),0,IF(INTRO!$E$39=\"Non-endemic\",IF(AND($E109<>0,$G109=\"\"),IF($F109=0,COUNTRY_INFO!N109*$E109,COUNTRY_INFO!N109*($E109-$D109)),IF(AND($E109<>0,$G109<>0),IF($F109=0,COUNTRY_INFO!N109*$G109,COUNTRY_INFO!N109*($G109-$D109)),0)),IF($G109=\"\",COUNTRY_INFO!N109*$E109,COUNTRY_INFO!N109*$G109)))","v":0},{"$f":"IF(OR(COUNTRY_INFO!O109=\"Unknown\",COUNTRY_INFO!O109=\"Surveillance\",COUNTRY_INFO!O109=\"Not required\",COUNTRY_INFO!O109=0),0,IF($E109<>0, IF($F109=0,COUNTRY_INFO!O109*$E109,COUNTRY_INFO!O109*($E109-$D109)),COUNTRY_INFO!O109*$E109))","v":0},null,{"$f":"IF(OR(COUNTRY_INFO!P109=\"Unknown\",COUNTRY_INFO!P109=\"Surveillance\",COUNTRY_INFO!P109=\"Not required\",COUNTRY_INFO!P109=0),0,IF(AND($E109<>0,$J109=\"\"),IF($F109=0,COUNTRY_INFO!P109*$E109,COUNTRY_INFO!P109*($E109-$D109)), IF(AND($E109<>0,$J109<>0),IF($F109=0,COUNTRY_INFO!P109*$J109,COUNTRY_INFO!P109*($J109-$D109)), COUNTRY_INFO!P109*$J109)))","v":0},0,0,null,0,0,null,0,0,null,0]
[{"$f":"IF(AND(INTRO!$E$37=\"Non-endemic\",INTRO!$E$41=\"Non-endemic\"),\" \",IF(COUNTRY_INFO!A110=0,\" \",COUNTRY_INFO!A110))","v":"Ghana"},{"$f":"IF(AND(INTRO!$E$37=\"Non-endemic\",INTRO!$E$41=\"Non-endemic\"),\" \",IF(COUNTRY_INFO!B110=0,\" \",COUNTRY_INFO!B110))","v":"Eastern"},{"$f":"IF(AND(INTRO!$E$37=\"Non-endemic\",INTRO!$E$41=\"Non-endemic\"),\" \",IF(COUNTRY_INFO!C110=0,\" \",COUNTRY_INFO!C110))","v":"Asene Manso Akroso"},{"$f":"IF(AND(INTRO!$E$37=\"Non-endemic\",INTRO!$E$41=\"Non-endemic\"),0,COUNTRY_INFO!V110)","v":0},{"$f":"IF(AND(INTRO!$E$37=\"Non-endemic\",INTRO!$E$41=\"Non-endemic\"),0,COUNTRY_INFO!X110)","v":0},{"$f":"IF(INTRO!$E$39=\"Non-endemic\",IF($D110=1,DEC!I110,0),IF($D110=1,IVM!G110,0))","v":0},null,{"$f":"IF(OR(COUNTRY_INFO!N110=\"Unknown\",COUNTRY_INFO!N110=\"Surveillance\",COUNTRY_INFO!N110=\"Not required\",COUNTRY_INFO!N110=0),0,IF(INTRO!$E$39=\"Non-endemic\",IF(AND($E110<>0,$G110=\"\"),IF($F110=0,COUNTRY_INFO!N110*$E110,COUNTRY_INFO!N110*($E110-$D110)),IF(AND($E110<>0,$G110<>0),IF($F110=0,COUNTRY_INFO!N110*$G110,COUNTRY_INFO!N110*($G110-$D110)),0)),IF($G110=\"\",COUNTRY_INFO!N110*$E110,COUNTRY_INFO!N110*$G110)))","v":0},{"$f":"IF(OR(COUNTRY_INFO!O110=\"Unknown\",COUNTRY_INFO!O110=\"Surveillance\",COUNTRY_INFO!O110=\"Not required\",COUNTRY_INFO!O110=0),0,IF($E110<>0, IF($F110=0,COUNTRY_INFO!O110*$E110,COUNTRY_INFO!O110*($E110-$D110)),COUNTRY_INFO!O110*$E110))","v":0},null,{"$f":"IF(OR(COUNTRY_INFO!P110=\"Unknown\",COUNTRY_INFO!P110=\"Surveillance\",COUNTRY_INFO!P110=\"Not required\",COUNTRY_INFO!P110=0),0,IF(AND($E110<>0,$J110=\"\"),IF($F110=0,COUNTRY_INFO!P110*$E110,COUNTRY_INFO!P110*($E110-$D110)), IF(AND($E110<>0,$J110<>0),IF($F110=0,COUNTRY_INFO!P110*$J110,COUNTRY_INFO!P110*($J110-$D110)), COUNTRY_INFO!P110*$J110)))","v":0},0,0,null,0,0,null,0,0,null,0]
[{"$f":"IF(AND(INTRO!$E$37=\"Non-endemic\",INTRO!$E$41=\"Non-endemic\"),\" \",IF(COUNTRY_INFO!A111=0,\" \",COUNTRY_INFO!A111))","v":"Ghana"},{"$f":"IF(AND(INTRO!$E$37=\"Non-endemic\",INTRO!$E$41=\"Non-endemic\"),\" \",IF(COUNTRY_INFO!B111=0,\" \",COUNTRY_INFO!B111))","v":"Eastern"},{"$f":"IF(AND(INTRO!$E$37=\"Non-endemic\",INTRO!$E$41=\"Non-endemic\"),\" \",IF(COUNTRY_INFO!C111=0,\" \",COUNTRY_INFO!C111))","v":"Asuogyaman"},{"$f":"IF(AND(INTRO!$E$37=\"Non-endemic\",INTRO!$E$41=\"Non-endemic\"),0,COUNTRY_INFO!V111)","v":0},{"$f":"IF(AND(INTRO!$E$37=\"Non-endemic\",INTRO!$E$41=\"Non-endemic\"),0,COUNTRY_INFO!X111)","v":0},{"$f":"IF(INTRO!$E$39=\"Non-endemic\",IF($D111=1,DEC!I111,0),IF($D111=1,IVM!G111,0))","v":0},null,{"$f":"IF(OR(COUNTRY_INFO!N111=\"Unknown\",COUNTRY_INFO!N111=\"Surveillance\",COUNTRY_INFO!N111=\"Not required\",COUNTRY_INFO!N111=0),0,IF(INTRO!$E$39=\"Non-endemic\",IF(AND($E111<>0,$G111=\"\"),IF($F111=0,COUNTRY_INFO!N111*$E111,COUNTRY_INFO!N111*($E111-$D111)),IF(AND($E111<>0,$G111<>0),IF($F111=0,COUNTRY_INFO!N111*$G111,COUNTRY_INFO!N111*($G111-$D111)),0)),IF($G111=\"\",COUNTRY_INFO!N111*$E111,COUNTRY_INFO!N111*$G111)))","v":0},{"$f":"IF(OR(COUNTRY_INFO!O111=\"Unknown\",COUNTRY_INFO!O111=\"Surveillance\",COUNTRY_INFO!O111=\"Not required\",COUNTRY_INFO!O111=0),0,IF($E111<>0, IF($F111=0,COUNTRY_INFO!O111*$E111,COUNTRY_INFO!O111*($E111-$D111)),COUNTRY_INFO!O111*$E111))","v":0},null,{"$f":"IF(OR(COUNTRY_INFO!P111=\"Unknown\",COUNTRY_INFO!P111=\"Surveillance\",COUNTRY_INFO!P111=\"Not required\",COUNTRY_INFO!P111=0),0,IF(AND($E111<>0,$J111=\"\"),IF($F111=0,COUNTRY_INFO!P111*$E111,COUNTRY_INFO!P111*($E111-$D111)), IF(AND($E111<>0,$J111<>0),IF($F111=0,COUNTRY_INFO!P111*$J111,COUNTRY_INFO!P111*($J111-$D111)), COUNTRY_INFO!P111*$J111)))","v":0},0,0,null,0,0,null,0,0,null,0]
[{"$f":"IF(AND(INTRO!$E$37=\"Non-endemic\",INTRO!$E$41=\"Non-endemic\"),\" \",IF(COUNTRY_INFO!A112=0,\" \",COUNTRY_INFO!A112))","v":"Ghana"},{"$f":"IF(AND(INTRO!$E$37=\"Non-endemic\",INTRO!$E$41=\"Non-endemic\"),\" \",IF(COUNTRY_INFO!B112=0,\" \",COUNTRY_INFO!B112))","v":"Eastern"},{"$f":"IF(AND(INTRO!$E$37=\"Non-endemic\",INTRO!$E$41=\"Non-endemic\"),\" \",IF(COUNTRY_INFO!C112=0,\" \",COUNTRY_INFO!C112))","v":"Atiwa East"},{"$f":"IF(AND(INTRO!$E$37=\"Non-endemic\",INTRO!$E$41=\"Non-endemic\"),0,COUNTRY_INFO!V112)","v":0},{"$f":"IF(AND(INTRO!$E$37=\"Non-endemic\",INTRO!$E$41=\"Non-endemic\"),0,COUNTRY_INFO!X112)","v":0},{"$f":"IF(INTRO!$E$39=\"Non-endemic\",IF($D112=1,DEC!I112,0),IF($D112=1,IVM!G112,0))","v":0},null,{"$f":"IF(OR(COUNTRY_INFO!N112=\"Unknown\",COUNTRY_INFO!N112=\"Surveillance\",COUNTRY_INFO!N112=\"Not required\",COUNTRY_INFO!N112=0),0,IF(INTRO!$E$39=\"Non-endemic\",IF(AND($E112<>0,$G112=\"\"),IF($F112=0,COUNTRY_INFO!N112*$E112,COUNTRY_INFO!N112*($E112-$D112)),IF(AND($E112<>0,$G112<>0),IF($F112=0,COUNTRY_INFO!N112*$G112,COUNTRY_INFO!N112*($G112-$D112)),0)),IF($G112=\"\",COUNTRY_INFO!N112*$E112,COUNTRY_INFO!N112*$G112)))","v":0},{"$f":"IF(OR(COUNTRY_INFO!O112=\"Unknown\",COUNTRY_INFO!O112=\"Surveillance\",COUNTRY_INFO!O112=\"Not required\",COUNTRY_INFO!O112=0),0,IF($E112<>0, IF($F112=0,COUNTRY_INFO!O112*$E112,COUNTRY_INFO!O112*($E112-$D112)),COUNTRY_INFO!O112*$E112))","v":0},null,{"$f":"IF(OR(COUNTRY_INFO!P112=\"Unknown\",COUNTRY_INFO!P112=\"Surveillance\",COUNTRY_INFO!P112=\"Not required\",COUNTRY_INFO!P112=0),0,IF(AND($E112<>0,$J112=\"\"),IF($F112=0,COUNTRY_INFO!P112*$E112,COUNTRY_INFO!P112*($E112-$D112)), IF(AND($E112<>0,$J112<>0),IF($F112=0,COUNTRY_INFO!P112*$J112,COUNTRY_INFO!P112*($J112-$D112)), COUNTRY_INFO!P112*$J112)))","v":0},0,0,null,0,0,null,0,0,null,0]
[{"$f":"IF(AND(INTRO!$E$37=\"Non-endemic\",INTRO!$E$41=\"Non-endemic\"),\" \",IF(COUNTRY_INFO!A113=0,\" \",COUNTRY_INFO!A113))","v":"Ghana"},{"$f":"IF(AND(INTRO!$E$37=\"Non-endemic\",INTRO!$E$41=\"Non-endemic\"),\" \",IF(COUNTRY_INFO!B113=0,\" \",COUNTRY_INFO!B113))","v":"Eastern"},{"$f":"IF(AND(INTRO!$E$37=\"Non-endemic\",INTRO!$E$41=\"Non-endemic\"),\" \",IF(COUNTRY_INFO!C113=0,\" \",COUNTRY_INFO!C113))","v":"Atiwa West"},{"$f":"IF(AND(INTRO!$E$37=\"Non-endemic\",INTRO!$E$41=\"Non-endemic\"),0,COUNTRY_INFO!V113)","v":0},{"$f":"IF(AND(INTRO!$E$37=\"Non-endemic\",INTRO!$E$41=\"Non-endemic\"),0,COUNTRY_INFO!X113)","v":0},{"$f":"IF(INTRO!$E$39=\"Non-endemic\",IF($D113=1,DEC!I113,0),IF($D113=1,IVM!G113,0))","v":0},null,{"$f":"IF(OR(COUNTRY_INFO!N113=\"Unknown\",COUNTRY_INFO!N113=\"Surveillance\",COUNTRY_INFO!N113=\"Not required\",COUNTRY_INFO!N113=0),0,IF(INTRO!$E$39=\"Non-endemic\",IF(AND($E113<>0,$G113=\"\"),IF($F113=0,COUNTRY_INFO!N113*$E113,COUNTRY_INFO!N113*($E113-$D113)),IF(AND($E113<>0,$G113<>0),IF($F113=0,COUNTRY_INFO!N113*$G113,COUNTRY_INFO!N113*($G113-$D113)),0)),IF($G113=\"\",COUNTRY_INFO!N113*$E113,COUNTRY_INFO!N113*$G113)))","v":0},{"$f":"IF(OR(COUNTRY_INFO!O113=\"Unknown\",COUNTRY_INFO!O113=\"Surveillance\",COUNTRY_INFO!O113=\"Not required\",COUNTRY_INFO!O113=0),0,IF($E113<>0, IF($F113=0,COUNTRY_INFO!O113*$E113,COUNTRY_INFO!O113*($E113-$D113)),COUNTRY_INFO!O113*$E113))","v":0},null,{"$f":"IF(OR(COUNTRY_INFO!P113=\"Unknown\",COUNTRY_INFO!P113=\"Surveillance\",COUNTRY_INFO!P113=\"Not required\",COUNTRY_INFO!P113=0),0,IF(AND($E113<>0,$J113=\"\"),IF($F113=0,COUNTRY_INFO!P113*$E113,COUNTRY_INFO!P113*($E113-$D113)), IF(AND($E113<>0,$J113<>0),IF($F113=0,COUNTRY_INFO!P113*$J113,COUNTRY_INFO!P113*($J113-$D113)), COUNTRY_INFO!P113*$J113)))","v":0},0,0,null,0,0,null,0,0,null,0]
[{"$f":"IF(AND(INTRO!$E$37=\"Non-endemic\",INTRO!$E$41=\"Non-endemic\"),\" \",IF(COUNTRY_INFO!A114=0,\" \",COUNTRY_INFO!A114))","v":"Ghana"},{"$f":"IF(AND(INTRO!$E$37=\"Non-endemic\",INTRO!$E$41=\"Non-endemic\"),\" \",IF(COUNTRY_INFO!B114=0,\" \",COUNTRY_INFO!B114))","v":"Eastern"},{"$f":"IF(AND(INTRO!$E$37=\"Non-endemic\",INTRO!$E$41=\"Non-endemic\"),\" \",IF(COUNTRY_INFO!C114=0,\" \",COUNTRY_INFO!C114))","v":"Ayensuano"},{"$f":"IF(AND(INTRO!$E$37=\"Non-endemic\",INTRO!$E$41=\"Non-endemic\"),0,COUNTRY_INFO!V114)","v":0},{"$f":"IF(AND(INTRO!$E$37=\"Non-endemic\",INTRO!$E$41=\"Non-endemic\"),0,COUNTRY_INFO!X114)","v":0},{"$f":"IF(INTRO!$E$39=\"Non-endemic\",IF($D114=1,DEC!I114,0),IF($D114=1,IVM!G114,0))","v":0},null,{"$f":"IF(OR(COUNTRY_INFO!N114=\"Unknown\",COUNTRY_INFO!N114=\"Surveillance\",COUNTRY_INFO!N114=\"Not required\",COUNTRY_INFO!N114=0),0,IF(INTRO!$E$39=\"Non-endemic\",IF(AND($E114<>0,$G114=\"\"),IF($F114=0,COUNTRY_INFO!N114*$E114,COUNTRY_INFO!N114*($E114-$D114)),IF(AND($E114<>0,$G114<>0),IF($F114=0,COUNTRY_INFO!N114*$G114,COUNTRY_INFO!N114*($G114-$D114)),0)),IF($G114=\"\",COUNTRY_INFO!N114*$E114,COUNTRY_INFO!N114*$G114)))","v":0},{"$f":"IF(OR(COUNTRY_INFO!O114=\"Unknown\",COUNTRY_INFO!O114=\"Surveillance\",COUNTRY_INFO!O114=\"Not required\",COUNTRY_INFO!O114=0),0,IF($E114<>0, IF($F114=0,COUNTRY_INFO!O114*$E114,COUNTRY_INFO!O114*($E114-$D114)),COUNTRY_INFO!O114*$E114))","v":0},null,{"$f":"IF(OR(COUNTRY_INFO!P114=\"Unknown\",COUNTRY_INFO!P114=\"Surveillance\",COUNTRY_INFO!P114=\"Not required\",COUNTRY_INFO!P114=0),0,IF(AND($E114<>0,$J114=\"\"),IF($F114=0,COUNTRY_INFO!P114*$E114,COUNTRY_INFO!P114*($E114-$D114)), IF(AND($E114<>0,$J114<>0),IF($F114=0,COUNTRY_INFO!P114*$J114,COUNTRY_INFO!P114*($J114-$D114)), COUNTRY_INFO!P114*$J114)))","v":0},0,0,null,0,0,null,0,0,null,0]
[{"$f":"IF(AND(INTRO!$E$37=\"Non-endemic\",INTRO!$E$41=\"Non-endemic\"),\" \",IF(COUNTRY_INFO!A115=0,\" \",COUNTRY_INFO!A115))","v":"Ghana"},{"$f":"IF(AND(INTRO!$E$37=\"Non-endemic\",INTRO!$E$41=\"Non-endemic\"),\" \",IF(COUNTRY_INFO!B115=0,\" \",COUNTRY_INFO!B115))","v":"Eastern"},{"$f":"IF(AND(INTRO!$E$37=\"Non-endemic\",INTRO!$E$41=\"Non-endemic\"),\" \",IF(COUNTRY_INFO!C115=0,\" \",COUNTRY_INFO!C115))","v":"Birim Central"},{"$f":"IF(AND(INTRO!$E$37=\"Non-endemic\",INTRO!$E$41=\"Non-endemic\"),0,COUNTRY_INFO!V115)","v":0},{"$f":"IF(AND(INTRO!$E$37=\"Non-endemic\",INTRO!$E$41=\"Non-endemic\"),0,COUNTRY_INFO!X115)","v":0},{"$f":"IF(INTRO!$E$39=\"Non-endemic\",IF($D115=1,DEC!I115,0),IF($D115=1,IVM!G115,0))","v":0},null,{"$f":"IF(OR(COUNTRY_INFO!N115=\"Unknown\",COUNTRY_INFO!N115=\"Surveillance\",COUNTRY_INFO!N115=\"Not required\",COUNTRY_INFO!N115=0),0,IF(INTRO!$E$39=\"Non-endemic\",IF(AND($E115<>0,$G115=\"\"),IF($F115=0,COUNTRY_INFO!N115*$E115,COUNTRY_INFO!N115*($E115-$D115)),IF(AND($E115<>0,$G115<>0),IF($F115=0,COUNTRY_INFO!N115*$G115,COUNTRY_INFO!N115*($G115-$D115)),0)),IF($G115=\"\",COUNTRY_INFO!N115*$E115,COUNTRY_INFO!N115*$G115)))","v":0},{"$f":"IF(OR(COUNTRY_INFO!O115=\"Unknown\",COUNTRY_INFO!O115=\"Surveillance\",COUNTRY_INFO!O115=\"Not required\",COUNTRY_INFO!O115=0),0,IF($E115<>0, IF($F115=0,COUNTRY_INFO!O115*$E115,COUNTRY_INFO!O115*($E115-$D115)),COUNTRY_INFO!O115*$E115))","v":0},null,{"$f":"IF(OR(COUNTRY_INFO!P115=\"Unknown\",COUNTRY_INFO!P115=\"Surveillance\",COUNTRY_INFO!P115=\"Not required\",COUNTRY_INFO!P115=0),0,IF(AND($E115<>0,$J115=\"\"),IF($F115=0,COUNTRY_INFO!P115*$E115,COUNTRY_INFO!P115*($E115-$D115)), IF(AND($E115<>0,$J115<>0),IF($F115=0,COUNTRY_INFO!P115*$J115,COUNTRY_INFO!P115*($J115-$D115)), COUNTRY_INFO!P115*$J115)))","v":0},0,0,null,0,0,null,0,0,null,0]
[{"$f":"IF(AND(INTRO!$E$37=\"Non-endemic\",INTRO!$E$41=\"Non-endemic\"),\" \",IF(COUNTRY_INFO!A116=0,\" \",COUNTRY_INFO!A116))","v":"Ghana"},{"$f":"IF(AND(INTRO!$E$37=\"Non-endemic\",INTRO!$E$41=\"Non-endemic\"),\" \",IF(COUNTRY_INFO!B116=0,\" \",COUNTRY_INFO!B116))","v":"Eastern"},{"$f":"IF(AND(INTRO!$E$37=\"Non-endemic\",INTRO!$E$41=\"Non-endemic\"),\" \",IF(COUNTRY_INFO!C116=0,\" \",COUNTRY_INFO!C116))","v":"Birim North"},{"$f":"IF(AND(INTRO!$E$37=\"Non-endemic\",INTRO!$E$41=\"Non-endemic\"),0,COUNTRY_INFO!V116)","v":0},{"$f":"IF(AND(INTRO!$E$37=\"Non-endemic\",INTRO!$E$41=\"Non-endemic\"),0,COUNTRY_INFO!X116)","v":0},{"$f":"IF(INTRO!$E$39=\"Non-endemic\",IF($D116=1,DEC!I116,0),IF($D116=1,IVM!G116,0))","v":0},null,{"$f":"IF(OR(COUNTRY_INFO!N116=\"Unknown\",COUNTRY_INFO!N116=\"Surveillance\",COUNTRY_INFO!N116=\"Not required\",COUNTRY_INFO!N116=0),0,IF(INTRO!$E$39=\"Non-endemic\",IF(AND($E116<>0,$G116=\"\"),IF($F116=0,COUNTRY_INFO!N116*$E116,COUNTRY_INFO!N116*($E116-$D116)),IF(AND($E116<>0,$G116<>0),IF($F116=0,COUNTRY_INFO!N116*$G116,COUNTRY_INFO!N116*($G116-$D116)),0)),IF($G116=\"\",COUNTRY_INFO!N116*$E116,COUNTRY_INFO!N116*$G116)))","v":0},{"$f":"IF(OR(COUNTRY_INFO!O116=\"Unknown\",COUNTRY_INFO!O116=\"Surveillance\",COUNTRY_INFO!O116=\"Not required\",COUNTRY_INFO!O116=0),0,IF($E116<>0, IF($F116=0,COUNTRY_INFO!O116*$E116,COUNTRY_INFO!O116*($E116-$D116)),COUNTRY_INFO!O116*$E116))","v":0},null,{"$f":"IF(OR(COUNTRY_INFO!P116=\"Unknown\",COUNTRY_INFO!P116=\"Surveillance\",COUNTRY_INFO!P116=\"Not required\",COUNTRY_INFO!P116=0),0,IF(AND($E116<>0,$J116=\"\"),IF($F116=0,COUNTRY_INFO!P116*$E116,COUNTRY_INFO!P116*($E116-$D116)), IF(AND($E116<>0,$J116<>0),IF($F116=0,COUNTRY_INFO!P116*$J116,COUNTRY_INFO!P116*($J116-$D116)), COUNTRY_INFO!P116*$J116)))","v":0},0,0,null,0,0,null,0,0,null,0]
[{"$f":"IF(AND(INTRO!$E$37=\"Non-endemic\",INTRO!$E$41=\"Non-endemic\"),\" \",IF(COUNTRY_INFO!A117=0,\" \",COUNTRY_INFO!A117))","v":"Ghana"},{"$f":"IF(AND(INTRO!$E$37=\"Non-endemic\",INTRO!$E$41=\"Non-endemic\"),\" \",IF(COUNTRY_INFO!B117=0,\" \",COUNTRY_INFO!B117))","v":"Eastern"},{"$f":"IF(AND(INTRO!$E$37=\"Non-endemic\",INTRO!$E$41=\"Non-endemic\"),\" \",IF(COUNTRY_INFO!C117=0,\" \",COUNTRY_INFO!C117))","v":"Birim South"},{"$f":"IF(AND(INTRO!$E$37=\"Non-endemic\",INTRO!$E$41=\"Non-endemic\"),0,COUNTRY_INFO!V117)","v":0},{"$f":"IF(AND(INTRO!$E$37=\"Non-endemic\",INTRO!$E$41=\"Non-endemic\"),0,COUNTRY_INFO!X117)","v":0},{"$f":"IF(INTRO!$E$39=\"Non-endemic\",IF($D117=1,DEC!I117,0),IF($D117=1,IVM!G117,0))","v":0},null,{"$f":"IF(OR(COUNTRY_INFO!N117=\"Unknown\",COUNTRY_INFO!N117=\"Surveillance\",COUNTRY_INFO!N117=\"Not required\",COUNTRY_INFO!N117=0),0,IF(INTRO!$E$39=\"Non-endemic\",IF(AND($E117<>0,$G117=\"\"),IF($F117=0,COUNTRY_INFO!N117*$E117,COUNTRY_INFO!N117*($E117-$D117)),IF(AND($E117<>0,$G117<>0),IF($F117=0,COUNTRY_INFO!N117*$G117,COUNTRY_INFO!N117*($G117-$D117)),0)),IF($G117=\"\",COUNTRY_INFO!N117*$E117,COUNTRY_INFO!N117*$G117)))","v":0},{"$f":"IF(OR(COUNTRY_INFO!O117=\"Unknown\",COUNTRY_INFO!O117=\"Surveillance\",COUNTRY_INFO!O117=\"Not required\",COUNTRY_INFO!O117=0),0,IF($E117<>0, IF($F117=0,COUNTRY_INFO!O117*$E117,COUNTRY_INFO!O117*($E117-$D117)),COUNTRY_INFO!O117*$E117))","v":0},null,{"$f":"IF(OR(COUNTRY_INFO!P117=\"Unknown\",COUNTRY_INFO!P117=\"Surveillance\",COUNTRY_INFO!P117=\"Not required\",COUNTRY_INFO!P117=0),0,IF(AND($E117<>0,$J117=\"\"),IF($F117=0,COUNTRY_INFO!P117*$E117,COUNTRY_INFO!P117*($E117-$D117)), IF(AND($E117<>0,$J117<>0),IF($F117=0,COUNTRY_INFO!P117*$J117,COUNTRY_INFO!P117*($J117-$D117)), COUNTRY_INFO!P117*$J117)))","v":0},0,0,null,0,0,null,0,0,null,0]
[{"$f":"IF(AND(INTRO!$E$37=\"Non-endemic\",INTRO!$E$41=\"Non-endemic\"),\" \",IF(COUNTRY_INFO!A118=0,\" \",COUNTRY_INFO!A118))","v":"Ghana"},{"$f":"IF(AND(INTRO!$E$37=\"Non-endemic\",INTRO!$E$41=\"Non-endemic\"),\" \",IF(COUNTRY_INFO!B118=0,\" \",COUNTRY_INFO!B118))","v":"Eastern"},{"$f":"IF(AND(INTRO!$E$37=\"Non-endemic\",INTRO!$E$41=\"Non-endemic\"),\" \",IF(COUNTRY_INFO!C118=0,\" \",COUNTRY_INFO!C118))","v":"Denkyembour"},{"$f":"IF(AND(INTRO!$E$37=\"Non-endemic\",INTRO!$E$41=\"Non-endemic\"),0,COUNTRY_INFO!V118)","v":0},{"$f":"IF(AND(INTRO!$E$37=\"Non-endemic\",INTRO!$E$41=\"Non-endemic\"),0,COUNTRY_INFO!X118)","v":0},{"$f":"IF(INTRO!$E$39=\"Non-endemic\",IF($D118=1,DEC!I118,0),IF($D118=1,IVM!G118,0))","v":0},null,{"$f":"IF(OR(COUNTRY_INFO!N118=\"Unknown\",COUNTRY_INFO!N118=\"Surveillance\",COUNTRY_INFO!N118=\"Not required\",COUNTRY_INFO!N118=0),0,IF(INTRO!$E$39=\"Non-endemic\",IF(AND($E118<>0,$G118=\"\"),IF($F118=0,COUNTRY_INFO!N118*$E118,COUNTRY_INFO!N118*($E118-$D118)),IF(AND($E118<>0,$G118<>0),IF($F118=0,COUNTRY_INFO!N118*$G118,COUNTRY_INFO!N118*($G118-$D118)),0)),IF($G118=\"\",COUNTRY_INFO!N118*$E118,COUNTRY_INFO!N118*$G118)))","v":0},{"$f":"IF(OR(COUNTRY_INFO!O118=\"Unknown\",COUNTRY_INFO!O118=\"Surveillance\",COUNTRY_INFO!O118=\"Not required\",COUNTRY_INFO!O118=0),0,IF($E118<>0, IF($F118=0,COUNTRY_INFO!O118*$E118,COUNTRY_INFO!O118*($E118-$D118)),COUNTRY_INFO!O118*$E118))","v":0},null,{"$f":"IF(OR(COUNTRY_INFO!P118=\"Unknown\",COUNTRY_INFO!P118=\"Surveillance\",COUNTRY_INFO!P118=\"Not required\",COUNTRY_INFO!P118=0),0,IF(AND($E118<>0,$J118=\"\"),IF($F118=0,COUNTRY_INFO!P118*$E118,COUNTRY_INFO!P118*($E118-$D118)), IF(AND($E118<>0,$J118<>0),IF($F118=0,COUNTRY_INFO!P118*$J118,COUNTRY_INFO!P118*($J118-$D118)), COUNTRY_INFO!P118*$J118)))","v":0},0,0,null,0,0,null,0,0,null,0]
[{"$f":"IF(AND(INTRO!$E$37=\"Non-endemic\",INTRO!$E$41=\"Non-endemic\"),\" \",IF(COUNTRY_INFO!A119=0,\" \",COUNTRY_INFO!A119))","v":"Ghana"},{"$f":"IF(AND(INTRO!$E$37=\"Non-endemic\",INTRO!$E$41=\"Non-endemic\"),\" \",IF(COUNTRY_INFO!B119=0,\" \",COUNTRY_INFO!B119))","v":"Eastern"},{"$f":"IF(AND(INTRO!$E$37=\"Non-endemic\",INTRO!$E$41=\"Non-endemic\"),\" \",IF(COUNTRY_INFO!C119=0,\" \",COUNTRY_INFO!C119))","v":"Fanteakwa North"},{"$f":"IF(AND(INTRO!$E$37=\"Non-endemic\",INTRO!$E$41=\"Non-endemic\"),0,COUNTRY_INFO!V119)","v":0},{"$f":"IF(AND(INTRO!$E$37=\"Non-endemic\",INTRO!$E$41=\"Non-endemic\"),0,COUNTRY_INFO!X119)","v":0},{"$f":"IF(INTRO!$E$39=\"Non-endemic\",IF($D119=1,DEC!I119,0),IF($D119=1,IVM!G119,0))","v":0},null,{"$f":"IF(OR(COUNTRY_INFO!N119=\"Unknown\",COUNTRY_INFO!N119=\"Surveillance\",COUNTRY_INFO!N119=\"Not required\",COUNTRY_INFO!N119=0),0,IF(INTRO!$E$39=\"Non-endemic\",IF(AND($E119<>0,$G119=\"\"),IF($F119=0,COUNTRY_INFO!N119*$E119,COUNTRY_INFO!N119*($E119-$D119)),IF(AND($E119<>0,$G119<>0),IF($F119=0,COUNTRY_INFO!N119*$G119,COUNTRY_INFO!N119*($G119-$D119)),0)),IF($G119=\"\",COUNTRY_INFO!N119*$E119,COUNTRY_INFO!N119*$G119)))","v":0},{"$f":"IF(OR(COUNTRY_INFO!O119=\"Unknown\",COUNTRY_INFO!O119=\"Surveillance\",COUNTRY_INFO!O119=\"Not required\",COUNTRY_INFO!O119=0),0,IF($E119<>0, IF($F119=0,COUNTRY_INFO!O119*$E119,COUNTRY_INFO!O119*($E119-$D119)),COUNTRY_INFO!O119*$E119))","v":0},null,{"$f":"IF(OR(COUNTRY_INFO!P119=\"Unknown\",COUNTRY_INFO!P119=\"Surveillance\",COUNTRY_INFO!P119=\"Not required\",COUNTRY_INFO!P119=0),0,IF(AND($E119<>0,$J119=\"\"),IF($F119=0,COUNTRY_INFO!P119*$E119,COUNTRY_INFO!P119*($E119-$D119)), IF(AND($E119<>0,$J119<>0),IF($F119=0,COUNTRY_INFO!P119*$J119,COUNTRY_INFO!P119*($J119-$D119)), COUNTRY_INFO!P119*$J119)))","v":0},0,0,null,0,0,null,0,0,null,0]
[{"$f":"IF(AND(INTRO!$E$37=\"Non-endemic\",INTRO!$E$41=\"Non-endemic\"),\" \",IF(COUNTRY_INFO!A120=0,\" \",COUNTRY_INFO!A120))","v":"Ghana"},{"$f":"IF(AND(INTRO!$E$37=\"Non-endemic\",INTRO!$E$41=\"Non-endemic\"),\" \",IF(COUNTRY_INFO!B120=0,\" \",COUNTRY_INFO!B120))","v":"Eastern"},{"$f":"IF(AND(INTRO!$E$37=\"Non-endemic\",INTRO!$E$41=\"Non-endemic\"),\" \",IF(COUNTRY_INFO!C120=0,\" \",COUNTRY_INFO!C120))","v":"Fanteakwa South"},{"$f":"IF(AND(INTRO!$E$37=\"Non-endemic\",INTRO!$E$41=\"Non-endemic\"),0,COUNTRY_INFO!V120)","v":0},{"$f":"IF(AND(INTRO!$E$37=\"Non-endemic\",INTRO!$E$41=\"Non-endemic\"),0,COUNTRY_INFO!X120)","v":0},{"$f":"IF(INTRO!$E$39=\"Non-endemic\",IF($D120=1,DEC!I120,0),IF($D120=1,IVM!G120,0))","v":0},null,{"$f":"IF(OR(COUNTRY_INFO!N120=\"Unknown\",COUNTRY_INFO!N120=\"Surveillance\",COUNTRY_INFO!N120=\"Not required\",COUNTRY_INFO!N120=0),0,IF(INTRO!$E$39=\"Non-endemic\",IF(AND($E120<>0,$G120=\"\"),IF($F120=0,COUNTRY_INFO!N120*$E120,COUNTRY_INFO!N120*($E120-$D120)),IF(AND($E120<>0,$G120<>0),IF($F120=0,COUNTRY_INFO!N120*$G120,COUNTRY_INFO!N120*($G120-$D120)),0)),IF($G120=\"\",COUNTRY_INFO!N120*$E120,COUNTRY_INFO!N120*$G120)))","v":0},{"$f":"IF(OR(COUNTRY_INFO!O120=\"Unknown\",COUNTRY_INFO!O120=\"Surveillance\",COUNTRY_INFO!O120=\"Not required\",COUNTRY_INFO!O120=0),0,IF($E120<>0, IF($F120=0,COUNTRY_INFO!O120*$E120,COUNTRY_INFO!O120*($E120-$D120)),COUNTRY_INFO!O120*$E120))","v":0},null,{"$f":"IF(OR(COUNTRY_INFO!P120=\"Unknown\",COUNTRY_INFO!P120=\"Surveillance\",COUNTRY_INFO!P120=\"Not required\",COUNTRY_INFO!P120=0),0,IF(AND($E120<>0,$J120=\"\"),IF($F120=0,COUNTRY_INFO!P120*$E120,COUNTRY_INFO!P120*($E120-$D120)), IF(AND($E120<>0,$J120<>0),IF($F120=0,COUNTRY_INFO!P120*$J120,COUNTRY_INFO!P120*($J120-$D120)), COUNTRY_INFO!P120*$J120)))","v":0},0,0,null,0,0,null,0,0,null,0]
[{"$f":"IF(AND(INTRO!$E$37=\"Non-endemic\",INTRO!$E$41=\"Non-endemic\"),\" \",IF(COUNTRY_INFO!A121=0,\" \",COUNTRY_INFO!A121))","v":"Ghana"},{"$f":"IF(AND(INTRO!$E$37=\"Non-endemic\",INTRO!$E$41=\"Non-endemic\"),\" \",IF(COUNTRY_INFO!B121=0,\" \",COUNTRY_INFO!B121))","v":"Eastern"},{"$f":"IF(AND(INTRO!$E$37=\"Non-endemic\",INTRO!$E$41=\"Non-endemic\"),\" \",IF(COUNTRY_INFO!C121=0,\" \",COUNTRY_INFO!C121))","v":"Kwaebibirem"},{"$f":"IF(AND(INTRO!$E$37=\"Non-endemic\",INTRO!$E$41=\"Non-endemic\"),0,COUNTRY_INFO!V121)","v":0},{"$f":"IF(AND(INTRO!$E$37=\"Non-endemic\",INTRO!$E$41=\"Non-endemic\"),0,COUNTRY_INFO!X121)","v":0},{"$f":"IF(INTRO!$E$39=\"Non-endemic\",IF($D121=1,DEC!I121,0),IF($D121=1,IVM!G121,0))","v":0},null,{"$f":"IF(OR(COUNTRY_INFO!N121=\"Unknown\",COUNTRY_INFO!N121=\"Surveillance\",COUNTRY_INFO!N121=\"Not required\",COUNTRY_INFO!N121=0),0,IF(INTRO!$E$39=\"Non-endemic\",IF(AND($E121<>0,$G121=\"\"),IF($F121=0,COUNTRY_INFO!N121*$E121,COUNTRY_INFO!N121*($E121-$D121)),IF(AND($E121<>0,$G121<>0),IF($F121=0,COUNTRY_INFO!N121*$G121,COUNTRY_INFO!N121*($G121-$D121)),0)),IF($G121=\"\",COUNTRY_INFO!N121*$E121,COUNTRY_INFO!N121*$G121)))","v":0},{"$f":"IF(OR(COUNTRY_INFO!O121=\"Unknown\",COUNTRY_INFO!O121=\"Surveillance\",COUNTRY_INFO!O121=\"Not required\",COUNTRY_INFO!O121=0),0,IF($E121<>0, IF($F121=0,COUNTRY_INFO!O121*$E121,COUNTRY_INFO!O121*($E121-$D121)),COUNTRY_INFO!O121*$E121))","v":0},null,{"$f":"IF(OR(COUNTRY_INFO!P121=\"Unknown\",COUNTRY_INFO!P121=\"Surveillance\",COUNTRY_INFO!P121=\"Not required\",COUNTRY_INFO!P121=0),0,IF(AND($E121<>0,$J121=\"\"),IF($F121=0,COUNTRY_INFO!P121*$E121,COUNTRY_INFO!P121*($E121-$D121)), IF(AND($E121<>0,$J121<>0),IF($F121=0,COUNTRY_INFO!P121*$J121,COUNTRY_INFO!P121*($J121-$D121)), COUNTRY_INFO!P121*$J121)))","v":0},0,0,null,0,0,null,0,0,null,0]
[{"$f":"IF(AND(INTRO!$E$37=\"Non-endemic\",INTRO!$E$41=\"Non-endemic\"),\" \",IF(COUNTRY_INFO!A122=0,\" \",COUNTRY_INFO!A122))","v":"Ghana"},{"$f":"IF(AND(INTRO!$E$37=\"Non-endemic\",INTRO!$E$41=\"Non-endemic\"),\" \",IF(COUNTRY_INFO!B122=0,\" \",COUNTRY_INFO!B122))","v":"Eastern"},{"$f":"IF(AND(INTRO!$E$37=\"Non-endemic\",INTRO!$E$41=\"Non-endemic\"),\" \",IF(COUNTRY_INFO!C122=0,\" \",COUNTRY_INFO!C122))","v":"Kwahu Afram Plains North"},{"$f":"IF(AND(INTRO!$E$37=\"Non-endemic\",INTRO!$E$41=\"Non-endemic\"),0,COUNTRY_INFO!V122)","v":0},{"$f":"IF(AND(INTRO!$E$37=\"Non-endemic\",INTRO!$E$41=\"Non-endemic\"),0,COUNTRY_INFO!X122)","v":0},{"$f":"IF(INTRO!$E$39=\"Non-endemic\",IF($D122=1,DEC!I122,0),IF($D122=1,IVM!G122,0))","v":0},null,{"$f":"IF(OR(COUNTRY_INFO!N122=\"Unknown\",COUNTRY_INFO!N122=\"Surveillance\",COUNTRY_INFO!N122=\"Not required\",COUNTRY_INFO!N122=0),0,IF(INTRO!$E$39=\"Non-endemic\",IF(AND($E122<>0,$G122=\"\"),IF($F122=0,COUNTRY_INFO!N122*$E122,COUNTRY_INFO!N122*($E122-$D122)),IF(AND($E122<>0,$G122<>0),IF($F122=0,COUNTRY_INFO!N122*$G122,COUNTRY_INFO!N122*($G122-$D122)),0)),IF($G122=\"\",COUNTRY_INFO!N122*$E122,COUNTRY_INFO!N122*$G122)))","v":0},{"$f":"IF(OR(COUNTRY_INFO!O122=\"Unknown\",COUNTRY_INFO!O122=\"Surveillance\",COUNTRY_INFO!O122=\"Not required\",COUNTRY_INFO!O122=0),0,IF($E122<>0, IF($F122=0,COUNTRY_INFO!O122*$E122,COUNTRY_INFO!O122*($E122-$D122)),COUNTRY_INFO!O122*$E122))","v":0},null,{"$f":"IF(OR(COUNTRY_INFO!P122=\"Unknown\",COUNTRY_INFO!P122=\"Surveillance\",COUNTRY_INFO!P122=\"Not required\",COUNTRY_INFO!P122=0),0,IF(AND($E122<>0,$J122=\"\"),IF($F122=0,COUNTRY_INFO!P122*$E122,COUNTRY_INFO!P122*($E122-$D122)), IF(AND($E122<>0,$J122<>0),IF($F122=0,COUNTRY_INFO!P122*$J122,COUNTRY_INFO!P122*($J122-$D122)), COUNTRY_INFO!P122*$J122)))","v":0},0,0,null,0,0,null,0,0,null,0]
[{"$f":"IF(AND(INTRO!$E$37=\"Non-endemic\",INTRO!$E$41=\"Non-endemic\"),\" \",IF(COUNTRY_INFO!A123=0,\" \",COUNTRY_INFO!A123))","v":"Ghana"},{"$f":"IF(AND(INTRO!$E$37=\"Non-endemic\",INTRO!$E$41=\"Non-endemic\"),\" \",IF(COUNTRY_INFO!B123=0,\" \",COUNTRY_INFO!B123))","v":"Eastern"},{"$f":"IF(AND(INTRO!$E$37=\"Non-endemic\",INTRO!$E$41=\"Non-endemic\"),\" \",IF(COUNTRY_INFO!C123=0,\" \",COUNTRY_INFO!C123))","v":"Kwahu Afram Plains South"},{"$f":"IF(AND(INTRO!$E$37=\"Non-endemic\",INTRO!$E$41=\"Non-endemic\"),0,COUNTRY_INFO!V123)","v":0},{"$f":"IF(AND(INTRO!$E$37=\"Non-endemic\",INTRO!$E$41=\"Non-endemic\"),0,COUNTRY_INFO!X123)","v":0},{"$f":"IF(INTRO!$E$39=\"Non-endemic\",IF($D123=1,DEC!I123,0),IF($D123=1,IVM!G123,0))","v":0},null,{"$f":"IF(OR(COUNTRY_INFO!N123=\"Unknown\",COUNTRY_INFO!N123=\"Surveillance\",COUNTRY_INFO!N123=\"Not required\",COUNTRY_INFO!N123=0),0,IF(INTRO!$E$39=\"Non-endemic\",IF(AND($E123<>0,$G123=\"\"),IF($F123=0,COUNTRY_INFO!N123*$E123,COUNTRY_INFO!N123*($E123-$D123)),IF(AND($E123<>0,$G123<>0),IF($F123=0,COUNTRY_INFO!N123*$G123,COUNTRY_INFO!N123*($G123-$D123)),0)),IF($G123=\"\",COUNTRY_INFO!N123*$E123,COUNTRY_INFO!N123*$G123)))","v":0},{"$f":"IF(OR(COUNTRY_INFO!O123=\"Unknown\",COUNTRY_INFO!O123=\"Surveillance\",COUNTRY_INFO!O123=\"Not required\",COUNTRY_INFO!O123=0),0,IF($E123<>0, IF($F123=0,COUNTRY_INFO!O123*$E123,COUNTRY_INFO!O123*($E123-$D123)),COUNTRY_INFO!O123*$E123))","v":0},null,{"$f":"IF(OR(COUNTRY_INFO!P123=\"Unknown\",COUNTRY_INFO!P123=\"Surveillance\",COUNTRY_INFO!P123=\"Not required\",COUNTRY_INFO!P123=0),0,IF(AND($E123<>0,$J123=\"\"),IF($F123=0,COUNTRY_INFO!P123*$E123,COUNTRY_INFO!P123*($E123-$D123)), IF(AND($E123<>0,$J123<>0),IF($F123=0,COUNTRY_INFO!P123*$J123,COUNTRY_INFO!P123*($J123-$D123)), COUNTRY_INFO!P123*$J123)))","v":0},0,0,null,0,0,null,0,0,null,0]
[{"$f":"IF(AND(INTRO!$E$37=\"Non-endemic\",INTRO!$E$41=\"Non-endemic\"),\" \",IF(COUNTRY_INFO!A124=0,\" \",COUNTRY_INFO!A124))","v":"Ghana"},{"$f":"IF(AND(INTRO!$E$37=\"Non-endemic\",INTRO!$E$41=\"Non-endemic\"),\" \",IF(COUNTRY_INFO!B124=0,\" \",COUNTRY_INFO!B124))","v":"Eastern"},{"$f":"IF(AND(INTRO!$E$37=\"Non-endemic\",INTRO!$E$41=\"Non-endemic\"),\" \",IF(COUNTRY_INFO!C124=0,\" \",COUNTRY_INFO!C124))","v":"Kwahu East"},{"$f":"IF(AND(INTRO!$E$37=\"Non-endemic\",INTRO!$E$41=\"Non-endemic\"),0,COUNTRY_INFO!V124)","v":0},{"$f":"IF(AND(INTRO!$E$37=\"Non-endemic\",INTRO!$E$41=\"Non-endemic\"),0,COUNTRY_INFO!X124)","v":0},{"$f":"IF(INTRO!$E$39=\"Non-endemic\",IF($D124=1,DEC!I124,0),IF($D124=1,IVM!G124,0))","v":0},null,{"$f":"IF(OR(COUNTRY_INFO!N124=\"Unknown\",COUNTRY_INFO!N124=\"Surveillance\",COUNTRY_INFO!N124=\"Not required\",COUNTRY_INFO!N124=0),0,IF(INTRO!$E$39=\"Non-endemic\",IF(AND($E124<>0,$G124=\"\"),IF($F124=0,COUNTRY_INFO!N124*$E124,COUNTRY_INFO!N124*($E124-$D124)),IF(AND($E124<>0,$G124<>0),IF($F124=0,COUNTRY_INFO!N124*$G124,COUNTRY_INFO!N124*($G124-$D124)),0)),IF($G124=\"\",COUNTRY_INFO!N124*$E124,COUNTRY_INFO!N124*$G124)))","v":0},{"$f":"IF(OR(COUNTRY_INFO!O124=\"Unknown\",COUNTRY_INFO!O124=\"Surveillance\",COUNTRY_INFO!O124=\"Not required\",COUNTRY_INFO!O124=0),0,IF($E124<>0, IF($F124=0,COUNTRY_INFO!O124*$E124,COUNTRY_INFO!O124*($E124-$D124)),COUNTRY_INFO!O124*$E124))","v":0},null,{"$f":"IF(OR(COUNTRY_INFO!P124=\"Unknown\",COUNTRY_INFO!P124=\"Surveillance\",COUNTRY_INFO!P124=\"Not required\",COUNTRY_INFO!P124=0),0,IF(AND($E124<>0,$J124=\"\"),IF($F124=0,COUNTRY_INFO!P124*$E124,COUNTRY_INFO!P124*($E124-$D124)), IF(AND($E124<>0,$J124<>0),IF($F124=0,COUNTRY_INFO!P124*$J124,COUNTRY_INFO!P124*($J124-$D124)), COUNTRY_INFO!P124*$J124)))","v":0},0,0,null,0,0,null,0,0,null,0]
[{"$f":"IF(AND(INTRO!$E$37=\"Non-endemic\",INTRO!$E$41=\"Non-endemic\"),\" \",IF(COUNTRY_INFO!A125=0,\" \",COUNTRY_INFO!A125))","v":"Ghana"},{"$f":"IF(AND(INTRO!$E$37=\"Non-endemic\",INTRO!$E$41=\"Non-endemic\"),\" \",IF(COUNTRY_INFO!B125=0,\" \",COUNTRY_INFO!B125))","v":"Eastern"},{"$f":"IF(AND(INTRO!$E$37=\"Non-endemic\",INTRO!$E$41=\"Non-endemic\"),\" \",IF(COUNTRY_INFO!C125=0,\" \",COUNTRY_INFO!C125))","v":"Kwahu South"},{"$f":"IF(AND(INTRO!$E$37=\"Non-endemic\",INTRO!$E$41=\"Non-endemic\"),0,COUNTRY_INFO!V125)","v":0},{"$f":"IF(AND(INTRO!$E$37=\"Non-endemic\",INTRO!$E$41=\"Non-endemic\"),0,COUNTRY_INFO!X125)","v":0},{"$f":"IF(INTRO!$E$39=\"Non-endemic\",IF($D125=1,DEC!I125,0),IF($D125=1,IVM!G125,0))","v":0},null,{"$f":"IF(OR(COUNTRY_INFO!N125=\"Unknown\",COUNTRY_INFO!N125=\"Surveillance\",COUNTRY_INFO!N125=\"Not required\",COUNTRY_INFO!N125=0),0,IF(INTRO!$E$39=\"Non-endemic\",IF(AND($E125<>0,$G125=\"\"),IF($F125=0,COUNTRY_INFO!N125*$E125,COUNTRY_INFO!N125*($E125-$D125)),IF(AND($E125<>0,$G125<>0),IF($F125=0,COUNTRY_INFO!N125*$G125,COUNTRY_INFO!N125*($G125-$D125)),0)),IF($G125=\"\",COUNTRY_INFO!N125*$E125,COUNTRY_INFO!N125*$G125)))","v":0},{"$f":"IF(OR(COUNTRY_INFO!O125=\"Unknown\",COUNTRY_INFO!O125=\"Surveillance\",COUNTRY_INFO!O125=\"Not required\",COUNTRY_INFO!O125=0),0,IF($E125<>0, IF($F125=0,COUNTRY_INFO!O125*$E125,COUNTRY_INFO!O125*($E125-$D125)),COUNTRY_INFO!O125*$E125))","v":0},null,{"$f":"IF(OR(COUNTRY_INFO!P125=\"Unknown\",COUNTRY_INFO!P125=\"Surveillance\",COUNTRY_INFO!P125=\"Not required\",COUNTRY_INFO!P125=0),0,IF(AND($E125<>0,$J125=\"\"),IF($F125=0,COUNTRY_INFO!P125*$E125,COUNTRY_INFO!P125*($E125-$D125)), IF(AND($E125<>0,$J125<>0),IF($F125=0,COUNTRY_INFO!P125*$J125,COUNTRY_INFO!P125*($J125-$D125)), COUNTRY_INFO!P125*$J125)))","v":0},0,0,null,0,0,null,0,0,null,0]
[{"$f":"IF(AND(INTRO!$E$37=\"Non-endemic\",INTRO!$E$41=\"Non-endemic\"),\" \",IF(COUNTRY_INFO!A126=0,\" \",COUNTRY_INFO!A126))","v":"Ghana"},{"$f":"IF(AND(INTRO!$E$37=\"Non-endemic\",INTRO!$E$41=\"Non-endemic\"),\" \",IF(COUNTRY_INFO!B126=0,\" \",COUNTRY_INFO!B126))","v":"Eastern"},{"$f":"IF(AND(INTRO!$E$37=\"Non-endemic\",INTRO!$E$41=\"Non-endemic\"),\" \",IF(COUNTRY_INFO!C126=0,\" \",COUNTRY_INFO!C126))","v":"Kwahu West"},{"$f":"IF(AND(INTRO!$E$37=\"Non-endemic\",INTRO!$E$41=\"Non-endemic\"),0,COUNTRY_INFO!V126)","v":0},{"$f":"IF(AND(INTRO!$E$37=\"Non-endemic\",INTRO!$E$41=\"Non-endemic\"),0,COUNTRY_INFO!X126)","v":0},{"$f":"IF(INTRO!$E$39=\"Non-endemic\",IF($D126=1,DEC!I126,0),IF($D126=1,IVM!G126,0))","v":0},null,{"$f":"IF(OR(COUNTRY_INFO!N126=\"Unknown\",COUNTRY_INFO!N126=\"Surveillance\",COUNTRY_INFO!N126=\"Not required\",COUNTRY_INFO!N126=0),0,IF(INTRO!$E$39=\"Non-endemic\",IF(AND($E126<>0,$G126=\"\"),IF($F126=0,COUNTRY_INFO!N126*$E126,COUNTRY_INFO!N126*($E126-$D126)),IF(AND($E126<>0,$G126<>0),IF($F126=0,COUNTRY_INFO!N126*$G126,COUNTRY_INFO!N126*($G126-$D126)),0)),IF($G126=\"\",COUNTRY_INFO!N126*$E126,COUNTRY_INFO!N126*$G126)))","v":0},{"$f":"IF(OR(COUNTRY_INFO!O126=\"Unknown\",COUNTRY_INFO!O126=\"Surveillance\",COUNTRY_INFO!O126=\"Not required\",COUNTRY_INFO!O126=0),0,IF($E126<>0, IF($F126=0,COUNTRY_INFO!O126*$E126,COUNTRY_INFO!O126*($E126-$D126)),COUNTRY_INFO!O126*$E126))","v":0},null,{"$f":"IF(OR(COUNTRY_INFO!P126=\"Unknown\",COUNTRY_INFO!P126=\"Surveillance\",COUNTRY_INFO!P126=\"Not required\",COUNTRY_INFO!P126=0),0,IF(AND($E126<>0,$J126=\"\"),IF($F126=0,COUNTRY_INFO!P126*$E126,COUNTRY_INFO!P126*($E126-$D126)), IF(AND($E126<>0,$J126<>0),IF($F126=0,COUNTRY_INFO!P126*$J126,COUNTRY_INFO!P126*($J126-$D126)), COUNTRY_INFO!P126*$J126)))","v":0},0,0,null,0,0,null,0,0,null,0]
[{"$f":"IF(AND(INTRO!$E$37=\"Non-endemic\",INTRO!$E$41=\"Non-endemic\"),\" \",IF(COUNTRY_INFO!A127=0,\" \",COUNTRY_INFO!A127))","v":"Ghana"},{"$f":"IF(AND(INTRO!$E$37=\"Non-endemic\",INTRO!$E$41=\"Non-endemic\"),\" \",IF(COUNTRY_INFO!B127=0,\" \",COUNTRY_INFO!B127))","v":"Eastern"},{"$f":"IF(AND(INTRO!$E$37=\"Non-endemic\",INTRO!$E$41=\"Non-endemic\"),\" \",IF(COUNTRY_INFO!C127=0,\" \",COUNTRY_INFO!C127))","v":"Lower Manya-Krobo"},{"$f":"IF(AND(INTRO!$E$37=\"Non-endemic\",INTRO!$E$41=\"Non-endemic\"),0,COUNTRY_INFO!V127)","v":0},{"$f":"IF(AND(INTRO!$E$37=\"Non-endemic\",INTRO!$E$41=\"Non-endemic\"),0,COUNTRY_INFO!X127)","v":0},{"$f":"IF(INTRO!$E$39=\"Non-endemic\",IF($D127=1,DEC!I127,0),IF($D127=1,IVM!G127,0))","v":0},null,{"$f":"IF(OR(COUNTRY_INFO!N127=\"Unknown\",COUNTRY_INFO!N127=\"Surveillance\",COUNTRY_INFO!N127=\"Not required\",COUNTRY_INFO!N127=0),0,IF(INTRO!$E$39=\"Non-endemic\",IF(AND($E127<>0,$G127=\"\"),IF($F127=0,COUNTRY_INFO!N127*$E127,COUNTRY_INFO!N127*($E127-$D127)),IF(AND($E127<>0,$G127<>0),IF($F127=0,COUNTRY_INFO!N127*$G127,COUNTRY_INFO!N127*($G127-$D127)),0)),IF($G127=\"\",COUNTRY_INFO!N127*$E127,COUNTRY_INFO!N127*$G127)))","v":0},{"$f":"IF(OR(COUNTRY_INFO!O127=\"Unknown\",COUNTRY_INFO!O127=\"Surveillance\",COUNTRY_INFO!O127=\"Not required\",COUNTRY_INFO!O127=0),0,IF($E127<>0, IF($F127=0,COUNTRY_INFO!O127*$E127,COUNTRY_INFO!O127*($E127-$D127)),COUNTRY_INFO!O127*$E127))","v":0},null,{"$f":"IF(OR(COUNTRY_INFO!P127=\"Unknown\",COUNTRY_INFO!P127=\"Surveillance\",COUNTRY_INFO!P127=\"Not required\",COUNTRY_INFO!P127=0),0,IF(AND($E127<>0,$J127=\"\"),IF($F127=0,COUNTRY_INFO!P127*$E127,COUNTRY_INFO!P127*($E127-$D127)), IF(AND($E127<>0,$J127<>0),IF($F127=0,COUNTRY_INFO!P127*$J127,COUNTRY_INFO!P127*($J127-$D127)), COUNTRY_INFO!P127*$J127)))","v":0},0,0,null,0,0,null,0,0,null,0]
[{"$f":"IF(AND(INTRO!$E$37=\"Non-endemic\",INTRO!$E$41=\"Non-endemic\"),\" \",IF(COUNTRY_INFO!A128=0,\" \",COUNTRY_INFO!A128))","v":"Ghana"},{"$f":"IF(AND(INTRO!$E$37=\"Non-endemic\",INTRO!$E$41=\"Non-endemic\"),\" \",IF(COUNTRY_INFO!B128=0,\" \",COUNTRY_INFO!B128))","v":"Eastern"},{"$f":"IF(AND(INTRO!$E$37=\"Non-endemic\",INTRO!$E$41=\"Non-endemic\"),\" \",IF(COUNTRY_INFO!C128=0,\" \",COUNTRY_INFO!C128))","v":"New Juaben North"},{"$f":"IF(AND(INTRO!$E$37=\"Non-endemic\",INTRO!$E$41=\"Non-endemic\"),0,COUNTRY_INFO!V128)","v":0},{"$f":"IF(AND(INTRO!$E$37=\"Non-endemic\",INTRO!$E$41=\"Non-endemic\"),0,COUNTRY_INFO!X128)","v":0},{"$f":"IF(INTRO!$E$39=\"Non-endemic\",IF($D128=1,DEC!I128,0),IF($D128=1,IVM!G128,0))","v":0},null,{"$f":"IF(OR(COUNTRY_INFO!N128=\"Unknown\",COUNTRY_INFO!N128=\"Surveillance\",COUNTRY_INFO!N128=\"Not required\",COUNTRY_INFO!N128=0),0,IF(INTRO!$E$39=\"Non-endemic\",IF(AND($E128<>0,$G128=\"\"),IF($F128=0,COUNTRY_INFO!N128*$E128,COUNTRY_INFO!N128*($E128-$D128)),IF(AND($E128<>0,$G128<>0),IF($F128=0,COUNTRY_INFO!N128*$G128,COUNTRY_INFO!N128*($G128-$D128)),0)),IF($G128=\"\",COUNTRY_INFO!N128*$E128,COUNTRY_INFO!N128*$G128)))","v":0},{"$f":"IF(OR(COUNTRY_INFO!O128=\"Unknown\",COUNTRY_INFO!O128=\"Surveillance\",COUNTRY_INFO!O128=\"Not required\",COUNTRY_INFO!O128=0),0,IF($E128<>0, IF($F128=0,COUNTRY_INFO!O128*$E128,COUNTRY_INFO!O128*($E128-$D128)),COUNTRY_INFO!O128*$E128))","v":0},null,{"$f":"IF(OR(COUNTRY_INFO!P128=\"Unknown\",COUNTRY_INFO!P128=\"Surveillance\",COUNTRY_INFO!P128=\"Not required\",COUNTRY_INFO!P128=0),0,IF(AND($E128<>0,$J128=\"\"),IF($F128=0,COUNTRY_INFO!P128*$E128,COUNTRY_INFO!P128*($E128-$D128)), IF(AND($E128<>0,$J128<>0),IF($F128=0,COUNTRY_INFO!P128*$J128,COUNTRY_INFO!P128*($J128-$D128)), COUNTRY_INFO!P128*$J128)))","v":0},0,0,null,0,0,null,0,0,null,0]
[{"$f":"IF(AND(INTRO!$E$37=\"Non-endemic\",INTRO!$E$41=\"Non-endemic\"),\" \",IF(COUNTRY_INFO!A129=0,\" \",COUNTRY_INFO!A129))","v":"Ghana"},{"$f":"IF(AND(INTRO!$E$37=\"Non-endemic\",INTRO!$E$41=\"Non-endemic\"),\" \",IF(COUNTRY_INFO!B129=0,\" \",COUNTRY_INFO!B129))","v":"Eastern"},{"$f":"IF(AND(INTRO!$E$37=\"Non-endemic\",INTRO!$E$41=\"Non-endemic\"),\" \",IF(COUNTRY_INFO!C129=0,\" \",COUNTRY_INFO!C129))","v":"New Juaben South"},{"$f":"IF(AND(INTRO!$E$37=\"Non-endemic\",INTRO!$E$41=\"Non-endemic\"),0,COUNTRY_INFO!V129)","v":0},{"$f":"IF(AND(INTRO!$E$37=\"Non-endemic\",INTRO!$E$41=\"Non-endemic\"),0,COUNTRY_INFO!X129)","v":0},{"$f":"IF(INTRO!$E$39=\"Non-endemic\",IF($D129=1,DEC!I129,0),IF($D129=1,IVM!G129,0))","v":0},null,{"$f":"IF(OR(COUNTRY_INFO!N129=\"Unknown\",COUNTRY_INFO!N129=\"Surveillance\",COUNTRY_INFO!N129=\"Not required\",COUNTRY_INFO!N129=0),0,IF(INTRO!$E$39=\"Non-endemic\",IF(AND($E129<>0,$G129=\"\"),IF($F129=0,COUNTRY_INFO!N129*$E129,COUNTRY_INFO!N129*($E129-$D129)),IF(AND($E129<>0,$G129<>0),IF($F129=0,COUNTRY_INFO!N129*$G129,COUNTRY_INFO!N129*($G129-$D129)),0)),IF($G129=\"\",COUNTRY_INFO!N129*$E129,COUNTRY_INFO!N129*$G129)))","v":0},{"$f":"IF(OR(COUNTRY_INFO!O129=\"Unknown\",COUNTRY_INFO!O129=\"Surveillance\",COUNTRY_INFO!O129=\"Not required\",COUNTRY_INFO!O129=0),0,IF($E129<>0, IF($F129=0,COUNTRY_INFO!O129*$E129,COUNTRY_INFO!O129*($E129-$D129)),COUNTRY_INFO!O129*$E129))","v":0},null,{"$f":"IF(OR(COUNTRY_INFO!P129=\"Unknown\",COUNTRY_INFO!P129=\"Surveillance\",COUNTRY_INFO!P129=\"Not required\",COUNTRY_INFO!P129=0),0,IF(AND($E129<>0,$J129=\"\"),IF($F129=0,COUNTRY_INFO!P129*$E129,COUNTRY_INFO!P129*($E129-$D129)), IF(AND($E129<>0,$J129<>0),IF($F129=0,COUNTRY_INFO!P129*$J129,COUNTRY_INFO!P129*($J129-$D129)), COUNTRY_INFO!P129*$J129)))","v":0},0,0,null,0,0,null,0,0,null,0]
[{"$f":"IF(AND(INTRO!$E$37=\"Non-endemic\",INTRO!$E$41=\"Non-endemic\"),\" \",IF(COUNTRY_INFO!A130=0,\" \",COUNTRY_INFO!A130))","v":"Ghana"},{"$f":"IF(AND(INTRO!$E$37=\"Non-endemic\",INTRO!$E$41=\"Non-endemic\"),\" \",IF(COUNTRY_INFO!B130=0,\" \",COUNTRY_INFO!B130))","v":"Eastern"},{"$f":"IF(AND(INTRO!$E$37=\"Non-endemic\",INTRO!$E$41=\"Non-endemic\"),\" \",IF(COUNTRY_INFO!C130=0,\" \",COUNTRY_INFO!C130))","v":"Nsawam-Adoagyiri"},{"$f":"IF(AND(INTRO!$E$37=\"Non-endemic\",INTRO!$E$41=\"Non-endemic\"),0,COUNTRY_INFO!V130)","v":0},{"$f":"IF(AND(INTRO!$E$37=\"Non-endemic\",INTRO!$E$41=\"Non-endemic\"),0,COUNTRY_INFO!X130)","v":0},{"$f":"IF(INTRO!$E$39=\"Non-endemic\",IF($D130=1,DEC!I130,0),IF($D130=1,IVM!G130,0))","v":0},null,{"$f":"IF(OR(COUNTRY_INFO!N130=\"Unknown\",COUNTRY_INFO!N130=\"Surveillance\",COUNTRY_INFO!N130=\"Not required\",COUNTRY_INFO!N130=0),0,IF(INTRO!$E$39=\"Non-endemic\",IF(AND($E130<>0,$G130=\"\"),IF($F130=0,COUNTRY_INFO!N130*$E130,COUNTRY_INFO!N130*($E130-$D130)),IF(AND($E130<>0,$G130<>0),IF($F130=0,COUNTRY_INFO!N130*$G130,COUNTRY_INFO!N130*($G130-$D130)),0)),IF($G130=\"\",COUNTRY_INFO!N130*$E130,COUNTRY_INFO!N130*$G130)))","v":0},{"$f":"IF(OR(COUNTRY_INFO!O130=\"Unknown\",COUNTRY_INFO!O130=\"Surveillance\",COUNTRY_INFO!O130=\"Not required\",COUNTRY_INFO!O130=0),0,IF($E130<>0, IF($F130=0,COUNTRY_INFO!O130*$E130,COUNTRY_INFO!O130*($E130-$D130)),COUNTRY_INFO!O130*$E130))","v":0},null,{"$f":"IF(OR(COUNTRY_INFO!P130=\"Unknown\",COUNTRY_INFO!P130=\"Surveillance\",COUNTRY_INFO!P130=\"Not required\",COUNTRY_INFO!P130=0),0,IF(AND($E130<>0,$J130=\"\"),IF($F130=0,COUNTRY_INFO!P130*$E130,COUNTRY_INFO!P130*($E130-$D130)), IF(AND($E130<>0,$J130<>0),IF($F130=0,COUNTRY_INFO!P130*$J130,COUNTRY_INFO!P130*($J130-$D130)), COUNTRY_INFO!P130*$J130)))","v":0},0,0,null,0,0,null,0,0,null,0]
[{"$f":"IF(AND(INTRO!$E$37=\"Non-endemic\",INTRO!$E$41=\"Non-endemic\"),\" \",IF(COUNTRY_INFO!A131=0,\" \",COUNTRY_INFO!A131))","v":"Ghana"},{"$f":"IF(AND(INTRO!$E$37=\"Non-endemic\",INTRO!$E$41=\"Non-endemic\"),\" \",IF(COUNTRY_INFO!B131=0,\" \",COUNTRY_INFO!B131))","v":"Eastern"},{"$f":"IF(AND(INTRO!$E$37=\"Non-endemic\",INTRO!$E$41=\"Non-endemic\"),\" \",IF(COUNTRY_INFO!C131=0,\" \",COUNTRY_INFO!C131))","v":"Okere"},{"$f":"IF(AND(INTRO!$E$37=\"Non-endemic\",INTRO!$E$41=\"Non-endemic\"),0,COUNTRY_INFO!V131)","v":0},{"$f":"IF(AND(INTRO!$E$37=\"Non-endemic\",INTRO!$E$41=\"Non-endemic\"),0,COUNTRY_INFO!X131)","v":0},{"$f":"IF(INTRO!$E$39=\"Non-endemic\",IF($D131=1,DEC!I131,0),IF($D131=1,IVM!G131,0))","v":0},null,{"$f":"IF(OR(COUNTRY_INFO!N131=\"Unknown\",COUNTRY_INFO!N131=\"Surveillance\",COUNTRY_INFO!N131=\"Not required\",COUNTRY_INFO!N131=0),0,IF(INTRO!$E$39=\"Non-endemic\",IF(AND($E131<>0,$G131=\"\"),IF($F131=0,COUNTRY_INFO!N131*$E131,COUNTRY_INFO!N131*($E131-$D131)),IF(AND($E131<>0,$G131<>0),IF($F131=0,COUNTRY_INFO!N131*$G131,COUNTRY_INFO!N131*($G131-$D131)),0)),IF($G131=\"\",COUNTRY_INFO!N131*$E131,COUNTRY_INFO!N131*$G131)))","v":0},{"$f":"IF(OR(COUNTRY_INFO!O131=\"Unknown\",COUNTRY_INFO!O131=\"Surveillance\",COUNTRY_INFO!O131=\"Not required\",COUNTRY_INFO!O131=0),0,IF($E131<>0, IF($F131=0,COUNTRY_INFO!O131*$E131,COUNTRY_INFO!O131*($E131-$D131)),COUNTRY_INFO!O131*$E131))","v":0},null,{"$f":"IF(OR(COUNTRY_INFO!P131=\"Unknown\",COUNTRY_INFO!P131=\"Surveillance\",COUNTRY_INFO!P131=\"Not required\",COUNTRY_INFO!P131=0),0,IF(AND($E131<>0,$J131=\"\"),IF($F131=0,COUNTRY_INFO!P131*$E131,COUNTRY_INFO!P131*($E131-$D131)), IF(AND($E131<>0,$J131<>0),IF($F131=0,COUNTRY_INFO!P131*$J131,COUNTRY_INFO!P131*($J131-$D131)), COUNTRY_INFO!P131*$J131)))","v":0},0,0,null,0,0,null,0,0,null,0]
[{"$f":"IF(AND(INTRO!$E$37=\"Non-endemic\",INTRO!$E$41=\"Non-endemic\"),\" \",IF(COUNTRY_INFO!A132=0,\" \",COUNTRY_INFO!A132))","v":"Ghana"},{"$f":"IF(AND(INTRO!$E$37=\"Non-endemic\",INTRO!$E$41=\"Non-endemic\"),\" \",IF(COUNTRY_INFO!B132=0,\" \",COUNTRY_INFO!B132))","v":"Eastern"},{"$f":"IF(AND(INTRO!$E$37=\"Non-endemic\",INTRO!$E$41=\"Non-endemic\"),\" \",IF(COUNTRY_INFO!C132=0,\" \",COUNTRY_INFO!C132))","v":"Suhum"},{"$f":"IF(AND(INTRO!$E$37=\"Non-endemic\",INTRO!$E$41=\"Non-endemic\"),0,COUNTRY_INFO!V132)","v":0},{"$f":"IF(AND(INTRO!$E$37=\"Non-endemic\",INTRO!$E$41=\"Non-endemic\"),0,COUNTRY_INFO!X132)","v":0},{"$f":"IF(INTRO!$E$39=\"Non-endemic\",IF($D132=1,DEC!I132,0),IF($D132=1,IVM!G132,0))","v":0},null,{"$f":"IF(OR(COUNTRY_INFO!N132=\"Unknown\",COUNTRY_INFO!N132=\"Surveillance\",COUNTRY_INFO!N132=\"Not required\",COUNTRY_INFO!N132=0),0,IF(INTRO!$E$39=\"Non-endemic\",IF(AND($E132<>0,$G132=\"\"),IF($F132=0,COUNTRY_INFO!N132*$E132,COUNTRY_INFO!N132*($E132-$D132)),IF(AND($E132<>0,$G132<>0),IF($F132=0,COUNTRY_INFO!N132*$G132,COUNTRY_INFO!N132*($G132-$D132)),0)),IF($G132=\"\",COUNTRY_INFO!N132*$E132,COUNTRY_INFO!N132*$G132)))","v":0},{"$f":"IF(OR(COUNTRY_INFO!O132=\"Unknown\",COUNTRY_INFO!O132=\"Surveillance\",COUNTRY_INFO!O132=\"Not required\",COUNTRY_INFO!O132=0),0,IF($E132<>0, IF($F132=0,COUNTRY_INFO!O132*$E132,COUNTRY_INFO!O132*($E132-$D132)),COUNTRY_INFO!O132*$E132))","v":0},null,{"$f":"IF(OR(COUNTRY_INFO!P132=\"Unknown\",COUNTRY_INFO!P132=\"Surveillance\",COUNTRY_INFO!P132=\"Not required\",COUNTRY_INFO!P132=0),0,IF(AND($E132<>0,$J132=\"\"),IF($F132=0,COUNTRY_INFO!P132*$E132,COUNTRY_INFO!P132*($E132-$D132)), IF(AND($E132<>0,$J132<>0),IF($F132=0,COUNTRY_INFO!P132*$J132,COUNTRY_INFO!P132*($J132-$D132)), COUNTRY_INFO!P132*$J132)))","v":0},0,0,null,0,0,null,0,0,null,0]
[{"$f":"IF(AND(INTRO!$E$37=\"Non-endemic\",INTRO!$E$41=\"Non-endemic\"),\" \",IF(COUNTRY_INFO!A133=0,\" \",COUNTRY_INFO!A133))","v":"Ghana"},{"$f":"IF(AND(INTRO!$E$37=\"Non-endemic\",INTRO!$E$41=\"Non-endemic\"),\" \",IF(COUNTRY_INFO!B133=0,\" \",COUNTRY_INFO!B133))","v":"Eastern"},{"$f":"IF(AND(INTRO!$E$37=\"Non-endemic\",INTRO!$E$41=\"Non-endemic\"),\" \",IF(COUNTRY_INFO!C133=0,\" \",COUNTRY_INFO!C133))","v":"Upper Manya-Krobo"},{"$f":"IF(AND(INTRO!$E$37=\"Non-endemic\",INTRO!$E$41=\"Non-endemic\"),0,COUNTRY_INFO!V133)","v":0},{"$f":"IF(AND(INTRO!$E$37=\"Non-endemic\",INTRO!$E$41=\"Non-endemic\"),0,COUNTRY_INFO!X133)","v":0},{"$f":"IF(INTRO!$E$39=\"Non-endemic\",IF($D133=1,DEC!I133,0),IF($D133=1,IVM!G133,0))","v":0},null,{"$f":"IF(OR(COUNTRY_INFO!N133=\"Unknown\",COUNTRY_INFO!N133=\"Surveillance\",COUNTRY_INFO!N133=\"Not required\",COUNTRY_INFO!N133=0),0,IF(INTRO!$E$39=\"Non-endemic\",IF(AND($E133<>0,$G133=\"\"),IF($F133=0,COUNTRY_INFO!N133*$E133,COUNTRY_INFO!N133*($E133-$D133)),IF(AND($E133<>0,$G133<>0),IF($F133=0,COUNTRY_INFO!N133*$G133,COUNTRY_INFO!N133*($G133-$D133)),0)),IF($G133=\"\",COUNTRY_INFO!N133*$E133,COUNTRY_INFO!N133*$G133)))","v":0},{"$f":"IF(OR(COUNTRY_INFO!O133=\"Unknown\",COUNTRY_INFO!O133=\"Surveillance\",COUNTRY_INFO!O133=\"Not required\",COUNTRY_INFO!O133=0),0,IF($E133<>0, IF($F133=0,COUNTRY_INFO!O133*$E133,COUNTRY_INFO!O133*($E133-$D133)),COUNTRY_INFO!O133*$E133))","v":0},null,{"$f":"IF(OR(COUNTRY_INFO!P133=\"Unknown\",COUNTRY_INFO!P133=\"Surveillance\",COUNTRY_INFO!P133=\"Not required\",COUNTRY_INFO!P133=0),0,IF(AND($E133<>0,$J133=\"\"),IF($F133=0,COUNTRY_INFO!P133*$E133,COUNTRY_INFO!P133*($E133-$D133)), IF(AND($E133<>0,$J133<>0),IF($F133=0,COUNTRY_INFO!P133*$J133,COUNTRY_INFO!P133*($J133-$D133)), COUNTRY_INFO!P133*$J133)))","v":0},0,0,null,0,0,null,0,0,null,0]
[{"$f":"IF(AND(INTRO!$E$37=\"Non-endemic\",INTRO!$E$41=\"Non-endemic\"),\" \",IF(COUNTRY_INFO!A134=0,\" \",COUNTRY_INFO!A134))","v":"Ghana"},{"$f":"IF(AND(INTRO!$E$37=\"Non-endemic\",INTRO!$E$41=\"Non-endemic\"),\" \",IF(COUNTRY_INFO!B134=0,\" \",COUNTRY_INFO!B134))","v":"Eastern"},{"$f":"IF(AND(INTRO!$E$37=\"Non-endemic\",INTRO!$E$41=\"Non-endemic\"),\" \",IF(COUNTRY_INFO!C134=0,\" \",COUNTRY_INFO!C134))","v":"Upper West Akim"},{"$f":"IF(AND(INTRO!$E$37=\"Non-endemic\",INTRO!$E$41=\"Non-endemic\"),0,COUNTRY_INFO!V134)","v":0},{"$f":"IF(AND(INTRO!$E$37=\"Non-endemic\",INTRO!$E$41=\"Non-endemic\"),0,COUNTRY_INFO!X134)","v":0},{"$f":"IF(INTRO!$E$39=\"Non-endemic\",IF($D134=1,DEC!I134,0),IF($D134=1,IVM!G134,0))","v":0},null,{"$f":"IF(OR(COUNTRY_INFO!N134=\"Unknown\",COUNTRY_INFO!N134=\"Surveillance\",COUNTRY_INFO!N134=\"Not required\",COUNTRY_INFO!N134=0),0,IF(INTRO!$E$39=\"Non-endemic\",IF(AND($E134<>0,$G134=\"\"),IF($F134=0,COUNTRY_INFO!N134*$E134,COUNTRY_INFO!N134*($E134-$D134)),IF(AND($E134<>0,$G134<>0),IF($F134=0,COUNTRY_INFO!N134*$G134,COUNTRY_INFO!N134*($G134-$D134)),0)),IF($G134=\"\",COUNTRY_INFO!N134*$E134,COUNTRY_INFO!N134*$G134)))","v":0},{"$f":"IF(OR(COUNTRY_INFO!O134=\"Unknown\",COUNTRY_INFO!O134=\"Surveillance\",COUNTRY_INFO!O134=\"Not required\",COUNTRY_INFO!O134=0),0,IF($E134<>0, IF($F134=0,COUNTRY_INFO!O134*$E134,COUNTRY_INFO!O134*($E134-$D134)),COUNTRY_INFO!O134*$E134))","v":0},null,{"$f":"IF(OR(COUNTRY_INFO!P134=\"Unknown\",COUNTRY_INFO!P134=\"Surveillance\",COUNTRY_INFO!P134=\"Not required\",COUNTRY_INFO!P134=0),0,IF(AND($E134<>0,$J134=\"\"),IF($F134=0,COUNTRY_INFO!P134*$E134,COUNTRY_INFO!P134*($E134-$D134)), IF(AND($E134<>0,$J134<>0),IF($F134=0,COUNTRY_INFO!P134*$J134,COUNTRY_INFO!P134*($J134-$D134)), COUNTRY_INFO!P134*$J134)))","v":0},0,0,null,0,0,null,0,0,null,0]
[{"$f":"IF(AND(INTRO!$E$37=\"Non-endemic\",INTRO!$E$41=\"Non-endemic\"),\" \",IF(COUNTRY_INFO!A135=0,\" \",COUNTRY_INFO!A135))","v":"Ghana"},{"$f":"IF(AND(INTRO!$E$37=\"Non-endemic\",INTRO!$E$41=\"Non-endemic\"),\" \",IF(COUNTRY_INFO!B135=0,\" \",COUNTRY_INFO!B135))","v":"Eastern"},{"$f":"IF(AND(INTRO!$E$37=\"Non-endemic\",INTRO!$E$41=\"Non-endemic\"),\" \",IF(COUNTRY_INFO!C135=0,\" \",COUNTRY_INFO!C135))","v":"West Akim"},{"$f":"IF(AND(INTRO!$E$37=\"Non-endemic\",INTRO!$E$41=\"Non-endemic\"),0,COUNTRY_INFO!V135)","v":0},{"$f":"IF(AND(INTRO!$E$37=\"Non-endemic\",INTRO!$E$41=\"Non-endemic\"),0,COUNTRY_INFO!X135)","v":0},{"$f":"IF(INTRO!$E$39=\"Non-endemic\",IF($D135=1,DEC!I135,0),IF($D135=1,IVM!G135,0))","v":0},null,{"$f":"IF(OR(COUNTRY_INFO!N135=\"Unknown\",COUNTRY_INFO!N135=\"Surveillance\",COUNTRY_INFO!N135=\"Not required\",COUNTRY_INFO!N135=0),0,IF(INTRO!$E$39=\"Non-endemic\",IF(AND($E135<>0,$G135=\"\"),IF($F135=0,COUNTRY_INFO!N135*$E135,COUNTRY_INFO!N135*($E135-$D135)),IF(AND($E135<>0,$G135<>0),IF($F135=0,COUNTRY_INFO!N135*$G135,COUNTRY_INFO!N135*($G135-$D135)),0)),IF($G135=\"\",COUNTRY_INFO!N135*$E135,COUNTRY_INFO!N135*$G135)))","v":0},{"$f":"IF(OR(COUNTRY_INFO!O135=\"Unknown\",COUNTRY_INFO!O135=\"Surveillance\",COUNTRY_INFO!O135=\"Not required\",COUNTRY_INFO!O135=0),0,IF($E135<>0, IF($F135=0,COUNTRY_INFO!O135*$E135,COUNTRY_INFO!O135*($E135-$D135)),COUNTRY_INFO!O135*$E135))","v":0},null,{"$f":"IF(OR(COUNTRY_INFO!P135=\"Unknown\",COUNTRY_INFO!P135=\"Surveillance\",COUNTRY_INFO!P135=\"Not required\",COUNTRY_INFO!P135=0),0,IF(AND($E135<>0,$J135=\"\"),IF($F135=0,COUNTRY_INFO!P135*$E135,COUNTRY_INFO!P135*($E135-$D135)), IF(AND($E135<>0,$J135<>0),IF($F135=0,COUNTRY_INFO!P135*$J135,COUNTRY_INFO!P135*($J135-$D135)), COUNTRY_INFO!P135*$J135)))","v":0},0,0,null,0,0,null,0,0,null,0]
[{"$f":"IF(AND(INTRO!$E$37=\"Non-endemic\",INTRO!$E$41=\"Non-endemic\"),\" \",IF(COUNTRY_INFO!A136=0,\" \",COUNTRY_INFO!A136))","v":"Ghana"},{"$f":"IF(AND(INTRO!$E$37=\"Non-endemic\",INTRO!$E$41=\"Non-endemic\"),\" \",IF(COUNTRY_INFO!B136=0,\" \",COUNTRY_INFO!B136))","v":"Eastern"},{"$f":"IF(AND(INTRO!$E$37=\"Non-endemic\",INTRO!$E$41=\"Non-endemic\"),\" \",IF(COUNTRY_INFO!C136=0,\" \",COUNTRY_INFO!C136))","v":"Yilo-Krobo"},{"$f":"IF(AND(INTRO!$E$37=\"Non-endemic\",INTRO!$E$41=\"Non-endemic\"),0,COUNTRY_INFO!V136)","v":0},{"$f":"IF(AND(INTRO!$E$37=\"Non-endemic\",INTRO!$E$41=\"Non-endemic\"),0,COUNTRY_INFO!X136)","v":0},{"$f":"IF(INTRO!$E$39=\"Non-endemic\",IF($D136=1,DEC!I136,0),IF($D136=1,IVM!G136,0))","v":0},null,{"$f":"IF(OR(COUNTRY_INFO!N136=\"Unknown\",COUNTRY_INFO!N136=\"Surveillance\",COUNTRY_INFO!N136=\"Not required\",COUNTRY_INFO!N136=0),0,IF(INTRO!$E$39=\"Non-endemic\",IF(AND($E136<>0,$G136=\"\"),IF($F136=0,COUNTRY_INFO!N136*$E136,COUNTRY_INFO!N136*($E136-$D136)),IF(AND($E136<>0,$G136<>0),IF($F136=0,COUNTRY_INFO!N136*$G136,COUNTRY_INFO!N136*($G136-$D136)),0)),IF($G136=\"\",COUNTRY_INFO!N136*$E136,COUNTRY_INFO!N136*$G136)))","v":0},{"$f":"IF(OR(COUNTRY_INFO!O136=\"Unknown\",COUNTRY_INFO!O136=\"Surveillance\",COUNTRY_INFO!O136=\"Not required\",COUNTRY_INFO!O136=0),0,IF($E136<>0, IF($F136=0,COUNTRY_INFO!O136*$E136,COUNTRY_INFO!O136*($E136-$D136)),COUNTRY_INFO!O136*$E136))","v":0},null,{"$f":"IF(OR(COUNTRY_INFO!P136=\"Unknown\",COUNTRY_INFO!P136=\"Surveillance\",COUNTRY_INFO!P136=\"Not required\",COUNTRY_INFO!P136=0),0,IF(AND($E136<>0,$J136=\"\"),IF($F136=0,COUNTRY_INFO!P136*$E136,COUNTRY_INFO!P136*($E136-$D136)), IF(AND($E136<>0,$J136<>0),IF($F136=0,COUNTRY_INFO!P136*$J136,COUNTRY_INFO!P136*($J136-$D136)), COUNTRY_INFO!P136*$J136)))","v":0},0,0,null,0,0,null,0,0,null,0]
[{"$f":"IF(AND(INTRO!$E$37=\"Non-endemic\",INTRO!$E$41=\"Non-endemic\"),\" \",IF(COUNTRY_INFO!A137=0,\" \",COUNTRY_INFO!A137))","v":"Ghana"},{"$f":"IF(AND(INTRO!$E$37=\"Non-endemic\",INTRO!$E$41=\"Non-endemic\"),\" \",IF(COUNTRY_INFO!B137=0,\" \",COUNTRY_INFO!B137))","v":"Greater Accra"},{"$f":"IF(AND(INTRO!$E$37=\"Non-endemic\",INTRO!$E$41=\"Non-endemic\"),\" \",IF(COUNTRY_INFO!C137=0,\" \",COUNTRY_INFO!C137))","v":"Ablekuma Central"},{"$f":"IF(AND(INTRO!$E$37=\"Non-endemic\",INTRO!$E$41=\"Non-endemic\"),0,COUNTRY_INFO!V137)","v":0},{"$f":"IF(AND(INTRO!$E$37=\"Non-endemic\",INTRO!$E$41=\"Non-endemic\"),0,COUNTRY_INFO!X137)","v":0},{"$f":"IF(INTRO!$E$39=\"Non-endemic\",IF($D137=1,DEC!I137,0),IF($D137=1,IVM!G137,0))","v":0},null,{"$f":"IF(OR(COUNTRY_INFO!N137=\"Unknown\",COUNTRY_INFO!N137=\"Surveillance\",COUNTRY_INFO!N137=\"Not required\",COUNTRY_INFO!N137=0),0,IF(INTRO!$E$39=\"Non-endemic\",IF(AND($E137<>0,$G137=\"\"),IF($F137=0,COUNTRY_INFO!N137*$E137,COUNTRY_INFO!N137*($E137-$D137)),IF(AND($E137<>0,$G137<>0),IF($F137=0,COUNTRY_INFO!N137*$G137,COUNTRY_INFO!N137*($G137-$D137)),0)),IF($G137=\"\",COUNTRY_INFO!N137*$E137,COUNTRY_INFO!N137*$G137)))","v":0},{"$f":"IF(OR(COUNTRY_INFO!O137=\"Unknown\",COUNTRY_INFO!O137=\"Surveillance\",COUNTRY_INFO!O137=\"Not required\",COUNTRY_INFO!O137=0),0,IF($E137<>0, IF($F137=0,COUNTRY_INFO!O137*$E137,COUNTRY_INFO!O137*($E137-$D137)),COUNTRY_INFO!O137*$E137))","v":0},null,{"$f":"IF(OR(COUNTRY_INFO!P137=\"Unknown\",COUNTRY_INFO!P137=\"Surveillance\",COUNTRY_INFO!P137=\"Not required\",COUNTRY_INFO!P137=0),0,IF(AND($E137<>0,$J137=\"\"),IF($F137=0,COUNTRY_INFO!P137*$E137,COUNTRY_INFO!P137*($E137-$D137)), IF(AND($E137<>0,$J137<>0),IF($F137=0,COUNTRY_INFO!P137*$J137,COUNTRY_INFO!P137*($J137-$D137)), COUNTRY_INFO!P137*$J137)))","v":0},0,0,null,0,0,null,0,0,null,0]
[{"$f":"IF(AND(INTRO!$E$37=\"Non-endemic\",INTRO!$E$41=\"Non-endemic\"),\" \",IF(COUNTRY_INFO!A138=0,\" \",COUNTRY_INFO!A138))","v":"Ghana"},{"$f":"IF(AND(INTRO!$E$37=\"Non-endemic\",INTRO!$E$41=\"Non-endemic\"),\" \",IF(COUNTRY_INFO!B138=0,\" \",COUNTRY_INFO!B138))","v":"Greater Accra"},{"$f":"IF(AND(INTRO!$E$37=\"Non-endemic\",INTRO!$E$41=\"Non-endemic\"),\" \",IF(COUNTRY_INFO!C138=0,\" \",COUNTRY_INFO!C138))","v":"Ablekuma North"},{"$f":"IF(AND(INTRO!$E$37=\"Non-endemic\",INTRO!$E$41=\"Non-endemic\"),0,COUNTRY_INFO!V138)","v":0},{"$f":"IF(AND(INTRO!$E$37=\"Non-endemic\",INTRO!$E$41=\"Non-endemic\"),0,COUNTRY_INFO!X138)","v":0},{"$f":"IF(INTRO!$E$39=\"Non-endemic\",IF($D138=1,DEC!I138,0),IF($D138=1,IVM!G138,0))","v":0},null,{"$f":"IF(OR(COUNTRY_INFO!N138=\"Unknown\",COUNTRY_INFO!N138=\"Surveillance\",COUNTRY_INFO!N138=\"Not required\",COUNTRY_INFO!N138=0),0,IF(INTRO!$E$39=\"Non-endemic\",IF(AND($E138<>0,$G138=\"\"),IF($F138=0,COUNTRY_INFO!N138*$E138,COUNTRY_INFO!N138*($E138-$D138)),IF(AND($E138<>0,$G138<>0),IF($F138=0,COUNTRY_INFO!N138*$G138,COUNTRY_INFO!N138*($G138-$D138)),0)),IF($G138=\"\",COUNTRY_INFO!N138*$E138,COUNTRY_INFO!N138*$G138)))","v":0},{"$f":"IF(OR(COUNTRY_INFO!O138=\"Unknown\",COUNTRY_INFO!O138=\"Surveillance\",COUNTRY_INFO!O138=\"Not required\",COUNTRY_INFO!O138=0),0,IF($E138<>0, IF($F138=0,COUNTRY_INFO!O138*$E138,COUNTRY_INFO!O138*($E138-$D138)),COUNTRY_INFO!O138*$E138))","v":0},null,{"$f":"IF(OR(COUNTRY_INFO!P138=\"Unknown\",COUNTRY_INFO!P138=\"Surveillance\",COUNTRY_INFO!P138=\"Not required\",COUNTRY_INFO!P138=0),0,IF(AND($E138<>0,$J138=\"\"),IF($F138=0,COUNTRY_INFO!P138*$E138,COUNTRY_INFO!P138*($E138-$D138)), IF(AND($E138<>0,$J138<>0),IF($F138=0,COUNTRY_INFO!P138*$J138,COUNTRY_INFO!P138*($J138-$D138)), COUNTRY_INFO!P138*$J138)))","v":0},0,0,null,0,0,null,0,0,null,0]
[{"$f":"IF(AND(INTRO!$E$37=\"Non-endemic\",INTRO!$E$41=\"Non-endemic\"),\" \",IF(COUNTRY_INFO!A139=0,\" \",COUNTRY_INFO!A139))","v":"Ghana"},{"$f":"IF(AND(INTRO!$E$37=\"Non-endemic\",INTRO!$E$41=\"Non-endemic\"),\" \",IF(COUNTRY_INFO!B139=0,\" \",COUNTRY_INFO!B139))","v":"Greater Accra"},{"$f":"IF(AND(INTRO!$E$37=\"Non-endemic\",INTRO!$E$41=\"Non-endemic\"),\" \",IF(COUNTRY_INFO!C139=0,\" \",COUNTRY_INFO!C139))","v":"Ablekuma West"},{"$f":"IF(AND(INTRO!$E$37=\"Non-endemic\",INTRO!$E$41=\"Non-endemic\"),0,COUNTRY_INFO!V139)","v":0},{"$f":"IF(AND(INTRO!$E$37=\"Non-endemic\",INTRO!$E$41=\"Non-endemic\"),0,COUNTRY_INFO!X139)","v":0},{"$f":"IF(INTRO!$E$39=\"Non-endemic\",IF($D139=1,DEC!I139,0),IF($D139=1,IVM!G139,0))","v":0},null,{"$f":"IF(OR(COUNTRY_INFO!N139=\"Unknown\",COUNTRY_INFO!N139=\"Surveillance\",COUNTRY_INFO!N139=\"Not required\",COUNTRY_INFO!N139=0),0,IF(INTRO!$E$39=\"Non-endemic\",IF(AND($E139<>0,$G139=\"\"),IF($F139=0,COUNTRY_INFO!N139*$E139,COUNTRY_INFO!N139*($E139-$D139)),IF(AND($E139<>0,$G139<>0),IF($F139=0,COUNTRY_INFO!N139*$G139,COUNTRY_INFO!N139*($G139-$D139)),0)),IF($G139=\"\",COUNTRY_INFO!N139*$E139,COUNTRY_INFO!N139*$G139)))","v":0},{"$f":"IF(OR(COUNTRY_INFO!O139=\"Unknown\",COUNTRY_INFO!O139=\"Surveillance\",COUNTRY_INFO!O139=\"Not required\",COUNTRY_INFO!O139=0),0,IF($E139<>0, IF($F139=0,COUNTRY_INFO!O139*$E139,COUNTRY_INFO!O139*($E139-$D139)),COUNTRY_INFO!O139*$E139))","v":0},null,{"$f":"IF(OR(COUNTRY_INFO!P139=\"Unknown\",COUNTRY_INFO!P139=\"Surveillance\",COUNTRY_INFO!P139=\"Not required\",COUNTRY_INFO!P139=0),0,IF(AND($E139<>0,$J139=\"\"),IF($F139=0,COUNTRY_INFO!P139*$E139,COUNTRY_INFO!P139*($E139-$D139)), IF(AND($E139<>0,$J139<>0),IF($F139=0,COUNTRY_INFO!P139*$J139,COUNTRY_INFO!P139*($J139-$D139)), COUNTRY_INFO!P139*$J139)))","v":0},0,0,null,0,0,null,0,0,null,0]
[{"$f":"IF(AND(INTRO!$E$37=\"Non-endemic\",INTRO!$E$41=\"Non-endemic\"),\" \",IF(COUNTRY_INFO!A140=0,\" \",COUNTRY_INFO!A140))","v":"Ghana"},{"$f":"IF(AND(INTRO!$E$37=\"Non-endemic\",INTRO!$E$41=\"Non-endemic\"),\" \",IF(COUNTRY_INFO!B140=0,\" \",COUNTRY_INFO!B140))","v":"Greater Accra"},{"$f":"IF(AND(INTRO!$E$37=\"Non-endemic\",INTRO!$E$41=\"Non-endemic\"),\" \",IF(COUNTRY_INFO!C140=0,\" \",COUNTRY_INFO!C140))","v":"Accra Metro"},{"$f":"IF(AND(INTRO!$E$37=\"Non-endemic\",INTRO!$E$41=\"Non-endemic\"),0,COUNTRY_INFO!V140)","v":0},{"$f":"IF(AND(INTRO!$E$37=\"Non-endemic\",INTRO!$E$41=\"Non-endemic\"),0,COUNTRY_INFO!X140)","v":0},{"$f":"IF(INTRO!$E$39=\"Non-endemic\",IF($D140=1,DEC!I140,0),IF($D140=1,IVM!G140,0))","v":0},null,{"$f":"IF(OR(COUNTRY_INFO!N140=\"Unknown\",COUNTRY_INFO!N140=\"Surveillance\",COUNTRY_INFO!N140=\"Not required\",COUNTRY_INFO!N140=0),0,IF(INTRO!$E$39=\"Non-endemic\",IF(AND($E140<>0,$G140=\"\"),IF($F140=0,COUNTRY_INFO!N140*$E140,COUNTRY_INFO!N140*($E140-$D140)),IF(AND($E140<>0,$G140<>0),IF($F140=0,COUNTRY_INFO!N140*$G140,COUNTRY_INFO!N140*($G140-$D140)),0)),IF($G140=\"\",COUNTRY_INFO!N140*$E140,COUNTRY_INFO!N140*$G140)))","v":0},{"$f":"IF(OR(COUNTRY_INFO!O140=\"Unknown\",COUNTRY_INFO!O140=\"Surveillance\",COUNTRY_INFO!O140=\"Not required\",COUNTRY_INFO!O140=0),0,IF($E140<>0, IF($F140=0,COUNTRY_INFO!O140*$E140,COUNTRY_INFO!O140*($E140-$D140)),COUNTRY_INFO!O140*$E140))","v":0},null,{"$f":"IF(OR(COUNTRY_INFO!P140=\"Unknown\",COUNTRY_INFO!P140=\"Surveillance\",COUNTRY_INFO!P140=\"Not required\",COUNTRY_INFO!P140=0),0,IF(AND($E140<>0,$J140=\"\"),IF($F140=0,COUNTRY_INFO!P140*$E140,COUNTRY_INFO!P140*($E140-$D140)), IF(AND($E140<>0,$J140<>0),IF($F140=0,COUNTRY_INFO!P140*$J140,COUNTRY_INFO!P140*($J140-$D140)), COUNTRY_INFO!P140*$J140)))","v":0},0,0,null,0,0,null,0,0,null,0]
[{"$f":"IF(AND(INTRO!$E$37=\"Non-endemic\",INTRO!$E$41=\"Non-endemic\"),\" \",IF(COUNTRY_INFO!A141=0,\" \",COUNTRY_INFO!A141))","v":"Ghana"},{"$f":"IF(AND(INTRO!$E$37=\"Non-endemic\",INTRO!$E$41=\"Non-endemic\"),\" \",IF(COUNTRY_INFO!B141=0,\" \",COUNTRY_INFO!B141))","v":"Greater Accra"},{"$f":"IF(AND(INTRO!$E$37=\"Non-endemic\",INTRO!$E$41=\"Non-endemic\"),\" \",IF(COUNTRY_INFO!C141=0,\" \",COUNTRY_INFO!C141))","v":"Ada East"},{"$f":"IF(AND(INTRO!$E$37=\"Non-endemic\",INTRO!$E$41=\"Non-endemic\"),0,COUNTRY_INFO!V141)","v":0},{"$f":"IF(AND(INTRO!$E$37=\"Non-endemic\",INTRO!$E$41=\"Non-endemic\"),0,COUNTRY_INFO!X141)","v":0},{"$f":"IF(INTRO!$E$39=\"Non-endemic\",IF($D141=1,DEC!I141,0),IF($D141=1,IVM!G141,0))","v":0},null,{"$f":"IF(OR(COUNTRY_INFO!N141=\"Unknown\",COUNTRY_INFO!N141=\"Surveillance\",COUNTRY_INFO!N141=\"Not required\",COUNTRY_INFO!N141=0),0,IF(INTRO!$E$39=\"Non-endemic\",IF(AND($E141<>0,$G141=\"\"),IF($F141=0,COUNTRY_INFO!N141*$E141,COUNTRY_INFO!N141*($E141-$D141)),IF(AND($E141<>0,$G141<>0),IF($F141=0,COUNTRY_INFO!N141*$G141,COUNTRY_INFO!N141*($G141-$D141)),0)),IF($G141=\"\",COUNTRY_INFO!N141*$E141,COUNTRY_INFO!N141*$G141)))","v":0},{"$f":"IF(OR(COUNTRY_INFO!O141=\"Unknown\",COUNTRY_INFO!O141=\"Surveillance\",COUNTRY_INFO!O141=\"Not required\",COUNTRY_INFO!O141=0),0,IF($E141<>0, IF($F141=0,COUNTRY_INFO!O141*$E141,COUNTRY_INFO!O141*($E141-$D141)),COUNTRY_INFO!O141*$E141))","v":0},null,{"$f":"IF(OR(COUNTRY_INFO!P141=\"Unknown\",COUNTRY_INFO!P141=\"Surveillance\",COUNTRY_INFO!P141=\"Not required\",COUNTRY_INFO!P141=0),0,IF(AND($E141<>0,$J141=\"\"),IF($F141=0,COUNTRY_INFO!P141*$E141,COUNTRY_INFO!P141*($E141-$D141)), IF(AND($E141<>0,$J141<>0),IF($F141=0,COUNTRY_INFO!P141*$J141,COUNTRY_INFO!P141*($J141-$D141)), COUNTRY_INFO!P141*$J141)))","v":0},0,0,null,0,0,null,0,0,null,0]
[{"$f":"IF(AND(INTRO!$E$37=\"Non-endemic\",INTRO!$E$41=\"Non-endemic\"),\" \",IF(COUNTRY_INFO!A142=0,\" \",COUNTRY_INFO!A142))","v":"Ghana"},{"$f":"IF(AND(INTRO!$E$37=\"Non-endemic\",INTRO!$E$41=\"Non-endemic\"),\" \",IF(COUNTRY_INFO!B142=0,\" \",COUNTRY_INFO!B142))","v":"Greater Accra"},{"$f":"IF(AND(INTRO!$E$37=\"Non-endemic\",INTRO!$E$41=\"Non-endemic\"),\" \",IF(COUNTRY_INFO!C142=0,\" \",COUNTRY_INFO!C142))","v":"Ada West"},{"$f":"IF(AND(INTRO!$E$37=\"Non-endemic\",INTRO!$E$41=\"Non-endemic\"),0,COUNTRY_INFO!V142)","v":0},{"$f":"IF(AND(INTRO!$E$37=\"Non-endemic\",INTRO!$E$41=\"Non-endemic\"),0,COUNTRY_INFO!X142)","v":0},{"$f":"IF(INTRO!$E$39=\"Non-endemic\",IF($D142=1,DEC!I142,0),IF($D142=1,IVM!G142,0))","v":0},null,{"$f":"IF(OR(COUNTRY_INFO!N142=\"Unknown\",COUNTRY_INFO!N142=\"Surveillance\",COUNTRY_INFO!N142=\"Not required\",COUNTRY_INFO!N142=0),0,IF(INTRO!$E$39=\"Non-endemic\",IF(AND($E142<>0,$G142=\"\"),IF($F142=0,COUNTRY_INFO!N142*$E142,COUNTRY_INFO!N142*($E142-$D142)),IF(AND($E142<>0,$G142<>0),IF($F142=0,COUNTRY_INFO!N142*$G142,COUNTRY_INFO!N142*($G142-$D142)),0)),IF($G142=\"\",COUNTRY_INFO!N142*$E142,COUNTRY_INFO!N142*$G142)))","v":0},{"$f":"IF(OR(COUNTRY_INFO!O142=\"Unknown\",COUNTRY_INFO!O142=\"Surveillance\",COUNTRY_INFO!O142=\"Not required\",COUNTRY_INFO!O142=0),0,IF($E142<>0, IF($F142=0,COUNTRY_INFO!O142*$E142,COUNTRY_INFO!O142*($E142-$D142)),COUNTRY_INFO!O142*$E142))","v":0},null,{"$f":"IF(OR(COUNTRY_INFO!P142=\"Unknown\",COUNTRY_INFO!P142=\"Surveillance\",COUNTRY_INFO!P142=\"Not required\",COUNTRY_INFO!P142=0),0,IF(AND($E142<>0,$J142=\"\"),IF($F142=0,COUNTRY_INFO!P142*$E142,COUNTRY_INFO!P142*($E142-$D142)), IF(AND($E142<>0,$J142<>0),IF($F142=0,COUNTRY_INFO!P142*$J142,COUNTRY_INFO!P142*($J142-$D142)), COUNTRY_INFO!P142*$J142)))","v":0},0,0,null,0,0,null,0,0,null,0]
[{"$f":"IF(AND(INTRO!$E$37=\"Non-endemic\",INTRO!$E$41=\"Non-endemic\"),\" \",IF(COUNTRY_INFO!A143=0,\" \",COUNTRY_INFO!A143))","v":"Ghana"},{"$f":"IF(AND(INTRO!$E$37=\"Non-endemic\",INTRO!$E$41=\"Non-endemic\"),\" \",IF(COUNTRY_INFO!B143=0,\" \",COUNTRY_INFO!B143))","v":"Greater Accra"},{"$f":"IF(AND(INTRO!$E$37=\"Non-endemic\",INTRO!$E$41=\"Non-endemic\"),\" \",IF(COUNTRY_INFO!C143=0,\" \",COUNTRY_INFO!C143))","v":"Adentan"},{"$f":"IF(AND(INTRO!$E$37=\"Non-endemic\",INTRO!$E$41=\"Non-endemic\"),0,COUNTRY_INFO!V143)","v":0},{"$f":"IF(AND(INTRO!$E$37=\"Non-endemic\",INTRO!$E$41=\"Non-endemic\"),0,COUNTRY_INFO!X143)","v":0},{"$f":"IF(INTRO!$E$39=\"Non-endemic\",IF($D143=1,DEC!I143,0),IF($D143=1,IVM!G143,0))","v":0},null,{"$f":"IF(OR(COUNTRY_INFO!N143=\"Unknown\",COUNTRY_INFO!N143=\"Surveillance\",COUNTRY_INFO!N143=\"Not required\",COUNTRY_INFO!N143=0),0,IF(INTRO!$E$39=\"Non-endemic\",IF(AND($E143<>0,$G143=\"\"),IF($F143=0,COUNTRY_INFO!N143*$E143,COUNTRY_INFO!N143*($E143-$D143)),IF(AND($E143<>0,$G143<>0),IF($F143=0,COUNTRY_INFO!N143*$G143,COUNTRY_INFO!N143*($G143-$D143)),0)),IF($G143=\"\",COUNTRY_INFO!N143*$E143,COUNTRY_INFO!N143*$G143)))","v":0},{"$f":"IF(OR(COUNTRY_INFO!O143=\"Unknown\",COUNTRY_INFO!O143=\"Surveillance\",COUNTRY_INFO!O143=\"Not required\",COUNTRY_INFO!O143=0),0,IF($E143<>0, IF($F143=0,COUNTRY_INFO!O143*$E143,COUNTRY_INFO!O143*($E143-$D143)),COUNTRY_INFO!O143*$E143))","v":0},null,{"$f":"IF(OR(COUNTRY_INFO!P143=\"Unknown\",COUNTRY_INFO!P143=\"Surveillance\",COUNTRY_INFO!P143=\"Not required\",COUNTRY_INFO!P143=0),0,IF(AND($E143<>0,$J143=\"\"),IF($F143=0,COUNTRY_INFO!P143*$E143,COUNTRY_INFO!P143*($E143-$D143)), IF(AND($E143<>0,$J143<>0),IF($F143=0,COUNTRY_INFO!P143*$J143,COUNTRY_INFO!P143*($J143-$D143)), COUNTRY_INFO!P143*$J143)))","v":0},0,0,null,0,0,null,0,0,null,0]
[{"$f":"IF(AND(INTRO!$E$37=\"Non-endemic\",INTRO!$E$41=\"Non-endemic\"),\" \",IF(COUNTRY_INFO!A144=0,\" \",COUNTRY_INFO!A144))","v":"Ghana"},{"$f":"IF(AND(INTRO!$E$37=\"Non-endemic\",INTRO!$E$41=\"Non-endemic\"),\" \",IF(COUNTRY_INFO!B144=0,\" \",COUNTRY_INFO!B144))","v":"Greater Accra"},{"$f":"IF(AND(INTRO!$E$37=\"Non-endemic\",INTRO!$E$41=\"Non-endemic\"),\" \",IF(COUNTRY_INFO!C144=0,\" \",COUNTRY_INFO!C144))","v":"Ashaiman"},{"$f":"IF(AND(INTRO!$E$37=\"Non-endemic\",INTRO!$E$41=\"Non-endemic\"),0,COUNTRY_INFO!V144)","v":0},{"$f":"IF(AND(INTRO!$E$37=\"Non-endemic\",INTRO!$E$41=\"Non-endemic\"),0,COUNTRY_INFO!X144)","v":0},{"$f":"IF(INTRO!$E$39=\"Non-endemic\",IF($D144=1,DEC!I144,0),IF($D144=1,IVM!G144,0))","v":0},null,{"$f":"IF(OR(COUNTRY_INFO!N144=\"Unknown\",COUNTRY_INFO!N144=\"Surveillance\",COUNTRY_INFO!N144=\"Not required\",COUNTRY_INFO!N144=0),0,IF(INTRO!$E$39=\"Non-endemic\",IF(AND($E144<>0,$G144=\"\"),IF($F144=0,COUNTRY_INFO!N144*$E144,COUNTRY_INFO!N144*($E144-$D144)),IF(AND($E144<>0,$G144<>0),IF($F144=0,COUNTRY_INFO!N144*$G144,COUNTRY_INFO!N144*($G144-$D144)),0)),IF($G144=\"\",COUNTRY_INFO!N144*$E144,COUNTRY_INFO!N144*$G144)))","v":0},{"$f":"IF(OR(COUNTRY_INFO!O144=\"Unknown\",COUNTRY_INFO!O144=\"Surveillance\",COUNTRY_INFO!O144=\"Not required\",COUNTRY_INFO!O144=0),0,IF($E144<>0, IF($F144=0,COUNTRY_INFO!O144*$E144,COUNTRY_INFO!O144*($E144-$D144)),COUNTRY_INFO!O144*$E144))","v":0},null,{"$f":"IF(OR(COUNTRY_INFO!P144=\"Unknown\",COUNTRY_INFO!P144=\"Surveillance\",COUNTRY_INFO!P144=\"Not required\",COUNTRY_INFO!P144=0),0,IF(AND($E144<>0,$J144=\"\"),IF($F144=0,COUNTRY_INFO!P144*$E144,COUNTRY_INFO!P144*($E144-$D144)), IF(AND($E144<>0,$J144<>0),IF($F144=0,COUNTRY_INFO!P144*$J144,COUNTRY_INFO!P144*($J144-$D144)), COUNTRY_INFO!P144*$J144)))","v":0},0,0,null,0,0,null,0,0,null,0]
[{"$f":"IF(AND(INTRO!$E$37=\"Non-endemic\",INTRO!$E$41=\"Non-endemic\"),\" \",IF(COUNTRY_INFO!A145=0,\" \",COUNTRY_INFO!A145))","v":"Ghana"},{"$f":"IF(AND(INTRO!$E$37=\"Non-endemic\",INTRO!$E$41=\"Non-endemic\"),\" \",IF(COUNTRY_INFO!B145=0,\" \",COUNTRY_INFO!B145))","v":"Greater Accra"},{"$f":"IF(AND(INTRO!$E$37=\"Non-endemic\",INTRO!$E$41=\"Non-endemic\"),\" \",IF(COUNTRY_INFO!C145=0,\" \",COUNTRY_INFO!C145))","v":"Ayawaso Central"},{"$f":"IF(AND(INTRO!$E$37=\"Non-endemic\",INTRO!$E$41=\"Non-endemic\"),0,COUNTRY_INFO!V145)","v":0},{"$f":"IF(AND(INTRO!$E$37=\"Non-endemic\",INTRO!$E$41=\"Non-endemic\"),0,COUNTRY_INFO!X145)","v":0},{"$f":"IF(INTRO!$E$39=\"Non-endemic\",IF($D145=1,DEC!I145,0),IF($D145=1,IVM!G145,0))","v":0},null,{"$f":"IF(OR(COUNTRY_INFO!N145=\"Unknown\",COUNTRY_INFO!N145=\"Surveillance\",COUNTRY_INFO!N145=\"Not required\",COUNTRY_INFO!N145=0),0,IF(INTRO!$E$39=\"Non-endemic\",IF(AND($E145<>0,$G145=\"\"),IF($F145=0,COUNTRY_INFO!N145*$E145,COUNTRY_INFO!N145*($E145-$D145)),IF(AND($E145<>0,$G145<>0),IF($F145=0,COUNTRY_INFO!N145*$G145,COUNTRY_INFO!N145*($G145-$D145)),0)),IF($G145=\"\",COUNTRY_INFO!N145*$E145,COUNTRY_INFO!N145*$G145)))","v":0},{"$f":"IF(OR(COUNTRY_INFO!O145=\"Unknown\",COUNTRY_INFO!O145=\"Surveillance\",COUNTRY_INFO!O145=\"Not required\",COUNTRY_INFO!O145=0),0,IF($E145<>0, IF($F145=0,COUNTRY_INFO!O145*$E145,COUNTRY_INFO!O145*($E145-$D145)),COUNTRY_INFO!O145*$E145))","v":0},null,{"$f":"IF(OR(COUNTRY_INFO!P145=\"Unknown\",COUNTRY_INFO!P145=\"Surveillance\",COUNTRY_INFO!P145=\"Not required\",COUNTRY_INFO!P145=0),0,IF(AND($E145<>0,$J145=\"\"),IF($F145=0,COUNTRY_INFO!P145*$E145,COUNTRY_INFO!P145*($E145-$D145)), IF(AND($E145<>0,$J145<>0),IF($F145=0,COUNTRY_INFO!P145*$J145,COUNTRY_INFO!P145*($J145-$D145)), COUNTRY_INFO!P145*$J145)))","v":0},0,0,null,0,0,null,0,0,null,0]
[{"$f":"IF(AND(INTRO!$E$37=\"Non-endemic\",INTRO!$E$41=\"Non-endemic\"),\" \",IF(COUNTRY_INFO!A146=0,\" \",COUNTRY_INFO!A146))","v":"Ghana"},{"$f":"IF(AND(INTRO!$E$37=\"Non-endemic\",INTRO!$E$41=\"Non-endemic\"),\" \",IF(COUNTRY_INFO!B146=0,\" \",COUNTRY_INFO!B146))","v":"Greater Accra"},{"$f":"IF(AND(INTRO!$E$37=\"Non-endemic\",INTRO!$E$41=\"Non-endemic\"),\" \",IF(COUNTRY_INFO!C146=0,\" \",COUNTRY_INFO!C146))","v":"Ayawaso East"},{"$f":"IF(AND(INTRO!$E$37=\"Non-endemic\",INTRO!$E$41=\"Non-endemic\"),0,COUNTRY_INFO!V146)","v":0},{"$f":"IF(AND(INTRO!$E$37=\"Non-endemic\",INTRO!$E$41=\"Non-endemic\"),0,COUNTRY_INFO!X146)","v":0},{"$f":"IF(INTRO!$E$39=\"Non-endemic\",IF($D146=1,DEC!I146,0),IF($D146=1,IVM!G146,0))","v":0},null,{"$f":"IF(OR(COUNTRY_INFO!N146=\"Unknown\",COUNTRY_INFO!N146=\"Surveillance\",COUNTRY_INFO!N146=\"Not required\",COUNTRY_INFO!N146=0),0,IF(INTRO!$E$39=\"Non-endemic\",IF(AND($E146<>0,$G146=\"\"),IF($F146=0,COUNTRY_INFO!N146*$E146,COUNTRY_INFO!N146*($E146-$D146)),IF(AND($E146<>0,$G146<>0),IF($F146=0,COUNTRY_INFO!N146*$G146,COUNTRY_INFO!N146*($G146-$D146)),0)),IF($G146=\"\",COUNTRY_INFO!N146*$E146,COUNTRY_INFO!N146*$G146)))","v":0},{"$f":"IF(OR(COUNTRY_INFO!O146=\"Unknown\",COUNTRY_INFO!O146=\"Surveillance\",COUNTRY_INFO!O146=\"Not required\",COUNTRY_INFO!O146=0),0,IF($E146<>0, IF($F146=0,COUNTRY_INFO!O146*$E146,COUNTRY_INFO!O146*($E146-$D146)),COUNTRY_INFO!O146*$E146))","v":0},null,{"$f":"IF(OR(COUNTRY_INFO!P146=\"Unknown\",COUNTRY_INFO!P146=\"Surveillance\",COUNTRY_INFO!P146=\"Not required\",COUNTRY_INFO!P146=0),0,IF(AND($E146<>0,$J146=\"\"),IF($F146=0,COUNTRY_INFO!P146*$E146,COUNTRY_INFO!P146*($E146-$D146)), IF(AND($E146<>0,$J146<>0),IF($F146=0,COUNTRY_INFO!P146*$J146,COUNTRY_INFO!P146*($J146-$D146)), COUNTRY_INFO!P146*$J146)))","v":0},0,0,null,0,0,null,0,0,null,0]
[{"$f":"IF(AND(INTRO!$E$37=\"Non-endemic\",INTRO!$E$41=\"Non-endemic\"),\" \",IF(COUNTRY_INFO!A147=0,\" \",COUNTRY_INFO!A147))","v":"Ghana"},{"$f":"IF(AND(INTRO!$E$37=\"Non-endemic\",INTRO!$E$41=\"Non-endemic\"),\" \",IF(COUNTRY_INFO!B147=0,\" \",COUNTRY_INFO!B147))","v":"Greater Accra"},{"$f":"IF(AND(INTRO!$E$37=\"Non-endemic\",INTRO!$E$41=\"Non-endemic\"),\" \",IF(COUNTRY_INFO!C147=0,\" \",COUNTRY_INFO!C147))","v":"Ayawaso North"},{"$f":"IF(AND(INTRO!$E$37=\"Non-endemic\",INTRO!$E$41=\"Non-endemic\"),0,COUNTRY_INFO!V147)","v":0},{"$f":"IF(AND(INTRO!$E$37=\"Non-endemic\",INTRO!$E$41=\"Non-endemic\"),0,COUNTRY_INFO!X147)","v":0},{"$f":"IF(INTRO!$E$39=\"Non-endemic\",IF($D147=1,DEC!I147,0),IF($D147=1,IVM!G147,0))","v":0},null,{"$f":"IF(OR(COUNTRY_INFO!N147=\"Unknown\",COUNTRY_INFO!N147=\"Surveillance\",COUNTRY_INFO!N147=\"Not required\",COUNTRY_INFO!N147=0),0,IF(INTRO!$E$39=\"Non-endemic\",IF(AND($E147<>0,$G147=\"\"),IF($F147=0,COUNTRY_INFO!N147*$E147,COUNTRY_INFO!N147*($E147-$D147)),IF(AND($E147<>0,$G147<>0),IF($F147=0,COUNTRY_INFO!N147*$G147,COUNTRY_INFO!N147*($G147-$D147)),0)),IF($G147=\"\",COUNTRY_INFO!N147*$E147,COUNTRY_INFO!N147*$G147)))","v":0},{"$f":"IF(OR(COUNTRY_INFO!O147=\"Unknown\",COUNTRY_INFO!O147=\"Surveillance\",COUNTRY_INFO!O147=\"Not required\",COUNTRY_INFO!O147=0),0,IF($E147<>0, IF($F147=0,COUNTRY_INFO!O147*$E147,COUNTRY_INFO!O147*($E147-$D147)),COUNTRY_INFO!O147*$E147))","v":0},null,{"$f":"IF(OR(COUNTRY_INFO!P147=\"Unknown\",COUNTRY_INFO!P147=\"Surveillance\",COUNTRY_INFO!P147=\"Not required\",COUNTRY_INFO!P147=0),0,IF(AND($E147<>0,$J147=\"\"),IF($F147=0,COUNTRY_INFO!P147*$E147,COUNTRY_INFO!P147*($E147-$D147)), IF(AND($E147<>0,$J147<>0),IF($F147=0,COUNTRY_INFO!P147*$J147,COUNTRY_INFO!P147*($J147-$D147)), COUNTRY_INFO!P147*$J147)))","v":0},0,0,null,0,0,null,0,0,null,0]
[{"$f":"IF(AND(INTRO!$E$37=\"Non-endemic\",INTRO!$E$41=\"Non-endemic\"),\" \",IF(COUNTRY_INFO!A148=0,\" \",COUNTRY_INFO!A148))","v":"Ghana"},{"$f":"IF(AND(INTRO!$E$37=\"Non-endemic\",INTRO!$E$41=\"Non-endemic\"),\" \",IF(COUNTRY_INFO!B148=0,\" \",COUNTRY_INFO!B148))","v":"Greater Accra"},{"$f":"IF(AND(INTRO!$E$37=\"Non-endemic\",INTRO!$E$41=\"Non-endemic\"),\" \",IF(COUNTRY_INFO!C148=0,\" \",COUNTRY_INFO!C148))","v":"Ayawaso West"},{"$f":"IF(AND(INTRO!$E$37=\"Non-endemic\",INTRO!$E$41=\"Non-endemic\"),0,COUNTRY_INFO!V148)","v":0},{"$f":"IF(AND(INTRO!$E$37=\"Non-endemic\",INTRO!$E$41=\"Non-endemic\"),0,COUNTRY_INFO!X148)","v":0},{"$f":"IF(INTRO!$E$39=\"Non-endemic\",IF($D148=1,DEC!I148,0),IF($D148=1,IVM!G148,0))","v":0},null,{"$f":"IF(OR(COUNTRY_INFO!N148=\"Unknown\",COUNTRY_INFO!N148=\"Surveillance\",COUNTRY_INFO!N148=\"Not required\",COUNTRY_INFO!N148=0),0,IF(INTRO!$E$39=\"Non-endemic\",IF(AND($E148<>0,$G148=\"\"),IF($F148=0,COUNTRY_INFO!N148*$E148,COUNTRY_INFO!N148*($E148-$D148)),IF(AND($E148<>0,$G148<>0),IF($F148=0,COUNTRY_INFO!N148*$G148,COUNTRY_INFO!N148*($G148-$D148)),0)),IF($G148=\"\",COUNTRY_INFO!N148*$E148,COUNTRY_INFO!N148*$G148)))","v":0},{"$f":"IF(OR(COUNTRY_INFO!O148=\"Unknown\",COUNTRY_INFO!O148=\"Surveillance\",COUNTRY_INFO!O148=\"Not required\",COUNTRY_INFO!O148=0),0,IF($E148<>0, IF($F148=0,COUNTRY_INFO!O148*$E148,COUNTRY_INFO!O148*($E148-$D148)),COUNTRY_INFO!O148*$E148))","v":0},null,{"$f":"IF(OR(COUNTRY_INFO!P148=\"Unknown\",COUNTRY_INFO!P148=\"Surveillance\",COUNTRY_INFO!P148=\"Not required\",COUNTRY_INFO!P148=0),0,IF(AND($E148<>0,$J148=\"\"),IF($F148=0,COUNTRY_INFO!P148*$E148,COUNTRY_INFO!P148*($E148-$D148)), IF(AND($E148<>0,$J148<>0),IF($F148=0,COUNTRY_INFO!P148*$J148,COUNTRY_INFO!P148*($J148-$D148)), COUNTRY_INFO!P148*$J148)))","v":0},0,0,null,0,0,null,0,0,null,0]
[{"$f":"IF(AND(INTRO!$E$37=\"Non-endemic\",INTRO!$E$41=\"Non-endemic\"),\" \",IF(COUNTRY_INFO!A149=0,\" \",COUNTRY_INFO!A149))","v":"Ghana"},{"$f":"IF(AND(INTRO!$E$37=\"Non-endemic\",INTRO!$E$41=\"Non-endemic\"),\" \",IF(COUNTRY_INFO!B149=0,\" \",COUNTRY_INFO!B149))","v":"Greater Accra"},{"$f":"IF(AND(INTRO!$E$37=\"Non-endemic\",INTRO!$E$41=\"Non-endemic\"),\" \",IF(COUNTRY_INFO!C149=0,\" \",COUNTRY_INFO!C149))","v":"Ga Central"},{"$f":"IF(AND(INTRO!$E$37=\"Non-endemic\",INTRO!$E$41=\"Non-endemic\"),0,COUNTRY_INFO!V149)","v":0},{"$f":"IF(AND(INTRO!$E$37=\"Non-endemic\",INTRO!$E$41=\"Non-endemic\"),0,COUNTRY_INFO!X149)","v":0},{"$f":"IF(INTRO!$E$39=\"Non-endemic\",IF($D149=1,DEC!I149,0),IF($D149=1,IVM!G149,0))","v":0},null,{"$f":"IF(OR(COUNTRY_INFO!N149=\"Unknown\",COUNTRY_INFO!N149=\"Surveillance\",COUNTRY_INFO!N149=\"Not required\",COUNTRY_INFO!N149=0),0,IF(INTRO!$E$39=\"Non-endemic\",IF(AND($E149<>0,$G149=\"\"),IF($F149=0,COUNTRY_INFO!N149*$E149,COUNTRY_INFO!N149*($E149-$D149)),IF(AND($E149<>0,$G149<>0),IF($F149=0,COUNTRY_INFO!N149*$G149,COUNTRY_INFO!N149*($G149-$D149)),0)),IF($G149=\"\",COUNTRY_INFO!N149*$E149,COUNTRY_INFO!N149*$G149)))","v":0},{"$f":"IF(OR(COUNTRY_INFO!O149=\"Unknown\",COUNTRY_INFO!O149=\"Surveillance\",COUNTRY_INFO!O149=\"Not required\",COUNTRY_INFO!O149=0),0,IF($E149<>0, IF($F149=0,COUNTRY_INFO!O149*$E149,COUNTRY_INFO!O149*($E149-$D149)),COUNTRY_INFO!O149*$E149))","v":0},null,{"$f":"IF(OR(COUNTRY_INFO!P149=\"Unknown\",COUNTRY_INFO!P149=\"Surveillance\",COUNTRY_INFO!P149=\"Not required\",COUNTRY_INFO!P149=0),0,IF(AND($E149<>0,$J149=\"\"),IF($F149=0,COUNTRY_INFO!P149*$E149,COUNTRY_INFO!P149*($E149-$D149)), IF(AND($E149<>0,$J149<>0),IF($F149=0,COUNTRY_INFO!P149*$J149,COUNTRY_INFO!P149*($J149-$D149)), COUNTRY_INFO!P149*$J149)))","v":0},0,0,null,0,0,null,0,0,null,0]
[{"$f":"IF(AND(INTRO!$E$37=\"Non-endemic\",INTRO!$E$41=\"Non-endemic\"),\" \",IF(COUNTRY_INFO!A150=0,\" \",COUNTRY_INFO!A150))","v":"Ghana"},{"$f":"IF(AND(INTRO!$E$37=\"Non-endemic\",INTRO!$E$41=\"Non-endemic\"),\" \",IF(COUNTRY_INFO!B150=0,\" \",COUNTRY_INFO!B150))","v":"Greater Accra"},{"$f":"IF(AND(INTRO!$E$37=\"Non-endemic\",INTRO!$E$41=\"Non-endemic\"),\" \",IF(COUNTRY_INFO!C150=0,\" \",COUNTRY_INFO!C150))","v":"Ga East"},{"$f":"IF(AND(INTRO!$E$37=\"Non-endemic\",INTRO!$E$41=\"Non-endemic\"),0,COUNTRY_INFO!V150)","v":0},{"$f":"IF(AND(INTRO!$E$37=\"Non-endemic\",INTRO!$E$41=\"Non-endemic\"),0,COUNTRY_INFO!X150)","v":0},{"$f":"IF(INTRO!$E$39=\"Non-endemic\",IF($D150=1,DEC!I150,0),IF($D150=1,IVM!G150,0))","v":0},null,{"$f":"IF(OR(COUNTRY_INFO!N150=\"Unknown\",COUNTRY_INFO!N150=\"Surveillance\",COUNTRY_INFO!N150=\"Not required\",COUNTRY_INFO!N150=0),0,IF(INTRO!$E$39=\"Non-endemic\",IF(AND($E150<>0,$G150=\"\"),IF($F150=0,COUNTRY_INFO!N150*$E150,COUNTRY_INFO!N150*($E150-$D150)),IF(AND($E150<>0,$G150<>0),IF($F150=0,COUNTRY_INFO!N150*$G150,COUNTRY_INFO!N150*($G150-$D150)),0)),IF($G150=\"\",COUNTRY_INFO!N150*$E150,COUNTRY_INFO!N150*$G150)))","v":0},{"$f":"IF(OR(COUNTRY_INFO!O150=\"Unknown\",COUNTRY_INFO!O150=\"Surveillance\",COUNTRY_INFO!O150=\"Not required\",COUNTRY_INFO!O150=0),0,IF($E150<>0, IF($F150=0,COUNTRY_INFO!O150*$E150,COUNTRY_INFO!O150*($E150-$D150)),COUNTRY_INFO!O150*$E150))","v":0},null,{"$f":"IF(OR(COUNTRY_INFO!P150=\"Unknown\",COUNTRY_INFO!P150=\"Surveillance\",COUNTRY_INFO!P150=\"Not required\",COUNTRY_INFO!P150=0),0,IF(AND($E150<>0,$J150=\"\"),IF($F150=0,COUNTRY_INFO!P150*$E150,COUNTRY_INFO!P150*($E150-$D150)), IF(AND($E150<>0,$J150<>0),IF($F150=0,COUNTRY_INFO!P150*$J150,COUNTRY_INFO!P150*($J150-$D150)), COUNTRY_INFO!P150*$J150)))","v":0},0,0,null,0,0,null,0,0,null,0]
[{"$f":"IF(AND(INTRO!$E$37=\"Non-endemic\",INTRO!$E$41=\"Non-endemic\"),\" \",IF(COUNTRY_INFO!A151=0,\" \",COUNTRY_INFO!A151))","v":"Ghana"},{"$f":"IF(AND(INTRO!$E$37=\"Non-endemic\",INTRO!$E$41=\"Non-endemic\"),\" \",IF(COUNTRY_INFO!B151=0,\" \",COUNTRY_INFO!B151))","v":"Greater Accra"},{"$f":"IF(AND(INTRO!$E$37=\"Non-endemic\",INTRO!$E$41=\"Non-endemic\"),\" \",IF(COUNTRY_INFO!C151=0,\" \",COUNTRY_INFO!C151))","v":"Ga North"},{"$f":"IF(AND(INTRO!$E$37=\"Non-endemic\",INTRO!$E$41=\"Non-endemic\"),0,COUNTRY_INFO!V151)","v":0},{"$f":"IF(AND(INTRO!$E$37=\"Non-endemic\",INTRO!$E$41=\"Non-endemic\"),0,COUNTRY_INFO!X151)","v":0},{"$f":"IF(INTRO!$E$39=\"Non-endemic\",IF($D151=1,DEC!I151,0),IF($D151=1,IVM!G151,0))","v":0},null,{"$f":"IF(OR(COUNTRY_INFO!N151=\"Unknown\",COUNTRY_INFO!N151=\"Surveillance\",COUNTRY_INFO!N151=\"Not required\",COUNTRY_INFO!N151=0),0,IF(INTRO!$E$39=\"Non-endemic\",IF(AND($E151<>0,$G151=\"\"),IF($F151=0,COUNTRY_INFO!N151*$E151,COUNTRY_INFO!N151*($E151-$D151)),IF(AND($E151<>0,$G151<>0),IF($F151=0,COUNTRY_INFO!N151*$G151,COUNTRY_INFO!N151*($G151-$D151)),0)),IF($G151=\"\",COUNTRY_INFO!N151*$E151,COUNTRY_INFO!N151*$G151)))","v":0},{"$f":"IF(OR(COUNTRY_INFO!O151=\"Unknown\",COUNTRY_INFO!O151=\"Surveillance\",COUNTRY_INFO!O151=\"Not required\",COUNTRY_INFO!O151=0),0,IF($E151<>0, IF($F151=0,COUNTRY_INFO!O151*$E151,COUNTRY_INFO!O151*($E151-$D151)),COUNTRY_INFO!O151*$E151))","v":0},null,{"$f":"IF(OR(COUNTRY_INFO!P151=\"Unknown\",COUNTRY_INFO!P151=\"Surveillance\",COUNTRY_INFO!P151=\"Not required\",COUNTRY_INFO!P151=0),0,IF(AND($E151<>0,$J151=\"\"),IF($F151=0,COUNTRY_INFO!P151*$E151,COUNTRY_INFO!P151*($E151-$D151)), IF(AND($E151<>0,$J151<>0),IF($F151=0,COUNTRY_INFO!P151*$J151,COUNTRY_INFO!P151*($J151-$D151)), COUNTRY_INFO!P151*$J151)))","v":0},0,0,null,0,0,null,0,0,null,0]
[{"$f":"IF(AND(INTRO!$E$37=\"Non-endemic\",INTRO!$E$41=\"Non-endemic\"),\" \",IF(COUNTRY_INFO!A152=0,\" \",COUNTRY_INFO!A152))","v":"Ghana"},{"$f":"IF(AND(INTRO!$E$37=\"Non-endemic\",INTRO!$E$41=\"Non-endemic\"),\" \",IF(COUNTRY_INFO!B152=0,\" \",COUNTRY_INFO!B152))","v":"Greater Accra"},{"$f":"IF(AND(INTRO!$E$37=\"Non-endemic\",INTRO!$E$41=\"Non-endemic\"),\" \",IF(COUNTRY_INFO!C152=0,\" \",COUNTRY_INFO!C152))","v":"Ga South"},{"$f":"IF(AND(INTRO!$E$37=\"Non-endemic\",INTRO!$E$41=\"Non-endemic\"),0,COUNTRY_INFO!V152)","v":0},{"$f":"IF(AND(INTRO!$E$37=\"Non-endemic\",INTRO!$E$41=\"Non-endemic\"),0,COUNTRY_INFO!X152)","v":0},{"$f":"IF(INTRO!$E$39=\"Non-endemic\",IF($D152=1,DEC!I152,0),IF($D152=1,IVM!G152,0))","v":0},null,{"$f":"IF(OR(COUNTRY_INFO!N152=\"Unknown\",COUNTRY_INFO!N152=\"Surveillance\",COUNTRY_INFO!N152=\"Not required\",COUNTRY_INFO!N152=0),0,IF(INTRO!$E$39=\"Non-endemic\",IF(AND($E152<>0,$G152=\"\"),IF($F152=0,COUNTRY_INFO!N152*$E152,COUNTRY_INFO!N152*($E152-$D152)),IF(AND($E152<>0,$G152<>0),IF($F152=0,COUNTRY_INFO!N152*$G152,COUNTRY_INFO!N152*($G152-$D152)),0)),IF($G152=\"\",COUNTRY_INFO!N152*$E152,COUNTRY_INFO!N152*$G152)))","v":0},{"$f":"IF(OR(COUNTRY_INFO!O152=\"Unknown\",COUNTRY_INFO!O152=\"Surveillance\",COUNTRY_INFO!O152=\"Not required\",COUNTRY_INFO!O152=0),0,IF($E152<>0, IF($F152=0,COUNTRY_INFO!O152*$E152,COUNTRY_INFO!O152*($E152-$D152)),COUNTRY_INFO!O152*$E152))","v":0},null,{"$f":"IF(OR(COUNTRY_INFO!P152=\"Unknown\",COUNTRY_INFO!P152=\"Surveillance\",COUNTRY_INFO!P152=\"Not required\",COUNTRY_INFO!P152=0),0,IF(AND($E152<>0,$J152=\"\"),IF($F152=0,COUNTRY_INFO!P152*$E152,COUNTRY_INFO!P152*($E152-$D152)), IF(AND($E152<>0,$J152<>0),IF($F152=0,COUNTRY_INFO!P152*$J152,COUNTRY_INFO!P152*($J152-$D152)), COUNTRY_INFO!P152*$J152)))","v":0},0,0,null,0,0,null,0,0,null,0]
[{"$f":"IF(AND(INTRO!$E$37=\"Non-endemic\",INTRO!$E$41=\"Non-endemic\"),\" \",IF(COUNTRY_INFO!A153=0,\" \",COUNTRY_INFO!A153))","v":"Ghana"},{"$f":"IF(AND(INTRO!$E$37=\"Non-endemic\",INTRO!$E$41=\"Non-endemic\"),\" \",IF(COUNTRY_INFO!B153=0,\" \",COUNTRY_INFO!B153))","v":"Greater Accra"},{"$f":"IF(AND(INTRO!$E$37=\"Non-endemic\",INTRO!$E$41=\"Non-endemic\"),\" \",IF(COUNTRY_INFO!C153=0,\" \",COUNTRY_INFO!C153))","v":"Ga West"},{"$f":"IF(AND(INTRO!$E$37=\"Non-endemic\",INTRO!$E$41=\"Non-endemic\"),0,COUNTRY_INFO!V153)","v":0},{"$f":"IF(AND(INTRO!$E$37=\"Non-endemic\",INTRO!$E$41=\"Non-endemic\"),0,COUNTRY_INFO!X153)","v":0},{"$f":"IF(INTRO!$E$39=\"Non-endemic\",IF($D153=1,DEC!I153,0),IF($D153=1,IVM!G153,0))","v":0},null,{"$f":"IF(OR(COUNTRY_INFO!N153=\"Unknown\",COUNTRY_INFO!N153=\"Surveillance\",COUNTRY_INFO!N153=\"Not required\",COUNTRY_INFO!N153=0),0,IF(INTRO!$E$39=\"Non-endemic\",IF(AND($E153<>0,$G153=\"\"),IF($F153=0,COUNTRY_INFO!N153*$E153,COUNTRY_INFO!N153*($E153-$D153)),IF(AND($E153<>0,$G153<>0),IF($F153=0,COUNTRY_INFO!N153*$G153,COUNTRY_INFO!N153*($G153-$D153)),0)),IF($G153=\"\",COUNTRY_INFO!N153*$E153,COUNTRY_INFO!N153*$G153)))","v":0},{"$f":"IF(OR(COUNTRY_INFO!O153=\"Unknown\",COUNTRY_INFO!O153=\"Surveillance\",COUNTRY_INFO!O153=\"Not required\",COUNTRY_INFO!O153=0),0,IF($E153<>0, IF($F153=0,COUNTRY_INFO!O153*$E153,COUNTRY_INFO!O153*($E153-$D153)),COUNTRY_INFO!O153*$E153))","v":0},null,{"$f":"IF(OR(COUNTRY_INFO!P153=\"Unknown\",COUNTRY_INFO!P153=\"Surveillance\",COUNTRY_INFO!P153=\"Not required\",COUNTRY_INFO!P153=0),0,IF(AND($E153<>0,$J153=\"\"),IF($F153=0,COUNTRY_INFO!P153*$E153,COUNTRY_INFO!P153*($E153-$D153)), IF(AND($E153<>0,$J153<>0),IF($F153=0,COUNTRY_INFO!P153*$J153,COUNTRY_INFO!P153*($J153-$D153)), COUNTRY_INFO!P153*$J153)))","v":0},0,0,null,0,0,null,0,0,null,0]
[{"$f":"IF(AND(INTRO!$E$37=\"Non-endemic\",INTRO!$E$41=\"Non-endemic\"),\" \",IF(COUNTRY_INFO!A154=0,\" \",COUNTRY_INFO!A154))","v":"Ghana"},{"$f":"IF(AND(INTRO!$E$37=\"Non-endemic\",INTRO!$E$41=\"Non-endemic\"),\" \",IF(COUNTRY_INFO!B154=0,\" \",COUNTRY_INFO!B154))","v":"Greater Accra"},{"$f":"IF(AND(INTRO!$E$37=\"Non-endemic\",INTRO!$E$41=\"Non-endemic\"),\" \",IF(COUNTRY_INFO!C154=0,\" \",COUNTRY_INFO!C154))","v":"Korle-Klottey"},{"$f":"IF(AND(INTRO!$E$37=\"Non-endemic\",INTRO!$E$41=\"Non-endemic\"),0,COUNTRY_INFO!V154)","v":0},{"$f":"IF(AND(INTRO!$E$37=\"Non-endemic\",INTRO!$E$41=\"Non-endemic\"),0,COUNTRY_INFO!X154)","v":0},{"$f":"IF(INTRO!$E$39=\"Non-endemic\",IF($D154=1,DEC!I154,0),IF($D154=1,IVM!G154,0))","v":0},null,{"$f":"IF(OR(COUNTRY_INFO!N154=\"Unknown\",COUNTRY_INFO!N154=\"Surveillance\",COUNTRY_INFO!N154=\"Not required\",COUNTRY_INFO!N154=0),0,IF(INTRO!$E$39=\"Non-endemic\",IF(AND($E154<>0,$G154=\"\"),IF($F154=0,COUNTRY_INFO!N154*$E154,COUNTRY_INFO!N154*($E154-$D154)),IF(AND($E154<>0,$G154<>0),IF($F154=0,COUNTRY_INFO!N154*$G154,COUNTRY_INFO!N154*($G154-$D154)),0)),IF($G154=\"\",COUNTRY_INFO!N154*$E154,COUNTRY_INFO!N154*$G154)))","v":0},{"$f":"IF(OR(COUNTRY_INFO!O154=\"Unknown\",COUNTRY_INFO!O154=\"Surveillance\",COUNTRY_INFO!O154=\"Not required\",COUNTRY_INFO!O154=0),0,IF($E154<>0, IF($F154=0,COUNTRY_INFO!O154*$E154,COUNTRY_INFO!O154*($E154-$D154)),COUNTRY_INFO!O154*$E154))","v":0},null,{"$f":"IF(OR(COUNTRY_INFO!P154=\"Unknown\",COUNTRY_INFO!P154=\"Surveillance\",COUNTRY_INFO!P154=\"Not required\",COUNTRY_INFO!P154=0),0,IF(AND($E154<>0,$J154=\"\"),IF($F154=0,COUNTRY_INFO!P154*$E154,COUNTRY_INFO!P154*($E154-$D154)), IF(AND($E154<>0,$J154<>0),IF($F154=0,COUNTRY_INFO!P154*$J154,COUNTRY_INFO!P154*($J154-$D154)), COUNTRY_INFO!P154*$J154)))","v":0},0,0,null,0,0,null,0,0,null,0]
[{"$f":"IF(AND(INTRO!$E$37=\"Non-endemic\",INTRO!$E$41=\"Non-endemic\"),\" \",IF(COUNTRY_INFO!A155=0,\" \",COUNTRY_INFO!A155))","v":"Ghana"},{"$f":"IF(AND(INTRO!$E$37=\"Non-endemic\",INTRO!$E$41=\"Non-endemic\"),\" \",IF(COUNTRY_INFO!B155=0,\" \",COUNTRY_INFO!B155))","v":"Greater Accra"},{"$f":"IF(AND(INTRO!$E$37=\"Non-endemic\",INTRO!$E$41=\"Non-endemic\"),\" \",IF(COUNTRY_INFO!C155=0,\" \",COUNTRY_INFO!C155))","v":"Kpone-Katamanso"},{"$f":"IF(AND(INTRO!$E$37=\"Non-endemic\",INTRO!$E$41=\"Non-endemic\"),0,COUNTRY_INFO!V155)","v":0},{"$f":"IF(AND(INTRO!$E$37=\"Non-endemic\",INTRO!$E$41=\"Non-endemic\"),0,COUNTRY_INFO!X155)","v":0},{"$f":"IF(INTRO!$E$39=\"Non-endemic\",IF($D155=1,DEC!I155,0),IF($D155=1,IVM!G155,0))","v":0},null,{"$f":"IF(OR(COUNTRY_INFO!N155=\"Unknown\",COUNTRY_INFO!N155=\"Surveillance\",COUNTRY_INFO!N155=\"Not required\",COUNTRY_INFO!N155=0),0,IF(INTRO!$E$39=\"Non-endemic\",IF(AND($E155<>0,$G155=\"\"),IF($F155=0,COUNTRY_INFO!N155*$E155,COUNTRY_INFO!N155*($E155-$D155)),IF(AND($E155<>0,$G155<>0),IF($F155=0,COUNTRY_INFO!N155*$G155,COUNTRY_INFO!N155*($G155-$D155)),0)),IF($G155=\"\",COUNTRY_INFO!N155*$E155,COUNTRY_INFO!N155*$G155)))","v":0},{"$f":"IF(OR(COUNTRY_INFO!O155=\"Unknown\",COUNTRY_INFO!O155=\"Surveillance\",COUNTRY_INFO!O155=\"Not required\",COUNTRY_INFO!O155=0),0,IF($E155<>0, IF($F155=0,COUNTRY_INFO!O155*$E155,COUNTRY_INFO!O155*($E155-$D155)),COUNTRY_INFO!O155*$E155))","v":0},null,{"$f":"IF(OR(COUNTRY_INFO!P155=\"Unknown\",COUNTRY_INFO!P155=\"Surveillance\",COUNTRY_INFO!P155=\"Not required\",COUNTRY_INFO!P155=0),0,IF(AND($E155<>0,$J155=\"\"),IF($F155=0,COUNTRY_INFO!P155*$E155,COUNTRY_INFO!P155*($E155-$D155)), IF(AND($E155<>0,$J155<>0),IF($F155=0,COUNTRY_INFO!P155*$J155,COUNTRY_INFO!P155*($J155-$D155)), COUNTRY_INFO!P155*$J155)))","v":0},0,0,null,0,0,null,0,0,null,0]
[{"$f":"IF(AND(INTRO!$E$37=\"Non-endemic\",INTRO!$E$41=\"Non-endemic\"),\" \",IF(COUNTRY_INFO!A156=0,\" \",COUNTRY_INFO!A156))","v":"Ghana"},{"$f":"IF(AND(INTRO!$E$37=\"Non-endemic\",INTRO!$E$41=\"Non-endemic\"),\" \",IF(COUNTRY_INFO!B156=0,\" \",COUNTRY_INFO!B156))","v":"Greater Accra"},{"$f":"IF(AND(INTRO!$E$37=\"Non-endemic\",INTRO!$E$41=\"Non-endemic\"),\" \",IF(COUNTRY_INFO!C156=0,\" \",COUNTRY_INFO!C156))","v":"Krowor"},{"$f":"IF(AND(INTRO!$E$37=\"Non-endemic\",INTRO!$E$41=\"Non-endemic\"),0,COUNTRY_INFO!V156)","v":0},{"$f":"IF(AND(INTRO!$E$37=\"Non-endemic\",INTRO!$E$41=\"Non-endemic\"),0,COUNTRY_INFO!X156)","v":0},{"$f":"IF(INTRO!$E$39=\"Non-endemic\",IF($D156=1,DEC!I156,0),IF($D156=1,IVM!G156,0))","v":0},null,{"$f":"IF(OR(COUNTRY_INFO!N156=\"Unknown\",COUNTRY_INFO!N156=\"Surveillance\",COUNTRY_INFO!N156=\"Not required\",COUNTRY_INFO!N156=0),0,IF(INTRO!$E$39=\"Non-endemic\",IF(AND($E156<>0,$G156=\"\"),IF($F156=0,COUNTRY_INFO!N156*$E156,COUNTRY_INFO!N156*($E156-$D156)),IF(AND($E156<>0,$G156<>0),IF($F156=0,COUNTRY_INFO!N156*$G156,COUNTRY_INFO!N156*($G156-$D156)),0)),IF($G156=\"\",COUNTRY_INFO!N156*$E156,COUNTRY_INFO!N156*$G156)))","v":0},{"$f":"IF(OR(COUNTRY_INFO!O156=\"Unknown\",COUNTRY_INFO!O156=\"Surveillance\",COUNTRY_INFO!O156=\"Not required\",COUNTRY_INFO!O156=0),0,IF($E156<>0, IF($F156=0,COUNTRY_INFO!O156*$E156,COUNTRY_INFO!O156*($E156-$D156)),COUNTRY_INFO!O156*$E156))","v":0},null,{"$f":"IF(OR(COUNTRY_INFO!P156=\"Unknown\",COUNTRY_INFO!P156=\"Surveillance\",COUNTRY_INFO!P156=\"Not required\",COUNTRY_INFO!P156=0),0,IF(AND($E156<>0,$J156=\"\"),IF($F156=0,COUNTRY_INFO!P156*$E156,COUNTRY_INFO!P156*($E156-$D156)), IF(AND($E156<>0,$J156<>0),IF($F156=0,COUNTRY_INFO!P156*$J156,COUNTRY_INFO!P156*($J156-$D156)), COUNTRY_INFO!P156*$J156)))","v":0},0,0,null,0,0,null,0,0,null,0]
[{"$f":"IF(AND(INTRO!$E$37=\"Non-endemic\",INTRO!$E$41=\"Non-endemic\"),\" \",IF(COUNTRY_INFO!A157=0,\" \",COUNTRY_INFO!A157))","v":"Ghana"},{"$f":"IF(AND(INTRO!$E$37=\"Non-endemic\",INTRO!$E$41=\"Non-endemic\"),\" \",IF(COUNTRY_INFO!B157=0,\" \",COUNTRY_INFO!B157))","v":"Greater Accra"},{"$f":"IF(AND(INTRO!$E$37=\"Non-endemic\",INTRO!$E$41=\"Non-endemic\"),\" \",IF(COUNTRY_INFO!C157=0,\" \",COUNTRY_INFO!C157))","v":"La-Dade-Kotopon"},{"$f":"IF(AND(INTRO!$E$37=\"Non-endemic\",INTRO!$E$41=\"Non-endemic\"),0,COUNTRY_INFO!V157)","v":0},{"$f":"IF(AND(INTRO!$E$37=\"Non-endemic\",INTRO!$E$41=\"Non-endemic\"),0,COUNTRY_INFO!X157)","v":0},{"$f":"IF(INTRO!$E$39=\"Non-endemic\",IF($D157=1,DEC!I157,0),IF($D157=1,IVM!G157,0))","v":0},null,{"$f":"IF(OR(COUNTRY_INFO!N157=\"Unknown\",COUNTRY_INFO!N157=\"Surveillance\",COUNTRY_INFO!N157=\"Not required\",COUNTRY_INFO!N157=0),0,IF(INTRO!$E$39=\"Non-endemic\",IF(AND($E157<>0,$G157=\"\"),IF($F157=0,COUNTRY_INFO!N157*$E157,COUNTRY_INFO!N157*($E157-$D157)),IF(AND($E157<>0,$G157<>0),IF($F157=0,COUNTRY_INFO!N157*$G157,COUNTRY_INFO!N157*($G157-$D157)),0)),IF($G157=\"\",COUNTRY_INFO!N157*$E157,COUNTRY_INFO!N157*$G157)))","v":0},{"$f":"IF(OR(COUNTRY_INFO!O157=\"Unknown\",COUNTRY_INFO!O157=\"Surveillance\",COUNTRY_INFO!O157=\"Not required\",COUNTRY_INFO!O157=0),0,IF($E157<>0, IF($F157=0,COUNTRY_INFO!O157*$E157,COUNTRY_INFO!O157*($E157-$D157)),COUNTRY_INFO!O157*$E157))","v":0},null,{"$f":"IF(OR(COUNTRY_INFO!P157=\"Unknown\",COUNTRY_INFO!P157=\"Surveillance\",COUNTRY_INFO!P157=\"Not required\",COUNTRY_INFO!P157=0),0,IF(AND($E157<>0,$J157=\"\"),IF($F157=0,COUNTRY_INFO!P157*$E157,COUNTRY_INFO!P157*($E157-$D157)), IF(AND($E157<>0,$J157<>0),IF($F157=0,COUNTRY_INFO!P157*$J157,COUNTRY_INFO!P157*($J157-$D157)), COUNTRY_INFO!P157*$J157)))","v":0},0,0,null,0,0,null,0,0,null,0]
[{"$f":"IF(AND(INTRO!$E$37=\"Non-endemic\",INTRO!$E$41=\"Non-endemic\"),\" \",IF(COUNTRY_INFO!A158=0,\" \",COUNTRY_INFO!A158))","v":"Ghana"},{"$f":"IF(AND(INTRO!$E$37=\"Non-endemic\",INTRO!$E$41=\"Non-endemic\"),\" \",IF(COUNTRY_INFO!B158=0,\" \",COUNTRY_INFO!B158))","v":"Greater Accra"},{"$f":"IF(AND(INTRO!$E$37=\"Non-endemic\",INTRO!$E$41=\"Non-endemic\"),\" \",IF(COUNTRY_INFO!C158=0,\" \",COUNTRY_INFO!C158))","v":"La-Nkwantanang-Madina"},{"$f":"IF(AND(INTRO!$E$37=\"Non-endemic\",INTRO!$E$41=\"Non-endemic\"),0,COUNTRY_INFO!V158)","v":0},{"$f":"IF(AND(INTRO!$E$37=\"Non-endemic\",INTRO!$E$41=\"Non-endemic\"),0,COUNTRY_INFO!X158)","v":0},{"$f":"IF(INTRO!$E$39=\"Non-endemic\",IF($D158=1,DEC!I158,0),IF($D158=1,IVM!G158,0))","v":0},null,{"$f":"IF(OR(COUNTRY_INFO!N158=\"Unknown\",COUNTRY_INFO!N158=\"Surveillance\",COUNTRY_INFO!N158=\"Not required\",COUNTRY_INFO!N158=0),0,IF(INTRO!$E$39=\"Non-endemic\",IF(AND($E158<>0,$G158=\"\"),IF($F158=0,COUNTRY_INFO!N158*$E158,COUNTRY_INFO!N158*($E158-$D158)),IF(AND($E158<>0,$G158<>0),IF($F158=0,COUNTRY_INFO!N158*$G158,COUNTRY_INFO!N158*($G158-$D158)),0)),IF($G158=\"\",COUNTRY_INFO!N158*$E158,COUNTRY_INFO!N158*$G158)))","v":0},{"$f":"IF(OR(COUNTRY_INFO!O158=\"Unknown\",COUNTRY_INFO!O158=\"Surveillance\",COUNTRY_INFO!O158=\"Not required\",COUNTRY_INFO!O158=0),0,IF($E158<>0, IF($F158=0,COUNTRY_INFO!O158*$E158,COUNTRY_INFO!O158*($E158-$D158)),COUNTRY_INFO!O158*$E158))","v":0},null,{"$f":"IF(OR(COUNTRY_INFO!P158=\"Unknown\",COUNTRY_INFO!P158=\"Surveillance\",COUNTRY_INFO!P158=\"Not required\",COUNTRY_INFO!P158=0),0,IF(AND($E158<>0,$J158=\"\"),IF($F158=0,COUNTRY_INFO!P158*$E158,COUNTRY_INFO!P158*($E158-$D158)), IF(AND($E158<>0,$J158<>0),IF($F158=0,COUNTRY_INFO!P158*$J158,COUNTRY_INFO!P158*($J158-$D158)), COUNTRY_INFO!P158*$J158)))","v":0},0,0,null,0,0,null,0,0,null,0]
[{"$f":"IF(AND(INTRO!$E$37=\"Non-endemic\",INTRO!$E$41=\"Non-endemic\"),\" \",IF(COUNTRY_INFO!A159=0,\" \",COUNTRY_INFO!A159))","v":"Ghana"},{"$f":"IF(AND(INTRO!$E$37=\"Non-endemic\",INTRO!$E$41=\"Non-endemic\"),\" \",IF(COUNTRY_INFO!B159=0,\" \",COUNTRY_INFO!B159))","v":"Greater Accra"},{"$f":"IF(AND(INTRO!$E$37=\"Non-endemic\",INTRO!$E$41=\"Non-endemic\"),\" \",IF(COUNTRY_INFO!C159=0,\" \",COUNTRY_INFO!C159))","v":"Ledzokuku"},{"$f":"IF(AND(INTRO!$E$37=\"Non-endemic\",INTRO!$E$41=\"Non-endemic\"),0,COUNTRY_INFO!V159)","v":0},{"$f":"IF(AND(INTRO!$E$37=\"Non-endemic\",INTRO!$E$41=\"Non-endemic\"),0,COUNTRY_INFO!X159)","v":0},{"$f":"IF(INTRO!$E$39=\"Non-endemic\",IF($D159=1,DEC!I159,0),IF($D159=1,IVM!G159,0))","v":0},null,{"$f":"IF(OR(COUNTRY_INFO!N159=\"Unknown\",COUNTRY_INFO!N159=\"Surveillance\",COUNTRY_INFO!N159=\"Not required\",COUNTRY_INFO!N159=0),0,IF(INTRO!$E$39=\"Non-endemic\",IF(AND($E159<>0,$G159=\"\"),IF($F159=0,COUNTRY_INFO!N159*$E159,COUNTRY_INFO!N159*($E159-$D159)),IF(AND($E159<>0,$G159<>0),IF($F159=0,COUNTRY_INFO!N159*$G159,COUNTRY_INFO!N159*($G159-$D159)),0)),IF($G159=\"\",COUNTRY_INFO!N159*$E159,COUNTRY_INFO!N159*$G159)))","v":0},{"$f":"IF(OR(COUNTRY_INFO!O159=\"Unknown\",COUNTRY_INFO!O159=\"Surveillance\",COUNTRY_INFO!O159=\"Not required\",COUNTRY_INFO!O159=0),0,IF($E159<>0, IF($F159=0,COUNTRY_INFO!O159*$E159,COUNTRY_INFO!O159*($E159-$D159)),COUNTRY_INFO!O159*$E159))","v":0},null,{"$f":"IF(OR(COUNTRY_INFO!P159=\"Unknown\",COUNTRY_INFO!P159=\"Surveillance\",COUNTRY_INFO!P159=\"Not required\",COUNTRY_INFO!P159=0),0,IF(AND($E159<>0,$J159=\"\"),IF($F159=0,COUNTRY_INFO!P159*$E159,COUNTRY_INFO!P159*($E159-$D159)), IF(AND($E159<>0,$J159<>0),IF($F159=0,COUNTRY_INFO!P159*$J159,COUNTRY_INFO!P159*($J159-$D159)), COUNTRY_INFO!P159*$J159)))","v":0},0,0,null,0,0,null,0,0,null,0]
[{"$f":"IF(AND(INTRO!$E$37=\"Non-endemic\",INTRO!$E$41=\"Non-endemic\"),\" \",IF(COUNTRY_INFO!A160=0,\" \",COUNTRY_INFO!A160))","v":"Ghana"},{"$f":"IF(AND(INTRO!$E$37=\"Non-endemic\",INTRO!$E$41=\"Non-endemic\"),\" \",IF(COUNTRY_INFO!B160=0,\" \",COUNTRY_INFO!B160))","v":"Greater Accra"},{"$f":"IF(AND(INTRO!$E$37=\"Non-endemic\",INTRO!$E$41=\"Non-endemic\"),\" \",IF(COUNTRY_INFO!C160=0,\" \",COUNTRY_INFO!C160))","v":"Ningo Prampram"},{"$f":"IF(AND(INTRO!$E$37=\"Non-endemic\",INTRO!$E$41=\"Non-endemic\"),0,COUNTRY_INFO!V160)","v":0},{"$f":"IF(AND(INTRO!$E$37=\"Non-endemic\",INTRO!$E$41=\"Non-endemic\"),0,COUNTRY_INFO!X160)","v":0},{"$f":"IF(INTRO!$E$39=\"Non-endemic\",IF($D160=1,DEC!I160,0),IF($D160=1,IVM!G160,0))","v":0},null,{"$f":"IF(OR(COUNTRY_INFO!N160=\"Unknown\",COUNTRY_INFO!N160=\"Surveillance\",COUNTRY_INFO!N160=\"Not required\",COUNTRY_INFO!N160=0),0,IF(INTRO!$E$39=\"Non-endemic\",IF(AND($E160<>0,$G160=\"\"),IF($F160=0,COUNTRY_INFO!N160*$E160,COUNTRY_INFO!N160*($E160-$D160)),IF(AND($E160<>0,$G160<>0),IF($F160=0,COUNTRY_INFO!N160*$G160,COUNTRY_INFO!N160*($G160-$D160)),0)),IF($G160=\"\",COUNTRY_INFO!N160*$E160,COUNTRY_INFO!N160*$G160)))","v":0},{"$f":"IF(OR(COUNTRY_INFO!O160=\"Unknown\",COUNTRY_INFO!O160=\"Surveillance\",COUNTRY_INFO!O160=\"Not required\",COUNTRY_INFO!O160=0),0,IF($E160<>0, IF($F160=0,COUNTRY_INFO!O160*$E160,COUNTRY_INFO!O160*($E160-$D160)),COUNTRY_INFO!O160*$E160))","v":0},null,{"$f":"IF(OR(COUNTRY_INFO!P160=\"Unknown\",COUNTRY_INFO!P160=\"Surveillance\",COUNTRY_INFO!P160=\"Not required\",COUNTRY_INFO!P160=0),0,IF(AND($E160<>0,$J160=\"\"),IF($F160=0,COUNTRY_INFO!P160*$E160,COUNTRY_INFO!P160*($E160-$D160)), IF(AND($E160<>0,$J160<>0),IF($F160=0,COUNTRY_INFO!P160*$J160,COUNTRY_INFO!P160*($J160-$D160)), COUNTRY_INFO!P160*$J160)))","v":0},0,0,null,0,0,null,0,0,null,0]
[{"$f":"IF(AND(INTRO!$E$37=\"Non-endemic\",INTRO!$E$41=\"Non-endemic\"),\" \",IF(COUNTRY_INFO!A161=0,\" \",COUNTRY_INFO!A161))","v":"Ghana"},{"$f":"IF(AND(INTRO!$E$37=\"Non-endemic\",INTRO!$E$41=\"Non-endemic\"),\" \",IF(COUNTRY_INFO!B161=0,\" \",COUNTRY_INFO!B161))","v":"Greater Accra"},{"$f":"IF(AND(INTRO!$E$37=\"Non-endemic\",INTRO!$E$41=\"Non-endemic\"),\" \",IF(COUNTRY_INFO!C161=0,\" \",COUNTRY_INFO!C161))","v":"Okai Koi North"},{"$f":"IF(AND(INTRO!$E$37=\"Non-endemic\",INTRO!$E$41=\"Non-endemic\"),0,COUNTRY_INFO!V161)","v":0},{"$f":"IF(AND(INTRO!$E$37=\"Non-endemic\",INTRO!$E$41=\"Non-endemic\"),0,COUNTRY_INFO!X161)","v":0},{"$f":"IF(INTRO!$E$39=\"Non-endemic\",IF($D161=1,DEC!I161,0),IF($D161=1,IVM!G161,0))","v":0},null,{"$f":"IF(OR(COUNTRY_INFO!N161=\"Unknown\",COUNTRY_INFO!N161=\"Surveillance\",COUNTRY_INFO!N161=\"Not required\",COUNTRY_INFO!N161=0),0,IF(INTRO!$E$39=\"Non-endemic\",IF(AND($E161<>0,$G161=\"\"),IF($F161=0,COUNTRY_INFO!N161*$E161,COUNTRY_INFO!N161*($E161-$D161)),IF(AND($E161<>0,$G161<>0),IF($F161=0,COUNTRY_INFO!N161*$G161,COUNTRY_INFO!N161*($G161-$D161)),0)),IF($G161=\"\",COUNTRY_INFO!N161*$E161,COUNTRY_INFO!N161*$G161)))","v":0},{"$f":"IF(OR(COUNTRY_INFO!O161=\"Unknown\",COUNTRY_INFO!O161=\"Surveillance\",COUNTRY_INFO!O161=\"Not required\",COUNTRY_INFO!O161=0),0,IF($E161<>0, IF($F161=0,COUNTRY_INFO!O161*$E161,COUNTRY_INFO!O161*($E161-$D161)),COUNTRY_INFO!O161*$E161))","v":0},null,{"$f":"IF(OR(COUNTRY_INFO!P161=\"Unknown\",COUNTRY_INFO!P161=\"Surveillance\",COUNTRY_INFO!P161=\"Not required\",COUNTRY_INFO!P161=0),0,IF(AND($E161<>0,$J161=\"\"),IF($F161=0,COUNTRY_INFO!P161*$E161,COUNTRY_INFO!P161*($E161-$D161)), IF(AND($E161<>0,$J161<>0),IF($F161=0,COUNTRY_INFO!P161*$J161,COUNTRY_INFO!P161*($J161-$D161)), COUNTRY_INFO!P161*$J161)))","v":0},0,0,null,0,0,null,0,0,null,0]
[{"$f":"IF(AND(INTRO!$E$37=\"Non-endemic\",INTRO!$E$41=\"Non-endemic\"),\" \",IF(COUNTRY_INFO!A162=0,\" \",COUNTRY_INFO!A162))","v":"Ghana"},{"$f":"IF(AND(INTRO!$E$37=\"Non-endemic\",INTRO!$E$41=\"Non-endemic\"),\" \",IF(COUNTRY_INFO!B162=0,\" \",COUNTRY_INFO!B162))","v":"Greater Accra"},{"$f":"IF(AND(INTRO!$E$37=\"Non-endemic\",INTRO!$E$41=\"Non-endemic\"),\" \",IF(COUNTRY_INFO!C162=0,\" \",COUNTRY_INFO!C162))","v":"Shai-Osudoku"},{"$f":"IF(AND(INTRO!$E$37=\"Non-endemic\",INTRO!$E$41=\"Non-endemic\"),0,COUNTRY_INFO!V162)","v":0},{"$f":"IF(AND(INTRO!$E$37=\"Non-endemic\",INTRO!$E$41=\"Non-endemic\"),0,COUNTRY_INFO!X162)","v":0},{"$f":"IF(INTRO!$E$39=\"Non-endemic\",IF($D162=1,DEC!I162,0),IF($D162=1,IVM!G162,0))","v":0},null,{"$f":"IF(OR(COUNTRY_INFO!N162=\"Unknown\",COUNTRY_INFO!N162=\"Surveillance\",COUNTRY_INFO!N162=\"Not required\",COUNTRY_INFO!N162=0),0,IF(INTRO!$E$39=\"Non-endemic\",IF(AND($E162<>0,$G162=\"\"),IF($F162=0,COUNTRY_INFO!N162*$E162,COUNTRY_INFO!N162*($E162-$D162)),IF(AND($E162<>0,$G162<>0),IF($F162=0,COUNTRY_INFO!N162*$G162,COUNTRY_INFO!N162*($G162-$D162)),0)),IF($G162=\"\",COUNTRY_INFO!N162*$E162,COUNTRY_INFO!N162*$G162)))","v":0},{"$f":"IF(OR(COUNTRY_INFO!O162=\"Unknown\",COUNTRY_INFO!O162=\"Surveillance\",COUNTRY_INFO!O162=\"Not required\",COUNTRY_INFO!O162=0),0,IF($E162<>0, IF($F162=0,COUNTRY_INFO!O162*$E162,COUNTRY_INFO!O162*($E162-$D162)),COUNTRY_INFO!O162*$E162))","v":0},null,{"$f":"IF(OR(COUNTRY_INFO!P162=\"Unknown\",COUNTRY_INFO!P162=\"Surveillance\",COUNTRY_INFO!P162=\"Not required\",COUNTRY_INFO!P162=0),0,IF(AND($E162<>0,$J162=\"\"),IF($F162=0,COUNTRY_INFO!P162*$E162,COUNTRY_INFO!P162*($E162-$D162)), IF(AND($E162<>0,$J162<>0),IF($F162=0,COUNTRY_INFO!P162*$J162,COUNTRY_INFO!P162*($J162-$D162)), COUNTRY_INFO!P162*$J162)))","v":0},0,0,null,0,0,null,0,0,null,0]
[{"$f":"IF(AND(INTRO!$E$37=\"Non-endemic\",INTRO!$E$41=\"Non-endemic\"),\" \",IF(COUNTRY_INFO!A163=0,\" \",COUNTRY_INFO!A163))","v":"Ghana"},{"$f":"IF(AND(INTRO!$E$37=\"Non-endemic\",INTRO!$E$41=\"Non-endemic\"),\" \",IF(COUNTRY_INFO!B163=0,\" \",COUNTRY_INFO!B163))","v":"Greater Accra"},{"$f":"IF(AND(INTRO!$E$37=\"Non-endemic\",INTRO!$E$41=\"Non-endemic\"),\" \",IF(COUNTRY_INFO!C163=0,\" \",COUNTRY_INFO!C163))","v":"Tema"},{"$f":"IF(AND(INTRO!$E$37=\"Non-endemic\",INTRO!$E$41=\"Non-endemic\"),0,COUNTRY_INFO!V163)","v":0},{"$f":"IF(AND(INTRO!$E$37=\"Non-endemic\",INTRO!$E$41=\"Non-endemic\"),0,COUNTRY_INFO!X163)","v":0},{"$f":"IF(INTRO!$E$39=\"Non-endemic\",IF($D163=1,DEC!I163,0),IF($D163=1,IVM!G163,0))","v":0},null,{"$f":"IF(OR(COUNTRY_INFO!N163=\"Unknown\",COUNTRY_INFO!N163=\"Surveillance\",COUNTRY_INFO!N163=\"Not required\",COUNTRY_INFO!N163=0),0,IF(INTRO!$E$39=\"Non-endemic\",IF(AND($E163<>0,$G163=\"\"),IF($F163=0,COUNTRY_INFO!N163*$E163,COUNTRY_INFO!N163*($E163-$D163)),IF(AND($E163<>0,$G163<>0),IF($F163=0,COUNTRY_INFO!N163*$G163,COUNTRY_INFO!N163*($G163-$D163)),0)),IF($G163=\"\",COUNTRY_INFO!N163*$E163,COUNTRY_INFO!N163*$G163)))","v":0},{"$f":"IF(OR(COUNTRY_INFO!O163=\"Unknown\",COUNTRY_INFO!O163=\"Surveillance\",COUNTRY_INFO!O163=\"Not required\",COUNTRY_INFO!O163=0),0,IF($E163<>0, IF($F163=0,COUNTRY_INFO!O163*$E163,COUNTRY_INFO!O163*($E163-$D163)),COUNTRY_INFO!O163*$E163))","v":0},null,{"$f":"IF(OR(COUNTRY_INFO!P163=\"Unknown\",COUNTRY_INFO!P163=\"Surveillance\",COUNTRY_INFO!P163=\"Not required\",COUNTRY_INFO!P163=0),0,IF(AND($E163<>0,$J163=\"\"),IF($F163=0,COUNTRY_INFO!P163*$E163,COUNTRY_INFO!P163*($E163-$D163)), IF(AND($E163<>0,$J163<>0),IF($F163=0,COUNTRY_INFO!P163*$J163,COUNTRY_INFO!P163*($J163-$D163)), COUNTRY_INFO!P163*$J163)))","v":0},0,0,null,0,0,null,0,0,null,0]
[{"$f":"IF(AND(INTRO!$E$37=\"Non-endemic\",INTRO!$E$41=\"Non-endemic\"),\" \",IF(COUNTRY_INFO!A164=0,\" \",COUNTRY_INFO!A164))","v":"Ghana"},{"$f":"IF(AND(INTRO!$E$37=\"Non-endemic\",INTRO!$E$41=\"Non-endemic\"),\" \",IF(COUNTRY_INFO!B164=0,\" \",COUNTRY_INFO!B164))","v":"Greater Accra"},{"$f":"IF(AND(INTRO!$E$37=\"Non-endemic\",INTRO!$E$41=\"Non-endemic\"),\" \",IF(COUNTRY_INFO!C164=0,\" \",COUNTRY_INFO!C164))","v":"Tema West"},{"$f":"IF(AND(INTRO!$E$37=\"Non-endemic\",INTRO!$E$41=\"Non-endemic\"),0,COUNTRY_INFO!V164)","v":0},{"$f":"IF(AND(INTRO!$E$37=\"Non-endemic\",INTRO!$E$41=\"Non-endemic\"),0,COUNTRY_INFO!X164)","v":0},{"$f":"IF(INTRO!$E$39=\"Non-endemic\",IF($D164=1,DEC!I164,0),IF($D164=1,IVM!G164,0))","v":0},null,{"$f":"IF(OR(COUNTRY_INFO!N164=\"Unknown\",COUNTRY_INFO!N164=\"Surveillance\",COUNTRY_INFO!N164=\"Not required\",COUNTRY_INFO!N164=0),0,IF(INTRO!$E$39=\"Non-endemic\",IF(AND($E164<>0,$G164=\"\"),IF($F164=0,COUNTRY_INFO!N164*$E164,COUNTRY_INFO!N164*($E164-$D164)),IF(AND($E164<>0,$G164<>0),IF($F164=0,COUNTRY_INFO!N164*$G164,COUNTRY_INFO!N164*($G164-$D164)),0)),IF($G164=\"\",COUNTRY_INFO!N164*$E164,COUNTRY_INFO!N164*$G164)))","v":0},{"$f":"IF(OR(COUNTRY_INFO!O164=\"Unknown\",COUNTRY_INFO!O164=\"Surveillance\",COUNTRY_INFO!O164=\"Not required\",COUNTRY_INFO!O164=0),0,IF($E164<>0, IF($F164=0,COUNTRY_INFO!O164*$E164,COUNTRY_INFO!O164*($E164-$D164)),COUNTRY_INFO!O164*$E164))","v":0},null,{"$f":"IF(OR(COUNTRY_INFO!P164=\"Unknown\",COUNTRY_INFO!P164=\"Surveillance\",COUNTRY_INFO!P164=\"Not required\",COUNTRY_INFO!P164=0),0,IF(AND($E164<>0,$J164=\"\"),IF($F164=0,COUNTRY_INFO!P164*$E164,COUNTRY_INFO!P164*($E164-$D164)), IF(AND($E164<>0,$J164<>0),IF($F164=0,COUNTRY_INFO!P164*$J164,COUNTRY_INFO!P164*($J164-$D164)), COUNTRY_INFO!P164*$J164)))","v":0},0,0,null,0,0,null,0,0,null,0]
[{"$f":"IF(AND(INTRO!$E$37=\"Non-endemic\",INTRO!$E$41=\"Non-endemic\"),\" \",IF(COUNTRY_INFO!A165=0,\" \",COUNTRY_INFO!A165))","v":"Ghana"},{"$f":"IF(AND(INTRO!$E$37=\"Non-endemic\",INTRO!$E$41=\"Non-endemic\"),\" \",IF(COUNTRY_INFO!B165=0,\" \",COUNTRY_INFO!B165))","v":"Greater Accra"},{"$f":"IF(AND(INTRO!$E$37=\"Non-endemic\",INTRO!$E$41=\"Non-endemic\"),\" \",IF(COUNTRY_INFO!C165=0,\" \",COUNTRY_INFO!C165))","v":"Weija-Gbawe"},{"$f":"IF(AND(INTRO!$E$37=\"Non-endemic\",INTRO!$E$41=\"Non-endemic\"),0,COUNTRY_INFO!V165)","v":0},{"$f":"IF(AND(INTRO!$E$37=\"Non-endemic\",INTRO!$E$41=\"Non-endemic\"),0,COUNTRY_INFO!X165)","v":0},{"$f":"IF(INTRO!$E$39=\"Non-endemic\",IF($D165=1,DEC!I165,0),IF($D165=1,IVM!G165,0))","v":0},null,{"$f":"IF(OR(COUNTRY_INFO!N165=\"Unknown\",COUNTRY_INFO!N165=\"Surveillance\",COUNTRY_INFO!N165=\"Not required\",COUNTRY_INFO!N165=0),0,IF(INTRO!$E$39=\"Non-endemic\",IF(AND($E165<>0,$G165=\"\"),IF($F165=0,COUNTRY_INFO!N165*$E165,COUNTRY_INFO!N165*($E165-$D165)),IF(AND($E165<>0,$G165<>0),IF($F165=0,COUNTRY_INFO!N165*$G165,COUNTRY_INFO!N165*($G165-$D165)),0)),IF($G165=\"\",COUNTRY_INFO!N165*$E165,COUNTRY_INFO!N165*$G165)))","v":0},{"$f":"IF(OR(COUNTRY_INFO!O165=\"Unknown\",COUNTRY_INFO!O165=\"Surveillance\",COUNTRY_INFO!O165=\"Not required\",COUNTRY_INFO!O165=0),0,IF($E165<>0, IF($F165=0,COUNTRY_INFO!O165*$E165,COUNTRY_INFO!O165*($E165-$D165)),COUNTRY_INFO!O165*$E165))","v":0},null,{"$f":"IF(OR(COUNTRY_INFO!P165=\"Unknown\",COUNTRY_INFO!P165=\"Surveillance\",COUNTRY_INFO!P165=\"Not required\",COUNTRY_INFO!P165=0),0,IF(AND($E165<>0,$J165=\"\"),IF($F165=0,COUNTRY_INFO!P165*$E165,COUNTRY_INFO!P165*($E165-$D165)), IF(AND($E165<>0,$J165<>0),IF($F165=0,COUNTRY_INFO!P165*$J165,COUNTRY_INFO!P165*($J165-$D165)), COUNTRY_INFO!P165*$J165)))","v":0},0,0,null,0,0,null,0,0,null,0]
[{"$f":"IF(AND(INTRO!$E$37=\"Non-endemic\",INTRO!$E$41=\"Non-endemic\"),\" \",IF(COUNTRY_INFO!A166=0,\" \",COUNTRY_INFO!A166))","v":"Ghana"},{"$f":"IF(AND(INTRO!$E$37=\"Non-endemic\",INTRO!$E$41=\"Non-endemic\"),\" \",IF(COUNTRY_INFO!B166=0,\" \",COUNTRY_INFO!B166))","v":"North East"},{"$f":"IF(AND(INTRO!$E$37=\"Non-endemic\",INTRO!$E$41=\"Non-endemic\"),\" \",IF(COUNTRY_INFO!C166=0,\" \",COUNTRY_INFO!C166))","v":"Bunkpurugu -Nakpanduri"},{"$f":"IF(AND(INTRO!$E$37=\"Non-endemic\",INTRO!$E$41=\"Non-endemic\"),0,COUNTRY_INFO!V166)","v":0},{"$f":"IF(AND(INTRO!$E$37=\"Non-endemic\",INTRO!$E$41=\"Non-endemic\"),0,COUNTRY_INFO!X166)","v":0},{"$f":"IF(INTRO!$E$39=\"Non-endemic\",IF($D166=1,DEC!I166,0),IF($D166=1,IVM!G166,0))","v":0},null,{"$f":"IF(OR(COUNTRY_INFO!N166=\"Unknown\",COUNTRY_INFO!N166=\"Surveillance\",COUNTRY_INFO!N166=\"Not required\",COUNTRY_INFO!N166=0),0,IF(INTRO!$E$39=\"Non-endemic\",IF(AND($E166<>0,$G166=\"\"),IF($F166=0,COUNTRY_INFO!N166*$E166,COUNTRY_INFO!N166*($E166-$D166)),IF(AND($E166<>0,$G166<>0),IF($F166=0,COUNTRY_INFO!N166*$G166,COUNTRY_INFO!N166*($G166-$D166)),0)),IF($G166=\"\",COUNTRY_INFO!N166*$E166,COUNTRY_INFO!N166*$G166)))","v":0},{"$f":"IF(OR(COUNTRY_INFO!O166=\"Unknown\",COUNTRY_INFO!O166=\"Surveillance\",COUNTRY_INFO!O166=\"Not required\",COUNTRY_INFO!O166=0),0,IF($E166<>0, IF($F166=0,COUNTRY_INFO!O166*$E166,COUNTRY_INFO!O166*($E166-$D166)),COUNTRY_INFO!O166*$E166))","v":0},null,{"$f":"IF(OR(COUNTRY_INFO!P166=\"Unknown\",COUNTRY_INFO!P166=\"Surveillance\",COUNTRY_INFO!P166=\"Not required\",COUNTRY_INFO!P166=0),0,IF(AND($E166<>0,$J166=\"\"),IF($F166=0,COUNTRY_INFO!P166*$E166,COUNTRY_INFO!P166*($E166-$D166)), IF(AND($E166<>0,$J166<>0),IF($F166=0,COUNTRY_INFO!P166*$J166,COUNTRY_INFO!P166*($J166-$D166)), COUNTRY_INFO!P166*$J166)))","v":0},0,0,null,0,0,null,0,0,null,0]
[{"$f":"IF(AND(INTRO!$E$37=\"Non-endemic\",INTRO!$E$41=\"Non-endemic\"),\" \",IF(COUNTRY_INFO!A167=0,\" \",COUNTRY_INFO!A167))","v":"Ghana"},{"$f":"IF(AND(INTRO!$E$37=\"Non-endemic\",INTRO!$E$41=\"Non-endemic\"),\" \",IF(COUNTRY_INFO!B167=0,\" \",COUNTRY_INFO!B167))","v":"North East"},{"$f":"IF(AND(INTRO!$E$37=\"Non-endemic\",INTRO!$E$41=\"Non-endemic\"),\" \",IF(COUNTRY_INFO!C167=0,\" \",COUNTRY_INFO!C167))","v":"Chereponi"},{"$f":"IF(AND(INTRO!$E$37=\"Non-endemic\",INTRO!$E$41=\"Non-endemic\"),0,COUNTRY_INFO!V167)","v":0},{"$f":"IF(AND(INTRO!$E$37=\"Non-endemic\",INTRO!$E$41=\"Non-endemic\"),0,COUNTRY_INFO!X167)","v":0},{"$f":"IF(INTRO!$E$39=\"Non-endemic\",IF($D167=1,DEC!I167,0),IF($D167=1,IVM!G167,0))","v":0},null,{"$f":"IF(OR(COUNTRY_INFO!N167=\"Unknown\",COUNTRY_INFO!N167=\"Surveillance\",COUNTRY_INFO!N167=\"Not required\",COUNTRY_INFO!N167=0),0,IF(INTRO!$E$39=\"Non-endemic\",IF(AND($E167<>0,$G167=\"\"),IF($F167=0,COUNTRY_INFO!N167*$E167,COUNTRY_INFO!N167*($E167-$D167)),IF(AND($E167<>0,$G167<>0),IF($F167=0,COUNTRY_INFO!N167*$G167,COUNTRY_INFO!N167*($G167-$D167)),0)),IF($G167=\"\",COUNTRY_INFO!N167*$E167,COUNTRY_INFO!N167*$G167)))","v":0},{"$f":"IF(OR(COUNTRY_INFO!O167=\"Unknown\",COUNTRY_INFO!O167=\"Surveillance\",COUNTRY_INFO!O167=\"Not required\",COUNTRY_INFO!O167=0),0,IF($E167<>0, IF($F167=0,COUNTRY_INFO!O167*$E167,COUNTRY_INFO!O167*($E167-$D167)),COUNTRY_INFO!O167*$E167))","v":0},null,{"$f":"IF(OR(COUNTRY_INFO!P167=\"Unknown\",COUNTRY_INFO!P167=\"Surveillance\",COUNTRY_INFO!P167=\"Not required\",COUNTRY_INFO!P167=0),0,IF(AND($E167<>0,$J167=\"\"),IF($F167=0,COUNTRY_INFO!P167*$E167,COUNTRY_INFO!P167*($E167-$D167)), IF(AND($E167<>0,$J167<>0),IF($F167=0,COUNTRY_INFO!P167*$J167,COUNTRY_INFO!P167*($J167-$D167)), COUNTRY_INFO!P167*$J167)))","v":0},0,0,null,0,0,null,0,0,null,0]
[{"$f":"IF(AND(INTRO!$E$37=\"Non-endemic\",INTRO!$E$41=\"Non-endemic\"),\" \",IF(COUNTRY_INFO!A168=0,\" \",COUNTRY_INFO!A168))","v":"Ghana"},{"$f":"IF(AND(INTRO!$E$37=\"Non-endemic\",INTRO!$E$41=\"Non-endemic\"),\" \",IF(COUNTRY_INFO!B168=0,\" \",COUNTRY_INFO!B168))","v":"North East"},{"$f":"IF(AND(INTRO!$E$37=\"Non-endemic\",INTRO!$E$41=\"Non-endemic\"),\" \",IF(COUNTRY_INFO!C168=0,\" \",COUNTRY_INFO!C168))","v":"East Mamprusi"},{"$f":"IF(AND(INTRO!$E$37=\"Non-endemic\",INTRO!$E$41=\"Non-endemic\"),0,COUNTRY_INFO!V168)","v":0},{"$f":"IF(AND(INTRO!$E$37=\"Non-endemic\",INTRO!$E$41=\"Non-endemic\"),0,COUNTRY_INFO!X168)","v":0},{"$f":"IF(INTRO!$E$39=\"Non-endemic\",IF($D168=1,DEC!I168,0),IF($D168=1,IVM!G168,0))","v":0},null,{"$f":"IF(OR(COUNTRY_INFO!N168=\"Unknown\",COUNTRY_INFO!N168=\"Surveillance\",COUNTRY_INFO!N168=\"Not required\",COUNTRY_INFO!N168=0),0,IF(INTRO!$E$39=\"Non-endemic\",IF(AND($E168<>0,$G168=\"\"),IF($F168=0,COUNTRY_INFO!N168*$E168,COUNTRY_INFO!N168*($E168-$D168)),IF(AND($E168<>0,$G168<>0),IF($F168=0,COUNTRY_INFO!N168*$G168,COUNTRY_INFO!N168*($G168-$D168)),0)),IF($G168=\"\",COUNTRY_INFO!N168*$E168,COUNTRY_INFO!N168*$G168)))","v":0},{"$f":"IF(OR(COUNTRY_INFO!O168=\"Unknown\",COUNTRY_INFO!O168=\"Surveillance\",COUNTRY_INFO!O168=\"Not required\",COUNTRY_INFO!O168=0),0,IF($E168<>0, IF($F168=0,COUNTRY_INFO!O168*$E168,COUNTRY_INFO!O168*($E168-$D168)),COUNTRY_INFO!O168*$E168))","v":0},null,{"$f":"IF(OR(COUNTRY_INFO!P168=\"Unknown\",COUNTRY_INFO!P168=\"Surveillance\",COUNTRY_INFO!P168=\"Not required\",COUNTRY_INFO!P168=0),0,IF(AND($E168<>0,$J168=\"\"),IF($F168=0,COUNTRY_INFO!P168*$E168,COUNTRY_INFO!P168*($E168-$D168)), IF(AND($E168<>0,$J168<>0),IF($F168=0,COUNTRY_INFO!P168*$J168,COUNTRY_INFO!P168*($J168-$D168)), COUNTRY_INFO!P168*$J168)))","v":0},0,0,null,0,0,null,0,0,null,0]
[{"$f":"IF(AND(INTRO!$E$37=\"Non-endemic\",INTRO!$E$41=\"Non-endemic\"),\" \",IF(COUNTRY_INFO!A169=0,\" \",COUNTRY_INFO!A169))","v":"Ghana"},{"$f":"IF(AND(INTRO!$E$37=\"Non-endemic\",INTRO!$E$41=\"Non-endemic\"),\" \",IF(COUNTRY_INFO!B169=0,\" \",COUNTRY_INFO!B169))","v":"North East"},{"$f":"IF(AND(INTRO!$E$37=\"Non-endemic\",INTRO!$E$41=\"Non-endemic\"),\" \",IF(COUNTRY_INFO!C169=0,\" \",COUNTRY_INFO!C169))","v":"Mamprugu-Moagduri"},{"$f":"IF(AND(INTRO!$E$37=\"Non-endemic\",INTRO!$E$41=\"Non-endemic\"),0,COUNTRY_INFO!V169)","v":0},{"$f":"IF(AND(INTRO!$E$37=\"Non-endemic\",INTRO!$E$41=\"Non-endemic\"),0,COUNTRY_INFO!X169)","v":0},{"$f":"IF(INTRO!$E$39=\"Non-endemic\",IF($D169=1,DEC!I169,0),IF($D169=1,IVM!G169,0))","v":0},null,{"$f":"IF(OR(COUNTRY_INFO!N169=\"Unknown\",COUNTRY_INFO!N169=\"Surveillance\",COUNTRY_INFO!N169=\"Not required\",COUNTRY_INFO!N169=0),0,IF(INTRO!$E$39=\"Non-endemic\",IF(AND($E169<>0,$G169=\"\"),IF($F169=0,COUNTRY_INFO!N169*$E169,COUNTRY_INFO!N169*($E169-$D169)),IF(AND($E169<>0,$G169<>0),IF($F169=0,COUNTRY_INFO!N169*$G169,COUNTRY_INFO!N169*($G169-$D169)),0)),IF($G169=\"\",COUNTRY_INFO!N169*$E169,COUNTRY_INFO!N169*$G169)))","v":0},{"$f":"IF(OR(COUNTRY_INFO!O169=\"Unknown\",COUNTRY_INFO!O169=\"Surveillance\",COUNTRY_INFO!O169=\"Not required\",COUNTRY_INFO!O169=0),0,IF($E169<>0, IF($F169=0,COUNTRY_INFO!O169*$E169,COUNTRY_INFO!O169*($E169-$D169)),COUNTRY_INFO!O169*$E169))","v":0},null,{"$f":"IF(OR(COUNTRY_INFO!P169=\"Unknown\",COUNTRY_INFO!P169=\"Surveillance\",COUNTRY_INFO!P169=\"Not required\",COUNTRY_INFO!P169=0),0,IF(AND($E169<>0,$J169=\"\"),IF($F169=0,COUNTRY_INFO!P169*$E169,COUNTRY_INFO!P169*($E169-$D169)), IF(AND($E169<>0,$J169<>0),IF($F169=0,COUNTRY_INFO!P169*$J169,COUNTRY_INFO!P169*($J169-$D169)), COUNTRY_INFO!P169*$J169)))","v":0},0,0,null,0,0,null,0,0,null,0]
[{"$f":"IF(AND(INTRO!$E$37=\"Non-endemic\",INTRO!$E$41=\"Non-endemic\"),\" \",IF(COUNTRY_INFO!A170=0,\" \",COUNTRY_INFO!A170))","v":"Ghana"},{"$f":"IF(AND(INTRO!$E$37=\"Non-endemic\",INTRO!$E$41=\"Non-endemic\"),\" \",IF(COUNTRY_INFO!B170=0,\" \",COUNTRY_INFO!B170))","v":"North East"},{"$f":"IF(AND(INTRO!$E$37=\"Non-endemic\",INTRO!$E$41=\"Non-endemic\"),\" \",IF(COUNTRY_INFO!C170=0,\" \",COUNTRY_INFO!C170))","v":"West Mamprusi"},{"$f":"IF(AND(INTRO!$E$37=\"Non-endemic\",INTRO!$E$41=\"Non-endemic\"),0,COUNTRY_INFO!V170)","v":0},{"$f":"IF(AND(INTRO!$E$37=\"Non-endemic\",INTRO!$E$41=\"Non-endemic\"),0,COUNTRY_INFO!X170)","v":0},{"$f":"IF(INTRO!$E$39=\"Non-endemic\",IF($D170=1,DEC!I170,0),IF($D170=1,IVM!G170,0))","v":0},null,{"$f":"IF(OR(COUNTRY_INFO!N170=\"Unknown\",COUNTRY_INFO!N170=\"Surveillance\",COUNTRY_INFO!N170=\"Not required\",COUNTRY_INFO!N170=0),0,IF(INTRO!$E$39=\"Non-endemic\",IF(AND($E170<>0,$G170=\"\"),IF($F170=0,COUNTRY_INFO!N170*$E170,COUNTRY_INFO!N170*($E170-$D170)),IF(AND($E170<>0,$G170<>0),IF($F170=0,COUNTRY_INFO!N170*$G170,COUNTRY_INFO!N170*($G170-$D170)),0)),IF($G170=\"\",COUNTRY_INFO!N170*$E170,COUNTRY_INFO!N170*$G170)))","v":0},{"$f":"IF(OR(COUNTRY_INFO!O170=\"Unknown\",COUNTRY_INFO!O170=\"Surveillance\",COUNTRY_INFO!O170=\"Not required\",COUNTRY_INFO!O170=0),0,IF($E170<>0, IF($F170=0,COUNTRY_INFO!O170*$E170,COUNTRY_INFO!O170*($E170-$D170)),COUNTRY_INFO!O170*$E170))","v":0},null,{"$f":"IF(OR(COUNTRY_INFO!P170=\"Unknown\",COUNTRY_INFO!P170=\"Surveillance\",COUNTRY_INFO!P170=\"Not required\",COUNTRY_INFO!P170=0),0,IF(AND($E170<>0,$J170=\"\"),IF($F170=0,COUNTRY_INFO!P170*$E170,COUNTRY_INFO!P170*($E170-$D170)), IF(AND($E170<>0,$J170<>0),IF($F170=0,COUNTRY_INFO!P170*$J170,COUNTRY_INFO!P170*($J170-$D170)), COUNTRY_INFO!P170*$J170)))","v":0},0,0,null,0,0,null,0,0,null,0]
[{"$f":"IF(AND(INTRO!$E$37=\"Non-endemic\",INTRO!$E$41=\"Non-endemic\"),\" \",IF(COUNTRY_INFO!A171=0,\" \",COUNTRY_INFO!A171))","v":"Ghana"},{"$f":"IF(AND(INTRO!$E$37=\"Non-endemic\",INTRO!$E$41=\"Non-endemic\"),\" \",IF(COUNTRY_INFO!B171=0,\" \",COUNTRY_INFO!B171))","v":"North East"},{"$f":"IF(AND(INTRO!$E$37=\"Non-endemic\",INTRO!$E$41=\"Non-endemic\"),\" \",IF(COUNTRY_INFO!C171=0,\" \",COUNTRY_INFO!C171))","v":"Yunyoo-Nasuan"},{"$f":"IF(AND(INTRO!$E$37=\"Non-endemic\",INTRO!$E$41=\"Non-endemic\"),0,COUNTRY_INFO!V171)","v":0},{"$f":"IF(AND(INTRO!$E$37=\"Non-endemic\",INTRO!$E$41=\"Non-endemic\"),0,COUNTRY_INFO!X171)","v":0},{"$f":"IF(INTRO!$E$39=\"Non-endemic\",IF($D171=1,DEC!I171,0),IF($D171=1,IVM!G171,0))","v":0},null,{"$f":"IF(OR(COUNTRY_INFO!N171=\"Unknown\",COUNTRY_INFO!N171=\"Surveillance\",COUNTRY_INFO!N171=\"Not required\",COUNTRY_INFO!N171=0),0,IF(INTRO!$E$39=\"Non-endemic\",IF(AND($E171<>0,$G171=\"\"),IF($F171=0,COUNTRY_INFO!N171*$E171,COUNTRY_INFO!N171*($E171-$D171)),IF(AND($E171<>0,$G171<>0),IF($F171=0,COUNTRY_INFO!N171*$G171,COUNTRY_INFO!N171*($G171-$D171)),0)),IF($G171=\"\",COUNTRY_INFO!N171*$E171,COUNTRY_INFO!N171*$G171)))","v":0},{"$f":"IF(OR(COUNTRY_INFO!O171=\"Unknown\",COUNTRY_INFO!O171=\"Surveillance\",COUNTRY_INFO!O171=\"Not required\",COUNTRY_INFO!O171=0),0,IF($E171<>0, IF($F171=0,COUNTRY_INFO!O171*$E171,COUNTRY_INFO!O171*($E171-$D171)),COUNTRY_INFO!O171*$E171))","v":0},null,{"$f":"IF(OR(COUNTRY_INFO!P171=\"Unknown\",COUNTRY_INFO!P171=\"Surveillance\",COUNTRY_INFO!P171=\"Not required\",COUNTRY_INFO!P171=0),0,IF(AND($E171<>0,$J171=\"\"),IF($F171=0,COUNTRY_INFO!P171*$E171,COUNTRY_INFO!P171*($E171-$D171)), IF(AND($E171<>0,$J171<>0),IF($F171=0,COUNTRY_INFO!P171*$J171,COUNTRY_INFO!P171*($J171-$D171)), COUNTRY_INFO!P171*$J171)))","v":0},0,0,null,0,0,null,0,0,null,0]
[{"$f":"IF(AND(INTRO!$E$37=\"Non-endemic\",INTRO!$E$41=\"Non-endemic\"),\" \",IF(COUNTRY_INFO!A172=0,\" \",COUNTRY_INFO!A172))","v":"Ghana"},{"$f":"IF(AND(INTRO!$E$37=\"Non-endemic\",INTRO!$E$41=\"Non-endemic\"),\" \",IF(COUNTRY_INFO!B172=0,\" \",COUNTRY_INFO!B172))","v":"Northern"},{"$f":"IF(AND(INTRO!$E$37=\"Non-endemic\",INTRO!$E$41=\"Non-endemic\"),\" \",IF(COUNTRY_INFO!C172=0,\" \",COUNTRY_INFO!C172))","v":"Gushiegu"},{"$f":"IF(AND(INTRO!$E$37=\"Non-endemic\",INTRO!$E$41=\"Non-endemic\"),0,COUNTRY_INFO!V172)","v":0},{"$f":"IF(AND(INTRO!$E$37=\"Non-endemic\",INTRO!$E$41=\"Non-endemic\"),0,COUNTRY_INFO!X172)","v":0},{"$f":"IF(INTRO!$E$39=\"Non-endemic\",IF($D172=1,DEC!I172,0),IF($D172=1,IVM!G172,0))","v":0},null,{"$f":"IF(OR(COUNTRY_INFO!N172=\"Unknown\",COUNTRY_INFO!N172=\"Surveillance\",COUNTRY_INFO!N172=\"Not required\",COUNTRY_INFO!N172=0),0,IF(INTRO!$E$39=\"Non-endemic\",IF(AND($E172<>0,$G172=\"\"),IF($F172=0,COUNTRY_INFO!N172*$E172,COUNTRY_INFO!N172*($E172-$D172)),IF(AND($E172<>0,$G172<>0),IF($F172=0,COUNTRY_INFO!N172*$G172,COUNTRY_INFO!N172*($G172-$D172)),0)),IF($G172=\"\",COUNTRY_INFO!N172*$E172,COUNTRY_INFO!N172*$G172)))","v":0},{"$f":"IF(OR(COUNTRY_INFO!O172=\"Unknown\",COUNTRY_INFO!O172=\"Surveillance\",COUNTRY_INFO!O172=\"Not required\",COUNTRY_INFO!O172=0),0,IF($E172<>0, IF($F172=0,COUNTRY_INFO!O172*$E172,COUNTRY_INFO!O172*($E172-$D172)),COUNTRY_INFO!O172*$E172))","v":0},null,{"$f":"IF(OR(COUNTRY_INFO!P172=\"Unknown\",COUNTRY_INFO!P172=\"Surveillance\",COUNTRY_INFO!P172=\"Not required\",COUNTRY_INFO!P172=0),0,IF(AND($E172<>0,$J172=\"\"),IF($F172=0,COUNTRY_INFO!P172*$E172,COUNTRY_INFO!P172*($E172-$D172)), IF(AND($E172<>0,$J172<>0),IF($F172=0,COUNTRY_INFO!P172*$J172,COUNTRY_INFO!P172*($J172-$D172)), COUNTRY_INFO!P172*$J172)))","v":0},0,0,null,0,0,null,0,0,null,0]
[{"$f":"IF(AND(INTRO!$E$37=\"Non-endemic\",INTRO!$E$41=\"Non-endemic\"),\" \",IF(COUNTRY_INFO!A173=0,\" \",COUNTRY_INFO!A173))","v":"Ghana"},{"$f":"IF(AND(INTRO!$E$37=\"Non-endemic\",INTRO!$E$41=\"Non-endemic\"),\" \",IF(COUNTRY_INFO!B173=0,\" \",COUNTRY_INFO!B173))","v":"Northern"},{"$f":"IF(AND(INTRO!$E$37=\"Non-endemic\",INTRO!$E$41=\"Non-endemic\"),\" \",IF(COUNTRY_INFO!C173=0,\" \",COUNTRY_INFO!C173))","v":"Karaga"},{"$f":"IF(AND(INTRO!$E$37=\"Non-endemic\",INTRO!$E$41=\"Non-endemic\"),0,COUNTRY_INFO!V173)","v":0},{"$f":"IF(AND(INTRO!$E$37=\"Non-endemic\",INTRO!$E$41=\"Non-endemic\"),0,COUNTRY_INFO!X173)","v":0},{"$f":"IF(INTRO!$E$39=\"Non-endemic\",IF($D173=1,DEC!I173,0),IF($D173=1,IVM!G173,0))","v":0},null,{"$f":"IF(OR(COUNTRY_INFO!N173=\"Unknown\",COUNTRY_INFO!N173=\"Surveillance\",COUNTRY_INFO!N173=\"Not required\",COUNTRY_INFO!N173=0),0,IF(INTRO!$E$39=\"Non-endemic\",IF(AND($E173<>0,$G173=\"\"),IF($F173=0,COUNTRY_INFO!N173*$E173,COUNTRY_INFO!N173*($E173-$D173)),IF(AND($E173<>0,$G173<>0),IF($F173=0,COUNTRY_INFO!N173*$G173,COUNTRY_INFO!N173*($G173-$D173)),0)),IF($G173=\"\",COUNTRY_INFO!N173*$E173,COUNTRY_INFO!N173*$G173)))","v":0},{"$f":"IF(OR(COUNTRY_INFO!O173=\"Unknown\",COUNTRY_INFO!O173=\"Surveillance\",COUNTRY_INFO!O173=\"Not required\",COUNTRY_INFO!O173=0),0,IF($E173<>0, IF($F173=0,COUNTRY_INFO!O173*$E173,COUNTRY_INFO!O173*($E173-$D173)),COUNTRY_INFO!O173*$E173))","v":0},null,{"$f":"IF(OR(COUNTRY_INFO!P173=\"Unknown\",COUNTRY_INFO!P173=\"Surveillance\",COUNTRY_INFO!P173=\"Not required\",COUNTRY_INFO!P173=0),0,IF(AND($E173<>0,$J173=\"\"),IF($F173=0,COUNTRY_INFO!P173*$E173,COUNTRY_INFO!P173*($E173-$D173)), IF(AND($E173<>0,$J173<>0),IF($F173=0,COUNTRY_INFO!P173*$J173,COUNTRY_INFO!P173*($J173-$D173)), COUNTRY_INFO!P173*$J173)))","v":0},0,0,null,0,0,null,0,0,null,0]
[{"$f":"IF(AND(INTRO!$E$37=\"Non-endemic\",INTRO!$E$41=\"Non-endemic\"),\" \",IF(COUNTRY_INFO!A174=0,\" \",COUNTRY_INFO!A174))","v":"Ghana"},{"$f":"IF(AND(INTRO!$E$37=\"Non-endemic\",INTRO!$E$41=\"Non-endemic\"),\" \",IF(COUNTRY_INFO!B174=0,\" \",COUNTRY_INFO!B174))","v":"Northern"},{"$f":"IF(AND(INTRO!$E$37=\"Non-endemic\",INTRO!$E$41=\"Non-endemic\"),\" \",IF(COUNTRY_INFO!C174=0,\" \",COUNTRY_INFO!C174))","v":"Kpandai"},{"$f":"IF(AND(INTRO!$E$37=\"Non-endemic\",INTRO!$E$41=\"Non-endemic\"),0,COUNTRY_INFO!V174)","v":0},{"$f":"IF(AND(INTRO!$E$37=\"Non-endemic\",INTRO!$E$41=\"Non-endemic\"),0,COUNTRY_INFO!X174)","v":0},{"$f":"IF(INTRO!$E$39=\"Non-endemic\",IF($D174=1,DEC!I174,0),IF($D174=1,IVM!G174,0))","v":0},null,{"$f":"IF(OR(COUNTRY_INFO!N174=\"Unknown\",COUNTRY_INFO!N174=\"Surveillance\",COUNTRY_INFO!N174=\"Not required\",COUNTRY_INFO!N174=0),0,IF(INTRO!$E$39=\"Non-endemic\",IF(AND($E174<>0,$G174=\"\"),IF($F174=0,COUNTRY_INFO!N174*$E174,COUNTRY_INFO!N174*($E174-$D174)),IF(AND($E174<>0,$G174<>0),IF($F174=0,COUNTRY_INFO!N174*$G174,COUNTRY_INFO!N174*($G174-$D174)),0)),IF($G174=\"\",COUNTRY_INFO!N174*$E174,COUNTRY_INFO!N174*$G174)))","v":0},{"$f":"IF(OR(COUNTRY_INFO!O174=\"Unknown\",COUNTRY_INFO!O174=\"Surveillance\",COUNTRY_INFO!O174=\"Not required\",COUNTRY_INFO!O174=0),0,IF($E174<>0, IF($F174=0,COUNTRY_INFO!O174*$E174,COUNTRY_INFO!O174*($E174-$D174)),COUNTRY_INFO!O174*$E174))","v":0},null,{"$f":"IF(OR(COUNTRY_INFO!P174=\"Unknown\",COUNTRY_INFO!P174=\"Surveillance\",COUNTRY_INFO!P174=\"Not required\",COUNTRY_INFO!P174=0),0,IF(AND($E174<>0,$J174=\"\"),IF($F174=0,COUNTRY_INFO!P174*$E174,COUNTRY_INFO!P174*($E174-$D174)), IF(AND($E174<>0,$J174<>0),IF($F174=0,COUNTRY_INFO!P174*$J174,COUNTRY_INFO!P174*($J174-$D174)), COUNTRY_INFO!P174*$J174)))","v":0},0,0,null,0,0,null,0,0,null,0]
[{"$f":"IF(AND(INTRO!$E$37=\"Non-endemic\",INTRO!$E$41=\"Non-endemic\"),\" \",IF(COUNTRY_INFO!A175=0,\" \",COUNTRY_INFO!A175))","v":"Ghana"},{"$f":"IF(AND(INTRO!$E$37=\"Non-endemic\",INTRO!$E$41=\"Non-endemic\"),\" \",IF(COUNTRY_INFO!B175=0,\" \",COUNTRY_INFO!B175))","v":"Northern"},{"$f":"IF(AND(INTRO!$E$37=\"Non-endemic\",INTRO!$E$41=\"Non-endemic\"),\" \",IF(COUNTRY_INFO!C175=0,\" \",COUNTRY_INFO!C175))","v":"Kumbungu"},{"$f":"IF(AND(INTRO!$E$37=\"Non-endemic\",INTRO!$E$41=\"Non-endemic\"),0,COUNTRY_INFO!V175)","v":0},{"$f":"IF(AND(INTRO!$E$37=\"Non-endemic\",INTRO!$E$41=\"Non-endemic\"),0,COUNTRY_INFO!X175)","v":0},{"$f":"IF(INTRO!$E$39=\"Non-endemic\",IF($D175=1,DEC!I175,0),IF($D175=1,IVM!G175,0))","v":0},null,{"$f":"IF(OR(COUNTRY_INFO!N175=\"Unknown\",COUNTRY_INFO!N175=\"Surveillance\",COUNTRY_INFO!N175=\"Not required\",COUNTRY_INFO!N175=0),0,IF(INTRO!$E$39=\"Non-endemic\",IF(AND($E175<>0,$G175=\"\"),IF($F175=0,COUNTRY_INFO!N175*$E175,COUNTRY_INFO!N175*($E175-$D175)),IF(AND($E175<>0,$G175<>0),IF($F175=0,COUNTRY_INFO!N175*$G175,COUNTRY_INFO!N175*($G175-$D175)),0)),IF($G175=\"\",COUNTRY_INFO!N175*$E175,COUNTRY_INFO!N175*$G175)))","v":0},{"$f":"IF(OR(COUNTRY_INFO!O175=\"Unknown\",COUNTRY_INFO!O175=\"Surveillance\",COUNTRY_INFO!O175=\"Not required\",COUNTRY_INFO!O175=0),0,IF($E175<>0, IF($F175=0,COUNTRY_INFO!O175*$E175,COUNTRY_INFO!O175*($E175-$D175)),COUNTRY_INFO!O175*$E175))","v":0},null,{"$f":"IF(OR(COUNTRY_INFO!P175=\"Unknown\",COUNTRY_INFO!P175=\"Surveillance\",COUNTRY_INFO!P175=\"Not required\",COUNTRY_INFO!P175=0),0,IF(AND($E175<>0,$J175=\"\"),IF($F175=0,COUNTRY_INFO!P175*$E175,COUNTRY_INFO!P175*($E175-$D175)), IF(AND($E175<>0,$J175<>0),IF($F175=0,COUNTRY_INFO!P175*$J175,COUNTRY_INFO!P175*($J175-$D175)), COUNTRY_INFO!P175*$J175)))","v":0},0,0,null,0,0,null,0,0,null,0]
[{"$f":"IF(AND(INTRO!$E$37=\"Non-endemic\",INTRO!$E$41=\"Non-endemic\"),\" \",IF(COUNTRY_INFO!A176=0,\" \",COUNTRY_INFO!A176))","v":"Ghana"},{"$f":"IF(AND(INTRO!$E$37=\"Non-endemic\",INTRO!$E$41=\"Non-endemic\"),\" \",IF(COUNTRY_INFO!B176=0,\" \",COUNTRY_INFO!B176))","v":"Northern"},{"$f":"IF(AND(INTRO!$E$37=\"Non-endemic\",INTRO!$E$41=\"Non-endemic\"),\" \",IF(COUNTRY_INFO!C176=0,\" \",COUNTRY_INFO!C176))","v":"Mion"},{"$f":"IF(AND(INTRO!$E$37=\"Non-endemic\",INTRO!$E$41=\"Non-endemic\"),0,COUNTRY_INFO!V176)","v":0},{"$f":"IF(AND(INTRO!$E$37=\"Non-endemic\",INTRO!$E$41=\"Non-endemic\"),0,COUNTRY_INFO!X176)","v":0},{"$f":"IF(INTRO!$E$39=\"Non-endemic\",IF($D176=1,DEC!I176,0),IF($D176=1,IVM!G176,0))","v":0},null,{"$f":"IF(OR(COUNTRY_INFO!N176=\"Unknown\",COUNTRY_INFO!N176=\"Surveillance\",COUNTRY_INFO!N176=\"Not required\",COUNTRY_INFO!N176=0),0,IF(INTRO!$E$39=\"Non-endemic\",IF(AND($E176<>0,$G176=\"\"),IF($F176=0,COUNTRY_INFO!N176*$E176,COUNTRY_INFO!N176*($E176-$D176)),IF(AND($E176<>0,$G176<>0),IF($F176=0,COUNTRY_INFO!N176*$G176,COUNTRY_INFO!N176*($G176-$D176)),0)),IF($G176=\"\",COUNTRY_INFO!N176*$E176,COUNTRY_INFO!N176*$G176)))","v":0},{"$f":"IF(OR(COUNTRY_INFO!O176=\"Unknown\",COUNTRY_INFO!O176=\"Surveillance\",COUNTRY_INFO!O176=\"Not required\",COUNTRY_INFO!O176=0),0,IF($E176<>0, IF($F176=0,COUNTRY_INFO!O176*$E176,COUNTRY_INFO!O176*($E176-$D176)),COUNTRY_INFO!O176*$E176))","v":0},null,{"$f":"IF(OR(COUNTRY_INFO!P176=\"Unknown\",COUNTRY_INFO!P176=\"Surveillance\",COUNTRY_INFO!P176=\"Not required\",COUNTRY_INFO!P176=0),0,IF(AND($E176<>0,$J176=\"\"),IF($F176=0,COUNTRY_INFO!P176*$E176,COUNTRY_INFO!P176*($E176-$D176)), IF(AND($E176<>0,$J176<>0),IF($F176=0,COUNTRY_INFO!P176*$J176,COUNTRY_INFO!P176*($J176-$D176)), COUNTRY_INFO!P176*$J176)))","v":0},0,0,null,0,0,null,0,0,null,0]
[{"$f":"IF(AND(INTRO!$E$37=\"Non-endemic\",INTRO!$E$41=\"Non-endemic\"),\" \",IF(COUNTRY_INFO!A177=0,\" \",COUNTRY_INFO!A177))","v":"Ghana"},{"$f":"IF(AND(INTRO!$E$37=\"Non-endemic\",INTRO!$E$41=\"Non-endemic\"),\" \",IF(COUNTRY_INFO!B177=0,\" \",COUNTRY_INFO!B177))","v":"Northern"},{"$f":"IF(AND(INTRO!$E$37=\"Non-endemic\",INTRO!$E$41=\"Non-endemic\"),\" \",IF(COUNTRY_INFO!C177=0,\" \",COUNTRY_INFO!C177))","v":"Nanton"},{"$f":"IF(AND(INTRO!$E$37=\"Non-endemic\",INTRO!$E$41=\"Non-endemic\"),0,COUNTRY_INFO!V177)","v":0},{"$f":"IF(AND(INTRO!$E$37=\"Non-endemic\",INTRO!$E$41=\"Non-endemic\"),0,COUNTRY_INFO!X177)","v":0},{"$f":"IF(INTRO!$E$39=\"Non-endemic\",IF($D177=1,DEC!I177,0),IF($D177=1,IVM!G177,0))","v":0},null,{"$f":"IF(OR(COUNTRY_INFO!N177=\"Unknown\",COUNTRY_INFO!N177=\"Surveillance\",COUNTRY_INFO!N177=\"Not required\",COUNTRY_INFO!N177=0),0,IF(INTRO!$E$39=\"Non-endemic\",IF(AND($E177<>0,$G177=\"\"),IF($F177=0,COUNTRY_INFO!N177*$E177,COUNTRY_INFO!N177*($E177-$D177)),IF(AND($E177<>0,$G177<>0),IF($F177=0,COUNTRY_INFO!N177*$G177,COUNTRY_INFO!N177*($G177-$D177)),0)),IF($G177=\"\",COUNTRY_INFO!N177*$E177,COUNTRY_INFO!N177*$G177)))","v":0},{"$f":"IF(OR(COUNTRY_INFO!O177=\"Unknown\",COUNTRY_INFO!O177=\"Surveillance\",COUNTRY_INFO!O177=\"Not required\",COUNTRY_INFO!O177=0),0,IF($E177<>0, IF($F177=0,COUNTRY_INFO!O177*$E177,COUNTRY_INFO!O177*($E177-$D177)),COUNTRY_INFO!O177*$E177))","v":0},null,{"$f":"IF(OR(COUNTRY_INFO!P177=\"Unknown\",COUNTRY_INFO!P177=\"Surveillance\",COUNTRY_INFO!P177=\"Not required\",COUNTRY_INFO!P177=0),0,IF(AND($E177<>0,$J177=\"\"),IF($F177=0,COUNTRY_INFO!P177*$E177,COUNTRY_INFO!P177*($E177-$D177)), IF(AND($E177<>0,$J177<>0),IF($F177=0,COUNTRY_INFO!P177*$J177,COUNTRY_INFO!P177*($J177-$D177)), COUNTRY_INFO!P177*$J177)))","v":0},0,0,null,0,0,null,0,0,null,0]
[{"$f":"IF(AND(INTRO!$E$37=\"Non-endemic\",INTRO!$E$41=\"Non-endemic\"),\" \",IF(COUNTRY_INFO!A178=0,\" \",COUNTRY_INFO!A178))","v":"Ghana"},{"$f":"IF(AND(INTRO!$E$37=\"Non-endemic\",INTRO!$E$41=\"Non-endemic\"),\" \",IF(COUNTRY_INFO!B178=0,\" \",COUNTRY_INFO!B178))","v":"Northern"},{"$f":"IF(AND(INTRO!$E$37=\"Non-endemic\",INTRO!$E$41=\"Non-endemic\"),\" \",IF(COUNTRY_INFO!C178=0,\" \",COUNTRY_INFO!C178))","v":"Nanumba North"},{"$f":"IF(AND(INTRO!$E$37=\"Non-endemic\",INTRO!$E$41=\"Non-endemic\"),0,COUNTRY_INFO!V178)","v":0},{"$f":"IF(AND(INTRO!$E$37=\"Non-endemic\",INTRO!$E$41=\"Non-endemic\"),0,COUNTRY_INFO!X178)","v":0},{"$f":"IF(INTRO!$E$39=\"Non-endemic\",IF($D178=1,DEC!I178,0),IF($D178=1,IVM!G178,0))","v":0},null,{"$f":"IF(OR(COUNTRY_INFO!N178=\"Unknown\",COUNTRY_INFO!N178=\"Surveillance\",COUNTRY_INFO!N178=\"Not required\",COUNTRY_INFO!N178=0),0,IF(INTRO!$E$39=\"Non-endemic\",IF(AND($E178<>0,$G178=\"\"),IF($F178=0,COUNTRY_INFO!N178*$E178,COUNTRY_INFO!N178*($E178-$D178)),IF(AND($E178<>0,$G178<>0),IF($F178=0,COUNTRY_INFO!N178*$G178,COUNTRY_INFO!N178*($G178-$D178)),0)),IF($G178=\"\",COUNTRY_INFO!N178*$E178,COUNTRY_INFO!N178*$G178)))","v":0},{"$f":"IF(OR(COUNTRY_INFO!O178=\"Unknown\",COUNTRY_INFO!O178=\"Surveillance\",COUNTRY_INFO!O178=\"Not required\",COUNTRY_INFO!O178=0),0,IF($E178<>0, IF($F178=0,COUNTRY_INFO!O178*$E178,COUNTRY_INFO!O178*($E178-$D178)),COUNTRY_INFO!O178*$E178))","v":0},null,{"$f":"IF(OR(COUNTRY_INFO!P178=\"Unknown\",COUNTRY_INFO!P178=\"Surveillance\",COUNTRY_INFO!P178=\"Not required\",COUNTRY_INFO!P178=0),0,IF(AND($E178<>0,$J178=\"\"),IF($F178=0,COUNTRY_INFO!P178*$E178,COUNTRY_INFO!P178*($E178-$D178)), IF(AND($E178<>0,$J178<>0),IF($F178=0,COUNTRY_INFO!P178*$J178,COUNTRY_INFO!P178*($J178-$D178)), COUNTRY_INFO!P178*$J178)))","v":0},0,0,null,0,0,null,0,0,null,0]
[{"$f":"IF(AND(INTRO!$E$37=\"Non-endemic\",INTRO!$E$41=\"Non-endemic\"),\" \",IF(COUNTRY_INFO!A179=0,\" \",COUNTRY_INFO!A179))","v":"Ghana"},{"$f":"IF(AND(INTRO!$E$37=\"Non-endemic\",INTRO!$E$41=\"Non-endemic\"),\" \",IF(COUNTRY_INFO!B179=0,\" \",COUNTRY_INFO!B179))","v":"Northern"},{"$f":"IF(AND(INTRO!$E$37=\"Non-endemic\",INTRO!$E$41=\"Non-endemic\"),\" \",IF(COUNTRY_INFO!C179=0,\" \",COUNTRY_INFO!C179))","v":"Nanumba South"},{"$f":"IF(AND(INTRO!$E$37=\"Non-endemic\",INTRO!$E$41=\"Non-endemic\"),0,COUNTRY_INFO!V179)","v":0},{"$f":"IF(AND(INTRO!$E$37=\"Non-endemic\",INTRO!$E$41=\"Non-endemic\"),0,COUNTRY_INFO!X179)","v":0},{"$f":"IF(INTRO!$E$39=\"Non-endemic\",IF($D179=1,DEC!I179,0),IF($D179=1,IVM!G179,0))","v":0},null,{"$f":"IF(OR(COUNTRY_INFO!N179=\"Unknown\",COUNTRY_INFO!N179=\"Surveillance\",COUNTRY_INFO!N179=\"Not required\",COUNTRY_INFO!N179=0),0,IF(INTRO!$E$39=\"Non-endemic\",IF(AND($E179<>0,$G179=\"\"),IF($F179=0,COUNTRY_INFO!N179*$E179,COUNTRY_INFO!N179*($E179-$D179)),IF(AND($E179<>0,$G179<>0),IF($F179=0,COUNTRY_INFO!N179*$G179,COUNTRY_INFO!N179*($G179-$D179)),0)),IF($G179=\"\",COUNTRY_INFO!N179*$E179,COUNTRY_INFO!N179*$G179)))","v":0},{"$f":"IF(OR(COUNTRY_INFO!O179=\"Unknown\",COUNTRY_INFO!O179=\"Surveillance\",COUNTRY_INFO!O179=\"Not required\",COUNTRY_INFO!O179=0),0,IF($E179<>0, IF($F179=0,COUNTRY_INFO!O179*$E179,COUNTRY_INFO!O179*($E179-$D179)),COUNTRY_INFO!O179*$E179))","v":0},null,{"$f":"IF(OR(COUNTRY_INFO!P179=\"Unknown\",COUNTRY_INFO!P179=\"Surveillance\",COUNTRY_INFO!P179=\"Not required\",COUNTRY_INFO!P179=0),0,IF(AND($E179<>0,$J179=\"\"),IF($F179=0,COUNTRY_INFO!P179*$E179,COUNTRY_INFO!P179*($E179-$D179)), IF(AND($E179<>0,$J179<>0),IF($F179=0,COUNTRY_INFO!P179*$J179,COUNTRY_INFO!P179*($J179-$D179)), COUNTRY_INFO!P179*$J179)))","v":0},0,0,null,0,0,null,0,0,null,0]
[{"$f":"IF(AND(INTRO!$E$37=\"Non-endemic\",INTRO!$E$41=\"Non-endemic\"),\" \",IF(COUNTRY_INFO!A180=0,\" \",COUNTRY_INFO!A180))","v":"Ghana"},{"$f":"IF(AND(INTRO!$E$37=\"Non-endemic\",INTRO!$E$41=\"Non-endemic\"),\" \",IF(COUNTRY_INFO!B180=0,\" \",COUNTRY_INFO!B180))","v":"Northern"},{"$f":"IF(AND(INTRO!$E$37=\"Non-endemic\",INTRO!$E$41=\"Non-endemic\"),\" \",IF(COUNTRY_INFO!C180=0,\" \",COUNTRY_INFO!C180))","v":"Saboba"},{"$f":"IF(AND(INTRO!$E$37=\"Non-endemic\",INTRO!$E$41=\"Non-endemic\"),0,COUNTRY_INFO!V180)","v":0},{"$f":"IF(AND(INTRO!$E$37=\"Non-endemic\",INTRO!$E$41=\"Non-endemic\"),0,COUNTRY_INFO!X180)","v":0},{"$f":"IF(INTRO!$E$39=\"Non-endemic\",IF($D180=1,DEC!I180,0),IF($D180=1,IVM!G180,0))","v":0},null,{"$f":"IF(OR(COUNTRY_INFO!N180=\"Unknown\",COUNTRY_INFO!N180=\"Surveillance\",COUNTRY_INFO!N180=\"Not required\",COUNTRY_INFO!N180=0),0,IF(INTRO!$E$39=\"Non-endemic\",IF(AND($E180<>0,$G180=\"\"),IF($F180=0,COUNTRY_INFO!N180*$E180,COUNTRY_INFO!N180*($E180-$D180)),IF(AND($E180<>0,$G180<>0),IF($F180=0,COUNTRY_INFO!N180*$G180,COUNTRY_INFO!N180*($G180-$D180)),0)),IF($G180=\"\",COUNTRY_INFO!N180*$E180,COUNTRY_INFO!N180*$G180)))","v":0},{"$f":"IF(OR(COUNTRY_INFO!O180=\"Unknown\",COUNTRY_INFO!O180=\"Surveillance\",COUNTRY_INFO!O180=\"Not required\",COUNTRY_INFO!O180=0),0,IF($E180<>0, IF($F180=0,COUNTRY_INFO!O180*$E180,COUNTRY_INFO!O180*($E180-$D180)),COUNTRY_INFO!O180*$E180))","v":0},null,{"$f":"IF(OR(COUNTRY_INFO!P180=\"Unknown\",COUNTRY_INFO!P180=\"Surveillance\",COUNTRY_INFO!P180=\"Not required\",COUNTRY_INFO!P180=0),0,IF(AND($E180<>0,$J180=\"\"),IF($F180=0,COUNTRY_INFO!P180*$E180,COUNTRY_INFO!P180*($E180-$D180)), IF(AND($E180<>0,$J180<>0),IF($F180=0,COUNTRY_INFO!P180*$J180,COUNTRY_INFO!P180*($J180-$D180)), COUNTRY_INFO!P180*$J180)))","v":0},0,0,null,0,0,null,0,0,null,0]
[{"$f":"IF(AND(INTRO!$E$37=\"Non-endemic\",INTRO!$E$41=\"Non-endemic\"),\" \",IF(COUNTRY_INFO!A181=0,\" \",COUNTRY_INFO!A181))","v":"Ghana"},{"$f":"IF(AND(INTRO!$E$37=\"Non-endemic\",INTRO!$E$41=\"Non-endemic\"),\" \",IF(COUNTRY_INFO!B181=0,\" \",COUNTRY_INFO!B181))","v":"Northern"},{"$f":"IF(AND(INTRO!$E$37=\"Non-endemic\",INTRO!$E$41=\"Non-endemic\"),\" \",IF(COUNTRY_INFO!C181=0,\" \",COUNTRY_INFO!C181))","v":"Sagnarigu"},{"$f":"IF(AND(INTRO!$E$37=\"Non-endemic\",INTRO!$E$41=\"Non-endemic\"),0,COUNTRY_INFO!V181)","v":0},{"$f":"IF(AND(INTRO!$E$37=\"Non-endemic\",INTRO!$E$41=\"Non-endemic\"),0,COUNTRY_INFO!X181)","v":0},{"$f":"IF(INTRO!$E$39=\"Non-endemic\",IF($D181=1,DEC!I181,0),IF($D181=1,IVM!G181,0))","v":0},null,{"$f":"IF(OR(COUNTRY_INFO!N181=\"Unknown\",COUNTRY_INFO!N181=\"Surveillance\",COUNTRY_INFO!N181=\"Not required\",COUNTRY_INFO!N181=0),0,IF(INTRO!$E$39=\"Non-endemic\",IF(AND($E181<>0,$G181=\"\"),IF($F181=0,COUNTRY_INFO!N181*$E181,COUNTRY_INFO!N181*($E181-$D181)),IF(AND($E181<>0,$G181<>0),IF($F181=0,COUNTRY_INFO!N181*$G181,COUNTRY_INFO!N181*($G181-$D181)),0)),IF($G181=\"\",COUNTRY_INFO!N181*$E181,COUNTRY_INFO!N181*$G181)))","v":0},{"$f":"IF(OR(COUNTRY_INFO!O181=\"Unknown\",COUNTRY_INFO!O181=\"Surveillance\",COUNTRY_INFO!O181=\"Not required\",COUNTRY_INFO!O181=0),0,IF($E181<>0, IF($F181=0,COUNTRY_INFO!O181*$E181,COUNTRY_INFO!O181*($E181-$D181)),COUNTRY_INFO!O181*$E181))","v":0},null,{"$f":"IF(OR(COUNTRY_INFO!P181=\"Unknown\",COUNTRY_INFO!P181=\"Surveillance\",COUNTRY_INFO!P181=\"Not required\",COUNTRY_INFO!P181=0),0,IF(AND($E181<>0,$J181=\"\"),IF($F181=0,COUNTRY_INFO!P181*$E181,COUNTRY_INFO!P181*($E181-$D181)), IF(AND($E181<>0,$J181<>0),IF($F181=0,COUNTRY_INFO!P181*$J181,COUNTRY_INFO!P181*($J181-$D181)), COUNTRY_INFO!P181*$J181)))","v":0},0,0,null,0,0,null,0,0,null,0]
[{"$f":"IF(AND(INTRO!$E$37=\"Non-endemic\",INTRO!$E$41=\"Non-endemic\"),\" \",IF(COUNTRY_INFO!A182=0,\" \",COUNTRY_INFO!A182))","v":"Ghana"},{"$f":"IF(AND(INTRO!$E$37=\"Non-endemic\",INTRO!$E$41=\"Non-endemic\"),\" \",IF(COUNTRY_INFO!B182=0,\" \",COUNTRY_INFO!B182))","v":"Northern"},{"$f":"IF(AND(INTRO!$E$37=\"Non-endemic\",INTRO!$E$41=\"Non-endemic\"),\" \",IF(COUNTRY_INFO!C182=0,\" \",COUNTRY_INFO!C182))","v":"Savelugu"},{"$f":"IF(AND(INTRO!$E$37=\"Non-endemic\",INTRO!$E$41=\"Non-endemic\"),0,COUNTRY_INFO!V182)","v":0},{"$f":"IF(AND(INTRO!$E$37=\"Non-endemic\",INTRO!$E$41=\"Non-endemic\"),0,COUNTRY_INFO!X182)","v":0},{"$f":"IF(INTRO!$E$39=\"Non-endemic\",IF($D182=1,DEC!I182,0),IF($D182=1,IVM!G182,0))","v":0},null,{"$f":"IF(OR(COUNTRY_INFO!N182=\"Unknown\",COUNTRY_INFO!N182=\"Surveillance\",COUNTRY_INFO!N182=\"Not required\",COUNTRY_INFO!N182=0),0,IF(INTRO!$E$39=\"Non-endemic\",IF(AND($E182<>0,$G182=\"\"),IF($F182=0,COUNTRY_INFO!N182*$E182,COUNTRY_INFO!N182*($E182-$D182)),IF(AND($E182<>0,$G182<>0),IF($F182=0,COUNTRY_INFO!N182*$G182,COUNTRY_INFO!N182*($G182-$D182)),0)),IF($G182=\"\",COUNTRY_INFO!N182*$E182,COUNTRY_INFO!N182*$G182)))","v":0},{"$f":"IF(OR(COUNTRY_INFO!O182=\"Unknown\",COUNTRY_INFO!O182=\"Surveillance\",COUNTRY_INFO!O182=\"Not required\",COUNTRY_INFO!O182=0),0,IF($E182<>0, IF($F182=0,COUNTRY_INFO!O182*$E182,COUNTRY_INFO!O182*($E182-$D182)),COUNTRY_INFO!O182*$E182))","v":0},null,{"$f":"IF(OR(COUNTRY_INFO!P182=\"Unknown\",COUNTRY_INFO!P182=\"Surveillance\",COUNTRY_INFO!P182=\"Not required\",COUNTRY_INFO!P182=0),0,IF(AND($E182<>0,$J182=\"\"),IF($F182=0,COUNTRY_INFO!P182*$E182,COUNTRY_INFO!P182*($E182-$D182)), IF(AND($E182<>0,$J182<>0),IF($F182=0,COUNTRY_INFO!P182*$J182,COUNTRY_INFO!P182*($J182-$D182)), COUNTRY_INFO!P182*$J182)))","v":0},0,0,null,0,0,null,0,0,null,0]
[{"$f":"IF(AND(INTRO!$E$37=\"Non-endemic\",INTRO!$E$41=\"Non-endemic\"),\" \",IF(COUNTRY_INFO!A183=0,\" \",COUNTRY_INFO!A183))","v":"Ghana"},{"$f":"IF(AND(INTRO!$E$37=\"Non-endemic\",INTRO!$E$41=\"Non-endemic\"),\" \",IF(COUNTRY_INFO!B183=0,\" \",COUNTRY_INFO!B183))","v":"Northern"},{"$f":"IF(AND(INTRO!$E$37=\"Non-endemic\",INTRO!$E$41=\"Non-endemic\"),\" \",IF(COUNTRY_INFO!C183=0,\" \",COUNTRY_INFO!C183))","v":"Tamale"},{"$f":"IF(AND(INTRO!$E$37=\"Non-endemic\",INTRO!$E$41=\"Non-endemic\"),0,COUNTRY_INFO!V183)","v":0},{"$f":"IF(AND(INTRO!$E$37=\"Non-endemic\",INTRO!$E$41=\"Non-endemic\"),0,COUNTRY_INFO!X183)","v":0},{"$f":"IF(INTRO!$E$39=\"Non-endemic\",IF($D183=1,DEC!I183,0),IF($D183=1,IVM!G183,0))","v":0},null,{"$f":"IF(OR(COUNTRY_INFO!N183=\"Unknown\",COUNTRY_INFO!N183=\"Surveillance\",COUNTRY_INFO!N183=\"Not required\",COUNTRY_INFO!N183=0),0,IF(INTRO!$E$39=\"Non-endemic\",IF(AND($E183<>0,$G183=\"\"),IF($F183=0,COUNTRY_INFO!N183*$E183,COUNTRY_INFO!N183*($E183-$D183)),IF(AND($E183<>0,$G183<>0),IF($F183=0,COUNTRY_INFO!N183*$G183,COUNTRY_INFO!N183*($G183-$D183)),0)),IF($G183=\"\",COUNTRY_INFO!N183*$E183,COUNTRY_INFO!N183*$G183)))","v":0},{"$f":"IF(OR(COUNTRY_INFO!O183=\"Unknown\",COUNTRY_INFO!O183=\"Surveillance\",COUNTRY_INFO!O183=\"Not required\",COUNTRY_INFO!O183=0),0,IF($E183<>0, IF($F183=0,COUNTRY_INFO!O183*$E183,COUNTRY_INFO!O183*($E183-$D183)),COUNTRY_INFO!O183*$E183))","v":0},null,{"$f":"IF(OR(COUNTRY_INFO!P183=\"Unknown\",COUNTRY_INFO!P183=\"Surveillance\",COUNTRY_INFO!P183=\"Not required\",COUNTRY_INFO!P183=0),0,IF(AND($E183<>0,$J183=\"\"),IF($F183=0,COUNTRY_INFO!P183*$E183,COUNTRY_INFO!P183*($E183-$D183)), IF(AND($E183<>0,$J183<>0),IF($F183=0,COUNTRY_INFO!P183*$J183,COUNTRY_INFO!P183*($J183-$D183)), COUNTRY_INFO!P183*$J183)))","v":0},0,0,null,0,0,null,0,0,null,0]
[{"$f":"IF(AND(INTRO!$E$37=\"Non-endemic\",INTRO!$E$41=\"Non-endemic\"),\" \",IF(COUNTRY_INFO!A184=0,\" \",COUNTRY_INFO!A184))","v":"Ghana"},{"$f":"IF(AND(INTRO!$E$37=\"Non-endemic\",INTRO!$E$41=\"Non-endemic\"),\" \",IF(COUNTRY_INFO!B184=0,\" \",COUNTRY_INFO!B184))","v":"Northern"},{"$f":"IF(AND(INTRO!$E$37=\"Non-endemic\",INTRO!$E$41=\"Non-endemic\"),\" \",IF(COUNTRY_INFO!C184=0,\" \",COUNTRY_INFO!C184))","v":"Tatale-Sangule"},{"$f":"IF(AND(INTRO!$E$37=\"Non-endemic\",INTRO!$E$41=\"Non-endemic\"),0,COUNTRY_INFO!V184)","v":0},{"$f":"IF(AND(INTRO!$E$37=\"Non-endemic\",INTRO!$E$41=\"Non-endemic\"),0,COUNTRY_INFO!X184)","v":0},{"$f":"IF(INTRO!$E$39=\"Non-endemic\",IF($D184=1,DEC!I184,0),IF($D184=1,IVM!G184,0))","v":0},null,{"$f":"IF(OR(COUNTRY_INFO!N184=\"Unknown\",COUNTRY_INFO!N184=\"Surveillance\",COUNTRY_INFO!N184=\"Not required\",COUNTRY_INFO!N184=0),0,IF(INTRO!$E$39=\"Non-endemic\",IF(AND($E184<>0,$G184=\"\"),IF($F184=0,COUNTRY_INFO!N184*$E184,COUNTRY_INFO!N184*($E184-$D184)),IF(AND($E184<>0,$G184<>0),IF($F184=0,COUNTRY_INFO!N184*$G184,COUNTRY_INFO!N184*($G184-$D184)),0)),IF($G184=\"\",COUNTRY_INFO!N184*$E184,COUNTRY_INFO!N184*$G184)))","v":0},{"$f":"IF(OR(COUNTRY_INFO!O184=\"Unknown\",COUNTRY_INFO!O184=\"Surveillance\",COUNTRY_INFO!O184=\"Not required\",COUNTRY_INFO!O184=0),0,IF($E184<>0, IF($F184=0,COUNTRY_INFO!O184*$E184,COUNTRY_INFO!O184*($E184-$D184)),COUNTRY_INFO!O184*$E184))","v":0},null,{"$f":"IF(OR(COUNTRY_INFO!P184=\"Unknown\",COUNTRY_INFO!P184=\"Surveillance\",COUNTRY_INFO!P184=\"Not required\",COUNTRY_INFO!P184=0),0,IF(AND($E184<>0,$J184=\"\"),IF($F184=0,COUNTRY_INFO!P184*$E184,COUNTRY_INFO!P184*($E184-$D184)), IF(AND($E184<>0,$J184<>0),IF($F184=0,COUNTRY_INFO!P184*$J184,COUNTRY_INFO!P184*($J184-$D184)), COUNTRY_INFO!P184*$J184)))","v":0},0,0,null,0,0,null,0,0,null,0]
[{"$f":"IF(AND(INTRO!$E$37=\"Non-endemic\",INTRO!$E$41=\"Non-endemic\"),\" \",IF(COUNTRY_INFO!A185=0,\" \",COUNTRY_INFO!A185))","v":"Ghana"},{"$f":"IF(AND(INTRO!$E$37=\"Non-endemic\",INTRO!$E$41=\"Non-endemic\"),\" \",IF(COUNTRY_INFO!B185=0,\" \",COUNTRY_INFO!B185))","v":"Northern"},{"$f":"IF(AND(INTRO!$E$37=\"Non-endemic\",INTRO!$E$41=\"Non-endemic\"),\" \",IF(COUNTRY_INFO!C185=0,\" \",COUNTRY_INFO!C185))","v":"Tolon"},{"$f":"IF(AND(INTRO!$E$37=\"Non-endemic\",INTRO!$E$41=\"Non-endemic\"),0,COUNTRY_INFO!V185)","v":0},{"$f":"IF(AND(INTRO!$E$37=\"Non-endemic\",INTRO!$E$41=\"Non-endemic\"),0,COUNTRY_INFO!X185)","v":0},{"$f":"IF(INTRO!$E$39=\"Non-endemic\",IF($D185=1,DEC!I185,0),IF($D185=1,IVM!G185,0))","v":0},null,{"$f":"IF(OR(COUNTRY_INFO!N185=\"Unknown\",COUNTRY_INFO!N185=\"Surveillance\",COUNTRY_INFO!N185=\"Not required\",COUNTRY_INFO!N185=0),0,IF(INTRO!$E$39=\"Non-endemic\",IF(AND($E185<>0,$G185=\"\"),IF($F185=0,COUNTRY_INFO!N185*$E185,COUNTRY_INFO!N185*($E185-$D185)),IF(AND($E185<>0,$G185<>0),IF($F185=0,COUNTRY_INFO!N185*$G185,COUNTRY_INFO!N185*($G185-$D185)),0)),IF($G185=\"\",COUNTRY_INFO!N185*$E185,COUNTRY_INFO!N185*$G185)))","v":0},{"$f":"IF(OR(COUNTRY_INFO!O185=\"Unknown\",COUNTRY_INFO!O185=\"Surveillance\",COUNTRY_INFO!O185=\"Not required\",COUNTRY_INFO!O185=0),0,IF($E185<>0, IF($F185=0,COUNTRY_INFO!O185*$E185,COUNTRY_INFO!O185*($E185-$D185)),COUNTRY_INFO!O185*$E185))","v":0},null,{"$f":"IF(OR(COUNTRY_INFO!P185=\"Unknown\",COUNTRY_INFO!P185=\"Surveillance\",COUNTRY_INFO!P185=\"Not required\",COUNTRY_INFO!P185=0),0,IF(AND($E185<>0,$J185=\"\"),IF($F185=0,COUNTRY_INFO!P185*$E185,COUNTRY_INFO!P185*($E185-$D185)), IF(AND($E185<>0,$J185<>0),IF($F185=0,COUNTRY_INFO!P185*$J185,COUNTRY_INFO!P185*($J185-$D185)), COUNTRY_INFO!P185*$J185)))","v":0},0,0,null,0,0,null,0,0,null,0]
[{"$f":"IF(AND(INTRO!$E$37=\"Non-endemic\",INTRO!$E$41=\"Non-endemic\"),\" \",IF(COUNTRY_INFO!A186=0,\" \",COUNTRY_INFO!A186))","v":"Ghana"},{"$f":"IF(AND(INTRO!$E$37=\"Non-endemic\",INTRO!$E$41=\"Non-endemic\"),\" \",IF(COUNTRY_INFO!B186=0,\" \",COUNTRY_INFO!B186))","v":"Northern"},{"$f":"IF(AND(INTRO!$E$37=\"Non-endemic\",INTRO!$E$41=\"Non-endemic\"),\" \",IF(COUNTRY_INFO!C186=0,\" \",COUNTRY_INFO!C186))","v":"Yendi"},{"$f":"IF(AND(INTRO!$E$37=\"Non-endemic\",INTRO!$E$41=\"Non-endemic\"),0,COUNTRY_INFO!V186)","v":0},{"$f":"IF(AND(INTRO!$E$37=\"Non-endemic\",INTRO!$E$41=\"Non-endemic\"),0,COUNTRY_INFO!X186)","v":0},{"$f":"IF(INTRO!$E$39=\"Non-endemic\",IF($D186=1,DEC!I186,0),IF($D186=1,IVM!G186,0))","v":0},null,{"$f":"IF(OR(COUNTRY_INFO!N186=\"Unknown\",COUNTRY_INFO!N186=\"Surveillance\",COUNTRY_INFO!N186=\"Not required\",COUNTRY_INFO!N186=0),0,IF(INTRO!$E$39=\"Non-endemic\",IF(AND($E186<>0,$G186=\"\"),IF($F186=0,COUNTRY_INFO!N186*$E186,COUNTRY_INFO!N186*($E186-$D186)),IF(AND($E186<>0,$G186<>0),IF($F186=0,COUNTRY_INFO!N186*$G186,COUNTRY_INFO!N186*($G186-$D186)),0)),IF($G186=\"\",COUNTRY_INFO!N186*$E186,COUNTRY_INFO!N186*$G186)))","v":0},{"$f":"IF(OR(COUNTRY_INFO!O186=\"Unknown\",COUNTRY_INFO!O186=\"Surveillance\",COUNTRY_INFO!O186=\"Not required\",COUNTRY_INFO!O186=0),0,IF($E186<>0, IF($F186=0,COUNTRY_INFO!O186*$E186,COUNTRY_INFO!O186*($E186-$D186)),COUNTRY_INFO!O186*$E186))","v":0},null,{"$f":"IF(OR(COUNTRY_INFO!P186=\"Unknown\",COUNTRY_INFO!P186=\"Surveillance\",COUNTRY_INFO!P186=\"Not required\",COUNTRY_INFO!P186=0),0,IF(AND($E186<>0,$J186=\"\"),IF($F186=0,COUNTRY_INFO!P186*$E186,COUNTRY_INFO!P186*($E186-$D186)), IF(AND($E186<>0,$J186<>0),IF($F186=0,COUNTRY_INFO!P186*$J186,COUNTRY_INFO!P186*($J186-$D186)), COUNTRY_INFO!P186*$J186)))","v":0},0,0,null,0,0,null,0,0,null,0]
[{"$f":"IF(AND(INTRO!$E$37=\"Non-endemic\",INTRO!$E$41=\"Non-endemic\"),\" \",IF(COUNTRY_INFO!A187=0,\" \",COUNTRY_INFO!A187))","v":"Ghana"},{"$f":"IF(AND(INTRO!$E$37=\"Non-endemic\",INTRO!$E$41=\"Non-endemic\"),\" \",IF(COUNTRY_INFO!B187=0,\" \",COUNTRY_INFO!B187))","v":"Northern"},{"$f":"IF(AND(INTRO!$E$37=\"Non-endemic\",INTRO!$E$41=\"Non-endemic\"),\" \",IF(COUNTRY_INFO!C187=0,\" \",COUNTRY_INFO!C187))","v":"Zabzugu"},{"$f":"IF(AND(INTRO!$E$37=\"Non-endemic\",INTRO!$E$41=\"Non-endemic\"),0,COUNTRY_INFO!V187)","v":0},{"$f":"IF(AND(INTRO!$E$37=\"Non-endemic\",INTRO!$E$41=\"Non-endemic\"),0,COUNTRY_INFO!X187)","v":0},{"$f":"IF(INTRO!$E$39=\"Non-endemic\",IF($D187=1,DEC!I187,0),IF($D187=1,IVM!G187,0))","v":0},null,{"$f":"IF(OR(COUNTRY_INFO!N187=\"Unknown\",COUNTRY_INFO!N187=\"Surveillance\",COUNTRY_INFO!N187=\"Not required\",COUNTRY_INFO!N187=0),0,IF(INTRO!$E$39=\"Non-endemic\",IF(AND($E187<>0,$G187=\"\"),IF($F187=0,COUNTRY_INFO!N187*$E187,COUNTRY_INFO!N187*($E187-$D187)),IF(AND($E187<>0,$G187<>0),IF($F187=0,COUNTRY_INFO!N187*$G187,COUNTRY_INFO!N187*($G187-$D187)),0)),IF($G187=\"\",COUNTRY_INFO!N187*$E187,COUNTRY_INFO!N187*$G187)))","v":0},{"$f":"IF(OR(COUNTRY_INFO!O187=\"Unknown\",COUNTRY_INFO!O187=\"Surveillance\",COUNTRY_INFO!O187=\"Not required\",COUNTRY_INFO!O187=0),0,IF($E187<>0, IF($F187=0,COUNTRY_INFO!O187*$E187,COUNTRY_INFO!O187*($E187-$D187)),COUNTRY_INFO!O187*$E187))","v":0},null,{"$f":"IF(OR(COUNTRY_INFO!P187=\"Unknown\",COUNTRY_INFO!P187=\"Surveillance\",COUNTRY_INFO!P187=\"Not required\",COUNTRY_INFO!P187=0),0,IF(AND($E187<>0,$J187=\"\"),IF($F187=0,COUNTRY_INFO!P187*$E187,COUNTRY_INFO!P187*($E187-$D187)), IF(AND($E187<>0,$J187<>0),IF($F187=0,COUNTRY_INFO!P187*$J187,COUNTRY_INFO!P187*($J187-$D187)), COUNTRY_INFO!P187*$J187)))","v":0},0,0,null,0,0,null,0,0,null,0]
[{"$f":"IF(AND(INTRO!$E$37=\"Non-endemic\",INTRO!$E$41=\"Non-endemic\"),\" \",IF(COUNTRY_INFO!A188=0,\" \",COUNTRY_INFO!A188))","v":"Ghana"},{"$f":"IF(AND(INTRO!$E$37=\"Non-endemic\",INTRO!$E$41=\"Non-endemic\"),\" \",IF(COUNTRY_INFO!B188=0,\" \",COUNTRY_INFO!B188))","v":"Oti"},{"$f":"IF(AND(INTRO!$E$37=\"Non-endemic\",INTRO!$E$41=\"Non-endemic\"),\" \",IF(COUNTRY_INFO!C188=0,\" \",COUNTRY_INFO!C188))","v":"Biakoye"},{"$f":"IF(AND(INTRO!$E$37=\"Non-endemic\",INTRO!$E$41=\"Non-endemic\"),0,COUNTRY_INFO!V188)","v":0},{"$f":"IF(AND(INTRO!$E$37=\"Non-endemic\",INTRO!$E$41=\"Non-endemic\"),0,COUNTRY_INFO!X188)","v":0},{"$f":"IF(INTRO!$E$39=\"Non-endemic\",IF($D188=1,DEC!I188,0),IF($D188=1,IVM!G188,0))","v":0},null,{"$f":"IF(OR(COUNTRY_INFO!N188=\"Unknown\",COUNTRY_INFO!N188=\"Surveillance\",COUNTRY_INFO!N188=\"Not required\",COUNTRY_INFO!N188=0),0,IF(INTRO!$E$39=\"Non-endemic\",IF(AND($E188<>0,$G188=\"\"),IF($F188=0,COUNTRY_INFO!N188*$E188,COUNTRY_INFO!N188*($E188-$D188)),IF(AND($E188<>0,$G188<>0),IF($F188=0,COUNTRY_INFO!N188*$G188,COUNTRY_INFO!N188*($G188-$D188)),0)),IF($G188=\"\",COUNTRY_INFO!N188*$E188,COUNTRY_INFO!N188*$G188)))","v":0},{"$f":"IF(OR(COUNTRY_INFO!O188=\"Unknown\",COUNTRY_INFO!O188=\"Surveillance\",COUNTRY_INFO!O188=\"Not required\",COUNTRY_INFO!O188=0),0,IF($E188<>0, IF($F188=0,COUNTRY_INFO!O188*$E188,COUNTRY_INFO!O188*($E188-$D188)),COUNTRY_INFO!O188*$E188))","v":0},null,{"$f":"IF(OR(COUNTRY_INFO!P188=\"Unknown\",COUNTRY_INFO!P188=\"Surveillance\",COUNTRY_INFO!P188=\"Not required\",COUNTRY_INFO!P188=0),0,IF(AND($E188<>0,$J188=\"\"),IF($F188=0,COUNTRY_INFO!P188*$E188,COUNTRY_INFO!P188*($E188-$D188)), IF(AND($E188<>0,$J188<>0),IF($F188=0,COUNTRY_INFO!P188*$J188,COUNTRY_INFO!P188*($J188-$D188)), COUNTRY_INFO!P188*$J188)))","v":0},0,0,null,0,0,null,0,0,null,0]
[{"$f":"IF(AND(INTRO!$E$37=\"Non-endemic\",INTRO!$E$41=\"Non-endemic\"),\" \",IF(COUNTRY_INFO!A189=0,\" \",COUNTRY_INFO!A189))","v":"Ghana"},{"$f":"IF(AND(INTRO!$E$37=\"Non-endemic\",INTRO!$E$41=\"Non-endemic\"),\" \",IF(COUNTRY_INFO!B189=0,\" \",COUNTRY_INFO!B189))","v":"Oti"},{"$f":"IF(AND(INTRO!$E$37=\"Non-endemic\",INTRO!$E$41=\"Non-endemic\"),\" \",IF(COUNTRY_INFO!C189=0,\" \",COUNTRY_INFO!C189))","v":"Guan"},{"$f":"IF(AND(INTRO!$E$37=\"Non-endemic\",INTRO!$E$41=\"Non-endemic\"),0,COUNTRY_INFO!V189)","v":0},{"$f":"IF(AND(INTRO!$E$37=\"Non-endemic\",INTRO!$E$41=\"Non-endemic\"),0,COUNTRY_INFO!X189)","v":0},{"$f":"IF(INTRO!$E$39=\"Non-endemic\",IF($D189=1,DEC!I189,0),IF($D189=1,IVM!G189,0))","v":0},null,{"$f":"IF(OR(COUNTRY_INFO!N189=\"Unknown\",COUNTRY_INFO!N189=\"Surveillance\",COUNTRY_INFO!N189=\"Not required\",COUNTRY_INFO!N189=0),0,IF(INTRO!$E$39=\"Non-endemic\",IF(AND($E189<>0,$G189=\"\"),IF($F189=0,COUNTRY_INFO!N189*$E189,COUNTRY_INFO!N189*($E189-$D189)),IF(AND($E189<>0,$G189<>0),IF($F189=0,COUNTRY_INFO!N189*$G189,COUNTRY_INFO!N189*($G189-$D189)),0)),IF($G189=\"\",COUNTRY_INFO!N189*$E189,COUNTRY_INFO!N189*$G189)))","v":0},{"$f":"IF(OR(COUNTRY_INFO!O189=\"Unknown\",COUNTRY_INFO!O189=\"Surveillance\",COUNTRY_INFO!O189=\"Not required\",COUNTRY_INFO!O189=0),0,IF($E189<>0, IF($F189=0,COUNTRY_INFO!O189*$E189,COUNTRY_INFO!O189*($E189-$D189)),COUNTRY_INFO!O189*$E189))","v":0},null,{"$f":"IF(OR(COUNTRY_INFO!P189=\"Unknown\",COUNTRY_INFO!P189=\"Surveillance\",COUNTRY_INFO!P189=\"Not required\",COUNTRY_INFO!P189=0),0,IF(AND($E189<>0,$J189=\"\"),IF($F189=0,COUNTRY_INFO!P189*$E189,COUNTRY_INFO!P189*($E189-$D189)), IF(AND($E189<>0,$J189<>0),IF($F189=0,COUNTRY_INFO!P189*$J189,COUNTRY_INFO!P189*($J189-$D189)), COUNTRY_INFO!P189*$J189)))","v":0},0,0,null,0,0,null,0,0,null,0]
[{"$f":"IF(AND(INTRO!$E$37=\"Non-endemic\",INTRO!$E$41=\"Non-endemic\"),\" \",IF(COUNTRY_INFO!A190=0,\" \",COUNTRY_INFO!A190))","v":"Ghana"},{"$f":"IF(AND(INTRO!$E$37=\"Non-endemic\",INTRO!$E$41=\"Non-endemic\"),\" \",IF(COUNTRY_INFO!B190=0,\" \",COUNTRY_INFO!B190))","v":"Oti"},{"$f":"IF(AND(INTRO!$E$37=\"Non-endemic\",INTRO!$E$41=\"Non-endemic\"),\" \",IF(COUNTRY_INFO!C190=0,\" \",COUNTRY_INFO!C190))","v":"Jasikan"},{"$f":"IF(AND(INTRO!$E$37=\"Non-endemic\",INTRO!$E$41=\"Non-endemic\"),0,COUNTRY_INFO!V190)","v":0},{"$f":"IF(AND(INTRO!$E$37=\"Non-endemic\",INTRO!$E$41=\"Non-endemic\"),0,COUNTRY_INFO!X190)","v":0},{"$f":"IF(INTRO!$E$39=\"Non-endemic\",IF($D190=1,DEC!I190,0),IF($D190=1,IVM!G190,0))","v":0},null,{"$f":"IF(OR(COUNTRY_INFO!N190=\"Unknown\",COUNTRY_INFO!N190=\"Surveillance\",COUNTRY_INFO!N190=\"Not required\",COUNTRY_INFO!N190=0),0,IF(INTRO!$E$39=\"Non-endemic\",IF(AND($E190<>0,$G190=\"\"),IF($F190=0,COUNTRY_INFO!N190*$E190,COUNTRY_INFO!N190*($E190-$D190)),IF(AND($E190<>0,$G190<>0),IF($F190=0,COUNTRY_INFO!N190*$G190,COUNTRY_INFO!N190*($G190-$D190)),0)),IF($G190=\"\",COUNTRY_INFO!N190*$E190,COUNTRY_INFO!N190*$G190)))","v":0},{"$f":"IF(OR(COUNTRY_INFO!O190=\"Unknown\",COUNTRY_INFO!O190=\"Surveillance\",COUNTRY_INFO!O190=\"Not required\",COUNTRY_INFO!O190=0),0,IF($E190<>0, IF($F190=0,COUNTRY_INFO!O190*$E190,COUNTRY_INFO!O190*($E190-$D190)),COUNTRY_INFO!O190*$E190))","v":0},null,{"$f":"IF(OR(COUNTRY_INFO!P190=\"Unknown\",COUNTRY_INFO!P190=\"Surveillance\",COUNTRY_INFO!P190=\"Not required\",COUNTRY_INFO!P190=0),0,IF(AND($E190<>0,$J190=\"\"),IF($F190=0,COUNTRY_INFO!P190*$E190,COUNTRY_INFO!P190*($E190-$D190)), IF(AND($E190<>0,$J190<>0),IF($F190=0,COUNTRY_INFO!P190*$J190,COUNTRY_INFO!P190*($J190-$D190)), COUNTRY_INFO!P190*$J190)))","v":0},0,0,null,0,0,null,0,0,null,0]
[{"$f":"IF(AND(INTRO!$E$37=\"Non-endemic\",INTRO!$E$41=\"Non-endemic\"),\" \",IF(COUNTRY_INFO!A191=0,\" \",COUNTRY_INFO!A191))","v":"Ghana"},{"$f":"IF(AND(INTRO!$E$37=\"Non-endemic\",INTRO!$E$41=\"Non-endemic\"),\" \",IF(COUNTRY_INFO!B191=0,\" \",COUNTRY_INFO!B191))","v":"Oti"},{"$f":"IF(AND(INTRO!$E$37=\"Non-endemic\",INTRO!$E$41=\"Non-endemic\"),\" \",IF(COUNTRY_INFO!C191=0,\" \",COUNTRY_INFO!C191))","v":"Kadjebi"},{"$f":"IF(AND(INTRO!$E$37=\"Non-endemic\",INTRO!$E$41=\"Non-endemic\"),0,COUNTRY_INFO!V191)","v":0},{"$f":"IF(AND(INTRO!$E$37=\"Non-endemic\",INTRO!$E$41=\"Non-endemic\"),0,COUNTRY_INFO!X191)","v":0},{"$f":"IF(INTRO!$E$39=\"Non-endemic\",IF($D191=1,DEC!I191,0),IF($D191=1,IVM!G191,0))","v":0},null,{"$f":"IF(OR(COUNTRY_INFO!N191=\"Unknown\",COUNTRY_INFO!N191=\"Surveillance\",COUNTRY_INFO!N191=\"Not required\",COUNTRY_INFO!N191=0),0,IF(INTRO!$E$39=\"Non-endemic\",IF(AND($E191<>0,$G191=\"\"),IF($F191=0,COUNTRY_INFO!N191*$E191,COUNTRY_INFO!N191*($E191-$D191)),IF(AND($E191<>0,$G191<>0),IF($F191=0,COUNTRY_INFO!N191*$G191,COUNTRY_INFO!N191*($G191-$D191)),0)),IF($G191=\"\",COUNTRY_INFO!N191*$E191,COUNTRY_INFO!N191*$G191)))","v":0},{"$f":"IF(OR(COUNTRY_INFO!O191=\"Unknown\",COUNTRY_INFO!O191=\"Surveillance\",COUNTRY_INFO!O191=\"Not required\",COUNTRY_INFO!O191=0),0,IF($E191<>0, IF($F191=0,COUNTRY_INFO!O191*$E191,COUNTRY_INFO!O191*($E191-$D191)),COUNTRY_INFO!O191*$E191))","v":0},null,{"$f":"IF(OR(COUNTRY_INFO!P191=\"Unknown\",COUNTRY_INFO!P191=\"Surveillance\",COUNTRY_INFO!P191=\"Not required\",COUNTRY_INFO!P191=0),0,IF(AND($E191<>0,$J191=\"\"),IF($F191=0,COUNTRY_INFO!P191*$E191,COUNTRY_INFO!P191*($E191-$D191)), IF(AND($E191<>0,$J191<>0),IF($F191=0,COUNTRY_INFO!P191*$J191,COUNTRY_INFO!P191*($J191-$D191)), COUNTRY_INFO!P191*$J191)))","v":0},0,0,null,0,0,null,0,0,null,0]
[{"$f":"IF(AND(INTRO!$E$37=\"Non-endemic\",INTRO!$E$41=\"Non-endemic\"),\" \",IF(COUNTRY_INFO!A192=0,\" \",COUNTRY_INFO!A192))","v":"Ghana"},{"$f":"IF(AND(INTRO!$E$37=\"Non-endemic\",INTRO!$E$41=\"Non-endemic\"),\" \",IF(COUNTRY_INFO!B192=0,\" \",COUNTRY_INFO!B192))","v":"Oti"},{"$f":"IF(AND(INTRO!$E$37=\"Non-endemic\",INTRO!$E$41=\"Non-endemic\"),\" \",IF(COUNTRY_INFO!C192=0,\" \",COUNTRY_INFO!C192))","v":"Krachi East"},{"$f":"IF(AND(INTRO!$E$37=\"Non-endemic\",INTRO!$E$41=\"Non-endemic\"),0,COUNTRY_INFO!V192)","v":0},{"$f":"IF(AND(INTRO!$E$37=\"Non-endemic\",INTRO!$E$41=\"Non-endemic\"),0,COUNTRY_INFO!X192)","v":0},{"$f":"IF(INTRO!$E$39=\"Non-endemic\",IF($D192=1,DEC!I192,0),IF($D192=1,IVM!G192,0))","v":0},null,{"$f":"IF(OR(COUNTRY_INFO!N192=\"Unknown\",COUNTRY_INFO!N192=\"Surveillance\",COUNTRY_INFO!N192=\"Not required\",COUNTRY_INFO!N192=0),0,IF(INTRO!$E$39=\"Non-endemic\",IF(AND($E192<>0,$G192=\"\"),IF($F192=0,COUNTRY_INFO!N192*$E192,COUNTRY_INFO!N192*($E192-$D192)),IF(AND($E192<>0,$G192<>0),IF($F192=0,COUNTRY_INFO!N192*$G192,COUNTRY_INFO!N192*($G192-$D192)),0)),IF($G192=\"\",COUNTRY_INFO!N192*$E192,COUNTRY_INFO!N192*$G192)))","v":0},{"$f":"IF(OR(COUNTRY_INFO!O192=\"Unknown\",COUNTRY_INFO!O192=\"Surveillance\",COUNTRY_INFO!O192=\"Not required\",COUNTRY_INFO!O192=0),0,IF($E192<>0, IF($F192=0,COUNTRY_INFO!O192*$E192,COUNTRY_INFO!O192*($E192-$D192)),COUNTRY_INFO!O192*$E192))","v":0},null,{"$f":"IF(OR(COUNTRY_INFO!P192=\"Unknown\",COUNTRY_INFO!P192=\"Surveillance\",COUNTRY_INFO!P192=\"Not required\",COUNTRY_INFO!P192=0),0,IF(AND($E192<>0,$J192=\"\"),IF($F192=0,COUNTRY_INFO!P192*$E192,COUNTRY_INFO!P192*($E192-$D192)), IF(AND($E192<>0,$J192<>0),IF($F192=0,COUNTRY_INFO!P192*$J192,COUNTRY_INFO!P192*($J192-$D192)), COUNTRY_INFO!P192*$J192)))","v":0},0,0,null,0,0,null,0,0,null,0]
[{"$f":"IF(AND(INTRO!$E$37=\"Non-endemic\",INTRO!$E$41=\"Non-endemic\"),\" \",IF(COUNTRY_INFO!A193=0,\" \",COUNTRY_INFO!A193))","v":"Ghana"},{"$f":"IF(AND(INTRO!$E$37=\"Non-endemic\",INTRO!$E$41=\"Non-endemic\"),\" \",IF(COUNTRY_INFO!B193=0,\" \",COUNTRY_INFO!B193))","v":"Oti"},{"$f":"IF(AND(INTRO!$E$37=\"Non-endemic\",INTRO!$E$41=\"Non-endemic\"),\" \",IF(COUNTRY_INFO!C193=0,\" \",COUNTRY_INFO!C193))","v":"Krachi Nchumuru"},{"$f":"IF(AND(INTRO!$E$37=\"Non-endemic\",INTRO!$E$41=\"Non-endemic\"),0,COUNTRY_INFO!V193)","v":0},{"$f":"IF(AND(INTRO!$E$37=\"Non-endemic\",INTRO!$E$41=\"Non-endemic\"),0,COUNTRY_INFO!X193)","v":0},{"$f":"IF(INTRO!$E$39=\"Non-endemic\",IF($D193=1,DEC!I193,0),IF($D193=1,IVM!G193,0))","v":0},null,{"$f":"IF(OR(COUNTRY_INFO!N193=\"Unknown\",COUNTRY_INFO!N193=\"Surveillance\",COUNTRY_INFO!N193=\"Not required\",COUNTRY_INFO!N193=0),0,IF(INTRO!$E$39=\"Non-endemic\",IF(AND($E193<>0,$G193=\"\"),IF($F193=0,COUNTRY_INFO!N193*$E193,COUNTRY_INFO!N193*($E193-$D193)),IF(AND($E193<>0,$G193<>0),IF($F193=0,COUNTRY_INFO!N193*$G193,COUNTRY_INFO!N193*($G193-$D193)),0)),IF($G193=\"\",COUNTRY_INFO!N193*$E193,COUNTRY_INFO!N193*$G193)))","v":0},{"$f":"IF(OR(COUNTRY_INFO!O193=\"Unknown\",COUNTRY_INFO!O193=\"Surveillance\",COUNTRY_INFO!O193=\"Not required\",COUNTRY_INFO!O193=0),0,IF($E193<>0, IF($F193=0,COUNTRY_INFO!O193*$E193,COUNTRY_INFO!O193*($E193-$D193)),COUNTRY_INFO!O193*$E193))","v":0},null,{"$f":"IF(OR(COUNTRY_INFO!P193=\"Unknown\",COUNTRY_INFO!P193=\"Surveillance\",COUNTRY_INFO!P193=\"Not required\",COUNTRY_INFO!P193=0),0,IF(AND($E193<>0,$J193=\"\"),IF($F193=0,COUNTRY_INFO!P193*$E193,COUNTRY_INFO!P193*($E193-$D193)), IF(AND($E193<>0,$J193<>0),IF($F193=0,COUNTRY_INFO!P193*$J193,COUNTRY_INFO!P193*($J193-$D193)), COUNTRY_INFO!P193*$J193)))","v":0},0,0,null,0,0,null,0,0,null,0]
[{"$f":"IF(AND(INTRO!$E$37=\"Non-endemic\",INTRO!$E$41=\"Non-endemic\"),\" \",IF(COUNTRY_INFO!A194=0,\" \",COUNTRY_INFO!A194))","v":"Ghana"},{"$f":"IF(AND(INTRO!$E$37=\"Non-endemic\",INTRO!$E$41=\"Non-endemic\"),\" \",IF(COUNTRY_INFO!B194=0,\" \",COUNTRY_INFO!B194))","v":"Oti"},{"$f":"IF(AND(INTRO!$E$37=\"Non-endemic\",INTRO!$E$41=\"Non-endemic\"),\" \",IF(COUNTRY_INFO!C194=0,\" \",COUNTRY_INFO!C194))","v":"Krachi West"},{"$f":"IF(AND(INTRO!$E$37=\"Non-endemic\",INTRO!$E$41=\"Non-endemic\"),0,COUNTRY_INFO!V194)","v":0},{"$f":"IF(AND(INTRO!$E$37=\"Non-endemic\",INTRO!$E$41=\"Non-endemic\"),0,COUNTRY_INFO!X194)","v":0},{"$f":"IF(INTRO!$E$39=\"Non-endemic\",IF($D194=1,DEC!I194,0),IF($D194=1,IVM!G194,0))","v":0},null,{"$f":"IF(OR(COUNTRY_INFO!N194=\"Unknown\",COUNTRY_INFO!N194=\"Surveillance\",COUNTRY_INFO!N194=\"Not required\",COUNTRY_INFO!N194=0),0,IF(INTRO!$E$39=\"Non-endemic\",IF(AND($E194<>0,$G194=\"\"),IF($F194=0,COUNTRY_INFO!N194*$E194,COUNTRY_INFO!N194*($E194-$D194)),IF(AND($E194<>0,$G194<>0),IF($F194=0,COUNTRY_INFO!N194*$G194,COUNTRY_INFO!N194*($G194-$D194)),0)),IF($G194=\"\",COUNTRY_INFO!N194*$E194,COUNTRY_INFO!N194*$G194)))","v":0},{"$f":"IF(OR(COUNTRY_INFO!O194=\"Unknown\",COUNTRY_INFO!O194=\"Surveillance\",COUNTRY_INFO!O194=\"Not required\",COUNTRY_INFO!O194=0),0,IF($E194<>0, IF($F194=0,COUNTRY_INFO!O194*$E194,COUNTRY_INFO!O194*($E194-$D194)),COUNTRY_INFO!O194*$E194))","v":0},null,{"$f":"IF(OR(COUNTRY_INFO!P194=\"Unknown\",COUNTRY_INFO!P194=\"Surveillance\",COUNTRY_INFO!P194=\"Not required\",COUNTRY_INFO!P194=0),0,IF(AND($E194<>0,$J194=\"\"),IF($F194=0,COUNTRY_INFO!P194*$E194,COUNTRY_INFO!P194*($E194-$D194)), IF(AND($E194<>0,$J194<>0),IF($F194=0,COUNTRY_INFO!P194*$J194,COUNTRY_INFO!P194*($J194-$D194)), COUNTRY_INFO!P194*$J194)))","v":0},0,0,null,0,0,null,0,0,null,0]
[{"$f":"IF(AND(INTRO!$E$37=\"Non-endemic\",INTRO!$E$41=\"Non-endemic\"),\" \",IF(COUNTRY_INFO!A195=0,\" \",COUNTRY_INFO!A195))","v":"Ghana"},{"$f":"IF(AND(INTRO!$E$37=\"Non-endemic\",INTRO!$E$41=\"Non-endemic\"),\" \",IF(COUNTRY_INFO!B195=0,\" \",COUNTRY_INFO!B195))","v":"Oti"},{"$f":"IF(AND(INTRO!$E$37=\"Non-endemic\",INTRO!$E$41=\"Non-endemic\"),\" \",IF(COUNTRY_INFO!C195=0,\" \",COUNTRY_INFO!C195))","v":"Nkwanta North"},{"$f":"IF(AND(INTRO!$E$37=\"Non-endemic\",INTRO!$E$41=\"Non-endemic\"),0,COUNTRY_INFO!V195)","v":0},{"$f":"IF(AND(INTRO!$E$37=\"Non-endemic\",INTRO!$E$41=\"Non-endemic\"),0,COUNTRY_INFO!X195)","v":0},{"$f":"IF(INTRO!$E$39=\"Non-endemic\",IF($D195=1,DEC!I195,0),IF($D195=1,IVM!G195,0))","v":0},null,{"$f":"IF(OR(COUNTRY_INFO!N195=\"Unknown\",COUNTRY_INFO!N195=\"Surveillance\",COUNTRY_INFO!N195=\"Not required\",COUNTRY_INFO!N195=0),0,IF(INTRO!$E$39=\"Non-endemic\",IF(AND($E195<>0,$G195=\"\"),IF($F195=0,COUNTRY_INFO!N195*$E195,COUNTRY_INFO!N195*($E195-$D195)),IF(AND($E195<>0,$G195<>0),IF($F195=0,COUNTRY_INFO!N195*$G195,COUNTRY_INFO!N195*($G195-$D195)),0)),IF($G195=\"\",COUNTRY_INFO!N195*$E195,COUNTRY_INFO!N195*$G195)))","v":0},{"$f":"IF(OR(COUNTRY_INFO!O195=\"Unknown\",COUNTRY_INFO!O195=\"Surveillance\",COUNTRY_INFO!O195=\"Not required\",COUNTRY_INFO!O195=0),0,IF($E195<>0, IF($F195=0,COUNTRY_INFO!O195*$E195,COUNTRY_INFO!O195*($E195-$D195)),COUNTRY_INFO!O195*$E195))","v":0},null,{"$f":"IF(OR(COUNTRY_INFO!P195=\"Unknown\",COUNTRY_INFO!P195=\"Surveillance\",COUNTRY_INFO!P195=\"Not required\",COUNTRY_INFO!P195=0),0,IF(AND($E195<>0,$J195=\"\"),IF($F195=0,COUNTRY_INFO!P195*$E195,COUNTRY_INFO!P195*($E195-$D195)), IF(AND($E195<>0,$J195<>0),IF($F195=0,COUNTRY_INFO!P195*$J195,COUNTRY_INFO!P195*($J195-$D195)), COUNTRY_INFO!P195*$J195)))","v":0},0,0,null,0,0,null,0,0,null,0]
[{"$f":"IF(AND(INTRO!$E$37=\"Non-endemic\",INTRO!$E$41=\"Non-endemic\"),\" \",IF(COUNTRY_INFO!A196=0,\" \",COUNTRY_INFO!A196))","v":"Ghana"},{"$f":"IF(AND(INTRO!$E$37=\"Non-endemic\",INTRO!$E$41=\"Non-endemic\"),\" \",IF(COUNTRY_INFO!B196=0,\" \",COUNTRY_INFO!B196))","v":"Oti"},{"$f":"IF(AND(INTRO!$E$37=\"Non-endemic\",INTRO!$E$41=\"Non-endemic\"),\" \",IF(COUNTRY_INFO!C196=0,\" \",COUNTRY_INFO!C196))","v":"Nkwanta South"},{"$f":"IF(AND(INTRO!$E$37=\"Non-endemic\",INTRO!$E$41=\"Non-endemic\"),0,COUNTRY_INFO!V196)","v":0},{"$f":"IF(AND(INTRO!$E$37=\"Non-endemic\",INTRO!$E$41=\"Non-endemic\"),0,COUNTRY_INFO!X196)","v":0},{"$f":"IF(INTRO!$E$39=\"Non-endemic\",IF($D196=1,DEC!I196,0),IF($D196=1,IVM!G196,0))","v":0},null,{"$f":"IF(OR(COUNTRY_INFO!N196=\"Unknown\",COUNTRY_INFO!N196=\"Surveillance\",COUNTRY_INFO!N196=\"Not required\",COUNTRY_INFO!N196=0),0,IF(INTRO!$E$39=\"Non-endemic\",IF(AND($E196<>0,$G196=\"\"),IF($F196=0,COUNTRY_INFO!N196*$E196,COUNTRY_INFO!N196*($E196-$D196)),IF(AND($E196<>0,$G196<>0),IF($F196=0,COUNTRY_INFO!N196*$G196,COUNTRY_INFO!N196*($G196-$D196)),0)),IF($G196=\"\",COUNTRY_INFO!N196*$E196,COUNTRY_INFO!N196*$G196)))","v":0},{"$f":"IF(OR(COUNTRY_INFO!O196=\"Unknown\",COUNTRY_INFO!O196=\"Surveillance\",COUNTRY_INFO!O196=\"Not required\",COUNTRY_INFO!O196=0),0,IF($E196<>0, IF($F196=0,COUNTRY_INFO!O196*$E196,COUNTRY_INFO!O196*($E196-$D196)),COUNTRY_INFO!O196*$E196))","v":0},null,{"$f":"IF(OR(COUNTRY_INFO!P196=\"Unknown\",COUNTRY_INFO!P196=\"Surveillance\",COUNTRY_INFO!P196=\"Not required\",COUNTRY_INFO!P196=0),0,IF(AND($E196<>0,$J196=\"\"),IF($F196=0,COUNTRY_INFO!P196*$E196,COUNTRY_INFO!P196*($E196-$D196)), IF(AND($E196<>0,$J196<>0),IF($F196=0,COUNTRY_INFO!P196*$J196,COUNTRY_INFO!P196*($J196-$D196)), COUNTRY_INFO!P196*$J196)))","v":0},0,0,null,0,0,null,0,0,null,0]
[{"$f":"IF(AND(INTRO!$E$37=\"Non-endemic\",INTRO!$E$41=\"Non-endemic\"),\" \",IF(COUNTRY_INFO!A197=0,\" \",COUNTRY_INFO!A197))","v":"Ghana"},{"$f":"IF(AND(INTRO!$E$37=\"Non-endemic\",INTRO!$E$41=\"Non-endemic\"),\" \",IF(COUNTRY_INFO!B197=0,\" \",COUNTRY_INFO!B197))","v":"Savannah"},{"$f":"IF(AND(INTRO!$E$37=\"Non-endemic\",INTRO!$E$41=\"Non-endemic\"),\" \",IF(COUNTRY_INFO!C197=0,\" \",COUNTRY_INFO!C197))","v":"Bole"},{"$f":"IF(AND(INTRO!$E$37=\"Non-endemic\",INTRO!$E$41=\"Non-endemic\"),0,COUNTRY_INFO!V197)","v":1},{"$f":"IF(AND(INTRO!$E$37=\"Non-endemic\",INTRO!$E$41=\"Non-endemic\"),0,COUNTRY_INFO!X197)","v":0},{"$f":"IF(INTRO!$E$39=\"Non-endemic\",IF($D197=1,DEC!I197,0),IF($D197=1,IVM!G197,0))","v":108160},null,{"$f":"IF(OR(COUNTRY_INFO!N197=\"Unknown\",COUNTRY_INFO!N197=\"Surveillance\",COUNTRY_INFO!N197=\"Not required\",COUNTRY_INFO!N197=0),0,IF(INTRO!$E$39=\"Non-endemic\",IF(AND($E197<>0,$G197=\"\"),IF($F197=0,COUNTRY_INFO!N197*$E197,COUNTRY_INFO!N197*($E197-$D197)),IF(AND($E197<>0,$G197<>0),IF($F197=0,COUNTRY_INFO!N197*$G197,COUNTRY_INFO!N197*($G197-$D197)),0)),IF($G197=\"\",COUNTRY_INFO!N197*$E197,COUNTRY_INFO!N197*$G197)))","v":0},{"$f":"IF(OR(COUNTRY_INFO!O197=\"Unknown\",COUNTRY_INFO!O197=\"Surveillance\",COUNTRY_INFO!O197=\"Not required\",COUNTRY_INFO!O197=0),0,IF($E197<>0, IF($F197=0,COUNTRY_INFO!O197*$E197,COUNTRY_INFO!O197*($E197-$D197)),COUNTRY_INFO!O197*$E197))","v":0},null,{"$f":"IF(OR(COUNTRY_INFO!P197=\"Unknown\",COUNTRY_INFO!P197=\"Surveillance\",COUNTRY_INFO!P197=\"Not required\",COUNTRY_INFO!P197=0),0,IF(AND($E197<>0,$J197=\"\"),IF($F197=0,COUNTRY_INFO!P197*$E197,COUNTRY_INFO!P197*($E197-$D197)), IF(AND($E197<>0,$J197<>0),IF($F197=0,COUNTRY_INFO!P197*$J197,COUNTRY_INFO!P197*($J197-$D197)), COUNTRY_INFO!P197*$J197)))","v":0},0,108160,null,108160,0,null,0,0,null,0]
[{"$f":"IF(AND(INTRO!$E$37=\"Non-endemic\",INTRO!$E$41=\"Non-endemic\"),\" \",IF(COUNTRY_INFO!A198=0,\" \",COUNTRY_INFO!A198))","v":"Ghana"},{"$f":"IF(AND(INTRO!$E$37=\"Non-endemic\",INTRO!$E$41=\"Non-endemic\"),\" \",IF(COUNTRY_INFO!B198=0,\" \",COUNTRY_INFO!B198))","v":"Savannah"},{"$f":"IF(AND(INTRO!$E$37=\"Non-endemic\",INTRO!$E$41=\"Non-endemic\"),\" \",IF(COUNTRY_INFO!C198=0,\" \",COUNTRY_INFO!C198))","v":"Central Gonja"},{"$f":"IF(AND(INTRO!$E$37=\"Non-endemic\",INTRO!$E$41=\"Non-endemic\"),0,COUNTRY_INFO!V198)","v":0},{"$f":"IF(AND(INTRO!$E$37=\"Non-endemic\",INTRO!$E$41=\"Non-endemic\"),0,COUNTRY_INFO!X198)","v":0},{"$f":"IF(INTRO!$E$39=\"Non-endemic\",IF($D198=1,DEC!I198,0),IF($D198=1,IVM!G198,0))","v":0},null,{"$f":"IF(OR(COUNTRY_INFO!N198=\"Unknown\",COUNTRY_INFO!N198=\"Surveillance\",COUNTRY_INFO!N198=\"Not required\",COUNTRY_INFO!N198=0),0,IF(INTRO!$E$39=\"Non-endemic\",IF(AND($E198<>0,$G198=\"\"),IF($F198=0,COUNTRY_INFO!N198*$E198,COUNTRY_INFO!N198*($E198-$D198)),IF(AND($E198<>0,$G198<>0),IF($F198=0,COUNTRY_INFO!N198*$G198,COUNTRY_INFO!N198*($G198-$D198)),0)),IF($G198=\"\",COUNTRY_INFO!N198*$E198,COUNTRY_INFO!N198*$G198)))","v":0},{"$f":"IF(OR(COUNTRY_INFO!O198=\"Unknown\",COUNTRY_INFO!O198=\"Surveillance\",COUNTRY_INFO!O198=\"Not required\",COUNTRY_INFO!O198=0),0,IF($E198<>0, IF($F198=0,COUNTRY_INFO!O198*$E198,COUNTRY_INFO!O198*($E198-$D198)),COUNTRY_INFO!O198*$E198))","v":0},null,{"$f":"IF(OR(COUNTRY_INFO!P198=\"Unknown\",COUNTRY_INFO!P198=\"Surveillance\",COUNTRY_INFO!P198=\"Not required\",COUNTRY_INFO!P198=0),0,IF(AND($E198<>0,$J198=\"\"),IF($F198=0,COUNTRY_INFO!P198*$E198,COUNTRY_INFO!P198*($E198-$D198)), IF(AND($E198<>0,$J198<>0),IF($F198=0,COUNTRY_INFO!P198*$J198,COUNTRY_INFO!P198*($J198-$D198)), COUNTRY_INFO!P198*$J198)))","v":0},0,0,null,0,0,null,0,0,null,0]
[{"$f":"IF(AND(INTRO!$E$37=\"Non-endemic\",INTRO!$E$41=\"Non-endemic\"),\" \",IF(COUNTRY_INFO!A199=0,\" \",COUNTRY_INFO!A199))","v":"Ghana"},{"$f":"IF(AND(INTRO!$E$37=\"Non-endemic\",INTRO!$E$41=\"Non-endemic\"),\" \",IF(COUNTRY_INFO!B199=0,\" \",COUNTRY_INFO!B199))","v":"Savannah"},{"$f":"IF(AND(INTRO!$E$37=\"Non-endemic\",INTRO!$E$41=\"Non-endemic\"),\" \",IF(COUNTRY_INFO!C199=0,\" \",COUNTRY_INFO!C199))","v":"East Gonja"},{"$f":"IF(AND(INTRO!$E$37=\"Non-endemic\",INTRO!$E$41=\"Non-endemic\"),0,COUNTRY_INFO!V199)","v":0},{"$f":"IF(AND(INTRO!$E$37=\"Non-endemic\",INTRO!$E$41=\"Non-endemic\"),0,COUNTRY_INFO!X199)","v":0},{"$f":"IF(INTRO!$E$39=\"Non-endemic\",IF($D199=1,DEC!I199,0),IF($D199=1,IVM!G199,0))","v":0},null,{"$f":"IF(OR(COUNTRY_INFO!N199=\"Unknown\",COUNTRY_INFO!N199=\"Surveillance\",COUNTRY_INFO!N199=\"Not required\",COUNTRY_INFO!N199=0),0,IF(INTRO!$E$39=\"Non-endemic\",IF(AND($E199<>0,$G199=\"\"),IF($F199=0,COUNTRY_INFO!N199*$E199,COUNTRY_INFO!N199*($E199-$D199)),IF(AND($E199<>0,$G199<>0),IF($F199=0,COUNTRY_INFO!N199*$G199,COUNTRY_INFO!N199*($G199-$D199)),0)),IF($G199=\"\",COUNTRY_INFO!N199*$E199,COUNTRY_INFO!N199*$G199)))","v":0},{"$f":"IF(OR(COUNTRY_INFO!O199=\"Unknown\",COUNTRY_INFO!O199=\"Surveillance\",COUNTRY_INFO!O199=\"Not required\",COUNTRY_INFO!O199=0),0,IF($E199<>0, IF($F199=0,COUNTRY_INFO!O199*$E199,COUNTRY_INFO!O199*($E199-$D199)),COUNTRY_INFO!O199*$E199))","v":0},null,{"$f":"IF(OR(COUNTRY_INFO!P199=\"Unknown\",COUNTRY_INFO!P199=\"Surveillance\",COUNTRY_INFO!P199=\"Not required\",COUNTRY_INFO!P199=0),0,IF(AND($E199<>0,$J199=\"\"),IF($F199=0,COUNTRY_INFO!P199*$E199,COUNTRY_INFO!P199*($E199-$D199)), IF(AND($E199<>0,$J199<>0),IF($F199=0,COUNTRY_INFO!P199*$J199,COUNTRY_INFO!P199*($J199-$D199)), COUNTRY_INFO!P199*$J199)))","v":0},0,0,null,0,0,null,0,0,null,0]
[{"$f":"IF(AND(INTRO!$E$37=\"Non-endemic\",INTRO!$E$41=\"Non-endemic\"),\" \",IF(COUNTRY_INFO!A200=0,\" \",COUNTRY_INFO!A200))","v":"Ghana"},{"$f":"IF(AND(INTRO!$E$37=\"Non-endemic\",INTRO!$E$41=\"Non-endemic\"),\" \",IF(COUNTRY_INFO!B200=0,\" \",COUNTRY_INFO!B200))","v":"Savannah"},{"$f":"IF(AND(INTRO!$E$37=\"Non-endemic\",INTRO!$E$41=\"Non-endemic\"),\" \",IF(COUNTRY_INFO!C200=0,\" \",COUNTRY_INFO!C200))","v":"North Gonja"},{"$f":"IF(AND(INTRO!$E$37=\"Non-endemic\",INTRO!$E$41=\"Non-endemic\"),0,COUNTRY_INFO!V200)","v":0},{"$f":"IF(AND(INTRO!$E$37=\"Non-endemic\",INTRO!$E$41=\"Non-endemic\"),0,COUNTRY_INFO!X200)","v":0},{"$f":"IF(INTRO!$E$39=\"Non-endemic\",IF($D200=1,DEC!I200,0),IF($D200=1,IVM!G200,0))","v":0},null,{"$f":"IF(OR(COUNTRY_INFO!N200=\"Unknown\",COUNTRY_INFO!N200=\"Surveillance\",COUNTRY_INFO!N200=\"Not required\",COUNTRY_INFO!N200=0),0,IF(INTRO!$E$39=\"Non-endemic\",IF(AND($E200<>0,$G200=\"\"),IF($F200=0,COUNTRY_INFO!N200*$E200,COUNTRY_INFO!N200*($E200-$D200)),IF(AND($E200<>0,$G200<>0),IF($F200=0,COUNTRY_INFO!N200*$G200,COUNTRY_INFO!N200*($G200-$D200)),0)),IF($G200=\"\",COUNTRY_INFO!N200*$E200,COUNTRY_INFO!N200*$G200)))","v":0},{"$f":"IF(OR(COUNTRY_INFO!O200=\"Unknown\",COUNTRY_INFO!O200=\"Surveillance\",COUNTRY_INFO!O200=\"Not required\",COUNTRY_INFO!O200=0),0,IF($E200<>0, IF($F200=0,COUNTRY_INFO!O200*$E200,COUNTRY_INFO!O200*($E200-$D200)),COUNTRY_INFO!O200*$E200))","v":0},null,{"$f":"IF(OR(COUNTRY_INFO!P200=\"Unknown\",COUNTRY_INFO!P200=\"Surveillance\",COUNTRY_INFO!P200=\"Not required\",COUNTRY_INFO!P200=0),0,IF(AND($E200<>0,$J200=\"\"),IF($F200=0,COUNTRY_INFO!P200*$E200,COUNTRY_INFO!P200*($E200-$D200)), IF(AND($E200<>0,$J200<>0),IF($F200=0,COUNTRY_INFO!P200*$J200,COUNTRY_INFO!P200*($J200-$D200)), COUNTRY_INFO!P200*$J200)))","v":0},0,0,null,0,0,null,0,0,null,0]
[{"$f":"IF(AND(INTRO!$E$37=\"Non-endemic\",INTRO!$E$41=\"Non-endemic\"),\" \",IF(COUNTRY_INFO!A201=0,\" \",COUNTRY_INFO!A201))","v":"Ghana"},{"$f":"IF(AND(INTRO!$E$37=\"Non-endemic\",INTRO!$E$41=\"Non-endemic\"),\" \",IF(COUNTRY_INFO!B201=0,\" \",COUNTRY_INFO!B201))","v":"Savannah"},{"$f":"IF(AND(INTRO!$E$37=\"Non-endemic\",INTRO!$E$41=\"Non-endemic\"),\" \",IF(COUNTRY_INFO!C201=0,\" \",COUNTRY_INFO!C201))","v":"North-East Gonja"},{"$f":"IF(AND(INTRO!$E$37=\"Non-endemic\",INTRO!$E$41=\"Non-endemic\"),0,COUNTRY_INFO!V201)","v":0},{"$f":"IF(AND(INTRO!$E$37=\"Non-endemic\",INTRO!$E$41=\"Non-endemic\"),0,COUNTRY_INFO!X201)","v":0},{"$f":"IF(INTRO!$E$39=\"Non-endemic\",IF($D201=1,DEC!I201,0),IF($D201=1,IVM!G201,0))","v":0},null,{"$f":"IF(OR(COUNTRY_INFO!N201=\"Unknown\",COUNTRY_INFO!N201=\"Surveillance\",COUNTRY_INFO!N201=\"Not required\",COUNTRY_INFO!N201=0),0,IF(INTRO!$E$39=\"Non-endemic\",IF(AND($E201<>0,$G201=\"\"),IF($F201=0,COUNTRY_INFO!N201*$E201,COUNTRY_INFO!N201*($E201-$D201)),IF(AND($E201<>0,$G201<>0),IF($F201=0,COUNTRY_INFO!N201*$G201,COUNTRY_INFO!N201*($G201-$D201)),0)),IF($G201=\"\",COUNTRY_INFO!N201*$E201,COUNTRY_INFO!N201*$G201)))","v":0},{"$f":"IF(OR(COUNTRY_INFO!O201=\"Unknown\",COUNTRY_INFO!O201=\"Surveillance\",COUNTRY_INFO!O201=\"Not required\",COUNTRY_INFO!O201=0),0,IF($E201<>0, IF($F201=0,COUNTRY_INFO!O201*$E201,COUNTRY_INFO!O201*($E201-$D201)),COUNTRY_INFO!O201*$E201))","v":0},null,{"$f":"IF(OR(COUNTRY_INFO!P201=\"Unknown\",COUNTRY_INFO!P201=\"Surveillance\",COUNTRY_INFO!P201=\"Not required\",COUNTRY_INFO!P201=0),0,IF(AND($E201<>0,$J201=\"\"),IF($F201=0,COUNTRY_INFO!P201*$E201,COUNTRY_INFO!P201*($E201-$D201)), IF(AND($E201<>0,$J201<>0),IF($F201=0,COUNTRY_INFO!P201*$J201,COUNTRY_INFO!P201*($J201-$D201)), COUNTRY_INFO!P201*$J201)))","v":0},0,0,null,0,0,null,0,0,null,0]
[{"$f":"IF(AND(INTRO!$E$37=\"Non-endemic\",INTRO!$E$41=\"Non-endemic\"),\" \",IF(COUNTRY_INFO!A202=0,\" \",COUNTRY_INFO!A202))","v":"Ghana"},{"$f":"IF(AND(INTRO!$E$37=\"Non-endemic\",INTRO!$E$41=\"Non-endemic\"),\" \",IF(COUNTRY_INFO!B202=0,\" \",COUNTRY_INFO!B202))","v":"Savannah"},{"$f":"IF(AND(INTRO!$E$37=\"Non-endemic\",INTRO!$E$41=\"Non-endemic\"),\" \",IF(COUNTRY_INFO!C202=0,\" \",COUNTRY_INFO!C202))","v":"Sawla-Tuna-Kalba"},{"$f":"IF(AND(INTRO!$E$37=\"Non-endemic\",INTRO!$E$41=\"Non-endemic\"),0,COUNTRY_INFO!V202)","v":1},{"$f":"IF(AND(INTRO!$E$37=\"Non-endemic\",INTRO!$E$41=\"Non-endemic\"),0,COUNTRY_INFO!X202)","v":0},{"$f":"IF(INTRO!$E$39=\"Non-endemic\",IF($D202=1,DEC!I202,0),IF($D202=1,IVM!G202,0))","v":105231},null,{"$f":"IF(OR(COUNTRY_INFO!N202=\"Unknown\",COUNTRY_INFO!N202=\"Surveillance\",COUNTRY_INFO!N202=\"Not required\",COUNTRY_INFO!N202=0),0,IF(INTRO!$E$39=\"Non-endemic\",IF(AND($E202<>0,$G202=\"\"),IF($F202=0,COUNTRY_INFO!N202*$E202,COUNTRY_INFO!N202*($E202-$D202)),IF(AND($E202<>0,$G202<>0),IF($F202=0,COUNTRY_INFO!N202*$G202,COUNTRY_INFO!N202*($G202-$D202)),0)),IF($G202=\"\",COUNTRY_INFO!N202*$E202,COUNTRY_INFO!N202*$G202)))","v":0},{"$f":"IF(OR(COUNTRY_INFO!O202=\"Unknown\",COUNTRY_INFO!O202=\"Surveillance\",COUNTRY_INFO!O202=\"Not required\",COUNTRY_INFO!O202=0),0,IF($E202<>0, IF($F202=0,COUNTRY_INFO!O202*$E202,COUNTRY_INFO!O202*($E202-$D202)),COUNTRY_INFO!O202*$E202))","v":0},null,{"$f":"IF(OR(COUNTRY_INFO!P202=\"Unknown\",COUNTRY_INFO!P202=\"Surveillance\",COUNTRY_INFO!P202=\"Not required\",COUNTRY_INFO!P202=0),0,IF(AND($E202<>0,$J202=\"\"),IF($F202=0,COUNTRY_INFO!P202*$E202,COUNTRY_INFO!P202*($E202-$D202)), IF(AND($E202<>0,$J202<>0),IF($F202=0,COUNTRY_INFO!P202*$J202,COUNTRY_INFO!P202*($J202-$D202)), COUNTRY_INFO!P202*$J202)))","v":0},0,105231,null,105231,0,null,0,0,null,0]
[{"$f":"IF(AND(INTRO!$E$37=\"Non-endemic\",INTRO!$E$41=\"Non-endemic\"),\" \",IF(COUNTRY_INFO!A203=0,\" \",COUNTRY_INFO!A203))","v":"Ghana"},{"$f":"IF(AND(INTRO!$E$37=\"Non-endemic\",INTRO!$E$41=\"Non-endemic\"),\" \",IF(COUNTRY_INFO!B203=0,\" \",COUNTRY_INFO!B203))","v":"Savannah"},{"$f":"IF(AND(INTRO!$E$37=\"Non-endemic\",INTRO!$E$41=\"Non-endemic\"),\" \",IF(COUNTRY_INFO!C203=0,\" \",COUNTRY_INFO!C203))","v":"West Gonja"},{"$f":"IF(AND(INTRO!$E$37=\"Non-endemic\",INTRO!$E$41=\"Non-endemic\"),0,COUNTRY_INFO!V203)","v":0},{"$f":"IF(AND(INTRO!$E$37=\"Non-endemic\",INTRO!$E$41=\"Non-endemic\"),0,COUNTRY_INFO!X203)","v":0},{"$f":"IF(INTRO!$E$39=\"Non-endemic\",IF($D203=1,DEC!I203,0),IF($D203=1,IVM!G203,0))","v":0},null,{"$f":"IF(OR(COUNTRY_INFO!N203=\"Unknown\",COUNTRY_INFO!N203=\"Surveillance\",COUNTRY_INFO!N203=\"Not required\",COUNTRY_INFO!N203=0),0,IF(INTRO!$E$39=\"Non-endemic\",IF(AND($E203<>0,$G203=\"\"),IF($F203=0,COUNTRY_INFO!N203*$E203,COUNTRY_INFO!N203*($E203-$D203)),IF(AND($E203<>0,$G203<>0),IF($F203=0,COUNTRY_INFO!N203*$G203,COUNTRY_INFO!N203*($G203-$D203)),0)),IF($G203=\"\",COUNTRY_INFO!N203*$E203,COUNTRY_INFO!N203*$G203)))","v":0},{"$f":"IF(OR(COUNTRY_INFO!O203=\"Unknown\",COUNTRY_INFO!O203=\"Surveillance\",COUNTRY_INFO!O203=\"Not required\",COUNTRY_INFO!O203=0),0,IF($E203<>0, IF($F203=0,COUNTRY_INFO!O203*$E203,COUNTRY_INFO!O203*($E203-$D203)),COUNTRY_INFO!O203*$E203))","v":0},null,{"$f":"IF(OR(COUNTRY_INFO!P203=\"Unknown\",COUNTRY_INFO!P203=\"Surveillance\",COUNTRY_INFO!P203=\"Not required\",COUNTRY_INFO!P203=0),0,IF(AND($E203<>0,$J203=\"\"),IF($F203=0,COUNTRY_INFO!P203*$E203,COUNTRY_INFO!P203*($E203-$D203)), IF(AND($E203<>0,$J203<>0),IF($F203=0,COUNTRY_INFO!P203*$J203,COUNTRY_INFO!P203*($J203-$D203)), COUNTRY_INFO!P203*$J203)))","v":0},0,0,null,0,0,null,0,0,null,0]
[{"$f":"IF(AND(INTRO!$E$37=\"Non-endemic\",INTRO!$E$41=\"Non-endemic\"),\" \",IF(COUNTRY_INFO!A204=0,\" \",COUNTRY_INFO!A204))","v":"Ghana"},{"$f":"IF(AND(INTRO!$E$37=\"Non-endemic\",INTRO!$E$41=\"Non-endemic\"),\" \",IF(COUNTRY_INFO!B204=0,\" \",COUNTRY_INFO!B204))","v":"Upper East"},{"$f":"IF(AND(INTRO!$E$37=\"Non-endemic\",INTRO!$E$41=\"Non-endemic\"),\" \",IF(COUNTRY_INFO!C204=0,\" \",COUNTRY_INFO!C204))","v":"Bawku Municipal"},{"$f":"IF(AND(INTRO!$E$37=\"Non-endemic\",INTRO!$E$41=\"Non-endemic\"),0,COUNTRY_INFO!V204)","v":0},{"$f":"IF(AND(INTRO!$E$37=\"Non-endemic\",INTRO!$E$41=\"Non-endemic\"),0,COUNTRY_INFO!X204)","v":0},{"$f":"IF(INTRO!$E$39=\"Non-endemic\",IF($D204=1,DEC!I204,0),IF($D204=1,IVM!G204,0))","v":0},null,{"$f":"IF(OR(COUNTRY_INFO!N204=\"Unknown\",COUNTRY_INFO!N204=\"Surveillance\",COUNTRY_INFO!N204=\"Not required\",COUNTRY_INFO!N204=0),0,IF(INTRO!$E$39=\"Non-endemic\",IF(AND($E204<>0,$G204=\"\"),IF($F204=0,COUNTRY_INFO!N204*$E204,COUNTRY_INFO!N204*($E204-$D204)),IF(AND($E204<>0,$G204<>0),IF($F204=0,COUNTRY_INFO!N204*$G204,COUNTRY_INFO!N204*($G204-$D204)),0)),IF($G204=\"\",COUNTRY_INFO!N204*$E204,COUNTRY_INFO!N204*$G204)))","v":0},{"$f":"IF(OR(COUNTRY_INFO!O204=\"Unknown\",COUNTRY_INFO!O204=\"Surveillance\",COUNTRY_INFO!O204=\"Not required\",COUNTRY_INFO!O204=0),0,IF($E204<>0, IF($F204=0,COUNTRY_INFO!O204*$E204,COUNTRY_INFO!O204*($E204-$D204)),COUNTRY_INFO!O204*$E204))","v":0},null,{"$f":"IF(OR(COUNTRY_INFO!P204=\"Unknown\",COUNTRY_INFO!P204=\"Surveillance\",COUNTRY_INFO!P204=\"Not required\",COUNTRY_INFO!P204=0),0,IF(AND($E204<>0,$J204=\"\"),IF($F204=0,COUNTRY_INFO!P204*$E204,COUNTRY_INFO!P204*($E204-$D204)), IF(AND($E204<>0,$J204<>0),IF($F204=0,COUNTRY_INFO!P204*$J204,COUNTRY_INFO!P204*($J204-$D204)), COUNTRY_INFO!P204*$J204)))","v":0},0,0,null,0,0,null,0,0,null,0]
[{"$f":"IF(AND(INTRO!$E$37=\"Non-endemic\",INTRO!$E$41=\"Non-endemic\"),\" \",IF(COUNTRY_INFO!A205=0,\" \",COUNTRY_INFO!A205))","v":"Ghana"},{"$f":"IF(AND(INTRO!$E$37=\"Non-endemic\",INTRO!$E$41=\"Non-endemic\"),\" \",IF(COUNTRY_INFO!B205=0,\" \",COUNTRY_INFO!B205))","v":"Upper East"},{"$f":"IF(AND(INTRO!$E$37=\"Non-endemic\",INTRO!$E$41=\"Non-endemic\"),\" \",IF(COUNTRY_INFO!C205=0,\" \",COUNTRY_INFO!C205))","v":"Bawku West"},{"$f":"IF(AND(INTRO!$E$37=\"Non-endemic\",INTRO!$E$41=\"Non-endemic\"),0,COUNTRY_INFO!V205)","v":0},{"$f":"IF(AND(INTRO!$E$37=\"Non-endemic\",INTRO!$E$41=\"Non-endemic\"),0,COUNTRY_INFO!X205)","v":0},{"$f":"IF(INTRO!$E$39=\"Non-endemic\",IF($D205=1,DEC!I205,0),IF($D205=1,IVM!G205,0))","v":0},null,{"$f":"IF(OR(COUNTRY_INFO!N205=\"Unknown\",COUNTRY_INFO!N205=\"Surveillance\",COUNTRY_INFO!N205=\"Not required\",COUNTRY_INFO!N205=0),0,IF(INTRO!$E$39=\"Non-endemic\",IF(AND($E205<>0,$G205=\"\"),IF($F205=0,COUNTRY_INFO!N205*$E205,COUNTRY_INFO!N205*($E205-$D205)),IF(AND($E205<>0,$G205<>0),IF($F205=0,COUNTRY_INFO!N205*$G205,COUNTRY_INFO!N205*($G205-$D205)),0)),IF($G205=\"\",COUNTRY_INFO!N205*$E205,COUNTRY_INFO!N205*$G205)))","v":0},{"$f":"IF(OR(COUNTRY_INFO!O205=\"Unknown\",COUNTRY_INFO!O205=\"Surveillance\",COUNTRY_INFO!O205=\"Not required\",COUNTRY_INFO!O205=0),0,IF($E205<>0, IF($F205=0,COUNTRY_INFO!O205*$E205,COUNTRY_INFO!O205*($E205-$D205)),COUNTRY_INFO!O205*$E205))","v":0},null,{"$f":"IF(OR(COUNTRY_INFO!P205=\"Unknown\",COUNTRY_INFO!P205=\"Surveillance\",COUNTRY_INFO!P205=\"Not required\",COUNTRY_INFO!P205=0),0,IF(AND($E205<>0,$J205=\"\"),IF($F205=0,COUNTRY_INFO!P205*$E205,COUNTRY_INFO!P205*($E205-$D205)), IF(AND($E205<>0,$J205<>0),IF($F205=0,COUNTRY_INFO!P205*$J205,COUNTRY_INFO!P205*($J205-$D205)), COUNTRY_INFO!P205*$J205)))","v":0},0,0,null,0,0,null,0,0,null,0]
[{"$f":"IF(AND(INTRO!$E$37=\"Non-endemic\",INTRO!$E$41=\"Non-endemic\"),\" \",IF(COUNTRY_INFO!A206=0,\" \",COUNTRY_INFO!A206))","v":"Ghana"},{"$f":"IF(AND(INTRO!$E$37=\"Non-endemic\",INTRO!$E$41=\"Non-endemic\"),\" \",IF(COUNTRY_INFO!B206=0,\" \",COUNTRY_INFO!B206))","v":"Upper East"},{"$f":"IF(AND(INTRO!$E$37=\"Non-endemic\",INTRO!$E$41=\"Non-endemic\"),\" \",IF(COUNTRY_INFO!C206=0,\" \",COUNTRY_INFO!C206))","v":"Binduri"},{"$f":"IF(AND(INTRO!$E$37=\"Non-endemic\",INTRO!$E$41=\"Non-endemic\"),0,COUNTRY_INFO!V206)","v":0},{"$f":"IF(AND(INTRO!$E$37=\"Non-endemic\",INTRO!$E$41=\"Non-endemic\"),0,COUNTRY_INFO!X206)","v":0},{"$f":"IF(INTRO!$E$39=\"Non-endemic\",IF($D206=1,DEC!I206,0),IF($D206=1,IVM!G206,0))","v":0},null,{"$f":"IF(OR(COUNTRY_INFO!N206=\"Unknown\",COUNTRY_INFO!N206=\"Surveillance\",COUNTRY_INFO!N206=\"Not required\",COUNTRY_INFO!N206=0),0,IF(INTRO!$E$39=\"Non-endemic\",IF(AND($E206<>0,$G206=\"\"),IF($F206=0,COUNTRY_INFO!N206*$E206,COUNTRY_INFO!N206*($E206-$D206)),IF(AND($E206<>0,$G206<>0),IF($F206=0,COUNTRY_INFO!N206*$G206,COUNTRY_INFO!N206*($G206-$D206)),0)),IF($G206=\"\",COUNTRY_INFO!N206*$E206,COUNTRY_INFO!N206*$G206)))","v":0},{"$f":"IF(OR(COUNTRY_INFO!O206=\"Unknown\",COUNTRY_INFO!O206=\"Surveillance\",COUNTRY_INFO!O206=\"Not required\",COUNTRY_INFO!O206=0),0,IF($E206<>0, IF($F206=0,COUNTRY_INFO!O206*$E206,COUNTRY_INFO!O206*($E206-$D206)),COUNTRY_INFO!O206*$E206))","v":0},null,{"$f":"IF(OR(COUNTRY_INFO!P206=\"Unknown\",COUNTRY_INFO!P206=\"Surveillance\",COUNTRY_INFO!P206=\"Not required\",COUNTRY_INFO!P206=0),0,IF(AND($E206<>0,$J206=\"\"),IF($F206=0,COUNTRY_INFO!P206*$E206,COUNTRY_INFO!P206*($E206-$D206)), IF(AND($E206<>0,$J206<>0),IF($F206=0,COUNTRY_INFO!P206*$J206,COUNTRY_INFO!P206*($J206-$D206)), COUNTRY_INFO!P206*$J206)))","v":0},0,0,null,0,0,null,0,0,null,0]
[{"$f":"IF(AND(INTRO!$E$37=\"Non-endemic\",INTRO!$E$41=\"Non-endemic\"),\" \",IF(COUNTRY_INFO!A207=0,\" \",COUNTRY_INFO!A207))","v":"Ghana"},{"$f":"IF(AND(INTRO!$E$37=\"Non-endemic\",INTRO!$E$41=\"Non-endemic\"),\" \",IF(COUNTRY_INFO!B207=0,\" \",COUNTRY_INFO!B207))","v":"Upper East"},{"$f":"IF(AND(INTRO!$E$37=\"Non-endemic\",INTRO!$E$41=\"Non-endemic\"),\" \",IF(COUNTRY_INFO!C207=0,\" \",COUNTRY_INFO!C207))","v":"Bolgatanga East"},{"$f":"IF(AND(INTRO!$E$37=\"Non-endemic\",INTRO!$E$41=\"Non-endemic\"),0,COUNTRY_INFO!V207)","v":0},{"$f":"IF(AND(INTRO!$E$37=\"Non-endemic\",INTRO!$E$41=\"Non-endemic\"),0,COUNTRY_INFO!X207)","v":0},{"$f":"IF(INTRO!$E$39=\"Non-endemic\",IF($D207=1,DEC!I207,0),IF($D207=1,IVM!G207,0))","v":0},null,{"$f":"IF(OR(COUNTRY_INFO!N207=\"Unknown\",COUNTRY_INFO!N207=\"Surveillance\",COUNTRY_INFO!N207=\"Not required\",COUNTRY_INFO!N207=0),0,IF(INTRO!$E$39=\"Non-endemic\",IF(AND($E207<>0,$G207=\"\"),IF($F207=0,COUNTRY_INFO!N207*$E207,COUNTRY_INFO!N207*($E207-$D207)),IF(AND($E207<>0,$G207<>0),IF($F207=0,COUNTRY_INFO!N207*$G207,COUNTRY_INFO!N207*($G207-$D207)),0)),IF($G207=\"\",COUNTRY_INFO!N207*$E207,COUNTRY_INFO!N207*$G207)))","v":0},{"$f":"IF(OR(COUNTRY_INFO!O207=\"Unknown\",COUNTRY_INFO!O207=\"Surveillance\",COUNTRY_INFO!O207=\"Not required\",COUNTRY_INFO!O207=0),0,IF($E207<>0, IF($F207=0,COUNTRY_INFO!O207*$E207,COUNTRY_INFO!O207*($E207-$D207)),COUNTRY_INFO!O207*$E207))","v":0},null,{"$f":"IF(OR(COUNTRY_INFO!P207=\"Unknown\",COUNTRY_INFO!P207=\"Surveillance\",COUNTRY_INFO!P207=\"Not required\",COUNTRY_INFO!P207=0),0,IF(AND($E207<>0,$J207=\"\"),IF($F207=0,COUNTRY_INFO!P207*$E207,COUNTRY_INFO!P207*($E207-$D207)), IF(AND($E207<>0,$J207<>0),IF($F207=0,COUNTRY_INFO!P207*$J207,COUNTRY_INFO!P207*($J207-$D207)), COUNTRY_INFO!P207*$J207)))","v":0},0,0,null,0,0,null,0,0,null,0]
[{"$f":"IF(AND(INTRO!$E$37=\"Non-endemic\",INTRO!$E$41=\"Non-endemic\"),\" \",IF(COUNTRY_INFO!A208=0,\" \",COUNTRY_INFO!A208))","v":"Ghana"},{"$f":"IF(AND(INTRO!$E$37=\"Non-endemic\",INTRO!$E$41=\"Non-endemic\"),\" \",IF(COUNTRY_INFO!B208=0,\" \",COUNTRY_INFO!B208))","v":"Upper East"},{"$f":"IF(AND(INTRO!$E$37=\"Non-endemic\",INTRO!$E$41=\"Non-endemic\"),\" \",IF(COUNTRY_INFO!C208=0,\" \",COUNTRY_INFO!C208))","v":"Bolgatanga Municipal"},{"$f":"IF(AND(INTRO!$E$37=\"Non-endemic\",INTRO!$E$41=\"Non-endemic\"),0,COUNTRY_INFO!V208)","v":0},{"$f":"IF(AND(INTRO!$E$37=\"Non-endemic\",INTRO!$E$41=\"Non-endemic\"),0,COUNTRY_INFO!X208)","v":0},{"$f":"IF(INTRO!$E$39=\"Non-endemic\",IF($D208=1,DEC!I208,0),IF($D208=1,IVM!G208,0))","v":0},null,{"$f":"IF(OR(COUNTRY_INFO!N208=\"Unknown\",COUNTRY_INFO!N208=\"Surveillance\",COUNTRY_INFO!N208=\"Not required\",COUNTRY_INFO!N208=0),0,IF(INTRO!$E$39=\"Non-endemic\",IF(AND($E208<>0,$G208=\"\"),IF($F208=0,COUNTRY_INFO!N208*$E208,COUNTRY_INFO!N208*($E208-$D208)),IF(AND($E208<>0,$G208<>0),IF($F208=0,COUNTRY_INFO!N208*$G208,COUNTRY_INFO!N208*($G208-$D208)),0)),IF($G208=\"\",COUNTRY_INFO!N208*$E208,COUNTRY_INFO!N208*$G208)))","v":0},{"$f":"IF(OR(COUNTRY_INFO!O208=\"Unknown\",COUNTRY_INFO!O208=\"Surveillance\",COUNTRY_INFO!O208=\"Not required\",COUNTRY_INFO!O208=0),0,IF($E208<>0, IF($F208=0,COUNTRY_INFO!O208*$E208,COUNTRY_INFO!O208*($E208-$D208)),COUNTRY_INFO!O208*$E208))","v":0},null,{"$f":"IF(OR(COUNTRY_INFO!P208=\"Unknown\",COUNTRY_INFO!P208=\"Surveillance\",COUNTRY_INFO!P208=\"Not required\",COUNTRY_INFO!P208=0),0,IF(AND($E208<>0,$J208=\"\"),IF($F208=0,COUNTRY_INFO!P208*$E208,COUNTRY_INFO!P208*($E208-$D208)), IF(AND($E208<>0,$J208<>0),IF($F208=0,COUNTRY_INFO!P208*$J208,COUNTRY_INFO!P208*($J208-$D208)), COUNTRY_INFO!P208*$J208)))","v":0},0,0,null,0,0,null,0,0,null,0]
[{"$f":"IF(AND(INTRO!$E$37=\"Non-endemic\",INTRO!$E$41=\"Non-endemic\"),\" \",IF(COUNTRY_INFO!A209=0,\" \",COUNTRY_INFO!A209))","v":"Ghana"},{"$f":"IF(AND(INTRO!$E$37=\"Non-endemic\",INTRO!$E$41=\"Non-endemic\"),\" \",IF(COUNTRY_INFO!B209=0,\" \",COUNTRY_INFO!B209))","v":"Upper East"},{"$f":"IF(AND(INTRO!$E$37=\"Non-endemic\",INTRO!$E$41=\"Non-endemic\"),\" \",IF(COUNTRY_INFO!C209=0,\" \",COUNTRY_INFO!C209))","v":"Bongo"},{"$f":"IF(AND(INTRO!$E$37=\"Non-endemic\",INTRO!$E$41=\"Non-endemic\"),0,COUNTRY_INFO!V209)","v":0},{"$f":"IF(AND(INTRO!$E$37=\"Non-endemic\",INTRO!$E$41=\"Non-endemic\"),0,COUNTRY_INFO!X209)","v":0},{"$f":"IF(INTRO!$E$39=\"Non-endemic\",IF($D209=1,DEC!I209,0),IF($D209=1,IVM!G209,0))","v":0},null,{"$f":"IF(OR(COUNTRY_INFO!N209=\"Unknown\",COUNTRY_INFO!N209=\"Surveillance\",COUNTRY_INFO!N209=\"Not required\",COUNTRY_INFO!N209=0),0,IF(INTRO!$E$39=\"Non-endemic\",IF(AND($E209<>0,$G209=\"\"),IF($F209=0,COUNTRY_INFO!N209*$E209,COUNTRY_INFO!N209*($E209-$D209)),IF(AND($E209<>0,$G209<>0),IF($F209=0,COUNTRY_INFO!N209*$G209,COUNTRY_INFO!N209*($G209-$D209)),0)),IF($G209=\"\",COUNTRY_INFO!N209*$E209,COUNTRY_INFO!N209*$G209)))","v":0},{"$f":"IF(OR(COUNTRY_INFO!O209=\"Unknown\",COUNTRY_INFO!O209=\"Surveillance\",COUNTRY_INFO!O209=\"Not required\",COUNTRY_INFO!O209=0),0,IF($E209<>0, IF($F209=0,COUNTRY_INFO!O209*$E209,COUNTRY_INFO!O209*($E209-$D209)),COUNTRY_INFO!O209*$E209))","v":0},null,{"$f":"IF(OR(COUNTRY_INFO!P209=\"Unknown\",COUNTRY_INFO!P209=\"Surveillance\",COUNTRY_INFO!P209=\"Not required\",COUNTRY_INFO!P209=0),0,IF(AND($E209<>0,$J209=\"\"),IF($F209=0,COUNTRY_INFO!P209*$E209,COUNTRY_INFO!P209*($E209-$D209)), IF(AND($E209<>0,$J209<>0),IF($F209=0,COUNTRY_INFO!P209*$J209,COUNTRY_INFO!P209*($J209-$D209)), COUNTRY_INFO!P209*$J209)))","v":0},0,0,null,0,0,null,0,0,null,0]
[{"$f":"IF(AND(INTRO!$E$37=\"Non-endemic\",INTRO!$E$41=\"Non-endemic\"),\" \",IF(COUNTRY_INFO!A210=0,\" \",COUNTRY_INFO!A210))","v":"Ghana"},{"$f":"IF(AND(INTRO!$E$37=\"Non-endemic\",INTRO!$E$41=\"Non-endemic\"),\" \",IF(COUNTRY_INFO!B210=0,\" \",COUNTRY_INFO!B210))","v":"Upper East"},{"$f":"IF(AND(INTRO!$E$37=\"Non-endemic\",INTRO!$E$41=\"Non-endemic\"),\" \",IF(COUNTRY_INFO!C210=0,\" \",COUNTRY_INFO!C210))","v":"Builsa North"},{"$f":"IF(AND(INTRO!$E$37=\"Non-endemic\",INTRO!$E$41=\"Non-endemic\"),0,COUNTRY_INFO!V210)","v":0},{"$f":"IF(AND(INTRO!$E$37=\"Non-endemic\",INTRO!$E$41=\"Non-endemic\"),0,COUNTRY_INFO!X210)","v":0},{"$f":"IF(INTRO!$E$39=\"Non-endemic\",IF($D210=1,DEC!I210,0),IF($D210=1,IVM!G210,0))","v":0},null,{"$f":"IF(OR(COUNTRY_INFO!N210=\"Unknown\",COUNTRY_INFO!N210=\"Surveillance\",COUNTRY_INFO!N210=\"Not required\",COUNTRY_INFO!N210=0),0,IF(INTRO!$E$39=\"Non-endemic\",IF(AND($E210<>0,$G210=\"\"),IF($F210=0,COUNTRY_INFO!N210*$E210,COUNTRY_INFO!N210*($E210-$D210)),IF(AND($E210<>0,$G210<>0),IF($F210=0,COUNTRY_INFO!N210*$G210,COUNTRY_INFO!N210*($G210-$D210)),0)),IF($G210=\"\",COUNTRY_INFO!N210*$E210,COUNTRY_INFO!N210*$G210)))","v":0},{"$f":"IF(OR(COUNTRY_INFO!O210=\"Unknown\",COUNTRY_INFO!O210=\"Surveillance\",COUNTRY_INFO!O210=\"Not required\",COUNTRY_INFO!O210=0),0,IF($E210<>0, IF($F210=0,COUNTRY_INFO!O210*$E210,COUNTRY_INFO!O210*($E210-$D210)),COUNTRY_INFO!O210*$E210))","v":0},null,{"$f":"IF(OR(COUNTRY_INFO!P210=\"Unknown\",COUNTRY_INFO!P210=\"Surveillance\",COUNTRY_INFO!P210=\"Not required\",COUNTRY_INFO!P210=0),0,IF(AND($E210<>0,$J210=\"\"),IF($F210=0,COUNTRY_INFO!P210*$E210,COUNTRY_INFO!P210*($E210-$D210)), IF(AND($E210<>0,$J210<>0),IF($F210=0,COUNTRY_INFO!P210*$J210,COUNTRY_INFO!P210*($J210-$D210)), COUNTRY_INFO!P210*$J210)))","v":0},0,0,null,0,0,null,0,0,null,0]
[{"$f":"IF(AND(INTRO!$E$37=\"Non-endemic\",INTRO!$E$41=\"Non-endemic\"),\" \",IF(COUNTRY_INFO!A211=0,\" \",COUNTRY_INFO!A211))","v":"Ghana"},{"$f":"IF(AND(INTRO!$E$37=\"Non-endemic\",INTRO!$E$41=\"Non-endemic\"),\" \",IF(COUNTRY_INFO!B211=0,\" \",COUNTRY_INFO!B211))","v":"Upper East"},{"$f":"IF(AND(INTRO!$E$37=\"Non-endemic\",INTRO!$E$41=\"Non-endemic\"),\" \",IF(COUNTRY_INFO!C211=0,\" \",COUNTRY_INFO!C211))","v":"Builsa South"},{"$f":"IF(AND(INTRO!$E$37=\"Non-endemic\",INTRO!$E$41=\"Non-endemic\"),0,COUNTRY_INFO!V211)","v":0},{"$f":"IF(AND(INTRO!$E$37=\"Non-endemic\",INTRO!$E$41=\"Non-endemic\"),0,COUNTRY_INFO!X211)","v":0},{"$f":"IF(INTRO!$E$39=\"Non-endemic\",IF($D211=1,DEC!I211,0),IF($D211=1,IVM!G211,0))","v":0},null,{"$f":"IF(OR(COUNTRY_INFO!N211=\"Unknown\",COUNTRY_INFO!N211=\"Surveillance\",COUNTRY_INFO!N211=\"Not required\",COUNTRY_INFO!N211=0),0,IF(INTRO!$E$39=\"Non-endemic\",IF(AND($E211<>0,$G211=\"\"),IF($F211=0,COUNTRY_INFO!N211*$E211,COUNTRY_INFO!N211*($E211-$D211)),IF(AND($E211<>0,$G211<>0),IF($F211=0,COUNTRY_INFO!N211*$G211,COUNTRY_INFO!N211*($G211-$D211)),0)),IF($G211=\"\",COUNTRY_INFO!N211*$E211,COUNTRY_INFO!N211*$G211)))","v":0},{"$f":"IF(OR(COUNTRY_INFO!O211=\"Unknown\",COUNTRY_INFO!O211=\"Surveillance\",COUNTRY_INFO!O211=\"Not required\",COUNTRY_INFO!O211=0),0,IF($E211<>0, IF($F211=0,COUNTRY_INFO!O211*$E211,COUNTRY_INFO!O211*($E211-$D211)),COUNTRY_INFO!O211*$E211))","v":0},null,{"$f":"IF(OR(COUNTRY_INFO!P211=\"Unknown\",COUNTRY_INFO!P211=\"Surveillance\",COUNTRY_INFO!P211=\"Not required\",COUNTRY_INFO!P211=0),0,IF(AND($E211<>0,$J211=\"\"),IF($F211=0,COUNTRY_INFO!P211*$E211,COUNTRY_INFO!P211*($E211-$D211)), IF(AND($E211<>0,$J211<>0),IF($F211=0,COUNTRY_INFO!P211*$J211,COUNTRY_INFO!P211*($J211-$D211)), COUNTRY_INFO!P211*$J211)))","v":0},0,0,null,0,0,null,0,0,null,0]
[{"$f":"IF(AND(INTRO!$E$37=\"Non-endemic\",INTRO!$E$41=\"Non-endemic\"),\" \",IF(COUNTRY_INFO!A212=0,\" \",COUNTRY_INFO!A212))","v":"Ghana"},{"$f":"IF(AND(INTRO!$E$37=\"Non-endemic\",INTRO!$E$41=\"Non-endemic\"),\" \",IF(COUNTRY_INFO!B212=0,\" \",COUNTRY_INFO!B212))","v":"Upper East"},{"$f":"IF(AND(INTRO!$E$37=\"Non-endemic\",INTRO!$E$41=\"Non-endemic\"),\" \",IF(COUNTRY_INFO!C212=0,\" \",COUNTRY_INFO!C212))","v":"Garu"},{"$f":"IF(AND(INTRO!$E$37=\"Non-endemic\",INTRO!$E$41=\"Non-endemic\"),0,COUNTRY_INFO!V212)","v":0},{"$f":"IF(AND(INTRO!$E$37=\"Non-endemic\",INTRO!$E$41=\"Non-endemic\"),0,COUNTRY_INFO!X212)","v":0},{"$f":"IF(INTRO!$E$39=\"Non-endemic\",IF($D212=1,DEC!I212,0),IF($D212=1,IVM!G212,0))","v":0},null,{"$f":"IF(OR(COUNTRY_INFO!N212=\"Unknown\",COUNTRY_INFO!N212=\"Surveillance\",COUNTRY_INFO!N212=\"Not required\",COUNTRY_INFO!N212=0),0,IF(INTRO!$E$39=\"Non-endemic\",IF(AND($E212<>0,$G212=\"\"),IF($F212=0,COUNTRY_INFO!N212*$E212,COUNTRY_INFO!N212*($E212-$D212)),IF(AND($E212<>0,$G212<>0),IF($F212=0,COUNTRY_INFO!N212*$G212,COUNTRY_INFO!N212*($G212-$D212)),0)),IF($G212=\"\",COUNTRY_INFO!N212*$E212,COUNTRY_INFO!N212*$G212)))","v":0},{"$f":"IF(OR(COUNTRY_INFO!O212=\"Unknown\",COUNTRY_INFO!O212=\"Surveillance\",COUNTRY_INFO!O212=\"Not required\",COUNTRY_INFO!O212=0),0,IF($E212<>0, IF($F212=0,COUNTRY_INFO!O212*$E212,COUNTRY_INFO!O212*($E212-$D212)),COUNTRY_INFO!O212*$E212))","v":0},null,{"$f":"IF(OR(COUNTRY_INFO!P212=\"Unknown\",COUNTRY_INFO!P212=\"Surveillance\",COUNTRY_INFO!P212=\"Not required\",COUNTRY_INFO!P212=0),0,IF(AND($E212<>0,$J212=\"\"),IF($F212=0,COUNTRY_INFO!P212*$E212,COUNTRY_INFO!P212*($E212-$D212)), IF(AND($E212<>0,$J212<>0),IF($F212=0,COUNTRY_INFO!P212*$J212,COUNTRY_INFO!P212*($J212-$D212)), COUNTRY_INFO!P212*$J212)))","v":0},0,0,null,0,0,null,0,0,null,0]
[{"$f":"IF(AND(INTRO!$E$37=\"Non-endemic\",INTRO!$E$41=\"Non-endemic\"),\" \",IF(COUNTRY_INFO!A213=0,\" \",COUNTRY_INFO!A213))","v":"Ghana"},{"$f":"IF(AND(INTRO!$E$37=\"Non-endemic\",INTRO!$E$41=\"Non-endemic\"),\" \",IF(COUNTRY_INFO!B213=0,\" \",COUNTRY_INFO!B213))","v":"Upper East"},{"$f":"IF(AND(INTRO!$E$37=\"Non-endemic\",INTRO!$E$41=\"Non-endemic\"),\" \",IF(COUNTRY_INFO!C213=0,\" \",COUNTRY_INFO!C213))","v":"Kasena-Nankana"},{"$f":"IF(AND(INTRO!$E$37=\"Non-endemic\",INTRO!$E$41=\"Non-endemic\"),0,COUNTRY_INFO!V213)","v":0},{"$f":"IF(AND(INTRO!$E$37=\"Non-endemic\",INTRO!$E$41=\"Non-endemic\"),0,COUNTRY_INFO!X213)","v":0},{"$f":"IF(INTRO!$E$39=\"Non-endemic\",IF($D213=1,DEC!I213,0),IF($D213=1,IVM!G213,0))","v":0},null,{"$f":"IF(OR(COUNTRY_INFO!N213=\"Unknown\",COUNTRY_INFO!N213=\"Surveillance\",COUNTRY_INFO!N213=\"Not required\",COUNTRY_INFO!N213=0),0,IF(INTRO!$E$39=\"Non-endemic\",IF(AND($E213<>0,$G213=\"\"),IF($F213=0,COUNTRY_INFO!N213*$E213,COUNTRY_INFO!N213*($E213-$D213)),IF(AND($E213<>0,$G213<>0),IF($F213=0,COUNTRY_INFO!N213*$G213,COUNTRY_INFO!N213*($G213-$D213)),0)),IF($G213=\"\",COUNTRY_INFO!N213*$E213,COUNTRY_INFO!N213*$G213)))","v":0},{"$f":"IF(OR(COUNTRY_INFO!O213=\"Unknown\",COUNTRY_INFO!O213=\"Surveillance\",COUNTRY_INFO!O213=\"Not required\",COUNTRY_INFO!O213=0),0,IF($E213<>0, IF($F213=0,COUNTRY_INFO!O213*$E213,COUNTRY_INFO!O213*($E213-$D213)),COUNTRY_INFO!O213*$E213))","v":0},null,{"$f":"IF(OR(COUNTRY_INFO!P213=\"Unknown\",COUNTRY_INFO!P213=\"Surveillance\",COUNTRY_INFO!P213=\"Not required\",COUNTRY_INFO!P213=0),0,IF(AND($E213<>0,$J213=\"\"),IF($F213=0,COUNTRY_INFO!P213*$E213,COUNTRY_INFO!P213*($E213-$D213)), IF(AND($E213<>0,$J213<>0),IF($F213=0,COUNTRY_INFO!P213*$J213,COUNTRY_INFO!P213*($J213-$D213)), COUNTRY_INFO!P213*$J213)))","v":0},0,0,null,0,0,null,0,0,null,0]
[{"$f":"IF(AND(INTRO!$E$37=\"Non-endemic\",INTRO!$E$41=\"Non-endemic\"),\" \",IF(COUNTRY_INFO!A214=0,\" \",COUNTRY_INFO!A214))","v":"Ghana"},{"$f":"IF(AND(INTRO!$E$37=\"Non-endemic\",INTRO!$E$41=\"Non-endemic\"),\" \",IF(COUNTRY_INFO!B214=0,\" \",COUNTRY_INFO!B214))","v":"Upper East"},{"$f":"IF(AND(INTRO!$E$37=\"Non-endemic\",INTRO!$E$41=\"Non-endemic\"),\" \",IF(COUNTRY_INFO!C214=0,\" \",COUNTRY_INFO!C214))","v":"Kasena-Nankana West"},{"$f":"IF(AND(INTRO!$E$37=\"Non-endemic\",INTRO!$E$41=\"Non-endemic\"),0,COUNTRY_INFO!V214)","v":0},{"$f":"IF(AND(INTRO!$E$37=\"Non-endemic\",INTRO!$E$41=\"Non-endemic\"),0,COUNTRY_INFO!X214)","v":0},{"$f":"IF(INTRO!$E$39=\"Non-endemic\",IF($D214=1,DEC!I214,0),IF($D214=1,IVM!G214,0))","v":0},null,{"$f":"IF(OR(COUNTRY_INFO!N214=\"Unknown\",COUNTRY_INFO!N214=\"Surveillance\",COUNTRY_INFO!N214=\"Not required\",COUNTRY_INFO!N214=0),0,IF(INTRO!$E$39=\"Non-endemic\",IF(AND($E214<>0,$G214=\"\"),IF($F214=0,COUNTRY_INFO!N214*$E214,COUNTRY_INFO!N214*($E214-$D214)),IF(AND($E214<>0,$G214<>0),IF($F214=0,COUNTRY_INFO!N214*$G214,COUNTRY_INFO!N214*($G214-$D214)),0)),IF($G214=\"\",COUNTRY_INFO!N214*$E214,COUNTRY_INFO!N214*$G214)))","v":0},{"$f":"IF(OR(COUNTRY_INFO!O214=\"Unknown\",COUNTRY_INFO!O214=\"Surveillance\",COUNTRY_INFO!O214=\"Not required\",COUNTRY_INFO!O214=0),0,IF($E214<>0, IF($F214=0,COUNTRY_INFO!O214*$E214,COUNTRY_INFO!O214*($E214-$D214)),COUNTRY_INFO!O214*$E214))","v":0},null,{"$f":"IF(OR(COUNTRY_INFO!P214=\"Unknown\",COUNTRY_INFO!P214=\"Surveillance\",COUNTRY_INFO!P214=\"Not required\",COUNTRY_INFO!P214=0),0,IF(AND($E214<>0,$J214=\"\"),IF($F214=0,COUNTRY_INFO!P214*$E214,COUNTRY_INFO!P214*($E214-$D214)), IF(AND($E214<>0,$J214<>0),IF($F214=0,COUNTRY_INFO!P214*$J214,COUNTRY_INFO!P214*($J214-$D214)), COUNTRY_INFO!P214*$J214)))","v":0},0,0,null,0,0,null,0,0,null,0]
[{"$f":"IF(AND(INTRO!$E$37=\"Non-endemic\",INTRO!$E$41=\"Non-endemic\"),\" \",IF(COUNTRY_INFO!A215=0,\" \",COUNTRY_INFO!A215))","v":"Ghana"},{"$f":"IF(AND(INTRO!$E$37=\"Non-endemic\",INTRO!$E$41=\"Non-endemic\"),\" \",IF(COUNTRY_INFO!B215=0,\" \",COUNTRY_INFO!B215))","v":"Upper East"},{"$f":"IF(AND(INTRO!$E$37=\"Non-endemic\",INTRO!$E$41=\"Non-endemic\"),\" \",IF(COUNTRY_INFO!C215=0,\" \",COUNTRY_INFO!C215))","v":"Nabdam"},{"$f":"IF(AND(INTRO!$E$37=\"Non-endemic\",INTRO!$E$41=\"Non-endemic\"),0,COUNTRY_INFO!V215)","v":0},{"$f":"IF(AND(INTRO!$E$37=\"Non-endemic\",INTRO!$E$41=\"Non-endemic\"),0,COUNTRY_INFO!X215)","v":0},{"$f":"IF(INTRO!$E$39=\"Non-endemic\",IF($D215=1,DEC!I215,0),IF($D215=1,IVM!G215,0))","v":0},null,{"$f":"IF(OR(COUNTRY_INFO!N215=\"Unknown\",COUNTRY_INFO!N215=\"Surveillance\",COUNTRY_INFO!N215=\"Not required\",COUNTRY_INFO!N215=0),0,IF(INTRO!$E$39=\"Non-endemic\",IF(AND($E215<>0,$G215=\"\"),IF($F215=0,COUNTRY_INFO!N215*$E215,COUNTRY_INFO!N215*($E215-$D215)),IF(AND($E215<>0,$G215<>0),IF($F215=0,COUNTRY_INFO!N215*$G215,COUNTRY_INFO!N215*($G215-$D215)),0)),IF($G215=\"\",COUNTRY_INFO!N215*$E215,COUNTRY_INFO!N215*$G215)))","v":0},{"$f":"IF(OR(COUNTRY_INFO!O215=\"Unknown\",COUNTRY_INFO!O215=\"Surveillance\",COUNTRY_INFO!O215=\"Not required\",COUNTRY_INFO!O215=0),0,IF($E215<>0, IF($F215=0,COUNTRY_INFO!O215*$E215,COUNTRY_INFO!O215*($E215-$D215)),COUNTRY_INFO!O215*$E215))","v":0},null,{"$f":"IF(OR(COUNTRY_INFO!P215=\"Unknown\",COUNTRY_INFO!P215=\"Surveillance\",COUNTRY_INFO!P215=\"Not required\",COUNTRY_INFO!P215=0),0,IF(AND($E215<>0,$J215=\"\"),IF($F215=0,COUNTRY_INFO!P215*$E215,COUNTRY_INFO!P215*($E215-$D215)), IF(AND($E215<>0,$J215<>0),IF($F215=0,COUNTRY_INFO!P215*$J215,COUNTRY_INFO!P215*($J215-$D215)), COUNTRY_INFO!P215*$J215)))","v":0},0,0,null,0,0,null,0,0,null,0]
[{"$f":"IF(AND(INTRO!$E$37=\"Non-endemic\",INTRO!$E$41=\"Non-endemic\"),\" \",IF(COUNTRY_INFO!A216=0,\" \",COUNTRY_INFO!A216))","v":"Ghana"},{"$f":"IF(AND(INTRO!$E$37=\"Non-endemic\",INTRO!$E$41=\"Non-endemic\"),\" \",IF(COUNTRY_INFO!B216=0,\" \",COUNTRY_INFO!B216))","v":"Upper East"},{"$f":"IF(AND(INTRO!$E$37=\"Non-endemic\",INTRO!$E$41=\"Non-endemic\"),\" \",IF(COUNTRY_INFO!C216=0,\" \",COUNTRY_INFO!C216))","v":"Pusiga"},{"$f":"IF(AND(INTRO!$E$37=\"Non-endemic\",INTRO!$E$41=\"Non-endemic\"),0,COUNTRY_INFO!V216)","v":0},{"$f":"IF(AND(INTRO!$E$37=\"Non-endemic\",INTRO!$E$41=\"Non-endemic\"),0,COUNTRY_INFO!X216)","v":0},{"$f":"IF(INTRO!$E$39=\"Non-endemic\",IF($D216=1,DEC!I216,0),IF($D216=1,IVM!G216,0))","v":0},null,{"$f":"IF(OR(COUNTRY_INFO!N216=\"Unknown\",COUNTRY_INFO!N216=\"Surveillance\",COUNTRY_INFO!N216=\"Not required\",COUNTRY_INFO!N216=0),0,IF(INTRO!$E$39=\"Non-endemic\",IF(AND($E216<>0,$G216=\"\"),IF($F216=0,COUNTRY_INFO!N216*$E216,COUNTRY_INFO!N216*($E216-$D216)),IF(AND($E216<>0,$G216<>0),IF($F216=0,COUNTRY_INFO!N216*$G216,COUNTRY_INFO!N216*($G216-$D216)),0)),IF($G216=\"\",COUNTRY_INFO!N216*$E216,COUNTRY_INFO!N216*$G216)))","v":0},{"$f":"IF(OR(COUNTRY_INFO!O216=\"Unknown\",COUNTRY_INFO!O216=\"Surveillance\",COUNTRY_INFO!O216=\"Not required\",COUNTRY_INFO!O216=0),0,IF($E216<>0, IF($F216=0,COUNTRY_INFO!O216*$E216,COUNTRY_INFO!O216*($E216-$D216)),COUNTRY_INFO!O216*$E216))","v":0},null,{"$f":"IF(OR(COUNTRY_INFO!P216=\"Unknown\",COUNTRY_INFO!P216=\"Surveillance\",COUNTRY_INFO!P216=\"Not required\",COUNTRY_INFO!P216=0),0,IF(AND($E216<>0,$J216=\"\"),IF($F216=0,COUNTRY_INFO!P216*$E216,COUNTRY_INFO!P216*($E216-$D216)), IF(AND($E216<>0,$J216<>0),IF($F216=0,COUNTRY_INFO!P216*$J216,COUNTRY_INFO!P216*($J216-$D216)), COUNTRY_INFO!P216*$J216)))","v":0},0,0,null,0,0,null,0,0,null,0]
[{"$f":"IF(AND(INTRO!$E$37=\"Non-endemic\",INTRO!$E$41=\"Non-endemic\"),\" \",IF(COUNTRY_INFO!A217=0,\" \",COUNTRY_INFO!A217))","v":"Ghana"},{"$f":"IF(AND(INTRO!$E$37=\"Non-endemic\",INTRO!$E$41=\"Non-endemic\"),\" \",IF(COUNTRY_INFO!B217=0,\" \",COUNTRY_INFO!B217))","v":"Upper East"},{"$f":"IF(AND(INTRO!$E$37=\"Non-endemic\",INTRO!$E$41=\"Non-endemic\"),\" \",IF(COUNTRY_INFO!C217=0,\" \",COUNTRY_INFO!C217))","v":"Talensi"},{"$f":"IF(AND(INTRO!$E$37=\"Non-endemic\",INTRO!$E$41=\"Non-endemic\"),0,COUNTRY_INFO!V217)","v":0},{"$f":"IF(AND(INTRO!$E$37=\"Non-endemic\",INTRO!$E$41=\"Non-endemic\"),0,COUNTRY_INFO!X217)","v":0},{"$f":"IF(INTRO!$E$39=\"Non-endemic\",IF($D217=1,DEC!I217,0),IF($D217=1,IVM!G217,0))","v":0},null,{"$f":"IF(OR(COUNTRY_INFO!N217=\"Unknown\",COUNTRY_INFO!N217=\"Surveillance\",COUNTRY_INFO!N217=\"Not required\",COUNTRY_INFO!N217=0),0,IF(INTRO!$E$39=\"Non-endemic\",IF(AND($E217<>0,$G217=\"\"),IF($F217=0,COUNTRY_INFO!N217*$E217,COUNTRY_INFO!N217*($E217-$D217)),IF(AND($E217<>0,$G217<>0),IF($F217=0,COUNTRY_INFO!N217*$G217,COUNTRY_INFO!N217*($G217-$D217)),0)),IF($G217=\"\",COUNTRY_INFO!N217*$E217,COUNTRY_INFO!N217*$G217)))","v":0},{"$f":"IF(OR(COUNTRY_INFO!O217=\"Unknown\",COUNTRY_INFO!O217=\"Surveillance\",COUNTRY_INFO!O217=\"Not required\",COUNTRY_INFO!O217=0),0,IF($E217<>0, IF($F217=0,COUNTRY_INFO!O217*$E217,COUNTRY_INFO!O217*($E217-$D217)),COUNTRY_INFO!O217*$E217))","v":0},null,{"$f":"IF(OR(COUNTRY_INFO!P217=\"Unknown\",COUNTRY_INFO!P217=\"Surveillance\",COUNTRY_INFO!P217=\"Not required\",COUNTRY_INFO!P217=0),0,IF(AND($E217<>0,$J217=\"\"),IF($F217=0,COUNTRY_INFO!P217*$E217,COUNTRY_INFO!P217*($E217-$D217)), IF(AND($E217<>0,$J217<>0),IF($F217=0,COUNTRY_INFO!P217*$J217,COUNTRY_INFO!P217*($J217-$D217)), COUNTRY_INFO!P217*$J217)))","v":0},0,0,null,0,0,null,0,0,null,0]
[{"$f":"IF(AND(INTRO!$E$37=\"Non-endemic\",INTRO!$E$41=\"Non-endemic\"),\" \",IF(COUNTRY_INFO!A218=0,\" \",COUNTRY_INFO!A218))","v":"Ghana"},{"$f":"IF(AND(INTRO!$E$37=\"Non-endemic\",INTRO!$E$41=\"Non-endemic\"),\" \",IF(COUNTRY_INFO!B218=0,\" \",COUNTRY_INFO!B218))","v":"Upper East"},{"$f":"IF(AND(INTRO!$E$37=\"Non-endemic\",INTRO!$E$41=\"Non-endemic\"),\" \",IF(COUNTRY_INFO!C218=0,\" \",COUNTRY_INFO!C218))","v":"Tempane"},{"$f":"IF(AND(INTRO!$E$37=\"Non-endemic\",INTRO!$E$41=\"Non-endemic\"),0,COUNTRY_INFO!V218)","v":0},{"$f":"IF(AND(INTRO!$E$37=\"Non-endemic\",INTRO!$E$41=\"Non-endemic\"),0,COUNTRY_INFO!X218)","v":0},{"$f":"IF(INTRO!$E$39=\"Non-endemic\",IF($D218=1,DEC!I218,0),IF($D218=1,IVM!G218,0))","v":0},null,{"$f":"IF(OR(COUNTRY_INFO!N218=\"Unknown\",COUNTRY_INFO!N218=\"Surveillance\",COUNTRY_INFO!N218=\"Not required\",COUNTRY_INFO!N218=0),0,IF(INTRO!$E$39=\"Non-endemic\",IF(AND($E218<>0,$G218=\"\"),IF($F218=0,COUNTRY_INFO!N218*$E218,COUNTRY_INFO!N218*($E218-$D218)),IF(AND($E218<>0,$G218<>0),IF($F218=0,COUNTRY_INFO!N218*$G218,COUNTRY_INFO!N218*($G218-$D218)),0)),IF($G218=\"\",COUNTRY_INFO!N218*$E218,COUNTRY_INFO!N218*$G218)))","v":0},{"$f":"IF(OR(COUNTRY_INFO!O218=\"Unknown\",COUNTRY_INFO!O218=\"Surveillance\",COUNTRY_INFO!O218=\"Not required\",COUNTRY_INFO!O218=0),0,IF($E218<>0, IF($F218=0,COUNTRY_INFO!O218*$E218,COUNTRY_INFO!O218*($E218-$D218)),COUNTRY_INFO!O218*$E218))","v":0},null,{"$f":"IF(OR(COUNTRY_INFO!P218=\"Unknown\",COUNTRY_INFO!P218=\"Surveillance\",COUNTRY_INFO!P218=\"Not required\",COUNTRY_INFO!P218=0),0,IF(AND($E218<>0,$J218=\"\"),IF($F218=0,COUNTRY_INFO!P218*$E218,COUNTRY_INFO!P218*($E218-$D218)), IF(AND($E218<>0,$J218<>0),IF($F218=0,COUNTRY_INFO!P218*$J218,COUNTRY_INFO!P218*($J218-$D218)), COUNTRY_INFO!P218*$J218)))","v":0},0,0,null,0,0,null,0,0,null,0]
[{"$f":"IF(AND(INTRO!$E$37=\"Non-endemic\",INTRO!$E$41=\"Non-endemic\"),\" \",IF(COUNTRY_INFO!A219=0,\" \",COUNTRY_INFO!A219))","v":"Ghana"},{"$f":"IF(AND(INTRO!$E$37=\"Non-endemic\",INTRO!$E$41=\"Non-endemic\"),\" \",IF(COUNTRY_INFO!B219=0,\" \",COUNTRY_INFO!B219))","v":"Upper West"},{"$f":"IF(AND(INTRO!$E$37=\"Non-endemic\",INTRO!$E$41=\"Non-endemic\"),\" \",IF(COUNTRY_INFO!C219=0,\" \",COUNTRY_INFO!C219))","v":"Daffiama-Bussie-Issa"},{"$f":"IF(AND(INTRO!$E$37=\"Non-endemic\",INTRO!$E$41=\"Non-endemic\"),0,COUNTRY_INFO!V219)","v":0},{"$f":"IF(AND(INTRO!$E$37=\"Non-endemic\",INTRO!$E$41=\"Non-endemic\"),0,COUNTRY_INFO!X219)","v":0},{"$f":"IF(INTRO!$E$39=\"Non-endemic\",IF($D219=1,DEC!I219,0),IF($D219=1,IVM!G219,0))","v":0},null,{"$f":"IF(OR(COUNTRY_INFO!N219=\"Unknown\",COUNTRY_INFO!N219=\"Surveillance\",COUNTRY_INFO!N219=\"Not required\",COUNTRY_INFO!N219=0),0,IF(INTRO!$E$39=\"Non-endemic\",IF(AND($E219<>0,$G219=\"\"),IF($F219=0,COUNTRY_INFO!N219*$E219,COUNTRY_INFO!N219*($E219-$D219)),IF(AND($E219<>0,$G219<>0),IF($F219=0,COUNTRY_INFO!N219*$G219,COUNTRY_INFO!N219*($G219-$D219)),0)),IF($G219=\"\",COUNTRY_INFO!N219*$E219,COUNTRY_INFO!N219*$G219)))","v":0},{"$f":"IF(OR(COUNTRY_INFO!O219=\"Unknown\",COUNTRY_INFO!O219=\"Surveillance\",COUNTRY_INFO!O219=\"Not required\",COUNTRY_INFO!O219=0),0,IF($E219<>0, IF($F219=0,COUNTRY_INFO!O219*$E219,COUNTRY_INFO!O219*($E219-$D219)),COUNTRY_INFO!O219*$E219))","v":0},null,{"$f":"IF(OR(COUNTRY_INFO!P219=\"Unknown\",COUNTRY_INFO!P219=\"Surveillance\",COUNTRY_INFO!P219=\"Not required\",COUNTRY_INFO!P219=0),0,IF(AND($E219<>0,$J219=\"\"),IF($F219=0,COUNTRY_INFO!P219*$E219,COUNTRY_INFO!P219*($E219-$D219)), IF(AND($E219<>0,$J219<>0),IF($F219=0,COUNTRY_INFO!P219*$J219,COUNTRY_INFO!P219*($J219-$D219)), COUNTRY_INFO!P219*$J219)))","v":0},0,0,null,0,0,null,0,0,null,0]
[{"$f":"IF(AND(INTRO!$E$37=\"Non-endemic\",INTRO!$E$41=\"Non-endemic\"),\" \",IF(COUNTRY_INFO!A220=0,\" \",COUNTRY_INFO!A220))","v":"Ghana"},{"$f":"IF(AND(INTRO!$E$37=\"Non-endemic\",INTRO!$E$41=\"Non-endemic\"),\" \",IF(COUNTRY_INFO!B220=0,\" \",COUNTRY_INFO!B220))","v":"Upper West"},{"$f":"IF(AND(INTRO!$E$37=\"Non-endemic\",INTRO!$E$41=\"Non-endemic\"),\" \",IF(COUNTRY_INFO!C220=0,\" \",COUNTRY_INFO!C220))","v":"Jirapa"},{"$f":"IF(AND(INTRO!$E$37=\"Non-endemic\",INTRO!$E$41=\"Non-endemic\"),0,COUNTRY_INFO!V220)","v":1},{"$f":"IF(AND(INTRO!$E$37=\"Non-endemic\",INTRO!$E$41=\"Non-endemic\"),0,COUNTRY_INFO!X220)","v":0},{"$f":"IF(INTRO!$E$39=\"Non-endemic\",IF($D220=1,DEC!I220,0),IF($D220=1,IVM!G220,0))","v":0},null,{"$f":"IF(OR(COUNTRY_INFO!N220=\"Unknown\",COUNTRY_INFO!N220=\"Surveillance\",COUNTRY_INFO!N220=\"Not required\",COUNTRY_INFO!N220=0),0,IF(INTRO!$E$39=\"Non-endemic\",IF(AND($E220<>0,$G220=\"\"),IF($F220=0,COUNTRY_INFO!N220*$E220,COUNTRY_INFO!N220*($E220-$D220)),IF(AND($E220<>0,$G220<>0),IF($F220=0,COUNTRY_INFO!N220*$G220,COUNTRY_INFO!N220*($G220-$D220)),0)),IF($G220=\"\",COUNTRY_INFO!N220*$E220,COUNTRY_INFO!N220*$G220)))","v":0},{"$f":"IF(OR(COUNTRY_INFO!O220=\"Unknown\",COUNTRY_INFO!O220=\"Surveillance\",COUNTRY_INFO!O220=\"Not required\",COUNTRY_INFO!O220=0),0,IF($E220<>0, IF($F220=0,COUNTRY_INFO!O220*$E220,COUNTRY_INFO!O220*($E220-$D220)),COUNTRY_INFO!O220*$E220))","v":0},null,{"$f":"IF(OR(COUNTRY_INFO!P220=\"Unknown\",COUNTRY_INFO!P220=\"Surveillance\",COUNTRY_INFO!P220=\"Not required\",COUNTRY_INFO!P220=0),0,IF(AND($E220<>0,$J220=\"\"),IF($F220=0,COUNTRY_INFO!P220*$E220,COUNTRY_INFO!P220*($E220-$D220)), IF(AND($E220<>0,$J220<>0),IF($F220=0,COUNTRY_INFO!P220*$J220,COUNTRY_INFO!P220*($J220-$D220)), COUNTRY_INFO!P220*$J220)))","v":0},0,0,null,0,0,null,0,0,null,0]
[{"$f":"IF(AND(INTRO!$E$37=\"Non-endemic\",INTRO!$E$41=\"Non-endemic\"),\" \",IF(COUNTRY_INFO!A221=0,\" \",COUNTRY_INFO!A221))","v":"Ghana"},{"$f":"IF(AND(INTRO!$E$37=\"Non-endemic\",INTRO!$E$41=\"Non-endemic\"),\" \",IF(COUNTRY_INFO!B221=0,\" \",COUNTRY_INFO!B221))","v":"Upper West"},{"$f":"IF(AND(INTRO!$E$37=\"Non-endemic\",INTRO!$E$41=\"Non-endemic\"),\" \",IF(COUNTRY_INFO!C221=0,\" \",COUNTRY_INFO!C221))","v":"Lambussie"},{"$f":"IF(AND(INTRO!$E$37=\"Non-endemic\",INTRO!$E$41=\"Non-endemic\"),0,COUNTRY_INFO!V221)","v":0},{"$f":"IF(AND(INTRO!$E$37=\"Non-endemic\",INTRO!$E$41=\"Non-endemic\"),0,COUNTRY_INFO!X221)","v":0},{"$f":"IF(INTRO!$E$39=\"Non-endemic\",IF($D221=1,DEC!I221,0),IF($D221=1,IVM!G221,0))","v":0},null,{"$f":"IF(OR(COUNTRY_INFO!N221=\"Unknown\",COUNTRY_INFO!N221=\"Surveillance\",COUNTRY_INFO!N221=\"Not required\",COUNTRY_INFO!N221=0),0,IF(INTRO!$E$39=\"Non-endemic\",IF(AND($E221<>0,$G221=\"\"),IF($F221=0,COUNTRY_INFO!N221*$E221,COUNTRY_INFO!N221*($E221-$D221)),IF(AND($E221<>0,$G221<>0),IF($F221=0,COUNTRY_INFO!N221*$G221,COUNTRY_INFO!N221*($G221-$D221)),0)),IF($G221=\"\",COUNTRY_INFO!N221*$E221,COUNTRY_INFO!N221*$G221)))","v":0},{"$f":"IF(OR(COUNTRY_INFO!O221=\"Unknown\",COUNTRY_INFO!O221=\"Surveillance\",COUNTRY_INFO!O221=\"Not required\",COUNTRY_INFO!O221=0),0,IF($E221<>0, IF($F221=0,COUNTRY_INFO!O221*$E221,COUNTRY_INFO!O221*($E221-$D221)),COUNTRY_INFO!O221*$E221))","v":0},null,{"$f":"IF(OR(COUNTRY_INFO!P221=\"Unknown\",COUNTRY_INFO!P221=\"Surveillance\",COUNTRY_INFO!P221=\"Not required\",COUNTRY_INFO!P221=0),0,IF(AND($E221<>0,$J221=\"\"),IF($F221=0,COUNTRY_INFO!P221*$E221,COUNTRY_INFO!P221*($E221-$D221)), IF(AND($E221<>0,$J221<>0),IF($F221=0,COUNTRY_INFO!P221*$J221,COUNTRY_INFO!P221*($J221-$D221)), COUNTRY_INFO!P221*$J221)))","v":0},0,0,null,0,0,null,0,0,null,0]
[{"$f":"IF(AND(INTRO!$E$37=\"Non-endemic\",INTRO!$E$41=\"Non-endemic\"),\" \",IF(COUNTRY_INFO!A222=0,\" \",COUNTRY_INFO!A222))","v":"Ghana"},{"$f":"IF(AND(INTRO!$E$37=\"Non-endemic\",INTRO!$E$41=\"Non-endemic\"),\" \",IF(COUNTRY_INFO!B222=0,\" \",COUNTRY_INFO!B222))","v":"Upper West"},{"$f":"IF(AND(INTRO!$E$37=\"Non-endemic\",INTRO!$E$41=\"Non-endemic\"),\" \",IF(COUNTRY_INFO!C222=0,\" \",COUNTRY_INFO!C222))","v":"Lawra"},{"$f":"IF(AND(INTRO!$E$37=\"Non-endemic\",INTRO!$E$41=\"Non-endemic\"),0,COUNTRY_INFO!V222)","v":1},{"$f":"IF(AND(INTRO!$E$37=\"Non-endemic\",INTRO!$E$41=\"Non-endemic\"),0,COUNTRY_INFO!X222)","v":0},{"$f":"IF(INTRO!$E$39=\"Non-endemic\",IF($D222=1,DEC!I222,0),IF($D222=1,IVM!G222,0))","v":54578},null,{"$f":"IF(OR(COUNTRY_INFO!N222=\"Unknown\",COUNTRY_INFO!N222=\"Surveillance\",COUNTRY_INFO!N222=\"Not required\",COUNTRY_INFO!N222=0),0,IF(INTRO!$E$39=\"Non-endemic\",IF(AND($E222<>0,$G222=\"\"),IF($F222=0,COUNTRY_INFO!N222*$E222,COUNTRY_INFO!N222*($E222-$D222)),IF(AND($E222<>0,$G222<>0),IF($F222=0,COUNTRY_INFO!N222*$G222,COUNTRY_INFO!N222*($G222-$D222)),0)),IF($G222=\"\",COUNTRY_INFO!N222*$E222,COUNTRY_INFO!N222*$G222)))","v":0},{"$f":"IF(OR(COUNTRY_INFO!O222=\"Unknown\",COUNTRY_INFO!O222=\"Surveillance\",COUNTRY_INFO!O222=\"Not required\",COUNTRY_INFO!O222=0),0,IF($E222<>0, IF($F222=0,COUNTRY_INFO!O222*$E222,COUNTRY_INFO!O222*($E222-$D222)),COUNTRY_INFO!O222*$E222))","v":0},null,{"$f":"IF(OR(COUNTRY_INFO!P222=\"Unknown\",COUNTRY_INFO!P222=\"Surveillance\",COUNTRY_INFO!P222=\"Not required\",COUNTRY_INFO!P222=0),0,IF(AND($E222<>0,$J222=\"\"),IF($F222=0,COUNTRY_INFO!P222*$E222,COUNTRY_INFO!P222*($E222-$D222)), IF(AND($E222<>0,$J222<>0),IF($F222=0,COUNTRY_INFO!P222*$J222,COUNTRY_INFO!P222*($J222-$D222)), COUNTRY_INFO!P222*$J222)))","v":0},0,54578,null,54578,0,null,0,0,null,0]
[{"$f":"IF(AND(INTRO!$E$37=\"Non-endemic\",INTRO!$E$41=\"Non-endemic\"),\" \",IF(COUNTRY_INFO!A223=0,\" \",COUNTRY_INFO!A223))","v":"Ghana"},{"$f":"IF(AND(INTRO!$E$37=\"Non-endemic\",INTRO!$E$41=\"Non-endemic\"),\" \",IF(COUNTRY_INFO!B223=0,\" \",COUNTRY_INFO!B223))","v":"Upper West"},{"$f":"IF(AND(INTRO!$E$37=\"Non-endemic\",INTRO!$E$41=\"Non-endemic\"),\" \",IF(COUNTRY_INFO!C223=0,\" \",COUNTRY_INFO!C223))","v":"Nadowli-Kaleo"},{"$f":"IF(AND(INTRO!$E$37=\"Non-endemic\",INTRO!$E$41=\"Non-endemic\"),0,COUNTRY_INFO!V223)","v":0},{"$f":"IF(AND(INTRO!$E$37=\"Non-endemic\",INTRO!$E$41=\"Non-endemic\"),0,COUNTRY_INFO!X223)","v":0},{"$f":"IF(INTRO!$E$39=\"Non-endemic\",IF($D223=1,DEC!I223,0),IF($D223=1,IVM!G223,0))","v":0},null,{"$f":"IF(OR(COUNTRY_INFO!N223=\"Unknown\",COUNTRY_INFO!N223=\"Surveillance\",COUNTRY_INFO!N223=\"Not required\",COUNTRY_INFO!N223=0),0,IF(INTRO!$E$39=\"Non-endemic\",IF(AND($E223<>0,$G223=\"\"),IF($F223=0,COUNTRY_INFO!N223*$E223,COUNTRY_INFO!N223*($E223-$D223)),IF(AND($E223<>0,$G223<>0),IF($F223=0,COUNTRY_INFO!N223*$G223,COUNTRY_INFO!N223*($G223-$D223)),0)),IF($G223=\"\",COUNTRY_INFO!N223*$E223,COUNTRY_INFO!N223*$G223)))","v":0},{"$f":"IF(OR(COUNTRY_INFO!O223=\"Unknown\",COUNTRY_INFO!O223=\"Surveillance\",COUNTRY_INFO!O223=\"Not required\",COUNTRY_INFO!O223=0),0,IF($E223<>0, IF($F223=0,COUNTRY_INFO!O223*$E223,COUNTRY_INFO!O223*($E223-$D223)),COUNTRY_INFO!O223*$E223))","v":0},null,{"$f":"IF(OR(COUNTRY_INFO!P223=\"Unknown\",COUNTRY_INFO!P223=\"Surveillance\",COUNTRY_INFO!P223=\"Not required\",COUNTRY_INFO!P223=0),0,IF(AND($E223<>0,$J223=\"\"),IF($F223=0,COUNTRY_INFO!P223*$E223,COUNTRY_INFO!P223*($E223-$D223)), IF(AND($E223<>0,$J223<>0),IF($F223=0,COUNTRY_INFO!P223*$J223,COUNTRY_INFO!P223*($J223-$D223)), COUNTRY_INFO!P223*$J223)))","v":0},0,0,null,0,0,null,0,0,null,0]
[{"$f":"IF(AND(INTRO!$E$37=\"Non-endemic\",INTRO!$E$41=\"Non-endemic\"),\" \",IF(COUNTRY_INFO!A224=0,\" \",COUNTRY_INFO!A224))","v":"Ghana"},{"$f":"IF(AND(INTRO!$E$37=\"Non-endemic\",INTRO!$E$41=\"Non-endemic\"),\" \",IF(COUNTRY_INFO!B224=0,\" \",COUNTRY_INFO!B224))","v":"Upper West"},{"$f":"IF(AND(INTRO!$E$37=\"Non-endemic\",INTRO!$E$41=\"Non-endemic\"),\" \",IF(COUNTRY_INFO!C224=0,\" \",COUNTRY_INFO!C224))","v":"Nandom"},{"$f":"IF(AND(INTRO!$E$37=\"Non-endemic\",INTRO!$E$41=\"Non-endemic\"),0,COUNTRY_INFO!V224)","v":0},{"$f":"IF(AND(INTRO!$E$37=\"Non-endemic\",INTRO!$E$41=\"Non-endemic\"),0,COUNTRY_INFO!X224)","v":0},{"$f":"IF(INTRO!$E$39=\"Non-endemic\",IF($D224=1,DEC!I224,0),IF($D224=1,IVM!G224,0))","v":0},null,{"$f":"IF(OR(COUNTRY_INFO!N224=\"Unknown\",COUNTRY_INFO!N224=\"Surveillance\",COUNTRY_INFO!N224=\"Not required\",COUNTRY_INFO!N224=0),0,IF(INTRO!$E$39=\"Non-endemic\",IF(AND($E224<>0,$G224=\"\"),IF($F224=0,COUNTRY_INFO!N224*$E224,COUNTRY_INFO!N224*($E224-$D224)),IF(AND($E224<>0,$G224<>0),IF($F224=0,COUNTRY_INFO!N224*$G224,COUNTRY_INFO!N224*($G224-$D224)),0)),IF($G224=\"\",COUNTRY_INFO!N224*$E224,COUNTRY_INFO!N224*$G224)))","v":0},{"$f":"IF(OR(COUNTRY_INFO!O224=\"Unknown\",COUNTRY_INFO!O224=\"Surveillance\",COUNTRY_INFO!O224=\"Not required\",COUNTRY_INFO!O224=0),0,IF($E224<>0, IF($F224=0,COUNTRY_INFO!O224*$E224,COUNTRY_INFO!O224*($E224-$D224)),COUNTRY_INFO!O224*$E224))","v":0},null,{"$f":"IF(OR(COUNTRY_INFO!P224=\"Unknown\",COUNTRY_INFO!P224=\"Surveillance\",COUNTRY_INFO!P224=\"Not required\",COUNTRY_INFO!P224=0),0,IF(AND($E224<>0,$J224=\"\"),IF($F224=0,COUNTRY_INFO!P224*$E224,COUNTRY_INFO!P224*($E224-$D224)), IF(AND($E224<>0,$J224<>0),IF($F224=0,COUNTRY_INFO!P224*$J224,COUNTRY_INFO!P224*($J224-$D224)), COUNTRY_INFO!P224*$J224)))","v":0},0,0,null,0,0,null,0,0,null,0]
[{"$f":"IF(AND(INTRO!$E$37=\"Non-endemic\",INTRO!$E$41=\"Non-endemic\"),\" \",IF(COUNTRY_INFO!A225=0,\" \",COUNTRY_INFO!A225))","v":"Ghana"},{"$f":"IF(AND(INTRO!$E$37=\"Non-endemic\",INTRO!$E$41=\"Non-endemic\"),\" \",IF(COUNTRY_INFO!B225=0,\" \",COUNTRY_INFO!B225))","v":"Upper West"},{"$f":"IF(AND(INTRO!$E$37=\"Non-endemic\",INTRO!$E$41=\"Non-endemic\"),\" \",IF(COUNTRY_INFO!C225=0,\" \",COUNTRY_INFO!C225))","v":"Sissala East"},{"$f":"IF(AND(INTRO!$E$37=\"Non-endemic\",INTRO!$E$41=\"Non-endemic\"),0,COUNTRY_INFO!V225)","v":0},{"$f":"IF(AND(INTRO!$E$37=\"Non-endemic\",INTRO!$E$41=\"Non-endemic\"),0,COUNTRY_INFO!X225)","v":0},{"$f":"IF(INTRO!$E$39=\"Non-endemic\",IF($D225=1,DEC!I225,0),IF($D225=1,IVM!G225,0))","v":0},null,{"$f":"IF(OR(COUNTRY_INFO!N225=\"Unknown\",COUNTRY_INFO!N225=\"Surveillance\",COUNTRY_INFO!N225=\"Not required\",COUNTRY_INFO!N225=0),0,IF(INTRO!$E$39=\"Non-endemic\",IF(AND($E225<>0,$G225=\"\"),IF($F225=0,COUNTRY_INFO!N225*$E225,COUNTRY_INFO!N225*($E225-$D225)),IF(AND($E225<>0,$G225<>0),IF($F225=0,COUNTRY_INFO!N225*$G225,COUNTRY_INFO!N225*($G225-$D225)),0)),IF($G225=\"\",COUNTRY_INFO!N225*$E225,COUNTRY_INFO!N225*$G225)))","v":0},{"$f":"IF(OR(COUNTRY_INFO!O225=\"Unknown\",COUNTRY_INFO!O225=\"Surveillance\",COUNTRY_INFO!O225=\"Not required\",COUNTRY_INFO!O225=0),0,IF($E225<>0, IF($F225=0,COUNTRY_INFO!O225*$E225,COUNTRY_INFO!O225*($E225-$D225)),COUNTRY_INFO!O225*$E225))","v":0},null,{"$f":"IF(OR(COUNTRY_INFO!P225=\"Unknown\",COUNTRY_INFO!P225=\"Surveillance\",COUNTRY_INFO!P225=\"Not required\",COUNTRY_INFO!P225=0),0,IF(AND($E225<>0,$J225=\"\"),IF($F225=0,COUNTRY_INFO!P225*$E225,COUNTRY_INFO!P225*($E225-$D225)), IF(AND($E225<>0,$J225<>0),IF($F225=0,COUNTRY_INFO!P225*$J225,COUNTRY_INFO!P225*($J225-$D225)), COUNTRY_INFO!P225*$J225)))","v":0},0,0,null,0,0,null,0,0,null,0]
[{"$f":"IF(AND(INTRO!$E$37=\"Non-endemic\",INTRO!$E$41=\"Non-endemic\"),\" \",IF(COUNTRY_INFO!A226=0,\" \",COUNTRY_INFO!A226))","v":"Ghana"},{"$f":"IF(AND(INTRO!$E$37=\"Non-endemic\",INTRO!$E$41=\"Non-endemic\"),\" \",IF(COUNTRY_INFO!B226=0,\" \",COUNTRY_INFO!B226))","v":"Upper West"},{"$f":"IF(AND(INTRO!$E$37=\"Non-endemic\",INTRO!$E$41=\"Non-endemic\"),\" \",IF(COUNTRY_INFO!C226=0,\" \",COUNTRY_INFO!C226))","v":"Sissala West"},{"$f":"IF(AND(INTRO!$E$37=\"Non-endemic\",INTRO!$E$41=\"Non-endemic\"),0,COUNTRY_INFO!V226)","v":0},{"$f":"IF(AND(INTRO!$E$37=\"Non-endemic\",INTRO!$E$41=\"Non-endemic\"),0,COUNTRY_INFO!X226)","v":0},{"$f":"IF(INTRO!$E$39=\"Non-endemic\",IF($D226=1,DEC!I226,0),IF($D226=1,IVM!G226,0))","v":0},null,{"$f":"IF(OR(COUNTRY_INFO!N226=\"Unknown\",COUNTRY_INFO!N226=\"Surveillance\",COUNTRY_INFO!N226=\"Not required\",COUNTRY_INFO!N226=0),0,IF(INTRO!$E$39=\"Non-endemic\",IF(AND($E226<>0,$G226=\"\"),IF($F226=0,COUNTRY_INFO!N226*$E226,COUNTRY_INFO!N226*($E226-$D226)),IF(AND($E226<>0,$G226<>0),IF($F226=0,COUNTRY_INFO!N226*$G226,COUNTRY_INFO!N226*($G226-$D226)),0)),IF($G226=\"\",COUNTRY_INFO!N226*$E226,COUNTRY_INFO!N226*$G226)))","v":0},{"$f":"IF(OR(COUNTRY_INFO!O226=\"Unknown\",COUNTRY_INFO!O226=\"Surveillance\",COUNTRY_INFO!O226=\"Not required\",COUNTRY_INFO!O226=0),0,IF($E226<>0, IF($F226=0,COUNTRY_INFO!O226*$E226,COUNTRY_INFO!O226*($E226-$D226)),COUNTRY_INFO!O226*$E226))","v":0},null,{"$f":"IF(OR(COUNTRY_INFO!P226=\"Unknown\",COUNTRY_INFO!P226=\"Surveillance\",COUNTRY_INFO!P226=\"Not required\",COUNTRY_INFO!P226=0),0,IF(AND($E226<>0,$J226=\"\"),IF($F226=0,COUNTRY_INFO!P226*$E226,COUNTRY_INFO!P226*($E226-$D226)), IF(AND($E226<>0,$J226<>0),IF($F226=0,COUNTRY_INFO!P226*$J226,COUNTRY_INFO!P226*($J226-$D226)), COUNTRY_INFO!P226*$J226)))","v":0},0,0,null,0,0,null,0,0,null,0]
[{"$f":"IF(AND(INTRO!$E$37=\"Non-endemic\",INTRO!$E$41=\"Non-endemic\"),\" \",IF(COUNTRY_INFO!A227=0,\" \",COUNTRY_INFO!A227))","v":"Ghana"},{"$f":"IF(AND(INTRO!$E$37=\"Non-endemic\",INTRO!$E$41=\"Non-endemic\"),\" \",IF(COUNTRY_INFO!B227=0,\" \",COUNTRY_INFO!B227))","v":"Upper West"},{"$f":"IF(AND(INTRO!$E$37=\"Non-endemic\",INTRO!$E$41=\"Non-endemic\"),\" \",IF(COUNTRY_INFO!C227=0,\" \",COUNTRY_INFO!C227))","v":"Wa East"},{"$f":"IF(AND(INTRO!$E$37=\"Non-endemic\",INTRO!$E$41=\"Non-endemic\"),0,COUNTRY_INFO!V227)","v":0},{"$f":"IF(AND(INTRO!$E$37=\"Non-endemic\",INTRO!$E$41=\"Non-endemic\"),0,COUNTRY_INFO!X227)","v":0},{"$f":"IF(INTRO!$E$39=\"Non-endemic\",IF($D227=1,DEC!I227,0),IF($D227=1,IVM!G227,0))","v":0},null,{"$f":"IF(OR(COUNTRY_INFO!N227=\"Unknown\",COUNTRY_INFO!N227=\"Surveillance\",COUNTRY_INFO!N227=\"Not required\",COUNTRY_INFO!N227=0),0,IF(INTRO!$E$39=\"Non-endemic\",IF(AND($E227<>0,$G227=\"\"),IF($F227=0,COUNTRY_INFO!N227*$E227,COUNTRY_INFO!N227*($E227-$D227)),IF(AND($E227<>0,$G227<>0),IF($F227=0,COUNTRY_INFO!N227*$G227,COUNTRY_INFO!N227*($G227-$D227)),0)),IF($G227=\"\",COUNTRY_INFO!N227*$E227,COUNTRY_INFO!N227*$G227)))","v":0},{"$f":"IF(OR(COUNTRY_INFO!O227=\"Unknown\",COUNTRY_INFO!O227=\"Surveillance\",COUNTRY_INFO!O227=\"Not required\",COUNTRY_INFO!O227=0),0,IF($E227<>0, IF($F227=0,COUNTRY_INFO!O227*$E227,COUNTRY_INFO!O227*($E227-$D227)),COUNTRY_INFO!O227*$E227))","v":0},null,{"$f":"IF(OR(COUNTRY_INFO!P227=\"Unknown\",COUNTRY_INFO!P227=\"Surveillance\",COUNTRY_INFO!P227=\"Not required\",COUNTRY_INFO!P227=0),0,IF(AND($E227<>0,$J227=\"\"),IF($F227=0,COUNTRY_INFO!P227*$E227,COUNTRY_INFO!P227*($E227-$D227)), IF(AND($E227<>0,$J227<>0),IF($F227=0,COUNTRY_INFO!P227*$J227,COUNTRY_INFO!P227*($J227-$D227)), COUNTRY_INFO!P227*$J227)))","v":0},0,0,null,0,0,null,0,0,null,0]
[{"$f":"IF(AND(INTRO!$E$37=\"Non-endemic\",INTRO!$E$41=\"Non-endemic\"),\" \",IF(COUNTRY_INFO!A228=0,\" \",COUNTRY_INFO!A228))","v":"Ghana"},{"$f":"IF(AND(INTRO!$E$37=\"Non-endemic\",INTRO!$E$41=\"Non-endemic\"),\" \",IF(COUNTRY_INFO!B228=0,\" \",COUNTRY_INFO!B228))","v":"Upper West"},{"$f":"IF(AND(INTRO!$E$37=\"Non-endemic\",INTRO!$E$41=\"Non-endemic\"),\" \",IF(COUNTRY_INFO!C228=0,\" \",COUNTRY_INFO!C228))","v":"Wa Municipal"},{"$f":"IF(AND(INTRO!$E$37=\"Non-endemic\",INTRO!$E$41=\"Non-endemic\"),0,COUNTRY_INFO!V228)","v":0},{"$f":"IF(AND(INTRO!$E$37=\"Non-endemic\",INTRO!$E$41=\"Non-endemic\"),0,COUNTRY_INFO!X228)","v":0},{"$f":"IF(INTRO!$E$39=\"Non-endemic\",IF($D228=1,DEC!I228,0),IF($D228=1,IVM!G228,0))","v":0},null,{"$f":"IF(OR(COUNTRY_INFO!N228=\"Unknown\",COUNTRY_INFO!N228=\"Surveillance\",COUNTRY_INFO!N228=\"Not required\",COUNTRY_INFO!N228=0),0,IF(INTRO!$E$39=\"Non-endemic\",IF(AND($E228<>0,$G228=\"\"),IF($F228=0,COUNTRY_INFO!N228*$E228,COUNTRY_INFO!N228*($E228-$D228)),IF(AND($E228<>0,$G228<>0),IF($F228=0,COUNTRY_INFO!N228*$G228,COUNTRY_INFO!N228*($G228-$D228)),0)),IF($G228=\"\",COUNTRY_INFO!N228*$E228,COUNTRY_INFO!N228*$G228)))","v":0},{"$f":"IF(OR(COUNTRY_INFO!O228=\"Unknown\",COUNTRY_INFO!O228=\"Surveillance\",COUNTRY_INFO!O228=\"Not required\",COUNTRY_INFO!O228=0),0,IF($E228<>0, IF($F228=0,COUNTRY_INFO!O228*$E228,COUNTRY_INFO!O228*($E228-$D228)),COUNTRY_INFO!O228*$E228))","v":0},null,{"$f":"IF(OR(COUNTRY_INFO!P228=\"Unknown\",COUNTRY_INFO!P228=\"Surveillance\",COUNTRY_INFO!P228=\"Not required\",COUNTRY_INFO!P228=0),0,IF(AND($E228<>0,$J228=\"\"),IF($F228=0,COUNTRY_INFO!P228*$E228,COUNTRY_INFO!P228*($E228-$D228)), IF(AND($E228<>0,$J228<>0),IF($F228=0,COUNTRY_INFO!P228*$J228,COUNTRY_INFO!P228*($J228-$D228)), COUNTRY_INFO!P228*$J228)))","v":0},0,0,null,0,0,null,0,0,null,0]
[{"$f":"IF(AND(INTRO!$E$37=\"Non-endemic\",INTRO!$E$41=\"Non-endemic\"),\" \",IF(COUNTRY_INFO!A229=0,\" \",COUNTRY_INFO!A229))","v":"Ghana"},{"$f":"IF(AND(INTRO!$E$37=\"Non-endemic\",INTRO!$E$41=\"Non-endemic\"),\" \",IF(COUNTRY_INFO!B229=0,\" \",COUNTRY_INFO!B229))","v":"Upper West"},{"$f":"IF(AND(INTRO!$E$37=\"Non-endemic\",INTRO!$E$41=\"Non-endemic\"),\" \",IF(COUNTRY_INFO!C229=0,\" \",COUNTRY_INFO!C229))","v":"Wa West"},{"$f":"IF(AND(INTRO!$E$37=\"Non-endemic\",INTRO!$E$41=\"Non-endemic\"),0,COUNTRY_INFO!V229)","v":0},{"$f":"IF(AND(INTRO!$E$37=\"Non-endemic\",INTRO!$E$41=\"Non-endemic\"),0,COUNTRY_INFO!X229)","v":0},{"$f":"IF(INTRO!$E$39=\"Non-endemic\",IF($D229=1,DEC!I229,0),IF($D229=1,IVM!G229,0))","v":0},null,{"$f":"IF(OR(COUNTRY_INFO!N229=\"Unknown\",COUNTRY_INFO!N229=\"Surveillance\",COUNTRY_INFO!N229=\"Not required\",COUNTRY_INFO!N229=0),0,IF(INTRO!$E$39=\"Non-endemic\",IF(AND($E229<>0,$G229=\"\"),IF($F229=0,COUNTRY_INFO!N229*$E229,COUNTRY_INFO!N229*($E229-$D229)),IF(AND($E229<>0,$G229<>0),IF($F229=0,COUNTRY_INFO!N229*$G229,COUNTRY_INFO!N229*($G229-$D229)),0)),IF($G229=\"\",COUNTRY_INFO!N229*$E229,COUNTRY_INFO!N229*$G229)))","v":0},{"$f":"IF(OR(COUNTRY_INFO!O229=\"Unknown\",COUNTRY_INFO!O229=\"Surveillance\",COUNTRY_INFO!O229=\"Not required\",COUNTRY_INFO!O229=0),0,IF($E229<>0, IF($F229=0,COUNTRY_INFO!O229*$E229,COUNTRY_INFO!O229*($E229-$D229)),COUNTRY_INFO!O229*$E229))","v":0},null,{"$f":"IF(OR(COUNTRY_INFO!P229=\"Unknown\",COUNTRY_INFO!P229=\"Surveillance\",COUNTRY_INFO!P229=\"Not required\",COUNTRY_INFO!P229=0),0,IF(AND($E229<>0,$J229=\"\"),IF($F229=0,COUNTRY_INFO!P229*$E229,COUNTRY_INFO!P229*($E229-$D229)), IF(AND($E229<>0,$J229<>0),IF($F229=0,COUNTRY_INFO!P229*$J229,COUNTRY_INFO!P229*($J229-$D229)), COUNTRY_INFO!P229*$J229)))","v":0},0,0,null,0,0,null,0,0,null,0]
[{"$f":"IF(AND(INTRO!$E$37=\"Non-endemic\",INTRO!$E$41=\"Non-endemic\"),\" \",IF(COUNTRY_INFO!A230=0,\" \",COUNTRY_INFO!A230))","v":"Ghana"},{"$f":"IF(AND(INTRO!$E$37=\"Non-endemic\",INTRO!$E$41=\"Non-endemic\"),\" \",IF(COUNTRY_INFO!B230=0,\" \",COUNTRY_INFO!B230))","v":"Volta"},{"$f":"IF(AND(INTRO!$E$37=\"Non-endemic\",INTRO!$E$41=\"Non-endemic\"),\" \",IF(COUNTRY_INFO!C230=0,\" \",COUNTRY_INFO!C230))","v":"Adaklu"},{"$f":"IF(AND(INTRO!$E$37=\"Non-endemic\",INTRO!$E$41=\"Non-endemic\"),0,COUNTRY_INFO!V230)","v":0},{"$f":"IF(AND(INTRO!$E$37=\"Non-endemic\",INTRO!$E$41=\"Non-endemic\"),0,COUNTRY_INFO!X230)","v":0},{"$f":"IF(INTRO!$E$39=\"Non-endemic\",IF($D230=1,DEC!I230,0),IF($D230=1,IVM!G230,0))","v":0},null,{"$f":"IF(OR(COUNTRY_INFO!N230=\"Unknown\",COUNTRY_INFO!N230=\"Surveillance\",COUNTRY_INFO!N230=\"Not required\",COUNTRY_INFO!N230=0),0,IF(INTRO!$E$39=\"Non-endemic\",IF(AND($E230<>0,$G230=\"\"),IF($F230=0,COUNTRY_INFO!N230*$E230,COUNTRY_INFO!N230*($E230-$D230)),IF(AND($E230<>0,$G230<>0),IF($F230=0,COUNTRY_INFO!N230*$G230,COUNTRY_INFO!N230*($G230-$D230)),0)),IF($G230=\"\",COUNTRY_INFO!N230*$E230,COUNTRY_INFO!N230*$G230)))","v":0},{"$f":"IF(OR(COUNTRY_INFO!O230=\"Unknown\",COUNTRY_INFO!O230=\"Surveillance\",COUNTRY_INFO!O230=\"Not required\",COUNTRY_INFO!O230=0),0,IF($E230<>0, IF($F230=0,COUNTRY_INFO!O230*$E230,COUNTRY_INFO!O230*($E230-$D230)),COUNTRY_INFO!O230*$E230))","v":0},null,{"$f":"IF(OR(COUNTRY_INFO!P230=\"Unknown\",COUNTRY_INFO!P230=\"Surveillance\",COUNTRY_INFO!P230=\"Not required\",COUNTRY_INFO!P230=0),0,IF(AND($E230<>0,$J230=\"\"),IF($F230=0,COUNTRY_INFO!P230*$E230,COUNTRY_INFO!P230*($E230-$D230)), IF(AND($E230<>0,$J230<>0),IF($F230=0,COUNTRY_INFO!P230*$J230,COUNTRY_INFO!P230*($J230-$D230)), COUNTRY_INFO!P230*$J230)))","v":0},0,0,null,0,0,null,0,0,null,0]
[{"$f":"IF(AND(INTRO!$E$37=\"Non-endemic\",INTRO!$E$41=\"Non-endemic\"),\" \",IF(COUNTRY_INFO!A231=0,\" \",COUNTRY_INFO!A231))","v":"Ghana"},{"$f":"IF(AND(INTRO!$E$37=\"Non-endemic\",INTRO!$E$41=\"Non-endemic\"),\" \",IF(COUNTRY_INFO!B231=0,\" \",COUNTRY_INFO!B231))","v":"Volta"},{"$f":"IF(AND(INTRO!$E$37=\"Non-endemic\",INTRO!$E$41=\"Non-endemic\"),\" \",IF(COUNTRY_INFO!C231=0,\" \",COUNTRY_INFO!C231))","v":"Afadjato South"},{"$f":"IF(AND(INTRO!$E$37=\"Non-endemic\",INTRO!$E$41=\"Non-endemic\"),0,COUNTRY_INFO!V231)","v":0},{"$f":"IF(AND(INTRO!$E$37=\"Non-endemic\",INTRO!$E$41=\"Non-endemic\"),0,COUNTRY_INFO!X231)","v":0},{"$f":"IF(INTRO!$E$39=\"Non-endemic\",IF($D231=1,DEC!I231,0),IF($D231=1,IVM!G231,0))","v":0},null,{"$f":"IF(OR(COUNTRY_INFO!N231=\"Unknown\",COUNTRY_INFO!N231=\"Surveillance\",COUNTRY_INFO!N231=\"Not required\",COUNTRY_INFO!N231=0),0,IF(INTRO!$E$39=\"Non-endemic\",IF(AND($E231<>0,$G231=\"\"),IF($F231=0,COUNTRY_INFO!N231*$E231,COUNTRY_INFO!N231*($E231-$D231)),IF(AND($E231<>0,$G231<>0),IF($F231=0,COUNTRY_INFO!N231*$G231,COUNTRY_INFO!N231*($G231-$D231)),0)),IF($G231=\"\",COUNTRY_INFO!N231*$E231,COUNTRY_INFO!N231*$G231)))","v":0},{"$f":"IF(OR(COUNTRY_INFO!O231=\"Unknown\",COUNTRY_INFO!O231=\"Surveillance\",COUNTRY_INFO!O231=\"Not required\",COUNTRY_INFO!O231=0),0,IF($E231<>0, IF($F231=0,COUNTRY_INFO!O231*$E231,COUNTRY_INFO!O231*($E231-$D231)),COUNTRY_INFO!O231*$E231))","v":0},null,{"$f":"IF(OR(COUNTRY_INFO!P231=\"Unknown\",COUNTRY_INFO!P231=\"Surveillance\",COUNTRY_INFO!P231=\"Not required\",COUNTRY_INFO!P231=0),0,IF(AND($E231<>0,$J231=\"\"),IF($F231=0,COUNTRY_INFO!P231*$E231,COUNTRY_INFO!P231*($E231-$D231)), IF(AND($E231<>0,$J231<>0),IF($F231=0,COUNTRY_INFO!P231*$J231,COUNTRY_INFO!P231*($J231-$D231)), COUNTRY_INFO!P231*$J231)))","v":0},0,0,null,0,0,null,0,0,null,0]
[{"$f":"IF(AND(INTRO!$E$37=\"Non-endemic\",INTRO!$E$41=\"Non-endemic\"),\" \",IF(COUNTRY_INFO!A232=0,\" \",COUNTRY_INFO!A232))","v":"Ghana"},{"$f":"IF(AND(INTRO!$E$37=\"Non-endemic\",INTRO!$E$41=\"Non-endemic\"),\" \",IF(COUNTRY_INFO!B232=0,\" \",COUNTRY_INFO!B232))","v":"Volta"},{"$f":"IF(AND(INTRO!$E$37=\"Non-endemic\",INTRO!$E$41=\"Non-endemic\"),\" \",IF(COUNTRY_INFO!C232=0,\" \",COUNTRY_INFO!C232))","v":"Agortime-Ziope"},{"$f":"IF(AND(INTRO!$E$37=\"Non-endemic\",INTRO!$E$41=\"Non-endemic\"),0,COUNTRY_INFO!V232)","v":0},{"$f":"IF(AND(INTRO!$E$37=\"Non-endemic\",INTRO!$E$41=\"Non-endemic\"),0,COUNTRY_INFO!X232)","v":0},{"$f":"IF(INTRO!$E$39=\"Non-endemic\",IF($D232=1,DEC!I232,0),IF($D232=1,IVM!G232,0))","v":0},null,{"$f":"IF(OR(COUNTRY_INFO!N232=\"Unknown\",COUNTRY_INFO!N232=\"Surveillance\",COUNTRY_INFO!N232=\"Not required\",COUNTRY_INFO!N232=0),0,IF(INTRO!$E$39=\"Non-endemic\",IF(AND($E232<>0,$G232=\"\"),IF($F232=0,COUNTRY_INFO!N232*$E232,COUNTRY_INFO!N232*($E232-$D232)),IF(AND($E232<>0,$G232<>0),IF($F232=0,COUNTRY_INFO!N232*$G232,COUNTRY_INFO!N232*($G232-$D232)),0)),IF($G232=\"\",COUNTRY_INFO!N232*$E232,COUNTRY_INFO!N232*$G232)))","v":0},{"$f":"IF(OR(COUNTRY_INFO!O232=\"Unknown\",COUNTRY_INFO!O232=\"Surveillance\",COUNTRY_INFO!O232=\"Not required\",COUNTRY_INFO!O232=0),0,IF($E232<>0, IF($F232=0,COUNTRY_INFO!O232*$E232,COUNTRY_INFO!O232*($E232-$D232)),COUNTRY_INFO!O232*$E232))","v":0},null,{"$f":"IF(OR(COUNTRY_INFO!P232=\"Unknown\",COUNTRY_INFO!P232=\"Surveillance\",COUNTRY_INFO!P232=\"Not required\",COUNTRY_INFO!P232=0),0,IF(AND($E232<>0,$J232=\"\"),IF($F232=0,COUNTRY_INFO!P232*$E232,COUNTRY_INFO!P232*($E232-$D232)), IF(AND($E232<>0,$J232<>0),IF($F232=0,COUNTRY_INFO!P232*$J232,COUNTRY_INFO!P232*($J232-$D232)), COUNTRY_INFO!P232*$J232)))","v":0},0,0,null,0,0,null,0,0,null,0]
[{"$f":"IF(AND(INTRO!$E$37=\"Non-endemic\",INTRO!$E$41=\"Non-endemic\"),\" \",IF(COUNTRY_INFO!A233=0,\" \",COUNTRY_INFO!A233))","v":"Ghana"},{"$f":"IF(AND(INTRO!$E$37=\"Non-endemic\",INTRO!$E$41=\"Non-endemic\"),\" \",IF(COUNTRY_INFO!B233=0,\" \",COUNTRY_INFO!B233))","v":"Volta"},{"$f":"IF(AND(INTRO!$E$37=\"Non-endemic\",INTRO!$E$41=\"Non-endemic\"),\" \",IF(COUNTRY_INFO!C233=0,\" \",COUNTRY_INFO!C233))","v":"Akatsi North"},{"$f":"IF(AND(INTRO!$E$37=\"Non-endemic\",INTRO!$E$41=\"Non-endemic\"),0,COUNTRY_INFO!V233)","v":0},{"$f":"IF(AND(INTRO!$E$37=\"Non-endemic\",INTRO!$E$41=\"Non-endemic\"),0,COUNTRY_INFO!X233)","v":0},{"$f":"IF(INTRO!$E$39=\"Non-endemic\",IF($D233=1,DEC!I233,0),IF($D233=1,IVM!G233,0))","v":0},null,{"$f":"IF(OR(COUNTRY_INFO!N233=\"Unknown\",COUNTRY_INFO!N233=\"Surveillance\",COUNTRY_INFO!N233=\"Not required\",COUNTRY_INFO!N233=0),0,IF(INTRO!$E$39=\"Non-endemic\",IF(AND($E233<>0,$G233=\"\"),IF($F233=0,COUNTRY_INFO!N233*$E233,COUNTRY_INFO!N233*($E233-$D233)),IF(AND($E233<>0,$G233<>0),IF($F233=0,COUNTRY_INFO!N233*$G233,COUNTRY_INFO!N233*($G233-$D233)),0)),IF($G233=\"\",COUNTRY_INFO!N233*$E233,COUNTRY_INFO!N233*$G233)))","v":0},{"$f":"IF(OR(COUNTRY_INFO!O233=\"Unknown\",COUNTRY_INFO!O233=\"Surveillance\",COUNTRY_INFO!O233=\"Not required\",COUNTRY_INFO!O233=0),0,IF($E233<>0, IF($F233=0,COUNTRY_INFO!O233*$E233,COUNTRY_INFO!O233*($E233-$D233)),COUNTRY_INFO!O233*$E233))","v":0},null,{"$f":"IF(OR(COUNTRY_INFO!P233=\"Unknown\",COUNTRY_INFO!P233=\"Surveillance\",COUNTRY_INFO!P233=\"Not required\",COUNTRY_INFO!P233=0),0,IF(AND($E233<>0,$J233=\"\"),IF($F233=0,COUNTRY_INFO!P233*$E233,COUNTRY_INFO!P233*($E233-$D233)), IF(AND($E233<>0,$J233<>0),IF($F233=0,COUNTRY_INFO!P233*$J233,COUNTRY_INFO!P233*($J233-$D233)), COUNTRY_INFO!P233*$J233)))","v":0},0,0,null,0,0,null,0,0,null,0]
[{"$f":"IF(AND(INTRO!$E$37=\"Non-endemic\",INTRO!$E$41=\"Non-endemic\"),\" \",IF(COUNTRY_INFO!A234=0,\" \",COUNTRY_INFO!A234))","v":"Ghana"},{"$f":"IF(AND(INTRO!$E$37=\"Non-endemic\",INTRO!$E$41=\"Non-endemic\"),\" \",IF(COUNTRY_INFO!B234=0,\" \",COUNTRY_INFO!B234))","v":"Volta"},{"$f":"IF(AND(INTRO!$E$37=\"Non-endemic\",INTRO!$E$41=\"Non-endemic\"),\" \",IF(COUNTRY_INFO!C234=0,\" \",COUNTRY_INFO!C234))","v":"Akatsi South"},{"$f":"IF(AND(INTRO!$E$37=\"Non-endemic\",INTRO!$E$41=\"Non-endemic\"),0,COUNTRY_INFO!V234)","v":0},{"$f":"IF(AND(INTRO!$E$37=\"Non-endemic\",INTRO!$E$41=\"Non-endemic\"),0,COUNTRY_INFO!X234)","v":0},{"$f":"IF(INTRO!$E$39=\"Non-endemic\",IF($D234=1,DEC!I234,0),IF($D234=1,IVM!G234,0))","v":0},null,{"$f":"IF(OR(COUNTRY_INFO!N234=\"Unknown\",COUNTRY_INFO!N234=\"Surveillance\",COUNTRY_INFO!N234=\"Not required\",COUNTRY_INFO!N234=0),0,IF(INTRO!$E$39=\"Non-endemic\",IF(AND($E234<>0,$G234=\"\"),IF($F234=0,COUNTRY_INFO!N234*$E234,COUNTRY_INFO!N234*($E234-$D234)),IF(AND($E234<>0,$G234<>0),IF($F234=0,COUNTRY_INFO!N234*$G234,COUNTRY_INFO!N234*($G234-$D234)),0)),IF($G234=\"\",COUNTRY_INFO!N234*$E234,COUNTRY_INFO!N234*$G234)))","v":0},{"$f":"IF(OR(COUNTRY_INFO!O234=\"Unknown\",COUNTRY_INFO!O234=\"Surveillance\",COUNTRY_INFO!O234=\"Not required\",COUNTRY_INFO!O234=0),0,IF($E234<>0, IF($F234=0,COUNTRY_INFO!O234*$E234,COUNTRY_INFO!O234*($E234-$D234)),COUNTRY_INFO!O234*$E234))","v":0},null,{"$f":"IF(OR(COUNTRY_INFO!P234=\"Unknown\",COUNTRY_INFO!P234=\"Surveillance\",COUNTRY_INFO!P234=\"Not required\",COUNTRY_INFO!P234=0),0,IF(AND($E234<>0,$J234=\"\"),IF($F234=0,COUNTRY_INFO!P234*$E234,COUNTRY_INFO!P234*($E234-$D234)), IF(AND($E234<>0,$J234<>0),IF($F234=0,COUNTRY_INFO!P234*$J234,COUNTRY_INFO!P234*($J234-$D234)), COUNTRY_INFO!P234*$J234)))","v":0},0,0,null,0,0,null,0,0,null,0]
[{"$f":"IF(AND(INTRO!$E$37=\"Non-endemic\",INTRO!$E$41=\"Non-endemic\"),\" \",IF(COUNTRY_INFO!A235=0,\" \",COUNTRY_INFO!A235))","v":"Ghana"},{"$f":"IF(AND(INTRO!$E$37=\"Non-endemic\",INTRO!$E$41=\"Non-endemic\"),\" \",IF(COUNTRY_INFO!B235=0,\" \",COUNTRY_INFO!B235))","v":"Volta"},{"$f":"IF(AND(INTRO!$E$37=\"Non-endemic\",INTRO!$E$41=\"Non-endemic\"),\" \",IF(COUNTRY_INFO!C235=0,\" \",COUNTRY_INFO!C235))","v":"Anloga"},{"$f":"IF(AND(INTRO!$E$37=\"Non-endemic\",INTRO!$E$41=\"Non-endemic\"),0,COUNTRY_INFO!V235)","v":0},{"$f":"IF(AND(INTRO!$E$37=\"Non-endemic\",INTRO!$E$41=\"Non-endemic\"),0,COUNTRY_INFO!X235)","v":0},{"$f":"IF(INTRO!$E$39=\"Non-endemic\",IF($D235=1,DEC!I235,0),IF($D235=1,IVM!G235,0))","v":0},null,{"$f":"IF(OR(COUNTRY_INFO!N235=\"Unknown\",COUNTRY_INFO!N235=\"Surveillance\",COUNTRY_INFO!N235=\"Not required\",COUNTRY_INFO!N235=0),0,IF(INTRO!$E$39=\"Non-endemic\",IF(AND($E235<>0,$G235=\"\"),IF($F235=0,COUNTRY_INFO!N235*$E235,COUNTRY_INFO!N235*($E235-$D235)),IF(AND($E235<>0,$G235<>0),IF($F235=0,COUNTRY_INFO!N235*$G235,COUNTRY_INFO!N235*($G235-$D235)),0)),IF($G235=\"\",COUNTRY_INFO!N235*$E235,COUNTRY_INFO!N235*$G235)))","v":0},{"$f":"IF(OR(COUNTRY_INFO!O235=\"Unknown\",COUNTRY_INFO!O235=\"Surveillance\",COUNTRY_INFO!O235=\"Not required\",COUNTRY_INFO!O235=0),0,IF($E235<>0, IF($F235=0,COUNTRY_INFO!O235*$E235,COUNTRY_INFO!O235*($E235-$D235)),COUNTRY_INFO!O235*$E235))","v":0},null,{"$f":"IF(OR(COUNTRY_INFO!P235=\"Unknown\",COUNTRY_INFO!P235=\"Surveillance\",COUNTRY_INFO!P235=\"Not required\",COUNTRY_INFO!P235=0),0,IF(AND($E235<>0,$J235=\"\"),IF($F235=0,COUNTRY_INFO!P235*$E235,COUNTRY_INFO!P235*($E235-$D235)), IF(AND($E235<>0,$J235<>0),IF($F235=0,COUNTRY_INFO!P235*$J235,COUNTRY_INFO!P235*($J235-$D235)), COUNTRY_INFO!P235*$J235)))","v":0},0,0,null,0,0,null,0,0,null,0]
[{"$f":"IF(AND(INTRO!$E$37=\"Non-endemic\",INTRO!$E$41=\"Non-endemic\"),\" \",IF(COUNTRY_INFO!A236=0,\" \",COUNTRY_INFO!A236))","v":"Ghana"},{"$f":"IF(AND(INTRO!$E$37=\"Non-endemic\",INTRO!$E$41=\"Non-endemic\"),\" \",IF(COUNTRY_INFO!B236=0,\" \",COUNTRY_INFO!B236))","v":"Volta"},{"$f":"IF(AND(INTRO!$E$37=\"Non-endemic\",INTRO!$E$41=\"Non-endemic\"),\" \",IF(COUNTRY_INFO!C236=0,\" \",COUNTRY_INFO!C236))","v":"Central Tongu"},{"$f":"IF(AND(INTRO!$E$37=\"Non-endemic\",INTRO!$E$41=\"Non-endemic\"),0,COUNTRY_INFO!V236)","v":0},{"$f":"IF(AND(INTRO!$E$37=\"Non-endemic\",INTRO!$E$41=\"Non-endemic\"),0,COUNTRY_INFO!X236)","v":0},{"$f":"IF(INTRO!$E$39=\"Non-endemic\",IF($D236=1,DEC!I236,0),IF($D236=1,IVM!G236,0))","v":0},null,{"$f":"IF(OR(COUNTRY_INFO!N236=\"Unknown\",COUNTRY_INFO!N236=\"Surveillance\",COUNTRY_INFO!N236=\"Not required\",COUNTRY_INFO!N236=0),0,IF(INTRO!$E$39=\"Non-endemic\",IF(AND($E236<>0,$G236=\"\"),IF($F236=0,COUNTRY_INFO!N236*$E236,COUNTRY_INFO!N236*($E236-$D236)),IF(AND($E236<>0,$G236<>0),IF($F236=0,COUNTRY_INFO!N236*$G236,COUNTRY_INFO!N236*($G236-$D236)),0)),IF($G236=\"\",COUNTRY_INFO!N236*$E236,COUNTRY_INFO!N236*$G236)))","v":0},{"$f":"IF(OR(COUNTRY_INFO!O236=\"Unknown\",COUNTRY_INFO!O236=\"Surveillance\",COUNTRY_INFO!O236=\"Not required\",COUNTRY_INFO!O236=0),0,IF($E236<>0, IF($F236=0,COUNTRY_INFO!O236*$E236,COUNTRY_INFO!O236*($E236-$D236)),COUNTRY_INFO!O236*$E236))","v":0},null,{"$f":"IF(OR(COUNTRY_INFO!P236=\"Unknown\",COUNTRY_INFO!P236=\"Surveillance\",COUNTRY_INFO!P236=\"Not required\",COUNTRY_INFO!P236=0),0,IF(AND($E236<>0,$J236=\"\"),IF($F236=0,COUNTRY_INFO!P236*$E236,COUNTRY_INFO!P236*($E236-$D236)), IF(AND($E236<>0,$J236<>0),IF($F236=0,COUNTRY_INFO!P236*$J236,COUNTRY_INFO!P236*($J236-$D236)), COUNTRY_INFO!P236*$J236)))","v":0},0,0,null,0,0,null,0,0,null,0]
[{"$f":"IF(AND(INTRO!$E$37=\"Non-endemic\",INTRO!$E$41=\"Non-endemic\"),\" \",IF(COUNTRY_INFO!A237=0,\" \",COUNTRY_INFO!A237))","v":"Ghana"},{"$f":"IF(AND(INTRO!$E$37=\"Non-endemic\",INTRO!$E$41=\"Non-endemic\"),\" \",IF(COUNTRY_INFO!B237=0,\" \",COUNTRY_INFO!B237))","v":"Volta"},{"$f":"IF(AND(INTRO!$E$37=\"Non-endemic\",INTRO!$E$41=\"Non-endemic\"),\" \",IF(COUNTRY_INFO!C237=0,\" \",COUNTRY_INFO!C237))","v":"Ho"},{"$f":"IF(AND(INTRO!$E$37=\"Non-endemic\",INTRO!$E$41=\"Non-endemic\"),0,COUNTRY_INFO!V237)","v":0},{"$f":"IF(AND(INTRO!$E$37=\"Non-endemic\",INTRO!$E$41=\"Non-endemic\"),0,COUNTRY_INFO!X237)","v":0},{"$f":"IF(INTRO!$E$39=\"Non-endemic\",IF($D237=1,DEC!I237,0),IF($D237=1,IVM!G237,0))","v":0},null,{"$f":"IF(OR(COUNTRY_INFO!N237=\"Unknown\",COUNTRY_INFO!N237=\"Surveillance\",COUNTRY_INFO!N237=\"Not required\",COUNTRY_INFO!N237=0),0,IF(INTRO!$E$39=\"Non-endemic\",IF(AND($E237<>0,$G237=\"\"),IF($F237=0,COUNTRY_INFO!N237*$E237,COUNTRY_INFO!N237*($E237-$D237)),IF(AND($E237<>0,$G237<>0),IF($F237=0,COUNTRY_INFO!N237*$G237,COUNTRY_INFO!N237*($G237-$D237)),0)),IF($G237=\"\",COUNTRY_INFO!N237*$E237,COUNTRY_INFO!N237*$G237)))","v":0},{"$f":"IF(OR(COUNTRY_INFO!O237=\"Unknown\",COUNTRY_INFO!O237=\"Surveillance\",COUNTRY_INFO!O237=\"Not required\",COUNTRY_INFO!O237=0),0,IF($E237<>0, IF($F237=0,COUNTRY_INFO!O237*$E237,COUNTRY_INFO!O237*($E237-$D237)),COUNTRY_INFO!O237*$E237))","v":0},null,{"$f":"IF(OR(COUNTRY_INFO!P237=\"Unknown\",COUNTRY_INFO!P237=\"Surveillance\",COUNTRY_INFO!P237=\"Not required\",COUNTRY_INFO!P237=0),0,IF(AND($E237<>0,$J237=\"\"),IF($F237=0,COUNTRY_INFO!P237*$E237,COUNTRY_INFO!P237*($E237-$D237)), IF(AND($E237<>0,$J237<>0),IF($F237=0,COUNTRY_INFO!P237*$J237,COUNTRY_INFO!P237*($J237-$D237)), COUNTRY_INFO!P237*$J237)))","v":0},0,0,null,0,0,null,0,0,null,0]
[{"$f":"IF(AND(INTRO!$E$37=\"Non-endemic\",INTRO!$E$41=\"Non-endemic\"),\" \",IF(COUNTRY_INFO!A238=0,\" \",COUNTRY_INFO!A238))","v":"Ghana"},{"$f":"IF(AND(INTRO!$E$37=\"Non-endemic\",INTRO!$E$41=\"Non-endemic\"),\" \",IF(COUNTRY_INFO!B238=0,\" \",COUNTRY_INFO!B238))","v":"Volta"},{"$f":"IF(AND(INTRO!$E$37=\"Non-endemic\",INTRO!$E$41=\"Non-endemic\"),\" \",IF(COUNTRY_INFO!C238=0,\" \",COUNTRY_INFO!C238))","v":"Ho West"},{"$f":"IF(AND(INTRO!$E$37=\"Non-endemic\",INTRO!$E$41=\"Non-endemic\"),0,COUNTRY_INFO!V238)","v":0},{"$f":"IF(AND(INTRO!$E$37=\"Non-endemic\",INTRO!$E$41=\"Non-endemic\"),0,COUNTRY_INFO!X238)","v":0},{"$f":"IF(INTRO!$E$39=\"Non-endemic\",IF($D238=1,DEC!I238,0),IF($D238=1,IVM!G238,0))","v":0},null,{"$f":"IF(OR(COUNTRY_INFO!N238=\"Unknown\",COUNTRY_INFO!N238=\"Surveillance\",COUNTRY_INFO!N238=\"Not required\",COUNTRY_INFO!N238=0),0,IF(INTRO!$E$39=\"Non-endemic\",IF(AND($E238<>0,$G238=\"\"),IF($F238=0,COUNTRY_INFO!N238*$E238,COUNTRY_INFO!N238*($E238-$D238)),IF(AND($E238<>0,$G238<>0),IF($F238=0,COUNTRY_INFO!N238*$G238,COUNTRY_INFO!N238*($G238-$D238)),0)),IF($G238=\"\",COUNTRY_INFO!N238*$E238,COUNTRY_INFO!N238*$G238)))","v":0},{"$f":"IF(OR(COUNTRY_INFO!O238=\"Unknown\",COUNTRY_INFO!O238=\"Surveillance\",COUNTRY_INFO!O238=\"Not required\",COUNTRY_INFO!O238=0),0,IF($E238<>0, IF($F238=0,COUNTRY_INFO!O238*$E238,COUNTRY_INFO!O238*($E238-$D238)),COUNTRY_INFO!O238*$E238))","v":0},null,{"$f":"IF(OR(COUNTRY_INFO!P238=\"Unknown\",COUNTRY_INFO!P238=\"Surveillance\",COUNTRY_INFO!P238=\"Not required\",COUNTRY_INFO!P238=0),0,IF(AND($E238<>0,$J238=\"\"),IF($F238=0,COUNTRY_INFO!P238*$E238,COUNTRY_INFO!P238*($E238-$D238)), IF(AND($E238<>0,$J238<>0),IF($F238=0,COUNTRY_INFO!P238*$J238,COUNTRY_INFO!P238*($J238-$D238)), COUNTRY_INFO!P238*$J238)))","v":0},0,0,null,0,0,null,0,0,null,0]
[{"$f":"IF(AND(INTRO!$E$37=\"Non-endemic\",INTRO!$E$41=\"Non-endemic\"),\" \",IF(COUNTRY_INFO!A239=0,\" \",COUNTRY_INFO!A239))","v":"Ghana"},{"$f":"IF(AND(INTRO!$E$37=\"Non-endemic\",INTRO!$E$41=\"Non-endemic\"),\" \",IF(COUNTRY_INFO!B239=0,\" \",COUNTRY_INFO!B239))","v":"Volta"},{"$f":"IF(AND(INTRO!$E$37=\"Non-endemic\",INTRO!$E$41=\"Non-endemic\"),\" \",IF(COUNTRY_INFO!C239=0,\" \",COUNTRY_INFO!C239))","v":"Hohoe"},{"$f":"IF(AND(INTRO!$E$37=\"Non-endemic\",INTRO!$E$41=\"Non-endemic\"),0,COUNTRY_INFO!V239)","v":0},{"$f":"IF(AND(INTRO!$E$37=\"Non-endemic\",INTRO!$E$41=\"Non-endemic\"),0,COUNTRY_INFO!X239)","v":0},{"$f":"IF(INTRO!$E$39=\"Non-endemic\",IF($D239=1,DEC!I239,0),IF($D239=1,IVM!G239,0))","v":0},null,{"$f":"IF(OR(COUNTRY_INFO!N239=\"Unknown\",COUNTRY_INFO!N239=\"Surveillance\",COUNTRY_INFO!N239=\"Not required\",COUNTRY_INFO!N239=0),0,IF(INTRO!$E$39=\"Non-endemic\",IF(AND($E239<>0,$G239=\"\"),IF($F239=0,COUNTRY_INFO!N239*$E239,COUNTRY_INFO!N239*($E239-$D239)),IF(AND($E239<>0,$G239<>0),IF($F239=0,COUNTRY_INFO!N239*$G239,COUNTRY_INFO!N239*($G239-$D239)),0)),IF($G239=\"\",COUNTRY_INFO!N239*$E239,COUNTRY_INFO!N239*$G239)))","v":0},{"$f":"IF(OR(COUNTRY_INFO!O239=\"Unknown\",COUNTRY_INFO!O239=\"Surveillance\",COUNTRY_INFO!O239=\"Not required\",COUNTRY_INFO!O239=0),0,IF($E239<>0, IF($F239=0,COUNTRY_INFO!O239*$E239,COUNTRY_INFO!O239*($E239-$D239)),COUNTRY_INFO!O239*$E239))","v":0},null,{"$f":"IF(OR(COUNTRY_INFO!P239=\"Unknown\",COUNTRY_INFO!P239=\"Surveillance\",COUNTRY_INFO!P239=\"Not required\",COUNTRY_INFO!P239=0),0,IF(AND($E239<>0,$J239=\"\"),IF($F239=0,COUNTRY_INFO!P239*$E239,COUNTRY_INFO!P239*($E239-$D239)), IF(AND($E239<>0,$J239<>0),IF($F239=0,COUNTRY_INFO!P239*$J239,COUNTRY_INFO!P239*($J239-$D239)), COUNTRY_INFO!P239*$J239)))","v":0},0,0,null,0,0,null,0,0,null,0]
[{"$f":"IF(AND(INTRO!$E$37=\"Non-endemic\",INTRO!$E$41=\"Non-endemic\"),\" \",IF(COUNTRY_INFO!A240=0,\" \",COUNTRY_INFO!A240))","v":"Ghana"},{"$f":"IF(AND(INTRO!$E$37=\"Non-endemic\",INTRO!$E$41=\"Non-endemic\"),\" \",IF(COUNTRY_INFO!B240=0,\" \",COUNTRY_INFO!B240))","v":"Volta"},{"$f":"IF(AND(INTRO!$E$37=\"Non-endemic\",INTRO!$E$41=\"Non-endemic\"),\" \",IF(COUNTRY_INFO!C240=0,\" \",COUNTRY_INFO!C240))","v":"Keta"},{"$f":"IF(AND(INTRO!$E$37=\"Non-endemic\",INTRO!$E$41=\"Non-endemic\"),0,COUNTRY_INFO!V240)","v":0},{"$f":"IF(AND(INTRO!$E$37=\"Non-endemic\",INTRO!$E$41=\"Non-endemic\"),0,COUNTRY_INFO!X240)","v":0},{"$f":"IF(INTRO!$E$39=\"Non-endemic\",IF($D240=1,DEC!I240,0),IF($D240=1,IVM!G240,0))","v":0},null,{"$f":"IF(OR(COUNTRY_INFO!N240=\"Unknown\",COUNTRY_INFO!N240=\"Surveillance\",COUNTRY_INFO!N240=\"Not required\",COUNTRY_INFO!N240=0),0,IF(INTRO!$E$39=\"Non-endemic\",IF(AND($E240<>0,$G240=\"\"),IF($F240=0,COUNTRY_INFO!N240*$E240,COUNTRY_INFO!N240*($E240-$D240)),IF(AND($E240<>0,$G240<>0),IF($F240=0,COUNTRY_INFO!N240*$G240,COUNTRY_INFO!N240*($G240-$D240)),0)),IF($G240=\"\",COUNTRY_INFO!N240*$E240,COUNTRY_INFO!N240*$G240)))","v":0},{"$f":"IF(OR(COUNTRY_INFO!O240=\"Unknown\",COUNTRY_INFO!O240=\"Surveillance\",COUNTRY_INFO!O240=\"Not required\",COUNTRY_INFO!O240=0),0,IF($E240<>0, IF($F240=0,COUNTRY_INFO!O240*$E240,COUNTRY_INFO!O240*($E240-$D240)),COUNTRY_INFO!O240*$E240))","v":0},null,{"$f":"IF(OR(COUNTRY_INFO!P240=\"Unknown\",COUNTRY_INFO!P240=\"Surveillance\",COUNTRY_INFO!P240=\"Not required\",COUNTRY_INFO!P240=0),0,IF(AND($E240<>0,$J240=\"\"),IF($F240=0,COUNTRY_INFO!P240*$E240,COUNTRY_INFO!P240*($E240-$D240)), IF(AND($E240<>0,$J240<>0),IF($F240=0,COUNTRY_INFO!P240*$J240,COUNTRY_INFO!P240*($J240-$D240)), COUNTRY_INFO!P240*$J240)))","v":0},0,0,null,0,0,null,0,0,null,0]
[{"$f":"IF(AND(INTRO!$E$37=\"Non-endemic\",INTRO!$E$41=\"Non-endemic\"),\" \",IF(COUNTRY_INFO!A241=0,\" \",COUNTRY_INFO!A241))","v":"Ghana"},{"$f":"IF(AND(INTRO!$E$37=\"Non-endemic\",INTRO!$E$41=\"Non-endemic\"),\" \",IF(COUNTRY_INFO!B241=0,\" \",COUNTRY_INFO!B241))","v":"Volta"},{"$f":"IF(AND(INTRO!$E$37=\"Non-endemic\",INTRO!$E$41=\"Non-endemic\"),\" \",IF(COUNTRY_INFO!C241=0,\" \",COUNTRY_INFO!C241))","v":"Ketu North"},{"$f":"IF(AND(INTRO!$E$37=\"Non-endemic\",INTRO!$E$41=\"Non-endemic\"),0,COUNTRY_INFO!V241)","v":0},{"$f":"IF(AND(INTRO!$E$37=\"Non-endemic\",INTRO!$E$41=\"Non-endemic\"),0,COUNTRY_INFO!X241)","v":0},{"$f":"IF(INTRO!$E$39=\"Non-endemic\",IF($D241=1,DEC!I241,0),IF($D241=1,IVM!G241,0))","v":0},null,{"$f":"IF(OR(COUNTRY_INFO!N241=\"Unknown\",COUNTRY_INFO!N241=\"Surveillance\",COUNTRY_INFO!N241=\"Not required\",COUNTRY_INFO!N241=0),0,IF(INTRO!$E$39=\"Non-endemic\",IF(AND($E241<>0,$G241=\"\"),IF($F241=0,COUNTRY_INFO!N241*$E241,COUNTRY_INFO!N241*($E241-$D241)),IF(AND($E241<>0,$G241<>0),IF($F241=0,COUNTRY_INFO!N241*$G241,COUNTRY_INFO!N241*($G241-$D241)),0)),IF($G241=\"\",COUNTRY_INFO!N241*$E241,COUNTRY_INFO!N241*$G241)))","v":0},{"$f":"IF(OR(COUNTRY_INFO!O241=\"Unknown\",COUNTRY_INFO!O241=\"Surveillance\",COUNTRY_INFO!O241=\"Not required\",COUNTRY_INFO!O241=0),0,IF($E241<>0, IF($F241=0,COUNTRY_INFO!O241*$E241,COUNTRY_INFO!O241*($E241-$D241)),COUNTRY_INFO!O241*$E241))","v":0},null,{"$f":"IF(OR(COUNTRY_INFO!P241=\"Unknown\",COUNTRY_INFO!P241=\"Surveillance\",COUNTRY_INFO!P241=\"Not required\",COUNTRY_INFO!P241=0),0,IF(AND($E241<>0,$J241=\"\"),IF($F241=0,COUNTRY_INFO!P241*$E241,COUNTRY_INFO!P241*($E241-$D241)), IF(AND($E241<>0,$J241<>0),IF($F241=0,COUNTRY_INFO!P241*$J241,COUNTRY_INFO!P241*($J241-$D241)), COUNTRY_INFO!P241*$J241)))","v":0},0,0,null,0,0,null,0,0,null,0]
[{"$f":"IF(AND(INTRO!$E$37=\"Non-endemic\",INTRO!$E$41=\"Non-endemic\"),\" \",IF(COUNTRY_INFO!A242=0,\" \",COUNTRY_INFO!A242))","v":"Ghana"},{"$f":"IF(AND(INTRO!$E$37=\"Non-endemic\",INTRO!$E$41=\"Non-endemic\"),\" \",IF(COUNTRY_INFO!B242=0,\" \",COUNTRY_INFO!B242))","v":"Volta"},{"$f":"IF(AND(INTRO!$E$37=\"Non-endemic\",INTRO!$E$41=\"Non-endemic\"),\" \",IF(COUNTRY_INFO!C242=0,\" \",COUNTRY_INFO!C242))","v":"Ketu South"},{"$f":"IF(AND(INTRO!$E$37=\"Non-endemic\",INTRO!$E$41=\"Non-endemic\"),0,COUNTRY_INFO!V242)","v":0},{"$f":"IF(AND(INTRO!$E$37=\"Non-endemic\",INTRO!$E$41=\"Non-endemic\"),0,COUNTRY_INFO!X242)","v":0},{"$f":"IF(INTRO!$E$39=\"Non-endemic\",IF($D242=1,DEC!I242,0),IF($D242=1,IVM!G242,0))","v":0},null,{"$f":"IF(OR(COUNTRY_INFO!N242=\"Unknown\",COUNTRY_INFO!N242=\"Surveillance\",COUNTRY_INFO!N242=\"Not required\",COUNTRY_INFO!N242=0),0,IF(INTRO!$E$39=\"Non-endemic\",IF(AND($E242<>0,$G242=\"\"),IF($F242=0,COUNTRY_INFO!N242*$E242,COUNTRY_INFO!N242*($E242-$D242)),IF(AND($E242<>0,$G242<>0),IF($F242=0,COUNTRY_INFO!N242*$G242,COUNTRY_INFO!N242*($G242-$D242)),0)),IF($G242=\"\",COUNTRY_INFO!N242*$E242,COUNTRY_INFO!N242*$G242)))","v":0},{"$f":"IF(OR(COUNTRY_INFO!O242=\"Unknown\",COUNTRY_INFO!O242=\"Surveillance\",COUNTRY_INFO!O242=\"Not required\",COUNTRY_INFO!O242=0),0,IF($E242<>0, IF($F242=0,COUNTRY_INFO!O242*$E242,COUNTRY_INFO!O242*($E242-$D242)),COUNTRY_INFO!O242*$E242))","v":0},null,{"$f":"IF(OR(COUNTRY_INFO!P242=\"Unknown\",COUNTRY_INFO!P242=\"Surveillance\",COUNTRY_INFO!P242=\"Not required\",COUNTRY_INFO!P242=0),0,IF(AND($E242<>0,$J242=\"\"),IF($F242=0,COUNTRY_INFO!P242*$E242,COUNTRY_INFO!P242*($E242-$D242)), IF(AND($E242<>0,$J242<>0),IF($F242=0,COUNTRY_INFO!P242*$J242,COUNTRY_INFO!P242*($J242-$D242)), COUNTRY_INFO!P242*$J242)))","v":0},0,0,null,0,0,null,0,0,null,0]
[{"$f":"IF(AND(INTRO!$E$37=\"Non-endemic\",INTRO!$E$41=\"Non-endemic\"),\" \",IF(COUNTRY_INFO!A243=0,\" \",COUNTRY_INFO!A243))","v":"Ghana"},{"$f":"IF(AND(INTRO!$E$37=\"Non-endemic\",INTRO!$E$41=\"Non-endemic\"),\" \",IF(COUNTRY_INFO!B243=0,\" \",COUNTRY_INFO!B243))","v":"Volta"},{"$f":"IF(AND(INTRO!$E$37=\"Non-endemic\",INTRO!$E$41=\"Non-endemic\"),\" \",IF(COUNTRY_INFO!C243=0,\" \",COUNTRY_INFO!C243))","v":"Kpando"},{"$f":"IF(AND(INTRO!$E$37=\"Non-endemic\",INTRO!$E$41=\"Non-endemic\"),0,COUNTRY_INFO!V243)","v":0},{"$f":"IF(AND(INTRO!$E$37=\"Non-endemic\",INTRO!$E$41=\"Non-endemic\"),0,COUNTRY_INFO!X243)","v":0},{"$f":"IF(INTRO!$E$39=\"Non-endemic\",IF($D243=1,DEC!I243,0),IF($D243=1,IVM!G243,0))","v":0},null,{"$f":"IF(OR(COUNTRY_INFO!N243=\"Unknown\",COUNTRY_INFO!N243=\"Surveillance\",COUNTRY_INFO!N243=\"Not required\",COUNTRY_INFO!N243=0),0,IF(INTRO!$E$39=\"Non-endemic\",IF(AND($E243<>0,$G243=\"\"),IF($F243=0,COUNTRY_INFO!N243*$E243,COUNTRY_INFO!N243*($E243-$D243)),IF(AND($E243<>0,$G243<>0),IF($F243=0,COUNTRY_INFO!N243*$G243,COUNTRY_INFO!N243*($G243-$D243)),0)),IF($G243=\"\",COUNTRY_INFO!N243*$E243,COUNTRY_INFO!N243*$G243)))","v":0},{"$f":"IF(OR(COUNTRY_INFO!O243=\"Unknown\",COUNTRY_INFO!O243=\"Surveillance\",COUNTRY_INFO!O243=\"Not required\",COUNTRY_INFO!O243=0),0,IF($E243<>0, IF($F243=0,COUNTRY_INFO!O243*$E243,COUNTRY_INFO!O243*($E243-$D243)),COUNTRY_INFO!O243*$E243))","v":0},null,{"$f":"IF(OR(COUNTRY_INFO!P243=\"Unknown\",COUNTRY_INFO!P243=\"Surveillance\",COUNTRY_INFO!P243=\"Not required\",COUNTRY_INFO!P243=0),0,IF(AND($E243<>0,$J243=\"\"),IF($F243=0,COUNTRY_INFO!P243*$E243,COUNTRY_INFO!P243*($E243-$D243)), IF(AND($E243<>0,$J243<>0),IF($F243=0,COUNTRY_INFO!P243*$J243,COUNTRY_INFO!P243*($J243-$D243)), COUNTRY_INFO!P243*$J243)))","v":0},0,0,null,0,0,null,0,0,null,0]
[{"$f":"IF(AND(INTRO!$E$37=\"Non-endemic\",INTRO!$E$41=\"Non-endemic\"),\" \",IF(COUNTRY_INFO!A244=0,\" \",COUNTRY_INFO!A244))","v":"Ghana"},{"$f":"IF(AND(INTRO!$E$37=\"Non-endemic\",INTRO!$E$41=\"Non-endemic\"),\" \",IF(COUNTRY_INFO!B244=0,\" \",COUNTRY_INFO!B244))","v":"Volta"},{"$f":"IF(AND(INTRO!$E$37=\"Non-endemic\",INTRO!$E$41=\"Non-endemic\"),\" \",IF(COUNTRY_INFO!C244=0,\" \",COUNTRY_INFO!C244))","v":"North Dayi"},{"$f":"IF(AND(INTRO!$E$37=\"Non-endemic\",INTRO!$E$41=\"Non-endemic\"),0,COUNTRY_INFO!V244)","v":0},{"$f":"IF(AND(INTRO!$E$37=\"Non-endemic\",INTRO!$E$41=\"Non-endemic\"),0,COUNTRY_INFO!X244)","v":0},{"$f":"IF(INTRO!$E$39=\"Non-endemic\",IF($D244=1,DEC!I244,0),IF($D244=1,IVM!G244,0))","v":0},null,{"$f":"IF(OR(COUNTRY_INFO!N244=\"Unknown\",COUNTRY_INFO!N244=\"Surveillance\",COUNTRY_INFO!N244=\"Not required\",COUNTRY_INFO!N244=0),0,IF(INTRO!$E$39=\"Non-endemic\",IF(AND($E244<>0,$G244=\"\"),IF($F244=0,COUNTRY_INFO!N244*$E244,COUNTRY_INFO!N244*($E244-$D244)),IF(AND($E244<>0,$G244<>0),IF($F244=0,COUNTRY_INFO!N244*$G244,COUNTRY_INFO!N244*($G244-$D244)),0)),IF($G244=\"\",COUNTRY_INFO!N244*$E244,COUNTRY_INFO!N244*$G244)))","v":0},{"$f":"IF(OR(COUNTRY_INFO!O244=\"Unknown\",COUNTRY_INFO!O244=\"Surveillance\",COUNTRY_INFO!O244=\"Not required\",COUNTRY_INFO!O244=0),0,IF($E244<>0, IF($F244=0,COUNTRY_INFO!O244*$E244,COUNTRY_INFO!O244*($E244-$D244)),COUNTRY_INFO!O244*$E244))","v":0},null,{"$f":"IF(OR(COUNTRY_INFO!P244=\"Unknown\",COUNTRY_INFO!P244=\"Surveillance\",COUNTRY_INFO!P244=\"Not required\",COUNTRY_INFO!P244=0),0,IF(AND($E244<>0,$J244=\"\"),IF($F244=0,COUNTRY_INFO!P244*$E244,COUNTRY_INFO!P244*($E244-$D244)), IF(AND($E244<>0,$J244<>0),IF($F244=0,COUNTRY_INFO!P244*$J244,COUNTRY_INFO!P244*($J244-$D244)), COUNTRY_INFO!P244*$J244)))","v":0},0,0,null,0,0,null,0,0,null,0]
[{"$f":"IF(AND(INTRO!$E$37=\"Non-endemic\",INTRO!$E$41=\"Non-endemic\"),\" \",IF(COUNTRY_INFO!A245=0,\" \",COUNTRY_INFO!A245))","v":"Ghana"},{"$f":"IF(AND(INTRO!$E$37=\"Non-endemic\",INTRO!$E$41=\"Non-endemic\"),\" \",IF(COUNTRY_INFO!B245=0,\" \",COUNTRY_INFO!B245))","v":"Volta"},{"$f":"IF(AND(INTRO!$E$37=\"Non-endemic\",INTRO!$E$41=\"Non-endemic\"),\" \",IF(COUNTRY_INFO!C245=0,\" \",COUNTRY_INFO!C245))","v":"North Tongu"},{"$f":"IF(AND(INTRO!$E$37=\"Non-endemic\",INTRO!$E$41=\"Non-endemic\"),0,COUNTRY_INFO!V245)","v":0},{"$f":"IF(AND(INTRO!$E$37=\"Non-endemic\",INTRO!$E$41=\"Non-endemic\"),0,COUNTRY_INFO!X245)","v":0},{"$f":"IF(INTRO!$E$39=\"Non-endemic\",IF($D245=1,DEC!I245,0),IF($D245=1,IVM!G245,0))","v":0},null,{"$f":"IF(OR(COUNTRY_INFO!N245=\"Unknown\",COUNTRY_INFO!N245=\"Surveillance\",COUNTRY_INFO!N245=\"Not required\",COUNTRY_INFO!N245=0),0,IF(INTRO!$E$39=\"Non-endemic\",IF(AND($E245<>0,$G245=\"\"),IF($F245=0,COUNTRY_INFO!N245*$E245,COUNTRY_INFO!N245*($E245-$D245)),IF(AND($E245<>0,$G245<>0),IF($F245=0,COUNTRY_INFO!N245*$G245,COUNTRY_INFO!N245*($G245-$D245)),0)),IF($G245=\"\",COUNTRY_INFO!N245*$E245,COUNTRY_INFO!N245*$G245)))","v":0},{"$f":"IF(OR(COUNTRY_INFO!O245=\"Unknown\",COUNTRY_INFO!O245=\"Surveillance\",COUNTRY_INFO!O245=\"Not required\",COUNTRY_INFO!O245=0),0,IF($E245<>0, IF($F245=0,COUNTRY_INFO!O245*$E245,COUNTRY_INFO!O245*($E245-$D245)),COUNTRY_INFO!O245*$E245))","v":0},null,{"$f":"IF(OR(COUNTRY_INFO!P245=\"Unknown\",COUNTRY_INFO!P245=\"Surveillance\",COUNTRY_INFO!P245=\"Not required\",COUNTRY_INFO!P245=0),0,IF(AND($E245<>0,$J245=\"\"),IF($F245=0,COUNTRY_INFO!P245*$E245,COUNTRY_INFO!P245*($E245-$D245)), IF(AND($E245<>0,$J245<>0),IF($F245=0,COUNTRY_INFO!P245*$J245,COUNTRY_INFO!P245*($J245-$D245)), COUNTRY_INFO!P245*$J245)))","v":0},0,0,null,0,0,null,0,0,null,0]
[{"$f":"IF(AND(INTRO!$E$37=\"Non-endemic\",INTRO!$E$41=\"Non-endemic\"),\" \",IF(COUNTRY_INFO!A246=0,\" \",COUNTRY_INFO!A246))","v":"Ghana"},{"$f":"IF(AND(INTRO!$E$37=\"Non-endemic\",INTRO!$E$41=\"Non-endemic\"),\" \",IF(COUNTRY_INFO!B246=0,\" \",COUNTRY_INFO!B246))","v":"Volta"},{"$f":"IF(AND(INTRO!$E$37=\"Non-endemic\",INTRO!$E$41=\"Non-endemic\"),\" \",IF(COUNTRY_INFO!C246=0,\" \",COUNTRY_INFO!C246))","v":"South Dayi"},{"$f":"IF(AND(INTRO!$E$37=\"Non-endemic\",INTRO!$E$41=\"Non-endemic\"),0,COUNTRY_INFO!V246)","v":0},{"$f":"IF(AND(INTRO!$E$37=\"Non-endemic\",INTRO!$E$41=\"Non-endemic\"),0,COUNTRY_INFO!X246)","v":0},{"$f":"IF(INTRO!$E$39=\"Non-endemic\",IF($D246=1,DEC!I246,0),IF($D246=1,IVM!G246,0))","v":0},null,{"$f":"IF(OR(COUNTRY_INFO!N246=\"Unknown\",COUNTRY_INFO!N246=\"Surveillance\",COUNTRY_INFO!N246=\"Not required\",COUNTRY_INFO!N246=0),0,IF(INTRO!$E$39=\"Non-endemic\",IF(AND($E246<>0,$G246=\"\"),IF($F246=0,COUNTRY_INFO!N246*$E246,COUNTRY_INFO!N246*($E246-$D246)),IF(AND($E246<>0,$G246<>0),IF($F246=0,COUNTRY_INFO!N246*$G246,COUNTRY_INFO!N246*($G246-$D246)),0)),IF($G246=\"\",COUNTRY_INFO!N246*$E246,COUNTRY_INFO!N246*$G246)))","v":0},{"$f":"IF(OR(COUNTRY_INFO!O246=\"Unknown\",COUNTRY_INFO!O246=\"Surveillance\",COUNTRY_INFO!O246=\"Not required\",COUNTRY_INFO!O246=0),0,IF($E246<>0, IF($F246=0,COUNTRY_INFO!O246*$E246,COUNTRY_INFO!O246*($E246-$D246)),COUNTRY_INFO!O246*$E246))","v":0},null,{"$f":"IF(OR(COUNTRY_INFO!P246=\"Unknown\",COUNTRY_INFO!P246=\"Surveillance\",COUNTRY_INFO!P246=\"Not required\",COUNTRY_INFO!P246=0),0,IF(AND($E246<>0,$J246=\"\"),IF($F246=0,COUNTRY_INFO!P246*$E246,COUNTRY_INFO!P246*($E246-$D246)), IF(AND($E246<>0,$J246<>0),IF($F246=0,COUNTRY_INFO!P246*$J246,COUNTRY_INFO!P246*($J246-$D246)), COUNTRY_INFO!P246*$J246)))","v":0},0,0,null,0,0,null,0,0,null,0]
[{"$f":"IF(AND(INTRO!$E$37=\"Non-endemic\",INTRO!$E$41=\"Non-endemic\"),\" \",IF(COUNTRY_INFO!A247=0,\" \",COUNTRY_INFO!A247))","v":"Ghana"},{"$f":"IF(AND(INTRO!$E$37=\"Non-endemic\",INTRO!$E$41=\"Non-endemic\"),\" \",IF(COUNTRY_INFO!B247=0,\" \",COUNTRY_INFO!B247))","v":"Volta"},{"$f":"IF(AND(INTRO!$E$37=\"Non-endemic\",INTRO!$E$41=\"Non-endemic\"),\" \",IF(COUNTRY_INFO!C247=0,\" \",COUNTRY_INFO!C247))","v":"South Tongu"},{"$f":"IF(AND(INTRO!$E$37=\"Non-endemic\",INTRO!$E$41=\"Non-endemic\"),0,COUNTRY_INFO!V247)","v":0},{"$f":"IF(AND(INTRO!$E$37=\"Non-endemic\",INTRO!$E$41=\"Non-endemic\"),0,COUNTRY_INFO!X247)","v":0},{"$f":"IF(INTRO!$E$39=\"Non-endemic\",IF($D247=1,DEC!I247,0),IF($D247=1,IVM!G247,0))","v":0},null,{"$f":"IF(OR(COUNTRY_INFO!N247=\"Unknown\",COUNTRY_INFO!N247=\"Surveillance\",COUNTRY_INFO!N247=\"Not required\",COUNTRY_INFO!N247=0),0,IF(INTRO!$E$39=\"Non-endemic\",IF(AND($E247<>0,$G247=\"\"),IF($F247=0,COUNTRY_INFO!N247*$E247,COUNTRY_INFO!N247*($E247-$D247)),IF(AND($E247<>0,$G247<>0),IF($F247=0,COUNTRY_INFO!N247*$G247,COUNTRY_INFO!N247*($G247-$D247)),0)),IF($G247=\"\",COUNTRY_INFO!N247*$E247,COUNTRY_INFO!N247*$G247)))","v":0},{"$f":"IF(OR(COUNTRY_INFO!O247=\"Unknown\",COUNTRY_INFO!O247=\"Surveillance\",COUNTRY_INFO!O247=\"Not required\",COUNTRY_INFO!O247=0),0,IF($E247<>0, IF($F247=0,COUNTRY_INFO!O247*$E247,COUNTRY_INFO!O247*($E247-$D247)),COUNTRY_INFO!O247*$E247))","v":0},null,{"$f":"IF(OR(COUNTRY_INFO!P247=\"Unknown\",COUNTRY_INFO!P247=\"Surveillance\",COUNTRY_INFO!P247=\"Not required\",COUNTRY_INFO!P247=0),0,IF(AND($E247<>0,$J247=\"\"),IF($F247=0,COUNTRY_INFO!P247*$E247,COUNTRY_INFO!P247*($E247-$D247)), IF(AND($E247<>0,$J247<>0),IF($F247=0,COUNTRY_INFO!P247*$J247,COUNTRY_INFO!P247*($J247-$D247)), COUNTRY_INFO!P247*$J247)))","v":0},0,0,null,0,0,null,0,0,null,0]
[{"$f":"IF(AND(INTRO!$E$37=\"Non-endemic\",INTRO!$E$41=\"Non-endemic\"),\" \",IF(COUNTRY_INFO!A248=0,\" \",COUNTRY_INFO!A248))","v":"Ghana"},{"$f":"IF(AND(INTRO!$E$37=\"Non-endemic\",INTRO!$E$41=\"Non-endemic\"),\" \",IF(COUNTRY_INFO!B248=0,\" \",COUNTRY_INFO!B248))","v":"Western"},{"$f":"IF(AND(INTRO!$E$37=\"Non-endemic\",INTRO!$E$41=\"Non-endemic\"),\" \",IF(COUNTRY_INFO!C248=0,\" \",COUNTRY_INFO!C248))","v":"Ahanta West"},{"$f":"IF(AND(INTRO!$E$37=\"Non-endemic\",INTRO!$E$41=\"Non-endemic\"),0,COUNTRY_INFO!V248)","v":0},{"$f":"IF(AND(INTRO!$E$37=\"Non-endemic\",INTRO!$E$41=\"Non-endemic\"),0,COUNTRY_INFO!X248)","v":0},{"$f":"IF(INTRO!$E$39=\"Non-endemic\",IF($D248=1,DEC!I248,0),IF($D248=1,IVM!G248,0))","v":0},null,{"$f":"IF(OR(COUNTRY_INFO!N248=\"Unknown\",COUNTRY_INFO!N248=\"Surveillance\",COUNTRY_INFO!N248=\"Not required\",COUNTRY_INFO!N248=0),0,IF(INTRO!$E$39=\"Non-endemic\",IF(AND($E248<>0,$G248=\"\"),IF($F248=0,COUNTRY_INFO!N248*$E248,COUNTRY_INFO!N248*($E248-$D248)),IF(AND($E248<>0,$G248<>0),IF($F248=0,COUNTRY_INFO!N248*$G248,COUNTRY_INFO!N248*($G248-$D248)),0)),IF($G248=\"\",COUNTRY_INFO!N248*$E248,COUNTRY_INFO!N248*$G248)))","v":0},{"$f":"IF(OR(COUNTRY_INFO!O248=\"Unknown\",COUNTRY_INFO!O248=\"Surveillance\",COUNTRY_INFO!O248=\"Not required\",COUNTRY_INFO!O248=0),0,IF($E248<>0, IF($F248=0,COUNTRY_INFO!O248*$E248,COUNTRY_INFO!O248*($E248-$D248)),COUNTRY_INFO!O248*$E248))","v":0},null,{"$f":"IF(OR(COUNTRY_INFO!P248=\"Unknown\",COUNTRY_INFO!P248=\"Surveillance\",COUNTRY_INFO!P248=\"Not required\",COUNTRY_INFO!P248=0),0,IF(AND($E248<>0,$J248=\"\"),IF($F248=0,COUNTRY_INFO!P248*$E248,COUNTRY_INFO!P248*($E248-$D248)), IF(AND($E248<>0,$J248<>0),IF($F248=0,COUNTRY_INFO!P248*$J248,COUNTRY_INFO!P248*($J248-$D248)), COUNTRY_INFO!P248*$J248)))","v":0},0,0,null,0,0,null,0,0,null,0]
[{"$f":"IF(AND(INTRO!$E$37=\"Non-endemic\",INTRO!$E$41=\"Non-endemic\"),\" \",IF(COUNTRY_INFO!A249=0,\" \",COUNTRY_INFO!A249))","v":"Ghana"},{"$f":"IF(AND(INTRO!$E$37=\"Non-endemic\",INTRO!$E$41=\"Non-endemic\"),\" \",IF(COUNTRY_INFO!B249=0,\" \",COUNTRY_INFO!B249))","v":"Western"},{"$f":"IF(AND(INTRO!$E$37=\"Non-endemic\",INTRO!$E$41=\"Non-endemic\"),\" \",IF(COUNTRY_INFO!C249=0,\" \",COUNTRY_INFO!C249))","v":"Effia-Kwesimintsim"},{"$f":"IF(AND(INTRO!$E$37=\"Non-endemic\",INTRO!$E$41=\"Non-endemic\"),0,COUNTRY_INFO!V249)","v":0},{"$f":"IF(AND(INTRO!$E$37=\"Non-endemic\",INTRO!$E$41=\"Non-endemic\"),0,COUNTRY_INFO!X249)","v":0},{"$f":"IF(INTRO!$E$39=\"Non-endemic\",IF($D249=1,DEC!I249,0),IF($D249=1,IVM!G249,0))","v":0},null,{"$f":"IF(OR(COUNTRY_INFO!N249=\"Unknown\",COUNTRY_INFO!N249=\"Surveillance\",COUNTRY_INFO!N249=\"Not required\",COUNTRY_INFO!N249=0),0,IF(INTRO!$E$39=\"Non-endemic\",IF(AND($E249<>0,$G249=\"\"),IF($F249=0,COUNTRY_INFO!N249*$E249,COUNTRY_INFO!N249*($E249-$D249)),IF(AND($E249<>0,$G249<>0),IF($F249=0,COUNTRY_INFO!N249*$G249,COUNTRY_INFO!N249*($G249-$D249)),0)),IF($G249=\"\",COUNTRY_INFO!N249*$E249,COUNTRY_INFO!N249*$G249)))","v":0},{"$f":"IF(OR(COUNTRY_INFO!O249=\"Unknown\",COUNTRY_INFO!O249=\"Surveillance\",COUNTRY_INFO!O249=\"Not required\",COUNTRY_INFO!O249=0),0,IF($E249<>0, IF($F249=0,COUNTRY_INFO!O249*$E249,COUNTRY_INFO!O249*($E249-$D249)),COUNTRY_INFO!O249*$E249))","v":0},null,{"$f":"IF(OR(COUNTRY_INFO!P249=\"Unknown\",COUNTRY_INFO!P249=\"Surveillance\",COUNTRY_INFO!P249=\"Not required\",COUNTRY_INFO!P249=0),0,IF(AND($E249<>0,$J249=\"\"),IF($F249=0,COUNTRY_INFO!P249*$E249,COUNTRY_INFO!P249*($E249-$D249)), IF(AND($E249<>0,$J249<>0),IF($F249=0,COUNTRY_INFO!P249*$J249,COUNTRY_INFO!P249*($J249-$D249)), COUNTRY_INFO!P249*$J249)))","v":0},0,0,null,0,0,null,0,0,null,0]
[{"$f":"IF(AND(INTRO!$E$37=\"Non-endemic\",INTRO!$E$41=\"Non-endemic\"),\" \",IF(COUNTRY_INFO!A250=0,\" \",COUNTRY_INFO!A250))","v":"Ghana"},{"$f":"IF(AND(INTRO!$E$37=\"Non-endemic\",INTRO!$E$41=\"Non-endemic\"),\" \",IF(COUNTRY_INFO!B250=0,\" \",COUNTRY_INFO!B250))","v":"Western"},{"$f":"IF(AND(INTRO!$E$37=\"Non-endemic\",INTRO!$E$41=\"Non-endemic\"),\" \",IF(COUNTRY_INFO!C250=0,\" \",COUNTRY_INFO!C250))","v":"Ellembelle"},{"$f":"IF(AND(INTRO!$E$37=\"Non-endemic\",INTRO!$E$41=\"Non-endemic\"),0,COUNTRY_INFO!V250)","v":1},{"$f":"IF(AND(INTRO!$E$37=\"Non-endemic\",INTRO!$E$41=\"Non-endemic\"),0,COUNTRY_INFO!X250)","v":0},{"$f":"IF(INTRO!$E$39=\"Non-endemic\",IF($D250=1,DEC!I250,0),IF($D250=1,IVM!G250,0))","v":112943},null,{"$f":"IF(OR(COUNTRY_INFO!N250=\"Unknown\",COUNTRY_INFO!N250=\"Surveillance\",COUNTRY_INFO!N250=\"Not required\",COUNTRY_INFO!N250=0),0,IF(INTRO!$E$39=\"Non-endemic\",IF(AND($E250<>0,$G250=\"\"),IF($F250=0,COUNTRY_INFO!N250*$E250,COUNTRY_INFO!N250*($E250-$D250)),IF(AND($E250<>0,$G250<>0),IF($F250=0,COUNTRY_INFO!N250*$G250,COUNTRY_INFO!N250*($G250-$D250)),0)),IF($G250=\"\",COUNTRY_INFO!N250*$E250,COUNTRY_INFO!N250*$G250)))","v":0},{"$f":"IF(OR(COUNTRY_INFO!O250=\"Unknown\",COUNTRY_INFO!O250=\"Surveillance\",COUNTRY_INFO!O250=\"Not required\",COUNTRY_INFO!O250=0),0,IF($E250<>0, IF($F250=0,COUNTRY_INFO!O250*$E250,COUNTRY_INFO!O250*($E250-$D250)),COUNTRY_INFO!O250*$E250))","v":0},null,{"$f":"IF(OR(COUNTRY_INFO!P250=\"Unknown\",COUNTRY_INFO!P250=\"Surveillance\",COUNTRY_INFO!P250=\"Not required\",COUNTRY_INFO!P250=0),0,IF(AND($E250<>0,$J250=\"\"),IF($F250=0,COUNTRY_INFO!P250*$E250,COUNTRY_INFO!P250*($E250-$D250)), IF(AND($E250<>0,$J250<>0),IF($F250=0,COUNTRY_INFO!P250*$J250,COUNTRY_INFO!P250*($J250-$D250)), COUNTRY_INFO!P250*$J250)))","v":0},0,112943,null,112943,0,null,0,0,null,0]
[{"$f":"IF(AND(INTRO!$E$37=\"Non-endemic\",INTRO!$E$41=\"Non-endemic\"),\" \",IF(COUNTRY_INFO!A251=0,\" \",COUNTRY_INFO!A251))","v":"Ghana"},{"$f":"IF(AND(INTRO!$E$37=\"Non-endemic\",INTRO!$E$41=\"Non-endemic\"),\" \",IF(COUNTRY_INFO!B251=0,\" \",COUNTRY_INFO!B251))","v":"Western"},{"$f":"IF(AND(INTRO!$E$37=\"Non-endemic\",INTRO!$E$41=\"Non-endemic\"),\" \",IF(COUNTRY_INFO!C251=0,\" \",COUNTRY_INFO!C251))","v":"Jomoro"},{"$f":"IF(AND(INTRO!$E$37=\"Non-endemic\",INTRO!$E$41=\"Non-endemic\"),0,COUNTRY_INFO!V251)","v":0},{"$f":"IF(AND(INTRO!$E$37=\"Non-endemic\",INTRO!$E$41=\"Non-endemic\"),0,COUNTRY_INFO!X251)","v":0},{"$f":"IF(INTRO!$E$39=\"Non-endemic\",IF($D251=1,DEC!I251,0),IF($D251=1,IVM!G251,0))","v":0},null,{"$f":"IF(OR(COUNTRY_INFO!N251=\"Unknown\",COUNTRY_INFO!N251=\"Surveillance\",COUNTRY_INFO!N251=\"Not required\",COUNTRY_INFO!N251=0),0,IF(INTRO!$E$39=\"Non-endemic\",IF(AND($E251<>0,$G251=\"\"),IF($F251=0,COUNTRY_INFO!N251*$E251,COUNTRY_INFO!N251*($E251-$D251)),IF(AND($E251<>0,$G251<>0),IF($F251=0,COUNTRY_INFO!N251*$G251,COUNTRY_INFO!N251*($G251-$D251)),0)),IF($G251=\"\",COUNTRY_INFO!N251*$E251,COUNTRY_INFO!N251*$G251)))","v":0},{"$f":"IF(OR(COUNTRY_INFO!O251=\"Unknown\",COUNTRY_INFO!O251=\"Surveillance\",COUNTRY_INFO!O251=\"Not required\",COUNTRY_INFO!O251=0),0,IF($E251<>0, IF($F251=0,COUNTRY_INFO!O251*$E251,COUNTRY_INFO!O251*($E251-$D251)),COUNTRY_INFO!O251*$E251))","v":0},null,{"$f":"IF(OR(COUNTRY_INFO!P251=\"Unknown\",COUNTRY_INFO!P251=\"Surveillance\",COUNTRY_INFO!P251=\"Not required\",COUNTRY_INFO!P251=0),0,IF(AND($E251<>0,$J251=\"\"),IF($F251=0,COUNTRY_INFO!P251*$E251,COUNTRY_INFO!P251*($E251-$D251)), IF(AND($E251<>0,$J251<>0),IF($F251=0,COUNTRY_INFO!P251*$J251,COUNTRY_INFO!P251*($J251-$D251)), COUNTRY_INFO!P251*$J251)))","v":0},0,0,null,0,0,null,0,0,null,0]
[{"$f":"IF(AND(INTRO!$E$37=\"Non-endemic\",INTRO!$E$41=\"Non-endemic\"),\" \",IF(COUNTRY_INFO!A252=0,\" \",COUNTRY_INFO!A252))","v":"Ghana"},{"$f":"IF(AND(INTRO!$E$37=\"Non-endemic\",INTRO!$E$41=\"Non-endemic\"),\" \",IF(COUNTRY_INFO!B252=0,\" \",COUNTRY_INFO!B252))","v":"Western"},{"$f":"IF(AND(INTRO!$E$37=\"Non-endemic\",INTRO!$E$41=\"Non-endemic\"),\" \",IF(COUNTRY_INFO!C252=0,\" \",COUNTRY_INFO!C252))","v":"Mpohor"},{"$f":"IF(AND(INTRO!$E$37=\"Non-endemic\",INTRO!$E$41=\"Non-endemic\"),0,COUNTRY_INFO!V252)","v":0},{"$f":"IF(AND(INTRO!$E$37=\"Non-endemic\",INTRO!$E$41=\"Non-endemic\"),0,COUNTRY_INFO!X252)","v":0},{"$f":"IF(INTRO!$E$39=\"Non-endemic\",IF($D252=1,DEC!I252,0),IF($D252=1,IVM!G252,0))","v":0},null,{"$f":"IF(OR(COUNTRY_INFO!N252=\"Unknown\",COUNTRY_INFO!N252=\"Surveillance\",COUNTRY_INFO!N252=\"Not required\",COUNTRY_INFO!N252=0),0,IF(INTRO!$E$39=\"Non-endemic\",IF(AND($E252<>0,$G252=\"\"),IF($F252=0,COUNTRY_INFO!N252*$E252,COUNTRY_INFO!N252*($E252-$D252)),IF(AND($E252<>0,$G252<>0),IF($F252=0,COUNTRY_INFO!N252*$G252,COUNTRY_INFO!N252*($G252-$D252)),0)),IF($G252=\"\",COUNTRY_INFO!N252*$E252,COUNTRY_INFO!N252*$G252)))","v":0},{"$f":"IF(OR(COUNTRY_INFO!O252=\"Unknown\",COUNTRY_INFO!O252=\"Surveillance\",COUNTRY_INFO!O252=\"Not required\",COUNTRY_INFO!O252=0),0,IF($E252<>0, IF($F252=0,COUNTRY_INFO!O252*$E252,COUNTRY_INFO!O252*($E252-$D252)),COUNTRY_INFO!O252*$E252))","v":0},null,{"$f":"IF(OR(COUNTRY_INFO!P252=\"Unknown\",COUNTRY_INFO!P252=\"Surveillance\",COUNTRY_INFO!P252=\"Not required\",COUNTRY_INFO!P252=0),0,IF(AND($E252<>0,$J252=\"\"),IF($F252=0,COUNTRY_INFO!P252*$E252,COUNTRY_INFO!P252*($E252-$D252)), IF(AND($E252<>0,$J252<>0),IF($F252=0,COUNTRY_INFO!P252*$J252,COUNTRY_INFO!P252*($J252-$D252)), COUNTRY_INFO!P252*$J252)))","v":0},0,0,null,0,0,null,0,0,null,0]
[{"$f":"IF(AND(INTRO!$E$37=\"Non-endemic\",INTRO!$E$41=\"Non-endemic\"),\" \",IF(COUNTRY_INFO!A253=0,\" \",COUNTRY_INFO!A253))","v":"Ghana"},{"$f":"IF(AND(INTRO!$E$37=\"Non-endemic\",INTRO!$E$41=\"Non-endemic\"),\" \",IF(COUNTRY_INFO!B253=0,\" \",COUNTRY_INFO!B253))","v":"Western"},{"$f":"IF(AND(INTRO!$E$37=\"Non-endemic\",INTRO!$E$41=\"Non-endemic\"),\" \",IF(COUNTRY_INFO!C253=0,\" \",COUNTRY_INFO!C253))","v":"Nzema East"},{"$f":"IF(AND(INTRO!$E$37=\"Non-endemic\",INTRO!$E$41=\"Non-endemic\"),0,COUNTRY_INFO!V253)","v":0},{"$f":"IF(AND(INTRO!$E$37=\"Non-endemic\",INTRO!$E$41=\"Non-endemic\"),0,COUNTRY_INFO!X253)","v":0},{"$f":"IF(INTRO!$E$39=\"Non-endemic\",IF($D253=1,DEC!I253,0),IF($D253=1,IVM!G253,0))","v":0},null,{"$f":"IF(OR(COUNTRY_INFO!N253=\"Unknown\",COUNTRY_INFO!N253=\"Surveillance\",COUNTRY_INFO!N253=\"Not required\",COUNTRY_INFO!N253=0),0,IF(INTRO!$E$39=\"Non-endemic\",IF(AND($E253<>0,$G253=\"\"),IF($F253=0,COUNTRY_INFO!N253*$E253,COUNTRY_INFO!N253*($E253-$D253)),IF(AND($E253<>0,$G253<>0),IF($F253=0,COUNTRY_INFO!N253*$G253,COUNTRY_INFO!N253*($G253-$D253)),0)),IF($G253=\"\",COUNTRY_INFO!N253*$E253,COUNTRY_INFO!N253*$G253)))","v":0},{"$f":"IF(OR(COUNTRY_INFO!O253=\"Unknown\",COUNTRY_INFO!O253=\"Surveillance\",COUNTRY_INFO!O253=\"Not required\",COUNTRY_INFO!O253=0),0,IF($E253<>0, IF($F253=0,COUNTRY_INFO!O253*$E253,COUNTRY_INFO!O253*($E253-$D253)),COUNTRY_INFO!O253*$E253))","v":0},null,{"$f":"IF(OR(COUNTRY_INFO!P253=\"Unknown\",COUNTRY_INFO!P253=\"Surveillance\",COUNTRY_INFO!P253=\"Not required\",COUNTRY_INFO!P253=0),0,IF(AND($E253<>0,$J253=\"\"),IF($F253=0,COUNTRY_INFO!P253*$E253,COUNTRY_INFO!P253*($E253-$D253)), IF(AND($E253<>0,$J253<>0),IF($F253=0,COUNTRY_INFO!P253*$J253,COUNTRY_INFO!P253*($J253-$D253)), COUNTRY_INFO!P253*$J253)))","v":0},0,0,null,0,0,null,0,0,null,0]
[{"$f":"IF(AND(INTRO!$E$37=\"Non-endemic\",INTRO!$E$41=\"Non-endemic\"),\" \",IF(COUNTRY_INFO!A254=0,\" \",COUNTRY_INFO!A254))","v":"Ghana"},{"$f":"IF(AND(INTRO!$E$37=\"Non-endemic\",INTRO!$E$41=\"Non-endemic\"),\" \",IF(COUNTRY_INFO!B254=0,\" \",COUNTRY_INFO!B254))","v":"Western"},{"$f":"IF(AND(INTRO!$E$37=\"Non-endemic\",INTRO!$E$41=\"Non-endemic\"),\" \",IF(COUNTRY_INFO!C254=0,\" \",COUNTRY_INFO!C254))","v":"Prestea-Huni Valley"},{"$f":"IF(AND(INTRO!$E$37=\"Non-endemic\",INTRO!$E$41=\"Non-endemic\"),0,COUNTRY_INFO!V254)","v":0},{"$f":"IF(AND(INTRO!$E$37=\"Non-endemic\",INTRO!$E$41=\"Non-endemic\"),0,COUNTRY_INFO!X254)","v":0},{"$f":"IF(INTRO!$E$39=\"Non-endemic\",IF($D254=1,DEC!I254,0),IF($D254=1,IVM!G254,0))","v":0},null,{"$f":"IF(OR(COUNTRY_INFO!N254=\"Unknown\",COUNTRY_INFO!N254=\"Surveillance\",COUNTRY_INFO!N254=\"Not required\",COUNTRY_INFO!N254=0),0,IF(INTRO!$E$39=\"Non-endemic\",IF(AND($E254<>0,$G254=\"\"),IF($F254=0,COUNTRY_INFO!N254*$E254,COUNTRY_INFO!N254*($E254-$D254)),IF(AND($E254<>0,$G254<>0),IF($F254=0,COUNTRY_INFO!N254*$G254,COUNTRY_INFO!N254*($G254-$D254)),0)),IF($G254=\"\",COUNTRY_INFO!N254*$E254,COUNTRY_INFO!N254*$G254)))","v":0},{"$f":"IF(OR(COUNTRY_INFO!O254=\"Unknown\",COUNTRY_INFO!O254=\"Surveillance\",COUNTRY_INFO!O254=\"Not required\",COUNTRY_INFO!O254=0),0,IF($E254<>0, IF($F254=0,COUNTRY_INFO!O254*$E254,COUNTRY_INFO!O254*($E254-$D254)),COUNTRY_INFO!O254*$E254))","v":0},null,{"$f":"IF(OR(COUNTRY_INFO!P254=\"Unknown\",COUNTRY_INFO!P254=\"Surveillance\",COUNTRY_INFO!P254=\"Not required\",COUNTRY_INFO!P254=0),0,IF(AND($E254<>0,$J254=\"\"),IF($F254=0,COUNTRY_INFO!P254*$E254,COUNTRY_INFO!P254*($E254-$D254)), IF(AND($E254<>0,$J254<>0),IF($F254=0,COUNTRY_INFO!P254*$J254,COUNTRY_INFO!P254*($J254-$D254)), COUNTRY_INFO!P254*$J254)))","v":0},0,0,null,0,0,null,0,0,null,0]
[{"$f":"IF(AND(INTRO!$E$37=\"Non-endemic\",INTRO!$E$41=\"Non-endemic\"),\" \",IF(COUNTRY_INFO!A255=0,\" \",COUNTRY_INFO!A255))","v":"Ghana"},{"$f":"IF(AND(INTRO!$E$37=\"Non-endemic\",INTRO!$E$41=\"Non-endemic\"),\" \",IF(COUNTRY_INFO!B255=0,\" \",COUNTRY_INFO!B255))","v":"Western"},{"$f":"IF(AND(INTRO!$E$37=\"Non-endemic\",INTRO!$E$41=\"Non-endemic\"),\" \",IF(COUNTRY_INFO!C255=0,\" \",COUNTRY_INFO!C255))","v":"Sekondi-Takoradi"},{"$f":"IF(AND(INTRO!$E$37=\"Non-endemic\",INTRO!$E$41=\"Non-endemic\"),0,COUNTRY_INFO!V255)","v":0},{"$f":"IF(AND(INTRO!$E$37=\"Non-endemic\",INTRO!$E$41=\"Non-endemic\"),0,COUNTRY_INFO!X255)","v":0},{"$f":"IF(INTRO!$E$39=\"Non-endemic\",IF($D255=1,DEC!I255,0),IF($D255=1,IVM!G255,0))","v":0},null,{"$f":"IF(OR(COUNTRY_INFO!N255=\"Unknown\",COUNTRY_INFO!N255=\"Surveillance\",COUNTRY_INFO!N255=\"Not required\",COUNTRY_INFO!N255=0),0,IF(INTRO!$E$39=\"Non-endemic\",IF(AND($E255<>0,$G255=\"\"),IF($F255=0,COUNTRY_INFO!N255*$E255,COUNTRY_INFO!N255*($E255-$D255)),IF(AND($E255<>0,$G255<>0),IF($F255=0,COUNTRY_INFO!N255*$G255,COUNTRY_INFO!N255*($G255-$D255)),0)),IF($G255=\"\",COUNTRY_INFO!N255*$E255,COUNTRY_INFO!N255*$G255)))","v":0},{"$f":"IF(OR(COUNTRY_INFO!O255=\"Unknown\",COUNTRY_INFO!O255=\"Surveillance\",COUNTRY_INFO!O255=\"Not required\",COUNTRY_INFO!O255=0),0,IF($E255<>0, IF($F255=0,COUNTRY_INFO!O255*$E255,COUNTRY_INFO!O255*($E255-$D255)),COUNTRY_INFO!O255*$E255))","v":0},null,{"$f":"IF(OR(COUNTRY_INFO!P255=\"Unknown\",COUNTRY_INFO!P255=\"Surveillance\",COUNTRY_INFO!P255=\"Not required\",COUNTRY_INFO!P255=0),0,IF(AND($E255<>0,$J255=\"\"),IF($F255=0,COUNTRY_INFO!P255*$E255,COUNTRY_INFO!P255*($E255-$D255)), IF(AND($E255<>0,$J255<>0),IF($F255=0,COUNTRY_INFO!P255*$J255,COUNTRY_INFO!P255*($J255-$D255)), COUNTRY_INFO!P255*$J255)))","v":0},0,0,null,0,0,null,0,0,null,0]
[{"$f":"IF(AND(INTRO!$E$37=\"Non-endemic\",INTRO!$E$41=\"Non-endemic\"),\" \",IF(COUNTRY_INFO!A256=0,\" \",COUNTRY_INFO!A256))","v":"Ghana"},{"$f":"IF(AND(INTRO!$E$37=\"Non-endemic\",INTRO!$E$41=\"Non-endemic\"),\" \",IF(COUNTRY_INFO!B256=0,\" \",COUNTRY_INFO!B256))","v":"Western"},{"$f":"IF(AND(INTRO!$E$37=\"Non-endemic\",INTRO!$E$41=\"Non-endemic\"),\" \",IF(COUNTRY_INFO!C256=0,\" \",COUNTRY_INFO!C256))","v":"Shama"},{"$f":"IF(AND(INTRO!$E$37=\"Non-endemic\",INTRO!$E$41=\"Non-endemic\"),0,COUNTRY_INFO!V256)","v":0},{"$f":"IF(AND(INTRO!$E$37=\"Non-endemic\",INTRO!$E$41=\"Non-endemic\"),0,COUNTRY_INFO!X256)","v":0},{"$f":"IF(INTRO!$E$39=\"Non-endemic\",IF($D256=1,DEC!I256,0),IF($D256=1,IVM!G256,0))","v":0},null,{"$f":"IF(OR(COUNTRY_INFO!N256=\"Unknown\",COUNTRY_INFO!N256=\"Surveillance\",COUNTRY_INFO!N256=\"Not required\",COUNTRY_INFO!N256=0),0,IF(INTRO!$E$39=\"Non-endemic\",IF(AND($E256<>0,$G256=\"\"),IF($F256=0,COUNTRY_INFO!N256*$E256,COUNTRY_INFO!N256*($E256-$D256)),IF(AND($E256<>0,$G256<>0),IF($F256=0,COUNTRY_INFO!N256*$G256,COUNTRY_INFO!N256*($G256-$D256)),0)),IF($G256=\"\",COUNTRY_INFO!N256*$E256,COUNTRY_INFO!N256*$G256)))","v":0},{"$f":"IF(OR(COUNTRY_INFO!O256=\"Unknown\",COUNTRY_INFO!O256=\"Surveillance\",COUNTRY_INFO!O256=\"Not required\",COUNTRY_INFO!O256=0),0,IF($E256<>0, IF($F256=0,COUNTRY_INFO!O256*$E256,COUNTRY_INFO!O256*($E256-$D256)),COUNTRY_INFO!O256*$E256))","v":0},null,{"$f":"IF(OR(COUNTRY_INFO!P256=\"Unknown\",COUNTRY_INFO!P256=\"Surveillance\",COUNTRY_INFO!P256=\"Not required\",COUNTRY_INFO!P256=0),0,IF(AND($E256<>0,$J256=\"\"),IF($F256=0,COUNTRY_INFO!P256*$E256,COUNTRY_INFO!P256*($E256-$D256)), IF(AND($E256<>0,$J256<>0),IF($F256=0,COUNTRY_INFO!P256*$J256,COUNTRY_INFO!P256*($J256-$D256)), COUNTRY_INFO!P256*$J256)))","v":0},0,0,null,0,0,null,0,0,null,0]
[{"$f":"IF(AND(INTRO!$E$37=\"Non-endemic\",INTRO!$E$41=\"Non-endemic\"),\" \",IF(COUNTRY_INFO!A257=0,\" \",COUNTRY_INFO!A257))","v":"Ghana"},{"$f":"IF(AND(INTRO!$E$37=\"Non-endemic\",INTRO!$E$41=\"Non-endemic\"),\" \",IF(COUNTRY_INFO!B257=0,\" \",COUNTRY_INFO!B257))","v":"Western"},{"$f":"IF(AND(INTRO!$E$37=\"Non-endemic\",INTRO!$E$41=\"Non-endemic\"),\" \",IF(COUNTRY_INFO!C257=0,\" \",COUNTRY_INFO!C257))","v":"Tarkwa-Nsuaem"},{"$f":"IF(AND(INTRO!$E$37=\"Non-endemic\",INTRO!$E$41=\"Non-endemic\"),0,COUNTRY_INFO!V257)","v":0},{"$f":"IF(AND(INTRO!$E$37=\"Non-endemic\",INTRO!$E$41=\"Non-endemic\"),0,COUNTRY_INFO!X257)","v":0},{"$f":"IF(INTRO!$E$39=\"Non-endemic\",IF($D257=1,DEC!I257,0),IF($D257=1,IVM!G257,0))","v":0},null,{"$f":"IF(OR(COUNTRY_INFO!N257=\"Unknown\",COUNTRY_INFO!N257=\"Surveillance\",COUNTRY_INFO!N257=\"Not required\",COUNTRY_INFO!N257=0),0,IF(INTRO!$E$39=\"Non-endemic\",IF(AND($E257<>0,$G257=\"\"),IF($F257=0,COUNTRY_INFO!N257*$E257,COUNTRY_INFO!N257*($E257-$D257)),IF(AND($E257<>0,$G257<>0),IF($F257=0,COUNTRY_INFO!N257*$G257,COUNTRY_INFO!N257*($G257-$D257)),0)),IF($G257=\"\",COUNTRY_INFO!N257*$E257,COUNTRY_INFO!N257*$G257)))","v":0},{"$f":"IF(OR(COUNTRY_INFO!O257=\"Unknown\",COUNTRY_INFO!O257=\"Surveillance\",COUNTRY_INFO!O257=\"Not required\",COUNTRY_INFO!O257=0),0,IF($E257<>0, IF($F257=0,COUNTRY_INFO!O257*$E257,COUNTRY_INFO!O257*($E257-$D257)),COUNTRY_INFO!O257*$E257))","v":0},null,{"$f":"IF(OR(COUNTRY_INFO!P257=\"Unknown\",COUNTRY_INFO!P257=\"Surveillance\",COUNTRY_INFO!P257=\"Not required\",COUNTRY_INFO!P257=0),0,IF(AND($E257<>0,$J257=\"\"),IF($F257=0,COUNTRY_INFO!P257*$E257,COUNTRY_INFO!P257*($E257-$D257)), IF(AND($E257<>0,$J257<>0),IF($F257=0,COUNTRY_INFO!P257*$J257,COUNTRY_INFO!P257*($J257-$D257)), COUNTRY_INFO!P257*$J257)))","v":0},0,0,null,0,0,null,0,0,null,0]
[{"$f":"IF(AND(INTRO!$E$37=\"Non-endemic\",INTRO!$E$41=\"Non-endemic\"),\" \",IF(COUNTRY_INFO!A258=0,\" \",COUNTRY_INFO!A258))","v":"Ghana"},{"$f":"IF(AND(INTRO!$E$37=\"Non-endemic\",INTRO!$E$41=\"Non-endemic\"),\" \",IF(COUNTRY_INFO!B258=0,\" \",COUNTRY_INFO!B258))","v":"Western"},{"$f":"IF(AND(INTRO!$E$37=\"Non-endemic\",INTRO!$E$41=\"Non-endemic\"),\" \",IF(COUNTRY_INFO!C258=0,\" \",COUNTRY_INFO!C258))","v":"Wassa Amenfi Central"},{"$f":"IF(AND(INTRO!$E$37=\"Non-endemic\",INTRO!$E$41=\"Non-endemic\"),0,COUNTRY_INFO!V258)","v":0},{"$f":"IF(AND(INTRO!$E$37=\"Non-endemic\",INTRO!$E$41=\"Non-endemic\"),0,COUNTRY_INFO!X258)","v":0},{"$f":"IF(INTRO!$E$39=\"Non-endemic\",IF($D258=1,DEC!I258,0),IF($D258=1,IVM!G258,0))","v":0},null,{"$f":"IF(OR(COUNTRY_INFO!N258=\"Unknown\",COUNTRY_INFO!N258=\"Surveillance\",COUNTRY_INFO!N258=\"Not required\",COUNTRY_INFO!N258=0),0,IF(INTRO!$E$39=\"Non-endemic\",IF(AND($E258<>0,$G258=\"\"),IF($F258=0,COUNTRY_INFO!N258*$E258,COUNTRY_INFO!N258*($E258-$D258)),IF(AND($E258<>0,$G258<>0),IF($F258=0,COUNTRY_INFO!N258*$G258,COUNTRY_INFO!N258*($G258-$D258)),0)),IF($G258=\"\",COUNTRY_INFO!N258*$E258,COUNTRY_INFO!N258*$G258)))","v":0},{"$f":"IF(OR(COUNTRY_INFO!O258=\"Unknown\",COUNTRY_INFO!O258=\"Surveillance\",COUNTRY_INFO!O258=\"Not required\",COUNTRY_INFO!O258=0),0,IF($E258<>0, IF($F258=0,COUNTRY_INFO!O258*$E258,COUNTRY_INFO!O258*($E258-$D258)),COUNTRY_INFO!O258*$E258))","v":0},null,{"$f":"IF(OR(COUNTRY_INFO!P258=\"Unknown\",COUNTRY_INFO!P258=\"Surveillance\",COUNTRY_INFO!P258=\"Not required\",COUNTRY_INFO!P258=0),0,IF(AND($E258<>0,$J258=\"\"),IF($F258=0,COUNTRY_INFO!P258*$E258,COUNTRY_INFO!P258*($E258-$D258)), IF(AND($E258<>0,$J258<>0),IF($F258=0,COUNTRY_INFO!P258*$J258,COUNTRY_INFO!P258*($J258-$D258)), COUNTRY_INFO!P258*$J258)))","v":0},0,0,null,0,0,null,0,0,null,0]
[{"$f":"IF(AND(INTRO!$E$37=\"Non-endemic\",INTRO!$E$41=\"Non-endemic\"),\" \",IF(COUNTRY_INFO!A259=0,\" \",COUNTRY_INFO!A259))","v":"Ghana"},{"$f":"IF(AND(INTRO!$E$37=\"Non-endemic\",INTRO!$E$41=\"Non-endemic\"),\" \",IF(COUNTRY_INFO!B259=0,\" \",COUNTRY_INFO!B259))","v":"Western"},{"$f":"IF(AND(INTRO!$E$37=\"Non-endemic\",INTRO!$E$41=\"Non-endemic\"),\" \",IF(COUNTRY_INFO!C259=0,\" \",COUNTRY_INFO!C259))","v":"Wassa Amenfi East"},{"$f":"IF(AND(INTRO!$E$37=\"Non-endemic\",INTRO!$E$41=\"Non-endemic\"),0,COUNTRY_INFO!V259)","v":0},{"$f":"IF(AND(INTRO!$E$37=\"Non-endemic\",INTRO!$E$41=\"Non-endemic\"),0,COUNTRY_INFO!X259)","v":0},{"$f":"IF(INTRO!$E$39=\"Non-endemic\",IF($D259=1,DEC!I259,0),IF($D259=1,IVM!G259,0))","v":0},null,{"$f":"IF(OR(COUNTRY_INFO!N259=\"Unknown\",COUNTRY_INFO!N259=\"Surveillance\",COUNTRY_INFO!N259=\"Not required\",COUNTRY_INFO!N259=0),0,IF(INTRO!$E$39=\"Non-endemic\",IF(AND($E259<>0,$G259=\"\"),IF($F259=0,COUNTRY_INFO!N259*$E259,COUNTRY_INFO!N259*($E259-$D259)),IF(AND($E259<>0,$G259<>0),IF($F259=0,COUNTRY_INFO!N259*$G259,COUNTRY_INFO!N259*($G259-$D259)),0)),IF($G259=\"\",COUNTRY_INFO!N259*$E259,COUNTRY_INFO!N259*$G259)))","v":0},{"$f":"IF(OR(COUNTRY_INFO!O259=\"Unknown\",COUNTRY_INFO!O259=\"Surveillance\",COUNTRY_INFO!O259=\"Not required\",COUNTRY_INFO!O259=0),0,IF($E259<>0, IF($F259=0,COUNTRY_INFO!O259*$E259,COUNTRY_INFO!O259*($E259-$D259)),COUNTRY_INFO!O259*$E259))","v":0},null,{"$f":"IF(OR(COUNTRY_INFO!P259=\"Unknown\",COUNTRY_INFO!P259=\"Surveillance\",COUNTRY_INFO!P259=\"Not required\",COUNTRY_INFO!P259=0),0,IF(AND($E259<>0,$J259=\"\"),IF($F259=0,COUNTRY_INFO!P259*$E259,COUNTRY_INFO!P259*($E259-$D259)), IF(AND($E259<>0,$J259<>0),IF($F259=0,COUNTRY_INFO!P259*$J259,COUNTRY_INFO!P259*($J259-$D259)), COUNTRY_INFO!P259*$J259)))","v":0},0,0,null,0,0,null,0,0,null,0]
[{"$f":"IF(AND(INTRO!$E$37=\"Non-endemic\",INTRO!$E$41=\"Non-endemic\"),\" \",IF(COUNTRY_INFO!A260=0,\" \",COUNTRY_INFO!A260))","v":"Ghana"},{"$f":"IF(AND(INTRO!$E$37=\"Non-endemic\",INTRO!$E$41=\"Non-endemic\"),\" \",IF(COUNTRY_INFO!B260=0,\" \",COUNTRY_INFO!B260))","v":"Western"},{"$f":"IF(AND(INTRO!$E$37=\"Non-endemic\",INTRO!$E$41=\"Non-endemic\"),\" \",IF(COUNTRY_INFO!C260=0,\" \",COUNTRY_INFO!C260))","v":"Wassa Amenfi West"},{"$f":"IF(AND(INTRO!$E$37=\"Non-endemic\",INTRO!$E$41=\"Non-endemic\"),0,COUNTRY_INFO!V260)","v":0},{"$f":"IF(AND(INTRO!$E$37=\"Non-endemic\",INTRO!$E$41=\"Non-endemic\"),0,COUNTRY_INFO!X260)","v":0},{"$f":"IF(INTRO!$E$39=\"Non-endemic\",IF($D260=1,DEC!I260,0),IF($D260=1,IVM!G260,0))","v":0},null,{"$f":"IF(OR(COUNTRY_INFO!N260=\"Unknown\",COUNTRY_INFO!N260=\"Surveillance\",COUNTRY_INFO!N260=\"Not required\",COUNTRY_INFO!N260=0),0,IF(INTRO!$E$39=\"Non-endemic\",IF(AND($E260<>0,$G260=\"\"),IF($F260=0,COUNTRY_INFO!N260*$E260,COUNTRY_INFO!N260*($E260-$D260)),IF(AND($E260<>0,$G260<>0),IF($F260=0,COUNTRY_INFO!N260*$G260,COUNTRY_INFO!N260*($G260-$D260)),0)),IF($G260=\"\",COUNTRY_INFO!N260*$E260,COUNTRY_INFO!N260*$G260)))","v":0},{"$f":"IF(OR(COUNTRY_INFO!O260=\"Unknown\",COUNTRY_INFO!O260=\"Surveillance\",COUNTRY_INFO!O260=\"Not required\",COUNTRY_INFO!O260=0),0,IF($E260<>0, IF($F260=0,COUNTRY_INFO!O260*$E260,COUNTRY_INFO!O260*($E260-$D260)),COUNTRY_INFO!O260*$E260))","v":0},null,{"$f":"IF(OR(COUNTRY_INFO!P260=\"Unknown\",COUNTRY_INFO!P260=\"Surveillance\",COUNTRY_INFO!P260=\"Not required\",COUNTRY_INFO!P260=0),0,IF(AND($E260<>0,$J260=\"\"),IF($F260=0,COUNTRY_INFO!P260*$E260,COUNTRY_INFO!P260*($E260-$D260)), IF(AND($E260<>0,$J260<>0),IF($F260=0,COUNTRY_INFO!P260*$J260,COUNTRY_INFO!P260*($J260-$D260)), COUNTRY_INFO!P260*$J260)))","v":0},0,0,null,0,0,null,0,0,null,0]
[{"$f":"IF(AND(INTRO!$E$37=\"Non-endemic\",INTRO!$E$41=\"Non-endemic\"),\" \",IF(COUNTRY_INFO!A261=0,\" \",COUNTRY_INFO!A261))","v":"Ghana"},{"$f":"IF(AND(INTRO!$E$37=\"Non-endemic\",INTRO!$E$41=\"Non-endemic\"),\" \",IF(COUNTRY_INFO!B261=0,\" \",COUNTRY_INFO!B261))","v":"Western"},{"$f":"IF(AND(INTRO!$E$37=\"Non-endemic\",INTRO!$E$41=\"Non-endemic\"),\" \",IF(COUNTRY_INFO!C261=0,\" \",COUNTRY_INFO!C261))","v":"Wassa East"},{"$f":"IF(AND(INTRO!$E$37=\"Non-endemic\",INTRO!$E$41=\"Non-endemic\"),0,COUNTRY_INFO!V261)","v":0},{"$f":"IF(AND(INTRO!$E$37=\"Non-endemic\",INTRO!$E$41=\"Non-endemic\"),0,COUNTRY_INFO!X261)","v":0},{"$f":"IF(INTRO!$E$39=\"Non-endemic\",IF($D261=1,DEC!I261,0),IF($D261=1,IVM!G261,0))","v":0},null,{"$f":"IF(OR(COUNTRY_INFO!N261=\"Unknown\",COUNTRY_INFO!N261=\"Surveillance\",COUNTRY_INFO!N261=\"Not required\",COUNTRY_INFO!N261=0),0,IF(INTRO!$E$39=\"Non-endemic\",IF(AND($E261<>0,$G261=\"\"),IF($F261=0,COUNTRY_INFO!N261*$E261,COUNTRY_INFO!N261*($E261-$D261)),IF(AND($E261<>0,$G261<>0),IF($F261=0,COUNTRY_INFO!N261*$G261,COUNTRY_INFO!N261*($G261-$D261)),0)),IF($G261=\"\",COUNTRY_INFO!N261*$E261,COUNTRY_INFO!N261*$G261)))","v":0},{"$f":"IF(OR(COUNTRY_INFO!O261=\"Unknown\",COUNTRY_INFO!O261=\"Surveillance\",COUNTRY_INFO!O261=\"Not required\",COUNTRY_INFO!O261=0),0,IF($E261<>0, IF($F261=0,COUNTRY_INFO!O261*$E261,COUNTRY_INFO!O261*($E261-$D261)),COUNTRY_INFO!O261*$E261))","v":0},null,{"$f":"IF(OR(COUNTRY_INFO!P261=\"Unknown\",COUNTRY_INFO!P261=\"Surveillance\",COUNTRY_INFO!P261=\"Not required\",COUNTRY_INFO!P261=0),0,IF(AND($E261<>0,$J261=\"\"),IF($F261=0,COUNTRY_INFO!P261*$E261,COUNTRY_INFO!P261*($E261-$D261)), IF(AND($E261<>0,$J261<>0),IF($F261=0,COUNTRY_INFO!P261*$J261,COUNTRY_INFO!P261*($J261-$D261)), COUNTRY_INFO!P261*$J261)))","v":0},0,0,null,0,0,null,0,0,null,0]
[{"$f":"IF(AND(INTRO!$E$37=\"Non-endemic\",INTRO!$E$41=\"Non-endemic\"),\" \",IF(COUNTRY_INFO!A262=0,\" \",COUNTRY_INFO!A262))","v":"Ghana"},{"$f":"IF(AND(INTRO!$E$37=\"Non-endemic\",INTRO!$E$41=\"Non-endemic\"),\" \",IF(COUNTRY_INFO!B262=0,\" \",COUNTRY_INFO!B262))","v":"Western North"},{"$f":"IF(AND(INTRO!$E$37=\"Non-endemic\",INTRO!$E$41=\"Non-endemic\"),\" \",IF(COUNTRY_INFO!C262=0,\" \",COUNTRY_INFO!C262))","v":"Aowin"},{"$f":"IF(AND(INTRO!$E$37=\"Non-endemic\",INTRO!$E$41=\"Non-endemic\"),0,COUNTRY_INFO!V262)","v":0},{"$f":"IF(AND(INTRO!$E$37=\"Non-endemic\",INTRO!$E$41=\"Non-endemic\"),0,COUNTRY_INFO!X262)","v":0},{"$f":"IF(INTRO!$E$39=\"Non-endemic\",IF($D262=1,DEC!I262,0),IF($D262=1,IVM!G262,0))","v":0},null,{"$f":"IF(OR(COUNTRY_INFO!N262=\"Unknown\",COUNTRY_INFO!N262=\"Surveillance\",COUNTRY_INFO!N262=\"Not required\",COUNTRY_INFO!N262=0),0,IF(INTRO!$E$39=\"Non-endemic\",IF(AND($E262<>0,$G262=\"\"),IF($F262=0,COUNTRY_INFO!N262*$E262,COUNTRY_INFO!N262*($E262-$D262)),IF(AND($E262<>0,$G262<>0),IF($F262=0,COUNTRY_INFO!N262*$G262,COUNTRY_INFO!N262*($G262-$D262)),0)),IF($G262=\"\",COUNTRY_INFO!N262*$E262,COUNTRY_INFO!N262*$G262)))","v":0},{"$f":"IF(OR(COUNTRY_INFO!O262=\"Unknown\",COUNTRY_INFO!O262=\"Surveillance\",COUNTRY_INFO!O262=\"Not required\",COUNTRY_INFO!O262=0),0,IF($E262<>0, IF($F262=0,COUNTRY_INFO!O262*$E262,COUNTRY_INFO!O262*($E262-$D262)),COUNTRY_INFO!O262*$E262))","v":0},null,{"$f":"IF(OR(COUNTRY_INFO!P262=\"Unknown\",COUNTRY_INFO!P262=\"Surveillance\",COUNTRY_INFO!P262=\"Not required\",COUNTRY_INFO!P262=0),0,IF(AND($E262<>0,$J262=\"\"),IF($F262=0,COUNTRY_INFO!P262*$E262,COUNTRY_INFO!P262*($E262-$D262)), IF(AND($E262<>0,$J262<>0),IF($F262=0,COUNTRY_INFO!P262*$J262,COUNTRY_INFO!P262*($J262-$D262)), COUNTRY_INFO!P262*$J262)))","v":0},0,0,null,0,0,null,0,0,null,0]
[{"$f":"IF(AND(INTRO!$E$37=\"Non-endemic\",INTRO!$E$41=\"Non-endemic\"),\" \",IF(COUNTRY_INFO!A263=0,\" \",COUNTRY_INFO!A263))","v":"Ghana"},{"$f":"IF(AND(INTRO!$E$37=\"Non-endemic\",INTRO!$E$41=\"Non-endemic\"),\" \",IF(COUNTRY_INFO!B263=0,\" \",COUNTRY_INFO!B263))","v":"Western North"},{"$f":"IF(AND(INTRO!$E$37=\"Non-endemic\",INTRO!$E$41=\"Non-endemic\"),\" \",IF(COUNTRY_INFO!C263=0,\" \",COUNTRY_INFO!C263))","v":"Bia East"},{"$f":"IF(AND(INTRO!$E$37=\"Non-endemic\",INTRO!$E$41=\"Non-endemic\"),0,COUNTRY_INFO!V263)","v":0},{"$f":"IF(AND(INTRO!$E$37=\"Non-endemic\",INTRO!$E$41=\"Non-endemic\"),0,COUNTRY_INFO!X263)","v":0},{"$f":"IF(INTRO!$E$39=\"Non-endemic\",IF($D263=1,DEC!I263,0),IF($D263=1,IVM!G263,0))","v":0},null,{"$f":"IF(OR(COUNTRY_INFO!N263=\"Unknown\",COUNTRY_INFO!N263=\"Surveillance\",COUNTRY_INFO!N263=\"Not required\",COUNTRY_INFO!N263=0),0,IF(INTRO!$E$39=\"Non-endemic\",IF(AND($E263<>0,$G263=\"\"),IF($F263=0,COUNTRY_INFO!N263*$E263,COUNTRY_INFO!N263*($E263-$D263)),IF(AND($E263<>0,$G263<>0),IF($F263=0,COUNTRY_INFO!N263*$G263,COUNTRY_INFO!N263*($G263-$D263)),0)),IF($G263=\"\",COUNTRY_INFO!N263*$E263,COUNTRY_INFO!N263*$G263)))","v":0},{"$f":"IF(OR(COUNTRY_INFO!O263=\"Unknown\",COUNTRY_INFO!O263=\"Surveillance\",COUNTRY_INFO!O263=\"Not required\",COUNTRY_INFO!O263=0),0,IF($E263<>0, IF($F263=0,COUNTRY_INFO!O263*$E263,COUNTRY_INFO!O263*($E263-$D263)),COUNTRY_INFO!O263*$E263))","v":0},null,{"$f":"IF(OR(COUNTRY_INFO!P263=\"Unknown\",COUNTRY_INFO!P263=\"Surveillance\",COUNTRY_INFO!P263=\"Not required\",COUNTRY_INFO!P263=0),0,IF(AND($E263<>0,$J263=\"\"),IF($F263=0,COUNTRY_INFO!P263*$E263,COUNTRY_INFO!P263*($E263-$D263)), IF(AND($E263<>0,$J263<>0),IF($F263=0,COUNTRY_INFO!P263*$J263,COUNTRY_INFO!P263*($J263-$D263)), COUNTRY_INFO!P263*$J263)))","v":0},0,0,null,0,0,null,0,0,null,0]
[{"$f":"IF(AND(INTRO!$E$37=\"Non-endemic\",INTRO!$E$41=\"Non-endemic\"),\" \",IF(COUNTRY_INFO!A264=0,\" \",COUNTRY_INFO!A264))","v":"Ghana"},{"$f":"IF(AND(INTRO!$E$37=\"Non-endemic\",INTRO!$E$41=\"Non-endemic\"),\" \",IF(COUNTRY_INFO!B264=0,\" \",COUNTRY_INFO!B264))","v":"Western North"},{"$f":"IF(AND(INTRO!$E$37=\"Non-endemic\",INTRO!$E$41=\"Non-endemic\"),\" \",IF(COUNTRY_INFO!C264=0,\" \",COUNTRY_INFO!C264))","v":"Bia West"},{"$f":"IF(AND(INTRO!$E$37=\"Non-endemic\",INTRO!$E$41=\"Non-endemic\"),0,COUNTRY_INFO!V264)","v":0},{"$f":"IF(AND(INTRO!$E$37=\"Non-endemic\",INTRO!$E$41=\"Non-endemic\"),0,COUNTRY_INFO!X264)","v":0},{"$f":"IF(INTRO!$E$39=\"Non-endemic\",IF($D264=1,DEC!I264,0),IF($D264=1,IVM!G264,0))","v":0},null,{"$f":"IF(OR(COUNTRY_INFO!N264=\"Unknown\",COUNTRY_INFO!N264=\"Surveillance\",COUNTRY_INFO!N264=\"Not required\",COUNTRY_INFO!N264=0),0,IF(INTRO!$E$39=\"Non-endemic\",IF(AND($E264<>0,$G264=\"\"),IF($F264=0,COUNTRY_INFO!N264*$E264,COUNTRY_INFO!N264*($E264-$D264)),IF(AND($E264<>0,$G264<>0),IF($F264=0,COUNTRY_INFO!N264*$G264,COUNTRY_INFO!N264*($G264-$D264)),0)),IF($G264=\"\",COUNTRY_INFO!N264*$E264,COUNTRY_INFO!N264*$G264)))","v":0},{"$f":"IF(OR(COUNTRY_INFO!O264=\"Unknown\",COUNTRY_INFO!O264=\"Surveillance\",COUNTRY_INFO!O264=\"Not required\",COUNTRY_INFO!O264=0),0,IF($E264<>0, IF($F264=0,COUNTRY_INFO!O264*$E264,COUNTRY_INFO!O264*($E264-$D264)),COUNTRY_INFO!O264*$E264))","v":0},null,{"$f":"IF(OR(COUNTRY_INFO!P264=\"Unknown\",COUNTRY_INFO!P264=\"Surveillance\",COUNTRY_INFO!P264=\"Not required\",COUNTRY_INFO!P264=0),0,IF(AND($E264<>0,$J264=\"\"),IF($F264=0,COUNTRY_INFO!P264*$E264,COUNTRY_INFO!P264*($E264-$D264)), IF(AND($E264<>0,$J264<>0),IF($F264=0,COUNTRY_INFO!P264*$J264,COUNTRY_INFO!P264*($J264-$D264)), COUNTRY_INFO!P264*$J264)))","v":0},0,0,null,0,0,null,0,0,null,0]
[{"$f":"IF(AND(INTRO!$E$37=\"Non-endemic\",INTRO!$E$41=\"Non-endemic\"),\" \",IF(COUNTRY_INFO!A265=0,\" \",COUNTRY_INFO!A265))","v":"Ghana"},{"$f":"IF(AND(INTRO!$E$37=\"Non-endemic\",INTRO!$E$41=\"Non-endemic\"),\" \",IF(COUNTRY_INFO!B265=0,\" \",COUNTRY_INFO!B265))","v":"Western North"},{"$f":"IF(AND(INTRO!$E$37=\"Non-endemic\",INTRO!$E$41=\"Non-endemic\"),\" \",IF(COUNTRY_INFO!C265=0,\" \",COUNTRY_INFO!C265))","v":"Bibiani-Anhwiaso-Bekwai"},{"$f":"IF(AND(INTRO!$E$37=\"Non-endemic\",INTRO!$E$41=\"Non-endemic\"),0,COUNTRY_INFO!V265)","v":0},{"$f":"IF(AND(INTRO!$E$37=\"Non-endemic\",INTRO!$E$41=\"Non-endemic\"),0,COUNTRY_INFO!X265)","v":0},{"$f":"IF(INTRO!$E$39=\"Non-endemic\",IF($D265=1,DEC!I265,0),IF($D265=1,IVM!G265,0))","v":0},null,{"$f":"IF(OR(COUNTRY_INFO!N265=\"Unknown\",COUNTRY_INFO!N265=\"Surveillance\",COUNTRY_INFO!N265=\"Not required\",COUNTRY_INFO!N265=0),0,IF(INTRO!$E$39=\"Non-endemic\",IF(AND($E265<>0,$G265=\"\"),IF($F265=0,COUNTRY_INFO!N265*$E265,COUNTRY_INFO!N265*($E265-$D265)),IF(AND($E265<>0,$G265<>0),IF($F265=0,COUNTRY_INFO!N265*$G265,COUNTRY_INFO!N265*($G265-$D265)),0)),IF($G265=\"\",COUNTRY_INFO!N265*$E265,COUNTRY_INFO!N265*$G265)))","v":0},{"$f":"IF(OR(COUNTRY_INFO!O265=\"Unknown\",COUNTRY_INFO!O265=\"Surveillance\",COUNTRY_INFO!O265=\"Not required\",COUNTRY_INFO!O265=0),0,IF($E265<>0, IF($F265=0,COUNTRY_INFO!O265*$E265,COUNTRY_INFO!O265*($E265-$D265)),COUNTRY_INFO!O265*$E265))","v":0},null,{"$f":"IF(OR(COUNTRY_INFO!P265=\"Unknown\",COUNTRY_INFO!P265=\"Surveillance\",COUNTRY_INFO!P265=\"Not required\",COUNTRY_INFO!P265=0),0,IF(AND($E265<>0,$J265=\"\"),IF($F265=0,COUNTRY_INFO!P265*$E265,COUNTRY_INFO!P265*($E265-$D265)), IF(AND($E265<>0,$J265<>0),IF($F265=0,COUNTRY_INFO!P265*$J265,COUNTRY_INFO!P265*($J265-$D265)), COUNTRY_INFO!P265*$J265)))","v":0},{"$f":"ROUND($H265,0)+ROUND($I265,0)+ROUND($K265,0)","v":0},{"$f":"$F265","v":0},null,{"$f":"IF($M265>$N265, $M265-$N265,0)","v":0},{"$f":"ROUND((IF($G$2=\"ALB\",$H265,0)+IF($I$2=\"ALB\",$I265,0)+IF($J$2=\"ALB\",$K265,0)),0)","v":0},null,{"$f":"IF($P265>$Q265,$P265-$Q265,0)","v":0},{"$f":"ROUND((IF($G$2=\"MBD\",$H265,0)+IF($I$2=\"MBD\",$I265,0)+IF($J$2=\"MBD\",$K265,0)),0)","v":0},null,{"$f":"IF($S265>$T265,$S265-$T265,0)","v":0}]
[{"$f":"IF(AND(INTRO!$E$37=\"Non-endemic\",INTRO!$E$41=\"Non-endemic\"),\" \",IF(COUNTRY_INFO!A266=0,\" \",COUNTRY_INFO!A266))","v":"Ghana"},{"$f":"IF(AND(INTRO!$E$37=\"Non-endemic\",INTRO!$E$41=\"Non-endemic\"),\" \",IF(COUNTRY_INFO!B266=0,\" \",COUNTRY_INFO!B266))","v":"Western North"},{"$f":"IF(AND(INTRO!$E$37=\"Non-endemic\",INTRO!$E$41=\"Non-endemic\"),\" \",IF(COUNTRY_INFO!C266=0,\" \",COUNTRY_INFO!C266))","v":"Bodi"},{"$f":"IF(AND(INTRO!$E$37=\"Non-endemic\",INTRO!$E$41=\"Non-endemic\"),0,COUNTRY_INFO!V266)","v":0},{"$f":"IF(AND(INTRO!$E$37=\"Non-endemic\",INTRO!$E$41=\"Non-endemic\"),0,COUNTRY_INFO!X266)","v":0},{"$f":"IF(INTRO!$E$39=\"Non-endemic\",IF($D266=1,DEC!I266,0),IF($D266=1,IVM!G266,0))","v":0},null,{"$f":"IF(OR(COUNTRY_INFO!N266=\"Unknown\",COUNTRY_INFO!N266=\"Surveillance\",COUNTRY_INFO!N266=\"Not required\",COUNTRY_INFO!N266=0),0,IF(INTRO!$E$39=\"Non-endemic\",IF(AND($E266<>0,$G266=\"\"),IF($F266=0,COUNTRY_INFO!N266*$E266,COUNTRY_INFO!N266*($E266-$D266)),IF(AND($E266<>0,$G266<>0),IF($F266=0,COUNTRY_INFO!N266*$G266,COUNTRY_INFO!N266*($G266-$D266)),0)),IF($G266=\"\",COUNTRY_INFO!N266*$E266,COUNTRY_INFO!N266*$G266)))","v":0},{"$f":"IF(OR(COUNTRY_INFO!O266=\"Unknown\",COUNTRY_INFO!O266=\"Surveillance\",COUNTRY_INFO!O266=\"Not required\",COUNTRY_INFO!O266=0),0,IF($E266<>0, IF($F266=0,COUNTRY_INFO!O266*$E266,COUNTRY_INFO!O266*($E266-$D266)),COUNTRY_INFO!O266*$E266))","v":0},null,{"$f":"IF(OR(COUNTRY_INFO!P266=\"Unknown\",COUNTRY_INFO!P266=\"Surveillance\",COUNTRY_INFO!P266=\"Not required\",COUNTRY_INFO!P266=0),0,IF(AND($E266<>0,$J266=\"\"),IF($F266=0,COUNTRY_INFO!P266*$E266,COUNTRY_INFO!P266*($E266-$D266)), IF(AND($E266<>0,$J266<>0),IF($F266=0,COUNTRY_INFO!P266*$J266,COUNTRY_INFO!P266*($J266-$D266)), COUNTRY_INFO!P266*$J266)))","v":0},0,0,null,0,0,null,0,0,null,0]
[{"$f":"IF(AND(INTRO!$E$37=\"Non-endemic\",INTRO!$E$41=\"Non-endemic\"),\" \",IF(COUNTRY_INFO!A267=0,\" \",COUNTRY_INFO!A267))","v":"Ghana"},{"$f":"IF(AND(INTRO!$E$37=\"Non-endemic\",INTRO!$E$41=\"Non-endemic\"),\" \",IF(COUNTRY_INFO!B267=0,\" \",COUNTRY_INFO!B267))","v":"Western North"},{"$f":"IF(AND(INTRO!$E$37=\"Non-endemic\",INTRO!$E$41=\"Non-endemic\"),\" \",IF(COUNTRY_INFO!C267=0,\" \",COUNTRY_INFO!C267))","v":"Juaboso"},{"$f":"IF(AND(INTRO!$E$37=\"Non-endemic\",INTRO!$E$41=\"Non-endemic\"),0,COUNTRY_INFO!V267)","v":0},{"$f":"IF(AND(INTRO!$E$37=\"Non-endemic\",INTRO!$E$41=\"Non-endemic\"),0,COUNTRY_INFO!X267)","v":0},{"$f":"IF(INTRO!$E$39=\"Non-endemic\",IF($D267=1,DEC!I267,0),IF($D267=1,IVM!G267,0))","v":0},null,{"$f":"IF(OR(COUNTRY_INFO!N267=\"Unknown\",COUNTRY_INFO!N267=\"Surveillance\",COUNTRY_INFO!N267=\"Not required\",COUNTRY_INFO!N267=0),0,IF(INTRO!$E$39=\"Non-endemic\",IF(AND($E267<>0,$G267=\"\"),IF($F267=0,COUNTRY_INFO!N267*$E267,COUNTRY_INFO!N267*($E267-$D267)),IF(AND($E267<>0,$G267<>0),IF($F267=0,COUNTRY_INFO!N267*$G267,COUNTRY_INFO!N267*($G267-$D267)),0)),IF($G267=\"\",COUNTRY_INFO!N267*$E267,COUNTRY_INFO!N267*$G267)))","v":0},{"$f":"IF(OR(COUNTRY_INFO!O267=\"Unknown\",COUNTRY_INFO!O267=\"Surveillance\",COUNTRY_INFO!O267=\"Not required\",COUNTRY_INFO!O267=0),0,IF($E267<>0, IF($F267=0,COUNTRY_INFO!O267*$E267,COUNTRY_INFO!O267*($E267-$D267)),COUNTRY_INFO!O267*$E267))","v":0},null,{"$f":"IF(OR(COUNTRY_INFO!P267=\"Unknown\",COUNTRY_INFO!P267=\"Surveillance\",COUNTRY_INFO!P267=\"Not required\",COUNTRY_INFO!P267=0),0,IF(AND($E267<>0,$J267=\"\"),IF($F267=0,COUNTRY_INFO!P267*$E267,COUNTRY_INFO!P267*($E267-$D267)), IF(AND($E267<>0,$J267<>0),IF($F267=0,COUNTRY_INFO!P267*$J267,COUNTRY_INFO!P267*($J267-$D267)), COUNTRY_INFO!P267*$J267)))","v":0},0,0,null,0,0,null,0,0,null,0]
[{"$f":"IF(AND(INTRO!$E$37=\"Non-endemic\",INTRO!$E$41=\"Non-endemic\"),\" \",IF(COUNTRY_INFO!A268=0,\" \",COUNTRY_INFO!A268))","v":"Ghana"},{"$f":"IF(AND(INTRO!$E$37=\"Non-endemic\",INTRO!$E$41=\"Non-endemic\"),\" \",IF(COUNTRY_INFO!B268=0,\" \",COUNTRY_INFO!B268))","v":"Western North"},{"$f":"IF(AND(INTRO!$E$37=\"Non-endemic\",INTRO!$E$41=\"Non-endemic\"),\" \",IF(COUNTRY_INFO!C268=0,\" \",COUNTRY_INFO!C268))","v":"Sefwi-Akontombra"},{"$f":"IF(AND(INTRO!$E$37=\"Non-endemic\",INTRO!$E$41=\"Non-endemic\"),0,COUNTRY_INFO!V268)","v":0},{"$f":"IF(AND(INTRO!$E$37=\"Non-endemic\",INTRO!$E$41=\"Non-endemic\"),0,COUNTRY_INFO!X268)","v":0},{"$f":"IF(INTRO!$E$39=\"Non-endemic\",IF($D268=1,DEC!I268,0),IF($D268=1,IVM!G268,0))","v":0},null,{"$f":"IF(OR(COUNTRY_INFO!N268=\"Unknown\",COUNTRY_INFO!N268=\"Surveillance\",COUNTRY_INFO!N268=\"Not required\",COUNTRY_INFO!N268=0),0,IF(INTRO!$E$39=\"Non-endemic\",IF(AND($E268<>0,$G268=\"\"),IF($F268=0,COUNTRY_INFO!N268*$E268,COUNTRY_INFO!N268*($E268-$D268)),IF(AND($E268<>0,$G268<>0),IF($F268=0,COUNTRY_INFO!N268*$G268,COUNTRY_INFO!N268*($G268-$D268)),0)),IF($G268=\"\",COUNTRY_INFO!N268*$E268,COUNTRY_INFO!N268*$G268)))","v":0},{"$f":"IF(OR(COUNTRY_INFO!O268=\"Unknown\",COUNTRY_INFO!O268=\"Surveillance\",COUNTRY_INFO!O268=\"Not required\",COUNTRY_INFO!O268=0),0,IF($E268<>0, IF($F268=0,COUNTRY_INFO!O268*$E268,COUNTRY_INFO!O268*($E268-$D268)),COUNTRY_INFO!O268*$E268))","v":0},null,{"$f":"IF(OR(COUNTRY_INFO!P268=\"Unknown\",COUNTRY_INFO!P268=\"Surveillance\",COUNTRY_INFO!P268=\"Not required\",COUNTRY_INFO!P268=0),0,IF(AND($E268<>0,$J268=\"\"),IF($F268=0,COUNTRY_INFO!P268*$E268,COUNTRY_INFO!P268*($E268-$D268)), IF(AND($E268<>0,$J268<>0),IF($F268=0,COUNTRY_INFO!P268*$J268,COUNTRY_INFO!P268*($J268-$D268)), COUNTRY_INFO!P268*$J268)))","v":0},0,0,null,0,0,null,0,0,null,0]
[{"$f":"IF(AND(INTRO!$E$37=\"Non-endemic\",INTRO!$E$41=\"Non-endemic\"),\" \",IF(COUNTRY_INFO!A269=0,\" \",COUNTRY_INFO!A269))","v":"Ghana"},{"$f":"IF(AND(INTRO!$E$37=\"Non-endemic\",INTRO!$E$41=\"Non-endemic\"),\" \",IF(COUNTRY_INFO!B269=0,\" \",COUNTRY_INFO!B269))","v":"Western North"},{"$f":"IF(AND(INTRO!$E$37=\"Non-endemic\",INTRO!$E$41=\"Non-endemic\"),\" \",IF(COUNTRY_INFO!C269=0,\" \",COUNTRY_INFO!C269))","v":"Sefwi-Wiawso"},{"$f":"IF(AND(INTRO!$E$37=\"Non-endemic\",INTRO!$E$41=\"Non-endemic\"),0,COUNTRY_INFO!V269)","v":0},{"$f":"IF(AND(INTRO!$E$37=\"Non-endemic\",INTRO!$E$41=\"Non-endemic\"),0,COUNTRY_INFO!X269)","v":0},{"$f":"IF(INTRO!$E$39=\"Non-endemic\",IF($D269=1,DEC!I269,0),IF($D269=1,IVM!G269,0))","v":0},null,{"$f":"IF(OR(COUNTRY_INFO!N269=\"Unknown\",COUNTRY_INFO!N269=\"Surveillance\",COUNTRY_INFO!N269=\"Not required\",COUNTRY_INFO!N269=0),0,IF(INTRO!$E$39=\"Non-endemic\",IF(AND($E269<>0,$G269=\"\"),IF($F269=0,COUNTRY_INFO!N269*$E269,COUNTRY_INFO!N269*($E269-$D269)),IF(AND($E269<>0,$G269<>0),IF($F269=0,COUNTRY_INFO!N269*$G269,COUNTRY_INFO!N269*($G269-$D269)),0)),IF($G269=\"\",COUNTRY_INFO!N269*$E269,COUNTRY_INFO!N269*$G269)))","v":0},{"$f":"IF(OR(COUNTRY_INFO!O269=\"Unknown\",COUNTRY_INFO!O269=\"Surveillance\",COUNTRY_INFO!O269=\"Not required\",COUNTRY_INFO!O269=0),0,IF($E269<>0, IF($F269=0,COUNTRY_INFO!O269*$E269,COUNTRY_INFO!O269*($E269-$D269)),COUNTRY_INFO!O269*$E269))","v":0},null,{"$f":"IF(OR(COUNTRY_INFO!P269=\"Unknown\",COUNTRY_INFO!P269=\"Surveillance\",COUNTRY_INFO!P269=\"Not required\",COUNTRY_INFO!P269=0),0,IF(AND($E269<>0,$J269=\"\"),IF($F269=0,COUNTRY_INFO!P269*$E269,COUNTRY_INFO!P269*($E269-$D269)), IF(AND($E269<>0,$J269<>0),IF($F269=0,COUNTRY_INFO!P269*$J269,COUNTRY_INFO!P269*($J269-$D269)), COUNTRY_INFO!P269*$J269)))","v":0},0,0,null,0,0,null,0,0,null,0]
[{"$f":"IF(AND(INTRO!$E$37=\"Non-endemic\",INTRO!$E$41=\"Non-endemic\"),\" \",IF(COUNTRY_INFO!A270=0,\" \",COUNTRY_INFO!A270))","v":"Ghana"},{"$f":"IF(AND(INTRO!$E$37=\"Non-endemic\",INTRO!$E$41=\"Non-endemic\"),\" \",IF(COUNTRY_INFO!B270=0,\" \",COUNTRY_INFO!B270))","v":"Western North"},{"$f":"IF(AND(INTRO!$E$37=\"Non-endemic\",INTRO!$E$41=\"Non-endemic\"),\" \",IF(COUNTRY_INFO!C270=0,\" \",COUNTRY_INFO!C270))","v":"Suaman"},{"$f":"IF(AND(INTRO!$E$37=\"Non-endemic\",INTRO!$E$41=\"Non-endemic\"),0,COUNTRY_INFO!V270)","v":0},{"$f":"IF(AND(INTRO!$E$37=\"Non-endemic\",INTRO!$E$41=\"Non-endemic\"),0,COUNTRY_INFO!X270)","v":0},{"$f":"IF(INTRO!$E$39=\"Non-endemic\",IF($D270=1,DEC!I270,0),IF($D270=1,IVM!G270,0))","v":0},null,{"$f":"IF(OR(COUNTRY_INFO!N270=\"Unknown\",COUNTRY_INFO!N270=\"Surveillance\",COUNTRY_INFO!N270=\"Not required\",COUNTRY_INFO!N270=0),0,IF(INTRO!$E$39=\"Non-endemic\",IF(AND($E270<>0,$G270=\"\"),IF($F270=0,COUNTRY_INFO!N270*$E270,COUNTRY_INFO!N270*($E270-$D270)),IF(AND($E270<>0,$G270<>0),IF($F270=0,COUNTRY_INFO!N270*$G270,COUNTRY_INFO!N270*($G270-$D270)),0)),IF($G270=\"\",COUNTRY_INFO!N270*$E270,COUNTRY_INFO!N270*$G270)))","v":0},{"$f":"IF(OR(COUNTRY_INFO!O270=\"Unknown\",COUNTRY_INFO!O270=\"Surveillance\",COUNTRY_INFO!O270=\"Not required\",COUNTRY_INFO!O270=0),0,IF($E270<>0, IF($F270=0,COUNTRY_INFO!O270*$E270,COUNTRY_INFO!O270*($E270-$D270)),COUNTRY_INFO!O270*$E270))","v":0},null,{"$f":"IF(OR(COUNTRY_INFO!P270=\"Unknown\",COUNTRY_INFO!P270=\"Surveillance\",COUNTRY_INFO!P270=\"Not required\",COUNTRY_INFO!P270=0),0,IF(AND($E270<>0,$J270=\"\"),IF($F270=0,COUNTRY_INFO!P270*$E270,COUNTRY_INFO!P270*($E270-$D270)), IF(AND($E270<>0,$J270<>0),IF($F270=0,COUNTRY_INFO!P270*$J270,COUNTRY_INFO!P270*($J270-$D270)), COUNTRY_INFO!P270*$J270)))","v":0},0,0,null,0,0,null,0,0,null,0]

{"sheet":"PZQ","index":4,"n_rows":270,"n_cols":18,"rows_kept":270,"cut":false,"hidden":false,"merged":[[3,0,3,2],[5,0,5,2],[5,4,5,7],[5,8,5,9],[6,17,7,17],[6,6,7,6],[6,7,7,7],[6,9,7,9],[6,0,7,0],[6,1,7,1],[6,2,7,2],[6,4,7,4],[5,3,7,3],[6,5,7,5],[6,8,7,8],[6,12,7,12],[5,12,5,17],[5,10,5,11],[6,10,7,10],[6,14,7,14],[6,15,7,15],[6,16,7,16],[6,13,7,13],[6,11,7,11]]}
["Praziquantel (PZQ)"]
["Administrative structure, eligible population by age group, treatment plan and information about tablets"]
[]
["TOTAL",null,null,null,{"$f":"SUBTOTAL(9,E$10:E$1010)","v":1781226},5487398,1885938,9154562,null,0,null,null,{"$f":"SUBTOTAL(9,M$10:M$1010)","v":0},10974796,5657814,16632610,0,16632610]
[]
["Country administrative structure",null,null,"Treatment plan\nSCH","Target population for SCH",null,null,null,"Hot spots",null,"Previous year MDA",null,"Praziquantel (PZQ)"]
["Country","Province/State","District",null,"PreSAC","SAC","Adults","Total","Planned","Population","Rounds","Age groups","PreSAC","SAC","Adults","Total required","Remaining in stock","Tablets to be procured"]
[]
[]
[{"$f":"IF(INTRO!$E$43=\"Non-endemic\",\" \", IF(COUNTRY_INFO!A10=0,\" \",COUNTRY_INFO!A10))","v":"Ghana"},{"$f":"IF(INTRO!$E$43=\"Non-endemic\",\" \", IF(COUNTRY_INFO!B10=0,\" \",COUNTRY_INFO!B10))","v":"Ahafo"},{"$f":"IF(INTRO!$E$43=\"Non-endemic\",\" \", IF(COUNTRY_INFO!C10=0,\" \",COUNTRY_INFO!C10))","v":"Asunafo North"},{"$f":"IF(INTRO!$E$43=\"Non-endemic\", \"Not required\", COUNTRY_INFO!Y10)","v":1},{"$f":"IF(OR(COUNTRY_INFO!R10=\"Unknown\",COUNTRY_INFO!R10=\"Surveillance\",COUNTRY_INFO!R10=\"Not required\",COUNTRY_INFO!R10=0),0,IF($D10<>0, COUNTRY_INFO!R10,0))","v":12213},{"$f":"IF(OR(COUNTRY_INFO!S10=\"Unknown\",COUNTRY_INFO!S10=\"Surveillance\",COUNTRY_INFO!S10=\"Not required\",COUNTRY_INFO!S10=0),0,IF($D10<>0, COUNTRY_INFO!S10,0))","v":38360},{"$f":"IF(OR(COUNTRY_INFO!T10=\"Unknown\",COUNTRY_INFO!T10=\"Surveillance\",COUNTRY_INFO!T10=\"Not required\",COUNTRY_INFO!T10=0),0,IF($D10<>0, COUNTRY_INFO!T10,0))","v":0},{"$f":"SUM(E10:G10)","v":50573},null,null,1,"SAC",null,{"$f":"IF($I10<>\"Yes\",$F10*2,($F10+ROUND(J10*$F10/SUM(COUNTRY_INFO!$E10:$G10),0))*2)","v":76720},{"$f":"IF($I10<>\"Yes\",$G10*3,($G10+ROUND(J10*$G10/SUM(COUNTRY_INFO!$E10:$G10),0))*3)","v":0},{"$f":"SUM(M10:O10)","v":76720},null,{"$f":"IF($P10>$Q10,P10-Q10,0)","v":76720}]
[{"$f":"IF(INTRO!$E$43=\"Non-endemic\",\" \", IF(COUNTRY_INFO!A11=0,\" \",COUNTRY_INFO!A11))","v":"Ghana"},{"$f":"IF(INTRO!$E$43=\"Non-endemic\",\" \", IF(COUNTRY_INFO!B11=0,\" \",COUNTRY_INFO!B11))","v":"Ahafo"},{"$f":"IF(INTRO!$E$43=\"Non-endemic\",\" \", IF(COUNTRY_INFO!C11=0,\" \",COUNTRY_INFO!C11))","v":"Asunafo South"},{"$f":"IF(INTRO!$E$43=\"Non-endemic\", \"Not required\", COUNTRY_INFO!Y11)","v":1},{"$f":"IF(OR(COUNTRY_INFO!R11=\"Unknown\",COUNTRY_INFO!R11=\"Surveillance\",COUNTRY_INFO!R11=\"Not required\",COUNTRY_INFO!R11=0),0,IF($D11<>0, COUNTRY_INFO!R11,0))","v":7456},{"$f":"IF(OR(COUNTRY_INFO!S11=\"Unknown\",COUNTRY_INFO!S11=\"Surveillance\",COUNTRY_INFO!S11=\"Not required\",COUNTRY_INFO!S11=0),0,IF($D11<>0, COUNTRY_INFO!S11,0))","v":23418},{"$f":"IF(OR(COUNTRY_INFO!T11=\"Unknown\",COUNTRY_INFO!T11=\"Surveillance\",COUNTRY_INFO!T11=\"Not required\",COUNTRY_INFO!T11=0),0,IF($D11<>0, COUNTRY_INFO!T11,0))","v":0},{"$f":"SUM(E11:G11)","v":30874},null,null,1,"SAC",null,{"$f":"IF($I11<>\"Yes\",$F11*2,($F11+ROUND(J11*$F11/SUM(COUNTRY_INFO!$E11:$G11),0))*2)","v":46836},{"$f":"IF($I11<>\"Yes\",$G11*3,($G11+ROUND(J11*$G11/SUM(COUNTRY_INFO!$E11:$G11),0))*3)","v":0},{"$f":"SUM(M11:O11)","v":46836},null,{"$f":"IF($P11>$Q11,P11-Q11,0)","v":46836}]
[{"$f":"IF(INTRO!$E$43=\"Non-endemic\",\" \", IF(COUNTRY_INFO!A12=0,\" \",COUNTRY_INFO!A12))","v":"Ghana"},{"$f":"IF(INTRO!$E$43=\"Non-endemic\",\" \", IF(COUNTRY_INFO!B12=0,\" \",COUNTRY_INFO!B12))","v":"Ahafo"},{"$f":"IF(INTRO!$E$43=\"Non-endemic\",\" \", IF(COUNTRY_INFO!C12=0,\" \",COUNTRY_INFO!C12))","v":"Asutifi North"},{"$f":"IF(INTRO!$E$43=\"Non-endemic\", \"Not required\", COUNTRY_INFO!Y12)","v":1},{"$f":"IF(OR(COUNTRY_INFO!R12=\"Unknown\",COUNTRY_INFO!R12=\"Surveillance\",COUNTRY_INFO!R12=\"Not required\",COUNTRY_INFO!R12=0),0,IF($D12<>0, COUNTRY_INFO!R12,0))","v":5981},{"$f":"IF(OR(COUNTRY_INFO!S12=\"Unknown\",COUNTRY_INFO!S12=\"Surveillance\",COUNTRY_INFO!S12=\"Not required\",COUNTRY_INFO!S12=0),0,IF($D12<>0, COUNTRY_INFO!S12,0))","v":18786},{"$f":"IF(OR(COUNTRY_INFO!T12=\"Unknown\",COUNTRY_INFO!T12=\"Surveillance\",COUNTRY_INFO!T12=\"Not required\",COUNTRY_INFO!T12=0),0,IF($D12<>0, COUNTRY_INFO!T12,0))","v":0},24767,null,null,1,"SAC",null,{"$f":"IF($I12<>\"Yes\",$F12*2,($F12+ROUND(J12*$F12/SUM(COUNTRY_INFO!$E12:$G12),0))*2)","v":37572},{"$f":"IF($I12<>\"Yes\",$G12*3,($G12+ROUND(J12*$G12/SUM(COUNTRY_INFO!$E12:$G12),0))*3)","v":0},37572,null,37572]
[{"$f":"IF(INTRO!$E$43=\"Non-endemic\",\" \", IF(COUNTRY_INFO!A13=0,\" \",COUNTRY_INFO!A13))","v":"Ghana"},{"$f":"IF(INTRO!$E$43=\"Non-endemic\",\" \", IF(COUNTRY_INFO!B13=0,\" \",COUNTRY_INFO!B13))","v":"Ahafo"},{"$f":"IF(INTRO!$E$43=\"Non-endemic\",\" \", IF(COUNTRY_INFO!C13=0,\" \",COUNTRY_INFO!C13))","v":"Asutifi South"},{"$f":"IF(INTRO!$E$43=\"Non-endemic\", \"Not required\", COUNTRY_INFO!Y13)","v":1},{"$f":"IF(OR(COUNTRY_INFO!R13=\"Unknown\",COUNTRY_INFO!R13=\"Surveillance\",COUNTRY_INFO!R13=\"Not required\",COUNTRY_INFO!R13=0),0,IF($D13<>0, COUNTRY_INFO!R13,0))","v":5561},{"$f":"IF(OR(COUNTRY_INFO!S13=\"Unknown\",COUNTRY_INFO!S13=\"Surveillance\",COUNTRY_INFO!S13=\"Not required\",COUNTRY_INFO!S13=0),0,IF($D13<>0, COUNTRY_INFO!S13,0))","v":17468},{"$f":"IF(OR(COUNTRY_INFO!T13=\"Unknown\",COUNTRY_INFO!T13=\"Surveillance\",COUNTRY_INFO!T13=\"Not required\",COUNTRY_INFO!T13=0),0,IF($D13<>0, COUNTRY_INFO!T13,0))","v":0},23029,null,null,1,"SAC",null,{"$f":"IF($I13<>\"Yes\",$F13*2,($F13+ROUND(J13*$F13/SUM(COUNTRY_INFO!$E13:$G13),0))*2)","v":34936},{"$f":"IF($I13<>\"Yes\",$G13*3,($G13+ROUND(J13*$G13/SUM(COUNTRY_INFO!$E13:$G13),0))*3)","v":0},34936,null,34936]
[{"$f":"IF(INTRO!$E$43=\"Non-endemic\",\" \", IF(COUNTRY_INFO!A14=0,\" \",COUNTRY_INFO!A14))","v":"Ghana"},{"$f":"IF(INTRO!$E$43=\"Non-endemic\",\" \", IF(COUNTRY_INFO!B14=0,\" \",COUNTRY_INFO!B14))","v":"Ahafo"},{"$f":"IF(INTRO!$E$43=\"Non-endemic\",\" \", IF(COUNTRY_INFO!C14=0,\" \",COUNTRY_INFO!C14))","v":"Tano North"},{"$f":"IF(INTRO!$E$43=\"Non-endemic\", \"Not required\", COUNTRY_INFO!Y14)","v":1},{"$f":"IF(OR(COUNTRY_INFO!R14=\"Unknown\",COUNTRY_INFO!R14=\"Surveillance\",COUNTRY_INFO!R14=\"Not required\",COUNTRY_INFO!R14=0),0,IF($D14<>0, COUNTRY_INFO!R14,0))","v":6305},{"$f":"IF(OR(COUNTRY_INFO!S14=\"Unknown\",COUNTRY_INFO!S14=\"Surveillance\",COUNTRY_INFO!S14=\"Not required\",COUNTRY_INFO!S14=0),0,IF($D14<>0, COUNTRY_INFO!S14,0))","v":19806},{"$f":"IF(OR(COUNTRY_INFO!T14=\"Unknown\",COUNTRY_INFO!T14=\"Surveillance\",COUNTRY_INFO!T14=\"Not required\",COUNTRY_INFO!T14=0),0,IF($D14<>0, COUNTRY_INFO!T14,0))","v":0},26111,null,null,1,"SAC",null,{"$f":"IF($I14<>\"Yes\",$F14*2,($F14+ROUND(J14*$F14/SUM(COUNTRY_INFO!$E14:$G14),0))*2)","v":39612},{"$f":"IF($I14<>\"Yes\",$G14*3,($G14+ROUND(J14*$G14/SUM(COUNTRY_INFO!$E14:$G14),0))*3)","v":0},39612,null,39612]
[{"$f":"IF(INTRO!$E$43=\"Non-endemic\",\" \", IF(COUNTRY_INFO!A15=0,\" \",COUNTRY_INFO!A15))","v":"Ghana"},{"$f":"IF(INTRO!$E$43=\"Non-endemic\",\" \", IF(COUNTRY_INFO!B15=0,\" \",COUNTRY_INFO!B15))","v":"Ahafo"},{"$f":"IF(INTRO!$E$43=\"Non-endemic\",\" \", IF(COUNTRY_INFO!C15=0,\" \",COUNTRY_INFO!C15))","v":"Tano South"},{"$f":"IF(INTRO!$E$43=\"Non-endemic\", \"Not required\", COUNTRY_INFO!Y15)","v":1},{"$f":"IF(OR(COUNTRY_INFO!R15=\"Unknown\",COUNTRY_INFO!R15=\"Surveillance\",COUNTRY_INFO!R15=\"Not required\",COUNTRY_INFO!R15=0),0,IF($D15<>0, COUNTRY_INFO!R15,0))","v":7092},{"$f":"IF(OR(COUNTRY_INFO!S15=\"Unknown\",COUNTRY_INFO!S15=\"Surveillance\",COUNTRY_INFO!S15=\"Not required\",COUNTRY_INFO!S15=0),0,IF($D15<>0, COUNTRY_INFO!S15,0))","v":22276},{"$f":"IF(OR(COUNTRY_INFO!T15=\"Unknown\",COUNTRY_INFO!T15=\"Surveillance\",COUNTRY_INFO!T15=\"Not required\",COUNTRY_INFO!T15=0),0,IF($D15<>0, COUNTRY_INFO!T15,0))","v":0},29368,null,null,1,"SAC",null,{"$f":"IF($I15<>\"Yes\",$F15*2,($F15+ROUND(J15*$F15/SUM(COUNTRY_INFO!$E15:$G15),0))*2)","v":44552},{"$f":"IF($I15<>\"Yes\",$G15*3,($G15+ROUND(J15*$G15/SUM(COUNTRY_INFO!$E15:$G15),0))*3)","v":0},44552,null,44552]
[{"$f":"IF(INTRO!$E$43=\"Non-endemic\",\" \", IF(COUNTRY_INFO!A16=0,\" \",COUNTRY_INFO!A16))","v":"Ghana"},{"$f":"IF(INTRO!$E$43=\"Non-endemic\",\" \", IF(COUNTRY_INFO!B16=0,\" \",COUNTRY_INFO!B16))","v":"Ashanti"},{"$f":"IF(INTRO!$E$43=\"Non-endemic\",\" \", IF(COUNTRY_INFO!C16=0,\" \",COUNTRY_INFO!C16))","v":"Adansi Akrofuom"},{"$f":"IF(INTRO!$E$43=\"Non-endemic\", \"Not required\", COUNTRY_INFO!Y16)","v":1},{"$f":"IF(OR(COUNTRY_INFO!R16=\"Unknown\",COUNTRY_INFO!R16=\"Surveillance\",COUNTRY_INFO!R16=\"Not required\",COUNTRY_INFO!R16=0),0,IF($D16<>0, COUNTRY_INFO!R16,0))","v":4008},{"$f":"IF(OR(COUNTRY_INFO!S16=\"Unknown\",COUNTRY_INFO!S16=\"Surveillance\",COUNTRY_INFO!S16=\"Not required\",COUNTRY_INFO!S16=0),0,IF($D16<>0, COUNTRY_INFO!S16,0))","v":12589},{"$f":"IF(OR(COUNTRY_INFO!T16=\"Unknown\",COUNTRY_INFO!T16=\"Surveillance\",COUNTRY_INFO!T16=\"Not required\",COUNTRY_INFO!T16=0),0,IF($D16<>0, COUNTRY_INFO!T16,0))","v":0},16597,null,null,1,"SAC",null,{"$f":"IF($I16<>\"Yes\",$F16*2,($F16+ROUND(J16*$F16/SUM(COUNTRY_INFO!$E16:$G16),0))*2)","v":25178},{"$f":"IF($I16<>\"Yes\",$G16*3,($G16+ROUND(J16*$G16/SUM(COUNTRY_INFO!$E16:$G16),0))*3)","v":0},25178,null,25178]
[{"$f":"IF(INTRO!$E$43=\"Non-endemic\",\" \", IF(COUNTRY_INFO!A17=0,\" \",COUNTRY_INFO!A17))","v":"Ghana"},{"$f":"IF(INTRO!$E$43=\"Non-endemic\",\" \", IF(COUNTRY_INFO!B17=0,\" \",COUNTRY_INFO!B17))","v":"Ashanti"},{"$f":"IF(INTRO!$E$43=\"Non-endemic\",\" \", IF(COUNTRY_INFO!C17=0,\" \",COUNTRY_INFO!C17))","v":"Adansi Asokwa"},{"$f":"IF(INTRO!$E$43=\"Non-endemic\", \"Not required\", COUNTRY_INFO!Y17)","v":1},{"$f":"IF(OR(COUNTRY_INFO!R17=\"Unknown\",COUNTRY_INFO!R17=\"Surveillance\",COUNTRY_INFO!R17=\"Not required\",COUNTRY_INFO!R17=0),0,IF($D17<>0, COUNTRY_INFO!R17,0))","v":5842},{"$f":"IF(OR(COUNTRY_INFO!S17=\"Unknown\",COUNTRY_INFO!S17=\"Surveillance\",COUNTRY_INFO!S17=\"Not required\",COUNTRY_INFO!S17=0),0,IF($D17<>0, COUNTRY_INFO!S17,0))","v":18349},{"$f":"IF(OR(COUNTRY_INFO!T17=\"Unknown\",COUNTRY_INFO!T17=\"Surveillance\",COUNTRY_INFO!T17=\"Not required\",COUNTRY_INFO!T17=0),0,IF($D17<>0, COUNTRY_INFO!T17,0))","v":0},24191,null,null,1,"SAC",null,{"$f":"IF($I17<>\"Yes\",$F17*2,($F17+ROUND(J17*$F17/SUM(COUNTRY_INFO!$E17:$G17),0))*2)","v":36698},{"$f":"IF($I17<>\"Yes\",$G17*3,($G17+ROUND(J17*$G17/SUM(COUNTRY_INFO!$E17:$G17),0))*3)","v":0},36698,null,36698]
[{"$f":"IF(INTRO!$E$43=\"Non-endemic\",\" \", IF(COUNTRY_INFO!A18=0,\" \",COUNTRY_INFO!A18))","v":"Ghana"},{"$f":"IF(INTRO!$E$43=\"Non-endemic\",\" \", IF(COUNTRY_INFO!B18=0,\" \",COUNTRY_INFO!B18))","v":"Ashanti"},{"$f":"IF(INTRO!$E$43=\"Non-endemic\",\" \", IF(COUNTRY_INFO!C18=0,\" \",COUNTRY_INFO!C18))","v":"Adansi North"},{"$f":"IF(INTRO!$E$43=\"Non-endemic\", \"Not required\", COUNTRY_INFO!Y18)","v":1},{"$f":"IF(OR(COUNTRY_INFO!R18=\"Unknown\",COUNTRY_INFO!R18=\"Surveillance\",COUNTRY_INFO!R18=\"Not required\",COUNTRY_INFO!R18=0),0,IF($D18<>0, COUNTRY_INFO!R18,0))","v":4403},{"$f":"IF(OR(COUNTRY_INFO!S18=\"Unknown\",COUNTRY_INFO!S18=\"Surveillance\",COUNTRY_INFO!S18=\"Not required\",COUNTRY_INFO!S18=0),0,IF($D18<>0, COUNTRY_INFO!S18,0))","v":13831},{"$f":"IF(OR(COUNTRY_INFO!T18=\"Unknown\",COUNTRY_INFO!T18=\"Surveillance\",COUNTRY_INFO!T18=\"Not required\",COUNTRY_INFO!T18=0),0,IF($D18<>0, COUNTRY_INFO!T18,0))","v":0},18234,null,null,1,"SAC",null,{"$f":"IF($I18<>\"Yes\",$F18*2,($F18+ROUND(J18*$F18/SUM(COUNTRY_INFO!$E18:$G18),0))*2)","v":27662},{"$f":"IF($I18<>\"Yes\",$G18*3,($G18+ROUND(J18*$G18/SUM(COUNTRY_INFO!$E18:$G18),0))*3)","v":0},27662,null,27662]
[{"$f":"IF(INTRO!$E$43=\"Non-endemic\",\" \", IF(COUNTRY_INFO!A19=0,\" \",COUNTRY_INFO!A19))","v":"Ghana"},{"$f":"IF(INTRO!$E$43=\"Non-endemic\",\" \", IF(COUNTRY_INFO!B19=0,\" \",COUNTRY_INFO!B19))","v":"Ashanti"},{"$f":"IF(INTRO!$E$43=\"Non-endemic\",\" \", IF(COUNTRY_INFO!C19=0,\" \",COUNTRY_INFO!C19))","v":"Adansi South"},{"$f":"IF(INTRO!$E$43=\"Non-endemic\", \"Not required\", COUNTRY_INFO!Y19)","v":1},{"$f":"IF(OR(COUNTRY_INFO!R19=\"Unknown\",COUNTRY_INFO!R19=\"Surveillance\",COUNTRY_INFO!R19=\"Not required\",COUNTRY_INFO!R19=0),0,IF($D19<>0, COUNTRY_INFO!R19,0))","v":6928},{"$f":"IF(OR(COUNTRY_INFO!S19=\"Unknown\",COUNTRY_INFO!S19=\"Surveillance\",COUNTRY_INFO!S19=\"Not required\",COUNTRY_INFO!S19=0),0,IF($D19<>0, COUNTRY_INFO!S19,0))","v":21760},{"$f":"IF(OR(COUNTRY_INFO!T19=\"Unknown\",COUNTRY_INFO!T19=\"Surveillance\",COUNTRY_INFO!T19=\"Not required\",COUNTRY_INFO!T19=0),0,IF($D19<>0, COUNTRY_INFO!T19,0))","v":0},28688,null,null,1,"SAC",null,{"$f":"IF($I19<>\"Yes\",$F19*2,($F19+ROUND(J19*$F19/SUM(COUNTRY_INFO!$E19:$G19),0))*2)","v":43520},{"$f":"IF($I19<>\"Yes\",$G19*3,($G19+ROUND(J19*$G19/SUM(COUNTRY_INFO!$E19:$G19),0))*3)","v":0},43520,null,43520]
[{"$f":"IF(INTRO!$E$43=\"Non-endemic\",\" \", IF(COUNTRY_INFO!A20=0,\" \",COUNTRY_INFO!A20))","v":"Ghana"},{"$f":"IF(INTRO!$E$43=\"Non-endemic\",\" \", IF(COUNTRY_INFO!B20=0,\" \",COUNTRY_INFO!B20))","v":"Ashanti"},{"$f":"IF(INTRO!$E$43=\"Non-endemic\",\" \", IF(COUNTRY_INFO!C20=0,\" \",COUNTRY_INFO!C20))","v":"Afigya Kwabre North"},{"$f":"IF(INTRO!$E$43=\"Non-endemic\", \"Not required\", COUNTRY_INFO!Y20)","v":1},{"$f":"IF(OR(COUNTRY_INFO!R20=\"Unknown\",COUNTRY_INFO!R20=\"Surveillance\",COUNTRY_INFO!R20=\"Not required\",COUNTRY_INFO!R20=0),0,IF($D20<>0, COUNTRY_INFO!R20,0))","v":5963},{"$f":"IF(OR(COUNTRY_INFO!S20=\"Unknown\",COUNTRY_INFO!S20=\"Surveillance\",COUNTRY_INFO!S20=\"Not required\",COUNTRY_INFO!S20=0),0,IF($D20<>0, COUNTRY_INFO!S20,0))","v":18728},{"$f":"IF(OR(COUNTRY_INFO!T20=\"Unknown\",COUNTRY_INFO!T20=\"Surveillance\",COUNTRY_INFO!T20=\"Not required\",COUNTRY_INFO!T20=0),0,IF($D20<>0, COUNTRY_INFO!T20,0))","v":0},24691,null,null,1,"SAC",null,{"$f":"IF($I20<>\"Yes\",$F20*2,($F20+ROUND(J20*$F20/SUM(COUNTRY_INFO!$E20:$G20),0))*2)","v":37456},{"$f":"IF($I20<>\"Yes\",$G20*3,($G20+ROUND(J20*$G20/SUM(COUNTRY_INFO!$E20:$G20),0))*3)","v":0},37456,null,37456]
[{"$f":"IF(INTRO!$E$43=\"Non-endemic\",\" \", IF(COUNTRY_INFO!A21=0,\" \",COUNTRY_INFO!A21))","v":"Ghana"},{"$f":"IF(INTRO!$E$43=\"Non-endemic\",\" \", IF(COUNTRY_INFO!B21=0,\" \",COUNTRY_INFO!B21))","v":"Ashanti"},{"$f":"IF(INTRO!$E$43=\"Non-endemic\",\" \", IF(COUNTRY_INFO!C21=0,\" \",COUNTRY_INFO!C21))","v":"Afigya Kwabre South"},{"$f":"IF(INTRO!$E$43=\"Non-endemic\", \"Not required\", COUNTRY_INFO!Y21)","v":1},{"$f":"IF(OR(COUNTRY_INFO!R21=\"Unknown\",COUNTRY_INFO!R21=\"Surveillance\",COUNTRY_INFO!R21=\"Not required\",COUNTRY_INFO!R21=0),0,IF($D21<>0, COUNTRY_INFO!R21,0))","v":19081},{"$f":"IF(OR(COUNTRY_INFO!S21=\"Unknown\",COUNTRY_INFO!S21=\"Surveillance\",COUNTRY_INFO!S21=\"Not required\",COUNTRY_INFO!S21=0),0,IF($D21<>0, COUNTRY_INFO!S21,0))","v":59933},{"$f":"IF(OR(COUNTRY_INFO!T21=\"Unknown\",COUNTRY_INFO!T21=\"Surveillance\",COUNTRY_INFO!T21=\"Not required\",COUNTRY_INFO!T21=0),0,IF($D21<>0, COUNTRY_INFO!T21,0))","v":0},79014,null,null,1,"SAC",null,{"$f":"IF($I21<>\"Yes\",$F21*2,($F21+ROUND(J21*$F21/SUM(COUNTRY_INFO!$E21:$G21),0))*2)","v":119866},{"$f":"IF($I21<>\"Yes\",$G21*3,($G21+ROUND(J21*$G21/SUM(COUNTRY_INFO!$E21:$G21),0))*3)","v":0},119866,null,119866]
[{"$f":"IF(INTRO!$E$43=\"Non-endemic\",\" \", IF(COUNTRY_INFO!A22=0,\" \",COUNTRY_INFO!A22))","v":"Ghana"},{"$f":"IF(INTRO!$E$43=\"Non-endemic\",\" \", IF(COUNTRY_INFO!B22=0,\" \",COUNTRY_INFO!B22))","v":"Ashanti"},{"$f":"IF(INTRO!$E$43=\"Non-endemic\",\" \", IF(COUNTRY_INFO!C22=0,\" \",COUNTRY_INFO!C22))","v":"Ahafo Ano North"},{"$f":"IF(INTRO!$E$43=\"Non-endemic\", \"Not required\", COUNTRY_INFO!Y22)","v":1},{"$f":"IF(OR(COUNTRY_INFO!R22=\"Unknown\",COUNTRY_INFO!R22=\"Surveillance\",COUNTRY_INFO!R22=\"Not required\",COUNTRY_INFO!R22=0),0,IF($D22<>0, COUNTRY_INFO!R22,0))","v":7541},{"$f":"IF(OR(COUNTRY_INFO!S22=\"Unknown\",COUNTRY_INFO!S22=\"Surveillance\",COUNTRY_INFO!S22=\"Not required\",COUNTRY_INFO!S22=0),0,IF($D22<>0, COUNTRY_INFO!S22,0))","v":23686},{"$f":"IF(OR(COUNTRY_INFO!T22=\"Unknown\",COUNTRY_INFO!T22=\"Surveillance\",COUNTRY_INFO!T22=\"Not required\",COUNTRY_INFO!T22=0),0,IF($D22<>0, COUNTRY_INFO!T22,0))","v":0},31227,null,null,1,"SAC",null,{"$f":"IF($I22<>\"Yes\",$F22*2,($F22+ROUND(J22*$F22/SUM(COUNTRY_INFO!$E22:$G22),0))*2)","v":47372},{"$f":"IF($I22<>\"Yes\",$G22*3,($G22+ROUND(J22*$G22/SUM(COUNTRY_INFO!$E22:$G22),0))*3)","v":0},47372,null,47372]
[{"$f":"IF(INTRO!$E$43=\"Non-endemic\",\" \", IF(COUNTRY_INFO!A23=0,\" \",COUNTRY_INFO!A23))","v":"Ghana"},{"$f":"IF(INTRO!$E$43=\"Non-endemic\",\" \", IF(COUNTRY_INFO!B23=0,\" \",COUNTRY_INFO!B23))","v":"Ashanti"},{"$f":"IF(INTRO!$E$43=\"Non-endemic\",\" \", IF(COUNTRY_INFO!C23=0,\" \",COUNTRY_INFO!C23))","v":"Ahafo Ano South East"},{"$f":"IF(INTRO!$E$43=\"Non-endemic\", \"Not required\", COUNTRY_INFO!Y23)","v":1},{"$f":"IF(OR(COUNTRY_INFO!R23=\"Unknown\",COUNTRY_INFO!R23=\"Surveillance\",COUNTRY_INFO!R23=\"Not required\",COUNTRY_INFO!R23=0),0,IF($D23<>0, COUNTRY_INFO!R23,0))","v":5161},{"$f":"IF(OR(COUNTRY_INFO!S23=\"Unknown\",COUNTRY_INFO!S23=\"Surveillance\",COUNTRY_INFO!S23=\"Not required\",COUNTRY_INFO!S23=0),0,IF($D23<>0, COUNTRY_INFO!S23,0))","v":16210},{"$f":"IF(OR(COUNTRY_INFO!T23=\"Unknown\",COUNTRY_INFO!T23=\"Surveillance\",COUNTRY_INFO!T23=\"Not required\",COUNTRY_INFO!T23=0),0,IF($D23<>0, COUNTRY_INFO!T23,0))","v":25641},47012,null,null,1,"SAC",null,{"$f":"IF($I23<>\"Yes\",$F23*2,($F23+ROUND(J23*$F23/SUM(COUNTRY_INFO!$E23:$G23),0))*2)","v":32420},{"$f":"IF($I23<>\"Yes\",$G23*3,($G23+ROUND(J23*$G23/SUM(COUNTRY_INFO!$E23:$G23),0))*3)","v":76923},109343,null,109343]
[{"$f":"IF(INTRO!$E$43=\"Non-endemic\",\" \", IF(COUNTRY_INFO!A24=0,\" \",COUNTRY_INFO!A24))","v":"Ghana"},{"$f":"IF(INTRO!$E$43=\"Non-endemic\",\" \", IF(COUNTRY_INFO!B24=0,\" \",COUNTRY_INFO!B24))","v":"Ashanti"},{"$f":"IF(INTRO!$E$43=\"Non-endemic\",\" \", IF(COUNTRY_INFO!C24=0,\" \",COUNTRY_INFO!C24))","v":"Ahafo Ano South West"},{"$f":"IF(INTRO!$E$43=\"Non-endemic\", \"Not required\", COUNTRY_INFO!Y24)","v":1},{"$f":"IF(OR(COUNTRY_INFO!R24=\"Unknown\",COUNTRY_INFO!R24=\"Surveillance\",COUNTRY_INFO!R24=\"Not required\",COUNTRY_INFO!R24=0),0,IF($D24<>0, COUNTRY_INFO!R24,0))","v":5348},{"$f":"IF(OR(COUNTRY_INFO!S24=\"Unknown\",COUNTRY_INFO!S24=\"Surveillance\",COUNTRY_INFO!S24=\"Not required\",COUNTRY_INFO!S24=0),0,IF($D24<>0, COUNTRY_INFO!S24,0))","v":16798},{"$f":"IF(OR(COUNTRY_INFO!T24=\"Unknown\",COUNTRY_INFO!T24=\"Surveillance\",COUNTRY_INFO!T24=\"Not required\",COUNTRY_INFO!T24=0),0,IF($D24<>0, COUNTRY_INFO!T24,0))","v":24326},46472,null,null,1,"SAC",null,{"$f":"IF($I24<>\"Yes\",$F24*2,($F24+ROUND(J24*$F24/SUM(COUNTRY_INFO!$E24:$G24),0))*2)","v":33596},{"$f":"IF($I24<>\"Yes\",$G24*3,($G24+ROUND(J24*$G24/SUM(COUNTRY_INFO!$E24:$G24),0))*3)","v":72978},106574,null,106574]
[{"$f":"IF(INTRO!$E$43=\"Non-endemic\",\" \", IF(COUNTRY_INFO!A25=0,\" \",COUNTRY_INFO!A25))","v":"Ghana"},{"$f":"IF(INTRO!$E$43=\"Non-endemic\",\" \", IF(COUNTRY_INFO!B25=0,\" \",COUNTRY_INFO!B25))","v":"Ashanti"},{"$f":"IF(INTRO!$E$43=\"Non-endemic\",\" \", IF(COUNTRY_INFO!C25=0,\" \",COUNTRY_INFO!C25))","v":"Amansie Central"},{"$f":"IF(INTRO!$E$43=\"Non-endemic\", \"Not required\", COUNTRY_INFO!Y25)","v":1},{"$f":"IF(OR(COUNTRY_INFO!R25=\"Unknown\",COUNTRY_INFO!R25=\"Surveillance\",COUNTRY_INFO!R25=\"Not required\",COUNTRY_INFO!R25=0),0,IF($D25<>0, COUNTRY_INFO!R25,0))","v":7566},{"$f":"IF(OR(COUNTRY_INFO!S25=\"Unknown\",COUNTRY_INFO!S25=\"Surveillance\",COUNTRY_INFO!S25=\"Not required\",COUNTRY_INFO!S25=0),0,IF($D25<>0, COUNTRY_INFO!S25,0))","v":23765},{"$f":"IF(OR(COUNTRY_INFO!T25=\"Unknown\",COUNTRY_INFO!T25=\"Surveillance\",COUNTRY_INFO!T25=\"Not required\",COUNTRY_INFO!T25=0),0,IF($D25<>0, COUNTRY_INFO!T25,0))","v":30265},61596,null,null,1,"SAC",null,{"$f":"IF($I25<>\"Yes\",$F25*2,($F25+ROUND(J25*$F25/SUM(COUNTRY_INFO!$E25:$G25),0))*2)","v":47530},{"$f":"IF($I25<>\"Yes\",$G25*3,($G25+ROUND(J25*$G25/SUM(COUNTRY_INFO!$E25:$G25),0))*3)","v":90795},138325,null,138325]
[{"$f":"IF(INTRO!$E$43=\"Non-endemic\",\" \", IF(COUNTRY_INFO!A26=0,\" \",COUNTRY_INFO!A26))","v":"Ghana"},{"$f":"IF(INTRO!$E$43=\"Non-endemic\",\" \", IF(COUNTRY_INFO!B26=0,\" \",COUNTRY_INFO!B26))","v":"Ashanti"},{"$f":"IF(INTRO!$E$43=\"Non-endemic\",\" \", IF(COUNTRY_INFO!C26=0,\" \",COUNTRY_INFO!C26))","v":"Amansie South"},{"$f":"IF(INTRO!$E$43=\"Non-endemic\", \"Not required\", COUNTRY_INFO!Y26)","v":1},{"$f":"IF(OR(COUNTRY_INFO!R26=\"Unknown\",COUNTRY_INFO!R26=\"Surveillance\",COUNTRY_INFO!R26=\"Not required\",COUNTRY_INFO!R26=0),0,IF($D26<>0, COUNTRY_INFO!R26,0))","v":9462},{"$f":"IF(OR(COUNTRY_INFO!S26=\"Unknown\",COUNTRY_INFO!S26=\"Surveillance\",COUNTRY_INFO!S26=\"Not required\",COUNTRY_INFO!S26=0),0,IF($D26<>0, COUNTRY_INFO!S26,0))","v":29720},{"$f":"IF(OR(COUNTRY_INFO!T26=\"Unknown\",COUNTRY_INFO!T26=\"Surveillance\",COUNTRY_INFO!T26=\"Not required\",COUNTRY_INFO!T26=0),0,IF($D26<>0, COUNTRY_INFO!T26,0))","v":25362},64544,null,null,1,"SAC",null,{"$f":"IF($I26<>\"Yes\",$F26*2,($F26+ROUND(J26*$F26/SUM(COUNTRY_INFO!$E26:$G26),0))*2)","v":59440},{"$f":"IF($I26<>\"Yes\",$G26*3,($G26+ROUND(J26*$G26/SUM(COUNTRY_INFO!$E26:$G26),0))*3)","v":76086},135526,null,135526]
[{"$f":"IF(INTRO!$E$43=\"Non-endemic\",\" \", IF(COUNTRY_INFO!A27=0,\" \",COUNTRY_INFO!A27))","v":"Ghana"},{"$f":"IF(INTRO!$E$43=\"Non-endemic\",\" \", IF(COUNTRY_INFO!B27=0,\" \",COUNTRY_INFO!B27))","v":"Ashanti"},{"$f":"IF(INTRO!$E$43=\"Non-endemic\",\" \", IF(COUNTRY_INFO!C27=0,\" \",COUNTRY_INFO!C27))","v":"Amansie West"},{"$f":"IF(INTRO!$E$43=\"Non-endemic\", \"Not required\", COUNTRY_INFO!Y27)","v":1},{"$f":"IF(OR(COUNTRY_INFO!R27=\"Unknown\",COUNTRY_INFO!R27=\"Surveillance\",COUNTRY_INFO!R27=\"Not required\",COUNTRY_INFO!R27=0),0,IF($D27<>0, COUNTRY_INFO!R27,0))","v":8897},{"$f":"IF(OR(COUNTRY_INFO!S27=\"Unknown\",COUNTRY_INFO!S27=\"Surveillance\",COUNTRY_INFO!S27=\"Not required\",COUNTRY_INFO!S27=0),0,IF($D27<>0, COUNTRY_INFO!S27,0))","v":27945},{"$f":"IF(OR(COUNTRY_INFO!T27=\"Unknown\",COUNTRY_INFO!T27=\"Surveillance\",COUNTRY_INFO!T27=\"Not required\",COUNTRY_INFO!T27=0),0,IF($D27<>0, COUNTRY_INFO!T27,0))","v":21236},58078,null,null,1,"SAC",null,{"$f":"IF($I27<>\"Yes\",$F27*2,($F27+ROUND(J27*$F27/SUM(COUNTRY_INFO!$E27:$G27),0))*2)","v":55890},{"$f":"IF($I27<>\"Yes\",$G27*3,($G27+ROUND(J27*$G27/SUM(COUNTRY_INFO!$E27:$G27),0))*3)","v":63708},119598,null,119598]
[{"$f":"IF(INTRO!$E$43=\"Non-endemic\",\" \", IF(COUNTRY_INFO!A28=0,\" \",COUNTRY_INFO!A28))","v":"Ghana"},{"$f":"IF(INTRO!$E$43=\"Non-endemic\",\" \", IF(COUNTRY_INFO!B28=0,\" \",COUNTRY_INFO!B28))","v":"Ashanti"},{"$f":"IF(INTRO!$E$43=\"Non-endemic\",\" \", IF(COUNTRY_INFO!C28=0,\" \",COUNTRY_INFO!C28))","v":"Asante Akim Central"},{"$f":"IF(INTRO!$E$43=\"Non-endemic\", \"Not required\", COUNTRY_INFO!Y28)","v":1},{"$f":"IF(OR(COUNTRY_INFO!R28=\"Unknown\",COUNTRY_INFO!R28=\"Surveillance\",COUNTRY_INFO!R28=\"Not required\",COUNTRY_INFO!R28=0),0,IF($D28<>0, COUNTRY_INFO!R28,0))","v":7454},{"$f":"IF(OR(COUNTRY_INFO!S28=\"Unknown\",COUNTRY_INFO!S28=\"Surveillance\",COUNTRY_INFO!S28=\"Not required\",COUNTRY_INFO!S28=0),0,IF($D28<>0, COUNTRY_INFO!S28,0))","v":23413},{"$f":"IF(OR(COUNTRY_INFO!T28=\"Unknown\",COUNTRY_INFO!T28=\"Surveillance\",COUNTRY_INFO!T28=\"Not required\",COUNTRY_INFO!T28=0),0,IF($D28<>0, COUNTRY_INFO!T28,0))","v":0},30867,null,null,1,"SAC",null,{"$f":"IF($I28<>\"Yes\",$F28*2,($F28+ROUND(J28*$F28/SUM(COUNTRY_INFO!$E28:$G28),0))*2)","v":46826},{"$f":"IF($I28<>\"Yes\",$G28*3,($G28+ROUND(J28*$G28/SUM(COUNTRY_INFO!$E28:$G28),0))*3)","v":0},46826,null,46826]
[{"$f":"IF(INTRO!$E$43=\"Non-endemic\",\" \", IF(COUNTRY_INFO!A29=0,\" \",COUNTRY_INFO!A29))","v":"Ghana"},{"$f":"IF(INTRO!$E$43=\"Non-endemic\",\" \", IF(COUNTRY_INFO!B29=0,\" \",COUNTRY_INFO!B29))","v":"Ashanti"},{"$f":"IF(INTRO!$E$43=\"Non-endemic\",\" \", IF(COUNTRY_INFO!C29=0,\" \",COUNTRY_INFO!C29))","v":"Asante Akim North"},{"$f":"IF(INTRO!$E$43=\"Non-endemic\", \"Not required\", COUNTRY_INFO!Y29)","v":1},{"$f":"IF(OR(COUNTRY_INFO!R29=\"Unknown\",COUNTRY_INFO!R29=\"Surveillance\",COUNTRY_INFO!R29=\"Not required\",COUNTRY_INFO!R29=0),0,IF($D29<>0, COUNTRY_INFO!R29,0))","v":6976},{"$f":"IF(OR(COUNTRY_INFO!S29=\"Unknown\",COUNTRY_INFO!S29=\"Surveillance\",COUNTRY_INFO!S29=\"Not required\",COUNTRY_INFO!S29=0),0,IF($D29<>0, COUNTRY_INFO!S29,0))","v":21910},{"$f":"IF(OR(COUNTRY_INFO!T29=\"Unknown\",COUNTRY_INFO!T29=\"Surveillance\",COUNTRY_INFO!T29=\"Not required\",COUNTRY_INFO!T29=0),0,IF($D29<>0, COUNTRY_INFO!T29,0))","v":0},28886,null,null,1,"SAC",null,{"$f":"IF($I29<>\"Yes\",$F29*2,($F29+ROUND(J29*$F29/SUM(COUNTRY_INFO!$E29:$G29),0))*2)","v":43820},{"$f":"IF($I29<>\"Yes\",$G29*3,($G29+ROUND(J29*$G29/SUM(COUNTRY_INFO!$E29:$G29),0))*3)","v":0},43820,null,43820]
[{"$f":"IF(INTRO!$E$43=\"Non-endemic\",\" \", IF(COUNTRY_INFO!A30=0,\" \",COUNTRY_INFO!A30))","v":"Ghana"},{"$f":"IF(INTRO!$E$43=\"Non-endemic\",\" \", IF(COUNTRY_INFO!B30=0,\" \",COUNTRY_INFO!B30))","v":"Ashanti"},{"$f":"IF(INTRO!$E$43=\"Non-endemic\",\" \", IF(COUNTRY_INFO!C30=0,\" \",COUNTRY_INFO!C30))","v":"Asante Akim South"},{"$f":"IF(INTRO!$E$43=\"Non-endemic\", \"Not required\", COUNTRY_INFO!Y30)","v":1},{"$f":"IF(OR(COUNTRY_INFO!R30=\"Unknown\",COUNTRY_INFO!R30=\"Surveillance\",COUNTRY_INFO!R30=\"Not required\",COUNTRY_INFO!R30=0),0,IF($D30<>0, COUNTRY_INFO!R30,0))","v":10053},{"$f":"IF(OR(COUNTRY_INFO!S30=\"Unknown\",COUNTRY_INFO!S30=\"Surveillance\",COUNTRY_INFO!S30=\"Not required\",COUNTRY_INFO!S30=0),0,IF($D30<>0, COUNTRY_INFO!S30,0))","v":31576},{"$f":"IF(OR(COUNTRY_INFO!T30=\"Unknown\",COUNTRY_INFO!T30=\"Surveillance\",COUNTRY_INFO!T30=\"Not required\",COUNTRY_INFO!T30=0),0,IF($D30<>0, COUNTRY_INFO!T30,0))","v":0},41629,null,null,1,"SAC",null,{"$f":"IF($I30<>\"Yes\",$F30*2,($F30+ROUND(J30*$F30/SUM(COUNTRY_INFO!$E30:$G30),0))*2)","v":63152},{"$f":"IF($I30<>\"Yes\",$G30*3,($G30+ROUND(J30*$G30/SUM(COUNTRY_INFO!$E30:$G30),0))*3)","v":0},63152,null,63152]
[{"$f":"IF(INTRO!$E$43=\"Non-endemic\",\" \", IF(COUNTRY_INFO!A31=0,\" \",COUNTRY_INFO!A31))","v":"Ghana"},{"$f":"IF(INTRO!$E$43=\"Non-endemic\",\" \", IF(COUNTRY_INFO!B31=0,\" \",COUNTRY_INFO!B31))","v":"Ashanti"},{"$f":"IF(INTRO!$E$43=\"Non-endemic\",\" \", IF(COUNTRY_INFO!C31=0,\" \",COUNTRY_INFO!C31))","v":"Asante Mampong"},{"$f":"IF(INTRO!$E$43=\"Non-endemic\", \"Not required\", COUNTRY_INFO!Y31)","v":1},{"$f":"IF(OR(COUNTRY_INFO!R31=\"Unknown\",COUNTRY_INFO!R31=\"Surveillance\",COUNTRY_INFO!R31=\"Not required\",COUNTRY_INFO!R31=0),0,IF($D31<>0, COUNTRY_INFO!R31,0))","v":9429},{"$f":"IF(OR(COUNTRY_INFO!S31=\"Unknown\",COUNTRY_INFO!S31=\"Surveillance\",COUNTRY_INFO!S31=\"Not required\",COUNTRY_INFO!S31=0),0,IF($D31<>0, COUNTRY_INFO!S31,0))","v":29617},{"$f":"IF(OR(COUNTRY_INFO!T31=\"Unknown\",COUNTRY_INFO!T31=\"Surveillance\",COUNTRY_INFO!T31=\"Not required\",COUNTRY_INFO!T31=0),0,IF($D31<>0, COUNTRY_INFO!T31,0))","v":0},39046,null,null,1,"SAC",null,{"$f":"IF($I31<>\"Yes\",$F31*2,($F31+ROUND(J31*$F31/SUM(COUNTRY_INFO!$E31:$G31),0))*2)","v":59234},{"$f":"IF($I31<>\"Yes\",$G31*3,($G31+ROUND(J31*$G31/SUM(COUNTRY_INFO!$E31:$G31),0))*3)","v":0},59234,null,59234]
[{"$f":"IF(INTRO!$E$43=\"Non-endemic\",\" \", IF(COUNTRY_INFO!A32=0,\" \",COUNTRY_INFO!A32))","v":"Ghana"},{"$f":"IF(INTRO!$E$43=\"Non-endemic\",\" \", IF(COUNTRY_INFO!B32=0,\" \",COUNTRY_INFO!B32))","v":"Ashanti"},{"$f":"IF(INTRO!$E$43=\"Non-endemic\",\" \", IF(COUNTRY_INFO!C32=0,\" \",COUNTRY_INFO!C32))","v":"Asokore Mampong"},{"$f":"IF(INTRO!$E$43=\"Non-endemic\", \"Not required\", COUNTRY_INFO!Y32)","v":0},{"$f":"IF(OR(COUNTRY_INFO!R32=\"Unknown\",COUNTRY_INFO!R32=\"Surveillance\",COUNTRY_INFO!R32=\"Not required\",COUNTRY_INFO!R32=0),0,IF($D32<>0, COUNTRY_INFO!R32,0))","v":0},{"$f":"IF(OR(COUNTRY_INFO!S32=\"Unknown\",COUNTRY_INFO!S32=\"Surveillance\",COUNTRY_INFO!S32=\"Not required\",COUNTRY_INFO!S32=0),0,IF($D32<>0, COUNTRY_INFO!S32,0))","v":0},{"$f":"IF(OR(COUNTRY_INFO!T32=\"Unknown\",COUNTRY_INFO!T32=\"Surveillance\",COUNTRY_INFO!T32=\"Not required\",COUNTRY_INFO!T32=0),0,IF($D32<>0, COUNTRY_INFO!T32,0))","v":0},0,null,null,null,null,null,{"$f":"IF($I32<>\"Yes\",$F32*2,($F32+ROUND(J32*$F32/SUM(COUNTRY_INFO!$E32:$G32),0))*2)","v":0},{"$f":"IF($I32<>\"Yes\",$G32*3,($G32+ROUND(J32*$G32/SUM(COUNTRY_INFO!$E32:$G32),0))*3)","v":0},0,null,0]
[{"$f":"IF(INTRO!$E$43=\"Non-endemic\",\" \", IF(COUNTRY_INFO!A33=0,\" \",COUNTRY_INFO!A33))","v":"Ghana"},{"$f":"IF(INTRO!$E$43=\"Non-endemic\",\" \", IF(COUNTRY_INFO!B33=0,\" \",COUNTRY_INFO!B33))","v":"Ashanti"},{"$f":"IF(INTRO!$E$43=\"Non-endemic\",\" \", IF(COUNTRY_INFO!C33=0,\" \",COUNTRY_INFO!C33))","v":"Asokwa"},{"$f":"IF(INTRO!$E$43=\"Non-endemic\", \"Not required\", COUNTRY_INFO!Y33)","v":0},{"$f":"IF(OR(COUNTRY_INFO!R33=\"Unknown\",COUNTRY_INFO!R33=\"Surveillance\",COUNTRY_INFO!R33=\"Not required\",COUNTRY_INFO!R33=0),0,IF($D33<>0, COUNTRY_INFO!R33,0))","v":0},{"$f":"IF(OR(COUNTRY_INFO!S33=\"Unknown\",COUNTRY_INFO!S33=\"Surveillance\",COUNTRY_INFO!S33=\"Not required\",COUNTRY_INFO!S33=0),0,IF($D33<>0, COUNTRY_INFO!S33,0))","v":0},{"$f":"IF(OR(COUNTRY_INFO!T33=\"Unknown\",COUNTRY_INFO!T33=\"Surveillance\",COUNTRY_INFO!T33=\"Not required\",COUNTRY_INFO!T33=0),0,IF($D33<>0, COUNTRY_INFO!T33,0))","v":0},0,null,null,null,null,null,{"$f":"IF($I33<>\"Yes\",$F33*2,($F33+ROUND(J33*$F33/SUM(COUNTRY_INFO!$E33:$G33),0))*2)","v":0},{"$f":"IF($I33<>\"Yes\",$G33*3,($G33+ROUND(J33*$G33/SUM(COUNTRY_INFO!$E33:$G33),0))*3)","v":0},0,null,0]
[{"$f":"IF(INTRO!$E$43=\"Non-endemic\",\" \", IF(COUNTRY_INFO!A34=0,\" \",COUNTRY_INFO!A34))","v":"Ghana"},{"$f":"IF(INTRO!$E$43=\"Non-endemic\",\" \", IF(COUNTRY_INFO!B34=0,\" \",COUNTRY_INFO!B34))","v":"Ashanti"},{"$f":"IF(INTRO!$E$43=\"Non-endemic\",\" \", IF(COUNTRY_INFO!C34=0,\" \",COUNTRY_INFO!C34))","v":"Atwima Kwanwoma"},{"$f":"IF(INTRO!$E$43=\"Non-endemic\", \"Not required\", COUNTRY_INFO!Y34)","v":0},{"$f":"IF(OR(COUNTRY_INFO!R34=\"Unknown\",COUNTRY_INFO!R34=\"Surveillance\",COUNTRY_INFO!R34=\"Not required\",COUNTRY_INFO!R34=0),0,IF($D34<>0, COUNTRY_INFO!R34,0))","v":0},{"$f":"IF(OR(COUNTRY_INFO!S34=\"Unknown\",COUNTRY_INFO!S34=\"Surveillance\",COUNTRY_INFO!S34=\"Not required\",COUNTRY_INFO!S34=0),0,IF($D34<>0, COUNTRY_INFO!S34,0))","v":0},{"$f":"IF(OR(COUNTRY_INFO!T34=\"Unknown\",COUNTRY_INFO!T34=\"Surveillance\",COUNTRY_INFO!T34=\"Not required\",COUNTRY_INFO!T34=0),0,IF($D34<>0, COUNTRY_INFO!T34,0))","v":0},0,null,null,null,null,null,{"$f":"IF($I34<>\"Yes\",$F34*2,($F34+ROUND(J34*$F34/SUM(COUNTRY_INFO!$E34:$G34),0))*2)","v":0},{"$f":"IF($I34<>\"Yes\",$G34*3,($G34+ROUND(J34*$G34/SUM(COUNTRY_INFO!$E34:$G34),0))*3)","v":0},0,null,0]
[{"$f":"IF(INTRO!$E$43=\"Non-endemic\",\" \", IF(COUNTRY_INFO!A35=0,\" \",COUNTRY_INFO!A35))","v":"Ghana"},{"$f":"IF(INTRO!$E$43=\"Non-endemic\",\" \", IF(COUNTRY_INFO!B35=0,\" \",COUNTRY_INFO!B35))","v":"Ashanti"},{"$f":"IF(INTRO!$E$43=\"Non-endemic\",\" \", IF(COUNTRY_INFO!C35=0,\" \",COUNTRY_INFO!C35))","v":"Atwima Mponua"},{"$f":"IF(INTRO!$E$43=\"Non-endemic\", \"Not required\", COUNTRY_INFO!Y35)","v":1},{"$f":"IF(OR(COUNTRY_INFO!R35=\"Unknown\",COUNTRY_INFO!R35=\"Surveillance\",COUNTRY_INFO!R35=\"Not required\",COUNTRY_INFO!R35=0),0,IF($D35<>0, COUNTRY_INFO!R35,0))","v":12624},{"$f":"IF(OR(COUNTRY_INFO!S35=\"Unknown\",COUNTRY_INFO!S35=\"Surveillance\",COUNTRY_INFO!S35=\"Not required\",COUNTRY_INFO!S35=0),0,IF($D35<>0, COUNTRY_INFO!S35,0))","v":39652},{"$f":"IF(OR(COUNTRY_INFO!T35=\"Unknown\",COUNTRY_INFO!T35=\"Surveillance\",COUNTRY_INFO!T35=\"Not required\",COUNTRY_INFO!T35=0),0,IF($D35<>0, COUNTRY_INFO!T35,0))","v":56524},108800,null,null,1,"SAC",null,{"$f":"IF($I35<>\"Yes\",$F35*2,($F35+ROUND(J35*$F35/SUM(COUNTRY_INFO!$E35:$G35),0))*2)","v":79304},{"$f":"IF($I35<>\"Yes\",$G35*3,($G35+ROUND(J35*$G35/SUM(COUNTRY_INFO!$E35:$G35),0))*3)","v":169572},248876,null,248876]
[{"$f":"IF(INTRO!$E$43=\"Non-endemic\",\" \", IF(COUNTRY_INFO!A36=0,\" \",COUNTRY_INFO!A36))","v":"Ghana"},{"$f":"IF(INTRO!$E$43=\"Non-endemic\",\" \", IF(COUNTRY_INFO!B36=0,\" \",COUNTRY_INFO!B36))","v":"Ashanti"},{"$f":"IF(INTRO!$E$43=\"Non-endemic\",\" \", IF(COUNTRY_INFO!C36=0,\" \",COUNTRY_INFO!C36))","v":"Atwima Nwabiagya"},{"$f":"IF(INTRO!$E$43=\"Non-endemic\", \"Not required\", COUNTRY_INFO!Y36)","v":1},{"$f":"IF(OR(COUNTRY_INFO!R36=\"Unknown\",COUNTRY_INFO!R36=\"Surveillance\",COUNTRY_INFO!R36=\"Not required\",COUNTRY_INFO!R36=0),0,IF($D36<>0, COUNTRY_INFO!R36,0))","v":13163},{"$f":"IF(OR(COUNTRY_INFO!S36=\"Unknown\",COUNTRY_INFO!S36=\"Surveillance\",COUNTRY_INFO!S36=\"Not required\",COUNTRY_INFO!S36=0),0,IF($D36<>0, COUNTRY_INFO!S36,0))","v":41347},{"$f":"IF(OR(COUNTRY_INFO!T36=\"Unknown\",COUNTRY_INFO!T36=\"Surveillance\",COUNTRY_INFO!T36=\"Not required\",COUNTRY_INFO!T36=0),0,IF($D36<>0, COUNTRY_INFO!T36,0))","v":0},54510,null,null,1,"SAC",null,{"$f":"IF($I36<>\"Yes\",$F36*2,($F36+ROUND(J36*$F36/SUM(COUNTRY_INFO!$E36:$G36),0))*2)","v":82694},{"$f":"IF($I36<>\"Yes\",$G36*3,($G36+ROUND(J36*$G36/SUM(COUNTRY_INFO!$E36:$G36),0))*3)","v":0},82694,null,82694]
[{"$f":"IF(INTRO!$E$43=\"Non-endemic\",\" \", IF(COUNTRY_INFO!A37=0,\" \",COUNTRY_INFO!A37))","v":"Ghana"},{"$f":"IF(INTRO!$E$43=\"Non-endemic\",\" \", IF(COUNTRY_INFO!B37=0,\" \",COUNTRY_INFO!B37))","v":"Ashanti"},{"$f":"IF(INTRO!$E$43=\"Non-endemic\",\" \", IF(COUNTRY_INFO!C37=0,\" \",COUNTRY_INFO!C37))","v":"Atwima Nwabiagya North"},{"$f":"IF(INTRO!$E$43=\"Non-endemic\", \"Not required\", COUNTRY_INFO!Y37)","v":1},{"$f":"IF(OR(COUNTRY_INFO!R37=\"Unknown\",COUNTRY_INFO!R37=\"Surveillance\",COUNTRY_INFO!R37=\"Not required\",COUNTRY_INFO!R37=0),0,IF($D37<>0, COUNTRY_INFO!R37,0))","v":12605},{"$f":"IF(OR(COUNTRY_INFO!S37=\"Unknown\",COUNTRY_INFO!S37=\"Surveillance\",COUNTRY_INFO!S37=\"Not required\",COUNTRY_INFO!S37=0),0,IF($D37<>0, COUNTRY_INFO!S37,0))","v":39593},{"$f":"IF(OR(COUNTRY_INFO!T37=\"Unknown\",COUNTRY_INFO!T37=\"Surveillance\",COUNTRY_INFO!T37=\"Not required\",COUNTRY_INFO!T37=0),0,IF($D37<>0, COUNTRY_INFO!T37,0))","v":0},52198,null,null,1,"SAC",null,{"$f":"IF($I37<>\"Yes\",$F37*2,($F37+ROUND(J37*$F37/SUM(COUNTRY_INFO!$E37:$G37),0))*2)","v":79186},{"$f":"IF($I37<>\"Yes\",$G37*3,($G37+ROUND(J37*$G37/SUM(COUNTRY_INFO!$E37:$G37),0))*3)","v":0},79186,null,79186]
[{"$f":"IF(INTRO!$E$43=\"Non-endemic\",\" \", IF(COUNTRY_INFO!A38=0,\" \",COUNTRY_INFO!A38))","v":"Ghana"},{"$f":"IF(INTRO!$E$43=\"Non-endemic\",\" \", IF(COUNTRY_INFO!B38=0,\" \",COUNTRY_INFO!B38))","v":"Ashanti"},{"$f":"IF(INTRO!$E$43=\"Non-endemic\",\" \", IF(COUNTRY_INFO!C38=0,\" \",COUNTRY_INFO!C38))","v":"Bekwai"},{"$f":"IF(INTRO!$E$43=\"Non-endemic\", \"Not required\", COUNTRY_INFO!Y38)","v":0},{"$f":"IF(OR(COUNTRY_INFO!R38=\"Unknown\",COUNTRY_INFO!R38=\"Surveillance\",COUNTRY_INFO!R38=\"Not required\",COUNTRY_INFO!R38=0),0,IF($D38<>0, COUNTRY_INFO!R38,0))","v":0},{"$f":"IF(OR(COUNTRY_INFO!S38=\"Unknown\",COUNTRY_INFO!S38=\"Surveillance\",COUNTRY_INFO!S38=\"Not required\",COUNTRY_INFO!S38=0),0,IF($D38<>0, COUNTRY_INFO!S38,0))","v":0},{"$f":"IF(OR(COUNTRY_INFO!T38=\"Unknown\",COUNTRY_INFO!T38=\"Surveillance\",COUNTRY_INFO!T38=\"Not required\",COUNTRY_INFO!T38=0),0,IF($D38<>0, COUNTRY_INFO!T38,0))","v":0},0,null,null,null,null,null,{"$f":"IF($I38<>\"Yes\",$F38*2,($F38+ROUND(J38*$F38/SUM(COUNTRY_INFO!$E38:$G38),0))*2)","v":0},{"$f":"IF($I38<>\"Yes\",$G38*3,($G38+ROUND(J38*$G38/SUM(COUNTRY_INFO!$E38:$G38),0))*3)","v":0},0,null,0]
[{"$f":"IF(INTRO!$E$43=\"Non-endemic\",\" \", IF(COUNTRY_INFO!A39=0,\" \",COUNTRY_INFO!A39))","v":"Ghana"},{"$f":"IF(INTRO!$E$43=\"Non-endemic\",\" \", IF(COUNTRY_INFO!B39=0,\" \",COUNTRY_INFO!B39))","v":"Ashanti"},{"$f":"IF(INTRO!$E$43=\"Non-endemic\",\" \", IF(COUNTRY_INFO!C39=0,\" \",COUNTRY_INFO!C39))","v":"Bosome Freho"},{"$f":"IF(INTRO!$E$43=\"Non-endemic\", \"Not required\", COUNTRY_INFO!Y39)","v":1},{"$f":"IF(OR(COUNTRY_INFO!R39=\"Unknown\",COUNTRY_INFO!R39=\"Surveillance\",COUNTRY_INFO!R39=\"Not required\",COUNTRY_INFO!R39=0),0,IF($D39<>0, COUNTRY_INFO!R39,0))","v":5063},{"$f":"IF(OR(COUNTRY_INFO!S39=\"Unknown\",COUNTRY_INFO!S39=\"Surveillance\",COUNTRY_INFO!S39=\"Not required\",COUNTRY_INFO!S39=0),0,IF($D39<>0, COUNTRY_INFO!S39,0))","v":15901},{"$f":"IF(OR(COUNTRY_INFO!T39=\"Unknown\",COUNTRY_INFO!T39=\"Surveillance\",COUNTRY_INFO!T39=\"Not required\",COUNTRY_INFO!T39=0),0,IF($D39<>0, COUNTRY_INFO!T39,0))","v":25632},46596,null,null,1,"SAC",null,{"$f":"IF($I39<>\"Yes\",$F39*2,($F39+ROUND(J39*$F39/SUM(COUNTRY_INFO!$E39:$G39),0))*2)","v":31802},{"$f":"IF($I39<>\"Yes\",$G39*3,($G39+ROUND(J39*$G39/SUM(COUNTRY_INFO!$E39:$G39),0))*3)","v":76896},108698,null,108698]
[{"$f":"IF(INTRO!$E$43=\"Non-endemic\",\" \", IF(COUNTRY_INFO!A40=0,\" \",COUNTRY_INFO!A40))","v":"Ghana"},{"$f":"IF(INTRO!$E$43=\"Non-endemic\",\" \", IF(COUNTRY_INFO!B40=0,\" \",COUNTRY_INFO!B40))","v":"Ashanti"},{"$f":"IF(INTRO!$E$43=\"Non-endemic\",\" \", IF(COUNTRY_INFO!C40=0,\" \",COUNTRY_INFO!C40))","v":"Bosomtwe"},{"$f":"IF(INTRO!$E$43=\"Non-endemic\", \"Not required\", COUNTRY_INFO!Y40)","v":1},{"$f":"IF(OR(COUNTRY_INFO!R40=\"Unknown\",COUNTRY_INFO!R40=\"Surveillance\",COUNTRY_INFO!R40=\"Not required\",COUNTRY_INFO!R40=0),0,IF($D40<>0, COUNTRY_INFO!R40,0))","v":13431},{"$f":"IF(OR(COUNTRY_INFO!S40=\"Unknown\",COUNTRY_INFO!S40=\"Surveillance\",COUNTRY_INFO!S40=\"Not required\",COUNTRY_INFO!S40=0),0,IF($D40<>0, COUNTRY_INFO!S40,0))","v":42187},{"$f":"IF(OR(COUNTRY_INFO!T40=\"Unknown\",COUNTRY_INFO!T40=\"Surveillance\",COUNTRY_INFO!T40=\"Not required\",COUNTRY_INFO!T40=0),0,IF($D40<>0, COUNTRY_INFO!T40,0))","v":0},55618,null,null,1,"SAC",null,{"$f":"IF($I40<>\"Yes\",$F40*2,($F40+ROUND(J40*$F40/SUM(COUNTRY_INFO!$E40:$G40),0))*2)","v":84374},{"$f":"IF($I40<>\"Yes\",$G40*3,($G40+ROUND(J40*$G40/SUM(COUNTRY_INFO!$E40:$G40),0))*3)","v":0},84374,null,84374]
[{"$f":"IF(INTRO!$E$43=\"Non-endemic\",\" \", IF(COUNTRY_INFO!A41=0,\" \",COUNTRY_INFO!A41))","v":"Ghana"},{"$f":"IF(INTRO!$E$43=\"Non-endemic\",\" \", IF(COUNTRY_INFO!B41=0,\" \",COUNTRY_INFO!B41))","v":"Ashanti"},{"$f":"IF(INTRO!$E$43=\"Non-endemic\",\" \", IF(COUNTRY_INFO!C41=0,\" \",COUNTRY_INFO!C41))","v":"Ejisu"},{"$f":"IF(INTRO!$E$43=\"Non-endemic\", \"Not required\", COUNTRY_INFO!Y41)","v":1},{"$f":"IF(OR(COUNTRY_INFO!R41=\"Unknown\",COUNTRY_INFO!R41=\"Surveillance\",COUNTRY_INFO!R41=\"Not required\",COUNTRY_INFO!R41=0),0,IF($D41<>0, COUNTRY_INFO!R41,0))","v":14695},{"$f":"IF(OR(COUNTRY_INFO!S41=\"Unknown\",COUNTRY_INFO!S41=\"Surveillance\",COUNTRY_INFO!S41=\"Not required\",COUNTRY_INFO!S41=0),0,IF($D41<>0, COUNTRY_INFO!S41,0))","v":46156},{"$f":"IF(OR(COUNTRY_INFO!T41=\"Unknown\",COUNTRY_INFO!T41=\"Surveillance\",COUNTRY_INFO!T41=\"Not required\",COUNTRY_INFO!T41=0),0,IF($D41<>0, COUNTRY_INFO!T41,0))","v":0},60851,null,null,1,"SAC",null,{"$f":"IF($I41<>\"Yes\",$F41*2,($F41+ROUND(J41*$F41/SUM(COUNTRY_INFO!$E41:$G41),0))*2)","v":92312},{"$f":"IF($I41<>\"Yes\",$G41*3,($G41+ROUND(J41*$G41/SUM(COUNTRY_INFO!$E41:$G41),0))*3)","v":0},92312,null,92312]
[{"$f":"IF(INTRO!$E$43=\"Non-endemic\",\" \", IF(COUNTRY_INFO!A42=0,\" \",COUNTRY_INFO!A42))","v":"Ghana"},{"$f":"IF(INTRO!$E$43=\"Non-endemic\",\" \", IF(COUNTRY_INFO!B42=0,\" \",COUNTRY_INFO!B42))","v":"Ashanti"},{"$f":"IF(INTRO!$E$43=\"Non-endemic\",\" \", IF(COUNTRY_INFO!C42=0,\" \",COUNTRY_INFO!C42))","v":"Ejura-Sekyedumase"},{"$f":"IF(INTRO!$E$43=\"Non-endemic\", \"Not required\", COUNTRY_INFO!Y42)","v":1},{"$f":"IF(OR(COUNTRY_INFO!R42=\"Unknown\",COUNTRY_INFO!R42=\"Surveillance\",COUNTRY_INFO!R42=\"Not required\",COUNTRY_INFO!R42=0),0,IF($D42<>0, COUNTRY_INFO!R42,0))","v":11195},{"$f":"IF(OR(COUNTRY_INFO!S42=\"Unknown\",COUNTRY_INFO!S42=\"Surveillance\",COUNTRY_INFO!S42=\"Not required\",COUNTRY_INFO!S42=0),0,IF($D42<>0, COUNTRY_INFO!S42,0))","v":35161},{"$f":"IF(OR(COUNTRY_INFO!T42=\"Unknown\",COUNTRY_INFO!T42=\"Surveillance\",COUNTRY_INFO!T42=\"Not required\",COUNTRY_INFO!T42=0),0,IF($D42<>0, COUNTRY_INFO!T42,0))","v":37895},84251,null,null,1,"SAC",null,{"$f":"IF($I42<>\"Yes\",$F42*2,($F42+ROUND(J42*$F42/SUM(COUNTRY_INFO!$E42:$G42),0))*2)","v":70322},{"$f":"IF($I42<>\"Yes\",$G42*3,($G42+ROUND(J42*$G42/SUM(COUNTRY_INFO!$E42:$G42),0))*3)","v":113685},184007,null,184007]
[{"$f":"IF(INTRO!$E$43=\"Non-endemic\",\" \", IF(COUNTRY_INFO!A43=0,\" \",COUNTRY_INFO!A43))","v":"Ghana"},{"$f":"IF(INTRO!$E$43=\"Non-endemic\",\" \", IF(COUNTRY_INFO!B43=0,\" \",COUNTRY_INFO!B43))","v":"Ashanti"},{"$f":"IF(INTRO!$E$43=\"Non-endemic\",\" \", IF(COUNTRY_INFO!C43=0,\" \",COUNTRY_INFO!C43))","v":"Juaben"},{"$f":"IF(INTRO!$E$43=\"Non-endemic\", \"Not required\", COUNTRY_INFO!Y43)","v":1},{"$f":"IF(OR(COUNTRY_INFO!R43=\"Unknown\",COUNTRY_INFO!R43=\"Surveillance\",COUNTRY_INFO!R43=\"Not required\",COUNTRY_INFO!R43=0),0,IF($D43<>0, COUNTRY_INFO!R43,0))","v":5198},{"$f":"IF(OR(COUNTRY_INFO!S43=\"Unknown\",COUNTRY_INFO!S43=\"Surveillance\",COUNTRY_INFO!S43=\"Not required\",COUNTRY_INFO!S43=0),0,IF($D43<>0, COUNTRY_INFO!S43,0))","v":16327},{"$f":"IF(OR(COUNTRY_INFO!T43=\"Unknown\",COUNTRY_INFO!T43=\"Surveillance\",COUNTRY_INFO!T43=\"Not required\",COUNTRY_INFO!T43=0),0,IF($D43<>0, COUNTRY_INFO!T43,0))","v":0},21525,null,null,1,"SAC",null,{"$f":"IF($I43<>\"Yes\",$F43*2,($F43+ROUND(J43*$F43/SUM(COUNTRY_INFO!$E43:$G43),0))*2)","v":32654},{"$f":"IF($I43<>\"Yes\",$G43*3,($G43+ROUND(J43*$G43/SUM(COUNTRY_INFO!$E43:$G43),0))*3)","v":0},32654,null,32654]
[{"$f":"IF(INTRO!$E$43=\"Non-endemic\",\" \", IF(COUNTRY_INFO!A44=0,\" \",COUNTRY_INFO!A44))","v":"Ghana"},{"$f":"IF(INTRO!$E$43=\"Non-endemic\",\" \", IF(COUNTRY_INFO!B44=0,\" \",COUNTRY_INFO!B44))","v":"Ashanti"},{"$f":"IF(INTRO!$E$43=\"Non-endemic\",\" \", IF(COUNTRY_INFO!C44=0,\" \",COUNTRY_INFO!C44))","v":"Kumasi"},{"$f":"IF(INTRO!$E$43=\"Non-endemic\", \"Not required\", COUNTRY_INFO!Y44)","v":0},{"$f":"IF(OR(COUNTRY_INFO!R44=\"Unknown\",COUNTRY_INFO!R44=\"Surveillance\",COUNTRY_INFO!R44=\"Not required\",COUNTRY_INFO!R44=0),0,IF($D44<>0, COUNTRY_INFO!R44,0))","v":0},{"$f":"IF(OR(COUNTRY_INFO!S44=\"Unknown\",COUNTRY_INFO!S44=\"Surveillance\",COUNTRY_INFO!S44=\"Not required\",COUNTRY_INFO!S44=0),0,IF($D44<>0, COUNTRY_INFO!S44,0))","v":0},{"$f":"IF(OR(COUNTRY_INFO!T44=\"Unknown\",COUNTRY_INFO!T44=\"Surveillance\",COUNTRY_INFO!T44=\"Not required\",COUNTRY_INFO!T44=0),0,IF($D44<>0, COUNTRY_INFO!T44,0))","v":0},0,null,null,null,null,null,{"$f":"IF($I44<>\"Yes\",$F44*2,($F44+ROUND(J44*$F44/SUM(COUNTRY_INFO!$E44:$G44),0))*2)","v":0},{"$f":"IF($I44<>\"Yes\",$G44*3,($G44+ROUND(J44*$G44/SUM(COUNTRY_INFO!$E44:$G44),0))*3)","v":0},0,null,0]
[{"$f":"IF(INTRO!$E$43=\"Non-endemic\",\" \", IF(COUNTRY_INFO!A45=0,\" \",COUNTRY_INFO!A45))","v":"Ghana"},{"$f":"IF(INTRO!$E$43=\"Non-endemic\",\" \", IF(COUNTRY_INFO!B45=0,\" \",COUNTRY_INFO!B45))","v":"Ashanti"},{"$f":"IF(INTRO!$E$43=\"Non-endemic\",\" \", IF(COUNTRY_INFO!C45=0,\" \",COUNTRY_INFO!C45))","v":"Kwabre East"},{"$f":"IF(INTRO!$E$43=\"Non-endemic\", \"Not required\", COUNTRY_INFO!Y45)","v":0},{"$f":"IF(OR(COUNTRY_INFO!R45=\"Unknown\",COUNTRY_INFO!R45=\"Surveillance\",COUNTRY_INFO!R45=\"Not required\",COUNTRY_INFO!R45=0),0,IF($D45<>0, COUNTRY_INFO!R45,0))","v":0},{"$f":"IF(OR(COUNTRY_INFO!S45=\"Unknown\",COUNTRY_INFO!S45=\"Surveillance\",COUNTRY_INFO!S45=\"Not required\",COUNTRY_INFO!S45=0),0,IF($D45<>0, COUNTRY_INFO!S45,0))","v":0},{"$f":"IF(OR(COUNTRY_INFO!T45=\"Unknown\",COUNTRY_INFO!T45=\"Surveillance\",COUNTRY_INFO!T45=\"Not required\",COUNTRY_INFO!T45=0),0,IF($D45<>0, COUNTRY_INFO!T45,0))","v":0},0,null,null,null,null,null,{"$f":"IF($I45<>\"Yes\",$F45*2,($F45+ROUND(J45*$F45/SUM(COUNTRY_INFO!$E45:$G45),0))*2)","v":0},{"$f":"IF($I45<>\"Yes\",$G45*3,($G45+ROUND(J45*$G45/SUM(COUNTRY_INFO!$E45:$G45),0))*3)","v":0},0,null,0]
[{"$f":"IF(INTRO!$E$43=\"Non-endemic\",\" \", IF(COUNTRY_INFO!A46=0,\" \",COUNTRY_INFO!A46))","v":"Ghana"},{"$f":"IF(INTRO!$E$43=\"Non-endemic\",\" \", IF(COUNTRY_INFO!B46=0,\" \",COUNTRY_INFO!B46))","v":"Ashanti"},{"$f":"IF(INTRO!$E$43=\"Non-endemic\",\" \", IF(COUNTRY_INFO!C46=0,\" \",COUNTRY_INFO!C46))","v":"Kwadaso"},{"$f":"IF(INTRO!$E$43=\"Non-endemic\", \"Not required\", COUNTRY_INFO!Y46)","v":0},{"$f":"IF(OR(COUNTRY_INFO!R46=\"Unknown\",COUNTRY_INFO!R46=\"Surveillance\",COUNTRY_INFO!R46=\"Not required\",COUNTRY_INFO!R46=0),0,IF($D46<>0, COUNTRY_INFO!R46,0))","v":0},{"$f":"IF(OR(COUNTRY_INFO!S46=\"Unknown\",COUNTRY_INFO!S46=\"Surveillance\",COUNTRY_INFO!S46=\"Not required\",COUNTRY_INFO!S46=0),0,IF($D46<>0, COUNTRY_INFO!S46,0))","v":0},{"$f":"IF(OR(COUNTRY_INFO!T46=\"Unknown\",COUNTRY_INFO!T46=\"Surveillance\",COUNTRY_INFO!T46=\"Not required\",COUNTRY_INFO!T46=0),0,IF($D46<>0, COUNTRY_INFO!T46,0))","v":0},0,null,null,null,null,null,{"$f":"IF($I46<>\"Yes\",$F46*2,($F46+ROUND(J46*$F46/SUM(COUNTRY_INFO!$E46:$G46),0))*2)","v":0},{"$f":"IF($I46<>\"Yes\",$G46*3,($G46+ROUND(J46*$G46/SUM(COUNTRY_INFO!$E46:$G46),0))*3)","v":0},0,null,0]
[{"$f":"IF(INTRO!$E$43=\"Non-endemic\",\" \", IF(COUNTRY_INFO!A47=0,\" \",COUNTRY_INFO!A47))","v":"Ghana"},{"$f":"IF(INTRO!$E$43=\"Non-endemic\",\" \", IF(COUNTRY_INFO!B47=0,\" \",COUNTRY_INFO!B47))","v":"Ashanti"},{"$f":"IF(INTRO!$E$43=\"Non-endemic\",\" \", IF(COUNTRY_INFO!C47=0,\" \",COUNTRY_INFO!C47))","v":"Obuasi"},{"$f":"IF(INTRO!$E$43=\"Non-endemic\", \"Not required\", COUNTRY_INFO!Y47)","v":1},{"$f":"IF(OR(COUNTRY_INFO!R47=\"Unknown\",COUNTRY_INFO!R47=\"Surveillance\",COUNTRY_INFO!R47=\"Not required\",COUNTRY_INFO!R47=0),0,IF($D47<>0, COUNTRY_INFO!R47,0))","v":8480},{"$f":"IF(OR(COUNTRY_INFO!S47=\"Unknown\",COUNTRY_INFO!S47=\"Surveillance\",COUNTRY_INFO!S47=\"Not required\",COUNTRY_INFO!S47=0),0,IF($D47<>0, COUNTRY_INFO!S47,0))","v":26637},{"$f":"IF(OR(COUNTRY_INFO!T47=\"Unknown\",COUNTRY_INFO!T47=\"Surveillance\",COUNTRY_INFO!T47=\"Not required\",COUNTRY_INFO!T47=0),0,IF($D47<>0, COUNTRY_INFO!T47,0))","v":0},35117,null,null,1,"SAC",null,{"$f":"IF($I47<>\"Yes\",$F47*2,($F47+ROUND(J47*$F47/SUM(COUNTRY_INFO!$E47:$G47),0))*2)","v":53274},{"$f":"IF($I47<>\"Yes\",$G47*3,($G47+ROUND(J47*$G47/SUM(COUNTRY_INFO!$E47:$G47),0))*3)","v":0},53274,null,53274]
[{"$f":"IF(INTRO!$E$43=\"Non-endemic\",\" \", IF(COUNTRY_INFO!A48=0,\" \",COUNTRY_INFO!A48))","v":"Ghana"},{"$f":"IF(INTRO!$E$43=\"Non-endemic\",\" \", IF(COUNTRY_INFO!B48=0,\" \",COUNTRY_INFO!B48))","v":"Ashanti"},{"$f":"IF(INTRO!$E$43=\"Non-endemic\",\" \", IF(COUNTRY_INFO!C48=0,\" \",COUNTRY_INFO!C48))","v":"Obuasi East"},{"$f":"IF(INTRO!$E$43=\"Non-endemic\", \"Not required\", COUNTRY_INFO!Y48)","v":1},{"$f":"IF(OR(COUNTRY_INFO!R48=\"Unknown\",COUNTRY_INFO!R48=\"Surveillance\",COUNTRY_INFO!R48=\"Not required\",COUNTRY_INFO!R48=0),0,IF($D48<>0, COUNTRY_INFO!R48,0))","v":7514},{"$f":"IF(OR(COUNTRY_INFO!S48=\"Unknown\",COUNTRY_INFO!S48=\"Surveillance\",COUNTRY_INFO!S48=\"Not required\",COUNTRY_INFO!S48=0),0,IF($D48<>0, COUNTRY_INFO!S48,0))","v":23599},{"$f":"IF(OR(COUNTRY_INFO!T48=\"Unknown\",COUNTRY_INFO!T48=\"Surveillance\",COUNTRY_INFO!T48=\"Not required\",COUNTRY_INFO!T48=0),0,IF($D48<>0, COUNTRY_INFO!T48,0))","v":0},31113,null,null,1,"SAC",null,{"$f":"IF($I48<>\"Yes\",$F48*2,($F48+ROUND(J48*$F48/SUM(COUNTRY_INFO!$E48:$G48),0))*2)","v":47198},{"$f":"IF($I48<>\"Yes\",$G48*3,($G48+ROUND(J48*$G48/SUM(COUNTRY_INFO!$E48:$G48),0))*3)","v":0},47198,null,47198]
[{"$f":"IF(INTRO!$E$43=\"Non-endemic\",\" \", IF(COUNTRY_INFO!A49=0,\" \",COUNTRY_INFO!A49))","v":"Ghana"},{"$f":"IF(INTRO!$E$43=\"Non-endemic\",\" \", IF(COUNTRY_INFO!B49=0,\" \",COUNTRY_INFO!B49))","v":"Ashanti"},{"$f":"IF(INTRO!$E$43=\"Non-endemic\",\" \", IF(COUNTRY_INFO!C49=0,\" \",COUNTRY_INFO!C49))","v":"Offinso"},{"$f":"IF(INTRO!$E$43=\"Non-endemic\", \"Not required\", COUNTRY_INFO!Y49)","v":1},{"$f":"IF(OR(COUNTRY_INFO!R49=\"Unknown\",COUNTRY_INFO!R49=\"Surveillance\",COUNTRY_INFO!R49=\"Not required\",COUNTRY_INFO!R49=0),0,IF($D49<>0, COUNTRY_INFO!R49,0))","v":11162},{"$f":"IF(OR(COUNTRY_INFO!S49=\"Unknown\",COUNTRY_INFO!S49=\"Surveillance\",COUNTRY_INFO!S49=\"Not required\",COUNTRY_INFO!S49=0),0,IF($D49<>0, COUNTRY_INFO!S49,0))","v":35059},{"$f":"IF(OR(COUNTRY_INFO!T49=\"Unknown\",COUNTRY_INFO!T49=\"Surveillance\",COUNTRY_INFO!T49=\"Not required\",COUNTRY_INFO!T49=0),0,IF($D49<>0, COUNTRY_INFO!T49,0))","v":0},46221,null,null,1,"SAC",null,{"$f":"IF($I49<>\"Yes\",$F49*2,($F49+ROUND(J49*$F49/SUM(COUNTRY_INFO!$E49:$G49),0))*2)","v":70118},{"$f":"IF($I49<>\"Yes\",$G49*3,($G49+ROUND(J49*$G49/SUM(COUNTRY_INFO!$E49:$G49),0))*3)","v":0},70118,null,70118]
[{"$f":"IF(INTRO!$E$43=\"Non-endemic\",\" \", IF(COUNTRY_INFO!A50=0,\" \",COUNTRY_INFO!A50))","v":"Ghana"},{"$f":"IF(INTRO!$E$43=\"Non-endemic\",\" \", IF(COUNTRY_INFO!B50=0,\" \",COUNTRY_INFO!B50))","v":"Ashanti"},{"$f":"IF(INTRO!$E$43=\"Non-endemic\",\" \", IF(COUNTRY_INFO!C50=0,\" \",COUNTRY_INFO!C50))","v":"Offinso North"},{"$f":"IF(INTRO!$E$43=\"Non-endemic\", \"Not required\", COUNTRY_INFO!Y50)","v":1},{"$f":"IF(OR(COUNTRY_INFO!R50=\"Unknown\",COUNTRY_INFO!R50=\"Surveillance\",COUNTRY_INFO!R50=\"Not required\",COUNTRY_INFO!R50=0),0,IF($D50<>0, COUNTRY_INFO!R50,0))","v":6785},{"$f":"IF(OR(COUNTRY_INFO!S50=\"Unknown\",COUNTRY_INFO!S50=\"Surveillance\",COUNTRY_INFO!S50=\"Not required\",COUNTRY_INFO!S50=0),0,IF($D50<>0, COUNTRY_INFO!S50,0))","v":21310},{"$f":"IF(OR(COUNTRY_INFO!T50=\"Unknown\",COUNTRY_INFO!T50=\"Surveillance\",COUNTRY_INFO!T50=\"Not required\",COUNTRY_INFO!T50=0),0,IF($D50<>0, COUNTRY_INFO!T50,0))","v":0},28095,null,null,1,"SAC",null,{"$f":"IF($I50<>\"Yes\",$F50*2,($F50+ROUND(J50*$F50/SUM(COUNTRY_INFO!$E50:$G50),0))*2)","v":42620},{"$f":"IF($I50<>\"Yes\",$G50*3,($G50+ROUND(J50*$G50/SUM(COUNTRY_INFO!$E50:$G50),0))*3)","v":0},42620,null,42620]
[{"$f":"IF(INTRO!$E$43=\"Non-endemic\",\" \", IF(COUNTRY_INFO!A51=0,\" \",COUNTRY_INFO!A51))","v":"Ghana"},{"$f":"IF(INTRO!$E$43=\"Non-endemic\",\" \", IF(COUNTRY_INFO!B51=0,\" \",COUNTRY_INFO!B51))","v":"Ashanti"},{"$f":"IF(INTRO!$E$43=\"Non-endemic\",\" \", IF(COUNTRY_INFO!C51=0,\" \",COUNTRY_INFO!C51))","v":"Oforikrom"},{"$f":"IF(INTRO!$E$43=\"Non-endemic\", \"Not required\", COUNTRY_INFO!Y51)","v":0},{"$f":"IF(OR(COUNTRY_INFO!R51=\"Unknown\",COUNTRY_INFO!R51=\"Surveillance\",COUNTRY_INFO!R51=\"Not required\",COUNTRY_INFO!R51=0),0,IF($D51<>0, COUNTRY_INFO!R51,0))","v":0},{"$f":"IF(OR(COUNTRY_INFO!S51=\"Unknown\",COUNTRY_INFO!S51=\"Surveillance\",COUNTRY_INFO!S51=\"Not required\",COUNTRY_INFO!S51=0),0,IF($D51<>0, COUNTRY_INFO!S51,0))","v":0},{"$f":"IF(OR(COUNTRY_INFO!T51=\"Unknown\",COUNTRY_INFO!T51=\"Surveillance\",COUNTRY_INFO!T51=\"Not required\",COUNTRY_INFO!T51=0),0,IF($D51<>0, COUNTRY_INFO!T51,0))","v":0},0,null,null,null,null,null,{"$f":"IF($I51<>\"Yes\",$F51*2,($F51+ROUND(J51*$F51/SUM(COUNTRY_INFO!$E51:$G51),0))*2)","v":0},{"$f":"IF($I51<>\"Yes\",$G51*3,($G51+ROUND(J51*$G51/SUM(COUNTRY_INFO!$E51:$G51),0))*3)","v":0},0,null,0]
[{"$f":"IF(INTRO!$E$43=\"Non-endemic\",\" \", IF(COUNTRY_INFO!A52=0,\" \",COUNTRY_INFO!A52))","v":"Ghana"},{"$f":"IF(INTRO!$E$43=\"Non-endemic\",\" \", IF(COUNTRY_INFO!B52=0,\" \",COUNTRY_INFO!B52))","v":"Ashanti"},{"$f":"IF(INTRO!$E$43=\"Non-endemic\",\" \", IF(COUNTRY_INFO!C52=0,\" \",COUNTRY_INFO!C52))","v":"Old Tafo"},{"$f":"IF(INTRO!$E$43=\"Non-endemic\", \"Not required\", COUNTRY_INFO!Y52)","v":0},{"$f":"IF(OR(COUNTRY_INFO!R52=\"Unknown\",COUNTRY_INFO!R52=\"Surveillance\",COUNTRY_INFO!R52=\"Not required\",COUNTRY_INFO!R52=0),0,IF($D52<>0, COUNTRY_INFO!R52,0))","v":0},{"$f":"IF(OR(COUNTRY_INFO!S52=\"Unknown\",COUNTRY_INFO!S52=\"Surveillance\",COUNTRY_INFO!S52=\"Not required\",COUNTRY_INFO!S52=0),0,IF($D52<>0, COUNTRY_INFO!S52,0))","v":0},{"$f":"IF(OR(COUNTRY_INFO!T52=\"Unknown\",COUNTRY_INFO!T52=\"Surveillance\",COUNTRY_INFO!T52=\"Not required\",COUNTRY_INFO!T52=0),0,IF($D52<>0, COUNTRY_INFO!T52,0))","v":0},0,null,null,null,null,null,{"$f":"IF($I52<>\"Yes\",$F52*2,($F52+ROUND(J52*$F52/SUM(COUNTRY_INFO!$E52:$G52),0))*2)","v":0},{"$f":"IF($I52<>\"Yes\",$G52*3,($G52+ROUND(J52*$G52/SUM(COUNTRY_INFO!$E52:$G52),0))*3)","v":0},0,null,0]
[{"$f":"IF(INTRO!$E$43=\"Non-endemic\",\" \", IF(COUNTRY_INFO!A53=0,\" \",COUNTRY_INFO!A53))","v":"Ghana"},{"$f":"IF(INTRO!$E$43=\"Non-endemic\",\" \", IF(COUNTRY_INFO!B53=0,\" \",COUNTRY_INFO!B53))","v":"Ashanti"},{"$f":"IF(INTRO!$E$43=\"Non-endemic\",\" \", IF(COUNTRY_INFO!C53=0,\" \",COUNTRY_INFO!C53))","v":"Sekyere Afram Plains"},{"$f":"IF(INTRO!$E$43=\"Non-endemic\", \"Not required\", COUNTRY_INFO!Y53)","v":1},{"$f":"IF(OR(COUNTRY_INFO!R53=\"Unknown\",COUNTRY_INFO!R53=\"Surveillance\",COUNTRY_INFO!R53=\"Not required\",COUNTRY_INFO!R53=0),0,IF($D53<>0, COUNTRY_INFO!R53,0))","v":2654},{"$f":"IF(OR(COUNTRY_INFO!S53=\"Unknown\",COUNTRY_INFO!S53=\"Surveillance\",COUNTRY_INFO!S53=\"Not required\",COUNTRY_INFO!S53=0),0,IF($D53<>0, COUNTRY_INFO!S53,0))","v":8336},{"$f":"IF(OR(COUNTRY_INFO!T53=\"Unknown\",COUNTRY_INFO!T53=\"Surveillance\",COUNTRY_INFO!T53=\"Not required\",COUNTRY_INFO!T53=0),0,IF($D53<>0, COUNTRY_INFO!T53,0))","v":22150},33140,null,null,1,"SAC",null,{"$f":"IF($I53<>\"Yes\",$F53*2,($F53+ROUND(J53*$F53/SUM(COUNTRY_INFO!$E53:$G53),0))*2)","v":16672},{"$f":"IF($I53<>\"Yes\",$G53*3,($G53+ROUND(J53*$G53/SUM(COUNTRY_INFO!$E53:$G53),0))*3)","v":66450},83122,null,83122]
[{"$f":"IF(INTRO!$E$43=\"Non-endemic\",\" \", IF(COUNTRY_INFO!A54=0,\" \",COUNTRY_INFO!A54))","v":"Ghana"},{"$f":"IF(INTRO!$E$43=\"Non-endemic\",\" \", IF(COUNTRY_INFO!B54=0,\" \",COUNTRY_INFO!B54))","v":"Ashanti"},{"$f":"IF(INTRO!$E$43=\"Non-endemic\",\" \", IF(COUNTRY_INFO!C54=0,\" \",COUNTRY_INFO!C54))","v":"Sekyere Central"},{"$f":"IF(INTRO!$E$43=\"Non-endemic\", \"Not required\", COUNTRY_INFO!Y54)","v":1},{"$f":"IF(OR(COUNTRY_INFO!R54=\"Unknown\",COUNTRY_INFO!R54=\"Surveillance\",COUNTRY_INFO!R54=\"Not required\",COUNTRY_INFO!R54=0),0,IF($D54<>0, COUNTRY_INFO!R54,0))","v":5954},{"$f":"IF(OR(COUNTRY_INFO!S54=\"Unknown\",COUNTRY_INFO!S54=\"Surveillance\",COUNTRY_INFO!S54=\"Not required\",COUNTRY_INFO!S54=0),0,IF($D54<>0, COUNTRY_INFO!S54,0))","v":18702},{"$f":"IF(OR(COUNTRY_INFO!T54=\"Unknown\",COUNTRY_INFO!T54=\"Surveillance\",COUNTRY_INFO!T54=\"Not required\",COUNTRY_INFO!T54=0),0,IF($D54<>0, COUNTRY_INFO!T54,0))","v":0},24656,null,null,1,"SAC",null,{"$f":"IF($I54<>\"Yes\",$F54*2,($F54+ROUND(J54*$F54/SUM(COUNTRY_INFO!$E54:$G54),0))*2)","v":37404},{"$f":"IF($I54<>\"Yes\",$G54*3,($G54+ROUND(J54*$G54/SUM(COUNTRY_INFO!$E54:$G54),0))*3)","v":0},37404,null,37404]
[{"$f":"IF(INTRO!$E$43=\"Non-endemic\",\" \", IF(COUNTRY_INFO!A55=0,\" \",COUNTRY_INFO!A55))","v":"Ghana"},{"$f":"IF(INTRO!$E$43=\"Non-endemic\",\" \", IF(COUNTRY_INFO!B55=0,\" \",COUNTRY_INFO!B55))","v":"Ashanti"},{"$f":"IF(INTRO!$E$43=\"Non-endemic\",\" \", IF(COUNTRY_INFO!C55=0,\" \",COUNTRY_INFO!C55))","v":"Sekyere East"},{"$f":"IF(INTRO!$E$43=\"Non-endemic\", \"Not required\", COUNTRY_INFO!Y55)","v":1},{"$f":"IF(OR(COUNTRY_INFO!R55=\"Unknown\",COUNTRY_INFO!R55=\"Surveillance\",COUNTRY_INFO!R55=\"Not required\",COUNTRY_INFO!R55=0),0,IF($D55<>0, COUNTRY_INFO!R55,0))","v":6081},{"$f":"IF(OR(COUNTRY_INFO!S55=\"Unknown\",COUNTRY_INFO!S55=\"Surveillance\",COUNTRY_INFO!S55=\"Not required\",COUNTRY_INFO!S55=0),0,IF($D55<>0, COUNTRY_INFO!S55,0))","v":19101},{"$f":"IF(OR(COUNTRY_INFO!T55=\"Unknown\",COUNTRY_INFO!T55=\"Surveillance\",COUNTRY_INFO!T55=\"Not required\",COUNTRY_INFO!T55=0),0,IF($D55<>0, COUNTRY_INFO!T55,0))","v":0},25182,null,null,1,"SAC",null,{"$f":"IF($I55<>\"Yes\",$F55*2,($F55+ROUND(J55*$F55/SUM(COUNTRY_INFO!$E55:$G55),0))*2)","v":38202},{"$f":"IF($I55<>\"Yes\",$G55*3,($G55+ROUND(J55*$G55/SUM(COUNTRY_INFO!$E55:$G55),0))*3)","v":0},38202,null,38202]
[{"$f":"IF(INTRO!$E$43=\"Non-endemic\",\" \", IF(COUNTRY_INFO!A56=0,\" \",COUNTRY_INFO!A56))","v":"Ghana"},{"$f":"IF(INTRO!$E$43=\"Non-endemic\",\" \", IF(COUNTRY_INFO!B56=0,\" \",COUNTRY_INFO!B56))","v":"Ashanti"},{"$f":"IF(INTRO!$E$43=\"Non-endemic\",\" \", IF(COUNTRY_INFO!C56=0,\" \",COUNTRY_INFO!C56))","v":"Sekyere Kumawu"},{"$f":"IF(INTRO!$E$43=\"Non-endemic\", \"Not required\", COUNTRY_INFO!Y56)","v":1},{"$f":"IF(OR(COUNTRY_INFO!R56=\"Unknown\",COUNTRY_INFO!R56=\"Surveillance\",COUNTRY_INFO!R56=\"Not required\",COUNTRY_INFO!R56=0),0,IF($D56<>0, COUNTRY_INFO!R56,0))","v":5236},{"$f":"IF(OR(COUNTRY_INFO!S56=\"Unknown\",COUNTRY_INFO!S56=\"Surveillance\",COUNTRY_INFO!S56=\"Not required\",COUNTRY_INFO!S56=0),0,IF($D56<>0, COUNTRY_INFO!S56,0))","v":16447},{"$f":"IF(OR(COUNTRY_INFO!T56=\"Unknown\",COUNTRY_INFO!T56=\"Surveillance\",COUNTRY_INFO!T56=\"Not required\",COUNTRY_INFO!T56=0),0,IF($D56<>0, COUNTRY_INFO!T56,0))","v":24562},46245,null,null,1,"SAC",null,{"$f":"IF($I56<>\"Yes\",$F56*2,($F56+ROUND(J56*$F56/SUM(COUNTRY_INFO!$E56:$G56),0))*2)","v":32894},{"$f":"IF($I56<>\"Yes\",$G56*3,($G56+ROUND(J56*$G56/SUM(COUNTRY_INFO!$E56:$G56),0))*3)","v":73686},106580,null,106580]
[{"$f":"IF(INTRO!$E$43=\"Non-endemic\",\" \", IF(COUNTRY_INFO!A57=0,\" \",COUNTRY_INFO!A57))","v":"Ghana"},{"$f":"IF(INTRO!$E$43=\"Non-endemic\",\" \", IF(COUNTRY_INFO!B57=0,\" \",COUNTRY_INFO!B57))","v":"Ashanti"},{"$f":"IF(INTRO!$E$43=\"Non-endemic\",\" \", IF(COUNTRY_INFO!C57=0,\" \",COUNTRY_INFO!C57))","v":"Sekyere South"},{"$f":"IF(INTRO!$E$43=\"Non-endemic\", \"Not required\", COUNTRY_INFO!Y57)","v":1},{"$f":"IF(OR(COUNTRY_INFO!R57=\"Unknown\",COUNTRY_INFO!R57=\"Surveillance\",COUNTRY_INFO!R57=\"Not required\",COUNTRY_INFO!R57=0),0,IF($D57<>0, COUNTRY_INFO!R57,0))","v":9764},{"$f":"IF(OR(COUNTRY_INFO!S57=\"Unknown\",COUNTRY_INFO!S57=\"Surveillance\",COUNTRY_INFO!S57=\"Not required\",COUNTRY_INFO!S57=0),0,IF($D57<>0, COUNTRY_INFO!S57,0))","v":30667},{"$f":"IF(OR(COUNTRY_INFO!T57=\"Unknown\",COUNTRY_INFO!T57=\"Surveillance\",COUNTRY_INFO!T57=\"Not required\",COUNTRY_INFO!T57=0),0,IF($D57<>0, COUNTRY_INFO!T57,0))","v":0},40431,null,null,1,"SAC",null,{"$f":"IF($I57<>\"Yes\",$F57*2,($F57+ROUND(J57*$F57/SUM(COUNTRY_INFO!$E57:$G57),0))*2)","v":61334},{"$f":"IF($I57<>\"Yes\",$G57*3,($G57+ROUND(J57*$G57/SUM(COUNTRY_INFO!$E57:$G57),0))*3)","v":0},61334,null,61334]
[{"$f":"IF(INTRO!$E$43=\"Non-endemic\",\" \", IF(COUNTRY_INFO!A58=0,\" \",COUNTRY_INFO!A58))","v":"Ghana"},{"$f":"IF(INTRO!$E$43=\"Non-endemic\",\" \", IF(COUNTRY_INFO!B58=0,\" \",COUNTRY_INFO!B58))","v":"Ashanti"},{"$f":"IF(INTRO!$E$43=\"Non-endemic\",\" \", IF(COUNTRY_INFO!C58=0,\" \",COUNTRY_INFO!C58))","v":"Suame"},{"$f":"IF(INTRO!$E$43=\"Non-endemic\", \"Not required\", COUNTRY_INFO!Y58)","v":0},{"$f":"IF(OR(COUNTRY_INFO!R58=\"Unknown\",COUNTRY_INFO!R58=\"Surveillance\",COUNTRY_INFO!R58=\"Not required\",COUNTRY_INFO!R58=0),0,IF($D58<>0, COUNTRY_INFO!R58,0))","v":0},{"$f":"IF(OR(COUNTRY_INFO!S58=\"Unknown\",COUNTRY_INFO!S58=\"Surveillance\",COUNTRY_INFO!S58=\"Not required\",COUNTRY_INFO!S58=0),0,IF($D58<>0, COUNTRY_INFO!S58,0))","v":0},{"$f":"IF(OR(COUNTRY_INFO!T58=\"Unknown\",COUNTRY_INFO!T58=\"Surveillance\",COUNTRY_INFO!T58=\"Not required\",COUNTRY_INFO!T58=0),0,IF($D58<>0, COUNTRY_INFO!T58,0))","v":0},0,null,null,null,null,null,{"$f":"IF($I58<>\"Yes\",$F58*2,($F58+ROUND(J58*$F58/SUM(COUNTRY_INFO!$E58:$G58),0))*2)","v":0},{"$f":"IF($I58<>\"Yes\",$G58*3,($G58+ROUND(J58*$G58/SUM(COUNTRY_INFO!$E58:$G58),0))*3)","v":0},0,null,0]
[{"$f":"IF(INTRO!$E$43=\"Non-endemic\",\" \", IF(COUNTRY_INFO!A59=0,\" \",COUNTRY_INFO!A59))","v":"Ghana"},{"$f":"IF(INTRO!$E$43=\"Non-endemic\",\" \", IF(COUNTRY_INFO!B59=0,\" \",COUNTRY_INFO!B59))","v":"Bono"},{"$f":"IF(INTRO!$E$43=\"Non-endemic\",\" \", IF(COUNTRY_INFO!C59=0,\" \",COUNTRY_INFO!C59))","v":"Banda"},{"$f":"IF(INTRO!$E$43=\"Non-endemic\", \"Not required\", COUNTRY_INFO!Y59)","v":1},{"$f":"IF(OR(COUNTRY_INFO!R59=\"Unknown\",COUNTRY_INFO!R59=\"Surveillance\",COUNTRY_INFO!R59=\"Not required\",COUNTRY_INFO!R59=0),0,IF($D59<>0, COUNTRY_INFO!R59,0))","v":2291},{"$f":"IF(OR(COUNTRY_INFO!S59=\"Unknown\",COUNTRY_INFO!S59=\"Surveillance\",COUNTRY_INFO!S59=\"Not required\",COUNTRY_INFO!S59=0),0,IF($D59<>0, COUNTRY_INFO!S59,0))","v":7197},{"$f":"IF(OR(COUNTRY_INFO!T59=\"Unknown\",COUNTRY_INFO!T59=\"Surveillance\",COUNTRY_INFO!T59=\"Not required\",COUNTRY_INFO!T59=0),0,IF($D59<>0, COUNTRY_INFO!T59,0))","v":19123},28611,null,null,1,"SAC",null,{"$f":"IF($I59<>\"Yes\",$F59*2,($F59+ROUND(J59*$F59/SUM(COUNTRY_INFO!$E59:$G59),0))*2)","v":14394},{"$f":"IF($I59<>\"Yes\",$G59*3,($G59+ROUND(J59*$G59/SUM(COUNTRY_INFO!$E59:$G59),0))*3)","v":57369},71763,null,71763]
[{"$f":"IF(INTRO!$E$43=\"Non-endemic\",\" \", IF(COUNTRY_INFO!A60=0,\" \",COUNTRY_INFO!A60))","v":"Ghana"},{"$f":"IF(INTRO!$E$43=\"Non-endemic\",\" \", IF(COUNTRY_INFO!B60=0,\" \",COUNTRY_INFO!B60))","v":"Bono"},{"$f":"IF(INTRO!$E$43=\"Non-endemic\",\" \", IF(COUNTRY_INFO!C60=0,\" \",COUNTRY_INFO!C60))","v":"Berekum"},{"$f":"IF(INTRO!$E$43=\"Non-endemic\", \"Not required\", COUNTRY_INFO!Y60)","v":0},{"$f":"IF(OR(COUNTRY_INFO!R60=\"Unknown\",COUNTRY_INFO!R60=\"Surveillance\",COUNTRY_INFO!R60=\"Not required\",COUNTRY_INFO!R60=0),0,IF($D60<>0, COUNTRY_INFO!R60,0))","v":0},{"$f":"IF(OR(COUNTRY_INFO!S60=\"Unknown\",COUNTRY_INFO!S60=\"Surveillance\",COUNTRY_INFO!S60=\"Not required\",COUNTRY_INFO!S60=0),0,IF($D60<>0, COUNTRY_INFO!S60,0))","v":0},{"$f":"IF(OR(COUNTRY_INFO!T60=\"Unknown\",COUNTRY_INFO!T60=\"Surveillance\",COUNTRY_INFO!T60=\"Not required\",COUNTRY_INFO!T60=0),0,IF($D60<>0, COUNTRY_INFO!T60,0))","v":0},0,null,null,null,null,null,{"$f":"IF($I60<>\"Yes\",$F60*2,($F60+ROUND(J60*$F60/SUM(COUNTRY_INFO!$E60:$G60),0))*2)","v":0},{"$f":"IF($I60<>\"Yes\",$G60*3,($G60+ROUND(J60*$G60/SUM(COUNTRY_INFO!$E60:$G60),0))*3)","v":0},0,null,0]
[{"$f":"IF(INTRO!$E$43=\"Non-endemic\",\" \", IF(COUNTRY_INFO!A61=0,\" \",COUNTRY_INFO!A61))","v":"Ghana"},{"$f":"IF(INTRO!$E$43=\"Non-endemic\",\" \", IF(COUNTRY_INFO!B61=0,\" \",COUNTRY_INFO!B61))","v":"Bono"},{"$f":"IF(INTRO!$E$43=\"Non-endemic\",\" \", IF(COUNTRY_INFO!C61=0,\" \",COUNTRY_INFO!C61))","v":"Berekum West"},{"$f":"IF(INTRO!$E$43=\"Non-endemic\", \"Not required\", COUNTRY_INFO!Y61)","v":0},{"$f":"IF(OR(COUNTRY_INFO!R61=\"Unknown\",COUNTRY_INFO!R61=\"Surveillance\",COUNTRY_INFO!R61=\"Not required\",COUNTRY_INFO!R61=0),0,IF($D61<>0, COUNTRY_INFO!R61,0))","v":0},{"$f":"IF(OR(COUNTRY_INFO!S61=\"Unknown\",COUNTRY_INFO!S61=\"Surveillance\",COUNTRY_INFO!S61=\"Not required\",COUNTRY_INFO!S61=0),0,IF($D61<>0, COUNTRY_INFO!S61,0))","v":0},{"$f":"IF(OR(COUNTRY_INFO!T61=\"Unknown\",COUNTRY_INFO!T61=\"Surveillance\",COUNTRY_INFO!T61=\"Not required\",COUNTRY_INFO!T61=0),0,IF($D61<>0, COUNTRY_INFO!T61,0))","v":0},0,null,null,null,null,null,{"$f":"IF($I61<>\"Yes\",$F61*2,($F61+ROUND(J61*$F61/SUM(COUNTRY_INFO!$E61:$G61),0))*2)","v":0},{"$f":"IF($I61<>\"Yes\",$G61*3,($G61+ROUND(J61*$G61/SUM(COUNTRY_INFO!$E61:$G61),0))*3)","v":0},0,null,0]
[{"$f":"IF(INTRO!$E$43=\"Non-endemic\",\" \", IF(COUNTRY_INFO!A62=0,\" \",COUNTRY_INFO!A62))","v":"Ghana"},{"$f":"IF(INTRO!$E$43=\"Non-endemic\",\" \", IF(COUNTRY_INFO!B62=0,\" \",COUNTRY_INFO!B62))","v":"Bono"},{"$f":"IF(INTRO!$E$43=\"Non-endemic\",\" \", IF(COUNTRY_INFO!C62=0,\" \",COUNTRY_INFO!C62))","v":"Dormaa East"},{"$f":"IF(INTRO!$E$43=\"Non-endemic\", \"Not required\", COUNTRY_INFO!Y62)","v":0},{"$f":"IF(OR(COUNTRY_INFO!R62=\"Unknown\",COUNTRY_INFO!R62=\"Surveillance\",COUNTRY_INFO!R62=\"Not required\",COUNTRY_INFO!R62=0),0,IF($D62<>0, COUNTRY_INFO!R62,0))","v":0},{"$f":"IF(OR(COUNTRY_INFO!S62=\"Unknown\",COUNTRY_INFO!S62=\"Surveillance\",COUNTRY_INFO!S62=\"Not required\",COUNTRY_INFO!S62=0),0,IF($D62<>0, COUNTRY_INFO!S62,0))","v":0},{"$f":"IF(OR(COUNTRY_INFO!T62=\"Unknown\",COUNTRY_INFO!T62=\"Surveillance\",COUNTRY_INFO!T62=\"Not required\",COUNTRY_INFO!T62=0),0,IF($D62<>0, COUNTRY_INFO!T62,0))","v":0},0,null,null,null,null,null,{"$f":"IF($I62<>\"Yes\",$F62*2,($F62+ROUND(J62*$F62/SUM(COUNTRY_INFO!$E62:$G62),0))*2)","v":0},{"$f":"IF($I62<>\"Yes\",$G62*3,($G62+ROUND(J62*$G62/SUM(COUNTRY_INFO!$E62:$G62),0))*3)","v":0},0,null,0]
[{"$f":"IF(INTRO!$E$43=\"Non-endemic\",\" \", IF(COUNTRY_INFO!A63=0,\" \",COUNTRY_INFO!A63))","v":"Ghana"},{"$f":"IF(INTRO!$E$43=\"Non-endemic\",\" \", IF(COUNTRY_INFO!B63=0,\" \",COUNTRY_INFO!B63))","v":"Bono"},{"$f":"IF(INTRO!$E$43=\"Non-endemic\",\" \", IF(COUNTRY_INFO!C63=0,\" \",COUNTRY_INFO!C63))","v":"Dormaa Municipal"},{"$f":"IF(INTRO!$E$43=\"Non-endemic\", \"Not required\", COUNTRY_INFO!Y63)","v":0},{"$f":"IF(OR(COUNTRY_INFO!R63=\"Unknown\",COUNTRY_INFO!R63=\"Surveillance\",COUNTRY_INFO!R63=\"Not required\",COUNTRY_INFO!R63=0),0,IF($D63<>0, COUNTRY_INFO!R63,0))","v":0},{"$f":"IF(OR(COUNTRY_INFO!S63=\"Unknown\",COUNTRY_INFO!S63=\"Surveillance\",COUNTRY_INFO!S63=\"Not required\",COUNTRY_INFO!S63=0),0,IF($D63<>0, COUNTRY_INFO!S63,0))","v":0},{"$f":"IF(OR(COUNTRY_INFO!T63=\"Unknown\",COUNTRY_INFO!T63=\"Surveillance\",COUNTRY_INFO!T63=\"Not required\",COUNTRY_INFO!T63=0),0,IF($D63<>0, COUNTRY_INFO!T63,0))","v":0},0,null,null,null,null,null,{"$f":"IF($I63<>\"Yes\",$F63*2,($F63+ROUND(J63*$F63/SUM(COUNTRY_INFO!$E63:$G63),0))*2)","v":0},{"$f":"IF($I63<>\"Yes\",$G63*3,($G63+ROUND(J63*$G63/SUM(COUNTRY_INFO!$E63:$G63),0))*3)","v":0},0,null,0]
[{"$f":"IF(INTRO!$E$43=\"Non-endemic\",\" \", IF(COUNTRY_INFO!A64=0,\" \",COUNTRY_INFO!A64))","v":"Ghana"},{"$f":"IF(INTRO!$E$43=\"Non-endemic\",\" \", IF(COUNTRY_INFO!B64=0,\" \",COUNTRY_INFO!B64))","v":"Bono"},{"$f":"IF(INTRO!$E$43=\"Non-endemic\",\" \", IF(COUNTRY_INFO!C64=0,\" \",COUNTRY_INFO!C64))","v":"Dormaa West"},{"$f":"IF(INTRO!$E$43=\"Non-endemic\", \"Not required\", COUNTRY_INFO!Y64)","v":0},{"$f":"IF(OR(COUNTRY_INFO!R64=\"Unknown\",COUNTRY_INFO!R64=\"Surveillance\",COUNTRY_INFO!R64=\"Not required\",COUNTRY_INFO!R64=0),0,IF($D64<>0, COUNTRY_INFO!R64,0))","v":0},{"$f":"IF(OR(COUNTRY_INFO!S64=\"Unknown\",COUNTRY_INFO!S64=\"Surveillance\",COUNTRY_INFO!S64=\"Not required\",COUNTRY_INFO!S64=0),0,IF($D64<>0, COUNTRY_INFO!S64,0))","v":0},{"$f":"IF(OR(COUNTRY_INFO!T64=\"Unknown\",COUNTRY_INFO!T64=\"Surveillance\",COUNTRY_INFO!T64=\"Not required\",COUNTRY_INFO!T64=0),0,IF($D64<>0, COUNTRY_INFO!T64,0))","v":0},0,null,null,null,null,null,{"$f":"IF($I64<>\"Yes\",$F64*2,($F64+ROUND(J64*$F64/SUM(COUNTRY_INFO!$E64:$G64),0))*2)","v":0},{"$f":"IF($I64<>\"Yes\",$G64*3,($G64+ROUND(J64*$G64/SUM(COUNTRY_INFO!$E64:$G64),0))*3)","v":0},0,null,0]
[{"$f":"IF(INTRO!$E$43=\"Non-endemic\",\" \", IF(COUNTRY_INFO!A65=0,\" \",COUNTRY_INFO!A65))","v":"Ghana"},{"$f":"IF(INTRO!$E$43=\"Non-endemic\",\" \", IF(COUNTRY_INFO!B65=0,\" \",COUNTRY_INFO!B65))","v":"Bono"},{"$f":"IF(INTRO!$E$43=\"Non-endemic\",\" \", IF(COUNTRY_INFO!C65=0,\" \",COUNTRY_INFO!C65))","v":"Jaman North"},{"$f":"IF(INTRO!$E$43=\"Non-endemic\", \"Not required\", COUNTRY_INFO!Y65)","v":1},{"$f":"IF(OR(COUNTRY_INFO!R65=\"Unknown\",COUNTRY_INFO!R65=\"Surveillance\",COUNTRY_INFO!R65=\"Not required\",COUNTRY_INFO!R65=0),0,IF($D65<>0, COUNTRY_INFO!R65,0))","v":9587},{"$f":"IF(OR(COUNTRY_INFO!S65=\"Unknown\",COUNTRY_INFO!S65=\"Surveillance\",COUNTRY_INFO!S65=\"Not required\",COUNTRY_INFO!S65=0),0,IF($D65<>0, COUNTRY_INFO!S65,0))","v":30114},{"$f":"IF(OR(COUNTRY_INFO!T65=\"Unknown\",COUNTRY_INFO!T65=\"Surveillance\",COUNTRY_INFO!T65=\"Not required\",COUNTRY_INFO!T65=0),0,IF($D65<>0, COUNTRY_INFO!T65,0))","v":0},39701,null,null,1,"SAC",null,{"$f":"IF($I65<>\"Yes\",$F65*2,($F65+ROUND(J65*$F65/SUM(COUNTRY_INFO!$E65:$G65),0))*2)","v":60228},{"$f":"IF($I65<>\"Yes\",$G65*3,($G65+ROUND(J65*$G65/SUM(COUNTRY_INFO!$E65:$G65),0))*3)","v":0},60228,null,60228]
[{"$f":"IF(INTRO!$E$43=\"Non-endemic\",\" \", IF(COUNTRY_INFO!A66=0,\" \",COUNTRY_INFO!A66))","v":"Ghana"},{"$f":"IF(INTRO!$E$43=\"Non-endemic\",\" \", IF(COUNTRY_INFO!B66=0,\" \",COUNTRY_INFO!B66))","v":"Bono"},{"$f":"IF(INTRO!$E$43=\"Non-endemic\",\" \", IF(COUNTRY_INFO!C66=0,\" \",COUNTRY_INFO!C66))","v":"Jaman South"},{"$f":"IF(INTRO!$E$43=\"Non-endemic\", \"Not required\", COUNTRY_INFO!Y66)","v":0},{"$f":"IF(OR(COUNTRY_INFO!R66=\"Unknown\",COUNTRY_INFO!R66=\"Surveillance\",COUNTRY_INFO!R66=\"Not required\",COUNTRY_INFO!R66=0),0,IF($D66<>0, COUNTRY_INFO!R66,0))","v":0},{"$f":"IF(OR(COUNTRY_INFO!S66=\"Unknown\",COUNTRY_INFO!S66=\"Surveillance\",COUNTRY_INFO!S66=\"Not required\",COUNTRY_INFO!S66=0),0,IF($D66<>0, COUNTRY_INFO!S66,0))","v":0},{"$f":"IF(OR(COUNTRY_INFO!T66=\"Unknown\",COUNTRY_INFO!T66=\"Surveillance\",COUNTRY_INFO!T66=\"Not required\",COUNTRY_INFO!T66=0),0,IF($D66<>0, COUNTRY_INFO!T66,0))","v":0},0,null,null,null,null,null,{"$f":"IF($I66<>\"Yes\",$F66*2,($F66+ROUND(J66*$F66/SUM(COUNTRY_INFO!$E66:$G66),0))*2)","v":0},{"$f":"IF($I66<>\"Yes\",$G66*3,($G66+ROUND(J66*$G66/SUM(COUNTRY_INFO!$E66:$G66),0))*3)","v":0},0,null,0]
[{"$f":"IF(INTRO!$E$43=\"Non-endemic\",\" \", IF(COUNTRY_INFO!A67=0,\" \",COUNTRY_INFO!A67))","v":"Ghana"},{"$f":"IF(INTRO!$E$43=\"Non-endemic\",\" \", IF(COUNTRY_INFO!B67=0,\" \",COUNTRY_INFO!B67))","v":"Bono"},{"$f":"IF(INTRO!$E$43=\"Non-endemic\",\" \", IF(COUNTRY_INFO!C67=0,\" \",COUNTRY_INFO!C67))","v":"Sunyani Municipal"},{"$f":"IF(INTRO!$E$43=\"Non-endemic\", \"Not required\", COUNTRY_INFO!Y67)","v":1},{"$f":"IF(OR(COUNTRY_INFO!R67=\"Unknown\",COUNTRY_INFO!R67=\"Surveillance\",COUNTRY_INFO!R67=\"Not required\",COUNTRY_INFO!R67=0),0,IF($D67<>0, COUNTRY_INFO!R67,0))","v":15741},{"$f":"IF(OR(COUNTRY_INFO!S67=\"Unknown\",COUNTRY_INFO!S67=\"Surveillance\",COUNTRY_INFO!S67=\"Not required\",COUNTRY_INFO!S67=0),0,IF($D67<>0, COUNTRY_INFO!S67,0))","v":49444},{"$f":"IF(OR(COUNTRY_INFO!T67=\"Unknown\",COUNTRY_INFO!T67=\"Surveillance\",COUNTRY_INFO!T67=\"Not required\",COUNTRY_INFO!T67=0),0,IF($D67<>0, COUNTRY_INFO!T67,0))","v":0},65185,null,null,1,"SAC",null,{"$f":"IF($I67<>\"Yes\",$F67*2,($F67+ROUND(J67*$F67/SUM(COUNTRY_INFO!$E67:$G67),0))*2)","v":98888},{"$f":"IF($I67<>\"Yes\",$G67*3,($G67+ROUND(J67*$G67/SUM(COUNTRY_INFO!$E67:$G67),0))*3)","v":0},98888,null,98888]
[{"$f":"IF(INTRO!$E$43=\"Non-endemic\",\" \", IF(COUNTRY_INFO!A68=0,\" \",COUNTRY_INFO!A68))","v":"Ghana"},{"$f":"IF(INTRO!$E$43=\"Non-endemic\",\" \", IF(COUNTRY_INFO!B68=0,\" \",COUNTRY_INFO!B68))","v":"Bono"},{"$f":"IF(INTRO!$E$43=\"Non-endemic\",\" \", IF(COUNTRY_INFO!C68=0,\" \",COUNTRY_INFO!C68))","v":"Sunyani West"},{"$f":"IF(INTRO!$E$43=\"Non-endemic\", \"Not required\", COUNTRY_INFO!Y68)","v":0},{"$f":"IF(OR(COUNTRY_INFO!R68=\"Unknown\",COUNTRY_INFO!R68=\"Surveillance\",COUNTRY_INFO!R68=\"Not required\",COUNTRY_INFO!R68=0),0,IF($D68<>0, COUNTRY_INFO!R68,0))","v":0},{"$f":"IF(OR(COUNTRY_INFO!S68=\"Unknown\",COUNTRY_INFO!S68=\"Surveillance\",COUNTRY_INFO!S68=\"Not required\",COUNTRY_INFO!S68=0),0,IF($D68<>0, COUNTRY_INFO!S68,0))","v":0},{"$f":"IF(OR(COUNTRY_INFO!T68=\"Unknown\",COUNTRY_INFO!T68=\"Surveillance\",COUNTRY_INFO!T68=\"Not required\",COUNTRY_INFO!T68=0),0,IF($D68<>0, COUNTRY_INFO!T68,0))","v":0},0,null,null,null,null,null,{"$f":"IF($I68<>\"Yes\",$F68*2,($F68+ROUND(J68*$F68/SUM(COUNTRY_INFO!$E68:$G68),0))*2)","v":0},{"$f":"IF($I68<>\"Yes\",$G68*3,($G68+ROUND(J68*$G68/SUM(COUNTRY_INFO!$E68:$G68),0))*3)","v":0},0,null,0]
[{"$f":"IF(INTRO!$E$43=\"Non-endemic\",\" \", IF(COUNTRY_INFO!A69=0,\" \",COUNTRY_INFO!A69))","v":"Ghana"},{"$f":"IF(INTRO!$E$43=\"Non-endemic\",\" \", IF(COUNTRY_INFO!B69=0,\" \",COUNTRY_INFO!B69))","v":"Bono"},{"$f":"IF(INTRO!$E$43=\"Non-endemic\",\" \", IF(COUNTRY_INFO!C69=0,\" \",COUNTRY_INFO!C69))","v":"Tain"},{"$f":"IF(INTRO!$E$43=\"Non-endemic\", \"Not required\", COUNTRY_INFO!Y69)","v":0},{"$f":"IF(OR(COUNTRY_INFO!R69=\"Unknown\",COUNTRY_INFO!R69=\"Surveillance\",COUNTRY_INFO!R69=\"Not required\",COUNTRY_INFO!R69=0),0,IF($D69<>0, COUNTRY_INFO!R69,0))","v":0},{"$f":"IF(OR(COUNTRY_INFO!S69=\"Unknown\",COUNTRY_INFO!S69=\"Surveillance\",COUNTRY_INFO!S69=\"Not required\",COUNTRY_INFO!S69=0),0,IF($D69<>0, COUNTRY_INFO!S69,0))","v":0},{"$f":"IF(OR(COUNTRY_INFO!T69=\"Unknown\",COUNTRY_INFO!T69=\"Surveillance\",COUNTRY_INFO!T69=\"Not required\",COUNTRY_INFO!T69=0),0,IF($D69<>0, COUNTRY_INFO!T69,0))","v":0},0,null,null,null,null,null,{"$f":"IF($I69<>\"Yes\",$F69*2,($F69+ROUND(J69*$F69/SUM(COUNTRY_INFO!$E69:$G69),0))*2)","v":0},{"$f":"IF($I69<>\"Yes\",$G69*3,($G69+ROUND(J69*$G69/SUM(COUNTRY_INFO!$E69:$G69),0))*3)","v":0},0,null,0]
[{"$f":"IF(INTRO!$E$43=\"Non-endemic\",\" \", IF(COUNTRY_INFO!A70=0,\" \",COUNTRY_INFO!A70))","v":"Ghana"},{"$f":"IF(INTRO!$E$43=\"Non-endemic\",\" \", IF(COUNTRY_INFO!B70=0,\" \",COUNTRY_INFO!B70))","v":"Bono"},{"$f":"IF(INTRO!$E$43=\"Non-endemic\",\" \", IF(COUNTRY_INFO!C70=0,\" \",COUNTRY_INFO!C70))","v":"Wenchi"},{"$f":"IF(INTRO!$E$43=\"Non-endemic\", \"Not required\", COUNTRY_INFO!Y70)","v":0},{"$f":"IF(OR(COUNTRY_INFO!R70=\"Unknown\",COUNTRY_INFO!R70=\"Surveillance\",COUNTRY_INFO!R70=\"Not required\",COUNTRY_INFO!R70=0),0,IF($D70<>0, COUNTRY_INFO!R70,0))","v":0},{"$f":"IF(OR(COUNTRY_INFO!S70=\"Unknown\",COUNTRY_INFO!S70=\"Surveillance\",COUNTRY_INFO!S70=\"Not required\",COUNTRY_INFO!S70=0),0,IF($D70<>0, COUNTRY_INFO!S70,0))","v":0},{"$f":"IF(OR(COUNTRY_INFO!T70=\"Unknown\",COUNTRY_INFO!T70=\"Surveillance\",COUNTRY_INFO!T70=\"Not required\",COUNTRY_INFO!T70=0),0,IF($D70<>0, COUNTRY_INFO!T70,0))","v":0},0,null,null,null,null,null,{"$f":"IF($I70<>\"Yes\",$F70*2,($F70+ROUND(J70*$F70/SUM(COUNTRY_INFO!$E70:$G70),0))*2)","v":0},{"$f":"IF($I70<>\"Yes\",$G70*3,($G70+ROUND(J70*$G70/SUM(COUNTRY_INFO!$E70:$G70),0))*3)","v":0},0,null,0]
[{"$f":"IF(INTRO!$E$43=\"Non-endemic\",\" \", IF(COUNTRY_INFO!A71=0,\" \",COUNTRY_INFO!A71))","v":"Ghana"},{"$f":"IF(INTRO!$E$43=\"Non-endemic\",\" \", IF(COUNTRY_INFO!B71=0,\" \",COUNTRY_INFO!B71))","v":"Bono East"},{"$f":"IF(INTRO!$E$43=\"Non-endemic\",\" \", IF(COUNTRY_INFO!C71=0,\" \",COUNTRY_INFO!C71))","v":"Atebubu-Amanten"},{"$f":"IF(INTRO!$E$43=\"Non-endemic\", \"Not required\", COUNTRY_INFO!Y71)","v":1},{"$f":"IF(OR(COUNTRY_INFO!R71=\"Unknown\",COUNTRY_INFO!R71=\"Surveillance\",COUNTRY_INFO!R71=\"Not required\",COUNTRY_INFO!R71=0),0,IF($D71<>0, COUNTRY_INFO!R71,0))","v":11786},{"$f":"IF(OR(COUNTRY_INFO!S71=\"Unknown\",COUNTRY_INFO!S71=\"Surveillance\",COUNTRY_INFO!S71=\"Not required\",COUNTRY_INFO!S71=0),0,IF($D71<>0, COUNTRY_INFO!S71,0))","v":37019},{"$f":"IF(OR(COUNTRY_INFO!T71=\"Unknown\",COUNTRY_INFO!T71=\"Surveillance\",COUNTRY_INFO!T71=\"Not required\",COUNTRY_INFO!T71=0),0,IF($D71<>0, COUNTRY_INFO!T71,0))","v":0},48805,null,null,1,"SAC",null,{"$f":"IF($I71<>\"Yes\",$F71*2,($F71+ROUND(J71*$F71/SUM(COUNTRY_INFO!$E71:$G71),0))*2)","v":74038},{"$f":"IF($I71<>\"Yes\",$G71*3,($G71+ROUND(J71*$G71/SUM(COUNTRY_INFO!$E71:$G71),0))*3)","v":0},74038,null,74038]
[{"$f":"IF(INTRO!$E$43=\"Non-endemic\",\" \", IF(COUNTRY_INFO!A72=0,\" \",COUNTRY_INFO!A72))","v":"Ghana"},{"$f":"IF(INTRO!$E$43=\"Non-endemic\",\" \", IF(COUNTRY_INFO!B72=0,\" \",COUNTRY_INFO!B72))","v":"Bono East"},{"$f":"IF(INTRO!$E$43=\"Non-endemic\",\" \", IF(COUNTRY_INFO!C72=0,\" \",COUNTRY_INFO!C72))","v":"Kintampo North"},{"$f":"IF(INTRO!$E$43=\"Non-endemic\", \"Not required\", COUNTRY_INFO!Y72)","v":1},{"$f":"IF(OR(COUNTRY_INFO!R72=\"Unknown\",COUNTRY_INFO!R72=\"Surveillance\",COUNTRY_INFO!R72=\"Not required\",COUNTRY_INFO!R72=0),0,IF($D72<>0, COUNTRY_INFO!R72,0))","v":11344},{"$f":"IF(OR(COUNTRY_INFO!S72=\"Unknown\",COUNTRY_INFO!S72=\"Surveillance\",COUNTRY_INFO!S72=\"Not required\",COUNTRY_INFO!S72=0),0,IF($D72<>0, COUNTRY_INFO!S72,0))","v":35630},{"$f":"IF(OR(COUNTRY_INFO!T72=\"Unknown\",COUNTRY_INFO!T72=\"Surveillance\",COUNTRY_INFO!T72=\"Not required\",COUNTRY_INFO!T72=0),0,IF($D72<>0, COUNTRY_INFO!T72,0))","v":0},46974,null,null,1,"SAC",null,{"$f":"IF($I72<>\"Yes\",$F72*2,($F72+ROUND(J72*$F72/SUM(COUNTRY_INFO!$E72:$G72),0))*2)","v":71260},{"$f":"IF($I72<>\"Yes\",$G72*3,($G72+ROUND(J72*$G72/SUM(COUNTRY_INFO!$E72:$G72),0))*3)","v":0},71260,null,71260]
[{"$f":"IF(INTRO!$E$43=\"Non-endemic\",\" \", IF(COUNTRY_INFO!A73=0,\" \",COUNTRY_INFO!A73))","v":"Ghana"},{"$f":"IF(INTRO!$E$43=\"Non-endemic\",\" \", IF(COUNTRY_INFO!B73=0,\" \",COUNTRY_INFO!B73))","v":"Bono East"},{"$f":"IF(INTRO!$E$43=\"Non-endemic\",\" \", IF(COUNTRY_INFO!C73=0,\" \",COUNTRY_INFO!C73))","v":"Kintampo South"},{"$f":"IF(INTRO!$E$43=\"Non-endemic\", \"Not required\", COUNTRY_INFO!Y73)","v":1},{"$f":"IF(OR(COUNTRY_INFO!R73=\"Unknown\",COUNTRY_INFO!R73=\"Surveillance\",COUNTRY_INFO!R73=\"Not required\",COUNTRY_INFO!R73=0),0,IF($D73<>0, COUNTRY_INFO!R73,0))","v":7247},{"$f":"IF(OR(COUNTRY_INFO!S73=\"Unknown\",COUNTRY_INFO!S73=\"Surveillance\",COUNTRY_INFO!S73=\"Not required\",COUNTRY_INFO!S73=0),0,IF($D73<>0, COUNTRY_INFO!S73,0))","v":22763},{"$f":"IF(OR(COUNTRY_INFO!T73=\"Unknown\",COUNTRY_INFO!T73=\"Surveillance\",COUNTRY_INFO!T73=\"Not required\",COUNTRY_INFO!T73=0),0,IF($D73<>0, COUNTRY_INFO!T73,0))","v":0},30010,null,null,1,"SAC",null,{"$f":"IF($I73<>\"Yes\",$F73*2,($F73+ROUND(J73*$F73/SUM(COUNTRY_INFO!$E73:$G73),0))*2)","v":45526},{"$f":"IF($I73<>\"Yes\",$G73*3,($G73+ROUND(J73*$G73/SUM(COUNTRY_INFO!$E73:$G73),0))*3)","v":0},45526,null,45526]
[{"$f":"IF(INTRO!$E$43=\"Non-endemic\",\" \", IF(COUNTRY_INFO!A74=0,\" \",COUNTRY_INFO!A74))","v":"Ghana"},{"$f":"IF(INTRO!$E$43=\"Non-endemic\",\" \", IF(COUNTRY_INFO!B74=0,\" \",COUNTRY_INFO!B74))","v":"Bono East"},{"$f":"IF(INTRO!$E$43=\"Non-endemic\",\" \", IF(COUNTRY_INFO!C74=0,\" \",COUNTRY_INFO!C74))","v":"Nkoranza North"},{"$f":"IF(INTRO!$E$43=\"Non-endemic\", \"Not required\", COUNTRY_INFO!Y74)","v":1},{"$f":"IF(OR(COUNTRY_INFO!R74=\"Unknown\",COUNTRY_INFO!R74=\"Surveillance\",COUNTRY_INFO!R74=\"Not required\",COUNTRY_INFO!R74=0),0,IF($D74<>0, COUNTRY_INFO!R74,0))","v":4592},{"$f":"IF(OR(COUNTRY_INFO!S74=\"Unknown\",COUNTRY_INFO!S74=\"Surveillance\",COUNTRY_INFO!S74=\"Not required\",COUNTRY_INFO!S74=0),0,IF($D74<>0, COUNTRY_INFO!S74,0))","v":14422},{"$f":"IF(OR(COUNTRY_INFO!T74=\"Unknown\",COUNTRY_INFO!T74=\"Surveillance\",COUNTRY_INFO!T74=\"Not required\",COUNTRY_INFO!T74=0),0,IF($D74<>0, COUNTRY_INFO!T74,0))","v":0},19014,null,null,1,"SAC",null,{"$f":"IF($I74<>\"Yes\",$F74*2,($F74+ROUND(J74*$F74/SUM(COUNTRY_INFO!$E74:$G74),0))*2)","v":28844},{"$f":"IF($I74<>\"Yes\",$G74*3,($G74+ROUND(J74*$G74/SUM(COUNTRY_INFO!$E74:$G74),0))*3)","v":0},28844,null,28844]
[{"$f":"IF(INTRO!$E$43=\"Non-endemic\",\" \", IF(COUNTRY_INFO!A75=0,\" \",COUNTRY_INFO!A75))","v":"Ghana"},{"$f":"IF(INTRO!$E$43=\"Non-endemic\",\" \", IF(COUNTRY_INFO!B75=0,\" \",COUNTRY_INFO!B75))","v":"Bono East"},{"$f":"IF(INTRO!$E$43=\"Non-endemic\",\" \", IF(COUNTRY_INFO!C75=0,\" \",COUNTRY_INFO!C75))","v":"Nkoranza South"},{"$f":"IF(INTRO!$E$43=\"Non-endemic\", \"Not required\", COUNTRY_INFO!Y75)","v":1},{"$f":"IF(OR(COUNTRY_INFO!R75=\"Unknown\",COUNTRY_INFO!R75=\"Surveillance\",COUNTRY_INFO!R75=\"Not required\",COUNTRY_INFO!R75=0),0,IF($D75<>0, COUNTRY_INFO!R75,0))","v":9322},{"$f":"IF(OR(COUNTRY_INFO!S75=\"Unknown\",COUNTRY_INFO!S75=\"Surveillance\",COUNTRY_INFO!S75=\"Not required\",COUNTRY_INFO!S75=0),0,IF($D75<>0, COUNTRY_INFO!S75,0))","v":29279},{"$f":"IF(OR(COUNTRY_INFO!T75=\"Unknown\",COUNTRY_INFO!T75=\"Surveillance\",COUNTRY_INFO!T75=\"Not required\",COUNTRY_INFO!T75=0),0,IF($D75<>0, COUNTRY_INFO!T75,0))","v":0},{"$f":"SUM(E75:G75)","v":38601},null,null,1,"SAC",null,{"$f":"IF($I75<>\"Yes\",$F75*2,($F75+ROUND(J75*$F75/SUM(COUNTRY_INFO!$E75:$G75),0))*2)","v":58558},{"$f":"IF($I75<>\"Yes\",$G75*3,($G75+ROUND(J75*$G75/SUM(COUNTRY_INFO!$E75:$G75),0))*3)","v":0},{"$f":"SUM(M75:O75)","v":58558},null,{"$f":"IF($P75>$Q75,P75-Q75,0)","v":58558}]
[{"$f":"IF(INTRO!$E$43=\"Non-endemic\",\" \", IF(COUNTRY_INFO!A76=0,\" \",COUNTRY_INFO!A76))","v":"Ghana"},{"$f":"IF(INTRO!$E$43=\"Non-endemic\",\" \", IF(COUNTRY_INFO!B76=0,\" \",COUNTRY_INFO!B76))","v":"Bono East"},{"$f":"IF(INTRO!$E$43=\"Non-endemic\",\" \", IF(COUNTRY_INFO!C76=0,\" \",COUNTRY_INFO!C76))","v":"Pru"},{"$f":"IF(INTRO!$E$43=\"Non-endemic\", \"Not required\", COUNTRY_INFO!Y76)","v":1},{"$f":"IF(OR(COUNTRY_INFO!R76=\"Unknown\",COUNTRY_INFO!R76=\"Surveillance\",COUNTRY_INFO!R76=\"Not required\",COUNTRY_INFO!R76=0),0,IF($D76<>0, COUNTRY_INFO!R76,0))","v":8257},{"$f":"IF(OR(COUNTRY_INFO!S76=\"Unknown\",COUNTRY_INFO!S76=\"Surveillance\",COUNTRY_INFO!S76=\"Not required\",COUNTRY_INFO!S76=0),0,IF($D76<>0, COUNTRY_INFO!S76,0))","v":25934},{"$f":"IF(OR(COUNTRY_INFO!T76=\"Unknown\",COUNTRY_INFO!T76=\"Surveillance\",COUNTRY_INFO!T76=\"Not required\",COUNTRY_INFO!T76=0),0,IF($D76<>0, COUNTRY_INFO!T76,0))","v":28565},62756,null,null,1,"SAC",null,{"$f":"IF($I76<>\"Yes\",$F76*2,($F76+ROUND(J76*$F76/SUM(COUNTRY_INFO!$E76:$G76),0))*2)","v":51868},{"$f":"IF($I76<>\"Yes\",$G76*3,($G76+ROUND(J76*$G76/SUM(COUNTRY_INFO!$E76:$G76),0))*3)","v":85695},137563,null,137563]
[{"$f":"IF(INTRO!$E$43=\"Non-endemic\",\" \", IF(COUNTRY_INFO!A77=0,\" \",COUNTRY_INFO!A77))","v":"Ghana"},{"$f":"IF(INTRO!$E$43=\"Non-endemic\",\" \", IF(COUNTRY_INFO!B77=0,\" \",COUNTRY_INFO!B77))","v":"Bono East"},{"$f":"IF(INTRO!$E$43=\"Non-endemic\",\" \", IF(COUNTRY_INFO!C77=0,\" \",COUNTRY_INFO!C77))","v":"Pru West"},{"$f":"IF(INTRO!$E$43=\"Non-endemic\", \"Not required\", COUNTRY_INFO!Y77)","v":1},{"$f":"IF(OR(COUNTRY_INFO!R77=\"Unknown\",COUNTRY_INFO!R77=\"Surveillance\",COUNTRY_INFO!R77=\"Not required\",COUNTRY_INFO!R77=0),0,IF($D77<>0, COUNTRY_INFO!R77,0))","v":5642},{"$f":"IF(OR(COUNTRY_INFO!S77=\"Unknown\",COUNTRY_INFO!S77=\"Surveillance\",COUNTRY_INFO!S77=\"Not required\",COUNTRY_INFO!S77=0),0,IF($D77<>0, COUNTRY_INFO!S77,0))","v":17720},{"$f":"IF(OR(COUNTRY_INFO!T77=\"Unknown\",COUNTRY_INFO!T77=\"Surveillance\",COUNTRY_INFO!T77=\"Not required\",COUNTRY_INFO!T77=0),0,IF($D77<>0, COUNTRY_INFO!T77,0))","v":17895},41257,null,null,1,"SAC",null,{"$f":"IF($I77<>\"Yes\",$F77*2,($F77+ROUND(J77*$F77/SUM(COUNTRY_INFO!$E77:$G77),0))*2)","v":35440},{"$f":"IF($I77<>\"Yes\",$G77*3,($G77+ROUND(J77*$G77/SUM(COUNTRY_INFO!$E77:$G77),0))*3)","v":53685},89125,null,89125]
[{"$f":"IF(INTRO!$E$43=\"Non-endemic\",\" \", IF(COUNTRY_INFO!A78=0,\" \",COUNTRY_INFO!A78))","v":"Ghana"},{"$f":"IF(INTRO!$E$43=\"Non-endemic\",\" \", IF(COUNTRY_INFO!B78=0,\" \",COUNTRY_INFO!B78))","v":"Bono East"},{"$f":"IF(INTRO!$E$43=\"Non-endemic\",\" \", IF(COUNTRY_INFO!C78=0,\" \",COUNTRY_INFO!C78))","v":"Sene East"},{"$f":"IF(INTRO!$E$43=\"Non-endemic\", \"Not required\", COUNTRY_INFO!Y78)","v":1},{"$f":"IF(OR(COUNTRY_INFO!R78=\"Unknown\",COUNTRY_INFO!R78=\"Surveillance\",COUNTRY_INFO!R78=\"Not required\",COUNTRY_INFO!R78=0),0,IF($D78<>0, COUNTRY_INFO!R78,0))","v":5861},{"$f":"IF(OR(COUNTRY_INFO!S78=\"Unknown\",COUNTRY_INFO!S78=\"Surveillance\",COUNTRY_INFO!S78=\"Not required\",COUNTRY_INFO!S78=0),0,IF($D78<>0, COUNTRY_INFO!S78,0))","v":18409},{"$f":"IF(OR(COUNTRY_INFO!T78=\"Unknown\",COUNTRY_INFO!T78=\"Surveillance\",COUNTRY_INFO!T78=\"Not required\",COUNTRY_INFO!T78=0),0,IF($D78<>0, COUNTRY_INFO!T78,0))","v":25698},49968,null,null,1,"SAC",null,{"$f":"IF($I78<>\"Yes\",$F78*2,($F78+ROUND(J78*$F78/SUM(COUNTRY_INFO!$E78:$G78),0))*2)","v":36818},{"$f":"IF($I78<>\"Yes\",$G78*3,($G78+ROUND(J78*$G78/SUM(COUNTRY_INFO!$E78:$G78),0))*3)","v":77094},113912,null,113912]
[{"$f":"IF(INTRO!$E$43=\"Non-endemic\",\" \", IF(COUNTRY_INFO!A79=0,\" \",COUNTRY_INFO!A79))","v":"Ghana"},{"$f":"IF(INTRO!$E$43=\"Non-endemic\",\" \", IF(COUNTRY_INFO!B79=0,\" \",COUNTRY_INFO!B79))","v":"Bono East"},{"$f":"IF(INTRO!$E$43=\"Non-endemic\",\" \", IF(COUNTRY_INFO!C79=0,\" \",COUNTRY_INFO!C79))","v":"Sene West"},{"$f":"IF(INTRO!$E$43=\"Non-endemic\", \"Not required\", COUNTRY_INFO!Y79)","v":1},{"$f":"IF(OR(COUNTRY_INFO!R79=\"Unknown\",COUNTRY_INFO!R79=\"Surveillance\",COUNTRY_INFO!R79=\"Not required\",COUNTRY_INFO!R79=0),0,IF($D79<>0, COUNTRY_INFO!R79,0))","v":5678},{"$f":"IF(OR(COUNTRY_INFO!S79=\"Unknown\",COUNTRY_INFO!S79=\"Surveillance\",COUNTRY_INFO!S79=\"Not required\",COUNTRY_INFO!S79=0),0,IF($D79<>0, COUNTRY_INFO!S79,0))","v":17836},{"$f":"IF(OR(COUNTRY_INFO!T79=\"Unknown\",COUNTRY_INFO!T79=\"Surveillance\",COUNTRY_INFO!T79=\"Not required\",COUNTRY_INFO!T79=0),0,IF($D79<>0, COUNTRY_INFO!T79,0))","v":19635},43149,null,null,1,"SAC",null,{"$f":"IF($I79<>\"Yes\",$F79*2,($F79+ROUND(J79*$F79/SUM(COUNTRY_INFO!$E79:$G79),0))*2)","v":35672},{"$f":"IF($I79<>\"Yes\",$G79*3,($G79+ROUND(J79*$G79/SUM(COUNTRY_INFO!$E79:$G79),0))*3)","v":58905},94577,null,94577]
[{"$f":"IF(INTRO!$E$43=\"Non-endemic\",\" \", IF(COUNTRY_INFO!A80=0,\" \",COUNTRY_INFO!A80))","v":"Ghana"},{"$f":"IF(INTRO!$E$43=\"Non-endemic\",\" \", IF(COUNTRY_INFO!B80=0,\" \",COUNTRY_INFO!B80))","v":"Bono East"},{"$f":"IF(INTRO!$E$43=\"Non-endemic\",\" \", IF(COUNTRY_INFO!C80=0,\" \",COUNTRY_INFO!C80))","v":"Techiman Municipal"},{"$f":"IF(INTRO!$E$43=\"Non-endemic\", \"Not required\", COUNTRY_INFO!Y80)","v":1},{"$f":"IF(OR(COUNTRY_INFO!R80=\"Unknown\",COUNTRY_INFO!R80=\"Surveillance\",COUNTRY_INFO!R80=\"Not required\",COUNTRY_INFO!R80=0),0,IF($D80<>0, COUNTRY_INFO!R80,0))","v":18518},{"$f":"IF(OR(COUNTRY_INFO!S80=\"Unknown\",COUNTRY_INFO!S80=\"Surveillance\",COUNTRY_INFO!S80=\"Not required\",COUNTRY_INFO!S80=0),0,IF($D80<>0, COUNTRY_INFO!S80,0))","v":58167},{"$f":"IF(OR(COUNTRY_INFO!T80=\"Unknown\",COUNTRY_INFO!T80=\"Surveillance\",COUNTRY_INFO!T80=\"Not required\",COUNTRY_INFO!T80=0),0,IF($D80<>0, COUNTRY_INFO!T80,0))","v":0},76685,null,null,1,"SAC",null,{"$f":"IF($I80<>\"Yes\",$F80*2,($F80+ROUND(J80*$F80/SUM(COUNTRY_INFO!$E80:$G80),0))*2)","v":116334},{"$f":"IF($I80<>\"Yes\",$G80*3,($G80+ROUND(J80*$G80/SUM(COUNTRY_INFO!$E80:$G80),0))*3)","v":0},116334,null,116334]
[{"$f":"IF(INTRO!$E$43=\"Non-endemic\",\" \", IF(COUNTRY_INFO!A81=0,\" \",COUNTRY_INFO!A81))","v":"Ghana"},{"$f":"IF(INTRO!$E$43=\"Non-endemic\",\" \", IF(COUNTRY_INFO!B81=0,\" \",COUNTRY_INFO!B81))","v":"Bono East"},{"$f":"IF(INTRO!$E$43=\"Non-endemic\",\" \", IF(COUNTRY_INFO!C81=0,\" \",COUNTRY_INFO!C81))","v":"Techiman North"},{"$f":"IF(INTRO!$E$43=\"Non-endemic\", \"Not required\", COUNTRY_INFO!Y81)","v":1},{"$f":"IF(OR(COUNTRY_INFO!R81=\"Unknown\",COUNTRY_INFO!R81=\"Surveillance\",COUNTRY_INFO!R81=\"Not required\",COUNTRY_INFO!R81=0),0,IF($D81<>0, COUNTRY_INFO!R81,0))","v":7253},{"$f":"IF(OR(COUNTRY_INFO!S81=\"Unknown\",COUNTRY_INFO!S81=\"Surveillance\",COUNTRY_INFO!S81=\"Not required\",COUNTRY_INFO!S81=0),0,IF($D81<>0, COUNTRY_INFO!S81,0))","v":22781},{"$f":"IF(OR(COUNTRY_INFO!T81=\"Unknown\",COUNTRY_INFO!T81=\"Surveillance\",COUNTRY_INFO!T81=\"Not required\",COUNTRY_INFO!T81=0),0,IF($D81<>0, COUNTRY_INFO!T81,0))","v":0},30034,null,null,1,"SAC",null,{"$f":"IF($I81<>\"Yes\",$F81*2,($F81+ROUND(J81*$F81/SUM(COUNTRY_INFO!$E81:$G81),0))*2)","v":45562},{"$f":"IF($I81<>\"Yes\",$G81*3,($G81+ROUND(J81*$G81/SUM(COUNTRY_INFO!$E81:$G81),0))*3)","v":0},45562,null,45562]
[{"$f":"IF(INTRO!$E$43=\"Non-endemic\",\" \", IF(COUNTRY_INFO!A82=0,\" \",COUNTRY_INFO!A82))","v":"Ghana"},{"$f":"IF(INTRO!$E$43=\"Non-endemic\",\" \", IF(COUNTRY_INFO!B82=0,\" \",COUNTRY_INFO!B82))","v":"Central"},{"$f":"IF(INTRO!$E$43=\"Non-endemic\",\" \", IF(COUNTRY_INFO!C82=0,\" \",COUNTRY_INFO!C82))","v":"Abura-Asebu-Kwamankese"},{"$f":"IF(INTRO!$E$43=\"Non-endemic\", \"Not required\", COUNTRY_INFO!Y82)","v":1},{"$f":"IF(OR(COUNTRY_INFO!R82=\"Unknown\",COUNTRY_INFO!R82=\"Surveillance\",COUNTRY_INFO!R82=\"Not required\",COUNTRY_INFO!R82=0),0,IF($D82<>0, COUNTRY_INFO!R82,0))","v":10121},{"$f":"IF(OR(COUNTRY_INFO!S82=\"Unknown\",COUNTRY_INFO!S82=\"Surveillance\",COUNTRY_INFO!S82=\"Not required\",COUNTRY_INFO!S82=0),0,IF($D82<>0, COUNTRY_INFO!S82,0))","v":31788},{"$f":"IF(OR(COUNTRY_INFO!T82=\"Unknown\",COUNTRY_INFO!T82=\"Surveillance\",COUNTRY_INFO!T82=\"Not required\",COUNTRY_INFO!T82=0),0,IF($D82<>0, COUNTRY_INFO!T82,0))","v":0},41909,null,null,1,"SAC",null,{"$f":"IF($I82<>\"Yes\",$F82*2,($F82+ROUND(J82*$F82/SUM(COUNTRY_INFO!$E82:$G82),0))*2)","v":63576},{"$f":"IF($I82<>\"Yes\",$G82*3,($G82+ROUND(J82*$G82/SUM(COUNTRY_INFO!$E82:$G82),0))*3)","v":0},63576,null,63576]
[{"$f":"IF(INTRO!$E$43=\"Non-endemic\",\" \", IF(COUNTRY_INFO!A83=0,\" \",COUNTRY_INFO!A83))","v":"Ghana"},{"$f":"IF(INTRO!$E$43=\"Non-endemic\",\" \", IF(COUNTRY_INFO!B83=0,\" \",COUNTRY_INFO!B83))","v":"Central"},{"$f":"IF(INTRO!$E$43=\"Non-endemic\",\" \", IF(COUNTRY_INFO!C83=0,\" \",COUNTRY_INFO!C83))","v":"Agona East"},{"$f":"IF(INTRO!$E$43=\"Non-endemic\", \"Not required\", COUNTRY_INFO!Y83)","v":1},{"$f":"IF(OR(COUNTRY_INFO!R83=\"Unknown\",COUNTRY_INFO!R83=\"Surveillance\",COUNTRY_INFO!R83=\"Not required\",COUNTRY_INFO!R83=0),0,IF($D83<>0, COUNTRY_INFO!R83,0))","v":7995},{"$f":"IF(OR(COUNTRY_INFO!S83=\"Unknown\",COUNTRY_INFO!S83=\"Surveillance\",COUNTRY_INFO!S83=\"Not required\",COUNTRY_INFO!S83=0),0,IF($D83<>0, COUNTRY_INFO!S83,0))","v":25112},{"$f":"IF(OR(COUNTRY_INFO!T83=\"Unknown\",COUNTRY_INFO!T83=\"Surveillance\",COUNTRY_INFO!T83=\"Not required\",COUNTRY_INFO!T83=0),0,IF($D83<>0, COUNTRY_INFO!T83,0))","v":0},33107,null,null,1,"SAC",null,{"$f":"IF($I83<>\"Yes\",$F83*2,($F83+ROUND(J83*$F83/SUM(COUNTRY_INFO!$E83:$G83),0))*2)","v":50224},{"$f":"IF($I83<>\"Yes\",$G83*3,($G83+ROUND(J83*$G83/SUM(COUNTRY_INFO!$E83:$G83),0))*3)","v":0},50224,null,50224]
[{"$f":"IF(INTRO!$E$43=\"Non-endemic\",\" \", IF(COUNTRY_INFO!A84=0,\" \",COUNTRY_INFO!A84))","v":"Ghana"},{"$f":"IF(INTRO!$E$43=\"Non-endemic\",\" \", IF(COUNTRY_INFO!B84=0,\" \",COUNTRY_INFO!B84))","v":"Central"},{"$f":"IF(INTRO!$E$43=\"Non-endemic\",\" \", IF(COUNTRY_INFO!C84=0,\" \",COUNTRY_INFO!C84))","v":"Agona West"},{"$f":"IF(INTRO!$E$43=\"Non-endemic\", \"Not required\", COUNTRY_INFO!Y84)","v":1},{"$f":"IF(OR(COUNTRY_INFO!R84=\"Unknown\",COUNTRY_INFO!R84=\"Surveillance\",COUNTRY_INFO!R84=\"Not required\",COUNTRY_INFO!R84=0),0,IF($D84<>0, COUNTRY_INFO!R84,0))","v":11130},{"$f":"IF(OR(COUNTRY_INFO!S84=\"Unknown\",COUNTRY_INFO!S84=\"Surveillance\",COUNTRY_INFO!S84=\"Not required\",COUNTRY_INFO!S84=0),0,IF($D84<>0, COUNTRY_INFO!S84,0))","v":34959},{"$f":"IF(OR(COUNTRY_INFO!T84=\"Unknown\",COUNTRY_INFO!T84=\"Surveillance\",COUNTRY_INFO!T84=\"Not required\",COUNTRY_INFO!T84=0),0,IF($D84<>0, COUNTRY_INFO!T84,0))","v":0},46089,null,null,1,"SAC",null,{"$f":"IF($I84<>\"Yes\",$F84*2,($F84+ROUND(J84*$F84/SUM(COUNTRY_INFO!$E84:$G84),0))*2)","v":69918},{"$f":"IF($I84<>\"Yes\",$G84*3,($G84+ROUND(J84*$G84/SUM(COUNTRY_INFO!$E84:$G84),0))*3)","v":0},69918,null,69918]
[{"$f":"IF(INTRO!$E$43=\"Non-endemic\",\" \", IF(COUNTRY_INFO!A85=0,\" \",COUNTRY_INFO!A85))","v":"Ghana"},{"$f":"IF(INTRO!$E$43=\"Non-endemic\",\" \", IF(COUNTRY_INFO!B85=0,\" \",COUNTRY_INFO!B85))","v":"Central"},{"$f":"IF(INTRO!$E$43=\"Non-endemic\",\" \", IF(COUNTRY_INFO!C85=0,\" \",COUNTRY_INFO!C85))","v":"Ajumako-Enyan-Essiam"},{"$f":"IF(INTRO!$E$43=\"Non-endemic\", \"Not required\", COUNTRY_INFO!Y85)","v":1},{"$f":"IF(OR(COUNTRY_INFO!R85=\"Unknown\",COUNTRY_INFO!R85=\"Surveillance\",COUNTRY_INFO!R85=\"Not required\",COUNTRY_INFO!R85=0),0,IF($D85<>0, COUNTRY_INFO!R85,0))","v":9805},{"$f":"IF(OR(COUNTRY_INFO!S85=\"Unknown\",COUNTRY_INFO!S85=\"Surveillance\",COUNTRY_INFO!S85=\"Not required\",COUNTRY_INFO!S85=0),0,IF($D85<>0, COUNTRY_INFO!S85,0))","v":30797},{"$f":"IF(OR(COUNTRY_INFO!T85=\"Unknown\",COUNTRY_INFO!T85=\"Surveillance\",COUNTRY_INFO!T85=\"Not required\",COUNTRY_INFO!T85=0),0,IF($D85<>0, COUNTRY_INFO!T85,0))","v":0},40602,null,null,1,"SAC",null,{"$f":"IF($I85<>\"Yes\",$F85*2,($F85+ROUND(J85*$F85/SUM(COUNTRY_INFO!$E85:$G85),0))*2)","v":61594},{"$f":"IF($I85<>\"Yes\",$G85*3,($G85+ROUND(J85*$G85/SUM(COUNTRY_INFO!$E85:$G85),0))*3)","v":0},61594,null,61594]
[{"$f":"IF(INTRO!$E$43=\"Non-endemic\",\" \", IF(COUNTRY_INFO!A86=0,\" \",COUNTRY_INFO!A86))","v":"Ghana"},{"$f":"IF(INTRO!$E$43=\"Non-endemic\",\" \", IF(COUNTRY_INFO!B86=0,\" \",COUNTRY_INFO!B86))","v":"Central"},{"$f":"IF(INTRO!$E$43=\"Non-endemic\",\" \", IF(COUNTRY_INFO!C86=0,\" \",COUNTRY_INFO!C86))","v":"Asikuma-Odoben-Brakwa"},{"$f":"IF(INTRO!$E$43=\"Non-endemic\", \"Not required\", COUNTRY_INFO!Y86)","v":1},{"$f":"IF(OR(COUNTRY_INFO!R86=\"Unknown\",COUNTRY_INFO!R86=\"Surveillance\",COUNTRY_INFO!R86=\"Not required\",COUNTRY_INFO!R86=0),0,IF($D86<>0, COUNTRY_INFO!R86,0))","v":10326},{"$f":"IF(OR(COUNTRY_INFO!S86=\"Unknown\",COUNTRY_INFO!S86=\"Surveillance\",COUNTRY_INFO!S86=\"Not required\",COUNTRY_INFO!S86=0),0,IF($D86<>0, COUNTRY_INFO!S86,0))","v":32434},{"$f":"IF(OR(COUNTRY_INFO!T86=\"Unknown\",COUNTRY_INFO!T86=\"Surveillance\",COUNTRY_INFO!T86=\"Not required\",COUNTRY_INFO!T86=0),0,IF($D86<>0, COUNTRY_INFO!T86,0))","v":24659},67419,null,null,1,"SAC",null,{"$f":"IF($I86<>\"Yes\",$F86*2,($F86+ROUND(J86*$F86/SUM(COUNTRY_INFO!$E86:$G86),0))*2)","v":64868},{"$f":"IF($I86<>\"Yes\",$G86*3,($G86+ROUND(J86*$G86/SUM(COUNTRY_INFO!$E86:$G86),0))*3)","v":73977},138845,null,138845]
[{"$f":"IF(INTRO!$E$43=\"Non-endemic\",\" \", IF(COUNTRY_INFO!A87=0,\" \",COUNTRY_INFO!A87))","v":"Ghana"},{"$f":"IF(INTRO!$E$43=\"Non-endemic\",\" \", IF(COUNTRY_INFO!B87=0,\" \",COUNTRY_INFO!B87))","v":"Central"},{"$f":"IF(INTRO!$E$43=\"Non-endemic\",\" \", IF(COUNTRY_INFO!C87=0,\" \",COUNTRY_INFO!C87))","v":"Assin Foso"},{"$f":"IF(INTRO!$E$43=\"Non-endemic\", \"Not required\", COUNTRY_INFO!Y87)","v":1},{"$f":"IF(OR(COUNTRY_INFO!R87=\"Unknown\",COUNTRY_INFO!R87=\"Surveillance\",COUNTRY_INFO!R87=\"Not required\",COUNTRY_INFO!R87=0),0,IF($D87<>0, COUNTRY_INFO!R87,0))","v":7217},{"$f":"IF(OR(COUNTRY_INFO!S87=\"Unknown\",COUNTRY_INFO!S87=\"Surveillance\",COUNTRY_INFO!S87=\"Not required\",COUNTRY_INFO!S87=0),0,IF($D87<>0, COUNTRY_INFO!S87,0))","v":22667},{"$f":"IF(OR(COUNTRY_INFO!T87=\"Unknown\",COUNTRY_INFO!T87=\"Surveillance\",COUNTRY_INFO!T87=\"Not required\",COUNTRY_INFO!T87=0),0,IF($D87<>0, COUNTRY_INFO!T87,0))","v":17569},47453,null,null,1,"SAC",null,{"$f":"IF($I87<>\"Yes\",$F87*2,($F87+ROUND(J87*$F87/SUM(COUNTRY_INFO!$E87:$G87),0))*2)","v":45334},{"$f":"IF($I87<>\"Yes\",$G87*3,($G87+ROUND(J87*$G87/SUM(COUNTRY_INFO!$E87:$G87),0))*3)","v":52707},98041,null,98041]
[{"$f":"IF(INTRO!$E$43=\"Non-endemic\",\" \", IF(COUNTRY_INFO!A88=0,\" \",COUNTRY_INFO!A88))","v":"Ghana"},{"$f":"IF(INTRO!$E$43=\"Non-endemic\",\" \", IF(COUNTRY_INFO!B88=0,\" \",COUNTRY_INFO!B88))","v":"Central"},{"$f":"IF(INTRO!$E$43=\"Non-endemic\",\" \", IF(COUNTRY_INFO!C88=0,\" \",COUNTRY_INFO!C88))","v":"Assin North"},{"$f":"IF(INTRO!$E$43=\"Non-endemic\", \"Not required\", COUNTRY_INFO!Y88)","v":1},{"$f":"IF(OR(COUNTRY_INFO!R88=\"Unknown\",COUNTRY_INFO!R88=\"Surveillance\",COUNTRY_INFO!R88=\"Not required\",COUNTRY_INFO!R88=0),0,IF($D88<>0, COUNTRY_INFO!R88,0))","v":6549},{"$f":"IF(OR(COUNTRY_INFO!S88=\"Unknown\",COUNTRY_INFO!S88=\"Surveillance\",COUNTRY_INFO!S88=\"Not required\",COUNTRY_INFO!S88=0),0,IF($D88<>0, COUNTRY_INFO!S88,0))","v":20569},{"$f":"IF(OR(COUNTRY_INFO!T88=\"Unknown\",COUNTRY_INFO!T88=\"Surveillance\",COUNTRY_INFO!T88=\"Not required\",COUNTRY_INFO!T88=0),0,IF($D88<>0, COUNTRY_INFO!T88,0))","v":32659},59777,null,null,1,"SAC",null,{"$f":"IF($I88<>\"Yes\",$F88*2,($F88+ROUND(J88*$F88/SUM(COUNTRY_INFO!$E88:$G88),0))*2)","v":41138},{"$f":"IF($I88<>\"Yes\",$G88*3,($G88+ROUND(J88*$G88/SUM(COUNTRY_INFO!$E88:$G88),0))*3)","v":97977},139115,null,139115]
[{"$f":"IF(INTRO!$E$43=\"Non-endemic\",\" \", IF(COUNTRY_INFO!A89=0,\" \",COUNTRY_INFO!A89))","v":"Ghana"},{"$f":"IF(INTRO!$E$43=\"Non-endemic\",\" \", IF(COUNTRY_INFO!B89=0,\" \",COUNTRY_INFO!B89))","v":"Central"},{"$f":"IF(INTRO!$E$43=\"Non-endemic\",\" \", IF(COUNTRY_INFO!C89=0,\" \",COUNTRY_INFO!C89))","v":"Assin South"},{"$f":"IF(INTRO!$E$43=\"Non-endemic\", \"Not required\", COUNTRY_INFO!Y89)","v":1},{"$f":"IF(OR(COUNTRY_INFO!R89=\"Unknown\",COUNTRY_INFO!R89=\"Surveillance\",COUNTRY_INFO!R89=\"Not required\",COUNTRY_INFO!R89=0),0,IF($D89<>0, COUNTRY_INFO!R89,0))","v":8618},{"$f":"IF(OR(COUNTRY_INFO!S89=\"Unknown\",COUNTRY_INFO!S89=\"Surveillance\",COUNTRY_INFO!S89=\"Not required\",COUNTRY_INFO!S89=0),0,IF($D89<>0, COUNTRY_INFO!S89,0))","v":27071},{"$f":"IF(OR(COUNTRY_INFO!T89=\"Unknown\",COUNTRY_INFO!T89=\"Surveillance\",COUNTRY_INFO!T89=\"Not required\",COUNTRY_INFO!T89=0),0,IF($D89<>0, COUNTRY_INFO!T89,0))","v":0},35689,null,null,1,"SAC",null,{"$f":"IF($I89<>\"Yes\",$F89*2,($F89+ROUND(J89*$F89/SUM(COUNTRY_INFO!$E89:$G89),0))*2)","v":54142},{"$f":"IF($I89<>\"Yes\",$G89*3,($G89+ROUND(J89*$G89/SUM(COUNTRY_INFO!$E89:$G89),0))*3)","v":0},54142,null,54142]
[{"$f":"IF(INTRO!$E$43=\"Non-endemic\",\" \", IF(COUNTRY_INFO!A90=0,\" \",COUNTRY_INFO!A90))","v":"Ghana"},{"$f":"IF(INTRO!$E$43=\"Non-endemic\",\" \", IF(COUNTRY_INFO!B90=0,\" \",COUNTRY_INFO!B90))","v":"Central"},{"$f":"IF(INTRO!$E$43=\"Non-endemic\",\" \", IF(COUNTRY_INFO!C90=0,\" \",COUNTRY_INFO!C90))","v":"Awutu Senya"},{"$f":"IF(INTRO!$E$43=\"Non-endemic\", \"Not required\", COUNTRY_INFO!Y90)","v":1},{"$f":"IF(OR(COUNTRY_INFO!R90=\"Unknown\",COUNTRY_INFO!R90=\"Surveillance\",COUNTRY_INFO!R90=\"Not required\",COUNTRY_INFO!R90=0),0,IF($D90<>0, COUNTRY_INFO!R90,0))","v":13129},{"$f":"IF(OR(COUNTRY_INFO!S90=\"Unknown\",COUNTRY_INFO!S90=\"Surveillance\",COUNTRY_INFO!S90=\"Not required\",COUNTRY_INFO!S90=0),0,IF($D90<>0, COUNTRY_INFO!S90,0))","v":41237},{"$f":"IF(OR(COUNTRY_INFO!T90=\"Unknown\",COUNTRY_INFO!T90=\"Surveillance\",COUNTRY_INFO!T90=\"Not required\",COUNTRY_INFO!T90=0),0,IF($D90<>0, COUNTRY_INFO!T90,0))","v":0},54366,null,null,1,"SAC",null,{"$f":"IF($I90<>\"Yes\",$F90*2,($F90+ROUND(J90*$F90/SUM(COUNTRY_INFO!$E90:$G90),0))*2)","v":82474},{"$f":"IF($I90<>\"Yes\",$G90*3,($G90+ROUND(J90*$G90/SUM(COUNTRY_INFO!$E90:$G90),0))*3)","v":0},82474,null,82474]
[{"$f":"IF(INTRO!$E$43=\"Non-endemic\",\" \", IF(COUNTRY_INFO!A91=0,\" \",COUNTRY_INFO!A91))","v":"Ghana"},{"$f":"IF(INTRO!$E$43=\"Non-endemic\",\" \", IF(COUNTRY_INFO!B91=0,\" \",COUNTRY_INFO!B91))","v":"Central"},{"$f":"IF(INTRO!$E$43=\"Non-endemic\",\" \", IF(COUNTRY_INFO!C91=0,\" \",COUNTRY_INFO!C91))","v":"Awutu Senya East"},{"$f":"IF(INTRO!$E$43=\"Non-endemic\", \"Not required\", COUNTRY_INFO!Y91)","v":1},{"$f":"IF(OR(COUNTRY_INFO!R91=\"Unknown\",COUNTRY_INFO!R91=\"Surveillance\",COUNTRY_INFO!R91=\"Not required\",COUNTRY_INFO!R91=0),0,IF($D91<>0, COUNTRY_INFO!R91,0))","v":19232},{"$f":"IF(OR(COUNTRY_INFO!S91=\"Unknown\",COUNTRY_INFO!S91=\"Surveillance\",COUNTRY_INFO!S91=\"Not required\",COUNTRY_INFO!S91=0),0,IF($D91<>0, COUNTRY_INFO!S91,0))","v":60408},{"$f":"IF(OR(COUNTRY_INFO!T91=\"Unknown\",COUNTRY_INFO!T91=\"Surveillance\",COUNTRY_INFO!T91=\"Not required\",COUNTRY_INFO!T91=0),0,IF($D91<>0, COUNTRY_INFO!T91,0))","v":0},79640,null,null,1,"SAC",null,{"$f":"IF($I91<>\"Yes\",$F91*2,($F91+ROUND(J91*$F91/SUM(COUNTRY_INFO!$E91:$G91),0))*2)","v":120816},{"$f":"IF($I91<>\"Yes\",$G91*3,($G91+ROUND(J91*$G91/SUM(COUNTRY_INFO!$E91:$G91),0))*3)","v":0},120816,null,120816]
[{"$f":"IF(INTRO!$E$43=\"Non-endemic\",\" \", IF(COUNTRY_INFO!A92=0,\" \",COUNTRY_INFO!A92))","v":"Ghana"},{"$f":"IF(INTRO!$E$43=\"Non-endemic\",\" \", IF(COUNTRY_INFO!B92=0,\" \",COUNTRY_INFO!B92))","v":"Central"},{"$f":"IF(INTRO!$E$43=\"Non-endemic\",\" \", IF(COUNTRY_INFO!C92=0,\" \",COUNTRY_INFO!C92))","v":"Cape Coast"},{"$f":"IF(INTRO!$E$43=\"Non-endemic\", \"Not required\", COUNTRY_INFO!Y92)","v":1},{"$f":"IF(OR(COUNTRY_INFO!R92=\"Unknown\",COUNTRY_INFO!R92=\"Surveillance\",COUNTRY_INFO!R92=\"Not required\",COUNTRY_INFO!R92=0),0,IF($D92<>0, COUNTRY_INFO!R92,0))","v":15443},{"$f":"IF(OR(COUNTRY_INFO!S92=\"Unknown\",COUNTRY_INFO!S92=\"Surveillance\",COUNTRY_INFO!S92=\"Not required\",COUNTRY_INFO!S92=0),0,IF($D92<>0, COUNTRY_INFO!S92,0))","v":48506},{"$f":"IF(OR(COUNTRY_INFO!T92=\"Unknown\",COUNTRY_INFO!T92=\"Surveillance\",COUNTRY_INFO!T92=\"Not required\",COUNTRY_INFO!T92=0),0,IF($D92<>0, COUNTRY_INFO!T92,0))","v":0},63949,null,null,1,"SAC",null,{"$f":"IF($I92<>\"Yes\",$F92*2,($F92+ROUND(J92*$F92/SUM(COUNTRY_INFO!$E92:$G92),0))*2)","v":97012},{"$f":"IF($I92<>\"Yes\",$G92*3,($G92+ROUND(J92*$G92/SUM(COUNTRY_INFO!$E92:$G92),0))*3)","v":0},97012,null,97012]
[{"$f":"IF(INTRO!$E$43=\"Non-endemic\",\" \", IF(COUNTRY_INFO!A93=0,\" \",COUNTRY_INFO!A93))","v":"Ghana"},{"$f":"IF(INTRO!$E$43=\"Non-endemic\",\" \", IF(COUNTRY_INFO!B93=0,\" \",COUNTRY_INFO!B93))","v":"Central"},{"$f":"IF(INTRO!$E$43=\"Non-endemic\",\" \", IF(COUNTRY_INFO!C93=0,\" \",COUNTRY_INFO!C93))","v":"Efutu"},{"$f":"IF(INTRO!$E$43=\"Non-endemic\", \"Not required\", COUNTRY_INFO!Y93)","v":1},{"$f":"IF(OR(COUNTRY_INFO!R93=\"Unknown\",COUNTRY_INFO!R93=\"Surveillance\",COUNTRY_INFO!R93=\"Not required\",COUNTRY_INFO!R93=0),0,IF($D93<>0, COUNTRY_INFO!R93,0))","v":8765},{"$f":"IF(OR(COUNTRY_INFO!S93=\"Unknown\",COUNTRY_INFO!S93=\"Surveillance\",COUNTRY_INFO!S93=\"Not required\",COUNTRY_INFO!S93=0),0,IF($D93<>0, COUNTRY_INFO!S93,0))","v":27531},{"$f":"IF(OR(COUNTRY_INFO!T93=\"Unknown\",COUNTRY_INFO!T93=\"Surveillance\",COUNTRY_INFO!T93=\"Not required\",COUNTRY_INFO!T93=0),0,IF($D93<>0, COUNTRY_INFO!T93,0))","v":0},36296,null,null,1,"SAC",null,{"$f":"IF($I93<>\"Yes\",$F93*2,($F93+ROUND(J93*$F93/SUM(COUNTRY_INFO!$E93:$G93),0))*2)","v":55062},{"$f":"IF($I93<>\"Yes\",$G93*3,($G93+ROUND(J93*$G93/SUM(COUNTRY_INFO!$E93:$G93),0))*3)","v":0},55062,null,55062]
[{"$f":"IF(INTRO!$E$43=\"Non-endemic\",\" \", IF(COUNTRY_INFO!A94=0,\" \",COUNTRY_INFO!A94))","v":"Ghana"},{"$f":"IF(INTRO!$E$43=\"Non-endemic\",\" \", IF(COUNTRY_INFO!B94=0,\" \",COUNTRY_INFO!B94))","v":"Central"},{"$f":"IF(INTRO!$E$43=\"Non-endemic\",\" \", IF(COUNTRY_INFO!C94=0,\" \",COUNTRY_INFO!C94))","v":"Ekumfi"},{"$f":"IF(INTRO!$E$43=\"Non-endemic\", \"Not required\", COUNTRY_INFO!Y94)","v":1},{"$f":"IF(OR(COUNTRY_INFO!R94=\"Unknown\",COUNTRY_INFO!R94=\"Surveillance\",COUNTRY_INFO!R94=\"Not required\",COUNTRY_INFO!R94=0),0,IF($D94<>0, COUNTRY_INFO!R94,0))","v":0},{"$f":"IF(OR(COUNTRY_INFO!S94=\"Unknown\",COUNTRY_INFO!S94=\"Surveillance\",COUNTRY_INFO!S94=\"Not required\",COUNTRY_INFO!S94=0),0,IF($D94<>0, COUNTRY_INFO!S94,0))","v":0},{"$f":"IF(OR(COUNTRY_INFO!T94=\"Unknown\",COUNTRY_INFO!T94=\"Surveillance\",COUNTRY_INFO!T94=\"Not required\",COUNTRY_INFO!T94=0),0,IF($D94<>0, COUNTRY_INFO!T94,0))","v":0},0,null,null,1,"SAC",null,{"$f":"IF($I94<>\"Yes\",$F94*2,($F94+ROUND(J94*$F94/SUM(COUNTRY_INFO!$E94:$G94),0))*2)","v":0},{"$f":"IF($I94<>\"Yes\",$G94*3,($G94+ROUND(J94*$G94/SUM(COUNTRY_INFO!$E94:$G94),0))*3)","v":0},0,null,0]
[{"$f":"IF(INTRO!$E$43=\"Non-endemic\",\" \", IF(COUNTRY_INFO!A95=0,\" \",COUNTRY_INFO!A95))","v":"Ghana"},{"$f":"IF(INTRO!$E$43=\"Non-endemic\",\" \", IF(COUNTRY_INFO!B95=0,\" \",COUNTRY_INFO!B95))","v":"Central"},{"$f":"IF(INTRO!$E$43=\"Non-endemic\",\" \", IF(COUNTRY_INFO!C95=0,\" \",COUNTRY_INFO!C95))","v":"Gomoa Central"},{"$f":"IF(INTRO!$E$43=\"Non-endemic\", \"Not required\", COUNTRY_INFO!Y95)","v":1},{"$f":"IF(OR(COUNTRY_INFO!R95=\"Unknown\",COUNTRY_INFO!R95=\"Surveillance\",COUNTRY_INFO!R95=\"Not required\",COUNTRY_INFO!R95=0),0,IF($D95<>0, COUNTRY_INFO!R95,0))","v":6798},{"$f":"IF(OR(COUNTRY_INFO!S95=\"Unknown\",COUNTRY_INFO!S95=\"Surveillance\",COUNTRY_INFO!S95=\"Not required\",COUNTRY_INFO!S95=0),0,IF($D95<>0, COUNTRY_INFO!S95,0))","v":21354},{"$f":"IF(OR(COUNTRY_INFO!T95=\"Unknown\",COUNTRY_INFO!T95=\"Surveillance\",COUNTRY_INFO!T95=\"Not required\",COUNTRY_INFO!T95=0),0,IF($D95<>0, COUNTRY_INFO!T95,0))","v":0},28152,null,null,1,"SAC",null,{"$f":"IF($I95<>\"Yes\",$F95*2,($F95+ROUND(J95*$F95/SUM(COUNTRY_INFO!$E95:$G95),0))*2)","v":42708},{"$f":"IF($I95<>\"Yes\",$G95*3,($G95+ROUND(J95*$G95/SUM(COUNTRY_INFO!$E95:$G95),0))*3)","v":0},42708,null,42708]
[{"$f":"IF(INTRO!$E$43=\"Non-endemic\",\" \", IF(COUNTRY_INFO!A96=0,\" \",COUNTRY_INFO!A96))","v":"Ghana"},{"$f":"IF(INTRO!$E$43=\"Non-endemic\",\" \", IF(COUNTRY_INFO!B96=0,\" \",COUNTRY_INFO!B96))","v":"Central"},{"$f":"IF(INTRO!$E$43=\"Non-endemic\",\" \", IF(COUNTRY_INFO!C96=0,\" \",COUNTRY_INFO!C96))","v":"Gomoa East"},{"$f":"IF(INTRO!$E$43=\"Non-endemic\", \"Not required\", COUNTRY_INFO!Y96)","v":1},{"$f":"IF(OR(COUNTRY_INFO!R96=\"Unknown\",COUNTRY_INFO!R96=\"Surveillance\",COUNTRY_INFO!R96=\"Not required\",COUNTRY_INFO!R96=0),0,IF($D96<>0, COUNTRY_INFO!R96,0))","v":25100},{"$f":"IF(OR(COUNTRY_INFO!S96=\"Unknown\",COUNTRY_INFO!S96=\"Surveillance\",COUNTRY_INFO!S96=\"Not required\",COUNTRY_INFO!S96=0),0,IF($D96<>0, COUNTRY_INFO!S96,0))","v":78841},{"$f":"IF(OR(COUNTRY_INFO!T96=\"Unknown\",COUNTRY_INFO!T96=\"Surveillance\",COUNTRY_INFO!T96=\"Not required\",COUNTRY_INFO!T96=0),0,IF($D96<>0, COUNTRY_INFO!T96,0))","v":0},103941,null,null,1,"SAC",null,{"$f":"IF($I96<>\"Yes\",$F96*2,($F96+ROUND(J96*$F96/SUM(COUNTRY_INFO!$E96:$G96),0))*2)","v":157682},{"$f":"IF($I96<>\"Yes\",$G96*3,($G96+ROUND(J96*$G96/SUM(COUNTRY_INFO!$E96:$G96),0))*3)","v":0},157682,null,157682]
[{"$f":"IF(INTRO!$E$43=\"Non-endemic\",\" \", IF(COUNTRY_INFO!A97=0,\" \",COUNTRY_INFO!A97))","v":"Ghana"},{"$f":"IF(INTRO!$E$43=\"Non-endemic\",\" \", IF(COUNTRY_INFO!B97=0,\" \",COUNTRY_INFO!B97))","v":"Central"},{"$f":"IF(INTRO!$E$43=\"Non-endemic\",\" \", IF(COUNTRY_INFO!C97=0,\" \",COUNTRY_INFO!C97))","v":"Gomoa West"},{"$f":"IF(INTRO!$E$43=\"Non-endemic\", \"Not required\", COUNTRY_INFO!Y97)","v":1},{"$f":"IF(OR(COUNTRY_INFO!R97=\"Unknown\",COUNTRY_INFO!R97=\"Surveillance\",COUNTRY_INFO!R97=\"Not required\",COUNTRY_INFO!R97=0),0,IF($D97<>0, COUNTRY_INFO!R97,0))","v":10531},{"$f":"IF(OR(COUNTRY_INFO!S97=\"Unknown\",COUNTRY_INFO!S97=\"Surveillance\",COUNTRY_INFO!S97=\"Not required\",COUNTRY_INFO!S97=0),0,IF($D97<>0, COUNTRY_INFO!S97,0))","v":33077},{"$f":"IF(OR(COUNTRY_INFO!T97=\"Unknown\",COUNTRY_INFO!T97=\"Surveillance\",COUNTRY_INFO!T97=\"Not required\",COUNTRY_INFO!T97=0),0,IF($D97<>0, COUNTRY_INFO!T97,0))","v":0},43608,null,null,1,"SAC",null,{"$f":"IF($I97<>\"Yes\",$F97*2,($F97+ROUND(J97*$F97/SUM(COUNTRY_INFO!$E97:$G97),0))*2)","v":66154},{"$f":"IF($I97<>\"Yes\",$G97*3,($G97+ROUND(J97*$G97/SUM(COUNTRY_INFO!$E97:$G97),0))*3)","v":0},66154,null,66154]
[{"$f":"IF(INTRO!$E$43=\"Non-endemic\",\" \", IF(COUNTRY_INFO!A98=0,\" \",COUNTRY_INFO!A98))","v":"Ghana"},{"$f":"IF(INTRO!$E$43=\"Non-endemic\",\" \", IF(COUNTRY_INFO!B98=0,\" \",COUNTRY_INFO!B98))","v":"Central"},{"$f":"IF(INTRO!$E$43=\"Non-endemic\",\" \", IF(COUNTRY_INFO!C98=0,\" \",COUNTRY_INFO!C98))","v":"Komenda-Edna-Eguafo-Abirem"},{"$f":"IF(INTRO!$E$43=\"Non-endemic\", \"Not required\", COUNTRY_INFO!Y98)","v":1},{"$f":"IF(OR(COUNTRY_INFO!R98=\"Unknown\",COUNTRY_INFO!R98=\"Surveillance\",COUNTRY_INFO!R98=\"Not required\",COUNTRY_INFO!R98=0),0,IF($D98<>0, COUNTRY_INFO!R98,0))","v":13499},{"$f":"IF(OR(COUNTRY_INFO!S98=\"Unknown\",COUNTRY_INFO!S98=\"Surveillance\",COUNTRY_INFO!S98=\"Not required\",COUNTRY_INFO!S98=0),0,IF($D98<>0, COUNTRY_INFO!S98,0))","v":42400},{"$f":"IF(OR(COUNTRY_INFO!T98=\"Unknown\",COUNTRY_INFO!T98=\"Surveillance\",COUNTRY_INFO!T98=\"Not required\",COUNTRY_INFO!T98=0),0,IF($D98<>0, COUNTRY_INFO!T98,0))","v":0},55899,null,null,1,"SAC",null,{"$f":"IF($I98<>\"Yes\",$F98*2,($F98+ROUND(J98*$F98/SUM(COUNTRY_INFO!$E98:$G98),0))*2)","v":84800},{"$f":"IF($I98<>\"Yes\",$G98*3,($G98+ROUND(J98*$G98/SUM(COUNTRY_INFO!$E98:$G98),0))*3)","v":0},84800,null,84800]
[{"$f":"IF(INTRO!$E$43=\"Non-endemic\",\" \", IF(COUNTRY_INFO!A99=0,\" \",COUNTRY_INFO!A99))","v":"Ghana"},{"$f":"IF(INTRO!$E$43=\"Non-endemic\",\" \", IF(COUNTRY_INFO!B99=0,\" \",COUNTRY_INFO!B99))","v":"Central"},{"$f":"IF(INTRO!$E$43=\"Non-endemic\",\" \", IF(COUNTRY_INFO!C99=0,\" \",COUNTRY_INFO!C99))","v":"Mfantsiman"},{"$f":"IF(INTRO!$E$43=\"Non-endemic\", \"Not required\", COUNTRY_INFO!Y99)","v":1},{"$f":"IF(OR(COUNTRY_INFO!R99=\"Unknown\",COUNTRY_INFO!R99=\"Surveillance\",COUNTRY_INFO!R99=\"Not required\",COUNTRY_INFO!R99=0),0,IF($D99<>0, COUNTRY_INFO!R99,0))","v":0},{"$f":"IF(OR(COUNTRY_INFO!S99=\"Unknown\",COUNTRY_INFO!S99=\"Surveillance\",COUNTRY_INFO!S99=\"Not required\",COUNTRY_INFO!S99=0),0,IF($D99<>0, COUNTRY_INFO!S99,0))","v":0},{"$f":"IF(OR(COUNTRY_INFO!T99=\"Unknown\",COUNTRY_INFO!T99=\"Surveillance\",COUNTRY_INFO!T99=\"Not required\",COUNTRY_INFO!T99=0),0,IF($D99<>0, COUNTRY_INFO!T99,0))","v":23454},23454,null,null,1,"SAC",null,{"$f":"IF($I99<>\"Yes\",$F99*2,($F99+ROUND(J99*$F99/SUM(COUNTRY_INFO!$E99:$G99),0))*2)","v":0},{"$f":"IF($I99<>\"Yes\",$G99*3,($G99+ROUND(J99*$G99/SUM(COUNTRY_INFO!$E99:$G99),0))*3)","v":70362},70362,null,70362]
[{"$f":"IF(INTRO!$E$43=\"Non-endemic\",\" \", IF(COUNTRY_INFO!A100=0,\" \",COUNTRY_INFO!A100))","v":"Ghana"},{"$f":"IF(INTRO!$E$43=\"Non-endemic\",\" \", IF(COUNTRY_INFO!B100=0,\" \",COUNTRY_INFO!B100))","v":"Central"},{"$f":"IF(INTRO!$E$43=\"Non-endemic\",\" \", IF(COUNTRY_INFO!C100=0,\" \",COUNTRY_INFO!C100))","v":"Twifo-Ati-Mokwa"},{"$f":"IF(INTRO!$E$43=\"Non-endemic\", \"Not required\", COUNTRY_INFO!Y100)","v":1},{"$f":"IF(OR(COUNTRY_INFO!R100=\"Unknown\",COUNTRY_INFO!R100=\"Surveillance\",COUNTRY_INFO!R100=\"Not required\",COUNTRY_INFO!R100=0),0,IF($D100<>0, COUNTRY_INFO!R100,0))","v":8201},{"$f":"IF(OR(COUNTRY_INFO!S100=\"Unknown\",COUNTRY_INFO!S100=\"Surveillance\",COUNTRY_INFO!S100=\"Not required\",COUNTRY_INFO!S100=0),0,IF($D100<>0, COUNTRY_INFO!S100,0))","v":25757},{"$f":"IF(OR(COUNTRY_INFO!T100=\"Unknown\",COUNTRY_INFO!T100=\"Surveillance\",COUNTRY_INFO!T100=\"Not required\",COUNTRY_INFO!T100=0),0,IF($D100<>0, COUNTRY_INFO!T100,0))","v":0},33958,null,null,1,"SAC",null,{"$f":"IF($I100<>\"Yes\",$F100*2,($F100+ROUND(J100*$F100/SUM(COUNTRY_INFO!$E100:$G100),0))*2)","v":51514},{"$f":"IF($I100<>\"Yes\",$G100*3,($G100+ROUND(J100*$G100/SUM(COUNTRY_INFO!$E100:$G100),0))*3)","v":0},51514,null,51514]
[{"$f":"IF(INTRO!$E$43=\"Non-endemic\",\" \", IF(COUNTRY_INFO!A101=0,\" \",COUNTRY_INFO!A101))","v":"Ghana"},{"$f":"IF(INTRO!$E$43=\"Non-endemic\",\" \", IF(COUNTRY_INFO!B101=0,\" \",COUNTRY_INFO!B101))","v":"Central"},{"$f":"IF(INTRO!$E$43=\"Non-endemic\",\" \", IF(COUNTRY_INFO!C101=0,\" \",COUNTRY_INFO!C101))","v":"Twifo-Hemang Lower Denkyira"},{"$f":"IF(INTRO!$E$43=\"Non-endemic\", \"Not required\", COUNTRY_INFO!Y101)","v":1},{"$f":"IF(OR(COUNTRY_INFO!R101=\"Unknown\",COUNTRY_INFO!R101=\"Surveillance\",COUNTRY_INFO!R101=\"Not required\",COUNTRY_INFO!R101=0),0,IF($D101<>0, COUNTRY_INFO!R101,0))","v":5372},{"$f":"IF(OR(COUNTRY_INFO!S101=\"Unknown\",COUNTRY_INFO!S101=\"Surveillance\",COUNTRY_INFO!S101=\"Not required\",COUNTRY_INFO!S101=0),0,IF($D101<>0, COUNTRY_INFO!S101,0))","v":16875},{"$f":"IF(OR(COUNTRY_INFO!T101=\"Unknown\",COUNTRY_INFO!T101=\"Surveillance\",COUNTRY_INFO!T101=\"Not required\",COUNTRY_INFO!T101=0),0,IF($D101<>0, COUNTRY_INFO!T101,0))","v":0},22247,null,null,1,"SAC",null,{"$f":"IF($I101<>\"Yes\",$F101*2,($F101+ROUND(J101*$F101/SUM(COUNTRY_INFO!$E101:$G101),0))*2)","v":33750},{"$f":"IF($I101<>\"Yes\",$G101*3,($G101+ROUND(J101*$G101/SUM(COUNTRY_INFO!$E101:$G101),0))*3)","v":0},33750,null,33750]
[{"$f":"IF(INTRO!$E$43=\"Non-endemic\",\" \", IF(COUNTRY_INFO!A102=0,\" \",COUNTRY_INFO!A102))","v":"Ghana"},{"$f":"IF(INTRO!$E$43=\"Non-endemic\",\" \", IF(COUNTRY_INFO!B102=0,\" \",COUNTRY_INFO!B102))","v":"Central"},{"$f":"IF(INTRO!$E$43=\"Non-endemic\",\" \", IF(COUNTRY_INFO!C102=0,\" \",COUNTRY_INFO!C102))","v":"Upper Denkyira East"},{"$f":"IF(INTRO!$E$43=\"Non-endemic\", \"Not required\", COUNTRY_INFO!Y102)","v":1},{"$f":"IF(OR(COUNTRY_INFO!R102=\"Unknown\",COUNTRY_INFO!R102=\"Surveillance\",COUNTRY_INFO!R102=\"Not required\",COUNTRY_INFO!R102=0),0,IF($D102<>0, COUNTRY_INFO!R102,0))","v":8956},{"$f":"IF(OR(COUNTRY_INFO!S102=\"Unknown\",COUNTRY_INFO!S102=\"Surveillance\",COUNTRY_INFO!S102=\"Not required\",COUNTRY_INFO!S102=0),0,IF($D102<>0, COUNTRY_INFO!S102,0))","v":28130},{"$f":"IF(OR(COUNTRY_INFO!T102=\"Unknown\",COUNTRY_INFO!T102=\"Surveillance\",COUNTRY_INFO!T102=\"Not required\",COUNTRY_INFO!T102=0),0,IF($D102<>0, COUNTRY_INFO!T102,0))","v":44565},81651,null,null,1,"SAC",null,{"$f":"IF($I102<>\"Yes\",$F102*2,($F102+ROUND(J102*$F102/SUM(COUNTRY_INFO!$E102:$G102),0))*2)","v":56260},{"$f":"IF($I102<>\"Yes\",$G102*3,($G102+ROUND(J102*$G102/SUM(COUNTRY_INFO!$E102:$G102),0))*3)","v":133695},189955,null,189955]
[{"$f":"IF(INTRO!$E$43=\"Non-endemic\",\" \", IF(COUNTRY_INFO!A103=0,\" \",COUNTRY_INFO!A103))","v":"Ghana"},{"$f":"IF(INTRO!$E$43=\"Non-endemic\",\" \", IF(COUNTRY_INFO!B103=0,\" \",COUNTRY_INFO!B103))","v":"Central"},{"$f":"IF(INTRO!$E$43=\"Non-endemic\",\" \", IF(COUNTRY_INFO!C103=0,\" \",COUNTRY_INFO!C103))","v":"Upper Denkyira West"},{"$f":"IF(INTRO!$E$43=\"Non-endemic\", \"Not required\", COUNTRY_INFO!Y103)","v":1},{"$f":"IF(OR(COUNTRY_INFO!R103=\"Unknown\",COUNTRY_INFO!R103=\"Surveillance\",COUNTRY_INFO!R103=\"Not required\",COUNTRY_INFO!R103=0),0,IF($D103<>0, COUNTRY_INFO!R103,0))","v":7401},{"$f":"IF(OR(COUNTRY_INFO!S103=\"Unknown\",COUNTRY_INFO!S103=\"Surveillance\",COUNTRY_INFO!S103=\"Not required\",COUNTRY_INFO!S103=0),0,IF($D103<>0, COUNTRY_INFO!S103,0))","v":23248},{"$f":"IF(OR(COUNTRY_INFO!T103=\"Unknown\",COUNTRY_INFO!T103=\"Surveillance\",COUNTRY_INFO!T103=\"Not required\",COUNTRY_INFO!T103=0),0,IF($D103<>0, COUNTRY_INFO!T103,0))","v":0},30649,null,null,1,"SAC",null,{"$f":"IF($I103<>\"Yes\",$F103*2,($F103+ROUND(J103*$F103/SUM(COUNTRY_INFO!$E103:$G103),0))*2)","v":46496},{"$f":"IF($I103<>\"Yes\",$G103*3,($G103+ROUND(J103*$G103/SUM(COUNTRY_INFO!$E103:$G103),0))*3)","v":0},46496,null,46496]
[{"$f":"IF(INTRO!$E$43=\"Non-endemic\",\" \", IF(COUNTRY_INFO!A104=0,\" \",COUNTRY_INFO!A104))","v":"Ghana"},{"$f":"IF(INTRO!$E$43=\"Non-endemic\",\" \", IF(COUNTRY_INFO!B104=0,\" \",COUNTRY_INFO!B104))","v":"Eastern"},{"$f":"IF(INTRO!$E$43=\"Non-endemic\",\" \", IF(COUNTRY_INFO!C104=0,\" \",COUNTRY_INFO!C104))","v":"Abuakwa North"},{"$f":"IF(INTRO!$E$43=\"Non-endemic\", \"Not required\", COUNTRY_INFO!Y104)","v":1},{"$f":"IF(OR(COUNTRY_INFO!R104=\"Unknown\",COUNTRY_INFO!R104=\"Surveillance\",COUNTRY_INFO!R104=\"Not required\",COUNTRY_INFO!R104=0),0,IF($D104<>0, COUNTRY_INFO!R104,0))","v":7424},{"$f":"IF(OR(COUNTRY_INFO!S104=\"Unknown\",COUNTRY_INFO!S104=\"Surveillance\",COUNTRY_INFO!S104=\"Not required\",COUNTRY_INFO!S104=0),0,IF($D104<>0, COUNTRY_INFO!S104,0))","v":23317},{"$f":"IF(OR(COUNTRY_INFO!T104=\"Unknown\",COUNTRY_INFO!T104=\"Surveillance\",COUNTRY_INFO!T104=\"Not required\",COUNTRY_INFO!T104=0),0,IF($D104<>0, COUNTRY_INFO!T104,0))","v":0},30741,null,null,1,"SAC",null,{"$f":"IF($I104<>\"Yes\",$F104*2,($F104+ROUND(J104*$F104/SUM(COUNTRY_INFO!$E104:$G104),0))*2)","v":46634},{"$f":"IF($I104<>\"Yes\",$G104*3,($G104+ROUND(J104*$G104/SUM(COUNTRY_INFO!$E104:$G104),0))*3)","v":0},46634,null,46634]
[{"$f":"IF(INTRO!$E$43=\"Non-endemic\",\" \", IF(COUNTRY_INFO!A105=0,\" \",COUNTRY_INFO!A105))","v":"Ghana"},{"$f":"IF(INTRO!$E$43=\"Non-endemic\",\" \", IF(COUNTRY_INFO!B105=0,\" \",COUNTRY_INFO!B105))","v":"Eastern"},{"$f":"IF(INTRO!$E$43=\"Non-endemic\",\" \", IF(COUNTRY_INFO!C105=0,\" \",COUNTRY_INFO!C105))","v":"Abuakwa South"},{"$f":"IF(INTRO!$E$43=\"Non-endemic\", \"Not required\", COUNTRY_INFO!Y105)","v":1},{"$f":"IF(OR(COUNTRY_INFO!R105=\"Unknown\",COUNTRY_INFO!R105=\"Surveillance\",COUNTRY_INFO!R105=\"Not required\",COUNTRY_INFO!R105=0),0,IF($D105<>0, COUNTRY_INFO!R105,0))","v":6013},{"$f":"IF(OR(COUNTRY_INFO!S105=\"Unknown\",COUNTRY_INFO!S105=\"Surveillance\",COUNTRY_INFO!S105=\"Not required\",COUNTRY_INFO!S105=0),0,IF($D105<>0, COUNTRY_INFO!S105,0))","v":18886},{"$f":"IF(OR(COUNTRY_INFO!T105=\"Unknown\",COUNTRY_INFO!T105=\"Surveillance\",COUNTRY_INFO!T105=\"Not required\",COUNTRY_INFO!T105=0),0,IF($D105<>0, COUNTRY_INFO!T105,0))","v":0},24899,null,null,1,"SAC",null,{"$f":"IF($I105<>\"Yes\",$F105*2,($F105+ROUND(J105*$F105/SUM(COUNTRY_INFO!$E105:$G105),0))*2)","v":37772},{"$f":"IF($I105<>\"Yes\",$G105*3,($G105+ROUND(J105*$G105/SUM(COUNTRY_INFO!$E105:$G105),0))*3)","v":0},37772,null,37772]
[{"$f":"IF(INTRO!$E$43=\"Non-endemic\",\" \", IF(COUNTRY_INFO!A106=0,\" \",COUNTRY_INFO!A106))","v":"Ghana"},{"$f":"IF(INTRO!$E$43=\"Non-endemic\",\" \", IF(COUNTRY_INFO!B106=0,\" \",COUNTRY_INFO!B106))","v":"Eastern"},{"$f":"IF(INTRO!$E$43=\"Non-endemic\",\" \", IF(COUNTRY_INFO!C106=0,\" \",COUNTRY_INFO!C106))","v":"Achiase"},{"$f":"IF(INTRO!$E$43=\"Non-endemic\", \"Not required\", COUNTRY_INFO!Y106)","v":1},{"$f":"IF(OR(COUNTRY_INFO!R106=\"Unknown\",COUNTRY_INFO!R106=\"Surveillance\",COUNTRY_INFO!R106=\"Not required\",COUNTRY_INFO!R106=0),0,IF($D106<>0, COUNTRY_INFO!R106,0))","v":4582},{"$f":"IF(OR(COUNTRY_INFO!S106=\"Unknown\",COUNTRY_INFO!S106=\"Surveillance\",COUNTRY_INFO!S106=\"Not required\",COUNTRY_INFO!S106=0),0,IF($D106<>0, COUNTRY_INFO!S106,0))","v":14391},{"$f":"IF(OR(COUNTRY_INFO!T106=\"Unknown\",COUNTRY_INFO!T106=\"Surveillance\",COUNTRY_INFO!T106=\"Not required\",COUNTRY_INFO!T106=0),0,IF($D106<>0, COUNTRY_INFO!T106,0))","v":38656},57629,null,null,1,"SAC",null,{"$f":"IF($I106<>\"Yes\",$F106*2,($F106+ROUND(J106*$F106/SUM(COUNTRY_INFO!$E106:$G106),0))*2)","v":28782},{"$f":"IF($I106<>\"Yes\",$G106*3,($G106+ROUND(J106*$G106/SUM(COUNTRY_INFO!$E106:$G106),0))*3)","v":115968},144750,null,144750]
[{"$f":"IF(INTRO!$E$43=\"Non-endemic\",\" \", IF(COUNTRY_INFO!A107=0,\" \",COUNTRY_INFO!A107))","v":"Ghana"},{"$f":"IF(INTRO!$E$43=\"Non-endemic\",\" \", IF(COUNTRY_INFO!B107=0,\" \",COUNTRY_INFO!B107))","v":"Eastern"},{"$f":"IF(INTRO!$E$43=\"Non-endemic\",\" \", IF(COUNTRY_INFO!C107=0,\" \",COUNTRY_INFO!C107))","v":"Akwapim North"},{"$f":"IF(INTRO!$E$43=\"Non-endemic\", \"Not required\", COUNTRY_INFO!Y107)","v":1},{"$f":"IF(OR(COUNTRY_INFO!R107=\"Unknown\",COUNTRY_INFO!R107=\"Surveillance\",COUNTRY_INFO!R107=\"Not required\",COUNTRY_INFO!R107=0),0,IF($D107<>0, COUNTRY_INFO!R107,0))","v":8564},{"$f":"IF(OR(COUNTRY_INFO!S107=\"Unknown\",COUNTRY_INFO!S107=\"Surveillance\",COUNTRY_INFO!S107=\"Not required\",COUNTRY_INFO!S107=0),0,IF($D107<>0, COUNTRY_INFO!S107,0))","v":26897},{"$f":"IF(OR(COUNTRY_INFO!T107=\"Unknown\",COUNTRY_INFO!T107=\"Surveillance\",COUNTRY_INFO!T107=\"Not required\",COUNTRY_INFO!T107=0),0,IF($D107<>0, COUNTRY_INFO!T107,0))","v":0},35461,null,null,1,"SAC",null,{"$f":"IF($I107<>\"Yes\",$F107*2,($F107+ROUND(J107*$F107/SUM(COUNTRY_INFO!$E107:$G107),0))*2)","v":53794},{"$f":"IF($I107<>\"Yes\",$G107*3,($G107+ROUND(J107*$G107/SUM(COUNTRY_INFO!$E107:$G107),0))*3)","v":0},53794,null,53794]
[{"$f":"IF(INTRO!$E$43=\"Non-endemic\",\" \", IF(COUNTRY_INFO!A108=0,\" \",COUNTRY_INFO!A108))","v":"Ghana"},{"$f":"IF(INTRO!$E$43=\"Non-endemic\",\" \", IF(COUNTRY_INFO!B108=0,\" \",COUNTRY_INFO!B108))","v":"Eastern"},{"$f":"IF(INTRO!$E$43=\"Non-endemic\",\" \", IF(COUNTRY_INFO!C108=0,\" \",COUNTRY_INFO!C108))","v":"Akwapim South"},{"$f":"IF(INTRO!$E$43=\"Non-endemic\", \"Not required\", COUNTRY_INFO!Y108)","v":1},{"$f":"IF(OR(COUNTRY_INFO!R108=\"Unknown\",COUNTRY_INFO!R108=\"Surveillance\",COUNTRY_INFO!R108=\"Not required\",COUNTRY_INFO!R108=0),0,IF($D108<>0, COUNTRY_INFO!R108,0))","v":6254},{"$f":"IF(OR(COUNTRY_INFO!S108=\"Unknown\",COUNTRY_INFO!S108=\"Surveillance\",COUNTRY_INFO!S108=\"Not required\",COUNTRY_INFO!S108=0),0,IF($D108<>0, COUNTRY_INFO!S108,0))","v":19646},{"$f":"IF(OR(COUNTRY_INFO!T108=\"Unknown\",COUNTRY_INFO!T108=\"Surveillance\",COUNTRY_INFO!T108=\"Not required\",COUNTRY_INFO!T108=0),0,IF($D108<>0, COUNTRY_INFO!T108,0))","v":0},25900,null,null,1,"SAC",null,{"$f":"IF($I108<>\"Yes\",$F108*2,($F108+ROUND(J108*$F108/SUM(COUNTRY_INFO!$E108:$G108),0))*2)","v":39292},{"$f":"IF($I108<>\"Yes\",$G108*3,($G108+ROUND(J108*$G108/SUM(COUNTRY_INFO!$E108:$G108),0))*3)","v":0},39292,null,39292]
[{"$f":"IF(INTRO!$E$43=\"Non-endemic\",\" \", IF(COUNTRY_INFO!A109=0,\" \",COUNTRY_INFO!A109))","v":"Ghana"},{"$f":"IF(INTRO!$E$43=\"Non-endemic\",\" \", IF(COUNTRY_INFO!B109=0,\" \",COUNTRY_INFO!B109))","v":"Eastern"},{"$f":"IF(INTRO!$E$43=\"Non-endemic\",\" \", IF(COUNTRY_INFO!C109=0,\" \",COUNTRY_INFO!C109))","v":"Akyemansa"},{"$f":"IF(INTRO!$E$43=\"Non-endemic\", \"Not required\", COUNTRY_INFO!Y109)","v":1},{"$f":"IF(OR(COUNTRY_INFO!R109=\"Unknown\",COUNTRY_INFO!R109=\"Surveillance\",COUNTRY_INFO!R109=\"Not required\",COUNTRY_INFO!R109=0),0,IF($D109<>0, COUNTRY_INFO!R109,0))","v":7403},{"$f":"IF(OR(COUNTRY_INFO!S109=\"Unknown\",COUNTRY_INFO!S109=\"Surveillance\",COUNTRY_INFO!S109=\"Not required\",COUNTRY_INFO!S109=0),0,IF($D109<>0, COUNTRY_INFO!S109,0))","v":23251},{"$f":"IF(OR(COUNTRY_INFO!T109=\"Unknown\",COUNTRY_INFO!T109=\"Surveillance\",COUNTRY_INFO!T109=\"Not required\",COUNTRY_INFO!T109=0),0,IF($D109<>0, COUNTRY_INFO!T109,0))","v":0},30654,null,null,1,"SAC",null,{"$f":"IF($I109<>\"Yes\",$F109*2,($F109+ROUND(J109*$F109/SUM(COUNTRY_INFO!$E109:$G109),0))*2)","v":46502},{"$f":"IF($I109<>\"Yes\",$G109*3,($G109+ROUND(J109*$G109/SUM(COUNTRY_INFO!$E109:$G109),0))*3)","v":0},46502,null,46502]
[{"$f":"IF(INTRO!$E$43=\"Non-endemic\",\" \", IF(COUNTRY_INFO!A110=0,\" \",COUNTRY_INFO!A110))","v":"Ghana"},{"$f":"IF(INTRO!$E$43=\"Non-endemic\",\" \", IF(COUNTRY_INFO!B110=0,\" \",COUNTRY_INFO!B110))","v":"Eastern"},{"$f":"IF(INTRO!$E$43=\"Non-endemic\",\" \", IF(COUNTRY_INFO!C110=0,\" \",COUNTRY_INFO!C110))","v":"Asene Manso Akroso"},{"$f":"IF(INTRO!$E$43=\"Non-endemic\", \"Not required\", COUNTRY_INFO!Y110)","v":1},{"$f":"IF(OR(COUNTRY_INFO!R110=\"Unknown\",COUNTRY_INFO!R110=\"Surveillance\",COUNTRY_INFO!R110=\"Not required\",COUNTRY_INFO!R110=0),0,IF($D110<>0, COUNTRY_INFO!R110,0))","v":6302},{"$f":"IF(OR(COUNTRY_INFO!S110=\"Unknown\",COUNTRY_INFO!S110=\"Surveillance\",COUNTRY_INFO!S110=\"Not required\",COUNTRY_INFO!S110=0),0,IF($D110<>0, COUNTRY_INFO!S110,0))","v":19793},{"$f":"IF(OR(COUNTRY_INFO!T110=\"Unknown\",COUNTRY_INFO!T110=\"Surveillance\",COUNTRY_INFO!T110=\"Not required\",COUNTRY_INFO!T110=0),0,IF($D110<>0, COUNTRY_INFO!T110,0))","v":0},26095,null,null,1,"SAC",null,{"$f":"IF($I110<>\"Yes\",$F110*2,($F110+ROUND(J110*$F110/SUM(COUNTRY_INFO!$E110:$G110),0))*2)","v":39586},{"$f":"IF($I110<>\"Yes\",$G110*3,($G110+ROUND(J110*$G110/SUM(COUNTRY_INFO!$E110:$G110),0))*3)","v":0},39586,null,39586]
[{"$f":"IF(INTRO!$E$43=\"Non-endemic\",\" \", IF(COUNTRY_INFO!A111=0,\" \",COUNTRY_INFO!A111))","v":"Ghana"},{"$f":"IF(INTRO!$E$43=\"Non-endemic\",\" \", IF(COUNTRY_INFO!B111=0,\" \",COUNTRY_INFO!B111))","v":"Eastern"},{"$f":"IF(INTRO!$E$43=\"Non-endemic\",\" \", IF(COUNTRY_INFO!C111=0,\" \",COUNTRY_INFO!C111))","v":"Asuogyaman"},{"$f":"IF(INTRO!$E$43=\"Non-endemic\", \"Not required\", COUNTRY_INFO!Y111)","v":1},{"$f":"IF(OR(COUNTRY_INFO!R111=\"Unknown\",COUNTRY_INFO!R111=\"Surveillance\",COUNTRY_INFO!R111=\"Not required\",COUNTRY_INFO!R111=0),0,IF($D111<>0, COUNTRY_INFO!R111,0))","v":8234},{"$f":"IF(OR(COUNTRY_INFO!S111=\"Unknown\",COUNTRY_INFO!S111=\"Surveillance\",COUNTRY_INFO!S111=\"Not required\",COUNTRY_INFO!S111=0),0,IF($D111<>0, COUNTRY_INFO!S111,0))","v":25861},{"$f":"IF(OR(COUNTRY_INFO!T111=\"Unknown\",COUNTRY_INFO!T111=\"Surveillance\",COUNTRY_INFO!T111=\"Not required\",COUNTRY_INFO!T111=0),0,IF($D111<>0, COUNTRY_INFO!T111,0))","v":0},34095,null,null,1,"SAC",null,{"$f":"IF($I111<>\"Yes\",$F111*2,($F111+ROUND(J111*$F111/SUM(COUNTRY_INFO!$E111:$G111),0))*2)","v":51722},{"$f":"IF($I111<>\"Yes\",$G111*3,($G111+ROUND(J111*$G111/SUM(COUNTRY_INFO!$E111:$G111),0))*3)","v":0},51722,null,51722]
[{"$f":"IF(INTRO!$E$43=\"Non-endemic\",\" \", IF(COUNTRY_INFO!A112=0,\" \",COUNTRY_INFO!A112))","v":"Ghana"},{"$f":"IF(INTRO!$E$43=\"Non-endemic\",\" \", IF(COUNTRY_INFO!B112=0,\" \",COUNTRY_INFO!B112))","v":"Eastern"},{"$f":"IF(INTRO!$E$43=\"Non-endemic\",\" \", IF(COUNTRY_INFO!C112=0,\" \",COUNTRY_INFO!C112))","v":"Atiwa East"},{"$f":"IF(INTRO!$E$43=\"Non-endemic\", \"Not required\", COUNTRY_INFO!Y112)","v":1},{"$f":"IF(OR(COUNTRY_INFO!R112=\"Unknown\",COUNTRY_INFO!R112=\"Surveillance\",COUNTRY_INFO!R112=\"Not required\",COUNTRY_INFO!R112=0),0,IF($D112<>0, COUNTRY_INFO!R112,0))","v":5257},{"$f":"IF(OR(COUNTRY_INFO!S112=\"Unknown\",COUNTRY_INFO!S112=\"Surveillance\",COUNTRY_INFO!S112=\"Not required\",COUNTRY_INFO!S112=0),0,IF($D112<>0, COUNTRY_INFO!S112,0))","v":16511},{"$f":"IF(OR(COUNTRY_INFO!T112=\"Unknown\",COUNTRY_INFO!T112=\"Surveillance\",COUNTRY_INFO!T112=\"Not required\",COUNTRY_INFO!T112=0),0,IF($D112<>0, COUNTRY_INFO!T112,0))","v":24578},46346,null,null,1,"SAC",null,{"$f":"IF($I112<>\"Yes\",$F112*2,($F112+ROUND(J112*$F112/SUM(COUNTRY_INFO!$E112:$G112),0))*2)","v":33022},{"$f":"IF($I112<>\"Yes\",$G112*3,($G112+ROUND(J112*$G112/SUM(COUNTRY_INFO!$E112:$G112),0))*3)","v":73734},106756,null,106756]
[{"$f":"IF(INTRO!$E$43=\"Non-endemic\",\" \", IF(COUNTRY_INFO!A113=0,\" \",COUNTRY_INFO!A113))","v":"Ghana"},{"$f":"IF(INTRO!$E$43=\"Non-endemic\",\" \", IF(COUNTRY_INFO!B113=0,\" \",COUNTRY_INFO!B113))","v":"Eastern"},{"$f":"IF(INTRO!$E$43=\"Non-endemic\",\" \", IF(COUNTRY_INFO!C113=0,\" \",COUNTRY_INFO!C113))","v":"Atiwa West"},{"$f":"IF(INTRO!$E$43=\"Non-endemic\", \"Not required\", COUNTRY_INFO!Y113)","v":1},{"$f":"IF(OR(COUNTRY_INFO!R113=\"Unknown\",COUNTRY_INFO!R113=\"Surveillance\",COUNTRY_INFO!R113=\"Not required\",COUNTRY_INFO!R113=0),0,IF($D113<>0, COUNTRY_INFO!R113,0))","v":4978},{"$f":"IF(OR(COUNTRY_INFO!S113=\"Unknown\",COUNTRY_INFO!S113=\"Surveillance\",COUNTRY_INFO!S113=\"Not required\",COUNTRY_INFO!S113=0),0,IF($D113<>0, COUNTRY_INFO!S113,0))","v":15635},{"$f":"IF(OR(COUNTRY_INFO!T113=\"Unknown\",COUNTRY_INFO!T113=\"Surveillance\",COUNTRY_INFO!T113=\"Not required\",COUNTRY_INFO!T113=0),0,IF($D113<>0, COUNTRY_INFO!T113,0))","v":28659},49272,null,null,1,"SAC",null,{"$f":"IF($I113<>\"Yes\",$F113*2,($F113+ROUND(J113*$F113/SUM(COUNTRY_INFO!$E113:$G113),0))*2)","v":31270},{"$f":"IF($I113<>\"Yes\",$G113*3,($G113+ROUND(J113*$G113/SUM(COUNTRY_INFO!$E113:$G113),0))*3)","v":85977},117247,null,117247]
[{"$f":"IF(INTRO!$E$43=\"Non-endemic\",\" \", IF(COUNTRY_INFO!A114=0,\" \",COUNTRY_INFO!A114))","v":"Ghana"},{"$f":"IF(INTRO!$E$43=\"Non-endemic\",\" \", IF(COUNTRY_INFO!B114=0,\" \",COUNTRY_INFO!B114))","v":"Eastern"},{"$f":"IF(INTRO!$E$43=\"Non-endemic\",\" \", IF(COUNTRY_INFO!C114=0,\" \",COUNTRY_INFO!C114))","v":"Ayensuano"},{"$f":"IF(INTRO!$E$43=\"Non-endemic\", \"Not required\", COUNTRY_INFO!Y114)","v":1},{"$f":"IF(OR(COUNTRY_INFO!R114=\"Unknown\",COUNTRY_INFO!R114=\"Surveillance\",COUNTRY_INFO!R114=\"Not required\",COUNTRY_INFO!R114=0),0,IF($D114<>0, COUNTRY_INFO!R114,0))","v":7691},{"$f":"IF(OR(COUNTRY_INFO!S114=\"Unknown\",COUNTRY_INFO!S114=\"Surveillance\",COUNTRY_INFO!S114=\"Not required\",COUNTRY_INFO!S114=0),0,IF($D114<>0, COUNTRY_INFO!S114,0))","v":24159},{"$f":"IF(OR(COUNTRY_INFO!T114=\"Unknown\",COUNTRY_INFO!T114=\"Surveillance\",COUNTRY_INFO!T114=\"Not required\",COUNTRY_INFO!T114=0),0,IF($D114<>0, COUNTRY_INFO!T114,0))","v":34562},66412,null,null,1,"SAC",null,{"$f":"IF($I114<>\"Yes\",$F114*2,($F114+ROUND(J114*$F114/SUM(COUNTRY_INFO!$E114:$G114),0))*2)","v":48318},{"$f":"IF($I114<>\"Yes\",$G114*3,($G114+ROUND(J114*$G114/SUM(COUNTRY_INFO!$E114:$G114),0))*3)","v":103686},152004,null,152004]
[{"$f":"IF(INTRO!$E$43=\"Non-endemic\",\" \", IF(COUNTRY_INFO!A115=0,\" \",COUNTRY_INFO!A115))","v":"Ghana"},{"$f":"IF(INTRO!$E$43=\"Non-endemic\",\" \", IF(COUNTRY_INFO!B115=0,\" \",COUNTRY_INFO!B115))","v":"Eastern"},{"$f":"IF(INTRO!$E$43=\"Non-endemic\",\" \", IF(COUNTRY_INFO!C115=0,\" \",COUNTRY_INFO!C115))","v":"Birim Central"},{"$f":"IF(INTRO!$E$43=\"Non-endemic\", \"Not required\", COUNTRY_INFO!Y115)","v":1},{"$f":"IF(OR(COUNTRY_INFO!R115=\"Unknown\",COUNTRY_INFO!R115=\"Surveillance\",COUNTRY_INFO!R115=\"Not required\",COUNTRY_INFO!R115=0),0,IF($D115<>0, COUNTRY_INFO!R115,0))","v":6204},{"$f":"IF(OR(COUNTRY_INFO!S115=\"Unknown\",COUNTRY_INFO!S115=\"Surveillance\",COUNTRY_INFO!S115=\"Not required\",COUNTRY_INFO!S115=0),0,IF($D115<>0, COUNTRY_INFO!S115,0))","v":19487},{"$f":"IF(OR(COUNTRY_INFO!T115=\"Unknown\",COUNTRY_INFO!T115=\"Surveillance\",COUNTRY_INFO!T115=\"Not required\",COUNTRY_INFO!T115=0),0,IF($D115<>0, COUNTRY_INFO!T115,0))","v":0},25691,null,null,1,"SAC",null,{"$f":"IF($I115<>\"Yes\",$F115*2,($F115+ROUND(J115*$F115/SUM(COUNTRY_INFO!$E115:$G115),0))*2)","v":38974},{"$f":"IF($I115<>\"Yes\",$G115*3,($G115+ROUND(J115*$G115/SUM(COUNTRY_INFO!$E115:$G115),0))*3)","v":0},38974,null,38974]
[{"$f":"IF(INTRO!$E$43=\"Non-endemic\",\" \", IF(COUNTRY_INFO!A116=0,\" \",COUNTRY_INFO!A116))","v":"Ghana"},{"$f":"IF(INTRO!$E$43=\"Non-endemic\",\" \", IF(COUNTRY_INFO!B116=0,\" \",COUNTRY_INFO!B116))","v":"Eastern"},{"$f":"IF(INTRO!$E$43=\"Non-endemic\",\" \", IF(COUNTRY_INFO!C116=0,\" \",COUNTRY_INFO!C116))","v":"Birim North"},{"$f":"IF(INTRO!$E$43=\"Non-endemic\", \"Not required\", COUNTRY_INFO!Y116)","v":1},{"$f":"IF(OR(COUNTRY_INFO!R116=\"Unknown\",COUNTRY_INFO!R116=\"Surveillance\",COUNTRY_INFO!R116=\"Not required\",COUNTRY_INFO!R116=0),0,IF($D116<>0, COUNTRY_INFO!R116,0))","v":6722},{"$f":"IF(OR(COUNTRY_INFO!S116=\"Unknown\",COUNTRY_INFO!S116=\"Surveillance\",COUNTRY_INFO!S116=\"Not required\",COUNTRY_INFO!S116=0),0,IF($D116<>0, COUNTRY_INFO!S116,0))","v":21113},{"$f":"IF(OR(COUNTRY_INFO!T116=\"Unknown\",COUNTRY_INFO!T116=\"Surveillance\",COUNTRY_INFO!T116=\"Not required\",COUNTRY_INFO!T116=0),0,IF($D116<>0, COUNTRY_INFO!T116,0))","v":0},27835,null,null,1,"SAC",null,{"$f":"IF($I116<>\"Yes\",$F116*2,($F116+ROUND(J116*$F116/SUM(COUNTRY_INFO!$E116:$G116),0))*2)","v":42226},{"$f":"IF($I116<>\"Yes\",$G116*3,($G116+ROUND(J116*$G116/SUM(COUNTRY_INFO!$E116:$G116),0))*3)","v":0},42226,null,42226]
[{"$f":"IF(INTRO!$E$43=\"Non-endemic\",\" \", IF(COUNTRY_INFO!A117=0,\" \",COUNTRY_INFO!A117))","v":"Ghana"},{"$f":"IF(INTRO!$E$43=\"Non-endemic\",\" \", IF(COUNTRY_INFO!B117=0,\" \",COUNTRY_INFO!B117))","v":"Eastern"},{"$f":"IF(INTRO!$E$43=\"Non-endemic\",\" \", IF(COUNTRY_INFO!C117=0,\" \",COUNTRY_INFO!C117))","v":"Birim South"},{"$f":"IF(INTRO!$E$43=\"Non-endemic\", \"Not required\", COUNTRY_INFO!Y117)","v":1},{"$f":"IF(OR(COUNTRY_INFO!R117=\"Unknown\",COUNTRY_INFO!R117=\"Surveillance\",COUNTRY_INFO!R117=\"Not required\",COUNTRY_INFO!R117=0),0,IF($D117<>0, COUNTRY_INFO!R117,0))","v":2899},{"$f":"IF(OR(COUNTRY_INFO!S117=\"Unknown\",COUNTRY_INFO!S117=\"Surveillance\",COUNTRY_INFO!S117=\"Not required\",COUNTRY_INFO!S117=0),0,IF($D117<>0, COUNTRY_INFO!S117,0))","v":9106},{"$f":"IF(OR(COUNTRY_INFO!T117=\"Unknown\",COUNTRY_INFO!T117=\"Surveillance\",COUNTRY_INFO!T117=\"Not required\",COUNTRY_INFO!T117=0),0,IF($D117<>0, COUNTRY_INFO!T117,0))","v":16598},28603,null,null,1,"SAC",null,{"$f":"IF($I117<>\"Yes\",$F117*2,($F117+ROUND(J117*$F117/SUM(COUNTRY_INFO!$E117:$G117),0))*2)","v":18212},{"$f":"IF($I117<>\"Yes\",$G117*3,($G117+ROUND(J117*$G117/SUM(COUNTRY_INFO!$E117:$G117),0))*3)","v":49794},68006,null,68006]
[{"$f":"IF(INTRO!$E$43=\"Non-endemic\",\" \", IF(COUNTRY_INFO!A118=0,\" \",COUNTRY_INFO!A118))","v":"Ghana"},{"$f":"IF(INTRO!$E$43=\"Non-endemic\",\" \", IF(COUNTRY_INFO!B118=0,\" \",COUNTRY_INFO!B118))","v":"Eastern"},{"$f":"IF(INTRO!$E$43=\"Non-endemic\",\" \", IF(COUNTRY_INFO!C118=0,\" \",COUNTRY_INFO!C118))","v":"Denkyembour"},{"$f":"IF(INTRO!$E$43=\"Non-endemic\", \"Not required\", COUNTRY_INFO!Y118)","v":1},{"$f":"IF(OR(COUNTRY_INFO!R118=\"Unknown\",COUNTRY_INFO!R118=\"Surveillance\",COUNTRY_INFO!R118=\"Not required\",COUNTRY_INFO!R118=0),0,IF($D118<>0, COUNTRY_INFO!R118,0))","v":6263},{"$f":"IF(OR(COUNTRY_INFO!S118=\"Unknown\",COUNTRY_INFO!S118=\"Surveillance\",COUNTRY_INFO!S118=\"Not required\",COUNTRY_INFO!S118=0),0,IF($D118<>0, COUNTRY_INFO!S118,0))","v":19673},{"$f":"IF(OR(COUNTRY_INFO!T118=\"Unknown\",COUNTRY_INFO!T118=\"Surveillance\",COUNTRY_INFO!T118=\"Not required\",COUNTRY_INFO!T118=0),0,IF($D118<>0, COUNTRY_INFO!T118,0))","v":28965},54901,null,null,1,"SAC",null,{"$f":"IF($I118<>\"Yes\",$F118*2,($F118+ROUND(J118*$F118/SUM(COUNTRY_INFO!$E118:$G118),0))*2)","v":39346},{"$f":"IF($I118<>\"Yes\",$G118*3,($G118+ROUND(J118*$G118/SUM(COUNTRY_INFO!$E118:$G118),0))*3)","v":86895},126241,null,126241]
[{"$f":"IF(INTRO!$E$43=\"Non-endemic\",\" \", IF(COUNTRY_INFO!A119=0,\" \",COUNTRY_INFO!A119))","v":"Ghana"},{"$f":"IF(INTRO!$E$43=\"Non-endemic\",\" \", IF(COUNTRY_INFO!B119=0,\" \",COUNTRY_INFO!B119))","v":"Eastern"},{"$f":"IF(INTRO!$E$43=\"Non-endemic\",\" \", IF(COUNTRY_INFO!C119=0,\" \",COUNTRY_INFO!C119))","v":"Fanteakwa North"},{"$f":"IF(INTRO!$E$43=\"Non-endemic\", \"Not required\", COUNTRY_INFO!Y119)","v":1},{"$f":"IF(OR(COUNTRY_INFO!R119=\"Unknown\",COUNTRY_INFO!R119=\"Surveillance\",COUNTRY_INFO!R119=\"Not required\",COUNTRY_INFO!R119=0),0,IF($D119<>0, COUNTRY_INFO!R119,0))","v":4634},{"$f":"IF(OR(COUNTRY_INFO!S119=\"Unknown\",COUNTRY_INFO!S119=\"Surveillance\",COUNTRY_INFO!S119=\"Not required\",COUNTRY_INFO!S119=0),0,IF($D119<>0, COUNTRY_INFO!S119,0))","v":14554},{"$f":"IF(OR(COUNTRY_INFO!T119=\"Unknown\",COUNTRY_INFO!T119=\"Surveillance\",COUNTRY_INFO!T119=\"Not required\",COUNTRY_INFO!T119=0),0,IF($D119<>0, COUNTRY_INFO!T119,0))","v":36568},55756,null,null,1,"SAC",null,{"$f":"IF($I119<>\"Yes\",$F119*2,($F119+ROUND(J119*$F119/SUM(COUNTRY_INFO!$E119:$G119),0))*2)","v":29108},{"$f":"IF($I119<>\"Yes\",$G119*3,($G119+ROUND(J119*$G119/SUM(COUNTRY_INFO!$E119:$G119),0))*3)","v":109704},138812,null,138812]
[{"$f":"IF(INTRO!$E$43=\"Non-endemic\",\" \", IF(COUNTRY_INFO!A120=0,\" \",COUNTRY_INFO!A120))","v":"Ghana"},{"$f":"IF(INTRO!$E$43=\"Non-endemic\",\" \", IF(COUNTRY_INFO!B120=0,\" \",COUNTRY_INFO!B120))","v":"Eastern"},{"$f":"IF(INTRO!$E$43=\"Non-endemic\",\" \", IF(COUNTRY_INFO!C120=0,\" \",COUNTRY_INFO!C120))","v":"Fanteakwa South"},{"$f":"IF(INTRO!$E$43=\"Non-endemic\", \"Not required\", COUNTRY_INFO!Y120)","v":1},{"$f":"IF(OR(COUNTRY_INFO!R120=\"Unknown\",COUNTRY_INFO!R120=\"Surveillance\",COUNTRY_INFO!R120=\"Not required\",COUNTRY_INFO!R120=0),0,IF($D120<>0, COUNTRY_INFO!R120,0))","v":4442},{"$f":"IF(OR(COUNTRY_INFO!S120=\"Unknown\",COUNTRY_INFO!S120=\"Surveillance\",COUNTRY_INFO!S120=\"Not required\",COUNTRY_INFO!S120=0),0,IF($D120<>0, COUNTRY_INFO!S120,0))","v":13953},{"$f":"IF(OR(COUNTRY_INFO!T120=\"Unknown\",COUNTRY_INFO!T120=\"Surveillance\",COUNTRY_INFO!T120=\"Not required\",COUNTRY_INFO!T120=0),0,IF($D120<>0, COUNTRY_INFO!T120,0))","v":15465},33860,null,null,1,"SAC",null,{"$f":"IF($I120<>\"Yes\",$F120*2,($F120+ROUND(J120*$F120/SUM(COUNTRY_INFO!$E120:$G120),0))*2)","v":27906},{"$f":"IF($I120<>\"Yes\",$G120*3,($G120+ROUND(J120*$G120/SUM(COUNTRY_INFO!$E120:$G120),0))*3)","v":46395},74301,null,74301]
[{"$f":"IF(INTRO!$E$43=\"Non-endemic\",\" \", IF(COUNTRY_INFO!A121=0,\" \",COUNTRY_INFO!A121))","v":"Ghana"},{"$f":"IF(INTRO!$E$43=\"Non-endemic\",\" \", IF(COUNTRY_INFO!B121=0,\" \",COUNTRY_INFO!B121))","v":"Eastern"},{"$f":"IF(INTRO!$E$43=\"Non-endemic\",\" \", IF(COUNTRY_INFO!C121=0,\" \",COUNTRY_INFO!C121))","v":"Kwaebibirem"},{"$f":"IF(INTRO!$E$43=\"Non-endemic\", \"Not required\", COUNTRY_INFO!Y121)","v":1},{"$f":"IF(OR(COUNTRY_INFO!R121=\"Unknown\",COUNTRY_INFO!R121=\"Surveillance\",COUNTRY_INFO!R121=\"Not required\",COUNTRY_INFO!R121=0),0,IF($D121<>0, COUNTRY_INFO!R121,0))","v":9896},{"$f":"IF(OR(COUNTRY_INFO!S121=\"Unknown\",COUNTRY_INFO!S121=\"Surveillance\",COUNTRY_INFO!S121=\"Not required\",COUNTRY_INFO!S121=0),0,IF($D121<>0, COUNTRY_INFO!S121,0))","v":31081},{"$f":"IF(OR(COUNTRY_INFO!T121=\"Unknown\",COUNTRY_INFO!T121=\"Surveillance\",COUNTRY_INFO!T121=\"Not required\",COUNTRY_INFO!T121=0),0,IF($D121<>0, COUNTRY_INFO!T121,0))","v":23656},64633,null,null,1,"SAC",null,{"$f":"IF($I121<>\"Yes\",$F121*2,($F121+ROUND(J121*$F121/SUM(COUNTRY_INFO!$E121:$G121),0))*2)","v":62162},{"$f":"IF($I121<>\"Yes\",$G121*3,($G121+ROUND(J121*$G121/SUM(COUNTRY_INFO!$E121:$G121),0))*3)","v":70968},133130,null,133130]
[{"$f":"IF(INTRO!$E$43=\"Non-endemic\",\" \", IF(COUNTRY_INFO!A122=0,\" \",COUNTRY_INFO!A122))","v":"Ghana"},{"$f":"IF(INTRO!$E$43=\"Non-endemic\",\" \", IF(COUNTRY_INFO!B122=0,\" \",COUNTRY_INFO!B122))","v":"Eastern"},{"$f":"IF(INTRO!$E$43=\"Non-endemic\",\" \", IF(COUNTRY_INFO!C122=0,\" \",COUNTRY_INFO!C122))","v":"Kwahu Afram Plains North"},{"$f":"IF(INTRO!$E$43=\"Non-endemic\", \"Not required\", COUNTRY_INFO!Y122)","v":1},{"$f":"IF(OR(COUNTRY_INFO!R122=\"Unknown\",COUNTRY_INFO!R122=\"Surveillance\",COUNTRY_INFO!R122=\"Not required\",COUNTRY_INFO!R122=0),0,IF($D122<>0, COUNTRY_INFO!R122,0))","v":5411},{"$f":"IF(OR(COUNTRY_INFO!S122=\"Unknown\",COUNTRY_INFO!S122=\"Surveillance\",COUNTRY_INFO!S122=\"Not required\",COUNTRY_INFO!S122=0),0,IF($D122<>0, COUNTRY_INFO!S122,0))","v":16998},{"$f":"IF(OR(COUNTRY_INFO!T122=\"Unknown\",COUNTRY_INFO!T122=\"Surveillance\",COUNTRY_INFO!T122=\"Not required\",COUNTRY_INFO!T122=0),0,IF($D122<>0, COUNTRY_INFO!T122,0))","v":46523},68932,null,null,1,"SAC",null,{"$f":"IF($I122<>\"Yes\",$F122*2,($F122+ROUND(J122*$F122/SUM(COUNTRY_INFO!$E122:$G122),0))*2)","v":33996},{"$f":"IF($I122<>\"Yes\",$G122*3,($G122+ROUND(J122*$G122/SUM(COUNTRY_INFO!$E122:$G122),0))*3)","v":139569},173565,null,173565]
[{"$f":"IF(INTRO!$E$43=\"Non-endemic\",\" \", IF(COUNTRY_INFO!A123=0,\" \",COUNTRY_INFO!A123))","v":"Ghana"},{"$f":"IF(INTRO!$E$43=\"Non-endemic\",\" \", IF(COUNTRY_INFO!B123=0,\" \",COUNTRY_INFO!B123))","v":"Eastern"},{"$f":"IF(INTRO!$E$43=\"Non-endemic\",\" \", IF(COUNTRY_INFO!C123=0,\" \",COUNTRY_INFO!C123))","v":"Kwahu Afram Plains South"},{"$f":"IF(INTRO!$E$43=\"Non-endemic\", \"Not required\", COUNTRY_INFO!Y123)","v":1},{"$f":"IF(OR(COUNTRY_INFO!R123=\"Unknown\",COUNTRY_INFO!R123=\"Surveillance\",COUNTRY_INFO!R123=\"Not required\",COUNTRY_INFO!R123=0),0,IF($D123<>0, COUNTRY_INFO!R123,0))","v":6017},{"$f":"IF(OR(COUNTRY_INFO!S123=\"Unknown\",COUNTRY_INFO!S123=\"Surveillance\",COUNTRY_INFO!S123=\"Not required\",COUNTRY_INFO!S123=0),0,IF($D123<>0, COUNTRY_INFO!S123,0))","v":18900},{"$f":"IF(OR(COUNTRY_INFO!T123=\"Unknown\",COUNTRY_INFO!T123=\"Surveillance\",COUNTRY_INFO!T123=\"Not required\",COUNTRY_INFO!T123=0),0,IF($D123<>0, COUNTRY_INFO!T123,0))","v":34569},59486,null,null,1,"SAC",null,{"$f":"IF($I123<>\"Yes\",$F123*2,($F123+ROUND(J123*$F123/SUM(COUNTRY_INFO!$E123:$G123),0))*2)","v":37800},{"$f":"IF($I123<>\"Yes\",$G123*3,($G123+ROUND(J123*$G123/SUM(COUNTRY_INFO!$E123:$G123),0))*3)","v":103707},141507,null,141507]
[{"$f":"IF(INTRO!$E$43=\"Non-endemic\",\" \", IF(COUNTRY_INFO!A124=0,\" \",COUNTRY_INFO!A124))","v":"Ghana"},{"$f":"IF(INTRO!$E$43=\"Non-endemic\",\" \", IF(COUNTRY_INFO!B124=0,\" \",COUNTRY_INFO!B124))","v":"Eastern"},{"$f":"IF(INTRO!$E$43=\"Non-endemic\",\" \", IF(COUNTRY_INFO!C124=0,\" \",COUNTRY_INFO!C124))","v":"Kwahu East"},{"$f":"IF(INTRO!$E$43=\"Non-endemic\", \"Not required\", COUNTRY_INFO!Y124)","v":1},{"$f":"IF(OR(COUNTRY_INFO!R124=\"Unknown\",COUNTRY_INFO!R124=\"Surveillance\",COUNTRY_INFO!R124=\"Not required\",COUNTRY_INFO!R124=0),0,IF($D124<>0, COUNTRY_INFO!R124,0))","v":6482},{"$f":"IF(OR(COUNTRY_INFO!S124=\"Unknown\",COUNTRY_INFO!S124=\"Surveillance\",COUNTRY_INFO!S124=\"Not required\",COUNTRY_INFO!S124=0),0,IF($D124<>0, COUNTRY_INFO!S124,0))","v":20362},{"$f":"IF(OR(COUNTRY_INFO!T124=\"Unknown\",COUNTRY_INFO!T124=\"Surveillance\",COUNTRY_INFO!T124=\"Not required\",COUNTRY_INFO!T124=0),0,IF($D124<>0, COUNTRY_INFO!T124,0))","v":17895},44739,null,null,1,"SAC",null,{"$f":"IF($I124<>\"Yes\",$F124*2,($F124+ROUND(J124*$F124/SUM(COUNTRY_INFO!$E124:$G124),0))*2)","v":40724},{"$f":"IF($I124<>\"Yes\",$G124*3,($G124+ROUND(J124*$G124/SUM(COUNTRY_INFO!$E124:$G124),0))*3)","v":53685},94409,null,94409]
[{"$f":"IF(INTRO!$E$43=\"Non-endemic\",\" \", IF(COUNTRY_INFO!A125=0,\" \",COUNTRY_INFO!A125))","v":"Ghana"},{"$f":"IF(INTRO!$E$43=\"Non-endemic\",\" \", IF(COUNTRY_INFO!B125=0,\" \",COUNTRY_INFO!B125))","v":"Eastern"},{"$f":"IF(INTRO!$E$43=\"Non-endemic\",\" \", IF(COUNTRY_INFO!C125=0,\" \",COUNTRY_INFO!C125))","v":"Kwahu South"},{"$f":"IF(INTRO!$E$43=\"Non-endemic\", \"Not required\", COUNTRY_INFO!Y125)","v":1},{"$f":"IF(OR(COUNTRY_INFO!R125=\"Unknown\",COUNTRY_INFO!R125=\"Surveillance\",COUNTRY_INFO!R125=\"Not required\",COUNTRY_INFO!R125=0),0,IF($D125<>0, COUNTRY_INFO!R125,0))","v":6534},{"$f":"IF(OR(COUNTRY_INFO!S125=\"Unknown\",COUNTRY_INFO!S125=\"Surveillance\",COUNTRY_INFO!S125=\"Not required\",COUNTRY_INFO!S125=0),0,IF($D125<>0, COUNTRY_INFO!S125,0))","v":20523},{"$f":"IF(OR(COUNTRY_INFO!T125=\"Unknown\",COUNTRY_INFO!T125=\"Surveillance\",COUNTRY_INFO!T125=\"Not required\",COUNTRY_INFO!T125=0),0,IF($D125<>0, COUNTRY_INFO!T125,0))","v":18659},45716,null,null,1,"SAC",null,{"$f":"IF($I125<>\"Yes\",$F125*2,($F125+ROUND(J125*$F125/SUM(COUNTRY_INFO!$E125:$G125),0))*2)","v":41046},{"$f":"IF($I125<>\"Yes\",$G125*3,($G125+ROUND(J125*$G125/SUM(COUNTRY_INFO!$E125:$G125),0))*3)","v":55977},97023,null,97023]
[{"$f":"IF(INTRO!$E$43=\"Non-endemic\",\" \", IF(COUNTRY_INFO!A126=0,\" \",COUNTRY_INFO!A126))","v":"Ghana"},{"$f":"IF(INTRO!$E$43=\"Non-endemic\",\" \", IF(COUNTRY_INFO!B126=0,\" \",COUNTRY_INFO!B126))","v":"Eastern"},{"$f":"IF(INTRO!$E$43=\"Non-endemic\",\" \", IF(COUNTRY_INFO!C126=0,\" \",COUNTRY_INFO!C126))","v":"Kwahu West"},{"$f":"IF(INTRO!$E$43=\"Non-endemic\", \"Not required\", COUNTRY_INFO!Y126)","v":1},{"$f":"IF(OR(COUNTRY_INFO!R126=\"Unknown\",COUNTRY_INFO!R126=\"Surveillance\",COUNTRY_INFO!R126=\"Not required\",COUNTRY_INFO!R126=0),0,IF($D126<>0, COUNTRY_INFO!R126,0))","v":11825},{"$f":"IF(OR(COUNTRY_INFO!S126=\"Unknown\",COUNTRY_INFO!S126=\"Surveillance\",COUNTRY_INFO!S126=\"Not required\",COUNTRY_INFO!S126=0),0,IF($D126<>0, COUNTRY_INFO!S126,0))","v":37142},{"$f":"IF(OR(COUNTRY_INFO!T126=\"Unknown\",COUNTRY_INFO!T126=\"Surveillance\",COUNTRY_INFO!T126=\"Not required\",COUNTRY_INFO!T126=0),0,IF($D126<>0, COUNTRY_INFO!T126,0))","v":0},48967,null,null,1,"SAC",null,{"$f":"IF($I126<>\"Yes\",$F126*2,($F126+ROUND(J126*$F126/SUM(COUNTRY_INFO!$E126:$G126),0))*2)","v":74284},{"$f":"IF($I126<>\"Yes\",$G126*3,($G126+ROUND(J126*$G126/SUM(COUNTRY_INFO!$E126:$G126),0))*3)","v":0},74284,null,74284]
[{"$f":"IF(INTRO!$E$43=\"Non-endemic\",\" \", IF(COUNTRY_INFO!A127=0,\" \",COUNTRY_INFO!A127))","v":"Ghana"},{"$f":"IF(INTRO!$E$43=\"Non-endemic\",\" \", IF(COUNTRY_INFO!B127=0,\" \",COUNTRY_INFO!B127))","v":"Eastern"},{"$f":"IF(INTRO!$E$43=\"Non-endemic\",\" \", IF(COUNTRY_INFO!C127=0,\" \",COUNTRY_INFO!C127))","v":"Lower Manya-Krobo"},{"$f":"IF(INTRO!$E$43=\"Non-endemic\", \"Not required\", COUNTRY_INFO!Y127)","v":1},{"$f":"IF(OR(COUNTRY_INFO!R127=\"Unknown\",COUNTRY_INFO!R127=\"Surveillance\",COUNTRY_INFO!R127=\"Not required\",COUNTRY_INFO!R127=0),0,IF($D127<>0, COUNTRY_INFO!R127,0))","v":9878},{"$f":"IF(OR(COUNTRY_INFO!S127=\"Unknown\",COUNTRY_INFO!S127=\"Surveillance\",COUNTRY_INFO!S127=\"Not required\",COUNTRY_INFO!S127=0),0,IF($D127<>0, COUNTRY_INFO!S127,0))","v":31025},{"$f":"IF(OR(COUNTRY_INFO!T127=\"Unknown\",COUNTRY_INFO!T127=\"Surveillance\",COUNTRY_INFO!T127=\"Not required\",COUNTRY_INFO!T127=0),0,IF($D127<>0, COUNTRY_INFO!T127,0))","v":0},40903,null,null,1,"SAC",null,{"$f":"IF($I127<>\"Yes\",$F127*2,($F127+ROUND(J127*$F127/SUM(COUNTRY_INFO!$E127:$G127),0))*2)","v":62050},{"$f":"IF($I127<>\"Yes\",$G127*3,($G127+ROUND(J127*$G127/SUM(COUNTRY_INFO!$E127:$G127),0))*3)","v":0},62050,null,62050]
[{"$f":"IF(INTRO!$E$43=\"Non-endemic\",\" \", IF(COUNTRY_INFO!A128=0,\" \",COUNTRY_INFO!A128))","v":"Ghana"},{"$f":"IF(INTRO!$E$43=\"Non-endemic\",\" \", IF(COUNTRY_INFO!B128=0,\" \",COUNTRY_INFO!B128))","v":"Eastern"},{"$f":"IF(INTRO!$E$43=\"Non-endemic\",\" \", IF(COUNTRY_INFO!C128=0,\" \",COUNTRY_INFO!C128))","v":"New Juaben North"},{"$f":"IF(INTRO!$E$43=\"Non-endemic\", \"Not required\", COUNTRY_INFO!Y128)","v":1},{"$f":"IF(OR(COUNTRY_INFO!R128=\"Unknown\",COUNTRY_INFO!R128=\"Surveillance\",COUNTRY_INFO!R128=\"Not required\",COUNTRY_INFO!R128=0),0,IF($D128<>0, COUNTRY_INFO!R128,0))","v":7578},{"$f":"IF(OR(COUNTRY_INFO!S128=\"Unknown\",COUNTRY_INFO!S128=\"Surveillance\",COUNTRY_INFO!S128=\"Not required\",COUNTRY_INFO!S128=0),0,IF($D128<>0, COUNTRY_INFO!S128,0))","v":23803},{"$f":"IF(OR(COUNTRY_INFO!T128=\"Unknown\",COUNTRY_INFO!T128=\"Surveillance\",COUNTRY_INFO!T128=\"Not required\",COUNTRY_INFO!T128=0),0,IF($D128<>0, COUNTRY_INFO!T128,0))","v":0},31381,null,null,1,"SAC",null,{"$f":"IF($I128<>\"Yes\",$F128*2,($F128+ROUND(J128*$F128/SUM(COUNTRY_INFO!$E128:$G128),0))*2)","v":47606},{"$f":"IF($I128<>\"Yes\",$G128*3,($G128+ROUND(J128*$G128/SUM(COUNTRY_INFO!$E128:$G128),0))*3)","v":0},47606,null,47606]
[{"$f":"IF(INTRO!$E$43=\"Non-endemic\",\" \", IF(COUNTRY_INFO!A129=0,\" \",COUNTRY_INFO!A129))","v":"Ghana"},{"$f":"IF(INTRO!$E$43=\"Non-endemic\",\" \", IF(COUNTRY_INFO!B129=0,\" \",COUNTRY_INFO!B129))","v":"Eastern"},{"$f":"IF(INTRO!$E$43=\"Non-endemic\",\" \", IF(COUNTRY_INFO!C129=0,\" \",COUNTRY_INFO!C129))","v":"New Juaben South"},{"$f":"IF(INTRO!$E$43=\"Non-endemic\", \"Not required\", COUNTRY_INFO!Y129)","v":1},{"$f":"IF(OR(COUNTRY_INFO!R129=\"Unknown\",COUNTRY_INFO!R129=\"Surveillance\",COUNTRY_INFO!R129=\"Not required\",COUNTRY_INFO!R129=0),0,IF($D129<>0, COUNTRY_INFO!R129,0))","v":10184},{"$f":"IF(OR(COUNTRY_INFO!S129=\"Unknown\",COUNTRY_INFO!S129=\"Surveillance\",COUNTRY_INFO!S129=\"Not required\",COUNTRY_INFO!S129=0),0,IF($D129<>0, COUNTRY_INFO!S129,0))","v":31990},{"$f":"IF(OR(COUNTRY_INFO!T129=\"Unknown\",COUNTRY_INFO!T129=\"Surveillance\",COUNTRY_INFO!T129=\"Not required\",COUNTRY_INFO!T129=0),0,IF($D129<>0, COUNTRY_INFO!T129,0))","v":0},42174,null,null,1,"SAC",null,{"$f":"IF($I129<>\"Yes\",$F129*2,($F129+ROUND(J129*$F129/SUM(COUNTRY_INFO!$E129:$G129),0))*2)","v":63980},{"$f":"IF($I129<>\"Yes\",$G129*3,($G129+ROUND(J129*$G129/SUM(COUNTRY_INFO!$E129:$G129),0))*3)","v":0},63980,null,63980]
[{"$f":"IF(INTRO!$E$43=\"Non-endemic\",\" \", IF(COUNTRY_INFO!A130=0,\" \",COUNTRY_INFO!A130))","v":"Ghana"},{"$f":"IF(INTRO!$E$43=\"Non-endemic\",\" \", IF(COUNTRY_INFO!B130=0,\" \",COUNTRY_INFO!B130))","v":"Eastern"},{"$f":"IF(INTRO!$E$43=\"Non-endemic\",\" \", IF(COUNTRY_INFO!C130=0,\" \",COUNTRY_INFO!C130))","v":"Nsawam-Adoagyiri"},{"$f":"IF(INTRO!$E$43=\"Non-endemic\", \"Not required\", COUNTRY_INFO!Y130)","v":1},{"$f":"IF(OR(COUNTRY_INFO!R130=\"Unknown\",COUNTRY_INFO!R130=\"Surveillance\",COUNTRY_INFO!R130=\"Not required\",COUNTRY_INFO!R130=0),0,IF($D130<>0, COUNTRY_INFO!R130,0))","v":12652},{"$f":"IF(OR(COUNTRY_INFO!S130=\"Unknown\",COUNTRY_INFO!S130=\"Surveillance\",COUNTRY_INFO!S130=\"Not required\",COUNTRY_INFO!S130=0),0,IF($D130<>0, COUNTRY_INFO!S130,0))","v":39739},{"$f":"IF(OR(COUNTRY_INFO!T130=\"Unknown\",COUNTRY_INFO!T130=\"Surveillance\",COUNTRY_INFO!T130=\"Not required\",COUNTRY_INFO!T130=0),0,IF($D130<>0, COUNTRY_INFO!T130,0))","v":0},52391,null,null,1,"SAC",null,{"$f":"IF($I130<>\"Yes\",$F130*2,($F130+ROUND(J130*$F130/SUM(COUNTRY_INFO!$E130:$G130),0))*2)","v":79478},{"$f":"IF($I130<>\"Yes\",$G130*3,($G130+ROUND(J130*$G130/SUM(COUNTRY_INFO!$E130:$G130),0))*3)","v":0},79478,null,79478]
[{"$f":"IF(INTRO!$E$43=\"Non-endemic\",\" \", IF(COUNTRY_INFO!A131=0,\" \",COUNTRY_INFO!A131))","v":"Ghana"},{"$f":"IF(INTRO!$E$43=\"Non-endemic\",\" \", IF(COUNTRY_INFO!B131=0,\" \",COUNTRY_INFO!B131))","v":"Eastern"},{"$f":"IF(INTRO!$E$43=\"Non-endemic\",\" \", IF(COUNTRY_INFO!C131=0,\" \",COUNTRY_INFO!C131))","v":"Okere"},{"$f":"IF(INTRO!$E$43=\"Non-endemic\", \"Not required\", COUNTRY_INFO!Y131)","v":0},{"$f":"IF(OR(COUNTRY_INFO!R131=\"Unknown\",COUNTRY_INFO!R131=\"Surveillance\",COUNTRY_INFO!R131=\"Not required\",COUNTRY_INFO!R131=0),0,IF($D131<>0, COUNTRY_INFO!R131,0))","v":0},{"$f":"IF(OR(COUNTRY_INFO!S131=\"Unknown\",COUNTRY_INFO!S131=\"Surveillance\",COUNTRY_INFO!S131=\"Not required\",COUNTRY_INFO!S131=0),0,IF($D131<>0, COUNTRY_INFO!S131,0))","v":0},{"$f":"IF(OR(COUNTRY_INFO!T131=\"Unknown\",COUNTRY_INFO!T131=\"Surveillance\",COUNTRY_INFO!T131=\"Not required\",COUNTRY_INFO!T131=0),0,IF($D131<>0, COUNTRY_INFO!T131,0))","v":0},0,null,null,null,null,null,{"$f":"IF($I131<>\"Yes\",$F131*2,($F131+ROUND(J131*$F131/SUM(COUNTRY_INFO!$E131:$G131),0))*2)","v":0},{"$f":"IF($I131<>\"Yes\",$G131*3,($G131+ROUND(J131*$G131/SUM(COUNTRY_INFO!$E131:$G131),0))*3)","v":0},0,null,0]
[{"$f":"IF(INTRO!$E$43=\"Non-endemic\",\" \", IF(COUNTRY_INFO!A132=0,\" \",COUNTRY_INFO!A132))","v":"Ghana"},{"$f":"IF(INTRO!$E$43=\"Non-endemic\",\" \", IF(COUNTRY_INFO!B132=0,\" \",COUNTRY_INFO!B132))","v":"Eastern"},{"$f":"IF(INTRO!$E$43=\"Non-endemic\",\" \", IF(COUNTRY_INFO!C132=0,\" \",COUNTRY_INFO!C132))","v":"Suhum"},{"$f":"IF(INTRO!$E$43=\"Non-endemic\", \"Not required\", COUNTRY_INFO!Y132)","v":1},{"$f":"IF(OR(COUNTRY_INFO!R132=\"Unknown\",COUNTRY_INFO!R132=\"Surveillance\",COUNTRY_INFO!R132=\"Not required\",COUNTRY_INFO!R132=0),0,IF($D132<>0, COUNTRY_INFO!R132,0))","v":10278},{"$f":"IF(OR(COUNTRY_INFO!S132=\"Unknown\",COUNTRY_INFO!S132=\"Surveillance\",COUNTRY_INFO!S132=\"Not required\",COUNTRY_INFO!S132=0),0,IF($D132<>0, COUNTRY_INFO!S132,0))","v":32283},{"$f":"IF(OR(COUNTRY_INFO!T132=\"Unknown\",COUNTRY_INFO!T132=\"Surveillance\",COUNTRY_INFO!T132=\"Not required\",COUNTRY_INFO!T132=0),0,IF($D132<>0, COUNTRY_INFO!T132,0))","v":0},42561,null,null,1,"SAC",null,{"$f":"IF($I132<>\"Yes\",$F132*2,($F132+ROUND(J132*$F132/SUM(COUNTRY_INFO!$E132:$G132),0))*2)","v":64566},{"$f":"IF($I132<>\"Yes\",$G132*3,($G132+ROUND(J132*$G132/SUM(COUNTRY_INFO!$E132:$G132),0))*3)","v":0},64566,null,64566]
[{"$f":"IF(INTRO!$E$43=\"Non-endemic\",\" \", IF(COUNTRY_INFO!A133=0,\" \",COUNTRY_INFO!A133))","v":"Ghana"},{"$f":"IF(INTRO!$E$43=\"Non-endemic\",\" \", IF(COUNTRY_INFO!B133=0,\" \",COUNTRY_INFO!B133))","v":"Eastern"},{"$f":"IF(INTRO!$E$43=\"Non-endemic\",\" \", IF(COUNTRY_INFO!C133=0,\" \",COUNTRY_INFO!C133))","v":"Upper Manya-Krobo"},{"$f":"IF(INTRO!$E$43=\"Non-endemic\", \"Not required\", COUNTRY_INFO!Y133)","v":1},{"$f":"IF(OR(COUNTRY_INFO!R133=\"Unknown\",COUNTRY_INFO!R133=\"Surveillance\",COUNTRY_INFO!R133=\"Not required\",COUNTRY_INFO!R133=0),0,IF($D133<>0, COUNTRY_INFO!R133,0))","v":5747},{"$f":"IF(OR(COUNTRY_INFO!S133=\"Unknown\",COUNTRY_INFO!S133=\"Surveillance\",COUNTRY_INFO!S133=\"Not required\",COUNTRY_INFO!S133=0),0,IF($D133<>0, COUNTRY_INFO!S133,0))","v":18050},{"$f":"IF(OR(COUNTRY_INFO!T133=\"Unknown\",COUNTRY_INFO!T133=\"Surveillance\",COUNTRY_INFO!T133=\"Not required\",COUNTRY_INFO!T133=0),0,IF($D133<>0, COUNTRY_INFO!T133,0))","v":12365},36162,null,null,1,"SAC",null,{"$f":"IF($I133<>\"Yes\",$F133*2,($F133+ROUND(J133*$F133/SUM(COUNTRY_INFO!$E133:$G133),0))*2)","v":36100},{"$f":"IF($I133<>\"Yes\",$G133*3,($G133+ROUND(J133*$G133/SUM(COUNTRY_INFO!$E133:$G133),0))*3)","v":37095},73195,null,73195]
[{"$f":"IF(INTRO!$E$43=\"Non-endemic\",\" \", IF(COUNTRY_INFO!A134=0,\" \",COUNTRY_INFO!A134))","v":"Ghana"},{"$f":"IF(INTRO!$E$43=\"Non-endemic\",\" \", IF(COUNTRY_INFO!B134=0,\" \",COUNTRY_INFO!B134))","v":"Eastern"},{"$f":"IF(INTRO!$E$43=\"Non-endemic\",\" \", IF(COUNTRY_INFO!C134=0,\" \",COUNTRY_INFO!C134))","v":"Upper West Akim"},{"$f":"IF(INTRO!$E$43=\"Non-endemic\", \"Not required\", COUNTRY_INFO!Y134)","v":1},{"$f":"IF(OR(COUNTRY_INFO!R134=\"Unknown\",COUNTRY_INFO!R134=\"Surveillance\",COUNTRY_INFO!R134=\"Not required\",COUNTRY_INFO!R134=0),0,IF($D134<>0, COUNTRY_INFO!R134,0))","v":7594},{"$f":"IF(OR(COUNTRY_INFO!S134=\"Unknown\",COUNTRY_INFO!S134=\"Surveillance\",COUNTRY_INFO!S134=\"Not required\",COUNTRY_INFO!S134=0),0,IF($D134<>0, COUNTRY_INFO!S134,0))","v":23852},{"$f":"IF(OR(COUNTRY_INFO!T134=\"Unknown\",COUNTRY_INFO!T134=\"Surveillance\",COUNTRY_INFO!T134=\"Not required\",COUNTRY_INFO!T134=0),0,IF($D134<>0, COUNTRY_INFO!T134,0))","v":13659},45105,null,null,1,"SAC",null,{"$f":"IF($I134<>\"Yes\",$F134*2,($F134+ROUND(J134*$F134/SUM(COUNTRY_INFO!$E134:$G134),0))*2)","v":47704},{"$f":"IF($I134<>\"Yes\",$G134*3,($G134+ROUND(J134*$G134/SUM(COUNTRY_INFO!$E134:$G134),0))*3)","v":40977},88681,null,88681]
[{"$f":"IF(INTRO!$E$43=\"Non-endemic\",\" \", IF(COUNTRY_INFO!A135=0,\" \",COUNTRY_INFO!A135))","v":"Ghana"},{"$f":"IF(INTRO!$E$43=\"Non-endemic\",\" \", IF(COUNTRY_INFO!B135=0,\" \",COUNTRY_INFO!B135))","v":"Eastern"},{"$f":"IF(INTRO!$E$43=\"Non-endemic\",\" \", IF(COUNTRY_INFO!C135=0,\" \",COUNTRY_INFO!C135))","v":"West Akim"},{"$f":"IF(INTRO!$E$43=\"Non-endemic\", \"Not required\", COUNTRY_INFO!Y135)","v":1},{"$f":"IF(OR(COUNTRY_INFO!R135=\"Unknown\",COUNTRY_INFO!R135=\"Surveillance\",COUNTRY_INFO!R135=\"Not required\",COUNTRY_INFO!R135=0),0,IF($D135<>0, COUNTRY_INFO!R135,0))","v":9769},{"$f":"IF(OR(COUNTRY_INFO!S135=\"Unknown\",COUNTRY_INFO!S135=\"Surveillance\",COUNTRY_INFO!S135=\"Not required\",COUNTRY_INFO!S135=0),0,IF($D135<>0, COUNTRY_INFO!S135,0))","v":30685},{"$f":"IF(OR(COUNTRY_INFO!T135=\"Unknown\",COUNTRY_INFO!T135=\"Surveillance\",COUNTRY_INFO!T135=\"Not required\",COUNTRY_INFO!T135=0),0,IF($D135<>0, COUNTRY_INFO!T135,0))","v":19568},60022,null,null,1,"SAC",null,{"$f":"IF($I135<>\"Yes\",$F135*2,($F135+ROUND(J135*$F135/SUM(COUNTRY_INFO!$E135:$G135),0))*2)","v":61370},{"$f":"IF($I135<>\"Yes\",$G135*3,($G135+ROUND(J135*$G135/SUM(COUNTRY_INFO!$E135:$G135),0))*3)","v":58704},120074,null,120074]
[{"$f":"IF(INTRO!$E$43=\"Non-endemic\",\" \", IF(COUNTRY_INFO!A136=0,\" \",COUNTRY_INFO!A136))","v":"Ghana"},{"$f":"IF(INTRO!$E$43=\"Non-endemic\",\" \", IF(COUNTRY_INFO!B136=0,\" \",COUNTRY_INFO!B136))","v":"Eastern"},{"$f":"IF(INTRO!$E$43=\"Non-endemic\",\" \", IF(COUNTRY_INFO!C136=0,\" \",COUNTRY_INFO!C136))","v":"Yilo-Krobo"},{"$f":"IF(INTRO!$E$43=\"Non-endemic\", \"Not required\", COUNTRY_INFO!Y136)","v":1},{"$f":"IF(OR(COUNTRY_INFO!R136=\"Unknown\",COUNTRY_INFO!R136=\"Surveillance\",COUNTRY_INFO!R136=\"Not required\",COUNTRY_INFO!R136=0),0,IF($D136<>0, COUNTRY_INFO!R136,0))","v":9977},{"$f":"IF(OR(COUNTRY_INFO!S136=\"Unknown\",COUNTRY_INFO!S136=\"Surveillance\",COUNTRY_INFO!S136=\"Not required\",COUNTRY_INFO!S136=0),0,IF($D136<>0, COUNTRY_INFO!S136,0))","v":31339},{"$f":"IF(OR(COUNTRY_INFO!T136=\"Unknown\",COUNTRY_INFO!T136=\"Surveillance\",COUNTRY_INFO!T136=\"Not required\",COUNTRY_INFO!T136=0),0,IF($D136<>0, COUNTRY_INFO!T136,0))","v":0},41316,null,null,1,"SAC",null,{"$f":"IF($I136<>\"Yes\",$F136*2,($F136+ROUND(J136*$F136/SUM(COUNTRY_INFO!$E136:$G136),0))*2)","v":62678},{"$f":"IF($I136<>\"Yes\",$G136*3,($G136+ROUND(J136*$G136/SUM(COUNTRY_INFO!$E136:$G136),0))*3)","v":0},62678,null,62678]
[{"$f":"IF(INTRO!$E$43=\"Non-endemic\",\" \", IF(COUNTRY_INFO!A137=0,\" \",COUNTRY_INFO!A137))","v":"Ghana"},{"$f":"IF(INTRO!$E$43=\"Non-endemic\",\" \", IF(COUNTRY_INFO!B137=0,\" \",COUNTRY_INFO!B137))","v":"Greater Accra"},{"$f":"IF(INTRO!$E$43=\"Non-endemic\",\" \", IF(COUNTRY_INFO!C137=0,\" \",COUNTRY_INFO!C137))","v":"Ablekuma Central"},{"$f":"IF(INTRO!$E$43=\"Non-endemic\", \"Not required\", COUNTRY_INFO!Y137)","v":0},{"$f":"IF(OR(COUNTRY_INFO!R137=\"Unknown\",COUNTRY_INFO!R137=\"Surveillance\",COUNTRY_INFO!R137=\"Not required\",COUNTRY_INFO!R137=0),0,IF($D137<>0, COUNTRY_INFO!R137,0))","v":0},{"$f":"IF(OR(COUNTRY_INFO!S137=\"Unknown\",COUNTRY_INFO!S137=\"Surveillance\",COUNTRY_INFO!S137=\"Not required\",COUNTRY_INFO!S137=0),0,IF($D137<>0, COUNTRY_INFO!S137,0))","v":0},{"$f":"IF(OR(COUNTRY_INFO!T137=\"Unknown\",COUNTRY_INFO!T137=\"Surveillance\",COUNTRY_INFO!T137=\"Not required\",COUNTRY_INFO!T137=0),0,IF($D137<>0, COUNTRY_INFO!T137,0))","v":0},0,null,null,null,null,null,{"$f":"IF($I137<>\"Yes\",$F137*2,($F137+ROUND(J137*$F137/SUM(COUNTRY_INFO!$E137:$G137),0))*2)","v":0},{"$f":"IF($I137<>\"Yes\",$G137*3,($G137+ROUND(J137*$G137/SUM(COUNTRY_INFO!$E137:$G137),0))*3)","v":0},0,null,0]
[{"$f":"IF(INTRO!$E$43=\"Non-endemic\",\" \", IF(COUNTRY_INFO!A138=0,\" \",COUNTRY_INFO!A138))","v":"Ghana"},{"$f":"IF(INTRO!$E$43=\"Non-endemic\",\" \", IF(COUNTRY_INFO!B138=0,\" \",COUNTRY_INFO!B138))","v":"Greater Accra"},{"$f":"IF(INTRO!$E$43=\"Non-endemic\",\" \", IF(COUNTRY_INFO!C138=0,\" \",COUNTRY_INFO!C138))","v":"Ablekuma North"},{"$f":"IF(INTRO!$E$43=\"Non-endemic\", \"Not required\", COUNTRY_INFO!Y138)","v":0},{"$f":"IF(OR(COUNTRY_INFO!R138=\"Unknown\",COUNTRY_INFO!R138=\"Surveillance\",COUNTRY_INFO!R138=\"Not required\",COUNTRY_INFO!R138=0),0,IF($D138<>0, COUNTRY_INFO!R138,0))","v":0},{"$f":"IF(OR(COUNTRY_INFO!S138=\"Unknown\",COUNTRY_INFO!S138=\"Surveillance\",COUNTRY_INFO!S138=\"Not required\",COUNTRY_INFO!S138=0),0,IF($D138<>0, COUNTRY_INFO!S138,0))","v":0},{"$f":"IF(OR(COUNTRY_INFO!T138=\"Unknown\",COUNTRY_INFO!T138=\"Surveillance\",COUNTRY_INFO!T138=\"Not required\",COUNTRY_INFO!T138=0),0,IF($D138<>0, COUNTRY_INFO!T138,0))","v":0},0,null,null,null,null,null,{"$f":"IF($I138<>\"Yes\",$F138*2,($F138+ROUND(J138*$F138/SUM(COUNTRY_INFO!$E138:$G138),0))*2)","v":0},{"$f":"IF($I138<>\"Yes\",$G138*3,($G138+ROUND(J138*$G138/SUM(COUNTRY_INFO!$E138:$G138),0))*3)","v":0},0,null,0]
[{"$f":"IF(INTRO!$E$43=\"Non-endemic\",\" \", IF(COUNTRY_INFO!A139=0,\" \",COUNTRY_INFO!A139))","v":"Ghana"},{"$f":"IF(INTRO!$E$43=\"Non-endemic\",\" \", IF(COUNTRY_INFO!B139=0,\" \",COUNTRY_INFO!B139))","v":"Greater Accra"},{"$f":"IF(INTRO!$E$43=\"Non-endemic\",\" \", IF(COUNTRY_INFO!C139=0,\" \",COUNTRY_INFO!C139))","v":"Ablekuma West"},{"$f":"IF(INTRO!$E$43=\"Non-endemic\", \"Not required\", COUNTRY_INFO!Y139)","v":0},{"$f":"IF(OR(COUNTRY_INFO!R139=\"Unknown\",COUNTRY_INFO!R139=\"Surveillance\",COUNTRY_INFO!R139=\"Not required\",COUNTRY_INFO!R139=0),0,IF($D139<>0, COUNTRY_INFO!R139,0))","v":0},{"$f":"IF(OR(COUNTRY_INFO!S139=\"Unknown\",COUNTRY_INFO!S139=\"Surveillance\",COUNTRY_INFO!S139=\"Not required\",COUNTRY_INFO!S139=0),0,IF($D139<>0, COUNTRY_INFO!S139,0))","v":0},{"$f":"IF(OR(COUNTRY_INFO!T139=\"Unknown\",COUNTRY_INFO!T139=\"Surveillance\",COUNTRY_INFO!T139=\"Not required\",COUNTRY_INFO!T139=0),0,IF($D139<>0, COUNTRY_INFO!T139,0))","v":0},{"$f":"SUM(E139:G139)","v":0},null,null,null,null,null,{"$f":"IF($I139<>\"Yes\",$F139*2,($F139+ROUND(J139*$F139/SUM(COUNTRY_INFO!$E139:$G139),0))*2)","v":0},{"$f":"IF($I139<>\"Yes\",$G139*3,($G139+ROUND(J139*$G139/SUM(COUNTRY_INFO!$E139:$G139),0))*3)","v":0},{"$f":"SUM(M139:O139)","v":0},null,{"$f":"IF($P139>$Q139,P139-Q139,0)","v":0}]
[{"$f":"IF(INTRO!$E$43=\"Non-endemic\",\" \", IF(COUNTRY_INFO!A140=0,\" \",COUNTRY_INFO!A140))","v":"Ghana"},{"$f":"IF(INTRO!$E$43=\"Non-endemic\",\" \", IF(COUNTRY_INFO!B140=0,\" \",COUNTRY_INFO!B140))","v":"Greater Accra"},{"$f":"IF(INTRO!$E$43=\"Non-endemic\",\" \", IF(COUNTRY_INFO!C140=0,\" \",COUNTRY_INFO!C140))","v":"Accra Metro"},{"$f":"IF(INTRO!$E$43=\"Non-endemic\", \"Not required\", COUNTRY_INFO!Y140)","v":0},{"$f":"IF(OR(COUNTRY_INFO!R140=\"Unknown\",COUNTRY_INFO!R140=\"Surveillance\",COUNTRY_INFO!R140=\"Not required\",COUNTRY_INFO!R140=0),0,IF($D140<>0, COUNTRY_INFO!R140,0))","v":0},{"$f":"IF(OR(COUNTRY_INFO!S140=\"Unknown\",COUNTRY_INFO!S140=\"Surveillance\",COUNTRY_INFO!S140=\"Not required\",COUNTRY_INFO!S140=0),0,IF($D140<>0, COUNTRY_INFO!S140,0))","v":0},{"$f":"IF(OR(COUNTRY_INFO!T140=\"Unknown\",COUNTRY_INFO!T140=\"Surveillance\",COUNTRY_INFO!T140=\"Not required\",COUNTRY_INFO!T140=0),0,IF($D140<>0, COUNTRY_INFO!T140,0))","v":0},0,null,null,null,null,null,{"$f":"IF($I140<>\"Yes\",$F140*2,($F140+ROUND(J140*$F140/SUM(COUNTRY_INFO!$E140:$G140),0))*2)","v":0},{"$f":"IF($I140<>\"Yes\",$G140*3,($G140+ROUND(J140*$G140/SUM(COUNTRY_INFO!$E140:$G140),0))*3)","v":0},0,null,0]
[{"$f":"IF(INTRO!$E$43=\"Non-endemic\",\" \", IF(COUNTRY_INFO!A141=0,\" \",COUNTRY_INFO!A141))","v":"Ghana"},{"$f":"IF(INTRO!$E$43=\"Non-endemic\",\" \", IF(COUNTRY_INFO!B141=0,\" \",COUNTRY_INFO!B141))","v":"Greater Accra"},{"$f":"IF(INTRO!$E$43=\"Non-endemic\",\" \", IF(COUNTRY_INFO!C141=0,\" \",COUNTRY_INFO!C141))","v":"Ada East"},{"$f":"IF(INTRO!$E$43=\"Non-endemic\", \"Not required\", COUNTRY_INFO!Y141)","v":1},{"$f":"IF(OR(COUNTRY_INFO!R141=\"Unknown\",COUNTRY_INFO!R141=\"Surveillance\",COUNTRY_INFO!R141=\"Not required\",COUNTRY_INFO!R141=0),0,IF($D141<>0, COUNTRY_INFO!R141,0))","v":6213},{"$f":"IF(OR(COUNTRY_INFO!S141=\"Unknown\",COUNTRY_INFO!S141=\"Surveillance\",COUNTRY_INFO!S141=\"Not required\",COUNTRY_INFO!S141=0),0,IF($D141<>0, COUNTRY_INFO!S141,0))","v":19515},{"$f":"IF(OR(COUNTRY_INFO!T141=\"Unknown\",COUNTRY_INFO!T141=\"Surveillance\",COUNTRY_INFO!T141=\"Not required\",COUNTRY_INFO!T141=0),0,IF($D141<>0, COUNTRY_INFO!T141,0))","v":0},25728,null,null,1,"SAC",null,{"$f":"IF($I141<>\"Yes\",$F141*2,($F141+ROUND(J141*$F141/SUM(COUNTRY_INFO!$E141:$G141),0))*2)","v":39030},{"$f":"IF($I141<>\"Yes\",$G141*3,($G141+ROUND(J141*$G141/SUM(COUNTRY_INFO!$E141:$G141),0))*3)","v":0},39030,null,39030]
[{"$f":"IF(INTRO!$E$43=\"Non-endemic\",\" \", IF(COUNTRY_INFO!A142=0,\" \",COUNTRY_INFO!A142))","v":"Ghana"},{"$f":"IF(INTRO!$E$43=\"Non-endemic\",\" \", IF(COUNTRY_INFO!B142=0,\" \",COUNTRY_INFO!B142))","v":"Greater Accra"},{"$f":"IF(INTRO!$E$43=\"Non-endemic\",\" \", IF(COUNTRY_INFO!C142=0,\" \",COUNTRY_INFO!C142))","v":"Ada West"},{"$f":"IF(INTRO!$E$43=\"Non-endemic\", \"Not required\", COUNTRY_INFO!Y142)","v":1},{"$f":"IF(OR(COUNTRY_INFO!R142=\"Unknown\",COUNTRY_INFO!R142=\"Surveillance\",COUNTRY_INFO!R142=\"Not required\",COUNTRY_INFO!R142=0),0,IF($D142<>0, COUNTRY_INFO!R142,0))","v":6187},{"$f":"IF(OR(COUNTRY_INFO!S142=\"Unknown\",COUNTRY_INFO!S142=\"Surveillance\",COUNTRY_INFO!S142=\"Not required\",COUNTRY_INFO!S142=0),0,IF($D142<>0, COUNTRY_INFO!S142,0))","v":19432},{"$f":"IF(OR(COUNTRY_INFO!T142=\"Unknown\",COUNTRY_INFO!T142=\"Surveillance\",COUNTRY_INFO!T142=\"Not required\",COUNTRY_INFO!T142=0),0,IF($D142<>0, COUNTRY_INFO!T142,0))","v":0},25619,null,null,1,"SAC",null,{"$f":"IF($I142<>\"Yes\",$F142*2,($F142+ROUND(J142*$F142/SUM(COUNTRY_INFO!$E142:$G142),0))*2)","v":38864},{"$f":"IF($I142<>\"Yes\",$G142*3,($G142+ROUND(J142*$G142/SUM(COUNTRY_INFO!$E142:$G142),0))*3)","v":0},38864,null,38864]
[{"$f":"IF(INTRO!$E$43=\"Non-endemic\",\" \", IF(COUNTRY_INFO!A143=0,\" \",COUNTRY_INFO!A143))","v":"Ghana"},{"$f":"IF(INTRO!$E$43=\"Non-endemic\",\" \", IF(COUNTRY_INFO!B143=0,\" \",COUNTRY_INFO!B143))","v":"Greater Accra"},{"$f":"IF(INTRO!$E$43=\"Non-endemic\",\" \", IF(COUNTRY_INFO!C143=0,\" \",COUNTRY_INFO!C143))","v":"Adentan"},{"$f":"IF(INTRO!$E$43=\"Non-endemic\", \"Not required\", COUNTRY_INFO!Y143)","v":1},{"$f":"IF(OR(COUNTRY_INFO!R143=\"Unknown\",COUNTRY_INFO!R143=\"Surveillance\",COUNTRY_INFO!R143=\"Not required\",COUNTRY_INFO!R143=0),0,IF($D143<>0, COUNTRY_INFO!R143,0))","v":19315},{"$f":"IF(OR(COUNTRY_INFO!S143=\"Unknown\",COUNTRY_INFO!S143=\"Surveillance\",COUNTRY_INFO!S143=\"Not required\",COUNTRY_INFO!S143=0),0,IF($D143<>0, COUNTRY_INFO!S143,0))","v":60669},{"$f":"IF(OR(COUNTRY_INFO!T143=\"Unknown\",COUNTRY_INFO!T143=\"Surveillance\",COUNTRY_INFO!T143=\"Not required\",COUNTRY_INFO!T143=0),0,IF($D143<>0, COUNTRY_INFO!T143,0))","v":0},79984,null,null,1,"SAC",null,{"$f":"IF($I143<>\"Yes\",$F143*2,($F143+ROUND(J143*$F143/SUM(COUNTRY_INFO!$E143:$G143),0))*2)","v":121338},{"$f":"IF($I143<>\"Yes\",$G143*3,($G143+ROUND(J143*$G143/SUM(COUNTRY_INFO!$E143:$G143),0))*3)","v":0},121338,null,121338]
[{"$f":"IF(INTRO!$E$43=\"Non-endemic\",\" \", IF(COUNTRY_INFO!A144=0,\" \",COUNTRY_INFO!A144))","v":"Ghana"},{"$f":"IF(INTRO!$E$43=\"Non-endemic\",\" \", IF(COUNTRY_INFO!B144=0,\" \",COUNTRY_INFO!B144))","v":"Greater Accra"},{"$f":"IF(INTRO!$E$43=\"Non-endemic\",\" \", IF(COUNTRY_INFO!C144=0,\" \",COUNTRY_INFO!C144))","v":"Ashaiman"},{"$f":"IF(INTRO!$E$43=\"Non-endemic\", \"Not required\", COUNTRY_INFO!Y144)","v":1},{"$f":"IF(OR(COUNTRY_INFO!R144=\"Unknown\",COUNTRY_INFO!R144=\"Surveillance\",COUNTRY_INFO!R144=\"Not required\",COUNTRY_INFO!R144=0),0,IF($D144<>0, COUNTRY_INFO!R144,0))","v":16918},{"$f":"IF(OR(COUNTRY_INFO!S144=\"Unknown\",COUNTRY_INFO!S144=\"Surveillance\",COUNTRY_INFO!S144=\"Not required\",COUNTRY_INFO!S144=0),0,IF($D144<>0, COUNTRY_INFO!S144,0))","v":53138},{"$f":"IF(OR(COUNTRY_INFO!T144=\"Unknown\",COUNTRY_INFO!T144=\"Surveillance\",COUNTRY_INFO!T144=\"Not required\",COUNTRY_INFO!T144=0),0,IF($D144<>0, COUNTRY_INFO!T144,0))","v":0},70056,null,null,1,"SAC",null,{"$f":"IF($I144<>\"Yes\",$F144*2,($F144+ROUND(J144*$F144/SUM(COUNTRY_INFO!$E144:$G144),0))*2)","v":106276},{"$f":"IF($I144<>\"Yes\",$G144*3,($G144+ROUND(J144*$G144/SUM(COUNTRY_INFO!$E144:$G144),0))*3)","v":0},106276,null,106276]
[{"$f":"IF(INTRO!$E$43=\"Non-endemic\",\" \", IF(COUNTRY_INFO!A145=0,\" \",COUNTRY_INFO!A145))","v":"Ghana"},{"$f":"IF(INTRO!$E$43=\"Non-endemic\",\" \", IF(COUNTRY_INFO!B145=0,\" \",COUNTRY_INFO!B145))","v":"Greater Accra"},{"$f":"IF(INTRO!$E$43=\"Non-endemic\",\" \", IF(COUNTRY_INFO!C145=0,\" \",COUNTRY_INFO!C145))","v":"Ayawaso Central"},{"$f":"IF(INTRO!$E$43=\"Non-endemic\", \"Not required\", COUNTRY_INFO!Y145)","v":0},{"$f":"IF(OR(COUNTRY_INFO!R145=\"Unknown\",COUNTRY_INFO!R145=\"Surveillance\",COUNTRY_INFO!R145=\"Not required\",COUNTRY_INFO!R145=0),0,IF($D145<>0, COUNTRY_INFO!R145,0))","v":0},{"$f":"IF(OR(COUNTRY_INFO!S145=\"Unknown\",COUNTRY_INFO!S145=\"Surveillance\",COUNTRY_INFO!S145=\"Not required\",COUNTRY_INFO!S145=0),0,IF($D145<>0, COUNTRY_INFO!S145,0))","v":0},{"$f":"IF(OR(COUNTRY_INFO!T145=\"Unknown\",COUNTRY_INFO!T145=\"Surveillance\",COUNTRY_INFO!T145=\"Not required\",COUNTRY_INFO!T145=0),0,IF($D145<>0, COUNTRY_INFO!T145,0))","v":0},0,null,null,null,null,null,{"$f":"IF($I145<>\"Yes\",$F145*2,($F145+ROUND(J145*$F145/SUM(COUNTRY_INFO!$E145:$G145),0))*2)","v":0},{"$f":"IF($I145<>\"Yes\",$G145*3,($G145+ROUND(J145*$G145/SUM(COUNTRY_INFO!$E145:$G145),0))*3)","v":0},0,null,0]
[{"$f":"IF(INTRO!$E$43=\"Non-endemic\",\" \", IF(COUNTRY_INFO!A146=0,\" \",COUNTRY_INFO!A146))","v":"Ghana"},{"$f":"IF(INTRO!$E$43=\"Non-endemic\",\" \", IF(COUNTRY_INFO!B146=0,\" \",COUNTRY_INFO!B146))","v":"Greater Accra"},{"$f":"IF(INTRO!$E$43=\"Non-endemic\",\" \", IF(COUNTRY_INFO!C146=0,\" \",COUNTRY_INFO!C146))","v":"Ayawaso East"},{"$f":"IF(INTRO!$E$43=\"Non-endemic\", \"Not required\", COUNTRY_INFO!Y146)","v":0},{"$f":"IF(OR(COUNTRY_INFO!R146=\"Unknown\",COUNTRY_INFO!R146=\"Surveillance\",COUNTRY_INFO!R146=\"Not required\",COUNTRY_INFO!R146=0),0,IF($D146<>0, COUNTRY_INFO!R146,0))","v":0},{"$f":"IF(OR(COUNTRY_INFO!S146=\"Unknown\",COUNTRY_INFO!S146=\"Surveillance\",COUNTRY_INFO!S146=\"Not required\",COUNTRY_INFO!S146=0),0,IF($D146<>0, COUNTRY_INFO!S146,0))","v":0},{"$f":"IF(OR(COUNTRY_INFO!T146=\"Unknown\",COUNTRY_INFO!T146=\"Surveillance\",COUNTRY_INFO!T146=\"Not required\",COUNTRY_INFO!T146=0),0,IF($D146<>0, COUNTRY_INFO!T146,0))","v":0},0,null,null,null,null,null,{"$f":"IF($I146<>\"Yes\",$F146*2,($F146+ROUND(J146*$F146/SUM(COUNTRY_INFO!$E146:$G146),0))*2)","v":0},{"$f":"IF($I146<>\"Yes\",$G146*3,($G146+ROUND(J146*$G146/SUM(COUNTRY_INFO!$E146:$G146),0))*3)","v":0},0,null,0]
[{"$f":"IF(INTRO!$E$43=\"Non-endemic\",\" \", IF(COUNTRY_INFO!A147=0,\" \",COUNTRY_INFO!A147))","v":"Ghana"},{"$f":"IF(INTRO!$E$43=\"Non-endemic\",\" \", IF(COUNTRY_INFO!B147=0,\" \",COUNTRY_INFO!B147))","v":"Greater Accra"},{"$f":"IF(INTRO!$E$43=\"Non-endemic\",\" \", IF(COUNTRY_INFO!C147=0,\" \",COUNTRY_INFO!C147))","v":"Ayawaso North"},{"$f":"IF(INTRO!$E$43=\"Non-endemic\", \"Not required\", COUNTRY_INFO!Y147)","v":0},{"$f":"IF(OR(COUNTRY_INFO!R147=\"Unknown\",COUNTRY_INFO!R147=\"Surveillance\",COUNTRY_INFO!R147=\"Not required\",COUNTRY_INFO!R147=0),0,IF($D147<>0, COUNTRY_INFO!R147,0))","v":0},{"$f":"IF(OR(COUNTRY_INFO!S147=\"Unknown\",COUNTRY_INFO!S147=\"Surveillance\",COUNTRY_INFO!S147=\"Not required\",COUNTRY_INFO!S147=0),0,IF($D147<>0, COUNTRY_INFO!S147,0))","v":0},{"$f":"IF(OR(COUNTRY_INFO!T147=\"Unknown\",COUNTRY_INFO!T147=\"Surveillance\",COUNTRY_INFO!T147=\"Not required\",COUNTRY_INFO!T147=0),0,IF($D147<>0, COUNTRY_INFO!T147,0))","v":0},0,null,null,null,null,null,{"$f":"IF($I147<>\"Yes\",$F147*2,($F147+ROUND(J147*$F147/SUM(COUNTRY_INFO!$E147:$G147),0))*2)","v":0},{"$f":"IF($I147<>\"Yes\",$G147*3,($G147+ROUND(J147*$G147/SUM(COUNTRY_INFO!$E147:$G147),0))*3)","v":0},0,null,0]
[{"$f":"IF(INTRO!$E$43=\"Non-endemic\",\" \", IF(COUNTRY_INFO!A148=0,\" \",COUNTRY_INFO!A148))","v":"Ghana"},{"$f":"IF(INTRO!$E$43=\"Non-endemic\",\" \", IF(COUNTRY_INFO!B148=0,\" \",COUNTRY_INFO!B148))","v":"Greater Accra"},{"$f":"IF(INTRO!$E$43=\"Non-endemic\",\" \", IF(COUNTRY_INFO!C148=0,\" \",COUNTRY_INFO!C148))","v":"Ayawaso West"},{"$f":"IF(INTRO!$E$43=\"Non-endemic\", \"Not required\", COUNTRY_INFO!Y148)","v":0},{"$f":"IF(OR(COUNTRY_INFO!R148=\"Unknown\",COUNTRY_INFO!R148=\"Surveillance\",COUNTRY_INFO!R148=\"Not required\",COUNTRY_INFO!R148=0),0,IF($D148<>0, COUNTRY_INFO!R148,0))","v":0},{"$f":"IF(OR(COUNTRY_INFO!S148=\"Unknown\",COUNTRY_INFO!S148=\"Surveillance\",COUNTRY_INFO!S148=\"Not required\",COUNTRY_INFO!S148=0),0,IF($D148<>0, COUNTRY_INFO!S148,0))","v":0},{"$f":"IF(OR(COUNTRY_INFO!T148=\"Unknown\",COUNTRY_INFO!T148=\"Surveillance\",COUNTRY_INFO!T148=\"Not required\",COUNTRY_INFO!T148=0),0,IF($D148<>0, COUNTRY_INFO!T148,0))","v":0},0,null,null,null,null,null,{"$f":"IF($I148<>\"Yes\",$F148*2,($F148+ROUND(J148*$F148/SUM(COUNTRY_INFO!$E148:$G148),0))*2)","v":0},{"$f":"IF($I148<>\"Yes\",$G148*3,($G148+ROUND(J148*$G148/SUM(COUNTRY_INFO!$E148:$G148),0))*3)","v":0},0,null,0]
[{"$f":"IF(INTRO!$E$43=\"Non-endemic\",\" \", IF(COUNTRY_INFO!A149=0,\" \",COUNTRY_INFO!A149))","v":"Ghana"},{"$f":"IF(INTRO!$E$43=\"Non-endemic\",\" \", IF(COUNTRY_INFO!B149=0,\" \",COUNTRY_INFO!B149))","v":"Greater Accra"},{"$f":"IF(INTRO!$E$43=\"Non-endemic\",\" \", IF(COUNTRY_INFO!C149=0,\" \",COUNTRY_INFO!C149))","v":"Ga Central"},{"$f":"IF(INTRO!$E$43=\"Non-endemic\", \"Not required\", COUNTRY_INFO!Y149)","v":0},{"$f":"IF(OR(COUNTRY_INFO!R149=\"Unknown\",COUNTRY_INFO!R149=\"Surveillance\",COUNTRY_INFO!R149=\"Not required\",COUNTRY_INFO!R149=0),0,IF($D149<>0, COUNTRY_INFO!R149,0))","v":0},{"$f":"IF(OR(COUNTRY_INFO!S149=\"Unknown\",COUNTRY_INFO!S149=\"Surveillance\",COUNTRY_INFO!S149=\"Not required\",COUNTRY_INFO!S149=0),0,IF($D149<>0, COUNTRY_INFO!S149,0))","v":0},{"$f":"IF(OR(COUNTRY_INFO!T149=\"Unknown\",COUNTRY_INFO!T149=\"Surveillance\",COUNTRY_INFO!T149=\"Not required\",COUNTRY_INFO!T149=0),0,IF($D149<>0, COUNTRY_INFO!T149,0))","v":0},0,null,null,null,null,null,{"$f":"IF($I149<>\"Yes\",$F149*2,($F149+ROUND(J149*$F149/SUM(COUNTRY_INFO!$E149:$G149),0))*2)","v":0},{"$f":"IF($I149<>\"Yes\",$G149*3,($G149+ROUND(J149*$G149/SUM(COUNTRY_INFO!$E149:$G149),0))*3)","v":0},0,null,0]
[{"$f":"IF(INTRO!$E$43=\"Non-endemic\",\" \", IF(COUNTRY_INFO!A150=0,\" \",COUNTRY_INFO!A150))","v":"Ghana"},{"$f":"IF(INTRO!$E$43=\"Non-endemic\",\" \", IF(COUNTRY_INFO!B150=0,\" \",COUNTRY_INFO!B150))","v":"Greater Accra"},{"$f":"IF(INTRO!$E$43=\"Non-endemic\",\" \", IF(COUNTRY_INFO!C150=0,\" \",COUNTRY_INFO!C150))","v":"Ga East"},{"$f":"IF(INTRO!$E$43=\"Non-endemic\", \"Not required\", COUNTRY_INFO!Y150)","v":1},{"$f":"IF(OR(COUNTRY_INFO!R150=\"Unknown\",COUNTRY_INFO!R150=\"Surveillance\",COUNTRY_INFO!R150=\"Not required\",COUNTRY_INFO!R150=0),0,IF($D150<>0, COUNTRY_INFO!R150,0))","v":23042},{"$f":"IF(OR(COUNTRY_INFO!S150=\"Unknown\",COUNTRY_INFO!S150=\"Surveillance\",COUNTRY_INFO!S150=\"Not required\",COUNTRY_INFO!S150=0),0,IF($D150<>0, COUNTRY_INFO!S150,0))","v":72374},{"$f":"IF(OR(COUNTRY_INFO!T150=\"Unknown\",COUNTRY_INFO!T150=\"Surveillance\",COUNTRY_INFO!T150=\"Not required\",COUNTRY_INFO!T150=0),0,IF($D150<>0, COUNTRY_INFO!T150,0))","v":0},95416,null,null,1,"SAC",null,{"$f":"IF($I150<>\"Yes\",$F150*2,($F150+ROUND(J150*$F150/SUM(COUNTRY_INFO!$E150:$G150),0))*2)","v":144748},{"$f":"IF($I150<>\"Yes\",$G150*3,($G150+ROUND(J150*$G150/SUM(COUNTRY_INFO!$E150:$G150),0))*3)","v":0},144748,null,144748]
[{"$f":"IF(INTRO!$E$43=\"Non-endemic\",\" \", IF(COUNTRY_INFO!A151=0,\" \",COUNTRY_INFO!A151))","v":"Ghana"},{"$f":"IF(INTRO!$E$43=\"Non-endemic\",\" \", IF(COUNTRY_INFO!B151=0,\" \",COUNTRY_INFO!B151))","v":"Greater Accra"},{"$f":"IF(INTRO!$E$43=\"Non-endemic\",\" \", IF(COUNTRY_INFO!C151=0,\" \",COUNTRY_INFO!C151))","v":"Ga North"},{"$f":"IF(INTRO!$E$43=\"Non-endemic\", \"Not required\", COUNTRY_INFO!Y151)","v":1},{"$f":"IF(OR(COUNTRY_INFO!R151=\"Unknown\",COUNTRY_INFO!R151=\"Surveillance\",COUNTRY_INFO!R151=\"Not required\",COUNTRY_INFO!R151=0),0,IF($D151<>0, COUNTRY_INFO!R151,0))","v":19132},{"$f":"IF(OR(COUNTRY_INFO!S151=\"Unknown\",COUNTRY_INFO!S151=\"Surveillance\",COUNTRY_INFO!S151=\"Not required\",COUNTRY_INFO!S151=0),0,IF($D151<>0, COUNTRY_INFO!S151,0))","v":60093},{"$f":"IF(OR(COUNTRY_INFO!T151=\"Unknown\",COUNTRY_INFO!T151=\"Surveillance\",COUNTRY_INFO!T151=\"Not required\",COUNTRY_INFO!T151=0),0,IF($D151<>0, COUNTRY_INFO!T151,0))","v":12365},91590,null,null,1,"SAC",null,{"$f":"IF($I151<>\"Yes\",$F151*2,($F151+ROUND(J151*$F151/SUM(COUNTRY_INFO!$E151:$G151),0))*2)","v":120186},{"$f":"IF($I151<>\"Yes\",$G151*3,($G151+ROUND(J151*$G151/SUM(COUNTRY_INFO!$E151:$G151),0))*3)","v":37095},157281,null,157281]
[{"$f":"IF(INTRO!$E$43=\"Non-endemic\",\" \", IF(COUNTRY_INFO!A152=0,\" \",COUNTRY_INFO!A152))","v":"Ghana"},{"$f":"IF(INTRO!$E$43=\"Non-endemic\",\" \", IF(COUNTRY_INFO!B152=0,\" \",COUNTRY_INFO!B152))","v":"Greater Accra"},{"$f":"IF(INTRO!$E$43=\"Non-endemic\",\" \", IF(COUNTRY_INFO!C152=0,\" \",COUNTRY_INFO!C152))","v":"Ga South"},{"$f":"IF(INTRO!$E$43=\"Non-endemic\", \"Not required\", COUNTRY_INFO!Y152)","v":1},{"$f":"IF(OR(COUNTRY_INFO!R152=\"Unknown\",COUNTRY_INFO!R152=\"Surveillance\",COUNTRY_INFO!R152=\"Not required\",COUNTRY_INFO!R152=0),0,IF($D152<>0, COUNTRY_INFO!R152,0))","v":28469},{"$f":"IF(OR(COUNTRY_INFO!S152=\"Unknown\",COUNTRY_INFO!S152=\"Surveillance\",COUNTRY_INFO!S152=\"Not required\",COUNTRY_INFO!S152=0),0,IF($D152<>0, COUNTRY_INFO!S152,0))","v":32154},{"$f":"IF(OR(COUNTRY_INFO!T152=\"Unknown\",COUNTRY_INFO!T152=\"Surveillance\",COUNTRY_INFO!T152=\"Not required\",COUNTRY_INFO!T152=0),0,IF($D152<>0, COUNTRY_INFO!T152,0))","v":54562},115185,null,null,1,"SAC",null,{"$f":"IF($I152<>\"Yes\",$F152*2,($F152+ROUND(J152*$F152/SUM(COUNTRY_INFO!$E152:$G152),0))*2)","v":64308},{"$f":"IF($I152<>\"Yes\",$G152*3,($G152+ROUND(J152*$G152/SUM(COUNTRY_INFO!$E152:$G152),0))*3)","v":163686},227994,null,227994]
[{"$f":"IF(INTRO!$E$43=\"Non-endemic\",\" \", IF(COUNTRY_INFO!A153=0,\" \",COUNTRY_INFO!A153))","v":"Ghana"},{"$f":"IF(INTRO!$E$43=\"Non-endemic\",\" \", IF(COUNTRY_INFO!B153=0,\" \",COUNTRY_INFO!B153))","v":"Greater Accra"},{"$f":"IF(INTRO!$E$43=\"Non-endemic\",\" \", IF(COUNTRY_INFO!C153=0,\" \",COUNTRY_INFO!C153))","v":"Ga West"},{"$f":"IF(INTRO!$E$43=\"Non-endemic\", \"Not required\", COUNTRY_INFO!Y153)","v":1},{"$f":"IF(OR(COUNTRY_INFO!R153=\"Unknown\",COUNTRY_INFO!R153=\"Surveillance\",COUNTRY_INFO!R153=\"Not required\",COUNTRY_INFO!R153=0),0,IF($D153<>0, COUNTRY_INFO!R153,0))","v":25556},{"$f":"IF(OR(COUNTRY_INFO!S153=\"Unknown\",COUNTRY_INFO!S153=\"Surveillance\",COUNTRY_INFO!S153=\"Not required\",COUNTRY_INFO!S153=0),0,IF($D153<>0, COUNTRY_INFO!S153,0))","v":80271},{"$f":"IF(OR(COUNTRY_INFO!T153=\"Unknown\",COUNTRY_INFO!T153=\"Surveillance\",COUNTRY_INFO!T153=\"Not required\",COUNTRY_INFO!T153=0),0,IF($D153<>0, COUNTRY_INFO!T153,0))","v":0},105827,null,null,1,"SAC",null,{"$f":"IF($I153<>\"Yes\",$F153*2,($F153+ROUND(J153*$F153/SUM(COUNTRY_INFO!$E153:$G153),0))*2)","v":160542},{"$f":"IF($I153<>\"Yes\",$G153*3,($G153+ROUND(J153*$G153/SUM(COUNTRY_INFO!$E153:$G153),0))*3)","v":0},160542,null,160542]
[{"$f":"IF(INTRO!$E$43=\"Non-endemic\",\" \", IF(COUNTRY_INFO!A154=0,\" \",COUNTRY_INFO!A154))","v":"Ghana"},{"$f":"IF(INTRO!$E$43=\"Non-endemic\",\" \", IF(COUNTRY_INFO!B154=0,\" \",COUNTRY_INFO!B154))","v":"Greater Accra"},{"$f":"IF(INTRO!$E$43=\"Non-endemic\",\" \", IF(COUNTRY_INFO!C154=0,\" \",COUNTRY_INFO!C154))","v":"Korle-Klottey"},{"$f":"IF(INTRO!$E$43=\"Non-endemic\", \"Not required\", COUNTRY_INFO!Y154)","v":0},{"$f":"IF(OR(COUNTRY_INFO!R154=\"Unknown\",COUNTRY_INFO!R154=\"Surveillance\",COUNTRY_INFO!R154=\"Not required\",COUNTRY_INFO!R154=0),0,IF($D154<>0, COUNTRY_INFO!R154,0))","v":0},{"$f":"IF(OR(COUNTRY_INFO!S154=\"Unknown\",COUNTRY_INFO!S154=\"Surveillance\",COUNTRY_INFO!S154=\"Not required\",COUNTRY_INFO!S154=0),0,IF($D154<>0, COUNTRY_INFO!S154,0))","v":0},{"$f":"IF(OR(COUNTRY_INFO!T154=\"Unknown\",COUNTRY_INFO!T154=\"Surveillance\",COUNTRY_INFO!T154=\"Not required\",COUNTRY_INFO!T154=0),0,IF($D154<>0, COUNTRY_INFO!T154,0))","v":0},0,null,null,null,null,null,{"$f":"IF($I154<>\"Yes\",$F154*2,($F154+ROUND(J154*$F154/SUM(COUNTRY_INFO!$E154:$G154),0))*2)","v":0},{"$f":"IF($I154<>\"Yes\",$G154*3,($G154+ROUND(J154*$G154/SUM(COUNTRY_INFO!$E154:$G154),0))*3)","v":0},0,null,0]
[{"$f":"IF(INTRO!$E$43=\"Non-endemic\",\" \", IF(COUNTRY_INFO!A155=0,\" \",COUNTRY_INFO!A155))","v":"Ghana"},{"$f":"IF(INTRO!$E$43=\"Non-endemic\",\" \", IF(COUNTRY_INFO!B155=0,\" \",COUNTRY_INFO!B155))","v":"Greater Accra"},{"$f":"IF(INTRO!$E$43=\"Non-endemic\",\" \", IF(COUNTRY_INFO!C155=0,\" \",COUNTRY_INFO!C155))","v":"Kpone-Katamanso"},{"$f":"IF(INTRO!$E$43=\"Non-endemic\", \"Not required\", COUNTRY_INFO!Y155)","v":1},{"$f":"IF(OR(COUNTRY_INFO!R155=\"Unknown\",COUNTRY_INFO!R155=\"Surveillance\",COUNTRY_INFO!R155=\"Not required\",COUNTRY_INFO!R155=0),0,IF($D155<>0, COUNTRY_INFO!R155,0))","v":33934},{"$f":"IF(OR(COUNTRY_INFO!S155=\"Unknown\",COUNTRY_INFO!S155=\"Surveillance\",COUNTRY_INFO!S155=\"Not required\",COUNTRY_INFO!S155=0),0,IF($D155<>0, COUNTRY_INFO!S155,0))","v":106586},{"$f":"IF(OR(COUNTRY_INFO!T155=\"Unknown\",COUNTRY_INFO!T155=\"Surveillance\",COUNTRY_INFO!T155=\"Not required\",COUNTRY_INFO!T155=0),0,IF($D155<>0, COUNTRY_INFO!T155,0))","v":0},140520,null,null,1,"SAC",null,{"$f":"IF($I155<>\"Yes\",$F155*2,($F155+ROUND(J155*$F155/SUM(COUNTRY_INFO!$E155:$G155),0))*2)","v":213172},{"$f":"IF($I155<>\"Yes\",$G155*3,($G155+ROUND(J155*$G155/SUM(COUNTRY_INFO!$E155:$G155),0))*3)","v":0},213172,null,213172]
[{"$f":"IF(INTRO!$E$43=\"Non-endemic\",\" \", IF(COUNTRY_INFO!A156=0,\" \",COUNTRY_INFO!A156))","v":"Ghana"},{"$f":"IF(INTRO!$E$43=\"Non-endemic\",\" \", IF(COUNTRY_INFO!B156=0,\" \",COUNTRY_INFO!B156))","v":"Greater Accra"},{"$f":"IF(INTRO!$E$43=\"Non-endemic\",\" \", IF(COUNTRY_INFO!C156=0,\" \",COUNTRY_INFO!C156))","v":"Krowor"},{"$f":"IF(INTRO!$E$43=\"Non-endemic\", \"Not required\", COUNTRY_INFO!Y156)","v":0},{"$f":"IF(OR(COUNTRY_INFO!R156=\"Unknown\",COUNTRY_INFO!R156=\"Surveillance\",COUNTRY_INFO!R156=\"Not required\",COUNTRY_INFO!R156=0),0,IF($D156<>0, COUNTRY_INFO!R156,0))","v":0},{"$f":"IF(OR(COUNTRY_INFO!S156=\"Unknown\",COUNTRY_INFO!S156=\"Surveillance\",COUNTRY_INFO!S156=\"Not required\",COUNTRY_INFO!S156=0),0,IF($D156<>0, COUNTRY_INFO!S156,0))","v":0},{"$f":"IF(OR(COUNTRY_INFO!T156=\"Unknown\",COUNTRY_INFO!T156=\"Surveillance\",COUNTRY_INFO!T156=\"Not required\",COUNTRY_INFO!T156=0),0,IF($D156<>0, COUNTRY_INFO!T156,0))","v":0},0,null,null,null,null,null,{"$f":"IF($I156<>\"Yes\",$F156*2,($F156+ROUND(J156*$F156/SUM(COUNTRY_INFO!$E156:$G156),0))*2)","v":0},{"$f":"IF($I156<>\"Yes\",$G156*3,($G156+ROUND(J156*$G156/SUM(COUNTRY_INFO!$E156:$G156),0))*3)","v":0},0,null,0]
[{"$f":"IF(INTRO!$E$43=\"Non-endemic\",\" \", IF(COUNTRY_INFO!A157=0,\" \",COUNTRY_INFO!A157))","v":"Ghana"},{"$f":"IF(INTRO!$E$43=\"Non-endemic\",\" \", IF(COUNTRY_INFO!B157=0,\" \",COUNTRY_INFO!B157))","v":"Greater Accra"},{"$f":"IF(INTRO!$E$43=\"Non-endemic\",\" \", IF(COUNTRY_INFO!C157=0,\" \",COUNTRY_INFO!C157))","v":"La-Dade-Kotopon"},{"$f":"IF(INTRO!$E$43=\"Non-endemic\", \"Not required\", COUNTRY_INFO!Y157)","v":0},{"$f":"IF(OR(COUNTRY_INFO!R157=\"Unknown\",COUNTRY_INFO!R157=\"Surveillance\",COUNTRY_INFO!R157=\"Not required\",COUNTRY_INFO!R157=0),0,IF($D157<>0, COUNTRY_INFO!R157,0))","v":0},{"$f":"IF(OR(COUNTRY_INFO!S157=\"Unknown\",COUNTRY_INFO!S157=\"Surveillance\",COUNTRY_INFO!S157=\"Not required\",COUNTRY_INFO!S157=0),0,IF($D157<>0, COUNTRY_INFO!S157,0))","v":0},{"$f":"IF(OR(COUNTRY_INFO!T157=\"Unknown\",COUNTRY_INFO!T157=\"Surveillance\",COUNTRY_INFO!T157=\"Not required\",COUNTRY_INFO!T157=0),0,IF($D157<>0, COUNTRY_INFO!T157,0))","v":0},0,null,null,null,null,null,{"$f":"IF($I157<>\"Yes\",$F157*2,($F157+ROUND(J157*$F157/SUM(COUNTRY_INFO!$E157:$G157),0))*2)","v":0},{"$f":"IF($I157<>\"Yes\",$G157*3,($G157+ROUND(J157*$G157/SUM(COUNTRY_INFO!$E157:$G157),0))*3)","v":0},0,null,0]
[{"$f":"IF(INTRO!$E$43=\"Non-endemic\",\" \", IF(COUNTRY_INFO!A158=0,\" \",COUNTRY_INFO!A158))","v":"Ghana"},{"$f":"IF(INTRO!$E$43=\"Non-endemic\",\" \", IF(COUNTRY_INFO!B158=0,\" \",COUNTRY_INFO!B158))","v":"Greater Accra"},{"$f":"IF(INTRO!$E$43=\"Non-endemic\",\" \", IF(COUNTRY_INFO!C158=0,\" \",COUNTRY_INFO!C158))","v":"La-Nkwantanang-Madina"},{"$f":"IF(INTRO!$E$43=\"Non-endemic\", \"Not required\", COUNTRY_INFO!Y158)","v":1},{"$f":"IF(OR(COUNTRY_INFO!R158=\"Unknown\",COUNTRY_INFO!R158=\"Surveillance\",COUNTRY_INFO!R158=\"Not required\",COUNTRY_INFO!R158=0),0,IF($D158<>0, COUNTRY_INFO!R158,0))","v":19895},{"$f":"IF(OR(COUNTRY_INFO!S158=\"Unknown\",COUNTRY_INFO!S158=\"Surveillance\",COUNTRY_INFO!S158=\"Not required\",COUNTRY_INFO!S158=0),0,IF($D158<>0, COUNTRY_INFO!S158,0))","v":62490},{"$f":"IF(OR(COUNTRY_INFO!T158=\"Unknown\",COUNTRY_INFO!T158=\"Surveillance\",COUNTRY_INFO!T158=\"Not required\",COUNTRY_INFO!T158=0),0,IF($D158<>0, COUNTRY_INFO!T158,0))","v":0},82385,null,null,1,"SAC",null,{"$f":"IF($I158<>\"Yes\",$F158*2,($F158+ROUND(J158*$F158/SUM(COUNTRY_INFO!$E158:$G158),0))*2)","v":124980},{"$f":"IF($I158<>\"Yes\",$G158*3,($G158+ROUND(J158*$G158/SUM(COUNTRY_INFO!$E158:$G158),0))*3)","v":0},124980,null,124980]
[{"$f":"IF(INTRO!$E$43=\"Non-endemic\",\" \", IF(COUNTRY_INFO!A159=0,\" \",COUNTRY_INFO!A159))","v":"Ghana"},{"$f":"IF(INTRO!$E$43=\"Non-endemic\",\" \", IF(COUNTRY_INFO!B159=0,\" \",COUNTRY_INFO!B159))","v":"Greater Accra"},{"$f":"IF(INTRO!$E$43=\"Non-endemic\",\" \", IF(COUNTRY_INFO!C159=0,\" \",COUNTRY_INFO!C159))","v":"Ledzokuku"},{"$f":"IF(INTRO!$E$43=\"Non-endemic\", \"Not required\", COUNTRY_INFO!Y159)","v":0},{"$f":"IF(OR(COUNTRY_INFO!R159=\"Unknown\",COUNTRY_INFO!R159=\"Surveillance\",COUNTRY_INFO!R159=\"Not required\",COUNTRY_INFO!R159=0),0,IF($D159<>0, COUNTRY_INFO!R159,0))","v":0},{"$f":"IF(OR(COUNTRY_INFO!S159=\"Unknown\",COUNTRY_INFO!S159=\"Surveillance\",COUNTRY_INFO!S159=\"Not required\",COUNTRY_INFO!S159=0),0,IF($D159<>0, COUNTRY_INFO!S159,0))","v":0},{"$f":"IF(OR(COUNTRY_INFO!T159=\"Unknown\",COUNTRY_INFO!T159=\"Surveillance\",COUNTRY_INFO!T159=\"Not required\",COUNTRY_INFO!T159=0),0,IF($D159<>0, COUNTRY_INFO!T159,0))","v":0},0,null,null,null,null,null,{"$f":"IF($I159<>\"Yes\",$F159*2,($F159+ROUND(J159*$F159/SUM(COUNTRY_INFO!$E159:$G159),0))*2)","v":0},{"$f":"IF($I159<>\"Yes\",$G159*3,($G159+ROUND(J159*$G159/SUM(COUNTRY_INFO!$E159:$G159),0))*3)","v":0},0,null,0]
[{"$f":"IF(INTRO!$E$43=\"Non-endemic\",\" \", IF(COUNTRY_INFO!A160=0,\" \",COUNTRY_INFO!A160))","v":"Ghana"},{"$f":"IF(INTRO!$E$43=\"Non-endemic\",\" \", IF(COUNTRY_INFO!B160=0,\" \",COUNTRY_INFO!B160))","v":"Greater Accra"},{"$f":"IF(INTRO!$E$43=\"Non-endemic\",\" \", IF(COUNTRY_INFO!C160=0,\" \",COUNTRY_INFO!C160))","v":"Ningo Prampram"},{"$f":"IF(INTRO!$E$43=\"Non-endemic\", \"Not required\", COUNTRY_INFO!Y160)","v":1},{"$f":"IF(OR(COUNTRY_INFO!R160=\"Unknown\",COUNTRY_INFO!R160=\"Surveillance\",COUNTRY_INFO!R160=\"Not required\",COUNTRY_INFO!R160=0),0,IF($D160<>0, COUNTRY_INFO!R160,0))","v":16642},{"$f":"IF(OR(COUNTRY_INFO!S160=\"Unknown\",COUNTRY_INFO!S160=\"Surveillance\",COUNTRY_INFO!S160=\"Not required\",COUNTRY_INFO!S160=0),0,IF($D160<>0, COUNTRY_INFO!S160,0))","v":52273},{"$f":"IF(OR(COUNTRY_INFO!T160=\"Unknown\",COUNTRY_INFO!T160=\"Surveillance\",COUNTRY_INFO!T160=\"Not required\",COUNTRY_INFO!T160=0),0,IF($D160<>0, COUNTRY_INFO!T160,0))","v":0},68915,null,null,1,"SAC",null,{"$f":"IF($I160<>\"Yes\",$F160*2,($F160+ROUND(J160*$F160/SUM(COUNTRY_INFO!$E160:$G160),0))*2)","v":104546},{"$f":"IF($I160<>\"Yes\",$G160*3,($G160+ROUND(J160*$G160/SUM(COUNTRY_INFO!$E160:$G160),0))*3)","v":0},104546,null,104546]
[{"$f":"IF(INTRO!$E$43=\"Non-endemic\",\" \", IF(COUNTRY_INFO!A161=0,\" \",COUNTRY_INFO!A161))","v":"Ghana"},{"$f":"IF(INTRO!$E$43=\"Non-endemic\",\" \", IF(COUNTRY_INFO!B161=0,\" \",COUNTRY_INFO!B161))","v":"Greater Accra"},{"$f":"IF(INTRO!$E$43=\"Non-endemic\",\" \", IF(COUNTRY_INFO!C161=0,\" \",COUNTRY_INFO!C161))","v":"Okai Koi North"},{"$f":"IF(INTRO!$E$43=\"Non-endemic\", \"Not required\", COUNTRY_INFO!Y161)","v":0},{"$f":"IF(OR(COUNTRY_INFO!R161=\"Unknown\",COUNTRY_INFO!R161=\"Surveillance\",COUNTRY_INFO!R161=\"Not required\",COUNTRY_INFO!R161=0),0,IF($D161<>0, COUNTRY_INFO!R161,0))","v":0},{"$f":"IF(OR(COUNTRY_INFO!S161=\"Unknown\",COUNTRY_INFO!S161=\"Surveillance\",COUNTRY_INFO!S161=\"Not required\",COUNTRY_INFO!S161=0),0,IF($D161<>0, COUNTRY_INFO!S161,0))","v":0},{"$f":"IF(OR(COUNTRY_INFO!T161=\"Unknown\",COUNTRY_INFO!T161=\"Surveillance\",COUNTRY_INFO!T161=\"Not required\",COUNTRY_INFO!T161=0),0,IF($D161<>0, COUNTRY_INFO!T161,0))","v":0},0,null,null,null,null,null,{"$f":"IF($I161<>\"Yes\",$F161*2,($F161+ROUND(J161*$F161/SUM(COUNTRY_INFO!$E161:$G161),0))*2)","v":0},{"$f":"IF($I161<>\"Yes\",$G161*3,($G161+ROUND(J161*$G161/SUM(COUNTRY_INFO!$E161:$G161),0))*3)","v":0},0,null,0]
[{"$f":"IF(INTRO!$E$43=\"Non-endemic\",\" \", IF(COUNTRY_INFO!A162=0,\" \",COUNTRY_INFO!A162))","v":"Ghana"},{"$f":"IF(INTRO!$E$43=\"Non-endemic\",\" \", IF(COUNTRY_INFO!B162=0,\" \",COUNTRY_INFO!B162))","v":"Greater Accra"},{"$f":"IF(INTRO!$E$43=\"Non-endemic\",\" \", IF(COUNTRY_INFO!C162=0,\" \",COUNTRY_INFO!C162))","v":"Shai-Osudoku"},{"$f":"IF(INTRO!$E$43=\"Non-endemic\", \"Not required\", COUNTRY_INFO!Y162)","v":0},{"$f":"IF(OR(COUNTRY_INFO!R162=\"Unknown\",COUNTRY_INFO!R162=\"Surveillance\",COUNTRY_INFO!R162=\"Not required\",COUNTRY_INFO!R162=0),0,IF($D162<>0, COUNTRY_INFO!R162,0))","v":0},{"$f":"IF(OR(COUNTRY_INFO!S162=\"Unknown\",COUNTRY_INFO!S162=\"Surveillance\",COUNTRY_INFO!S162=\"Not required\",COUNTRY_INFO!S162=0),0,IF($D162<>0, COUNTRY_INFO!S162,0))","v":0},{"$f":"IF(OR(COUNTRY_INFO!T162=\"Unknown\",COUNTRY_INFO!T162=\"Surveillance\",COUNTRY_INFO!T162=\"Not required\",COUNTRY_INFO!T162=0),0,IF($D162<>0, COUNTRY_INFO!T162,0))","v":0},0,null,null,null,null,null,{"$f":"IF($I162<>\"Yes\",$F162*2,($F162+ROUND(J162*$F162/SUM(COUNTRY_INFO!$E162:$G162),0))*2)","v":0},{"$f":"IF($I162<>\"Yes\",$G162*3,($G162+ROUND(J162*$G162/SUM(COUNTRY_INFO!$E162:$G162),0))*3)","v":0},0,null,0]
[{"$f":"IF(INTRO!$E$43=\"Non-endemic\",\" \", IF(COUNTRY_INFO!A163=0,\" \",COUNTRY_INFO!A163))","v":"Ghana"},{"$f":"IF(INTRO!$E$43=\"Non-endemic\",\" \", IF(COUNTRY_INFO!B163=0,\" \",COUNTRY_INFO!B163))","v":"Greater Accra"},{"$f":"IF(INTRO!$E$43=\"Non-endemic\",\" \", IF(COUNTRY_INFO!C163=0,\" \",COUNTRY_INFO!C163))","v":"Tema"},{"$f":"IF(INTRO!$E$43=\"Non-endemic\", \"Not required\", COUNTRY_INFO!Y163)","v":0},{"$f":"IF(OR(COUNTRY_INFO!R163=\"Unknown\",COUNTRY_INFO!R163=\"Surveillance\",COUNTRY_INFO!R163=\"Not required\",COUNTRY_INFO!R163=0),0,IF($D163<>0, COUNTRY_INFO!R163,0))","v":0},{"$f":"IF(OR(COUNTRY_INFO!S163=\"Unknown\",COUNTRY_INFO!S163=\"Surveillance\",COUNTRY_INFO!S163=\"Not required\",COUNTRY_INFO!S163=0),0,IF($D163<>0, COUNTRY_INFO!S163,0))","v":0},{"$f":"IF(OR(COUNTRY_INFO!T163=\"Unknown\",COUNTRY_INFO!T163=\"Surveillance\",COUNTRY_INFO!T163=\"Not required\",COUNTRY_INFO!T163=0),0,IF($D163<>0, COUNTRY_INFO!T163,0))","v":0},0,null,null,null,null,null,{"$f":"IF($I163<>\"Yes\",$F163*2,($F163+ROUND(J163*$F163/SUM(COUNTRY_INFO!$E163:$G163),0))*2)","v":0},{"$f":"IF($I163<>\"Yes\",$G163*3,($G163+ROUND(J163*$G163/SUM(COUNTRY_INFO!$E163:$G163),0))*3)","v":0},0,null,0]
[{"$f":"IF(INTRO!$E$43=\"Non-endemic\",\" \", IF(COUNTRY_INFO!A164=0,\" \",COUNTRY_INFO!A164))","v":"Ghana"},{"$f":"IF(INTRO!$E$43=\"Non-endemic\",\" \", IF(COUNTRY_INFO!B164=0,\" \",COUNTRY_INFO!B164))","v":"Greater Accra"},{"$f":"IF(INTRO!$E$43=\"Non-endemic\",\" \", IF(COUNTRY_INFO!C164=0,\" \",COUNTRY_INFO!C164))","v":"Tema West"},{"$f":"IF(INTRO!$E$43=\"Non-endemic\", \"Not required\", COUNTRY_INFO!Y164)","v":1},{"$f":"IF(OR(COUNTRY_INFO!R164=\"Unknown\",COUNTRY_INFO!R164=\"Surveillance\",COUNTRY_INFO!R164=\"Not required\",COUNTRY_INFO!R164=0),0,IF($D164<>0, COUNTRY_INFO!R164,0))","v":15955},{"$f":"IF(OR(COUNTRY_INFO!S164=\"Unknown\",COUNTRY_INFO!S164=\"Surveillance\",COUNTRY_INFO!S164=\"Not required\",COUNTRY_INFO!S164=0),0,IF($D164<>0, COUNTRY_INFO!S164,0))","v":0},{"$f":"IF(OR(COUNTRY_INFO!T164=\"Unknown\",COUNTRY_INFO!T164=\"Surveillance\",COUNTRY_INFO!T164=\"Not required\",COUNTRY_INFO!T164=0),0,IF($D164<>0, COUNTRY_INFO!T164,0))","v":0},15955,null,null,1,"SAC",null,{"$f":"IF($I164<>\"Yes\",$F164*2,($F164+ROUND(J164*$F164/SUM(COUNTRY_INFO!$E164:$G164),0))*2)","v":0},{"$f":"IF($I164<>\"Yes\",$G164*3,($G164+ROUND(J164*$G164/SUM(COUNTRY_INFO!$E164:$G164),0))*3)","v":0},0,null,0]
[{"$f":"IF(INTRO!$E$43=\"Non-endemic\",\" \", IF(COUNTRY_INFO!A165=0,\" \",COUNTRY_INFO!A165))","v":"Ghana"},{"$f":"IF(INTRO!$E$43=\"Non-endemic\",\" \", IF(COUNTRY_INFO!B165=0,\" \",COUNTRY_INFO!B165))","v":"Greater Accra"},{"$f":"IF(INTRO!$E$43=\"Non-endemic\",\" \", IF(COUNTRY_INFO!C165=0,\" \",COUNTRY_INFO!C165))","v":"Weija-Gbawe"},{"$f":"IF(INTRO!$E$43=\"Non-endemic\", \"Not required\", COUNTRY_INFO!Y165)","v":1},{"$f":"IF(OR(COUNTRY_INFO!R165=\"Unknown\",COUNTRY_INFO!R165=\"Surveillance\",COUNTRY_INFO!R165=\"Not required\",COUNTRY_INFO!R165=0),0,IF($D165<>0, COUNTRY_INFO!R165,0))","v":17374},{"$f":"IF(OR(COUNTRY_INFO!S165=\"Unknown\",COUNTRY_INFO!S165=\"Surveillance\",COUNTRY_INFO!S165=\"Not required\",COUNTRY_INFO!S165=0),0,IF($D165<>0, COUNTRY_INFO!S165,0))","v":54572},{"$f":"IF(OR(COUNTRY_INFO!T165=\"Unknown\",COUNTRY_INFO!T165=\"Surveillance\",COUNTRY_INFO!T165=\"Not required\",COUNTRY_INFO!T165=0),0,IF($D165<>0, COUNTRY_INFO!T165,0))","v":24513},96459,null,null,1,"SAC",null,{"$f":"IF($I165<>\"Yes\",$F165*2,($F165+ROUND(J165*$F165/SUM(COUNTRY_INFO!$E165:$G165),0))*2)","v":109144},{"$f":"IF($I165<>\"Yes\",$G165*3,($G165+ROUND(J165*$G165/SUM(COUNTRY_INFO!$E165:$G165),0))*3)","v":73539},182683,null,182683]
[{"$f":"IF(INTRO!$E$43=\"Non-endemic\",\" \", IF(COUNTRY_INFO!A166=0,\" \",COUNTRY_INFO!A166))","v":"Ghana"},{"$f":"IF(INTRO!$E$43=\"Non-endemic\",\" \", IF(COUNTRY_INFO!B166=0,\" \",COUNTRY_INFO!B166))","v":"North East"},{"$f":"IF(INTRO!$E$43=\"Non-endemic\",\" \", IF(COUNTRY_INFO!C166=0,\" \",COUNTRY_INFO!C166))","v":"Bunkpurugu -Nakpanduri"},{"$f":"IF(INTRO!$E$43=\"Non-endemic\", \"Not required\", COUNTRY_INFO!Y166)","v":0},{"$f":"IF(OR(COUNTRY_INFO!R166=\"Unknown\",COUNTRY_INFO!R166=\"Surveillance\",COUNTRY_INFO!R166=\"Not required\",COUNTRY_INFO!R166=0),0,IF($D166<>0, COUNTRY_INFO!R166,0))","v":0},{"$f":"IF(OR(COUNTRY_INFO!S166=\"Unknown\",COUNTRY_INFO!S166=\"Surveillance\",COUNTRY_INFO!S166=\"Not required\",COUNTRY_INFO!S166=0),0,IF($D166<>0, COUNTRY_INFO!S166,0))","v":0},{"$f":"IF(OR(COUNTRY_INFO!T166=\"Unknown\",COUNTRY_INFO!T166=\"Surveillance\",COUNTRY_INFO!T166=\"Not required\",COUNTRY_INFO!T166=0),0,IF($D166<>0, COUNTRY_INFO!T166,0))","v":0},0,null,null,null,null,null,{"$f":"IF($I166<>\"Yes\",$F166*2,($F166+ROUND(J166*$F166/SUM(COUNTRY_INFO!$E166:$G166),0))*2)","v":0},{"$f":"IF($I166<>\"Yes\",$G166*3,($G166+ROUND(J166*$G166/SUM(COUNTRY_INFO!$E166:$G166),0))*3)","v":0},0,null,0]
[{"$f":"IF(INTRO!$E$43=\"Non-endemic\",\" \", IF(COUNTRY_INFO!A167=0,\" \",COUNTRY_INFO!A167))","v":"Ghana"},{"$f":"IF(INTRO!$E$43=\"Non-endemic\",\" \", IF(COUNTRY_INFO!B167=0,\" \",COUNTRY_INFO!B167))","v":"North East"},{"$f":"IF(INTRO!$E$43=\"Non-endemic\",\" \", IF(COUNTRY_INFO!C167=0,\" \",COUNTRY_INFO!C167))","v":"Chereponi"},{"$f":"IF(INTRO!$E$43=\"Non-endemic\", \"Not required\", COUNTRY_INFO!Y167)","v":0},{"$f":"IF(OR(COUNTRY_INFO!R167=\"Unknown\",COUNTRY_INFO!R167=\"Surveillance\",COUNTRY_INFO!R167=\"Not required\",COUNTRY_INFO!R167=0),0,IF($D167<>0, COUNTRY_INFO!R167,0))","v":0},{"$f":"IF(OR(COUNTRY_INFO!S167=\"Unknown\",COUNTRY_INFO!S167=\"Surveillance\",COUNTRY_INFO!S167=\"Not required\",COUNTRY_INFO!S167=0),0,IF($D167<>0, COUNTRY_INFO!S167,0))","v":0},{"$f":"IF(OR(COUNTRY_INFO!T167=\"Unknown\",COUNTRY_INFO!T167=\"Surveillance\",COUNTRY_INFO!T167=\"Not required\",COUNTRY_INFO!T167=0),0,IF($D167<>0, COUNTRY_INFO!T167,0))","v":0},0,null,null,null,null,null,{"$f":"IF($I167<>\"Yes\",$F167*2,($F167+ROUND(J167*$F167/SUM(COUNTRY_INFO!$E167:$G167),0))*2)","v":0},{"$f":"IF($I167<>\"Yes\",$G167*3,($G167+ROUND(J167*$G167/SUM(COUNTRY_INFO!$E167:$G167),0))*3)","v":0},0,null,0]
[{"$f":"IF(INTRO!$E$43=\"Non-endemic\",\" \", IF(COUNTRY_INFO!A168=0,\" \",COUNTRY_INFO!A168))","v":"Ghana"},{"$f":"IF(INTRO!$E$43=\"Non-endemic\",\" \", IF(COUNTRY_INFO!B168=0,\" \",COUNTRY_INFO!B168))","v":"North East"},{"$f":"IF(INTRO!$E$43=\"Non-endemic\",\" \", IF(COUNTRY_INFO!C168=0,\" \",COUNTRY_INFO!C168))","v":"East Mamprusi"},{"$f":"IF(INTRO!$E$43=\"Non-endemic\", \"Not required\", COUNTRY_INFO!Y168)","v":0},{"$f":"IF(OR(COUNTRY_INFO!R168=\"Unknown\",COUNTRY_INFO!R168=\"Surveillance\",COUNTRY_INFO!R168=\"Not required\",COUNTRY_INFO!R168=0),0,IF($D168<>0, COUNTRY_INFO!R168,0))","v":0},{"$f":"IF(OR(COUNTRY_INFO!S168=\"Unknown\",COUNTRY_INFO!S168=\"Surveillance\",COUNTRY_INFO!S168=\"Not required\",COUNTRY_INFO!S168=0),0,IF($D168<>0, COUNTRY_INFO!S168,0))","v":0},{"$f":"IF(OR(COUNTRY_INFO!T168=\"Unknown\",COUNTRY_INFO!T168=\"Surveillance\",COUNTRY_INFO!T168=\"Not required\",COUNTRY_INFO!T168=0),0,IF($D168<>0, COUNTRY_INFO!T168,0))","v":0},0,null,null,null,null,null,{"$f":"IF($I168<>\"Yes\",$F168*2,($F168+ROUND(J168*$F168/SUM(COUNTRY_INFO!$E168:$G168),0))*2)","v":0},{"$f":"IF($I168<>\"Yes\",$G168*3,($G168+ROUND(J168*$G168/SUM(COUNTRY_INFO!$E168:$G168),0))*3)","v":0},0,null,0]
[{"$f":"IF(INTRO!$E$43=\"Non-endemic\",\" \", IF(COUNTRY_INFO!A169=0,\" \",COUNTRY_INFO!A169))","v":"Ghana"},{"$f":"IF(INTRO!$E$43=\"Non-endemic\",\" \", IF(COUNTRY_INFO!B169=0,\" \",COUNTRY_INFO!B169))","v":"North East"},{"$f":"IF(INTRO!$E$43=\"Non-endemic\",\" \", IF(COUNTRY_INFO!C169=0,\" \",COUNTRY_INFO!C169))","v":"Mamprugu-Moagduri"},{"$f":"IF(INTRO!$E$43=\"Non-endemic\", \"Not required\", COUNTRY_INFO!Y169)","v":1},{"$f":"IF(OR(COUNTRY_INFO!R169=\"Unknown\",COUNTRY_INFO!R169=\"Surveillance\",COUNTRY_INFO!R169=\"Not required\",COUNTRY_INFO!R169=0),0,IF($D169<>0, COUNTRY_INFO!R169,0))","v":5590},{"$f":"IF(OR(COUNTRY_INFO!S169=\"Unknown\",COUNTRY_INFO!S169=\"Surveillance\",COUNTRY_INFO!S169=\"Not required\",COUNTRY_INFO!S169=0),0,IF($D169<>0, COUNTRY_INFO!S169,0))","v":17558},{"$f":"IF(OR(COUNTRY_INFO!T169=\"Unknown\",COUNTRY_INFO!T169=\"Surveillance\",COUNTRY_INFO!T169=\"Not required\",COUNTRY_INFO!T169=0),0,IF($D169<>0, COUNTRY_INFO!T169,0))","v":0},23148,null,null,1,"SAC",null,{"$f":"IF($I169<>\"Yes\",$F169*2,($F169+ROUND(J169*$F169/SUM(COUNTRY_INFO!$E169:$G169),0))*2)","v":35116},{"$f":"IF($I169<>\"Yes\",$G169*3,($G169+ROUND(J169*$G169/SUM(COUNTRY_INFO!$E169:$G169),0))*3)","v":0},35116,null,35116]
[{"$f":"IF(INTRO!$E$43=\"Non-endemic\",\" \", IF(COUNTRY_INFO!A170=0,\" \",COUNTRY_INFO!A170))","v":"Ghana"},{"$f":"IF(INTRO!$E$43=\"Non-endemic\",\" \", IF(COUNTRY_INFO!B170=0,\" \",COUNTRY_INFO!B170))","v":"North East"},{"$f":"IF(INTRO!$E$43=\"Non-endemic\",\" \", IF(COUNTRY_INFO!C170=0,\" \",COUNTRY_INFO!C170))","v":"West Mamprusi"},{"$f":"IF(INTRO!$E$43=\"Non-endemic\", \"Not required\", COUNTRY_INFO!Y170)","v":1},{"$f":"IF(OR(COUNTRY_INFO!R170=\"Unknown\",COUNTRY_INFO!R170=\"Surveillance\",COUNTRY_INFO!R170=\"Not required\",COUNTRY_INFO!R170=0),0,IF($D170<>0, COUNTRY_INFO!R170,0))","v":14291},{"$f":"IF(OR(COUNTRY_INFO!S170=\"Unknown\",COUNTRY_INFO!S170=\"Surveillance\",COUNTRY_INFO!S170=\"Not required\",COUNTRY_INFO!S170=0),0,IF($D170<>0, COUNTRY_INFO!S170,0))","v":44888},{"$f":"IF(OR(COUNTRY_INFO!T170=\"Unknown\",COUNTRY_INFO!T170=\"Surveillance\",COUNTRY_INFO!T170=\"Not required\",COUNTRY_INFO!T170=0),0,IF($D170<>0, COUNTRY_INFO!T170,0))","v":0},59179,null,null,1,"SAC",null,{"$f":"IF($I170<>\"Yes\",$F170*2,($F170+ROUND(J170*$F170/SUM(COUNTRY_INFO!$E170:$G170),0))*2)","v":89776},{"$f":"IF($I170<>\"Yes\",$G170*3,($G170+ROUND(J170*$G170/SUM(COUNTRY_INFO!$E170:$G170),0))*3)","v":0},89776,null,89776]
[{"$f":"IF(INTRO!$E$43=\"Non-endemic\",\" \", IF(COUNTRY_INFO!A171=0,\" \",COUNTRY_INFO!A171))","v":"Ghana"},{"$f":"IF(INTRO!$E$43=\"Non-endemic\",\" \", IF(COUNTRY_INFO!B171=0,\" \",COUNTRY_INFO!B171))","v":"North East"},{"$f":"IF(INTRO!$E$43=\"Non-endemic\",\" \", IF(COUNTRY_INFO!C171=0,\" \",COUNTRY_INFO!C171))","v":"Yunyoo-Nasuan"},{"$f":"IF(INTRO!$E$43=\"Non-endemic\", \"Not required\", COUNTRY_INFO!Y171)","v":0},{"$f":"IF(OR(COUNTRY_INFO!R171=\"Unknown\",COUNTRY_INFO!R171=\"Surveillance\",COUNTRY_INFO!R171=\"Not required\",COUNTRY_INFO!R171=0),0,IF($D171<>0, COUNTRY_INFO!R171,0))","v":0},{"$f":"IF(OR(COUNTRY_INFO!S171=\"Unknown\",COUNTRY_INFO!S171=\"Surveillance\",COUNTRY_INFO!S171=\"Not required\",COUNTRY_INFO!S171=0),0,IF($D171<>0, COUNTRY_INFO!S171,0))","v":0},{"$f":"IF(OR(COUNTRY_INFO!T171=\"Unknown\",COUNTRY_INFO!T171=\"Surveillance\",COUNTRY_INFO!T171=\"Not required\",COUNTRY_INFO!T171=0),0,IF($D171<>0, COUNTRY_INFO!T171,0))","v":0},0,null,null,null,null,null,{"$f":"IF($I171<>\"Yes\",$F171*2,($F171+ROUND(J171*$F171/SUM(COUNTRY_INFO!$E171:$G171),0))*2)","v":0},{"$f":"IF($I171<>\"Yes\",$G171*3,($G171+ROUND(J171*$G171/SUM(COUNTRY_INFO!$E171:$G171),0))*3)","v":0},0,null,0]
[{"$f":"IF(INTRO!$E$43=\"Non-endemic\",\" \", IF(COUNTRY_INFO!A172=0,\" \",COUNTRY_INFO!A172))","v":"Ghana"},{"$f":"IF(INTRO!$E$43=\"Non-endemic\",\" \", IF(COUNTRY_INFO!B172=0,\" \",COUNTRY_INFO!B172))","v":"Northern"},{"$f":"IF(INTRO!$E$43=\"Non-endemic\",\" \", IF(COUNTRY_INFO!C172=0,\" \",COUNTRY_INFO!C172))","v":"Gushiegu"},{"$f":"IF(INTRO!$E$43=\"Non-endemic\", \"Not required\", COUNTRY_INFO!Y172)","v":0},{"$f":"IF(OR(COUNTRY_INFO!R172=\"Unknown\",COUNTRY_INFO!R172=\"Surveillance\",COUNTRY_INFO!R172=\"Not required\",COUNTRY_INFO!R172=0),0,IF($D172<>0, COUNTRY_INFO!R172,0))","v":0},{"$f":"IF(OR(COUNTRY_INFO!S172=\"Unknown\",COUNTRY_INFO!S172=\"Surveillance\",COUNTRY_INFO!S172=\"Not required\",COUNTRY_INFO!S172=0),0,IF($D172<>0, COUNTRY_INFO!S172,0))","v":0},{"$f":"IF(OR(COUNTRY_INFO!T172=\"Unknown\",COUNTRY_INFO!T172=\"Surveillance\",COUNTRY_INFO!T172=\"Not required\",COUNTRY_INFO!T172=0),0,IF($D172<>0, COUNTRY_INFO!T172,0))","v":0},0,null,null,null,null,null,{"$f":"IF($I172<>\"Yes\",$F172*2,($F172+ROUND(J172*$F172/SUM(COUNTRY_INFO!$E172:$G172),0))*2)","v":0},{"$f":"IF($I172<>\"Yes\",$G172*3,($G172+ROUND(J172*$G172/SUM(COUNTRY_INFO!$E172:$G172),0))*3)","v":0},0,null,0]
[{"$f":"IF(INTRO!$E$43=\"Non-endemic\",\" \", IF(COUNTRY_INFO!A173=0,\" \",COUNTRY_INFO!A173))","v":"Ghana"},{"$f":"IF(INTRO!$E$43=\"Non-endemic\",\" \", IF(COUNTRY_INFO!B173=0,\" \",COUNTRY_INFO!B173))","v":"Northern"},{"$f":"IF(INTRO!$E$43=\"Non-endemic\",\" \", IF(COUNTRY_INFO!C173=0,\" \",COUNTRY_INFO!C173))","v":"Karaga"},{"$f":"IF(INTRO!$E$43=\"Non-endemic\", \"Not required\", COUNTRY_INFO!Y173)","v":0},{"$f":"IF(OR(COUNTRY_INFO!R173=\"Unknown\",COUNTRY_INFO!R173=\"Surveillance\",COUNTRY_INFO!R173=\"Not required\",COUNTRY_INFO!R173=0),0,IF($D173<>0, COUNTRY_INFO!R173,0))","v":0},{"$f":"IF(OR(COUNTRY_INFO!S173=\"Unknown\",COUNTRY_INFO!S173=\"Surveillance\",COUNTRY_INFO!S173=\"Not required\",COUNTRY_INFO!S173=0),0,IF($D173<>0, COUNTRY_INFO!S173,0))","v":0},{"$f":"IF(OR(COUNTRY_INFO!T173=\"Unknown\",COUNTRY_INFO!T173=\"Surveillance\",COUNTRY_INFO!T173=\"Not required\",COUNTRY_INFO!T173=0),0,IF($D173<>0, COUNTRY_INFO!T173,0))","v":0},0,null,null,null,null,null,{"$f":"IF($I173<>\"Yes\",$F173*2,($F173+ROUND(J173*$F173/SUM(COUNTRY_INFO!$E173:$G173),0))*2)","v":0},{"$f":"IF($I173<>\"Yes\",$G173*3,($G173+ROUND(J173*$G173/SUM(COUNTRY_INFO!$E173:$G173),0))*3)","v":0},0,null,0]
[{"$f":"IF(INTRO!$E$43=\"Non-endemic\",\" \", IF(COUNTRY_INFO!A174=0,\" \",COUNTRY_INFO!A174))","v":"Ghana"},{"$f":"IF(INTRO!$E$43=\"Non-endemic\",\" \", IF(COUNTRY_INFO!B174=0,\" \",COUNTRY_INFO!B174))","v":"Northern"},{"$f":"IF(INTRO!$E$43=\"Non-endemic\",\" \", IF(COUNTRY_INFO!C174=0,\" \",COUNTRY_INFO!C174))","v":"Kpandai"},{"$f":"IF(INTRO!$E$43=\"Non-endemic\", \"Not required\", COUNTRY_INFO!Y174)","v":1},{"$f":"IF(OR(COUNTRY_INFO!R174=\"Unknown\",COUNTRY_INFO!R174=\"Surveillance\",COUNTRY_INFO!R174=\"Not required\",COUNTRY_INFO!R174=0),0,IF($D174<>0, COUNTRY_INFO!R174,0))","v":10262},{"$f":"IF(OR(COUNTRY_INFO!S174=\"Unknown\",COUNTRY_INFO!S174=\"Surveillance\",COUNTRY_INFO!S174=\"Not required\",COUNTRY_INFO!S174=0),0,IF($D174<>0, COUNTRY_INFO!S174,0))","v":32235},{"$f":"IF(OR(COUNTRY_INFO!T174=\"Unknown\",COUNTRY_INFO!T174=\"Surveillance\",COUNTRY_INFO!T174=\"Not required\",COUNTRY_INFO!T174=0),0,IF($D174<>0, COUNTRY_INFO!T174,0))","v":56232},98729,null,null,1,"SAC",null,{"$f":"IF($I174<>\"Yes\",$F174*2,($F174+ROUND(J174*$F174/SUM(COUNTRY_INFO!$E174:$G174),0))*2)","v":64470},{"$f":"IF($I174<>\"Yes\",$G174*3,($G174+ROUND(J174*$G174/SUM(COUNTRY_INFO!$E174:$G174),0))*3)","v":168696},233166,null,233166]
[{"$f":"IF(INTRO!$E$43=\"Non-endemic\",\" \", IF(COUNTRY_INFO!A175=0,\" \",COUNTRY_INFO!A175))","v":"Ghana"},{"$f":"IF(INTRO!$E$43=\"Non-endemic\",\" \", IF(COUNTRY_INFO!B175=0,\" \",COUNTRY_INFO!B175))","v":"Northern"},{"$f":"IF(INTRO!$E$43=\"Non-endemic\",\" \", IF(COUNTRY_INFO!C175=0,\" \",COUNTRY_INFO!C175))","v":"Kumbungu"},{"$f":"IF(INTRO!$E$43=\"Non-endemic\", \"Not required\", COUNTRY_INFO!Y175)","v":0},{"$f":"IF(OR(COUNTRY_INFO!R175=\"Unknown\",COUNTRY_INFO!R175=\"Surveillance\",COUNTRY_INFO!R175=\"Not required\",COUNTRY_INFO!R175=0),0,IF($D175<>0, COUNTRY_INFO!R175,0))","v":0},{"$f":"IF(OR(COUNTRY_INFO!S175=\"Unknown\",COUNTRY_INFO!S175=\"Surveillance\",COUNTRY_INFO!S175=\"Not required\",COUNTRY_INFO!S175=0),0,IF($D175<>0, COUNTRY_INFO!S175,0))","v":0},{"$f":"IF(OR(COUNTRY_INFO!T175=\"Unknown\",COUNTRY_INFO!T175=\"Surveillance\",COUNTRY_INFO!T175=\"Not required\",COUNTRY_INFO!T175=0),0,IF($D175<>0, COUNTRY_INFO!T175,0))","v":0},0,null,null,null,null,null,{"$f":"IF($I175<>\"Yes\",$F175*2,($F175+ROUND(J175*$F175/SUM(COUNTRY_INFO!$E175:$G175),0))*2)","v":0},{"$f":"IF($I175<>\"Yes\",$G175*3,($G175+ROUND(J175*$G175/SUM(COUNTRY_INFO!$E175:$G175),0))*3)","v":0},0,null,0]
[{"$f":"IF(INTRO!$E$43=\"Non-endemic\",\" \", IF(COUNTRY_INFO!A176=0,\" \",COUNTRY_INFO!A176))","v":"Ghana"},{"$f":"IF(INTRO!$E$43=\"Non-endemic\",\" \", IF(COUNTRY_INFO!B176=0,\" \",COUNTRY_INFO!B176))","v":"Northern"},{"$f":"IF(INTRO!$E$43=\"Non-endemic\",\" \", IF(COUNTRY_INFO!C176=0,\" \",COUNTRY_INFO!C176))","v":"Mion"},{"$f":"IF(INTRO!$E$43=\"Non-endemic\", \"Not required\", COUNTRY_INFO!Y176)","v":0},{"$f":"IF(OR(COUNTRY_INFO!R176=\"Unknown\",COUNTRY_INFO!R176=\"Surveillance\",COUNTRY_INFO!R176=\"Not required\",COUNTRY_INFO!R176=0),0,IF($D176<>0, COUNTRY_INFO!R176,0))","v":0},{"$f":"IF(OR(COUNTRY_INFO!S176=\"Unknown\",COUNTRY_INFO!S176=\"Surveillance\",COUNTRY_INFO!S176=\"Not required\",COUNTRY_INFO!S176=0),0,IF($D176<>0, COUNTRY_INFO!S176,0))","v":0},{"$f":"IF(OR(COUNTRY_INFO!T176=\"Unknown\",COUNTRY_INFO!T176=\"Surveillance\",COUNTRY_INFO!T176=\"Not required\",COUNTRY_INFO!T176=0),0,IF($D176<>0, COUNTRY_INFO!T176,0))","v":0},0,null,null,null,null,null,{"$f":"IF($I176<>\"Yes\",$F176*2,($F176+ROUND(J176*$F176/SUM(COUNTRY_INFO!$E176:$G176),0))*2)","v":0},{"$f":"IF($I176<>\"Yes\",$G176*3,($G176+ROUND(J176*$G176/SUM(COUNTRY_INFO!$E176:$G176),0))*3)","v":0},0,null,0]
[{"$f":"IF(INTRO!$E$43=\"Non-endemic\",\" \", IF(COUNTRY_INFO!A177=0,\" \",COUNTRY_INFO!A177))","v":"Ghana"},{"$f":"IF(INTRO!$E$43=\"Non-endemic\",\" \", IF(COUNTRY_INFO!B177=0,\" \",COUNTRY_INFO!B177))","v":"Northern"},{"$f":"IF(INTRO!$E$43=\"Non-endemic\",\" \", IF(COUNTRY_INFO!C177=0,\" \",COUNTRY_INFO!C177))","v":"Nanton"},{"$f":"IF(INTRO!$E$43=\"Non-endemic\", \"Not required\", COUNTRY_INFO!Y177)","v":0},{"$f":"IF(OR(COUNTRY_INFO!R177=\"Unknown\",COUNTRY_INFO!R177=\"Surveillance\",COUNTRY_INFO!R177=\"Not required\",COUNTRY_INFO!R177=0),0,IF($D177<>0, COUNTRY_INFO!R177,0))","v":0},{"$f":"IF(OR(COUNTRY_INFO!S177=\"Unknown\",COUNTRY_INFO!S177=\"Surveillance\",COUNTRY_INFO!S177=\"Not required\",COUNTRY_INFO!S177=0),0,IF($D177<>0, COUNTRY_INFO!S177,0))","v":0},{"$f":"IF(OR(COUNTRY_INFO!T177=\"Unknown\",COUNTRY_INFO!T177=\"Surveillance\",COUNTRY_INFO!T177=\"Not required\",COUNTRY_INFO!T177=0),0,IF($D177<>0, COUNTRY_INFO!T177,0))","v":0},0,null,null,null,null,null,{"$f":"IF($I177<>\"Yes\",$F177*2,($F177+ROUND(J177*$F177/SUM(COUNTRY_INFO!$E177:$G177),0))*2)","v":0},{"$f":"IF($I177<>\"Yes\",$G177*3,($G177+ROUND(J177*$G177/SUM(COUNTRY_INFO!$E177:$G177),0))*3)","v":0},0,null,0]
[{"$f":"IF(INTRO!$E$43=\"Non-endemic\",\" \", IF(COUNTRY_INFO!A178=0,\" \",COUNTRY_INFO!A178))","v":"Ghana"},{"$f":"IF(INTRO!$E$43=\"Non-endemic\",\" \", IF(COUNTRY_INFO!B178=0,\" \",COUNTRY_INFO!B178))","v":"Northern"},{"$f":"IF(INTRO!$E$43=\"Non-endemic\",\" \", IF(COUNTRY_INFO!C178=0,\" \",COUNTRY_INFO!C178))","v":"Nanumba North"},{"$f":"IF(INTRO!$E$43=\"Non-endemic\", \"Not required\", COUNTRY_INFO!Y178)","v":1},{"$f":"IF(OR(COUNTRY_INFO!R178=\"Unknown\",COUNTRY_INFO!R178=\"Surveillance\",COUNTRY_INFO!R178=\"Not required\",COUNTRY_INFO!R178=0),0,IF($D178<>0, COUNTRY_INFO!R178,0))","v":15342},{"$f":"IF(OR(COUNTRY_INFO!S178=\"Unknown\",COUNTRY_INFO!S178=\"Surveillance\",COUNTRY_INFO!S178=\"Not required\",COUNTRY_INFO!S178=0),0,IF($D178<>0, COUNTRY_INFO!S178,0))","v":48188},{"$f":"IF(OR(COUNTRY_INFO!T178=\"Unknown\",COUNTRY_INFO!T178=\"Surveillance\",COUNTRY_INFO!T178=\"Not required\",COUNTRY_INFO!T178=0),0,IF($D178<>0, COUNTRY_INFO!T178,0))","v":0},63530,null,null,1,"SAC",null,{"$f":"IF($I178<>\"Yes\",$F178*2,($F178+ROUND(J178*$F178/SUM(COUNTRY_INFO!$E178:$G178),0))*2)","v":96376},{"$f":"IF($I178<>\"Yes\",$G178*3,($G178+ROUND(J178*$G178/SUM(COUNTRY_INFO!$E178:$G178),0))*3)","v":0},96376,null,96376]
[{"$f":"IF(INTRO!$E$43=\"Non-endemic\",\" \", IF(COUNTRY_INFO!A179=0,\" \",COUNTRY_INFO!A179))","v":"Ghana"},{"$f":"IF(INTRO!$E$43=\"Non-endemic\",\" \", IF(COUNTRY_INFO!B179=0,\" \",COUNTRY_INFO!B179))","v":"Northern"},{"$f":"IF(INTRO!$E$43=\"Non-endemic\",\" \", IF(COUNTRY_INFO!C179=0,\" \",COUNTRY_INFO!C179))","v":"Nanumba South"},{"$f":"IF(INTRO!$E$43=\"Non-endemic\", \"Not required\", COUNTRY_INFO!Y179)","v":1},{"$f":"IF(OR(COUNTRY_INFO!R179=\"Unknown\",COUNTRY_INFO!R179=\"Surveillance\",COUNTRY_INFO!R179=\"Not required\",COUNTRY_INFO!R179=0),0,IF($D179<>0, COUNTRY_INFO!R179,0))","v":8649},{"$f":"IF(OR(COUNTRY_INFO!S179=\"Unknown\",COUNTRY_INFO!S179=\"Surveillance\",COUNTRY_INFO!S179=\"Not required\",COUNTRY_INFO!S179=0),0,IF($D179<>0, COUNTRY_INFO!S179,0))","v":27168},{"$f":"IF(OR(COUNTRY_INFO!T179=\"Unknown\",COUNTRY_INFO!T179=\"Surveillance\",COUNTRY_INFO!T179=\"Not required\",COUNTRY_INFO!T179=0),0,IF($D179<>0, COUNTRY_INFO!T179,0))","v":0},35817,null,null,1,"SAC",null,{"$f":"IF($I179<>\"Yes\",$F179*2,($F179+ROUND(J179*$F179/SUM(COUNTRY_INFO!$E179:$G179),0))*2)","v":54336},{"$f":"IF($I179<>\"Yes\",$G179*3,($G179+ROUND(J179*$G179/SUM(COUNTRY_INFO!$E179:$G179),0))*3)","v":0},54336,null,54336]
[{"$f":"IF(INTRO!$E$43=\"Non-endemic\",\" \", IF(COUNTRY_INFO!A180=0,\" \",COUNTRY_INFO!A180))","v":"Ghana"},{"$f":"IF(INTRO!$E$43=\"Non-endemic\",\" \", IF(COUNTRY_INFO!B180=0,\" \",COUNTRY_INFO!B180))","v":"Northern"},{"$f":"IF(INTRO!$E$43=\"Non-endemic\",\" \", IF(COUNTRY_INFO!C180=0,\" \",COUNTRY_INFO!C180))","v":"Saboba"},{"$f":"IF(INTRO!$E$43=\"Non-endemic\", \"Not required\", COUNTRY_INFO!Y180)","v":0},{"$f":"IF(OR(COUNTRY_INFO!R180=\"Unknown\",COUNTRY_INFO!R180=\"Surveillance\",COUNTRY_INFO!R180=\"Not required\",COUNTRY_INFO!R180=0),0,IF($D180<>0, COUNTRY_INFO!R180,0))","v":0},{"$f":"IF(OR(COUNTRY_INFO!S180=\"Unknown\",COUNTRY_INFO!S180=\"Surveillance\",COUNTRY_INFO!S180=\"Not required\",COUNTRY_INFO!S180=0),0,IF($D180<>0, COUNTRY_INFO!S180,0))","v":0},{"$f":"IF(OR(COUNTRY_INFO!T180=\"Unknown\",COUNTRY_INFO!T180=\"Surveillance\",COUNTRY_INFO!T180=\"Not required\",COUNTRY_INFO!T180=0),0,IF($D180<>0, COUNTRY_INFO!T180,0))","v":0},0,null,null,null,null,null,{"$f":"IF($I180<>\"Yes\",$F180*2,($F180+ROUND(J180*$F180/SUM(COUNTRY_INFO!$E180:$G180),0))*2)","v":0},{"$f":"IF($I180<>\"Yes\",$G180*3,($G180+ROUND(J180*$G180/SUM(COUNTRY_INFO!$E180:$G180),0))*3)","v":0},0,null,0]
[{"$f":"IF(INTRO!$E$43=\"Non-endemic\",\" \", IF(COUNTRY_INFO!A181=0,\" \",COUNTRY_INFO!A181))","v":"Ghana"},{"$f":"IF(INTRO!$E$43=\"Non-endemic\",\" \", IF(COUNTRY_INFO!B181=0,\" \",COUNTRY_INFO!B181))","v":"Northern"},{"$f":"IF(INTRO!$E$43=\"Non-endemic\",\" \", IF(COUNTRY_INFO!C181=0,\" \",COUNTRY_INFO!C181))","v":"Sagnarigu"},{"$f":"IF(INTRO!$E$43=\"Non-endemic\", \"Not required\", COUNTRY_INFO!Y181)","v":0},{"$f":"IF(OR(COUNTRY_INFO!R181=\"Unknown\",COUNTRY_INFO!R181=\"Surveillance\",COUNTRY_INFO!R181=\"Not required\",COUNTRY_INFO!R181=0),0,IF($D181<>0, COUNTRY_INFO!R181,0))","v":0},{"$f":"IF(OR(COUNTRY_INFO!S181=\"Unknown\",COUNTRY_INFO!S181=\"Surveillance\",COUNTRY_INFO!S181=\"Not required\",COUNTRY_INFO!S181=0),0,IF($D181<>0, COUNTRY_INFO!S181,0))","v":0},{"$f":"IF(OR(COUNTRY_INFO!T181=\"Unknown\",COUNTRY_INFO!T181=\"Surveillance\",COUNTRY_INFO!T181=\"Not required\",COUNTRY_INFO!T181=0),0,IF($D181<>0, COUNTRY_INFO!T181,0))","v":0},0,null,null,null,null,null,{"$f":"IF($I181<>\"Yes\",$F181*2,($F181+ROUND(J181*$F181/SUM(COUNTRY_INFO!$E181:$G181),0))*2)","v":0},{"$f":"IF($I181<>\"Yes\",$G181*3,($G181+ROUND(J181*$G181/SUM(COUNTRY_INFO!$E181:$G181),0))*3)","v":0},0,null,0]
[{"$f":"IF(INTRO!$E$43=\"Non-endemic\",\" \", IF(COUNTRY_INFO!A182=0,\" \",COUNTRY_INFO!A182))","v":"Ghana"},{"$f":"IF(INTRO!$E$43=\"Non-endemic\",\" \", IF(COUNTRY_INFO!B182=0,\" \",COUNTRY_INFO!B182))","v":"Northern"},{"$f":"IF(INTRO!$E$43=\"Non-endemic\",\" \", IF(COUNTRY_INFO!C182=0,\" \",COUNTRY_INFO!C182))","v":"Savelugu"},{"$f":"IF(INTRO!$E$43=\"Non-endemic\", \"Not required\", COUNTRY_INFO!Y182)","v":0},{"$f":"IF(OR(COUNTRY_INFO!R182=\"Unknown\",COUNTRY_INFO!R182=\"Surveillance\",COUNTRY_INFO!R182=\"Not required\",COUNTRY_INFO!R182=0),0,IF($D182<>0, COUNTRY_INFO!R182,0))","v":0},{"$f":"IF(OR(COUNTRY_INFO!S182=\"Unknown\",COUNTRY_INFO!S182=\"Surveillance\",COUNTRY_INFO!S182=\"Not required\",COUNTRY_INFO!S182=0),0,IF($D182<>0, COUNTRY_INFO!S182,0))","v":0},{"$f":"IF(OR(COUNTRY_INFO!T182=\"Unknown\",COUNTRY_INFO!T182=\"Surveillance\",COUNTRY_INFO!T182=\"Not required\",COUNTRY_INFO!T182=0),0,IF($D182<>0, COUNTRY_INFO!T182,0))","v":0},0,null,null,null,null,null,{"$f":"IF($I182<>\"Yes\",$F182*2,($F182+ROUND(J182*$F182/SUM(COUNTRY_INFO!$E182:$G182),0))*2)","v":0},{"$f":"IF($I182<>\"Yes\",$G182*3,($G182+ROUND(J182*$G182/SUM(COUNTRY_INFO!$E182:$G182),0))*3)","v":0},0,null,0]
[{"$f":"IF(INTRO!$E$43=\"Non-endemic\",\" \", IF(COUNTRY_INFO!A183=0,\" \",COUNTRY_INFO!A183))","v":"Ghana"},{"$f":"IF(INTRO!$E$43=\"Non-endemic\",\" \", IF(COUNTRY_INFO!B183=0,\" \",COUNTRY_INFO!B183))","v":"Northern"},{"$f":"IF(INTRO!$E$43=\"Non-endemic\",\" \", IF(COUNTRY_INFO!C183=0,\" \",COUNTRY_INFO!C183))","v":"Tamale"},{"$f":"IF(INTRO!$E$43=\"Non-endemic\", \"Not required\", COUNTRY_INFO!Y183)","v":0},{"$f":"IF(OR(COUNTRY_INFO!R183=\"Unknown\",COUNTRY_INFO!R183=\"Surveillance\",COUNTRY_INFO!R183=\"Not required\",COUNTRY_INFO!R183=0),0,IF($D183<>0, COUNTRY_INFO!R183,0))","v":0},{"$f":"IF(OR(COUNTRY_INFO!S183=\"Unknown\",COUNTRY_INFO!S183=\"Surveillance\",COUNTRY_INFO!S183=\"Not required\",COUNTRY_INFO!S183=0),0,IF($D183<>0, COUNTRY_INFO!S183,0))","v":0},{"$f":"IF(OR(COUNTRY_INFO!T183=\"Unknown\",COUNTRY_INFO!T183=\"Surveillance\",COUNTRY_INFO!T183=\"Not required\",COUNTRY_INFO!T183=0),0,IF($D183<>0, COUNTRY_INFO!T183,0))","v":0},0,null,null,null,null,null,{"$f":"IF($I183<>\"Yes\",$F183*2,($F183+ROUND(J183*$F183/SUM(COUNTRY_INFO!$E183:$G183),0))*2)","v":0},{"$f":"IF($I183<>\"Yes\",$G183*3,($G183+ROUND(J183*$G183/SUM(COUNTRY_INFO!$E183:$G183),0))*3)","v":0},0,null,0]
[{"$f":"IF(INTRO!$E$43=\"Non-endemic\",\" \", IF(COUNTRY_INFO!A184=0,\" \",COUNTRY_INFO!A184))","v":"Ghana"},{"$f":"IF(INTRO!$E$43=\"Non-endemic\",\" \", IF(COUNTRY_INFO!B184=0,\" \",COUNTRY_INFO!B184))","v":"Northern"},{"$f":"IF(INTRO!$E$43=\"Non-endemic\",\" \", IF(COUNTRY_INFO!C184=0,\" \",COUNTRY_INFO!C184))","v":"Tatale-Sangule"},{"$f":"IF(INTRO!$E$43=\"Non-endemic\", \"Not required\", COUNTRY_INFO!Y184)","v":1},{"$f":"IF(OR(COUNTRY_INFO!R184=\"Unknown\",COUNTRY_INFO!R184=\"Surveillance\",COUNTRY_INFO!R184=\"Not required\",COUNTRY_INFO!R184=0),0,IF($D184<>0, COUNTRY_INFO!R184,0))","v":6083},{"$f":"IF(OR(COUNTRY_INFO!S184=\"Unknown\",COUNTRY_INFO!S184=\"Surveillance\",COUNTRY_INFO!S184=\"Not required\",COUNTRY_INFO!S184=0),0,IF($D184<>0, COUNTRY_INFO!S184,0))","v":19105},{"$f":"IF(OR(COUNTRY_INFO!T184=\"Unknown\",COUNTRY_INFO!T184=\"Surveillance\",COUNTRY_INFO!T184=\"Not required\",COUNTRY_INFO!T184=0),0,IF($D184<>0, COUNTRY_INFO!T184,0))","v":0},25188,null,null,1,"SAC",null,{"$f":"IF($I184<>\"Yes\",$F184*2,($F184+ROUND(J184*$F184/SUM(COUNTRY_INFO!$E184:$G184),0))*2)","v":38210},{"$f":"IF($I184<>\"Yes\",$G184*3,($G184+ROUND(J184*$G184/SUM(COUNTRY_INFO!$E184:$G184),0))*3)","v":0},38210,null,38210]
[{"$f":"IF(INTRO!$E$43=\"Non-endemic\",\" \", IF(COUNTRY_INFO!A185=0,\" \",COUNTRY_INFO!A185))","v":"Ghana"},{"$f":"IF(INTRO!$E$43=\"Non-endemic\",\" \", IF(COUNTRY_INFO!B185=0,\" \",COUNTRY_INFO!B185))","v":"Northern"},{"$f":"IF(INTRO!$E$43=\"Non-endemic\",\" \", IF(COUNTRY_INFO!C185=0,\" \",COUNTRY_INFO!C185))","v":"Tolon"},{"$f":"IF(INTRO!$E$43=\"Non-endemic\", \"Not required\", COUNTRY_INFO!Y185)","v":0},{"$f":"IF(OR(COUNTRY_INFO!R185=\"Unknown\",COUNTRY_INFO!R185=\"Surveillance\",COUNTRY_INFO!R185=\"Not required\",COUNTRY_INFO!R185=0),0,IF($D185<>0, COUNTRY_INFO!R185,0))","v":0},{"$f":"IF(OR(COUNTRY_INFO!S185=\"Unknown\",COUNTRY_INFO!S185=\"Surveillance\",COUNTRY_INFO!S185=\"Not required\",COUNTRY_INFO!S185=0),0,IF($D185<>0, COUNTRY_INFO!S185,0))","v":0},{"$f":"IF(OR(COUNTRY_INFO!T185=\"Unknown\",COUNTRY_INFO!T185=\"Surveillance\",COUNTRY_INFO!T185=\"Not required\",COUNTRY_INFO!T185=0),0,IF($D185<>0, COUNTRY_INFO!T185,0))","v":0},0,null,null,null,null,null,{"$f":"IF($I185<>\"Yes\",$F185*2,($F185+ROUND(J185*$F185/SUM(COUNTRY_INFO!$E185:$G185),0))*2)","v":0},{"$f":"IF($I185<>\"Yes\",$G185*3,($G185+ROUND(J185*$G185/SUM(COUNTRY_INFO!$E185:$G185),0))*3)","v":0},0,null,0]
[{"$f":"IF(INTRO!$E$43=\"Non-endemic\",\" \", IF(COUNTRY_INFO!A186=0,\" \",COUNTRY_INFO!A186))","v":"Ghana"},{"$f":"IF(INTRO!$E$43=\"Non-endemic\",\" \", IF(COUNTRY_INFO!B186=0,\" \",COUNTRY_INFO!B186))","v":"Northern"},{"$f":"IF(INTRO!$E$43=\"Non-endemic\",\" \", IF(COUNTRY_INFO!C186=0,\" \",COUNTRY_INFO!C186))","v":"Yendi"},{"$f":"IF(INTRO!$E$43=\"Non-endemic\", \"Not required\", COUNTRY_INFO!Y186)","v":0},{"$f":"IF(OR(COUNTRY_INFO!R186=\"Unknown\",COUNTRY_INFO!R186=\"Surveillance\",COUNTRY_INFO!R186=\"Not required\",COUNTRY_INFO!R186=0),0,IF($D186<>0, COUNTRY_INFO!R186,0))","v":0},{"$f":"IF(OR(COUNTRY_INFO!S186=\"Unknown\",COUNTRY_INFO!S186=\"Surveillance\",COUNTRY_INFO!S186=\"Not required\",COUNTRY_INFO!S186=0),0,IF($D186<>0, COUNTRY_INFO!S186,0))","v":0},{"$f":"IF(OR(COUNTRY_INFO!T186=\"Unknown\",COUNTRY_INFO!T186=\"Surveillance\",COUNTRY_INFO!T186=\"Not required\",COUNTRY_INFO!T186=0),0,IF($D186<>0, COUNTRY_INFO!T186,0))","v":0},0,null,null,null,null,null,{"$f":"IF($I186<>\"Yes\",$F186*2,($F186+ROUND(J186*$F186/SUM(COUNTRY_INFO!$E186:$G186),0))*2)","v":0},{"$f":"IF($I186<>\"Yes\",$G186*3,($G186+ROUND(J186*$G186/SUM(COUNTRY_INFO!$E186:$G186),0))*3)","v":0},0,null,0]
[{"$f":"IF(INTRO!$E$43=\"Non-endemic\",\" \", IF(COUNTRY_INFO!A187=0,\" \",COUNTRY_INFO!A187))","v":"Ghana"},{"$f":"IF(INTRO!$E$43=\"Non-endemic\",\" \", IF(COUNTRY_INFO!B187=0,\" \",COUNTRY_INFO!B187))","v":"Northern"},{"$f":"IF(INTRO!$E$43=\"Non-endemic\",\" \", IF(COUNTRY_INFO!C187=0,\" \",COUNTRY_INFO!C187))","v":"Zabzugu"},{"$f":"IF(INTRO!$E$43=\"Non-endemic\", \"Not required\", COUNTRY_INFO!Y187)","v":1},{"$f":"IF(OR(COUNTRY_INFO!R187=\"Unknown\",COUNTRY_INFO!R187=\"Surveillance\",COUNTRY_INFO!R187=\"Not required\",COUNTRY_INFO!R187=0),0,IF($D187<>0, COUNTRY_INFO!R187,0))","v":6737},{"$f":"IF(OR(COUNTRY_INFO!S187=\"Unknown\",COUNTRY_INFO!S187=\"Surveillance\",COUNTRY_INFO!S187=\"Not required\",COUNTRY_INFO!S187=0),0,IF($D187<>0, COUNTRY_INFO!S187,0))","v":21159},{"$f":"IF(OR(COUNTRY_INFO!T187=\"Unknown\",COUNTRY_INFO!T187=\"Surveillance\",COUNTRY_INFO!T187=\"Not required\",COUNTRY_INFO!T187=0),0,IF($D187<>0, COUNTRY_INFO!T187,0))","v":0},27896,null,null,1,"SAC",null,{"$f":"IF($I187<>\"Yes\",$F187*2,($F187+ROUND(J187*$F187/SUM(COUNTRY_INFO!$E187:$G187),0))*2)","v":42318},{"$f":"IF($I187<>\"Yes\",$G187*3,($G187+ROUND(J187*$G187/SUM(COUNTRY_INFO!$E187:$G187),0))*3)","v":0},42318,null,42318]
[{"$f":"IF(INTRO!$E$43=\"Non-endemic\",\" \", IF(COUNTRY_INFO!A188=0,\" \",COUNTRY_INFO!A188))","v":"Ghana"},{"$f":"IF(INTRO!$E$43=\"Non-endemic\",\" \", IF(COUNTRY_INFO!B188=0,\" \",COUNTRY_INFO!B188))","v":"Oti"},{"$f":"IF(INTRO!$E$43=\"Non-endemic\",\" \", IF(COUNTRY_INFO!C188=0,\" \",COUNTRY_INFO!C188))","v":"Biakoye"},{"$f":"IF(INTRO!$E$43=\"Non-endemic\", \"Not required\", COUNTRY_INFO!Y188)","v":1},{"$f":"IF(OR(COUNTRY_INFO!R188=\"Unknown\",COUNTRY_INFO!R188=\"Surveillance\",COUNTRY_INFO!R188=\"Not required\",COUNTRY_INFO!R188=0),0,IF($D188<>0, COUNTRY_INFO!R188,0))","v":5840},{"$f":"IF(OR(COUNTRY_INFO!S188=\"Unknown\",COUNTRY_INFO!S188=\"Surveillance\",COUNTRY_INFO!S188=\"Not required\",COUNTRY_INFO!S188=0),0,IF($D188<>0, COUNTRY_INFO!S188,0))","v":18344},{"$f":"IF(OR(COUNTRY_INFO!T188=\"Unknown\",COUNTRY_INFO!T188=\"Surveillance\",COUNTRY_INFO!T188=\"Not required\",COUNTRY_INFO!T188=0),0,IF($D188<>0, COUNTRY_INFO!T188,0))","v":0},24184,null,null,1,"SAC",null,{"$f":"IF($I188<>\"Yes\",$F188*2,($F188+ROUND(J188*$F188/SUM(COUNTRY_INFO!$E188:$G188),0))*2)","v":36688},{"$f":"IF($I188<>\"Yes\",$G188*3,($G188+ROUND(J188*$G188/SUM(COUNTRY_INFO!$E188:$G188),0))*3)","v":0},36688,null,36688]
[{"$f":"IF(INTRO!$E$43=\"Non-endemic\",\" \", IF(COUNTRY_INFO!A189=0,\" \",COUNTRY_INFO!A189))","v":"Ghana"},{"$f":"IF(INTRO!$E$43=\"Non-endemic\",\" \", IF(COUNTRY_INFO!B189=0,\" \",COUNTRY_INFO!B189))","v":"Oti"},{"$f":"IF(INTRO!$E$43=\"Non-endemic\",\" \", IF(COUNTRY_INFO!C189=0,\" \",COUNTRY_INFO!C189))","v":"Guan"},{"$f":"IF(INTRO!$E$43=\"Non-endemic\", \"Not required\", COUNTRY_INFO!Y189)","v":1},{"$f":"IF(OR(COUNTRY_INFO!R189=\"Unknown\",COUNTRY_INFO!R189=\"Surveillance\",COUNTRY_INFO!R189=\"Not required\",COUNTRY_INFO!R189=0),0,IF($D189<>0, COUNTRY_INFO!R189,0))","v":2296},{"$f":"IF(OR(COUNTRY_INFO!S189=\"Unknown\",COUNTRY_INFO!S189=\"Surveillance\",COUNTRY_INFO!S189=\"Not required\",COUNTRY_INFO!S189=0),0,IF($D189<>0, COUNTRY_INFO!S189,0))","v":7212},{"$f":"IF(OR(COUNTRY_INFO!T189=\"Unknown\",COUNTRY_INFO!T189=\"Surveillance\",COUNTRY_INFO!T189=\"Not required\",COUNTRY_INFO!T189=0),0,IF($D189<>0, COUNTRY_INFO!T189,0))","v":0},9508,null,null,1,"SAC",null,{"$f":"IF($I189<>\"Yes\",$F189*2,($F189+ROUND(J189*$F189/SUM(COUNTRY_INFO!$E189:$G189),0))*2)","v":14424},{"$f":"IF($I189<>\"Yes\",$G189*3,($G189+ROUND(J189*$G189/SUM(COUNTRY_INFO!$E189:$G189),0))*3)","v":0},14424,null,14424]
[{"$f":"IF(INTRO!$E$43=\"Non-endemic\",\" \", IF(COUNTRY_INFO!A190=0,\" \",COUNTRY_INFO!A190))","v":"Ghana"},{"$f":"IF(INTRO!$E$43=\"Non-endemic\",\" \", IF(COUNTRY_INFO!B190=0,\" \",COUNTRY_INFO!B190))","v":"Oti"},{"$f":"IF(INTRO!$E$43=\"Non-endemic\",\" \", IF(COUNTRY_INFO!C190=0,\" \",COUNTRY_INFO!C190))","v":"Jasikan"},{"$f":"IF(INTRO!$E$43=\"Non-endemic\", \"Not required\", COUNTRY_INFO!Y190)","v":1},{"$f":"IF(OR(COUNTRY_INFO!R190=\"Unknown\",COUNTRY_INFO!R190=\"Surveillance\",COUNTRY_INFO!R190=\"Not required\",COUNTRY_INFO!R190=0),0,IF($D190<>0, COUNTRY_INFO!R190,0))","v":4854},{"$f":"IF(OR(COUNTRY_INFO!S190=\"Unknown\",COUNTRY_INFO!S190=\"Surveillance\",COUNTRY_INFO!S190=\"Not required\",COUNTRY_INFO!S190=0),0,IF($D190<>0, COUNTRY_INFO!S190,0))","v":15246},{"$f":"IF(OR(COUNTRY_INFO!T190=\"Unknown\",COUNTRY_INFO!T190=\"Surveillance\",COUNTRY_INFO!T190=\"Not required\",COUNTRY_INFO!T190=0),0,IF($D190<>0, COUNTRY_INFO!T190,0))","v":0},20100,null,null,1,"SAC",null,{"$f":"IF($I190<>\"Yes\",$F190*2,($F190+ROUND(J190*$F190/SUM(COUNTRY_INFO!$E190:$G190),0))*2)","v":30492},{"$f":"IF($I190<>\"Yes\",$G190*3,($G190+ROUND(J190*$G190/SUM(COUNTRY_INFO!$E190:$G190),0))*3)","v":0},30492,null,30492]
[{"$f":"IF(INTRO!$E$43=\"Non-endemic\",\" \", IF(COUNTRY_INFO!A191=0,\" \",COUNTRY_INFO!A191))","v":"Ghana"},{"$f":"IF(INTRO!$E$43=\"Non-endemic\",\" \", IF(COUNTRY_INFO!B191=0,\" \",COUNTRY_INFO!B191))","v":"Oti"},{"$f":"IF(INTRO!$E$43=\"Non-endemic\",\" \", IF(COUNTRY_INFO!C191=0,\" \",COUNTRY_INFO!C191))","v":"Kadjebi"},{"$f":"IF(INTRO!$E$43=\"Non-endemic\", \"Not required\", COUNTRY_INFO!Y191)","v":1},{"$f":"IF(OR(COUNTRY_INFO!R191=\"Unknown\",COUNTRY_INFO!R191=\"Surveillance\",COUNTRY_INFO!R191=\"Not required\",COUNTRY_INFO!R191=0),0,IF($D191<>0, COUNTRY_INFO!R191,0))","v":6014},{"$f":"IF(OR(COUNTRY_INFO!S191=\"Unknown\",COUNTRY_INFO!S191=\"Surveillance\",COUNTRY_INFO!S191=\"Not required\",COUNTRY_INFO!S191=0),0,IF($D191<>0, COUNTRY_INFO!S191,0))","v":18889},{"$f":"IF(OR(COUNTRY_INFO!T191=\"Unknown\",COUNTRY_INFO!T191=\"Surveillance\",COUNTRY_INFO!T191=\"Not required\",COUNTRY_INFO!T191=0),0,IF($D191<>0, COUNTRY_INFO!T191,0))","v":0},24903,null,null,1,"SAC",null,{"$f":"IF($I191<>\"Yes\",$F191*2,($F191+ROUND(J191*$F191/SUM(COUNTRY_INFO!$E191:$G191),0))*2)","v":37778},{"$f":"IF($I191<>\"Yes\",$G191*3,($G191+ROUND(J191*$G191/SUM(COUNTRY_INFO!$E191:$G191),0))*3)","v":0},37778,null,37778]
[{"$f":"IF(INTRO!$E$43=\"Non-endemic\",\" \", IF(COUNTRY_INFO!A192=0,\" \",COUNTRY_INFO!A192))","v":"Ghana"},{"$f":"IF(INTRO!$E$43=\"Non-endemic\",\" \", IF(COUNTRY_INFO!B192=0,\" \",COUNTRY_INFO!B192))","v":"Oti"},{"$f":"IF(INTRO!$E$43=\"Non-endemic\",\" \", IF(COUNTRY_INFO!C192=0,\" \",COUNTRY_INFO!C192))","v":"Krachi East"},{"$f":"IF(INTRO!$E$43=\"Non-endemic\", \"Not required\", COUNTRY_INFO!Y192)","v":1},{"$f":"IF(OR(COUNTRY_INFO!R192=\"Unknown\",COUNTRY_INFO!R192=\"Surveillance\",COUNTRY_INFO!R192=\"Not required\",COUNTRY_INFO!R192=0),0,IF($D192<>0, COUNTRY_INFO!R192,0))","v":8980},{"$f":"IF(OR(COUNTRY_INFO!S192=\"Unknown\",COUNTRY_INFO!S192=\"Surveillance\",COUNTRY_INFO!S192=\"Not required\",COUNTRY_INFO!S192=0),0,IF($D192<>0, COUNTRY_INFO!S192,0))","v":28205},{"$f":"IF(OR(COUNTRY_INFO!T192=\"Unknown\",COUNTRY_INFO!T192=\"Surveillance\",COUNTRY_INFO!T192=\"Not required\",COUNTRY_INFO!T192=0),0,IF($D192<>0, COUNTRY_INFO!T192,0))","v":74944},112129,null,null,1,"SAC",null,{"$f":"IF($I192<>\"Yes\",$F192*2,($F192+ROUND(J192*$F192/SUM(COUNTRY_INFO!$E192:$G192),0))*2)","v":56410},{"$f":"IF($I192<>\"Yes\",$G192*3,($G192+ROUND(J192*$G192/SUM(COUNTRY_INFO!$E192:$G192),0))*3)","v":224832},281242,null,281242]
[{"$f":"IF(INTRO!$E$43=\"Non-endemic\",\" \", IF(COUNTRY_INFO!A193=0,\" \",COUNTRY_INFO!A193))","v":"Ghana"},{"$f":"IF(INTRO!$E$43=\"Non-endemic\",\" \", IF(COUNTRY_INFO!B193=0,\" \",COUNTRY_INFO!B193))","v":"Oti"},{"$f":"IF(INTRO!$E$43=\"Non-endemic\",\" \", IF(COUNTRY_INFO!C193=0,\" \",COUNTRY_INFO!C193))","v":"Krachi Nchumuru"},{"$f":"IF(INTRO!$E$43=\"Non-endemic\", \"Not required\", COUNTRY_INFO!Y193)","v":1},{"$f":"IF(OR(COUNTRY_INFO!R193=\"Unknown\",COUNTRY_INFO!R193=\"Surveillance\",COUNTRY_INFO!R193=\"Not required\",COUNTRY_INFO!R193=0),0,IF($D193<>0, COUNTRY_INFO!R193,0))","v":6500},{"$f":"IF(OR(COUNTRY_INFO!S193=\"Unknown\",COUNTRY_INFO!S193=\"Surveillance\",COUNTRY_INFO!S193=\"Not required\",COUNTRY_INFO!S193=0),0,IF($D193<>0, COUNTRY_INFO!S193,0))","v":20415},{"$f":"IF(OR(COUNTRY_INFO!T193=\"Unknown\",COUNTRY_INFO!T193=\"Surveillance\",COUNTRY_INFO!T193=\"Not required\",COUNTRY_INFO!T193=0),0,IF($D193<>0, COUNTRY_INFO!T193,0))","v":54246},81161,null,null,1,"SAC",null,{"$f":"IF($I193<>\"Yes\",$F193*2,($F193+ROUND(J193*$F193/SUM(COUNTRY_INFO!$E193:$G193),0))*2)","v":40830},{"$f":"IF($I193<>\"Yes\",$G193*3,($G193+ROUND(J193*$G193/SUM(COUNTRY_INFO!$E193:$G193),0))*3)","v":162738},203568,null,203568]
[{"$f":"IF(INTRO!$E$43=\"Non-endemic\",\" \", IF(COUNTRY_INFO!A194=0,\" \",COUNTRY_INFO!A194))","v":"Ghana"},{"$f":"IF(INTRO!$E$43=\"Non-endemic\",\" \", IF(COUNTRY_INFO!B194=0,\" \",COUNTRY_INFO!B194))","v":"Oti"},{"$f":"IF(INTRO!$E$43=\"Non-endemic\",\" \", IF(COUNTRY_INFO!C194=0,\" \",COUNTRY_INFO!C194))","v":"Krachi West"},{"$f":"IF(INTRO!$E$43=\"Non-endemic\", \"Not required\", COUNTRY_INFO!Y194)","v":1},{"$f":"IF(OR(COUNTRY_INFO!R194=\"Unknown\",COUNTRY_INFO!R194=\"Surveillance\",COUNTRY_INFO!R194=\"Not required\",COUNTRY_INFO!R194=0),0,IF($D194<>0, COUNTRY_INFO!R194,0))","v":4970},{"$f":"IF(OR(COUNTRY_INFO!S194=\"Unknown\",COUNTRY_INFO!S194=\"Surveillance\",COUNTRY_INFO!S194=\"Not required\",COUNTRY_INFO!S194=0),0,IF($D194<>0, COUNTRY_INFO!S194,0))","v":15612},{"$f":"IF(OR(COUNTRY_INFO!T194=\"Unknown\",COUNTRY_INFO!T194=\"Surveillance\",COUNTRY_INFO!T194=\"Not required\",COUNTRY_INFO!T194=0),0,IF($D194<>0, COUNTRY_INFO!T194,0))","v":41483},62065,null,null,1,"SAC",null,{"$f":"IF($I194<>\"Yes\",$F194*2,($F194+ROUND(J194*$F194/SUM(COUNTRY_INFO!$E194:$G194),0))*2)","v":31224},{"$f":"IF($I194<>\"Yes\",$G194*3,($G194+ROUND(J194*$G194/SUM(COUNTRY_INFO!$E194:$G194),0))*3)","v":124449},155673,null,155673]
[{"$f":"IF(INTRO!$E$43=\"Non-endemic\",\" \", IF(COUNTRY_INFO!A195=0,\" \",COUNTRY_INFO!A195))","v":"Ghana"},{"$f":"IF(INTRO!$E$43=\"Non-endemic\",\" \", IF(COUNTRY_INFO!B195=0,\" \",COUNTRY_INFO!B195))","v":"Oti"},{"$f":"IF(INTRO!$E$43=\"Non-endemic\",\" \", IF(COUNTRY_INFO!C195=0,\" \",COUNTRY_INFO!C195))","v":"Nkwanta North"},{"$f":"IF(INTRO!$E$43=\"Non-endemic\", \"Not required\", COUNTRY_INFO!Y195)","v":1},{"$f":"IF(OR(COUNTRY_INFO!R195=\"Unknown\",COUNTRY_INFO!R195=\"Surveillance\",COUNTRY_INFO!R195=\"Not required\",COUNTRY_INFO!R195=0),0,IF($D195<>0, COUNTRY_INFO!R195,0))","v":10253},{"$f":"IF(OR(COUNTRY_INFO!S195=\"Unknown\",COUNTRY_INFO!S195=\"Surveillance\",COUNTRY_INFO!S195=\"Not required\",COUNTRY_INFO!S195=0),0,IF($D195<>0, COUNTRY_INFO!S195,0))","v":32205},{"$f":"IF(OR(COUNTRY_INFO!T195=\"Unknown\",COUNTRY_INFO!T195=\"Surveillance\",COUNTRY_INFO!T195=\"Not required\",COUNTRY_INFO!T195=0),0,IF($D195<>0, COUNTRY_INFO!T195,0))","v":45696},88154,null,null,1,"SAC",null,{"$f":"IF($I195<>\"Yes\",$F195*2,($F195+ROUND(J195*$F195/SUM(COUNTRY_INFO!$E195:$G195),0))*2)","v":64410},{"$f":"IF($I195<>\"Yes\",$G195*3,($G195+ROUND(J195*$G195/SUM(COUNTRY_INFO!$E195:$G195),0))*3)","v":137088},201498,null,201498]
[{"$f":"IF(INTRO!$E$43=\"Non-endemic\",\" \", IF(COUNTRY_INFO!A196=0,\" \",COUNTRY_INFO!A196))","v":"Ghana"},{"$f":"IF(INTRO!$E$43=\"Non-endemic\",\" \", IF(COUNTRY_INFO!B196=0,\" \",COUNTRY_INFO!B196))","v":"Oti"},{"$f":"IF(INTRO!$E$43=\"Non-endemic\",\" \", IF(COUNTRY_INFO!C196=0,\" \",COUNTRY_INFO!C196))","v":"Nkwanta South"},{"$f":"IF(INTRO!$E$43=\"Non-endemic\", \"Not required\", COUNTRY_INFO!Y196)","v":1},{"$f":"IF(OR(COUNTRY_INFO!R196=\"Unknown\",COUNTRY_INFO!R196=\"Surveillance\",COUNTRY_INFO!R196=\"Not required\",COUNTRY_INFO!R196=0),0,IF($D196<>0, COUNTRY_INFO!R196,0))","v":11132},{"$f":"IF(OR(COUNTRY_INFO!S196=\"Unknown\",COUNTRY_INFO!S196=\"Surveillance\",COUNTRY_INFO!S196=\"Not required\",COUNTRY_INFO!S196=0),0,IF($D196<>0, COUNTRY_INFO!S196,0))","v":34963},{"$f":"IF(OR(COUNTRY_INFO!T196=\"Unknown\",COUNTRY_INFO!T196=\"Surveillance\",COUNTRY_INFO!T196=\"Not required\",COUNTRY_INFO!T196=0),0,IF($D196<>0, COUNTRY_INFO!T196,0))","v":0},46095,null,null,1,"SAC",null,{"$f":"IF($I196<>\"Yes\",$F196*2,($F196+ROUND(J196*$F196/SUM(COUNTRY_INFO!$E196:$G196),0))*2)","v":69926},{"$f":"IF($I196<>\"Yes\",$G196*3,($G196+ROUND(J196*$G196/SUM(COUNTRY_INFO!$E196:$G196),0))*3)","v":0},69926,null,69926]
[{"$f":"IF(INTRO!$E$43=\"Non-endemic\",\" \", IF(COUNTRY_INFO!A197=0,\" \",COUNTRY_INFO!A197))","v":"Ghana"},{"$f":"IF(INTRO!$E$43=\"Non-endemic\",\" \", IF(COUNTRY_INFO!B197=0,\" \",COUNTRY_INFO!B197))","v":"Savannah"},{"$f":"IF(INTRO!$E$43=\"Non-endemic\",\" \", IF(COUNTRY_INFO!C197=0,\" \",COUNTRY_INFO!C197))","v":"Bole"},{"$f":"IF(INTRO!$E$43=\"Non-endemic\", \"Not required\", COUNTRY_INFO!Y197)","v":1},{"$f":"IF(OR(COUNTRY_INFO!R197=\"Unknown\",COUNTRY_INFO!R197=\"Surveillance\",COUNTRY_INFO!R197=\"Not required\",COUNTRY_INFO!R197=0),0,IF($D197<>0, COUNTRY_INFO!R197,0))","v":9416},{"$f":"IF(OR(COUNTRY_INFO!S197=\"Unknown\",COUNTRY_INFO!S197=\"Surveillance\",COUNTRY_INFO!S197=\"Not required\",COUNTRY_INFO!S197=0),0,IF($D197<>0, COUNTRY_INFO!S197,0))","v":29575},{"$f":"IF(OR(COUNTRY_INFO!T197=\"Unknown\",COUNTRY_INFO!T197=\"Surveillance\",COUNTRY_INFO!T197=\"Not required\",COUNTRY_INFO!T197=0),0,IF($D197<>0, COUNTRY_INFO!T197,0))","v":78585},117576,null,null,1,"SAC",null,{"$f":"IF($I197<>\"Yes\",$F197*2,($F197+ROUND(J197*$F197/SUM(COUNTRY_INFO!$E197:$G197),0))*2)","v":59150},{"$f":"IF($I197<>\"Yes\",$G197*3,($G197+ROUND(J197*$G197/SUM(COUNTRY_INFO!$E197:$G197),0))*3)","v":235755},294905,null,294905]
[{"$f":"IF(INTRO!$E$43=\"Non-endemic\",\" \", IF(COUNTRY_INFO!A198=0,\" \",COUNTRY_INFO!A198))","v":"Ghana"},{"$f":"IF(INTRO!$E$43=\"Non-endemic\",\" \", IF(COUNTRY_INFO!B198=0,\" \",COUNTRY_INFO!B198))","v":"Savannah"},{"$f":"IF(INTRO!$E$43=\"Non-endemic\",\" \", IF(COUNTRY_INFO!C198=0,\" \",COUNTRY_INFO!C198))","v":"Central Gonja"},{"$f":"IF(INTRO!$E$43=\"Non-endemic\", \"Not required\", COUNTRY_INFO!Y198)","v":1},{"$f":"IF(OR(COUNTRY_INFO!R198=\"Unknown\",COUNTRY_INFO!R198=\"Surveillance\",COUNTRY_INFO!R198=\"Not required\",COUNTRY_INFO!R198=0),0,IF($D198<>0, COUNTRY_INFO!R198,0))","v":11608},{"$f":"IF(OR(COUNTRY_INFO!S198=\"Unknown\",COUNTRY_INFO!S198=\"Surveillance\",COUNTRY_INFO!S198=\"Not required\",COUNTRY_INFO!S198=0),0,IF($D198<>0, COUNTRY_INFO!S198,0))","v":36461},{"$f":"IF(OR(COUNTRY_INFO!T198=\"Unknown\",COUNTRY_INFO!T198=\"Surveillance\",COUNTRY_INFO!T198=\"Not required\",COUNTRY_INFO!T198=0),0,IF($D198<>0, COUNTRY_INFO!T198,0))","v":0},48069,null,null,1,"SAC",null,{"$f":"IF($I198<>\"Yes\",$F198*2,($F198+ROUND(J198*$F198/SUM(COUNTRY_INFO!$E198:$G198),0))*2)","v":72922},{"$f":"IF($I198<>\"Yes\",$G198*3,($G198+ROUND(J198*$G198/SUM(COUNTRY_INFO!$E198:$G198),0))*3)","v":0},72922,null,72922]
[{"$f":"IF(INTRO!$E$43=\"Non-endemic\",\" \", IF(COUNTRY_INFO!A199=0,\" \",COUNTRY_INFO!A199))","v":"Ghana"},{"$f":"IF(INTRO!$E$43=\"Non-endemic\",\" \", IF(COUNTRY_INFO!B199=0,\" \",COUNTRY_INFO!B199))","v":"Savannah"},{"$f":"IF(INTRO!$E$43=\"Non-endemic\",\" \", IF(COUNTRY_INFO!C199=0,\" \",COUNTRY_INFO!C199))","v":"East Gonja"},{"$f":"IF(INTRO!$E$43=\"Non-endemic\", \"Not required\", COUNTRY_INFO!Y199)","v":1},{"$f":"IF(OR(COUNTRY_INFO!R199=\"Unknown\",COUNTRY_INFO!R199=\"Surveillance\",COUNTRY_INFO!R199=\"Not required\",COUNTRY_INFO!R199=0),0,IF($D199<>0, COUNTRY_INFO!R199,0))","v":0},{"$f":"IF(OR(COUNTRY_INFO!S199=\"Unknown\",COUNTRY_INFO!S199=\"Surveillance\",COUNTRY_INFO!S199=\"Not required\",COUNTRY_INFO!S199=0),0,IF($D199<>0, COUNTRY_INFO!S199,0))","v":0},{"$f":"IF(OR(COUNTRY_INFO!T199=\"Unknown\",COUNTRY_INFO!T199=\"Surveillance\",COUNTRY_INFO!T199=\"Not required\",COUNTRY_INFO!T199=0),0,IF($D199<>0, COUNTRY_INFO!T199,0))","v":0},0,null,null,1,"SAC",null,{"$f":"IF($I199<>\"Yes\",$F199*2,($F199+ROUND(J199*$F199/SUM(COUNTRY_INFO!$E199:$G199),0))*2)","v":0},{"$f":"IF($I199<>\"Yes\",$G199*3,($G199+ROUND(J199*$G199/SUM(COUNTRY_INFO!$E199:$G199),0))*3)","v":0},0,null,0]
[{"$f":"IF(INTRO!$E$43=\"Non-endemic\",\" \", IF(COUNTRY_INFO!A200=0,\" \",COUNTRY_INFO!A200))","v":"Ghana"},{"$f":"IF(INTRO!$E$43=\"Non-endemic\",\" \", IF(COUNTRY_INFO!B200=0,\" \",COUNTRY_INFO!B200))","v":"Savannah"},{"$f":"IF(INTRO!$E$43=\"Non-endemic\",\" \", IF(COUNTRY_INFO!C200=0,\" \",COUNTRY_INFO!C200))","v":"North Gonja"},{"$f":"IF(INTRO!$E$43=\"Non-endemic\", \"Not required\", COUNTRY_INFO!Y200)","v":0},{"$f":"IF(OR(COUNTRY_INFO!R200=\"Unknown\",COUNTRY_INFO!R200=\"Surveillance\",COUNTRY_INFO!R200=\"Not required\",COUNTRY_INFO!R200=0),0,IF($D200<>0, COUNTRY_INFO!R200,0))","v":0},{"$f":"IF(OR(COUNTRY_INFO!S200=\"Unknown\",COUNTRY_INFO!S200=\"Surveillance\",COUNTRY_INFO!S200=\"Not required\",COUNTRY_INFO!S200=0),0,IF($D200<>0, COUNTRY_INFO!S200,0))","v":0},{"$f":"IF(OR(COUNTRY_INFO!T200=\"Unknown\",COUNTRY_INFO!T200=\"Surveillance\",COUNTRY_INFO!T200=\"Not required\",COUNTRY_INFO!T200=0),0,IF($D200<>0, COUNTRY_INFO!T200,0))","v":0},0,null,null,null,null,null,{"$f":"IF($I200<>\"Yes\",$F200*2,($F200+ROUND(J200*$F200/SUM(COUNTRY_INFO!$E200:$G200),0))*2)","v":0},{"$f":"IF($I200<>\"Yes\",$G200*3,($G200+ROUND(J200*$G200/SUM(COUNTRY_INFO!$E200:$G200),0))*3)","v":0},0,null,0]
[{"$f":"IF(INTRO!$E$43=\"Non-endemic\",\" \", IF(COUNTRY_INFO!A201=0,\" \",COUNTRY_INFO!A201))","v":"Ghana"},{"$f":"IF(INTRO!$E$43=\"Non-endemic\",\" \", IF(COUNTRY_INFO!B201=0,\" \",COUNTRY_INFO!B201))","v":"Savannah"},{"$f":"IF(INTRO!$E$43=\"Non-endemic\",\" \", IF(COUNTRY_INFO!C201=0,\" \",COUNTRY_INFO!C201))","v":"North-East Gonja"},{"$f":"IF(INTRO!$E$43=\"Non-endemic\", \"Not required\", COUNTRY_INFO!Y201)","v":1},{"$f":"IF(OR(COUNTRY_INFO!R201=\"Unknown\",COUNTRY_INFO!R201=\"Surveillance\",COUNTRY_INFO!R201=\"Not required\",COUNTRY_INFO!R201=0),0,IF($D201<>0, COUNTRY_INFO!R201,0))","v":3204},{"$f":"IF(OR(COUNTRY_INFO!S201=\"Unknown\",COUNTRY_INFO!S201=\"Surveillance\",COUNTRY_INFO!S201=\"Not required\",COUNTRY_INFO!S201=0),0,IF($D201<>0, COUNTRY_INFO!S201,0))","v":10064},{"$f":"IF(OR(COUNTRY_INFO!T201=\"Unknown\",COUNTRY_INFO!T201=\"Surveillance\",COUNTRY_INFO!T201=\"Not required\",COUNTRY_INFO!T201=0),0,IF($D201<>0, COUNTRY_INFO!T201,0))","v":55232},68500,null,null,1,"SAC",null,{"$f":"IF($I201<>\"Yes\",$F201*2,($F201+ROUND(J201*$F201/SUM(COUNTRY_INFO!$E201:$G201),0))*2)","v":20128},{"$f":"IF($I201<>\"Yes\",$G201*3,($G201+ROUND(J201*$G201/SUM(COUNTRY_INFO!$E201:$G201),0))*3)","v":165696},185824,null,185824]
[{"$f":"IF(INTRO!$E$43=\"Non-endemic\",\" \", IF(COUNTRY_INFO!A202=0,\" \",COUNTRY_INFO!A202))","v":"Ghana"},{"$f":"IF(INTRO!$E$43=\"Non-endemic\",\" \", IF(COUNTRY_INFO!B202=0,\" \",COUNTRY_INFO!B202))","v":"Savannah"},{"$f":"IF(INTRO!$E$43=\"Non-endemic\",\" \", IF(COUNTRY_INFO!C202=0,\" \",COUNTRY_INFO!C202))","v":"Sawla-Tuna-Kalba"},{"$f":"IF(INTRO!$E$43=\"Non-endemic\", \"Not required\", COUNTRY_INFO!Y202)","v":0},{"$f":"IF(OR(COUNTRY_INFO!R202=\"Unknown\",COUNTRY_INFO!R202=\"Surveillance\",COUNTRY_INFO!R202=\"Not required\",COUNTRY_INFO!R202=0),0,IF($D202<>0, COUNTRY_INFO!R202,0))","v":0},{"$f":"IF(OR(COUNTRY_INFO!S202=\"Unknown\",COUNTRY_INFO!S202=\"Surveillance\",COUNTRY_INFO!S202=\"Not required\",COUNTRY_INFO!S202=0),0,IF($D202<>0, COUNTRY_INFO!S202,0))","v":0},{"$f":"IF(OR(COUNTRY_INFO!T202=\"Unknown\",COUNTRY_INFO!T202=\"Surveillance\",COUNTRY_INFO!T202=\"Not required\",COUNTRY_INFO!T202=0),0,IF($D202<>0, COUNTRY_INFO!T202,0))","v":0},0,null,null,null,null,null,{"$f":"IF($I202<>\"Yes\",$F202*2,($F202+ROUND(J202*$F202/SUM(COUNTRY_INFO!$E202:$G202),0))*2)","v":0},{"$f":"IF($I202<>\"Yes\",$G202*3,($G202+ROUND(J202*$G202/SUM(COUNTRY_INFO!$E202:$G202),0))*3)","v":0},0,null,0]
[{"$f":"IF(INTRO!$E$43=\"Non-endemic\",\" \", IF(COUNTRY_INFO!A203=0,\" \",COUNTRY_INFO!A203))","v":"Ghana"},{"$f":"IF(INTRO!$E$43=\"Non-endemic\",\" \", IF(COUNTRY_INFO!B203=0,\" \",COUNTRY_INFO!B203))","v":"Savannah"},{"$f":"IF(INTRO!$E$43=\"Non-endemic\",\" \", IF(COUNTRY_INFO!C203=0,\" \",COUNTRY_INFO!C203))","v":"West Gonja"},{"$f":"IF(INTRO!$E$43=\"Non-endemic\", \"Not required\", COUNTRY_INFO!Y203)","v":0},{"$f":"IF(OR(COUNTRY_INFO!R203=\"Unknown\",COUNTRY_INFO!R203=\"Surveillance\",COUNTRY_INFO!R203=\"Not required\",COUNTRY_INFO!R203=0),0,IF($D203<>0, COUNTRY_INFO!R203,0))","v":0},{"$f":"IF(OR(COUNTRY_INFO!S203=\"Unknown\",COUNTRY_INFO!S203=\"Surveillance\",COUNTRY_INFO!S203=\"Not required\",COUNTRY_INFO!S203=0),0,IF($D203<>0, COUNTRY_INFO!S203,0))","v":0},{"$f":"IF(OR(COUNTRY_INFO!T203=\"Unknown\",COUNTRY_INFO!T203=\"Surveillance\",COUNTRY_INFO!T203=\"Not required\",COUNTRY_INFO!T203=0),0,IF($D203<>0, COUNTRY_INFO!T203,0))","v":0},{"$f":"SUM(E203:G203)","v":0},null,null,null,null,null,{"$f":"IF($I203<>\"Yes\",$F203*2,($F203+ROUND(J203*$F203/SUM(COUNTRY_INFO!$E203:$G203),0))*2)","v":0},{"$f":"IF($I203<>\"Yes\",$G203*3,($G203+ROUND(J203*$G203/SUM(COUNTRY_INFO!$E203:$G203),0))*3)","v":0},{"$f":"SUM(M203:O203)","v":0},null,{"$f":"IF($P203>$Q203,P203-Q203,0)","v":0}]
[{"$f":"IF(INTRO!$E$43=\"Non-endemic\",\" \", IF(COUNTRY_INFO!A204=0,\" \",COUNTRY_INFO!A204))","v":"Ghana"},{"$f":"IF(INTRO!$E$43=\"Non-endemic\",\" \", IF(COUNTRY_INFO!B204=0,\" \",COUNTRY_INFO!B204))","v":"Upper East"},{"$f":"IF(INTRO!$E$43=\"Non-endemic\",\" \", IF(COUNTRY_INFO!C204=0,\" \",COUNTRY_INFO!C204))","v":"Bawku Municipal"},{"$f":"IF(INTRO!$E$43=\"Non-endemic\", \"Not required\", COUNTRY_INFO!Y204)","v":1},{"$f":"IF(OR(COUNTRY_INFO!R204=\"Unknown\",COUNTRY_INFO!R204=\"Surveillance\",COUNTRY_INFO!R204=\"Not required\",COUNTRY_INFO!R204=0),0,IF($D204<>0, COUNTRY_INFO!R204,0))","v":9713},{"$f":"IF(OR(COUNTRY_INFO!S204=\"Unknown\",COUNTRY_INFO!S204=\"Surveillance\",COUNTRY_INFO!S204=\"Not required\",COUNTRY_INFO!S204=0),0,IF($D204<>0, COUNTRY_INFO!S204,0))","v":30509},{"$f":"IF(OR(COUNTRY_INFO!T204=\"Unknown\",COUNTRY_INFO!T204=\"Surveillance\",COUNTRY_INFO!T204=\"Not required\",COUNTRY_INFO!T204=0),0,IF($D204<>0, COUNTRY_INFO!T204,0))","v":0},40222,null,null,1,"SAC",null,{"$f":"IF($I204<>\"Yes\",$F204*2,($F204+ROUND(J204*$F204/SUM(COUNTRY_INFO!$E204:$G204),0))*2)","v":61018},{"$f":"IF($I204<>\"Yes\",$G204*3,($G204+ROUND(J204*$G204/SUM(COUNTRY_INFO!$E204:$G204),0))*3)","v":0},61018,null,61018]
[{"$f":"IF(INTRO!$E$43=\"Non-endemic\",\" \", IF(COUNTRY_INFO!A205=0,\" \",COUNTRY_INFO!A205))","v":"Ghana"},{"$f":"IF(INTRO!$E$43=\"Non-endemic\",\" \", IF(COUNTRY_INFO!B205=0,\" \",COUNTRY_INFO!B205))","v":"Upper East"},{"$f":"IF(INTRO!$E$43=\"Non-endemic\",\" \", IF(COUNTRY_INFO!C205=0,\" \",COUNTRY_INFO!C205))","v":"Bawku West"},{"$f":"IF(INTRO!$E$43=\"Non-endemic\", \"Not required\", COUNTRY_INFO!Y205)","v":1},{"$f":"IF(OR(COUNTRY_INFO!R205=\"Unknown\",COUNTRY_INFO!R205=\"Surveillance\",COUNTRY_INFO!R205=\"Not required\",COUNTRY_INFO!R205=0),0,IF($D205<>0, COUNTRY_INFO!R205,0))","v":11724},{"$f":"IF(OR(COUNTRY_INFO!S205=\"Unknown\",COUNTRY_INFO!S205=\"Surveillance\",COUNTRY_INFO!S205=\"Not required\",COUNTRY_INFO!S205=0),0,IF($D205<>0, COUNTRY_INFO!S205,0))","v":36825},{"$f":"IF(OR(COUNTRY_INFO!T205=\"Unknown\",COUNTRY_INFO!T205=\"Surveillance\",COUNTRY_INFO!T205=\"Not required\",COUNTRY_INFO!T205=0),0,IF($D205<>0, COUNTRY_INFO!T205,0))","v":0},48549,null,null,1,"SAC",null,{"$f":"IF($I205<>\"Yes\",$F205*2,($F205+ROUND(J205*$F205/SUM(COUNTRY_INFO!$E205:$G205),0))*2)","v":73650},{"$f":"IF($I205<>\"Yes\",$G205*3,($G205+ROUND(J205*$G205/SUM(COUNTRY_INFO!$E205:$G205),0))*3)","v":0},73650,null,73650]
[{"$f":"IF(INTRO!$E$43=\"Non-endemic\",\" \", IF(COUNTRY_INFO!A206=0,\" \",COUNTRY_INFO!A206))","v":"Ghana"},{"$f":"IF(INTRO!$E$43=\"Non-endemic\",\" \", IF(COUNTRY_INFO!B206=0,\" \",COUNTRY_INFO!B206))","v":"Upper East"},{"$f":"IF(INTRO!$E$43=\"Non-endemic\",\" \", IF(COUNTRY_INFO!C206=0,\" \",COUNTRY_INFO!C206))","v":"Binduri"},{"$f":"IF(INTRO!$E$43=\"Non-endemic\", \"Not required\", COUNTRY_INFO!Y206)","v":1},{"$f":"IF(OR(COUNTRY_INFO!R206=\"Unknown\",COUNTRY_INFO!R206=\"Surveillance\",COUNTRY_INFO!R206=\"Not required\",COUNTRY_INFO!R206=0),0,IF($D206<>0, COUNTRY_INFO!R206,0))","v":6235},{"$f":"IF(OR(COUNTRY_INFO!S206=\"Unknown\",COUNTRY_INFO!S206=\"Surveillance\",COUNTRY_INFO!S206=\"Not required\",COUNTRY_INFO!S206=0),0,IF($D206<>0, COUNTRY_INFO!S206,0))","v":19584},{"$f":"IF(OR(COUNTRY_INFO!T206=\"Unknown\",COUNTRY_INFO!T206=\"Surveillance\",COUNTRY_INFO!T206=\"Not required\",COUNTRY_INFO!T206=0),0,IF($D206<>0, COUNTRY_INFO!T206,0))","v":0},25819,null,null,1,"SAC",null,{"$f":"IF($I206<>\"Yes\",$F206*2,($F206+ROUND(J206*$F206/SUM(COUNTRY_INFO!$E206:$G206),0))*2)","v":39168},{"$f":"IF($I206<>\"Yes\",$G206*3,($G206+ROUND(J206*$G206/SUM(COUNTRY_INFO!$E206:$G206),0))*3)","v":0},39168,null,39168]
[{"$f":"IF(INTRO!$E$43=\"Non-endemic\",\" \", IF(COUNTRY_INFO!A207=0,\" \",COUNTRY_INFO!A207))","v":"Ghana"},{"$f":"IF(INTRO!$E$43=\"Non-endemic\",\" \", IF(COUNTRY_INFO!B207=0,\" \",COUNTRY_INFO!B207))","v":"Upper East"},{"$f":"IF(INTRO!$E$43=\"Non-endemic\",\" \", IF(COUNTRY_INFO!C207=0,\" \",COUNTRY_INFO!C207))","v":"Bolgatanga East"},{"$f":"IF(INTRO!$E$43=\"Non-endemic\", \"Not required\", COUNTRY_INFO!Y207)","v":1},{"$f":"IF(OR(COUNTRY_INFO!R207=\"Unknown\",COUNTRY_INFO!R207=\"Surveillance\",COUNTRY_INFO!R207=\"Not required\",COUNTRY_INFO!R207=0),0,IF($D207<>0, COUNTRY_INFO!R207,0))","v":3157},{"$f":"IF(OR(COUNTRY_INFO!S207=\"Unknown\",COUNTRY_INFO!S207=\"Surveillance\",COUNTRY_INFO!S207=\"Not required\",COUNTRY_INFO!S207=0),0,IF($D207<>0, COUNTRY_INFO!S207,0))","v":9916},{"$f":"IF(OR(COUNTRY_INFO!T207=\"Unknown\",COUNTRY_INFO!T207=\"Surveillance\",COUNTRY_INFO!T207=\"Not required\",COUNTRY_INFO!T207=0),0,IF($D207<>0, COUNTRY_INFO!T207,0))","v":0},13073,null,null,1,"SAC",null,{"$f":"IF($I207<>\"Yes\",$F207*2,($F207+ROUND(J207*$F207/SUM(COUNTRY_INFO!$E207:$G207),0))*2)","v":19832},{"$f":"IF($I207<>\"Yes\",$G207*3,($G207+ROUND(J207*$G207/SUM(COUNTRY_INFO!$E207:$G207),0))*3)","v":0},19832,null,19832]
[{"$f":"IF(INTRO!$E$43=\"Non-endemic\",\" \", IF(COUNTRY_INFO!A208=0,\" \",COUNTRY_INFO!A208))","v":"Ghana"},{"$f":"IF(INTRO!$E$43=\"Non-endemic\",\" \", IF(COUNTRY_INFO!B208=0,\" \",COUNTRY_INFO!B208))","v":"Upper East"},{"$f":"IF(INTRO!$E$43=\"Non-endemic\",\" \", IF(COUNTRY_INFO!C208=0,\" \",COUNTRY_INFO!C208))","v":"Bolgatanga Municipal"},{"$f":"IF(INTRO!$E$43=\"Non-endemic\", \"Not required\", COUNTRY_INFO!Y208)","v":1},{"$f":"IF(OR(COUNTRY_INFO!R208=\"Unknown\",COUNTRY_INFO!R208=\"Surveillance\",COUNTRY_INFO!R208=\"Not required\",COUNTRY_INFO!R208=0),0,IF($D208<>0, COUNTRY_INFO!R208,0))","v":11372},{"$f":"IF(OR(COUNTRY_INFO!S208=\"Unknown\",COUNTRY_INFO!S208=\"Surveillance\",COUNTRY_INFO!S208=\"Not required\",COUNTRY_INFO!S208=0),0,IF($D208<>0, COUNTRY_INFO!S208,0))","v":35721},{"$f":"IF(OR(COUNTRY_INFO!T208=\"Unknown\",COUNTRY_INFO!T208=\"Surveillance\",COUNTRY_INFO!T208=\"Not required\",COUNTRY_INFO!T208=0),0,IF($D208<>0, COUNTRY_INFO!T208,0))","v":0},47093,null,null,1,"SAC",null,{"$f":"IF($I208<>\"Yes\",$F208*2,($F208+ROUND(J208*$F208/SUM(COUNTRY_INFO!$E208:$G208),0))*2)","v":71442},{"$f":"IF($I208<>\"Yes\",$G208*3,($G208+ROUND(J208*$G208/SUM(COUNTRY_INFO!$E208:$G208),0))*3)","v":0},71442,null,71442]
[{"$f":"IF(INTRO!$E$43=\"Non-endemic\",\" \", IF(COUNTRY_INFO!A209=0,\" \",COUNTRY_INFO!A209))","v":"Ghana"},{"$f":"IF(INTRO!$E$43=\"Non-endemic\",\" \", IF(COUNTRY_INFO!B209=0,\" \",COUNTRY_INFO!B209))","v":"Upper East"},{"$f":"IF(INTRO!$E$43=\"Non-endemic\",\" \", IF(COUNTRY_INFO!C209=0,\" \",COUNTRY_INFO!C209))","v":"Bongo"},{"$f":"IF(INTRO!$E$43=\"Non-endemic\", \"Not required\", COUNTRY_INFO!Y209)","v":1},{"$f":"IF(OR(COUNTRY_INFO!R209=\"Unknown\",COUNTRY_INFO!R209=\"Surveillance\",COUNTRY_INFO!R209=\"Not required\",COUNTRY_INFO!R209=0),0,IF($D209<>0, COUNTRY_INFO!R209,0))","v":9778},{"$f":"IF(OR(COUNTRY_INFO!S209=\"Unknown\",COUNTRY_INFO!S209=\"Surveillance\",COUNTRY_INFO!S209=\"Not required\",COUNTRY_INFO!S209=0),0,IF($D209<>0, COUNTRY_INFO!S209,0))","v":30713},{"$f":"IF(OR(COUNTRY_INFO!T209=\"Unknown\",COUNTRY_INFO!T209=\"Surveillance\",COUNTRY_INFO!T209=\"Not required\",COUNTRY_INFO!T209=0),0,IF($D209<>0, COUNTRY_INFO!T209,0))","v":81608},122099,null,null,1,"SAC",null,{"$f":"IF($I209<>\"Yes\",$F209*2,($F209+ROUND(J209*$F209/SUM(COUNTRY_INFO!$E209:$G209),0))*2)","v":61426},{"$f":"IF($I209<>\"Yes\",$G209*3,($G209+ROUND(J209*$G209/SUM(COUNTRY_INFO!$E209:$G209),0))*3)","v":244824},306250,null,306250]
[{"$f":"IF(INTRO!$E$43=\"Non-endemic\",\" \", IF(COUNTRY_INFO!A210=0,\" \",COUNTRY_INFO!A210))","v":"Ghana"},{"$f":"IF(INTRO!$E$43=\"Non-endemic\",\" \", IF(COUNTRY_INFO!B210=0,\" \",COUNTRY_INFO!B210))","v":"Upper East"},{"$f":"IF(INTRO!$E$43=\"Non-endemic\",\" \", IF(COUNTRY_INFO!C210=0,\" \",COUNTRY_INFO!C210))","v":"Builsa North"},{"$f":"IF(INTRO!$E$43=\"Non-endemic\", \"Not required\", COUNTRY_INFO!Y210)","v":1},{"$f":"IF(OR(COUNTRY_INFO!R210=\"Unknown\",COUNTRY_INFO!R210=\"Surveillance\",COUNTRY_INFO!R210=\"Not required\",COUNTRY_INFO!R210=0),0,IF($D210<>0, COUNTRY_INFO!R210,0))","v":4600},{"$f":"IF(OR(COUNTRY_INFO!S210=\"Unknown\",COUNTRY_INFO!S210=\"Surveillance\",COUNTRY_INFO!S210=\"Not required\",COUNTRY_INFO!S210=0),0,IF($D210<>0, COUNTRY_INFO!S210,0))","v":14448},{"$f":"IF(OR(COUNTRY_INFO!T210=\"Unknown\",COUNTRY_INFO!T210=\"Surveillance\",COUNTRY_INFO!T210=\"Not required\",COUNTRY_INFO!T210=0),0,IF($D210<>0, COUNTRY_INFO!T210,0))","v":0},19048,null,null,1,"SAC",null,{"$f":"IF($I210<>\"Yes\",$F210*2,($F210+ROUND(J210*$F210/SUM(COUNTRY_INFO!$E210:$G210),0))*2)","v":28896},{"$f":"IF($I210<>\"Yes\",$G210*3,($G210+ROUND(J210*$G210/SUM(COUNTRY_INFO!$E210:$G210),0))*3)","v":0},28896,null,28896]
[{"$f":"IF(INTRO!$E$43=\"Non-endemic\",\" \", IF(COUNTRY_INFO!A211=0,\" \",COUNTRY_INFO!A211))","v":"Ghana"},{"$f":"IF(INTRO!$E$43=\"Non-endemic\",\" \", IF(COUNTRY_INFO!B211=0,\" \",COUNTRY_INFO!B211))","v":"Upper East"},{"$f":"IF(INTRO!$E$43=\"Non-endemic\",\" \", IF(COUNTRY_INFO!C211=0,\" \",COUNTRY_INFO!C211))","v":"Builsa South"},{"$f":"IF(INTRO!$E$43=\"Non-endemic\", \"Not required\", COUNTRY_INFO!Y211)","v":1},{"$f":"IF(OR(COUNTRY_INFO!R211=\"Unknown\",COUNTRY_INFO!R211=\"Surveillance\",COUNTRY_INFO!R211=\"Not required\",COUNTRY_INFO!R211=0),0,IF($D211<>0, COUNTRY_INFO!R211,0))","v":2974},{"$f":"IF(OR(COUNTRY_INFO!S211=\"Unknown\",COUNTRY_INFO!S211=\"Surveillance\",COUNTRY_INFO!S211=\"Not required\",COUNTRY_INFO!S211=0),0,IF($D211<>0, COUNTRY_INFO!S211,0))","v":9341},{"$f":"IF(OR(COUNTRY_INFO!T211=\"Unknown\",COUNTRY_INFO!T211=\"Surveillance\",COUNTRY_INFO!T211=\"Not required\",COUNTRY_INFO!T211=0),0,IF($D211<>0, COUNTRY_INFO!T211,0))","v":0},12315,null,null,1,"SAC",null,{"$f":"IF($I211<>\"Yes\",$F211*2,($F211+ROUND(J211*$F211/SUM(COUNTRY_INFO!$E211:$G211),0))*2)","v":18682},{"$f":"IF($I211<>\"Yes\",$G211*3,($G211+ROUND(J211*$G211/SUM(COUNTRY_INFO!$E211:$G211),0))*3)","v":0},18682,null,18682]
[{"$f":"IF(INTRO!$E$43=\"Non-endemic\",\" \", IF(COUNTRY_INFO!A212=0,\" \",COUNTRY_INFO!A212))","v":"Ghana"},{"$f":"IF(INTRO!$E$43=\"Non-endemic\",\" \", IF(COUNTRY_INFO!B212=0,\" \",COUNTRY_INFO!B212))","v":"Upper East"},{"$f":"IF(INTRO!$E$43=\"Non-endemic\",\" \", IF(COUNTRY_INFO!C212=0,\" \",COUNTRY_INFO!C212))","v":"Garu"},{"$f":"IF(INTRO!$E$43=\"Non-endemic\", \"Not required\", COUNTRY_INFO!Y212)","v":1},{"$f":"IF(OR(COUNTRY_INFO!R212=\"Unknown\",COUNTRY_INFO!R212=\"Surveillance\",COUNTRY_INFO!R212=\"Not required\",COUNTRY_INFO!R212=0),0,IF($D212<>0, COUNTRY_INFO!R212,0))","v":5836},{"$f":"IF(OR(COUNTRY_INFO!S212=\"Unknown\",COUNTRY_INFO!S212=\"Surveillance\",COUNTRY_INFO!S212=\"Not required\",COUNTRY_INFO!S212=0),0,IF($D212<>0, COUNTRY_INFO!S212,0))","v":18331},{"$f":"IF(OR(COUNTRY_INFO!T212=\"Unknown\",COUNTRY_INFO!T212=\"Surveillance\",COUNTRY_INFO!T212=\"Not required\",COUNTRY_INFO!T212=0),0,IF($D212<>0, COUNTRY_INFO!T212,0))","v":0},24167,null,null,1,"SAC",null,{"$f":"IF($I212<>\"Yes\",$F212*2,($F212+ROUND(J212*$F212/SUM(COUNTRY_INFO!$E212:$G212),0))*2)","v":36662},{"$f":"IF($I212<>\"Yes\",$G212*3,($G212+ROUND(J212*$G212/SUM(COUNTRY_INFO!$E212:$G212),0))*3)","v":0},36662,null,36662]
[{"$f":"IF(INTRO!$E$43=\"Non-endemic\",\" \", IF(COUNTRY_INFO!A213=0,\" \",COUNTRY_INFO!A213))","v":"Ghana"},{"$f":"IF(INTRO!$E$43=\"Non-endemic\",\" \", IF(COUNTRY_INFO!B213=0,\" \",COUNTRY_INFO!B213))","v":"Upper East"},{"$f":"IF(INTRO!$E$43=\"Non-endemic\",\" \", IF(COUNTRY_INFO!C213=0,\" \",COUNTRY_INFO!C213))","v":"Kasena-Nankana"},{"$f":"IF(INTRO!$E$43=\"Non-endemic\", \"Not required\", COUNTRY_INFO!Y213)","v":1},{"$f":"IF(OR(COUNTRY_INFO!R213=\"Unknown\",COUNTRY_INFO!R213=\"Surveillance\",COUNTRY_INFO!R213=\"Not required\",COUNTRY_INFO!R213=0),0,IF($D213<>0, COUNTRY_INFO!R213,0))","v":0},{"$f":"IF(OR(COUNTRY_INFO!S213=\"Unknown\",COUNTRY_INFO!S213=\"Surveillance\",COUNTRY_INFO!S213=\"Not required\",COUNTRY_INFO!S213=0),0,IF($D213<>0, COUNTRY_INFO!S213,0))","v":0},{"$f":"IF(OR(COUNTRY_INFO!T213=\"Unknown\",COUNTRY_INFO!T213=\"Surveillance\",COUNTRY_INFO!T213=\"Not required\",COUNTRY_INFO!T213=0),0,IF($D213<>0, COUNTRY_INFO!T213,0))","v":0},0,null,null,1,"SAC",null,{"$f":"IF($I213<>\"Yes\",$F213*2,($F213+ROUND(J213*$F213/SUM(COUNTRY_INFO!$E213:$G213),0))*2)","v":0},{"$f":"IF($I213<>\"Yes\",$G213*3,($G213+ROUND(J213*$G213/SUM(COUNTRY_INFO!$E213:$G213),0))*3)","v":0},0,null,0]
[{"$f":"IF(INTRO!$E$43=\"Non-endemic\",\" \", IF(COUNTRY_INFO!A214=0,\" \",COUNTRY_INFO!A214))","v":"Ghana"},{"$f":"IF(INTRO!$E$43=\"Non-endemic\",\" \", IF(COUNTRY_INFO!B214=0,\" \",COUNTRY_INFO!B214))","v":"Upper East"},{"$f":"IF(INTRO!$E$43=\"Non-endemic\",\" \", IF(COUNTRY_INFO!C214=0,\" \",COUNTRY_INFO!C214))","v":"Kasena-Nankana West"},{"$f":"IF(INTRO!$E$43=\"Non-endemic\", \"Not required\", COUNTRY_INFO!Y214)","v":1},{"$f":"IF(OR(COUNTRY_INFO!R214=\"Unknown\",COUNTRY_INFO!R214=\"Surveillance\",COUNTRY_INFO!R214=\"Not required\",COUNTRY_INFO!R214=0),0,IF($D214<>0, COUNTRY_INFO!R214,0))","v":7378},{"$f":"IF(OR(COUNTRY_INFO!S214=\"Unknown\",COUNTRY_INFO!S214=\"Surveillance\",COUNTRY_INFO!S214=\"Not required\",COUNTRY_INFO!S214=0),0,IF($D214<>0, COUNTRY_INFO!S214,0))","v":23174},{"$f":"IF(OR(COUNTRY_INFO!T214=\"Unknown\",COUNTRY_INFO!T214=\"Surveillance\",COUNTRY_INFO!T214=\"Not required\",COUNTRY_INFO!T214=0),0,IF($D214<>0, COUNTRY_INFO!T214,0))","v":61575},92127,null,null,1,"SAC",null,{"$f":"IF($I214<>\"Yes\",$F214*2,($F214+ROUND(J214*$F214/SUM(COUNTRY_INFO!$E214:$G214),0))*2)","v":46348},{"$f":"IF($I214<>\"Yes\",$G214*3,($G214+ROUND(J214*$G214/SUM(COUNTRY_INFO!$E214:$G214),0))*3)","v":184725},231073,null,231073]
[{"$f":"IF(INTRO!$E$43=\"Non-endemic\",\" \", IF(COUNTRY_INFO!A215=0,\" \",COUNTRY_INFO!A215))","v":"Ghana"},{"$f":"IF(INTRO!$E$43=\"Non-endemic\",\" \", IF(COUNTRY_INFO!B215=0,\" \",COUNTRY_INFO!B215))","v":"Upper East"},{"$f":"IF(INTRO!$E$43=\"Non-endemic\",\" \", IF(COUNTRY_INFO!C215=0,\" \",COUNTRY_INFO!C215))","v":"Nabdam"},{"$f":"IF(INTRO!$E$43=\"Non-endemic\", \"Not required\", COUNTRY_INFO!Y215)","v":1},{"$f":"IF(OR(COUNTRY_INFO!R215=\"Unknown\",COUNTRY_INFO!R215=\"Surveillance\",COUNTRY_INFO!R215=\"Not required\",COUNTRY_INFO!R215=0),0,IF($D215<>0, COUNTRY_INFO!R215,0))","v":4217},{"$f":"IF(OR(COUNTRY_INFO!S215=\"Unknown\",COUNTRY_INFO!S215=\"Surveillance\",COUNTRY_INFO!S215=\"Not required\",COUNTRY_INFO!S215=0),0,IF($D215<>0, COUNTRY_INFO!S215,0))","v":13245},{"$f":"IF(OR(COUNTRY_INFO!T215=\"Unknown\",COUNTRY_INFO!T215=\"Surveillance\",COUNTRY_INFO!T215=\"Not required\",COUNTRY_INFO!T215=0),0,IF($D215<>0, COUNTRY_INFO!T215,0))","v":0},17462,null,null,1,"SAC",null,{"$f":"IF($I215<>\"Yes\",$F215*2,($F215+ROUND(J215*$F215/SUM(COUNTRY_INFO!$E215:$G215),0))*2)","v":26490},{"$f":"IF($I215<>\"Yes\",$G215*3,($G215+ROUND(J215*$G215/SUM(COUNTRY_INFO!$E215:$G215),0))*3)","v":0},26490,null,26490]
[{"$f":"IF(INTRO!$E$43=\"Non-endemic\",\" \", IF(COUNTRY_INFO!A216=0,\" \",COUNTRY_INFO!A216))","v":"Ghana"},{"$f":"IF(INTRO!$E$43=\"Non-endemic\",\" \", IF(COUNTRY_INFO!B216=0,\" \",COUNTRY_INFO!B216))","v":"Upper East"},{"$f":"IF(INTRO!$E$43=\"Non-endemic\",\" \", IF(COUNTRY_INFO!C216=0,\" \",COUNTRY_INFO!C216))","v":"Pusiga"},{"$f":"IF(INTRO!$E$43=\"Non-endemic\", \"Not required\", COUNTRY_INFO!Y216)","v":1},{"$f":"IF(OR(COUNTRY_INFO!R216=\"Unknown\",COUNTRY_INFO!R216=\"Surveillance\",COUNTRY_INFO!R216=\"Not required\",COUNTRY_INFO!R216=0),0,IF($D216<>0, COUNTRY_INFO!R216,0))","v":6548},{"$f":"IF(OR(COUNTRY_INFO!S216=\"Unknown\",COUNTRY_INFO!S216=\"Surveillance\",COUNTRY_INFO!S216=\"Not required\",COUNTRY_INFO!S216=0),0,IF($D216<>0, COUNTRY_INFO!S216,0))","v":20568},{"$f":"IF(OR(COUNTRY_INFO!T216=\"Unknown\",COUNTRY_INFO!T216=\"Surveillance\",COUNTRY_INFO!T216=\"Not required\",COUNTRY_INFO!T216=0),0,IF($D216<>0, COUNTRY_INFO!T216,0))","v":0},27116,null,null,1,"SAC",null,{"$f":"IF($I216<>\"Yes\",$F216*2,($F216+ROUND(J216*$F216/SUM(COUNTRY_INFO!$E216:$G216),0))*2)","v":41136},{"$f":"IF($I216<>\"Yes\",$G216*3,($G216+ROUND(J216*$G216/SUM(COUNTRY_INFO!$E216:$G216),0))*3)","v":0},41136,null,41136]
[{"$f":"IF(INTRO!$E$43=\"Non-endemic\",\" \", IF(COUNTRY_INFO!A217=0,\" \",COUNTRY_INFO!A217))","v":"Ghana"},{"$f":"IF(INTRO!$E$43=\"Non-endemic\",\" \", IF(COUNTRY_INFO!B217=0,\" \",COUNTRY_INFO!B217))","v":"Upper East"},{"$f":"IF(INTRO!$E$43=\"Non-endemic\",\" \", IF(COUNTRY_INFO!C217=0,\" \",COUNTRY_INFO!C217))","v":"Talensi"},{"$f":"IF(INTRO!$E$43=\"Non-endemic\", \"Not required\", COUNTRY_INFO!Y217)","v":1},{"$f":"IF(OR(COUNTRY_INFO!R217=\"Unknown\",COUNTRY_INFO!R217=\"Surveillance\",COUNTRY_INFO!R217=\"Not required\",COUNTRY_INFO!R217=0),0,IF($D217<>0, COUNTRY_INFO!R217,0))","v":7076},{"$f":"IF(OR(COUNTRY_INFO!S217=\"Unknown\",COUNTRY_INFO!S217=\"Surveillance\",COUNTRY_INFO!S217=\"Not required\",COUNTRY_INFO!S217=0),0,IF($D217<>0, COUNTRY_INFO!S217,0))","v":22225},{"$f":"IF(OR(COUNTRY_INFO!T217=\"Unknown\",COUNTRY_INFO!T217=\"Surveillance\",COUNTRY_INFO!T217=\"Not required\",COUNTRY_INFO!T217=0),0,IF($D217<>0, COUNTRY_INFO!T217,0))","v":0},29301,null,null,1,"SAC",null,{"$f":"IF($I217<>\"Yes\",$F217*2,($F217+ROUND(J217*$F217/SUM(COUNTRY_INFO!$E217:$G217),0))*2)","v":44450},{"$f":"IF($I217<>\"Yes\",$G217*3,($G217+ROUND(J217*$G217/SUM(COUNTRY_INFO!$E217:$G217),0))*3)","v":0},44450,null,44450]
[{"$f":"IF(INTRO!$E$43=\"Non-endemic\",\" \", IF(COUNTRY_INFO!A218=0,\" \",COUNTRY_INFO!A218))","v":"Ghana"},{"$f":"IF(INTRO!$E$43=\"Non-endemic\",\" \", IF(COUNTRY_INFO!B218=0,\" \",COUNTRY_INFO!B218))","v":"Upper East"},{"$f":"IF(INTRO!$E$43=\"Non-endemic\",\" \", IF(COUNTRY_INFO!C218=0,\" \",COUNTRY_INFO!C218))","v":"Tempane"},{"$f":"IF(INTRO!$E$43=\"Non-endemic\", \"Not required\", COUNTRY_INFO!Y218)","v":1},{"$f":"IF(OR(COUNTRY_INFO!R218=\"Unknown\",COUNTRY_INFO!R218=\"Surveillance\",COUNTRY_INFO!R218=\"Not required\",COUNTRY_INFO!R218=0),0,IF($D218<>0, COUNTRY_INFO!R218,0))","v":7073},{"$f":"IF(OR(COUNTRY_INFO!S218=\"Unknown\",COUNTRY_INFO!S218=\"Surveillance\",COUNTRY_INFO!S218=\"Not required\",COUNTRY_INFO!S218=0),0,IF($D218<>0, COUNTRY_INFO!S218,0))","v":22218},{"$f":"IF(OR(COUNTRY_INFO!T218=\"Unknown\",COUNTRY_INFO!T218=\"Surveillance\",COUNTRY_INFO!T218=\"Not required\",COUNTRY_INFO!T218=0),0,IF($D218<>0, COUNTRY_INFO!T218,0))","v":0},29291,null,null,1,"SAC",null,{"$f":"IF($I218<>\"Yes\",$F218*2,($F218+ROUND(J218*$F218/SUM(COUNTRY_INFO!$E218:$G218),0))*2)","v":44436},{"$f":"IF($I218<>\"Yes\",$G218*3,($G218+ROUND(J218*$G218/SUM(COUNTRY_INFO!$E218:$G218),0))*3)","v":0},44436,null,44436]
[{"$f":"IF(INTRO!$E$43=\"Non-endemic\",\" \", IF(COUNTRY_INFO!A219=0,\" \",COUNTRY_INFO!A219))","v":"Ghana"},{"$f":"IF(INTRO!$E$43=\"Non-endemic\",\" \", IF(COUNTRY_INFO!B219=0,\" \",COUNTRY_INFO!B219))","v":"Upper West"},{"$f":"IF(INTRO!$E$43=\"Non-endemic\",\" \", IF(COUNTRY_INFO!C219=0,\" \",COUNTRY_INFO!C219))","v":"Daffiama-Bussie-Issa"},{"$f":"IF(INTRO!$E$43=\"Non-endemic\", \"Not required\", COUNTRY_INFO!Y219)","v":1},{"$f":"IF(OR(COUNTRY_INFO!R219=\"Unknown\",COUNTRY_INFO!R219=\"Surveillance\",COUNTRY_INFO!R219=\"Not required\",COUNTRY_INFO!R219=0),0,IF($D219<>0, COUNTRY_INFO!R219,0))","v":3151},{"$f":"IF(OR(COUNTRY_INFO!S219=\"Unknown\",COUNTRY_INFO!S219=\"Surveillance\",COUNTRY_INFO!S219=\"Not required\",COUNTRY_INFO!S219=0),0,IF($D219<>0, COUNTRY_INFO!S219,0))","v":9897},{"$f":"IF(OR(COUNTRY_INFO!T219=\"Unknown\",COUNTRY_INFO!T219=\"Surveillance\",COUNTRY_INFO!T219=\"Not required\",COUNTRY_INFO!T219=0),0,IF($D219<>0, COUNTRY_INFO!T219,0))","v":0},13048,null,null,1,"SAC",null,{"$f":"IF($I219<>\"Yes\",$F219*2,($F219+ROUND(J219*$F219/SUM(COUNTRY_INFO!$E219:$G219),0))*2)","v":19794},{"$f":"IF($I219<>\"Yes\",$G219*3,($G219+ROUND(J219*$G219/SUM(COUNTRY_INFO!$E219:$G219),0))*3)","v":0},19794,null,19794]
[{"$f":"IF(INTRO!$E$43=\"Non-endemic\",\" \", IF(COUNTRY_INFO!A220=0,\" \",COUNTRY_INFO!A220))","v":"Ghana"},{"$f":"IF(INTRO!$E$43=\"Non-endemic\",\" \", IF(COUNTRY_INFO!B220=0,\" \",COUNTRY_INFO!B220))","v":"Upper West"},{"$f":"IF(INTRO!$E$43=\"Non-endemic\",\" \", IF(COUNTRY_INFO!C220=0,\" \",COUNTRY_INFO!C220))","v":"Jirapa"},{"$f":"IF(INTRO!$E$43=\"Non-endemic\", \"Not required\", COUNTRY_INFO!Y220)","v":1},{"$f":"IF(OR(COUNTRY_INFO!R220=\"Unknown\",COUNTRY_INFO!R220=\"Surveillance\",COUNTRY_INFO!R220=\"Not required\",COUNTRY_INFO!R220=0),0,IF($D220<>0, COUNTRY_INFO!R220,0))","v":7422},{"$f":"IF(OR(COUNTRY_INFO!S220=\"Unknown\",COUNTRY_INFO!S220=\"Surveillance\",COUNTRY_INFO!S220=\"Not required\",COUNTRY_INFO!S220=0),0,IF($D220<>0, COUNTRY_INFO!S220,0))","v":23313},{"$f":"IF(OR(COUNTRY_INFO!T220=\"Unknown\",COUNTRY_INFO!T220=\"Surveillance\",COUNTRY_INFO!T220=\"Not required\",COUNTRY_INFO!T220=0),0,IF($D220<>0, COUNTRY_INFO!T220,0))","v":0},30735,null,null,1,"SAC",null,{"$f":"IF($I220<>\"Yes\",$F220*2,($F220+ROUND(J220*$F220/SUM(COUNTRY_INFO!$E220:$G220),0))*2)","v":46626},{"$f":"IF($I220<>\"Yes\",$G220*3,($G220+ROUND(J220*$G220/SUM(COUNTRY_INFO!$E220:$G220),0))*3)","v":0},46626,null,46626]
[{"$f":"IF(INTRO!$E$43=\"Non-endemic\",\" \", IF(COUNTRY_INFO!A221=0,\" \",COUNTRY_INFO!A221))","v":"Ghana"},{"$f":"IF(INTRO!$E$43=\"Non-endemic\",\" \", IF(COUNTRY_INFO!B221=0,\" \",COUNTRY_INFO!B221))","v":"Upper West"},{"$f":"IF(INTRO!$E$43=\"Non-endemic\",\" \", IF(COUNTRY_INFO!C221=0,\" \",COUNTRY_INFO!C221))","v":"Lambussie"},{"$f":"IF(INTRO!$E$43=\"Non-endemic\", \"Not required\", COUNTRY_INFO!Y221)","v":1},{"$f":"IF(OR(COUNTRY_INFO!R221=\"Unknown\",COUNTRY_INFO!R221=\"Surveillance\",COUNTRY_INFO!R221=\"Not required\",COUNTRY_INFO!R221=0),0,IF($D221<>0, COUNTRY_INFO!R221,0))","v":4157},{"$f":"IF(OR(COUNTRY_INFO!S221=\"Unknown\",COUNTRY_INFO!S221=\"Surveillance\",COUNTRY_INFO!S221=\"Not required\",COUNTRY_INFO!S221=0),0,IF($D221<>0, COUNTRY_INFO!S221,0))","v":13055},{"$f":"IF(OR(COUNTRY_INFO!T221=\"Unknown\",COUNTRY_INFO!T221=\"Surveillance\",COUNTRY_INFO!T221=\"Not required\",COUNTRY_INFO!T221=0),0,IF($D221<>0, COUNTRY_INFO!T221,0))","v":0},17212,null,null,1,"SAC",null,{"$f":"IF($I221<>\"Yes\",$F221*2,($F221+ROUND(J221*$F221/SUM(COUNTRY_INFO!$E221:$G221),0))*2)","v":26110},{"$f":"IF($I221<>\"Yes\",$G221*3,($G221+ROUND(J221*$G221/SUM(COUNTRY_INFO!$E221:$G221),0))*3)","v":0},26110,null,26110]
[{"$f":"IF(INTRO!$E$43=\"Non-endemic\",\" \", IF(COUNTRY_INFO!A222=0,\" \",COUNTRY_INFO!A222))","v":"Ghana"},{"$f":"IF(INTRO!$E$43=\"Non-endemic\",\" \", IF(COUNTRY_INFO!B222=0,\" \",COUNTRY_INFO!B222))","v":"Upper West"},{"$f":"IF(INTRO!$E$43=\"Non-endemic\",\" \", IF(COUNTRY_INFO!C222=0,\" \",COUNTRY_INFO!C222))","v":"Lawra"},{"$f":"IF(INTRO!$E$43=\"Non-endemic\", \"Not required\", COUNTRY_INFO!Y222)","v":0},{"$f":"IF(OR(COUNTRY_INFO!R222=\"Unknown\",COUNTRY_INFO!R222=\"Surveillance\",COUNTRY_INFO!R222=\"Not required\",COUNTRY_INFO!R222=0),0,IF($D222<>0, COUNTRY_INFO!R222,0))","v":0},{"$f":"IF(OR(COUNTRY_INFO!S222=\"Unknown\",COUNTRY_INFO!S222=\"Surveillance\",COUNTRY_INFO!S222=\"Not required\",COUNTRY_INFO!S222=0),0,IF($D222<>0, COUNTRY_INFO!S222,0))","v":0},{"$f":"IF(OR(COUNTRY_INFO!T222=\"Unknown\",COUNTRY_INFO!T222=\"Surveillance\",COUNTRY_INFO!T222=\"Not required\",COUNTRY_INFO!T222=0),0,IF($D222<>0, COUNTRY_INFO!T222,0))","v":0},0,null,null,null,null,null,{"$f":"IF($I222<>\"Yes\",$F222*2,($F222+ROUND(J222*$F222/SUM(COUNTRY_INFO!$E222:$G222),0))*2)","v":0},{"$f":"IF($I222<>\"Yes\",$G222*3,($G222+ROUND(J222*$G222/SUM(COUNTRY_INFO!$E222:$G222),0))*3)","v":0},0,null,0]
[{"$f":"IF(INTRO!$E$43=\"Non-endemic\",\" \", IF(COUNTRY_INFO!A223=0,\" \",COUNTRY_INFO!A223))","v":"Ghana"},{"$f":"IF(INTRO!$E$43=\"Non-endemic\",\" \", IF(COUNTRY_INFO!B223=0,\" \",COUNTRY_INFO!B223))","v":"Upper West"},{"$f":"IF(INTRO!$E$43=\"Non-endemic\",\" \", IF(COUNTRY_INFO!C223=0,\" \",COUNTRY_INFO!C223))","v":"Nadowli-Kaleo"},{"$f":"IF(INTRO!$E$43=\"Non-endemic\", \"Not required\", COUNTRY_INFO!Y223)","v":1},{"$f":"IF(OR(COUNTRY_INFO!R223=\"Unknown\",COUNTRY_INFO!R223=\"Surveillance\",COUNTRY_INFO!R223=\"Not required\",COUNTRY_INFO!R223=0),0,IF($D223<>0, COUNTRY_INFO!R223,0))","v":6266},{"$f":"IF(OR(COUNTRY_INFO!S223=\"Unknown\",COUNTRY_INFO!S223=\"Surveillance\",COUNTRY_INFO!S223=\"Not required\",COUNTRY_INFO!S223=0),0,IF($D223<>0, COUNTRY_INFO!S223,0))","v":19680},{"$f":"IF(OR(COUNTRY_INFO!T223=\"Unknown\",COUNTRY_INFO!T223=\"Surveillance\",COUNTRY_INFO!T223=\"Not required\",COUNTRY_INFO!T223=0),0,IF($D223<>0, COUNTRY_INFO!T223,0))","v":0},25946,null,null,1,"SAC",null,{"$f":"IF($I223<>\"Yes\",$F223*2,($F223+ROUND(J223*$F223/SUM(COUNTRY_INFO!$E223:$G223),0))*2)","v":39360},{"$f":"IF($I223<>\"Yes\",$G223*3,($G223+ROUND(J223*$G223/SUM(COUNTRY_INFO!$E223:$G223),0))*3)","v":0},39360,null,39360]
[{"$f":"IF(INTRO!$E$43=\"Non-endemic\",\" \", IF(COUNTRY_INFO!A224=0,\" \",COUNTRY_INFO!A224))","v":"Ghana"},{"$f":"IF(INTRO!$E$43=\"Non-endemic\",\" \", IF(COUNTRY_INFO!B224=0,\" \",COUNTRY_INFO!B224))","v":"Upper West"},{"$f":"IF(INTRO!$E$43=\"Non-endemic\",\" \", IF(COUNTRY_INFO!C224=0,\" \",COUNTRY_INFO!C224))","v":"Nandom"},{"$f":"IF(INTRO!$E$43=\"Non-endemic\", \"Not required\", COUNTRY_INFO!Y224)","v":0},{"$f":"IF(OR(COUNTRY_INFO!R224=\"Unknown\",COUNTRY_INFO!R224=\"Surveillance\",COUNTRY_INFO!R224=\"Not required\",COUNTRY_INFO!R224=0),0,IF($D224<>0, COUNTRY_INFO!R224,0))","v":0},{"$f":"IF(OR(COUNTRY_INFO!S224=\"Unknown\",COUNTRY_INFO!S224=\"Surveillance\",COUNTRY_INFO!S224=\"Not required\",COUNTRY_INFO!S224=0),0,IF($D224<>0, COUNTRY_INFO!S224,0))","v":0},{"$f":"IF(OR(COUNTRY_INFO!T224=\"Unknown\",COUNTRY_INFO!T224=\"Surveillance\",COUNTRY_INFO!T224=\"Not required\",COUNTRY_INFO!T224=0),0,IF($D224<>0, COUNTRY_INFO!T224,0))","v":0},0,null,null,null,null,null,{"$f":"IF($I224<>\"Yes\",$F224*2,($F224+ROUND(J224*$F224/SUM(COUNTRY_INFO!$E224:$G224),0))*2)","v":0},{"$f":"IF($I224<>\"Yes\",$G224*3,($G224+ROUND(J224*$G224/SUM(COUNTRY_INFO!$E224:$G224),0))*3)","v":0},0,null,0]
[{"$f":"IF(INTRO!$E$43=\"Non-endemic\",\" \", IF(COUNTRY_INFO!A225=0,\" \",COUNTRY_INFO!A225))","v":"Ghana"},{"$f":"IF(INTRO!$E$43=\"Non-endemic\",\" \", IF(COUNTRY_INFO!B225=0,\" \",COUNTRY_INFO!B225))","v":"Upper West"},{"$f":"IF(INTRO!$E$43=\"Non-endemic\",\" \", IF(COUNTRY_INFO!C225=0,\" \",COUNTRY_INFO!C225))","v":"Sissala East"},{"$f":"IF(INTRO!$E$43=\"Non-endemic\", \"Not required\", COUNTRY_INFO!Y225)","v":1},{"$f":"IF(OR(COUNTRY_INFO!R225=\"Unknown\",COUNTRY_INFO!R225=\"Surveillance\",COUNTRY_INFO!R225=\"Not required\",COUNTRY_INFO!R225=0),0,IF($D225<>0, COUNTRY_INFO!R225,0))","v":6555},{"$f":"IF(OR(COUNTRY_INFO!S225=\"Unknown\",COUNTRY_INFO!S225=\"Surveillance\",COUNTRY_INFO!S225=\"Not required\",COUNTRY_INFO!S225=0),0,IF($D225<>0, COUNTRY_INFO!S225,0))","v":20590},{"$f":"IF(OR(COUNTRY_INFO!T225=\"Unknown\",COUNTRY_INFO!T225=\"Surveillance\",COUNTRY_INFO!T225=\"Not required\",COUNTRY_INFO!T225=0),0,IF($D225<>0, COUNTRY_INFO!T225,0))","v":0},27145,null,null,1,"SAC",null,{"$f":"IF($I225<>\"Yes\",$F225*2,($F225+ROUND(J225*$F225/SUM(COUNTRY_INFO!$E225:$G225),0))*2)","v":41180},{"$f":"IF($I225<>\"Yes\",$G225*3,($G225+ROUND(J225*$G225/SUM(COUNTRY_INFO!$E225:$G225),0))*3)","v":0},41180,null,41180]
[{"$f":"IF(INTRO!$E$43=\"Non-endemic\",\" \", IF(COUNTRY_INFO!A226=0,\" \",COUNTRY_INFO!A226))","v":"Ghana"},{"$f":"IF(INTRO!$E$43=\"Non-endemic\",\" \", IF(COUNTRY_INFO!B226=0,\" \",COUNTRY_INFO!B226))","v":"Upper West"},{"$f":"IF(INTRO!$E$43=\"Non-endemic\",\" \", IF(COUNTRY_INFO!C226=0,\" \",COUNTRY_INFO!C226))","v":"Sissala West"},{"$f":"IF(INTRO!$E$43=\"Non-endemic\", \"Not required\", COUNTRY_INFO!Y226)","v":1},{"$f":"IF(OR(COUNTRY_INFO!R226=\"Unknown\",COUNTRY_INFO!R226=\"Surveillance\",COUNTRY_INFO!R226=\"Not required\",COUNTRY_INFO!R226=0),0,IF($D226<>0, COUNTRY_INFO!R226,0))","v":5190},{"$f":"IF(OR(COUNTRY_INFO!S226=\"Unknown\",COUNTRY_INFO!S226=\"Surveillance\",COUNTRY_INFO!S226=\"Not required\",COUNTRY_INFO!S226=0),0,IF($D226<>0, COUNTRY_INFO!S226,0))","v":16301},{"$f":"IF(OR(COUNTRY_INFO!T226=\"Unknown\",COUNTRY_INFO!T226=\"Surveillance\",COUNTRY_INFO!T226=\"Not required\",COUNTRY_INFO!T226=0),0,IF($D226<>0, COUNTRY_INFO!T226,0))","v":43315},64806,null,null,1,"SAC",null,{"$f":"IF($I226<>\"Yes\",$F226*2,($F226+ROUND(J226*$F226/SUM(COUNTRY_INFO!$E226:$G226),0))*2)","v":32602},{"$f":"IF($I226<>\"Yes\",$G226*3,($G226+ROUND(J226*$G226/SUM(COUNTRY_INFO!$E226:$G226),0))*3)","v":129945},162547,null,162547]
[{"$f":"IF(INTRO!$E$43=\"Non-endemic\",\" \", IF(COUNTRY_INFO!A227=0,\" \",COUNTRY_INFO!A227))","v":"Ghana"},{"$f":"IF(INTRO!$E$43=\"Non-endemic\",\" \", IF(COUNTRY_INFO!B227=0,\" \",COUNTRY_INFO!B227))","v":"Upper West"},{"$f":"IF(INTRO!$E$43=\"Non-endemic\",\" \", IF(COUNTRY_INFO!C227=0,\" \",COUNTRY_INFO!C227))","v":"Wa East"},{"$f":"IF(INTRO!$E$43=\"Non-endemic\", \"Not required\", COUNTRY_INFO!Y227)","v":0},{"$f":"IF(OR(COUNTRY_INFO!R227=\"Unknown\",COUNTRY_INFO!R227=\"Surveillance\",COUNTRY_INFO!R227=\"Not required\",COUNTRY_INFO!R227=0),0,IF($D227<>0, COUNTRY_INFO!R227,0))","v":0},{"$f":"IF(OR(COUNTRY_INFO!S227=\"Unknown\",COUNTRY_INFO!S227=\"Surveillance\",COUNTRY_INFO!S227=\"Not required\",COUNTRY_INFO!S227=0),0,IF($D227<>0, COUNTRY_INFO!S227,0))","v":0},{"$f":"IF(OR(COUNTRY_INFO!T227=\"Unknown\",COUNTRY_INFO!T227=\"Surveillance\",COUNTRY_INFO!T227=\"Not required\",COUNTRY_INFO!T227=0),0,IF($D227<>0, COUNTRY_INFO!T227,0))","v":0},0,null,null,null,null,null,{"$f":"IF($I227<>\"Yes\",$F227*2,($F227+ROUND(J227*$F227/SUM(COUNTRY_INFO!$E227:$G227),0))*2)","v":0},{"$f":"IF($I227<>\"Yes\",$G227*3,($G227+ROUND(J227*$G227/SUM(COUNTRY_INFO!$E227:$G227),0))*3)","v":0},0,null,0]
[{"$f":"IF(INTRO!$E$43=\"Non-endemic\",\" \", IF(COUNTRY_INFO!A228=0,\" \",COUNTRY_INFO!A228))","v":"Ghana"},{"$f":"IF(INTRO!$E$43=\"Non-endemic\",\" \", IF(COUNTRY_INFO!B228=0,\" \",COUNTRY_INFO!B228))","v":"Upper West"},{"$f":"IF(INTRO!$E$43=\"Non-endemic\",\" \", IF(COUNTRY_INFO!C228=0,\" \",COUNTRY_INFO!C228))","v":"Wa Municipal"},{"$f":"IF(INTRO!$E$43=\"Non-endemic\", \"Not required\", COUNTRY_INFO!Y228)","v":0},{"$f":"IF(OR(COUNTRY_INFO!R228=\"Unknown\",COUNTRY_INFO!R228=\"Surveillance\",COUNTRY_INFO!R228=\"Not required\",COUNTRY_INFO!R228=0),0,IF($D228<>0, COUNTRY_INFO!R228,0))","v":0},{"$f":"IF(OR(COUNTRY_INFO!S228=\"Unknown\",COUNTRY_INFO!S228=\"Surveillance\",COUNTRY_INFO!S228=\"Not required\",COUNTRY_INFO!S228=0),0,IF($D228<>0, COUNTRY_INFO!S228,0))","v":0},{"$f":"IF(OR(COUNTRY_INFO!T228=\"Unknown\",COUNTRY_INFO!T228=\"Surveillance\",COUNTRY_INFO!T228=\"Not required\",COUNTRY_INFO!T228=0),0,IF($D228<>0, COUNTRY_INFO!T228,0))","v":0},0,null,null,null,null,null,{"$f":"IF($I228<>\"Yes\",$F228*2,($F228+ROUND(J228*$F228/SUM(COUNTRY_INFO!$E228:$G228),0))*2)","v":0},{"$f":"IF($I228<>\"Yes\",$G228*3,($G228+ROUND(J228*$G228/SUM(COUNTRY_INFO!$E228:$G228),0))*3)","v":0},0,null,0]
[{"$f":"IF(INTRO!$E$43=\"Non-endemic\",\" \", IF(COUNTRY_INFO!A229=0,\" \",COUNTRY_INFO!A229))","v":"Ghana"},{"$f":"IF(INTRO!$E$43=\"Non-endemic\",\" \", IF(COUNTRY_INFO!B229=0,\" \",COUNTRY_INFO!B229))","v":"Upper West"},{"$f":"IF(INTRO!$E$43=\"Non-endemic\",\" \", IF(COUNTRY_INFO!C229=0,\" \",COUNTRY_INFO!C229))","v":"Wa West"},{"$f":"IF(INTRO!$E$43=\"Non-endemic\", \"Not required\", COUNTRY_INFO!Y229)","v":0},{"$f":"IF(OR(COUNTRY_INFO!R229=\"Unknown\",COUNTRY_INFO!R229=\"Surveillance\",COUNTRY_INFO!R229=\"Not required\",COUNTRY_INFO!R229=0),0,IF($D229<>0, COUNTRY_INFO!R229,0))","v":0},{"$f":"IF(OR(COUNTRY_INFO!S229=\"Unknown\",COUNTRY_INFO!S229=\"Surveillance\",COUNTRY_INFO!S229=\"Not required\",COUNTRY_INFO!S229=0),0,IF($D229<>0, COUNTRY_INFO!S229,0))","v":0},{"$f":"IF(OR(COUNTRY_INFO!T229=\"Unknown\",COUNTRY_INFO!T229=\"Surveillance\",COUNTRY_INFO!T229=\"Not required\",COUNTRY_INFO!T229=0),0,IF($D229<>0, COUNTRY_INFO!T229,0))","v":0},0,null,null,null,null,null,{"$f":"IF($I229<>\"Yes\",$F229*2,($F229+ROUND(J229*$F229/SUM(COUNTRY_INFO!$E229:$G229),0))*2)","v":0},{"$f":"IF($I229<>\"Yes\",$G229*3,($G229+ROUND(J229*$G229/SUM(COUNTRY_INFO!$E229:$G229),0))*3)","v":0},0,null,0]
[{"$f":"IF(INTRO!$E$43=\"Non-endemic\",\" \", IF(COUNTRY_INFO!A230=0,\" \",COUNTRY_INFO!A230))","v":"Ghana"},{"$f":"IF(INTRO!$E$43=\"Non-endemic\",\" \", IF(COUNTRY_INFO!B230=0,\" \",COUNTRY_INFO!B230))","v":"Volta"},{"$f":"IF(INTRO!$E$43=\"Non-endemic\",\" \", IF(COUNTRY_INFO!C230=0,\" \",COUNTRY_INFO!C230))","v":"Adaklu"},{"$f":"IF(INTRO!$E$43=\"Non-endemic\", \"Not required\", COUNTRY_INFO!Y230)","v":1},{"$f":"IF(OR(COUNTRY_INFO!R230=\"Unknown\",COUNTRY_INFO!R230=\"Surveillance\",COUNTRY_INFO!R230=\"Not required\",COUNTRY_INFO!R230=0),0,IF($D230<>0, COUNTRY_INFO!R230,0))","v":3143},{"$f":"IF(OR(COUNTRY_INFO!S230=\"Unknown\",COUNTRY_INFO!S230=\"Surveillance\",COUNTRY_INFO!S230=\"Not required\",COUNTRY_INFO!S230=0),0,IF($D230<>0, COUNTRY_INFO!S230,0))","v":9871},{"$f":"IF(OR(COUNTRY_INFO!T230=\"Unknown\",COUNTRY_INFO!T230=\"Surveillance\",COUNTRY_INFO!T230=\"Not required\",COUNTRY_INFO!T230=0),0,IF($D230<>0, COUNTRY_INFO!T230,0))","v":0},13014,null,null,1,"SAC",null,{"$f":"IF($I230<>\"Yes\",$F230*2,($F230+ROUND(J230*$F230/SUM(COUNTRY_INFO!$E230:$G230),0))*2)","v":19742},{"$f":"IF($I230<>\"Yes\",$G230*3,($G230+ROUND(J230*$G230/SUM(COUNTRY_INFO!$E230:$G230),0))*3)","v":0},19742,null,19742]
[{"$f":"IF(INTRO!$E$43=\"Non-endemic\",\" \", IF(COUNTRY_INFO!A231=0,\" \",COUNTRY_INFO!A231))","v":"Ghana"},{"$f":"IF(INTRO!$E$43=\"Non-endemic\",\" \", IF(COUNTRY_INFO!B231=0,\" \",COUNTRY_INFO!B231))","v":"Volta"},{"$f":"IF(INTRO!$E$43=\"Non-endemic\",\" \", IF(COUNTRY_INFO!C231=0,\" \",COUNTRY_INFO!C231))","v":"Afadjato South"},{"$f":"IF(INTRO!$E$43=\"Non-endemic\", \"Not required\", COUNTRY_INFO!Y231)","v":1},{"$f":"IF(OR(COUNTRY_INFO!R231=\"Unknown\",COUNTRY_INFO!R231=\"Surveillance\",COUNTRY_INFO!R231=\"Not required\",COUNTRY_INFO!R231=0),0,IF($D231<>0, COUNTRY_INFO!R231,0))","v":5948},{"$f":"IF(OR(COUNTRY_INFO!S231=\"Unknown\",COUNTRY_INFO!S231=\"Surveillance\",COUNTRY_INFO!S231=\"Not required\",COUNTRY_INFO!S231=0),0,IF($D231<>0, COUNTRY_INFO!S231,0))","v":18681},{"$f":"IF(OR(COUNTRY_INFO!T231=\"Unknown\",COUNTRY_INFO!T231=\"Surveillance\",COUNTRY_INFO!T231=\"Not required\",COUNTRY_INFO!T231=0),0,IF($D231<>0, COUNTRY_INFO!T231,0))","v":49639},74268,null,null,1,"SAC",null,{"$f":"IF($I231<>\"Yes\",$F231*2,($F231+ROUND(J231*$F231/SUM(COUNTRY_INFO!$E231:$G231),0))*2)","v":37362},{"$f":"IF($I231<>\"Yes\",$G231*3,($G231+ROUND(J231*$G231/SUM(COUNTRY_INFO!$E231:$G231),0))*3)","v":148917},186279,null,186279]
[{"$f":"IF(INTRO!$E$43=\"Non-endemic\",\" \", IF(COUNTRY_INFO!A232=0,\" \",COUNTRY_INFO!A232))","v":"Ghana"},{"$f":"IF(INTRO!$E$43=\"Non-endemic\",\" \", IF(COUNTRY_INFO!B232=0,\" \",COUNTRY_INFO!B232))","v":"Volta"},{"$f":"IF(INTRO!$E$43=\"Non-endemic\",\" \", IF(COUNTRY_INFO!C232=0,\" \",COUNTRY_INFO!C232))","v":"Agortime-Ziope"},{"$f":"IF(INTRO!$E$43=\"Non-endemic\", \"Not required\", COUNTRY_INFO!Y232)","v":1},{"$f":"IF(OR(COUNTRY_INFO!R232=\"Unknown\",COUNTRY_INFO!R232=\"Surveillance\",COUNTRY_INFO!R232=\"Not required\",COUNTRY_INFO!R232=0),0,IF($D232<>0, COUNTRY_INFO!R232,0))","v":3216},{"$f":"IF(OR(COUNTRY_INFO!S232=\"Unknown\",COUNTRY_INFO!S232=\"Surveillance\",COUNTRY_INFO!S232=\"Not required\",COUNTRY_INFO!S232=0),0,IF($D232<>0, COUNTRY_INFO!S232,0))","v":10102},{"$f":"IF(OR(COUNTRY_INFO!T232=\"Unknown\",COUNTRY_INFO!T232=\"Surveillance\",COUNTRY_INFO!T232=\"Not required\",COUNTRY_INFO!T232=0),0,IF($D232<>0, COUNTRY_INFO!T232,0))","v":0},13318,null,null,1,"SAC",null,{"$f":"IF($I232<>\"Yes\",$F232*2,($F232+ROUND(J232*$F232/SUM(COUNTRY_INFO!$E232:$G232),0))*2)","v":20204},{"$f":"IF($I232<>\"Yes\",$G232*3,($G232+ROUND(J232*$G232/SUM(COUNTRY_INFO!$E232:$G232),0))*3)","v":0},20204,null,20204]
[{"$f":"IF(INTRO!$E$43=\"Non-endemic\",\" \", IF(COUNTRY_INFO!A233=0,\" \",COUNTRY_INFO!A233))","v":"Ghana"},{"$f":"IF(INTRO!$E$43=\"Non-endemic\",\" \", IF(COUNTRY_INFO!B233=0,\" \",COUNTRY_INFO!B233))","v":"Volta"},{"$f":"IF(INTRO!$E$43=\"Non-endemic\",\" \", IF(COUNTRY_INFO!C233=0,\" \",COUNTRY_INFO!C233))","v":"Akatsi North"},{"$f":"IF(INTRO!$E$43=\"Non-endemic\", \"Not required\", COUNTRY_INFO!Y233)","v":1},{"$f":"IF(OR(COUNTRY_INFO!R233=\"Unknown\",COUNTRY_INFO!R233=\"Surveillance\",COUNTRY_INFO!R233=\"Not required\",COUNTRY_INFO!R233=0),0,IF($D233<>0, COUNTRY_INFO!R233,0))","v":2646},{"$f":"IF(OR(COUNTRY_INFO!S233=\"Unknown\",COUNTRY_INFO!S233=\"Surveillance\",COUNTRY_INFO!S233=\"Not required\",COUNTRY_INFO!S233=0),0,IF($D233<>0, COUNTRY_INFO!S233,0))","v":8311},{"$f":"IF(OR(COUNTRY_INFO!T233=\"Unknown\",COUNTRY_INFO!T233=\"Surveillance\",COUNTRY_INFO!T233=\"Not required\",COUNTRY_INFO!T233=0),0,IF($D233<>0, COUNTRY_INFO!T233,0))","v":0},10957,null,null,1,"SAC",null,{"$f":"IF($I233<>\"Yes\",$F233*2,($F233+ROUND(J233*$F233/SUM(COUNTRY_INFO!$E233:$G233),0))*2)","v":16622},{"$f":"IF($I233<>\"Yes\",$G233*3,($G233+ROUND(J233*$G233/SUM(COUNTRY_INFO!$E233:$G233),0))*3)","v":0},16622,null,16622]
[{"$f":"IF(INTRO!$E$43=\"Non-endemic\",\" \", IF(COUNTRY_INFO!A234=0,\" \",COUNTRY_INFO!A234))","v":"Ghana"},{"$f":"IF(INTRO!$E$43=\"Non-endemic\",\" \", IF(COUNTRY_INFO!B234=0,\" \",COUNTRY_INFO!B234))","v":"Volta"},{"$f":"IF(INTRO!$E$43=\"Non-endemic\",\" \", IF(COUNTRY_INFO!C234=0,\" \",COUNTRY_INFO!C234))","v":"Akatsi South"},{"$f":"IF(INTRO!$E$43=\"Non-endemic\", \"Not required\", COUNTRY_INFO!Y234)","v":1},{"$f":"IF(OR(COUNTRY_INFO!R234=\"Unknown\",COUNTRY_INFO!R234=\"Surveillance\",COUNTRY_INFO!R234=\"Not required\",COUNTRY_INFO!R234=0),0,IF($D234<>0, COUNTRY_INFO!R234,0))","v":7521},{"$f":"IF(OR(COUNTRY_INFO!S234=\"Unknown\",COUNTRY_INFO!S234=\"Surveillance\",COUNTRY_INFO!S234=\"Not required\",COUNTRY_INFO!S234=0),0,IF($D234<>0, COUNTRY_INFO!S234,0))","v":23623},{"$f":"IF(OR(COUNTRY_INFO!T234=\"Unknown\",COUNTRY_INFO!T234=\"Surveillance\",COUNTRY_INFO!T234=\"Not required\",COUNTRY_INFO!T234=0),0,IF($D234<>0, COUNTRY_INFO!T234,0))","v":0},31144,null,null,1,"SAC",null,{"$f":"IF($I234<>\"Yes\",$F234*2,($F234+ROUND(J234*$F234/SUM(COUNTRY_INFO!$E234:$G234),0))*2)","v":47246},{"$f":"IF($I234<>\"Yes\",$G234*3,($G234+ROUND(J234*$G234/SUM(COUNTRY_INFO!$E234:$G234),0))*3)","v":0},47246,null,47246]
[{"$f":"IF(INTRO!$E$43=\"Non-endemic\",\" \", IF(COUNTRY_INFO!A235=0,\" \",COUNTRY_INFO!A235))","v":"Ghana"},{"$f":"IF(INTRO!$E$43=\"Non-endemic\",\" \", IF(COUNTRY_INFO!B235=0,\" \",COUNTRY_INFO!B235))","v":"Volta"},{"$f":"IF(INTRO!$E$43=\"Non-endemic\",\" \", IF(COUNTRY_INFO!C235=0,\" \",COUNTRY_INFO!C235))","v":"Anloga"},{"$f":"IF(INTRO!$E$43=\"Non-endemic\", \"Not required\", COUNTRY_INFO!Y235)","v":1},{"$f":"IF(OR(COUNTRY_INFO!R235=\"Unknown\",COUNTRY_INFO!R235=\"Surveillance\",COUNTRY_INFO!R235=\"Not required\",COUNTRY_INFO!R235=0),0,IF($D235<>0, COUNTRY_INFO!R235,0))","v":7716},{"$f":"IF(OR(COUNTRY_INFO!S235=\"Unknown\",COUNTRY_INFO!S235=\"Surveillance\",COUNTRY_INFO!S235=\"Not required\",COUNTRY_INFO!S235=0),0,IF($D235<>0, COUNTRY_INFO!S235,0))","v":24236},{"$f":"IF(OR(COUNTRY_INFO!T235=\"Unknown\",COUNTRY_INFO!T235=\"Surveillance\",COUNTRY_INFO!T235=\"Not required\",COUNTRY_INFO!T235=0),0,IF($D235<>0, COUNTRY_INFO!T235,0))","v":0},31952,null,null,1,"SAC",null,{"$f":"IF($I235<>\"Yes\",$F235*2,($F235+ROUND(J235*$F235/SUM(COUNTRY_INFO!$E235:$G235),0))*2)","v":48472},{"$f":"IF($I235<>\"Yes\",$G235*3,($G235+ROUND(J235*$G235/SUM(COUNTRY_INFO!$E235:$G235),0))*3)","v":0},48472,null,48472]
[{"$f":"IF(INTRO!$E$43=\"Non-endemic\",\" \", IF(COUNTRY_INFO!A236=0,\" \",COUNTRY_INFO!A236))","v":"Ghana"},{"$f":"IF(INTRO!$E$43=\"Non-endemic\",\" \", IF(COUNTRY_INFO!B236=0,\" \",COUNTRY_INFO!B236))","v":"Volta"},{"$f":"IF(INTRO!$E$43=\"Non-endemic\",\" \", IF(COUNTRY_INFO!C236=0,\" \",COUNTRY_INFO!C236))","v":"Central Tongu"},{"$f":"IF(INTRO!$E$43=\"Non-endemic\", \"Not required\", COUNTRY_INFO!Y236)","v":1},{"$f":"IF(OR(COUNTRY_INFO!R236=\"Unknown\",COUNTRY_INFO!R236=\"Surveillance\",COUNTRY_INFO!R236=\"Not required\",COUNTRY_INFO!R236=0),0,IF($D236<>0, COUNTRY_INFO!R236,0))","v":6814},{"$f":"IF(OR(COUNTRY_INFO!S236=\"Unknown\",COUNTRY_INFO!S236=\"Surveillance\",COUNTRY_INFO!S236=\"Not required\",COUNTRY_INFO!S236=0),0,IF($D236<>0, COUNTRY_INFO!S236,0))","v":21403},{"$f":"IF(OR(COUNTRY_INFO!T236=\"Unknown\",COUNTRY_INFO!T236=\"Surveillance\",COUNTRY_INFO!T236=\"Not required\",COUNTRY_INFO!T236=0),0,IF($D236<>0, COUNTRY_INFO!T236,0))","v":0},28217,null,null,1,"SAC",null,{"$f":"IF($I236<>\"Yes\",$F236*2,($F236+ROUND(J236*$F236/SUM(COUNTRY_INFO!$E236:$G236),0))*2)","v":42806},{"$f":"IF($I236<>\"Yes\",$G236*3,($G236+ROUND(J236*$G236/SUM(COUNTRY_INFO!$E236:$G236),0))*3)","v":0},42806,null,42806]
[{"$f":"IF(INTRO!$E$43=\"Non-endemic\",\" \", IF(COUNTRY_INFO!A237=0,\" \",COUNTRY_INFO!A237))","v":"Ghana"},{"$f":"IF(INTRO!$E$43=\"Non-endemic\",\" \", IF(COUNTRY_INFO!B237=0,\" \",COUNTRY_INFO!B237))","v":"Volta"},{"$f":"IF(INTRO!$E$43=\"Non-endemic\",\" \", IF(COUNTRY_INFO!C237=0,\" \",COUNTRY_INFO!C237))","v":"Ho"},{"$f":"IF(INTRO!$E$43=\"Non-endemic\", \"Not required\", COUNTRY_INFO!Y237)","v":1},{"$f":"IF(OR(COUNTRY_INFO!R237=\"Unknown\",COUNTRY_INFO!R237=\"Surveillance\",COUNTRY_INFO!R237=\"Not required\",COUNTRY_INFO!R237=0),0,IF($D237<>0, COUNTRY_INFO!R237,0))","v":14670},{"$f":"IF(OR(COUNTRY_INFO!S237=\"Unknown\",COUNTRY_INFO!S237=\"Surveillance\",COUNTRY_INFO!S237=\"Not required\",COUNTRY_INFO!S237=0),0,IF($D237<>0, COUNTRY_INFO!S237,0))","v":46079},{"$f":"IF(OR(COUNTRY_INFO!T237=\"Unknown\",COUNTRY_INFO!T237=\"Surveillance\",COUNTRY_INFO!T237=\"Not required\",COUNTRY_INFO!T237=0),0,IF($D237<>0, COUNTRY_INFO!T237,0))","v":0},60749,null,null,1,"SAC",null,{"$f":"IF($I237<>\"Yes\",$F237*2,($F237+ROUND(J237*$F237/SUM(COUNTRY_INFO!$E237:$G237),0))*2)","v":92158},{"$f":"IF($I237<>\"Yes\",$G237*3,($G237+ROUND(J237*$G237/SUM(COUNTRY_INFO!$E237:$G237),0))*3)","v":0},92158,null,92158]
[{"$f":"IF(INTRO!$E$43=\"Non-endemic\",\" \", IF(COUNTRY_INFO!A238=0,\" \",COUNTRY_INFO!A238))","v":"Ghana"},{"$f":"IF(INTRO!$E$43=\"Non-endemic\",\" \", IF(COUNTRY_INFO!B238=0,\" \",COUNTRY_INFO!B238))","v":"Volta"},{"$f":"IF(INTRO!$E$43=\"Non-endemic\",\" \", IF(COUNTRY_INFO!C238=0,\" \",COUNTRY_INFO!C238))","v":"Ho West"},{"$f":"IF(INTRO!$E$43=\"Non-endemic\", \"Not required\", COUNTRY_INFO!Y238)","v":1},{"$f":"IF(OR(COUNTRY_INFO!R238=\"Unknown\",COUNTRY_INFO!R238=\"Surveillance\",COUNTRY_INFO!R238=\"Not required\",COUNTRY_INFO!R238=0),0,IF($D238<>0, COUNTRY_INFO!R238,0))","v":6740},{"$f":"IF(OR(COUNTRY_INFO!S238=\"Unknown\",COUNTRY_INFO!S238=\"Surveillance\",COUNTRY_INFO!S238=\"Not required\",COUNTRY_INFO!S238=0),0,IF($D238<>0, COUNTRY_INFO!S238,0))","v":21169},{"$f":"IF(OR(COUNTRY_INFO!T238=\"Unknown\",COUNTRY_INFO!T238=\"Surveillance\",COUNTRY_INFO!T238=\"Not required\",COUNTRY_INFO!T238=0),0,IF($D238<>0, COUNTRY_INFO!T238,0))","v":0},27909,null,null,1,"SAC",null,{"$f":"IF($I238<>\"Yes\",$F238*2,($F238+ROUND(J238*$F238/SUM(COUNTRY_INFO!$E238:$G238),0))*2)","v":42338},{"$f":"IF($I238<>\"Yes\",$G238*3,($G238+ROUND(J238*$G238/SUM(COUNTRY_INFO!$E238:$G238),0))*3)","v":0},42338,null,42338]
[{"$f":"IF(INTRO!$E$43=\"Non-endemic\",\" \", IF(COUNTRY_INFO!A239=0,\" \",COUNTRY_INFO!A239))","v":"Ghana"},{"$f":"IF(INTRO!$E$43=\"Non-endemic\",\" \", IF(COUNTRY_INFO!B239=0,\" \",COUNTRY_INFO!B239))","v":"Volta"},{"$f":"IF(INTRO!$E$43=\"Non-endemic\",\" \", IF(COUNTRY_INFO!C239=0,\" \",COUNTRY_INFO!C239))","v":"Hohoe"},{"$f":"IF(INTRO!$E$43=\"Non-endemic\", \"Not required\", COUNTRY_INFO!Y239)","v":1},{"$f":"IF(OR(COUNTRY_INFO!R239=\"Unknown\",COUNTRY_INFO!R239=\"Surveillance\",COUNTRY_INFO!R239=\"Not required\",COUNTRY_INFO!R239=0),0,IF($D239<>0, COUNTRY_INFO!R239,0))","v":7467},{"$f":"IF(OR(COUNTRY_INFO!S239=\"Unknown\",COUNTRY_INFO!S239=\"Surveillance\",COUNTRY_INFO!S239=\"Not required\",COUNTRY_INFO!S239=0),0,IF($D239<>0, COUNTRY_INFO!S239,0))","v":23454},{"$f":"IF(OR(COUNTRY_INFO!T239=\"Unknown\",COUNTRY_INFO!T239=\"Surveillance\",COUNTRY_INFO!T239=\"Not required\",COUNTRY_INFO!T239=0),0,IF($D239<>0, COUNTRY_INFO!T239,0))","v":0},30921,null,null,1,"SAC",null,{"$f":"IF($I239<>\"Yes\",$F239*2,($F239+ROUND(J239*$F239/SUM(COUNTRY_INFO!$E239:$G239),0))*2)","v":46908},{"$f":"IF($I239<>\"Yes\",$G239*3,($G239+ROUND(J239*$G239/SUM(COUNTRY_INFO!$E239:$G239),0))*3)","v":0},46908,null,46908]
[{"$f":"IF(INTRO!$E$43=\"Non-endemic\",\" \", IF(COUNTRY_INFO!A240=0,\" \",COUNTRY_INFO!A240))","v":"Ghana"},{"$f":"IF(INTRO!$E$43=\"Non-endemic\",\" \", IF(COUNTRY_INFO!B240=0,\" \",COUNTRY_INFO!B240))","v":"Volta"},{"$f":"IF(INTRO!$E$43=\"Non-endemic\",\" \", IF(COUNTRY_INFO!C240=0,\" \",COUNTRY_INFO!C240))","v":"Keta"},{"$f":"IF(INTRO!$E$43=\"Non-endemic\", \"Not required\", COUNTRY_INFO!Y240)","v":1},{"$f":"IF(OR(COUNTRY_INFO!R240=\"Unknown\",COUNTRY_INFO!R240=\"Surveillance\",COUNTRY_INFO!R240=\"Not required\",COUNTRY_INFO!R240=0),0,IF($D240<>0, COUNTRY_INFO!R240,0))","v":6413},{"$f":"IF(OR(COUNTRY_INFO!S240=\"Unknown\",COUNTRY_INFO!S240=\"Surveillance\",COUNTRY_INFO!S240=\"Not required\",COUNTRY_INFO!S240=0),0,IF($D240<>0, COUNTRY_INFO!S240,0))","v":20141},{"$f":"IF(OR(COUNTRY_INFO!T240=\"Unknown\",COUNTRY_INFO!T240=\"Surveillance\",COUNTRY_INFO!T240=\"Not required\",COUNTRY_INFO!T240=0),0,IF($D240<>0, COUNTRY_INFO!T240,0))","v":0},26554,null,null,1,"SAC",null,{"$f":"IF($I240<>\"Yes\",$F240*2,($F240+ROUND(J240*$F240/SUM(COUNTRY_INFO!$E240:$G240),0))*2)","v":40282},{"$f":"IF($I240<>\"Yes\",$G240*3,($G240+ROUND(J240*$G240/SUM(COUNTRY_INFO!$E240:$G240),0))*3)","v":0},40282,null,40282]
[{"$f":"IF(INTRO!$E$43=\"Non-endemic\",\" \", IF(COUNTRY_INFO!A241=0,\" \",COUNTRY_INFO!A241))","v":"Ghana"},{"$f":"IF(INTRO!$E$43=\"Non-endemic\",\" \", IF(COUNTRY_INFO!B241=0,\" \",COUNTRY_INFO!B241))","v":"Volta"},{"$f":"IF(INTRO!$E$43=\"Non-endemic\",\" \", IF(COUNTRY_INFO!C241=0,\" \",COUNTRY_INFO!C241))","v":"Ketu North"},{"$f":"IF(INTRO!$E$43=\"Non-endemic\", \"Not required\", COUNTRY_INFO!Y241)","v":1},{"$f":"IF(OR(COUNTRY_INFO!R241=\"Unknown\",COUNTRY_INFO!R241=\"Surveillance\",COUNTRY_INFO!R241=\"Not required\",COUNTRY_INFO!R241=0),0,IF($D241<>0, COUNTRY_INFO!R241,0))","v":9338},{"$f":"IF(OR(COUNTRY_INFO!S241=\"Unknown\",COUNTRY_INFO!S241=\"Surveillance\",COUNTRY_INFO!S241=\"Not required\",COUNTRY_INFO!S241=0),0,IF($D241<>0, COUNTRY_INFO!S241,0))","v":29331},{"$f":"IF(OR(COUNTRY_INFO!T241=\"Unknown\",COUNTRY_INFO!T241=\"Surveillance\",COUNTRY_INFO!T241=\"Not required\",COUNTRY_INFO!T241=0),0,IF($D241<>0, COUNTRY_INFO!T241,0))","v":0},38669,null,null,1,"SAC",null,{"$f":"IF($I241<>\"Yes\",$F241*2,($F241+ROUND(J241*$F241/SUM(COUNTRY_INFO!$E241:$G241),0))*2)","v":58662},{"$f":"IF($I241<>\"Yes\",$G241*3,($G241+ROUND(J241*$G241/SUM(COUNTRY_INFO!$E241:$G241),0))*3)","v":0},58662,null,58662]
[{"$f":"IF(INTRO!$E$43=\"Non-endemic\",\" \", IF(COUNTRY_INFO!A242=0,\" \",COUNTRY_INFO!A242))","v":"Ghana"},{"$f":"IF(INTRO!$E$43=\"Non-endemic\",\" \", IF(COUNTRY_INFO!B242=0,\" \",COUNTRY_INFO!B242))","v":"Volta"},{"$f":"IF(INTRO!$E$43=\"Non-endemic\",\" \", IF(COUNTRY_INFO!C242=0,\" \",COUNTRY_INFO!C242))","v":"Ketu South"},{"$f":"IF(INTRO!$E$43=\"Non-endemic\", \"Not required\", COUNTRY_INFO!Y242)","v":1},{"$f":"IF(OR(COUNTRY_INFO!R242=\"Unknown\",COUNTRY_INFO!R242=\"Surveillance\",COUNTRY_INFO!R242=\"Not required\",COUNTRY_INFO!R242=0),0,IF($D242<>0, COUNTRY_INFO!R242,0))","v":20582},{"$f":"IF(OR(COUNTRY_INFO!S242=\"Unknown\",COUNTRY_INFO!S242=\"Surveillance\",COUNTRY_INFO!S242=\"Not required\",COUNTRY_INFO!S242=0),0,IF($D242<>0, COUNTRY_INFO!S242,0))","v":64647},{"$f":"IF(OR(COUNTRY_INFO!T242=\"Unknown\",COUNTRY_INFO!T242=\"Surveillance\",COUNTRY_INFO!T242=\"Not required\",COUNTRY_INFO!T242=0),0,IF($D242<>0, COUNTRY_INFO!T242,0))","v":0},85229,null,null,1,"SAC",null,{"$f":"IF($I242<>\"Yes\",$F242*2,($F242+ROUND(J242*$F242/SUM(COUNTRY_INFO!$E242:$G242),0))*2)","v":129294},{"$f":"IF($I242<>\"Yes\",$G242*3,($G242+ROUND(J242*$G242/SUM(COUNTRY_INFO!$E242:$G242),0))*3)","v":0},129294,null,129294]
[{"$f":"IF(INTRO!$E$43=\"Non-endemic\",\" \", IF(COUNTRY_INFO!A243=0,\" \",COUNTRY_INFO!A243))","v":"Ghana"},{"$f":"IF(INTRO!$E$43=\"Non-endemic\",\" \", IF(COUNTRY_INFO!B243=0,\" \",COUNTRY_INFO!B243))","v":"Volta"},{"$f":"IF(INTRO!$E$43=\"Non-endemic\",\" \", IF(COUNTRY_INFO!C243=0,\" \",COUNTRY_INFO!C243))","v":"Kpando"},{"$f":"IF(INTRO!$E$43=\"Non-endemic\", \"Not required\", COUNTRY_INFO!Y243)","v":1},{"$f":"IF(OR(COUNTRY_INFO!R243=\"Unknown\",COUNTRY_INFO!R243=\"Surveillance\",COUNTRY_INFO!R243=\"Not required\",COUNTRY_INFO!R243=0),0,IF($D243<>0, COUNTRY_INFO!R243,0))","v":4761},{"$f":"IF(OR(COUNTRY_INFO!S243=\"Unknown\",COUNTRY_INFO!S243=\"Surveillance\",COUNTRY_INFO!S243=\"Not required\",COUNTRY_INFO!S243=0),0,IF($D243<>0, COUNTRY_INFO!S243,0))","v":14954},{"$f":"IF(OR(COUNTRY_INFO!T243=\"Unknown\",COUNTRY_INFO!T243=\"Surveillance\",COUNTRY_INFO!T243=\"Not required\",COUNTRY_INFO!T243=0),0,IF($D243<>0, COUNTRY_INFO!T243,0))","v":39735},59450,null,null,1,"SAC",null,{"$f":"IF($I243<>\"Yes\",$F243*2,($F243+ROUND(J243*$F243/SUM(COUNTRY_INFO!$E243:$G243),0))*2)","v":29908},{"$f":"IF($I243<>\"Yes\",$G243*3,($G243+ROUND(J243*$G243/SUM(COUNTRY_INFO!$E243:$G243),0))*3)","v":119205},149113,null,149113]
[{"$f":"IF(INTRO!$E$43=\"Non-endemic\",\" \", IF(COUNTRY_INFO!A244=0,\" \",COUNTRY_INFO!A244))","v":"Ghana"},{"$f":"IF(INTRO!$E$43=\"Non-endemic\",\" \", IF(COUNTRY_INFO!B244=0,\" \",COUNTRY_INFO!B244))","v":"Volta"},{"$f":"IF(INTRO!$E$43=\"Non-endemic\",\" \", IF(COUNTRY_INFO!C244=0,\" \",COUNTRY_INFO!C244))","v":"North Dayi"},{"$f":"IF(INTRO!$E$43=\"Non-endemic\", \"Not required\", COUNTRY_INFO!Y244)","v":1},{"$f":"IF(OR(COUNTRY_INFO!R244=\"Unknown\",COUNTRY_INFO!R244=\"Surveillance\",COUNTRY_INFO!R244=\"Not required\",COUNTRY_INFO!R244=0),0,IF($D244<>0, COUNTRY_INFO!R244,0))","v":3193},{"$f":"IF(OR(COUNTRY_INFO!S244=\"Unknown\",COUNTRY_INFO!S244=\"Surveillance\",COUNTRY_INFO!S244=\"Not required\",COUNTRY_INFO!S244=0),0,IF($D244<>0, COUNTRY_INFO!S244,0))","v":10029},{"$f":"IF(OR(COUNTRY_INFO!T244=\"Unknown\",COUNTRY_INFO!T244=\"Surveillance\",COUNTRY_INFO!T244=\"Not required\",COUNTRY_INFO!T244=0),0,IF($D244<>0, COUNTRY_INFO!T244,0))","v":26648},39870,null,null,1,"SAC",null,{"$f":"IF($I244<>\"Yes\",$F244*2,($F244+ROUND(J244*$F244/SUM(COUNTRY_INFO!$E244:$G244),0))*2)","v":20058},{"$f":"IF($I244<>\"Yes\",$G244*3,($G244+ROUND(J244*$G244/SUM(COUNTRY_INFO!$E244:$G244),0))*3)","v":79944},100002,null,100002]
[{"$f":"IF(INTRO!$E$43=\"Non-endemic\",\" \", IF(COUNTRY_INFO!A245=0,\" \",COUNTRY_INFO!A245))","v":"Ghana"},{"$f":"IF(INTRO!$E$43=\"Non-endemic\",\" \", IF(COUNTRY_INFO!B245=0,\" \",COUNTRY_INFO!B245))","v":"Volta"},{"$f":"IF(INTRO!$E$43=\"Non-endemic\",\" \", IF(COUNTRY_INFO!C245=0,\" \",COUNTRY_INFO!C245))","v":"North Tongu"},{"$f":"IF(INTRO!$E$43=\"Non-endemic\", \"Not required\", COUNTRY_INFO!Y245)","v":1},{"$f":"IF(OR(COUNTRY_INFO!R245=\"Unknown\",COUNTRY_INFO!R245=\"Surveillance\",COUNTRY_INFO!R245=\"Not required\",COUNTRY_INFO!R245=0),0,IF($D245<>0, COUNTRY_INFO!R245,0))","v":9017},{"$f":"IF(OR(COUNTRY_INFO!S245=\"Unknown\",COUNTRY_INFO!S245=\"Surveillance\",COUNTRY_INFO!S245=\"Not required\",COUNTRY_INFO!S245=0),0,IF($D245<>0, COUNTRY_INFO!S245,0))","v":28321},{"$f":"IF(OR(COUNTRY_INFO!T245=\"Unknown\",COUNTRY_INFO!T245=\"Surveillance\",COUNTRY_INFO!T245=\"Not required\",COUNTRY_INFO!T245=0),0,IF($D245<>0, COUNTRY_INFO!T245,0))","v":0},37338,null,null,1,"SAC",null,{"$f":"IF($I245<>\"Yes\",$F245*2,($F245+ROUND(J245*$F245/SUM(COUNTRY_INFO!$E245:$G245),0))*2)","v":56642},{"$f":"IF($I245<>\"Yes\",$G245*3,($G245+ROUND(J245*$G245/SUM(COUNTRY_INFO!$E245:$G245),0))*3)","v":0},56642,null,56642]
[{"$f":"IF(INTRO!$E$43=\"Non-endemic\",\" \", IF(COUNTRY_INFO!A246=0,\" \",COUNTRY_INFO!A246))","v":"Ghana"},{"$f":"IF(INTRO!$E$43=\"Non-endemic\",\" \", IF(COUNTRY_INFO!B246=0,\" \",COUNTRY_INFO!B246))","v":"Volta"},{"$f":"IF(INTRO!$E$43=\"Non-endemic\",\" \", IF(COUNTRY_INFO!C246=0,\" \",COUNTRY_INFO!C246))","v":"South Dayi"},{"$f":"IF(INTRO!$E$43=\"Non-endemic\", \"Not required\", COUNTRY_INFO!Y246)","v":1},{"$f":"IF(OR(COUNTRY_INFO!R246=\"Unknown\",COUNTRY_INFO!R246=\"Surveillance\",COUNTRY_INFO!R246=\"Not required\",COUNTRY_INFO!R246=0),0,IF($D246<>0, COUNTRY_INFO!R246,0))","v":4678},{"$f":"IF(OR(COUNTRY_INFO!S246=\"Unknown\",COUNTRY_INFO!S246=\"Surveillance\",COUNTRY_INFO!S246=\"Not required\",COUNTRY_INFO!S246=0),0,IF($D246<>0, COUNTRY_INFO!S246,0))","v":14692},{"$f":"IF(OR(COUNTRY_INFO!T246=\"Unknown\",COUNTRY_INFO!T246=\"Surveillance\",COUNTRY_INFO!T246=\"Not required\",COUNTRY_INFO!T246=0),0,IF($D246<>0, COUNTRY_INFO!T246,0))","v":39039},58409,null,null,1,"SAC",null,{"$f":"IF($I246<>\"Yes\",$F246*2,($F246+ROUND(J246*$F246/SUM(COUNTRY_INFO!$E246:$G246),0))*2)","v":29384},{"$f":"IF($I246<>\"Yes\",$G246*3,($G246+ROUND(J246*$G246/SUM(COUNTRY_INFO!$E246:$G246),0))*3)","v":117117},146501,null,146501]
[{"$f":"IF(INTRO!$E$43=\"Non-endemic\",\" \", IF(COUNTRY_INFO!A247=0,\" \",COUNTRY_INFO!A247))","v":"Ghana"},{"$f":"IF(INTRO!$E$43=\"Non-endemic\",\" \", IF(COUNTRY_INFO!B247=0,\" \",COUNTRY_INFO!B247))","v":"Volta"},{"$f":"IF(INTRO!$E$43=\"Non-endemic\",\" \", IF(COUNTRY_INFO!C247=0,\" \",COUNTRY_INFO!C247))","v":"South Tongu"},{"$f":"IF(INTRO!$E$43=\"Non-endemic\", \"Not required\", COUNTRY_INFO!Y247)","v":1},{"$f":"IF(OR(COUNTRY_INFO!R247=\"Unknown\",COUNTRY_INFO!R247=\"Surveillance\",COUNTRY_INFO!R247=\"Not required\",COUNTRY_INFO!R247=0),0,IF($D247<>0, COUNTRY_INFO!R247,0))","v":9197},{"$f":"IF(OR(COUNTRY_INFO!S247=\"Unknown\",COUNTRY_INFO!S247=\"Surveillance\",COUNTRY_INFO!S247=\"Not required\",COUNTRY_INFO!S247=0),0,IF($D247<>0, COUNTRY_INFO!S247,0))","v":28889},{"$f":"IF(OR(COUNTRY_INFO!T247=\"Unknown\",COUNTRY_INFO!T247=\"Surveillance\",COUNTRY_INFO!T247=\"Not required\",COUNTRY_INFO!T247=0),0,IF($D247<>0, COUNTRY_INFO!T247,0))","v":0},38086,null,null,1,"SAC",null,{"$f":"IF($I247<>\"Yes\",$F247*2,($F247+ROUND(J247*$F247/SUM(COUNTRY_INFO!$E247:$G247),0))*2)","v":57778},{"$f":"IF($I247<>\"Yes\",$G247*3,($G247+ROUND(J247*$G247/SUM(COUNTRY_INFO!$E247:$G247),0))*3)","v":0},57778,null,57778]
[{"$f":"IF(INTRO!$E$43=\"Non-endemic\",\" \", IF(COUNTRY_INFO!A248=0,\" \",COUNTRY_INFO!A248))","v":"Ghana"},{"$f":"IF(INTRO!$E$43=\"Non-endemic\",\" \", IF(COUNTRY_INFO!B248=0,\" \",COUNTRY_INFO!B248))","v":"Western"},{"$f":"IF(INTRO!$E$43=\"Non-endemic\",\" \", IF(COUNTRY_INFO!C248=0,\" \",COUNTRY_INFO!C248))","v":"Ahanta West"},{"$f":"IF(INTRO!$E$43=\"Non-endemic\", \"Not required\", COUNTRY_INFO!Y248)","v":1},{"$f":"IF(OR(COUNTRY_INFO!R248=\"Unknown\",COUNTRY_INFO!R248=\"Surveillance\",COUNTRY_INFO!R248=\"Not required\",COUNTRY_INFO!R248=0),0,IF($D248<>0, COUNTRY_INFO!R248,0))","v":12455},{"$f":"IF(OR(COUNTRY_INFO!S248=\"Unknown\",COUNTRY_INFO!S248=\"Surveillance\",COUNTRY_INFO!S248=\"Not required\",COUNTRY_INFO!S248=0),0,IF($D248<>0, COUNTRY_INFO!S248,0))","v":39120},{"$f":"IF(OR(COUNTRY_INFO!T248=\"Unknown\",COUNTRY_INFO!T248=\"Surveillance\",COUNTRY_INFO!T248=\"Not required\",COUNTRY_INFO!T248=0),0,IF($D248<>0, COUNTRY_INFO!T248,0))","v":0},51575,null,null,1,"SAC",null,{"$f":"IF($I248<>\"Yes\",$F248*2,($F248+ROUND(J248*$F248/SUM(COUNTRY_INFO!$E248:$G248),0))*2)","v":78240},{"$f":"IF($I248<>\"Yes\",$G248*3,($G248+ROUND(J248*$G248/SUM(COUNTRY_INFO!$E248:$G248),0))*3)","v":0},78240,null,78240]
[{"$f":"IF(INTRO!$E$43=\"Non-endemic\",\" \", IF(COUNTRY_INFO!A249=0,\" \",COUNTRY_INFO!A249))","v":"Ghana"},{"$f":"IF(INTRO!$E$43=\"Non-endemic\",\" \", IF(COUNTRY_INFO!B249=0,\" \",COUNTRY_INFO!B249))","v":"Western"},{"$f":"IF(INTRO!$E$43=\"Non-endemic\",\" \", IF(COUNTRY_INFO!C249=0,\" \",COUNTRY_INFO!C249))","v":"Effia-Kwesimintsim"},{"$f":"IF(INTRO!$E$43=\"Non-endemic\", \"Not required\", COUNTRY_INFO!Y249)","v":1},{"$f":"IF(OR(COUNTRY_INFO!R249=\"Unknown\",COUNTRY_INFO!R249=\"Surveillance\",COUNTRY_INFO!R249=\"Not required\",COUNTRY_INFO!R249=0),0,IF($D249<>0, COUNTRY_INFO!R249,0))","v":14152},{"$f":"IF(OR(COUNTRY_INFO!S249=\"Unknown\",COUNTRY_INFO!S249=\"Surveillance\",COUNTRY_INFO!S249=\"Not required\",COUNTRY_INFO!S249=0),0,IF($D249<>0, COUNTRY_INFO!S249,0))","v":44452},{"$f":"IF(OR(COUNTRY_INFO!T249=\"Unknown\",COUNTRY_INFO!T249=\"Surveillance\",COUNTRY_INFO!T249=\"Not required\",COUNTRY_INFO!T249=0),0,IF($D249<>0, COUNTRY_INFO!T249,0))","v":0},58604,null,null,1,"SAC",null,{"$f":"IF($I249<>\"Yes\",$F249*2,($F249+ROUND(J249*$F249/SUM(COUNTRY_INFO!$E249:$G249),0))*2)","v":88904},{"$f":"IF($I249<>\"Yes\",$G249*3,($G249+ROUND(J249*$G249/SUM(COUNTRY_INFO!$E249:$G249),0))*3)","v":0},88904,null,88904]
[{"$f":"IF(INTRO!$E$43=\"Non-endemic\",\" \", IF(COUNTRY_INFO!A250=0,\" \",COUNTRY_INFO!A250))","v":"Ghana"},{"$f":"IF(INTRO!$E$43=\"Non-endemic\",\" \", IF(COUNTRY_INFO!B250=0,\" \",COUNTRY_INFO!B250))","v":"Western"},{"$f":"IF(INTRO!$E$43=\"Non-endemic\",\" \", IF(COUNTRY_INFO!C250=0,\" \",COUNTRY_INFO!C250))","v":"Ellembelle"},{"$f":"IF(INTRO!$E$43=\"Non-endemic\", \"Not required\", COUNTRY_INFO!Y250)","v":1},{"$f":"IF(OR(COUNTRY_INFO!R250=\"Unknown\",COUNTRY_INFO!R250=\"Surveillance\",COUNTRY_INFO!R250=\"Not required\",COUNTRY_INFO!R250=0),0,IF($D250<>0, COUNTRY_INFO!R250,0))","v":9832},{"$f":"IF(OR(COUNTRY_INFO!S250=\"Unknown\",COUNTRY_INFO!S250=\"Surveillance\",COUNTRY_INFO!S250=\"Not required\",COUNTRY_INFO!S250=0),0,IF($D250<>0, COUNTRY_INFO!S250,0))","v":30883},{"$f":"IF(OR(COUNTRY_INFO!T250=\"Unknown\",COUNTRY_INFO!T250=\"Surveillance\",COUNTRY_INFO!T250=\"Not required\",COUNTRY_INFO!T250=0),0,IF($D250<>0, COUNTRY_INFO!T250,0))","v":0},40715,null,null,1,"SAC",null,{"$f":"IF($I250<>\"Yes\",$F250*2,($F250+ROUND(J250*$F250/SUM(COUNTRY_INFO!$E250:$G250),0))*2)","v":61766},{"$f":"IF($I250<>\"Yes\",$G250*3,($G250+ROUND(J250*$G250/SUM(COUNTRY_INFO!$E250:$G250),0))*3)","v":0},61766,null,61766]
[{"$f":"IF(INTRO!$E$43=\"Non-endemic\",\" \", IF(COUNTRY_INFO!A251=0,\" \",COUNTRY_INFO!A251))","v":"Ghana"},{"$f":"IF(INTRO!$E$43=\"Non-endemic\",\" \", IF(COUNTRY_INFO!B251=0,\" \",COUNTRY_INFO!B251))","v":"Western"},{"$f":"IF(INTRO!$E$43=\"Non-endemic\",\" \", IF(COUNTRY_INFO!C251=0,\" \",COUNTRY_INFO!C251))","v":"Jomoro"},{"$f":"IF(INTRO!$E$43=\"Non-endemic\", \"Not required\", COUNTRY_INFO!Y251)","v":1},{"$f":"IF(OR(COUNTRY_INFO!R251=\"Unknown\",COUNTRY_INFO!R251=\"Surveillance\",COUNTRY_INFO!R251=\"Not required\",COUNTRY_INFO!R251=0),0,IF($D251<>0, COUNTRY_INFO!R251,0))","v":10295},{"$f":"IF(OR(COUNTRY_INFO!S251=\"Unknown\",COUNTRY_INFO!S251=\"Surveillance\",COUNTRY_INFO!S251=\"Not required\",COUNTRY_INFO!S251=0),0,IF($D251<>0, COUNTRY_INFO!S251,0))","v":32334},{"$f":"IF(OR(COUNTRY_INFO!T251=\"Unknown\",COUNTRY_INFO!T251=\"Surveillance\",COUNTRY_INFO!T251=\"Not required\",COUNTRY_INFO!T251=0),0,IF($D251<>0, COUNTRY_INFO!T251,0))","v":0},42629,null,null,1,"SAC",null,{"$f":"IF($I251<>\"Yes\",$F251*2,($F251+ROUND(J251*$F251/SUM(COUNTRY_INFO!$E251:$G251),0))*2)","v":64668},{"$f":"IF($I251<>\"Yes\",$G251*3,($G251+ROUND(J251*$G251/SUM(COUNTRY_INFO!$E251:$G251),0))*3)","v":0},64668,null,64668]
[{"$f":"IF(INTRO!$E$43=\"Non-endemic\",\" \", IF(COUNTRY_INFO!A252=0,\" \",COUNTRY_INFO!A252))","v":"Ghana"},{"$f":"IF(INTRO!$E$43=\"Non-endemic\",\" \", IF(COUNTRY_INFO!B252=0,\" \",COUNTRY_INFO!B252))","v":"Western"},{"$f":"IF(INTRO!$E$43=\"Non-endemic\",\" \", IF(COUNTRY_INFO!C252=0,\" \",COUNTRY_INFO!C252))","v":"Mpohor"},{"$f":"IF(INTRO!$E$43=\"Non-endemic\", \"Not required\", COUNTRY_INFO!Y252)","v":1},{"$f":"IF(OR(COUNTRY_INFO!R252=\"Unknown\",COUNTRY_INFO!R252=\"Surveillance\",COUNTRY_INFO!R252=\"Not required\",COUNTRY_INFO!R252=0),0,IF($D252<>0, COUNTRY_INFO!R252,0))","v":4481},{"$f":"IF(OR(COUNTRY_INFO!S252=\"Unknown\",COUNTRY_INFO!S252=\"Surveillance\",COUNTRY_INFO!S252=\"Not required\",COUNTRY_INFO!S252=0),0,IF($D252<>0, COUNTRY_INFO!S252,0))","v":14075},{"$f":"IF(OR(COUNTRY_INFO!T252=\"Unknown\",COUNTRY_INFO!T252=\"Surveillance\",COUNTRY_INFO!T252=\"Not required\",COUNTRY_INFO!T252=0),0,IF($D252<>0, COUNTRY_INFO!T252,0))","v":0},18556,null,null,1,"SAC",null,{"$f":"IF($I252<>\"Yes\",$F252*2,($F252+ROUND(J252*$F252/SUM(COUNTRY_INFO!$E252:$G252),0))*2)","v":28150},{"$f":"IF($I252<>\"Yes\",$G252*3,($G252+ROUND(J252*$G252/SUM(COUNTRY_INFO!$E252:$G252),0))*3)","v":0},28150,null,28150]
[{"$f":"IF(INTRO!$E$43=\"Non-endemic\",\" \", IF(COUNTRY_INFO!A253=0,\" \",COUNTRY_INFO!A253))","v":"Ghana"},{"$f":"IF(INTRO!$E$43=\"Non-endemic\",\" \", IF(COUNTRY_INFO!B253=0,\" \",COUNTRY_INFO!B253))","v":"Western"},{"$f":"IF(INTRO!$E$43=\"Non-endemic\",\" \", IF(COUNTRY_INFO!C253=0,\" \",COUNTRY_INFO!C253))","v":"Nzema East"},{"$f":"IF(INTRO!$E$43=\"Non-endemic\", \"Not required\", COUNTRY_INFO!Y253)","v":1},{"$f":"IF(OR(COUNTRY_INFO!R253=\"Unknown\",COUNTRY_INFO!R253=\"Surveillance\",COUNTRY_INFO!R253=\"Not required\",COUNTRY_INFO!R253=0),0,IF($D253<>0, COUNTRY_INFO!R253,0))","v":7695},{"$f":"IF(OR(COUNTRY_INFO!S253=\"Unknown\",COUNTRY_INFO!S253=\"Surveillance\",COUNTRY_INFO!S253=\"Not required\",COUNTRY_INFO!S253=0),0,IF($D253<>0, COUNTRY_INFO!S253,0))","v":24171},{"$f":"IF(OR(COUNTRY_INFO!T253=\"Unknown\",COUNTRY_INFO!T253=\"Surveillance\",COUNTRY_INFO!T253=\"Not required\",COUNTRY_INFO!T253=0),0,IF($D253<>0, COUNTRY_INFO!T253,0))","v":0},31866,null,null,1,"SAC",null,{"$f":"IF($I253<>\"Yes\",$F253*2,($F253+ROUND(J253*$F253/SUM(COUNTRY_INFO!$E253:$G253),0))*2)","v":48342},{"$f":"IF($I253<>\"Yes\",$G253*3,($G253+ROUND(J253*$G253/SUM(COUNTRY_INFO!$E253:$G253),0))*3)","v":0},48342,null,48342]
[{"$f":"IF(INTRO!$E$43=\"Non-endemic\",\" \", IF(COUNTRY_INFO!A254=0,\" \",COUNTRY_INFO!A254))","v":"Ghana"},{"$f":"IF(INTRO!$E$43=\"Non-endemic\",\" \", IF(COUNTRY_INFO!B254=0,\" \",COUNTRY_INFO!B254))","v":"Western"},{"$f":"IF(INTRO!$E$43=\"Non-endemic\",\" \", IF(COUNTRY_INFO!C254=0,\" \",COUNTRY_INFO!C254))","v":"Prestea-Huni Valley"},{"$f":"IF(INTRO!$E$43=\"Non-endemic\", \"Not required\", COUNTRY_INFO!Y254)","v":1},{"$f":"IF(OR(COUNTRY_INFO!R254=\"Unknown\",COUNTRY_INFO!R254=\"Surveillance\",COUNTRY_INFO!R254=\"Not required\",COUNTRY_INFO!R254=0),0,IF($D254<>0, COUNTRY_INFO!R254,0))","v":18649},{"$f":"IF(OR(COUNTRY_INFO!S254=\"Unknown\",COUNTRY_INFO!S254=\"Surveillance\",COUNTRY_INFO!S254=\"Not required\",COUNTRY_INFO!S254=0),0,IF($D254<>0, COUNTRY_INFO!S254,0))","v":58576},{"$f":"IF(OR(COUNTRY_INFO!T254=\"Unknown\",COUNTRY_INFO!T254=\"Surveillance\",COUNTRY_INFO!T254=\"Not required\",COUNTRY_INFO!T254=0),0,IF($D254<>0, COUNTRY_INFO!T254,0))","v":0},77225,null,null,1,"SAC",null,{"$f":"IF($I254<>\"Yes\",$F254*2,($F254+ROUND(J254*$F254/SUM(COUNTRY_INFO!$E254:$G254),0))*2)","v":117152},{"$f":"IF($I254<>\"Yes\",$G254*3,($G254+ROUND(J254*$G254/SUM(COUNTRY_INFO!$E254:$G254),0))*3)","v":0},117152,null,117152]
[{"$f":"IF(INTRO!$E$43=\"Non-endemic\",\" \", IF(COUNTRY_INFO!A255=0,\" \",COUNTRY_INFO!A255))","v":"Ghana"},{"$f":"IF(INTRO!$E$43=\"Non-endemic\",\" \", IF(COUNTRY_INFO!B255=0,\" \",COUNTRY_INFO!B255))","v":"Western"},{"$f":"IF(INTRO!$E$43=\"Non-endemic\",\" \", IF(COUNTRY_INFO!C255=0,\" \",COUNTRY_INFO!C255))","v":"Sekondi-Takoradi"},{"$f":"IF(INTRO!$E$43=\"Non-endemic\", \"Not required\", COUNTRY_INFO!Y255)","v":1},{"$f":"IF(OR(COUNTRY_INFO!R255=\"Unknown\",COUNTRY_INFO!R255=\"Surveillance\",COUNTRY_INFO!R255=\"Not required\",COUNTRY_INFO!R255=0),0,IF($D255<>0, COUNTRY_INFO!R255,0))","v":19957},{"$f":"IF(OR(COUNTRY_INFO!S255=\"Unknown\",COUNTRY_INFO!S255=\"Surveillance\",COUNTRY_INFO!S255=\"Not required\",COUNTRY_INFO!S255=0),0,IF($D255<>0, COUNTRY_INFO!S255,0))","v":62684},{"$f":"IF(OR(COUNTRY_INFO!T255=\"Unknown\",COUNTRY_INFO!T255=\"Surveillance\",COUNTRY_INFO!T255=\"Not required\",COUNTRY_INFO!T255=0),0,IF($D255<>0, COUNTRY_INFO!T255,0))","v":0},82641,null,null,1,"SAC",null,{"$f":"IF($I255<>\"Yes\",$F255*2,($F255+ROUND(J255*$F255/SUM(COUNTRY_INFO!$E255:$G255),0))*2)","v":125368},{"$f":"IF($I255<>\"Yes\",$G255*3,($G255+ROUND(J255*$G255/SUM(COUNTRY_INFO!$E255:$G255),0))*3)","v":0},125368,null,125368]
[{"$f":"IF(INTRO!$E$43=\"Non-endemic\",\" \", IF(COUNTRY_INFO!A256=0,\" \",COUNTRY_INFO!A256))","v":"Ghana"},{"$f":"IF(INTRO!$E$43=\"Non-endemic\",\" \", IF(COUNTRY_INFO!B256=0,\" \",COUNTRY_INFO!B256))","v":"Western"},{"$f":"IF(INTRO!$E$43=\"Non-endemic\",\" \", IF(COUNTRY_INFO!C256=0,\" \",COUNTRY_INFO!C256))","v":"Shama"},{"$f":"IF(INTRO!$E$43=\"Non-endemic\", \"Not required\", COUNTRY_INFO!Y256)","v":1},{"$f":"IF(OR(COUNTRY_INFO!R256=\"Unknown\",COUNTRY_INFO!R256=\"Surveillance\",COUNTRY_INFO!R256=\"Not required\",COUNTRY_INFO!R256=0),0,IF($D256<>0, COUNTRY_INFO!R256,0))","v":9533},{"$f":"IF(OR(COUNTRY_INFO!S256=\"Unknown\",COUNTRY_INFO!S256=\"Surveillance\",COUNTRY_INFO!S256=\"Not required\",COUNTRY_INFO!S256=0),0,IF($D256<>0, COUNTRY_INFO!S256,0))","v":29945},{"$f":"IF(OR(COUNTRY_INFO!T256=\"Unknown\",COUNTRY_INFO!T256=\"Surveillance\",COUNTRY_INFO!T256=\"Not required\",COUNTRY_INFO!T256=0),0,IF($D256<>0, COUNTRY_INFO!T256,0))","v":0},39478,null,null,1,"SAC",null,{"$f":"IF($I256<>\"Yes\",$F256*2,($F256+ROUND(J256*$F256/SUM(COUNTRY_INFO!$E256:$G256),0))*2)","v":59890},{"$f":"IF($I256<>\"Yes\",$G256*3,($G256+ROUND(J256*$G256/SUM(COUNTRY_INFO!$E256:$G256),0))*3)","v":0},59890,null,59890]
[{"$f":"IF(INTRO!$E$43=\"Non-endemic\",\" \", IF(COUNTRY_INFO!A257=0,\" \",COUNTRY_INFO!A257))","v":"Ghana"},{"$f":"IF(INTRO!$E$43=\"Non-endemic\",\" \", IF(COUNTRY_INFO!B257=0,\" \",COUNTRY_INFO!B257))","v":"Western"},{"$f":"IF(INTRO!$E$43=\"Non-endemic\",\" \", IF(COUNTRY_INFO!C257=0,\" \",COUNTRY_INFO!C257))","v":"Tarkwa-Nsuaem"},{"$f":"IF(INTRO!$E$43=\"Non-endemic\", \"Not required\", COUNTRY_INFO!Y257)","v":1},{"$f":"IF(OR(COUNTRY_INFO!R257=\"Unknown\",COUNTRY_INFO!R257=\"Surveillance\",COUNTRY_INFO!R257=\"Not required\",COUNTRY_INFO!R257=0),0,IF($D257<>0, COUNTRY_INFO!R257,0))","v":17783},{"$f":"IF(OR(COUNTRY_INFO!S257=\"Unknown\",COUNTRY_INFO!S257=\"Surveillance\",COUNTRY_INFO!S257=\"Not required\",COUNTRY_INFO!S257=0),0,IF($D257<>0, COUNTRY_INFO!S257,0))","v":55858},{"$f":"IF(OR(COUNTRY_INFO!T257=\"Unknown\",COUNTRY_INFO!T257=\"Surveillance\",COUNTRY_INFO!T257=\"Not required\",COUNTRY_INFO!T257=0),0,IF($D257<>0, COUNTRY_INFO!T257,0))","v":0},73641,null,null,1,"SAC",null,{"$f":"IF($I257<>\"Yes\",$F257*2,($F257+ROUND(J257*$F257/SUM(COUNTRY_INFO!$E257:$G257),0))*2)","v":111716},{"$f":"IF($I257<>\"Yes\",$G257*3,($G257+ROUND(J257*$G257/SUM(COUNTRY_INFO!$E257:$G257),0))*3)","v":0},111716,null,111716]
[{"$f":"IF(INTRO!$E$43=\"Non-endemic\",\" \", IF(COUNTRY_INFO!A258=0,\" \",COUNTRY_INFO!A258))","v":"Ghana"},{"$f":"IF(INTRO!$E$43=\"Non-endemic\",\" \", IF(COUNTRY_INFO!B258=0,\" \",COUNTRY_INFO!B258))","v":"Western"},{"$f":"IF(INTRO!$E$43=\"Non-endemic\",\" \", IF(COUNTRY_INFO!C258=0,\" \",COUNTRY_INFO!C258))","v":"Wassa Amenfi Central"},{"$f":"IF(INTRO!$E$43=\"Non-endemic\", \"Not required\", COUNTRY_INFO!Y258)","v":1},{"$f":"IF(OR(COUNTRY_INFO!R258=\"Unknown\",COUNTRY_INFO!R258=\"Surveillance\",COUNTRY_INFO!R258=\"Not required\",COUNTRY_INFO!R258=0),0,IF($D258<>0, COUNTRY_INFO!R258,0))","v":9688},{"$f":"IF(OR(COUNTRY_INFO!S258=\"Unknown\",COUNTRY_INFO!S258=\"Surveillance\",COUNTRY_INFO!S258=\"Not required\",COUNTRY_INFO!S258=0),0,IF($D258<>0, COUNTRY_INFO!S258,0))","v":30429},{"$f":"IF(OR(COUNTRY_INFO!T258=\"Unknown\",COUNTRY_INFO!T258=\"Surveillance\",COUNTRY_INFO!T258=\"Not required\",COUNTRY_INFO!T258=0),0,IF($D258<>0, COUNTRY_INFO!T258,0))","v":0},40117,null,null,1,"SAC",null,{"$f":"IF($I258<>\"Yes\",$F258*2,($F258+ROUND(J258*$F258/SUM(COUNTRY_INFO!$E258:$G258),0))*2)","v":60858},{"$f":"IF($I258<>\"Yes\",$G258*3,($G258+ROUND(J258*$G258/SUM(COUNTRY_INFO!$E258:$G258),0))*3)","v":0},60858,null,60858]
[{"$f":"IF(INTRO!$E$43=\"Non-endemic\",\" \", IF(COUNTRY_INFO!A259=0,\" \",COUNTRY_INFO!A259))","v":"Ghana"},{"$f":"IF(INTRO!$E$43=\"Non-endemic\",\" \", IF(COUNTRY_INFO!B259=0,\" \",COUNTRY_INFO!B259))","v":"Western"},{"$f":"IF(INTRO!$E$43=\"Non-endemic\",\" \", IF(COUNTRY_INFO!C259=0,\" \",COUNTRY_INFO!C259))","v":"Wassa Amenfi East"},{"$f":"IF(INTRO!$E$43=\"Non-endemic\", \"Not required\", COUNTRY_INFO!Y259)","v":1},{"$f":"IF(OR(COUNTRY_INFO!R259=\"Unknown\",COUNTRY_INFO!R259=\"Surveillance\",COUNTRY_INFO!R259=\"Not required\",COUNTRY_INFO!R259=0),0,IF($D259<>0, COUNTRY_INFO!R259,0))","v":14615},{"$f":"IF(OR(COUNTRY_INFO!S259=\"Unknown\",COUNTRY_INFO!S259=\"Surveillance\",COUNTRY_INFO!S259=\"Not required\",COUNTRY_INFO!S259=0),0,IF($D259<>0, COUNTRY_INFO!S259,0))","v":45904},{"$f":"IF(OR(COUNTRY_INFO!T259=\"Unknown\",COUNTRY_INFO!T259=\"Surveillance\",COUNTRY_INFO!T259=\"Not required\",COUNTRY_INFO!T259=0),0,IF($D259<>0, COUNTRY_INFO!T259,0))","v":0},60519,null,null,1,"SAC",null,{"$f":"IF($I259<>\"Yes\",$F259*2,($F259+ROUND(J259*$F259/SUM(COUNTRY_INFO!$E259:$G259),0))*2)","v":91808},{"$f":"IF($I259<>\"Yes\",$G259*3,($G259+ROUND(J259*$G259/SUM(COUNTRY_INFO!$E259:$G259),0))*3)","v":0},91808,null,91808]
[{"$f":"IF(INTRO!$E$43=\"Non-endemic\",\" \", IF(COUNTRY_INFO!A260=0,\" \",COUNTRY_INFO!A260))","v":"Ghana"},{"$f":"IF(INTRO!$E$43=\"Non-endemic\",\" \", IF(COUNTRY_INFO!B260=0,\" \",COUNTRY_INFO!B260))","v":"Western"},{"$f":"IF(INTRO!$E$43=\"Non-endemic\",\" \", IF(COUNTRY_INFO!C260=0,\" \",COUNTRY_INFO!C260))","v":"Wassa Amenfi West"},{"$f":"IF(INTRO!$E$43=\"Non-endemic\", \"Not required\", COUNTRY_INFO!Y260)","v":1},{"$f":"IF(OR(COUNTRY_INFO!R260=\"Unknown\",COUNTRY_INFO!R260=\"Surveillance\",COUNTRY_INFO!R260=\"Not required\",COUNTRY_INFO!R260=0),0,IF($D260<>0, COUNTRY_INFO!R260,0))","v":10563},{"$f":"IF(OR(COUNTRY_INFO!S260=\"Unknown\",COUNTRY_INFO!S260=\"Surveillance\",COUNTRY_INFO!S260=\"Not required\",COUNTRY_INFO!S260=0),0,IF($D260<>0, COUNTRY_INFO!S260,0))","v":33179},{"$f":"IF(OR(COUNTRY_INFO!T260=\"Unknown\",COUNTRY_INFO!T260=\"Surveillance\",COUNTRY_INFO!T260=\"Not required\",COUNTRY_INFO!T260=0),0,IF($D260<>0, COUNTRY_INFO!T260,0))","v":88161},131903,null,null,1,"SAC",null,{"$f":"IF($I260<>\"Yes\",$F260*2,($F260+ROUND(J260*$F260/SUM(COUNTRY_INFO!$E260:$G260),0))*2)","v":66358},{"$f":"IF($I260<>\"Yes\",$G260*3,($G260+ROUND(J260*$G260/SUM(COUNTRY_INFO!$E260:$G260),0))*3)","v":264483},330841,null,330841]
[{"$f":"IF(INTRO!$E$43=\"Non-endemic\",\" \", IF(COUNTRY_INFO!A261=0,\" \",COUNTRY_INFO!A261))","v":"Ghana"},{"$f":"IF(INTRO!$E$43=\"Non-endemic\",\" \", IF(COUNTRY_INFO!B261=0,\" \",COUNTRY_INFO!B261))","v":"Western"},{"$f":"IF(INTRO!$E$43=\"Non-endemic\",\" \", IF(COUNTRY_INFO!C261=0,\" \",COUNTRY_INFO!C261))","v":"Wassa East"},{"$f":"IF(INTRO!$E$43=\"Non-endemic\", \"Not required\", COUNTRY_INFO!Y261)","v":1},{"$f":"IF(OR(COUNTRY_INFO!R261=\"Unknown\",COUNTRY_INFO!R261=\"Surveillance\",COUNTRY_INFO!R261=\"Not required\",COUNTRY_INFO!R261=0),0,IF($D261<>0, COUNTRY_INFO!R261,0))","v":8104},{"$f":"IF(OR(COUNTRY_INFO!S261=\"Unknown\",COUNTRY_INFO!S261=\"Surveillance\",COUNTRY_INFO!S261=\"Not required\",COUNTRY_INFO!S261=0),0,IF($D261<>0, COUNTRY_INFO!S261,0))","v":25454},{"$f":"IF(OR(COUNTRY_INFO!T261=\"Unknown\",COUNTRY_INFO!T261=\"Surveillance\",COUNTRY_INFO!T261=\"Not required\",COUNTRY_INFO!T261=0),0,IF($D261<>0, COUNTRY_INFO!T261,0))","v":0},33558,null,null,1,"SAC",null,{"$f":"IF($I261<>\"Yes\",$F261*2,($F261+ROUND(J261*$F261/SUM(COUNTRY_INFO!$E261:$G261),0))*2)","v":50908},{"$f":"IF($I261<>\"Yes\",$G261*3,($G261+ROUND(J261*$G261/SUM(COUNTRY_INFO!$E261:$G261),0))*3)","v":0},50908,null,50908]
[{"$f":"IF(INTRO!$E$43=\"Non-endemic\",\" \", IF(COUNTRY_INFO!A262=0,\" \",COUNTRY_INFO!A262))","v":"Ghana"},{"$f":"IF(INTRO!$E$43=\"Non-endemic\",\" \", IF(COUNTRY_INFO!B262=0,\" \",COUNTRY_INFO!B262))","v":"Western North"},{"$f":"IF(INTRO!$E$43=\"Non-endemic\",\" \", IF(COUNTRY_INFO!C262=0,\" \",COUNTRY_INFO!C262))","v":"Aowin"},{"$f":"IF(INTRO!$E$43=\"Non-endemic\", \"Not required\", COUNTRY_INFO!Y262)","v":1},{"$f":"IF(OR(COUNTRY_INFO!R262=\"Unknown\",COUNTRY_INFO!R262=\"Surveillance\",COUNTRY_INFO!R262=\"Not required\",COUNTRY_INFO!R262=0),0,IF($D262<>0, COUNTRY_INFO!R262,0))","v":0},{"$f":"IF(OR(COUNTRY_INFO!S262=\"Unknown\",COUNTRY_INFO!S262=\"Surveillance\",COUNTRY_INFO!S262=\"Not required\",COUNTRY_INFO!S262=0),0,IF($D262<>0, COUNTRY_INFO!S262,0))","v":0},{"$f":"IF(OR(COUNTRY_INFO!T262=\"Unknown\",COUNTRY_INFO!T262=\"Surveillance\",COUNTRY_INFO!T262=\"Not required\",COUNTRY_INFO!T262=0),0,IF($D262<>0, COUNTRY_INFO!T262,0))","v":0},0,null,null,1,"SAC",null,{"$f":"IF($I262<>\"Yes\",$F262*2,($F262+ROUND(J262*$F262/SUM(COUNTRY_INFO!$E262:$G262),0))*2)","v":0},{"$f":"IF($I262<>\"Yes\",$G262*3,($G262+ROUND(J262*$G262/SUM(COUNTRY_INFO!$E262:$G262),0))*3)","v":0},0,null,0]
[{"$f":"IF(INTRO!$E$43=\"Non-endemic\",\" \", IF(COUNTRY_INFO!A263=0,\" \",COUNTRY_INFO!A263))","v":"Ghana"},{"$f":"IF(INTRO!$E$43=\"Non-endemic\",\" \", IF(COUNTRY_INFO!B263=0,\" \",COUNTRY_INFO!B263))","v":"Western North"},{"$f":"IF(INTRO!$E$43=\"Non-endemic\",\" \", IF(COUNTRY_INFO!C263=0,\" \",COUNTRY_INFO!C263))","v":"Bia East"},{"$f":"IF(INTRO!$E$43=\"Non-endemic\", \"Not required\", COUNTRY_INFO!Y263)","v":1},{"$f":"IF(OR(COUNTRY_INFO!R263=\"Unknown\",COUNTRY_INFO!R263=\"Surveillance\",COUNTRY_INFO!R263=\"Not required\",COUNTRY_INFO!R263=0),0,IF($D263<>0, COUNTRY_INFO!R263,0))","v":4316},{"$f":"IF(OR(COUNTRY_INFO!S263=\"Unknown\",COUNTRY_INFO!S263=\"Surveillance\",COUNTRY_INFO!S263=\"Not required\",COUNTRY_INFO!S263=0),0,IF($D263<>0, COUNTRY_INFO!S263,0))","v":13555},{"$f":"IF(OR(COUNTRY_INFO!T263=\"Unknown\",COUNTRY_INFO!T263=\"Surveillance\",COUNTRY_INFO!T263=\"Not required\",COUNTRY_INFO!T263=0),0,IF($D263<>0, COUNTRY_INFO!T263,0))","v":0},17871,null,null,1,"SAC",null,{"$f":"IF($I263<>\"Yes\",$F263*2,($F263+ROUND(J263*$F263/SUM(COUNTRY_INFO!$E263:$G263),0))*2)","v":27110},{"$f":"IF($I263<>\"Yes\",$G263*3,($G263+ROUND(J263*$G263/SUM(COUNTRY_INFO!$E263:$G263),0))*3)","v":0},27110,null,27110]
[{"$f":"IF(INTRO!$E$43=\"Non-endemic\",\" \", IF(COUNTRY_INFO!A264=0,\" \",COUNTRY_INFO!A264))","v":"Ghana"},{"$f":"IF(INTRO!$E$43=\"Non-endemic\",\" \", IF(COUNTRY_INFO!B264=0,\" \",COUNTRY_INFO!B264))","v":"Western North"},{"$f":"IF(INTRO!$E$43=\"Non-endemic\",\" \", IF(COUNTRY_INFO!C264=0,\" \",COUNTRY_INFO!C264))","v":"Bia West"},{"$f":"IF(INTRO!$E$43=\"Non-endemic\", \"Not required\", COUNTRY_INFO!Y264)","v":1},{"$f":"IF(OR(COUNTRY_INFO!R264=\"Unknown\",COUNTRY_INFO!R264=\"Surveillance\",COUNTRY_INFO!R264=\"Not required\",COUNTRY_INFO!R264=0),0,IF($D264<>0, COUNTRY_INFO!R264,0))","v":9422},{"$f":"IF(OR(COUNTRY_INFO!S264=\"Unknown\",COUNTRY_INFO!S264=\"Surveillance\",COUNTRY_INFO!S264=\"Not required\",COUNTRY_INFO!S264=0),0,IF($D264<>0, COUNTRY_INFO!S264,0))","v":29596},{"$f":"IF(OR(COUNTRY_INFO!T264=\"Unknown\",COUNTRY_INFO!T264=\"Surveillance\",COUNTRY_INFO!T264=\"Not required\",COUNTRY_INFO!T264=0),0,IF($D264<>0, COUNTRY_INFO!T264,0))","v":0},39018,null,null,1,"SAC",null,{"$f":"IF($I264<>\"Yes\",$F264*2,($F264+ROUND(J264*$F264/SUM(COUNTRY_INFO!$E264:$G264),0))*2)","v":59192},{"$f":"IF($I264<>\"Yes\",$G264*3,($G264+ROUND(J264*$G264/SUM(COUNTRY_INFO!$E264:$G264),0))*3)","v":0},59192,null,59192]
[{"$f":"IF(INTRO!$E$43=\"Non-endemic\",\" \", IF(COUNTRY_INFO!A265=0,\" \",COUNTRY_INFO!A265))","v":"Ghana"},{"$f":"IF(INTRO!$E$43=\"Non-endemic\",\" \", IF(COUNTRY_INFO!B265=0,\" \",COUNTRY_INFO!B265))","v":"Western North"},{"$f":"IF(INTRO!$E$43=\"Non-endemic\",\" \", IF(COUNTRY_INFO!C265=0,\" \",COUNTRY_INFO!C265))","v":"Bibiani-Anhwiaso-Bekwai"},{"$f":"IF(INTRO!$E$43=\"Non-endemic\", \"Not required\", COUNTRY_INFO!Y265)","v":1},{"$f":"IF(OR(COUNTRY_INFO!R265=\"Unknown\",COUNTRY_INFO!R265=\"Surveillance\",COUNTRY_INFO!R265=\"Not required\",COUNTRY_INFO!R265=0),0,IF($D265<>0, COUNTRY_INFO!R265,0))","v":13658},{"$f":"IF(OR(COUNTRY_INFO!S265=\"Unknown\",COUNTRY_INFO!S265=\"Surveillance\",COUNTRY_INFO!S265=\"Not required\",COUNTRY_INFO!S265=0),0,IF($D265<>0, COUNTRY_INFO!S265,0))","v":42899},{"$f":"IF(OR(COUNTRY_INFO!T265=\"Unknown\",COUNTRY_INFO!T265=\"Surveillance\",COUNTRY_INFO!T265=\"Not required\",COUNTRY_INFO!T265=0),0,IF($D265<>0, COUNTRY_INFO!T265,0))","v":0},56557,null,null,1,"SAC",null,{"$f":"IF($I265<>\"Yes\",$F265*2,($F265+ROUND(J265*$F265/SUM(COUNTRY_INFO!$E265:$G265),0))*2)","v":85798},{"$f":"IF($I265<>\"Yes\",$G265*3,($G265+ROUND(J265*$G265/SUM(COUNTRY_INFO!$E265:$G265),0))*3)","v":0},85798,null,85798]
[{"$f":"IF(INTRO!$E$43=\"Non-endemic\",\" \", IF(COUNTRY_INFO!A266=0,\" \",COUNTRY_INFO!A266))","v":"Ghana"},{"$f":"IF(INTRO!$E$43=\"Non-endemic\",\" \", IF(COUNTRY_INFO!B266=0,\" \",COUNTRY_INFO!B266))","v":"Western North"},{"$f":"IF(INTRO!$E$43=\"Non-endemic\",\" \", IF(COUNTRY_INFO!C266=0,\" \",COUNTRY_INFO!C266))","v":"Bodi"},{"$f":"IF(INTRO!$E$43=\"Non-endemic\", \"Not required\", COUNTRY_INFO!Y266)","v":1},{"$f":"IF(OR(COUNTRY_INFO!R266=\"Unknown\",COUNTRY_INFO!R266=\"Surveillance\",COUNTRY_INFO!R266=\"Not required\",COUNTRY_INFO!R266=0),0,IF($D266<>0, COUNTRY_INFO!R266,0))","v":5346},{"$f":"IF(OR(COUNTRY_INFO!S266=\"Unknown\",COUNTRY_INFO!S266=\"Surveillance\",COUNTRY_INFO!S266=\"Not required\",COUNTRY_INFO!S266=0),0,IF($D266<>0, COUNTRY_INFO!S266,0))","v":16792},{"$f":"IF(OR(COUNTRY_INFO!T266=\"Unknown\",COUNTRY_INFO!T266=\"Surveillance\",COUNTRY_INFO!T266=\"Not required\",COUNTRY_INFO!T266=0),0,IF($D266<>0, COUNTRY_INFO!T266,0))","v":0},22138,null,null,1,"SAC",null,{"$f":"IF($I266<>\"Yes\",$F266*2,($F266+ROUND(J266*$F266/SUM(COUNTRY_INFO!$E266:$G266),0))*2)","v":33584},{"$f":"IF($I266<>\"Yes\",$G266*3,($G266+ROUND(J266*$G266/SUM(COUNTRY_INFO!$E266:$G266),0))*3)","v":0},33584,null,33584]
[{"$f":"IF(INTRO!$E$43=\"Non-endemic\",\" \", IF(COUNTRY_INFO!A267=0,\" \",COUNTRY_INFO!A267))","v":"Ghana"},{"$f":"IF(INTRO!$E$43=\"Non-endemic\",\" \", IF(COUNTRY_INFO!B267=0,\" \",COUNTRY_INFO!B267))","v":"Western North"},{"$f":"IF(INTRO!$E$43=\"Non-endemic\",\" \", IF(COUNTRY_INFO!C267=0,\" \",COUNTRY_INFO!C267))","v":"Juaboso"},{"$f":"IF(INTRO!$E$43=\"Non-endemic\", \"Not required\", COUNTRY_INFO!Y267)","v":1},{"$f":"IF(OR(COUNTRY_INFO!R267=\"Unknown\",COUNTRY_INFO!R267=\"Surveillance\",COUNTRY_INFO!R267=\"Not required\",COUNTRY_INFO!R267=0),0,IF($D267<>0, COUNTRY_INFO!R267,0))","v":7222},{"$f":"IF(OR(COUNTRY_INFO!S267=\"Unknown\",COUNTRY_INFO!S267=\"Surveillance\",COUNTRY_INFO!S267=\"Not required\",COUNTRY_INFO!S267=0),0,IF($D267<>0, COUNTRY_INFO!S267,0))","v":22683},{"$f":"IF(OR(COUNTRY_INFO!T267=\"Unknown\",COUNTRY_INFO!T267=\"Surveillance\",COUNTRY_INFO!T267=\"Not required\",COUNTRY_INFO!T267=0),0,IF($D267<>0, COUNTRY_INFO!T267,0))","v":0},{"$f":"SUM(E267:G267)","v":29905},null,null,1,"SAC",null,{"$f":"IF($I267<>\"Yes\",$F267*2,($F267+ROUND(J267*$F267/SUM(COUNTRY_INFO!$E267:$G267),0))*2)","v":45366},{"$f":"IF($I267<>\"Yes\",$G267*3,($G267+ROUND(J267*$G267/SUM(COUNTRY_INFO!$E267:$G267),0))*3)","v":0},{"$f":"SUM(M267:O267)","v":45366},null,{"$f":"IF($P267>$Q267,P267-Q267,0)","v":45366}]
[{"$f":"IF(INTRO!$E$43=\"Non-endemic\",\" \", IF(COUNTRY_INFO!A268=0,\" \",COUNTRY_INFO!A268))","v":"Ghana"},{"$f":"IF(INTRO!$E$43=\"Non-endemic\",\" \", IF(COUNTRY_INFO!B268=0,\" \",COUNTRY_INFO!B268))","v":"Western North"},{"$f":"IF(INTRO!$E$43=\"Non-endemic\",\" \", IF(COUNTRY_INFO!C268=0,\" \",COUNTRY_INFO!C268))","v":"Sefwi-Akontombra"},{"$f":"IF(INTRO!$E$43=\"Non-endemic\", \"Not required\", COUNTRY_INFO!Y268)","v":1},{"$f":"IF(OR(COUNTRY_INFO!R268=\"Unknown\",COUNTRY_INFO!R268=\"Surveillance\",COUNTRY_INFO!R268=\"Not required\",COUNTRY_INFO!R268=0),0,IF($D268<>0, COUNTRY_INFO!R268,0))","v":5710},{"$f":"IF(OR(COUNTRY_INFO!S268=\"Unknown\",COUNTRY_INFO!S268=\"Surveillance\",COUNTRY_INFO!S268=\"Not required\",COUNTRY_INFO!S268=0),0,IF($D268<>0, COUNTRY_INFO!S268,0))","v":17935},{"$f":"IF(OR(COUNTRY_INFO!T268=\"Unknown\",COUNTRY_INFO!T268=\"Surveillance\",COUNTRY_INFO!T268=\"Not required\",COUNTRY_INFO!T268=0),0,IF($D268<>0, COUNTRY_INFO!T268,0))","v":0},23645,null,null,1,"SAC",null,{"$f":"IF($I268<>\"Yes\",$F268*2,($F268+ROUND(J268*$F268/SUM(COUNTRY_INFO!$E268:$G268),0))*2)","v":35870},{"$f":"IF($I268<>\"Yes\",$G268*3,($G268+ROUND(J268*$G268/SUM(COUNTRY_INFO!$E268:$G268),0))*3)","v":0},35870,null,35870]
[{"$f":"IF(INTRO!$E$43=\"Non-endemic\",\" \", IF(COUNTRY_INFO!A269=0,\" \",COUNTRY_INFO!A269))","v":"Ghana"},{"$f":"IF(INTRO!$E$43=\"Non-endemic\",\" \", IF(COUNTRY_INFO!B269=0,\" \",COUNTRY_INFO!B269))","v":"Western North"},{"$f":"IF(INTRO!$E$43=\"Non-endemic\",\" \", IF(COUNTRY_INFO!C269=0,\" \",COUNTRY_INFO!C269))","v":"Sefwi-Wiawso"},{"$f":"IF(INTRO!$E$43=\"Non-endemic\", \"Not required\", COUNTRY_INFO!Y269)","v":1},{"$f":"IF(OR(COUNTRY_INFO!R269=\"Unknown\",COUNTRY_INFO!R269=\"Surveillance\",COUNTRY_INFO!R269=\"Not required\",COUNTRY_INFO!R269=0),0,IF($D269<>0, COUNTRY_INFO!R269,0))","v":12296},{"$f":"IF(OR(COUNTRY_INFO!S269=\"Unknown\",COUNTRY_INFO!S269=\"Surveillance\",COUNTRY_INFO!S269=\"Not required\",COUNTRY_INFO!S269=0),0,IF($D269<>0, COUNTRY_INFO!S269,0))","v":38621},{"$f":"IF(OR(COUNTRY_INFO!T269=\"Unknown\",COUNTRY_INFO!T269=\"Surveillance\",COUNTRY_INFO!T269=\"Not required\",COUNTRY_INFO!T269=0),0,IF($D269<>0, COUNTRY_INFO!T269,0))","v":0},50917,null,null,1,"SAC",null,{"$f":"IF($I269<>\"Yes\",$F269*2,($F269+ROUND(J269*$F269/SUM(COUNTRY_INFO!$E269:$G269),0))*2)","v":77242},{"$f":"IF($I269<>\"Yes\",$G269*3,($G269+ROUND(J269*$G269/SUM(COUNTRY_INFO!$E269:$G269),0))*3)","v":0},77242,null,77242]
[{"$f":"IF(INTRO!$E$43=\"Non-endemic\",\" \", IF(COUNTRY_INFO!A270=0,\" \",COUNTRY_INFO!A270))","v":"Ghana"},{"$f":"IF(INTRO!$E$43=\"Non-endemic\",\" \", IF(COUNTRY_INFO!B270=0,\" \",COUNTRY_INFO!B270))","v":"Western North"},{"$f":"IF(INTRO!$E$43=\"Non-endemic\",\" \", IF(COUNTRY_INFO!C270=0,\" \",COUNTRY_INFO!C270))","v":"Suaman"},{"$f":"IF(INTRO!$E$43=\"Non-endemic\", \"Not required\", COUNTRY_INFO!Y270)","v":1},{"$f":"IF(OR(COUNTRY_INFO!R270=\"Unknown\",COUNTRY_INFO!R270=\"Surveillance\",COUNTRY_INFO!R270=\"Not required\",COUNTRY_INFO!R270=0),0,IF($D270<>0, COUNTRY_INFO!R270,0))","v":0},{"$f":"IF(OR(COUNTRY_INFO!S270=\"Unknown\",COUNTRY_INFO!S270=\"Surveillance\",COUNTRY_INFO!S270=\"Not required\",COUNTRY_INFO!S270=0),0,IF($D270<>0, COUNTRY_INFO!S270,0))","v":0},{"$f":"IF(OR(COUNTRY_INFO!T270=\"Unknown\",COUNTRY_INFO!T270=\"Surveillance\",COUNTRY_INFO!T270=\"Not required\",COUNTRY_INFO!T270=0),0,IF($D270<>0, COUNTRY_INFO!T270,0))","v":0},0,null,null,1,"SAC",null,{"$f":"IF($I270<>\"Yes\",$F270*2,($F270+ROUND(J270*$F270/SUM(COUNTRY_INFO!$E270:$G270),0))*2)","v":0},{"$f":"IF($I270<>\"Yes\",$G270*3,($G270+ROUND(J270*$G270/SUM(COUNTRY_INFO!$E270:$G270),0))*3)","v":0},0,null,0]

{"sheet":"IVM","index":5,"n_rows":270,"n_cols":14,"rows_kept":270,"cut":false,"hidden":false,"merged":[[5,3,7,3],[6,13,7,13],[6,8,7,8],[6,6,7,6],[6,7,7,7],[6,9,7,9],[6,10,7,10],[6,11,7,11],[3,0,3,2],[3,4,3,5],[6,4,7,4],[6,5,7,5],[5,8,5,13],[6,0,7,0],[6,1,7,1],[6,2,7,2],[5,0,5,2],[5,4,5,5],[5,6,5,7],[6,12,7,12]]}
["Ivermectin (IVM)"]
["Administrative structure, eligible population by age group, treatment plan and information about tablets"]
[]
["TOTAL",null,null,{"$f":"SUBTOTAL(9,D$10:D$1010)","v":8050275.3399999999},null,null,{"$f":"SUBTOTAL(9,G$10:G$1010)","v":731565},7783036.3399999999,748269.2,42046168.30399999,1538835.1999999997,44333272.703999989,0,44333272.703999989]
[]
["Country administrative structure",null,null,"Population requiring treatment with IVM","Treatment plan",null,"Target population",null,"Ivermectin (IVM)"]
["Country","Province/State","District",null,"LF","Oncho","LF","Oncho","LF only","Oncho only","LF+Oncho","Total required","Remaining in stock","Tablets to be procured"]
[]
[]
[{"$f":"IF(INTRO!$E$39=\"Non-endemic\",\" \",IF(COUNTRY_INFO!A10=0,\" \",COUNTRY_INFO!A10))","v":"Ghana"},{"$f":"IF(INTRO!$E$39=\"Non-endemic\",\" \",IF(COUNTRY_INFO!B10=0,\" \",COUNTRY_INFO!B10))","v":"Ahafo"},{"$f":"IF(INTRO!$E$39=\"Non-endemic\",\" \",IF(COUNTRY_INFO!C10=0,\" \",COUNTRY_INFO!C10))","v":"Asunafo North"},{"$f":"IF(INTRO!$E$39=\"Non-endemic\",0,IF(INTRO!$E$39=\"Endemic but PC is not required\",IF(COUNTRY_INFO!$H10=1,COUNTRY_INFO!F10+COUNTRY_INFO!G10,0),IF(COUNTRY_INFO!$H10=1,COUNTRY_INFO!F10+COUNTRY_INFO!G10,IF(COUNTRY_INFO!$I10=1,IF(COUNTRY_INFO!M10>=(COUNTRY_INFO!F10+COUNTRY_INFO!G10),COUNTRY_INFO!F10+COUNTRY_INFO!G10,COUNTRY_INFO!$M10),0))))","v":35029},{"$f":"IF(AND(INTRO!$E$39=\"Non-endemic\",INTRO!$E$37=\"Non-endemic\"),\"Not required\",IF(INTRO!$E$39=\"Non-endemic\",\"Treat with DEC\",COUNTRY_INFO!V10))","v":0},{"$f":"IF(INTRO!$E$39<>\"Non-endemic\",COUNTRY_INFO!W10,\"Not required\")","v":2},{"$f":"IF(COUNTRY_INFO!H10=1, IF($E10=1,$D10, 0),0)","v":0},{"$f":"IF(COUNTRY_INFO!I10=1, IF(AND(COUNTRY_INFO!$I10=1,$F10<>0),IF(COUNTRY_INFO!M10>=(COUNTRY_INFO!F10+COUNTRY_INFO!G10),COUNTRY_INFO!F10+COUNTRY_INFO!G10,COUNTRY_INFO!$M10), 0),0)","v":35029},{"$f":"IF(G10<H10,0,IF($E10=1, (G10-H10)*2.8, 0))","v":0},{"$f":"IF($E10<$F10, H10*(F10-E10)*2.8, 0)","v":196162.4},{"$f":"IF(AND($E10=1, $F10<>0), H10*2.8, 0)","v":0},{"$f":"SUM(I10:K10)","v":196162.4},null,{"$f":"IF($L10>$M10,$L10-$M10,0)","v":196162.4}]
[{"$f":"IF(INTRO!$E$39=\"Non-endemic\",\" \",IF(COUNTRY_INFO!A11=0,\" \",COUNTRY_INFO!A11))","v":"Ghana"},{"$f":"IF(INTRO!$E$39=\"Non-endemic\",\" \",IF(COUNTRY_INFO!B11=0,\" \",COUNTRY_INFO!B11))","v":"Ahafo"},{"$f":"IF(INTRO!$E$39=\"Non-endemic\",\" \",IF(COUNTRY_INFO!C11=0,\" \",COUNTRY_INFO!C11))","v":"Asunafo South"},{"$f":"IF(INTRO!$E$39=\"Non-endemic\",0,IF(INTRO!$E$39=\"Endemic but PC is not required\",IF(COUNTRY_INFO!$H11=1,COUNTRY_INFO!F11+COUNTRY_INFO!G11,0),IF(COUNTRY_INFO!$H11=1,COUNTRY_INFO!F11+COUNTRY_INFO!G11,IF(COUNTRY_INFO!$I11=1,IF(COUNTRY_INFO!M11>=(COUNTRY_INFO!F11+COUNTRY_INFO!G11),COUNTRY_INFO!F11+COUNTRY_INFO!G11,COUNTRY_INFO!$M11),0))))","v":26539.82},{"$f":"IF(AND(INTRO!$E$39=\"Non-endemic\",INTRO!$E$37=\"Non-endemic\"),\"Not required\",IF(INTRO!$E$39=\"Non-endemic\",\"Treat with DEC\",COUNTRY_INFO!V11))","v":0},{"$f":"IF(INTRO!$E$39<>\"Non-endemic\",COUNTRY_INFO!W11,\"Not required\")","v":2},{"$f":"IF(COUNTRY_INFO!H11=1, IF($E11=1,$D11, 0),0)","v":0},{"$f":"IF(COUNTRY_INFO!I11=1, IF(AND(COUNTRY_INFO!$I11=1,$F11<>0),IF(COUNTRY_INFO!M11>=(COUNTRY_INFO!F11+COUNTRY_INFO!G11),COUNTRY_INFO!F11+COUNTRY_INFO!G11,COUNTRY_INFO!$M11), 0),0)","v":26539.82},0,148622.992,{"$f":"IF(AND($E11=1, $F11<>0), H11*2.8, 0)","v":0},{"$f":"SUM(I11:K11)","v":148622.992},null,148622.992]
[{"$f":"IF(INTRO!$E$39=\"Non-endemic\",\" \",IF(COUNTRY_INFO!A12=0,\" \",COUNTRY_INFO!A12))","v":"Ghana"},{"$f":"IF(INTRO!$E$39=\"Non-endemic\",\" \",IF(COUNTRY_INFO!B12=0,\" \",COUNTRY_INFO!B12))","v":"Ahafo"},{"$f":"IF(INTRO!$E$39=\"Non-endemic\",\" \",IF(COUNTRY_INFO!C12=0,\" \",COUNTRY_INFO!C12))","v":"Asutifi North"},{"$f":"IF(INTRO!$E$39=\"Non-endemic\",0,IF(INTRO!$E$39=\"Endemic but PC is not required\",IF(COUNTRY_INFO!$H12=1,COUNTRY_INFO!F12+COUNTRY_INFO!G12,0),IF(COUNTRY_INFO!$H12=1,COUNTRY_INFO!F12+COUNTRY_INFO!G12,IF(COUNTRY_INFO!$I12=1,IF(COUNTRY_INFO!M12>=(COUNTRY_INFO!F12+COUNTRY_INFO!G12),COUNTRY_INFO!F12+COUNTRY_INFO!G12,COUNTRY_INFO!$M12),0))))","v":32687},{"$f":"IF(AND(INTRO!$E$39=\"Non-endemic\",INTRO!$E$37=\"Non-endemic\"),\"Not required\",IF(INTRO!$E$39=\"Non-endemic\",\"Treat with DEC\",COUNTRY_INFO!V12))","v":0},{"$f":"IF(INTRO!$E$39<>\"Non-endemic\",COUNTRY_INFO!W12,\"Not required\")","v":2},{"$f":"IF(COUNTRY_INFO!H12=1, IF($E12=1,$D12, 0),0)","v":0},{"$f":"IF(COUNTRY_INFO!I12=1, IF(AND(COUNTRY_INFO!$I12=1,$F12<>0),IF(COUNTRY_INFO!M12>=(COUNTRY_INFO!F12+COUNTRY_INFO!G12),COUNTRY_INFO!F12+COUNTRY_INFO!G12,COUNTRY_INFO!$M12), 0),0)","v":32687},0,183047.19999999998,0,183047.19999999998,null,183047.19999999998]
[{"$f":"IF(INTRO!$E$39=\"Non-endemic\",\" \",IF(COUNTRY_INFO!A13=0,\" \",COUNTRY_INFO!A13))","v":"Ghana"},{"$f":"IF(INTRO!$E$39=\"Non-endemic\",\" \",IF(COUNTRY_INFO!B13=0,\" \",COUNTRY_INFO!B13))","v":"Ahafo"},{"$f":"IF(INTRO!$E$39=\"Non-endemic\",\" \",IF(COUNTRY_INFO!C13=0,\" \",COUNTRY_INFO!C13))","v":"Asutifi South"},{"$f":"IF(INTRO!$E$39=\"Non-endemic\",0,IF(INTRO!$E$39=\"Endemic but PC is not required\",IF(COUNTRY_INFO!$H13=1,COUNTRY_INFO!F13+COUNTRY_INFO!G13,0),IF(COUNTRY_INFO!$H13=1,COUNTRY_INFO!F13+COUNTRY_INFO!G13,IF(COUNTRY_INFO!$I13=1,IF(COUNTRY_INFO!M13>=(COUNTRY_INFO!F13+COUNTRY_INFO!G13),COUNTRY_INFO!F13+COUNTRY_INFO!G13,COUNTRY_INFO!$M13),0))))","v":49483},{"$f":"IF(AND(INTRO!$E$39=\"Non-endemic\",INTRO!$E$37=\"Non-endemic\"),\"Not required\",IF(INTRO!$E$39=\"Non-endemic\",\"Treat with DEC\",COUNTRY_INFO!V13))","v":0},{"$f":"IF(INTRO!$E$39<>\"Non-endemic\",COUNTRY_INFO!W13,\"Not required\")","v":2},{"$f":"IF(COUNTRY_INFO!H13=1, IF($E13=1,$D13, 0),0)","v":0},{"$f":"IF(COUNTRY_INFO!I13=1, IF(AND(COUNTRY_INFO!$I13=1,$F13<>0),IF(COUNTRY_INFO!M13>=(COUNTRY_INFO!F13+COUNTRY_INFO!G13),COUNTRY_INFO!F13+COUNTRY_INFO!G13,COUNTRY_INFO!$M13), 0),0)","v":49483},0,277104.8,0,277104.8,null,277104.8]
[{"$f":"IF(INTRO!$E$39=\"Non-endemic\",\" \",IF(COUNTRY_INFO!A14=0,\" \",COUNTRY_INFO!A14))","v":"Ghana"},{"$f":"IF(INTRO!$E$39=\"Non-endemic\",\" \",IF(COUNTRY_INFO!B14=0,\" \",COUNTRY_INFO!B14))","v":"Ahafo"},{"$f":"IF(INTRO!$E$39=\"Non-endemic\",\" \",IF(COUNTRY_INFO!C14=0,\" \",COUNTRY_INFO!C14))","v":"Tano North"},{"$f":"IF(INTRO!$E$39=\"Non-endemic\",0,IF(INTRO!$E$39=\"Endemic but PC is not required\",IF(COUNTRY_INFO!$H14=1,COUNTRY_INFO!F14+COUNTRY_INFO!G14,0),IF(COUNTRY_INFO!$H14=1,COUNTRY_INFO!F14+COUNTRY_INFO!G14,IF(COUNTRY_INFO!$I14=1,IF(COUNTRY_INFO!M14>=(COUNTRY_INFO!F14+COUNTRY_INFO!G14),COUNTRY_INFO!F14+COUNTRY_INFO!G14,COUNTRY_INFO!$M14),0))))","v":72433},{"$f":"IF(AND(INTRO!$E$39=\"Non-endemic\",INTRO!$E$37=\"Non-endemic\"),\"Not required\",IF(INTRO!$E$39=\"Non-endemic\",\"Treat with DEC\",COUNTRY_INFO!V14))","v":0},{"$f":"IF(INTRO!$E$39<>\"Non-endemic\",COUNTRY_INFO!W14,\"Not required\")","v":2},{"$f":"IF(COUNTRY_INFO!H14=1, IF($E14=1,$D14, 0),0)","v":0},{"$f":"IF(COUNTRY_INFO!I14=1, IF(AND(COUNTRY_INFO!$I14=1,$F14<>0),IF(COUNTRY_INFO!M14>=(COUNTRY_INFO!F14+COUNTRY_INFO!G14),COUNTRY_INFO!F14+COUNTRY_INFO!G14,COUNTRY_INFO!$M14), 0),0)","v":72433},0,405624.8,0,405624.8,null,405624.8]
[{"$f":"IF(INTRO!$E$39=\"Non-endemic\",\" \",IF(COUNTRY_INFO!A15=0,\" \",COUNTRY_INFO!A15))","v":"Ghana"},{"$f":"IF(INTRO!$E$39=\"Non-endemic\",\" \",IF(COUNTRY_INFO!B15=0,\" \",COUNTRY_INFO!B15))","v":"Ahafo"},{"$f":"IF(INTRO!$E$39=\"Non-endemic\",\" \",IF(COUNTRY_INFO!C15=0,\" \",COUNTRY_INFO!C15))","v":"Tano South"},{"$f":"IF(INTRO!$E$39=\"Non-endemic\",0,IF(INTRO!$E$39=\"Endemic but PC is not required\",IF(COUNTRY_INFO!$H15=1,COUNTRY_INFO!F15+COUNTRY_INFO!G15,0),IF(COUNTRY_INFO!$H15=1,COUNTRY_INFO!F15+COUNTRY_INFO!G15,IF(COUNTRY_INFO!$I15=1,IF(COUNTRY_INFO!M15>=(COUNTRY_INFO!F15+COUNTRY_INFO!G15),COUNTRY_INFO!F15+COUNTRY_INFO!G15,COUNTRY_INFO!$M15),0))))","v":24746},{"$f":"IF(AND(INTRO!$E$39=\"Non-endemic\",INTRO!$E$37=\"Non-endemic\"),\"Not required\",IF(INTRO!$E$39=\"Non-endemic\",\"Treat with DEC\",COUNTRY_INFO!V15))","v":0},{"$f":"IF(INTRO!$E$39<>\"Non-endemic\",COUNTRY_INFO!W15,\"Not required\")","v":2},{"$f":"IF(COUNTRY_INFO!H15=1, IF($E15=1,$D15, 0),0)","v":0},{"$f":"IF(COUNTRY_INFO!I15=1, IF(AND(COUNTRY_INFO!$I15=1,$F15<>0),IF(COUNTRY_INFO!M15>=(COUNTRY_INFO!F15+COUNTRY_INFO!G15),COUNTRY_INFO!F15+COUNTRY_INFO!G15,COUNTRY_INFO!$M15), 0),0)","v":24746},0,138577.59999999998,0,138577.59999999998,null,138577.59999999998]
[{"$f":"IF(INTRO!$E$39=\"Non-endemic\",\" \",IF(COUNTRY_INFO!A16=0,\" \",COUNTRY_INFO!A16))","v":"Ghana"},{"$f":"IF(INTRO!$E$39=\"Non-endemic\",\" \",IF(COUNTRY_INFO!B16=0,\" \",COUNTRY_INFO!B16))","v":"Ashanti"},{"$f":"IF(INTRO!$E$39=\"Non-endemic\",\" \",IF(COUNTRY_INFO!C16=0,\" \",COUNTRY_INFO!C16))","v":"Adansi Akrofuom"},{"$f":"IF(INTRO!$E$39=\"Non-endemic\",0,IF(INTRO!$E$39=\"Endemic but PC is not required\",IF(COUNTRY_INFO!$H16=1,COUNTRY_INFO!F16+COUNTRY_INFO!G16,0),IF(COUNTRY_INFO!$H16=1,COUNTRY_INFO!F16+COUNTRY_INFO!G16,IF(COUNTRY_INFO!$I16=1,IF(COUNTRY_INFO!M16>=(COUNTRY_INFO!F16+COUNTRY_INFO!G16),COUNTRY_INFO!F16+COUNTRY_INFO!G16,COUNTRY_INFO!$M16),0))))","v":27145},{"$f":"IF(AND(INTRO!$E$39=\"Non-endemic\",INTRO!$E$37=\"Non-endemic\"),\"Not required\",IF(INTRO!$E$39=\"Non-endemic\",\"Treat with DEC\",COUNTRY_INFO!V16))","v":0},{"$f":"IF(INTRO!$E$39<>\"Non-endemic\",COUNTRY_INFO!W16,\"Not required\")","v":2},{"$f":"IF(COUNTRY_INFO!H16=1, IF($E16=1,$D16, 0),0)","v":0},{"$f":"IF(COUNTRY_INFO!I16=1, IF(AND(COUNTRY_INFO!$I16=1,$F16<>0),IF(COUNTRY_INFO!M16>=(COUNTRY_INFO!F16+COUNTRY_INFO!G16),COUNTRY_INFO!F16+COUNTRY_INFO!G16,COUNTRY_INFO!$M16), 0),0)","v":27145},0,152012,0,152012,null,152012]
[{"$f":"IF(INTRO!$E$39=\"Non-endemic\",\" \",IF(COUNTRY_INFO!A17=0,\" \",COUNTRY_INFO!A17))","v":"Ghana"},{"$f":"IF(INTRO!$E$39=\"Non-endemic\",\" \",IF(COUNTRY_INFO!B17=0,\" \",COUNTRY_INFO!B17))","v":"Ashanti"},{"$f":"IF(INTRO!$E$39=\"Non-endemic\",\" \",IF(COUNTRY_INFO!C17=0,\" \",COUNTRY_INFO!C17))","v":"Adansi Asokwa"},{"$f":"IF(INTRO!$E$39=\"Non-endemic\",0,IF(INTRO!$E$39=\"Endemic but PC is not required\",IF(COUNTRY_INFO!$H17=1,COUNTRY_INFO!F17+COUNTRY_INFO!G17,0),IF(COUNTRY_INFO!$H17=1,COUNTRY_INFO!F17+COUNTRY_INFO!G17,IF(COUNTRY_INFO!$I17=1,IF(COUNTRY_INFO!M17>=(COUNTRY_INFO!F17+COUNTRY_INFO!G17),COUNTRY_INFO!F17+COUNTRY_INFO!G17,COUNTRY_INFO!$M17),0))))","v":44925},{"$f":"IF(AND(INTRO!$E$39=\"Non-endemic\",INTRO!$E$37=\"Non-endemic\"),\"Not required\",IF(INTRO!$E$39=\"Non-endemic\",\"Treat with DEC\",COUNTRY_INFO!V17))","v":0},{"$f":"IF(INTRO!$E$39<>\"Non-endemic\",COUNTRY_INFO!W17,\"Not required\")","v":2},{"$f":"IF(COUNTRY_INFO!H17=1, IF($E17=1,$D17, 0),0)","v":0},{"$f":"IF(COUNTRY_INFO!I17=1, IF(AND(COUNTRY_INFO!$I17=1,$F17<>0),IF(COUNTRY_INFO!M17>=(COUNTRY_INFO!F17+COUNTRY_INFO!G17),COUNTRY_INFO!F17+COUNTRY_INFO!G17,COUNTRY_INFO!$M17), 0),0)","v":44925},0,251579.99999999997,0,251579.99999999997,null,251579.99999999997]
[{"$f":"IF(INTRO!$E$39=\"Non-endemic\",\" \",IF(COUNTRY_INFO!A18=0,\" \",COUNTRY_INFO!A18))","v":"Ghana"},{"$f":"IF(INTRO!$E$39=\"Non-endemic\",\" \",IF(COUNTRY_INFO!B18=0,\" \",COUNTRY_INFO!B18))","v":"Ashanti"},{"$f":"IF(INTRO!$E$39=\"Non-endemic\",\" \",IF(COUNTRY_INFO!C18=0,\" \",COUNTRY_INFO!C18))","v":"Adansi North"},{"$f":"IF(INTRO!$E$39=\"Non-endemic\",0,IF(INTRO!$E$39=\"Endemic but PC is not required\",IF(COUNTRY_INFO!$H18=1,COUNTRY_INFO!F18+COUNTRY_INFO!G18,0),IF(COUNTRY_INFO!$H18=1,COUNTRY_INFO!F18+COUNTRY_INFO!G18,IF(COUNTRY_INFO!$I18=1,IF(COUNTRY_INFO!M18>=(COUNTRY_INFO!F18+COUNTRY_INFO!G18),COUNTRY_INFO!F18+COUNTRY_INFO!G18,COUNTRY_INFO!$M18),0))))","v":45733},{"$f":"IF(AND(INTRO!$E$39=\"Non-endemic\",INTRO!$E$37=\"Non-endemic\"),\"Not required\",IF(INTRO!$E$39=\"Non-endemic\",\"Treat with DEC\",COUNTRY_INFO!V18))","v":0},{"$f":"IF(INTRO!$E$39<>\"Non-endemic\",COUNTRY_INFO!W18,\"Not required\")","v":2},{"$f":"IF(COUNTRY_INFO!H18=1, IF($E18=1,$D18, 0),0)","v":0},{"$f":"IF(COUNTRY_INFO!I18=1, IF(AND(COUNTRY_INFO!$I18=1,$F18<>0),IF(COUNTRY_INFO!M18>=(COUNTRY_INFO!F18+COUNTRY_INFO!G18),COUNTRY_INFO!F18+COUNTRY_INFO!G18,COUNTRY_INFO!$M18), 0),0)","v":45733},0,256104.8,0,256104.8,null,256104.8]
[{"$f":"IF(INTRO!$E$39=\"Non-endemic\",\" \",IF(COUNTRY_INFO!A19=0,\" \",COUNTRY_INFO!A19))","v":"Ghana"},{"$f":"IF(INTRO!$E$39=\"Non-endemic\",\" \",IF(COUNTRY_INFO!B19=0,\" \",COUNTRY_INFO!B19))","v":"Ashanti"},{"$f":"IF(INTRO!$E$39=\"Non-endemic\",\" \",IF(COUNTRY_INFO!C19=0,\" \",COUNTRY_INFO!C19))","v":"Adansi South"},{"$f":"IF(INTRO!$E$39=\"Non-endemic\",0,IF(INTRO!$E$39=\"Endemic but PC is not required\",IF(COUNTRY_INFO!$H19=1,COUNTRY_INFO!F19+COUNTRY_INFO!G19,0),IF(COUNTRY_INFO!$H19=1,COUNTRY_INFO!F19+COUNTRY_INFO!G19,IF(COUNTRY_INFO!$I19=1,IF(COUNTRY_INFO!M19>=(COUNTRY_INFO!F19+COUNTRY_INFO!G19),COUNTRY_INFO!F19+COUNTRY_INFO!G19,COUNTRY_INFO!$M19),0))))","v":79579},{"$f":"IF(AND(INTRO!$E$39=\"Non-endemic\",INTRO!$E$37=\"Non-endemic\"),\"Not required\",IF(INTRO!$E$39=\"Non-endemic\",\"Treat with DEC\",COUNTRY_INFO!V19))","v":0},{"$f":"IF(INTRO!$E$39<>\"Non-endemic\",COUNTRY_INFO!W19,\"Not required\")","v":2},{"$f":"IF(COUNTRY_INFO!H19=1, IF($E19=1,$D19, 0),0)","v":0},{"$f":"IF(COUNTRY_INFO!I19=1, IF(AND(COUNTRY_INFO!$I19=1,$F19<>0),IF(COUNTRY_INFO!M19>=(COUNTRY_INFO!F19+COUNTRY_INFO!G19),COUNTRY_INFO!F19+COUNTRY_INFO!G19,COUNTRY_INFO!$M19), 0),0)","v":79579},0,445642.39999999997,0,445642.39999999997,null,445642.39999999997]
[{"$f":"IF(INTRO!$E$39=\"Non-endemic\",\" \",IF(COUNTRY_INFO!A20=0,\" \",COUNTRY_INFO!A20))","v":"Ghana"},{"$f":"IF(INTRO!$E$39=\"Non-endemic\",\" \",IF(COUNTRY_INFO!B20=0,\" \",COUNTRY_INFO!B20))","v":"Ashanti"},{"$f":"IF(INTRO!$E$39=\"Non-endemic\",\" \",IF(COUNTRY_INFO!C20=0,\" \",COUNTRY_INFO!C20))","v":"Afigya Kwabre North"},{"$f":"IF(INTRO!$E$39=\"Non-endemic\",0,IF(INTRO!$E$39=\"Endemic but PC is not required\",IF(COUNTRY_INFO!$H20=1,COUNTRY_INFO!F20+COUNTRY_INFO!G20,0),IF(COUNTRY_INFO!$H20=1,COUNTRY_INFO!F20+COUNTRY_INFO!G20,IF(COUNTRY_INFO!$I20=1,IF(COUNTRY_INFO!M20>=(COUNTRY_INFO!F20+COUNTRY_INFO!G20),COUNTRY_INFO!F20+COUNTRY_INFO!G20,COUNTRY_INFO!$M20),0))))","v":44602},{"$f":"IF(AND(INTRO!$E$39=\"Non-endemic\",INTRO!$E$37=\"Non-endemic\"),\"Not required\",IF(INTRO!$E$39=\"Non-endemic\",\"Treat with DEC\",COUNTRY_INFO!V20))","v":0},{"$f":"IF(INTRO!$E$39<>\"Non-endemic\",COUNTRY_INFO!W20,\"Not required\")","v":2},{"$f":"IF(COUNTRY_INFO!H20=1, IF($E20=1,$D20, 0),0)","v":0},{"$f":"IF(COUNTRY_INFO!I20=1, IF(AND(COUNTRY_INFO!$I20=1,$F20<>0),IF(COUNTRY_INFO!M20>=(COUNTRY_INFO!F20+COUNTRY_INFO!G20),COUNTRY_INFO!F20+COUNTRY_INFO!G20,COUNTRY_INFO!$M20), 0),0)","v":44602},0,249771.19999999998,0,249771.19999999998,null,249771.19999999998]
[{"$f":"IF(INTRO!$E$39=\"Non-endemic\",\" \",IF(COUNTRY_INFO!A21=0,\" \",COUNTRY_INFO!A21))","v":"Ghana"},{"$f":"IF(INTRO!$E$39=\"Non-endemic\",\" \",IF(COUNTRY_INFO!B21=0,\" \",COUNTRY_INFO!B21))","v":"Ashanti"},{"$f":"IF(INTRO!$E$39=\"Non-endemic\",\" \",IF(COUNTRY_INFO!C21=0,\" \",COUNTRY_INFO!C21))","v":"Afigya Kwabre South"},{"$f":"IF(INTRO!$E$39=\"Non-endemic\",0,IF(INTRO!$E$39=\"Endemic but PC is not required\",IF(COUNTRY_INFO!$H21=1,COUNTRY_INFO!F21+COUNTRY_INFO!G21,0),IF(COUNTRY_INFO!$H21=1,COUNTRY_INFO!F21+COUNTRY_INFO!G21,IF(COUNTRY_INFO!$I21=1,IF(COUNTRY_INFO!M21>=(COUNTRY_INFO!F21+COUNTRY_INFO!G21),COUNTRY_INFO!F21+COUNTRY_INFO!G21,COUNTRY_INFO!$M21),0))))","v":27740},{"$f":"IF(AND(INTRO!$E$39=\"Non-endemic\",INTRO!$E$37=\"Non-endemic\"),\"Not required\",IF(INTRO!$E$39=\"Non-endemic\",\"Treat with DEC\",COUNTRY_INFO!V21))","v":0},{"$f":"IF(INTRO!$E$39<>\"Non-endemic\",COUNTRY_INFO!W21,\"Not required\")","v":2},{"$f":"IF(COUNTRY_INFO!H21=1, IF($E21=1,$D21, 0),0)","v":0},{"$f":"IF(COUNTRY_INFO!I21=1, IF(AND(COUNTRY_INFO!$I21=1,$F21<>0),IF(COUNTRY_INFO!M21>=(COUNTRY_INFO!F21+COUNTRY_INFO!G21),COUNTRY_INFO!F21+COUNTRY_INFO!G21,COUNTRY_INFO!$M21), 0),0)","v":27740},0,155344,0,155344,null,155344]
[{"$f":"IF(INTRO!$E$39=\"Non-endemic\",\" \",IF(COUNTRY_INFO!A22=0,\" \",COUNTRY_INFO!A22))","v":"Ghana"},{"$f":"IF(INTRO!$E$39=\"Non-endemic\",\" \",IF(COUNTRY_INFO!B22=0,\" \",COUNTRY_INFO!B22))","v":"Ashanti"},{"$f":"IF(INTRO!$E$39=\"Non-endemic\",\" \",IF(COUNTRY_INFO!C22=0,\" \",COUNTRY_INFO!C22))","v":"Ahafo Ano North"},{"$f":"IF(INTRO!$E$39=\"Non-endemic\",0,IF(INTRO!$E$39=\"Endemic but PC is not required\",IF(COUNTRY_INFO!$H22=1,COUNTRY_INFO!F22+COUNTRY_INFO!G22,0),IF(COUNTRY_INFO!$H22=1,COUNTRY_INFO!F22+COUNTRY_INFO!G22,IF(COUNTRY_INFO!$I22=1,IF(COUNTRY_INFO!M22>=(COUNTRY_INFO!F22+COUNTRY_INFO!G22),COUNTRY_INFO!F22+COUNTRY_INFO!G22,COUNTRY_INFO!$M22),0))))","v":41249.665000000001},{"$f":"IF(AND(INTRO!$E$39=\"Non-endemic\",INTRO!$E$37=\"Non-endemic\"),\"Not required\",IF(INTRO!$E$39=\"Non-endemic\",\"Treat with DEC\",COUNTRY_INFO!V22))","v":0},{"$f":"IF(INTRO!$E$39<>\"Non-endemic\",COUNTRY_INFO!W22,\"Not required\")","v":2},{"$f":"IF(COUNTRY_INFO!H22=1, IF($E22=1,$D22, 0),0)","v":0},{"$f":"IF(COUNTRY_INFO!I22=1, IF(AND(COUNTRY_INFO!$I22=1,$F22<>0),IF(COUNTRY_INFO!M22>=(COUNTRY_INFO!F22+COUNTRY_INFO!G22),COUNTRY_INFO!F22+COUNTRY_INFO!G22,COUNTRY_INFO!$M22), 0),0)","v":41249.665000000001},0,230998.12399999998,0,230998.12399999998,null,230998.12399999998]
[{"$f":"IF(INTRO!$E$39=\"Non-endemic\",\" \",IF(COUNTRY_INFO!A23=0,\" \",COUNTRY_INFO!A23))","v":"Ghana"},{"$f":"IF(INTRO!$E$39=\"Non-endemic\",\" \",IF(COUNTRY_INFO!B23=0,\" \",COUNTRY_INFO!B23))","v":"Ashanti"},{"$f":"IF(INTRO!$E$39=\"Non-endemic\",\" \",IF(COUNTRY_INFO!C23=0,\" \",COUNTRY_INFO!C23))","v":"Ahafo Ano South East"},{"$f":"IF(INTRO!$E$39=\"Non-endemic\",0,IF(INTRO!$E$39=\"Endemic but PC is not required\",IF(COUNTRY_INFO!$H23=1,COUNTRY_INFO!F23+COUNTRY_INFO!G23,0),IF(COUNTRY_INFO!$H23=1,COUNTRY_INFO!F23+COUNTRY_INFO!G23,IF(COUNTRY_INFO!$I23=1,IF(COUNTRY_INFO!M23>=(COUNTRY_INFO!F23+COUNTRY_INFO!G23),COUNTRY_INFO!F23+COUNTRY_INFO!G23,COUNTRY_INFO!$M23),0))))","v":40417},{"$f":"IF(AND(INTRO!$E$39=\"Non-endemic\",INTRO!$E$37=\"Non-endemic\"),\"Not required\",IF(INTRO!$E$39=\"Non-endemic\",\"Treat with DEC\",COUNTRY_INFO!V23))","v":0},{"$f":"IF(INTRO!$E$39<>\"Non-endemic\",COUNTRY_INFO!W23,\"Not required\")","v":2},{"$f":"IF(COUNTRY_INFO!H23=1, IF($E23=1,$D23, 0),0)","v":0},{"$f":"IF(COUNTRY_INFO!I23=1, IF(AND(COUNTRY_INFO!$I23=1,$F23<>0),IF(COUNTRY_INFO!M23>=(COUNTRY_INFO!F23+COUNTRY_INFO!G23),COUNTRY_INFO!F23+COUNTRY_INFO!G23,COUNTRY_INFO!$M23), 0),0)","v":40417},0,226335.19999999998,0,226335.19999999998,null,226335.19999999998]
[{"$f":"IF(INTRO!$E$39=\"Non-endemic\",\" \",IF(COUNTRY_INFO!A24=0,\" \",COUNTRY_INFO!A24))","v":"Ghana"},{"$f":"IF(INTRO!$E$39=\"Non-endemic\",\" \",IF(COUNTRY_INFO!B24=0,\" \",COUNTRY_INFO!B24))","v":"Ashanti"},{"$f":"IF(INTRO!$E$39=\"Non-endemic\",\" \",IF(COUNTRY_INFO!C24=0,\" \",COUNTRY_INFO!C24))","v":"Ahafo Ano South West"},{"$f":"IF(INTRO!$E$39=\"Non-endemic\",0,IF(INTRO!$E$39=\"Endemic but PC is not required\",IF(COUNTRY_INFO!$H24=1,COUNTRY_INFO!F24+COUNTRY_INFO!G24,0),IF(COUNTRY_INFO!$H24=1,COUNTRY_INFO!F24+COUNTRY_INFO!G24,IF(COUNTRY_INFO!$I24=1,IF(COUNTRY_INFO!M24>=(COUNTRY_INFO!F24+COUNTRY_INFO!G24),COUNTRY_INFO!F24+COUNTRY_INFO!G24,COUNTRY_INFO!$M24),0))))","v":40492},{"$f":"IF(AND(INTRO!$E$39=\"Non-endemic\",INTRO!$E$37=\"Non-endemic\"),\"Not required\",IF(INTRO!$E$39=\"Non-endemic\",\"Treat with DEC\",COUNTRY_INFO!V24))","v":0},{"$f":"IF(INTRO!$E$39<>\"Non-endemic\",COUNTRY_INFO!W24,\"Not required\")","v":2},{"$f":"IF(COUNTRY_INFO!H24=1, IF($E24=1,$D24, 0),0)","v":0},{"$f":"IF(COUNTRY_INFO!I24=1, IF(AND(COUNTRY_INFO!$I24=1,$F24<>0),IF(COUNTRY_INFO!M24>=(COUNTRY_INFO!F24+COUNTRY_INFO!G24),COUNTRY_INFO!F24+COUNTRY_INFO!G24,COUNTRY_INFO!$M24), 0),0)","v":40492},0,226755.19999999998,0,226755.19999999998,null,226755.19999999998]
[{"$f":"IF(INTRO!$E$39=\"Non-endemic\",\" \",IF(COUNTRY_INFO!A25=0,\" \",COUNTRY_INFO!A25))","v":"Ghana"},{"$f":"IF(INTRO!$E$39=\"Non-endemic\",\" \",IF(COUNTRY_INFO!B25=0,\" \",COUNTRY_INFO!B25))","v":"Ashanti"},{"$f":"IF(INTRO!$E$39=\"Non-endemic\",\" \",IF(COUNTRY_INFO!C25=0,\" \",COUNTRY_INFO!C25))","v":"Amansie Central"},{"$f":"IF(INTRO!$E$39=\"Non-endemic\",0,IF(INTRO!$E$39=\"Endemic but PC is not required\",IF(COUNTRY_INFO!$H25=1,COUNTRY_INFO!F25+COUNTRY_INFO!G25,0),IF(COUNTRY_INFO!$H25=1,COUNTRY_INFO!F25+COUNTRY_INFO!G25,IF(COUNTRY_INFO!$I25=1,IF(COUNTRY_INFO!M25>=(COUNTRY_INFO!F25+COUNTRY_INFO!G25),COUNTRY_INFO!F25+COUNTRY_INFO!G25,COUNTRY_INFO!$M25),0))))","v":43698},{"$f":"IF(AND(INTRO!$E$39=\"Non-endemic\",INTRO!$E$37=\"Non-endemic\"),\"Not required\",IF(INTRO!$E$39=\"Non-endemic\",\"Treat with DEC\",COUNTRY_INFO!V25))","v":0},{"$f":"IF(INTRO!$E$39<>\"Non-endemic\",COUNTRY_INFO!W25,\"Not required\")","v":2},{"$f":"IF(COUNTRY_INFO!H25=1, IF($E25=1,$D25, 0),0)","v":0},{"$f":"IF(COUNTRY_INFO!I25=1, IF(AND(COUNTRY_INFO!$I25=1,$F25<>0),IF(COUNTRY_INFO!M25>=(COUNTRY_INFO!F25+COUNTRY_INFO!G25),COUNTRY_INFO!F25+COUNTRY_INFO!G25,COUNTRY_INFO!$M25), 0),0)","v":43698},0,244708.8,0,244708.8,null,244708.8]
[{"$f":"IF(INTRO!$E$39=\"Non-endemic\",\" \",IF(COUNTRY_INFO!A26=0,\" \",COUNTRY_INFO!A26))","v":"Ghana"},{"$f":"IF(INTRO!$E$39=\"Non-endemic\",\" \",IF(COUNTRY_INFO!B26=0,\" \",COUNTRY_INFO!B26))","v":"Ashanti"},{"$f":"IF(INTRO!$E$39=\"Non-endemic\",\" \",IF(COUNTRY_INFO!C26=0,\" \",COUNTRY_INFO!C26))","v":"Amansie South"},{"$f":"IF(INTRO!$E$39=\"Non-endemic\",0,IF(INTRO!$E$39=\"Endemic but PC is not required\",IF(COUNTRY_INFO!$H26=1,COUNTRY_INFO!F26+COUNTRY_INFO!G26,0),IF(COUNTRY_INFO!$H26=1,COUNTRY_INFO!F26+COUNTRY_INFO!G26,IF(COUNTRY_INFO!$I26=1,IF(COUNTRY_INFO!M26>=(COUNTRY_INFO!F26+COUNTRY_INFO!G26),COUNTRY_INFO!F26+COUNTRY_INFO!G26,COUNTRY_INFO!$M26),0))))","v":57981},{"$f":"IF(AND(INTRO!$E$39=\"Non-endemic\",INTRO!$E$37=\"Non-endemic\"),\"Not required\",IF(INTRO!$E$39=\"Non-endemic\",\"Treat with DEC\",COUNTRY_INFO!V26))","v":0},{"$f":"IF(INTRO!$E$39<>\"Non-endemic\",COUNTRY_INFO!W26,\"Not required\")","v":2},{"$f":"IF(COUNTRY_INFO!H26=1, IF($E26=1,$D26, 0),0)","v":0},{"$f":"IF(COUNTRY_INFO!I26=1, IF(AND(COUNTRY_INFO!$I26=1,$F26<>0),IF(COUNTRY_INFO!M26>=(COUNTRY_INFO!F26+COUNTRY_INFO!G26),COUNTRY_INFO!F26+COUNTRY_INFO!G26,COUNTRY_INFO!$M26), 0),0)","v":57981},0,324693.59999999998,0,324693.59999999998,null,324693.59999999998]
[{"$f":"IF(INTRO!$E$39=\"Non-endemic\",\" \",IF(COUNTRY_INFO!A27=0,\" \",COUNTRY_INFO!A27))","v":"Ghana"},{"$f":"IF(INTRO!$E$39=\"Non-endemic\",\" \",IF(COUNTRY_INFO!B27=0,\" \",COUNTRY_INFO!B27))","v":"Ashanti"},{"$f":"IF(INTRO!$E$39=\"Non-endemic\",\" \",IF(COUNTRY_INFO!C27=0,\" \",COUNTRY_INFO!C27))","v":"Amansie West"},{"$f":"IF(INTRO!$E$39=\"Non-endemic\",0,IF(INTRO!$E$39=\"Endemic but PC is not required\",IF(COUNTRY_INFO!$H27=1,COUNTRY_INFO!F27+COUNTRY_INFO!G27,0),IF(COUNTRY_INFO!$H27=1,COUNTRY_INFO!F27+COUNTRY_INFO!G27,IF(COUNTRY_INFO!$I27=1,IF(COUNTRY_INFO!M27>=(COUNTRY_INFO!F27+COUNTRY_INFO!G27),COUNTRY_INFO!F27+COUNTRY_INFO!G27,COUNTRY_INFO!$M27),0))))","v":0},{"$f":"IF(AND(INTRO!$E$39=\"Non-endemic\",INTRO!$E$37=\"Non-endemic\"),\"Not required\",IF(INTRO!$E$39=\"Non-endemic\",\"Treat with DEC\",COUNTRY_INFO!V27))","v":0},{"$f":"IF(INTRO!$E$39<>\"Non-endemic\",COUNTRY_INFO!W27,\"Not required\")","v":0},{"$f":"IF(COUNTRY_INFO!H27=1, IF($E27=1,$D27, 0),0)","v":0},{"$f":"IF(COUNTRY_INFO!I27=1, IF(AND(COUNTRY_INFO!$I27=1,$F27<>0),IF(COUNTRY_INFO!M27>=(COUNTRY_INFO!F27+COUNTRY_INFO!G27),COUNTRY_INFO!F27+COUNTRY_INFO!G27,COUNTRY_INFO!$M27), 0),0)","v":0},0,0,0,0,null,0]
[{"$f":"IF(INTRO!$E$39=\"Non-endemic\",\" \",IF(COUNTRY_INFO!A28=0,\" \",COUNTRY_INFO!A28))","v":"Ghana"},{"$f":"IF(INTRO!$E$39=\"Non-endemic\",\" \",IF(COUNTRY_INFO!B28=0,\" \",COUNTRY_INFO!B28))","v":"Ashanti"},{"$f":"IF(INTRO!$E$39=\"Non-endemic\",\" \",IF(COUNTRY_INFO!C28=0,\" \",COUNTRY_INFO!C28))","v":"Asante Akim Central"},{"$f":"IF(INTRO!$E$39=\"Non-endemic\",0,IF(INTRO!$E$39=\"Endemic but PC is not required\",IF(COUNTRY_INFO!$H28=1,COUNTRY_INFO!F28+COUNTRY_INFO!G28,0),IF(COUNTRY_INFO!$H28=1,COUNTRY_INFO!F28+COUNTRY_INFO!G28,IF(COUNTRY_INFO!$I28=1,IF(COUNTRY_INFO!M28>=(COUNTRY_INFO!F28+COUNTRY_INFO!G28),COUNTRY_INFO!F28+COUNTRY_INFO!G28,COUNTRY_INFO!$M28),0))))","v":0},{"$f":"IF(AND(INTRO!$E$39=\"Non-endemic\",INTRO!$E$37=\"Non-endemic\"),\"Not required\",IF(INTRO!$E$39=\"Non-endemic\",\"Treat with DEC\",COUNTRY_INFO!V28))","v":0},{"$f":"IF(INTRO!$E$39<>\"Non-endemic\",COUNTRY_INFO!W28,\"Not required\")","v":0},{"$f":"IF(COUNTRY_INFO!H28=1, IF($E28=1,$D28, 0),0)","v":0},{"$f":"IF(COUNTRY_INFO!I28=1, IF(AND(COUNTRY_INFO!$I28=1,$F28<>0),IF(COUNTRY_INFO!M28>=(COUNTRY_INFO!F28+COUNTRY_INFO!G28),COUNTRY_INFO!F28+COUNTRY_INFO!G28,COUNTRY_INFO!$M28), 0),0)","v":0},0,0,0,0,null,0]
[{"$f":"IF(INTRO!$E$39=\"Non-endemic\",\" \",IF(COUNTRY_INFO!A29=0,\" \",COUNTRY_INFO!A29))","v":"Ghana"},{"$f":"IF(INTRO!$E$39=\"Non-endemic\",\" \",IF(COUNTRY_INFO!B29=0,\" \",COUNTRY_INFO!B29))","v":"Ashanti"},{"$f":"IF(INTRO!$E$39=\"Non-endemic\",\" \",IF(COUNTRY_INFO!C29=0,\" \",COUNTRY_INFO!C29))","v":"Asante Akim North"},{"$f":"IF(INTRO!$E$39=\"Non-endemic\",0,IF(INTRO!$E$39=\"Endemic but PC is not required\",IF(COUNTRY_INFO!$H29=1,COUNTRY_INFO!F29+COUNTRY_INFO!G29,0),IF(COUNTRY_INFO!$H29=1,COUNTRY_INFO!F29+COUNTRY_INFO!G29,IF(COUNTRY_INFO!$I29=1,IF(COUNTRY_INFO!M29>=(COUNTRY_INFO!F29+COUNTRY_INFO!G29),COUNTRY_INFO!F29+COUNTRY_INFO!G29,COUNTRY_INFO!$M29),0))))","v":0},{"$f":"IF(AND(INTRO!$E$39=\"Non-endemic\",INTRO!$E$37=\"Non-endemic\"),\"Not required\",IF(INTRO!$E$39=\"Non-endemic\",\"Treat with DEC\",COUNTRY_INFO!V29))","v":0},{"$f":"IF(INTRO!$E$39<>\"Non-endemic\",COUNTRY_INFO!W29,\"Not required\")","v":0},{"$f":"IF(COUNTRY_INFO!H29=1, IF($E29=1,$D29, 0),0)","v":0},{"$f":"IF(COUNTRY_INFO!I29=1, IF(AND(COUNTRY_INFO!$I29=1,$F29<>0),IF(COUNTRY_INFO!M29>=(COUNTRY_INFO!F29+COUNTRY_INFO!G29),COUNTRY_INFO!F29+COUNTRY_INFO!G29,COUNTRY_INFO!$M29), 0),0)","v":0},0,0,0,0,null,0]
[{"$f":"IF(INTRO!$E$39=\"Non-endemic\",\" \",IF(COUNTRY_INFO!A30=0,\" \",COUNTRY_INFO!A30))","v":"Ghana"},{"$f":"IF(INTRO!$E$39=\"Non-endemic\",\" \",IF(COUNTRY_INFO!B30=0,\" \",COUNTRY_INFO!B30))","v":"Ashanti"},{"$f":"IF(INTRO!$E$39=\"Non-endemic\",\" \",IF(COUNTRY_INFO!C30=0,\" \",COUNTRY_INFO!C30))","v":"Asante Akim South"},{"$f":"IF(INTRO!$E$39=\"Non-endemic\",0,IF(INTRO!$E$39=\"Endemic but PC is not required\",IF(COUNTRY_INFO!$H30=1,COUNTRY_INFO!F30+COUNTRY_INFO!G30,0),IF(COUNTRY_INFO!$H30=1,COUNTRY_INFO!F30+COUNTRY_INFO!G30,IF(COUNTRY_INFO!$I30=1,IF(COUNTRY_INFO!M30>=(COUNTRY_INFO!F30+COUNTRY_INFO!G30),COUNTRY_INFO!F30+COUNTRY_INFO!G30,COUNTRY_INFO!$M30),0))))","v":115477},{"$f":"IF(AND(INTRO!$E$39=\"Non-endemic\",INTRO!$E$37=\"Non-endemic\"),\"Not required\",IF(INTRO!$E$39=\"Non-endemic\",\"Treat with DEC\",COUNTRY_INFO!V30))","v":0},{"$f":"IF(INTRO!$E$39<>\"Non-endemic\",COUNTRY_INFO!W30,\"Not required\")","v":2},{"$f":"IF(COUNTRY_INFO!H30=1, IF($E30=1,$D30, 0),0)","v":0},{"$f":"IF(COUNTRY_INFO!I30=1, IF(AND(COUNTRY_INFO!$I30=1,$F30<>0),IF(COUNTRY_INFO!M30>=(COUNTRY_INFO!F30+COUNTRY_INFO!G30),COUNTRY_INFO!F30+COUNTRY_INFO!G30,COUNTRY_INFO!$M30), 0),0)","v":115477},0,646671.19999999995,0,646671.19999999995,null,646671.19999999995]
[{"$f":"IF(INTRO!$E$39=\"Non-endemic\",\" \",IF(COUNTRY_INFO!A31=0,\" \",COUNTRY_INFO!A31))","v":"Ghana"},{"$f":"IF(INTRO!$E$39=\"Non-endemic\",\" \",IF(COUNTRY_INFO!B31=0,\" \",COUNTRY_INFO!B31))","v":"Ashanti"},{"$f":"IF(INTRO!$E$39=\"Non-endemic\",\" \",IF(COUNTRY_INFO!C31=0,\" \",COUNTRY_INFO!C31))","v":"Asante Mampong"},{"$f":"IF(INTRO!$E$39=\"Non-endemic\",0,IF(INTRO!$E$39=\"Endemic but PC is not required\",IF(COUNTRY_INFO!$H31=1,COUNTRY_INFO!F31+COUNTRY_INFO!G31,0),IF(COUNTRY_INFO!$H31=1,COUNTRY_INFO!F31+COUNTRY_INFO!G31,IF(COUNTRY_INFO!$I31=1,IF(COUNTRY_INFO!M31>=(COUNTRY_INFO!F31+COUNTRY_INFO!G31),COUNTRY_INFO!F31+COUNTRY_INFO!G31,COUNTRY_INFO!$M31),0))))","v":42443.619999999995},{"$f":"IF(AND(INTRO!$E$39=\"Non-endemic\",INTRO!$E$37=\"Non-endemic\"),\"Not required\",IF(INTRO!$E$39=\"Non-endemic\",\"Treat with DEC\",COUNTRY_INFO!V31))","v":0},{"$f":"IF(INTRO!$E$39<>\"Non-endemic\",COUNTRY_INFO!W31,\"Not required\")","v":2},{"$f":"IF(COUNTRY_INFO!H31=1, IF($E31=1,$D31, 0),0)","v":0},{"$f":"IF(COUNTRY_INFO!I31=1, IF(AND(COUNTRY_INFO!$I31=1,$F31<>0),IF(COUNTRY_INFO!M31>=(COUNTRY_INFO!F31+COUNTRY_INFO!G31),COUNTRY_INFO!F31+COUNTRY_INFO!G31,COUNTRY_INFO!$M31), 0),0)","v":42443.619999999995},0,237684.27199999997,0,237684.27199999997,null,237684.27199999997]
[{"$f":"IF(INTRO!$E$39=\"Non-endemic\",\" \",IF(COUNTRY_INFO!A32=0,\" \",COUNTRY_INFO!A32))","v":"Ghana"},{"$f":"IF(INTRO!$E$39=\"Non-endemic\",\" \",IF(COUNTRY_INFO!B32=0,\" \",COUNTRY_INFO!B32))","v":"Ashanti"},{"$f":"IF(INTRO!$E$39=\"Non-endemic\",\" \",IF(COUNTRY_INFO!C32=0,\" \",COUNTRY_INFO!C32))","v":"Asokore Mampong"},{"$f":"IF(INTRO!$E$39=\"Non-endemic\",0,IF(INTRO!$E$39=\"Endemic but PC is not required\",IF(COUNTRY_INFO!$H32=1,COUNTRY_INFO!F32+COUNTRY_INFO!G32,0),IF(COUNTRY_INFO!$H32=1,COUNTRY_INFO!F32+COUNTRY_INFO!G32,IF(COUNTRY_INFO!$I32=1,IF(COUNTRY_INFO!M32>=(COUNTRY_INFO!F32+COUNTRY_INFO!G32),COUNTRY_INFO!F32+COUNTRY_INFO!G32,COUNTRY_INFO!$M32),0))))","v":0},{"$f":"IF(AND(INTRO!$E$39=\"Non-endemic\",INTRO!$E$37=\"Non-endemic\"),\"Not required\",IF(INTRO!$E$39=\"Non-endemic\",\"Treat with DEC\",COUNTRY_INFO!V32))","v":0},{"$f":"IF(INTRO!$E$39<>\"Non-endemic\",COUNTRY_INFO!W32,\"Not required\")","v":0},{"$f":"IF(COUNTRY_INFO!H32=1, IF($E32=1,$D32, 0),0)","v":0},{"$f":"IF(COUNTRY_INFO!I32=1, IF(AND(COUNTRY_INFO!$I32=1,$F32<>0),IF(COUNTRY_INFO!M32>=(COUNTRY_INFO!F32+COUNTRY_INFO!G32),COUNTRY_INFO!F32+COUNTRY_INFO!G32,COUNTRY_INFO!$M32), 0),0)","v":0},0,0,0,0,null,0]
[{"$f":"IF(INTRO!$E$39=\"Non-endemic\",\" \",IF(COUNTRY_INFO!A33=0,\" \",COUNTRY_INFO!A33))","v":"Ghana"},{"$f":"IF(INTRO!$E$39=\"Non-endemic\",\" \",IF(COUNTRY_INFO!B33=0,\" \",COUNTRY_INFO!B33))","v":"Ashanti"},{"$f":"IF(INTRO!$E$39=\"Non-endemic\",\" \",IF(COUNTRY_INFO!C33=0,\" \",COUNTRY_INFO!C33))","v":"Asokwa"},{"$f":"IF(INTRO!$E$39=\"Non-endemic\",0,IF(INTRO!$E$39=\"Endemic but PC is not required\",IF(COUNTRY_INFO!$H33=1,COUNTRY_INFO!F33+COUNTRY_INFO!G33,0),IF(COUNTRY_INFO!$H33=1,COUNTRY_INFO!F33+COUNTRY_INFO!G33,IF(COUNTRY_INFO!$I33=1,IF(COUNTRY_INFO!M33>=(COUNTRY_INFO!F33+COUNTRY_INFO!G33),COUNTRY_INFO!F33+COUNTRY_INFO!G33,COUNTRY_INFO!$M33),0))))","v":0},{"$f":"IF(AND(INTRO!$E$39=\"Non-endemic\",INTRO!$E$37=\"Non-endemic\"),\"Not required\",IF(INTRO!$E$39=\"Non-endemic\",\"Treat with DEC\",COUNTRY_INFO!V33))","v":0},{"$f":"IF(INTRO!$E$39<>\"Non-endemic\",COUNTRY_INFO!W33,\"Not required\")","v":0},{"$f":"IF(COUNTRY_INFO!H33=1, IF($E33=1,$D33, 0),0)","v":0},{"$f":"IF(COUNTRY_INFO!I33=1, IF(AND(COUNTRY_INFO!$I33=1,$F33<>0),IF(COUNTRY_INFO!M33>=(COUNTRY_INFO!F33+COUNTRY_INFO!G33),COUNTRY_INFO!F33+COUNTRY_INFO!G33,COUNTRY_INFO!$M33), 0),0)","v":0},0,0,0,0,null,0]
[{"$f":"IF(INTRO!$E$39=\"Non-endemic\",\" \",IF(COUNTRY_INFO!A34=0,\" \",COUNTRY_INFO!A34))","v":"Ghana"},{"$f":"IF(INTRO!$E$39=\"Non-endemic\",\" \",IF(COUNTRY_INFO!B34=0,\" \",COUNTRY_INFO!B34))","v":"Ashanti"},{"$f":"IF(INTRO!$E$39=\"Non-endemic\",\" \",IF(COUNTRY_INFO!C34=0,\" \",COUNTRY_INFO!C34))","v":"Atwima Kwanwoma"},{"$f":"IF(INTRO!$E$39=\"Non-endemic\",0,IF(INTRO!$E$39=\"Endemic but PC is not required\",IF(COUNTRY_INFO!$H34=1,COUNTRY_INFO!F34+COUNTRY_INFO!G34,0),IF(COUNTRY_INFO!$H34=1,COUNTRY_INFO!F34+COUNTRY_INFO!G34,IF(COUNTRY_INFO!$I34=1,IF(COUNTRY_INFO!M34>=(COUNTRY_INFO!F34+COUNTRY_INFO!G34),COUNTRY_INFO!F34+COUNTRY_INFO!G34,COUNTRY_INFO!$M34),0))))","v":0},{"$f":"IF(AND(INTRO!$E$39=\"Non-endemic\",INTRO!$E$37=\"Non-endemic\"),\"Not required\",IF(INTRO!$E$39=\"Non-endemic\",\"Treat with DEC\",COUNTRY_INFO!V34))","v":0},{"$f":"IF(INTRO!$E$39<>\"Non-endemic\",COUNTRY_INFO!W34,\"Not required\")","v":0},{"$f":"IF(COUNTRY_INFO!H34=1, IF($E34=1,$D34, 0),0)","v":0},{"$f":"IF(COUNTRY_INFO!I34=1, IF(AND(COUNTRY_INFO!$I34=1,$F34<>0),IF(COUNTRY_INFO!M34>=(COUNTRY_INFO!F34+COUNTRY_INFO!G34),COUNTRY_INFO!F34+COUNTRY_INFO!G34,COUNTRY_INFO!$M34), 0),0)","v":0},0,0,0,0,null,0]
[{"$f":"IF(INTRO!$E$39=\"Non-endemic\",\" \",IF(COUNTRY_INFO!A35=0,\" \",COUNTRY_INFO!A35))","v":"Ghana"},{"$f":"IF(INTRO!$E$39=\"Non-endemic\",\" \",IF(COUNTRY_INFO!B35=0,\" \",COUNTRY_INFO!B35))","v":"Ashanti"},{"$f":"IF(INTRO!$E$39=\"Non-endemic\",\" \",IF(COUNTRY_INFO!C35=0,\" \",COUNTRY_INFO!C35))","v":"Atwima Mponua"},{"$f":"IF(INTRO!$E$39=\"Non-endemic\",0,IF(INTRO!$E$39=\"Endemic but PC is not required\",IF(COUNTRY_INFO!$H35=1,COUNTRY_INFO!F35+COUNTRY_INFO!G35,0),IF(COUNTRY_INFO!$H35=1,COUNTRY_INFO!F35+COUNTRY_INFO!G35,IF(COUNTRY_INFO!$I35=1,IF(COUNTRY_INFO!M35>=(COUNTRY_INFO!F35+COUNTRY_INFO!G35),COUNTRY_INFO!F35+COUNTRY_INFO!G35,COUNTRY_INFO!$M35),0))))","v":130796},{"$f":"IF(AND(INTRO!$E$39=\"Non-endemic\",INTRO!$E$37=\"Non-endemic\"),\"Not required\",IF(INTRO!$E$39=\"Non-endemic\",\"Treat with DEC\",COUNTRY_INFO!V35))","v":0},{"$f":"IF(INTRO!$E$39<>\"Non-endemic\",COUNTRY_INFO!W35,\"Not required\")","v":2},{"$f":"IF(COUNTRY_INFO!H35=1, IF($E35=1,$D35, 0),0)","v":0},{"$f":"IF(COUNTRY_INFO!I35=1, IF(AND(COUNTRY_INFO!$I35=1,$F35<>0),IF(COUNTRY_INFO!M35>=(COUNTRY_INFO!F35+COUNTRY_INFO!G35),COUNTRY_INFO!F35+COUNTRY_INFO!G35,COUNTRY_INFO!$M35), 0),0)","v":130796},0,732457.6,0,732457.6,null,732457.6]
[{"$f":"IF(INTRO!$E$39=\"Non-endemic\",\" \",IF(COUNTRY_INFO!A36=0,\" \",COUNTRY_INFO!A36))","v":"Ghana"},{"$f":"IF(INTRO!$E$39=\"Non-endemic\",\" \",IF(COUNTRY_INFO!B36=0,\" \",COUNTRY_INFO!B36))","v":"Ashanti"},{"$f":"IF(INTRO!$E$39=\"Non-endemic\",\" \",IF(COUNTRY_INFO!C36=0,\" \",COUNTRY_INFO!C36))","v":"Atwima Nwabiagya"},{"$f":"IF(INTRO!$E$39=\"Non-endemic\",0,IF(INTRO!$E$39=\"Endemic but PC is not required\",IF(COUNTRY_INFO!$H36=1,COUNTRY_INFO!F36+COUNTRY_INFO!G36,0),IF(COUNTRY_INFO!$H36=1,COUNTRY_INFO!F36+COUNTRY_INFO!G36,IF(COUNTRY_INFO!$I36=1,IF(COUNTRY_INFO!M36>=(COUNTRY_INFO!F36+COUNTRY_INFO!G36),COUNTRY_INFO!F36+COUNTRY_INFO!G36,COUNTRY_INFO!$M36),0))))","v":0},{"$f":"IF(AND(INTRO!$E$39=\"Non-endemic\",INTRO!$E$37=\"Non-endemic\"),\"Not required\",IF(INTRO!$E$39=\"Non-endemic\",\"Treat with DEC\",COUNTRY_INFO!V36))","v":0},{"$f":"IF(INTRO!$E$39<>\"Non-endemic\",COUNTRY_INFO!W36,\"Not required\")","v":0},{"$f":"IF(COUNTRY_INFO!H36=1, IF($E36=1,$D36, 0),0)","v":0},{"$f":"IF(COUNTRY_INFO!I36=1, IF(AND(COUNTRY_INFO!$I36=1,$F36<>0),IF(COUNTRY_INFO!M36>=(COUNTRY_INFO!F36+COUNTRY_INFO!G36),COUNTRY_INFO!F36+COUNTRY_INFO!G36,COUNTRY_INFO!$M36), 0),0)","v":0},0,0,0,0,null,0]
[{"$f":"IF(INTRO!$E$39=\"Non-endemic\",\" \",IF(COUNTRY_INFO!A37=0,\" \",COUNTRY_INFO!A37))","v":"Ghana"},{"$f":"IF(INTRO!$E$39=\"Non-endemic\",\" \",IF(COUNTRY_INFO!B37=0,\" \",COUNTRY_INFO!B37))","v":"Ashanti"},{"$f":"IF(INTRO!$E$39=\"Non-endemic\",\" \",IF(COUNTRY_INFO!C37=0,\" \",COUNTRY_INFO!C37))","v":"Atwima Nwabiagya North"},{"$f":"IF(INTRO!$E$39=\"Non-endemic\",0,IF(INTRO!$E$39=\"Endemic but PC is not required\",IF(COUNTRY_INFO!$H37=1,COUNTRY_INFO!F37+COUNTRY_INFO!G37,0),IF(COUNTRY_INFO!$H37=1,COUNTRY_INFO!F37+COUNTRY_INFO!G37,IF(COUNTRY_INFO!$I37=1,IF(COUNTRY_INFO!M37>=(COUNTRY_INFO!F37+COUNTRY_INFO!G37),COUNTRY_INFO!F37+COUNTRY_INFO!G37,COUNTRY_INFO!$M37),0))))","v":33926},{"$f":"IF(AND(INTRO!$E$39=\"Non-endemic\",INTRO!$E$37=\"Non-endemic\"),\"Not required\",IF(INTRO!$E$39=\"Non-endemic\",\"Treat with DEC\",COUNTRY_INFO!V37))","v":0},{"$f":"IF(INTRO!$E$39<>\"Non-endemic\",COUNTRY_INFO!W37,\"Not required\")","v":2},{"$f":"IF(COUNTRY_INFO!H37=1, IF($E37=1,$D37, 0),0)","v":0},{"$f":"IF(COUNTRY_INFO!I37=1, IF(AND(COUNTRY_INFO!$I37=1,$F37<>0),IF(COUNTRY_INFO!M37>=(COUNTRY_INFO!F37+COUNTRY_INFO!G37),COUNTRY_INFO!F37+COUNTRY_INFO!G37,COUNTRY_INFO!$M37), 0),0)","v":33926},0,189985.59999999998,0,189985.59999999998,null,189985.59999999998]
[{"$f":"IF(INTRO!$E$39=\"Non-endemic\",\" \",IF(COUNTRY_INFO!A38=0,\" \",COUNTRY_INFO!A38))","v":"Ghana"},{"$f":"IF(INTRO!$E$39=\"Non-endemic\",\" \",IF(COUNTRY_INFO!B38=0,\" \",COUNTRY_INFO!B38))","v":"Ashanti"},{"$f":"IF(INTRO!$E$39=\"Non-endemic\",\" \",IF(COUNTRY_INFO!C38=0,\" \",COUNTRY_INFO!C38))","v":"Bekwai"},{"$f":"IF(INTRO!$E$39=\"Non-endemic\",0,IF(INTRO!$E$39=\"Endemic but PC is not required\",IF(COUNTRY_INFO!$H38=1,COUNTRY_INFO!F38+COUNTRY_INFO!G38,0),IF(COUNTRY_INFO!$H38=1,COUNTRY_INFO!F38+COUNTRY_INFO!G38,IF(COUNTRY_INFO!$I38=1,IF(COUNTRY_INFO!M38>=(COUNTRY_INFO!F38+COUNTRY_INFO!G38),COUNTRY_INFO!F38+COUNTRY_INFO!G38,COUNTRY_INFO!$M38),0))))","v":0},{"$f":"IF(AND(INTRO!$E$39=\"Non-endemic\",INTRO!$E$37=\"Non-endemic\"),\"Not required\",IF(INTRO!$E$39=\"Non-endemic\",\"Treat with DEC\",COUNTRY_INFO!V38))","v":0},{"$f":"IF(INTRO!$E$39<>\"Non-endemic\",COUNTRY_INFO!W38,\"Not required\")","v":0},{"$f":"IF(COUNTRY_INFO!H38=1, IF($E38=1,$D38, 0),0)","v":0},{"$f":"IF(COUNTRY_INFO!I38=1, IF(AND(COUNTRY_INFO!$I38=1,$F38<>0),IF(COUNTRY_INFO!M38>=(COUNTRY_INFO!F38+COUNTRY_INFO!G38),COUNTRY_INFO!F38+COUNTRY_INFO!G38,COUNTRY_INFO!$M38), 0),0)","v":0},0,0,0,0,null,0]
[{"$f":"IF(INTRO!$E$39=\"Non-endemic\",\" \",IF(COUNTRY_INFO!A39=0,\" \",COUNTRY_INFO!A39))","v":"Ghana"},{"$f":"IF(INTRO!$E$39=\"Non-endemic\",\" \",IF(COUNTRY_INFO!B39=0,\" \",COUNTRY_INFO!B39))","v":"Ashanti"},{"$f":"IF(INTRO!$E$39=\"Non-endemic\",\" \",IF(COUNTRY_INFO!C39=0,\" \",COUNTRY_INFO!C39))","v":"Bosome Freho"},{"$f":"IF(INTRO!$E$39=\"Non-endemic\",0,IF(INTRO!$E$39=\"Endemic but PC is not required\",IF(COUNTRY_INFO!$H39=1,COUNTRY_INFO!F39+COUNTRY_INFO!G39,0),IF(COUNTRY_INFO!$H39=1,COUNTRY_INFO!F39+COUNTRY_INFO!G39,IF(COUNTRY_INFO!$I39=1,IF(COUNTRY_INFO!M39>=(COUNTRY_INFO!F39+COUNTRY_INFO!G39),COUNTRY_INFO!F39+COUNTRY_INFO!G39,COUNTRY_INFO!$M39),0))))","v":58152},{"$f":"IF(AND(INTRO!$E$39=\"Non-endemic\",INTRO!$E$37=\"Non-endemic\"),\"Not required\",IF(INTRO!$E$39=\"Non-endemic\",\"Treat with DEC\",COUNTRY_INFO!V39))","v":0},{"$f":"IF(INTRO!$E$39<>\"Non-endemic\",COUNTRY_INFO!W39,\"Not required\")","v":2},{"$f":"IF(COUNTRY_INFO!H39=1, IF($E39=1,$D39, 0),0)","v":0},{"$f":"IF(COUNTRY_INFO!I39=1, IF(AND(COUNTRY_INFO!$I39=1,$F39<>0),IF(COUNTRY_INFO!M39>=(COUNTRY_INFO!F39+COUNTRY_INFO!G39),COUNTRY_INFO!F39+COUNTRY_INFO!G39,COUNTRY_INFO!$M39), 0),0)","v":58152},0,325651.19999999995,0,325651.19999999995,null,325651.19999999995]
[{"$f":"IF(INTRO!$E$39=\"Non-endemic\",\" \",IF(COUNTRY_INFO!A40=0,\" \",COUNTRY_INFO!A40))","v":"Ghana"},{"$f":"IF(INTRO!$E$39=\"Non-endemic\",\" \",IF(COUNTRY_INFO!B40=0,\" \",COUNTRY_INFO!B40))","v":"Ashanti"},{"$f":"IF(INTRO!$E$39=\"Non-endemic\",\" \",IF(COUNTRY_INFO!C40=0,\" \",COUNTRY_INFO!C40))","v":"Bosomtwe"},{"$f":"IF(INTRO!$E$39=\"Non-endemic\",0,IF(INTRO!$E$39=\"Endemic but PC is not required\",IF(COUNTRY_INFO!$H40=1,COUNTRY_INFO!F40+COUNTRY_INFO!G40,0),IF(COUNTRY_INFO!$H40=1,COUNTRY_INFO!F40+COUNTRY_INFO!G40,IF(COUNTRY_INFO!$I40=1,IF(COUNTRY_INFO!M40>=(COUNTRY_INFO!F40+COUNTRY_INFO!G40),COUNTRY_INFO!F40+COUNTRY_INFO!G40,COUNTRY_INFO!$M40),0))))","v":0},{"$f":"IF(AND(INTRO!$E$39=\"Non-endemic\",INTRO!$E$37=\"Non-endemic\"),\"Not required\",IF(INTRO!$E$39=\"Non-endemic\",\"Treat with DEC\",COUNTRY_INFO!V40))","v":0},{"$f":"IF(INTRO!$E$39<>\"Non-endemic\",COUNTRY_INFO!W40,\"Not required\")","v":0},{"$f":"IF(COUNTRY_INFO!H40=1, IF($E40=1,$D40, 0),0)","v":0},{"$f":"IF(COUNTRY_INFO!I40=1, IF(AND(COUNTRY_INFO!$I40=1,$F40<>0),IF(COUNTRY_INFO!M40>=(COUNTRY_INFO!F40+COUNTRY_INFO!G40),COUNTRY_INFO!F40+COUNTRY_INFO!G40,COUNTRY_INFO!$M40), 0),0)","v":0},0,0,0,0,null,0]
[{"$f":"IF(INTRO!$E$39=\"Non-endemic\",\" \",IF(COUNTRY_INFO!A41=0,\" \",COUNTRY_INFO!A41))","v":"Ghana"},{"$f":"IF(INTRO!$E$39=\"Non-endemic\",\" \",IF(COUNTRY_INFO!B41=0,\" \",COUNTRY_INFO!B41))","v":"Ashanti"},{"$f":"IF(INTRO!$E$39=\"Non-endemic\",\" \",IF(COUNTRY_INFO!C41=0,\" \",COUNTRY_INFO!C41))","v":"Ejisu"},{"$f":"IF(INTRO!$E$39=\"Non-endemic\",0,IF(INTRO!$E$39=\"Endemic but PC is not required\",IF(COUNTRY_INFO!$H41=1,COUNTRY_INFO!F41+COUNTRY_INFO!G41,0),IF(COUNTRY_INFO!$H41=1,COUNTRY_INFO!F41+COUNTRY_INFO!G41,IF(COUNTRY_INFO!$I41=1,IF(COUNTRY_INFO!M41>=(COUNTRY_INFO!F41+COUNTRY_INFO!G41),COUNTRY_INFO!F41+COUNTRY_INFO!G41,COUNTRY_INFO!$M41),0))))","v":66503},{"$f":"IF(AND(INTRO!$E$39=\"Non-endemic\",INTRO!$E$37=\"Non-endemic\"),\"Not required\",IF(INTRO!$E$39=\"Non-endemic\",\"Treat with DEC\",COUNTRY_INFO!V41))","v":0},{"$f":"IF(INTRO!$E$39<>\"Non-endemic\",COUNTRY_INFO!W41,\"Not required\")","v":2},{"$f":"IF(COUNTRY_INFO!H41=1, IF($E41=1,$D41, 0),0)","v":0},{"$f":"IF(COUNTRY_INFO!I41=1, IF(AND(COUNTRY_INFO!$I41=1,$F41<>0),IF(COUNTRY_INFO!M41>=(COUNTRY_INFO!F41+COUNTRY_INFO!G41),COUNTRY_INFO!F41+COUNTRY_INFO!G41,COUNTRY_INFO!$M41), 0),0)","v":66503},0,372416.8,0,372416.8,null,372416.8]
[{"$f":"IF(INTRO!$E$39=\"Non-endemic\",\" \",IF(COUNTRY_INFO!A42=0,\" \",COUNTRY_INFO!A42))","v":"Ghana"},{"$f":"IF(INTRO!$E$39=\"Non-endemic\",\" \",IF(COUNTRY_INFO!B42=0,\" \",COUNTRY_INFO!B42))","v":"Ashanti"},{"$f":"IF(INTRO!$E$39=\"Non-endemic\",\" \",IF(COUNTRY_INFO!C42=0,\" \",COUNTRY_INFO!C42))","v":"Ejura-Sekyedumase"},{"$f":"IF(INTRO!$E$39=\"Non-endemic\",0,IF(INTRO!$E$39=\"Endemic but PC is not required\",IF(COUNTRY_INFO!$H42=1,COUNTRY_INFO!F42+COUNTRY_INFO!G42,0),IF(COUNTRY_INFO!$H42=1,COUNTRY_INFO!F42+COUNTRY_INFO!G42,IF(COUNTRY_INFO!$I42=1,IF(COUNTRY_INFO!M42>=(COUNTRY_INFO!F42+COUNTRY_INFO!G42),COUNTRY_INFO!F42+COUNTRY_INFO!G42,COUNTRY_INFO!$M42),0))))","v":32058},{"$f":"IF(AND(INTRO!$E$39=\"Non-endemic\",INTRO!$E$37=\"Non-endemic\"),\"Not required\",IF(INTRO!$E$39=\"Non-endemic\",\"Treat with DEC\",COUNTRY_INFO!V42))","v":0},{"$f":"IF(INTRO!$E$39<>\"Non-endemic\",COUNTRY_INFO!W42,\"Not required\")","v":2},{"$f":"IF(COUNTRY_INFO!H42=1, IF($E42=1,$D42, 0),0)","v":0},{"$f":"IF(COUNTRY_INFO!I42=1, IF(AND(COUNTRY_INFO!$I42=1,$F42<>0),IF(COUNTRY_INFO!M42>=(COUNTRY_INFO!F42+COUNTRY_INFO!G42),COUNTRY_INFO!F42+COUNTRY_INFO!G42,COUNTRY_INFO!$M42), 0),0)","v":32058},0,179524.8,0,179524.8,null,179524.8]
[{"$f":"IF(INTRO!$E$39=\"Non-endemic\",\" \",IF(COUNTRY_INFO!A43=0,\" \",COUNTRY_INFO!A43))","v":"Ghana"},{"$f":"IF(INTRO!$E$39=\"Non-endemic\",\" \",IF(COUNTRY_INFO!B43=0,\" \",COUNTRY_INFO!B43))","v":"Ashanti"},{"$f":"IF(INTRO!$E$39=\"Non-endemic\",\" \",IF(COUNTRY_INFO!C43=0,\" \",COUNTRY_INFO!C43))","v":"Juaben"},{"$f":"IF(INTRO!$E$39=\"Non-endemic\",0,IF(INTRO!$E$39=\"Endemic but PC is not required\",IF(COUNTRY_INFO!$H43=1,COUNTRY_INFO!F43+COUNTRY_INFO!G43,0),IF(COUNTRY_INFO!$H43=1,COUNTRY_INFO!F43+COUNTRY_INFO!G43,IF(COUNTRY_INFO!$I43=1,IF(COUNTRY_INFO!M43>=(COUNTRY_INFO!F43+COUNTRY_INFO!G43),COUNTRY_INFO!F43+COUNTRY_INFO!G43,COUNTRY_INFO!$M43),0))))","v":42697},{"$f":"IF(AND(INTRO!$E$39=\"Non-endemic\",INTRO!$E$37=\"Non-endemic\"),\"Not required\",IF(INTRO!$E$39=\"Non-endemic\",\"Treat with DEC\",COUNTRY_INFO!V43))","v":0},{"$f":"IF(INTRO!$E$39<>\"Non-endemic\",COUNTRY_INFO!W43,\"Not required\")","v":2},{"$f":"IF(COUNTRY_INFO!H43=1, IF($E43=1,$D43, 0),0)","v":0},{"$f":"IF(COUNTRY_INFO!I43=1, IF(AND(COUNTRY_INFO!$I43=1,$F43<>0),IF(COUNTRY_INFO!M43>=(COUNTRY_INFO!F43+COUNTRY_INFO!G43),COUNTRY_INFO!F43+COUNTRY_INFO!G43,COUNTRY_INFO!$M43), 0),0)","v":42697},0,239103.19999999998,0,239103.19999999998,null,239103.19999999998]
[{"$f":"IF(INTRO!$E$39=\"Non-endemic\",\" \",IF(COUNTRY_INFO!A44=0,\" \",COUNTRY_INFO!A44))","v":"Ghana"},{"$f":"IF(INTRO!$E$39=\"Non-endemic\",\" \",IF(COUNTRY_INFO!B44=0,\" \",COUNTRY_INFO!B44))","v":"Ashanti"},{"$f":"IF(INTRO!$E$39=\"Non-endemic\",\" \",IF(COUNTRY_INFO!C44=0,\" \",COUNTRY_INFO!C44))","v":"Kumasi"},{"$f":"IF(INTRO!$E$39=\"Non-endemic\",0,IF(INTRO!$E$39=\"Endemic but PC is not required\",IF(COUNTRY_INFO!$H44=1,COUNTRY_INFO!F44+COUNTRY_INFO!G44,0),IF(COUNTRY_INFO!$H44=1,COUNTRY_INFO!F44+COUNTRY_INFO!G44,IF(COUNTRY_INFO!$I44=1,IF(COUNTRY_INFO!M44>=(COUNTRY_INFO!F44+COUNTRY_INFO!G44),COUNTRY_INFO!F44+COUNTRY_INFO!G44,COUNTRY_INFO!$M44),0))))","v":0},{"$f":"IF(AND(INTRO!$E$39=\"Non-endemic\",INTRO!$E$37=\"Non-endemic\"),\"Not required\",IF(INTRO!$E$39=\"Non-endemic\",\"Treat with DEC\",COUNTRY_INFO!V44))","v":0},{"$f":"IF(INTRO!$E$39<>\"Non-endemic\",COUNTRY_INFO!W44,\"Not required\")","v":0},{"$f":"IF(COUNTRY_INFO!H44=1, IF($E44=1,$D44, 0),0)","v":0},{"$f":"IF(COUNTRY_INFO!I44=1, IF(AND(COUNTRY_INFO!$I44=1,$F44<>0),IF(COUNTRY_INFO!M44>=(COUNTRY_INFO!F44+COUNTRY_INFO!G44),COUNTRY_INFO!F44+COUNTRY_INFO!G44,COUNTRY_INFO!$M44), 0),0)","v":0},0,0,0,0,null,0]
[{"$f":"IF(INTRO!$E$39=\"Non-endemic\",\" \",IF(COUNTRY_INFO!A45=0,\" \",COUNTRY_INFO!A45))","v":"Ghana"},{"$f":"IF(INTRO!$E$39=\"Non-endemic\",\" \",IF(COUNTRY_INFO!B45=0,\" \",COUNTRY_INFO!B45))","v":"Ashanti"},{"$f":"IF(INTRO!$E$39=\"Non-endemic\",\" \",IF(COUNTRY_INFO!C45=0,\" \",COUNTRY_INFO!C45))","v":"Kwabre East"},{"$f":"IF(INTRO!$E$39=\"Non-endemic\",0,IF(INTRO!$E$39=\"Endemic but PC is not required\",IF(COUNTRY_INFO!$H45=1,COUNTRY_INFO!F45+COUNTRY_INFO!G45,0),IF(COUNTRY_INFO!$H45=1,COUNTRY_INFO!F45+COUNTRY_INFO!G45,IF(COUNTRY_INFO!$I45=1,IF(COUNTRY_INFO!M45>=(COUNTRY_INFO!F45+COUNTRY_INFO!G45),COUNTRY_INFO!F45+COUNTRY_INFO!G45,COUNTRY_INFO!$M45),0))))","v":0},{"$f":"IF(AND(INTRO!$E$39=\"Non-endemic\",INTRO!$E$37=\"Non-endemic\"),\"Not required\",IF(INTRO!$E$39=\"Non-endemic\",\"Treat with DEC\",COUNTRY_INFO!V45))","v":0},{"$f":"IF(INTRO!$E$39<>\"Non-endemic\",COUNTRY_INFO!W45,\"Not required\")","v":0},{"$f":"IF(COUNTRY_INFO!H45=1, IF($E45=1,$D45, 0),0)","v":0},{"$f":"IF(COUNTRY_INFO!I45=1, IF(AND(COUNTRY_INFO!$I45=1,$F45<>0),IF(COUNTRY_INFO!M45>=(COUNTRY_INFO!F45+COUNTRY_INFO!G45),COUNTRY_INFO!F45+COUNTRY_INFO!G45,COUNTRY_INFO!$M45), 0),0)","v":0},0,0,0,0,null,0]
[{"$f":"IF(INTRO!$E$39=\"Non-endemic\",\" \",IF(COUNTRY_INFO!A46=0,\" \",COUNTRY_INFO!A46))","v":"Ghana"},{"$f":"IF(INTRO!$E$39=\"Non-endemic\",\" \",IF(COUNTRY_INFO!B46=0,\" \",COUNTRY_INFO!B46))","v":"Ashanti"},{"$f":"IF(INTRO!$E$39=\"Non-endemic\",\" \",IF(COUNTRY_INFO!C46=0,\" \",COUNTRY_INFO!C46))","v":"Kwadaso"},{"$f":"IF(INTRO!$E$39=\"Non-endemic\",0,IF(INTRO!$E$39=\"Endemic but PC is not required\",IF(COUNTRY_INFO!$H46=1,COUNTRY_INFO!F46+COUNTRY_INFO!G46,0),IF(COUNTRY_INFO!$H46=1,COUNTRY_INFO!F46+COUNTRY_INFO!G46,IF(COUNTRY_INFO!$I46=1,IF(COUNTRY_INFO!M46>=(COUNTRY_INFO!F46+COUNTRY_INFO!G46),COUNTRY_INFO!F46+COUNTRY_INFO!G46,COUNTRY_INFO!$M46),0))))","v":0},{"$f":"IF(AND(INTRO!$E$39=\"Non-endemic\",INTRO!$E$37=\"Non-endemic\"),\"Not required\",IF(INTRO!$E$39=\"Non-endemic\",\"Treat with DEC\",COUNTRY_INFO!V46))","v":0},{"$f":"IF(INTRO!$E$39<>\"Non-endemic\",COUNTRY_INFO!W46,\"Not required\")","v":0},{"$f":"IF(COUNTRY_INFO!H46=1, IF($E46=1,$D46, 0),0)","v":0},{"$f":"IF(COUNTRY_INFO!I46=1, IF(AND(COUNTRY_INFO!$I46=1,$F46<>0),IF(COUNTRY_INFO!M46>=(COUNTRY_INFO!F46+COUNTRY_INFO!G46),COUNTRY_INFO!F46+COUNTRY_INFO!G46,COUNTRY_INFO!$M46), 0),0)","v":0},0,0,0,0,null,0]
[{"$f":"IF(INTRO!$E$39=\"Non-endemic\",\" \",IF(COUNTRY_INFO!A47=0,\" \",COUNTRY_INFO!A47))","v":"Ghana"},{"$f":"IF(INTRO!$E$39=\"Non-endemic\",\" \",IF(COUNTRY_INFO!B47=0,\" \",COUNTRY_INFO!B47))","v":"Ashanti"},{"$f":"IF(INTRO!$E$39=\"Non-endemic\",\" \",IF(COUNTRY_INFO!C47=0,\" \",COUNTRY_INFO!C47))","v":"Obuasi"},{"$f":"IF(INTRO!$E$39=\"Non-endemic\",0,IF(INTRO!$E$39=\"Endemic but PC is not required\",IF(COUNTRY_INFO!$H47=1,COUNTRY_INFO!F47+COUNTRY_INFO!G47,0),IF(COUNTRY_INFO!$H47=1,COUNTRY_INFO!F47+COUNTRY_INFO!G47,IF(COUNTRY_INFO!$I47=1,IF(COUNTRY_INFO!M47>=(COUNTRY_INFO!F47+COUNTRY_INFO!G47),COUNTRY_INFO!F47+COUNTRY_INFO!G47,COUNTRY_INFO!$M47),0))))","v":40977},{"$f":"IF(AND(INTRO!$E$39=\"Non-endemic\",INTRO!$E$37=\"Non-endemic\"),\"Not required\",IF(INTRO!$E$39=\"Non-endemic\",\"Treat with DEC\",COUNTRY_INFO!V47))","v":0},{"$f":"IF(INTRO!$E$39<>\"Non-endemic\",COUNTRY_INFO!W47,\"Not required\")","v":2},{"$f":"IF(COUNTRY_INFO!H47=1, IF($E47=1,$D47, 0),0)","v":0},{"$f":"IF(COUNTRY_INFO!I47=1, IF(AND(COUNTRY_INFO!$I47=1,$F47<>0),IF(COUNTRY_INFO!M47>=(COUNTRY_INFO!F47+COUNTRY_INFO!G47),COUNTRY_INFO!F47+COUNTRY_INFO!G47,COUNTRY_INFO!$M47), 0),0)","v":40977},0,229471.19999999998,0,229471.19999999998,null,229471.19999999998]
[{"$f":"IF(INTRO!$E$39=\"Non-endemic\",\" \",IF(COUNTRY_INFO!A48=0,\" \",COUNTRY_INFO!A48))","v":"Ghana"},{"$f":"IF(INTRO!$E$39=\"Non-endemic\",\" \",IF(COUNTRY_INFO!B48=0,\" \",COUNTRY_INFO!B48))","v":"Ashanti"},{"$f":"IF(INTRO!$E$39=\"Non-endemic\",\" \",IF(COUNTRY_INFO!C48=0,\" \",COUNTRY_INFO!C48))","v":"Obuasi East"},{"$f":"IF(INTRO!$E$39=\"Non-endemic\",0,IF(INTRO!$E$39=\"Endemic but PC is not required\",IF(COUNTRY_INFO!$H48=1,COUNTRY_INFO!F48+COUNTRY_INFO!G48,0),IF(COUNTRY_INFO!$H48=1,COUNTRY_INFO!F48+COUNTRY_INFO!G48,IF(COUNTRY_INFO!$I48=1,IF(COUNTRY_INFO!M48>=(COUNTRY_INFO!F48+COUNTRY_INFO!G48),COUNTRY_INFO!F48+COUNTRY_INFO!G48,COUNTRY_INFO!$M48),0))))","v":37127},{"$f":"IF(AND(INTRO!$E$39=\"Non-endemic\",INTRO!$E$37=\"Non-endemic\"),\"Not required\",IF(INTRO!$E$39=\"Non-endemic\",\"Treat with DEC\",COUNTRY_INFO!V48))","v":0},{"$f":"IF(INTRO!$E$39<>\"Non-endemic\",COUNTRY_INFO!W48,\"Not required\")","v":2},{"$f":"IF(COUNTRY_INFO!H48=1, IF($E48=1,$D48, 0),0)","v":0},{"$f":"IF(COUNTRY_INFO!I48=1, IF(AND(COUNTRY_INFO!$I48=1,$F48<>0),IF(COUNTRY_INFO!M48>=(COUNTRY_INFO!F48+COUNTRY_INFO!G48),COUNTRY_INFO!F48+COUNTRY_INFO!G48,COUNTRY_INFO!$M48), 0),0)","v":37127},0,207911.19999999998,0,207911.19999999998,null,207911.19999999998]
[{"$f":"IF(INTRO!$E$39=\"Non-endemic\",\" \",IF(COUNTRY_INFO!A49=0,\" \",COUNTRY_INFO!A49))","v":"Ghana"},{"$f":"IF(INTRO!$E$39=\"Non-endemic\",\" \",IF(COUNTRY_INFO!B49=0,\" \",COUNTRY_INFO!B49))","v":"Ashanti"},{"$f":"IF(INTRO!$E$39=\"Non-endemic\",\" \",IF(COUNTRY_INFO!C49=0,\" \",COUNTRY_INFO!C49))","v":"Offinso"},{"$f":"IF(INTRO!$E$39=\"Non-endemic\",0,IF(INTRO!$E$39=\"Endemic but PC is not required\",IF(COUNTRY_INFO!$H49=1,COUNTRY_INFO!F49+COUNTRY_INFO!G49,0),IF(COUNTRY_INFO!$H49=1,COUNTRY_INFO!F49+COUNTRY_INFO!G49,IF(COUNTRY_INFO!$I49=1,IF(COUNTRY_INFO!M49>=(COUNTRY_INFO!F49+COUNTRY_INFO!G49),COUNTRY_INFO!F49+COUNTRY_INFO!G49,COUNTRY_INFO!$M49),0))))","v":79336},{"$f":"IF(AND(INTRO!$E$39=\"Non-endemic\",INTRO!$E$37=\"Non-endemic\"),\"Not required\",IF(INTRO!$E$39=\"Non-endemic\",\"Treat with DEC\",COUNTRY_INFO!V49))","v":0},{"$f":"IF(INTRO!$E$39<>\"Non-endemic\",COUNTRY_INFO!W49,\"Not required\")","v":2},{"$f":"IF(COUNTRY_INFO!H49=1, IF($E49=1,$D49, 0),0)","v":0},{"$f":"IF(COUNTRY_INFO!I49=1, IF(AND(COUNTRY_INFO!$I49=1,$F49<>0),IF(COUNTRY_INFO!M49>=(COUNTRY_INFO!F49+COUNTRY_INFO!G49),COUNTRY_INFO!F49+COUNTRY_INFO!G49,COUNTRY_INFO!$M49), 0),0)","v":79336},0,444281.59999999998,0,444281.59999999998,null,444281.59999999998]
[{"$f":"IF(INTRO!$E$39=\"Non-endemic\",\" \",IF(COUNTRY_INFO!A50=0,\" \",COUNTRY_INFO!A50))","v":"Ghana"},{"$f":"IF(INTRO!$E$39=\"Non-endemic\",\" \",IF(COUNTRY_INFO!B50=0,\" \",COUNTRY_INFO!B50))","v":"Ashanti"},{"$f":"IF(INTRO!$E$39=\"Non-endemic\",\" \",IF(COUNTRY_INFO!C50=0,\" \",COUNTRY_INFO!C50))","v":"Offinso North"},{"$f":"IF(INTRO!$E$39=\"Non-endemic\",0,IF(INTRO!$E$39=\"Endemic but PC is not required\",IF(COUNTRY_INFO!$H50=1,COUNTRY_INFO!F50+COUNTRY_INFO!G50,0),IF(COUNTRY_INFO!$H50=1,COUNTRY_INFO!F50+COUNTRY_INFO!G50,IF(COUNTRY_INFO!$I50=1,IF(COUNTRY_INFO!M50>=(COUNTRY_INFO!F50+COUNTRY_INFO!G50),COUNTRY_INFO!F50+COUNTRY_INFO!G50,COUNTRY_INFO!$M50),0))))","v":62993},{"$f":"IF(AND(INTRO!$E$39=\"Non-endemic\",INTRO!$E$37=\"Non-endemic\"),\"Not required\",IF(INTRO!$E$39=\"Non-endemic\",\"Treat with DEC\",COUNTRY_INFO!V50))","v":0},{"$f":"IF(INTRO!$E$39<>\"Non-endemic\",COUNTRY_INFO!W50,\"Not required\")","v":2},{"$f":"IF(COUNTRY_INFO!H50=1, IF($E50=1,$D50, 0),0)","v":0},{"$f":"IF(COUNTRY_INFO!I50=1, IF(AND(COUNTRY_INFO!$I50=1,$F50<>0),IF(COUNTRY_INFO!M50>=(COUNTRY_INFO!F50+COUNTRY_INFO!G50),COUNTRY_INFO!F50+COUNTRY_INFO!G50,COUNTRY_INFO!$M50), 0),0)","v":62993},0,352760.8,0,352760.8,null,352760.8]
[{"$f":"IF(INTRO!$E$39=\"Non-endemic\",\" \",IF(COUNTRY_INFO!A51=0,\" \",COUNTRY_INFO!A51))","v":"Ghana"},{"$f":"IF(INTRO!$E$39=\"Non-endemic\",\" \",IF(COUNTRY_INFO!B51=0,\" \",COUNTRY_INFO!B51))","v":"Ashanti"},{"$f":"IF(INTRO!$E$39=\"Non-endemic\",\" \",IF(COUNTRY_INFO!C51=0,\" \",COUNTRY_INFO!C51))","v":"Oforikrom"},{"$f":"IF(INTRO!$E$39=\"Non-endemic\",0,IF(INTRO!$E$39=\"Endemic but PC is not required\",IF(COUNTRY_INFO!$H51=1,COUNTRY_INFO!F51+COUNTRY_INFO!G51,0),IF(COUNTRY_INFO!$H51=1,COUNTRY_INFO!F51+COUNTRY_INFO!G51,IF(COUNTRY_INFO!$I51=1,IF(COUNTRY_INFO!M51>=(COUNTRY_INFO!F51+COUNTRY_INFO!G51),COUNTRY_INFO!F51+COUNTRY_INFO!G51,COUNTRY_INFO!$M51),0))))","v":0},{"$f":"IF(AND(INTRO!$E$39=\"Non-endemic\",INTRO!$E$37=\"Non-endemic\"),\"Not required\",IF(INTRO!$E$39=\"Non-endemic\",\"Treat with DEC\",COUNTRY_INFO!V51))","v":0},{"$f":"IF(INTRO!$E$39<>\"Non-endemic\",COUNTRY_INFO!W51,\"Not required\")","v":0},{"$f":"IF(COUNTRY_INFO!H51=1, IF($E51=1,$D51, 0),0)","v":0},{"$f":"IF(COUNTRY_INFO!I51=1, IF(AND(COUNTRY_INFO!$I51=1,$F51<>0),IF(COUNTRY_INFO!M51>=(COUNTRY_INFO!F51+COUNTRY_INFO!G51),COUNTRY_INFO!F51+COUNTRY_INFO!G51,COUNTRY_INFO!$M51), 0),0)","v":0},0,0,0,0,null,0]
[{"$f":"IF(INTRO!$E$39=\"Non-endemic\",\" \",IF(COUNTRY_INFO!A52=0,\" \",COUNTRY_INFO!A52))","v":"Ghana"},{"$f":"IF(INTRO!$E$39=\"Non-endemic\",\" \",IF(COUNTRY_INFO!B52=0,\" \",COUNTRY_INFO!B52))","v":"Ashanti"},{"$f":"IF(INTRO!$E$39=\"Non-endemic\",\" \",IF(COUNTRY_INFO!C52=0,\" \",COUNTRY_INFO!C52))","v":"Old Tafo"},{"$f":"IF(INTRO!$E$39=\"Non-endemic\",0,IF(INTRO!$E$39=\"Endemic but PC is not required\",IF(COUNTRY_INFO!$H52=1,COUNTRY_INFO!F52+COUNTRY_INFO!G52,0),IF(COUNTRY_INFO!$H52=1,COUNTRY_INFO!F52+COUNTRY_INFO!G52,IF(COUNTRY_INFO!$I52=1,IF(COUNTRY_INFO!M52>=(COUNTRY_INFO!F52+COUNTRY_INFO!G52),COUNTRY_INFO!F52+COUNTRY_INFO!G52,COUNTRY_INFO!$M52),0))))","v":0},{"$f":"IF(AND(INTRO!$E$39=\"Non-endemic\",INTRO!$E$37=\"Non-endemic\"),\"Not required\",IF(INTRO!$E$39=\"Non-endemic\",\"Treat with DEC\",COUNTRY_INFO!V52))","v":0},{"$f":"IF(INTRO!$E$39<>\"Non-endemic\",COUNTRY_INFO!W52,\"Not required\")","v":0},{"$f":"IF(COUNTRY_INFO!H52=1, IF($E52=1,$D52, 0),0)","v":0},{"$f":"IF(COUNTRY_INFO!I52=1, IF(AND(COUNTRY_INFO!$I52=1,$F52<>0),IF(COUNTRY_INFO!M52>=(COUNTRY_INFO!F52+COUNTRY_INFO!G52),COUNTRY_INFO!F52+COUNTRY_INFO!G52,COUNTRY_INFO!$M52), 0),0)","v":0},0,0,0,0,null,0]
[{"$f":"IF(INTRO!$E$39=\"Non-endemic\",\" \",IF(COUNTRY_INFO!A53=0,\" \",COUNTRY_INFO!A53))","v":"Ghana"},{"$f":"IF(INTRO!$E$39=\"Non-endemic\",\" \",IF(COUNTRY_INFO!B53=0,\" \",COUNTRY_INFO!B53))","v":"Ashanti"},{"$f":"IF(INTRO!$E$39=\"Non-endemic\",\" \",IF(COUNTRY_INFO!C53=0,\" \",COUNTRY_INFO!C53))","v":"Sekyere Afram Plains"},{"$f":"IF(INTRO!$E$39=\"Non-endemic\",0,IF(INTRO!$E$39=\"Endemic but PC is not required\",IF(COUNTRY_INFO!$H53=1,COUNTRY_INFO!F53+COUNTRY_INFO!G53,0),IF(COUNTRY_INFO!$H53=1,COUNTRY_INFO!F53+COUNTRY_INFO!G53,IF(COUNTRY_INFO!$I53=1,IF(COUNTRY_INFO!M53>=(COUNTRY_INFO!F53+COUNTRY_INFO!G53),COUNTRY_INFO!F53+COUNTRY_INFO!G53,COUNTRY_INFO!$M53),0))))","v":30486},{"$f":"IF(AND(INTRO!$E$39=\"Non-endemic\",INTRO!$E$37=\"Non-endemic\"),\"Not required\",IF(INTRO!$E$39=\"Non-endemic\",\"Treat with DEC\",COUNTRY_INFO!V53))","v":0},{"$f":"IF(INTRO!$E$39<>\"Non-endemic\",COUNTRY_INFO!W53,\"Not required\")","v":2},{"$f":"IF(COUNTRY_INFO!H53=1, IF($E53=1,$D53, 0),0)","v":0},{"$f":"IF(COUNTRY_INFO!I53=1, IF(AND(COUNTRY_INFO!$I53=1,$F53<>0),IF(COUNTRY_INFO!M53>=(COUNTRY_INFO!F53+COUNTRY_INFO!G53),COUNTRY_INFO!F53+COUNTRY_INFO!G53,COUNTRY_INFO!$M53), 0),0)","v":30486},0,170721.59999999998,0,170721.59999999998,null,170721.59999999998]
[{"$f":"IF(INTRO!$E$39=\"Non-endemic\",\" \",IF(COUNTRY_INFO!A54=0,\" \",COUNTRY_INFO!A54))","v":"Ghana"},{"$f":"IF(INTRO!$E$39=\"Non-endemic\",\" \",IF(COUNTRY_INFO!B54=0,\" \",COUNTRY_INFO!B54))","v":"Ashanti"},{"$f":"IF(INTRO!$E$39=\"Non-endemic\",\" \",IF(COUNTRY_INFO!C54=0,\" \",COUNTRY_INFO!C54))","v":"Sekyere Central"},{"$f":"IF(INTRO!$E$39=\"Non-endemic\",0,IF(INTRO!$E$39=\"Endemic but PC is not required\",IF(COUNTRY_INFO!$H54=1,COUNTRY_INFO!F54+COUNTRY_INFO!G54,0),IF(COUNTRY_INFO!$H54=1,COUNTRY_INFO!F54+COUNTRY_INFO!G54,IF(COUNTRY_INFO!$I54=1,IF(COUNTRY_INFO!M54>=(COUNTRY_INFO!F54+COUNTRY_INFO!G54),COUNTRY_INFO!F54+COUNTRY_INFO!G54,COUNTRY_INFO!$M54),0))))","v":46202},{"$f":"IF(AND(INTRO!$E$39=\"Non-endemic\",INTRO!$E$37=\"Non-endemic\"),\"Not required\",IF(INTRO!$E$39=\"Non-endemic\",\"Treat with DEC\",COUNTRY_INFO!V54))","v":0},{"$f":"IF(INTRO!$E$39<>\"Non-endemic\",COUNTRY_INFO!W54,\"Not required\")","v":2},{"$f":"IF(COUNTRY_INFO!H54=1, IF($E54=1,$D54, 0),0)","v":0},{"$f":"IF(COUNTRY_INFO!I54=1, IF(AND(COUNTRY_INFO!$I54=1,$F54<>0),IF(COUNTRY_INFO!M54>=(COUNTRY_INFO!F54+COUNTRY_INFO!G54),COUNTRY_INFO!F54+COUNTRY_INFO!G54,COUNTRY_INFO!$M54), 0),0)","v":46202},0,258731.19999999998,0,258731.19999999998,null,258731.19999999998]
[{"$f":"IF(INTRO!$E$39=\"Non-endemic\",\" \",IF(COUNTRY_INFO!A55=0,\" \",COUNTRY_INFO!A55))","v":"Ghana"},{"$f":"IF(INTRO!$E$39=\"Non-endemic\",\" \",IF(COUNTRY_INFO!B55=0,\" \",COUNTRY_INFO!B55))","v":"Ashanti"},{"$f":"IF(INTRO!$E$39=\"Non-endemic\",\" \",IF(COUNTRY_INFO!C55=0,\" \",COUNTRY_INFO!C55))","v":"Sekyere East"},{"$f":"IF(INTRO!$E$39=\"Non-endemic\",0,IF(INTRO!$E$39=\"Endemic but PC is not required\",IF(COUNTRY_INFO!$H55=1,COUNTRY_INFO!F55+COUNTRY_INFO!G55,0),IF(COUNTRY_INFO!$H55=1,COUNTRY_INFO!F55+COUNTRY_INFO!G55,IF(COUNTRY_INFO!$I55=1,IF(COUNTRY_INFO!M55>=(COUNTRY_INFO!F55+COUNTRY_INFO!G55),COUNTRY_INFO!F55+COUNTRY_INFO!G55,COUNTRY_INFO!$M55),0))))","v":39889.64},{"$f":"IF(AND(INTRO!$E$39=\"Non-endemic\",INTRO!$E$37=\"Non-endemic\"),\"Not required\",IF(INTRO!$E$39=\"Non-endemic\",\"Treat with DEC\",COUNTRY_INFO!V55))","v":0},{"$f":"IF(INTRO!$E$39<>\"Non-endemic\",COUNTRY_INFO!W55,\"Not required\")","v":2},{"$f":"IF(COUNTRY_INFO!H55=1, IF($E55=1,$D55, 0),0)","v":0},{"$f":"IF(COUNTRY_INFO!I55=1, IF(AND(COUNTRY_INFO!$I55=1,$F55<>0),IF(COUNTRY_INFO!M55>=(COUNTRY_INFO!F55+COUNTRY_INFO!G55),COUNTRY_INFO!F55+COUNTRY_INFO!G55,COUNTRY_INFO!$M55), 0),0)","v":39889.64},0,223381.984,0,223381.984,null,223381.984]
[{"$f":"IF(INTRO!$E$39=\"Non-endemic\",\" \",IF(COUNTRY_INFO!A56=0,\" \",COUNTRY_INFO!A56))","v":"Ghana"},{"$f":"IF(INTRO!$E$39=\"Non-endemic\",\" \",IF(COUNTRY_INFO!B56=0,\" \",COUNTRY_INFO!B56))","v":"Ashanti"},{"$f":"IF(INTRO!$E$39=\"Non-endemic\",\" \",IF(COUNTRY_INFO!C56=0,\" \",COUNTRY_INFO!C56))","v":"Sekyere Kumawu"},{"$f":"IF(INTRO!$E$39=\"Non-endemic\",0,IF(INTRO!$E$39=\"Endemic but PC is not required\",IF(COUNTRY_INFO!$H56=1,COUNTRY_INFO!F56+COUNTRY_INFO!G56,0),IF(COUNTRY_INFO!$H56=1,COUNTRY_INFO!F56+COUNTRY_INFO!G56,IF(COUNTRY_INFO!$I56=1,IF(COUNTRY_INFO!M56>=(COUNTRY_INFO!F56+COUNTRY_INFO!G56),COUNTRY_INFO!F56+COUNTRY_INFO!G56,COUNTRY_INFO!$M56),0))))","v":39199},{"$f":"IF(AND(INTRO!$E$39=\"Non-endemic\",INTRO!$E$37=\"Non-endemic\"),\"Not required\",IF(INTRO!$E$39=\"Non-endemic\",\"Treat with DEC\",COUNTRY_INFO!V56))","v":0},{"$f":"IF(INTRO!$E$39<>\"Non-endemic\",COUNTRY_INFO!W56,\"Not required\")","v":2},{"$f":"IF(COUNTRY_INFO!H56=1, IF($E56=1,$D56, 0),0)","v":0},{"$f":"IF(COUNTRY_INFO!I56=1, IF(AND(COUNTRY_INFO!$I56=1,$F56<>0),IF(COUNTRY_INFO!M56>=(COUNTRY_INFO!F56+COUNTRY_INFO!G56),COUNTRY_INFO!F56+COUNTRY_INFO!G56,COUNTRY_INFO!$M56), 0),0)","v":39199},0,219514.4,0,219514.4,null,219514.4]
[{"$f":"IF(INTRO!$E$39=\"Non-endemic\",\" \",IF(COUNTRY_INFO!A57=0,\" \",COUNTRY_INFO!A57))","v":"Ghana"},{"$f":"IF(INTRO!$E$39=\"Non-endemic\",\" \",IF(COUNTRY_INFO!B57=0,\" \",COUNTRY_INFO!B57))","v":"Ashanti"},{"$f":"IF(INTRO!$E$39=\"Non-endemic\",\" \",IF(COUNTRY_INFO!C57=0,\" \",COUNTRY_INFO!C57))","v":"Sekyere South"},{"$f":"IF(INTRO!$E$39=\"Non-endemic\",0,IF(INTRO!$E$39=\"Endemic but PC is not required\",IF(COUNTRY_INFO!$H57=1,COUNTRY_INFO!F57+COUNTRY_INFO!G57,0),IF(COUNTRY_INFO!$H57=1,COUNTRY_INFO!F57+COUNTRY_INFO!G57,IF(COUNTRY_INFO!$I57=1,IF(COUNTRY_INFO!M57>=(COUNTRY_INFO!F57+COUNTRY_INFO!G57),COUNTRY_INFO!F57+COUNTRY_INFO!G57,COUNTRY_INFO!$M57),0))))","v":0},{"$f":"IF(AND(INTRO!$E$39=\"Non-endemic\",INTRO!$E$37=\"Non-endemic\"),\"Not required\",IF(INTRO!$E$39=\"Non-endemic\",\"Treat with DEC\",COUNTRY_INFO!V57))","v":0},{"$f":"IF(INTRO!$E$39<>\"Non-endemic\",COUNTRY_INFO!W57,\"Not required\")","v":2},{"$f":"IF(COUNTRY_INFO!H57=1, IF($E57=1,$D57, 0),0)","v":0},{"$f":"IF(COUNTRY_INFO!I57=1, IF(AND(COUNTRY_INFO!$I57=1,$F57<>0),IF(COUNTRY_INFO!M57>=(COUNTRY_INFO!F57+COUNTRY_INFO!G57),COUNTRY_INFO!F57+COUNTRY_INFO!G57,COUNTRY_INFO!$M57), 0),0)","v":0},0,0,0,0,null,0]
[{"$f":"IF(INTRO!$E$39=\"Non-endemic\",\" \",IF(COUNTRY_INFO!A58=0,\" \",COUNTRY_INFO!A58))","v":"Ghana"},{"$f":"IF(INTRO!$E$39=\"Non-endemic\",\" \",IF(COUNTRY_INFO!B58=0,\" \",COUNTRY_INFO!B58))","v":"Ashanti"},{"$f":"IF(INTRO!$E$39=\"Non-endemic\",\" \",IF(COUNTRY_INFO!C58=0,\" \",COUNTRY_INFO!C58))","v":"Suame"},{"$f":"IF(INTRO!$E$39=\"Non-endemic\",0,IF(INTRO!$E$39=\"Endemic but PC is not required\",IF(COUNTRY_INFO!$H58=1,COUNTRY_INFO!F58+COUNTRY_INFO!G58,0),IF(COUNTRY_INFO!$H58=1,COUNTRY_INFO!F58+COUNTRY_INFO!G58,IF(COUNTRY_INFO!$I58=1,IF(COUNTRY_INFO!M58>=(COUNTRY_INFO!F58+COUNTRY_INFO!G58),COUNTRY_INFO!F58+COUNTRY_INFO!G58,COUNTRY_INFO!$M58),0))))","v":0},{"$f":"IF(AND(INTRO!$E$39=\"Non-endemic\",INTRO!$E$37=\"Non-endemic\"),\"Not required\",IF(INTRO!$E$39=\"Non-endemic\",\"Treat with DEC\",COUNTRY_INFO!V58))","v":0},{"$f":"IF(INTRO!$E$39<>\"Non-endemic\",COUNTRY_INFO!W58,\"Not required\")","v":0},{"$f":"IF(COUNTRY_INFO!H58=1, IF($E58=1,$D58, 0),0)","v":0},{"$f":"IF(COUNTRY_INFO!I58=1, IF(AND(COUNTRY_INFO!$I58=1,$F58<>0),IF(COUNTRY_INFO!M58>=(COUNTRY_INFO!F58+COUNTRY_INFO!G58),COUNTRY_INFO!F58+COUNTRY_INFO!G58,COUNTRY_INFO!$M58), 0),0)","v":0},0,0,0,0,null,0]
[{"$f":"IF(INTRO!$E$39=\"Non-endemic\",\" \",IF(COUNTRY_INFO!A59=0,\" \",COUNTRY_INFO!A59))","v":"Ghana"},{"$f":"IF(INTRO!$E$39=\"Non-endemic\",\" \",IF(COUNTRY_INFO!B59=0,\" \",COUNTRY_INFO!B59))","v":"Bono"},{"$f":"IF(INTRO!$E$39=\"Non-endemic\",\" \",IF(COUNTRY_INFO!C59=0,\" \",COUNTRY_INFO!C59))","v":"Banda"},{"$f":"IF(INTRO!$E$39=\"Non-endemic\",0,IF(INTRO!$E$39=\"Endemic but PC is not required\",IF(COUNTRY_INFO!$H59=1,COUNTRY_INFO!F59+COUNTRY_INFO!G59,0),IF(COUNTRY_INFO!$H59=1,COUNTRY_INFO!F59+COUNTRY_INFO!G59,IF(COUNTRY_INFO!$I59=1,IF(COUNTRY_INFO!M59>=(COUNTRY_INFO!F59+COUNTRY_INFO!G59),COUNTRY_INFO!F59+COUNTRY_INFO!G59,COUNTRY_INFO!$M59),0))))","v":26320},{"$f":"IF(AND(INTRO!$E$39=\"Non-endemic\",INTRO!$E$37=\"Non-endemic\"),\"Not required\",IF(INTRO!$E$39=\"Non-endemic\",\"Treat with DEC\",COUNTRY_INFO!V59))","v":0},{"$f":"IF(INTRO!$E$39<>\"Non-endemic\",COUNTRY_INFO!W59,\"Not required\")","v":2},{"$f":"IF(COUNTRY_INFO!H59=1, IF($E59=1,$D59, 0),0)","v":0},{"$f":"IF(COUNTRY_INFO!I59=1, IF(AND(COUNTRY_INFO!$I59=1,$F59<>0),IF(COUNTRY_INFO!M59>=(COUNTRY_INFO!F59+COUNTRY_INFO!G59),COUNTRY_INFO!F59+COUNTRY_INFO!G59,COUNTRY_INFO!$M59), 0),0)","v":26320},0,147392,0,147392,null,147392]
[{"$f":"IF(INTRO!$E$39=\"Non-endemic\",\" \",IF(COUNTRY_INFO!A60=0,\" \",COUNTRY_INFO!A60))","v":"Ghana"},{"$f":"IF(INTRO!$E$39=\"Non-endemic\",\" \",IF(COUNTRY_INFO!B60=0,\" \",COUNTRY_INFO!B60))","v":"Bono"},{"$f":"IF(INTRO!$E$39=\"Non-endemic\",\" \",IF(COUNTRY_INFO!C60=0,\" \",COUNTRY_INFO!C60))","v":"Berekum"},{"$f":"IF(INTRO!$E$39=\"Non-endemic\",0,IF(INTRO!$E$39=\"Endemic but PC is not required\",IF(COUNTRY_INFO!$H60=1,COUNTRY_INFO!F60+COUNTRY_INFO!G60,0),IF(COUNTRY_INFO!$H60=1,COUNTRY_INFO!F60+COUNTRY_INFO!G60,IF(COUNTRY_INFO!$I60=1,IF(COUNTRY_INFO!M60>=(COUNTRY_INFO!F60+COUNTRY_INFO!G60),COUNTRY_INFO!F60+COUNTRY_INFO!G60,COUNTRY_INFO!$M60),0))))","v":0},{"$f":"IF(AND(INTRO!$E$39=\"Non-endemic\",INTRO!$E$37=\"Non-endemic\"),\"Not required\",IF(INTRO!$E$39=\"Non-endemic\",\"Treat with DEC\",COUNTRY_INFO!V60))","v":0},{"$f":"IF(INTRO!$E$39<>\"Non-endemic\",COUNTRY_INFO!W60,\"Not required\")","v":0},{"$f":"IF(COUNTRY_INFO!H60=1, IF($E60=1,$D60, 0),0)","v":0},{"$f":"IF(COUNTRY_INFO!I60=1, IF(AND(COUNTRY_INFO!$I60=1,$F60<>0),IF(COUNTRY_INFO!M60>=(COUNTRY_INFO!F60+COUNTRY_INFO!G60),COUNTRY_INFO!F60+COUNTRY_INFO!G60,COUNTRY_INFO!$M60), 0),0)","v":0},0,0,0,0,null,0]
[{"$f":"IF(INTRO!$E$39=\"Non-endemic\",\" \",IF(COUNTRY_INFO!A61=0,\" \",COUNTRY_INFO!A61))","v":"Ghana"},{"$f":"IF(INTRO!$E$39=\"Non-endemic\",\" \",IF(COUNTRY_INFO!B61=0,\" \",COUNTRY_INFO!B61))","v":"Bono"},{"$f":"IF(INTRO!$E$39=\"Non-endemic\",\" \",IF(COUNTRY_INFO!C61=0,\" \",COUNTRY_INFO!C61))","v":"Berekum West"},{"$f":"IF(INTRO!$E$39=\"Non-endemic\",0,IF(INTRO!$E$39=\"Endemic but PC is not required\",IF(COUNTRY_INFO!$H61=1,COUNTRY_INFO!F61+COUNTRY_INFO!G61,0),IF(COUNTRY_INFO!$H61=1,COUNTRY_INFO!F61+COUNTRY_INFO!G61,IF(COUNTRY_INFO!$I61=1,IF(COUNTRY_INFO!M61>=(COUNTRY_INFO!F61+COUNTRY_INFO!G61),COUNTRY_INFO!F61+COUNTRY_INFO!G61,COUNTRY_INFO!$M61),0))))","v":0},{"$f":"IF(AND(INTRO!$E$39=\"Non-endemic\",INTRO!$E$37=\"Non-endemic\"),\"Not required\",IF(INTRO!$E$39=\"Non-endemic\",\"Treat with DEC\",COUNTRY_INFO!V61))","v":0},{"$f":"IF(INTRO!$E$39<>\"Non-endemic\",COUNTRY_INFO!W61,\"Not required\")","v":0},{"$f":"IF(COUNTRY_INFO!H61=1, IF($E61=1,$D61, 0),0)","v":0},{"$f":"IF(COUNTRY_INFO!I61=1, IF(AND(COUNTRY_INFO!$I61=1,$F61<>0),IF(COUNTRY_INFO!M61>=(COUNTRY_INFO!F61+COUNTRY_INFO!G61),COUNTRY_INFO!F61+COUNTRY_INFO!G61,COUNTRY_INFO!$M61), 0),0)","v":0},0,0,0,0,null,0]
[{"$f":"IF(INTRO!$E$39=\"Non-endemic\",\" \",IF(COUNTRY_INFO!A62=0,\" \",COUNTRY_INFO!A62))","v":"Ghana"},{"$f":"IF(INTRO!$E$39=\"Non-endemic\",\" \",IF(COUNTRY_INFO!B62=0,\" \",COUNTRY_INFO!B62))","v":"Bono"},{"$f":"IF(INTRO!$E$39=\"Non-endemic\",\" \",IF(COUNTRY_INFO!C62=0,\" \",COUNTRY_INFO!C62))","v":"Dormaa East"},{"$f":"IF(INTRO!$E$39=\"Non-endemic\",0,IF(INTRO!$E$39=\"Endemic but PC is not required\",IF(COUNTRY_INFO!$H62=1,COUNTRY_INFO!F62+COUNTRY_INFO!G62,0),IF(COUNTRY_INFO!$H62=1,COUNTRY_INFO!F62+COUNTRY_INFO!G62,IF(COUNTRY_INFO!$I62=1,IF(COUNTRY_INFO!M62>=(COUNTRY_INFO!F62+COUNTRY_INFO!G62),COUNTRY_INFO!F62+COUNTRY_INFO!G62,COUNTRY_INFO!$M62),0))))","v":0},{"$f":"IF(AND(INTRO!$E$39=\"Non-endemic\",INTRO!$E$37=\"Non-endemic\"),\"Not required\",IF(INTRO!$E$39=\"Non-endemic\",\"Treat with DEC\",COUNTRY_INFO!V62))","v":0},{"$f":"IF(INTRO!$E$39<>\"Non-endemic\",COUNTRY_INFO!W62,\"Not required\")","v":0},{"$f":"IF(COUNTRY_INFO!H62=1, IF($E62=1,$D62, 0),0)","v":0},{"$f":"IF(COUNTRY_INFO!I62=1, IF(AND(COUNTRY_INFO!$I62=1,$F62<>0),IF(COUNTRY_INFO!M62>=(COUNTRY_INFO!F62+COUNTRY_INFO!G62),COUNTRY_INFO!F62+COUNTRY_INFO!G62,COUNTRY_INFO!$M62), 0),0)","v":0},0,0,0,0,null,0]
[{"$f":"IF(INTRO!$E$39=\"Non-endemic\",\" \",IF(COUNTRY_INFO!A63=0,\" \",COUNTRY_INFO!A63))","v":"Ghana"},{"$f":"IF(INTRO!$E$39=\"Non-endemic\",\" \",IF(COUNTRY_INFO!B63=0,\" \",COUNTRY_INFO!B63))","v":"Bono"},{"$f":"IF(INTRO!$E$39=\"Non-endemic\",\" \",IF(COUNTRY_INFO!C63=0,\" \",COUNTRY_INFO!C63))","v":"Dormaa Municipal"},{"$f":"IF(INTRO!$E$39=\"Non-endemic\",0,IF(INTRO!$E$39=\"Endemic but PC is not required\",IF(COUNTRY_INFO!$H63=1,COUNTRY_INFO!F63+COUNTRY_INFO!G63,0),IF(COUNTRY_INFO!$H63=1,COUNTRY_INFO!F63+COUNTRY_INFO!G63,IF(COUNTRY_INFO!$I63=1,IF(COUNTRY_INFO!M63>=(COUNTRY_INFO!F63+COUNTRY_INFO!G63),COUNTRY_INFO!F63+COUNTRY_INFO!G63,COUNTRY_INFO!$M63),0))))","v":0},{"$f":"IF(AND(INTRO!$E$39=\"Non-endemic\",INTRO!$E$37=\"Non-endemic\"),\"Not required\",IF(INTRO!$E$39=\"Non-endemic\",\"Treat with DEC\",COUNTRY_INFO!V63))","v":0},{"$f":"IF(INTRO!$E$39<>\"Non-endemic\",COUNTRY_INFO!W63,\"Not required\")","v":0},{"$f":"IF(COUNTRY_INFO!H63=1, IF($E63=1,$D63, 0),0)","v":0},{"$f":"IF(COUNTRY_INFO!I63=1, IF(AND(COUNTRY_INFO!$I63=1,$F63<>0),IF(COUNTRY_INFO!M63>=(COUNTRY_INFO!F63+COUNTRY_INFO!G63),COUNTRY_INFO!F63+COUNTRY_INFO!G63,COUNTRY_INFO!$M63), 0),0)","v":0},0,0,0,0,null,0]
[{"$f":"IF(INTRO!$E$39=\"Non-endemic\",\" \",IF(COUNTRY_INFO!A64=0,\" \",COUNTRY_INFO!A64))","v":"Ghana"},{"$f":"IF(INTRO!$E$39=\"Non-endemic\",\" \",IF(COUNTRY_INFO!B64=0,\" \",COUNTRY_INFO!B64))","v":"Bono"},{"$f":"IF(INTRO!$E$39=\"Non-endemic\",\" \",IF(COUNTRY_INFO!C64=0,\" \",COUNTRY_INFO!C64))","v":"Dormaa West"},{"$f":"IF(INTRO!$E$39=\"Non-endemic\",0,IF(INTRO!$E$39=\"Endemic but PC is not required\",IF(COUNTRY_INFO!$H64=1,COUNTRY_INFO!F64+COUNTRY_INFO!G64,0),IF(COUNTRY_INFO!$H64=1,COUNTRY_INFO!F64+COUNTRY_INFO!G64,IF(COUNTRY_INFO!$I64=1,IF(COUNTRY_INFO!M64>=(COUNTRY_INFO!F64+COUNTRY_INFO!G64),COUNTRY_INFO!F64+COUNTRY_INFO!G64,COUNTRY_INFO!$M64),0))))","v":0},{"$f":"IF(AND(INTRO!$E$39=\"Non-endemic\",INTRO!$E$37=\"Non-endemic\"),\"Not required\",IF(INTRO!$E$39=\"Non-endemic\",\"Treat with DEC\",COUNTRY_INFO!V64))","v":0},{"$f":"IF(INTRO!$E$39<>\"Non-endemic\",COUNTRY_INFO!W64,\"Not required\")","v":0},{"$f":"IF(COUNTRY_INFO!H64=1, IF($E64=1,$D64, 0),0)","v":0},{"$f":"IF(COUNTRY_INFO!I64=1, IF(AND(COUNTRY_INFO!$I64=1,$F64<>0),IF(COUNTRY_INFO!M64>=(COUNTRY_INFO!F64+COUNTRY_INFO!G64),COUNTRY_INFO!F64+COUNTRY_INFO!G64,COUNTRY_INFO!$M64), 0),0)","v":0},0,0,0,0,null,0]
[{"$f":"IF(INTRO!$E$39=\"Non-endemic\",\" \",IF(COUNTRY_INFO!A65=0,\" \",COUNTRY_INFO!A65))","v":"Ghana"},{"$f":"IF(INTRO!$E$39=\"Non-endemic\",\" \",IF(COUNTRY_INFO!B65=0,\" \",COUNTRY_INFO!B65))","v":"Bono"},{"$f":"IF(INTRO!$E$39=\"Non-endemic\",\" \",IF(COUNTRY_INFO!C65=0,\" \",COUNTRY_INFO!C65))","v":"Jaman North"},{"$f":"IF(INTRO!$E$39=\"Non-endemic\",0,IF(INTRO!$E$39=\"Endemic but PC is not required\",IF(COUNTRY_INFO!$H65=1,COUNTRY_INFO!F65+COUNTRY_INFO!G65,0),IF(COUNTRY_INFO!$H65=1,COUNTRY_INFO!F65+COUNTRY_INFO!G65,IF(COUNTRY_INFO!$I65=1,IF(COUNTRY_INFO!M65>=(COUNTRY_INFO!F65+COUNTRY_INFO!G65),COUNTRY_INFO!F65+COUNTRY_INFO!G65,COUNTRY_INFO!$M65),0))))","v":0},{"$f":"IF(AND(INTRO!$E$39=\"Non-endemic\",INTRO!$E$37=\"Non-endemic\"),\"Not required\",IF(INTRO!$E$39=\"Non-endemic\",\"Treat with DEC\",COUNTRY_INFO!V65))","v":0},{"$f":"IF(INTRO!$E$39<>\"Non-endemic\",COUNTRY_INFO!W65,\"Not required\")","v":0},{"$f":"IF(COUNTRY_INFO!H65=1, IF($E65=1,$D65, 0),0)","v":0},{"$f":"IF(COUNTRY_INFO!I65=1, IF(AND(COUNTRY_INFO!$I65=1,$F65<>0),IF(COUNTRY_INFO!M65>=(COUNTRY_INFO!F65+COUNTRY_INFO!G65),COUNTRY_INFO!F65+COUNTRY_INFO!G65,COUNTRY_INFO!$M65), 0),0)","v":0},0,0,0,0,null,0]
[{"$f":"IF(INTRO!$E$39=\"Non-endemic\",\" \",IF(COUNTRY_INFO!A66=0,\" \",COUNTRY_INFO!A66))","v":"Ghana"},{"$f":"IF(INTRO!$E$39=\"Non-endemic\",\" \",IF(COUNTRY_INFO!B66=0,\" \",COUNTRY_INFO!B66))","v":"Bono"},{"$f":"IF(INTRO!$E$39=\"Non-endemic\",\" \",IF(COUNTRY_INFO!C66=0,\" \",COUNTRY_INFO!C66))","v":"Jaman South"},{"$f":"IF(INTRO!$E$39=\"Non-endemic\",0,IF(INTRO!$E$39=\"Endemic but PC is not required\",IF(COUNTRY_INFO!$H66=1,COUNTRY_INFO!F66+COUNTRY_INFO!G66,0),IF(COUNTRY_INFO!$H66=1,COUNTRY_INFO!F66+COUNTRY_INFO!G66,IF(COUNTRY_INFO!$I66=1,IF(COUNTRY_INFO!M66>=(COUNTRY_INFO!F66+COUNTRY_INFO!G66),COUNTRY_INFO!F66+COUNTRY_INFO!G66,COUNTRY_INFO!$M66),0))))","v":0},{"$f":"IF(AND(INTRO!$E$39=\"Non-endemic\",INTRO!$E$37=\"Non-endemic\"),\"Not required\",IF(INTRO!$E$39=\"Non-endemic\",\"Treat with DEC\",COUNTRY_INFO!V66))","v":0},{"$f":"IF(INTRO!$E$39<>\"Non-endemic\",COUNTRY_INFO!W66,\"Not required\")","v":0},{"$f":"IF(COUNTRY_INFO!H66=1, IF($E66=1,$D66, 0),0)","v":0},{"$f":"IF(COUNTRY_INFO!I66=1, IF(AND(COUNTRY_INFO!$I66=1,$F66<>0),IF(COUNTRY_INFO!M66>=(COUNTRY_INFO!F66+COUNTRY_INFO!G66),COUNTRY_INFO!F66+COUNTRY_INFO!G66,COUNTRY_INFO!$M66), 0),0)","v":0},0,0,0,0,null,0]
[{"$f":"IF(INTRO!$E$39=\"Non-endemic\",\" \",IF(COUNTRY_INFO!A67=0,\" \",COUNTRY_INFO!A67))","v":"Ghana"},{"$f":"IF(INTRO!$E$39=\"Non-endemic\",\" \",IF(COUNTRY_INFO!B67=0,\" \",COUNTRY_INFO!B67))","v":"Bono"},{"$f":"IF(INTRO!$E$39=\"Non-endemic\",\" \",IF(COUNTRY_INFO!C67=0,\" \",COUNTRY_INFO!C67))","v":"Sunyani Municipal"},{"$f":"IF(INTRO!$E$39=\"Non-endemic\",0,IF(INTRO!$E$39=\"Endemic but PC is not required\",IF(COUNTRY_INFO!$H67=1,COUNTRY_INFO!F67+COUNTRY_INFO!G67,0),IF(COUNTRY_INFO!$H67=1,COUNTRY_INFO!F67+COUNTRY_INFO!G67,IF(COUNTRY_INFO!$I67=1,IF(COUNTRY_INFO!M67>=(COUNTRY_INFO!F67+COUNTRY_INFO!G67),COUNTRY_INFO!F67+COUNTRY_INFO!G67,COUNTRY_INFO!$M67),0))))","v":0},{"$f":"IF(AND(INTRO!$E$39=\"Non-endemic\",INTRO!$E$37=\"Non-endemic\"),\"Not required\",IF(INTRO!$E$39=\"Non-endemic\",\"Treat with DEC\",COUNTRY_INFO!V67))","v":1},{"$f":"IF(INTRO!$E$39<>\"Non-endemic\",COUNTRY_INFO!W67,\"Not required\")","v":0},{"$f":"IF(COUNTRY_INFO!H67=1, IF($E67=1,$D67, 0),0)","v":0},{"$f":"IF(COUNTRY_INFO!I67=1, IF(AND(COUNTRY_INFO!$I67=1,$F67<>0),IF(COUNTRY_INFO!M67>=(COUNTRY_INFO!F67+COUNTRY_INFO!G67),COUNTRY_INFO!F67+COUNTRY_INFO!G67,COUNTRY_INFO!$M67), 0),0)","v":0},0,0,0,0,null,0]
[{"$f":"IF(INTRO!$E$39=\"Non-endemic\",\" \",IF(COUNTRY_INFO!A68=0,\" \",COUNTRY_INFO!A68))","v":"Ghana"},{"$f":"IF(INTRO!$E$39=\"Non-endemic\",\" \",IF(COUNTRY_INFO!B68=0,\" \",COUNTRY_INFO!B68))","v":"Bono"},{"$f":"IF(INTRO!$E$39=\"Non-endemic\",\" \",IF(COUNTRY_INFO!C68=0,\" \",COUNTRY_INFO!C68))","v":"Sunyani West"},{"$f":"IF(INTRO!$E$39=\"Non-endemic\",0,IF(INTRO!$E$39=\"Endemic but PC is not required\",IF(COUNTRY_INFO!$H68=1,COUNTRY_INFO!F68+COUNTRY_INFO!G68,0),IF(COUNTRY_INFO!$H68=1,COUNTRY_INFO!F68+COUNTRY_INFO!G68,IF(COUNTRY_INFO!$I68=1,IF(COUNTRY_INFO!M68>=(COUNTRY_INFO!F68+COUNTRY_INFO!G68),COUNTRY_INFO!F68+COUNTRY_INFO!G68,COUNTRY_INFO!$M68),0))))","v":127048},{"$f":"IF(AND(INTRO!$E$39=\"Non-endemic\",INTRO!$E$37=\"Non-endemic\"),\"Not required\",IF(INTRO!$E$39=\"Non-endemic\",\"Treat with DEC\",COUNTRY_INFO!V68))","v":1},{"$f":"IF(INTRO!$E$39<>\"Non-endemic\",COUNTRY_INFO!W68,\"Not required\")","v":2},{"$f":"IF(COUNTRY_INFO!H68=1, IF($E68=1,$D68, 0),0)","v":127048},{"$f":"IF(COUNTRY_INFO!I68=1, IF(AND(COUNTRY_INFO!$I68=1,$F68<>0),IF(COUNTRY_INFO!M68>=(COUNTRY_INFO!F68+COUNTRY_INFO!G68),COUNTRY_INFO!F68+COUNTRY_INFO!G68,COUNTRY_INFO!$M68), 0),0)","v":11684},323019.19999999995,32715.199999999997,32715.199999999997,388449.6,null,388449.6]
[{"$f":"IF(INTRO!$E$39=\"Non-endemic\",\" \",IF(COUNTRY_INFO!A69=0,\" \",COUNTRY_INFO!A69))","v":"Ghana"},{"$f":"IF(INTRO!$E$39=\"Non-endemic\",\" \",IF(COUNTRY_INFO!B69=0,\" \",COUNTRY_INFO!B69))","v":"Bono"},{"$f":"IF(INTRO!$E$39=\"Non-endemic\",\" \",IF(COUNTRY_INFO!C69=0,\" \",COUNTRY_INFO!C69))","v":"Tain"},{"$f":"IF(INTRO!$E$39=\"Non-endemic\",0,IF(INTRO!$E$39=\"Endemic but PC is not required\",IF(COUNTRY_INFO!$H69=1,COUNTRY_INFO!F69+COUNTRY_INFO!G69,0),IF(COUNTRY_INFO!$H69=1,COUNTRY_INFO!F69+COUNTRY_INFO!G69,IF(COUNTRY_INFO!$I69=1,IF(COUNTRY_INFO!M69>=(COUNTRY_INFO!F69+COUNTRY_INFO!G69),COUNTRY_INFO!F69+COUNTRY_INFO!G69,COUNTRY_INFO!$M69),0))))","v":33216},{"$f":"IF(AND(INTRO!$E$39=\"Non-endemic\",INTRO!$E$37=\"Non-endemic\"),\"Not required\",IF(INTRO!$E$39=\"Non-endemic\",\"Treat with DEC\",COUNTRY_INFO!V69))","v":0},{"$f":"IF(INTRO!$E$39<>\"Non-endemic\",COUNTRY_INFO!W69,\"Not required\")","v":2},{"$f":"IF(COUNTRY_INFO!H69=1, IF($E69=1,$D69, 0),0)","v":0},{"$f":"IF(COUNTRY_INFO!I69=1, IF(AND(COUNTRY_INFO!$I69=1,$F69<>0),IF(COUNTRY_INFO!M69>=(COUNTRY_INFO!F69+COUNTRY_INFO!G69),COUNTRY_INFO!F69+COUNTRY_INFO!G69,COUNTRY_INFO!$M69), 0),0)","v":33216},0,186009.59999999998,0,186009.59999999998,null,186009.59999999998]
[{"$f":"IF(INTRO!$E$39=\"Non-endemic\",\" \",IF(COUNTRY_INFO!A70=0,\" \",COUNTRY_INFO!A70))","v":"Ghana"},{"$f":"IF(INTRO!$E$39=\"Non-endemic\",\" \",IF(COUNTRY_INFO!B70=0,\" \",COUNTRY_INFO!B70))","v":"Bono"},{"$f":"IF(INTRO!$E$39=\"Non-endemic\",\" \",IF(COUNTRY_INFO!C70=0,\" \",COUNTRY_INFO!C70))","v":"Wenchi"},{"$f":"IF(INTRO!$E$39=\"Non-endemic\",0,IF(INTRO!$E$39=\"Endemic but PC is not required\",IF(COUNTRY_INFO!$H70=1,COUNTRY_INFO!F70+COUNTRY_INFO!G70,0),IF(COUNTRY_INFO!$H70=1,COUNTRY_INFO!F70+COUNTRY_INFO!G70,IF(COUNTRY_INFO!$I70=1,IF(COUNTRY_INFO!M70>=(COUNTRY_INFO!F70+COUNTRY_INFO!G70),COUNTRY_INFO!F70+COUNTRY_INFO!G70,COUNTRY_INFO!$M70),0))))","v":116527},{"$f":"IF(AND(INTRO!$E$39=\"Non-endemic\",INTRO!$E$37=\"Non-endemic\"),\"Not required\",IF(INTRO!$E$39=\"Non-endemic\",\"Treat with DEC\",COUNTRY_INFO!V70))","v":1},{"$f":"IF(INTRO!$E$39<>\"Non-endemic\",COUNTRY_INFO!W70,\"Not required\")","v":2},{"$f":"IF(COUNTRY_INFO!H70=1, IF($E70=1,$D70, 0),0)","v":116527},{"$f":"IF(COUNTRY_INFO!I70=1, IF(AND(COUNTRY_INFO!$I70=1,$F70<>0),IF(COUNTRY_INFO!M70>=(COUNTRY_INFO!F70+COUNTRY_INFO!G70),COUNTRY_INFO!F70+COUNTRY_INFO!G70,COUNTRY_INFO!$M70), 0),0)","v":116527},0,326275.59999999998,326275.59999999998,652551.19999999995,null,652551.19999999995]
[{"$f":"IF(INTRO!$E$39=\"Non-endemic\",\" \",IF(COUNTRY_INFO!A71=0,\" \",COUNTRY_INFO!A71))","v":"Ghana"},{"$f":"IF(INTRO!$E$39=\"Non-endemic\",\" \",IF(COUNTRY_INFO!B71=0,\" \",COUNTRY_INFO!B71))","v":"Bono East"},{"$f":"IF(INTRO!$E$39=\"Non-endemic\",\" \",IF(COUNTRY_INFO!C71=0,\" \",COUNTRY_INFO!C71))","v":"Atebubu-Amanten"},{"$f":"IF(INTRO!$E$39=\"Non-endemic\",0,IF(INTRO!$E$39=\"Endemic but PC is not required\",IF(COUNTRY_INFO!$H71=1,COUNTRY_INFO!F71+COUNTRY_INFO!G71,0),IF(COUNTRY_INFO!$H71=1,COUNTRY_INFO!F71+COUNTRY_INFO!G71,IF(COUNTRY_INFO!$I71=1,IF(COUNTRY_INFO!M71>=(COUNTRY_INFO!F71+COUNTRY_INFO!G71),COUNTRY_INFO!F71+COUNTRY_INFO!G71,COUNTRY_INFO!$M71),0))))","v":58389},{"$f":"IF(AND(INTRO!$E$39=\"Non-endemic\",INTRO!$E$37=\"Non-endemic\"),\"Not required\",IF(INTRO!$E$39=\"Non-endemic\",\"Treat with DEC\",COUNTRY_INFO!V71))","v":0},{"$f":"IF(INTRO!$E$39<>\"Non-endemic\",COUNTRY_INFO!W71,\"Not required\")","v":2},{"$f":"IF(COUNTRY_INFO!H71=1, IF($E71=1,$D71, 0),0)","v":0},{"$f":"IF(COUNTRY_INFO!I71=1, IF(AND(COUNTRY_INFO!$I71=1,$F71<>0),IF(COUNTRY_INFO!M71>=(COUNTRY_INFO!F71+COUNTRY_INFO!G71),COUNTRY_INFO!F71+COUNTRY_INFO!G71,COUNTRY_INFO!$M71), 0),0)","v":58389},0,326978.39999999997,0,326978.39999999997,null,326978.39999999997]
[{"$f":"IF(INTRO!$E$39=\"Non-endemic\",\" \",IF(COUNTRY_INFO!A72=0,\" \",COUNTRY_INFO!A72))","v":"Ghana"},{"$f":"IF(INTRO!$E$39=\"Non-endemic\",\" \",IF(COUNTRY_INFO!B72=0,\" \",COUNTRY_INFO!B72))","v":"Bono East"},{"$f":"IF(INTRO!$E$39=\"Non-endemic\",\" \",IF(COUNTRY_INFO!C72=0,\" \",COUNTRY_INFO!C72))","v":"Kintampo North"},{"$f":"IF(INTRO!$E$39=\"Non-endemic\",0,IF(INTRO!$E$39=\"Endemic but PC is not required\",IF(COUNTRY_INFO!$H72=1,COUNTRY_INFO!F72+COUNTRY_INFO!G72,0),IF(COUNTRY_INFO!$H72=1,COUNTRY_INFO!F72+COUNTRY_INFO!G72,IF(COUNTRY_INFO!$I72=1,IF(COUNTRY_INFO!M72>=(COUNTRY_INFO!F72+COUNTRY_INFO!G72),COUNTRY_INFO!F72+COUNTRY_INFO!G72,COUNTRY_INFO!$M72),0))))","v":129186},{"$f":"IF(AND(INTRO!$E$39=\"Non-endemic\",INTRO!$E$37=\"Non-endemic\"),\"Not required\",IF(INTRO!$E$39=\"Non-endemic\",\"Treat with DEC\",COUNTRY_INFO!V72))","v":0},{"$f":"IF(INTRO!$E$39<>\"Non-endemic\",COUNTRY_INFO!W72,\"Not required\")","v":2},{"$f":"IF(COUNTRY_INFO!H72=1, IF($E72=1,$D72, 0),0)","v":0},{"$f":"IF(COUNTRY_INFO!I72=1, IF(AND(COUNTRY_INFO!$I72=1,$F72<>0),IF(COUNTRY_INFO!M72>=(COUNTRY_INFO!F72+COUNTRY_INFO!G72),COUNTRY_INFO!F72+COUNTRY_INFO!G72,COUNTRY_INFO!$M72), 0),0)","v":129186},0,723441.6,0,723441.6,null,723441.6]
[{"$f":"IF(INTRO!$E$39=\"Non-endemic\",\" \",IF(COUNTRY_INFO!A73=0,\" \",COUNTRY_INFO!A73))","v":"Ghana"},{"$f":"IF(INTRO!$E$39=\"Non-endemic\",\" \",IF(COUNTRY_INFO!B73=0,\" \",COUNTRY_INFO!B73))","v":"Bono East"},{"$f":"IF(INTRO!$E$39=\"Non-endemic\",\" \",IF(COUNTRY_INFO!C73=0,\" \",COUNTRY_INFO!C73))","v":"Kintampo South"},{"$f":"IF(INTRO!$E$39=\"Non-endemic\",0,IF(INTRO!$E$39=\"Endemic but PC is not required\",IF(COUNTRY_INFO!$H73=1,COUNTRY_INFO!F73+COUNTRY_INFO!G73,0),IF(COUNTRY_INFO!$H73=1,COUNTRY_INFO!F73+COUNTRY_INFO!G73,IF(COUNTRY_INFO!$I73=1,IF(COUNTRY_INFO!M73>=(COUNTRY_INFO!F73+COUNTRY_INFO!G73),COUNTRY_INFO!F73+COUNTRY_INFO!G73,COUNTRY_INFO!$M73),0))))","v":83246},{"$f":"IF(AND(INTRO!$E$39=\"Non-endemic\",INTRO!$E$37=\"Non-endemic\"),\"Not required\",IF(INTRO!$E$39=\"Non-endemic\",\"Treat with DEC\",COUNTRY_INFO!V73))","v":0},{"$f":"IF(INTRO!$E$39<>\"Non-endemic\",COUNTRY_INFO!W73,\"Not required\")","v":2},{"$f":"IF(COUNTRY_INFO!H73=1, IF($E73=1,$D73, 0),0)","v":0},{"$f":"IF(COUNTRY_INFO!I73=1, IF(AND(COUNTRY_INFO!$I73=1,$F73<>0),IF(COUNTRY_INFO!M73>=(COUNTRY_INFO!F73+COUNTRY_INFO!G73),COUNTRY_INFO!F73+COUNTRY_INFO!G73,COUNTRY_INFO!$M73), 0),0)","v":83246},0,466177.6,0,466177.6,null,466177.6]
[{"$f":"IF(INTRO!$E$39=\"Non-endemic\",\" \",IF(COUNTRY_INFO!A74=0,\" \",COUNTRY_INFO!A74))","v":"Ghana"},{"$f":"IF(INTRO!$E$39=\"Non-endemic\",\" \",IF(COUNTRY_INFO!B74=0,\" \",COUNTRY_INFO!B74))","v":"Bono East"},{"$f":"IF(INTRO!$E$39=\"Non-endemic\",\" \",IF(COUNTRY_INFO!C74=0,\" \",COUNTRY_INFO!C74))","v":"Nkoranza North"},{"$f":"IF(INTRO!$E$39=\"Non-endemic\",0,IF(INTRO!$E$39=\"Endemic but PC is not required\",IF(COUNTRY_INFO!$H74=1,COUNTRY_INFO!F74+COUNTRY_INFO!G74,0),IF(COUNTRY_INFO!$H74=1,COUNTRY_INFO!F74+COUNTRY_INFO!G74,IF(COUNTRY_INFO!$I74=1,IF(COUNTRY_INFO!M74>=(COUNTRY_INFO!F74+COUNTRY_INFO!G74),COUNTRY_INFO!F74+COUNTRY_INFO!G74,COUNTRY_INFO!$M74),0))))","v":52743},{"$f":"IF(AND(INTRO!$E$39=\"Non-endemic\",INTRO!$E$37=\"Non-endemic\"),\"Not required\",IF(INTRO!$E$39=\"Non-endemic\",\"Treat with DEC\",COUNTRY_INFO!V74))","v":0},{"$f":"IF(INTRO!$E$39<>\"Non-endemic\",COUNTRY_INFO!W74,\"Not required\")","v":2},{"$f":"IF(COUNTRY_INFO!H74=1, IF($E74=1,$D74, 0),0)","v":0},{"$f":"IF(COUNTRY_INFO!I74=1, IF(AND(COUNTRY_INFO!$I74=1,$F74<>0),IF(COUNTRY_INFO!M74>=(COUNTRY_INFO!F74+COUNTRY_INFO!G74),COUNTRY_INFO!F74+COUNTRY_INFO!G74,COUNTRY_INFO!$M74), 0),0)","v":52743},{"$f":"IF(G74<H74,0,IF($E74=1, (G74-H74)*2.8, 0))","v":0},{"$f":"IF($E74<$F74, H74*(F74-E74)*2.8, 0)","v":295360.8},0,295360.8,null,295360.8]
[{"$f":"IF(INTRO!$E$39=\"Non-endemic\",\" \",IF(COUNTRY_INFO!A75=0,\" \",COUNTRY_INFO!A75))","v":"Ghana"},{"$f":"IF(INTRO!$E$39=\"Non-endemic\",\" \",IF(COUNTRY_INFO!B75=0,\" \",COUNTRY_INFO!B75))","v":"Bono East"},{"$f":"IF(INTRO!$E$39=\"Non-endemic\",\" \",IF(COUNTRY_INFO!C75=0,\" \",COUNTRY_INFO!C75))","v":"Nkoranza South"},{"$f":"IF(INTRO!$E$39=\"Non-endemic\",0,IF(INTRO!$E$39=\"Endemic but PC is not required\",IF(COUNTRY_INFO!$H75=1,COUNTRY_INFO!F75+COUNTRY_INFO!G75,0),IF(COUNTRY_INFO!$H75=1,COUNTRY_INFO!F75+COUNTRY_INFO!G75,IF(COUNTRY_INFO!$I75=1,IF(COUNTRY_INFO!M75>=(COUNTRY_INFO!F75+COUNTRY_INFO!G75),COUNTRY_INFO!F75+COUNTRY_INFO!G75,COUNTRY_INFO!$M75),0))))","v":107078},{"$f":"IF(AND(INTRO!$E$39=\"Non-endemic\",INTRO!$E$37=\"Non-endemic\"),\"Not required\",IF(INTRO!$E$39=\"Non-endemic\",\"Treat with DEC\",COUNTRY_INFO!V75))","v":1},{"$f":"IF(INTRO!$E$39<>\"Non-endemic\",COUNTRY_INFO!W75,\"Not required\")","v":2},{"$f":"IF(COUNTRY_INFO!H75=1, IF($E75=1,$D75, 0),0)","v":107078},{"$f":"IF(COUNTRY_INFO!I75=1, IF(AND(COUNTRY_INFO!$I75=1,$F75<>0),IF(COUNTRY_INFO!M75>=(COUNTRY_INFO!F75+COUNTRY_INFO!G75),COUNTRY_INFO!F75+COUNTRY_INFO!G75,COUNTRY_INFO!$M75), 0),0)","v":107078},0,299818.39999999997,{"$f":"IF(AND($E75=1, $F75<>0), H75*2.8, 0)","v":299818.39999999997},{"$f":"SUM(I75:K75)","v":599636.79999999993},null,599636.79999999993]
[{"$f":"IF(INTRO!$E$39=\"Non-endemic\",\" \",IF(COUNTRY_INFO!A76=0,\" \",COUNTRY_INFO!A76))","v":"Ghana"},{"$f":"IF(INTRO!$E$39=\"Non-endemic\",\" \",IF(COUNTRY_INFO!B76=0,\" \",COUNTRY_INFO!B76))","v":"Bono East"},{"$f":"IF(INTRO!$E$39=\"Non-endemic\",\" \",IF(COUNTRY_INFO!C76=0,\" \",COUNTRY_INFO!C76))","v":"Pru"},{"$f":"IF(INTRO!$E$39=\"Non-endemic\",0,IF(INTRO!$E$39=\"Endemic but PC is not required\",IF(COUNTRY_INFO!$H76=1,COUNTRY_INFO!F76+COUNTRY_INFO!G76,0),IF(COUNTRY_INFO!$H76=1,COUNTRY_INFO!F76+COUNTRY_INFO!G76,IF(COUNTRY_INFO!$I76=1,IF(COUNTRY_INFO!M76>=(COUNTRY_INFO!F76+COUNTRY_INFO!G76),COUNTRY_INFO!F76+COUNTRY_INFO!G76,COUNTRY_INFO!$M76),0))))","v":93174.175000000003},{"$f":"IF(AND(INTRO!$E$39=\"Non-endemic\",INTRO!$E$37=\"Non-endemic\"),\"Not required\",IF(INTRO!$E$39=\"Non-endemic\",\"Treat with DEC\",COUNTRY_INFO!V76))","v":0},{"$f":"IF(INTRO!$E$39<>\"Non-endemic\",COUNTRY_INFO!W76,\"Not required\")","v":2},{"$f":"IF(COUNTRY_INFO!H76=1, IF($E76=1,$D76, 0),0)","v":0},{"$f":"IF(COUNTRY_INFO!I76=1, IF(AND(COUNTRY_INFO!$I76=1,$F76<>0),IF(COUNTRY_INFO!M76>=(COUNTRY_INFO!F76+COUNTRY_INFO!G76),COUNTRY_INFO!F76+COUNTRY_INFO!G76,COUNTRY_INFO!$M76), 0),0)","v":93174.175000000003},0,521775.38,0,521775.38,null,521775.38]
[{"$f":"IF(INTRO!$E$39=\"Non-endemic\",\" \",IF(COUNTRY_INFO!A77=0,\" \",COUNTRY_INFO!A77))","v":"Ghana"},{"$f":"IF(INTRO!$E$39=\"Non-endemic\",\" \",IF(COUNTRY_INFO!B77=0,\" \",COUNTRY_INFO!B77))","v":"Bono East"},{"$f":"IF(INTRO!$E$39=\"Non-endemic\",\" \",IF(COUNTRY_INFO!C77=0,\" \",COUNTRY_INFO!C77))","v":"Pru West"},{"$f":"IF(INTRO!$E$39=\"Non-endemic\",0,IF(INTRO!$E$39=\"Endemic but PC is not required\",IF(COUNTRY_INFO!$H77=1,COUNTRY_INFO!F77+COUNTRY_INFO!G77,0),IF(COUNTRY_INFO!$H77=1,COUNTRY_INFO!F77+COUNTRY_INFO!G77,IF(COUNTRY_INFO!$I77=1,IF(COUNTRY_INFO!M77>=(COUNTRY_INFO!F77+COUNTRY_INFO!G77),COUNTRY_INFO!F77+COUNTRY_INFO!G77,COUNTRY_INFO!$M77),0))))","v":58939.05},{"$f":"IF(AND(INTRO!$E$39=\"Non-endemic\",INTRO!$E$37=\"Non-endemic\"),\"Not required\",IF(INTRO!$E$39=\"Non-endemic\",\"Treat with DEC\",COUNTRY_INFO!V77))","v":0},{"$f":"IF(INTRO!$E$39<>\"Non-endemic\",COUNTRY_INFO!W77,\"Not required\")","v":2},{"$f":"IF(COUNTRY_INFO!H77=1, IF($E77=1,$D77, 0),0)","v":0},{"$f":"IF(COUNTRY_INFO!I77=1, IF(AND(COUNTRY_INFO!$I77=1,$F77<>0),IF(COUNTRY_INFO!M77>=(COUNTRY_INFO!F77+COUNTRY_INFO!G77),COUNTRY_INFO!F77+COUNTRY_INFO!G77,COUNTRY_INFO!$M77), 0),0)","v":58939.05},0,330058.68,0,330058.68,null,330058.68]
[{"$f":"IF(INTRO!$E$39=\"Non-endemic\",\" \",IF(COUNTRY_INFO!A78=0,\" \",COUNTRY_INFO!A78))","v":"Ghana"},{"$f":"IF(INTRO!$E$39=\"Non-endemic\",\" \",IF(COUNTRY_INFO!B78=0,\" \",COUNTRY_INFO!B78))","v":"Bono East"},{"$f":"IF(INTRO!$E$39=\"Non-endemic\",\" \",IF(COUNTRY_INFO!C78=0,\" \",COUNTRY_INFO!C78))","v":"Sene East"},{"$f":"IF(INTRO!$E$39=\"Non-endemic\",0,IF(INTRO!$E$39=\"Endemic but PC is not required\",IF(COUNTRY_INFO!$H78=1,COUNTRY_INFO!F78+COUNTRY_INFO!G78,0),IF(COUNTRY_INFO!$H78=1,COUNTRY_INFO!F78+COUNTRY_INFO!G78,IF(COUNTRY_INFO!$I78=1,IF(COUNTRY_INFO!M78>=(COUNTRY_INFO!F78+COUNTRY_INFO!G78),COUNTRY_INFO!F78+COUNTRY_INFO!G78,COUNTRY_INFO!$M78),0))))","v":65299},{"$f":"IF(AND(INTRO!$E$39=\"Non-endemic\",INTRO!$E$37=\"Non-endemic\"),\"Not required\",IF(INTRO!$E$39=\"Non-endemic\",\"Treat with DEC\",COUNTRY_INFO!V78))","v":0},{"$f":"IF(INTRO!$E$39<>\"Non-endemic\",COUNTRY_INFO!W78,\"Not required\")","v":2},{"$f":"IF(COUNTRY_INFO!H78=1, IF($E78=1,$D78, 0),0)","v":0},{"$f":"IF(COUNTRY_INFO!I78=1, IF(AND(COUNTRY_INFO!$I78=1,$F78<>0),IF(COUNTRY_INFO!M78>=(COUNTRY_INFO!F78+COUNTRY_INFO!G78),COUNTRY_INFO!F78+COUNTRY_INFO!G78,COUNTRY_INFO!$M78), 0),0)","v":65299},0,365674.39999999997,0,365674.39999999997,null,365674.39999999997]
[{"$f":"IF(INTRO!$E$39=\"Non-endemic\",\" \",IF(COUNTRY_INFO!A79=0,\" \",COUNTRY_INFO!A79))","v":"Ghana"},{"$f":"IF(INTRO!$E$39=\"Non-endemic\",\" \",IF(COUNTRY_INFO!B79=0,\" \",COUNTRY_INFO!B79))","v":"Bono East"},{"$f":"IF(INTRO!$E$39=\"Non-endemic\",\" \",IF(COUNTRY_INFO!C79=0,\" \",COUNTRY_INFO!C79))","v":"Sene West"},{"$f":"IF(INTRO!$E$39=\"Non-endemic\",0,IF(INTRO!$E$39=\"Endemic but PC is not required\",IF(COUNTRY_INFO!$H79=1,COUNTRY_INFO!F79+COUNTRY_INFO!G79,0),IF(COUNTRY_INFO!$H79=1,COUNTRY_INFO!F79+COUNTRY_INFO!G79,IF(COUNTRY_INFO!$I79=1,IF(COUNTRY_INFO!M79>=(COUNTRY_INFO!F79+COUNTRY_INFO!G79),COUNTRY_INFO!F79+COUNTRY_INFO!G79,COUNTRY_INFO!$M79),0))))","v":34980.369999999995},{"$f":"IF(AND(INTRO!$E$39=\"Non-endemic\",INTRO!$E$37=\"Non-endemic\"),\"Not required\",IF(INTRO!$E$39=\"Non-endemic\",\"Treat with DEC\",COUNTRY_INFO!V79))","v":0},{"$f":"IF(INTRO!$E$39<>\"Non-endemic\",COUNTRY_INFO!W79,\"Not required\")","v":2},{"$f":"IF(COUNTRY_INFO!H79=1, IF($E79=1,$D79, 0),0)","v":0},{"$f":"IF(COUNTRY_INFO!I79=1, IF(AND(COUNTRY_INFO!$I79=1,$F79<>0),IF(COUNTRY_INFO!M79>=(COUNTRY_INFO!F79+COUNTRY_INFO!G79),COUNTRY_INFO!F79+COUNTRY_INFO!G79,COUNTRY_INFO!$M79), 0),0)","v":34980.369999999995},0,195890.07199999996,0,195890.07199999996,null,195890.07199999996]
[{"$f":"IF(INTRO!$E$39=\"Non-endemic\",\" \",IF(COUNTRY_INFO!A80=0,\" \",COUNTRY_INFO!A80))","v":"Ghana"},{"$f":"IF(INTRO!$E$39=\"Non-endemic\",\" \",IF(COUNTRY_INFO!B80=0,\" \",COUNTRY_INFO!B80))","v":"Bono East"},{"$f":"IF(INTRO!$E$39=\"Non-endemic\",\" \",IF(COUNTRY_INFO!C80=0,\" \",COUNTRY_INFO!C80))","v":"Techiman Municipal"},{"$f":"IF(INTRO!$E$39=\"Non-endemic\",0,IF(INTRO!$E$39=\"Endemic but PC is not required\",IF(COUNTRY_INFO!$H80=1,COUNTRY_INFO!F80+COUNTRY_INFO!G80,0),IF(COUNTRY_INFO!$H80=1,COUNTRY_INFO!F80+COUNTRY_INFO!G80,IF(COUNTRY_INFO!$I80=1,IF(COUNTRY_INFO!M80>=(COUNTRY_INFO!F80+COUNTRY_INFO!G80),COUNTRY_INFO!F80+COUNTRY_INFO!G80,COUNTRY_INFO!$M80),0))))","v":0},{"$f":"IF(AND(INTRO!$E$39=\"Non-endemic\",INTRO!$E$37=\"Non-endemic\"),\"Not required\",IF(INTRO!$E$39=\"Non-endemic\",\"Treat with DEC\",COUNTRY_INFO!V80))","v":0},{"$f":"IF(INTRO!$E$39<>\"Non-endemic\",COUNTRY_INFO!W80,\"Not required\")","v":0},{"$f":"IF(COUNTRY_INFO!H80=1, IF($E80=1,$D80, 0),0)","v":0},{"$f":"IF(COUNTRY_INFO!I80=1, IF(AND(COUNTRY_INFO!$I80=1,$F80<>0),IF(COUNTRY_INFO!M80>=(COUNTRY_INFO!F80+COUNTRY_INFO!G80),COUNTRY_INFO!F80+COUNTRY_INFO!G80,COUNTRY_INFO!$M80), 0),0)","v":0},0,0,0,0,null,0]
[{"$f":"IF(INTRO!$E$39=\"Non-endemic\",\" \",IF(COUNTRY_INFO!A81=0,\" \",COUNTRY_INFO!A81))","v":"Ghana"},{"$f":"IF(INTRO!$E$39=\"Non-endemic\",\" \",IF(COUNTRY_INFO!B81=0,\" \",COUNTRY_INFO!B81))","v":"Bono East"},{"$f":"IF(INTRO!$E$39=\"Non-endemic\",\" \",IF(COUNTRY_INFO!C81=0,\" \",COUNTRY_INFO!C81))","v":"Techiman North"},{"$f":"IF(INTRO!$E$39=\"Non-endemic\",0,IF(INTRO!$E$39=\"Endemic but PC is not required\",IF(COUNTRY_INFO!$H81=1,COUNTRY_INFO!F81+COUNTRY_INFO!G81,0),IF(COUNTRY_INFO!$H81=1,COUNTRY_INFO!F81+COUNTRY_INFO!G81,IF(COUNTRY_INFO!$I81=1,IF(COUNTRY_INFO!M81>=(COUNTRY_INFO!F81+COUNTRY_INFO!G81),COUNTRY_INFO!F81+COUNTRY_INFO!G81,COUNTRY_INFO!$M81),0))))","v":34086},{"$f":"IF(AND(INTRO!$E$39=\"Non-endemic\",INTRO!$E$37=\"Non-endemic\"),\"Not required\",IF(INTRO!$E$39=\"Non-endemic\",\"Treat with DEC\",COUNTRY_INFO!V81))","v":0},{"$f":"IF(INTRO!$E$39<>\"Non-endemic\",COUNTRY_INFO!W81,\"Not required\")","v":2},{"$f":"IF(COUNTRY_INFO!H81=1, IF($E81=1,$D81, 0),0)","v":0},{"$f":"IF(COUNTRY_INFO!I81=1, IF(AND(COUNTRY_INFO!$I81=1,$F81<>0),IF(COUNTRY_INFO!M81>=(COUNTRY_INFO!F81+COUNTRY_INFO!G81),COUNTRY_INFO!F81+COUNTRY_INFO!G81,COUNTRY_INFO!$M81), 0),0)","v":34086},0,190881.59999999998,0,190881.59999999998,null,190881.59999999998]
[{"$f":"IF(INTRO!$E$39=\"Non-endemic\",\" \",IF(COUNTRY_INFO!A82=0,\" \",COUNTRY_INFO!A82))","v":"Ghana"},{"$f":"IF(INTRO!$E$39=\"Non-endemic\",\" \",IF(COUNTRY_INFO!B82=0,\" \",COUNTRY_INFO!B82))","v":"Central"},{"$f":"IF(INTRO!$E$39=\"Non-endemic\",\" \",IF(COUNTRY_INFO!C82=0,\" \",COUNTRY_INFO!C82))","v":"Abura-Asebu-Kwamankese"},{"$f":"IF(INTRO!$E$39=\"Non-endemic\",0,IF(INTRO!$E$39=\"Endemic but PC is not required\",IF(COUNTRY_INFO!$H82=1,COUNTRY_INFO!F82+COUNTRY_INFO!G82,0),IF(COUNTRY_INFO!$H82=1,COUNTRY_INFO!F82+COUNTRY_INFO!G82,IF(COUNTRY_INFO!$I82=1,IF(COUNTRY_INFO!M82>=(COUNTRY_INFO!F82+COUNTRY_INFO!G82),COUNTRY_INFO!F82+COUNTRY_INFO!G82,COUNTRY_INFO!$M82),0))))","v":0},{"$f":"IF(AND(INTRO!$E$39=\"Non-endemic\",INTRO!$E$37=\"Non-endemic\"),\"Not required\",IF(INTRO!$E$39=\"Non-endemic\",\"Treat with DEC\",COUNTRY_INFO!V82))","v":0},{"$f":"IF(INTRO!$E$39<>\"Non-endemic\",COUNTRY_INFO!W82,\"Not required\")","v":0},{"$f":"IF(COUNTRY_INFO!H82=1, IF($E82=1,$D82, 0),0)","v":0},{"$f":"IF(COUNTRY_INFO!I82=1, IF(AND(COUNTRY_INFO!$I82=1,$F82<>0),IF(COUNTRY_INFO!M82>=(COUNTRY_INFO!F82+COUNTRY_INFO!G82),COUNTRY_INFO!F82+COUNTRY_INFO!G82,COUNTRY_INFO!$M82), 0),0)","v":0},0,0,0,0,null,0]
[{"$f":"IF(INTRO!$E$39=\"Non-endemic\",\" \",IF(COUNTRY_INFO!A83=0,\" \",COUNTRY_INFO!A83))","v":"Ghana"},{"$f":"IF(INTRO!$E$39=\"Non-endemic\",\" \",IF(COUNTRY_INFO!B83=0,\" \",COUNTRY_INFO!B83))","v":"Central"},{"$f":"IF(INTRO!$E$39=\"Non-endemic\",\" \",IF(COUNTRY_INFO!C83=0,\" \",COUNTRY_INFO!C83))","v":"Agona East"},{"$f":"IF(INTRO!$E$39=\"Non-endemic\",0,IF(INTRO!$E$39=\"Endemic but PC is not required\",IF(COUNTRY_INFO!$H83=1,COUNTRY_INFO!F83+COUNTRY_INFO!G83,0),IF(COUNTRY_INFO!$H83=1,COUNTRY_INFO!F83+COUNTRY_INFO!G83,IF(COUNTRY_INFO!$I83=1,IF(COUNTRY_INFO!M83>=(COUNTRY_INFO!F83+COUNTRY_INFO!G83),COUNTRY_INFO!F83+COUNTRY_INFO!G83,COUNTRY_INFO!$M83),0))))","v":0},{"$f":"IF(AND(INTRO!$E$39=\"Non-endemic\",INTRO!$E$37=\"Non-endemic\"),\"Not required\",IF(INTRO!$E$39=\"Non-endemic\",\"Treat with DEC\",COUNTRY_INFO!V83))","v":0},{"$f":"IF(INTRO!$E$39<>\"Non-endemic\",COUNTRY_INFO!W83,\"Not required\")","v":0},{"$f":"IF(COUNTRY_INFO!H83=1, IF($E83=1,$D83, 0),0)","v":0},{"$f":"IF(COUNTRY_INFO!I83=1, IF(AND(COUNTRY_INFO!$I83=1,$F83<>0),IF(COUNTRY_INFO!M83>=(COUNTRY_INFO!F83+COUNTRY_INFO!G83),COUNTRY_INFO!F83+COUNTRY_INFO!G83,COUNTRY_INFO!$M83), 0),0)","v":0},0,0,0,0,null,0]
[{"$f":"IF(INTRO!$E$39=\"Non-endemic\",\" \",IF(COUNTRY_INFO!A84=0,\" \",COUNTRY_INFO!A84))","v":"Ghana"},{"$f":"IF(INTRO!$E$39=\"Non-endemic\",\" \",IF(COUNTRY_INFO!B84=0,\" \",COUNTRY_INFO!B84))","v":"Central"},{"$f":"IF(INTRO!$E$39=\"Non-endemic\",\" \",IF(COUNTRY_INFO!C84=0,\" \",COUNTRY_INFO!C84))","v":"Agona West"},{"$f":"IF(INTRO!$E$39=\"Non-endemic\",0,IF(INTRO!$E$39=\"Endemic but PC is not required\",IF(COUNTRY_INFO!$H84=1,COUNTRY_INFO!F84+COUNTRY_INFO!G84,0),IF(COUNTRY_INFO!$H84=1,COUNTRY_INFO!F84+COUNTRY_INFO!G84,IF(COUNTRY_INFO!$I84=1,IF(COUNTRY_INFO!M84>=(COUNTRY_INFO!F84+COUNTRY_INFO!G84),COUNTRY_INFO!F84+COUNTRY_INFO!G84,COUNTRY_INFO!$M84),0))))","v":0},{"$f":"IF(AND(INTRO!$E$39=\"Non-endemic\",INTRO!$E$37=\"Non-endemic\"),\"Not required\",IF(INTRO!$E$39=\"Non-endemic\",\"Treat with DEC\",COUNTRY_INFO!V84))","v":0},{"$f":"IF(INTRO!$E$39<>\"Non-endemic\",COUNTRY_INFO!W84,\"Not required\")","v":0},{"$f":"IF(COUNTRY_INFO!H84=1, IF($E84=1,$D84, 0),0)","v":0},{"$f":"IF(COUNTRY_INFO!I84=1, IF(AND(COUNTRY_INFO!$I84=1,$F84<>0),IF(COUNTRY_INFO!M84>=(COUNTRY_INFO!F84+COUNTRY_INFO!G84),COUNTRY_INFO!F84+COUNTRY_INFO!G84,COUNTRY_INFO!$M84), 0),0)","v":0},0,0,0,0,null,0]
[{"$f":"IF(INTRO!$E$39=\"Non-endemic\",\" \",IF(COUNTRY_INFO!A85=0,\" \",COUNTRY_INFO!A85))","v":"Ghana"},{"$f":"IF(INTRO!$E$39=\"Non-endemic\",\" \",IF(COUNTRY_INFO!B85=0,\" \",COUNTRY_INFO!B85))","v":"Central"},{"$f":"IF(INTRO!$E$39=\"Non-endemic\",\" \",IF(COUNTRY_INFO!C85=0,\" \",COUNTRY_INFO!C85))","v":"Ajumako-Enyan-Essiam"},{"$f":"IF(INTRO!$E$39=\"Non-endemic\",0,IF(INTRO!$E$39=\"Endemic but PC is not required\",IF(COUNTRY_INFO!$H85=1,COUNTRY_INFO!F85+COUNTRY_INFO!G85,0),IF(COUNTRY_INFO!$H85=1,COUNTRY_INFO!F85+COUNTRY_INFO!G85,IF(COUNTRY_INFO!$I85=1,IF(COUNTRY_INFO!M85>=(COUNTRY_INFO!F85+COUNTRY_INFO!G85),COUNTRY_INFO!F85+COUNTRY_INFO!G85,COUNTRY_INFO!$M85),0))))","v":0},{"$f":"IF(AND(INTRO!$E$39=\"Non-endemic\",INTRO!$E$37=\"Non-endemic\"),\"Not required\",IF(INTRO!$E$39=\"Non-endemic\",\"Treat with DEC\",COUNTRY_INFO!V85))","v":0},{"$f":"IF(INTRO!$E$39<>\"Non-endemic\",COUNTRY_INFO!W85,\"Not required\")","v":0},{"$f":"IF(COUNTRY_INFO!H85=1, IF($E85=1,$D85, 0),0)","v":0},{"$f":"IF(COUNTRY_INFO!I85=1, IF(AND(COUNTRY_INFO!$I85=1,$F85<>0),IF(COUNTRY_INFO!M85>=(COUNTRY_INFO!F85+COUNTRY_INFO!G85),COUNTRY_INFO!F85+COUNTRY_INFO!G85,COUNTRY_INFO!$M85), 0),0)","v":0},0,0,0,0,null,0]
[{"$f":"IF(INTRO!$E$39=\"Non-endemic\",\" \",IF(COUNTRY_INFO!A86=0,\" \",COUNTRY_INFO!A86))","v":"Ghana"},{"$f":"IF(INTRO!$E$39=\"Non-endemic\",\" \",IF(COUNTRY_INFO!B86=0,\" \",COUNTRY_INFO!B86))","v":"Central"},{"$f":"IF(INTRO!$E$39=\"Non-endemic\",\" \",IF(COUNTRY_INFO!C86=0,\" \",COUNTRY_INFO!C86))","v":"Asikuma-Odoben-Brakwa"},{"$f":"IF(INTRO!$E$39=\"Non-endemic\",0,IF(INTRO!$E$39=\"Endemic but PC is not required\",IF(COUNTRY_INFO!$H86=1,COUNTRY_INFO!F86+COUNTRY_INFO!G86,0),IF(COUNTRY_INFO!$H86=1,COUNTRY_INFO!F86+COUNTRY_INFO!G86,IF(COUNTRY_INFO!$I86=1,IF(COUNTRY_INFO!M86>=(COUNTRY_INFO!F86+COUNTRY_INFO!G86),COUNTRY_INFO!F86+COUNTRY_INFO!G86,COUNTRY_INFO!$M86),0))))","v":0},{"$f":"IF(AND(INTRO!$E$39=\"Non-endemic\",INTRO!$E$37=\"Non-endemic\"),\"Not required\",IF(INTRO!$E$39=\"Non-endemic\",\"Treat with DEC\",COUNTRY_INFO!V86))","v":0},{"$f":"IF(INTRO!$E$39<>\"Non-endemic\",COUNTRY_INFO!W86,\"Not required\")","v":0},{"$f":"IF(COUNTRY_INFO!H86=1, IF($E86=1,$D86, 0),0)","v":0},{"$f":"IF(COUNTRY_INFO!I86=1, IF(AND(COUNTRY_INFO!$I86=1,$F86<>0),IF(COUNTRY_INFO!M86>=(COUNTRY_INFO!F86+COUNTRY_INFO!G86),COUNTRY_INFO!F86+COUNTRY_INFO!G86,COUNTRY_INFO!$M86), 0),0)","v":0},0,0,0,0,null,0]
[{"$f":"IF(INTRO!$E$39=\"Non-endemic\",\" \",IF(COUNTRY_INFO!A87=0,\" \",COUNTRY_INFO!A87))","v":"Ghana"},{"$f":"IF(INTRO!$E$39=\"Non-endemic\",\" \",IF(COUNTRY_INFO!B87=0,\" \",COUNTRY_INFO!B87))","v":"Central"},{"$f":"IF(INTRO!$E$39=\"Non-endemic\",\" \",IF(COUNTRY_INFO!C87=0,\" \",COUNTRY_INFO!C87))","v":"Assin Foso"},{"$f":"IF(INTRO!$E$39=\"Non-endemic\",0,IF(INTRO!$E$39=\"Endemic but PC is not required\",IF(COUNTRY_INFO!$H87=1,COUNTRY_INFO!F87+COUNTRY_INFO!G87,0),IF(COUNTRY_INFO!$H87=1,COUNTRY_INFO!F87+COUNTRY_INFO!G87,IF(COUNTRY_INFO!$I87=1,IF(COUNTRY_INFO!M87>=(COUNTRY_INFO!F87+COUNTRY_INFO!G87),COUNTRY_INFO!F87+COUNTRY_INFO!G87,COUNTRY_INFO!$M87),0))))","v":82897},{"$f":"IF(AND(INTRO!$E$39=\"Non-endemic\",INTRO!$E$37=\"Non-endemic\"),\"Not required\",IF(INTRO!$E$39=\"Non-endemic\",\"Treat with DEC\",COUNTRY_INFO!V87))","v":0},{"$f":"IF(INTRO!$E$39<>\"Non-endemic\",COUNTRY_INFO!W87,\"Not required\")","v":2},{"$f":"IF(COUNTRY_INFO!H87=1, IF($E87=1,$D87, 0),0)","v":0},{"$f":"IF(COUNTRY_INFO!I87=1, IF(AND(COUNTRY_INFO!$I87=1,$F87<>0),IF(COUNTRY_INFO!M87>=(COUNTRY_INFO!F87+COUNTRY_INFO!G87),COUNTRY_INFO!F87+COUNTRY_INFO!G87,COUNTRY_INFO!$M87), 0),0)","v":82897},0,464223.19999999995,0,464223.19999999995,null,464223.19999999995]
[{"$f":"IF(INTRO!$E$39=\"Non-endemic\",\" \",IF(COUNTRY_INFO!A88=0,\" \",COUNTRY_INFO!A88))","v":"Ghana"},{"$f":"IF(INTRO!$E$39=\"Non-endemic\",\" \",IF(COUNTRY_INFO!B88=0,\" \",COUNTRY_INFO!B88))","v":"Central"},{"$f":"IF(INTRO!$E$39=\"Non-endemic\",\" \",IF(COUNTRY_INFO!C88=0,\" \",COUNTRY_INFO!C88))","v":"Assin North"},{"$f":"IF(INTRO!$E$39=\"Non-endemic\",0,IF(INTRO!$E$39=\"Endemic but PC is not required\",IF(COUNTRY_INFO!$H88=1,COUNTRY_INFO!F88+COUNTRY_INFO!G88,0),IF(COUNTRY_INFO!$H88=1,COUNTRY_INFO!F88+COUNTRY_INFO!G88,IF(COUNTRY_INFO!$I88=1,IF(COUNTRY_INFO!M88>=(COUNTRY_INFO!F88+COUNTRY_INFO!G88),COUNTRY_INFO!F88+COUNTRY_INFO!G88,COUNTRY_INFO!$M88),0))))","v":75225},{"$f":"IF(AND(INTRO!$E$39=\"Non-endemic\",INTRO!$E$37=\"Non-endemic\"),\"Not required\",IF(INTRO!$E$39=\"Non-endemic\",\"Treat with DEC\",COUNTRY_INFO!V88))","v":0},{"$f":"IF(INTRO!$E$39<>\"Non-endemic\",COUNTRY_INFO!W88,\"Not required\")","v":2},{"$f":"IF(COUNTRY_INFO!H88=1, IF($E88=1,$D88, 0),0)","v":0},{"$f":"IF(COUNTRY_INFO!I88=1, IF(AND(COUNTRY_INFO!$I88=1,$F88<>0),IF(COUNTRY_INFO!M88>=(COUNTRY_INFO!F88+COUNTRY_INFO!G88),COUNTRY_INFO!F88+COUNTRY_INFO!G88,COUNTRY_INFO!$M88), 0),0)","v":75225},0,421260,0,421260,null,421260]
[{"$f":"IF(INTRO!$E$39=\"Non-endemic\",\" \",IF(COUNTRY_INFO!A89=0,\" \",COUNTRY_INFO!A89))","v":"Ghana"},{"$f":"IF(INTRO!$E$39=\"Non-endemic\",\" \",IF(COUNTRY_INFO!B89=0,\" \",COUNTRY_INFO!B89))","v":"Central"},{"$f":"IF(INTRO!$E$39=\"Non-endemic\",\" \",IF(COUNTRY_INFO!C89=0,\" \",COUNTRY_INFO!C89))","v":"Assin South"},{"$f":"IF(INTRO!$E$39=\"Non-endemic\",0,IF(INTRO!$E$39=\"Endemic but PC is not required\",IF(COUNTRY_INFO!$H89=1,COUNTRY_INFO!F89+COUNTRY_INFO!G89,0),IF(COUNTRY_INFO!$H89=1,COUNTRY_INFO!F89+COUNTRY_INFO!G89,IF(COUNTRY_INFO!$I89=1,IF(COUNTRY_INFO!M89>=(COUNTRY_INFO!F89+COUNTRY_INFO!G89),COUNTRY_INFO!F89+COUNTRY_INFO!G89,COUNTRY_INFO!$M89),0))))","v":52176},{"$f":"IF(AND(INTRO!$E$39=\"Non-endemic\",INTRO!$E$37=\"Non-endemic\"),\"Not required\",IF(INTRO!$E$39=\"Non-endemic\",\"Treat with DEC\",COUNTRY_INFO!V89))","v":0},{"$f":"IF(INTRO!$E$39<>\"Non-endemic\",COUNTRY_INFO!W89,\"Not required\")","v":2},{"$f":"IF(COUNTRY_INFO!H89=1, IF($E89=1,$D89, 0),0)","v":0},{"$f":"IF(COUNTRY_INFO!I89=1, IF(AND(COUNTRY_INFO!$I89=1,$F89<>0),IF(COUNTRY_INFO!M89>=(COUNTRY_INFO!F89+COUNTRY_INFO!G89),COUNTRY_INFO!F89+COUNTRY_INFO!G89,COUNTRY_INFO!$M89), 0),0)","v":52176},0,292185.59999999998,0,292185.59999999998,null,292185.59999999998]
[{"$f":"IF(INTRO!$E$39=\"Non-endemic\",\" \",IF(COUNTRY_INFO!A90=0,\" \",COUNTRY_INFO!A90))","v":"Ghana"},{"$f":"IF(INTRO!$E$39=\"Non-endemic\",\" \",IF(COUNTRY_INFO!B90=0,\" \",COUNTRY_INFO!B90))","v":"Central"},{"$f":"IF(INTRO!$E$39=\"Non-endemic\",\" \",IF(COUNTRY_INFO!C90=0,\" \",COUNTRY_INFO!C90))","v":"Awutu Senya"},{"$f":"IF(INTRO!$E$39=\"Non-endemic\",0,IF(INTRO!$E$39=\"Endemic but PC is not required\",IF(COUNTRY_INFO!$H90=1,COUNTRY_INFO!F90+COUNTRY_INFO!G90,0),IF(COUNTRY_INFO!$H90=1,COUNTRY_INFO!F90+COUNTRY_INFO!G90,IF(COUNTRY_INFO!$I90=1,IF(COUNTRY_INFO!M90>=(COUNTRY_INFO!F90+COUNTRY_INFO!G90),COUNTRY_INFO!F90+COUNTRY_INFO!G90,COUNTRY_INFO!$M90),0))))","v":0},{"$f":"IF(AND(INTRO!$E$39=\"Non-endemic\",INTRO!$E$37=\"Non-endemic\"),\"Not required\",IF(INTRO!$E$39=\"Non-endemic\",\"Treat with DEC\",COUNTRY_INFO!V90))","v":0},{"$f":"IF(INTRO!$E$39<>\"Non-endemic\",COUNTRY_INFO!W90,\"Not required\")","v":0},{"$f":"IF(COUNTRY_INFO!H90=1, IF($E90=1,$D90, 0),0)","v":0},{"$f":"IF(COUNTRY_INFO!I90=1, IF(AND(COUNTRY_INFO!$I90=1,$F90<>0),IF(COUNTRY_INFO!M90>=(COUNTRY_INFO!F90+COUNTRY_INFO!G90),COUNTRY_INFO!F90+COUNTRY_INFO!G90,COUNTRY_INFO!$M90), 0),0)","v":0},0,0,0,0,null,0]
[{"$f":"IF(INTRO!$E$39=\"Non-endemic\",\" \",IF(COUNTRY_INFO!A91=0,\" \",COUNTRY_INFO!A91))","v":"Ghana"},{"$f":"IF(INTRO!$E$39=\"Non-endemic\",\" \",IF(COUNTRY_INFO!B91=0,\" \",COUNTRY_INFO!B91))","v":"Central"},{"$f":"IF(INTRO!$E$39=\"Non-endemic\",\" \",IF(COUNTRY_INFO!C91=0,\" \",COUNTRY_INFO!C91))","v":"Awutu Senya East"},{"$f":"IF(INTRO!$E$39=\"Non-endemic\",0,IF(INTRO!$E$39=\"Endemic but PC is not required\",IF(COUNTRY_INFO!$H91=1,COUNTRY_INFO!F91+COUNTRY_INFO!G91,0),IF(COUNTRY_INFO!$H91=1,COUNTRY_INFO!F91+COUNTRY_INFO!G91,IF(COUNTRY_INFO!$I91=1,IF(COUNTRY_INFO!M91>=(COUNTRY_INFO!F91+COUNTRY_INFO!G91),COUNTRY_INFO!F91+COUNTRY_INFO!G91,COUNTRY_INFO!$M91),0))))","v":0},{"$f":"IF(AND(INTRO!$E$39=\"Non-endemic\",INTRO!$E$37=\"Non-endemic\"),\"Not required\",IF(INTRO!$E$39=\"Non-endemic\",\"Treat with DEC\",COUNTRY_INFO!V91))","v":0},{"$f":"IF(INTRO!$E$39<>\"Non-endemic\",COUNTRY_INFO!W91,\"Not required\")","v":0},{"$f":"IF(COUNTRY_INFO!H91=1, IF($E91=1,$D91, 0),0)","v":0},{"$f":"IF(COUNTRY_INFO!I91=1, IF(AND(COUNTRY_INFO!$I91=1,$F91<>0),IF(COUNTRY_INFO!M91>=(COUNTRY_INFO!F91+COUNTRY_INFO!G91),COUNTRY_INFO!F91+COUNTRY_INFO!G91,COUNTRY_INFO!$M91), 0),0)","v":0},0,0,0,0,null,0]
[{"$f":"IF(INTRO!$E$39=\"Non-endemic\",\" \",IF(COUNTRY_INFO!A92=0,\" \",COUNTRY_INFO!A92))","v":"Ghana"},{"$f":"IF(INTRO!$E$39=\"Non-endemic\",\" \",IF(COUNTRY_INFO!B92=0,\" \",COUNTRY_INFO!B92))","v":"Central"},{"$f":"IF(INTRO!$E$39=\"Non-endemic\",\" \",IF(COUNTRY_INFO!C92=0,\" \",COUNTRY_INFO!C92))","v":"Cape Coast"},{"$f":"IF(INTRO!$E$39=\"Non-endemic\",0,IF(INTRO!$E$39=\"Endemic but PC is not required\",IF(COUNTRY_INFO!$H92=1,COUNTRY_INFO!F92+COUNTRY_INFO!G92,0),IF(COUNTRY_INFO!$H92=1,COUNTRY_INFO!F92+COUNTRY_INFO!G92,IF(COUNTRY_INFO!$I92=1,IF(COUNTRY_INFO!M92>=(COUNTRY_INFO!F92+COUNTRY_INFO!G92),COUNTRY_INFO!F92+COUNTRY_INFO!G92,COUNTRY_INFO!$M92),0))))","v":0},{"$f":"IF(AND(INTRO!$E$39=\"Non-endemic\",INTRO!$E$37=\"Non-endemic\"),\"Not required\",IF(INTRO!$E$39=\"Non-endemic\",\"Treat with DEC\",COUNTRY_INFO!V92))","v":0},{"$f":"IF(INTRO!$E$39<>\"Non-endemic\",COUNTRY_INFO!W92,\"Not required\")","v":0},{"$f":"IF(COUNTRY_INFO!H92=1, IF($E92=1,$D92, 0),0)","v":0},{"$f":"IF(COUNTRY_INFO!I92=1, IF(AND(COUNTRY_INFO!$I92=1,$F92<>0),IF(COUNTRY_INFO!M92>=(COUNTRY_INFO!F92+COUNTRY_INFO!G92),COUNTRY_INFO!F92+COUNTRY_INFO!G92,COUNTRY_INFO!$M92), 0),0)","v":0},0,0,0,0,null,0]
[{"$f":"IF(INTRO!$E$39=\"Non-endemic\",\" \",IF(COUNTRY_INFO!A93=0,\" \",COUNTRY_INFO!A93))","v":"Ghana"},{"$f":"IF(INTRO!$E$39=\"Non-endemic\",\" \",IF(COUNTRY_INFO!B93=0,\" \",COUNTRY_INFO!B93))","v":"Central"},{"$f":"IF(INTRO!$E$39=\"Non-endemic\",\" \",IF(COUNTRY_INFO!C93=0,\" \",COUNTRY_INFO!C93))","v":"Efutu"},{"$f":"IF(INTRO!$E$39=\"Non-endemic\",0,IF(INTRO!$E$39=\"Endemic but PC is not required\",IF(COUNTRY_INFO!$H93=1,COUNTRY_INFO!F93+COUNTRY_INFO!G93,0),IF(COUNTRY_INFO!$H93=1,COUNTRY_INFO!F93+COUNTRY_INFO!G93,IF(COUNTRY_INFO!$I93=1,IF(COUNTRY_INFO!M93>=(COUNTRY_INFO!F93+COUNTRY_INFO!G93),COUNTRY_INFO!F93+COUNTRY_INFO!G93,COUNTRY_INFO!$M93),0))))","v":0},{"$f":"IF(AND(INTRO!$E$39=\"Non-endemic\",INTRO!$E$37=\"Non-endemic\"),\"Not required\",IF(INTRO!$E$39=\"Non-endemic\",\"Treat with DEC\",COUNTRY_INFO!V93))","v":0},{"$f":"IF(INTRO!$E$39<>\"Non-endemic\",COUNTRY_INFO!W93,\"Not required\")","v":0},{"$f":"IF(COUNTRY_INFO!H93=1, IF($E93=1,$D93, 0),0)","v":0},{"$f":"IF(COUNTRY_INFO!I93=1, IF(AND(COUNTRY_INFO!$I93=1,$F93<>0),IF(COUNTRY_INFO!M93>=(COUNTRY_INFO!F93+COUNTRY_INFO!G93),COUNTRY_INFO!F93+COUNTRY_INFO!G93,COUNTRY_INFO!$M93), 0),0)","v":0},0,0,0,0,null,0]
[{"$f":"IF(INTRO!$E$39=\"Non-endemic\",\" \",IF(COUNTRY_INFO!A94=0,\" \",COUNTRY_INFO!A94))","v":"Ghana"},{"$f":"IF(INTRO!$E$39=\"Non-endemic\",\" \",IF(COUNTRY_INFO!B94=0,\" \",COUNTRY_INFO!B94))","v":"Central"},{"$f":"IF(INTRO!$E$39=\"Non-endemic\",\" \",IF(COUNTRY_INFO!C94=0,\" \",COUNTRY_INFO!C94))","v":"Ekumfi"},{"$f":"IF(INTRO!$E$39=\"Non-endemic\",0,IF(INTRO!$E$39=\"Endemic but PC is not required\",IF(COUNTRY_INFO!$H94=1,COUNTRY_INFO!F94+COUNTRY_INFO!G94,0),IF(COUNTRY_INFO!$H94=1,COUNTRY_INFO!F94+COUNTRY_INFO!G94,IF(COUNTRY_INFO!$I94=1,IF(COUNTRY_INFO!M94>=(COUNTRY_INFO!F94+COUNTRY_INFO!G94),COUNTRY_INFO!F94+COUNTRY_INFO!G94,COUNTRY_INFO!$M94),0))))","v":0},{"$f":"IF(AND(INTRO!$E$39=\"Non-endemic\",INTRO!$E$37=\"Non-endemic\"),\"Not required\",IF(INTRO!$E$39=\"Non-endemic\",\"Treat with DEC\",COUNTRY_INFO!V94))","v":0},{"$f":"IF(INTRO!$E$39<>\"Non-endemic\",COUNTRY_INFO!W94,\"Not required\")","v":0},{"$f":"IF(COUNTRY_INFO!H94=1, IF($E94=1,$D94, 0),0)","v":0},{"$f":"IF(COUNTRY_INFO!I94=1, IF(AND(COUNTRY_INFO!$I94=1,$F94<>0),IF(COUNTRY_INFO!M94>=(COUNTRY_INFO!F94+COUNTRY_INFO!G94),COUNTRY_INFO!F94+COUNTRY_INFO!G94,COUNTRY_INFO!$M94), 0),0)","v":0},0,0,0,0,null,0]
[{"$f":"IF(INTRO!$E$39=\"Non-endemic\",\" \",IF(COUNTRY_INFO!A95=0,\" \",COUNTRY_INFO!A95))","v":"Ghana"},{"$f":"IF(INTRO!$E$39=\"Non-endemic\",\" \",IF(COUNTRY_INFO!B95=0,\" \",COUNTRY_INFO!B95))","v":"Central"},{"$f":"IF(INTRO!$E$39=\"Non-endemic\",\" \",IF(COUNTRY_INFO!C95=0,\" \",COUNTRY_INFO!C95))","v":"Gomoa Central"},{"$f":"IF(INTRO!$E$39=\"Non-endemic\",0,IF(INTRO!$E$39=\"Endemic but PC is not required\",IF(COUNTRY_INFO!$H95=1,COUNTRY_INFO!F95+COUNTRY_INFO!G95,0),IF(COUNTRY_INFO!$H95=1,COUNTRY_INFO!F95+COUNTRY_INFO!G95,IF(COUNTRY_INFO!$I95=1,IF(COUNTRY_INFO!M95>=(COUNTRY_INFO!F95+COUNTRY_INFO!G95),COUNTRY_INFO!F95+COUNTRY_INFO!G95,COUNTRY_INFO!$M95),0))))","v":0},{"$f":"IF(AND(INTRO!$E$39=\"Non-endemic\",INTRO!$E$37=\"Non-endemic\"),\"Not required\",IF(INTRO!$E$39=\"Non-endemic\",\"Treat with DEC\",COUNTRY_INFO!V95))","v":0},{"$f":"IF(INTRO!$E$39<>\"Non-endemic\",COUNTRY_INFO!W95,\"Not required\")","v":0},{"$f":"IF(COUNTRY_INFO!H95=1, IF($E95=1,$D95, 0),0)","v":0},{"$f":"IF(COUNTRY_INFO!I95=1, IF(AND(COUNTRY_INFO!$I95=1,$F95<>0),IF(COUNTRY_INFO!M95>=(COUNTRY_INFO!F95+COUNTRY_INFO!G95),COUNTRY_INFO!F95+COUNTRY_INFO!G95,COUNTRY_INFO!$M95), 0),0)","v":0},0,0,0,0,null,0]
[{"$f":"IF(INTRO!$E$39=\"Non-endemic\",\" \",IF(COUNTRY_INFO!A96=0,\" \",COUNTRY_INFO!A96))","v":"Ghana"},{"$f":"IF(INTRO!$E$39=\"Non-endemic\",\" \",IF(COUNTRY_INFO!B96=0,\" \",COUNTRY_INFO!B96))","v":"Central"},{"$f":"IF(INTRO!$E$39=\"Non-endemic\",\" \",IF(COUNTRY_INFO!C96=0,\" \",COUNTRY_INFO!C96))","v":"Gomoa East"},{"$f":"IF(INTRO!$E$39=\"Non-endemic\",0,IF(INTRO!$E$39=\"Endemic but PC is not required\",IF(COUNTRY_INFO!$H96=1,COUNTRY_INFO!F96+COUNTRY_INFO!G96,0),IF(COUNTRY_INFO!$H96=1,COUNTRY_INFO!F96+COUNTRY_INFO!G96,IF(COUNTRY_INFO!$I96=1,IF(COUNTRY_INFO!M96>=(COUNTRY_INFO!F96+COUNTRY_INFO!G96),COUNTRY_INFO!F96+COUNTRY_INFO!G96,COUNTRY_INFO!$M96),0))))","v":0},{"$f":"IF(AND(INTRO!$E$39=\"Non-endemic\",INTRO!$E$37=\"Non-endemic\"),\"Not required\",IF(INTRO!$E$39=\"Non-endemic\",\"Treat with DEC\",COUNTRY_INFO!V96))","v":0},{"$f":"IF(INTRO!$E$39<>\"Non-endemic\",COUNTRY_INFO!W96,\"Not required\")","v":0},{"$f":"IF(COUNTRY_INFO!H96=1, IF($E96=1,$D96, 0),0)","v":0},{"$f":"IF(COUNTRY_INFO!I96=1, IF(AND(COUNTRY_INFO!$I96=1,$F96<>0),IF(COUNTRY_INFO!M96>=(COUNTRY_INFO!F96+COUNTRY_INFO!G96),COUNTRY_INFO!F96+COUNTRY_INFO!G96,COUNTRY_INFO!$M96), 0),0)","v":0},0,0,0,0,null,0]
[{"$f":"IF(INTRO!$E$39=\"Non-endemic\",\" \",IF(COUNTRY_INFO!A97=0,\" \",COUNTRY_INFO!A97))","v":"Ghana"},{"$f":"IF(INTRO!$E$39=\"Non-endemic\",\" \",IF(COUNTRY_INFO!B97=0,\" \",COUNTRY_INFO!B97))","v":"Central"},{"$f":"IF(INTRO!$E$39=\"Non-endemic\",\" \",IF(COUNTRY_INFO!C97=0,\" \",COUNTRY_INFO!C97))","v":"Gomoa West"},{"$f":"IF(INTRO!$E$39=\"Non-endemic\",0,IF(INTRO!$E$39=\"Endemic but PC is not required\",IF(COUNTRY_INFO!$H97=1,COUNTRY_INFO!F97+COUNTRY_INFO!G97,0),IF(COUNTRY_INFO!$H97=1,COUNTRY_INFO!F97+COUNTRY_INFO!G97,IF(COUNTRY_INFO!$I97=1,IF(COUNTRY_INFO!M97>=(COUNTRY_INFO!F97+COUNTRY_INFO!G97),COUNTRY_INFO!F97+COUNTRY_INFO!G97,COUNTRY_INFO!$M97),0))))","v":0},{"$f":"IF(AND(INTRO!$E$39=\"Non-endemic\",INTRO!$E$37=\"Non-endemic\"),\"Not required\",IF(INTRO!$E$39=\"Non-endemic\",\"Treat with DEC\",COUNTRY_INFO!V97))","v":0},{"$f":"IF(INTRO!$E$39<>\"Non-endemic\",COUNTRY_INFO!W97,\"Not required\")","v":0},{"$f":"IF(COUNTRY_INFO!H97=1, IF($E97=1,$D97, 0),0)","v":0},{"$f":"IF(COUNTRY_INFO!I97=1, IF(AND(COUNTRY_INFO!$I97=1,$F97<>0),IF(COUNTRY_INFO!M97>=(COUNTRY_INFO!F97+COUNTRY_INFO!G97),COUNTRY_INFO!F97+COUNTRY_INFO!G97,COUNTRY_INFO!$M97), 0),0)","v":0},0,0,0,0,null,0]
[{"$f":"IF(INTRO!$E$39=\"Non-endemic\",\" \",IF(COUNTRY_INFO!A98=0,\" \",COUNTRY_INFO!A98))","v":"Ghana"},{"$f":"IF(INTRO!$E$39=\"Non-endemic\",\" \",IF(COUNTRY_INFO!B98=0,\" \",COUNTRY_INFO!B98))","v":"Central"},{"$f":"IF(INTRO!$E$39=\"Non-endemic\",\" \",IF(COUNTRY_INFO!C98=0,\" \",COUNTRY_INFO!C98))","v":"Komenda-Edna-Eguafo-Abirem"},{"$f":"IF(INTRO!$E$39=\"Non-endemic\",0,IF(INTRO!$E$39=\"Endemic but PC is not required\",IF(COUNTRY_INFO!$H98=1,COUNTRY_INFO!F98+COUNTRY_INFO!G98,0),IF(COUNTRY_INFO!$H98=1,COUNTRY_INFO!F98+COUNTRY_INFO!G98,IF(COUNTRY_INFO!$I98=1,IF(COUNTRY_INFO!M98>=(COUNTRY_INFO!F98+COUNTRY_INFO!G98),COUNTRY_INFO!F98+COUNTRY_INFO!G98,COUNTRY_INFO!$M98),0))))","v":0},{"$f":"IF(AND(INTRO!$E$39=\"Non-endemic\",INTRO!$E$37=\"Non-endemic\"),\"Not required\",IF(INTRO!$E$39=\"Non-endemic\",\"Treat with DEC\",COUNTRY_INFO!V98))","v":0},{"$f":"IF(INTRO!$E$39<>\"Non-endemic\",COUNTRY_INFO!W98,\"Not required\")","v":0},{"$f":"IF(COUNTRY_INFO!H98=1, IF($E98=1,$D98, 0),0)","v":0},{"$f":"IF(COUNTRY_INFO!I98=1, IF(AND(COUNTRY_INFO!$I98=1,$F98<>0),IF(COUNTRY_INFO!M98>=(COUNTRY_INFO!F98+COUNTRY_INFO!G98),COUNTRY_INFO!F98+COUNTRY_INFO!G98,COUNTRY_INFO!$M98), 0),0)","v":0},0,0,0,0,null,0]
[{"$f":"IF(INTRO!$E$39=\"Non-endemic\",\" \",IF(COUNTRY_INFO!A99=0,\" \",COUNTRY_INFO!A99))","v":"Ghana"},{"$f":"IF(INTRO!$E$39=\"Non-endemic\",\" \",IF(COUNTRY_INFO!B99=0,\" \",COUNTRY_INFO!B99))","v":"Central"},{"$f":"IF(INTRO!$E$39=\"Non-endemic\",\" \",IF(COUNTRY_INFO!C99=0,\" \",COUNTRY_INFO!C99))","v":"Mfantsiman"},{"$f":"IF(INTRO!$E$39=\"Non-endemic\",0,IF(INTRO!$E$39=\"Endemic but PC is not required\",IF(COUNTRY_INFO!$H99=1,COUNTRY_INFO!F99+COUNTRY_INFO!G99,0),IF(COUNTRY_INFO!$H99=1,COUNTRY_INFO!F99+COUNTRY_INFO!G99,IF(COUNTRY_INFO!$I99=1,IF(COUNTRY_INFO!M99>=(COUNTRY_INFO!F99+COUNTRY_INFO!G99),COUNTRY_INFO!F99+COUNTRY_INFO!G99,COUNTRY_INFO!$M99),0))))","v":0},{"$f":"IF(AND(INTRO!$E$39=\"Non-endemic\",INTRO!$E$37=\"Non-endemic\"),\"Not required\",IF(INTRO!$E$39=\"Non-endemic\",\"Treat with DEC\",COUNTRY_INFO!V99))","v":0},{"$f":"IF(INTRO!$E$39<>\"Non-endemic\",COUNTRY_INFO!W99,\"Not required\")","v":0},{"$f":"IF(COUNTRY_INFO!H99=1, IF($E99=1,$D99, 0),0)","v":0},{"$f":"IF(COUNTRY_INFO!I99=1, IF(AND(COUNTRY_INFO!$I99=1,$F99<>0),IF(COUNTRY_INFO!M99>=(COUNTRY_INFO!F99+COUNTRY_INFO!G99),COUNTRY_INFO!F99+COUNTRY_INFO!G99,COUNTRY_INFO!$M99), 0),0)","v":0},0,0,0,0,null,0]
[{"$f":"IF(INTRO!$E$39=\"Non-endemic\",\" \",IF(COUNTRY_INFO!A100=0,\" \",COUNTRY_INFO!A100))","v":"Ghana"},{"$f":"IF(INTRO!$E$39=\"Non-endemic\",\" \",IF(COUNTRY_INFO!B100=0,\" \",COUNTRY_INFO!B100))","v":"Central"},{"$f":"IF(INTRO!$E$39=\"Non-endemic\",\" \",IF(COUNTRY_INFO!C100=0,\" \",COUNTRY_INFO!C100))","v":"Twifo-Ati-Mokwa"},{"$f":"IF(INTRO!$E$39=\"Non-endemic\",0,IF(INTRO!$E$39=\"Endemic but PC is not required\",IF(COUNTRY_INFO!$H100=1,COUNTRY_INFO!F100+COUNTRY_INFO!G100,0),IF(COUNTRY_INFO!$H100=1,COUNTRY_INFO!F100+COUNTRY_INFO!G100,IF(COUNTRY_INFO!$I100=1,IF(COUNTRY_INFO!M100>=(COUNTRY_INFO!F100+COUNTRY_INFO!G100),COUNTRY_INFO!F100+COUNTRY_INFO!G100,COUNTRY_INFO!$M100),0))))","v":63852},{"$f":"IF(AND(INTRO!$E$39=\"Non-endemic\",INTRO!$E$37=\"Non-endemic\"),\"Not required\",IF(INTRO!$E$39=\"Non-endemic\",\"Treat with DEC\",COUNTRY_INFO!V100))","v":0},{"$f":"IF(INTRO!$E$39<>\"Non-endemic\",COUNTRY_INFO!W100,\"Not required\")","v":2},{"$f":"IF(COUNTRY_INFO!H100=1, IF($E100=1,$D100, 0),0)","v":0},{"$f":"IF(COUNTRY_INFO!I100=1, IF(AND(COUNTRY_INFO!$I100=1,$F100<>0),IF(COUNTRY_INFO!M100>=(COUNTRY_INFO!F100+COUNTRY_INFO!G100),COUNTRY_INFO!F100+COUNTRY_INFO!G100,COUNTRY_INFO!$M100), 0),0)","v":63852},0,357571.19999999995,0,357571.19999999995,null,357571.19999999995]
[{"$f":"IF(INTRO!$E$39=\"Non-endemic\",\" \",IF(COUNTRY_INFO!A101=0,\" \",COUNTRY_INFO!A101))","v":"Ghana"},{"$f":"IF(INTRO!$E$39=\"Non-endemic\",\" \",IF(COUNTRY_INFO!B101=0,\" \",COUNTRY_INFO!B101))","v":"Central"},{"$f":"IF(INTRO!$E$39=\"Non-endemic\",\" \",IF(COUNTRY_INFO!C101=0,\" \",COUNTRY_INFO!C101))","v":"Twifo-Hemang Lower Denkyira"},{"$f":"IF(INTRO!$E$39=\"Non-endemic\",0,IF(INTRO!$E$39=\"Endemic but PC is not required\",IF(COUNTRY_INFO!$H101=1,COUNTRY_INFO!F101+COUNTRY_INFO!G101,0),IF(COUNTRY_INFO!$H101=1,COUNTRY_INFO!F101+COUNTRY_INFO!G101,IF(COUNTRY_INFO!$I101=1,IF(COUNTRY_INFO!M101>=(COUNTRY_INFO!F101+COUNTRY_INFO!G101),COUNTRY_INFO!F101+COUNTRY_INFO!G101,COUNTRY_INFO!$M101),0))))","v":57005},{"$f":"IF(AND(INTRO!$E$39=\"Non-endemic\",INTRO!$E$37=\"Non-endemic\"),\"Not required\",IF(INTRO!$E$39=\"Non-endemic\",\"Treat with DEC\",COUNTRY_INFO!V101))","v":0},{"$f":"IF(INTRO!$E$39<>\"Non-endemic\",COUNTRY_INFO!W101,\"Not required\")","v":2},{"$f":"IF(COUNTRY_INFO!H101=1, IF($E101=1,$D101, 0),0)","v":0},{"$f":"IF(COUNTRY_INFO!I101=1, IF(AND(COUNTRY_INFO!$I101=1,$F101<>0),IF(COUNTRY_INFO!M101>=(COUNTRY_INFO!F101+COUNTRY_INFO!G101),COUNTRY_INFO!F101+COUNTRY_INFO!G101,COUNTRY_INFO!$M101), 0),0)","v":57005},0,319228,0,319228,null,319228]
[{"$f":"IF(INTRO!$E$39=\"Non-endemic\",\" \",IF(COUNTRY_INFO!A102=0,\" \",COUNTRY_INFO!A102))","v":"Ghana"},{"$f":"IF(INTRO!$E$39=\"Non-endemic\",\" \",IF(COUNTRY_INFO!B102=0,\" \",COUNTRY_INFO!B102))","v":"Central"},{"$f":"IF(INTRO!$E$39=\"Non-endemic\",\" \",IF(COUNTRY_INFO!C102=0,\" \",COUNTRY_INFO!C102))","v":"Upper Denkyira East"},{"$f":"IF(INTRO!$E$39=\"Non-endemic\",0,IF(INTRO!$E$39=\"Endemic but PC is not required\",IF(COUNTRY_INFO!$H102=1,COUNTRY_INFO!F102+COUNTRY_INFO!G102,0),IF(COUNTRY_INFO!$H102=1,COUNTRY_INFO!F102+COUNTRY_INFO!G102,IF(COUNTRY_INFO!$I102=1,IF(COUNTRY_INFO!M102>=(COUNTRY_INFO!F102+COUNTRY_INFO!G102),COUNTRY_INFO!F102+COUNTRY_INFO!G102,COUNTRY_INFO!$M102),0))))","v":61569},{"$f":"IF(AND(INTRO!$E$39=\"Non-endemic\",INTRO!$E$37=\"Non-endemic\"),\"Not required\",IF(INTRO!$E$39=\"Non-endemic\",\"Treat with DEC\",COUNTRY_INFO!V102))","v":0},{"$f":"IF(INTRO!$E$39<>\"Non-endemic\",COUNTRY_INFO!W102,\"Not required\")","v":2},{"$f":"IF(COUNTRY_INFO!H102=1, IF($E102=1,$D102, 0),0)","v":0},{"$f":"IF(COUNTRY_INFO!I102=1, IF(AND(COUNTRY_INFO!$I102=1,$F102<>0),IF(COUNTRY_INFO!M102>=(COUNTRY_INFO!F102+COUNTRY_INFO!G102),COUNTRY_INFO!F102+COUNTRY_INFO!G102,COUNTRY_INFO!$M102), 0),0)","v":61569},0,344786.39999999997,0,344786.39999999997,null,344786.39999999997]
[{"$f":"IF(INTRO!$E$39=\"Non-endemic\",\" \",IF(COUNTRY_INFO!A103=0,\" \",COUNTRY_INFO!A103))","v":"Ghana"},{"$f":"IF(INTRO!$E$39=\"Non-endemic\",\" \",IF(COUNTRY_INFO!B103=0,\" \",COUNTRY_INFO!B103))","v":"Central"},{"$f":"IF(INTRO!$E$39=\"Non-endemic\",\" \",IF(COUNTRY_INFO!C103=0,\" \",COUNTRY_INFO!C103))","v":"Upper Denkyira West"},{"$f":"IF(INTRO!$E$39=\"Non-endemic\",0,IF(INTRO!$E$39=\"Endemic but PC is not required\",IF(COUNTRY_INFO!$H103=1,COUNTRY_INFO!F103+COUNTRY_INFO!G103,0),IF(COUNTRY_INFO!$H103=1,COUNTRY_INFO!F103+COUNTRY_INFO!G103,IF(COUNTRY_INFO!$I103=1,IF(COUNTRY_INFO!M103>=(COUNTRY_INFO!F103+COUNTRY_INFO!G103),COUNTRY_INFO!F103+COUNTRY_INFO!G103,COUNTRY_INFO!$M103),0))))","v":61569},{"$f":"IF(AND(INTRO!$E$39=\"Non-endemic\",INTRO!$E$37=\"Non-endemic\"),\"Not required\",IF(INTRO!$E$39=\"Non-endemic\",\"Treat with DEC\",COUNTRY_INFO!V103))","v":0},{"$f":"IF(INTRO!$E$39<>\"Non-endemic\",COUNTRY_INFO!W103,\"Not required\")","v":2},{"$f":"IF(COUNTRY_INFO!H103=1, IF($E103=1,$D103, 0),0)","v":0},{"$f":"IF(COUNTRY_INFO!I103=1, IF(AND(COUNTRY_INFO!$I103=1,$F103<>0),IF(COUNTRY_INFO!M103>=(COUNTRY_INFO!F103+COUNTRY_INFO!G103),COUNTRY_INFO!F103+COUNTRY_INFO!G103,COUNTRY_INFO!$M103), 0),0)","v":61569},0,344786.39999999997,0,344786.39999999997,null,344786.39999999997]
[{"$f":"IF(INTRO!$E$39=\"Non-endemic\",\" \",IF(COUNTRY_INFO!A104=0,\" \",COUNTRY_INFO!A104))","v":"Ghana"},{"$f":"IF(INTRO!$E$39=\"Non-endemic\",\" \",IF(COUNTRY_INFO!B104=0,\" \",COUNTRY_INFO!B104))","v":"Eastern"},{"$f":"IF(INTRO!$E$39=\"Non-endemic\",\" \",IF(COUNTRY_INFO!C104=0,\" \",COUNTRY_INFO!C104))","v":"Abuakwa North"},{"$f":"IF(INTRO!$E$39=\"Non-endemic\",0,IF(INTRO!$E$39=\"Endemic but PC is not required\",IF(COUNTRY_INFO!$H104=1,COUNTRY_INFO!F104+COUNTRY_INFO!G104,0),IF(COUNTRY_INFO!$H104=1,COUNTRY_INFO!F104+COUNTRY_INFO!G104,IF(COUNTRY_INFO!$I104=1,IF(COUNTRY_INFO!M104>=(COUNTRY_INFO!F104+COUNTRY_INFO!G104),COUNTRY_INFO!F104+COUNTRY_INFO!G104,COUNTRY_INFO!$M104),0))))","v":70550},{"$f":"IF(AND(INTRO!$E$39=\"Non-endemic\",INTRO!$E$37=\"Non-endemic\"),\"Not required\",IF(INTRO!$E$39=\"Non-endemic\",\"Treat with DEC\",COUNTRY_INFO!V104))","v":0},{"$f":"IF(INTRO!$E$39<>\"Non-endemic\",COUNTRY_INFO!W104,\"Not required\")","v":2},{"$f":"IF(COUNTRY_INFO!H104=1, IF($E104=1,$D104, 0),0)","v":0},{"$f":"IF(COUNTRY_INFO!I104=1, IF(AND(COUNTRY_INFO!$I104=1,$F104<>0),IF(COUNTRY_INFO!M104>=(COUNTRY_INFO!F104+COUNTRY_INFO!G104),COUNTRY_INFO!F104+COUNTRY_INFO!G104,COUNTRY_INFO!$M104), 0),0)","v":70550},0,395080,0,395080,null,395080]
[{"$f":"IF(INTRO!$E$39=\"Non-endemic\",\" \",IF(COUNTRY_INFO!A105=0,\" \",COUNTRY_INFO!A105))","v":"Ghana"},{"$f":"IF(INTRO!$E$39=\"Non-endemic\",\" \",IF(COUNTRY_INFO!B105=0,\" \",COUNTRY_INFO!B105))","v":"Eastern"},{"$f":"IF(INTRO!$E$39=\"Non-endemic\",\" \",IF(COUNTRY_INFO!C105=0,\" \",COUNTRY_INFO!C105))","v":"Abuakwa South"},{"$f":"IF(INTRO!$E$39=\"Non-endemic\",0,IF(INTRO!$E$39=\"Endemic but PC is not required\",IF(COUNTRY_INFO!$H105=1,COUNTRY_INFO!F105+COUNTRY_INFO!G105,0),IF(COUNTRY_INFO!$H105=1,COUNTRY_INFO!F105+COUNTRY_INFO!G105,IF(COUNTRY_INFO!$I105=1,IF(COUNTRY_INFO!M105>=(COUNTRY_INFO!F105+COUNTRY_INFO!G105),COUNTRY_INFO!F105+COUNTRY_INFO!G105,COUNTRY_INFO!$M105),0))))","v":65325},{"$f":"IF(AND(INTRO!$E$39=\"Non-endemic\",INTRO!$E$37=\"Non-endemic\"),\"Not required\",IF(INTRO!$E$39=\"Non-endemic\",\"Treat with DEC\",COUNTRY_INFO!V105))","v":0},{"$f":"IF(INTRO!$E$39<>\"Non-endemic\",COUNTRY_INFO!W105,\"Not required\")","v":2},{"$f":"IF(COUNTRY_INFO!H105=1, IF($E105=1,$D105, 0),0)","v":0},{"$f":"IF(COUNTRY_INFO!I105=1, IF(AND(COUNTRY_INFO!$I105=1,$F105<>0),IF(COUNTRY_INFO!M105>=(COUNTRY_INFO!F105+COUNTRY_INFO!G105),COUNTRY_INFO!F105+COUNTRY_INFO!G105,COUNTRY_INFO!$M105), 0),0)","v":65325},0,365820,0,365820,null,365820]
[{"$f":"IF(INTRO!$E$39=\"Non-endemic\",\" \",IF(COUNTRY_INFO!A106=0,\" \",COUNTRY_INFO!A106))","v":"Ghana"},{"$f":"IF(INTRO!$E$39=\"Non-endemic\",\" \",IF(COUNTRY_INFO!B106=0,\" \",COUNTRY_INFO!B106))","v":"Eastern"},{"$f":"IF(INTRO!$E$39=\"Non-endemic\",\" \",IF(COUNTRY_INFO!C106=0,\" \",COUNTRY_INFO!C106))","v":"Achiase"},{"$f":"IF(INTRO!$E$39=\"Non-endemic\",0,IF(INTRO!$E$39=\"Endemic but PC is not required\",IF(COUNTRY_INFO!$H106=1,COUNTRY_INFO!F106+COUNTRY_INFO!G106,0),IF(COUNTRY_INFO!$H106=1,COUNTRY_INFO!F106+COUNTRY_INFO!G106,IF(COUNTRY_INFO!$I106=1,IF(COUNTRY_INFO!M106>=(COUNTRY_INFO!F106+COUNTRY_INFO!G106),COUNTRY_INFO!F106+COUNTRY_INFO!G106,COUNTRY_INFO!$M106),0))))","v":52630},{"$f":"IF(AND(INTRO!$E$39=\"Non-endemic\",INTRO!$E$37=\"Non-endemic\"),\"Not required\",IF(INTRO!$E$39=\"Non-endemic\",\"Treat with DEC\",COUNTRY_INFO!V106))","v":0},{"$f":"IF(INTRO!$E$39<>\"Non-endemic\",COUNTRY_INFO!W106,\"Not required\")","v":2},{"$f":"IF(COUNTRY_INFO!H106=1, IF($E106=1,$D106, 0),0)","v":0},{"$f":"IF(COUNTRY_INFO!I106=1, IF(AND(COUNTRY_INFO!$I106=1,$F106<>0),IF(COUNTRY_INFO!M106>=(COUNTRY_INFO!F106+COUNTRY_INFO!G106),COUNTRY_INFO!F106+COUNTRY_INFO!G106,COUNTRY_INFO!$M106), 0),0)","v":52630},0,294728,0,294728,null,294728]
[{"$f":"IF(INTRO!$E$39=\"Non-endemic\",\" \",IF(COUNTRY_INFO!A107=0,\" \",COUNTRY_INFO!A107))","v":"Ghana"},{"$f":"IF(INTRO!$E$39=\"Non-endemic\",\" \",IF(COUNTRY_INFO!B107=0,\" \",COUNTRY_INFO!B107))","v":"Eastern"},{"$f":"IF(INTRO!$E$39=\"Non-endemic\",\" \",IF(COUNTRY_INFO!C107=0,\" \",COUNTRY_INFO!C107))","v":"Akwapim North"},{"$f":"IF(INTRO!$E$39=\"Non-endemic\",0,IF(INTRO!$E$39=\"Endemic but PC is not required\",IF(COUNTRY_INFO!$H107=1,COUNTRY_INFO!F107+COUNTRY_INFO!G107,0),IF(COUNTRY_INFO!$H107=1,COUNTRY_INFO!F107+COUNTRY_INFO!G107,IF(COUNTRY_INFO!$I107=1,IF(COUNTRY_INFO!M107>=(COUNTRY_INFO!F107+COUNTRY_INFO!G107),COUNTRY_INFO!F107+COUNTRY_INFO!G107,COUNTRY_INFO!$M107),0))))","v":54556},{"$f":"IF(AND(INTRO!$E$39=\"Non-endemic\",INTRO!$E$37=\"Non-endemic\"),\"Not required\",IF(INTRO!$E$39=\"Non-endemic\",\"Treat with DEC\",COUNTRY_INFO!V107))","v":0},{"$f":"IF(INTRO!$E$39<>\"Non-endemic\",COUNTRY_INFO!W107,\"Not required\")","v":2},{"$f":"IF(COUNTRY_INFO!H107=1, IF($E107=1,$D107, 0),0)","v":0},{"$f":"IF(COUNTRY_INFO!I107=1, IF(AND(COUNTRY_INFO!$I107=1,$F107<>0),IF(COUNTRY_INFO!M107>=(COUNTRY_INFO!F107+COUNTRY_INFO!G107),COUNTRY_INFO!F107+COUNTRY_INFO!G107,COUNTRY_INFO!$M107), 0),0)","v":54556},0,305513.59999999998,0,305513.59999999998,null,305513.59999999998]
[{"$f":"IF(INTRO!$E$39=\"Non-endemic\",\" \",IF(COUNTRY_INFO!A108=0,\" \",COUNTRY_INFO!A108))","v":"Ghana"},{"$f":"IF(INTRO!$E$39=\"Non-endemic\",\" \",IF(COUNTRY_INFO!B108=0,\" \",COUNTRY_INFO!B108))","v":"Eastern"},{"$f":"IF(INTRO!$E$39=\"Non-endemic\",\" \",IF(COUNTRY_INFO!C108=0,\" \",COUNTRY_INFO!C108))","v":"Akwapim South"},{"$f":"IF(INTRO!$E$39=\"Non-endemic\",0,IF(INTRO!$E$39=\"Endemic but PC is not required\",IF(COUNTRY_INFO!$H108=1,COUNTRY_INFO!F108+COUNTRY_INFO!G108,0),IF(COUNTRY_INFO!$H108=1,COUNTRY_INFO!F108+COUNTRY_INFO!G108,IF(COUNTRY_INFO!$I108=1,IF(COUNTRY_INFO!M108>=(COUNTRY_INFO!F108+COUNTRY_INFO!G108),COUNTRY_INFO!F108+COUNTRY_INFO!G108,COUNTRY_INFO!$M108),0))))","v":0},{"$f":"IF(AND(INTRO!$E$39=\"Non-endemic\",INTRO!$E$37=\"Non-endemic\"),\"Not required\",IF(INTRO!$E$39=\"Non-endemic\",\"Treat with DEC\",COUNTRY_INFO!V108))","v":0},{"$f":"IF(INTRO!$E$39<>\"Non-endemic\",COUNTRY_INFO!W108,\"Not required\")","v":0},{"$f":"IF(COUNTRY_INFO!H108=1, IF($E108=1,$D108, 0),0)","v":0},{"$f":"IF(COUNTRY_INFO!I108=1, IF(AND(COUNTRY_INFO!$I108=1,$F108<>0),IF(COUNTRY_INFO!M108>=(COUNTRY_INFO!F108+COUNTRY_INFO!G108),COUNTRY_INFO!F108+COUNTRY_INFO!G108,COUNTRY_INFO!$M108), 0),0)","v":0},0,0,0,0,null,0]
[{"$f":"IF(INTRO!$E$39=\"Non-endemic\",\" \",IF(COUNTRY_INFO!A109=0,\" \",COUNTRY_INFO!A109))","v":"Ghana"},{"$f":"IF(INTRO!$E$39=\"Non-endemic\",\" \",IF(COUNTRY_INFO!B109=0,\" \",COUNTRY_INFO!B109))","v":"Eastern"},{"$f":"IF(INTRO!$E$39=\"Non-endemic\",\" \",IF(COUNTRY_INFO!C109=0,\" \",COUNTRY_INFO!C109))","v":"Akyemansa"},{"$f":"IF(INTRO!$E$39=\"Non-endemic\",0,IF(INTRO!$E$39=\"Endemic but PC is not required\",IF(COUNTRY_INFO!$H109=1,COUNTRY_INFO!F109+COUNTRY_INFO!G109,0),IF(COUNTRY_INFO!$H109=1,COUNTRY_INFO!F109+COUNTRY_INFO!G109,IF(COUNTRY_INFO!$I109=1,IF(COUNTRY_INFO!M109>=(COUNTRY_INFO!F109+COUNTRY_INFO!G109),COUNTRY_INFO!F109+COUNTRY_INFO!G109,COUNTRY_INFO!$M109),0))))","v":85032},{"$f":"IF(AND(INTRO!$E$39=\"Non-endemic\",INTRO!$E$37=\"Non-endemic\"),\"Not required\",IF(INTRO!$E$39=\"Non-endemic\",\"Treat with DEC\",COUNTRY_INFO!V109))","v":0},{"$f":"IF(INTRO!$E$39<>\"Non-endemic\",COUNTRY_INFO!W109,\"Not required\")","v":2},{"$f":"IF(COUNTRY_INFO!H109=1, IF($E109=1,$D109, 0),0)","v":0},{"$f":"IF(COUNTRY_INFO!I109=1, IF(AND(COUNTRY_INFO!$I109=1,$F109<>0),IF(COUNTRY_INFO!M109>=(COUNTRY_INFO!F109+COUNTRY_INFO!G109),COUNTRY_INFO!F109+COUNTRY_INFO!G109,COUNTRY_INFO!$M109), 0),0)","v":85032},0,476179.19999999995,0,476179.19999999995,null,476179.19999999995]
[{"$f":"IF(INTRO!$E$39=\"Non-endemic\",\" \",IF(COUNTRY_INFO!A110=0,\" \",COUNTRY_INFO!A110))","v":"Ghana"},{"$f":"IF(INTRO!$E$39=\"Non-endemic\",\" \",IF(COUNTRY_INFO!B110=0,\" \",COUNTRY_INFO!B110))","v":"Eastern"},{"$f":"IF(INTRO!$E$39=\"Non-endemic\",\" \",IF(COUNTRY_INFO!C110=0,\" \",COUNTRY_INFO!C110))","v":"Asene Manso Akroso"},{"$f":"IF(INTRO!$E$39=\"Non-endemic\",0,IF(INTRO!$E$39=\"Endemic but PC is not required\",IF(COUNTRY_INFO!$H110=1,COUNTRY_INFO!F110+COUNTRY_INFO!G110,0),IF(COUNTRY_INFO!$H110=1,COUNTRY_INFO!F110+COUNTRY_INFO!G110,IF(COUNTRY_INFO!$I110=1,IF(COUNTRY_INFO!M110>=(COUNTRY_INFO!F110+COUNTRY_INFO!G110),COUNTRY_INFO!F110+COUNTRY_INFO!G110,COUNTRY_INFO!$M110),0))))","v":72385},{"$f":"IF(AND(INTRO!$E$39=\"Non-endemic\",INTRO!$E$37=\"Non-endemic\"),\"Not required\",IF(INTRO!$E$39=\"Non-endemic\",\"Treat with DEC\",COUNTRY_INFO!V110))","v":0},{"$f":"IF(INTRO!$E$39<>\"Non-endemic\",COUNTRY_INFO!W110,\"Not required\")","v":2},{"$f":"IF(COUNTRY_INFO!H110=1, IF($E110=1,$D110, 0),0)","v":0},{"$f":"IF(COUNTRY_INFO!I110=1, IF(AND(COUNTRY_INFO!$I110=1,$F110<>0),IF(COUNTRY_INFO!M110>=(COUNTRY_INFO!F110+COUNTRY_INFO!G110),COUNTRY_INFO!F110+COUNTRY_INFO!G110,COUNTRY_INFO!$M110), 0),0)","v":72385},0,405356,0,405356,null,405356]
[{"$f":"IF(INTRO!$E$39=\"Non-endemic\",\" \",IF(COUNTRY_INFO!A111=0,\" \",COUNTRY_INFO!A111))","v":"Ghana"},{"$f":"IF(INTRO!$E$39=\"Non-endemic\",\" \",IF(COUNTRY_INFO!B111=0,\" \",COUNTRY_INFO!B111))","v":"Eastern"},{"$f":"IF(INTRO!$E$39=\"Non-endemic\",\" \",IF(COUNTRY_INFO!C111=0,\" \",COUNTRY_INFO!C111))","v":"Asuogyaman"},{"$f":"IF(INTRO!$E$39=\"Non-endemic\",0,IF(INTRO!$E$39=\"Endemic but PC is not required\",IF(COUNTRY_INFO!$H111=1,COUNTRY_INFO!F111+COUNTRY_INFO!G111,0),IF(COUNTRY_INFO!$H111=1,COUNTRY_INFO!F111+COUNTRY_INFO!G111,IF(COUNTRY_INFO!$I111=1,IF(COUNTRY_INFO!M111>=(COUNTRY_INFO!F111+COUNTRY_INFO!G111),COUNTRY_INFO!F111+COUNTRY_INFO!G111,COUNTRY_INFO!$M111),0))))","v":0},{"$f":"IF(AND(INTRO!$E$39=\"Non-endemic\",INTRO!$E$37=\"Non-endemic\"),\"Not required\",IF(INTRO!$E$39=\"Non-endemic\",\"Treat with DEC\",COUNTRY_INFO!V111))","v":0},{"$f":"IF(INTRO!$E$39<>\"Non-endemic\",COUNTRY_INFO!W111,\"Not required\")","v":0},{"$f":"IF(COUNTRY_INFO!H111=1, IF($E111=1,$D111, 0),0)","v":0},{"$f":"IF(COUNTRY_INFO!I111=1, IF(AND(COUNTRY_INFO!$I111=1,$F111<>0),IF(COUNTRY_INFO!M111>=(COUNTRY_INFO!F111+COUNTRY_INFO!G111),COUNTRY_INFO!F111+COUNTRY_INFO!G111,COUNTRY_INFO!$M111), 0),0)","v":0},0,0,0,0,null,0]
[{"$f":"IF(INTRO!$E$39=\"Non-endemic\",\" \",IF(COUNTRY_INFO!A112=0,\" \",COUNTRY_INFO!A112))","v":"Ghana"},{"$f":"IF(INTRO!$E$39=\"Non-endemic\",\" \",IF(COUNTRY_INFO!B112=0,\" \",COUNTRY_INFO!B112))","v":"Eastern"},{"$f":"IF(INTRO!$E$39=\"Non-endemic\",\" \",IF(COUNTRY_INFO!C112=0,\" \",COUNTRY_INFO!C112))","v":"Atiwa East"},{"$f":"IF(INTRO!$E$39=\"Non-endemic\",0,IF(INTRO!$E$39=\"Endemic but PC is not required\",IF(COUNTRY_INFO!$H112=1,COUNTRY_INFO!F112+COUNTRY_INFO!G112,0),IF(COUNTRY_INFO!$H112=1,COUNTRY_INFO!F112+COUNTRY_INFO!G112,IF(COUNTRY_INFO!$I112=1,IF(COUNTRY_INFO!M112>=(COUNTRY_INFO!F112+COUNTRY_INFO!G112),COUNTRY_INFO!F112+COUNTRY_INFO!G112,COUNTRY_INFO!$M112),0))))","v":56456},{"$f":"IF(AND(INTRO!$E$39=\"Non-endemic\",INTRO!$E$37=\"Non-endemic\"),\"Not required\",IF(INTRO!$E$39=\"Non-endemic\",\"Treat with DEC\",COUNTRY_INFO!V112))","v":0},{"$f":"IF(INTRO!$E$39<>\"Non-endemic\",COUNTRY_INFO!W112,\"Not required\")","v":2},{"$f":"IF(COUNTRY_INFO!H112=1, IF($E112=1,$D112, 0),0)","v":0},{"$f":"IF(COUNTRY_INFO!I112=1, IF(AND(COUNTRY_INFO!$I112=1,$F112<>0),IF(COUNTRY_INFO!M112>=(COUNTRY_INFO!F112+COUNTRY_INFO!G112),COUNTRY_INFO!F112+COUNTRY_INFO!G112,COUNTRY_INFO!$M112), 0),0)","v":56456},0,316153.59999999998,0,316153.59999999998,null,316153.59999999998]
[{"$f":"IF(INTRO!$E$39=\"Non-endemic\",\" \",IF(COUNTRY_INFO!A113=0,\" \",COUNTRY_INFO!A113))","v":"Ghana"},{"$f":"IF(INTRO!$E$39=\"Non-endemic\",\" \",IF(COUNTRY_INFO!B113=0,\" \",COUNTRY_INFO!B113))","v":"Eastern"},{"$f":"IF(INTRO!$E$39=\"Non-endemic\",\" \",IF(COUNTRY_INFO!C113=0,\" \",COUNTRY_INFO!C113))","v":"Atiwa West"},{"$f":"IF(INTRO!$E$39=\"Non-endemic\",0,IF(INTRO!$E$39=\"Endemic but PC is not required\",IF(COUNTRY_INFO!$H113=1,COUNTRY_INFO!F113+COUNTRY_INFO!G113,0),IF(COUNTRY_INFO!$H113=1,COUNTRY_INFO!F113+COUNTRY_INFO!G113,IF(COUNTRY_INFO!$I113=1,IF(COUNTRY_INFO!M113>=(COUNTRY_INFO!F113+COUNTRY_INFO!G113),COUNTRY_INFO!F113+COUNTRY_INFO!G113,COUNTRY_INFO!$M113),0))))","v":36254},{"$f":"IF(AND(INTRO!$E$39=\"Non-endemic\",INTRO!$E$37=\"Non-endemic\"),\"Not required\",IF(INTRO!$E$39=\"Non-endemic\",\"Treat with DEC\",COUNTRY_INFO!V113))","v":0},{"$f":"IF(INTRO!$E$39<>\"Non-endemic\",COUNTRY_INFO!W113,\"Not required\")","v":2},{"$f":"IF(COUNTRY_INFO!H113=1, IF($E113=1,$D113, 0),0)","v":0},{"$f":"IF(COUNTRY_INFO!I113=1, IF(AND(COUNTRY_INFO!$I113=1,$F113<>0),IF(COUNTRY_INFO!M113>=(COUNTRY_INFO!F113+COUNTRY_INFO!G113),COUNTRY_INFO!F113+COUNTRY_INFO!G113,COUNTRY_INFO!$M113), 0),0)","v":36254},0,203022.4,0,203022.4,null,203022.4]
[{"$f":"IF(INTRO!$E$39=\"Non-endemic\",\" \",IF(COUNTRY_INFO!A114=0,\" \",COUNTRY_INFO!A114))","v":"Ghana"},{"$f":"IF(INTRO!$E$39=\"Non-endemic\",\" \",IF(COUNTRY_INFO!B114=0,\" \",COUNTRY_INFO!B114))","v":"Eastern"},{"$f":"IF(INTRO!$E$39=\"Non-endemic\",\" \",IF(COUNTRY_INFO!C114=0,\" \",COUNTRY_INFO!C114))","v":"Ayensuano"},{"$f":"IF(INTRO!$E$39=\"Non-endemic\",0,IF(INTRO!$E$39=\"Endemic but PC is not required\",IF(COUNTRY_INFO!$H114=1,COUNTRY_INFO!F114+COUNTRY_INFO!G114,0),IF(COUNTRY_INFO!$H114=1,COUNTRY_INFO!F114+COUNTRY_INFO!G114,IF(COUNTRY_INFO!$I114=1,IF(COUNTRY_INFO!M114>=(COUNTRY_INFO!F114+COUNTRY_INFO!G114),COUNTRY_INFO!F114+COUNTRY_INFO!G114,COUNTRY_INFO!$M114),0))))","v":0},{"$f":"IF(AND(INTRO!$E$39=\"Non-endemic\",INTRO!$E$37=\"Non-endemic\"),\"Not required\",IF(INTRO!$E$39=\"Non-endemic\",\"Treat with DEC\",COUNTRY_INFO!V114))","v":0},{"$f":"IF(INTRO!$E$39<>\"Non-endemic\",COUNTRY_INFO!W114,\"Not required\")","v":0},{"$f":"IF(COUNTRY_INFO!H114=1, IF($E114=1,$D114, 0),0)","v":0},{"$f":"IF(COUNTRY_INFO!I114=1, IF(AND(COUNTRY_INFO!$I114=1,$F114<>0),IF(COUNTRY_INFO!M114>=(COUNTRY_INFO!F114+COUNTRY_INFO!G114),COUNTRY_INFO!F114+COUNTRY_INFO!G114,COUNTRY_INFO!$M114), 0),0)","v":0},0,0,0,0,null,0]
[{"$f":"IF(INTRO!$E$39=\"Non-endemic\",\" \",IF(COUNTRY_INFO!A115=0,\" \",COUNTRY_INFO!A115))","v":"Ghana"},{"$f":"IF(INTRO!$E$39=\"Non-endemic\",\" \",IF(COUNTRY_INFO!B115=0,\" \",COUNTRY_INFO!B115))","v":"Eastern"},{"$f":"IF(INTRO!$E$39=\"Non-endemic\",\" \",IF(COUNTRY_INFO!C115=0,\" \",COUNTRY_INFO!C115))","v":"Birim Central"},{"$f":"IF(INTRO!$E$39=\"Non-endemic\",0,IF(INTRO!$E$39=\"Endemic but PC is not required\",IF(COUNTRY_INFO!$H115=1,COUNTRY_INFO!F115+COUNTRY_INFO!G115,0),IF(COUNTRY_INFO!$H115=1,COUNTRY_INFO!F115+COUNTRY_INFO!G115,IF(COUNTRY_INFO!$I115=1,IF(COUNTRY_INFO!M115>=(COUNTRY_INFO!F115+COUNTRY_INFO!G115),COUNTRY_INFO!F115+COUNTRY_INFO!G115,COUNTRY_INFO!$M115),0))))","v":71268},{"$f":"IF(AND(INTRO!$E$39=\"Non-endemic\",INTRO!$E$37=\"Non-endemic\"),\"Not required\",IF(INTRO!$E$39=\"Non-endemic\",\"Treat with DEC\",COUNTRY_INFO!V115))","v":0},{"$f":"IF(INTRO!$E$39<>\"Non-endemic\",COUNTRY_INFO!W115,\"Not required\")","v":2},{"$f":"IF(COUNTRY_INFO!H115=1, IF($E115=1,$D115, 0),0)","v":0},{"$f":"IF(COUNTRY_INFO!I115=1, IF(AND(COUNTRY_INFO!$I115=1,$F115<>0),IF(COUNTRY_INFO!M115>=(COUNTRY_INFO!F115+COUNTRY_INFO!G115),COUNTRY_INFO!F115+COUNTRY_INFO!G115,COUNTRY_INFO!$M115), 0),0)","v":71268},0,399100.8,0,399100.8,null,399100.8]
[{"$f":"IF(INTRO!$E$39=\"Non-endemic\",\" \",IF(COUNTRY_INFO!A116=0,\" \",COUNTRY_INFO!A116))","v":"Ghana"},{"$f":"IF(INTRO!$E$39=\"Non-endemic\",\" \",IF(COUNTRY_INFO!B116=0,\" \",COUNTRY_INFO!B116))","v":"Eastern"},{"$f":"IF(INTRO!$E$39=\"Non-endemic\",\" \",IF(COUNTRY_INFO!C116=0,\" \",COUNTRY_INFO!C116))","v":"Birim North"},{"$f":"IF(INTRO!$E$39=\"Non-endemic\",0,IF(INTRO!$E$39=\"Endemic but PC is not required\",IF(COUNTRY_INFO!$H116=1,COUNTRY_INFO!F116+COUNTRY_INFO!G116,0),IF(COUNTRY_INFO!$H116=1,COUNTRY_INFO!F116+COUNTRY_INFO!G116,IF(COUNTRY_INFO!$I116=1,IF(COUNTRY_INFO!M116>=(COUNTRY_INFO!F116+COUNTRY_INFO!G116),COUNTRY_INFO!F116+COUNTRY_INFO!G116,COUNTRY_INFO!$M116),0))))","v":77215},{"$f":"IF(AND(INTRO!$E$39=\"Non-endemic\",INTRO!$E$37=\"Non-endemic\"),\"Not required\",IF(INTRO!$E$39=\"Non-endemic\",\"Treat with DEC\",COUNTRY_INFO!V116))","v":0},{"$f":"IF(INTRO!$E$39<>\"Non-endemic\",COUNTRY_INFO!W116,\"Not required\")","v":2},{"$f":"IF(COUNTRY_INFO!H116=1, IF($E116=1,$D116, 0),0)","v":0},{"$f":"IF(COUNTRY_INFO!I116=1, IF(AND(COUNTRY_INFO!$I116=1,$F116<>0),IF(COUNTRY_INFO!M116>=(COUNTRY_INFO!F116+COUNTRY_INFO!G116),COUNTRY_INFO!F116+COUNTRY_INFO!G116,COUNTRY_INFO!$M116), 0),0)","v":77215},0,432404,0,432404,null,432404]
[{"$f":"IF(INTRO!$E$39=\"Non-endemic\",\" \",IF(COUNTRY_INFO!A117=0,\" \",COUNTRY_INFO!A117))","v":"Ghana"},{"$f":"IF(INTRO!$E$39=\"Non-endemic\",\" \",IF(COUNTRY_INFO!B117=0,\" \",COUNTRY_INFO!B117))","v":"Eastern"},{"$f":"IF(INTRO!$E$39=\"Non-endemic\",\" \",IF(COUNTRY_INFO!C117=0,\" \",COUNTRY_INFO!C117))","v":"Birim South"},{"$f":"IF(INTRO!$E$39=\"Non-endemic\",0,IF(INTRO!$E$39=\"Endemic but PC is not required\",IF(COUNTRY_INFO!$H117=1,COUNTRY_INFO!F117+COUNTRY_INFO!G117,0),IF(COUNTRY_INFO!$H117=1,COUNTRY_INFO!F117+COUNTRY_INFO!G117,IF(COUNTRY_INFO!$I117=1,IF(COUNTRY_INFO!M117>=(COUNTRY_INFO!F117+COUNTRY_INFO!G117),COUNTRY_INFO!F117+COUNTRY_INFO!G117,COUNTRY_INFO!$M117),0))))","v":33302},{"$f":"IF(AND(INTRO!$E$39=\"Non-endemic\",INTRO!$E$37=\"Non-endemic\"),\"Not required\",IF(INTRO!$E$39=\"Non-endemic\",\"Treat with DEC\",COUNTRY_INFO!V117))","v":0},{"$f":"IF(INTRO!$E$39<>\"Non-endemic\",COUNTRY_INFO!W117,\"Not required\")","v":2},{"$f":"IF(COUNTRY_INFO!H117=1, IF($E117=1,$D117, 0),0)","v":0},{"$f":"IF(COUNTRY_INFO!I117=1, IF(AND(COUNTRY_INFO!$I117=1,$F117<>0),IF(COUNTRY_INFO!M117>=(COUNTRY_INFO!F117+COUNTRY_INFO!G117),COUNTRY_INFO!F117+COUNTRY_INFO!G117,COUNTRY_INFO!$M117), 0),0)","v":33302},0,186491.19999999998,0,186491.19999999998,null,186491.19999999998]
[{"$f":"IF(INTRO!$E$39=\"Non-endemic\",\" \",IF(COUNTRY_INFO!A118=0,\" \",COUNTRY_INFO!A118))","v":"Ghana"},{"$f":"IF(INTRO!$E$39=\"Non-endemic\",\" \",IF(COUNTRY_INFO!B118=0,\" \",COUNTRY_INFO!B118))","v":"Eastern"},{"$f":"IF(INTRO!$E$39=\"Non-endemic\",\" \",IF(COUNTRY_INFO!C118=0,\" \",COUNTRY_INFO!C118))","v":"Denkyembour"},{"$f":"IF(INTRO!$E$39=\"Non-endemic\",0,IF(INTRO!$E$39=\"Endemic but PC is not required\",IF(COUNTRY_INFO!$H118=1,COUNTRY_INFO!F118+COUNTRY_INFO!G118,0),IF(COUNTRY_INFO!$H118=1,COUNTRY_INFO!F118+COUNTRY_INFO!G118,IF(COUNTRY_INFO!$I118=1,IF(COUNTRY_INFO!M118>=(COUNTRY_INFO!F118+COUNTRY_INFO!G118),COUNTRY_INFO!F118+COUNTRY_INFO!G118,COUNTRY_INFO!$M118),0))))","v":0},{"$f":"IF(AND(INTRO!$E$39=\"Non-endemic\",INTRO!$E$37=\"Non-endemic\"),\"Not required\",IF(INTRO!$E$39=\"Non-endemic\",\"Treat with DEC\",COUNTRY_INFO!V118))","v":0},{"$f":"IF(INTRO!$E$39<>\"Non-endemic\",COUNTRY_INFO!W118,\"Not required\")","v":0},{"$f":"IF(COUNTRY_INFO!H118=1, IF($E118=1,$D118, 0),0)","v":0},{"$f":"IF(COUNTRY_INFO!I118=1, IF(AND(COUNTRY_INFO!$I118=1,$F118<>0),IF(COUNTRY_INFO!M118>=(COUNTRY_INFO!F118+COUNTRY_INFO!G118),COUNTRY_INFO!F118+COUNTRY_INFO!G118,COUNTRY_INFO!$M118), 0),0)","v":0},0,0,0,0,null,0]
[{"$f":"IF(INTRO!$E$39=\"Non-endemic\",\" \",IF(COUNTRY_INFO!A119=0,\" \",COUNTRY_INFO!A119))","v":"Ghana"},{"$f":"IF(INTRO!$E$39=\"Non-endemic\",\" \",IF(COUNTRY_INFO!B119=0,\" \",COUNTRY_INFO!B119))","v":"Eastern"},{"$f":"IF(INTRO!$E$39=\"Non-endemic\",\" \",IF(COUNTRY_INFO!C119=0,\" \",COUNTRY_INFO!C119))","v":"Fanteakwa North"},{"$f":"IF(INTRO!$E$39=\"Non-endemic\",0,IF(INTRO!$E$39=\"Endemic but PC is not required\",IF(COUNTRY_INFO!$H119=1,COUNTRY_INFO!F119+COUNTRY_INFO!G119,0),IF(COUNTRY_INFO!$H119=1,COUNTRY_INFO!F119+COUNTRY_INFO!G119,IF(COUNTRY_INFO!$I119=1,IF(COUNTRY_INFO!M119>=(COUNTRY_INFO!F119+COUNTRY_INFO!G119),COUNTRY_INFO!F119+COUNTRY_INFO!G119,COUNTRY_INFO!$M119),0))))","v":53227},{"$f":"IF(AND(INTRO!$E$39=\"Non-endemic\",INTRO!$E$37=\"Non-endemic\"),\"Not required\",IF(INTRO!$E$39=\"Non-endemic\",\"Treat with DEC\",COUNTRY_INFO!V119))","v":0},{"$f":"IF(INTRO!$E$39<>\"Non-endemic\",COUNTRY_INFO!W119,\"Not required\")","v":2},{"$f":"IF(COUNTRY_INFO!H119=1, IF($E119=1,$D119, 0),0)","v":0},{"$f":"IF(COUNTRY_INFO!I119=1, IF(AND(COUNTRY_INFO!$I119=1,$F119<>0),IF(COUNTRY_INFO!M119>=(COUNTRY_INFO!F119+COUNTRY_INFO!G119),COUNTRY_INFO!F119+COUNTRY_INFO!G119,COUNTRY_INFO!$M119), 0),0)","v":53227},0,298071.19999999995,0,298071.19999999995,null,298071.19999999995]
[{"$f":"IF(INTRO!$E$39=\"Non-endemic\",\" \",IF(COUNTRY_INFO!A120=0,\" \",COUNTRY_INFO!A120))","v":"Ghana"},{"$f":"IF(INTRO!$E$39=\"Non-endemic\",\" \",IF(COUNTRY_INFO!B120=0,\" \",COUNTRY_INFO!B120))","v":"Eastern"},{"$f":"IF(INTRO!$E$39=\"Non-endemic\",\" \",IF(COUNTRY_INFO!C120=0,\" \",COUNTRY_INFO!C120))","v":"Fanteakwa South"},{"$f":"IF(INTRO!$E$39=\"Non-endemic\",0,IF(INTRO!$E$39=\"Endemic but PC is not required\",IF(COUNTRY_INFO!$H120=1,COUNTRY_INFO!F120+COUNTRY_INFO!G120,0),IF(COUNTRY_INFO!$H120=1,COUNTRY_INFO!F120+COUNTRY_INFO!G120,IF(COUNTRY_INFO!$I120=1,IF(COUNTRY_INFO!M120>=(COUNTRY_INFO!F120+COUNTRY_INFO!G120),COUNTRY_INFO!F120+COUNTRY_INFO!G120,COUNTRY_INFO!$M120),0))))","v":50488},{"$f":"IF(AND(INTRO!$E$39=\"Non-endemic\",INTRO!$E$37=\"Non-endemic\"),\"Not required\",IF(INTRO!$E$39=\"Non-endemic\",\"Treat with DEC\",COUNTRY_INFO!V120))","v":0},{"$f":"IF(INTRO!$E$39<>\"Non-endemic\",COUNTRY_INFO!W120,\"Not required\")","v":2},{"$f":"IF(COUNTRY_INFO!H120=1, IF($E120=1,$D120, 0),0)","v":0},{"$f":"IF(COUNTRY_INFO!I120=1, IF(AND(COUNTRY_INFO!$I120=1,$F120<>0),IF(COUNTRY_INFO!M120>=(COUNTRY_INFO!F120+COUNTRY_INFO!G120),COUNTRY_INFO!F120+COUNTRY_INFO!G120,COUNTRY_INFO!$M120), 0),0)","v":50488},0,282732.79999999999,0,282732.79999999999,null,282732.79999999999]
[{"$f":"IF(INTRO!$E$39=\"Non-endemic\",\" \",IF(COUNTRY_INFO!A121=0,\" \",COUNTRY_INFO!A121))","v":"Ghana"},{"$f":"IF(INTRO!$E$39=\"Non-endemic\",\" \",IF(COUNTRY_INFO!B121=0,\" \",COUNTRY_INFO!B121))","v":"Eastern"},{"$f":"IF(INTRO!$E$39=\"Non-endemic\",\" \",IF(COUNTRY_INFO!C121=0,\" \",COUNTRY_INFO!C121))","v":"Kwaebibirem"},{"$f":"IF(INTRO!$E$39=\"Non-endemic\",0,IF(INTRO!$E$39=\"Endemic but PC is not required\",IF(COUNTRY_INFO!$H121=1,COUNTRY_INFO!F121+COUNTRY_INFO!G121,0),IF(COUNTRY_INFO!$H121=1,COUNTRY_INFO!F121+COUNTRY_INFO!G121,IF(COUNTRY_INFO!$I121=1,IF(COUNTRY_INFO!M121>=(COUNTRY_INFO!F121+COUNTRY_INFO!G121),COUNTRY_INFO!F121+COUNTRY_INFO!G121,COUNTRY_INFO!$M121),0))))","v":85157},{"$f":"IF(AND(INTRO!$E$39=\"Non-endemic\",INTRO!$E$37=\"Non-endemic\"),\"Not required\",IF(INTRO!$E$39=\"Non-endemic\",\"Treat with DEC\",COUNTRY_INFO!V121))","v":0},{"$f":"IF(INTRO!$E$39<>\"Non-endemic\",COUNTRY_INFO!W121,\"Not required\")","v":2},{"$f":"IF(COUNTRY_INFO!H121=1, IF($E121=1,$D121, 0),0)","v":0},{"$f":"IF(COUNTRY_INFO!I121=1, IF(AND(COUNTRY_INFO!$I121=1,$F121<>0),IF(COUNTRY_INFO!M121>=(COUNTRY_INFO!F121+COUNTRY_INFO!G121),COUNTRY_INFO!F121+COUNTRY_INFO!G121,COUNTRY_INFO!$M121), 0),0)","v":85157},0,476879.19999999995,0,476879.19999999995,null,476879.19999999995]
[{"$f":"IF(INTRO!$E$39=\"Non-endemic\",\" \",IF(COUNTRY_INFO!A122=0,\" \",COUNTRY_INFO!A122))","v":"Ghana"},{"$f":"IF(INTRO!$E$39=\"Non-endemic\",\" \",IF(COUNTRY_INFO!B122=0,\" \",COUNTRY_INFO!B122))","v":"Eastern"},{"$f":"IF(INTRO!$E$39=\"Non-endemic\",\" \",IF(COUNTRY_INFO!C122=0,\" \",COUNTRY_INFO!C122))","v":"Kwahu Afram Plains North"},{"$f":"IF(INTRO!$E$39=\"Non-endemic\",0,IF(INTRO!$E$39=\"Endemic but PC is not required\",IF(COUNTRY_INFO!$H122=1,COUNTRY_INFO!F122+COUNTRY_INFO!G122,0),IF(COUNTRY_INFO!$H122=1,COUNTRY_INFO!F122+COUNTRY_INFO!G122,IF(COUNTRY_INFO!$I122=1,IF(COUNTRY_INFO!M122>=(COUNTRY_INFO!F122+COUNTRY_INFO!G122),COUNTRY_INFO!F122+COUNTRY_INFO!G122,COUNTRY_INFO!$M122),0))))","v":32514},{"$f":"IF(AND(INTRO!$E$39=\"Non-endemic\",INTRO!$E$37=\"Non-endemic\"),\"Not required\",IF(INTRO!$E$39=\"Non-endemic\",\"Treat with DEC\",COUNTRY_INFO!V122))","v":0},{"$f":"IF(INTRO!$E$39<>\"Non-endemic\",COUNTRY_INFO!W122,\"Not required\")","v":2},{"$f":"IF(COUNTRY_INFO!H122=1, IF($E122=1,$D122, 0),0)","v":0},{"$f":"IF(COUNTRY_INFO!I122=1, IF(AND(COUNTRY_INFO!$I122=1,$F122<>0),IF(COUNTRY_INFO!M122>=(COUNTRY_INFO!F122+COUNTRY_INFO!G122),COUNTRY_INFO!F122+COUNTRY_INFO!G122,COUNTRY_INFO!$M122), 0),0)","v":32514},0,182078.4,0,182078.4,null,182078.4]
[{"$f":"IF(INTRO!$E$39=\"Non-endemic\",\" \",IF(COUNTRY_INFO!A123=0,\" \",COUNTRY_INFO!A123))","v":"Ghana"},{"$f":"IF(INTRO!$E$39=\"Non-endemic\",\" \",IF(COUNTRY_INFO!B123=0,\" \",COUNTRY_INFO!B123))","v":"Eastern"},{"$f":"IF(INTRO!$E$39=\"Non-endemic\",\" \",IF(COUNTRY_INFO!C123=0,\" \",COUNTRY_INFO!C123))","v":"Kwahu Afram Plains South"},{"$f":"IF(INTRO!$E$39=\"Non-endemic\",0,IF(INTRO!$E$39=\"Endemic but PC is not required\",IF(COUNTRY_INFO!$H123=1,COUNTRY_INFO!F123+COUNTRY_INFO!G123,0),IF(COUNTRY_INFO!$H123=1,COUNTRY_INFO!F123+COUNTRY_INFO!G123,IF(COUNTRY_INFO!$I123=1,IF(COUNTRY_INFO!M123>=(COUNTRY_INFO!F123+COUNTRY_INFO!G123),COUNTRY_INFO!F123+COUNTRY_INFO!G123,COUNTRY_INFO!$M123),0))))","v":17017},{"$f":"IF(AND(INTRO!$E$39=\"Non-endemic\",INTRO!$E$37=\"Non-endemic\"),\"Not required\",IF(INTRO!$E$39=\"Non-endemic\",\"Treat with DEC\",COUNTRY_INFO!V123))","v":0},{"$f":"IF(INTRO!$E$39<>\"Non-endemic\",COUNTRY_INFO!W123,\"Not required\")","v":2},{"$f":"IF(COUNTRY_INFO!H123=1, IF($E123=1,$D123, 0),0)","v":0},{"$f":"IF(COUNTRY_INFO!I123=1, IF(AND(COUNTRY_INFO!$I123=1,$F123<>0),IF(COUNTRY_INFO!M123>=(COUNTRY_INFO!F123+COUNTRY_INFO!G123),COUNTRY_INFO!F123+COUNTRY_INFO!G123,COUNTRY_INFO!$M123), 0),0)","v":17017},0,95295.2,0,95295.2,null,95295.2]
[{"$f":"IF(INTRO!$E$39=\"Non-endemic\",\" \",IF(COUNTRY_INFO!A124=0,\" \",COUNTRY_INFO!A124))","v":"Ghana"},{"$f":"IF(INTRO!$E$39=\"Non-endemic\",\" \",IF(COUNTRY_INFO!B124=0,\" \",COUNTRY_INFO!B124))","v":"Eastern"},{"$f":"IF(INTRO!$E$39=\"Non-endemic\",\" \",IF(COUNTRY_INFO!C124=0,\" \",COUNTRY_INFO!C124))","v":"Kwahu East"},{"$f":"IF(INTRO!$E$39=\"Non-endemic\",0,IF(INTRO!$E$39=\"Endemic but PC is not required\",IF(COUNTRY_INFO!$H124=1,COUNTRY_INFO!F124+COUNTRY_INFO!G124,0),IF(COUNTRY_INFO!$H124=1,COUNTRY_INFO!F124+COUNTRY_INFO!G124,IF(COUNTRY_INFO!$I124=1,IF(COUNTRY_INFO!M124>=(COUNTRY_INFO!F124+COUNTRY_INFO!G124),COUNTRY_INFO!F124+COUNTRY_INFO!G124,COUNTRY_INFO!$M124),0))))","v":30017},{"$f":"IF(AND(INTRO!$E$39=\"Non-endemic\",INTRO!$E$37=\"Non-endemic\"),\"Not required\",IF(INTRO!$E$39=\"Non-endemic\",\"Treat with DEC\",COUNTRY_INFO!V124))","v":0},{"$f":"IF(INTRO!$E$39<>\"Non-endemic\",COUNTRY_INFO!W124,\"Not required\")","v":2},{"$f":"IF(COUNTRY_INFO!H124=1, IF($E124=1,$D124, 0),0)","v":0},{"$f":"IF(COUNTRY_INFO!I124=1, IF(AND(COUNTRY_INFO!$I124=1,$F124<>0),IF(COUNTRY_INFO!M124>=(COUNTRY_INFO!F124+COUNTRY_INFO!G124),COUNTRY_INFO!F124+COUNTRY_INFO!G124,COUNTRY_INFO!$M124), 0),0)","v":30017},0,168095.19999999998,0,168095.19999999998,null,168095.19999999998]
[{"$f":"IF(INTRO!$E$39=\"Non-endemic\",\" \",IF(COUNTRY_INFO!A125=0,\" \",COUNTRY_INFO!A125))","v":"Ghana"},{"$f":"IF(INTRO!$E$39=\"Non-endemic\",\" \",IF(COUNTRY_INFO!B125=0,\" \",COUNTRY_INFO!B125))","v":"Eastern"},{"$f":"IF(INTRO!$E$39=\"Non-endemic\",\" \",IF(COUNTRY_INFO!C125=0,\" \",COUNTRY_INFO!C125))","v":"Kwahu South"},{"$f":"IF(INTRO!$E$39=\"Non-endemic\",0,IF(INTRO!$E$39=\"Endemic but PC is not required\",IF(COUNTRY_INFO!$H125=1,COUNTRY_INFO!F125+COUNTRY_INFO!G125,0),IF(COUNTRY_INFO!$H125=1,COUNTRY_INFO!F125+COUNTRY_INFO!G125,IF(COUNTRY_INFO!$I125=1,IF(COUNTRY_INFO!M125>=(COUNTRY_INFO!F125+COUNTRY_INFO!G125),COUNTRY_INFO!F125+COUNTRY_INFO!G125,COUNTRY_INFO!$M125),0))))","v":0},{"$f":"IF(AND(INTRO!$E$39=\"Non-endemic\",INTRO!$E$37=\"Non-endemic\"),\"Not required\",IF(INTRO!$E$39=\"Non-endemic\",\"Treat with DEC\",COUNTRY_INFO!V125))","v":0},{"$f":"IF(INTRO!$E$39<>\"Non-endemic\",COUNTRY_INFO!W125,\"Not required\")","v":2},{"$f":"IF(COUNTRY_INFO!H125=1, IF($E125=1,$D125, 0),0)","v":0},{"$f":"IF(COUNTRY_INFO!I125=1, IF(AND(COUNTRY_INFO!$I125=1,$F125<>0),IF(COUNTRY_INFO!M125>=(COUNTRY_INFO!F125+COUNTRY_INFO!G125),COUNTRY_INFO!F125+COUNTRY_INFO!G125,COUNTRY_INFO!$M125), 0),0)","v":0},0,0,0,0,null,0]
[{"$f":"IF(INTRO!$E$39=\"Non-endemic\",\" \",IF(COUNTRY_INFO!A126=0,\" \",COUNTRY_INFO!A126))","v":"Ghana"},{"$f":"IF(INTRO!$E$39=\"Non-endemic\",\" \",IF(COUNTRY_INFO!B126=0,\" \",COUNTRY_INFO!B126))","v":"Eastern"},{"$f":"IF(INTRO!$E$39=\"Non-endemic\",\" \",IF(COUNTRY_INFO!C126=0,\" \",COUNTRY_INFO!C126))","v":"Kwahu West"},{"$f":"IF(INTRO!$E$39=\"Non-endemic\",0,IF(INTRO!$E$39=\"Endemic but PC is not required\",IF(COUNTRY_INFO!$H126=1,COUNTRY_INFO!F126+COUNTRY_INFO!G126,0),IF(COUNTRY_INFO!$H126=1,COUNTRY_INFO!F126+COUNTRY_INFO!G126,IF(COUNTRY_INFO!$I126=1,IF(COUNTRY_INFO!M126>=(COUNTRY_INFO!F126+COUNTRY_INFO!G126),COUNTRY_INFO!F126+COUNTRY_INFO!G126,COUNTRY_INFO!$M126),0))))","v":8980},{"$f":"IF(AND(INTRO!$E$39=\"Non-endemic\",INTRO!$E$37=\"Non-endemic\"),\"Not required\",IF(INTRO!$E$39=\"Non-endemic\",\"Treat with DEC\",COUNTRY_INFO!V126))","v":0},{"$f":"IF(INTRO!$E$39<>\"Non-endemic\",COUNTRY_INFO!W126,\"Not required\")","v":2},{"$f":"IF(COUNTRY_INFO!H126=1, IF($E126=1,$D126, 0),0)","v":0},{"$f":"IF(COUNTRY_INFO!I126=1, IF(AND(COUNTRY_INFO!$I126=1,$F126<>0),IF(COUNTRY_INFO!M126>=(COUNTRY_INFO!F126+COUNTRY_INFO!G126),COUNTRY_INFO!F126+COUNTRY_INFO!G126,COUNTRY_INFO!$M126), 0),0)","v":8980},0,50288,0,50288,null,50288]
[{"$f":"IF(INTRO!$E$39=\"Non-endemic\",\" \",IF(COUNTRY_INFO!A127=0,\" \",COUNTRY_INFO!A127))","v":"Ghana"},{"$f":"IF(INTRO!$E$39=\"Non-endemic\",\" \",IF(COUNTRY_INFO!B127=0,\" \",COUNTRY_INFO!B127))","v":"Eastern"},{"$f":"IF(INTRO!$E$39=\"Non-endemic\",\" \",IF(COUNTRY_INFO!C127=0,\" \",COUNTRY_INFO!C127))","v":"Lower Manya-Krobo"},{"$f":"IF(INTRO!$E$39=\"Non-endemic\",0,IF(INTRO!$E$39=\"Endemic but PC is not required\",IF(COUNTRY_INFO!$H127=1,COUNTRY_INFO!F127+COUNTRY_INFO!G127,0),IF(COUNTRY_INFO!$H127=1,COUNTRY_INFO!F127+COUNTRY_INFO!G127,IF(COUNTRY_INFO!$I127=1,IF(COUNTRY_INFO!M127>=(COUNTRY_INFO!F127+COUNTRY_INFO!G127),COUNTRY_INFO!F127+COUNTRY_INFO!G127,COUNTRY_INFO!$M127),0))))","v":0},{"$f":"IF(AND(INTRO!$E$39=\"Non-endemic\",INTRO!$E$37=\"Non-endemic\"),\"Not required\",IF(INTRO!$E$39=\"Non-endemic\",\"Treat with DEC\",COUNTRY_INFO!V127))","v":0},{"$f":"IF(INTRO!$E$39<>\"Non-endemic\",COUNTRY_INFO!W127,\"Not required\")","v":0},{"$f":"IF(COUNTRY_INFO!H127=1, IF($E127=1,$D127, 0),0)","v":0},{"$f":"IF(COUNTRY_INFO!I127=1, IF(AND(COUNTRY_INFO!$I127=1,$F127<>0),IF(COUNTRY_INFO!M127>=(COUNTRY_INFO!F127+COUNTRY_INFO!G127),COUNTRY_INFO!F127+COUNTRY_INFO!G127,COUNTRY_INFO!$M127), 0),0)","v":0},0,0,0,0,null,0]
[{"$f":"IF(INTRO!$E$39=\"Non-endemic\",\" \",IF(COUNTRY_INFO!A128=0,\" \",COUNTRY_INFO!A128))","v":"Ghana"},{"$f":"IF(INTRO!$E$39=\"Non-endemic\",\" \",IF(COUNTRY_INFO!B128=0,\" \",COUNTRY_INFO!B128))","v":"Eastern"},{"$f":"IF(INTRO!$E$39=\"Non-endemic\",\" \",IF(COUNTRY_INFO!C128=0,\" \",COUNTRY_INFO!C128))","v":"New Juaben North"},{"$f":"IF(INTRO!$E$39=\"Non-endemic\",0,IF(INTRO!$E$39=\"Endemic but PC is not required\",IF(COUNTRY_INFO!$H128=1,COUNTRY_INFO!F128+COUNTRY_INFO!G128,0),IF(COUNTRY_INFO!$H128=1,COUNTRY_INFO!F128+COUNTRY_INFO!G128,IF(COUNTRY_INFO!$I128=1,IF(COUNTRY_INFO!M128>=(COUNTRY_INFO!F128+COUNTRY_INFO!G128),COUNTRY_INFO!F128+COUNTRY_INFO!G128,COUNTRY_INFO!$M128),0))))","v":49669},{"$f":"IF(AND(INTRO!$E$39=\"Non-endemic\",INTRO!$E$37=\"Non-endemic\"),\"Not required\",IF(INTRO!$E$39=\"Non-endemic\",\"Treat with DEC\",COUNTRY_INFO!V128))","v":0},{"$f":"IF(INTRO!$E$39<>\"Non-endemic\",COUNTRY_INFO!W128,\"Not required\")","v":2},{"$f":"IF(COUNTRY_INFO!H128=1, IF($E128=1,$D128, 0),0)","v":0},{"$f":"IF(COUNTRY_INFO!I128=1, IF(AND(COUNTRY_INFO!$I128=1,$F128<>0),IF(COUNTRY_INFO!M128>=(COUNTRY_INFO!F128+COUNTRY_INFO!G128),COUNTRY_INFO!F128+COUNTRY_INFO!G128,COUNTRY_INFO!$M128), 0),0)","v":49669},0,278146.39999999997,0,278146.39999999997,null,278146.39999999997]
[{"$f":"IF(INTRO!$E$39=\"Non-endemic\",\" \",IF(COUNTRY_INFO!A129=0,\" \",COUNTRY_INFO!A129))","v":"Ghana"},{"$f":"IF(INTRO!$E$39=\"Non-endemic\",\" \",IF(COUNTRY_INFO!B129=0,\" \",COUNTRY_INFO!B129))","v":"Eastern"},{"$f":"IF(INTRO!$E$39=\"Non-endemic\",\" \",IF(COUNTRY_INFO!C129=0,\" \",COUNTRY_INFO!C129))","v":"New Juaben South"},{"$f":"IF(INTRO!$E$39=\"Non-endemic\",0,IF(INTRO!$E$39=\"Endemic but PC is not required\",IF(COUNTRY_INFO!$H129=1,COUNTRY_INFO!F129+COUNTRY_INFO!G129,0),IF(COUNTRY_INFO!$H129=1,COUNTRY_INFO!F129+COUNTRY_INFO!G129,IF(COUNTRY_INFO!$I129=1,IF(COUNTRY_INFO!M129>=(COUNTRY_INFO!F129+COUNTRY_INFO!G129),COUNTRY_INFO!F129+COUNTRY_INFO!G129,COUNTRY_INFO!$M129),0))))","v":0},{"$f":"IF(AND(INTRO!$E$39=\"Non-endemic\",INTRO!$E$37=\"Non-endemic\"),\"Not required\",IF(INTRO!$E$39=\"Non-endemic\",\"Treat with DEC\",COUNTRY_INFO!V129))","v":0},{"$f":"IF(INTRO!$E$39<>\"Non-endemic\",COUNTRY_INFO!W129,\"Not required\")","v":0},{"$f":"IF(COUNTRY_INFO!H129=1, IF($E129=1,$D129, 0),0)","v":0},{"$f":"IF(COUNTRY_INFO!I129=1, IF(AND(COUNTRY_INFO!$I129=1,$F129<>0),IF(COUNTRY_INFO!M129>=(COUNTRY_INFO!F129+COUNTRY_INFO!G129),COUNTRY_INFO!F129+COUNTRY_INFO!G129,COUNTRY_INFO!$M129), 0),0)","v":0},0,0,0,0,null,0]
[{"$f":"IF(INTRO!$E$39=\"Non-endemic\",\" \",IF(COUNTRY_INFO!A130=0,\" \",COUNTRY_INFO!A130))","v":"Ghana"},{"$f":"IF(INTRO!$E$39=\"Non-endemic\",\" \",IF(COUNTRY_INFO!B130=0,\" \",COUNTRY_INFO!B130))","v":"Eastern"},{"$f":"IF(INTRO!$E$39=\"Non-endemic\",\" \",IF(COUNTRY_INFO!C130=0,\" \",COUNTRY_INFO!C130))","v":"Nsawam-Adoagyiri"},{"$f":"IF(INTRO!$E$39=\"Non-endemic\",0,IF(INTRO!$E$39=\"Endemic but PC is not required\",IF(COUNTRY_INFO!$H130=1,COUNTRY_INFO!F130+COUNTRY_INFO!G130,0),IF(COUNTRY_INFO!$H130=1,COUNTRY_INFO!F130+COUNTRY_INFO!G130,IF(COUNTRY_INFO!$I130=1,IF(COUNTRY_INFO!M130>=(COUNTRY_INFO!F130+COUNTRY_INFO!G130),COUNTRY_INFO!F130+COUNTRY_INFO!G130,COUNTRY_INFO!$M130),0))))","v":0},{"$f":"IF(AND(INTRO!$E$39=\"Non-endemic\",INTRO!$E$37=\"Non-endemic\"),\"Not required\",IF(INTRO!$E$39=\"Non-endemic\",\"Treat with DEC\",COUNTRY_INFO!V130))","v":0},{"$f":"IF(INTRO!$E$39<>\"Non-endemic\",COUNTRY_INFO!W130,\"Not required\")","v":0},{"$f":"IF(COUNTRY_INFO!H130=1, IF($E130=1,$D130, 0),0)","v":0},{"$f":"IF(COUNTRY_INFO!I130=1, IF(AND(COUNTRY_INFO!$I130=1,$F130<>0),IF(COUNTRY_INFO!M130>=(COUNTRY_INFO!F130+COUNTRY_INFO!G130),COUNTRY_INFO!F130+COUNTRY_INFO!G130,COUNTRY_INFO!$M130), 0),0)","v":0},0,0,0,0,null,0]
[{"$f":"IF(INTRO!$E$39=\"Non-endemic\",\" \",IF(COUNTRY_INFO!A131=0,\" \",COUNTRY_INFO!A131))","v":"Ghana"},{"$f":"IF(INTRO!$E$39=\"Non-endemic\",\" \",IF(COUNTRY_INFO!B131=0,\" \",COUNTRY_INFO!B131))","v":"Eastern"},{"$f":"IF(INTRO!$E$39=\"Non-endemic\",\" \",IF(COUNTRY_INFO!C131=0,\" \",COUNTRY_INFO!C131))","v":"Okere"},{"$f":"IF(INTRO!$E$39=\"Non-endemic\",0,IF(INTRO!$E$39=\"Endemic but PC is not required\",IF(COUNTRY_INFO!$H131=1,COUNTRY_INFO!F131+COUNTRY_INFO!G131,0),IF(COUNTRY_INFO!$H131=1,COUNTRY_INFO!F131+COUNTRY_INFO!G131,IF(COUNTRY_INFO!$I131=1,IF(COUNTRY_INFO!M131>=(COUNTRY_INFO!F131+COUNTRY_INFO!G131),COUNTRY_INFO!F131+COUNTRY_INFO!G131,COUNTRY_INFO!$M131),0))))","v":0},{"$f":"IF(AND(INTRO!$E$39=\"Non-endemic\",INTRO!$E$37=\"Non-endemic\"),\"Not required\",IF(INTRO!$E$39=\"Non-endemic\",\"Treat with DEC\",COUNTRY_INFO!V131))","v":0},{"$f":"IF(INTRO!$E$39<>\"Non-endemic\",COUNTRY_INFO!W131,\"Not required\")","v":0},{"$f":"IF(COUNTRY_INFO!H131=1, IF($E131=1,$D131, 0),0)","v":0},{"$f":"IF(COUNTRY_INFO!I131=1, IF(AND(COUNTRY_INFO!$I131=1,$F131<>0),IF(COUNTRY_INFO!M131>=(COUNTRY_INFO!F131+COUNTRY_INFO!G131),COUNTRY_INFO!F131+COUNTRY_INFO!G131,COUNTRY_INFO!$M131), 0),0)","v":0},0,0,0,0,null,0]
[{"$f":"IF(INTRO!$E$39=\"Non-endemic\",\" \",IF(COUNTRY_INFO!A132=0,\" \",COUNTRY_INFO!A132))","v":"Ghana"},{"$f":"IF(INTRO!$E$39=\"Non-endemic\",\" \",IF(COUNTRY_INFO!B132=0,\" \",COUNTRY_INFO!B132))","v":"Eastern"},{"$f":"IF(INTRO!$E$39=\"Non-endemic\",\" \",IF(COUNTRY_INFO!C132=0,\" \",COUNTRY_INFO!C132))","v":"Suhum"},{"$f":"IF(INTRO!$E$39=\"Non-endemic\",0,IF(INTRO!$E$39=\"Endemic but PC is not required\",IF(COUNTRY_INFO!$H132=1,COUNTRY_INFO!F132+COUNTRY_INFO!G132,0),IF(COUNTRY_INFO!$H132=1,COUNTRY_INFO!F132+COUNTRY_INFO!G132,IF(COUNTRY_INFO!$I132=1,IF(COUNTRY_INFO!M132>=(COUNTRY_INFO!F132+COUNTRY_INFO!G132),COUNTRY_INFO!F132+COUNTRY_INFO!G132,COUNTRY_INFO!$M132),0))))","v":24562},{"$f":"IF(AND(INTRO!$E$39=\"Non-endemic\",INTRO!$E$37=\"Non-endemic\"),\"Not required\",IF(INTRO!$E$39=\"Non-endemic\",\"Treat with DEC\",COUNTRY_INFO!V132))","v":0},{"$f":"IF(INTRO!$E$39<>\"Non-endemic\",COUNTRY_INFO!W132,\"Not required\")","v":2},{"$f":"IF(COUNTRY_INFO!H132=1, IF($E132=1,$D132, 0),0)","v":0},{"$f":"IF(COUNTRY_INFO!I132=1, IF(AND(COUNTRY_INFO!$I132=1,$F132<>0),IF(COUNTRY_INFO!M132>=(COUNTRY_INFO!F132+COUNTRY_INFO!G132),COUNTRY_INFO!F132+COUNTRY_INFO!G132,COUNTRY_INFO!$M132), 0),0)","v":24562},0,137547.19999999998,0,137547.19999999998,null,137547.19999999998]
[{"$f":"IF(INTRO!$E$39=\"Non-endemic\",\" \",IF(COUNTRY_INFO!A133=0,\" \",COUNTRY_INFO!A133))","v":"Ghana"},{"$f":"IF(INTRO!$E$39=\"Non-endemic\",\" \",IF(COUNTRY_INFO!B133=0,\" \",COUNTRY_INFO!B133))","v":"Eastern"},{"$f":"IF(INTRO!$E$39=\"Non-endemic\",\" \",IF(COUNTRY_INFO!C133=0,\" \",COUNTRY_INFO!C133))","v":"Upper Manya-Krobo"},{"$f":"IF(INTRO!$E$39=\"Non-endemic\",0,IF(INTRO!$E$39=\"Endemic but PC is not required\",IF(COUNTRY_INFO!$H133=1,COUNTRY_INFO!F133+COUNTRY_INFO!G133,0),IF(COUNTRY_INFO!$H133=1,COUNTRY_INFO!F133+COUNTRY_INFO!G133,IF(COUNTRY_INFO!$I133=1,IF(COUNTRY_INFO!M133>=(COUNTRY_INFO!F133+COUNTRY_INFO!G133),COUNTRY_INFO!F133+COUNTRY_INFO!G133,COUNTRY_INFO!$M133),0))))","v":0},{"$f":"IF(AND(INTRO!$E$39=\"Non-endemic\",INTRO!$E$37=\"Non-endemic\"),\"Not required\",IF(INTRO!$E$39=\"Non-endemic\",\"Treat with DEC\",COUNTRY_INFO!V133))","v":0},{"$f":"IF(INTRO!$E$39<>\"Non-endemic\",COUNTRY_INFO!W133,\"Not required\")","v":0},{"$f":"IF(COUNTRY_INFO!H133=1, IF($E133=1,$D133, 0),0)","v":0},{"$f":"IF(COUNTRY_INFO!I133=1, IF(AND(COUNTRY_INFO!$I133=1,$F133<>0),IF(COUNTRY_INFO!M133>=(COUNTRY_INFO!F133+COUNTRY_INFO!G133),COUNTRY_INFO!F133+COUNTRY_INFO!G133,COUNTRY_INFO!$M133), 0),0)","v":0},0,0,0,0,null,0]
[{"$f":"IF(INTRO!$E$39=\"Non-endemic\",\" \",IF(COUNTRY_INFO!A134=0,\" \",COUNTRY_INFO!A134))","v":"Ghana"},{"$f":"IF(INTRO!$E$39=\"Non-endemic\",\" \",IF(COUNTRY_INFO!B134=0,\" \",COUNTRY_INFO!B134))","v":"Eastern"},{"$f":"IF(INTRO!$E$39=\"Non-endemic\",\" \",IF(COUNTRY_INFO!C134=0,\" \",COUNTRY_INFO!C134))","v":"Upper West Akim"},{"$f":"IF(INTRO!$E$39=\"Non-endemic\",0,IF(INTRO!$E$39=\"Endemic but PC is not required\",IF(COUNTRY_INFO!$H134=1,COUNTRY_INFO!F134+COUNTRY_INFO!G134,0),IF(COUNTRY_INFO!$H134=1,COUNTRY_INFO!F134+COUNTRY_INFO!G134,IF(COUNTRY_INFO!$I134=1,IF(COUNTRY_INFO!M134>=(COUNTRY_INFO!F134+COUNTRY_INFO!G134),COUNTRY_INFO!F134+COUNTRY_INFO!G134,COUNTRY_INFO!$M134),0))))","v":0},{"$f":"IF(AND(INTRO!$E$39=\"Non-endemic\",INTRO!$E$37=\"Non-endemic\"),\"Not required\",IF(INTRO!$E$39=\"Non-endemic\",\"Treat with DEC\",COUNTRY_INFO!V134))","v":0},{"$f":"IF(INTRO!$E$39<>\"Non-endemic\",COUNTRY_INFO!W134,\"Not required\")","v":0},{"$f":"IF(COUNTRY_INFO!H134=1, IF($E134=1,$D134, 0),0)","v":0},{"$f":"IF(COUNTRY_INFO!I134=1, IF(AND(COUNTRY_INFO!$I134=1,$F134<>0),IF(COUNTRY_INFO!M134>=(COUNTRY_INFO!F134+COUNTRY_INFO!G134),COUNTRY_INFO!F134+COUNTRY_INFO!G134,COUNTRY_INFO!$M134), 0),0)","v":0},0,0,0,0,null,0]
[{"$f":"IF(INTRO!$E$39=\"Non-endemic\",\" \",IF(COUNTRY_INFO!A135=0,\" \",COUNTRY_INFO!A135))","v":"Ghana"},{"$f":"IF(INTRO!$E$39=\"Non-endemic\",\" \",IF(COUNTRY_INFO!B135=0,\" \",COUNTRY_INFO!B135))","v":"Eastern"},{"$f":"IF(INTRO!$E$39=\"Non-endemic\",\" \",IF(COUNTRY_INFO!C135=0,\" \",COUNTRY_INFO!C135))","v":"West Akim"},{"$f":"IF(INTRO!$E$39=\"Non-endemic\",0,IF(INTRO!$E$39=\"Endemic but PC is not required\",IF(COUNTRY_INFO!$H135=1,COUNTRY_INFO!F135+COUNTRY_INFO!G135,0),IF(COUNTRY_INFO!$H135=1,COUNTRY_INFO!F135+COUNTRY_INFO!G135,IF(COUNTRY_INFO!$I135=1,IF(COUNTRY_INFO!M135>=(COUNTRY_INFO!F135+COUNTRY_INFO!G135),COUNTRY_INFO!F135+COUNTRY_INFO!G135,COUNTRY_INFO!$M135),0))))","v":0},{"$f":"IF(AND(INTRO!$E$39=\"Non-endemic\",INTRO!$E$37=\"Non-endemic\"),\"Not required\",IF(INTRO!$E$39=\"Non-endemic\",\"Treat with DEC\",COUNTRY_INFO!V135))","v":0},{"$f":"IF(INTRO!$E$39<>\"Non-endemic\",COUNTRY_INFO!W135,\"Not required\")","v":2},{"$f":"IF(COUNTRY_INFO!H135=1, IF($E135=1,$D135, 0),0)","v":0},{"$f":"IF(COUNTRY_INFO!I135=1, IF(AND(COUNTRY_INFO!$I135=1,$F135<>0),IF(COUNTRY_INFO!M135>=(COUNTRY_INFO!F135+COUNTRY_INFO!G135),COUNTRY_INFO!F135+COUNTRY_INFO!G135,COUNTRY_INFO!$M135), 0),0)","v":0},0,0,0,0,null,0]
[{"$f":"IF(INTRO!$E$39=\"Non-endemic\",\" \",IF(COUNTRY_INFO!A136=0,\" \",COUNTRY_INFO!A136))","v":"Ghana"},{"$f":"IF(INTRO!$E$39=\"Non-endemic\",\" \",IF(COUNTRY_INFO!B136=0,\" \",COUNTRY_INFO!B136))","v":"Eastern"},{"$f":"IF(INTRO!$E$39=\"Non-endemic\",\" \",IF(COUNTRY_INFO!C136=0,\" \",COUNTRY_INFO!C136))","v":"Yilo-Krobo"},{"$f":"IF(INTRO!$E$39=\"Non-endemic\",0,IF(INTRO!$E$39=\"Endemic but PC is not required\",IF(COUNTRY_INFO!$H136=1,COUNTRY_INFO!F136+COUNTRY_INFO!G136,0),IF(COUNTRY_INFO!$H136=1,COUNTRY_INFO!F136+COUNTRY_INFO!G136,IF(COUNTRY_INFO!$I136=1,IF(COUNTRY_INFO!M136>=(COUNTRY_INFO!F136+COUNTRY_INFO!G136),COUNTRY_INFO!F136+COUNTRY_INFO!G136,COUNTRY_INFO!$M136),0))))","v":0},{"$f":"IF(AND(INTRO!$E$39=\"Non-endemic\",INTRO!$E$37=\"Non-endemic\"),\"Not required\",IF(INTRO!$E$39=\"Non-endemic\",\"Treat with DEC\",COUNTRY_INFO!V136))","v":0},{"$f":"IF(INTRO!$E$39<>\"Non-endemic\",COUNTRY_INFO!W136,\"Not required\")","v":2},{"$f":"IF(COUNTRY_INFO!H136=1, IF($E136=1,$D136, 0),0)","v":0},{"$f":"IF(COUNTRY_INFO!I136=1, IF(AND(COUNTRY_INFO!$I136=1,$F136<>0),IF(COUNTRY_INFO!M136>=(COUNTRY_INFO!F136+COUNTRY_INFO!G136),COUNTRY_INFO!F136+COUNTRY_INFO!G136,COUNTRY_INFO!$M136), 0),0)","v":0},0,0,0,0,null,0]
[{"$f":"IF(INTRO!$E$39=\"Non-endemic\",\" \",IF(COUNTRY_INFO!A137=0,\" \",COUNTRY_INFO!A137))","v":"Ghana"},{"$f":"IF(INTRO!$E$39=\"Non-endemic\",\" \",IF(COUNTRY_INFO!B137=0,\" \",COUNTRY_INFO!B137))","v":"Greater Accra"},{"$f":"IF(INTRO!$E$39=\"Non-endemic\",\" \",IF(COUNTRY_INFO!C137=0,\" \",COUNTRY_INFO!C137))","v":"Ablekuma Central"},{"$f":"IF(INTRO!$E$39=\"Non-endemic\",0,IF(INTRO!$E$39=\"Endemic but PC is not required\",IF(COUNTRY_INFO!$H137=1,COUNTRY_INFO!F137+COUNTRY_INFO!G137,0),IF(COUNTRY_INFO!$H137=1,COUNTRY_INFO!F137+COUNTRY_INFO!G137,IF(COUNTRY_INFO!$I137=1,IF(COUNTRY_INFO!M137>=(COUNTRY_INFO!F137+COUNTRY_INFO!G137),COUNTRY_INFO!F137+COUNTRY_INFO!G137,COUNTRY_INFO!$M137),0))))","v":0},{"$f":"IF(AND(INTRO!$E$39=\"Non-endemic\",INTRO!$E$37=\"Non-endemic\"),\"Not required\",IF(INTRO!$E$39=\"Non-endemic\",\"Treat with DEC\",COUNTRY_INFO!V137))","v":0},{"$f":"IF(INTRO!$E$39<>\"Non-endemic\",COUNTRY_INFO!W137,\"Not required\")","v":0},{"$f":"IF(COUNTRY_INFO!H137=1, IF($E137=1,$D137, 0),0)","v":0},{"$f":"IF(COUNTRY_INFO!I137=1, IF(AND(COUNTRY_INFO!$I137=1,$F137<>0),IF(COUNTRY_INFO!M137>=(COUNTRY_INFO!F137+COUNTRY_INFO!G137),COUNTRY_INFO!F137+COUNTRY_INFO!G137,COUNTRY_INFO!$M137), 0),0)","v":0},0,0,0,0,null,0]
[{"$f":"IF(INTRO!$E$39=\"Non-endemic\",\" \",IF(COUNTRY_INFO!A138=0,\" \",COUNTRY_INFO!A138))","v":"Ghana"},{"$f":"IF(INTRO!$E$39=\"Non-endemic\",\" \",IF(COUNTRY_INFO!B138=0,\" \",COUNTRY_INFO!B138))","v":"Greater Accra"},{"$f":"IF(INTRO!$E$39=\"Non-endemic\",\" \",IF(COUNTRY_INFO!C138=0,\" \",COUNTRY_INFO!C138))","v":"Ablekuma North"},{"$f":"IF(INTRO!$E$39=\"Non-endemic\",0,IF(INTRO!$E$39=\"Endemic but PC is not required\",IF(COUNTRY_INFO!$H138=1,COUNTRY_INFO!F138+COUNTRY_INFO!G138,0),IF(COUNTRY_INFO!$H138=1,COUNTRY_INFO!F138+COUNTRY_INFO!G138,IF(COUNTRY_INFO!$I138=1,IF(COUNTRY_INFO!M138>=(COUNTRY_INFO!F138+COUNTRY_INFO!G138),COUNTRY_INFO!F138+COUNTRY_INFO!G138,COUNTRY_INFO!$M138),0))))","v":0},{"$f":"IF(AND(INTRO!$E$39=\"Non-endemic\",INTRO!$E$37=\"Non-endemic\"),\"Not required\",IF(INTRO!$E$39=\"Non-endemic\",\"Treat with DEC\",COUNTRY_INFO!V138))","v":0},{"$f":"IF(INTRO!$E$39<>\"Non-endemic\",COUNTRY_INFO!W138,\"Not required\")","v":0},{"$f":"IF(COUNTRY_INFO!H138=1, IF($E138=1,$D138, 0),0)","v":0},{"$f":"IF(COUNTRY_INFO!I138=1, IF(AND(COUNTRY_INFO!$I138=1,$F138<>0),IF(COUNTRY_INFO!M138>=(COUNTRY_INFO!F138+COUNTRY_INFO!G138),COUNTRY_INFO!F138+COUNTRY_INFO!G138,COUNTRY_INFO!$M138), 0),0)","v":0},{"$f":"IF(G138<H138,0,IF($E138=1, (G138-H138)*2.8, 0))","v":0},{"$f":"IF($E138<$F138, H138*(F138-E138)*2.8, 0)","v":0},0,0,null,0]
[{"$f":"IF(INTRO!$E$39=\"Non-endemic\",\" \",IF(COUNTRY_INFO!A139=0,\" \",COUNTRY_INFO!A139))","v":"Ghana"},{"$f":"IF(INTRO!$E$39=\"Non-endemic\",\" \",IF(COUNTRY_INFO!B139=0,\" \",COUNTRY_INFO!B139))","v":"Greater Accra"},{"$f":"IF(INTRO!$E$39=\"Non-endemic\",\" \",IF(COUNTRY_INFO!C139=0,\" \",COUNTRY_INFO!C139))","v":"Ablekuma West"},{"$f":"IF(INTRO!$E$39=\"Non-endemic\",0,IF(INTRO!$E$39=\"Endemic but PC is not required\",IF(COUNTRY_INFO!$H139=1,COUNTRY_INFO!F139+COUNTRY_INFO!G139,0),IF(COUNTRY_INFO!$H139=1,COUNTRY_INFO!F139+COUNTRY_INFO!G139,IF(COUNTRY_INFO!$I139=1,IF(COUNTRY_INFO!M139>=(COUNTRY_INFO!F139+COUNTRY_INFO!G139),COUNTRY_INFO!F139+COUNTRY_INFO!G139,COUNTRY_INFO!$M139),0))))","v":0},{"$f":"IF(AND(INTRO!$E$39=\"Non-endemic\",INTRO!$E$37=\"Non-endemic\"),\"Not required\",IF(INTRO!$E$39=\"Non-endemic\",\"Treat with DEC\",COUNTRY_INFO!V139))","v":0},{"$f":"IF(INTRO!$E$39<>\"Non-endemic\",COUNTRY_INFO!W139,\"Not required\")","v":0},{"$f":"IF(COUNTRY_INFO!H139=1, IF($E139=1,$D139, 0),0)","v":0},{"$f":"IF(COUNTRY_INFO!I139=1, IF(AND(COUNTRY_INFO!$I139=1,$F139<>0),IF(COUNTRY_INFO!M139>=(COUNTRY_INFO!F139+COUNTRY_INFO!G139),COUNTRY_INFO!F139+COUNTRY_INFO!G139,COUNTRY_INFO!$M139), 0),0)","v":0},0,0,{"$f":"IF(AND($E139=1, $F139<>0), H139*2.8, 0)","v":0},{"$f":"SUM(I139:K139)","v":0},null,0]
[{"$f":"IF(INTRO!$E$39=\"Non-endemic\",\" \",IF(COUNTRY_INFO!A140=0,\" \",COUNTRY_INFO!A140))","v":"Ghana"},{"$f":"IF(INTRO!$E$39=\"Non-endemic\",\" \",IF(COUNTRY_INFO!B140=0,\" \",COUNTRY_INFO!B140))","v":"Greater Accra"},{"$f":"IF(INTRO!$E$39=\"Non-endemic\",\" \",IF(COUNTRY_INFO!C140=0,\" \",COUNTRY_INFO!C140))","v":"Accra Metro"},{"$f":"IF(INTRO!$E$39=\"Non-endemic\",0,IF(INTRO!$E$39=\"Endemic but PC is not required\",IF(COUNTRY_INFO!$H140=1,COUNTRY_INFO!F140+COUNTRY_INFO!G140,0),IF(COUNTRY_INFO!$H140=1,COUNTRY_INFO!F140+COUNTRY_INFO!G140,IF(COUNTRY_INFO!$I140=1,IF(COUNTRY_INFO!M140>=(COUNTRY_INFO!F140+COUNTRY_INFO!G140),COUNTRY_INFO!F140+COUNTRY_INFO!G140,COUNTRY_INFO!$M140),0))))","v":0},{"$f":"IF(AND(INTRO!$E$39=\"Non-endemic\",INTRO!$E$37=\"Non-endemic\"),\"Not required\",IF(INTRO!$E$39=\"Non-endemic\",\"Treat with DEC\",COUNTRY_INFO!V140))","v":0},{"$f":"IF(INTRO!$E$39<>\"Non-endemic\",COUNTRY_INFO!W140,\"Not required\")","v":0},{"$f":"IF(COUNTRY_INFO!H140=1, IF($E140=1,$D140, 0),0)","v":0},{"$f":"IF(COUNTRY_INFO!I140=1, IF(AND(COUNTRY_INFO!$I140=1,$F140<>0),IF(COUNTRY_INFO!M140>=(COUNTRY_INFO!F140+COUNTRY_INFO!G140),COUNTRY_INFO!F140+COUNTRY_INFO!G140,COUNTRY_INFO!$M140), 0),0)","v":0},0,0,0,0,null,0]
[{"$f":"IF(INTRO!$E$39=\"Non-endemic\",\" \",IF(COUNTRY_INFO!A141=0,\" \",COUNTRY_INFO!A141))","v":"Ghana"},{"$f":"IF(INTRO!$E$39=\"Non-endemic\",\" \",IF(COUNTRY_INFO!B141=0,\" \",COUNTRY_INFO!B141))","v":"Greater Accra"},{"$f":"IF(INTRO!$E$39=\"Non-endemic\",\" \",IF(COUNTRY_INFO!C141=0,\" \",COUNTRY_INFO!C141))","v":"Ada East"},{"$f":"IF(INTRO!$E$39=\"Non-endemic\",0,IF(INTRO!$E$39=\"Endemic but PC is not required\",IF(COUNTRY_INFO!$H141=1,COUNTRY_INFO!F141+COUNTRY_INFO!G141,0),IF(COUNTRY_INFO!$H141=1,COUNTRY_INFO!F141+COUNTRY_INFO!G141,IF(COUNTRY_INFO!$I141=1,IF(COUNTRY_INFO!M141>=(COUNTRY_INFO!F141+COUNTRY_INFO!G141),COUNTRY_INFO!F141+COUNTRY_INFO!G141,COUNTRY_INFO!$M141),0))))","v":0},{"$f":"IF(AND(INTRO!$E$39=\"Non-endemic\",INTRO!$E$37=\"Non-endemic\"),\"Not required\",IF(INTRO!$E$39=\"Non-endemic\",\"Treat with DEC\",COUNTRY_INFO!V141))","v":0},{"$f":"IF(INTRO!$E$39<>\"Non-endemic\",COUNTRY_INFO!W141,\"Not required\")","v":0},{"$f":"IF(COUNTRY_INFO!H141=1, IF($E141=1,$D141, 0),0)","v":0},{"$f":"IF(COUNTRY_INFO!I141=1, IF(AND(COUNTRY_INFO!$I141=1,$F141<>0),IF(COUNTRY_INFO!M141>=(COUNTRY_INFO!F141+COUNTRY_INFO!G141),COUNTRY_INFO!F141+COUNTRY_INFO!G141,COUNTRY_INFO!$M141), 0),0)","v":0},0,0,0,0,null,0]
[{"$f":"IF(INTRO!$E$39=\"Non-endemic\",\" \",IF(COUNTRY_INFO!A142=0,\" \",COUNTRY_INFO!A142))","v":"Ghana"},{"$f":"IF(INTRO!$E$39=\"Non-endemic\",\" \",IF(COUNTRY_INFO!B142=0,\" \",COUNTRY_INFO!B142))","v":"Greater Accra"},{"$f":"IF(INTRO!$E$39=\"Non-endemic\",\" \",IF(COUNTRY_INFO!C142=0,\" \",COUNTRY_INFO!C142))","v":"Ada West"},{"$f":"IF(INTRO!$E$39=\"Non-endemic\",0,IF(INTRO!$E$39=\"Endemic but PC is not required\",IF(COUNTRY_INFO!$H142=1,COUNTRY_INFO!F142+COUNTRY_INFO!G142,0),IF(COUNTRY_INFO!$H142=1,COUNTRY_INFO!F142+COUNTRY_INFO!G142,IF(COUNTRY_INFO!$I142=1,IF(COUNTRY_INFO!M142>=(COUNTRY_INFO!F142+COUNTRY_INFO!G142),COUNTRY_INFO!F142+COUNTRY_INFO!G142,COUNTRY_INFO!$M142),0))))","v":0},{"$f":"IF(AND(INTRO!$E$39=\"Non-endemic\",INTRO!$E$37=\"Non-endemic\"),\"Not required\",IF(INTRO!$E$39=\"Non-endemic\",\"Treat with DEC\",COUNTRY_INFO!V142))","v":0},{"$f":"IF(INTRO!$E$39<>\"Non-endemic\",COUNTRY_INFO!W142,\"Not required\")","v":0},{"$f":"IF(COUNTRY_INFO!H142=1, IF($E142=1,$D142, 0),0)","v":0},{"$f":"IF(COUNTRY_INFO!I142=1, IF(AND(COUNTRY_INFO!$I142=1,$F142<>0),IF(COUNTRY_INFO!M142>=(COUNTRY_INFO!F142+COUNTRY_INFO!G142),COUNTRY_INFO!F142+COUNTRY_INFO!G142,COUNTRY_INFO!$M142), 0),0)","v":0},0,0,0,0,null,0]
[{"$f":"IF(INTRO!$E$39=\"Non-endemic\",\" \",IF(COUNTRY_INFO!A143=0,\" \",COUNTRY_INFO!A143))","v":"Ghana"},{"$f":"IF(INTRO!$E$39=\"Non-endemic\",\" \",IF(COUNTRY_INFO!B143=0,\" \",COUNTRY_INFO!B143))","v":"Greater Accra"},{"$f":"IF(INTRO!$E$39=\"Non-endemic\",\" \",IF(COUNTRY_INFO!C143=0,\" \",COUNTRY_INFO!C143))","v":"Adentan"},{"$f":"IF(INTRO!$E$39=\"Non-endemic\",0,IF(INTRO!$E$39=\"Endemic but PC is not required\",IF(COUNTRY_INFO!$H143=1,COUNTRY_INFO!F143+COUNTRY_INFO!G143,0),IF(COUNTRY_INFO!$H143=1,COUNTRY_INFO!F143+COUNTRY_INFO!G143,IF(COUNTRY_INFO!$I143=1,IF(COUNTRY_INFO!M143>=(COUNTRY_INFO!F143+COUNTRY_INFO!G143),COUNTRY_INFO!F143+COUNTRY_INFO!G143,COUNTRY_INFO!$M143),0))))","v":0},{"$f":"IF(AND(INTRO!$E$39=\"Non-endemic\",INTRO!$E$37=\"Non-endemic\"),\"Not required\",IF(INTRO!$E$39=\"Non-endemic\",\"Treat with DEC\",COUNTRY_INFO!V143))","v":0},{"$f":"IF(INTRO!$E$39<>\"Non-endemic\",COUNTRY_INFO!W143,\"Not required\")","v":0},{"$f":"IF(COUNTRY_INFO!H143=1, IF($E143=1,$D143, 0),0)","v":0},{"$f":"IF(COUNTRY_INFO!I143=1, IF(AND(COUNTRY_INFO!$I143=1,$F143<>0),IF(COUNTRY_INFO!M143>=(COUNTRY_INFO!F143+COUNTRY_INFO!G143),COUNTRY_INFO!F143+COUNTRY_INFO!G143,COUNTRY_INFO!$M143), 0),0)","v":0},0,0,0,0,null,0]
[{"$f":"IF(INTRO!$E$39=\"Non-endemic\",\" \",IF(COUNTRY_INFO!A144=0,\" \",COUNTRY_INFO!A144))","v":"Ghana"},{"$f":"IF(INTRO!$E$39=\"Non-endemic\",\" \",IF(COUNTRY_INFO!B144=0,\" \",COUNTRY_INFO!B144))","v":"Greater Accra"},{"$f":"IF(INTRO!$E$39=\"Non-endemic\",\" \",IF(COUNTRY_INFO!C144=0,\" \",COUNTRY_INFO!C144))","v":"Ashaiman"},{"$f":"IF(INTRO!$E$39=\"Non-endemic\",0,IF(INTRO!$E$39=\"Endemic but PC is not required\",IF(COUNTRY_INFO!$H144=1,COUNTRY_INFO!F144+COUNTRY_INFO!G144,0),IF(COUNTRY_INFO!$H144=1,COUNTRY_INFO!F144+COUNTRY_INFO!G144,IF(COUNTRY_INFO!$I144=1,IF(COUNTRY_INFO!M144>=(COUNTRY_INFO!F144+COUNTRY_INFO!G144),COUNTRY_INFO!F144+COUNTRY_INFO!G144,COUNTRY_INFO!$M144),0))))","v":0},{"$f":"IF(AND(INTRO!$E$39=\"Non-endemic\",INTRO!$E$37=\"Non-endemic\"),\"Not required\",IF(INTRO!$E$39=\"Non-endemic\",\"Treat with DEC\",COUNTRY_INFO!V144))","v":0},{"$f":"IF(INTRO!$E$39<>\"Non-endemic\",COUNTRY_INFO!W144,\"Not required\")","v":0},{"$f":"IF(COUNTRY_INFO!H144=1, IF($E144=1,$D144, 0),0)","v":0},{"$f":"IF(COUNTRY_INFO!I144=1, IF(AND(COUNTRY_INFO!$I144=1,$F144<>0),IF(COUNTRY_INFO!M144>=(COUNTRY_INFO!F144+COUNTRY_INFO!G144),COUNTRY_INFO!F144+COUNTRY_INFO!G144,COUNTRY_INFO!$M144), 0),0)","v":0},0,0,0,0,null,0]
[{"$f":"IF(INTRO!$E$39=\"Non-endemic\",\" \",IF(COUNTRY_INFO!A145=0,\" \",COUNTRY_INFO!A145))","v":"Ghana"},{"$f":"IF(INTRO!$E$39=\"Non-endemic\",\" \",IF(COUNTRY_INFO!B145=0,\" \",COUNTRY_INFO!B145))","v":"Greater Accra"},{"$f":"IF(INTRO!$E$39=\"Non-endemic\",\" \",IF(COUNTRY_INFO!C145=0,\" \",COUNTRY_INFO!C145))","v":"Ayawaso Central"},{"$f":"IF(INTRO!$E$39=\"Non-endemic\",0,IF(INTRO!$E$39=\"Endemic but PC is not required\",IF(COUNTRY_INFO!$H145=1,COUNTRY_INFO!F145+COUNTRY_INFO!G145,0),IF(COUNTRY_INFO!$H145=1,COUNTRY_INFO!F145+COUNTRY_INFO!G145,IF(COUNTRY_INFO!$I145=1,IF(COUNTRY_INFO!M145>=(COUNTRY_INFO!F145+COUNTRY_INFO!G145),COUNTRY_INFO!F145+COUNTRY_INFO!G145,COUNTRY_INFO!$M145),0))))","v":0},{"$f":"IF(AND(INTRO!$E$39=\"Non-endemic\",INTRO!$E$37=\"Non-endemic\"),\"Not required\",IF(INTRO!$E$39=\"Non-endemic\",\"Treat with DEC\",COUNTRY_INFO!V145))","v":0},{"$f":"IF(INTRO!$E$39<>\"Non-endemic\",COUNTRY_INFO!W145,\"Not required\")","v":0},{"$f":"IF(COUNTRY_INFO!H145=1, IF($E145=1,$D145, 0),0)","v":0},{"$f":"IF(COUNTRY_INFO!I145=1, IF(AND(COUNTRY_INFO!$I145=1,$F145<>0),IF(COUNTRY_INFO!M145>=(COUNTRY_INFO!F145+COUNTRY_INFO!G145),COUNTRY_INFO!F145+COUNTRY_INFO!G145,COUNTRY_INFO!$M145), 0),0)","v":0},0,0,0,0,null,0]
[{"$f":"IF(INTRO!$E$39=\"Non-endemic\",\" \",IF(COUNTRY_INFO!A146=0,\" \",COUNTRY_INFO!A146))","v":"Ghana"},{"$f":"IF(INTRO!$E$39=\"Non-endemic\",\" \",IF(COUNTRY_INFO!B146=0,\" \",COUNTRY_INFO!B146))","v":"Greater Accra"},{"$f":"IF(INTRO!$E$39=\"Non-endemic\",\" \",IF(COUNTRY_INFO!C146=0,\" \",COUNTRY_INFO!C146))","v":"Ayawaso East"},{"$f":"IF(INTRO!$E$39=\"Non-endemic\",0,IF(INTRO!$E$39=\"Endemic but PC is not required\",IF(COUNTRY_INFO!$H146=1,COUNTRY_INFO!F146+COUNTRY_INFO!G146,0),IF(COUNTRY_INFO!$H146=1,COUNTRY_INFO!F146+COUNTRY_INFO!G146,IF(COUNTRY_INFO!$I146=1,IF(COUNTRY_INFO!M146>=(COUNTRY_INFO!F146+COUNTRY_INFO!G146),COUNTRY_INFO!F146+COUNTRY_INFO!G146,COUNTRY_INFO!$M146),0))))","v":0},{"$f":"IF(AND(INTRO!$E$39=\"Non-endemic\",INTRO!$E$37=\"Non-endemic\"),\"Not required\",IF(INTRO!$E$39=\"Non-endemic\",\"Treat with DEC\",COUNTRY_INFO!V146))","v":0},{"$f":"IF(INTRO!$E$39<>\"Non-endemic\",COUNTRY_INFO!W146,\"Not required\")","v":0},{"$f":"IF(COUNTRY_INFO!H146=1, IF($E146=1,$D146, 0),0)","v":0},{"$f":"IF(COUNTRY_INFO!I146=1, IF(AND(COUNTRY_INFO!$I146=1,$F146<>0),IF(COUNTRY_INFO!M146>=(COUNTRY_INFO!F146+COUNTRY_INFO!G146),COUNTRY_INFO!F146+COUNTRY_INFO!G146,COUNTRY_INFO!$M146), 0),0)","v":0},0,0,0,0,null,0]
[{"$f":"IF(INTRO!$E$39=\"Non-endemic\",\" \",IF(COUNTRY_INFO!A147=0,\" \",COUNTRY_INFO!A147))","v":"Ghana"},{"$f":"IF(INTRO!$E$39=\"Non-endemic\",\" \",IF(COUNTRY_INFO!B147=0,\" \",COUNTRY_INFO!B147))","v":"Greater Accra"},{"$f":"IF(INTRO!$E$39=\"Non-endemic\",\" \",IF(COUNTRY_INFO!C147=0,\" \",COUNTRY_INFO!C147))","v":"Ayawaso North"},{"$f":"IF(INTRO!$E$39=\"Non-endemic\",0,IF(INTRO!$E$39=\"Endemic but PC is not required\",IF(COUNTRY_INFO!$H147=1,COUNTRY_INFO!F147+COUNTRY_INFO!G147,0),IF(COUNTRY_INFO!$H147=1,COUNTRY_INFO!F147+COUNTRY_INFO!G147,IF(COUNTRY_INFO!$I147=1,IF(COUNTRY_INFO!M147>=(COUNTRY_INFO!F147+COUNTRY_INFO!G147),COUNTRY_INFO!F147+COUNTRY_INFO!G147,COUNTRY_INFO!$M147),0))))","v":0},{"$f":"IF(AND(INTRO!$E$39=\"Non-endemic\",INTRO!$E$37=\"Non-endemic\"),\"Not required\",IF(INTRO!$E$39=\"Non-endemic\",\"Treat with DEC\",COUNTRY_INFO!V147))","v":0},{"$f":"IF(INTRO!$E$39<>\"Non-endemic\",COUNTRY_INFO!W147,\"Not required\")","v":0},{"$f":"IF(COUNTRY_INFO!H147=1, IF($E147=1,$D147, 0),0)","v":0},{"$f":"IF(COUNTRY_INFO!I147=1, IF(AND(COUNTRY_INFO!$I147=1,$F147<>0),IF(COUNTRY_INFO!M147>=(COUNTRY_INFO!F147+COUNTRY_INFO!G147),COUNTRY_INFO!F147+COUNTRY_INFO!G147,COUNTRY_INFO!$M147), 0),0)","v":0},0,0,0,0,null,0]
[{"$f":"IF(INTRO!$E$39=\"Non-endemic\",\" \",IF(COUNTRY_INFO!A148=0,\" \",COUNTRY_INFO!A148))","v":"Ghana"},{"$f":"IF(INTRO!$E$39=\"Non-endemic\",\" \",IF(COUNTRY_INFO!B148=0,\" \",COUNTRY_INFO!B148))","v":"Greater Accra"},{"$f":"IF(INTRO!$E$39=\"Non-endemic\",\" \",IF(COUNTRY_INFO!C148=0,\" \",COUNTRY_INFO!C148))","v":"Ayawaso West"},{"$f":"IF(INTRO!$E$39=\"Non-endemic\",0,IF(INTRO!$E$39=\"Endemic but PC is not required\",IF(COUNTRY_INFO!$H148=1,COUNTRY_INFO!F148+COUNTRY_INFO!G148,0),IF(COUNTRY_INFO!$H148=1,COUNTRY_INFO!F148+COUNTRY_INFO!G148,IF(COUNTRY_INFO!$I148=1,IF(COUNTRY_INFO!M148>=(COUNTRY_INFO!F148+COUNTRY_INFO!G148),COUNTRY_INFO!F148+COUNTRY_INFO!G148,COUNTRY_INFO!$M148),0))))","v":0},{"$f":"IF(AND(INTRO!$E$39=\"Non-endemic\",INTRO!$E$37=\"Non-endemic\"),\"Not required\",IF(INTRO!$E$39=\"Non-endemic\",\"Treat with DEC\",COUNTRY_INFO!V148))","v":0},{"$f":"IF(INTRO!$E$39<>\"Non-endemic\",COUNTRY_INFO!W148,\"Not required\")","v":0},{"$f":"IF(COUNTRY_INFO!H148=1, IF($E148=1,$D148, 0),0)","v":0},{"$f":"IF(COUNTRY_INFO!I148=1, IF(AND(COUNTRY_INFO!$I148=1,$F148<>0),IF(COUNTRY_INFO!M148>=(COUNTRY_INFO!F148+COUNTRY_INFO!G148),COUNTRY_INFO!F148+COUNTRY_INFO!G148,COUNTRY_INFO!$M148), 0),0)","v":0},0,0,0,0,null,0]
[{"$f":"IF(INTRO!$E$39=\"Non-endemic\",\" \",IF(COUNTRY_INFO!A149=0,\" \",COUNTRY_INFO!A149))","v":"Ghana"},{"$f":"IF(INTRO!$E$39=\"Non-endemic\",\" \",IF(COUNTRY_INFO!B149=0,\" \",COUNTRY_INFO!B149))","v":"Greater Accra"},{"$f":"IF(INTRO!$E$39=\"Non-endemic\",\" \",IF(COUNTRY_INFO!C149=0,\" \",COUNTRY_INFO!C149))","v":"Ga Central"},{"$f":"IF(INTRO!$E$39=\"Non-endemic\",0,IF(INTRO!$E$39=\"Endemic but PC is not required\",IF(COUNTRY_INFO!$H149=1,COUNTRY_INFO!F149+COUNTRY_INFO!G149,0),IF(COUNTRY_INFO!$H149=1,COUNTRY_INFO!F149+COUNTRY_INFO!G149,IF(COUNTRY_INFO!$I149=1,IF(COUNTRY_INFO!M149>=(COUNTRY_INFO!F149+COUNTRY_INFO!G149),COUNTRY_INFO!F149+COUNTRY_INFO!G149,COUNTRY_INFO!$M149),0))))","v":0},{"$f":"IF(AND(INTRO!$E$39=\"Non-endemic\",INTRO!$E$37=\"Non-endemic\"),\"Not required\",IF(INTRO!$E$39=\"Non-endemic\",\"Treat with DEC\",COUNTRY_INFO!V149))","v":0},{"$f":"IF(INTRO!$E$39<>\"Non-endemic\",COUNTRY_INFO!W149,\"Not required\")","v":0},{"$f":"IF(COUNTRY_INFO!H149=1, IF($E149=1,$D149, 0),0)","v":0},{"$f":"IF(COUNTRY_INFO!I149=1, IF(AND(COUNTRY_INFO!$I149=1,$F149<>0),IF(COUNTRY_INFO!M149>=(COUNTRY_INFO!F149+COUNTRY_INFO!G149),COUNTRY_INFO!F149+COUNTRY_INFO!G149,COUNTRY_INFO!$M149), 0),0)","v":0},0,0,0,0,null,0]
[{"$f":"IF(INTRO!$E$39=\"Non-endemic\",\" \",IF(COUNTRY_INFO!A150=0,\" \",COUNTRY_INFO!A150))","v":"Ghana"},{"$f":"IF(INTRO!$E$39=\"Non-endemic\",\" \",IF(COUNTRY_INFO!B150=0,\" \",COUNTRY_INFO!B150))","v":"Greater Accra"},{"$f":"IF(INTRO!$E$39=\"Non-endemic\",\" \",IF(COUNTRY_INFO!C150=0,\" \",COUNTRY_INFO!C150))","v":"Ga East"},{"$f":"IF(INTRO!$E$39=\"Non-endemic\",0,IF(INTRO!$E$39=\"Endemic but PC is not required\",IF(COUNTRY_INFO!$H150=1,COUNTRY_INFO!F150+COUNTRY_INFO!G150,0),IF(COUNTRY_INFO!$H150=1,COUNTRY_INFO!F150+COUNTRY_INFO!G150,IF(COUNTRY_INFO!$I150=1,IF(COUNTRY_INFO!M150>=(COUNTRY_INFO!F150+COUNTRY_INFO!G150),COUNTRY_INFO!F150+COUNTRY_INFO!G150,COUNTRY_INFO!$M150),0))))","v":0},{"$f":"IF(AND(INTRO!$E$39=\"Non-endemic\",INTRO!$E$37=\"Non-endemic\"),\"Not required\",IF(INTRO!$E$39=\"Non-endemic\",\"Treat with DEC\",COUNTRY_INFO!V150))","v":0},{"$f":"IF(INTRO!$E$39<>\"Non-endemic\",COUNTRY_INFO!W150,\"Not required\")","v":0},{"$f":"IF(COUNTRY_INFO!H150=1, IF($E150=1,$D150, 0),0)","v":0},{"$f":"IF(COUNTRY_INFO!I150=1, IF(AND(COUNTRY_INFO!$I150=1,$F150<>0),IF(COUNTRY_INFO!M150>=(COUNTRY_INFO!F150+COUNTRY_INFO!G150),COUNTRY_INFO!F150+COUNTRY_INFO!G150,COUNTRY_INFO!$M150), 0),0)","v":0},0,0,0,0,null,0]
[{"$f":"IF(INTRO!$E$39=\"Non-endemic\",\" \",IF(COUNTRY_INFO!A151=0,\" \",COUNTRY_INFO!A151))","v":"Ghana"},{"$f":"IF(INTRO!$E$39=\"Non-endemic\",\" \",IF(COUNTRY_INFO!B151=0,\" \",COUNTRY_INFO!B151))","v":"Greater Accra"},{"$f":"IF(INTRO!$E$39=\"Non-endemic\",\" \",IF(COUNTRY_INFO!C151=0,\" \",COUNTRY_INFO!C151))","v":"Ga North"},{"$f":"IF(INTRO!$E$39=\"Non-endemic\",0,IF(INTRO!$E$39=\"Endemic but PC is not required\",IF(COUNTRY_INFO!$H151=1,COUNTRY_INFO!F151+COUNTRY_INFO!G151,0),IF(COUNTRY_INFO!$H151=1,COUNTRY_INFO!F151+COUNTRY_INFO!G151,IF(COUNTRY_INFO!$I151=1,IF(COUNTRY_INFO!M151>=(COUNTRY_INFO!F151+COUNTRY_INFO!G151),COUNTRY_INFO!F151+COUNTRY_INFO!G151,COUNTRY_INFO!$M151),0))))","v":0},{"$f":"IF(AND(INTRO!$E$39=\"Non-endemic\",INTRO!$E$37=\"Non-endemic\"),\"Not required\",IF(INTRO!$E$39=\"Non-endemic\",\"Treat with DEC\",COUNTRY_INFO!V151))","v":0},{"$f":"IF(INTRO!$E$39<>\"Non-endemic\",COUNTRY_INFO!W151,\"Not required\")","v":0},{"$f":"IF(COUNTRY_INFO!H151=1, IF($E151=1,$D151, 0),0)","v":0},{"$f":"IF(COUNTRY_INFO!I151=1, IF(AND(COUNTRY_INFO!$I151=1,$F151<>0),IF(COUNTRY_INFO!M151>=(COUNTRY_INFO!F151+COUNTRY_INFO!G151),COUNTRY_INFO!F151+COUNTRY_INFO!G151,COUNTRY_INFO!$M151), 0),0)","v":0},0,0,0,0,null,0]
[{"$f":"IF(INTRO!$E$39=\"Non-endemic\",\" \",IF(COUNTRY_INFO!A152=0,\" \",COUNTRY_INFO!A152))","v":"Ghana"},{"$f":"IF(INTRO!$E$39=\"Non-endemic\",\" \",IF(COUNTRY_INFO!B152=0,\" \",COUNTRY_INFO!B152))","v":"Greater Accra"},{"$f":"IF(INTRO!$E$39=\"Non-endemic\",\" \",IF(COUNTRY_INFO!C152=0,\" \",COUNTRY_INFO!C152))","v":"Ga South"},{"$f":"IF(INTRO!$E$39=\"Non-endemic\",0,IF(INTRO!$E$39=\"Endemic but PC is not required\",IF(COUNTRY_INFO!$H152=1,COUNTRY_INFO!F152+COUNTRY_INFO!G152,0),IF(COUNTRY_INFO!$H152=1,COUNTRY_INFO!F152+COUNTRY_INFO!G152,IF(COUNTRY_INFO!$I152=1,IF(COUNTRY_INFO!M152>=(COUNTRY_INFO!F152+COUNTRY_INFO!G152),COUNTRY_INFO!F152+COUNTRY_INFO!G152,COUNTRY_INFO!$M152),0))))","v":0},{"$f":"IF(AND(INTRO!$E$39=\"Non-endemic\",INTRO!$E$37=\"Non-endemic\"),\"Not required\",IF(INTRO!$E$39=\"Non-endemic\",\"Treat with DEC\",COUNTRY_INFO!V152))","v":0},{"$f":"IF(INTRO!$E$39<>\"Non-endemic\",COUNTRY_INFO!W152,\"Not required\")","v":0},{"$f":"IF(COUNTRY_INFO!H152=1, IF($E152=1,$D152, 0),0)","v":0},{"$f":"IF(COUNTRY_INFO!I152=1, IF(AND(COUNTRY_INFO!$I152=1,$F152<>0),IF(COUNTRY_INFO!M152>=(COUNTRY_INFO!F152+COUNTRY_INFO!G152),COUNTRY_INFO!F152+COUNTRY_INFO!G152,COUNTRY_INFO!$M152), 0),0)","v":0},0,0,0,0,null,0]
[{"$f":"IF(INTRO!$E$39=\"Non-endemic\",\" \",IF(COUNTRY_INFO!A153=0,\" \",COUNTRY_INFO!A153))","v":"Ghana"},{"$f":"IF(INTRO!$E$39=\"Non-endemic\",\" \",IF(COUNTRY_INFO!B153=0,\" \",COUNTRY_INFO!B153))","v":"Greater Accra"},{"$f":"IF(INTRO!$E$39=\"Non-endemic\",\" \",IF(COUNTRY_INFO!C153=0,\" \",COUNTRY_INFO!C153))","v":"Ga West"},{"$f":"IF(INTRO!$E$39=\"Non-endemic\",0,IF(INTRO!$E$39=\"Endemic but PC is not required\",IF(COUNTRY_INFO!$H153=1,COUNTRY_INFO!F153+COUNTRY_INFO!G153,0),IF(COUNTRY_INFO!$H153=1,COUNTRY_INFO!F153+COUNTRY_INFO!G153,IF(COUNTRY_INFO!$I153=1,IF(COUNTRY_INFO!M153>=(COUNTRY_INFO!F153+COUNTRY_INFO!G153),COUNTRY_INFO!F153+COUNTRY_INFO!G153,COUNTRY_INFO!$M153),0))))","v":0},{"$f":"IF(AND(INTRO!$E$39=\"Non-endemic\",INTRO!$E$37=\"Non-endemic\"),\"Not required\",IF(INTRO!$E$39=\"Non-endemic\",\"Treat with DEC\",COUNTRY_INFO!V153))","v":0},{"$f":"IF(INTRO!$E$39<>\"Non-endemic\",COUNTRY_INFO!W153,\"Not required\")","v":0},{"$f":"IF(COUNTRY_INFO!H153=1, IF($E153=1,$D153, 0),0)","v":0},{"$f":"IF(COUNTRY_INFO!I153=1, IF(AND(COUNTRY_INFO!$I153=1,$F153<>0),IF(COUNTRY_INFO!M153>=(COUNTRY_INFO!F153+COUNTRY_INFO!G153),COUNTRY_INFO!F153+COUNTRY_INFO!G153,COUNTRY_INFO!$M153), 0),0)","v":0},0,0,0,0,null,0]
[{"$f":"IF(INTRO!$E$39=\"Non-endemic\",\" \",IF(COUNTRY_INFO!A154=0,\" \",COUNTRY_INFO!A154))","v":"Ghana"},{"$f":"IF(INTRO!$E$39=\"Non-endemic\",\" \",IF(COUNTRY_INFO!B154=0,\" \",COUNTRY_INFO!B154))","v":"Greater Accra"},{"$f":"IF(INTRO!$E$39=\"Non-endemic\",\" \",IF(COUNTRY_INFO!C154=0,\" \",COUNTRY_INFO!C154))","v":"Korle-Klottey"},{"$f":"IF(INTRO!$E$39=\"Non-endemic\",0,IF(INTRO!$E$39=\"Endemic but PC is not required\",IF(COUNTRY_INFO!$H154=1,COUNTRY_INFO!F154+COUNTRY_INFO!G154,0),IF(COUNTRY_INFO!$H154=1,COUNTRY_INFO!F154+COUNTRY_INFO!G154,IF(COUNTRY_INFO!$I154=1,IF(COUNTRY_INFO!M154>=(COUNTRY_INFO!F154+COUNTRY_INFO!G154),COUNTRY_INFO!F154+COUNTRY_INFO!G154,COUNTRY_INFO!$M154),0))))","v":0},{"$f":"IF(AND(INTRO!$E$39=\"Non-endemic\",INTRO!$E$37=\"Non-endemic\"),\"Not required\",IF(INTRO!$E$39=\"Non-endemic\",\"Treat with DEC\",COUNTRY_INFO!V154))","v":0},{"$f":"IF(INTRO!$E$39<>\"Non-endemic\",COUNTRY_INFO!W154,\"Not required\")","v":0},{"$f":"IF(COUNTRY_INFO!H154=1, IF($E154=1,$D154, 0),0)","v":0},{"$f":"IF(COUNTRY_INFO!I154=1, IF(AND(COUNTRY_INFO!$I154=1,$F154<>0),IF(COUNTRY_INFO!M154>=(COUNTRY_INFO!F154+COUNTRY_INFO!G154),COUNTRY_INFO!F154+COUNTRY_INFO!G154,COUNTRY_INFO!$M154), 0),0)","v":0},0,0,0,0,null,0]
[{"$f":"IF(INTRO!$E$39=\"Non-endemic\",\" \",IF(COUNTRY_INFO!A155=0,\" \",COUNTRY_INFO!A155))","v":"Ghana"},{"$f":"IF(INTRO!$E$39=\"Non-endemic\",\" \",IF(COUNTRY_INFO!B155=0,\" \",COUNTRY_INFO!B155))","v":"Greater Accra"},{"$f":"IF(INTRO!$E$39=\"Non-endemic\",\" \",IF(COUNTRY_INFO!C155=0,\" \",COUNTRY_INFO!C155))","v":"Kpone-Katamanso"},{"$f":"IF(INTRO!$E$39=\"Non-endemic\",0,IF(INTRO!$E$39=\"Endemic but PC is not required\",IF(COUNTRY_INFO!$H155=1,COUNTRY_INFO!F155+COUNTRY_INFO!G155,0),IF(COUNTRY_INFO!$H155=1,COUNTRY_INFO!F155+COUNTRY_INFO!G155,IF(COUNTRY_INFO!$I155=1,IF(COUNTRY_INFO!M155>=(COUNTRY_INFO!F155+COUNTRY_INFO!G155),COUNTRY_INFO!F155+COUNTRY_INFO!G155,COUNTRY_INFO!$M155),0))))","v":0},{"$f":"IF(AND(INTRO!$E$39=\"Non-endemic\",INTRO!$E$37=\"Non-endemic\"),\"Not required\",IF(INTRO!$E$39=\"Non-endemic\",\"Treat with DEC\",COUNTRY_INFO!V155))","v":0},{"$f":"IF(INTRO!$E$39<>\"Non-endemic\",COUNTRY_INFO!W155,\"Not required\")","v":0},{"$f":"IF(COUNTRY_INFO!H155=1, IF($E155=1,$D155, 0),0)","v":0},{"$f":"IF(COUNTRY_INFO!I155=1, IF(AND(COUNTRY_INFO!$I155=1,$F155<>0),IF(COUNTRY_INFO!M155>=(COUNTRY_INFO!F155+COUNTRY_INFO!G155),COUNTRY_INFO!F155+COUNTRY_INFO!G155,COUNTRY_INFO!$M155), 0),0)","v":0},0,0,0,0,null,0]
[{"$f":"IF(INTRO!$E$39=\"Non-endemic\",\" \",IF(COUNTRY_INFO!A156=0,\" \",COUNTRY_INFO!A156))","v":"Ghana"},{"$f":"IF(INTRO!$E$39=\"Non-endemic\",\" \",IF(COUNTRY_INFO!B156=0,\" \",COUNTRY_INFO!B156))","v":"Greater Accra"},{"$f":"IF(INTRO!$E$39=\"Non-endemic\",\" \",IF(COUNTRY_INFO!C156=0,\" \",COUNTRY_INFO!C156))","v":"Krowor"},{"$f":"IF(INTRO!$E$39=\"Non-endemic\",0,IF(INTRO!$E$39=\"Endemic but PC is not required\",IF(COUNTRY_INFO!$H156=1,COUNTRY_INFO!F156+COUNTRY_INFO!G156,0),IF(COUNTRY_INFO!$H156=1,COUNTRY_INFO!F156+COUNTRY_INFO!G156,IF(COUNTRY_INFO!$I156=1,IF(COUNTRY_INFO!M156>=(COUNTRY_INFO!F156+COUNTRY_INFO!G156),COUNTRY_INFO!F156+COUNTRY_INFO!G156,COUNTRY_INFO!$M156),0))))","v":0},{"$f":"IF(AND(INTRO!$E$39=\"Non-endemic\",INTRO!$E$37=\"Non-endemic\"),\"Not required\",IF(INTRO!$E$39=\"Non-endemic\",\"Treat with DEC\",COUNTRY_INFO!V156))","v":0},{"$f":"IF(INTRO!$E$39<>\"Non-endemic\",COUNTRY_INFO!W156,\"Not required\")","v":0},{"$f":"IF(COUNTRY_INFO!H156=1, IF($E156=1,$D156, 0),0)","v":0},{"$f":"IF(COUNTRY_INFO!I156=1, IF(AND(COUNTRY_INFO!$I156=1,$F156<>0),IF(COUNTRY_INFO!M156>=(COUNTRY_INFO!F156+COUNTRY_INFO!G156),COUNTRY_INFO!F156+COUNTRY_INFO!G156,COUNTRY_INFO!$M156), 0),0)","v":0},0,0,0,0,null,0]
[{"$f":"IF(INTRO!$E$39=\"Non-endemic\",\" \",IF(COUNTRY_INFO!A157=0,\" \",COUNTRY_INFO!A157))","v":"Ghana"},{"$f":"IF(INTRO!$E$39=\"Non-endemic\",\" \",IF(COUNTRY_INFO!B157=0,\" \",COUNTRY_INFO!B157))","v":"Greater Accra"},{"$f":"IF(INTRO!$E$39=\"Non-endemic\",\" \",IF(COUNTRY_INFO!C157=0,\" \",COUNTRY_INFO!C157))","v":"La-Dade-Kotopon"},{"$f":"IF(INTRO!$E$39=\"Non-endemic\",0,IF(INTRO!$E$39=\"Endemic but PC is not required\",IF(COUNTRY_INFO!$H157=1,COUNTRY_INFO!F157+COUNTRY_INFO!G157,0),IF(COUNTRY_INFO!$H157=1,COUNTRY_INFO!F157+COUNTRY_INFO!G157,IF(COUNTRY_INFO!$I157=1,IF(COUNTRY_INFO!M157>=(COUNTRY_INFO!F157+COUNTRY_INFO!G157),COUNTRY_INFO!F157+COUNTRY_INFO!G157,COUNTRY_INFO!$M157),0))))","v":0},{"$f":"IF(AND(INTRO!$E$39=\"Non-endemic\",INTRO!$E$37=\"Non-endemic\"),\"Not required\",IF(INTRO!$E$39=\"Non-endemic\",\"Treat with DEC\",COUNTRY_INFO!V157))","v":0},{"$f":"IF(INTRO!$E$39<>\"Non-endemic\",COUNTRY_INFO!W157,\"Not required\")","v":0},{"$f":"IF(COUNTRY_INFO!H157=1, IF($E157=1,$D157, 0),0)","v":0},{"$f":"IF(COUNTRY_INFO!I157=1, IF(AND(COUNTRY_INFO!$I157=1,$F157<>0),IF(COUNTRY_INFO!M157>=(COUNTRY_INFO!F157+COUNTRY_INFO!G157),COUNTRY_INFO!F157+COUNTRY_INFO!G157,COUNTRY_INFO!$M157), 0),0)","v":0},0,0,0,0,null,0]
[{"$f":"IF(INTRO!$E$39=\"Non-endemic\",\" \",IF(COUNTRY_INFO!A158=0,\" \",COUNTRY_INFO!A158))","v":"Ghana"},{"$f":"IF(INTRO!$E$39=\"Non-endemic\",\" \",IF(COUNTRY_INFO!B158=0,\" \",COUNTRY_INFO!B158))","v":"Greater Accra"},{"$f":"IF(INTRO!$E$39=\"Non-endemic\",\" \",IF(COUNTRY_INFO!C158=0,\" \",COUNTRY_INFO!C158))","v":"La-Nkwantanang-Madina"},{"$f":"IF(INTRO!$E$39=\"Non-endemic\",0,IF(INTRO!$E$39=\"Endemic but PC is not required\",IF(COUNTRY_INFO!$H158=1,COUNTRY_INFO!F158+COUNTRY_INFO!G158,0),IF(COUNTRY_INFO!$H158=1,COUNTRY_INFO!F158+COUNTRY_INFO!G158,IF(COUNTRY_INFO!$I158=1,IF(COUNTRY_INFO!M158>=(COUNTRY_INFO!F158+COUNTRY_INFO!G158),COUNTRY_INFO!F158+COUNTRY_INFO!G158,COUNTRY_INFO!$M158),0))))","v":0},{"$f":"IF(AND(INTRO!$E$39=\"Non-endemic\",INTRO!$E$37=\"Non-endemic\"),\"Not required\",IF(INTRO!$E$39=\"Non-endemic\",\"Treat with DEC\",COUNTRY_INFO!V158))","v":0},{"$f":"IF(INTRO!$E$39<>\"Non-endemic\",COUNTRY_INFO!W158,\"Not required\")","v":0},{"$f":"IF(COUNTRY_INFO!H158=1, IF($E158=1,$D158, 0),0)","v":0},{"$f":"IF(COUNTRY_INFO!I158=1, IF(AND(COUNTRY_INFO!$I158=1,$F158<>0),IF(COUNTRY_INFO!M158>=(COUNTRY_INFO!F158+COUNTRY_INFO!G158),COUNTRY_INFO!F158+COUNTRY_INFO!G158,COUNTRY_INFO!$M158), 0),0)","v":0},0,0,0,0,null,0]
[{"$f":"IF(INTRO!$E$39=\"Non-endemic\",\" \",IF(COUNTRY_INFO!A159=0,\" \",COUNTRY_INFO!A159))","v":"Ghana"},{"$f":"IF(INTRO!$E$39=\"Non-endemic\",\" \",IF(COUNTRY_INFO!B159=0,\" \",COUNTRY_INFO!B159))","v":"Greater Accra"},{"$f":"IF(INTRO!$E$39=\"Non-endemic\",\" \",IF(COUNTRY_INFO!C159=0,\" \",COUNTRY_INFO!C159))","v":"Ledzokuku"},{"$f":"IF(INTRO!$E$39=\"Non-endemic\",0,IF(INTRO!$E$39=\"Endemic but PC is not required\",IF(COUNTRY_INFO!$H159=1,COUNTRY_INFO!F159+COUNTRY_INFO!G159,0),IF(COUNTRY_INFO!$H159=1,COUNTRY_INFO!F159+COUNTRY_INFO!G159,IF(COUNTRY_INFO!$I159=1,IF(COUNTRY_INFO!M159>=(COUNTRY_INFO!F159+COUNTRY_INFO!G159),COUNTRY_INFO!F159+COUNTRY_INFO!G159,COUNTRY_INFO!$M159),0))))","v":0},{"$f":"IF(AND(INTRO!$E$39=\"Non-endemic\",INTRO!$E$37=\"Non-endemic\"),\"Not required\",IF(INTRO!$E$39=\"Non-endemic\",\"Treat with DEC\",COUNTRY_INFO!V159))","v":0},{"$f":"IF(INTRO!$E$39<>\"Non-endemic\",COUNTRY_INFO!W159,\"Not required\")","v":0},{"$f":"IF(COUNTRY_INFO!H159=1, IF($E159=1,$D159, 0),0)","v":0},{"$f":"IF(COUNTRY_INFO!I159=1, IF(AND(COUNTRY_INFO!$I159=1,$F159<>0),IF(COUNTRY_INFO!M159>=(COUNTRY_INFO!F159+COUNTRY_INFO!G159),COUNTRY_INFO!F159+COUNTRY_INFO!G159,COUNTRY_INFO!$M159), 0),0)","v":0},0,0,0,0,null,0]
[{"$f":"IF(INTRO!$E$39=\"Non-endemic\",\" \",IF(COUNTRY_INFO!A160=0,\" \",COUNTRY_INFO!A160))","v":"Ghana"},{"$f":"IF(INTRO!$E$39=\"Non-endemic\",\" \",IF(COUNTRY_INFO!B160=0,\" \",COUNTRY_INFO!B160))","v":"Greater Accra"},{"$f":"IF(INTRO!$E$39=\"Non-endemic\",\" \",IF(COUNTRY_INFO!C160=0,\" \",COUNTRY_INFO!C160))","v":"Ningo Prampram"},{"$f":"IF(INTRO!$E$39=\"Non-endemic\",0,IF(INTRO!$E$39=\"Endemic but PC is not required\",IF(COUNTRY_INFO!$H160=1,COUNTRY_INFO!F160+COUNTRY_INFO!G160,0),IF(COUNTRY_INFO!$H160=1,COUNTRY_INFO!F160+COUNTRY_INFO!G160,IF(COUNTRY_INFO!$I160=1,IF(COUNTRY_INFO!M160>=(COUNTRY_INFO!F160+COUNTRY_INFO!G160),COUNTRY_INFO!F160+COUNTRY_INFO!G160,COUNTRY_INFO!$M160),0))))","v":0},{"$f":"IF(AND(INTRO!$E$39=\"Non-endemic\",INTRO!$E$37=\"Non-endemic\"),\"Not required\",IF(INTRO!$E$39=\"Non-endemic\",\"Treat with DEC\",COUNTRY_INFO!V160))","v":0},{"$f":"IF(INTRO!$E$39<>\"Non-endemic\",COUNTRY_INFO!W160,\"Not required\")","v":0},{"$f":"IF(COUNTRY_INFO!H160=1, IF($E160=1,$D160, 0),0)","v":0},{"$f":"IF(COUNTRY_INFO!I160=1, IF(AND(COUNTRY_INFO!$I160=1,$F160<>0),IF(COUNTRY_INFO!M160>=(COUNTRY_INFO!F160+COUNTRY_INFO!G160),COUNTRY_INFO!F160+COUNTRY_INFO!G160,COUNTRY_INFO!$M160), 0),0)","v":0},0,0,0,0,null,0]
[{"$f":"IF(INTRO!$E$39=\"Non-endemic\",\" \",IF(COUNTRY_INFO!A161=0,\" \",COUNTRY_INFO!A161))","v":"Ghana"},{"$f":"IF(INTRO!$E$39=\"Non-endemic\",\" \",IF(COUNTRY_INFO!B161=0,\" \",COUNTRY_INFO!B161))","v":"Greater Accra"},{"$f":"IF(INTRO!$E$39=\"Non-endemic\",\" \",IF(COUNTRY_INFO!C161=0,\" \",COUNTRY_INFO!C161))","v":"Okai Koi North"},{"$f":"IF(INTRO!$E$39=\"Non-endemic\",0,IF(INTRO!$E$39=\"Endemic but PC is not required\",IF(COUNTRY_INFO!$H161=1,COUNTRY_INFO!F161+COUNTRY_INFO!G161,0),IF(COUNTRY_INFO!$H161=1,COUNTRY_INFO!F161+COUNTRY_INFO!G161,IF(COUNTRY_INFO!$I161=1,IF(COUNTRY_INFO!M161>=(COUNTRY_INFO!F161+COUNTRY_INFO!G161),COUNTRY_INFO!F161+COUNTRY_INFO!G161,COUNTRY_INFO!$M161),0))))","v":0},{"$f":"IF(AND(INTRO!$E$39=\"Non-endemic\",INTRO!$E$37=\"Non-endemic\"),\"Not required\",IF(INTRO!$E$39=\"Non-endemic\",\"Treat with DEC\",COUNTRY_INFO!V161))","v":0},{"$f":"IF(INTRO!$E$39<>\"Non-endemic\",COUNTRY_INFO!W161,\"Not required\")","v":0},{"$f":"IF(COUNTRY_INFO!H161=1, IF($E161=1,$D161, 0),0)","v":0},{"$f":"IF(COUNTRY_INFO!I161=1, IF(AND(COUNTRY_INFO!$I161=1,$F161<>0),IF(COUNTRY_INFO!M161>=(COUNTRY_INFO!F161+COUNTRY_INFO!G161),COUNTRY_INFO!F161+COUNTRY_INFO!G161,COUNTRY_INFO!$M161), 0),0)","v":0},0,0,0,0,null,0]
[{"$f":"IF(INTRO!$E$39=\"Non-endemic\",\" \",IF(COUNTRY_INFO!A162=0,\" \",COUNTRY_INFO!A162))","v":"Ghana"},{"$f":"IF(INTRO!$E$39=\"Non-endemic\",\" \",IF(COUNTRY_INFO!B162=0,\" \",COUNTRY_INFO!B162))","v":"Greater Accra"},{"$f":"IF(INTRO!$E$39=\"Non-endemic\",\" \",IF(COUNTRY_INFO!C162=0,\" \",COUNTRY_INFO!C162))","v":"Shai-Osudoku"},{"$f":"IF(INTRO!$E$39=\"Non-endemic\",0,IF(INTRO!$E$39=\"Endemic but PC is not required\",IF(COUNTRY_INFO!$H162=1,COUNTRY_INFO!F162+COUNTRY_INFO!G162,0),IF(COUNTRY_INFO!$H162=1,COUNTRY_INFO!F162+COUNTRY_INFO!G162,IF(COUNTRY_INFO!$I162=1,IF(COUNTRY_INFO!M162>=(COUNTRY_INFO!F162+COUNTRY_INFO!G162),COUNTRY_INFO!F162+COUNTRY_INFO!G162,COUNTRY_INFO!$M162),0))))","v":0},{"$f":"IF(AND(INTRO!$E$39=\"Non-endemic\",INTRO!$E$37=\"Non-endemic\"),\"Not required\",IF(INTRO!$E$39=\"Non-endemic\",\"Treat with DEC\",COUNTRY_INFO!V162))","v":0},{"$f":"IF(INTRO!$E$39<>\"Non-endemic\",COUNTRY_INFO!W162,\"Not required\")","v":0},{"$f":"IF(COUNTRY_INFO!H162=1, IF($E162=1,$D162, 0),0)","v":0},{"$f":"IF(COUNTRY_INFO!I162=1, IF(AND(COUNTRY_INFO!$I162=1,$F162<>0),IF(COUNTRY_INFO!M162>=(COUNTRY_INFO!F162+COUNTRY_INFO!G162),COUNTRY_INFO!F162+COUNTRY_INFO!G162,COUNTRY_INFO!$M162), 0),0)","v":0},0,0,0,0,null,0]
[{"$f":"IF(INTRO!$E$39=\"Non-endemic\",\" \",IF(COUNTRY_INFO!A163=0,\" \",COUNTRY_INFO!A163))","v":"Ghana"},{"$f":"IF(INTRO!$E$39=\"Non-endemic\",\" \",IF(COUNTRY_INFO!B163=0,\" \",COUNTRY_INFO!B163))","v":"Greater Accra"},{"$f":"IF(INTRO!$E$39=\"Non-endemic\",\" \",IF(COUNTRY_INFO!C163=0,\" \",COUNTRY_INFO!C163))","v":"Tema"},{"$f":"IF(INTRO!$E$39=\"Non-endemic\",0,IF(INTRO!$E$39=\"Endemic but PC is not required\",IF(COUNTRY_INFO!$H163=1,COUNTRY_INFO!F163+COUNTRY_INFO!G163,0),IF(COUNTRY_INFO!$H163=1,COUNTRY_INFO!F163+COUNTRY_INFO!G163,IF(COUNTRY_INFO!$I163=1,IF(COUNTRY_INFO!M163>=(COUNTRY_INFO!F163+COUNTRY_INFO!G163),COUNTRY_INFO!F163+COUNTRY_INFO!G163,COUNTRY_INFO!$M163),0))))","v":0},{"$f":"IF(AND(INTRO!$E$39=\"Non-endemic\",INTRO!$E$37=\"Non-endemic\"),\"Not required\",IF(INTRO!$E$39=\"Non-endemic\",\"Treat with DEC\",COUNTRY_INFO!V163))","v":0},{"$f":"IF(INTRO!$E$39<>\"Non-endemic\",COUNTRY_INFO!W163,\"Not required\")","v":0},{"$f":"IF(COUNTRY_INFO!H163=1, IF($E163=1,$D163, 0),0)","v":0},{"$f":"IF(COUNTRY_INFO!I163=1, IF(AND(COUNTRY_INFO!$I163=1,$F163<>0),IF(COUNTRY_INFO!M163>=(COUNTRY_INFO!F163+COUNTRY_INFO!G163),COUNTRY_INFO!F163+COUNTRY_INFO!G163,COUNTRY_INFO!$M163), 0),0)","v":0},0,0,0,0,null,0]
[{"$f":"IF(INTRO!$E$39=\"Non-endemic\",\" \",IF(COUNTRY_INFO!A164=0,\" \",COUNTRY_INFO!A164))","v":"Ghana"},{"$f":"IF(INTRO!$E$39=\"Non-endemic\",\" \",IF(COUNTRY_INFO!B164=0,\" \",COUNTRY_INFO!B164))","v":"Greater Accra"},{"$f":"IF(INTRO!$E$39=\"Non-endemic\",\" \",IF(COUNTRY_INFO!C164=0,\" \",COUNTRY_INFO!C164))","v":"Tema West"},{"$f":"IF(INTRO!$E$39=\"Non-endemic\",0,IF(INTRO!$E$39=\"Endemic but PC is not required\",IF(COUNTRY_INFO!$H164=1,COUNTRY_INFO!F164+COUNTRY_INFO!G164,0),IF(COUNTRY_INFO!$H164=1,COUNTRY_INFO!F164+COUNTRY_INFO!G164,IF(COUNTRY_INFO!$I164=1,IF(COUNTRY_INFO!M164>=(COUNTRY_INFO!F164+COUNTRY_INFO!G164),COUNTRY_INFO!F164+COUNTRY_INFO!G164,COUNTRY_INFO!$M164),0))))","v":0},{"$f":"IF(AND(INTRO!$E$39=\"Non-endemic\",INTRO!$E$37=\"Non-endemic\"),\"Not required\",IF(INTRO!$E$39=\"Non-endemic\",\"Treat with DEC\",COUNTRY_INFO!V164))","v":0},{"$f":"IF(INTRO!$E$39<>\"Non-endemic\",COUNTRY_INFO!W164,\"Not required\")","v":0},{"$f":"IF(COUNTRY_INFO!H164=1, IF($E164=1,$D164, 0),0)","v":0},{"$f":"IF(COUNTRY_INFO!I164=1, IF(AND(COUNTRY_INFO!$I164=1,$F164<>0),IF(COUNTRY_INFO!M164>=(COUNTRY_INFO!F164+COUNTRY_INFO!G164),COUNTRY_INFO!F164+COUNTRY_INFO!G164,COUNTRY_INFO!$M164), 0),0)","v":0},0,0,0,0,null,0]
[{"$f":"IF(INTRO!$E$39=\"Non-endemic\",\" \",IF(COUNTRY_INFO!A165=0,\" \",COUNTRY_INFO!A165))","v":"Ghana"},{"$f":"IF(INTRO!$E$39=\"Non-endemic\",\" \",IF(COUNTRY_INFO!B165=0,\" \",COUNTRY_INFO!B165))","v":"Greater Accra"},{"$f":"IF(INTRO!$E$39=\"Non-endemic\",\" \",IF(COUNTRY_INFO!C165=0,\" \",COUNTRY_INFO!C165))","v":"Weija-Gbawe"},{"$f":"IF(INTRO!$E$39=\"Non-endemic\",0,IF(INTRO!$E$39=\"Endemic but PC is not required\",IF(COUNTRY_INFO!$H165=1,COUNTRY_INFO!F165+COUNTRY_INFO!G165,0),IF(COUNTRY_INFO!$H165=1,COUNTRY_INFO!F165+COUNTRY_INFO!G165,IF(COUNTRY_INFO!$I165=1,IF(COUNTRY_INFO!M165>=(COUNTRY_INFO!F165+COUNTRY_INFO!G165),COUNTRY_INFO!F165+COUNTRY_INFO!G165,COUNTRY_INFO!$M165),0))))","v":0},{"$f":"IF(AND(INTRO!$E$39=\"Non-endemic\",INTRO!$E$37=\"Non-endemic\"),\"Not required\",IF(INTRO!$E$39=\"Non-endemic\",\"Treat with DEC\",COUNTRY_INFO!V165))","v":0},{"$f":"IF(INTRO!$E$39<>\"Non-endemic\",COUNTRY_INFO!W165,\"Not required\")","v":0},{"$f":"IF(COUNTRY_INFO!H165=1, IF($E165=1,$D165, 0),0)","v":0},{"$f":"IF(COUNTRY_INFO!I165=1, IF(AND(COUNTRY_INFO!$I165=1,$F165<>0),IF(COUNTRY_INFO!M165>=(COUNTRY_INFO!F165+COUNTRY_INFO!G165),COUNTRY_INFO!F165+COUNTRY_INFO!G165,COUNTRY_INFO!$M165), 0),0)","v":0},0,0,0,0,null,0]
[{"$f":"IF(INTRO!$E$39=\"Non-endemic\",\" \",IF(COUNTRY_INFO!A166=0,\" \",COUNTRY_INFO!A166))","v":"Ghana"},{"$f":"IF(INTRO!$E$39=\"Non-endemic\",\" \",IF(COUNTRY_INFO!B166=0,\" \",COUNTRY_INFO!B166))","v":"North East"},{"$f":"IF(INTRO!$E$39=\"Non-endemic\",\" \",IF(COUNTRY_INFO!C166=0,\" \",COUNTRY_INFO!C166))","v":"Bunkpurugu -Nakpanduri"},{"$f":"IF(INTRO!$E$39=\"Non-endemic\",0,IF(INTRO!$E$39=\"Endemic but PC is not required\",IF(COUNTRY_INFO!$H166=1,COUNTRY_INFO!F166+COUNTRY_INFO!G166,0),IF(COUNTRY_INFO!$H166=1,COUNTRY_INFO!F166+COUNTRY_INFO!G166,IF(COUNTRY_INFO!$I166=1,IF(COUNTRY_INFO!M166>=(COUNTRY_INFO!F166+COUNTRY_INFO!G166),COUNTRY_INFO!F166+COUNTRY_INFO!G166,COUNTRY_INFO!$M166),0))))","v":0},{"$f":"IF(AND(INTRO!$E$39=\"Non-endemic\",INTRO!$E$37=\"Non-endemic\"),\"Not required\",IF(INTRO!$E$39=\"Non-endemic\",\"Treat with DEC\",COUNTRY_INFO!V166))","v":0},{"$f":"IF(INTRO!$E$39<>\"Non-endemic\",COUNTRY_INFO!W166,\"Not required\")","v":0},{"$f":"IF(COUNTRY_INFO!H166=1, IF($E166=1,$D166, 0),0)","v":0},{"$f":"IF(COUNTRY_INFO!I166=1, IF(AND(COUNTRY_INFO!$I166=1,$F166<>0),IF(COUNTRY_INFO!M166>=(COUNTRY_INFO!F166+COUNTRY_INFO!G166),COUNTRY_INFO!F166+COUNTRY_INFO!G166,COUNTRY_INFO!$M166), 0),0)","v":0},0,0,0,0,null,0]
[{"$f":"IF(INTRO!$E$39=\"Non-endemic\",\" \",IF(COUNTRY_INFO!A167=0,\" \",COUNTRY_INFO!A167))","v":"Ghana"},{"$f":"IF(INTRO!$E$39=\"Non-endemic\",\" \",IF(COUNTRY_INFO!B167=0,\" \",COUNTRY_INFO!B167))","v":"North East"},{"$f":"IF(INTRO!$E$39=\"Non-endemic\",\" \",IF(COUNTRY_INFO!C167=0,\" \",COUNTRY_INFO!C167))","v":"Chereponi"},{"$f":"IF(INTRO!$E$39=\"Non-endemic\",0,IF(INTRO!$E$39=\"Endemic but PC is not required\",IF(COUNTRY_INFO!$H167=1,COUNTRY_INFO!F167+COUNTRY_INFO!G167,0),IF(COUNTRY_INFO!$H167=1,COUNTRY_INFO!F167+COUNTRY_INFO!G167,IF(COUNTRY_INFO!$I167=1,IF(COUNTRY_INFO!M167>=(COUNTRY_INFO!F167+COUNTRY_INFO!G167),COUNTRY_INFO!F167+COUNTRY_INFO!G167,COUNTRY_INFO!$M167),0))))","v":29669},{"$f":"IF(AND(INTRO!$E$39=\"Non-endemic\",INTRO!$E$37=\"Non-endemic\"),\"Not required\",IF(INTRO!$E$39=\"Non-endemic\",\"Treat with DEC\",COUNTRY_INFO!V167))","v":0},{"$f":"IF(INTRO!$E$39<>\"Non-endemic\",COUNTRY_INFO!W167,\"Not required\")","v":2},{"$f":"IF(COUNTRY_INFO!H167=1, IF($E167=1,$D167, 0),0)","v":0},{"$f":"IF(COUNTRY_INFO!I167=1, IF(AND(COUNTRY_INFO!$I167=1,$F167<>0),IF(COUNTRY_INFO!M167>=(COUNTRY_INFO!F167+COUNTRY_INFO!G167),COUNTRY_INFO!F167+COUNTRY_INFO!G167,COUNTRY_INFO!$M167), 0),0)","v":29669},0,166146.4,0,166146.4,null,166146.4]
[{"$f":"IF(INTRO!$E$39=\"Non-endemic\",\" \",IF(COUNTRY_INFO!A168=0,\" \",COUNTRY_INFO!A168))","v":"Ghana"},{"$f":"IF(INTRO!$E$39=\"Non-endemic\",\" \",IF(COUNTRY_INFO!B168=0,\" \",COUNTRY_INFO!B168))","v":"North East"},{"$f":"IF(INTRO!$E$39=\"Non-endemic\",\" \",IF(COUNTRY_INFO!C168=0,\" \",COUNTRY_INFO!C168))","v":"East Mamprusi"},{"$f":"IF(INTRO!$E$39=\"Non-endemic\",0,IF(INTRO!$E$39=\"Endemic but PC is not required\",IF(COUNTRY_INFO!$H168=1,COUNTRY_INFO!F168+COUNTRY_INFO!G168,0),IF(COUNTRY_INFO!$H168=1,COUNTRY_INFO!F168+COUNTRY_INFO!G168,IF(COUNTRY_INFO!$I168=1,IF(COUNTRY_INFO!M168>=(COUNTRY_INFO!F168+COUNTRY_INFO!G168),COUNTRY_INFO!F168+COUNTRY_INFO!G168,COUNTRY_INFO!$M168),0))))","v":0},{"$f":"IF(AND(INTRO!$E$39=\"Non-endemic\",INTRO!$E$37=\"Non-endemic\"),\"Not required\",IF(INTRO!$E$39=\"Non-endemic\",\"Treat with DEC\",COUNTRY_INFO!V168))","v":0},{"$f":"IF(INTRO!$E$39<>\"Non-endemic\",COUNTRY_INFO!W168,\"Not required\")","v":0},{"$f":"IF(COUNTRY_INFO!H168=1, IF($E168=1,$D168, 0),0)","v":0},{"$f":"IF(COUNTRY_INFO!I168=1, IF(AND(COUNTRY_INFO!$I168=1,$F168<>0),IF(COUNTRY_INFO!M168>=(COUNTRY_INFO!F168+COUNTRY_INFO!G168),COUNTRY_INFO!F168+COUNTRY_INFO!G168,COUNTRY_INFO!$M168), 0),0)","v":0},0,0,0,0,null,0]
[{"$f":"IF(INTRO!$E$39=\"Non-endemic\",\" \",IF(COUNTRY_INFO!A169=0,\" \",COUNTRY_INFO!A169))","v":"Ghana"},{"$f":"IF(INTRO!$E$39=\"Non-endemic\",\" \",IF(COUNTRY_INFO!B169=0,\" \",COUNTRY_INFO!B169))","v":"North East"},{"$f":"IF(INTRO!$E$39=\"Non-endemic\",\" \",IF(COUNTRY_INFO!C169=0,\" \",COUNTRY_INFO!C169))","v":"Mamprugu-Moagduri"},{"$f":"IF(INTRO!$E$39=\"Non-endemic\",0,IF(INTRO!$E$39=\"Endemic but PC is not required\",IF(COUNTRY_INFO!$H169=1,COUNTRY_INFO!F169+COUNTRY_INFO!G169,0),IF(COUNTRY_INFO!$H169=1,COUNTRY_INFO!F169+COUNTRY_INFO!G169,IF(COUNTRY_INFO!$I169=1,IF(COUNTRY_INFO!M169>=(COUNTRY_INFO!F169+COUNTRY_INFO!G169),COUNTRY_INFO!F169+COUNTRY_INFO!G169,COUNTRY_INFO!$M169),0))))","v":64211},{"$f":"IF(AND(INTRO!$E$39=\"Non-endemic\",INTRO!$E$37=\"Non-endemic\"),\"Not required\",IF(INTRO!$E$39=\"Non-endemic\",\"Treat with DEC\",COUNTRY_INFO!V169))","v":0},{"$f":"IF(INTRO!$E$39<>\"Non-endemic\",COUNTRY_INFO!W169,\"Not required\")","v":2},{"$f":"IF(COUNTRY_INFO!H169=1, IF($E169=1,$D169, 0),0)","v":0},{"$f":"IF(COUNTRY_INFO!I169=1, IF(AND(COUNTRY_INFO!$I169=1,$F169<>0),IF(COUNTRY_INFO!M169>=(COUNTRY_INFO!F169+COUNTRY_INFO!G169),COUNTRY_INFO!F169+COUNTRY_INFO!G169,COUNTRY_INFO!$M169), 0),0)","v":64211},0,359581.6,0,359581.6,null,359581.6]
[{"$f":"IF(INTRO!$E$39=\"Non-endemic\",\" \",IF(COUNTRY_INFO!A170=0,\" \",COUNTRY_INFO!A170))","v":"Ghana"},{"$f":"IF(INTRO!$E$39=\"Non-endemic\",\" \",IF(COUNTRY_INFO!B170=0,\" \",COUNTRY_INFO!B170))","v":"North East"},{"$f":"IF(INTRO!$E$39=\"Non-endemic\",\" \",IF(COUNTRY_INFO!C170=0,\" \",COUNTRY_INFO!C170))","v":"West Mamprusi"},{"$f":"IF(INTRO!$E$39=\"Non-endemic\",0,IF(INTRO!$E$39=\"Endemic but PC is not required\",IF(COUNTRY_INFO!$H170=1,COUNTRY_INFO!F170+COUNTRY_INFO!G170,0),IF(COUNTRY_INFO!$H170=1,COUNTRY_INFO!F170+COUNTRY_INFO!G170,IF(COUNTRY_INFO!$I170=1,IF(COUNTRY_INFO!M170>=(COUNTRY_INFO!F170+COUNTRY_INFO!G170),COUNTRY_INFO!F170+COUNTRY_INFO!G170,COUNTRY_INFO!$M170),0))))","v":0},{"$f":"IF(AND(INTRO!$E$39=\"Non-endemic\",INTRO!$E$37=\"Non-endemic\"),\"Not required\",IF(INTRO!$E$39=\"Non-endemic\",\"Treat with DEC\",COUNTRY_INFO!V170))","v":0},{"$f":"IF(INTRO!$E$39<>\"Non-endemic\",COUNTRY_INFO!W170,\"Not required\")","v":0},{"$f":"IF(COUNTRY_INFO!H170=1, IF($E170=1,$D170, 0),0)","v":0},{"$f":"IF(COUNTRY_INFO!I170=1, IF(AND(COUNTRY_INFO!$I170=1,$F170<>0),IF(COUNTRY_INFO!M170>=(COUNTRY_INFO!F170+COUNTRY_INFO!G170),COUNTRY_INFO!F170+COUNTRY_INFO!G170,COUNTRY_INFO!$M170), 0),0)","v":0},0,0,0,0,null,0]
[{"$f":"IF(INTRO!$E$39=\"Non-endemic\",\" \",IF(COUNTRY_INFO!A171=0,\" \",COUNTRY_INFO!A171))","v":"Ghana"},{"$f":"IF(INTRO!$E$39=\"Non-endemic\",\" \",IF(COUNTRY_INFO!B171=0,\" \",COUNTRY_INFO!B171))","v":"North East"},{"$f":"IF(INTRO!$E$39=\"Non-endemic\",\" \",IF(COUNTRY_INFO!C171=0,\" \",COUNTRY_INFO!C171))","v":"Yunyoo-Nasuan"},{"$f":"IF(INTRO!$E$39=\"Non-endemic\",0,IF(INTRO!$E$39=\"Endemic but PC is not required\",IF(COUNTRY_INFO!$H171=1,COUNTRY_INFO!F171+COUNTRY_INFO!G171,0),IF(COUNTRY_INFO!$H171=1,COUNTRY_INFO!F171+COUNTRY_INFO!G171,IF(COUNTRY_INFO!$I171=1,IF(COUNTRY_INFO!M171>=(COUNTRY_INFO!F171+COUNTRY_INFO!G171),COUNTRY_INFO!F171+COUNTRY_INFO!G171,COUNTRY_INFO!$M171),0))))","v":0},{"$f":"IF(AND(INTRO!$E$39=\"Non-endemic\",INTRO!$E$37=\"Non-endemic\"),\"Not required\",IF(INTRO!$E$39=\"Non-endemic\",\"Treat with DEC\",COUNTRY_INFO!V171))","v":0},{"$f":"IF(INTRO!$E$39<>\"Non-endemic\",COUNTRY_INFO!W171,\"Not required\")","v":0},{"$f":"IF(COUNTRY_INFO!H171=1, IF($E171=1,$D171, 0),0)","v":0},{"$f":"IF(COUNTRY_INFO!I171=1, IF(AND(COUNTRY_INFO!$I171=1,$F171<>0),IF(COUNTRY_INFO!M171>=(COUNTRY_INFO!F171+COUNTRY_INFO!G171),COUNTRY_INFO!F171+COUNTRY_INFO!G171,COUNTRY_INFO!$M171), 0),0)","v":0},0,0,0,0,null,0]
[{"$f":"IF(INTRO!$E$39=\"Non-endemic\",\" \",IF(COUNTRY_INFO!A172=0,\" \",COUNTRY_INFO!A172))","v":"Ghana"},{"$f":"IF(INTRO!$E$39=\"Non-endemic\",\" \",IF(COUNTRY_INFO!B172=0,\" \",COUNTRY_INFO!B172))","v":"Northern"},{"$f":"IF(INTRO!$E$39=\"Non-endemic\",\" \",IF(COUNTRY_INFO!C172=0,\" \",COUNTRY_INFO!C172))","v":"Gushiegu"},{"$f":"IF(INTRO!$E$39=\"Non-endemic\",0,IF(INTRO!$E$39=\"Endemic but PC is not required\",IF(COUNTRY_INFO!$H172=1,COUNTRY_INFO!F172+COUNTRY_INFO!G172,0),IF(COUNTRY_INFO!$H172=1,COUNTRY_INFO!F172+COUNTRY_INFO!G172,IF(COUNTRY_INFO!$I172=1,IF(COUNTRY_INFO!M172>=(COUNTRY_INFO!F172+COUNTRY_INFO!G172),COUNTRY_INFO!F172+COUNTRY_INFO!G172,COUNTRY_INFO!$M172),0))))","v":17244},{"$f":"IF(AND(INTRO!$E$39=\"Non-endemic\",INTRO!$E$37=\"Non-endemic\"),\"Not required\",IF(INTRO!$E$39=\"Non-endemic\",\"Treat with DEC\",COUNTRY_INFO!V172))","v":0},{"$f":"IF(INTRO!$E$39<>\"Non-endemic\",COUNTRY_INFO!W172,\"Not required\")","v":2},{"$f":"IF(COUNTRY_INFO!H172=1, IF($E172=1,$D172, 0),0)","v":0},{"$f":"IF(COUNTRY_INFO!I172=1, IF(AND(COUNTRY_INFO!$I172=1,$F172<>0),IF(COUNTRY_INFO!M172>=(COUNTRY_INFO!F172+COUNTRY_INFO!G172),COUNTRY_INFO!F172+COUNTRY_INFO!G172,COUNTRY_INFO!$M172), 0),0)","v":17244},0,96566.399999999994,0,96566.399999999994,null,96566.399999999994]
[{"$f":"IF(INTRO!$E$39=\"Non-endemic\",\" \",IF(COUNTRY_INFO!A173=0,\" \",COUNTRY_INFO!A173))","v":"Ghana"},{"$f":"IF(INTRO!$E$39=\"Non-endemic\",\" \",IF(COUNTRY_INFO!B173=0,\" \",COUNTRY_INFO!B173))","v":"Northern"},{"$f":"IF(INTRO!$E$39=\"Non-endemic\",\" \",IF(COUNTRY_INFO!C173=0,\" \",COUNTRY_INFO!C173))","v":"Karaga"},{"$f":"IF(INTRO!$E$39=\"Non-endemic\",0,IF(INTRO!$E$39=\"Endemic but PC is not required\",IF(COUNTRY_INFO!$H173=1,COUNTRY_INFO!F173+COUNTRY_INFO!G173,0),IF(COUNTRY_INFO!$H173=1,COUNTRY_INFO!F173+COUNTRY_INFO!G173,IF(COUNTRY_INFO!$I173=1,IF(COUNTRY_INFO!M173>=(COUNTRY_INFO!F173+COUNTRY_INFO!G173),COUNTRY_INFO!F173+COUNTRY_INFO!G173,COUNTRY_INFO!$M173),0))))","v":0},{"$f":"IF(AND(INTRO!$E$39=\"Non-endemic\",INTRO!$E$37=\"Non-endemic\"),\"Not required\",IF(INTRO!$E$39=\"Non-endemic\",\"Treat with DEC\",COUNTRY_INFO!V173))","v":0},{"$f":"IF(INTRO!$E$39<>\"Non-endemic\",COUNTRY_INFO!W173,\"Not required\")","v":0},{"$f":"IF(COUNTRY_INFO!H173=1, IF($E173=1,$D173, 0),0)","v":0},{"$f":"IF(COUNTRY_INFO!I173=1, IF(AND(COUNTRY_INFO!$I173=1,$F173<>0),IF(COUNTRY_INFO!M173>=(COUNTRY_INFO!F173+COUNTRY_INFO!G173),COUNTRY_INFO!F173+COUNTRY_INFO!G173,COUNTRY_INFO!$M173), 0),0)","v":0},0,0,0,0,null,0]
[{"$f":"IF(INTRO!$E$39=\"Non-endemic\",\" \",IF(COUNTRY_INFO!A174=0,\" \",COUNTRY_INFO!A174))","v":"Ghana"},{"$f":"IF(INTRO!$E$39=\"Non-endemic\",\" \",IF(COUNTRY_INFO!B174=0,\" \",COUNTRY_INFO!B174))","v":"Northern"},{"$f":"IF(INTRO!$E$39=\"Non-endemic\",\" \",IF(COUNTRY_INFO!C174=0,\" \",COUNTRY_INFO!C174))","v":"Kpandai"},{"$f":"IF(INTRO!$E$39=\"Non-endemic\",0,IF(INTRO!$E$39=\"Endemic but PC is not required\",IF(COUNTRY_INFO!$H174=1,COUNTRY_INFO!F174+COUNTRY_INFO!G174,0),IF(COUNTRY_INFO!$H174=1,COUNTRY_INFO!F174+COUNTRY_INFO!G174,IF(COUNTRY_INFO!$I174=1,IF(COUNTRY_INFO!M174>=(COUNTRY_INFO!F174+COUNTRY_INFO!G174),COUNTRY_INFO!F174+COUNTRY_INFO!G174,COUNTRY_INFO!$M174),0))))","v":117887},{"$f":"IF(AND(INTRO!$E$39=\"Non-endemic\",INTRO!$E$37=\"Non-endemic\"),\"Not required\",IF(INTRO!$E$39=\"Non-endemic\",\"Treat with DEC\",COUNTRY_INFO!V174))","v":0},{"$f":"IF(INTRO!$E$39<>\"Non-endemic\",COUNTRY_INFO!W174,\"Not required\")","v":2},{"$f":"IF(COUNTRY_INFO!H174=1, IF($E174=1,$D174, 0),0)","v":0},{"$f":"IF(COUNTRY_INFO!I174=1, IF(AND(COUNTRY_INFO!$I174=1,$F174<>0),IF(COUNTRY_INFO!M174>=(COUNTRY_INFO!F174+COUNTRY_INFO!G174),COUNTRY_INFO!F174+COUNTRY_INFO!G174,COUNTRY_INFO!$M174), 0),0)","v":117887},0,660167.19999999995,0,660167.19999999995,null,660167.19999999995]
[{"$f":"IF(INTRO!$E$39=\"Non-endemic\",\" \",IF(COUNTRY_INFO!A175=0,\" \",COUNTRY_INFO!A175))","v":"Ghana"},{"$f":"IF(INTRO!$E$39=\"Non-endemic\",\" \",IF(COUNTRY_INFO!B175=0,\" \",COUNTRY_INFO!B175))","v":"Northern"},{"$f":"IF(INTRO!$E$39=\"Non-endemic\",\" \",IF(COUNTRY_INFO!C175=0,\" \",COUNTRY_INFO!C175))","v":"Kumbungu"},{"$f":"IF(INTRO!$E$39=\"Non-endemic\",0,IF(INTRO!$E$39=\"Endemic but PC is not required\",IF(COUNTRY_INFO!$H175=1,COUNTRY_INFO!F175+COUNTRY_INFO!G175,0),IF(COUNTRY_INFO!$H175=1,COUNTRY_INFO!F175+COUNTRY_INFO!G175,IF(COUNTRY_INFO!$I175=1,IF(COUNTRY_INFO!M175>=(COUNTRY_INFO!F175+COUNTRY_INFO!G175),COUNTRY_INFO!F175+COUNTRY_INFO!G175,COUNTRY_INFO!$M175),0))))","v":62353},{"$f":"IF(AND(INTRO!$E$39=\"Non-endemic\",INTRO!$E$37=\"Non-endemic\"),\"Not required\",IF(INTRO!$E$39=\"Non-endemic\",\"Treat with DEC\",COUNTRY_INFO!V175))","v":0},{"$f":"IF(INTRO!$E$39<>\"Non-endemic\",COUNTRY_INFO!W175,\"Not required\")","v":2},{"$f":"IF(COUNTRY_INFO!H175=1, IF($E175=1,$D175, 0),0)","v":0},{"$f":"IF(COUNTRY_INFO!I175=1, IF(AND(COUNTRY_INFO!$I175=1,$F175<>0),IF(COUNTRY_INFO!M175>=(COUNTRY_INFO!F175+COUNTRY_INFO!G175),COUNTRY_INFO!F175+COUNTRY_INFO!G175,COUNTRY_INFO!$M175), 0),0)","v":62353},0,349176.8,0,349176.8,null,349176.8]
[{"$f":"IF(INTRO!$E$39=\"Non-endemic\",\" \",IF(COUNTRY_INFO!A176=0,\" \",COUNTRY_INFO!A176))","v":"Ghana"},{"$f":"IF(INTRO!$E$39=\"Non-endemic\",\" \",IF(COUNTRY_INFO!B176=0,\" \",COUNTRY_INFO!B176))","v":"Northern"},{"$f":"IF(INTRO!$E$39=\"Non-endemic\",\" \",IF(COUNTRY_INFO!C176=0,\" \",COUNTRY_INFO!C176))","v":"Mion"},{"$f":"IF(INTRO!$E$39=\"Non-endemic\",0,IF(INTRO!$E$39=\"Endemic but PC is not required\",IF(COUNTRY_INFO!$H176=1,COUNTRY_INFO!F176+COUNTRY_INFO!G176,0),IF(COUNTRY_INFO!$H176=1,COUNTRY_INFO!F176+COUNTRY_INFO!G176,IF(COUNTRY_INFO!$I176=1,IF(COUNTRY_INFO!M176>=(COUNTRY_INFO!F176+COUNTRY_INFO!G176),COUNTRY_INFO!F176+COUNTRY_INFO!G176,COUNTRY_INFO!$M176),0))))","v":0},{"$f":"IF(AND(INTRO!$E$39=\"Non-endemic\",INTRO!$E$37=\"Non-endemic\"),\"Not required\",IF(INTRO!$E$39=\"Non-endemic\",\"Treat with DEC\",COUNTRY_INFO!V176))","v":0},{"$f":"IF(INTRO!$E$39<>\"Non-endemic\",COUNTRY_INFO!W176,\"Not required\")","v":0},{"$f":"IF(COUNTRY_INFO!H176=1, IF($E176=1,$D176, 0),0)","v":0},{"$f":"IF(COUNTRY_INFO!I176=1, IF(AND(COUNTRY_INFO!$I176=1,$F176<>0),IF(COUNTRY_INFO!M176>=(COUNTRY_INFO!F176+COUNTRY_INFO!G176),COUNTRY_INFO!F176+COUNTRY_INFO!G176,COUNTRY_INFO!$M176), 0),0)","v":0},0,0,0,0,null,0]
[{"$f":"IF(INTRO!$E$39=\"Non-endemic\",\" \",IF(COUNTRY_INFO!A177=0,\" \",COUNTRY_INFO!A177))","v":"Ghana"},{"$f":"IF(INTRO!$E$39=\"Non-endemic\",\" \",IF(COUNTRY_INFO!B177=0,\" \",COUNTRY_INFO!B177))","v":"Northern"},{"$f":"IF(INTRO!$E$39=\"Non-endemic\",\" \",IF(COUNTRY_INFO!C177=0,\" \",COUNTRY_INFO!C177))","v":"Nanton"},{"$f":"IF(INTRO!$E$39=\"Non-endemic\",0,IF(INTRO!$E$39=\"Endemic but PC is not required\",IF(COUNTRY_INFO!$H177=1,COUNTRY_INFO!F177+COUNTRY_INFO!G177,0),IF(COUNTRY_INFO!$H177=1,COUNTRY_INFO!F177+COUNTRY_INFO!G177,IF(COUNTRY_INFO!$I177=1,IF(COUNTRY_INFO!M177>=(COUNTRY_INFO!F177+COUNTRY_INFO!G177),COUNTRY_INFO!F177+COUNTRY_INFO!G177,COUNTRY_INFO!$M177),0))))","v":0},{"$f":"IF(AND(INTRO!$E$39=\"Non-endemic\",INTRO!$E$37=\"Non-endemic\"),\"Not required\",IF(INTRO!$E$39=\"Non-endemic\",\"Treat with DEC\",COUNTRY_INFO!V177))","v":0},{"$f":"IF(INTRO!$E$39<>\"Non-endemic\",COUNTRY_INFO!W177,\"Not required\")","v":0},{"$f":"IF(COUNTRY_INFO!H177=1, IF($E177=1,$D177, 0),0)","v":0},{"$f":"IF(COUNTRY_INFO!I177=1, IF(AND(COUNTRY_INFO!$I177=1,$F177<>0),IF(COUNTRY_INFO!M177>=(COUNTRY_INFO!F177+COUNTRY_INFO!G177),COUNTRY_INFO!F177+COUNTRY_INFO!G177,COUNTRY_INFO!$M177), 0),0)","v":0},0,0,0,0,null,0]
[{"$f":"IF(INTRO!$E$39=\"Non-endemic\",\" \",IF(COUNTRY_INFO!A178=0,\" \",COUNTRY_INFO!A178))","v":"Ghana"},{"$f":"IF(INTRO!$E$39=\"Non-endemic\",\" \",IF(COUNTRY_INFO!B178=0,\" \",COUNTRY_INFO!B178))","v":"Northern"},{"$f":"IF(INTRO!$E$39=\"Non-endemic\",\" \",IF(COUNTRY_INFO!C178=0,\" \",COUNTRY_INFO!C178))","v":"Nanumba North"},{"$f":"IF(INTRO!$E$39=\"Non-endemic\",0,IF(INTRO!$E$39=\"Endemic but PC is not required\",IF(COUNTRY_INFO!$H178=1,COUNTRY_INFO!F178+COUNTRY_INFO!G178,0),IF(COUNTRY_INFO!$H178=1,COUNTRY_INFO!F178+COUNTRY_INFO!G178,IF(COUNTRY_INFO!$I178=1,IF(COUNTRY_INFO!M178>=(COUNTRY_INFO!F178+COUNTRY_INFO!G178),COUNTRY_INFO!F178+COUNTRY_INFO!G178,COUNTRY_INFO!$M178),0))))","v":52472},{"$f":"IF(AND(INTRO!$E$39=\"Non-endemic\",INTRO!$E$37=\"Non-endemic\"),\"Not required\",IF(INTRO!$E$39=\"Non-endemic\",\"Treat with DEC\",COUNTRY_INFO!V178))","v":0},{"$f":"IF(INTRO!$E$39<>\"Non-endemic\",COUNTRY_INFO!W178,\"Not required\")","v":2},{"$f":"IF(COUNTRY_INFO!H178=1, IF($E178=1,$D178, 0),0)","v":0},{"$f":"IF(COUNTRY_INFO!I178=1, IF(AND(COUNTRY_INFO!$I178=1,$F178<>0),IF(COUNTRY_INFO!M178>=(COUNTRY_INFO!F178+COUNTRY_INFO!G178),COUNTRY_INFO!F178+COUNTRY_INFO!G178,COUNTRY_INFO!$M178), 0),0)","v":52472},0,293843.19999999995,0,293843.19999999995,null,293843.19999999995]
[{"$f":"IF(INTRO!$E$39=\"Non-endemic\",\" \",IF(COUNTRY_INFO!A179=0,\" \",COUNTRY_INFO!A179))","v":"Ghana"},{"$f":"IF(INTRO!$E$39=\"Non-endemic\",\" \",IF(COUNTRY_INFO!B179=0,\" \",COUNTRY_INFO!B179))","v":"Northern"},{"$f":"IF(INTRO!$E$39=\"Non-endemic\",\" \",IF(COUNTRY_INFO!C179=0,\" \",COUNTRY_INFO!C179))","v":"Nanumba South"},{"$f":"IF(INTRO!$E$39=\"Non-endemic\",0,IF(INTRO!$E$39=\"Endemic but PC is not required\",IF(COUNTRY_INFO!$H179=1,COUNTRY_INFO!F179+COUNTRY_INFO!G179,0),IF(COUNTRY_INFO!$H179=1,COUNTRY_INFO!F179+COUNTRY_INFO!G179,IF(COUNTRY_INFO!$I179=1,IF(COUNTRY_INFO!M179>=(COUNTRY_INFO!F179+COUNTRY_INFO!G179),COUNTRY_INFO!F179+COUNTRY_INFO!G179,COUNTRY_INFO!$M179),0))))","v":94686},{"$f":"IF(AND(INTRO!$E$39=\"Non-endemic\",INTRO!$E$37=\"Non-endemic\"),\"Not required\",IF(INTRO!$E$39=\"Non-endemic\",\"Treat with DEC\",COUNTRY_INFO!V179))","v":0},{"$f":"IF(INTRO!$E$39<>\"Non-endemic\",COUNTRY_INFO!W179,\"Not required\")","v":2},{"$f":"IF(COUNTRY_INFO!H179=1, IF($E179=1,$D179, 0),0)","v":0},{"$f":"IF(COUNTRY_INFO!I179=1, IF(AND(COUNTRY_INFO!$I179=1,$F179<>0),IF(COUNTRY_INFO!M179>=(COUNTRY_INFO!F179+COUNTRY_INFO!G179),COUNTRY_INFO!F179+COUNTRY_INFO!G179,COUNTRY_INFO!$M179), 0),0)","v":94686},0,530241.6,0,530241.6,null,530241.6]
[{"$f":"IF(INTRO!$E$39=\"Non-endemic\",\" \",IF(COUNTRY_INFO!A180=0,\" \",COUNTRY_INFO!A180))","v":"Ghana"},{"$f":"IF(INTRO!$E$39=\"Non-endemic\",\" \",IF(COUNTRY_INFO!B180=0,\" \",COUNTRY_INFO!B180))","v":"Northern"},{"$f":"IF(INTRO!$E$39=\"Non-endemic\",\" \",IF(COUNTRY_INFO!C180=0,\" \",COUNTRY_INFO!C180))","v":"Saboba"},{"$f":"IF(INTRO!$E$39=\"Non-endemic\",0,IF(INTRO!$E$39=\"Endemic but PC is not required\",IF(COUNTRY_INFO!$H180=1,COUNTRY_INFO!F180+COUNTRY_INFO!G180,0),IF(COUNTRY_INFO!$H180=1,COUNTRY_INFO!F180+COUNTRY_INFO!G180,IF(COUNTRY_INFO!$I180=1,IF(COUNTRY_INFO!M180>=(COUNTRY_INFO!F180+COUNTRY_INFO!G180),COUNTRY_INFO!F180+COUNTRY_INFO!G180,COUNTRY_INFO!$M180),0))))","v":84992},{"$f":"IF(AND(INTRO!$E$39=\"Non-endemic\",INTRO!$E$37=\"Non-endemic\"),\"Not required\",IF(INTRO!$E$39=\"Non-endemic\",\"Treat with DEC\",COUNTRY_INFO!V180))","v":0},{"$f":"IF(INTRO!$E$39<>\"Non-endemic\",COUNTRY_INFO!W180,\"Not required\")","v":2},{"$f":"IF(COUNTRY_INFO!H180=1, IF($E180=1,$D180, 0),0)","v":0},{"$f":"IF(COUNTRY_INFO!I180=1, IF(AND(COUNTRY_INFO!$I180=1,$F180<>0),IF(COUNTRY_INFO!M180>=(COUNTRY_INFO!F180+COUNTRY_INFO!G180),COUNTRY_INFO!F180+COUNTRY_INFO!G180,COUNTRY_INFO!$M180), 0),0)","v":84992},0,475955.19999999995,0,475955.19999999995,null,475955.19999999995]
[{"$f":"IF(INTRO!$E$39=\"Non-endemic\",\" \",IF(COUNTRY_INFO!A181=0,\" \",COUNTRY_INFO!A181))","v":"Ghana"},{"$f":"IF(INTRO!$E$39=\"Non-endemic\",\" \",IF(COUNTRY_INFO!B181=0,\" \",COUNTRY_INFO!B181))","v":"Northern"},{"$f":"IF(INTRO!$E$39=\"Non-endemic\",\" \",IF(COUNTRY_INFO!C181=0,\" \",COUNTRY_INFO!C181))","v":"Sagnarigu"},{"$f":"IF(INTRO!$E$39=\"Non-endemic\",0,IF(INTRO!$E$39=\"Endemic but PC is not required\",IF(COUNTRY_INFO!$H181=1,COUNTRY_INFO!F181+COUNTRY_INFO!G181,0),IF(COUNTRY_INFO!$H181=1,COUNTRY_INFO!F181+COUNTRY_INFO!G181,IF(COUNTRY_INFO!$I181=1,IF(COUNTRY_INFO!M181>=(COUNTRY_INFO!F181+COUNTRY_INFO!G181),COUNTRY_INFO!F181+COUNTRY_INFO!G181,COUNTRY_INFO!$M181),0))))","v":0},{"$f":"IF(AND(INTRO!$E$39=\"Non-endemic\",INTRO!$E$37=\"Non-endemic\"),\"Not required\",IF(INTRO!$E$39=\"Non-endemic\",\"Treat with DEC\",COUNTRY_INFO!V181))","v":0},{"$f":"IF(INTRO!$E$39<>\"Non-endemic\",COUNTRY_INFO!W181,\"Not required\")","v":0},{"$f":"IF(COUNTRY_INFO!H181=1, IF($E181=1,$D181, 0),0)","v":0},{"$f":"IF(COUNTRY_INFO!I181=1, IF(AND(COUNTRY_INFO!$I181=1,$F181<>0),IF(COUNTRY_INFO!M181>=(COUNTRY_INFO!F181+COUNTRY_INFO!G181),COUNTRY_INFO!F181+COUNTRY_INFO!G181,COUNTRY_INFO!$M181), 0),0)","v":0},0,0,0,0,null,0]
[{"$f":"IF(INTRO!$E$39=\"Non-endemic\",\" \",IF(COUNTRY_INFO!A182=0,\" \",COUNTRY_INFO!A182))","v":"Ghana"},{"$f":"IF(INTRO!$E$39=\"Non-endemic\",\" \",IF(COUNTRY_INFO!B182=0,\" \",COUNTRY_INFO!B182))","v":"Northern"},{"$f":"IF(INTRO!$E$39=\"Non-endemic\",\" \",IF(COUNTRY_INFO!C182=0,\" \",COUNTRY_INFO!C182))","v":"Savelugu"},{"$f":"IF(INTRO!$E$39=\"Non-endemic\",0,IF(INTRO!$E$39=\"Endemic but PC is not required\",IF(COUNTRY_INFO!$H182=1,COUNTRY_INFO!F182+COUNTRY_INFO!G182,0),IF(COUNTRY_INFO!$H182=1,COUNTRY_INFO!F182+COUNTRY_INFO!G182,IF(COUNTRY_INFO!$I182=1,IF(COUNTRY_INFO!M182>=(COUNTRY_INFO!F182+COUNTRY_INFO!G182),COUNTRY_INFO!F182+COUNTRY_INFO!G182,COUNTRY_INFO!$M182),0))))","v":17519},{"$f":"IF(AND(INTRO!$E$39=\"Non-endemic\",INTRO!$E$37=\"Non-endemic\"),\"Not required\",IF(INTRO!$E$39=\"Non-endemic\",\"Treat with DEC\",COUNTRY_INFO!V182))","v":0},{"$f":"IF(INTRO!$E$39<>\"Non-endemic\",COUNTRY_INFO!W182,\"Not required\")","v":2},{"$f":"IF(COUNTRY_INFO!H182=1, IF($E182=1,$D182, 0),0)","v":0},{"$f":"IF(COUNTRY_INFO!I182=1, IF(AND(COUNTRY_INFO!$I182=1,$F182<>0),IF(COUNTRY_INFO!M182>=(COUNTRY_INFO!F182+COUNTRY_INFO!G182),COUNTRY_INFO!F182+COUNTRY_INFO!G182,COUNTRY_INFO!$M182), 0),0)","v":17519},0,98106.4,0,98106.4,null,98106.4]
[{"$f":"IF(INTRO!$E$39=\"Non-endemic\",\" \",IF(COUNTRY_INFO!A183=0,\" \",COUNTRY_INFO!A183))","v":"Ghana"},{"$f":"IF(INTRO!$E$39=\"Non-endemic\",\" \",IF(COUNTRY_INFO!B183=0,\" \",COUNTRY_INFO!B183))","v":"Northern"},{"$f":"IF(INTRO!$E$39=\"Non-endemic\",\" \",IF(COUNTRY_INFO!C183=0,\" \",COUNTRY_INFO!C183))","v":"Tamale"},{"$f":"IF(INTRO!$E$39=\"Non-endemic\",0,IF(INTRO!$E$39=\"Endemic but PC is not required\",IF(COUNTRY_INFO!$H183=1,COUNTRY_INFO!F183+COUNTRY_INFO!G183,0),IF(COUNTRY_INFO!$H183=1,COUNTRY_INFO!F183+COUNTRY_INFO!G183,IF(COUNTRY_INFO!$I183=1,IF(COUNTRY_INFO!M183>=(COUNTRY_INFO!F183+COUNTRY_INFO!G183),COUNTRY_INFO!F183+COUNTRY_INFO!G183,COUNTRY_INFO!$M183),0))))","v":0},{"$f":"IF(AND(INTRO!$E$39=\"Non-endemic\",INTRO!$E$37=\"Non-endemic\"),\"Not required\",IF(INTRO!$E$39=\"Non-endemic\",\"Treat with DEC\",COUNTRY_INFO!V183))","v":0},{"$f":"IF(INTRO!$E$39<>\"Non-endemic\",COUNTRY_INFO!W183,\"Not required\")","v":0},{"$f":"IF(COUNTRY_INFO!H183=1, IF($E183=1,$D183, 0),0)","v":0},{"$f":"IF(COUNTRY_INFO!I183=1, IF(AND(COUNTRY_INFO!$I183=1,$F183<>0),IF(COUNTRY_INFO!M183>=(COUNTRY_INFO!F183+COUNTRY_INFO!G183),COUNTRY_INFO!F183+COUNTRY_INFO!G183,COUNTRY_INFO!$M183), 0),0)","v":0},0,0,0,0,null,0]
[{"$f":"IF(INTRO!$E$39=\"Non-endemic\",\" \",IF(COUNTRY_INFO!A184=0,\" \",COUNTRY_INFO!A184))","v":"Ghana"},{"$f":"IF(INTRO!$E$39=\"Non-endemic\",\" \",IF(COUNTRY_INFO!B184=0,\" \",COUNTRY_INFO!B184))","v":"Northern"},{"$f":"IF(INTRO!$E$39=\"Non-endemic\",\" \",IF(COUNTRY_INFO!C184=0,\" \",COUNTRY_INFO!C184))","v":"Tatale-Sangule"},{"$f":"IF(INTRO!$E$39=\"Non-endemic\",0,IF(INTRO!$E$39=\"Endemic but PC is not required\",IF(COUNTRY_INFO!$H184=1,COUNTRY_INFO!F184+COUNTRY_INFO!G184,0),IF(COUNTRY_INFO!$H184=1,COUNTRY_INFO!F184+COUNTRY_INFO!G184,IF(COUNTRY_INFO!$I184=1,IF(COUNTRY_INFO!M184>=(COUNTRY_INFO!F184+COUNTRY_INFO!G184),COUNTRY_INFO!F184+COUNTRY_INFO!G184,COUNTRY_INFO!$M184),0))))","v":43786},{"$f":"IF(AND(INTRO!$E$39=\"Non-endemic\",INTRO!$E$37=\"Non-endemic\"),\"Not required\",IF(INTRO!$E$39=\"Non-endemic\",\"Treat with DEC\",COUNTRY_INFO!V184))","v":0},{"$f":"IF(INTRO!$E$39<>\"Non-endemic\",COUNTRY_INFO!W184,\"Not required\")","v":2},{"$f":"IF(COUNTRY_INFO!H184=1, IF($E184=1,$D184, 0),0)","v":0},{"$f":"IF(COUNTRY_INFO!I184=1, IF(AND(COUNTRY_INFO!$I184=1,$F184<>0),IF(COUNTRY_INFO!M184>=(COUNTRY_INFO!F184+COUNTRY_INFO!G184),COUNTRY_INFO!F184+COUNTRY_INFO!G184,COUNTRY_INFO!$M184), 0),0)","v":43786},0,245201.59999999998,0,245201.59999999998,null,245201.59999999998]
[{"$f":"IF(INTRO!$E$39=\"Non-endemic\",\" \",IF(COUNTRY_INFO!A185=0,\" \",COUNTRY_INFO!A185))","v":"Ghana"},{"$f":"IF(INTRO!$E$39=\"Non-endemic\",\" \",IF(COUNTRY_INFO!B185=0,\" \",COUNTRY_INFO!B185))","v":"Northern"},{"$f":"IF(INTRO!$E$39=\"Non-endemic\",\" \",IF(COUNTRY_INFO!C185=0,\" \",COUNTRY_INFO!C185))","v":"Tolon"},{"$f":"IF(INTRO!$E$39=\"Non-endemic\",0,IF(INTRO!$E$39=\"Endemic but PC is not required\",IF(COUNTRY_INFO!$H185=1,COUNTRY_INFO!F185+COUNTRY_INFO!G185,0),IF(COUNTRY_INFO!$H185=1,COUNTRY_INFO!F185+COUNTRY_INFO!G185,IF(COUNTRY_INFO!$I185=1,IF(COUNTRY_INFO!M185>=(COUNTRY_INFO!F185+COUNTRY_INFO!G185),COUNTRY_INFO!F185+COUNTRY_INFO!G185,COUNTRY_INFO!$M185),0))))","v":0},{"$f":"IF(AND(INTRO!$E$39=\"Non-endemic\",INTRO!$E$37=\"Non-endemic\"),\"Not required\",IF(INTRO!$E$39=\"Non-endemic\",\"Treat with DEC\",COUNTRY_INFO!V185))","v":0},{"$f":"IF(INTRO!$E$39<>\"Non-endemic\",COUNTRY_INFO!W185,\"Not required\")","v":0},{"$f":"IF(COUNTRY_INFO!H185=1, IF($E185=1,$D185, 0),0)","v":0},{"$f":"IF(COUNTRY_INFO!I185=1, IF(AND(COUNTRY_INFO!$I185=1,$F185<>0),IF(COUNTRY_INFO!M185>=(COUNTRY_INFO!F185+COUNTRY_INFO!G185),COUNTRY_INFO!F185+COUNTRY_INFO!G185,COUNTRY_INFO!$M185), 0),0)","v":0},0,0,0,0,null,0]
[{"$f":"IF(INTRO!$E$39=\"Non-endemic\",\" \",IF(COUNTRY_INFO!A186=0,\" \",COUNTRY_INFO!A186))","v":"Ghana"},{"$f":"IF(INTRO!$E$39=\"Non-endemic\",\" \",IF(COUNTRY_INFO!B186=0,\" \",COUNTRY_INFO!B186))","v":"Northern"},{"$f":"IF(INTRO!$E$39=\"Non-endemic\",\" \",IF(COUNTRY_INFO!C186=0,\" \",COUNTRY_INFO!C186))","v":"Yendi"},{"$f":"IF(INTRO!$E$39=\"Non-endemic\",0,IF(INTRO!$E$39=\"Endemic but PC is not required\",IF(COUNTRY_INFO!$H186=1,COUNTRY_INFO!F186+COUNTRY_INFO!G186,0),IF(COUNTRY_INFO!$H186=1,COUNTRY_INFO!F186+COUNTRY_INFO!G186,IF(COUNTRY_INFO!$I186=1,IF(COUNTRY_INFO!M186>=(COUNTRY_INFO!F186+COUNTRY_INFO!G186),COUNTRY_INFO!F186+COUNTRY_INFO!G186,COUNTRY_INFO!$M186),0))))","v":0},{"$f":"IF(AND(INTRO!$E$39=\"Non-endemic\",INTRO!$E$37=\"Non-endemic\"),\"Not required\",IF(INTRO!$E$39=\"Non-endemic\",\"Treat with DEC\",COUNTRY_INFO!V186))","v":0},{"$f":"IF(INTRO!$E$39<>\"Non-endemic\",COUNTRY_INFO!W186,\"Not required\")","v":0},{"$f":"IF(COUNTRY_INFO!H186=1, IF($E186=1,$D186, 0),0)","v":0},{"$f":"IF(COUNTRY_INFO!I186=1, IF(AND(COUNTRY_INFO!$I186=1,$F186<>0),IF(COUNTRY_INFO!M186>=(COUNTRY_INFO!F186+COUNTRY_INFO!G186),COUNTRY_INFO!F186+COUNTRY_INFO!G186,COUNTRY_INFO!$M186), 0),0)","v":0},0,0,0,0,null,0]
[{"$f":"IF(INTRO!$E$39=\"Non-endemic\",\" \",IF(COUNTRY_INFO!A187=0,\" \",COUNTRY_INFO!A187))","v":"Ghana"},{"$f":"IF(INTRO!$E$39=\"Non-endemic\",\" \",IF(COUNTRY_INFO!B187=0,\" \",COUNTRY_INFO!B187))","v":"Northern"},{"$f":"IF(INTRO!$E$39=\"Non-endemic\",\" \",IF(COUNTRY_INFO!C187=0,\" \",COUNTRY_INFO!C187))","v":"Zabzugu"},{"$f":"IF(INTRO!$E$39=\"Non-endemic\",0,IF(INTRO!$E$39=\"Endemic but PC is not required\",IF(COUNTRY_INFO!$H187=1,COUNTRY_INFO!F187+COUNTRY_INFO!G187,0),IF(COUNTRY_INFO!$H187=1,COUNTRY_INFO!F187+COUNTRY_INFO!G187,IF(COUNTRY_INFO!$I187=1,IF(COUNTRY_INFO!M187>=(COUNTRY_INFO!F187+COUNTRY_INFO!G187),COUNTRY_INFO!F187+COUNTRY_INFO!G187,COUNTRY_INFO!$M187),0))))","v":71993},{"$f":"IF(AND(INTRO!$E$39=\"Non-endemic\",INTRO!$E$37=\"Non-endemic\"),\"Not required\",IF(INTRO!$E$39=\"Non-endemic\",\"Treat with DEC\",COUNTRY_INFO!V187))","v":0},{"$f":"IF(INTRO!$E$39<>\"Non-endemic\",COUNTRY_INFO!W187,\"Not required\")","v":2},{"$f":"IF(COUNTRY_INFO!H187=1, IF($E187=1,$D187, 0),0)","v":0},{"$f":"IF(COUNTRY_INFO!I187=1, IF(AND(COUNTRY_INFO!$I187=1,$F187<>0),IF(COUNTRY_INFO!M187>=(COUNTRY_INFO!F187+COUNTRY_INFO!G187),COUNTRY_INFO!F187+COUNTRY_INFO!G187,COUNTRY_INFO!$M187), 0),0)","v":71993},0,403160.8,0,403160.8,null,403160.8]
[{"$f":"IF(INTRO!$E$39=\"Non-endemic\",\" \",IF(COUNTRY_INFO!A188=0,\" \",COUNTRY_INFO!A188))","v":"Ghana"},{"$f":"IF(INTRO!$E$39=\"Non-endemic\",\" \",IF(COUNTRY_INFO!B188=0,\" \",COUNTRY_INFO!B188))","v":"Oti"},{"$f":"IF(INTRO!$E$39=\"Non-endemic\",\" \",IF(COUNTRY_INFO!C188=0,\" \",COUNTRY_INFO!C188))","v":"Biakoye"},{"$f":"IF(INTRO!$E$39=\"Non-endemic\",0,IF(INTRO!$E$39=\"Endemic but PC is not required\",IF(COUNTRY_INFO!$H188=1,COUNTRY_INFO!F188+COUNTRY_INFO!G188,0),IF(COUNTRY_INFO!$H188=1,COUNTRY_INFO!F188+COUNTRY_INFO!G188,IF(COUNTRY_INFO!$I188=1,IF(COUNTRY_INFO!M188>=(COUNTRY_INFO!F188+COUNTRY_INFO!G188),COUNTRY_INFO!F188+COUNTRY_INFO!G188,COUNTRY_INFO!$M188),0))))","v":0},{"$f":"IF(AND(INTRO!$E$39=\"Non-endemic\",INTRO!$E$37=\"Non-endemic\"),\"Not required\",IF(INTRO!$E$39=\"Non-endemic\",\"Treat with DEC\",COUNTRY_INFO!V188))","v":0},{"$f":"IF(INTRO!$E$39<>\"Non-endemic\",COUNTRY_INFO!W188,\"Not required\")","v":2},{"$f":"IF(COUNTRY_INFO!H188=1, IF($E188=1,$D188, 0),0)","v":0},{"$f":"IF(COUNTRY_INFO!I188=1, IF(AND(COUNTRY_INFO!$I188=1,$F188<>0),IF(COUNTRY_INFO!M188>=(COUNTRY_INFO!F188+COUNTRY_INFO!G188),COUNTRY_INFO!F188+COUNTRY_INFO!G188,COUNTRY_INFO!$M188), 0),0)","v":0},0,0,0,0,null,0]
[{"$f":"IF(INTRO!$E$39=\"Non-endemic\",\" \",IF(COUNTRY_INFO!A189=0,\" \",COUNTRY_INFO!A189))","v":"Ghana"},{"$f":"IF(INTRO!$E$39=\"Non-endemic\",\" \",IF(COUNTRY_INFO!B189=0,\" \",COUNTRY_INFO!B189))","v":"Oti"},{"$f":"IF(INTRO!$E$39=\"Non-endemic\",\" \",IF(COUNTRY_INFO!C189=0,\" \",COUNTRY_INFO!C189))","v":"Guan"},{"$f":"IF(INTRO!$E$39=\"Non-endemic\",0,IF(INTRO!$E$39=\"Endemic but PC is not required\",IF(COUNTRY_INFO!$H189=1,COUNTRY_INFO!F189+COUNTRY_INFO!G189,0),IF(COUNTRY_INFO!$H189=1,COUNTRY_INFO!F189+COUNTRY_INFO!G189,IF(COUNTRY_INFO!$I189=1,IF(COUNTRY_INFO!M189>=(COUNTRY_INFO!F189+COUNTRY_INFO!G189),COUNTRY_INFO!F189+COUNTRY_INFO!G189,COUNTRY_INFO!$M189),0))))","v":26374},{"$f":"IF(AND(INTRO!$E$39=\"Non-endemic\",INTRO!$E$37=\"Non-endemic\"),\"Not required\",IF(INTRO!$E$39=\"Non-endemic\",\"Treat with DEC\",COUNTRY_INFO!V189))","v":0},{"$f":"IF(INTRO!$E$39<>\"Non-endemic\",COUNTRY_INFO!W189,\"Not required\")","v":2},{"$f":"IF(COUNTRY_INFO!H189=1, IF($E189=1,$D189, 0),0)","v":0},{"$f":"IF(COUNTRY_INFO!I189=1, IF(AND(COUNTRY_INFO!$I189=1,$F189<>0),IF(COUNTRY_INFO!M189>=(COUNTRY_INFO!F189+COUNTRY_INFO!G189),COUNTRY_INFO!F189+COUNTRY_INFO!G189,COUNTRY_INFO!$M189), 0),0)","v":26374},0,147694.39999999999,0,147694.39999999999,null,147694.39999999999]
[{"$f":"IF(INTRO!$E$39=\"Non-endemic\",\" \",IF(COUNTRY_INFO!A190=0,\" \",COUNTRY_INFO!A190))","v":"Ghana"},{"$f":"IF(INTRO!$E$39=\"Non-endemic\",\" \",IF(COUNTRY_INFO!B190=0,\" \",COUNTRY_INFO!B190))","v":"Oti"},{"$f":"IF(INTRO!$E$39=\"Non-endemic\",\" \",IF(COUNTRY_INFO!C190=0,\" \",COUNTRY_INFO!C190))","v":"Jasikan"},{"$f":"IF(INTRO!$E$39=\"Non-endemic\",0,IF(INTRO!$E$39=\"Endemic but PC is not required\",IF(COUNTRY_INFO!$H190=1,COUNTRY_INFO!F190+COUNTRY_INFO!G190,0),IF(COUNTRY_INFO!$H190=1,COUNTRY_INFO!F190+COUNTRY_INFO!G190,IF(COUNTRY_INFO!$I190=1,IF(COUNTRY_INFO!M190>=(COUNTRY_INFO!F190+COUNTRY_INFO!G190),COUNTRY_INFO!F190+COUNTRY_INFO!G190,COUNTRY_INFO!$M190),0))))","v":55757},{"$f":"IF(AND(INTRO!$E$39=\"Non-endemic\",INTRO!$E$37=\"Non-endemic\"),\"Not required\",IF(INTRO!$E$39=\"Non-endemic\",\"Treat with DEC\",COUNTRY_INFO!V190))","v":0},{"$f":"IF(INTRO!$E$39<>\"Non-endemic\",COUNTRY_INFO!W190,\"Not required\")","v":2},{"$f":"IF(COUNTRY_INFO!H190=1, IF($E190=1,$D190, 0),0)","v":0},{"$f":"IF(COUNTRY_INFO!I190=1, IF(AND(COUNTRY_INFO!$I190=1,$F190<>0),IF(COUNTRY_INFO!M190>=(COUNTRY_INFO!F190+COUNTRY_INFO!G190),COUNTRY_INFO!F190+COUNTRY_INFO!G190,COUNTRY_INFO!$M190), 0),0)","v":55757},0,312239.19999999995,0,312239.19999999995,null,312239.19999999995]
[{"$f":"IF(INTRO!$E$39=\"Non-endemic\",\" \",IF(COUNTRY_INFO!A191=0,\" \",COUNTRY_INFO!A191))","v":"Ghana"},{"$f":"IF(INTRO!$E$39=\"Non-endemic\",\" \",IF(COUNTRY_INFO!B191=0,\" \",COUNTRY_INFO!B191))","v":"Oti"},{"$f":"IF(INTRO!$E$39=\"Non-endemic\",\" \",IF(COUNTRY_INFO!C191=0,\" \",COUNTRY_INFO!C191))","v":"Kadjebi"},{"$f":"IF(INTRO!$E$39=\"Non-endemic\",0,IF(INTRO!$E$39=\"Endemic but PC is not required\",IF(COUNTRY_INFO!$H191=1,COUNTRY_INFO!F191+COUNTRY_INFO!G191,0),IF(COUNTRY_INFO!$H191=1,COUNTRY_INFO!F191+COUNTRY_INFO!G191,IF(COUNTRY_INFO!$I191=1,IF(COUNTRY_INFO!M191>=(COUNTRY_INFO!F191+COUNTRY_INFO!G191),COUNTRY_INFO!F191+COUNTRY_INFO!G191,COUNTRY_INFO!$M191),0))))","v":69080},{"$f":"IF(AND(INTRO!$E$39=\"Non-endemic\",INTRO!$E$37=\"Non-endemic\"),\"Not required\",IF(INTRO!$E$39=\"Non-endemic\",\"Treat with DEC\",COUNTRY_INFO!V191))","v":0},{"$f":"IF(INTRO!$E$39<>\"Non-endemic\",COUNTRY_INFO!W191,\"Not required\")","v":2},{"$f":"IF(COUNTRY_INFO!H191=1, IF($E191=1,$D191, 0),0)","v":0},{"$f":"IF(COUNTRY_INFO!I191=1, IF(AND(COUNTRY_INFO!$I191=1,$F191<>0),IF(COUNTRY_INFO!M191>=(COUNTRY_INFO!F191+COUNTRY_INFO!G191),COUNTRY_INFO!F191+COUNTRY_INFO!G191,COUNTRY_INFO!$M191), 0),0)","v":69080},0,386848,0,386848,null,386848]
[{"$f":"IF(INTRO!$E$39=\"Non-endemic\",\" \",IF(COUNTRY_INFO!A192=0,\" \",COUNTRY_INFO!A192))","v":"Ghana"},{"$f":"IF(INTRO!$E$39=\"Non-endemic\",\" \",IF(COUNTRY_INFO!B192=0,\" \",COUNTRY_INFO!B192))","v":"Oti"},{"$f":"IF(INTRO!$E$39=\"Non-endemic\",\" \",IF(COUNTRY_INFO!C192=0,\" \",COUNTRY_INFO!C192))","v":"Krachi East"},{"$f":"IF(INTRO!$E$39=\"Non-endemic\",0,IF(INTRO!$E$39=\"Endemic but PC is not required\",IF(COUNTRY_INFO!$H192=1,COUNTRY_INFO!F192+COUNTRY_INFO!G192,0),IF(COUNTRY_INFO!$H192=1,COUNTRY_INFO!F192+COUNTRY_INFO!G192,IF(COUNTRY_INFO!$I192=1,IF(COUNTRY_INFO!M192>=(COUNTRY_INFO!F192+COUNTRY_INFO!G192),COUNTRY_INFO!F192+COUNTRY_INFO!G192,COUNTRY_INFO!$M192),0))))","v":103149},{"$f":"IF(AND(INTRO!$E$39=\"Non-endemic\",INTRO!$E$37=\"Non-endemic\"),\"Not required\",IF(INTRO!$E$39=\"Non-endemic\",\"Treat with DEC\",COUNTRY_INFO!V192))","v":0},{"$f":"IF(INTRO!$E$39<>\"Non-endemic\",COUNTRY_INFO!W192,\"Not required\")","v":2},{"$f":"IF(COUNTRY_INFO!H192=1, IF($E192=1,$D192, 0),0)","v":0},{"$f":"IF(COUNTRY_INFO!I192=1, IF(AND(COUNTRY_INFO!$I192=1,$F192<>0),IF(COUNTRY_INFO!M192>=(COUNTRY_INFO!F192+COUNTRY_INFO!G192),COUNTRY_INFO!F192+COUNTRY_INFO!G192,COUNTRY_INFO!$M192), 0),0)","v":103149},0,577634.39999999991,0,577634.39999999991,null,577634.39999999991]
[{"$f":"IF(INTRO!$E$39=\"Non-endemic\",\" \",IF(COUNTRY_INFO!A193=0,\" \",COUNTRY_INFO!A193))","v":"Ghana"},{"$f":"IF(INTRO!$E$39=\"Non-endemic\",\" \",IF(COUNTRY_INFO!B193=0,\" \",COUNTRY_INFO!B193))","v":"Oti"},{"$f":"IF(INTRO!$E$39=\"Non-endemic\",\" \",IF(COUNTRY_INFO!C193=0,\" \",COUNTRY_INFO!C193))","v":"Krachi Nchumuru"},{"$f":"IF(INTRO!$E$39=\"Non-endemic\",0,IF(INTRO!$E$39=\"Endemic but PC is not required\",IF(COUNTRY_INFO!$H193=1,COUNTRY_INFO!F193+COUNTRY_INFO!G193,0),IF(COUNTRY_INFO!$H193=1,COUNTRY_INFO!F193+COUNTRY_INFO!G193,IF(COUNTRY_INFO!$I193=1,IF(COUNTRY_INFO!M193>=(COUNTRY_INFO!F193+COUNTRY_INFO!G193),COUNTRY_INFO!F193+COUNTRY_INFO!G193,COUNTRY_INFO!$M193),0))))","v":47125},{"$f":"IF(AND(INTRO!$E$39=\"Non-endemic\",INTRO!$E$37=\"Non-endemic\"),\"Not required\",IF(INTRO!$E$39=\"Non-endemic\",\"Treat with DEC\",COUNTRY_INFO!V193))","v":0},{"$f":"IF(INTRO!$E$39<>\"Non-endemic\",COUNTRY_INFO!W193,\"Not required\")","v":2},{"$f":"IF(COUNTRY_INFO!H193=1, IF($E193=1,$D193, 0),0)","v":0},{"$f":"IF(COUNTRY_INFO!I193=1, IF(AND(COUNTRY_INFO!$I193=1,$F193<>0),IF(COUNTRY_INFO!M193>=(COUNTRY_INFO!F193+COUNTRY_INFO!G193),COUNTRY_INFO!F193+COUNTRY_INFO!G193,COUNTRY_INFO!$M193), 0),0)","v":47125},0,263900,0,263900,null,263900]
[{"$f":"IF(INTRO!$E$39=\"Non-endemic\",\" \",IF(COUNTRY_INFO!A194=0,\" \",COUNTRY_INFO!A194))","v":"Ghana"},{"$f":"IF(INTRO!$E$39=\"Non-endemic\",\" \",IF(COUNTRY_INFO!B194=0,\" \",COUNTRY_INFO!B194))","v":"Oti"},{"$f":"IF(INTRO!$E$39=\"Non-endemic\",\" \",IF(COUNTRY_INFO!C194=0,\" \",COUNTRY_INFO!C194))","v":"Krachi West"},{"$f":"IF(INTRO!$E$39=\"Non-endemic\",0,IF(INTRO!$E$39=\"Endemic but PC is not required\",IF(COUNTRY_INFO!$H194=1,COUNTRY_INFO!F194+COUNTRY_INFO!G194,0),IF(COUNTRY_INFO!$H194=1,COUNTRY_INFO!F194+COUNTRY_INFO!G194,IF(COUNTRY_INFO!$I194=1,IF(COUNTRY_INFO!M194>=(COUNTRY_INFO!F194+COUNTRY_INFO!G194),COUNTRY_INFO!F194+COUNTRY_INFO!G194,COUNTRY_INFO!$M194),0))))","v":0},{"$f":"IF(AND(INTRO!$E$39=\"Non-endemic\",INTRO!$E$37=\"Non-endemic\"),\"Not required\",IF(INTRO!$E$39=\"Non-endemic\",\"Treat with DEC\",COUNTRY_INFO!V194))","v":0},{"$f":"IF(INTRO!$E$39<>\"Non-endemic\",COUNTRY_INFO!W194,\"Not required\")","v":0},{"$f":"IF(COUNTRY_INFO!H194=1, IF($E194=1,$D194, 0),0)","v":0},{"$f":"IF(COUNTRY_INFO!I194=1, IF(AND(COUNTRY_INFO!$I194=1,$F194<>0),IF(COUNTRY_INFO!M194>=(COUNTRY_INFO!F194+COUNTRY_INFO!G194),COUNTRY_INFO!F194+COUNTRY_INFO!G194,COUNTRY_INFO!$M194), 0),0)","v":0},0,0,0,0,null,0]
[{"$f":"IF(INTRO!$E$39=\"Non-endemic\",\" \",IF(COUNTRY_INFO!A195=0,\" \",COUNTRY_INFO!A195))","v":"Ghana"},{"$f":"IF(INTRO!$E$39=\"Non-endemic\",\" \",IF(COUNTRY_INFO!B195=0,\" \",COUNTRY_INFO!B195))","v":"Oti"},{"$f":"IF(INTRO!$E$39=\"Non-endemic\",\" \",IF(COUNTRY_INFO!C195=0,\" \",COUNTRY_INFO!C195))","v":"Nkwanta North"},{"$f":"IF(INTRO!$E$39=\"Non-endemic\",0,IF(INTRO!$E$39=\"Endemic but PC is not required\",IF(COUNTRY_INFO!$H195=1,COUNTRY_INFO!F195+COUNTRY_INFO!G195,0),IF(COUNTRY_INFO!$H195=1,COUNTRY_INFO!F195+COUNTRY_INFO!G195,IF(COUNTRY_INFO!$I195=1,IF(COUNTRY_INFO!M195>=(COUNTRY_INFO!F195+COUNTRY_INFO!G195),COUNTRY_INFO!F195+COUNTRY_INFO!G195,COUNTRY_INFO!$M195),0))))","v":74512},{"$f":"IF(AND(INTRO!$E$39=\"Non-endemic\",INTRO!$E$37=\"Non-endemic\"),\"Not required\",IF(INTRO!$E$39=\"Non-endemic\",\"Treat with DEC\",COUNTRY_INFO!V195))","v":0},{"$f":"IF(INTRO!$E$39<>\"Non-endemic\",COUNTRY_INFO!W195,\"Not required\")","v":2},{"$f":"IF(COUNTRY_INFO!H195=1, IF($E195=1,$D195, 0),0)","v":0},{"$f":"IF(COUNTRY_INFO!I195=1, IF(AND(COUNTRY_INFO!$I195=1,$F195<>0),IF(COUNTRY_INFO!M195>=(COUNTRY_INFO!F195+COUNTRY_INFO!G195),COUNTRY_INFO!F195+COUNTRY_INFO!G195,COUNTRY_INFO!$M195), 0),0)","v":74512},0,417267.19999999995,0,417267.19999999995,null,417267.19999999995]
[{"$f":"IF(INTRO!$E$39=\"Non-endemic\",\" \",IF(COUNTRY_INFO!A196=0,\" \",COUNTRY_INFO!A196))","v":"Ghana"},{"$f":"IF(INTRO!$E$39=\"Non-endemic\",\" \",IF(COUNTRY_INFO!B196=0,\" \",COUNTRY_INFO!B196))","v":"Oti"},{"$f":"IF(INTRO!$E$39=\"Non-endemic\",\" \",IF(COUNTRY_INFO!C196=0,\" \",COUNTRY_INFO!C196))","v":"Nkwanta South"},{"$f":"IF(INTRO!$E$39=\"Non-endemic\",0,IF(INTRO!$E$39=\"Endemic but PC is not required\",IF(COUNTRY_INFO!$H196=1,COUNTRY_INFO!F196+COUNTRY_INFO!G196,0),IF(COUNTRY_INFO!$H196=1,COUNTRY_INFO!F196+COUNTRY_INFO!G196,IF(COUNTRY_INFO!$I196=1,IF(COUNTRY_INFO!M196>=(COUNTRY_INFO!F196+COUNTRY_INFO!G196),COUNTRY_INFO!F196+COUNTRY_INFO!G196,COUNTRY_INFO!$M196),0))))","v":0},{"$f":"IF(AND(INTRO!$E$39=\"Non-endemic\",INTRO!$E$37=\"Non-endemic\"),\"Not required\",IF(INTRO!$E$39=\"Non-endemic\",\"Treat with DEC\",COUNTRY_INFO!V196))","v":0},{"$f":"IF(INTRO!$E$39<>\"Non-endemic\",COUNTRY_INFO!W196,\"Not required\")","v":2},{"$f":"IF(COUNTRY_INFO!H196=1, IF($E196=1,$D196, 0),0)","v":0},{"$f":"IF(COUNTRY_INFO!I196=1, IF(AND(COUNTRY_INFO!$I196=1,$F196<>0),IF(COUNTRY_INFO!M196>=(COUNTRY_INFO!F196+COUNTRY_INFO!G196),COUNTRY_INFO!F196+COUNTRY_INFO!G196,COUNTRY_INFO!$M196), 0),0)","v":0},0,0,0,0,null,0]
[{"$f":"IF(INTRO!$E$39=\"Non-endemic\",\" \",IF(COUNTRY_INFO!A197=0,\" \",COUNTRY_INFO!A197))","v":"Ghana"},{"$f":"IF(INTRO!$E$39=\"Non-endemic\",\" \",IF(COUNTRY_INFO!B197=0,\" \",COUNTRY_INFO!B197))","v":"Savannah"},{"$f":"IF(INTRO!$E$39=\"Non-endemic\",\" \",IF(COUNTRY_INFO!C197=0,\" \",COUNTRY_INFO!C197))","v":"Bole"},{"$f":"IF(INTRO!$E$39=\"Non-endemic\",0,IF(INTRO!$E$39=\"Endemic but PC is not required\",IF(COUNTRY_INFO!$H197=1,COUNTRY_INFO!F197+COUNTRY_INFO!G197,0),IF(COUNTRY_INFO!$H197=1,COUNTRY_INFO!F197+COUNTRY_INFO!G197,IF(COUNTRY_INFO!$I197=1,IF(COUNTRY_INFO!M197>=(COUNTRY_INFO!F197+COUNTRY_INFO!G197),COUNTRY_INFO!F197+COUNTRY_INFO!G197,COUNTRY_INFO!$M197),0))))","v":108160},{"$f":"IF(AND(INTRO!$E$39=\"Non-endemic\",INTRO!$E$37=\"Non-endemic\"),\"Not required\",IF(INTRO!$E$39=\"Non-endemic\",\"Treat with DEC\",COUNTRY_INFO!V197))","v":1},{"$f":"IF(INTRO!$E$39<>\"Non-endemic\",COUNTRY_INFO!W197,\"Not required\")","v":2},{"$f":"IF(COUNTRY_INFO!H197=1, IF($E197=1,$D197, 0),0)","v":108160},{"$f":"IF(COUNTRY_INFO!I197=1, IF(AND(COUNTRY_INFO!$I197=1,$F197<>0),IF(COUNTRY_INFO!M197>=(COUNTRY_INFO!F197+COUNTRY_INFO!G197),COUNTRY_INFO!F197+COUNTRY_INFO!G197,COUNTRY_INFO!$M197), 0),0)","v":69228},109009.59999999999,193838.4,193838.4,496686.4,null,496686.4]
[{"$f":"IF(INTRO!$E$39=\"Non-endemic\",\" \",IF(COUNTRY_INFO!A198=0,\" \",COUNTRY_INFO!A198))","v":"Ghana"},{"$f":"IF(INTRO!$E$39=\"Non-endemic\",\" \",IF(COUNTRY_INFO!B198=0,\" \",COUNTRY_INFO!B198))","v":"Savannah"},{"$f":"IF(INTRO!$E$39=\"Non-endemic\",\" \",IF(COUNTRY_INFO!C198=0,\" \",COUNTRY_INFO!C198))","v":"Central Gonja"},{"$f":"IF(INTRO!$E$39=\"Non-endemic\",0,IF(INTRO!$E$39=\"Endemic but PC is not required\",IF(COUNTRY_INFO!$H198=1,COUNTRY_INFO!F198+COUNTRY_INFO!G198,0),IF(COUNTRY_INFO!$H198=1,COUNTRY_INFO!F198+COUNTRY_INFO!G198,IF(COUNTRY_INFO!$I198=1,IF(COUNTRY_INFO!M198>=(COUNTRY_INFO!F198+COUNTRY_INFO!G198),COUNTRY_INFO!F198+COUNTRY_INFO!G198,COUNTRY_INFO!$M198),0))))","v":0},{"$f":"IF(AND(INTRO!$E$39=\"Non-endemic\",INTRO!$E$37=\"Non-endemic\"),\"Not required\",IF(INTRO!$E$39=\"Non-endemic\",\"Treat with DEC\",COUNTRY_INFO!V198))","v":0},{"$f":"IF(INTRO!$E$39<>\"Non-endemic\",COUNTRY_INFO!W198,\"Not required\")","v":0},{"$f":"IF(COUNTRY_INFO!H198=1, IF($E198=1,$D198, 0),0)","v":0},{"$f":"IF(COUNTRY_INFO!I198=1, IF(AND(COUNTRY_INFO!$I198=1,$F198<>0),IF(COUNTRY_INFO!M198>=(COUNTRY_INFO!F198+COUNTRY_INFO!G198),COUNTRY_INFO!F198+COUNTRY_INFO!G198,COUNTRY_INFO!$M198), 0),0)","v":0},0,0,0,0,null,0]
[{"$f":"IF(INTRO!$E$39=\"Non-endemic\",\" \",IF(COUNTRY_INFO!A199=0,\" \",COUNTRY_INFO!A199))","v":"Ghana"},{"$f":"IF(INTRO!$E$39=\"Non-endemic\",\" \",IF(COUNTRY_INFO!B199=0,\" \",COUNTRY_INFO!B199))","v":"Savannah"},{"$f":"IF(INTRO!$E$39=\"Non-endemic\",\" \",IF(COUNTRY_INFO!C199=0,\" \",COUNTRY_INFO!C199))","v":"East Gonja"},{"$f":"IF(INTRO!$E$39=\"Non-endemic\",0,IF(INTRO!$E$39=\"Endemic but PC is not required\",IF(COUNTRY_INFO!$H199=1,COUNTRY_INFO!F199+COUNTRY_INFO!G199,0),IF(COUNTRY_INFO!$H199=1,COUNTRY_INFO!F199+COUNTRY_INFO!G199,IF(COUNTRY_INFO!$I199=1,IF(COUNTRY_INFO!M199>=(COUNTRY_INFO!F199+COUNTRY_INFO!G199),COUNTRY_INFO!F199+COUNTRY_INFO!G199,COUNTRY_INFO!$M199),0))))","v":105073},{"$f":"IF(AND(INTRO!$E$39=\"Non-endemic\",INTRO!$E$37=\"Non-endemic\"),\"Not required\",IF(INTRO!$E$39=\"Non-endemic\",\"Treat with DEC\",COUNTRY_INFO!V199))","v":0},{"$f":"IF(INTRO!$E$39<>\"Non-endemic\",COUNTRY_INFO!W199,\"Not required\")","v":2},{"$f":"IF(COUNTRY_INFO!H199=1, IF($E199=1,$D199, 0),0)","v":0},{"$f":"IF(COUNTRY_INFO!I199=1, IF(AND(COUNTRY_INFO!$I199=1,$F199<>0),IF(COUNTRY_INFO!M199>=(COUNTRY_INFO!F199+COUNTRY_INFO!G199),COUNTRY_INFO!F199+COUNTRY_INFO!G199,COUNTRY_INFO!$M199), 0),0)","v":105073},0,588408.79999999993,0,588408.79999999993,null,588408.79999999993]
[{"$f":"IF(INTRO!$E$39=\"Non-endemic\",\" \",IF(COUNTRY_INFO!A200=0,\" \",COUNTRY_INFO!A200))","v":"Ghana"},{"$f":"IF(INTRO!$E$39=\"Non-endemic\",\" \",IF(COUNTRY_INFO!B200=0,\" \",COUNTRY_INFO!B200))","v":"Savannah"},{"$f":"IF(INTRO!$E$39=\"Non-endemic\",\" \",IF(COUNTRY_INFO!C200=0,\" \",COUNTRY_INFO!C200))","v":"North Gonja"},{"$f":"IF(INTRO!$E$39=\"Non-endemic\",0,IF(INTRO!$E$39=\"Endemic but PC is not required\",IF(COUNTRY_INFO!$H200=1,COUNTRY_INFO!F200+COUNTRY_INFO!G200,0),IF(COUNTRY_INFO!$H200=1,COUNTRY_INFO!F200+COUNTRY_INFO!G200,IF(COUNTRY_INFO!$I200=1,IF(COUNTRY_INFO!M200>=(COUNTRY_INFO!F200+COUNTRY_INFO!G200),COUNTRY_INFO!F200+COUNTRY_INFO!G200,COUNTRY_INFO!$M200),0))))","v":49839},{"$f":"IF(AND(INTRO!$E$39=\"Non-endemic\",INTRO!$E$37=\"Non-endemic\"),\"Not required\",IF(INTRO!$E$39=\"Non-endemic\",\"Treat with DEC\",COUNTRY_INFO!V200))","v":0},{"$f":"IF(INTRO!$E$39<>\"Non-endemic\",COUNTRY_INFO!W200,\"Not required\")","v":2},{"$f":"IF(COUNTRY_INFO!H200=1, IF($E200=1,$D200, 0),0)","v":0},{"$f":"IF(COUNTRY_INFO!I200=1, IF(AND(COUNTRY_INFO!$I200=1,$F200<>0),IF(COUNTRY_INFO!M200>=(COUNTRY_INFO!F200+COUNTRY_INFO!G200),COUNTRY_INFO!F200+COUNTRY_INFO!G200,COUNTRY_INFO!$M200), 0),0)","v":49839},0,279098.39999999997,0,279098.39999999997,null,279098.39999999997]
[{"$f":"IF(INTRO!$E$39=\"Non-endemic\",\" \",IF(COUNTRY_INFO!A201=0,\" \",COUNTRY_INFO!A201))","v":"Ghana"},{"$f":"IF(INTRO!$E$39=\"Non-endemic\",\" \",IF(COUNTRY_INFO!B201=0,\" \",COUNTRY_INFO!B201))","v":"Savannah"},{"$f":"IF(INTRO!$E$39=\"Non-endemic\",\" \",IF(COUNTRY_INFO!C201=0,\" \",COUNTRY_INFO!C201))","v":"North-East Gonja"},{"$f":"IF(INTRO!$E$39=\"Non-endemic\",0,IF(INTRO!$E$39=\"Endemic but PC is not required\",IF(COUNTRY_INFO!$H201=1,COUNTRY_INFO!F201+COUNTRY_INFO!G201,0),IF(COUNTRY_INFO!$H201=1,COUNTRY_INFO!F201+COUNTRY_INFO!G201,IF(COUNTRY_INFO!$I201=1,IF(COUNTRY_INFO!M201>=(COUNTRY_INFO!F201+COUNTRY_INFO!G201),COUNTRY_INFO!F201+COUNTRY_INFO!G201,COUNTRY_INFO!$M201),0))))","v":36805},{"$f":"IF(AND(INTRO!$E$39=\"Non-endemic\",INTRO!$E$37=\"Non-endemic\"),\"Not required\",IF(INTRO!$E$39=\"Non-endemic\",\"Treat with DEC\",COUNTRY_INFO!V201))","v":0},{"$f":"IF(INTRO!$E$39<>\"Non-endemic\",COUNTRY_INFO!W201,\"Not required\")","v":2},{"$f":"IF(COUNTRY_INFO!H201=1, IF($E201=1,$D201, 0),0)","v":0},{"$f":"IF(COUNTRY_INFO!I201=1, IF(AND(COUNTRY_INFO!$I201=1,$F201<>0),IF(COUNTRY_INFO!M201>=(COUNTRY_INFO!F201+COUNTRY_INFO!G201),COUNTRY_INFO!F201+COUNTRY_INFO!G201,COUNTRY_INFO!$M201), 0),0)","v":36805},0,206108,0,206108,null,206108]
[{"$f":"IF(INTRO!$E$39=\"Non-endemic\",\" \",IF(COUNTRY_INFO!A202=0,\" \",COUNTRY_INFO!A202))","v":"Ghana"},{"$f":"IF(INTRO!$E$39=\"Non-endemic\",\" \",IF(COUNTRY_INFO!B202=0,\" \",COUNTRY_INFO!B202))","v":"Savannah"},{"$f":"IF(INTRO!$E$39=\"Non-endemic\",\" \",IF(COUNTRY_INFO!C202=0,\" \",COUNTRY_INFO!C202))","v":"Sawla-Tuna-Kalba"},{"$f":"IF(INTRO!$E$39=\"Non-endemic\",0,IF(INTRO!$E$39=\"Endemic but PC is not required\",IF(COUNTRY_INFO!$H202=1,COUNTRY_INFO!F202+COUNTRY_INFO!G202,0),IF(COUNTRY_INFO!$H202=1,COUNTRY_INFO!F202+COUNTRY_INFO!G202,IF(COUNTRY_INFO!$I202=1,IF(COUNTRY_INFO!M202>=(COUNTRY_INFO!F202+COUNTRY_INFO!G202),COUNTRY_INFO!F202+COUNTRY_INFO!G202,COUNTRY_INFO!$M202),0))))","v":105231},{"$f":"IF(AND(INTRO!$E$39=\"Non-endemic\",INTRO!$E$37=\"Non-endemic\"),\"Not required\",IF(INTRO!$E$39=\"Non-endemic\",\"Treat with DEC\",COUNTRY_INFO!V202))","v":1},{"$f":"IF(INTRO!$E$39<>\"Non-endemic\",COUNTRY_INFO!W202,\"Not required\")","v":2},{"$f":"IF(COUNTRY_INFO!H202=1, IF($E202=1,$D202, 0),0)","v":105231},{"$f":"IF(COUNTRY_INFO!I202=1, IF(AND(COUNTRY_INFO!$I202=1,$F202<>0),IF(COUNTRY_INFO!M202>=(COUNTRY_INFO!F202+COUNTRY_INFO!G202),COUNTRY_INFO!F202+COUNTRY_INFO!G202,COUNTRY_INFO!$M202), 0),0)","v":105231},{"$f":"IF(G202<H202,0,IF($E202=1, (G202-H202)*2.8, 0))","v":0},{"$f":"IF($E202<$F202, H202*(F202-E202)*2.8, 0)","v":294646.8},294646.8,589293.6,null,589293.6]
[{"$f":"IF(INTRO!$E$39=\"Non-endemic\",\" \",IF(COUNTRY_INFO!A203=0,\" \",COUNTRY_INFO!A203))","v":"Ghana"},{"$f":"IF(INTRO!$E$39=\"Non-endemic\",\" \",IF(COUNTRY_INFO!B203=0,\" \",COUNTRY_INFO!B203))","v":"Savannah"},{"$f":"IF(INTRO!$E$39=\"Non-endemic\",\" \",IF(COUNTRY_INFO!C203=0,\" \",COUNTRY_INFO!C203))","v":"West Gonja"},{"$f":"IF(INTRO!$E$39=\"Non-endemic\",0,IF(INTRO!$E$39=\"Endemic but PC is not required\",IF(COUNTRY_INFO!$H203=1,COUNTRY_INFO!F203+COUNTRY_INFO!G203,0),IF(COUNTRY_INFO!$H203=1,COUNTRY_INFO!F203+COUNTRY_INFO!G203,IF(COUNTRY_INFO!$I203=1,IF(COUNTRY_INFO!M203>=(COUNTRY_INFO!F203+COUNTRY_INFO!G203),COUNTRY_INFO!F203+COUNTRY_INFO!G203,COUNTRY_INFO!$M203),0))))","v":0},{"$f":"IF(AND(INTRO!$E$39=\"Non-endemic\",INTRO!$E$37=\"Non-endemic\"),\"Not required\",IF(INTRO!$E$39=\"Non-endemic\",\"Treat with DEC\",COUNTRY_INFO!V203))","v":0},{"$f":"IF(INTRO!$E$39<>\"Non-endemic\",COUNTRY_INFO!W203,\"Not required\")","v":0},{"$f":"IF(COUNTRY_INFO!H203=1, IF($E203=1,$D203, 0),0)","v":0},{"$f":"IF(COUNTRY_INFO!I203=1, IF(AND(COUNTRY_INFO!$I203=1,$F203<>0),IF(COUNTRY_INFO!M203>=(COUNTRY_INFO!F203+COUNTRY_INFO!G203),COUNTRY_INFO!F203+COUNTRY_INFO!G203,COUNTRY_INFO!$M203), 0),0)","v":0},0,0,{"$f":"IF(AND($E203=1, $F203<>0), H203*2.8, 0)","v":0},{"$f":"SUM(I203:K203)","v":0},null,0]
[{"$f":"IF(INTRO!$E$39=\"Non-endemic\",\" \",IF(COUNTRY_INFO!A204=0,\" \",COUNTRY_INFO!A204))","v":"Ghana"},{"$f":"IF(INTRO!$E$39=\"Non-endemic\",\" \",IF(COUNTRY_INFO!B204=0,\" \",COUNTRY_INFO!B204))","v":"Upper East"},{"$f":"IF(INTRO!$E$39=\"Non-endemic\",\" \",IF(COUNTRY_INFO!C204=0,\" \",COUNTRY_INFO!C204))","v":"Bawku Municipal"},{"$f":"IF(INTRO!$E$39=\"Non-endemic\",0,IF(INTRO!$E$39=\"Endemic but PC is not required\",IF(COUNTRY_INFO!$H204=1,COUNTRY_INFO!F204+COUNTRY_INFO!G204,0),IF(COUNTRY_INFO!$H204=1,COUNTRY_INFO!F204+COUNTRY_INFO!G204,IF(COUNTRY_INFO!$I204=1,IF(COUNTRY_INFO!M204>=(COUNTRY_INFO!F204+COUNTRY_INFO!G204),COUNTRY_INFO!F204+COUNTRY_INFO!G204,COUNTRY_INFO!$M204),0))))","v":0},{"$f":"IF(AND(INTRO!$E$39=\"Non-endemic\",INTRO!$E$37=\"Non-endemic\"),\"Not required\",IF(INTRO!$E$39=\"Non-endemic\",\"Treat with DEC\",COUNTRY_INFO!V204))","v":0},{"$f":"IF(INTRO!$E$39<>\"Non-endemic\",COUNTRY_INFO!W204,\"Not required\")","v":0},{"$f":"IF(COUNTRY_INFO!H204=1, IF($E204=1,$D204, 0),0)","v":0},{"$f":"IF(COUNTRY_INFO!I204=1, IF(AND(COUNTRY_INFO!$I204=1,$F204<>0),IF(COUNTRY_INFO!M204>=(COUNTRY_INFO!F204+COUNTRY_INFO!G204),COUNTRY_INFO!F204+COUNTRY_INFO!G204,COUNTRY_INFO!$M204), 0),0)","v":0},0,0,0,0,null,0]
[{"$f":"IF(INTRO!$E$39=\"Non-endemic\",\" \",IF(COUNTRY_INFO!A205=0,\" \",COUNTRY_INFO!A205))","v":"Ghana"},{"$f":"IF(INTRO!$E$39=\"Non-endemic\",\" \",IF(COUNTRY_INFO!B205=0,\" \",COUNTRY_INFO!B205))","v":"Upper East"},{"$f":"IF(INTRO!$E$39=\"Non-endemic\",\" \",IF(COUNTRY_INFO!C205=0,\" \",COUNTRY_INFO!C205))","v":"Bawku West"},{"$f":"IF(INTRO!$E$39=\"Non-endemic\",0,IF(INTRO!$E$39=\"Endemic but PC is not required\",IF(COUNTRY_INFO!$H205=1,COUNTRY_INFO!F205+COUNTRY_INFO!G205,0),IF(COUNTRY_INFO!$H205=1,COUNTRY_INFO!F205+COUNTRY_INFO!G205,IF(COUNTRY_INFO!$I205=1,IF(COUNTRY_INFO!M205>=(COUNTRY_INFO!F205+COUNTRY_INFO!G205),COUNTRY_INFO!F205+COUNTRY_INFO!G205,COUNTRY_INFO!$M205),0))))","v":101864},{"$f":"IF(AND(INTRO!$E$39=\"Non-endemic\",INTRO!$E$37=\"Non-endemic\"),\"Not required\",IF(INTRO!$E$39=\"Non-endemic\",\"Treat with DEC\",COUNTRY_INFO!V205))","v":0},{"$f":"IF(INTRO!$E$39<>\"Non-endemic\",COUNTRY_INFO!W205,\"Not required\")","v":2},{"$f":"IF(COUNTRY_INFO!H205=1, IF($E205=1,$D205, 0),0)","v":0},{"$f":"IF(COUNTRY_INFO!I205=1, IF(AND(COUNTRY_INFO!$I205=1,$F205<>0),IF(COUNTRY_INFO!M205>=(COUNTRY_INFO!F205+COUNTRY_INFO!G205),COUNTRY_INFO!F205+COUNTRY_INFO!G205,COUNTRY_INFO!$M205), 0),0)","v":101864},0,570438.39999999991,0,570438.39999999991,null,570438.39999999991]
[{"$f":"IF(INTRO!$E$39=\"Non-endemic\",\" \",IF(COUNTRY_INFO!A206=0,\" \",COUNTRY_INFO!A206))","v":"Ghana"},{"$f":"IF(INTRO!$E$39=\"Non-endemic\",\" \",IF(COUNTRY_INFO!B206=0,\" \",COUNTRY_INFO!B206))","v":"Upper East"},{"$f":"IF(INTRO!$E$39=\"Non-endemic\",\" \",IF(COUNTRY_INFO!C206=0,\" \",COUNTRY_INFO!C206))","v":"Binduri"},{"$f":"IF(INTRO!$E$39=\"Non-endemic\",0,IF(INTRO!$E$39=\"Endemic but PC is not required\",IF(COUNTRY_INFO!$H206=1,COUNTRY_INFO!F206+COUNTRY_INFO!G206,0),IF(COUNTRY_INFO!$H206=1,COUNTRY_INFO!F206+COUNTRY_INFO!G206,IF(COUNTRY_INFO!$I206=1,IF(COUNTRY_INFO!M206>=(COUNTRY_INFO!F206+COUNTRY_INFO!G206),COUNTRY_INFO!F206+COUNTRY_INFO!G206,COUNTRY_INFO!$M206),0))))","v":0},{"$f":"IF(AND(INTRO!$E$39=\"Non-endemic\",INTRO!$E$37=\"Non-endemic\"),\"Not required\",IF(INTRO!$E$39=\"Non-endemic\",\"Treat with DEC\",COUNTRY_INFO!V206))","v":0},{"$f":"IF(INTRO!$E$39<>\"Non-endemic\",COUNTRY_INFO!W206,\"Not required\")","v":0},{"$f":"IF(COUNTRY_INFO!H206=1, IF($E206=1,$D206, 0),0)","v":0},{"$f":"IF(COUNTRY_INFO!I206=1, IF(AND(COUNTRY_INFO!$I206=1,$F206<>0),IF(COUNTRY_INFO!M206>=(COUNTRY_INFO!F206+COUNTRY_INFO!G206),COUNTRY_INFO!F206+COUNTRY_INFO!G206,COUNTRY_INFO!$M206), 0),0)","v":0},0,0,0,0,null,0]
[{"$f":"IF(INTRO!$E$39=\"Non-endemic\",\" \",IF(COUNTRY_INFO!A207=0,\" \",COUNTRY_INFO!A207))","v":"Ghana"},{"$f":"IF(INTRO!$E$39=\"Non-endemic\",\" \",IF(COUNTRY_INFO!B207=0,\" \",COUNTRY_INFO!B207))","v":"Upper East"},{"$f":"IF(INTRO!$E$39=\"Non-endemic\",\" \",IF(COUNTRY_INFO!C207=0,\" \",COUNTRY_INFO!C207))","v":"Bolgatanga East"},{"$f":"IF(INTRO!$E$39=\"Non-endemic\",0,IF(INTRO!$E$39=\"Endemic but PC is not required\",IF(COUNTRY_INFO!$H207=1,COUNTRY_INFO!F207+COUNTRY_INFO!G207,0),IF(COUNTRY_INFO!$H207=1,COUNTRY_INFO!F207+COUNTRY_INFO!G207,IF(COUNTRY_INFO!$I207=1,IF(COUNTRY_INFO!M207>=(COUNTRY_INFO!F207+COUNTRY_INFO!G207),COUNTRY_INFO!F207+COUNTRY_INFO!G207,COUNTRY_INFO!$M207),0))))","v":0},{"$f":"IF(AND(INTRO!$E$39=\"Non-endemic\",INTRO!$E$37=\"Non-endemic\"),\"Not required\",IF(INTRO!$E$39=\"Non-endemic\",\"Treat with DEC\",COUNTRY_INFO!V207))","v":0},{"$f":"IF(INTRO!$E$39<>\"Non-endemic\",COUNTRY_INFO!W207,\"Not required\")","v":0},{"$f":"IF(COUNTRY_INFO!H207=1, IF($E207=1,$D207, 0),0)","v":0},{"$f":"IF(COUNTRY_INFO!I207=1, IF(AND(COUNTRY_INFO!$I207=1,$F207<>0),IF(COUNTRY_INFO!M207>=(COUNTRY_INFO!F207+COUNTRY_INFO!G207),COUNTRY_INFO!F207+COUNTRY_INFO!G207,COUNTRY_INFO!$M207), 0),0)","v":0},0,0,0,0,null,0]
[{"$f":"IF(INTRO!$E$39=\"Non-endemic\",\" \",IF(COUNTRY_INFO!A208=0,\" \",COUNTRY_INFO!A208))","v":"Ghana"},{"$f":"IF(INTRO!$E$39=\"Non-endemic\",\" \",IF(COUNTRY_INFO!B208=0,\" \",COUNTRY_INFO!B208))","v":"Upper East"},{"$f":"IF(INTRO!$E$39=\"Non-endemic\",\" \",IF(COUNTRY_INFO!C208=0,\" \",COUNTRY_INFO!C208))","v":"Bolgatanga Municipal"},{"$f":"IF(INTRO!$E$39=\"Non-endemic\",0,IF(INTRO!$E$39=\"Endemic but PC is not required\",IF(COUNTRY_INFO!$H208=1,COUNTRY_INFO!F208+COUNTRY_INFO!G208,0),IF(COUNTRY_INFO!$H208=1,COUNTRY_INFO!F208+COUNTRY_INFO!G208,IF(COUNTRY_INFO!$I208=1,IF(COUNTRY_INFO!M208>=(COUNTRY_INFO!F208+COUNTRY_INFO!G208),COUNTRY_INFO!F208+COUNTRY_INFO!G208,COUNTRY_INFO!$M208),0))))","v":0},{"$f":"IF(AND(INTRO!$E$39=\"Non-endemic\",INTRO!$E$37=\"Non-endemic\"),\"Not required\",IF(INTRO!$E$39=\"Non-endemic\",\"Treat with DEC\",COUNTRY_INFO!V208))","v":0},{"$f":"IF(INTRO!$E$39<>\"Non-endemic\",COUNTRY_INFO!W208,\"Not required\")","v":0},{"$f":"IF(COUNTRY_INFO!H208=1, IF($E208=1,$D208, 0),0)","v":0},{"$f":"IF(COUNTRY_INFO!I208=1, IF(AND(COUNTRY_INFO!$I208=1,$F208<>0),IF(COUNTRY_INFO!M208>=(COUNTRY_INFO!F208+COUNTRY_INFO!G208),COUNTRY_INFO!F208+COUNTRY_INFO!G208,COUNTRY_INFO!$M208), 0),0)","v":0},0,0,0,0,null,0]
[{"$f":"IF(INTRO!$E$39=\"Non-endemic\",\" \",IF(COUNTRY_INFO!A209=0,\" \",COUNTRY_INFO!A209))","v":"Ghana"},{"$f":"IF(INTRO!$E$39=\"Non-endemic\",\" \",IF(COUNTRY_INFO!B209=0,\" \",COUNTRY_INFO!B209))","v":"Upper East"},{"$f":"IF(INTRO!$E$39=\"Non-endemic\",\" \",IF(COUNTRY_INFO!C209=0,\" \",COUNTRY_INFO!C209))","v":"Bongo"},{"$f":"IF(INTRO!$E$39=\"Non-endemic\",0,IF(INTRO!$E$39=\"Endemic but PC is not required\",IF(COUNTRY_INFO!$H209=1,COUNTRY_INFO!F209+COUNTRY_INFO!G209,0),IF(COUNTRY_INFO!$H209=1,COUNTRY_INFO!F209+COUNTRY_INFO!G209,IF(COUNTRY_INFO!$I209=1,IF(COUNTRY_INFO!M209>=(COUNTRY_INFO!F209+COUNTRY_INFO!G209),COUNTRY_INFO!F209+COUNTRY_INFO!G209,COUNTRY_INFO!$M209),0))))","v":0},{"$f":"IF(AND(INTRO!$E$39=\"Non-endemic\",INTRO!$E$37=\"Non-endemic\"),\"Not required\",IF(INTRO!$E$39=\"Non-endemic\",\"Treat with DEC\",COUNTRY_INFO!V209))","v":0},{"$f":"IF(INTRO!$E$39<>\"Non-endemic\",COUNTRY_INFO!W209,\"Not required\")","v":0},{"$f":"IF(COUNTRY_INFO!H209=1, IF($E209=1,$D209, 0),0)","v":0},{"$f":"IF(COUNTRY_INFO!I209=1, IF(AND(COUNTRY_INFO!$I209=1,$F209<>0),IF(COUNTRY_INFO!M209>=(COUNTRY_INFO!F209+COUNTRY_INFO!G209),COUNTRY_INFO!F209+COUNTRY_INFO!G209,COUNTRY_INFO!$M209), 0),0)","v":0},0,0,0,0,null,0]
[{"$f":"IF(INTRO!$E$39=\"Non-endemic\",\" \",IF(COUNTRY_INFO!A210=0,\" \",COUNTRY_INFO!A210))","v":"Ghana"},{"$f":"IF(INTRO!$E$39=\"Non-endemic\",\" \",IF(COUNTRY_INFO!B210=0,\" \",COUNTRY_INFO!B210))","v":"Upper East"},{"$f":"IF(INTRO!$E$39=\"Non-endemic\",\" \",IF(COUNTRY_INFO!C210=0,\" \",COUNTRY_INFO!C210))","v":"Builsa North"},{"$f":"IF(INTRO!$E$39=\"Non-endemic\",0,IF(INTRO!$E$39=\"Endemic but PC is not required\",IF(COUNTRY_INFO!$H210=1,COUNTRY_INFO!F210+COUNTRY_INFO!G210,0),IF(COUNTRY_INFO!$H210=1,COUNTRY_INFO!F210+COUNTRY_INFO!G210,IF(COUNTRY_INFO!$I210=1,IF(COUNTRY_INFO!M210>=(COUNTRY_INFO!F210+COUNTRY_INFO!G210),COUNTRY_INFO!F210+COUNTRY_INFO!G210,COUNTRY_INFO!$M210),0))))","v":0},{"$f":"IF(AND(INTRO!$E$39=\"Non-endemic\",INTRO!$E$37=\"Non-endemic\"),\"Not required\",IF(INTRO!$E$39=\"Non-endemic\",\"Treat with DEC\",COUNTRY_INFO!V210))","v":0},{"$f":"IF(INTRO!$E$39<>\"Non-endemic\",COUNTRY_INFO!W210,\"Not required\")","v":0},{"$f":"IF(COUNTRY_INFO!H210=1, IF($E210=1,$D210, 0),0)","v":0},{"$f":"IF(COUNTRY_INFO!I210=1, IF(AND(COUNTRY_INFO!$I210=1,$F210<>0),IF(COUNTRY_INFO!M210>=(COUNTRY_INFO!F210+COUNTRY_INFO!G210),COUNTRY_INFO!F210+COUNTRY_INFO!G210,COUNTRY_INFO!$M210), 0),0)","v":0},0,0,0,0,null,0]
[{"$f":"IF(INTRO!$E$39=\"Non-endemic\",\" \",IF(COUNTRY_INFO!A211=0,\" \",COUNTRY_INFO!A211))","v":"Ghana"},{"$f":"IF(INTRO!$E$39=\"Non-endemic\",\" \",IF(COUNTRY_INFO!B211=0,\" \",COUNTRY_INFO!B211))","v":"Upper East"},{"$f":"IF(INTRO!$E$39=\"Non-endemic\",\" \",IF(COUNTRY_INFO!C211=0,\" \",COUNTRY_INFO!C211))","v":"Builsa South"},{"$f":"IF(INTRO!$E$39=\"Non-endemic\",0,IF(INTRO!$E$39=\"Endemic but PC is not required\",IF(COUNTRY_INFO!$H211=1,COUNTRY_INFO!F211+COUNTRY_INFO!G211,0),IF(COUNTRY_INFO!$H211=1,COUNTRY_INFO!F211+COUNTRY_INFO!G211,IF(COUNTRY_INFO!$I211=1,IF(COUNTRY_INFO!M211>=(COUNTRY_INFO!F211+COUNTRY_INFO!G211),COUNTRY_INFO!F211+COUNTRY_INFO!G211,COUNTRY_INFO!$M211),0))))","v":8622},{"$f":"IF(AND(INTRO!$E$39=\"Non-endemic\",INTRO!$E$37=\"Non-endemic\"),\"Not required\",IF(INTRO!$E$39=\"Non-endemic\",\"Treat with DEC\",COUNTRY_INFO!V211))","v":0},{"$f":"IF(INTRO!$E$39<>\"Non-endemic\",COUNTRY_INFO!W211,\"Not required\")","v":2},{"$f":"IF(COUNTRY_INFO!H211=1, IF($E211=1,$D211, 0),0)","v":0},{"$f":"IF(COUNTRY_INFO!I211=1, IF(AND(COUNTRY_INFO!$I211=1,$F211<>0),IF(COUNTRY_INFO!M211>=(COUNTRY_INFO!F211+COUNTRY_INFO!G211),COUNTRY_INFO!F211+COUNTRY_INFO!G211,COUNTRY_INFO!$M211), 0),0)","v":8622},0,48283.199999999997,0,48283.199999999997,null,48283.199999999997]
[{"$f":"IF(INTRO!$E$39=\"Non-endemic\",\" \",IF(COUNTRY_INFO!A212=0,\" \",COUNTRY_INFO!A212))","v":"Ghana"},{"$f":"IF(INTRO!$E$39=\"Non-endemic\",\" \",IF(COUNTRY_INFO!B212=0,\" \",COUNTRY_INFO!B212))","v":"Upper East"},{"$f":"IF(INTRO!$E$39=\"Non-endemic\",\" \",IF(COUNTRY_INFO!C212=0,\" \",COUNTRY_INFO!C212))","v":"Garu"},{"$f":"IF(INTRO!$E$39=\"Non-endemic\",0,IF(INTRO!$E$39=\"Endemic but PC is not required\",IF(COUNTRY_INFO!$H212=1,COUNTRY_INFO!F212+COUNTRY_INFO!G212,0),IF(COUNTRY_INFO!$H212=1,COUNTRY_INFO!F212+COUNTRY_INFO!G212,IF(COUNTRY_INFO!$I212=1,IF(COUNTRY_INFO!M212>=(COUNTRY_INFO!F212+COUNTRY_INFO!G212),COUNTRY_INFO!F212+COUNTRY_INFO!G212,COUNTRY_INFO!$M212),0))))","v":0},{"$f":"IF(AND(INTRO!$E$39=\"Non-endemic\",INTRO!$E$37=\"Non-endemic\"),\"Not required\",IF(INTRO!$E$39=\"Non-endemic\",\"Treat with DEC\",COUNTRY_INFO!V212))","v":0},{"$f":"IF(INTRO!$E$39<>\"Non-endemic\",COUNTRY_INFO!W212,\"Not required\")","v":0},{"$f":"IF(COUNTRY_INFO!H212=1, IF($E212=1,$D212, 0),0)","v":0},{"$f":"IF(COUNTRY_INFO!I212=1, IF(AND(COUNTRY_INFO!$I212=1,$F212<>0),IF(COUNTRY_INFO!M212>=(COUNTRY_INFO!F212+COUNTRY_INFO!G212),COUNTRY_INFO!F212+COUNTRY_INFO!G212,COUNTRY_INFO!$M212), 0),0)","v":0},0,0,0,0,null,0]
[{"$f":"IF(INTRO!$E$39=\"Non-endemic\",\" \",IF(COUNTRY_INFO!A213=0,\" \",COUNTRY_INFO!A213))","v":"Ghana"},{"$f":"IF(INTRO!$E$39=\"Non-endemic\",\" \",IF(COUNTRY_INFO!B213=0,\" \",COUNTRY_INFO!B213))","v":"Upper East"},{"$f":"IF(INTRO!$E$39=\"Non-endemic\",\" \",IF(COUNTRY_INFO!C213=0,\" \",COUNTRY_INFO!C213))","v":"Kasena-Nankana"},{"$f":"IF(INTRO!$E$39=\"Non-endemic\",0,IF(INTRO!$E$39=\"Endemic but PC is not required\",IF(COUNTRY_INFO!$H213=1,COUNTRY_INFO!F213+COUNTRY_INFO!G213,0),IF(COUNTRY_INFO!$H213=1,COUNTRY_INFO!F213+COUNTRY_INFO!G213,IF(COUNTRY_INFO!$I213=1,IF(COUNTRY_INFO!M213>=(COUNTRY_INFO!F213+COUNTRY_INFO!G213),COUNTRY_INFO!F213+COUNTRY_INFO!G213,COUNTRY_INFO!$M213),0))))","v":0},{"$f":"IF(AND(INTRO!$E$39=\"Non-endemic\",INTRO!$E$37=\"Non-endemic\"),\"Not required\",IF(INTRO!$E$39=\"Non-endemic\",\"Treat with DEC\",COUNTRY_INFO!V213))","v":0},{"$f":"IF(INTRO!$E$39<>\"Non-endemic\",COUNTRY_INFO!W213,\"Not required\")","v":0},{"$f":"IF(COUNTRY_INFO!H213=1, IF($E213=1,$D213, 0),0)","v":0},{"$f":"IF(COUNTRY_INFO!I213=1, IF(AND(COUNTRY_INFO!$I213=1,$F213<>0),IF(COUNTRY_INFO!M213>=(COUNTRY_INFO!F213+COUNTRY_INFO!G213),COUNTRY_INFO!F213+COUNTRY_INFO!G213,COUNTRY_INFO!$M213), 0),0)","v":0},0,0,0,0,null,0]
[{"$f":"IF(INTRO!$E$39=\"Non-endemic\",\" \",IF(COUNTRY_INFO!A214=0,\" \",COUNTRY_INFO!A214))","v":"Ghana"},{"$f":"IF(INTRO!$E$39=\"Non-endemic\",\" \",IF(COUNTRY_INFO!B214=0,\" \",COUNTRY_INFO!B214))","v":"Upper East"},{"$f":"IF(INTRO!$E$39=\"Non-endemic\",\" \",IF(COUNTRY_INFO!C214=0,\" \",COUNTRY_INFO!C214))","v":"Kasena-Nankana West"},{"$f":"IF(INTRO!$E$39=\"Non-endemic\",0,IF(INTRO!$E$39=\"Endemic but PC is not required\",IF(COUNTRY_INFO!$H214=1,COUNTRY_INFO!F214+COUNTRY_INFO!G214,0),IF(COUNTRY_INFO!$H214=1,COUNTRY_INFO!F214+COUNTRY_INFO!G214,IF(COUNTRY_INFO!$I214=1,IF(COUNTRY_INFO!M214>=(COUNTRY_INFO!F214+COUNTRY_INFO!G214),COUNTRY_INFO!F214+COUNTRY_INFO!G214,COUNTRY_INFO!$M214),0))))","v":31857},{"$f":"IF(AND(INTRO!$E$39=\"Non-endemic\",INTRO!$E$37=\"Non-endemic\"),\"Not required\",IF(INTRO!$E$39=\"Non-endemic\",\"Treat with DEC\",COUNTRY_INFO!V214))","v":0},{"$f":"IF(INTRO!$E$39<>\"Non-endemic\",COUNTRY_INFO!W214,\"Not required\")","v":2},{"$f":"IF(COUNTRY_INFO!H214=1, IF($E214=1,$D214, 0),0)","v":0},{"$f":"IF(COUNTRY_INFO!I214=1, IF(AND(COUNTRY_INFO!$I214=1,$F214<>0),IF(COUNTRY_INFO!M214>=(COUNTRY_INFO!F214+COUNTRY_INFO!G214),COUNTRY_INFO!F214+COUNTRY_INFO!G214,COUNTRY_INFO!$M214), 0),0)","v":31857},0,178399.19999999998,0,178399.19999999998,null,178399.19999999998]
[{"$f":"IF(INTRO!$E$39=\"Non-endemic\",\" \",IF(COUNTRY_INFO!A215=0,\" \",COUNTRY_INFO!A215))","v":"Ghana"},{"$f":"IF(INTRO!$E$39=\"Non-endemic\",\" \",IF(COUNTRY_INFO!B215=0,\" \",COUNTRY_INFO!B215))","v":"Upper East"},{"$f":"IF(INTRO!$E$39=\"Non-endemic\",\" \",IF(COUNTRY_INFO!C215=0,\" \",COUNTRY_INFO!C215))","v":"Nabdam"},{"$f":"IF(INTRO!$E$39=\"Non-endemic\",0,IF(INTRO!$E$39=\"Endemic but PC is not required\",IF(COUNTRY_INFO!$H215=1,COUNTRY_INFO!F215+COUNTRY_INFO!G215,0),IF(COUNTRY_INFO!$H215=1,COUNTRY_INFO!F215+COUNTRY_INFO!G215,IF(COUNTRY_INFO!$I215=1,IF(COUNTRY_INFO!M215>=(COUNTRY_INFO!F215+COUNTRY_INFO!G215),COUNTRY_INFO!F215+COUNTRY_INFO!G215,COUNTRY_INFO!$M215),0))))","v":0},{"$f":"IF(AND(INTRO!$E$39=\"Non-endemic\",INTRO!$E$37=\"Non-endemic\"),\"Not required\",IF(INTRO!$E$39=\"Non-endemic\",\"Treat with DEC\",COUNTRY_INFO!V215))","v":0},{"$f":"IF(INTRO!$E$39<>\"Non-endemic\",COUNTRY_INFO!W215,\"Not required\")","v":0},{"$f":"IF(COUNTRY_INFO!H215=1, IF($E215=1,$D215, 0),0)","v":0},{"$f":"IF(COUNTRY_INFO!I215=1, IF(AND(COUNTRY_INFO!$I215=1,$F215<>0),IF(COUNTRY_INFO!M215>=(COUNTRY_INFO!F215+COUNTRY_INFO!G215),COUNTRY_INFO!F215+COUNTRY_INFO!G215,COUNTRY_INFO!$M215), 0),0)","v":0},0,0,0,0,null,0]
[{"$f":"IF(INTRO!$E$39=\"Non-endemic\",\" \",IF(COUNTRY_INFO!A216=0,\" \",COUNTRY_INFO!A216))","v":"Ghana"},{"$f":"IF(INTRO!$E$39=\"Non-endemic\",\" \",IF(COUNTRY_INFO!B216=0,\" \",COUNTRY_INFO!B216))","v":"Upper East"},{"$f":"IF(INTRO!$E$39=\"Non-endemic\",\" \",IF(COUNTRY_INFO!C216=0,\" \",COUNTRY_INFO!C216))","v":"Pusiga"},{"$f":"IF(INTRO!$E$39=\"Non-endemic\",0,IF(INTRO!$E$39=\"Endemic but PC is not required\",IF(COUNTRY_INFO!$H216=1,COUNTRY_INFO!F216+COUNTRY_INFO!G216,0),IF(COUNTRY_INFO!$H216=1,COUNTRY_INFO!F216+COUNTRY_INFO!G216,IF(COUNTRY_INFO!$I216=1,IF(COUNTRY_INFO!M216>=(COUNTRY_INFO!F216+COUNTRY_INFO!G216),COUNTRY_INFO!F216+COUNTRY_INFO!G216,COUNTRY_INFO!$M216),0))))","v":0},{"$f":"IF(AND(INTRO!$E$39=\"Non-endemic\",INTRO!$E$37=\"Non-endemic\"),\"Not required\",IF(INTRO!$E$39=\"Non-endemic\",\"Treat with DEC\",COUNTRY_INFO!V216))","v":0},{"$f":"IF(INTRO!$E$39<>\"Non-endemic\",COUNTRY_INFO!W216,\"Not required\")","v":0},{"$f":"IF(COUNTRY_INFO!H216=1, IF($E216=1,$D216, 0),0)","v":0},{"$f":"IF(COUNTRY_INFO!I216=1, IF(AND(COUNTRY_INFO!$I216=1,$F216<>0),IF(COUNTRY_INFO!M216>=(COUNTRY_INFO!F216+COUNTRY_INFO!G216),COUNTRY_INFO!F216+COUNTRY_INFO!G216,COUNTRY_INFO!$M216), 0),0)","v":0},0,0,0,0,null,0]
[{"$f":"IF(INTRO!$E$39=\"Non-endemic\",\" \",IF(COUNTRY_INFO!A217=0,\" \",COUNTRY_INFO!A217))","v":"Ghana"},{"$f":"IF(INTRO!$E$39=\"Non-endemic\",\" \",IF(COUNTRY_INFO!B217=0,\" \",COUNTRY_INFO!B217))","v":"Upper East"},{"$f":"IF(INTRO!$E$39=\"Non-endemic\",\" \",IF(COUNTRY_INFO!C217=0,\" \",COUNTRY_INFO!C217))","v":"Talensi"},{"$f":"IF(INTRO!$E$39=\"Non-endemic\",0,IF(INTRO!$E$39=\"Endemic but PC is not required\",IF(COUNTRY_INFO!$H217=1,COUNTRY_INFO!F217+COUNTRY_INFO!G217,0),IF(COUNTRY_INFO!$H217=1,COUNTRY_INFO!F217+COUNTRY_INFO!G217,IF(COUNTRY_INFO!$I217=1,IF(COUNTRY_INFO!M217>=(COUNTRY_INFO!F217+COUNTRY_INFO!G217),COUNTRY_INFO!F217+COUNTRY_INFO!G217,COUNTRY_INFO!$M217),0))))","v":0},{"$f":"IF(AND(INTRO!$E$39=\"Non-endemic\",INTRO!$E$37=\"Non-endemic\"),\"Not required\",IF(INTRO!$E$39=\"Non-endemic\",\"Treat with DEC\",COUNTRY_INFO!V217))","v":0},{"$f":"IF(INTRO!$E$39<>\"Non-endemic\",COUNTRY_INFO!W217,\"Not required\")","v":0},{"$f":"IF(COUNTRY_INFO!H217=1, IF($E217=1,$D217, 0),0)","v":0},{"$f":"IF(COUNTRY_INFO!I217=1, IF(AND(COUNTRY_INFO!$I217=1,$F217<>0),IF(COUNTRY_INFO!M217>=(COUNTRY_INFO!F217+COUNTRY_INFO!G217),COUNTRY_INFO!F217+COUNTRY_INFO!G217,COUNTRY_INFO!$M217), 0),0)","v":0},0,0,0,0,null,0]
[{"$f":"IF(INTRO!$E$39=\"Non-endemic\",\" \",IF(COUNTRY_INFO!A218=0,\" \",COUNTRY_INFO!A218))","v":"Ghana"},{"$f":"IF(INTRO!$E$39=\"Non-endemic\",\" \",IF(COUNTRY_INFO!B218=0,\" \",COUNTRY_INFO!B218))","v":"Upper East"},{"$f":"IF(INTRO!$E$39=\"Non-endemic\",\" \",IF(COUNTRY_INFO!C218=0,\" \",COUNTRY_INFO!C218))","v":"Tempane"},{"$f":"IF(INTRO!$E$39=\"Non-endemic\",0,IF(INTRO!$E$39=\"Endemic but PC is not required\",IF(COUNTRY_INFO!$H218=1,COUNTRY_INFO!F218+COUNTRY_INFO!G218,0),IF(COUNTRY_INFO!$H218=1,COUNTRY_INFO!F218+COUNTRY_INFO!G218,IF(COUNTRY_INFO!$I218=1,IF(COUNTRY_INFO!M218>=(COUNTRY_INFO!F218+COUNTRY_INFO!G218),COUNTRY_INFO!F218+COUNTRY_INFO!G218,COUNTRY_INFO!$M218),0))))","v":15767},{"$f":"IF(AND(INTRO!$E$39=\"Non-endemic\",INTRO!$E$37=\"Non-endemic\"),\"Not required\",IF(INTRO!$E$39=\"Non-endemic\",\"Treat with DEC\",COUNTRY_INFO!V218))","v":0},{"$f":"IF(INTRO!$E$39<>\"Non-endemic\",COUNTRY_INFO!W218,\"Not required\")","v":2},{"$f":"IF(COUNTRY_INFO!H218=1, IF($E218=1,$D218, 0),0)","v":0},{"$f":"IF(COUNTRY_INFO!I218=1, IF(AND(COUNTRY_INFO!$I218=1,$F218<>0),IF(COUNTRY_INFO!M218>=(COUNTRY_INFO!F218+COUNTRY_INFO!G218),COUNTRY_INFO!F218+COUNTRY_INFO!G218,COUNTRY_INFO!$M218), 0),0)","v":15767},0,88295.2,0,88295.2,null,88295.2]
[{"$f":"IF(INTRO!$E$39=\"Non-endemic\",\" \",IF(COUNTRY_INFO!A219=0,\" \",COUNTRY_INFO!A219))","v":"Ghana"},{"$f":"IF(INTRO!$E$39=\"Non-endemic\",\" \",IF(COUNTRY_INFO!B219=0,\" \",COUNTRY_INFO!B219))","v":"Upper West"},{"$f":"IF(INTRO!$E$39=\"Non-endemic\",\" \",IF(COUNTRY_INFO!C219=0,\" \",COUNTRY_INFO!C219))","v":"Daffiama-Bussie-Issa"},{"$f":"IF(INTRO!$E$39=\"Non-endemic\",0,IF(INTRO!$E$39=\"Endemic but PC is not required\",IF(COUNTRY_INFO!$H219=1,COUNTRY_INFO!F219+COUNTRY_INFO!G219,0),IF(COUNTRY_INFO!$H219=1,COUNTRY_INFO!F219+COUNTRY_INFO!G219,IF(COUNTRY_INFO!$I219=1,IF(COUNTRY_INFO!M219>=(COUNTRY_INFO!F219+COUNTRY_INFO!G219),COUNTRY_INFO!F219+COUNTRY_INFO!G219,COUNTRY_INFO!$M219),0))))","v":35633},{"$f":"IF(AND(INTRO!$E$39=\"Non-endemic\",INTRO!$E$37=\"Non-endemic\"),\"Not required\",IF(INTRO!$E$39=\"Non-endemic\",\"Treat with DEC\",COUNTRY_INFO!V219))","v":0},{"$f":"IF(INTRO!$E$39<>\"Non-endemic\",COUNTRY_INFO!W219,\"Not required\")","v":2},{"$f":"IF(COUNTRY_INFO!H219=1, IF($E219=1,$D219, 0),0)","v":0},{"$f":"IF(COUNTRY_INFO!I219=1, IF(AND(COUNTRY_INFO!$I219=1,$F219<>0),IF(COUNTRY_INFO!M219>=(COUNTRY_INFO!F219+COUNTRY_INFO!G219),COUNTRY_INFO!F219+COUNTRY_INFO!G219,COUNTRY_INFO!$M219), 0),0)","v":35633},0,199544.8,0,199544.8,null,199544.8]
[{"$f":"IF(INTRO!$E$39=\"Non-endemic\",\" \",IF(COUNTRY_INFO!A220=0,\" \",COUNTRY_INFO!A220))","v":"Ghana"},{"$f":"IF(INTRO!$E$39=\"Non-endemic\",\" \",IF(COUNTRY_INFO!B220=0,\" \",COUNTRY_INFO!B220))","v":"Upper West"},{"$f":"IF(INTRO!$E$39=\"Non-endemic\",\" \",IF(COUNTRY_INFO!C220=0,\" \",COUNTRY_INFO!C220))","v":"Jirapa"},{"$f":"IF(INTRO!$E$39=\"Non-endemic\",0,IF(INTRO!$E$39=\"Endemic but PC is not required\",IF(COUNTRY_INFO!$H220=1,COUNTRY_INFO!F220+COUNTRY_INFO!G220,0),IF(COUNTRY_INFO!$H220=1,COUNTRY_INFO!F220+COUNTRY_INFO!G220,IF(COUNTRY_INFO!$I220=1,IF(COUNTRY_INFO!M220>=(COUNTRY_INFO!F220+COUNTRY_INFO!G220),COUNTRY_INFO!F220+COUNTRY_INFO!G220,COUNTRY_INFO!$M220),0))))","v":85258},{"$f":"IF(AND(INTRO!$E$39=\"Non-endemic\",INTRO!$E$37=\"Non-endemic\"),\"Not required\",IF(INTRO!$E$39=\"Non-endemic\",\"Treat with DEC\",COUNTRY_INFO!V220))","v":1},{"$f":"IF(INTRO!$E$39<>\"Non-endemic\",COUNTRY_INFO!W220,\"Not required\")","v":2},{"$f":"IF(COUNTRY_INFO!H220=1, IF($E220=1,$D220, 0),0)","v":0},{"$f":"IF(COUNTRY_INFO!I220=1, IF(AND(COUNTRY_INFO!$I220=1,$F220<>0),IF(COUNTRY_INFO!M220>=(COUNTRY_INFO!F220+COUNTRY_INFO!G220),COUNTRY_INFO!F220+COUNTRY_INFO!G220,COUNTRY_INFO!$M220), 0),0)","v":85258},0,238722.4,238722.4,477444.8,null,477444.8]
[{"$f":"IF(INTRO!$E$39=\"Non-endemic\",\" \",IF(COUNTRY_INFO!A221=0,\" \",COUNTRY_INFO!A221))","v":"Ghana"},{"$f":"IF(INTRO!$E$39=\"Non-endemic\",\" \",IF(COUNTRY_INFO!B221=0,\" \",COUNTRY_INFO!B221))","v":"Upper West"},{"$f":"IF(INTRO!$E$39=\"Non-endemic\",\" \",IF(COUNTRY_INFO!C221=0,\" \",COUNTRY_INFO!C221))","v":"Lambussie"},{"$f":"IF(INTRO!$E$39=\"Non-endemic\",0,IF(INTRO!$E$39=\"Endemic but PC is not required\",IF(COUNTRY_INFO!$H221=1,COUNTRY_INFO!F221+COUNTRY_INFO!G221,0),IF(COUNTRY_INFO!$H221=1,COUNTRY_INFO!F221+COUNTRY_INFO!G221,IF(COUNTRY_INFO!$I221=1,IF(COUNTRY_INFO!M221>=(COUNTRY_INFO!F221+COUNTRY_INFO!G221),COUNTRY_INFO!F221+COUNTRY_INFO!G221,COUNTRY_INFO!$M221),0))))","v":0},{"$f":"IF(AND(INTRO!$E$39=\"Non-endemic\",INTRO!$E$37=\"Non-endemic\"),\"Not required\",IF(INTRO!$E$39=\"Non-endemic\",\"Treat with DEC\",COUNTRY_INFO!V221))","v":0},{"$f":"IF(INTRO!$E$39<>\"Non-endemic\",COUNTRY_INFO!W221,\"Not required\")","v":0},{"$f":"IF(COUNTRY_INFO!H221=1, IF($E221=1,$D221, 0),0)","v":0},{"$f":"IF(COUNTRY_INFO!I221=1, IF(AND(COUNTRY_INFO!$I221=1,$F221<>0),IF(COUNTRY_INFO!M221>=(COUNTRY_INFO!F221+COUNTRY_INFO!G221),COUNTRY_INFO!F221+COUNTRY_INFO!G221,COUNTRY_INFO!$M221), 0),0)","v":0},0,0,0,0,null,0]
[{"$f":"IF(INTRO!$E$39=\"Non-endemic\",\" \",IF(COUNTRY_INFO!A222=0,\" \",COUNTRY_INFO!A222))","v":"Ghana"},{"$f":"IF(INTRO!$E$39=\"Non-endemic\",\" \",IF(COUNTRY_INFO!B222=0,\" \",COUNTRY_INFO!B222))","v":"Upper West"},{"$f":"IF(INTRO!$E$39=\"Non-endemic\",\" \",IF(COUNTRY_INFO!C222=0,\" \",COUNTRY_INFO!C222))","v":"Lawra"},{"$f":"IF(INTRO!$E$39=\"Non-endemic\",0,IF(INTRO!$E$39=\"Endemic but PC is not required\",IF(COUNTRY_INFO!$H222=1,COUNTRY_INFO!F222+COUNTRY_INFO!G222,0),IF(COUNTRY_INFO!$H222=1,COUNTRY_INFO!F222+COUNTRY_INFO!G222,IF(COUNTRY_INFO!$I222=1,IF(COUNTRY_INFO!M222>=(COUNTRY_INFO!F222+COUNTRY_INFO!G222),COUNTRY_INFO!F222+COUNTRY_INFO!G222,COUNTRY_INFO!$M222),0))))","v":54578},{"$f":"IF(AND(INTRO!$E$39=\"Non-endemic\",INTRO!$E$37=\"Non-endemic\"),\"Not required\",IF(INTRO!$E$39=\"Non-endemic\",\"Treat with DEC\",COUNTRY_INFO!V222))","v":1},{"$f":"IF(INTRO!$E$39<>\"Non-endemic\",COUNTRY_INFO!W222,\"Not required\")","v":2},{"$f":"IF(COUNTRY_INFO!H222=1, IF($E222=1,$D222, 0),0)","v":54578},{"$f":"IF(COUNTRY_INFO!I222=1, IF(AND(COUNTRY_INFO!$I222=1,$F222<>0),IF(COUNTRY_INFO!M222>=(COUNTRY_INFO!F222+COUNTRY_INFO!G222),COUNTRY_INFO!F222+COUNTRY_INFO!G222,COUNTRY_INFO!$M222), 0),0)","v":54578},0,152818.4,152818.4,305636.8,null,305636.8]
[{"$f":"IF(INTRO!$E$39=\"Non-endemic\",\" \",IF(COUNTRY_INFO!A223=0,\" \",COUNTRY_INFO!A223))","v":"Ghana"},{"$f":"IF(INTRO!$E$39=\"Non-endemic\",\" \",IF(COUNTRY_INFO!B223=0,\" \",COUNTRY_INFO!B223))","v":"Upper West"},{"$f":"IF(INTRO!$E$39=\"Non-endemic\",\" \",IF(COUNTRY_INFO!C223=0,\" \",COUNTRY_INFO!C223))","v":"Nadowli-Kaleo"},{"$f":"IF(INTRO!$E$39=\"Non-endemic\",0,IF(INTRO!$E$39=\"Endemic but PC is not required\",IF(COUNTRY_INFO!$H223=1,COUNTRY_INFO!F223+COUNTRY_INFO!G223,0),IF(COUNTRY_INFO!$H223=1,COUNTRY_INFO!F223+COUNTRY_INFO!G223,IF(COUNTRY_INFO!$I223=1,IF(COUNTRY_INFO!M223>=(COUNTRY_INFO!F223+COUNTRY_INFO!G223),COUNTRY_INFO!F223+COUNTRY_INFO!G223,COUNTRY_INFO!$M223),0))))","v":66720},{"$f":"IF(AND(INTRO!$E$39=\"Non-endemic\",INTRO!$E$37=\"Non-endemic\"),\"Not required\",IF(INTRO!$E$39=\"Non-endemic\",\"Treat with DEC\",COUNTRY_INFO!V223))","v":0},{"$f":"IF(INTRO!$E$39<>\"Non-endemic\",COUNTRY_INFO!W223,\"Not required\")","v":2},{"$f":"IF(COUNTRY_INFO!H223=1, IF($E223=1,$D223, 0),0)","v":0},{"$f":"IF(COUNTRY_INFO!I223=1, IF(AND(COUNTRY_INFO!$I223=1,$F223<>0),IF(COUNTRY_INFO!M223>=(COUNTRY_INFO!F223+COUNTRY_INFO!G223),COUNTRY_INFO!F223+COUNTRY_INFO!G223,COUNTRY_INFO!$M223), 0),0)","v":66720},0,373632,0,373632,null,373632]
[{"$f":"IF(INTRO!$E$39=\"Non-endemic\",\" \",IF(COUNTRY_INFO!A224=0,\" \",COUNTRY_INFO!A224))","v":"Ghana"},{"$f":"IF(INTRO!$E$39=\"Non-endemic\",\" \",IF(COUNTRY_INFO!B224=0,\" \",COUNTRY_INFO!B224))","v":"Upper West"},{"$f":"IF(INTRO!$E$39=\"Non-endemic\",\" \",IF(COUNTRY_INFO!C224=0,\" \",COUNTRY_INFO!C224))","v":"Nandom"},{"$f":"IF(INTRO!$E$39=\"Non-endemic\",0,IF(INTRO!$E$39=\"Endemic but PC is not required\",IF(COUNTRY_INFO!$H224=1,COUNTRY_INFO!F224+COUNTRY_INFO!G224,0),IF(COUNTRY_INFO!$H224=1,COUNTRY_INFO!F224+COUNTRY_INFO!G224,IF(COUNTRY_INFO!$I224=1,IF(COUNTRY_INFO!M224>=(COUNTRY_INFO!F224+COUNTRY_INFO!G224),COUNTRY_INFO!F224+COUNTRY_INFO!G224,COUNTRY_INFO!$M224),0))))","v":47942},{"$f":"IF(AND(INTRO!$E$39=\"Non-endemic\",INTRO!$E$37=\"Non-endemic\"),\"Not required\",IF(INTRO!$E$39=\"Non-endemic\",\"Treat with DEC\",COUNTRY_INFO!V224))","v":0},{"$f":"IF(INTRO!$E$39<>\"Non-endemic\",COUNTRY_INFO!W224,\"Not required\")","v":2},{"$f":"IF(COUNTRY_INFO!H224=1, IF($E224=1,$D224, 0),0)","v":0},{"$f":"IF(COUNTRY_INFO!I224=1, IF(AND(COUNTRY_INFO!$I224=1,$F224<>0),IF(COUNTRY_INFO!M224>=(COUNTRY_INFO!F224+COUNTRY_INFO!G224),COUNTRY_INFO!F224+COUNTRY_INFO!G224,COUNTRY_INFO!$M224), 0),0)","v":47942},0,268475.2,0,268475.2,null,268475.2]
[{"$f":"IF(INTRO!$E$39=\"Non-endemic\",\" \",IF(COUNTRY_INFO!A225=0,\" \",COUNTRY_INFO!A225))","v":"Ghana"},{"$f":"IF(INTRO!$E$39=\"Non-endemic\",\" \",IF(COUNTRY_INFO!B225=0,\" \",COUNTRY_INFO!B225))","v":"Upper West"},{"$f":"IF(INTRO!$E$39=\"Non-endemic\",\" \",IF(COUNTRY_INFO!C225=0,\" \",COUNTRY_INFO!C225))","v":"Sissala East"},{"$f":"IF(INTRO!$E$39=\"Non-endemic\",0,IF(INTRO!$E$39=\"Endemic but PC is not required\",IF(COUNTRY_INFO!$H225=1,COUNTRY_INFO!F225+COUNTRY_INFO!G225,0),IF(COUNTRY_INFO!$H225=1,COUNTRY_INFO!F225+COUNTRY_INFO!G225,IF(COUNTRY_INFO!$I225=1,IF(COUNTRY_INFO!M225>=(COUNTRY_INFO!F225+COUNTRY_INFO!G225),COUNTRY_INFO!F225+COUNTRY_INFO!G225,COUNTRY_INFO!$M225),0))))","v":33294},{"$f":"IF(AND(INTRO!$E$39=\"Non-endemic\",INTRO!$E$37=\"Non-endemic\"),\"Not required\",IF(INTRO!$E$39=\"Non-endemic\",\"Treat with DEC\",COUNTRY_INFO!V225))","v":0},{"$f":"IF(INTRO!$E$39<>\"Non-endemic\",COUNTRY_INFO!W225,\"Not required\")","v":2},{"$f":"IF(COUNTRY_INFO!H225=1, IF($E225=1,$D225, 0),0)","v":0},{"$f":"IF(COUNTRY_INFO!I225=1, IF(AND(COUNTRY_INFO!$I225=1,$F225<>0),IF(COUNTRY_INFO!M225>=(COUNTRY_INFO!F225+COUNTRY_INFO!G225),COUNTRY_INFO!F225+COUNTRY_INFO!G225,COUNTRY_INFO!$M225), 0),0)","v":33294},0,186446.4,0,186446.4,null,186446.4]
[{"$f":"IF(INTRO!$E$39=\"Non-endemic\",\" \",IF(COUNTRY_INFO!A226=0,\" \",COUNTRY_INFO!A226))","v":"Ghana"},{"$f":"IF(INTRO!$E$39=\"Non-endemic\",\" \",IF(COUNTRY_INFO!B226=0,\" \",COUNTRY_INFO!B226))","v":"Upper West"},{"$f":"IF(INTRO!$E$39=\"Non-endemic\",\" \",IF(COUNTRY_INFO!C226=0,\" \",COUNTRY_INFO!C226))","v":"Sissala West"},{"$f":"IF(INTRO!$E$39=\"Non-endemic\",0,IF(INTRO!$E$39=\"Endemic but PC is not required\",IF(COUNTRY_INFO!$H226=1,COUNTRY_INFO!F226+COUNTRY_INFO!G226,0),IF(COUNTRY_INFO!$H226=1,COUNTRY_INFO!F226+COUNTRY_INFO!G226,IF(COUNTRY_INFO!$I226=1,IF(COUNTRY_INFO!M226>=(COUNTRY_INFO!F226+COUNTRY_INFO!G226),COUNTRY_INFO!F226+COUNTRY_INFO!G226,COUNTRY_INFO!$M226),0))))","v":0},{"$f":"IF(AND(INTRO!$E$39=\"Non-endemic\",INTRO!$E$37=\"Non-endemic\"),\"Not required\",IF(INTRO!$E$39=\"Non-endemic\",\"Treat with DEC\",COUNTRY_INFO!V226))","v":0},{"$f":"IF(INTRO!$E$39<>\"Non-endemic\",COUNTRY_INFO!W226,\"Not required\")","v":0},{"$f":"IF(COUNTRY_INFO!H226=1, IF($E226=1,$D226, 0),0)","v":0},{"$f":"IF(COUNTRY_INFO!I226=1, IF(AND(COUNTRY_INFO!$I226=1,$F226<>0),IF(COUNTRY_INFO!M226>=(COUNTRY_INFO!F226+COUNTRY_INFO!G226),COUNTRY_INFO!F226+COUNTRY_INFO!G226,COUNTRY_INFO!$M226), 0),0)","v":0},0,0,0,0,null,0]
[{"$f":"IF(INTRO!$E$39=\"Non-endemic\",\" \",IF(COUNTRY_INFO!A227=0,\" \",COUNTRY_INFO!A227))","v":"Ghana"},{"$f":"IF(INTRO!$E$39=\"Non-endemic\",\" \",IF(COUNTRY_INFO!B227=0,\" \",COUNTRY_INFO!B227))","v":"Upper West"},{"$f":"IF(INTRO!$E$39=\"Non-endemic\",\" \",IF(COUNTRY_INFO!C227=0,\" \",COUNTRY_INFO!C227))","v":"Wa East"},{"$f":"IF(INTRO!$E$39=\"Non-endemic\",0,IF(INTRO!$E$39=\"Endemic but PC is not required\",IF(COUNTRY_INFO!$H227=1,COUNTRY_INFO!F227+COUNTRY_INFO!G227,0),IF(COUNTRY_INFO!$H227=1,COUNTRY_INFO!F227+COUNTRY_INFO!G227,IF(COUNTRY_INFO!$I227=1,IF(COUNTRY_INFO!M227>=(COUNTRY_INFO!F227+COUNTRY_INFO!G227),COUNTRY_INFO!F227+COUNTRY_INFO!G227,COUNTRY_INFO!$M227),0))))","v":78092},{"$f":"IF(AND(INTRO!$E$39=\"Non-endemic\",INTRO!$E$37=\"Non-endemic\"),\"Not required\",IF(INTRO!$E$39=\"Non-endemic\",\"Treat with DEC\",COUNTRY_INFO!V227))","v":0},{"$f":"IF(INTRO!$E$39<>\"Non-endemic\",COUNTRY_INFO!W227,\"Not required\")","v":2},{"$f":"IF(COUNTRY_INFO!H227=1, IF($E227=1,$D227, 0),0)","v":0},{"$f":"IF(COUNTRY_INFO!I227=1, IF(AND(COUNTRY_INFO!$I227=1,$F227<>0),IF(COUNTRY_INFO!M227>=(COUNTRY_INFO!F227+COUNTRY_INFO!G227),COUNTRY_INFO!F227+COUNTRY_INFO!G227,COUNTRY_INFO!$M227), 0),0)","v":78092},0,437315.19999999995,0,437315.19999999995,null,437315.19999999995]
[{"$f":"IF(INTRO!$E$39=\"Non-endemic\",\" \",IF(COUNTRY_INFO!A228=0,\" \",COUNTRY_INFO!A228))","v":"Ghana"},{"$f":"IF(INTRO!$E$39=\"Non-endemic\",\" \",IF(COUNTRY_INFO!B228=0,\" \",COUNTRY_INFO!B228))","v":"Upper West"},{"$f":"IF(INTRO!$E$39=\"Non-endemic\",\" \",IF(COUNTRY_INFO!C228=0,\" \",COUNTRY_INFO!C228))","v":"Wa Municipal"},{"$f":"IF(INTRO!$E$39=\"Non-endemic\",0,IF(INTRO!$E$39=\"Endemic but PC is not required\",IF(COUNTRY_INFO!$H228=1,COUNTRY_INFO!F228+COUNTRY_INFO!G228,0),IF(COUNTRY_INFO!$H228=1,COUNTRY_INFO!F228+COUNTRY_INFO!G228,IF(COUNTRY_INFO!$I228=1,IF(COUNTRY_INFO!M228>=(COUNTRY_INFO!F228+COUNTRY_INFO!G228),COUNTRY_INFO!F228+COUNTRY_INFO!G228,COUNTRY_INFO!$M228),0))))","v":0},{"$f":"IF(AND(INTRO!$E$39=\"Non-endemic\",INTRO!$E$37=\"Non-endemic\"),\"Not required\",IF(INTRO!$E$39=\"Non-endemic\",\"Treat with DEC\",COUNTRY_INFO!V228))","v":0},{"$f":"IF(INTRO!$E$39<>\"Non-endemic\",COUNTRY_INFO!W228,\"Not required\")","v":0},{"$f":"IF(COUNTRY_INFO!H228=1, IF($E228=1,$D228, 0),0)","v":0},{"$f":"IF(COUNTRY_INFO!I228=1, IF(AND(COUNTRY_INFO!$I228=1,$F228<>0),IF(COUNTRY_INFO!M228>=(COUNTRY_INFO!F228+COUNTRY_INFO!G228),COUNTRY_INFO!F228+COUNTRY_INFO!G228,COUNTRY_INFO!$M228), 0),0)","v":0},0,0,0,0,null,0]
[{"$f":"IF(INTRO!$E$39=\"Non-endemic\",\" \",IF(COUNTRY_INFO!A229=0,\" \",COUNTRY_INFO!A229))","v":"Ghana"},{"$f":"IF(INTRO!$E$39=\"Non-endemic\",\" \",IF(COUNTRY_INFO!B229=0,\" \",COUNTRY_INFO!B229))","v":"Upper West"},{"$f":"IF(INTRO!$E$39=\"Non-endemic\",\" \",IF(COUNTRY_INFO!C229=0,\" \",COUNTRY_INFO!C229))","v":"Wa West"},{"$f":"IF(INTRO!$E$39=\"Non-endemic\",0,IF(INTRO!$E$39=\"Endemic but PC is not required\",IF(COUNTRY_INFO!$H229=1,COUNTRY_INFO!F229+COUNTRY_INFO!G229,0),IF(COUNTRY_INFO!$H229=1,COUNTRY_INFO!F229+COUNTRY_INFO!G229,IF(COUNTRY_INFO!$I229=1,IF(COUNTRY_INFO!M229>=(COUNTRY_INFO!F229+COUNTRY_INFO!G229),COUNTRY_INFO!F229+COUNTRY_INFO!G229,COUNTRY_INFO!$M229),0))))","v":87943},{"$f":"IF(AND(INTRO!$E$39=\"Non-endemic\",INTRO!$E$37=\"Non-endemic\"),\"Not required\",IF(INTRO!$E$39=\"Non-endemic\",\"Treat with DEC\",COUNTRY_INFO!V229))","v":0},{"$f":"IF(INTRO!$E$39<>\"Non-endemic\",COUNTRY_INFO!W229,\"Not required\")","v":2},{"$f":"IF(COUNTRY_INFO!H229=1, IF($E229=1,$D229, 0),0)","v":0},{"$f":"IF(COUNTRY_INFO!I229=1, IF(AND(COUNTRY_INFO!$I229=1,$F229<>0),IF(COUNTRY_INFO!M229>=(COUNTRY_INFO!F229+COUNTRY_INFO!G229),COUNTRY_INFO!F229+COUNTRY_INFO!G229,COUNTRY_INFO!$M229), 0),0)","v":87943},0,492480.8,0,492480.8,null,492480.8]
[{"$f":"IF(INTRO!$E$39=\"Non-endemic\",\" \",IF(COUNTRY_INFO!A230=0,\" \",COUNTRY_INFO!A230))","v":"Ghana"},{"$f":"IF(INTRO!$E$39=\"Non-endemic\",\" \",IF(COUNTRY_INFO!B230=0,\" \",COUNTRY_INFO!B230))","v":"Volta"},{"$f":"IF(INTRO!$E$39=\"Non-endemic\",\" \",IF(COUNTRY_INFO!C230=0,\" \",COUNTRY_INFO!C230))","v":"Adaklu"},{"$f":"IF(INTRO!$E$39=\"Non-endemic\",0,IF(INTRO!$E$39=\"Endemic but PC is not required\",IF(COUNTRY_INFO!$H230=1,COUNTRY_INFO!F230+COUNTRY_INFO!G230,0),IF(COUNTRY_INFO!$H230=1,COUNTRY_INFO!F230+COUNTRY_INFO!G230,IF(COUNTRY_INFO!$I230=1,IF(COUNTRY_INFO!M230>=(COUNTRY_INFO!F230+COUNTRY_INFO!G230),COUNTRY_INFO!F230+COUNTRY_INFO!G230,COUNTRY_INFO!$M230),0))))","v":7831},{"$f":"IF(AND(INTRO!$E$39=\"Non-endemic\",INTRO!$E$37=\"Non-endemic\"),\"Not required\",IF(INTRO!$E$39=\"Non-endemic\",\"Treat with DEC\",COUNTRY_INFO!V230))","v":0},{"$f":"IF(INTRO!$E$39<>\"Non-endemic\",COUNTRY_INFO!W230,\"Not required\")","v":2},{"$f":"IF(COUNTRY_INFO!H230=1, IF($E230=1,$D230, 0),0)","v":0},{"$f":"IF(COUNTRY_INFO!I230=1, IF(AND(COUNTRY_INFO!$I230=1,$F230<>0),IF(COUNTRY_INFO!M230>=(COUNTRY_INFO!F230+COUNTRY_INFO!G230),COUNTRY_INFO!F230+COUNTRY_INFO!G230,COUNTRY_INFO!$M230), 0),0)","v":7831},0,43853.599999999999,0,43853.599999999999,null,43853.599999999999]
[{"$f":"IF(INTRO!$E$39=\"Non-endemic\",\" \",IF(COUNTRY_INFO!A231=0,\" \",COUNTRY_INFO!A231))","v":"Ghana"},{"$f":"IF(INTRO!$E$39=\"Non-endemic\",\" \",IF(COUNTRY_INFO!B231=0,\" \",COUNTRY_INFO!B231))","v":"Volta"},{"$f":"IF(INTRO!$E$39=\"Non-endemic\",\" \",IF(COUNTRY_INFO!C231=0,\" \",COUNTRY_INFO!C231))","v":"Afadjato South"},{"$f":"IF(INTRO!$E$39=\"Non-endemic\",0,IF(INTRO!$E$39=\"Endemic but PC is not required\",IF(COUNTRY_INFO!$H231=1,COUNTRY_INFO!F231+COUNTRY_INFO!G231,0),IF(COUNTRY_INFO!$H231=1,COUNTRY_INFO!F231+COUNTRY_INFO!G231,IF(COUNTRY_INFO!$I231=1,IF(COUNTRY_INFO!M231>=(COUNTRY_INFO!F231+COUNTRY_INFO!G231),COUNTRY_INFO!F231+COUNTRY_INFO!G231,COUNTRY_INFO!$M231),0))))","v":68320},{"$f":"IF(AND(INTRO!$E$39=\"Non-endemic\",INTRO!$E$37=\"Non-endemic\"),\"Not required\",IF(INTRO!$E$39=\"Non-endemic\",\"Treat with DEC\",COUNTRY_INFO!V231))","v":0},{"$f":"IF(INTRO!$E$39<>\"Non-endemic\",COUNTRY_INFO!W231,\"Not required\")","v":2},{"$f":"IF(COUNTRY_INFO!H231=1, IF($E231=1,$D231, 0),0)","v":0},{"$f":"IF(COUNTRY_INFO!I231=1, IF(AND(COUNTRY_INFO!$I231=1,$F231<>0),IF(COUNTRY_INFO!M231>=(COUNTRY_INFO!F231+COUNTRY_INFO!G231),COUNTRY_INFO!F231+COUNTRY_INFO!G231,COUNTRY_INFO!$M231), 0),0)","v":68320},0,382592,0,382592,null,382592]
[{"$f":"IF(INTRO!$E$39=\"Non-endemic\",\" \",IF(COUNTRY_INFO!A232=0,\" \",COUNTRY_INFO!A232))","v":"Ghana"},{"$f":"IF(INTRO!$E$39=\"Non-endemic\",\" \",IF(COUNTRY_INFO!B232=0,\" \",COUNTRY_INFO!B232))","v":"Volta"},{"$f":"IF(INTRO!$E$39=\"Non-endemic\",\" \",IF(COUNTRY_INFO!C232=0,\" \",COUNTRY_INFO!C232))","v":"Agortime-Ziope"},{"$f":"IF(INTRO!$E$39=\"Non-endemic\",0,IF(INTRO!$E$39=\"Endemic but PC is not required\",IF(COUNTRY_INFO!$H232=1,COUNTRY_INFO!F232+COUNTRY_INFO!G232,0),IF(COUNTRY_INFO!$H232=1,COUNTRY_INFO!F232+COUNTRY_INFO!G232,IF(COUNTRY_INFO!$I232=1,IF(COUNTRY_INFO!M232>=(COUNTRY_INFO!F232+COUNTRY_INFO!G232),COUNTRY_INFO!F232+COUNTRY_INFO!G232,COUNTRY_INFO!$M232),0))))","v":16900},{"$f":"IF(AND(INTRO!$E$39=\"Non-endemic\",INTRO!$E$37=\"Non-endemic\"),\"Not required\",IF(INTRO!$E$39=\"Non-endemic\",\"Treat with DEC\",COUNTRY_INFO!V232))","v":0},{"$f":"IF(INTRO!$E$39<>\"Non-endemic\",COUNTRY_INFO!W232,\"Not required\")","v":2},{"$f":"IF(COUNTRY_INFO!H232=1, IF($E232=1,$D232, 0),0)","v":0},{"$f":"IF(COUNTRY_INFO!I232=1, IF(AND(COUNTRY_INFO!$I232=1,$F232<>0),IF(COUNTRY_INFO!M232>=(COUNTRY_INFO!F232+COUNTRY_INFO!G232),COUNTRY_INFO!F232+COUNTRY_INFO!G232,COUNTRY_INFO!$M232), 0),0)","v":16900},0,94640,0,94640,null,94640]
[{"$f":"IF(INTRO!$E$39=\"Non-endemic\",\" \",IF(COUNTRY_INFO!A233=0,\" \",COUNTRY_INFO!A233))","v":"Ghana"},{"$f":"IF(INTRO!$E$39=\"Non-endemic\",\" \",IF(COUNTRY_INFO!B233=0,\" \",COUNTRY_INFO!B233))","v":"Volta"},{"$f":"IF(INTRO!$E$39=\"Non-endemic\",\" \",IF(COUNTRY_INFO!C233=0,\" \",COUNTRY_INFO!C233))","v":"Akatsi North"},{"$f":"IF(INTRO!$E$39=\"Non-endemic\",0,IF(INTRO!$E$39=\"Endemic but PC is not required\",IF(COUNTRY_INFO!$H233=1,COUNTRY_INFO!F233+COUNTRY_INFO!G233,0),IF(COUNTRY_INFO!$H233=1,COUNTRY_INFO!F233+COUNTRY_INFO!G233,IF(COUNTRY_INFO!$I233=1,IF(COUNTRY_INFO!M233>=(COUNTRY_INFO!F233+COUNTRY_INFO!G233),COUNTRY_INFO!F233+COUNTRY_INFO!G233,COUNTRY_INFO!$M233),0))))","v":0},{"$f":"IF(AND(INTRO!$E$39=\"Non-endemic\",INTRO!$E$37=\"Non-endemic\"),\"Not required\",IF(INTRO!$E$39=\"Non-endemic\",\"Treat with DEC\",COUNTRY_INFO!V233))","v":0},{"$f":"IF(INTRO!$E$39<>\"Non-endemic\",COUNTRY_INFO!W233,\"Not required\")","v":0},{"$f":"IF(COUNTRY_INFO!H233=1, IF($E233=1,$D233, 0),0)","v":0},{"$f":"IF(COUNTRY_INFO!I233=1, IF(AND(COUNTRY_INFO!$I233=1,$F233<>0),IF(COUNTRY_INFO!M233>=(COUNTRY_INFO!F233+COUNTRY_INFO!G233),COUNTRY_INFO!F233+COUNTRY_INFO!G233,COUNTRY_INFO!$M233), 0),0)","v":0},0,0,0,0,null,0]
[{"$f":"IF(INTRO!$E$39=\"Non-endemic\",\" \",IF(COUNTRY_INFO!A234=0,\" \",COUNTRY_INFO!A234))","v":"Ghana"},{"$f":"IF(INTRO!$E$39=\"Non-endemic\",\" \",IF(COUNTRY_INFO!B234=0,\" \",COUNTRY_INFO!B234))","v":"Volta"},{"$f":"IF(INTRO!$E$39=\"Non-endemic\",\" \",IF(COUNTRY_INFO!C234=0,\" \",COUNTRY_INFO!C234))","v":"Akatsi South"},{"$f":"IF(INTRO!$E$39=\"Non-endemic\",0,IF(INTRO!$E$39=\"Endemic but PC is not required\",IF(COUNTRY_INFO!$H234=1,COUNTRY_INFO!F234+COUNTRY_INFO!G234,0),IF(COUNTRY_INFO!$H234=1,COUNTRY_INFO!F234+COUNTRY_INFO!G234,IF(COUNTRY_INFO!$I234=1,IF(COUNTRY_INFO!M234>=(COUNTRY_INFO!F234+COUNTRY_INFO!G234),COUNTRY_INFO!F234+COUNTRY_INFO!G234,COUNTRY_INFO!$M234),0))))","v":0},{"$f":"IF(AND(INTRO!$E$39=\"Non-endemic\",INTRO!$E$37=\"Non-endemic\"),\"Not required\",IF(INTRO!$E$39=\"Non-endemic\",\"Treat with DEC\",COUNTRY_INFO!V234))","v":0},{"$f":"IF(INTRO!$E$39<>\"Non-endemic\",COUNTRY_INFO!W234,\"Not required\")","v":0},{"$f":"IF(COUNTRY_INFO!H234=1, IF($E234=1,$D234, 0),0)","v":0},{"$f":"IF(COUNTRY_INFO!I234=1, IF(AND(COUNTRY_INFO!$I234=1,$F234<>0),IF(COUNTRY_INFO!M234>=(COUNTRY_INFO!F234+COUNTRY_INFO!G234),COUNTRY_INFO!F234+COUNTRY_INFO!G234,COUNTRY_INFO!$M234), 0),0)","v":0},0,0,0,0,null,0]
[{"$f":"IF(INTRO!$E$39=\"Non-endemic\",\" \",IF(COUNTRY_INFO!A235=0,\" \",COUNTRY_INFO!A235))","v":"Ghana"},{"$f":"IF(INTRO!$E$39=\"Non-endemic\",\" \",IF(COUNTRY_INFO!B235=0,\" \",COUNTRY_INFO!B235))","v":"Volta"},{"$f":"IF(INTRO!$E$39=\"Non-endemic\",\" \",IF(COUNTRY_INFO!C235=0,\" \",COUNTRY_INFO!C235))","v":"Anloga"},{"$f":"IF(INTRO!$E$39=\"Non-endemic\",0,IF(INTRO!$E$39=\"Endemic but PC is not required\",IF(COUNTRY_INFO!$H235=1,COUNTRY_INFO!F235+COUNTRY_INFO!G235,0),IF(COUNTRY_INFO!$H235=1,COUNTRY_INFO!F235+COUNTRY_INFO!G235,IF(COUNTRY_INFO!$I235=1,IF(COUNTRY_INFO!M235>=(COUNTRY_INFO!F235+COUNTRY_INFO!G235),COUNTRY_INFO!F235+COUNTRY_INFO!G235,COUNTRY_INFO!$M235),0))))","v":0},{"$f":"IF(AND(INTRO!$E$39=\"Non-endemic\",INTRO!$E$37=\"Non-endemic\"),\"Not required\",IF(INTRO!$E$39=\"Non-endemic\",\"Treat with DEC\",COUNTRY_INFO!V235))","v":0},{"$f":"IF(INTRO!$E$39<>\"Non-endemic\",COUNTRY_INFO!W235,\"Not required\")","v":0},{"$f":"IF(COUNTRY_INFO!H235=1, IF($E235=1,$D235, 0),0)","v":0},{"$f":"IF(COUNTRY_INFO!I235=1, IF(AND(COUNTRY_INFO!$I235=1,$F235<>0),IF(COUNTRY_INFO!M235>=(COUNTRY_INFO!F235+COUNTRY_INFO!G235),COUNTRY_INFO!F235+COUNTRY_INFO!G235,COUNTRY_INFO!$M235), 0),0)","v":0},0,0,0,0,null,0]
[{"$f":"IF(INTRO!$E$39=\"Non-endemic\",\" \",IF(COUNTRY_INFO!A236=0,\" \",COUNTRY_INFO!A236))","v":"Ghana"},{"$f":"IF(INTRO!$E$39=\"Non-endemic\",\" \",IF(COUNTRY_INFO!B236=0,\" \",COUNTRY_INFO!B236))","v":"Volta"},{"$f":"IF(INTRO!$E$39=\"Non-endemic\",\" \",IF(COUNTRY_INFO!C236=0,\" \",COUNTRY_INFO!C236))","v":"Central Tongu"},{"$f":"IF(INTRO!$E$39=\"Non-endemic\",0,IF(INTRO!$E$39=\"Endemic but PC is not required\",IF(COUNTRY_INFO!$H236=1,COUNTRY_INFO!F236+COUNTRY_INFO!G236,0),IF(COUNTRY_INFO!$H236=1,COUNTRY_INFO!F236+COUNTRY_INFO!G236,IF(COUNTRY_INFO!$I236=1,IF(COUNTRY_INFO!M236>=(COUNTRY_INFO!F236+COUNTRY_INFO!G236),COUNTRY_INFO!F236+COUNTRY_INFO!G236,COUNTRY_INFO!$M236),0))))","v":0},{"$f":"IF(AND(INTRO!$E$39=\"Non-endemic\",INTRO!$E$37=\"Non-endemic\"),\"Not required\",IF(INTRO!$E$39=\"Non-endemic\",\"Treat with DEC\",COUNTRY_INFO!V236))","v":0},{"$f":"IF(INTRO!$E$39<>\"Non-endemic\",COUNTRY_INFO!W236,\"Not required\")","v":0},{"$f":"IF(COUNTRY_INFO!H236=1, IF($E236=1,$D236, 0),0)","v":0},{"$f":"IF(COUNTRY_INFO!I236=1, IF(AND(COUNTRY_INFO!$I236=1,$F236<>0),IF(COUNTRY_INFO!M236>=(COUNTRY_INFO!F236+COUNTRY_INFO!G236),COUNTRY_INFO!F236+COUNTRY_INFO!G236,COUNTRY_INFO!$M236), 0),0)","v":0},0,0,0,0,null,0]
[{"$f":"IF(INTRO!$E$39=\"Non-endemic\",\" \",IF(COUNTRY_INFO!A237=0,\" \",COUNTRY_INFO!A237))","v":"Ghana"},{"$f":"IF(INTRO!$E$39=\"Non-endemic\",\" \",IF(COUNTRY_INFO!B237=0,\" \",COUNTRY_INFO!B237))","v":"Volta"},{"$f":"IF(INTRO!$E$39=\"Non-endemic\",\" \",IF(COUNTRY_INFO!C237=0,\" \",COUNTRY_INFO!C237))","v":"Ho"},{"$f":"IF(INTRO!$E$39=\"Non-endemic\",0,IF(INTRO!$E$39=\"Endemic but PC is not required\",IF(COUNTRY_INFO!$H237=1,COUNTRY_INFO!F237+COUNTRY_INFO!G237,0),IF(COUNTRY_INFO!$H237=1,COUNTRY_INFO!F237+COUNTRY_INFO!G237,IF(COUNTRY_INFO!$I237=1,IF(COUNTRY_INFO!M237>=(COUNTRY_INFO!F237+COUNTRY_INFO!G237),COUNTRY_INFO!F237+COUNTRY_INFO!G237,COUNTRY_INFO!$M237),0))))","v":62541},{"$f":"IF(AND(INTRO!$E$39=\"Non-endemic\",INTRO!$E$37=\"Non-endemic\"),\"Not required\",IF(INTRO!$E$39=\"Non-endemic\",\"Treat with DEC\",COUNTRY_INFO!V237))","v":0},{"$f":"IF(INTRO!$E$39<>\"Non-endemic\",COUNTRY_INFO!W237,\"Not required\")","v":2},{"$f":"IF(COUNTRY_INFO!H237=1, IF($E237=1,$D237, 0),0)","v":0},{"$f":"IF(COUNTRY_INFO!I237=1, IF(AND(COUNTRY_INFO!$I237=1,$F237<>0),IF(COUNTRY_INFO!M237>=(COUNTRY_INFO!F237+COUNTRY_INFO!G237),COUNTRY_INFO!F237+COUNTRY_INFO!G237,COUNTRY_INFO!$M237), 0),0)","v":62541},0,350229.6,0,350229.6,null,350229.6]
[{"$f":"IF(INTRO!$E$39=\"Non-endemic\",\" \",IF(COUNTRY_INFO!A238=0,\" \",COUNTRY_INFO!A238))","v":"Ghana"},{"$f":"IF(INTRO!$E$39=\"Non-endemic\",\" \",IF(COUNTRY_INFO!B238=0,\" \",COUNTRY_INFO!B238))","v":"Volta"},{"$f":"IF(INTRO!$E$39=\"Non-endemic\",\" \",IF(COUNTRY_INFO!C238=0,\" \",COUNTRY_INFO!C238))","v":"Ho West"},{"$f":"IF(INTRO!$E$39=\"Non-endemic\",0,IF(INTRO!$E$39=\"Endemic but PC is not required\",IF(COUNTRY_INFO!$H238=1,COUNTRY_INFO!F238+COUNTRY_INFO!G238,0),IF(COUNTRY_INFO!$H238=1,COUNTRY_INFO!F238+COUNTRY_INFO!G238,IF(COUNTRY_INFO!$I238=1,IF(COUNTRY_INFO!M238>=(COUNTRY_INFO!F238+COUNTRY_INFO!G238),COUNTRY_INFO!F238+COUNTRY_INFO!G238,COUNTRY_INFO!$M238),0))))","v":77418},{"$f":"IF(AND(INTRO!$E$39=\"Non-endemic\",INTRO!$E$37=\"Non-endemic\"),\"Not required\",IF(INTRO!$E$39=\"Non-endemic\",\"Treat with DEC\",COUNTRY_INFO!V238))","v":0},{"$f":"IF(INTRO!$E$39<>\"Non-endemic\",COUNTRY_INFO!W238,\"Not required\")","v":2},{"$f":"IF(COUNTRY_INFO!H238=1, IF($E238=1,$D238, 0),0)","v":0},{"$f":"IF(COUNTRY_INFO!I238=1, IF(AND(COUNTRY_INFO!$I238=1,$F238<>0),IF(COUNTRY_INFO!M238>=(COUNTRY_INFO!F238+COUNTRY_INFO!G238),COUNTRY_INFO!F238+COUNTRY_INFO!G238,COUNTRY_INFO!$M238), 0),0)","v":77418},0,433540.8,0,433540.8,null,433540.8]
[{"$f":"IF(INTRO!$E$39=\"Non-endemic\",\" \",IF(COUNTRY_INFO!A239=0,\" \",COUNTRY_INFO!A239))","v":"Ghana"},{"$f":"IF(INTRO!$E$39=\"Non-endemic\",\" \",IF(COUNTRY_INFO!B239=0,\" \",COUNTRY_INFO!B239))","v":"Volta"},{"$f":"IF(INTRO!$E$39=\"Non-endemic\",\" \",IF(COUNTRY_INFO!C239=0,\" \",COUNTRY_INFO!C239))","v":"Hohoe"},{"$f":"IF(INTRO!$E$39=\"Non-endemic\",0,IF(INTRO!$E$39=\"Endemic but PC is not required\",IF(COUNTRY_INFO!$H239=1,COUNTRY_INFO!F239+COUNTRY_INFO!G239,0),IF(COUNTRY_INFO!$H239=1,COUNTRY_INFO!F239+COUNTRY_INFO!G239,IF(COUNTRY_INFO!$I239=1,IF(COUNTRY_INFO!M239>=(COUNTRY_INFO!F239+COUNTRY_INFO!G239),COUNTRY_INFO!F239+COUNTRY_INFO!G239,COUNTRY_INFO!$M239),0))))","v":85773},{"$f":"IF(AND(INTRO!$E$39=\"Non-endemic\",INTRO!$E$37=\"Non-endemic\"),\"Not required\",IF(INTRO!$E$39=\"Non-endemic\",\"Treat with DEC\",COUNTRY_INFO!V239))","v":0},{"$f":"IF(INTRO!$E$39<>\"Non-endemic\",COUNTRY_INFO!W239,\"Not required\")","v":2},{"$f":"IF(COUNTRY_INFO!H239=1, IF($E239=1,$D239, 0),0)","v":0},{"$f":"IF(COUNTRY_INFO!I239=1, IF(AND(COUNTRY_INFO!$I239=1,$F239<>0),IF(COUNTRY_INFO!M239>=(COUNTRY_INFO!F239+COUNTRY_INFO!G239),COUNTRY_INFO!F239+COUNTRY_INFO!G239,COUNTRY_INFO!$M239), 0),0)","v":85773},0,480328.8,0,480328.8,null,480328.8]
[{"$f":"IF(INTRO!$E$39=\"Non-endemic\",\" \",IF(COUNTRY_INFO!A240=0,\" \",COUNTRY_INFO!A240))","v":"Ghana"},{"$f":"IF(INTRO!$E$39=\"Non-endemic\",\" \",IF(COUNTRY_INFO!B240=0,\" \",COUNTRY_INFO!B240))","v":"Volta"},{"$f":"IF(INTRO!$E$39=\"Non-endemic\",\" \",IF(COUNTRY_INFO!C240=0,\" \",COUNTRY_INFO!C240))","v":"Keta"},{"$f":"IF(INTRO!$E$39=\"Non-endemic\",0,IF(INTRO!$E$39=\"Endemic but PC is not required\",IF(COUNTRY_INFO!$H240=1,COUNTRY_INFO!F240+COUNTRY_INFO!G240,0),IF(COUNTRY_INFO!$H240=1,COUNTRY_INFO!F240+COUNTRY_INFO!G240,IF(COUNTRY_INFO!$I240=1,IF(COUNTRY_INFO!M240>=(COUNTRY_INFO!F240+COUNTRY_INFO!G240),COUNTRY_INFO!F240+COUNTRY_INFO!G240,COUNTRY_INFO!$M240),0))))","v":0},{"$f":"IF(AND(INTRO!$E$39=\"Non-endemic\",INTRO!$E$37=\"Non-endemic\"),\"Not required\",IF(INTRO!$E$39=\"Non-endemic\",\"Treat with DEC\",COUNTRY_INFO!V240))","v":0},{"$f":"IF(INTRO!$E$39<>\"Non-endemic\",COUNTRY_INFO!W240,\"Not required\")","v":0},{"$f":"IF(COUNTRY_INFO!H240=1, IF($E240=1,$D240, 0),0)","v":0},{"$f":"IF(COUNTRY_INFO!I240=1, IF(AND(COUNTRY_INFO!$I240=1,$F240<>0),IF(COUNTRY_INFO!M240>=(COUNTRY_INFO!F240+COUNTRY_INFO!G240),COUNTRY_INFO!F240+COUNTRY_INFO!G240,COUNTRY_INFO!$M240), 0),0)","v":0},0,0,0,0,null,0]
[{"$f":"IF(INTRO!$E$39=\"Non-endemic\",\" \",IF(COUNTRY_INFO!A241=0,\" \",COUNTRY_INFO!A241))","v":"Ghana"},{"$f":"IF(INTRO!$E$39=\"Non-endemic\",\" \",IF(COUNTRY_INFO!B241=0,\" \",COUNTRY_INFO!B241))","v":"Volta"},{"$f":"IF(INTRO!$E$39=\"Non-endemic\",\" \",IF(COUNTRY_INFO!C241=0,\" \",COUNTRY_INFO!C241))","v":"Ketu North"},{"$f":"IF(INTRO!$E$39=\"Non-endemic\",0,IF(INTRO!$E$39=\"Endemic but PC is not required\",IF(COUNTRY_INFO!$H241=1,COUNTRY_INFO!F241+COUNTRY_INFO!G241,0),IF(COUNTRY_INFO!$H241=1,COUNTRY_INFO!F241+COUNTRY_INFO!G241,IF(COUNTRY_INFO!$I241=1,IF(COUNTRY_INFO!M241>=(COUNTRY_INFO!F241+COUNTRY_INFO!G241),COUNTRY_INFO!F241+COUNTRY_INFO!G241,COUNTRY_INFO!$M241),0))))","v":0},{"$f":"IF(AND(INTRO!$E$39=\"Non-endemic\",INTRO!$E$37=\"Non-endemic\"),\"Not required\",IF(INTRO!$E$39=\"Non-endemic\",\"Treat with DEC\",COUNTRY_INFO!V241))","v":0},{"$f":"IF(INTRO!$E$39<>\"Non-endemic\",COUNTRY_INFO!W241,\"Not required\")","v":0},{"$f":"IF(COUNTRY_INFO!H241=1, IF($E241=1,$D241, 0),0)","v":0},{"$f":"IF(COUNTRY_INFO!I241=1, IF(AND(COUNTRY_INFO!$I241=1,$F241<>0),IF(COUNTRY_INFO!M241>=(COUNTRY_INFO!F241+COUNTRY_INFO!G241),COUNTRY_INFO!F241+COUNTRY_INFO!G241,COUNTRY_INFO!$M241), 0),0)","v":0},0,0,0,0,null,0]
[{"$f":"IF(INTRO!$E$39=\"Non-endemic\",\" \",IF(COUNTRY_INFO!A242=0,\" \",COUNTRY_INFO!A242))","v":"Ghana"},{"$f":"IF(INTRO!$E$39=\"Non-endemic\",\" \",IF(COUNTRY_INFO!B242=0,\" \",COUNTRY_INFO!B242))","v":"Volta"},{"$f":"IF(INTRO!$E$39=\"Non-endemic\",\" \",IF(COUNTRY_INFO!C242=0,\" \",COUNTRY_INFO!C242))","v":"Ketu South"},{"$f":"IF(INTRO!$E$39=\"Non-endemic\",0,IF(INTRO!$E$39=\"Endemic but PC is not required\",IF(COUNTRY_INFO!$H242=1,COUNTRY_INFO!F242+COUNTRY_INFO!G242,0),IF(COUNTRY_INFO!$H242=1,COUNTRY_INFO!F242+COUNTRY_INFO!G242,IF(COUNTRY_INFO!$I242=1,IF(COUNTRY_INFO!M242>=(COUNTRY_INFO!F242+COUNTRY_INFO!G242),COUNTRY_INFO!F242+COUNTRY_INFO!G242,COUNTRY_INFO!$M242),0))))","v":0},{"$f":"IF(AND(INTRO!$E$39=\"Non-endemic\",INTRO!$E$37=\"Non-endemic\"),\"Not required\",IF(INTRO!$E$39=\"Non-endemic\",\"Treat with DEC\",COUNTRY_INFO!V242))","v":0},{"$f":"IF(INTRO!$E$39<>\"Non-endemic\",COUNTRY_INFO!W242,\"Not required\")","v":0},{"$f":"IF(COUNTRY_INFO!H242=1, IF($E242=1,$D242, 0),0)","v":0},{"$f":"IF(COUNTRY_INFO!I242=1, IF(AND(COUNTRY_INFO!$I242=1,$F242<>0),IF(COUNTRY_INFO!M242>=(COUNTRY_INFO!F242+COUNTRY_INFO!G242),COUNTRY_INFO!F242+COUNTRY_INFO!G242,COUNTRY_INFO!$M242), 0),0)","v":0},0,0,0,0,null,0]
[{"$f":"IF(INTRO!$E$39=\"Non-endemic\",\" \",IF(COUNTRY_INFO!A243=0,\" \",COUNTRY_INFO!A243))","v":"Ghana"},{"$f":"IF(INTRO!$E$39=\"Non-endemic\",\" \",IF(COUNTRY_INFO!B243=0,\" \",COUNTRY_INFO!B243))","v":"Volta"},{"$f":"IF(INTRO!$E$39=\"Non-endemic\",\" \",IF(COUNTRY_INFO!C243=0,\" \",COUNTRY_INFO!C243))","v":"Kpando"},{"$f":"IF(INTRO!$E$39=\"Non-endemic\",0,IF(INTRO!$E$39=\"Endemic but PC is not required\",IF(COUNTRY_INFO!$H243=1,COUNTRY_INFO!F243+COUNTRY_INFO!G243,0),IF(COUNTRY_INFO!$H243=1,COUNTRY_INFO!F243+COUNTRY_INFO!G243,IF(COUNTRY_INFO!$I243=1,IF(COUNTRY_INFO!M243>=(COUNTRY_INFO!F243+COUNTRY_INFO!G243),COUNTRY_INFO!F243+COUNTRY_INFO!G243,COUNTRY_INFO!$M243),0))))","v":15363},{"$f":"IF(AND(INTRO!$E$39=\"Non-endemic\",INTRO!$E$37=\"Non-endemic\"),\"Not required\",IF(INTRO!$E$39=\"Non-endemic\",\"Treat with DEC\",COUNTRY_INFO!V243))","v":0},{"$f":"IF(INTRO!$E$39<>\"Non-endemic\",COUNTRY_INFO!W243,\"Not required\")","v":2},{"$f":"IF(COUNTRY_INFO!H243=1, IF($E243=1,$D243, 0),0)","v":0},{"$f":"IF(COUNTRY_INFO!I243=1, IF(AND(COUNTRY_INFO!$I243=1,$F243<>0),IF(COUNTRY_INFO!M243>=(COUNTRY_INFO!F243+COUNTRY_INFO!G243),COUNTRY_INFO!F243+COUNTRY_INFO!G243,COUNTRY_INFO!$M243), 0),0)","v":15363},0,86032.799999999988,0,86032.799999999988,null,86032.799999999988]
[{"$f":"IF(INTRO!$E$39=\"Non-endemic\",\" \",IF(COUNTRY_INFO!A244=0,\" \",COUNTRY_INFO!A244))","v":"Ghana"},{"$f":"IF(INTRO!$E$39=\"Non-endemic\",\" \",IF(COUNTRY_INFO!B244=0,\" \",COUNTRY_INFO!B244))","v":"Volta"},{"$f":"IF(INTRO!$E$39=\"Non-endemic\",\" \",IF(COUNTRY_INFO!C244=0,\" \",COUNTRY_INFO!C244))","v":"North Dayi"},{"$f":"IF(INTRO!$E$39=\"Non-endemic\",0,IF(INTRO!$E$39=\"Endemic but PC is not required\",IF(COUNTRY_INFO!$H244=1,COUNTRY_INFO!F244+COUNTRY_INFO!G244,0),IF(COUNTRY_INFO!$H244=1,COUNTRY_INFO!F244+COUNTRY_INFO!G244,IF(COUNTRY_INFO!$I244=1,IF(COUNTRY_INFO!M244>=(COUNTRY_INFO!F244+COUNTRY_INFO!G244),COUNTRY_INFO!F244+COUNTRY_INFO!G244,COUNTRY_INFO!$M244),0))))","v":31867},{"$f":"IF(AND(INTRO!$E$39=\"Non-endemic\",INTRO!$E$37=\"Non-endemic\"),\"Not required\",IF(INTRO!$E$39=\"Non-endemic\",\"Treat with DEC\",COUNTRY_INFO!V244))","v":0},{"$f":"IF(INTRO!$E$39<>\"Non-endemic\",COUNTRY_INFO!W244,\"Not required\")","v":2},{"$f":"IF(COUNTRY_INFO!H244=1, IF($E244=1,$D244, 0),0)","v":0},{"$f":"IF(COUNTRY_INFO!I244=1, IF(AND(COUNTRY_INFO!$I244=1,$F244<>0),IF(COUNTRY_INFO!M244>=(COUNTRY_INFO!F244+COUNTRY_INFO!G244),COUNTRY_INFO!F244+COUNTRY_INFO!G244,COUNTRY_INFO!$M244), 0),0)","v":31867},0,178455.19999999998,0,178455.19999999998,null,178455.19999999998]
[{"$f":"IF(INTRO!$E$39=\"Non-endemic\",\" \",IF(COUNTRY_INFO!A245=0,\" \",COUNTRY_INFO!A245))","v":"Ghana"},{"$f":"IF(INTRO!$E$39=\"Non-endemic\",\" \",IF(COUNTRY_INFO!B245=0,\" \",COUNTRY_INFO!B245))","v":"Volta"},{"$f":"IF(INTRO!$E$39=\"Non-endemic\",\" \",IF(COUNTRY_INFO!C245=0,\" \",COUNTRY_INFO!C245))","v":"North Tongu"},{"$f":"IF(INTRO!$E$39=\"Non-endemic\",0,IF(INTRO!$E$39=\"Endemic but PC is not required\",IF(COUNTRY_INFO!$H245=1,COUNTRY_INFO!F245+COUNTRY_INFO!G245,0),IF(COUNTRY_INFO!$H245=1,COUNTRY_INFO!F245+COUNTRY_INFO!G245,IF(COUNTRY_INFO!$I245=1,IF(COUNTRY_INFO!M245>=(COUNTRY_INFO!F245+COUNTRY_INFO!G245),COUNTRY_INFO!F245+COUNTRY_INFO!G245,COUNTRY_INFO!$M245),0))))","v":0},{"$f":"IF(AND(INTRO!$E$39=\"Non-endemic\",INTRO!$E$37=\"Non-endemic\"),\"Not required\",IF(INTRO!$E$39=\"Non-endemic\",\"Treat with DEC\",COUNTRY_INFO!V245))","v":0},{"$f":"IF(INTRO!$E$39<>\"Non-endemic\",COUNTRY_INFO!W245,\"Not required\")","v":0},{"$f":"IF(COUNTRY_INFO!H245=1, IF($E245=1,$D245, 0),0)","v":0},{"$f":"IF(COUNTRY_INFO!I245=1, IF(AND(COUNTRY_INFO!$I245=1,$F245<>0),IF(COUNTRY_INFO!M245>=(COUNTRY_INFO!F245+COUNTRY_INFO!G245),COUNTRY_INFO!F245+COUNTRY_INFO!G245,COUNTRY_INFO!$M245), 0),0)","v":0},0,0,0,0,null,0]
[{"$f":"IF(INTRO!$E$39=\"Non-endemic\",\" \",IF(COUNTRY_INFO!A246=0,\" \",COUNTRY_INFO!A246))","v":"Ghana"},{"$f":"IF(INTRO!$E$39=\"Non-endemic\",\" \",IF(COUNTRY_INFO!B246=0,\" \",COUNTRY_INFO!B246))","v":"Volta"},{"$f":"IF(INTRO!$E$39=\"Non-endemic\",\" \",IF(COUNTRY_INFO!C246=0,\" \",COUNTRY_INFO!C246))","v":"South Dayi"},{"$f":"IF(INTRO!$E$39=\"Non-endemic\",0,IF(INTRO!$E$39=\"Endemic but PC is not required\",IF(COUNTRY_INFO!$H246=1,COUNTRY_INFO!F246+COUNTRY_INFO!G246,0),IF(COUNTRY_INFO!$H246=1,COUNTRY_INFO!F246+COUNTRY_INFO!G246,IF(COUNTRY_INFO!$I246=1,IF(COUNTRY_INFO!M246>=(COUNTRY_INFO!F246+COUNTRY_INFO!G246),COUNTRY_INFO!F246+COUNTRY_INFO!G246,COUNTRY_INFO!$M246),0))))","v":0},{"$f":"IF(AND(INTRO!$E$39=\"Non-endemic\",INTRO!$E$37=\"Non-endemic\"),\"Not required\",IF(INTRO!$E$39=\"Non-endemic\",\"Treat with DEC\",COUNTRY_INFO!V246))","v":0},{"$f":"IF(INTRO!$E$39<>\"Non-endemic\",COUNTRY_INFO!W246,\"Not required\")","v":0},{"$f":"IF(COUNTRY_INFO!H246=1, IF($E246=1,$D246, 0),0)","v":0},{"$f":"IF(COUNTRY_INFO!I246=1, IF(AND(COUNTRY_INFO!$I246=1,$F246<>0),IF(COUNTRY_INFO!M246>=(COUNTRY_INFO!F246+COUNTRY_INFO!G246),COUNTRY_INFO!F246+COUNTRY_INFO!G246,COUNTRY_INFO!$M246), 0),0)","v":0},0,0,0,0,null,0]
[{"$f":"IF(INTRO!$E$39=\"Non-endemic\",\" \",IF(COUNTRY_INFO!A247=0,\" \",COUNTRY_INFO!A247))","v":"Ghana"},{"$f":"IF(INTRO!$E$39=\"Non-endemic\",\" \",IF(COUNTRY_INFO!B247=0,\" \",COUNTRY_INFO!B247))","v":"Volta"},{"$f":"IF(INTRO!$E$39=\"Non-endemic\",\" \",IF(COUNTRY_INFO!C247=0,\" \",COUNTRY_INFO!C247))","v":"South Tongu"},{"$f":"IF(INTRO!$E$39=\"Non-endemic\",0,IF(INTRO!$E$39=\"Endemic but PC is not required\",IF(COUNTRY_INFO!$H247=1,COUNTRY_INFO!F247+COUNTRY_INFO!G247,0),IF(COUNTRY_INFO!$H247=1,COUNTRY_INFO!F247+COUNTRY_INFO!G247,IF(COUNTRY_INFO!$I247=1,IF(COUNTRY_INFO!M247>=(COUNTRY_INFO!F247+COUNTRY_INFO!G247),COUNTRY_INFO!F247+COUNTRY_INFO!G247,COUNTRY_INFO!$M247),0))))","v":0},{"$f":"IF(AND(INTRO!$E$39=\"Non-endemic\",INTRO!$E$37=\"Non-endemic\"),\"Not required\",IF(INTRO!$E$39=\"Non-endemic\",\"Treat with DEC\",COUNTRY_INFO!V247))","v":0},{"$f":"IF(INTRO!$E$39<>\"Non-endemic\",COUNTRY_INFO!W247,\"Not required\")","v":0},{"$f":"IF(COUNTRY_INFO!H247=1, IF($E247=1,$D247, 0),0)","v":0},{"$f":"IF(COUNTRY_INFO!I247=1, IF(AND(COUNTRY_INFO!$I247=1,$F247<>0),IF(COUNTRY_INFO!M247>=(COUNTRY_INFO!F247+COUNTRY_INFO!G247),COUNTRY_INFO!F247+COUNTRY_INFO!G247,COUNTRY_INFO!$M247), 0),0)","v":0},0,0,0,0,null,0]
[{"$f":"IF(INTRO!$E$39=\"Non-endemic\",\" \",IF(COUNTRY_INFO!A248=0,\" \",COUNTRY_INFO!A248))","v":"Ghana"},{"$f":"IF(INTRO!$E$39=\"Non-endemic\",\" \",IF(COUNTRY_INFO!B248=0,\" \",COUNTRY_INFO!B248))","v":"Western"},{"$f":"IF(INTRO!$E$39=\"Non-endemic\",\" \",IF(COUNTRY_INFO!C248=0,\" \",COUNTRY_INFO!C248))","v":"Ahanta West"},{"$f":"IF(INTRO!$E$39=\"Non-endemic\",0,IF(INTRO!$E$39=\"Endemic but PC is not required\",IF(COUNTRY_INFO!$H248=1,COUNTRY_INFO!F248+COUNTRY_INFO!G248,0),IF(COUNTRY_INFO!$H248=1,COUNTRY_INFO!F248+COUNTRY_INFO!G248,IF(COUNTRY_INFO!$I248=1,IF(COUNTRY_INFO!M248>=(COUNTRY_INFO!F248+COUNTRY_INFO!G248),COUNTRY_INFO!F248+COUNTRY_INFO!G248,COUNTRY_INFO!$M248),0))))","v":0},{"$f":"IF(AND(INTRO!$E$39=\"Non-endemic\",INTRO!$E$37=\"Non-endemic\"),\"Not required\",IF(INTRO!$E$39=\"Non-endemic\",\"Treat with DEC\",COUNTRY_INFO!V248))","v":0},{"$f":"IF(INTRO!$E$39<>\"Non-endemic\",COUNTRY_INFO!W248,\"Not required\")","v":0},{"$f":"IF(COUNTRY_INFO!H248=1, IF($E248=1,$D248, 0),0)","v":0},{"$f":"IF(COUNTRY_INFO!I248=1, IF(AND(COUNTRY_INFO!$I248=1,$F248<>0),IF(COUNTRY_INFO!M248>=(COUNTRY_INFO!F248+COUNTRY_INFO!G248),COUNTRY_INFO!F248+COUNTRY_INFO!G248,COUNTRY_INFO!$M248), 0),0)","v":0},0,0,0,0,null,0]
[{"$f":"IF(INTRO!$E$39=\"Non-endemic\",\" \",IF(COUNTRY_INFO!A249=0,\" \",COUNTRY_INFO!A249))","v":"Ghana"},{"$f":"IF(INTRO!$E$39=\"Non-endemic\",\" \",IF(COUNTRY_INFO!B249=0,\" \",COUNTRY_INFO!B249))","v":"Western"},{"$f":"IF(INTRO!$E$39=\"Non-endemic\",\" \",IF(COUNTRY_INFO!C249=0,\" \",COUNTRY_INFO!C249))","v":"Effia-Kwesimintsim"},{"$f":"IF(INTRO!$E$39=\"Non-endemic\",0,IF(INTRO!$E$39=\"Endemic but PC is not required\",IF(COUNTRY_INFO!$H249=1,COUNTRY_INFO!F249+COUNTRY_INFO!G249,0),IF(COUNTRY_INFO!$H249=1,COUNTRY_INFO!F249+COUNTRY_INFO!G249,IF(COUNTRY_INFO!$I249=1,IF(COUNTRY_INFO!M249>=(COUNTRY_INFO!F249+COUNTRY_INFO!G249),COUNTRY_INFO!F249+COUNTRY_INFO!G249,COUNTRY_INFO!$M249),0))))","v":0},{"$f":"IF(AND(INTRO!$E$39=\"Non-endemic\",INTRO!$E$37=\"Non-endemic\"),\"Not required\",IF(INTRO!$E$39=\"Non-endemic\",\"Treat with DEC\",COUNTRY_INFO!V249))","v":0},{"$f":"IF(INTRO!$E$39<>\"Non-endemic\",COUNTRY_INFO!W249,\"Not required\")","v":0},{"$f":"IF(COUNTRY_INFO!H249=1, IF($E249=1,$D249, 0),0)","v":0},{"$f":"IF(COUNTRY_INFO!I249=1, IF(AND(COUNTRY_INFO!$I249=1,$F249<>0),IF(COUNTRY_INFO!M249>=(COUNTRY_INFO!F249+COUNTRY_INFO!G249),COUNTRY_INFO!F249+COUNTRY_INFO!G249,COUNTRY_INFO!$M249), 0),0)","v":0},0,0,0,0,null,0]
[{"$f":"IF(INTRO!$E$39=\"Non-endemic\",\" \",IF(COUNTRY_INFO!A250=0,\" \",COUNTRY_INFO!A250))","v":"Ghana"},{"$f":"IF(INTRO!$E$39=\"Non-endemic\",\" \",IF(COUNTRY_INFO!B250=0,\" \",COUNTRY_INFO!B250))","v":"Western"},{"$f":"IF(INTRO!$E$39=\"Non-endemic\",\" \",IF(COUNTRY_INFO!C250=0,\" \",COUNTRY_INFO!C250))","v":"Ellembelle"},{"$f":"IF(INTRO!$E$39=\"Non-endemic\",0,IF(INTRO!$E$39=\"Endemic but PC is not required\",IF(COUNTRY_INFO!$H250=1,COUNTRY_INFO!F250+COUNTRY_INFO!G250,0),IF(COUNTRY_INFO!$H250=1,COUNTRY_INFO!F250+COUNTRY_INFO!G250,IF(COUNTRY_INFO!$I250=1,IF(COUNTRY_INFO!M250>=(COUNTRY_INFO!F250+COUNTRY_INFO!G250),COUNTRY_INFO!F250+COUNTRY_INFO!G250,COUNTRY_INFO!$M250),0))))","v":112943},{"$f":"IF(AND(INTRO!$E$39=\"Non-endemic\",INTRO!$E$37=\"Non-endemic\"),\"Not required\",IF(INTRO!$E$39=\"Non-endemic\",\"Treat with DEC\",COUNTRY_INFO!V250))","v":1},{"$f":"IF(INTRO!$E$39<>\"Non-endemic\",COUNTRY_INFO!W250,\"Not required\")","v":0},{"$f":"IF(COUNTRY_INFO!H250=1, IF($E250=1,$D250, 0),0)","v":112943},{"$f":"IF(COUNTRY_INFO!I250=1, IF(AND(COUNTRY_INFO!$I250=1,$F250<>0),IF(COUNTRY_INFO!M250>=(COUNTRY_INFO!F250+COUNTRY_INFO!G250),COUNTRY_INFO!F250+COUNTRY_INFO!G250,COUNTRY_INFO!$M250), 0),0)","v":0},316240.39999999997,0,0,316240.39999999997,null,316240.39999999997]
[{"$f":"IF(INTRO!$E$39=\"Non-endemic\",\" \",IF(COUNTRY_INFO!A251=0,\" \",COUNTRY_INFO!A251))","v":"Ghana"},{"$f":"IF(INTRO!$E$39=\"Non-endemic\",\" \",IF(COUNTRY_INFO!B251=0,\" \",COUNTRY_INFO!B251))","v":"Western"},{"$f":"IF(INTRO!$E$39=\"Non-endemic\",\" \",IF(COUNTRY_INFO!C251=0,\" \",COUNTRY_INFO!C251))","v":"Jomoro"},{"$f":"IF(INTRO!$E$39=\"Non-endemic\",0,IF(INTRO!$E$39=\"Endemic but PC is not required\",IF(COUNTRY_INFO!$H251=1,COUNTRY_INFO!F251+COUNTRY_INFO!G251,0),IF(COUNTRY_INFO!$H251=1,COUNTRY_INFO!F251+COUNTRY_INFO!G251,IF(COUNTRY_INFO!$I251=1,IF(COUNTRY_INFO!M251>=(COUNTRY_INFO!F251+COUNTRY_INFO!G251),COUNTRY_INFO!F251+COUNTRY_INFO!G251,COUNTRY_INFO!$M251),0))))","v":21185},{"$f":"IF(AND(INTRO!$E$39=\"Non-endemic\",INTRO!$E$37=\"Non-endemic\"),\"Not required\",IF(INTRO!$E$39=\"Non-endemic\",\"Treat with DEC\",COUNTRY_INFO!V251))","v":0},{"$f":"IF(INTRO!$E$39<>\"Non-endemic\",COUNTRY_INFO!W251,\"Not required\")","v":2},{"$f":"IF(COUNTRY_INFO!H251=1, IF($E251=1,$D251, 0),0)","v":0},{"$f":"IF(COUNTRY_INFO!I251=1, IF(AND(COUNTRY_INFO!$I251=1,$F251<>0),IF(COUNTRY_INFO!M251>=(COUNTRY_INFO!F251+COUNTRY_INFO!G251),COUNTRY_INFO!F251+COUNTRY_INFO!G251,COUNTRY_INFO!$M251), 0),0)","v":21185},0,118635.99999999999,0,118635.99999999999,null,118635.99999999999]
[{"$f":"IF(INTRO!$E$39=\"Non-endemic\",\" \",IF(COUNTRY_INFO!A252=0,\" \",COUNTRY_INFO!A252))","v":"Ghana"},{"$f":"IF(INTRO!$E$39=\"Non-endemic\",\" \",IF(COUNTRY_INFO!B252=0,\" \",COUNTRY_INFO!B252))","v":"Western"},{"$f":"IF(INTRO!$E$39=\"Non-endemic\",\" \",IF(COUNTRY_INFO!C252=0,\" \",COUNTRY_INFO!C252))","v":"Mpohor"},{"$f":"IF(INTRO!$E$39=\"Non-endemic\",0,IF(INTRO!$E$39=\"Endemic but PC is not required\",IF(COUNTRY_INFO!$H252=1,COUNTRY_INFO!F252+COUNTRY_INFO!G252,0),IF(COUNTRY_INFO!$H252=1,COUNTRY_INFO!F252+COUNTRY_INFO!G252,IF(COUNTRY_INFO!$I252=1,IF(COUNTRY_INFO!M252>=(COUNTRY_INFO!F252+COUNTRY_INFO!G252),COUNTRY_INFO!F252+COUNTRY_INFO!G252,COUNTRY_INFO!$M252),0))))","v":49915},{"$f":"IF(AND(INTRO!$E$39=\"Non-endemic\",INTRO!$E$37=\"Non-endemic\"),\"Not required\",IF(INTRO!$E$39=\"Non-endemic\",\"Treat with DEC\",COUNTRY_INFO!V252))","v":0},{"$f":"IF(INTRO!$E$39<>\"Non-endemic\",COUNTRY_INFO!W252,\"Not required\")","v":2},{"$f":"IF(COUNTRY_INFO!H252=1, IF($E252=1,$D252, 0),0)","v":0},{"$f":"IF(COUNTRY_INFO!I252=1, IF(AND(COUNTRY_INFO!$I252=1,$F252<>0),IF(COUNTRY_INFO!M252>=(COUNTRY_INFO!F252+COUNTRY_INFO!G252),COUNTRY_INFO!F252+COUNTRY_INFO!G252,COUNTRY_INFO!$M252), 0),0)","v":49915},0,279524,0,279524,null,279524]
[{"$f":"IF(INTRO!$E$39=\"Non-endemic\",\" \",IF(COUNTRY_INFO!A253=0,\" \",COUNTRY_INFO!A253))","v":"Ghana"},{"$f":"IF(INTRO!$E$39=\"Non-endemic\",\" \",IF(COUNTRY_INFO!B253=0,\" \",COUNTRY_INFO!B253))","v":"Western"},{"$f":"IF(INTRO!$E$39=\"Non-endemic\",\" \",IF(COUNTRY_INFO!C253=0,\" \",COUNTRY_INFO!C253))","v":"Nzema East"},{"$f":"IF(INTRO!$E$39=\"Non-endemic\",0,IF(INTRO!$E$39=\"Endemic but PC is not required\",IF(COUNTRY_INFO!$H253=1,COUNTRY_INFO!F253+COUNTRY_INFO!G253,0),IF(COUNTRY_INFO!$H253=1,COUNTRY_INFO!F253+COUNTRY_INFO!G253,IF(COUNTRY_INFO!$I253=1,IF(COUNTRY_INFO!M253>=(COUNTRY_INFO!F253+COUNTRY_INFO!G253),COUNTRY_INFO!F253+COUNTRY_INFO!G253,COUNTRY_INFO!$M253),0))))","v":0},{"$f":"IF(AND(INTRO!$E$39=\"Non-endemic\",INTRO!$E$37=\"Non-endemic\"),\"Not required\",IF(INTRO!$E$39=\"Non-endemic\",\"Treat with DEC\",COUNTRY_INFO!V253))","v":0},{"$f":"IF(INTRO!$E$39<>\"Non-endemic\",COUNTRY_INFO!W253,\"Not required\")","v":0},{"$f":"IF(COUNTRY_INFO!H253=1, IF($E253=1,$D253, 0),0)","v":0},{"$f":"IF(COUNTRY_INFO!I253=1, IF(AND(COUNTRY_INFO!$I253=1,$F253<>0),IF(COUNTRY_INFO!M253>=(COUNTRY_INFO!F253+COUNTRY_INFO!G253),COUNTRY_INFO!F253+COUNTRY_INFO!G253,COUNTRY_INFO!$M253), 0),0)","v":0},0,0,0,0,null,0]
[{"$f":"IF(INTRO!$E$39=\"Non-endemic\",\" \",IF(COUNTRY_INFO!A254=0,\" \",COUNTRY_INFO!A254))","v":"Ghana"},{"$f":"IF(INTRO!$E$39=\"Non-endemic\",\" \",IF(COUNTRY_INFO!B254=0,\" \",COUNTRY_INFO!B254))","v":"Western"},{"$f":"IF(INTRO!$E$39=\"Non-endemic\",\" \",IF(COUNTRY_INFO!C254=0,\" \",COUNTRY_INFO!C254))","v":"Prestea-Huni Valley"},{"$f":"IF(INTRO!$E$39=\"Non-endemic\",0,IF(INTRO!$E$39=\"Endemic but PC is not required\",IF(COUNTRY_INFO!$H254=1,COUNTRY_INFO!F254+COUNTRY_INFO!G254,0),IF(COUNTRY_INFO!$H254=1,COUNTRY_INFO!F254+COUNTRY_INFO!G254,IF(COUNTRY_INFO!$I254=1,IF(COUNTRY_INFO!M254>=(COUNTRY_INFO!F254+COUNTRY_INFO!G254),COUNTRY_INFO!F254+COUNTRY_INFO!G254,COUNTRY_INFO!$M254),0))))","v":97468},{"$f":"IF(AND(INTRO!$E$39=\"Non-endemic\",INTRO!$E$37=\"Non-endemic\"),\"Not required\",IF(INTRO!$E$39=\"Non-endemic\",\"Treat with DEC\",COUNTRY_INFO!V254))","v":0},{"$f":"IF(INTRO!$E$39<>\"Non-endemic\",COUNTRY_INFO!W254,\"Not required\")","v":2},{"$f":"IF(COUNTRY_INFO!H254=1, IF($E254=1,$D254, 0),0)","v":0},{"$f":"IF(COUNTRY_INFO!I254=1, IF(AND(COUNTRY_INFO!$I254=1,$F254<>0),IF(COUNTRY_INFO!M254>=(COUNTRY_INFO!F254+COUNTRY_INFO!G254),COUNTRY_INFO!F254+COUNTRY_INFO!G254,COUNTRY_INFO!$M254), 0),0)","v":97468},0,545820.79999999993,0,545820.79999999993,null,545820.79999999993]
[{"$f":"IF(INTRO!$E$39=\"Non-endemic\",\" \",IF(COUNTRY_INFO!A255=0,\" \",COUNTRY_INFO!A255))","v":"Ghana"},{"$f":"IF(INTRO!$E$39=\"Non-endemic\",\" \",IF(COUNTRY_INFO!B255=0,\" \",COUNTRY_INFO!B255))","v":"Western"},{"$f":"IF(INTRO!$E$39=\"Non-endemic\",\" \",IF(COUNTRY_INFO!C255=0,\" \",COUNTRY_INFO!C255))","v":"Sekondi-Takoradi"},{"$f":"IF(INTRO!$E$39=\"Non-endemic\",0,IF(INTRO!$E$39=\"Endemic but PC is not required\",IF(COUNTRY_INFO!$H255=1,COUNTRY_INFO!F255+COUNTRY_INFO!G255,0),IF(COUNTRY_INFO!$H255=1,COUNTRY_INFO!F255+COUNTRY_INFO!G255,IF(COUNTRY_INFO!$I255=1,IF(COUNTRY_INFO!M255>=(COUNTRY_INFO!F255+COUNTRY_INFO!G255),COUNTRY_INFO!F255+COUNTRY_INFO!G255,COUNTRY_INFO!$M255),0))))","v":0},{"$f":"IF(AND(INTRO!$E$39=\"Non-endemic\",INTRO!$E$37=\"Non-endemic\"),\"Not required\",IF(INTRO!$E$39=\"Non-endemic\",\"Treat with DEC\",COUNTRY_INFO!V255))","v":0},{"$f":"IF(INTRO!$E$39<>\"Non-endemic\",COUNTRY_INFO!W255,\"Not required\")","v":0},{"$f":"IF(COUNTRY_INFO!H255=1, IF($E255=1,$D255, 0),0)","v":0},{"$f":"IF(COUNTRY_INFO!I255=1, IF(AND(COUNTRY_INFO!$I255=1,$F255<>0),IF(COUNTRY_INFO!M255>=(COUNTRY_INFO!F255+COUNTRY_INFO!G255),COUNTRY_INFO!F255+COUNTRY_INFO!G255,COUNTRY_INFO!$M255), 0),0)","v":0},0,0,0,0,null,0]
[{"$f":"IF(INTRO!$E$39=\"Non-endemic\",\" \",IF(COUNTRY_INFO!A256=0,\" \",COUNTRY_INFO!A256))","v":"Ghana"},{"$f":"IF(INTRO!$E$39=\"Non-endemic\",\" \",IF(COUNTRY_INFO!B256=0,\" \",COUNTRY_INFO!B256))","v":"Western"},{"$f":"IF(INTRO!$E$39=\"Non-endemic\",\" \",IF(COUNTRY_INFO!C256=0,\" \",COUNTRY_INFO!C256))","v":"Shama"},{"$f":"IF(INTRO!$E$39=\"Non-endemic\",0,IF(INTRO!$E$39=\"Endemic but PC is not required\",IF(COUNTRY_INFO!$H256=1,COUNTRY_INFO!F256+COUNTRY_INFO!G256,0),IF(COUNTRY_INFO!$H256=1,COUNTRY_INFO!F256+COUNTRY_INFO!G256,IF(COUNTRY_INFO!$I256=1,IF(COUNTRY_INFO!M256>=(COUNTRY_INFO!F256+COUNTRY_INFO!G256),COUNTRY_INFO!F256+COUNTRY_INFO!G256,COUNTRY_INFO!$M256),0))))","v":0},{"$f":"IF(AND(INTRO!$E$39=\"Non-endemic\",INTRO!$E$37=\"Non-endemic\"),\"Not required\",IF(INTRO!$E$39=\"Non-endemic\",\"Treat with DEC\",COUNTRY_INFO!V256))","v":0},{"$f":"IF(INTRO!$E$39<>\"Non-endemic\",COUNTRY_INFO!W256,\"Not required\")","v":0},{"$f":"IF(COUNTRY_INFO!H256=1, IF($E256=1,$D256, 0),0)","v":0},{"$f":"IF(COUNTRY_INFO!I256=1, IF(AND(COUNTRY_INFO!$I256=1,$F256<>0),IF(COUNTRY_INFO!M256>=(COUNTRY_INFO!F256+COUNTRY_INFO!G256),COUNTRY_INFO!F256+COUNTRY_INFO!G256,COUNTRY_INFO!$M256), 0),0)","v":0},0,0,0,0,null,0]
[{"$f":"IF(INTRO!$E$39=\"Non-endemic\",\" \",IF(COUNTRY_INFO!A257=0,\" \",COUNTRY_INFO!A257))","v":"Ghana"},{"$f":"IF(INTRO!$E$39=\"Non-endemic\",\" \",IF(COUNTRY_INFO!B257=0,\" \",COUNTRY_INFO!B257))","v":"Western"},{"$f":"IF(INTRO!$E$39=\"Non-endemic\",\" \",IF(COUNTRY_INFO!C257=0,\" \",COUNTRY_INFO!C257))","v":"Tarkwa-Nsuaem"},{"$f":"IF(INTRO!$E$39=\"Non-endemic\",0,IF(INTRO!$E$39=\"Endemic but PC is not required\",IF(COUNTRY_INFO!$H257=1,COUNTRY_INFO!F257+COUNTRY_INFO!G257,0),IF(COUNTRY_INFO!$H257=1,COUNTRY_INFO!F257+COUNTRY_INFO!G257,IF(COUNTRY_INFO!$I257=1,IF(COUNTRY_INFO!M257>=(COUNTRY_INFO!F257+COUNTRY_INFO!G257),COUNTRY_INFO!F257+COUNTRY_INFO!G257,COUNTRY_INFO!$M257),0))))","v":103912},{"$f":"IF(AND(INTRO!$E$39=\"Non-endemic\",INTRO!$E$37=\"Non-endemic\"),\"Not required\",IF(INTRO!$E$39=\"Non-endemic\",\"Treat with DEC\",COUNTRY_INFO!V257))","v":0},{"$f":"IF(INTRO!$E$39<>\"Non-endemic\",COUNTRY_INFO!W257,\"Not required\")","v":2},{"$f":"IF(COUNTRY_INFO!H257=1, IF($E257=1,$D257, 0),0)","v":0},{"$f":"IF(COUNTRY_INFO!I257=1, IF(AND(COUNTRY_INFO!$I257=1,$F257<>0),IF(COUNTRY_INFO!M257>=(COUNTRY_INFO!F257+COUNTRY_INFO!G257),COUNTRY_INFO!F257+COUNTRY_INFO!G257,COUNTRY_INFO!$M257), 0),0)","v":103912},0,581907.19999999995,0,581907.19999999995,null,581907.19999999995]
[{"$f":"IF(INTRO!$E$39=\"Non-endemic\",\" \",IF(COUNTRY_INFO!A258=0,\" \",COUNTRY_INFO!A258))","v":"Ghana"},{"$f":"IF(INTRO!$E$39=\"Non-endemic\",\" \",IF(COUNTRY_INFO!B258=0,\" \",COUNTRY_INFO!B258))","v":"Western"},{"$f":"IF(INTRO!$E$39=\"Non-endemic\",\" \",IF(COUNTRY_INFO!C258=0,\" \",COUNTRY_INFO!C258))","v":"Wassa Amenfi Central"},{"$f":"IF(INTRO!$E$39=\"Non-endemic\",0,IF(INTRO!$E$39=\"Endemic but PC is not required\",IF(COUNTRY_INFO!$H258=1,COUNTRY_INFO!F258+COUNTRY_INFO!G258,0),IF(COUNTRY_INFO!$H258=1,COUNTRY_INFO!F258+COUNTRY_INFO!G258,IF(COUNTRY_INFO!$I258=1,IF(COUNTRY_INFO!M258>=(COUNTRY_INFO!F258+COUNTRY_INFO!G258),COUNTRY_INFO!F258+COUNTRY_INFO!G258,COUNTRY_INFO!$M258),0))))","v":72250},{"$f":"IF(AND(INTRO!$E$39=\"Non-endemic\",INTRO!$E$37=\"Non-endemic\"),\"Not required\",IF(INTRO!$E$39=\"Non-endemic\",\"Treat with DEC\",COUNTRY_INFO!V258))","v":0},{"$f":"IF(INTRO!$E$39<>\"Non-endemic\",COUNTRY_INFO!W258,\"Not required\")","v":2},{"$f":"IF(COUNTRY_INFO!H258=1, IF($E258=1,$D258, 0),0)","v":0},{"$f":"IF(COUNTRY_INFO!I258=1, IF(AND(COUNTRY_INFO!$I258=1,$F258<>0),IF(COUNTRY_INFO!M258>=(COUNTRY_INFO!F258+COUNTRY_INFO!G258),COUNTRY_INFO!F258+COUNTRY_INFO!G258,COUNTRY_INFO!$M258), 0),0)","v":72250},0,404600,0,404600,null,404600]
[{"$f":"IF(INTRO!$E$39=\"Non-endemic\",\" \",IF(COUNTRY_INFO!A259=0,\" \",COUNTRY_INFO!A259))","v":"Ghana"},{"$f":"IF(INTRO!$E$39=\"Non-endemic\",\" \",IF(COUNTRY_INFO!B259=0,\" \",COUNTRY_INFO!B259))","v":"Western"},{"$f":"IF(INTRO!$E$39=\"Non-endemic\",\" \",IF(COUNTRY_INFO!C259=0,\" \",COUNTRY_INFO!C259))","v":"Wassa Amenfi East"},{"$f":"IF(INTRO!$E$39=\"Non-endemic\",0,IF(INTRO!$E$39=\"Endemic but PC is not required\",IF(COUNTRY_INFO!$H259=1,COUNTRY_INFO!F259+COUNTRY_INFO!G259,0),IF(COUNTRY_INFO!$H259=1,COUNTRY_INFO!F259+COUNTRY_INFO!G259,IF(COUNTRY_INFO!$I259=1,IF(COUNTRY_INFO!M259>=(COUNTRY_INFO!F259+COUNTRY_INFO!G259),COUNTRY_INFO!F259+COUNTRY_INFO!G259,COUNTRY_INFO!$M259),0))))","v":90321},{"$f":"IF(AND(INTRO!$E$39=\"Non-endemic\",INTRO!$E$37=\"Non-endemic\"),\"Not required\",IF(INTRO!$E$39=\"Non-endemic\",\"Treat with DEC\",COUNTRY_INFO!V259))","v":0},{"$f":"IF(INTRO!$E$39<>\"Non-endemic\",COUNTRY_INFO!W259,\"Not required\")","v":2},{"$f":"IF(COUNTRY_INFO!H259=1, IF($E259=1,$D259, 0),0)","v":0},{"$f":"IF(COUNTRY_INFO!I259=1, IF(AND(COUNTRY_INFO!$I259=1,$F259<>0),IF(COUNTRY_INFO!M259>=(COUNTRY_INFO!F259+COUNTRY_INFO!G259),COUNTRY_INFO!F259+COUNTRY_INFO!G259,COUNTRY_INFO!$M259), 0),0)","v":90321},0,505797.6,0,505797.6,null,505797.6]
[{"$f":"IF(INTRO!$E$39=\"Non-endemic\",\" \",IF(COUNTRY_INFO!A260=0,\" \",COUNTRY_INFO!A260))","v":"Ghana"},{"$f":"IF(INTRO!$E$39=\"Non-endemic\",\" \",IF(COUNTRY_INFO!B260=0,\" \",COUNTRY_INFO!B260))","v":"Western"},{"$f":"IF(INTRO!$E$39=\"Non-endemic\",\" \",IF(COUNTRY_INFO!C260=0,\" \",COUNTRY_INFO!C260))","v":"Wassa Amenfi West"},{"$f":"IF(INTRO!$E$39=\"Non-endemic\",0,IF(INTRO!$E$39=\"Endemic but PC is not required\",IF(COUNTRY_INFO!$H260=1,COUNTRY_INFO!F260+COUNTRY_INFO!G260,0),IF(COUNTRY_INFO!$H260=1,COUNTRY_INFO!F260+COUNTRY_INFO!G260,IF(COUNTRY_INFO!$I260=1,IF(COUNTRY_INFO!M260>=(COUNTRY_INFO!F260+COUNTRY_INFO!G260),COUNTRY_INFO!F260+COUNTRY_INFO!G260,COUNTRY_INFO!$M260),0))))","v":97632},{"$f":"IF(AND(INTRO!$E$39=\"Non-endemic\",INTRO!$E$37=\"Non-endemic\"),\"Not required\",IF(INTRO!$E$39=\"Non-endemic\",\"Treat with DEC\",COUNTRY_INFO!V260))","v":0},{"$f":"IF(INTRO!$E$39<>\"Non-endemic\",COUNTRY_INFO!W260,\"Not required\")","v":2},{"$f":"IF(COUNTRY_INFO!H260=1, IF($E260=1,$D260, 0),0)","v":0},{"$f":"IF(COUNTRY_INFO!I260=1, IF(AND(COUNTRY_INFO!$I260=1,$F260<>0),IF(COUNTRY_INFO!M260>=(COUNTRY_INFO!F260+COUNTRY_INFO!G260),COUNTRY_INFO!F260+COUNTRY_INFO!G260,COUNTRY_INFO!$M260), 0),0)","v":97632},0,546739.19999999995,0,546739.19999999995,null,546739.19999999995]
[{"$f":"IF(INTRO!$E$39=\"Non-endemic\",\" \",IF(COUNTRY_INFO!A261=0,\" \",COUNTRY_INFO!A261))","v":"Ghana"},{"$f":"IF(INTRO!$E$39=\"Non-endemic\",\" \",IF(COUNTRY_INFO!B261=0,\" \",COUNTRY_INFO!B261))","v":"Western"},{"$f":"IF(INTRO!$E$39=\"Non-endemic\",\" \",IF(COUNTRY_INFO!C261=0,\" \",COUNTRY_INFO!C261))","v":"Wassa East"},{"$f":"IF(INTRO!$E$39=\"Non-endemic\",0,IF(INTRO!$E$39=\"Endemic but PC is not required\",IF(COUNTRY_INFO!$H261=1,COUNTRY_INFO!F261+COUNTRY_INFO!G261,0),IF(COUNTRY_INFO!$H261=1,COUNTRY_INFO!F261+COUNTRY_INFO!G261,IF(COUNTRY_INFO!$I261=1,IF(COUNTRY_INFO!M261>=(COUNTRY_INFO!F261+COUNTRY_INFO!G261),COUNTRY_INFO!F261+COUNTRY_INFO!G261,COUNTRY_INFO!$M261),0))))","v":90511},{"$f":"IF(AND(INTRO!$E$39=\"Non-endemic\",INTRO!$E$37=\"Non-endemic\"),\"Not required\",IF(INTRO!$E$39=\"Non-endemic\",\"Treat with DEC\",COUNTRY_INFO!V261))","v":0},{"$f":"IF(INTRO!$E$39<>\"Non-endemic\",COUNTRY_INFO!W261,\"Not required\")","v":2},{"$f":"IF(COUNTRY_INFO!H261=1, IF($E261=1,$D261, 0),0)","v":0},{"$f":"IF(COUNTRY_INFO!I261=1, IF(AND(COUNTRY_INFO!$I261=1,$F261<>0),IF(COUNTRY_INFO!M261>=(COUNTRY_INFO!F261+COUNTRY_INFO!G261),COUNTRY_INFO!F261+COUNTRY_INFO!G261,COUNTRY_INFO!$M261), 0),0)","v":90511},0,506861.6,0,506861.6,null,506861.6]
[{"$f":"IF(INTRO!$E$39=\"Non-endemic\",\" \",IF(COUNTRY_INFO!A262=0,\" \",COUNTRY_INFO!A262))","v":"Ghana"},{"$f":"IF(INTRO!$E$39=\"Non-endemic\",\" \",IF(COUNTRY_INFO!B262=0,\" \",COUNTRY_INFO!B262))","v":"Western North"},{"$f":"IF(INTRO!$E$39=\"Non-endemic\",\" \",IF(COUNTRY_INFO!C262=0,\" \",COUNTRY_INFO!C262))","v":"Aowin"},{"$f":"IF(INTRO!$E$39=\"Non-endemic\",0,IF(INTRO!$E$39=\"Endemic but PC is not required\",IF(COUNTRY_INFO!$H262=1,COUNTRY_INFO!F262+COUNTRY_INFO!G262,0),IF(COUNTRY_INFO!$H262=1,COUNTRY_INFO!F262+COUNTRY_INFO!G262,IF(COUNTRY_INFO!$I262=1,IF(COUNTRY_INFO!M262>=(COUNTRY_INFO!F262+COUNTRY_INFO!G262),COUNTRY_INFO!F262+COUNTRY_INFO!G262,COUNTRY_INFO!$M262),0))))","v":121162},{"$f":"IF(AND(INTRO!$E$39=\"Non-endemic\",INTRO!$E$37=\"Non-endemic\"),\"Not required\",IF(INTRO!$E$39=\"Non-endemic\",\"Treat with DEC\",COUNTRY_INFO!V262))","v":0},{"$f":"IF(INTRO!$E$39<>\"Non-endemic\",COUNTRY_INFO!W262,\"Not required\")","v":2},{"$f":"IF(COUNTRY_INFO!H262=1, IF($E262=1,$D262, 0),0)","v":0},{"$f":"IF(COUNTRY_INFO!I262=1, IF(AND(COUNTRY_INFO!$I262=1,$F262<>0),IF(COUNTRY_INFO!M262>=(COUNTRY_INFO!F262+COUNTRY_INFO!G262),COUNTRY_INFO!F262+COUNTRY_INFO!G262,COUNTRY_INFO!$M262), 0),0)","v":121162},0,678507.2,0,678507.2,null,678507.2]
[{"$f":"IF(INTRO!$E$39=\"Non-endemic\",\" \",IF(COUNTRY_INFO!A263=0,\" \",COUNTRY_INFO!A263))","v":"Ghana"},{"$f":"IF(INTRO!$E$39=\"Non-endemic\",\" \",IF(COUNTRY_INFO!B263=0,\" \",COUNTRY_INFO!B263))","v":"Western North"},{"$f":"IF(INTRO!$E$39=\"Non-endemic\",\" \",IF(COUNTRY_INFO!C263=0,\" \",COUNTRY_INFO!C263))","v":"Bia East"},{"$f":"IF(INTRO!$E$39=\"Non-endemic\",0,IF(INTRO!$E$39=\"Endemic but PC is not required\",IF(COUNTRY_INFO!$H263=1,COUNTRY_INFO!F263+COUNTRY_INFO!G263,0),IF(COUNTRY_INFO!$H263=1,COUNTRY_INFO!F263+COUNTRY_INFO!G263,IF(COUNTRY_INFO!$I263=1,IF(COUNTRY_INFO!M263>=(COUNTRY_INFO!F263+COUNTRY_INFO!G263),COUNTRY_INFO!F263+COUNTRY_INFO!G263,COUNTRY_INFO!$M263),0))))","v":33265},{"$f":"IF(AND(INTRO!$E$39=\"Non-endemic\",INTRO!$E$37=\"Non-endemic\"),\"Not required\",IF(INTRO!$E$39=\"Non-endemic\",\"Treat with DEC\",COUNTRY_INFO!V263))","v":0},{"$f":"IF(INTRO!$E$39<>\"Non-endemic\",COUNTRY_INFO!W263,\"Not required\")","v":2},{"$f":"IF(COUNTRY_INFO!H263=1, IF($E263=1,$D263, 0),0)","v":0},{"$f":"IF(COUNTRY_INFO!I263=1, IF(AND(COUNTRY_INFO!$I263=1,$F263<>0),IF(COUNTRY_INFO!M263>=(COUNTRY_INFO!F263+COUNTRY_INFO!G263),COUNTRY_INFO!F263+COUNTRY_INFO!G263,COUNTRY_INFO!$M263), 0),0)","v":33265},0,186284,0,186284,null,186284]
[{"$f":"IF(INTRO!$E$39=\"Non-endemic\",\" \",IF(COUNTRY_INFO!A264=0,\" \",COUNTRY_INFO!A264))","v":"Ghana"},{"$f":"IF(INTRO!$E$39=\"Non-endemic\",\" \",IF(COUNTRY_INFO!B264=0,\" \",COUNTRY_INFO!B264))","v":"Western North"},{"$f":"IF(INTRO!$E$39=\"Non-endemic\",\" \",IF(COUNTRY_INFO!C264=0,\" \",COUNTRY_INFO!C264))","v":"Bia West"},{"$f":"IF(INTRO!$E$39=\"Non-endemic\",0,IF(INTRO!$E$39=\"Endemic but PC is not required\",IF(COUNTRY_INFO!$H264=1,COUNTRY_INFO!F264+COUNTRY_INFO!G264,0),IF(COUNTRY_INFO!$H264=1,COUNTRY_INFO!F264+COUNTRY_INFO!G264,IF(COUNTRY_INFO!$I264=1,IF(COUNTRY_INFO!M264>=(COUNTRY_INFO!F264+COUNTRY_INFO!G264),COUNTRY_INFO!F264+COUNTRY_INFO!G264,COUNTRY_INFO!$M264),0))))","v":94824},{"$f":"IF(AND(INTRO!$E$39=\"Non-endemic\",INTRO!$E$37=\"Non-endemic\"),\"Not required\",IF(INTRO!$E$39=\"Non-endemic\",\"Treat with DEC\",COUNTRY_INFO!V264))","v":0},{"$f":"IF(INTRO!$E$39<>\"Non-endemic\",COUNTRY_INFO!W264,\"Not required\")","v":2},{"$f":"IF(COUNTRY_INFO!H264=1, IF($E264=1,$D264, 0),0)","v":0},{"$f":"IF(COUNTRY_INFO!I264=1, IF(AND(COUNTRY_INFO!$I264=1,$F264<>0),IF(COUNTRY_INFO!M264>=(COUNTRY_INFO!F264+COUNTRY_INFO!G264),COUNTRY_INFO!F264+COUNTRY_INFO!G264,COUNTRY_INFO!$M264), 0),0)","v":94824},0,531014.40000000002,0,531014.40000000002,null,531014.40000000002]
[{"$f":"IF(INTRO!$E$39=\"Non-endemic\",\" \",IF(COUNTRY_INFO!A265=0,\" \",COUNTRY_INFO!A265))","v":"Ghana"},{"$f":"IF(INTRO!$E$39=\"Non-endemic\",\" \",IF(COUNTRY_INFO!B265=0,\" \",COUNTRY_INFO!B265))","v":"Western North"},{"$f":"IF(INTRO!$E$39=\"Non-endemic\",\" \",IF(COUNTRY_INFO!C265=0,\" \",COUNTRY_INFO!C265))","v":"Bibiani-Anhwiaso-Bekwai"},{"$f":"IF(INTRO!$E$39=\"Non-endemic\",0,IF(INTRO!$E$39=\"Endemic but PC is not required\",IF(COUNTRY_INFO!$H265=1,COUNTRY_INFO!F265+COUNTRY_INFO!G265,0),IF(COUNTRY_INFO!$H265=1,COUNTRY_INFO!F265+COUNTRY_INFO!G265,IF(COUNTRY_INFO!$I265=1,IF(COUNTRY_INFO!M265>=(COUNTRY_INFO!F265+COUNTRY_INFO!G265),COUNTRY_INFO!F265+COUNTRY_INFO!G265,COUNTRY_INFO!$M265),0))))","v":129939},{"$f":"IF(AND(INTRO!$E$39=\"Non-endemic\",INTRO!$E$37=\"Non-endemic\"),\"Not required\",IF(INTRO!$E$39=\"Non-endemic\",\"Treat with DEC\",COUNTRY_INFO!V265))","v":0},{"$f":"IF(INTRO!$E$39<>\"Non-endemic\",COUNTRY_INFO!W265,\"Not required\")","v":2},{"$f":"IF(COUNTRY_INFO!H265=1, IF($E265=1,$D265, 0),0)","v":0},{"$f":"IF(COUNTRY_INFO!I265=1, IF(AND(COUNTRY_INFO!$I265=1,$F265<>0),IF(COUNTRY_INFO!M265>=(COUNTRY_INFO!F265+COUNTRY_INFO!G265),COUNTRY_INFO!F265+COUNTRY_INFO!G265,COUNTRY_INFO!$M265), 0),0)","v":129939},0,727658.39999999991,0,727658.39999999991,null,{"$f":"IF($L265>$M265,$L265-$M265,0)","v":727658.39999999991}]
[{"$f":"IF(INTRO!$E$39=\"Non-endemic\",\" \",IF(COUNTRY_INFO!A266=0,\" \",COUNTRY_INFO!A266))","v":"Ghana"},{"$f":"IF(INTRO!$E$39=\"Non-endemic\",\" \",IF(COUNTRY_INFO!B266=0,\" \",COUNTRY_INFO!B266))","v":"Western North"},{"$f":"IF(INTRO!$E$39=\"Non-endemic\",\" \",IF(COUNTRY_INFO!C266=0,\" \",COUNTRY_INFO!C266))","v":"Bodi"},{"$f":"IF(INTRO!$E$39=\"Non-endemic\",0,IF(INTRO!$E$39=\"Endemic but PC is not required\",IF(COUNTRY_INFO!$H266=1,COUNTRY_INFO!F266+COUNTRY_INFO!G266,0),IF(COUNTRY_INFO!$H266=1,COUNTRY_INFO!F266+COUNTRY_INFO!G266,IF(COUNTRY_INFO!$I266=1,IF(COUNTRY_INFO!M266>=(COUNTRY_INFO!F266+COUNTRY_INFO!G266),COUNTRY_INFO!F266+COUNTRY_INFO!G266,COUNTRY_INFO!$M266),0))))","v":55685},{"$f":"IF(AND(INTRO!$E$39=\"Non-endemic\",INTRO!$E$37=\"Non-endemic\"),\"Not required\",IF(INTRO!$E$39=\"Non-endemic\",\"Treat with DEC\",COUNTRY_INFO!V266))","v":0},{"$f":"IF(INTRO!$E$39<>\"Non-endemic\",COUNTRY_INFO!W266,\"Not required\")","v":2},{"$f":"IF(COUNTRY_INFO!H266=1, IF($E266=1,$D266, 0),0)","v":0},{"$f":"IF(COUNTRY_INFO!I266=1, IF(AND(COUNTRY_INFO!$I266=1,$F266<>0),IF(COUNTRY_INFO!M266>=(COUNTRY_INFO!F266+COUNTRY_INFO!G266),COUNTRY_INFO!F266+COUNTRY_INFO!G266,COUNTRY_INFO!$M266), 0),0)","v":55685},{"$f":"IF(G266<H266,0,IF($E266=1, (G266-H266)*2.8, 0))","v":0},311836,0,311836,null,311836]
[{"$f":"IF(INTRO!$E$39=\"Non-endemic\",\" \",IF(COUNTRY_INFO!A267=0,\" \",COUNTRY_INFO!A267))","v":"Ghana"},{"$f":"IF(INTRO!$E$39=\"Non-endemic\",\" \",IF(COUNTRY_INFO!B267=0,\" \",COUNTRY_INFO!B267))","v":"Western North"},{"$f":"IF(INTRO!$E$39=\"Non-endemic\",\" \",IF(COUNTRY_INFO!C267=0,\" \",COUNTRY_INFO!C267))","v":"Juaboso"},{"$f":"IF(INTRO!$E$39=\"Non-endemic\",0,IF(INTRO!$E$39=\"Endemic but PC is not required\",IF(COUNTRY_INFO!$H267=1,COUNTRY_INFO!F267+COUNTRY_INFO!G267,0),IF(COUNTRY_INFO!$H267=1,COUNTRY_INFO!F267+COUNTRY_INFO!G267,IF(COUNTRY_INFO!$I267=1,IF(COUNTRY_INFO!M267>=(COUNTRY_INFO!F267+COUNTRY_INFO!G267),COUNTRY_INFO!F267+COUNTRY_INFO!G267,COUNTRY_INFO!$M267),0))))","v":62107},{"$f":"IF(AND(INTRO!$E$39=\"Non-endemic\",INTRO!$E$37=\"Non-endemic\"),\"Not required\",IF(INTRO!$E$39=\"Non-endemic\",\"Treat with DEC\",COUNTRY_INFO!V267))","v":0},{"$f":"IF(INTRO!$E$39<>\"Non-endemic\",COUNTRY_INFO!W267,\"Not required\")","v":2},{"$f":"IF(COUNTRY_INFO!H267=1, IF($E267=1,$D267, 0),0)","v":0},{"$f":"IF(COUNTRY_INFO!I267=1, IF(AND(COUNTRY_INFO!$I267=1,$F267<>0),IF(COUNTRY_INFO!M267>=(COUNTRY_INFO!F267+COUNTRY_INFO!G267),COUNTRY_INFO!F267+COUNTRY_INFO!G267,COUNTRY_INFO!$M267), 0),0)","v":62107},0,347799.19999999995,{"$f":"IF(AND($E267=1, $F267<>0), H267*2.8, 0)","v":0},{"$f":"SUM(I267:K267)","v":347799.19999999995},null,347799.19999999995]
[{"$f":"IF(INTRO!$E$39=\"Non-endemic\",\" \",IF(COUNTRY_INFO!A268=0,\" \",COUNTRY_INFO!A268))","v":"Ghana"},{"$f":"IF(INTRO!$E$39=\"Non-endemic\",\" \",IF(COUNTRY_INFO!B268=0,\" \",COUNTRY_INFO!B268))","v":"Western North"},{"$f":"IF(INTRO!$E$39=\"Non-endemic\",\" \",IF(COUNTRY_INFO!C268=0,\" \",COUNTRY_INFO!C268))","v":"Sefwi-Akontombra"},{"$f":"IF(INTRO!$E$39=\"Non-endemic\",0,IF(INTRO!$E$39=\"Endemic but PC is not required\",IF(COUNTRY_INFO!$H268=1,COUNTRY_INFO!F268+COUNTRY_INFO!G268,0),IF(COUNTRY_INFO!$H268=1,COUNTRY_INFO!F268+COUNTRY_INFO!G268,IF(COUNTRY_INFO!$I268=1,IF(COUNTRY_INFO!M268>=(COUNTRY_INFO!F268+COUNTRY_INFO!G268),COUNTRY_INFO!F268+COUNTRY_INFO!G268,COUNTRY_INFO!$M268),0))))","v":65592},{"$f":"IF(AND(INTRO!$E$39=\"Non-endemic\",INTRO!$E$37=\"Non-endemic\"),\"Not required\",IF(INTRO!$E$39=\"Non-endemic\",\"Treat with DEC\",COUNTRY_INFO!V268))","v":0},{"$f":"IF(INTRO!$E$39<>\"Non-endemic\",COUNTRY_INFO!W268,\"Not required\")","v":2},{"$f":"IF(COUNTRY_INFO!H268=1, IF($E268=1,$D268, 0),0)","v":0},{"$f":"IF(COUNTRY_INFO!I268=1, IF(AND(COUNTRY_INFO!$I268=1,$F268<>0),IF(COUNTRY_INFO!M268>=(COUNTRY_INFO!F268+COUNTRY_INFO!G268),COUNTRY_INFO!F268+COUNTRY_INFO!G268,COUNTRY_INFO!$M268), 0),0)","v":65592},0,367315.19999999995,0,367315.19999999995,null,367315.19999999995]
[{"$f":"IF(INTRO!$E$39=\"Non-endemic\",\" \",IF(COUNTRY_INFO!A269=0,\" \",COUNTRY_INFO!A269))","v":"Ghana"},{"$f":"IF(INTRO!$E$39=\"Non-endemic\",\" \",IF(COUNTRY_INFO!B269=0,\" \",COUNTRY_INFO!B269))","v":"Western North"},{"$f":"IF(INTRO!$E$39=\"Non-endemic\",\" \",IF(COUNTRY_INFO!C269=0,\" \",COUNTRY_INFO!C269))","v":"Sefwi-Wiawso"},{"$f":"IF(INTRO!$E$39=\"Non-endemic\",0,IF(INTRO!$E$39=\"Endemic but PC is not required\",IF(COUNTRY_INFO!$H269=1,COUNTRY_INFO!F269+COUNTRY_INFO!G269,0),IF(COUNTRY_INFO!$H269=1,COUNTRY_INFO!F269+COUNTRY_INFO!G269,IF(COUNTRY_INFO!$I269=1,IF(COUNTRY_INFO!M269>=(COUNTRY_INFO!F269+COUNTRY_INFO!G269),COUNTRY_INFO!F269+COUNTRY_INFO!G269,COUNTRY_INFO!$M269),0))))","v":141243},{"$f":"IF(AND(INTRO!$E$39=\"Non-endemic\",INTRO!$E$37=\"Non-endemic\"),\"Not required\",IF(INTRO!$E$39=\"Non-endemic\",\"Treat with DEC\",COUNTRY_INFO!V269))","v":0},{"$f":"IF(INTRO!$E$39<>\"Non-endemic\",COUNTRY_INFO!W269,\"Not required\")","v":2},{"$f":"IF(COUNTRY_INFO!H269=1, IF($E269=1,$D269, 0),0)","v":0},{"$f":"IF(COUNTRY_INFO!I269=1, IF(AND(COUNTRY_INFO!$I269=1,$F269<>0),IF(COUNTRY_INFO!M269>=(COUNTRY_INFO!F269+COUNTRY_INFO!G269),COUNTRY_INFO!F269+COUNTRY_INFO!G269,COUNTRY_INFO!$M269), 0),0)","v":141243},0,790960.79999999993,0,790960.79999999993,null,790960.79999999993]
[{"$f":"IF(INTRO!$E$39=\"Non-endemic\",\" \",IF(COUNTRY_INFO!A270=0,\" \",COUNTRY_INFO!A270))","v":"Ghana"},{"$f":"IF(INTRO!$E$39=\"Non-endemic\",\" \",IF(COUNTRY_INFO!B270=0,\" \",COUNTRY_INFO!B270))","v":"Western North"},{"$f":"IF(INTRO!$E$39=\"Non-endemic\",\" \",IF(COUNTRY_INFO!C270=0,\" \",COUNTRY_INFO!C270))","v":"Suaman"},{"$f":"IF(INTRO!$E$39=\"Non-endemic\",0,IF(INTRO!$E$39=\"Endemic but PC is not required\",IF(COUNTRY_INFO!$H270=1,COUNTRY_INFO!F270+COUNTRY_INFO!G270,0),IF(COUNTRY_INFO!$H270=1,COUNTRY_INFO!F270+COUNTRY_INFO!G270,IF(COUNTRY_INFO!$I270=1,IF(COUNTRY_INFO!M270>=(COUNTRY_INFO!F270+COUNTRY_INFO!G270),COUNTRY_INFO!F270+COUNTRY_INFO!G270,COUNTRY_INFO!$M270),0))))","v":24951},{"$f":"IF(AND(INTRO!$E$39=\"Non-endemic\",INTRO!$E$37=\"Non-endemic\"),\"Not required\",IF(INTRO!$E$39=\"Non-endemic\",\"Treat with DEC\",COUNTRY_INFO!V270))","v":0},{"$f":"IF(INTRO!$E$39<>\"Non-endemic\",COUNTRY_INFO!W270,\"Not required\")","v":2},{"$f":"IF(COUNTRY_INFO!H270=1, IF($E270=1,$D270, 0),0)","v":0},{"$f":"IF(COUNTRY_INFO!I270=1, IF(AND(COUNTRY_INFO!$I270=1,$F270<>0),IF(COUNTRY_INFO!M270>=(COUNTRY_INFO!F270+COUNTRY_INFO!G270),COUNTRY_INFO!F270+COUNTRY_INFO!G270,COUNTRY_INFO!$M270), 0),0)","v":24951},0,139725.59999999998,0,139725.59999999998,null,139725.59999999998]

{"sheet":"IVM+","index":6,"n_rows":270,"n_cols":8,"rows_kept":270,"cut":false,"hidden":true,"merged":[[6,0,7,0],[6,1,7,1],[6,2,7,2],[6,3,7,3],[3,0,3,2],[5,0,5,2],[6,5,7,5],[6,6,7,6],[6,7,7,7],[5,4,7,4],[5,5,5,7]]}
["Ivermectin (IVM) for IDA therapy"]
["Administrative structure, eligible population by age group, treatment plan and information about tablets"]
[]
["TOTAL",null,null,null,{"$f":"SUBTOTAL(9,E$10:E$1010)","v":0},0,0,0]
[]
["Country administrative structure",null,null,"Treatment plan","Population targeted for treatment with IVM \n(IDA therapy)","Ivermectin (IVM)"]
["Country","Province/State","District","LF",null,"Total required","Remaining in stock","Tablets to be procured"]
[]
[]
[{"$f":"IF(AND(INTRO!$E$37=\"Endemic\",INTRO!$E$39=\"Non-endemic\"),IF(COUNTRY_INFO!A10=0,\" \",COUNTRY_INFO!A10),\" \")","v":" "},{"$f":"IF(AND(INTRO!$E$37=\"Endemic\",INTRO!$E$39=\"Non-endemic\"),IF(COUNTRY_INFO!B10=0,\" \",COUNTRY_INFO!B10),\" \")","v":" "},{"$f":"IF(AND(INTRO!$E$37=\"Endemic\",INTRO!$E$39=\"Non-endemic\"),IF(COUNTRY_INFO!C10=0,\" \",COUNTRY_INFO!C10),\" \")","v":" "},{"$f":"IF(COUNTRY_INFO!Z10<>\"\",COUNTRY_INFO!V10,0)","v":0},{"$f":"IF(AND(COUNTRY_INFO!Z10<>\"\",COUNTRY_INFO!$H10=1),COUNTRY_INFO!F10+COUNTRY_INFO!G10,0)","v":0},{"$f":"E10*2.8","v":0},null,{"$f":"IF($F10>$G10,$F10-$G10,0)","v":0}]
[{"$f":"IF(AND(INTRO!$E$37=\"Endemic\",INTRO!$E$39=\"Non-endemic\"),IF(COUNTRY_INFO!A11=0,\" \",COUNTRY_INFO!A11),\" \")","v":" "},{"$f":"IF(AND(INTRO!$E$37=\"Endemic\",INTRO!$E$39=\"Non-endemic\"),IF(COUNTRY_INFO!B11=0,\" \",COUNTRY_INFO!B11),\" \")","v":" "},{"$f":"IF(AND(INTRO!$E$37=\"Endemic\",INTRO!$E$39=\"Non-endemic\"),IF(COUNTRY_INFO!C11=0,\" \",COUNTRY_INFO!C11),\" \")","v":" "},{"$f":"IF(COUNTRY_INFO!Z11<>\"\",COUNTRY_INFO!V11,0)","v":0},{"$f":"IF(AND(COUNTRY_INFO!Z11<>\"\",COUNTRY_INFO!$H11=1),COUNTRY_INFO!F11+COUNTRY_INFO!G11,0)","v":0},{"$f":"E11*2.8","v":0},null,0]
[{"$f":"IF(AND(INTRO!$E$37=\"Endemic\",INTRO!$E$39=\"Non-endemic\"),IF(COUNTRY_INFO!A12=0,\" \",COUNTRY_INFO!A12),\" \")","v":" "},{"$f":"IF(AND(INTRO!$E$37=\"Endemic\",INTRO!$E$39=\"Non-endemic\"),IF(COUNTRY_INFO!B12=0,\" \",COUNTRY_INFO!B12),\" \")","v":" "},{"$f":"IF(AND(INTRO!$E$37=\"Endemic\",INTRO!$E$39=\"Non-endemic\"),IF(COUNTRY_INFO!C12=0,\" \",COUNTRY_INFO!C12),\" \")","v":" "},{"$f":"IF(COUNTRY_INFO!Z12<>\"\",COUNTRY_INFO!V12,0)","v":0},{"$f":"IF(AND(COUNTRY_INFO!Z12<>\"\",COUNTRY_INFO!$H12=1),COUNTRY_INFO!F12+COUNTRY_INFO!G12,0)","v":0},0,null,0]
[{"$f":"IF(AND(INTRO!$E$37=\"Endemic\",INTRO!$E$39=\"Non-endemic\"),IF(COUNTRY_INFO!A13=0,\" \",COUNTRY_INFO!A13),\" \")","v":" "},{"$f":"IF(AND(INTRO!$E$37=\"Endemic\",INTRO!$E$39=\"Non-endemic\"),IF(COUNTRY_INFO!B13=0,\" \",COUNTRY_INFO!B13),\" \")","v":" "},{"$f":"IF(AND(INTRO!$E$37=\"Endemic\",INTRO!$E$39=\"Non-endemic\"),IF(COUNTRY_INFO!C13=0,\" \",COUNTRY_INFO!C13),\" \")","v":" "},{"$f":"IF(COUNTRY_INFO!Z13<>\"\",COUNTRY_INFO!V13,0)","v":0},{"$f":"IF(AND(COUNTRY_INFO!Z13<>\"\",COUNTRY_INFO!$H13=1),COUNTRY_INFO!F13+COUNTRY_INFO!G13,0)","v":0},0,null,0]
[{"$f":"IF(AND(INTRO!$E$37=\"Endemic\",INTRO!$E$39=\"Non-endemic\"),IF(COUNTRY_INFO!A14=0,\" \",COUNTRY_INFO!A14),\" \")","v":" "},{"$f":"IF(AND(INTRO!$E$37=\"Endemic\",INTRO!$E$39=\"Non-endemic\"),IF(COUNTRY_INFO!B14=0,\" \",COUNTRY_INFO!B14),\" \")","v":" "},{"$f":"IF(AND(INTRO!$E$37=\"Endemic\",INTRO!$E$39=\"Non-endemic\"),IF(COUNTRY_INFO!C14=0,\" \",COUNTRY_INFO!C14),\" \")","v":" "},{"$f":"IF(COUNTRY_INFO!Z14<>\"\",COUNTRY_INFO!V14,0)","v":0},{"$f":"IF(AND(COUNTRY_INFO!Z14<>\"\",COUNTRY_INFO!$H14=1),COUNTRY_INFO!F14+COUNTRY_INFO!G14,0)","v":0},0,null,0]
[{"$f":"IF(AND(INTRO!$E$37=\"Endemic\",INTRO!$E$39=\"Non-endemic\"),IF(COUNTRY_INFO!A15=0,\" \",COUNTRY_INFO!A15),\" \")","v":" "},{"$f":"IF(AND(INTRO!$E$37=\"Endemic\",INTRO!$E$39=\"Non-endemic\"),IF(COUNTRY_INFO!B15=0,\" \",COUNTRY_INFO!B15),\" \")","v":" "},{"$f":"IF(AND(INTRO!$E$37=\"Endemic\",INTRO!$E$39=\"Non-endemic\"),IF(COUNTRY_INFO!C15=0,\" \",COUNTRY_INFO!C15),\" \")","v":" "},{"$f":"IF(COUNTRY_INFO!Z15<>\"\",COUNTRY_INFO!V15,0)","v":0},{"$f":"IF(AND(COUNTRY_INFO!Z15<>\"\",COUNTRY_INFO!$H15=1),COUNTRY_INFO!F15+COUNTRY_INFO!G15,0)","v":0},0,null,0]
[{"$f":"IF(AND(INTRO!$E$37=\"Endemic\",INTRO!$E$39=\"Non-endemic\"),IF(COUNTRY_INFO!A16=0,\" \",COUNTRY_INFO!A16),\" \")","v":" "},{"$f":"IF(AND(INTRO!$E$37=\"Endemic\",INTRO!$E$39=\"Non-endemic\"),IF(COUNTRY_INFO!B16=0,\" \",COUNTRY_INFO!B16),\" \")","v":" "},{"$f":"IF(AND(INTRO!$E$37=\"Endemic\",INTRO!$E$39=\"Non-endemic\"),IF(COUNTRY_INFO!C16=0,\" \",COUNTRY_INFO!C16),\" \")","v":" "},{"$f":"IF(COUNTRY_INFO!Z16<>\"\",COUNTRY_INFO!V16,0)","v":0},{"$f":"IF(AND(COUNTRY_INFO!Z16<>\"\",COUNTRY_INFO!$H16=1),COUNTRY_INFO!F16+COUNTRY_INFO!G16,0)","v":0},0,null,0]
[{"$f":"IF(AND(INTRO!$E$37=\"Endemic\",INTRO!$E$39=\"Non-endemic\"),IF(COUNTRY_INFO!A17=0,\" \",COUNTRY_INFO!A17),\" \")","v":" "},{"$f":"IF(AND(INTRO!$E$37=\"Endemic\",INTRO!$E$39=\"Non-endemic\"),IF(COUNTRY_INFO!B17=0,\" \",COUNTRY_INFO!B17),\" \")","v":" "},{"$f":"IF(AND(INTRO!$E$37=\"Endemic\",INTRO!$E$39=\"Non-endemic\"),IF(COUNTRY_INFO!C17=0,\" \",COUNTRY_INFO!C17),\" \")","v":" "},{"$f":"IF(COUNTRY_INFO!Z17<>\"\",COUNTRY_INFO!V17,0)","v":0},{"$f":"IF(AND(COUNTRY_INFO!Z17<>\"\",COUNTRY_INFO!$H17=1),COUNTRY_INFO!F17+COUNTRY_INFO!G17,0)","v":0},0,null,0]
[{"$f":"IF(AND(INTRO!$E$37=\"Endemic\",INTRO!$E$39=\"Non-endemic\"),IF(COUNTRY_INFO!A18=0,\" \",COUNTRY_INFO!A18),\" \")","v":" "},{"$f":"IF(AND(INTRO!$E$37=\"Endemic\",INTRO!$E$39=\"Non-endemic\"),IF(COUNTRY_INFO!B18=0,\" \",COUNTRY_INFO!B18),\" \")","v":" "},{"$f":"IF(AND(INTRO!$E$37=\"Endemic\",INTRO!$E$39=\"Non-endemic\"),IF(COUNTRY_INFO!C18=0,\" \",COUNTRY_INFO!C18),\" \")","v":" "},{"$f":"IF(COUNTRY_INFO!Z18<>\"\",COUNTRY_INFO!V18,0)","v":0},{"$f":"IF(AND(COUNTRY_INFO!Z18<>\"\",COUNTRY_INFO!$H18=1),COUNTRY_INFO!F18+COUNTRY_INFO!G18,0)","v":0},0,null,0]
[{"$f":"IF(AND(INTRO!$E$37=\"Endemic\",INTRO!$E$39=\"Non-endemic\"),IF(COUNTRY_INFO!A19=0,\" \",COUNTRY_INFO!A19),\" \")","v":" "},{"$f":"IF(AND(INTRO!$E$37=\"Endemic\",INTRO!$E$39=\"Non-endemic\"),IF(COUNTRY_INFO!B19=0,\" \",COUNTRY_INFO!B19),\" \")","v":" "},{"$f":"IF(AND(INTRO!$E$37=\"Endemic\",INTRO!$E$39=\"Non-endemic\"),IF(COUNTRY_INFO!C19=0,\" \",COUNTRY_INFO!C19),\" \")","v":" "},{"$f":"IF(COUNTRY_INFO!Z19<>\"\",COUNTRY_INFO!V19,0)","v":0},{"$f":"IF(AND(COUNTRY_INFO!Z19<>\"\",COUNTRY_INFO!$H19=1),COUNTRY_INFO!F19+COUNTRY_INFO!G19,0)","v":0},0,null,0]
[{"$f":"IF(AND(INTRO!$E$37=\"Endemic\",INTRO!$E$39=\"Non-endemic\"),IF(COUNTRY_INFO!A20=0,\" \",COUNTRY_INFO!A20),\" \")","v":" "},{"$f":"IF(AND(INTRO!$E$37=\"Endemic\",INTRO!$E$39=\"Non-endemic\"),IF(COUNTRY_INFO!B20=0,\" \",COUNTRY_INFO!B20),\" \")","v":" "},{"$f":"IF(AND(INTRO!$E$37=\"Endemic\",INTRO!$E$39=\"Non-endemic\"),IF(COUNTRY_INFO!C20=0,\" \",COUNTRY_INFO!C20),\" \")","v":" "},{"$f":"IF(COUNTRY_INFO!Z20<>\"\",COUNTRY_INFO!V20,0)","v":0},{"$f":"IF(AND(COUNTRY_INFO!Z20<>\"\",COUNTRY_INFO!$H20=1),COUNTRY_INFO!F20+COUNTRY_INFO!G20,0)","v":0},0,null,0]
[{"$f":"IF(AND(INTRO!$E$37=\"Endemic\",INTRO!$E$39=\"Non-endemic\"),IF(COUNTRY_INFO!A21=0,\" \",COUNTRY_INFO!A21),\" \")","v":" "},{"$f":"IF(AND(INTRO!$E$37=\"Endemic\",INTRO!$E$39=\"Non-endemic\"),IF(COUNTRY_INFO!B21=0,\" \",COUNTRY_INFO!B21),\" \")","v":" "},{"$f":"IF(AND(INTRO!$E$37=\"Endemic\",INTRO!$E$39=\"Non-endemic\"),IF(COUNTRY_INFO!C21=0,\" \",COUNTRY_INFO!C21),\" \")","v":" "},{"$f":"IF(COUNTRY_INFO!Z21<>\"\",COUNTRY_INFO!V21,0)","v":0},{"$f":"IF(AND(COUNTRY_INFO!Z21<>\"\",COUNTRY_INFO!$H21=1),COUNTRY_INFO!F21+COUNTRY_INFO!G21,0)","v":0},0,null,0]
[{"$f":"IF(AND(INTRO!$E$37=\"Endemic\",INTRO!$E$39=\"Non-endemic\"),IF(COUNTRY_INFO!A22=0,\" \",COUNTRY_INFO!A22),\" \")","v":" "},{"$f":"IF(AND(INTRO!$E$37=\"Endemic\",INTRO!$E$39=\"Non-endemic\"),IF(COUNTRY_INFO!B22=0,\" \",COUNTRY_INFO!B22),\" \")","v":" "},{"$f":"IF(AND(INTRO!$E$37=\"Endemic\",INTRO!$E$39=\"Non-endemic\"),IF(COUNTRY_INFO!C22=0,\" \",COUNTRY_INFO!C22),\" \")","v":" "},{"$f":"IF(COUNTRY_INFO!Z22<>\"\",COUNTRY_INFO!V22,0)","v":0},{"$f":"IF(AND(COUNTRY_INFO!Z22<>\"\",COUNTRY_INFO!$H22=1),COUNTRY_INFO!F22+COUNTRY_INFO!G22,0)","v":0},0,null,0]
[{"$f":"IF(AND(INTRO!$E$37=\"Endemic\",INTRO!$E$39=\"Non-endemic\"),IF(COUNTRY_INFO!A23=0,\" \",COUNTRY_INFO!A23),\" \")","v":" "},{"$f":"IF(AND(INTRO!$E$37=\"Endemic\",INTRO!$E$39=\"Non-endemic\"),IF(COUNTRY_INFO!B23=0,\" \",COUNTRY_INFO!B23),\" \")","v":" "},{"$f":"IF(AND(INTRO!$E$37=\"Endemic\",INTRO!$E$39=\"Non-endemic\"),IF(COUNTRY_INFO!C23=0,\" \",COUNTRY_INFO!C23),\" \")","v":" "},{"$f":"IF(COUNTRY_INFO!Z23<>\"\",COUNTRY_INFO!V23,0)","v":0},{"$f":"IF(AND(COUNTRY_INFO!Z23<>\"\",COUNTRY_INFO!$H23=1),COUNTRY_INFO!F23+COUNTRY_INFO!G23,0)","v":0},0,null,0]
[{"$f":"IF(AND(INTRO!$E$37=\"Endemic\",INTRO!$E$39=\"Non-endemic\"),IF(COUNTRY_INFO!A24=0,\" \",COUNTRY_INFO!A24),\" \")","v":" "},{"$f":"IF(AND(INTRO!$E$37=\"Endemic\",INTRO!$E$39=\"Non-endemic\"),IF(COUNTRY_INFO!B24=0,\" \",COUNTRY_INFO!B24),\" \")","v":" "},{"$f":"IF(AND(INTRO!$E$37=\"Endemic\",INTRO!$E$39=\"Non-endemic\"),IF(COUNTRY_INFO!C24=0,\" \",COUNTRY_INFO!C24),\" \")","v":" "},{"$f":"IF(COUNTRY_INFO!Z24<>\"\",COUNTRY_INFO!V24,0)","v":0},{"$f":"IF(AND(COUNTRY_INFO!Z24<>\"\",COUNTRY_INFO!$H24=1),COUNTRY_INFO!F24+COUNTRY_INFO!G24,0)","v":0},0,null,0]
[{"$f":"IF(AND(INTRO!$E$37=\"Endemic\",INTRO!$E$39=\"Non-endemic\"),IF(COUNTRY_INFO!A25=0,\" \",COUNTRY_INFO!A25),\" \")","v":" "},{"$f":"IF(AND(INTRO!$E$37=\"Endemic\",INTRO!$E$39=\"Non-endemic\"),IF(COUNTRY_INFO!B25=0,\" \",COUNTRY_INFO!B25),\" \")","v":" "},{"$f":"IF(AND(INTRO!$E$37=\"Endemic\",INTRO!$E$39=\"Non-endemic\"),IF(COUNTRY_INFO!C25=0,\" \",COUNTRY_INFO!C25),\" \")","v":" "},{"$f":"IF(COUNTRY_INFO!Z25<>\"\",COUNTRY_INFO!V25,0)","v":0},{"$f":"IF(AND(COUNTRY_INFO!Z25<>\"\",COUNTRY_INFO!$H25=1),COUNTRY_INFO!F25+COUNTRY_INFO!G25,0)","v":0},0,null,0]
[{"$f":"IF(AND(INTRO!$E$37=\"Endemic\",INTRO!$E$39=\"Non-endemic\"),IF(COUNTRY_INFO!A26=0,\" \",COUNTRY_INFO!A26),\" \")","v":" "},{"$f":"IF(AND(INTRO!$E$37=\"Endemic\",INTRO!$E$39=\"Non-endemic\"),IF(COUNTRY_INFO!B26=0,\" \",COUNTRY_INFO!B26),\" \")","v":" "},{"$f":"IF(AND(INTRO!$E$37=\"Endemic\",INTRO!$E$39=\"Non-endemic\"),IF(COUNTRY_INFO!C26=0,\" \",COUNTRY_INFO!C26),\" \")","v":" "},{"$f":"IF(COUNTRY_INFO!Z26<>\"\",COUNTRY_INFO!V26,0)","v":0},{"$f":"IF(AND(COUNTRY_INFO!Z26<>\"\",COUNTRY_INFO!$H26=1),COUNTRY_INFO!F26+COUNTRY_INFO!G26,0)","v":0},0,null,0]
[{"$f":"IF(AND(INTRO!$E$37=\"Endemic\",INTRO!$E$39=\"Non-endemic\"),IF(COUNTRY_INFO!A27=0,\" \",COUNTRY_INFO!A27),\" \")","v":" "},{"$f":"IF(AND(INTRO!$E$37=\"Endemic\",INTRO!$E$39=\"Non-endemic\"),IF(COUNTRY_INFO!B27=0,\" \",COUNTRY_INFO!B27),\" \")","v":" "},{"$f":"IF(AND(INTRO!$E$37=\"Endemic\",INTRO!$E$39=\"Non-endemic\"),IF(COUNTRY_INFO!C27=0,\" \",COUNTRY_INFO!C27),\" \")","v":" "},{"$f":"IF(COUNTRY_INFO!Z27<>\"\",COUNTRY_INFO!V27,0)","v":0},{"$f":"IF(AND(COUNTRY_INFO!Z27<>\"\",COUNTRY_INFO!$H27=1),COUNTRY_INFO!F27+COUNTRY_INFO!G27,0)","v":0},0,null,0]
[{"$f":"IF(AND(INTRO!$E$37=\"Endemic\",INTRO!$E$39=\"Non-endemic\"),IF(COUNTRY_INFO!A28=0,\" \",COUNTRY_INFO!A28),\" \")","v":" "},{"$f":"IF(AND(INTRO!$E$37=\"Endemic\",INTRO!$E$39=\"Non-endemic\"),IF(COUNTRY_INFO!B28=0,\" \",COUNTRY_INFO!B28),\" \")","v":" "},{"$f":"IF(AND(INTRO!$E$37=\"Endemic\",INTRO!$E$39=\"Non-endemic\"),IF(COUNTRY_INFO!C28=0,\" \",COUNTRY_INFO!C28),\" \")","v":" "},{"$f":"IF(COUNTRY_INFO!Z28<>\"\",COUNTRY_INFO!V28,0)","v":0},{"$f":"IF(AND(COUNTRY_INFO!Z28<>\"\",COUNTRY_INFO!$H28=1),COUNTRY_INFO!F28+COUNTRY_INFO!G28,0)","v":0},0,null,0]
[{"$f":"IF(AND(INTRO!$E$37=\"Endemic\",INTRO!$E$39=\"Non-endemic\"),IF(COUNTRY_INFO!A29=0,\" \",COUNTRY_INFO!A29),\" \")","v":" "},{"$f":"IF(AND(INTRO!$E$37=\"Endemic\",INTRO!$E$39=\"Non-endemic\"),IF(COUNTRY_INFO!B29=0,\" \",COUNTRY_INFO!B29),\" \")","v":" "},{"$f":"IF(AND(INTRO!$E$37=\"Endemic\",INTRO!$E$39=\"Non-endemic\"),IF(COUNTRY_INFO!C29=0,\" \",COUNTRY_INFO!C29),\" \")","v":" "},{"$f":"IF(COUNTRY_INFO!Z29<>\"\",COUNTRY_INFO!V29,0)","v":0},{"$f":"IF(AND(COUNTRY_INFO!Z29<>\"\",COUNTRY_INFO!$H29=1),COUNTRY_INFO!F29+COUNTRY_INFO!G29,0)","v":0},0,null,0]
[{"$f":"IF(AND(INTRO!$E$37=\"Endemic\",INTRO!$E$39=\"Non-endemic\"),IF(COUNTRY_INFO!A30=0,\" \",COUNTRY_INFO!A30),\" \")","v":" "},{"$f":"IF(AND(INTRO!$E$37=\"Endemic\",INTRO!$E$39=\"Non-endemic\"),IF(COUNTRY_INFO!B30=0,\" \",COUNTRY_INFO!B30),\" \")","v":" "},{"$f":"IF(AND(INTRO!$E$37=\"Endemic\",INTRO!$E$39=\"Non-endemic\"),IF(COUNTRY_INFO!C30=0,\" \",COUNTRY_INFO!C30),\" \")","v":" "},{"$f":"IF(COUNTRY_INFO!Z30<>\"\",COUNTRY_INFO!V30,0)","v":0},{"$f":"IF(AND(COUNTRY_INFO!Z30<>\"\",COUNTRY_INFO!$H30=1),COUNTRY_INFO!F30+COUNTRY_INFO!G30,0)","v":0},0,null,0]
[{"$f":"IF(AND(INTRO!$E$37=\"Endemic\",INTRO!$E$39=\"Non-endemic\"),IF(COUNTRY_INFO!A31=0,\" \",COUNTRY_INFO!A31),\" \")","v":" "},{"$f":"IF(AND(INTRO!$E$37=\"Endemic\",INTRO!$E$39=\"Non-endemic\"),IF(COUNTRY_INFO!B31=0,\" \",COUNTRY_INFO!B31),\" \")","v":" "},{"$f":"IF(AND(INTRO!$E$37=\"Endemic\",INTRO!$E$39=\"Non-endemic\"),IF(COUNTRY_INFO!C31=0,\" \",COUNTRY_INFO!C31),\" \")","v":" "},{"$f":"IF(COUNTRY_INFO!Z31<>\"\",COUNTRY_INFO!V31,0)","v":0},{"$f":"IF(AND(COUNTRY_INFO!Z31<>\"\",COUNTRY_INFO!$H31=1),COUNTRY_INFO!F31+COUNTRY_INFO!G31,0)","v":0},0,null,0]
[{"$f":"IF(AND(INTRO!$E$37=\"Endemic\",INTRO!$E$39=\"Non-endemic\"),IF(COUNTRY_INFO!A32=0,\" \",COUNTRY_INFO!A32),\" \")","v":" "},{"$f":"IF(AND(INTRO!$E$37=\"Endemic\",INTRO!$E$39=\"Non-endemic\"),IF(COUNTRY_INFO!B32=0,\" \",COUNTRY_INFO!B32),\" \")","v":" "},{"$f":"IF(AND(INTRO!$E$37=\"Endemic\",INTRO!$E$39=\"Non-endemic\"),IF(COUNTRY_INFO!C32=0,\" \",COUNTRY_INFO!C32),\" \")","v":" "},{"$f":"IF(COUNTRY_INFO!Z32<>\"\",COUNTRY_INFO!V32,0)","v":0},{"$f":"IF(AND(COUNTRY_INFO!Z32<>\"\",COUNTRY_INFO!$H32=1),COUNTRY_INFO!F32+COUNTRY_INFO!G32,0)","v":0},0,null,0]
[{"$f":"IF(AND(INTRO!$E$37=\"Endemic\",INTRO!$E$39=\"Non-endemic\"),IF(COUNTRY_INFO!A33=0,\" \",COUNTRY_INFO!A33),\" \")","v":" "},{"$f":"IF(AND(INTRO!$E$37=\"Endemic\",INTRO!$E$39=\"Non-endemic\"),IF(COUNTRY_INFO!B33=0,\" \",COUNTRY_INFO!B33),\" \")","v":" "},{"$f":"IF(AND(INTRO!$E$37=\"Endemic\",INTRO!$E$39=\"Non-endemic\"),IF(COUNTRY_INFO!C33=0,\" \",COUNTRY_INFO!C33),\" \")","v":" "},{"$f":"IF(COUNTRY_INFO!Z33<>\"\",COUNTRY_INFO!V33,0)","v":0},{"$f":"IF(AND(COUNTRY_INFO!Z33<>\"\",COUNTRY_INFO!$H33=1),COUNTRY_INFO!F33+COUNTRY_INFO!G33,0)","v":0},0,null,0]
[{"$f":"IF(AND(INTRO!$E$37=\"Endemic\",INTRO!$E$39=\"Non-endemic\"),IF(COUNTRY_INFO!A34=0,\" \",COUNTRY_INFO!A34),\" \")","v":" "},{"$f":"IF(AND(INTRO!$E$37=\"Endemic\",INTRO!$E$39=\"Non-endemic\"),IF(COUNTRY_INFO!B34=0,\" \",COUNTRY_INFO!B34),\" \")","v":" "},{"$f":"IF(AND(INTRO!$E$37=\"Endemic\",INTRO!$E$39=\"Non-endemic\"),IF(COUNTRY_INFO!C34=0,\" \",COUNTRY_INFO!C34),\" \")","v":" "},{"$f":"IF(COUNTRY_INFO!Z34<>\"\",COUNTRY_INFO!V34,0)","v":0},{"$f":"IF(AND(COUNTRY_INFO!Z34<>\"\",COUNTRY_INFO!$H34=1),COUNTRY_INFO!F34+COUNTRY_INFO!G34,0)","v":0},0,null,0]
[{"$f":"IF(AND(INTRO!$E$37=\"Endemic\",INTRO!$E$39=\"Non-endemic\"),IF(COUNTRY_INFO!A35=0,\" \",COUNTRY_INFO!A35),\" \")","v":" "},{"$f":"IF(AND(INTRO!$E$37=\"Endemic\",INTRO!$E$39=\"Non-endemic\"),IF(COUNTRY_INFO!B35=0,\" \",COUNTRY_INFO!B35),\" \")","v":" "},{"$f":"IF(AND(INTRO!$E$37=\"Endemic\",INTRO!$E$39=\"Non-endemic\"),IF(COUNTRY_INFO!C35=0,\" \",COUNTRY_INFO!C35),\" \")","v":" "},{"$f":"IF(COUNTRY_INFO!Z35<>\"\",COUNTRY_INFO!V35,0)","v":0},{"$f":"IF(AND(COUNTRY_INFO!Z35<>\"\",COUNTRY_INFO!$H35=1),COUNTRY_INFO!F35+COUNTRY_INFO!G35,0)","v":0},0,null,0]
[{"$f":"IF(AND(INTRO!$E$37=\"Endemic\",INTRO!$E$39=\"Non-endemic\"),IF(COUNTRY_INFO!A36=0,\" \",COUNTRY_INFO!A36),\" \")","v":" "},{"$f":"IF(AND(INTRO!$E$37=\"Endemic\",INTRO!$E$39=\"Non-endemic\"),IF(COUNTRY_INFO!B36=0,\" \",COUNTRY_INFO!B36),\" \")","v":" "},{"$f":"IF(AND(INTRO!$E$37=\"Endemic\",INTRO!$E$39=\"Non-endemic\"),IF(COUNTRY_INFO!C36=0,\" \",COUNTRY_INFO!C36),\" \")","v":" "},{"$f":"IF(COUNTRY_INFO!Z36<>\"\",COUNTRY_INFO!V36,0)","v":0},{"$f":"IF(AND(COUNTRY_INFO!Z36<>\"\",COUNTRY_INFO!$H36=1),COUNTRY_INFO!F36+COUNTRY_INFO!G36,0)","v":0},0,null,0]
[{"$f":"IF(AND(INTRO!$E$37=\"Endemic\",INTRO!$E$39=\"Non-endemic\"),IF(COUNTRY_INFO!A37=0,\" \",COUNTRY_INFO!A37),\" \")","v":" "},{"$f":"IF(AND(INTRO!$E$37=\"Endemic\",INTRO!$E$39=\"Non-endemic\"),IF(COUNTRY_INFO!B37=0,\" \",COUNTRY_INFO!B37),\" \")","v":" "},{"$f":"IF(AND(INTRO!$E$37=\"Endemic\",INTRO!$E$39=\"Non-endemic\"),IF(COUNTRY_INFO!C37=0,\" \",COUNTRY_INFO!C37),\" \")","v":" "},{"$f":"IF(COUNTRY_INFO!Z37<>\"\",COUNTRY_INFO!V37,0)","v":0},{"$f":"IF(AND(COUNTRY_INFO!Z37<>\"\",COUNTRY_INFO!$H37=1),COUNTRY_INFO!F37+COUNTRY_INFO!G37,0)","v":0},0,null,0]
[{"$f":"IF(AND(INTRO!$E$37=\"Endemic\",INTRO!$E$39=\"Non-endemic\"),IF(COUNTRY_INFO!A38=0,\" \",COUNTRY_INFO!A38),\" \")","v":" "},{"$f":"IF(AND(INTRO!$E$37=\"Endemic\",INTRO!$E$39=\"Non-endemic\"),IF(COUNTRY_INFO!B38=0,\" \",COUNTRY_INFO!B38),\" \")","v":" "},{"$f":"IF(AND(INTRO!$E$37=\"Endemic\",INTRO!$E$39=\"Non-endemic\"),IF(COUNTRY_INFO!C38=0,\" \",COUNTRY_INFO!C38),\" \")","v":" "},{"$f":"IF(COUNTRY_INFO!Z38<>\"\",COUNTRY_INFO!V38,0)","v":0},{"$f":"IF(AND(COUNTRY_INFO!Z38<>\"\",COUNTRY_INFO!$H38=1),COUNTRY_INFO!F38+COUNTRY_INFO!G38,0)","v":0},0,null,0]
[{"$f":"IF(AND(INTRO!$E$37=\"Endemic\",INTRO!$E$39=\"Non-endemic\"),IF(COUNTRY_INFO!A39=0,\" \",COUNTRY_INFO!A39),\" \")","v":" "},{"$f":"IF(AND(INTRO!$E$37=\"Endemic\",INTRO!$E$39=\"Non-endemic\"),IF(COUNTRY_INFO!B39=0,\" \",COUNTRY_INFO!B39),\" \")","v":" "},{"$f":"IF(AND(INTRO!$E$37=\"Endemic\",INTRO!$E$39=\"Non-endemic\"),IF(COUNTRY_INFO!C39=0,\" \",COUNTRY_INFO!C39),\" \")","v":" "},{"$f":"IF(COUNTRY_INFO!Z39<>\"\",COUNTRY_INFO!V39,0)","v":0},{"$f":"IF(AND(COUNTRY_INFO!Z39<>\"\",COUNTRY_INFO!$H39=1),COUNTRY_INFO!F39+COUNTRY_INFO!G39,0)","v":0},0,null,0]
[{"$f":"IF(AND(INTRO!$E$37=\"Endemic\",INTRO!$E$39=\"Non-endemic\"),IF(COUNTRY_INFO!A40=0,\" \",COUNTRY_INFO!A40),\" \")","v":" "},{"$f":"IF(AND(INTRO!$E$37=\"Endemic\",INTRO!$E$39=\"Non-endemic\"),IF(COUNTRY_INFO!B40=0,\" \",COUNTRY_INFO!B40),\" \")","v":" "},{"$f":"IF(AND(INTRO!$E$37=\"Endemic\",INTRO!$E$39=\"Non-endemic\"),IF(COUNTRY_INFO!C40=0,\" \",COUNTRY_INFO!C40),\" \")","v":" "},{"$f":"IF(COUNTRY_INFO!Z40<>\"\",COUNTRY_INFO!V40,0)","v":0},{"$f":"IF(AND(COUNTRY_INFO!Z40<>\"\",COUNTRY_INFO!$H40=1),COUNTRY_INFO!F40+COUNTRY_INFO!G40,0)","v":0},0,null,0]
[{"$f":"IF(AND(INTRO!$E$37=\"Endemic\",INTRO!$E$39=\"Non-endemic\"),IF(COUNTRY_INFO!A41=0,\" \",COUNTRY_INFO!A41),\" \")","v":" "},{"$f":"IF(AND(INTRO!$E$37=\"Endemic\",INTRO!$E$39=\"Non-endemic\"),IF(COUNTRY_INFO!B41=0,\" \",COUNTRY_INFO!B41),\" \")","v":" "},{"$f":"IF(AND(INTRO!$E$37=\"Endemic\",INTRO!$E$39=\"Non-endemic\"),IF(COUNTRY_INFO!C41=0,\" \",COUNTRY_INFO!C41),\" \")","v":" "},{"$f":"IF(COUNTRY_INFO!Z41<>\"\",COUNTRY_INFO!V41,0)","v":0},{"$f":"IF(AND(COUNTRY_INFO!Z41<>\"\",COUNTRY_INFO!$H41=1),COUNTRY_INFO!F41+COUNTRY_INFO!G41,0)","v":0},0,null,0]
[{"$f":"IF(AND(INTRO!$E$37=\"Endemic\",INTRO!$E$39=\"Non-endemic\"),IF(COUNTRY_INFO!A42=0,\" \",COUNTRY_INFO!A42),\" \")","v":" "},{"$f":"IF(AND(INTRO!$E$37=\"Endemic\",INTRO!$E$39=\"Non-endemic\"),IF(COUNTRY_INFO!B42=0,\" \",COUNTRY_INFO!B42),\" \")","v":" "},{"$f":"IF(AND(INTRO!$E$37=\"Endemic\",INTRO!$E$39=\"Non-endemic\"),IF(COUNTRY_INFO!C42=0,\" \",COUNTRY_INFO!C42),\" \")","v":" "},{"$f":"IF(COUNTRY_INFO!Z42<>\"\",COUNTRY_INFO!V42,0)","v":0},{"$f":"IF(AND(COUNTRY_INFO!Z42<>\"\",COUNTRY_INFO!$H42=1),COUNTRY_INFO!F42+COUNTRY_INFO!G42,0)","v":0},0,null,0]
[{"$f":"IF(AND(INTRO!$E$37=\"Endemic\",INTRO!$E$39=\"Non-endemic\"),IF(COUNTRY_INFO!A43=0,\" \",COUNTRY_INFO!A43),\" \")","v":" "},{"$f":"IF(AND(INTRO!$E$37=\"Endemic\",INTRO!$E$39=\"Non-endemic\"),IF(COUNTRY_INFO!B43=0,\" \",COUNTRY_INFO!B43),\" \")","v":" "},{"$f":"IF(AND(INTRO!$E$37=\"Endemic\",INTRO!$E$39=\"Non-endemic\"),IF(COUNTRY_INFO!C43=0,\" \",COUNTRY_INFO!C43),\" \")","v":" "},{"$f":"IF(COUNTRY_INFO!Z43<>\"\",COUNTRY_INFO!V43,0)","v":0},{"$f":"IF(AND(COUNTRY_INFO!Z43<>\"\",COUNTRY_INFO!$H43=1),COUNTRY_INFO!F43+COUNTRY_INFO!G43,0)","v":0},0,null,0]
[{"$f":"IF(AND(INTRO!$E$37=\"Endemic\",INTRO!$E$39=\"Non-endemic\"),IF(COUNTRY_INFO!A44=0,\" \",COUNTRY_INFO!A44),\" \")","v":" "},{"$f":"IF(AND(INTRO!$E$37=\"Endemic\",INTRO!$E$39=\"Non-endemic\"),IF(COUNTRY_INFO!B44=0,\" \",COUNTRY_INFO!B44),\" \")","v":" "},{"$f":"IF(AND(INTRO!$E$37=\"Endemic\",INTRO!$E$39=\"Non-endemic\"),IF(COUNTRY_INFO!C44=0,\" \",COUNTRY_INFO!C44),\" \")","v":" "},{"$f":"IF(COUNTRY_INFO!Z44<>\"\",COUNTRY_INFO!V44,0)","v":0},{"$f":"IF(AND(COUNTRY_INFO!Z44<>\"\",COUNTRY_INFO!$H44=1),COUNTRY_INFO!F44+COUNTRY_INFO!G44,0)","v":0},0,null,0]
[{"$f":"IF(AND(INTRO!$E$37=\"Endemic\",INTRO!$E$39=\"Non-endemic\"),IF(COUNTRY_INFO!A45=0,\" \",COUNTRY_INFO!A45),\" \")","v":" "},{"$f":"IF(AND(INTRO!$E$37=\"Endemic\",INTRO!$E$39=\"Non-endemic\"),IF(COUNTRY_INFO!B45=0,\" \",COUNTRY_INFO!B45),\" \")","v":" "},{"$f":"IF(AND(INTRO!$E$37=\"Endemic\",INTRO!$E$39=\"Non-endemic\"),IF(COUNTRY_INFO!C45=0,\" \",COUNTRY_INFO!C45),\" \")","v":" "},{"$f":"IF(COUNTRY_INFO!Z45<>\"\",COUNTRY_INFO!V45,0)","v":0},{"$f":"IF(AND(COUNTRY_INFO!Z45<>\"\",COUNTRY_INFO!$H45=1),COUNTRY_INFO!F45+COUNTRY_INFO!G45,0)","v":0},0,null,0]
[{"$f":"IF(AND(INTRO!$E$37=\"Endemic\",INTRO!$E$39=\"Non-endemic\"),IF(COUNTRY_INFO!A46=0,\" \",COUNTRY_INFO!A46),\" \")","v":" "},{"$f":"IF(AND(INTRO!$E$37=\"Endemic\",INTRO!$E$39=\"Non-endemic\"),IF(COUNTRY_INFO!B46=0,\" \",COUNTRY_INFO!B46),\" \")","v":" "},{"$f":"IF(AND(INTRO!$E$37=\"Endemic\",INTRO!$E$39=\"Non-endemic\"),IF(COUNTRY_INFO!C46=0,\" \",COUNTRY_INFO!C46),\" \")","v":" "},{"$f":"IF(COUNTRY_INFO!Z46<>\"\",COUNTRY_INFO!V46,0)","v":0},{"$f":"IF(AND(COUNTRY_INFO!Z46<>\"\",COUNTRY_INFO!$H46=1),COUNTRY_INFO!F46+COUNTRY_INFO!G46,0)","v":0},0,null,0]
[{"$f":"IF(AND(INTRO!$E$37=\"Endemic\",INTRO!$E$39=\"Non-endemic\"),IF(COUNTRY_INFO!A47=0,\" \",COUNTRY_INFO!A47),\" \")","v":" "},{"$f":"IF(AND(INTRO!$E$37=\"Endemic\",INTRO!$E$39=\"Non-endemic\"),IF(COUNTRY_INFO!B47=0,\" \",COUNTRY_INFO!B47),\" \")","v":" "},{"$f":"IF(AND(INTRO!$E$37=\"Endemic\",INTRO!$E$39=\"Non-endemic\"),IF(COUNTRY_INFO!C47=0,\" \",COUNTRY_INFO!C47),\" \")","v":" "},{"$f":"IF(COUNTRY_INFO!Z47<>\"\",COUNTRY_INFO!V47,0)","v":0},{"$f":"IF(AND(COUNTRY_INFO!Z47<>\"\",COUNTRY_INFO!$H47=1),COUNTRY_INFO!F47+COUNTRY_INFO!G47,0)","v":0},0,null,0]
[{"$f":"IF(AND(INTRO!$E$37=\"Endemic\",INTRO!$E$39=\"Non-endemic\"),IF(COUNTRY_INFO!A48=0,\" \",COUNTRY_INFO!A48),\" \")","v":" "},{"$f":"IF(AND(INTRO!$E$37=\"Endemic\",INTRO!$E$39=\"Non-endemic\"),IF(COUNTRY_INFO!B48=0,\" \",COUNTRY_INFO!B48),\" \")","v":" "},{"$f":"IF(AND(INTRO!$E$37=\"Endemic\",INTRO!$E$39=\"Non-endemic\"),IF(COUNTRY_INFO!C48=0,\" \",COUNTRY_INFO!C48),\" \")","v":" "},{"$f":"IF(COUNTRY_INFO!Z48<>\"\",COUNTRY_INFO!V48,0)","v":0},{"$f":"IF(AND(COUNTRY_INFO!Z48<>\"\",COUNTRY_INFO!$H48=1),COUNTRY_INFO!F48+COUNTRY_INFO!G48,0)","v":0},0,null,0]
[{"$f":"IF(AND(INTRO!$E$37=\"Endemic\",INTRO!$E$39=\"Non-endemic\"),IF(COUNTRY_INFO!A49=0,\" \",COUNTRY_INFO!A49),\" \")","v":" "},{"$f":"IF(AND(INTRO!$E$37=\"Endemic\",INTRO!$E$39=\"Non-endemic\"),IF(COUNTRY_INFO!B49=0,\" \",COUNTRY_INFO!B49),\" \")","v":" "},{"$f":"IF(AND(INTRO!$E$37=\"Endemic\",INTRO!$E$39=\"Non-endemic\"),IF(COUNTRY_INFO!C49=0,\" \",COUNTRY_INFO!C49),\" \")","v":" "},{"$f":"IF(COUNTRY_INFO!Z49<>\"\",COUNTRY_INFO!V49,0)","v":0},{"$f":"IF(AND(COUNTRY_INFO!Z49<>\"\",COUNTRY_INFO!$H49=1),COUNTRY_INFO!F49+COUNTRY_INFO!G49,0)","v":0},0,null,0]
[{"$f":"IF(AND(INTRO!$E$37=\"Endemic\",INTRO!$E$39=\"Non-endemic\"),IF(COUNTRY_INFO!A50=0,\" \",COUNTRY_INFO!A50),\" \")","v":" "},{"$f":"IF(AND(INTRO!$E$37=\"Endemic\",INTRO!$E$39=\"Non-endemic\"),IF(COUNTRY_INFO!B50=0,\" \",COUNTRY_INFO!B50),\" \")","v":" "},{"$f":"IF(AND(INTRO!$E$37=\"Endemic\",INTRO!$E$39=\"Non-endemic\"),IF(COUNTRY_INFO!C50=0,\" \",COUNTRY_INFO!C50),\" \")","v":" "},{"$f":"IF(COUNTRY_INFO!Z50<>\"\",COUNTRY_INFO!V50,0)","v":0},{"$f":"IF(AND(COUNTRY_INFO!Z50<>\"\",COUNTRY_INFO!$H50=1),COUNTRY_INFO!F50+COUNTRY_INFO!G50,0)","v":0},0,null,0]
[{"$f":"IF(AND(INTRO!$E$37=\"Endemic\",INTRO!$E$39=\"Non-endemic\"),IF(COUNTRY_INFO!A51=0,\" \",COUNTRY_INFO!A51),\" \")","v":" "},{"$f":"IF(AND(INTRO!$E$37=\"Endemic\",INTRO!$E$39=\"Non-endemic\"),IF(COUNTRY_INFO!B51=0,\" \",COUNTRY_INFO!B51),\" \")","v":" "},{"$f":"IF(AND(INTRO!$E$37=\"Endemic\",INTRO!$E$39=\"Non-endemic\"),IF(COUNTRY_INFO!C51=0,\" \",COUNTRY_INFO!C51),\" \")","v":" "},{"$f":"IF(COUNTRY_INFO!Z51<>\"\",COUNTRY_INFO!V51,0)","v":0},{"$f":"IF(AND(COUNTRY_INFO!Z51<>\"\",COUNTRY_INFO!$H51=1),COUNTRY_INFO!F51+COUNTRY_INFO!G51,0)","v":0},0,null,0]
[{"$f":"IF(AND(INTRO!$E$37=\"Endemic\",INTRO!$E$39=\"Non-endemic\"),IF(COUNTRY_INFO!A52=0,\" \",COUNTRY_INFO!A52),\" \")","v":" "},{"$f":"IF(AND(INTRO!$E$37=\"Endemic\",INTRO!$E$39=\"Non-endemic\"),IF(COUNTRY_INFO!B52=0,\" \",COUNTRY_INFO!B52),\" \")","v":" "},{"$f":"IF(AND(INTRO!$E$37=\"Endemic\",INTRO!$E$39=\"Non-endemic\"),IF(COUNTRY_INFO!C52=0,\" \",COUNTRY_INFO!C52),\" \")","v":" "},{"$f":"IF(COUNTRY_INFO!Z52<>\"\",COUNTRY_INFO!V52,0)","v":0},{"$f":"IF(AND(COUNTRY_INFO!Z52<>\"\",COUNTRY_INFO!$H52=1),COUNTRY_INFO!F52+COUNTRY_INFO!G52,0)","v":0},0,null,0]
[{"$f":"IF(AND(INTRO!$E$37=\"Endemic\",INTRO!$E$39=\"Non-endemic\"),IF(COUNTRY_INFO!A53=0,\" \",COUNTRY_INFO!A53),\" \")","v":" "},{"$f":"IF(AND(INTRO!$E$37=\"Endemic\",INTRO!$E$39=\"Non-endemic\"),IF(COUNTRY_INFO!B53=0,\" \",COUNTRY_INFO!B53),\" \")","v":" "},{"$f":"IF(AND(INTRO!$E$37=\"Endemic\",INTRO!$E$39=\"Non-endemic\"),IF(COUNTRY_INFO!C53=0,\" \",COUNTRY_INFO!C53),\" \")","v":" "},{"$f":"IF(COUNTRY_INFO!Z53<>\"\",COUNTRY_INFO!V53,0)","v":0},{"$f":"IF(AND(COUNTRY_INFO!Z53<>\"\",COUNTRY_INFO!$H53=1),COUNTRY_INFO!F53+COUNTRY_INFO!G53,0)","v":0},0,null,0]
[{"$f":"IF(AND(INTRO!$E$37=\"Endemic\",INTRO!$E$39=\"Non-endemic\"),IF(COUNTRY_INFO!A54=0,\" \",COUNTRY_INFO!A54),\" \")","v":" "},{"$f":"IF(AND(INTRO!$E$37=\"Endemic\",INTRO!$E$39=\"Non-endemic\"),IF(COUNTRY_INFO!B54=0,\" \",COUNTRY_INFO!B54),\" \")","v":" "},{"$f":"IF(AND(INTRO!$E$37=\"Endemic\",INTRO!$E$39=\"Non-endemic\"),IF(COUNTRY_INFO!C54=0,\" \",COUNTRY_INFO!C54),\" \")","v":" "},{"$f":"IF(COUNTRY_INFO!Z54<>\"\",COUNTRY_INFO!V54,0)","v":0},{"$f":"IF(AND(COUNTRY_INFO!Z54<>\"\",COUNTRY_INFO!$H54=1),COUNTRY_INFO!F54+COUNTRY_INFO!G54,0)","v":0},0,null,0]
[{"$f":"IF(AND(INTRO!$E$37=\"Endemic\",INTRO!$E$39=\"Non-endemic\"),IF(COUNTRY_INFO!A55=0,\" \",COUNTRY_INFO!A55),\" \")","v":" "},{"$f":"IF(AND(INTRO!$E$37=\"Endemic\",INTRO!$E$39=\"Non-endemic\"),IF(COUNTRY_INFO!B55=0,\" \",COUNTRY_INFO!B55),\" \")","v":" "},{"$f":"IF(AND(INTRO!$E$37=\"Endemic\",INTRO!$E$39=\"Non-endemic\"),IF(COUNTRY_INFO!C55=0,\" \",COUNTRY_INFO!C55),\" \")","v":" "},{"$f":"IF(COUNTRY_INFO!Z55<>\"\",COUNTRY_INFO!V55,0)","v":0},{"$f":"IF(AND(COUNTRY_INFO!Z55<>\"\",COUNTRY_INFO!$H55=1),COUNTRY_INFO!F55+COUNTRY_INFO!G55,0)","v":0},0,null,0]
[{"$f":"IF(AND(INTRO!$E$37=\"Endemic\",INTRO!$E$39=\"Non-endemic\"),IF(COUNTRY_INFO!A56=0,\" \",COUNTRY_INFO!A56),\" \")","v":" "},{"$f":"IF(AND(INTRO!$E$37=\"Endemic\",INTRO!$E$39=\"Non-endemic\"),IF(COUNTRY_INFO!B56=0,\" \",COUNTRY_INFO!B56),\" \")","v":" "},{"$f":"IF(AND(INTRO!$E$37=\"Endemic\",INTRO!$E$39=\"Non-endemic\"),IF(COUNTRY_INFO!C56=0,\" \",COUNTRY_INFO!C56),\" \")","v":" "},{"$f":"IF(COUNTRY_INFO!Z56<>\"\",COUNTRY_INFO!V56,0)","v":0},{"$f":"IF(AND(COUNTRY_INFO!Z56<>\"\",COUNTRY_INFO!$H56=1),COUNTRY_INFO!F56+COUNTRY_INFO!G56,0)","v":0},0,null,0]
[{"$f":"IF(AND(INTRO!$E$37=\"Endemic\",INTRO!$E$39=\"Non-endemic\"),IF(COUNTRY_INFO!A57=0,\" \",COUNTRY_INFO!A57),\" \")","v":" "},{"$f":"IF(AND(INTRO!$E$37=\"Endemic\",INTRO!$E$39=\"Non-endemic\"),IF(COUNTRY_INFO!B57=0,\" \",COUNTRY_INFO!B57),\" \")","v":" "},{"$f":"IF(AND(INTRO!$E$37=\"Endemic\",INTRO!$E$39=\"Non-endemic\"),IF(COUNTRY_INFO!C57=0,\" \",COUNTRY_INFO!C57),\" \")","v":" "},{"$f":"IF(COUNTRY_INFO!Z57<>\"\",COUNTRY_INFO!V57,0)","v":0},{"$f":"IF(AND(COUNTRY_INFO!Z57<>\"\",COUNTRY_INFO!$H57=1),COUNTRY_INFO!F57+COUNTRY_INFO!G57,0)","v":0},0,null,0]
[{"$f":"IF(AND(INTRO!$E$37=\"Endemic\",INTRO!$E$39=\"Non-endemic\"),IF(COUNTRY_INFO!A58=0,\" \",COUNTRY_INFO!A58),\" \")","v":" "},{"$f":"IF(AND(INTRO!$E$37=\"Endemic\",INTRO!$E$39=\"Non-endemic\"),IF(COUNTRY_INFO!B58=0,\" \",COUNTRY_INFO!B58),\" \")","v":" "},{"$f":"IF(AND(INTRO!$E$37=\"Endemic\",INTRO!$E$39=\"Non-endemic\"),IF(COUNTRY_INFO!C58=0,\" \",COUNTRY_INFO!C58),\" \")","v":" "},{"$f":"IF(COUNTRY_INFO!Z58<>\"\",COUNTRY_INFO!V58,0)","v":0},{"$f":"IF(AND(COUNTRY_INFO!Z58<>\"\",COUNTRY_INFO!$H58=1),COUNTRY_INFO!F58+COUNTRY_INFO!G58,0)","v":0},0,null,0]
[{"$f":"IF(AND(INTRO!$E$37=\"Endemic\",INTRO!$E$39=\"Non-endemic\"),IF(COUNTRY_INFO!A59=0,\" \",COUNTRY_INFO!A59),\" \")","v":" "},{"$f":"IF(AND(INTRO!$E$37=\"Endemic\",INTRO!$E$39=\"Non-endemic\"),IF(COUNTRY_INFO!B59=0,\" \",COUNTRY_INFO!B59),\" \")","v":" "},{"$f":"IF(AND(INTRO!$E$37=\"Endemic\",INTRO!$E$39=\"Non-endemic\"),IF(COUNTRY_INFO!C59=0,\" \",COUNTRY_INFO!C59),\" \")","v":" "},{"$f":"IF(COUNTRY_INFO!Z59<>\"\",COUNTRY_INFO!V59,0)","v":0},{"$f":"IF(AND(COUNTRY_INFO!Z59<>\"\",COUNTRY_INFO!$H59=1),COUNTRY_INFO!F59+COUNTRY_INFO!G59,0)","v":0},0,null,0]
[{"$f":"IF(AND(INTRO!$E$37=\"Endemic\",INTRO!$E$39=\"Non-endemic\"),IF(COUNTRY_INFO!A60=0,\" \",COUNTRY_INFO!A60),\" \")","v":" "},{"$f":"IF(AND(INTRO!$E$37=\"Endemic\",INTRO!$E$39=\"Non-endemic\"),IF(COUNTRY_INFO!B60=0,\" \",COUNTRY_INFO!B60),\" \")","v":" "},{"$f":"IF(AND(INTRO!$E$37=\"Endemic\",INTRO!$E$39=\"Non-endemic\"),IF(COUNTRY_INFO!C60=0,\" \",COUNTRY_INFO!C60),\" \")","v":" "},{"$f":"IF(COUNTRY_INFO!Z60<>\"\",COUNTRY_INFO!V60,0)","v":0},{"$f":"IF(AND(COUNTRY_INFO!Z60<>\"\",COUNTRY_INFO!$H60=1),COUNTRY_INFO!F60+COUNTRY_INFO!G60,0)","v":0},0,null,0]
[{"$f":"IF(AND(INTRO!$E$37=\"Endemic\",INTRO!$E$39=\"Non-endemic\"),IF(COUNTRY_INFO!A61=0,\" \",COUNTRY_INFO!A61),\" \")","v":" "},{"$f":"IF(AND(INTRO!$E$37=\"Endemic\",INTRO!$E$39=\"Non-endemic\"),IF(COUNTRY_INFO!B61=0,\" \",COUNTRY_INFO!B61),\" \")","v":" "},{"$f":"IF(AND(INTRO!$E$37=\"Endemic\",INTRO!$E$39=\"Non-endemic\"),IF(COUNTRY_INFO!C61=0,\" \",COUNTRY_INFO!C61),\" \")","v":" "},{"$f":"IF(COUNTRY_INFO!Z61<>\"\",COUNTRY_INFO!V61,0)","v":0},{"$f":"IF(AND(COUNTRY_INFO!Z61<>\"\",COUNTRY_INFO!$H61=1),COUNTRY_INFO!F61+COUNTRY_INFO!G61,0)","v":0},0,null,0]
[{"$f":"IF(AND(INTRO!$E$37=\"Endemic\",INTRO!$E$39=\"Non-endemic\"),IF(COUNTRY_INFO!A62=0,\" \",COUNTRY_INFO!A62),\" \")","v":" "},{"$f":"IF(AND(INTRO!$E$37=\"Endemic\",INTRO!$E$39=\"Non-endemic\"),IF(COUNTRY_INFO!B62=0,\" \",COUNTRY_INFO!B62),\" \")","v":" "},{"$f":"IF(AND(INTRO!$E$37=\"Endemic\",INTRO!$E$39=\"Non-endemic\"),IF(COUNTRY_INFO!C62=0,\" \",COUNTRY_INFO!C62),\" \")","v":" "},{"$f":"IF(COUNTRY_INFO!Z62<>\"\",COUNTRY_INFO!V62,0)","v":0},{"$f":"IF(AND(COUNTRY_INFO!Z62<>\"\",COUNTRY_INFO!$H62=1),COUNTRY_INFO!F62+COUNTRY_INFO!G62,0)","v":0},0,null,0]
[{"$f":"IF(AND(INTRO!$E$37=\"Endemic\",INTRO!$E$39=\"Non-endemic\"),IF(COUNTRY_INFO!A63=0,\" \",COUNTRY_INFO!A63),\" \")","v":" "},{"$f":"IF(AND(INTRO!$E$37=\"Endemic\",INTRO!$E$39=\"Non-endemic\"),IF(COUNTRY_INFO!B63=0,\" \",COUNTRY_INFO!B63),\" \")","v":" "},{"$f":"IF(AND(INTRO!$E$37=\"Endemic\",INTRO!$E$39=\"Non-endemic\"),IF(COUNTRY_INFO!C63=0,\" \",COUNTRY_INFO!C63),\" \")","v":" "},{"$f":"IF(COUNTRY_INFO!Z63<>\"\",COUNTRY_INFO!V63,0)","v":0},{"$f":"IF(AND(COUNTRY_INFO!Z63<>\"\",COUNTRY_INFO!$H63=1),COUNTRY_INFO!F63+COUNTRY_INFO!G63,0)","v":0},0,null,0]
[{"$f":"IF(AND(INTRO!$E$37=\"Endemic\",INTRO!$E$39=\"Non-endemic\"),IF(COUNTRY_INFO!A64=0,\" \",COUNTRY_INFO!A64),\" \")","v":" "},{"$f":"IF(AND(INTRO!$E$37=\"Endemic\",INTRO!$E$39=\"Non-endemic\"),IF(COUNTRY_INFO!B64=0,\" \",COUNTRY_INFO!B64),\" \")","v":" "},{"$f":"IF(AND(INTRO!$E$37=\"Endemic\",INTRO!$E$39=\"Non-endemic\"),IF(COUNTRY_INFO!C64=0,\" \",COUNTRY_INFO!C64),\" \")","v":" "},{"$f":"IF(COUNTRY_INFO!Z64<>\"\",COUNTRY_INFO!V64,0)","v":0},{"$f":"IF(AND(COUNTRY_INFO!Z64<>\"\",COUNTRY_INFO!$H64=1),COUNTRY_INFO!F64+COUNTRY_INFO!G64,0)","v":0},0,null,0]
[{"$f":"IF(AND(INTRO!$E$37=\"Endemic\",INTRO!$E$39=\"Non-endemic\"),IF(COUNTRY_INFO!A65=0,\" \",COUNTRY_INFO!A65),\" \")","v":" "},{"$f":"IF(AND(INTRO!$E$37=\"Endemic\",INTRO!$E$39=\"Non-endemic\"),IF(COUNTRY_INFO!B65=0,\" \",COUNTRY_INFO!B65),\" \")","v":" "},{"$f":"IF(AND(INTRO!$E$37=\"Endemic\",INTRO!$E$39=\"Non-endemic\"),IF(COUNTRY_INFO!C65=0,\" \",COUNTRY_INFO!C65),\" \")","v":" "},{"$f":"IF(COUNTRY_INFO!Z65<>\"\",COUNTRY_INFO!V65,0)","v":0},{"$f":"IF(AND(COUNTRY_INFO!Z65<>\"\",COUNTRY_INFO!$H65=1),COUNTRY_INFO!F65+COUNTRY_INFO!G65,0)","v":0},0,null,0]
[{"$f":"IF(AND(INTRO!$E$37=\"Endemic\",INTRO!$E$39=\"Non-endemic\"),IF(COUNTRY_INFO!A66=0,\" \",COUNTRY_INFO!A66),\" \")","v":" "},{"$f":"IF(AND(INTRO!$E$37=\"Endemic\",INTRO!$E$39=\"Non-endemic\"),IF(COUNTRY_INFO!B66=0,\" \",COUNTRY_INFO!B66),\" \")","v":" "},{"$f":"IF(AND(INTRO!$E$37=\"Endemic\",INTRO!$E$39=\"Non-endemic\"),IF(COUNTRY_INFO!C66=0,\" \",COUNTRY_INFO!C66),\" \")","v":" "},{"$f":"IF(COUNTRY_INFO!Z66<>\"\",COUNTRY_INFO!V66,0)","v":0},{"$f":"IF(AND(COUNTRY_INFO!Z66<>\"\",COUNTRY_INFO!$H66=1),COUNTRY_INFO!F66+COUNTRY_INFO!G66,0)","v":0},0,null,0]
[{"$f":"IF(AND(INTRO!$E$37=\"Endemic\",INTRO!$E$39=\"Non-endemic\"),IF(COUNTRY_INFO!A67=0,\" \",COUNTRY_INFO!A67),\" \")","v":" "},{"$f":"IF(AND(INTRO!$E$37=\"Endemic\",INTRO!$E$39=\"Non-endemic\"),IF(COUNTRY_INFO!B67=0,\" \",COUNTRY_INFO!B67),\" \")","v":" "},{"$f":"IF(AND(INTRO!$E$37=\"Endemic\",INTRO!$E$39=\"Non-endemic\"),IF(COUNTRY_INFO!C67=0,\" \",COUNTRY_INFO!C67),\" \")","v":" "},{"$f":"IF(COUNTRY_INFO!Z67<>\"\",COUNTRY_INFO!V67,0)","v":0},{"$f":"IF(AND(COUNTRY_INFO!Z67<>\"\",COUNTRY_INFO!$H67=1),COUNTRY_INFO!F67+COUNTRY_INFO!G67,0)","v":0},0,null,0]
[{"$f":"IF(AND(INTRO!$E$37=\"Endemic\",INTRO!$E$39=\"Non-endemic\"),IF(COUNTRY_INFO!A68=0,\" \",COUNTRY_INFO!A68),\" \")","v":" "},{"$f":"IF(AND(INTRO!$E$37=\"Endemic\",INTRO!$E$39=\"Non-endemic\"),IF(COUNTRY_INFO!B68=0,\" \",COUNTRY_INFO!B68),\" \")","v":" "},{"$f":"IF(AND(INTRO!$E$37=\"Endemic\",INTRO!$E$39=\"Non-endemic\"),IF(COUNTRY_INFO!C68=0,\" \",COUNTRY_INFO!C68),\" \")","v":" "},{"$f":"IF(COUNTRY_INFO!Z68<>\"\",COUNTRY_INFO!V68,0)","v":0},{"$f":"IF(AND(COUNTRY_INFO!Z68<>\"\",COUNTRY_INFO!$H68=1),COUNTRY_INFO!F68+COUNTRY_INFO!G68,0)","v":0},0,null,0]
[{"$f":"IF(AND(INTRO!$E$37=\"Endemic\",INTRO!$E$39=\"Non-endemic\"),IF(COUNTRY_INFO!A69=0,\" \",COUNTRY_INFO!A69),\" \")","v":" "},{"$f":"IF(AND(INTRO!$E$37=\"Endemic\",INTRO!$E$39=\"Non-endemic\"),IF(COUNTRY_INFO!B69=0,\" \",COUNTRY_INFO!B69),\" \")","v":" "},{"$f":"IF(AND(INTRO!$E$37=\"Endemic\",INTRO!$E$39=\"Non-endemic\"),IF(COUNTRY_INFO!C69=0,\" \",COUNTRY_INFO!C69),\" \")","v":" "},{"$f":"IF(COUNTRY_INFO!Z69<>\"\",COUNTRY_INFO!V69,0)","v":0},{"$f":"IF(AND(COUNTRY_INFO!Z69<>\"\",COUNTRY_INFO!$H69=1),COUNTRY_INFO!F69+COUNTRY_INFO!G69,0)","v":0},0,null,0]
[{"$f":"IF(AND(INTRO!$E$37=\"Endemic\",INTRO!$E$39=\"Non-endemic\"),IF(COUNTRY_INFO!A70=0,\" \",COUNTRY_INFO!A70),\" \")","v":" "},{"$f":"IF(AND(INTRO!$E$37=\"Endemic\",INTRO!$E$39=\"Non-endemic\"),IF(COUNTRY_INFO!B70=0,\" \",COUNTRY_INFO!B70),\" \")","v":" "},{"$f":"IF(AND(INTRO!$E$37=\"Endemic\",INTRO!$E$39=\"Non-endemic\"),IF(COUNTRY_INFO!C70=0,\" \",COUNTRY_INFO!C70),\" \")","v":" "},{"$f":"IF(COUNTRY_INFO!Z70<>\"\",COUNTRY_INFO!V70,0)","v":0},{"$f":"IF(AND(COUNTRY_INFO!Z70<>\"\",COUNTRY_INFO!$H70=1),COUNTRY_INFO!F70+COUNTRY_INFO!G70,0)","v":0},0,null,0]
[{"$f":"IF(AND(INTRO!$E$37=\"Endemic\",INTRO!$E$39=\"Non-endemic\"),IF(COUNTRY_INFO!A71=0,\" \",COUNTRY_INFO!A71),\" \")","v":" "},{"$f":"IF(AND(INTRO!$E$37=\"Endemic\",INTRO!$E$39=\"Non-endemic\"),IF(COUNTRY_INFO!B71=0,\" \",COUNTRY_INFO!B71),\" \")","v":" "},{"$f":"IF(AND(INTRO!$E$37=\"Endemic\",INTRO!$E$39=\"Non-endemic\"),IF(COUNTRY_INFO!C71=0,\" \",COUNTRY_INFO!C71),\" \")","v":" "},{"$f":"IF(COUNTRY_INFO!Z71<>\"\",COUNTRY_INFO!V71,0)","v":0},{"$f":"IF(AND(COUNTRY_INFO!Z71<>\"\",COUNTRY_INFO!$H71=1),COUNTRY_INFO!F71+COUNTRY_INFO!G71,0)","v":0},0,null,0]
[{"$f":"IF(AND(INTRO!$E$37=\"Endemic\",INTRO!$E$39=\"Non-endemic\"),IF(COUNTRY_INFO!A72=0,\" \",COUNTRY_INFO!A72),\" \")","v":" "},{"$f":"IF(AND(INTRO!$E$37=\"Endemic\",INTRO!$E$39=\"Non-endemic\"),IF(COUNTRY_INFO!B72=0,\" \",COUNTRY_INFO!B72),\" \")","v":" "},{"$f":"IF(AND(INTRO!$E$37=\"Endemic\",INTRO!$E$39=\"Non-endemic\"),IF(COUNTRY_INFO!C72=0,\" \",COUNTRY_INFO!C72),\" \")","v":" "},{"$f":"IF(COUNTRY_INFO!Z72<>\"\",COUNTRY_INFO!V72,0)","v":0},{"$f":"IF(AND(COUNTRY_INFO!Z72<>\"\",COUNTRY_INFO!$H72=1),COUNTRY_INFO!F72+COUNTRY_INFO!G72,0)","v":0},0,null,0]
[{"$f":"IF(AND(INTRO!$E$37=\"Endemic\",INTRO!$E$39=\"Non-endemic\"),IF(COUNTRY_INFO!A73=0,\" \",COUNTRY_INFO!A73),\" \")","v":" "},{"$f":"IF(AND(INTRO!$E$37=\"Endemic\",INTRO!$E$39=\"Non-endemic\"),IF(COUNTRY_INFO!B73=0,\" \",COUNTRY_INFO!B73),\" \")","v":" "},{"$f":"IF(AND(INTRO!$E$37=\"Endemic\",INTRO!$E$39=\"Non-endemic\"),IF(COUNTRY_INFO!C73=0,\" \",COUNTRY_INFO!C73),\" \")","v":" "},{"$f":"IF(COUNTRY_INFO!Z73<>\"\",COUNTRY_INFO!V73,0)","v":0},{"$f":"IF(AND(COUNTRY_INFO!Z73<>\"\",COUNTRY_INFO!$H73=1),COUNTRY_INFO!F73+COUNTRY_INFO!G73,0)","v":0},0,null,0]
[{"$f":"IF(AND(INTRO!$E$37=\"Endemic\",INTRO!$E$39=\"Non-endemic\"),IF(COUNTRY_INFO!A74=0,\" \",COUNTRY_INFO!A74),\" \")","v":" "},{"$f":"IF(AND(INTRO!$E$37=\"Endemic\",INTRO!$E$39=\"Non-endemic\"),IF(COUNTRY_INFO!B74=0,\" \",COUNTRY_INFO!B74),\" \")","v":" "},{"$f":"IF(AND(INTRO!$E$37=\"Endemic\",INTRO!$E$39=\"Non-endemic\"),IF(COUNTRY_INFO!C74=0,\" \",COUNTRY_INFO!C74),\" \")","v":" "},{"$f":"IF(COUNTRY_INFO!Z74<>\"\",COUNTRY_INFO!V74,0)","v":0},{"$f":"IF(AND(COUNTRY_INFO!Z74<>\"\",COUNTRY_INFO!$H74=1),COUNTRY_INFO!F74+COUNTRY_INFO!G74,0)","v":0},0,null,0]
[{"$f":"IF(AND(INTRO!$E$37=\"Endemic\",INTRO!$E$39=\"Non-endemic\"),IF(COUNTRY_INFO!A75=0,\" \",COUNTRY_INFO!A75),\" \")","v":" "},{"$f":"IF(AND(INTRO!$E$37=\"Endemic\",INTRO!$E$39=\"Non-endemic\"),IF(COUNTRY_INFO!B75=0,\" \",COUNTRY_INFO!B75),\" \")","v":" "},{"$f":"IF(AND(INTRO!$E$37=\"Endemic\",INTRO!$E$39=\"Non-endemic\"),IF(COUNTRY_INFO!C75=0,\" \",COUNTRY_INFO!C75),\" \")","v":" "},{"$f":"IF(COUNTRY_INFO!Z75<>\"\",COUNTRY_INFO!V75,0)","v":0},{"$f":"IF(AND(COUNTRY_INFO!Z75<>\"\",COUNTRY_INFO!$H75=1),COUNTRY_INFO!F75+COUNTRY_INFO!G75,0)","v":0},{"$f":"E75*2.8","v":0},null,0]
[{"$f":"IF(AND(INTRO!$E$37=\"Endemic\",INTRO!$E$39=\"Non-endemic\"),IF(COUNTRY_INFO!A76=0,\" \",COUNTRY_INFO!A76),\" \")","v":" "},{"$f":"IF(AND(INTRO!$E$37=\"Endemic\",INTRO!$E$39=\"Non-endemic\"),IF(COUNTRY_INFO!B76=0,\" \",COUNTRY_INFO!B76),\" \")","v":" "},{"$f":"IF(AND(INTRO!$E$37=\"Endemic\",INTRO!$E$39=\"Non-endemic\"),IF(COUNTRY_INFO!C76=0,\" \",COUNTRY_INFO!C76),\" \")","v":" "},{"$f":"IF(COUNTRY_INFO!Z76<>\"\",COUNTRY_INFO!V76,0)","v":0},{"$f":"IF(AND(COUNTRY_INFO!Z76<>\"\",COUNTRY_INFO!$H76=1),COUNTRY_INFO!F76+COUNTRY_INFO!G76,0)","v":0},0,null,0]
[{"$f":"IF(AND(INTRO!$E$37=\"Endemic\",INTRO!$E$39=\"Non-endemic\"),IF(COUNTRY_INFO!A77=0,\" \",COUNTRY_INFO!A77),\" \")","v":" "},{"$f":"IF(AND(INTRO!$E$37=\"Endemic\",INTRO!$E$39=\"Non-endemic\"),IF(COUNTRY_INFO!B77=0,\" \",COUNTRY_INFO!B77),\" \")","v":" "},{"$f":"IF(AND(INTRO!$E$37=\"Endemic\",INTRO!$E$39=\"Non-endemic\"),IF(COUNTRY_INFO!C77=0,\" \",COUNTRY_INFO!C77),\" \")","v":" "},{"$f":"IF(COUNTRY_INFO!Z77<>\"\",COUNTRY_INFO!V77,0)","v":0},{"$f":"IF(AND(COUNTRY_INFO!Z77<>\"\",COUNTRY_INFO!$H77=1),COUNTRY_INFO!F77+COUNTRY_INFO!G77,0)","v":0},0,null,0]
[{"$f":"IF(AND(INTRO!$E$37=\"Endemic\",INTRO!$E$39=\"Non-endemic\"),IF(COUNTRY_INFO!A78=0,\" \",COUNTRY_INFO!A78),\" \")","v":" "},{"$f":"IF(AND(INTRO!$E$37=\"Endemic\",INTRO!$E$39=\"Non-endemic\"),IF(COUNTRY_INFO!B78=0,\" \",COUNTRY_INFO!B78),\" \")","v":" "},{"$f":"IF(AND(INTRO!$E$37=\"Endemic\",INTRO!$E$39=\"Non-endemic\"),IF(COUNTRY_INFO!C78=0,\" \",COUNTRY_INFO!C78),\" \")","v":" "},{"$f":"IF(COUNTRY_INFO!Z78<>\"\",COUNTRY_INFO!V78,0)","v":0},{"$f":"IF(AND(COUNTRY_INFO!Z78<>\"\",COUNTRY_INFO!$H78=1),COUNTRY_INFO!F78+COUNTRY_INFO!G78,0)","v":0},0,null,0]
[{"$f":"IF(AND(INTRO!$E$37=\"Endemic\",INTRO!$E$39=\"Non-endemic\"),IF(COUNTRY_INFO!A79=0,\" \",COUNTRY_INFO!A79),\" \")","v":" "},{"$f":"IF(AND(INTRO!$E$37=\"Endemic\",INTRO!$E$39=\"Non-endemic\"),IF(COUNTRY_INFO!B79=0,\" \",COUNTRY_INFO!B79),\" \")","v":" "},{"$f":"IF(AND(INTRO!$E$37=\"Endemic\",INTRO!$E$39=\"Non-endemic\"),IF(COUNTRY_INFO!C79=0,\" \",COUNTRY_INFO!C79),\" \")","v":" "},{"$f":"IF(COUNTRY_INFO!Z79<>\"\",COUNTRY_INFO!V79,0)","v":0},{"$f":"IF(AND(COUNTRY_INFO!Z79<>\"\",COUNTRY_INFO!$H79=1),COUNTRY_INFO!F79+COUNTRY_INFO!G79,0)","v":0},0,null,0]
[{"$f":"IF(AND(INTRO!$E$37=\"Endemic\",INTRO!$E$39=\"Non-endemic\"),IF(COUNTRY_INFO!A80=0,\" \",COUNTRY_INFO!A80),\" \")","v":" "},{"$f":"IF(AND(INTRO!$E$37=\"Endemic\",INTRO!$E$39=\"Non-endemic\"),IF(COUNTRY_INFO!B80=0,\" \",COUNTRY_INFO!B80),\" \")","v":" "},{"$f":"IF(AND(INTRO!$E$37=\"Endemic\",INTRO!$E$39=\"Non-endemic\"),IF(COUNTRY_INFO!C80=0,\" \",COUNTRY_INFO!C80),\" \")","v":" "},{"$f":"IF(COUNTRY_INFO!Z80<>\"\",COUNTRY_INFO!V80,0)","v":0},{"$f":"IF(AND(COUNTRY_INFO!Z80<>\"\",COUNTRY_INFO!$H80=1),COUNTRY_INFO!F80+COUNTRY_INFO!G80,0)","v":0},0,null,0]
[{"$f":"IF(AND(INTRO!$E$37=\"Endemic\",INTRO!$E$39=\"Non-endemic\"),IF(COUNTRY_INFO!A81=0,\" \",COUNTRY_INFO!A81),\" \")","v":" "},{"$f":"IF(AND(INTRO!$E$37=\"Endemic\",INTRO!$E$39=\"Non-endemic\"),IF(COUNTRY_INFO!B81=0,\" \",COUNTRY_INFO!B81),\" \")","v":" "},{"$f":"IF(AND(INTRO!$E$37=\"Endemic\",INTRO!$E$39=\"Non-endemic\"),IF(COUNTRY_INFO!C81=0,\" \",COUNTRY_INFO!C81),\" \")","v":" "},{"$f":"IF(COUNTRY_INFO!Z81<>\"\",COUNTRY_INFO!V81,0)","v":0},{"$f":"IF(AND(COUNTRY_INFO!Z81<>\"\",COUNTRY_INFO!$H81=1),COUNTRY_INFO!F81+COUNTRY_INFO!G81,0)","v":0},0,null,0]
[{"$f":"IF(AND(INTRO!$E$37=\"Endemic\",INTRO!$E$39=\"Non-endemic\"),IF(COUNTRY_INFO!A82=0,\" \",COUNTRY_INFO!A82),\" \")","v":" "},{"$f":"IF(AND(INTRO!$E$37=\"Endemic\",INTRO!$E$39=\"Non-endemic\"),IF(COUNTRY_INFO!B82=0,\" \",COUNTRY_INFO!B82),\" \")","v":" "},{"$f":"IF(AND(INTRO!$E$37=\"Endemic\",INTRO!$E$39=\"Non-endemic\"),IF(COUNTRY_INFO!C82=0,\" \",COUNTRY_INFO!C82),\" \")","v":" "},{"$f":"IF(COUNTRY_INFO!Z82<>\"\",COUNTRY_INFO!V82,0)","v":0},{"$f":"IF(AND(COUNTRY_INFO!Z82<>\"\",COUNTRY_INFO!$H82=1),COUNTRY_INFO!F82+COUNTRY_INFO!G82,0)","v":0},0,null,0]
[{"$f":"IF(AND(INTRO!$E$37=\"Endemic\",INTRO!$E$39=\"Non-endemic\"),IF(COUNTRY_INFO!A83=0,\" \",COUNTRY_INFO!A83),\" \")","v":" "},{"$f":"IF(AND(INTRO!$E$37=\"Endemic\",INTRO!$E$39=\"Non-endemic\"),IF(COUNTRY_INFO!B83=0,\" \",COUNTRY_INFO!B83),\" \")","v":" "},{"$f":"IF(AND(INTRO!$E$37=\"Endemic\",INTRO!$E$39=\"Non-endemic\"),IF(COUNTRY_INFO!C83=0,\" \",COUNTRY_INFO!C83),\" \")","v":" "},{"$f":"IF(COUNTRY_INFO!Z83<>\"\",COUNTRY_INFO!V83,0)","v":0},{"$f":"IF(AND(COUNTRY_INFO!Z83<>\"\",COUNTRY_INFO!$H83=1),COUNTRY_INFO!F83+COUNTRY_INFO!G83,0)","v":0},0,null,0]
[{"$f":"IF(AND(INTRO!$E$37=\"Endemic\",INTRO!$E$39=\"Non-endemic\"),IF(COUNTRY_INFO!A84=0,\" \",COUNTRY_INFO!A84),\" \")","v":" "},{"$f":"IF(AND(INTRO!$E$37=\"Endemic\",INTRO!$E$39=\"Non-endemic\"),IF(COUNTRY_INFO!B84=0,\" \",COUNTRY_INFO!B84),\" \")","v":" "},{"$f":"IF(AND(INTRO!$E$37=\"Endemic\",INTRO!$E$39=\"Non-endemic\"),IF(COUNTRY_INFO!C84=0,\" \",COUNTRY_INFO!C84),\" \")","v":" "},{"$f":"IF(COUNTRY_INFO!Z84<>\"\",COUNTRY_INFO!V84,0)","v":0},{"$f":"IF(AND(COUNTRY_INFO!Z84<>\"\",COUNTRY_INFO!$H84=1),COUNTRY_INFO!F84+COUNTRY_INFO!G84,0)","v":0},0,null,0]
[{"$f":"IF(AND(INTRO!$E$37=\"Endemic\",INTRO!$E$39=\"Non-endemic\"),IF(COUNTRY_INFO!A85=0,\" \",COUNTRY_INFO!A85),\" \")","v":" "},{"$f":"IF(AND(INTRO!$E$37=\"Endemic\",INTRO!$E$39=\"Non-endemic\"),IF(COUNTRY_INFO!B85=0,\" \",COUNTRY_INFO!B85),\" \")","v":" "},{"$f":"IF(AND(INTRO!$E$37=\"Endemic\",INTRO!$E$39=\"Non-endemic\"),IF(COUNTRY_INFO!C85=0,\" \",COUNTRY_INFO!C85),\" \")","v":" "},{"$f":"IF(COUNTRY_INFO!Z85<>\"\",COUNTRY_INFO!V85,0)","v":0},{"$f":"IF(AND(COUNTRY_INFO!Z85<>\"\",COUNTRY_INFO!$H85=1),COUNTRY_INFO!F85+COUNTRY_INFO!G85,0)","v":0},0,null,0]
[{"$f":"IF(AND(INTRO!$E$37=\"Endemic\",INTRO!$E$39=\"Non-endemic\"),IF(COUNTRY_INFO!A86=0,\" \",COUNTRY_INFO!A86),\" \")","v":" "},{"$f":"IF(AND(INTRO!$E$37=\"Endemic\",INTRO!$E$39=\"Non-endemic\"),IF(COUNTRY_INFO!B86=0,\" \",COUNTRY_INFO!B86),\" \")","v":" "},{"$f":"IF(AND(INTRO!$E$37=\"Endemic\",INTRO!$E$39=\"Non-endemic\"),IF(COUNTRY_INFO!C86=0,\" \",COUNTRY_INFO!C86),\" \")","v":" "},{"$f":"IF(COUNTRY_INFO!Z86<>\"\",COUNTRY_INFO!V86,0)","v":0},{"$f":"IF(AND(COUNTRY_INFO!Z86<>\"\",COUNTRY_INFO!$H86=1),COUNTRY_INFO!F86+COUNTRY_INFO!G86,0)","v":0},0,null,0]
[{"$f":"IF(AND(INTRO!$E$37=\"Endemic\",INTRO!$E$39=\"Non-endemic\"),IF(COUNTRY_INFO!A87=0,\" \",COUNTRY_INFO!A87),\" \")","v":" "},{"$f":"IF(AND(INTRO!$E$37=\"Endemic\",INTRO!$E$39=\"Non-endemic\"),IF(COUNTRY_INFO!B87=0,\" \",COUNTRY_INFO!B87),\" \")","v":" "},{"$f":"IF(AND(INTRO!$E$37=\"Endemic\",INTRO!$E$39=\"Non-endemic\"),IF(COUNTRY_INFO!C87=0,\" \",COUNTRY_INFO!C87),\" \")","v":" "},{"$f":"IF(COUNTRY_INFO!Z87<>\"\",COUNTRY_INFO!V87,0)","v":0},{"$f":"IF(AND(COUNTRY_INFO!Z87<>\"\",COUNTRY_INFO!$H87=1),COUNTRY_INFO!F87+COUNTRY_INFO!G87,0)","v":0},0,null,0]
[{"$f":"IF(AND(INTRO!$E$37=\"Endemic\",INTRO!$E$39=\"Non-endemic\"),IF(COUNTRY_INFO!A88=0,\" \",COUNTRY_INFO!A88),\" \")","v":" "},{"$f":"IF(AND(INTRO!$E$37=\"Endemic\",INTRO!$E$39=\"Non-endemic\"),IF(COUNTRY_INFO!B88=0,\" \",COUNTRY_INFO!B88),\" \")","v":" "},{"$f":"IF(AND(INTRO!$E$37=\"Endemic\",INTRO!$E$39=\"Non-endemic\"),IF(COUNTRY_INFO!C88=0,\" \",COUNTRY_INFO!C88),\" \")","v":" "},{"$f":"IF(COUNTRY_INFO!Z88<>\"\",COUNTRY_INFO!V88,0)","v":0},{"$f":"IF(AND(COUNTRY_INFO!Z88<>\"\",COUNTRY_INFO!$H88=1),COUNTRY_INFO!F88+COUNTRY_INFO!G88,0)","v":0},0,null,0]
[{"$f":"IF(AND(INTRO!$E$37=\"Endemic\",INTRO!$E$39=\"Non-endemic\"),IF(COUNTRY_INFO!A89=0,\" \",COUNTRY_INFO!A89),\" \")","v":" "},{"$f":"IF(AND(INTRO!$E$37=\"Endemic\",INTRO!$E$39=\"Non-endemic\"),IF(COUNTRY_INFO!B89=0,\" \",COUNTRY_INFO!B89),\" \")","v":" "},{"$f":"IF(AND(INTRO!$E$37=\"Endemic\",INTRO!$E$39=\"Non-endemic\"),IF(COUNTRY_INFO!C89=0,\" \",COUNTRY_INFO!C89),\" \")","v":" "},{"$f":"IF(COUNTRY_INFO!Z89<>\"\",COUNTRY_INFO!V89,0)","v":0},{"$f":"IF(AND(COUNTRY_INFO!Z89<>\"\",COUNTRY_INFO!$H89=1),COUNTRY_INFO!F89+COUNTRY_INFO!G89,0)","v":0},0,null,0]
[{"$f":"IF(AND(INTRO!$E$37=\"Endemic\",INTRO!$E$39=\"Non-endemic\"),IF(COUNTRY_INFO!A90=0,\" \",COUNTRY_INFO!A90),\" \")","v":" "},{"$f":"IF(AND(INTRO!$E$37=\"Endemic\",INTRO!$E$39=\"Non-endemic\"),IF(COUNTRY_INFO!B90=0,\" \",COUNTRY_INFO!B90),\" \")","v":" "},{"$f":"IF(AND(INTRO!$E$37=\"Endemic\",INTRO!$E$39=\"Non-endemic\"),IF(COUNTRY_INFO!C90=0,\" \",COUNTRY_INFO!C90),\" \")","v":" "},{"$f":"IF(COUNTRY_INFO!Z90<>\"\",COUNTRY_INFO!V90,0)","v":0},{"$f":"IF(AND(COUNTRY_INFO!Z90<>\"\",COUNTRY_INFO!$H90=1),COUNTRY_INFO!F90+COUNTRY_INFO!G90,0)","v":0},0,null,0]
[{"$f":"IF(AND(INTRO!$E$37=\"Endemic\",INTRO!$E$39=\"Non-endemic\"),IF(COUNTRY_INFO!A91=0,\" \",COUNTRY_INFO!A91),\" \")","v":" "},{"$f":"IF(AND(INTRO!$E$37=\"Endemic\",INTRO!$E$39=\"Non-endemic\"),IF(COUNTRY_INFO!B91=0,\" \",COUNTRY_INFO!B91),\" \")","v":" "},{"$f":"IF(AND(INTRO!$E$37=\"Endemic\",INTRO!$E$39=\"Non-endemic\"),IF(COUNTRY_INFO!C91=0,\" \",COUNTRY_INFO!C91),\" \")","v":" "},{"$f":"IF(COUNTRY_INFO!Z91<>\"\",COUNTRY_INFO!V91,0)","v":0},{"$f":"IF(AND(COUNTRY_INFO!Z91<>\"\",COUNTRY_INFO!$H91=1),COUNTRY_INFO!F91+COUNTRY_INFO!G91,0)","v":0},0,null,0]
[{"$f":"IF(AND(INTRO!$E$37=\"Endemic\",INTRO!$E$39=\"Non-endemic\"),IF(COUNTRY_INFO!A92=0,\" \",COUNTRY_INFO!A92),\" \")","v":" "},{"$f":"IF(AND(INTRO!$E$37=\"Endemic\",INTRO!$E$39=\"Non-endemic\"),IF(COUNTRY_INFO!B92=0,\" \",COUNTRY_INFO!B92),\" \")","v":" "},{"$f":"IF(AND(INTRO!$E$37=\"Endemic\",INTRO!$E$39=\"Non-endemic\"),IF(COUNTRY_INFO!C92=0,\" \",COUNTRY_INFO!C92),\" \")","v":" "},{"$f":"IF(COUNTRY_INFO!Z92<>\"\",COUNTRY_INFO!V92,0)","v":0},{"$f":"IF(AND(COUNTRY_INFO!Z92<>\"\",COUNTRY_INFO!$H92=1),COUNTRY_INFO!F92+COUNTRY_INFO!G92,0)","v":0},0,null,0]
[{"$f":"IF(AND(INTRO!$E$37=\"Endemic\",INTRO!$E$39=\"Non-endemic\"),IF(COUNTRY_INFO!A93=0,\" \",COUNTRY_INFO!A93),\" \")","v":" "},{"$f":"IF(AND(INTRO!$E$37=\"Endemic\",INTRO!$E$39=\"Non-endemic\"),IF(COUNTRY_INFO!B93=0,\" \",COUNTRY_INFO!B93),\" \")","v":" "},{"$f":"IF(AND(INTRO!$E$37=\"Endemic\",INTRO!$E$39=\"Non-endemic\"),IF(COUNTRY_INFO!C93=0,\" \",COUNTRY_INFO!C93),\" \")","v":" "},{"$f":"IF(COUNTRY_INFO!Z93<>\"\",COUNTRY_INFO!V93,0)","v":0},{"$f":"IF(AND(COUNTRY_INFO!Z93<>\"\",COUNTRY_INFO!$H93=1),COUNTRY_INFO!F93+COUNTRY_INFO!G93,0)","v":0},0,null,0]
[{"$f":"IF(AND(INTRO!$E$37=\"Endemic\",INTRO!$E$39=\"Non-endemic\"),IF(COUNTRY_INFO!A94=0,\" \",COUNTRY_INFO!A94),\" \")","v":" "},{"$f":"IF(AND(INTRO!$E$37=\"Endemic\",INTRO!$E$39=\"Non-endemic\"),IF(COUNTRY_INFO!B94=0,\" \",COUNTRY_INFO!B94),\" \")","v":" "},{"$f":"IF(AND(INTRO!$E$37=\"Endemic\",INTRO!$E$39=\"Non-endemic\"),IF(COUNTRY_INFO!C94=0,\" \",COUNTRY_INFO!C94),\" \")","v":" "},{"$f":"IF(COUNTRY_INFO!Z94<>\"\",COUNTRY_INFO!V94,0)","v":0},{"$f":"IF(AND(COUNTRY_INFO!Z94<>\"\",COUNTRY_INFO!$H94=1),COUNTRY_INFO!F94+COUNTRY_INFO!G94,0)","v":0},0,null,0]
[{"$f":"IF(AND(INTRO!$E$37=\"Endemic\",INTRO!$E$39=\"Non-endemic\"),IF(COUNTRY_INFO!A95=0,\" \",COUNTRY_INFO!A95),\" \")","v":" "},{"$f":"IF(AND(INTRO!$E$37=\"Endemic\",INTRO!$E$39=\"Non-endemic\"),IF(COUNTRY_INFO!B95=0,\" \",COUNTRY_INFO!B95),\" \")","v":" "},{"$f":"IF(AND(INTRO!$E$37=\"Endemic\",INTRO!$E$39=\"Non-endemic\"),IF(COUNTRY_INFO!C95=0,\" \",COUNTRY_INFO!C95),\" \")","v":" "},{"$f":"IF(COUNTRY_INFO!Z95<>\"\",COUNTRY_INFO!V95,0)","v":0},{"$f":"IF(AND(COUNTRY_INFO!Z95<>\"\",COUNTRY_INFO!$H95=1),COUNTRY_INFO!F95+COUNTRY_INFO!G95,0)","v":0},0,null,0]
[{"$f":"IF(AND(INTRO!$E$37=\"Endemic\",INTRO!$E$39=\"Non-endemic\"),IF(COUNTRY_INFO!A96=0,\" \",COUNTRY_INFO!A96),\" \")","v":" "},{"$f":"IF(AND(INTRO!$E$37=\"Endemic\",INTRO!$E$39=\"Non-endemic\"),IF(COUNTRY_INFO!B96=0,\" \",COUNTRY_INFO!B96),\" \")","v":" "},{"$f":"IF(AND(INTRO!$E$37=\"Endemic\",INTRO!$E$39=\"Non-endemic\"),IF(COUNTRY_INFO!C96=0,\" \",COUNTRY_INFO!C96),\" \")","v":" "},{"$f":"IF(COUNTRY_INFO!Z96<>\"\",COUNTRY_INFO!V96,0)","v":0},{"$f":"IF(AND(COUNTRY_INFO!Z96<>\"\",COUNTRY_INFO!$H96=1),COUNTRY_INFO!F96+COUNTRY_INFO!G96,0)","v":0},0,null,0]
[{"$f":"IF(AND(INTRO!$E$37=\"Endemic\",INTRO!$E$39=\"Non-endemic\"),IF(COUNTRY_INFO!A97=0,\" \",COUNTRY_INFO!A97),\" \")","v":" "},{"$f":"IF(AND(INTRO!$E$37=\"Endemic\",INTRO!$E$39=\"Non-endemic\"),IF(COUNTRY_INFO!B97=0,\" \",COUNTRY_INFO!B97),\" \")","v":" "},{"$f":"IF(AND(INTRO!$E$37=\"Endemic\",INTRO!$E$39=\"Non-endemic\"),IF(COUNTRY_INFO!C97=0,\" \",COUNTRY_INFO!C97),\" \")","v":" "},{"$f":"IF(COUNTRY_INFO!Z97<>\"\",COUNTRY_INFO!V97,0)","v":0},{"$f":"IF(AND(COUNTRY_INFO!Z97<>\"\",COUNTRY_INFO!$H97=1),COUNTRY_INFO!F97+COUNTRY_INFO!G97,0)","v":0},0,null,0]
[{"$f":"IF(AND(INTRO!$E$37=\"Endemic\",INTRO!$E$39=\"Non-endemic\"),IF(COUNTRY_INFO!A98=0,\" \",COUNTRY_INFO!A98),\" \")","v":" "},{"$f":"IF(AND(INTRO!$E$37=\"Endemic\",INTRO!$E$39=\"Non-endemic\"),IF(COUNTRY_INFO!B98=0,\" \",COUNTRY_INFO!B98),\" \")","v":" "},{"$f":"IF(AND(INTRO!$E$37=\"Endemic\",INTRO!$E$39=\"Non-endemic\"),IF(COUNTRY_INFO!C98=0,\" \",COUNTRY_INFO!C98),\" \")","v":" "},{"$f":"IF(COUNTRY_INFO!Z98<>\"\",COUNTRY_INFO!V98,0)","v":0},{"$f":"IF(AND(COUNTRY_INFO!Z98<>\"\",COUNTRY_INFO!$H98=1),COUNTRY_INFO!F98+COUNTRY_INFO!G98,0)","v":0},0,null,0]
[{"$f":"IF(AND(INTRO!$E$37=\"Endemic\",INTRO!$E$39=\"Non-endemic\"),IF(COUNTRY_INFO!A99=0,\" \",COUNTRY_INFO!A99),\" \")","v":" "},{"$f":"IF(AND(INTRO!$E$37=\"Endemic\",INTRO!$E$39=\"Non-endemic\"),IF(COUNTRY_INFO!B99=0,\" \",COUNTRY_INFO!B99),\" \")","v":" "},{"$f":"IF(AND(INTRO!$E$37=\"Endemic\",INTRO!$E$39=\"Non-endemic\"),IF(COUNTRY_INFO!C99=0,\" \",COUNTRY_INFO!C99),\" \")","v":" "},{"$f":"IF(COUNTRY_INFO!Z99<>\"\",COUNTRY_INFO!V99,0)","v":0},{"$f":"IF(AND(COUNTRY_INFO!Z99<>\"\",COUNTRY_INFO!$H99=1),COUNTRY_INFO!F99+COUNTRY_INFO!G99,0)","v":0},0,null,0]
[{"$f":"IF(AND(INTRO!$E$37=\"Endemic\",INTRO!$E$39=\"Non-endemic\"),IF(COUNTRY_INFO!A100=0,\" \",COUNTRY_INFO!A100),\" \")","v":" "},{"$f":"IF(AND(INTRO!$E$37=\"Endemic\",INTRO!$E$39=\"Non-endemic\"),IF(COUNTRY_INFO!B100=0,\" \",COUNTRY_INFO!B100),\" \")","v":" "},{"$f":"IF(AND(INTRO!$E$37=\"Endemic\",INTRO!$E$39=\"Non-endemic\"),IF(COUNTRY_INFO!C100=0,\" \",COUNTRY_INFO!C100),\" \")","v":" "},{"$f":"IF(COUNTRY_INFO!Z100<>\"\",COUNTRY_INFO!V100,0)","v":0},{"$f":"IF(AND(COUNTRY_INFO!Z100<>\"\",COUNTRY_INFO!$H100=1),COUNTRY_INFO!F100+COUNTRY_INFO!G100,0)","v":0},0,null,0]
[{"$f":"IF(AND(INTRO!$E$37=\"Endemic\",INTRO!$E$39=\"Non-endemic\"),IF(COUNTRY_INFO!A101=0,\" \",COUNTRY_INFO!A101),\" \")","v":" "},{"$f":"IF(AND(INTRO!$E$37=\"Endemic\",INTRO!$E$39=\"Non-endemic\"),IF(COUNTRY_INFO!B101=0,\" \",COUNTRY_INFO!B101),\" \")","v":" "},{"$f":"IF(AND(INTRO!$E$37=\"Endemic\",INTRO!$E$39=\"Non-endemic\"),IF(COUNTRY_INFO!C101=0,\" \",COUNTRY_INFO!C101),\" \")","v":" "},{"$f":"IF(COUNTRY_INFO!Z101<>\"\",COUNTRY_INFO!V101,0)","v":0},{"$f":"IF(AND(COUNTRY_INFO!Z101<>\"\",COUNTRY_INFO!$H101=1),COUNTRY_INFO!F101+COUNTRY_INFO!G101,0)","v":0},0,null,0]
[{"$f":"IF(AND(INTRO!$E$37=\"Endemic\",INTRO!$E$39=\"Non-endemic\"),IF(COUNTRY_INFO!A102=0,\" \",COUNTRY_INFO!A102),\" \")","v":" "},{"$f":"IF(AND(INTRO!$E$37=\"Endemic\",INTRO!$E$39=\"Non-endemic\"),IF(COUNTRY_INFO!B102=0,\" \",COUNTRY_INFO!B102),\" \")","v":" "},{"$f":"IF(AND(INTRO!$E$37=\"Endemic\",INTRO!$E$39=\"Non-endemic\"),IF(COUNTRY_INFO!C102=0,\" \",COUNTRY_INFO!C102),\" \")","v":" "},{"$f":"IF(COUNTRY_INFO!Z102<>\"\",COUNTRY_INFO!V102,0)","v":0},{"$f":"IF(AND(COUNTRY_INFO!Z102<>\"\",COUNTRY_INFO!$H102=1),COUNTRY_INFO!F102+COUNTRY_INFO!G102,0)","v":0},0,null,0]
[{"$f":"IF(AND(INTRO!$E$37=\"Endemic\",INTRO!$E$39=\"Non-endemic\"),IF(COUNTRY_INFO!A103=0,\" \",COUNTRY_INFO!A103),\" \")","v":" "},{"$f":"IF(AND(INTRO!$E$37=\"Endemic\",INTRO!$E$39=\"Non-endemic\"),IF(COUNTRY_INFO!B103=0,\" \",COUNTRY_INFO!B103),\" \")","v":" "},{"$f":"IF(AND(INTRO!$E$37=\"Endemic\",INTRO!$E$39=\"Non-endemic\"),IF(COUNTRY_INFO!C103=0,\" \",COUNTRY_INFO!C103),\" \")","v":" "},{"$f":"IF(COUNTRY_INFO!Z103<>\"\",COUNTRY_INFO!V103,0)","v":0},{"$f":"IF(AND(COUNTRY_INFO!Z103<>\"\",COUNTRY_INFO!$H103=1),COUNTRY_INFO!F103+COUNTRY_INFO!G103,0)","v":0},0,null,0]
[{"$f":"IF(AND(INTRO!$E$37=\"Endemic\",INTRO!$E$39=\"Non-endemic\"),IF(COUNTRY_INFO!A104=0,\" \",COUNTRY_INFO!A104),\" \")","v":" "},{"$f":"IF(AND(INTRO!$E$37=\"Endemic\",INTRO!$E$39=\"Non-endemic\"),IF(COUNTRY_INFO!B104=0,\" \",COUNTRY_INFO!B104),\" \")","v":" "},{"$f":"IF(AND(INTRO!$E$37=\"Endemic\",INTRO!$E$39=\"Non-endemic\"),IF(COUNTRY_INFO!C104=0,\" \",COUNTRY_INFO!C104),\" \")","v":" "},{"$f":"IF(COUNTRY_INFO!Z104<>\"\",COUNTRY_INFO!V104,0)","v":0},{"$f":"IF(AND(COUNTRY_INFO!Z104<>\"\",COUNTRY_INFO!$H104=1),COUNTRY_INFO!F104+COUNTRY_INFO!G104,0)","v":0},0,null,0]
[{"$f":"IF(AND(INTRO!$E$37=\"Endemic\",INTRO!$E$39=\"Non-endemic\"),IF(COUNTRY_INFO!A105=0,\" \",COUNTRY_INFO!A105),\" \")","v":" "},{"$f":"IF(AND(INTRO!$E$37=\"Endemic\",INTRO!$E$39=\"Non-endemic\"),IF(COUNTRY_INFO!B105=0,\" \",COUNTRY_INFO!B105),\" \")","v":" "},{"$f":"IF(AND(INTRO!$E$37=\"Endemic\",INTRO!$E$39=\"Non-endemic\"),IF(COUNTRY_INFO!C105=0,\" \",COUNTRY_INFO!C105),\" \")","v":" "},{"$f":"IF(COUNTRY_INFO!Z105<>\"\",COUNTRY_INFO!V105,0)","v":0},{"$f":"IF(AND(COUNTRY_INFO!Z105<>\"\",COUNTRY_INFO!$H105=1),COUNTRY_INFO!F105+COUNTRY_INFO!G105,0)","v":0},0,null,0]
[{"$f":"IF(AND(INTRO!$E$37=\"Endemic\",INTRO!$E$39=\"Non-endemic\"),IF(COUNTRY_INFO!A106=0,\" \",COUNTRY_INFO!A106),\" \")","v":" "},{"$f":"IF(AND(INTRO!$E$37=\"Endemic\",INTRO!$E$39=\"Non-endemic\"),IF(COUNTRY_INFO!B106=0,\" \",COUNTRY_INFO!B106),\" \")","v":" "},{"$f":"IF(AND(INTRO!$E$37=\"Endemic\",INTRO!$E$39=\"Non-endemic\"),IF(COUNTRY_INFO!C106=0,\" \",COUNTRY_INFO!C106),\" \")","v":" "},{"$f":"IF(COUNTRY_INFO!Z106<>\"\",COUNTRY_INFO!V106,0)","v":0},{"$f":"IF(AND(COUNTRY_INFO!Z106<>\"\",COUNTRY_INFO!$H106=1),COUNTRY_INFO!F106+COUNTRY_INFO!G106,0)","v":0},0,null,0]
[{"$f":"IF(AND(INTRO!$E$37=\"Endemic\",INTRO!$E$39=\"Non-endemic\"),IF(COUNTRY_INFO!A107=0,\" \",COUNTRY_INFO!A107),\" \")","v":" "},{"$f":"IF(AND(INTRO!$E$37=\"Endemic\",INTRO!$E$39=\"Non-endemic\"),IF(COUNTRY_INFO!B107=0,\" \",COUNTRY_INFO!B107),\" \")","v":" "},{"$f":"IF(AND(INTRO!$E$37=\"Endemic\",INTRO!$E$39=\"Non-endemic\"),IF(COUNTRY_INFO!C107=0,\" \",COUNTRY_INFO!C107),\" \")","v":" "},{"$f":"IF(COUNTRY_INFO!Z107<>\"\",COUNTRY_INFO!V107,0)","v":0},{"$f":"IF(AND(COUNTRY_INFO!Z107<>\"\",COUNTRY_INFO!$H107=1),COUNTRY_INFO!F107+COUNTRY_INFO!G107,0)","v":0},0,null,0]
[{"$f":"IF(AND(INTRO!$E$37=\"Endemic\",INTRO!$E$39=\"Non-endemic\"),IF(COUNTRY_INFO!A108=0,\" \",COUNTRY_INFO!A108),\" \")","v":" "},{"$f":"IF(AND(INTRO!$E$37=\"Endemic\",INTRO!$E$39=\"Non-endemic\"),IF(COUNTRY_INFO!B108=0,\" \",COUNTRY_INFO!B108),\" \")","v":" "},{"$f":"IF(AND(INTRO!$E$37=\"Endemic\",INTRO!$E$39=\"Non-endemic\"),IF(COUNTRY_INFO!C108=0,\" \",COUNTRY_INFO!C108),\" \")","v":" "},{"$f":"IF(COUNTRY_INFO!Z108<>\"\",COUNTRY_INFO!V108,0)","v":0},{"$f":"IF(AND(COUNTRY_INFO!Z108<>\"\",COUNTRY_INFO!$H108=1),COUNTRY_INFO!F108+COUNTRY_INFO!G108,0)","v":0},0,null,0]
[{"$f":"IF(AND(INTRO!$E$37=\"Endemic\",INTRO!$E$39=\"Non-endemic\"),IF(COUNTRY_INFO!A109=0,\" \",COUNTRY_INFO!A109),\" \")","v":" "},{"$f":"IF(AND(INTRO!$E$37=\"Endemic\",INTRO!$E$39=\"Non-endemic\"),IF(COUNTRY_INFO!B109=0,\" \",COUNTRY_INFO!B109),\" \")","v":" "},{"$f":"IF(AND(INTRO!$E$37=\"Endemic\",INTRO!$E$39=\"Non-endemic\"),IF(COUNTRY_INFO!C109=0,\" \",COUNTRY_INFO!C109),\" \")","v":" "},{"$f":"IF(COUNTRY_INFO!Z109<>\"\",COUNTRY_INFO!V109,0)","v":0},{"$f":"IF(AND(COUNTRY_INFO!Z109<>\"\",COUNTRY_INFO!$H109=1),COUNTRY_INFO!F109+COUNTRY_INFO!G109,0)","v":0},0,null,0]
[{"$f":"IF(AND(INTRO!$E$37=\"Endemic\",INTRO!$E$39=\"Non-endemic\"),IF(COUNTRY_INFO!A110=0,\" \",COUNTRY_INFO!A110),\" \")","v":" "},{"$f":"IF(AND(INTRO!$E$37=\"Endemic\",INTRO!$E$39=\"Non-endemic\"),IF(COUNTRY_INFO!B110=0,\" \",COUNTRY_INFO!B110),\" \")","v":" "},{"$f":"IF(AND(INTRO!$E$37=\"Endemic\",INTRO!$E$39=\"Non-endemic\"),IF(COUNTRY_INFO!C110=0,\" \",COUNTRY_INFO!C110),\" \")","v":" "},{"$f":"IF(COUNTRY_INFO!Z110<>\"\",COUNTRY_INFO!V110,0)","v":0},{"$f":"IF(AND(COUNTRY_INFO!Z110<>\"\",COUNTRY_INFO!$H110=1),COUNTRY_INFO!F110+COUNTRY_INFO!G110,0)","v":0},0,null,0]
[{"$f":"IF(AND(INTRO!$E$37=\"Endemic\",INTRO!$E$39=\"Non-endemic\"),IF(COUNTRY_INFO!A111=0,\" \",COUNTRY_INFO!A111),\" \")","v":" "},{"$f":"IF(AND(INTRO!$E$37=\"Endemic\",INTRO!$E$39=\"Non-endemic\"),IF(COUNTRY_INFO!B111=0,\" \",COUNTRY_INFO!B111),\" \")","v":" "},{"$f":"IF(AND(INTRO!$E$37=\"Endemic\",INTRO!$E$39=\"Non-endemic\"),IF(COUNTRY_INFO!C111=0,\" \",COUNTRY_INFO!C111),\" \")","v":" "},{"$f":"IF(COUNTRY_INFO!Z111<>\"\",COUNTRY_INFO!V111,0)","v":0},{"$f":"IF(AND(COUNTRY_INFO!Z111<>\"\",COUNTRY_INFO!$H111=1),COUNTRY_INFO!F111+COUNTRY_INFO!G111,0)","v":0},0,null,0]
[{"$f":"IF(AND(INTRO!$E$37=\"Endemic\",INTRO!$E$39=\"Non-endemic\"),IF(COUNTRY_INFO!A112=0,\" \",COUNTRY_INFO!A112),\" \")","v":" "},{"$f":"IF(AND(INTRO!$E$37=\"Endemic\",INTRO!$E$39=\"Non-endemic\"),IF(COUNTRY_INFO!B112=0,\" \",COUNTRY_INFO!B112),\" \")","v":" "},{"$f":"IF(AND(INTRO!$E$37=\"Endemic\",INTRO!$E$39=\"Non-endemic\"),IF(COUNTRY_INFO!C112=0,\" \",COUNTRY_INFO!C112),\" \")","v":" "},{"$f":"IF(COUNTRY_INFO!Z112<>\"\",COUNTRY_INFO!V112,0)","v":0},{"$f":"IF(AND(COUNTRY_INFO!Z112<>\"\",COUNTRY_INFO!$H112=1),COUNTRY_INFO!F112+COUNTRY_INFO!G112,0)","v":0},0,null,0]
[{"$f":"IF(AND(INTRO!$E$37=\"Endemic\",INTRO!$E$39=\"Non-endemic\"),IF(COUNTRY_INFO!A113=0,\" \",COUNTRY_INFO!A113),\" \")","v":" "},{"$f":"IF(AND(INTRO!$E$37=\"Endemic\",INTRO!$E$39=\"Non-endemic\"),IF(COUNTRY_INFO!B113=0,\" \",COUNTRY_INFO!B113),\" \")","v":" "},{"$f":"IF(AND(INTRO!$E$37=\"Endemic\",INTRO!$E$39=\"Non-endemic\"),IF(COUNTRY_INFO!C113=0,\" \",COUNTRY_INFO!C113),\" \")","v":" "},{"$f":"IF(COUNTRY_INFO!Z113<>\"\",COUNTRY_INFO!V113,0)","v":0},{"$f":"IF(AND(COUNTRY_INFO!Z113<>\"\",COUNTRY_INFO!$H113=1),COUNTRY_INFO!F113+COUNTRY_INFO!G113,0)","v":0},0,null,0]
[{"$f":"IF(AND(INTRO!$E$37=\"Endemic\",INTRO!$E$39=\"Non-endemic\"),IF(COUNTRY_INFO!A114=0,\" \",COUNTRY_INFO!A114),\" \")","v":" "},{"$f":"IF(AND(INTRO!$E$37=\"Endemic\",INTRO!$E$39=\"Non-endemic\"),IF(COUNTRY_INFO!B114=0,\" \",COUNTRY_INFO!B114),\" \")","v":" "},{"$f":"IF(AND(INTRO!$E$37=\"Endemic\",INTRO!$E$39=\"Non-endemic\"),IF(COUNTRY_INFO!C114=0,\" \",COUNTRY_INFO!C114),\" \")","v":" "},{"$f":"IF(COUNTRY_INFO!Z114<>\"\",COUNTRY_INFO!V114,0)","v":0},{"$f":"IF(AND(COUNTRY_INFO!Z114<>\"\",COUNTRY_INFO!$H114=1),COUNTRY_INFO!F114+COUNTRY_INFO!G114,0)","v":0},0,null,0]
[{"$f":"IF(AND(INTRO!$E$37=\"Endemic\",INTRO!$E$39=\"Non-endemic\"),IF(COUNTRY_INFO!A115=0,\" \",COUNTRY_INFO!A115),\" \")","v":" "},{"$f":"IF(AND(INTRO!$E$37=\"Endemic\",INTRO!$E$39=\"Non-endemic\"),IF(COUNTRY_INFO!B115=0,\" \",COUNTRY_INFO!B115),\" \")","v":" "},{"$f":"IF(AND(INTRO!$E$37=\"Endemic\",INTRO!$E$39=\"Non-endemic\"),IF(COUNTRY_INFO!C115=0,\" \",COUNTRY_INFO!C115),\" \")","v":" "},{"$f":"IF(COUNTRY_INFO!Z115<>\"\",COUNTRY_INFO!V115,0)","v":0},{"$f":"IF(AND(COUNTRY_INFO!Z115<>\"\",COUNTRY_INFO!$H115=1),COUNTRY_INFO!F115+COUNTRY_INFO!G115,0)","v":0},0,null,0]
[{"$f":"IF(AND(INTRO!$E$37=\"Endemic\",INTRO!$E$39=\"Non-endemic\"),IF(COUNTRY_INFO!A116=0,\" \",COUNTRY_INFO!A116),\" \")","v":" "},{"$f":"IF(AND(INTRO!$E$37=\"Endemic\",INTRO!$E$39=\"Non-endemic\"),IF(COUNTRY_INFO!B116=0,\" \",COUNTRY_INFO!B116),\" \")","v":" "},{"$f":"IF(AND(INTRO!$E$37=\"Endemic\",INTRO!$E$39=\"Non-endemic\"),IF(COUNTRY_INFO!C116=0,\" \",COUNTRY_INFO!C116),\" \")","v":" "},{"$f":"IF(COUNTRY_INFO!Z116<>\"\",COUNTRY_INFO!V116,0)","v":0},{"$f":"IF(AND(COUNTRY_INFO!Z116<>\"\",COUNTRY_INFO!$H116=1),COUNTRY_INFO!F116+COUNTRY_INFO!G116,0)","v":0},0,null,0]
[{"$f":"IF(AND(INTRO!$E$37=\"Endemic\",INTRO!$E$39=\"Non-endemic\"),IF(COUNTRY_INFO!A117=0,\" \",COUNTRY_INFO!A117),\" \")","v":" "},{"$f":"IF(AND(INTRO!$E$37=\"Endemic\",INTRO!$E$39=\"Non-endemic\"),IF(COUNTRY_INFO!B117=0,\" \",COUNTRY_INFO!B117),\" \")","v":" "},{"$f":"IF(AND(INTRO!$E$37=\"Endemic\",INTRO!$E$39=\"Non-endemic\"),IF(COUNTRY_INFO!C117=0,\" \",COUNTRY_INFO!C117),\" \")","v":" "},{"$f":"IF(COUNTRY_INFO!Z117<>\"\",COUNTRY_INFO!V117,0)","v":0},{"$f":"IF(AND(COUNTRY_INFO!Z117<>\"\",COUNTRY_INFO!$H117=1),COUNTRY_INFO!F117+COUNTRY_INFO!G117,0)","v":0},0,null,0]
[{"$f":"IF(AND(INTRO!$E$37=\"Endemic\",INTRO!$E$39=\"Non-endemic\"),IF(COUNTRY_INFO!A118=0,\" \",COUNTRY_INFO!A118),\" \")","v":" "},{"$f":"IF(AND(INTRO!$E$37=\"Endemic\",INTRO!$E$39=\"Non-endemic\"),IF(COUNTRY_INFO!B118=0,\" \",COUNTRY_INFO!B118),\" \")","v":" "},{"$f":"IF(AND(INTRO!$E$37=\"Endemic\",INTRO!$E$39=\"Non-endemic\"),IF(COUNTRY_INFO!C118=0,\" \",COUNTRY_INFO!C118),\" \")","v":" "},{"$f":"IF(COUNTRY_INFO!Z118<>\"\",COUNTRY_INFO!V118,0)","v":0},{"$f":"IF(AND(COUNTRY_INFO!Z118<>\"\",COUNTRY_INFO!$H118=1),COUNTRY_INFO!F118+COUNTRY_INFO!G118,0)","v":0},0,null,0]
[{"$f":"IF(AND(INTRO!$E$37=\"Endemic\",INTRO!$E$39=\"Non-endemic\"),IF(COUNTRY_INFO!A119=0,\" \",COUNTRY_INFO!A119),\" \")","v":" "},{"$f":"IF(AND(INTRO!$E$37=\"Endemic\",INTRO!$E$39=\"Non-endemic\"),IF(COUNTRY_INFO!B119=0,\" \",COUNTRY_INFO!B119),\" \")","v":" "},{"$f":"IF(AND(INTRO!$E$37=\"Endemic\",INTRO!$E$39=\"Non-endemic\"),IF(COUNTRY_INFO!C119=0,\" \",COUNTRY_INFO!C119),\" \")","v":" "},{"$f":"IF(COUNTRY_INFO!Z119<>\"\",COUNTRY_INFO!V119,0)","v":0},{"$f":"IF(AND(COUNTRY_INFO!Z119<>\"\",COUNTRY_INFO!$H119=1),COUNTRY_INFO!F119+COUNTRY_INFO!G119,0)","v":0},0,null,0]
[{"$f":"IF(AND(INTRO!$E$37=\"Endemic\",INTRO!$E$39=\"Non-endemic\"),IF(COUNTRY_INFO!A120=0,\" \",COUNTRY_INFO!A120),\" \")","v":" "},{"$f":"IF(AND(INTRO!$E$37=\"Endemic\",INTRO!$E$39=\"Non-endemic\"),IF(COUNTRY_INFO!B120=0,\" \",COUNTRY_INFO!B120),\" \")","v":" "},{"$f":"IF(AND(INTRO!$E$37=\"Endemic\",INTRO!$E$39=\"Non-endemic\"),IF(COUNTRY_INFO!C120=0,\" \",COUNTRY_INFO!C120),\" \")","v":" "},{"$f":"IF(COUNTRY_INFO!Z120<>\"\",COUNTRY_INFO!V120,0)","v":0},{"$f":"IF(AND(COUNTRY_INFO!Z120<>\"\",COUNTRY_INFO!$H120=1),COUNTRY_INFO!F120+COUNTRY_INFO!G120,0)","v":0},0,null,0]
[{"$f":"IF(AND(INTRO!$E$37=\"Endemic\",INTRO!$E$39=\"Non-endemic\"),IF(COUNTRY_INFO!A121=0,\" \",COUNTRY_INFO!A121),\" \")","v":" "},{"$f":"IF(AND(INTRO!$E$37=\"Endemic\",INTRO!$E$39=\"Non-endemic\"),IF(COUNTRY_INFO!B121=0,\" \",COUNTRY_INFO!B121),\" \")","v":" "},{"$f":"IF(AND(INTRO!$E$37=\"Endemic\",INTRO!$E$39=\"Non-endemic\"),IF(COUNTRY_INFO!C121=0,\" \",COUNTRY_INFO!C121),\" \")","v":" "},{"$f":"IF(COUNTRY_INFO!Z121<>\"\",COUNTRY_INFO!V121,0)","v":0},{"$f":"IF(AND(COUNTRY_INFO!Z121<>\"\",COUNTRY_INFO!$H121=1),COUNTRY_INFO!F121+COUNTRY_INFO!G121,0)","v":0},0,null,0]
[{"$f":"IF(AND(INTRO!$E$37=\"Endemic\",INTRO!$E$39=\"Non-endemic\"),IF(COUNTRY_INFO!A122=0,\" \",COUNTRY_INFO!A122),\" \")","v":" "},{"$f":"IF(AND(INTRO!$E$37=\"Endemic\",INTRO!$E$39=\"Non-endemic\"),IF(COUNTRY_INFO!B122=0,\" \",COUNTRY_INFO!B122),\" \")","v":" "},{"$f":"IF(AND(INTRO!$E$37=\"Endemic\",INTRO!$E$39=\"Non-endemic\"),IF(COUNTRY_INFO!C122=0,\" \",COUNTRY_INFO!C122),\" \")","v":" "},{"$f":"IF(COUNTRY_INFO!Z122<>\"\",COUNTRY_INFO!V122,0)","v":0},{"$f":"IF(AND(COUNTRY_INFO!Z122<>\"\",COUNTRY_INFO!$H122=1),COUNTRY_INFO!F122+COUNTRY_INFO!G122,0)","v":0},0,null,0]
[{"$f":"IF(AND(INTRO!$E$37=\"Endemic\",INTRO!$E$39=\"Non-endemic\"),IF(COUNTRY_INFO!A123=0,\" \",COUNTRY_INFO!A123),\" \")","v":" "},{"$f":"IF(AND(INTRO!$E$37=\"Endemic\",INTRO!$E$39=\"Non-endemic\"),IF(COUNTRY_INFO!B123=0,\" \",COUNTRY_INFO!B123),\" \")","v":" "},{"$f":"IF(AND(INTRO!$E$37=\"Endemic\",INTRO!$E$39=\"Non-endemic\"),IF(COUNTRY_INFO!C123=0,\" \",COUNTRY_INFO!C123),\" \")","v":" "},{"$f":"IF(COUNTRY_INFO!Z123<>\"\",COUNTRY_INFO!V123,0)","v":0},{"$f":"IF(AND(COUNTRY_INFO!Z123<>\"\",COUNTRY_INFO!$H123=1),COUNTRY_INFO!F123+COUNTRY_INFO!G123,0)","v":0},0,null,0]
[{"$f":"IF(AND(INTRO!$E$37=\"Endemic\",INTRO!$E$39=\"Non-endemic\"),IF(COUNTRY_INFO!A124=0,\" \",COUNTRY_INFO!A124),\" \")","v":" "},{"$f":"IF(AND(INTRO!$E$37=\"Endemic\",INTRO!$E$39=\"Non-endemic\"),IF(COUNTRY_INFO!B124=0,\" \",COUNTRY_INFO!B124),\" \")","v":" "},{"$f":"IF(AND(INTRO!$E$37=\"Endemic\",INTRO!$E$39=\"Non-endemic\"),IF(COUNTRY_INFO!C124=0,\" \",COUNTRY_INFO!C124),\" \")","v":" "},{"$f":"IF(COUNTRY_INFO!Z124<>\"\",COUNTRY_INFO!V124,0)","v":0},{"$f":"IF(AND(COUNTRY_INFO!Z124<>\"\",COUNTRY_INFO!$H124=1),COUNTRY_INFO!F124+COUNTRY_INFO!G124,0)","v":0},0,null,0]
[{"$f":"IF(AND(INTRO!$E$37=\"Endemic\",INTRO!$E$39=\"Non-endemic\"),IF(COUNTRY_INFO!A125=0,\" \",COUNTRY_INFO!A125),\" \")","v":" "},{"$f":"IF(AND(INTRO!$E$37=\"Endemic\",INTRO!$E$39=\"Non-endemic\"),IF(COUNTRY_INFO!B125=0,\" \",COUNTRY_INFO!B125),\" \")","v":" "},{"$f":"IF(AND(INTRO!$E$37=\"Endemic\",INTRO!$E$39=\"Non-endemic\"),IF(COUNTRY_INFO!C125=0,\" \",COUNTRY_INFO!C125),\" \")","v":" "},{"$f":"IF(COUNTRY_INFO!Z125<>\"\",COUNTRY_INFO!V125,0)","v":0},{"$f":"IF(AND(COUNTRY_INFO!Z125<>\"\",COUNTRY_INFO!$H125=1),COUNTRY_INFO!F125+COUNTRY_INFO!G125,0)","v":0},0,null,0]
[{"$f":"IF(AND(INTRO!$E$37=\"Endemic\",INTRO!$E$39=\"Non-endemic\"),IF(COUNTRY_INFO!A126=0,\" \",COUNTRY_INFO!A126),\" \")","v":" "},{"$f":"IF(AND(INTRO!$E$37=\"Endemic\",INTRO!$E$39=\"Non-endemic\"),IF(COUNTRY_INFO!B126=0,\" \",COUNTRY_INFO!B126),\" \")","v":" "},{"$f":"IF(AND(INTRO!$E$37=\"Endemic\",INTRO!$E$39=\"Non-endemic\"),IF(COUNTRY_INFO!C126=0,\" \",COUNTRY_INFO!C126),\" \")","v":" "},{"$f":"IF(COUNTRY_INFO!Z126<>\"\",COUNTRY_INFO!V126,0)","v":0},{"$f":"IF(AND(COUNTRY_INFO!Z126<>\"\",COUNTRY_INFO!$H126=1),COUNTRY_INFO!F126+COUNTRY_INFO!G126,0)","v":0},0,null,0]
[{"$f":"IF(AND(INTRO!$E$37=\"Endemic\",INTRO!$E$39=\"Non-endemic\"),IF(COUNTRY_INFO!A127=0,\" \",COUNTRY_INFO!A127),\" \")","v":" "},{"$f":"IF(AND(INTRO!$E$37=\"Endemic\",INTRO!$E$39=\"Non-endemic\"),IF(COUNTRY_INFO!B127=0,\" \",COUNTRY_INFO!B127),\" \")","v":" "},{"$f":"IF(AND(INTRO!$E$37=\"Endemic\",INTRO!$E$39=\"Non-endemic\"),IF(COUNTRY_INFO!C127=0,\" \",COUNTRY_INFO!C127),\" \")","v":" "},{"$f":"IF(COUNTRY_INFO!Z127<>\"\",COUNTRY_INFO!V127,0)","v":0},{"$f":"IF(AND(COUNTRY_INFO!Z127<>\"\",COUNTRY_INFO!$H127=1),COUNTRY_INFO!F127+COUNTRY_INFO!G127,0)","v":0},0,null,0]
[{"$f":"IF(AND(INTRO!$E$37=\"Endemic\",INTRO!$E$39=\"Non-endemic\"),IF(COUNTRY_INFO!A128=0,\" \",COUNTRY_INFO!A128),\" \")","v":" "},{"$f":"IF(AND(INTRO!$E$37=\"Endemic\",INTRO!$E$39=\"Non-endemic\"),IF(COUNTRY_INFO!B128=0,\" \",COUNTRY_INFO!B128),\" \")","v":" "},{"$f":"IF(AND(INTRO!$E$37=\"Endemic\",INTRO!$E$39=\"Non-endemic\"),IF(COUNTRY_INFO!C128=0,\" \",COUNTRY_INFO!C128),\" \")","v":" "},{"$f":"IF(COUNTRY_INFO!Z128<>\"\",COUNTRY_INFO!V128,0)","v":0},{"$f":"IF(AND(COUNTRY_INFO!Z128<>\"\",COUNTRY_INFO!$H128=1),COUNTRY_INFO!F128+COUNTRY_INFO!G128,0)","v":0},0,null,0]
[{"$f":"IF(AND(INTRO!$E$37=\"Endemic\",INTRO!$E$39=\"Non-endemic\"),IF(COUNTRY_INFO!A129=0,\" \",COUNTRY_INFO!A129),\" \")","v":" "},{"$f":"IF(AND(INTRO!$E$37=\"Endemic\",INTRO!$E$39=\"Non-endemic\"),IF(COUNTRY_INFO!B129=0,\" \",COUNTRY_INFO!B129),\" \")","v":" "},{"$f":"IF(AND(INTRO!$E$37=\"Endemic\",INTRO!$E$39=\"Non-endemic\"),IF(COUNTRY_INFO!C129=0,\" \",COUNTRY_INFO!C129),\" \")","v":" "},{"$f":"IF(COUNTRY_INFO!Z129<>\"\",COUNTRY_INFO!V129,0)","v":0},{"$f":"IF(AND(COUNTRY_INFO!Z129<>\"\",COUNTRY_INFO!$H129=1),COUNTRY_INFO!F129+COUNTRY_INFO!G129,0)","v":0},0,null,0]
[{"$f":"IF(AND(INTRO!$E$37=\"Endemic\",INTRO!$E$39=\"Non-endemic\"),IF(COUNTRY_INFO!A130=0,\" \",COUNTRY_INFO!A130),\" \")","v":" "},{"$f":"IF(AND(INTRO!$E$37=\"Endemic\",INTRO!$E$39=\"Non-endemic\"),IF(COUNTRY_INFO!B130=0,\" \",COUNTRY_INFO!B130),\" \")","v":" "},{"$f":"IF(AND(INTRO!$E$37=\"Endemic\",INTRO!$E$39=\"Non-endemic\"),IF(COUNTRY_INFO!C130=0,\" \",COUNTRY_INFO!C130),\" \")","v":" "},{"$f":"IF(COUNTRY_INFO!Z130<>\"\",COUNTRY_INFO!V130,0)","v":0},{"$f":"IF(AND(COUNTRY_INFO!Z130<>\"\",COUNTRY_INFO!$H130=1),COUNTRY_INFO!F130+COUNTRY_INFO!G130,0)","v":0},0,null,0]
[{"$f":"IF(AND(INTRO!$E$37=\"Endemic\",INTRO!$E$39=\"Non-endemic\"),IF(COUNTRY_INFO!A131=0,\" \",COUNTRY_INFO!A131),\" \")","v":" "},{"$f":"IF(AND(INTRO!$E$37=\"Endemic\",INTRO!$E$39=\"Non-endemic\"),IF(COUNTRY_INFO!B131=0,\" \",COUNTRY_INFO!B131),\" \")","v":" "},{"$f":"IF(AND(INTRO!$E$37=\"Endemic\",INTRO!$E$39=\"Non-endemic\"),IF(COUNTRY_INFO!C131=0,\" \",COUNTRY_INFO!C131),\" \")","v":" "},{"$f":"IF(COUNTRY_INFO!Z131<>\"\",COUNTRY_INFO!V131,0)","v":0},{"$f":"IF(AND(COUNTRY_INFO!Z131<>\"\",COUNTRY_INFO!$H131=1),COUNTRY_INFO!F131+COUNTRY_INFO!G131,0)","v":0},0,null,0]
[{"$f":"IF(AND(INTRO!$E$37=\"Endemic\",INTRO!$E$39=\"Non-endemic\"),IF(COUNTRY_INFO!A132=0,\" \",COUNTRY_INFO!A132),\" \")","v":" "},{"$f":"IF(AND(INTRO!$E$37=\"Endemic\",INTRO!$E$39=\"Non-endemic\"),IF(COUNTRY_INFO!B132=0,\" \",COUNTRY_INFO!B132),\" \")","v":" "},{"$f":"IF(AND(INTRO!$E$37=\"Endemic\",INTRO!$E$39=\"Non-endemic\"),IF(COUNTRY_INFO!C132=0,\" \",COUNTRY_INFO!C132),\" \")","v":" "},{"$f":"IF(COUNTRY_INFO!Z132<>\"\",COUNTRY_INFO!V132,0)","v":0},{"$f":"IF(AND(COUNTRY_INFO!Z132<>\"\",COUNTRY_INFO!$H132=1),COUNTRY_INFO!F132+COUNTRY_INFO!G132,0)","v":0},0,null,0]
[{"$f":"IF(AND(INTRO!$E$37=\"Endemic\",INTRO!$E$39=\"Non-endemic\"),IF(COUNTRY_INFO!A133=0,\" \",COUNTRY_INFO!A133),\" \")","v":" "},{"$f":"IF(AND(INTRO!$E$37=\"Endemic\",INTRO!$E$39=\"Non-endemic\"),IF(COUNTRY_INFO!B133=0,\" \",COUNTRY_INFO!B133),\" \")","v":" "},{"$f":"IF(AND(INTRO!$E$37=\"Endemic\",INTRO!$E$39=\"Non-endemic\"),IF(COUNTRY_INFO!C133=0,\" \",COUNTRY_INFO!C133),\" \")","v":" "},{"$f":"IF(COUNTRY_INFO!Z133<>\"\",COUNTRY_INFO!V133,0)","v":0},{"$f":"IF(AND(COUNTRY_INFO!Z133<>\"\",COUNTRY_INFO!$H133=1),COUNTRY_INFO!F133+COUNTRY_INFO!G133,0)","v":0},0,null,0]
[{"$f":"IF(AND(INTRO!$E$37=\"Endemic\",INTRO!$E$39=\"Non-endemic\"),IF(COUNTRY_INFO!A134=0,\" \",COUNTRY_INFO!A134),\" \")","v":" "},{"$f":"IF(AND(INTRO!$E$37=\"Endemic\",INTRO!$E$39=\"Non-endemic\"),IF(COUNTRY_INFO!B134=0,\" \",COUNTRY_INFO!B134),\" \")","v":" "},{"$f":"IF(AND(INTRO!$E$37=\"Endemic\",INTRO!$E$39=\"Non-endemic\"),IF(COUNTRY_INFO!C134=0,\" \",COUNTRY_INFO!C134),\" \")","v":" "},{"$f":"IF(COUNTRY_INFO!Z134<>\"\",COUNTRY_INFO!V134,0)","v":0},{"$f":"IF(AND(COUNTRY_INFO!Z134<>\"\",COUNTRY_INFO!$H134=1),COUNTRY_INFO!F134+COUNTRY_INFO!G134,0)","v":0},0,null,0]
[{"$f":"IF(AND(INTRO!$E$37=\"Endemic\",INTRO!$E$39=\"Non-endemic\"),IF(COUNTRY_INFO!A135=0,\" \",COUNTRY_INFO!A135),\" \")","v":" "},{"$f":"IF(AND(INTRO!$E$37=\"Endemic\",INTRO!$E$39=\"Non-endemic\"),IF(COUNTRY_INFO!B135=0,\" \",COUNTRY_INFO!B135),\" \")","v":" "},{"$f":"IF(AND(INTRO!$E$37=\"Endemic\",INTRO!$E$39=\"Non-endemic\"),IF(COUNTRY_INFO!C135=0,\" \",COUNTRY_INFO!C135),\" \")","v":" "},{"$f":"IF(COUNTRY_INFO!Z135<>\"\",COUNTRY_INFO!V135,0)","v":0},{"$f":"IF(AND(COUNTRY_INFO!Z135<>\"\",COUNTRY_INFO!$H135=1),COUNTRY_INFO!F135+COUNTRY_INFO!G135,0)","v":0},0,null,0]
[{"$f":"IF(AND(INTRO!$E$37=\"Endemic\",INTRO!$E$39=\"Non-endemic\"),IF(COUNTRY_INFO!A136=0,\" \",COUNTRY_INFO!A136),\" \")","v":" "},{"$f":"IF(AND(INTRO!$E$37=\"Endemic\",INTRO!$E$39=\"Non-endemic\"),IF(COUNTRY_INFO!B136=0,\" \",COUNTRY_INFO!B136),\" \")","v":" "},{"$f":"IF(AND(INTRO!$E$37=\"Endemic\",INTRO!$E$39=\"Non-endemic\"),IF(COUNTRY_INFO!C136=0,\" \",COUNTRY_INFO!C136),\" \")","v":" "},{"$f":"IF(COUNTRY_INFO!Z136<>\"\",COUNTRY_INFO!V136,0)","v":0},{"$f":"IF(AND(COUNTRY_INFO!Z136<>\"\",COUNTRY_INFO!$H136=1),COUNTRY_INFO!F136+COUNTRY_INFO!G136,0)","v":0},0,null,0]
[{"$f":"IF(AND(INTRO!$E$37=\"Endemic\",INTRO!$E$39=\"Non-endemic\"),IF(COUNTRY_INFO!A137=0,\" \",COUNTRY_INFO!A137),\" \")","v":" "},{"$f":"IF(AND(INTRO!$E$37=\"Endemic\",INTRO!$E$39=\"Non-endemic\"),IF(COUNTRY_INFO!B137=0,\" \",COUNTRY_INFO!B137),\" \")","v":" "},{"$f":"IF(AND(INTRO!$E$37=\"Endemic\",INTRO!$E$39=\"Non-endemic\"),IF(COUNTRY_INFO!C137=0,\" \",COUNTRY_INFO!C137),\" \")","v":" "},{"$f":"IF(COUNTRY_INFO!Z137<>\"\",COUNTRY_INFO!V137,0)","v":0},{"$f":"IF(AND(COUNTRY_INFO!Z137<>\"\",COUNTRY_INFO!$H137=1),COUNTRY_INFO!F137+COUNTRY_INFO!G137,0)","v":0},0,null,0]
[{"$f":"IF(AND(INTRO!$E$37=\"Endemic\",INTRO!$E$39=\"Non-endemic\"),IF(COUNTRY_INFO!A138=0,\" \",COUNTRY_INFO!A138),\" \")","v":" "},{"$f":"IF(AND(INTRO!$E$37=\"Endemic\",INTRO!$E$39=\"Non-endemic\"),IF(COUNTRY_INFO!B138=0,\" \",COUNTRY_INFO!B138),\" \")","v":" "},{"$f":"IF(AND(INTRO!$E$37=\"Endemic\",INTRO!$E$39=\"Non-endemic\"),IF(COUNTRY_INFO!C138=0,\" \",COUNTRY_INFO!C138),\" \")","v":" "},{"$f":"IF(COUNTRY_INFO!Z138<>\"\",COUNTRY_INFO!V138,0)","v":0},{"$f":"IF(AND(COUNTRY_INFO!Z138<>\"\",COUNTRY_INFO!$H138=1),COUNTRY_INFO!F138+COUNTRY_INFO!G138,0)","v":0},0,null,0]
[{"$f":"IF(AND(INTRO!$E$37=\"Endemic\",INTRO!$E$39=\"Non-endemic\"),IF(COUNTRY_INFO!A139=0,\" \",COUNTRY_INFO!A139),\" \")","v":" "},{"$f":"IF(AND(INTRO!$E$37=\"Endemic\",INTRO!$E$39=\"Non-endemic\"),IF(COUNTRY_INFO!B139=0,\" \",COUNTRY_INFO!B139),\" \")","v":" "},{"$f":"IF(AND(INTRO!$E$37=\"Endemic\",INTRO!$E$39=\"Non-endemic\"),IF(COUNTRY_INFO!C139=0,\" \",COUNTRY_INFO!C139),\" \")","v":" "},{"$f":"IF(COUNTRY_INFO!Z139<>\"\",COUNTRY_INFO!V139,0)","v":0},{"$f":"IF(AND(COUNTRY_INFO!Z139<>\"\",COUNTRY_INFO!$H139=1),COUNTRY_INFO!F139+COUNTRY_INFO!G139,0)","v":0},{"$f":"E139*2.8","v":0},null,0]
[{"$f":"IF(AND(INTRO!$E$37=\"Endemic\",INTRO!$E$39=\"Non-endemic\"),IF(COUNTRY_INFO!A140=0,\" \",COUNTRY_INFO!A140),\" \")","v":" "},{"$f":"IF(AND(INTRO!$E$37=\"Endemic\",INTRO!$E$39=\"Non-endemic\"),IF(COUNTRY_INFO!B140=0,\" \",COUNTRY_INFO!B140),\" \")","v":" "},{"$f":"IF(AND(INTRO!$E$37=\"Endemic\",INTRO!$E$39=\"Non-endemic\"),IF(COUNTRY_INFO!C140=0,\" \",COUNTRY_INFO!C140),\" \")","v":" "},{"$f":"IF(COUNTRY_INFO!Z140<>\"\",COUNTRY_INFO!V140,0)","v":0},{"$f":"IF(AND(COUNTRY_INFO!Z140<>\"\",COUNTRY_INFO!$H140=1),COUNTRY_INFO!F140+COUNTRY_INFO!G140,0)","v":0},0,null,0]
[{"$f":"IF(AND(INTRO!$E$37=\"Endemic\",INTRO!$E$39=\"Non-endemic\"),IF(COUNTRY_INFO!A141=0,\" \",COUNTRY_INFO!A141),\" \")","v":" "},{"$f":"IF(AND(INTRO!$E$37=\"Endemic\",INTRO!$E$39=\"Non-endemic\"),IF(COUNTRY_INFO!B141=0,\" \",COUNTRY_INFO!B141),\" \")","v":" "},{"$f":"IF(AND(INTRO!$E$37=\"Endemic\",INTRO!$E$39=\"Non-endemic\"),IF(COUNTRY_INFO!C141=0,\" \",COUNTRY_INFO!C141),\" \")","v":" "},{"$f":"IF(COUNTRY_INFO!Z141<>\"\",COUNTRY_INFO!V141,0)","v":0},{"$f":"IF(AND(COUNTRY_INFO!Z141<>\"\",COUNTRY_INFO!$H141=1),COUNTRY_INFO!F141+COUNTRY_INFO!G141,0)","v":0},0,null,0]
[{"$f":"IF(AND(INTRO!$E$37=\"Endemic\",INTRO!$E$39=\"Non-endemic\"),IF(COUNTRY_INFO!A142=0,\" \",COUNTRY_INFO!A142),\" \")","v":" "},{"$f":"IF(AND(INTRO!$E$37=\"Endemic\",INTRO!$E$39=\"Non-endemic\"),IF(COUNTRY_INFO!B142=0,\" \",COUNTRY_INFO!B142),\" \")","v":" "},{"$f":"IF(AND(INTRO!$E$37=\"Endemic\",INTRO!$E$39=\"Non-endemic\"),IF(COUNTRY_INFO!C142=0,\" \",COUNTRY_INFO!C142),\" \")","v":" "},{"$f":"IF(COUNTRY_INFO!Z142<>\"\",COUNTRY_INFO!V142,0)","v":0},{"$f":"IF(AND(COUNTRY_INFO!Z142<>\"\",COUNTRY_INFO!$H142=1),COUNTRY_INFO!F142+COUNTRY_INFO!G142,0)","v":0},0,null,0]
[{"$f":"IF(AND(INTRO!$E$37=\"Endemic\",INTRO!$E$39=\"Non-endemic\"),IF(COUNTRY_INFO!A143=0,\" \",COUNTRY_INFO!A143),\" \")","v":" "},{"$f":"IF(AND(INTRO!$E$37=\"Endemic\",INTRO!$E$39=\"Non-endemic\"),IF(COUNTRY_INFO!B143=0,\" \",COUNTRY_INFO!B143),\" \")","v":" "},{"$f":"IF(AND(INTRO!$E$37=\"Endemic\",INTRO!$E$39=\"Non-endemic\"),IF(COUNTRY_INFO!C143=0,\" \",COUNTRY_INFO!C143),\" \")","v":" "},{"$f":"IF(COUNTRY_INFO!Z143<>\"\",COUNTRY_INFO!V143,0)","v":0},{"$f":"IF(AND(COUNTRY_INFO!Z143<>\"\",COUNTRY_INFO!$H143=1),COUNTRY_INFO!F143+COUNTRY_INFO!G143,0)","v":0},0,null,0]
[{"$f":"IF(AND(INTRO!$E$37=\"Endemic\",INTRO!$E$39=\"Non-endemic\"),IF(COUNTRY_INFO!A144=0,\" \",COUNTRY_INFO!A144),\" \")","v":" "},{"$f":"IF(AND(INTRO!$E$37=\"Endemic\",INTRO!$E$39=\"Non-endemic\"),IF(COUNTRY_INFO!B144=0,\" \",COUNTRY_INFO!B144),\" \")","v":" "},{"$f":"IF(AND(INTRO!$E$37=\"Endemic\",INTRO!$E$39=\"Non-endemic\"),IF(COUNTRY_INFO!C144=0,\" \",COUNTRY_INFO!C144),\" \")","v":" "},{"$f":"IF(COUNTRY_INFO!Z144<>\"\",COUNTRY_INFO!V144,0)","v":0},{"$f":"IF(AND(COUNTRY_INFO!Z144<>\"\",COUNTRY_INFO!$H144=1),COUNTRY_INFO!F144+COUNTRY_INFO!G144,0)","v":0},0,null,0]
[{"$f":"IF(AND(INTRO!$E$37=\"Endemic\",INTRO!$E$39=\"Non-endemic\"),IF(COUNTRY_INFO!A145=0,\" \",COUNTRY_INFO!A145),\" \")","v":" "},{"$f":"IF(AND(INTRO!$E$37=\"Endemic\",INTRO!$E$39=\"Non-endemic\"),IF(COUNTRY_INFO!B145=0,\" \",COUNTRY_INFO!B145),\" \")","v":" "},{"$f":"IF(AND(INTRO!$E$37=\"Endemic\",INTRO!$E$39=\"Non-endemic\"),IF(COUNTRY_INFO!C145=0,\" \",COUNTRY_INFO!C145),\" \")","v":" "},{"$f":"IF(COUNTRY_INFO!Z145<>\"\",COUNTRY_INFO!V145,0)","v":0},{"$f":"IF(AND(COUNTRY_INFO!Z145<>\"\",COUNTRY_INFO!$H145=1),COUNTRY_INFO!F145+COUNTRY_INFO!G145,0)","v":0},0,null,0]
[{"$f":"IF(AND(INTRO!$E$37=\"Endemic\",INTRO!$E$39=\"Non-endemic\"),IF(COUNTRY_INFO!A146=0,\" \",COUNTRY_INFO!A146),\" \")","v":" "},{"$f":"IF(AND(INTRO!$E$37=\"Endemic\",INTRO!$E$39=\"Non-endemic\"),IF(COUNTRY_INFO!B146=0,\" \",COUNTRY_INFO!B146),\" \")","v":" "},{"$f":"IF(AND(INTRO!$E$37=\"Endemic\",INTRO!$E$39=\"Non-endemic\"),IF(COUNTRY_INFO!C146=0,\" \",COUNTRY_INFO!C146),\" \")","v":" "},{"$f":"IF(COUNTRY_INFO!Z146<>\"\",COUNTRY_INFO!V146,0)","v":0},{"$f":"IF(AND(COUNTRY_INFO!Z146<>\"\",COUNTRY_INFO!$H146=1),COUNTRY_INFO!F146+COUNTRY_INFO!G146,0)","v":0},0,null,0]
[{"$f":"IF(AND(INTRO!$E$37=\"Endemic\",INTRO!$E$39=\"Non-endemic\"),IF(COUNTRY_INFO!A147=0,\" \",COUNTRY_INFO!A147),\" \")","v":" "},{"$f":"IF(AND(INTRO!$E$37=\"Endemic\",INTRO!$E$39=\"Non-endemic\"),IF(COUNTRY_INFO!B147=0,\" \",COUNTRY_INFO!B147),\" \")","v":" "},{"$f":"IF(AND(INTRO!$E$37=\"Endemic\",INTRO!$E$39=\"Non-endemic\"),IF(COUNTRY_INFO!C147=0,\" \",COUNTRY_INFO!C147),\" \")","v":" "},{"$f":"IF(COUNTRY_INFO!Z147<>\"\",COUNTRY_INFO!V147,0)","v":0},{"$f":"IF(AND(COUNTRY_INFO!Z147<>\"\",COUNTRY_INFO!$H147=1),COUNTRY_INFO!F147+COUNTRY_INFO!G147,0)","v":0},0,null,0]
[{"$f":"IF(AND(INTRO!$E$37=\"Endemic\",INTRO!$E$39=\"Non-endemic\"),IF(COUNTRY_INFO!A148=0,\" \",COUNTRY_INFO!A148),\" \")","v":" "},{"$f":"IF(AND(INTRO!$E$37=\"Endemic\",INTRO!$E$39=\"Non-endemic\"),IF(COUNTRY_INFO!B148=0,\" \",COUNTRY_INFO!B148),\" \")","v":" "},{"$f":"IF(AND(INTRO!$E$37=\"Endemic\",INTRO!$E$39=\"Non-endemic\"),IF(COUNTRY_INFO!C148=0,\" \",COUNTRY_INFO!C148),\" \")","v":" "},{"$f":"IF(COUNTRY_INFO!Z148<>\"\",COUNTRY_INFO!V148,0)","v":0},{"$f":"IF(AND(COUNTRY_INFO!Z148<>\"\",COUNTRY_INFO!$H148=1),COUNTRY_INFO!F148+COUNTRY_INFO!G148,0)","v":0},0,null,0]
[{"$f":"IF(AND(INTRO!$E$37=\"Endemic\",INTRO!$E$39=\"Non-endemic\"),IF(COUNTRY_INFO!A149=0,\" \",COUNTRY_INFO!A149),\" \")","v":" "},{"$f":"IF(AND(INTRO!$E$37=\"Endemic\",INTRO!$E$39=\"Non-endemic\"),IF(COUNTRY_INFO!B149=0,\" \",COUNTRY_INFO!B149),\" \")","v":" "},{"$f":"IF(AND(INTRO!$E$37=\"Endemic\",INTRO!$E$39=\"Non-endemic\"),IF(COUNTRY_INFO!C149=0,\" \",COUNTRY_INFO!C149),\" \")","v":" "},{"$f":"IF(COUNTRY_INFO!Z149<>\"\",COUNTRY_INFO!V149,0)","v":0},{"$f":"IF(AND(COUNTRY_INFO!Z149<>\"\",COUNTRY_INFO!$H149=1),COUNTRY_INFO!F149+COUNTRY_INFO!G149,0)","v":0},0,null,0]
[{"$f":"IF(AND(INTRO!$E$37=\"Endemic\",INTRO!$E$39=\"Non-endemic\"),IF(COUNTRY_INFO!A150=0,\" \",COUNTRY_INFO!A150),\" \")","v":" "},{"$f":"IF(AND(INTRO!$E$37=\"Endemic\",INTRO!$E$39=\"Non-endemic\"),IF(COUNTRY_INFO!B150=0,\" \",COUNTRY_INFO!B150),\" \")","v":" "},{"$f":"IF(AND(INTRO!$E$37=\"Endemic\",INTRO!$E$39=\"Non-endemic\"),IF(COUNTRY_INFO!C150=0,\" \",COUNTRY_INFO!C150),\" \")","v":" "},{"$f":"IF(COUNTRY_INFO!Z150<>\"\",COUNTRY_INFO!V150,0)","v":0},{"$f":"IF(AND(COUNTRY_INFO!Z150<>\"\",COUNTRY_INFO!$H150=1),COUNTRY_INFO!F150+COUNTRY_INFO!G150,0)","v":0},0,null,0]
[{"$f":"IF(AND(INTRO!$E$37=\"Endemic\",INTRO!$E$39=\"Non-endemic\"),IF(COUNTRY_INFO!A151=0,\" \",COUNTRY_INFO!A151),\" \")","v":" "},{"$f":"IF(AND(INTRO!$E$37=\"Endemic\",INTRO!$E$39=\"Non-endemic\"),IF(COUNTRY_INFO!B151=0,\" \",COUNTRY_INFO!B151),\" \")","v":" "},{"$f":"IF(AND(INTRO!$E$37=\"Endemic\",INTRO!$E$39=\"Non-endemic\"),IF(COUNTRY_INFO!C151=0,\" \",COUNTRY_INFO!C151),\" \")","v":" "},{"$f":"IF(COUNTRY_INFO!Z151<>\"\",COUNTRY_INFO!V151,0)","v":0},{"$f":"IF(AND(COUNTRY_INFO!Z151<>\"\",COUNTRY_INFO!$H151=1),COUNTRY_INFO!F151+COUNTRY_INFO!G151,0)","v":0},0,null,0]
[{"$f":"IF(AND(INTRO!$E$37=\"Endemic\",INTRO!$E$39=\"Non-endemic\"),IF(COUNTRY_INFO!A152=0,\" \",COUNTRY_INFO!A152),\" \")","v":" "},{"$f":"IF(AND(INTRO!$E$37=\"Endemic\",INTRO!$E$39=\"Non-endemic\"),IF(COUNTRY_INFO!B152=0,\" \",COUNTRY_INFO!B152),\" \")","v":" "},{"$f":"IF(AND(INTRO!$E$37=\"Endemic\",INTRO!$E$39=\"Non-endemic\"),IF(COUNTRY_INFO!C152=0,\" \",COUNTRY_INFO!C152),\" \")","v":" "},{"$f":"IF(COUNTRY_INFO!Z152<>\"\",COUNTRY_INFO!V152,0)","v":0},{"$f":"IF(AND(COUNTRY_INFO!Z152<>\"\",COUNTRY_INFO!$H152=1),COUNTRY_INFO!F152+COUNTRY_INFO!G152,0)","v":0},0,null,0]
[{"$f":"IF(AND(INTRO!$E$37=\"Endemic\",INTRO!$E$39=\"Non-endemic\"),IF(COUNTRY_INFO!A153=0,\" \",COUNTRY_INFO!A153),\" \")","v":" "},{"$f":"IF(AND(INTRO!$E$37=\"Endemic\",INTRO!$E$39=\"Non-endemic\"),IF(COUNTRY_INFO!B153=0,\" \",COUNTRY_INFO!B153),\" \")","v":" "},{"$f":"IF(AND(INTRO!$E$37=\"Endemic\",INTRO!$E$39=\"Non-endemic\"),IF(COUNTRY_INFO!C153=0,\" \",COUNTRY_INFO!C153),\" \")","v":" "},{"$f":"IF(COUNTRY_INFO!Z153<>\"\",COUNTRY_INFO!V153,0)","v":0},{"$f":"IF(AND(COUNTRY_INFO!Z153<>\"\",COUNTRY_INFO!$H153=1),COUNTRY_INFO!F153+COUNTRY_INFO!G153,0)","v":0},0,null,0]
[{"$f":"IF(AND(INTRO!$E$37=\"Endemic\",INTRO!$E$39=\"Non-endemic\"),IF(COUNTRY_INFO!A154=0,\" \",COUNTRY_INFO!A154),\" \")","v":" "},{"$f":"IF(AND(INTRO!$E$37=\"Endemic\",INTRO!$E$39=\"Non-endemic\"),IF(COUNTRY_INFO!B154=0,\" \",COUNTRY_INFO!B154),\" \")","v":" "},{"$f":"IF(AND(INTRO!$E$37=\"Endemic\",INTRO!$E$39=\"Non-endemic\"),IF(COUNTRY_INFO!C154=0,\" \",COUNTRY_INFO!C154),\" \")","v":" "},{"$f":"IF(COUNTRY_INFO!Z154<>\"\",COUNTRY_INFO!V154,0)","v":0},{"$f":"IF(AND(COUNTRY_INFO!Z154<>\"\",COUNTRY_INFO!$H154=1),COUNTRY_INFO!F154+COUNTRY_INFO!G154,0)","v":0},0,null,0]
[{"$f":"IF(AND(INTRO!$E$37=\"Endemic\",INTRO!$E$39=\"Non-endemic\"),IF(COUNTRY_INFO!A155=0,\" \",COUNTRY_INFO!A155),\" \")","v":" "},{"$f":"IF(AND(INTRO!$E$37=\"Endemic\",INTRO!$E$39=\"Non-endemic\"),IF(COUNTRY_INFO!B155=0,\" \",COUNTRY_INFO!B155),\" \")","v":" "},{"$f":"IF(AND(INTRO!$E$37=\"Endemic\",INTRO!$E$39=\"Non-endemic\"),IF(COUNTRY_INFO!C155=0,\" \",COUNTRY_INFO!C155),\" \")","v":" "},{"$f":"IF(COUNTRY_INFO!Z155<>\"\",COUNTRY_INFO!V155,0)","v":0},{"$f":"IF(AND(COUNTRY_INFO!Z155<>\"\",COUNTRY_INFO!$H155=1),COUNTRY_INFO!F155+COUNTRY_INFO!G155,0)","v":0},0,null,0]
[{"$f":"IF(AND(INTRO!$E$37=\"Endemic\",INTRO!$E$39=\"Non-endemic\"),IF(COUNTRY_INFO!A156=0,\" \",COUNTRY_INFO!A156),\" \")","v":" "},{"$f":"IF(AND(INTRO!$E$37=\"Endemic\",INTRO!$E$39=\"Non-endemic\"),IF(COUNTRY_INFO!B156=0,\" \",COUNTRY_INFO!B156),\" \")","v":" "},{"$f":"IF(AND(INTRO!$E$37=\"Endemic\",INTRO!$E$39=\"Non-endemic\"),IF(COUNTRY_INFO!C156=0,\" \",COUNTRY_INFO!C156),\" \")","v":" "},{"$f":"IF(COUNTRY_INFO!Z156<>\"\",COUNTRY_INFO!V156,0)","v":0},{"$f":"IF(AND(COUNTRY_INFO!Z156<>\"\",COUNTRY_INFO!$H156=1),COUNTRY_INFO!F156+COUNTRY_INFO!G156,0)","v":0},0,null,0]
[{"$f":"IF(AND(INTRO!$E$37=\"Endemic\",INTRO!$E$39=\"Non-endemic\"),IF(COUNTRY_INFO!A157=0,\" \",COUNTRY_INFO!A157),\" \")","v":" "},{"$f":"IF(AND(INTRO!$E$37=\"Endemic\",INTRO!$E$39=\"Non-endemic\"),IF(COUNTRY_INFO!B157=0,\" \",COUNTRY_INFO!B157),\" \")","v":" "},{"$f":"IF(AND(INTRO!$E$37=\"Endemic\",INTRO!$E$39=\"Non-endemic\"),IF(COUNTRY_INFO!C157=0,\" \",COUNTRY_INFO!C157),\" \")","v":" "},{"$f":"IF(COUNTRY_INFO!Z157<>\"\",COUNTRY_INFO!V157,0)","v":0},{"$f":"IF(AND(COUNTRY_INFO!Z157<>\"\",COUNTRY_INFO!$H157=1),COUNTRY_INFO!F157+COUNTRY_INFO!G157,0)","v":0},0,null,0]
[{"$f":"IF(AND(INTRO!$E$37=\"Endemic\",INTRO!$E$39=\"Non-endemic\"),IF(COUNTRY_INFO!A158=0,\" \",COUNTRY_INFO!A158),\" \")","v":" "},{"$f":"IF(AND(INTRO!$E$37=\"Endemic\",INTRO!$E$39=\"Non-endemic\"),IF(COUNTRY_INFO!B158=0,\" \",COUNTRY_INFO!B158),\" \")","v":" "},{"$f":"IF(AND(INTRO!$E$37=\"Endemic\",INTRO!$E$39=\"Non-endemic\"),IF(COUNTRY_INFO!C158=0,\" \",COUNTRY_INFO!C158),\" \")","v":" "},{"$f":"IF(COUNTRY_INFO!Z158<>\"\",COUNTRY_INFO!V158,0)","v":0},{"$f":"IF(AND(COUNTRY_INFO!Z158<>\"\",COUNTRY_INFO!$H158=1),COUNTRY_INFO!F158+COUNTRY_INFO!G158,0)","v":0},0,null,0]
[{"$f":"IF(AND(INTRO!$E$37=\"Endemic\",INTRO!$E$39=\"Non-endemic\"),IF(COUNTRY_INFO!A159=0,\" \",COUNTRY_INFO!A159),\" \")","v":" "},{"$f":"IF(AND(INTRO!$E$37=\"Endemic\",INTRO!$E$39=\"Non-endemic\"),IF(COUNTRY_INFO!B159=0,\" \",COUNTRY_INFO!B159),\" \")","v":" "},{"$f":"IF(AND(INTRO!$E$37=\"Endemic\",INTRO!$E$39=\"Non-endemic\"),IF(COUNTRY_INFO!C159=0,\" \",COUNTRY_INFO!C159),\" \")","v":" "},{"$f":"IF(COUNTRY_INFO!Z159<>\"\",COUNTRY_INFO!V159,0)","v":0},{"$f":"IF(AND(COUNTRY_INFO!Z159<>\"\",COUNTRY_INFO!$H159=1),COUNTRY_INFO!F159+COUNTRY_INFO!G159,0)","v":0},0,null,0]
[{"$f":"IF(AND(INTRO!$E$37=\"Endemic\",INTRO!$E$39=\"Non-endemic\"),IF(COUNTRY_INFO!A160=0,\" \",COUNTRY_INFO!A160),\" \")","v":" "},{"$f":"IF(AND(INTRO!$E$37=\"Endemic\",INTRO!$E$39=\"Non-endemic\"),IF(COUNTRY_INFO!B160=0,\" \",COUNTRY_INFO!B160),\" \")","v":" "},{"$f":"IF(AND(INTRO!$E$37=\"Endemic\",INTRO!$E$39=\"Non-endemic\"),IF(COUNTRY_INFO!C160=0,\" \",COUNTRY_INFO!C160),\" \")","v":" "},{"$f":"IF(COUNTRY_INFO!Z160<>\"\",COUNTRY_INFO!V160,0)","v":0},{"$f":"IF(AND(COUNTRY_INFO!Z160<>\"\",COUNTRY_INFO!$H160=1),COUNTRY_INFO!F160+COUNTRY_INFO!G160,0)","v":0},0,null,0]
[{"$f":"IF(AND(INTRO!$E$37=\"Endemic\",INTRO!$E$39=\"Non-endemic\"),IF(COUNTRY_INFO!A161=0,\" \",COUNTRY_INFO!A161),\" \")","v":" "},{"$f":"IF(AND(INTRO!$E$37=\"Endemic\",INTRO!$E$39=\"Non-endemic\"),IF(COUNTRY_INFO!B161=0,\" \",COUNTRY_INFO!B161),\" \")","v":" "},{"$f":"IF(AND(INTRO!$E$37=\"Endemic\",INTRO!$E$39=\"Non-endemic\"),IF(COUNTRY_INFO!C161=0,\" \",COUNTRY_INFO!C161),\" \")","v":" "},{"$f":"IF(COUNTRY_INFO!Z161<>\"\",COUNTRY_INFO!V161,0)","v":0},{"$f":"IF(AND(COUNTRY_INFO!Z161<>\"\",COUNTRY_INFO!$H161=1),COUNTRY_INFO!F161+COUNTRY_INFO!G161,0)","v":0},0,null,0]
[{"$f":"IF(AND(INTRO!$E$37=\"Endemic\",INTRO!$E$39=\"Non-endemic\"),IF(COUNTRY_INFO!A162=0,\" \",COUNTRY_INFO!A162),\" \")","v":" "},{"$f":"IF(AND(INTRO!$E$37=\"Endemic\",INTRO!$E$39=\"Non-endemic\"),IF(COUNTRY_INFO!B162=0,\" \",COUNTRY_INFO!B162),\" \")","v":" "},{"$f":"IF(AND(INTRO!$E$37=\"Endemic\",INTRO!$E$39=\"Non-endemic\"),IF(COUNTRY_INFO!C162=0,\" \",COUNTRY_INFO!C162),\" \")","v":" "},{"$f":"IF(COUNTRY_INFO!Z162<>\"\",COUNTRY_INFO!V162,0)","v":0},{"$f":"IF(AND(COUNTRY_INFO!Z162<>\"\",COUNTRY_INFO!$H162=1),COUNTRY_INFO!F162+COUNTRY_INFO!G162,0)","v":0},0,null,0]
[{"$f":"IF(AND(INTRO!$E$37=\"Endemic\",INTRO!$E$39=\"Non-endemic\"),IF(COUNTRY_INFO!A163=0,\" \",COUNTRY_INFO!A163),\" \")","v":" "},{"$f":"IF(AND(INTRO!$E$37=\"Endemic\",INTRO!$E$39=\"Non-endemic\"),IF(COUNTRY_INFO!B163=0,\" \",COUNTRY_INFO!B163),\" \")","v":" "},{"$f":"IF(AND(INTRO!$E$37=\"Endemic\",INTRO!$E$39=\"Non-endemic\"),IF(COUNTRY_INFO!C163=0,\" \",COUNTRY_INFO!C163),\" \")","v":" "},{"$f":"IF(COUNTRY_INFO!Z163<>\"\",COUNTRY_INFO!V163,0)","v":0},{"$f":"IF(AND(COUNTRY_INFO!Z163<>\"\",COUNTRY_INFO!$H163=1),COUNTRY_INFO!F163+COUNTRY_INFO!G163,0)","v":0},0,null,0]
[{"$f":"IF(AND(INTRO!$E$37=\"Endemic\",INTRO!$E$39=\"Non-endemic\"),IF(COUNTRY_INFO!A164=0,\" \",COUNTRY_INFO!A164),\" \")","v":" "},{"$f":"IF(AND(INTRO!$E$37=\"Endemic\",INTRO!$E$39=\"Non-endemic\"),IF(COUNTRY_INFO!B164=0,\" \",COUNTRY_INFO!B164),\" \")","v":" "},{"$f":"IF(AND(INTRO!$E$37=\"Endemic\",INTRO!$E$39=\"Non-endemic\"),IF(COUNTRY_INFO!C164=0,\" \",COUNTRY_INFO!C164),\" \")","v":" "},{"$f":"IF(COUNTRY_INFO!Z164<>\"\",COUNTRY_INFO!V164,0)","v":0},{"$f":"IF(AND(COUNTRY_INFO!Z164<>\"\",COUNTRY_INFO!$H164=1),COUNTRY_INFO!F164+COUNTRY_INFO!G164,0)","v":0},0,null,0]
[{"$f":"IF(AND(INTRO!$E$37=\"Endemic\",INTRO!$E$39=\"Non-endemic\"),IF(COUNTRY_INFO!A165=0,\" \",COUNTRY_INFO!A165),\" \")","v":" "},{"$f":"IF(AND(INTRO!$E$37=\"Endemic\",INTRO!$E$39=\"Non-endemic\"),IF(COUNTRY_INFO!B165=0,\" \",COUNTRY_INFO!B165),\" \")","v":" "},{"$f":"IF(AND(INTRO!$E$37=\"Endemic\",INTRO!$E$39=\"Non-endemic\"),IF(COUNTRY_INFO!C165=0,\" \",COUNTRY_INFO!C165),\" \")","v":" "},{"$f":"IF(COUNTRY_INFO!Z165<>\"\",COUNTRY_INFO!V165,0)","v":0},{"$f":"IF(AND(COUNTRY_INFO!Z165<>\"\",COUNTRY_INFO!$H165=1),COUNTRY_INFO!F165+COUNTRY_INFO!G165,0)","v":0},0,null,0]
[{"$f":"IF(AND(INTRO!$E$37=\"Endemic\",INTRO!$E$39=\"Non-endemic\"),IF(COUNTRY_INFO!A166=0,\" \",COUNTRY_INFO!A166),\" \")","v":" "},{"$f":"IF(AND(INTRO!$E$37=\"Endemic\",INTRO!$E$39=\"Non-endemic\"),IF(COUNTRY_INFO!B166=0,\" \",COUNTRY_INFO!B166),\" \")","v":" "},{"$f":"IF(AND(INTRO!$E$37=\"Endemic\",INTRO!$E$39=\"Non-endemic\"),IF(COUNTRY_INFO!C166=0,\" \",COUNTRY_INFO!C166),\" \")","v":" "},{"$f":"IF(COUNTRY_INFO!Z166<>\"\",COUNTRY_INFO!V166,0)","v":0},{"$f":"IF(AND(COUNTRY_INFO!Z166<>\"\",COUNTRY_INFO!$H166=1),COUNTRY_INFO!F166+COUNTRY_INFO!G166,0)","v":0},0,null,0]
[{"$f":"IF(AND(INTRO!$E$37=\"Endemic\",INTRO!$E$39=\"Non-endemic\"),IF(COUNTRY_INFO!A167=0,\" \",COUNTRY_INFO!A167),\" \")","v":" "},{"$f":"IF(AND(INTRO!$E$37=\"Endemic\",INTRO!$E$39=\"Non-endemic\"),IF(COUNTRY_INFO!B167=0,\" \",COUNTRY_INFO!B167),\" \")","v":" "},{"$f":"IF(AND(INTRO!$E$37=\"Endemic\",INTRO!$E$39=\"Non-endemic\"),IF(COUNTRY_INFO!C167=0,\" \",COUNTRY_INFO!C167),\" \")","v":" "},{"$f":"IF(COUNTRY_INFO!Z167<>\"\",COUNTRY_INFO!V167,0)","v":0},{"$f":"IF(AND(COUNTRY_INFO!Z167<>\"\",COUNTRY_INFO!$H167=1),COUNTRY_INFO!F167+COUNTRY_INFO!G167,0)","v":0},0,null,0]
[{"$f":"IF(AND(INTRO!$E$37=\"Endemic\",INTRO!$E$39=\"Non-endemic\"),IF(COUNTRY_INFO!A168=0,\" \",COUNTRY_INFO!A168),\" \")","v":" "},{"$f":"IF(AND(INTRO!$E$37=\"Endemic\",INTRO!$E$39=\"Non-endemic\"),IF(COUNTRY_INFO!B168=0,\" \",COUNTRY_INFO!B168),\" \")","v":" "},{"$f":"IF(AND(INTRO!$E$37=\"Endemic\",INTRO!$E$39=\"Non-endemic\"),IF(COUNTRY_INFO!C168=0,\" \",COUNTRY_INFO!C168),\" \")","v":" "},{"$f":"IF(COUNTRY_INFO!Z168<>\"\",COUNTRY_INFO!V168,0)","v":0},{"$f":"IF(AND(COUNTRY_INFO!Z168<>\"\",COUNTRY_INFO!$H168=1),COUNTRY_INFO!F168+COUNTRY_INFO!G168,0)","v":0},0,null,0]
[{"$f":"IF(AND(INTRO!$E$37=\"Endemic\",INTRO!$E$39=\"Non-endemic\"),IF(COUNTRY_INFO!A169=0,\" \",COUNTRY_INFO!A169),\" \")","v":" "},{"$f":"IF(AND(INTRO!$E$37=\"Endemic\",INTRO!$E$39=\"Non-endemic\"),IF(COUNTRY_INFO!B169=0,\" \",COUNTRY_INFO!B169),\" \")","v":" "},{"$f":"IF(AND(INTRO!$E$37=\"Endemic\",INTRO!$E$39=\"Non-endemic\"),IF(COUNTRY_INFO!C169=0,\" \",COUNTRY_INFO!C169),\" \")","v":" "},{"$f":"IF(COUNTRY_INFO!Z169<>\"\",COUNTRY_INFO!V169,0)","v":0},{"$f":"IF(AND(COUNTRY_INFO!Z169<>\"\",COUNTRY_INFO!$H169=1),COUNTRY_INFO!F169+COUNTRY_INFO!G169,0)","v":0},0,null,0]
[{"$f":"IF(AND(INTRO!$E$37=\"Endemic\",INTRO!$E$39=\"Non-endemic\"),IF(COUNTRY_INFO!A170=0,\" \",COUNTRY_INFO!A170),\" \")","v":" "},{"$f":"IF(AND(INTRO!$E$37=\"Endemic\",INTRO!$E$39=\"Non-endemic\"),IF(COUNTRY_INFO!B170=0,\" \",COUNTRY_INFO!B170),\" \")","v":" "},{"$f":"IF(AND(INTRO!$E$37=\"Endemic\",INTRO!$E$39=\"Non-endemic\"),IF(COUNTRY_INFO!C170=0,\" \",COUNTRY_INFO!C170),\" \")","v":" "},{"$f":"IF(COUNTRY_INFO!Z170<>\"\",COUNTRY_INFO!V170,0)","v":0},{"$f":"IF(AND(COUNTRY_INFO!Z170<>\"\",COUNTRY_INFO!$H170=1),COUNTRY_INFO!F170+COUNTRY_INFO!G170,0)","v":0},0,null,0]
[{"$f":"IF(AND(INTRO!$E$37=\"Endemic\",INTRO!$E$39=\"Non-endemic\"),IF(COUNTRY_INFO!A171=0,\" \",COUNTRY_INFO!A171),\" \")","v":" "},{"$f":"IF(AND(INTRO!$E$37=\"Endemic\",INTRO!$E$39=\"Non-endemic\"),IF(COUNTRY_INFO!B171=0,\" \",COUNTRY_INFO!B171),\" \")","v":" "},{"$f":"IF(AND(INTRO!$E$37=\"Endemic\",INTRO!$E$39=\"Non-endemic\"),IF(COUNTRY_INFO!C171=0,\" \",COUNTRY_INFO!C171),\" \")","v":" "},{"$f":"IF(COUNTRY_INFO!Z171<>\"\",COUNTRY_INFO!V171,0)","v":0},{"$f":"IF(AND(COUNTRY_INFO!Z171<>\"\",COUNTRY_INFO!$H171=1),COUNTRY_INFO!F171+COUNTRY_INFO!G171,0)","v":0},0,null,0]
[{"$f":"IF(AND(INTRO!$E$37=\"Endemic\",INTRO!$E$39=\"Non-endemic\"),IF(COUNTRY_INFO!A172=0,\" \",COUNTRY_INFO!A172),\" \")","v":" "},{"$f":"IF(AND(INTRO!$E$37=\"Endemic\",INTRO!$E$39=\"Non-endemic\"),IF(COUNTRY_INFO!B172=0,\" \",COUNTRY_INFO!B172),\" \")","v":" "},{"$f":"IF(AND(INTRO!$E$37=\"Endemic\",INTRO!$E$39=\"Non-endemic\"),IF(COUNTRY_INFO!C172=0,\" \",COUNTRY_INFO!C172),\" \")","v":" "},{"$f":"IF(COUNTRY_INFO!Z172<>\"\",COUNTRY_INFO!V172,0)","v":0},{"$f":"IF(AND(COUNTRY_INFO!Z172<>\"\",COUNTRY_INFO!$H172=1),COUNTRY_INFO!F172+COUNTRY_INFO!G172,0)","v":0},0,null,0]
[{"$f":"IF(AND(INTRO!$E$37=\"Endemic\",INTRO!$E$39=\"Non-endemic\"),IF(COUNTRY_INFO!A173=0,\" \",COUNTRY_INFO!A173),\" \")","v":" "},{"$f":"IF(AND(INTRO!$E$37=\"Endemic\",INTRO!$E$39=\"Non-endemic\"),IF(COUNTRY_INFO!B173=0,\" \",COUNTRY_INFO!B173),\" \")","v":" "},{"$f":"IF(AND(INTRO!$E$37=\"Endemic\",INTRO!$E$39=\"Non-endemic\"),IF(COUNTRY_INFO!C173=0,\" \",COUNTRY_INFO!C173),\" \")","v":" "},{"$f":"IF(COUNTRY_INFO!Z173<>\"\",COUNTRY_INFO!V173,0)","v":0},{"$f":"IF(AND(COUNTRY_INFO!Z173<>\"\",COUNTRY_INFO!$H173=1),COUNTRY_INFO!F173+COUNTRY_INFO!G173,0)","v":0},0,null,0]
[{"$f":"IF(AND(INTRO!$E$37=\"Endemic\",INTRO!$E$39=\"Non-endemic\"),IF(COUNTRY_INFO!A174=0,\" \",COUNTRY_INFO!A174),\" \")","v":" "},{"$f":"IF(AND(INTRO!$E$37=\"Endemic\",INTRO!$E$39=\"Non-endemic\"),IF(COUNTRY_INFO!B174=0,\" \",COUNTRY_INFO!B174),\" \")","v":" "},{"$f":"IF(AND(INTRO!$E$37=\"Endemic\",INTRO!$E$39=\"Non-endemic\"),IF(COUNTRY_INFO!C174=0,\" \",COUNTRY_INFO!C174),\" \")","v":" "},{"$f":"IF(COUNTRY_INFO!Z174<>\"\",COUNTRY_INFO!V174,0)","v":0},{"$f":"IF(AND(COUNTRY_INFO!Z174<>\"\",COUNTRY_INFO!$H174=1),COUNTRY_INFO!F174+COUNTRY_INFO!G174,0)","v":0},0,null,0]
[{"$f":"IF(AND(INTRO!$E$37=\"Endemic\",INTRO!$E$39=\"Non-endemic\"),IF(COUNTRY_INFO!A175=0,\" \",COUNTRY_INFO!A175),\" \")","v":" "},{"$f":"IF(AND(INTRO!$E$37=\"Endemic\",INTRO!$E$39=\"Non-endemic\"),IF(COUNTRY_INFO!B175=0,\" \",COUNTRY_INFO!B175),\" \")","v":" "},{"$f":"IF(AND(INTRO!$E$37=\"Endemic\",INTRO!$E$39=\"Non-endemic\"),IF(COUNTRY_INFO!C175=0,\" \",COUNTRY_INFO!C175),\" \")","v":" "},{"$f":"IF(COUNTRY_INFO!Z175<>\"\",COUNTRY_INFO!V175,0)","v":0},{"$f":"IF(AND(COUNTRY_INFO!Z175<>\"\",COUNTRY_INFO!$H175=1),COUNTRY_INFO!F175+COUNTRY_INFO!G175,0)","v":0},0,null,0]
[{"$f":"IF(AND(INTRO!$E$37=\"Endemic\",INTRO!$E$39=\"Non-endemic\"),IF(COUNTRY_INFO!A176=0,\" \",COUNTRY_INFO!A176),\" \")","v":" "},{"$f":"IF(AND(INTRO!$E$37=\"Endemic\",INTRO!$E$39=\"Non-endemic\"),IF(COUNTRY_INFO!B176=0,\" \",COUNTRY_INFO!B176),\" \")","v":" "},{"$f":"IF(AND(INTRO!$E$37=\"Endemic\",INTRO!$E$39=\"Non-endemic\"),IF(COUNTRY_INFO!C176=0,\" \",COUNTRY_INFO!C176),\" \")","v":" "},{"$f":"IF(COUNTRY_INFO!Z176<>\"\",COUNTRY_INFO!V176,0)","v":0},{"$f":"IF(AND(COUNTRY_INFO!Z176<>\"\",COUNTRY_INFO!$H176=1),COUNTRY_INFO!F176+COUNTRY_INFO!G176,0)","v":0},0,null,0]
[{"$f":"IF(AND(INTRO!$E$37=\"Endemic\",INTRO!$E$39=\"Non-endemic\"),IF(COUNTRY_INFO!A177=0,\" \",COUNTRY_INFO!A177),\" \")","v":" "},{"$f":"IF(AND(INTRO!$E$37=\"Endemic\",INTRO!$E$39=\"Non-endemic\"),IF(COUNTRY_INFO!B177=0,\" \",COUNTRY_INFO!B177),\" \")","v":" "},{"$f":"IF(AND(INTRO!$E$37=\"Endemic\",INTRO!$E$39=\"Non-endemic\"),IF(COUNTRY_INFO!C177=0,\" \",COUNTRY_INFO!C177),\" \")","v":" "},{"$f":"IF(COUNTRY_INFO!Z177<>\"\",COUNTRY_INFO!V177,0)","v":0},{"$f":"IF(AND(COUNTRY_INFO!Z177<>\"\",COUNTRY_INFO!$H177=1),COUNTRY_INFO!F177+COUNTRY_INFO!G177,0)","v":0},0,null,0]
[{"$f":"IF(AND(INTRO!$E$37=\"Endemic\",INTRO!$E$39=\"Non-endemic\"),IF(COUNTRY_INFO!A178=0,\" \",COUNTRY_INFO!A178),\" \")","v":" "},{"$f":"IF(AND(INTRO!$E$37=\"Endemic\",INTRO!$E$39=\"Non-endemic\"),IF(COUNTRY_INFO!B178=0,\" \",COUNTRY_INFO!B178),\" \")","v":" "},{"$f":"IF(AND(INTRO!$E$37=\"Endemic\",INTRO!$E$39=\"Non-endemic\"),IF(COUNTRY_INFO!C178=0,\" \",COUNTRY_INFO!C178),\" \")","v":" "},{"$f":"IF(COUNTRY_INFO!Z178<>\"\",COUNTRY_INFO!V178,0)","v":0},{"$f":"IF(AND(COUNTRY_INFO!Z178<>\"\",COUNTRY_INFO!$H178=1),COUNTRY_INFO!F178+COUNTRY_INFO!G178,0)","v":0},0,null,0]
[{"$f":"IF(AND(INTRO!$E$37=\"Endemic\",INTRO!$E$39=\"Non-endemic\"),IF(COUNTRY_INFO!A179=0,\" \",COUNTRY_INFO!A179),\" \")","v":" "},{"$f":"IF(AND(INTRO!$E$37=\"Endemic\",INTRO!$E$39=\"Non-endemic\"),IF(COUNTRY_INFO!B179=0,\" \",COUNTRY_INFO!B179),\" \")","v":" "},{"$f":"IF(AND(INTRO!$E$37=\"Endemic\",INTRO!$E$39=\"Non-endemic\"),IF(COUNTRY_INFO!C179=0,\" \",COUNTRY_INFO!C179),\" \")","v":" "},{"$f":"IF(COUNTRY_INFO!Z179<>\"\",COUNTRY_INFO!V179,0)","v":0},{"$f":"IF(AND(COUNTRY_INFO!Z179<>\"\",COUNTRY_INFO!$H179=1),COUNTRY_INFO!F179+COUNTRY_INFO!G179,0)","v":0},0,null,0]
[{"$f":"IF(AND(INTRO!$E$37=\"Endemic\",INTRO!$E$39=\"Non-endemic\"),IF(COUNTRY_INFO!A180=0,\" \",COUNTRY_INFO!A180),\" \")","v":" "},{"$f":"IF(AND(INTRO!$E$37=\"Endemic\",INTRO!$E$39=\"Non-endemic\"),IF(COUNTRY_INFO!B180=0,\" \",COUNTRY_INFO!B180),\" \")","v":" "},{"$f":"IF(AND(INTRO!$E$37=\"Endemic\",INTRO!$E$39=\"Non-endemic\"),IF(COUNTRY_INFO!C180=0,\" \",COUNTRY_INFO!C180),\" \")","v":" "},{"$f":"IF(COUNTRY_INFO!Z180<>\"\",COUNTRY_INFO!V180,0)","v":0},{"$f":"IF(AND(COUNTRY_INFO!Z180<>\"\",COUNTRY_INFO!$H180=1),COUNTRY_INFO!F180+COUNTRY_INFO!G180,0)","v":0},0,null,0]
[{"$f":"IF(AND(INTRO!$E$37=\"Endemic\",INTRO!$E$39=\"Non-endemic\"),IF(COUNTRY_INFO!A181=0,\" \",COUNTRY_INFO!A181),\" \")","v":" "},{"$f":"IF(AND(INTRO!$E$37=\"Endemic\",INTRO!$E$39=\"Non-endemic\"),IF(COUNTRY_INFO!B181=0,\" \",COUNTRY_INFO!B181),\" \")","v":" "},{"$f":"IF(AND(INTRO!$E$37=\"Endemic\",INTRO!$E$39=\"Non-endemic\"),IF(COUNTRY_INFO!C181=0,\" \",COUNTRY_INFO!C181),\" \")","v":" "},{"$f":"IF(COUNTRY_INFO!Z181<>\"\",COUNTRY_INFO!V181,0)","v":0},{"$f":"IF(AND(COUNTRY_INFO!Z181<>\"\",COUNTRY_INFO!$H181=1),COUNTRY_INFO!F181+COUNTRY_INFO!G181,0)","v":0},0,null,0]
[{"$f":"IF(AND(INTRO!$E$37=\"Endemic\",INTRO!$E$39=\"Non-endemic\"),IF(COUNTRY_INFO!A182=0,\" \",COUNTRY_INFO!A182),\" \")","v":" "},{"$f":"IF(AND(INTRO!$E$37=\"Endemic\",INTRO!$E$39=\"Non-endemic\"),IF(COUNTRY_INFO!B182=0,\" \",COUNTRY_INFO!B182),\" \")","v":" "},{"$f":"IF(AND(INTRO!$E$37=\"Endemic\",INTRO!$E$39=\"Non-endemic\"),IF(COUNTRY_INFO!C182=0,\" \",COUNTRY_INFO!C182),\" \")","v":" "},{"$f":"IF(COUNTRY_INFO!Z182<>\"\",COUNTRY_INFO!V182,0)","v":0},{"$f":"IF(AND(COUNTRY_INFO!Z182<>\"\",COUNTRY_INFO!$H182=1),COUNTRY_INFO!F182+COUNTRY_INFO!G182,0)","v":0},0,null,0]
[{"$f":"IF(AND(INTRO!$E$37=\"Endemic\",INTRO!$E$39=\"Non-endemic\"),IF(COUNTRY_INFO!A183=0,\" \",COUNTRY_INFO!A183),\" \")","v":" "},{"$f":"IF(AND(INTRO!$E$37=\"Endemic\",INTRO!$E$39=\"Non-endemic\"),IF(COUNTRY_INFO!B183=0,\" \",COUNTRY_INFO!B183),\" \")","v":" "},{"$f":"IF(AND(INTRO!$E$37=\"Endemic\",INTRO!$E$39=\"Non-endemic\"),IF(COUNTRY_INFO!C183=0,\" \",COUNTRY_INFO!C183),\" \")","v":" "},{"$f":"IF(COUNTRY_INFO!Z183<>\"\",COUNTRY_INFO!V183,0)","v":0},{"$f":"IF(AND(COUNTRY_INFO!Z183<>\"\",COUNTRY_INFO!$H183=1),COUNTRY_INFO!F183+COUNTRY_INFO!G183,0)","v":0},0,null,0]
[{"$f":"IF(AND(INTRO!$E$37=\"Endemic\",INTRO!$E$39=\"Non-endemic\"),IF(COUNTRY_INFO!A184=0,\" \",COUNTRY_INFO!A184),\" \")","v":" "},{"$f":"IF(AND(INTRO!$E$37=\"Endemic\",INTRO!$E$39=\"Non-endemic\"),IF(COUNTRY_INFO!B184=0,\" \",COUNTRY_INFO!B184),\" \")","v":" "},{"$f":"IF(AND(INTRO!$E$37=\"Endemic\",INTRO!$E$39=\"Non-endemic\"),IF(COUNTRY_INFO!C184=0,\" \",COUNTRY_INFO!C184),\" \")","v":" "},{"$f":"IF(COUNTRY_INFO!Z184<>\"\",COUNTRY_INFO!V184,0)","v":0},{"$f":"IF(AND(COUNTRY_INFO!Z184<>\"\",COUNTRY_INFO!$H184=1),COUNTRY_INFO!F184+COUNTRY_INFO!G184,0)","v":0},0,null,0]
[{"$f":"IF(AND(INTRO!$E$37=\"Endemic\",INTRO!$E$39=\"Non-endemic\"),IF(COUNTRY_INFO!A185=0,\" \",COUNTRY_INFO!A185),\" \")","v":" "},{"$f":"IF(AND(INTRO!$E$37=\"Endemic\",INTRO!$E$39=\"Non-endemic\"),IF(COUNTRY_INFO!B185=0,\" \",COUNTRY_INFO!B185),\" \")","v":" "},{"$f":"IF(AND(INTRO!$E$37=\"Endemic\",INTRO!$E$39=\"Non-endemic\"),IF(COUNTRY_INFO!C185=0,\" \",COUNTRY_INFO!C185),\" \")","v":" "},{"$f":"IF(COUNTRY_INFO!Z185<>\"\",COUNTRY_INFO!V185,0)","v":0},{"$f":"IF(AND(COUNTRY_INFO!Z185<>\"\",COUNTRY_INFO!$H185=1),COUNTRY_INFO!F185+COUNTRY_INFO!G185,0)","v":0},0,null,0]
[{"$f":"IF(AND(INTRO!$E$37=\"Endemic\",INTRO!$E$39=\"Non-endemic\"),IF(COUNTRY_INFO!A186=0,\" \",COUNTRY_INFO!A186),\" \")","v":" "},{"$f":"IF(AND(INTRO!$E$37=\"Endemic\",INTRO!$E$39=\"Non-endemic\"),IF(COUNTRY_INFO!B186=0,\" \",COUNTRY_INFO!B186),\" \")","v":" "},{"$f":"IF(AND(INTRO!$E$37=\"Endemic\",INTRO!$E$39=\"Non-endemic\"),IF(COUNTRY_INFO!C186=0,\" \",COUNTRY_INFO!C186),\" \")","v":" "},{"$f":"IF(COUNTRY_INFO!Z186<>\"\",COUNTRY_INFO!V186,0)","v":0},{"$f":"IF(AND(COUNTRY_INFO!Z186<>\"\",COUNTRY_INFO!$H186=1),COUNTRY_INFO!F186+COUNTRY_INFO!G186,0)","v":0},0,null,0]
[{"$f":"IF(AND(INTRO!$E$37=\"Endemic\",INTRO!$E$39=\"Non-endemic\"),IF(COUNTRY_INFO!A187=0,\" \",COUNTRY_INFO!A187),\" \")","v":" "},{"$f":"IF(AND(INTRO!$E$37=\"Endemic\",INTRO!$E$39=\"Non-endemic\"),IF(COUNTRY_INFO!B187=0,\" \",COUNTRY_INFO!B187),\" \")","v":" "},{"$f":"IF(AND(INTRO!$E$37=\"Endemic\",INTRO!$E$39=\"Non-endemic\"),IF(COUNTRY_INFO!C187=0,\" \",COUNTRY_INFO!C187),\" \")","v":" "},{"$f":"IF(COUNTRY_INFO!Z187<>\"\",COUNTRY_INFO!V187,0)","v":0},{"$f":"IF(AND(COUNTRY_INFO!Z187<>\"\",COUNTRY_INFO!$H187=1),COUNTRY_INFO!F187+COUNTRY_INFO!G187,0)","v":0},0,null,0]
[{"$f":"IF(AND(INTRO!$E$37=\"Endemic\",INTRO!$E$39=\"Non-endemic\"),IF(COUNTRY_INFO!A188=0,\" \",COUNTRY_INFO!A188),\" \")","v":" "},{"$f":"IF(AND(INTRO!$E$37=\"Endemic\",INTRO!$E$39=\"Non-endemic\"),IF(COUNTRY_INFO!B188=0,\" \",COUNTRY_INFO!B188),\" \")","v":" "},{"$f":"IF(AND(INTRO!$E$37=\"Endemic\",INTRO!$E$39=\"Non-endemic\"),IF(COUNTRY_INFO!C188=0,\" \",COUNTRY_INFO!C188),\" \")","v":" "},{"$f":"IF(COUNTRY_INFO!Z188<>\"\",COUNTRY_INFO!V188,0)","v":0},{"$f":"IF(AND(COUNTRY_INFO!Z188<>\"\",COUNTRY_INFO!$H188=1),COUNTRY_INFO!F188+COUNTRY_INFO!G188,0)","v":0},0,null,0]
[{"$f":"IF(AND(INTRO!$E$37=\"Endemic\",INTRO!$E$39=\"Non-endemic\"),IF(COUNTRY_INFO!A189=0,\" \",COUNTRY_INFO!A189),\" \")","v":" "},{"$f":"IF(AND(INTRO!$E$37=\"Endemic\",INTRO!$E$39=\"Non-endemic\"),IF(COUNTRY_INFO!B189=0,\" \",COUNTRY_INFO!B189),\" \")","v":" "},{"$f":"IF(AND(INTRO!$E$37=\"Endemic\",INTRO!$E$39=\"Non-endemic\"),IF(COUNTRY_INFO!C189=0,\" \",COUNTRY_INFO!C189),\" \")","v":" "},{"$f":"IF(COUNTRY_INFO!Z189<>\"\",COUNTRY_INFO!V189,0)","v":0},{"$f":"IF(AND(COUNTRY_INFO!Z189<>\"\",COUNTRY_INFO!$H189=1),COUNTRY_INFO!F189+COUNTRY_INFO!G189,0)","v":0},0,null,0]
[{"$f":"IF(AND(INTRO!$E$37=\"Endemic\",INTRO!$E$39=\"Non-endemic\"),IF(COUNTRY_INFO!A190=0,\" \",COUNTRY_INFO!A190),\" \")","v":" "},{"$f":"IF(AND(INTRO!$E$37=\"Endemic\",INTRO!$E$39=\"Non-endemic\"),IF(COUNTRY_INFO!B190=0,\" \",COUNTRY_INFO!B190),\" \")","v":" "},{"$f":"IF(AND(INTRO!$E$37=\"Endemic\",INTRO!$E$39=\"Non-endemic\"),IF(COUNTRY_INFO!C190=0,\" \",COUNTRY_INFO!C190),\" \")","v":" "},{"$f":"IF(COUNTRY_INFO!Z190<>\"\",COUNTRY_INFO!V190,0)","v":0},{"$f":"IF(AND(COUNTRY_INFO!Z190<>\"\",COUNTRY_INFO!$H190=1),COUNTRY_INFO!F190+COUNTRY_INFO!G190,0)","v":0},0,null,0]
[{"$f":"IF(AND(INTRO!$E$37=\"Endemic\",INTRO!$E$39=\"Non-endemic\"),IF(COUNTRY_INFO!A191=0,\" \",COUNTRY_INFO!A191),\" \")","v":" "},{"$f":"IF(AND(INTRO!$E$37=\"Endemic\",INTRO!$E$39=\"Non-endemic\"),IF(COUNTRY_INFO!B191=0,\" \",COUNTRY_INFO!B191),\" \")","v":" "},{"$f":"IF(AND(INTRO!$E$37=\"Endemic\",INTRO!$E$39=\"Non-endemic\"),IF(COUNTRY_INFO!C191=0,\" \",COUNTRY_INFO!C191),\" \")","v":" "},{"$f":"IF(COUNTRY_INFO!Z191<>\"\",COUNTRY_INFO!V191,0)","v":0},{"$f":"IF(AND(COUNTRY_INFO!Z191<>\"\",COUNTRY_INFO!$H191=1),COUNTRY_INFO!F191+COUNTRY_INFO!G191,0)","v":0},0,null,0]
[{"$f":"IF(AND(INTRO!$E$37=\"Endemic\",INTRO!$E$39=\"Non-endemic\"),IF(COUNTRY_INFO!A192=0,\" \",COUNTRY_INFO!A192),\" \")","v":" "},{"$f":"IF(AND(INTRO!$E$37=\"Endemic\",INTRO!$E$39=\"Non-endemic\"),IF(COUNTRY_INFO!B192=0,\" \",COUNTRY_INFO!B192),\" \")","v":" "},{"$f":"IF(AND(INTRO!$E$37=\"Endemic\",INTRO!$E$39=\"Non-endemic\"),IF(COUNTRY_INFO!C192=0,\" \",COUNTRY_INFO!C192),\" \")","v":" "},{"$f":"IF(COUNTRY_INFO!Z192<>\"\",COUNTRY_INFO!V192,0)","v":0},{"$f":"IF(AND(COUNTRY_INFO!Z192<>\"\",COUNTRY_INFO!$H192=1),COUNTRY_INFO!F192+COUNTRY_INFO!G192,0)","v":0},0,null,0]
[{"$f":"IF(AND(INTRO!$E$37=\"Endemic\",INTRO!$E$39=\"Non-endemic\"),IF(COUNTRY_INFO!A193=0,\" \",COUNTRY_INFO!A193),\" \")","v":" "},{"$f":"IF(AND(INTRO!$E$37=\"Endemic\",INTRO!$E$39=\"Non-endemic\"),IF(COUNTRY_INFO!B193=0,\" \",COUNTRY_INFO!B193),\" \")","v":" "},{"$f":"IF(AND(INTRO!$E$37=\"Endemic\",INTRO!$E$39=\"Non-endemic\"),IF(COUNTRY_INFO!C193=0,\" \",COUNTRY_INFO!C193),\" \")","v":" "},{"$f":"IF(COUNTRY_INFO!Z193<>\"\",COUNTRY_INFO!V193,0)","v":0},{"$f":"IF(AND(COUNTRY_INFO!Z193<>\"\",COUNTRY_INFO!$H193=1),COUNTRY_INFO!F193+COUNTRY_INFO!G193,0)","v":0},0,null,0]
[{"$f":"IF(AND(INTRO!$E$37=\"Endemic\",INTRO!$E$39=\"Non-endemic\"),IF(COUNTRY_INFO!A194=0,\" \",COUNTRY_INFO!A194),\" \")","v":" "},{"$f":"IF(AND(INTRO!$E$37=\"Endemic\",INTRO!$E$39=\"Non-endemic\"),IF(COUNTRY_INFO!B194=0,\" \",COUNTRY_INFO!B194),\" \")","v":" "},{"$f":"IF(AND(INTRO!$E$37=\"Endemic\",INTRO!$E$39=\"Non-endemic\"),IF(COUNTRY_INFO!C194=0,\" \",COUNTRY_INFO!C194),\" \")","v":" "},{"$f":"IF(COUNTRY_INFO!Z194<>\"\",COUNTRY_INFO!V194,0)","v":0},{"$f":"IF(AND(COUNTRY_INFO!Z194<>\"\",COUNTRY_INFO!$H194=1),COUNTRY_INFO!F194+COUNTRY_INFO!G194,0)","v":0},0,null,0]
[{"$f":"IF(AND(INTRO!$E$37=\"Endemic\",INTRO!$E$39=\"Non-endemic\"),IF(COUNTRY_INFO!A195=0,\" \",COUNTRY_INFO!A195),\" \")","v":" "},{"$f":"IF(AND(INTRO!$E$37=\"Endemic\",INTRO!$E$39=\"Non-endemic\"),IF(COUNTRY_INFO!B195=0,\" \",COUNTRY_INFO!B195),\" \")","v":" "},{"$f":"IF(AND(INTRO!$E$37=\"Endemic\",INTRO!$E$39=\"Non-endemic\"),IF(COUNTRY_INFO!C195=0,\" \",COUNTRY_INFO!C195),\" \")","v":" "},{"$f":"IF(COUNTRY_INFO!Z195<>\"\",COUNTRY_INFO!V195,0)","v":0},{"$f":"IF(AND(COUNTRY_INFO!Z195<>\"\",COUNTRY_INFO!$H195=1),COUNTRY_INFO!F195+COUNTRY_INFO!G195,0)","v":0},0,null,0]
[{"$f":"IF(AND(INTRO!$E$37=\"Endemic\",INTRO!$E$39=\"Non-endemic\"),IF(COUNTRY_INFO!A196=0,\" \",COUNTRY_INFO!A196),\" \")","v":" "},{"$f":"IF(AND(INTRO!$E$37=\"Endemic\",INTRO!$E$39=\"Non-endemic\"),IF(COUNTRY_INFO!B196=0,\" \",COUNTRY_INFO!B196),\" \")","v":" "},{"$f":"IF(AND(INTRO!$E$37=\"Endemic\",INTRO!$E$39=\"Non-endemic\"),IF(COUNTRY_INFO!C196=0,\" \",COUNTRY_INFO!C196),\" \")","v":" "},{"$f":"IF(COUNTRY_INFO!Z196<>\"\",COUNTRY_INFO!V196,0)","v":0},{"$f":"IF(AND(COUNTRY_INFO!Z196<>\"\",COUNTRY_INFO!$H196=1),COUNTRY_INFO!F196+COUNTRY_INFO!G196,0)","v":0},0,null,0]
[{"$f":"IF(AND(INTRO!$E$37=\"Endemic\",INTRO!$E$39=\"Non-endemic\"),IF(COUNTRY_INFO!A197=0,\" \",COUNTRY_INFO!A197),\" \")","v":" "},{"$f":"IF(AND(INTRO!$E$37=\"Endemic\",INTRO!$E$39=\"Non-endemic\"),IF(COUNTRY_INFO!B197=0,\" \",COUNTRY_INFO!B197),\" \")","v":" "},{"$f":"IF(AND(INTRO!$E$37=\"Endemic\",INTRO!$E$39=\"Non-endemic\"),IF(COUNTRY_INFO!C197=0,\" \",COUNTRY_INFO!C197),\" \")","v":" "},{"$f":"IF(COUNTRY_INFO!Z197<>\"\",COUNTRY_INFO!V197,0)","v":0},{"$f":"IF(AND(COUNTRY_INFO!Z197<>\"\",COUNTRY_INFO!$H197=1),COUNTRY_INFO!F197+COUNTRY_INFO!G197,0)","v":0},0,null,0]
[{"$f":"IF(AND(INTRO!$E$37=\"Endemic\",INTRO!$E$39=\"Non-endemic\"),IF(COUNTRY_INFO!A198=0,\" \",COUNTRY_INFO!A198),\" \")","v":" "},{"$f":"IF(AND(INTRO!$E$37=\"Endemic\",INTRO!$E$39=\"Non-endemic\"),IF(COUNTRY_INFO!B198=0,\" \",COUNTRY_INFO!B198),\" \")","v":" "},{"$f":"IF(AND(INTRO!$E$37=\"Endemic\",INTRO!$E$39=\"Non-endemic\"),IF(COUNTRY_INFO!C198=0,\" \",COUNTRY_INFO!C198),\" \")","v":" "},{"$f":"IF(COUNTRY_INFO!Z198<>\"\",COUNTRY_INFO!V198,0)","v":0},{"$f":"IF(AND(COUNTRY_INFO!Z198<>\"\",COUNTRY_INFO!$H198=1),COUNTRY_INFO!F198+COUNTRY_INFO!G198,0)","v":0},0,null,0]
[{"$f":"IF(AND(INTRO!$E$37=\"Endemic\",INTRO!$E$39=\"Non-endemic\"),IF(COUNTRY_INFO!A199=0,\" \",COUNTRY_INFO!A199),\" \")","v":" "},{"$f":"IF(AND(INTRO!$E$37=\"Endemic\",INTRO!$E$39=\"Non-endemic\"),IF(COUNTRY_INFO!B199=0,\" \",COUNTRY_INFO!B199),\" \")","v":" "},{"$f":"IF(AND(INTRO!$E$37=\"Endemic\",INTRO!$E$39=\"Non-endemic\"),IF(COUNTRY_INFO!C199=0,\" \",COUNTRY_INFO!C199),\" \")","v":" "},{"$f":"IF(COUNTRY_INFO!Z199<>\"\",COUNTRY_INFO!V199,0)","v":0},{"$f":"IF(AND(COUNTRY_INFO!Z199<>\"\",COUNTRY_INFO!$H199=1),COUNTRY_INFO!F199+COUNTRY_INFO!G199,0)","v":0},0,null,0]
[{"$f":"IF(AND(INTRO!$E$37=\"Endemic\",INTRO!$E$39=\"Non-endemic\"),IF(COUNTRY_INFO!A200=0,\" \",COUNTRY_INFO!A200),\" \")","v":" "},{"$f":"IF(AND(INTRO!$E$37=\"Endemic\",INTRO!$E$39=\"Non-endemic\"),IF(COUNTRY_INFO!B200=0,\" \",COUNTRY_INFO!B200),\" \")","v":" "},{"$f":"IF(AND(INTRO!$E$37=\"Endemic\",INTRO!$E$39=\"Non-endemic\"),IF(COUNTRY_INFO!C200=0,\" \",COUNTRY_INFO!C200),\" \")","v":" "},{"$f":"IF(COUNTRY_INFO!Z200<>\"\",COUNTRY_INFO!V200,0)","v":0},{"$f":"IF(AND(COUNTRY_INFO!Z200<>\"\",COUNTRY_INFO!$H200=1),COUNTRY_INFO!F200+COUNTRY_INFO!G200,0)","v":0},0,null,0]
[{"$f":"IF(AND(INTRO!$E$37=\"Endemic\",INTRO!$E$39=\"Non-endemic\"),IF(COUNTRY_INFO!A201=0,\" \",COUNTRY_INFO!A201),\" \")","v":" "},{"$f":"IF(AND(INTRO!$E$37=\"Endemic\",INTRO!$E$39=\"Non-endemic\"),IF(COUNTRY_INFO!B201=0,\" \",COUNTRY_INFO!B201),\" \")","v":" "},{"$f":"IF(AND(INTRO!$E$37=\"Endemic\",INTRO!$E$39=\"Non-endemic\"),IF(COUNTRY_INFO!C201=0,\" \",COUNTRY_INFO!C201),\" \")","v":" "},{"$f":"IF(COUNTRY_INFO!Z201<>\"\",COUNTRY_INFO!V201,0)","v":0},{"$f":"IF(AND(COUNTRY_INFO!Z201<>\"\",COUNTRY_INFO!$H201=1),COUNTRY_INFO!F201+COUNTRY_INFO!G201,0)","v":0},0,null,0]
[{"$f":"IF(AND(INTRO!$E$37=\"Endemic\",INTRO!$E$39=\"Non-endemic\"),IF(COUNTRY_INFO!A202=0,\" \",COUNTRY_INFO!A202),\" \")","v":" "},{"$f":"IF(AND(INTRO!$E$37=\"Endemic\",INTRO!$E$39=\"Non-endemic\"),IF(COUNTRY_INFO!B202=0,\" \",COUNTRY_INFO!B202),\" \")","v":" "},{"$f":"IF(AND(INTRO!$E$37=\"Endemic\",INTRO!$E$39=\"Non-endemic\"),IF(COUNTRY_INFO!C202=0,\" \",COUNTRY_INFO!C202),\" \")","v":" "},{"$f":"IF(COUNTRY_INFO!Z202<>\"\",COUNTRY_INFO!V202,0)","v":0},{"$f":"IF(AND(COUNTRY_INFO!Z202<>\"\",COUNTRY_INFO!$H202=1),COUNTRY_INFO!F202+COUNTRY_INFO!G202,0)","v":0},0,null,0]
[{"$f":"IF(AND(INTRO!$E$37=\"Endemic\",INTRO!$E$39=\"Non-endemic\"),IF(COUNTRY_INFO!A203=0,\" \",COUNTRY_INFO!A203),\" \")","v":" "},{"$f":"IF(AND(INTRO!$E$37=\"Endemic\",INTRO!$E$39=\"Non-endemic\"),IF(COUNTRY_INFO!B203=0,\" \",COUNTRY_INFO!B203),\" \")","v":" "},{"$f":"IF(AND(INTRO!$E$37=\"Endemic\",INTRO!$E$39=\"Non-endemic\"),IF(COUNTRY_INFO!C203=0,\" \",COUNTRY_INFO!C203),\" \")","v":" "},{"$f":"IF(COUNTRY_INFO!Z203<>\"\",COUNTRY_INFO!V203,0)","v":0},{"$f":"IF(AND(COUNTRY_INFO!Z203<>\"\",COUNTRY_INFO!$H203=1),COUNTRY_INFO!F203+COUNTRY_INFO!G203,0)","v":0},{"$f":"E203*2.8","v":0},null,0]
[{"$f":"IF(AND(INTRO!$E$37=\"Endemic\",INTRO!$E$39=\"Non-endemic\"),IF(COUNTRY_INFO!A204=0,\" \",COUNTRY_INFO!A204),\" \")","v":" "},{"$f":"IF(AND(INTRO!$E$37=\"Endemic\",INTRO!$E$39=\"Non-endemic\"),IF(COUNTRY_INFO!B204=0,\" \",COUNTRY_INFO!B204),\" \")","v":" "},{"$f":"IF(AND(INTRO!$E$37=\"Endemic\",INTRO!$E$39=\"Non-endemic\"),IF(COUNTRY_INFO!C204=0,\" \",COUNTRY_INFO!C204),\" \")","v":" "},{"$f":"IF(COUNTRY_INFO!Z204<>\"\",COUNTRY_INFO!V204,0)","v":0},{"$f":"IF(AND(COUNTRY_INFO!Z204<>\"\",COUNTRY_INFO!$H204=1),COUNTRY_INFO!F204+COUNTRY_INFO!G204,0)","v":0},0,null,0]
[{"$f":"IF(AND(INTRO!$E$37=\"Endemic\",INTRO!$E$39=\"Non-endemic\"),IF(COUNTRY_INFO!A205=0,\" \",COUNTRY_INFO!A205),\" \")","v":" "},{"$f":"IF(AND(INTRO!$E$37=\"Endemic\",INTRO!$E$39=\"Non-endemic\"),IF(COUNTRY_INFO!B205=0,\" \",COUNTRY_INFO!B205),\" \")","v":" "},{"$f":"IF(AND(INTRO!$E$37=\"Endemic\",INTRO!$E$39=\"Non-endemic\"),IF(COUNTRY_INFO!C205=0,\" \",COUNTRY_INFO!C205),\" \")","v":" "},{"$f":"IF(COUNTRY_INFO!Z205<>\"\",COUNTRY_INFO!V205,0)","v":0},{"$f":"IF(AND(COUNTRY_INFO!Z205<>\"\",COUNTRY_INFO!$H205=1),COUNTRY_INFO!F205+COUNTRY_INFO!G205,0)","v":0},0,null,0]
[{"$f":"IF(AND(INTRO!$E$37=\"Endemic\",INTRO!$E$39=\"Non-endemic\"),IF(COUNTRY_INFO!A206=0,\" \",COUNTRY_INFO!A206),\" \")","v":" "},{"$f":"IF(AND(INTRO!$E$37=\"Endemic\",INTRO!$E$39=\"Non-endemic\"),IF(COUNTRY_INFO!B206=0,\" \",COUNTRY_INFO!B206),\" \")","v":" "},{"$f":"IF(AND(INTRO!$E$37=\"Endemic\",INTRO!$E$39=\"Non-endemic\"),IF(COUNTRY_INFO!C206=0,\" \",COUNTRY_INFO!C206),\" \")","v":" "},{"$f":"IF(COUNTRY_INFO!Z206<>\"\",COUNTRY_INFO!V206,0)","v":0},{"$f":"IF(AND(COUNTRY_INFO!Z206<>\"\",COUNTRY_INFO!$H206=1),COUNTRY_INFO!F206+COUNTRY_INFO!G206,0)","v":0},0,null,0]
[{"$f":"IF(AND(INTRO!$E$37=\"Endemic\",INTRO!$E$39=\"Non-endemic\"),IF(COUNTRY_INFO!A207=0,\" \",COUNTRY_INFO!A207),\" \")","v":" "},{"$f":"IF(AND(INTRO!$E$37=\"Endemic\",INTRO!$E$39=\"Non-endemic\"),IF(COUNTRY_INFO!B207=0,\" \",COUNTRY_INFO!B207),\" \")","v":" "},{"$f":"IF(AND(INTRO!$E$37=\"Endemic\",INTRO!$E$39=\"Non-endemic\"),IF(COUNTRY_INFO!C207=0,\" \",COUNTRY_INFO!C207),\" \")","v":" "},{"$f":"IF(COUNTRY_INFO!Z207<>\"\",COUNTRY_INFO!V207,0)","v":0},{"$f":"IF(AND(COUNTRY_INFO!Z207<>\"\",COUNTRY_INFO!$H207=1),COUNTRY_INFO!F207+COUNTRY_INFO!G207,0)","v":0},0,null,0]
[{"$f":"IF(AND(INTRO!$E$37=\"Endemic\",INTRO!$E$39=\"Non-endemic\"),IF(COUNTRY_INFO!A208=0,\" \",COUNTRY_INFO!A208),\" \")","v":" "},{"$f":"IF(AND(INTRO!$E$37=\"Endemic\",INTRO!$E$39=\"Non-endemic\"),IF(COUNTRY_INFO!B208=0,\" \",COUNTRY_INFO!B208),\" \")","v":" "},{"$f":"IF(AND(INTRO!$E$37=\"Endemic\",INTRO!$E$39=\"Non-endemic\"),IF(COUNTRY_INFO!C208=0,\" \",COUNTRY_INFO!C208),\" \")","v":" "},{"$f":"IF(COUNTRY_INFO!Z208<>\"\",COUNTRY_INFO!V208,0)","v":0},{"$f":"IF(AND(COUNTRY_INFO!Z208<>\"\",COUNTRY_INFO!$H208=1),COUNTRY_INFO!F208+COUNTRY_INFO!G208,0)","v":0},0,null,0]
[{"$f":"IF(AND(INTRO!$E$37=\"Endemic\",INTRO!$E$39=\"Non-endemic\"),IF(COUNTRY_INFO!A209=0,\" \",COUNTRY_INFO!A209),\" \")","v":" "},{"$f":"IF(AND(INTRO!$E$37=\"Endemic\",INTRO!$E$39=\"Non-endemic\"),IF(COUNTRY_INFO!B209=0,\" \",COUNTRY_INFO!B209),\" \")","v":" "},{"$f":"IF(AND(INTRO!$E$37=\"Endemic\",INTRO!$E$39=\"Non-endemic\"),IF(COUNTRY_INFO!C209=0,\" \",COUNTRY_INFO!C209),\" \")","v":" "},{"$f":"IF(COUNTRY_INFO!Z209<>\"\",COUNTRY_INFO!V209,0)","v":0},{"$f":"IF(AND(COUNTRY_INFO!Z209<>\"\",COUNTRY_INFO!$H209=1),COUNTRY_INFO!F209+COUNTRY_INFO!G209,0)","v":0},0,null,0]
[{"$f":"IF(AND(INTRO!$E$37=\"Endemic\",INTRO!$E$39=\"Non-endemic\"),IF(COUNTRY_INFO!A210=0,\" \",COUNTRY_INFO!A210),\" \")","v":" "},{"$f":"IF(AND(INTRO!$E$37=\"Endemic\",INTRO!$E$39=\"Non-endemic\"),IF(COUNTRY_INFO!B210=0,\" \",COUNTRY_INFO!B210),\" \")","v":" "},{"$f":"IF(AND(INTRO!$E$37=\"Endemic\",INTRO!$E$39=\"Non-endemic\"),IF(COUNTRY_INFO!C210=0,\" \",COUNTRY_INFO!C210),\" \")","v":" "},{"$f":"IF(COUNTRY_INFO!Z210<>\"\",COUNTRY_INFO!V210,0)","v":0},{"$f":"IF(AND(COUNTRY_INFO!Z210<>\"\",COUNTRY_INFO!$H210=1),COUNTRY_INFO!F210+COUNTRY_INFO!G210,0)","v":0},0,null,0]
[{"$f":"IF(AND(INTRO!$E$37=\"Endemic\",INTRO!$E$39=\"Non-endemic\"),IF(COUNTRY_INFO!A211=0,\" \",COUNTRY_INFO!A211),\" \")","v":" "},{"$f":"IF(AND(INTRO!$E$37=\"Endemic\",INTRO!$E$39=\"Non-endemic\"),IF(COUNTRY_INFO!B211=0,\" \",COUNTRY_INFO!B211),\" \")","v":" "},{"$f":"IF(AND(INTRO!$E$37=\"Endemic\",INTRO!$E$39=\"Non-endemic\"),IF(COUNTRY_INFO!C211=0,\" \",COUNTRY_INFO!C211),\" \")","v":" "},{"$f":"IF(COUNTRY_INFO!Z211<>\"\",COUNTRY_INFO!V211,0)","v":0},{"$f":"IF(AND(COUNTRY_INFO!Z211<>\"\",COUNTRY_INFO!$H211=1),COUNTRY_INFO!F211+COUNTRY_INFO!G211,0)","v":0},0,null,0]
[{"$f":"IF(AND(INTRO!$E$37=\"Endemic\",INTRO!$E$39=\"Non-endemic\"),IF(COUNTRY_INFO!A212=0,\" \",COUNTRY_INFO!A212),\" \")","v":" "},{"$f":"IF(AND(INTRO!$E$37=\"Endemic\",INTRO!$E$39=\"Non-endemic\"),IF(COUNTRY_INFO!B212=0,\" \",COUNTRY_INFO!B212),\" \")","v":" "},{"$f":"IF(AND(INTRO!$E$37=\"Endemic\",INTRO!$E$39=\"Non-endemic\"),IF(COUNTRY_INFO!C212=0,\" \",COUNTRY_INFO!C212),\" \")","v":" "},{"$f":"IF(COUNTRY_INFO!Z212<>\"\",COUNTRY_INFO!V212,0)","v":0},{"$f":"IF(AND(COUNTRY_INFO!Z212<>\"\",COUNTRY_INFO!$H212=1),COUNTRY_INFO!F212+COUNTRY_INFO!G212,0)","v":0},0,null,0]
[{"$f":"IF(AND(INTRO!$E$37=\"Endemic\",INTRO!$E$39=\"Non-endemic\"),IF(COUNTRY_INFO!A213=0,\" \",COUNTRY_INFO!A213),\" \")","v":" "},{"$f":"IF(AND(INTRO!$E$37=\"Endemic\",INTRO!$E$39=\"Non-endemic\"),IF(COUNTRY_INFO!B213=0,\" \",COUNTRY_INFO!B213),\" \")","v":" "},{"$f":"IF(AND(INTRO!$E$37=\"Endemic\",INTRO!$E$39=\"Non-endemic\"),IF(COUNTRY_INFO!C213=0,\" \",COUNTRY_INFO!C213),\" \")","v":" "},{"$f":"IF(COUNTRY_INFO!Z213<>\"\",COUNTRY_INFO!V213,0)","v":0},{"$f":"IF(AND(COUNTRY_INFO!Z213<>\"\",COUNTRY_INFO!$H213=1),COUNTRY_INFO!F213+COUNTRY_INFO!G213,0)","v":0},0,null,0]
[{"$f":"IF(AND(INTRO!$E$37=\"Endemic\",INTRO!$E$39=\"Non-endemic\"),IF(COUNTRY_INFO!A214=0,\" \",COUNTRY_INFO!A214),\" \")","v":" "},{"$f":"IF(AND(INTRO!$E$37=\"Endemic\",INTRO!$E$39=\"Non-endemic\"),IF(COUNTRY_INFO!B214=0,\" \",COUNTRY_INFO!B214),\" \")","v":" "},{"$f":"IF(AND(INTRO!$E$37=\"Endemic\",INTRO!$E$39=\"Non-endemic\"),IF(COUNTRY_INFO!C214=0,\" \",COUNTRY_INFO!C214),\" \")","v":" "},{"$f":"IF(COUNTRY_INFO!Z214<>\"\",COUNTRY_INFO!V214,0)","v":0},{"$f":"IF(AND(COUNTRY_INFO!Z214<>\"\",COUNTRY_INFO!$H214=1),COUNTRY_INFO!F214+COUNTRY_INFO!G214,0)","v":0},0,null,0]
[{"$f":"IF(AND(INTRO!$E$37=\"Endemic\",INTRO!$E$39=\"Non-endemic\"),IF(COUNTRY_INFO!A215=0,\" \",COUNTRY_INFO!A215),\" \")","v":" "},{"$f":"IF(AND(INTRO!$E$37=\"Endemic\",INTRO!$E$39=\"Non-endemic\"),IF(COUNTRY_INFO!B215=0,\" \",COUNTRY_INFO!B215),\" \")","v":" "},{"$f":"IF(AND(INTRO!$E$37=\"Endemic\",INTRO!$E$39=\"Non-endemic\"),IF(COUNTRY_INFO!C215=0,\" \",COUNTRY_INFO!C215),\" \")","v":" "},{"$f":"IF(COUNTRY_INFO!Z215<>\"\",COUNTRY_INFO!V215,0)","v":0},{"$f":"IF(AND(COUNTRY_INFO!Z215<>\"\",COUNTRY_INFO!$H215=1),COUNTRY_INFO!F215+COUNTRY_INFO!G215,0)","v":0},0,null,0]
[{"$f":"IF(AND(INTRO!$E$37=\"Endemic\",INTRO!$E$39=\"Non-endemic\"),IF(COUNTRY_INFO!A216=0,\" \",COUNTRY_INFO!A216),\" \")","v":" "},{"$f":"IF(AND(INTRO!$E$37=\"Endemic\",INTRO!$E$39=\"Non-endemic\"),IF(COUNTRY_INFO!B216=0,\" \",COUNTRY_INFO!B216),\" \")","v":" "},{"$f":"IF(AND(INTRO!$E$37=\"Endemic\",INTRO!$E$39=\"Non-endemic\"),IF(COUNTRY_INFO!C216=0,\" \",COUNTRY_INFO!C216),\" \")","v":" "},{"$f":"IF(COUNTRY_INFO!Z216<>\"\",COUNTRY_INFO!V216,0)","v":0},{"$f":"IF(AND(COUNTRY_INFO!Z216<>\"\",COUNTRY_INFO!$H216=1),COUNTRY_INFO!F216+COUNTRY_INFO!G216,0)","v":0},0,null,0]
[{"$f":"IF(AND(INTRO!$E$37=\"Endemic\",INTRO!$E$39=\"Non-endemic\"),IF(COUNTRY_INFO!A217=0,\" \",COUNTRY_INFO!A217),\" \")","v":" "},{"$f":"IF(AND(INTRO!$E$37=\"Endemic\",INTRO!$E$39=\"Non-endemic\"),IF(COUNTRY_INFO!B217=0,\" \",COUNTRY_INFO!B217),\" \")","v":" "},{"$f":"IF(AND(INTRO!$E$37=\"Endemic\",INTRO!$E$39=\"Non-endemic\"),IF(COUNTRY_INFO!C217=0,\" \",COUNTRY_INFO!C217),\" \")","v":" "},{"$f":"IF(COUNTRY_INFO!Z217<>\"\",COUNTRY_INFO!V217,0)","v":0},{"$f":"IF(AND(COUNTRY_INFO!Z217<>\"\",COUNTRY_INFO!$H217=1),COUNTRY_INFO!F217+COUNTRY_INFO!G217,0)","v":0},0,null,0]
[{"$f":"IF(AND(INTRO!$E$37=\"Endemic\",INTRO!$E$39=\"Non-endemic\"),IF(COUNTRY_INFO!A218=0,\" \",COUNTRY_INFO!A218),\" \")","v":" "},{"$f":"IF(AND(INTRO!$E$37=\"Endemic\",INTRO!$E$39=\"Non-endemic\"),IF(COUNTRY_INFO!B218=0,\" \",COUNTRY_INFO!B218),\" \")","v":" "},{"$f":"IF(AND(INTRO!$E$37=\"Endemic\",INTRO!$E$39=\"Non-endemic\"),IF(COUNTRY_INFO!C218=0,\" \",COUNTRY_INFO!C218),\" \")","v":" "},{"$f":"IF(COUNTRY_INFO!Z218<>\"\",COUNTRY_INFO!V218,0)","v":0},{"$f":"IF(AND(COUNTRY_INFO!Z218<>\"\",COUNTRY_INFO!$H218=1),COUNTRY_INFO!F218+COUNTRY_INFO!G218,0)","v":0},0,null,0]
[{"$f":"IF(AND(INTRO!$E$37=\"Endemic\",INTRO!$E$39=\"Non-endemic\"),IF(COUNTRY_INFO!A219=0,\" \",COUNTRY_INFO!A219),\" \")","v":" "},{"$f":"IF(AND(INTRO!$E$37=\"Endemic\",INTRO!$E$39=\"Non-endemic\"),IF(COUNTRY_INFO!B219=0,\" \",COUNTRY_INFO!B219),\" \")","v":" "},{"$f":"IF(AND(INTRO!$E$37=\"Endemic\",INTRO!$E$39=\"Non-endemic\"),IF(COUNTRY_INFO!C219=0,\" \",COUNTRY_INFO!C219),\" \")","v":" "},{"$f":"IF(COUNTRY_INFO!Z219<>\"\",COUNTRY_INFO!V219,0)","v":0},{"$f":"IF(AND(COUNTRY_INFO!Z219<>\"\",COUNTRY_INFO!$H219=1),COUNTRY_INFO!F219+COUNTRY_INFO!G219,0)","v":0},0,null,0]
[{"$f":"IF(AND(INTRO!$E$37=\"Endemic\",INTRO!$E$39=\"Non-endemic\"),IF(COUNTRY_INFO!A220=0,\" \",COUNTRY_INFO!A220),\" \")","v":" "},{"$f":"IF(AND(INTRO!$E$37=\"Endemic\",INTRO!$E$39=\"Non-endemic\"),IF(COUNTRY_INFO!B220=0,\" \",COUNTRY_INFO!B220),\" \")","v":" "},{"$f":"IF(AND(INTRO!$E$37=\"Endemic\",INTRO!$E$39=\"Non-endemic\"),IF(COUNTRY_INFO!C220=0,\" \",COUNTRY_INFO!C220),\" \")","v":" "},{"$f":"IF(COUNTRY_INFO!Z220<>\"\",COUNTRY_INFO!V220,0)","v":0},{"$f":"IF(AND(COUNTRY_INFO!Z220<>\"\",COUNTRY_INFO!$H220=1),COUNTRY_INFO!F220+COUNTRY_INFO!G220,0)","v":0},0,null,0]
[{"$f":"IF(AND(INTRO!$E$37=\"Endemic\",INTRO!$E$39=\"Non-endemic\"),IF(COUNTRY_INFO!A221=0,\" \",COUNTRY_INFO!A221),\" \")","v":" "},{"$f":"IF(AND(INTRO!$E$37=\"Endemic\",INTRO!$E$39=\"Non-endemic\"),IF(COUNTRY_INFO!B221=0,\" \",COUNTRY_INFO!B221),\" \")","v":" "},{"$f":"IF(AND(INTRO!$E$37=\"Endemic\",INTRO!$E$39=\"Non-endemic\"),IF(COUNTRY_INFO!C221=0,\" \",COUNTRY_INFO!C221),\" \")","v":" "},{"$f":"IF(COUNTRY_INFO!Z221<>\"\",COUNTRY_INFO!V221,0)","v":0},{"$f":"IF(AND(COUNTRY_INFO!Z221<>\"\",COUNTRY_INFO!$H221=1),COUNTRY_INFO!F221+COUNTRY_INFO!G221,0)","v":0},0,null,0]
[{"$f":"IF(AND(INTRO!$E$37=\"Endemic\",INTRO!$E$39=\"Non-endemic\"),IF(COUNTRY_INFO!A222=0,\" \",COUNTRY_INFO!A222),\" \")","v":" "},{"$f":"IF(AND(INTRO!$E$37=\"Endemic\",INTRO!$E$39=\"Non-endemic\"),IF(COUNTRY_INFO!B222=0,\" \",COUNTRY_INFO!B222),\" \")","v":" "},{"$f":"IF(AND(INTRO!$E$37=\"Endemic\",INTRO!$E$39=\"Non-endemic\"),IF(COUNTRY_INFO!C222=0,\" \",COUNTRY_INFO!C222),\" \")","v":" "},{"$f":"IF(COUNTRY_INFO!Z222<>\"\",COUNTRY_INFO!V222,0)","v":0},{"$f":"IF(AND(COUNTRY_INFO!Z222<>\"\",COUNTRY_INFO!$H222=1),COUNTRY_INFO!F222+COUNTRY_INFO!G222,0)","v":0},0,null,0]
[{"$f":"IF(AND(INTRO!$E$37=\"Endemic\",INTRO!$E$39=\"Non-endemic\"),IF(COUNTRY_INFO!A223=0,\" \",COUNTRY_INFO!A223),\" \")","v":" "},{"$f":"IF(AND(INTRO!$E$37=\"Endemic\",INTRO!$E$39=\"Non-endemic\"),IF(COUNTRY_INFO!B223=0,\" \",COUNTRY_INFO!B223),\" \")","v":" "},{"$f":"IF(AND(INTRO!$E$37=\"Endemic\",INTRO!$E$39=\"Non-endemic\"),IF(COUNTRY_INFO!C223=0,\" \",COUNTRY_INFO!C223),\" \")","v":" "},{"$f":"IF(COUNTRY_INFO!Z223<>\"\",COUNTRY_INFO!V223,0)","v":0},{"$f":"IF(AND(COUNTRY_INFO!Z223<>\"\",COUNTRY_INFO!$H223=1),COUNTRY_INFO!F223+COUNTRY_INFO!G223,0)","v":0},0,null,0]
[{"$f":"IF(AND(INTRO!$E$37=\"Endemic\",INTRO!$E$39=\"Non-endemic\"),IF(COUNTRY_INFO!A224=0,\" \",COUNTRY_INFO!A224),\" \")","v":" "},{"$f":"IF(AND(INTRO!$E$37=\"Endemic\",INTRO!$E$39=\"Non-endemic\"),IF(COUNTRY_INFO!B224=0,\" \",COUNTRY_INFO!B224),\" \")","v":" "},{"$f":"IF(AND(INTRO!$E$37=\"Endemic\",INTRO!$E$39=\"Non-endemic\"),IF(COUNTRY_INFO!C224=0,\" \",COUNTRY_INFO!C224),\" \")","v":" "},{"$f":"IF(COUNTRY_INFO!Z224<>\"\",COUNTRY_INFO!V224,0)","v":0},{"$f":"IF(AND(COUNTRY_INFO!Z224<>\"\",COUNTRY_INFO!$H224=1),COUNTRY_INFO!F224+COUNTRY_INFO!G224,0)","v":0},0,null,0]
[{"$f":"IF(AND(INTRO!$E$37=\"Endemic\",INTRO!$E$39=\"Non-endemic\"),IF(COUNTRY_INFO!A225=0,\" \",COUNTRY_INFO!A225),\" \")","v":" "},{"$f":"IF(AND(INTRO!$E$37=\"Endemic\",INTRO!$E$39=\"Non-endemic\"),IF(COUNTRY_INFO!B225=0,\" \",COUNTRY_INFO!B225),\" \")","v":" "},{"$f":"IF(AND(INTRO!$E$37=\"Endemic\",INTRO!$E$39=\"Non-endemic\"),IF(COUNTRY_INFO!C225=0,\" \",COUNTRY_INFO!C225),\" \")","v":" "},{"$f":"IF(COUNTRY_INFO!Z225<>\"\",COUNTRY_INFO!V225,0)","v":0},{"$f":"IF(AND(COUNTRY_INFO!Z225<>\"\",COUNTRY_INFO!$H225=1),COUNTRY_INFO!F225+COUNTRY_INFO!G225,0)","v":0},0,null,0]
[{"$f":"IF(AND(INTRO!$E$37=\"Endemic\",INTRO!$E$39=\"Non-endemic\"),IF(COUNTRY_INFO!A226=0,\" \",COUNTRY_INFO!A226),\" \")","v":" "},{"$f":"IF(AND(INTRO!$E$37=\"Endemic\",INTRO!$E$39=\"Non-endemic\"),IF(COUNTRY_INFO!B226=0,\" \",COUNTRY_INFO!B226),\" \")","v":" "},{"$f":"IF(AND(INTRO!$E$37=\"Endemic\",INTRO!$E$39=\"Non-endemic\"),IF(COUNTRY_INFO!C226=0,\" \",COUNTRY_INFO!C226),\" \")","v":" "},{"$f":"IF(COUNTRY_INFO!Z226<>\"\",COUNTRY_INFO!V226,0)","v":0},{"$f":"IF(AND(COUNTRY_INFO!Z226<>\"\",COUNTRY_INFO!$H226=1),COUNTRY_INFO!F226+COUNTRY_INFO!G226,0)","v":0},0,null,0]
[{"$f":"IF(AND(INTRO!$E$37=\"Endemic\",INTRO!$E$39=\"Non-endemic\"),IF(COUNTRY_INFO!A227=0,\" \",COUNTRY_INFO!A227),\" \")","v":" "},{"$f":"IF(AND(INTRO!$E$37=\"Endemic\",INTRO!$E$39=\"Non-endemic\"),IF(COUNTRY_INFO!B227=0,\" \",COUNTRY_INFO!B227),\" \")","v":" "},{"$f":"IF(AND(INTRO!$E$37=\"Endemic\",INTRO!$E$39=\"Non-endemic\"),IF(COUNTRY_INFO!C227=0,\" \",COUNTRY_INFO!C227),\" \")","v":" "},{"$f":"IF(COUNTRY_INFO!Z227<>\"\",COUNTRY_INFO!V227,0)","v":0},{"$f":"IF(AND(COUNTRY_INFO!Z227<>\"\",COUNTRY_INFO!$H227=1),COUNTRY_INFO!F227+COUNTRY_INFO!G227,0)","v":0},0,null,0]
[{"$f":"IF(AND(INTRO!$E$37=\"Endemic\",INTRO!$E$39=\"Non-endemic\"),IF(COUNTRY_INFO!A228=0,\" \",COUNTRY_INFO!A228),\" \")","v":" "},{"$f":"IF(AND(INTRO!$E$37=\"Endemic\",INTRO!$E$39=\"Non-endemic\"),IF(COUNTRY_INFO!B228=0,\" \",COUNTRY_INFO!B228),\" \")","v":" "},{"$f":"IF(AND(INTRO!$E$37=\"Endemic\",INTRO!$E$39=\"Non-endemic\"),IF(COUNTRY_INFO!C228=0,\" \",COUNTRY_INFO!C228),\" \")","v":" "},{"$f":"IF(COUNTRY_INFO!Z228<>\"\",COUNTRY_INFO!V228,0)","v":0},{"$f":"IF(AND(COUNTRY_INFO!Z228<>\"\",COUNTRY_INFO!$H228=1),COUNTRY_INFO!F228+COUNTRY_INFO!G228,0)","v":0},0,null,0]
[{"$f":"IF(AND(INTRO!$E$37=\"Endemic\",INTRO!$E$39=\"Non-endemic\"),IF(COUNTRY_INFO!A229=0,\" \",COUNTRY_INFO!A229),\" \")","v":" "},{"$f":"IF(AND(INTRO!$E$37=\"Endemic\",INTRO!$E$39=\"Non-endemic\"),IF(COUNTRY_INFO!B229=0,\" \",COUNTRY_INFO!B229),\" \")","v":" "},{"$f":"IF(AND(INTRO!$E$37=\"Endemic\",INTRO!$E$39=\"Non-endemic\"),IF(COUNTRY_INFO!C229=0,\" \",COUNTRY_INFO!C229),\" \")","v":" "},{"$f":"IF(COUNTRY_INFO!Z229<>\"\",COUNTRY_INFO!V229,0)","v":0},{"$f":"IF(AND(COUNTRY_INFO!Z229<>\"\",COUNTRY_INFO!$H229=1),COUNTRY_INFO!F229+COUNTRY_INFO!G229,0)","v":0},0,null,0]
[{"$f":"IF(AND(INTRO!$E$37=\"Endemic\",INTRO!$E$39=\"Non-endemic\"),IF(COUNTRY_INFO!A230=0,\" \",COUNTRY_INFO!A230),\" \")","v":" "},{"$f":"IF(AND(INTRO!$E$37=\"Endemic\",INTRO!$E$39=\"Non-endemic\"),IF(COUNTRY_INFO!B230=0,\" \",COUNTRY_INFO!B230),\" \")","v":" "},{"$f":"IF(AND(INTRO!$E$37=\"Endemic\",INTRO!$E$39=\"Non-endemic\"),IF(COUNTRY_INFO!C230=0,\" \",COUNTRY_INFO!C230),\" \")","v":" "},{"$f":"IF(COUNTRY_INFO!Z230<>\"\",COUNTRY_INFO!V230,0)","v":0},{"$f":"IF(AND(COUNTRY_INFO!Z230<>\"\",COUNTRY_INFO!$H230=1),COUNTRY_INFO!F230+COUNTRY_INFO!G230,0)","v":0},0,null,0]
[{"$f":"IF(AND(INTRO!$E$37=\"Endemic\",INTRO!$E$39=\"Non-endemic\"),IF(COUNTRY_INFO!A231=0,\" \",COUNTRY_INFO!A231),\" \")","v":" "},{"$f":"IF(AND(INTRO!$E$37=\"Endemic\",INTRO!$E$39=\"Non-endemic\"),IF(COUNTRY_INFO!B231=0,\" \",COUNTRY_INFO!B231),\" \")","v":" "},{"$f":"IF(AND(INTRO!$E$37=\"Endemic\",INTRO!$E$39=\"Non-endemic\"),IF(COUNTRY_INFO!C231=0,\" \",COUNTRY_INFO!C231),\" \")","v":" "},{"$f":"IF(COUNTRY_INFO!Z231<>\"\",COUNTRY_INFO!V231,0)","v":0},{"$f":"IF(AND(COUNTRY_INFO!Z231<>\"\",COUNTRY_INFO!$H231=1),COUNTRY_INFO!F231+COUNTRY_INFO!G231,0)","v":0},0,null,0]
[{"$f":"IF(AND(INTRO!$E$37=\"Endemic\",INTRO!$E$39=\"Non-endemic\"),IF(COUNTRY_INFO!A232=0,\" \",COUNTRY_INFO!A232),\" \")","v":" "},{"$f":"IF(AND(INTRO!$E$37=\"Endemic\",INTRO!$E$39=\"Non-endemic\"),IF(COUNTRY_INFO!B232=0,\" \",COUNTRY_INFO!B232),\" \")","v":" "},{"$f":"IF(AND(INTRO!$E$37=\"Endemic\",INTRO!$E$39=\"Non-endemic\"),IF(COUNTRY_INFO!C232=0,\" \",COUNTRY_INFO!C232),\" \")","v":" "},{"$f":"IF(COUNTRY_INFO!Z232<>\"\",COUNTRY_INFO!V232,0)","v":0},{"$f":"IF(AND(COUNTRY_INFO!Z232<>\"\",COUNTRY_INFO!$H232=1),COUNTRY_INFO!F232+COUNTRY_INFO!G232,0)","v":0},0,null,0]
[{"$f":"IF(AND(INTRO!$E$37=\"Endemic\",INTRO!$E$39=\"Non-endemic\"),IF(COUNTRY_INFO!A233=0,\" \",COUNTRY_INFO!A233),\" \")","v":" "},{"$f":"IF(AND(INTRO!$E$37=\"Endemic\",INTRO!$E$39=\"Non-endemic\"),IF(COUNTRY_INFO!B233=0,\" \",COUNTRY_INFO!B233),\" \")","v":" "},{"$f":"IF(AND(INTRO!$E$37=\"Endemic\",INTRO!$E$39=\"Non-endemic\"),IF(COUNTRY_INFO!C233=0,\" \",COUNTRY_INFO!C233),\" \")","v":" "},{"$f":"IF(COUNTRY_INFO!Z233<>\"\",COUNTRY_INFO!V233,0)","v":0},{"$f":"IF(AND(COUNTRY_INFO!Z233<>\"\",COUNTRY_INFO!$H233=1),COUNTRY_INFO!F233+COUNTRY_INFO!G233,0)","v":0},0,null,0]
[{"$f":"IF(AND(INTRO!$E$37=\"Endemic\",INTRO!$E$39=\"Non-endemic\"),IF(COUNTRY_INFO!A234=0,\" \",COUNTRY_INFO!A234),\" \")","v":" "},{"$f":"IF(AND(INTRO!$E$37=\"Endemic\",INTRO!$E$39=\"Non-endemic\"),IF(COUNTRY_INFO!B234=0,\" \",COUNTRY_INFO!B234),\" \")","v":" "},{"$f":"IF(AND(INTRO!$E$37=\"Endemic\",INTRO!$E$39=\"Non-endemic\"),IF(COUNTRY_INFO!C234=0,\" \",COUNTRY_INFO!C234),\" \")","v":" "},{"$f":"IF(COUNTRY_INFO!Z234<>\"\",COUNTRY_INFO!V234,0)","v":0},{"$f":"IF(AND(COUNTRY_INFO!Z234<>\"\",COUNTRY_INFO!$H234=1),COUNTRY_INFO!F234+COUNTRY_INFO!G234,0)","v":0},0,null,0]
[{"$f":"IF(AND(INTRO!$E$37=\"Endemic\",INTRO!$E$39=\"Non-endemic\"),IF(COUNTRY_INFO!A235=0,\" \",COUNTRY_INFO!A235),\" \")","v":" "},{"$f":"IF(AND(INTRO!$E$37=\"Endemic\",INTRO!$E$39=\"Non-endemic\"),IF(COUNTRY_INFO!B235=0,\" \",COUNTRY_INFO!B235),\" \")","v":" "},{"$f":"IF(AND(INTRO!$E$37=\"Endemic\",INTRO!$E$39=\"Non-endemic\"),IF(COUNTRY_INFO!C235=0,\" \",COUNTRY_INFO!C235),\" \")","v":" "},{"$f":"IF(COUNTRY_INFO!Z235<>\"\",COUNTRY_INFO!V235,0)","v":0},{"$f":"IF(AND(COUNTRY_INFO!Z235<>\"\",COUNTRY_INFO!$H235=1),COUNTRY_INFO!F235+COUNTRY_INFO!G235,0)","v":0},0,null,0]
[{"$f":"IF(AND(INTRO!$E$37=\"Endemic\",INTRO!$E$39=\"Non-endemic\"),IF(COUNTRY_INFO!A236=0,\" \",COUNTRY_INFO!A236),\" \")","v":" "},{"$f":"IF(AND(INTRO!$E$37=\"Endemic\",INTRO!$E$39=\"Non-endemic\"),IF(COUNTRY_INFO!B236=0,\" \",COUNTRY_INFO!B236),\" \")","v":" "},{"$f":"IF(AND(INTRO!$E$37=\"Endemic\",INTRO!$E$39=\"Non-endemic\"),IF(COUNTRY_INFO!C236=0,\" \",COUNTRY_INFO!C236),\" \")","v":" "},{"$f":"IF(COUNTRY_INFO!Z236<>\"\",COUNTRY_INFO!V236,0)","v":0},{"$f":"IF(AND(COUNTRY_INFO!Z236<>\"\",COUNTRY_INFO!$H236=1),COUNTRY_INFO!F236+COUNTRY_INFO!G236,0)","v":0},0,null,0]
[{"$f":"IF(AND(INTRO!$E$37=\"Endemic\",INTRO!$E$39=\"Non-endemic\"),IF(COUNTRY_INFO!A237=0,\" \",COUNTRY_INFO!A237),\" \")","v":" "},{"$f":"IF(AND(INTRO!$E$37=\"Endemic\",INTRO!$E$39=\"Non-endemic\"),IF(COUNTRY_INFO!B237=0,\" \",COUNTRY_INFO!B237),\" \")","v":" "},{"$f":"IF(AND(INTRO!$E$37=\"Endemic\",INTRO!$E$39=\"Non-endemic\"),IF(COUNTRY_INFO!C237=0,\" \",COUNTRY_INFO!C237),\" \")","v":" "},{"$f":"IF(COUNTRY_INFO!Z237<>\"\",COUNTRY_INFO!V237,0)","v":0},{"$f":"IF(AND(COUNTRY_INFO!Z237<>\"\",COUNTRY_INFO!$H237=1),COUNTRY_INFO!F237+COUNTRY_INFO!G237,0)","v":0},0,null,0]
[{"$f":"IF(AND(INTRO!$E$37=\"Endemic\",INTRO!$E$39=\"Non-endemic\"),IF(COUNTRY_INFO!A238=0,\" \",COUNTRY_INFO!A238),\" \")","v":" "},{"$f":"IF(AND(INTRO!$E$37=\"Endemic\",INTRO!$E$39=\"Non-endemic\"),IF(COUNTRY_INFO!B238=0,\" \",COUNTRY_INFO!B238),\" \")","v":" "},{"$f":"IF(AND(INTRO!$E$37=\"Endemic\",INTRO!$E$39=\"Non-endemic\"),IF(COUNTRY_INFO!C238=0,\" \",COUNTRY_INFO!C238),\" \")","v":" "},{"$f":"IF(COUNTRY_INFO!Z238<>\"\",COUNTRY_INFO!V238,0)","v":0},{"$f":"IF(AND(COUNTRY_INFO!Z238<>\"\",COUNTRY_INFO!$H238=1),COUNTRY_INFO!F238+COUNTRY_INFO!G238,0)","v":0},0,null,0]
[{"$f":"IF(AND(INTRO!$E$37=\"Endemic\",INTRO!$E$39=\"Non-endemic\"),IF(COUNTRY_INFO!A239=0,\" \",COUNTRY_INFO!A239),\" \")","v":" "},{"$f":"IF(AND(INTRO!$E$37=\"Endemic\",INTRO!$E$39=\"Non-endemic\"),IF(COUNTRY_INFO!B239=0,\" \",COUNTRY_INFO!B239),\" \")","v":" "},{"$f":"IF(AND(INTRO!$E$37=\"Endemic\",INTRO!$E$39=\"Non-endemic\"),IF(COUNTRY_INFO!C239=0,\" \",COUNTRY_INFO!C239),\" \")","v":" "},{"$f":"IF(COUNTRY_INFO!Z239<>\"\",COUNTRY_INFO!V239,0)","v":0},{"$f":"IF(AND(COUNTRY_INFO!Z239<>\"\",COUNTRY_INFO!$H239=1),COUNTRY_INFO!F239+COUNTRY_INFO!G239,0)","v":0},0,null,0]
[{"$f":"IF(AND(INTRO!$E$37=\"Endemic\",INTRO!$E$39=\"Non-endemic\"),IF(COUNTRY_INFO!A240=0,\" \",COUNTRY_INFO!A240),\" \")","v":" "},{"$f":"IF(AND(INTRO!$E$37=\"Endemic\",INTRO!$E$39=\"Non-endemic\"),IF(COUNTRY_INFO!B240=0,\" \",COUNTRY_INFO!B240),\" \")","v":" "},{"$f":"IF(AND(INTRO!$E$37=\"Endemic\",INTRO!$E$39=\"Non-endemic\"),IF(COUNTRY_INFO!C240=0,\" \",COUNTRY_INFO!C240),\" \")","v":" "},{"$f":"IF(COUNTRY_INFO!Z240<>\"\",COUNTRY_INFO!V240,0)","v":0},{"$f":"IF(AND(COUNTRY_INFO!Z240<>\"\",COUNTRY_INFO!$H240=1),COUNTRY_INFO!F240+COUNTRY_INFO!G240,0)","v":0},0,null,0]
[{"$f":"IF(AND(INTRO!$E$37=\"Endemic\",INTRO!$E$39=\"Non-endemic\"),IF(COUNTRY_INFO!A241=0,\" \",COUNTRY_INFO!A241),\" \")","v":" "},{"$f":"IF(AND(INTRO!$E$37=\"Endemic\",INTRO!$E$39=\"Non-endemic\"),IF(COUNTRY_INFO!B241=0,\" \",COUNTRY_INFO!B241),\" \")","v":" "},{"$f":"IF(AND(INTRO!$E$37=\"Endemic\",INTRO!$E$39=\"Non-endemic\"),IF(COUNTRY_INFO!C241=0,\" \",COUNTRY_INFO!C241),\" \")","v":" "},{"$f":"IF(COUNTRY_INFO!Z241<>\"\",COUNTRY_INFO!V241,0)","v":0},{"$f":"IF(AND(COUNTRY_INFO!Z241<>\"\",COUNTRY_INFO!$H241=1),COUNTRY_INFO!F241+COUNTRY_INFO!G241,0)","v":0},0,null,0]
[{"$f":"IF(AND(INTRO!$E$37=\"Endemic\",INTRO!$E$39=\"Non-endemic\"),IF(COUNTRY_INFO!A242=0,\" \",COUNTRY_INFO!A242),\" \")","v":" "},{"$f":"IF(AND(INTRO!$E$37=\"Endemic\",INTRO!$E$39=\"Non-endemic\"),IF(COUNTRY_INFO!B242=0,\" \",COUNTRY_INFO!B242),\" \")","v":" "},{"$f":"IF(AND(INTRO!$E$37=\"Endemic\",INTRO!$E$39=\"Non-endemic\"),IF(COUNTRY_INFO!C242=0,\" \",COUNTRY_INFO!C242),\" \")","v":" "},{"$f":"IF(COUNTRY_INFO!Z242<>\"\",COUNTRY_INFO!V242,0)","v":0},{"$f":"IF(AND(COUNTRY_INFO!Z242<>\"\",COUNTRY_INFO!$H242=1),COUNTRY_INFO!F242+COUNTRY_INFO!G242,0)","v":0},0,null,0]
[{"$f":"IF(AND(INTRO!$E$37=\"Endemic\",INTRO!$E$39=\"Non-endemic\"),IF(COUNTRY_INFO!A243=0,\" \",COUNTRY_INFO!A243),\" \")","v":" "},{"$f":"IF(AND(INTRO!$E$37=\"Endemic\",INTRO!$E$39=\"Non-endemic\"),IF(COUNTRY_INFO!B243=0,\" \",COUNTRY_INFO!B243),\" \")","v":" "},{"$f":"IF(AND(INTRO!$E$37=\"Endemic\",INTRO!$E$39=\"Non-endemic\"),IF(COUNTRY_INFO!C243=0,\" \",COUNTRY_INFO!C243),\" \")","v":" "},{"$f":"IF(COUNTRY_INFO!Z243<>\"\",COUNTRY_INFO!V243,0)","v":0},{"$f":"IF(AND(COUNTRY_INFO!Z243<>\"\",COUNTRY_INFO!$H243=1),COUNTRY_INFO!F243+COUNTRY_INFO!G243,0)","v":0},0,null,0]
[{"$f":"IF(AND(INTRO!$E$37=\"Endemic\",INTRO!$E$39=\"Non-endemic\"),IF(COUNTRY_INFO!A244=0,\" \",COUNTRY_INFO!A244),\" \")","v":" "},{"$f":"IF(AND(INTRO!$E$37=\"Endemic\",INTRO!$E$39=\"Non-endemic\"),IF(COUNTRY_INFO!B244=0,\" \",COUNTRY_INFO!B244),\" \")","v":" "},{"$f":"IF(AND(INTRO!$E$37=\"Endemic\",INTRO!$E$39=\"Non-endemic\"),IF(COUNTRY_INFO!C244=0,\" \",COUNTRY_INFO!C244),\" \")","v":" "},{"$f":"IF(COUNTRY_INFO!Z244<>\"\",COUNTRY_INFO!V244,0)","v":0},{"$f":"IF(AND(COUNTRY_INFO!Z244<>\"\",COUNTRY_INFO!$H244=1),COUNTRY_INFO!F244+COUNTRY_INFO!G244,0)","v":0},0,null,0]
[{"$f":"IF(AND(INTRO!$E$37=\"Endemic\",INTRO!$E$39=\"Non-endemic\"),IF(COUNTRY_INFO!A245=0,\" \",COUNTRY_INFO!A245),\" \")","v":" "},{"$f":"IF(AND(INTRO!$E$37=\"Endemic\",INTRO!$E$39=\"Non-endemic\"),IF(COUNTRY_INFO!B245=0,\" \",COUNTRY_INFO!B245),\" \")","v":" "},{"$f":"IF(AND(INTRO!$E$37=\"Endemic\",INTRO!$E$39=\"Non-endemic\"),IF(COUNTRY_INFO!C245=0,\" \",COUNTRY_INFO!C245),\" \")","v":" "},{"$f":"IF(COUNTRY_INFO!Z245<>\"\",COUNTRY_INFO!V245,0)","v":0},{"$f":"IF(AND(COUNTRY_INFO!Z245<>\"\",COUNTRY_INFO!$H245=1),COUNTRY_INFO!F245+COUNTRY_INFO!G245,0)","v":0},0,null,0]
[{"$f":"IF(AND(INTRO!$E$37=\"Endemic\",INTRO!$E$39=\"Non-endemic\"),IF(COUNTRY_INFO!A246=0,\" \",COUNTRY_INFO!A246),\" \")","v":" "},{"$f":"IF(AND(INTRO!$E$37=\"Endemic\",INTRO!$E$39=\"Non-endemic\"),IF(COUNTRY_INFO!B246=0,\" \",COUNTRY_INFO!B246),\" \")","v":" "},{"$f":"IF(AND(INTRO!$E$37=\"Endemic\",INTRO!$E$39=\"Non-endemic\"),IF(COUNTRY_INFO!C246=0,\" \",COUNTRY_INFO!C246),\" \")","v":" "},{"$f":"IF(COUNTRY_INFO!Z246<>\"\",COUNTRY_INFO!V246,0)","v":0},{"$f":"IF(AND(COUNTRY_INFO!Z246<>\"\",COUNTRY_INFO!$H246=1),COUNTRY_INFO!F246+COUNTRY_INFO!G246,0)","v":0},0,null,0]
[{"$f":"IF(AND(INTRO!$E$37=\"Endemic\",INTRO!$E$39=\"Non-endemic\"),IF(COUNTRY_INFO!A247=0,\" \",COUNTRY_INFO!A247),\" \")","v":" "},{"$f":"IF(AND(INTRO!$E$37=\"Endemic\",INTRO!$E$39=\"Non-endemic\"),IF(COUNTRY_INFO!B247=0,\" \",COUNTRY_INFO!B247),\" \")","v":" "},{"$f":"IF(AND(INTRO!$E$37=\"Endemic\",INTRO!$E$39=\"Non-endemic\"),IF(COUNTRY_INFO!C247=0,\" \",COUNTRY_INFO!C247),\" \")","v":" "},{"$f":"IF(COUNTRY_INFO!Z247<>\"\",COUNTRY_INFO!V247,0)","v":0},{"$f":"IF(AND(COUNTRY_INFO!Z247<>\"\",COUNTRY_INFO!$H247=1),COUNTRY_INFO!F247+COUNTRY_INFO!G247,0)","v":0},0,null,0]
[{"$f":"IF(AND(INTRO!$E$37=\"Endemic\",INTRO!$E$39=\"Non-endemic\"),IF(COUNTRY_INFO!A248=0,\" \",COUNTRY_INFO!A248),\" \")","v":" "},{"$f":"IF(AND(INTRO!$E$37=\"Endemic\",INTRO!$E$39=\"Non-endemic\"),IF(COUNTRY_INFO!B248=0,\" \",COUNTRY_INFO!B248),\" \")","v":" "},{"$f":"IF(AND(INTRO!$E$37=\"Endemic\",INTRO!$E$39=\"Non-endemic\"),IF(COUNTRY_INFO!C248=0,\" \",COUNTRY_INFO!C248),\" \")","v":" "},{"$f":"IF(COUNTRY_INFO!Z248<>\"\",COUNTRY_INFO!V248,0)","v":0},{"$f":"IF(AND(COUNTRY_INFO!Z248<>\"\",COUNTRY_INFO!$H248=1),COUNTRY_INFO!F248+COUNTRY_INFO!G248,0)","v":0},0,null,0]
[{"$f":"IF(AND(INTRO!$E$37=\"Endemic\",INTRO!$E$39=\"Non-endemic\"),IF(COUNTRY_INFO!A249=0,\" \",COUNTRY_INFO!A249),\" \")","v":" "},{"$f":"IF(AND(INTRO!$E$37=\"Endemic\",INTRO!$E$39=\"Non-endemic\"),IF(COUNTRY_INFO!B249=0,\" \",COUNTRY_INFO!B249),\" \")","v":" "},{"$f":"IF(AND(INTRO!$E$37=\"Endemic\",INTRO!$E$39=\"Non-endemic\"),IF(COUNTRY_INFO!C249=0,\" \",COUNTRY_INFO!C249),\" \")","v":" "},{"$f":"IF(COUNTRY_INFO!Z249<>\"\",COUNTRY_INFO!V249,0)","v":0},{"$f":"IF(AND(COUNTRY_INFO!Z249<>\"\",COUNTRY_INFO!$H249=1),COUNTRY_INFO!F249+COUNTRY_INFO!G249,0)","v":0},0,null,0]
[{"$f":"IF(AND(INTRO!$E$37=\"Endemic\",INTRO!$E$39=\"Non-endemic\"),IF(COUNTRY_INFO!A250=0,\" \",COUNTRY_INFO!A250),\" \")","v":" "},{"$f":"IF(AND(INTRO!$E$37=\"Endemic\",INTRO!$E$39=\"Non-endemic\"),IF(COUNTRY_INFO!B250=0,\" \",COUNTRY_INFO!B250),\" \")","v":" "},{"$f":"IF(AND(INTRO!$E$37=\"Endemic\",INTRO!$E$39=\"Non-endemic\"),IF(COUNTRY_INFO!C250=0,\" \",COUNTRY_INFO!C250),\" \")","v":" "},{"$f":"IF(COUNTRY_INFO!Z250<>\"\",COUNTRY_INFO!V250,0)","v":0},{"$f":"IF(AND(COUNTRY_INFO!Z250<>\"\",COUNTRY_INFO!$H250=1),COUNTRY_INFO!F250+COUNTRY_INFO!G250,0)","v":0},0,null,0]
[{"$f":"IF(AND(INTRO!$E$37=\"Endemic\",INTRO!$E$39=\"Non-endemic\"),IF(COUNTRY_INFO!A251=0,\" \",COUNTRY_INFO!A251),\" \")","v":" "},{"$f":"IF(AND(INTRO!$E$37=\"Endemic\",INTRO!$E$39=\"Non-endemic\"),IF(COUNTRY_INFO!B251=0,\" \",COUNTRY_INFO!B251),\" \")","v":" "},{"$f":"IF(AND(INTRO!$E$37=\"Endemic\",INTRO!$E$39=\"Non-endemic\"),IF(COUNTRY_INFO!C251=0,\" \",COUNTRY_INFO!C251),\" \")","v":" "},{"$f":"IF(COUNTRY_INFO!Z251<>\"\",COUNTRY_INFO!V251,0)","v":0},{"$f":"IF(AND(COUNTRY_INFO!Z251<>\"\",COUNTRY_INFO!$H251=1),COUNTRY_INFO!F251+COUNTRY_INFO!G251,0)","v":0},0,null,0]
[{"$f":"IF(AND(INTRO!$E$37=\"Endemic\",INTRO!$E$39=\"Non-endemic\"),IF(COUNTRY_INFO!A252=0,\" \",COUNTRY_INFO!A252),\" \")","v":" "},{"$f":"IF(AND(INTRO!$E$37=\"Endemic\",INTRO!$E$39=\"Non-endemic\"),IF(COUNTRY_INFO!B252=0,\" \",COUNTRY_INFO!B252),\" \")","v":" "},{"$f":"IF(AND(INTRO!$E$37=\"Endemic\",INTRO!$E$39=\"Non-endemic\"),IF(COUNTRY_INFO!C252=0,\" \",COUNTRY_INFO!C252),\" \")","v":" "},{"$f":"IF(COUNTRY_INFO!Z252<>\"\",COUNTRY_INFO!V252,0)","v":0},{"$f":"IF(AND(COUNTRY_INFO!Z252<>\"\",COUNTRY_INFO!$H252=1),COUNTRY_INFO!F252+COUNTRY_INFO!G252,0)","v":0},0,null,0]
[{"$f":"IF(AND(INTRO!$E$37=\"Endemic\",INTRO!$E$39=\"Non-endemic\"),IF(COUNTRY_INFO!A253=0,\" \",COUNTRY_INFO!A253),\" \")","v":" "},{"$f":"IF(AND(INTRO!$E$37=\"Endemic\",INTRO!$E$39=\"Non-endemic\"),IF(COUNTRY_INFO!B253=0,\" \",COUNTRY_INFO!B253),\" \")","v":" "},{"$f":"IF(AND(INTRO!$E$37=\"Endemic\",INTRO!$E$39=\"Non-endemic\"),IF(COUNTRY_INFO!C253=0,\" \",COUNTRY_INFO!C253),\" \")","v":" "},{"$f":"IF(COUNTRY_INFO!Z253<>\"\",COUNTRY_INFO!V253,0)","v":0},{"$f":"IF(AND(COUNTRY_INFO!Z253<>\"\",COUNTRY_INFO!$H253=1),COUNTRY_INFO!F253+COUNTRY_INFO!G253,0)","v":0},0,null,0]
[{"$f":"IF(AND(INTRO!$E$37=\"Endemic\",INTRO!$E$39=\"Non-endemic\"),IF(COUNTRY_INFO!A254=0,\" \",COUNTRY_INFO!A254),\" \")","v":" "},{"$f":"IF(AND(INTRO!$E$37=\"Endemic\",INTRO!$E$39=\"Non-endemic\"),IF(COUNTRY_INFO!B254=0,\" \",COUNTRY_INFO!B254),\" \")","v":" "},{"$f":"IF(AND(INTRO!$E$37=\"Endemic\",INTRO!$E$39=\"Non-endemic\"),IF(COUNTRY_INFO!C254=0,\" \",COUNTRY_INFO!C254),\" \")","v":" "},{"$f":"IF(COUNTRY_INFO!Z254<>\"\",COUNTRY_INFO!V254,0)","v":0},{"$f":"IF(AND(COUNTRY_INFO!Z254<>\"\",COUNTRY_INFO!$H254=1),COUNTRY_INFO!F254+COUNTRY_INFO!G254,0)","v":0},0,null,0]
[{"$f":"IF(AND(INTRO!$E$37=\"Endemic\",INTRO!$E$39=\"Non-endemic\"),IF(COUNTRY_INFO!A255=0,\" \",COUNTRY_INFO!A255),\" \")","v":" "},{"$f":"IF(AND(INTRO!$E$37=\"Endemic\",INTRO!$E$39=\"Non-endemic\"),IF(COUNTRY_INFO!B255=0,\" \",COUNTRY_INFO!B255),\" \")","v":" "},{"$f":"IF(AND(INTRO!$E$37=\"Endemic\",INTRO!$E$39=\"Non-endemic\"),IF(COUNTRY_INFO!C255=0,\" \",COUNTRY_INFO!C255),\" \")","v":" "},{"$f":"IF(COUNTRY_INFO!Z255<>\"\",COUNTRY_INFO!V255,0)","v":0},{"$f":"IF(AND(COUNTRY_INFO!Z255<>\"\",COUNTRY_INFO!$H255=1),COUNTRY_INFO!F255+COUNTRY_INFO!G255,0)","v":0},0,null,0]
[{"$f":"IF(AND(INTRO!$E$37=\"Endemic\",INTRO!$E$39=\"Non-endemic\"),IF(COUNTRY_INFO!A256=0,\" \",COUNTRY_INFO!A256),\" \")","v":" "},{"$f":"IF(AND(INTRO!$E$37=\"Endemic\",INTRO!$E$39=\"Non-endemic\"),IF(COUNTRY_INFO!B256=0,\" \",COUNTRY_INFO!B256),\" \")","v":" "},{"$f":"IF(AND(INTRO!$E$37=\"Endemic\",INTRO!$E$39=\"Non-endemic\"),IF(COUNTRY_INFO!C256=0,\" \",COUNTRY_INFO!C256),\" \")","v":" "},{"$f":"IF(COUNTRY_INFO!Z256<>\"\",COUNTRY_INFO!V256,0)","v":0},{"$f":"IF(AND(COUNTRY_INFO!Z256<>\"\",COUNTRY_INFO!$H256=1),COUNTRY_INFO!F256+COUNTRY_INFO!G256,0)","v":0},0,null,0]
[{"$f":"IF(AND(INTRO!$E$37=\"Endemic\",INTRO!$E$39=\"Non-endemic\"),IF(COUNTRY_INFO!A257=0,\" \",COUNTRY_INFO!A257),\" \")","v":" "},{"$f":"IF(AND(INTRO!$E$37=\"Endemic\",INTRO!$E$39=\"Non-endemic\"),IF(COUNTRY_INFO!B257=0,\" \",COUNTRY_INFO!B257),\" \")","v":" "},{"$f":"IF(AND(INTRO!$E$37=\"Endemic\",INTRO!$E$39=\"Non-endemic\"),IF(COUNTRY_INFO!C257=0,\" \",COUNTRY_INFO!C257),\" \")","v":" "},{"$f":"IF(COUNTRY_INFO!Z257<>\"\",COUNTRY_INFO!V257,0)","v":0},{"$f":"IF(AND(COUNTRY_INFO!Z257<>\"\",COUNTRY_INFO!$H257=1),COUNTRY_INFO!F257+COUNTRY_INFO!G257,0)","v":0},0,null,0]
[{"$f":"IF(AND(INTRO!$E$37=\"Endemic\",INTRO!$E$39=\"Non-endemic\"),IF(COUNTRY_INFO!A258=0,\" \",COUNTRY_INFO!A258),\" \")","v":" "},{"$f":"IF(AND(INTRO!$E$37=\"Endemic\",INTRO!$E$39=\"Non-endemic\"),IF(COUNTRY_INFO!B258=0,\" \",COUNTRY_INFO!B258),\" \")","v":" "},{"$f":"IF(AND(INTRO!$E$37=\"Endemic\",INTRO!$E$39=\"Non-endemic\"),IF(COUNTRY_INFO!C258=0,\" \",COUNTRY_INFO!C258),\" \")","v":" "},{"$f":"IF(COUNTRY_INFO!Z258<>\"\",COUNTRY_INFO!V258,0)","v":0},{"$f":"IF(AND(COUNTRY_INFO!Z258<>\"\",COUNTRY_INFO!$H258=1),COUNTRY_INFO!F258+COUNTRY_INFO!G258,0)","v":0},0,null,0]
[{"$f":"IF(AND(INTRO!$E$37=\"Endemic\",INTRO!$E$39=\"Non-endemic\"),IF(COUNTRY_INFO!A259=0,\" \",COUNTRY_INFO!A259),\" \")","v":" "},{"$f":"IF(AND(INTRO!$E$37=\"Endemic\",INTRO!$E$39=\"Non-endemic\"),IF(COUNTRY_INFO!B259=0,\" \",COUNTRY_INFO!B259),\" \")","v":" "},{"$f":"IF(AND(INTRO!$E$37=\"Endemic\",INTRO!$E$39=\"Non-endemic\"),IF(COUNTRY_INFO!C259=0,\" \",COUNTRY_INFO!C259),\" \")","v":" "},{"$f":"IF(COUNTRY_INFO!Z259<>\"\",COUNTRY_INFO!V259,0)","v":0},{"$f":"IF(AND(COUNTRY_INFO!Z259<>\"\",COUNTRY_INFO!$H259=1),COUNTRY_INFO!F259+COUNTRY_INFO!G259,0)","v":0},0,null,0]
[{"$f":"IF(AND(INTRO!$E$37=\"Endemic\",INTRO!$E$39=\"Non-endemic\"),IF(COUNTRY_INFO!A260=0,\" \",COUNTRY_INFO!A260),\" \")","v":" "},{"$f":"IF(AND(INTRO!$E$37=\"Endemic\",INTRO!$E$39=\"Non-endemic\"),IF(COUNTRY_INFO!B260=0,\" \",COUNTRY_INFO!B260),\" \")","v":" "},{"$f":"IF(AND(INTRO!$E$37=\"Endemic\",INTRO!$E$39=\"Non-endemic\"),IF(COUNTRY_INFO!C260=0,\" \",COUNTRY_INFO!C260),\" \")","v":" "},{"$f":"IF(COUNTRY_INFO!Z260<>\"\",COUNTRY_INFO!V260,0)","v":0},{"$f":"IF(AND(COUNTRY_INFO!Z260<>\"\",COUNTRY_INFO!$H260=1),COUNTRY_INFO!F260+COUNTRY_INFO!G260,0)","v":0},0,null,0]
[{"$f":"IF(AND(INTRO!$E$37=\"Endemic\",INTRO!$E$39=\"Non-endemic\"),IF(COUNTRY_INFO!A261=0,\" \",COUNTRY_INFO!A261),\" \")","v":" "},{"$f":"IF(AND(INTRO!$E$37=\"Endemic\",INTRO!$E$39=\"Non-endemic\"),IF(COUNTRY_INFO!B261=0,\" \",COUNTRY_INFO!B261),\" \")","v":" "},{"$f":"IF(AND(INTRO!$E$37=\"Endemic\",INTRO!$E$39=\"Non-endemic\"),IF(COUNTRY_INFO!C261=0,\" \",COUNTRY_INFO!C261),\" \")","v":" "},{"$f":"IF(COUNTRY_INFO!Z261<>\"\",COUNTRY_INFO!V261,0)","v":0},{"$f":"IF(AND(COUNTRY_INFO!Z261<>\"\",COUNTRY_INFO!$H261=1),COUNTRY_INFO!F261+COUNTRY_INFO!G261,0)","v":0},0,null,0]
[{"$f":"IF(AND(INTRO!$E$37=\"Endemic\",INTRO!$E$39=\"Non-endemic\"),IF(COUNTRY_INFO!A262=0,\" \",COUNTRY_INFO!A262),\" \")","v":" "},{"$f":"IF(AND(INTRO!$E$37=\"Endemic\",INTRO!$E$39=\"Non-endemic\"),IF(COUNTRY_INFO!B262=0,\" \",COUNTRY_INFO!B262),\" \")","v":" "},{"$f":"IF(AND(INTRO!$E$37=\"Endemic\",INTRO!$E$39=\"Non-endemic\"),IF(COUNTRY_INFO!C262=0,\" \",COUNTRY_INFO!C262),\" \")","v":" "},{"$f":"IF(COUNTRY_INFO!Z262<>\"\",COUNTRY_INFO!V262,0)","v":0},{"$f":"IF(AND(COUNTRY_INFO!Z262<>\"\",COUNTRY_INFO!$H262=1),COUNTRY_INFO!F262+COUNTRY_INFO!G262,0)","v":0},0,null,0]
[{"$f":"IF(AND(INTRO!$E$37=\"Endemic\",INTRO!$E$39=\"Non-endemic\"),IF(COUNTRY_INFO!A263=0,\" \",COUNTRY_INFO!A263),\" \")","v":" "},{"$f":"IF(AND(INTRO!$E$37=\"Endemic\",INTRO!$E$39=\"Non-endemic\"),IF(COUNTRY_INFO!B263=0,\" \",COUNTRY_INFO!B263),\" \")","v":" "},{"$f":"IF(AND(INTRO!$E$37=\"Endemic\",INTRO!$E$39=\"Non-endemic\"),IF(COUNTRY_INFO!C263=0,\" \",COUNTRY_INFO!C263),\" \")","v":" "},{"$f":"IF(COUNTRY_INFO!Z263<>\"\",COUNTRY_INFO!V263,0)","v":0},{"$f":"IF(AND(COUNTRY_INFO!Z263<>\"\",COUNTRY_INFO!$H263=1),COUNTRY_INFO!F263+COUNTRY_INFO!G263,0)","v":0},0,null,0]
[{"$f":"IF(AND(INTRO!$E$37=\"Endemic\",INTRO!$E$39=\"Non-endemic\"),IF(COUNTRY_INFO!A264=0,\" \",COUNTRY_INFO!A264),\" \")","v":" "},{"$f":"IF(AND(INTRO!$E$37=\"Endemic\",INTRO!$E$39=\"Non-endemic\"),IF(COUNTRY_INFO!B264=0,\" \",COUNTRY_INFO!B264),\" \")","v":" "},{"$f":"IF(AND(INTRO!$E$37=\"Endemic\",INTRO!$E$39=\"Non-endemic\"),IF(COUNTRY_INFO!C264=0,\" \",COUNTRY_INFO!C264),\" \")","v":" "},{"$f":"IF(COUNTRY_INFO!Z264<>\"\",COUNTRY_INFO!V264,0)","v":0},{"$f":"IF(AND(COUNTRY_INFO!Z264<>\"\",COUNTRY_INFO!$H264=1),COUNTRY_INFO!F264+COUNTRY_INFO!G264,0)","v":0},0,null,0]
[{"$f":"IF(AND(INTRO!$E$37=\"Endemic\",INTRO!$E$39=\"Non-endemic\"),IF(COUNTRY_INFO!A265=0,\" \",COUNTRY_INFO!A265),\" \")","v":" "},{"$f":"IF(AND(INTRO!$E$37=\"Endemic\",INTRO!$E$39=\"Non-endemic\"),IF(COUNTRY_INFO!B265=0,\" \",COUNTRY_INFO!B265),\" \")","v":" "},{"$f":"IF(AND(INTRO!$E$37=\"Endemic\",INTRO!$E$39=\"Non-endemic\"),IF(COUNTRY_INFO!C265=0,\" \",COUNTRY_INFO!C265),\" \")","v":" "},{"$f":"IF(COUNTRY_INFO!Z265<>\"\",COUNTRY_INFO!V265,0)","v":0},{"$f":"IF(AND(COUNTRY_INFO!Z265<>\"\",COUNTRY_INFO!$H265=1),COUNTRY_INFO!F265+COUNTRY_INFO!G265,0)","v":0},0,null,{"$f":"IF($F265>$G265,$F265-$G265,0)","v":0}]
[{"$f":"IF(AND(INTRO!$E$37=\"Endemic\",INTRO!$E$39=\"Non-endemic\"),IF(COUNTRY_INFO!A266=0,\" \",COUNTRY_INFO!A266),\" \")","v":" "},{"$f":"IF(AND(INTRO!$E$37=\"Endemic\",INTRO!$E$39=\"Non-endemic\"),IF(COUNTRY_INFO!B266=0,\" \",COUNTRY_INFO!B266),\" \")","v":" "},{"$f":"IF(AND(INTRO!$E$37=\"Endemic\",INTRO!$E$39=\"Non-endemic\"),IF(COUNTRY_INFO!C266=0,\" \",COUNTRY_INFO!C266),\" \")","v":" "},{"$f":"IF(COUNTRY_INFO!Z266<>\"\",COUNTRY_INFO!V266,0)","v":0},{"$f":"IF(AND(COUNTRY_INFO!Z266<>\"\",COUNTRY_INFO!$H266=1),COUNTRY_INFO!F266+COUNTRY_INFO!G266,0)","v":0},0,null,0]
[{"$f":"IF(AND(INTRO!$E$37=\"Endemic\",INTRO!$E$39=\"Non-endemic\"),IF(COUNTRY_INFO!A267=0,\" \",COUNTRY_INFO!A267),\" \")","v":" "},{"$f":"IF(AND(INTRO!$E$37=\"Endemic\",INTRO!$E$39=\"Non-endemic\"),IF(COUNTRY_INFO!B267=0,\" \",COUNTRY_INFO!B267),\" \")","v":" "},{"$f":"IF(AND(INTRO!$E$37=\"Endemic\",INTRO!$E$39=\"Non-endemic\"),IF(COUNTRY_INFO!C267=0,\" \",COUNTRY_INFO!C267),\" \")","v":" "},{"$f":"IF(COUNTRY_INFO!Z267<>\"\",COUNTRY_INFO!V267,0)","v":0},{"$f":"IF(AND(COUNTRY_INFO!Z267<>\"\",COUNTRY_INFO!$H267=1),COUNTRY_INFO!F267+COUNTRY_INFO!G267,0)","v":0},{"$f":"E267*2.8","v":0},null,0]
[{"$f":"IF(AND(INTRO!$E$37=\"Endemic\",INTRO!$E$39=\"Non-endemic\"),IF(COUNTRY_INFO!A268=0,\" \",COUNTRY_INFO!A268),\" \")","v":" "},{"$f":"IF(AND(INTRO!$E$37=\"Endemic\",INTRO!$E$39=\"Non-endemic\"),IF(COUNTRY_INFO!B268=0,\" \",COUNTRY_INFO!B268),\" \")","v":" "},{"$f":"IF(AND(INTRO!$E$37=\"Endemic\",INTRO!$E$39=\"Non-endemic\"),IF(COUNTRY_INFO!C268=0,\" \",COUNTRY_INFO!C268),\" \")","v":" "},{"$f":"IF(COUNTRY_INFO!Z268<>\"\",COUNTRY_INFO!V268,0)","v":0},{"$f":"IF(AND(COUNTRY_INFO!Z268<>\"\",COUNTRY_INFO!$H268=1),COUNTRY_INFO!F268+COUNTRY_INFO!G268,0)","v":0},0,null,0]
[{"$f":"IF(AND(INTRO!$E$37=\"Endemic\",INTRO!$E$39=\"Non-endemic\"),IF(COUNTRY_INFO!A269=0,\" \",COUNTRY_INFO!A269),\" \")","v":" "},{"$f":"IF(AND(INTRO!$E$37=\"Endemic\",INTRO!$E$39=\"Non-endemic\"),IF(COUNTRY_INFO!B269=0,\" \",COUNTRY_INFO!B269),\" \")","v":" "},{"$f":"IF(AND(INTRO!$E$37=\"Endemic\",INTRO!$E$39=\"Non-endemic\"),IF(COUNTRY_INFO!C269=0,\" \",COUNTRY_INFO!C269),\" \")","v":" "},{"$f":"IF(COUNTRY_INFO!Z269<>\"\",COUNTRY_INFO!V269,0)","v":0},{"$f":"IF(AND(COUNTRY_INFO!Z269<>\"\",COUNTRY_INFO!$H269=1),COUNTRY_INFO!F269+COUNTRY_INFO!G269,0)","v":0},0,null,0]
[{"$f":"IF(AND(INTRO!$E$37=\"Endemic\",INTRO!$E$39=\"Non-endemic\"),IF(COUNTRY_INFO!A270=0,\" \",COUNTRY_INFO!A270),\" \")","v":" "},{"$f":"IF(AND(INTRO!$E$37=\"Endemic\",INTRO!$E$39=\"Non-endemic\"),IF(COUNTRY_INFO!B270=0,\" \",COUNTRY_INFO!B270),\" \")","v":" "},{"$f":"IF(AND(INTRO!$E$37=\"Endemic\",INTRO!$E$39=\"Non-endemic\"),IF(COUNTRY_INFO!C270=0,\" \",COUNTRY_INFO!C270),\" \")","v":" "},{"$f":"IF(COUNTRY_INFO!Z270<>\"\",COUNTRY_INFO!V270,0)","v":0},{"$f":"IF(AND(COUNTRY_INFO!Z270<>\"\",COUNTRY_INFO!$H270=1),COUNTRY_INFO!F270+COUNTRY_INFO!G270,0)","v":0},0,null,0]

{"sheet":"SUMMARY","index":7,"n_rows":93,"n_cols":8,"rows_kept":93,"cut":false,"hidden":false,"merged":[[74,2,74,3],[74,4,74,5],[73,2,73,3],[73,4,73,5],[60,4,60,6],[61,4,61,6],[62,4,62,6],[72,2,72,3],[72,4,72,5],[25,1,27,1],[9,7,10,7],[32,2,35,4],[81,2,81,7],[83,3,83,7],[59,4,59,6],[50,1,50,7],[56,1,56,7],[51,1,51,7],[52,1,52,7],[80,1,80,7],[58,1,58,7],[78,1,78,7],[79,1,79,7],[66,1,66,7],[76,2,76,3],[9,1,10,1],[9,3,9,6],[9,2,10,2],[17,1,19,1],[21,1,23,1],[83,1,83,2],[0,1,0,7],[1,1,1,7],[2,1,2,5],[3,1,3,7],[4,1,4,7],[6,1,6,7],[5,2,5,5],[65,1,65,7],[54,1,54,7],[53,1,53,7],[36,1,36,7],[41,2,41,3],[41,4,41,5],[41,6,41,7],[55,1,55,7],[82,2,82,6],[63,4,63,6],[75,2,75,3],[97,1,97,7],[75,4,75,5],[70,4,70,5],[71,4,71,5],[70,2,70,3],[71,2,71,3],[92,1,92,7],[76,4,76,5],[87,1,87,7],[91,1,91,7],[86,1,86,7],[84,1,84,2],[84,3,84,7]]}
[]
[null,"Joint request for selected PC medicines v.4.1"]
[]
[null,"This form constitutes an official government request to WHO for the supply of the PC medicines. To ensure the medicines are delivered on time, the request for PC medicines should be submitted at least 9 months before the first date of MDA planned in the calendar year of the request. "]
[]
[null,"Country",{"$f":"IF(INTRO!$E$33<>0,INTRO!$E$33,\" \")","v":"Ghana"},null,null,null,"Year",{"$f":"IF(INTRO!$E$35<>0,INTRO!$E$35,\" \")","v":2024}]
[]
[null,"Information on PC medicines requested to WHO"]
[]
[null,"PC medicine","Target group","Number of tablets",null,null,null,"Specify \nsource"]
[null,null,null,"Required","In stock","In pipeline","Requested"]
[null,"Diethylcarbamazine citrate","ALL",0,0,null,{"$f":"IF(D12>(E12+F12),D12-E12-F12, 0)","v":0}]
[null,null,null,null,null,null,0]
[null,"Ivermectin","ALL",44333272.703999989,{"$f":"24113*500","v":12056500},null,32276772.703999989]
[]
[null,"Albendazole for LF","ALL",731565,690600,null,40965]
[null,null,null,null,null,null,0]
[null,"Albendazole for STH","PreSAC",null,null,null,0]
[null,null,"SAC",null,null,null,0]
[null,null,"WRA",null,null,null,0]
[]
[null,"Mebendazole","PreSAC",null,null,null,0]
[null,null,"SAC",null,null,null,0]
[null,null,"WRA",null,null,null,0]
[]
[null,"Praziquantel","PreSAC",0,null,null,0]
[null,null,"SAC",11287292,560000,null,10727292]
[null,null,"Adults",6558450,null,null,{"$f":"IF(D28>(E28+F28),D28-E28-F28, 0)","v":6558450}]
[]
[null,"Number of people to be treated with donated medicine ( see User Guide for details )"]
[]
[null,"Disease",null,null,null,"Round 1","Round 2","Round 3"]
[null,"Lymphatic filariasis","These figures are estimated only \nfor targeted age groups to be treated \nwith donated medicines in areas \nwhere treatment for \na specific disease is planned",null,null,731565]
[null,"Onchocerciasis",null,null,null,7783036.3399999999,7783037]
[null,"Schistosomiasis",null,null,null,7829796,0]
[null,"Soil-transmitted helminthiases",null,null,null,0,0,0]
[]
[]
[]
[null,"Information on planned PC interventions"]
[]
[null,"PC medicine","Planned date of the \n1st round of PC",null,"Planned date of the \n2nd round of PC",null,"Date by which the medicine should arrive to the national warehouse"]
[null,"Diethylcarbamazine citrate"]
[null,"Ivermectin","May",2024,"November",2024,"March",2023]
[null,"Albendazole for LF","May",2024,null,null,"March",2024]
[null,"Albendazole for STH"]
[null,"Mebendazole"]
[null,"Praziquantel","August",2024,null,null,"July",2024]
[]
[null,"Checklist"]
[null,"Submission"]
[null,"What should be submitted?"]
[null,"The supply of the requested medicines should be based on up-to-date epidemiological data, specific usage plans, and capacity for implementation. The following checklist ensures that all necessary forms and information are provided to WHO (in electronic format). "]
[null,"Joint request for selected PC medicines"]
[null,"Joint reporting form"]
[null,"PC epidemiological data reporting form"]
[]
[null,"Availability of funding for implementation in the year for which the medicines are requested"]
[]
[null,"Diseases \ntargeted for implementation","Total treatments","Funding secured for","Source",null,null,"Amount"]
[null,{"$f":"B33","v":"Lymphatic filariasis"},{"$f":"SUM(F33:H33)","v":731565},"USAID"]
[null,{"$f":"B34","v":"Onchocerciasis"},{"$f":"SUM(F34:H34)","v":15566073.34},"USAID/SS"]
[null,{"$f":"B35","v":"Schistosomiasis"},{"$f":"SUM(F35:H35)","v":7829796},"USAID"]
[null,{"$f":"B36","v":"Soil-transmitted helminthiases"},{"$f":"SUM(F36:H36)","v":0}]
[]
[null,"Who should fill in the form? "]
[null,"National NTD coordinator should compile all required information needed to complete the request form. In the absence of such a coordinator, specific programme managers should coordinate their respective part. The final single request must be approved by the Ministry of Health."]
[]
[null,"Information on person(s) who has filled in the form"]
[]
[null,"Title ","Name",null,"Phone",null,"Email","Date"]
[null,"Data Manager","Ernest Mensah",null,233242907493,null,"ernestmensah1@gmail.com","19/04/2023"]
[]
[]
[]
[]
[]
[]
[null,"The WHO recommends that all serious adverse events suspected to be associated with use of PC medicines should be reported in accordance with national Pharmacovigilance guidelines. In the absence of a national Pharmacovigilance system, contact the WHO Neglected Tropical Disease department for guidance."]
[null,"The WHO is committed to facilitate PC medicines donation with a free-of-charge supply of a) albendazole, mebendazole and praziquantel to the MoH’s national warehouse; and b) diethylcarbamazine citrate to the entry port/airport of recipient countries."]
[null,"The institution submitting the present request is responsible for a) arranging the offloading of the medicines from the truck and storing it in the national warehouse and subsequent shipment to the final distribution centres; b) for registering the donated medicine, if required, by the relevant national regulatory authorities; and c) for informing about any changes of their PC campaigns (e.g. postpone of the planned MDA date, replacement of NTD coordinator, etc.)."]
[null,null,"I have read and accept WHO Data Sharing Policy"]
[null,null,"I confirm that all information provided in this form is complete and correct"]
[null,"Name and signature of NTD coordinator \nor Ministry of Health representative"]
[null,"Date:"]
[]
[null,"Please complete information on shipment and consignee in the worksheet SHIPMENT. Any additional details related to this Request should be provided in the \"Additional information\" box in the worksheet SHIPMENT."]
[null,"Please send the national request (signed and in electronic format) to the concerned WR with copy to:"]
[null,"WHO headquarters","PC_JointForms@who.int"]
[null,"WHO Regional Office","Regional Advisor for NTD"]
[null,"Mectizan donation program","Dr Yao Sodahlon, email: ysodahlon@taskforce.org"]
[]
[null,"Please note that your request will be reviewed by an independent panel before approval. The information in this form, joint reporting form and PC epidemiological data reporting form are essential for WHO to ensure efficient usage of medicines. As part of its ongoing monitoring and evaluation activities, and to meet its contractual obligations to donors and other partners, WHO and its appointed agents reserve the right to periodically inspect stocks of the medicines at country level."]

{"sheet":"SHIPMENT","index":8,"n_rows":46,"n_cols":8,"rows_kept":46,"cut":false,"hidden":false,"merged":[[34,1,34,7],[36,1,36,7],[0,1,0,7],[1,1,1,7],[2,1,2,5],[17,5,17,7],[18,5,18,7],[19,2,19,4],[19,5,19,7],[21,2,21,4],[3,2,3,5],[4,1,4,7],[22,2,22,4],[22,5,22,7],[15,2,15,4],[20,5,20,7],[15,5,15,7],[20,2,20,4],[18,2,18,4],[16,2,16,4],[47,1,56,7],[45,1,45,7],[37,1,37,6],[38,1,38,5],[40,1,40,7],[41,1,41,6],[39,1,39,6],[42,1,42,6],[43,1,43,7],[25,2,25,4],[25,5,25,7],[24,1,24,7],[6,1,6,7],[7,2,7,4],[7,5,7,7],[8,2,8,4],[8,5,8,7],[9,2,9,4],[9,5,9,7],[10,2,10,4],[10,5,10,7],[11,2,11,4],[11,5,11,7],[12,2,12,4],[12,5,12,7],[13,2,13,4],[13,5,13,7],[14,2,14,4],[14,5,14,7],[23,2,23,4],[23,5,23,7],[21,5,21,7],[16,5,16,7],[17,2,17,4],[26,2,26,4],[26,5,26,7],[27,2,27,4],[27,5,27,7],[28,2,28,4],[28,5,28,7],[32,2,32,4],[32,5,32,7],[29,2,29,4],[29,5,29,7],[30,2,30,4],[30,5,30,7],[31,2,31,4],[31,5,31,7]]}
[]
[null,"Joint request for selected PC medicines v.4.1"]
[]
[null,"Country",{"$f":"IF(INTRO!$E$33<>0,INTRO!$E$33,\" \")","v":"Ghana"},null,null,null,"Year",{"$f":"IF(INTRO!$E$35<>0,INTRO!$E$35,\" \")","v":2024}]
[]
[null,"Information on shipment and consignee "]
[]
[null,"IVM","Consignee",null,null,"Delivery point / Final recipient\nif different from the consignee"]
[null,"Name"," MOH GHS NTDP",null,null," Dr. Kofi Asemanyi-Mensah"]
[null,"Department/Unit","Neglected Tropical Diseases Programme",null,null,"Neglected Tropical Diseases Programme"]
[null,"Organization","Ghana Health Service",null,null,"Ghana Health Service"]
[null,"Phone","00233 20 8149141",null,null,"00233 20 8149141"]
[null,"Fax","00233 302 2276 739",null,null,"00233 302 2276 739"]
[null,"E-mail","bernard.asamany@ghsmail.org / kamensah2@gmail.com",null,null,"kamensah2@gmail.com"]
[null,"Mailing address","NTD Programme, P.O.Box MB 190, Accra, Ghana",null,null,"NTD Programme, P.O.Box MB 190, Accra, Ghana"]
[]
[null,"ALB for LF","Consignee",null,null,"Delivery point / Final recipient\nif different from the consignee"]
[null,"Name"," MOH GHS NTDP",null,null," Dr. Kofi Asemanyi-Mensah"]
[null,"Department/Unit","Neglected Tropical Diseases Programme",null,null,"Neglected Tropical Diseases Programme"]
[null,"Organization","Ghana Health Service",null,null,"Ghana Health Service"]
[null,"Phone","00233 20 8149141",null,null,"00233 20 8149141"]
[null,"Fax","00233 302 2276 739",null,null,"00233 302 2276 739"]
[null,"E-mail","bernard.asamany@ghsmail.org / kamensah2@gmail.com",null,null,"kamensah2@gmail.com"]
[null,"Mailing address","NTD Programme, P.O.Box MB 190, Accra, Ghana",null,null,"NTD Programme, P.O.Box MB 190, Accra, Ghana"]
[]
[null,"PZQ","Consignee",null,null,"Delivery point / Final recipient\nif different from the consignee"]
[null,"Name"," MOH GHS NTDP",null,null," Dr. Kofi Asemanyi-Mensah"]
[null,"Department/Unit","Neglected Tropical Diseases Programme",null,null,"Neglected Tropical Diseases Programme"]
[null,"Organization","Ghana Health Service",null,null,"Ghana Health Service"]
[null,"Phone","00233 20 8149141",null,null,"00233 20 8149141"]
[null,"Fax","00233 302 2276 739",null,null,"00233 302 2276 739"]
[null,"E-mail","bernard.asamany@ghsmail.org / kamensah2@gmail.com",null,null,"kamensah2@gmail.com"]
[null,"Mailing address","NTD Programme, P.O.Box MB 190, Accra, Ghana",null,null,"NTD Programme, P.O.Box MB 190, Accra, Ghana"]
[]
[]
[null,"Information on import requirements"]
[]
[null,"Is the Import Permit required?",null,null,null,null,null,"Yes"]
[null,"How long does it take to obtain the Import Permit?",null,null,null,null,null,"Months"]
[null,"Do you require any documents to be submitted together with the Import Permit application?",null,null,null,null,null,"Yes"]
[]
[null,"Does the consignee have to get customs clearance before the shipment can proceed?",null,null,null,null,null,"No"]
[null,"Is there any additional information may be helpful in ensuring timely clearance and delivery of medicines to your country? ",null,null,null,null,null,"No"]
[]
[]
[null,"Additional information"]

{"sheet":"DATA_POLICY","index":9,"n_rows":39,"n_cols":8,"rows_kept":39,"cut":false,"hidden":true,"merged":[[55,1,55,2],[0,1,0,5],[1,1,1,7],[3,3,3,5],[6,1,6,7],[8,1,12,7],[13,1,16,7],[17,1,21,7],[22,1,25,7],[26,2,36,7],[38,1,45,7]]}
[]
[null,"Joint request for selected PC medicines v.4.1"]
[]
[null,"Country",null,{"$f":"IF(INTRO!$E$33<>0,INTRO!$E$33,\" \")","v":"Ghana"},null,null,"Year",{"$f":"IF(INTRO!$E$35<>0,INTRO!$E$35,\" \")","v":2024}]
[]
[]
[null,"WHO Data Sharing Policy statement"]
[]
[null,"Data are the basis for all sound public health actions and the benefits of data sharing are widely recognized, including scientific and public health benefits. Whenever possible, WHO wishes to promote the sharing of health data, including but not restricted to surveillance and epidemiological data.  "]
[]
[]
[]
[]
[null,{"$f":"\"In this connection, and without prejudice to information sharing and publication pursuant to legally binding instruments, by providing data to WHO, the Ministry of Health of \" & D4 & \":\"","v":"In this connection, and without prejudice to information sharing and publication pursuant to legally binding instruments, by providing data to WHO, the Ministry of Health of Ghana:"}]
[]
[]
[]
[null,"Confirms that all data to be supplied to WHO hereunder have been collected in accordance with applicable national laws, including data protection laws aimed at protecting the confidentiality of identifiable persons;"]
[]
[]
[]
[]
[null,{"$f":"\"Agrees that WHO shall be entitled, subject always to measures to ensure the ethical and secure use of the data, and subject always to an appropriate acknowledgement of \"&D4&\":\"","v":"Agrees that WHO shall be entitled, subject always to measures to ensure the ethical and secure use of the data, and subject always to an appropriate acknowledgement of Ghana:"}]
[]
[]
[]
[null,null,"to publish the data, stripped of any personal identifiers and make the Data available to any interested party on request (to the extent they have not, or not yet, been published by WHO) on terms that allow non-commercial, not-for-profit use of the Data for public health purposes (provided always that publication of the Data shall remain under the control of WHO); \nto use, compile, aggregate, evaluate and analyse the Data and publish and disseminate the results thereof in conjunction with WHO’s work and in accordance with the Organization’s policies and practices."]
[]
[]
[]
[]
[]
[]
[]
[]
[]
[]
[]
[null,{"$f":"CONCATENATE(\"Except where data sharing and publication is required under legally binding instruments (IHR, WHO Nomenclature Regulations 1967, etc.), the Ministry of Health of \", D4,\" may in respect of certain data opt out of (any part of) the above,\" & \" by notifying WHO thereof in writing at the following address, provided that any such notification shall clearly identify the data in question and clearly indicate the scope of the opt-out (in reference to the  above), \" & \"and provided that specific reasons shall be given for the opt out.\")","v":"Except where data sharing and publication is required under legally binding instruments (IHR, WHO Nomenclature Regulations 1967, etc.), the Ministry of Health of Ghana may in respect of certain data opt out of (any part of) the above, by notifying WHO thereof in writing at the following address, provided that any such notification shall clearly identify the data in question and clearly indicate the scope of the opt-out (in reference to the  above), and provided that specific reasons shall be given for the opt out."}]