{"text_format":"1","workbook":"xlsx","n_sheets":8,"sheets":["INTRO","COUNTRY_INFO","DEC","ALB_MBD","PZQ","IVM","SUMMARY","SHIPMENT"],"not_rendered":{"charts":0,"images":2,"macros":1,"external_links":0,"defined_names":6,"comments":8,"pivot_tables":0},"unopened":[],"bounds":{"document_bytes":16777216,"sheet_cells":100000,"rows_first":2000,"rows_last":500,"rows_between":2000,"halvings":0,"cell_chars":16384,"cell_head_chars":4096},"cells_cut":0,"cells_raw":0,"read":"whole","date_system":"1900"}

{"sheet":"INTRO","index":0,"n_rows":50,"n_cols":5,"rows_kept":50,"cut":false,"hidden":false,"merged":[[21,1,21,4],[46,1,46,4],[38,1,38,2],[40,1,40,2],[42,1,42,2],[44,1,44,2],[36,1,36,2],[22,2,23,4],[25,2,26,4],[27,1,27,4],[32,1,32,2],[29,1,29,4],[30,1,30,4],[28,2,28,4],[24,1,24,4],[34,1,34,2],[0,1,0,4],[2,1,2,4],[1,1,1,4],[5,1,5,4],[3,1,3,4],[7,2,7,4],[11,1,11,4],[4,1,4,4],[10,2,10,4],[20,2,20,4],[17,1,17,4],[13,1,13,4],[18,2,18,4],[8,2,8,4],[9,2,9,4],[19,1,19,4],[12,1,12,4],[16,1,16,4],[14,1,14,4],[15,1,15,4]]}
[]
[null,"Joint request for selected PC medicines v.3"]
[]
[null,"As part of global efforts to accelerate expansion of preventive chemotherapy (PC) for control and elimination of lymphatic filariasis, schistosomiasis and soil-transmitted helminthiases, the World Health Organization (WHO) facilitates the supply of albendazole 400 mg tablets (GSK) to national lymphatic filariasis elimination programmes and national soil-transmitted helminth control programmes; diethylcarbamazine citrate 100 mg tablets (Eisai) to national lymphatic filariasis elimination programmes; mebendazole 500 mg tablets (J&J) for national soil-transmitted helminth control programmes; and praziquantel 600 mg tablets (Merck KGaA)  for school-age children to national schistosomiasis control programmes. WHO also collaborates to supply ivermectin 3 mg tablets (Merck) for onchocerciasis and lymphatic filariasis donation programmes.  \nThis Excel-based tool is designed to assist countries in quantifying the number of tablets of relevant PC medicines required to reach the planned target population and districts for the year of request. Output of the tool is a joint request for PC medicines, which can be printed, signed and submitted to WHO to request these medicines."]
[]
[null,"Structure of the application (worksheets):"]
[]
[null,"INTRO","This worksheet includes guides on how to complete the joint request for selected PC medicines and information about the status of PC for endemic diseases in the country."]
[null,"COUNTRY_INFO","This worksheet includes information about administrative structure of the country, population by age group, status of endemicity for each disease, population requiring PC and planned interventions."]
[null,"DEC, ALB_MBD, PZQ and IVM","These worksheets include information about endemic districts targeted for treatment with specified PC medicines, treatment plan, and number of tablets required and requested. "]
[null,"SUMMARY","This worksheet includes summary of number of tablets requested, information about stock, and date for submission of requested medicines. Before generating the report (run macros) please select the medicine for which the report is needed. Follow the same rule to see the number of people to be treated for the specific disease. \nThis worksheet should be printed and submitted as a joint request for selected PC medicines (see the instruction for submission in the SUMMARY worksheet)."]
[]
[null,"Instruction for data entry"]
[]
[null,"Most of the cells in the above-mentioned worksheets include formula that are calculated automatically according to the treatment policy recommended by WHO for each disease.\nSee the link http://www.who.int/neglected_diseases/preventive_chemotherapy/pct_manual/en/index.html"]
[]
[null,"Please enter your data into the cells according to their colour code:"]
[]
[null,null,"White - cell is not protected. Please enter the value of the requested indicator."]
[]
[null,null,"Yellow - cell is protected and includes name of indicator. No data entry required."]
[]
[null,null,"Orange - cell is not protected and includes a drop-down menu. Please select the value from the drop-down list."]
[]
[]
[null,null,"Green - cell is not protected and includes formula. Please change the value only if your data are different from those that are calculated automatically."]
[]
[]
[null,null,"Blue - cell is protected and includes formula. No data entry required."]
[]
[null,"Country data"]
[]
[null,"COUNTRY",null,null,"Ghana"]
[]
[null,"Year for request of the medicine",null,null,2019]
[]
[null,"Is country endemic for lymphatic filariasis (LF)?",null,null,"Endemic"]
[]
[null,"Is country endemic for onchocerciasis (ONCHO)?",null,null,"Endemic"]
[]
[null,"Is country endemic for soil-transmitted helminthiases (STH)?",null,null,"Endemic"]
[]
[null,"Is country endemic for schistosomiasis (SCH)?",null,null,"Endemic"]
[]
[null,"How many administrative units in the country?",null,null,221]
[]
[null,"If demographical data at the second administrative level are not available by age group, please enter the proportion (%) of population by age group in the country. If data are available, please leave these cells blank."]
[null,"1-4 years age","Preschool-age children (PreSAC)",null,0.108]
[null,"5-14 years age","School-age children (SAC)",null,0.245]
[null,"15 years +","Adults",null,0.61699999999999999]

{"sheet":"COUNTRY_INFO","index":1,"n_rows":229,"n_cols":25,"rows_kept":229,"cut":false,"hidden":false,"merged":[[7,0,7,18],[5,3,5,6],[5,7,5,10],[5,11,5,14],[5,15,5,18],[3,0,3,2],[3,7,3,10],[3,15,3,18],[5,0,5,2],[3,19,3,22],[5,19,5,22]]}
["COUNTRY INFORMATION"]
["Administrative structure, population by age group, status of endemicity and planned interventions"]
[]
["TOTAL",null,null,{"$f":"SUM(D$9:D$1000)","v":30889250},{"$f":"SUM(E$9:E$1000)","v":3336041},{"$f":"SUM(F$9:F$1000)","v":7567865},{"$f":"SUM(G$9:G$1000)","v":19058667},null,null,null,null,{"$f":"SUM(L$9:L$1000)","v":1349658},{"$f":"SUM(M$9:M$1000)","v":12284676},{"$f":"SUM(N$9:N$1000)","v":10903906},{"$f":"SUM(O$9:O$1000)","v":10603357.950000005}]
[]
["Country administrative structure",null,null,"Population",null,null,null,"Endemicity",null,null,null,"Population requiring PC",null,null,null,"Number of treatment rounds planned for the year",null,null,null,"Epidemiological surveys planned for the year"]
["Country","Province/State","District","Total","PreSAC","SAC","Adults","LF","Oncho","STH","SCH","LF","Oncho","STH","SCH","LF","Oncho","STH","SCH","LF","Oncho","STH","SCH","IU_ID","IU_Name"]
[]
[{"$f":"IF(INTRO!$E$33<>0,INTRO!$E$33, \" \")","v":"Ghana"},"Ashanti","Adansi North",135660,{"$f":"IF(INTRO!$E$48=\"\",\"\",ROUND($D9*INTRO!$E$48,0))","v":14651},{"$f":"IF(INTRO!$E$49=\"\",\"\",ROUND($D9*INTRO!$E$49,0))","v":33237},{"$f":"IF(INTRO!$E$50=\"\",\"\",ROUND($D9*INTRO!$E$50,0))","v":83702},0,1,2,2,{"$f":"IF(INTRO!$E$37=\"Endemic\",IF($H9>0,IF($H9=4,\"Unknown\",IF($H9=99,\"Stopped\",$D9)),0),\"Not required\")","v":0},106901,{"$f":"IF(INTRO!$E$41=\"Endemic\", IF(AND($J9>1,$J9<5), IF($J9=4, \"Unknown\", E9+F9), 0),\"Not required\")","v":47888},{"$f":"IF(INTRO!$E$43=\"Endemic\", IF(AND($K9>0,$K9<5), IF($K9=4,\"Unknown\", IF($K9=1, $F9*0.33, IF($K9=2, $F9*0.5+$G9*0.2, SUM(F9:G9)))), 0),\"Not required\")","v":33358.9},0,2,1,1,null,null,null,null,21379,"Adansi North"]
[{"$f":"IF(INTRO!$E$33<>0,INTRO!$E$33, \" \")","v":"Ghana"},"Ashanti","Adansi South",146158,{"$f":"IF(INTRO!$E$48=\"\",\"\",ROUND($D10*INTRO!$E$48,0))","v":15785},{"$f":"IF(INTRO!$E$49=\"\",\"\",ROUND($D10*INTRO!$E$49,0))","v":35809},{"$f":"IF(INTRO!$E$50=\"\",\"\",ROUND($D10*INTRO!$E$50,0))","v":90179},0,1,2,2,{"$f":"IF(INTRO!$E$37=\"Endemic\",IF($H10>0,IF($H10=4,\"Unknown\",IF($H10=99,\"Stopped\",$D10)),0),\"Not required\")","v":0},146158,{"$f":"IF(INTRO!$E$41=\"Endemic\", IF(AND($J10>1,$J10<5), IF($J10=4, \"Unknown\", E10+F10), 0),\"Not required\")","v":51594},{"$f":"IF(INTRO!$E$43=\"Endemic\", IF(AND($K10>0,$K10<5), IF($K10=4,\"Unknown\", IF($K10=1, $F10*0.33, IF($K10=2, $F10*0.5+$G10*0.2, SUM(F10:G10)))), 0),\"Not required\")","v":35940.300000000003},0,2,1,1,null,null,null,null,21380,"Adansi South"]
[{"$f":"IF(INTRO!$E$33<>0,INTRO!$E$33, \" \")","v":"Ghana"},"Ashanti","Afigya-Kwabre",172458,{"$f":"IF(INTRO!$E$48=\"\",\"\",ROUND($D11*INTRO!$E$48,0))","v":18625},{"$f":"IF(INTRO!$E$49=\"\",\"\",ROUND($D11*INTRO!$E$49,0))","v":42252},{"$f":"IF(INTRO!$E$50=\"\",\"\",ROUND($D11*INTRO!$E$50,0))","v":106407},0,1,2,2,{"$f":"IF(INTRO!$E$37=\"Endemic\",IF($H11>0,IF($H11=4,\"Unknown\",IF($H11=99,\"Stopped\",$D11)),0),\"Not required\")","v":0},114512,{"$f":"IF(INTRO!$E$41=\"Endemic\", IF(AND($J11>1,$J11<5), IF($J11=4, \"Unknown\", E11+F11), 0),\"Not required\")","v":60877},{"$f":"IF(INTRO!$E$43=\"Endemic\", IF(AND($K11>0,$K11<5), IF($K11=4,\"Unknown\", IF($K11=1, $F11*0.33, IF($K11=2, $F11*0.5+$G11*0.2, SUM(F11:G11)))), 0),\"Not required\")","v":42407.4},0,1,1,1,null,null,null,null,21381,"Afigya-Kwabre"]
[{"$f":"IF(INTRO!$E$33<>0,INTRO!$E$33, \" \")","v":"Ghana"},"Ashanti","Ahafo-Ano North",119438,{"$f":"IF(INTRO!$E$48=\"\",\"\",ROUND($D12*INTRO!$E$48,0))","v":12899},{"$f":"IF(INTRO!$E$49=\"\",\"\",ROUND($D12*INTRO!$E$49,0))","v":29262},{"$f":"IF(INTRO!$E$50=\"\",\"\",ROUND($D12*INTRO!$E$50,0))","v":73693},0,1,2,2,{"$f":"IF(INTRO!$E$37=\"Endemic\",IF($H12>0,IF($H12=4,\"Unknown\",IF($H12=99,\"Stopped\",$D12)),0),\"Not required\")","v":0},39432,{"$f":"IF(INTRO!$E$41=\"Endemic\", IF(AND($J12>1,$J12<5), IF($J12=4, \"Unknown\", E12+F12), 0),\"Not required\")","v":42161},{"$f":"IF(INTRO!$E$43=\"Endemic\", IF(AND($K12>0,$K12<5), IF($K12=4,\"Unknown\", IF($K12=1, $F12*0.33, IF($K12=2, $F12*0.5+$G12*0.2, SUM(F12:G12)))), 0),\"Not required\")","v":29369.599999999999},0,1,1,1,null,null,null,null,21382,"Ahafo-Ano North"]
[{"$f":"IF(INTRO!$E$33<>0,INTRO!$E$33, \" \")","v":"Ghana"},"Ashanti","Ahafo-Ano South",154114,{"$f":"IF(INTRO!$E$48=\"\",\"\",ROUND($D13*INTRO!$E$48,0))","v":16644},{"$f":"IF(INTRO!$E$49=\"\",\"\",ROUND($D13*INTRO!$E$49,0))","v":37758},{"$f":"IF(INTRO!$E$50=\"\",\"\",ROUND($D13*INTRO!$E$50,0))","v":95088},0,1,2,3,{"$f":"IF(INTRO!$E$37=\"Endemic\",IF($H13>0,IF($H13=4,\"Unknown\",IF($H13=99,\"Stopped\",$D13)),0),\"Not required\")","v":0},82143,{"$f":"IF(INTRO!$E$41=\"Endemic\", IF(AND($J13>1,$J13<5), IF($J13=4, \"Unknown\", E13+F13), 0),\"Not required\")","v":54402},{"$f":"IF(INTRO!$E$43=\"Endemic\", IF(AND($K13>0,$K13<5), IF($K13=4,\"Unknown\", IF($K13=1, $F13*0.33, IF($K13=2, $F13*0.5+$G13*0.2, SUM(F13:G13)))), 0),\"Not required\")","v":132846},0,1,1,1,null,null,null,null,21383,"Ahafo-Ano South"]
[{"$f":"IF(INTRO!$E$33<>0,INTRO!$E$33, \" \")","v":"Ghana"},"Ashanti","Amansie Central",114948,{"$f":"IF(INTRO!$E$48=\"\",\"\",ROUND($D14*INTRO!$E$48,0))","v":12414},{"$f":"IF(INTRO!$E$49=\"\",\"\",ROUND($D14*INTRO!$E$49,0))","v":28162},{"$f":"IF(INTRO!$E$50=\"\",\"\",ROUND($D14*INTRO!$E$50,0))","v":70923},0,1,2,3,{"$f":"IF(INTRO!$E$37=\"Endemic\",IF($H14>0,IF($H14=4,\"Unknown\",IF($H14=99,\"Stopped\",$D14)),0),\"Not required\")","v":0},56567,{"$f":"IF(INTRO!$E$41=\"Endemic\", IF(AND($J14>1,$J14<5), IF($J14=4, \"Unknown\", E14+F14), 0),\"Not required\")","v":40576},{"$f":"IF(INTRO!$E$43=\"Endemic\", IF(AND($K14>0,$K14<5), IF($K14=4,\"Unknown\", IF($K14=1, $F14*0.33, IF($K14=2, $F14*0.5+$G14*0.2, SUM(F14:G14)))), 0),\"Not required\")","v":99085},0,2,1,1,null,null,null,null,21384,"Amansie Central"]
[{"$f":"IF(INTRO!$E$33<>0,INTRO!$E$33, \" \")","v":"Ghana"},"Ashanti","Mampong Muncipal",111541,{"$f":"IF(INTRO!$E$48=\"\",\"\",ROUND($D15*INTRO!$E$48,0))","v":12046},{"$f":"IF(INTRO!$E$49=\"\",\"\",ROUND($D15*INTRO!$E$49,0))","v":27328},{"$f":"IF(INTRO!$E$50=\"\",\"\",ROUND($D15*INTRO!$E$50,0))","v":68821},0,1,2,2,{"$f":"IF(INTRO!$E$37=\"Endemic\",IF($H15>0,IF($H15=4,\"Unknown\",IF($H15=99,\"Stopped\",$D15)),0),\"Not required\")","v":0},46847,{"$f":"IF(INTRO!$E$41=\"Endemic\", IF(AND($J15>1,$J15<5), IF($J15=4, \"Unknown\", E15+F15), 0),\"Not required\")","v":39374},{"$f":"IF(INTRO!$E$43=\"Endemic\", IF(AND($K15>0,$K15<5), IF($K15=4,\"Unknown\", IF($K15=1, $F15*0.33, IF($K15=2, $F15*0.5+$G15*0.2, SUM(F15:G15)))), 0),\"Not required\")","v":27428.2},0,1,1,1,null,null,null,null,21378,"Mampong Muncipal"]
[{"$f":"IF(INTRO!$E$33<>0,INTRO!$E$33, \" \")","v":"Ghana"},"Ashanti","Amansie West",170167,{"$f":"IF(INTRO!$E$48=\"\",\"\",ROUND($D16*INTRO!$E$48,0))","v":18378},{"$f":"IF(INTRO!$E$49=\"\",\"\",ROUND($D16*INTRO!$E$49,0))","v":41691},{"$f":"IF(INTRO!$E$50=\"\",\"\",ROUND($D16*INTRO!$E$50,0))","v":104993},0,1,2,3,{"$f":"IF(INTRO!$E$37=\"Endemic\",IF($H16>0,IF($H16=4,\"Unknown\",IF($H16=99,\"Stopped\",$D16)),0),\"Not required\")","v":0},20925,{"$f":"IF(INTRO!$E$41=\"Endemic\", IF(AND($J16>1,$J16<5), IF($J16=4, \"Unknown\", E16+F16), 0),\"Not required\")","v":60069},{"$f":"IF(INTRO!$E$43=\"Endemic\", IF(AND($K16>0,$K16<5), IF($K16=4,\"Unknown\", IF($K16=1, $F16*0.33, IF($K16=2, $F16*0.5+$G16*0.2, SUM(F16:G16)))), 0),\"Not required\")","v":146684},0,1,1,1,null,null,null,null,21385,"Amansie West"]
[{"$f":"IF(INTRO!$E$33<>0,INTRO!$E$33, \" \")","v":"Ghana"},"Ashanti","Asante-Akim Central",90584,{"$f":"IF(INTRO!$E$48=\"\",\"\",ROUND($D17*INTRO!$E$48,0))","v":9783},{"$f":"IF(INTRO!$E$49=\"\",\"\",ROUND($D17*INTRO!$E$49,0))","v":22193},{"$f":"IF(INTRO!$E$50=\"\",\"\",ROUND($D17*INTRO!$E$50,0))","v":55890},0,0,2,2,{"$f":"IF(INTRO!$E$37=\"Endemic\",IF($H17>0,IF($H17=4,\"Unknown\",IF($H17=99,\"Stopped\",$D17)),0),\"Not required\")","v":0},0,{"$f":"IF(INTRO!$E$41=\"Endemic\", IF(AND($J17>1,$J17<5), IF($J17=4, \"Unknown\", E17+F17), 0),\"Not required\")","v":31976},{"$f":"IF(INTRO!$E$43=\"Endemic\", IF(AND($K17>0,$K17<5), IF($K17=4,\"Unknown\", IF($K17=1, $F17*0.33, IF($K17=2, $F17*0.5+$G17*0.2, SUM(F17:G17)))), 0),\"Not required\")","v":22274.5},0,0,1,1,null,null,null,null,21388,"Asante-Akim Central"]
[{"$f":"IF(INTRO!$E$33<>0,INTRO!$E$33, \" \")","v":"Ghana"},"Ashanti","Asante-Akim North",87643,{"$f":"IF(INTRO!$E$48=\"\",\"\",ROUND($D18*INTRO!$E$48,0))","v":9465},{"$f":"IF(INTRO!$E$49=\"\",\"\",ROUND($D18*INTRO!$E$49,0))","v":21473},{"$f":"IF(INTRO!$E$50=\"\",\"\",ROUND($D18*INTRO!$E$50,0))","v":54076},0,0,2,2,{"$f":"IF(INTRO!$E$37=\"Endemic\",IF($H18>0,IF($H18=4,\"Unknown\",IF($H18=99,\"Stopped\",$D18)),0),\"Not required\")","v":0},0,{"$f":"IF(INTRO!$E$41=\"Endemic\", IF(AND($J18>1,$J18<5), IF($J18=4, \"Unknown\", E18+F18), 0),\"Not required\")","v":30938},{"$f":"IF(INTRO!$E$43=\"Endemic\", IF(AND($K18>0,$K18<5), IF($K18=4,\"Unknown\", IF($K18=1, $F18*0.33, IF($K18=2, $F18*0.5+$G18*0.2, SUM(F18:G18)))), 0),\"Not required\")","v":21551.7},0,0,1,1,null,null,null,null,21386,"Asante-Akim North"]
[{"$f":"IF(INTRO!$E$33<>0,INTRO!$E$33, \" \")","v":"Ghana"},"Ashanti","Asante-Akim South",148523,{"$f":"IF(INTRO!$E$48=\"\",\"\",ROUND($D19*INTRO!$E$48,0))","v":16040},{"$f":"IF(INTRO!$E$49=\"\",\"\",ROUND($D19*INTRO!$E$49,0))","v":36388},{"$f":"IF(INTRO!$E$50=\"\",\"\",ROUND($D19*INTRO!$E$50,0))","v":91639},0,1,2,2,{"$f":"IF(INTRO!$E$37=\"Endemic\",IF($H19>0,IF($H19=4,\"Unknown\",IF($H19=99,\"Stopped\",$D19)),0),\"Not required\")","v":0},148523,{"$f":"IF(INTRO!$E$41=\"Endemic\", IF(AND($J19>1,$J19<5), IF($J19=4, \"Unknown\", E19+F19), 0),\"Not required\")","v":52428},{"$f":"IF(INTRO!$E$43=\"Endemic\", IF(AND($K19>0,$K19<5), IF($K19=4,\"Unknown\", IF($K19=1, $F19*0.33, IF($K19=2, $F19*0.5+$G19*0.2, SUM(F19:G19)))), 0),\"Not required\")","v":36521.800000000003},0,2,1,1,null,null,null,null,21387,"Asante-Akim South"]
[{"$f":"IF(INTRO!$E$33<>0,INTRO!$E$33, \" \")","v":"Ghana"},"Ashanti","Atwima-Kwanwoma",114812,{"$f":"IF(INTRO!$E$48=\"\",\"\",ROUND($D20*INTRO!$E$48,0))","v":12400},{"$f":"IF(INTRO!$E$49=\"\",\"\",ROUND($D20*INTRO!$E$49,0))","v":28129},{"$f":"IF(INTRO!$E$50=\"\",\"\",ROUND($D20*INTRO!$E$50,0))","v":70839},0,0,2,2,{"$f":"IF(INTRO!$E$37=\"Endemic\",IF($H20>0,IF($H20=4,\"Unknown\",IF($H20=99,\"Stopped\",$D20)),0),\"Not required\")","v":0},0,{"$f":"IF(INTRO!$E$41=\"Endemic\", IF(AND($J20>1,$J20<5), IF($J20=4, \"Unknown\", E20+F20), 0),\"Not required\")","v":40529},{"$f":"IF(INTRO!$E$43=\"Endemic\", IF(AND($K20>0,$K20<5), IF($K20=4,\"Unknown\", IF($K20=1, $F20*0.33, IF($K20=2, $F20*0.5+$G20*0.2, SUM(F20:G20)))), 0),\"Not required\")","v":28232.300000000003},0,0,1,1,null,null,null,null,21390,"Atwima-Kwanwoma"]
[{"$f":"IF(INTRO!$E$33<>0,INTRO!$E$33, \" \")","v":"Ghana"},"Ashanti","Atwima-Mponua",150974,{"$f":"IF(INTRO!$E$48=\"\",\"\",ROUND($D21*INTRO!$E$48,0))","v":16305},{"$f":"IF(INTRO!$E$49=\"\",\"\",ROUND($D21*INTRO!$E$49,0))","v":36989},{"$f":"IF(INTRO!$E$50=\"\",\"\",ROUND($D21*INTRO!$E$50,0))","v":93151},0,1,2,3,{"$f":"IF(INTRO!$E$37=\"Endemic\",IF($H21>0,IF($H21=4,\"Unknown\",IF($H21=99,\"Stopped\",$D21)),0),\"Not required\")","v":0},120779,{"$f":"IF(INTRO!$E$41=\"Endemic\", IF(AND($J21>1,$J21<5), IF($J21=4, \"Unknown\", E21+F21), 0),\"Not required\")","v":53294},{"$f":"IF(INTRO!$E$43=\"Endemic\", IF(AND($K21>0,$K21<5), IF($K21=4,\"Unknown\", IF($K21=1, $F21*0.33, IF($K21=2, $F21*0.5+$G21*0.2, SUM(F21:G21)))), 0),\"Not required\")","v":130140},0,1,1,1,null,null,null,null,21391,"Atwima-Mponua"]
[{"$f":"IF(INTRO!$E$33<>0,INTRO!$E$33, \" \")","v":"Ghana"},"Ashanti","Atwima-Nwabiagya",188780,{"$f":"IF(INTRO!$E$48=\"\",\"\",ROUND($D22*INTRO!$E$48,0))","v":20388},{"$f":"IF(INTRO!$E$49=\"\",\"\",ROUND($D22*INTRO!$E$49,0))","v":46251},{"$f":"IF(INTRO!$E$50=\"\",\"\",ROUND($D22*INTRO!$E$50,0))","v":116477},0,1,2,2,{"$f":"IF(INTRO!$E$37=\"Endemic\",IF($H22>0,IF($H22=4,\"Unknown\",IF($H22=99,\"Stopped\",$D22)),0),\"Not required\")","v":0},69283,{"$f":"IF(INTRO!$E$41=\"Endemic\", IF(AND($J22>1,$J22<5), IF($J22=4, \"Unknown\", E22+F22), 0),\"Not required\")","v":66639},{"$f":"IF(INTRO!$E$43=\"Endemic\", IF(AND($K22>0,$K22<5), IF($K22=4,\"Unknown\", IF($K22=1, $F22*0.33, IF($K22=2, $F22*0.5+$G22*0.2, SUM(F22:G22)))), 0),\"Not required\")","v":46420.9},0,1,1,1,null,null,null,null,21392,"Atwima-Nwabiagya"]
[{"$f":"IF(INTRO!$E$33<>0,INTRO!$E$33, \" \")","v":"Ghana"},"Ashanti","Bosomtwe",118962,{"$f":"IF(INTRO!$E$48=\"\",\"\",ROUND($D23*INTRO!$E$48,0))","v":12848},{"$f":"IF(INTRO!$E$49=\"\",\"\",ROUND($D23*INTRO!$E$49,0))","v":29146},{"$f":"IF(INTRO!$E$50=\"\",\"\",ROUND($D23*INTRO!$E$50,0))","v":73400},0,1,2,2,{"$f":"IF(INTRO!$E$37=\"Endemic\",IF($H23>0,IF($H23=4,\"Unknown\",IF($H23=99,\"Stopped\",$D23)),0),\"Not required\")","v":0},118962,{"$f":"IF(INTRO!$E$41=\"Endemic\", IF(AND($J23>1,$J23<5), IF($J23=4, \"Unknown\", E23+F23), 0),\"Not required\")","v":41994},{"$f":"IF(INTRO!$E$43=\"Endemic\", IF(AND($K23>0,$K23<5), IF($K23=4,\"Unknown\", IF($K23=1, $F23*0.33, IF($K23=2, $F23*0.5+$G23*0.2, SUM(F23:G23)))), 0),\"Not required\")","v":29253},0,1,1,1,null,null,null,null,21395,"Bosomtwe"]
[{"$f":"IF(INTRO!$E$33<>0,INTRO!$E$33, \" \")","v":"Ghana"},"Ashanti","Bosome-Freho",76509,{"$f":"IF(INTRO!$E$48=\"\",\"\",ROUND($D24*INTRO!$E$48,0))","v":8263},{"$f":"IF(INTRO!$E$49=\"\",\"\",ROUND($D24*INTRO!$E$49,0))","v":18745},{"$f":"IF(INTRO!$E$50=\"\",\"\",ROUND($D24*INTRO!$E$50,0))","v":47206},0,1,2,3,{"$f":"IF(INTRO!$E$37=\"Endemic\",IF($H24>0,IF($H24=4,\"Unknown\",IF($H24=99,\"Stopped\",$D24)),0),\"Not required\")","v":0},61292,{"$f":"IF(INTRO!$E$41=\"Endemic\", IF(AND($J24>1,$J24<5), IF($J24=4, \"Unknown\", E24+F24), 0),\"Not required\")","v":27008},{"$f":"IF(INTRO!$E$43=\"Endemic\", IF(AND($K24>0,$K24<5), IF($K24=4,\"Unknown\", IF($K24=1, $F24*0.33, IF($K24=2, $F24*0.5+$G24*0.2, SUM(F24:G24)))), 0),\"Not required\")","v":65951},0,2,1,1,null,null,null,null,21394,"Bosome-Freho"]
[{"$f":"IF(INTRO!$E$33<>0,INTRO!$E$33, \" \")","v":"Ghana"},"Ashanti","Ejisu-Juaben",182114,{"$f":"IF(INTRO!$E$48=\"\",\"\",ROUND($D25*INTRO!$E$48,0))","v":19668},{"$f":"IF(INTRO!$E$49=\"\",\"\",ROUND($D25*INTRO!$E$49,0))","v":44618},{"$f":"IF(INTRO!$E$50=\"\",\"\",ROUND($D25*INTRO!$E$50,0))","v":112364},0,1,2,2,{"$f":"IF(INTRO!$E$37=\"Endemic\",IF($H25>0,IF($H25=4,\"Unknown\",IF($H25=99,\"Stopped\",$D25)),0),\"Not required\")","v":0},106537,{"$f":"IF(INTRO!$E$41=\"Endemic\", IF(AND($J25>1,$J25<5), IF($J25=4, \"Unknown\", E25+F25), 0),\"Not required\")","v":64286},{"$f":"IF(INTRO!$E$43=\"Endemic\", IF(AND($K25>0,$K25<5), IF($K25=4,\"Unknown\", IF($K25=1, $F25*0.33, IF($K25=2, $F25*0.5+$G25*0.2, SUM(F25:G25)))), 0),\"Not required\")","v":44781.8},0,1,1,1,null,null,null,null,21396,"Ejisu-Juaben"]
[{"$f":"IF(INTRO!$E$33<>0,INTRO!$E$33, \" \")","v":"Ghana"},"Ashanti","Ejura-Sekyedomasi",108241,{"$f":"IF(INTRO!$E$48=\"\",\"\",ROUND($D26*INTRO!$E$48,0))","v":11690},{"$f":"IF(INTRO!$E$49=\"\",\"\",ROUND($D26*INTRO!$E$49,0))","v":26519},{"$f":"IF(INTRO!$E$50=\"\",\"\",ROUND($D26*INTRO!$E$50,0))","v":66785},0,1,2,3,{"$f":"IF(INTRO!$E$37=\"Endemic\",IF($H26>0,IF($H26=4,\"Unknown\",IF($H26=99,\"Stopped\",$D26)),0),\"Not required\")","v":0},37884,{"$f":"IF(INTRO!$E$41=\"Endemic\", IF(AND($J26>1,$J26<5), IF($J26=4, \"Unknown\", E26+F26), 0),\"Not required\")","v":38209},{"$f":"IF(INTRO!$E$43=\"Endemic\", IF(AND($K26>0,$K26<5), IF($K26=4,\"Unknown\", IF($K26=1, $F26*0.33, IF($K26=2, $F26*0.5+$G26*0.2, SUM(F26:G26)))), 0),\"Not required\")","v":93304},0,1,1,1,null,null,null,null,21397,"Ejura-Sekyedomasi"]
[{"$f":"IF(INTRO!$E$33<>0,INTRO!$E$33, \" \")","v":"Ghana"},"Ashanti","Kumasi Metropolis",2191829,{"$f":"IF(INTRO!$E$48=\"\",\"\",ROUND($D27*INTRO!$E$48,0))","v":236718},{"$f":"IF(INTRO!$E$49=\"\",\"\",ROUND($D27*INTRO!$E$49,0))","v":536998},{"$f":"IF(INTRO!$E$50=\"\",\"\",ROUND($D27*INTRO!$E$50,0))","v":1352358},0,0,2,2,{"$f":"IF(INTRO!$E$37=\"Endemic\",IF($H27>0,IF($H27=4,\"Unknown\",IF($H27=99,\"Stopped\",$D27)),0),\"Not required\")","v":0},0,{"$f":"IF(INTRO!$E$41=\"Endemic\", IF(AND($J27>1,$J27<5), IF($J27=4, \"Unknown\", E27+F27), 0),\"Not required\")","v":773716},{"$f":"IF(INTRO!$E$43=\"Endemic\", IF(AND($K27>0,$K27<5), IF($K27=4,\"Unknown\", IF($K27=1, $F27*0.33, IF($K27=2, $F27*0.5+$G27*0.2, SUM(F27:G27)))), 0),\"Not required\")","v":538970.60000000009},0,0,1,0,null,null,null,null,21398,"Kumasi Metropolis"]
[{"$f":"IF(INTRO!$E$33<>0,INTRO!$E$33, \" \")","v":"Ghana"},"Ashanti","Kwabre",146383,{"$f":"IF(INTRO!$E$48=\"\",\"\",ROUND($D28*INTRO!$E$48,0))","v":15809},{"$f":"IF(INTRO!$E$49=\"\",\"\",ROUND($D28*INTRO!$E$49,0))","v":35864},{"$f":"IF(INTRO!$E$50=\"\",\"\",ROUND($D28*INTRO!$E$50,0))","v":90318},0,0,2,2,{"$f":"IF(INTRO!$E$37=\"Endemic\",IF($H28>0,IF($H28=4,\"Unknown\",IF($H28=99,\"Stopped\",$D28)),0),\"Not required\")","v":0},0,{"$f":"IF(INTRO!$E$41=\"Endemic\", IF(AND($J28>1,$J28<5), IF($J28=4, \"Unknown\", E28+F28), 0),\"Not required\")","v":51673},{"$f":"IF(INTRO!$E$43=\"Endemic\", IF(AND($K28>0,$K28<5), IF($K28=4,\"Unknown\", IF($K28=1, $F28*0.33, IF($K28=2, $F28*0.5+$G28*0.2, SUM(F28:G28)))), 0),\"Not required\")","v":35995.600000000006},0,0,1,1,null,null,null,null,21400,"Kwabre"]
[{"$f":"IF(INTRO!$E$33<>0,INTRO!$E$33, \" \")","v":"Ghana"},"Ashanti","Bekwai Municipal",149509,{"$f":"IF(INTRO!$E$48=\"\",\"\",ROUND($D29*INTRO!$E$48,0))","v":16147},{"$f":"IF(INTRO!$E$49=\"\",\"\",ROUND($D29*INTRO!$E$49,0))","v":36630},{"$f":"IF(INTRO!$E$50=\"\",\"\",ROUND($D29*INTRO!$E$50,0))","v":92247},0,0,2,2,{"$f":"IF(INTRO!$E$37=\"Endemic\",IF($H29>0,IF($H29=4,\"Unknown\",IF($H29=99,\"Stopped\",$D29)),0),\"Not required\")","v":0},0,{"$f":"IF(INTRO!$E$41=\"Endemic\", IF(AND($J29>1,$J29<5), IF($J29=4, \"Unknown\", E29+F29), 0),\"Not required\")","v":52777},{"$f":"IF(INTRO!$E$43=\"Endemic\", IF(AND($K29>0,$K29<5), IF($K29=4,\"Unknown\", IF($K29=1, $F29*0.33, IF($K29=2, $F29*0.5+$G29*0.2, SUM(F29:G29)))), 0),\"Not required\")","v":36764.400000000001},0,0,1,1,null,null,null,null,21393,"Bekwai Municipal"]
[{"$f":"IF(INTRO!$E$33<>0,INTRO!$E$33, \" \")","v":"Ghana"},"Ashanti","Asokore-Mampong",386130,{"$f":"IF(INTRO!$E$48=\"\",\"\",ROUND($D30*INTRO!$E$48,0))","v":41702},{"$f":"IF(INTRO!$E$49=\"\",\"\",ROUND($D30*INTRO!$E$49,0))","v":94602},{"$f":"IF(INTRO!$E$50=\"\",\"\",ROUND($D30*INTRO!$E$50,0))","v":238242},0,0,2,2,{"$f":"IF(INTRO!$E$37=\"Endemic\",IF($H30>0,IF($H30=4,\"Unknown\",IF($H30=99,\"Stopped\",$D30)),0),\"Not required\")","v":0},0,{"$f":"IF(INTRO!$E$41=\"Endemic\", IF(AND($J30>1,$J30<5), IF($J30=4, \"Unknown\", E30+F30), 0),\"Not required\")","v":136304},{"$f":"IF(INTRO!$E$43=\"Endemic\", IF(AND($K30>0,$K30<5), IF($K30=4,\"Unknown\", IF($K30=1, $F30*0.33, IF($K30=2, $F30*0.5+$G30*0.2, SUM(F30:G30)))), 0),\"Not required\")","v":94949.4},0,0,1,1,null,null,null,null,21389,"Asokore-Mampong"]
[{"$f":"IF(INTRO!$E$33<>0,INTRO!$E$33, \" \")","v":"Ghana"},"Ashanti","Obuasi Municipal",213629,{"$f":"IF(INTRO!$E$48=\"\",\"\",ROUND($D31*INTRO!$E$48,0))","v":23072},{"$f":"IF(INTRO!$E$49=\"\",\"\",ROUND($D31*INTRO!$E$49,0))","v":52339},{"$f":"IF(INTRO!$E$50=\"\",\"\",ROUND($D31*INTRO!$E$50,0))","v":131809},0,1,2,2,{"$f":"IF(INTRO!$E$37=\"Endemic\",IF($H31>0,IF($H31=4,\"Unknown\",IF($H31=99,\"Stopped\",$D31)),0),\"Not required\")","v":0},151464,{"$f":"IF(INTRO!$E$41=\"Endemic\", IF(AND($J31>1,$J31<5), IF($J31=4, \"Unknown\", E31+F31), 0),\"Not required\")","v":75411},{"$f":"IF(INTRO!$E$43=\"Endemic\", IF(AND($K31>0,$K31<5), IF($K31=4,\"Unknown\", IF($K31=1, $F31*0.33, IF($K31=2, $F31*0.5+$G31*0.2, SUM(F31:G31)))), 0),\"Not required\")","v":52531.3},0,1,1,1,null,null,null,null,21401,"Obuasi Municipal"]
[{"$f":"IF(INTRO!$E$33<>0,INTRO!$E$33, \" \")","v":"Ghana"},"Ashanti","Offiinso Municipal",97408,{"$f":"IF(INTRO!$E$48=\"\",\"\",ROUND($D32*INTRO!$E$48,0))","v":10520},{"$f":"IF(INTRO!$E$49=\"\",\"\",ROUND($D32*INTRO!$E$49,0))","v":23865},{"$f":"IF(INTRO!$E$50=\"\",\"\",ROUND($D32*INTRO!$E$50,0))","v":60101},0,1,2,2,{"$f":"IF(INTRO!$E$37=\"Endemic\",IF($H32>0,IF($H32=4,\"Unknown\",IF($H32=99,\"Stopped\",$D32)),0),\"Not required\")","v":0},77401,{"$f":"IF(INTRO!$E$41=\"Endemic\", IF(AND($J32>1,$J32<5), IF($J32=4, \"Unknown\", E32+F32), 0),\"Not required\")","v":34385},{"$f":"IF(INTRO!$E$43=\"Endemic\", IF(AND($K32>0,$K32<5), IF($K32=4,\"Unknown\", IF($K32=1, $F32*0.33, IF($K32=2, $F32*0.5+$G32*0.2, SUM(F32:G32)))), 0),\"Not required\")","v":23952.7},0,2,1,1,null,null,null,null,21402,"Offiinso Municipal"]
[{"$f":"IF(INTRO!$E$33<>0,INTRO!$E$33, \" \")","v":"Ghana"},"Ashanti","Offinso North",72055,{"$f":"IF(INTRO!$E$48=\"\",\"\",ROUND($D33*INTRO!$E$48,0))","v":7782},{"$f":"IF(INTRO!$E$49=\"\",\"\",ROUND($D33*INTRO!$E$49,0))","v":17653},{"$f":"IF(INTRO!$E$50=\"\",\"\",ROUND($D33*INTRO!$E$50,0))","v":44458},0,1,2,2,{"$f":"IF(INTRO!$E$37=\"Endemic\",IF($H33>0,IF($H33=4,\"Unknown\",IF($H33=99,\"Stopped\",$D33)),0),\"Not required\")","v":0},72055,{"$f":"IF(INTRO!$E$41=\"Endemic\", IF(AND($J33>1,$J33<5), IF($J33=4, \"Unknown\", E33+F33), 0),\"Not required\")","v":25435},{"$f":"IF(INTRO!$E$43=\"Endemic\", IF(AND($K33>0,$K33<5), IF($K33=4,\"Unknown\", IF($K33=1, $F33*0.33, IF($K33=2, $F33*0.5+$G33*0.2, SUM(F33:G33)))), 0),\"Not required\")","v":17718.099999999999},0,2,1,1,null,null,null,null,21403,"Offinso North"]
[{"$f":"IF(INTRO!$E$33<>0,INTRO!$E$33, \" \")","v":"Ghana"},"Ashanti","Sekyere-Afram Plains",36147,{"$f":"IF(INTRO!$E$48=\"\",\"\",ROUND($D34*INTRO!$E$48,0))","v":3904},{"$f":"IF(INTRO!$E$49=\"\",\"\",ROUND($D34*INTRO!$E$49,0))","v":8856},{"$f":"IF(INTRO!$E$50=\"\",\"\",ROUND($D34*INTRO!$E$50,0))","v":22303},0,1,2,3,{"$f":"IF(INTRO!$E$37=\"Endemic\",IF($H34>0,IF($H34=4,\"Unknown\",IF($H34=99,\"Stopped\",$D34)),0),\"Not required\")","v":0},36147,{"$f":"IF(INTRO!$E$41=\"Endemic\", IF(AND($J34>1,$J34<5), IF($J34=4, \"Unknown\", E34+F34), 0),\"Not required\")","v":12760},{"$f":"IF(INTRO!$E$43=\"Endemic\", IF(AND($K34>0,$K34<5), IF($K34=4,\"Unknown\", IF($K34=1, $F34*0.33, IF($K34=2, $F34*0.5+$G34*0.2, SUM(F34:G34)))), 0),\"Not required\")","v":31159},0,1,1,1,null,null,null,null,21407,"Sekyere-Afram Plains"]
[{"$f":"IF(INTRO!$E$33<>0,INTRO!$E$33, \" \")","v":"Ghana"},"Ashanti","Kumawu",82850,{"$f":"IF(INTRO!$E$48=\"\",\"\",ROUND($D35*INTRO!$E$48,0))","v":8948},{"$f":"IF(INTRO!$E$49=\"\",\"\",ROUND($D35*INTRO!$E$49,0))","v":20298},{"$f":"IF(INTRO!$E$50=\"\",\"\",ROUND($D35*INTRO!$E$50,0))","v":51118},0,1,2,3,{"$f":"IF(INTRO!$E$37=\"Endemic\",IF($H35>0,IF($H35=4,\"Unknown\",IF($H35=99,\"Stopped\",$D35)),0),\"Not required\")","v":0},82850,{"$f":"IF(INTRO!$E$41=\"Endemic\", IF(AND($J35>1,$J35<5), IF($J35=4, \"Unknown\", E35+F35), 0),\"Not required\")","v":29246},{"$f":"IF(INTRO!$E$43=\"Endemic\", IF(AND($K35>0,$K35<5), IF($K35=4,\"Unknown\", IF($K35=1, $F35*0.33, IF($K35=2, $F35*0.5+$G35*0.2, SUM(F35:G35)))), 0),\"Not required\")","v":71416},0,1,1,1,null,null,null,null,21399,"Kumawu"]
[{"$f":"IF(INTRO!$E$33<>0,INTRO!$E$33, \" \")","v":"Ghana"},"Ashanti","Sekyere Central",90234,{"$f":"IF(INTRO!$E$48=\"\",\"\",ROUND($D36*INTRO!$E$48,0))","v":9745},{"$f":"IF(INTRO!$E$49=\"\",\"\",ROUND($D36*INTRO!$E$49,0))","v":22107},{"$f":"IF(INTRO!$E$50=\"\",\"\",ROUND($D36*INTRO!$E$50,0))","v":55674},0,1,2,2,{"$f":"IF(INTRO!$E$37=\"Endemic\",IF($H36>0,IF($H36=4,\"Unknown\",IF($H36=99,\"Stopped\",$D36)),0),\"Not required\")","v":0},90234,{"$f":"IF(INTRO!$E$41=\"Endemic\", IF(AND($J36>1,$J36<5), IF($J36=4, \"Unknown\", E36+F36), 0),\"Not required\")","v":31852},{"$f":"IF(INTRO!$E$43=\"Endemic\", IF(AND($K36>0,$K36<5), IF($K36=4,\"Unknown\", IF($K36=1, $F36*0.33, IF($K36=2, $F36*0.5+$G36*0.2, SUM(F36:G36)))), 0),\"Not required\")","v":22188.300000000003},0,1,1,1,null,null,null,null,21404,"Sekyere Central"]
[{"$f":"IF(INTRO!$E$33<>0,INTRO!$E$33, \" \")","v":"Ghana"},"Ashanti","Sekyere East",78757,{"$f":"IF(INTRO!$E$48=\"\",\"\",ROUND($D37*INTRO!$E$48,0))","v":8506},{"$f":"IF(INTRO!$E$49=\"\",\"\",ROUND($D37*INTRO!$E$49,0))","v":19295},{"$f":"IF(INTRO!$E$50=\"\",\"\",ROUND($D37*INTRO!$E$50,0))","v":48593},0,1,2,2,{"$f":"IF(INTRO!$E$37=\"Endemic\",IF($H37>0,IF($H37=4,\"Unknown\",IF($H37=99,\"Stopped\",$D37)),0),\"Not required\")","v":0},78757,{"$f":"IF(INTRO!$E$41=\"Endemic\", IF(AND($J37>1,$J37<5), IF($J37=4, \"Unknown\", E37+F37), 0),\"Not required\")","v":27801},{"$f":"IF(INTRO!$E$43=\"Endemic\", IF(AND($K37>0,$K37<5), IF($K37=4,\"Unknown\", IF($K37=1, $F37*0.33, IF($K37=2, $F37*0.5+$G37*0.2, SUM(F37:G37)))), 0),\"Not required\")","v":19366.099999999999},0,1,1,1,null,null,null,null,21405,"Sekyere East"]
[{"$f":"IF(INTRO!$E$33<>0,INTRO!$E$33, \" \")","v":"Ghana"},"Ashanti","Sekyere South",119088,{"$f":"IF(INTRO!$E$48=\"\",\"\",ROUND($D38*INTRO!$E$48,0))","v":12862},{"$f":"IF(INTRO!$E$49=\"\",\"\",ROUND($D38*INTRO!$E$49,0))","v":29177},{"$f":"IF(INTRO!$E$50=\"\",\"\",ROUND($D38*INTRO!$E$50,0))","v":73477},0,1,2,2,{"$f":"IF(INTRO!$E$37=\"Endemic\",IF($H38>0,IF($H38=4,\"Unknown\",IF($H38=99,\"Stopped\",$D38)),0),\"Not required\")","v":0},63117,{"$f":"IF(INTRO!$E$41=\"Endemic\", IF(AND($J38>1,$J38<5), IF($J38=4, \"Unknown\", E38+F38), 0),\"Not required\")","v":42039},{"$f":"IF(INTRO!$E$43=\"Endemic\", IF(AND($K38>0,$K38<5), IF($K38=4,\"Unknown\", IF($K38=1, $F38*0.33, IF($K38=2, $F38*0.5+$G38*0.2, SUM(F38:G38)))), 0),\"Not required\")","v":29283.9},0,1,1,1,null,null,null,null,21406,"Sekyere South"]
[{"$f":"IF(INTRO!$E$33<>0,INTRO!$E$33, \" \")","v":"Ghana"},"Brong-Ahafo","Asunafo North",153093,{"$f":"IF(INTRO!$E$48=\"\",\"\",ROUND($D39*INTRO!$E$48,0))","v":16534},{"$f":"IF(INTRO!$E$49=\"\",\"\",ROUND($D39*INTRO!$E$49,0))","v":37508},{"$f":"IF(INTRO!$E$50=\"\",\"\",ROUND($D39*INTRO!$E$50,0))","v":94458},0,1,2,2,{"$f":"IF(INTRO!$E$37=\"Endemic\",IF($H39>0,IF($H39=4,\"Unknown\",IF($H39=99,\"Stopped\",$D39)),0),\"Not required\")","v":0},153093,{"$f":"IF(INTRO!$E$41=\"Endemic\", IF(AND($J39>1,$J39<5), IF($J39=4, \"Unknown\", E39+F39), 0),\"Not required\")","v":54042},{"$f":"IF(INTRO!$E$43=\"Endemic\", IF(AND($K39>0,$K39<5), IF($K39=4,\"Unknown\", IF($K39=1, $F39*0.33, IF($K39=2, $F39*0.5+$G39*0.2, SUM(F39:G39)))), 0),\"Not required\")","v":37645.600000000006},0,2,1,1,null,null,null,null,21408,"Asunafo North"]
[{"$f":"IF(INTRO!$E$33<>0,INTRO!$E$33, \" \")","v":"Ghana"},"Brong-Ahafo","Asunafo South",117356,{"$f":"IF(INTRO!$E$48=\"\",\"\",ROUND($D40*INTRO!$E$48,0))","v":12674},{"$f":"IF(INTRO!$E$49=\"\",\"\",ROUND($D40*INTRO!$E$49,0))","v":28752},{"$f":"IF(INTRO!$E$50=\"\",\"\",ROUND($D40*INTRO!$E$50,0))","v":72409},0,1,2,2,{"$f":"IF(INTRO!$E$37=\"Endemic\",IF($H40>0,IF($H40=4,\"Unknown\",IF($H40=99,\"Stopped\",$D40)),0),\"Not required\")","v":0},117356,{"$f":"IF(INTRO!$E$41=\"Endemic\", IF(AND($J40>1,$J40<5), IF($J40=4, \"Unknown\", E40+F40), 0),\"Not required\")","v":41426},{"$f":"IF(INTRO!$E$43=\"Endemic\", IF(AND($K40>0,$K40<5), IF($K40=4,\"Unknown\", IF($K40=1, $F40*0.33, IF($K40=2, $F40*0.5+$G40*0.2, SUM(F40:G40)))), 0),\"Not required\")","v":28857.800000000003},0,2,1,1,null,null,null,null,21409,"Asunafo South"]
[{"$f":"IF(INTRO!$E$33<>0,INTRO!$E$33, \" \")","v":"Ghana"},"Brong-Ahafo","Asutifi North",65074,{"$f":"IF(INTRO!$E$48=\"\",\"\",ROUND($D41*INTRO!$E$48,0))","v":7028},{"$f":"IF(INTRO!$E$49=\"\",\"\",ROUND($D41*INTRO!$E$49,0))","v":15943},{"$f":"IF(INTRO!$E$50=\"\",\"\",ROUND($D41*INTRO!$E$50,0))","v":40151},0,1,2,2,{"$f":"IF(INTRO!$E$37=\"Endemic\",IF($H41>0,IF($H41=4,\"Unknown\",IF($H41=99,\"Stopped\",$D41)),0),\"Not required\")","v":0},13754,{"$f":"IF(INTRO!$E$41=\"Endemic\", IF(AND($J41>1,$J41<5), IF($J41=4, \"Unknown\", E41+F41), 0),\"Not required\")","v":22971},{"$f":"IF(INTRO!$E$43=\"Endemic\", IF(AND($K41>0,$K41<5), IF($K41=4,\"Unknown\", IF($K41=1, $F41*0.33, IF($K41=2, $F41*0.5+$G41*0.2, SUM(F41:G41)))), 0),\"Not required\")","v":16001.7},0,2,1,1,null,null,null,null,21411,"Asutifi North"]
[{"$f":"IF(INTRO!$E$33<>0,INTRO!$E$33, \" \")","v":"Ghana"},"Brong-Ahafo","Asutifi South",64884,{"$f":"IF(INTRO!$E$48=\"\",\"\",ROUND($D42*INTRO!$E$48,0))","v":7007},{"$f":"IF(INTRO!$E$49=\"\",\"\",ROUND($D42*INTRO!$E$49,0))","v":15897},{"$f":"IF(INTRO!$E$50=\"\",\"\",ROUND($D42*INTRO!$E$50,0))","v":40033},0,1,2,2,{"$f":"IF(INTRO!$E$37=\"Endemic\",IF($H42>0,IF($H42=4,\"Unknown\",IF($H42=99,\"Stopped\",$D42)),0),\"Not required\")","v":0},64884,{"$f":"IF(INTRO!$E$41=\"Endemic\", IF(AND($J42>1,$J42<5), IF($J42=4, \"Unknown\", E42+F42), 0),\"Not required\")","v":22904},{"$f":"IF(INTRO!$E$43=\"Endemic\", IF(AND($K42>0,$K42<5), IF($K42=4,\"Unknown\", IF($K42=1, $F42*0.33, IF($K42=2, $F42*0.5+$G42*0.2, SUM(F42:G42)))), 0),\"Not required\")","v":15955.1},0,1,1,1,null,null,null,null,21412,"Asutifi South"]
[{"$f":"IF(INTRO!$E$33<>0,INTRO!$E$33, \" \")","v":"Ghana"},"Brong-Ahafo","Atebubu-Amanteng",130075,{"$f":"IF(INTRO!$E$48=\"\",\"\",ROUND($D43*INTRO!$E$48,0))","v":14048},{"$f":"IF(INTRO!$E$49=\"\",\"\",ROUND($D43*INTRO!$E$49,0))","v":31868},{"$f":"IF(INTRO!$E$50=\"\",\"\",ROUND($D43*INTRO!$E$50,0))","v":80256},0,1,2,2,{"$f":"IF(INTRO!$E$37=\"Endemic\",IF($H43>0,IF($H43=4,\"Unknown\",IF($H43=99,\"Stopped\",$D43)),0),\"Not required\")","v":0},130075,{"$f":"IF(INTRO!$E$41=\"Endemic\", IF(AND($J43>1,$J43<5), IF($J43=4, \"Unknown\", E43+F43), 0),\"Not required\")","v":45916},{"$f":"IF(INTRO!$E$43=\"Endemic\", IF(AND($K43>0,$K43<5), IF($K43=4,\"Unknown\", IF($K43=1, $F43*0.33, IF($K43=2, $F43*0.5+$G43*0.2, SUM(F43:G43)))), 0),\"Not required\")","v":31985.200000000001},0,2,1,1,null,null,null,null,21413,"Atebubu-Amanteng"]
[{"$f":"IF(INTRO!$E$33<>0,INTRO!$E$33, \" \")","v":"Ghana"},"Brong-Ahafo","Berekum",159162,{"$f":"IF(INTRO!$E$48=\"\",\"\",ROUND($D44*INTRO!$E$48,0))","v":17189},{"$f":"IF(INTRO!$E$49=\"\",\"\",ROUND($D44*INTRO!$E$49,0))","v":38995},{"$f":"IF(INTRO!$E$50=\"\",\"\",ROUND($D44*INTRO!$E$50,0))","v":98203},0,0,2,1,{"$f":"IF(INTRO!$E$37=\"Endemic\",IF($H44>0,IF($H44=4,\"Unknown\",IF($H44=99,\"Stopped\",$D44)),0),\"Not required\")","v":0},0,{"$f":"IF(INTRO!$E$41=\"Endemic\", IF(AND($J44>1,$J44<5), IF($J44=4, \"Unknown\", E44+F44), 0),\"Not required\")","v":56184},{"$f":"IF(INTRO!$E$43=\"Endemic\", IF(AND($K44>0,$K44<5), IF($K44=4,\"Unknown\", IF($K44=1, $F44*0.33, IF($K44=2, $F44*0.5+$G44*0.2, SUM(F44:G44)))), 0),\"Not required\")","v":12868.35},0,0,1,1,null,null,null,null,21415,"Berekum"]
[{"$f":"IF(INTRO!$E$33<>0,INTRO!$E$33, \" \")","v":"Ghana"},"Brong-Ahafo","Dormaa Municipal",137654,{"$f":"IF(INTRO!$E$48=\"\",\"\",ROUND($D45*INTRO!$E$48,0))","v":14867},{"$f":"IF(INTRO!$E$49=\"\",\"\",ROUND($D45*INTRO!$E$49,0))","v":33725},{"$f":"IF(INTRO!$E$50=\"\",\"\",ROUND($D45*INTRO!$E$50,0))","v":84933},0,0,2,1,{"$f":"IF(INTRO!$E$37=\"Endemic\",IF($H45>0,IF($H45=4,\"Unknown\",IF($H45=99,\"Stopped\",$D45)),0),\"Not required\")","v":0},0,{"$f":"IF(INTRO!$E$41=\"Endemic\", IF(AND($J45>1,$J45<5), IF($J45=4, \"Unknown\", E45+F45), 0),\"Not required\")","v":48592},{"$f":"IF(INTRO!$E$43=\"Endemic\", IF(AND($K45>0,$K45<5), IF($K45=4,\"Unknown\", IF($K45=1, $F45*0.33, IF($K45=2, $F45*0.5+$G45*0.2, SUM(F45:G45)))), 0),\"Not required\")","v":11129.25},0,0,1,1,null,null,null,null,21417,"Dormaa Municipal"]
[{"$f":"IF(INTRO!$E$33<>0,INTRO!$E$33, \" \")","v":"Ghana"},"Brong-Ahafo","Dormaa West",58541,{"$f":"IF(INTRO!$E$48=\"\",\"\",ROUND($D46*INTRO!$E$48,0))","v":6322},{"$f":"IF(INTRO!$E$49=\"\",\"\",ROUND($D46*INTRO!$E$49,0))","v":14343},{"$f":"IF(INTRO!$E$50=\"\",\"\",ROUND($D46*INTRO!$E$50,0))","v":36120},0,0,2,1,{"$f":"IF(INTRO!$E$37=\"Endemic\",IF($H46>0,IF($H46=4,\"Unknown\",IF($H46=99,\"Stopped\",$D46)),0),\"Not required\")","v":0},0,{"$f":"IF(INTRO!$E$41=\"Endemic\", IF(AND($J46>1,$J46<5), IF($J46=4, \"Unknown\", E46+F46), 0),\"Not required\")","v":20665},{"$f":"IF(INTRO!$E$43=\"Endemic\", IF(AND($K46>0,$K46<5), IF($K46=4,\"Unknown\", IF($K46=1, $F46*0.33, IF($K46=2, $F46*0.5+$G46*0.2, SUM(F46:G46)))), 0),\"Not required\")","v":4733.1900000000005},0,0,1,1,null,null,null,null,21418,"Dormaa West"]
[{"$f":"IF(INTRO!$E$33<>0,INTRO!$E$33, \" \")","v":"Ghana"},"Brong-Ahafo","Dormaa East",62461,{"$f":"IF(INTRO!$E$48=\"\",\"\",ROUND($D47*INTRO!$E$48,0))","v":6746},{"$f":"IF(INTRO!$E$49=\"\",\"\",ROUND($D47*INTRO!$E$49,0))","v":15303},{"$f":"IF(INTRO!$E$50=\"\",\"\",ROUND($D47*INTRO!$E$50,0))","v":38538},0,0,2,1,{"$f":"IF(INTRO!$E$37=\"Endemic\",IF($H47>0,IF($H47=4,\"Unknown\",IF($H47=99,\"Stopped\",$D47)),0),\"Not required\")","v":0},0,{"$f":"IF(INTRO!$E$41=\"Endemic\", IF(AND($J47>1,$J47<5), IF($J47=4, \"Unknown\", E47+F47), 0),\"Not required\")","v":22049},{"$f":"IF(INTRO!$E$43=\"Endemic\", IF(AND($K47>0,$K47<5), IF($K47=4,\"Unknown\", IF($K47=1, $F47*0.33, IF($K47=2, $F47*0.5+$G47*0.2, SUM(F47:G47)))), 0),\"Not required\")","v":5049.9900000000007},0,0,1,1,null,null,null,null,21416,"Dormaa East"]
[{"$f":"IF(INTRO!$E$33<>0,INTRO!$E$33, \" \")","v":"Ghana"},"Brong-Ahafo","Jaman North",101983,{"$f":"IF(INTRO!$E$48=\"\",\"\",ROUND($D48*INTRO!$E$48,0))","v":11014},{"$f":"IF(INTRO!$E$49=\"\",\"\",ROUND($D48*INTRO!$E$49,0))","v":24986},{"$f":"IF(INTRO!$E$50=\"\",\"\",ROUND($D48*INTRO!$E$50,0))","v":62924},0,0,2,2,{"$f":"IF(INTRO!$E$37=\"Endemic\",IF($H48>0,IF($H48=4,\"Unknown\",IF($H48=99,\"Stopped\",$D48)),0),\"Not required\")","v":0},0,{"$f":"IF(INTRO!$E$41=\"Endemic\", IF(AND($J48>1,$J48<5), IF($J48=4, \"Unknown\", E48+F48), 0),\"Not required\")","v":36000},{"$f":"IF(INTRO!$E$43=\"Endemic\", IF(AND($K48>0,$K48<5), IF($K48=4,\"Unknown\", IF($K48=1, $F48*0.33, IF($K48=2, $F48*0.5+$G48*0.2, SUM(F48:G48)))), 0),\"Not required\")","v":25077.800000000003},0,0,1,1,null,null,null,null,21419,"Jaman North"]
[{"$f":"IF(INTRO!$E$33<>0,INTRO!$E$33, \" \")","v":"Ghana"},"Brong-Ahafo","Jaman south",113757,{"$f":"IF(INTRO!$E$48=\"\",\"\",ROUND($D49*INTRO!$E$48,0))","v":12286},{"$f":"IF(INTRO!$E$49=\"\",\"\",ROUND($D49*INTRO!$E$49,0))","v":27870},{"$f":"IF(INTRO!$E$50=\"\",\"\",ROUND($D49*INTRO!$E$50,0))","v":70188},0,0,2,1,{"$f":"IF(INTRO!$E$37=\"Endemic\",IF($H49>0,IF($H49=4,\"Unknown\",IF($H49=99,\"Stopped\",$D49)),0),\"Not required\")","v":0},0,{"$f":"IF(INTRO!$E$41=\"Endemic\", IF(AND($J49>1,$J49<5), IF($J49=4, \"Unknown\", E49+F49), 0),\"Not required\")","v":40156},{"$f":"IF(INTRO!$E$43=\"Endemic\", IF(AND($K49>0,$K49<5), IF($K49=4,\"Unknown\", IF($K49=1, $F49*0.33, IF($K49=2, $F49*0.5+$G49*0.2, SUM(F49:G49)))), 0),\"Not required\")","v":9197.1},0,0,1,1,null,null,null,null,21420,"Jaman south"]
[{"$f":"IF(INTRO!$E$33<>0,INTRO!$E$33, \" \")","v":"Ghana"},"Brong-Ahafo","Kintampo North",117234,{"$f":"IF(INTRO!$E$48=\"\",\"\",ROUND($D50*INTRO!$E$48,0))","v":12661},{"$f":"IF(INTRO!$E$49=\"\",\"\",ROUND($D50*INTRO!$E$49,0))","v":28722},{"$f":"IF(INTRO!$E$50=\"\",\"\",ROUND($D50*INTRO!$E$50,0))","v":72333},0,1,2,2,{"$f":"IF(INTRO!$E$37=\"Endemic\",IF($H50>0,IF($H50=4,\"Unknown\",IF($H50=99,\"Stopped\",$D50)),0),\"Not required\")","v":0},117234,{"$f":"IF(INTRO!$E$41=\"Endemic\", IF(AND($J50>1,$J50<5), IF($J50=4, \"Unknown\", E50+F50), 0),\"Not required\")","v":41383},{"$f":"IF(INTRO!$E$43=\"Endemic\", IF(AND($K50>0,$K50<5), IF($K50=4,\"Unknown\", IF($K50=1, $F50*0.33, IF($K50=2, $F50*0.5+$G50*0.2, SUM(F50:G50)))), 0),\"Not required\")","v":28827.599999999999},0,2,1,1,null,null,null,null,21421,"Kintampo North"]
[{"$f":"IF(INTRO!$E$33<>0,INTRO!$E$33, \" \")","v":"Ghana"},"Brong-Ahafo","Kintampo South",99454,{"$f":"IF(INTRO!$E$48=\"\",\"\",ROUND($D51*INTRO!$E$48,0))","v":10741},{"$f":"IF(INTRO!$E$49=\"\",\"\",ROUND($D51*INTRO!$E$49,0))","v":24366},{"$f":"IF(INTRO!$E$50=\"\",\"\",ROUND($D51*INTRO!$E$50,0))","v":61363},0,1,2,2,{"$f":"IF(INTRO!$E$37=\"Endemic\",IF($H51>0,IF($H51=4,\"Unknown\",IF($H51=99,\"Stopped\",$D51)),0),\"Not required\")","v":0},99454,{"$f":"IF(INTRO!$E$41=\"Endemic\", IF(AND($J51>1,$J51<5), IF($J51=4, \"Unknown\", E51+F51), 0),\"Not required\")","v":35107},{"$f":"IF(INTRO!$E$43=\"Endemic\", IF(AND($K51>0,$K51<5), IF($K51=4,\"Unknown\", IF($K51=1, $F51*0.33, IF($K51=2, $F51*0.5+$G51*0.2, SUM(F51:G51)))), 0),\"Not required\")","v":24455.599999999999},0,2,1,1,null,null,null,null,21422,"Kintampo South"]
[{"$f":"IF(INTRO!$E$33<>0,INTRO!$E$33, \" \")","v":"Ghana"},"Brong-Ahafo","Nkoranza North",80908,{"$f":"IF(INTRO!$E$48=\"\",\"\",ROUND($D52*INTRO!$E$48,0))","v":8738},{"$f":"IF(INTRO!$E$49=\"\",\"\",ROUND($D52*INTRO!$E$49,0))","v":19822},{"$f":"IF(INTRO!$E$50=\"\",\"\",ROUND($D52*INTRO!$E$50,0))","v":49920},0,1,2,2,{"$f":"IF(INTRO!$E$37=\"Endemic\",IF($H52>0,IF($H52=4,\"Unknown\",IF($H52=99,\"Stopped\",$D52)),0),\"Not required\")","v":0},80908,{"$f":"IF(INTRO!$E$41=\"Endemic\", IF(AND($J52>1,$J52<5), IF($J52=4, \"Unknown\", E52+F52), 0),\"Not required\")","v":28560},{"$f":"IF(INTRO!$E$43=\"Endemic\", IF(AND($K52>0,$K52<5), IF($K52=4,\"Unknown\", IF($K52=1, $F52*0.33, IF($K52=2, $F52*0.5+$G52*0.2, SUM(F52:G52)))), 0),\"Not required\")","v":19895},0,2,1,1,null,null,null,null,21423,"Nkoranza North"]
[{"$f":"IF(INTRO!$E$33<>0,INTRO!$E$33, \" \")","v":"Ghana"},"Brong-Ahafo","Nkoranza South",123924,{"$f":"IF(INTRO!$E$48=\"\",\"\",ROUND($D53*INTRO!$E$48,0))","v":13384},{"$f":"IF(INTRO!$E$49=\"\",\"\",ROUND($D53*INTRO!$E$49,0))","v":30361},{"$f":"IF(INTRO!$E$50=\"\",\"\",ROUND($D53*INTRO!$E$50,0))","v":76461},0,1,2,2,{"$f":"IF(INTRO!$E$37=\"Endemic\",IF($H53>0,IF($H53=4,\"Unknown\",IF($H53=99,\"Stopped\",$D53)),0),\"Not required\")","v":0},123924,{"$f":"IF(INTRO!$E$41=\"Endemic\", IF(AND($J53>1,$J53<5), IF($J53=4, \"Unknown\", E53+F53), 0),\"Not required\")","v":43745},{"$f":"IF(INTRO!$E$43=\"Endemic\", IF(AND($K53>0,$K53<5), IF($K53=4,\"Unknown\", IF($K53=1, $F53*0.33, IF($K53=2, $F53*0.5+$G53*0.2, SUM(F53:G53)))), 0),\"Not required\")","v":30472.7},0,2,1,1,null,null,null,null,21424,"Nkoranza South"]
[{"$f":"IF(INTRO!$E$33<>0,INTRO!$E$33, \" \")","v":"Ghana"},"Brong-Ahafo","Pru",158695,{"$f":"IF(INTRO!$E$48=\"\",\"\",ROUND($D54*INTRO!$E$48,0))","v":17139},{"$f":"IF(INTRO!$E$49=\"\",\"\",ROUND($D54*INTRO!$E$49,0))","v":38880},{"$f":"IF(INTRO!$E$50=\"\",\"\",ROUND($D54*INTRO!$E$50,0))","v":97915},0,1,2,3,{"$f":"IF(INTRO!$E$37=\"Endemic\",IF($H54>0,IF($H54=4,\"Unknown\",IF($H54=99,\"Stopped\",$D54)),0),\"Not required\")","v":0},158695,{"$f":"IF(INTRO!$E$41=\"Endemic\", IF(AND($J54>1,$J54<5), IF($J54=4, \"Unknown\", E54+F54), 0),\"Not required\")","v":56019},{"$f":"IF(INTRO!$E$43=\"Endemic\", IF(AND($K54>0,$K54<5), IF($K54=4,\"Unknown\", IF($K54=1, $F54*0.33, IF($K54=2, $F54*0.5+$G54*0.2, SUM(F54:G54)))), 0),\"Not required\")","v":136795},0,2,1,1,null,null,null,null,21425,"Pru"]
[{"$f":"IF(INTRO!$E$33<>0,INTRO!$E$33, \" \")","v":"Ghana"},"Brong-Ahafo","Sene East",74297,{"$f":"IF(INTRO!$E$48=\"\",\"\",ROUND($D55*INTRO!$E$48,0))","v":8024},{"$f":"IF(INTRO!$E$49=\"\",\"\",ROUND($D55*INTRO!$E$49,0))","v":18203},{"$f":"IF(INTRO!$E$50=\"\",\"\",ROUND($D55*INTRO!$E$50,0))","v":45841},0,1,2,3,{"$f":"IF(INTRO!$E$37=\"Endemic\",IF($H55>0,IF($H55=4,\"Unknown\",IF($H55=99,\"Stopped\",$D55)),0),\"Not required\")","v":0},74297,{"$f":"IF(INTRO!$E$41=\"Endemic\", IF(AND($J55>1,$J55<5), IF($J55=4, \"Unknown\", E55+F55), 0),\"Not required\")","v":26227},{"$f":"IF(INTRO!$E$43=\"Endemic\", IF(AND($K55>0,$K55<5), IF($K55=4,\"Unknown\", IF($K55=1, $F55*0.33, IF($K55=2, $F55*0.5+$G55*0.2, SUM(F55:G55)))), 0),\"Not required\")","v":64044},0,1,1,1,null,null,null,null,21427,"Sene East"]
[{"$f":"IF(INTRO!$E$33<>0,INTRO!$E$33, \" \")","v":"Ghana"},"Brong-Ahafo","Sene West",71581,{"$f":"IF(INTRO!$E$48=\"\",\"\",ROUND($D56*INTRO!$E$48,0))","v":7731},{"$f":"IF(INTRO!$E$49=\"\",\"\",ROUND($D56*INTRO!$E$49,0))","v":17537},{"$f":"IF(INTRO!$E$50=\"\",\"\",ROUND($D56*INTRO!$E$50,0))","v":44165},0,1,2,3,{"$f":"IF(INTRO!$E$37=\"Endemic\",IF($H56>0,IF($H56=4,\"Unknown\",IF($H56=99,\"Stopped\",$D56)),0),\"Not required\")","v":0},71581,{"$f":"IF(INTRO!$E$41=\"Endemic\", IF(AND($J56>1,$J56<5), IF($J56=4, \"Unknown\", E56+F56), 0),\"Not required\")","v":25268},{"$f":"IF(INTRO!$E$43=\"Endemic\", IF(AND($K56>0,$K56<5), IF($K56=4,\"Unknown\", IF($K56=1, $F56*0.33, IF($K56=2, $F56*0.5+$G56*0.2, SUM(F56:G56)))), 0),\"Not required\")","v":61702},0,1,1,1,null,null,null,null,21428,"Sene West"]
[{"$f":"IF(INTRO!$E$33<>0,INTRO!$E$33, \" \")","v":"Ghana"},"Brong-Ahafo","Sunyani Municipal",151299,{"$f":"IF(INTRO!$E$48=\"\",\"\",ROUND($D57*INTRO!$E$48,0))","v":16340},{"$f":"IF(INTRO!$E$49=\"\",\"\",ROUND($D57*INTRO!$E$49,0))","v":37068},{"$f":"IF(INTRO!$E$50=\"\",\"\",ROUND($D57*INTRO!$E$50,0))","v":93351},1,0,2,2,{"$f":"IF(INTRO!$E$37=\"Endemic\",IF($H57>0,IF($H57=4,\"Unknown\",IF($H57=99,\"Stopped\",$D57)),0),\"Not required\")","v":151299},0,{"$f":"IF(INTRO!$E$41=\"Endemic\", IF(AND($J57>1,$J57<5), IF($J57=4, \"Unknown\", E57+F57), 0),\"Not required\")","v":53408},{"$f":"IF(INTRO!$E$43=\"Endemic\", IF(AND($K57>0,$K57<5), IF($K57=4,\"Unknown\", IF($K57=1, $F57*0.33, IF($K57=2, $F57*0.5+$G57*0.2, SUM(F57:G57)))), 0),\"Not required\")","v":37204.199999999997},1,0,1,1,null,null,null,null,21429,"Sunyani Municipal"]
[{"$f":"IF(INTRO!$E$33<>0,INTRO!$E$33, \" \")","v":"Ghana"},"Brong-Ahafo","Sunyani West",104700,{"$f":"IF(INTRO!$E$48=\"\",\"\",ROUND($D58*INTRO!$E$48,0))","v":11308},{"$f":"IF(INTRO!$E$49=\"\",\"\",ROUND($D58*INTRO!$E$49,0))","v":25652},{"$f":"IF(INTRO!$E$50=\"\",\"\",ROUND($D58*INTRO!$E$50,0))","v":64600},1,1,2,1,{"$f":"IF(INTRO!$E$37=\"Endemic\",IF($H58>0,IF($H58=4,\"Unknown\",IF($H58=99,\"Stopped\",$D58)),0),\"Not required\")","v":104700},104700,{"$f":"IF(INTRO!$E$41=\"Endemic\", IF(AND($J58>1,$J58<5), IF($J58=4, \"Unknown\", E58+F58), 0),\"Not required\")","v":36960},{"$f":"IF(INTRO!$E$43=\"Endemic\", IF(AND($K58>0,$K58<5), IF($K58=4,\"Unknown\", IF($K58=1, $F58*0.33, IF($K58=2, $F58*0.5+$G58*0.2, SUM(F58:G58)))), 0),\"Not required\")","v":8465.16},1,1,1,1,null,null,null,null,21430,"Sunyani West"]
[{"$f":"IF(INTRO!$E$33<>0,INTRO!$E$33, \" \")","v":"Ghana"},"Brong-Ahafo","Tain",108178,{"$f":"IF(INTRO!$E$48=\"\",\"\",ROUND($D59*INTRO!$E$48,0))","v":11683},{"$f":"IF(INTRO!$E$49=\"\",\"\",ROUND($D59*INTRO!$E$49,0))","v":26504},{"$f":"IF(INTRO!$E$50=\"\",\"\",ROUND($D59*INTRO!$E$50,0))","v":66746},0,1,2,1,{"$f":"IF(INTRO!$E$37=\"Endemic\",IF($H59>0,IF($H59=4,\"Unknown\",IF($H59=99,\"Stopped\",$D59)),0),\"Not required\")","v":0},108178,{"$f":"IF(INTRO!$E$41=\"Endemic\", IF(AND($J59>1,$J59<5), IF($J59=4, \"Unknown\", E59+F59), 0),\"Not required\")","v":38187},{"$f":"IF(INTRO!$E$43=\"Endemic\", IF(AND($K59>0,$K59<5), IF($K59=4,\"Unknown\", IF($K59=1, $F59*0.33, IF($K59=2, $F59*0.5+$G59*0.2, SUM(F59:G59)))), 0),\"Not required\")","v":8746.32},0,2,1,1,null,null,null,null,21431,"Tain"]
[{"$f":"IF(INTRO!$E$33<>0,INTRO!$E$33, \" \")","v":"Ghana"},"Brong-Ahafo","Banda",24903,{"$f":"IF(INTRO!$E$48=\"\",\"\",ROUND($D60*INTRO!$E$48,0))","v":2690},{"$f":"IF(INTRO!$E$49=\"\",\"\",ROUND($D60*INTRO!$E$49,0))","v":6101},{"$f":"IF(INTRO!$E$50=\"\",\"\",ROUND($D60*INTRO!$E$50,0))","v":15365},0,1,2,1,{"$f":"IF(INTRO!$E$37=\"Endemic\",IF($H60>0,IF($H60=4,\"Unknown\",IF($H60=99,\"Stopped\",$D60)),0),\"Not required\")","v":0},24903,{"$f":"IF(INTRO!$E$41=\"Endemic\", IF(AND($J60>1,$J60<5), IF($J60=4, \"Unknown\", E60+F60), 0),\"Not required\")","v":8791},{"$f":"IF(INTRO!$E$43=\"Endemic\", IF(AND($K60>0,$K60<5), IF($K60=4,\"Unknown\", IF($K60=1, $F60*0.33, IF($K60=2, $F60*0.5+$G60*0.2, SUM(F60:G60)))), 0),\"Not required\")","v":2013.3300000000002},0,2,1,1,null,null,null,null,21414,"Banda"]
[{"$f":"IF(INTRO!$E$33<>0,INTRO!$E$33, \" \")","v":"Ghana"},"Brong-Ahafo","Tano North",98193,{"$f":"IF(INTRO!$E$48=\"\",\"\",ROUND($D61*INTRO!$E$48,0))","v":10605},{"$f":"IF(INTRO!$E$49=\"\",\"\",ROUND($D61*INTRO!$E$49,0))","v":24057},{"$f":"IF(INTRO!$E$50=\"\",\"\",ROUND($D61*INTRO!$E$50,0))","v":60585},0,1,2,2,{"$f":"IF(INTRO!$E$37=\"Endemic\",IF($H61>0,IF($H61=4,\"Unknown\",IF($H61=99,\"Stopped\",$D61)),0),\"Not required\")","v":0},98193,{"$f":"IF(INTRO!$E$41=\"Endemic\", IF(AND($J61>1,$J61<5), IF($J61=4, \"Unknown\", E61+F61), 0),\"Not required\")","v":34662},{"$f":"IF(INTRO!$E$43=\"Endemic\", IF(AND($K61>0,$K61<5), IF($K61=4,\"Unknown\", IF($K61=1, $F61*0.33, IF($K61=2, $F61*0.5+$G61*0.2, SUM(F61:G61)))), 0),\"Not required\")","v":24145.5},0,1,1,1,null,null,null,null,21432,"Tano North"]
[{"$f":"IF(INTRO!$E$33<>0,INTRO!$E$33, \" \")","v":"Ghana"},"Brong-Ahafo","Tano South",95930,{"$f":"IF(INTRO!$E$48=\"\",\"\",ROUND($D62*INTRO!$E$48,0))","v":10360},{"$f":"IF(INTRO!$E$49=\"\",\"\",ROUND($D62*INTRO!$E$49,0))","v":23503},{"$f":"IF(INTRO!$E$50=\"\",\"\",ROUND($D62*INTRO!$E$50,0))","v":59189},0,1,2,2,{"$f":"IF(INTRO!$E$37=\"Endemic\",IF($H62>0,IF($H62=4,\"Unknown\",IF($H62=99,\"Stopped\",$D62)),0),\"Not required\")","v":0},24270,{"$f":"IF(INTRO!$E$41=\"Endemic\", IF(AND($J62>1,$J62<5), IF($J62=4, \"Unknown\", E62+F62), 0),\"Not required\")","v":33863},{"$f":"IF(INTRO!$E$43=\"Endemic\", IF(AND($K62>0,$K62<5), IF($K62=4,\"Unknown\", IF($K62=1, $F62*0.33, IF($K62=2, $F62*0.5+$G62*0.2, SUM(F62:G62)))), 0),\"Not required\")","v":23589.300000000003},0,2,1,1,null,null,null,null,21433,"Tano South"]
[{"$f":"IF(INTRO!$E$33<>0,INTRO!$E$33, \" \")","v":"Ghana"},"Brong-Ahafo","Techiman Municipal",181459,{"$f":"IF(INTRO!$E$48=\"\",\"\",ROUND($D63*INTRO!$E$48,0))","v":19598},{"$f":"IF(INTRO!$E$49=\"\",\"\",ROUND($D63*INTRO!$E$49,0))","v":44457},{"$f":"IF(INTRO!$E$50=\"\",\"\",ROUND($D63*INTRO!$E$50,0))","v":111960},99,1,2,2,{"$f":"IF(INTRO!$E$37=\"Endemic\",IF($H63>0,IF($H63=4,\"Unknown\",IF($H63=99,\"Stopped\",$D63)),0),\"Not required\")","v":"Stopped"},181459,{"$f":"IF(INTRO!$E$41=\"Endemic\", IF(AND($J63>1,$J63<5), IF($J63=4, \"Unknown\", E63+F63), 0),\"Not required\")","v":64055},{"$f":"IF(INTRO!$E$43=\"Endemic\", IF(AND($K63>0,$K63<5), IF($K63=4,\"Unknown\", IF($K63=1, $F63*0.33, IF($K63=2, $F63*0.5+$G63*0.2, SUM(F63:G63)))), 0),\"Not required\")","v":44620.5},0,1,1,1,null,null,null,null,21434,"Techiman Municipal"]
[{"$f":"IF(INTRO!$E$33<>0,INTRO!$E$33, \" \")","v":"Ghana"},"Brong-Ahafo","Techiman North",72526,{"$f":"IF(INTRO!$E$48=\"\",\"\",ROUND($D64*INTRO!$E$48,0))","v":7833},{"$f":"IF(INTRO!$E$49=\"\",\"\",ROUND($D64*INTRO!$E$49,0))","v":17769},{"$f":"IF(INTRO!$E$50=\"\",\"\",ROUND($D64*INTRO!$E$50,0))","v":44749},99,1,2,2,{"$f":"IF(INTRO!$E$37=\"Endemic\",IF($H64>0,IF($H64=4,\"Unknown\",IF($H64=99,\"Stopped\",$D64)),0),\"Not required\")","v":"Stopped"},72526,{"$f":"IF(INTRO!$E$41=\"Endemic\", IF(AND($J64>1,$J64<5), IF($J64=4, \"Unknown\", E64+F64), 0),\"Not required\")","v":25602},{"$f":"IF(INTRO!$E$43=\"Endemic\", IF(AND($K64>0,$K64<5), IF($K64=4,\"Unknown\", IF($K64=1, $F64*0.33, IF($K64=2, $F64*0.5+$G64*0.2, SUM(F64:G64)))), 0),\"Not required\")","v":17834.300000000003},0,1,1,1,null,null,null,null,21435,"Techiman North"]
[{"$f":"IF(INTRO!$E$33<>0,INTRO!$E$33, \" \")","v":"Ghana"},"Brong-Ahafo","Wenchi Municipal",110184,{"$f":"IF(INTRO!$E$48=\"\",\"\",ROUND($D65*INTRO!$E$48,0))","v":11900},{"$f":"IF(INTRO!$E$49=\"\",\"\",ROUND($D65*INTRO!$E$49,0))","v":26995},{"$f":"IF(INTRO!$E$50=\"\",\"\",ROUND($D65*INTRO!$E$50,0))","v":67984},0,1,2,1,{"$f":"IF(INTRO!$E$37=\"Endemic\",IF($H65>0,IF($H65=4,\"Unknown\",IF($H65=99,\"Stopped\",$D65)),0),\"Not required\")","v":0},110184,{"$f":"IF(INTRO!$E$41=\"Endemic\", IF(AND($J65>1,$J65<5), IF($J65=4, \"Unknown\", E65+F65), 0),\"Not required\")","v":38895},{"$f":"IF(INTRO!$E$43=\"Endemic\", IF(AND($K65>0,$K65<5), IF($K65=4,\"Unknown\", IF($K65=1, $F65*0.33, IF($K65=2, $F65*0.5+$G65*0.2, SUM(F65:G65)))), 0),\"Not required\")","v":8908.35},0,2,1,1,null,null,null,null,21436,"Wenchi Municipal"]
[{"$f":"IF(INTRO!$E$33<>0,INTRO!$E$33, \" \")","v":"Ghana"},"Central","Abura-Asebu-Kwamankese",153136,{"$f":"IF(INTRO!$E$48=\"\",\"\",ROUND($D66*INTRO!$E$48,0))","v":16539},{"$f":"IF(INTRO!$E$49=\"\",\"\",ROUND($D66*INTRO!$E$49,0))","v":37518},{"$f":"IF(INTRO!$E$50=\"\",\"\",ROUND($D66*INTRO!$E$50,0))","v":94485},99,0,2,2,{"$f":"IF(INTRO!$E$37=\"Endemic\",IF($H66>0,IF($H66=4,\"Unknown\",IF($H66=99,\"Stopped\",$D66)),0),\"Not required\")","v":"Stopped"},0,{"$f":"IF(INTRO!$E$41=\"Endemic\", IF(AND($J66>1,$J66<5), IF($J66=4, \"Unknown\", E66+F66), 0),\"Not required\")","v":54057},{"$f":"IF(INTRO!$E$43=\"Endemic\", IF(AND($K66>0,$K66<5), IF($K66=4,\"Unknown\", IF($K66=1, $F66*0.33, IF($K66=2, $F66*0.5+$G66*0.2, SUM(F66:G66)))), 0),\"Not required\")","v":37656},0,0,1,1,null,null,null,null,21437,"Abura-Asebu-Kwamankese"]
[{"$f":"IF(INTRO!$E$33<>0,INTRO!$E$33, \" \")","v":"Ghana"},"Central","Agona East",112279,{"$f":"IF(INTRO!$E$48=\"\",\"\",ROUND($D67*INTRO!$E$48,0))","v":12126},{"$f":"IF(INTRO!$E$49=\"\",\"\",ROUND($D67*INTRO!$E$49,0))","v":27508},{"$f":"IF(INTRO!$E$50=\"\",\"\",ROUND($D67*INTRO!$E$50,0))","v":69276},99,0,2,2,{"$f":"IF(INTRO!$E$37=\"Endemic\",IF($H67>0,IF($H67=4,\"Unknown\",IF($H67=99,\"Stopped\",$D67)),0),\"Not required\")","v":"Stopped"},0,{"$f":"IF(INTRO!$E$41=\"Endemic\", IF(AND($J67>1,$J67<5), IF($J67=4, \"Unknown\", E67+F67), 0),\"Not required\")","v":39634},{"$f":"IF(INTRO!$E$43=\"Endemic\", IF(AND($K67>0,$K67<5), IF($K67=4,\"Unknown\", IF($K67=1, $F67*0.33, IF($K67=2, $F67*0.5+$G67*0.2, SUM(F67:G67)))), 0),\"Not required\")","v":27609.200000000001},0,0,1,1,null,null,null,null,21438,"Agona East"]
[{"$f":"IF(INTRO!$E$33<>0,INTRO!$E$33, \" \")","v":"Ghana"},"Central","Agona West",150748,{"$f":"IF(INTRO!$E$48=\"\",\"\",ROUND($D68*INTRO!$E$48,0))","v":16281},{"$f":"IF(INTRO!$E$49=\"\",\"\",ROUND($D68*INTRO!$E$49,0))","v":36933},{"$f":"IF(INTRO!$E$50=\"\",\"\",ROUND($D68*INTRO!$E$50,0))","v":93012},99,0,2,2,{"$f":"IF(INTRO!$E$37=\"Endemic\",IF($H68>0,IF($H68=4,\"Unknown\",IF($H68=99,\"Stopped\",$D68)),0),\"Not required\")","v":"Stopped"},0,{"$f":"IF(INTRO!$E$41=\"Endemic\", IF(AND($J68>1,$J68<5), IF($J68=4, \"Unknown\", E68+F68), 0),\"Not required\")","v":53214},{"$f":"IF(INTRO!$E$43=\"Endemic\", IF(AND($K68>0,$K68<5), IF($K68=4,\"Unknown\", IF($K68=1, $F68*0.33, IF($K68=2, $F68*0.5+$G68*0.2, SUM(F68:G68)))), 0),\"Not required\")","v":37068.9},0,0,1,1,null,null,null,null,21439,"Agona West"]
[{"$f":"IF(INTRO!$E$33<>0,INTRO!$E$33, \" \")","v":"Ghana"},"Central","Ajumako-Enyan-Essiam",180396,{"$f":"IF(INTRO!$E$48=\"\",\"\",ROUND($D69*INTRO!$E$48,0))","v":19483},{"$f":"IF(INTRO!$E$49=\"\",\"\",ROUND($D69*INTRO!$E$49,0))","v":44197},{"$f":"IF(INTRO!$E$50=\"\",\"\",ROUND($D69*INTRO!$E$50,0))","v":111304},99,0,2,2,{"$f":"IF(INTRO!$E$37=\"Endemic\",IF($H69>0,IF($H69=4,\"Unknown\",IF($H69=99,\"Stopped\",$D69)),0),\"Not required\")","v":"Stopped"},0,{"$f":"IF(INTRO!$E$41=\"Endemic\", IF(AND($J69>1,$J69<5), IF($J69=4, \"Unknown\", E69+F69), 0),\"Not required\")","v":63680},{"$f":"IF(INTRO!$E$43=\"Endemic\", IF(AND($K69>0,$K69<5), IF($K69=4,\"Unknown\", IF($K69=1, $F69*0.33, IF($K69=2, $F69*0.5+$G69*0.2, SUM(F69:G69)))), 0),\"Not required\")","v":44359.3},0,0,1,1,null,null,null,null,21440,"Ajumako-Enyan-Essiam"]
[{"$f":"IF(INTRO!$E$33<>0,INTRO!$E$33, \" \")","v":"Ghana"},"Central","Asikuma-Odoben-Brakwa",147282,{"$f":"IF(INTRO!$E$48=\"\",\"\",ROUND($D70*INTRO!$E$48,0))","v":15906},{"$f":"IF(INTRO!$E$49=\"\",\"\",ROUND($D70*INTRO!$E$49,0))","v":36084},{"$f":"IF(INTRO!$E$50=\"\",\"\",ROUND($D70*INTRO!$E$50,0))","v":90873},99,0,2,3,{"$f":"IF(INTRO!$E$37=\"Endemic\",IF($H70>0,IF($H70=4,\"Unknown\",IF($H70=99,\"Stopped\",$D70)),0),\"Not required\")","v":"Stopped"},0,{"$f":"IF(INTRO!$E$41=\"Endemic\", IF(AND($J70>1,$J70<5), IF($J70=4, \"Unknown\", E70+F70), 0),\"Not required\")","v":51990},{"$f":"IF(INTRO!$E$43=\"Endemic\", IF(AND($K70>0,$K70<5), IF($K70=4,\"Unknown\", IF($K70=1, $F70*0.33, IF($K70=2, $F70*0.5+$G70*0.2, SUM(F70:G70)))), 0),\"Not required\")","v":126957},0,0,1,1,null,null,null,null,21441,"Asikuma-Odoben-Brakwa"]
[{"$f":"IF(INTRO!$E$33<>0,INTRO!$E$33, \" \")","v":"Ghana"},"Central","Assin North",210838,{"$f":"IF(INTRO!$E$48=\"\",\"\",ROUND($D71*INTRO!$E$48,0))","v":22771},{"$f":"IF(INTRO!$E$49=\"\",\"\",ROUND($D71*INTRO!$E$49,0))","v":51655},{"$f":"IF(INTRO!$E$50=\"\",\"\",ROUND($D71*INTRO!$E$50,0))","v":130087},99,1,2,3,{"$f":"IF(INTRO!$E$37=\"Endemic\",IF($H71>0,IF($H71=4,\"Unknown\",IF($H71=99,\"Stopped\",$D71)),0),\"Not required\")","v":"Stopped"},210838,{"$f":"IF(INTRO!$E$41=\"Endemic\", IF(AND($J71>1,$J71<5), IF($J71=4, \"Unknown\", E71+F71), 0),\"Not required\")","v":74426},{"$f":"IF(INTRO!$E$43=\"Endemic\", IF(AND($K71>0,$K71<5), IF($K71=4,\"Unknown\", IF($K71=1, $F71*0.33, IF($K71=2, $F71*0.5+$G71*0.2, SUM(F71:G71)))), 0),\"Not required\")","v":181742},0,2,1,1,null,null,null,null,21442,"Assin North"]
[{"$f":"IF(INTRO!$E$33<>0,INTRO!$E$33, \" \")","v":"Ghana"},"Central","Assin South",136225,{"$f":"IF(INTRO!$E$48=\"\",\"\",ROUND($D72*INTRO!$E$48,0))","v":14712},{"$f":"IF(INTRO!$E$49=\"\",\"\",ROUND($D72*INTRO!$E$49,0))","v":33375},{"$f":"IF(INTRO!$E$50=\"\",\"\",ROUND($D72*INTRO!$E$50,0))","v":84051},99,1,2,2,{"$f":"IF(INTRO!$E$37=\"Endemic\",IF($H72>0,IF($H72=4,\"Unknown\",IF($H72=99,\"Stopped\",$D72)),0),\"Not required\")","v":"Stopped"},136225,{"$f":"IF(INTRO!$E$41=\"Endemic\", IF(AND($J72>1,$J72<5), IF($J72=4, \"Unknown\", E72+F72), 0),\"Not required\")","v":48087},{"$f":"IF(INTRO!$E$43=\"Endemic\", IF(AND($K72>0,$K72<5), IF($K72=4,\"Unknown\", IF($K72=1, $F72*0.33, IF($K72=2, $F72*0.5+$G72*0.2, SUM(F72:G72)))), 0),\"Not required\")","v":33497.699999999997},0,2,1,1,null,null,null,null,21443,"Assin South"]
[{"$f":"IF(INTRO!$E$33<>0,INTRO!$E$33, \" \")","v":"Ghana"},"Central","Awutu-Senya West",114652,{"$f":"IF(INTRO!$E$48=\"\",\"\",ROUND($D73*INTRO!$E$48,0))","v":12382},{"$f":"IF(INTRO!$E$49=\"\",\"\",ROUND($D73*INTRO!$E$49,0))","v":28090},{"$f":"IF(INTRO!$E$50=\"\",\"\",ROUND($D73*INTRO!$E$50,0))","v":70740},99,0,2,2,{"$f":"IF(INTRO!$E$37=\"Endemic\",IF($H73>0,IF($H73=4,\"Unknown\",IF($H73=99,\"Stopped\",$D73)),0),\"Not required\")","v":"Stopped"},0,{"$f":"IF(INTRO!$E$41=\"Endemic\", IF(AND($J73>1,$J73<5), IF($J73=4, \"Unknown\", E73+F73), 0),\"Not required\")","v":40472},{"$f":"IF(INTRO!$E$43=\"Endemic\", IF(AND($K73>0,$K73<5), IF($K73=4,\"Unknown\", IF($K73=1, $F73*0.33, IF($K73=2, $F73*0.5+$G73*0.2, SUM(F73:G73)))), 0),\"Not required\")","v":28193},0,0,1,1,null,null,null,null,21445,"Awutu-Senya West"]
[{"$f":"IF(INTRO!$E$33<>0,INTRO!$E$33, \" \")","v":"Ghana"},"Central","Awutu-Senya East",140571,{"$f":"IF(INTRO!$E$48=\"\",\"\",ROUND($D74*INTRO!$E$48,0))","v":15182},{"$f":"IF(INTRO!$E$49=\"\",\"\",ROUND($D74*INTRO!$E$49,0))","v":34440},{"$f":"IF(INTRO!$E$50=\"\",\"\",ROUND($D74*INTRO!$E$50,0))","v":86732},99,0,2,2,{"$f":"IF(INTRO!$E$37=\"Endemic\",IF($H74>0,IF($H74=4,\"Unknown\",IF($H74=99,\"Stopped\",$D74)),0),\"Not required\")","v":"Stopped"},0,{"$f":"IF(INTRO!$E$41=\"Endemic\", IF(AND($J74>1,$J74<5), IF($J74=4, \"Unknown\", E74+F74), 0),\"Not required\")","v":49622},{"$f":"IF(INTRO!$E$43=\"Endemic\", IF(AND($K74>0,$K74<5), IF($K74=4,\"Unknown\", IF($K74=1, $F74*0.33, IF($K74=2, $F74*0.5+$G74*0.2, SUM(F74:G74)))), 0),\"Not required\")","v":34566.400000000001},0,0,1,1,null,null,null,null,21444,"Awutu-Senya East"]
[{"$f":"IF(INTRO!$E$33<>0,INTRO!$E$33, \" \")","v":"Ghana"},"Central","Cape Coast",222015,{"$f":"IF(INTRO!$E$48=\"\",\"\",ROUND($D75*INTRO!$E$48,0))","v":23978},{"$f":"IF(INTRO!$E$49=\"\",\"\",ROUND($D75*INTRO!$E$49,0))","v":54394},{"$f":"IF(INTRO!$E$50=\"\",\"\",ROUND($D75*INTRO!$E$50,0))","v":136983},99,0,2,2,{"$f":"IF(INTRO!$E$37=\"Endemic\",IF($H75>0,IF($H75=4,\"Unknown\",IF($H75=99,\"Stopped\",$D75)),0),\"Not required\")","v":"Stopped"},0,{"$f":"IF(INTRO!$E$41=\"Endemic\", IF(AND($J75>1,$J75<5), IF($J75=4, \"Unknown\", E75+F75), 0),\"Not required\")","v":78372},{"$f":"IF(INTRO!$E$43=\"Endemic\", IF(AND($K75>0,$K75<5), IF($K75=4,\"Unknown\", IF($K75=1, $F75*0.33, IF($K75=2, $F75*0.5+$G75*0.2, SUM(F75:G75)))), 0),\"Not required\")","v":54593.600000000006},0,0,1,1,null,null,null,null,21446,"Cape Coast"]
[{"$f":"IF(INTRO!$E$33<>0,INTRO!$E$33, \" \")","v":"Ghana"},"Central","Efutu",89642,{"$f":"IF(INTRO!$E$48=\"\",\"\",ROUND($D76*INTRO!$E$48,0))","v":9681},{"$f":"IF(INTRO!$E$49=\"\",\"\",ROUND($D76*INTRO!$E$49,0))","v":21962},{"$f":"IF(INTRO!$E$50=\"\",\"\",ROUND($D76*INTRO!$E$50,0))","v":55309},99,0,2,2,{"$f":"IF(INTRO!$E$37=\"Endemic\",IF($H76>0,IF($H76=4,\"Unknown\",IF($H76=99,\"Stopped\",$D76)),0),\"Not required\")","v":"Stopped"},0,{"$f":"IF(INTRO!$E$41=\"Endemic\", IF(AND($J76>1,$J76<5), IF($J76=4, \"Unknown\", E76+F76), 0),\"Not required\")","v":31643},{"$f":"IF(INTRO!$E$43=\"Endemic\", IF(AND($K76>0,$K76<5), IF($K76=4,\"Unknown\", IF($K76=1, $F76*0.33, IF($K76=2, $F76*0.5+$G76*0.2, SUM(F76:G76)))), 0),\"Not required\")","v":22042.800000000003},0,0,1,1,null,null,null,null,21447,"Efutu"]
[{"$f":"IF(INTRO!$E$33<>0,INTRO!$E$33, \" \")","v":"Ghana"},"Central","Gomoa East",270598,{"$f":"IF(INTRO!$E$48=\"\",\"\",ROUND($D77*INTRO!$E$48,0))","v":29225},{"$f":"IF(INTRO!$E$49=\"\",\"\",ROUND($D77*INTRO!$E$49,0))","v":66297},{"$f":"IF(INTRO!$E$50=\"\",\"\",ROUND($D77*INTRO!$E$50,0))","v":166959},99,0,2,2,{"$f":"IF(INTRO!$E$37=\"Endemic\",IF($H77>0,IF($H77=4,\"Unknown\",IF($H77=99,\"Stopped\",$D77)),0),\"Not required\")","v":"Stopped"},0,{"$f":"IF(INTRO!$E$41=\"Endemic\", IF(AND($J77>1,$J77<5), IF($J77=4, \"Unknown\", E77+F77), 0),\"Not required\")","v":95522},{"$f":"IF(INTRO!$E$43=\"Endemic\", IF(AND($K77>0,$K77<5), IF($K77=4,\"Unknown\", IF($K77=1, $F77*0.33, IF($K77=2, $F77*0.5+$G77*0.2, SUM(F77:G77)))), 0),\"Not required\")","v":66540.3},0,0,1,1,null,null,null,null,21449,"Gomoa East"]
[{"$f":"IF(INTRO!$E$33<>0,INTRO!$E$33, \" \")","v":"Ghana"},"Central","Gomoa West",176663,{"$f":"IF(INTRO!$E$48=\"\",\"\",ROUND($D78*INTRO!$E$48,0))","v":19080},{"$f":"IF(INTRO!$E$49=\"\",\"\",ROUND($D78*INTRO!$E$49,0))","v":43282},{"$f":"IF(INTRO!$E$50=\"\",\"\",ROUND($D78*INTRO!$E$50,0))","v":109001},99,0,2,2,{"$f":"IF(INTRO!$E$37=\"Endemic\",IF($H78>0,IF($H78=4,\"Unknown\",IF($H78=99,\"Stopped\",$D78)),0),\"Not required\")","v":"Stopped"},0,{"$f":"IF(INTRO!$E$41=\"Endemic\", IF(AND($J78>1,$J78<5), IF($J78=4, \"Unknown\", E78+F78), 0),\"Not required\")","v":62362},{"$f":"IF(INTRO!$E$43=\"Endemic\", IF(AND($K78>0,$K78<5), IF($K78=4,\"Unknown\", IF($K78=1, $F78*0.33, IF($K78=2, $F78*0.5+$G78*0.2, SUM(F78:G78)))), 0),\"Not required\")","v":43441.2},0,0,1,1,null,null,null,null,21450,"Gomoa West"]
[{"$f":"IF(INTRO!$E$33<>0,INTRO!$E$33, \" \")","v":"Ghana"},"Central","Komenda-Edina-Eguafo-Abirem",189098,{"$f":"IF(INTRO!$E$48=\"\",\"\",ROUND($D79*INTRO!$E$48,0))","v":20423},{"$f":"IF(INTRO!$E$49=\"\",\"\",ROUND($D79*INTRO!$E$49,0))","v":46329},{"$f":"IF(INTRO!$E$50=\"\",\"\",ROUND($D79*INTRO!$E$50,0))","v":116673},99,0,2,2,{"$f":"IF(INTRO!$E$37=\"Endemic\",IF($H79>0,IF($H79=4,\"Unknown\",IF($H79=99,\"Stopped\",$D79)),0),\"Not required\")","v":"Stopped"},0,{"$f":"IF(INTRO!$E$41=\"Endemic\", IF(AND($J79>1,$J79<5), IF($J79=4, \"Unknown\", E79+F79), 0),\"Not required\")","v":66752},{"$f":"IF(INTRO!$E$43=\"Endemic\", IF(AND($K79>0,$K79<5), IF($K79=4,\"Unknown\", IF($K79=1, $F79*0.33, IF($K79=2, $F79*0.5+$G79*0.2, SUM(F79:G79)))), 0),\"Not required\")","v":46499.100000000006},0,0,1,1,null,null,null,null,21451,"Komenda-Edina-Eguafo-Abirem"]
[{"$f":"IF(INTRO!$E$33<>0,INTRO!$E$33, \" \")","v":"Ghana"},"Central","Mfansteman",188611,{"$f":"IF(INTRO!$E$48=\"\",\"\",ROUND($D80*INTRO!$E$48,0))","v":20370},{"$f":"IF(INTRO!$E$49=\"\",\"\",ROUND($D80*INTRO!$E$49,0))","v":46210},{"$f":"IF(INTRO!$E$50=\"\",\"\",ROUND($D80*INTRO!$E$50,0))","v":116373},99,0,2,3,{"$f":"IF(INTRO!$E$37=\"Endemic\",IF($H80>0,IF($H80=4,\"Unknown\",IF($H80=99,\"Stopped\",$D80)),0),\"Not required\")","v":"Stopped"},0,{"$f":"IF(INTRO!$E$41=\"Endemic\", IF(AND($J80>1,$J80<5), IF($J80=4, \"Unknown\", E80+F80), 0),\"Not required\")","v":66580},{"$f":"IF(INTRO!$E$43=\"Endemic\", IF(AND($K80>0,$K80<5), IF($K80=4,\"Unknown\", IF($K80=1, $F80*0.33, IF($K80=2, $F80*0.5+$G80*0.2, SUM(F80:G80)))), 0),\"Not required\")","v":162583},0,0,1,1,null,null,null,null,21453,"Mfansteman"]
[{"$f":"IF(INTRO!$E$33<>0,INTRO!$E$33, \" \")","v":"Ghana"},"Central","Ekumfi",68255,{"$f":"IF(INTRO!$E$48=\"\",\"\",ROUND($D81*INTRO!$E$48,0))","v":7372},{"$f":"IF(INTRO!$E$49=\"\",\"\",ROUND($D81*INTRO!$E$49,0))","v":16722},{"$f":"IF(INTRO!$E$50=\"\",\"\",ROUND($D81*INTRO!$E$50,0))","v":42113},99,0,2,3,{"$f":"IF(INTRO!$E$37=\"Endemic\",IF($H81>0,IF($H81=4,\"Unknown\",IF($H81=99,\"Stopped\",$D81)),0),\"Not required\")","v":"Stopped"},0,{"$f":"IF(INTRO!$E$41=\"Endemic\", IF(AND($J81>1,$J81<5), IF($J81=4, \"Unknown\", E81+F81), 0),\"Not required\")","v":24094},{"$f":"IF(INTRO!$E$43=\"Endemic\", IF(AND($K81>0,$K81<5), IF($K81=4,\"Unknown\", IF($K81=1, $F81*0.33, IF($K81=2, $F81*0.5+$G81*0.2, SUM(F81:G81)))), 0),\"Not required\")","v":58835},0,0,1,1,null,null,null,null,21448,"Ekumfi"]
[{"$f":"IF(INTRO!$E$33<>0,INTRO!$E$33, \" \")","v":"Ghana"},"Central","Lower Denkyira",72045,{"$f":"IF(INTRO!$E$48=\"\",\"\",ROUND($D82*INTRO!$E$48,0))","v":7781},{"$f":"IF(INTRO!$E$49=\"\",\"\",ROUND($D82*INTRO!$E$49,0))","v":17651},{"$f":"IF(INTRO!$E$50=\"\",\"\",ROUND($D82*INTRO!$E$50,0))","v":44452},99,1,2,2,{"$f":"IF(INTRO!$E$37=\"Endemic\",IF($H82>0,IF($H82=4,\"Unknown\",IF($H82=99,\"Stopped\",$D82)),0),\"Not required\")","v":"Stopped"},72045,{"$f":"IF(INTRO!$E$41=\"Endemic\", IF(AND($J82>1,$J82<5), IF($J82=4, \"Unknown\", E82+F82), 0),\"Not required\")","v":25432},{"$f":"IF(INTRO!$E$43=\"Endemic\", IF(AND($K82>0,$K82<5), IF($K82=4,\"Unknown\", IF($K82=1, $F82*0.33, IF($K82=2, $F82*0.5+$G82*0.2, SUM(F82:G82)))), 0),\"Not required\")","v":17715.900000000001},0,2,1,1,null,null,null,null,21454,"Lower Denkyira"]
[{"$f":"IF(INTRO!$E$33<>0,INTRO!$E$33, \" \")","v":"Ghana"},"Central","Twifu-Ati Mokwa",80685,{"$f":"IF(INTRO!$E$48=\"\",\"\",ROUND($D83*INTRO!$E$48,0))","v":8714},{"$f":"IF(INTRO!$E$49=\"\",\"\",ROUND($D83*INTRO!$E$49,0))","v":19768},{"$f":"IF(INTRO!$E$50=\"\",\"\",ROUND($D83*INTRO!$E$50,0))","v":49783},99,1,2,2,{"$f":"IF(INTRO!$E$37=\"Endemic\",IF($H83>0,IF($H83=4,\"Unknown\",IF($H83=99,\"Stopped\",$D83)),0),\"Not required\")","v":"Stopped"},80685,{"$f":"IF(INTRO!$E$41=\"Endemic\", IF(AND($J83>1,$J83<5), IF($J83=4, \"Unknown\", E83+F83), 0),\"Not required\")","v":28482},{"$f":"IF(INTRO!$E$43=\"Endemic\", IF(AND($K83>0,$K83<5), IF($K83=4,\"Unknown\", IF($K83=1, $F83*0.33, IF($K83=2, $F83*0.5+$G83*0.2, SUM(F83:G83)))), 0),\"Not required\")","v":19840.599999999999},0,2,1,1,null,null,null,null,21455,"Twifu-Ati Mokwa"]
[{"$f":"IF(INTRO!$E$33<>0,INTRO!$E$33, \" \")","v":"Ghana"},"Central","Upper Denkyira East",95147,{"$f":"IF(INTRO!$E$48=\"\",\"\",ROUND($D84*INTRO!$E$48,0))","v":10276},{"$f":"IF(INTRO!$E$49=\"\",\"\",ROUND($D84*INTRO!$E$49,0))","v":23311},{"$f":"IF(INTRO!$E$50=\"\",\"\",ROUND($D84*INTRO!$E$50,0))","v":58706},0,1,2,3,{"$f":"IF(INTRO!$E$37=\"Endemic\",IF($H84>0,IF($H84=4,\"Unknown\",IF($H84=99,\"Stopped\",$D84)),0),\"Not required\")","v":0},95147,{"$f":"IF(INTRO!$E$41=\"Endemic\", IF(AND($J84>1,$J84<5), IF($J84=4, \"Unknown\", E84+F84), 0),\"Not required\")","v":33587},{"$f":"IF(INTRO!$E$43=\"Endemic\", IF(AND($K84>0,$K84<5), IF($K84=4,\"Unknown\", IF($K84=1, $F84*0.33, IF($K84=2, $F84*0.5+$G84*0.2, SUM(F84:G84)))), 0),\"Not required\")","v":82017},0,2,1,1,null,null,null,null,21456,"Upper Denkyira East"]
[{"$f":"IF(INTRO!$E$33<>0,INTRO!$E$33, \" \")","v":"Ghana"},"Central","Upper Denkyira West",78477,{"$f":"IF(INTRO!$E$48=\"\",\"\",ROUND($D85*INTRO!$E$48,0))","v":8476},{"$f":"IF(INTRO!$E$49=\"\",\"\",ROUND($D85*INTRO!$E$49,0))","v":19227},{"$f":"IF(INTRO!$E$50=\"\",\"\",ROUND($D85*INTRO!$E$50,0))","v":48420},0,1,2,2,{"$f":"IF(INTRO!$E$37=\"Endemic\",IF($H85>0,IF($H85=4,\"Unknown\",IF($H85=99,\"Stopped\",$D85)),0),\"Not required\")","v":0},78477,{"$f":"IF(INTRO!$E$41=\"Endemic\", IF(AND($J85>1,$J85<5), IF($J85=4, \"Unknown\", E85+F85), 0),\"Not required\")","v":27703},{"$f":"IF(INTRO!$E$43=\"Endemic\", IF(AND($K85>0,$K85<5), IF($K85=4,\"Unknown\", IF($K85=1, $F85*0.33, IF($K85=2, $F85*0.5+$G85*0.2, SUM(F85:G85)))), 0),\"Not required\")","v":19297.5},0,2,1,1,null,null,null,null,21457,"Upper Denkyira West"]
[{"$f":"IF(INTRO!$E$33<>0,INTRO!$E$33, \" \")","v":"Ghana"},"Eastern","Akwapim North",164976,{"$f":"IF(INTRO!$E$48=\"\",\"\",ROUND($D86*INTRO!$E$48,0))","v":17817},{"$f":"IF(INTRO!$E$49=\"\",\"\",ROUND($D86*INTRO!$E$49,0))","v":40419},{"$f":"IF(INTRO!$E$50=\"\",\"\",ROUND($D86*INTRO!$E$50,0))","v":101790},0,1,2,2,{"$f":"IF(INTRO!$E$37=\"Endemic\",IF($H86>0,IF($H86=4,\"Unknown\",IF($H86=99,\"Stopped\",$D86)),0),\"Not required\")","v":0},164976,{"$f":"IF(INTRO!$E$41=\"Endemic\", IF(AND($J86>1,$J86<5), IF($J86=4, \"Unknown\", E86+F86), 0),\"Not required\")","v":58236},{"$f":"IF(INTRO!$E$43=\"Endemic\", IF(AND($K86>0,$K86<5), IF($K86=4,\"Unknown\", IF($K86=1, $F86*0.33, IF($K86=2, $F86*0.5+$G86*0.2, SUM(F86:G86)))), 0),\"Not required\")","v":40567.5},0,2,1,1,null,null,null,null,21458,"Akwapim North"]
[{"$f":"IF(INTRO!$E$33<>0,INTRO!$E$33, \" \")","v":"Ghana"},"Eastern","Akwapim South",45330,{"$f":"IF(INTRO!$E$48=\"\",\"\",ROUND($D87*INTRO!$E$48,0))","v":4896},{"$f":"IF(INTRO!$E$49=\"\",\"\",ROUND($D87*INTRO!$E$49,0))","v":11106},{"$f":"IF(INTRO!$E$50=\"\",\"\",ROUND($D87*INTRO!$E$50,0))","v":27969},99,0,2,2,{"$f":"IF(INTRO!$E$37=\"Endemic\",IF($H87>0,IF($H87=4,\"Unknown\",IF($H87=99,\"Stopped\",$D87)),0),\"Not required\")","v":"Stopped"},0,{"$f":"IF(INTRO!$E$41=\"Endemic\", IF(AND($J87>1,$J87<5), IF($J87=4, \"Unknown\", E87+F87), 0),\"Not required\")","v":16002},{"$f":"IF(INTRO!$E$43=\"Endemic\", IF(AND($K87>0,$K87<5), IF($K87=4,\"Unknown\", IF($K87=1, $F87*0.33, IF($K87=2, $F87*0.5+$G87*0.2, SUM(F87:G87)))), 0),\"Not required\")","v":11146.8},0,0,1,1,null,null,null,null,21459,"Akwapim South"]
[{"$f":"IF(INTRO!$E$33<>0,INTRO!$E$33, \" \")","v":"Ghana"},"Eastern","Nsawam Adoagyiri Municipal",103954,{"$f":"IF(INTRO!$E$48=\"\",\"\",ROUND($D88*INTRO!$E$48,0))","v":11227},{"$f":"IF(INTRO!$E$49=\"\",\"\",ROUND($D88*INTRO!$E$49,0))","v":25469},{"$f":"IF(INTRO!$E$50=\"\",\"\",ROUND($D88*INTRO!$E$50,0))","v":64140},99,0,2,2,{"$f":"IF(INTRO!$E$37=\"Endemic\",IF($H88>0,IF($H88=4,\"Unknown\",IF($H88=99,\"Stopped\",$D88)),0),\"Not required\")","v":"Stopped"},0,{"$f":"IF(INTRO!$E$41=\"Endemic\", IF(AND($J88>1,$J88<5), IF($J88=4, \"Unknown\", E88+F88), 0),\"Not required\")","v":36696},{"$f":"IF(INTRO!$E$43=\"Endemic\", IF(AND($K88>0,$K88<5), IF($K88=4,\"Unknown\", IF($K88=1, $F88*0.33, IF($K88=2, $F88*0.5+$G88*0.2, SUM(F88:G88)))), 0),\"Not required\")","v":25562.5},0,0,1,1,null,null,null,null,21480,"Nsawam Adoagyiri Municipal"]
[{"$f":"IF(INTRO!$E$33<>0,INTRO!$E$33, \" \")","v":"Ghana"},"Eastern","Akyemansa",117702,{"$f":"IF(INTRO!$E$48=\"\",\"\",ROUND($D89*INTRO!$E$48,0))","v":12712},{"$f":"IF(INTRO!$E$49=\"\",\"\",ROUND($D89*INTRO!$E$49,0))","v":28837},{"$f":"IF(INTRO!$E$50=\"\",\"\",ROUND($D89*INTRO!$E$50,0))","v":72622},0,1,2,2,{"$f":"IF(INTRO!$E$37=\"Endemic\",IF($H89>0,IF($H89=4,\"Unknown\",IF($H89=99,\"Stopped\",$D89)),0),\"Not required\")","v":0},117702,{"$f":"IF(INTRO!$E$41=\"Endemic\", IF(AND($J89>1,$J89<5), IF($J89=4, \"Unknown\", E89+F89), 0),\"Not required\")","v":41549},{"$f":"IF(INTRO!$E$43=\"Endemic\", IF(AND($K89>0,$K89<5), IF($K89=4,\"Unknown\", IF($K89=1, $F89*0.33, IF($K89=2, $F89*0.5+$G89*0.2, SUM(F89:G89)))), 0),\"Not required\")","v":28942.9},0,2,1,1,null,null,null,null,21460,"Akyemansa"]
[{"$f":"IF(INTRO!$E$33<>0,INTRO!$E$33, \" \")","v":"Ghana"},"Eastern","Asuogyaman",118514,{"$f":"IF(INTRO!$E$48=\"\",\"\",ROUND($D90*INTRO!$E$48,0))","v":12800},{"$f":"IF(INTRO!$E$49=\"\",\"\",ROUND($D90*INTRO!$E$49,0))","v":29036},{"$f":"IF(INTRO!$E$50=\"\",\"\",ROUND($D90*INTRO!$E$50,0))","v":73123},0,0,2,2,{"$f":"IF(INTRO!$E$37=\"Endemic\",IF($H90>0,IF($H90=4,\"Unknown\",IF($H90=99,\"Stopped\",$D90)),0),\"Not required\")","v":0},0,{"$f":"IF(INTRO!$E$41=\"Endemic\", IF(AND($J90>1,$J90<5), IF($J90=4, \"Unknown\", E90+F90), 0),\"Not required\")","v":41836},{"$f":"IF(INTRO!$E$43=\"Endemic\", IF(AND($K90>0,$K90<5), IF($K90=4,\"Unknown\", IF($K90=1, $F90*0.33, IF($K90=2, $F90*0.5+$G90*0.2, SUM(F90:G90)))), 0),\"Not required\")","v":29142.6},0,0,1,1,null,null,null,null,21461,"Asuogyaman"]
[{"$f":"IF(INTRO!$E$33<>0,INTRO!$E$33, \" \")","v":"Ghana"},"Eastern","Atiwa",133715,{"$f":"IF(INTRO!$E$48=\"\",\"\",ROUND($D91*INTRO!$E$48,0))","v":14441},{"$f":"IF(INTRO!$E$49=\"\",\"\",ROUND($D91*INTRO!$E$49,0))","v":32760},{"$f":"IF(INTRO!$E$50=\"\",\"\",ROUND($D91*INTRO!$E$50,0))","v":82502},0,1,2,3,{"$f":"IF(INTRO!$E$37=\"Endemic\",IF($H91>0,IF($H91=4,\"Unknown\",IF($H91=99,\"Stopped\",$D91)),0),\"Not required\")","v":0},133715,{"$f":"IF(INTRO!$E$41=\"Endemic\", IF(AND($J91>1,$J91<5), IF($J91=4, \"Unknown\", E91+F91), 0),\"Not required\")","v":47201},{"$f":"IF(INTRO!$E$43=\"Endemic\", IF(AND($K91>0,$K91<5), IF($K91=4,\"Unknown\", IF($K91=1, $F91*0.33, IF($K91=2, $F91*0.5+$G91*0.2, SUM(F91:G91)))), 0),\"Not required\")","v":115262},0,1,1,1,null,null,null,null,21462,"Atiwa"]
[{"$f":"IF(INTRO!$E$33<>0,INTRO!$E$33, \" \")","v":"Ghana"},"Eastern","Birim Central",175112,{"$f":"IF(INTRO!$E$48=\"\",\"\",ROUND($D92*INTRO!$E$48,0))","v":18912},{"$f":"IF(INTRO!$E$49=\"\",\"\",ROUND($D92*INTRO!$E$49,0))","v":42902},{"$f":"IF(INTRO!$E$50=\"\",\"\",ROUND($D92*INTRO!$E$50,0))","v":108044},0,1,2,2,{"$f":"IF(INTRO!$E$37=\"Endemic\",IF($H92>0,IF($H92=4,\"Unknown\",IF($H92=99,\"Stopped\",$D92)),0),\"Not required\")","v":0},175112,{"$f":"IF(INTRO!$E$41=\"Endemic\", IF(AND($J92>1,$J92<5), IF($J92=4, \"Unknown\", E92+F92), 0),\"Not required\")","v":61814},{"$f":"IF(INTRO!$E$43=\"Endemic\", IF(AND($K92>0,$K92<5), IF($K92=4,\"Unknown\", IF($K92=1, $F92*0.33, IF($K92=2, $F92*0.5+$G92*0.2, SUM(F92:G92)))), 0),\"Not required\")","v":43059.8},0,2,1,1,null,null,null,null,21464,"Birim Central"]
[{"$f":"IF(INTRO!$E$33<>0,INTRO!$E$33, \" \")","v":"Ghana"},"Eastern","Birim North",95380,{"$f":"IF(INTRO!$E$48=\"\",\"\",ROUND($D93*INTRO!$E$48,0))","v":10301},{"$f":"IF(INTRO!$E$49=\"\",\"\",ROUND($D93*INTRO!$E$49,0))","v":23368},{"$f":"IF(INTRO!$E$50=\"\",\"\",ROUND($D93*INTRO!$E$50,0))","v":58849},0,1,2,2,{"$f":"IF(INTRO!$E$37=\"Endemic\",IF($H93>0,IF($H93=4,\"Unknown\",IF($H93=99,\"Stopped\",$D93)),0),\"Not required\")","v":0},95380,{"$f":"IF(INTRO!$E$41=\"Endemic\", IF(AND($J93>1,$J93<5), IF($J93=4, \"Unknown\", E93+F93), 0),\"Not required\")","v":33669},{"$f":"IF(INTRO!$E$43=\"Endemic\", IF(AND($K93>0,$K93<5), IF($K93=4,\"Unknown\", IF($K93=1, $F93*0.33, IF($K93=2, $F93*0.5+$G93*0.2, SUM(F93:G93)))), 0),\"Not required\")","v":23453.800000000003},0,2,1,1,null,null,null,null,21465,"Birim North"]
[{"$f":"IF(INTRO!$E$33<>0,INTRO!$E$33, \" \")","v":"Ghana"},"Eastern","Birim South",144770,{"$f":"IF(INTRO!$E$48=\"\",\"\",ROUND($D94*INTRO!$E$48,0))","v":15635},{"$f":"IF(INTRO!$E$49=\"\",\"\",ROUND($D94*INTRO!$E$49,0))","v":35469},{"$f":"IF(INTRO!$E$50=\"\",\"\",ROUND($D94*INTRO!$E$50,0))","v":89323},0,1,2,3,{"$f":"IF(INTRO!$E$37=\"Endemic\",IF($H94>0,IF($H94=4,\"Unknown\",IF($H94=99,\"Stopped\",$D94)),0),\"Not required\")","v":0},144770,{"$f":"IF(INTRO!$E$41=\"Endemic\", IF(AND($J94>1,$J94<5), IF($J94=4, \"Unknown\", E94+F94), 0),\"Not required\")","v":51104},{"$f":"IF(INTRO!$E$43=\"Endemic\", IF(AND($K94>0,$K94<5), IF($K94=4,\"Unknown\", IF($K94=1, $F94*0.33, IF($K94=2, $F94*0.5+$G94*0.2, SUM(F94:G94)))), 0),\"Not required\")","v":124792},0,2,1,1,null,null,null,null,21466,"Birim South"]
[{"$f":"IF(INTRO!$E$33<>0,INTRO!$E$33, \" \")","v":"Ghana"},"Eastern","East Akim Municipal",202946,{"$f":"IF(INTRO!$E$48=\"\",\"\",ROUND($D95*INTRO!$E$48,0))","v":21918},{"$f":"IF(INTRO!$E$49=\"\",\"\",ROUND($D95*INTRO!$E$49,0))","v":49722},{"$f":"IF(INTRO!$E$50=\"\",\"\",ROUND($D95*INTRO!$E$50,0))","v":125218},0,1,2,2,{"$f":"IF(INTRO!$E$37=\"Endemic\",IF($H95>0,IF($H95=4,\"Unknown\",IF($H95=99,\"Stopped\",$D95)),0),\"Not required\")","v":0},202946,{"$f":"IF(INTRO!$E$41=\"Endemic\", IF(AND($J95>1,$J95<5), IF($J95=4, \"Unknown\", E95+F95), 0),\"Not required\")","v":71640},{"$f":"IF(INTRO!$E$43=\"Endemic\", IF(AND($K95>0,$K95<5), IF($K95=4,\"Unknown\", IF($K95=1, $F95*0.33, IF($K95=2, $F95*0.5+$G95*0.2, SUM(F95:G95)))), 0),\"Not required\")","v":49904.600000000006},0,2,1,1,null,null,null,null,21469,"East Akim Municipal"]
[{"$f":"IF(INTRO!$E$33<>0,INTRO!$E$33, \" \")","v":"Ghana"},"Eastern","Fanteakwa",131288,{"$f":"IF(INTRO!$E$48=\"\",\"\",ROUND($D96*INTRO!$E$48,0))","v":14179},{"$f":"IF(INTRO!$E$49=\"\",\"\",ROUND($D96*INTRO!$E$49,0))","v":32166},{"$f":"IF(INTRO!$E$50=\"\",\"\",ROUND($D96*INTRO!$E$50,0))","v":81005},0,1,2,3,{"$f":"IF(INTRO!$E$37=\"Endemic\",IF($H96>0,IF($H96=4,\"Unknown\",IF($H96=99,\"Stopped\",$D96)),0),\"Not required\")","v":0},131288,{"$f":"IF(INTRO!$E$41=\"Endemic\", IF(AND($J96>1,$J96<5), IF($J96=4, \"Unknown\", E96+F96), 0),\"Not required\")","v":46345},{"$f":"IF(INTRO!$E$43=\"Endemic\", IF(AND($K96>0,$K96<5), IF($K96=4,\"Unknown\", IF($K96=1, $F96*0.33, IF($K96=2, $F96*0.5+$G96*0.2, SUM(F96:G96)))), 0),\"Not required\")","v":113171},0,1,1,1,null,null,null,null,21470,"Fanteakwa"]
[{"$f":"IF(INTRO!$E$33<>0,INTRO!$E$33, \" \")","v":"Ghana"},"Eastern","Kwaebibirem",137889,{"$f":"IF(INTRO!$E$48=\"\",\"\",ROUND($D97*INTRO!$E$48,0))","v":14892},{"$f":"IF(INTRO!$E$49=\"\",\"\",ROUND($D97*INTRO!$E$49,0))","v":33783},{"$f":"IF(INTRO!$E$50=\"\",\"\",ROUND($D97*INTRO!$E$50,0))","v":85078},0,1,2,3,{"$f":"IF(INTRO!$E$37=\"Endemic\",IF($H97>0,IF($H97=4,\"Unknown\",IF($H97=99,\"Stopped\",$D97)),0),\"Not required\")","v":0},137889,{"$f":"IF(INTRO!$E$41=\"Endemic\", IF(AND($J97>1,$J97<5), IF($J97=4, \"Unknown\", E97+F97), 0),\"Not required\")","v":48675},{"$f":"IF(INTRO!$E$43=\"Endemic\", IF(AND($K97>0,$K97<5), IF($K97=4,\"Unknown\", IF($K97=1, $F97*0.33, IF($K97=2, $F97*0.5+$G97*0.2, SUM(F97:G97)))), 0),\"Not required\")","v":118861},0,2,1,1,null,null,null,null,21471,"Kwaebibirem"]
[{"$f":"IF(INTRO!$E$33<>0,INTRO!$E$33, \" \")","v":"Ghana"},"Eastern","Denkyembour",94873,{"$f":"IF(INTRO!$E$48=\"\",\"\",ROUND($D98*INTRO!$E$48,0))","v":10246},{"$f":"IF(INTRO!$E$49=\"\",\"\",ROUND($D98*INTRO!$E$49,0))","v":23244},{"$f":"IF(INTRO!$E$50=\"\",\"\",ROUND($D98*INTRO!$E$50,0))","v":58537},0,0,2,3,{"$f":"IF(INTRO!$E$37=\"Endemic\",IF($H98>0,IF($H98=4,\"Unknown\",IF($H98=99,\"Stopped\",$D98)),0),\"Not required\")","v":0},0,{"$f":"IF(INTRO!$E$41=\"Endemic\", IF(AND($J98>1,$J98<5), IF($J98=4, \"Unknown\", E98+F98), 0),\"Not required\")","v":33490},{"$f":"IF(INTRO!$E$43=\"Endemic\", IF(AND($K98>0,$K98<5), IF($K98=4,\"Unknown\", IF($K98=1, $F98*0.33, IF($K98=2, $F98*0.5+$G98*0.2, SUM(F98:G98)))), 0),\"Not required\")","v":81781},0,0,1,1,null,null,null,null,21468,"Denkyembour"]
[{"$f":"IF(INTRO!$E$33<>0,INTRO!$E$33, \" \")","v":"Ghana"},"Eastern","Kwahu East",93225,{"$f":"IF(INTRO!$E$48=\"\",\"\",ROUND($D99*INTRO!$E$48,0))","v":10068},{"$f":"IF(INTRO!$E$49=\"\",\"\",ROUND($D99*INTRO!$E$49,0))","v":22840},{"$f":"IF(INTRO!$E$50=\"\",\"\",ROUND($D99*INTRO!$E$50,0))","v":57520},0,1,2,3,{"$f":"IF(INTRO!$E$37=\"Endemic\",IF($H99>0,IF($H99=4,\"Unknown\",IF($H99=99,\"Stopped\",$D99)),0),\"Not required\")","v":0},93225,{"$f":"IF(INTRO!$E$41=\"Endemic\", IF(AND($J99>1,$J99<5), IF($J99=4, \"Unknown\", E99+F99), 0),\"Not required\")","v":32908},{"$f":"IF(INTRO!$E$43=\"Endemic\", IF(AND($K99>0,$K99<5), IF($K99=4,\"Unknown\", IF($K99=1, $F99*0.33, IF($K99=2, $F99*0.5+$G99*0.2, SUM(F99:G99)))), 0),\"Not required\")","v":80360},0,2,1,1,null,null,null,null,21474,"Kwahu East"]
[{"$f":"IF(INTRO!$E$33<>0,INTRO!$E$33, \" \")","v":"Ghana"},"Eastern","Kwahu Afram Plains North",123987,{"$f":"IF(INTRO!$E$48=\"\",\"\",ROUND($D100*INTRO!$E$48,0))","v":13391},{"$f":"IF(INTRO!$E$49=\"\",\"\",ROUND($D100*INTRO!$E$49,0))","v":30377},{"$f":"IF(INTRO!$E$50=\"\",\"\",ROUND($D100*INTRO!$E$50,0))","v":76500},0,1,2,3,{"$f":"IF(INTRO!$E$37=\"Endemic\",IF($H100>0,IF($H100=4,\"Unknown\",IF($H100=99,\"Stopped\",$D100)),0),\"Not required\")","v":0},123987,{"$f":"IF(INTRO!$E$41=\"Endemic\", IF(AND($J100>1,$J100<5), IF($J100=4, \"Unknown\", E100+F100), 0),\"Not required\")","v":43768},{"$f":"IF(INTRO!$E$43=\"Endemic\", IF(AND($K100>0,$K100<5), IF($K100=4,\"Unknown\", IF($K100=1, $F100*0.33, IF($K100=2, $F100*0.5+$G100*0.2, SUM(F100:G100)))), 0),\"Not required\")","v":106877},0,2,1,1,null,null,null,null,21472,"Kwahu Afram Plains North"]
[{"$f":"IF(INTRO!$E$33<>0,INTRO!$E$33, \" \")","v":"Ghana"},"Eastern","Kwahu Afram Plains South",139807,{"$f":"IF(INTRO!$E$48=\"\",\"\",ROUND($D101*INTRO!$E$48,0))","v":15099},{"$f":"IF(INTRO!$E$49=\"\",\"\",ROUND($D101*INTRO!$E$49,0))","v":34253},{"$f":"IF(INTRO!$E$50=\"\",\"\",ROUND($D101*INTRO!$E$50,0))","v":86261},0,1,2,3,{"$f":"IF(INTRO!$E$37=\"Endemic\",IF($H101>0,IF($H101=4,\"Unknown\",IF($H101=99,\"Stopped\",$D101)),0),\"Not required\")","v":0},139807,{"$f":"IF(INTRO!$E$41=\"Endemic\", IF(AND($J101>1,$J101<5), IF($J101=4, \"Unknown\", E101+F101), 0),\"Not required\")","v":49352},{"$f":"IF(INTRO!$E$43=\"Endemic\", IF(AND($K101>0,$K101<5), IF($K101=4,\"Unknown\", IF($K101=1, $F101*0.33, IF($K101=2, $F101*0.5+$G101*0.2, SUM(F101:G101)))), 0),\"Not required\")","v":120514},0,2,1,1,null,null,null,null,21473,"Kwahu Afram Plains South"]
[{"$f":"IF(INTRO!$E$33<>0,INTRO!$E$33, \" \")","v":"Ghana"},"Eastern","Kwahu South",84320,{"$f":"IF(INTRO!$E$48=\"\",\"\",ROUND($D102*INTRO!$E$48,0))","v":9107},{"$f":"IF(INTRO!$E$49=\"\",\"\",ROUND($D102*INTRO!$E$49,0))","v":20658},{"$f":"IF(INTRO!$E$50=\"\",\"\",ROUND($D102*INTRO!$E$50,0))","v":52025},0,1,2,3,{"$f":"IF(INTRO!$E$37=\"Endemic\",IF($H102>0,IF($H102=4,\"Unknown\",IF($H102=99,\"Stopped\",$D102)),0),\"Not required\")","v":0},84320,{"$f":"IF(INTRO!$E$41=\"Endemic\", IF(AND($J102>1,$J102<5), IF($J102=4, \"Unknown\", E102+F102), 0),\"Not required\")","v":29765},{"$f":"IF(INTRO!$E$43=\"Endemic\", IF(AND($K102>0,$K102<5), IF($K102=4,\"Unknown\", IF($K102=1, $F102*0.33, IF($K102=2, $F102*0.5+$G102*0.2, SUM(F102:G102)))), 0),\"Not required\")","v":72683},0,2,1,1,null,null,null,null,21476,"Kwahu South"]
[{"$f":"IF(INTRO!$E$33<>0,INTRO!$E$33, \" \")","v":"Ghana"},"Eastern","Kwahu West",113121,{"$f":"IF(INTRO!$E$48=\"\",\"\",ROUND($D103*INTRO!$E$48,0))","v":12217},{"$f":"IF(INTRO!$E$49=\"\",\"\",ROUND($D103*INTRO!$E$49,0))","v":27715},{"$f":"IF(INTRO!$E$50=\"\",\"\",ROUND($D103*INTRO!$E$50,0))","v":69796},0,0,2,2,{"$f":"IF(INTRO!$E$37=\"Endemic\",IF($H103>0,IF($H103=4,\"Unknown\",IF($H103=99,\"Stopped\",$D103)),0),\"Not required\")","v":0},0,{"$f":"IF(INTRO!$E$41=\"Endemic\", IF(AND($J103>1,$J103<5), IF($J103=4, \"Unknown\", E103+F103), 0),\"Not required\")","v":39932},{"$f":"IF(INTRO!$E$43=\"Endemic\", IF(AND($K103>0,$K103<5), IF($K103=4,\"Unknown\", IF($K103=1, $F103*0.33, IF($K103=2, $F103*0.5+$G103*0.2, SUM(F103:G103)))), 0),\"Not required\")","v":27816.7},0,0,1,1,null,null,null,null,21477,"Kwahu West"]
[{"$f":"IF(INTRO!$E$33<>0,INTRO!$E$33, \" \")","v":"Ghana"},"Eastern","Lower Manya Krobo",107877,{"$f":"IF(INTRO!$E$48=\"\",\"\",ROUND($D104*INTRO!$E$48,0))","v":11651},{"$f":"IF(INTRO!$E$49=\"\",\"\",ROUND($D104*INTRO!$E$49,0))","v":26430},{"$f":"IF(INTRO!$E$50=\"\",\"\",ROUND($D104*INTRO!$E$50,0))","v":66560},0,0,2,2,{"$f":"IF(INTRO!$E$37=\"Endemic\",IF($H104>0,IF($H104=4,\"Unknown\",IF($H104=99,\"Stopped\",$D104)),0),\"Not required\")","v":0},0,{"$f":"IF(INTRO!$E$41=\"Endemic\", IF(AND($J104>1,$J104<5), IF($J104=4, \"Unknown\", E104+F104), 0),\"Not required\")","v":38081},{"$f":"IF(INTRO!$E$43=\"Endemic\", IF(AND($K104>0,$K104<5), IF($K104=4,\"Unknown\", IF($K104=1, $F104*0.33, IF($K104=2, $F104*0.5+$G104*0.2, SUM(F104:G104)))), 0),\"Not required\")","v":26527},0,0,1,1,null,null,null,null,21478,"Lower Manya Krobo"]
[{"$f":"IF(INTRO!$E$33<>0,INTRO!$E$33, \" \")","v":"Ghana"},"Eastern","New Juaben Municipal",222082,{"$f":"IF(INTRO!$E$48=\"\",\"\",ROUND($D105*INTRO!$E$48,0))","v":23985},{"$f":"IF(INTRO!$E$49=\"\",\"\",ROUND($D105*INTRO!$E$49,0))","v":54410},{"$f":"IF(INTRO!$E$50=\"\",\"\",ROUND($D105*INTRO!$E$50,0))","v":137025},0,1,2,2,{"$f":"IF(INTRO!$E$37=\"Endemic\",IF($H105>0,IF($H105=4,\"Unknown\",IF($H105=99,\"Stopped\",$D105)),0),\"Not required\")","v":0},222082,{"$f":"IF(INTRO!$E$41=\"Endemic\", IF(AND($J105>1,$J105<5), IF($J105=4, \"Unknown\", E105+F105), 0),\"Not required\")","v":78395},{"$f":"IF(INTRO!$E$43=\"Endemic\", IF(AND($K105>0,$K105<5), IF($K105=4,\"Unknown\", IF($K105=1, $F105*0.33, IF($K105=2, $F105*0.5+$G105*0.2, SUM(F105:G105)))), 0),\"Not required\")","v":54610},0,2,1,1,null,null,null,null,21479,"New Juaben Municipal"]
[{"$f":"IF(INTRO!$E$33<>0,INTRO!$E$33, \" \")","v":"Ghana"},"Eastern","Suhum",110389,{"$f":"IF(INTRO!$E$48=\"\",\"\",ROUND($D106*INTRO!$E$48,0))","v":11922},{"$f":"IF(INTRO!$E$49=\"\",\"\",ROUND($D106*INTRO!$E$49,0))","v":27045},{"$f":"IF(INTRO!$E$50=\"\",\"\",ROUND($D106*INTRO!$E$50,0))","v":68110},99,0,2,2,{"$f":"IF(INTRO!$E$37=\"Endemic\",IF($H106>0,IF($H106=4,\"Unknown\",IF($H106=99,\"Stopped\",$D106)),0),\"Not required\")","v":"Stopped"},0,{"$f":"IF(INTRO!$E$41=\"Endemic\", IF(AND($J106>1,$J106<5), IF($J106=4, \"Unknown\", E106+F106), 0),\"Not required\")","v":38967},{"$f":"IF(INTRO!$E$43=\"Endemic\", IF(AND($K106>0,$K106<5), IF($K106=4,\"Unknown\", IF($K106=1, $F106*0.33, IF($K106=2, $F106*0.5+$G106*0.2, SUM(F106:G106)))), 0),\"Not required\")","v":27144.5},0,0,1,1,null,null,null,null,21481,"Suhum"]
[{"$f":"IF(INTRO!$E$33<>0,INTRO!$E$33, \" \")","v":"Ghana"},"Eastern","Ayensuano",92141,{"$f":"IF(INTRO!$E$48=\"\",\"\",ROUND($D107*INTRO!$E$48,0))","v":9951},{"$f":"IF(INTRO!$E$49=\"\",\"\",ROUND($D107*INTRO!$E$49,0))","v":22575},{"$f":"IF(INTRO!$E$50=\"\",\"\",ROUND($D107*INTRO!$E$50,0))","v":56851},99,0,2,2,{"$f":"IF(INTRO!$E$37=\"Endemic\",IF($H107>0,IF($H107=4,\"Unknown\",IF($H107=99,\"Stopped\",$D107)),0),\"Not required\")","v":"Stopped"},0,{"$f":"IF(INTRO!$E$41=\"Endemic\", IF(AND($J107>1,$J107<5), IF($J107=4, \"Unknown\", E107+F107), 0),\"Not required\")","v":32526},{"$f":"IF(INTRO!$E$43=\"Endemic\", IF(AND($K107>0,$K107<5), IF($K107=4,\"Unknown\", IF($K107=1, $F107*0.33, IF($K107=2, $F107*0.5+$G107*0.2, SUM(F107:G107)))), 0),\"Not required\")","v":22657.7},0,0,1,1,null,null,null,null,21463,"Ayensuano"]
[{"$f":"IF(INTRO!$E$33<>0,INTRO!$E$33, \" \")","v":"Ghana"},"Eastern","Upper Manya Krobo",87142,{"$f":"IF(INTRO!$E$48=\"\",\"\",ROUND($D108*INTRO!$E$48,0))","v":9411},{"$f":"IF(INTRO!$E$49=\"\",\"\",ROUND($D108*INTRO!$E$49,0))","v":21350},{"$f":"IF(INTRO!$E$50=\"\",\"\",ROUND($D108*INTRO!$E$50,0))","v":53767},0,0,2,2,{"$f":"IF(INTRO!$E$37=\"Endemic\",IF($H108>0,IF($H108=4,\"Unknown\",IF($H108=99,\"Stopped\",$D108)),0),\"Not required\")","v":0},0,{"$f":"IF(INTRO!$E$41=\"Endemic\", IF(AND($J108>1,$J108<5), IF($J108=4, \"Unknown\", E108+F108), 0),\"Not required\")","v":30761},{"$f":"IF(INTRO!$E$43=\"Endemic\", IF(AND($K108>0,$K108<5), IF($K108=4,\"Unknown\", IF($K108=1, $F108*0.33, IF($K108=2, $F108*0.5+$G108*0.2, SUM(F108:G108)))), 0),\"Not required\")","v":21428.400000000001},0,0,1,1,null,null,null,null,21482,"Upper Manya Krobo"]
[{"$f":"IF(INTRO!$E$33<>0,INTRO!$E$33, \" \")","v":"Ghana"},"Eastern","Upper West Akim",105224,{"$f":"IF(INTRO!$E$48=\"\",\"\",ROUND($D109*INTRO!$E$48,0))","v":11364},{"$f":"IF(INTRO!$E$49=\"\",\"\",ROUND($D109*INTRO!$E$49,0))","v":25780},{"$f":"IF(INTRO!$E$50=\"\",\"\",ROUND($D109*INTRO!$E$50,0))","v":64923},99,1,2,3,{"$f":"IF(INTRO!$E$37=\"Endemic\",IF($H109>0,IF($H109=4,\"Unknown\",IF($H109=99,\"Stopped\",$D109)),0),\"Not required\")","v":"Stopped"},105224,{"$f":"IF(INTRO!$E$41=\"Endemic\", IF(AND($J109>1,$J109<5), IF($J109=4, \"Unknown\", E109+F109), 0),\"Not required\")","v":37144},{"$f":"IF(INTRO!$E$43=\"Endemic\", IF(AND($K109>0,$K109<5), IF($K109=4,\"Unknown\", IF($K109=1, $F109*0.33, IF($K109=2, $F109*0.5+$G109*0.2, SUM(F109:G109)))), 0),\"Not required\")","v":90703},0,2,1,1,null,null,null,null,21483,"Upper West Akim"]
[{"$f":"IF(INTRO!$E$33<>0,INTRO!$E$33, \" \")","v":"Ghana"},"Eastern","West Akim Municipal",130907,{"$f":"IF(INTRO!$E$48=\"\",\"\",ROUND($D110*INTRO!$E$48,0))","v":14138},{"$f":"IF(INTRO!$E$49=\"\",\"\",ROUND($D110*INTRO!$E$49,0))","v":32072},{"$f":"IF(INTRO!$E$50=\"\",\"\",ROUND($D110*INTRO!$E$50,0))","v":80770},99,1,2,3,{"$f":"IF(INTRO!$E$37=\"Endemic\",IF($H110>0,IF($H110=4,\"Unknown\",IF($H110=99,\"Stopped\",$D110)),0),\"Not required\")","v":"Stopped"},130907,{"$f":"IF(INTRO!$E$41=\"Endemic\", IF(AND($J110>1,$J110<5), IF($J110=4, \"Unknown\", E110+F110), 0),\"Not required\")","v":46210},{"$f":"IF(INTRO!$E$43=\"Endemic\", IF(AND($K110>0,$K110<5), IF($K110=4,\"Unknown\", IF($K110=1, $F110*0.33, IF($K110=2, $F110*0.5+$G110*0.2, SUM(F110:G110)))), 0),\"Not required\")","v":112842},0,2,1,1,null,null,null,null,21484,"West Akim Municipal"]
[{"$f":"IF(INTRO!$E$33<>0,INTRO!$E$33, \" \")","v":"Ghana"},"Eastern","Yilo Krobo",106185,{"$f":"IF(INTRO!$E$48=\"\",\"\",ROUND($D111*INTRO!$E$48,0))","v":11468},{"$f":"IF(INTRO!$E$49=\"\",\"\",ROUND($D111*INTRO!$E$49,0))","v":26015},{"$f":"IF(INTRO!$E$50=\"\",\"\",ROUND($D111*INTRO!$E$50,0))","v":65516},0,1,2,2,{"$f":"IF(INTRO!$E$37=\"Endemic\",IF($H111>0,IF($H111=4,\"Unknown\",IF($H111=99,\"Stopped\",$D111)),0),\"Not required\")","v":0},106185,{"$f":"IF(INTRO!$E$41=\"Endemic\", IF(AND($J111>1,$J111<5), IF($J111=4, \"Unknown\", E111+F111), 0),\"Not required\")","v":37483},{"$f":"IF(INTRO!$E$43=\"Endemic\", IF(AND($K111>0,$K111<5), IF($K111=4,\"Unknown\", IF($K111=1, $F111*0.33, IF($K111=2, $F111*0.5+$G111*0.2, SUM(F111:G111)))), 0),\"Not required\")","v":26110.7},0,1,1,1,null,null,null,null,21485,"Yilo Krobo"]
[{"$f":"IF(INTRO!$E$33<>0,INTRO!$E$33, \" \")","v":"Ghana"},"Greater Accra","Accra Metro",2175908,{"$f":"IF(INTRO!$E$48=\"\",\"\",ROUND($D112*INTRO!$E$48,0))","v":234998},{"$f":"IF(INTRO!$E$49=\"\",\"\",ROUND($D112*INTRO!$E$49,0))","v":533097},{"$f":"IF(INTRO!$E$50=\"\",\"\",ROUND($D112*INTRO!$E$50,0))","v":1342535},99,0,2,2,{"$f":"IF(INTRO!$E$37=\"Endemic\",IF($H112>0,IF($H112=4,\"Unknown\",IF($H112=99,\"Stopped\",$D112)),0),\"Not required\")","v":"Stopped"},0,{"$f":"IF(INTRO!$E$41=\"Endemic\", IF(AND($J112>1,$J112<5), IF($J112=4, \"Unknown\", E112+F112), 0),\"Not required\")","v":768095},{"$f":"IF(INTRO!$E$43=\"Endemic\", IF(AND($K112>0,$K112<5), IF($K112=4,\"Unknown\", IF($K112=1, $F112*0.33, IF($K112=2, $F112*0.5+$G112*0.2, SUM(F112:G112)))), 0),\"Not required\")","v":535055.5},0,0,1,0,null,null,null,null,21486,"Accra Metro"]
[{"$f":"IF(INTRO!$E$33<>0,INTRO!$E$33, \" \")","v":"Ghana"},"Greater Accra","La Dade-Kotopon",239832,{"$f":"IF(INTRO!$E$48=\"\",\"\",ROUND($D113*INTRO!$E$48,0))","v":25902},{"$f":"IF(INTRO!$E$49=\"\",\"\",ROUND($D113*INTRO!$E$49,0))","v":58759},{"$f":"IF(INTRO!$E$50=\"\",\"\",ROUND($D113*INTRO!$E$50,0))","v":147976},99,0,2,2,{"$f":"IF(INTRO!$E$37=\"Endemic\",IF($H113>0,IF($H113=4,\"Unknown\",IF($H113=99,\"Stopped\",$D113)),0),\"Not required\")","v":"Stopped"},0,{"$f":"IF(INTRO!$E$41=\"Endemic\", IF(AND($J113>1,$J113<5), IF($J113=4, \"Unknown\", E113+F113), 0),\"Not required\")","v":84661},{"$f":"IF(INTRO!$E$43=\"Endemic\", IF(AND($K113>0,$K113<5), IF($K113=4,\"Unknown\", IF($K113=1, $F113*0.33, IF($K113=2, $F113*0.5+$G113*0.2, SUM(F113:G113)))), 0),\"Not required\")","v":58974.7},0,0,1,0,null,null,null,null,21497,"La Dade-Kotopon"]
[{"$f":"IF(INTRO!$E$33<>0,INTRO!$E$33, \" \")","v":"Ghana"},"Greater Accra","Adenta ",102210,{"$f":"IF(INTRO!$E$48=\"\",\"\",ROUND($D114*INTRO!$E$48,0))","v":11039},{"$f":"IF(INTRO!$E$49=\"\",\"\",ROUND($D114*INTRO!$E$49,0))","v":25041},{"$f":"IF(INTRO!$E$50=\"\",\"\",ROUND($D114*INTRO!$E$50,0))","v":63064},0,0,2,2,{"$f":"IF(INTRO!$E$37=\"Endemic\",IF($H114>0,IF($H114=4,\"Unknown\",IF($H114=99,\"Stopped\",$D114)),0),\"Not required\")","v":0},0,{"$f":"IF(INTRO!$E$41=\"Endemic\", IF(AND($J114>1,$J114<5), IF($J114=4, \"Unknown\", E114+F114), 0),\"Not required\")","v":36080},{"$f":"IF(INTRO!$E$43=\"Endemic\", IF(AND($K114>0,$K114<5), IF($K114=4,\"Unknown\", IF($K114=1, $F114*0.33, IF($K114=2, $F114*0.5+$G114*0.2, SUM(F114:G114)))), 0),\"Not required\")","v":25133.300000000003},0,0,1,1,null,null,null,null,21489,"Adenta "]
[{"$f":"IF(INTRO!$E$33<>0,INTRO!$E$33, \" \")","v":"Ghana"},"Greater Accra","Ashiaman",249560,{"$f":"IF(INTRO!$E$48=\"\",\"\",ROUND($D115*INTRO!$E$48,0))","v":26952},{"$f":"IF(INTRO!$E$49=\"\",\"\",ROUND($D115*INTRO!$E$49,0))","v":61142},{"$f":"IF(INTRO!$E$50=\"\",\"\",ROUND($D115*INTRO!$E$50,0))","v":153979},0,0,2,2,{"$f":"IF(INTRO!$E$37=\"Endemic\",IF($H115>0,IF($H115=4,\"Unknown\",IF($H115=99,\"Stopped\",$D115)),0),\"Not required\")","v":0},0,{"$f":"IF(INTRO!$E$41=\"Endemic\", IF(AND($J115>1,$J115<5), IF($J115=4, \"Unknown\", E115+F115), 0),\"Not required\")","v":88094},{"$f":"IF(INTRO!$E$43=\"Endemic\", IF(AND($K115>0,$K115<5), IF($K115=4,\"Unknown\", IF($K115=1, $F115*0.33, IF($K115=2, $F115*0.5+$G115*0.2, SUM(F115:G115)))), 0),\"Not required\")","v":61366.8},0,0,1,1,null,null,null,null,21490,"Ashiaman"]
[{"$f":"IF(INTRO!$E$33<>0,INTRO!$E$33, \" \")","v":"Ghana"},"Greater Accra","Ada East",93658,{"$f":"IF(INTRO!$E$48=\"\",\"\",ROUND($D116*INTRO!$E$48,0))","v":10115},{"$f":"IF(INTRO!$E$49=\"\",\"\",ROUND($D116*INTRO!$E$49,0))","v":22946},{"$f":"IF(INTRO!$E$50=\"\",\"\",ROUND($D116*INTRO!$E$50,0))","v":57787},0,0,2,2,{"$f":"IF(INTRO!$E$37=\"Endemic\",IF($H116>0,IF($H116=4,\"Unknown\",IF($H116=99,\"Stopped\",$D116)),0),\"Not required\")","v":0},0,{"$f":"IF(INTRO!$E$41=\"Endemic\", IF(AND($J116>1,$J116<5), IF($J116=4, \"Unknown\", E116+F116), 0),\"Not required\")","v":33061},{"$f":"IF(INTRO!$E$43=\"Endemic\", IF(AND($K116>0,$K116<5), IF($K116=4,\"Unknown\", IF($K116=1, $F116*0.33, IF($K116=2, $F116*0.5+$G116*0.2, SUM(F116:G116)))), 0),\"Not required\")","v":23030.400000000001},0,0,1,1,null,null,null,null,21487,"Ada East"]
[{"$f":"IF(INTRO!$E$33<>0,INTRO!$E$33, \" \")","v":"Ghana"},"Greater Accra","Ada West",77262,{"$f":"IF(INTRO!$E$48=\"\",\"\",ROUND($D117*INTRO!$E$48,0))","v":8344},{"$f":"IF(INTRO!$E$49=\"\",\"\",ROUND($D117*INTRO!$E$49,0))","v":18929},{"$f":"IF(INTRO!$E$50=\"\",\"\",ROUND($D117*INTRO!$E$50,0))","v":47671},0,0,2,2,{"$f":"IF(INTRO!$E$37=\"Endemic\",IF($H117>0,IF($H117=4,\"Unknown\",IF($H117=99,\"Stopped\",$D117)),0),\"Not required\")","v":0},0,{"$f":"IF(INTRO!$E$41=\"Endemic\", IF(AND($J117>1,$J117<5), IF($J117=4, \"Unknown\", E117+F117), 0),\"Not required\")","v":27273},{"$f":"IF(INTRO!$E$43=\"Endemic\", IF(AND($K117>0,$K117<5), IF($K117=4,\"Unknown\", IF($K117=1, $F117*0.33, IF($K117=2, $F117*0.5+$G117*0.2, SUM(F117:G117)))), 0),\"Not required\")","v":18998.7},0,0,1,1,null,null,null,null,21488,"Ada West"]
[{"$f":"IF(INTRO!$E$33<>0,INTRO!$E$33, \" \")","v":"Ghana"},"Greater Accra","Shai Osudoku",68105,{"$f":"IF(INTRO!$E$48=\"\",\"\",ROUND($D118*INTRO!$E$48,0))","v":7355},{"$f":"IF(INTRO!$E$49=\"\",\"\",ROUND($D118*INTRO!$E$49,0))","v":16686},{"$f":"IF(INTRO!$E$50=\"\",\"\",ROUND($D118*INTRO!$E$50,0))","v":42021},0,0,2,2,{"$f":"IF(INTRO!$E$37=\"Endemic\",IF($H118>0,IF($H118=4,\"Unknown\",IF($H118=99,\"Stopped\",$D118)),0),\"Not required\")","v":0},0,{"$f":"IF(INTRO!$E$41=\"Endemic\", IF(AND($J118>1,$J118<5), IF($J118=4, \"Unknown\", E118+F118), 0),\"Not required\")","v":24041},{"$f":"IF(INTRO!$E$43=\"Endemic\", IF(AND($K118>0,$K118<5), IF($K118=4,\"Unknown\", IF($K118=1, $F118*0.33, IF($K118=2, $F118*0.5+$G118*0.2, SUM(F118:G118)))), 0),\"Not required\")","v":16747.2},0,0,1,1,null,null,null,null,21501,"Shai Osudoku"]
[{"$f":"IF(INTRO!$E$33<>0,INTRO!$E$33, \" \")","v":"Ghana"},"Greater Accra","Ningo Prampram",92414,{"$f":"IF(INTRO!$E$48=\"\",\"\",ROUND($D119*INTRO!$E$48,0))","v":9981},{"$f":"IF(INTRO!$E$49=\"\",\"\",ROUND($D119*INTRO!$E$49,0))","v":22641},{"$f":"IF(INTRO!$E$50=\"\",\"\",ROUND($D119*INTRO!$E$50,0))","v":57019},0,0,2,2,{"$f":"IF(INTRO!$E$37=\"Endemic\",IF($H119>0,IF($H119=4,\"Unknown\",IF($H119=99,\"Stopped\",$D119)),0),\"Not required\")","v":0},0,{"$f":"IF(INTRO!$E$41=\"Endemic\", IF(AND($J119>1,$J119<5), IF($J119=4, \"Unknown\", E119+F119), 0),\"Not required\")","v":32622},{"$f":"IF(INTRO!$E$43=\"Endemic\", IF(AND($K119>0,$K119<5), IF($K119=4,\"Unknown\", IF($K119=1, $F119*0.33, IF($K119=2, $F119*0.5+$G119*0.2, SUM(F119:G119)))), 0),\"Not required\")","v":22724.300000000003},0,0,1,1,null,null,null,null,21500,"Ningo Prampram"]
[{"$f":"IF(INTRO!$E$33<>0,INTRO!$E$33, \" \")","v":"Ghana"},"Greater Accra","Ga East",193067,{"$f":"IF(INTRO!$E$48=\"\",\"\",ROUND($D120*INTRO!$E$48,0))","v":20851},{"$f":"IF(INTRO!$E$49=\"\",\"\",ROUND($D120*INTRO!$E$49,0))","v":47301},{"$f":"IF(INTRO!$E$50=\"\",\"\",ROUND($D120*INTRO!$E$50,0))","v":119122},99,0,2,2,{"$f":"IF(INTRO!$E$37=\"Endemic\",IF($H120>0,IF($H120=4,\"Unknown\",IF($H120=99,\"Stopped\",$D120)),0),\"Not required\")","v":"Stopped"},0,{"$f":"IF(INTRO!$E$41=\"Endemic\", IF(AND($J120>1,$J120<5), IF($J120=4, \"Unknown\", E120+F120), 0),\"Not required\")","v":68152},{"$f":"IF(INTRO!$E$43=\"Endemic\", IF(AND($K120>0,$K120<5), IF($K120=4,\"Unknown\", IF($K120=1, $F120*0.33, IF($K120=2, $F120*0.5+$G120*0.2, SUM(F120:G120)))), 0),\"Not required\")","v":47474.9},0,0,1,1,null,null,null,null,21493,"Ga East"]
[{"$f":"IF(INTRO!$E$33<>0,INTRO!$E$33, \" \")","v":"Ghana"},"Greater Accra","La-Nkwantanang-Madina",146264,{"$f":"IF(INTRO!$E$48=\"\",\"\",ROUND($D121*INTRO!$E$48,0))","v":15797},{"$f":"IF(INTRO!$E$49=\"\",\"\",ROUND($D121*INTRO!$E$49,0))","v":35835},{"$f":"IF(INTRO!$E$50=\"\",\"\",ROUND($D121*INTRO!$E$50,0))","v":90245},99,0,2,2,{"$f":"IF(INTRO!$E$37=\"Endemic\",IF($H121>0,IF($H121=4,\"Unknown\",IF($H121=99,\"Stopped\",$D121)),0),\"Not required\")","v":"Stopped"},0,{"$f":"IF(INTRO!$E$41=\"Endemic\", IF(AND($J121>1,$J121<5), IF($J121=4, \"Unknown\", E121+F121), 0),\"Not required\")","v":51632},{"$f":"IF(INTRO!$E$43=\"Endemic\", IF(AND($K121>0,$K121<5), IF($K121=4,\"Unknown\", IF($K121=1, $F121*0.33, IF($K121=2, $F121*0.5+$G121*0.2, SUM(F121:G121)))), 0),\"Not required\")","v":35966.5},0,0,1,1,null,null,null,null,21498,"La-Nkwantanang-Madina"]
[{"$f":"IF(INTRO!$E$33<>0,INTRO!$E$33, \" \")","v":"Ghana"},"Greater Accra","Ga South",634630,{"$f":"IF(INTRO!$E$48=\"\",\"\",ROUND($D122*INTRO!$E$48,0))","v":68540},{"$f":"IF(INTRO!$E$49=\"\",\"\",ROUND($D122*INTRO!$E$49,0))","v":155484},{"$f":"IF(INTRO!$E$50=\"\",\"\",ROUND($D122*INTRO!$E$50,0))","v":391567},99,0,2,3,{"$f":"IF(INTRO!$E$37=\"Endemic\",IF($H122>0,IF($H122=4,\"Unknown\",IF($H122=99,\"Stopped\",$D122)),0),\"Not required\")","v":"Stopped"},0,{"$f":"IF(INTRO!$E$41=\"Endemic\", IF(AND($J122>1,$J122<5), IF($J122=4, \"Unknown\", E122+F122), 0),\"Not required\")","v":224024},{"$f":"IF(INTRO!$E$43=\"Endemic\", IF(AND($K122>0,$K122<5), IF($K122=4,\"Unknown\", IF($K122=1, $F122*0.33, IF($K122=2, $F122*0.5+$G122*0.2, SUM(F122:G122)))), 0),\"Not required\")","v":547051},0,0,1,1,null,null,null,null,21494,"Ga South"]
[{"$f":"IF(INTRO!$E$33<>0,INTRO!$E$33, \" \")","v":"Ghana"},"Greater Accra","Ga Central",56131,{"$f":"IF(INTRO!$E$48=\"\",\"\",ROUND($D123*INTRO!$E$48,0))","v":6062},{"$f":"IF(INTRO!$E$49=\"\",\"\",ROUND($D123*INTRO!$E$49,0))","v":13752},{"$f":"IF(INTRO!$E$50=\"\",\"\",ROUND($D123*INTRO!$E$50,0))","v":34633},99,0,2,3,{"$f":"IF(INTRO!$E$37=\"Endemic\",IF($H123>0,IF($H123=4,\"Unknown\",IF($H123=99,\"Stopped\",$D123)),0),\"Not required\")","v":"Stopped"},0,{"$f":"IF(INTRO!$E$41=\"Endemic\", IF(AND($J123>1,$J123<5), IF($J123=4, \"Unknown\", E123+F123), 0),\"Not required\")","v":19814},{"$f":"IF(INTRO!$E$43=\"Endemic\", IF(AND($K123>0,$K123<5), IF($K123=4,\"Unknown\", IF($K123=1, $F123*0.33, IF($K123=2, $F123*0.5+$G123*0.2, SUM(F123:G123)))), 0),\"Not required\")","v":48385},0,0,1,0,null,null,null,null,21492,"Ga Central"]
[{"$f":"IF(INTRO!$E$33<>0,INTRO!$E$33, \" \")","v":"Ghana"},"Greater Accra","Ga West",287215,{"$f":"IF(INTRO!$E$48=\"\",\"\",ROUND($D124*INTRO!$E$48,0))","v":31019},{"$f":"IF(INTRO!$E$49=\"\",\"\",ROUND($D124*INTRO!$E$49,0))","v":70368},{"$f":"IF(INTRO!$E$50=\"\",\"\",ROUND($D124*INTRO!$E$50,0))","v":177212},99,0,2,3,{"$f":"IF(INTRO!$E$37=\"Endemic\",IF($H124>0,IF($H124=4,\"Unknown\",IF($H124=99,\"Stopped\",$D124)),0),\"Not required\")","v":"Stopped"},0,{"$f":"IF(INTRO!$E$41=\"Endemic\", IF(AND($J124>1,$J124<5), IF($J124=4, \"Unknown\", E124+F124), 0),\"Not required\")","v":101387},{"$f":"IF(INTRO!$E$43=\"Endemic\", IF(AND($K124>0,$K124<5), IF($K124=4,\"Unknown\", IF($K124=1, $F124*0.33, IF($K124=2, $F124*0.5+$G124*0.2, SUM(F124:G124)))), 0),\"Not required\")","v":247580},0,0,1,1,null,null,null,null,21495,"Ga West"]
[{"$f":"IF(INTRO!$E$33<>0,INTRO!$E$33, \" \")","v":"Ghana"},"Greater Accra","Ledzokuku-Krowor",297858,{"$f":"IF(INTRO!$E$48=\"\",\"\",ROUND($D125*INTRO!$E$48,0))","v":32169},{"$f":"IF(INTRO!$E$49=\"\",\"\",ROUND($D125*INTRO!$E$49,0))","v":72975},{"$f":"IF(INTRO!$E$50=\"\",\"\",ROUND($D125*INTRO!$E$50,0))","v":183778},99,0,2,2,{"$f":"IF(INTRO!$E$37=\"Endemic\",IF($H125>0,IF($H125=4,\"Unknown\",IF($H125=99,\"Stopped\",$D125)),0),\"Not required\")","v":"Stopped"},0,{"$f":"IF(INTRO!$E$41=\"Endemic\", IF(AND($J125>1,$J125<5), IF($J125=4, \"Unknown\", E125+F125), 0),\"Not required\")","v":105144},{"$f":"IF(INTRO!$E$43=\"Endemic\", IF(AND($K125>0,$K125<5), IF($K125=4,\"Unknown\", IF($K125=1, $F125*0.33, IF($K125=2, $F125*0.5+$G125*0.2, SUM(F125:G125)))), 0),\"Not required\")","v":73243.100000000006},0,0,1,1,null,null,null,null,21499,"Ledzokuku-Krowor"]
[{"$f":"IF(INTRO!$E$33<>0,INTRO!$E$33, \" \")","v":"Ghana"},"Greater Accra","Tema",382591,{"$f":"IF(INTRO!$E$48=\"\",\"\",ROUND($D126*INTRO!$E$48,0))","v":41320},{"$f":"IF(INTRO!$E$49=\"\",\"\",ROUND($D126*INTRO!$E$49,0))","v":93735},{"$f":"IF(INTRO!$E$50=\"\",\"\",ROUND($D126*INTRO!$E$50,0))","v":236059},0,0,2,2,{"$f":"IF(INTRO!$E$37=\"Endemic\",IF($H126>0,IF($H126=4,\"Unknown\",IF($H126=99,\"Stopped\",$D126)),0),\"Not required\")","v":0},0,{"$f":"IF(INTRO!$E$41=\"Endemic\", IF(AND($J126>1,$J126<5), IF($J126=4, \"Unknown\", E126+F126), 0),\"Not required\")","v":135055},{"$f":"IF(INTRO!$E$43=\"Endemic\", IF(AND($K126>0,$K126<5), IF($K126=4,\"Unknown\", IF($K126=1, $F126*0.33, IF($K126=2, $F126*0.5+$G126*0.2, SUM(F126:G126)))), 0),\"Not required\")","v":94079.3},0,0,1,0,null,null,null,null,21502,"Tema"]
[{"$f":"IF(INTRO!$E$33<>0,INTRO!$E$33, \" \")","v":"Ghana"},"Greater Accra","Kpone Katamanso",143569,{"$f":"IF(INTRO!$E$48=\"\",\"\",ROUND($D127*INTRO!$E$48,0))","v":15505},{"$f":"IF(INTRO!$E$49=\"\",\"\",ROUND($D127*INTRO!$E$49,0))","v":35174},{"$f":"IF(INTRO!$E$50=\"\",\"\",ROUND($D127*INTRO!$E$50,0))","v":88582},0,0,2,2,{"$f":"IF(INTRO!$E$37=\"Endemic\",IF($H127>0,IF($H127=4,\"Unknown\",IF($H127=99,\"Stopped\",$D127)),0),\"Not required\")","v":0},0,{"$f":"IF(INTRO!$E$41=\"Endemic\", IF(AND($J127>1,$J127<5), IF($J127=4, \"Unknown\", E127+F127), 0),\"Not required\")","v":50679},{"$f":"IF(INTRO!$E$43=\"Endemic\", IF(AND($K127>0,$K127<5), IF($K127=4,\"Unknown\", IF($K127=1, $F127*0.33, IF($K127=2, $F127*0.5+$G127*0.2, SUM(F127:G127)))), 0),\"Not required\")","v":35303.4},0,0,1,1,null,null,null,null,21496,"Kpone Katamanso"]
[{"$f":"IF(INTRO!$E$33<>0,INTRO!$E$33, \" \")","v":"Ghana"},"Northern","Bole",79249,{"$f":"IF(INTRO!$E$48=\"\",\"\",ROUND($D128*INTRO!$E$48,0))","v":8559},{"$f":"IF(INTRO!$E$49=\"\",\"\",ROUND($D128*INTRO!$E$49,0))","v":19416},{"$f":"IF(INTRO!$E$50=\"\",\"\",ROUND($D128*INTRO!$E$50,0))","v":48897},1,1,2,1,{"$f":"IF(INTRO!$E$37=\"Endemic\",IF($H128>0,IF($H128=4,\"Unknown\",IF($H128=99,\"Stopped\",$D128)),0),\"Not required\")","v":79249},79249,{"$f":"IF(INTRO!$E$41=\"Endemic\", IF(AND($J128>1,$J128<5), IF($J128=4, \"Unknown\", E128+F128), 0),\"Not required\")","v":27975},{"$f":"IF(INTRO!$E$43=\"Endemic\", IF(AND($K128>0,$K128<5), IF($K128=4,\"Unknown\", IF($K128=1, $F128*0.33, IF($K128=2, $F128*0.5+$G128*0.2, SUM(F128:G128)))), 0),\"Not required\")","v":6407.2800000000007},1,2,1,1,null,null,null,null,21503,"Bole"]
[{"$f":"IF(INTRO!$E$33<>0,INTRO!$E$33, \" \")","v":"Ghana"},"Northern","Bunkpurugu-Yunyuo",157730,{"$f":"IF(INTRO!$E$48=\"\",\"\",ROUND($D129*INTRO!$E$48,0))","v":17035},{"$f":"IF(INTRO!$E$49=\"\",\"\",ROUND($D129*INTRO!$E$49,0))","v":38644},{"$f":"IF(INTRO!$E$50=\"\",\"\",ROUND($D129*INTRO!$E$50,0))","v":97319},99,0,2,1,{"$f":"IF(INTRO!$E$37=\"Endemic\",IF($H129>0,IF($H129=4,\"Unknown\",IF($H129=99,\"Stopped\",$D129)),0),\"Not required\")","v":"Stopped"},0,{"$f":"IF(INTRO!$E$41=\"Endemic\", IF(AND($J129>1,$J129<5), IF($J129=4, \"Unknown\", E129+F129), 0),\"Not required\")","v":55679},{"$f":"IF(INTRO!$E$43=\"Endemic\", IF(AND($K129>0,$K129<5), IF($K129=4,\"Unknown\", IF($K129=1, $F129*0.33, IF($K129=2, $F129*0.5+$G129*0.2, SUM(F129:G129)))), 0),\"Not required\")","v":12752.52},0,0,1,1,null,null,null,null,21504,"Bunkpurugu-Yunyuo"]
[{"$f":"IF(INTRO!$E$33<>0,INTRO!$E$33, \" \")","v":"Ghana"},"Northern","Central Gonja",113066,{"$f":"IF(INTRO!$E$48=\"\",\"\",ROUND($D130*INTRO!$E$48,0))","v":12211},{"$f":"IF(INTRO!$E$49=\"\",\"\",ROUND($D130*INTRO!$E$49,0))","v":27701},{"$f":"IF(INTRO!$E$50=\"\",\"\",ROUND($D130*INTRO!$E$50,0))","v":69762},99,0,2,2,{"$f":"IF(INTRO!$E$37=\"Endemic\",IF($H130>0,IF($H130=4,\"Unknown\",IF($H130=99,\"Stopped\",$D130)),0),\"Not required\")","v":"Stopped"},0,{"$f":"IF(INTRO!$E$41=\"Endemic\", IF(AND($J130>1,$J130<5), IF($J130=4, \"Unknown\", E130+F130), 0),\"Not required\")","v":39912},{"$f":"IF(INTRO!$E$43=\"Endemic\", IF(AND($K130>0,$K130<5), IF($K130=4,\"Unknown\", IF($K130=1, $F130*0.33, IF($K130=2, $F130*0.5+$G130*0.2, SUM(F130:G130)))), 0),\"Not required\")","v":27802.9},0,0,1,1,null,null,null,null,21505,"Central Gonja"]
[{"$f":"IF(INTRO!$E$33<>0,INTRO!$E$33, \" \")","v":"Ghana"},"Northern","Chereponi",68698,{"$f":"IF(INTRO!$E$48=\"\",\"\",ROUND($D131*INTRO!$E$48,0))","v":7419},{"$f":"IF(INTRO!$E$49=\"\",\"\",ROUND($D131*INTRO!$E$49,0))","v":16831},{"$f":"IF(INTRO!$E$50=\"\",\"\",ROUND($D131*INTRO!$E$50,0))","v":42387},99,0,2,1,{"$f":"IF(INTRO!$E$37=\"Endemic\",IF($H131>0,IF($H131=4,\"Unknown\",IF($H131=99,\"Stopped\",$D131)),0),\"Not required\")","v":"Stopped"},0,{"$f":"IF(INTRO!$E$41=\"Endemic\", IF(AND($J131>1,$J131<5), IF($J131=4, \"Unknown\", E131+F131), 0),\"Not required\")","v":24250},{"$f":"IF(INTRO!$E$43=\"Endemic\", IF(AND($K131>0,$K131<5), IF($K131=4,\"Unknown\", IF($K131=1, $F131*0.33, IF($K131=2, $F131*0.5+$G131*0.2, SUM(F131:G131)))), 0),\"Not required\")","v":5554.2300000000005},0,0,1,1,null,null,null,null,21506,"Chereponi"]
[{"$f":"IF(INTRO!$E$33<>0,INTRO!$E$33, \" \")","v":"Ghana"},"Northern","East Gonja",174276,{"$f":"IF(INTRO!$E$48=\"\",\"\",ROUND($D132*INTRO!$E$48,0))","v":18822},{"$f":"IF(INTRO!$E$49=\"\",\"\",ROUND($D132*INTRO!$E$49,0))","v":42698},{"$f":"IF(INTRO!$E$50=\"\",\"\",ROUND($D132*INTRO!$E$50,0))","v":107528},99,1,2,3,{"$f":"IF(INTRO!$E$37=\"Endemic\",IF($H132>0,IF($H132=4,\"Unknown\",IF($H132=99,\"Stopped\",$D132)),0),\"Not required\")","v":"Stopped"},66224,{"$f":"IF(INTRO!$E$41=\"Endemic\", IF(AND($J132>1,$J132<5), IF($J132=4, \"Unknown\", E132+F132), 0),\"Not required\")","v":61520},{"$f":"IF(INTRO!$E$43=\"Endemic\", IF(AND($K132>0,$K132<5), IF($K132=4,\"Unknown\", IF($K132=1, $F132*0.33, IF($K132=2, $F132*0.5+$G132*0.2, SUM(F132:G132)))), 0),\"Not required\")","v":150226},0,2,1,1,null,null,null,null,21507,"East Gonja"]
[{"$f":"IF(INTRO!$E$33<>0,INTRO!$E$33, \" \")","v":"Ghana"},"Northern","East Mamprusi",155696,{"$f":"IF(INTRO!$E$48=\"\",\"\",ROUND($D133*INTRO!$E$48,0))","v":16815},{"$f":"IF(INTRO!$E$49=\"\",\"\",ROUND($D133*INTRO!$E$49,0))","v":38146},{"$f":"IF(INTRO!$E$50=\"\",\"\",ROUND($D133*INTRO!$E$50,0))","v":96064},99,0,2,1,{"$f":"IF(INTRO!$E$37=\"Endemic\",IF($H133>0,IF($H133=4,\"Unknown\",IF($H133=99,\"Stopped\",$D133)),0),\"Not required\")","v":"Stopped"},0,{"$f":"IF(INTRO!$E$41=\"Endemic\", IF(AND($J133>1,$J133<5), IF($J133=4, \"Unknown\", E133+F133), 0),\"Not required\")","v":54961},{"$f":"IF(INTRO!$E$43=\"Endemic\", IF(AND($K133>0,$K133<5), IF($K133=4,\"Unknown\", IF($K133=1, $F133*0.33, IF($K133=2, $F133*0.5+$G133*0.2, SUM(F133:G133)))), 0),\"Not required\")","v":12588.18},0,0,1,1,null,null,null,null,21508,"East Mamprusi"]
[{"$f":"IF(INTRO!$E$33<>0,INTRO!$E$33, \" \")","v":"Ghana"},"Northern","Gushiegu",143150,{"$f":"IF(INTRO!$E$48=\"\",\"\",ROUND($D134*INTRO!$E$48,0))","v":15460},{"$f":"IF(INTRO!$E$49=\"\",\"\",ROUND($D134*INTRO!$E$49,0))","v":35072},{"$f":"IF(INTRO!$E$50=\"\",\"\",ROUND($D134*INTRO!$E$50,0))","v":88324},99,0,2,1,{"$f":"IF(INTRO!$E$37=\"Endemic\",IF($H134>0,IF($H134=4,\"Unknown\",IF($H134=99,\"Stopped\",$D134)),0),\"Not required\")","v":"Stopped"},0,{"$f":"IF(INTRO!$E$41=\"Endemic\", IF(AND($J134>1,$J134<5), IF($J134=4, \"Unknown\", E134+F134), 0),\"Not required\")","v":50532},{"$f":"IF(INTRO!$E$43=\"Endemic\", IF(AND($K134>0,$K134<5), IF($K134=4,\"Unknown\", IF($K134=1, $F134*0.33, IF($K134=2, $F134*0.5+$G134*0.2, SUM(F134:G134)))), 0),\"Not required\")","v":11573.76},0,0,1,1,null,null,null,null,21509,"Gushiegu"]
[{"$f":"IF(INTRO!$E$33<>0,INTRO!$E$33, \" \")","v":"Ghana"},"Northern","Karaga",99980,{"$f":"IF(INTRO!$E$48=\"\",\"\",ROUND($D135*INTRO!$E$48,0))","v":10798},{"$f":"IF(INTRO!$E$49=\"\",\"\",ROUND($D135*INTRO!$E$49,0))","v":24495},{"$f":"IF(INTRO!$E$50=\"\",\"\",ROUND($D135*INTRO!$E$50,0))","v":61688},99,0,2,1,{"$f":"IF(INTRO!$E$37=\"Endemic\",IF($H135>0,IF($H135=4,\"Unknown\",IF($H135=99,\"Stopped\",$D135)),0),\"Not required\")","v":"Stopped"},0,{"$f":"IF(INTRO!$E$41=\"Endemic\", IF(AND($J135>1,$J135<5), IF($J135=4, \"Unknown\", E135+F135), 0),\"Not required\")","v":35293},{"$f":"IF(INTRO!$E$43=\"Endemic\", IF(AND($K135>0,$K135<5), IF($K135=4,\"Unknown\", IF($K135=1, $F135*0.33, IF($K135=2, $F135*0.5+$G135*0.2, SUM(F135:G135)))), 0),\"Not required\")","v":8083.35},0,0,1,1,null,null,null,null,21510,"Karaga"]
[{"$f":"IF(INTRO!$E$33<>0,INTRO!$E$33, \" \")","v":"Ghana"},"Northern","Kpandai",140007,{"$f":"IF(INTRO!$E$48=\"\",\"\",ROUND($D136*INTRO!$E$48,0))","v":15121},{"$f":"IF(INTRO!$E$49=\"\",\"\",ROUND($D136*INTRO!$E$49,0))","v":34302},{"$f":"IF(INTRO!$E$50=\"\",\"\",ROUND($D136*INTRO!$E$50,0))","v":86384},99,1,2,3,{"$f":"IF(INTRO!$E$37=\"Endemic\",IF($H136>0,IF($H136=4,\"Unknown\",IF($H136=99,\"Stopped\",$D136)),0),\"Not required\")","v":"Stopped"},140007,{"$f":"IF(INTRO!$E$41=\"Endemic\", IF(AND($J136>1,$J136<5), IF($J136=4, \"Unknown\", E136+F136), 0),\"Not required\")","v":49423},{"$f":"IF(INTRO!$E$43=\"Endemic\", IF(AND($K136>0,$K136<5), IF($K136=4,\"Unknown\", IF($K136=1, $F136*0.33, IF($K136=2, $F136*0.5+$G136*0.2, SUM(F136:G136)))), 0),\"Not required\")","v":120686},0,2,1,1,null,null,null,null,21511,"Kpandai"]
[{"$f":"IF(INTRO!$E$33<>0,INTRO!$E$33, \" \")","v":"Ghana"},"Northern","Nanumba North",182168,{"$f":"IF(INTRO!$E$48=\"\",\"\",ROUND($D137*INTRO!$E$48,0))","v":19674},{"$f":"IF(INTRO!$E$49=\"\",\"\",ROUND($D137*INTRO!$E$49,0))","v":44631},{"$f":"IF(INTRO!$E$50=\"\",\"\",ROUND($D137*INTRO!$E$50,0))","v":112398},99,1,2,2,{"$f":"IF(INTRO!$E$37=\"Endemic\",IF($H137>0,IF($H137=4,\"Unknown\",IF($H137=99,\"Stopped\",$D137)),0),\"Not required\")","v":"Stopped"},50601,{"$f":"IF(INTRO!$E$41=\"Endemic\", IF(AND($J137>1,$J137<5), IF($J137=4, \"Unknown\", E137+F137), 0),\"Not required\")","v":64305},{"$f":"IF(INTRO!$E$43=\"Endemic\", IF(AND($K137>0,$K137<5), IF($K137=4,\"Unknown\", IF($K137=1, $F137*0.33, IF($K137=2, $F137*0.5+$G137*0.2, SUM(F137:G137)))), 0),\"Not required\")","v":44795.100000000006},0,2,1,1,null,null,null,null,21515,"Nanumba North"]
[{"$f":"IF(INTRO!$E$33<>0,INTRO!$E$33, \" \")","v":"Ghana"},"Northern","Nanumba South",120255,{"$f":"IF(INTRO!$E$48=\"\",\"\",ROUND($D138*INTRO!$E$48,0))","v":12988},{"$f":"IF(INTRO!$E$49=\"\",\"\",ROUND($D138*INTRO!$E$49,0))","v":29462},{"$f":"IF(INTRO!$E$50=\"\",\"\",ROUND($D138*INTRO!$E$50,0))","v":74197},99,1,2,2,{"$f":"IF(INTRO!$E$37=\"Endemic\",IF($H138>0,IF($H138=4,\"Unknown\",IF($H138=99,\"Stopped\",$D138)),0),\"Not required\")","v":"Stopped"},120255,{"$f":"IF(INTRO!$E$41=\"Endemic\", IF(AND($J138>1,$J138<5), IF($J138=4, \"Unknown\", E138+F138), 0),\"Not required\")","v":42450},{"$f":"IF(INTRO!$E$43=\"Endemic\", IF(AND($K138>0,$K138<5), IF($K138=4,\"Unknown\", IF($K138=1, $F138*0.33, IF($K138=2, $F138*0.5+$G138*0.2, SUM(F138:G138)))), 0),\"Not required\")","v":29570.400000000001},0,1,1,1,null,null,null,null,21516,"Nanumba South"]
[{"$f":"IF(INTRO!$E$33<>0,INTRO!$E$33, \" \")","v":"Ghana"},"Northern","Saboba",84540,{"$f":"IF(INTRO!$E$48=\"\",\"\",ROUND($D139*INTRO!$E$48,0))","v":9130},{"$f":"IF(INTRO!$E$49=\"\",\"\",ROUND($D139*INTRO!$E$49,0))","v":20712},{"$f":"IF(INTRO!$E$50=\"\",\"\",ROUND($D139*INTRO!$E$50,0))","v":52161},99,0,2,1,{"$f":"IF(INTRO!$E$37=\"Endemic\",IF($H139>0,IF($H139=4,\"Unknown\",IF($H139=99,\"Stopped\",$D139)),0),\"Not required\")","v":"Stopped"},0,{"$f":"IF(INTRO!$E$41=\"Endemic\", IF(AND($J139>1,$J139<5), IF($J139=4, \"Unknown\", E139+F139), 0),\"Not required\")","v":29842},{"$f":"IF(INTRO!$E$43=\"Endemic\", IF(AND($K139>0,$K139<5), IF($K139=4,\"Unknown\", IF($K139=1, $F139*0.33, IF($K139=2, $F139*0.5+$G139*0.2, SUM(F139:G139)))), 0),\"Not required\")","v":6834.96},0,0,1,1,null,null,null,null,21518,"Saboba"]
[{"$f":"IF(INTRO!$E$33<>0,INTRO!$E$33, \" \")","v":"Ghana"},"Northern","Savelugu-Nanton",179207,{"$f":"IF(INTRO!$E$48=\"\",\"\",ROUND($D140*INTRO!$E$48,0))","v":19354},{"$f":"IF(INTRO!$E$49=\"\",\"\",ROUND($D140*INTRO!$E$49,0))","v":43906},{"$f":"IF(INTRO!$E$50=\"\",\"\",ROUND($D140*INTRO!$E$50,0))","v":110571},99,1,2,1,{"$f":"IF(INTRO!$E$37=\"Endemic\",IF($H140>0,IF($H140=4,\"Unknown\",IF($H140=99,\"Stopped\",$D140)),0),\"Not required\")","v":"Stopped"},48386,{"$f":"IF(INTRO!$E$41=\"Endemic\", IF(AND($J140>1,$J140<5), IF($J140=4, \"Unknown\", E140+F140), 0),\"Not required\")","v":63260},{"$f":"IF(INTRO!$E$43=\"Endemic\", IF(AND($K140>0,$K140<5), IF($K140=4,\"Unknown\", IF($K140=1, $F140*0.33, IF($K140=2, $F140*0.5+$G140*0.2, SUM(F140:G140)))), 0),\"Not required\")","v":14488.980000000001},0,2,1,1,null,null,null,null,21520,"Savelugu-Nanton"]
[{"$f":"IF(INTRO!$E$33<>0,INTRO!$E$33, \" \")","v":"Ghana"},"Northern","Sawla-Tuna-Kalba",128488,{"$f":"IF(INTRO!$E$48=\"\",\"\",ROUND($D141*INTRO!$E$48,0))","v":13877},{"$f":"IF(INTRO!$E$49=\"\",\"\",ROUND($D141*INTRO!$E$49,0))","v":31480},{"$f":"IF(INTRO!$E$50=\"\",\"\",ROUND($D141*INTRO!$E$50,0))","v":79277},1,1,2,1,{"$f":"IF(INTRO!$E$37=\"Endemic\",IF($H141>0,IF($H141=4,\"Unknown\",IF($H141=99,\"Stopped\",$D141)),0),\"Not required\")","v":128488},128488,{"$f":"IF(INTRO!$E$41=\"Endemic\", IF(AND($J141>1,$J141<5), IF($J141=4, \"Unknown\", E141+F141), 0),\"Not required\")","v":45357},{"$f":"IF(INTRO!$E$43=\"Endemic\", IF(AND($K141>0,$K141<5), IF($K141=4,\"Unknown\", IF($K141=1, $F141*0.33, IF($K141=2, $F141*0.5+$G141*0.2, SUM(F141:G141)))), 0),\"Not required\")","v":10388.4},1,1,1,1,null,null,null,null,21521,"Sawla-Tuna-Kalba"]
[{"$f":"IF(INTRO!$E$33<>0,INTRO!$E$33, \" \")","v":"Ghana"},"Northern","Tamale",287246,{"$f":"IF(INTRO!$E$48=\"\",\"\",ROUND($D142*INTRO!$E$48,0))","v":31023},{"$f":"IF(INTRO!$E$49=\"\",\"\",ROUND($D142*INTRO!$E$49,0))","v":70375},{"$f":"IF(INTRO!$E$50=\"\",\"\",ROUND($D142*INTRO!$E$50,0))","v":177231},99,0,2,1,{"$f":"IF(INTRO!$E$37=\"Endemic\",IF($H142>0,IF($H142=4,\"Unknown\",IF($H142=99,\"Stopped\",$D142)),0),\"Not required\")","v":"Stopped"},0,{"$f":"IF(INTRO!$E$41=\"Endemic\", IF(AND($J142>1,$J142<5), IF($J142=4, \"Unknown\", E142+F142), 0),\"Not required\")","v":101398},{"$f":"IF(INTRO!$E$43=\"Endemic\", IF(AND($K142>0,$K142<5), IF($K142=4,\"Unknown\", IF($K142=1, $F142*0.33, IF($K142=2, $F142*0.5+$G142*0.2, SUM(F142:G142)))), 0),\"Not required\")","v":23223.75},0,0,1,0,null,null,null,null,21523,"Tamale"]
[{"$f":"IF(INTRO!$E$33<>0,INTRO!$E$33, \" \")","v":"Ghana"},"Northern","Sagnarigu",190550,{"$f":"IF(INTRO!$E$48=\"\",\"\",ROUND($D143*INTRO!$E$48,0))","v":20579},{"$f":"IF(INTRO!$E$49=\"\",\"\",ROUND($D143*INTRO!$E$49,0))","v":46685},{"$f":"IF(INTRO!$E$50=\"\",\"\",ROUND($D143*INTRO!$E$50,0))","v":117569},99,0,2,1,{"$f":"IF(INTRO!$E$37=\"Endemic\",IF($H143>0,IF($H143=4,\"Unknown\",IF($H143=99,\"Stopped\",$D143)),0),\"Not required\")","v":"Stopped"},0,{"$f":"IF(INTRO!$E$41=\"Endemic\", IF(AND($J143>1,$J143<5), IF($J143=4, \"Unknown\", E143+F143), 0),\"Not required\")","v":67264},{"$f":"IF(INTRO!$E$43=\"Endemic\", IF(AND($K143>0,$K143<5), IF($K143=4,\"Unknown\", IF($K143=1, $F143*0.33, IF($K143=2, $F143*0.5+$G143*0.2, SUM(F143:G143)))), 0),\"Not required\")","v":15406.050000000001},0,0,1,1,null,null,null,null,21519,"Sagnarigu"]
[{"$f":"IF(INTRO!$E$33<>0,INTRO!$E$33, \" \")","v":"Ghana"},"Northern","Tolon",94489,{"$f":"IF(INTRO!$E$48=\"\",\"\",ROUND($D144*INTRO!$E$48,0))","v":10205},{"$f":"IF(INTRO!$E$49=\"\",\"\",ROUND($D144*INTRO!$E$49,0))","v":23150},{"$f":"IF(INTRO!$E$50=\"\",\"\",ROUND($D144*INTRO!$E$50,0))","v":58300},99,0,2,1,{"$f":"IF(INTRO!$E$37=\"Endemic\",IF($H144>0,IF($H144=4,\"Unknown\",IF($H144=99,\"Stopped\",$D144)),0),\"Not required\")","v":"Stopped"},0,{"$f":"IF(INTRO!$E$41=\"Endemic\", IF(AND($J144>1,$J144<5), IF($J144=4, \"Unknown\", E144+F144), 0),\"Not required\")","v":33355},{"$f":"IF(INTRO!$E$43=\"Endemic\", IF(AND($K144>0,$K144<5), IF($K144=4,\"Unknown\", IF($K144=1, $F144*0.33, IF($K144=2, $F144*0.5+$G144*0.2, SUM(F144:G144)))), 0),\"Not required\")","v":7639.5},0,0,1,1,null,null,null,null,21525,"Tolon"]
[{"$f":"IF(INTRO!$E$33<>0,INTRO!$E$33, \" \")","v":"Ghana"},"Northern","Kumbungu",50042,{"$f":"IF(INTRO!$E$48=\"\",\"\",ROUND($D145*INTRO!$E$48,0))","v":5405},{"$f":"IF(INTRO!$E$49=\"\",\"\",ROUND($D145*INTRO!$E$49,0))","v":12260},{"$f":"IF(INTRO!$E$50=\"\",\"\",ROUND($D145*INTRO!$E$50,0))","v":30876},99,1,2,1,{"$f":"IF(INTRO!$E$37=\"Endemic\",IF($H145>0,IF($H145=4,\"Unknown\",IF($H145=99,\"Stopped\",$D145)),0),\"Not required\")","v":"Stopped"},50042,{"$f":"IF(INTRO!$E$41=\"Endemic\", IF(AND($J145>1,$J145<5), IF($J145=4, \"Unknown\", E145+F145), 0),\"Not required\")","v":17665},{"$f":"IF(INTRO!$E$43=\"Endemic\", IF(AND($K145>0,$K145<5), IF($K145=4,\"Unknown\", IF($K145=1, $F145*0.33, IF($K145=2, $F145*0.5+$G145*0.2, SUM(F145:G145)))), 0),\"Not required\")","v":4045.8},0,2,1,1,null,null,null,null,21512,"Kumbungu"]
[{"$f":"IF(INTRO!$E$33<>0,INTRO!$E$33, \" \")","v":"Ghana"},"Northern","West Gonja",52984,{"$f":"IF(INTRO!$E$48=\"\",\"\",ROUND($D146*INTRO!$E$48,0))","v":5722},{"$f":"IF(INTRO!$E$49=\"\",\"\",ROUND($D146*INTRO!$E$49,0))","v":12981},{"$f":"IF(INTRO!$E$50=\"\",\"\",ROUND($D146*INTRO!$E$50,0))","v":32691},1,0,2,1,{"$f":"IF(INTRO!$E$37=\"Endemic\",IF($H146>0,IF($H146=4,\"Unknown\",IF($H146=99,\"Stopped\",$D146)),0),\"Not required\")","v":52984},0,{"$f":"IF(INTRO!$E$41=\"Endemic\", IF(AND($J146>1,$J146<5), IF($J146=4, \"Unknown\", E146+F146), 0),\"Not required\")","v":18703},{"$f":"IF(INTRO!$E$43=\"Endemic\", IF(AND($K146>0,$K146<5), IF($K146=4,\"Unknown\", IF($K146=1, $F146*0.33, IF($K146=2, $F146*0.5+$G146*0.2, SUM(F146:G146)))), 0),\"Not required\")","v":4283.7300000000005},1,0,1,1,null,null,null,null,21526,"West Gonja"]
[{"$f":"IF(INTRO!$E$33<>0,INTRO!$E$33, \" \")","v":"Ghana"},"Northern","North Gonja",56029,{"$f":"IF(INTRO!$E$48=\"\",\"\",ROUND($D147*INTRO!$E$48,0))","v":6051},{"$f":"IF(INTRO!$E$49=\"\",\"\",ROUND($D147*INTRO!$E$49,0))","v":13727},{"$f":"IF(INTRO!$E$50=\"\",\"\",ROUND($D147*INTRO!$E$50,0))","v":34570},1,1,2,1,{"$f":"IF(INTRO!$E$37=\"Endemic\",IF($H147>0,IF($H147=4,\"Unknown\",IF($H147=99,\"Stopped\",$D147)),0),\"Not required\")","v":56029},56029,{"$f":"IF(INTRO!$E$41=\"Endemic\", IF(AND($J147>1,$J147<5), IF($J147=4, \"Unknown\", E147+F147), 0),\"Not required\")","v":19778},{"$f":"IF(INTRO!$E$43=\"Endemic\", IF(AND($K147>0,$K147<5), IF($K147=4,\"Unknown\", IF($K147=1, $F147*0.33, IF($K147=2, $F147*0.5+$G147*0.2, SUM(F147:G147)))), 0),\"Not required\")","v":4529.91},1,2,1,1,null,null,null,null,21517,"North Gonja"]
[{"$f":"IF(INTRO!$E$33<>0,INTRO!$E$33, \" \")","v":"Ghana"},"Northern","West Mamprusi",155835,{"$f":"IF(INTRO!$E$48=\"\",\"\",ROUND($D148*INTRO!$E$48,0))","v":16830},{"$f":"IF(INTRO!$E$49=\"\",\"\",ROUND($D148*INTRO!$E$49,0))","v":38180},{"$f":"IF(INTRO!$E$50=\"\",\"\",ROUND($D148*INTRO!$E$50,0))","v":96150},99,0,2,2,{"$f":"IF(INTRO!$E$37=\"Endemic\",IF($H148>0,IF($H148=4,\"Unknown\",IF($H148=99,\"Stopped\",$D148)),0),\"Not required\")","v":"Stopped"},0,{"$f":"IF(INTRO!$E$41=\"Endemic\", IF(AND($J148>1,$J148<5), IF($J148=4, \"Unknown\", E148+F148), 0),\"Not required\")","v":55010},{"$f":"IF(INTRO!$E$43=\"Endemic\", IF(AND($K148>0,$K148<5), IF($K148=4,\"Unknown\", IF($K148=1, $F148*0.33, IF($K148=2, $F148*0.5+$G148*0.2, SUM(F148:G148)))), 0),\"Not required\")","v":38320},0,0,1,1,null,null,null,null,21527,"West Mamprusi"]
[{"$f":"IF(INTRO!$E$33<>0,INTRO!$E$33, \" \")","v":"Ghana"},"Northern","Mamprugo Moaduri",60336,{"$f":"IF(INTRO!$E$48=\"\",\"\",ROUND($D149*INTRO!$E$48,0))","v":6516},{"$f":"IF(INTRO!$E$49=\"\",\"\",ROUND($D149*INTRO!$E$49,0))","v":14782},{"$f":"IF(INTRO!$E$50=\"\",\"\",ROUND($D149*INTRO!$E$50,0))","v":37227},99,1,2,2,{"$f":"IF(INTRO!$E$37=\"Endemic\",IF($H149>0,IF($H149=4,\"Unknown\",IF($H149=99,\"Stopped\",$D149)),0),\"Not required\")","v":"Stopped"},60336,{"$f":"IF(INTRO!$E$41=\"Endemic\", IF(AND($J149>1,$J149<5), IF($J149=4, \"Unknown\", E149+F149), 0),\"Not required\")","v":21298},{"$f":"IF(INTRO!$E$43=\"Endemic\", IF(AND($K149>0,$K149<5), IF($K149=4,\"Unknown\", IF($K149=1, $F149*0.33, IF($K149=2, $F149*0.5+$G149*0.2, SUM(F149:G149)))), 0),\"Not required\")","v":14836.400000000001},0,2,1,1,null,null,null,null,21513,"Mamprugo Moaduri"]
[{"$f":"IF(INTRO!$E$33<>0,INTRO!$E$33, \" \")","v":"Ghana"},"Northern","Yendi",152159,{"$f":"IF(INTRO!$E$48=\"\",\"\",ROUND($D150*INTRO!$E$48,0))","v":16433},{"$f":"IF(INTRO!$E$49=\"\",\"\",ROUND($D150*INTRO!$E$49,0))","v":37279},{"$f":"IF(INTRO!$E$50=\"\",\"\",ROUND($D150*INTRO!$E$50,0))","v":93882},99,0,2,1,{"$f":"IF(INTRO!$E$37=\"Endemic\",IF($H150>0,IF($H150=4,\"Unknown\",IF($H150=99,\"Stopped\",$D150)),0),\"Not required\")","v":"Stopped"},0,{"$f":"IF(INTRO!$E$41=\"Endemic\", IF(AND($J150>1,$J150<5), IF($J150=4, \"Unknown\", E150+F150), 0),\"Not required\")","v":53712},{"$f":"IF(INTRO!$E$43=\"Endemic\", IF(AND($K150>0,$K150<5), IF($K150=4,\"Unknown\", IF($K150=1, $F150*0.33, IF($K150=2, $F150*0.5+$G150*0.2, SUM(F150:G150)))), 0),\"Not required\")","v":12302.07},0,0,1,1,null,null,null,null,21528,"Yendi"]
[{"$f":"IF(INTRO!$E$33<>0,INTRO!$E$33, \" \")","v":"Ghana"},"Northern","Mion",104645,{"$f":"IF(INTRO!$E$48=\"\",\"\",ROUND($D151*INTRO!$E$48,0))","v":11302},{"$f":"IF(INTRO!$E$49=\"\",\"\",ROUND($D151*INTRO!$E$49,0))","v":25638},{"$f":"IF(INTRO!$E$50=\"\",\"\",ROUND($D151*INTRO!$E$50,0))","v":64566},99,0,2,1,{"$f":"IF(INTRO!$E$37=\"Endemic\",IF($H151>0,IF($H151=4,\"Unknown\",IF($H151=99,\"Stopped\",$D151)),0),\"Not required\")","v":"Stopped"},0,{"$f":"IF(INTRO!$E$41=\"Endemic\", IF(AND($J151>1,$J151<5), IF($J151=4, \"Unknown\", E151+F151), 0),\"Not required\")","v":36940},{"$f":"IF(INTRO!$E$43=\"Endemic\", IF(AND($K151>0,$K151<5), IF($K151=4,\"Unknown\", IF($K151=1, $F151*0.33, IF($K151=2, $F151*0.5+$G151*0.2, SUM(F151:G151)))), 0),\"Not required\")","v":8460.5400000000009},0,0,1,1,null,null,null,null,21514,"Mion"]
[{"$f":"IF(INTRO!$E$33<>0,INTRO!$E$33, \" \")","v":"Ghana"},"Northern","Zabzugu",82962,{"$f":"IF(INTRO!$E$48=\"\",\"\",ROUND($D152*INTRO!$E$48,0))","v":8960},{"$f":"IF(INTRO!$E$49=\"\",\"\",ROUND($D152*INTRO!$E$49,0))","v":20326},{"$f":"IF(INTRO!$E$50=\"\",\"\",ROUND($D152*INTRO!$E$50,0))","v":51188},99,1,2,2,{"$f":"IF(INTRO!$E$37=\"Endemic\",IF($H152>0,IF($H152=4,\"Unknown\",IF($H152=99,\"Stopped\",$D152)),0),\"Not required\")","v":"Stopped"},82962,{"$f":"IF(INTRO!$E$41=\"Endemic\", IF(AND($J152>1,$J152<5), IF($J152=4, \"Unknown\", E152+F152), 0),\"Not required\")","v":29286},{"$f":"IF(INTRO!$E$43=\"Endemic\", IF(AND($K152>0,$K152<5), IF($K152=4,\"Unknown\", IF($K152=1, $F152*0.33, IF($K152=2, $F152*0.5+$G152*0.2, SUM(F152:G152)))), 0),\"Not required\")","v":20400.599999999999},0,2,1,1,null,null,null,null,21529,"Zabzugu"]
[{"$f":"IF(INTRO!$E$33<>0,INTRO!$E$33, \" \")","v":"Ghana"},"Northern","Tatale Sangule",76393,{"$f":"IF(INTRO!$E$48=\"\",\"\",ROUND($D153*INTRO!$E$48,0))","v":8250},{"$f":"IF(INTRO!$E$49=\"\",\"\",ROUND($D153*INTRO!$E$49,0))","v":18716},{"$f":"IF(INTRO!$E$50=\"\",\"\",ROUND($D153*INTRO!$E$50,0))","v":47134},99,0,2,2,{"$f":"IF(INTRO!$E$37=\"Endemic\",IF($H153>0,IF($H153=4,\"Unknown\",IF($H153=99,\"Stopped\",$D153)),0),\"Not required\")","v":"Stopped"},0,{"$f":"IF(INTRO!$E$41=\"Endemic\", IF(AND($J153>1,$J153<5), IF($J153=4, \"Unknown\", E153+F153), 0),\"Not required\")","v":26966},{"$f":"IF(INTRO!$E$43=\"Endemic\", IF(AND($K153>0,$K153<5), IF($K153=4,\"Unknown\", IF($K153=1, $F153*0.33, IF($K153=2, $F153*0.5+$G153*0.2, SUM(F153:G153)))), 0),\"Not required\")","v":18784.800000000003},0,0,1,1,null,null,null,null,21524,"Tatale Sangule"]
[{"$f":"IF(INTRO!$E$33<>0,INTRO!$E$33, \" \")","v":"Ghana"},"Upper East","Bawku Municipal",110964,{"$f":"IF(INTRO!$E$48=\"\",\"\",ROUND($D154*INTRO!$E$48,0))","v":11984},{"$f":"IF(INTRO!$E$49=\"\",\"\",ROUND($D154*INTRO!$E$49,0))","v":27186},{"$f":"IF(INTRO!$E$50=\"\",\"\",ROUND($D154*INTRO!$E$50,0))","v":68465},99,0,2,2,{"$f":"IF(INTRO!$E$37=\"Endemic\",IF($H154>0,IF($H154=4,\"Unknown\",IF($H154=99,\"Stopped\",$D154)),0),\"Not required\")","v":"Stopped"},0,{"$f":"IF(INTRO!$E$41=\"Endemic\", IF(AND($J154>1,$J154<5), IF($J154=4, \"Unknown\", E154+F154), 0),\"Not required\")","v":39170},{"$f":"IF(INTRO!$E$43=\"Endemic\", IF(AND($K154>0,$K154<5), IF($K154=4,\"Unknown\", IF($K154=1, $F154*0.33, IF($K154=2, $F154*0.5+$G154*0.2, SUM(F154:G154)))), 0),\"Not required\")","v":27286},0,0,1,1,null,null,null,null,21530,"Bawku Municipal"]
[{"$f":"IF(INTRO!$E$33<>0,INTRO!$E$33, \" \")","v":"Ghana"},"Upper East","Pusiga",64951,{"$f":"IF(INTRO!$E$48=\"\",\"\",ROUND($D155*INTRO!$E$48,0))","v":7015},{"$f":"IF(INTRO!$E$49=\"\",\"\",ROUND($D155*INTRO!$E$49,0))","v":15913},{"$f":"IF(INTRO!$E$50=\"\",\"\",ROUND($D155*INTRO!$E$50,0))","v":40075},99,0,2,2,{"$f":"IF(INTRO!$E$37=\"Endemic\",IF($H155>0,IF($H155=4,\"Unknown\",IF($H155=99,\"Stopped\",$D155)),0),\"Not required\")","v":"Stopped"},0,{"$f":"IF(INTRO!$E$41=\"Endemic\", IF(AND($J155>1,$J155<5), IF($J155=4, \"Unknown\", E155+F155), 0),\"Not required\")","v":22928},{"$f":"IF(INTRO!$E$43=\"Endemic\", IF(AND($K155>0,$K155<5), IF($K155=4,\"Unknown\", IF($K155=1, $F155*0.33, IF($K155=2, $F155*0.5+$G155*0.2, SUM(F155:G155)))), 0),\"Not required\")","v":15971.5},0,0,1,1,null,null,null,null,21542,"Pusiga"]
[{"$f":"IF(INTRO!$E$33<>0,INTRO!$E$33, \" \")","v":"Ghana"},"Upper East","Binduri",69341,{"$f":"IF(INTRO!$E$48=\"\",\"\",ROUND($D156*INTRO!$E$48,0))","v":7489},{"$f":"IF(INTRO!$E$49=\"\",\"\",ROUND($D156*INTRO!$E$49,0))","v":16989},{"$f":"IF(INTRO!$E$50=\"\",\"\",ROUND($D156*INTRO!$E$50,0))","v":42783},99,0,2,2,{"$f":"IF(INTRO!$E$37=\"Endemic\",IF($H156>0,IF($H156=4,\"Unknown\",IF($H156=99,\"Stopped\",$D156)),0),\"Not required\")","v":"Stopped"},0,{"$f":"IF(INTRO!$E$41=\"Endemic\", IF(AND($J156>1,$J156<5), IF($J156=4, \"Unknown\", E156+F156), 0),\"Not required\")","v":24478},{"$f":"IF(INTRO!$E$43=\"Endemic\", IF(AND($K156>0,$K156<5), IF($K156=4,\"Unknown\", IF($K156=1, $F156*0.33, IF($K156=2, $F156*0.5+$G156*0.2, SUM(F156:G156)))), 0),\"Not required\")","v":17051.099999999999},0,0,1,1,null,null,null,null,21532,"Binduri"]
[{"$f":"IF(INTRO!$E$33<>0,INTRO!$E$33, \" \")","v":"Ghana"},"Upper East","Bawku West",105893,{"$f":"IF(INTRO!$E$48=\"\",\"\",ROUND($D157*INTRO!$E$48,0))","v":11436},{"$f":"IF(INTRO!$E$49=\"\",\"\",ROUND($D157*INTRO!$E$49,0))","v":25944},{"$f":"IF(INTRO!$E$50=\"\",\"\",ROUND($D157*INTRO!$E$50,0))","v":65336},99,1,2,2,{"$f":"IF(INTRO!$E$37=\"Endemic\",IF($H157>0,IF($H157=4,\"Unknown\",IF($H157=99,\"Stopped\",$D157)),0),\"Not required\")","v":"Stopped"},105893,{"$f":"IF(INTRO!$E$41=\"Endemic\", IF(AND($J157>1,$J157<5), IF($J157=4, \"Unknown\", E157+F157), 0),\"Not required\")","v":37380},{"$f":"IF(INTRO!$E$43=\"Endemic\", IF(AND($K157>0,$K157<5), IF($K157=4,\"Unknown\", IF($K157=1, $F157*0.33, IF($K157=2, $F157*0.5+$G157*0.2, SUM(F157:G157)))), 0),\"Not required\")","v":26039.200000000001},0,2,1,1,null,null,null,null,21531,"Bawku West"]
[{"$f":"IF(INTRO!$E$33<>0,INTRO!$E$33, \" \")","v":"Ghana"},"Upper East","Bolgatanga Municipal",148139,{"$f":"IF(INTRO!$E$48=\"\",\"\",ROUND($D158*INTRO!$E$48,0))","v":15999},{"$f":"IF(INTRO!$E$49=\"\",\"\",ROUND($D158*INTRO!$E$49,0))","v":36294},{"$f":"IF(INTRO!$E$50=\"\",\"\",ROUND($D158*INTRO!$E$50,0))","v":91402},99,0,2,2,{"$f":"IF(INTRO!$E$37=\"Endemic\",IF($H158>0,IF($H158=4,\"Unknown\",IF($H158=99,\"Stopped\",$D158)),0),\"Not required\")","v":"Stopped"},0,{"$f":"IF(INTRO!$E$41=\"Endemic\", IF(AND($J158>1,$J158<5), IF($J158=4, \"Unknown\", E158+F158), 0),\"Not required\")","v":52293},{"$f":"IF(INTRO!$E$43=\"Endemic\", IF(AND($K158>0,$K158<5), IF($K158=4,\"Unknown\", IF($K158=1, $F158*0.33, IF($K158=2, $F158*0.5+$G158*0.2, SUM(F158:G158)))), 0),\"Not required\")","v":36427.4},0,0,1,0,null,null,null,null,21533,"Bolgatanga Municipal"]
[{"$f":"IF(INTRO!$E$33<>0,INTRO!$E$33, \" \")","v":"Ghana"},"Upper East","Bongo",95207,{"$f":"IF(INTRO!$E$48=\"\",\"\",ROUND($D159*INTRO!$E$48,0))","v":10282},{"$f":"IF(INTRO!$E$49=\"\",\"\",ROUND($D159*INTRO!$E$49,0))","v":23326},{"$f":"IF(INTRO!$E$50=\"\",\"\",ROUND($D159*INTRO!$E$50,0))","v":58743},99,0,2,3,{"$f":"IF(INTRO!$E$37=\"Endemic\",IF($H159>0,IF($H159=4,\"Unknown\",IF($H159=99,\"Stopped\",$D159)),0),\"Not required\")","v":"Stopped"},0,{"$f":"IF(INTRO!$E$41=\"Endemic\", IF(AND($J159>1,$J159<5), IF($J159=4, \"Unknown\", E159+F159), 0),\"Not required\")","v":33608},{"$f":"IF(INTRO!$E$43=\"Endemic\", IF(AND($K159>0,$K159<5), IF($K159=4,\"Unknown\", IF($K159=1, $F159*0.33, IF($K159=2, $F159*0.5+$G159*0.2, SUM(F159:G159)))), 0),\"Not required\")","v":82069},0,0,1,1,null,null,null,null,21534,"Bongo"]
[{"$f":"IF(INTRO!$E$33<>0,INTRO!$E$33, \" \")","v":"Ghana"},"Upper East","Builsa North",63599,{"$f":"IF(INTRO!$E$48=\"\",\"\",ROUND($D160*INTRO!$E$48,0))","v":6869},{"$f":"IF(INTRO!$E$49=\"\",\"\",ROUND($D160*INTRO!$E$49,0))","v":15582},{"$f":"IF(INTRO!$E$50=\"\",\"\",ROUND($D160*INTRO!$E$50,0))","v":39241},99,1,2,2,{"$f":"IF(INTRO!$E$37=\"Endemic\",IF($H160>0,IF($H160=4,\"Unknown\",IF($H160=99,\"Stopped\",$D160)),0),\"Not required\")","v":"Stopped"},63599,{"$f":"IF(INTRO!$E$41=\"Endemic\", IF(AND($J160>1,$J160<5), IF($J160=4, \"Unknown\", E160+F160), 0),\"Not required\")","v":22451},{"$f":"IF(INTRO!$E$43=\"Endemic\", IF(AND($K160>0,$K160<5), IF($K160=4,\"Unknown\", IF($K160=1, $F160*0.33, IF($K160=2, $F160*0.5+$G160*0.2, SUM(F160:G160)))), 0),\"Not required\")","v":15639.2},0,2,1,1,null,null,null,null,21536,"Builsa North"]
[{"$f":"IF(INTRO!$E$33<>0,INTRO!$E$33, \" \")","v":"Ghana"},"Upper East","Builsa South",41118,{"$f":"IF(INTRO!$E$48=\"\",\"\",ROUND($D161*INTRO!$E$48,0))","v":4441},{"$f":"IF(INTRO!$E$49=\"\",\"\",ROUND($D161*INTRO!$E$49,0))","v":10074},{"$f":"IF(INTRO!$E$50=\"\",\"\",ROUND($D161*INTRO!$E$50,0))","v":25370},99,1,2,2,{"$f":"IF(INTRO!$E$37=\"Endemic\",IF($H161>0,IF($H161=4,\"Unknown\",IF($H161=99,\"Stopped\",$D161)),0),\"Not required\")","v":"Stopped"},41118,{"$f":"IF(INTRO!$E$41=\"Endemic\", IF(AND($J161>1,$J161<5), IF($J161=4, \"Unknown\", E161+F161), 0),\"Not required\")","v":14515},{"$f":"IF(INTRO!$E$43=\"Endemic\", IF(AND($K161>0,$K161<5), IF($K161=4,\"Unknown\", IF($K161=1, $F161*0.33, IF($K161=2, $F161*0.5+$G161*0.2, SUM(F161:G161)))), 0),\"Not required\")","v":10111},0,1,1,1,null,null,null,null,21537,"Builsa South"]
[{"$f":"IF(INTRO!$E$33<>0,INTRO!$E$33, \" \")","v":"Ghana"},"Upper East","Garu-Tempane",146397,{"$f":"IF(INTRO!$E$48=\"\",\"\",ROUND($D162*INTRO!$E$48,0))","v":15811},{"$f":"IF(INTRO!$E$49=\"\",\"\",ROUND($D162*INTRO!$E$49,0))","v":35867},{"$f":"IF(INTRO!$E$50=\"\",\"\",ROUND($D162*INTRO!$E$50,0))","v":90327},99,1,2,2,{"$f":"IF(INTRO!$E$37=\"Endemic\",IF($H162>0,IF($H162=4,\"Unknown\",IF($H162=99,\"Stopped\",$D162)),0),\"Not required\")","v":"Stopped"},146397,{"$f":"IF(INTRO!$E$41=\"Endemic\", IF(AND($J162>1,$J162<5), IF($J162=4, \"Unknown\", E162+F162), 0),\"Not required\")","v":51678},{"$f":"IF(INTRO!$E$43=\"Endemic\", IF(AND($K162>0,$K162<5), IF($K162=4,\"Unknown\", IF($K162=1, $F162*0.33, IF($K162=2, $F162*0.5+$G162*0.2, SUM(F162:G162)))), 0),\"Not required\")","v":35998.9},0,2,1,1,null,null,null,null,21538,"Garu-Tempane"]
[{"$f":"IF(INTRO!$E$33<>0,INTRO!$E$33, \" \")","v":"Ghana"},"Upper East","Kassena-Nankana",123808,{"$f":"IF(INTRO!$E$48=\"\",\"\",ROUND($D163*INTRO!$E$48,0))","v":13371},{"$f":"IF(INTRO!$E$49=\"\",\"\",ROUND($D163*INTRO!$E$49,0))","v":30333},{"$f":"IF(INTRO!$E$50=\"\",\"\",ROUND($D163*INTRO!$E$50,0))","v":76390},99,0,2,3,{"$f":"IF(INTRO!$E$37=\"Endemic\",IF($H163>0,IF($H163=4,\"Unknown\",IF($H163=99,\"Stopped\",$D163)),0),\"Not required\")","v":"Stopped"},0,{"$f":"IF(INTRO!$E$41=\"Endemic\", IF(AND($J163>1,$J163<5), IF($J163=4, \"Unknown\", E163+F163), 0),\"Not required\")","v":43704},{"$f":"IF(INTRO!$E$43=\"Endemic\", IF(AND($K163>0,$K163<5), IF($K163=4,\"Unknown\", IF($K163=1, $F163*0.33, IF($K163=2, $F163*0.5+$G163*0.2, SUM(F163:G163)))), 0),\"Not required\")","v":106723},0,0,1,1,null,null,null,null,21539,"Kassena-Nankana"]
[{"$f":"IF(INTRO!$E$33<>0,INTRO!$E$33, \" \")","v":"Ghana"},"Upper East","Kassena-Nankana West",79579,{"$f":"IF(INTRO!$E$48=\"\",\"\",ROUND($D164*INTRO!$E$48,0))","v":8595},{"$f":"IF(INTRO!$E$49=\"\",\"\",ROUND($D164*INTRO!$E$49,0))","v":19497},{"$f":"IF(INTRO!$E$50=\"\",\"\",ROUND($D164*INTRO!$E$50,0))","v":49100},1,1,2,3,{"$f":"IF(INTRO!$E$37=\"Endemic\",IF($H164>0,IF($H164=4,\"Unknown\",IF($H164=99,\"Stopped\",$D164)),0),\"Not required\")","v":79579},79579,{"$f":"IF(INTRO!$E$41=\"Endemic\", IF(AND($J164>1,$J164<5), IF($J164=4, \"Unknown\", E164+F164), 0),\"Not required\")","v":28092},{"$f":"IF(INTRO!$E$43=\"Endemic\", IF(AND($K164>0,$K164<5), IF($K164=4,\"Unknown\", IF($K164=1, $F164*0.33, IF($K164=2, $F164*0.5+$G164*0.2, SUM(F164:G164)))), 0),\"Not required\")","v":68597},1,1,1,1,null,null,null,null,21540,"Kassena-Nankana West"]
[{"$f":"IF(INTRO!$E$33<>0,INTRO!$E$33, \" \")","v":"Ghana"},"Upper East","Nadbam",38091,{"$f":"IF(INTRO!$E$48=\"\",\"\",ROUND($D165*INTRO!$E$48,0))","v":4114},{"$f":"IF(INTRO!$E$49=\"\",\"\",ROUND($D165*INTRO!$E$49,0))","v":9332},{"$f":"IF(INTRO!$E$50=\"\",\"\",ROUND($D165*INTRO!$E$50,0))","v":23502},1,0,2,2,{"$f":"IF(INTRO!$E$37=\"Endemic\",IF($H165>0,IF($H165=4,\"Unknown\",IF($H165=99,\"Stopped\",$D165)),0),\"Not required\")","v":38091},0,{"$f":"IF(INTRO!$E$41=\"Endemic\", IF(AND($J165>1,$J165<5), IF($J165=4, \"Unknown\", E165+F165), 0),\"Not required\")","v":13446},{"$f":"IF(INTRO!$E$43=\"Endemic\", IF(AND($K165>0,$K165<5), IF($K165=4,\"Unknown\", IF($K165=1, $F165*0.33, IF($K165=2, $F165*0.5+$G165*0.2, SUM(F165:G165)))), 0),\"Not required\")","v":9366.4000000000015},1,0,1,1,null,null,null,null,21541,"Nadbam"]
[{"$f":"IF(INTRO!$E$33<>0,INTRO!$E$33, \" \")","v":"Ghana"},"Upper East","Talensi",91433,{"$f":"IF(INTRO!$E$48=\"\",\"\",ROUND($D166*INTRO!$E$48,0))","v":9875},{"$f":"IF(INTRO!$E$49=\"\",\"\",ROUND($D166*INTRO!$E$49,0))","v":22401},{"$f":"IF(INTRO!$E$50=\"\",\"\",ROUND($D166*INTRO!$E$50,0))","v":56414},99,0,2,2,{"$f":"IF(INTRO!$E$37=\"Endemic\",IF($H166>0,IF($H166=4,\"Unknown\",IF($H166=99,\"Stopped\",$D166)),0),\"Not required\")","v":"Stopped"},0,{"$f":"IF(INTRO!$E$41=\"Endemic\", IF(AND($J166>1,$J166<5), IF($J166=4, \"Unknown\", E166+F166), 0),\"Not required\")","v":32276},{"$f":"IF(INTRO!$E$43=\"Endemic\", IF(AND($K166>0,$K166<5), IF($K166=4,\"Unknown\", IF($K166=1, $F166*0.33, IF($K166=2, $F166*0.5+$G166*0.2, SUM(F166:G166)))), 0),\"Not required\")","v":22483.300000000003},0,0,1,1,null,null,null,null,21543,"Talensi"]
[{"$f":"IF(INTRO!$E$33<>0,INTRO!$E$33, \" \")","v":"Ghana"},"Upper West","Jirapa",105193,{"$f":"IF(INTRO!$E$48=\"\",\"\",ROUND($D167*INTRO!$E$48,0))","v":11361},{"$f":"IF(INTRO!$E$49=\"\",\"\",ROUND($D167*INTRO!$E$49,0))","v":25772},{"$f":"IF(INTRO!$E$50=\"\",\"\",ROUND($D167*INTRO!$E$50,0))","v":64904},1,1,2,2,{"$f":"IF(INTRO!$E$37=\"Endemic\",IF($H167>0,IF($H167=4,\"Unknown\",IF($H167=99,\"Stopped\",$D167)),0),\"Not required\")","v":105193},105193,{"$f":"IF(INTRO!$E$41=\"Endemic\", IF(AND($J167>1,$J167<5), IF($J167=4, \"Unknown\", E167+F167), 0),\"Not required\")","v":37133},{"$f":"IF(INTRO!$E$43=\"Endemic\", IF(AND($K167>0,$K167<5), IF($K167=4,\"Unknown\", IF($K167=1, $F167*0.33, IF($K167=2, $F167*0.5+$G167*0.2, SUM(F167:G167)))), 0),\"Not required\")","v":25866.800000000003},1,2,1,1,null,null,null,null,21545,"Jirapa"]
[{"$f":"IF(INTRO!$E$33<>0,INTRO!$E$33, \" \")","v":"Ghana"},"Upper West","Lambussie",61466,{"$f":"IF(INTRO!$E$48=\"\",\"\",ROUND($D168*INTRO!$E$48,0))","v":6638},{"$f":"IF(INTRO!$E$49=\"\",\"\",ROUND($D168*INTRO!$E$49,0))","v":15059},{"$f":"IF(INTRO!$E$50=\"\",\"\",ROUND($D168*INTRO!$E$50,0))","v":37925},99,1,2,2,{"$f":"IF(INTRO!$E$37=\"Endemic\",IF($H168>0,IF($H168=4,\"Unknown\",IF($H168=99,\"Stopped\",$D168)),0),\"Not required\")","v":"Stopped"},61466,{"$f":"IF(INTRO!$E$41=\"Endemic\", IF(AND($J168>1,$J168<5), IF($J168=4, \"Unknown\", E168+F168), 0),\"Not required\")","v":21697},{"$f":"IF(INTRO!$E$43=\"Endemic\", IF(AND($K168>0,$K168<5), IF($K168=4,\"Unknown\", IF($K168=1, $F168*0.33, IF($K168=2, $F168*0.5+$G168*0.2, SUM(F168:G168)))), 0),\"Not required\")","v":15114.5},0,2,1,1,null,null,null,null,21546,"Lambussie"]
[{"$f":"IF(INTRO!$E$33<>0,INTRO!$E$33, \" \")","v":"Ghana"},"Upper West","Lawra",66200,{"$f":"IF(INTRO!$E$48=\"\",\"\",ROUND($D169*INTRO!$E$48,0))","v":7150},{"$f":"IF(INTRO!$E$49=\"\",\"\",ROUND($D169*INTRO!$E$49,0))","v":16219},{"$f":"IF(INTRO!$E$50=\"\",\"\",ROUND($D169*INTRO!$E$50,0))","v":40845},1,1,2,1,{"$f":"IF(INTRO!$E$37=\"Endemic\",IF($H169>0,IF($H169=4,\"Unknown\",IF($H169=99,\"Stopped\",$D169)),0),\"Not required\")","v":66200},66200,{"$f":"IF(INTRO!$E$41=\"Endemic\", IF(AND($J169>1,$J169<5), IF($J169=4, \"Unknown\", E169+F169), 0),\"Not required\")","v":23369},{"$f":"IF(INTRO!$E$43=\"Endemic\", IF(AND($K169>0,$K169<5), IF($K169=4,\"Unknown\", IF($K169=1, $F169*0.33, IF($K169=2, $F169*0.5+$G169*0.2, SUM(F169:G169)))), 0),\"Not required\")","v":5352.27},1,2,1,1,null,null,null,null,21547,"Lawra"]
[{"$f":"IF(INTRO!$E$33<>0,INTRO!$E$33, \" \")","v":"Ghana"},"Upper West","Nandom",53900,{"$f":"IF(INTRO!$E$48=\"\",\"\",ROUND($D170*INTRO!$E$48,0))","v":5821},{"$f":"IF(INTRO!$E$49=\"\",\"\",ROUND($D170*INTRO!$E$49,0))","v":13206},{"$f":"IF(INTRO!$E$50=\"\",\"\",ROUND($D170*INTRO!$E$50,0))","v":33256},99,1,2,1,{"$f":"IF(INTRO!$E$37=\"Endemic\",IF($H170>0,IF($H170=4,\"Unknown\",IF($H170=99,\"Stopped\",$D170)),0),\"Not required\")","v":"Stopped"},53900,{"$f":"IF(INTRO!$E$41=\"Endemic\", IF(AND($J170>1,$J170<5), IF($J170=4, \"Unknown\", E170+F170), 0),\"Not required\")","v":19027},{"$f":"IF(INTRO!$E$43=\"Endemic\", IF(AND($K170>0,$K170<5), IF($K170=4,\"Unknown\", IF($K170=1, $F170*0.33, IF($K170=2, $F170*0.5+$G170*0.2, SUM(F170:G170)))), 0),\"Not required\")","v":4357.9800000000005},0,2,1,1,null,null,null,null,21549,"Nandom"]
[{"$f":"IF(INTRO!$E$33<>0,INTRO!$E$33, \" \")","v":"Ghana"},"Upper West","Nadowli",73544,{"$f":"IF(INTRO!$E$48=\"\",\"\",ROUND($D171*INTRO!$E$48,0))","v":7943},{"$f":"IF(INTRO!$E$49=\"\",\"\",ROUND($D171*INTRO!$E$49,0))","v":18018},{"$f":"IF(INTRO!$E$50=\"\",\"\",ROUND($D171*INTRO!$E$50,0))","v":45377},99,1,2,2,{"$f":"IF(INTRO!$E$37=\"Endemic\",IF($H171>0,IF($H171=4,\"Unknown\",IF($H171=99,\"Stopped\",$D171)),0),\"Not required\")","v":"Stopped"},73544,{"$f":"IF(INTRO!$E$41=\"Endemic\", IF(AND($J171>1,$J171<5), IF($J171=4, \"Unknown\", E171+F171), 0),\"Not required\")","v":25961},{"$f":"IF(INTRO!$E$43=\"Endemic\", IF(AND($K171>0,$K171<5), IF($K171=4,\"Unknown\", IF($K171=1, $F171*0.33, IF($K171=2, $F171*0.5+$G171*0.2, SUM(F171:G171)))), 0),\"Not required\")","v":18084.400000000001},0,2,1,1,null,null,null,null,21548,"Nadowli"]
[{"$f":"IF(INTRO!$E$33<>0,INTRO!$E$33, \" \")","v":"Ghana"},"Upper West","Daffiama Bussie Issa",38773,{"$f":"IF(INTRO!$E$48=\"\",\"\",ROUND($D172*INTRO!$E$48,0))","v":4187},{"$f":"IF(INTRO!$E$49=\"\",\"\",ROUND($D172*INTRO!$E$49,0))","v":9499},{"$f":"IF(INTRO!$E$50=\"\",\"\",ROUND($D172*INTRO!$E$50,0))","v":23923},99,1,2,2,{"$f":"IF(INTRO!$E$37=\"Endemic\",IF($H172>0,IF($H172=4,\"Unknown\",IF($H172=99,\"Stopped\",$D172)),0),\"Not required\")","v":"Stopped"},38773,{"$f":"IF(INTRO!$E$41=\"Endemic\", IF(AND($J172>1,$J172<5), IF($J172=4, \"Unknown\", E172+F172), 0),\"Not required\")","v":13686},{"$f":"IF(INTRO!$E$43=\"Endemic\", IF(AND($K172>0,$K172<5), IF($K172=4,\"Unknown\", IF($K172=1, $F172*0.33, IF($K172=2, $F172*0.5+$G172*0.2, SUM(F172:G172)))), 0),\"Not required\")","v":9534.1},0,2,1,1,null,null,null,null,21544,"Daffiama Bussie Issa"]
[{"$f":"IF(INTRO!$E$33<>0,INTRO!$E$33, \" \")","v":"Ghana"},"Upper West","Sissala East",67265,{"$f":"IF(INTRO!$E$48=\"\",\"\",ROUND($D173*INTRO!$E$48,0))","v":7265},{"$f":"IF(INTRO!$E$49=\"\",\"\",ROUND($D173*INTRO!$E$49,0))","v":16480},{"$f":"IF(INTRO!$E$50=\"\",\"\",ROUND($D173*INTRO!$E$50,0))","v":41503},99,1,2,2,{"$f":"IF(INTRO!$E$37=\"Endemic\",IF($H173>0,IF($H173=4,\"Unknown\",IF($H173=99,\"Stopped\",$D173)),0),\"Not required\")","v":"Stopped"},67265,{"$f":"IF(INTRO!$E$41=\"Endemic\", IF(AND($J173>1,$J173<5), IF($J173=4, \"Unknown\", E173+F173), 0),\"Not required\")","v":23745},{"$f":"IF(INTRO!$E$43=\"Endemic\", IF(AND($K173>0,$K173<5), IF($K173=4,\"Unknown\", IF($K173=1, $F173*0.33, IF($K173=2, $F173*0.5+$G173*0.2, SUM(F173:G173)))), 0),\"Not required\")","v":16540.599999999999},0,2,1,1,null,null,null,null,21550,"Sissala East"]
[{"$f":"IF(INTRO!$E$33<>0,INTRO!$E$33, \" \")","v":"Ghana"},"Upper West","Sissala West",58989,{"$f":"IF(INTRO!$E$48=\"\",\"\",ROUND($D174*INTRO!$E$48,0))","v":6371},{"$f":"IF(INTRO!$E$49=\"\",\"\",ROUND($D174*INTRO!$E$49,0))","v":14452},{"$f":"IF(INTRO!$E$50=\"\",\"\",ROUND($D174*INTRO!$E$50,0))","v":36396},99,1,2,3,{"$f":"IF(INTRO!$E$37=\"Endemic\",IF($H174>0,IF($H174=4,\"Unknown\",IF($H174=99,\"Stopped\",$D174)),0),\"Not required\")","v":"Stopped"},58989,{"$f":"IF(INTRO!$E$41=\"Endemic\", IF(AND($J174>1,$J174<5), IF($J174=4, \"Unknown\", E174+F174), 0),\"Not required\")","v":20823},{"$f":"IF(INTRO!$E$43=\"Endemic\", IF(AND($K174>0,$K174<5), IF($K174=4,\"Unknown\", IF($K174=1, $F174*0.33, IF($K174=2, $F174*0.5+$G174*0.2, SUM(F174:G174)))), 0),\"Not required\")","v":50848},0,0,1,1,null,null,null,null,21551,"Sissala West"]
[{"$f":"IF(INTRO!$E$33<>0,INTRO!$E$33, \" \")","v":"Ghana"},"Upper West","Wa East",85765,{"$f":"IF(INTRO!$E$48=\"\",\"\",ROUND($D175*INTRO!$E$48,0))","v":9263},{"$f":"IF(INTRO!$E$49=\"\",\"\",ROUND($D175*INTRO!$E$49,0))","v":21012},{"$f":"IF(INTRO!$E$50=\"\",\"\",ROUND($D175*INTRO!$E$50,0))","v":52917},1,1,2,1,{"$f":"IF(INTRO!$E$37=\"Endemic\",IF($H175>0,IF($H175=4,\"Unknown\",IF($H175=99,\"Stopped\",$D175)),0),\"Not required\")","v":85765},85765,{"$f":"IF(INTRO!$E$41=\"Endemic\", IF(AND($J175>1,$J175<5), IF($J175=4, \"Unknown\", E175+F175), 0),\"Not required\")","v":30275},{"$f":"IF(INTRO!$E$43=\"Endemic\", IF(AND($K175>0,$K175<5), IF($K175=4,\"Unknown\", IF($K175=1, $F175*0.33, IF($K175=2, $F175*0.5+$G175*0.2, SUM(F175:G175)))), 0),\"Not required\")","v":6933.96},1,2,1,1,null,null,null,null,21552,"Wa East"]
[{"$f":"IF(INTRO!$E$33<>0,INTRO!$E$33, \" \")","v":"Ghana"},"Upper West","Wa Municipal",127579,{"$f":"IF(INTRO!$E$48=\"\",\"\",ROUND($D176*INTRO!$E$48,0))","v":13779},{"$f":"IF(INTRO!$E$49=\"\",\"\",ROUND($D176*INTRO!$E$49,0))","v":31257},{"$f":"IF(INTRO!$E$50=\"\",\"\",ROUND($D176*INTRO!$E$50,0))","v":78716},99,1,2,1,{"$f":"IF(INTRO!$E$37=\"Endemic\",IF($H176>0,IF($H176=4,\"Unknown\",IF($H176=99,\"Stopped\",$D176)),0),\"Not required\")","v":"Stopped"},127579,{"$f":"IF(INTRO!$E$41=\"Endemic\", IF(AND($J176>1,$J176<5), IF($J176=4, \"Unknown\", E176+F176), 0),\"Not required\")","v":45036},{"$f":"IF(INTRO!$E$43=\"Endemic\", IF(AND($K176>0,$K176<5), IF($K176=4,\"Unknown\", IF($K176=1, $F176*0.33, IF($K176=2, $F176*0.5+$G176*0.2, SUM(F176:G176)))), 0),\"Not required\")","v":10314.810000000001},0,0,1,1,null,null,null,null,21553,"Wa Municipal"]
[{"$f":"IF(INTRO!$E$33<>0,INTRO!$E$33, \" \")","v":"Ghana"},"Upper West","Wa West",96800,{"$f":"IF(INTRO!$E$48=\"\",\"\",ROUND($D177*INTRO!$E$48,0))","v":10454},{"$f":"IF(INTRO!$E$49=\"\",\"\",ROUND($D177*INTRO!$E$49,0))","v":23716},{"$f":"IF(INTRO!$E$50=\"\",\"\",ROUND($D177*INTRO!$E$50,0))","v":59726},1,1,2,1,{"$f":"IF(INTRO!$E$37=\"Endemic\",IF($H177>0,IF($H177=4,\"Unknown\",IF($H177=99,\"Stopped\",$D177)),0),\"Not required\")","v":96800},96800,{"$f":"IF(INTRO!$E$41=\"Endemic\", IF(AND($J177>1,$J177<5), IF($J177=4, \"Unknown\", E177+F177), 0),\"Not required\")","v":34170},{"$f":"IF(INTRO!$E$43=\"Endemic\", IF(AND($K177>0,$K177<5), IF($K177=4,\"Unknown\", IF($K177=1, $F177*0.33, IF($K177=2, $F177*0.5+$G177*0.2, SUM(F177:G177)))), 0),\"Not required\")","v":7826.2800000000007},1,2,1,1,null,null,null,null,21554,"Wa West"]
[{"$f":"IF(INTRO!$E$33<>0,INTRO!$E$33, \" \")","v":"Ghana"},"Volta","Agotime Ziope",42972,{"$f":"IF(INTRO!$E$48=\"\",\"\",ROUND($D178*INTRO!$E$48,0))","v":4641},{"$f":"IF(INTRO!$E$49=\"\",\"\",ROUND($D178*INTRO!$E$49,0))","v":10528},{"$f":"IF(INTRO!$E$50=\"\",\"\",ROUND($D178*INTRO!$E$50,0))","v":26514},0,1,2,2,{"$f":"IF(INTRO!$E$37=\"Endemic\",IF($H178>0,IF($H178=4,\"Unknown\",IF($H178=99,\"Stopped\",$D178)),0),\"Not required\")","v":0},42972,{"$f":"IF(INTRO!$E$41=\"Endemic\", IF(AND($J178>1,$J178<5), IF($J178=4, \"Unknown\", E178+F178), 0),\"Not required\")","v":15169},{"$f":"IF(INTRO!$E$43=\"Endemic\", IF(AND($K178>0,$K178<5), IF($K178=4,\"Unknown\", IF($K178=1, $F178*0.33, IF($K178=2, $F178*0.5+$G178*0.2, SUM(F178:G178)))), 0),\"Not required\")","v":10566.8},0,2,1,1,null,null,null,null,21557,"Agotime Ziope"]
[{"$f":"IF(INTRO!$E$33<>0,INTRO!$E$33, \" \")","v":"Ghana"},"Volta","Adaklu",37350,{"$f":"IF(INTRO!$E$48=\"\",\"\",ROUND($D179*INTRO!$E$48,0))","v":4034},{"$f":"IF(INTRO!$E$49=\"\",\"\",ROUND($D179*INTRO!$E$49,0))","v":9151},{"$f":"IF(INTRO!$E$50=\"\",\"\",ROUND($D179*INTRO!$E$50,0))","v":23045},0,1,2,2,{"$f":"IF(INTRO!$E$37=\"Endemic\",IF($H179>0,IF($H179=4,\"Unknown\",IF($H179=99,\"Stopped\",$D179)),0),\"Not required\")","v":0},37350,{"$f":"IF(INTRO!$E$41=\"Endemic\", IF(AND($J179>1,$J179<5), IF($J179=4, \"Unknown\", E179+F179), 0),\"Not required\")","v":13185},{"$f":"IF(INTRO!$E$43=\"Endemic\", IF(AND($K179>0,$K179<5), IF($K179=4,\"Unknown\", IF($K179=1, $F179*0.33, IF($K179=2, $F179*0.5+$G179*0.2, SUM(F179:G179)))), 0),\"Not required\")","v":9184.5},0,2,1,1,null,null,null,null,21555,"Adaklu"]
[{"$f":"IF(INTRO!$E$33<>0,INTRO!$E$33, \" \")","v":"Ghana"},"Volta","Akatsi",119012,{"$f":"IF(INTRO!$E$48=\"\",\"\",ROUND($D180*INTRO!$E$48,0))","v":12853},{"$f":"IF(INTRO!$E$49=\"\",\"\",ROUND($D180*INTRO!$E$49,0))","v":29158},{"$f":"IF(INTRO!$E$50=\"\",\"\",ROUND($D180*INTRO!$E$50,0))","v":73430},0,0,2,2,{"$f":"IF(INTRO!$E$37=\"Endemic\",IF($H180>0,IF($H180=4,\"Unknown\",IF($H180=99,\"Stopped\",$D180)),0),\"Not required\")","v":0},0,{"$f":"IF(INTRO!$E$41=\"Endemic\", IF(AND($J180>1,$J180<5), IF($J180=4, \"Unknown\", E180+F180), 0),\"Not required\")","v":42011},{"$f":"IF(INTRO!$E$43=\"Endemic\", IF(AND($K180>0,$K180<5), IF($K180=4,\"Unknown\", IF($K180=1, $F180*0.33, IF($K180=2, $F180*0.5+$G180*0.2, SUM(F180:G180)))), 0),\"Not required\")","v":29265},0,0,1,1,null,null,null,null,21558,"Akatsi"]
[{"$f":"IF(INTRO!$E$33<>0,INTRO!$E$33, \" \")","v":"Ghana"},"Volta","Akatsi North",41200,{"$f":"IF(INTRO!$E$48=\"\",\"\",ROUND($D181*INTRO!$E$48,0))","v":4450},{"$f":"IF(INTRO!$E$49=\"\",\"\",ROUND($D181*INTRO!$E$49,0))","v":10094},{"$f":"IF(INTRO!$E$50=\"\",\"\",ROUND($D181*INTRO!$E$50,0))","v":25420},0,0,2,2,{"$f":"IF(INTRO!$E$37=\"Endemic\",IF($H181>0,IF($H181=4,\"Unknown\",IF($H181=99,\"Stopped\",$D181)),0),\"Not required\")","v":0},0,{"$f":"IF(INTRO!$E$41=\"Endemic\", IF(AND($J181>1,$J181<5), IF($J181=4, \"Unknown\", E181+F181), 0),\"Not required\")","v":14544},{"$f":"IF(INTRO!$E$43=\"Endemic\", IF(AND($K181>0,$K181<5), IF($K181=4,\"Unknown\", IF($K181=1, $F181*0.33, IF($K181=2, $F181*0.5+$G181*0.2, SUM(F181:G181)))), 0),\"Not required\")","v":10131},0,0,1,1,null,null,null,null,21559,"Akatsi North"]
[{"$f":"IF(INTRO!$E$33<>0,INTRO!$E$33, \" \")","v":"Ghana"},"Volta","Biakoye",82189,{"$f":"IF(INTRO!$E$48=\"\",\"\",ROUND($D182*INTRO!$E$48,0))","v":8876},{"$f":"IF(INTRO!$E$49=\"\",\"\",ROUND($D182*INTRO!$E$49,0))","v":20136},{"$f":"IF(INTRO!$E$50=\"\",\"\",ROUND($D182*INTRO!$E$50,0))","v":50711},0,1,2,3,{"$f":"IF(INTRO!$E$37=\"Endemic\",IF($H182>0,IF($H182=4,\"Unknown\",IF($H182=99,\"Stopped\",$D182)),0),\"Not required\")","v":0},82189,{"$f":"IF(INTRO!$E$41=\"Endemic\", IF(AND($J182>1,$J182<5), IF($J182=4, \"Unknown\", E182+F182), 0),\"Not required\")","v":29012},{"$f":"IF(INTRO!$E$43=\"Endemic\", IF(AND($K182>0,$K182<5), IF($K182=4,\"Unknown\", IF($K182=1, $F182*0.33, IF($K182=2, $F182*0.5+$G182*0.2, SUM(F182:G182)))), 0),\"Not required\")","v":70847},0,1,1,1,null,null,null,null,21560,"Biakoye"]
[{"$f":"IF(INTRO!$E$33<>0,INTRO!$E$33, \" \")","v":"Ghana"},"Volta","Ho Municipal",221099,{"$f":"IF(INTRO!$E$48=\"\",\"\",ROUND($D183*INTRO!$E$48,0))","v":23879},{"$f":"IF(INTRO!$E$49=\"\",\"\",ROUND($D183*INTRO!$E$49,0))","v":54169},{"$f":"IF(INTRO!$E$50=\"\",\"\",ROUND($D183*INTRO!$E$50,0))","v":136418},0,1,2,2,{"$f":"IF(INTRO!$E$37=\"Endemic\",IF($H183>0,IF($H183=4,\"Unknown\",IF($H183=99,\"Stopped\",$D183)),0),\"Not required\")","v":0},221099,{"$f":"IF(INTRO!$E$41=\"Endemic\", IF(AND($J183>1,$J183<5), IF($J183=4, \"Unknown\", E183+F183), 0),\"Not required\")","v":78048},{"$f":"IF(INTRO!$E$43=\"Endemic\", IF(AND($K183>0,$K183<5), IF($K183=4,\"Unknown\", IF($K183=1, $F183*0.33, IF($K183=2, $F183*0.5+$G183*0.2, SUM(F183:G183)))), 0),\"Not required\")","v":54368.100000000006},0,2,1,1,null,null,null,null,21562,"Ho Municipal"]
[{"$f":"IF(INTRO!$E$33<>0,INTRO!$E$33, \" \")","v":"Ghana"},"Volta","Ho West",117983,{"$f":"IF(INTRO!$E$48=\"\",\"\",ROUND($D184*INTRO!$E$48,0))","v":12742},{"$f":"IF(INTRO!$E$49=\"\",\"\",ROUND($D184*INTRO!$E$49,0))","v":28906},{"$f":"IF(INTRO!$E$50=\"\",\"\",ROUND($D184*INTRO!$E$50,0))","v":72796},0,1,2,2,{"$f":"IF(INTRO!$E$37=\"Endemic\",IF($H184>0,IF($H184=4,\"Unknown\",IF($H184=99,\"Stopped\",$D184)),0),\"Not required\")","v":0},117983,{"$f":"IF(INTRO!$E$41=\"Endemic\", IF(AND($J184>1,$J184<5), IF($J184=4, \"Unknown\", E184+F184), 0),\"Not required\")","v":41648},{"$f":"IF(INTRO!$E$43=\"Endemic\", IF(AND($K184>0,$K184<5), IF($K184=4,\"Unknown\", IF($K184=1, $F184*0.33, IF($K184=2, $F184*0.5+$G184*0.2, SUM(F184:G184)))), 0),\"Not required\")","v":29012.2},0,2,1,1,null,null,null,null,21563,"Ho West"]
[{"$f":"IF(INTRO!$E$33<>0,INTRO!$E$33, \" \")","v":"Ghana"},"Volta","Hohoe",208297,{"$f":"IF(INTRO!$E$48=\"\",\"\",ROUND($D185*INTRO!$E$48,0))","v":22496},{"$f":"IF(INTRO!$E$49=\"\",\"\",ROUND($D185*INTRO!$E$49,0))","v":51033},{"$f":"IF(INTRO!$E$50=\"\",\"\",ROUND($D185*INTRO!$E$50,0))","v":128519},0,1,2,2,{"$f":"IF(INTRO!$E$37=\"Endemic\",IF($H185>0,IF($H185=4,\"Unknown\",IF($H185=99,\"Stopped\",$D185)),0),\"Not required\")","v":0},208297,{"$f":"IF(INTRO!$E$41=\"Endemic\", IF(AND($J185>1,$J185<5), IF($J185=4, \"Unknown\", E185+F185), 0),\"Not required\")","v":73529},{"$f":"IF(INTRO!$E$43=\"Endemic\", IF(AND($K185>0,$K185<5), IF($K185=4,\"Unknown\", IF($K185=1, $F185*0.33, IF($K185=2, $F185*0.5+$G185*0.2, SUM(F185:G185)))), 0),\"Not required\")","v":51220.3},0,1,1,1,null,null,null,null,21564,"Hohoe"]
[{"$f":"IF(INTRO!$E$33<>0,INTRO!$E$33, \" \")","v":"Ghana"},"Volta","Afadjato (East Dayi)",118518,{"$f":"IF(INTRO!$E$48=\"\",\"\",ROUND($D186*INTRO!$E$48,0))","v":12800},{"$f":"IF(INTRO!$E$49=\"\",\"\",ROUND($D186*INTRO!$E$49,0))","v":29037},{"$f":"IF(INTRO!$E$50=\"\",\"\",ROUND($D186*INTRO!$E$50,0))","v":73126},0,1,2,2,{"$f":"IF(INTRO!$E$37=\"Endemic\",IF($H186>0,IF($H186=4,\"Unknown\",IF($H186=99,\"Stopped\",$D186)),0),\"Not required\")","v":0},118518,{"$f":"IF(INTRO!$E$41=\"Endemic\", IF(AND($J186>1,$J186<5), IF($J186=4, \"Unknown\", E186+F186), 0),\"Not required\")","v":41837},{"$f":"IF(INTRO!$E$43=\"Endemic\", IF(AND($K186>0,$K186<5), IF($K186=4,\"Unknown\", IF($K186=1, $F186*0.33, IF($K186=2, $F186*0.5+$G186*0.2, SUM(F186:G186)))), 0),\"Not required\")","v":29143.7},0,1,1,1,null,null,null,null,21556,"Afadjato (East Dayi)"]
[{"$f":"IF(INTRO!$E$33<>0,INTRO!$E$33, \" \")","v":"Ghana"},"Volta","Jasikan",73809,{"$f":"IF(INTRO!$E$48=\"\",\"\",ROUND($D187*INTRO!$E$48,0))","v":7971},{"$f":"IF(INTRO!$E$49=\"\",\"\",ROUND($D187*INTRO!$E$49,0))","v":18083},{"$f":"IF(INTRO!$E$50=\"\",\"\",ROUND($D187*INTRO!$E$50,0))","v":45540},0,1,2,2,{"$f":"IF(INTRO!$E$37=\"Endemic\",IF($H187>0,IF($H187=4,\"Unknown\",IF($H187=99,\"Stopped\",$D187)),0),\"Not required\")","v":0},73809,{"$f":"IF(INTRO!$E$41=\"Endemic\", IF(AND($J187>1,$J187<5), IF($J187=4, \"Unknown\", E187+F187), 0),\"Not required\")","v":26054},{"$f":"IF(INTRO!$E$43=\"Endemic\", IF(AND($K187>0,$K187<5), IF($K187=4,\"Unknown\", IF($K187=1, $F187*0.33, IF($K187=2, $F187*0.5+$G187*0.2, SUM(F187:G187)))), 0),\"Not required\")","v":18149.5},0,1,1,1,null,null,null,null,21565,"Jasikan"]
[{"$f":"IF(INTRO!$E$33<>0,INTRO!$E$33, \" \")","v":"Ghana"},"Volta","Kadjebi",73960,{"$f":"IF(INTRO!$E$48=\"\",\"\",ROUND($D188*INTRO!$E$48,0))","v":7988},{"$f":"IF(INTRO!$E$49=\"\",\"\",ROUND($D188*INTRO!$E$49,0))","v":18120},{"$f":"IF(INTRO!$E$50=\"\",\"\",ROUND($D188*INTRO!$E$50,0))","v":45633},0,1,2,2,{"$f":"IF(INTRO!$E$37=\"Endemic\",IF($H188>0,IF($H188=4,\"Unknown\",IF($H188=99,\"Stopped\",$D188)),0),\"Not required\")","v":0},73960,{"$f":"IF(INTRO!$E$41=\"Endemic\", IF(AND($J188>1,$J188<5), IF($J188=4, \"Unknown\", E188+F188), 0),\"Not required\")","v":26108},{"$f":"IF(INTRO!$E$43=\"Endemic\", IF(AND($K188>0,$K188<5), IF($K188=4,\"Unknown\", IF($K188=1, $F188*0.33, IF($K188=2, $F188*0.5+$G188*0.2, SUM(F188:G188)))), 0),\"Not required\")","v":18186.599999999999},0,1,1,1,null,null,null,null,21566,"Kadjebi"]
[{"$f":"IF(INTRO!$E$33<>0,INTRO!$E$33, \" \")","v":"Ghana"},"Volta","Keta",184105,{"$f":"IF(INTRO!$E$48=\"\",\"\",ROUND($D189*INTRO!$E$48,0))","v":19883},{"$f":"IF(INTRO!$E$49=\"\",\"\",ROUND($D189*INTRO!$E$49,0))","v":45106},{"$f":"IF(INTRO!$E$50=\"\",\"\",ROUND($D189*INTRO!$E$50,0))","v":113593},0,0,2,2,{"$f":"IF(INTRO!$E$37=\"Endemic\",IF($H189>0,IF($H189=4,\"Unknown\",IF($H189=99,\"Stopped\",$D189)),0),\"Not required\")","v":0},0,{"$f":"IF(INTRO!$E$41=\"Endemic\", IF(AND($J189>1,$J189<5), IF($J189=4, \"Unknown\", E189+F189), 0),\"Not required\")","v":64989},{"$f":"IF(INTRO!$E$43=\"Endemic\", IF(AND($K189>0,$K189<5), IF($K189=4,\"Unknown\", IF($K189=1, $F189*0.33, IF($K189=2, $F189*0.5+$G189*0.2, SUM(F189:G189)))), 0),\"Not required\")","v":45271.600000000006},0,0,1,1,null,null,null,null,21567,"Keta"]
[{"$f":"IF(INTRO!$E$33<>0,INTRO!$E$33, \" \")","v":"Ghana"},"Volta","Ketu North",124608,{"$f":"IF(INTRO!$E$48=\"\",\"\",ROUND($D190*INTRO!$E$48,0))","v":13458},{"$f":"IF(INTRO!$E$49=\"\",\"\",ROUND($D190*INTRO!$E$49,0))","v":30529},{"$f":"IF(INTRO!$E$50=\"\",\"\",ROUND($D190*INTRO!$E$50,0))","v":76883},0,0,2,2,{"$f":"IF(INTRO!$E$37=\"Endemic\",IF($H190>0,IF($H190=4,\"Unknown\",IF($H190=99,\"Stopped\",$D190)),0),\"Not required\")","v":0},0,{"$f":"IF(INTRO!$E$41=\"Endemic\", IF(AND($J190>1,$J190<5), IF($J190=4, \"Unknown\", E190+F190), 0),\"Not required\")","v":43987},{"$f":"IF(INTRO!$E$43=\"Endemic\", IF(AND($K190>0,$K190<5), IF($K190=4,\"Unknown\", IF($K190=1, $F190*0.33, IF($K190=2, $F190*0.5+$G190*0.2, SUM(F190:G190)))), 0),\"Not required\")","v":30641.1},0,0,1,1,null,null,null,null,21568,"Ketu North"]
[{"$f":"IF(INTRO!$E$33<>0,INTRO!$E$33, \" \")","v":"Ghana"},"Volta","Ketu South",200490,{"$f":"IF(INTRO!$E$48=\"\",\"\",ROUND($D191*INTRO!$E$48,0))","v":21653},{"$f":"IF(INTRO!$E$49=\"\",\"\",ROUND($D191*INTRO!$E$49,0))","v":49120},{"$f":"IF(INTRO!$E$50=\"\",\"\",ROUND($D191*INTRO!$E$50,0))","v":123702},0,0,2,2,{"$f":"IF(INTRO!$E$37=\"Endemic\",IF($H191>0,IF($H191=4,\"Unknown\",IF($H191=99,\"Stopped\",$D191)),0),\"Not required\")","v":0},0,{"$f":"IF(INTRO!$E$41=\"Endemic\", IF(AND($J191>1,$J191<5), IF($J191=4, \"Unknown\", E191+F191), 0),\"Not required\")","v":70773},{"$f":"IF(INTRO!$E$43=\"Endemic\", IF(AND($K191>0,$K191<5), IF($K191=4,\"Unknown\", IF($K191=1, $F191*0.33, IF($K191=2, $F191*0.5+$G191*0.2, SUM(F191:G191)))), 0),\"Not required\")","v":49300.4},0,0,1,1,null,null,null,null,21569,"Ketu South"]
[{"$f":"IF(INTRO!$E$33<>0,INTRO!$E$33, \" \")","v":"Ghana"},"Volta","Kpando",67017,{"$f":"IF(INTRO!$E$48=\"\",\"\",ROUND($D192*INTRO!$E$48,0))","v":7238},{"$f":"IF(INTRO!$E$49=\"\",\"\",ROUND($D192*INTRO!$E$49,0))","v":16419},{"$f":"IF(INTRO!$E$50=\"\",\"\",ROUND($D192*INTRO!$E$50,0))","v":41349},0,1,2,3,{"$f":"IF(INTRO!$E$37=\"Endemic\",IF($H192>0,IF($H192=4,\"Unknown\",IF($H192=99,\"Stopped\",$D192)),0),\"Not required\")","v":0},16622,{"$f":"IF(INTRO!$E$41=\"Endemic\", IF(AND($J192>1,$J192<5), IF($J192=4, \"Unknown\", E192+F192), 0),\"Not required\")","v":23657},{"$f":"IF(INTRO!$E$43=\"Endemic\", IF(AND($K192>0,$K192<5), IF($K192=4,\"Unknown\", IF($K192=1, $F192*0.33, IF($K192=2, $F192*0.5+$G192*0.2, SUM(F192:G192)))), 0),\"Not required\")","v":57768},0,1,1,1,null,null,null,null,21570,"Kpando"]
[{"$f":"IF(INTRO!$E$33<>0,INTRO!$E$33, \" \")","v":"Ghana"},"Volta","North Dayi",49778,{"$f":"IF(INTRO!$E$48=\"\",\"\",ROUND($D193*INTRO!$E$48,0))","v":5376},{"$f":"IF(INTRO!$E$49=\"\",\"\",ROUND($D193*INTRO!$E$49,0))","v":12196},{"$f":"IF(INTRO!$E$50=\"\",\"\",ROUND($D193*INTRO!$E$50,0))","v":30713},0,1,2,3,{"$f":"IF(INTRO!$E$37=\"Endemic\",IF($H193>0,IF($H193=4,\"Unknown\",IF($H193=99,\"Stopped\",$D193)),0),\"Not required\")","v":0},49778,{"$f":"IF(INTRO!$E$41=\"Endemic\", IF(AND($J193>1,$J193<5), IF($J193=4, \"Unknown\", E193+F193), 0),\"Not required\")","v":17572},{"$f":"IF(INTRO!$E$43=\"Endemic\", IF(AND($K193>0,$K193<5), IF($K193=4,\"Unknown\", IF($K193=1, $F193*0.33, IF($K193=2, $F193*0.5+$G193*0.2, SUM(F193:G193)))), 0),\"Not required\")","v":42909},0,1,1,1,null,null,null,null,21576,"North Dayi"]
[{"$f":"IF(INTRO!$E$33<>0,INTRO!$E$33, \" \")","v":"Ghana"},"Volta","Krachi East",145675,{"$f":"IF(INTRO!$E$48=\"\",\"\",ROUND($D194*INTRO!$E$48,0))","v":15733},{"$f":"IF(INTRO!$E$49=\"\",\"\",ROUND($D194*INTRO!$E$49,0))","v":35690},{"$f":"IF(INTRO!$E$50=\"\",\"\",ROUND($D194*INTRO!$E$50,0))","v":89881},0,1,2,3,{"$f":"IF(INTRO!$E$37=\"Endemic\",IF($H194>0,IF($H194=4,\"Unknown\",IF($H194=99,\"Stopped\",$D194)),0),\"Not required\")","v":0},145675,{"$f":"IF(INTRO!$E$41=\"Endemic\", IF(AND($J194>1,$J194<5), IF($J194=4, \"Unknown\", E194+F194), 0),\"Not required\")","v":51423},{"$f":"IF(INTRO!$E$43=\"Endemic\", IF(AND($K194>0,$K194<5), IF($K194=4,\"Unknown\", IF($K194=1, $F194*0.33, IF($K194=2, $F194*0.5+$G194*0.2, SUM(F194:G194)))), 0),\"Not required\")","v":125571},0,1,1,1,null,null,null,null,21571,"Krachi East"]
[{"$f":"IF(INTRO!$E$33<>0,INTRO!$E$33, \" \")","v":"Ghana"},"Volta","Krachi West",61631,{"$f":"IF(INTRO!$E$48=\"\",\"\",ROUND($D195*INTRO!$E$48,0))","v":6656},{"$f":"IF(INTRO!$E$49=\"\",\"\",ROUND($D195*INTRO!$E$49,0))","v":15100},{"$f":"IF(INTRO!$E$50=\"\",\"\",ROUND($D195*INTRO!$E$50,0))","v":38026},0,0,2,3,{"$f":"IF(INTRO!$E$37=\"Endemic\",IF($H195>0,IF($H195=4,\"Unknown\",IF($H195=99,\"Stopped\",$D195)),0),\"Not required\")","v":0},0,{"$f":"IF(INTRO!$E$41=\"Endemic\", IF(AND($J195>1,$J195<5), IF($J195=4, \"Unknown\", E195+F195), 0),\"Not required\")","v":21756},{"$f":"IF(INTRO!$E$43=\"Endemic\", IF(AND($K195>0,$K195<5), IF($K195=4,\"Unknown\", IF($K195=1, $F195*0.33, IF($K195=2, $F195*0.5+$G195*0.2, SUM(F195:G195)))), 0),\"Not required\")","v":53126},0,0,1,1,null,null,null,null,21573,"Krachi West"]
[{"$f":"IF(INTRO!$E$33<>0,INTRO!$E$33, \" \")","v":"Ghana"},"Volta","Krachi Nchumuru",90654,{"$f":"IF(INTRO!$E$48=\"\",\"\",ROUND($D196*INTRO!$E$48,0))","v":9791},{"$f":"IF(INTRO!$E$49=\"\",\"\",ROUND($D196*INTRO!$E$49,0))","v":22210},{"$f":"IF(INTRO!$E$50=\"\",\"\",ROUND($D196*INTRO!$E$50,0))","v":55934},0,1,2,3,{"$f":"IF(INTRO!$E$37=\"Endemic\",IF($H196>0,IF($H196=4,\"Unknown\",IF($H196=99,\"Stopped\",$D196)),0),\"Not required\")","v":0},24986,{"$f":"IF(INTRO!$E$41=\"Endemic\", IF(AND($J196>1,$J196<5), IF($J196=4, \"Unknown\", E196+F196), 0),\"Not required\")","v":32001},{"$f":"IF(INTRO!$E$43=\"Endemic\", IF(AND($K196>0,$K196<5), IF($K196=4,\"Unknown\", IF($K196=1, $F196*0.33, IF($K196=2, $F196*0.5+$G196*0.2, SUM(F196:G196)))), 0),\"Not required\")","v":78144},0,2,1,1,null,null,null,null,21572,"Krachi Nchumuru"]
[{"$f":"IF(INTRO!$E$33<>0,INTRO!$E$33, \" \")","v":"Ghana"},"Volta","Nkwanta North",80508,{"$f":"IF(INTRO!$E$48=\"\",\"\",ROUND($D197*INTRO!$E$48,0))","v":8695},{"$f":"IF(INTRO!$E$49=\"\",\"\",ROUND($D197*INTRO!$E$49,0))","v":19724},{"$f":"IF(INTRO!$E$50=\"\",\"\",ROUND($D197*INTRO!$E$50,0))","v":49673},0,1,2,3,{"$f":"IF(INTRO!$E$37=\"Endemic\",IF($H197>0,IF($H197=4,\"Unknown\",IF($H197=99,\"Stopped\",$D197)),0),\"Not required\")","v":0},80508,{"$f":"IF(INTRO!$E$41=\"Endemic\", IF(AND($J197>1,$J197<5), IF($J197=4, \"Unknown\", E197+F197), 0),\"Not required\")","v":28419},{"$f":"IF(INTRO!$E$43=\"Endemic\", IF(AND($K197>0,$K197<5), IF($K197=4,\"Unknown\", IF($K197=1, $F197*0.33, IF($K197=2, $F197*0.5+$G197*0.2, SUM(F197:G197)))), 0),\"Not required\")","v":69397},0,2,1,1,null,null,null,null,21574,"Nkwanta North"]
[{"$f":"IF(INTRO!$E$33<>0,INTRO!$E$33, \" \")","v":"Ghana"},"Volta","Nkwanta South",147014,{"$f":"IF(INTRO!$E$48=\"\",\"\",ROUND($D198*INTRO!$E$48,0))","v":15878},{"$f":"IF(INTRO!$E$49=\"\",\"\",ROUND($D198*INTRO!$E$49,0))","v":36018},{"$f":"IF(INTRO!$E$50=\"\",\"\",ROUND($D198*INTRO!$E$50,0))","v":90708},0,1,2,2,{"$f":"IF(INTRO!$E$37=\"Endemic\",IF($H198>0,IF($H198=4,\"Unknown\",IF($H198=99,\"Stopped\",$D198)),0),\"Not required\")","v":0},147014,{"$f":"IF(INTRO!$E$41=\"Endemic\", IF(AND($J198>1,$J198<5), IF($J198=4, \"Unknown\", E198+F198), 0),\"Not required\")","v":51896},{"$f":"IF(INTRO!$E$43=\"Endemic\", IF(AND($K198>0,$K198<5), IF($K198=4,\"Unknown\", IF($K198=1, $F198*0.33, IF($K198=2, $F198*0.5+$G198*0.2, SUM(F198:G198)))), 0),\"Not required\")","v":36150.600000000006},0,2,1,1,null,null,null,null,21575,"Nkwanta South"]
[{"$f":"IF(INTRO!$E$33<>0,INTRO!$E$33, \" \")","v":"Ghana"},"Volta","North Tongu",111967,{"$f":"IF(INTRO!$E$48=\"\",\"\",ROUND($D199*INTRO!$E$48,0))","v":12092},{"$f":"IF(INTRO!$E$49=\"\",\"\",ROUND($D199*INTRO!$E$49,0))","v":27432},{"$f":"IF(INTRO!$E$50=\"\",\"\",ROUND($D199*INTRO!$E$50,0))","v":69084},0,0,2,2,{"$f":"IF(INTRO!$E$37=\"Endemic\",IF($H199>0,IF($H199=4,\"Unknown\",IF($H199=99,\"Stopped\",$D199)),0),\"Not required\")","v":0},0,{"$f":"IF(INTRO!$E$41=\"Endemic\", IF(AND($J199>1,$J199<5), IF($J199=4, \"Unknown\", E199+F199), 0),\"Not required\")","v":39524},{"$f":"IF(INTRO!$E$43=\"Endemic\", IF(AND($K199>0,$K199<5), IF($K199=4,\"Unknown\", IF($K199=1, $F199*0.33, IF($K199=2, $F199*0.5+$G199*0.2, SUM(F199:G199)))), 0),\"Not required\")","v":27532.800000000003},0,0,1,1,null,null,null,null,21577,"North Tongu"]
[{"$f":"IF(INTRO!$E$33<>0,INTRO!$E$33, \" \")","v":"Ghana"},"Volta","Central Tongu",74096,{"$f":"IF(INTRO!$E$48=\"\",\"\",ROUND($D200*INTRO!$E$48,0))","v":8002},{"$f":"IF(INTRO!$E$49=\"\",\"\",ROUND($D200*INTRO!$E$49,0))","v":18154},{"$f":"IF(INTRO!$E$50=\"\",\"\",ROUND($D200*INTRO!$E$50,0))","v":45717},0,0,2,2,{"$f":"IF(INTRO!$E$37=\"Endemic\",IF($H200>0,IF($H200=4,\"Unknown\",IF($H200=99,\"Stopped\",$D200)),0),\"Not required\")","v":0},0,{"$f":"IF(INTRO!$E$41=\"Endemic\", IF(AND($J200>1,$J200<5), IF($J200=4, \"Unknown\", E200+F200), 0),\"Not required\")","v":26156},{"$f":"IF(INTRO!$E$43=\"Endemic\", IF(AND($K200>0,$K200<5), IF($K200=4,\"Unknown\", IF($K200=1, $F200*0.33, IF($K200=2, $F200*0.5+$G200*0.2, SUM(F200:G200)))), 0),\"Not required\")","v":18220.400000000001},0,0,1,1,null,null,null,null,21561,"Central Tongu"]
[{"$f":"IF(INTRO!$E$33<>0,INTRO!$E$33, \" \")","v":"Ghana"},"Volta","South Dayi",58194,{"$f":"IF(INTRO!$E$48=\"\",\"\",ROUND($D201*INTRO!$E$48,0))","v":6285},{"$f":"IF(INTRO!$E$49=\"\",\"\",ROUND($D201*INTRO!$E$49,0))","v":14258},{"$f":"IF(INTRO!$E$50=\"\",\"\",ROUND($D201*INTRO!$E$50,0))","v":35906},0,0,2,3,{"$f":"IF(INTRO!$E$37=\"Endemic\",IF($H201>0,IF($H201=4,\"Unknown\",IF($H201=99,\"Stopped\",$D201)),0),\"Not required\")","v":0},0,{"$f":"IF(INTRO!$E$41=\"Endemic\", IF(AND($J201>1,$J201<5), IF($J201=4, \"Unknown\", E201+F201), 0),\"Not required\")","v":20543},{"$f":"IF(INTRO!$E$43=\"Endemic\", IF(AND($K201>0,$K201<5), IF($K201=4,\"Unknown\", IF($K201=1, $F201*0.33, IF($K201=2, $F201*0.5+$G201*0.2, SUM(F201:G201)))), 0),\"Not required\")","v":50164},0,0,1,1,null,null,null,null,21578,"South Dayi"]
[{"$f":"IF(INTRO!$E$33<>0,INTRO!$E$33, \" \")","v":"Ghana"},"Volta","South Tongu",109688,{"$f":"IF(INTRO!$E$48=\"\",\"\",ROUND($D202*INTRO!$E$48,0))","v":11846},{"$f":"IF(INTRO!$E$49=\"\",\"\",ROUND($D202*INTRO!$E$49,0))","v":26874},{"$f":"IF(INTRO!$E$50=\"\",\"\",ROUND($D202*INTRO!$E$50,0))","v":67677},0,0,2,2,{"$f":"IF(INTRO!$E$37=\"Endemic\",IF($H202>0,IF($H202=4,\"Unknown\",IF($H202=99,\"Stopped\",$D202)),0),\"Not required\")","v":0},0,{"$f":"IF(INTRO!$E$41=\"Endemic\", IF(AND($J202>1,$J202<5), IF($J202=4, \"Unknown\", E202+F202), 0),\"Not required\")","v":38720},{"$f":"IF(INTRO!$E$43=\"Endemic\", IF(AND($K202>0,$K202<5), IF($K202=4,\"Unknown\", IF($K202=1, $F202*0.33, IF($K202=2, $F202*0.5+$G202*0.2, SUM(F202:G202)))), 0),\"Not required\")","v":26972.400000000001},0,0,1,1,null,null,null,null,21579,"South Tongu"]
[{"$f":"IF(INTRO!$E$33<>0,INTRO!$E$33, \" \")","v":"Ghana"},"Western","Ahanta West",127387,{"$f":"IF(INTRO!$E$48=\"\",\"\",ROUND($D203*INTRO!$E$48,0))","v":13758},{"$f":"IF(INTRO!$E$49=\"\",\"\",ROUND($D203*INTRO!$E$49,0))","v":31210},{"$f":"IF(INTRO!$E$50=\"\",\"\",ROUND($D203*INTRO!$E$50,0))","v":78598},1,0,2,2,{"$f":"IF(INTRO!$E$37=\"Endemic\",IF($H203>0,IF($H203=4,\"Unknown\",IF($H203=99,\"Stopped\",$D203)),0),\"Not required\")","v":127387},0,{"$f":"IF(INTRO!$E$41=\"Endemic\", IF(AND($J203>1,$J203<5), IF($J203=4, \"Unknown\", E203+F203), 0),\"Not required\")","v":44968},{"$f":"IF(INTRO!$E$43=\"Endemic\", IF(AND($K203>0,$K203<5), IF($K203=4,\"Unknown\", IF($K203=1, $F203*0.33, IF($K203=2, $F203*0.5+$G203*0.2, SUM(F203:G203)))), 0),\"Not required\")","v":31324.6},1,0,1,1,null,null,null,null,21580,"Ahanta West"]
[{"$f":"IF(INTRO!$E$33<>0,INTRO!$E$33, \" \")","v":"Ghana"},"Western","Aowin",141783,{"$f":"IF(INTRO!$E$48=\"\",\"\",ROUND($D204*INTRO!$E$48,0))","v":15313},{"$f":"IF(INTRO!$E$49=\"\",\"\",ROUND($D204*INTRO!$E$49,0))","v":34737},{"$f":"IF(INTRO!$E$50=\"\",\"\",ROUND($D204*INTRO!$E$50,0))","v":87480},99,1,2,3,{"$f":"IF(INTRO!$E$37=\"Endemic\",IF($H204>0,IF($H204=4,\"Unknown\",IF($H204=99,\"Stopped\",$D204)),0),\"Not required\")","v":"Stopped"},141783,{"$f":"IF(INTRO!$E$41=\"Endemic\", IF(AND($J204>1,$J204<5), IF($J204=4, \"Unknown\", E204+F204), 0),\"Not required\")","v":50050},{"$f":"IF(INTRO!$E$43=\"Endemic\", IF(AND($K204>0,$K204<5), IF($K204=4,\"Unknown\", IF($K204=1, $F204*0.33, IF($K204=2, $F204*0.5+$G204*0.2, SUM(F204:G204)))), 0),\"Not required\")","v":122217},0,2,1,1,null,null,null,null,21581,"Aowin"]
[{"$f":"IF(INTRO!$E$33<>0,INTRO!$E$33, \" \")","v":"Ghana"},"Western","Suaman",24222,{"$f":"IF(INTRO!$E$48=\"\",\"\",ROUND($D205*INTRO!$E$48,0))","v":2616},{"$f":"IF(INTRO!$E$49=\"\",\"\",ROUND($D205*INTRO!$E$49,0))","v":5934},{"$f":"IF(INTRO!$E$50=\"\",\"\",ROUND($D205*INTRO!$E$50,0))","v":14945},99,1,2,3,{"$f":"IF(INTRO!$E$37=\"Endemic\",IF($H205>0,IF($H205=4,\"Unknown\",IF($H205=99,\"Stopped\",$D205)),0),\"Not required\")","v":"Stopped"},24222,{"$f":"IF(INTRO!$E$41=\"Endemic\", IF(AND($J205>1,$J205<5), IF($J205=4, \"Unknown\", E205+F205), 0),\"Not required\")","v":8550},{"$f":"IF(INTRO!$E$43=\"Endemic\", IF(AND($K205>0,$K205<5), IF($K205=4,\"Unknown\", IF($K205=1, $F205*0.33, IF($K205=2, $F205*0.5+$G205*0.2, SUM(F205:G205)))), 0),\"Not required\")","v":20879},0,2,1,1,null,null,null,null,21598,"Suaman"]
[{"$f":"IF(INTRO!$E$33<>0,INTRO!$E$33, \" \")","v":"Ghana"},"Western","Axim Municipal ",72952,{"$f":"IF(INTRO!$E$48=\"\",\"\",ROUND($D206*INTRO!$E$48,0))","v":7879},{"$f":"IF(INTRO!$E$49=\"\",\"\",ROUND($D206*INTRO!$E$49,0))","v":17873},{"$f":"IF(INTRO!$E$50=\"\",\"\",ROUND($D206*INTRO!$E$50,0))","v":45011},1,1,2,2,{"$f":"IF(INTRO!$E$37=\"Endemic\",IF($H206>0,IF($H206=4,\"Unknown\",IF($H206=99,\"Stopped\",$D206)),0),\"Not required\")","v":72952},72952,{"$f":"IF(INTRO!$E$41=\"Endemic\", IF(AND($J206>1,$J206<5), IF($J206=4, \"Unknown\", E206+F206), 0),\"Not required\")","v":25752},{"$f":"IF(INTRO!$E$43=\"Endemic\", IF(AND($K206>0,$K206<5), IF($K206=4,\"Unknown\", IF($K206=1, $F206*0.33, IF($K206=2, $F206*0.5+$G206*0.2, SUM(F206:G206)))), 0),\"Not required\")","v":17938.7},1,0,1,1,null,null,null,null,21592,"Axim Municipal "]
[{"$f":"IF(INTRO!$E$33<>0,INTRO!$E$33, \" \")","v":"Ghana"},"Western","Bia West",107890,{"$f":"IF(INTRO!$E$48=\"\",\"\",ROUND($D207*INTRO!$E$48,0))","v":11652},{"$f":"IF(INTRO!$E$49=\"\",\"\",ROUND($D207*INTRO!$E$49,0))","v":26433},{"$f":"IF(INTRO!$E$50=\"\",\"\",ROUND($D207*INTRO!$E$50,0))","v":66568},0,1,2,2,{"$f":"IF(INTRO!$E$37=\"Endemic\",IF($H207>0,IF($H207=4,\"Unknown\",IF($H207=99,\"Stopped\",$D207)),0),\"Not required\")","v":0},107890,{"$f":"IF(INTRO!$E$41=\"Endemic\", IF(AND($J207>1,$J207<5), IF($J207=4, \"Unknown\", E207+F207), 0),\"Not required\")","v":38085},{"$f":"IF(INTRO!$E$43=\"Endemic\", IF(AND($K207>0,$K207<5), IF($K207=4,\"Unknown\", IF($K207=1, $F207*0.33, IF($K207=2, $F207*0.5+$G207*0.2, SUM(F207:G207)))), 0),\"Not required\")","v":26530.1},0,2,1,1,null,null,null,null,21584,"Bia West"]
[{"$f":"IF(INTRO!$E$33<>0,INTRO!$E$33, \" \")","v":"Ghana"},"Western","Bia East",31630,{"$f":"IF(INTRO!$E$48=\"\",\"\",ROUND($D208*INTRO!$E$48,0))","v":3416},{"$f":"IF(INTRO!$E$49=\"\",\"\",ROUND($D208*INTRO!$E$49,0))","v":7749},{"$f":"IF(INTRO!$E$50=\"\",\"\",ROUND($D208*INTRO!$E$50,0))","v":19516},0,1,2,2,{"$f":"IF(INTRO!$E$37=\"Endemic\",IF($H208>0,IF($H208=4,\"Unknown\",IF($H208=99,\"Stopped\",$D208)),0),\"Not required\")","v":0},31630,{"$f":"IF(INTRO!$E$41=\"Endemic\", IF(AND($J208>1,$J208<5), IF($J208=4, \"Unknown\", E208+F208), 0),\"Not required\")","v":11165},{"$f":"IF(INTRO!$E$43=\"Endemic\", IF(AND($K208>0,$K208<5), IF($K208=4,\"Unknown\", IF($K208=1, $F208*0.33, IF($K208=2, $F208*0.5+$G208*0.2, SUM(F208:G208)))), 0),\"Not required\")","v":7777.7000000000007},0,1,1,1,null,null,null,null,21583,"Bia East"]
[{"$f":"IF(INTRO!$E$33<>0,INTRO!$E$33, \" \")","v":"Ghana"},"Western","Bibiani-Anhwiaso-Bekwai",147843,{"$f":"IF(INTRO!$E$48=\"\",\"\",ROUND($D209*INTRO!$E$48,0))","v":15967},{"$f":"IF(INTRO!$E$49=\"\",\"\",ROUND($D209*INTRO!$E$49,0))","v":36222},{"$f":"IF(INTRO!$E$50=\"\",\"\",ROUND($D209*INTRO!$E$50,0))","v":91219},0,1,2,2,{"$f":"IF(INTRO!$E$37=\"Endemic\",IF($H209>0,IF($H209=4,\"Unknown\",IF($H209=99,\"Stopped\",$D209)),0),\"Not required\")","v":0},147843,{"$f":"IF(INTRO!$E$41=\"Endemic\", IF(AND($J209>1,$J209<5), IF($J209=4, \"Unknown\", E209+F209), 0),\"Not required\")","v":52189},{"$f":"IF(INTRO!$E$43=\"Endemic\", IF(AND($K209>0,$K209<5), IF($K209=4,\"Unknown\", IF($K209=1, $F209*0.33, IF($K209=2, $F209*0.5+$G209*0.2, SUM(F209:G209)))), 0),\"Not required\")","v":36354.800000000003},0,1,1,1,null,null,null,null,21585,"Bibiani-Anhwiaso-Bekwai"]
[{"$f":"IF(INTRO!$E$33<>0,INTRO!$E$33, \" \")","v":"Ghana"},"Western","Ellembelle",104942,{"$f":"IF(INTRO!$E$48=\"\",\"\",ROUND($D210*INTRO!$E$48,0))","v":11334},{"$f":"IF(INTRO!$E$49=\"\",\"\",ROUND($D210*INTRO!$E$49,0))","v":25711},{"$f":"IF(INTRO!$E$50=\"\",\"\",ROUND($D210*INTRO!$E$50,0))","v":64749},1,0,2,2,{"$f":"IF(INTRO!$E$37=\"Endemic\",IF($H210>0,IF($H210=4,\"Unknown\",IF($H210=99,\"Stopped\",$D210)),0),\"Not required\")","v":104942},0,{"$f":"IF(INTRO!$E$41=\"Endemic\", IF(AND($J210>1,$J210<5), IF($J210=4, \"Unknown\", E210+F210), 0),\"Not required\")","v":37045},{"$f":"IF(INTRO!$E$43=\"Endemic\", IF(AND($K210>0,$K210<5), IF($K210=4,\"Unknown\", IF($K210=1, $F210*0.33, IF($K210=2, $F210*0.5+$G210*0.2, SUM(F210:G210)))), 0),\"Not required\")","v":25805.300000000003},1,0,1,1,null,null,null,null,21587,"Ellembelle"]
[{"$f":"IF(INTRO!$E$33<>0,INTRO!$E$33, \" \")","v":"Ghana"},"Western","Jomoro",180027,{"$f":"IF(INTRO!$E$48=\"\",\"\",ROUND($D211*INTRO!$E$48,0))","v":19443},{"$f":"IF(INTRO!$E$49=\"\",\"\",ROUND($D211*INTRO!$E$49,0))","v":44107},{"$f":"IF(INTRO!$E$50=\"\",\"\",ROUND($D211*INTRO!$E$50,0))","v":111077},99,1,2,2,{"$f":"IF(INTRO!$E$37=\"Endemic\",IF($H211>0,IF($H211=4,\"Unknown\",IF($H211=99,\"Stopped\",$D211)),0),\"Not required\")","v":"Stopped"},180027,{"$f":"IF(INTRO!$E$41=\"Endemic\", IF(AND($J211>1,$J211<5), IF($J211=4, \"Unknown\", E211+F211), 0),\"Not required\")","v":63550},{"$f":"IF(INTRO!$E$43=\"Endemic\", IF(AND($K211>0,$K211<5), IF($K211=4,\"Unknown\", IF($K211=1, $F211*0.33, IF($K211=2, $F211*0.5+$G211*0.2, SUM(F211:G211)))), 0),\"Not required\")","v":44268.9},0,2,1,1,null,null,null,null,21588,"Jomoro"]
[{"$f":"IF(INTRO!$E$33<>0,INTRO!$E$33, \" \")","v":"Ghana"},"Western","Juabeso",70665,{"$f":"IF(INTRO!$E$48=\"\",\"\",ROUND($D212*INTRO!$E$48,0))","v":7632},{"$f":"IF(INTRO!$E$49=\"\",\"\",ROUND($D212*INTRO!$E$49,0))","v":17313},{"$f":"IF(INTRO!$E$50=\"\",\"\",ROUND($D212*INTRO!$E$50,0))","v":43600},0,1,2,2,{"$f":"IF(INTRO!$E$37=\"Endemic\",IF($H212>0,IF($H212=4,\"Unknown\",IF($H212=99,\"Stopped\",$D212)),0),\"Not required\")","v":0},70665,{"$f":"IF(INTRO!$E$41=\"Endemic\", IF(AND($J212>1,$J212<5), IF($J212=4, \"Unknown\", E212+F212), 0),\"Not required\")","v":24945},{"$f":"IF(INTRO!$E$43=\"Endemic\", IF(AND($K212>0,$K212<5), IF($K212=4,\"Unknown\", IF($K212=1, $F212*0.33, IF($K212=2, $F212*0.5+$G212*0.2, SUM(F212:G212)))), 0),\"Not required\")","v":17376.5},0,2,1,1,null,null,null,null,21589,"Juabeso"]
[{"$f":"IF(INTRO!$E$33<>0,INTRO!$E$33, \" \")","v":"Ghana"},"Western","Bodi",63358,{"$f":"IF(INTRO!$E$48=\"\",\"\",ROUND($D213*INTRO!$E$48,0))","v":6843},{"$f":"IF(INTRO!$E$49=\"\",\"\",ROUND($D213*INTRO!$E$49,0))","v":15523},{"$f":"IF(INTRO!$E$50=\"\",\"\",ROUND($D213*INTRO!$E$50,0))","v":39092},0,1,2,2,{"$f":"IF(INTRO!$E$37=\"Endemic\",IF($H213>0,IF($H213=4,\"Unknown\",IF($H213=99,\"Stopped\",$D213)),0),\"Not required\")","v":0},63358,{"$f":"IF(INTRO!$E$41=\"Endemic\", IF(AND($J213>1,$J213<5), IF($J213=4, \"Unknown\", E213+F213), 0),\"Not required\")","v":22366},{"$f":"IF(INTRO!$E$43=\"Endemic\", IF(AND($K213>0,$K213<5), IF($K213=4,\"Unknown\", IF($K213=1, $F213*0.33, IF($K213=2, $F213*0.5+$G213*0.2, SUM(F213:G213)))), 0),\"Not required\")","v":15579.900000000001},0,1,1,1,null,null,null,null,21586,"Bodi"]
[{"$f":"IF(INTRO!$E$33<>0,INTRO!$E$33, \" \")","v":"Ghana"},"Western","Wassa East",97233,{"$f":"IF(INTRO!$E$48=\"\",\"\",ROUND($D214*INTRO!$E$48,0))","v":10501},{"$f":"IF(INTRO!$E$49=\"\",\"\",ROUND($D214*INTRO!$E$49,0))","v":23822},{"$f":"IF(INTRO!$E$50=\"\",\"\",ROUND($D214*INTRO!$E$50,0))","v":59993},99,1,2,2,{"$f":"IF(INTRO!$E$37=\"Endemic\",IF($H214>0,IF($H214=4,\"Unknown\",IF($H214=99,\"Stopped\",$D214)),0),\"Not required\")","v":"Stopped"},97233,{"$f":"IF(INTRO!$E$41=\"Endemic\", IF(AND($J214>1,$J214<5), IF($J214=4, \"Unknown\", E214+F214), 0),\"Not required\")","v":34323},{"$f":"IF(INTRO!$E$43=\"Endemic\", IF(AND($K214>0,$K214<5), IF($K214=4,\"Unknown\", IF($K214=1, $F214*0.33, IF($K214=2, $F214*0.5+$G214*0.2, SUM(F214:G214)))), 0),\"Not required\")","v":23909.599999999999},0,2,1,1,null,null,null,null,21601,"Wassa East"]
[{"$f":"IF(INTRO!$E$33<>0,INTRO!$E$33, \" \")","v":"Ghana"},"Western","Mpohor",51478,{"$f":"IF(INTRO!$E$48=\"\",\"\",ROUND($D215*INTRO!$E$48,0))","v":5560},{"$f":"IF(INTRO!$E$49=\"\",\"\",ROUND($D215*INTRO!$E$49,0))","v":12612},{"$f":"IF(INTRO!$E$50=\"\",\"\",ROUND($D215*INTRO!$E$50,0))","v":31762},99,1,2,2,{"$f":"IF(INTRO!$E$37=\"Endemic\",IF($H215>0,IF($H215=4,\"Unknown\",IF($H215=99,\"Stopped\",$D215)),0),\"Not required\")","v":"Stopped"},51478,{"$f":"IF(INTRO!$E$41=\"Endemic\", IF(AND($J215>1,$J215<5), IF($J215=4, \"Unknown\", E215+F215), 0),\"Not required\")","v":18172},{"$f":"IF(INTRO!$E$43=\"Endemic\", IF(AND($K215>0,$K215<5), IF($K215=4,\"Unknown\", IF($K215=1, $F215*0.33, IF($K215=2, $F215*0.5+$G215*0.2, SUM(F215:G215)))), 0),\"Not required\")","v":12658.400000000001},0,2,1,1,null,null,null,null,21590,"Mpohor"]
[{"$f":"IF(INTRO!$E$33<>0,INTRO!$E$33, \" \")","v":"Ghana"},"Western","Prestea-Huni-Valley",191057,{"$f":"IF(INTRO!$E$48=\"\",\"\",ROUND($D216*INTRO!$E$48,0))","v":20634},{"$f":"IF(INTRO!$E$49=\"\",\"\",ROUND($D216*INTRO!$E$49,0))","v":46809},{"$f":"IF(INTRO!$E$50=\"\",\"\",ROUND($D216*INTRO!$E$50,0))","v":117882},99,1,2,2,{"$f":"IF(INTRO!$E$37=\"Endemic\",IF($H216>0,IF($H216=4,\"Unknown\",IF($H216=99,\"Stopped\",$D216)),0),\"Not required\")","v":"Stopped"},191057,{"$f":"IF(INTRO!$E$41=\"Endemic\", IF(AND($J216>1,$J216<5), IF($J216=4, \"Unknown\", E216+F216), 0),\"Not required\")","v":67443},{"$f":"IF(INTRO!$E$43=\"Endemic\", IF(AND($K216>0,$K216<5), IF($K216=4,\"Unknown\", IF($K216=1, $F216*0.33, IF($K216=2, $F216*0.5+$G216*0.2, SUM(F216:G216)))), 0),\"Not required\")","v":46980.9},0,2,1,1,null,null,null,null,21593,"Prestea-Huni-Valley"]
[{"$f":"IF(INTRO!$E$33<>0,INTRO!$E$33, \" \")","v":"Ghana"},"Western","Sefwi-Akontombra",98905,{"$f":"IF(INTRO!$E$48=\"\",\"\",ROUND($D217*INTRO!$E$48,0))","v":10682},{"$f":"IF(INTRO!$E$49=\"\",\"\",ROUND($D217*INTRO!$E$49,0))","v":24232},{"$f":"IF(INTRO!$E$50=\"\",\"\",ROUND($D217*INTRO!$E$50,0))","v":61024},0,1,2,2,{"$f":"IF(INTRO!$E$37=\"Endemic\",IF($H217>0,IF($H217=4,\"Unknown\",IF($H217=99,\"Stopped\",$D217)),0),\"Not required\")","v":0},98905,{"$f":"IF(INTRO!$E$41=\"Endemic\", IF(AND($J217>1,$J217<5), IF($J217=4, \"Unknown\", E217+F217), 0),\"Not required\")","v":34914},{"$f":"IF(INTRO!$E$43=\"Endemic\", IF(AND($K217>0,$K217<5), IF($K217=4,\"Unknown\", IF($K217=1, $F217*0.33, IF($K217=2, $F217*0.5+$G217*0.2, SUM(F217:G217)))), 0),\"Not required\")","v":24320.800000000003},0,2,1,1,null,null,null,null,21594,"Sefwi-Akontombra"]
[{"$f":"IF(INTRO!$E$33<>0,INTRO!$E$33, \" \")","v":"Ghana"},"Western","Sefwi-Wiawso",166946,{"$f":"IF(INTRO!$E$48=\"\",\"\",ROUND($D218*INTRO!$E$48,0))","v":18030},{"$f":"IF(INTRO!$E$49=\"\",\"\",ROUND($D218*INTRO!$E$49,0))","v":40902},{"$f":"IF(INTRO!$E$50=\"\",\"\",ROUND($D218*INTRO!$E$50,0))","v":103006},0,1,2,2,{"$f":"IF(INTRO!$E$37=\"Endemic\",IF($H218>0,IF($H218=4,\"Unknown\",IF($H218=99,\"Stopped\",$D218)),0),\"Not required\")","v":0},166946,{"$f":"IF(INTRO!$E$41=\"Endemic\", IF(AND($J218>1,$J218<5), IF($J218=4, \"Unknown\", E218+F218), 0),\"Not required\")","v":58932},{"$f":"IF(INTRO!$E$43=\"Endemic\", IF(AND($K218>0,$K218<5), IF($K218=4,\"Unknown\", IF($K218=1, $F218*0.33, IF($K218=2, $F218*0.5+$G218*0.2, SUM(F218:G218)))), 0),\"Not required\")","v":41052.199999999997},0,1,1,1,null,null,null,null,21595,"Sefwi-Wiawso"]
[{"$f":"IF(INTRO!$E$33<>0,INTRO!$E$33, \" \")","v":"Ghana"},"Western","Sekondi-Takoradi",671079,{"$f":"IF(INTRO!$E$48=\"\",\"\",ROUND($D219*INTRO!$E$48,0))","v":72477},{"$f":"IF(INTRO!$E$49=\"\",\"\",ROUND($D219*INTRO!$E$49,0))","v":164414},{"$f":"IF(INTRO!$E$50=\"\",\"\",ROUND($D219*INTRO!$E$50,0))","v":414056},99,0,2,2,{"$f":"IF(INTRO!$E$37=\"Endemic\",IF($H219>0,IF($H219=4,\"Unknown\",IF($H219=99,\"Stopped\",$D219)),0),\"Not required\")","v":"Stopped"},0,{"$f":"IF(INTRO!$E$41=\"Endemic\", IF(AND($J219>1,$J219<5), IF($J219=4, \"Unknown\", E219+F219), 0),\"Not required\")","v":236891},{"$f":"IF(INTRO!$E$43=\"Endemic\", IF(AND($K219>0,$K219<5), IF($K219=4,\"Unknown\", IF($K219=1, $F219*0.33, IF($K219=2, $F219*0.5+$G219*0.2, SUM(F219:G219)))), 0),\"Not required\")","v":165018.20000000001},0,0,1,0,null,null,null,null,21596,"Sekondi-Takoradi"]
[{"$f":"IF(INTRO!$E$33<>0,INTRO!$E$33, \" \")","v":"Ghana"},"Western","Shama",98304,{"$f":"IF(INTRO!$E$48=\"\",\"\",ROUND($D220*INTRO!$E$48,0))","v":10617},{"$f":"IF(INTRO!$E$49=\"\",\"\",ROUND($D220*INTRO!$E$49,0))","v":24084},{"$f":"IF(INTRO!$E$50=\"\",\"\",ROUND($D220*INTRO!$E$50,0))","v":60654},99,0,2,2,{"$f":"IF(INTRO!$E$37=\"Endemic\",IF($H220>0,IF($H220=4,\"Unknown\",IF($H220=99,\"Stopped\",$D220)),0),\"Not required\")","v":"Stopped"},0,{"$f":"IF(INTRO!$E$41=\"Endemic\", IF(AND($J220>1,$J220<5), IF($J220=4, \"Unknown\", E220+F220), 0),\"Not required\")","v":34701},{"$f":"IF(INTRO!$E$43=\"Endemic\", IF(AND($K220>0,$K220<5), IF($K220=4,\"Unknown\", IF($K220=1, $F220*0.33, IF($K220=2, $F220*0.5+$G220*0.2, SUM(F220:G220)))), 0),\"Not required\")","v":24172.800000000003},0,0,1,1,null,null,null,null,21597,"Shama"]
[{"$f":"IF(INTRO!$E$33<>0,INTRO!$E$33, \" \")","v":"Ghana"},"Western","Tarkwa-Nsuaem",108511,{"$f":"IF(INTRO!$E$48=\"\",\"\",ROUND($D221*INTRO!$E$48,0))","v":11719},{"$f":"IF(INTRO!$E$49=\"\",\"\",ROUND($D221*INTRO!$E$49,0))","v":26585},{"$f":"IF(INTRO!$E$50=\"\",\"\",ROUND($D221*INTRO!$E$50,0))","v":66951},99,1,2,2,{"$f":"IF(INTRO!$E$37=\"Endemic\",IF($H221>0,IF($H221=4,\"Unknown\",IF($H221=99,\"Stopped\",$D221)),0),\"Not required\")","v":"Stopped"},108511,{"$f":"IF(INTRO!$E$41=\"Endemic\", IF(AND($J221>1,$J221<5), IF($J221=4, \"Unknown\", E221+F221), 0),\"Not required\")","v":38304},{"$f":"IF(INTRO!$E$43=\"Endemic\", IF(AND($K221>0,$K221<5), IF($K221=4,\"Unknown\", IF($K221=1, $F221*0.33, IF($K221=2, $F221*0.5+$G221*0.2, SUM(F221:G221)))), 0),\"Not required\")","v":26682.7},0,2,1,1,null,null,null,null,21599,"Tarkwa-Nsuaem"]
[{"$f":"IF(INTRO!$E$33<>0,INTRO!$E$33, \" \")","v":"Ghana"},"Western","Wassa-Amenfi East",100117,{"$f":"IF(INTRO!$E$48=\"\",\"\",ROUND($D222*INTRO!$E$48,0))","v":10813},{"$f":"IF(INTRO!$E$49=\"\",\"\",ROUND($D222*INTRO!$E$49,0))","v":24529},{"$f":"IF(INTRO!$E$50=\"\",\"\",ROUND($D222*INTRO!$E$50,0))","v":61772},0,1,2,2,{"$f":"IF(INTRO!$E$37=\"Endemic\",IF($H222>0,IF($H222=4,\"Unknown\",IF($H222=99,\"Stopped\",$D222)),0),\"Not required\")","v":0},100117,{"$f":"IF(INTRO!$E$41=\"Endemic\", IF(AND($J222>1,$J222<5), IF($J222=4, \"Unknown\", E222+F222), 0),\"Not required\")","v":35342},{"$f":"IF(INTRO!$E$43=\"Endemic\", IF(AND($K222>0,$K222<5), IF($K222=4,\"Unknown\", IF($K222=1, $F222*0.33, IF($K222=2, $F222*0.5+$G222*0.2, SUM(F222:G222)))), 0),\"Not required\")","v":24618.9},0,2,1,1,null,null,null,null,21602,"Wassa-Amenfi East"]
[{"$f":"IF(INTRO!$E$33<>0,INTRO!$E$33, \" \")","v":"Ghana"},"Western","Wassa Amenfi Central",82206,{"$f":"IF(INTRO!$E$48=\"\",\"\",ROUND($D223*INTRO!$E$48,0))","v":8878},{"$f":"IF(INTRO!$E$49=\"\",\"\",ROUND($D223*INTRO!$E$49,0))","v":20140},{"$f":"IF(INTRO!$E$50=\"\",\"\",ROUND($D223*INTRO!$E$50,0))","v":50721},0,1,2,2,{"$f":"IF(INTRO!$E$37=\"Endemic\",IF($H223>0,IF($H223=4,\"Unknown\",IF($H223=99,\"Stopped\",$D223)),0),\"Not required\")","v":0},82206,{"$f":"IF(INTRO!$E$41=\"Endemic\", IF(AND($J223>1,$J223<5), IF($J223=4, \"Unknown\", E223+F223), 0),\"Not required\")","v":29018},{"$f":"IF(INTRO!$E$43=\"Endemic\", IF(AND($K223>0,$K223<5), IF($K223=4,\"Unknown\", IF($K223=1, $F223*0.33, IF($K223=2, $F223*0.5+$G223*0.2, SUM(F223:G223)))), 0),\"Not required\")","v":20214.2},0,1,1,1,null,null,null,null,21600,"Wassa Amenfi Central"]
[{"$f":"IF(INTRO!$E$33<>0,INTRO!$E$33, \" \")","v":"Ghana"},"Western","Wassa-Amenfi West",111084,{"$f":"IF(INTRO!$E$48=\"\",\"\",ROUND($D224*INTRO!$E$48,0))","v":11997},{"$f":"IF(INTRO!$E$49=\"\",\"\",ROUND($D224*INTRO!$E$49,0))","v":27216},{"$f":"IF(INTRO!$E$50=\"\",\"\",ROUND($D224*INTRO!$E$50,0))","v":68539},0,1,2,3,{"$f":"IF(INTRO!$E$37=\"Endemic\",IF($H224>0,IF($H224=4,\"Unknown\",IF($H224=99,\"Stopped\",$D224)),0),\"Not required\")","v":0},111084,{"$f":"IF(INTRO!$E$41=\"Endemic\", IF(AND($J224>1,$J224<5), IF($J224=4, \"Unknown\", E224+F224), 0),\"Not required\")","v":39213},{"$f":"IF(INTRO!$E$43=\"Endemic\", IF(AND($K224>0,$K224<5), IF($K224=4,\"Unknown\", IF($K224=1, $F224*0.33, IF($K224=2, $F224*0.5+$G224*0.2, SUM(F224:G224)))), 0),\"Not required\")","v":95755},0,2,1,1,null,null,null,null,21603,"Wassa-Amenfi West"]
[{"$f":"IF(INTRO!$E$33<>0,INTRO!$E$33, \" \")","v":"Ghana"},null,null,null,{"$f":"IF(INTRO!$E$48=\"\",\"\",ROUND($D225*INTRO!$E$48,0))","v":0},{"$f":"IF(INTRO!$E$49=\"\",\"\",ROUND($D225*INTRO!$E$49,0))","v":0},{"$f":"IF(INTRO!$E$50=\"\",\"\",ROUND($D225*INTRO!$E$50,0))","v":0},null,null,null,null,{"$f":"IF(INTRO!$E$37=\"Endemic\",IF($H225>0,IF($H225=4,\"Unknown\",IF($H225=99,\"Stopped\",$D225)),0),\"Not required\")","v":0},{"$f":"IF(INTRO!$E$39=\"Endemic\", IF($I225>0, IF($I225=4,\"Unknown\",IF($I225=99,\"Stopped\",$D225)), 0),\"Not required\")","v":0},{"$f":"IF(INTRO!$E$41=\"Endemic\", IF(AND($J225>1,$J225<5), IF($J225=4, \"Unknown\", E225+F225), 0),\"Not required\")","v":0},{"$f":"IF(INTRO!$E$43=\"Endemic\", IF(AND($K225>0,$K225<5), IF($K225=4,\"Unknown\", IF($K225=1, $F225*0.33, IF($K225=2, $F225*0.5+$G225*0.2, SUM(F225:G225)))), 0),\"Not required\")","v":0}]
[{"$f":"IF(INTRO!$E$33<>0,INTRO!$E$33, \" \")","v":"Ghana"},null,null,null,{"$f":"IF(INTRO!$E$48=\"\",\"\",ROUND($D226*INTRO!$E$48,0))","v":0},{"$f":"IF(INTRO!$E$49=\"\",\"\",ROUND($D226*INTRO!$E$49,0))","v":0},{"$f":"IF(INTRO!$E$50=\"\",\"\",ROUND($D226*INTRO!$E$50,0))","v":0},null,null,null,null,{"$f":"IF(INTRO!$E$37=\"Endemic\",IF($H226>0,IF($H226=4,\"Unknown\",IF($H226=99,\"Stopped\",$D226)),0),\"Not required\")","v":0},{"$f":"IF(INTRO!$E$39=\"Endemic\", IF($I226>0, IF($I226=4,\"Unknown\",IF($I226=99,\"Stopped\",$D226)), 0),\"Not required\")","v":0},{"$f":"IF(INTRO!$E$41=\"Endemic\", IF(AND($J226>1,$J226<5), IF($J226=4, \"Unknown\", E226+F226), 0),\"Not required\")","v":0},{"$f":"IF(INTRO!$E$43=\"Endemic\", IF(AND($K226>0,$K226<5), IF($K226=4,\"Unknown\", IF($K226=1, $F226*0.33, IF($K226=2, $F226*0.5+$G226*0.2, SUM(F226:G226)))), 0),\"Not required\")","v":0}]
[{"$f":"IF(INTRO!$E$33<>0,INTRO!$E$33, \" \")","v":"Ghana"},null,null,null,{"$f":"IF(INTRO!$E$48=\"\",\"\",ROUND($D227*INTRO!$E$48,0))","v":0},{"$f":"IF(INTRO!$E$49=\"\",\"\",ROUND($D227*INTRO!$E$49,0))","v":0},{"$f":"IF(INTRO!$E$50=\"\",\"\",ROUND($D227*INTRO!$E$50,0))","v":0},null,null,null,null,{"$f":"IF(INTRO!$E$37=\"Endemic\",IF($H227>0,IF($H227=4,\"Unknown\",IF($H227=99,\"Stopped\",$D227)),0),\"Not required\")","v":0},{"$f":"IF(INTRO!$E$39=\"Endemic\", IF($I227>0, IF($I227=4,\"Unknown\",IF($I227=99,\"Stopped\",$D227)), 0),\"Not required\")","v":0},{"$f":"IF(INTRO!$E$41=\"Endemic\", IF(AND($J227>1,$J227<5), IF($J227=4, \"Unknown\", E227+F227), 0),\"Not required\")","v":0},{"$f":"IF(INTRO!$E$43=\"Endemic\", IF(AND($K227>0,$K227<5), IF($K227=4,\"Unknown\", IF($K227=1, $F227*0.33, IF($K227=2, $F227*0.5+$G227*0.2, SUM(F227:G227)))), 0),\"Not required\")","v":0}]
[{"$f":"IF(INTRO!$E$33<>0,INTRO!$E$33, \" \")","v":"Ghana"},null,null,null,{"$f":"IF(INTRO!$E$48=\"\",\"\",ROUND($D228*INTRO!$E$48,0))","v":0},{"$f":"IF(INTRO!$E$49=\"\",\"\",ROUND($D228*INTRO!$E$49,0))","v":0},{"$f":"IF(INTRO!$E$50=\"\",\"\",ROUND($D228*INTRO!$E$50,0))","v":0},null,null,null,null,{"$f":"IF(INTRO!$E$37=\"Endemic\",IF($H228>0,IF($H228=4,\"Unknown\",IF($H228=99,\"Stopped\",$D228)),0),\"Not required\")","v":0},{"$f":"IF(INTRO!$E$39=\"Endemic\", IF($I228>0, IF($I228=4,\"Unknown\",IF($I228=99,\"Stopped\",$D228)), 0),\"Not required\")","v":0},{"$f":"IF(INTRO!$E$41=\"Endemic\", IF(AND($J228>1,$J228<5), IF($J228=4, \"Unknown\", E228+F228), 0),\"Not required\")","v":0},{"$f":"IF(INTRO!$E$43=\"Endemic\", IF(AND($K228>0,$K228<5), IF($K228=4,\"Unknown\", IF($K228=1, $F228*0.33, IF($K228=2, $F228*0.5+$G228*0.2, SUM(F228:G228)))), 0),\"Not required\")","v":0}]
[{"$f":"IF(INTRO!$E$33<>0,INTRO!$E$33, \" \")","v":"Ghana"},null,null,null,{"$f":"IF(INTRO!$E$48=\"\",\"\",ROUND($D229*INTRO!$E$48,0))","v":0},{"$f":"IF(INTRO!$E$49=\"\",\"\",ROUND($D229*INTRO!$E$49,0))","v":0},{"$f":"IF(INTRO!$E$50=\"\",\"\",ROUND($D229*INTRO!$E$50,0))","v":0},null,null,null,null,{"$f":"IF(INTRO!$E$37=\"Endemic\",IF($H229>0,IF($H229=4,\"Unknown\",IF($H229=99,\"Stopped\",$D229)),0),\"Not required\")","v":0},{"$f":"IF(INTRO!$E$39=\"Endemic\", IF($I229>0, IF($I229=4,\"Unknown\",IF($I229=99,\"Stopped\",$D229)), 0),\"Not required\")","v":0},{"$f":"IF(INTRO!$E$41=\"Endemic\", IF(AND($J229>1,$J229<5), IF($J229=4, \"Unknown\", E229+F229), 0),\"Not required\")","v":0},{"$f":"IF(INTRO!$E$43=\"Endemic\", IF(AND($K229>0,$K229<5), IF($K229=4,\"Unknown\", IF($K229=1, $F229*0.33, IF($K229=2, $F229*0.5+$G229*0.2, SUM(F229:G229)))), 0),\"Not required\")","v":0}]

{"sheet":"DEC","index":2,"n_rows":229,"n_cols":13,"rows_kept":229,"cut":false,"hidden":true,"merged":[[3,0,3,2],[5,0,5,2],[6,5,7,5],[6,2,7,2],[6,1,7,1],[6,10,7,10],[6,0,7,0],[6,11,7,11],[5,3,5,6],[5,9,5,12],[6,4,7,4],[6,3,7,3],[6,8,7,8],[6,12,7,12],[6,7,7,7],[6,6,7,6],[6,9,7,9]]}
["Diethylcarbamazine citrate (DEC)"]
["Administrative structure, eligible population by age group, treatment plan and information about tablets"]
[]
["TOTAL",null,null,{"$f":"SUM(D$9:D$1000)","v":0},{"$f":"SUM(E$9:E$1000)","v":0},{"$f":"SUM(F$9:F$1000)","v":0},{"$f":"SUM(G$9:G$1000)","v":0},null,{"$f":"SUM(I$9:I$1000)","v":0},{"$f":"SUM(J$9:J$1000)","v":0},{"$f":"SUM(K$9:K$1000)","v":0},{"$f":"SUM(L$9:L$1000)","v":0},{"$f":"SUM(M$9:M$1000)","v":0}]
[]
["Country administrative structure",null,null,"Population requiring treatment with DEC",null,null,null,"Treatment plan","Target population","Diethylcarbamazine citrate (DEC)"]
["Country","Province/State","District","PreSAC","SAC","Adults","Total","LF","LF","Total required","Remaining in stock","Tablets to be procured","Bottle (100 mg)\n1000 tablets"]
[]
[{"$f":"IF(INTRO!$E$39<>\"Non-endemic\", \" \", IF(INTRO!$E$37=\"Non-endemic\",\" \", IF(COUNTRY_INFO!A9=0,\" \",COUNTRY_INFO!A9)))","v":" "},{"$f":"IF(INTRO!$E$39<>\"Non-endemic\", \" \", IF(INTRO!$E$37=\"Non-endemic\",\" \", IF(COUNTRY_INFO!B9=0,\" \",COUNTRY_INFO!B9)))","v":" "},{"$f":"IF(INTRO!$E$39<>\"Non-endemic\", \" \", IF(INTRO!$E$37=\"Non-endemic\",\" \", IF(COUNTRY_INFO!C9=0,\" \",COUNTRY_INFO!C9)))","v":" "},{"$f":"IF(INTRO!$E$39<>\"Non-endemic\", 0, IF(INTRO!$E$37=\"Non-endemic\",0,IF(COUNTRY_INFO!$H9=1,COUNTRY_INFO!E9,0)))","v":0},{"$f":"IF(INTRO!$E$39<>\"Non-endemic\", 0, IF(INTRO!$E$37=\"Non-endemic\",0,IF(COUNTRY_INFO!$H9=1,COUNTRY_INFO!F9,0)))","v":0},{"$f":"IF(INTRO!$E$39<>\"Non-endemic\", 0, IF(INTRO!$E$37=\"Non-endemic\",0,IF(COUNTRY_INFO!$H9=1,COUNTRY_INFO!G9,0)))","v":0},{"$f":"SUM(D9:F9)","v":0},{"$f":"IF(INTRO!$E$39=\"Non-endemic\",IF(INTRO!$E$37=\"Non-endemic\",\"Not required\",COUNTRY_INFO!P9),\"Treat with IVM\")","v":"Treat with IVM"},{"$f":"IF(H9=1,G9,0)","v":0},{"$f":"IF(I9>0,I9*2.5,0)","v":0},null,{"$f":"IF($J9>$K9,$J9-$K9,0)","v":0},{"$f":"ROUNDUP($J9/1000,0)","v":0}]
[{"$f":"IF(INTRO!$E$39<>\"Non-endemic\", \" \", IF(INTRO!$E$37=\"Non-endemic\",\" \", IF(COUNTRY_INFO!A10=0,\" \",COUNTRY_INFO!A10)))","v":" "},{"$f":"IF(INTRO!$E$39<>\"Non-endemic\", \" \", IF(INTRO!$E$37=\"Non-endemic\",\" \", IF(COUNTRY_INFO!B10=0,\" \",COUNTRY_INFO!B10)))","v":" "},{"$f":"IF(INTRO!$E$39<>\"Non-endemic\", \" \", IF(INTRO!$E$37=\"Non-endemic\",\" \", IF(COUNTRY_INFO!C10=0,\" \",COUNTRY_INFO!C10)))","v":" "},{"$f":"IF(INTRO!$E$39<>\"Non-endemic\", 0, IF(INTRO!$E$37=\"Non-endemic\",0,IF(COUNTRY_INFO!$H10=1,COUNTRY_INFO!E10,0)))","v":0},{"$f":"IF(INTRO!$E$39<>\"Non-endemic\", 0, IF(INTRO!$E$37=\"Non-endemic\",0,IF(COUNTRY_INFO!$H10=1,COUNTRY_INFO!F10,0)))","v":0},{"$f":"IF(INTRO!$E$39<>\"Non-endemic\", 0, IF(INTRO!$E$37=\"Non-endemic\",0,IF(COUNTRY_INFO!$H10=1,COUNTRY_INFO!G10,0)))","v":0},0,{"$f":"IF(INTRO!$E$39=\"Non-endemic\",IF(INTRO!$E$37=\"Non-endemic\",\"Not required\",COUNTRY_INFO!P10),\"Treat with IVM\")","v":"Treat with IVM"},0,0,null,0,0]
[{"$f":"IF(INTRO!$E$39<>\"Non-endemic\", \" \", IF(INTRO!$E$37=\"Non-endemic\",\" \", IF(COUNTRY_INFO!A11=0,\" \",COUNTRY_INFO!A11)))","v":" "},{"$f":"IF(INTRO!$E$39<>\"Non-endemic\", \" \", IF(INTRO!$E$37=\"Non-endemic\",\" \", IF(COUNTRY_INFO!B11=0,\" \",COUNTRY_INFO!B11)))","v":" "},{"$f":"IF(INTRO!$E$39<>\"Non-endemic\", \" \", IF(INTRO!$E$37=\"Non-endemic\",\" \", IF(COUNTRY_INFO!C11=0,\" \",COUNTRY_INFO!C11)))","v":" "},{"$f":"IF(INTRO!$E$39<>\"Non-endemic\", 0, IF(INTRO!$E$37=\"Non-endemic\",0,IF(COUNTRY_INFO!$H11=1,COUNTRY_INFO!E11,0)))","v":0},{"$f":"IF(INTRO!$E$39<>\"Non-endemic\", 0, IF(INTRO!$E$37=\"Non-endemic\",0,IF(COUNTRY_INFO!$H11=1,COUNTRY_INFO!F11,0)))","v":0},{"$f":"IF(INTRO!$E$39<>\"Non-endemic\", 0, IF(INTRO!$E$37=\"Non-endemic\",0,IF(COUNTRY_INFO!$H11=1,COUNTRY_INFO!G11,0)))","v":0},0,{"$f":"IF(INTRO!$E$39=\"Non-endemic\",IF(INTRO!$E$37=\"Non-endemic\",\"Not required\",COUNTRY_INFO!P11),\"Treat with IVM\")","v":"Treat with IVM"},0,0,null,0,0]
[{"$f":"IF(INTRO!$E$39<>\"Non-endemic\", \" \", IF(INTRO!$E$37=\"Non-endemic\",\" \", IF(COUNTRY_INFO!A12=0,\" \",COUNTRY_INFO!A12)))","v":" "},{"$f":"IF(INTRO!$E$39<>\"Non-endemic\", \" \", IF(INTRO!$E$37=\"Non-endemic\",\" \", IF(COUNTRY_INFO!B12=0,\" \",COUNTRY_INFO!B12)))","v":" "},{"$f":"IF(INTRO!$E$39<>\"Non-endemic\", \" \", IF(INTRO!$E$37=\"Non-endemic\",\" \", IF(COUNTRY_INFO!C12=0,\" \",COUNTRY_INFO!C12)))","v":" "},{"$f":"IF(INTRO!$E$39<>\"Non-endemic\", 0, IF(INTRO!$E$37=\"Non-endemic\",0,IF(COUNTRY_INFO!$H12=1,COUNTRY_INFO!E12,0)))","v":0},{"$f":"IF(INTRO!$E$39<>\"Non-endemic\", 0, IF(INTRO!$E$37=\"Non-endemic\",0,IF(COUNTRY_INFO!$H12=1,COUNTRY_INFO!F12,0)))","v":0},{"$f":"IF(INTRO!$E$39<>\"Non-endemic\", 0, IF(INTRO!$E$37=\"Non-endemic\",0,IF(COUNTRY_INFO!$H12=1,COUNTRY_INFO!G12,0)))","v":0},0,{"$f":"IF(INTRO!$E$39=\"Non-endemic\",IF(INTRO!$E$37=\"Non-endemic\",\"Not required\",COUNTRY_INFO!P12),\"Treat with IVM\")","v":"Treat with IVM"},0,0,null,0,0]
[{"$f":"IF(INTRO!$E$39<>\"Non-endemic\", \" \", IF(INTRO!$E$37=\"Non-endemic\",\" \", IF(COUNTRY_INFO!A13=0,\" \",COUNTRY_INFO!A13)))","v":" "},{"$f":"IF(INTRO!$E$39<>\"Non-endemic\", \" \", IF(INTRO!$E$37=\"Non-endemic\",\" \", IF(COUNTRY_INFO!B13=0,\" \",COUNTRY_INFO!B13)))","v":" "},{"$f":"IF(INTRO!$E$39<>\"Non-endemic\", \" \", IF(INTRO!$E$37=\"Non-endemic\",\" \", IF(COUNTRY_INFO!C13=0,\" \",COUNTRY_INFO!C13)))","v":" "},{"$f":"IF(INTRO!$E$39<>\"Non-endemic\", 0, IF(INTRO!$E$37=\"Non-endemic\",0,IF(COUNTRY_INFO!$H13=1,COUNTRY_INFO!E13,0)))","v":0},{"$f":"IF(INTRO!$E$39<>\"Non-endemic\", 0, IF(INTRO!$E$37=\"Non-endemic\",0,IF(COUNTRY_INFO!$H13=1,COUNTRY_INFO!F13,0)))","v":0},{"$f":"IF(INTRO!$E$39<>\"Non-endemic\", 0, IF(INTRO!$E$37=\"Non-endemic\",0,IF(COUNTRY_INFO!$H13=1,COUNTRY_INFO!G13,0)))","v":0},0,{"$f":"IF(INTRO!$E$39=\"Non-endemic\",IF(INTRO!$E$37=\"Non-endemic\",\"Not required\",COUNTRY_INFO!P13),\"Treat with IVM\")","v":"Treat with IVM"},0,0,null,0,0]
[{"$f":"IF(INTRO!$E$39<>\"Non-endemic\", \" \", IF(INTRO!$E$37=\"Non-endemic\",\" \", IF(COUNTRY_INFO!A14=0,\" \",COUNTRY_INFO!A14)))","v":" "},{"$f":"IF(INTRO!$E$39<>\"Non-endemic\", \" \", IF(INTRO!$E$37=\"Non-endemic\",\" \", IF(COUNTRY_INFO!B14=0,\" \",COUNTRY_INFO!B14)))","v":" "},{"$f":"IF(INTRO!$E$39<>\"Non-endemic\", \" \", IF(INTRO!$E$37=\"Non-endemic\",\" \", IF(COUNTRY_INFO!C14=0,\" \",COUNTRY_INFO!C14)))","v":" "},{"$f":"IF(INTRO!$E$39<>\"Non-endemic\", 0, IF(INTRO!$E$37=\"Non-endemic\",0,IF(COUNTRY_INFO!$H14=1,COUNTRY_INFO!E14,0)))","v":0},{"$f":"IF(INTRO!$E$39<>\"Non-endemic\", 0, IF(INTRO!$E$37=\"Non-endemic\",0,IF(COUNTRY_INFO!$H14=1,COUNTRY_INFO!F14,0)))","v":0},{"$f":"IF(INTRO!$E$39<>\"Non-endemic\", 0, IF(INTRO!$E$37=\"Non-endemic\",0,IF(COUNTRY_INFO!$H14=1,COUNTRY_INFO!G14,0)))","v":0},0,{"$f":"IF(INTRO!$E$39=\"Non-endemic\",IF(INTRO!$E$37=\"Non-endemic\",\"Not required\",COUNTRY_INFO!P14),\"Treat with IVM\")","v":"Treat with IVM"},0,0,null,0,0]
[{"$f":"IF(INTRO!$E$39<>\"Non-endemic\", \" \", IF(INTRO!$E$37=\"Non-endemic\",\" \", IF(COUNTRY_INFO!A15=0,\" \",COUNTRY_INFO!A15)))","v":" "},{"$f":"IF(INTRO!$E$39<>\"Non-endemic\", \" \", IF(INTRO!$E$37=\"Non-endemic\",\" \", IF(COUNTRY_INFO!B15=0,\" \",COUNTRY_INFO!B15)))","v":" "},{"$f":"IF(INTRO!$E$39<>\"Non-endemic\", \" \", IF(INTRO!$E$37=\"Non-endemic\",\" \", IF(COUNTRY_INFO!C15=0,\" \",COUNTRY_INFO!C15)))","v":" "},{"$f":"IF(INTRO!$E$39<>\"Non-endemic\", 0, IF(INTRO!$E$37=\"Non-endemic\",0,IF(COUNTRY_INFO!$H15=1,COUNTRY_INFO!E15,0)))","v":0},{"$f":"IF(INTRO!$E$39<>\"Non-endemic\", 0, IF(INTRO!$E$37=\"Non-endemic\",0,IF(COUNTRY_INFO!$H15=1,COUNTRY_INFO!F15,0)))","v":0},{"$f":"IF(INTRO!$E$39<>\"Non-endemic\", 0, IF(INTRO!$E$37=\"Non-endemic\",0,IF(COUNTRY_INFO!$H15=1,COUNTRY_INFO!G15,0)))","v":0},0,{"$f":"IF(INTRO!$E$39=\"Non-endemic\",IF(INTRO!$E$37=\"Non-endemic\",\"Not required\",COUNTRY_INFO!P15),\"Treat with IVM\")","v":"Treat with IVM"},0,0,null,0,0]
[{"$f":"IF(INTRO!$E$39<>\"Non-endemic\", \" \", IF(INTRO!$E$37=\"Non-endemic\",\" \", IF(COUNTRY_INFO!A16=0,\" \",COUNTRY_INFO!A16)))","v":" "},{"$f":"IF(INTRO!$E$39<>\"Non-endemic\", \" \", IF(INTRO!$E$37=\"Non-endemic\",\" \", IF(COUNTRY_INFO!B16=0,\" \",COUNTRY_INFO!B16)))","v":" "},{"$f":"IF(INTRO!$E$39<>\"Non-endemic\", \" \", IF(INTRO!$E$37=\"Non-endemic\",\" \", IF(COUNTRY_INFO!C16=0,\" \",COUNTRY_INFO!C16)))","v":" "},{"$f":"IF(INTRO!$E$39<>\"Non-endemic\", 0, IF(INTRO!$E$37=\"Non-endemic\",0,IF(COUNTRY_INFO!$H16=1,COUNTRY_INFO!E16,0)))","v":0},{"$f":"IF(INTRO!$E$39<>\"Non-endemic\", 0, IF(INTRO!$E$37=\"Non-endemic\",0,IF(COUNTRY_INFO!$H16=1,COUNTRY_INFO!F16,0)))","v":0},{"$f":"IF(INTRO!$E$39<>\"Non-endemic\", 0, IF(INTRO!$E$37=\"Non-endemic\",0,IF(COUNTRY_INFO!$H16=1,COUNTRY_INFO!G16,0)))","v":0},0,{"$f":"IF(INTRO!$E$39=\"Non-endemic\",IF(INTRO!$E$37=\"Non-endemic\",\"Not required\",COUNTRY_INFO!P16),\"Treat with IVM\")","v":"Treat with IVM"},0,0,null,0,0]
[{"$f":"IF(INTRO!$E$39<>\"Non-endemic\", \" \", IF(INTRO!$E$37=\"Non-endemic\",\" \", IF(COUNTRY_INFO!A17=0,\" \",COUNTRY_INFO!A17)))","v":" "},{"$f":"IF(INTRO!$E$39<>\"Non-endemic\", \" \", IF(INTRO!$E$37=\"Non-endemic\",\" \", IF(COUNTRY_INFO!B17=0,\" \",COUNTRY_INFO!B17)))","v":" "},{"$f":"IF(INTRO!$E$39<>\"Non-endemic\", \" \", IF(INTRO!$E$37=\"Non-endemic\",\" \", IF(COUNTRY_INFO!C17=0,\" \",COUNTRY_INFO!C17)))","v":" "},{"$f":"IF(INTRO!$E$39<>\"Non-endemic\", 0, IF(INTRO!$E$37=\"Non-endemic\",0,IF(COUNTRY_INFO!$H17=1,COUNTRY_INFO!E17,0)))","v":0},{"$f":"IF(INTRO!$E$39<>\"Non-endemic\", 0, IF(INTRO!$E$37=\"Non-endemic\",0,IF(COUNTRY_INFO!$H17=1,COUNTRY_INFO!F17,0)))","v":0},{"$f":"IF(INTRO!$E$39<>\"Non-endemic\", 0, IF(INTRO!$E$37=\"Non-endemic\",0,IF(COUNTRY_INFO!$H17=1,COUNTRY_INFO!G17,0)))","v":0},0,{"$f":"IF(INTRO!$E$39=\"Non-endemic\",IF(INTRO!$E$37=\"Non-endemic\",\"Not required\",COUNTRY_INFO!P17),\"Treat with IVM\")","v":"Treat with IVM"},0,0,null,0,0]
[{"$f":"IF(INTRO!$E$39<>\"Non-endemic\", \" \", IF(INTRO!$E$37=\"Non-endemic\",\" \", IF(COUNTRY_INFO!A18=0,\" \",COUNTRY_INFO!A18)))","v":" "},{"$f":"IF(INTRO!$E$39<>\"Non-endemic\", \" \", IF(INTRO!$E$37=\"Non-endemic\",\" \", IF(COUNTRY_INFO!B18=0,\" \",COUNTRY_INFO!B18)))","v":" "},{"$f":"IF(INTRO!$E$39<>\"Non-endemic\", \" \", IF(INTRO!$E$37=\"Non-endemic\",\" \", IF(COUNTRY_INFO!C18=0,\" \",COUNTRY_INFO!C18)))","v":" "},{"$f":"IF(INTRO!$E$39<>\"Non-endemic\", 0, IF(INTRO!$E$37=\"Non-endemic\",0,IF(COUNTRY_INFO!$H18=1,COUNTRY_INFO!E18,0)))","v":0},{"$f":"IF(INTRO!$E$39<>\"Non-endemic\", 0, IF(INTRO!$E$37=\"Non-endemic\",0,IF(COUNTRY_INFO!$H18=1,COUNTRY_INFO!F18,0)))","v":0},{"$f":"IF(INTRO!$E$39<>\"Non-endemic\", 0, IF(INTRO!$E$37=\"Non-endemic\",0,IF(COUNTRY_INFO!$H18=1,COUNTRY_INFO!G18,0)))","v":0},0,{"$f":"IF(INTRO!$E$39=\"Non-endemic\",IF(INTRO!$E$37=\"Non-endemic\",\"Not required\",COUNTRY_INFO!P18),\"Treat with IVM\")","v":"Treat with IVM"},0,0,null,0,0]
[{"$f":"IF(INTRO!$E$39<>\"Non-endemic\", \" \", IF(INTRO!$E$37=\"Non-endemic\",\" \", IF(COUNTRY_INFO!A19=0,\" \",COUNTRY_INFO!A19)))","v":" "},{"$f":"IF(INTRO!$E$39<>\"Non-endemic\", \" \", IF(INTRO!$E$37=\"Non-endemic\",\" \", IF(COUNTRY_INFO!B19=0,\" \",COUNTRY_INFO!B19)))","v":" "},{"$f":"IF(INTRO!$E$39<>\"Non-endemic\", \" \", IF(INTRO!$E$37=\"Non-endemic\",\" \", IF(COUNTRY_INFO!C19=0,\" \",COUNTRY_INFO!C19)))","v":" "},{"$f":"IF(INTRO!$E$39<>\"Non-endemic\", 0, IF(INTRO!$E$37=\"Non-endemic\",0,IF(COUNTRY_INFO!$H19=1,COUNTRY_INFO!E19,0)))","v":0},{"$f":"IF(INTRO!$E$39<>\"Non-endemic\", 0, IF(INTRO!$E$37=\"Non-endemic\",0,IF(COUNTRY_INFO!$H19=1,COUNTRY_INFO!F19,0)))","v":0},{"$f":"IF(INTRO!$E$39<>\"Non-endemic\", 0, IF(INTRO!$E$37=\"Non-endemic\",0,IF(COUNTRY_INFO!$H19=1,COUNTRY_INFO!G19,0)))","v":0},0,{"$f":"IF(INTRO!$E$39=\"Non-endemic\",IF(INTRO!$E$37=\"Non-endemic\",\"Not required\",COUNTRY_INFO!P19),\"Treat with IVM\")","v":"Treat with IVM"},0,0,null,0,0]
[{"$f":"IF(INTRO!$E$39<>\"Non-endemic\", \" \", IF(INTRO!$E$37=\"Non-endemic\",\" \", IF(COUNTRY_INFO!A20=0,\" \",COUNTRY_INFO!A20)))","v":" "},{"$f":"IF(INTRO!$E$39<>\"Non-endemic\", \" \", IF(INTRO!$E$37=\"Non-endemic\",\" \", IF(COUNTRY_INFO!B20=0,\" \",COUNTRY_INFO!B20)))","v":" "},{"$f":"IF(INTRO!$E$39<>\"Non-endemic\", \" \", IF(INTRO!$E$37=\"Non-endemic\",\" \", IF(COUNTRY_INFO!C20=0,\" \",COUNTRY_INFO!C20)))","v":" "},{"$f":"IF(INTRO!$E$39<>\"Non-endemic\", 0, IF(INTRO!$E$37=\"Non-endemic\",0,IF(COUNTRY_INFO!$H20=1,COUNTRY_INFO!E20,0)))","v":0},{"$f":"IF(INTRO!$E$39<>\"Non-endemic\", 0, IF(INTRO!$E$37=\"Non-endemic\",0,IF(COUNTRY_INFO!$H20=1,COUNTRY_INFO!F20,0)))","v":0},{"$f":"IF(INTRO!$E$39<>\"Non-endemic\", 0, IF(INTRO!$E$37=\"Non-endemic\",0,IF(COUNTRY_INFO!$H20=1,COUNTRY_INFO!G20,0)))","v":0},0,{"$f":"IF(INTRO!$E$39=\"Non-endemic\",IF(INTRO!$E$37=\"Non-endemic\",\"Not required\",COUNTRY_INFO!P20),\"Treat with IVM\")","v":"Treat with IVM"},0,0,null,0,0]
[{"$f":"IF(INTRO!$E$39<>\"Non-endemic\", \" \", IF(INTRO!$E$37=\"Non-endemic\",\" \", IF(COUNTRY_INFO!A21=0,\" \",COUNTRY_INFO!A21)))","v":" "},{"$f":"IF(INTRO!$E$39<>\"Non-endemic\", \" \", IF(INTRO!$E$37=\"Non-endemic\",\" \", IF(COUNTRY_INFO!B21=0,\" \",COUNTRY_INFO!B21)))","v":" "},{"$f":"IF(INTRO!$E$39<>\"Non-endemic\", \" \", IF(INTRO!$E$37=\"Non-endemic\",\" \", IF(COUNTRY_INFO!C21=0,\" \",COUNTRY_INFO!C21)))","v":" "},{"$f":"IF(INTRO!$E$39<>\"Non-endemic\", 0, IF(INTRO!$E$37=\"Non-endemic\",0,IF(COUNTRY_INFO!$H21=1,COUNTRY_INFO!E21,0)))","v":0},{"$f":"IF(INTRO!$E$39<>\"Non-endemic\", 0, IF(INTRO!$E$37=\"Non-endemic\",0,IF(COUNTRY_INFO!$H21=1,COUNTRY_INFO!F21,0)))","v":0},{"$f":"IF(INTRO!$E$39<>\"Non-endemic\", 0, IF(INTRO!$E$37=\"Non-endemic\",0,IF(COUNTRY_INFO!$H21=1,COUNTRY_INFO!G21,0)))","v":0},0,{"$f":"IF(INTRO!$E$39=\"Non-endemic\",IF(INTRO!$E$37=\"Non-endemic\",\"Not required\",COUNTRY_INFO!P21),\"Treat with IVM\")","v":"Treat with IVM"},0,0,null,0,0]
[{"$f":"IF(INTRO!$E$39<>\"Non-endemic\", \" \", IF(INTRO!$E$37=\"Non-endemic\",\" \", IF(COUNTRY_INFO!A22=0,\" \",COUNTRY_INFO!A22)))","v":" "},{"$f":"IF(INTRO!$E$39<>\"Non-endemic\", \" \", IF(INTRO!$E$37=\"Non-endemic\",\" \", IF(COUNTRY_INFO!B22=0,\" \",COUNTRY_INFO!B22)))","v":" "},{"$f":"IF(INTRO!$E$39<>\"Non-endemic\", \" \", IF(INTRO!$E$37=\"Non-endemic\",\" \", IF(COUNTRY_INFO!C22=0,\" \",COUNTRY_INFO!C22)))","v":" "},{"$f":"IF(INTRO!$E$39<>\"Non-endemic\", 0, IF(INTRO!$E$37=\"Non-endemic\",0,IF(COUNTRY_INFO!$H22=1,COUNTRY_INFO!E22,0)))","v":0},{"$f":"IF(INTRO!$E$39<>\"Non-endemic\", 0, IF(INTRO!$E$37=\"Non-endemic\",0,IF(COUNTRY_INFO!$H22=1,COUNTRY_INFO!F22,0)))","v":0},{"$f":"IF(INTRO!$E$39<>\"Non-endemic\", 0, IF(INTRO!$E$37=\"Non-endemic\",0,IF(COUNTRY_INFO!$H22=1,COUNTRY_INFO!G22,0)))","v":0},0,{"$f":"IF(INTRO!$E$39=\"Non-endemic\",IF(INTRO!$E$37=\"Non-endemic\",\"Not required\",COUNTRY_INFO!P22),\"Treat with IVM\")","v":"Treat with IVM"},0,0,null,0,0]
[{"$f":"IF(INTRO!$E$39<>\"Non-endemic\", \" \", IF(INTRO!$E$37=\"Non-endemic\",\" \", IF(COUNTRY_INFO!A23=0,\" \",COUNTRY_INFO!A23)))","v":" "},{"$f":"IF(INTRO!$E$39<>\"Non-endemic\", \" \", IF(INTRO!$E$37=\"Non-endemic\",\" \", IF(COUNTRY_INFO!B23=0,\" \",COUNTRY_INFO!B23)))","v":" "},{"$f":"IF(INTRO!$E$39<>\"Non-endemic\", \" \", IF(INTRO!$E$37=\"Non-endemic\",\" \", IF(COUNTRY_INFO!C23=0,\" \",COUNTRY_INFO!C23)))","v":" "},{"$f":"IF(INTRO!$E$39<>\"Non-endemic\", 0, IF(INTRO!$E$37=\"Non-endemic\",0,IF(COUNTRY_INFO!$H23=1,COUNTRY_INFO!E23,0)))","v":0},{"$f":"IF(INTRO!$E$39<>\"Non-endemic\", 0, IF(INTRO!$E$37=\"Non-endemic\",0,IF(COUNTRY_INFO!$H23=1,COUNTRY_INFO!F23,0)))","v":0},{"$f":"IF(INTRO!$E$39<>\"Non-endemic\", 0, IF(INTRO!$E$37=\"Non-endemic\",0,IF(COUNTRY_INFO!$H23=1,COUNTRY_INFO!G23,0)))","v":0},0,{"$f":"IF(INTRO!$E$39=\"Non-endemic\",IF(INTRO!$E$37=\"Non-endemic\",\"Not required\",COUNTRY_INFO!P23),\"Treat with IVM\")","v":"Treat with IVM"},0,0,null,0,0]
[{"$f":"IF(INTRO!$E$39<>\"Non-endemic\", \" \", IF(INTRO!$E$37=\"Non-endemic\",\" \", IF(COUNTRY_INFO!A24=0,\" \",COUNTRY_INFO!A24)))","v":" "},{"$f":"IF(INTRO!$E$39<>\"Non-endemic\", \" \", IF(INTRO!$E$37=\"Non-endemic\",\" \", IF(COUNTRY_INFO!B24=0,\" \",COUNTRY_INFO!B24)))","v":" "},{"$f":"IF(INTRO!$E$39<>\"Non-endemic\", \" \", IF(INTRO!$E$37=\"Non-endemic\",\" \", IF(COUNTRY_INFO!C24=0,\" \",COUNTRY_INFO!C24)))","v":" "},{"$f":"IF(INTRO!$E$39<>\"Non-endemic\", 0, IF(INTRO!$E$37=\"Non-endemic\",0,IF(COUNTRY_INFO!$H24=1,COUNTRY_INFO!E24,0)))","v":0},{"$f":"IF(INTRO!$E$39<>\"Non-endemic\", 0, IF(INTRO!$E$37=\"Non-endemic\",0,IF(COUNTRY_INFO!$H24=1,COUNTRY_INFO!F24,0)))","v":0},{"$f":"IF(INTRO!$E$39<>\"Non-endemic\", 0, IF(INTRO!$E$37=\"Non-endemic\",0,IF(COUNTRY_INFO!$H24=1,COUNTRY_INFO!G24,0)))","v":0},0,{"$f":"IF(INTRO!$E$39=\"Non-endemic\",IF(INTRO!$E$37=\"Non-endemic\",\"Not required\",COUNTRY_INFO!P24),\"Treat with IVM\")","v":"Treat with IVM"},0,0,null,0,0]
[{"$f":"IF(INTRO!$E$39<>\"Non-endemic\", \" \", IF(INTRO!$E$37=\"Non-endemic\",\" \", IF(COUNTRY_INFO!A25=0,\" \",COUNTRY_INFO!A25)))","v":" "},{"$f":"IF(INTRO!$E$39<>\"Non-endemic\", \" \", IF(INTRO!$E$37=\"Non-endemic\",\" \", IF(COUNTRY_INFO!B25=0,\" \",COUNTRY_INFO!B25)))","v":" "},{"$f":"IF(INTRO!$E$39<>\"Non-endemic\", \" \", IF(INTRO!$E$37=\"Non-endemic\",\" \", IF(COUNTRY_INFO!C25=0,\" \",COUNTRY_INFO!C25)))","v":" "},{"$f":"IF(INTRO!$E$39<>\"Non-endemic\", 0, IF(INTRO!$E$37=\"Non-endemic\",0,IF(COUNTRY_INFO!$H25=1,COUNTRY_INFO!E25,0)))","v":0},{"$f":"IF(INTRO!$E$39<>\"Non-endemic\", 0, IF(INTRO!$E$37=\"Non-endemic\",0,IF(COUNTRY_INFO!$H25=1,COUNTRY_INFO!F25,0)))","v":0},{"$f":"IF(INTRO!$E$39<>\"Non-endemic\", 0, IF(INTRO!$E$37=\"Non-endemic\",0,IF(COUNTRY_INFO!$H25=1,COUNTRY_INFO!G25,0)))","v":0},0,{"$f":"IF(INTRO!$E$39=\"Non-endemic\",IF(INTRO!$E$37=\"Non-endemic\",\"Not required\",COUNTRY_INFO!P25),\"Treat with IVM\")","v":"Treat with IVM"},0,0,null,0,0]
[{"$f":"IF(INTRO!$E$39<>\"Non-endemic\", \" \", IF(INTRO!$E$37=\"Non-endemic\",\" \", IF(COUNTRY_INFO!A26=0,\" \",COUNTRY_INFO!A26)))","v":" "},{"$f":"IF(INTRO!$E$39<>\"Non-endemic\", \" \", IF(INTRO!$E$37=\"Non-endemic\",\" \", IF(COUNTRY_INFO!B26=0,\" \",COUNTRY_INFO!B26)))","v":" "},{"$f":"IF(INTRO!$E$39<>\"Non-endemic\", \" \", IF(INTRO!$E$37=\"Non-endemic\",\" \", IF(COUNTRY_INFO!C26=0,\" \",COUNTRY_INFO!C26)))","v":" "},{"$f":"IF(INTRO!$E$39<>\"Non-endemic\", 0, IF(INTRO!$E$37=\"Non-endemic\",0,IF(COUNTRY_INFO!$H26=1,COUNTRY_INFO!E26,0)))","v":0},{"$f":"IF(INTRO!$E$39<>\"Non-endemic\", 0, IF(INTRO!$E$37=\"Non-endemic\",0,IF(COUNTRY_INFO!$H26=1,COUNTRY_INFO!F26,0)))","v":0},{"$f":"IF(INTRO!$E$39<>\"Non-endemic\", 0, IF(INTRO!$E$37=\"Non-endemic\",0,IF(COUNTRY_INFO!$H26=1,COUNTRY_INFO!G26,0)))","v":0},0,{"$f":"IF(INTRO!$E$39=\"Non-endemic\",IF(INTRO!$E$37=\"Non-endemic\",\"Not required\",COUNTRY_INFO!P26),\"Treat with IVM\")","v":"Treat with IVM"},0,0,null,0,0]
[{"$f":"IF(INTRO!$E$39<>\"Non-endemic\", \" \", IF(INTRO!$E$37=\"Non-endemic\",\" \", IF(COUNTRY_INFO!A27=0,\" \",COUNTRY_INFO!A27)))","v":" "},{"$f":"IF(INTRO!$E$39<>\"Non-endemic\", \" \", IF(INTRO!$E$37=\"Non-endemic\",\" \", IF(COUNTRY_INFO!B27=0,\" \",COUNTRY_INFO!B27)))","v":" "},{"$f":"IF(INTRO!$E$39<>\"Non-endemic\", \" \", IF(INTRO!$E$37=\"Non-endemic\",\" \", IF(COUNTRY_INFO!C27=0,\" \",COUNTRY_INFO!C27)))","v":" "},{"$f":"IF(INTRO!$E$39<>\"Non-endemic\", 0, IF(INTRO!$E$37=\"Non-endemic\",0,IF(COUNTRY_INFO!$H27=1,COUNTRY_INFO!E27,0)))","v":0},{"$f":"IF(INTRO!$E$39<>\"Non-endemic\", 0, IF(INTRO!$E$37=\"Non-endemic\",0,IF(COUNTRY_INFO!$H27=1,COUNTRY_INFO!F27,0)))","v":0},{"$f":"IF(INTRO!$E$39<>\"Non-endemic\", 0, IF(INTRO!$E$37=\"Non-endemic\",0,IF(COUNTRY_INFO!$H27=1,COUNTRY_INFO!G27,0)))","v":0},0,{"$f":"IF(INTRO!$E$39=\"Non-endemic\",IF(INTRO!$E$37=\"Non-endemic\",\"Not required\",COUNTRY_INFO!P27),\"Treat with IVM\")","v":"Treat with IVM"},0,0,null,0,0]
[{"$f":"IF(INTRO!$E$39<>\"Non-endemic\", \" \", IF(INTRO!$E$37=\"Non-endemic\",\" \", IF(COUNTRY_INFO!A28=0,\" \",COUNTRY_INFO!A28)))","v":" "},{"$f":"IF(INTRO!$E$39<>\"Non-endemic\", \" \", IF(INTRO!$E$37=\"Non-endemic\",\" \", IF(COUNTRY_INFO!B28=0,\" \",COUNTRY_INFO!B28)))","v":" "},{"$f":"IF(INTRO!$E$39<>\"Non-endemic\", \" \", IF(INTRO!$E$37=\"Non-endemic\",\" \", IF(COUNTRY_INFO!C28=0,\" \",COUNTRY_INFO!C28)))","v":" "},{"$f":"IF(INTRO!$E$39<>\"Non-endemic\", 0, IF(INTRO!$E$37=\"Non-endemic\",0,IF(COUNTRY_INFO!$H28=1,COUNTRY_INFO!E28,0)))","v":0},{"$f":"IF(INTRO!$E$39<>\"Non-endemic\", 0, IF(INTRO!$E$37=\"Non-endemic\",0,IF(COUNTRY_INFO!$H28=1,COUNTRY_INFO!F28,0)))","v":0},{"$f":"IF(INTRO!$E$39<>\"Non-endemic\", 0, IF(INTRO!$E$37=\"Non-endemic\",0,IF(COUNTRY_INFO!$H28=1,COUNTRY_INFO!G28,0)))","v":0},0,{"$f":"IF(INTRO!$E$39=\"Non-endemic\",IF(INTRO!$E$37=\"Non-endemic\",\"Not required\",COUNTRY_INFO!P28),\"Treat with IVM\")","v":"Treat with IVM"},0,0,null,0,0]
[{"$f":"IF(INTRO!$E$39<>\"Non-endemic\", \" \", IF(INTRO!$E$37=\"Non-endemic\",\" \", IF(COUNTRY_INFO!A29=0,\" \",COUNTRY_INFO!A29)))","v":" "},{"$f":"IF(INTRO!$E$39<>\"Non-endemic\", \" \", IF(INTRO!$E$37=\"Non-endemic\",\" \", IF(COUNTRY_INFO!B29=0,\" \",COUNTRY_INFO!B29)))","v":" "},{"$f":"IF(INTRO!$E$39<>\"Non-endemic\", \" \", IF(INTRO!$E$37=\"Non-endemic\",\" \", IF(COUNTRY_INFO!C29=0,\" \",COUNTRY_INFO!C29)))","v":" "},{"$f":"IF(INTRO!$E$39<>\"Non-endemic\", 0, IF(INTRO!$E$37=\"Non-endemic\",0,IF(COUNTRY_INFO!$H29=1,COUNTRY_INFO!E29,0)))","v":0},{"$f":"IF(INTRO!$E$39<>\"Non-endemic\", 0, IF(INTRO!$E$37=\"Non-endemic\",0,IF(COUNTRY_INFO!$H29=1,COUNTRY_INFO!F29,0)))","v":0},{"$f":"IF(INTRO!$E$39<>\"Non-endemic\", 0, IF(INTRO!$E$37=\"Non-endemic\",0,IF(COUNTRY_INFO!$H29=1,COUNTRY_INFO!G29,0)))","v":0},0,{"$f":"IF(INTRO!$E$39=\"Non-endemic\",IF(INTRO!$E$37=\"Non-endemic\",\"Not required\",COUNTRY_INFO!P29),\"Treat with IVM\")","v":"Treat with IVM"},0,0,null,0,0]
[{"$f":"IF(INTRO!$E$39<>\"Non-endemic\", \" \", IF(INTRO!$E$37=\"Non-endemic\",\" \", IF(COUNTRY_INFO!A30=0,\" \",COUNTRY_INFO!A30)))","v":" "},{"$f":"IF(INTRO!$E$39<>\"Non-endemic\", \" \", IF(INTRO!$E$37=\"Non-endemic\",\" \", IF(COUNTRY_INFO!B30=0,\" \",COUNTRY_INFO!B30)))","v":" "},{"$f":"IF(INTRO!$E$39<>\"Non-endemic\", \" \", IF(INTRO!$E$37=\"Non-endemic\",\" \", IF(COUNTRY_INFO!C30=0,\" \",COUNTRY_INFO!C30)))","v":" "},{"$f":"IF(INTRO!$E$39<>\"Non-endemic\", 0, IF(INTRO!$E$37=\"Non-endemic\",0,IF(COUNTRY_INFO!$H30=1,COUNTRY_INFO!E30,0)))","v":0},{"$f":"IF(INTRO!$E$39<>\"Non-endemic\", 0, IF(INTRO!$E$37=\"Non-endemic\",0,IF(COUNTRY_INFO!$H30=1,COUNTRY_INFO!F30,0)))","v":0},{"$f":"IF(INTRO!$E$39<>\"Non-endemic\", 0, IF(INTRO!$E$37=\"Non-endemic\",0,IF(COUNTRY_INFO!$H30=1,COUNTRY_INFO!G30,0)))","v":0},0,{"$f":"IF(INTRO!$E$39=\"Non-endemic\",IF(INTRO!$E$37=\"Non-endemic\",\"Not required\",COUNTRY_INFO!P30),\"Treat with IVM\")","v":"Treat with IVM"},0,0,null,0,0]
[{"$f":"IF(INTRO!$E$39<>\"Non-endemic\", \" \", IF(INTRO!$E$37=\"Non-endemic\",\" \", IF(COUNTRY_INFO!A31=0,\" \",COUNTRY_INFO!A31)))","v":" "},{"$f":"IF(INTRO!$E$39<>\"Non-endemic\", \" \", IF(INTRO!$E$37=\"Non-endemic\",\" \", IF(COUNTRY_INFO!B31=0,\" \",COUNTRY_INFO!B31)))","v":" "},{"$f":"IF(INTRO!$E$39<>\"Non-endemic\", \" \", IF(INTRO!$E$37=\"Non-endemic\",\" \", IF(COUNTRY_INFO!C31=0,\" \",COUNTRY_INFO!C31)))","v":" "},{"$f":"IF(INTRO!$E$39<>\"Non-endemic\", 0, IF(INTRO!$E$37=\"Non-endemic\",0,IF(COUNTRY_INFO!$H31=1,COUNTRY_INFO!E31,0)))","v":0},{"$f":"IF(INTRO!$E$39<>\"Non-endemic\", 0, IF(INTRO!$E$37=\"Non-endemic\",0,IF(COUNTRY_INFO!$H31=1,COUNTRY_INFO!F31,0)))","v":0},{"$f":"IF(INTRO!$E$39<>\"Non-endemic\", 0, IF(INTRO!$E$37=\"Non-endemic\",0,IF(COUNTRY_INFO!$H31=1,COUNTRY_INFO!G31,0)))","v":0},0,{"$f":"IF(INTRO!$E$39=\"Non-endemic\",IF(INTRO!$E$37=\"Non-endemic\",\"Not required\",COUNTRY_INFO!P31),\"Treat with IVM\")","v":"Treat with IVM"},0,0,null,0,0]
[{"$f":"IF(INTRO!$E$39<>\"Non-endemic\", \" \", IF(INTRO!$E$37=\"Non-endemic\",\" \", IF(COUNTRY_INFO!A32=0,\" \",COUNTRY_INFO!A32)))","v":" "},{"$f":"IF(INTRO!$E$39<>\"Non-endemic\", \" \", IF(INTRO!$E$37=\"Non-endemic\",\" \", IF(COUNTRY_INFO!B32=0,\" \",COUNTRY_INFO!B32)))","v":" "},{"$f":"IF(INTRO!$E$39<>\"Non-endemic\", \" \", IF(INTRO!$E$37=\"Non-endemic\",\" \", IF(COUNTRY_INFO!C32=0,\" \",COUNTRY_INFO!C32)))","v":" "},{"$f":"IF(INTRO!$E$39<>\"Non-endemic\", 0, IF(INTRO!$E$37=\"Non-endemic\",0,IF(COUNTRY_INFO!$H32=1,COUNTRY_INFO!E32,0)))","v":0},{"$f":"IF(INTRO!$E$39<>\"Non-endemic\", 0, IF(INTRO!$E$37=\"Non-endemic\",0,IF(COUNTRY_INFO!$H32=1,COUNTRY_INFO!F32,0)))","v":0},{"$f":"IF(INTRO!$E$39<>\"Non-endemic\", 0, IF(INTRO!$E$37=\"Non-endemic\",0,IF(COUNTRY_INFO!$H32=1,COUNTRY_INFO!G32,0)))","v":0},0,{"$f":"IF(INTRO!$E$39=\"Non-endemic\",IF(INTRO!$E$37=\"Non-endemic\",\"Not required\",COUNTRY_INFO!P32),\"Treat with IVM\")","v":"Treat with IVM"},0,0,null,0,0]
[{"$f":"IF(INTRO!$E$39<>\"Non-endemic\", \" \", IF(INTRO!$E$37=\"Non-endemic\",\" \", IF(COUNTRY_INFO!A33=0,\" \",COUNTRY_INFO!A33)))","v":" "},{"$f":"IF(INTRO!$E$39<>\"Non-endemic\", \" \", IF(INTRO!$E$37=\"Non-endemic\",\" \", IF(COUNTRY_INFO!B33=0,\" \",COUNTRY_INFO!B33)))","v":" "},{"$f":"IF(INTRO!$E$39<>\"Non-endemic\", \" \", IF(INTRO!$E$37=\"Non-endemic\",\" \", IF(COUNTRY_INFO!C33=0,\" \",COUNTRY_INFO!C33)))","v":" "},{"$f":"IF(INTRO!$E$39<>\"Non-endemic\", 0, IF(INTRO!$E$37=\"Non-endemic\",0,IF(COUNTRY_INFO!$H33=1,COUNTRY_INFO!E33,0)))","v":0},{"$f":"IF(INTRO!$E$39<>\"Non-endemic\", 0, IF(INTRO!$E$37=\"Non-endemic\",0,IF(COUNTRY_INFO!$H33=1,COUNTRY_INFO!F33,0)))","v":0},{"$f":"IF(INTRO!$E$39<>\"Non-endemic\", 0, IF(INTRO!$E$37=\"Non-endemic\",0,IF(COUNTRY_INFO!$H33=1,COUNTRY_INFO!G33,0)))","v":0},0,{"$f":"IF(INTRO!$E$39=\"Non-endemic\",IF(INTRO!$E$37=\"Non-endemic\",\"Not required\",COUNTRY_INFO!P33),\"Treat with IVM\")","v":"Treat with IVM"},0,0,null,0,0]
[{"$f":"IF(INTRO!$E$39<>\"Non-endemic\", \" \", IF(INTRO!$E$37=\"Non-endemic\",\" \", IF(COUNTRY_INFO!A34=0,\" \",COUNTRY_INFO!A34)))","v":" "},{"$f":"IF(INTRO!$E$39<>\"Non-endemic\", \" \", IF(INTRO!$E$37=\"Non-endemic\",\" \", IF(COUNTRY_INFO!B34=0,\" \",COUNTRY_INFO!B34)))","v":" "},{"$f":"IF(INTRO!$E$39<>\"Non-endemic\", \" \", IF(INTRO!$E$37=\"Non-endemic\",\" \", IF(COUNTRY_INFO!C34=0,\" \",COUNTRY_INFO!C34)))","v":" "},{"$f":"IF(INTRO!$E$39<>\"Non-endemic\", 0, IF(INTRO!$E$37=\"Non-endemic\",0,IF(COUNTRY_INFO!$H34=1,COUNTRY_INFO!E34,0)))","v":0},{"$f":"IF(INTRO!$E$39<>\"Non-endemic\", 0, IF(INTRO!$E$37=\"Non-endemic\",0,IF(COUNTRY_INFO!$H34=1,COUNTRY_INFO!F34,0)))","v":0},{"$f":"IF(INTRO!$E$39<>\"Non-endemic\", 0, IF(INTRO!$E$37=\"Non-endemic\",0,IF(COUNTRY_INFO!$H34=1,COUNTRY_INFO!G34,0)))","v":0},0,{"$f":"IF(INTRO!$E$39=\"Non-endemic\",IF(INTRO!$E$37=\"Non-endemic\",\"Not required\",COUNTRY_INFO!P34),\"Treat with IVM\")","v":"Treat with IVM"},0,0,null,0,0]
[{"$f":"IF(INTRO!$E$39<>\"Non-endemic\", \" \", IF(INTRO!$E$37=\"Non-endemic\",\" \", IF(COUNTRY_INFO!A35=0,\" \",COUNTRY_INFO!A35)))","v":" "},{"$f":"IF(INTRO!$E$39<>\"Non-endemic\", \" \", IF(INTRO!$E$37=\"Non-endemic\",\" \", IF(COUNTRY_INFO!B35=0,\" \",COUNTRY_INFO!B35)))","v":" "},{"$f":"IF(INTRO!$E$39<>\"Non-endemic\", \" \", IF(INTRO!$E$37=\"Non-endemic\",\" \", IF(COUNTRY_INFO!C35=0,\" \",COUNTRY_INFO!C35)))","v":" "},{"$f":"IF(INTRO!$E$39<>\"Non-endemic\", 0, IF(INTRO!$E$37=\"Non-endemic\",0,IF(COUNTRY_INFO!$H35=1,COUNTRY_INFO!E35,0)))","v":0},{"$f":"IF(INTRO!$E$39<>\"Non-endemic\", 0, IF(INTRO!$E$37=\"Non-endemic\",0,IF(COUNTRY_INFO!$H35=1,COUNTRY_INFO!F35,0)))","v":0},{"$f":"IF(INTRO!$E$39<>\"Non-endemic\", 0, IF(INTRO!$E$37=\"Non-endemic\",0,IF(COUNTRY_INFO!$H35=1,COUNTRY_INFO!G35,0)))","v":0},0,{"$f":"IF(INTRO!$E$39=\"Non-endemic\",IF(INTRO!$E$37=\"Non-endemic\",\"Not required\",COUNTRY_INFO!P35),\"Treat with IVM\")","v":"Treat with IVM"},0,0,null,0,0]
[{"$f":"IF(INTRO!$E$39<>\"Non-endemic\", \" \", IF(INTRO!$E$37=\"Non-endemic\",\" \", IF(COUNTRY_INFO!A36=0,\" \",COUNTRY_INFO!A36)))","v":" "},{"$f":"IF(INTRO!$E$39<>\"Non-endemic\", \" \", IF(INTRO!$E$37=\"Non-endemic\",\" \", IF(COUNTRY_INFO!B36=0,\" \",COUNTRY_INFO!B36)))","v":" "},{"$f":"IF(INTRO!$E$39<>\"Non-endemic\", \" \", IF(INTRO!$E$37=\"Non-endemic\",\" \", IF(COUNTRY_INFO!C36=0,\" \",COUNTRY_INFO!C36)))","v":" "},{"$f":"IF(INTRO!$E$39<>\"Non-endemic\", 0, IF(INTRO!$E$37=\"Non-endemic\",0,IF(COUNTRY_INFO!$H36=1,COUNTRY_INFO!E36,0)))","v":0},{"$f":"IF(INTRO!$E$39<>\"Non-endemic\", 0, IF(INTRO!$E$37=\"Non-endemic\",0,IF(COUNTRY_INFO!$H36=1,COUNTRY_INFO!F36,0)))","v":0},{"$f":"IF(INTRO!$E$39<>\"Non-endemic\", 0, IF(INTRO!$E$37=\"Non-endemic\",0,IF(COUNTRY_INFO!$H36=1,COUNTRY_INFO!G36,0)))","v":0},0,{"$f":"IF(INTRO!$E$39=\"Non-endemic\",IF(INTRO!$E$37=\"Non-endemic\",\"Not required\",COUNTRY_INFO!P36),\"Treat with IVM\")","v":"Treat with IVM"},0,0,null,0,0]
[{"$f":"IF(INTRO!$E$39<>\"Non-endemic\", \" \", IF(INTRO!$E$37=\"Non-endemic\",\" \", IF(COUNTRY_INFO!A37=0,\" \",COUNTRY_INFO!A37)))","v":" "},{"$f":"IF(INTRO!$E$39<>\"Non-endemic\", \" \", IF(INTRO!$E$37=\"Non-endemic\",\" \", IF(COUNTRY_INFO!B37=0,\" \",COUNTRY_INFO!B37)))","v":" "},{"$f":"IF(INTRO!$E$39<>\"Non-endemic\", \" \", IF(INTRO!$E$37=\"Non-endemic\",\" \", IF(COUNTRY_INFO!C37=0,\" \",COUNTRY_INFO!C37)))","v":" "},{"$f":"IF(INTRO!$E$39<>\"Non-endemic\", 0, IF(INTRO!$E$37=\"Non-endemic\",0,IF(COUNTRY_INFO!$H37=1,COUNTRY_INFO!E37,0)))","v":0},{"$f":"IF(INTRO!$E$39<>\"Non-endemic\", 0, IF(INTRO!$E$37=\"Non-endemic\",0,IF(COUNTRY_INFO!$H37=1,COUNTRY_INFO!F37,0)))","v":0},{"$f":"IF(INTRO!$E$39<>\"Non-endemic\", 0, IF(INTRO!$E$37=\"Non-endemic\",0,IF(COUNTRY_INFO!$H37=1,COUNTRY_INFO!G37,0)))","v":0},0,{"$f":"IF(INTRO!$E$39=\"Non-endemic\",IF(INTRO!$E$37=\"Non-endemic\",\"Not required\",COUNTRY_INFO!P37),\"Treat with IVM\")","v":"Treat with IVM"},0,0,null,0,0]
[{"$f":"IF(INTRO!$E$39<>\"Non-endemic\", \" \", IF(INTRO!$E$37=\"Non-endemic\",\" \", IF(COUNTRY_INFO!A38=0,\" \",COUNTRY_INFO!A38)))","v":" "},{"$f":"IF(INTRO!$E$39<>\"Non-endemic\", \" \", IF(INTRO!$E$37=\"Non-endemic\",\" \", IF(COUNTRY_INFO!B38=0,\" \",COUNTRY_INFO!B38)))","v":" "},{"$f":"IF(INTRO!$E$39<>\"Non-endemic\", \" \", IF(INTRO!$E$37=\"Non-endemic\",\" \", IF(COUNTRY_INFO!C38=0,\" \",COUNTRY_INFO!C38)))","v":" "},{"$f":"IF(INTRO!$E$39<>\"Non-endemic\", 0, IF(INTRO!$E$37=\"Non-endemic\",0,IF(COUNTRY_INFO!$H38=1,COUNTRY_INFO!E38,0)))","v":0},{"$f":"IF(INTRO!$E$39<>\"Non-endemic\", 0, IF(INTRO!$E$37=\"Non-endemic\",0,IF(COUNTRY_INFO!$H38=1,COUNTRY_INFO!F38,0)))","v":0},{"$f":"IF(INTRO!$E$39<>\"Non-endemic\", 0, IF(INTRO!$E$37=\"Non-endemic\",0,IF(COUNTRY_INFO!$H38=1,COUNTRY_INFO!G38,0)))","v":0},0,{"$f":"IF(INTRO!$E$39=\"Non-endemic\",IF(INTRO!$E$37=\"Non-endemic\",\"Not required\",COUNTRY_INFO!P38),\"Treat with IVM\")","v":"Treat with IVM"},0,0,null,0,0]
[{"$f":"IF(INTRO!$E$39<>\"Non-endemic\", \" \", IF(INTRO!$E$37=\"Non-endemic\",\" \", IF(COUNTRY_INFO!A39=0,\" \",COUNTRY_INFO!A39)))","v":" "},{"$f":"IF(INTRO!$E$39<>\"Non-endemic\", \" \", IF(INTRO!$E$37=\"Non-endemic\",\" \", IF(COUNTRY_INFO!B39=0,\" \",COUNTRY_INFO!B39)))","v":" "},{"$f":"IF(INTRO!$E$39<>\"Non-endemic\", \" \", IF(INTRO!$E$37=\"Non-endemic\",\" \", IF(COUNTRY_INFO!C39=0,\" \",COUNTRY_INFO!C39)))","v":" "},{"$f":"IF(INTRO!$E$39<>\"Non-endemic\", 0, IF(INTRO!$E$37=\"Non-endemic\",0,IF(COUNTRY_INFO!$H39=1,COUNTRY_INFO!E39,0)))","v":0},{"$f":"IF(INTRO!$E$39<>\"Non-endemic\", 0, IF(INTRO!$E$37=\"Non-endemic\",0,IF(COUNTRY_INFO!$H39=1,COUNTRY_INFO!F39,0)))","v":0},{"$f":"IF(INTRO!$E$39<>\"Non-endemic\", 0, IF(INTRO!$E$37=\"Non-endemic\",0,IF(COUNTRY_INFO!$H39=1,COUNTRY_INFO!G39,0)))","v":0},0,{"$f":"IF(INTRO!$E$39=\"Non-endemic\",IF(INTRO!$E$37=\"Non-endemic\",\"Not required\",COUNTRY_INFO!P39),\"Treat with IVM\")","v":"Treat with IVM"},0,0,null,0,0]
[{"$f":"IF(INTRO!$E$39<>\"Non-endemic\", \" \", IF(INTRO!$E$37=\"Non-endemic\",\" \", IF(COUNTRY_INFO!A40=0,\" \",COUNTRY_INFO!A40)))","v":" "},{"$f":"IF(INTRO!$E$39<>\"Non-endemic\", \" \", IF(INTRO!$E$37=\"Non-endemic\",\" \", IF(COUNTRY_INFO!B40=0,\" \",COUNTRY_INFO!B40)))","v":" "},{"$f":"IF(INTRO!$E$39<>\"Non-endemic\", \" \", IF(INTRO!$E$37=\"Non-endemic\",\" \", IF(COUNTRY_INFO!C40=0,\" \",COUNTRY_INFO!C40)))","v":" "},{"$f":"IF(INTRO!$E$39<>\"Non-endemic\", 0, IF(INTRO!$E$37=\"Non-endemic\",0,IF(COUNTRY_INFO!$H40=1,COUNTRY_INFO!E40,0)))","v":0},{"$f":"IF(INTRO!$E$39<>\"Non-endemic\", 0, IF(INTRO!$E$37=\"Non-endemic\",0,IF(COUNTRY_INFO!$H40=1,COUNTRY_INFO!F40,0)))","v":0},{"$f":"IF(INTRO!$E$39<>\"Non-endemic\", 0, IF(INTRO!$E$37=\"Non-endemic\",0,IF(COUNTRY_INFO!$H40=1,COUNTRY_INFO!G40,0)))","v":0},0,{"$f":"IF(INTRO!$E$39=\"Non-endemic\",IF(INTRO!$E$37=\"Non-endemic\",\"Not required\",COUNTRY_INFO!P40),\"Treat with IVM\")","v":"Treat with IVM"},0,0,null,0,0]
[{"$f":"IF(INTRO!$E$39<>\"Non-endemic\", \" \", IF(INTRO!$E$37=\"Non-endemic\",\" \", IF(COUNTRY_INFO!A41=0,\" \",COUNTRY_INFO!A41)))","v":" "},{"$f":"IF(INTRO!$E$39<>\"Non-endemic\", \" \", IF(INTRO!$E$37=\"Non-endemic\",\" \", IF(COUNTRY_INFO!B41=0,\" \",COUNTRY_INFO!B41)))","v":" "},{"$f":"IF(INTRO!$E$39<>\"Non-endemic\", \" \", IF(INTRO!$E$37=\"Non-endemic\",\" \", IF(COUNTRY_INFO!C41=0,\" \",COUNTRY_INFO!C41)))","v":" "},{"$f":"IF(INTRO!$E$39<>\"Non-endemic\", 0, IF(INTRO!$E$37=\"Non-endemic\",0,IF(COUNTRY_INFO!$H41=1,COUNTRY_INFO!E41,0)))","v":0},{"$f":"IF(INTRO!$E$39<>\"Non-endemic\", 0, IF(INTRO!$E$37=\"Non-endemic\",0,IF(COUNTRY_INFO!$H41=1,COUNTRY_INFO!F41,0)))","v":0},{"$f":"IF(INTRO!$E$39<>\"Non-endemic\", 0, IF(INTRO!$E$37=\"Non-endemic\",0,IF(COUNTRY_INFO!$H41=1,COUNTRY_INFO!G41,0)))","v":0},0,{"$f":"IF(INTRO!$E$39=\"Non-endemic\",IF(INTRO!$E$37=\"Non-endemic\",\"Not required\",COUNTRY_INFO!P41),\"Treat with IVM\")","v":"Treat with IVM"},0,0,null,0,0]
[{"$f":"IF(INTRO!$E$39<>\"Non-endemic\", \" \", IF(INTRO!$E$37=\"Non-endemic\",\" \", IF(COUNTRY_INFO!A42=0,\" \",COUNTRY_INFO!A42)))","v":" "},{"$f":"IF(INTRO!$E$39<>\"Non-endemic\", \" \", IF(INTRO!$E$37=\"Non-endemic\",\" \", IF(COUNTRY_INFO!B42=0,\" \",COUNTRY_INFO!B42)))","v":" "},{"$f":"IF(INTRO!$E$39<>\"Non-endemic\", \" \", IF(INTRO!$E$37=\"Non-endemic\",\" \", IF(COUNTRY_INFO!C42=0,\" \",COUNTRY_INFO!C42)))","v":" "},{"$f":"IF(INTRO!$E$39<>\"Non-endemic\", 0, IF(INTRO!$E$37=\"Non-endemic\",0,IF(COUNTRY_INFO!$H42=1,COUNTRY_INFO!E42,0)))","v":0},{"$f":"IF(INTRO!$E$39<>\"Non-endemic\", 0, IF(INTRO!$E$37=\"Non-endemic\",0,IF(COUNTRY_INFO!$H42=1,COUNTRY_INFO!F42,0)))","v":0},{"$f":"IF(INTRO!$E$39<>\"Non-endemic\", 0, IF(INTRO!$E$37=\"Non-endemic\",0,IF(COUNTRY_INFO!$H42=1,COUNTRY_INFO!G42,0)))","v":0},0,{"$f":"IF(INTRO!$E$39=\"Non-endemic\",IF(INTRO!$E$37=\"Non-endemic\",\"Not required\",COUNTRY_INFO!P42),\"Treat with IVM\")","v":"Treat with IVM"},0,0,null,0,0]
[{"$f":"IF(INTRO!$E$39<>\"Non-endemic\", \" \", IF(INTRO!$E$37=\"Non-endemic\",\" \", IF(COUNTRY_INFO!A43=0,\" \",COUNTRY_INFO!A43)))","v":" "},{"$f":"IF(INTRO!$E$39<>\"Non-endemic\", \" \", IF(INTRO!$E$37=\"Non-endemic\",\" \", IF(COUNTRY_INFO!B43=0,\" \",COUNTRY_INFO!B43)))","v":" "},{"$f":"IF(INTRO!$E$39<>\"Non-endemic\", \" \", IF(INTRO!$E$37=\"Non-endemic\",\" \", IF(COUNTRY_INFO!C43=0,\" \",COUNTRY_INFO!C43)))","v":" "},{"$f":"IF(INTRO!$E$39<>\"Non-endemic\", 0, IF(INTRO!$E$37=\"Non-endemic\",0,IF(COUNTRY_INFO!$H43=1,COUNTRY_INFO!E43,0)))","v":0},{"$f":"IF(INTRO!$E$39<>\"Non-endemic\", 0, IF(INTRO!$E$37=\"Non-endemic\",0,IF(COUNTRY_INFO!$H43=1,COUNTRY_INFO!F43,0)))","v":0},{"$f":"IF(INTRO!$E$39<>\"Non-endemic\", 0, IF(INTRO!$E$37=\"Non-endemic\",0,IF(COUNTRY_INFO!$H43=1,COUNTRY_INFO!G43,0)))","v":0},0,{"$f":"IF(INTRO!$E$39=\"Non-endemic\",IF(INTRO!$E$37=\"Non-endemic\",\"Not required\",COUNTRY_INFO!P43),\"Treat with IVM\")","v":"Treat with IVM"},0,0,null,0,0]
[{"$f":"IF(INTRO!$E$39<>\"Non-endemic\", \" \", IF(INTRO!$E$37=\"Non-endemic\",\" \", IF(COUNTRY_INFO!A44=0,\" \",COUNTRY_INFO!A44)))","v":" "},{"$f":"IF(INTRO!$E$39<>\"Non-endemic\", \" \", IF(INTRO!$E$37=\"Non-endemic\",\" \", IF(COUNTRY_INFO!B44=0,\" \",COUNTRY_INFO!B44)))","v":" "},{"$f":"IF(INTRO!$E$39<>\"Non-endemic\", \" \", IF(INTRO!$E$37=\"Non-endemic\",\" \", IF(COUNTRY_INFO!C44=0,\" \",COUNTRY_INFO!C44)))","v":" "},{"$f":"IF(INTRO!$E$39<>\"Non-endemic\", 0, IF(INTRO!$E$37=\"Non-endemic\",0,IF(COUNTRY_INFO!$H44=1,COUNTRY_INFO!E44,0)))","v":0},{"$f":"IF(INTRO!$E$39<>\"Non-endemic\", 0, IF(INTRO!$E$37=\"Non-endemic\",0,IF(COUNTRY_INFO!$H44=1,COUNTRY_INFO!F44,0)))","v":0},{"$f":"IF(INTRO!$E$39<>\"Non-endemic\", 0, IF(INTRO!$E$37=\"Non-endemic\",0,IF(COUNTRY_INFO!$H44=1,COUNTRY_INFO!G44,0)))","v":0},0,{"$f":"IF(INTRO!$E$39=\"Non-endemic\",IF(INTRO!$E$37=\"Non-endemic\",\"Not required\",COUNTRY_INFO!P44),\"Treat with IVM\")","v":"Treat with IVM"},0,0,null,0,0]
[{"$f":"IF(INTRO!$E$39<>\"Non-endemic\", \" \", IF(INTRO!$E$37=\"Non-endemic\",\" \", IF(COUNTRY_INFO!A45=0,\" \",COUNTRY_INFO!A45)))","v":" "},{"$f":"IF(INTRO!$E$39<>\"Non-endemic\", \" \", IF(INTRO!$E$37=\"Non-endemic\",\" \", IF(COUNTRY_INFO!B45=0,\" \",COUNTRY_INFO!B45)))","v":" "},{"$f":"IF(INTRO!$E$39<>\"Non-endemic\", \" \", IF(INTRO!$E$37=\"Non-endemic\",\" \", IF(COUNTRY_INFO!C45=0,\" \",COUNTRY_INFO!C45)))","v":" "},{"$f":"IF(INTRO!$E$39<>\"Non-endemic\", 0, IF(INTRO!$E$37=\"Non-endemic\",0,IF(COUNTRY_INFO!$H45=1,COUNTRY_INFO!E45,0)))","v":0},{"$f":"IF(INTRO!$E$39<>\"Non-endemic\", 0, IF(INTRO!$E$37=\"Non-endemic\",0,IF(COUNTRY_INFO!$H45=1,COUNTRY_INFO!F45,0)))","v":0},{"$f":"IF(INTRO!$E$39<>\"Non-endemic\", 0, IF(INTRO!$E$37=\"Non-endemic\",0,IF(COUNTRY_INFO!$H45=1,COUNTRY_INFO!G45,0)))","v":0},0,{"$f":"IF(INTRO!$E$39=\"Non-endemic\",IF(INTRO!$E$37=\"Non-endemic\",\"Not required\",COUNTRY_INFO!P45),\"Treat with IVM\")","v":"Treat with IVM"},0,0,null,0,0]
[{"$f":"IF(INTRO!$E$39<>\"Non-endemic\", \" \", IF(INTRO!$E$37=\"Non-endemic\",\" \", IF(COUNTRY_INFO!A46=0,\" \",COUNTRY_INFO!A46)))","v":" "},{"$f":"IF(INTRO!$E$39<>\"Non-endemic\", \" \", IF(INTRO!$E$37=\"Non-endemic\",\" \", IF(COUNTRY_INFO!B46=0,\" \",COUNTRY_INFO!B46)))","v":" "},{"$f":"IF(INTRO!$E$39<>\"Non-endemic\", \" \", IF(INTRO!$E$37=\"Non-endemic\",\" \", IF(COUNTRY_INFO!C46=0,\" \",COUNTRY_INFO!C46)))","v":" "},{"$f":"IF(INTRO!$E$39<>\"Non-endemic\", 0, IF(INTRO!$E$37=\"Non-endemic\",0,IF(COUNTRY_INFO!$H46=1,COUNTRY_INFO!E46,0)))","v":0},{"$f":"IF(INTRO!$E$39<>\"Non-endemic\", 0, IF(INTRO!$E$37=\"Non-endemic\",0,IF(COUNTRY_INFO!$H46=1,COUNTRY_INFO!F46,0)))","v":0},{"$f":"IF(INTRO!$E$39<>\"Non-endemic\", 0, IF(INTRO!$E$37=\"Non-endemic\",0,IF(COUNTRY_INFO!$H46=1,COUNTRY_INFO!G46,0)))","v":0},0,{"$f":"IF(INTRO!$E$39=\"Non-endemic\",IF(INTRO!$E$37=\"Non-endemic\",\"Not required\",COUNTRY_INFO!P46),\"Treat with IVM\")","v":"Treat with IVM"},0,0,null,0,0]
[{"$f":"IF(INTRO!$E$39<>\"Non-endemic\", \" \", IF(INTRO!$E$37=\"Non-endemic\",\" \", IF(COUNTRY_INFO!A47=0,\" \",COUNTRY_INFO!A47)))","v":" "},{"$f":"IF(INTRO!$E$39<>\"Non-endemic\", \" \", IF(INTRO!$E$37=\"Non-endemic\",\" \", IF(COUNTRY_INFO!B47=0,\" \",COUNTRY_INFO!B47)))","v":" "},{"$f":"IF(INTRO!$E$39<>\"Non-endemic\", \" \", IF(INTRO!$E$37=\"Non-endemic\",\" \", IF(COUNTRY_INFO!C47=0,\" \",COUNTRY_INFO!C47)))","v":" "},{"$f":"IF(INTRO!$E$39<>\"Non-endemic\", 0, IF(INTRO!$E$37=\"Non-endemic\",0,IF(COUNTRY_INFO!$H47=1,COUNTRY_INFO!E47,0)))","v":0},{"$f":"IF(INTRO!$E$39<>\"Non-endemic\", 0, IF(INTRO!$E$37=\"Non-endemic\",0,IF(COUNTRY_INFO!$H47=1,COUNTRY_INFO!F47,0)))","v":0},{"$f":"IF(INTRO!$E$39<>\"Non-endemic\", 0, IF(INTRO!$E$37=\"Non-endemic\",0,IF(COUNTRY_INFO!$H47=1,COUNTRY_INFO!G47,0)))","v":0},0,{"$f":"IF(INTRO!$E$39=\"Non-endemic\",IF(INTRO!$E$37=\"Non-endemic\",\"Not required\",COUNTRY_INFO!P47),\"Treat with IVM\")","v":"Treat with IVM"},0,0,null,0,0]
[{"$f":"IF(INTRO!$E$39<>\"Non-endemic\", \" \", IF(INTRO!$E$37=\"Non-endemic\",\" \", IF(COUNTRY_INFO!A48=0,\" \",COUNTRY_INFO!A48)))","v":" "},{"$f":"IF(INTRO!$E$39<>\"Non-endemic\", \" \", IF(INTRO!$E$37=\"Non-endemic\",\" \", IF(COUNTRY_INFO!B48=0,\" \",COUNTRY_INFO!B48)))","v":" "},{"$f":"IF(INTRO!$E$39<>\"Non-endemic\", \" \", IF(INTRO!$E$37=\"Non-endemic\",\" \", IF(COUNTRY_INFO!C48=0,\" \",COUNTRY_INFO!C48)))","v":" "},{"$f":"IF(INTRO!$E$39<>\"Non-endemic\", 0, IF(INTRO!$E$37=\"Non-endemic\",0,IF(COUNTRY_INFO!$H48=1,COUNTRY_INFO!E48,0)))","v":0},{"$f":"IF(INTRO!$E$39<>\"Non-endemic\", 0, IF(INTRO!$E$37=\"Non-endemic\",0,IF(COUNTRY_INFO!$H48=1,COUNTRY_INFO!F48,0)))","v":0},{"$f":"IF(INTRO!$E$39<>\"Non-endemic\", 0, IF(INTRO!$E$37=\"Non-endemic\",0,IF(COUNTRY_INFO!$H48=1,COUNTRY_INFO!G48,0)))","v":0},0,{"$f":"IF(INTRO!$E$39=\"Non-endemic\",IF(INTRO!$E$37=\"Non-endemic\",\"Not required\",COUNTRY_INFO!P48),\"Treat with IVM\")","v":"Treat with IVM"},0,0,null,0,0]
[{"$f":"IF(INTRO!$E$39<>\"Non-endemic\", \" \", IF(INTRO!$E$37=\"Non-endemic\",\" \", IF(COUNTRY_INFO!A49=0,\" \",COUNTRY_INFO!A49)))","v":" "},{"$f":"IF(INTRO!$E$39<>\"Non-endemic\", \" \", IF(INTRO!$E$37=\"Non-endemic\",\" \", IF(COUNTRY_INFO!B49=0,\" \",COUNTRY_INFO!B49)))","v":" "},{"$f":"IF(INTRO!$E$39<>\"Non-endemic\", \" \", IF(INTRO!$E$37=\"Non-endemic\",\" \", IF(COUNTRY_INFO!C49=0,\" \",COUNTRY_INFO!C49)))","v":" "},{"$f":"IF(INTRO!$E$39<>\"Non-endemic\", 0, IF(INTRO!$E$37=\"Non-endemic\",0,IF(COUNTRY_INFO!$H49=1,COUNTRY_INFO!E49,0)))","v":0},{"$f":"IF(INTRO!$E$39<>\"Non-endemic\", 0, IF(INTRO!$E$37=\"Non-endemic\",0,IF(COUNTRY_INFO!$H49=1,COUNTRY_INFO!F49,0)))","v":0},{"$f":"IF(INTRO!$E$39<>\"Non-endemic\", 0, IF(INTRO!$E$37=\"Non-endemic\",0,IF(COUNTRY_INFO!$H49=1,COUNTRY_INFO!G49,0)))","v":0},0,{"$f":"IF(INTRO!$E$39=\"Non-endemic\",IF(INTRO!$E$37=\"Non-endemic\",\"Not required\",COUNTRY_INFO!P49),\"Treat with IVM\")","v":"Treat with IVM"},0,0,null,0,0]
[{"$f":"IF(INTRO!$E$39<>\"Non-endemic\", \" \", IF(INTRO!$E$37=\"Non-endemic\",\" \", IF(COUNTRY_INFO!A50=0,\" \",COUNTRY_INFO!A50)))","v":" "},{"$f":"IF(INTRO!$E$39<>\"Non-endemic\", \" \", IF(INTRO!$E$37=\"Non-endemic\",\" \", IF(COUNTRY_INFO!B50=0,\" \",COUNTRY_INFO!B50)))","v":" "},{"$f":"IF(INTRO!$E$39<>\"Non-endemic\", \" \", IF(INTRO!$E$37=\"Non-endemic\",\" \", IF(COUNTRY_INFO!C50=0,\" \",COUNTRY_INFO!C50)))","v":" "},{"$f":"IF(INTRO!$E$39<>\"Non-endemic\", 0, IF(INTRO!$E$37=\"Non-endemic\",0,IF(COUNTRY_INFO!$H50=1,COUNTRY_INFO!E50,0)))","v":0},{"$f":"IF(INTRO!$E$39<>\"Non-endemic\", 0, IF(INTRO!$E$37=\"Non-endemic\",0,IF(COUNTRY_INFO!$H50=1,COUNTRY_INFO!F50,0)))","v":0},{"$f":"IF(INTRO!$E$39<>\"Non-endemic\", 0, IF(INTRO!$E$37=\"Non-endemic\",0,IF(COUNTRY_INFO!$H50=1,COUNTRY_INFO!G50,0)))","v":0},0,{"$f":"IF(INTRO!$E$39=\"Non-endemic\",IF(INTRO!$E$37=\"Non-endemic\",\"Not required\",COUNTRY_INFO!P50),\"Treat with IVM\")","v":"Treat with IVM"},0,0,null,0,0]
[{"$f":"IF(INTRO!$E$39<>\"Non-endemic\", \" \", IF(INTRO!$E$37=\"Non-endemic\",\" \", IF(COUNTRY_INFO!A51=0,\" \",COUNTRY_INFO!A51)))","v":" "},{"$f":"IF(INTRO!$E$39<>\"Non-endemic\", \" \", IF(INTRO!$E$37=\"Non-endemic\",\" \", IF(COUNTRY_INFO!B51=0,\" \",COUNTRY_INFO!B51)))","v":" "},{"$f":"IF(INTRO!$E$39<>\"Non-endemic\", \" \", IF(INTRO!$E$37=\"Non-endemic\",\" \", IF(COUNTRY_INFO!C51=0,\" \",COUNTRY_INFO!C51)))","v":" "},{"$f":"IF(INTRO!$E$39<>\"Non-endemic\", 0, IF(INTRO!$E$37=\"Non-endemic\",0,IF(COUNTRY_INFO!$H51=1,COUNTRY_INFO!E51,0)))","v":0},{"$f":"IF(INTRO!$E$39<>\"Non-endemic\", 0, IF(INTRO!$E$37=\"Non-endemic\",0,IF(COUNTRY_INFO!$H51=1,COUNTRY_INFO!F51,0)))","v":0},{"$f":"IF(INTRO!$E$39<>\"Non-endemic\", 0, IF(INTRO!$E$37=\"Non-endemic\",0,IF(COUNTRY_INFO!$H51=1,COUNTRY_INFO!G51,0)))","v":0},0,{"$f":"IF(INTRO!$E$39=\"Non-endemic\",IF(INTRO!$E$37=\"Non-endemic\",\"Not required\",COUNTRY_INFO!P51),\"Treat with IVM\")","v":"Treat with IVM"},0,0,null,0,0]
[{"$f":"IF(INTRO!$E$39<>\"Non-endemic\", \" \", IF(INTRO!$E$37=\"Non-endemic\",\" \", IF(COUNTRY_INFO!A52=0,\" \",COUNTRY_INFO!A52)))","v":" "},{"$f":"IF(INTRO!$E$39<>\"Non-endemic\", \" \", IF(INTRO!$E$37=\"Non-endemic\",\" \", IF(COUNTRY_INFO!B52=0,\" \",COUNTRY_INFO!B52)))","v":" "},{"$f":"IF(INTRO!$E$39<>\"Non-endemic\", \" \", IF(INTRO!$E$37=\"Non-endemic\",\" \", IF(COUNTRY_INFO!C52=0,\" \",COUNTRY_INFO!C52)))","v":" "},{"$f":"IF(INTRO!$E$39<>\"Non-endemic\", 0, IF(INTRO!$E$37=\"Non-endemic\",0,IF(COUNTRY_INFO!$H52=1,COUNTRY_INFO!E52,0)))","v":0},{"$f":"IF(INTRO!$E$39<>\"Non-endemic\", 0, IF(INTRO!$E$37=\"Non-endemic\",0,IF(COUNTRY_INFO!$H52=1,COUNTRY_INFO!F52,0)))","v":0},{"$f":"IF(INTRO!$E$39<>\"Non-endemic\", 0, IF(INTRO!$E$37=\"Non-endemic\",0,IF(COUNTRY_INFO!$H52=1,COUNTRY_INFO!G52,0)))","v":0},0,{"$f":"IF(INTRO!$E$39=\"Non-endemic\",IF(INTRO!$E$37=\"Non-endemic\",\"Not required\",COUNTRY_INFO!P52),\"Treat with IVM\")","v":"Treat with IVM"},0,0,null,0,0]
[{"$f":"IF(INTRO!$E$39<>\"Non-endemic\", \" \", IF(INTRO!$E$37=\"Non-endemic\",\" \", IF(COUNTRY_INFO!A53=0,\" \",COUNTRY_INFO!A53)))","v":" "},{"$f":"IF(INTRO!$E$39<>\"Non-endemic\", \" \", IF(INTRO!$E$37=\"Non-endemic\",\" \", IF(COUNTRY_INFO!B53=0,\" \",COUNTRY_INFO!B53)))","v":" "},{"$f":"IF(INTRO!$E$39<>\"Non-endemic\", \" \", IF(INTRO!$E$37=\"Non-endemic\",\" \", IF(COUNTRY_INFO!C53=0,\" \",COUNTRY_INFO!C53)))","v":" "},{"$f":"IF(INTRO!$E$39<>\"Non-endemic\", 0, IF(INTRO!$E$37=\"Non-endemic\",0,IF(COUNTRY_INFO!$H53=1,COUNTRY_INFO!E53,0)))","v":0},{"$f":"IF(INTRO!$E$39<>\"Non-endemic\", 0, IF(INTRO!$E$37=\"Non-endemic\",0,IF(COUNTRY_INFO!$H53=1,COUNTRY_INFO!F53,0)))","v":0},{"$f":"IF(INTRO!$E$39<>\"Non-endemic\", 0, IF(INTRO!$E$37=\"Non-endemic\",0,IF(COUNTRY_INFO!$H53=1,COUNTRY_INFO!G53,0)))","v":0},0,{"$f":"IF(INTRO!$E$39=\"Non-endemic\",IF(INTRO!$E$37=\"Non-endemic\",\"Not required\",COUNTRY_INFO!P53),\"Treat with IVM\")","v":"Treat with IVM"},0,0,null,0,0]
[{"$f":"IF(INTRO!$E$39<>\"Non-endemic\", \" \", IF(INTRO!$E$37=\"Non-endemic\",\" \", IF(COUNTRY_INFO!A54=0,\" \",COUNTRY_INFO!A54)))","v":" "},{"$f":"IF(INTRO!$E$39<>\"Non-endemic\", \" \", IF(INTRO!$E$37=\"Non-endemic\",\" \", IF(COUNTRY_INFO!B54=0,\" \",COUNTRY_INFO!B54)))","v":" "},{"$f":"IF(INTRO!$E$39<>\"Non-endemic\", \" \", IF(INTRO!$E$37=\"Non-endemic\",\" \", IF(COUNTRY_INFO!C54=0,\" \",COUNTRY_INFO!C54)))","v":" "},{"$f":"IF(INTRO!$E$39<>\"Non-endemic\", 0, IF(INTRO!$E$37=\"Non-endemic\",0,IF(COUNTRY_INFO!$H54=1,COUNTRY_INFO!E54,0)))","v":0},{"$f":"IF(INTRO!$E$39<>\"Non-endemic\", 0, IF(INTRO!$E$37=\"Non-endemic\",0,IF(COUNTRY_INFO!$H54=1,COUNTRY_INFO!F54,0)))","v":0},{"$f":"IF(INTRO!$E$39<>\"Non-endemic\", 0, IF(INTRO!$E$37=\"Non-endemic\",0,IF(COUNTRY_INFO!$H54=1,COUNTRY_INFO!G54,0)))","v":0},0,{"$f":"IF(INTRO!$E$39=\"Non-endemic\",IF(INTRO!$E$37=\"Non-endemic\",\"Not required\",COUNTRY_INFO!P54),\"Treat with IVM\")","v":"Treat with IVM"},0,0,null,0,0]
[{"$f":"IF(INTRO!$E$39<>\"Non-endemic\", \" \", IF(INTRO!$E$37=\"Non-endemic\",\" \", IF(COUNTRY_INFO!A55=0,\" \",COUNTRY_INFO!A55)))","v":" "},{"$f":"IF(INTRO!$E$39<>\"Non-endemic\", \" \", IF(INTRO!$E$37=\"Non-endemic\",\" \", IF(COUNTRY_INFO!B55=0,\" \",COUNTRY_INFO!B55)))","v":" "},{"$f":"IF(INTRO!$E$39<>\"Non-endemic\", \" \", IF(INTRO!$E$37=\"Non-endemic\",\" \", IF(COUNTRY_INFO!C55=0,\" \",COUNTRY_INFO!C55)))","v":" "},{"$f":"IF(INTRO!$E$39<>\"Non-endemic\", 0, IF(INTRO!$E$37=\"Non-endemic\",0,IF(COUNTRY_INFO!$H55=1,COUNTRY_INFO!E55,0)))","v":0},{"$f":"IF(INTRO!$E$39<>\"Non-endemic\", 0, IF(INTRO!$E$37=\"Non-endemic\",0,IF(COUNTRY_INFO!$H55=1,COUNTRY_INFO!F55,0)))","v":0},{"$f":"IF(INTRO!$E$39<>\"Non-endemic\", 0, IF(INTRO!$E$37=\"Non-endemic\",0,IF(COUNTRY_INFO!$H55=1,COUNTRY_INFO!G55,0)))","v":0},0,{"$f":"IF(INTRO!$E$39=\"Non-endemic\",IF(INTRO!$E$37=\"Non-endemic\",\"Not required\",COUNTRY_INFO!P55),\"Treat with IVM\")","v":"Treat with IVM"},0,0,null,0,0]
[{"$f":"IF(INTRO!$E$39<>\"Non-endemic\", \" \", IF(INTRO!$E$37=\"Non-endemic\",\" \", IF(COUNTRY_INFO!A56=0,\" \",COUNTRY_INFO!A56)))","v":" "},{"$f":"IF(INTRO!$E$39<>\"Non-endemic\", \" \", IF(INTRO!$E$37=\"Non-endemic\",\" \", IF(COUNTRY_INFO!B56=0,\" \",COUNTRY_INFO!B56)))","v":" "},{"$f":"IF(INTRO!$E$39<>\"Non-endemic\", \" \", IF(INTRO!$E$37=\"Non-endemic\",\" \", IF(COUNTRY_INFO!C56=0,\" \",COUNTRY_INFO!C56)))","v":" "},{"$f":"IF(INTRO!$E$39<>\"Non-endemic\", 0, IF(INTRO!$E$37=\"Non-endemic\",0,IF(COUNTRY_INFO!$H56=1,COUNTRY_INFO!E56,0)))","v":0},{"$f":"IF(INTRO!$E$39<>\"Non-endemic\", 0, IF(INTRO!$E$37=\"Non-endemic\",0,IF(COUNTRY_INFO!$H56=1,COUNTRY_INFO!F56,0)))","v":0},{"$f":"IF(INTRO!$E$39<>\"Non-endemic\", 0, IF(INTRO!$E$37=\"Non-endemic\",0,IF(COUNTRY_INFO!$H56=1,COUNTRY_INFO!G56,0)))","v":0},0,{"$f":"IF(INTRO!$E$39=\"Non-endemic\",IF(INTRO!$E$37=\"Non-endemic\",\"Not required\",COUNTRY_INFO!P56),\"Treat with IVM\")","v":"Treat with IVM"},0,0,null,0,0]
[{"$f":"IF(INTRO!$E$39<>\"Non-endemic\", \" \", IF(INTRO!$E$37=\"Non-endemic\",\" \", IF(COUNTRY_INFO!A57=0,\" \",COUNTRY_INFO!A57)))","v":" "},{"$f":"IF(INTRO!$E$39<>\"Non-endemic\", \" \", IF(INTRO!$E$37=\"Non-endemic\",\" \", IF(COUNTRY_INFO!B57=0,\" \",COUNTRY_INFO!B57)))","v":" "},{"$f":"IF(INTRO!$E$39<>\"Non-endemic\", \" \", IF(INTRO!$E$37=\"Non-endemic\",\" \", IF(COUNTRY_INFO!C57=0,\" \",COUNTRY_INFO!C57)))","v":" "},{"$f":"IF(INTRO!$E$39<>\"Non-endemic\", 0, IF(INTRO!$E$37=\"Non-endemic\",0,IF(COUNTRY_INFO!$H57=1,COUNTRY_INFO!E57,0)))","v":0},{"$f":"IF(INTRO!$E$39<>\"Non-endemic\", 0, IF(INTRO!$E$37=\"Non-endemic\",0,IF(COUNTRY_INFO!$H57=1,COUNTRY_INFO!F57,0)))","v":0},{"$f":"IF(INTRO!$E$39<>\"Non-endemic\", 0, IF(INTRO!$E$37=\"Non-endemic\",0,IF(COUNTRY_INFO!$H57=1,COUNTRY_INFO!G57,0)))","v":0},0,{"$f":"IF(INTRO!$E$39=\"Non-endemic\",IF(INTRO!$E$37=\"Non-endemic\",\"Not required\",COUNTRY_INFO!P57),\"Treat with IVM\")","v":"Treat with IVM"},0,0,null,0,0]
[{"$f":"IF(INTRO!$E$39<>\"Non-endemic\", \" \", IF(INTRO!$E$37=\"Non-endemic\",\" \", IF(COUNTRY_INFO!A58=0,\" \",COUNTRY_INFO!A58)))","v":" "},{"$f":"IF(INTRO!$E$39<>\"Non-endemic\", \" \", IF(INTRO!$E$37=\"Non-endemic\",\" \", IF(COUNTRY_INFO!B58=0,\" \",COUNTRY_INFO!B58)))","v":" "},{"$f":"IF(INTRO!$E$39<>\"Non-endemic\", \" \", IF(INTRO!$E$37=\"Non-endemic\",\" \", IF(COUNTRY_INFO!C58=0,\" \",COUNTRY_INFO!C58)))","v":" "},{"$f":"IF(INTRO!$E$39<>\"Non-endemic\", 0, IF(INTRO!$E$37=\"Non-endemic\",0,IF(COUNTRY_INFO!$H58=1,COUNTRY_INFO!E58,0)))","v":0},{"$f":"IF(INTRO!$E$39<>\"Non-endemic\", 0, IF(INTRO!$E$37=\"Non-endemic\",0,IF(COUNTRY_INFO!$H58=1,COUNTRY_INFO!F58,0)))","v":0},{"$f":"IF(INTRO!$E$39<>\"Non-endemic\", 0, IF(INTRO!$E$37=\"Non-endemic\",0,IF(COUNTRY_INFO!$H58=1,COUNTRY_INFO!G58,0)))","v":0},0,{"$f":"IF(INTRO!$E$39=\"Non-endemic\",IF(INTRO!$E$37=\"Non-endemic\",\"Not required\",COUNTRY_INFO!P58),\"Treat with IVM\")","v":"Treat with IVM"},0,0,null,0,0]
[{"$f":"IF(INTRO!$E$39<>\"Non-endemic\", \" \", IF(INTRO!$E$37=\"Non-endemic\",\" \", IF(COUNTRY_INFO!A59=0,\" \",COUNTRY_INFO!A59)))","v":" "},{"$f":"IF(INTRO!$E$39<>\"Non-endemic\", \" \", IF(INTRO!$E$37=\"Non-endemic\",\" \", IF(COUNTRY_INFO!B59=0,\" \",COUNTRY_INFO!B59)))","v":" "},{"$f":"IF(INTRO!$E$39<>\"Non-endemic\", \" \", IF(INTRO!$E$37=\"Non-endemic\",\" \", IF(COUNTRY_INFO!C59=0,\" \",COUNTRY_INFO!C59)))","v":" "},{"$f":"IF(INTRO!$E$39<>\"Non-endemic\", 0, IF(INTRO!$E$37=\"Non-endemic\",0,IF(COUNTRY_INFO!$H59=1,COUNTRY_INFO!E59,0)))","v":0},{"$f":"IF(INTRO!$E$39<>\"Non-endemic\", 0, IF(INTRO!$E$37=\"Non-endemic\",0,IF(COUNTRY_INFO!$H59=1,COUNTRY_INFO!F59,0)))","v":0},{"$f":"IF(INTRO!$E$39<>\"Non-endemic\", 0, IF(INTRO!$E$37=\"Non-endemic\",0,IF(COUNTRY_INFO!$H59=1,COUNTRY_INFO!G59,0)))","v":0},0,{"$f":"IF(INTRO!$E$39=\"Non-endemic\",IF(INTRO!$E$37=\"Non-endemic\",\"Not required\",COUNTRY_INFO!P59),\"Treat with IVM\")","v":"Treat with IVM"},0,0,null,0,0]
[{"$f":"IF(INTRO!$E$39<>\"Non-endemic\", \" \", IF(INTRO!$E$37=\"Non-endemic\",\" \", IF(COUNTRY_INFO!A60=0,\" \",COUNTRY_INFO!A60)))","v":" "},{"$f":"IF(INTRO!$E$39<>\"Non-endemic\", \" \", IF(INTRO!$E$37=\"Non-endemic\",\" \", IF(COUNTRY_INFO!B60=0,\" \",COUNTRY_INFO!B60)))","v":" "},{"$f":"IF(INTRO!$E$39<>\"Non-endemic\", \" \", IF(INTRO!$E$37=\"Non-endemic\",\" \", IF(COUNTRY_INFO!C60=0,\" \",COUNTRY_INFO!C60)))","v":" "},{"$f":"IF(INTRO!$E$39<>\"Non-endemic\", 0, IF(INTRO!$E$37=\"Non-endemic\",0,IF(COUNTRY_INFO!$H60=1,COUNTRY_INFO!E60,0)))","v":0},{"$f":"IF(INTRO!$E$39<>\"Non-endemic\", 0, IF(INTRO!$E$37=\"Non-endemic\",0,IF(COUNTRY_INFO!$H60=1,COUNTRY_INFO!F60,0)))","v":0},{"$f":"IF(INTRO!$E$39<>\"Non-endemic\", 0, IF(INTRO!$E$37=\"Non-endemic\",0,IF(COUNTRY_INFO!$H60=1,COUNTRY_INFO!G60,0)))","v":0},0,{"$f":"IF(INTRO!$E$39=\"Non-endemic\",IF(INTRO!$E$37=\"Non-endemic\",\"Not required\",COUNTRY_INFO!P60),\"Treat with IVM\")","v":"Treat with IVM"},0,0,null,0,0]
[{"$f":"IF(INTRO!$E$39<>\"Non-endemic\", \" \", IF(INTRO!$E$37=\"Non-endemic\",\" \", IF(COUNTRY_INFO!A61=0,\" \",COUNTRY_INFO!A61)))","v":" "},{"$f":"IF(INTRO!$E$39<>\"Non-endemic\", \" \", IF(INTRO!$E$37=\"Non-endemic\",\" \", IF(COUNTRY_INFO!B61=0,\" \",COUNTRY_INFO!B61)))","v":" "},{"$f":"IF(INTRO!$E$39<>\"Non-endemic\", \" \", IF(INTRO!$E$37=\"Non-endemic\",\" \", IF(COUNTRY_INFO!C61=0,\" \",COUNTRY_INFO!C61)))","v":" "},{"$f":"IF(INTRO!$E$39<>\"Non-endemic\", 0, IF(INTRO!$E$37=\"Non-endemic\",0,IF(COUNTRY_INFO!$H61=1,COUNTRY_INFO!E61,0)))","v":0},{"$f":"IF(INTRO!$E$39<>\"Non-endemic\", 0, IF(INTRO!$E$37=\"Non-endemic\",0,IF(COUNTRY_INFO!$H61=1,COUNTRY_INFO!F61,0)))","v":0},{"$f":"IF(INTRO!$E$39<>\"Non-endemic\", 0, IF(INTRO!$E$37=\"Non-endemic\",0,IF(COUNTRY_INFO!$H61=1,COUNTRY_INFO!G61,0)))","v":0},0,{"$f":"IF(INTRO!$E$39=\"Non-endemic\",IF(INTRO!$E$37=\"Non-endemic\",\"Not required\",COUNTRY_INFO!P61),\"Treat with IVM\")","v":"Treat with IVM"},0,0,null,0,0]
[{"$f":"IF(INTRO!$E$39<>\"Non-endemic\", \" \", IF(INTRO!$E$37=\"Non-endemic\",\" \", IF(COUNTRY_INFO!A62=0,\" \",COUNTRY_INFO!A62)))","v":" "},{"$f":"IF(INTRO!$E$39<>\"Non-endemic\", \" \", IF(INTRO!$E$37=\"Non-endemic\",\" \", IF(COUNTRY_INFO!B62=0,\" \",COUNTRY_INFO!B62)))","v":" "},{"$f":"IF(INTRO!$E$39<>\"Non-endemic\", \" \", IF(INTRO!$E$37=\"Non-endemic\",\" \", IF(COUNTRY_INFO!C62=0,\" \",COUNTRY_INFO!C62)))","v":" "},{"$f":"IF(INTRO!$E$39<>\"Non-endemic\", 0, IF(INTRO!$E$37=\"Non-endemic\",0,IF(COUNTRY_INFO!$H62=1,COUNTRY_INFO!E62,0)))","v":0},{"$f":"IF(INTRO!$E$39<>\"Non-endemic\", 0, IF(INTRO!$E$37=\"Non-endemic\",0,IF(COUNTRY_INFO!$H62=1,COUNTRY_INFO!F62,0)))","v":0},{"$f":"IF(INTRO!$E$39<>\"Non-endemic\", 0, IF(INTRO!$E$37=\"Non-endemic\",0,IF(COUNTRY_INFO!$H62=1,COUNTRY_INFO!G62,0)))","v":0},0,{"$f":"IF(INTRO!$E$39=\"Non-endemic\",IF(INTRO!$E$37=\"Non-endemic\",\"Not required\",COUNTRY_INFO!P62),\"Treat with IVM\")","v":"Treat with IVM"},0,0,null,0,0]
[{"$f":"IF(INTRO!$E$39<>\"Non-endemic\", \" \", IF(INTRO!$E$37=\"Non-endemic\",\" \", IF(COUNTRY_INFO!A63=0,\" \",COUNTRY_INFO!A63)))","v":" "},{"$f":"IF(INTRO!$E$39<>\"Non-endemic\", \" \", IF(INTRO!$E$37=\"Non-endemic\",\" \", IF(COUNTRY_INFO!B63=0,\" \",COUNTRY_INFO!B63)))","v":" "},{"$f":"IF(INTRO!$E$39<>\"Non-endemic\", \" \", IF(INTRO!$E$37=\"Non-endemic\",\" \", IF(COUNTRY_INFO!C63=0,\" \",COUNTRY_INFO!C63)))","v":" "},{"$f":"IF(INTRO!$E$39<>\"Non-endemic\", 0, IF(INTRO!$E$37=\"Non-endemic\",0,IF(COUNTRY_INFO!$H63=1,COUNTRY_INFO!E63,0)))","v":0},{"$f":"IF(INTRO!$E$39<>\"Non-endemic\", 0, IF(INTRO!$E$37=\"Non-endemic\",0,IF(COUNTRY_INFO!$H63=1,COUNTRY_INFO!F63,0)))","v":0},{"$f":"IF(INTRO!$E$39<>\"Non-endemic\", 0, IF(INTRO!$E$37=\"Non-endemic\",0,IF(COUNTRY_INFO!$H63=1,COUNTRY_INFO!G63,0)))","v":0},0,{"$f":"IF(INTRO!$E$39=\"Non-endemic\",IF(INTRO!$E$37=\"Non-endemic\",\"Not required\",COUNTRY_INFO!P63),\"Treat with IVM\")","v":"Treat with IVM"},0,0,null,0,0]
[{"$f":"IF(INTRO!$E$39<>\"Non-endemic\", \" \", IF(INTRO!$E$37=\"Non-endemic\",\" \", IF(COUNTRY_INFO!A64=0,\" \",COUNTRY_INFO!A64)))","v":" "},{"$f":"IF(INTRO!$E$39<>\"Non-endemic\", \" \", IF(INTRO!$E$37=\"Non-endemic\",\" \", IF(COUNTRY_INFO!B64=0,\" \",COUNTRY_INFO!B64)))","v":" "},{"$f":"IF(INTRO!$E$39<>\"Non-endemic\", \" \", IF(INTRO!$E$37=\"Non-endemic\",\" \", IF(COUNTRY_INFO!C64=0,\" \",COUNTRY_INFO!C64)))","v":" "},{"$f":"IF(INTRO!$E$39<>\"Non-endemic\", 0, IF(INTRO!$E$37=\"Non-endemic\",0,IF(COUNTRY_INFO!$H64=1,COUNTRY_INFO!E64,0)))","v":0},{"$f":"IF(INTRO!$E$39<>\"Non-endemic\", 0, IF(INTRO!$E$37=\"Non-endemic\",0,IF(COUNTRY_INFO!$H64=1,COUNTRY_INFO!F64,0)))","v":0},{"$f":"IF(INTRO!$E$39<>\"Non-endemic\", 0, IF(INTRO!$E$37=\"Non-endemic\",0,IF(COUNTRY_INFO!$H64=1,COUNTRY_INFO!G64,0)))","v":0},0,{"$f":"IF(INTRO!$E$39=\"Non-endemic\",IF(INTRO!$E$37=\"Non-endemic\",\"Not required\",COUNTRY_INFO!P64),\"Treat with IVM\")","v":"Treat with IVM"},0,0,null,0,0]
[{"$f":"IF(INTRO!$E$39<>\"Non-endemic\", \" \", IF(INTRO!$E$37=\"Non-endemic\",\" \", IF(COUNTRY_INFO!A65=0,\" \",COUNTRY_INFO!A65)))","v":" "},{"$f":"IF(INTRO!$E$39<>\"Non-endemic\", \" \", IF(INTRO!$E$37=\"Non-endemic\",\" \", IF(COUNTRY_INFO!B65=0,\" \",COUNTRY_INFO!B65)))","v":" "},{"$f":"IF(INTRO!$E$39<>\"Non-endemic\", \" \", IF(INTRO!$E$37=\"Non-endemic\",\" \", IF(COUNTRY_INFO!C65=0,\" \",COUNTRY_INFO!C65)))","v":" "},{"$f":"IF(INTRO!$E$39<>\"Non-endemic\", 0, IF(INTRO!$E$37=\"Non-endemic\",0,IF(COUNTRY_INFO!$H65=1,COUNTRY_INFO!E65,0)))","v":0},{"$f":"IF(INTRO!$E$39<>\"Non-endemic\", 0, IF(INTRO!$E$37=\"Non-endemic\",0,IF(COUNTRY_INFO!$H65=1,COUNTRY_INFO!F65,0)))","v":0},{"$f":"IF(INTRO!$E$39<>\"Non-endemic\", 0, IF(INTRO!$E$37=\"Non-endemic\",0,IF(COUNTRY_INFO!$H65=1,COUNTRY_INFO!G65,0)))","v":0},0,{"$f":"IF(INTRO!$E$39=\"Non-endemic\",IF(INTRO!$E$37=\"Non-endemic\",\"Not required\",COUNTRY_INFO!P65),\"Treat with IVM\")","v":"Treat with IVM"},0,0,null,0,0]
[{"$f":"IF(INTRO!$E$39<>\"Non-endemic\", \" \", IF(INTRO!$E$37=\"Non-endemic\",\" \", IF(COUNTRY_INFO!A66=0,\" \",COUNTRY_INFO!A66)))","v":" "},{"$f":"IF(INTRO!$E$39<>\"Non-endemic\", \" \", IF(INTRO!$E$37=\"Non-endemic\",\" \", IF(COUNTRY_INFO!B66=0,\" \",COUNTRY_INFO!B66)))","v":" "},{"$f":"IF(INTRO!$E$39<>\"Non-endemic\", \" \", IF(INTRO!$E$37=\"Non-endemic\",\" \", IF(COUNTRY_INFO!C66=0,\" \",COUNTRY_INFO!C66)))","v":" "},{"$f":"IF(INTRO!$E$39<>\"Non-endemic\", 0, IF(INTRO!$E$37=\"Non-endemic\",0,IF(COUNTRY_INFO!$H66=1,COUNTRY_INFO!E66,0)))","v":0},{"$f":"IF(INTRO!$E$39<>\"Non-endemic\", 0, IF(INTRO!$E$37=\"Non-endemic\",0,IF(COUNTRY_INFO!$H66=1,COUNTRY_INFO!F66,0)))","v":0},{"$f":"IF(INTRO!$E$39<>\"Non-endemic\", 0, IF(INTRO!$E$37=\"Non-endemic\",0,IF(COUNTRY_INFO!$H66=1,COUNTRY_INFO!G66,0)))","v":0},0,{"$f":"IF(INTRO!$E$39=\"Non-endemic\",IF(INTRO!$E$37=\"Non-endemic\",\"Not required\",COUNTRY_INFO!P66),\"Treat with IVM\")","v":"Treat with IVM"},0,0,null,0,0]
[{"$f":"IF(INTRO!$E$39<>\"Non-endemic\", \" \", IF(INTRO!$E$37=\"Non-endemic\",\" \", IF(COUNTRY_INFO!A67=0,\" \",COUNTRY_INFO!A67)))","v":" "},{"$f":"IF(INTRO!$E$39<>\"Non-endemic\", \" \", IF(INTRO!$E$37=\"Non-endemic\",\" \", IF(COUNTRY_INFO!B67=0,\" \",COUNTRY_INFO!B67)))","v":" "},{"$f":"IF(INTRO!$E$39<>\"Non-endemic\", \" \", IF(INTRO!$E$37=\"Non-endemic\",\" \", IF(COUNTRY_INFO!C67=0,\" \",COUNTRY_INFO!C67)))","v":" "},{"$f":"IF(INTRO!$E$39<>\"Non-endemic\", 0, IF(INTRO!$E$37=\"Non-endemic\",0,IF(COUNTRY_INFO!$H67=1,COUNTRY_INFO!E67,0)))","v":0},{"$f":"IF(INTRO!$E$39<>\"Non-endemic\", 0, IF(INTRO!$E$37=\"Non-endemic\",0,IF(COUNTRY_INFO!$H67=1,COUNTRY_INFO!F67,0)))","v":0},{"$f":"IF(INTRO!$E$39<>\"Non-endemic\", 0, IF(INTRO!$E$37=\"Non-endemic\",0,IF(COUNTRY_INFO!$H67=1,COUNTRY_INFO!G67,0)))","v":0},0,{"$f":"IF(INTRO!$E$39=\"Non-endemic\",IF(INTRO!$E$37=\"Non-endemic\",\"Not required\",COUNTRY_INFO!P67),\"Treat with IVM\")","v":"Treat with IVM"},0,0,null,0,0]
[{"$f":"IF(INTRO!$E$39<>\"Non-endemic\", \" \", IF(INTRO!$E$37=\"Non-endemic\",\" \", IF(COUNTRY_INFO!A68=0,\" \",COUNTRY_INFO!A68)))","v":" "},{"$f":"IF(INTRO!$E$39<>\"Non-endemic\", \" \", IF(INTRO!$E$37=\"Non-endemic\",\" \", IF(COUNTRY_INFO!B68=0,\" \",COUNTRY_INFO!B68)))","v":" "},{"$f":"IF(INTRO!$E$39<>\"Non-endemic\", \" \", IF(INTRO!$E$37=\"Non-endemic\",\" \", IF(COUNTRY_INFO!C68=0,\" \",COUNTRY_INFO!C68)))","v":" "},{"$f":"IF(INTRO!$E$39<>\"Non-endemic\", 0, IF(INTRO!$E$37=\"Non-endemic\",0,IF(COUNTRY_INFO!$H68=1,COUNTRY_INFO!E68,0)))","v":0},{"$f":"IF(INTRO!$E$39<>\"Non-endemic\", 0, IF(INTRO!$E$37=\"Non-endemic\",0,IF(COUNTRY_INFO!$H68=1,COUNTRY_INFO!F68,0)))","v":0},{"$f":"IF(INTRO!$E$39<>\"Non-endemic\", 0, IF(INTRO!$E$37=\"Non-endemic\",0,IF(COUNTRY_INFO!$H68=1,COUNTRY_INFO!G68,0)))","v":0},0,{"$f":"IF(INTRO!$E$39=\"Non-endemic\",IF(INTRO!$E$37=\"Non-endemic\",\"Not required\",COUNTRY_INFO!P68),\"Treat with IVM\")","v":"Treat with IVM"},0,0,null,0,0]
[{"$f":"IF(INTRO!$E$39<>\"Non-endemic\", \" \", IF(INTRO!$E$37=\"Non-endemic\",\" \", IF(COUNTRY_INFO!A69=0,\" \",COUNTRY_INFO!A69)))","v":" "},{"$f":"IF(INTRO!$E$39<>\"Non-endemic\", \" \", IF(INTRO!$E$37=\"Non-endemic\",\" \", IF(COUNTRY_INFO!B69=0,\" \",COUNTRY_INFO!B69)))","v":" "},{"$f":"IF(INTRO!$E$39<>\"Non-endemic\", \" \", IF(INTRO!$E$37=\"Non-endemic\",\" \", IF(COUNTRY_INFO!C69=0,\" \",COUNTRY_INFO!C69)))","v":" "},{"$f":"IF(INTRO!$E$39<>\"Non-endemic\", 0, IF(INTRO!$E$37=\"Non-endemic\",0,IF(COUNTRY_INFO!$H69=1,COUNTRY_INFO!E69,0)))","v":0},{"$f":"IF(INTRO!$E$39<>\"Non-endemic\", 0, IF(INTRO!$E$37=\"Non-endemic\",0,IF(COUNTRY_INFO!$H69=1,COUNTRY_INFO!F69,0)))","v":0},{"$f":"IF(INTRO!$E$39<>\"Non-endemic\", 0, IF(INTRO!$E$37=\"Non-endemic\",0,IF(COUNTRY_INFO!$H69=1,COUNTRY_INFO!G69,0)))","v":0},0,{"$f":"IF(INTRO!$E$39=\"Non-endemic\",IF(INTRO!$E$37=\"Non-endemic\",\"Not required\",COUNTRY_INFO!P69),\"Treat with IVM\")","v":"Treat with IVM"},0,0,null,0,0]
[{"$f":"IF(INTRO!$E$39<>\"Non-endemic\", \" \", IF(INTRO!$E$37=\"Non-endemic\",\" \", IF(COUNTRY_INFO!A70=0,\" \",COUNTRY_INFO!A70)))","v":" "},{"$f":"IF(INTRO!$E$39<>\"Non-endemic\", \" \", IF(INTRO!$E$37=\"Non-endemic\",\" \", IF(COUNTRY_INFO!B70=0,\" \",COUNTRY_INFO!B70)))","v":" "},{"$f":"IF(INTRO!$E$39<>\"Non-endemic\", \" \", IF(INTRO!$E$37=\"Non-endemic\",\" \", IF(COUNTRY_INFO!C70=0,\" \",COUNTRY_INFO!C70)))","v":" "},{"$f":"IF(INTRO!$E$39<>\"Non-endemic\", 0, IF(INTRO!$E$37=\"Non-endemic\",0,IF(COUNTRY_INFO!$H70=1,COUNTRY_INFO!E70,0)))","v":0},{"$f":"IF(INTRO!$E$39<>\"Non-endemic\", 0, IF(INTRO!$E$37=\"Non-endemic\",0,IF(COUNTRY_INFO!$H70=1,COUNTRY_INFO!F70,0)))","v":0},{"$f":"IF(INTRO!$E$39<>\"Non-endemic\", 0, IF(INTRO!$E$37=\"Non-endemic\",0,IF(COUNTRY_INFO!$H70=1,COUNTRY_INFO!G70,0)))","v":0},0,{"$f":"IF(INTRO!$E$39=\"Non-endemic\",IF(INTRO!$E$37=\"Non-endemic\",\"Not required\",COUNTRY_INFO!P70),\"Treat with IVM\")","v":"Treat with IVM"},0,0,null,0,0]
[{"$f":"IF(INTRO!$E$39<>\"Non-endemic\", \" \", IF(INTRO!$E$37=\"Non-endemic\",\" \", IF(COUNTRY_INFO!A71=0,\" \",COUNTRY_INFO!A71)))","v":" "},{"$f":"IF(INTRO!$E$39<>\"Non-endemic\", \" \", IF(INTRO!$E$37=\"Non-endemic\",\" \", IF(COUNTRY_INFO!B71=0,\" \",COUNTRY_INFO!B71)))","v":" "},{"$f":"IF(INTRO!$E$39<>\"Non-endemic\", \" \", IF(INTRO!$E$37=\"Non-endemic\",\" \", IF(COUNTRY_INFO!C71=0,\" \",COUNTRY_INFO!C71)))","v":" "},{"$f":"IF(INTRO!$E$39<>\"Non-endemic\", 0, IF(INTRO!$E$37=\"Non-endemic\",0,IF(COUNTRY_INFO!$H71=1,COUNTRY_INFO!E71,0)))","v":0},{"$f":"IF(INTRO!$E$39<>\"Non-endemic\", 0, IF(INTRO!$E$37=\"Non-endemic\",0,IF(COUNTRY_INFO!$H71=1,COUNTRY_INFO!F71,0)))","v":0},{"$f":"IF(INTRO!$E$39<>\"Non-endemic\", 0, IF(INTRO!$E$37=\"Non-endemic\",0,IF(COUNTRY_INFO!$H71=1,COUNTRY_INFO!G71,0)))","v":0},0,{"$f":"IF(INTRO!$E$39=\"Non-endemic\",IF(INTRO!$E$37=\"Non-endemic\",\"Not required\",COUNTRY_INFO!P71),\"Treat with IVM\")","v":"Treat with IVM"},0,0,null,0,0]
[{"$f":"IF(INTRO!$E$39<>\"Non-endemic\", \" \", IF(INTRO!$E$37=\"Non-endemic\",\" \", IF(COUNTRY_INFO!A72=0,\" \",COUNTRY_INFO!A72)))","v":" "},{"$f":"IF(INTRO!$E$39<>\"Non-endemic\", \" \", IF(INTRO!$E$37=\"Non-endemic\",\" \", IF(COUNTRY_INFO!B72=0,\" \",COUNTRY_INFO!B72)))","v":" "},{"$f":"IF(INTRO!$E$39<>\"Non-endemic\", \" \", IF(INTRO!$E$37=\"Non-endemic\",\" \", IF(COUNTRY_INFO!C72=0,\" \",COUNTRY_INFO!C72)))","v":" "},{"$f":"IF(INTRO!$E$39<>\"Non-endemic\", 0, IF(INTRO!$E$37=\"Non-endemic\",0,IF(COUNTRY_INFO!$H72=1,COUNTRY_INFO!E72,0)))","v":0},{"$f":"IF(INTRO!$E$39<>\"Non-endemic\", 0, IF(INTRO!$E$37=\"Non-endemic\",0,IF(COUNTRY_INFO!$H72=1,COUNTRY_INFO!F72,0)))","v":0},{"$f":"IF(INTRO!$E$39<>\"Non-endemic\", 0, IF(INTRO!$E$37=\"Non-endemic\",0,IF(COUNTRY_INFO!$H72=1,COUNTRY_INFO!G72,0)))","v":0},0,{"$f":"IF(INTRO!$E$39=\"Non-endemic\",IF(INTRO!$E$37=\"Non-endemic\",\"Not required\",COUNTRY_INFO!P72),\"Treat with IVM\")","v":"Treat with IVM"},0,0,null,0,0]
[{"$f":"IF(INTRO!$E$39<>\"Non-endemic\", \" \", IF(INTRO!$E$37=\"Non-endemic\",\" \", IF(COUNTRY_INFO!A73=0,\" \",COUNTRY_INFO!A73)))","v":" "},{"$f":"IF(INTRO!$E$39<>\"Non-endemic\", \" \", IF(INTRO!$E$37=\"Non-endemic\",\" \", IF(COUNTRY_INFO!B73=0,\" \",COUNTRY_INFO!B73)))","v":" "},{"$f":"IF(INTRO!$E$39<>\"Non-endemic\", \" \", IF(INTRO!$E$37=\"Non-endemic\",\" \", IF(COUNTRY_INFO!C73=0,\" \",COUNTRY_INFO!C73)))","v":" "},{"$f":"IF(INTRO!$E$39<>\"Non-endemic\", 0, IF(INTRO!$E$37=\"Non-endemic\",0,IF(COUNTRY_INFO!$H73=1,COUNTRY_INFO!E73,0)))","v":0},{"$f":"IF(INTRO!$E$39<>\"Non-endemic\", 0, IF(INTRO!$E$37=\"Non-endemic\",0,IF(COUNTRY_INFO!$H73=1,COUNTRY_INFO!F73,0)))","v":0},{"$f":"IF(INTRO!$E$39<>\"Non-endemic\", 0, IF(INTRO!$E$37=\"Non-endemic\",0,IF(COUNTRY_INFO!$H73=1,COUNTRY_INFO!G73,0)))","v":0},{"$f":"SUM(D73:F73)","v":0},{"$f":"IF(INTRO!$E$39=\"Non-endemic\",IF(INTRO!$E$37=\"Non-endemic\",\"Not required\",COUNTRY_INFO!P73),\"Treat with IVM\")","v":"Treat with IVM"},{"$f":"IF(H73=1,G73,0)","v":0},{"$f":"IF(I73>0,I73*2.5,0)","v":0},null,{"$f":"IF($J73>$K73,$J73-$K73,0)","v":0},{"$f":"ROUNDUP($J73/1000,0)","v":0}]
[{"$f":"IF(INTRO!$E$39<>\"Non-endemic\", \" \", IF(INTRO!$E$37=\"Non-endemic\",\" \", IF(COUNTRY_INFO!A74=0,\" \",COUNTRY_INFO!A74)))","v":" "},{"$f":"IF(INTRO!$E$39<>\"Non-endemic\", \" \", IF(INTRO!$E$37=\"Non-endemic\",\" \", IF(COUNTRY_INFO!B74=0,\" \",COUNTRY_INFO!B74)))","v":" "},{"$f":"IF(INTRO!$E$39<>\"Non-endemic\", \" \", IF(INTRO!$E$37=\"Non-endemic\",\" \", IF(COUNTRY_INFO!C74=0,\" \",COUNTRY_INFO!C74)))","v":" "},{"$f":"IF(INTRO!$E$39<>\"Non-endemic\", 0, IF(INTRO!$E$37=\"Non-endemic\",0,IF(COUNTRY_INFO!$H74=1,COUNTRY_INFO!E74,0)))","v":0},{"$f":"IF(INTRO!$E$39<>\"Non-endemic\", 0, IF(INTRO!$E$37=\"Non-endemic\",0,IF(COUNTRY_INFO!$H74=1,COUNTRY_INFO!F74,0)))","v":0},{"$f":"IF(INTRO!$E$39<>\"Non-endemic\", 0, IF(INTRO!$E$37=\"Non-endemic\",0,IF(COUNTRY_INFO!$H74=1,COUNTRY_INFO!G74,0)))","v":0},0,{"$f":"IF(INTRO!$E$39=\"Non-endemic\",IF(INTRO!$E$37=\"Non-endemic\",\"Not required\",COUNTRY_INFO!P74),\"Treat with IVM\")","v":"Treat with IVM"},0,0,null,0,0]
[{"$f":"IF(INTRO!$E$39<>\"Non-endemic\", \" \", IF(INTRO!$E$37=\"Non-endemic\",\" \", IF(COUNTRY_INFO!A75=0,\" \",COUNTRY_INFO!A75)))","v":" "},{"$f":"IF(INTRO!$E$39<>\"Non-endemic\", \" \", IF(INTRO!$E$37=\"Non-endemic\",\" \", IF(COUNTRY_INFO!B75=0,\" \",COUNTRY_INFO!B75)))","v":" "},{"$f":"IF(INTRO!$E$39<>\"Non-endemic\", \" \", IF(INTRO!$E$37=\"Non-endemic\",\" \", IF(COUNTRY_INFO!C75=0,\" \",COUNTRY_INFO!C75)))","v":" "},{"$f":"IF(INTRO!$E$39<>\"Non-endemic\", 0, IF(INTRO!$E$37=\"Non-endemic\",0,IF(COUNTRY_INFO!$H75=1,COUNTRY_INFO!E75,0)))","v":0},{"$f":"IF(INTRO!$E$39<>\"Non-endemic\", 0, IF(INTRO!$E$37=\"Non-endemic\",0,IF(COUNTRY_INFO!$H75=1,COUNTRY_INFO!F75,0)))","v":0},{"$f":"IF(INTRO!$E$39<>\"Non-endemic\", 0, IF(INTRO!$E$37=\"Non-endemic\",0,IF(COUNTRY_INFO!$H75=1,COUNTRY_INFO!G75,0)))","v":0},0,{"$f":"IF(INTRO!$E$39=\"Non-endemic\",IF(INTRO!$E$37=\"Non-endemic\",\"Not required\",COUNTRY_INFO!P75),\"Treat with IVM\")","v":"Treat with IVM"},0,0,null,0,0]
[{"$f":"IF(INTRO!$E$39<>\"Non-endemic\", \" \", IF(INTRO!$E$37=\"Non-endemic\",\" \", IF(COUNTRY_INFO!A76=0,\" \",COUNTRY_INFO!A76)))","v":" "},{"$f":"IF(INTRO!$E$39<>\"Non-endemic\", \" \", IF(INTRO!$E$37=\"Non-endemic\",\" \", IF(COUNTRY_INFO!B76=0,\" \",COUNTRY_INFO!B76)))","v":" "},{"$f":"IF(INTRO!$E$39<>\"Non-endemic\", \" \", IF(INTRO!$E$37=\"Non-endemic\",\" \", IF(COUNTRY_INFO!C76=0,\" \",COUNTRY_INFO!C76)))","v":" "},{"$f":"IF(INTRO!$E$39<>\"Non-endemic\", 0, IF(INTRO!$E$37=\"Non-endemic\",0,IF(COUNTRY_INFO!$H76=1,COUNTRY_INFO!E76,0)))","v":0},{"$f":"IF(INTRO!$E$39<>\"Non-endemic\", 0, IF(INTRO!$E$37=\"Non-endemic\",0,IF(COUNTRY_INFO!$H76=1,COUNTRY_INFO!F76,0)))","v":0},{"$f":"IF(INTRO!$E$39<>\"Non-endemic\", 0, IF(INTRO!$E$37=\"Non-endemic\",0,IF(COUNTRY_INFO!$H76=1,COUNTRY_INFO!G76,0)))","v":0},0,{"$f":"IF(INTRO!$E$39=\"Non-endemic\",IF(INTRO!$E$37=\"Non-endemic\",\"Not required\",COUNTRY_INFO!P76),\"Treat with IVM\")","v":"Treat with IVM"},0,0,null,0,0]
[{"$f":"IF(INTRO!$E$39<>\"Non-endemic\", \" \", IF(INTRO!$E$37=\"Non-endemic\",\" \", IF(COUNTRY_INFO!A77=0,\" \",COUNTRY_INFO!A77)))","v":" "},{"$f":"IF(INTRO!$E$39<>\"Non-endemic\", \" \", IF(INTRO!$E$37=\"Non-endemic\",\" \", IF(COUNTRY_INFO!B77=0,\" \",COUNTRY_INFO!B77)))","v":" "},{"$f":"IF(INTRO!$E$39<>\"Non-endemic\", \" \", IF(INTRO!$E$37=\"Non-endemic\",\" \", IF(COUNTRY_INFO!C77=0,\" \",COUNTRY_INFO!C77)))","v":" "},{"$f":"IF(INTRO!$E$39<>\"Non-endemic\", 0, IF(INTRO!$E$37=\"Non-endemic\",0,IF(COUNTRY_INFO!$H77=1,COUNTRY_INFO!E77,0)))","v":0},{"$f":"IF(INTRO!$E$39<>\"Non-endemic\", 0, IF(INTRO!$E$37=\"Non-endemic\",0,IF(COUNTRY_INFO!$H77=1,COUNTRY_INFO!F77,0)))","v":0},{"$f":"IF(INTRO!$E$39<>\"Non-endemic\", 0, IF(INTRO!$E$37=\"Non-endemic\",0,IF(COUNTRY_INFO!$H77=1,COUNTRY_INFO!G77,0)))","v":0},0,{"$f":"IF(INTRO!$E$39=\"Non-endemic\",IF(INTRO!$E$37=\"Non-endemic\",\"Not required\",COUNTRY_INFO!P77),\"Treat with IVM\")","v":"Treat with IVM"},0,0,null,0,0]
[{"$f":"IF(INTRO!$E$39<>\"Non-endemic\", \" \", IF(INTRO!$E$37=\"Non-endemic\",\" \", IF(COUNTRY_INFO!A78=0,\" \",COUNTRY_INFO!A78)))","v":" "},{"$f":"IF(INTRO!$E$39<>\"Non-endemic\", \" \", IF(INTRO!$E$37=\"Non-endemic\",\" \", IF(COUNTRY_INFO!B78=0,\" \",COUNTRY_INFO!B78)))","v":" "},{"$f":"IF(INTRO!$E$39<>\"Non-endemic\", \" \", IF(INTRO!$E$37=\"Non-endemic\",\" \", IF(COUNTRY_INFO!C78=0,\" \",COUNTRY_INFO!C78)))","v":" "},{"$f":"IF(INTRO!$E$39<>\"Non-endemic\", 0, IF(INTRO!$E$37=\"Non-endemic\",0,IF(COUNTRY_INFO!$H78=1,COUNTRY_INFO!E78,0)))","v":0},{"$f":"IF(INTRO!$E$39<>\"Non-endemic\", 0, IF(INTRO!$E$37=\"Non-endemic\",0,IF(COUNTRY_INFO!$H78=1,COUNTRY_INFO!F78,0)))","v":0},{"$f":"IF(INTRO!$E$39<>\"Non-endemic\", 0, IF(INTRO!$E$37=\"Non-endemic\",0,IF(COUNTRY_INFO!$H78=1,COUNTRY_INFO!G78,0)))","v":0},0,{"$f":"IF(INTRO!$E$39=\"Non-endemic\",IF(INTRO!$E$37=\"Non-endemic\",\"Not required\",COUNTRY_INFO!P78),\"Treat with IVM\")","v":"Treat with IVM"},0,0,null,0,0]
[{"$f":"IF(INTRO!$E$39<>\"Non-endemic\", \" \", IF(INTRO!$E$37=\"Non-endemic\",\" \", IF(COUNTRY_INFO!A79=0,\" \",COUNTRY_INFO!A79)))","v":" "},{"$f":"IF(INTRO!$E$39<>\"Non-endemic\", \" \", IF(INTRO!$E$37=\"Non-endemic\",\" \", IF(COUNTRY_INFO!B79=0,\" \",COUNTRY_INFO!B79)))","v":" "},{"$f":"IF(INTRO!$E$39<>\"Non-endemic\", \" \", IF(INTRO!$E$37=\"Non-endemic\",\" \", IF(COUNTRY_INFO!C79=0,\" \",COUNTRY_INFO!C79)))","v":" "},{"$f":"IF(INTRO!$E$39<>\"Non-endemic\", 0, IF(INTRO!$E$37=\"Non-endemic\",0,IF(COUNTRY_INFO!$H79=1,COUNTRY_INFO!E79,0)))","v":0},{"$f":"IF(INTRO!$E$39<>\"Non-endemic\", 0, IF(INTRO!$E$37=\"Non-endemic\",0,IF(COUNTRY_INFO!$H79=1,COUNTRY_INFO!F79,0)))","v":0},{"$f":"IF(INTRO!$E$39<>\"Non-endemic\", 0, IF(INTRO!$E$37=\"Non-endemic\",0,IF(COUNTRY_INFO!$H79=1,COUNTRY_INFO!G79,0)))","v":0},0,{"$f":"IF(INTRO!$E$39=\"Non-endemic\",IF(INTRO!$E$37=\"Non-endemic\",\"Not required\",COUNTRY_INFO!P79),\"Treat with IVM\")","v":"Treat with IVM"},0,0,null,0,0]
[{"$f":"IF(INTRO!$E$39<>\"Non-endemic\", \" \", IF(INTRO!$E$37=\"Non-endemic\",\" \", IF(COUNTRY_INFO!A80=0,\" \",COUNTRY_INFO!A80)))","v":" "},{"$f":"IF(INTRO!$E$39<>\"Non-endemic\", \" \", IF(INTRO!$E$37=\"Non-endemic\",\" \", IF(COUNTRY_INFO!B80=0,\" \",COUNTRY_INFO!B80)))","v":" "},{"$f":"IF(INTRO!$E$39<>\"Non-endemic\", \" \", IF(INTRO!$E$37=\"Non-endemic\",\" \", IF(COUNTRY_INFO!C80=0,\" \",COUNTRY_INFO!C80)))","v":" "},{"$f":"IF(INTRO!$E$39<>\"Non-endemic\", 0, IF(INTRO!$E$37=\"Non-endemic\",0,IF(COUNTRY_INFO!$H80=1,COUNTRY_INFO!E80,0)))","v":0},{"$f":"IF(INTRO!$E$39<>\"Non-endemic\", 0, IF(INTRO!$E$37=\"Non-endemic\",0,IF(COUNTRY_INFO!$H80=1,COUNTRY_INFO!F80,0)))","v":0},{"$f":"IF(INTRO!$E$39<>\"Non-endemic\", 0, IF(INTRO!$E$37=\"Non-endemic\",0,IF(COUNTRY_INFO!$H80=1,COUNTRY_INFO!G80,0)))","v":0},0,{"$f":"IF(INTRO!$E$39=\"Non-endemic\",IF(INTRO!$E$37=\"Non-endemic\",\"Not required\",COUNTRY_INFO!P80),\"Treat with IVM\")","v":"Treat with IVM"},0,0,null,0,0]
[{"$f":"IF(INTRO!$E$39<>\"Non-endemic\", \" \", IF(INTRO!$E$37=\"Non-endemic\",\" \", IF(COUNTRY_INFO!A81=0,\" \",COUNTRY_INFO!A81)))","v":" "},{"$f":"IF(INTRO!$E$39<>\"Non-endemic\", \" \", IF(INTRO!$E$37=\"Non-endemic\",\" \", IF(COUNTRY_INFO!B81=0,\" \",COUNTRY_INFO!B81)))","v":" "},{"$f":"IF(INTRO!$E$39<>\"Non-endemic\", \" \", IF(INTRO!$E$37=\"Non-endemic\",\" \", IF(COUNTRY_INFO!C81=0,\" \",COUNTRY_INFO!C81)))","v":" "},{"$f":"IF(INTRO!$E$39<>\"Non-endemic\", 0, IF(INTRO!$E$37=\"Non-endemic\",0,IF(COUNTRY_INFO!$H81=1,COUNTRY_INFO!E81,0)))","v":0},{"$f":"IF(INTRO!$E$39<>\"Non-endemic\", 0, IF(INTRO!$E$37=\"Non-endemic\",0,IF(COUNTRY_INFO!$H81=1,COUNTRY_INFO!F81,0)))","v":0},{"$f":"IF(INTRO!$E$39<>\"Non-endemic\", 0, IF(INTRO!$E$37=\"Non-endemic\",0,IF(COUNTRY_INFO!$H81=1,COUNTRY_INFO!G81,0)))","v":0},0,{"$f":"IF(INTRO!$E$39=\"Non-endemic\",IF(INTRO!$E$37=\"Non-endemic\",\"Not required\",COUNTRY_INFO!P81),\"Treat with IVM\")","v":"Treat with IVM"},0,0,null,0,0]
[{"$f":"IF(INTRO!$E$39<>\"Non-endemic\", \" \", IF(INTRO!$E$37=\"Non-endemic\",\" \", IF(COUNTRY_INFO!A82=0,\" \",COUNTRY_INFO!A82)))","v":" "},{"$f":"IF(INTRO!$E$39<>\"Non-endemic\", \" \", IF(INTRO!$E$37=\"Non-endemic\",\" \", IF(COUNTRY_INFO!B82=0,\" \",COUNTRY_INFO!B82)))","v":" "},{"$f":"IF(INTRO!$E$39<>\"Non-endemic\", \" \", IF(INTRO!$E$37=\"Non-endemic\",\" \", IF(COUNTRY_INFO!C82=0,\" \",COUNTRY_INFO!C82)))","v":" "},{"$f":"IF(INTRO!$E$39<>\"Non-endemic\", 0, IF(INTRO!$E$37=\"Non-endemic\",0,IF(COUNTRY_INFO!$H82=1,COUNTRY_INFO!E82,0)))","v":0},{"$f":"IF(INTRO!$E$39<>\"Non-endemic\", 0, IF(INTRO!$E$37=\"Non-endemic\",0,IF(COUNTRY_INFO!$H82=1,COUNTRY_INFO!F82,0)))","v":0},{"$f":"IF(INTRO!$E$39<>\"Non-endemic\", 0, IF(INTRO!$E$37=\"Non-endemic\",0,IF(COUNTRY_INFO!$H82=1,COUNTRY_INFO!G82,0)))","v":0},0,{"$f":"IF(INTRO!$E$39=\"Non-endemic\",IF(INTRO!$E$37=\"Non-endemic\",\"Not required\",COUNTRY_INFO!P82),\"Treat with IVM\")","v":"Treat with IVM"},0,0,null,0,0]
[{"$f":"IF(INTRO!$E$39<>\"Non-endemic\", \" \", IF(INTRO!$E$37=\"Non-endemic\",\" \", IF(COUNTRY_INFO!A83=0,\" \",COUNTRY_INFO!A83)))","v":" "},{"$f":"IF(INTRO!$E$39<>\"Non-endemic\", \" \", IF(INTRO!$E$37=\"Non-endemic\",\" \", IF(COUNTRY_INFO!B83=0,\" \",COUNTRY_INFO!B83)))","v":" "},{"$f":"IF(INTRO!$E$39<>\"Non-endemic\", \" \", IF(INTRO!$E$37=\"Non-endemic\",\" \", IF(COUNTRY_INFO!C83=0,\" \",COUNTRY_INFO!C83)))","v":" "},{"$f":"IF(INTRO!$E$39<>\"Non-endemic\", 0, IF(INTRO!$E$37=\"Non-endemic\",0,IF(COUNTRY_INFO!$H83=1,COUNTRY_INFO!E83,0)))","v":0},{"$f":"IF(INTRO!$E$39<>\"Non-endemic\", 0, IF(INTRO!$E$37=\"Non-endemic\",0,IF(COUNTRY_INFO!$H83=1,COUNTRY_INFO!F83,0)))","v":0},{"$f":"IF(INTRO!$E$39<>\"Non-endemic\", 0, IF(INTRO!$E$37=\"Non-endemic\",0,IF(COUNTRY_INFO!$H83=1,COUNTRY_INFO!G83,0)))","v":0},0,{"$f":"IF(INTRO!$E$39=\"Non-endemic\",IF(INTRO!$E$37=\"Non-endemic\",\"Not required\",COUNTRY_INFO!P83),\"Treat with IVM\")","v":"Treat with IVM"},0,0,null,0,0]
[{"$f":"IF(INTRO!$E$39<>\"Non-endemic\", \" \", IF(INTRO!$E$37=\"Non-endemic\",\" \", IF(COUNTRY_INFO!A84=0,\" \",COUNTRY_INFO!A84)))","v":" "},{"$f":"IF(INTRO!$E$39<>\"Non-endemic\", \" \", IF(INTRO!$E$37=\"Non-endemic\",\" \", IF(COUNTRY_INFO!B84=0,\" \",COUNTRY_INFO!B84)))","v":" "},{"$f":"IF(INTRO!$E$39<>\"Non-endemic\", \" \", IF(INTRO!$E$37=\"Non-endemic\",\" \", IF(COUNTRY_INFO!C84=0,\" \",COUNTRY_INFO!C84)))","v":" "},{"$f":"IF(INTRO!$E$39<>\"Non-endemic\", 0, IF(INTRO!$E$37=\"Non-endemic\",0,IF(COUNTRY_INFO!$H84=1,COUNTRY_INFO!E84,0)))","v":0},{"$f":"IF(INTRO!$E$39<>\"Non-endemic\", 0, IF(INTRO!$E$37=\"Non-endemic\",0,IF(COUNTRY_INFO!$H84=1,COUNTRY_INFO!F84,0)))","v":0},{"$f":"IF(INTRO!$E$39<>\"Non-endemic\", 0, IF(INTRO!$E$37=\"Non-endemic\",0,IF(COUNTRY_INFO!$H84=1,COUNTRY_INFO!G84,0)))","v":0},0,{"$f":"IF(INTRO!$E$39=\"Non-endemic\",IF(INTRO!$E$37=\"Non-endemic\",\"Not required\",COUNTRY_INFO!P84),\"Treat with IVM\")","v":"Treat with IVM"},0,0,null,0,0]
[{"$f":"IF(INTRO!$E$39<>\"Non-endemic\", \" \", IF(INTRO!$E$37=\"Non-endemic\",\" \", IF(COUNTRY_INFO!A85=0,\" \",COUNTRY_INFO!A85)))","v":" "},{"$f":"IF(INTRO!$E$39<>\"Non-endemic\", \" \", IF(INTRO!$E$37=\"Non-endemic\",\" \", IF(COUNTRY_INFO!B85=0,\" \",COUNTRY_INFO!B85)))","v":" "},{"$f":"IF(INTRO!$E$39<>\"Non-endemic\", \" \", IF(INTRO!$E$37=\"Non-endemic\",\" \", IF(COUNTRY_INFO!C85=0,\" \",COUNTRY_INFO!C85)))","v":" "},{"$f":"IF(INTRO!$E$39<>\"Non-endemic\", 0, IF(INTRO!$E$37=\"Non-endemic\",0,IF(COUNTRY_INFO!$H85=1,COUNTRY_INFO!E85,0)))","v":0},{"$f":"IF(INTRO!$E$39<>\"Non-endemic\", 0, IF(INTRO!$E$37=\"Non-endemic\",0,IF(COUNTRY_INFO!$H85=1,COUNTRY_INFO!F85,0)))","v":0},{"$f":"IF(INTRO!$E$39<>\"Non-endemic\", 0, IF(INTRO!$E$37=\"Non-endemic\",0,IF(COUNTRY_INFO!$H85=1,COUNTRY_INFO!G85,0)))","v":0},0,{"$f":"IF(INTRO!$E$39=\"Non-endemic\",IF(INTRO!$E$37=\"Non-endemic\",\"Not required\",COUNTRY_INFO!P85),\"Treat with IVM\")","v":"Treat with IVM"},0,0,null,0,0]
[{"$f":"IF(INTRO!$E$39<>\"Non-endemic\", \" \", IF(INTRO!$E$37=\"Non-endemic\",\" \", IF(COUNTRY_INFO!A86=0,\" \",COUNTRY_INFO!A86)))","v":" "},{"$f":"IF(INTRO!$E$39<>\"Non-endemic\", \" \", IF(INTRO!$E$37=\"Non-endemic\",\" \", IF(COUNTRY_INFO!B86=0,\" \",COUNTRY_INFO!B86)))","v":" "},{"$f":"IF(INTRO!$E$39<>\"Non-endemic\", \" \", IF(INTRO!$E$37=\"Non-endemic\",\" \", IF(COUNTRY_INFO!C86=0,\" \",COUNTRY_INFO!C86)))","v":" "},{"$f":"IF(INTRO!$E$39<>\"Non-endemic\", 0, IF(INTRO!$E$37=\"Non-endemic\",0,IF(COUNTRY_INFO!$H86=1,COUNTRY_INFO!E86,0)))","v":0},{"$f":"IF(INTRO!$E$39<>\"Non-endemic\", 0, IF(INTRO!$E$37=\"Non-endemic\",0,IF(COUNTRY_INFO!$H86=1,COUNTRY_INFO!F86,0)))","v":0},{"$f":"IF(INTRO!$E$39<>\"Non-endemic\", 0, IF(INTRO!$E$37=\"Non-endemic\",0,IF(COUNTRY_INFO!$H86=1,COUNTRY_INFO!G86,0)))","v":0},0,{"$f":"IF(INTRO!$E$39=\"Non-endemic\",IF(INTRO!$E$37=\"Non-endemic\",\"Not required\",COUNTRY_INFO!P86),\"Treat with IVM\")","v":"Treat with IVM"},0,0,null,0,0]
[{"$f":"IF(INTRO!$E$39<>\"Non-endemic\", \" \", IF(INTRO!$E$37=\"Non-endemic\",\" \", IF(COUNTRY_INFO!A87=0,\" \",COUNTRY_INFO!A87)))","v":" "},{"$f":"IF(INTRO!$E$39<>\"Non-endemic\", \" \", IF(INTRO!$E$37=\"Non-endemic\",\" \", IF(COUNTRY_INFO!B87=0,\" \",COUNTRY_INFO!B87)))","v":" "},{"$f":"IF(INTRO!$E$39<>\"Non-endemic\", \" \", IF(INTRO!$E$37=\"Non-endemic\",\" \", IF(COUNTRY_INFO!C87=0,\" \",COUNTRY_INFO!C87)))","v":" "},{"$f":"IF(INTRO!$E$39<>\"Non-endemic\", 0, IF(INTRO!$E$37=\"Non-endemic\",0,IF(COUNTRY_INFO!$H87=1,COUNTRY_INFO!E87,0)))","v":0},{"$f":"IF(INTRO!$E$39<>\"Non-endemic\", 0, IF(INTRO!$E$37=\"Non-endemic\",0,IF(COUNTRY_INFO!$H87=1,COUNTRY_INFO!F87,0)))","v":0},{"$f":"IF(INTRO!$E$39<>\"Non-endemic\", 0, IF(INTRO!$E$37=\"Non-endemic\",0,IF(COUNTRY_INFO!$H87=1,COUNTRY_INFO!G87,0)))","v":0},0,{"$f":"IF(INTRO!$E$39=\"Non-endemic\",IF(INTRO!$E$37=\"Non-endemic\",\"Not required\",COUNTRY_INFO!P87),\"Treat with IVM\")","v":"Treat with IVM"},0,0,null,0,0]
[{"$f":"IF(INTRO!$E$39<>\"Non-endemic\", \" \", IF(INTRO!$E$37=\"Non-endemic\",\" \", IF(COUNTRY_INFO!A88=0,\" \",COUNTRY_INFO!A88)))","v":" "},{"$f":"IF(INTRO!$E$39<>\"Non-endemic\", \" \", IF(INTRO!$E$37=\"Non-endemic\",\" \", IF(COUNTRY_INFO!B88=0,\" \",COUNTRY_INFO!B88)))","v":" "},{"$f":"IF(INTRO!$E$39<>\"Non-endemic\", \" \", IF(INTRO!$E$37=\"Non-endemic\",\" \", IF(COUNTRY_INFO!C88=0,\" \",COUNTRY_INFO!C88)))","v":" "},{"$f":"IF(INTRO!$E$39<>\"Non-endemic\", 0, IF(INTRO!$E$37=\"Non-endemic\",0,IF(COUNTRY_INFO!$H88=1,COUNTRY_INFO!E88,0)))","v":0},{"$f":"IF(INTRO!$E$39<>\"Non-endemic\", 0, IF(INTRO!$E$37=\"Non-endemic\",0,IF(COUNTRY_INFO!$H88=1,COUNTRY_INFO!F88,0)))","v":0},{"$f":"IF(INTRO!$E$39<>\"Non-endemic\", 0, IF(INTRO!$E$37=\"Non-endemic\",0,IF(COUNTRY_INFO!$H88=1,COUNTRY_INFO!G88,0)))","v":0},0,{"$f":"IF(INTRO!$E$39=\"Non-endemic\",IF(INTRO!$E$37=\"Non-endemic\",\"Not required\",COUNTRY_INFO!P88),\"Treat with IVM\")","v":"Treat with IVM"},0,0,null,0,0]
[{"$f":"IF(INTRO!$E$39<>\"Non-endemic\", \" \", IF(INTRO!$E$37=\"Non-endemic\",\" \", IF(COUNTRY_INFO!A89=0,\" \",COUNTRY_INFO!A89)))","v":" "},{"$f":"IF(INTRO!$E$39<>\"Non-endemic\", \" \", IF(INTRO!$E$37=\"Non-endemic\",\" \", IF(COUNTRY_INFO!B89=0,\" \",COUNTRY_INFO!B89)))","v":" "},{"$f":"IF(INTRO!$E$39<>\"Non-endemic\", \" \", IF(INTRO!$E$37=\"Non-endemic\",\" \", IF(COUNTRY_INFO!C89=0,\" \",COUNTRY_INFO!C89)))","v":" "},{"$f":"IF(INTRO!$E$39<>\"Non-endemic\", 0, IF(INTRO!$E$37=\"Non-endemic\",0,IF(COUNTRY_INFO!$H89=1,COUNTRY_INFO!E89,0)))","v":0},{"$f":"IF(INTRO!$E$39<>\"Non-endemic\", 0, IF(INTRO!$E$37=\"Non-endemic\",0,IF(COUNTRY_INFO!$H89=1,COUNTRY_INFO!F89,0)))","v":0},{"$f":"IF(INTRO!$E$39<>\"Non-endemic\", 0, IF(INTRO!$E$37=\"Non-endemic\",0,IF(COUNTRY_INFO!$H89=1,COUNTRY_INFO!G89,0)))","v":0},0,{"$f":"IF(INTRO!$E$39=\"Non-endemic\",IF(INTRO!$E$37=\"Non-endemic\",\"Not required\",COUNTRY_INFO!P89),\"Treat with IVM\")","v":"Treat with IVM"},0,0,null,0,0]
[{"$f":"IF(INTRO!$E$39<>\"Non-endemic\", \" \", IF(INTRO!$E$37=\"Non-endemic\",\" \", IF(COUNTRY_INFO!A90=0,\" \",COUNTRY_INFO!A90)))","v":" "},{"$f":"IF(INTRO!$E$39<>\"Non-endemic\", \" \", IF(INTRO!$E$37=\"Non-endemic\",\" \", IF(COUNTRY_INFO!B90=0,\" \",COUNTRY_INFO!B90)))","v":" "},{"$f":"IF(INTRO!$E$39<>\"Non-endemic\", \" \", IF(INTRO!$E$37=\"Non-endemic\",\" \", IF(COUNTRY_INFO!C90=0,\" \",COUNTRY_INFO!C90)))","v":" "},{"$f":"IF(INTRO!$E$39<>\"Non-endemic\", 0, IF(INTRO!$E$37=\"Non-endemic\",0,IF(COUNTRY_INFO!$H90=1,COUNTRY_INFO!E90,0)))","v":0},{"$f":"IF(INTRO!$E$39<>\"Non-endemic\", 0, IF(INTRO!$E$37=\"Non-endemic\",0,IF(COUNTRY_INFO!$H90=1,COUNTRY_INFO!F90,0)))","v":0},{"$f":"IF(INTRO!$E$39<>\"Non-endemic\", 0, IF(INTRO!$E$37=\"Non-endemic\",0,IF(COUNTRY_INFO!$H90=1,COUNTRY_INFO!G90,0)))","v":0},0,{"$f":"IF(INTRO!$E$39=\"Non-endemic\",IF(INTRO!$E$37=\"Non-endemic\",\"Not required\",COUNTRY_INFO!P90),\"Treat with IVM\")","v":"Treat with IVM"},0,0,null,0,0]
[{"$f":"IF(INTRO!$E$39<>\"Non-endemic\", \" \", IF(INTRO!$E$37=\"Non-endemic\",\" \", IF(COUNTRY_INFO!A91=0,\" \",COUNTRY_INFO!A91)))","v":" "},{"$f":"IF(INTRO!$E$39<>\"Non-endemic\", \" \", IF(INTRO!$E$37=\"Non-endemic\",\" \", IF(COUNTRY_INFO!B91=0,\" \",COUNTRY_INFO!B91)))","v":" "},{"$f":"IF(INTRO!$E$39<>\"Non-endemic\", \" \", IF(INTRO!$E$37=\"Non-endemic\",\" \", IF(COUNTRY_INFO!C91=0,\" \",COUNTRY_INFO!C91)))","v":" "},{"$f":"IF(INTRO!$E$39<>\"Non-endemic\", 0, IF(INTRO!$E$37=\"Non-endemic\",0,IF(COUNTRY_INFO!$H91=1,COUNTRY_INFO!E91,0)))","v":0},{"$f":"IF(INTRO!$E$39<>\"Non-endemic\", 0, IF(INTRO!$E$37=\"Non-endemic\",0,IF(COUNTRY_INFO!$H91=1,COUNTRY_INFO!F91,0)))","v":0},{"$f":"IF(INTRO!$E$39<>\"Non-endemic\", 0, IF(INTRO!$E$37=\"Non-endemic\",0,IF(COUNTRY_INFO!$H91=1,COUNTRY_INFO!G91,0)))","v":0},0,{"$f":"IF(INTRO!$E$39=\"Non-endemic\",IF(INTRO!$E$37=\"Non-endemic\",\"Not required\",COUNTRY_INFO!P91),\"Treat with IVM\")","v":"Treat with IVM"},0,0,null,0,0]
[{"$f":"IF(INTRO!$E$39<>\"Non-endemic\", \" \", IF(INTRO!$E$37=\"Non-endemic\",\" \", IF(COUNTRY_INFO!A92=0,\" \",COUNTRY_INFO!A92)))","v":" "},{"$f":"IF(INTRO!$E$39<>\"Non-endemic\", \" \", IF(INTRO!$E$37=\"Non-endemic\",\" \", IF(COUNTRY_INFO!B92=0,\" \",COUNTRY_INFO!B92)))","v":" "},{"$f":"IF(INTRO!$E$39<>\"Non-endemic\", \" \", IF(INTRO!$E$37=\"Non-endemic\",\" \", IF(COUNTRY_INFO!C92=0,\" \",COUNTRY_INFO!C92)))","v":" "},{"$f":"IF(INTRO!$E$39<>\"Non-endemic\", 0, IF(INTRO!$E$37=\"Non-endemic\",0,IF(COUNTRY_INFO!$H92=1,COUNTRY_INFO!E92,0)))","v":0},{"$f":"IF(INTRO!$E$39<>\"Non-endemic\", 0, IF(INTRO!$E$37=\"Non-endemic\",0,IF(COUNTRY_INFO!$H92=1,COUNTRY_INFO!F92,0)))","v":0},{"$f":"IF(INTRO!$E$39<>\"Non-endemic\", 0, IF(INTRO!$E$37=\"Non-endemic\",0,IF(COUNTRY_INFO!$H92=1,COUNTRY_INFO!G92,0)))","v":0},0,{"$f":"IF(INTRO!$E$39=\"Non-endemic\",IF(INTRO!$E$37=\"Non-endemic\",\"Not required\",COUNTRY_INFO!P92),\"Treat with IVM\")","v":"Treat with IVM"},0,0,null,0,0]
[{"$f":"IF(INTRO!$E$39<>\"Non-endemic\", \" \", IF(INTRO!$E$37=\"Non-endemic\",\" \", IF(COUNTRY_INFO!A93=0,\" \",COUNTRY_INFO!A93)))","v":" "},{"$f":"IF(INTRO!$E$39<>\"Non-endemic\", \" \", IF(INTRO!$E$37=\"Non-endemic\",\" \", IF(COUNTRY_INFO!B93=0,\" \",COUNTRY_INFO!B93)))","v":" "},{"$f":"IF(INTRO!$E$39<>\"Non-endemic\", \" \", IF(INTRO!$E$37=\"Non-endemic\",\" \", IF(COUNTRY_INFO!C93=0,\" \",COUNTRY_INFO!C93)))","v":" "},{"$f":"IF(INTRO!$E$39<>\"Non-endemic\", 0, IF(INTRO!$E$37=\"Non-endemic\",0,IF(COUNTRY_INFO!$H93=1,COUNTRY_INFO!E93,0)))","v":0},{"$f":"IF(INTRO!$E$39<>\"Non-endemic\", 0, IF(INTRO!$E$37=\"Non-endemic\",0,IF(COUNTRY_INFO!$H93=1,COUNTRY_INFO!F93,0)))","v":0},{"$f":"IF(INTRO!$E$39<>\"Non-endemic\", 0, IF(INTRO!$E$37=\"Non-endemic\",0,IF(COUNTRY_INFO!$H93=1,COUNTRY_INFO!G93,0)))","v":0},0,{"$f":"IF(INTRO!$E$39=\"Non-endemic\",IF(INTRO!$E$37=\"Non-endemic\",\"Not required\",COUNTRY_INFO!P93),\"Treat with IVM\")","v":"Treat with IVM"},0,0,null,0,0]
[{"$f":"IF(INTRO!$E$39<>\"Non-endemic\", \" \", IF(INTRO!$E$37=\"Non-endemic\",\" \", IF(COUNTRY_INFO!A94=0,\" \",COUNTRY_INFO!A94)))","v":" "},{"$f":"IF(INTRO!$E$39<>\"Non-endemic\", \" \", IF(INTRO!$E$37=\"Non-endemic\",\" \", IF(COUNTRY_INFO!B94=0,\" \",COUNTRY_INFO!B94)))","v":" "},{"$f":"IF(INTRO!$E$39<>\"Non-endemic\", \" \", IF(INTRO!$E$37=\"Non-endemic\",\" \", IF(COUNTRY_INFO!C94=0,\" \",COUNTRY_INFO!C94)))","v":" "},{"$f":"IF(INTRO!$E$39<>\"Non-endemic\", 0, IF(INTRO!$E$37=\"Non-endemic\",0,IF(COUNTRY_INFO!$H94=1,COUNTRY_INFO!E94,0)))","v":0},{"$f":"IF(INTRO!$E$39<>\"Non-endemic\", 0, IF(INTRO!$E$37=\"Non-endemic\",0,IF(COUNTRY_INFO!$H94=1,COUNTRY_INFO!F94,0)))","v":0},{"$f":"IF(INTRO!$E$39<>\"Non-endemic\", 0, IF(INTRO!$E$37=\"Non-endemic\",0,IF(COUNTRY_INFO!$H94=1,COUNTRY_INFO!G94,0)))","v":0},0,{"$f":"IF(INTRO!$E$39=\"Non-endemic\",IF(INTRO!$E$37=\"Non-endemic\",\"Not required\",COUNTRY_INFO!P94),\"Treat with IVM\")","v":"Treat with IVM"},0,0,null,0,0]
[{"$f":"IF(INTRO!$E$39<>\"Non-endemic\", \" \", IF(INTRO!$E$37=\"Non-endemic\",\" \", IF(COUNTRY_INFO!A95=0,\" \",COUNTRY_INFO!A95)))","v":" "},{"$f":"IF(INTRO!$E$39<>\"Non-endemic\", \" \", IF(INTRO!$E$37=\"Non-endemic\",\" \", IF(COUNTRY_INFO!B95=0,\" \",COUNTRY_INFO!B95)))","v":" "},{"$f":"IF(INTRO!$E$39<>\"Non-endemic\", \" \", IF(INTRO!$E$37=\"Non-endemic\",\" \", IF(COUNTRY_INFO!C95=0,\" \",COUNTRY_INFO!C95)))","v":" "},{"$f":"IF(INTRO!$E$39<>\"Non-endemic\", 0, IF(INTRO!$E$37=\"Non-endemic\",0,IF(COUNTRY_INFO!$H95=1,COUNTRY_INFO!E95,0)))","v":0},{"$f":"IF(INTRO!$E$39<>\"Non-endemic\", 0, IF(INTRO!$E$37=\"Non-endemic\",0,IF(COUNTRY_INFO!$H95=1,COUNTRY_INFO!F95,0)))","v":0},{"$f":"IF(INTRO!$E$39<>\"Non-endemic\", 0, IF(INTRO!$E$37=\"Non-endemic\",0,IF(COUNTRY_INFO!$H95=1,COUNTRY_INFO!G95,0)))","v":0},0,{"$f":"IF(INTRO!$E$39=\"Non-endemic\",IF(INTRO!$E$37=\"Non-endemic\",\"Not required\",COUNTRY_INFO!P95),\"Treat with IVM\")","v":"Treat with IVM"},0,0,null,0,0]
[{"$f":"IF(INTRO!$E$39<>\"Non-endemic\", \" \", IF(INTRO!$E$37=\"Non-endemic\",\" \", IF(COUNTRY_INFO!A96=0,\" \",COUNTRY_INFO!A96)))","v":" "},{"$f":"IF(INTRO!$E$39<>\"Non-endemic\", \" \", IF(INTRO!$E$37=\"Non-endemic\",\" \", IF(COUNTRY_INFO!B96=0,\" \",COUNTRY_INFO!B96)))","v":" "},{"$f":"IF(INTRO!$E$39<>\"Non-endemic\", \" \", IF(INTRO!$E$37=\"Non-endemic\",\" \", IF(COUNTRY_INFO!C96=0,\" \",COUNTRY_INFO!C96)))","v":" "},{"$f":"IF(INTRO!$E$39<>\"Non-endemic\", 0, IF(INTRO!$E$37=\"Non-endemic\",0,IF(COUNTRY_INFO!$H96=1,COUNTRY_INFO!E96,0)))","v":0},{"$f":"IF(INTRO!$E$39<>\"Non-endemic\", 0, IF(INTRO!$E$37=\"Non-endemic\",0,IF(COUNTRY_INFO!$H96=1,COUNTRY_INFO!F96,0)))","v":0},{"$f":"IF(INTRO!$E$39<>\"Non-endemic\", 0, IF(INTRO!$E$37=\"Non-endemic\",0,IF(COUNTRY_INFO!$H96=1,COUNTRY_INFO!G96,0)))","v":0},0,{"$f":"IF(INTRO!$E$39=\"Non-endemic\",IF(INTRO!$E$37=\"Non-endemic\",\"Not required\",COUNTRY_INFO!P96),\"Treat with IVM\")","v":"Treat with IVM"},0,0,null,0,0]
[{"$f":"IF(INTRO!$E$39<>\"Non-endemic\", \" \", IF(INTRO!$E$37=\"Non-endemic\",\" \", IF(COUNTRY_INFO!A97=0,\" \",COUNTRY_INFO!A97)))","v":" "},{"$f":"IF(INTRO!$E$39<>\"Non-endemic\", \" \", IF(INTRO!$E$37=\"Non-endemic\",\" \", IF(COUNTRY_INFO!B97=0,\" \",COUNTRY_INFO!B97)))","v":" "},{"$f":"IF(INTRO!$E$39<>\"Non-endemic\", \" \", IF(INTRO!$E$37=\"Non-endemic\",\" \", IF(COUNTRY_INFO!C97=0,\" \",COUNTRY_INFO!C97)))","v":" "},{"$f":"IF(INTRO!$E$39<>\"Non-endemic\", 0, IF(INTRO!$E$37=\"Non-endemic\",0,IF(COUNTRY_INFO!$H97=1,COUNTRY_INFO!E97,0)))","v":0},{"$f":"IF(INTRO!$E$39<>\"Non-endemic\", 0, IF(INTRO!$E$37=\"Non-endemic\",0,IF(COUNTRY_INFO!$H97=1,COUNTRY_INFO!F97,0)))","v":0},{"$f":"IF(INTRO!$E$39<>\"Non-endemic\", 0, IF(INTRO!$E$37=\"Non-endemic\",0,IF(COUNTRY_INFO!$H97=1,COUNTRY_INFO!G97,0)))","v":0},0,{"$f":"IF(INTRO!$E$39=\"Non-endemic\",IF(INTRO!$E$37=\"Non-endemic\",\"Not required\",COUNTRY_INFO!P97),\"Treat with IVM\")","v":"Treat with IVM"},0,0,null,0,0]
[{"$f":"IF(INTRO!$E$39<>\"Non-endemic\", \" \", IF(INTRO!$E$37=\"Non-endemic\",\" \", IF(COUNTRY_INFO!A98=0,\" \",COUNTRY_INFO!A98)))","v":" "},{"$f":"IF(INTRO!$E$39<>\"Non-endemic\", \" \", IF(INTRO!$E$37=\"Non-endemic\",\" \", IF(COUNTRY_INFO!B98=0,\" \",COUNTRY_INFO!B98)))","v":" "},{"$f":"IF(INTRO!$E$39<>\"Non-endemic\", \" \", IF(INTRO!$E$37=\"Non-endemic\",\" \", IF(COUNTRY_INFO!C98=0,\" \",COUNTRY_INFO!C98)))","v":" "},{"$f":"IF(INTRO!$E$39<>\"Non-endemic\", 0, IF(INTRO!$E$37=\"Non-endemic\",0,IF(COUNTRY_INFO!$H98=1,COUNTRY_INFO!E98,0)))","v":0},{"$f":"IF(INTRO!$E$39<>\"Non-endemic\", 0, IF(INTRO!$E$37=\"Non-endemic\",0,IF(COUNTRY_INFO!$H98=1,COUNTRY_INFO!F98,0)))","v":0},{"$f":"IF(INTRO!$E$39<>\"Non-endemic\", 0, IF(INTRO!$E$37=\"Non-endemic\",0,IF(COUNTRY_INFO!$H98=1,COUNTRY_INFO!G98,0)))","v":0},0,{"$f":"IF(INTRO!$E$39=\"Non-endemic\",IF(INTRO!$E$37=\"Non-endemic\",\"Not required\",COUNTRY_INFO!P98),\"Treat with IVM\")","v":"Treat with IVM"},0,0,null,0,0]
[{"$f":"IF(INTRO!$E$39<>\"Non-endemic\", \" \", IF(INTRO!$E$37=\"Non-endemic\",\" \", IF(COUNTRY_INFO!A99=0,\" \",COUNTRY_INFO!A99)))","v":" "},{"$f":"IF(INTRO!$E$39<>\"Non-endemic\", \" \", IF(INTRO!$E$37=\"Non-endemic\",\" \", IF(COUNTRY_INFO!B99=0,\" \",COUNTRY_INFO!B99)))","v":" "},{"$f":"IF(INTRO!$E$39<>\"Non-endemic\", \" \", IF(INTRO!$E$37=\"Non-endemic\",\" \", IF(COUNTRY_INFO!C99=0,\" \",COUNTRY_INFO!C99)))","v":" "},{"$f":"IF(INTRO!$E$39<>\"Non-endemic\", 0, IF(INTRO!$E$37=\"Non-endemic\",0,IF(COUNTRY_INFO!$H99=1,COUNTRY_INFO!E99,0)))","v":0},{"$f":"IF(INTRO!$E$39<>\"Non-endemic\", 0, IF(INTRO!$E$37=\"Non-endemic\",0,IF(COUNTRY_INFO!$H99=1,COUNTRY_INFO!F99,0)))","v":0},{"$f":"IF(INTRO!$E$39<>\"Non-endemic\", 0, IF(INTRO!$E$37=\"Non-endemic\",0,IF(COUNTRY_INFO!$H99=1,COUNTRY_INFO!G99,0)))","v":0},0,{"$f":"IF(INTRO!$E$39=\"Non-endemic\",IF(INTRO!$E$37=\"Non-endemic\",\"Not required\",COUNTRY_INFO!P99),\"Treat with IVM\")","v":"Treat with IVM"},0,0,null,0,0]
[{"$f":"IF(INTRO!$E$39<>\"Non-endemic\", \" \", IF(INTRO!$E$37=\"Non-endemic\",\" \", IF(COUNTRY_INFO!A100=0,\" \",COUNTRY_INFO!A100)))","v":" "},{"$f":"IF(INTRO!$E$39<>\"Non-endemic\", \" \", IF(INTRO!$E$37=\"Non-endemic\",\" \", IF(COUNTRY_INFO!B100=0,\" \",COUNTRY_INFO!B100)))","v":" "},{"$f":"IF(INTRO!$E$39<>\"Non-endemic\", \" \", IF(INTRO!$E$37=\"Non-endemic\",\" \", IF(COUNTRY_INFO!C100=0,\" \",COUNTRY_INFO!C100)))","v":" "},{"$f":"IF(INTRO!$E$39<>\"Non-endemic\", 0, IF(INTRO!$E$37=\"Non-endemic\",0,IF(COUNTRY_INFO!$H100=1,COUNTRY_INFO!E100,0)))","v":0},{"$f":"IF(INTRO!$E$39<>\"Non-endemic\", 0, IF(INTRO!$E$37=\"Non-endemic\",0,IF(COUNTRY_INFO!$H100=1,COUNTRY_INFO!F100,0)))","v":0},{"$f":"IF(INTRO!$E$39<>\"Non-endemic\", 0, IF(INTRO!$E$37=\"Non-endemic\",0,IF(COUNTRY_INFO!$H100=1,COUNTRY_INFO!G100,0)))","v":0},0,{"$f":"IF(INTRO!$E$39=\"Non-endemic\",IF(INTRO!$E$37=\"Non-endemic\",\"Not required\",COUNTRY_INFO!P100),\"Treat with IVM\")","v":"Treat with IVM"},0,0,null,0,0]
[{"$f":"IF(INTRO!$E$39<>\"Non-endemic\", \" \", IF(INTRO!$E$37=\"Non-endemic\",\" \", IF(COUNTRY_INFO!A101=0,\" \",COUNTRY_INFO!A101)))","v":" "},{"$f":"IF(INTRO!$E$39<>\"Non-endemic\", \" \", IF(INTRO!$E$37=\"Non-endemic\",\" \", IF(COUNTRY_INFO!B101=0,\" \",COUNTRY_INFO!B101)))","v":" "},{"$f":"IF(INTRO!$E$39<>\"Non-endemic\", \" \", IF(INTRO!$E$37=\"Non-endemic\",\" \", IF(COUNTRY_INFO!C101=0,\" \",COUNTRY_INFO!C101)))","v":" "},{"$f":"IF(INTRO!$E$39<>\"Non-endemic\", 0, IF(INTRO!$E$37=\"Non-endemic\",0,IF(COUNTRY_INFO!$H101=1,COUNTRY_INFO!E101,0)))","v":0},{"$f":"IF(INTRO!$E$39<>\"Non-endemic\", 0, IF(INTRO!$E$37=\"Non-endemic\",0,IF(COUNTRY_INFO!$H101=1,COUNTRY_INFO!F101,0)))","v":0},{"$f":"IF(INTRO!$E$39<>\"Non-endemic\", 0, IF(INTRO!$E$37=\"Non-endemic\",0,IF(COUNTRY_INFO!$H101=1,COUNTRY_INFO!G101,0)))","v":0},0,{"$f":"IF(INTRO!$E$39=\"Non-endemic\",IF(INTRO!$E$37=\"Non-endemic\",\"Not required\",COUNTRY_INFO!P101),\"Treat with IVM\")","v":"Treat with IVM"},0,0,null,0,0]
[{"$f":"IF(INTRO!$E$39<>\"Non-endemic\", \" \", IF(INTRO!$E$37=\"Non-endemic\",\" \", IF(COUNTRY_INFO!A102=0,\" \",COUNTRY_INFO!A102)))","v":" "},{"$f":"IF(INTRO!$E$39<>\"Non-endemic\", \" \", IF(INTRO!$E$37=\"Non-endemic\",\" \", IF(COUNTRY_INFO!B102=0,\" \",COUNTRY_INFO!B102)))","v":" "},{"$f":"IF(INTRO!$E$39<>\"Non-endemic\", \" \", IF(INTRO!$E$37=\"Non-endemic\",\" \", IF(COUNTRY_INFO!C102=0,\" \",COUNTRY_INFO!C102)))","v":" "},{"$f":"IF(INTRO!$E$39<>\"Non-endemic\", 0, IF(INTRO!$E$37=\"Non-endemic\",0,IF(COUNTRY_INFO!$H102=1,COUNTRY_INFO!E102,0)))","v":0},{"$f":"IF(INTRO!$E$39<>\"Non-endemic\", 0, IF(INTRO!$E$37=\"Non-endemic\",0,IF(COUNTRY_INFO!$H102=1,COUNTRY_INFO!F102,0)))","v":0},{"$f":"IF(INTRO!$E$39<>\"Non-endemic\", 0, IF(INTRO!$E$37=\"Non-endemic\",0,IF(COUNTRY_INFO!$H102=1,COUNTRY_INFO!G102,0)))","v":0},0,{"$f":"IF(INTRO!$E$39=\"Non-endemic\",IF(INTRO!$E$37=\"Non-endemic\",\"Not required\",COUNTRY_INFO!P102),\"Treat with IVM\")","v":"Treat with IVM"},0,0,null,0,0]
[{"$f":"IF(INTRO!$E$39<>\"Non-endemic\", \" \", IF(INTRO!$E$37=\"Non-endemic\",\" \", IF(COUNTRY_INFO!A103=0,\" \",COUNTRY_INFO!A103)))","v":" "},{"$f":"IF(INTRO!$E$39<>\"Non-endemic\", \" \", IF(INTRO!$E$37=\"Non-endemic\",\" \", IF(COUNTRY_INFO!B103=0,\" \",COUNTRY_INFO!B103)))","v":" "},{"$f":"IF(INTRO!$E$39<>\"Non-endemic\", \" \", IF(INTRO!$E$37=\"Non-endemic\",\" \", IF(COUNTRY_INFO!C103=0,\" \",COUNTRY_INFO!C103)))","v":" "},{"$f":"IF(INTRO!$E$39<>\"Non-endemic\", 0, IF(INTRO!$E$37=\"Non-endemic\",0,IF(COUNTRY_INFO!$H103=1,COUNTRY_INFO!E103,0)))","v":0},{"$f":"IF(INTRO!$E$39<>\"Non-endemic\", 0, IF(INTRO!$E$37=\"Non-endemic\",0,IF(COUNTRY_INFO!$H103=1,COUNTRY_INFO!F103,0)))","v":0},{"$f":"IF(INTRO!$E$39<>\"Non-endemic\", 0, IF(INTRO!$E$37=\"Non-endemic\",0,IF(COUNTRY_INFO!$H103=1,COUNTRY_INFO!G103,0)))","v":0},0,{"$f":"IF(INTRO!$E$39=\"Non-endemic\",IF(INTRO!$E$37=\"Non-endemic\",\"Not required\",COUNTRY_INFO!P103),\"Treat with IVM\")","v":"Treat with IVM"},0,0,null,0,0]
[{"$f":"IF(INTRO!$E$39<>\"Non-endemic\", \" \", IF(INTRO!$E$37=\"Non-endemic\",\" \", IF(COUNTRY_INFO!A104=0,\" \",COUNTRY_INFO!A104)))","v":" "},{"$f":"IF(INTRO!$E$39<>\"Non-endemic\", \" \", IF(INTRO!$E$37=\"Non-endemic\",\" \", IF(COUNTRY_INFO!B104=0,\" \",COUNTRY_INFO!B104)))","v":" "},{"$f":"IF(INTRO!$E$39<>\"Non-endemic\", \" \", IF(INTRO!$E$37=\"Non-endemic\",\" \", IF(COUNTRY_INFO!C104=0,\" \",COUNTRY_INFO!C104)))","v":" "},{"$f":"IF(INTRO!$E$39<>\"Non-endemic\", 0, IF(INTRO!$E$37=\"Non-endemic\",0,IF(COUNTRY_INFO!$H104=1,COUNTRY_INFO!E104,0)))","v":0},{"$f":"IF(INTRO!$E$39<>\"Non-endemic\", 0, IF(INTRO!$E$37=\"Non-endemic\",0,IF(COUNTRY_INFO!$H104=1,COUNTRY_INFO!F104,0)))","v":0},{"$f":"IF(INTRO!$E$39<>\"Non-endemic\", 0, IF(INTRO!$E$37=\"Non-endemic\",0,IF(COUNTRY_INFO!$H104=1,COUNTRY_INFO!G104,0)))","v":0},0,{"$f":"IF(INTRO!$E$39=\"Non-endemic\",IF(INTRO!$E$37=\"Non-endemic\",\"Not required\",COUNTRY_INFO!P104),\"Treat with IVM\")","v":"Treat with IVM"},0,0,null,0,0]
[{"$f":"IF(INTRO!$E$39<>\"Non-endemic\", \" \", IF(INTRO!$E$37=\"Non-endemic\",\" \", IF(COUNTRY_INFO!A105=0,\" \",COUNTRY_INFO!A105)))","v":" "},{"$f":"IF(INTRO!$E$39<>\"Non-endemic\", \" \", IF(INTRO!$E$37=\"Non-endemic\",\" \", IF(COUNTRY_INFO!B105=0,\" \",COUNTRY_INFO!B105)))","v":" "},{"$f":"IF(INTRO!$E$39<>\"Non-endemic\", \" \", IF(INTRO!$E$37=\"Non-endemic\",\" \", IF(COUNTRY_INFO!C105=0,\" \",COUNTRY_INFO!C105)))","v":" "},{"$f":"IF(INTRO!$E$39<>\"Non-endemic\", 0, IF(INTRO!$E$37=\"Non-endemic\",0,IF(COUNTRY_INFO!$H105=1,COUNTRY_INFO!E105,0)))","v":0},{"$f":"IF(INTRO!$E$39<>\"Non-endemic\", 0, IF(INTRO!$E$37=\"Non-endemic\",0,IF(COUNTRY_INFO!$H105=1,COUNTRY_INFO!F105,0)))","v":0},{"$f":"IF(INTRO!$E$39<>\"Non-endemic\", 0, IF(INTRO!$E$37=\"Non-endemic\",0,IF(COUNTRY_INFO!$H105=1,COUNTRY_INFO!G105,0)))","v":0},0,{"$f":"IF(INTRO!$E$39=\"Non-endemic\",IF(INTRO!$E$37=\"Non-endemic\",\"Not required\",COUNTRY_INFO!P105),\"Treat with IVM\")","v":"Treat with IVM"},0,0,null,0,0]
[{"$f":"IF(INTRO!$E$39<>\"Non-endemic\", \" \", IF(INTRO!$E$37=\"Non-endemic\",\" \", IF(COUNTRY_INFO!A106=0,\" \",COUNTRY_INFO!A106)))","v":" "},{"$f":"IF(INTRO!$E$39<>\"Non-endemic\", \" \", IF(INTRO!$E$37=\"Non-endemic\",\" \", IF(COUNTRY_INFO!B106=0,\" \",COUNTRY_INFO!B106)))","v":" "},{"$f":"IF(INTRO!$E$39<>\"Non-endemic\", \" \", IF(INTRO!$E$37=\"Non-endemic\",\" \", IF(COUNTRY_INFO!C106=0,\" \",COUNTRY_INFO!C106)))","v":" "},{"$f":"IF(INTRO!$E$39<>\"Non-endemic\", 0, IF(INTRO!$E$37=\"Non-endemic\",0,IF(COUNTRY_INFO!$H106=1,COUNTRY_INFO!E106,0)))","v":0},{"$f":"IF(INTRO!$E$39<>\"Non-endemic\", 0, IF(INTRO!$E$37=\"Non-endemic\",0,IF(COUNTRY_INFO!$H106=1,COUNTRY_INFO!F106,0)))","v":0},{"$f":"IF(INTRO!$E$39<>\"Non-endemic\", 0, IF(INTRO!$E$37=\"Non-endemic\",0,IF(COUNTRY_INFO!$H106=1,COUNTRY_INFO!G106,0)))","v":0},0,{"$f":"IF(INTRO!$E$39=\"Non-endemic\",IF(INTRO!$E$37=\"Non-endemic\",\"Not required\",COUNTRY_INFO!P106),\"Treat with IVM\")","v":"Treat with IVM"},0,0,null,0,0]
[{"$f":"IF(INTRO!$E$39<>\"Non-endemic\", \" \", IF(INTRO!$E$37=\"Non-endemic\",\" \", IF(COUNTRY_INFO!A107=0,\" \",COUNTRY_INFO!A107)))","v":" "},{"$f":"IF(INTRO!$E$39<>\"Non-endemic\", \" \", IF(INTRO!$E$37=\"Non-endemic\",\" \", IF(COUNTRY_INFO!B107=0,\" \",COUNTRY_INFO!B107)))","v":" "},{"$f":"IF(INTRO!$E$39<>\"Non-endemic\", \" \", IF(INTRO!$E$37=\"Non-endemic\",\" \", IF(COUNTRY_INFO!C107=0,\" \",COUNTRY_INFO!C107)))","v":" "},{"$f":"IF(INTRO!$E$39<>\"Non-endemic\", 0, IF(INTRO!$E$37=\"Non-endemic\",0,IF(COUNTRY_INFO!$H107=1,COUNTRY_INFO!E107,0)))","v":0},{"$f":"IF(INTRO!$E$39<>\"Non-endemic\", 0, IF(INTRO!$E$37=\"Non-endemic\",0,IF(COUNTRY_INFO!$H107=1,COUNTRY_INFO!F107,0)))","v":0},{"$f":"IF(INTRO!$E$39<>\"Non-endemic\", 0, IF(INTRO!$E$37=\"Non-endemic\",0,IF(COUNTRY_INFO!$H107=1,COUNTRY_INFO!G107,0)))","v":0},0,{"$f":"IF(INTRO!$E$39=\"Non-endemic\",IF(INTRO!$E$37=\"Non-endemic\",\"Not required\",COUNTRY_INFO!P107),\"Treat with IVM\")","v":"Treat with IVM"},0,0,null,0,0]
[{"$f":"IF(INTRO!$E$39<>\"Non-endemic\", \" \", IF(INTRO!$E$37=\"Non-endemic\",\" \", IF(COUNTRY_INFO!A108=0,\" \",COUNTRY_INFO!A108)))","v":" "},{"$f":"IF(INTRO!$E$39<>\"Non-endemic\", \" \", IF(INTRO!$E$37=\"Non-endemic\",\" \", IF(COUNTRY_INFO!B108=0,\" \",COUNTRY_INFO!B108)))","v":" "},{"$f":"IF(INTRO!$E$39<>\"Non-endemic\", \" \", IF(INTRO!$E$37=\"Non-endemic\",\" \", IF(COUNTRY_INFO!C108=0,\" \",COUNTRY_INFO!C108)))","v":" "},{"$f":"IF(INTRO!$E$39<>\"Non-endemic\", 0, IF(INTRO!$E$37=\"Non-endemic\",0,IF(COUNTRY_INFO!$H108=1,COUNTRY_INFO!E108,0)))","v":0},{"$f":"IF(INTRO!$E$39<>\"Non-endemic\", 0, IF(INTRO!$E$37=\"Non-endemic\",0,IF(COUNTRY_INFO!$H108=1,COUNTRY_INFO!F108,0)))","v":0},{"$f":"IF(INTRO!$E$39<>\"Non-endemic\", 0, IF(INTRO!$E$37=\"Non-endemic\",0,IF(COUNTRY_INFO!$H108=1,COUNTRY_INFO!G108,0)))","v":0},0,{"$f":"IF(INTRO!$E$39=\"Non-endemic\",IF(INTRO!$E$37=\"Non-endemic\",\"Not required\",COUNTRY_INFO!P108),\"Treat with IVM\")","v":"Treat with IVM"},0,0,null,0,0]
[{"$f":"IF(INTRO!$E$39<>\"Non-endemic\", \" \", IF(INTRO!$E$37=\"Non-endemic\",\" \", IF(COUNTRY_INFO!A109=0,\" \",COUNTRY_INFO!A109)))","v":" "},{"$f":"IF(INTRO!$E$39<>\"Non-endemic\", \" \", IF(INTRO!$E$37=\"Non-endemic\",\" \", IF(COUNTRY_INFO!B109=0,\" \",COUNTRY_INFO!B109)))","v":" "},{"$f":"IF(INTRO!$E$39<>\"Non-endemic\", \" \", IF(INTRO!$E$37=\"Non-endemic\",\" \", IF(COUNTRY_INFO!C109=0,\" \",COUNTRY_INFO!C109)))","v":" "},{"$f":"IF(INTRO!$E$39<>\"Non-endemic\", 0, IF(INTRO!$E$37=\"Non-endemic\",0,IF(COUNTRY_INFO!$H109=1,COUNTRY_INFO!E109,0)))","v":0},{"$f":"IF(INTRO!$E$39<>\"Non-endemic\", 0, IF(INTRO!$E$37=\"Non-endemic\",0,IF(COUNTRY_INFO!$H109=1,COUNTRY_INFO!F109,0)))","v":0},{"$f":"IF(INTRO!$E$39<>\"Non-endemic\", 0, IF(INTRO!$E$37=\"Non-endemic\",0,IF(COUNTRY_INFO!$H109=1,COUNTRY_INFO!G109,0)))","v":0},0,{"$f":"IF(INTRO!$E$39=\"Non-endemic\",IF(INTRO!$E$37=\"Non-endemic\",\"Not required\",COUNTRY_INFO!P109),\"Treat with IVM\")","v":"Treat with IVM"},0,0,null,0,0]
[{"$f":"IF(INTRO!$E$39<>\"Non-endemic\", \" \", IF(INTRO!$E$37=\"Non-endemic\",\" \", IF(COUNTRY_INFO!A110=0,\" \",COUNTRY_INFO!A110)))","v":" "},{"$f":"IF(INTRO!$E$39<>\"Non-endemic\", \" \", IF(INTRO!$E$37=\"Non-endemic\",\" \", IF(COUNTRY_INFO!B110=0,\" \",COUNTRY_INFO!B110)))","v":" "},{"$f":"IF(INTRO!$E$39<>\"Non-endemic\", \" \", IF(INTRO!$E$37=\"Non-endemic\",\" \", IF(COUNTRY_INFO!C110=0,\" \",COUNTRY_INFO!C110)))","v":" "},{"$f":"IF(INTRO!$E$39<>\"Non-endemic\", 0, IF(INTRO!$E$37=\"Non-endemic\",0,IF(COUNTRY_INFO!$H110=1,COUNTRY_INFO!E110,0)))","v":0},{"$f":"IF(INTRO!$E$39<>\"Non-endemic\", 0, IF(INTRO!$E$37=\"Non-endemic\",0,IF(COUNTRY_INFO!$H110=1,COUNTRY_INFO!F110,0)))","v":0},{"$f":"IF(INTRO!$E$39<>\"Non-endemic\", 0, IF(INTRO!$E$37=\"Non-endemic\",0,IF(COUNTRY_INFO!$H110=1,COUNTRY_INFO!G110,0)))","v":0},0,{"$f":"IF(INTRO!$E$39=\"Non-endemic\",IF(INTRO!$E$37=\"Non-endemic\",\"Not required\",COUNTRY_INFO!P110),\"Treat with IVM\")","v":"Treat with IVM"},0,0,null,0,0]
[{"$f":"IF(INTRO!$E$39<>\"Non-endemic\", \" \", IF(INTRO!$E$37=\"Non-endemic\",\" \", IF(COUNTRY_INFO!A111=0,\" \",COUNTRY_INFO!A111)))","v":" "},{"$f":"IF(INTRO!$E$39<>\"Non-endemic\", \" \", IF(INTRO!$E$37=\"Non-endemic\",\" \", IF(COUNTRY_INFO!B111=0,\" \",COUNTRY_INFO!B111)))","v":" "},{"$f":"IF(INTRO!$E$39<>\"Non-endemic\", \" \", IF(INTRO!$E$37=\"Non-endemic\",\" \", IF(COUNTRY_INFO!C111=0,\" \",COUNTRY_INFO!C111)))","v":" "},{"$f":"IF(INTRO!$E$39<>\"Non-endemic\", 0, IF(INTRO!$E$37=\"Non-endemic\",0,IF(COUNTRY_INFO!$H111=1,COUNTRY_INFO!E111,0)))","v":0},{"$f":"IF(INTRO!$E$39<>\"Non-endemic\", 0, IF(INTRO!$E$37=\"Non-endemic\",0,IF(COUNTRY_INFO!$H111=1,COUNTRY_INFO!F111,0)))","v":0},{"$f":"IF(INTRO!$E$39<>\"Non-endemic\", 0, IF(INTRO!$E$37=\"Non-endemic\",0,IF(COUNTRY_INFO!$H111=1,COUNTRY_INFO!G111,0)))","v":0},0,{"$f":"IF(INTRO!$E$39=\"Non-endemic\",IF(INTRO!$E$37=\"Non-endemic\",\"Not required\",COUNTRY_INFO!P111),\"Treat with IVM\")","v":"Treat with IVM"},0,0,null,0,0]
[{"$f":"IF(INTRO!$E$39<>\"Non-endemic\", \" \", IF(INTRO!$E$37=\"Non-endemic\",\" \", IF(COUNTRY_INFO!A112=0,\" \",COUNTRY_INFO!A112)))","v":" "},{"$f":"IF(INTRO!$E$39<>\"Non-endemic\", \" \", IF(INTRO!$E$37=\"Non-endemic\",\" \", IF(COUNTRY_INFO!B112=0,\" \",COUNTRY_INFO!B112)))","v":" "},{"$f":"IF(INTRO!$E$39<>\"Non-endemic\", \" \", IF(INTRO!$E$37=\"Non-endemic\",\" \", IF(COUNTRY_INFO!C112=0,\" \",COUNTRY_INFO!C112)))","v":" "},{"$f":"IF(INTRO!$E$39<>\"Non-endemic\", 0, IF(INTRO!$E$37=\"Non-endemic\",0,IF(COUNTRY_INFO!$H112=1,COUNTRY_INFO!E112,0)))","v":0},{"$f":"IF(INTRO!$E$39<>\"Non-endemic\", 0, IF(INTRO!$E$37=\"Non-endemic\",0,IF(COUNTRY_INFO!$H112=1,COUNTRY_INFO!F112,0)))","v":0},{"$f":"IF(INTRO!$E$39<>\"Non-endemic\", 0, IF(INTRO!$E$37=\"Non-endemic\",0,IF(COUNTRY_INFO!$H112=1,COUNTRY_INFO!G112,0)))","v":0},0,{"$f":"IF(INTRO!$E$39=\"Non-endemic\",IF(INTRO!$E$37=\"Non-endemic\",\"Not required\",COUNTRY_INFO!P112),\"Treat with IVM\")","v":"Treat with IVM"},0,0,null,0,0]
[{"$f":"IF(INTRO!$E$39<>\"Non-endemic\", \" \", IF(INTRO!$E$37=\"Non-endemic\",\" \", IF(COUNTRY_INFO!A113=0,\" \",COUNTRY_INFO!A113)))","v":" "},{"$f":"IF(INTRO!$E$39<>\"Non-endemic\", \" \", IF(INTRO!$E$37=\"Non-endemic\",\" \", IF(COUNTRY_INFO!B113=0,\" \",COUNTRY_INFO!B113)))","v":" "},{"$f":"IF(INTRO!$E$39<>\"Non-endemic\", \" \", IF(INTRO!$E$37=\"Non-endemic\",\" \", IF(COUNTRY_INFO!C113=0,\" \",COUNTRY_INFO!C113)))","v":" "},{"$f":"IF(INTRO!$E$39<>\"Non-endemic\", 0, IF(INTRO!$E$37=\"Non-endemic\",0,IF(COUNTRY_INFO!$H113=1,COUNTRY_INFO!E113,0)))","v":0},{"$f":"IF(INTRO!$E$39<>\"Non-endemic\", 0, IF(INTRO!$E$37=\"Non-endemic\",0,IF(COUNTRY_INFO!$H113=1,COUNTRY_INFO!F113,0)))","v":0},{"$f":"IF(INTRO!$E$39<>\"Non-endemic\", 0, IF(INTRO!$E$37=\"Non-endemic\",0,IF(COUNTRY_INFO!$H113=1,COUNTRY_INFO!G113,0)))","v":0},0,{"$f":"IF(INTRO!$E$39=\"Non-endemic\",IF(INTRO!$E$37=\"Non-endemic\",\"Not required\",COUNTRY_INFO!P113),\"Treat with IVM\")","v":"Treat with IVM"},0,0,null,0,0]
[{"$f":"IF(INTRO!$E$39<>\"Non-endemic\", \" \", IF(INTRO!$E$37=\"Non-endemic\",\" \", IF(COUNTRY_INFO!A114=0,\" \",COUNTRY_INFO!A114)))","v":" "},{"$f":"IF(INTRO!$E$39<>\"Non-endemic\", \" \", IF(INTRO!$E$37=\"Non-endemic\",\" \", IF(COUNTRY_INFO!B114=0,\" \",COUNTRY_INFO!B114)))","v":" "},{"$f":"IF(INTRO!$E$39<>\"Non-endemic\", \" \", IF(INTRO!$E$37=\"Non-endemic\",\" \", IF(COUNTRY_INFO!C114=0,\" \",COUNTRY_INFO!C114)))","v":" "},{"$f":"IF(INTRO!$E$39<>\"Non-endemic\", 0, IF(INTRO!$E$37=\"Non-endemic\",0,IF(COUNTRY_INFO!$H114=1,COUNTRY_INFO!E114,0)))","v":0},{"$f":"IF(INTRO!$E$39<>\"Non-endemic\", 0, IF(INTRO!$E$37=\"Non-endemic\",0,IF(COUNTRY_INFO!$H114=1,COUNTRY_INFO!F114,0)))","v":0},{"$f":"IF(INTRO!$E$39<>\"Non-endemic\", 0, IF(INTRO!$E$37=\"Non-endemic\",0,IF(COUNTRY_INFO!$H114=1,COUNTRY_INFO!G114,0)))","v":0},0,{"$f":"IF(INTRO!$E$39=\"Non-endemic\",IF(INTRO!$E$37=\"Non-endemic\",\"Not required\",COUNTRY_INFO!P114),\"Treat with IVM\")","v":"Treat with IVM"},0,0,null,0,0]
[{"$f":"IF(INTRO!$E$39<>\"Non-endemic\", \" \", IF(INTRO!$E$37=\"Non-endemic\",\" \", IF(COUNTRY_INFO!A115=0,\" \",COUNTRY_INFO!A115)))","v":" "},{"$f":"IF(INTRO!$E$39<>\"Non-endemic\", \" \", IF(INTRO!$E$37=\"Non-endemic\",\" \", IF(COUNTRY_INFO!B115=0,\" \",COUNTRY_INFO!B115)))","v":" "},{"$f":"IF(INTRO!$E$39<>\"Non-endemic\", \" \", IF(INTRO!$E$37=\"Non-endemic\",\" \", IF(COUNTRY_INFO!C115=0,\" \",COUNTRY_INFO!C115)))","v":" "},{"$f":"IF(INTRO!$E$39<>\"Non-endemic\", 0, IF(INTRO!$E$37=\"Non-endemic\",0,IF(COUNTRY_INFO!$H115=1,COUNTRY_INFO!E115,0)))","v":0},{"$f":"IF(INTRO!$E$39<>\"Non-endemic\", 0, IF(INTRO!$E$37=\"Non-endemic\",0,IF(COUNTRY_INFO!$H115=1,COUNTRY_INFO!F115,0)))","v":0},{"$f":"IF(INTRO!$E$39<>\"Non-endemic\", 0, IF(INTRO!$E$37=\"Non-endemic\",0,IF(COUNTRY_INFO!$H115=1,COUNTRY_INFO!G115,0)))","v":0},0,{"$f":"IF(INTRO!$E$39=\"Non-endemic\",IF(INTRO!$E$37=\"Non-endemic\",\"Not required\",COUNTRY_INFO!P115),\"Treat with IVM\")","v":"Treat with IVM"},0,0,null,0,0]
[{"$f":"IF(INTRO!$E$39<>\"Non-endemic\", \" \", IF(INTRO!$E$37=\"Non-endemic\",\" \", IF(COUNTRY_INFO!A116=0,\" \",COUNTRY_INFO!A116)))","v":" "},{"$f":"IF(INTRO!$E$39<>\"Non-endemic\", \" \", IF(INTRO!$E$37=\"Non-endemic\",\" \", IF(COUNTRY_INFO!B116=0,\" \",COUNTRY_INFO!B116)))","v":" "},{"$f":"IF(INTRO!$E$39<>\"Non-endemic\", \" \", IF(INTRO!$E$37=\"Non-endemic\",\" \", IF(COUNTRY_INFO!C116=0,\" \",COUNTRY_INFO!C116)))","v":" "},{"$f":"IF(INTRO!$E$39<>\"Non-endemic\", 0, IF(INTRO!$E$37=\"Non-endemic\",0,IF(COUNTRY_INFO!$H116=1,COUNTRY_INFO!E116,0)))","v":0},{"$f":"IF(INTRO!$E$39<>\"Non-endemic\", 0, IF(INTRO!$E$37=\"Non-endemic\",0,IF(COUNTRY_INFO!$H116=1,COUNTRY_INFO!F116,0)))","v":0},{"$f":"IF(INTRO!$E$39<>\"Non-endemic\", 0, IF(INTRO!$E$37=\"Non-endemic\",0,IF(COUNTRY_INFO!$H116=1,COUNTRY_INFO!G116,0)))","v":0},0,{"$f":"IF(INTRO!$E$39=\"Non-endemic\",IF(INTRO!$E$37=\"Non-endemic\",\"Not required\",COUNTRY_INFO!P116),\"Treat with IVM\")","v":"Treat with IVM"},0,0,null,0,0]
[{"$f":"IF(INTRO!$E$39<>\"Non-endemic\", \" \", IF(INTRO!$E$37=\"Non-endemic\",\" \", IF(COUNTRY_INFO!A117=0,\" \",COUNTRY_INFO!A117)))","v":" "},{"$f":"IF(INTRO!$E$39<>\"Non-endemic\", \" \", IF(INTRO!$E$37=\"Non-endemic\",\" \", IF(COUNTRY_INFO!B117=0,\" \",COUNTRY_INFO!B117)))","v":" "},{"$f":"IF(INTRO!$E$39<>\"Non-endemic\", \" \", IF(INTRO!$E$37=\"Non-endemic\",\" \", IF(COUNTRY_INFO!C117=0,\" \",COUNTRY_INFO!C117)))","v":" "},{"$f":"IF(INTRO!$E$39<>\"Non-endemic\", 0, IF(INTRO!$E$37=\"Non-endemic\",0,IF(COUNTRY_INFO!$H117=1,COUNTRY_INFO!E117,0)))","v":0},{"$f":"IF(INTRO!$E$39<>\"Non-endemic\", 0, IF(INTRO!$E$37=\"Non-endemic\",0,IF(COUNTRY_INFO!$H117=1,COUNTRY_INFO!F117,0)))","v":0},{"$f":"IF(INTRO!$E$39<>\"Non-endemic\", 0, IF(INTRO!$E$37=\"Non-endemic\",0,IF(COUNTRY_INFO!$H117=1,COUNTRY_INFO!G117,0)))","v":0},0,{"$f":"IF(INTRO!$E$39=\"Non-endemic\",IF(INTRO!$E$37=\"Non-endemic\",\"Not required\",COUNTRY_INFO!P117),\"Treat with IVM\")","v":"Treat with IVM"},0,0,null,0,0]
[{"$f":"IF(INTRO!$E$39<>\"Non-endemic\", \" \", IF(INTRO!$E$37=\"Non-endemic\",\" \", IF(COUNTRY_INFO!A118=0,\" \",COUNTRY_INFO!A118)))","v":" "},{"$f":"IF(INTRO!$E$39<>\"Non-endemic\", \" \", IF(INTRO!$E$37=\"Non-endemic\",\" \", IF(COUNTRY_INFO!B118=0,\" \",COUNTRY_INFO!B118)))","v":" "},{"$f":"IF(INTRO!$E$39<>\"Non-endemic\", \" \", IF(INTRO!$E$37=\"Non-endemic\",\" \", IF(COUNTRY_INFO!C118=0,\" \",COUNTRY_INFO!C118)))","v":" "},{"$f":"IF(INTRO!$E$39<>\"Non-endemic\", 0, IF(INTRO!$E$37=\"Non-endemic\",0,IF(COUNTRY_INFO!$H118=1,COUNTRY_INFO!E118,0)))","v":0},{"$f":"IF(INTRO!$E$39<>\"Non-endemic\", 0, IF(INTRO!$E$37=\"Non-endemic\",0,IF(COUNTRY_INFO!$H118=1,COUNTRY_INFO!F118,0)))","v":0},{"$f":"IF(INTRO!$E$39<>\"Non-endemic\", 0, IF(INTRO!$E$37=\"Non-endemic\",0,IF(COUNTRY_INFO!$H118=1,COUNTRY_INFO!G118,0)))","v":0},0,{"$f":"IF(INTRO!$E$39=\"Non-endemic\",IF(INTRO!$E$37=\"Non-endemic\",\"Not required\",COUNTRY_INFO!P118),\"Treat with IVM\")","v":"Treat with IVM"},0,0,null,0,0]
[{"$f":"IF(INTRO!$E$39<>\"Non-endemic\", \" \", IF(INTRO!$E$37=\"Non-endemic\",\" \", IF(COUNTRY_INFO!A119=0,\" \",COUNTRY_INFO!A119)))","v":" "},{"$f":"IF(INTRO!$E$39<>\"Non-endemic\", \" \", IF(INTRO!$E$37=\"Non-endemic\",\" \", IF(COUNTRY_INFO!B119=0,\" \",COUNTRY_INFO!B119)))","v":" "},{"$f":"IF(INTRO!$E$39<>\"Non-endemic\", \" \", IF(INTRO!$E$37=\"Non-endemic\",\" \", IF(COUNTRY_INFO!C119=0,\" \",COUNTRY_INFO!C119)))","v":" "},{"$f":"IF(INTRO!$E$39<>\"Non-endemic\", 0, IF(INTRO!$E$37=\"Non-endemic\",0,IF(COUNTRY_INFO!$H119=1,COUNTRY_INFO!E119,0)))","v":0},{"$f":"IF(INTRO!$E$39<>\"Non-endemic\", 0, IF(INTRO!$E$37=\"Non-endemic\",0,IF(COUNTRY_INFO!$H119=1,COUNTRY_INFO!F119,0)))","v":0},{"$f":"IF(INTRO!$E$39<>\"Non-endemic\", 0, IF(INTRO!$E$37=\"Non-endemic\",0,IF(COUNTRY_INFO!$H119=1,COUNTRY_INFO!G119,0)))","v":0},0,{"$f":"IF(INTRO!$E$39=\"Non-endemic\",IF(INTRO!$E$37=\"Non-endemic\",\"Not required\",COUNTRY_INFO!P119),\"Treat with IVM\")","v":"Treat with IVM"},0,0,null,0,0]
[{"$f":"IF(INTRO!$E$39<>\"Non-endemic\", \" \", IF(INTRO!$E$37=\"Non-endemic\",\" \", IF(COUNTRY_INFO!A120=0,\" \",COUNTRY_INFO!A120)))","v":" "},{"$f":"IF(INTRO!$E$39<>\"Non-endemic\", \" \", IF(INTRO!$E$37=\"Non-endemic\",\" \", IF(COUNTRY_INFO!B120=0,\" \",COUNTRY_INFO!B120)))","v":" "},{"$f":"IF(INTRO!$E$39<>\"Non-endemic\", \" \", IF(INTRO!$E$37=\"Non-endemic\",\" \", IF(COUNTRY_INFO!C120=0,\" \",COUNTRY_INFO!C120)))","v":" "},{"$f":"IF(INTRO!$E$39<>\"Non-endemic\", 0, IF(INTRO!$E$37=\"Non-endemic\",0,IF(COUNTRY_INFO!$H120=1,COUNTRY_INFO!E120,0)))","v":0},{"$f":"IF(INTRO!$E$39<>\"Non-endemic\", 0, IF(INTRO!$E$37=\"Non-endemic\",0,IF(COUNTRY_INFO!$H120=1,COUNTRY_INFO!F120,0)))","v":0},{"$f":"IF(INTRO!$E$39<>\"Non-endemic\", 0, IF(INTRO!$E$37=\"Non-endemic\",0,IF(COUNTRY_INFO!$H120=1,COUNTRY_INFO!G120,0)))","v":0},0,{"$f":"IF(INTRO!$E$39=\"Non-endemic\",IF(INTRO!$E$37=\"Non-endemic\",\"Not required\",COUNTRY_INFO!P120),\"Treat with IVM\")","v":"Treat with IVM"},0,0,null,0,0]
[{"$f":"IF(INTRO!$E$39<>\"Non-endemic\", \" \", IF(INTRO!$E$37=\"Non-endemic\",\" \", IF(COUNTRY_INFO!A121=0,\" \",COUNTRY_INFO!A121)))","v":" "},{"$f":"IF(INTRO!$E$39<>\"Non-endemic\", \" \", IF(INTRO!$E$37=\"Non-endemic\",\" \", IF(COUNTRY_INFO!B121=0,\" \",COUNTRY_INFO!B121)))","v":" "},{"$f":"IF(INTRO!$E$39<>\"Non-endemic\", \" \", IF(INTRO!$E$37=\"Non-endemic\",\" \", IF(COUNTRY_INFO!C121=0,\" \",COUNTRY_INFO!C121)))","v":" "},{"$f":"IF(INTRO!$E$39<>\"Non-endemic\", 0, IF(INTRO!$E$37=\"Non-endemic\",0,IF(COUNTRY_INFO!$H121=1,COUNTRY_INFO!E121,0)))","v":0},{"$f":"IF(INTRO!$E$39<>\"Non-endemic\", 0, IF(INTRO!$E$37=\"Non-endemic\",0,IF(COUNTRY_INFO!$H121=1,COUNTRY_INFO!F121,0)))","v":0},{"$f":"IF(INTRO!$E$39<>\"Non-endemic\", 0, IF(INTRO!$E$37=\"Non-endemic\",0,IF(COUNTRY_INFO!$H121=1,COUNTRY_INFO!G121,0)))","v":0},0,{"$f":"IF(INTRO!$E$39=\"Non-endemic\",IF(INTRO!$E$37=\"Non-endemic\",\"Not required\",COUNTRY_INFO!P121),\"Treat with IVM\")","v":"Treat with IVM"},0,0,null,0,0]
[{"$f":"IF(INTRO!$E$39<>\"Non-endemic\", \" \", IF(INTRO!$E$37=\"Non-endemic\",\" \", IF(COUNTRY_INFO!A122=0,\" \",COUNTRY_INFO!A122)))","v":" "},{"$f":"IF(INTRO!$E$39<>\"Non-endemic\", \" \", IF(INTRO!$E$37=\"Non-endemic\",\" \", IF(COUNTRY_INFO!B122=0,\" \",COUNTRY_INFO!B122)))","v":" "},{"$f":"IF(INTRO!$E$39<>\"Non-endemic\", \" \", IF(INTRO!$E$37=\"Non-endemic\",\" \", IF(COUNTRY_INFO!C122=0,\" \",COUNTRY_INFO!C122)))","v":" "},{"$f":"IF(INTRO!$E$39<>\"Non-endemic\", 0, IF(INTRO!$E$37=\"Non-endemic\",0,IF(COUNTRY_INFO!$H122=1,COUNTRY_INFO!E122,0)))","v":0},{"$f":"IF(INTRO!$E$39<>\"Non-endemic\", 0, IF(INTRO!$E$37=\"Non-endemic\",0,IF(COUNTRY_INFO!$H122=1,COUNTRY_INFO!F122,0)))","v":0},{"$f":"IF(INTRO!$E$39<>\"Non-endemic\", 0, IF(INTRO!$E$37=\"Non-endemic\",0,IF(COUNTRY_INFO!$H122=1,COUNTRY_INFO!G122,0)))","v":0},0,{"$f":"IF(INTRO!$E$39=\"Non-endemic\",IF(INTRO!$E$37=\"Non-endemic\",\"Not required\",COUNTRY_INFO!P122),\"Treat with IVM\")","v":"Treat with IVM"},0,0,null,0,0]
[{"$f":"IF(INTRO!$E$39<>\"Non-endemic\", \" \", IF(INTRO!$E$37=\"Non-endemic\",\" \", IF(COUNTRY_INFO!A123=0,\" \",COUNTRY_INFO!A123)))","v":" "},{"$f":"IF(INTRO!$E$39<>\"Non-endemic\", \" \", IF(INTRO!$E$37=\"Non-endemic\",\" \", IF(COUNTRY_INFO!B123=0,\" \",COUNTRY_INFO!B123)))","v":" "},{"$f":"IF(INTRO!$E$39<>\"Non-endemic\", \" \", IF(INTRO!$E$37=\"Non-endemic\",\" \", IF(COUNTRY_INFO!C123=0,\" \",COUNTRY_INFO!C123)))","v":" "},{"$f":"IF(INTRO!$E$39<>\"Non-endemic\", 0, IF(INTRO!$E$37=\"Non-endemic\",0,IF(COUNTRY_INFO!$H123=1,COUNTRY_INFO!E123,0)))","v":0},{"$f":"IF(INTRO!$E$39<>\"Non-endemic\", 0, IF(INTRO!$E$37=\"Non-endemic\",0,IF(COUNTRY_INFO!$H123=1,COUNTRY_INFO!F123,0)))","v":0},{"$f":"IF(INTRO!$E$39<>\"Non-endemic\", 0, IF(INTRO!$E$37=\"Non-endemic\",0,IF(COUNTRY_INFO!$H123=1,COUNTRY_INFO!G123,0)))","v":0},0,{"$f":"IF(INTRO!$E$39=\"Non-endemic\",IF(INTRO!$E$37=\"Non-endemic\",\"Not required\",COUNTRY_INFO!P123),\"Treat with IVM\")","v":"Treat with IVM"},0,0,null,0,0]
[{"$f":"IF(INTRO!$E$39<>\"Non-endemic\", \" \", IF(INTRO!$E$37=\"Non-endemic\",\" \", IF(COUNTRY_INFO!A124=0,\" \",COUNTRY_INFO!A124)))","v":" "},{"$f":"IF(INTRO!$E$39<>\"Non-endemic\", \" \", IF(INTRO!$E$37=\"Non-endemic\",\" \", IF(COUNTRY_INFO!B124=0,\" \",COUNTRY_INFO!B124)))","v":" "},{"$f":"IF(INTRO!$E$39<>\"Non-endemic\", \" \", IF(INTRO!$E$37=\"Non-endemic\",\" \", IF(COUNTRY_INFO!C124=0,\" \",COUNTRY_INFO!C124)))","v":" "},{"$f":"IF(INTRO!$E$39<>\"Non-endemic\", 0, IF(INTRO!$E$37=\"Non-endemic\",0,IF(COUNTRY_INFO!$H124=1,COUNTRY_INFO!E124,0)))","v":0},{"$f":"IF(INTRO!$E$39<>\"Non-endemic\", 0, IF(INTRO!$E$37=\"Non-endemic\",0,IF(COUNTRY_INFO!$H124=1,COUNTRY_INFO!F124,0)))","v":0},{"$f":"IF(INTRO!$E$39<>\"Non-endemic\", 0, IF(INTRO!$E$37=\"Non-endemic\",0,IF(COUNTRY_INFO!$H124=1,COUNTRY_INFO!G124,0)))","v":0},0,{"$f":"IF(INTRO!$E$39=\"Non-endemic\",IF(INTRO!$E$37=\"Non-endemic\",\"Not required\",COUNTRY_INFO!P124),\"Treat with IVM\")","v":"Treat with IVM"},0,0,null,0,0]
[{"$f":"IF(INTRO!$E$39<>\"Non-endemic\", \" \", IF(INTRO!$E$37=\"Non-endemic\",\" \", IF(COUNTRY_INFO!A125=0,\" \",COUNTRY_INFO!A125)))","v":" "},{"$f":"IF(INTRO!$E$39<>\"Non-endemic\", \" \", IF(INTRO!$E$37=\"Non-endemic\",\" \", IF(COUNTRY_INFO!B125=0,\" \",COUNTRY_INFO!B125)))","v":" "},{"$f":"IF(INTRO!$E$39<>\"Non-endemic\", \" \", IF(INTRO!$E$37=\"Non-endemic\",\" \", IF(COUNTRY_INFO!C125=0,\" \",COUNTRY_INFO!C125)))","v":" "},{"$f":"IF(INTRO!$E$39<>\"Non-endemic\", 0, IF(INTRO!$E$37=\"Non-endemic\",0,IF(COUNTRY_INFO!$H125=1,COUNTRY_INFO!E125,0)))","v":0},{"$f":"IF(INTRO!$E$39<>\"Non-endemic\", 0, IF(INTRO!$E$37=\"Non-endemic\",0,IF(COUNTRY_INFO!$H125=1,COUNTRY_INFO!F125,0)))","v":0},{"$f":"IF(INTRO!$E$39<>\"Non-endemic\", 0, IF(INTRO!$E$37=\"Non-endemic\",0,IF(COUNTRY_INFO!$H125=1,COUNTRY_INFO!G125,0)))","v":0},0,{"$f":"IF(INTRO!$E$39=\"Non-endemic\",IF(INTRO!$E$37=\"Non-endemic\",\"Not required\",COUNTRY_INFO!P125),\"Treat with IVM\")","v":"Treat with IVM"},0,0,null,0,0]
[{"$f":"IF(INTRO!$E$39<>\"Non-endemic\", \" \", IF(INTRO!$E$37=\"Non-endemic\",\" \", IF(COUNTRY_INFO!A126=0,\" \",COUNTRY_INFO!A126)))","v":" "},{"$f":"IF(INTRO!$E$39<>\"Non-endemic\", \" \", IF(INTRO!$E$37=\"Non-endemic\",\" \", IF(COUNTRY_INFO!B126=0,\" \",COUNTRY_INFO!B126)))","v":" "},{"$f":"IF(INTRO!$E$39<>\"Non-endemic\", \" \", IF(INTRO!$E$37=\"Non-endemic\",\" \", IF(COUNTRY_INFO!C126=0,\" \",COUNTRY_INFO!C126)))","v":" "},{"$f":"IF(INTRO!$E$39<>\"Non-endemic\", 0, IF(INTRO!$E$37=\"Non-endemic\",0,IF(COUNTRY_INFO!$H126=1,COUNTRY_INFO!E126,0)))","v":0},{"$f":"IF(INTRO!$E$39<>\"Non-endemic\", 0, IF(INTRO!$E$37=\"Non-endemic\",0,IF(COUNTRY_INFO!$H126=1,COUNTRY_INFO!F126,0)))","v":0},{"$f":"IF(INTRO!$E$39<>\"Non-endemic\", 0, IF(INTRO!$E$37=\"Non-endemic\",0,IF(COUNTRY_INFO!$H126=1,COUNTRY_INFO!G126,0)))","v":0},0,{"$f":"IF(INTRO!$E$39=\"Non-endemic\",IF(INTRO!$E$37=\"Non-endemic\",\"Not required\",COUNTRY_INFO!P126),\"Treat with IVM\")","v":"Treat with IVM"},0,0,null,0,0]
[{"$f":"IF(INTRO!$E$39<>\"Non-endemic\", \" \", IF(INTRO!$E$37=\"Non-endemic\",\" \", IF(COUNTRY_INFO!A127=0,\" \",COUNTRY_INFO!A127)))","v":" "},{"$f":"IF(INTRO!$E$39<>\"Non-endemic\", \" \", IF(INTRO!$E$37=\"Non-endemic\",\" \", IF(COUNTRY_INFO!B127=0,\" \",COUNTRY_INFO!B127)))","v":" "},{"$f":"IF(INTRO!$E$39<>\"Non-endemic\", \" \", IF(INTRO!$E$37=\"Non-endemic\",\" \", IF(COUNTRY_INFO!C127=0,\" \",COUNTRY_INFO!C127)))","v":" "},{"$f":"IF(INTRO!$E$39<>\"Non-endemic\", 0, IF(INTRO!$E$37=\"Non-endemic\",0,IF(COUNTRY_INFO!$H127=1,COUNTRY_INFO!E127,0)))","v":0},{"$f":"IF(INTRO!$E$39<>\"Non-endemic\", 0, IF(INTRO!$E$37=\"Non-endemic\",0,IF(COUNTRY_INFO!$H127=1,COUNTRY_INFO!F127,0)))","v":0},{"$f":"IF(INTRO!$E$39<>\"Non-endemic\", 0, IF(INTRO!$E$37=\"Non-endemic\",0,IF(COUNTRY_INFO!$H127=1,COUNTRY_INFO!G127,0)))","v":0},0,{"$f":"IF(INTRO!$E$39=\"Non-endemic\",IF(INTRO!$E$37=\"Non-endemic\",\"Not required\",COUNTRY_INFO!P127),\"Treat with IVM\")","v":"Treat with IVM"},0,0,null,0,0]
[{"$f":"IF(INTRO!$E$39<>\"Non-endemic\", \" \", IF(INTRO!$E$37=\"Non-endemic\",\" \", IF(COUNTRY_INFO!A128=0,\" \",COUNTRY_INFO!A128)))","v":" "},{"$f":"IF(INTRO!$E$39<>\"Non-endemic\", \" \", IF(INTRO!$E$37=\"Non-endemic\",\" \", IF(COUNTRY_INFO!B128=0,\" \",COUNTRY_INFO!B128)))","v":" "},{"$f":"IF(INTRO!$E$39<>\"Non-endemic\", \" \", IF(INTRO!$E$37=\"Non-endemic\",\" \", IF(COUNTRY_INFO!C128=0,\" \",COUNTRY_INFO!C128)))","v":" "},{"$f":"IF(INTRO!$E$39<>\"Non-endemic\", 0, IF(INTRO!$E$37=\"Non-endemic\",0,IF(COUNTRY_INFO!$H128=1,COUNTRY_INFO!E128,0)))","v":0},{"$f":"IF(INTRO!$E$39<>\"Non-endemic\", 0, IF(INTRO!$E$37=\"Non-endemic\",0,IF(COUNTRY_INFO!$H128=1,COUNTRY_INFO!F128,0)))","v":0},{"$f":"IF(INTRO!$E$39<>\"Non-endemic\", 0, IF(INTRO!$E$37=\"Non-endemic\",0,IF(COUNTRY_INFO!$H128=1,COUNTRY_INFO!G128,0)))","v":0},0,{"$f":"IF(INTRO!$E$39=\"Non-endemic\",IF(INTRO!$E$37=\"Non-endemic\",\"Not required\",COUNTRY_INFO!P128),\"Treat with IVM\")","v":"Treat with IVM"},0,0,null,0,0]
[{"$f":"IF(INTRO!$E$39<>\"Non-endemic\", \" \", IF(INTRO!$E$37=\"Non-endemic\",\" \", IF(COUNTRY_INFO!A129=0,\" \",COUNTRY_INFO!A129)))","v":" "},{"$f":"IF(INTRO!$E$39<>\"Non-endemic\", \" \", IF(INTRO!$E$37=\"Non-endemic\",\" \", IF(COUNTRY_INFO!B129=0,\" \",COUNTRY_INFO!B129)))","v":" "},{"$f":"IF(INTRO!$E$39<>\"Non-endemic\", \" \", IF(INTRO!$E$37=\"Non-endemic\",\" \", IF(COUNTRY_INFO!C129=0,\" \",COUNTRY_INFO!C129)))","v":" "},{"$f":"IF(INTRO!$E$39<>\"Non-endemic\", 0, IF(INTRO!$E$37=\"Non-endemic\",0,IF(COUNTRY_INFO!$H129=1,COUNTRY_INFO!E129,0)))","v":0},{"$f":"IF(INTRO!$E$39<>\"Non-endemic\", 0, IF(INTRO!$E$37=\"Non-endemic\",0,IF(COUNTRY_INFO!$H129=1,COUNTRY_INFO!F129,0)))","v":0},{"$f":"IF(INTRO!$E$39<>\"Non-endemic\", 0, IF(INTRO!$E$37=\"Non-endemic\",0,IF(COUNTRY_INFO!$H129=1,COUNTRY_INFO!G129,0)))","v":0},0,{"$f":"IF(INTRO!$E$39=\"Non-endemic\",IF(INTRO!$E$37=\"Non-endemic\",\"Not required\",COUNTRY_INFO!P129),\"Treat with IVM\")","v":"Treat with IVM"},0,0,null,0,0]
[{"$f":"IF(INTRO!$E$39<>\"Non-endemic\", \" \", IF(INTRO!$E$37=\"Non-endemic\",\" \", IF(COUNTRY_INFO!A130=0,\" \",COUNTRY_INFO!A130)))","v":" "},{"$f":"IF(INTRO!$E$39<>\"Non-endemic\", \" \", IF(INTRO!$E$37=\"Non-endemic\",\" \", IF(COUNTRY_INFO!B130=0,\" \",COUNTRY_INFO!B130)))","v":" "},{"$f":"IF(INTRO!$E$39<>\"Non-endemic\", \" \", IF(INTRO!$E$37=\"Non-endemic\",\" \", IF(COUNTRY_INFO!C130=0,\" \",COUNTRY_INFO!C130)))","v":" "},{"$f":"IF(INTRO!$E$39<>\"Non-endemic\", 0, IF(INTRO!$E$37=\"Non-endemic\",0,IF(COUNTRY_INFO!$H130=1,COUNTRY_INFO!E130,0)))","v":0},{"$f":"IF(INTRO!$E$39<>\"Non-endemic\", 0, IF(INTRO!$E$37=\"Non-endemic\",0,IF(COUNTRY_INFO!$H130=1,COUNTRY_INFO!F130,0)))","v":0},{"$f":"IF(INTRO!$E$39<>\"Non-endemic\", 0, IF(INTRO!$E$37=\"Non-endemic\",0,IF(COUNTRY_INFO!$H130=1,COUNTRY_INFO!G130,0)))","v":0},0,{"$f":"IF(INTRO!$E$39=\"Non-endemic\",IF(INTRO!$E$37=\"Non-endemic\",\"Not required\",COUNTRY_INFO!P130),\"Treat with IVM\")","v":"Treat with IVM"},0,0,null,0,0]
[{"$f":"IF(INTRO!$E$39<>\"Non-endemic\", \" \", IF(INTRO!$E$37=\"Non-endemic\",\" \", IF(COUNTRY_INFO!A131=0,\" \",COUNTRY_INFO!A131)))","v":" "},{"$f":"IF(INTRO!$E$39<>\"Non-endemic\", \" \", IF(INTRO!$E$37=\"Non-endemic\",\" \", IF(COUNTRY_INFO!B131=0,\" \",COUNTRY_INFO!B131)))","v":" "},{"$f":"IF(INTRO!$E$39<>\"Non-endemic\", \" \", IF(INTRO!$E$37=\"Non-endemic\",\" \", IF(COUNTRY_INFO!C131=0,\" \",COUNTRY_INFO!C131)))","v":" "},{"$f":"IF(INTRO!$E$39<>\"Non-endemic\", 0, IF(INTRO!$E$37=\"Non-endemic\",0,IF(COUNTRY_INFO!$H131=1,COUNTRY_INFO!E131,0)))","v":0},{"$f":"IF(INTRO!$E$39<>\"Non-endemic\", 0, IF(INTRO!$E$37=\"Non-endemic\",0,IF(COUNTRY_INFO!$H131=1,COUNTRY_INFO!F131,0)))","v":0},{"$f":"IF(INTRO!$E$39<>\"Non-endemic\", 0, IF(INTRO!$E$37=\"Non-endemic\",0,IF(COUNTRY_INFO!$H131=1,COUNTRY_INFO!G131,0)))","v":0},0,{"$f":"IF(INTRO!$E$39=\"Non-endemic\",IF(INTRO!$E$37=\"Non-endemic\",\"Not required\",COUNTRY_INFO!P131),\"Treat with IVM\")","v":"Treat with IVM"},0,0,null,0,0]
[{"$f":"IF(INTRO!$E$39<>\"Non-endemic\", \" \", IF(INTRO!$E$37=\"Non-endemic\",\" \", IF(COUNTRY_INFO!A132=0,\" \",COUNTRY_INFO!A132)))","v":" "},{"$f":"IF(INTRO!$E$39<>\"Non-endemic\", \" \", IF(INTRO!$E$37=\"Non-endemic\",\" \", IF(COUNTRY_INFO!B132=0,\" \",COUNTRY_INFO!B132)))","v":" "},{"$f":"IF(INTRO!$E$39<>\"Non-endemic\", \" \", IF(INTRO!$E$37=\"Non-endemic\",\" \", IF(COUNTRY_INFO!C132=0,\" \",COUNTRY_INFO!C132)))","v":" "},{"$f":"IF(INTRO!$E$39<>\"Non-endemic\", 0, IF(INTRO!$E$37=\"Non-endemic\",0,IF(COUNTRY_INFO!$H132=1,COUNTRY_INFO!E132,0)))","v":0},{"$f":"IF(INTRO!$E$39<>\"Non-endemic\", 0, IF(INTRO!$E$37=\"Non-endemic\",0,IF(COUNTRY_INFO!$H132=1,COUNTRY_INFO!F132,0)))","v":0},{"$f":"IF(INTRO!$E$39<>\"Non-endemic\", 0, IF(INTRO!$E$37=\"Non-endemic\",0,IF(COUNTRY_INFO!$H132=1,COUNTRY_INFO!G132,0)))","v":0},0,{"$f":"IF(INTRO!$E$39=\"Non-endemic\",IF(INTRO!$E$37=\"Non-endemic\",\"Not required\",COUNTRY_INFO!P132),\"Treat with IVM\")","v":"Treat with IVM"},0,0,null,0,0]
[{"$f":"IF(INTRO!$E$39<>\"Non-endemic\", \" \", IF(INTRO!$E$37=\"Non-endemic\",\" \", IF(COUNTRY_INFO!A133=0,\" \",COUNTRY_INFO!A133)))","v":" "},{"$f":"IF(INTRO!$E$39<>\"Non-endemic\", \" \", IF(INTRO!$E$37=\"Non-endemic\",\" \", IF(COUNTRY_INFO!B133=0,\" \",COUNTRY_INFO!B133)))","v":" "},{"$f":"IF(INTRO!$E$39<>\"Non-endemic\", \" \", IF(INTRO!$E$37=\"Non-endemic\",\" \", IF(COUNTRY_INFO!C133=0,\" \",COUNTRY_INFO!C133)))","v":" "},{"$f":"IF(INTRO!$E$39<>\"Non-endemic\", 0, IF(INTRO!$E$37=\"Non-endemic\",0,IF(COUNTRY_INFO!$H133=1,COUNTRY_INFO!E133,0)))","v":0},{"$f":"IF(INTRO!$E$39<>\"Non-endemic\", 0, IF(INTRO!$E$37=\"Non-endemic\",0,IF(COUNTRY_INFO!$H133=1,COUNTRY_INFO!F133,0)))","v":0},{"$f":"IF(INTRO!$E$39<>\"Non-endemic\", 0, IF(INTRO!$E$37=\"Non-endemic\",0,IF(COUNTRY_INFO!$H133=1,COUNTRY_INFO!G133,0)))","v":0},0,{"$f":"IF(INTRO!$E$39=\"Non-endemic\",IF(INTRO!$E$37=\"Non-endemic\",\"Not required\",COUNTRY_INFO!P133),\"Treat with IVM\")","v":"Treat with IVM"},0,0,null,0,0]
[{"$f":"IF(INTRO!$E$39<>\"Non-endemic\", \" \", IF(INTRO!$E$37=\"Non-endemic\",\" \", IF(COUNTRY_INFO!A134=0,\" \",COUNTRY_INFO!A134)))","v":" "},{"$f":"IF(INTRO!$E$39<>\"Non-endemic\", \" \", IF(INTRO!$E$37=\"Non-endemic\",\" \", IF(COUNTRY_INFO!B134=0,\" \",COUNTRY_INFO!B134)))","v":" "},{"$f":"IF(INTRO!$E$39<>\"Non-endemic\", \" \", IF(INTRO!$E$37=\"Non-endemic\",\" \", IF(COUNTRY_INFO!C134=0,\" \",COUNTRY_INFO!C134)))","v":" "},{"$f":"IF(INTRO!$E$39<>\"Non-endemic\", 0, IF(INTRO!$E$37=\"Non-endemic\",0,IF(COUNTRY_INFO!$H134=1,COUNTRY_INFO!E134,0)))","v":0},{"$f":"IF(INTRO!$E$39<>\"Non-endemic\", 0, IF(INTRO!$E$37=\"Non-endemic\",0,IF(COUNTRY_INFO!$H134=1,COUNTRY_INFO!F134,0)))","v":0},{"$f":"IF(INTRO!$E$39<>\"Non-endemic\", 0, IF(INTRO!$E$37=\"Non-endemic\",0,IF(COUNTRY_INFO!$H134=1,COUNTRY_INFO!G134,0)))","v":0},0,{"$f":"IF(INTRO!$E$39=\"Non-endemic\",IF(INTRO!$E$37=\"Non-endemic\",\"Not required\",COUNTRY_INFO!P134),\"Treat with IVM\")","v":"Treat with IVM"},0,0,null,0,0]
[{"$f":"IF(INTRO!$E$39<>\"Non-endemic\", \" \", IF(INTRO!$E$37=\"Non-endemic\",\" \", IF(COUNTRY_INFO!A135=0,\" \",COUNTRY_INFO!A135)))","v":" "},{"$f":"IF(INTRO!$E$39<>\"Non-endemic\", \" \", IF(INTRO!$E$37=\"Non-endemic\",\" \", IF(COUNTRY_INFO!B135=0,\" \",COUNTRY_INFO!B135)))","v":" "},{"$f":"IF(INTRO!$E$39<>\"Non-endemic\", \" \", IF(INTRO!$E$37=\"Non-endemic\",\" \", IF(COUNTRY_INFO!C135=0,\" \",COUNTRY_INFO!C135)))","v":" "},{"$f":"IF(INTRO!$E$39<>\"Non-endemic\", 0, IF(INTRO!$E$37=\"Non-endemic\",0,IF(COUNTRY_INFO!$H135=1,COUNTRY_INFO!E135,0)))","v":0},{"$f":"IF(INTRO!$E$39<>\"Non-endemic\", 0, IF(INTRO!$E$37=\"Non-endemic\",0,IF(COUNTRY_INFO!$H135=1,COUNTRY_INFO!F135,0)))","v":0},{"$f":"IF(INTRO!$E$39<>\"Non-endemic\", 0, IF(INTRO!$E$37=\"Non-endemic\",0,IF(COUNTRY_INFO!$H135=1,COUNTRY_INFO!G135,0)))","v":0},0,{"$f":"IF(INTRO!$E$39=\"Non-endemic\",IF(INTRO!$E$37=\"Non-endemic\",\"Not required\",COUNTRY_INFO!P135),\"Treat with IVM\")","v":"Treat with IVM"},0,0,null,0,0]
[{"$f":"IF(INTRO!$E$39<>\"Non-endemic\", \" \", IF(INTRO!$E$37=\"Non-endemic\",\" \", IF(COUNTRY_INFO!A136=0,\" \",COUNTRY_INFO!A136)))","v":" "},{"$f":"IF(INTRO!$E$39<>\"Non-endemic\", \" \", IF(INTRO!$E$37=\"Non-endemic\",\" \", IF(COUNTRY_INFO!B136=0,\" \",COUNTRY_INFO!B136)))","v":" "},{"$f":"IF(INTRO!$E$39<>\"Non-endemic\", \" \", IF(INTRO!$E$37=\"Non-endemic\",\" \", IF(COUNTRY_INFO!C136=0,\" \",COUNTRY_INFO!C136)))","v":" "},{"$f":"IF(INTRO!$E$39<>\"Non-endemic\", 0, IF(INTRO!$E$37=\"Non-endemic\",0,IF(COUNTRY_INFO!$H136=1,COUNTRY_INFO!E136,0)))","v":0},{"$f":"IF(INTRO!$E$39<>\"Non-endemic\", 0, IF(INTRO!$E$37=\"Non-endemic\",0,IF(COUNTRY_INFO!$H136=1,COUNTRY_INFO!F136,0)))","v":0},{"$f":"IF(INTRO!$E$39<>\"Non-endemic\", 0, IF(INTRO!$E$37=\"Non-endemic\",0,IF(COUNTRY_INFO!$H136=1,COUNTRY_INFO!G136,0)))","v":0},0,{"$f":"IF(INTRO!$E$39=\"Non-endemic\",IF(INTRO!$E$37=\"Non-endemic\",\"Not required\",COUNTRY_INFO!P136),\"Treat with IVM\")","v":"Treat with IVM"},0,0,null,0,0]
[{"$f":"IF(INTRO!$E$39<>\"Non-endemic\", \" \", IF(INTRO!$E$37=\"Non-endemic\",\" \", IF(COUNTRY_INFO!A137=0,\" \",COUNTRY_INFO!A137)))","v":" "},{"$f":"IF(INTRO!$E$39<>\"Non-endemic\", \" \", IF(INTRO!$E$37=\"Non-endemic\",\" \", IF(COUNTRY_INFO!B137=0,\" \",COUNTRY_INFO!B137)))","v":" "},{"$f":"IF(INTRO!$E$39<>\"Non-endemic\", \" \", IF(INTRO!$E$37=\"Non-endemic\",\" \", IF(COUNTRY_INFO!C137=0,\" \",COUNTRY_INFO!C137)))","v":" "},{"$f":"IF(INTRO!$E$39<>\"Non-endemic\", 0, IF(INTRO!$E$37=\"Non-endemic\",0,IF(COUNTRY_INFO!$H137=1,COUNTRY_INFO!E137,0)))","v":0},{"$f":"IF(INTRO!$E$39<>\"Non-endemic\", 0, IF(INTRO!$E$37=\"Non-endemic\",0,IF(COUNTRY_INFO!$H137=1,COUNTRY_INFO!F137,0)))","v":0},{"$f":"IF(INTRO!$E$39<>\"Non-endemic\", 0, IF(INTRO!$E$37=\"Non-endemic\",0,IF(COUNTRY_INFO!$H137=1,COUNTRY_INFO!G137,0)))","v":0},{"$f":"SUM(D137:F137)","v":0},{"$f":"IF(INTRO!$E$39=\"Non-endemic\",IF(INTRO!$E$37=\"Non-endemic\",\"Not required\",COUNTRY_INFO!P137),\"Treat with IVM\")","v":"Treat with IVM"},{"$f":"IF(H137=1,G137,0)","v":0},{"$f":"IF(I137>0,I137*2.5,0)","v":0},null,{"$f":"IF($J137>$K137,$J137-$K137,0)","v":0},{"$f":"ROUNDUP($J137/1000,0)","v":0}]
[{"$f":"IF(INTRO!$E$39<>\"Non-endemic\", \" \", IF(INTRO!$E$37=\"Non-endemic\",\" \", IF(COUNTRY_INFO!A138=0,\" \",COUNTRY_INFO!A138)))","v":" "},{"$f":"IF(INTRO!$E$39<>\"Non-endemic\", \" \", IF(INTRO!$E$37=\"Non-endemic\",\" \", IF(COUNTRY_INFO!B138=0,\" \",COUNTRY_INFO!B138)))","v":" "},{"$f":"IF(INTRO!$E$39<>\"Non-endemic\", \" \", IF(INTRO!$E$37=\"Non-endemic\",\" \", IF(COUNTRY_INFO!C138=0,\" \",COUNTRY_INFO!C138)))","v":" "},{"$f":"IF(INTRO!$E$39<>\"Non-endemic\", 0, IF(INTRO!$E$37=\"Non-endemic\",0,IF(COUNTRY_INFO!$H138=1,COUNTRY_INFO!E138,0)))","v":0},{"$f":"IF(INTRO!$E$39<>\"Non-endemic\", 0, IF(INTRO!$E$37=\"Non-endemic\",0,IF(COUNTRY_INFO!$H138=1,COUNTRY_INFO!F138,0)))","v":0},{"$f":"IF(INTRO!$E$39<>\"Non-endemic\", 0, IF(INTRO!$E$37=\"Non-endemic\",0,IF(COUNTRY_INFO!$H138=1,COUNTRY_INFO!G138,0)))","v":0},0,{"$f":"IF(INTRO!$E$39=\"Non-endemic\",IF(INTRO!$E$37=\"Non-endemic\",\"Not required\",COUNTRY_INFO!P138),\"Treat with IVM\")","v":"Treat with IVM"},0,0,null,0,0]
[{"$f":"IF(INTRO!$E$39<>\"Non-endemic\", \" \", IF(INTRO!$E$37=\"Non-endemic\",\" \", IF(COUNTRY_INFO!A139=0,\" \",COUNTRY_INFO!A139)))","v":" "},{"$f":"IF(INTRO!$E$39<>\"Non-endemic\", \" \", IF(INTRO!$E$37=\"Non-endemic\",\" \", IF(COUNTRY_INFO!B139=0,\" \",COUNTRY_INFO!B139)))","v":" "},{"$f":"IF(INTRO!$E$39<>\"Non-endemic\", \" \", IF(INTRO!$E$37=\"Non-endemic\",\" \", IF(COUNTRY_INFO!C139=0,\" \",COUNTRY_INFO!C139)))","v":" "},{"$f":"IF(INTRO!$E$39<>\"Non-endemic\", 0, IF(INTRO!$E$37=\"Non-endemic\",0,IF(COUNTRY_INFO!$H139=1,COUNTRY_INFO!E139,0)))","v":0},{"$f":"IF(INTRO!$E$39<>\"Non-endemic\", 0, IF(INTRO!$E$37=\"Non-endemic\",0,IF(COUNTRY_INFO!$H139=1,COUNTRY_INFO!F139,0)))","v":0},{"$f":"IF(INTRO!$E$39<>\"Non-endemic\", 0, IF(INTRO!$E$37=\"Non-endemic\",0,IF(COUNTRY_INFO!$H139=1,COUNTRY_INFO!G139,0)))","v":0},0,{"$f":"IF(INTRO!$E$39=\"Non-endemic\",IF(INTRO!$E$37=\"Non-endemic\",\"Not required\",COUNTRY_INFO!P139),\"Treat with IVM\")","v":"Treat with IVM"},0,0,null,0,0]
[{"$f":"IF(INTRO!$E$39<>\"Non-endemic\", \" \", IF(INTRO!$E$37=\"Non-endemic\",\" \", IF(COUNTRY_INFO!A140=0,\" \",COUNTRY_INFO!A140)))","v":" "},{"$f":"IF(INTRO!$E$39<>\"Non-endemic\", \" \", IF(INTRO!$E$37=\"Non-endemic\",\" \", IF(COUNTRY_INFO!B140=0,\" \",COUNTRY_INFO!B140)))","v":" "},{"$f":"IF(INTRO!$E$39<>\"Non-endemic\", \" \", IF(INTRO!$E$37=\"Non-endemic\",\" \", IF(COUNTRY_INFO!C140=0,\" \",COUNTRY_INFO!C140)))","v":" "},{"$f":"IF(INTRO!$E$39<>\"Non-endemic\", 0, IF(INTRO!$E$37=\"Non-endemic\",0,IF(COUNTRY_INFO!$H140=1,COUNTRY_INFO!E140,0)))","v":0},{"$f":"IF(INTRO!$E$39<>\"Non-endemic\", 0, IF(INTRO!$E$37=\"Non-endemic\",0,IF(COUNTRY_INFO!$H140=1,COUNTRY_INFO!F140,0)))","v":0},{"$f":"IF(INTRO!$E$39<>\"Non-endemic\", 0, IF(INTRO!$E$37=\"Non-endemic\",0,IF(COUNTRY_INFO!$H140=1,COUNTRY_INFO!G140,0)))","v":0},0,{"$f":"IF(INTRO!$E$39=\"Non-endemic\",IF(INTRO!$E$37=\"Non-endemic\",\"Not required\",COUNTRY_INFO!P140),\"Treat with IVM\")","v":"Treat with IVM"},0,0,null,0,0]
[{"$f":"IF(INTRO!$E$39<>\"Non-endemic\", \" \", IF(INTRO!$E$37=\"Non-endemic\",\" \", IF(COUNTRY_INFO!A141=0,\" \",COUNTRY_INFO!A141)))","v":" "},{"$f":"IF(INTRO!$E$39<>\"Non-endemic\", \" \", IF(INTRO!$E$37=\"Non-endemic\",\" \", IF(COUNTRY_INFO!B141=0,\" \",COUNTRY_INFO!B141)))","v":" "},{"$f":"IF(INTRO!$E$39<>\"Non-endemic\", \" \", IF(INTRO!$E$37=\"Non-endemic\",\" \", IF(COUNTRY_INFO!C141=0,\" \",COUNTRY_INFO!C141)))","v":" "},{"$f":"IF(INTRO!$E$39<>\"Non-endemic\", 0, IF(INTRO!$E$37=\"Non-endemic\",0,IF(COUNTRY_INFO!$H141=1,COUNTRY_INFO!E141,0)))","v":0},{"$f":"IF(INTRO!$E$39<>\"Non-endemic\", 0, IF(INTRO!$E$37=\"Non-endemic\",0,IF(COUNTRY_INFO!$H141=1,COUNTRY_INFO!F141,0)))","v":0},{"$f":"IF(INTRO!$E$39<>\"Non-endemic\", 0, IF(INTRO!$E$37=\"Non-endemic\",0,IF(COUNTRY_INFO!$H141=1,COUNTRY_INFO!G141,0)))","v":0},0,{"$f":"IF(INTRO!$E$39=\"Non-endemic\",IF(INTRO!$E$37=\"Non-endemic\",\"Not required\",COUNTRY_INFO!P141),\"Treat with IVM\")","v":"Treat with IVM"},0,0,null,0,0]
[{"$f":"IF(INTRO!$E$39<>\"Non-endemic\", \" \", IF(INTRO!$E$37=\"Non-endemic\",\" \", IF(COUNTRY_INFO!A142=0,\" \",COUNTRY_INFO!A142)))","v":" "},{"$f":"IF(INTRO!$E$39<>\"Non-endemic\", \" \", IF(INTRO!$E$37=\"Non-endemic\",\" \", IF(COUNTRY_INFO!B142=0,\" \",COUNTRY_INFO!B142)))","v":" "},{"$f":"IF(INTRO!$E$39<>\"Non-endemic\", \" \", IF(INTRO!$E$37=\"Non-endemic\",\" \", IF(COUNTRY_INFO!C142=0,\" \",COUNTRY_INFO!C142)))","v":" "},{"$f":"IF(INTRO!$E$39<>\"Non-endemic\", 0, IF(INTRO!$E$37=\"Non-endemic\",0,IF(COUNTRY_INFO!$H142=1,COUNTRY_INFO!E142,0)))","v":0},{"$f":"IF(INTRO!$E$39<>\"Non-endemic\", 0, IF(INTRO!$E$37=\"Non-endemic\",0,IF(COUNTRY_INFO!$H142=1,COUNTRY_INFO!F142,0)))","v":0},{"$f":"IF(INTRO!$E$39<>\"Non-endemic\", 0, IF(INTRO!$E$37=\"Non-endemic\",0,IF(COUNTRY_INFO!$H142=1,COUNTRY_INFO!G142,0)))","v":0},0,{"$f":"IF(INTRO!$E$39=\"Non-endemic\",IF(INTRO!$E$37=\"Non-endemic\",\"Not required\",COUNTRY_INFO!P142),\"Treat with IVM\")","v":"Treat with IVM"},0,0,null,0,0]
[{"$f":"IF(INTRO!$E$39<>\"Non-endemic\", \" \", IF(INTRO!$E$37=\"Non-endemic\",\" \", IF(COUNTRY_INFO!A143=0,\" \",COUNTRY_INFO!A143)))","v":" "},{"$f":"IF(INTRO!$E$39<>\"Non-endemic\", \" \", IF(INTRO!$E$37=\"Non-endemic\",\" \", IF(COUNTRY_INFO!B143=0,\" \",COUNTRY_INFO!B143)))","v":" "},{"$f":"IF(INTRO!$E$39<>\"Non-endemic\", \" \", IF(INTRO!$E$37=\"Non-endemic\",\" \", IF(COUNTRY_INFO!C143=0,\" \",COUNTRY_INFO!C143)))","v":" "},{"$f":"IF(INTRO!$E$39<>\"Non-endemic\", 0, IF(INTRO!$E$37=\"Non-endemic\",0,IF(COUNTRY_INFO!$H143=1,COUNTRY_INFO!E143,0)))","v":0},{"$f":"IF(INTRO!$E$39<>\"Non-endemic\", 0, IF(INTRO!$E$37=\"Non-endemic\",0,IF(COUNTRY_INFO!$H143=1,COUNTRY_INFO!F143,0)))","v":0},{"$f":"IF(INTRO!$E$39<>\"Non-endemic\", 0, IF(INTRO!$E$37=\"Non-endemic\",0,IF(COUNTRY_INFO!$H143=1,COUNTRY_INFO!G143,0)))","v":0},0,{"$f":"IF(INTRO!$E$39=\"Non-endemic\",IF(INTRO!$E$37=\"Non-endemic\",\"Not required\",COUNTRY_INFO!P143),\"Treat with IVM\")","v":"Treat with IVM"},0,0,null,0,0]
[{"$f":"IF(INTRO!$E$39<>\"Non-endemic\", \" \", IF(INTRO!$E$37=\"Non-endemic\",\" \", IF(COUNTRY_INFO!A144=0,\" \",COUNTRY_INFO!A144)))","v":" "},{"$f":"IF(INTRO!$E$39<>\"Non-endemic\", \" \", IF(INTRO!$E$37=\"Non-endemic\",\" \", IF(COUNTRY_INFO!B144=0,\" \",COUNTRY_INFO!B144)))","v":" "},{"$f":"IF(INTRO!$E$39<>\"Non-endemic\", \" \", IF(INTRO!$E$37=\"Non-endemic\",\" \", IF(COUNTRY_INFO!C144=0,\" \",COUNTRY_INFO!C144)))","v":" "},{"$f":"IF(INTRO!$E$39<>\"Non-endemic\", 0, IF(INTRO!$E$37=\"Non-endemic\",0,IF(COUNTRY_INFO!$H144=1,COUNTRY_INFO!E144,0)))","v":0},{"$f":"IF(INTRO!$E$39<>\"Non-endemic\", 0, IF(INTRO!$E$37=\"Non-endemic\",0,IF(COUNTRY_INFO!$H144=1,COUNTRY_INFO!F144,0)))","v":0},{"$f":"IF(INTRO!$E$39<>\"Non-endemic\", 0, IF(INTRO!$E$37=\"Non-endemic\",0,IF(COUNTRY_INFO!$H144=1,COUNTRY_INFO!G144,0)))","v":0},0,{"$f":"IF(INTRO!$E$39=\"Non-endemic\",IF(INTRO!$E$37=\"Non-endemic\",\"Not required\",COUNTRY_INFO!P144),\"Treat with IVM\")","v":"Treat with IVM"},0,0,null,0,0]
[{"$f":"IF(INTRO!$E$39<>\"Non-endemic\", \" \", IF(INTRO!$E$37=\"Non-endemic\",\" \", IF(COUNTRY_INFO!A145=0,\" \",COUNTRY_INFO!A145)))","v":" "},{"$f":"IF(INTRO!$E$39<>\"Non-endemic\", \" \", IF(INTRO!$E$37=\"Non-endemic\",\" \", IF(COUNTRY_INFO!B145=0,\" \",COUNTRY_INFO!B145)))","v":" "},{"$f":"IF(INTRO!$E$39<>\"Non-endemic\", \" \", IF(INTRO!$E$37=\"Non-endemic\",\" \", IF(COUNTRY_INFO!C145=0,\" \",COUNTRY_INFO!C145)))","v":" "},{"$f":"IF(INTRO!$E$39<>\"Non-endemic\", 0, IF(INTRO!$E$37=\"Non-endemic\",0,IF(COUNTRY_INFO!$H145=1,COUNTRY_INFO!E145,0)))","v":0},{"$f":"IF(INTRO!$E$39<>\"Non-endemic\", 0, IF(INTRO!$E$37=\"Non-endemic\",0,IF(COUNTRY_INFO!$H145=1,COUNTRY_INFO!F145,0)))","v":0},{"$f":"IF(INTRO!$E$39<>\"Non-endemic\", 0, IF(INTRO!$E$37=\"Non-endemic\",0,IF(COUNTRY_INFO!$H145=1,COUNTRY_INFO!G145,0)))","v":0},0,{"$f":"IF(INTRO!$E$39=\"Non-endemic\",IF(INTRO!$E$37=\"Non-endemic\",\"Not required\",COUNTRY_INFO!P145),\"Treat with IVM\")","v":"Treat with IVM"},0,0,null,0,0]
[{"$f":"IF(INTRO!$E$39<>\"Non-endemic\", \" \", IF(INTRO!$E$37=\"Non-endemic\",\" \", IF(COUNTRY_INFO!A146=0,\" \",COUNTRY_INFO!A146)))","v":" "},{"$f":"IF(INTRO!$E$39<>\"Non-endemic\", \" \", IF(INTRO!$E$37=\"Non-endemic\",\" \", IF(COUNTRY_INFO!B146=0,\" \",COUNTRY_INFO!B146)))","v":" "},{"$f":"IF(INTRO!$E$39<>\"Non-endemic\", \" \", IF(INTRO!$E$37=\"Non-endemic\",\" \", IF(COUNTRY_INFO!C146=0,\" \",COUNTRY_INFO!C146)))","v":" "},{"$f":"IF(INTRO!$E$39<>\"Non-endemic\", 0, IF(INTRO!$E$37=\"Non-endemic\",0,IF(COUNTRY_INFO!$H146=1,COUNTRY_INFO!E146,0)))","v":0},{"$f":"IF(INTRO!$E$39<>\"Non-endemic\", 0, IF(INTRO!$E$37=\"Non-endemic\",0,IF(COUNTRY_INFO!$H146=1,COUNTRY_INFO!F146,0)))","v":0},{"$f":"IF(INTRO!$E$39<>\"Non-endemic\", 0, IF(INTRO!$E$37=\"Non-endemic\",0,IF(COUNTRY_INFO!$H146=1,COUNTRY_INFO!G146,0)))","v":0},0,{"$f":"IF(INTRO!$E$39=\"Non-endemic\",IF(INTRO!$E$37=\"Non-endemic\",\"Not required\",COUNTRY_INFO!P146),\"Treat with IVM\")","v":"Treat with IVM"},0,0,null,0,0]
[{"$f":"IF(INTRO!$E$39<>\"Non-endemic\", \" \", IF(INTRO!$E$37=\"Non-endemic\",\" \", IF(COUNTRY_INFO!A147=0,\" \",COUNTRY_INFO!A147)))","v":" "},{"$f":"IF(INTRO!$E$39<>\"Non-endemic\", \" \", IF(INTRO!$E$37=\"Non-endemic\",\" \", IF(COUNTRY_INFO!B147=0,\" \",COUNTRY_INFO!B147)))","v":" "},{"$f":"IF(INTRO!$E$39<>\"Non-endemic\", \" \", IF(INTRO!$E$37=\"Non-endemic\",\" \", IF(COUNTRY_INFO!C147=0,\" \",COUNTRY_INFO!C147)))","v":" "},{"$f":"IF(INTRO!$E$39<>\"Non-endemic\", 0, IF(INTRO!$E$37=\"Non-endemic\",0,IF(COUNTRY_INFO!$H147=1,COUNTRY_INFO!E147,0)))","v":0},{"$f":"IF(INTRO!$E$39<>\"Non-endemic\", 0, IF(INTRO!$E$37=\"Non-endemic\",0,IF(COUNTRY_INFO!$H147=1,COUNTRY_INFO!F147,0)))","v":0},{"$f":"IF(INTRO!$E$39<>\"Non-endemic\", 0, IF(INTRO!$E$37=\"Non-endemic\",0,IF(COUNTRY_INFO!$H147=1,COUNTRY_INFO!G147,0)))","v":0},0,{"$f":"IF(INTRO!$E$39=\"Non-endemic\",IF(INTRO!$E$37=\"Non-endemic\",\"Not required\",COUNTRY_INFO!P147),\"Treat with IVM\")","v":"Treat with IVM"},0,0,null,0,0]
[{"$f":"IF(INTRO!$E$39<>\"Non-endemic\", \" \", IF(INTRO!$E$37=\"Non-endemic\",\" \", IF(COUNTRY_INFO!A148=0,\" \",COUNTRY_INFO!A148)))","v":" "},{"$f":"IF(INTRO!$E$39<>\"Non-endemic\", \" \", IF(INTRO!$E$37=\"Non-endemic\",\" \", IF(COUNTRY_INFO!B148=0,\" \",COUNTRY_INFO!B148)))","v":" "},{"$f":"IF(INTRO!$E$39<>\"Non-endemic\", \" \", IF(INTRO!$E$37=\"Non-endemic\",\" \", IF(COUNTRY_INFO!C148=0,\" \",COUNTRY_INFO!C148)))","v":" "},{"$f":"IF(INTRO!$E$39<>\"Non-endemic\", 0, IF(INTRO!$E$37=\"Non-endemic\",0,IF(COUNTRY_INFO!$H148=1,COUNTRY_INFO!E148,0)))","v":0},{"$f":"IF(INTRO!$E$39<>\"Non-endemic\", 0, IF(INTRO!$E$37=\"Non-endemic\",0,IF(COUNTRY_INFO!$H148=1,COUNTRY_INFO!F148,0)))","v":0},{"$f":"IF(INTRO!$E$39<>\"Non-endemic\", 0, IF(INTRO!$E$37=\"Non-endemic\",0,IF(COUNTRY_INFO!$H148=1,COUNTRY_INFO!G148,0)))","v":0},0,{"$f":"IF(INTRO!$E$39=\"Non-endemic\",IF(INTRO!$E$37=\"Non-endemic\",\"Not required\",COUNTRY_INFO!P148),\"Treat with IVM\")","v":"Treat with IVM"},0,0,null,0,0]
[{"$f":"IF(INTRO!$E$39<>\"Non-endemic\", \" \", IF(INTRO!$E$37=\"Non-endemic\",\" \", IF(COUNTRY_INFO!A149=0,\" \",COUNTRY_INFO!A149)))","v":" "},{"$f":"IF(INTRO!$E$39<>\"Non-endemic\", \" \", IF(INTRO!$E$37=\"Non-endemic\",\" \", IF(COUNTRY_INFO!B149=0,\" \",COUNTRY_INFO!B149)))","v":" "},{"$f":"IF(INTRO!$E$39<>\"Non-endemic\", \" \", IF(INTRO!$E$37=\"Non-endemic\",\" \", IF(COUNTRY_INFO!C149=0,\" \",COUNTRY_INFO!C149)))","v":" "},{"$f":"IF(INTRO!$E$39<>\"Non-endemic\", 0, IF(INTRO!$E$37=\"Non-endemic\",0,IF(COUNTRY_INFO!$H149=1,COUNTRY_INFO!E149,0)))","v":0},{"$f":"IF(INTRO!$E$39<>\"Non-endemic\", 0, IF(INTRO!$E$37=\"Non-endemic\",0,IF(COUNTRY_INFO!$H149=1,COUNTRY_INFO!F149,0)))","v":0},{"$f":"IF(INTRO!$E$39<>\"Non-endemic\", 0, IF(INTRO!$E$37=\"Non-endemic\",0,IF(COUNTRY_INFO!$H149=1,COUNTRY_INFO!G149,0)))","v":0},0,{"$f":"IF(INTRO!$E$39=\"Non-endemic\",IF(INTRO!$E$37=\"Non-endemic\",\"Not required\",COUNTRY_INFO!P149),\"Treat with IVM\")","v":"Treat with IVM"},0,0,null,0,0]
[{"$f":"IF(INTRO!$E$39<>\"Non-endemic\", \" \", IF(INTRO!$E$37=\"Non-endemic\",\" \", IF(COUNTRY_INFO!A150=0,\" \",COUNTRY_INFO!A150)))","v":" "},{"$f":"IF(INTRO!$E$39<>\"Non-endemic\", \" \", IF(INTRO!$E$37=\"Non-endemic\",\" \", IF(COUNTRY_INFO!B150=0,\" \",COUNTRY_INFO!B150)))","v":" "},{"$f":"IF(INTRO!$E$39<>\"Non-endemic\", \" \", IF(INTRO!$E$37=\"Non-endemic\",\" \", IF(COUNTRY_INFO!C150=0,\" \",COUNTRY_INFO!C150)))","v":" "},{"$f":"IF(INTRO!$E$39<>\"Non-endemic\", 0, IF(INTRO!$E$37=\"Non-endemic\",0,IF(COUNTRY_INFO!$H150=1,COUNTRY_INFO!E150,0)))","v":0},{"$f":"IF(INTRO!$E$39<>\"Non-endemic\", 0, IF(INTRO!$E$37=\"Non-endemic\",0,IF(COUNTRY_INFO!$H150=1,COUNTRY_INFO!F150,0)))","v":0},{"$f":"IF(INTRO!$E$39<>\"Non-endemic\", 0, IF(INTRO!$E$37=\"Non-endemic\",0,IF(COUNTRY_INFO!$H150=1,COUNTRY_INFO!G150,0)))","v":0},0,{"$f":"IF(INTRO!$E$39=\"Non-endemic\",IF(INTRO!$E$37=\"Non-endemic\",\"Not required\",COUNTRY_INFO!P150),\"Treat with IVM\")","v":"Treat with IVM"},0,0,null,0,0]
[{"$f":"IF(INTRO!$E$39<>\"Non-endemic\", \" \", IF(INTRO!$E$37=\"Non-endemic\",\" \", IF(COUNTRY_INFO!A151=0,\" \",COUNTRY_INFO!A151)))","v":" "},{"$f":"IF(INTRO!$E$39<>\"Non-endemic\", \" \", IF(INTRO!$E$37=\"Non-endemic\",\" \", IF(COUNTRY_INFO!B151=0,\" \",COUNTRY_INFO!B151)))","v":" "},{"$f":"IF(INTRO!$E$39<>\"Non-endemic\", \" \", IF(INTRO!$E$37=\"Non-endemic\",\" \", IF(COUNTRY_INFO!C151=0,\" \",COUNTRY_INFO!C151)))","v":" "},{"$f":"IF(INTRO!$E$39<>\"Non-endemic\", 0, IF(INTRO!$E$37=\"Non-endemic\",0,IF(COUNTRY_INFO!$H151=1,COUNTRY_INFO!E151,0)))","v":0},{"$f":"IF(INTRO!$E$39<>\"Non-endemic\", 0, IF(INTRO!$E$37=\"Non-endemic\",0,IF(COUNTRY_INFO!$H151=1,COUNTRY_INFO!F151,0)))","v":0},{"$f":"IF(INTRO!$E$39<>\"Non-endemic\", 0, IF(INTRO!$E$37=\"Non-endemic\",0,IF(COUNTRY_INFO!$H151=1,COUNTRY_INFO!G151,0)))","v":0},0,{"$f":"IF(INTRO!$E$39=\"Non-endemic\",IF(INTRO!$E$37=\"Non-endemic\",\"Not required\",COUNTRY_INFO!P151),\"Treat with IVM\")","v":"Treat with IVM"},0,0,null,0,0]
[{"$f":"IF(INTRO!$E$39<>\"Non-endemic\", \" \", IF(INTRO!$E$37=\"Non-endemic\",\" \", IF(COUNTRY_INFO!A152=0,\" \",COUNTRY_INFO!A152)))","v":" "},{"$f":"IF(INTRO!$E$39<>\"Non-endemic\", \" \", IF(INTRO!$E$37=\"Non-endemic\",\" \", IF(COUNTRY_INFO!B152=0,\" \",COUNTRY_INFO!B152)))","v":" "},{"$f":"IF(INTRO!$E$39<>\"Non-endemic\", \" \", IF(INTRO!$E$37=\"Non-endemic\",\" \", IF(COUNTRY_INFO!C152=0,\" \",COUNTRY_INFO!C152)))","v":" "},{"$f":"IF(INTRO!$E$39<>\"Non-endemic\", 0, IF(INTRO!$E$37=\"Non-endemic\",0,IF(COUNTRY_INFO!$H152=1,COUNTRY_INFO!E152,0)))","v":0},{"$f":"IF(INTRO!$E$39<>\"Non-endemic\", 0, IF(INTRO!$E$37=\"Non-endemic\",0,IF(COUNTRY_INFO!$H152=1,COUNTRY_INFO!F152,0)))","v":0},{"$f":"IF(INTRO!$E$39<>\"Non-endemic\", 0, IF(INTRO!$E$37=\"Non-endemic\",0,IF(COUNTRY_INFO!$H152=1,COUNTRY_INFO!G152,0)))","v":0},0,{"$f":"IF(INTRO!$E$39=\"Non-endemic\",IF(INTRO!$E$37=\"Non-endemic\",\"Not required\",COUNTRY_INFO!P152),\"Treat with IVM\")","v":"Treat with IVM"},0,0,null,0,0]
[{"$f":"IF(INTRO!$E$39<>\"Non-endemic\", \" \", IF(INTRO!$E$37=\"Non-endemic\",\" \", IF(COUNTRY_INFO!A153=0,\" \",COUNTRY_INFO!A153)))","v":" "},{"$f":"IF(INTRO!$E$39<>\"Non-endemic\", \" \", IF(INTRO!$E$37=\"Non-endemic\",\" \", IF(COUNTRY_INFO!B153=0,\" \",COUNTRY_INFO!B153)))","v":" "},{"$f":"IF(INTRO!$E$39<>\"Non-endemic\", \" \", IF(INTRO!$E$37=\"Non-endemic\",\" \", IF(COUNTRY_INFO!C153=0,\" \",COUNTRY_INFO!C153)))","v":" "},{"$f":"IF(INTRO!$E$39<>\"Non-endemic\", 0, IF(INTRO!$E$37=\"Non-endemic\",0,IF(COUNTRY_INFO!$H153=1,COUNTRY_INFO!E153,0)))","v":0},{"$f":"IF(INTRO!$E$39<>\"Non-endemic\", 0, IF(INTRO!$E$37=\"Non-endemic\",0,IF(COUNTRY_INFO!$H153=1,COUNTRY_INFO!F153,0)))","v":0},{"$f":"IF(INTRO!$E$39<>\"Non-endemic\", 0, IF(INTRO!$E$37=\"Non-endemic\",0,IF(COUNTRY_INFO!$H153=1,COUNTRY_INFO!G153,0)))","v":0},0,{"$f":"IF(INTRO!$E$39=\"Non-endemic\",IF(INTRO!$E$37=\"Non-endemic\",\"Not required\",COUNTRY_INFO!P153),\"Treat with IVM\")","v":"Treat with IVM"},0,0,null,0,0]
[{"$f":"IF(INTRO!$E$39<>\"Non-endemic\", \" \", IF(INTRO!$E$37=\"Non-endemic\",\" \", IF(COUNTRY_INFO!A154=0,\" \",COUNTRY_INFO!A154)))","v":" "},{"$f":"IF(INTRO!$E$39<>\"Non-endemic\", \" \", IF(INTRO!$E$37=\"Non-endemic\",\" \", IF(COUNTRY_INFO!B154=0,\" \",COUNTRY_INFO!B154)))","v":" "},{"$f":"IF(INTRO!$E$39<>\"Non-endemic\", \" \", IF(INTRO!$E$37=\"Non-endemic\",\" \", IF(COUNTRY_INFO!C154=0,\" \",COUNTRY_INFO!C154)))","v":" "},{"$f":"IF(INTRO!$E$39<>\"Non-endemic\", 0, IF(INTRO!$E$37=\"Non-endemic\",0,IF(COUNTRY_INFO!$H154=1,COUNTRY_INFO!E154,0)))","v":0},{"$f":"IF(INTRO!$E$39<>\"Non-endemic\", 0, IF(INTRO!$E$37=\"Non-endemic\",0,IF(COUNTRY_INFO!$H154=1,COUNTRY_INFO!F154,0)))","v":0},{"$f":"IF(INTRO!$E$39<>\"Non-endemic\", 0, IF(INTRO!$E$37=\"Non-endemic\",0,IF(COUNTRY_INFO!$H154=1,COUNTRY_INFO!G154,0)))","v":0},0,{"$f":"IF(INTRO!$E$39=\"Non-endemic\",IF(INTRO!$E$37=\"Non-endemic\",\"Not required\",COUNTRY_INFO!P154),\"Treat with IVM\")","v":"Treat with IVM"},0,0,null,0,0]
[{"$f":"IF(INTRO!$E$39<>\"Non-endemic\", \" \", IF(INTRO!$E$37=\"Non-endemic\",\" \", IF(COUNTRY_INFO!A155=0,\" \",COUNTRY_INFO!A155)))","v":" "},{"$f":"IF(INTRO!$E$39<>\"Non-endemic\", \" \", IF(INTRO!$E$37=\"Non-endemic\",\" \", IF(COUNTRY_INFO!B155=0,\" \",COUNTRY_INFO!B155)))","v":" "},{"$f":"IF(INTRO!$E$39<>\"Non-endemic\", \" \", IF(INTRO!$E$37=\"Non-endemic\",\" \", IF(COUNTRY_INFO!C155=0,\" \",COUNTRY_INFO!C155)))","v":" "},{"$f":"IF(INTRO!$E$39<>\"Non-endemic\", 0, IF(INTRO!$E$37=\"Non-endemic\",0,IF(COUNTRY_INFO!$H155=1,COUNTRY_INFO!E155,0)))","v":0},{"$f":"IF(INTRO!$E$39<>\"Non-endemic\", 0, IF(INTRO!$E$37=\"Non-endemic\",0,IF(COUNTRY_INFO!$H155=1,COUNTRY_INFO!F155,0)))","v":0},{"$f":"IF(INTRO!$E$39<>\"Non-endemic\", 0, IF(INTRO!$E$37=\"Non-endemic\",0,IF(COUNTRY_INFO!$H155=1,COUNTRY_INFO!G155,0)))","v":0},0,{"$f":"IF(INTRO!$E$39=\"Non-endemic\",IF(INTRO!$E$37=\"Non-endemic\",\"Not required\",COUNTRY_INFO!P155),\"Treat with IVM\")","v":"Treat with IVM"},0,0,null,0,0]
[{"$f":"IF(INTRO!$E$39<>\"Non-endemic\", \" \", IF(INTRO!$E$37=\"Non-endemic\",\" \", IF(COUNTRY_INFO!A156=0,\" \",COUNTRY_INFO!A156)))","v":" "},{"$f":"IF(INTRO!$E$39<>\"Non-endemic\", \" \", IF(INTRO!$E$37=\"Non-endemic\",\" \", IF(COUNTRY_INFO!B156=0,\" \",COUNTRY_INFO!B156)))","v":" "},{"$f":"IF(INTRO!$E$39<>\"Non-endemic\", \" \", IF(INTRO!$E$37=\"Non-endemic\",\" \", IF(COUNTRY_INFO!C156=0,\" \",COUNTRY_INFO!C156)))","v":" "},{"$f":"IF(INTRO!$E$39<>\"Non-endemic\", 0, IF(INTRO!$E$37=\"Non-endemic\",0,IF(COUNTRY_INFO!$H156=1,COUNTRY_INFO!E156,0)))","v":0},{"$f":"IF(INTRO!$E$39<>\"Non-endemic\", 0, IF(INTRO!$E$37=\"Non-endemic\",0,IF(COUNTRY_INFO!$H156=1,COUNTRY_INFO!F156,0)))","v":0},{"$f":"IF(INTRO!$E$39<>\"Non-endemic\", 0, IF(INTRO!$E$37=\"Non-endemic\",0,IF(COUNTRY_INFO!$H156=1,COUNTRY_INFO!G156,0)))","v":0},0,{"$f":"IF(INTRO!$E$39=\"Non-endemic\",IF(INTRO!$E$37=\"Non-endemic\",\"Not required\",COUNTRY_INFO!P156),\"Treat with IVM\")","v":"Treat with IVM"},0,0,null,0,0]
[{"$f":"IF(INTRO!$E$39<>\"Non-endemic\", \" \", IF(INTRO!$E$37=\"Non-endemic\",\" \", IF(COUNTRY_INFO!A157=0,\" \",COUNTRY_INFO!A157)))","v":" "},{"$f":"IF(INTRO!$E$39<>\"Non-endemic\", \" \", IF(INTRO!$E$37=\"Non-endemic\",\" \", IF(COUNTRY_INFO!B157=0,\" \",COUNTRY_INFO!B157)))","v":" "},{"$f":"IF(INTRO!$E$39<>\"Non-endemic\", \" \", IF(INTRO!$E$37=\"Non-endemic\",\" \", IF(COUNTRY_INFO!C157=0,\" \",COUNTRY_INFO!C157)))","v":" "},{"$f":"IF(INTRO!$E$39<>\"Non-endemic\", 0, IF(INTRO!$E$37=\"Non-endemic\",0,IF(COUNTRY_INFO!$H157=1,COUNTRY_INFO!E157,0)))","v":0},{"$f":"IF(INTRO!$E$39<>\"Non-endemic\", 0, IF(INTRO!$E$37=\"Non-endemic\",0,IF(COUNTRY_INFO!$H157=1,COUNTRY_INFO!F157,0)))","v":0},{"$f":"IF(INTRO!$E$39<>\"Non-endemic\", 0, IF(INTRO!$E$37=\"Non-endemic\",0,IF(COUNTRY_INFO!$H157=1,COUNTRY_INFO!G157,0)))","v":0},0,{"$f":"IF(INTRO!$E$39=\"Non-endemic\",IF(INTRO!$E$37=\"Non-endemic\",\"Not required\",COUNTRY_INFO!P157),\"Treat with IVM\")","v":"Treat with IVM"},0,0,null,0,0]
[{"$f":"IF(INTRO!$E$39<>\"Non-endemic\", \" \", IF(INTRO!$E$37=\"Non-endemic\",\" \", IF(COUNTRY_INFO!A158=0,\" \",COUNTRY_INFO!A158)))","v":" "},{"$f":"IF(INTRO!$E$39<>\"Non-endemic\", \" \", IF(INTRO!$E$37=\"Non-endemic\",\" \", IF(COUNTRY_INFO!B158=0,\" \",COUNTRY_INFO!B158)))","v":" "},{"$f":"IF(INTRO!$E$39<>\"Non-endemic\", \" \", IF(INTRO!$E$37=\"Non-endemic\",\" \", IF(COUNTRY_INFO!C158=0,\" \",COUNTRY_INFO!C158)))","v":" "},{"$f":"IF(INTRO!$E$39<>\"Non-endemic\", 0, IF(INTRO!$E$37=\"Non-endemic\",0,IF(COUNTRY_INFO!$H158=1,COUNTRY_INFO!E158,0)))","v":0},{"$f":"IF(INTRO!$E$39<>\"Non-endemic\", 0, IF(INTRO!$E$37=\"Non-endemic\",0,IF(COUNTRY_INFO!$H158=1,COUNTRY_INFO!F158,0)))","v":0},{"$f":"IF(INTRO!$E$39<>\"Non-endemic\", 0, IF(INTRO!$E$37=\"Non-endemic\",0,IF(COUNTRY_INFO!$H158=1,COUNTRY_INFO!G158,0)))","v":0},0,{"$f":"IF(INTRO!$E$39=\"Non-endemic\",IF(INTRO!$E$37=\"Non-endemic\",\"Not required\",COUNTRY_INFO!P158),\"Treat with IVM\")","v":"Treat with IVM"},0,0,null,0,0]
[{"$f":"IF(INTRO!$E$39<>\"Non-endemic\", \" \", IF(INTRO!$E$37=\"Non-endemic\",\" \", IF(COUNTRY_INFO!A159=0,\" \",COUNTRY_INFO!A159)))","v":" "},{"$f":"IF(INTRO!$E$39<>\"Non-endemic\", \" \", IF(INTRO!$E$37=\"Non-endemic\",\" \", IF(COUNTRY_INFO!B159=0,\" \",COUNTRY_INFO!B159)))","v":" "},{"$f":"IF(INTRO!$E$39<>\"Non-endemic\", \" \", IF(INTRO!$E$37=\"Non-endemic\",\" \", IF(COUNTRY_INFO!C159=0,\" \",COUNTRY_INFO!C159)))","v":" "},{"$f":"IF(INTRO!$E$39<>\"Non-endemic\", 0, IF(INTRO!$E$37=\"Non-endemic\",0,IF(COUNTRY_INFO!$H159=1,COUNTRY_INFO!E159,0)))","v":0},{"$f":"IF(INTRO!$E$39<>\"Non-endemic\", 0, IF(INTRO!$E$37=\"Non-endemic\",0,IF(COUNTRY_INFO!$H159=1,COUNTRY_INFO!F159,0)))","v":0},{"$f":"IF(INTRO!$E$39<>\"Non-endemic\", 0, IF(INTRO!$E$37=\"Non-endemic\",0,IF(COUNTRY_INFO!$H159=1,COUNTRY_INFO!G159,0)))","v":0},0,{"$f":"IF(INTRO!$E$39=\"Non-endemic\",IF(INTRO!$E$37=\"Non-endemic\",\"Not required\",COUNTRY_INFO!P159),\"Treat with IVM\")","v":"Treat with IVM"},0,0,null,0,0]
[{"$f":"IF(INTRO!$E$39<>\"Non-endemic\", \" \", IF(INTRO!$E$37=\"Non-endemic\",\" \", IF(COUNTRY_INFO!A160=0,\" \",COUNTRY_INFO!A160)))","v":" "},{"$f":"IF(INTRO!$E$39<>\"Non-endemic\", \" \", IF(INTRO!$E$37=\"Non-endemic\",\" \", IF(COUNTRY_INFO!B160=0,\" \",COUNTRY_INFO!B160)))","v":" "},{"$f":"IF(INTRO!$E$39<>\"Non-endemic\", \" \", IF(INTRO!$E$37=\"Non-endemic\",\" \", IF(COUNTRY_INFO!C160=0,\" \",COUNTRY_INFO!C160)))","v":" "},{"$f":"IF(INTRO!$E$39<>\"Non-endemic\", 0, IF(INTRO!$E$37=\"Non-endemic\",0,IF(COUNTRY_INFO!$H160=1,COUNTRY_INFO!E160,0)))","v":0},{"$f":"IF(INTRO!$E$39<>\"Non-endemic\", 0, IF(INTRO!$E$37=\"Non-endemic\",0,IF(COUNTRY_INFO!$H160=1,COUNTRY_INFO!F160,0)))","v":0},{"$f":"IF(INTRO!$E$39<>\"Non-endemic\", 0, IF(INTRO!$E$37=\"Non-endemic\",0,IF(COUNTRY_INFO!$H160=1,COUNTRY_INFO!G160,0)))","v":0},0,{"$f":"IF(INTRO!$E$39=\"Non-endemic\",IF(INTRO!$E$37=\"Non-endemic\",\"Not required\",COUNTRY_INFO!P160),\"Treat with IVM\")","v":"Treat with IVM"},0,0,null,0,0]
[{"$f":"IF(INTRO!$E$39<>\"Non-endemic\", \" \", IF(INTRO!$E$37=\"Non-endemic\",\" \", IF(COUNTRY_INFO!A161=0,\" \",COUNTRY_INFO!A161)))","v":" "},{"$f":"IF(INTRO!$E$39<>\"Non-endemic\", \" \", IF(INTRO!$E$37=\"Non-endemic\",\" \", IF(COUNTRY_INFO!B161=0,\" \",COUNTRY_INFO!B161)))","v":" "},{"$f":"IF(INTRO!$E$39<>\"Non-endemic\", \" \", IF(INTRO!$E$37=\"Non-endemic\",\" \", IF(COUNTRY_INFO!C161=0,\" \",COUNTRY_INFO!C161)))","v":" "},{"$f":"IF(INTRO!$E$39<>\"Non-endemic\", 0, IF(INTRO!$E$37=\"Non-endemic\",0,IF(COUNTRY_INFO!$H161=1,COUNTRY_INFO!E161,0)))","v":0},{"$f":"IF(INTRO!$E$39<>\"Non-endemic\", 0, IF(INTRO!$E$37=\"Non-endemic\",0,IF(COUNTRY_INFO!$H161=1,COUNTRY_INFO!F161,0)))","v":0},{"$f":"IF(INTRO!$E$39<>\"Non-endemic\", 0, IF(INTRO!$E$37=\"Non-endemic\",0,IF(COUNTRY_INFO!$H161=1,COUNTRY_INFO!G161,0)))","v":0},0,{"$f":"IF(INTRO!$E$39=\"Non-endemic\",IF(INTRO!$E$37=\"Non-endemic\",\"Not required\",COUNTRY_INFO!P161),\"Treat with IVM\")","v":"Treat with IVM"},0,0,null,0,0]
[{"$f":"IF(INTRO!$E$39<>\"Non-endemic\", \" \", IF(INTRO!$E$37=\"Non-endemic\",\" \", IF(COUNTRY_INFO!A162=0,\" \",COUNTRY_INFO!A162)))","v":" "},{"$f":"IF(INTRO!$E$39<>\"Non-endemic\", \" \", IF(INTRO!$E$37=\"Non-endemic\",\" \", IF(COUNTRY_INFO!B162=0,\" \",COUNTRY_INFO!B162)))","v":" "},{"$f":"IF(INTRO!$E$39<>\"Non-endemic\", \" \", IF(INTRO!$E$37=\"Non-endemic\",\" \", IF(COUNTRY_INFO!C162=0,\" \",COUNTRY_INFO!C162)))","v":" "},{"$f":"IF(INTRO!$E$39<>\"Non-endemic\", 0, IF(INTRO!$E$37=\"Non-endemic\",0,IF(COUNTRY_INFO!$H162=1,COUNTRY_INFO!E162,0)))","v":0},{"$f":"IF(INTRO!$E$39<>\"Non-endemic\", 0, IF(INTRO!$E$37=\"Non-endemic\",0,IF(COUNTRY_INFO!$H162=1,COUNTRY_INFO!F162,0)))","v":0},{"$f":"IF(INTRO!$E$39<>\"Non-endemic\", 0, IF(INTRO!$E$37=\"Non-endemic\",0,IF(COUNTRY_INFO!$H162=1,COUNTRY_INFO!G162,0)))","v":0},0,{"$f":"IF(INTRO!$E$39=\"Non-endemic\",IF(INTRO!$E$37=\"Non-endemic\",\"Not required\",COUNTRY_INFO!P162),\"Treat with IVM\")","v":"Treat with IVM"},0,0,null,0,0]
[{"$f":"IF(INTRO!$E$39<>\"Non-endemic\", \" \", IF(INTRO!$E$37=\"Non-endemic\",\" \", IF(COUNTRY_INFO!A163=0,\" \",COUNTRY_INFO!A163)))","v":" "},{"$f":"IF(INTRO!$E$39<>\"Non-endemic\", \" \", IF(INTRO!$E$37=\"Non-endemic\",\" \", IF(COUNTRY_INFO!B163=0,\" \",COUNTRY_INFO!B163)))","v":" "},{"$f":"IF(INTRO!$E$39<>\"Non-endemic\", \" \", IF(INTRO!$E$37=\"Non-endemic\",\" \", IF(COUNTRY_INFO!C163=0,\" \",COUNTRY_INFO!C163)))","v":" "},{"$f":"IF(INTRO!$E$39<>\"Non-endemic\", 0, IF(INTRO!$E$37=\"Non-endemic\",0,IF(COUNTRY_INFO!$H163=1,COUNTRY_INFO!E163,0)))","v":0},{"$f":"IF(INTRO!$E$39<>\"Non-endemic\", 0, IF(INTRO!$E$37=\"Non-endemic\",0,IF(COUNTRY_INFO!$H163=1,COUNTRY_INFO!F163,0)))","v":0},{"$f":"IF(INTRO!$E$39<>\"Non-endemic\", 0, IF(INTRO!$E$37=\"Non-endemic\",0,IF(COUNTRY_INFO!$H163=1,COUNTRY_INFO!G163,0)))","v":0},0,{"$f":"IF(INTRO!$E$39=\"Non-endemic\",IF(INTRO!$E$37=\"Non-endemic\",\"Not required\",COUNTRY_INFO!P163),\"Treat with IVM\")","v":"Treat with IVM"},0,0,null,0,0]
[{"$f":"IF(INTRO!$E$39<>\"Non-endemic\", \" \", IF(INTRO!$E$37=\"Non-endemic\",\" \", IF(COUNTRY_INFO!A164=0,\" \",COUNTRY_INFO!A164)))","v":" "},{"$f":"IF(INTRO!$E$39<>\"Non-endemic\", \" \", IF(INTRO!$E$37=\"Non-endemic\",\" \", IF(COUNTRY_INFO!B164=0,\" \",COUNTRY_INFO!B164)))","v":" "},{"$f":"IF(INTRO!$E$39<>\"Non-endemic\", \" \", IF(INTRO!$E$37=\"Non-endemic\",\" \", IF(COUNTRY_INFO!C164=0,\" \",COUNTRY_INFO!C164)))","v":" "},{"$f":"IF(INTRO!$E$39<>\"Non-endemic\", 0, IF(INTRO!$E$37=\"Non-endemic\",0,IF(COUNTRY_INFO!$H164=1,COUNTRY_INFO!E164,0)))","v":0},{"$f":"IF(INTRO!$E$39<>\"Non-endemic\", 0, IF(INTRO!$E$37=\"Non-endemic\",0,IF(COUNTRY_INFO!$H164=1,COUNTRY_INFO!F164,0)))","v":0},{"$f":"IF(INTRO!$E$39<>\"Non-endemic\", 0, IF(INTRO!$E$37=\"Non-endemic\",0,IF(COUNTRY_INFO!$H164=1,COUNTRY_INFO!G164,0)))","v":0},0,{"$f":"IF(INTRO!$E$39=\"Non-endemic\",IF(INTRO!$E$37=\"Non-endemic\",\"Not required\",COUNTRY_INFO!P164),\"Treat with IVM\")","v":"Treat with IVM"},0,0,null,0,0]
[{"$f":"IF(INTRO!$E$39<>\"Non-endemic\", \" \", IF(INTRO!$E$37=\"Non-endemic\",\" \", IF(COUNTRY_INFO!A165=0,\" \",COUNTRY_INFO!A165)))","v":" "},{"$f":"IF(INTRO!$E$39<>\"Non-endemic\", \" \", IF(INTRO!$E$37=\"Non-endemic\",\" \", IF(COUNTRY_INFO!B165=0,\" \",COUNTRY_INFO!B165)))","v":" "},{"$f":"IF(INTRO!$E$39<>\"Non-endemic\", \" \", IF(INTRO!$E$37=\"Non-endemic\",\" \", IF(COUNTRY_INFO!C165=0,\" \",COUNTRY_INFO!C165)))","v":" "},{"$f":"IF(INTRO!$E$39<>\"Non-endemic\", 0, IF(INTRO!$E$37=\"Non-endemic\",0,IF(COUNTRY_INFO!$H165=1,COUNTRY_INFO!E165,0)))","v":0},{"$f":"IF(INTRO!$E$39<>\"Non-endemic\", 0, IF(INTRO!$E$37=\"Non-endemic\",0,IF(COUNTRY_INFO!$H165=1,COUNTRY_INFO!F165,0)))","v":0},{"$f":"IF(INTRO!$E$39<>\"Non-endemic\", 0, IF(INTRO!$E$37=\"Non-endemic\",0,IF(COUNTRY_INFO!$H165=1,COUNTRY_INFO!G165,0)))","v":0},0,{"$f":"IF(INTRO!$E$39=\"Non-endemic\",IF(INTRO!$E$37=\"Non-endemic\",\"Not required\",COUNTRY_INFO!P165),\"Treat with IVM\")","v":"Treat with IVM"},0,0,null,0,0]
[{"$f":"IF(INTRO!$E$39<>\"Non-endemic\", \" \", IF(INTRO!$E$37=\"Non-endemic\",\" \", IF(COUNTRY_INFO!A166=0,\" \",COUNTRY_INFO!A166)))","v":" "},{"$f":"IF(INTRO!$E$39<>\"Non-endemic\", \" \", IF(INTRO!$E$37=\"Non-endemic\",\" \", IF(COUNTRY_INFO!B166=0,\" \",COUNTRY_INFO!B166)))","v":" "},{"$f":"IF(INTRO!$E$39<>\"Non-endemic\", \" \", IF(INTRO!$E$37=\"Non-endemic\",\" \", IF(COUNTRY_INFO!C166=0,\" \",COUNTRY_INFO!C166)))","v":" "},{"$f":"IF(INTRO!$E$39<>\"Non-endemic\", 0, IF(INTRO!$E$37=\"Non-endemic\",0,IF(COUNTRY_INFO!$H166=1,COUNTRY_INFO!E166,0)))","v":0},{"$f":"IF(INTRO!$E$39<>\"Non-endemic\", 0, IF(INTRO!$E$37=\"Non-endemic\",0,IF(COUNTRY_INFO!$H166=1,COUNTRY_INFO!F166,0)))","v":0},{"$f":"IF(INTRO!$E$39<>\"Non-endemic\", 0, IF(INTRO!$E$37=\"Non-endemic\",0,IF(COUNTRY_INFO!$H166=1,COUNTRY_INFO!G166,0)))","v":0},0,{"$f":"IF(INTRO!$E$39=\"Non-endemic\",IF(INTRO!$E$37=\"Non-endemic\",\"Not required\",COUNTRY_INFO!P166),\"Treat with IVM\")","v":"Treat with IVM"},0,0,null,0,0]
[{"$f":"IF(INTRO!$E$39<>\"Non-endemic\", \" \", IF(INTRO!$E$37=\"Non-endemic\",\" \", IF(COUNTRY_INFO!A167=0,\" \",COUNTRY_INFO!A167)))","v":" "},{"$f":"IF(INTRO!$E$39<>\"Non-endemic\", \" \", IF(INTRO!$E$37=\"Non-endemic\",\" \", IF(COUNTRY_INFO!B167=0,\" \",COUNTRY_INFO!B167)))","v":" "},{"$f":"IF(INTRO!$E$39<>\"Non-endemic\", \" \", IF(INTRO!$E$37=\"Non-endemic\",\" \", IF(COUNTRY_INFO!C167=0,\" \",COUNTRY_INFO!C167)))","v":" "},{"$f":"IF(INTRO!$E$39<>\"Non-endemic\", 0, IF(INTRO!$E$37=\"Non-endemic\",0,IF(COUNTRY_INFO!$H167=1,COUNTRY_INFO!E167,0)))","v":0},{"$f":"IF(INTRO!$E$39<>\"Non-endemic\", 0, IF(INTRO!$E$37=\"Non-endemic\",0,IF(COUNTRY_INFO!$H167=1,COUNTRY_INFO!F167,0)))","v":0},{"$f":"IF(INTRO!$E$39<>\"Non-endemic\", 0, IF(INTRO!$E$37=\"Non-endemic\",0,IF(COUNTRY_INFO!$H167=1,COUNTRY_INFO!G167,0)))","v":0},0,{"$f":"IF(INTRO!$E$39=\"Non-endemic\",IF(INTRO!$E$37=\"Non-endemic\",\"Not required\",COUNTRY_INFO!P167),\"Treat with IVM\")","v":"Treat with IVM"},0,0,null,0,0]
[{"$f":"IF(INTRO!$E$39<>\"Non-endemic\", \" \", IF(INTRO!$E$37=\"Non-endemic\",\" \", IF(COUNTRY_INFO!A168=0,\" \",COUNTRY_INFO!A168)))","v":" "},{"$f":"IF(INTRO!$E$39<>\"Non-endemic\", \" \", IF(INTRO!$E$37=\"Non-endemic\",\" \", IF(COUNTRY_INFO!B168=0,\" \",COUNTRY_INFO!B168)))","v":" "},{"$f":"IF(INTRO!$E$39<>\"Non-endemic\", \" \", IF(INTRO!$E$37=\"Non-endemic\",\" \", IF(COUNTRY_INFO!C168=0,\" \",COUNTRY_INFO!C168)))","v":" "},{"$f":"IF(INTRO!$E$39<>\"Non-endemic\", 0, IF(INTRO!$E$37=\"Non-endemic\",0,IF(COUNTRY_INFO!$H168=1,COUNTRY_INFO!E168,0)))","v":0},{"$f":"IF(INTRO!$E$39<>\"Non-endemic\", 0, IF(INTRO!$E$37=\"Non-endemic\",0,IF(COUNTRY_INFO!$H168=1,COUNTRY_INFO!F168,0)))","v":0},{"$f":"IF(INTRO!$E$39<>\"Non-endemic\", 0, IF(INTRO!$E$37=\"Non-endemic\",0,IF(COUNTRY_INFO!$H168=1,COUNTRY_INFO!G168,0)))","v":0},0,{"$f":"IF(INTRO!$E$39=\"Non-endemic\",IF(INTRO!$E$37=\"Non-endemic\",\"Not required\",COUNTRY_INFO!P168),\"Treat with IVM\")","v":"Treat with IVM"},0,0,null,0,0]
[{"$f":"IF(INTRO!$E$39<>\"Non-endemic\", \" \", IF(INTRO!$E$37=\"Non-endemic\",\" \", IF(COUNTRY_INFO!A169=0,\" \",COUNTRY_INFO!A169)))","v":" "},{"$f":"IF(INTRO!$E$39<>\"Non-endemic\", \" \", IF(INTRO!$E$37=\"Non-endemic\",\" \", IF(COUNTRY_INFO!B169=0,\" \",COUNTRY_INFO!B169)))","v":" "},{"$f":"IF(INTRO!$E$39<>\"Non-endemic\", \" \", IF(INTRO!$E$37=\"Non-endemic\",\" \", IF(COUNTRY_INFO!C169=0,\" \",COUNTRY_INFO!C169)))","v":" "},{"$f":"IF(INTRO!$E$39<>\"Non-endemic\", 0, IF(INTRO!$E$37=\"Non-endemic\",0,IF(COUNTRY_INFO!$H169=1,COUNTRY_INFO!E169,0)))","v":0},{"$f":"IF(INTRO!$E$39<>\"Non-endemic\", 0, IF(INTRO!$E$37=\"Non-endemic\",0,IF(COUNTRY_INFO!$H169=1,COUNTRY_INFO!F169,0)))","v":0},{"$f":"IF(INTRO!$E$39<>\"Non-endemic\", 0, IF(INTRO!$E$37=\"Non-endemic\",0,IF(COUNTRY_INFO!$H169=1,COUNTRY_INFO!G169,0)))","v":0},0,{"$f":"IF(INTRO!$E$39=\"Non-endemic\",IF(INTRO!$E$37=\"Non-endemic\",\"Not required\",COUNTRY_INFO!P169),\"Treat with IVM\")","v":"Treat with IVM"},0,0,null,0,0]
[{"$f":"IF(INTRO!$E$39<>\"Non-endemic\", \" \", IF(INTRO!$E$37=\"Non-endemic\",\" \", IF(COUNTRY_INFO!A170=0,\" \",COUNTRY_INFO!A170)))","v":" "},{"$f":"IF(INTRO!$E$39<>\"Non-endemic\", \" \", IF(INTRO!$E$37=\"Non-endemic\",\" \", IF(COUNTRY_INFO!B170=0,\" \",COUNTRY_INFO!B170)))","v":" "},{"$f":"IF(INTRO!$E$39<>\"Non-endemic\", \" \", IF(INTRO!$E$37=\"Non-endemic\",\" \", IF(COUNTRY_INFO!C170=0,\" \",COUNTRY_INFO!C170)))","v":" "},{"$f":"IF(INTRO!$E$39<>\"Non-endemic\", 0, IF(INTRO!$E$37=\"Non-endemic\",0,IF(COUNTRY_INFO!$H170=1,COUNTRY_INFO!E170,0)))","v":0},{"$f":"IF(INTRO!$E$39<>\"Non-endemic\", 0, IF(INTRO!$E$37=\"Non-endemic\",0,IF(COUNTRY_INFO!$H170=1,COUNTRY_INFO!F170,0)))","v":0},{"$f":"IF(INTRO!$E$39<>\"Non-endemic\", 0, IF(INTRO!$E$37=\"Non-endemic\",0,IF(COUNTRY_INFO!$H170=1,COUNTRY_INFO!G170,0)))","v":0},0,{"$f":"IF(INTRO!$E$39=\"Non-endemic\",IF(INTRO!$E$37=\"Non-endemic\",\"Not required\",COUNTRY_INFO!P170),\"Treat with IVM\")","v":"Treat with IVM"},0,0,null,0,0]
[{"$f":"IF(INTRO!$E$39<>\"Non-endemic\", \" \", IF(INTRO!$E$37=\"Non-endemic\",\" \", IF(COUNTRY_INFO!A171=0,\" \",COUNTRY_INFO!A171)))","v":" "},{"$f":"IF(INTRO!$E$39<>\"Non-endemic\", \" \", IF(INTRO!$E$37=\"Non-endemic\",\" \", IF(COUNTRY_INFO!B171=0,\" \",COUNTRY_INFO!B171)))","v":" "},{"$f":"IF(INTRO!$E$39<>\"Non-endemic\", \" \", IF(INTRO!$E$37=\"Non-endemic\",\" \", IF(COUNTRY_INFO!C171=0,\" \",COUNTRY_INFO!C171)))","v":" "},{"$f":"IF(INTRO!$E$39<>\"Non-endemic\", 0, IF(INTRO!$E$37=\"Non-endemic\",0,IF(COUNTRY_INFO!$H171=1,COUNTRY_INFO!E171,0)))","v":0},{"$f":"IF(INTRO!$E$39<>\"Non-endemic\", 0, IF(INTRO!$E$37=\"Non-endemic\",0,IF(COUNTRY_INFO!$H171=1,COUNTRY_INFO!F171,0)))","v":0},{"$f":"IF(INTRO!$E$39<>\"Non-endemic\", 0, IF(INTRO!$E$37=\"Non-endemic\",0,IF(COUNTRY_INFO!$H171=1,COUNTRY_INFO!G171,0)))","v":0},0,{"$f":"IF(INTRO!$E$39=\"Non-endemic\",IF(INTRO!$E$37=\"Non-endemic\",\"Not required\",COUNTRY_INFO!P171),\"Treat with IVM\")","v":"Treat with IVM"},0,0,null,0,0]
[{"$f":"IF(INTRO!$E$39<>\"Non-endemic\", \" \", IF(INTRO!$E$37=\"Non-endemic\",\" \", IF(COUNTRY_INFO!A172=0,\" \",COUNTRY_INFO!A172)))","v":" "},{"$f":"IF(INTRO!$E$39<>\"Non-endemic\", \" \", IF(INTRO!$E$37=\"Non-endemic\",\" \", IF(COUNTRY_INFO!B172=0,\" \",COUNTRY_INFO!B172)))","v":" "},{"$f":"IF(INTRO!$E$39<>\"Non-endemic\", \" \", IF(INTRO!$E$37=\"Non-endemic\",\" \", IF(COUNTRY_INFO!C172=0,\" \",COUNTRY_INFO!C172)))","v":" "},{"$f":"IF(INTRO!$E$39<>\"Non-endemic\", 0, IF(INTRO!$E$37=\"Non-endemic\",0,IF(COUNTRY_INFO!$H172=1,COUNTRY_INFO!E172,0)))","v":0},{"$f":"IF(INTRO!$E$39<>\"Non-endemic\", 0, IF(INTRO!$E$37=\"Non-endemic\",0,IF(COUNTRY_INFO!$H172=1,COUNTRY_INFO!F172,0)))","v":0},{"$f":"IF(INTRO!$E$39<>\"Non-endemic\", 0, IF(INTRO!$E$37=\"Non-endemic\",0,IF(COUNTRY_INFO!$H172=1,COUNTRY_INFO!G172,0)))","v":0},0,{"$f":"IF(INTRO!$E$39=\"Non-endemic\",IF(INTRO!$E$37=\"Non-endemic\",\"Not required\",COUNTRY_INFO!P172),\"Treat with IVM\")","v":"Treat with IVM"},0,0,null,0,0]
[{"$f":"IF(INTRO!$E$39<>\"Non-endemic\", \" \", IF(INTRO!$E$37=\"Non-endemic\",\" \", IF(COUNTRY_INFO!A173=0,\" \",COUNTRY_INFO!A173)))","v":" "},{"$f":"IF(INTRO!$E$39<>\"Non-endemic\", \" \", IF(INTRO!$E$37=\"Non-endemic\",\" \", IF(COUNTRY_INFO!B173=0,\" \",COUNTRY_INFO!B173)))","v":" "},{"$f":"IF(INTRO!$E$39<>\"Non-endemic\", \" \", IF(INTRO!$E$37=\"Non-endemic\",\" \", IF(COUNTRY_INFO!C173=0,\" \",COUNTRY_INFO!C173)))","v":" "},{"$f":"IF(INTRO!$E$39<>\"Non-endemic\", 0, IF(INTRO!$E$37=\"Non-endemic\",0,IF(COUNTRY_INFO!$H173=1,COUNTRY_INFO!E173,0)))","v":0},{"$f":"IF(INTRO!$E$39<>\"Non-endemic\", 0, IF(INTRO!$E$37=\"Non-endemic\",0,IF(COUNTRY_INFO!$H173=1,COUNTRY_INFO!F173,0)))","v":0},{"$f":"IF(INTRO!$E$39<>\"Non-endemic\", 0, IF(INTRO!$E$37=\"Non-endemic\",0,IF(COUNTRY_INFO!$H173=1,COUNTRY_INFO!G173,0)))","v":0},0,{"$f":"IF(INTRO!$E$39=\"Non-endemic\",IF(INTRO!$E$37=\"Non-endemic\",\"Not required\",COUNTRY_INFO!P173),\"Treat with IVM\")","v":"Treat with IVM"},0,0,null,0,0]
[{"$f":"IF(INTRO!$E$39<>\"Non-endemic\", \" \", IF(INTRO!$E$37=\"Non-endemic\",\" \", IF(COUNTRY_INFO!A174=0,\" \",COUNTRY_INFO!A174)))","v":" "},{"$f":"IF(INTRO!$E$39<>\"Non-endemic\", \" \", IF(INTRO!$E$37=\"Non-endemic\",\" \", IF(COUNTRY_INFO!B174=0,\" \",COUNTRY_INFO!B174)))","v":" "},{"$f":"IF(INTRO!$E$39<>\"Non-endemic\", \" \", IF(INTRO!$E$37=\"Non-endemic\",\" \", IF(COUNTRY_INFO!C174=0,\" \",COUNTRY_INFO!C174)))","v":" "},{"$f":"IF(INTRO!$E$39<>\"Non-endemic\", 0, IF(INTRO!$E$37=\"Non-endemic\",0,IF(COUNTRY_INFO!$H174=1,COUNTRY_INFO!E174,0)))","v":0},{"$f":"IF(INTRO!$E$39<>\"Non-endemic\", 0, IF(INTRO!$E$37=\"Non-endemic\",0,IF(COUNTRY_INFO!$H174=1,COUNTRY_INFO!F174,0)))","v":0},{"$f":"IF(INTRO!$E$39<>\"Non-endemic\", 0, IF(INTRO!$E$37=\"Non-endemic\",0,IF(COUNTRY_INFO!$H174=1,COUNTRY_INFO!G174,0)))","v":0},0,{"$f":"IF(INTRO!$E$39=\"Non-endemic\",IF(INTRO!$E$37=\"Non-endemic\",\"Not required\",COUNTRY_INFO!P174),\"Treat with IVM\")","v":"Treat with IVM"},0,0,null,0,0]
[{"$f":"IF(INTRO!$E$39<>\"Non-endemic\", \" \", IF(INTRO!$E$37=\"Non-endemic\",\" \", IF(COUNTRY_INFO!A175=0,\" \",COUNTRY_INFO!A175)))","v":" "},{"$f":"IF(INTRO!$E$39<>\"Non-endemic\", \" \", IF(INTRO!$E$37=\"Non-endemic\",\" \", IF(COUNTRY_INFO!B175=0,\" \",COUNTRY_INFO!B175)))","v":" "},{"$f":"IF(INTRO!$E$39<>\"Non-endemic\", \" \", IF(INTRO!$E$37=\"Non-endemic\",\" \", IF(COUNTRY_INFO!C175=0,\" \",COUNTRY_INFO!C175)))","v":" "},{"$f":"IF(INTRO!$E$39<>\"Non-endemic\", 0, IF(INTRO!$E$37=\"Non-endemic\",0,IF(COUNTRY_INFO!$H175=1,COUNTRY_INFO!E175,0)))","v":0},{"$f":"IF(INTRO!$E$39<>\"Non-endemic\", 0, IF(INTRO!$E$37=\"Non-endemic\",0,IF(COUNTRY_INFO!$H175=1,COUNTRY_INFO!F175,0)))","v":0},{"$f":"IF(INTRO!$E$39<>\"Non-endemic\", 0, IF(INTRO!$E$37=\"Non-endemic\",0,IF(COUNTRY_INFO!$H175=1,COUNTRY_INFO!G175,0)))","v":0},0,{"$f":"IF(INTRO!$E$39=\"Non-endemic\",IF(INTRO!$E$37=\"Non-endemic\",\"Not required\",COUNTRY_INFO!P175),\"Treat with IVM\")","v":"Treat with IVM"},0,0,null,0,0]
[{"$f":"IF(INTRO!$E$39<>\"Non-endemic\", \" \", IF(INTRO!$E$37=\"Non-endemic\",\" \", IF(COUNTRY_INFO!A176=0,\" \",COUNTRY_INFO!A176)))","v":" "},{"$f":"IF(INTRO!$E$39<>\"Non-endemic\", \" \", IF(INTRO!$E$37=\"Non-endemic\",\" \", IF(COUNTRY_INFO!B176=0,\" \",COUNTRY_INFO!B176)))","v":" "},{"$f":"IF(INTRO!$E$39<>\"Non-endemic\", \" \", IF(INTRO!$E$37=\"Non-endemic\",\" \", IF(COUNTRY_INFO!C176=0,\" \",COUNTRY_INFO!C176)))","v":" "},{"$f":"IF(INTRO!$E$39<>\"Non-endemic\", 0, IF(INTRO!$E$37=\"Non-endemic\",0,IF(COUNTRY_INFO!$H176=1,COUNTRY_INFO!E176,0)))","v":0},{"$f":"IF(INTRO!$E$39<>\"Non-endemic\", 0, IF(INTRO!$E$37=\"Non-endemic\",0,IF(COUNTRY_INFO!$H176=1,COUNTRY_INFO!F176,0)))","v":0},{"$f":"IF(INTRO!$E$39<>\"Non-endemic\", 0, IF(INTRO!$E$37=\"Non-endemic\",0,IF(COUNTRY_INFO!$H176=1,COUNTRY_INFO!G176,0)))","v":0},0,{"$f":"IF(INTRO!$E$39=\"Non-endemic\",IF(INTRO!$E$37=\"Non-endemic\",\"Not required\",COUNTRY_INFO!P176),\"Treat with IVM\")","v":"Treat with IVM"},0,0,null,0,0]
[{"$f":"IF(INTRO!$E$39<>\"Non-endemic\", \" \", IF(INTRO!$E$37=\"Non-endemic\",\" \", IF(COUNTRY_INFO!A177=0,\" \",COUNTRY_INFO!A177)))","v":" "},{"$f":"IF(INTRO!$E$39<>\"Non-endemic\", \" \", IF(INTRO!$E$37=\"Non-endemic\",\" \", IF(COUNTRY_INFO!B177=0,\" \",COUNTRY_INFO!B177)))","v":" "},{"$f":"IF(INTRO!$E$39<>\"Non-endemic\", \" \", IF(INTRO!$E$37=\"Non-endemic\",\" \", IF(COUNTRY_INFO!C177=0,\" \",COUNTRY_INFO!C177)))","v":" "},{"$f":"IF(INTRO!$E$39<>\"Non-endemic\", 0, IF(INTRO!$E$37=\"Non-endemic\",0,IF(COUNTRY_INFO!$H177=1,COUNTRY_INFO!E177,0)))","v":0},{"$f":"IF(INTRO!$E$39<>\"Non-endemic\", 0, IF(INTRO!$E$37=\"Non-endemic\",0,IF(COUNTRY_INFO!$H177=1,COUNTRY_INFO!F177,0)))","v":0},{"$f":"IF(INTRO!$E$39<>\"Non-endemic\", 0, IF(INTRO!$E$37=\"Non-endemic\",0,IF(COUNTRY_INFO!$H177=1,COUNTRY_INFO!G177,0)))","v":0},0,{"$f":"IF(INTRO!$E$39=\"Non-endemic\",IF(INTRO!$E$37=\"Non-endemic\",\"Not required\",COUNTRY_INFO!P177),\"Treat with IVM\")","v":"Treat with IVM"},0,0,null,0,0]
[{"$f":"IF(INTRO!$E$39<>\"Non-endemic\", \" \", IF(INTRO!$E$37=\"Non-endemic\",\" \", IF(COUNTRY_INFO!A178=0,\" \",COUNTRY_INFO!A178)))","v":" "},{"$f":"IF(INTRO!$E$39<>\"Non-endemic\", \" \", IF(INTRO!$E$37=\"Non-endemic\",\" \", IF(COUNTRY_INFO!B178=0,\" \",COUNTRY_INFO!B178)))","v":" "},{"$f":"IF(INTRO!$E$39<>\"Non-endemic\", \" \", IF(INTRO!$E$37=\"Non-endemic\",\" \", IF(COUNTRY_INFO!C178=0,\" \",COUNTRY_INFO!C178)))","v":" "},{"$f":"IF(INTRO!$E$39<>\"Non-endemic\", 0, IF(INTRO!$E$37=\"Non-endemic\",0,IF(COUNTRY_INFO!$H178=1,COUNTRY_INFO!E178,0)))","v":0},{"$f":"IF(INTRO!$E$39<>\"Non-endemic\", 0, IF(INTRO!$E$37=\"Non-endemic\",0,IF(COUNTRY_INFO!$H178=1,COUNTRY_INFO!F178,0)))","v":0},{"$f":"IF(INTRO!$E$39<>\"Non-endemic\", 0, IF(INTRO!$E$37=\"Non-endemic\",0,IF(COUNTRY_INFO!$H178=1,COUNTRY_INFO!G178,0)))","v":0},0,{"$f":"IF(INTRO!$E$39=\"Non-endemic\",IF(INTRO!$E$37=\"Non-endemic\",\"Not required\",COUNTRY_INFO!P178),\"Treat with IVM\")","v":"Treat with IVM"},0,0,null,0,0]
[{"$f":"IF(INTRO!$E$39<>\"Non-endemic\", \" \", IF(INTRO!$E$37=\"Non-endemic\",\" \", IF(COUNTRY_INFO!A179=0,\" \",COUNTRY_INFO!A179)))","v":" "},{"$f":"IF(INTRO!$E$39<>\"Non-endemic\", \" \", IF(INTRO!$E$37=\"Non-endemic\",\" \", IF(COUNTRY_INFO!B179=0,\" \",COUNTRY_INFO!B179)))","v":" "},{"$f":"IF(INTRO!$E$39<>\"Non-endemic\", \" \", IF(INTRO!$E$37=\"Non-endemic\",\" \", IF(COUNTRY_INFO!C179=0,\" \",COUNTRY_INFO!C179)))","v":" "},{"$f":"IF(INTRO!$E$39<>\"Non-endemic\", 0, IF(INTRO!$E$37=\"Non-endemic\",0,IF(COUNTRY_INFO!$H179=1,COUNTRY_INFO!E179,0)))","v":0},{"$f":"IF(INTRO!$E$39<>\"Non-endemic\", 0, IF(INTRO!$E$37=\"Non-endemic\",0,IF(COUNTRY_INFO!$H179=1,COUNTRY_INFO!F179,0)))","v":0},{"$f":"IF(INTRO!$E$39<>\"Non-endemic\", 0, IF(INTRO!$E$37=\"Non-endemic\",0,IF(COUNTRY_INFO!$H179=1,COUNTRY_INFO!G179,0)))","v":0},0,{"$f":"IF(INTRO!$E$39=\"Non-endemic\",IF(INTRO!$E$37=\"Non-endemic\",\"Not required\",COUNTRY_INFO!P179),\"Treat with IVM\")","v":"Treat with IVM"},0,0,null,0,0]
[{"$f":"IF(INTRO!$E$39<>\"Non-endemic\", \" \", IF(INTRO!$E$37=\"Non-endemic\",\" \", IF(COUNTRY_INFO!A180=0,\" \",COUNTRY_INFO!A180)))","v":" "},{"$f":"IF(INTRO!$E$39<>\"Non-endemic\", \" \", IF(INTRO!$E$37=\"Non-endemic\",\" \", IF(COUNTRY_INFO!B180=0,\" \",COUNTRY_INFO!B180)))","v":" "},{"$f":"IF(INTRO!$E$39<>\"Non-endemic\", \" \", IF(INTRO!$E$37=\"Non-endemic\",\" \", IF(COUNTRY_INFO!C180=0,\" \",COUNTRY_INFO!C180)))","v":" "},{"$f":"IF(INTRO!$E$39<>\"Non-endemic\", 0, IF(INTRO!$E$37=\"Non-endemic\",0,IF(COUNTRY_INFO!$H180=1,COUNTRY_INFO!E180,0)))","v":0},{"$f":"IF(INTRO!$E$39<>\"Non-endemic\", 0, IF(INTRO!$E$37=\"Non-endemic\",0,IF(COUNTRY_INFO!$H180=1,COUNTRY_INFO!F180,0)))","v":0},{"$f":"IF(INTRO!$E$39<>\"Non-endemic\", 0, IF(INTRO!$E$37=\"Non-endemic\",0,IF(COUNTRY_INFO!$H180=1,COUNTRY_INFO!G180,0)))","v":0},0,{"$f":"IF(INTRO!$E$39=\"Non-endemic\",IF(INTRO!$E$37=\"Non-endemic\",\"Not required\",COUNTRY_INFO!P180),\"Treat with IVM\")","v":"Treat with IVM"},0,0,null,0,0]
[{"$f":"IF(INTRO!$E$39<>\"Non-endemic\", \" \", IF(INTRO!$E$37=\"Non-endemic\",\" \", IF(COUNTRY_INFO!A181=0,\" \",COUNTRY_INFO!A181)))","v":" "},{"$f":"IF(INTRO!$E$39<>\"Non-endemic\", \" \", IF(INTRO!$E$37=\"Non-endemic\",\" \", IF(COUNTRY_INFO!B181=0,\" \",COUNTRY_INFO!B181)))","v":" "},{"$f":"IF(INTRO!$E$39<>\"Non-endemic\", \" \", IF(INTRO!$E$37=\"Non-endemic\",\" \", IF(COUNTRY_INFO!C181=0,\" \",COUNTRY_INFO!C181)))","v":" "},{"$f":"IF(INTRO!$E$39<>\"Non-endemic\", 0, IF(INTRO!$E$37=\"Non-endemic\",0,IF(COUNTRY_INFO!$H181=1,COUNTRY_INFO!E181,0)))","v":0},{"$f":"IF(INTRO!$E$39<>\"Non-endemic\", 0, IF(INTRO!$E$37=\"Non-endemic\",0,IF(COUNTRY_INFO!$H181=1,COUNTRY_INFO!F181,0)))","v":0},{"$f":"IF(INTRO!$E$39<>\"Non-endemic\", 0, IF(INTRO!$E$37=\"Non-endemic\",0,IF(COUNTRY_INFO!$H181=1,COUNTRY_INFO!G181,0)))","v":0},0,{"$f":"IF(INTRO!$E$39=\"Non-endemic\",IF(INTRO!$E$37=\"Non-endemic\",\"Not required\",COUNTRY_INFO!P181),\"Treat with IVM\")","v":"Treat with IVM"},0,0,null,0,0]
[{"$f":"IF(INTRO!$E$39<>\"Non-endemic\", \" \", IF(INTRO!$E$37=\"Non-endemic\",\" \", IF(COUNTRY_INFO!A182=0,\" \",COUNTRY_INFO!A182)))","v":" "},{"$f":"IF(INTRO!$E$39<>\"Non-endemic\", \" \", IF(INTRO!$E$37=\"Non-endemic\",\" \", IF(COUNTRY_INFO!B182=0,\" \",COUNTRY_INFO!B182)))","v":" "},{"$f":"IF(INTRO!$E$39<>\"Non-endemic\", \" \", IF(INTRO!$E$37=\"Non-endemic\",\" \", IF(COUNTRY_INFO!C182=0,\" \",COUNTRY_INFO!C182)))","v":" "},{"$f":"IF(INTRO!$E$39<>\"Non-endemic\", 0, IF(INTRO!$E$37=\"Non-endemic\",0,IF(COUNTRY_INFO!$H182=1,COUNTRY_INFO!E182,0)))","v":0},{"$f":"IF(INTRO!$E$39<>\"Non-endemic\", 0, IF(INTRO!$E$37=\"Non-endemic\",0,IF(COUNTRY_INFO!$H182=1,COUNTRY_INFO!F182,0)))","v":0},{"$f":"IF(INTRO!$E$39<>\"Non-endemic\", 0, IF(INTRO!$E$37=\"Non-endemic\",0,IF(COUNTRY_INFO!$H182=1,COUNTRY_INFO!G182,0)))","v":0},0,{"$f":"IF(INTRO!$E$39=\"Non-endemic\",IF(INTRO!$E$37=\"Non-endemic\",\"Not required\",COUNTRY_INFO!P182),\"Treat with IVM\")","v":"Treat with IVM"},0,0,null,0,0]
[{"$f":"IF(INTRO!$E$39<>\"Non-endemic\", \" \", IF(INTRO!$E$37=\"Non-endemic\",\" \", IF(COUNTRY_INFO!A183=0,\" \",COUNTRY_INFO!A183)))","v":" "},{"$f":"IF(INTRO!$E$39<>\"Non-endemic\", \" \", IF(INTRO!$E$37=\"Non-endemic\",\" \", IF(COUNTRY_INFO!B183=0,\" \",COUNTRY_INFO!B183)))","v":" "},{"$f":"IF(INTRO!$E$39<>\"Non-endemic\", \" \", IF(INTRO!$E$37=\"Non-endemic\",\" \", IF(COUNTRY_INFO!C183=0,\" \",COUNTRY_INFO!C183)))","v":" "},{"$f":"IF(INTRO!$E$39<>\"Non-endemic\", 0, IF(INTRO!$E$37=\"Non-endemic\",0,IF(COUNTRY_INFO!$H183=1,COUNTRY_INFO!E183,0)))","v":0},{"$f":"IF(INTRO!$E$39<>\"Non-endemic\", 0, IF(INTRO!$E$37=\"Non-endemic\",0,IF(COUNTRY_INFO!$H183=1,COUNTRY_INFO!F183,0)))","v":0},{"$f":"IF(INTRO!$E$39<>\"Non-endemic\", 0, IF(INTRO!$E$37=\"Non-endemic\",0,IF(COUNTRY_INFO!$H183=1,COUNTRY_INFO!G183,0)))","v":0},0,{"$f":"IF(INTRO!$E$39=\"Non-endemic\",IF(INTRO!$E$37=\"Non-endemic\",\"Not required\",COUNTRY_INFO!P183),\"Treat with IVM\")","v":"Treat with IVM"},0,0,null,0,0]
[{"$f":"IF(INTRO!$E$39<>\"Non-endemic\", \" \", IF(INTRO!$E$37=\"Non-endemic\",\" \", IF(COUNTRY_INFO!A184=0,\" \",COUNTRY_INFO!A184)))","v":" "},{"$f":"IF(INTRO!$E$39<>\"Non-endemic\", \" \", IF(INTRO!$E$37=\"Non-endemic\",\" \", IF(COUNTRY_INFO!B184=0,\" \",COUNTRY_INFO!B184)))","v":" "},{"$f":"IF(INTRO!$E$39<>\"Non-endemic\", \" \", IF(INTRO!$E$37=\"Non-endemic\",\" \", IF(COUNTRY_INFO!C184=0,\" \",COUNTRY_INFO!C184)))","v":" "},{"$f":"IF(INTRO!$E$39<>\"Non-endemic\", 0, IF(INTRO!$E$37=\"Non-endemic\",0,IF(COUNTRY_INFO!$H184=1,COUNTRY_INFO!E184,0)))","v":0},{"$f":"IF(INTRO!$E$39<>\"Non-endemic\", 0, IF(INTRO!$E$37=\"Non-endemic\",0,IF(COUNTRY_INFO!$H184=1,COUNTRY_INFO!F184,0)))","v":0},{"$f":"IF(INTRO!$E$39<>\"Non-endemic\", 0, IF(INTRO!$E$37=\"Non-endemic\",0,IF(COUNTRY_INFO!$H184=1,COUNTRY_INFO!G184,0)))","v":0},0,{"$f":"IF(INTRO!$E$39=\"Non-endemic\",IF(INTRO!$E$37=\"Non-endemic\",\"Not required\",COUNTRY_INFO!P184),\"Treat with IVM\")","v":"Treat with IVM"},0,0,null,0,0]
[{"$f":"IF(INTRO!$E$39<>\"Non-endemic\", \" \", IF(INTRO!$E$37=\"Non-endemic\",\" \", IF(COUNTRY_INFO!A185=0,\" \",COUNTRY_INFO!A185)))","v":" "},{"$f":"IF(INTRO!$E$39<>\"Non-endemic\", \" \", IF(INTRO!$E$37=\"Non-endemic\",\" \", IF(COUNTRY_INFO!B185=0,\" \",COUNTRY_INFO!B185)))","v":" "},{"$f":"IF(INTRO!$E$39<>\"Non-endemic\", \" \", IF(INTRO!$E$37=\"Non-endemic\",\" \", IF(COUNTRY_INFO!C185=0,\" \",COUNTRY_INFO!C185)))","v":" "},{"$f":"IF(INTRO!$E$39<>\"Non-endemic\", 0, IF(INTRO!$E$37=\"Non-endemic\",0,IF(COUNTRY_INFO!$H185=1,COUNTRY_INFO!E185,0)))","v":0},{"$f":"IF(INTRO!$E$39<>\"Non-endemic\", 0, IF(INTRO!$E$37=\"Non-endemic\",0,IF(COUNTRY_INFO!$H185=1,COUNTRY_INFO!F185,0)))","v":0},{"$f":"IF(INTRO!$E$39<>\"Non-endemic\", 0, IF(INTRO!$E$37=\"Non-endemic\",0,IF(COUNTRY_INFO!$H185=1,COUNTRY_INFO!G185,0)))","v":0},0,{"$f":"IF(INTRO!$E$39=\"Non-endemic\",IF(INTRO!$E$37=\"Non-endemic\",\"Not required\",COUNTRY_INFO!P185),\"Treat with IVM\")","v":"Treat with IVM"},0,0,null,0,0]
[{"$f":"IF(INTRO!$E$39<>\"Non-endemic\", \" \", IF(INTRO!$E$37=\"Non-endemic\",\" \", IF(COUNTRY_INFO!A186=0,\" \",COUNTRY_INFO!A186)))","v":" "},{"$f":"IF(INTRO!$E$39<>\"Non-endemic\", \" \", IF(INTRO!$E$37=\"Non-endemic\",\" \", IF(COUNTRY_INFO!B186=0,\" \",COUNTRY_INFO!B186)))","v":" "},{"$f":"IF(INTRO!$E$39<>\"Non-endemic\", \" \", IF(INTRO!$E$37=\"Non-endemic\",\" \", IF(COUNTRY_INFO!C186=0,\" \",COUNTRY_INFO!C186)))","v":" "},{"$f":"IF(INTRO!$E$39<>\"Non-endemic\", 0, IF(INTRO!$E$37=\"Non-endemic\",0,IF(COUNTRY_INFO!$H186=1,COUNTRY_INFO!E186,0)))","v":0},{"$f":"IF(INTRO!$E$39<>\"Non-endemic\", 0, IF(INTRO!$E$37=\"Non-endemic\",0,IF(COUNTRY_INFO!$H186=1,COUNTRY_INFO!F186,0)))","v":0},{"$f":"IF(INTRO!$E$39<>\"Non-endemic\", 0, IF(INTRO!$E$37=\"Non-endemic\",0,IF(COUNTRY_INFO!$H186=1,COUNTRY_INFO!G186,0)))","v":0},0,{"$f":"IF(INTRO!$E$39=\"Non-endemic\",IF(INTRO!$E$37=\"Non-endemic\",\"Not required\",COUNTRY_INFO!P186),\"Treat with IVM\")","v":"Treat with IVM"},0,0,null,0,0]
[{"$f":"IF(INTRO!$E$39<>\"Non-endemic\", \" \", IF(INTRO!$E$37=\"Non-endemic\",\" \", IF(COUNTRY_INFO!A187=0,\" \",COUNTRY_INFO!A187)))","v":" "},{"$f":"IF(INTRO!$E$39<>\"Non-endemic\", \" \", IF(INTRO!$E$37=\"Non-endemic\",\" \", IF(COUNTRY_INFO!B187=0,\" \",COUNTRY_INFO!B187)))","v":" "},{"$f":"IF(INTRO!$E$39<>\"Non-endemic\", \" \", IF(INTRO!$E$37=\"Non-endemic\",\" \", IF(COUNTRY_INFO!C187=0,\" \",COUNTRY_INFO!C187)))","v":" "},{"$f":"IF(INTRO!$E$39<>\"Non-endemic\", 0, IF(INTRO!$E$37=\"Non-endemic\",0,IF(COUNTRY_INFO!$H187=1,COUNTRY_INFO!E187,0)))","v":0},{"$f":"IF(INTRO!$E$39<>\"Non-endemic\", 0, IF(INTRO!$E$37=\"Non-endemic\",0,IF(COUNTRY_INFO!$H187=1,COUNTRY_INFO!F187,0)))","v":0},{"$f":"IF(INTRO!$E$39<>\"Non-endemic\", 0, IF(INTRO!$E$37=\"Non-endemic\",0,IF(COUNTRY_INFO!$H187=1,COUNTRY_INFO!G187,0)))","v":0},0,{"$f":"IF(INTRO!$E$39=\"Non-endemic\",IF(INTRO!$E$37=\"Non-endemic\",\"Not required\",COUNTRY_INFO!P187),\"Treat with IVM\")","v":"Treat with IVM"},0,0,null,0,0]
[{"$f":"IF(INTRO!$E$39<>\"Non-endemic\", \" \", IF(INTRO!$E$37=\"Non-endemic\",\" \", IF(COUNTRY_INFO!A188=0,\" \",COUNTRY_INFO!A188)))","v":" "},{"$f":"IF(INTRO!$E$39<>\"Non-endemic\", \" \", IF(INTRO!$E$37=\"Non-endemic\",\" \", IF(COUNTRY_INFO!B188=0,\" \",COUNTRY_INFO!B188)))","v":" "},{"$f":"IF(INTRO!$E$39<>\"Non-endemic\", \" \", IF(INTRO!$E$37=\"Non-endemic\",\" \", IF(COUNTRY_INFO!C188=0,\" \",COUNTRY_INFO!C188)))","v":" "},{"$f":"IF(INTRO!$E$39<>\"Non-endemic\", 0, IF(INTRO!$E$37=\"Non-endemic\",0,IF(COUNTRY_INFO!$H188=1,COUNTRY_INFO!E188,0)))","v":0},{"$f":"IF(INTRO!$E$39<>\"Non-endemic\", 0, IF(INTRO!$E$37=\"Non-endemic\",0,IF(COUNTRY_INFO!$H188=1,COUNTRY_INFO!F188,0)))","v":0},{"$f":"IF(INTRO!$E$39<>\"Non-endemic\", 0, IF(INTRO!$E$37=\"Non-endemic\",0,IF(COUNTRY_INFO!$H188=1,COUNTRY_INFO!G188,0)))","v":0},0,{"$f":"IF(INTRO!$E$39=\"Non-endemic\",IF(INTRO!$E$37=\"Non-endemic\",\"Not required\",COUNTRY_INFO!P188),\"Treat with IVM\")","v":"Treat with IVM"},0,0,null,0,0]
[{"$f":"IF(INTRO!$E$39<>\"Non-endemic\", \" \", IF(INTRO!$E$37=\"Non-endemic\",\" \", IF(COUNTRY_INFO!A189=0,\" \",COUNTRY_INFO!A189)))","v":" "},{"$f":"IF(INTRO!$E$39<>\"Non-endemic\", \" \", IF(INTRO!$E$37=\"Non-endemic\",\" \", IF(COUNTRY_INFO!B189=0,\" \",COUNTRY_INFO!B189)))","v":" "},{"$f":"IF(INTRO!$E$39<>\"Non-endemic\", \" \", IF(INTRO!$E$37=\"Non-endemic\",\" \", IF(COUNTRY_INFO!C189=0,\" \",COUNTRY_INFO!C189)))","v":" "},{"$f":"IF(INTRO!$E$39<>\"Non-endemic\", 0, IF(INTRO!$E$37=\"Non-endemic\",0,IF(COUNTRY_INFO!$H189=1,COUNTRY_INFO!E189,0)))","v":0},{"$f":"IF(INTRO!$E$39<>\"Non-endemic\", 0, IF(INTRO!$E$37=\"Non-endemic\",0,IF(COUNTRY_INFO!$H189=1,COUNTRY_INFO!F189,0)))","v":0},{"$f":"IF(INTRO!$E$39<>\"Non-endemic\", 0, IF(INTRO!$E$37=\"Non-endemic\",0,IF(COUNTRY_INFO!$H189=1,COUNTRY_INFO!G189,0)))","v":0},0,{"$f":"IF(INTRO!$E$39=\"Non-endemic\",IF(INTRO!$E$37=\"Non-endemic\",\"Not required\",COUNTRY_INFO!P189),\"Treat with IVM\")","v":"Treat with IVM"},0,0,null,0,0]
[{"$f":"IF(INTRO!$E$39<>\"Non-endemic\", \" \", IF(INTRO!$E$37=\"Non-endemic\",\" \", IF(COUNTRY_INFO!A190=0,\" \",COUNTRY_INFO!A190)))","v":" "},{"$f":"IF(INTRO!$E$39<>\"Non-endemic\", \" \", IF(INTRO!$E$37=\"Non-endemic\",\" \", IF(COUNTRY_INFO!B190=0,\" \",COUNTRY_INFO!B190)))","v":" "},{"$f":"IF(INTRO!$E$39<>\"Non-endemic\", \" \", IF(INTRO!$E$37=\"Non-endemic\",\" \", IF(COUNTRY_INFO!C190=0,\" \",COUNTRY_INFO!C190)))","v":" "},{"$f":"IF(INTRO!$E$39<>\"Non-endemic\", 0, IF(INTRO!$E$37=\"Non-endemic\",0,IF(COUNTRY_INFO!$H190=1,COUNTRY_INFO!E190,0)))","v":0},{"$f":"IF(INTRO!$E$39<>\"Non-endemic\", 0, IF(INTRO!$E$37=\"Non-endemic\",0,IF(COUNTRY_INFO!$H190=1,COUNTRY_INFO!F190,0)))","v":0},{"$f":"IF(INTRO!$E$39<>\"Non-endemic\", 0, IF(INTRO!$E$37=\"Non-endemic\",0,IF(COUNTRY_INFO!$H190=1,COUNTRY_INFO!G190,0)))","v":0},0,{"$f":"IF(INTRO!$E$39=\"Non-endemic\",IF(INTRO!$E$37=\"Non-endemic\",\"Not required\",COUNTRY_INFO!P190),\"Treat with IVM\")","v":"Treat with IVM"},0,0,null,0,0]
[{"$f":"IF(INTRO!$E$39<>\"Non-endemic\", \" \", IF(INTRO!$E$37=\"Non-endemic\",\" \", IF(COUNTRY_INFO!A191=0,\" \",COUNTRY_INFO!A191)))","v":" "},{"$f":"IF(INTRO!$E$39<>\"Non-endemic\", \" \", IF(INTRO!$E$37=\"Non-endemic\",\" \", IF(COUNTRY_INFO!B191=0,\" \",COUNTRY_INFO!B191)))","v":" "},{"$f":"IF(INTRO!$E$39<>\"Non-endemic\", \" \", IF(INTRO!$E$37=\"Non-endemic\",\" \", IF(COUNTRY_INFO!C191=0,\" \",COUNTRY_INFO!C191)))","v":" "},{"$f":"IF(INTRO!$E$39<>\"Non-endemic\", 0, IF(INTRO!$E$37=\"Non-endemic\",0,IF(COUNTRY_INFO!$H191=1,COUNTRY_INFO!E191,0)))","v":0},{"$f":"IF(INTRO!$E$39<>\"Non-endemic\", 0, IF(INTRO!$E$37=\"Non-endemic\",0,IF(COUNTRY_INFO!$H191=1,COUNTRY_INFO!F191,0)))","v":0},{"$f":"IF(INTRO!$E$39<>\"Non-endemic\", 0, IF(INTRO!$E$37=\"Non-endemic\",0,IF(COUNTRY_INFO!$H191=1,COUNTRY_INFO!G191,0)))","v":0},0,{"$f":"IF(INTRO!$E$39=\"Non-endemic\",IF(INTRO!$E$37=\"Non-endemic\",\"Not required\",COUNTRY_INFO!P191),\"Treat with IVM\")","v":"Treat with IVM"},0,0,null,0,0]
[{"$f":"IF(INTRO!$E$39<>\"Non-endemic\", \" \", IF(INTRO!$E$37=\"Non-endemic\",\" \", IF(COUNTRY_INFO!A192=0,\" \",COUNTRY_INFO!A192)))","v":" "},{"$f":"IF(INTRO!$E$39<>\"Non-endemic\", \" \", IF(INTRO!$E$37=\"Non-endemic\",\" \", IF(COUNTRY_INFO!B192=0,\" \",COUNTRY_INFO!B192)))","v":" "},{"$f":"IF(INTRO!$E$39<>\"Non-endemic\", \" \", IF(INTRO!$E$37=\"Non-endemic\",\" \", IF(COUNTRY_INFO!C192=0,\" \",COUNTRY_INFO!C192)))","v":" "},{"$f":"IF(INTRO!$E$39<>\"Non-endemic\", 0, IF(INTRO!$E$37=\"Non-endemic\",0,IF(COUNTRY_INFO!$H192=1,COUNTRY_INFO!E192,0)))","v":0},{"$f":"IF(INTRO!$E$39<>\"Non-endemic\", 0, IF(INTRO!$E$37=\"Non-endemic\",0,IF(COUNTRY_INFO!$H192=1,COUNTRY_INFO!F192,0)))","v":0},{"$f":"IF(INTRO!$E$39<>\"Non-endemic\", 0, IF(INTRO!$E$37=\"Non-endemic\",0,IF(COUNTRY_INFO!$H192=1,COUNTRY_INFO!G192,0)))","v":0},0,{"$f":"IF(INTRO!$E$39=\"Non-endemic\",IF(INTRO!$E$37=\"Non-endemic\",\"Not required\",COUNTRY_INFO!P192),\"Treat with IVM\")","v":"Treat with IVM"},0,0,null,0,0]
[{"$f":"IF(INTRO!$E$39<>\"Non-endemic\", \" \", IF(INTRO!$E$37=\"Non-endemic\",\" \", IF(COUNTRY_INFO!A193=0,\" \",COUNTRY_INFO!A193)))","v":" "},{"$f":"IF(INTRO!$E$39<>\"Non-endemic\", \" \", IF(INTRO!$E$37=\"Non-endemic\",\" \", IF(COUNTRY_INFO!B193=0,\" \",COUNTRY_INFO!B193)))","v":" "},{"$f":"IF(INTRO!$E$39<>\"Non-endemic\", \" \", IF(INTRO!$E$37=\"Non-endemic\",\" \", IF(COUNTRY_INFO!C193=0,\" \",COUNTRY_INFO!C193)))","v":" "},{"$f":"IF(INTRO!$E$39<>\"Non-endemic\", 0, IF(INTRO!$E$37=\"Non-endemic\",0,IF(COUNTRY_INFO!$H193=1,COUNTRY_INFO!E193,0)))","v":0},{"$f":"IF(INTRO!$E$39<>\"Non-endemic\", 0, IF(INTRO!$E$37=\"Non-endemic\",0,IF(COUNTRY_INFO!$H193=1,COUNTRY_INFO!F193,0)))","v":0},{"$f":"IF(INTRO!$E$39<>\"Non-endemic\", 0, IF(INTRO!$E$37=\"Non-endemic\",0,IF(COUNTRY_INFO!$H193=1,COUNTRY_INFO!G193,0)))","v":0},0,{"$f":"IF(INTRO!$E$39=\"Non-endemic\",IF(INTRO!$E$37=\"Non-endemic\",\"Not required\",COUNTRY_INFO!P193),\"Treat with IVM\")","v":"Treat with IVM"},0,0,null,0,0]
[{"$f":"IF(INTRO!$E$39<>\"Non-endemic\", \" \", IF(INTRO!$E$37=\"Non-endemic\",\" \", IF(COUNTRY_INFO!A194=0,\" \",COUNTRY_INFO!A194)))","v":" "},{"$f":"IF(INTRO!$E$39<>\"Non-endemic\", \" \", IF(INTRO!$E$37=\"Non-endemic\",\" \", IF(COUNTRY_INFO!B194=0,\" \",COUNTRY_INFO!B194)))","v":" "},{"$f":"IF(INTRO!$E$39<>\"Non-endemic\", \" \", IF(INTRO!$E$37=\"Non-endemic\",\" \", IF(COUNTRY_INFO!C194=0,\" \",COUNTRY_INFO!C194)))","v":" "},{"$f":"IF(INTRO!$E$39<>\"Non-endemic\", 0, IF(INTRO!$E$37=\"Non-endemic\",0,IF(COUNTRY_INFO!$H194=1,COUNTRY_INFO!E194,0)))","v":0},{"$f":"IF(INTRO!$E$39<>\"Non-endemic\", 0, IF(INTRO!$E$37=\"Non-endemic\",0,IF(COUNTRY_INFO!$H194=1,COUNTRY_INFO!F194,0)))","v":0},{"$f":"IF(INTRO!$E$39<>\"Non-endemic\", 0, IF(INTRO!$E$37=\"Non-endemic\",0,IF(COUNTRY_INFO!$H194=1,COUNTRY_INFO!G194,0)))","v":0},0,{"$f":"IF(INTRO!$E$39=\"Non-endemic\",IF(INTRO!$E$37=\"Non-endemic\",\"Not required\",COUNTRY_INFO!P194),\"Treat with IVM\")","v":"Treat with IVM"},0,0,null,0,0]
[{"$f":"IF(INTRO!$E$39<>\"Non-endemic\", \" \", IF(INTRO!$E$37=\"Non-endemic\",\" \", IF(COUNTRY_INFO!A195=0,\" \",COUNTRY_INFO!A195)))","v":" "},{"$f":"IF(INTRO!$E$39<>\"Non-endemic\", \" \", IF(INTRO!$E$37=\"Non-endemic\",\" \", IF(COUNTRY_INFO!B195=0,\" \",COUNTRY_INFO!B195)))","v":" "},{"$f":"IF(INTRO!$E$39<>\"Non-endemic\", \" \", IF(INTRO!$E$37=\"Non-endemic\",\" \", IF(COUNTRY_INFO!C195=0,\" \",COUNTRY_INFO!C195)))","v":" "},{"$f":"IF(INTRO!$E$39<>\"Non-endemic\", 0, IF(INTRO!$E$37=\"Non-endemic\",0,IF(COUNTRY_INFO!$H195=1,COUNTRY_INFO!E195,0)))","v":0},{"$f":"IF(INTRO!$E$39<>\"Non-endemic\", 0, IF(INTRO!$E$37=\"Non-endemic\",0,IF(COUNTRY_INFO!$H195=1,COUNTRY_INFO!F195,0)))","v":0},{"$f":"IF(INTRO!$E$39<>\"Non-endemic\", 0, IF(INTRO!$E$37=\"Non-endemic\",0,IF(COUNTRY_INFO!$H195=1,COUNTRY_INFO!G195,0)))","v":0},0,{"$f":"IF(INTRO!$E$39=\"Non-endemic\",IF(INTRO!$E$37=\"Non-endemic\",\"Not required\",COUNTRY_INFO!P195),\"Treat with IVM\")","v":"Treat with IVM"},0,0,null,0,0]
[{"$f":"IF(INTRO!$E$39<>\"Non-endemic\", \" \", IF(INTRO!$E$37=\"Non-endemic\",\" \", IF(COUNTRY_INFO!A196=0,\" \",COUNTRY_INFO!A196)))","v":" "},{"$f":"IF(INTRO!$E$39<>\"Non-endemic\", \" \", IF(INTRO!$E$37=\"Non-endemic\",\" \", IF(COUNTRY_INFO!B196=0,\" \",COUNTRY_INFO!B196)))","v":" "},{"$f":"IF(INTRO!$E$39<>\"Non-endemic\", \" \", IF(INTRO!$E$37=\"Non-endemic\",\" \", IF(COUNTRY_INFO!C196=0,\" \",COUNTRY_INFO!C196)))","v":" "},{"$f":"IF(INTRO!$E$39<>\"Non-endemic\", 0, IF(INTRO!$E$37=\"Non-endemic\",0,IF(COUNTRY_INFO!$H196=1,COUNTRY_INFO!E196,0)))","v":0},{"$f":"IF(INTRO!$E$39<>\"Non-endemic\", 0, IF(INTRO!$E$37=\"Non-endemic\",0,IF(COUNTRY_INFO!$H196=1,COUNTRY_INFO!F196,0)))","v":0},{"$f":"IF(INTRO!$E$39<>\"Non-endemic\", 0, IF(INTRO!$E$37=\"Non-endemic\",0,IF(COUNTRY_INFO!$H196=1,COUNTRY_INFO!G196,0)))","v":0},0,{"$f":"IF(INTRO!$E$39=\"Non-endemic\",IF(INTRO!$E$37=\"Non-endemic\",\"Not required\",COUNTRY_INFO!P196),\"Treat with IVM\")","v":"Treat with IVM"},0,0,null,0,0]
[{"$f":"IF(INTRO!$E$39<>\"Non-endemic\", \" \", IF(INTRO!$E$37=\"Non-endemic\",\" \", IF(COUNTRY_INFO!A197=0,\" \",COUNTRY_INFO!A197)))","v":" "},{"$f":"IF(INTRO!$E$39<>\"Non-endemic\", \" \", IF(INTRO!$E$37=\"Non-endemic\",\" \", IF(COUNTRY_INFO!B197=0,\" \",COUNTRY_INFO!B197)))","v":" "},{"$f":"IF(INTRO!$E$39<>\"Non-endemic\", \" \", IF(INTRO!$E$37=\"Non-endemic\",\" \", IF(COUNTRY_INFO!C197=0,\" \",COUNTRY_INFO!C197)))","v":" "},{"$f":"IF(INTRO!$E$39<>\"Non-endemic\", 0, IF(INTRO!$E$37=\"Non-endemic\",0,IF(COUNTRY_INFO!$H197=1,COUNTRY_INFO!E197,0)))","v":0},{"$f":"IF(INTRO!$E$39<>\"Non-endemic\", 0, IF(INTRO!$E$37=\"Non-endemic\",0,IF(COUNTRY_INFO!$H197=1,COUNTRY_INFO!F197,0)))","v":0},{"$f":"IF(INTRO!$E$39<>\"Non-endemic\", 0, IF(INTRO!$E$37=\"Non-endemic\",0,IF(COUNTRY_INFO!$H197=1,COUNTRY_INFO!G197,0)))","v":0},0,{"$f":"IF(INTRO!$E$39=\"Non-endemic\",IF(INTRO!$E$37=\"Non-endemic\",\"Not required\",COUNTRY_INFO!P197),\"Treat with IVM\")","v":"Treat with IVM"},0,0,null,0,0]
[{"$f":"IF(INTRO!$E$39<>\"Non-endemic\", \" \", IF(INTRO!$E$37=\"Non-endemic\",\" \", IF(COUNTRY_INFO!A198=0,\" \",COUNTRY_INFO!A198)))","v":" "},{"$f":"IF(INTRO!$E$39<>\"Non-endemic\", \" \", IF(INTRO!$E$37=\"Non-endemic\",\" \", IF(COUNTRY_INFO!B198=0,\" \",COUNTRY_INFO!B198)))","v":" "},{"$f":"IF(INTRO!$E$39<>\"Non-endemic\", \" \", IF(INTRO!$E$37=\"Non-endemic\",\" \", IF(COUNTRY_INFO!C198=0,\" \",COUNTRY_INFO!C198)))","v":" "},{"$f":"IF(INTRO!$E$39<>\"Non-endemic\", 0, IF(INTRO!$E$37=\"Non-endemic\",0,IF(COUNTRY_INFO!$H198=1,COUNTRY_INFO!E198,0)))","v":0},{"$f":"IF(INTRO!$E$39<>\"Non-endemic\", 0, IF(INTRO!$E$37=\"Non-endemic\",0,IF(COUNTRY_INFO!$H198=1,COUNTRY_INFO!F198,0)))","v":0},{"$f":"IF(INTRO!$E$39<>\"Non-endemic\", 0, IF(INTRO!$E$37=\"Non-endemic\",0,IF(COUNTRY_INFO!$H198=1,COUNTRY_INFO!G198,0)))","v":0},0,{"$f":"IF(INTRO!$E$39=\"Non-endemic\",IF(INTRO!$E$37=\"Non-endemic\",\"Not required\",COUNTRY_INFO!P198),\"Treat with IVM\")","v":"Treat with IVM"},0,0,null,0,0]
[{"$f":"IF(INTRO!$E$39<>\"Non-endemic\", \" \", IF(INTRO!$E$37=\"Non-endemic\",\" \", IF(COUNTRY_INFO!A199=0,\" \",COUNTRY_INFO!A199)))","v":" "},{"$f":"IF(INTRO!$E$39<>\"Non-endemic\", \" \", IF(INTRO!$E$37=\"Non-endemic\",\" \", IF(COUNTRY_INFO!B199=0,\" \",COUNTRY_INFO!B199)))","v":" "},{"$f":"IF(INTRO!$E$39<>\"Non-endemic\", \" \", IF(INTRO!$E$37=\"Non-endemic\",\" \", IF(COUNTRY_INFO!C199=0,\" \",COUNTRY_INFO!C199)))","v":" "},{"$f":"IF(INTRO!$E$39<>\"Non-endemic\", 0, IF(INTRO!$E$37=\"Non-endemic\",0,IF(COUNTRY_INFO!$H199=1,COUNTRY_INFO!E199,0)))","v":0},{"$f":"IF(INTRO!$E$39<>\"Non-endemic\", 0, IF(INTRO!$E$37=\"Non-endemic\",0,IF(COUNTRY_INFO!$H199=1,COUNTRY_INFO!F199,0)))","v":0},{"$f":"IF(INTRO!$E$39<>\"Non-endemic\", 0, IF(INTRO!$E$37=\"Non-endemic\",0,IF(COUNTRY_INFO!$H199=1,COUNTRY_INFO!G199,0)))","v":0},0,{"$f":"IF(INTRO!$E$39=\"Non-endemic\",IF(INTRO!$E$37=\"Non-endemic\",\"Not required\",COUNTRY_INFO!P199),\"Treat with IVM\")","v":"Treat with IVM"},0,0,null,0,0]
[{"$f":"IF(INTRO!$E$39<>\"Non-endemic\", \" \", IF(INTRO!$E$37=\"Non-endemic\",\" \", IF(COUNTRY_INFO!A200=0,\" \",COUNTRY_INFO!A200)))","v":" "},{"$f":"IF(INTRO!$E$39<>\"Non-endemic\", \" \", IF(INTRO!$E$37=\"Non-endemic\",\" \", IF(COUNTRY_INFO!B200=0,\" \",COUNTRY_INFO!B200)))","v":" "},{"$f":"IF(INTRO!$E$39<>\"Non-endemic\", \" \", IF(INTRO!$E$37=\"Non-endemic\",\" \", IF(COUNTRY_INFO!C200=0,\" \",COUNTRY_INFO!C200)))","v":" "},{"$f":"IF(INTRO!$E$39<>\"Non-endemic\", 0, IF(INTRO!$E$37=\"Non-endemic\",0,IF(COUNTRY_INFO!$H200=1,COUNTRY_INFO!E200,0)))","v":0},{"$f":"IF(INTRO!$E$39<>\"Non-endemic\", 0, IF(INTRO!$E$37=\"Non-endemic\",0,IF(COUNTRY_INFO!$H200=1,COUNTRY_INFO!F200,0)))","v":0},{"$f":"IF(INTRO!$E$39<>\"Non-endemic\", 0, IF(INTRO!$E$37=\"Non-endemic\",0,IF(COUNTRY_INFO!$H200=1,COUNTRY_INFO!G200,0)))","v":0},0,{"$f":"IF(INTRO!$E$39=\"Non-endemic\",IF(INTRO!$E$37=\"Non-endemic\",\"Not required\",COUNTRY_INFO!P200),\"Treat with IVM\")","v":"Treat with IVM"},0,0,null,0,0]
[{"$f":"IF(INTRO!$E$39<>\"Non-endemic\", \" \", IF(INTRO!$E$37=\"Non-endemic\",\" \", IF(COUNTRY_INFO!A201=0,\" \",COUNTRY_INFO!A201)))","v":" "},{"$f":"IF(INTRO!$E$39<>\"Non-endemic\", \" \", IF(INTRO!$E$37=\"Non-endemic\",\" \", IF(COUNTRY_INFO!B201=0,\" \",COUNTRY_INFO!B201)))","v":" "},{"$f":"IF(INTRO!$E$39<>\"Non-endemic\", \" \", IF(INTRO!$E$37=\"Non-endemic\",\" \", IF(COUNTRY_INFO!C201=0,\" \",COUNTRY_INFO!C201)))","v":" "},{"$f":"IF(INTRO!$E$39<>\"Non-endemic\", 0, IF(INTRO!$E$37=\"Non-endemic\",0,IF(COUNTRY_INFO!$H201=1,COUNTRY_INFO!E201,0)))","v":0},{"$f":"IF(INTRO!$E$39<>\"Non-endemic\", 0, IF(INTRO!$E$37=\"Non-endemic\",0,IF(COUNTRY_INFO!$H201=1,COUNTRY_INFO!F201,0)))","v":0},{"$f":"IF(INTRO!$E$39<>\"Non-endemic\", 0, IF(INTRO!$E$37=\"Non-endemic\",0,IF(COUNTRY_INFO!$H201=1,COUNTRY_INFO!G201,0)))","v":0},{"$f":"SUM(D201:F201)","v":0},{"$f":"IF(INTRO!$E$39=\"Non-endemic\",IF(INTRO!$E$37=\"Non-endemic\",\"Not required\",COUNTRY_INFO!P201),\"Treat with IVM\")","v":"Treat with IVM"},{"$f":"IF(H201=1,G201,0)","v":0},{"$f":"IF(I201>0,I201*2.5,0)","v":0},null,{"$f":"IF($J201>$K201,$J201-$K201,0)","v":0},{"$f":"ROUNDUP($J201/1000,0)","v":0}]
[{"$f":"IF(INTRO!$E$39<>\"Non-endemic\", \" \", IF(INTRO!$E$37=\"Non-endemic\",\" \", IF(COUNTRY_INFO!A202=0,\" \",COUNTRY_INFO!A202)))","v":" "},{"$f":"IF(INTRO!$E$39<>\"Non-endemic\", \" \", IF(INTRO!$E$37=\"Non-endemic\",\" \", IF(COUNTRY_INFO!B202=0,\" \",COUNTRY_INFO!B202)))","v":" "},{"$f":"IF(INTRO!$E$39<>\"Non-endemic\", \" \", IF(INTRO!$E$37=\"Non-endemic\",\" \", IF(COUNTRY_INFO!C202=0,\" \",COUNTRY_INFO!C202)))","v":" "},{"$f":"IF(INTRO!$E$39<>\"Non-endemic\", 0, IF(INTRO!$E$37=\"Non-endemic\",0,IF(COUNTRY_INFO!$H202=1,COUNTRY_INFO!E202,0)))","v":0},{"$f":"IF(INTRO!$E$39<>\"Non-endemic\", 0, IF(INTRO!$E$37=\"Non-endemic\",0,IF(COUNTRY_INFO!$H202=1,COUNTRY_INFO!F202,0)))","v":0},{"$f":"IF(INTRO!$E$39<>\"Non-endemic\", 0, IF(INTRO!$E$37=\"Non-endemic\",0,IF(COUNTRY_INFO!$H202=1,COUNTRY_INFO!G202,0)))","v":0},0,{"$f":"IF(INTRO!$E$39=\"Non-endemic\",IF(INTRO!$E$37=\"Non-endemic\",\"Not required\",COUNTRY_INFO!P202),\"Treat with IVM\")","v":"Treat with IVM"},0,0,null,0,0]
[{"$f":"IF(INTRO!$E$39<>\"Non-endemic\", \" \", IF(INTRO!$E$37=\"Non-endemic\",\" \", IF(COUNTRY_INFO!A203=0,\" \",COUNTRY_INFO!A203)))","v":" "},{"$f":"IF(INTRO!$E$39<>\"Non-endemic\", \" \", IF(INTRO!$E$37=\"Non-endemic\",\" \", IF(COUNTRY_INFO!B203=0,\" \",COUNTRY_INFO!B203)))","v":" "},{"$f":"IF(INTRO!$E$39<>\"Non-endemic\", \" \", IF(INTRO!$E$37=\"Non-endemic\",\" \", IF(COUNTRY_INFO!C203=0,\" \",COUNTRY_INFO!C203)))","v":" "},{"$f":"IF(INTRO!$E$39<>\"Non-endemic\", 0, IF(INTRO!$E$37=\"Non-endemic\",0,IF(COUNTRY_INFO!$H203=1,COUNTRY_INFO!E203,0)))","v":0},{"$f":"IF(INTRO!$E$39<>\"Non-endemic\", 0, IF(INTRO!$E$37=\"Non-endemic\",0,IF(COUNTRY_INFO!$H203=1,COUNTRY_INFO!F203,0)))","v":0},{"$f":"IF(INTRO!$E$39<>\"Non-endemic\", 0, IF(INTRO!$E$37=\"Non-endemic\",0,IF(COUNTRY_INFO!$H203=1,COUNTRY_INFO!G203,0)))","v":0},0,{"$f":"IF(INTRO!$E$39=\"Non-endemic\",IF(INTRO!$E$37=\"Non-endemic\",\"Not required\",COUNTRY_INFO!P203),\"Treat with IVM\")","v":"Treat with IVM"},0,0,null,0,0]
[{"$f":"IF(INTRO!$E$39<>\"Non-endemic\", \" \", IF(INTRO!$E$37=\"Non-endemic\",\" \", IF(COUNTRY_INFO!A204=0,\" \",COUNTRY_INFO!A204)))","v":" "},{"$f":"IF(INTRO!$E$39<>\"Non-endemic\", \" \", IF(INTRO!$E$37=\"Non-endemic\",\" \", IF(COUNTRY_INFO!B204=0,\" \",COUNTRY_INFO!B204)))","v":" "},{"$f":"IF(INTRO!$E$39<>\"Non-endemic\", \" \", IF(INTRO!$E$37=\"Non-endemic\",\" \", IF(COUNTRY_INFO!C204=0,\" \",COUNTRY_INFO!C204)))","v":" "},{"$f":"IF(INTRO!$E$39<>\"Non-endemic\", 0, IF(INTRO!$E$37=\"Non-endemic\",0,IF(COUNTRY_INFO!$H204=1,COUNTRY_INFO!E204,0)))","v":0},{"$f":"IF(INTRO!$E$39<>\"Non-endemic\", 0, IF(INTRO!$E$37=\"Non-endemic\",0,IF(COUNTRY_INFO!$H204=1,COUNTRY_INFO!F204,0)))","v":0},{"$f":"IF(INTRO!$E$39<>\"Non-endemic\", 0, IF(INTRO!$E$37=\"Non-endemic\",0,IF(COUNTRY_INFO!$H204=1,COUNTRY_INFO!G204,0)))","v":0},0,{"$f":"IF(INTRO!$E$39=\"Non-endemic\",IF(INTRO!$E$37=\"Non-endemic\",\"Not required\",COUNTRY_INFO!P204),\"Treat with IVM\")","v":"Treat with IVM"},0,0,null,0,0]
[{"$f":"IF(INTRO!$E$39<>\"Non-endemic\", \" \", IF(INTRO!$E$37=\"Non-endemic\",\" \", IF(COUNTRY_INFO!A205=0,\" \",COUNTRY_INFO!A205)))","v":" "},{"$f":"IF(INTRO!$E$39<>\"Non-endemic\", \" \", IF(INTRO!$E$37=\"Non-endemic\",\" \", IF(COUNTRY_INFO!B205=0,\" \",COUNTRY_INFO!B205)))","v":" "},{"$f":"IF(INTRO!$E$39<>\"Non-endemic\", \" \", IF(INTRO!$E$37=\"Non-endemic\",\" \", IF(COUNTRY_INFO!C205=0,\" \",COUNTRY_INFO!C205)))","v":" "},{"$f":"IF(INTRO!$E$39<>\"Non-endemic\", 0, IF(INTRO!$E$37=\"Non-endemic\",0,IF(COUNTRY_INFO!$H205=1,COUNTRY_INFO!E205,0)))","v":0},{"$f":"IF(INTRO!$E$39<>\"Non-endemic\", 0, IF(INTRO!$E$37=\"Non-endemic\",0,IF(COUNTRY_INFO!$H205=1,COUNTRY_INFO!F205,0)))","v":0},{"$f":"IF(INTRO!$E$39<>\"Non-endemic\", 0, IF(INTRO!$E$37=\"Non-endemic\",0,IF(COUNTRY_INFO!$H205=1,COUNTRY_INFO!G205,0)))","v":0},0,{"$f":"IF(INTRO!$E$39=\"Non-endemic\",IF(INTRO!$E$37=\"Non-endemic\",\"Not required\",COUNTRY_INFO!P205),\"Treat with IVM\")","v":"Treat with IVM"},0,0,null,0,0]
[{"$f":"IF(INTRO!$E$39<>\"Non-endemic\", \" \", IF(INTRO!$E$37=\"Non-endemic\",\" \", IF(COUNTRY_INFO!A206=0,\" \",COUNTRY_INFO!A206)))","v":" "},{"$f":"IF(INTRO!$E$39<>\"Non-endemic\", \" \", IF(INTRO!$E$37=\"Non-endemic\",\" \", IF(COUNTRY_INFO!B206=0,\" \",COUNTRY_INFO!B206)))","v":" "},{"$f":"IF(INTRO!$E$39<>\"Non-endemic\", \" \", IF(INTRO!$E$37=\"Non-endemic\",\" \", IF(COUNTRY_INFO!C206=0,\" \",COUNTRY_INFO!C206)))","v":" "},{"$f":"IF(INTRO!$E$39<>\"Non-endemic\", 0, IF(INTRO!$E$37=\"Non-endemic\",0,IF(COUNTRY_INFO!$H206=1,COUNTRY_INFO!E206,0)))","v":0},{"$f":"IF(INTRO!$E$39<>\"Non-endemic\", 0, IF(INTRO!$E$37=\"Non-endemic\",0,IF(COUNTRY_INFO!$H206=1,COUNTRY_INFO!F206,0)))","v":0},{"$f":"IF(INTRO!$E$39<>\"Non-endemic\", 0, IF(INTRO!$E$37=\"Non-endemic\",0,IF(COUNTRY_INFO!$H206=1,COUNTRY_INFO!G206,0)))","v":0},0,{"$f":"IF(INTRO!$E$39=\"Non-endemic\",IF(INTRO!$E$37=\"Non-endemic\",\"Not required\",COUNTRY_INFO!P206),\"Treat with IVM\")","v":"Treat with IVM"},0,0,null,0,0]
[{"$f":"IF(INTRO!$E$39<>\"Non-endemic\", \" \", IF(INTRO!$E$37=\"Non-endemic\",\" \", IF(COUNTRY_INFO!A207=0,\" \",COUNTRY_INFO!A207)))","v":" "},{"$f":"IF(INTRO!$E$39<>\"Non-endemic\", \" \", IF(INTRO!$E$37=\"Non-endemic\",\" \", IF(COUNTRY_INFO!B207=0,\" \",COUNTRY_INFO!B207)))","v":" "},{"$f":"IF(INTRO!$E$39<>\"Non-endemic\", \" \", IF(INTRO!$E$37=\"Non-endemic\",\" \", IF(COUNTRY_INFO!C207=0,\" \",COUNTRY_INFO!C207)))","v":" "},{"$f":"IF(INTRO!$E$39<>\"Non-endemic\", 0, IF(INTRO!$E$37=\"Non-endemic\",0,IF(COUNTRY_INFO!$H207=1,COUNTRY_INFO!E207,0)))","v":0},{"$f":"IF(INTRO!$E$39<>\"Non-endemic\", 0, IF(INTRO!$E$37=\"Non-endemic\",0,IF(COUNTRY_INFO!$H207=1,COUNTRY_INFO!F207,0)))","v":0},{"$f":"IF(INTRO!$E$39<>\"Non-endemic\", 0, IF(INTRO!$E$37=\"Non-endemic\",0,IF(COUNTRY_INFO!$H207=1,COUNTRY_INFO!G207,0)))","v":0},0,{"$f":"IF(INTRO!$E$39=\"Non-endemic\",IF(INTRO!$E$37=\"Non-endemic\",\"Not required\",COUNTRY_INFO!P207),\"Treat with IVM\")","v":"Treat with IVM"},0,0,null,0,0]
[{"$f":"IF(INTRO!$E$39<>\"Non-endemic\", \" \", IF(INTRO!$E$37=\"Non-endemic\",\" \", IF(COUNTRY_INFO!A208=0,\" \",COUNTRY_INFO!A208)))","v":" "},{"$f":"IF(INTRO!$E$39<>\"Non-endemic\", \" \", IF(INTRO!$E$37=\"Non-endemic\",\" \", IF(COUNTRY_INFO!B208=0,\" \",COUNTRY_INFO!B208)))","v":" "},{"$f":"IF(INTRO!$E$39<>\"Non-endemic\", \" \", IF(INTRO!$E$37=\"Non-endemic\",\" \", IF(COUNTRY_INFO!C208=0,\" \",COUNTRY_INFO!C208)))","v":" "},{"$f":"IF(INTRO!$E$39<>\"Non-endemic\", 0, IF(INTRO!$E$37=\"Non-endemic\",0,IF(COUNTRY_INFO!$H208=1,COUNTRY_INFO!E208,0)))","v":0},{"$f":"IF(INTRO!$E$39<>\"Non-endemic\", 0, IF(INTRO!$E$37=\"Non-endemic\",0,IF(COUNTRY_INFO!$H208=1,COUNTRY_INFO!F208,0)))","v":0},{"$f":"IF(INTRO!$E$39<>\"Non-endemic\", 0, IF(INTRO!$E$37=\"Non-endemic\",0,IF(COUNTRY_INFO!$H208=1,COUNTRY_INFO!G208,0)))","v":0},0,{"$f":"IF(INTRO!$E$39=\"Non-endemic\",IF(INTRO!$E$37=\"Non-endemic\",\"Not required\",COUNTRY_INFO!P208),\"Treat with IVM\")","v":"Treat with IVM"},0,0,null,0,0]
[{"$f":"IF(INTRO!$E$39<>\"Non-endemic\", \" \", IF(INTRO!$E$37=\"Non-endemic\",\" \", IF(COUNTRY_INFO!A209=0,\" \",COUNTRY_INFO!A209)))","v":" "},{"$f":"IF(INTRO!$E$39<>\"Non-endemic\", \" \", IF(INTRO!$E$37=\"Non-endemic\",\" \", IF(COUNTRY_INFO!B209=0,\" \",COUNTRY_INFO!B209)))","v":" "},{"$f":"IF(INTRO!$E$39<>\"Non-endemic\", \" \", IF(INTRO!$E$37=\"Non-endemic\",\" \", IF(COUNTRY_INFO!C209=0,\" \",COUNTRY_INFO!C209)))","v":" "},{"$f":"IF(INTRO!$E$39<>\"Non-endemic\", 0, IF(INTRO!$E$37=\"Non-endemic\",0,IF(COUNTRY_INFO!$H209=1,COUNTRY_INFO!E209,0)))","v":0},{"$f":"IF(INTRO!$E$39<>\"Non-endemic\", 0, IF(INTRO!$E$37=\"Non-endemic\",0,IF(COUNTRY_INFO!$H209=1,COUNTRY_INFO!F209,0)))","v":0},{"$f":"IF(INTRO!$E$39<>\"Non-endemic\", 0, IF(INTRO!$E$37=\"Non-endemic\",0,IF(COUNTRY_INFO!$H209=1,COUNTRY_INFO!G209,0)))","v":0},0,{"$f":"IF(INTRO!$E$39=\"Non-endemic\",IF(INTRO!$E$37=\"Non-endemic\",\"Not required\",COUNTRY_INFO!P209),\"Treat with IVM\")","v":"Treat with IVM"},0,0,null,0,0]
[{"$f":"IF(INTRO!$E$39<>\"Non-endemic\", \" \", IF(INTRO!$E$37=\"Non-endemic\",\" \", IF(COUNTRY_INFO!A210=0,\" \",COUNTRY_INFO!A210)))","v":" "},{"$f":"IF(INTRO!$E$39<>\"Non-endemic\", \" \", IF(INTRO!$E$37=\"Non-endemic\",\" \", IF(COUNTRY_INFO!B210=0,\" \",COUNTRY_INFO!B210)))","v":" "},{"$f":"IF(INTRO!$E$39<>\"Non-endemic\", \" \", IF(INTRO!$E$37=\"Non-endemic\",\" \", IF(COUNTRY_INFO!C210=0,\" \",COUNTRY_INFO!C210)))","v":" "},{"$f":"IF(INTRO!$E$39<>\"Non-endemic\", 0, IF(INTRO!$E$37=\"Non-endemic\",0,IF(COUNTRY_INFO!$H210=1,COUNTRY_INFO!E210,0)))","v":0},{"$f":"IF(INTRO!$E$39<>\"Non-endemic\", 0, IF(INTRO!$E$37=\"Non-endemic\",0,IF(COUNTRY_INFO!$H210=1,COUNTRY_INFO!F210,0)))","v":0},{"$f":"IF(INTRO!$E$39<>\"Non-endemic\", 0, IF(INTRO!$E$37=\"Non-endemic\",0,IF(COUNTRY_INFO!$H210=1,COUNTRY_INFO!G210,0)))","v":0},0,{"$f":"IF(INTRO!$E$39=\"Non-endemic\",IF(INTRO!$E$37=\"Non-endemic\",\"Not required\",COUNTRY_INFO!P210),\"Treat with IVM\")","v":"Treat with IVM"},0,0,null,0,0]
[{"$f":"IF(INTRO!$E$39<>\"Non-endemic\", \" \", IF(INTRO!$E$37=\"Non-endemic\",\" \", IF(COUNTRY_INFO!A211=0,\" \",COUNTRY_INFO!A211)))","v":" "},{"$f":"IF(INTRO!$E$39<>\"Non-endemic\", \" \", IF(INTRO!$E$37=\"Non-endemic\",\" \", IF(COUNTRY_INFO!B211=0,\" \",COUNTRY_INFO!B211)))","v":" "},{"$f":"IF(INTRO!$E$39<>\"Non-endemic\", \" \", IF(INTRO!$E$37=\"Non-endemic\",\" \", IF(COUNTRY_INFO!C211=0,\" \",COUNTRY_INFO!C211)))","v":" "},{"$f":"IF(INTRO!$E$39<>\"Non-endemic\", 0, IF(INTRO!$E$37=\"Non-endemic\",0,IF(COUNTRY_INFO!$H211=1,COUNTRY_INFO!E211,0)))","v":0},{"$f":"IF(INTRO!$E$39<>\"Non-endemic\", 0, IF(INTRO!$E$37=\"Non-endemic\",0,IF(COUNTRY_INFO!$H211=1,COUNTRY_INFO!F211,0)))","v":0},{"$f":"IF(INTRO!$E$39<>\"Non-endemic\", 0, IF(INTRO!$E$37=\"Non-endemic\",0,IF(COUNTRY_INFO!$H211=1,COUNTRY_INFO!G211,0)))","v":0},0,{"$f":"IF(INTRO!$E$39=\"Non-endemic\",IF(INTRO!$E$37=\"Non-endemic\",\"Not required\",COUNTRY_INFO!P211),\"Treat with IVM\")","v":"Treat with IVM"},0,0,null,0,0]
[{"$f":"IF(INTRO!$E$39<>\"Non-endemic\", \" \", IF(INTRO!$E$37=\"Non-endemic\",\" \", IF(COUNTRY_INFO!A212=0,\" \",COUNTRY_INFO!A212)))","v":" "},{"$f":"IF(INTRO!$E$39<>\"Non-endemic\", \" \", IF(INTRO!$E$37=\"Non-endemic\",\" \", IF(COUNTRY_INFO!B212=0,\" \",COUNTRY_INFO!B212)))","v":" "},{"$f":"IF(INTRO!$E$39<>\"Non-endemic\", \" \", IF(INTRO!$E$37=\"Non-endemic\",\" \", IF(COUNTRY_INFO!C212=0,\" \",COUNTRY_INFO!C212)))","v":" "},{"$f":"IF(INTRO!$E$39<>\"Non-endemic\", 0, IF(INTRO!$E$37=\"Non-endemic\",0,IF(COUNTRY_INFO!$H212=1,COUNTRY_INFO!E212,0)))","v":0},{"$f":"IF(INTRO!$E$39<>\"Non-endemic\", 0, IF(INTRO!$E$37=\"Non-endemic\",0,IF(COUNTRY_INFO!$H212=1,COUNTRY_INFO!F212,0)))","v":0},{"$f":"IF(INTRO!$E$39<>\"Non-endemic\", 0, IF(INTRO!$E$37=\"Non-endemic\",0,IF(COUNTRY_INFO!$H212=1,COUNTRY_INFO!G212,0)))","v":0},0,{"$f":"IF(INTRO!$E$39=\"Non-endemic\",IF(INTRO!$E$37=\"Non-endemic\",\"Not required\",COUNTRY_INFO!P212),\"Treat with IVM\")","v":"Treat with IVM"},0,0,null,0,0]
[{"$f":"IF(INTRO!$E$39<>\"Non-endemic\", \" \", IF(INTRO!$E$37=\"Non-endemic\",\" \", IF(COUNTRY_INFO!A213=0,\" \",COUNTRY_INFO!A213)))","v":" "},{"$f":"IF(INTRO!$E$39<>\"Non-endemic\", \" \", IF(INTRO!$E$37=\"Non-endemic\",\" \", IF(COUNTRY_INFO!B213=0,\" \",COUNTRY_INFO!B213)))","v":" "},{"$f":"IF(INTRO!$E$39<>\"Non-endemic\", \" \", IF(INTRO!$E$37=\"Non-endemic\",\" \", IF(COUNTRY_INFO!C213=0,\" \",COUNTRY_INFO!C213)))","v":" "},{"$f":"IF(INTRO!$E$39<>\"Non-endemic\", 0, IF(INTRO!$E$37=\"Non-endemic\",0,IF(COUNTRY_INFO!$H213=1,COUNTRY_INFO!E213,0)))","v":0},{"$f":"IF(INTRO!$E$39<>\"Non-endemic\", 0, IF(INTRO!$E$37=\"Non-endemic\",0,IF(COUNTRY_INFO!$H213=1,COUNTRY_INFO!F213,0)))","v":0},{"$f":"IF(INTRO!$E$39<>\"Non-endemic\", 0, IF(INTRO!$E$37=\"Non-endemic\",0,IF(COUNTRY_INFO!$H213=1,COUNTRY_INFO!G213,0)))","v":0},0,{"$f":"IF(INTRO!$E$39=\"Non-endemic\",IF(INTRO!$E$37=\"Non-endemic\",\"Not required\",COUNTRY_INFO!P213),\"Treat with IVM\")","v":"Treat with IVM"},0,0,null,0,0]
[{"$f":"IF(INTRO!$E$39<>\"Non-endemic\", \" \", IF(INTRO!$E$37=\"Non-endemic\",\" \", IF(COUNTRY_INFO!A214=0,\" \",COUNTRY_INFO!A214)))","v":" "},{"$f":"IF(INTRO!$E$39<>\"Non-endemic\", \" \", IF(INTRO!$E$37=\"Non-endemic\",\" \", IF(COUNTRY_INFO!B214=0,\" \",COUNTRY_INFO!B214)))","v":" "},{"$f":"IF(INTRO!$E$39<>\"Non-endemic\", \" \", IF(INTRO!$E$37=\"Non-endemic\",\" \", IF(COUNTRY_INFO!C214=0,\" \",COUNTRY_INFO!C214)))","v":" "},{"$f":"IF(INTRO!$E$39<>\"Non-endemic\", 0, IF(INTRO!$E$37=\"Non-endemic\",0,IF(COUNTRY_INFO!$H214=1,COUNTRY_INFO!E214,0)))","v":0},{"$f":"IF(INTRO!$E$39<>\"Non-endemic\", 0, IF(INTRO!$E$37=\"Non-endemic\",0,IF(COUNTRY_INFO!$H214=1,COUNTRY_INFO!F214,0)))","v":0},{"$f":"IF(INTRO!$E$39<>\"Non-endemic\", 0, IF(INTRO!$E$37=\"Non-endemic\",0,IF(COUNTRY_INFO!$H214=1,COUNTRY_INFO!G214,0)))","v":0},0,{"$f":"IF(INTRO!$E$39=\"Non-endemic\",IF(INTRO!$E$37=\"Non-endemic\",\"Not required\",COUNTRY_INFO!P214),\"Treat with IVM\")","v":"Treat with IVM"},0,0,null,0,0]
[{"$f":"IF(INTRO!$E$39<>\"Non-endemic\", \" \", IF(INTRO!$E$37=\"Non-endemic\",\" \", IF(COUNTRY_INFO!A215=0,\" \",COUNTRY_INFO!A215)))","v":" "},{"$f":"IF(INTRO!$E$39<>\"Non-endemic\", \" \", IF(INTRO!$E$37=\"Non-endemic\",\" \", IF(COUNTRY_INFO!B215=0,\" \",COUNTRY_INFO!B215)))","v":" "},{"$f":"IF(INTRO!$E$39<>\"Non-endemic\", \" \", IF(INTRO!$E$37=\"Non-endemic\",\" \", IF(COUNTRY_INFO!C215=0,\" \",COUNTRY_INFO!C215)))","v":" "},{"$f":"IF(INTRO!$E$39<>\"Non-endemic\", 0, IF(INTRO!$E$37=\"Non-endemic\",0,IF(COUNTRY_INFO!$H215=1,COUNTRY_INFO!E215,0)))","v":0},{"$f":"IF(INTRO!$E$39<>\"Non-endemic\", 0, IF(INTRO!$E$37=\"Non-endemic\",0,IF(COUNTRY_INFO!$H215=1,COUNTRY_INFO!F215,0)))","v":0},{"$f":"IF(INTRO!$E$39<>\"Non-endemic\", 0, IF(INTRO!$E$37=\"Non-endemic\",0,IF(COUNTRY_INFO!$H215=1,COUNTRY_INFO!G215,0)))","v":0},0,{"$f":"IF(INTRO!$E$39=\"Non-endemic\",IF(INTRO!$E$37=\"Non-endemic\",\"Not required\",COUNTRY_INFO!P215),\"Treat with IVM\")","v":"Treat with IVM"},0,0,null,0,0]
[{"$f":"IF(INTRO!$E$39<>\"Non-endemic\", \" \", IF(INTRO!$E$37=\"Non-endemic\",\" \", IF(COUNTRY_INFO!A216=0,\" \",COUNTRY_INFO!A216)))","v":" "},{"$f":"IF(INTRO!$E$39<>\"Non-endemic\", \" \", IF(INTRO!$E$37=\"Non-endemic\",\" \", IF(COUNTRY_INFO!B216=0,\" \",COUNTRY_INFO!B216)))","v":" "},{"$f":"IF(INTRO!$E$39<>\"Non-endemic\", \" \", IF(INTRO!$E$37=\"Non-endemic\",\" \", IF(COUNTRY_INFO!C216=0,\" \",COUNTRY_INFO!C216)))","v":" "},{"$f":"IF(INTRO!$E$39<>\"Non-endemic\", 0, IF(INTRO!$E$37=\"Non-endemic\",0,IF(COUNTRY_INFO!$H216=1,COUNTRY_INFO!E216,0)))","v":0},{"$f":"IF(INTRO!$E$39<>\"Non-endemic\", 0, IF(INTRO!$E$37=\"Non-endemic\",0,IF(COUNTRY_INFO!$H216=1,COUNTRY_INFO!F216,0)))","v":0},{"$f":"IF(INTRO!$E$39<>\"Non-endemic\", 0, IF(INTRO!$E$37=\"Non-endemic\",0,IF(COUNTRY_INFO!$H216=1,COUNTRY_INFO!G216,0)))","v":0},0,{"$f":"IF(INTRO!$E$39=\"Non-endemic\",IF(INTRO!$E$37=\"Non-endemic\",\"Not required\",COUNTRY_INFO!P216),\"Treat with IVM\")","v":"Treat with IVM"},0,0,null,0,0]
[{"$f":"IF(INTRO!$E$39<>\"Non-endemic\", \" \", IF(INTRO!$E$37=\"Non-endemic\",\" \", IF(COUNTRY_INFO!A217=0,\" \",COUNTRY_INFO!A217)))","v":" "},{"$f":"IF(INTRO!$E$39<>\"Non-endemic\", \" \", IF(INTRO!$E$37=\"Non-endemic\",\" \", IF(COUNTRY_INFO!B217=0,\" \",COUNTRY_INFO!B217)))","v":" "},{"$f":"IF(INTRO!$E$39<>\"Non-endemic\", \" \", IF(INTRO!$E$37=\"Non-endemic\",\" \", IF(COUNTRY_INFO!C217=0,\" \",COUNTRY_INFO!C217)))","v":" "},{"$f":"IF(INTRO!$E$39<>\"Non-endemic\", 0, IF(INTRO!$E$37=\"Non-endemic\",0,IF(COUNTRY_INFO!$H217=1,COUNTRY_INFO!E217,0)))","v":0},{"$f":"IF(INTRO!$E$39<>\"Non-endemic\", 0, IF(INTRO!$E$37=\"Non-endemic\",0,IF(COUNTRY_INFO!$H217=1,COUNTRY_INFO!F217,0)))","v":0},{"$f":"IF(INTRO!$E$39<>\"Non-endemic\", 0, IF(INTRO!$E$37=\"Non-endemic\",0,IF(COUNTRY_INFO!$H217=1,COUNTRY_INFO!G217,0)))","v":0},0,{"$f":"IF(INTRO!$E$39=\"Non-endemic\",IF(INTRO!$E$37=\"Non-endemic\",\"Not required\",COUNTRY_INFO!P217),\"Treat with IVM\")","v":"Treat with IVM"},0,0,null,0,0]
[{"$f":"IF(INTRO!$E$39<>\"Non-endemic\", \" \", IF(INTRO!$E$37=\"Non-endemic\",\" \", IF(COUNTRY_INFO!A218=0,\" \",COUNTRY_INFO!A218)))","v":" "},{"$f":"IF(INTRO!$E$39<>\"Non-endemic\", \" \", IF(INTRO!$E$37=\"Non-endemic\",\" \", IF(COUNTRY_INFO!B218=0,\" \",COUNTRY_INFO!B218)))","v":" "},{"$f":"IF(INTRO!$E$39<>\"Non-endemic\", \" \", IF(INTRO!$E$37=\"Non-endemic\",\" \", IF(COUNTRY_INFO!C218=0,\" \",COUNTRY_INFO!C218)))","v":" "},{"$f":"IF(INTRO!$E$39<>\"Non-endemic\", 0, IF(INTRO!$E$37=\"Non-endemic\",0,IF(COUNTRY_INFO!$H218=1,COUNTRY_INFO!E218,0)))","v":0},{"$f":"IF(INTRO!$E$39<>\"Non-endemic\", 0, IF(INTRO!$E$37=\"Non-endemic\",0,IF(COUNTRY_INFO!$H218=1,COUNTRY_INFO!F218,0)))","v":0},{"$f":"IF(INTRO!$E$39<>\"Non-endemic\", 0, IF(INTRO!$E$37=\"Non-endemic\",0,IF(COUNTRY_INFO!$H218=1,COUNTRY_INFO!G218,0)))","v":0},0,{"$f":"IF(INTRO!$E$39=\"Non-endemic\",IF(INTRO!$E$37=\"Non-endemic\",\"Not required\",COUNTRY_INFO!P218),\"Treat with IVM\")","v":"Treat with IVM"},0,0,null,0,0]
[{"$f":"IF(INTRO!$E$39<>\"Non-endemic\", \" \", IF(INTRO!$E$37=\"Non-endemic\",\" \", IF(COUNTRY_INFO!A219=0,\" \",COUNTRY_INFO!A219)))","v":" "},{"$f":"IF(INTRO!$E$39<>\"Non-endemic\", \" \", IF(INTRO!$E$37=\"Non-endemic\",\" \", IF(COUNTRY_INFO!B219=0,\" \",COUNTRY_INFO!B219)))","v":" "},{"$f":"IF(INTRO!$E$39<>\"Non-endemic\", \" \", IF(INTRO!$E$37=\"Non-endemic\",\" \", IF(COUNTRY_INFO!C219=0,\" \",COUNTRY_INFO!C219)))","v":" "},{"$f":"IF(INTRO!$E$39<>\"Non-endemic\", 0, IF(INTRO!$E$37=\"Non-endemic\",0,IF(COUNTRY_INFO!$H219=1,COUNTRY_INFO!E219,0)))","v":0},{"$f":"IF(INTRO!$E$39<>\"Non-endemic\", 0, IF(INTRO!$E$37=\"Non-endemic\",0,IF(COUNTRY_INFO!$H219=1,COUNTRY_INFO!F219,0)))","v":0},{"$f":"IF(INTRO!$E$39<>\"Non-endemic\", 0, IF(INTRO!$E$37=\"Non-endemic\",0,IF(COUNTRY_INFO!$H219=1,COUNTRY_INFO!G219,0)))","v":0},0,{"$f":"IF(INTRO!$E$39=\"Non-endemic\",IF(INTRO!$E$37=\"Non-endemic\",\"Not required\",COUNTRY_INFO!P219),\"Treat with IVM\")","v":"Treat with IVM"},0,0,null,0,0]
[{"$f":"IF(INTRO!$E$39<>\"Non-endemic\", \" \", IF(INTRO!$E$37=\"Non-endemic\",\" \", IF(COUNTRY_INFO!A220=0,\" \",COUNTRY_INFO!A220)))","v":" "},{"$f":"IF(INTRO!$E$39<>\"Non-endemic\", \" \", IF(INTRO!$E$37=\"Non-endemic\",\" \", IF(COUNTRY_INFO!B220=0,\" \",COUNTRY_INFO!B220)))","v":" "},{"$f":"IF(INTRO!$E$39<>\"Non-endemic\", \" \", IF(INTRO!$E$37=\"Non-endemic\",\" \", IF(COUNTRY_INFO!C220=0,\" \",COUNTRY_INFO!C220)))","v":" "},{"$f":"IF(INTRO!$E$39<>\"Non-endemic\", 0, IF(INTRO!$E$37=\"Non-endemic\",0,IF(COUNTRY_INFO!$H220=1,COUNTRY_INFO!E220,0)))","v":0},{"$f":"IF(INTRO!$E$39<>\"Non-endemic\", 0, IF(INTRO!$E$37=\"Non-endemic\",0,IF(COUNTRY_INFO!$H220=1,COUNTRY_INFO!F220,0)))","v":0},{"$f":"IF(INTRO!$E$39<>\"Non-endemic\", 0, IF(INTRO!$E$37=\"Non-endemic\",0,IF(COUNTRY_INFO!$H220=1,COUNTRY_INFO!G220,0)))","v":0},0,{"$f":"IF(INTRO!$E$39=\"Non-endemic\",IF(INTRO!$E$37=\"Non-endemic\",\"Not required\",COUNTRY_INFO!P220),\"Treat with IVM\")","v":"Treat with IVM"},0,0,null,0,0]
[{"$f":"IF(INTRO!$E$39<>\"Non-endemic\", \" \", IF(INTRO!$E$37=\"Non-endemic\",\" \", IF(COUNTRY_INFO!A221=0,\" \",COUNTRY_INFO!A221)))","v":" "},{"$f":"IF(INTRO!$E$39<>\"Non-endemic\", \" \", IF(INTRO!$E$37=\"Non-endemic\",\" \", IF(COUNTRY_INFO!B221=0,\" \",COUNTRY_INFO!B221)))","v":" "},{"$f":"IF(INTRO!$E$39<>\"Non-endemic\", \" \", IF(INTRO!$E$37=\"Non-endemic\",\" \", IF(COUNTRY_INFO!C221=0,\" \",COUNTRY_INFO!C221)))","v":" "},{"$f":"IF(INTRO!$E$39<>\"Non-endemic\", 0, IF(INTRO!$E$37=\"Non-endemic\",0,IF(COUNTRY_INFO!$H221=1,COUNTRY_INFO!E221,0)))","v":0},{"$f":"IF(INTRO!$E$39<>\"Non-endemic\", 0, IF(INTRO!$E$37=\"Non-endemic\",0,IF(COUNTRY_INFO!$H221=1,COUNTRY_INFO!F221,0)))","v":0},{"$f":"IF(INTRO!$E$39<>\"Non-endemic\", 0, IF(INTRO!$E$37=\"Non-endemic\",0,IF(COUNTRY_INFO!$H221=1,COUNTRY_INFO!G221,0)))","v":0},0,{"$f":"IF(INTRO!$E$39=\"Non-endemic\",IF(INTRO!$E$37=\"Non-endemic\",\"Not required\",COUNTRY_INFO!P221),\"Treat with IVM\")","v":"Treat with IVM"},0,0,null,0,0]
[{"$f":"IF(INTRO!$E$39<>\"Non-endemic\", \" \", IF(INTRO!$E$37=\"Non-endemic\",\" \", IF(COUNTRY_INFO!A222=0,\" \",COUNTRY_INFO!A222)))","v":" "},{"$f":"IF(INTRO!$E$39<>\"Non-endemic\", \" \", IF(INTRO!$E$37=\"Non-endemic\",\" \", IF(COUNTRY_INFO!B222=0,\" \",COUNTRY_INFO!B222)))","v":" "},{"$f":"IF(INTRO!$E$39<>\"Non-endemic\", \" \", IF(INTRO!$E$37=\"Non-endemic\",\" \", IF(COUNTRY_INFO!C222=0,\" \",COUNTRY_INFO!C222)))","v":" "},{"$f":"IF(INTRO!$E$39<>\"Non-endemic\", 0, IF(INTRO!$E$37=\"Non-endemic\",0,IF(COUNTRY_INFO!$H222=1,COUNTRY_INFO!E222,0)))","v":0},{"$f":"IF(INTRO!$E$39<>\"Non-endemic\", 0, IF(INTRO!$E$37=\"Non-endemic\",0,IF(COUNTRY_INFO!$H222=1,COUNTRY_INFO!F222,0)))","v":0},{"$f":"IF(INTRO!$E$39<>\"Non-endemic\", 0, IF(INTRO!$E$37=\"Non-endemic\",0,IF(COUNTRY_INFO!$H222=1,COUNTRY_INFO!G222,0)))","v":0},0,{"$f":"IF(INTRO!$E$39=\"Non-endemic\",IF(INTRO!$E$37=\"Non-endemic\",\"Not required\",COUNTRY_INFO!P222),\"Treat with IVM\")","v":"Treat with IVM"},0,0,null,0,0]
[{"$f":"IF(INTRO!$E$39<>\"Non-endemic\", \" \", IF(INTRO!$E$37=\"Non-endemic\",\" \", IF(COUNTRY_INFO!A223=0,\" \",COUNTRY_INFO!A223)))","v":" "},{"$f":"IF(INTRO!$E$39<>\"Non-endemic\", \" \", IF(INTRO!$E$37=\"Non-endemic\",\" \", IF(COUNTRY_INFO!B223=0,\" \",COUNTRY_INFO!B223)))","v":" "},{"$f":"IF(INTRO!$E$39<>\"Non-endemic\", \" \", IF(INTRO!$E$37=\"Non-endemic\",\" \", IF(COUNTRY_INFO!C223=0,\" \",COUNTRY_INFO!C223)))","v":" "},{"$f":"IF(INTRO!$E$39<>\"Non-endemic\", 0, IF(INTRO!$E$37=\"Non-endemic\",0,IF(COUNTRY_INFO!$H223=1,COUNTRY_INFO!E223,0)))","v":0},{"$f":"IF(INTRO!$E$39<>\"Non-endemic\", 0, IF(INTRO!$E$37=\"Non-endemic\",0,IF(COUNTRY_INFO!$H223=1,COUNTRY_INFO!F223,0)))","v":0},{"$f":"IF(INTRO!$E$39<>\"Non-endemic\", 0, IF(INTRO!$E$37=\"Non-endemic\",0,IF(COUNTRY_INFO!$H223=1,COUNTRY_INFO!G223,0)))","v":0},0,{"$f":"IF(INTRO!$E$39=\"Non-endemic\",IF(INTRO!$E$37=\"Non-endemic\",\"Not required\",COUNTRY_INFO!P223),\"Treat with IVM\")","v":"Treat with IVM"},0,0,null,0,0]
[{"$f":"IF(INTRO!$E$39<>\"Non-endemic\", \" \", IF(INTRO!$E$37=\"Non-endemic\",\" \", IF(COUNTRY_INFO!A224=0,\" \",COUNTRY_INFO!A224)))","v":" "},{"$f":"IF(INTRO!$E$39<>\"Non-endemic\", \" \", IF(INTRO!$E$37=\"Non-endemic\",\" \", IF(COUNTRY_INFO!B224=0,\" \",COUNTRY_INFO!B224)))","v":" "},{"$f":"IF(INTRO!$E$39<>\"Non-endemic\", \" \", IF(INTRO!$E$37=\"Non-endemic\",\" \", IF(COUNTRY_INFO!C224=0,\" \",COUNTRY_INFO!C224)))","v":" "},{"$f":"IF(INTRO!$E$39<>\"Non-endemic\", 0, IF(INTRO!$E$37=\"Non-endemic\",0,IF(COUNTRY_INFO!$H224=1,COUNTRY_INFO!E224,0)))","v":0},{"$f":"IF(INTRO!$E$39<>\"Non-endemic\", 0, IF(INTRO!$E$37=\"Non-endemic\",0,IF(COUNTRY_INFO!$H224=1,COUNTRY_INFO!F224,0)))","v":0},{"$f":"IF(INTRO!$E$39<>\"Non-endemic\", 0, IF(INTRO!$E$37=\"Non-endemic\",0,IF(COUNTRY_INFO!$H224=1,COUNTRY_INFO!G224,0)))","v":0},0,{"$f":"IF(INTRO!$E$39=\"Non-endemic\",IF(INTRO!$E$37=\"Non-endemic\",\"Not required\",COUNTRY_INFO!P224),\"Treat with IVM\")","v":"Treat with IVM"},0,0,null,0,0]
[{"$f":"IF(INTRO!$E$39<>\"Non-endemic\", \" \", IF(INTRO!$E$37=\"Non-endemic\",\" \", IF(COUNTRY_INFO!A225=0,\" \",COUNTRY_INFO!A225)))","v":" "},{"$f":"IF(INTRO!$E$39<>\"Non-endemic\", \" \", IF(INTRO!$E$37=\"Non-endemic\",\" \", IF(COUNTRY_INFO!B225=0,\" \",COUNTRY_INFO!B225)))","v":" "},{"$f":"IF(INTRO!$E$39<>\"Non-endemic\", \" \", IF(INTRO!$E$37=\"Non-endemic\",\" \", IF(COUNTRY_INFO!C225=0,\" \",COUNTRY_INFO!C225)))","v":" "},{"$f":"IF(INTRO!$E$39<>\"Non-endemic\", 0, IF(INTRO!$E$37=\"Non-endemic\",0,IF(COUNTRY_INFO!$H225=1,COUNTRY_INFO!E225,0)))","v":0},{"$f":"IF(INTRO!$E$39<>\"Non-endemic\", 0, IF(INTRO!$E$37=\"Non-endemic\",0,IF(COUNTRY_INFO!$H225=1,COUNTRY_INFO!F225,0)))","v":0},{"$f":"IF(INTRO!$E$39<>\"Non-endemic\", 0, IF(INTRO!$E$37=\"Non-endemic\",0,IF(COUNTRY_INFO!$H225=1,COUNTRY_INFO!G225,0)))","v":0},0,{"$f":"IF(INTRO!$E$39=\"Non-endemic\",IF(INTRO!$E$37=\"Non-endemic\",\"Not required\",COUNTRY_INFO!P225),\"Treat with IVM\")","v":"Treat with IVM"},0,0,null,0,0]
[{"$f":"IF(INTRO!$E$39<>\"Non-endemic\", \" \", IF(INTRO!$E$37=\"Non-endemic\",\" \", IF(COUNTRY_INFO!A226=0,\" \",COUNTRY_INFO!A226)))","v":" "},{"$f":"IF(INTRO!$E$39<>\"Non-endemic\", \" \", IF(INTRO!$E$37=\"Non-endemic\",\" \", IF(COUNTRY_INFO!B226=0,\" \",COUNTRY_INFO!B226)))","v":" "},{"$f":"IF(INTRO!$E$39<>\"Non-endemic\", \" \", IF(INTRO!$E$37=\"Non-endemic\",\" \", IF(COUNTRY_INFO!C226=0,\" \",COUNTRY_INFO!C226)))","v":" "},{"$f":"IF(INTRO!$E$39<>\"Non-endemic\", 0, IF(INTRO!$E$37=\"Non-endemic\",0,IF(COUNTRY_INFO!$H226=1,COUNTRY_INFO!E226,0)))","v":0},{"$f":"IF(INTRO!$E$39<>\"Non-endemic\", 0, IF(INTRO!$E$37=\"Non-endemic\",0,IF(COUNTRY_INFO!$H226=1,COUNTRY_INFO!F226,0)))","v":0},{"$f":"IF(INTRO!$E$39<>\"Non-endemic\", 0, IF(INTRO!$E$37=\"Non-endemic\",0,IF(COUNTRY_INFO!$H226=1,COUNTRY_INFO!G226,0)))","v":0},0,{"$f":"IF(INTRO!$E$39=\"Non-endemic\",IF(INTRO!$E$37=\"Non-endemic\",\"Not required\",COUNTRY_INFO!P226),\"Treat with IVM\")","v":"Treat with IVM"},0,0,null,0,0]
[{"$f":"IF(INTRO!$E$39<>\"Non-endemic\", \" \", IF(INTRO!$E$37=\"Non-endemic\",\" \", IF(COUNTRY_INFO!A227=0,\" \",COUNTRY_INFO!A227)))","v":" "},{"$f":"IF(INTRO!$E$39<>\"Non-endemic\", \" \", IF(INTRO!$E$37=\"Non-endemic\",\" \", IF(COUNTRY_INFO!B227=0,\" \",COUNTRY_INFO!B227)))","v":" "},{"$f":"IF(INTRO!$E$39<>\"Non-endemic\", \" \", IF(INTRO!$E$37=\"Non-endemic\",\" \", IF(COUNTRY_INFO!C227=0,\" \",COUNTRY_INFO!C227)))","v":" "},{"$f":"IF(INTRO!$E$39<>\"Non-endemic\", 0, IF(INTRO!$E$37=\"Non-endemic\",0,IF(COUNTRY_INFO!$H227=1,COUNTRY_INFO!E227,0)))","v":0},{"$f":"IF(INTRO!$E$39<>\"Non-endemic\", 0, IF(INTRO!$E$37=\"Non-endemic\",0,IF(COUNTRY_INFO!$H227=1,COUNTRY_INFO!F227,0)))","v":0},{"$f":"IF(INTRO!$E$39<>\"Non-endemic\", 0, IF(INTRO!$E$37=\"Non-endemic\",0,IF(COUNTRY_INFO!$H227=1,COUNTRY_INFO!G227,0)))","v":0},0,{"$f":"IF(INTRO!$E$39=\"Non-endemic\",IF(INTRO!$E$37=\"Non-endemic\",\"Not required\",COUNTRY_INFO!P227),\"Treat with IVM\")","v":"Treat with IVM"},0,0,null,0,0]
[{"$f":"IF(INTRO!$E$39<>\"Non-endemic\", \" \", IF(INTRO!$E$37=\"Non-endemic\",\" \", IF(COUNTRY_INFO!A228=0,\" \",COUNTRY_INFO!A228)))","v":" "},{"$f":"IF(INTRO!$E$39<>\"Non-endemic\", \" \", IF(INTRO!$E$37=\"Non-endemic\",\" \", IF(COUNTRY_INFO!B228=0,\" \",COUNTRY_INFO!B228)))","v":" "},{"$f":"IF(INTRO!$E$39<>\"Non-endemic\", \" \", IF(INTRO!$E$37=\"Non-endemic\",\" \", IF(COUNTRY_INFO!C228=0,\" \",COUNTRY_INFO!C228)))","v":" "},{"$f":"IF(INTRO!$E$39<>\"Non-endemic\", 0, IF(INTRO!$E$37=\"Non-endemic\",0,IF(COUNTRY_INFO!$H228=1,COUNTRY_INFO!E228,0)))","v":0},{"$f":"IF(INTRO!$E$39<>\"Non-endemic\", 0, IF(INTRO!$E$37=\"Non-endemic\",0,IF(COUNTRY_INFO!$H228=1,COUNTRY_INFO!F228,0)))","v":0},{"$f":"IF(INTRO!$E$39<>\"Non-endemic\", 0, IF(INTRO!$E$37=\"Non-endemic\",0,IF(COUNTRY_INFO!$H228=1,COUNTRY_INFO!G228,0)))","v":0},0,{"$f":"IF(INTRO!$E$39=\"Non-endemic\",IF(INTRO!$E$37=\"Non-endemic\",\"Not required\",COUNTRY_INFO!P228),\"Treat with IVM\")","v":"Treat with IVM"},0,0,null,0,0]
[{"$f":"IF(INTRO!$E$39<>\"Non-endemic\", \" \", IF(INTRO!$E$37=\"Non-endemic\",\" \", IF(COUNTRY_INFO!A229=0,\" \",COUNTRY_INFO!A229)))","v":" "},{"$f":"IF(INTRO!$E$39<>\"Non-endemic\", \" \", IF(INTRO!$E$37=\"Non-endemic\",\" \", IF(COUNTRY_INFO!B229=0,\" \",COUNTRY_INFO!B229)))","v":" "},{"$f":"IF(INTRO!$E$39<>\"Non-endemic\", \" \", IF(INTRO!$E$37=\"Non-endemic\",\" \", IF(COUNTRY_INFO!C229=0,\" \",COUNTRY_INFO!C229)))","v":" "},{"$f":"IF(INTRO!$E$39<>\"Non-endemic\", 0, IF(INTRO!$E$37=\"Non-endemic\",0,IF(COUNTRY_INFO!$H229=1,COUNTRY_INFO!E229,0)))","v":0},{"$f":"IF(INTRO!$E$39<>\"Non-endemic\", 0, IF(INTRO!$E$37=\"Non-endemic\",0,IF(COUNTRY_INFO!$H229=1,COUNTRY_INFO!F229,0)))","v":0},{"$f":"IF(INTRO!$E$39<>\"Non-endemic\", 0, IF(INTRO!$E$37=\"Non-endemic\",0,IF(COUNTRY_INFO!$H229=1,COUNTRY_INFO!G229,0)))","v":0},0,{"$f":"IF(INTRO!$E$39=\"Non-endemic\",IF(INTRO!$E$37=\"Non-endemic\",\"Not required\",COUNTRY_INFO!P229),\"Treat with IVM\")","v":"Treat with IVM"},0,0,null,0,0]

{"sheet":"ALB_MBD","index":3,"n_rows":229,"n_cols":27,"rows_kept":229,"cut":false,"hidden":false,"merged":[[6,0,7,0],[6,1,7,1],[6,2,7,2],[6,3,7,3],[6,23,7,23],[6,21,7,21],[6,18,7,18],[6,19,7,19],[6,20,7,20],[6,4,7,4],[6,5,7,5],[6,6,7,6],[6,7,7,7],[6,14,6,17],[5,9,7,9],[6,10,6,13],[3,0,3,2],[3,6,3,7],[5,0,5,2],[5,6,5,7],[5,3,5,5],[5,10,5,17],[5,8,7,8],[5,18,5,23],[6,26,7,26],[5,24,5,26],[6,24,7,24],[6,25,7,25],[6,22,7,22]]}
["Albendazole (ALB) and Mebendazole (MBD)"]
["Administrative structure, eligible population by age group, treatment plan and information about tablets"]
[]
["TOTAL",null,null,{"$f":"SUM(D$9:D$1000)","v":3336041},{"$f":"SUM(E$9:E$1000)","v":7567865},{"$f":"SUM(F$9:F$1000)","v":10903906},null,null,{"$f":"SUM(I$9:I$1000)","v":1163404},null,{"$f":"SUM(K$9:K$1000)","v":3190276},{"$f":"SUM(L$9:L$1000)","v":7237199},{"$f":"SUM(M$9:M$1000)","v":0},{"$f":"SUM(N$9:N$1000)","v":10427475},{"$f":"SUM(O$9:O$1000)","v":0},{"$f":"SUM(P$9:P$1000)","v":0},0,0,0,1163404,5826,0,7237199,36286,0,0,0]
[]
["Country administrative structure",null,null,"Population requiring treatment with ALB/MBD",null,null,"Treatment plan",null,"People covered by PELF with ALB","Select medicine for treatment of STH","Target population",null,null,null,null,null,null,null,"Albendazole (ALB)",null,null,null,null,null,"Mebendazole (MBD)"]
["Country","Province/State","District","PreSAC","SAC","Total","LF","STH",null,null,"STH (ALB)",null,null,null,"STH (MBD)",null,null,null,"Remaining in stock (LF)","Tablets to be procured (LF)","Bottle (400 mg)\n200 tablets (LF)","Remaining in stock (STH)","Tablets to be procured for SAC (STH)","Bottle (400 mg)\n200 tablets (STH)","Remaining in stock","Tablets to be procured for SAC","Bottles (500 mg)\n150 tablets"]
[null,null,null,null,null,null,null,null,null,null,"PreSAC","SAC","Other","Total","PreSAC","SAC","Other","Total"]
[{"$f":"IF(AND(INTRO!$E$37=\"Non-endemic\",INTRO!$E$41=\"Non-endemic\"),\" \",IF(COUNTRY_INFO!A9=0,\" \",COUNTRY_INFO!A9))","v":"Ghana"},{"$f":"IF(AND(INTRO!$E$37=\"Non-endemic\",INTRO!$E$41=\"Non-endemic\"),\" \",IF(COUNTRY_INFO!B9=0,\" \",COUNTRY_INFO!B9))","v":"Ashanti"},{"$f":"IF(AND(INTRO!$E$37=\"Non-endemic\",INTRO!$E$41=\"Non-endemic\"),\" \",IF(COUNTRY_INFO!C9=0,\" \",COUNTRY_INFO!C9))","v":"Adansi North"},{"$f":"IF(AND(INTRO!$E$37=\"Non-endemic\",INTRO!$E$41=\"Non-endemic\"),0,IF(AND(OR(COUNTRY_INFO!$H9=0,COUNTRY_INFO!$H9=4,COUNTRY_INFO!$H9=99),OR(COUNTRY_INFO!$J9=0,COUNTRY_INFO!$J9=4)),0,COUNTRY_INFO!$E9))","v":14651},{"$f":"IF(AND(INTRO!$E$37=\"Non-endemic\",INTRO!$E$41=\"Non-endemic\"),0,IF(AND(OR(COUNTRY_INFO!$H9=0,COUNTRY_INFO!$H9=4,COUNTRY_INFO!$H9=99),OR(COUNTRY_INFO!$J9=0,COUNTRY_INFO!$J9=4)),0,COUNTRY_INFO!$F9))","v":33237},{"$f":"SUM(D9:E9)","v":47888},{"$f":"IF(AND(INTRO!$E$37=\"Non-endemic\",INTRO!$E$41=\"Non-endemic\"),0,COUNTRY_INFO!P9)","v":0},{"$f":"IF(AND(INTRO!$E$37=\"Non-endemic\",INTRO!$E$41=\"Non-endemic\"),0,COUNTRY_INFO!R9)","v":1},{"$f":"IF(INTRO!$E$39=\"Non-endemic\",IF($G9=1,DEC!I9,0),IF($G9=1,IVM!G9,0))","v":0},"ALB",{"$f":"IF($J9=\"ALB\", IF(INTRO!$E$39=\"Non-endemic\", IF($H9<>0, IF($I9=0, $D9*$H9, $D9*($H9-$G9)), 0), $D9*$H9), 0)","v":14651},{"$f":"IF($J9=\"ALB\", IF($H9<>0, IF($I9=0, $E9*$H9, $E9*($H9-$G9)),0), 0)","v":33237},null,{"$f":"SUM(K9:M9)","v":47888},{"$f":"IF($J9=\"MBD\", IF(INTRO!$E$39=\"Non-endemic\", IF($H9<>0, IF($I9=0, $D9*$H9, $D9*($H9-$G9)), 0), $D9*$H9), 0)","v":0},{"$f":"IF($J9=\"MBD\", IF($H9<>0,IF($I9=0, $E9*$H9, $E9*($H9-$G9)),0), 0 )","v":0},null,{"$f":"SUM(O9:Q9)","v":0},null,{"$f":"IF($I9>$S9, $I9-$S9,0)","v":0},{"$f":"ROUNDUP($I9/200,0)","v":0},null,{"$f":"IF($L9>$V9,$L9-$V9,0)","v":33237},{"$f":"ROUNDUP($L9/200,0)","v":167},null,{"$f":"IF($P9>$Y9,$P9-$Y9,0)","v":0},{"$f":"ROUNDUP($P9/150,0)","v":0}]
[{"$f":"IF(AND(INTRO!$E$37=\"Non-endemic\",INTRO!$E$41=\"Non-endemic\"),\" \",IF(COUNTRY_INFO!A10=0,\" \",COUNTRY_INFO!A10))","v":"Ghana"},{"$f":"IF(AND(INTRO!$E$37=\"Non-endemic\",INTRO!$E$41=\"Non-endemic\"),\" \",IF(COUNTRY_INFO!B10=0,\" \",COUNTRY_INFO!B10))","v":"Ashanti"},{"$f":"IF(AND(INTRO!$E$37=\"Non-endemic\",INTRO!$E$41=\"Non-endemic\"),\" \",IF(COUNTRY_INFO!C10=0,\" \",COUNTRY_INFO!C10))","v":"Adansi South"},{"$f":"IF(AND(INTRO!$E$37=\"Non-endemic\",INTRO!$E$41=\"Non-endemic\"),0,IF(AND(OR(COUNTRY_INFO!$H10=0,COUNTRY_INFO!$H10=4,COUNTRY_INFO!$H10=99),OR(COUNTRY_INFO!$J10=0,COUNTRY_INFO!$J10=4)),0,COUNTRY_INFO!$E10))","v":15785},{"$f":"IF(AND(INTRO!$E$37=\"Non-endemic\",INTRO!$E$41=\"Non-endemic\"),0,IF(AND(OR(COUNTRY_INFO!$H10=0,COUNTRY_INFO!$H10=4,COUNTRY_INFO!$H10=99),OR(COUNTRY_INFO!$J10=0,COUNTRY_INFO!$J10=4)),0,COUNTRY_INFO!$F10))","v":35809},51594,{"$f":"IF(AND(INTRO!$E$37=\"Non-endemic\",INTRO!$E$41=\"Non-endemic\"),0,COUNTRY_INFO!P10)","v":0},{"$f":"IF(AND(INTRO!$E$37=\"Non-endemic\",INTRO!$E$41=\"Non-endemic\"),0,COUNTRY_INFO!R10)","v":1},{"$f":"IF(INTRO!$E$39=\"Non-endemic\",IF($G10=1,DEC!I10,0),IF($G10=1,IVM!G10,0))","v":0},"ALB",{"$f":"IF($J10=\"ALB\", IF(INTRO!$E$39=\"Non-endemic\", IF($H10<>0, IF($I10=0, $D10*$H10, $D10*($H10-$G10)), 0), $D10*$H10), 0)","v":15785},35809,null,51594,{"$f":"IF($J10=\"MBD\", IF(INTRO!$E$39=\"Non-endemic\", IF($H10<>0, IF($I10=0, $D10*$H10, $D10*($H10-$G10)), 0), $D10*$H10), 0)","v":0},0,null,0,null,0,0,null,35809,180,null,0,0]
[{"$f":"IF(AND(INTRO!$E$37=\"Non-endemic\",INTRO!$E$41=\"Non-endemic\"),\" \",IF(COUNTRY_INFO!A11=0,\" \",COUNTRY_INFO!A11))","v":"Ghana"},{"$f":"IF(AND(INTRO!$E$37=\"Non-endemic\",INTRO!$E$41=\"Non-endemic\"),\" \",IF(COUNTRY_INFO!B11=0,\" \",COUNTRY_INFO!B11))","v":"Ashanti"},{"$f":"IF(AND(INTRO!$E$37=\"Non-endemic\",INTRO!$E$41=\"Non-endemic\"),\" \",IF(COUNTRY_INFO!C11=0,\" \",COUNTRY_INFO!C11))","v":"Afigya-Kwabre"},{"$f":"IF(AND(INTRO!$E$37=\"Non-endemic\",INTRO!$E$41=\"Non-endemic\"),0,IF(AND(OR(COUNTRY_INFO!$H11=0,COUNTRY_INFO!$H11=4,COUNTRY_INFO!$H11=99),OR(COUNTRY_INFO!$J11=0,COUNTRY_INFO!$J11=4)),0,COUNTRY_INFO!$E11))","v":18625},{"$f":"IF(AND(INTRO!$E$37=\"Non-endemic\",INTRO!$E$41=\"Non-endemic\"),0,IF(AND(OR(COUNTRY_INFO!$H11=0,COUNTRY_INFO!$H11=4,COUNTRY_INFO!$H11=99),OR(COUNTRY_INFO!$J11=0,COUNTRY_INFO!$J11=4)),0,COUNTRY_INFO!$F11))","v":42252},60877,{"$f":"IF(AND(INTRO!$E$37=\"Non-endemic\",INTRO!$E$41=\"Non-endemic\"),0,COUNTRY_INFO!P11)","v":0},{"$f":"IF(AND(INTRO!$E$37=\"Non-endemic\",INTRO!$E$41=\"Non-endemic\"),0,COUNTRY_INFO!R11)","v":1},{"$f":"IF(INTRO!$E$39=\"Non-endemic\",IF($G11=1,DEC!I11,0),IF($G11=1,IVM!G11,0))","v":0},"ALB",{"$f":"IF($J11=\"ALB\", IF(INTRO!$E$39=\"Non-endemic\", IF($H11<>0, IF($I11=0, $D11*$H11, $D11*($H11-$G11)), 0), $D11*$H11), 0)","v":18625},42252,null,60877,{"$f":"IF($J11=\"MBD\", IF(INTRO!$E$39=\"Non-endemic\", IF($H11<>0, IF($I11=0, $D11*$H11, $D11*($H11-$G11)), 0), $D11*$H11), 0)","v":0},0,null,0,null,0,0,null,42252,212,null,0,0]
[{"$f":"IF(AND(INTRO!$E$37=\"Non-endemic\",INTRO!$E$41=\"Non-endemic\"),\" \",IF(COUNTRY_INFO!A12=0,\" \",COUNTRY_INFO!A12))","v":"Ghana"},{"$f":"IF(AND(INTRO!$E$37=\"Non-endemic\",INTRO!$E$41=\"Non-endemic\"),\" \",IF(COUNTRY_INFO!B12=0,\" \",COUNTRY_INFO!B12))","v":"Ashanti"},{"$f":"IF(AND(INTRO!$E$37=\"Non-endemic\",INTRO!$E$41=\"Non-endemic\"),\" \",IF(COUNTRY_INFO!C12=0,\" \",COUNTRY_INFO!C12))","v":"Ahafo-Ano North"},{"$f":"IF(AND(INTRO!$E$37=\"Non-endemic\",INTRO!$E$41=\"Non-endemic\"),0,IF(AND(OR(COUNTRY_INFO!$H12=0,COUNTRY_INFO!$H12=4,COUNTRY_INFO!$H12=99),OR(COUNTRY_INFO!$J12=0,COUNTRY_INFO!$J12=4)),0,COUNTRY_INFO!$E12))","v":12899},{"$f":"IF(AND(INTRO!$E$37=\"Non-endemic\",INTRO!$E$41=\"Non-endemic\"),0,IF(AND(OR(COUNTRY_INFO!$H12=0,COUNTRY_INFO!$H12=4,COUNTRY_INFO!$H12=99),OR(COUNTRY_INFO!$J12=0,COUNTRY_INFO!$J12=4)),0,COUNTRY_INFO!$F12))","v":29262},42161,{"$f":"IF(AND(INTRO!$E$37=\"Non-endemic\",INTRO!$E$41=\"Non-endemic\"),0,COUNTRY_INFO!P12)","v":0},{"$f":"IF(AND(INTRO!$E$37=\"Non-endemic\",INTRO!$E$41=\"Non-endemic\"),0,COUNTRY_INFO!R12)","v":1},{"$f":"IF(INTRO!$E$39=\"Non-endemic\",IF($G12=1,DEC!I12,0),IF($G12=1,IVM!G12,0))","v":0},"ALB",{"$f":"IF($J12=\"ALB\", IF(INTRO!$E$39=\"Non-endemic\", IF($H12<>0, IF($I12=0, $D12*$H12, $D12*($H12-$G12)), 0), $D12*$H12), 0)","v":12899},29262,null,42161,{"$f":"IF($J12=\"MBD\", IF(INTRO!$E$39=\"Non-endemic\", IF($H12<>0, IF($I12=0, $D12*$H12, $D12*($H12-$G12)), 0), $D12*$H12), 0)","v":0},0,null,0,null,0,0,null,29262,147,null,0,0]
[{"$f":"IF(AND(INTRO!$E$37=\"Non-endemic\",INTRO!$E$41=\"Non-endemic\"),\" \",IF(COUNTRY_INFO!A13=0,\" \",COUNTRY_INFO!A13))","v":"Ghana"},{"$f":"IF(AND(INTRO!$E$37=\"Non-endemic\",INTRO!$E$41=\"Non-endemic\"),\" \",IF(COUNTRY_INFO!B13=0,\" \",COUNTRY_INFO!B13))","v":"Ashanti"},{"$f":"IF(AND(INTRO!$E$37=\"Non-endemic\",INTRO!$E$41=\"Non-endemic\"),\" \",IF(COUNTRY_INFO!C13=0,\" \",COUNTRY_INFO!C13))","v":"Ahafo-Ano South"},{"$f":"IF(AND(INTRO!$E$37=\"Non-endemic\",INTRO!$E$41=\"Non-endemic\"),0,IF(AND(OR(COUNTRY_INFO!$H13=0,COUNTRY_INFO!$H13=4,COUNTRY_INFO!$H13=99),OR(COUNTRY_INFO!$J13=0,COUNTRY_INFO!$J13=4)),0,COUNTRY_INFO!$E13))","v":16644},{"$f":"IF(AND(INTRO!$E$37=\"Non-endemic\",INTRO!$E$41=\"Non-endemic\"),0,IF(AND(OR(COUNTRY_INFO!$H13=0,COUNTRY_INFO!$H13=4,COUNTRY_INFO!$H13=99),OR(COUNTRY_INFO!$J13=0,COUNTRY_INFO!$J13=4)),0,COUNTRY_INFO!$F13))","v":37758},54402,{"$f":"IF(AND(INTRO!$E$37=\"Non-endemic\",INTRO!$E$41=\"Non-endemic\"),0,COUNTRY_INFO!P13)","v":0},{"$f":"IF(AND(INTRO!$E$37=\"Non-endemic\",INTRO!$E$41=\"Non-endemic\"),0,COUNTRY_INFO!R13)","v":1},{"$f":"IF(INTRO!$E$39=\"Non-endemic\",IF($G13=1,DEC!I13,0),IF($G13=1,IVM!G13,0))","v":0},"ALB",{"$f":"IF($J13=\"ALB\", IF(INTRO!$E$39=\"Non-endemic\", IF($H13<>0, IF($I13=0, $D13*$H13, $D13*($H13-$G13)), 0), $D13*$H13), 0)","v":16644},37758,null,54402,{"$f":"IF($J13=\"MBD\", IF(INTRO!$E$39=\"Non-endemic\", IF($H13<>0, IF($I13=0, $D13*$H13, $D13*($H13-$G13)), 0), $D13*$H13), 0)","v":0},0,null,0,null,0,0,null,37758,189,null,0,0]
[{"$f":"IF(AND(INTRO!$E$37=\"Non-endemic\",INTRO!$E$41=\"Non-endemic\"),\" \",IF(COUNTRY_INFO!A14=0,\" \",COUNTRY_INFO!A14))","v":"Ghana"},{"$f":"IF(AND(INTRO!$E$37=\"Non-endemic\",INTRO!$E$41=\"Non-endemic\"),\" \",IF(COUNTRY_INFO!B14=0,\" \",COUNTRY_INFO!B14))","v":"Ashanti"},{"$f":"IF(AND(INTRO!$E$37=\"Non-endemic\",INTRO!$E$41=\"Non-endemic\"),\" \",IF(COUNTRY_INFO!C14=0,\" \",COUNTRY_INFO!C14))","v":"Amansie Central"},{"$f":"IF(AND(INTRO!$E$37=\"Non-endemic\",INTRO!$E$41=\"Non-endemic\"),0,IF(AND(OR(COUNTRY_INFO!$H14=0,COUNTRY_INFO!$H14=4,COUNTRY_INFO!$H14=99),OR(COUNTRY_INFO!$J14=0,COUNTRY_INFO!$J14=4)),0,COUNTRY_INFO!$E14))","v":12414},{"$f":"IF(AND(INTRO!$E$37=\"Non-endemic\",INTRO!$E$41=\"Non-endemic\"),0,IF(AND(OR(COUNTRY_INFO!$H14=0,COUNTRY_INFO!$H14=4,COUNTRY_INFO!$H14=99),OR(COUNTRY_INFO!$J14=0,COUNTRY_INFO!$J14=4)),0,COUNTRY_INFO!$F14))","v":28162},40576,{"$f":"IF(AND(INTRO!$E$37=\"Non-endemic\",INTRO!$E$41=\"Non-endemic\"),0,COUNTRY_INFO!P14)","v":0},{"$f":"IF(AND(INTRO!$E$37=\"Non-endemic\",INTRO!$E$41=\"Non-endemic\"),0,COUNTRY_INFO!R14)","v":1},{"$f":"IF(INTRO!$E$39=\"Non-endemic\",IF($G14=1,DEC!I14,0),IF($G14=1,IVM!G14,0))","v":0},"ALB",{"$f":"IF($J14=\"ALB\", IF(INTRO!$E$39=\"Non-endemic\", IF($H14<>0, IF($I14=0, $D14*$H14, $D14*($H14-$G14)), 0), $D14*$H14), 0)","v":12414},28162,null,40576,{"$f":"IF($J14=\"MBD\", IF(INTRO!$E$39=\"Non-endemic\", IF($H14<>0, IF($I14=0, $D14*$H14, $D14*($H14-$G14)), 0), $D14*$H14), 0)","v":0},0,null,0,null,0,0,null,28162,141,null,0,0]
[{"$f":"IF(AND(INTRO!$E$37=\"Non-endemic\",INTRO!$E$41=\"Non-endemic\"),\" \",IF(COUNTRY_INFO!A15=0,\" \",COUNTRY_INFO!A15))","v":"Ghana"},{"$f":"IF(AND(INTRO!$E$37=\"Non-endemic\",INTRO!$E$41=\"Non-endemic\"),\" \",IF(COUNTRY_INFO!B15=0,\" \",COUNTRY_INFO!B15))","v":"Ashanti"},{"$f":"IF(AND(INTRO!$E$37=\"Non-endemic\",INTRO!$E$41=\"Non-endemic\"),\" \",IF(COUNTRY_INFO!C15=0,\" \",COUNTRY_INFO!C15))","v":"Mampong Muncipal"},{"$f":"IF(AND(INTRO!$E$37=\"Non-endemic\",INTRO!$E$41=\"Non-endemic\"),0,IF(AND(OR(COUNTRY_INFO!$H15=0,COUNTRY_INFO!$H15=4,COUNTRY_INFO!$H15=99),OR(COUNTRY_INFO!$J15=0,COUNTRY_INFO!$J15=4)),0,COUNTRY_INFO!$E15))","v":12046},{"$f":"IF(AND(INTRO!$E$37=\"Non-endemic\",INTRO!$E$41=\"Non-endemic\"),0,IF(AND(OR(COUNTRY_INFO!$H15=0,COUNTRY_INFO!$H15=4,COUNTRY_INFO!$H15=99),OR(COUNTRY_INFO!$J15=0,COUNTRY_INFO!$J15=4)),0,COUNTRY_INFO!$F15))","v":27328},39374,{"$f":"IF(AND(INTRO!$E$37=\"Non-endemic\",INTRO!$E$41=\"Non-endemic\"),0,COUNTRY_INFO!P15)","v":0},{"$f":"IF(AND(INTRO!$E$37=\"Non-endemic\",INTRO!$E$41=\"Non-endemic\"),0,COUNTRY_INFO!R15)","v":1},{"$f":"IF(INTRO!$E$39=\"Non-endemic\",IF($G15=1,DEC!I15,0),IF($G15=1,IVM!G15,0))","v":0},"ALB",{"$f":"IF($J15=\"ALB\", IF(INTRO!$E$39=\"Non-endemic\", IF($H15<>0, IF($I15=0, $D15*$H15, $D15*($H15-$G15)), 0), $D15*$H15), 0)","v":12046},27328,null,39374,{"$f":"IF($J15=\"MBD\", IF(INTRO!$E$39=\"Non-endemic\", IF($H15<>0, IF($I15=0, $D15*$H15, $D15*($H15-$G15)), 0), $D15*$H15), 0)","v":0},0,null,0,null,0,0,null,27328,137,null,0,0]
[{"$f":"IF(AND(INTRO!$E$37=\"Non-endemic\",INTRO!$E$41=\"Non-endemic\"),\" \",IF(COUNTRY_INFO!A16=0,\" \",COUNTRY_INFO!A16))","v":"Ghana"},{"$f":"IF(AND(INTRO!$E$37=\"Non-endemic\",INTRO!$E$41=\"Non-endemic\"),\" \",IF(COUNTRY_INFO!B16=0,\" \",COUNTRY_INFO!B16))","v":"Ashanti"},{"$f":"IF(AND(INTRO!$E$37=\"Non-endemic\",INTRO!$E$41=\"Non-endemic\"),\" \",IF(COUNTRY_INFO!C16=0,\" \",COUNTRY_INFO!C16))","v":"Amansie West"},{"$f":"IF(AND(INTRO!$E$37=\"Non-endemic\",INTRO!$E$41=\"Non-endemic\"),0,IF(AND(OR(COUNTRY_INFO!$H16=0,COUNTRY_INFO!$H16=4,COUNTRY_INFO!$H16=99),OR(COUNTRY_INFO!$J16=0,COUNTRY_INFO!$J16=4)),0,COUNTRY_INFO!$E16))","v":18378},{"$f":"IF(AND(INTRO!$E$37=\"Non-endemic\",INTRO!$E$41=\"Non-endemic\"),0,IF(AND(OR(COUNTRY_INFO!$H16=0,COUNTRY_INFO!$H16=4,COUNTRY_INFO!$H16=99),OR(COUNTRY_INFO!$J16=0,COUNTRY_INFO!$J16=4)),0,COUNTRY_INFO!$F16))","v":41691},60069,{"$f":"IF(AND(INTRO!$E$37=\"Non-endemic\",INTRO!$E$41=\"Non-endemic\"),0,COUNTRY_INFO!P16)","v":0},{"$f":"IF(AND(INTRO!$E$37=\"Non-endemic\",INTRO!$E$41=\"Non-endemic\"),0,COUNTRY_INFO!R16)","v":1},{"$f":"IF(INTRO!$E$39=\"Non-endemic\",IF($G16=1,DEC!I16,0),IF($G16=1,IVM!G16,0))","v":0},"ALB",{"$f":"IF($J16=\"ALB\", IF(INTRO!$E$39=\"Non-endemic\", IF($H16<>0, IF($I16=0, $D16*$H16, $D16*($H16-$G16)), 0), $D16*$H16), 0)","v":18378},41691,null,60069,{"$f":"IF($J16=\"MBD\", IF(INTRO!$E$39=\"Non-endemic\", IF($H16<>0, IF($I16=0, $D16*$H16, $D16*($H16-$G16)), 0), $D16*$H16), 0)","v":0},0,null,0,null,0,0,null,41691,209,null,0,0]
[{"$f":"IF(AND(INTRO!$E$37=\"Non-endemic\",INTRO!$E$41=\"Non-endemic\"),\" \",IF(COUNTRY_INFO!A17=0,\" \",COUNTRY_INFO!A17))","v":"Ghana"},{"$f":"IF(AND(INTRO!$E$37=\"Non-endemic\",INTRO!$E$41=\"Non-endemic\"),\" \",IF(COUNTRY_INFO!B17=0,\" \",COUNTRY_INFO!B17))","v":"Ashanti"},{"$f":"IF(AND(INTRO!$E$37=\"Non-endemic\",INTRO!$E$41=\"Non-endemic\"),\" \",IF(COUNTRY_INFO!C17=0,\" \",COUNTRY_INFO!C17))","v":"Asante-Akim Central"},{"$f":"IF(AND(INTRO!$E$37=\"Non-endemic\",INTRO!$E$41=\"Non-endemic\"),0,IF(AND(OR(COUNTRY_INFO!$H17=0,COUNTRY_INFO!$H17=4,COUNTRY_INFO!$H17=99),OR(COUNTRY_INFO!$J17=0,COUNTRY_INFO!$J17=4)),0,COUNTRY_INFO!$E17))","v":9783},{"$f":"IF(AND(INTRO!$E$37=\"Non-endemic\",INTRO!$E$41=\"Non-endemic\"),0,IF(AND(OR(COUNTRY_INFO!$H17=0,COUNTRY_INFO!$H17=4,COUNTRY_INFO!$H17=99),OR(COUNTRY_INFO!$J17=0,COUNTRY_INFO!$J17=4)),0,COUNTRY_INFO!$F17))","v":22193},31976,{"$f":"IF(AND(INTRO!$E$37=\"Non-endemic\",INTRO!$E$41=\"Non-endemic\"),0,COUNTRY_INFO!P17)","v":0},{"$f":"IF(AND(INTRO!$E$37=\"Non-endemic\",INTRO!$E$41=\"Non-endemic\"),0,COUNTRY_INFO!R17)","v":1},{"$f":"IF(INTRO!$E$39=\"Non-endemic\",IF($G17=1,DEC!I17,0),IF($G17=1,IVM!G17,0))","v":0},"ALB",{"$f":"IF($J17=\"ALB\", IF(INTRO!$E$39=\"Non-endemic\", IF($H17<>0, IF($I17=0, $D17*$H17, $D17*($H17-$G17)), 0), $D17*$H17), 0)","v":9783},22193,null,31976,{"$f":"IF($J17=\"MBD\", IF(INTRO!$E$39=\"Non-endemic\", IF($H17<>0, IF($I17=0, $D17*$H17, $D17*($H17-$G17)), 0), $D17*$H17), 0)","v":0},0,null,0,null,0,0,null,22193,111,null,0,0]
[{"$f":"IF(AND(INTRO!$E$37=\"Non-endemic\",INTRO!$E$41=\"Non-endemic\"),\" \",IF(COUNTRY_INFO!A18=0,\" \",COUNTRY_INFO!A18))","v":"Ghana"},{"$f":"IF(AND(INTRO!$E$37=\"Non-endemic\",INTRO!$E$41=\"Non-endemic\"),\" \",IF(COUNTRY_INFO!B18=0,\" \",COUNTRY_INFO!B18))","v":"Ashanti"},{"$f":"IF(AND(INTRO!$E$37=\"Non-endemic\",INTRO!$E$41=\"Non-endemic\"),\" \",IF(COUNTRY_INFO!C18=0,\" \",COUNTRY_INFO!C18))","v":"Asante-Akim North"},{"$f":"IF(AND(INTRO!$E$37=\"Non-endemic\",INTRO!$E$41=\"Non-endemic\"),0,IF(AND(OR(COUNTRY_INFO!$H18=0,COUNTRY_INFO!$H18=4,COUNTRY_INFO!$H18=99),OR(COUNTRY_INFO!$J18=0,COUNTRY_INFO!$J18=4)),0,COUNTRY_INFO!$E18))","v":9465},{"$f":"IF(AND(INTRO!$E$37=\"Non-endemic\",INTRO!$E$41=\"Non-endemic\"),0,IF(AND(OR(COUNTRY_INFO!$H18=0,COUNTRY_INFO!$H18=4,COUNTRY_INFO!$H18=99),OR(COUNTRY_INFO!$J18=0,COUNTRY_INFO!$J18=4)),0,COUNTRY_INFO!$F18))","v":21473},30938,{"$f":"IF(AND(INTRO!$E$37=\"Non-endemic\",INTRO!$E$41=\"Non-endemic\"),0,COUNTRY_INFO!P18)","v":0},{"$f":"IF(AND(INTRO!$E$37=\"Non-endemic\",INTRO!$E$41=\"Non-endemic\"),0,COUNTRY_INFO!R18)","v":1},{"$f":"IF(INTRO!$E$39=\"Non-endemic\",IF($G18=1,DEC!I18,0),IF($G18=1,IVM!G18,0))","v":0},"ALB",{"$f":"IF($J18=\"ALB\", IF(INTRO!$E$39=\"Non-endemic\", IF($H18<>0, IF($I18=0, $D18*$H18, $D18*($H18-$G18)), 0), $D18*$H18), 0)","v":9465},21473,null,30938,{"$f":"IF($J18=\"MBD\", IF(INTRO!$E$39=\"Non-endemic\", IF($H18<>0, IF($I18=0, $D18*$H18, $D18*($H18-$G18)), 0), $D18*$H18), 0)","v":0},0,null,0,null,0,0,null,21473,108,null,0,0]
[{"$f":"IF(AND(INTRO!$E$37=\"Non-endemic\",INTRO!$E$41=\"Non-endemic\"),\" \",IF(COUNTRY_INFO!A19=0,\" \",COUNTRY_INFO!A19))","v":"Ghana"},{"$f":"IF(AND(INTRO!$E$37=\"Non-endemic\",INTRO!$E$41=\"Non-endemic\"),\" \",IF(COUNTRY_INFO!B19=0,\" \",COUNTRY_INFO!B19))","v":"Ashanti"},{"$f":"IF(AND(INTRO!$E$37=\"Non-endemic\",INTRO!$E$41=\"Non-endemic\"),\" \",IF(COUNTRY_INFO!C19=0,\" \",COUNTRY_INFO!C19))","v":"Asante-Akim South"},{"$f":"IF(AND(INTRO!$E$37=\"Non-endemic\",INTRO!$E$41=\"Non-endemic\"),0,IF(AND(OR(COUNTRY_INFO!$H19=0,COUNTRY_INFO!$H19=4,COUNTRY_INFO!$H19=99),OR(COUNTRY_INFO!$J19=0,COUNTRY_INFO!$J19=4)),0,COUNTRY_INFO!$E19))","v":16040},{"$f":"IF(AND(INTRO!$E$37=\"Non-endemic\",INTRO!$E$41=\"Non-endemic\"),0,IF(AND(OR(COUNTRY_INFO!$H19=0,COUNTRY_INFO!$H19=4,COUNTRY_INFO!$H19=99),OR(COUNTRY_INFO!$J19=0,COUNTRY_INFO!$J19=4)),0,COUNTRY_INFO!$F19))","v":36388},52428,{"$f":"IF(AND(INTRO!$E$37=\"Non-endemic\",INTRO!$E$41=\"Non-endemic\"),0,COUNTRY_INFO!P19)","v":0},{"$f":"IF(AND(INTRO!$E$37=\"Non-endemic\",INTRO!$E$41=\"Non-endemic\"),0,COUNTRY_INFO!R19)","v":1},{"$f":"IF(INTRO!$E$39=\"Non-endemic\",IF($G19=1,DEC!I19,0),IF($G19=1,IVM!G19,0))","v":0},"ALB",{"$f":"IF($J19=\"ALB\", IF(INTRO!$E$39=\"Non-endemic\", IF($H19<>0, IF($I19=0, $D19*$H19, $D19*($H19-$G19)), 0), $D19*$H19), 0)","v":16040},36388,null,52428,{"$f":"IF($J19=\"MBD\", IF(INTRO!$E$39=\"Non-endemic\", IF($H19<>0, IF($I19=0, $D19*$H19, $D19*($H19-$G19)), 0), $D19*$H19), 0)","v":0},0,null,0,null,0,0,null,36388,182,null,0,0]
[{"$f":"IF(AND(INTRO!$E$37=\"Non-endemic\",INTRO!$E$41=\"Non-endemic\"),\" \",IF(COUNTRY_INFO!A20=0,\" \",COUNTRY_INFO!A20))","v":"Ghana"},{"$f":"IF(AND(INTRO!$E$37=\"Non-endemic\",INTRO!$E$41=\"Non-endemic\"),\" \",IF(COUNTRY_INFO!B20=0,\" \",COUNTRY_INFO!B20))","v":"Ashanti"},{"$f":"IF(AND(INTRO!$E$37=\"Non-endemic\",INTRO!$E$41=\"Non-endemic\"),\" \",IF(COUNTRY_INFO!C20=0,\" \",COUNTRY_INFO!C20))","v":"Atwima-Kwanwoma"},{"$f":"IF(AND(INTRO!$E$37=\"Non-endemic\",INTRO!$E$41=\"Non-endemic\"),0,IF(AND(OR(COUNTRY_INFO!$H20=0,COUNTRY_INFO!$H20=4,COUNTRY_INFO!$H20=99),OR(COUNTRY_INFO!$J20=0,COUNTRY_INFO!$J20=4)),0,COUNTRY_INFO!$E20))","v":12400},{"$f":"IF(AND(INTRO!$E$37=\"Non-endemic\",INTRO!$E$41=\"Non-endemic\"),0,IF(AND(OR(COUNTRY_INFO!$H20=0,COUNTRY_INFO!$H20=4,COUNTRY_INFO!$H20=99),OR(COUNTRY_INFO!$J20=0,COUNTRY_INFO!$J20=4)),0,COUNTRY_INFO!$F20))","v":28129},40529,{"$f":"IF(AND(INTRO!$E$37=\"Non-endemic\",INTRO!$E$41=\"Non-endemic\"),0,COUNTRY_INFO!P20)","v":0},{"$f":"IF(AND(INTRO!$E$37=\"Non-endemic\",INTRO!$E$41=\"Non-endemic\"),0,COUNTRY_INFO!R20)","v":1},{"$f":"IF(INTRO!$E$39=\"Non-endemic\",IF($G20=1,DEC!I20,0),IF($G20=1,IVM!G20,0))","v":0},"ALB",{"$f":"IF($J20=\"ALB\", IF(INTRO!$E$39=\"Non-endemic\", IF($H20<>0, IF($I20=0, $D20*$H20, $D20*($H20-$G20)), 0), $D20*$H20), 0)","v":12400},28129,null,40529,{"$f":"IF($J20=\"MBD\", IF(INTRO!$E$39=\"Non-endemic\", IF($H20<>0, IF($I20=0, $D20*$H20, $D20*($H20-$G20)), 0), $D20*$H20), 0)","v":0},0,null,0,null,0,0,null,28129,141,null,0,0]
[{"$f":"IF(AND(INTRO!$E$37=\"Non-endemic\",INTRO!$E$41=\"Non-endemic\"),\" \",IF(COUNTRY_INFO!A21=0,\" \",COUNTRY_INFO!A21))","v":"Ghana"},{"$f":"IF(AND(INTRO!$E$37=\"Non-endemic\",INTRO!$E$41=\"Non-endemic\"),\" \",IF(COUNTRY_INFO!B21=0,\" \",COUNTRY_INFO!B21))","v":"Ashanti"},{"$f":"IF(AND(INTRO!$E$37=\"Non-endemic\",INTRO!$E$41=\"Non-endemic\"),\" \",IF(COUNTRY_INFO!C21=0,\" \",COUNTRY_INFO!C21))","v":"Atwima-Mponua"},{"$f":"IF(AND(INTRO!$E$37=\"Non-endemic\",INTRO!$E$41=\"Non-endemic\"),0,IF(AND(OR(COUNTRY_INFO!$H21=0,COUNTRY_INFO!$H21=4,COUNTRY_INFO!$H21=99),OR(COUNTRY_INFO!$J21=0,COUNTRY_INFO!$J21=4)),0,COUNTRY_INFO!$E21))","v":16305},{"$f":"IF(AND(INTRO!$E$37=\"Non-endemic\",INTRO!$E$41=\"Non-endemic\"),0,IF(AND(OR(COUNTRY_INFO!$H21=0,COUNTRY_INFO!$H21=4,COUNTRY_INFO!$H21=99),OR(COUNTRY_INFO!$J21=0,COUNTRY_INFO!$J21=4)),0,COUNTRY_INFO!$F21))","v":36989},53294,{"$f":"IF(AND(INTRO!$E$37=\"Non-endemic\",INTRO!$E$41=\"Non-endemic\"),0,COUNTRY_INFO!P21)","v":0},{"$f":"IF(AND(INTRO!$E$37=\"Non-endemic\",INTRO!$E$41=\"Non-endemic\"),0,COUNTRY_INFO!R21)","v":1},{"$f":"IF(INTRO!$E$39=\"Non-endemic\",IF($G21=1,DEC!I21,0),IF($G21=1,IVM!G21,0))","v":0},"ALB",{"$f":"IF($J21=\"ALB\", IF(INTRO!$E$39=\"Non-endemic\", IF($H21<>0, IF($I21=0, $D21*$H21, $D21*($H21-$G21)), 0), $D21*$H21), 0)","v":16305},36989,null,53294,{"$f":"IF($J21=\"MBD\", IF(INTRO!$E$39=\"Non-endemic\", IF($H21<>0, IF($I21=0, $D21*$H21, $D21*($H21-$G21)), 0), $D21*$H21), 0)","v":0},0,null,0,null,0,0,null,36989,185,null,0,0]
[{"$f":"IF(AND(INTRO!$E$37=\"Non-endemic\",INTRO!$E$41=\"Non-endemic\"),\" \",IF(COUNTRY_INFO!A22=0,\" \",COUNTRY_INFO!A22))","v":"Ghana"},{"$f":"IF(AND(INTRO!$E$37=\"Non-endemic\",INTRO!$E$41=\"Non-endemic\"),\" \",IF(COUNTRY_INFO!B22=0,\" \",COUNTRY_INFO!B22))","v":"Ashanti"},{"$f":"IF(AND(INTRO!$E$37=\"Non-endemic\",INTRO!$E$41=\"Non-endemic\"),\" \",IF(COUNTRY_INFO!C22=0,\" \",COUNTRY_INFO!C22))","v":"Atwima-Nwabiagya"},{"$f":"IF(AND(INTRO!$E$37=\"Non-endemic\",INTRO!$E$41=\"Non-endemic\"),0,IF(AND(OR(COUNTRY_INFO!$H22=0,COUNTRY_INFO!$H22=4,COUNTRY_INFO!$H22=99),OR(COUNTRY_INFO!$J22=0,COUNTRY_INFO!$J22=4)),0,COUNTRY_INFO!$E22))","v":20388},{"$f":"IF(AND(INTRO!$E$37=\"Non-endemic\",INTRO!$E$41=\"Non-endemic\"),0,IF(AND(OR(COUNTRY_INFO!$H22=0,COUNTRY_INFO!$H22=4,COUNTRY_INFO!$H22=99),OR(COUNTRY_INFO!$J22=0,COUNTRY_INFO!$J22=4)),0,COUNTRY_INFO!$F22))","v":46251},66639,{"$f":"IF(AND(INTRO!$E$37=\"Non-endemic\",INTRO!$E$41=\"Non-endemic\"),0,COUNTRY_INFO!P22)","v":0},{"$f":"IF(AND(INTRO!$E$37=\"Non-endemic\",INTRO!$E$41=\"Non-endemic\"),0,COUNTRY_INFO!R22)","v":1},{"$f":"IF(INTRO!$E$39=\"Non-endemic\",IF($G22=1,DEC!I22,0),IF($G22=1,IVM!G22,0))","v":0},"ALB",{"$f":"IF($J22=\"ALB\", IF(INTRO!$E$39=\"Non-endemic\", IF($H22<>0, IF($I22=0, $D22*$H22, $D22*($H22-$G22)), 0), $D22*$H22), 0)","v":20388},46251,null,66639,{"$f":"IF($J22=\"MBD\", IF(INTRO!$E$39=\"Non-endemic\", IF($H22<>0, IF($I22=0, $D22*$H22, $D22*($H22-$G22)), 0), $D22*$H22), 0)","v":0},0,null,0,null,0,0,null,46251,232,null,0,0]
[{"$f":"IF(AND(INTRO!$E$37=\"Non-endemic\",INTRO!$E$41=\"Non-endemic\"),\" \",IF(COUNTRY_INFO!A23=0,\" \",COUNTRY_INFO!A23))","v":"Ghana"},{"$f":"IF(AND(INTRO!$E$37=\"Non-endemic\",INTRO!$E$41=\"Non-endemic\"),\" \",IF(COUNTRY_INFO!B23=0,\" \",COUNTRY_INFO!B23))","v":"Ashanti"},{"$f":"IF(AND(INTRO!$E$37=\"Non-endemic\",INTRO!$E$41=\"Non-endemic\"),\" \",IF(COUNTRY_INFO!C23=0,\" \",COUNTRY_INFO!C23))","v":"Bosomtwe"},{"$f":"IF(AND(INTRO!$E$37=\"Non-endemic\",INTRO!$E$41=\"Non-endemic\"),0,IF(AND(OR(COUNTRY_INFO!$H23=0,COUNTRY_INFO!$H23=4,COUNTRY_INFO!$H23=99),OR(COUNTRY_INFO!$J23=0,COUNTRY_INFO!$J23=4)),0,COUNTRY_INFO!$E23))","v":12848},{"$f":"IF(AND(INTRO!$E$37=\"Non-endemic\",INTRO!$E$41=\"Non-endemic\"),0,IF(AND(OR(COUNTRY_INFO!$H23=0,COUNTRY_INFO!$H23=4,COUNTRY_INFO!$H23=99),OR(COUNTRY_INFO!$J23=0,COUNTRY_INFO!$J23=4)),0,COUNTRY_INFO!$F23))","v":29146},41994,{"$f":"IF(AND(INTRO!$E$37=\"Non-endemic\",INTRO!$E$41=\"Non-endemic\"),0,COUNTRY_INFO!P23)","v":0},{"$f":"IF(AND(INTRO!$E$37=\"Non-endemic\",INTRO!$E$41=\"Non-endemic\"),0,COUNTRY_INFO!R23)","v":1},{"$f":"IF(INTRO!$E$39=\"Non-endemic\",IF($G23=1,DEC!I23,0),IF($G23=1,IVM!G23,0))","v":0},"ALB",{"$f":"IF($J23=\"ALB\", IF(INTRO!$E$39=\"Non-endemic\", IF($H23<>0, IF($I23=0, $D23*$H23, $D23*($H23-$G23)), 0), $D23*$H23), 0)","v":12848},29146,null,41994,{"$f":"IF($J23=\"MBD\", IF(INTRO!$E$39=\"Non-endemic\", IF($H23<>0, IF($I23=0, $D23*$H23, $D23*($H23-$G23)), 0), $D23*$H23), 0)","v":0},0,null,0,null,0,0,null,29146,146,null,0,0]
[{"$f":"IF(AND(INTRO!$E$37=\"Non-endemic\",INTRO!$E$41=\"Non-endemic\"),\" \",IF(COUNTRY_INFO!A24=0,\" \",COUNTRY_INFO!A24))","v":"Ghana"},{"$f":"IF(AND(INTRO!$E$37=\"Non-endemic\",INTRO!$E$41=\"Non-endemic\"),\" \",IF(COUNTRY_INFO!B24=0,\" \",COUNTRY_INFO!B24))","v":"Ashanti"},{"$f":"IF(AND(INTRO!$E$37=\"Non-endemic\",INTRO!$E$41=\"Non-endemic\"),\" \",IF(COUNTRY_INFO!C24=0,\" \",COUNTRY_INFO!C24))","v":"Bosome-Freho"},{"$f":"IF(AND(INTRO!$E$37=\"Non-endemic\",INTRO!$E$41=\"Non-endemic\"),0,IF(AND(OR(COUNTRY_INFO!$H24=0,COUNTRY_INFO!$H24=4,COUNTRY_INFO!$H24=99),OR(COUNTRY_INFO!$J24=0,COUNTRY_INFO!$J24=4)),0,COUNTRY_INFO!$E24))","v":8263},{"$f":"IF(AND(INTRO!$E$37=\"Non-endemic\",INTRO!$E$41=\"Non-endemic\"),0,IF(AND(OR(COUNTRY_INFO!$H24=0,COUNTRY_INFO!$H24=4,COUNTRY_INFO!$H24=99),OR(COUNTRY_INFO!$J24=0,COUNTRY_INFO!$J24=4)),0,COUNTRY_INFO!$F24))","v":18745},27008,{"$f":"IF(AND(INTRO!$E$37=\"Non-endemic\",INTRO!$E$41=\"Non-endemic\"),0,COUNTRY_INFO!P24)","v":0},{"$f":"IF(AND(INTRO!$E$37=\"Non-endemic\",INTRO!$E$41=\"Non-endemic\"),0,COUNTRY_INFO!R24)","v":1},{"$f":"IF(INTRO!$E$39=\"Non-endemic\",IF($G24=1,DEC!I24,0),IF($G24=1,IVM!G24,0))","v":0},"ALB",{"$f":"IF($J24=\"ALB\", IF(INTRO!$E$39=\"Non-endemic\", IF($H24<>0, IF($I24=0, $D24*$H24, $D24*($H24-$G24)), 0), $D24*$H24), 0)","v":8263},18745,null,27008,{"$f":"IF($J24=\"MBD\", IF(INTRO!$E$39=\"Non-endemic\", IF($H24<>0, IF($I24=0, $D24*$H24, $D24*($H24-$G24)), 0), $D24*$H24), 0)","v":0},0,null,0,null,0,0,null,18745,94,null,0,0]
[{"$f":"IF(AND(INTRO!$E$37=\"Non-endemic\",INTRO!$E$41=\"Non-endemic\"),\" \",IF(COUNTRY_INFO!A25=0,\" \",COUNTRY_INFO!A25))","v":"Ghana"},{"$f":"IF(AND(INTRO!$E$37=\"Non-endemic\",INTRO!$E$41=\"Non-endemic\"),\" \",IF(COUNTRY_INFO!B25=0,\" \",COUNTRY_INFO!B25))","v":"Ashanti"},{"$f":"IF(AND(INTRO!$E$37=\"Non-endemic\",INTRO!$E$41=\"Non-endemic\"),\" \",IF(COUNTRY_INFO!C25=0,\" \",COUNTRY_INFO!C25))","v":"Ejisu-Juaben"},{"$f":"IF(AND(INTRO!$E$37=\"Non-endemic\",INTRO!$E$41=\"Non-endemic\"),0,IF(AND(OR(COUNTRY_INFO!$H25=0,COUNTRY_INFO!$H25=4,COUNTRY_INFO!$H25=99),OR(COUNTRY_INFO!$J25=0,COUNTRY_INFO!$J25=4)),0,COUNTRY_INFO!$E25))","v":19668},{"$f":"IF(AND(INTRO!$E$37=\"Non-endemic\",INTRO!$E$41=\"Non-endemic\"),0,IF(AND(OR(COUNTRY_INFO!$H25=0,COUNTRY_INFO!$H25=4,COUNTRY_INFO!$H25=99),OR(COUNTRY_INFO!$J25=0,COUNTRY_INFO!$J25=4)),0,COUNTRY_INFO!$F25))","v":44618},64286,{"$f":"IF(AND(INTRO!$E$37=\"Non-endemic\",INTRO!$E$41=\"Non-endemic\"),0,COUNTRY_INFO!P25)","v":0},{"$f":"IF(AND(INTRO!$E$37=\"Non-endemic\",INTRO!$E$41=\"Non-endemic\"),0,COUNTRY_INFO!R25)","v":1},{"$f":"IF(INTRO!$E$39=\"Non-endemic\",IF($G25=1,DEC!I25,0),IF($G25=1,IVM!G25,0))","v":0},"ALB",{"$f":"IF($J25=\"ALB\", IF(INTRO!$E$39=\"Non-endemic\", IF($H25<>0, IF($I25=0, $D25*$H25, $D25*($H25-$G25)), 0), $D25*$H25), 0)","v":19668},44618,null,64286,{"$f":"IF($J25=\"MBD\", IF(INTRO!$E$39=\"Non-endemic\", IF($H25<>0, IF($I25=0, $D25*$H25, $D25*($H25-$G25)), 0), $D25*$H25), 0)","v":0},0,null,0,null,0,0,null,44618,224,null,0,0]
[{"$f":"IF(AND(INTRO!$E$37=\"Non-endemic\",INTRO!$E$41=\"Non-endemic\"),\" \",IF(COUNTRY_INFO!A26=0,\" \",COUNTRY_INFO!A26))","v":"Ghana"},{"$f":"IF(AND(INTRO!$E$37=\"Non-endemic\",INTRO!$E$41=\"Non-endemic\"),\" \",IF(COUNTRY_INFO!B26=0,\" \",COUNTRY_INFO!B26))","v":"Ashanti"},{"$f":"IF(AND(INTRO!$E$37=\"Non-endemic\",INTRO!$E$41=\"Non-endemic\"),\" \",IF(COUNTRY_INFO!C26=0,\" \",COUNTRY_INFO!C26))","v":"Ejura-Sekyedomasi"},{"$f":"IF(AND(INTRO!$E$37=\"Non-endemic\",INTRO!$E$41=\"Non-endemic\"),0,IF(AND(OR(COUNTRY_INFO!$H26=0,COUNTRY_INFO!$H26=4,COUNTRY_INFO!$H26=99),OR(COUNTRY_INFO!$J26=0,COUNTRY_INFO!$J26=4)),0,COUNTRY_INFO!$E26))","v":11690},{"$f":"IF(AND(INTRO!$E$37=\"Non-endemic\",INTRO!$E$41=\"Non-endemic\"),0,IF(AND(OR(COUNTRY_INFO!$H26=0,COUNTRY_INFO!$H26=4,COUNTRY_INFO!$H26=99),OR(COUNTRY_INFO!$J26=0,COUNTRY_INFO!$J26=4)),0,COUNTRY_INFO!$F26))","v":26519},38209,{"$f":"IF(AND(INTRO!$E$37=\"Non-endemic\",INTRO!$E$41=\"Non-endemic\"),0,COUNTRY_INFO!P26)","v":0},{"$f":"IF(AND(INTRO!$E$37=\"Non-endemic\",INTRO!$E$41=\"Non-endemic\"),0,COUNTRY_INFO!R26)","v":1},{"$f":"IF(INTRO!$E$39=\"Non-endemic\",IF($G26=1,DEC!I26,0),IF($G26=1,IVM!G26,0))","v":0},"ALB",{"$f":"IF($J26=\"ALB\", IF(INTRO!$E$39=\"Non-endemic\", IF($H26<>0, IF($I26=0, $D26*$H26, $D26*($H26-$G26)), 0), $D26*$H26), 0)","v":11690},26519,null,38209,{"$f":"IF($J26=\"MBD\", IF(INTRO!$E$39=\"Non-endemic\", IF($H26<>0, IF($I26=0, $D26*$H26, $D26*($H26-$G26)), 0), $D26*$H26), 0)","v":0},0,null,0,null,0,0,null,26519,133,null,0,0]
[{"$f":"IF(AND(INTRO!$E$37=\"Non-endemic\",INTRO!$E$41=\"Non-endemic\"),\" \",IF(COUNTRY_INFO!A27=0,\" \",COUNTRY_INFO!A27))","v":"Ghana"},{"$f":"IF(AND(INTRO!$E$37=\"Non-endemic\",INTRO!$E$41=\"Non-endemic\"),\" \",IF(COUNTRY_INFO!B27=0,\" \",COUNTRY_INFO!B27))","v":"Ashanti"},{"$f":"IF(AND(INTRO!$E$37=\"Non-endemic\",INTRO!$E$41=\"Non-endemic\"),\" \",IF(COUNTRY_INFO!C27=0,\" \",COUNTRY_INFO!C27))","v":"Kumasi Metropolis"},{"$f":"IF(AND(INTRO!$E$37=\"Non-endemic\",INTRO!$E$41=\"Non-endemic\"),0,IF(AND(OR(COUNTRY_INFO!$H27=0,COUNTRY_INFO!$H27=4,COUNTRY_INFO!$H27=99),OR(COUNTRY_INFO!$J27=0,COUNTRY_INFO!$J27=4)),0,COUNTRY_INFO!$E27))","v":236718},{"$f":"IF(AND(INTRO!$E$37=\"Non-endemic\",INTRO!$E$41=\"Non-endemic\"),0,IF(AND(OR(COUNTRY_INFO!$H27=0,COUNTRY_INFO!$H27=4,COUNTRY_INFO!$H27=99),OR(COUNTRY_INFO!$J27=0,COUNTRY_INFO!$J27=4)),0,COUNTRY_INFO!$F27))","v":536998},773716,{"$f":"IF(AND(INTRO!$E$37=\"Non-endemic\",INTRO!$E$41=\"Non-endemic\"),0,COUNTRY_INFO!P27)","v":0},{"$f":"IF(AND(INTRO!$E$37=\"Non-endemic\",INTRO!$E$41=\"Non-endemic\"),0,COUNTRY_INFO!R27)","v":1},{"$f":"IF(INTRO!$E$39=\"Non-endemic\",IF($G27=1,DEC!I27,0),IF($G27=1,IVM!G27,0))","v":0},"ALB",{"$f":"IF($J27=\"ALB\", IF(INTRO!$E$39=\"Non-endemic\", IF($H27<>0, IF($I27=0, $D27*$H27, $D27*($H27-$G27)), 0), $D27*$H27), 0)","v":236718},536998,null,773716,{"$f":"IF($J27=\"MBD\", IF(INTRO!$E$39=\"Non-endemic\", IF($H27<>0, IF($I27=0, $D27*$H27, $D27*($H27-$G27)), 0), $D27*$H27), 0)","v":0},0,null,0,null,0,0,null,536998,2685,null,0,0]
[{"$f":"IF(AND(INTRO!$E$37=\"Non-endemic\",INTRO!$E$41=\"Non-endemic\"),\" \",IF(COUNTRY_INFO!A28=0,\" \",COUNTRY_INFO!A28))","v":"Ghana"},{"$f":"IF(AND(INTRO!$E$37=\"Non-endemic\",INTRO!$E$41=\"Non-endemic\"),\" \",IF(COUNTRY_INFO!B28=0,\" \",COUNTRY_INFO!B28))","v":"Ashanti"},{"$f":"IF(AND(INTRO!$E$37=\"Non-endemic\",INTRO!$E$41=\"Non-endemic\"),\" \",IF(COUNTRY_INFO!C28=0,\" \",COUNTRY_INFO!C28))","v":"Kwabre"},{"$f":"IF(AND(INTRO!$E$37=\"Non-endemic\",INTRO!$E$41=\"Non-endemic\"),0,IF(AND(OR(COUNTRY_INFO!$H28=0,COUNTRY_INFO!$H28=4,COUNTRY_INFO!$H28=99),OR(COUNTRY_INFO!$J28=0,COUNTRY_INFO!$J28=4)),0,COUNTRY_INFO!$E28))","v":15809},{"$f":"IF(AND(INTRO!$E$37=\"Non-endemic\",INTRO!$E$41=\"Non-endemic\"),0,IF(AND(OR(COUNTRY_INFO!$H28=0,COUNTRY_INFO!$H28=4,COUNTRY_INFO!$H28=99),OR(COUNTRY_INFO!$J28=0,COUNTRY_INFO!$J28=4)),0,COUNTRY_INFO!$F28))","v":35864},51673,{"$f":"IF(AND(INTRO!$E$37=\"Non-endemic\",INTRO!$E$41=\"Non-endemic\"),0,COUNTRY_INFO!P28)","v":0},{"$f":"IF(AND(INTRO!$E$37=\"Non-endemic\",INTRO!$E$41=\"Non-endemic\"),0,COUNTRY_INFO!R28)","v":1},{"$f":"IF(INTRO!$E$39=\"Non-endemic\",IF($G28=1,DEC!I28,0),IF($G28=1,IVM!G28,0))","v":0},"ALB",{"$f":"IF($J28=\"ALB\", IF(INTRO!$E$39=\"Non-endemic\", IF($H28<>0, IF($I28=0, $D28*$H28, $D28*($H28-$G28)), 0), $D28*$H28), 0)","v":15809},35864,null,51673,{"$f":"IF($J28=\"MBD\", IF(INTRO!$E$39=\"Non-endemic\", IF($H28<>0, IF($I28=0, $D28*$H28, $D28*($H28-$G28)), 0), $D28*$H28), 0)","v":0},0,null,0,null,0,0,null,35864,180,null,0,0]
[{"$f":"IF(AND(INTRO!$E$37=\"Non-endemic\",INTRO!$E$41=\"Non-endemic\"),\" \",IF(COUNTRY_INFO!A29=0,\" \",COUNTRY_INFO!A29))","v":"Ghana"},{"$f":"IF(AND(INTRO!$E$37=\"Non-endemic\",INTRO!$E$41=\"Non-endemic\"),\" \",IF(COUNTRY_INFO!B29=0,\" \",COUNTRY_INFO!B29))","v":"Ashanti"},{"$f":"IF(AND(INTRO!$E$37=\"Non-endemic\",INTRO!$E$41=\"Non-endemic\"),\" \",IF(COUNTRY_INFO!C29=0,\" \",COUNTRY_INFO!C29))","v":"Bekwai Municipal"},{"$f":"IF(AND(INTRO!$E$37=\"Non-endemic\",INTRO!$E$41=\"Non-endemic\"),0,IF(AND(OR(COUNTRY_INFO!$H29=0,COUNTRY_INFO!$H29=4,COUNTRY_INFO!$H29=99),OR(COUNTRY_INFO!$J29=0,COUNTRY_INFO!$J29=4)),0,COUNTRY_INFO!$E29))","v":16147},{"$f":"IF(AND(INTRO!$E$37=\"Non-endemic\",INTRO!$E$41=\"Non-endemic\"),0,IF(AND(OR(COUNTRY_INFO!$H29=0,COUNTRY_INFO!$H29=4,COUNTRY_INFO!$H29=99),OR(COUNTRY_INFO!$J29=0,COUNTRY_INFO!$J29=4)),0,COUNTRY_INFO!$F29))","v":36630},52777,{"$f":"IF(AND(INTRO!$E$37=\"Non-endemic\",INTRO!$E$41=\"Non-endemic\"),0,COUNTRY_INFO!P29)","v":0},{"$f":"IF(AND(INTRO!$E$37=\"Non-endemic\",INTRO!$E$41=\"Non-endemic\"),0,COUNTRY_INFO!R29)","v":1},{"$f":"IF(INTRO!$E$39=\"Non-endemic\",IF($G29=1,DEC!I29,0),IF($G29=1,IVM!G29,0))","v":0},"ALB",{"$f":"IF($J29=\"ALB\", IF(INTRO!$E$39=\"Non-endemic\", IF($H29<>0, IF($I29=0, $D29*$H29, $D29*($H29-$G29)), 0), $D29*$H29), 0)","v":16147},36630,null,52777,{"$f":"IF($J29=\"MBD\", IF(INTRO!$E$39=\"Non-endemic\", IF($H29<>0, IF($I29=0, $D29*$H29, $D29*($H29-$G29)), 0), $D29*$H29), 0)","v":0},0,null,0,null,0,0,null,36630,184,null,0,0]
[{"$f":"IF(AND(INTRO!$E$37=\"Non-endemic\",INTRO!$E$41=\"Non-endemic\"),\" \",IF(COUNTRY_INFO!A30=0,\" \",COUNTRY_INFO!A30))","v":"Ghana"},{"$f":"IF(AND(INTRO!$E$37=\"Non-endemic\",INTRO!$E$41=\"Non-endemic\"),\" \",IF(COUNTRY_INFO!B30=0,\" \",COUNTRY_INFO!B30))","v":"Ashanti"},{"$f":"IF(AND(INTRO!$E$37=\"Non-endemic\",INTRO!$E$41=\"Non-endemic\"),\" \",IF(COUNTRY_INFO!C30=0,\" \",COUNTRY_INFO!C30))","v":"Asokore-Mampong"},{"$f":"IF(AND(INTRO!$E$37=\"Non-endemic\",INTRO!$E$41=\"Non-endemic\"),0,IF(AND(OR(COUNTRY_INFO!$H30=0,COUNTRY_INFO!$H30=4,COUNTRY_INFO!$H30=99),OR(COUNTRY_INFO!$J30=0,COUNTRY_INFO!$J30=4)),0,COUNTRY_INFO!$E30))","v":41702},{"$f":"IF(AND(INTRO!$E$37=\"Non-endemic\",INTRO!$E$41=\"Non-endemic\"),0,IF(AND(OR(COUNTRY_INFO!$H30=0,COUNTRY_INFO!$H30=4,COUNTRY_INFO!$H30=99),OR(COUNTRY_INFO!$J30=0,COUNTRY_INFO!$J30=4)),0,COUNTRY_INFO!$F30))","v":94602},136304,{"$f":"IF(AND(INTRO!$E$37=\"Non-endemic\",INTRO!$E$41=\"Non-endemic\"),0,COUNTRY_INFO!P30)","v":0},{"$f":"IF(AND(INTRO!$E$37=\"Non-endemic\",INTRO!$E$41=\"Non-endemic\"),0,COUNTRY_INFO!R30)","v":1},{"$f":"IF(INTRO!$E$39=\"Non-endemic\",IF($G30=1,DEC!I30,0),IF($G30=1,IVM!G30,0))","v":0},"ALB",{"$f":"IF($J30=\"ALB\", IF(INTRO!$E$39=\"Non-endemic\", IF($H30<>0, IF($I30=0, $D30*$H30, $D30*($H30-$G30)), 0), $D30*$H30), 0)","v":41702},94602,null,136304,{"$f":"IF($J30=\"MBD\", IF(INTRO!$E$39=\"Non-endemic\", IF($H30<>0, IF($I30=0, $D30*$H30, $D30*($H30-$G30)), 0), $D30*$H30), 0)","v":0},0,null,0,null,0,0,null,94602,474,null,0,0]
[{"$f":"IF(AND(INTRO!$E$37=\"Non-endemic\",INTRO!$E$41=\"Non-endemic\"),\" \",IF(COUNTRY_INFO!A31=0,\" \",COUNTRY_INFO!A31))","v":"Ghana"},{"$f":"IF(AND(INTRO!$E$37=\"Non-endemic\",INTRO!$E$41=\"Non-endemic\"),\" \",IF(COUNTRY_INFO!B31=0,\" \",COUNTRY_INFO!B31))","v":"Ashanti"},{"$f":"IF(AND(INTRO!$E$37=\"Non-endemic\",INTRO!$E$41=\"Non-endemic\"),\" \",IF(COUNTRY_INFO!C31=0,\" \",COUNTRY_INFO!C31))","v":"Obuasi Municipal"},{"$f":"IF(AND(INTRO!$E$37=\"Non-endemic\",INTRO!$E$41=\"Non-endemic\"),0,IF(AND(OR(COUNTRY_INFO!$H31=0,COUNTRY_INFO!$H31=4,COUNTRY_INFO!$H31=99),OR(COUNTRY_INFO!$J31=0,COUNTRY_INFO!$J31=4)),0,COUNTRY_INFO!$E31))","v":23072},{"$f":"IF(AND(INTRO!$E$37=\"Non-endemic\",INTRO!$E$41=\"Non-endemic\"),0,IF(AND(OR(COUNTRY_INFO!$H31=0,COUNTRY_INFO!$H31=4,COUNTRY_INFO!$H31=99),OR(COUNTRY_INFO!$J31=0,COUNTRY_INFO!$J31=4)),0,COUNTRY_INFO!$F31))","v":52339},75411,{"$f":"IF(AND(INTRO!$E$37=\"Non-endemic\",INTRO!$E$41=\"Non-endemic\"),0,COUNTRY_INFO!P31)","v":0},{"$f":"IF(AND(INTRO!$E$37=\"Non-endemic\",INTRO!$E$41=\"Non-endemic\"),0,COUNTRY_INFO!R31)","v":1},{"$f":"IF(INTRO!$E$39=\"Non-endemic\",IF($G31=1,DEC!I31,0),IF($G31=1,IVM!G31,0))","v":0},"ALB",{"$f":"IF($J31=\"ALB\", IF(INTRO!$E$39=\"Non-endemic\", IF($H31<>0, IF($I31=0, $D31*$H31, $D31*($H31-$G31)), 0), $D31*$H31), 0)","v":23072},52339,null,75411,{"$f":"IF($J31=\"MBD\", IF(INTRO!$E$39=\"Non-endemic\", IF($H31<>0, IF($I31=0, $D31*$H31, $D31*($H31-$G31)), 0), $D31*$H31), 0)","v":0},0,null,0,null,0,0,null,52339,262,null,0,0]
[{"$f":"IF(AND(INTRO!$E$37=\"Non-endemic\",INTRO!$E$41=\"Non-endemic\"),\" \",IF(COUNTRY_INFO!A32=0,\" \",COUNTRY_INFO!A32))","v":"Ghana"},{"$f":"IF(AND(INTRO!$E$37=\"Non-endemic\",INTRO!$E$41=\"Non-endemic\"),\" \",IF(COUNTRY_INFO!B32=0,\" \",COUNTRY_INFO!B32))","v":"Ashanti"},{"$f":"IF(AND(INTRO!$E$37=\"Non-endemic\",INTRO!$E$41=\"Non-endemic\"),\" \",IF(COUNTRY_INFO!C32=0,\" \",COUNTRY_INFO!C32))","v":"Offiinso Municipal"},{"$f":"IF(AND(INTRO!$E$37=\"Non-endemic\",INTRO!$E$41=\"Non-endemic\"),0,IF(AND(OR(COUNTRY_INFO!$H32=0,COUNTRY_INFO!$H32=4,COUNTRY_INFO!$H32=99),OR(COUNTRY_INFO!$J32=0,COUNTRY_INFO!$J32=4)),0,COUNTRY_INFO!$E32))","v":10520},{"$f":"IF(AND(INTRO!$E$37=\"Non-endemic\",INTRO!$E$41=\"Non-endemic\"),0,IF(AND(OR(COUNTRY_INFO!$H32=0,COUNTRY_INFO!$H32=4,COUNTRY_INFO!$H32=99),OR(COUNTRY_INFO!$J32=0,COUNTRY_INFO!$J32=4)),0,COUNTRY_INFO!$F32))","v":23865},34385,{"$f":"IF(AND(INTRO!$E$37=\"Non-endemic\",INTRO!$E$41=\"Non-endemic\"),0,COUNTRY_INFO!P32)","v":0},{"$f":"IF(AND(INTRO!$E$37=\"Non-endemic\",INTRO!$E$41=\"Non-endemic\"),0,COUNTRY_INFO!R32)","v":1},{"$f":"IF(INTRO!$E$39=\"Non-endemic\",IF($G32=1,DEC!I32,0),IF($G32=1,IVM!G32,0))","v":0},"ALB",{"$f":"IF($J32=\"ALB\", IF(INTRO!$E$39=\"Non-endemic\", IF($H32<>0, IF($I32=0, $D32*$H32, $D32*($H32-$G32)), 0), $D32*$H32), 0)","v":10520},23865,null,34385,{"$f":"IF($J32=\"MBD\", IF(INTRO!$E$39=\"Non-endemic\", IF($H32<>0, IF($I32=0, $D32*$H32, $D32*($H32-$G32)), 0), $D32*$H32), 0)","v":0},0,null,0,null,0,0,null,23865,120,null,0,0]
[{"$f":"IF(AND(INTRO!$E$37=\"Non-endemic\",INTRO!$E$41=\"Non-endemic\"),\" \",IF(COUNTRY_INFO!A33=0,\" \",COUNTRY_INFO!A33))","v":"Ghana"},{"$f":"IF(AND(INTRO!$E$37=\"Non-endemic\",INTRO!$E$41=\"Non-endemic\"),\" \",IF(COUNTRY_INFO!B33=0,\" \",COUNTRY_INFO!B33))","v":"Ashanti"},{"$f":"IF(AND(INTRO!$E$37=\"Non-endemic\",INTRO!$E$41=\"Non-endemic\"),\" \",IF(COUNTRY_INFO!C33=0,\" \",COUNTRY_INFO!C33))","v":"Offinso North"},{"$f":"IF(AND(INTRO!$E$37=\"Non-endemic\",INTRO!$E$41=\"Non-endemic\"),0,IF(AND(OR(COUNTRY_INFO!$H33=0,COUNTRY_INFO!$H33=4,COUNTRY_INFO!$H33=99),OR(COUNTRY_INFO!$J33=0,COUNTRY_INFO!$J33=4)),0,COUNTRY_INFO!$E33))","v":7782},{"$f":"IF(AND(INTRO!$E$37=\"Non-endemic\",INTRO!$E$41=\"Non-endemic\"),0,IF(AND(OR(COUNTRY_INFO!$H33=0,COUNTRY_INFO!$H33=4,COUNTRY_INFO!$H33=99),OR(COUNTRY_INFO!$J33=0,COUNTRY_INFO!$J33=4)),0,COUNTRY_INFO!$F33))","v":17653},25435,{"$f":"IF(AND(INTRO!$E$37=\"Non-endemic\",INTRO!$E$41=\"Non-endemic\"),0,COUNTRY_INFO!P33)","v":0},{"$f":"IF(AND(INTRO!$E$37=\"Non-endemic\",INTRO!$E$41=\"Non-endemic\"),0,COUNTRY_INFO!R33)","v":1},{"$f":"IF(INTRO!$E$39=\"Non-endemic\",IF($G33=1,DEC!I33,0),IF($G33=1,IVM!G33,0))","v":0},"ALB",{"$f":"IF($J33=\"ALB\", IF(INTRO!$E$39=\"Non-endemic\", IF($H33<>0, IF($I33=0, $D33*$H33, $D33*($H33-$G33)), 0), $D33*$H33), 0)","v":7782},17653,null,25435,{"$f":"IF($J33=\"MBD\", IF(INTRO!$E$39=\"Non-endemic\", IF($H33<>0, IF($I33=0, $D33*$H33, $D33*($H33-$G33)), 0), $D33*$H33), 0)","v":0},0,null,0,null,0,0,null,17653,89,null,0,0]
[{"$f":"IF(AND(INTRO!$E$37=\"Non-endemic\",INTRO!$E$41=\"Non-endemic\"),\" \",IF(COUNTRY_INFO!A34=0,\" \",COUNTRY_INFO!A34))","v":"Ghana"},{"$f":"IF(AND(INTRO!$E$37=\"Non-endemic\",INTRO!$E$41=\"Non-endemic\"),\" \",IF(COUNTRY_INFO!B34=0,\" \",COUNTRY_INFO!B34))","v":"Ashanti"},{"$f":"IF(AND(INTRO!$E$37=\"Non-endemic\",INTRO!$E$41=\"Non-endemic\"),\" \",IF(COUNTRY_INFO!C34=0,\" \",COUNTRY_INFO!C34))","v":"Sekyere-Afram Plains"},{"$f":"IF(AND(INTRO!$E$37=\"Non-endemic\",INTRO!$E$41=\"Non-endemic\"),0,IF(AND(OR(COUNTRY_INFO!$H34=0,COUNTRY_INFO!$H34=4,COUNTRY_INFO!$H34=99),OR(COUNTRY_INFO!$J34=0,COUNTRY_INFO!$J34=4)),0,COUNTRY_INFO!$E34))","v":3904},{"$f":"IF(AND(INTRO!$E$37=\"Non-endemic\",INTRO!$E$41=\"Non-endemic\"),0,IF(AND(OR(COUNTRY_INFO!$H34=0,COUNTRY_INFO!$H34=4,COUNTRY_INFO!$H34=99),OR(COUNTRY_INFO!$J34=0,COUNTRY_INFO!$J34=4)),0,COUNTRY_INFO!$F34))","v":8856},12760,{"$f":"IF(AND(INTRO!$E$37=\"Non-endemic\",INTRO!$E$41=\"Non-endemic\"),0,COUNTRY_INFO!P34)","v":0},{"$f":"IF(AND(INTRO!$E$37=\"Non-endemic\",INTRO!$E$41=\"Non-endemic\"),0,COUNTRY_INFO!R34)","v":1},{"$f":"IF(INTRO!$E$39=\"Non-endemic\",IF($G34=1,DEC!I34,0),IF($G34=1,IVM!G34,0))","v":0},"ALB",{"$f":"IF($J34=\"ALB\", IF(INTRO!$E$39=\"Non-endemic\", IF($H34<>0, IF($I34=0, $D34*$H34, $D34*($H34-$G34)), 0), $D34*$H34), 0)","v":3904},8856,null,12760,{"$f":"IF($J34=\"MBD\", IF(INTRO!$E$39=\"Non-endemic\", IF($H34<>0, IF($I34=0, $D34*$H34, $D34*($H34-$G34)), 0), $D34*$H34), 0)","v":0},0,null,0,null,0,0,null,8856,45,null,0,0]
[{"$f":"IF(AND(INTRO!$E$37=\"Non-endemic\",INTRO!$E$41=\"Non-endemic\"),\" \",IF(COUNTRY_INFO!A35=0,\" \",COUNTRY_INFO!A35))","v":"Ghana"},{"$f":"IF(AND(INTRO!$E$37=\"Non-endemic\",INTRO!$E$41=\"Non-endemic\"),\" \",IF(COUNTRY_INFO!B35=0,\" \",COUNTRY_INFO!B35))","v":"Ashanti"},{"$f":"IF(AND(INTRO!$E$37=\"Non-endemic\",INTRO!$E$41=\"Non-endemic\"),\" \",IF(COUNTRY_INFO!C35=0,\" \",COUNTRY_INFO!C35))","v":"Kumawu"},{"$f":"IF(AND(INTRO!$E$37=\"Non-endemic\",INTRO!$E$41=\"Non-endemic\"),0,IF(AND(OR(COUNTRY_INFO!$H35=0,COUNTRY_INFO!$H35=4,COUNTRY_INFO!$H35=99),OR(COUNTRY_INFO!$J35=0,COUNTRY_INFO!$J35=4)),0,COUNTRY_INFO!$E35))","v":8948},{"$f":"IF(AND(INTRO!$E$37=\"Non-endemic\",INTRO!$E$41=\"Non-endemic\"),0,IF(AND(OR(COUNTRY_INFO!$H35=0,COUNTRY_INFO!$H35=4,COUNTRY_INFO!$H35=99),OR(COUNTRY_INFO!$J35=0,COUNTRY_INFO!$J35=4)),0,COUNTRY_INFO!$F35))","v":20298},29246,{"$f":"IF(AND(INTRO!$E$37=\"Non-endemic\",INTRO!$E$41=\"Non-endemic\"),0,COUNTRY_INFO!P35)","v":0},{"$f":"IF(AND(INTRO!$E$37=\"Non-endemic\",INTRO!$E$41=\"Non-endemic\"),0,COUNTRY_INFO!R35)","v":1},{"$f":"IF(INTRO!$E$39=\"Non-endemic\",IF($G35=1,DEC!I35,0),IF($G35=1,IVM!G35,0))","v":0},"ALB",{"$f":"IF($J35=\"ALB\", IF(INTRO!$E$39=\"Non-endemic\", IF($H35<>0, IF($I35=0, $D35*$H35, $D35*($H35-$G35)), 0), $D35*$H35), 0)","v":8948},20298,null,29246,{"$f":"IF($J35=\"MBD\", IF(INTRO!$E$39=\"Non-endemic\", IF($H35<>0, IF($I35=0, $D35*$H35, $D35*($H35-$G35)), 0), $D35*$H35), 0)","v":0},0,null,0,null,0,0,null,20298,102,null,0,0]
[{"$f":"IF(AND(INTRO!$E$37=\"Non-endemic\",INTRO!$E$41=\"Non-endemic\"),\" \",IF(COUNTRY_INFO!A36=0,\" \",COUNTRY_INFO!A36))","v":"Ghana"},{"$f":"IF(AND(INTRO!$E$37=\"Non-endemic\",INTRO!$E$41=\"Non-endemic\"),\" \",IF(COUNTRY_INFO!B36=0,\" \",COUNTRY_INFO!B36))","v":"Ashanti"},{"$f":"IF(AND(INTRO!$E$37=\"Non-endemic\",INTRO!$E$41=\"Non-endemic\"),\" \",IF(COUNTRY_INFO!C36=0,\" \",COUNTRY_INFO!C36))","v":"Sekyere Central"},{"$f":"IF(AND(INTRO!$E$37=\"Non-endemic\",INTRO!$E$41=\"Non-endemic\"),0,IF(AND(OR(COUNTRY_INFO!$H36=0,COUNTRY_INFO!$H36=4,COUNTRY_INFO!$H36=99),OR(COUNTRY_INFO!$J36=0,COUNTRY_INFO!$J36=4)),0,COUNTRY_INFO!$E36))","v":9745},{"$f":"IF(AND(INTRO!$E$37=\"Non-endemic\",INTRO!$E$41=\"Non-endemic\"),0,IF(AND(OR(COUNTRY_INFO!$H36=0,COUNTRY_INFO!$H36=4,COUNTRY_INFO!$H36=99),OR(COUNTRY_INFO!$J36=0,COUNTRY_INFO!$J36=4)),0,COUNTRY_INFO!$F36))","v":22107},31852,{"$f":"IF(AND(INTRO!$E$37=\"Non-endemic\",INTRO!$E$41=\"Non-endemic\"),0,COUNTRY_INFO!P36)","v":0},{"$f":"IF(AND(INTRO!$E$37=\"Non-endemic\",INTRO!$E$41=\"Non-endemic\"),0,COUNTRY_INFO!R36)","v":1},{"$f":"IF(INTRO!$E$39=\"Non-endemic\",IF($G36=1,DEC!I36,0),IF($G36=1,IVM!G36,0))","v":0},"ALB",{"$f":"IF($J36=\"ALB\", IF(INTRO!$E$39=\"Non-endemic\", IF($H36<>0, IF($I36=0, $D36*$H36, $D36*($H36-$G36)), 0), $D36*$H36), 0)","v":9745},22107,null,31852,{"$f":"IF($J36=\"MBD\", IF(INTRO!$E$39=\"Non-endemic\", IF($H36<>0, IF($I36=0, $D36*$H36, $D36*($H36-$G36)), 0), $D36*$H36), 0)","v":0},0,null,0,null,0,0,null,22107,111,null,0,0]
[{"$f":"IF(AND(INTRO!$E$37=\"Non-endemic\",INTRO!$E$41=\"Non-endemic\"),\" \",IF(COUNTRY_INFO!A37=0,\" \",COUNTRY_INFO!A37))","v":"Ghana"},{"$f":"IF(AND(INTRO!$E$37=\"Non-endemic\",INTRO!$E$41=\"Non-endemic\"),\" \",IF(COUNTRY_INFO!B37=0,\" \",COUNTRY_INFO!B37))","v":"Ashanti"},{"$f":"IF(AND(INTRO!$E$37=\"Non-endemic\",INTRO!$E$41=\"Non-endemic\"),\" \",IF(COUNTRY_INFO!C37=0,\" \",COUNTRY_INFO!C37))","v":"Sekyere East"},{"$f":"IF(AND(INTRO!$E$37=\"Non-endemic\",INTRO!$E$41=\"Non-endemic\"),0,IF(AND(OR(COUNTRY_INFO!$H37=0,COUNTRY_INFO!$H37=4,COUNTRY_INFO!$H37=99),OR(COUNTRY_INFO!$J37=0,COUNTRY_INFO!$J37=4)),0,COUNTRY_INFO!$E37))","v":8506},{"$f":"IF(AND(INTRO!$E$37=\"Non-endemic\",INTRO!$E$41=\"Non-endemic\"),0,IF(AND(OR(COUNTRY_INFO!$H37=0,COUNTRY_INFO!$H37=4,COUNTRY_INFO!$H37=99),OR(COUNTRY_INFO!$J37=0,COUNTRY_INFO!$J37=4)),0,COUNTRY_INFO!$F37))","v":19295},27801,{"$f":"IF(AND(INTRO!$E$37=\"Non-endemic\",INTRO!$E$41=\"Non-endemic\"),0,COUNTRY_INFO!P37)","v":0},{"$f":"IF(AND(INTRO!$E$37=\"Non-endemic\",INTRO!$E$41=\"Non-endemic\"),0,COUNTRY_INFO!R37)","v":1},{"$f":"IF(INTRO!$E$39=\"Non-endemic\",IF($G37=1,DEC!I37,0),IF($G37=1,IVM!G37,0))","v":0},"ALB",{"$f":"IF($J37=\"ALB\", IF(INTRO!$E$39=\"Non-endemic\", IF($H37<>0, IF($I37=0, $D37*$H37, $D37*($H37-$G37)), 0), $D37*$H37), 0)","v":8506},19295,null,27801,{"$f":"IF($J37=\"MBD\", IF(INTRO!$E$39=\"Non-endemic\", IF($H37<>0, IF($I37=0, $D37*$H37, $D37*($H37-$G37)), 0), $D37*$H37), 0)","v":0},0,null,0,null,0,0,null,19295,97,null,0,0]
[{"$f":"IF(AND(INTRO!$E$37=\"Non-endemic\",INTRO!$E$41=\"Non-endemic\"),\" \",IF(COUNTRY_INFO!A38=0,\" \",COUNTRY_INFO!A38))","v":"Ghana"},{"$f":"IF(AND(INTRO!$E$37=\"Non-endemic\",INTRO!$E$41=\"Non-endemic\"),\" \",IF(COUNTRY_INFO!B38=0,\" \",COUNTRY_INFO!B38))","v":"Ashanti"},{"$f":"IF(AND(INTRO!$E$37=\"Non-endemic\",INTRO!$E$41=\"Non-endemic\"),\" \",IF(COUNTRY_INFO!C38=0,\" \",COUNTRY_INFO!C38))","v":"Sekyere South"},{"$f":"IF(AND(INTRO!$E$37=\"Non-endemic\",INTRO!$E$41=\"Non-endemic\"),0,IF(AND(OR(COUNTRY_INFO!$H38=0,COUNTRY_INFO!$H38=4,COUNTRY_INFO!$H38=99),OR(COUNTRY_INFO!$J38=0,COUNTRY_INFO!$J38=4)),0,COUNTRY_INFO!$E38))","v":12862},{"$f":"IF(AND(INTRO!$E$37=\"Non-endemic\",INTRO!$E$41=\"Non-endemic\"),0,IF(AND(OR(COUNTRY_INFO!$H38=0,COUNTRY_INFO!$H38=4,COUNTRY_INFO!$H38=99),OR(COUNTRY_INFO!$J38=0,COUNTRY_INFO!$J38=4)),0,COUNTRY_INFO!$F38))","v":29177},42039,{"$f":"IF(AND(INTRO!$E$37=\"Non-endemic\",INTRO!$E$41=\"Non-endemic\"),0,COUNTRY_INFO!P38)","v":0},{"$f":"IF(AND(INTRO!$E$37=\"Non-endemic\",INTRO!$E$41=\"Non-endemic\"),0,COUNTRY_INFO!R38)","v":1},{"$f":"IF(INTRO!$E$39=\"Non-endemic\",IF($G38=1,DEC!I38,0),IF($G38=1,IVM!G38,0))","v":0},"ALB",{"$f":"IF($J38=\"ALB\", IF(INTRO!$E$39=\"Non-endemic\", IF($H38<>0, IF($I38=0, $D38*$H38, $D38*($H38-$G38)), 0), $D38*$H38), 0)","v":12862},29177,null,42039,{"$f":"IF($J38=\"MBD\", IF(INTRO!$E$39=\"Non-endemic\", IF($H38<>0, IF($I38=0, $D38*$H38, $D38*($H38-$G38)), 0), $D38*$H38), 0)","v":0},0,null,0,null,0,0,null,29177,146,null,0,0]
[{"$f":"IF(AND(INTRO!$E$37=\"Non-endemic\",INTRO!$E$41=\"Non-endemic\"),\" \",IF(COUNTRY_INFO!A39=0,\" \",COUNTRY_INFO!A39))","v":"Ghana"},{"$f":"IF(AND(INTRO!$E$37=\"Non-endemic\",INTRO!$E$41=\"Non-endemic\"),\" \",IF(COUNTRY_INFO!B39=0,\" \",COUNTRY_INFO!B39))","v":"Brong-Ahafo"},{"$f":"IF(AND(INTRO!$E$37=\"Non-endemic\",INTRO!$E$41=\"Non-endemic\"),\" \",IF(COUNTRY_INFO!C39=0,\" \",COUNTRY_INFO!C39))","v":"Asunafo North"},{"$f":"IF(AND(INTRO!$E$37=\"Non-endemic\",INTRO!$E$41=\"Non-endemic\"),0,IF(AND(OR(COUNTRY_INFO!$H39=0,COUNTRY_INFO!$H39=4,COUNTRY_INFO!$H39=99),OR(COUNTRY_INFO!$J39=0,COUNTRY_INFO!$J39=4)),0,COUNTRY_INFO!$E39))","v":16534},{"$f":"IF(AND(INTRO!$E$37=\"Non-endemic\",INTRO!$E$41=\"Non-endemic\"),0,IF(AND(OR(COUNTRY_INFO!$H39=0,COUNTRY_INFO!$H39=4,COUNTRY_INFO!$H39=99),OR(COUNTRY_INFO!$J39=0,COUNTRY_INFO!$J39=4)),0,COUNTRY_INFO!$F39))","v":37508},54042,{"$f":"IF(AND(INTRO!$E$37=\"Non-endemic\",INTRO!$E$41=\"Non-endemic\"),0,COUNTRY_INFO!P39)","v":0},{"$f":"IF(AND(INTRO!$E$37=\"Non-endemic\",INTRO!$E$41=\"Non-endemic\"),0,COUNTRY_INFO!R39)","v":1},{"$f":"IF(INTRO!$E$39=\"Non-endemic\",IF($G39=1,DEC!I39,0),IF($G39=1,IVM!G39,0))","v":0},"ALB",{"$f":"IF($J39=\"ALB\", IF(INTRO!$E$39=\"Non-endemic\", IF($H39<>0, IF($I39=0, $D39*$H39, $D39*($H39-$G39)), 0), $D39*$H39), 0)","v":16534},37508,null,54042,{"$f":"IF($J39=\"MBD\", IF(INTRO!$E$39=\"Non-endemic\", IF($H39<>0, IF($I39=0, $D39*$H39, $D39*($H39-$G39)), 0), $D39*$H39), 0)","v":0},0,null,0,null,0,0,null,37508,188,null,0,0]
[{"$f":"IF(AND(INTRO!$E$37=\"Non-endemic\",INTRO!$E$41=\"Non-endemic\"),\" \",IF(COUNTRY_INFO!A40=0,\" \",COUNTRY_INFO!A40))","v":"Ghana"},{"$f":"IF(AND(INTRO!$E$37=\"Non-endemic\",INTRO!$E$41=\"Non-endemic\"),\" \",IF(COUNTRY_INFO!B40=0,\" \",COUNTRY_INFO!B40))","v":"Brong-Ahafo"},{"$f":"IF(AND(INTRO!$E$37=\"Non-endemic\",INTRO!$E$41=\"Non-endemic\"),\" \",IF(COUNTRY_INFO!C40=0,\" \",COUNTRY_INFO!C40))","v":"Asunafo South"},{"$f":"IF(AND(INTRO!$E$37=\"Non-endemic\",INTRO!$E$41=\"Non-endemic\"),0,IF(AND(OR(COUNTRY_INFO!$H40=0,COUNTRY_INFO!$H40=4,COUNTRY_INFO!$H40=99),OR(COUNTRY_INFO!$J40=0,COUNTRY_INFO!$J40=4)),0,COUNTRY_INFO!$E40))","v":12674},{"$f":"IF(AND(INTRO!$E$37=\"Non-endemic\",INTRO!$E$41=\"Non-endemic\"),0,IF(AND(OR(COUNTRY_INFO!$H40=0,COUNTRY_INFO!$H40=4,COUNTRY_INFO!$H40=99),OR(COUNTRY_INFO!$J40=0,COUNTRY_INFO!$J40=4)),0,COUNTRY_INFO!$F40))","v":28752},41426,{"$f":"IF(AND(INTRO!$E$37=\"Non-endemic\",INTRO!$E$41=\"Non-endemic\"),0,COUNTRY_INFO!P40)","v":0},{"$f":"IF(AND(INTRO!$E$37=\"Non-endemic\",INTRO!$E$41=\"Non-endemic\"),0,COUNTRY_INFO!R40)","v":1},{"$f":"IF(INTRO!$E$39=\"Non-endemic\",IF($G40=1,DEC!I40,0),IF($G40=1,IVM!G40,0))","v":0},"ALB",{"$f":"IF($J40=\"ALB\", IF(INTRO!$E$39=\"Non-endemic\", IF($H40<>0, IF($I40=0, $D40*$H40, $D40*($H40-$G40)), 0), $D40*$H40), 0)","v":12674},28752,null,41426,{"$f":"IF($J40=\"MBD\", IF(INTRO!$E$39=\"Non-endemic\", IF($H40<>0, IF($I40=0, $D40*$H40, $D40*($H40-$G40)), 0), $D40*$H40), 0)","v":0},0,null,0,null,0,0,null,28752,144,null,0,0]
[{"$f":"IF(AND(INTRO!$E$37=\"Non-endemic\",INTRO!$E$41=\"Non-endemic\"),\" \",IF(COUNTRY_INFO!A41=0,\" \",COUNTRY_INFO!A41))","v":"Ghana"},{"$f":"IF(AND(INTRO!$E$37=\"Non-endemic\",INTRO!$E$41=\"Non-endemic\"),\" \",IF(COUNTRY_INFO!B41=0,\" \",COUNTRY_INFO!B41))","v":"Brong-Ahafo"},{"$f":"IF(AND(INTRO!$E$37=\"Non-endemic\",INTRO!$E$41=\"Non-endemic\"),\" \",IF(COUNTRY_INFO!C41=0,\" \",COUNTRY_INFO!C41))","v":"Asutifi North"},{"$f":"IF(AND(INTRO!$E$37=\"Non-endemic\",INTRO!$E$41=\"Non-endemic\"),0,IF(AND(OR(COUNTRY_INFO!$H41=0,COUNTRY_INFO!$H41=4,COUNTRY_INFO!$H41=99),OR(COUNTRY_INFO!$J41=0,COUNTRY_INFO!$J41=4)),0,COUNTRY_INFO!$E41))","v":7028},{"$f":"IF(AND(INTRO!$E$37=\"Non-endemic\",INTRO!$E$41=\"Non-endemic\"),0,IF(AND(OR(COUNTRY_INFO!$H41=0,COUNTRY_INFO!$H41=4,COUNTRY_INFO!$H41=99),OR(COUNTRY_INFO!$J41=0,COUNTRY_INFO!$J41=4)),0,COUNTRY_INFO!$F41))","v":15943},22971,{"$f":"IF(AND(INTRO!$E$37=\"Non-endemic\",INTRO!$E$41=\"Non-endemic\"),0,COUNTRY_INFO!P41)","v":0},{"$f":"IF(AND(INTRO!$E$37=\"Non-endemic\",INTRO!$E$41=\"Non-endemic\"),0,COUNTRY_INFO!R41)","v":1},{"$f":"IF(INTRO!$E$39=\"Non-endemic\",IF($G41=1,DEC!I41,0),IF($G41=1,IVM!G41,0))","v":0},"ALB",{"$f":"IF($J41=\"ALB\", IF(INTRO!$E$39=\"Non-endemic\", IF($H41<>0, IF($I41=0, $D41*$H41, $D41*($H41-$G41)), 0), $D41*$H41), 0)","v":7028},15943,null,22971,{"$f":"IF($J41=\"MBD\", IF(INTRO!$E$39=\"Non-endemic\", IF($H41<>0, IF($I41=0, $D41*$H41, $D41*($H41-$G41)), 0), $D41*$H41), 0)","v":0},0,null,0,null,0,0,null,15943,80,null,0,0]
[{"$f":"IF(AND(INTRO!$E$37=\"Non-endemic\",INTRO!$E$41=\"Non-endemic\"),\" \",IF(COUNTRY_INFO!A42=0,\" \",COUNTRY_INFO!A42))","v":"Ghana"},{"$f":"IF(AND(INTRO!$E$37=\"Non-endemic\",INTRO!$E$41=\"Non-endemic\"),\" \",IF(COUNTRY_INFO!B42=0,\" \",COUNTRY_INFO!B42))","v":"Brong-Ahafo"},{"$f":"IF(AND(INTRO!$E$37=\"Non-endemic\",INTRO!$E$41=\"Non-endemic\"),\" \",IF(COUNTRY_INFO!C42=0,\" \",COUNTRY_INFO!C42))","v":"Asutifi South"},{"$f":"IF(AND(INTRO!$E$37=\"Non-endemic\",INTRO!$E$41=\"Non-endemic\"),0,IF(AND(OR(COUNTRY_INFO!$H42=0,COUNTRY_INFO!$H42=4,COUNTRY_INFO!$H42=99),OR(COUNTRY_INFO!$J42=0,COUNTRY_INFO!$J42=4)),0,COUNTRY_INFO!$E42))","v":7007},{"$f":"IF(AND(INTRO!$E$37=\"Non-endemic\",INTRO!$E$41=\"Non-endemic\"),0,IF(AND(OR(COUNTRY_INFO!$H42=0,COUNTRY_INFO!$H42=4,COUNTRY_INFO!$H42=99),OR(COUNTRY_INFO!$J42=0,COUNTRY_INFO!$J42=4)),0,COUNTRY_INFO!$F42))","v":15897},22904,{"$f":"IF(AND(INTRO!$E$37=\"Non-endemic\",INTRO!$E$41=\"Non-endemic\"),0,COUNTRY_INFO!P42)","v":0},{"$f":"IF(AND(INTRO!$E$37=\"Non-endemic\",INTRO!$E$41=\"Non-endemic\"),0,COUNTRY_INFO!R42)","v":1},{"$f":"IF(INTRO!$E$39=\"Non-endemic\",IF($G42=1,DEC!I42,0),IF($G42=1,IVM!G42,0))","v":0},"ALB",{"$f":"IF($J42=\"ALB\", IF(INTRO!$E$39=\"Non-endemic\", IF($H42<>0, IF($I42=0, $D42*$H42, $D42*($H42-$G42)), 0), $D42*$H42), 0)","v":7007},15897,null,22904,{"$f":"IF($J42=\"MBD\", IF(INTRO!$E$39=\"Non-endemic\", IF($H42<>0, IF($I42=0, $D42*$H42, $D42*($H42-$G42)), 0), $D42*$H42), 0)","v":0},0,null,0,null,0,0,null,15897,80,null,0,0]
[{"$f":"IF(AND(INTRO!$E$37=\"Non-endemic\",INTRO!$E$41=\"Non-endemic\"),\" \",IF(COUNTRY_INFO!A43=0,\" \",COUNTRY_INFO!A43))","v":"Ghana"},{"$f":"IF(AND(INTRO!$E$37=\"Non-endemic\",INTRO!$E$41=\"Non-endemic\"),\" \",IF(COUNTRY_INFO!B43=0,\" \",COUNTRY_INFO!B43))","v":"Brong-Ahafo"},{"$f":"IF(AND(INTRO!$E$37=\"Non-endemic\",INTRO!$E$41=\"Non-endemic\"),\" \",IF(COUNTRY_INFO!C43=0,\" \",COUNTRY_INFO!C43))","v":"Atebubu-Amanteng"},{"$f":"IF(AND(INTRO!$E$37=\"Non-endemic\",INTRO!$E$41=\"Non-endemic\"),0,IF(AND(OR(COUNTRY_INFO!$H43=0,COUNTRY_INFO!$H43=4,COUNTRY_INFO!$H43=99),OR(COUNTRY_INFO!$J43=0,COUNTRY_INFO!$J43=4)),0,COUNTRY_INFO!$E43))","v":14048},{"$f":"IF(AND(INTRO!$E$37=\"Non-endemic\",INTRO!$E$41=\"Non-endemic\"),0,IF(AND(OR(COUNTRY_INFO!$H43=0,COUNTRY_INFO!$H43=4,COUNTRY_INFO!$H43=99),OR(COUNTRY_INFO!$J43=0,COUNTRY_INFO!$J43=4)),0,COUNTRY_INFO!$F43))","v":31868},45916,{"$f":"IF(AND(INTRO!$E$37=\"Non-endemic\",INTRO!$E$41=\"Non-endemic\"),0,COUNTRY_INFO!P43)","v":0},{"$f":"IF(AND(INTRO!$E$37=\"Non-endemic\",INTRO!$E$41=\"Non-endemic\"),0,COUNTRY_INFO!R43)","v":1},{"$f":"IF(INTRO!$E$39=\"Non-endemic\",IF($G43=1,DEC!I43,0),IF($G43=1,IVM!G43,0))","v":0},"ALB",{"$f":"IF($J43=\"ALB\", IF(INTRO!$E$39=\"Non-endemic\", IF($H43<>0, IF($I43=0, $D43*$H43, $D43*($H43-$G43)), 0), $D43*$H43), 0)","v":14048},31868,null,45916,{"$f":"IF($J43=\"MBD\", IF(INTRO!$E$39=\"Non-endemic\", IF($H43<>0, IF($I43=0, $D43*$H43, $D43*($H43-$G43)), 0), $D43*$H43), 0)","v":0},0,null,0,null,0,0,null,31868,160,null,0,0]
[{"$f":"IF(AND(INTRO!$E$37=\"Non-endemic\",INTRO!$E$41=\"Non-endemic\"),\" \",IF(COUNTRY_INFO!A44=0,\" \",COUNTRY_INFO!A44))","v":"Ghana"},{"$f":"IF(AND(INTRO!$E$37=\"Non-endemic\",INTRO!$E$41=\"Non-endemic\"),\" \",IF(COUNTRY_INFO!B44=0,\" \",COUNTRY_INFO!B44))","v":"Brong-Ahafo"},{"$f":"IF(AND(INTRO!$E$37=\"Non-endemic\",INTRO!$E$41=\"Non-endemic\"),\" \",IF(COUNTRY_INFO!C44=0,\" \",COUNTRY_INFO!C44))","v":"Berekum"},{"$f":"IF(AND(INTRO!$E$37=\"Non-endemic\",INTRO!$E$41=\"Non-endemic\"),0,IF(AND(OR(COUNTRY_INFO!$H44=0,COUNTRY_INFO!$H44=4,COUNTRY_INFO!$H44=99),OR(COUNTRY_INFO!$J44=0,COUNTRY_INFO!$J44=4)),0,COUNTRY_INFO!$E44))","v":17189},{"$f":"IF(AND(INTRO!$E$37=\"Non-endemic\",INTRO!$E$41=\"Non-endemic\"),0,IF(AND(OR(COUNTRY_INFO!$H44=0,COUNTRY_INFO!$H44=4,COUNTRY_INFO!$H44=99),OR(COUNTRY_INFO!$J44=0,COUNTRY_INFO!$J44=4)),0,COUNTRY_INFO!$F44))","v":38995},56184,{"$f":"IF(AND(INTRO!$E$37=\"Non-endemic\",INTRO!$E$41=\"Non-endemic\"),0,COUNTRY_INFO!P44)","v":0},{"$f":"IF(AND(INTRO!$E$37=\"Non-endemic\",INTRO!$E$41=\"Non-endemic\"),0,COUNTRY_INFO!R44)","v":1},{"$f":"IF(INTRO!$E$39=\"Non-endemic\",IF($G44=1,DEC!I44,0),IF($G44=1,IVM!G44,0))","v":0},"ALB",{"$f":"IF($J44=\"ALB\", IF(INTRO!$E$39=\"Non-endemic\", IF($H44<>0, IF($I44=0, $D44*$H44, $D44*($H44-$G44)), 0), $D44*$H44), 0)","v":17189},38995,null,56184,{"$f":"IF($J44=\"MBD\", IF(INTRO!$E$39=\"Non-endemic\", IF($H44<>0, IF($I44=0, $D44*$H44, $D44*($H44-$G44)), 0), $D44*$H44), 0)","v":0},0,null,0,null,0,0,null,38995,195,null,0,0]
[{"$f":"IF(AND(INTRO!$E$37=\"Non-endemic\",INTRO!$E$41=\"Non-endemic\"),\" \",IF(COUNTRY_INFO!A45=0,\" \",COUNTRY_INFO!A45))","v":"Ghana"},{"$f":"IF(AND(INTRO!$E$37=\"Non-endemic\",INTRO!$E$41=\"Non-endemic\"),\" \",IF(COUNTRY_INFO!B45=0,\" \",COUNTRY_INFO!B45))","v":"Brong-Ahafo"},{"$f":"IF(AND(INTRO!$E$37=\"Non-endemic\",INTRO!$E$41=\"Non-endemic\"),\" \",IF(COUNTRY_INFO!C45=0,\" \",COUNTRY_INFO!C45))","v":"Dormaa Municipal"},{"$f":"IF(AND(INTRO!$E$37=\"Non-endemic\",INTRO!$E$41=\"Non-endemic\"),0,IF(AND(OR(COUNTRY_INFO!$H45=0,COUNTRY_INFO!$H45=4,COUNTRY_INFO!$H45=99),OR(COUNTRY_INFO!$J45=0,COUNTRY_INFO!$J45=4)),0,COUNTRY_INFO!$E45))","v":14867},{"$f":"IF(AND(INTRO!$E$37=\"Non-endemic\",INTRO!$E$41=\"Non-endemic\"),0,IF(AND(OR(COUNTRY_INFO!$H45=0,COUNTRY_INFO!$H45=4,COUNTRY_INFO!$H45=99),OR(COUNTRY_INFO!$J45=0,COUNTRY_INFO!$J45=4)),0,COUNTRY_INFO!$F45))","v":33725},48592,{"$f":"IF(AND(INTRO!$E$37=\"Non-endemic\",INTRO!$E$41=\"Non-endemic\"),0,COUNTRY_INFO!P45)","v":0},{"$f":"IF(AND(INTRO!$E$37=\"Non-endemic\",INTRO!$E$41=\"Non-endemic\"),0,COUNTRY_INFO!R45)","v":1},{"$f":"IF(INTRO!$E$39=\"Non-endemic\",IF($G45=1,DEC!I45,0),IF($G45=1,IVM!G45,0))","v":0},"ALB",{"$f":"IF($J45=\"ALB\", IF(INTRO!$E$39=\"Non-endemic\", IF($H45<>0, IF($I45=0, $D45*$H45, $D45*($H45-$G45)), 0), $D45*$H45), 0)","v":14867},33725,null,48592,{"$f":"IF($J45=\"MBD\", IF(INTRO!$E$39=\"Non-endemic\", IF($H45<>0, IF($I45=0, $D45*$H45, $D45*($H45-$G45)), 0), $D45*$H45), 0)","v":0},0,null,0,null,0,0,null,33725,169,null,0,0]
[{"$f":"IF(AND(INTRO!$E$37=\"Non-endemic\",INTRO!$E$41=\"Non-endemic\"),\" \",IF(COUNTRY_INFO!A46=0,\" \",COUNTRY_INFO!A46))","v":"Ghana"},{"$f":"IF(AND(INTRO!$E$37=\"Non-endemic\",INTRO!$E$41=\"Non-endemic\"),\" \",IF(COUNTRY_INFO!B46=0,\" \",COUNTRY_INFO!B46))","v":"Brong-Ahafo"},{"$f":"IF(AND(INTRO!$E$37=\"Non-endemic\",INTRO!$E$41=\"Non-endemic\"),\" \",IF(COUNTRY_INFO!C46=0,\" \",COUNTRY_INFO!C46))","v":"Dormaa West"},{"$f":"IF(AND(INTRO!$E$37=\"Non-endemic\",INTRO!$E$41=\"Non-endemic\"),0,IF(AND(OR(COUNTRY_INFO!$H46=0,COUNTRY_INFO!$H46=4,COUNTRY_INFO!$H46=99),OR(COUNTRY_INFO!$J46=0,COUNTRY_INFO!$J46=4)),0,COUNTRY_INFO!$E46))","v":6322},{"$f":"IF(AND(INTRO!$E$37=\"Non-endemic\",INTRO!$E$41=\"Non-endemic\"),0,IF(AND(OR(COUNTRY_INFO!$H46=0,COUNTRY_INFO!$H46=4,COUNTRY_INFO!$H46=99),OR(COUNTRY_INFO!$J46=0,COUNTRY_INFO!$J46=4)),0,COUNTRY_INFO!$F46))","v":14343},20665,{"$f":"IF(AND(INTRO!$E$37=\"Non-endemic\",INTRO!$E$41=\"Non-endemic\"),0,COUNTRY_INFO!P46)","v":0},{"$f":"IF(AND(INTRO!$E$37=\"Non-endemic\",INTRO!$E$41=\"Non-endemic\"),0,COUNTRY_INFO!R46)","v":1},{"$f":"IF(INTRO!$E$39=\"Non-endemic\",IF($G46=1,DEC!I46,0),IF($G46=1,IVM!G46,0))","v":0},"ALB",{"$f":"IF($J46=\"ALB\", IF(INTRO!$E$39=\"Non-endemic\", IF($H46<>0, IF($I46=0, $D46*$H46, $D46*($H46-$G46)), 0), $D46*$H46), 0)","v":6322},14343,null,20665,{"$f":"IF($J46=\"MBD\", IF(INTRO!$E$39=\"Non-endemic\", IF($H46<>0, IF($I46=0, $D46*$H46, $D46*($H46-$G46)), 0), $D46*$H46), 0)","v":0},0,null,0,null,0,0,null,14343,72,null,0,0]
[{"$f":"IF(AND(INTRO!$E$37=\"Non-endemic\",INTRO!$E$41=\"Non-endemic\"),\" \",IF(COUNTRY_INFO!A47=0,\" \",COUNTRY_INFO!A47))","v":"Ghana"},{"$f":"IF(AND(INTRO!$E$37=\"Non-endemic\",INTRO!$E$41=\"Non-endemic\"),\" \",IF(COUNTRY_INFO!B47=0,\" \",COUNTRY_INFO!B47))","v":"Brong-Ahafo"},{"$f":"IF(AND(INTRO!$E$37=\"Non-endemic\",INTRO!$E$41=\"Non-endemic\"),\" \",IF(COUNTRY_INFO!C47=0,\" \",COUNTRY_INFO!C47))","v":"Dormaa East"},{"$f":"IF(AND(INTRO!$E$37=\"Non-endemic\",INTRO!$E$41=\"Non-endemic\"),0,IF(AND(OR(COUNTRY_INFO!$H47=0,COUNTRY_INFO!$H47=4,COUNTRY_INFO!$H47=99),OR(COUNTRY_INFO!$J47=0,COUNTRY_INFO!$J47=4)),0,COUNTRY_INFO!$E47))","v":6746},{"$f":"IF(AND(INTRO!$E$37=\"Non-endemic\",INTRO!$E$41=\"Non-endemic\"),0,IF(AND(OR(COUNTRY_INFO!$H47=0,COUNTRY_INFO!$H47=4,COUNTRY_INFO!$H47=99),OR(COUNTRY_INFO!$J47=0,COUNTRY_INFO!$J47=4)),0,COUNTRY_INFO!$F47))","v":15303},22049,{"$f":"IF(AND(INTRO!$E$37=\"Non-endemic\",INTRO!$E$41=\"Non-endemic\"),0,COUNTRY_INFO!P47)","v":0},{"$f":"IF(AND(INTRO!$E$37=\"Non-endemic\",INTRO!$E$41=\"Non-endemic\"),0,COUNTRY_INFO!R47)","v":1},{"$f":"IF(INTRO!$E$39=\"Non-endemic\",IF($G47=1,DEC!I47,0),IF($G47=1,IVM!G47,0))","v":0},"ALB",{"$f":"IF($J47=\"ALB\", IF(INTRO!$E$39=\"Non-endemic\", IF($H47<>0, IF($I47=0, $D47*$H47, $D47*($H47-$G47)), 0), $D47*$H47), 0)","v":6746},15303,null,22049,{"$f":"IF($J47=\"MBD\", IF(INTRO!$E$39=\"Non-endemic\", IF($H47<>0, IF($I47=0, $D47*$H47, $D47*($H47-$G47)), 0), $D47*$H47), 0)","v":0},0,null,0,null,0,0,null,15303,77,null,0,0]
[{"$f":"IF(AND(INTRO!$E$37=\"Non-endemic\",INTRO!$E$41=\"Non-endemic\"),\" \",IF(COUNTRY_INFO!A48=0,\" \",COUNTRY_INFO!A48))","v":"Ghana"},{"$f":"IF(AND(INTRO!$E$37=\"Non-endemic\",INTRO!$E$41=\"Non-endemic\"),\" \",IF(COUNTRY_INFO!B48=0,\" \",COUNTRY_INFO!B48))","v":"Brong-Ahafo"},{"$f":"IF(AND(INTRO!$E$37=\"Non-endemic\",INTRO!$E$41=\"Non-endemic\"),\" \",IF(COUNTRY_INFO!C48=0,\" \",COUNTRY_INFO!C48))","v":"Jaman North"},{"$f":"IF(AND(INTRO!$E$37=\"Non-endemic\",INTRO!$E$41=\"Non-endemic\"),0,IF(AND(OR(COUNTRY_INFO!$H48=0,COUNTRY_INFO!$H48=4,COUNTRY_INFO!$H48=99),OR(COUNTRY_INFO!$J48=0,COUNTRY_INFO!$J48=4)),0,COUNTRY_INFO!$E48))","v":11014},{"$f":"IF(AND(INTRO!$E$37=\"Non-endemic\",INTRO!$E$41=\"Non-endemic\"),0,IF(AND(OR(COUNTRY_INFO!$H48=0,COUNTRY_INFO!$H48=4,COUNTRY_INFO!$H48=99),OR(COUNTRY_INFO!$J48=0,COUNTRY_INFO!$J48=4)),0,COUNTRY_INFO!$F48))","v":24986},36000,{"$f":"IF(AND(INTRO!$E$37=\"Non-endemic\",INTRO!$E$41=\"Non-endemic\"),0,COUNTRY_INFO!P48)","v":0},{"$f":"IF(AND(INTRO!$E$37=\"Non-endemic\",INTRO!$E$41=\"Non-endemic\"),0,COUNTRY_INFO!R48)","v":1},{"$f":"IF(INTRO!$E$39=\"Non-endemic\",IF($G48=1,DEC!I48,0),IF($G48=1,IVM!G48,0))","v":0},"ALB",{"$f":"IF($J48=\"ALB\", IF(INTRO!$E$39=\"Non-endemic\", IF($H48<>0, IF($I48=0, $D48*$H48, $D48*($H48-$G48)), 0), $D48*$H48), 0)","v":11014},24986,null,36000,{"$f":"IF($J48=\"MBD\", IF(INTRO!$E$39=\"Non-endemic\", IF($H48<>0, IF($I48=0, $D48*$H48, $D48*($H48-$G48)), 0), $D48*$H48), 0)","v":0},0,null,0,null,0,0,null,24986,125,null,0,0]
[{"$f":"IF(AND(INTRO!$E$37=\"Non-endemic\",INTRO!$E$41=\"Non-endemic\"),\" \",IF(COUNTRY_INFO!A49=0,\" \",COUNTRY_INFO!A49))","v":"Ghana"},{"$f":"IF(AND(INTRO!$E$37=\"Non-endemic\",INTRO!$E$41=\"Non-endemic\"),\" \",IF(COUNTRY_INFO!B49=0,\" \",COUNTRY_INFO!B49))","v":"Brong-Ahafo"},{"$f":"IF(AND(INTRO!$E$37=\"Non-endemic\",INTRO!$E$41=\"Non-endemic\"),\" \",IF(COUNTRY_INFO!C49=0,\" \",COUNTRY_INFO!C49))","v":"Jaman south"},{"$f":"IF(AND(INTRO!$E$37=\"Non-endemic\",INTRO!$E$41=\"Non-endemic\"),0,IF(AND(OR(COUNTRY_INFO!$H49=0,COUNTRY_INFO!$H49=4,COUNTRY_INFO!$H49=99),OR(COUNTRY_INFO!$J49=0,COUNTRY_INFO!$J49=4)),0,COUNTRY_INFO!$E49))","v":12286},{"$f":"IF(AND(INTRO!$E$37=\"Non-endemic\",INTRO!$E$41=\"Non-endemic\"),0,IF(AND(OR(COUNTRY_INFO!$H49=0,COUNTRY_INFO!$H49=4,COUNTRY_INFO!$H49=99),OR(COUNTRY_INFO!$J49=0,COUNTRY_INFO!$J49=4)),0,COUNTRY_INFO!$F49))","v":27870},40156,{"$f":"IF(AND(INTRO!$E$37=\"Non-endemic\",INTRO!$E$41=\"Non-endemic\"),0,COUNTRY_INFO!P49)","v":0},{"$f":"IF(AND(INTRO!$E$37=\"Non-endemic\",INTRO!$E$41=\"Non-endemic\"),0,COUNTRY_INFO!R49)","v":1},{"$f":"IF(INTRO!$E$39=\"Non-endemic\",IF($G49=1,DEC!I49,0),IF($G49=1,IVM!G49,0))","v":0},"ALB",{"$f":"IF($J49=\"ALB\", IF(INTRO!$E$39=\"Non-endemic\", IF($H49<>0, IF($I49=0, $D49*$H49, $D49*($H49-$G49)), 0), $D49*$H49), 0)","v":12286},27870,null,40156,{"$f":"IF($J49=\"MBD\", IF(INTRO!$E$39=\"Non-endemic\", IF($H49<>0, IF($I49=0, $D49*$H49, $D49*($H49-$G49)), 0), $D49*$H49), 0)","v":0},0,null,0,null,0,0,null,27870,140,null,0,0]
[{"$f":"IF(AND(INTRO!$E$37=\"Non-endemic\",INTRO!$E$41=\"Non-endemic\"),\" \",IF(COUNTRY_INFO!A50=0,\" \",COUNTRY_INFO!A50))","v":"Ghana"},{"$f":"IF(AND(INTRO!$E$37=\"Non-endemic\",INTRO!$E$41=\"Non-endemic\"),\" \",IF(COUNTRY_INFO!B50=0,\" \",COUNTRY_INFO!B50))","v":"Brong-Ahafo"},{"$f":"IF(AND(INTRO!$E$37=\"Non-endemic\",INTRO!$E$41=\"Non-endemic\"),\" \",IF(COUNTRY_INFO!C50=0,\" \",COUNTRY_INFO!C50))","v":"Kintampo North"},{"$f":"IF(AND(INTRO!$E$37=\"Non-endemic\",INTRO!$E$41=\"Non-endemic\"),0,IF(AND(OR(COUNTRY_INFO!$H50=0,COUNTRY_INFO!$H50=4,COUNTRY_INFO!$H50=99),OR(COUNTRY_INFO!$J50=0,COUNTRY_INFO!$J50=4)),0,COUNTRY_INFO!$E50))","v":12661},{"$f":"IF(AND(INTRO!$E$37=\"Non-endemic\",INTRO!$E$41=\"Non-endemic\"),0,IF(AND(OR(COUNTRY_INFO!$H50=0,COUNTRY_INFO!$H50=4,COUNTRY_INFO!$H50=99),OR(COUNTRY_INFO!$J50=0,COUNTRY_INFO!$J50=4)),0,COUNTRY_INFO!$F50))","v":28722},41383,{"$f":"IF(AND(INTRO!$E$37=\"Non-endemic\",INTRO!$E$41=\"Non-endemic\"),0,COUNTRY_INFO!P50)","v":0},{"$f":"IF(AND(INTRO!$E$37=\"Non-endemic\",INTRO!$E$41=\"Non-endemic\"),0,COUNTRY_INFO!R50)","v":1},{"$f":"IF(INTRO!$E$39=\"Non-endemic\",IF($G50=1,DEC!I50,0),IF($G50=1,IVM!G50,0))","v":0},"ALB",{"$f":"IF($J50=\"ALB\", IF(INTRO!$E$39=\"Non-endemic\", IF($H50<>0, IF($I50=0, $D50*$H50, $D50*($H50-$G50)), 0), $D50*$H50), 0)","v":12661},28722,null,41383,{"$f":"IF($J50=\"MBD\", IF(INTRO!$E$39=\"Non-endemic\", IF($H50<>0, IF($I50=0, $D50*$H50, $D50*($H50-$G50)), 0), $D50*$H50), 0)","v":0},0,null,0,null,0,0,null,28722,144,null,0,0]
[{"$f":"IF(AND(INTRO!$E$37=\"Non-endemic\",INTRO!$E$41=\"Non-endemic\"),\" \",IF(COUNTRY_INFO!A51=0,\" \",COUNTRY_INFO!A51))","v":"Ghana"},{"$f":"IF(AND(INTRO!$E$37=\"Non-endemic\",INTRO!$E$41=\"Non-endemic\"),\" \",IF(COUNTRY_INFO!B51=0,\" \",COUNTRY_INFO!B51))","v":"Brong-Ahafo"},{"$f":"IF(AND(INTRO!$E$37=\"Non-endemic\",INTRO!$E$41=\"Non-endemic\"),\" \",IF(COUNTRY_INFO!C51=0,\" \",COUNTRY_INFO!C51))","v":"Kintampo South"},{"$f":"IF(AND(INTRO!$E$37=\"Non-endemic\",INTRO!$E$41=\"Non-endemic\"),0,IF(AND(OR(COUNTRY_INFO!$H51=0,COUNTRY_INFO!$H51=4,COUNTRY_INFO!$H51=99),OR(COUNTRY_INFO!$J51=0,COUNTRY_INFO!$J51=4)),0,COUNTRY_INFO!$E51))","v":10741},{"$f":"IF(AND(INTRO!$E$37=\"Non-endemic\",INTRO!$E$41=\"Non-endemic\"),0,IF(AND(OR(COUNTRY_INFO!$H51=0,COUNTRY_INFO!$H51=4,COUNTRY_INFO!$H51=99),OR(COUNTRY_INFO!$J51=0,COUNTRY_INFO!$J51=4)),0,COUNTRY_INFO!$F51))","v":24366},35107,{"$f":"IF(AND(INTRO!$E$37=\"Non-endemic\",INTRO!$E$41=\"Non-endemic\"),0,COUNTRY_INFO!P51)","v":0},{"$f":"IF(AND(INTRO!$E$37=\"Non-endemic\",INTRO!$E$41=\"Non-endemic\"),0,COUNTRY_INFO!R51)","v":1},{"$f":"IF(INTRO!$E$39=\"Non-endemic\",IF($G51=1,DEC!I51,0),IF($G51=1,IVM!G51,0))","v":0},"ALB",{"$f":"IF($J51=\"ALB\", IF(INTRO!$E$39=\"Non-endemic\", IF($H51<>0, IF($I51=0, $D51*$H51, $D51*($H51-$G51)), 0), $D51*$H51), 0)","v":10741},24366,null,35107,{"$f":"IF($J51=\"MBD\", IF(INTRO!$E$39=\"Non-endemic\", IF($H51<>0, IF($I51=0, $D51*$H51, $D51*($H51-$G51)), 0), $D51*$H51), 0)","v":0},0,null,0,null,0,0,null,24366,122,null,0,0]
[{"$f":"IF(AND(INTRO!$E$37=\"Non-endemic\",INTRO!$E$41=\"Non-endemic\"),\" \",IF(COUNTRY_INFO!A52=0,\" \",COUNTRY_INFO!A52))","v":"Ghana"},{"$f":"IF(AND(INTRO!$E$37=\"Non-endemic\",INTRO!$E$41=\"Non-endemic\"),\" \",IF(COUNTRY_INFO!B52=0,\" \",COUNTRY_INFO!B52))","v":"Brong-Ahafo"},{"$f":"IF(AND(INTRO!$E$37=\"Non-endemic\",INTRO!$E$41=\"Non-endemic\"),\" \",IF(COUNTRY_INFO!C52=0,\" \",COUNTRY_INFO!C52))","v":"Nkoranza North"},{"$f":"IF(AND(INTRO!$E$37=\"Non-endemic\",INTRO!$E$41=\"Non-endemic\"),0,IF(AND(OR(COUNTRY_INFO!$H52=0,COUNTRY_INFO!$H52=4,COUNTRY_INFO!$H52=99),OR(COUNTRY_INFO!$J52=0,COUNTRY_INFO!$J52=4)),0,COUNTRY_INFO!$E52))","v":8738},{"$f":"IF(AND(INTRO!$E$37=\"Non-endemic\",INTRO!$E$41=\"Non-endemic\"),0,IF(AND(OR(COUNTRY_INFO!$H52=0,COUNTRY_INFO!$H52=4,COUNTRY_INFO!$H52=99),OR(COUNTRY_INFO!$J52=0,COUNTRY_INFO!$J52=4)),0,COUNTRY_INFO!$F52))","v":19822},28560,{"$f":"IF(AND(INTRO!$E$37=\"Non-endemic\",INTRO!$E$41=\"Non-endemic\"),0,COUNTRY_INFO!P52)","v":0},{"$f":"IF(AND(INTRO!$E$37=\"Non-endemic\",INTRO!$E$41=\"Non-endemic\"),0,COUNTRY_INFO!R52)","v":1},{"$f":"IF(INTRO!$E$39=\"Non-endemic\",IF($G52=1,DEC!I52,0),IF($G52=1,IVM!G52,0))","v":0},"ALB",{"$f":"IF($J52=\"ALB\", IF(INTRO!$E$39=\"Non-endemic\", IF($H52<>0, IF($I52=0, $D52*$H52, $D52*($H52-$G52)), 0), $D52*$H52), 0)","v":8738},19822,null,28560,{"$f":"IF($J52=\"MBD\", IF(INTRO!$E$39=\"Non-endemic\", IF($H52<>0, IF($I52=0, $D52*$H52, $D52*($H52-$G52)), 0), $D52*$H52), 0)","v":0},0,null,0,null,0,0,null,19822,100,null,0,0]
[{"$f":"IF(AND(INTRO!$E$37=\"Non-endemic\",INTRO!$E$41=\"Non-endemic\"),\" \",IF(COUNTRY_INFO!A53=0,\" \",COUNTRY_INFO!A53))","v":"Ghana"},{"$f":"IF(AND(INTRO!$E$37=\"Non-endemic\",INTRO!$E$41=\"Non-endemic\"),\" \",IF(COUNTRY_INFO!B53=0,\" \",COUNTRY_INFO!B53))","v":"Brong-Ahafo"},{"$f":"IF(AND(INTRO!$E$37=\"Non-endemic\",INTRO!$E$41=\"Non-endemic\"),\" \",IF(COUNTRY_INFO!C53=0,\" \",COUNTRY_INFO!C53))","v":"Nkoranza South"},{"$f":"IF(AND(INTRO!$E$37=\"Non-endemic\",INTRO!$E$41=\"Non-endemic\"),0,IF(AND(OR(COUNTRY_INFO!$H53=0,COUNTRY_INFO!$H53=4,COUNTRY_INFO!$H53=99),OR(COUNTRY_INFO!$J53=0,COUNTRY_INFO!$J53=4)),0,COUNTRY_INFO!$E53))","v":13384},{"$f":"IF(AND(INTRO!$E$37=\"Non-endemic\",INTRO!$E$41=\"Non-endemic\"),0,IF(AND(OR(COUNTRY_INFO!$H53=0,COUNTRY_INFO!$H53=4,COUNTRY_INFO!$H53=99),OR(COUNTRY_INFO!$J53=0,COUNTRY_INFO!$J53=4)),0,COUNTRY_INFO!$F53))","v":30361},43745,{"$f":"IF(AND(INTRO!$E$37=\"Non-endemic\",INTRO!$E$41=\"Non-endemic\"),0,COUNTRY_INFO!P53)","v":0},{"$f":"IF(AND(INTRO!$E$37=\"Non-endemic\",INTRO!$E$41=\"Non-endemic\"),0,COUNTRY_INFO!R53)","v":1},{"$f":"IF(INTRO!$E$39=\"Non-endemic\",IF($G53=1,DEC!I53,0),IF($G53=1,IVM!G53,0))","v":0},"ALB",{"$f":"IF($J53=\"ALB\", IF(INTRO!$E$39=\"Non-endemic\", IF($H53<>0, IF($I53=0, $D53*$H53, $D53*($H53-$G53)), 0), $D53*$H53), 0)","v":13384},30361,null,43745,{"$f":"IF($J53=\"MBD\", IF(INTRO!$E$39=\"Non-endemic\", IF($H53<>0, IF($I53=0, $D53*$H53, $D53*($H53-$G53)), 0), $D53*$H53), 0)","v":0},0,null,0,null,0,0,null,30361,152,null,0,0]
[{"$f":"IF(AND(INTRO!$E$37=\"Non-endemic\",INTRO!$E$41=\"Non-endemic\"),\" \",IF(COUNTRY_INFO!A54=0,\" \",COUNTRY_INFO!A54))","v":"Ghana"},{"$f":"IF(AND(INTRO!$E$37=\"Non-endemic\",INTRO!$E$41=\"Non-endemic\"),\" \",IF(COUNTRY_INFO!B54=0,\" \",COUNTRY_INFO!B54))","v":"Brong-Ahafo"},{"$f":"IF(AND(INTRO!$E$37=\"Non-endemic\",INTRO!$E$41=\"Non-endemic\"),\" \",IF(COUNTRY_INFO!C54=0,\" \",COUNTRY_INFO!C54))","v":"Pru"},{"$f":"IF(AND(INTRO!$E$37=\"Non-endemic\",INTRO!$E$41=\"Non-endemic\"),0,IF(AND(OR(COUNTRY_INFO!$H54=0,COUNTRY_INFO!$H54=4,COUNTRY_INFO!$H54=99),OR(COUNTRY_INFO!$J54=0,COUNTRY_INFO!$J54=4)),0,COUNTRY_INFO!$E54))","v":17139},{"$f":"IF(AND(INTRO!$E$37=\"Non-endemic\",INTRO!$E$41=\"Non-endemic\"),0,IF(AND(OR(COUNTRY_INFO!$H54=0,COUNTRY_INFO!$H54=4,COUNTRY_INFO!$H54=99),OR(COUNTRY_INFO!$J54=0,COUNTRY_INFO!$J54=4)),0,COUNTRY_INFO!$F54))","v":38880},56019,{"$f":"IF(AND(INTRO!$E$37=\"Non-endemic\",INTRO!$E$41=\"Non-endemic\"),0,COUNTRY_INFO!P54)","v":0},{"$f":"IF(AND(INTRO!$E$37=\"Non-endemic\",INTRO!$E$41=\"Non-endemic\"),0,COUNTRY_INFO!R54)","v":1},{"$f":"IF(INTRO!$E$39=\"Non-endemic\",IF($G54=1,DEC!I54,0),IF($G54=1,IVM!G54,0))","v":0},"ALB",{"$f":"IF($J54=\"ALB\", IF(INTRO!$E$39=\"Non-endemic\", IF($H54<>0, IF($I54=0, $D54*$H54, $D54*($H54-$G54)), 0), $D54*$H54), 0)","v":17139},38880,null,56019,{"$f":"IF($J54=\"MBD\", IF(INTRO!$E$39=\"Non-endemic\", IF($H54<>0, IF($I54=0, $D54*$H54, $D54*($H54-$G54)), 0), $D54*$H54), 0)","v":0},0,null,0,null,0,0,null,38880,195,null,0,0]
[{"$f":"IF(AND(INTRO!$E$37=\"Non-endemic\",INTRO!$E$41=\"Non-endemic\"),\" \",IF(COUNTRY_INFO!A55=0,\" \",COUNTRY_INFO!A55))","v":"Ghana"},{"$f":"IF(AND(INTRO!$E$37=\"Non-endemic\",INTRO!$E$41=\"Non-endemic\"),\" \",IF(COUNTRY_INFO!B55=0,\" \",COUNTRY_INFO!B55))","v":"Brong-Ahafo"},{"$f":"IF(AND(INTRO!$E$37=\"Non-endemic\",INTRO!$E$41=\"Non-endemic\"),\" \",IF(COUNTRY_INFO!C55=0,\" \",COUNTRY_INFO!C55))","v":"Sene East"},{"$f":"IF(AND(INTRO!$E$37=\"Non-endemic\",INTRO!$E$41=\"Non-endemic\"),0,IF(AND(OR(COUNTRY_INFO!$H55=0,COUNTRY_INFO!$H55=4,COUNTRY_INFO!$H55=99),OR(COUNTRY_INFO!$J55=0,COUNTRY_INFO!$J55=4)),0,COUNTRY_INFO!$E55))","v":8024},{"$f":"IF(AND(INTRO!$E$37=\"Non-endemic\",INTRO!$E$41=\"Non-endemic\"),0,IF(AND(OR(COUNTRY_INFO!$H55=0,COUNTRY_INFO!$H55=4,COUNTRY_INFO!$H55=99),OR(COUNTRY_INFO!$J55=0,COUNTRY_INFO!$J55=4)),0,COUNTRY_INFO!$F55))","v":18203},26227,{"$f":"IF(AND(INTRO!$E$37=\"Non-endemic\",INTRO!$E$41=\"Non-endemic\"),0,COUNTRY_INFO!P55)","v":0},{"$f":"IF(AND(INTRO!$E$37=\"Non-endemic\",INTRO!$E$41=\"Non-endemic\"),0,COUNTRY_INFO!R55)","v":1},{"$f":"IF(INTRO!$E$39=\"Non-endemic\",IF($G55=1,DEC!I55,0),IF($G55=1,IVM!G55,0))","v":0},"ALB",{"$f":"IF($J55=\"ALB\", IF(INTRO!$E$39=\"Non-endemic\", IF($H55<>0, IF($I55=0, $D55*$H55, $D55*($H55-$G55)), 0), $D55*$H55), 0)","v":8024},18203,null,26227,{"$f":"IF($J55=\"MBD\", IF(INTRO!$E$39=\"Non-endemic\", IF($H55<>0, IF($I55=0, $D55*$H55, $D55*($H55-$G55)), 0), $D55*$H55), 0)","v":0},0,null,0,null,0,0,null,18203,92,null,0,0]
[{"$f":"IF(AND(INTRO!$E$37=\"Non-endemic\",INTRO!$E$41=\"Non-endemic\"),\" \",IF(COUNTRY_INFO!A56=0,\" \",COUNTRY_INFO!A56))","v":"Ghana"},{"$f":"IF(AND(INTRO!$E$37=\"Non-endemic\",INTRO!$E$41=\"Non-endemic\"),\" \",IF(COUNTRY_INFO!B56=0,\" \",COUNTRY_INFO!B56))","v":"Brong-Ahafo"},{"$f":"IF(AND(INTRO!$E$37=\"Non-endemic\",INTRO!$E$41=\"Non-endemic\"),\" \",IF(COUNTRY_INFO!C56=0,\" \",COUNTRY_INFO!C56))","v":"Sene West"},{"$f":"IF(AND(INTRO!$E$37=\"Non-endemic\",INTRO!$E$41=\"Non-endemic\"),0,IF(AND(OR(COUNTRY_INFO!$H56=0,COUNTRY_INFO!$H56=4,COUNTRY_INFO!$H56=99),OR(COUNTRY_INFO!$J56=0,COUNTRY_INFO!$J56=4)),0,COUNTRY_INFO!$E56))","v":7731},{"$f":"IF(AND(INTRO!$E$37=\"Non-endemic\",INTRO!$E$41=\"Non-endemic\"),0,IF(AND(OR(COUNTRY_INFO!$H56=0,COUNTRY_INFO!$H56=4,COUNTRY_INFO!$H56=99),OR(COUNTRY_INFO!$J56=0,COUNTRY_INFO!$J56=4)),0,COUNTRY_INFO!$F56))","v":17537},25268,{"$f":"IF(AND(INTRO!$E$37=\"Non-endemic\",INTRO!$E$41=\"Non-endemic\"),0,COUNTRY_INFO!P56)","v":0},{"$f":"IF(AND(INTRO!$E$37=\"Non-endemic\",INTRO!$E$41=\"Non-endemic\"),0,COUNTRY_INFO!R56)","v":1},{"$f":"IF(INTRO!$E$39=\"Non-endemic\",IF($G56=1,DEC!I56,0),IF($G56=1,IVM!G56,0))","v":0},"ALB",{"$f":"IF($J56=\"ALB\", IF(INTRO!$E$39=\"Non-endemic\", IF($H56<>0, IF($I56=0, $D56*$H56, $D56*($H56-$G56)), 0), $D56*$H56), 0)","v":7731},17537,null,25268,{"$f":"IF($J56=\"MBD\", IF(INTRO!$E$39=\"Non-endemic\", IF($H56<>0, IF($I56=0, $D56*$H56, $D56*($H56-$G56)), 0), $D56*$H56), 0)","v":0},0,null,0,null,0,0,null,17537,88,null,0,0]
[{"$f":"IF(AND(INTRO!$E$37=\"Non-endemic\",INTRO!$E$41=\"Non-endemic\"),\" \",IF(COUNTRY_INFO!A57=0,\" \",COUNTRY_INFO!A57))","v":"Ghana"},{"$f":"IF(AND(INTRO!$E$37=\"Non-endemic\",INTRO!$E$41=\"Non-endemic\"),\" \",IF(COUNTRY_INFO!B57=0,\" \",COUNTRY_INFO!B57))","v":"Brong-Ahafo"},{"$f":"IF(AND(INTRO!$E$37=\"Non-endemic\",INTRO!$E$41=\"Non-endemic\"),\" \",IF(COUNTRY_INFO!C57=0,\" \",COUNTRY_INFO!C57))","v":"Sunyani Municipal"},{"$f":"IF(AND(INTRO!$E$37=\"Non-endemic\",INTRO!$E$41=\"Non-endemic\"),0,IF(AND(OR(COUNTRY_INFO!$H57=0,COUNTRY_INFO!$H57=4,COUNTRY_INFO!$H57=99),OR(COUNTRY_INFO!$J57=0,COUNTRY_INFO!$J57=4)),0,COUNTRY_INFO!$E57))","v":16340},{"$f":"IF(AND(INTRO!$E$37=\"Non-endemic\",INTRO!$E$41=\"Non-endemic\"),0,IF(AND(OR(COUNTRY_INFO!$H57=0,COUNTRY_INFO!$H57=4,COUNTRY_INFO!$H57=99),OR(COUNTRY_INFO!$J57=0,COUNTRY_INFO!$J57=4)),0,COUNTRY_INFO!$F57))","v":37068},53408,{"$f":"IF(AND(INTRO!$E$37=\"Non-endemic\",INTRO!$E$41=\"Non-endemic\"),0,COUNTRY_INFO!P57)","v":1},{"$f":"IF(AND(INTRO!$E$37=\"Non-endemic\",INTRO!$E$41=\"Non-endemic\"),0,COUNTRY_INFO!R57)","v":1},{"$f":"IF(INTRO!$E$39=\"Non-endemic\",IF($G57=1,DEC!I57,0),IF($G57=1,IVM!G57,0))","v":130419},null,{"$f":"IF($J57=\"ALB\", IF(INTRO!$E$39=\"Non-endemic\", IF($H57<>0, IF($I57=0, $D57*$H57, $D57*($H57-$G57)), 0), $D57*$H57), 0)","v":0},0,null,0,{"$f":"IF($J57=\"MBD\", IF(INTRO!$E$39=\"Non-endemic\", IF($H57<>0, IF($I57=0, $D57*$H57, $D57*($H57-$G57)), 0), $D57*$H57), 0)","v":0},0,null,0,null,130419,653,null,0,0,null,0,0]
[{"$f":"IF(AND(INTRO!$E$37=\"Non-endemic\",INTRO!$E$41=\"Non-endemic\"),\" \",IF(COUNTRY_INFO!A58=0,\" \",COUNTRY_INFO!A58))","v":"Ghana"},{"$f":"IF(AND(INTRO!$E$37=\"Non-endemic\",INTRO!$E$41=\"Non-endemic\"),\" \",IF(COUNTRY_INFO!B58=0,\" \",COUNTRY_INFO!B58))","v":"Brong-Ahafo"},{"$f":"IF(AND(INTRO!$E$37=\"Non-endemic\",INTRO!$E$41=\"Non-endemic\"),\" \",IF(COUNTRY_INFO!C58=0,\" \",COUNTRY_INFO!C58))","v":"Sunyani West"},{"$f":"IF(AND(INTRO!$E$37=\"Non-endemic\",INTRO!$E$41=\"Non-endemic\"),0,IF(AND(OR(COUNTRY_INFO!$H58=0,COUNTRY_INFO!$H58=4,COUNTRY_INFO!$H58=99),OR(COUNTRY_INFO!$J58=0,COUNTRY_INFO!$J58=4)),0,COUNTRY_INFO!$E58))","v":11308},{"$f":"IF(AND(INTRO!$E$37=\"Non-endemic\",INTRO!$E$41=\"Non-endemic\"),0,IF(AND(OR(COUNTRY_INFO!$H58=0,COUNTRY_INFO!$H58=4,COUNTRY_INFO!$H58=99),OR(COUNTRY_INFO!$J58=0,COUNTRY_INFO!$J58=4)),0,COUNTRY_INFO!$F58))","v":25652},36960,{"$f":"IF(AND(INTRO!$E$37=\"Non-endemic\",INTRO!$E$41=\"Non-endemic\"),0,COUNTRY_INFO!P58)","v":1},{"$f":"IF(AND(INTRO!$E$37=\"Non-endemic\",INTRO!$E$41=\"Non-endemic\"),0,COUNTRY_INFO!R58)","v":1},{"$f":"IF(INTRO!$E$39=\"Non-endemic\",IF($G58=1,DEC!I58,0),IF($G58=1,IVM!G58,0))","v":90252},"",{"$f":"IF($J58=\"ALB\", IF(INTRO!$E$39=\"Non-endemic\", IF($H58<>0, IF($I58=0, $D58*$H58, $D58*($H58-$G58)), 0), $D58*$H58), 0)","v":0},0,null,0,{"$f":"IF($J58=\"MBD\", IF(INTRO!$E$39=\"Non-endemic\", IF($H58<>0, IF($I58=0, $D58*$H58, $D58*($H58-$G58)), 0), $D58*$H58), 0)","v":0},0,null,0,null,90252,452,null,0,0,null,0,0]
[{"$f":"IF(AND(INTRO!$E$37=\"Non-endemic\",INTRO!$E$41=\"Non-endemic\"),\" \",IF(COUNTRY_INFO!A59=0,\" \",COUNTRY_INFO!A59))","v":"Ghana"},{"$f":"IF(AND(INTRO!$E$37=\"Non-endemic\",INTRO!$E$41=\"Non-endemic\"),\" \",IF(COUNTRY_INFO!B59=0,\" \",COUNTRY_INFO!B59))","v":"Brong-Ahafo"},{"$f":"IF(AND(INTRO!$E$37=\"Non-endemic\",INTRO!$E$41=\"Non-endemic\"),\" \",IF(COUNTRY_INFO!C59=0,\" \",COUNTRY_INFO!C59))","v":"Tain"},{"$f":"IF(AND(INTRO!$E$37=\"Non-endemic\",INTRO!$E$41=\"Non-endemic\"),0,IF(AND(OR(COUNTRY_INFO!$H59=0,COUNTRY_INFO!$H59=4,COUNTRY_INFO!$H59=99),OR(COUNTRY_INFO!$J59=0,COUNTRY_INFO!$J59=4)),0,COUNTRY_INFO!$E59))","v":11683},{"$f":"IF(AND(INTRO!$E$37=\"Non-endemic\",INTRO!$E$41=\"Non-endemic\"),0,IF(AND(OR(COUNTRY_INFO!$H59=0,COUNTRY_INFO!$H59=4,COUNTRY_INFO!$H59=99),OR(COUNTRY_INFO!$J59=0,COUNTRY_INFO!$J59=4)),0,COUNTRY_INFO!$F59))","v":26504},38187,{"$f":"IF(AND(INTRO!$E$37=\"Non-endemic\",INTRO!$E$41=\"Non-endemic\"),0,COUNTRY_INFO!P59)","v":0},{"$f":"IF(AND(INTRO!$E$37=\"Non-endemic\",INTRO!$E$41=\"Non-endemic\"),0,COUNTRY_INFO!R59)","v":1},{"$f":"IF(INTRO!$E$39=\"Non-endemic\",IF($G59=1,DEC!I59,0),IF($G59=1,IVM!G59,0))","v":0},"ALB",{"$f":"IF($J59=\"ALB\", IF(INTRO!$E$39=\"Non-endemic\", IF($H59<>0, IF($I59=0, $D59*$H59, $D59*($H59-$G59)), 0), $D59*$H59), 0)","v":11683},26504,null,38187,{"$f":"IF($J59=\"MBD\", IF(INTRO!$E$39=\"Non-endemic\", IF($H59<>0, IF($I59=0, $D59*$H59, $D59*($H59-$G59)), 0), $D59*$H59), 0)","v":0},0,null,0,null,0,0,null,26504,133,null,0,0]
[{"$f":"IF(AND(INTRO!$E$37=\"Non-endemic\",INTRO!$E$41=\"Non-endemic\"),\" \",IF(COUNTRY_INFO!A60=0,\" \",COUNTRY_INFO!A60))","v":"Ghana"},{"$f":"IF(AND(INTRO!$E$37=\"Non-endemic\",INTRO!$E$41=\"Non-endemic\"),\" \",IF(COUNTRY_INFO!B60=0,\" \",COUNTRY_INFO!B60))","v":"Brong-Ahafo"},{"$f":"IF(AND(INTRO!$E$37=\"Non-endemic\",INTRO!$E$41=\"Non-endemic\"),\" \",IF(COUNTRY_INFO!C60=0,\" \",COUNTRY_INFO!C60))","v":"Banda"},{"$f":"IF(AND(INTRO!$E$37=\"Non-endemic\",INTRO!$E$41=\"Non-endemic\"),0,IF(AND(OR(COUNTRY_INFO!$H60=0,COUNTRY_INFO!$H60=4,COUNTRY_INFO!$H60=99),OR(COUNTRY_INFO!$J60=0,COUNTRY_INFO!$J60=4)),0,COUNTRY_INFO!$E60))","v":2690},{"$f":"IF(AND(INTRO!$E$37=\"Non-endemic\",INTRO!$E$41=\"Non-endemic\"),0,IF(AND(OR(COUNTRY_INFO!$H60=0,COUNTRY_INFO!$H60=4,COUNTRY_INFO!$H60=99),OR(COUNTRY_INFO!$J60=0,COUNTRY_INFO!$J60=4)),0,COUNTRY_INFO!$F60))","v":6101},8791,{"$f":"IF(AND(INTRO!$E$37=\"Non-endemic\",INTRO!$E$41=\"Non-endemic\"),0,COUNTRY_INFO!P60)","v":0},{"$f":"IF(AND(INTRO!$E$37=\"Non-endemic\",INTRO!$E$41=\"Non-endemic\"),0,COUNTRY_INFO!R60)","v":1},{"$f":"IF(INTRO!$E$39=\"Non-endemic\",IF($G60=1,DEC!I60,0),IF($G60=1,IVM!G60,0))","v":0},"ALB",{"$f":"IF($J60=\"ALB\", IF(INTRO!$E$39=\"Non-endemic\", IF($H60<>0, IF($I60=0, $D60*$H60, $D60*($H60-$G60)), 0), $D60*$H60), 0)","v":2690},6101,null,8791,{"$f":"IF($J60=\"MBD\", IF(INTRO!$E$39=\"Non-endemic\", IF($H60<>0, IF($I60=0, $D60*$H60, $D60*($H60-$G60)), 0), $D60*$H60), 0)","v":0},0,null,0,null,0,0,null,6101,31,null,0,0]
[{"$f":"IF(AND(INTRO!$E$37=\"Non-endemic\",INTRO!$E$41=\"Non-endemic\"),\" \",IF(COUNTRY_INFO!A61=0,\" \",COUNTRY_INFO!A61))","v":"Ghana"},{"$f":"IF(AND(INTRO!$E$37=\"Non-endemic\",INTRO!$E$41=\"Non-endemic\"),\" \",IF(COUNTRY_INFO!B61=0,\" \",COUNTRY_INFO!B61))","v":"Brong-Ahafo"},{"$f":"IF(AND(INTRO!$E$37=\"Non-endemic\",INTRO!$E$41=\"Non-endemic\"),\" \",IF(COUNTRY_INFO!C61=0,\" \",COUNTRY_INFO!C61))","v":"Tano North"},{"$f":"IF(AND(INTRO!$E$37=\"Non-endemic\",INTRO!$E$41=\"Non-endemic\"),0,IF(AND(OR(COUNTRY_INFO!$H61=0,COUNTRY_INFO!$H61=4,COUNTRY_INFO!$H61=99),OR(COUNTRY_INFO!$J61=0,COUNTRY_INFO!$J61=4)),0,COUNTRY_INFO!$E61))","v":10605},{"$f":"IF(AND(INTRO!$E$37=\"Non-endemic\",INTRO!$E$41=\"Non-endemic\"),0,IF(AND(OR(COUNTRY_INFO!$H61=0,COUNTRY_INFO!$H61=4,COUNTRY_INFO!$H61=99),OR(COUNTRY_INFO!$J61=0,COUNTRY_INFO!$J61=4)),0,COUNTRY_INFO!$F61))","v":24057},34662,{"$f":"IF(AND(INTRO!$E$37=\"Non-endemic\",INTRO!$E$41=\"Non-endemic\"),0,COUNTRY_INFO!P61)","v":0},{"$f":"IF(AND(INTRO!$E$37=\"Non-endemic\",INTRO!$E$41=\"Non-endemic\"),0,COUNTRY_INFO!R61)","v":1},{"$f":"IF(INTRO!$E$39=\"Non-endemic\",IF($G61=1,DEC!I61,0),IF($G61=1,IVM!G61,0))","v":0},"ALB",{"$f":"IF($J61=\"ALB\", IF(INTRO!$E$39=\"Non-endemic\", IF($H61<>0, IF($I61=0, $D61*$H61, $D61*($H61-$G61)), 0), $D61*$H61), 0)","v":10605},24057,null,34662,{"$f":"IF($J61=\"MBD\", IF(INTRO!$E$39=\"Non-endemic\", IF($H61<>0, IF($I61=0, $D61*$H61, $D61*($H61-$G61)), 0), $D61*$H61), 0)","v":0},0,null,0,null,0,0,null,24057,121,null,0,0]
[{"$f":"IF(AND(INTRO!$E$37=\"Non-endemic\",INTRO!$E$41=\"Non-endemic\"),\" \",IF(COUNTRY_INFO!A62=0,\" \",COUNTRY_INFO!A62))","v":"Ghana"},{"$f":"IF(AND(INTRO!$E$37=\"Non-endemic\",INTRO!$E$41=\"Non-endemic\"),\" \",IF(COUNTRY_INFO!B62=0,\" \",COUNTRY_INFO!B62))","v":"Brong-Ahafo"},{"$f":"IF(AND(INTRO!$E$37=\"Non-endemic\",INTRO!$E$41=\"Non-endemic\"),\" \",IF(COUNTRY_INFO!C62=0,\" \",COUNTRY_INFO!C62))","v":"Tano South"},{"$f":"IF(AND(INTRO!$E$37=\"Non-endemic\",INTRO!$E$41=\"Non-endemic\"),0,IF(AND(OR(COUNTRY_INFO!$H62=0,COUNTRY_INFO!$H62=4,COUNTRY_INFO!$H62=99),OR(COUNTRY_INFO!$J62=0,COUNTRY_INFO!$J62=4)),0,COUNTRY_INFO!$E62))","v":10360},{"$f":"IF(AND(INTRO!$E$37=\"Non-endemic\",INTRO!$E$41=\"Non-endemic\"),0,IF(AND(OR(COUNTRY_INFO!$H62=0,COUNTRY_INFO!$H62=4,COUNTRY_INFO!$H62=99),OR(COUNTRY_INFO!$J62=0,COUNTRY_INFO!$J62=4)),0,COUNTRY_INFO!$F62))","v":23503},33863,{"$f":"IF(AND(INTRO!$E$37=\"Non-endemic\",INTRO!$E$41=\"Non-endemic\"),0,COUNTRY_INFO!P62)","v":0},{"$f":"IF(AND(INTRO!$E$37=\"Non-endemic\",INTRO!$E$41=\"Non-endemic\"),0,COUNTRY_INFO!R62)","v":1},{"$f":"IF(INTRO!$E$39=\"Non-endemic\",IF($G62=1,DEC!I62,0),IF($G62=1,IVM!G62,0))","v":0},"ALB",{"$f":"IF($J62=\"ALB\", IF(INTRO!$E$39=\"Non-endemic\", IF($H62<>0, IF($I62=0, $D62*$H62, $D62*($H62-$G62)), 0), $D62*$H62), 0)","v":10360},23503,null,33863,{"$f":"IF($J62=\"MBD\", IF(INTRO!$E$39=\"Non-endemic\", IF($H62<>0, IF($I62=0, $D62*$H62, $D62*($H62-$G62)), 0), $D62*$H62), 0)","v":0},0,null,0,null,0,0,null,23503,118,null,0,0]
[{"$f":"IF(AND(INTRO!$E$37=\"Non-endemic\",INTRO!$E$41=\"Non-endemic\"),\" \",IF(COUNTRY_INFO!A63=0,\" \",COUNTRY_INFO!A63))","v":"Ghana"},{"$f":"IF(AND(INTRO!$E$37=\"Non-endemic\",INTRO!$E$41=\"Non-endemic\"),\" \",IF(COUNTRY_INFO!B63=0,\" \",COUNTRY_INFO!B63))","v":"Brong-Ahafo"},{"$f":"IF(AND(INTRO!$E$37=\"Non-endemic\",INTRO!$E$41=\"Non-endemic\"),\" \",IF(COUNTRY_INFO!C63=0,\" \",COUNTRY_INFO!C63))","v":"Techiman Municipal"},{"$f":"IF(AND(INTRO!$E$37=\"Non-endemic\",INTRO!$E$41=\"Non-endemic\"),0,IF(AND(OR(COUNTRY_INFO!$H63=0,COUNTRY_INFO!$H63=4,COUNTRY_INFO!$H63=99),OR(COUNTRY_INFO!$J63=0,COUNTRY_INFO!$J63=4)),0,COUNTRY_INFO!$E63))","v":19598},{"$f":"IF(AND(INTRO!$E$37=\"Non-endemic\",INTRO!$E$41=\"Non-endemic\"),0,IF(AND(OR(COUNTRY_INFO!$H63=0,COUNTRY_INFO!$H63=4,COUNTRY_INFO!$H63=99),OR(COUNTRY_INFO!$J63=0,COUNTRY_INFO!$J63=4)),0,COUNTRY_INFO!$F63))","v":44457},64055,{"$f":"IF(AND(INTRO!$E$37=\"Non-endemic\",INTRO!$E$41=\"Non-endemic\"),0,COUNTRY_INFO!P63)","v":0},{"$f":"IF(AND(INTRO!$E$37=\"Non-endemic\",INTRO!$E$41=\"Non-endemic\"),0,COUNTRY_INFO!R63)","v":1},{"$f":"IF(INTRO!$E$39=\"Non-endemic\",IF($G63=1,DEC!I63,0),IF($G63=1,IVM!G63,0))","v":0},"ALB",{"$f":"IF($J63=\"ALB\", IF(INTRO!$E$39=\"Non-endemic\", IF($H63<>0, IF($I63=0, $D63*$H63, $D63*($H63-$G63)), 0), $D63*$H63), 0)","v":19598},44457,null,64055,{"$f":"IF($J63=\"MBD\", IF(INTRO!$E$39=\"Non-endemic\", IF($H63<>0, IF($I63=0, $D63*$H63, $D63*($H63-$G63)), 0), $D63*$H63), 0)","v":0},0,null,0,null,0,0,null,44457,223,null,0,0]
[{"$f":"IF(AND(INTRO!$E$37=\"Non-endemic\",INTRO!$E$41=\"Non-endemic\"),\" \",IF(COUNTRY_INFO!A64=0,\" \",COUNTRY_INFO!A64))","v":"Ghana"},{"$f":"IF(AND(INTRO!$E$37=\"Non-endemic\",INTRO!$E$41=\"Non-endemic\"),\" \",IF(COUNTRY_INFO!B64=0,\" \",COUNTRY_INFO!B64))","v":"Brong-Ahafo"},{"$f":"IF(AND(INTRO!$E$37=\"Non-endemic\",INTRO!$E$41=\"Non-endemic\"),\" \",IF(COUNTRY_INFO!C64=0,\" \",COUNTRY_INFO!C64))","v":"Techiman North"},{"$f":"IF(AND(INTRO!$E$37=\"Non-endemic\",INTRO!$E$41=\"Non-endemic\"),0,IF(AND(OR(COUNTRY_INFO!$H64=0,COUNTRY_INFO!$H64=4,COUNTRY_INFO!$H64=99),OR(COUNTRY_INFO!$J64=0,COUNTRY_INFO!$J64=4)),0,COUNTRY_INFO!$E64))","v":7833},{"$f":"IF(AND(INTRO!$E$37=\"Non-endemic\",INTRO!$E$41=\"Non-endemic\"),0,IF(AND(OR(COUNTRY_INFO!$H64=0,COUNTRY_INFO!$H64=4,COUNTRY_INFO!$H64=99),OR(COUNTRY_INFO!$J64=0,COUNTRY_INFO!$J64=4)),0,COUNTRY_INFO!$F64))","v":17769},25602,{"$f":"IF(AND(INTRO!$E$37=\"Non-endemic\",INTRO!$E$41=\"Non-endemic\"),0,COUNTRY_INFO!P64)","v":0},{"$f":"IF(AND(INTRO!$E$37=\"Non-endemic\",INTRO!$E$41=\"Non-endemic\"),0,COUNTRY_INFO!R64)","v":1},{"$f":"IF(INTRO!$E$39=\"Non-endemic\",IF($G64=1,DEC!I64,0),IF($G64=1,IVM!G64,0))","v":0},"ALB",{"$f":"IF($J64=\"ALB\", IF(INTRO!$E$39=\"Non-endemic\", IF($H64<>0, IF($I64=0, $D64*$H64, $D64*($H64-$G64)), 0), $D64*$H64), 0)","v":7833},17769,null,25602,{"$f":"IF($J64=\"MBD\", IF(INTRO!$E$39=\"Non-endemic\", IF($H64<>0, IF($I64=0, $D64*$H64, $D64*($H64-$G64)), 0), $D64*$H64), 0)","v":0},0,null,0,null,0,0,null,17769,89,null,0,0]
[{"$f":"IF(AND(INTRO!$E$37=\"Non-endemic\",INTRO!$E$41=\"Non-endemic\"),\" \",IF(COUNTRY_INFO!A65=0,\" \",COUNTRY_INFO!A65))","v":"Ghana"},{"$f":"IF(AND(INTRO!$E$37=\"Non-endemic\",INTRO!$E$41=\"Non-endemic\"),\" \",IF(COUNTRY_INFO!B65=0,\" \",COUNTRY_INFO!B65))","v":"Brong-Ahafo"},{"$f":"IF(AND(INTRO!$E$37=\"Non-endemic\",INTRO!$E$41=\"Non-endemic\"),\" \",IF(COUNTRY_INFO!C65=0,\" \",COUNTRY_INFO!C65))","v":"Wenchi Municipal"},{"$f":"IF(AND(INTRO!$E$37=\"Non-endemic\",INTRO!$E$41=\"Non-endemic\"),0,IF(AND(OR(COUNTRY_INFO!$H65=0,COUNTRY_INFO!$H65=4,COUNTRY_INFO!$H65=99),OR(COUNTRY_INFO!$J65=0,COUNTRY_INFO!$J65=4)),0,COUNTRY_INFO!$E65))","v":11900},{"$f":"IF(AND(INTRO!$E$37=\"Non-endemic\",INTRO!$E$41=\"Non-endemic\"),0,IF(AND(OR(COUNTRY_INFO!$H65=0,COUNTRY_INFO!$H65=4,COUNTRY_INFO!$H65=99),OR(COUNTRY_INFO!$J65=0,COUNTRY_INFO!$J65=4)),0,COUNTRY_INFO!$F65))","v":26995},38895,{"$f":"IF(AND(INTRO!$E$37=\"Non-endemic\",INTRO!$E$41=\"Non-endemic\"),0,COUNTRY_INFO!P65)","v":0},{"$f":"IF(AND(INTRO!$E$37=\"Non-endemic\",INTRO!$E$41=\"Non-endemic\"),0,COUNTRY_INFO!R65)","v":1},{"$f":"IF(INTRO!$E$39=\"Non-endemic\",IF($G65=1,DEC!I65,0),IF($G65=1,IVM!G65,0))","v":0},"ALB",{"$f":"IF($J65=\"ALB\", IF(INTRO!$E$39=\"Non-endemic\", IF($H65<>0, IF($I65=0, $D65*$H65, $D65*($H65-$G65)), 0), $D65*$H65), 0)","v":11900},26995,null,38895,{"$f":"IF($J65=\"MBD\", IF(INTRO!$E$39=\"Non-endemic\", IF($H65<>0, IF($I65=0, $D65*$H65, $D65*($H65-$G65)), 0), $D65*$H65), 0)","v":0},0,null,0,null,0,0,null,26995,135,null,0,0]
[{"$f":"IF(AND(INTRO!$E$37=\"Non-endemic\",INTRO!$E$41=\"Non-endemic\"),\" \",IF(COUNTRY_INFO!A66=0,\" \",COUNTRY_INFO!A66))","v":"Ghana"},{"$f":"IF(AND(INTRO!$E$37=\"Non-endemic\",INTRO!$E$41=\"Non-endemic\"),\" \",IF(COUNTRY_INFO!B66=0,\" \",COUNTRY_INFO!B66))","v":"Central"},{"$f":"IF(AND(INTRO!$E$37=\"Non-endemic\",INTRO!$E$41=\"Non-endemic\"),\" \",IF(COUNTRY_INFO!C66=0,\" \",COUNTRY_INFO!C66))","v":"Abura-Asebu-Kwamankese"},{"$f":"IF(AND(INTRO!$E$37=\"Non-endemic\",INTRO!$E$41=\"Non-endemic\"),0,IF(AND(OR(COUNTRY_INFO!$H66=0,COUNTRY_INFO!$H66=4,COUNTRY_INFO!$H66=99),OR(COUNTRY_INFO!$J66=0,COUNTRY_INFO!$J66=4)),0,COUNTRY_INFO!$E66))","v":16539},{"$f":"IF(AND(INTRO!$E$37=\"Non-endemic\",INTRO!$E$41=\"Non-endemic\"),0,IF(AND(OR(COUNTRY_INFO!$H66=0,COUNTRY_INFO!$H66=4,COUNTRY_INFO!$H66=99),OR(COUNTRY_INFO!$J66=0,COUNTRY_INFO!$J66=4)),0,COUNTRY_INFO!$F66))","v":37518},54057,{"$f":"IF(AND(INTRO!$E$37=\"Non-endemic\",INTRO!$E$41=\"Non-endemic\"),0,COUNTRY_INFO!P66)","v":0},{"$f":"IF(AND(INTRO!$E$37=\"Non-endemic\",INTRO!$E$41=\"Non-endemic\"),0,COUNTRY_INFO!R66)","v":1},{"$f":"IF(INTRO!$E$39=\"Non-endemic\",IF($G66=1,DEC!I66,0),IF($G66=1,IVM!G66,0))","v":0},"ALB",{"$f":"IF($J66=\"ALB\", IF(INTRO!$E$39=\"Non-endemic\", IF($H66<>0, IF($I66=0, $D66*$H66, $D66*($H66-$G66)), 0), $D66*$H66), 0)","v":16539},37518,null,54057,{"$f":"IF($J66=\"MBD\", IF(INTRO!$E$39=\"Non-endemic\", IF($H66<>0, IF($I66=0, $D66*$H66, $D66*($H66-$G66)), 0), $D66*$H66), 0)","v":0},0,null,0,null,0,0,null,37518,188,null,0,0]
[{"$f":"IF(AND(INTRO!$E$37=\"Non-endemic\",INTRO!$E$41=\"Non-endemic\"),\" \",IF(COUNTRY_INFO!A67=0,\" \",COUNTRY_INFO!A67))","v":"Ghana"},{"$f":"IF(AND(INTRO!$E$37=\"Non-endemic\",INTRO!$E$41=\"Non-endemic\"),\" \",IF(COUNTRY_INFO!B67=0,\" \",COUNTRY_INFO!B67))","v":"Central"},{"$f":"IF(AND(INTRO!$E$37=\"Non-endemic\",INTRO!$E$41=\"Non-endemic\"),\" \",IF(COUNTRY_INFO!C67=0,\" \",COUNTRY_INFO!C67))","v":"Agona East"},{"$f":"IF(AND(INTRO!$E$37=\"Non-endemic\",INTRO!$E$41=\"Non-endemic\"),0,IF(AND(OR(COUNTRY_INFO!$H67=0,COUNTRY_INFO!$H67=4,COUNTRY_INFO!$H67=99),OR(COUNTRY_INFO!$J67=0,COUNTRY_INFO!$J67=4)),0,COUNTRY_INFO!$E67))","v":12126},{"$f":"IF(AND(INTRO!$E$37=\"Non-endemic\",INTRO!$E$41=\"Non-endemic\"),0,IF(AND(OR(COUNTRY_INFO!$H67=0,COUNTRY_INFO!$H67=4,COUNTRY_INFO!$H67=99),OR(COUNTRY_INFO!$J67=0,COUNTRY_INFO!$J67=4)),0,COUNTRY_INFO!$F67))","v":27508},39634,{"$f":"IF(AND(INTRO!$E$37=\"Non-endemic\",INTRO!$E$41=\"Non-endemic\"),0,COUNTRY_INFO!P67)","v":0},{"$f":"IF(AND(INTRO!$E$37=\"Non-endemic\",INTRO!$E$41=\"Non-endemic\"),0,COUNTRY_INFO!R67)","v":1},{"$f":"IF(INTRO!$E$39=\"Non-endemic\",IF($G67=1,DEC!I67,0),IF($G67=1,IVM!G67,0))","v":0},"ALB",{"$f":"IF($J67=\"ALB\", IF(INTRO!$E$39=\"Non-endemic\", IF($H67<>0, IF($I67=0, $D67*$H67, $D67*($H67-$G67)), 0), $D67*$H67), 0)","v":12126},27508,null,39634,{"$f":"IF($J67=\"MBD\", IF(INTRO!$E$39=\"Non-endemic\", IF($H67<>0, IF($I67=0, $D67*$H67, $D67*($H67-$G67)), 0), $D67*$H67), 0)","v":0},0,null,0,null,0,0,null,27508,138,null,0,0]
[{"$f":"IF(AND(INTRO!$E$37=\"Non-endemic\",INTRO!$E$41=\"Non-endemic\"),\" \",IF(COUNTRY_INFO!A68=0,\" \",COUNTRY_INFO!A68))","v":"Ghana"},{"$f":"IF(AND(INTRO!$E$37=\"Non-endemic\",INTRO!$E$41=\"Non-endemic\"),\" \",IF(COUNTRY_INFO!B68=0,\" \",COUNTRY_INFO!B68))","v":"Central"},{"$f":"IF(AND(INTRO!$E$37=\"Non-endemic\",INTRO!$E$41=\"Non-endemic\"),\" \",IF(COUNTRY_INFO!C68=0,\" \",COUNTRY_INFO!C68))","v":"Agona West"},{"$f":"IF(AND(INTRO!$E$37=\"Non-endemic\",INTRO!$E$41=\"Non-endemic\"),0,IF(AND(OR(COUNTRY_INFO!$H68=0,COUNTRY_INFO!$H68=4,COUNTRY_INFO!$H68=99),OR(COUNTRY_INFO!$J68=0,COUNTRY_INFO!$J68=4)),0,COUNTRY_INFO!$E68))","v":16281},{"$f":"IF(AND(INTRO!$E$37=\"Non-endemic\",INTRO!$E$41=\"Non-endemic\"),0,IF(AND(OR(COUNTRY_INFO!$H68=0,COUNTRY_INFO!$H68=4,COUNTRY_INFO!$H68=99),OR(COUNTRY_INFO!$J68=0,COUNTRY_INFO!$J68=4)),0,COUNTRY_INFO!$F68))","v":36933},53214,{"$f":"IF(AND(INTRO!$E$37=\"Non-endemic\",INTRO!$E$41=\"Non-endemic\"),0,COUNTRY_INFO!P68)","v":0},{"$f":"IF(AND(INTRO!$E$37=\"Non-endemic\",INTRO!$E$41=\"Non-endemic\"),0,COUNTRY_INFO!R68)","v":1},{"$f":"IF(INTRO!$E$39=\"Non-endemic\",IF($G68=1,DEC!I68,0),IF($G68=1,IVM!G68,0))","v":0},"ALB",{"$f":"IF($J68=\"ALB\", IF(INTRO!$E$39=\"Non-endemic\", IF($H68<>0, IF($I68=0, $D68*$H68, $D68*($H68-$G68)), 0), $D68*$H68), 0)","v":16281},36933,null,53214,{"$f":"IF($J68=\"MBD\", IF(INTRO!$E$39=\"Non-endemic\", IF($H68<>0, IF($I68=0, $D68*$H68, $D68*($H68-$G68)), 0), $D68*$H68), 0)","v":0},0,null,0,null,0,0,null,36933,185,null,0,0]
[{"$f":"IF(AND(INTRO!$E$37=\"Non-endemic\",INTRO!$E$41=\"Non-endemic\"),\" \",IF(COUNTRY_INFO!A69=0,\" \",COUNTRY_INFO!A69))","v":"Ghana"},{"$f":"IF(AND(INTRO!$E$37=\"Non-endemic\",INTRO!$E$41=\"Non-endemic\"),\" \",IF(COUNTRY_INFO!B69=0,\" \",COUNTRY_INFO!B69))","v":"Central"},{"$f":"IF(AND(INTRO!$E$37=\"Non-endemic\",INTRO!$E$41=\"Non-endemic\"),\" \",IF(COUNTRY_INFO!C69=0,\" \",COUNTRY_INFO!C69))","v":"Ajumako-Enyan-Essiam"},{"$f":"IF(AND(INTRO!$E$37=\"Non-endemic\",INTRO!$E$41=\"Non-endemic\"),0,IF(AND(OR(COUNTRY_INFO!$H69=0,COUNTRY_INFO!$H69=4,COUNTRY_INFO!$H69=99),OR(COUNTRY_INFO!$J69=0,COUNTRY_INFO!$J69=4)),0,COUNTRY_INFO!$E69))","v":19483},{"$f":"IF(AND(INTRO!$E$37=\"Non-endemic\",INTRO!$E$41=\"Non-endemic\"),0,IF(AND(OR(COUNTRY_INFO!$H69=0,COUNTRY_INFO!$H69=4,COUNTRY_INFO!$H69=99),OR(COUNTRY_INFO!$J69=0,COUNTRY_INFO!$J69=4)),0,COUNTRY_INFO!$F69))","v":44197},63680,{"$f":"IF(AND(INTRO!$E$37=\"Non-endemic\",INTRO!$E$41=\"Non-endemic\"),0,COUNTRY_INFO!P69)","v":0},{"$f":"IF(AND(INTRO!$E$37=\"Non-endemic\",INTRO!$E$41=\"Non-endemic\"),0,COUNTRY_INFO!R69)","v":1},{"$f":"IF(INTRO!$E$39=\"Non-endemic\",IF($G69=1,DEC!I69,0),IF($G69=1,IVM!G69,0))","v":0},"ALB",{"$f":"IF($J69=\"ALB\", IF(INTRO!$E$39=\"Non-endemic\", IF($H69<>0, IF($I69=0, $D69*$H69, $D69*($H69-$G69)), 0), $D69*$H69), 0)","v":19483},44197,null,63680,{"$f":"IF($J69=\"MBD\", IF(INTRO!$E$39=\"Non-endemic\", IF($H69<>0, IF($I69=0, $D69*$H69, $D69*($H69-$G69)), 0), $D69*$H69), 0)","v":0},0,null,0,null,0,0,null,44197,221,null,0,0]
[{"$f":"IF(AND(INTRO!$E$37=\"Non-endemic\",INTRO!$E$41=\"Non-endemic\"),\" \",IF(COUNTRY_INFO!A70=0,\" \",COUNTRY_INFO!A70))","v":"Ghana"},{"$f":"IF(AND(INTRO!$E$37=\"Non-endemic\",INTRO!$E$41=\"Non-endemic\"),\" \",IF(COUNTRY_INFO!B70=0,\" \",COUNTRY_INFO!B70))","v":"Central"},{"$f":"IF(AND(INTRO!$E$37=\"Non-endemic\",INTRO!$E$41=\"Non-endemic\"),\" \",IF(COUNTRY_INFO!C70=0,\" \",COUNTRY_INFO!C70))","v":"Asikuma-Odoben-Brakwa"},{"$f":"IF(AND(INTRO!$E$37=\"Non-endemic\",INTRO!$E$41=\"Non-endemic\"),0,IF(AND(OR(COUNTRY_INFO!$H70=0,COUNTRY_INFO!$H70=4,COUNTRY_INFO!$H70=99),OR(COUNTRY_INFO!$J70=0,COUNTRY_INFO!$J70=4)),0,COUNTRY_INFO!$E70))","v":15906},{"$f":"IF(AND(INTRO!$E$37=\"Non-endemic\",INTRO!$E$41=\"Non-endemic\"),0,IF(AND(OR(COUNTRY_INFO!$H70=0,COUNTRY_INFO!$H70=4,COUNTRY_INFO!$H70=99),OR(COUNTRY_INFO!$J70=0,COUNTRY_INFO!$J70=4)),0,COUNTRY_INFO!$F70))","v":36084},51990,{"$f":"IF(AND(INTRO!$E$37=\"Non-endemic\",INTRO!$E$41=\"Non-endemic\"),0,COUNTRY_INFO!P70)","v":0},{"$f":"IF(AND(INTRO!$E$37=\"Non-endemic\",INTRO!$E$41=\"Non-endemic\"),0,COUNTRY_INFO!R70)","v":1},{"$f":"IF(INTRO!$E$39=\"Non-endemic\",IF($G70=1,DEC!I70,0),IF($G70=1,IVM!G70,0))","v":0},"ALB",{"$f":"IF($J70=\"ALB\", IF(INTRO!$E$39=\"Non-endemic\", IF($H70<>0, IF($I70=0, $D70*$H70, $D70*($H70-$G70)), 0), $D70*$H70), 0)","v":15906},36084,null,51990,{"$f":"IF($J70=\"MBD\", IF(INTRO!$E$39=\"Non-endemic\", IF($H70<>0, IF($I70=0, $D70*$H70, $D70*($H70-$G70)), 0), $D70*$H70), 0)","v":0},0,null,0,null,0,0,null,36084,181,null,0,0]
[{"$f":"IF(AND(INTRO!$E$37=\"Non-endemic\",INTRO!$E$41=\"Non-endemic\"),\" \",IF(COUNTRY_INFO!A71=0,\" \",COUNTRY_INFO!A71))","v":"Ghana"},{"$f":"IF(AND(INTRO!$E$37=\"Non-endemic\",INTRO!$E$41=\"Non-endemic\"),\" \",IF(COUNTRY_INFO!B71=0,\" \",COUNTRY_INFO!B71))","v":"Central"},{"$f":"IF(AND(INTRO!$E$37=\"Non-endemic\",INTRO!$E$41=\"Non-endemic\"),\" \",IF(COUNTRY_INFO!C71=0,\" \",COUNTRY_INFO!C71))","v":"Assin North"},{"$f":"IF(AND(INTRO!$E$37=\"Non-endemic\",INTRO!$E$41=\"Non-endemic\"),0,IF(AND(OR(COUNTRY_INFO!$H71=0,COUNTRY_INFO!$H71=4,COUNTRY_INFO!$H71=99),OR(COUNTRY_INFO!$J71=0,COUNTRY_INFO!$J71=4)),0,COUNTRY_INFO!$E71))","v":22771},{"$f":"IF(AND(INTRO!$E$37=\"Non-endemic\",INTRO!$E$41=\"Non-endemic\"),0,IF(AND(OR(COUNTRY_INFO!$H71=0,COUNTRY_INFO!$H71=4,COUNTRY_INFO!$H71=99),OR(COUNTRY_INFO!$J71=0,COUNTRY_INFO!$J71=4)),0,COUNTRY_INFO!$F71))","v":51655},74426,{"$f":"IF(AND(INTRO!$E$37=\"Non-endemic\",INTRO!$E$41=\"Non-endemic\"),0,COUNTRY_INFO!P71)","v":0},{"$f":"IF(AND(INTRO!$E$37=\"Non-endemic\",INTRO!$E$41=\"Non-endemic\"),0,COUNTRY_INFO!R71)","v":1},{"$f":"IF(INTRO!$E$39=\"Non-endemic\",IF($G71=1,DEC!I71,0),IF($G71=1,IVM!G71,0))","v":0},"ALB",{"$f":"IF($J71=\"ALB\", IF(INTRO!$E$39=\"Non-endemic\", IF($H71<>0, IF($I71=0, $D71*$H71, $D71*($H71-$G71)), 0), $D71*$H71), 0)","v":22771},51655,null,74426,{"$f":"IF($J71=\"MBD\", IF(INTRO!$E$39=\"Non-endemic\", IF($H71<>0, IF($I71=0, $D71*$H71, $D71*($H71-$G71)), 0), $D71*$H71), 0)","v":0},0,null,0,null,0,0,null,51655,259,null,0,0]
[{"$f":"IF(AND(INTRO!$E$37=\"Non-endemic\",INTRO!$E$41=\"Non-endemic\"),\" \",IF(COUNTRY_INFO!A72=0,\" \",COUNTRY_INFO!A72))","v":"Ghana"},{"$f":"IF(AND(INTRO!$E$37=\"Non-endemic\",INTRO!$E$41=\"Non-endemic\"),\" \",IF(COUNTRY_INFO!B72=0,\" \",COUNTRY_INFO!B72))","v":"Central"},{"$f":"IF(AND(INTRO!$E$37=\"Non-endemic\",INTRO!$E$41=\"Non-endemic\"),\" \",IF(COUNTRY_INFO!C72=0,\" \",COUNTRY_INFO!C72))","v":"Assin South"},{"$f":"IF(AND(INTRO!$E$37=\"Non-endemic\",INTRO!$E$41=\"Non-endemic\"),0,IF(AND(OR(COUNTRY_INFO!$H72=0,COUNTRY_INFO!$H72=4,COUNTRY_INFO!$H72=99),OR(COUNTRY_INFO!$J72=0,COUNTRY_INFO!$J72=4)),0,COUNTRY_INFO!$E72))","v":14712},{"$f":"IF(AND(INTRO!$E$37=\"Non-endemic\",INTRO!$E$41=\"Non-endemic\"),0,IF(AND(OR(COUNTRY_INFO!$H72=0,COUNTRY_INFO!$H72=4,COUNTRY_INFO!$H72=99),OR(COUNTRY_INFO!$J72=0,COUNTRY_INFO!$J72=4)),0,COUNTRY_INFO!$F72))","v":33375},48087,{"$f":"IF(AND(INTRO!$E$37=\"Non-endemic\",INTRO!$E$41=\"Non-endemic\"),0,COUNTRY_INFO!P72)","v":0},{"$f":"IF(AND(INTRO!$E$37=\"Non-endemic\",INTRO!$E$41=\"Non-endemic\"),0,COUNTRY_INFO!R72)","v":1},{"$f":"IF(INTRO!$E$39=\"Non-endemic\",IF($G72=1,DEC!I72,0),IF($G72=1,IVM!G72,0))","v":0},"ALB",{"$f":"IF($J72=\"ALB\", IF(INTRO!$E$39=\"Non-endemic\", IF($H72<>0, IF($I72=0, $D72*$H72, $D72*($H72-$G72)), 0), $D72*$H72), 0)","v":14712},33375,null,48087,{"$f":"IF($J72=\"MBD\", IF(INTRO!$E$39=\"Non-endemic\", IF($H72<>0, IF($I72=0, $D72*$H72, $D72*($H72-$G72)), 0), $D72*$H72), 0)","v":0},0,null,0,null,0,0,null,33375,167,null,0,0]
[{"$f":"IF(AND(INTRO!$E$37=\"Non-endemic\",INTRO!$E$41=\"Non-endemic\"),\" \",IF(COUNTRY_INFO!A73=0,\" \",COUNTRY_INFO!A73))","v":"Ghana"},{"$f":"IF(AND(INTRO!$E$37=\"Non-endemic\",INTRO!$E$41=\"Non-endemic\"),\" \",IF(COUNTRY_INFO!B73=0,\" \",COUNTRY_INFO!B73))","v":"Central"},{"$f":"IF(AND(INTRO!$E$37=\"Non-endemic\",INTRO!$E$41=\"Non-endemic\"),\" \",IF(COUNTRY_INFO!C73=0,\" \",COUNTRY_INFO!C73))","v":"Awutu-Senya West"},{"$f":"IF(AND(INTRO!$E$37=\"Non-endemic\",INTRO!$E$41=\"Non-endemic\"),0,IF(AND(OR(COUNTRY_INFO!$H73=0,COUNTRY_INFO!$H73=4,COUNTRY_INFO!$H73=99),OR(COUNTRY_INFO!$J73=0,COUNTRY_INFO!$J73=4)),0,COUNTRY_INFO!$E73))","v":12382},{"$f":"IF(AND(INTRO!$E$37=\"Non-endemic\",INTRO!$E$41=\"Non-endemic\"),0,IF(AND(OR(COUNTRY_INFO!$H73=0,COUNTRY_INFO!$H73=4,COUNTRY_INFO!$H73=99),OR(COUNTRY_INFO!$J73=0,COUNTRY_INFO!$J73=4)),0,COUNTRY_INFO!$F73))","v":28090},{"$f":"SUM(D73:E73)","v":40472},{"$f":"IF(AND(INTRO!$E$37=\"Non-endemic\",INTRO!$E$41=\"Non-endemic\"),0,COUNTRY_INFO!P73)","v":0},{"$f":"IF(AND(INTRO!$E$37=\"Non-endemic\",INTRO!$E$41=\"Non-endemic\"),0,COUNTRY_INFO!R73)","v":1},{"$f":"IF(INTRO!$E$39=\"Non-endemic\",IF($G73=1,DEC!I73,0),IF($G73=1,IVM!G73,0))","v":0},"ALB",{"$f":"IF($J73=\"ALB\", IF(INTRO!$E$39=\"Non-endemic\", IF($H73<>0, IF($I73=0, $D73*$H73, $D73*($H73-$G73)), 0), $D73*$H73), 0)","v":12382},{"$f":"IF($J73=\"ALB\", IF($H73<>0, IF($I73=0, $E73*$H73, $E73*($H73-$G73)),0), 0)","v":28090},null,{"$f":"SUM(K73:M73)","v":40472},{"$f":"IF($J73=\"MBD\", IF(INTRO!$E$39=\"Non-endemic\", IF($H73<>0, IF($I73=0, $D73*$H73, $D73*($H73-$G73)), 0), $D73*$H73), 0)","v":0},{"$f":"IF($J73=\"MBD\", IF($H73<>0,IF($I73=0, $E73*$H73, $E73*($H73-$G73)),0), 0 )","v":0},null,{"$f":"SUM(O73:Q73)","v":0},null,{"$f":"IF($I73>$S73, $I73-$S73,0)","v":0},{"$f":"ROUNDUP($I73/200,0)","v":0},null,{"$f":"IF($L73>$V73,$L73-$V73,0)","v":28090},{"$f":"ROUNDUP($L73/200,0)","v":141},null,{"$f":"IF($P73>$Y73,$P73-$Y73,0)","v":0},{"$f":"ROUNDUP($P73/150,0)","v":0}]
[{"$f":"IF(AND(INTRO!$E$37=\"Non-endemic\",INTRO!$E$41=\"Non-endemic\"),\" \",IF(COUNTRY_INFO!A74=0,\" \",COUNTRY_INFO!A74))","v":"Ghana"},{"$f":"IF(AND(INTRO!$E$37=\"Non-endemic\",INTRO!$E$41=\"Non-endemic\"),\" \",IF(COUNTRY_INFO!B74=0,\" \",COUNTRY_INFO!B74))","v":"Central"},{"$f":"IF(AND(INTRO!$E$37=\"Non-endemic\",INTRO!$E$41=\"Non-endemic\"),\" \",IF(COUNTRY_INFO!C74=0,\" \",COUNTRY_INFO!C74))","v":"Awutu-Senya East"},{"$f":"IF(AND(INTRO!$E$37=\"Non-endemic\",INTRO!$E$41=\"Non-endemic\"),0,IF(AND(OR(COUNTRY_INFO!$H74=0,COUNTRY_INFO!$H74=4,COUNTRY_INFO!$H74=99),OR(COUNTRY_INFO!$J74=0,COUNTRY_INFO!$J74=4)),0,COUNTRY_INFO!$E74))","v":15182},{"$f":"IF(AND(INTRO!$E$37=\"Non-endemic\",INTRO!$E$41=\"Non-endemic\"),0,IF(AND(OR(COUNTRY_INFO!$H74=0,COUNTRY_INFO!$H74=4,COUNTRY_INFO!$H74=99),OR(COUNTRY_INFO!$J74=0,COUNTRY_INFO!$J74=4)),0,COUNTRY_INFO!$F74))","v":34440},49622,{"$f":"IF(AND(INTRO!$E$37=\"Non-endemic\",INTRO!$E$41=\"Non-endemic\"),0,COUNTRY_INFO!P74)","v":0},{"$f":"IF(AND(INTRO!$E$37=\"Non-endemic\",INTRO!$E$41=\"Non-endemic\"),0,COUNTRY_INFO!R74)","v":1},{"$f":"IF(INTRO!$E$39=\"Non-endemic\",IF($G74=1,DEC!I74,0),IF($G74=1,IVM!G74,0))","v":0},"ALB",{"$f":"IF($J74=\"ALB\", IF(INTRO!$E$39=\"Non-endemic\", IF($H74<>0, IF($I74=0, $D74*$H74, $D74*($H74-$G74)), 0), $D74*$H74), 0)","v":15182},34440,null,49622,{"$f":"IF($J74=\"MBD\", IF(INTRO!$E$39=\"Non-endemic\", IF($H74<>0, IF($I74=0, $D74*$H74, $D74*($H74-$G74)), 0), $D74*$H74), 0)","v":0},0,null,0,null,0,0,null,34440,173,null,0,0]
[{"$f":"IF(AND(INTRO!$E$37=\"Non-endemic\",INTRO!$E$41=\"Non-endemic\"),\" \",IF(COUNTRY_INFO!A75=0,\" \",COUNTRY_INFO!A75))","v":"Ghana"},{"$f":"IF(AND(INTRO!$E$37=\"Non-endemic\",INTRO!$E$41=\"Non-endemic\"),\" \",IF(COUNTRY_INFO!B75=0,\" \",COUNTRY_INFO!B75))","v":"Central"},{"$f":"IF(AND(INTRO!$E$37=\"Non-endemic\",INTRO!$E$41=\"Non-endemic\"),\" \",IF(COUNTRY_INFO!C75=0,\" \",COUNTRY_INFO!C75))","v":"Cape Coast"},{"$f":"IF(AND(INTRO!$E$37=\"Non-endemic\",INTRO!$E$41=\"Non-endemic\"),0,IF(AND(OR(COUNTRY_INFO!$H75=0,COUNTRY_INFO!$H75=4,COUNTRY_INFO!$H75=99),OR(COUNTRY_INFO!$J75=0,COUNTRY_INFO!$J75=4)),0,COUNTRY_INFO!$E75))","v":23978},{"$f":"IF(AND(INTRO!$E$37=\"Non-endemic\",INTRO!$E$41=\"Non-endemic\"),0,IF(AND(OR(COUNTRY_INFO!$H75=0,COUNTRY_INFO!$H75=4,COUNTRY_INFO!$H75=99),OR(COUNTRY_INFO!$J75=0,COUNTRY_INFO!$J75=4)),0,COUNTRY_INFO!$F75))","v":54394},78372,{"$f":"IF(AND(INTRO!$E$37=\"Non-endemic\",INTRO!$E$41=\"Non-endemic\"),0,COUNTRY_INFO!P75)","v":0},{"$f":"IF(AND(INTRO!$E$37=\"Non-endemic\",INTRO!$E$41=\"Non-endemic\"),0,COUNTRY_INFO!R75)","v":1},{"$f":"IF(INTRO!$E$39=\"Non-endemic\",IF($G75=1,DEC!I75,0),IF($G75=1,IVM!G75,0))","v":0},"ALB",{"$f":"IF($J75=\"ALB\", IF(INTRO!$E$39=\"Non-endemic\", IF($H75<>0, IF($I75=0, $D75*$H75, $D75*($H75-$G75)), 0), $D75*$H75), 0)","v":23978},54394,null,78372,{"$f":"IF($J75=\"MBD\", IF(INTRO!$E$39=\"Non-endemic\", IF($H75<>0, IF($I75=0, $D75*$H75, $D75*($H75-$G75)), 0), $D75*$H75), 0)","v":0},0,null,0,null,0,0,null,54394,272,null,0,0]
[{"$f":"IF(AND(INTRO!$E$37=\"Non-endemic\",INTRO!$E$41=\"Non-endemic\"),\" \",IF(COUNTRY_INFO!A76=0,\" \",COUNTRY_INFO!A76))","v":"Ghana"},{"$f":"IF(AND(INTRO!$E$37=\"Non-endemic\",INTRO!$E$41=\"Non-endemic\"),\" \",IF(COUNTRY_INFO!B76=0,\" \",COUNTRY_INFO!B76))","v":"Central"},{"$f":"IF(AND(INTRO!$E$37=\"Non-endemic\",INTRO!$E$41=\"Non-endemic\"),\" \",IF(COUNTRY_INFO!C76=0,\" \",COUNTRY_INFO!C76))","v":"Efutu"},{"$f":"IF(AND(INTRO!$E$37=\"Non-endemic\",INTRO!$E$41=\"Non-endemic\"),0,IF(AND(OR(COUNTRY_INFO!$H76=0,COUNTRY_INFO!$H76=4,COUNTRY_INFO!$H76=99),OR(COUNTRY_INFO!$J76=0,COUNTRY_INFO!$J76=4)),0,COUNTRY_INFO!$E76))","v":9681},{"$f":"IF(AND(INTRO!$E$37=\"Non-endemic\",INTRO!$E$41=\"Non-endemic\"),0,IF(AND(OR(COUNTRY_INFO!$H76=0,COUNTRY_INFO!$H76=4,COUNTRY_INFO!$H76=99),OR(COUNTRY_INFO!$J76=0,COUNTRY_INFO!$J76=4)),0,COUNTRY_INFO!$F76))","v":21962},31643,{"$f":"IF(AND(INTRO!$E$37=\"Non-endemic\",INTRO!$E$41=\"Non-endemic\"),0,COUNTRY_INFO!P76)","v":0},{"$f":"IF(AND(INTRO!$E$37=\"Non-endemic\",INTRO!$E$41=\"Non-endemic\"),0,COUNTRY_INFO!R76)","v":1},{"$f":"IF(INTRO!$E$39=\"Non-endemic\",IF($G76=1,DEC!I76,0),IF($G76=1,IVM!G76,0))","v":0},"ALB",{"$f":"IF($J76=\"ALB\", IF(INTRO!$E$39=\"Non-endemic\", IF($H76<>0, IF($I76=0, $D76*$H76, $D76*($H76-$G76)), 0), $D76*$H76), 0)","v":9681},21962,null,31643,{"$f":"IF($J76=\"MBD\", IF(INTRO!$E$39=\"Non-endemic\", IF($H76<>0, IF($I76=0, $D76*$H76, $D76*($H76-$G76)), 0), $D76*$H76), 0)","v":0},0,null,0,null,0,0,null,21962,110,null,0,0]
[{"$f":"IF(AND(INTRO!$E$37=\"Non-endemic\",INTRO!$E$41=\"Non-endemic\"),\" \",IF(COUNTRY_INFO!A77=0,\" \",COUNTRY_INFO!A77))","v":"Ghana"},{"$f":"IF(AND(INTRO!$E$37=\"Non-endemic\",INTRO!$E$41=\"Non-endemic\"),\" \",IF(COUNTRY_INFO!B77=0,\" \",COUNTRY_INFO!B77))","v":"Central"},{"$f":"IF(AND(INTRO!$E$37=\"Non-endemic\",INTRO!$E$41=\"Non-endemic\"),\" \",IF(COUNTRY_INFO!C77=0,\" \",COUNTRY_INFO!C77))","v":"Gomoa East"},{"$f":"IF(AND(INTRO!$E$37=\"Non-endemic\",INTRO!$E$41=\"Non-endemic\"),0,IF(AND(OR(COUNTRY_INFO!$H77=0,COUNTRY_INFO!$H77=4,COUNTRY_INFO!$H77=99),OR(COUNTRY_INFO!$J77=0,COUNTRY_INFO!$J77=4)),0,COUNTRY_INFO!$E77))","v":29225},{"$f":"IF(AND(INTRO!$E$37=\"Non-endemic\",INTRO!$E$41=\"Non-endemic\"),0,IF(AND(OR(COUNTRY_INFO!$H77=0,COUNTRY_INFO!$H77=4,COUNTRY_INFO!$H77=99),OR(COUNTRY_INFO!$J77=0,COUNTRY_INFO!$J77=4)),0,COUNTRY_INFO!$F77))","v":66297},95522,{"$f":"IF(AND(INTRO!$E$37=\"Non-endemic\",INTRO!$E$41=\"Non-endemic\"),0,COUNTRY_INFO!P77)","v":0},{"$f":"IF(AND(INTRO!$E$37=\"Non-endemic\",INTRO!$E$41=\"Non-endemic\"),0,COUNTRY_INFO!R77)","v":1},{"$f":"IF(INTRO!$E$39=\"Non-endemic\",IF($G77=1,DEC!I77,0),IF($G77=1,IVM!G77,0))","v":0},"ALB",{"$f":"IF($J77=\"ALB\", IF(INTRO!$E$39=\"Non-endemic\", IF($H77<>0, IF($I77=0, $D77*$H77, $D77*($H77-$G77)), 0), $D77*$H77), 0)","v":29225},66297,null,95522,{"$f":"IF($J77=\"MBD\", IF(INTRO!$E$39=\"Non-endemic\", IF($H77<>0, IF($I77=0, $D77*$H77, $D77*($H77-$G77)), 0), $D77*$H77), 0)","v":0},0,null,0,null,0,0,null,66297,332,null,0,0]
[{"$f":"IF(AND(INTRO!$E$37=\"Non-endemic\",INTRO!$E$41=\"Non-endemic\"),\" \",IF(COUNTRY_INFO!A78=0,\" \",COUNTRY_INFO!A78))","v":"Ghana"},{"$f":"IF(AND(INTRO!$E$37=\"Non-endemic\",INTRO!$E$41=\"Non-endemic\"),\" \",IF(COUNTRY_INFO!B78=0,\" \",COUNTRY_INFO!B78))","v":"Central"},{"$f":"IF(AND(INTRO!$E$37=\"Non-endemic\",INTRO!$E$41=\"Non-endemic\"),\" \",IF(COUNTRY_INFO!C78=0,\" \",COUNTRY_INFO!C78))","v":"Gomoa West"},{"$f":"IF(AND(INTRO!$E$37=\"Non-endemic\",INTRO!$E$41=\"Non-endemic\"),0,IF(AND(OR(COUNTRY_INFO!$H78=0,COUNTRY_INFO!$H78=4,COUNTRY_INFO!$H78=99),OR(COUNTRY_INFO!$J78=0,COUNTRY_INFO!$J78=4)),0,COUNTRY_INFO!$E78))","v":19080},{"$f":"IF(AND(INTRO!$E$37=\"Non-endemic\",INTRO!$E$41=\"Non-endemic\"),0,IF(AND(OR(COUNTRY_INFO!$H78=0,COUNTRY_INFO!$H78=4,COUNTRY_INFO!$H78=99),OR(COUNTRY_INFO!$J78=0,COUNTRY_INFO!$J78=4)),0,COUNTRY_INFO!$F78))","v":43282},62362,{"$f":"IF(AND(INTRO!$E$37=\"Non-endemic\",INTRO!$E$41=\"Non-endemic\"),0,COUNTRY_INFO!P78)","v":0},{"$f":"IF(AND(INTRO!$E$37=\"Non-endemic\",INTRO!$E$41=\"Non-endemic\"),0,COUNTRY_INFO!R78)","v":1},{"$f":"IF(INTRO!$E$39=\"Non-endemic\",IF($G78=1,DEC!I78,0),IF($G78=1,IVM!G78,0))","v":0},"ALB",{"$f":"IF($J78=\"ALB\", IF(INTRO!$E$39=\"Non-endemic\", IF($H78<>0, IF($I78=0, $D78*$H78, $D78*($H78-$G78)), 0), $D78*$H78), 0)","v":19080},43282,null,62362,{"$f":"IF($J78=\"MBD\", IF(INTRO!$E$39=\"Non-endemic\", IF($H78<>0, IF($I78=0, $D78*$H78, $D78*($H78-$G78)), 0), $D78*$H78), 0)","v":0},0,null,0,null,0,0,null,43282,217,null,0,0]
[{"$f":"IF(AND(INTRO!$E$37=\"Non-endemic\",INTRO!$E$41=\"Non-endemic\"),\" \",IF(COUNTRY_INFO!A79=0,\" \",COUNTRY_INFO!A79))","v":"Ghana"},{"$f":"IF(AND(INTRO!$E$37=\"Non-endemic\",INTRO!$E$41=\"Non-endemic\"),\" \",IF(COUNTRY_INFO!B79=0,\" \",COUNTRY_INFO!B79))","v":"Central"},{"$f":"IF(AND(INTRO!$E$37=\"Non-endemic\",INTRO!$E$41=\"Non-endemic\"),\" \",IF(COUNTRY_INFO!C79=0,\" \",COUNTRY_INFO!C79))","v":"Komenda-Edina-Eguafo-Abirem"},{"$f":"IF(AND(INTRO!$E$37=\"Non-endemic\",INTRO!$E$41=\"Non-endemic\"),0,IF(AND(OR(COUNTRY_INFO!$H79=0,COUNTRY_INFO!$H79=4,COUNTRY_INFO!$H79=99),OR(COUNTRY_INFO!$J79=0,COUNTRY_INFO!$J79=4)),0,COUNTRY_INFO!$E79))","v":20423},{"$f":"IF(AND(INTRO!$E$37=\"Non-endemic\",INTRO!$E$41=\"Non-endemic\"),0,IF(AND(OR(COUNTRY_INFO!$H79=0,COUNTRY_INFO!$H79=4,COUNTRY_INFO!$H79=99),OR(COUNTRY_INFO!$J79=0,COUNTRY_INFO!$J79=4)),0,COUNTRY_INFO!$F79))","v":46329},66752,{"$f":"IF(AND(INTRO!$E$37=\"Non-endemic\",INTRO!$E$41=\"Non-endemic\"),0,COUNTRY_INFO!P79)","v":0},{"$f":"IF(AND(INTRO!$E$37=\"Non-endemic\",INTRO!$E$41=\"Non-endemic\"),0,COUNTRY_INFO!R79)","v":1},{"$f":"IF(INTRO!$E$39=\"Non-endemic\",IF($G79=1,DEC!I79,0),IF($G79=1,IVM!G79,0))","v":0},"ALB",{"$f":"IF($J79=\"ALB\", IF(INTRO!$E$39=\"Non-endemic\", IF($H79<>0, IF($I79=0, $D79*$H79, $D79*($H79-$G79)), 0), $D79*$H79), 0)","v":20423},46329,null,66752,{"$f":"IF($J79=\"MBD\", IF(INTRO!$E$39=\"Non-endemic\", IF($H79<>0, IF($I79=0, $D79*$H79, $D79*($H79-$G79)), 0), $D79*$H79), 0)","v":0},0,null,0,null,0,0,null,46329,232,null,0,0]
[{"$f":"IF(AND(INTRO!$E$37=\"Non-endemic\",INTRO!$E$41=\"Non-endemic\"),\" \",IF(COUNTRY_INFO!A80=0,\" \",COUNTRY_INFO!A80))","v":"Ghana"},{"$f":"IF(AND(INTRO!$E$37=\"Non-endemic\",INTRO!$E$41=\"Non-endemic\"),\" \",IF(COUNTRY_INFO!B80=0,\" \",COUNTRY_INFO!B80))","v":"Central"},{"$f":"IF(AND(INTRO!$E$37=\"Non-endemic\",INTRO!$E$41=\"Non-endemic\"),\" \",IF(COUNTRY_INFO!C80=0,\" \",COUNTRY_INFO!C80))","v":"Mfansteman"},{"$f":"IF(AND(INTRO!$E$37=\"Non-endemic\",INTRO!$E$41=\"Non-endemic\"),0,IF(AND(OR(COUNTRY_INFO!$H80=0,COUNTRY_INFO!$H80=4,COUNTRY_INFO!$H80=99),OR(COUNTRY_INFO!$J80=0,COUNTRY_INFO!$J80=4)),0,COUNTRY_INFO!$E80))","v":20370},{"$f":"IF(AND(INTRO!$E$37=\"Non-endemic\",INTRO!$E$41=\"Non-endemic\"),0,IF(AND(OR(COUNTRY_INFO!$H80=0,COUNTRY_INFO!$H80=4,COUNTRY_INFO!$H80=99),OR(COUNTRY_INFO!$J80=0,COUNTRY_INFO!$J80=4)),0,COUNTRY_INFO!$F80))","v":46210},66580,{"$f":"IF(AND(INTRO!$E$37=\"Non-endemic\",INTRO!$E$41=\"Non-endemic\"),0,COUNTRY_INFO!P80)","v":0},{"$f":"IF(AND(INTRO!$E$37=\"Non-endemic\",INTRO!$E$41=\"Non-endemic\"),0,COUNTRY_INFO!R80)","v":1},{"$f":"IF(INTRO!$E$39=\"Non-endemic\",IF($G80=1,DEC!I80,0),IF($G80=1,IVM!G80,0))","v":0},"ALB",{"$f":"IF($J80=\"ALB\", IF(INTRO!$E$39=\"Non-endemic\", IF($H80<>0, IF($I80=0, $D80*$H80, $D80*($H80-$G80)), 0), $D80*$H80), 0)","v":20370},46210,null,66580,{"$f":"IF($J80=\"MBD\", IF(INTRO!$E$39=\"Non-endemic\", IF($H80<>0, IF($I80=0, $D80*$H80, $D80*($H80-$G80)), 0), $D80*$H80), 0)","v":0},0,null,0,null,0,0,null,46210,232,null,0,0]
[{"$f":"IF(AND(INTRO!$E$37=\"Non-endemic\",INTRO!$E$41=\"Non-endemic\"),\" \",IF(COUNTRY_INFO!A81=0,\" \",COUNTRY_INFO!A81))","v":"Ghana"},{"$f":"IF(AND(INTRO!$E$37=\"Non-endemic\",INTRO!$E$41=\"Non-endemic\"),\" \",IF(COUNTRY_INFO!B81=0,\" \",COUNTRY_INFO!B81))","v":"Central"},{"$f":"IF(AND(INTRO!$E$37=\"Non-endemic\",INTRO!$E$41=\"Non-endemic\"),\" \",IF(COUNTRY_INFO!C81=0,\" \",COUNTRY_INFO!C81))","v":"Ekumfi"},{"$f":"IF(AND(INTRO!$E$37=\"Non-endemic\",INTRO!$E$41=\"Non-endemic\"),0,IF(AND(OR(COUNTRY_INFO!$H81=0,COUNTRY_INFO!$H81=4,COUNTRY_INFO!$H81=99),OR(COUNTRY_INFO!$J81=0,COUNTRY_INFO!$J81=4)),0,COUNTRY_INFO!$E81))","v":7372},{"$f":"IF(AND(INTRO!$E$37=\"Non-endemic\",INTRO!$E$41=\"Non-endemic\"),0,IF(AND(OR(COUNTRY_INFO!$H81=0,COUNTRY_INFO!$H81=4,COUNTRY_INFO!$H81=99),OR(COUNTRY_INFO!$J81=0,COUNTRY_INFO!$J81=4)),0,COUNTRY_INFO!$F81))","v":16722},24094,{"$f":"IF(AND(INTRO!$E$37=\"Non-endemic\",INTRO!$E$41=\"Non-endemic\"),0,COUNTRY_INFO!P81)","v":0},{"$f":"IF(AND(INTRO!$E$37=\"Non-endemic\",INTRO!$E$41=\"Non-endemic\"),0,COUNTRY_INFO!R81)","v":1},{"$f":"IF(INTRO!$E$39=\"Non-endemic\",IF($G81=1,DEC!I81,0),IF($G81=1,IVM!G81,0))","v":0},"ALB",{"$f":"IF($J81=\"ALB\", IF(INTRO!$E$39=\"Non-endemic\", IF($H81<>0, IF($I81=0, $D81*$H81, $D81*($H81-$G81)), 0), $D81*$H81), 0)","v":7372},16722,null,24094,{"$f":"IF($J81=\"MBD\", IF(INTRO!$E$39=\"Non-endemic\", IF($H81<>0, IF($I81=0, $D81*$H81, $D81*($H81-$G81)), 0), $D81*$H81), 0)","v":0},0,null,0,null,0,0,null,16722,84,null,0,0]
[{"$f":"IF(AND(INTRO!$E$37=\"Non-endemic\",INTRO!$E$41=\"Non-endemic\"),\" \",IF(COUNTRY_INFO!A82=0,\" \",COUNTRY_INFO!A82))","v":"Ghana"},{"$f":"IF(AND(INTRO!$E$37=\"Non-endemic\",INTRO!$E$41=\"Non-endemic\"),\" \",IF(COUNTRY_INFO!B82=0,\" \",COUNTRY_INFO!B82))","v":"Central"},{"$f":"IF(AND(INTRO!$E$37=\"Non-endemic\",INTRO!$E$41=\"Non-endemic\"),\" \",IF(COUNTRY_INFO!C82=0,\" \",COUNTRY_INFO!C82))","v":"Lower Denkyira"},{"$f":"IF(AND(INTRO!$E$37=\"Non-endemic\",INTRO!$E$41=\"Non-endemic\"),0,IF(AND(OR(COUNTRY_INFO!$H82=0,COUNTRY_INFO!$H82=4,COUNTRY_INFO!$H82=99),OR(COUNTRY_INFO!$J82=0,COUNTRY_INFO!$J82=4)),0,COUNTRY_INFO!$E82))","v":7781},{"$f":"IF(AND(INTRO!$E$37=\"Non-endemic\",INTRO!$E$41=\"Non-endemic\"),0,IF(AND(OR(COUNTRY_INFO!$H82=0,COUNTRY_INFO!$H82=4,COUNTRY_INFO!$H82=99),OR(COUNTRY_INFO!$J82=0,COUNTRY_INFO!$J82=4)),0,COUNTRY_INFO!$F82))","v":17651},25432,{"$f":"IF(AND(INTRO!$E$37=\"Non-endemic\",INTRO!$E$41=\"Non-endemic\"),0,COUNTRY_INFO!P82)","v":0},{"$f":"IF(AND(INTRO!$E$37=\"Non-endemic\",INTRO!$E$41=\"Non-endemic\"),0,COUNTRY_INFO!R82)","v":1},{"$f":"IF(INTRO!$E$39=\"Non-endemic\",IF($G82=1,DEC!I82,0),IF($G82=1,IVM!G82,0))","v":0},"ALB",{"$f":"IF($J82=\"ALB\", IF(INTRO!$E$39=\"Non-endemic\", IF($H82<>0, IF($I82=0, $D82*$H82, $D82*($H82-$G82)), 0), $D82*$H82), 0)","v":7781},17651,null,25432,{"$f":"IF($J82=\"MBD\", IF(INTRO!$E$39=\"Non-endemic\", IF($H82<>0, IF($I82=0, $D82*$H82, $D82*($H82-$G82)), 0), $D82*$H82), 0)","v":0},0,null,0,null,0,0,null,17651,89,null,0,0]
[{"$f":"IF(AND(INTRO!$E$37=\"Non-endemic\",INTRO!$E$41=\"Non-endemic\"),\" \",IF(COUNTRY_INFO!A83=0,\" \",COUNTRY_INFO!A83))","v":"Ghana"},{"$f":"IF(AND(INTRO!$E$37=\"Non-endemic\",INTRO!$E$41=\"Non-endemic\"),\" \",IF(COUNTRY_INFO!B83=0,\" \",COUNTRY_INFO!B83))","v":"Central"},{"$f":"IF(AND(INTRO!$E$37=\"Non-endemic\",INTRO!$E$41=\"Non-endemic\"),\" \",IF(COUNTRY_INFO!C83=0,\" \",COUNTRY_INFO!C83))","v":"Twifu-Ati Mokwa"},{"$f":"IF(AND(INTRO!$E$37=\"Non-endemic\",INTRO!$E$41=\"Non-endemic\"),0,IF(AND(OR(COUNTRY_INFO!$H83=0,COUNTRY_INFO!$H83=4,COUNTRY_INFO!$H83=99),OR(COUNTRY_INFO!$J83=0,COUNTRY_INFO!$J83=4)),0,COUNTRY_INFO!$E83))","v":8714},{"$f":"IF(AND(INTRO!$E$37=\"Non-endemic\",INTRO!$E$41=\"Non-endemic\"),0,IF(AND(OR(COUNTRY_INFO!$H83=0,COUNTRY_INFO!$H83=4,COUNTRY_INFO!$H83=99),OR(COUNTRY_INFO!$J83=0,COUNTRY_INFO!$J83=4)),0,COUNTRY_INFO!$F83))","v":19768},28482,{"$f":"IF(AND(INTRO!$E$37=\"Non-endemic\",INTRO!$E$41=\"Non-endemic\"),0,COUNTRY_INFO!P83)","v":0},{"$f":"IF(AND(INTRO!$E$37=\"Non-endemic\",INTRO!$E$41=\"Non-endemic\"),0,COUNTRY_INFO!R83)","v":1},{"$f":"IF(INTRO!$E$39=\"Non-endemic\",IF($G83=1,DEC!I83,0),IF($G83=1,IVM!G83,0))","v":0},"ALB",{"$f":"IF($J83=\"ALB\", IF(INTRO!$E$39=\"Non-endemic\", IF($H83<>0, IF($I83=0, $D83*$H83, $D83*($H83-$G83)), 0), $D83*$H83), 0)","v":8714},19768,null,28482,{"$f":"IF($J83=\"MBD\", IF(INTRO!$E$39=\"Non-endemic\", IF($H83<>0, IF($I83=0, $D83*$H83, $D83*($H83-$G83)), 0), $D83*$H83), 0)","v":0},0,null,0,null,0,0,null,19768,99,null,0,0]
[{"$f":"IF(AND(INTRO!$E$37=\"Non-endemic\",INTRO!$E$41=\"Non-endemic\"),\" \",IF(COUNTRY_INFO!A84=0,\" \",COUNTRY_INFO!A84))","v":"Ghana"},{"$f":"IF(AND(INTRO!$E$37=\"Non-endemic\",INTRO!$E$41=\"Non-endemic\"),\" \",IF(COUNTRY_INFO!B84=0,\" \",COUNTRY_INFO!B84))","v":"Central"},{"$f":"IF(AND(INTRO!$E$37=\"Non-endemic\",INTRO!$E$41=\"Non-endemic\"),\" \",IF(COUNTRY_INFO!C84=0,\" \",COUNTRY_INFO!C84))","v":"Upper Denkyira East"},{"$f":"IF(AND(INTRO!$E$37=\"Non-endemic\",INTRO!$E$41=\"Non-endemic\"),0,IF(AND(OR(COUNTRY_INFO!$H84=0,COUNTRY_INFO!$H84=4,COUNTRY_INFO!$H84=99),OR(COUNTRY_INFO!$J84=0,COUNTRY_INFO!$J84=4)),0,COUNTRY_INFO!$E84))","v":10276},{"$f":"IF(AND(INTRO!$E$37=\"Non-endemic\",INTRO!$E$41=\"Non-endemic\"),0,IF(AND(OR(COUNTRY_INFO!$H84=0,COUNTRY_INFO!$H84=4,COUNTRY_INFO!$H84=99),OR(COUNTRY_INFO!$J84=0,COUNTRY_INFO!$J84=4)),0,COUNTRY_INFO!$F84))","v":23311},33587,{"$f":"IF(AND(INTRO!$E$37=\"Non-endemic\",INTRO!$E$41=\"Non-endemic\"),0,COUNTRY_INFO!P84)","v":0},{"$f":"IF(AND(INTRO!$E$37=\"Non-endemic\",INTRO!$E$41=\"Non-endemic\"),0,COUNTRY_INFO!R84)","v":1},{"$f":"IF(INTRO!$E$39=\"Non-endemic\",IF($G84=1,DEC!I84,0),IF($G84=1,IVM!G84,0))","v":0},"ALB",{"$f":"IF($J84=\"ALB\", IF(INTRO!$E$39=\"Non-endemic\", IF($H84<>0, IF($I84=0, $D84*$H84, $D84*($H84-$G84)), 0), $D84*$H84), 0)","v":10276},23311,null,33587,{"$f":"IF($J84=\"MBD\", IF(INTRO!$E$39=\"Non-endemic\", IF($H84<>0, IF($I84=0, $D84*$H84, $D84*($H84-$G84)), 0), $D84*$H84), 0)","v":0},0,null,0,null,0,0,null,23311,117,null,0,0]
[{"$f":"IF(AND(INTRO!$E$37=\"Non-endemic\",INTRO!$E$41=\"Non-endemic\"),\" \",IF(COUNTRY_INFO!A85=0,\" \",COUNTRY_INFO!A85))","v":"Ghana"},{"$f":"IF(AND(INTRO!$E$37=\"Non-endemic\",INTRO!$E$41=\"Non-endemic\"),\" \",IF(COUNTRY_INFO!B85=0,\" \",COUNTRY_INFO!B85))","v":"Central"},{"$f":"IF(AND(INTRO!$E$37=\"Non-endemic\",INTRO!$E$41=\"Non-endemic\"),\" \",IF(COUNTRY_INFO!C85=0,\" \",COUNTRY_INFO!C85))","v":"Upper Denkyira West"},{"$f":"IF(AND(INTRO!$E$37=\"Non-endemic\",INTRO!$E$41=\"Non-endemic\"),0,IF(AND(OR(COUNTRY_INFO!$H85=0,COUNTRY_INFO!$H85=4,COUNTRY_INFO!$H85=99),OR(COUNTRY_INFO!$J85=0,COUNTRY_INFO!$J85=4)),0,COUNTRY_INFO!$E85))","v":8476},{"$f":"IF(AND(INTRO!$E$37=\"Non-endemic\",INTRO!$E$41=\"Non-endemic\"),0,IF(AND(OR(COUNTRY_INFO!$H85=0,COUNTRY_INFO!$H85=4,COUNTRY_INFO!$H85=99),OR(COUNTRY_INFO!$J85=0,COUNTRY_INFO!$J85=4)),0,COUNTRY_INFO!$F85))","v":19227},27703,{"$f":"IF(AND(INTRO!$E$37=\"Non-endemic\",INTRO!$E$41=\"Non-endemic\"),0,COUNTRY_INFO!P85)","v":0},{"$f":"IF(AND(INTRO!$E$37=\"Non-endemic\",INTRO!$E$41=\"Non-endemic\"),0,COUNTRY_INFO!R85)","v":1},{"$f":"IF(INTRO!$E$39=\"Non-endemic\",IF($G85=1,DEC!I85,0),IF($G85=1,IVM!G85,0))","v":0},"ALB",{"$f":"IF($J85=\"ALB\", IF(INTRO!$E$39=\"Non-endemic\", IF($H85<>0, IF($I85=0, $D85*$H85, $D85*($H85-$G85)), 0), $D85*$H85), 0)","v":8476},19227,null,27703,{"$f":"IF($J85=\"MBD\", IF(INTRO!$E$39=\"Non-endemic\", IF($H85<>0, IF($I85=0, $D85*$H85, $D85*($H85-$G85)), 0), $D85*$H85), 0)","v":0},0,null,0,null,0,0,null,19227,97,null,0,0]
[{"$f":"IF(AND(INTRO!$E$37=\"Non-endemic\",INTRO!$E$41=\"Non-endemic\"),\" \",IF(COUNTRY_INFO!A86=0,\" \",COUNTRY_INFO!A86))","v":"Ghana"},{"$f":"IF(AND(INTRO!$E$37=\"Non-endemic\",INTRO!$E$41=\"Non-endemic\"),\" \",IF(COUNTRY_INFO!B86=0,\" \",COUNTRY_INFO!B86))","v":"Eastern"},{"$f":"IF(AND(INTRO!$E$37=\"Non-endemic\",INTRO!$E$41=\"Non-endemic\"),\" \",IF(COUNTRY_INFO!C86=0,\" \",COUNTRY_INFO!C86))","v":"Akwapim North"},{"$f":"IF(AND(INTRO!$E$37=\"Non-endemic\",INTRO!$E$41=\"Non-endemic\"),0,IF(AND(OR(COUNTRY_INFO!$H86=0,COUNTRY_INFO!$H86=4,COUNTRY_INFO!$H86=99),OR(COUNTRY_INFO!$J86=0,COUNTRY_INFO!$J86=4)),0,COUNTRY_INFO!$E86))","v":17817},{"$f":"IF(AND(INTRO!$E$37=\"Non-endemic\",INTRO!$E$41=\"Non-endemic\"),0,IF(AND(OR(COUNTRY_INFO!$H86=0,COUNTRY_INFO!$H86=4,COUNTRY_INFO!$H86=99),OR(COUNTRY_INFO!$J86=0,COUNTRY_INFO!$J86=4)),0,COUNTRY_INFO!$F86))","v":40419},58236,{"$f":"IF(AND(INTRO!$E$37=\"Non-endemic\",INTRO!$E$41=\"Non-endemic\"),0,COUNTRY_INFO!P86)","v":0},{"$f":"IF(AND(INTRO!$E$37=\"Non-endemic\",INTRO!$E$41=\"Non-endemic\"),0,COUNTRY_INFO!R86)","v":1},{"$f":"IF(INTRO!$E$39=\"Non-endemic\",IF($G86=1,DEC!I86,0),IF($G86=1,IVM!G86,0))","v":0},"ALB",{"$f":"IF($J86=\"ALB\", IF(INTRO!$E$39=\"Non-endemic\", IF($H86<>0, IF($I86=0, $D86*$H86, $D86*($H86-$G86)), 0), $D86*$H86), 0)","v":17817},40419,null,58236,{"$f":"IF($J86=\"MBD\", IF(INTRO!$E$39=\"Non-endemic\", IF($H86<>0, IF($I86=0, $D86*$H86, $D86*($H86-$G86)), 0), $D86*$H86), 0)","v":0},0,null,0,null,0,0,null,40419,203,null,0,0]
[{"$f":"IF(AND(INTRO!$E$37=\"Non-endemic\",INTRO!$E$41=\"Non-endemic\"),\" \",IF(COUNTRY_INFO!A87=0,\" \",COUNTRY_INFO!A87))","v":"Ghana"},{"$f":"IF(AND(INTRO!$E$37=\"Non-endemic\",INTRO!$E$41=\"Non-endemic\"),\" \",IF(COUNTRY_INFO!B87=0,\" \",COUNTRY_INFO!B87))","v":"Eastern"},{"$f":"IF(AND(INTRO!$E$37=\"Non-endemic\",INTRO!$E$41=\"Non-endemic\"),\" \",IF(COUNTRY_INFO!C87=0,\" \",COUNTRY_INFO!C87))","v":"Akwapim South"},{"$f":"IF(AND(INTRO!$E$37=\"Non-endemic\",INTRO!$E$41=\"Non-endemic\"),0,IF(AND(OR(COUNTRY_INFO!$H87=0,COUNTRY_INFO!$H87=4,COUNTRY_INFO!$H87=99),OR(COUNTRY_INFO!$J87=0,COUNTRY_INFO!$J87=4)),0,COUNTRY_INFO!$E87))","v":4896},{"$f":"IF(AND(INTRO!$E$37=\"Non-endemic\",INTRO!$E$41=\"Non-endemic\"),0,IF(AND(OR(COUNTRY_INFO!$H87=0,COUNTRY_INFO!$H87=4,COUNTRY_INFO!$H87=99),OR(COUNTRY_INFO!$J87=0,COUNTRY_INFO!$J87=4)),0,COUNTRY_INFO!$F87))","v":11106},16002,{"$f":"IF(AND(INTRO!$E$37=\"Non-endemic\",INTRO!$E$41=\"Non-endemic\"),0,COUNTRY_INFO!P87)","v":0},{"$f":"IF(AND(INTRO!$E$37=\"Non-endemic\",INTRO!$E$41=\"Non-endemic\"),0,COUNTRY_INFO!R87)","v":1},{"$f":"IF(INTRO!$E$39=\"Non-endemic\",IF($G87=1,DEC!I87,0),IF($G87=1,IVM!G87,0))","v":0},"ALB",{"$f":"IF($J87=\"ALB\", IF(INTRO!$E$39=\"Non-endemic\", IF($H87<>0, IF($I87=0, $D87*$H87, $D87*($H87-$G87)), 0), $D87*$H87), 0)","v":4896},11106,null,16002,{"$f":"IF($J87=\"MBD\", IF(INTRO!$E$39=\"Non-endemic\", IF($H87<>0, IF($I87=0, $D87*$H87, $D87*($H87-$G87)), 0), $D87*$H87), 0)","v":0},0,null,0,null,0,0,null,11106,56,null,0,0]
[{"$f":"IF(AND(INTRO!$E$37=\"Non-endemic\",INTRO!$E$41=\"Non-endemic\"),\" \",IF(COUNTRY_INFO!A88=0,\" \",COUNTRY_INFO!A88))","v":"Ghana"},{"$f":"IF(AND(INTRO!$E$37=\"Non-endemic\",INTRO!$E$41=\"Non-endemic\"),\" \",IF(COUNTRY_INFO!B88=0,\" \",COUNTRY_INFO!B88))","v":"Eastern"},{"$f":"IF(AND(INTRO!$E$37=\"Non-endemic\",INTRO!$E$41=\"Non-endemic\"),\" \",IF(COUNTRY_INFO!C88=0,\" \",COUNTRY_INFO!C88))","v":"Nsawam Adoagyiri Municipal"},{"$f":"IF(AND(INTRO!$E$37=\"Non-endemic\",INTRO!$E$41=\"Non-endemic\"),0,IF(AND(OR(COUNTRY_INFO!$H88=0,COUNTRY_INFO!$H88=4,COUNTRY_INFO!$H88=99),OR(COUNTRY_INFO!$J88=0,COUNTRY_INFO!$J88=4)),0,COUNTRY_INFO!$E88))","v":11227},{"$f":"IF(AND(INTRO!$E$37=\"Non-endemic\",INTRO!$E$41=\"Non-endemic\"),0,IF(AND(OR(COUNTRY_INFO!$H88=0,COUNTRY_INFO!$H88=4,COUNTRY_INFO!$H88=99),OR(COUNTRY_INFO!$J88=0,COUNTRY_INFO!$J88=4)),0,COUNTRY_INFO!$F88))","v":25469},36696,{"$f":"IF(AND(INTRO!$E$37=\"Non-endemic\",INTRO!$E$41=\"Non-endemic\"),0,COUNTRY_INFO!P88)","v":0},{"$f":"IF(AND(INTRO!$E$37=\"Non-endemic\",INTRO!$E$41=\"Non-endemic\"),0,COUNTRY_INFO!R88)","v":1},{"$f":"IF(INTRO!$E$39=\"Non-endemic\",IF($G88=1,DEC!I88,0),IF($G88=1,IVM!G88,0))","v":0},"ALB",{"$f":"IF($J88=\"ALB\", IF(INTRO!$E$39=\"Non-endemic\", IF($H88<>0, IF($I88=0, $D88*$H88, $D88*($H88-$G88)), 0), $D88*$H88), 0)","v":11227},25469,null,36696,{"$f":"IF($J88=\"MBD\", IF(INTRO!$E$39=\"Non-endemic\", IF($H88<>0, IF($I88=0, $D88*$H88, $D88*($H88-$G88)), 0), $D88*$H88), 0)","v":0},0,null,0,null,0,0,null,25469,128,null,0,0]
[{"$f":"IF(AND(INTRO!$E$37=\"Non-endemic\",INTRO!$E$41=\"Non-endemic\"),\" \",IF(COUNTRY_INFO!A89=0,\" \",COUNTRY_INFO!A89))","v":"Ghana"},{"$f":"IF(AND(INTRO!$E$37=\"Non-endemic\",INTRO!$E$41=\"Non-endemic\"),\" \",IF(COUNTRY_INFO!B89=0,\" \",COUNTRY_INFO!B89))","v":"Eastern"},{"$f":"IF(AND(INTRO!$E$37=\"Non-endemic\",INTRO!$E$41=\"Non-endemic\"),\" \",IF(COUNTRY_INFO!C89=0,\" \",COUNTRY_INFO!C89))","v":"Akyemansa"},{"$f":"IF(AND(INTRO!$E$37=\"Non-endemic\",INTRO!$E$41=\"Non-endemic\"),0,IF(AND(OR(COUNTRY_INFO!$H89=0,COUNTRY_INFO!$H89=4,COUNTRY_INFO!$H89=99),OR(COUNTRY_INFO!$J89=0,COUNTRY_INFO!$J89=4)),0,COUNTRY_INFO!$E89))","v":12712},{"$f":"IF(AND(INTRO!$E$37=\"Non-endemic\",INTRO!$E$41=\"Non-endemic\"),0,IF(AND(OR(COUNTRY_INFO!$H89=0,COUNTRY_INFO!$H89=4,COUNTRY_INFO!$H89=99),OR(COUNTRY_INFO!$J89=0,COUNTRY_INFO!$J89=4)),0,COUNTRY_INFO!$F89))","v":28837},41549,{"$f":"IF(AND(INTRO!$E$37=\"Non-endemic\",INTRO!$E$41=\"Non-endemic\"),0,COUNTRY_INFO!P89)","v":0},{"$f":"IF(AND(INTRO!$E$37=\"Non-endemic\",INTRO!$E$41=\"Non-endemic\"),0,COUNTRY_INFO!R89)","v":1},{"$f":"IF(INTRO!$E$39=\"Non-endemic\",IF($G89=1,DEC!I89,0),IF($G89=1,IVM!G89,0))","v":0},"ALB",{"$f":"IF($J89=\"ALB\", IF(INTRO!$E$39=\"Non-endemic\", IF($H89<>0, IF($I89=0, $D89*$H89, $D89*($H89-$G89)), 0), $D89*$H89), 0)","v":12712},28837,null,41549,{"$f":"IF($J89=\"MBD\", IF(INTRO!$E$39=\"Non-endemic\", IF($H89<>0, IF($I89=0, $D89*$H89, $D89*($H89-$G89)), 0), $D89*$H89), 0)","v":0},0,null,0,null,0,0,null,28837,145,null,0,0]
[{"$f":"IF(AND(INTRO!$E$37=\"Non-endemic\",INTRO!$E$41=\"Non-endemic\"),\" \",IF(COUNTRY_INFO!A90=0,\" \",COUNTRY_INFO!A90))","v":"Ghana"},{"$f":"IF(AND(INTRO!$E$37=\"Non-endemic\",INTRO!$E$41=\"Non-endemic\"),\" \",IF(COUNTRY_INFO!B90=0,\" \",COUNTRY_INFO!B90))","v":"Eastern"},{"$f":"IF(AND(INTRO!$E$37=\"Non-endemic\",INTRO!$E$41=\"Non-endemic\"),\" \",IF(COUNTRY_INFO!C90=0,\" \",COUNTRY_INFO!C90))","v":"Asuogyaman"},{"$f":"IF(AND(INTRO!$E$37=\"Non-endemic\",INTRO!$E$41=\"Non-endemic\"),0,IF(AND(OR(COUNTRY_INFO!$H90=0,COUNTRY_INFO!$H90=4,COUNTRY_INFO!$H90=99),OR(COUNTRY_INFO!$J90=0,COUNTRY_INFO!$J90=4)),0,COUNTRY_INFO!$E90))","v":12800},{"$f":"IF(AND(INTRO!$E$37=\"Non-endemic\",INTRO!$E$41=\"Non-endemic\"),0,IF(AND(OR(COUNTRY_INFO!$H90=0,COUNTRY_INFO!$H90=4,COUNTRY_INFO!$H90=99),OR(COUNTRY_INFO!$J90=0,COUNTRY_INFO!$J90=4)),0,COUNTRY_INFO!$F90))","v":29036},41836,{"$f":"IF(AND(INTRO!$E$37=\"Non-endemic\",INTRO!$E$41=\"Non-endemic\"),0,COUNTRY_INFO!P90)","v":0},{"$f":"IF(AND(INTRO!$E$37=\"Non-endemic\",INTRO!$E$41=\"Non-endemic\"),0,COUNTRY_INFO!R90)","v":1},{"$f":"IF(INTRO!$E$39=\"Non-endemic\",IF($G90=1,DEC!I90,0),IF($G90=1,IVM!G90,0))","v":0},"ALB",{"$f":"IF($J90=\"ALB\", IF(INTRO!$E$39=\"Non-endemic\", IF($H90<>0, IF($I90=0, $D90*$H90, $D90*($H90-$G90)), 0), $D90*$H90), 0)","v":12800},29036,null,41836,{"$f":"IF($J90=\"MBD\", IF(INTRO!$E$39=\"Non-endemic\", IF($H90<>0, IF($I90=0, $D90*$H90, $D90*($H90-$G90)), 0), $D90*$H90), 0)","v":0},0,null,0,null,0,0,null,29036,146,null,0,0]
[{"$f":"IF(AND(INTRO!$E$37=\"Non-endemic\",INTRO!$E$41=\"Non-endemic\"),\" \",IF(COUNTRY_INFO!A91=0,\" \",COUNTRY_INFO!A91))","v":"Ghana"},{"$f":"IF(AND(INTRO!$E$37=\"Non-endemic\",INTRO!$E$41=\"Non-endemic\"),\" \",IF(COUNTRY_INFO!B91=0,\" \",COUNTRY_INFO!B91))","v":"Eastern"},{"$f":"IF(AND(INTRO!$E$37=\"Non-endemic\",INTRO!$E$41=\"Non-endemic\"),\" \",IF(COUNTRY_INFO!C91=0,\" \",COUNTRY_INFO!C91))","v":"Atiwa"},{"$f":"IF(AND(INTRO!$E$37=\"Non-endemic\",INTRO!$E$41=\"Non-endemic\"),0,IF(AND(OR(COUNTRY_INFO!$H91=0,COUNTRY_INFO!$H91=4,COUNTRY_INFO!$H91=99),OR(COUNTRY_INFO!$J91=0,COUNTRY_INFO!$J91=4)),0,COUNTRY_INFO!$E91))","v":14441},{"$f":"IF(AND(INTRO!$E$37=\"Non-endemic\",INTRO!$E$41=\"Non-endemic\"),0,IF(AND(OR(COUNTRY_INFO!$H91=0,COUNTRY_INFO!$H91=4,COUNTRY_INFO!$H91=99),OR(COUNTRY_INFO!$J91=0,COUNTRY_INFO!$J91=4)),0,COUNTRY_INFO!$F91))","v":32760},47201,{"$f":"IF(AND(INTRO!$E$37=\"Non-endemic\",INTRO!$E$41=\"Non-endemic\"),0,COUNTRY_INFO!P91)","v":0},{"$f":"IF(AND(INTRO!$E$37=\"Non-endemic\",INTRO!$E$41=\"Non-endemic\"),0,COUNTRY_INFO!R91)","v":1},{"$f":"IF(INTRO!$E$39=\"Non-endemic\",IF($G91=1,DEC!I91,0),IF($G91=1,IVM!G91,0))","v":0},"ALB",{"$f":"IF($J91=\"ALB\", IF(INTRO!$E$39=\"Non-endemic\", IF($H91<>0, IF($I91=0, $D91*$H91, $D91*($H91-$G91)), 0), $D91*$H91), 0)","v":14441},32760,null,47201,{"$f":"IF($J91=\"MBD\", IF(INTRO!$E$39=\"Non-endemic\", IF($H91<>0, IF($I91=0, $D91*$H91, $D91*($H91-$G91)), 0), $D91*$H91), 0)","v":0},0,null,0,null,0,0,null,32760,164,null,0,0]
[{"$f":"IF(AND(INTRO!$E$37=\"Non-endemic\",INTRO!$E$41=\"Non-endemic\"),\" \",IF(COUNTRY_INFO!A92=0,\" \",COUNTRY_INFO!A92))","v":"Ghana"},{"$f":"IF(AND(INTRO!$E$37=\"Non-endemic\",INTRO!$E$41=\"Non-endemic\"),\" \",IF(COUNTRY_INFO!B92=0,\" \",COUNTRY_INFO!B92))","v":"Eastern"},{"$f":"IF(AND(INTRO!$E$37=\"Non-endemic\",INTRO!$E$41=\"Non-endemic\"),\" \",IF(COUNTRY_INFO!C92=0,\" \",COUNTRY_INFO!C92))","v":"Birim Central"},{"$f":"IF(AND(INTRO!$E$37=\"Non-endemic\",INTRO!$E$41=\"Non-endemic\"),0,IF(AND(OR(COUNTRY_INFO!$H92=0,COUNTRY_INFO!$H92=4,COUNTRY_INFO!$H92=99),OR(COUNTRY_INFO!$J92=0,COUNTRY_INFO!$J92=4)),0,COUNTRY_INFO!$E92))","v":18912},{"$f":"IF(AND(INTRO!$E$37=\"Non-endemic\",INTRO!$E$41=\"Non-endemic\"),0,IF(AND(OR(COUNTRY_INFO!$H92=0,COUNTRY_INFO!$H92=4,COUNTRY_INFO!$H92=99),OR(COUNTRY_INFO!$J92=0,COUNTRY_INFO!$J92=4)),0,COUNTRY_INFO!$F92))","v":42902},61814,{"$f":"IF(AND(INTRO!$E$37=\"Non-endemic\",INTRO!$E$41=\"Non-endemic\"),0,COUNTRY_INFO!P92)","v":0},{"$f":"IF(AND(INTRO!$E$37=\"Non-endemic\",INTRO!$E$41=\"Non-endemic\"),0,COUNTRY_INFO!R92)","v":1},{"$f":"IF(INTRO!$E$39=\"Non-endemic\",IF($G92=1,DEC!I92,0),IF($G92=1,IVM!G92,0))","v":0},"ALB",{"$f":"IF($J92=\"ALB\", IF(INTRO!$E$39=\"Non-endemic\", IF($H92<>0, IF($I92=0, $D92*$H92, $D92*($H92-$G92)), 0), $D92*$H92), 0)","v":18912},42902,null,61814,{"$f":"IF($J92=\"MBD\", IF(INTRO!$E$39=\"Non-endemic\", IF($H92<>0, IF($I92=0, $D92*$H92, $D92*($H92-$G92)), 0), $D92*$H92), 0)","v":0},0,null,0,null,0,0,null,42902,215,null,0,0]
[{"$f":"IF(AND(INTRO!$E$37=\"Non-endemic\",INTRO!$E$41=\"Non-endemic\"),\" \",IF(COUNTRY_INFO!A93=0,\" \",COUNTRY_INFO!A93))","v":"Ghana"},{"$f":"IF(AND(INTRO!$E$37=\"Non-endemic\",INTRO!$E$41=\"Non-endemic\"),\" \",IF(COUNTRY_INFO!B93=0,\" \",COUNTRY_INFO!B93))","v":"Eastern"},{"$f":"IF(AND(INTRO!$E$37=\"Non-endemic\",INTRO!$E$41=\"Non-endemic\"),\" \",IF(COUNTRY_INFO!C93=0,\" \",COUNTRY_INFO!C93))","v":"Birim North"},{"$f":"IF(AND(INTRO!$E$37=\"Non-endemic\",INTRO!$E$41=\"Non-endemic\"),0,IF(AND(OR(COUNTRY_INFO!$H93=0,COUNTRY_INFO!$H93=4,COUNTRY_INFO!$H93=99),OR(COUNTRY_INFO!$J93=0,COUNTRY_INFO!$J93=4)),0,COUNTRY_INFO!$E93))","v":10301},{"$f":"IF(AND(INTRO!$E$37=\"Non-endemic\",INTRO!$E$41=\"Non-endemic\"),0,IF(AND(OR(COUNTRY_INFO!$H93=0,COUNTRY_INFO!$H93=4,COUNTRY_INFO!$H93=99),OR(COUNTRY_INFO!$J93=0,COUNTRY_INFO!$J93=4)),0,COUNTRY_INFO!$F93))","v":23368},33669,{"$f":"IF(AND(INTRO!$E$37=\"Non-endemic\",INTRO!$E$41=\"Non-endemic\"),0,COUNTRY_INFO!P93)","v":0},{"$f":"IF(AND(INTRO!$E$37=\"Non-endemic\",INTRO!$E$41=\"Non-endemic\"),0,COUNTRY_INFO!R93)","v":1},{"$f":"IF(INTRO!$E$39=\"Non-endemic\",IF($G93=1,DEC!I93,0),IF($G93=1,IVM!G93,0))","v":0},"ALB",{"$f":"IF($J93=\"ALB\", IF(INTRO!$E$39=\"Non-endemic\", IF($H93<>0, IF($I93=0, $D93*$H93, $D93*($H93-$G93)), 0), $D93*$H93), 0)","v":10301},23368,null,33669,{"$f":"IF($J93=\"MBD\", IF(INTRO!$E$39=\"Non-endemic\", IF($H93<>0, IF($I93=0, $D93*$H93, $D93*($H93-$G93)), 0), $D93*$H93), 0)","v":0},0,null,0,null,0,0,null,23368,117,null,0,0]
[{"$f":"IF(AND(INTRO!$E$37=\"Non-endemic\",INTRO!$E$41=\"Non-endemic\"),\" \",IF(COUNTRY_INFO!A94=0,\" \",COUNTRY_INFO!A94))","v":"Ghana"},{"$f":"IF(AND(INTRO!$E$37=\"Non-endemic\",INTRO!$E$41=\"Non-endemic\"),\" \",IF(COUNTRY_INFO!B94=0,\" \",COUNTRY_INFO!B94))","v":"Eastern"},{"$f":"IF(AND(INTRO!$E$37=\"Non-endemic\",INTRO!$E$41=\"Non-endemic\"),\" \",IF(COUNTRY_INFO!C94=0,\" \",COUNTRY_INFO!C94))","v":"Birim South"},{"$f":"IF(AND(INTRO!$E$37=\"Non-endemic\",INTRO!$E$41=\"Non-endemic\"),0,IF(AND(OR(COUNTRY_INFO!$H94=0,COUNTRY_INFO!$H94=4,COUNTRY_INFO!$H94=99),OR(COUNTRY_INFO!$J94=0,COUNTRY_INFO!$J94=4)),0,COUNTRY_INFO!$E94))","v":15635},{"$f":"IF(AND(INTRO!$E$37=\"Non-endemic\",INTRO!$E$41=\"Non-endemic\"),0,IF(AND(OR(COUNTRY_INFO!$H94=0,COUNTRY_INFO!$H94=4,COUNTRY_INFO!$H94=99),OR(COUNTRY_INFO!$J94=0,COUNTRY_INFO!$J94=4)),0,COUNTRY_INFO!$F94))","v":35469},51104,{"$f":"IF(AND(INTRO!$E$37=\"Non-endemic\",INTRO!$E$41=\"Non-endemic\"),0,COUNTRY_INFO!P94)","v":0},{"$f":"IF(AND(INTRO!$E$37=\"Non-endemic\",INTRO!$E$41=\"Non-endemic\"),0,COUNTRY_INFO!R94)","v":1},{"$f":"IF(INTRO!$E$39=\"Non-endemic\",IF($G94=1,DEC!I94,0),IF($G94=1,IVM!G94,0))","v":0},"ALB",{"$f":"IF($J94=\"ALB\", IF(INTRO!$E$39=\"Non-endemic\", IF($H94<>0, IF($I94=0, $D94*$H94, $D94*($H94-$G94)), 0), $D94*$H94), 0)","v":15635},35469,null,51104,{"$f":"IF($J94=\"MBD\", IF(INTRO!$E$39=\"Non-endemic\", IF($H94<>0, IF($I94=0, $D94*$H94, $D94*($H94-$G94)), 0), $D94*$H94), 0)","v":0},0,null,0,null,0,0,null,35469,178,null,0,0]
[{"$f":"IF(AND(INTRO!$E$37=\"Non-endemic\",INTRO!$E$41=\"Non-endemic\"),\" \",IF(COUNTRY_INFO!A95=0,\" \",COUNTRY_INFO!A95))","v":"Ghana"},{"$f":"IF(AND(INTRO!$E$37=\"Non-endemic\",INTRO!$E$41=\"Non-endemic\"),\" \",IF(COUNTRY_INFO!B95=0,\" \",COUNTRY_INFO!B95))","v":"Eastern"},{"$f":"IF(AND(INTRO!$E$37=\"Non-endemic\",INTRO!$E$41=\"Non-endemic\"),\" \",IF(COUNTRY_INFO!C95=0,\" \",COUNTRY_INFO!C95))","v":"East Akim Municipal"},{"$f":"IF(AND(INTRO!$E$37=\"Non-endemic\",INTRO!$E$41=\"Non-endemic\"),0,IF(AND(OR(COUNTRY_INFO!$H95=0,COUNTRY_INFO!$H95=4,COUNTRY_INFO!$H95=99),OR(COUNTRY_INFO!$J95=0,COUNTRY_INFO!$J95=4)),0,COUNTRY_INFO!$E95))","v":21918},{"$f":"IF(AND(INTRO!$E$37=\"Non-endemic\",INTRO!$E$41=\"Non-endemic\"),0,IF(AND(OR(COUNTRY_INFO!$H95=0,COUNTRY_INFO!$H95=4,COUNTRY_INFO!$H95=99),OR(COUNTRY_INFO!$J95=0,COUNTRY_INFO!$J95=4)),0,COUNTRY_INFO!$F95))","v":49722},71640,{"$f":"IF(AND(INTRO!$E$37=\"Non-endemic\",INTRO!$E$41=\"Non-endemic\"),0,COUNTRY_INFO!P95)","v":0},{"$f":"IF(AND(INTRO!$E$37=\"Non-endemic\",INTRO!$E$41=\"Non-endemic\"),0,COUNTRY_INFO!R95)","v":1},{"$f":"IF(INTRO!$E$39=\"Non-endemic\",IF($G95=1,DEC!I95,0),IF($G95=1,IVM!G95,0))","v":0},"ALB",{"$f":"IF($J95=\"ALB\", IF(INTRO!$E$39=\"Non-endemic\", IF($H95<>0, IF($I95=0, $D95*$H95, $D95*($H95-$G95)), 0), $D95*$H95), 0)","v":21918},49722,null,71640,{"$f":"IF($J95=\"MBD\", IF(INTRO!$E$39=\"Non-endemic\", IF($H95<>0, IF($I95=0, $D95*$H95, $D95*($H95-$G95)), 0), $D95*$H95), 0)","v":0},0,null,0,null,0,0,null,49722,249,null,0,0]
[{"$f":"IF(AND(INTRO!$E$37=\"Non-endemic\",INTRO!$E$41=\"Non-endemic\"),\" \",IF(COUNTRY_INFO!A96=0,\" \",COUNTRY_INFO!A96))","v":"Ghana"},{"$f":"IF(AND(INTRO!$E$37=\"Non-endemic\",INTRO!$E$41=\"Non-endemic\"),\" \",IF(COUNTRY_INFO!B96=0,\" \",COUNTRY_INFO!B96))","v":"Eastern"},{"$f":"IF(AND(INTRO!$E$37=\"Non-endemic\",INTRO!$E$41=\"Non-endemic\"),\" \",IF(COUNTRY_INFO!C96=0,\" \",COUNTRY_INFO!C96))","v":"Fanteakwa"},{"$f":"IF(AND(INTRO!$E$37=\"Non-endemic\",INTRO!$E$41=\"Non-endemic\"),0,IF(AND(OR(COUNTRY_INFO!$H96=0,COUNTRY_INFO!$H96=4,COUNTRY_INFO!$H96=99),OR(COUNTRY_INFO!$J96=0,COUNTRY_INFO!$J96=4)),0,COUNTRY_INFO!$E96))","v":14179},{"$f":"IF(AND(INTRO!$E$37=\"Non-endemic\",INTRO!$E$41=\"Non-endemic\"),0,IF(AND(OR(COUNTRY_INFO!$H96=0,COUNTRY_INFO!$H96=4,COUNTRY_INFO!$H96=99),OR(COUNTRY_INFO!$J96=0,COUNTRY_INFO!$J96=4)),0,COUNTRY_INFO!$F96))","v":32166},46345,{"$f":"IF(AND(INTRO!$E$37=\"Non-endemic\",INTRO!$E$41=\"Non-endemic\"),0,COUNTRY_INFO!P96)","v":0},{"$f":"IF(AND(INTRO!$E$37=\"Non-endemic\",INTRO!$E$41=\"Non-endemic\"),0,COUNTRY_INFO!R96)","v":1},{"$f":"IF(INTRO!$E$39=\"Non-endemic\",IF($G96=1,DEC!I96,0),IF($G96=1,IVM!G96,0))","v":0},"ALB",{"$f":"IF($J96=\"ALB\", IF(INTRO!$E$39=\"Non-endemic\", IF($H96<>0, IF($I96=0, $D96*$H96, $D96*($H96-$G96)), 0), $D96*$H96), 0)","v":14179},32166,null,46345,{"$f":"IF($J96=\"MBD\", IF(INTRO!$E$39=\"Non-endemic\", IF($H96<>0, IF($I96=0, $D96*$H96, $D96*($H96-$G96)), 0), $D96*$H96), 0)","v":0},0,null,0,null,0,0,null,32166,161,null,0,0]
[{"$f":"IF(AND(INTRO!$E$37=\"Non-endemic\",INTRO!$E$41=\"Non-endemic\"),\" \",IF(COUNTRY_INFO!A97=0,\" \",COUNTRY_INFO!A97))","v":"Ghana"},{"$f":"IF(AND(INTRO!$E$37=\"Non-endemic\",INTRO!$E$41=\"Non-endemic\"),\" \",IF(COUNTRY_INFO!B97=0,\" \",COUNTRY_INFO!B97))","v":"Eastern"},{"$f":"IF(AND(INTRO!$E$37=\"Non-endemic\",INTRO!$E$41=\"Non-endemic\"),\" \",IF(COUNTRY_INFO!C97=0,\" \",COUNTRY_INFO!C97))","v":"Kwaebibirem"},{"$f":"IF(AND(INTRO!$E$37=\"Non-endemic\",INTRO!$E$41=\"Non-endemic\"),0,IF(AND(OR(COUNTRY_INFO!$H97=0,COUNTRY_INFO!$H97=4,COUNTRY_INFO!$H97=99),OR(COUNTRY_INFO!$J97=0,COUNTRY_INFO!$J97=4)),0,COUNTRY_INFO!$E97))","v":14892},{"$f":"IF(AND(INTRO!$E$37=\"Non-endemic\",INTRO!$E$41=\"Non-endemic\"),0,IF(AND(OR(COUNTRY_INFO!$H97=0,COUNTRY_INFO!$H97=4,COUNTRY_INFO!$H97=99),OR(COUNTRY_INFO!$J97=0,COUNTRY_INFO!$J97=4)),0,COUNTRY_INFO!$F97))","v":33783},48675,{"$f":"IF(AND(INTRO!$E$37=\"Non-endemic\",INTRO!$E$41=\"Non-endemic\"),0,COUNTRY_INFO!P97)","v":0},{"$f":"IF(AND(INTRO!$E$37=\"Non-endemic\",INTRO!$E$41=\"Non-endemic\"),0,COUNTRY_INFO!R97)","v":1},{"$f":"IF(INTRO!$E$39=\"Non-endemic\",IF($G97=1,DEC!I97,0),IF($G97=1,IVM!G97,0))","v":0},"ALB",{"$f":"IF($J97=\"ALB\", IF(INTRO!$E$39=\"Non-endemic\", IF($H97<>0, IF($I97=0, $D97*$H97, $D97*($H97-$G97)), 0), $D97*$H97), 0)","v":14892},33783,null,48675,{"$f":"IF($J97=\"MBD\", IF(INTRO!$E$39=\"Non-endemic\", IF($H97<>0, IF($I97=0, $D97*$H97, $D97*($H97-$G97)), 0), $D97*$H97), 0)","v":0},0,null,0,null,0,0,null,33783,169,null,0,0]
[{"$f":"IF(AND(INTRO!$E$37=\"Non-endemic\",INTRO!$E$41=\"Non-endemic\"),\" \",IF(COUNTRY_INFO!A98=0,\" \",COUNTRY_INFO!A98))","v":"Ghana"},{"$f":"IF(AND(INTRO!$E$37=\"Non-endemic\",INTRO!$E$41=\"Non-endemic\"),\" \",IF(COUNTRY_INFO!B98=0,\" \",COUNTRY_INFO!B98))","v":"Eastern"},{"$f":"IF(AND(INTRO!$E$37=\"Non-endemic\",INTRO!$E$41=\"Non-endemic\"),\" \",IF(COUNTRY_INFO!C98=0,\" \",COUNTRY_INFO!C98))","v":"Denkyembour"},{"$f":"IF(AND(INTRO!$E$37=\"Non-endemic\",INTRO!$E$41=\"Non-endemic\"),0,IF(AND(OR(COUNTRY_INFO!$H98=0,COUNTRY_INFO!$H98=4,COUNTRY_INFO!$H98=99),OR(COUNTRY_INFO!$J98=0,COUNTRY_INFO!$J98=4)),0,COUNTRY_INFO!$E98))","v":10246},{"$f":"IF(AND(INTRO!$E$37=\"Non-endemic\",INTRO!$E$41=\"Non-endemic\"),0,IF(AND(OR(COUNTRY_INFO!$H98=0,COUNTRY_INFO!$H98=4,COUNTRY_INFO!$H98=99),OR(COUNTRY_INFO!$J98=0,COUNTRY_INFO!$J98=4)),0,COUNTRY_INFO!$F98))","v":23244},33490,{"$f":"IF(AND(INTRO!$E$37=\"Non-endemic\",INTRO!$E$41=\"Non-endemic\"),0,COUNTRY_INFO!P98)","v":0},{"$f":"IF(AND(INTRO!$E$37=\"Non-endemic\",INTRO!$E$41=\"Non-endemic\"),0,COUNTRY_INFO!R98)","v":1},{"$f":"IF(INTRO!$E$39=\"Non-endemic\",IF($G98=1,DEC!I98,0),IF($G98=1,IVM!G98,0))","v":0},"ALB",{"$f":"IF($J98=\"ALB\", IF(INTRO!$E$39=\"Non-endemic\", IF($H98<>0, IF($I98=0, $D98*$H98, $D98*($H98-$G98)), 0), $D98*$H98), 0)","v":10246},23244,null,33490,{"$f":"IF($J98=\"MBD\", IF(INTRO!$E$39=\"Non-endemic\", IF($H98<>0, IF($I98=0, $D98*$H98, $D98*($H98-$G98)), 0), $D98*$H98), 0)","v":0},0,null,0,null,0,0,null,23244,117,null,0,0]
[{"$f":"IF(AND(INTRO!$E$37=\"Non-endemic\",INTRO!$E$41=\"Non-endemic\"),\" \",IF(COUNTRY_INFO!A99=0,\" \",COUNTRY_INFO!A99))","v":"Ghana"},{"$f":"IF(AND(INTRO!$E$37=\"Non-endemic\",INTRO!$E$41=\"Non-endemic\"),\" \",IF(COUNTRY_INFO!B99=0,\" \",COUNTRY_INFO!B99))","v":"Eastern"},{"$f":"IF(AND(INTRO!$E$37=\"Non-endemic\",INTRO!$E$41=\"Non-endemic\"),\" \",IF(COUNTRY_INFO!C99=0,\" \",COUNTRY_INFO!C99))","v":"Kwahu East"},{"$f":"IF(AND(INTRO!$E$37=\"Non-endemic\",INTRO!$E$41=\"Non-endemic\"),0,IF(AND(OR(COUNTRY_INFO!$H99=0,COUNTRY_INFO!$H99=4,COUNTRY_INFO!$H99=99),OR(COUNTRY_INFO!$J99=0,COUNTRY_INFO!$J99=4)),0,COUNTRY_INFO!$E99))","v":10068},{"$f":"IF(AND(INTRO!$E$37=\"Non-endemic\",INTRO!$E$41=\"Non-endemic\"),0,IF(AND(OR(COUNTRY_INFO!$H99=0,COUNTRY_INFO!$H99=4,COUNTRY_INFO!$H99=99),OR(COUNTRY_INFO!$J99=0,COUNTRY_INFO!$J99=4)),0,COUNTRY_INFO!$F99))","v":22840},32908,{"$f":"IF(AND(INTRO!$E$37=\"Non-endemic\",INTRO!$E$41=\"Non-endemic\"),0,COUNTRY_INFO!P99)","v":0},{"$f":"IF(AND(INTRO!$E$37=\"Non-endemic\",INTRO!$E$41=\"Non-endemic\"),0,COUNTRY_INFO!R99)","v":1},{"$f":"IF(INTRO!$E$39=\"Non-endemic\",IF($G99=1,DEC!I99,0),IF($G99=1,IVM!G99,0))","v":0},"ALB",{"$f":"IF($J99=\"ALB\", IF(INTRO!$E$39=\"Non-endemic\", IF($H99<>0, IF($I99=0, $D99*$H99, $D99*($H99-$G99)), 0), $D99*$H99), 0)","v":10068},22840,null,32908,{"$f":"IF($J99=\"MBD\", IF(INTRO!$E$39=\"Non-endemic\", IF($H99<>0, IF($I99=0, $D99*$H99, $D99*($H99-$G99)), 0), $D99*$H99), 0)","v":0},0,null,0,null,0,0,null,22840,115,null,0,0]
[{"$f":"IF(AND(INTRO!$E$37=\"Non-endemic\",INTRO!$E$41=\"Non-endemic\"),\" \",IF(COUNTRY_INFO!A100=0,\" \",COUNTRY_INFO!A100))","v":"Ghana"},{"$f":"IF(AND(INTRO!$E$37=\"Non-endemic\",INTRO!$E$41=\"Non-endemic\"),\" \",IF(COUNTRY_INFO!B100=0,\" \",COUNTRY_INFO!B100))","v":"Eastern"},{"$f":"IF(AND(INTRO!$E$37=\"Non-endemic\",INTRO!$E$41=\"Non-endemic\"),\" \",IF(COUNTRY_INFO!C100=0,\" \",COUNTRY_INFO!C100))","v":"Kwahu Afram Plains North"},{"$f":"IF(AND(INTRO!$E$37=\"Non-endemic\",INTRO!$E$41=\"Non-endemic\"),0,IF(AND(OR(COUNTRY_INFO!$H100=0,COUNTRY_INFO!$H100=4,COUNTRY_INFO!$H100=99),OR(COUNTRY_INFO!$J100=0,COUNTRY_INFO!$J100=4)),0,COUNTRY_INFO!$E100))","v":13391},{"$f":"IF(AND(INTRO!$E$37=\"Non-endemic\",INTRO!$E$41=\"Non-endemic\"),0,IF(AND(OR(COUNTRY_INFO!$H100=0,COUNTRY_INFO!$H100=4,COUNTRY_INFO!$H100=99),OR(COUNTRY_INFO!$J100=0,COUNTRY_INFO!$J100=4)),0,COUNTRY_INFO!$F100))","v":30377},43768,{"$f":"IF(AND(INTRO!$E$37=\"Non-endemic\",INTRO!$E$41=\"Non-endemic\"),0,COUNTRY_INFO!P100)","v":0},{"$f":"IF(AND(INTRO!$E$37=\"Non-endemic\",INTRO!$E$41=\"Non-endemic\"),0,COUNTRY_INFO!R100)","v":1},{"$f":"IF(INTRO!$E$39=\"Non-endemic\",IF($G100=1,DEC!I100,0),IF($G100=1,IVM!G100,0))","v":0},"ALB",{"$f":"IF($J100=\"ALB\", IF(INTRO!$E$39=\"Non-endemic\", IF($H100<>0, IF($I100=0, $D100*$H100, $D100*($H100-$G100)), 0), $D100*$H100), 0)","v":13391},30377,null,43768,{"$f":"IF($J100=\"MBD\", IF(INTRO!$E$39=\"Non-endemic\", IF($H100<>0, IF($I100=0, $D100*$H100, $D100*($H100-$G100)), 0), $D100*$H100), 0)","v":0},0,null,0,null,0,0,null,30377,152,null,0,0]
[{"$f":"IF(AND(INTRO!$E$37=\"Non-endemic\",INTRO!$E$41=\"Non-endemic\"),\" \",IF(COUNTRY_INFO!A101=0,\" \",COUNTRY_INFO!A101))","v":"Ghana"},{"$f":"IF(AND(INTRO!$E$37=\"Non-endemic\",INTRO!$E$41=\"Non-endemic\"),\" \",IF(COUNTRY_INFO!B101=0,\" \",COUNTRY_INFO!B101))","v":"Eastern"},{"$f":"IF(AND(INTRO!$E$37=\"Non-endemic\",INTRO!$E$41=\"Non-endemic\"),\" \",IF(COUNTRY_INFO!C101=0,\" \",COUNTRY_INFO!C101))","v":"Kwahu Afram Plains South"},{"$f":"IF(AND(INTRO!$E$37=\"Non-endemic\",INTRO!$E$41=\"Non-endemic\"),0,IF(AND(OR(COUNTRY_INFO!$H101=0,COUNTRY_INFO!$H101=4,COUNTRY_INFO!$H101=99),OR(COUNTRY_INFO!$J101=0,COUNTRY_INFO!$J101=4)),0,COUNTRY_INFO!$E101))","v":15099},{"$f":"IF(AND(INTRO!$E$37=\"Non-endemic\",INTRO!$E$41=\"Non-endemic\"),0,IF(AND(OR(COUNTRY_INFO!$H101=0,COUNTRY_INFO!$H101=4,COUNTRY_INFO!$H101=99),OR(COUNTRY_INFO!$J101=0,COUNTRY_INFO!$J101=4)),0,COUNTRY_INFO!$F101))","v":34253},49352,{"$f":"IF(AND(INTRO!$E$37=\"Non-endemic\",INTRO!$E$41=\"Non-endemic\"),0,COUNTRY_INFO!P101)","v":0},{"$f":"IF(AND(INTRO!$E$37=\"Non-endemic\",INTRO!$E$41=\"Non-endemic\"),0,COUNTRY_INFO!R101)","v":1},{"$f":"IF(INTRO!$E$39=\"Non-endemic\",IF($G101=1,DEC!I101,0),IF($G101=1,IVM!G101,0))","v":0},"ALB",{"$f":"IF($J101=\"ALB\", IF(INTRO!$E$39=\"Non-endemic\", IF($H101<>0, IF($I101=0, $D101*$H101, $D101*($H101-$G101)), 0), $D101*$H101), 0)","v":15099},34253,null,49352,{"$f":"IF($J101=\"MBD\", IF(INTRO!$E$39=\"Non-endemic\", IF($H101<>0, IF($I101=0, $D101*$H101, $D101*($H101-$G101)), 0), $D101*$H101), 0)","v":0},0,null,0,null,0,0,null,34253,172,null,0,0]
[{"$f":"IF(AND(INTRO!$E$37=\"Non-endemic\",INTRO!$E$41=\"Non-endemic\"),\" \",IF(COUNTRY_INFO!A102=0,\" \",COUNTRY_INFO!A102))","v":"Ghana"},{"$f":"IF(AND(INTRO!$E$37=\"Non-endemic\",INTRO!$E$41=\"Non-endemic\"),\" \",IF(COUNTRY_INFO!B102=0,\" \",COUNTRY_INFO!B102))","v":"Eastern"},{"$f":"IF(AND(INTRO!$E$37=\"Non-endemic\",INTRO!$E$41=\"Non-endemic\"),\" \",IF(COUNTRY_INFO!C102=0,\" \",COUNTRY_INFO!C102))","v":"Kwahu South"},{"$f":"IF(AND(INTRO!$E$37=\"Non-endemic\",INTRO!$E$41=\"Non-endemic\"),0,IF(AND(OR(COUNTRY_INFO!$H102=0,COUNTRY_INFO!$H102=4,COUNTRY_INFO!$H102=99),OR(COUNTRY_INFO!$J102=0,COUNTRY_INFO!$J102=4)),0,COUNTRY_INFO!$E102))","v":9107},{"$f":"IF(AND(INTRO!$E$37=\"Non-endemic\",INTRO!$E$41=\"Non-endemic\"),0,IF(AND(OR(COUNTRY_INFO!$H102=0,COUNTRY_INFO!$H102=4,COUNTRY_INFO!$H102=99),OR(COUNTRY_INFO!$J102=0,COUNTRY_INFO!$J102=4)),0,COUNTRY_INFO!$F102))","v":20658},29765,{"$f":"IF(AND(INTRO!$E$37=\"Non-endemic\",INTRO!$E$41=\"Non-endemic\"),0,COUNTRY_INFO!P102)","v":0},{"$f":"IF(AND(INTRO!$E$37=\"Non-endemic\",INTRO!$E$41=\"Non-endemic\"),0,COUNTRY_INFO!R102)","v":1},{"$f":"IF(INTRO!$E$39=\"Non-endemic\",IF($G102=1,DEC!I102,0),IF($G102=1,IVM!G102,0))","v":0},"ALB",{"$f":"IF($J102=\"ALB\", IF(INTRO!$E$39=\"Non-endemic\", IF($H102<>0, IF($I102=0, $D102*$H102, $D102*($H102-$G102)), 0), $D102*$H102), 0)","v":9107},20658,null,29765,{"$f":"IF($J102=\"MBD\", IF(INTRO!$E$39=\"Non-endemic\", IF($H102<>0, IF($I102=0, $D102*$H102, $D102*($H102-$G102)), 0), $D102*$H102), 0)","v":0},0,null,0,null,0,0,null,20658,104,null,0,0]
[{"$f":"IF(AND(INTRO!$E$37=\"Non-endemic\",INTRO!$E$41=\"Non-endemic\"),\" \",IF(COUNTRY_INFO!A103=0,\" \",COUNTRY_INFO!A103))","v":"Ghana"},{"$f":"IF(AND(INTRO!$E$37=\"Non-endemic\",INTRO!$E$41=\"Non-endemic\"),\" \",IF(COUNTRY_INFO!B103=0,\" \",COUNTRY_INFO!B103))","v":"Eastern"},{"$f":"IF(AND(INTRO!$E$37=\"Non-endemic\",INTRO!$E$41=\"Non-endemic\"),\" \",IF(COUNTRY_INFO!C103=0,\" \",COUNTRY_INFO!C103))","v":"Kwahu West"},{"$f":"IF(AND(INTRO!$E$37=\"Non-endemic\",INTRO!$E$41=\"Non-endemic\"),0,IF(AND(OR(COUNTRY_INFO!$H103=0,COUNTRY_INFO!$H103=4,COUNTRY_INFO!$H103=99),OR(COUNTRY_INFO!$J103=0,COUNTRY_INFO!$J103=4)),0,COUNTRY_INFO!$E103))","v":12217},{"$f":"IF(AND(INTRO!$E$37=\"Non-endemic\",INTRO!$E$41=\"Non-endemic\"),0,IF(AND(OR(COUNTRY_INFO!$H103=0,COUNTRY_INFO!$H103=4,COUNTRY_INFO!$H103=99),OR(COUNTRY_INFO!$J103=0,COUNTRY_INFO!$J103=4)),0,COUNTRY_INFO!$F103))","v":27715},39932,{"$f":"IF(AND(INTRO!$E$37=\"Non-endemic\",INTRO!$E$41=\"Non-endemic\"),0,COUNTRY_INFO!P103)","v":0},{"$f":"IF(AND(INTRO!$E$37=\"Non-endemic\",INTRO!$E$41=\"Non-endemic\"),0,COUNTRY_INFO!R103)","v":1},{"$f":"IF(INTRO!$E$39=\"Non-endemic\",IF($G103=1,DEC!I103,0),IF($G103=1,IVM!G103,0))","v":0},"ALB",{"$f":"IF($J103=\"ALB\", IF(INTRO!$E$39=\"Non-endemic\", IF($H103<>0, IF($I103=0, $D103*$H103, $D103*($H103-$G103)), 0), $D103*$H103), 0)","v":12217},27715,null,39932,{"$f":"IF($J103=\"MBD\", IF(INTRO!$E$39=\"Non-endemic\", IF($H103<>0, IF($I103=0, $D103*$H103, $D103*($H103-$G103)), 0), $D103*$H103), 0)","v":0},0,null,0,null,0,0,null,27715,139,null,0,0]
[{"$f":"IF(AND(INTRO!$E$37=\"Non-endemic\",INTRO!$E$41=\"Non-endemic\"),\" \",IF(COUNTRY_INFO!A104=0,\" \",COUNTRY_INFO!A104))","v":"Ghana"},{"$f":"IF(AND(INTRO!$E$37=\"Non-endemic\",INTRO!$E$41=\"Non-endemic\"),\" \",IF(COUNTRY_INFO!B104=0,\" \",COUNTRY_INFO!B104))","v":"Eastern"},{"$f":"IF(AND(INTRO!$E$37=\"Non-endemic\",INTRO!$E$41=\"Non-endemic\"),\" \",IF(COUNTRY_INFO!C104=0,\" \",COUNTRY_INFO!C104))","v":"Lower Manya Krobo"},{"$f":"IF(AND(INTRO!$E$37=\"Non-endemic\",INTRO!$E$41=\"Non-endemic\"),0,IF(AND(OR(COUNTRY_INFO!$H104=0,COUNTRY_INFO!$H104=4,COUNTRY_INFO!$H104=99),OR(COUNTRY_INFO!$J104=0,COUNTRY_INFO!$J104=4)),0,COUNTRY_INFO!$E104))","v":11651},{"$f":"IF(AND(INTRO!$E$37=\"Non-endemic\",INTRO!$E$41=\"Non-endemic\"),0,IF(AND(OR(COUNTRY_INFO!$H104=0,COUNTRY_INFO!$H104=4,COUNTRY_INFO!$H104=99),OR(COUNTRY_INFO!$J104=0,COUNTRY_INFO!$J104=4)),0,COUNTRY_INFO!$F104))","v":26430},38081,{"$f":"IF(AND(INTRO!$E$37=\"Non-endemic\",INTRO!$E$41=\"Non-endemic\"),0,COUNTRY_INFO!P104)","v":0},{"$f":"IF(AND(INTRO!$E$37=\"Non-endemic\",INTRO!$E$41=\"Non-endemic\"),0,COUNTRY_INFO!R104)","v":1},{"$f":"IF(INTRO!$E$39=\"Non-endemic\",IF($G104=1,DEC!I104,0),IF($G104=1,IVM!G104,0))","v":0},"ALB",{"$f":"IF($J104=\"ALB\", IF(INTRO!$E$39=\"Non-endemic\", IF($H104<>0, IF($I104=0, $D104*$H104, $D104*($H104-$G104)), 0), $D104*$H104), 0)","v":11651},26430,null,38081,{"$f":"IF($J104=\"MBD\", IF(INTRO!$E$39=\"Non-endemic\", IF($H104<>0, IF($I104=0, $D104*$H104, $D104*($H104-$G104)), 0), $D104*$H104), 0)","v":0},0,null,0,null,0,0,null,26430,133,null,0,0]
[{"$f":"IF(AND(INTRO!$E$37=\"Non-endemic\",INTRO!$E$41=\"Non-endemic\"),\" \",IF(COUNTRY_INFO!A105=0,\" \",COUNTRY_INFO!A105))","v":"Ghana"},{"$f":"IF(AND(INTRO!$E$37=\"Non-endemic\",INTRO!$E$41=\"Non-endemic\"),\" \",IF(COUNTRY_INFO!B105=0,\" \",COUNTRY_INFO!B105))","v":"Eastern"},{"$f":"IF(AND(INTRO!$E$37=\"Non-endemic\",INTRO!$E$41=\"Non-endemic\"),\" \",IF(COUNTRY_INFO!C105=0,\" \",COUNTRY_INFO!C105))","v":"New Juaben Municipal"},{"$f":"IF(AND(INTRO!$E$37=\"Non-endemic\",INTRO!$E$41=\"Non-endemic\"),0,IF(AND(OR(COUNTRY_INFO!$H105=0,COUNTRY_INFO!$H105=4,COUNTRY_INFO!$H105=99),OR(COUNTRY_INFO!$J105=0,COUNTRY_INFO!$J105=4)),0,COUNTRY_INFO!$E105))","v":23985},{"$f":"IF(AND(INTRO!$E$37=\"Non-endemic\",INTRO!$E$41=\"Non-endemic\"),0,IF(AND(OR(COUNTRY_INFO!$H105=0,COUNTRY_INFO!$H105=4,COUNTRY_INFO!$H105=99),OR(COUNTRY_INFO!$J105=0,COUNTRY_INFO!$J105=4)),0,COUNTRY_INFO!$F105))","v":54410},78395,{"$f":"IF(AND(INTRO!$E$37=\"Non-endemic\",INTRO!$E$41=\"Non-endemic\"),0,COUNTRY_INFO!P105)","v":0},{"$f":"IF(AND(INTRO!$E$37=\"Non-endemic\",INTRO!$E$41=\"Non-endemic\"),0,COUNTRY_INFO!R105)","v":1},{"$f":"IF(INTRO!$E$39=\"Non-endemic\",IF($G105=1,DEC!I105,0),IF($G105=1,IVM!G105,0))","v":0},"ALB",{"$f":"IF($J105=\"ALB\", IF(INTRO!$E$39=\"Non-endemic\", IF($H105<>0, IF($I105=0, $D105*$H105, $D105*($H105-$G105)), 0), $D105*$H105), 0)","v":23985},54410,null,78395,{"$f":"IF($J105=\"MBD\", IF(INTRO!$E$39=\"Non-endemic\", IF($H105<>0, IF($I105=0, $D105*$H105, $D105*($H105-$G105)), 0), $D105*$H105), 0)","v":0},0,null,0,null,0,0,null,54410,273,null,0,0]
[{"$f":"IF(AND(INTRO!$E$37=\"Non-endemic\",INTRO!$E$41=\"Non-endemic\"),\" \",IF(COUNTRY_INFO!A106=0,\" \",COUNTRY_INFO!A106))","v":"Ghana"},{"$f":"IF(AND(INTRO!$E$37=\"Non-endemic\",INTRO!$E$41=\"Non-endemic\"),\" \",IF(COUNTRY_INFO!B106=0,\" \",COUNTRY_INFO!B106))","v":"Eastern"},{"$f":"IF(AND(INTRO!$E$37=\"Non-endemic\",INTRO!$E$41=\"Non-endemic\"),\" \",IF(COUNTRY_INFO!C106=0,\" \",COUNTRY_INFO!C106))","v":"Suhum"},{"$f":"IF(AND(INTRO!$E$37=\"Non-endemic\",INTRO!$E$41=\"Non-endemic\"),0,IF(AND(OR(COUNTRY_INFO!$H106=0,COUNTRY_INFO!$H106=4,COUNTRY_INFO!$H106=99),OR(COUNTRY_INFO!$J106=0,COUNTRY_INFO!$J106=4)),0,COUNTRY_INFO!$E106))","v":11922},{"$f":"IF(AND(INTRO!$E$37=\"Non-endemic\",INTRO!$E$41=\"Non-endemic\"),0,IF(AND(OR(COUNTRY_INFO!$H106=0,COUNTRY_INFO!$H106=4,COUNTRY_INFO!$H106=99),OR(COUNTRY_INFO!$J106=0,COUNTRY_INFO!$J106=4)),0,COUNTRY_INFO!$F106))","v":27045},38967,{"$f":"IF(AND(INTRO!$E$37=\"Non-endemic\",INTRO!$E$41=\"Non-endemic\"),0,COUNTRY_INFO!P106)","v":0},{"$f":"IF(AND(INTRO!$E$37=\"Non-endemic\",INTRO!$E$41=\"Non-endemic\"),0,COUNTRY_INFO!R106)","v":1},{"$f":"IF(INTRO!$E$39=\"Non-endemic\",IF($G106=1,DEC!I106,0),IF($G106=1,IVM!G106,0))","v":0},"ALB",{"$f":"IF($J106=\"ALB\", IF(INTRO!$E$39=\"Non-endemic\", IF($H106<>0, IF($I106=0, $D106*$H106, $D106*($H106-$G106)), 0), $D106*$H106), 0)","v":11922},27045,null,38967,{"$f":"IF($J106=\"MBD\", IF(INTRO!$E$39=\"Non-endemic\", IF($H106<>0, IF($I106=0, $D106*$H106, $D106*($H106-$G106)), 0), $D106*$H106), 0)","v":0},0,null,0,null,0,0,null,27045,136,null,0,0]
[{"$f":"IF(AND(INTRO!$E$37=\"Non-endemic\",INTRO!$E$41=\"Non-endemic\"),\" \",IF(COUNTRY_INFO!A107=0,\" \",COUNTRY_INFO!A107))","v":"Ghana"},{"$f":"IF(AND(INTRO!$E$37=\"Non-endemic\",INTRO!$E$41=\"Non-endemic\"),\" \",IF(COUNTRY_INFO!B107=0,\" \",COUNTRY_INFO!B107))","v":"Eastern"},{"$f":"IF(AND(INTRO!$E$37=\"Non-endemic\",INTRO!$E$41=\"Non-endemic\"),\" \",IF(COUNTRY_INFO!C107=0,\" \",COUNTRY_INFO!C107))","v":"Ayensuano"},{"$f":"IF(AND(INTRO!$E$37=\"Non-endemic\",INTRO!$E$41=\"Non-endemic\"),0,IF(AND(OR(COUNTRY_INFO!$H107=0,COUNTRY_INFO!$H107=4,COUNTRY_INFO!$H107=99),OR(COUNTRY_INFO!$J107=0,COUNTRY_INFO!$J107=4)),0,COUNTRY_INFO!$E107))","v":9951},{"$f":"IF(AND(INTRO!$E$37=\"Non-endemic\",INTRO!$E$41=\"Non-endemic\"),0,IF(AND(OR(COUNTRY_INFO!$H107=0,COUNTRY_INFO!$H107=4,COUNTRY_INFO!$H107=99),OR(COUNTRY_INFO!$J107=0,COUNTRY_INFO!$J107=4)),0,COUNTRY_INFO!$F107))","v":22575},32526,{"$f":"IF(AND(INTRO!$E$37=\"Non-endemic\",INTRO!$E$41=\"Non-endemic\"),0,COUNTRY_INFO!P107)","v":0},{"$f":"IF(AND(INTRO!$E$37=\"Non-endemic\",INTRO!$E$41=\"Non-endemic\"),0,COUNTRY_INFO!R107)","v":1},{"$f":"IF(INTRO!$E$39=\"Non-endemic\",IF($G107=1,DEC!I107,0),IF($G107=1,IVM!G107,0))","v":0},"ALB",{"$f":"IF($J107=\"ALB\", IF(INTRO!$E$39=\"Non-endemic\", IF($H107<>0, IF($I107=0, $D107*$H107, $D107*($H107-$G107)), 0), $D107*$H107), 0)","v":9951},22575,null,32526,{"$f":"IF($J107=\"MBD\", IF(INTRO!$E$39=\"Non-endemic\", IF($H107<>0, IF($I107=0, $D107*$H107, $D107*($H107-$G107)), 0), $D107*$H107), 0)","v":0},0,null,0,null,0,0,null,22575,113,null,0,0]
[{"$f":"IF(AND(INTRO!$E$37=\"Non-endemic\",INTRO!$E$41=\"Non-endemic\"),\" \",IF(COUNTRY_INFO!A108=0,\" \",COUNTRY_INFO!A108))","v":"Ghana"},{"$f":"IF(AND(INTRO!$E$37=\"Non-endemic\",INTRO!$E$41=\"Non-endemic\"),\" \",IF(COUNTRY_INFO!B108=0,\" \",COUNTRY_INFO!B108))","v":"Eastern"},{"$f":"IF(AND(INTRO!$E$37=\"Non-endemic\",INTRO!$E$41=\"Non-endemic\"),\" \",IF(COUNTRY_INFO!C108=0,\" \",COUNTRY_INFO!C108))","v":"Upper Manya Krobo"},{"$f":"IF(AND(INTRO!$E$37=\"Non-endemic\",INTRO!$E$41=\"Non-endemic\"),0,IF(AND(OR(COUNTRY_INFO!$H108=0,COUNTRY_INFO!$H108=4,COUNTRY_INFO!$H108=99),OR(COUNTRY_INFO!$J108=0,COUNTRY_INFO!$J108=4)),0,COUNTRY_INFO!$E108))","v":9411},{"$f":"IF(AND(INTRO!$E$37=\"Non-endemic\",INTRO!$E$41=\"Non-endemic\"),0,IF(AND(OR(COUNTRY_INFO!$H108=0,COUNTRY_INFO!$H108=4,COUNTRY_INFO!$H108=99),OR(COUNTRY_INFO!$J108=0,COUNTRY_INFO!$J108=4)),0,COUNTRY_INFO!$F108))","v":21350},30761,{"$f":"IF(AND(INTRO!$E$37=\"Non-endemic\",INTRO!$E$41=\"Non-endemic\"),0,COUNTRY_INFO!P108)","v":0},{"$f":"IF(AND(INTRO!$E$37=\"Non-endemic\",INTRO!$E$41=\"Non-endemic\"),0,COUNTRY_INFO!R108)","v":1},{"$f":"IF(INTRO!$E$39=\"Non-endemic\",IF($G108=1,DEC!I108,0),IF($G108=1,IVM!G108,0))","v":0},"ALB",{"$f":"IF($J108=\"ALB\", IF(INTRO!$E$39=\"Non-endemic\", IF($H108<>0, IF($I108=0, $D108*$H108, $D108*($H108-$G108)), 0), $D108*$H108), 0)","v":9411},21350,null,30761,{"$f":"IF($J108=\"MBD\", IF(INTRO!$E$39=\"Non-endemic\", IF($H108<>0, IF($I108=0, $D108*$H108, $D108*($H108-$G108)), 0), $D108*$H108), 0)","v":0},0,null,0,null,0,0,null,21350,107,null,0,0]
[{"$f":"IF(AND(INTRO!$E$37=\"Non-endemic\",INTRO!$E$41=\"Non-endemic\"),\" \",IF(COUNTRY_INFO!A109=0,\" \",COUNTRY_INFO!A109))","v":"Ghana"},{"$f":"IF(AND(INTRO!$E$37=\"Non-endemic\",INTRO!$E$41=\"Non-endemic\"),\" \",IF(COUNTRY_INFO!B109=0,\" \",COUNTRY_INFO!B109))","v":"Eastern"},{"$f":"IF(AND(INTRO!$E$37=\"Non-endemic\",INTRO!$E$41=\"Non-endemic\"),\" \",IF(COUNTRY_INFO!C109=0,\" \",COUNTRY_INFO!C109))","v":"Upper West Akim"},{"$f":"IF(AND(INTRO!$E$37=\"Non-endemic\",INTRO!$E$41=\"Non-endemic\"),0,IF(AND(OR(COUNTRY_INFO!$H109=0,COUNTRY_INFO!$H109=4,COUNTRY_INFO!$H109=99),OR(COUNTRY_INFO!$J109=0,COUNTRY_INFO!$J109=4)),0,COUNTRY_INFO!$E109))","v":11364},{"$f":"IF(AND(INTRO!$E$37=\"Non-endemic\",INTRO!$E$41=\"Non-endemic\"),0,IF(AND(OR(COUNTRY_INFO!$H109=0,COUNTRY_INFO!$H109=4,COUNTRY_INFO!$H109=99),OR(COUNTRY_INFO!$J109=0,COUNTRY_INFO!$J109=4)),0,COUNTRY_INFO!$F109))","v":25780},37144,{"$f":"IF(AND(INTRO!$E$37=\"Non-endemic\",INTRO!$E$41=\"Non-endemic\"),0,COUNTRY_INFO!P109)","v":0},{"$f":"IF(AND(INTRO!$E$37=\"Non-endemic\",INTRO!$E$41=\"Non-endemic\"),0,COUNTRY_INFO!R109)","v":1},{"$f":"IF(INTRO!$E$39=\"Non-endemic\",IF($G109=1,DEC!I109,0),IF($G109=1,IVM!G109,0))","v":0},"ALB",{"$f":"IF($J109=\"ALB\", IF(INTRO!$E$39=\"Non-endemic\", IF($H109<>0, IF($I109=0, $D109*$H109, $D109*($H109-$G109)), 0), $D109*$H109), 0)","v":11364},25780,null,37144,{"$f":"IF($J109=\"MBD\", IF(INTRO!$E$39=\"Non-endemic\", IF($H109<>0, IF($I109=0, $D109*$H109, $D109*($H109-$G109)), 0), $D109*$H109), 0)","v":0},0,null,0,null,0,0,null,25780,129,null,0,0]
[{"$f":"IF(AND(INTRO!$E$37=\"Non-endemic\",INTRO!$E$41=\"Non-endemic\"),\" \",IF(COUNTRY_INFO!A110=0,\" \",COUNTRY_INFO!A110))","v":"Ghana"},{"$f":"IF(AND(INTRO!$E$37=\"Non-endemic\",INTRO!$E$41=\"Non-endemic\"),\" \",IF(COUNTRY_INFO!B110=0,\" \",COUNTRY_INFO!B110))","v":"Eastern"},{"$f":"IF(AND(INTRO!$E$37=\"Non-endemic\",INTRO!$E$41=\"Non-endemic\"),\" \",IF(COUNTRY_INFO!C110=0,\" \",COUNTRY_INFO!C110))","v":"West Akim Municipal"},{"$f":"IF(AND(INTRO!$E$37=\"Non-endemic\",INTRO!$E$41=\"Non-endemic\"),0,IF(AND(OR(COUNTRY_INFO!$H110=0,COUNTRY_INFO!$H110=4,COUNTRY_INFO!$H110=99),OR(COUNTRY_INFO!$J110=0,COUNTRY_INFO!$J110=4)),0,COUNTRY_INFO!$E110))","v":14138},{"$f":"IF(AND(INTRO!$E$37=\"Non-endemic\",INTRO!$E$41=\"Non-endemic\"),0,IF(AND(OR(COUNTRY_INFO!$H110=0,COUNTRY_INFO!$H110=4,COUNTRY_INFO!$H110=99),OR(COUNTRY_INFO!$J110=0,COUNTRY_INFO!$J110=4)),0,COUNTRY_INFO!$F110))","v":32072},46210,{"$f":"IF(AND(INTRO!$E$37=\"Non-endemic\",INTRO!$E$41=\"Non-endemic\"),0,COUNTRY_INFO!P110)","v":0},{"$f":"IF(AND(INTRO!$E$37=\"Non-endemic\",INTRO!$E$41=\"Non-endemic\"),0,COUNTRY_INFO!R110)","v":1},{"$f":"IF(INTRO!$E$39=\"Non-endemic\",IF($G110=1,DEC!I110,0),IF($G110=1,IVM!G110,0))","v":0},"ALB",{"$f":"IF($J110=\"ALB\", IF(INTRO!$E$39=\"Non-endemic\", IF($H110<>0, IF($I110=0, $D110*$H110, $D110*($H110-$G110)), 0), $D110*$H110), 0)","v":14138},32072,null,46210,{"$f":"IF($J110=\"MBD\", IF(INTRO!$E$39=\"Non-endemic\", IF($H110<>0, IF($I110=0, $D110*$H110, $D110*($H110-$G110)), 0), $D110*$H110), 0)","v":0},0,null,0,null,0,0,null,32072,161,null,0,0]
[{"$f":"IF(AND(INTRO!$E$37=\"Non-endemic\",INTRO!$E$41=\"Non-endemic\"),\" \",IF(COUNTRY_INFO!A111=0,\" \",COUNTRY_INFO!A111))","v":"Ghana"},{"$f":"IF(AND(INTRO!$E$37=\"Non-endemic\",INTRO!$E$41=\"Non-endemic\"),\" \",IF(COUNTRY_INFO!B111=0,\" \",COUNTRY_INFO!B111))","v":"Eastern"},{"$f":"IF(AND(INTRO!$E$37=\"Non-endemic\",INTRO!$E$41=\"Non-endemic\"),\" \",IF(COUNTRY_INFO!C111=0,\" \",COUNTRY_INFO!C111))","v":"Yilo Krobo"},{"$f":"IF(AND(INTRO!$E$37=\"Non-endemic\",INTRO!$E$41=\"Non-endemic\"),0,IF(AND(OR(COUNTRY_INFO!$H111=0,COUNTRY_INFO!$H111=4,COUNTRY_INFO!$H111=99),OR(COUNTRY_INFO!$J111=0,COUNTRY_INFO!$J111=4)),0,COUNTRY_INFO!$E111))","v":11468},{"$f":"IF(AND(INTRO!$E$37=\"Non-endemic\",INTRO!$E$41=\"Non-endemic\"),0,IF(AND(OR(COUNTRY_INFO!$H111=0,COUNTRY_INFO!$H111=4,COUNTRY_INFO!$H111=99),OR(COUNTRY_INFO!$J111=0,COUNTRY_INFO!$J111=4)),0,COUNTRY_INFO!$F111))","v":26015},37483,{"$f":"IF(AND(INTRO!$E$37=\"Non-endemic\",INTRO!$E$41=\"Non-endemic\"),0,COUNTRY_INFO!P111)","v":0},{"$f":"IF(AND(INTRO!$E$37=\"Non-endemic\",INTRO!$E$41=\"Non-endemic\"),0,COUNTRY_INFO!R111)","v":1},{"$f":"IF(INTRO!$E$39=\"Non-endemic\",IF($G111=1,DEC!I111,0),IF($G111=1,IVM!G111,0))","v":0},"ALB",{"$f":"IF($J111=\"ALB\", IF(INTRO!$E$39=\"Non-endemic\", IF($H111<>0, IF($I111=0, $D111*$H111, $D111*($H111-$G111)), 0), $D111*$H111), 0)","v":11468},26015,null,37483,{"$f":"IF($J111=\"MBD\", IF(INTRO!$E$39=\"Non-endemic\", IF($H111<>0, IF($I111=0, $D111*$H111, $D111*($H111-$G111)), 0), $D111*$H111), 0)","v":0},0,null,0,null,0,0,null,26015,131,null,0,0]
[{"$f":"IF(AND(INTRO!$E$37=\"Non-endemic\",INTRO!$E$41=\"Non-endemic\"),\" \",IF(COUNTRY_INFO!A112=0,\" \",COUNTRY_INFO!A112))","v":"Ghana"},{"$f":"IF(AND(INTRO!$E$37=\"Non-endemic\",INTRO!$E$41=\"Non-endemic\"),\" \",IF(COUNTRY_INFO!B112=0,\" \",COUNTRY_INFO!B112))","v":"Greater Accra"},{"$f":"IF(AND(INTRO!$E$37=\"Non-endemic\",INTRO!$E$41=\"Non-endemic\"),\" \",IF(COUNTRY_INFO!C112=0,\" \",COUNTRY_INFO!C112))","v":"Accra Metro"},{"$f":"IF(AND(INTRO!$E$37=\"Non-endemic\",INTRO!$E$41=\"Non-endemic\"),0,IF(AND(OR(COUNTRY_INFO!$H112=0,COUNTRY_INFO!$H112=4,COUNTRY_INFO!$H112=99),OR(COUNTRY_INFO!$J112=0,COUNTRY_INFO!$J112=4)),0,COUNTRY_INFO!$E112))","v":234998},{"$f":"IF(AND(INTRO!$E$37=\"Non-endemic\",INTRO!$E$41=\"Non-endemic\"),0,IF(AND(OR(COUNTRY_INFO!$H112=0,COUNTRY_INFO!$H112=4,COUNTRY_INFO!$H112=99),OR(COUNTRY_INFO!$J112=0,COUNTRY_INFO!$J112=4)),0,COUNTRY_INFO!$F112))","v":533097},768095,{"$f":"IF(AND(INTRO!$E$37=\"Non-endemic\",INTRO!$E$41=\"Non-endemic\"),0,COUNTRY_INFO!P112)","v":0},{"$f":"IF(AND(INTRO!$E$37=\"Non-endemic\",INTRO!$E$41=\"Non-endemic\"),0,COUNTRY_INFO!R112)","v":1},{"$f":"IF(INTRO!$E$39=\"Non-endemic\",IF($G112=1,DEC!I112,0),IF($G112=1,IVM!G112,0))","v":0},"ALB",{"$f":"IF($J112=\"ALB\", IF(INTRO!$E$39=\"Non-endemic\", IF($H112<>0, IF($I112=0, $D112*$H112, $D112*($H112-$G112)), 0), $D112*$H112), 0)","v":234998},533097,null,768095,{"$f":"IF($J112=\"MBD\", IF(INTRO!$E$39=\"Non-endemic\", IF($H112<>0, IF($I112=0, $D112*$H112, $D112*($H112-$G112)), 0), $D112*$H112), 0)","v":0},0,null,0,null,0,0,null,533097,2666,null,0,0]
[{"$f":"IF(AND(INTRO!$E$37=\"Non-endemic\",INTRO!$E$41=\"Non-endemic\"),\" \",IF(COUNTRY_INFO!A113=0,\" \",COUNTRY_INFO!A113))","v":"Ghana"},{"$f":"IF(AND(INTRO!$E$37=\"Non-endemic\",INTRO!$E$41=\"Non-endemic\"),\" \",IF(COUNTRY_INFO!B113=0,\" \",COUNTRY_INFO!B113))","v":"Greater Accra"},{"$f":"IF(AND(INTRO!$E$37=\"Non-endemic\",INTRO!$E$41=\"Non-endemic\"),\" \",IF(COUNTRY_INFO!C113=0,\" \",COUNTRY_INFO!C113))","v":"La Dade-Kotopon"},{"$f":"IF(AND(INTRO!$E$37=\"Non-endemic\",INTRO!$E$41=\"Non-endemic\"),0,IF(AND(OR(COUNTRY_INFO!$H113=0,COUNTRY_INFO!$H113=4,COUNTRY_INFO!$H113=99),OR(COUNTRY_INFO!$J113=0,COUNTRY_INFO!$J113=4)),0,COUNTRY_INFO!$E113))","v":25902},{"$f":"IF(AND(INTRO!$E$37=\"Non-endemic\",INTRO!$E$41=\"Non-endemic\"),0,IF(AND(OR(COUNTRY_INFO!$H113=0,COUNTRY_INFO!$H113=4,COUNTRY_INFO!$H113=99),OR(COUNTRY_INFO!$J113=0,COUNTRY_INFO!$J113=4)),0,COUNTRY_INFO!$F113))","v":58759},84661,{"$f":"IF(AND(INTRO!$E$37=\"Non-endemic\",INTRO!$E$41=\"Non-endemic\"),0,COUNTRY_INFO!P113)","v":0},{"$f":"IF(AND(INTRO!$E$37=\"Non-endemic\",INTRO!$E$41=\"Non-endemic\"),0,COUNTRY_INFO!R113)","v":1},{"$f":"IF(INTRO!$E$39=\"Non-endemic\",IF($G113=1,DEC!I113,0),IF($G113=1,IVM!G113,0))","v":0},"ALB",{"$f":"IF($J113=\"ALB\", IF(INTRO!$E$39=\"Non-endemic\", IF($H113<>0, IF($I113=0, $D113*$H113, $D113*($H113-$G113)), 0), $D113*$H113), 0)","v":25902},58759,null,84661,{"$f":"IF($J113=\"MBD\", IF(INTRO!$E$39=\"Non-endemic\", IF($H113<>0, IF($I113=0, $D113*$H113, $D113*($H113-$G113)), 0), $D113*$H113), 0)","v":0},0,null,0,null,0,0,null,58759,294,null,0,0]
[{"$f":"IF(AND(INTRO!$E$37=\"Non-endemic\",INTRO!$E$41=\"Non-endemic\"),\" \",IF(COUNTRY_INFO!A114=0,\" \",COUNTRY_INFO!A114))","v":"Ghana"},{"$f":"IF(AND(INTRO!$E$37=\"Non-endemic\",INTRO!$E$41=\"Non-endemic\"),\" \",IF(COUNTRY_INFO!B114=0,\" \",COUNTRY_INFO!B114))","v":"Greater Accra"},{"$f":"IF(AND(INTRO!$E$37=\"Non-endemic\",INTRO!$E$41=\"Non-endemic\"),\" \",IF(COUNTRY_INFO!C114=0,\" \",COUNTRY_INFO!C114))","v":"Adenta "},{"$f":"IF(AND(INTRO!$E$37=\"Non-endemic\",INTRO!$E$41=\"Non-endemic\"),0,IF(AND(OR(COUNTRY_INFO!$H114=0,COUNTRY_INFO!$H114=4,COUNTRY_INFO!$H114=99),OR(COUNTRY_INFO!$J114=0,COUNTRY_INFO!$J114=4)),0,COUNTRY_INFO!$E114))","v":11039},{"$f":"IF(AND(INTRO!$E$37=\"Non-endemic\",INTRO!$E$41=\"Non-endemic\"),0,IF(AND(OR(COUNTRY_INFO!$H114=0,COUNTRY_INFO!$H114=4,COUNTRY_INFO!$H114=99),OR(COUNTRY_INFO!$J114=0,COUNTRY_INFO!$J114=4)),0,COUNTRY_INFO!$F114))","v":25041},36080,{"$f":"IF(AND(INTRO!$E$37=\"Non-endemic\",INTRO!$E$41=\"Non-endemic\"),0,COUNTRY_INFO!P114)","v":0},{"$f":"IF(AND(INTRO!$E$37=\"Non-endemic\",INTRO!$E$41=\"Non-endemic\"),0,COUNTRY_INFO!R114)","v":1},{"$f":"IF(INTRO!$E$39=\"Non-endemic\",IF($G114=1,DEC!I114,0),IF($G114=1,IVM!G114,0))","v":0},"ALB",{"$f":"IF($J114=\"ALB\", IF(INTRO!$E$39=\"Non-endemic\", IF($H114<>0, IF($I114=0, $D114*$H114, $D114*($H114-$G114)), 0), $D114*$H114), 0)","v":11039},25041,null,36080,{"$f":"IF($J114=\"MBD\", IF(INTRO!$E$39=\"Non-endemic\", IF($H114<>0, IF($I114=0, $D114*$H114, $D114*($H114-$G114)), 0), $D114*$H114), 0)","v":0},0,null,0,null,0,0,null,25041,126,null,0,0]
[{"$f":"IF(AND(INTRO!$E$37=\"Non-endemic\",INTRO!$E$41=\"Non-endemic\"),\" \",IF(COUNTRY_INFO!A115=0,\" \",COUNTRY_INFO!A115))","v":"Ghana"},{"$f":"IF(AND(INTRO!$E$37=\"Non-endemic\",INTRO!$E$41=\"Non-endemic\"),\" \",IF(COUNTRY_INFO!B115=0,\" \",COUNTRY_INFO!B115))","v":"Greater Accra"},{"$f":"IF(AND(INTRO!$E$37=\"Non-endemic\",INTRO!$E$41=\"Non-endemic\"),\" \",IF(COUNTRY_INFO!C115=0,\" \",COUNTRY_INFO!C115))","v":"Ashiaman"},{"$f":"IF(AND(INTRO!$E$37=\"Non-endemic\",INTRO!$E$41=\"Non-endemic\"),0,IF(AND(OR(COUNTRY_INFO!$H115=0,COUNTRY_INFO!$H115=4,COUNTRY_INFO!$H115=99),OR(COUNTRY_INFO!$J115=0,COUNTRY_INFO!$J115=4)),0,COUNTRY_INFO!$E115))","v":26952},{"$f":"IF(AND(INTRO!$E$37=\"Non-endemic\",INTRO!$E$41=\"Non-endemic\"),0,IF(AND(OR(COUNTRY_INFO!$H115=0,COUNTRY_INFO!$H115=4,COUNTRY_INFO!$H115=99),OR(COUNTRY_INFO!$J115=0,COUNTRY_INFO!$J115=4)),0,COUNTRY_INFO!$F115))","v":61142},88094,{"$f":"IF(AND(INTRO!$E$37=\"Non-endemic\",INTRO!$E$41=\"Non-endemic\"),0,COUNTRY_INFO!P115)","v":0},{"$f":"IF(AND(INTRO!$E$37=\"Non-endemic\",INTRO!$E$41=\"Non-endemic\"),0,COUNTRY_INFO!R115)","v":1},{"$f":"IF(INTRO!$E$39=\"Non-endemic\",IF($G115=1,DEC!I115,0),IF($G115=1,IVM!G115,0))","v":0},"ALB",{"$f":"IF($J115=\"ALB\", IF(INTRO!$E$39=\"Non-endemic\", IF($H115<>0, IF($I115=0, $D115*$H115, $D115*($H115-$G115)), 0), $D115*$H115), 0)","v":26952},61142,null,88094,{"$f":"IF($J115=\"MBD\", IF(INTRO!$E$39=\"Non-endemic\", IF($H115<>0, IF($I115=0, $D115*$H115, $D115*($H115-$G115)), 0), $D115*$H115), 0)","v":0},0,null,0,null,0,0,null,61142,306,null,0,0]
[{"$f":"IF(AND(INTRO!$E$37=\"Non-endemic\",INTRO!$E$41=\"Non-endemic\"),\" \",IF(COUNTRY_INFO!A116=0,\" \",COUNTRY_INFO!A116))","v":"Ghana"},{"$f":"IF(AND(INTRO!$E$37=\"Non-endemic\",INTRO!$E$41=\"Non-endemic\"),\" \",IF(COUNTRY_INFO!B116=0,\" \",COUNTRY_INFO!B116))","v":"Greater Accra"},{"$f":"IF(AND(INTRO!$E$37=\"Non-endemic\",INTRO!$E$41=\"Non-endemic\"),\" \",IF(COUNTRY_INFO!C116=0,\" \",COUNTRY_INFO!C116))","v":"Ada East"},{"$f":"IF(AND(INTRO!$E$37=\"Non-endemic\",INTRO!$E$41=\"Non-endemic\"),0,IF(AND(OR(COUNTRY_INFO!$H116=0,COUNTRY_INFO!$H116=4,COUNTRY_INFO!$H116=99),OR(COUNTRY_INFO!$J116=0,COUNTRY_INFO!$J116=4)),0,COUNTRY_INFO!$E116))","v":10115},{"$f":"IF(AND(INTRO!$E$37=\"Non-endemic\",INTRO!$E$41=\"Non-endemic\"),0,IF(AND(OR(COUNTRY_INFO!$H116=0,COUNTRY_INFO!$H116=4,COUNTRY_INFO!$H116=99),OR(COUNTRY_INFO!$J116=0,COUNTRY_INFO!$J116=4)),0,COUNTRY_INFO!$F116))","v":22946},33061,{"$f":"IF(AND(INTRO!$E$37=\"Non-endemic\",INTRO!$E$41=\"Non-endemic\"),0,COUNTRY_INFO!P116)","v":0},{"$f":"IF(AND(INTRO!$E$37=\"Non-endemic\",INTRO!$E$41=\"Non-endemic\"),0,COUNTRY_INFO!R116)","v":1},{"$f":"IF(INTRO!$E$39=\"Non-endemic\",IF($G116=1,DEC!I116,0),IF($G116=1,IVM!G116,0))","v":0},"ALB",{"$f":"IF($J116=\"ALB\", IF(INTRO!$E$39=\"Non-endemic\", IF($H116<>0, IF($I116=0, $D116*$H116, $D116*($H116-$G116)), 0), $D116*$H116), 0)","v":10115},22946,null,33061,{"$f":"IF($J116=\"MBD\", IF(INTRO!$E$39=\"Non-endemic\", IF($H116<>0, IF($I116=0, $D116*$H116, $D116*($H116-$G116)), 0), $D116*$H116), 0)","v":0},0,null,0,null,0,0,null,22946,115,null,0,0]
[{"$f":"IF(AND(INTRO!$E$37=\"Non-endemic\",INTRO!$E$41=\"Non-endemic\"),\" \",IF(COUNTRY_INFO!A117=0,\" \",COUNTRY_INFO!A117))","v":"Ghana"},{"$f":"IF(AND(INTRO!$E$37=\"Non-endemic\",INTRO!$E$41=\"Non-endemic\"),\" \",IF(COUNTRY_INFO!B117=0,\" \",COUNTRY_INFO!B117))","v":"Greater Accra"},{"$f":"IF(AND(INTRO!$E$37=\"Non-endemic\",INTRO!$E$41=\"Non-endemic\"),\" \",IF(COUNTRY_INFO!C117=0,\" \",COUNTRY_INFO!C117))","v":"Ada West"},{"$f":"IF(AND(INTRO!$E$37=\"Non-endemic\",INTRO!$E$41=\"Non-endemic\"),0,IF(AND(OR(COUNTRY_INFO!$H117=0,COUNTRY_INFO!$H117=4,COUNTRY_INFO!$H117=99),OR(COUNTRY_INFO!$J117=0,COUNTRY_INFO!$J117=4)),0,COUNTRY_INFO!$E117))","v":8344},{"$f":"IF(AND(INTRO!$E$37=\"Non-endemic\",INTRO!$E$41=\"Non-endemic\"),0,IF(AND(OR(COUNTRY_INFO!$H117=0,COUNTRY_INFO!$H117=4,COUNTRY_INFO!$H117=99),OR(COUNTRY_INFO!$J117=0,COUNTRY_INFO!$J117=4)),0,COUNTRY_INFO!$F117))","v":18929},27273,{"$f":"IF(AND(INTRO!$E$37=\"Non-endemic\",INTRO!$E$41=\"Non-endemic\"),0,COUNTRY_INFO!P117)","v":0},{"$f":"IF(AND(INTRO!$E$37=\"Non-endemic\",INTRO!$E$41=\"Non-endemic\"),0,COUNTRY_INFO!R117)","v":1},{"$f":"IF(INTRO!$E$39=\"Non-endemic\",IF($G117=1,DEC!I117,0),IF($G117=1,IVM!G117,0))","v":0},"ALB",{"$f":"IF($J117=\"ALB\", IF(INTRO!$E$39=\"Non-endemic\", IF($H117<>0, IF($I117=0, $D117*$H117, $D117*($H117-$G117)), 0), $D117*$H117), 0)","v":8344},18929,null,27273,{"$f":"IF($J117=\"MBD\", IF(INTRO!$E$39=\"Non-endemic\", IF($H117<>0, IF($I117=0, $D117*$H117, $D117*($H117-$G117)), 0), $D117*$H117), 0)","v":0},0,null,0,null,0,0,null,18929,95,null,0,0]
[{"$f":"IF(AND(INTRO!$E$37=\"Non-endemic\",INTRO!$E$41=\"Non-endemic\"),\" \",IF(COUNTRY_INFO!A118=0,\" \",COUNTRY_INFO!A118))","v":"Ghana"},{"$f":"IF(AND(INTRO!$E$37=\"Non-endemic\",INTRO!$E$41=\"Non-endemic\"),\" \",IF(COUNTRY_INFO!B118=0,\" \",COUNTRY_INFO!B118))","v":"Greater Accra"},{"$f":"IF(AND(INTRO!$E$37=\"Non-endemic\",INTRO!$E$41=\"Non-endemic\"),\" \",IF(COUNTRY_INFO!C118=0,\" \",COUNTRY_INFO!C118))","v":"Shai Osudoku"},{"$f":"IF(AND(INTRO!$E$37=\"Non-endemic\",INTRO!$E$41=\"Non-endemic\"),0,IF(AND(OR(COUNTRY_INFO!$H118=0,COUNTRY_INFO!$H118=4,COUNTRY_INFO!$H118=99),OR(COUNTRY_INFO!$J118=0,COUNTRY_INFO!$J118=4)),0,COUNTRY_INFO!$E118))","v":7355},{"$f":"IF(AND(INTRO!$E$37=\"Non-endemic\",INTRO!$E$41=\"Non-endemic\"),0,IF(AND(OR(COUNTRY_INFO!$H118=0,COUNTRY_INFO!$H118=4,COUNTRY_INFO!$H118=99),OR(COUNTRY_INFO!$J118=0,COUNTRY_INFO!$J118=4)),0,COUNTRY_INFO!$F118))","v":16686},24041,{"$f":"IF(AND(INTRO!$E$37=\"Non-endemic\",INTRO!$E$41=\"Non-endemic\"),0,COUNTRY_INFO!P118)","v":0},{"$f":"IF(AND(INTRO!$E$37=\"Non-endemic\",INTRO!$E$41=\"Non-endemic\"),0,COUNTRY_INFO!R118)","v":1},{"$f":"IF(INTRO!$E$39=\"Non-endemic\",IF($G118=1,DEC!I118,0),IF($G118=1,IVM!G118,0))","v":0},"ALB",{"$f":"IF($J118=\"ALB\", IF(INTRO!$E$39=\"Non-endemic\", IF($H118<>0, IF($I118=0, $D118*$H118, $D118*($H118-$G118)), 0), $D118*$H118), 0)","v":7355},16686,null,24041,{"$f":"IF($J118=\"MBD\", IF(INTRO!$E$39=\"Non-endemic\", IF($H118<>0, IF($I118=0, $D118*$H118, $D118*($H118-$G118)), 0), $D118*$H118), 0)","v":0},0,null,0,null,0,0,null,16686,84,null,0,0]
[{"$f":"IF(AND(INTRO!$E$37=\"Non-endemic\",INTRO!$E$41=\"Non-endemic\"),\" \",IF(COUNTRY_INFO!A119=0,\" \",COUNTRY_INFO!A119))","v":"Ghana"},{"$f":"IF(AND(INTRO!$E$37=\"Non-endemic\",INTRO!$E$41=\"Non-endemic\"),\" \",IF(COUNTRY_INFO!B119=0,\" \",COUNTRY_INFO!B119))","v":"Greater Accra"},{"$f":"IF(AND(INTRO!$E$37=\"Non-endemic\",INTRO!$E$41=\"Non-endemic\"),\" \",IF(COUNTRY_INFO!C119=0,\" \",COUNTRY_INFO!C119))","v":"Ningo Prampram"},{"$f":"IF(AND(INTRO!$E$37=\"Non-endemic\",INTRO!$E$41=\"Non-endemic\"),0,IF(AND(OR(COUNTRY_INFO!$H119=0,COUNTRY_INFO!$H119=4,COUNTRY_INFO!$H119=99),OR(COUNTRY_INFO!$J119=0,COUNTRY_INFO!$J119=4)),0,COUNTRY_INFO!$E119))","v":9981},{"$f":"IF(AND(INTRO!$E$37=\"Non-endemic\",INTRO!$E$41=\"Non-endemic\"),0,IF(AND(OR(COUNTRY_INFO!$H119=0,COUNTRY_INFO!$H119=4,COUNTRY_INFO!$H119=99),OR(COUNTRY_INFO!$J119=0,COUNTRY_INFO!$J119=4)),0,COUNTRY_INFO!$F119))","v":22641},32622,{"$f":"IF(AND(INTRO!$E$37=\"Non-endemic\",INTRO!$E$41=\"Non-endemic\"),0,COUNTRY_INFO!P119)","v":0},{"$f":"IF(AND(INTRO!$E$37=\"Non-endemic\",INTRO!$E$41=\"Non-endemic\"),0,COUNTRY_INFO!R119)","v":1},{"$f":"IF(INTRO!$E$39=\"Non-endemic\",IF($G119=1,DEC!I119,0),IF($G119=1,IVM!G119,0))","v":0},"ALB",{"$f":"IF($J119=\"ALB\", IF(INTRO!$E$39=\"Non-endemic\", IF($H119<>0, IF($I119=0, $D119*$H119, $D119*($H119-$G119)), 0), $D119*$H119), 0)","v":9981},22641,null,32622,{"$f":"IF($J119=\"MBD\", IF(INTRO!$E$39=\"Non-endemic\", IF($H119<>0, IF($I119=0, $D119*$H119, $D119*($H119-$G119)), 0), $D119*$H119), 0)","v":0},0,null,0,null,0,0,null,22641,114,null,0,0]
[{"$f":"IF(AND(INTRO!$E$37=\"Non-endemic\",INTRO!$E$41=\"Non-endemic\"),\" \",IF(COUNTRY_INFO!A120=0,\" \",COUNTRY_INFO!A120))","v":"Ghana"},{"$f":"IF(AND(INTRO!$E$37=\"Non-endemic\",INTRO!$E$41=\"Non-endemic\"),\" \",IF(COUNTRY_INFO!B120=0,\" \",COUNTRY_INFO!B120))","v":"Greater Accra"},{"$f":"IF(AND(INTRO!$E$37=\"Non-endemic\",INTRO!$E$41=\"Non-endemic\"),\" \",IF(COUNTRY_INFO!C120=0,\" \",COUNTRY_INFO!C120))","v":"Ga East"},{"$f":"IF(AND(INTRO!$E$37=\"Non-endemic\",INTRO!$E$41=\"Non-endemic\"),0,IF(AND(OR(COUNTRY_INFO!$H120=0,COUNTRY_INFO!$H120=4,COUNTRY_INFO!$H120=99),OR(COUNTRY_INFO!$J120=0,COUNTRY_INFO!$J120=4)),0,COUNTRY_INFO!$E120))","v":20851},{"$f":"IF(AND(INTRO!$E$37=\"Non-endemic\",INTRO!$E$41=\"Non-endemic\"),0,IF(AND(OR(COUNTRY_INFO!$H120=0,COUNTRY_INFO!$H120=4,COUNTRY_INFO!$H120=99),OR(COUNTRY_INFO!$J120=0,COUNTRY_INFO!$J120=4)),0,COUNTRY_INFO!$F120))","v":47301},68152,{"$f":"IF(AND(INTRO!$E$37=\"Non-endemic\",INTRO!$E$41=\"Non-endemic\"),0,COUNTRY_INFO!P120)","v":0},{"$f":"IF(AND(INTRO!$E$37=\"Non-endemic\",INTRO!$E$41=\"Non-endemic\"),0,COUNTRY_INFO!R120)","v":1},{"$f":"IF(INTRO!$E$39=\"Non-endemic\",IF($G120=1,DEC!I120,0),IF($G120=1,IVM!G120,0))","v":0},"ALB",{"$f":"IF($J120=\"ALB\", IF(INTRO!$E$39=\"Non-endemic\", IF($H120<>0, IF($I120=0, $D120*$H120, $D120*($H120-$G120)), 0), $D120*$H120), 0)","v":20851},47301,null,68152,{"$f":"IF($J120=\"MBD\", IF(INTRO!$E$39=\"Non-endemic\", IF($H120<>0, IF($I120=0, $D120*$H120, $D120*($H120-$G120)), 0), $D120*$H120), 0)","v":0},0,null,0,null,0,0,null,47301,237,null,0,0]
[{"$f":"IF(AND(INTRO!$E$37=\"Non-endemic\",INTRO!$E$41=\"Non-endemic\"),\" \",IF(COUNTRY_INFO!A121=0,\" \",COUNTRY_INFO!A121))","v":"Ghana"},{"$f":"IF(AND(INTRO!$E$37=\"Non-endemic\",INTRO!$E$41=\"Non-endemic\"),\" \",IF(COUNTRY_INFO!B121=0,\" \",COUNTRY_INFO!B121))","v":"Greater Accra"},{"$f":"IF(AND(INTRO!$E$37=\"Non-endemic\",INTRO!$E$41=\"Non-endemic\"),\" \",IF(COUNTRY_INFO!C121=0,\" \",COUNTRY_INFO!C121))","v":"La-Nkwantanang-Madina"},{"$f":"IF(AND(INTRO!$E$37=\"Non-endemic\",INTRO!$E$41=\"Non-endemic\"),0,IF(AND(OR(COUNTRY_INFO!$H121=0,COUNTRY_INFO!$H121=4,COUNTRY_INFO!$H121=99),OR(COUNTRY_INFO!$J121=0,COUNTRY_INFO!$J121=4)),0,COUNTRY_INFO!$E121))","v":15797},{"$f":"IF(AND(INTRO!$E$37=\"Non-endemic\",INTRO!$E$41=\"Non-endemic\"),0,IF(AND(OR(COUNTRY_INFO!$H121=0,COUNTRY_INFO!$H121=4,COUNTRY_INFO!$H121=99),OR(COUNTRY_INFO!$J121=0,COUNTRY_INFO!$J121=4)),0,COUNTRY_INFO!$F121))","v":35835},51632,{"$f":"IF(AND(INTRO!$E$37=\"Non-endemic\",INTRO!$E$41=\"Non-endemic\"),0,COUNTRY_INFO!P121)","v":0},{"$f":"IF(AND(INTRO!$E$37=\"Non-endemic\",INTRO!$E$41=\"Non-endemic\"),0,COUNTRY_INFO!R121)","v":1},{"$f":"IF(INTRO!$E$39=\"Non-endemic\",IF($G121=1,DEC!I121,0),IF($G121=1,IVM!G121,0))","v":0},"ALB",{"$f":"IF($J121=\"ALB\", IF(INTRO!$E$39=\"Non-endemic\", IF($H121<>0, IF($I121=0, $D121*$H121, $D121*($H121-$G121)), 0), $D121*$H121), 0)","v":15797},35835,null,51632,{"$f":"IF($J121=\"MBD\", IF(INTRO!$E$39=\"Non-endemic\", IF($H121<>0, IF($I121=0, $D121*$H121, $D121*($H121-$G121)), 0), $D121*$H121), 0)","v":0},0,null,0,null,0,0,null,35835,180,null,0,0]
[{"$f":"IF(AND(INTRO!$E$37=\"Non-endemic\",INTRO!$E$41=\"Non-endemic\"),\" \",IF(COUNTRY_INFO!A122=0,\" \",COUNTRY_INFO!A122))","v":"Ghana"},{"$f":"IF(AND(INTRO!$E$37=\"Non-endemic\",INTRO!$E$41=\"Non-endemic\"),\" \",IF(COUNTRY_INFO!B122=0,\" \",COUNTRY_INFO!B122))","v":"Greater Accra"},{"$f":"IF(AND(INTRO!$E$37=\"Non-endemic\",INTRO!$E$41=\"Non-endemic\"),\" \",IF(COUNTRY_INFO!C122=0,\" \",COUNTRY_INFO!C122))","v":"Ga South"},{"$f":"IF(AND(INTRO!$E$37=\"Non-endemic\",INTRO!$E$41=\"Non-endemic\"),0,IF(AND(OR(COUNTRY_INFO!$H122=0,COUNTRY_INFO!$H122=4,COUNTRY_INFO!$H122=99),OR(COUNTRY_INFO!$J122=0,COUNTRY_INFO!$J122=4)),0,COUNTRY_INFO!$E122))","v":68540},{"$f":"IF(AND(INTRO!$E$37=\"Non-endemic\",INTRO!$E$41=\"Non-endemic\"),0,IF(AND(OR(COUNTRY_INFO!$H122=0,COUNTRY_INFO!$H122=4,COUNTRY_INFO!$H122=99),OR(COUNTRY_INFO!$J122=0,COUNTRY_INFO!$J122=4)),0,COUNTRY_INFO!$F122))","v":155484},224024,{"$f":"IF(AND(INTRO!$E$37=\"Non-endemic\",INTRO!$E$41=\"Non-endemic\"),0,COUNTRY_INFO!P122)","v":0},{"$f":"IF(AND(INTRO!$E$37=\"Non-endemic\",INTRO!$E$41=\"Non-endemic\"),0,COUNTRY_INFO!R122)","v":1},{"$f":"IF(INTRO!$E$39=\"Non-endemic\",IF($G122=1,DEC!I122,0),IF($G122=1,IVM!G122,0))","v":0},"ALB",{"$f":"IF($J122=\"ALB\", IF(INTRO!$E$39=\"Non-endemic\", IF($H122<>0, IF($I122=0, $D122*$H122, $D122*($H122-$G122)), 0), $D122*$H122), 0)","v":68540},155484,null,224024,{"$f":"IF($J122=\"MBD\", IF(INTRO!$E$39=\"Non-endemic\", IF($H122<>0, IF($I122=0, $D122*$H122, $D122*($H122-$G122)), 0), $D122*$H122), 0)","v":0},0,null,0,null,0,0,null,155484,778,null,0,0]
[{"$f":"IF(AND(INTRO!$E$37=\"Non-endemic\",INTRO!$E$41=\"Non-endemic\"),\" \",IF(COUNTRY_INFO!A123=0,\" \",COUNTRY_INFO!A123))","v":"Ghana"},{"$f":"IF(AND(INTRO!$E$37=\"Non-endemic\",INTRO!$E$41=\"Non-endemic\"),\" \",IF(COUNTRY_INFO!B123=0,\" \",COUNTRY_INFO!B123))","v":"Greater Accra"},{"$f":"IF(AND(INTRO!$E$37=\"Non-endemic\",INTRO!$E$41=\"Non-endemic\"),\" \",IF(COUNTRY_INFO!C123=0,\" \",COUNTRY_INFO!C123))","v":"Ga Central"},{"$f":"IF(AND(INTRO!$E$37=\"Non-endemic\",INTRO!$E$41=\"Non-endemic\"),0,IF(AND(OR(COUNTRY_INFO!$H123=0,COUNTRY_INFO!$H123=4,COUNTRY_INFO!$H123=99),OR(COUNTRY_INFO!$J123=0,COUNTRY_INFO!$J123=4)),0,COUNTRY_INFO!$E123))","v":6062},{"$f":"IF(AND(INTRO!$E$37=\"Non-endemic\",INTRO!$E$41=\"Non-endemic\"),0,IF(AND(OR(COUNTRY_INFO!$H123=0,COUNTRY_INFO!$H123=4,COUNTRY_INFO!$H123=99),OR(COUNTRY_INFO!$J123=0,COUNTRY_INFO!$J123=4)),0,COUNTRY_INFO!$F123))","v":13752},19814,{"$f":"IF(AND(INTRO!$E$37=\"Non-endemic\",INTRO!$E$41=\"Non-endemic\"),0,COUNTRY_INFO!P123)","v":0},{"$f":"IF(AND(INTRO!$E$37=\"Non-endemic\",INTRO!$E$41=\"Non-endemic\"),0,COUNTRY_INFO!R123)","v":1},{"$f":"IF(INTRO!$E$39=\"Non-endemic\",IF($G123=1,DEC!I123,0),IF($G123=1,IVM!G123,0))","v":0},"ALB",{"$f":"IF($J123=\"ALB\", IF(INTRO!$E$39=\"Non-endemic\", IF($H123<>0, IF($I123=0, $D123*$H123, $D123*($H123-$G123)), 0), $D123*$H123), 0)","v":6062},13752,null,19814,{"$f":"IF($J123=\"MBD\", IF(INTRO!$E$39=\"Non-endemic\", IF($H123<>0, IF($I123=0, $D123*$H123, $D123*($H123-$G123)), 0), $D123*$H123), 0)","v":0},0,null,0,null,0,0,null,13752,69,null,0,0]
[{"$f":"IF(AND(INTRO!$E$37=\"Non-endemic\",INTRO!$E$41=\"Non-endemic\"),\" \",IF(COUNTRY_INFO!A124=0,\" \",COUNTRY_INFO!A124))","v":"Ghana"},{"$f":"IF(AND(INTRO!$E$37=\"Non-endemic\",INTRO!$E$41=\"Non-endemic\"),\" \",IF(COUNTRY_INFO!B124=0,\" \",COUNTRY_INFO!B124))","v":"Greater Accra"},{"$f":"IF(AND(INTRO!$E$37=\"Non-endemic\",INTRO!$E$41=\"Non-endemic\"),\" \",IF(COUNTRY_INFO!C124=0,\" \",COUNTRY_INFO!C124))","v":"Ga West"},{"$f":"IF(AND(INTRO!$E$37=\"Non-endemic\",INTRO!$E$41=\"Non-endemic\"),0,IF(AND(OR(COUNTRY_INFO!$H124=0,COUNTRY_INFO!$H124=4,COUNTRY_INFO!$H124=99),OR(COUNTRY_INFO!$J124=0,COUNTRY_INFO!$J124=4)),0,COUNTRY_INFO!$E124))","v":31019},{"$f":"IF(AND(INTRO!$E$37=\"Non-endemic\",INTRO!$E$41=\"Non-endemic\"),0,IF(AND(OR(COUNTRY_INFO!$H124=0,COUNTRY_INFO!$H124=4,COUNTRY_INFO!$H124=99),OR(COUNTRY_INFO!$J124=0,COUNTRY_INFO!$J124=4)),0,COUNTRY_INFO!$F124))","v":70368},101387,{"$f":"IF(AND(INTRO!$E$37=\"Non-endemic\",INTRO!$E$41=\"Non-endemic\"),0,COUNTRY_INFO!P124)","v":0},{"$f":"IF(AND(INTRO!$E$37=\"Non-endemic\",INTRO!$E$41=\"Non-endemic\"),0,COUNTRY_INFO!R124)","v":1},{"$f":"IF(INTRO!$E$39=\"Non-endemic\",IF($G124=1,DEC!I124,0),IF($G124=1,IVM!G124,0))","v":0},"ALB",{"$f":"IF($J124=\"ALB\", IF(INTRO!$E$39=\"Non-endemic\", IF($H124<>0, IF($I124=0, $D124*$H124, $D124*($H124-$G124)), 0), $D124*$H124), 0)","v":31019},70368,null,101387,{"$f":"IF($J124=\"MBD\", IF(INTRO!$E$39=\"Non-endemic\", IF($H124<>0, IF($I124=0, $D124*$H124, $D124*($H124-$G124)), 0), $D124*$H124), 0)","v":0},0,null,0,null,0,0,null,70368,352,null,0,0]
[{"$f":"IF(AND(INTRO!$E$37=\"Non-endemic\",INTRO!$E$41=\"Non-endemic\"),\" \",IF(COUNTRY_INFO!A125=0,\" \",COUNTRY_INFO!A125))","v":"Ghana"},{"$f":"IF(AND(INTRO!$E$37=\"Non-endemic\",INTRO!$E$41=\"Non-endemic\"),\" \",IF(COUNTRY_INFO!B125=0,\" \",COUNTRY_INFO!B125))","v":"Greater Accra"},{"$f":"IF(AND(INTRO!$E$37=\"Non-endemic\",INTRO!$E$41=\"Non-endemic\"),\" \",IF(COUNTRY_INFO!C125=0,\" \",COUNTRY_INFO!C125))","v":"Ledzokuku-Krowor"},{"$f":"IF(AND(INTRO!$E$37=\"Non-endemic\",INTRO!$E$41=\"Non-endemic\"),0,IF(AND(OR(COUNTRY_INFO!$H125=0,COUNTRY_INFO!$H125=4,COUNTRY_INFO!$H125=99),OR(COUNTRY_INFO!$J125=0,COUNTRY_INFO!$J125=4)),0,COUNTRY_INFO!$E125))","v":32169},{"$f":"IF(AND(INTRO!$E$37=\"Non-endemic\",INTRO!$E$41=\"Non-endemic\"),0,IF(AND(OR(COUNTRY_INFO!$H125=0,COUNTRY_INFO!$H125=4,COUNTRY_INFO!$H125=99),OR(COUNTRY_INFO!$J125=0,COUNTRY_INFO!$J125=4)),0,COUNTRY_INFO!$F125))","v":72975},105144,{"$f":"IF(AND(INTRO!$E$37=\"Non-endemic\",INTRO!$E$41=\"Non-endemic\"),0,COUNTRY_INFO!P125)","v":0},{"$f":"IF(AND(INTRO!$E$37=\"Non-endemic\",INTRO!$E$41=\"Non-endemic\"),0,COUNTRY_INFO!R125)","v":1},{"$f":"IF(INTRO!$E$39=\"Non-endemic\",IF($G125=1,DEC!I125,0),IF($G125=1,IVM!G125,0))","v":0},"ALB",{"$f":"IF($J125=\"ALB\", IF(INTRO!$E$39=\"Non-endemic\", IF($H125<>0, IF($I125=0, $D125*$H125, $D125*($H125-$G125)), 0), $D125*$H125), 0)","v":32169},72975,null,105144,{"$f":"IF($J125=\"MBD\", IF(INTRO!$E$39=\"Non-endemic\", IF($H125<>0, IF($I125=0, $D125*$H125, $D125*($H125-$G125)), 0), $D125*$H125), 0)","v":0},0,null,0,null,0,0,null,72975,365,null,0,0]
[{"$f":"IF(AND(INTRO!$E$37=\"Non-endemic\",INTRO!$E$41=\"Non-endemic\"),\" \",IF(COUNTRY_INFO!A126=0,\" \",COUNTRY_INFO!A126))","v":"Ghana"},{"$f":"IF(AND(INTRO!$E$37=\"Non-endemic\",INTRO!$E$41=\"Non-endemic\"),\" \",IF(COUNTRY_INFO!B126=0,\" \",COUNTRY_INFO!B126))","v":"Greater Accra"},{"$f":"IF(AND(INTRO!$E$37=\"Non-endemic\",INTRO!$E$41=\"Non-endemic\"),\" \",IF(COUNTRY_INFO!C126=0,\" \",COUNTRY_INFO!C126))","v":"Tema"},{"$f":"IF(AND(INTRO!$E$37=\"Non-endemic\",INTRO!$E$41=\"Non-endemic\"),0,IF(AND(OR(COUNTRY_INFO!$H126=0,COUNTRY_INFO!$H126=4,COUNTRY_INFO!$H126=99),OR(COUNTRY_INFO!$J126=0,COUNTRY_INFO!$J126=4)),0,COUNTRY_INFO!$E126))","v":41320},{"$f":"IF(AND(INTRO!$E$37=\"Non-endemic\",INTRO!$E$41=\"Non-endemic\"),0,IF(AND(OR(COUNTRY_INFO!$H126=0,COUNTRY_INFO!$H126=4,COUNTRY_INFO!$H126=99),OR(COUNTRY_INFO!$J126=0,COUNTRY_INFO!$J126=4)),0,COUNTRY_INFO!$F126))","v":93735},135055,{"$f":"IF(AND(INTRO!$E$37=\"Non-endemic\",INTRO!$E$41=\"Non-endemic\"),0,COUNTRY_INFO!P126)","v":0},{"$f":"IF(AND(INTRO!$E$37=\"Non-endemic\",INTRO!$E$41=\"Non-endemic\"),0,COUNTRY_INFO!R126)","v":1},{"$f":"IF(INTRO!$E$39=\"Non-endemic\",IF($G126=1,DEC!I126,0),IF($G126=1,IVM!G126,0))","v":0},"ALB",{"$f":"IF($J126=\"ALB\", IF(INTRO!$E$39=\"Non-endemic\", IF($H126<>0, IF($I126=0, $D126*$H126, $D126*($H126-$G126)), 0), $D126*$H126), 0)","v":41320},93735,null,135055,{"$f":"IF($J126=\"MBD\", IF(INTRO!$E$39=\"Non-endemic\", IF($H126<>0, IF($I126=0, $D126*$H126, $D126*($H126-$G126)), 0), $D126*$H126), 0)","v":0},0,null,0,null,0,0,null,93735,469,null,0,0]
[{"$f":"IF(AND(INTRO!$E$37=\"Non-endemic\",INTRO!$E$41=\"Non-endemic\"),\" \",IF(COUNTRY_INFO!A127=0,\" \",COUNTRY_INFO!A127))","v":"Ghana"},{"$f":"IF(AND(INTRO!$E$37=\"Non-endemic\",INTRO!$E$41=\"Non-endemic\"),\" \",IF(COUNTRY_INFO!B127=0,\" \",COUNTRY_INFO!B127))","v":"Greater Accra"},{"$f":"IF(AND(INTRO!$E$37=\"Non-endemic\",INTRO!$E$41=\"Non-endemic\"),\" \",IF(COUNTRY_INFO!C127=0,\" \",COUNTRY_INFO!C127))","v":"Kpone Katamanso"},{"$f":"IF(AND(INTRO!$E$37=\"Non-endemic\",INTRO!$E$41=\"Non-endemic\"),0,IF(AND(OR(COUNTRY_INFO!$H127=0,COUNTRY_INFO!$H127=4,COUNTRY_INFO!$H127=99),OR(COUNTRY_INFO!$J127=0,COUNTRY_INFO!$J127=4)),0,COUNTRY_INFO!$E127))","v":15505},{"$f":"IF(AND(INTRO!$E$37=\"Non-endemic\",INTRO!$E$41=\"Non-endemic\"),0,IF(AND(OR(COUNTRY_INFO!$H127=0,COUNTRY_INFO!$H127=4,COUNTRY_INFO!$H127=99),OR(COUNTRY_INFO!$J127=0,COUNTRY_INFO!$J127=4)),0,COUNTRY_INFO!$F127))","v":35174},50679,{"$f":"IF(AND(INTRO!$E$37=\"Non-endemic\",INTRO!$E$41=\"Non-endemic\"),0,COUNTRY_INFO!P127)","v":0},{"$f":"IF(AND(INTRO!$E$37=\"Non-endemic\",INTRO!$E$41=\"Non-endemic\"),0,COUNTRY_INFO!R127)","v":1},{"$f":"IF(INTRO!$E$39=\"Non-endemic\",IF($G127=1,DEC!I127,0),IF($G127=1,IVM!G127,0))","v":0},"ALB",{"$f":"IF($J127=\"ALB\", IF(INTRO!$E$39=\"Non-endemic\", IF($H127<>0, IF($I127=0, $D127*$H127, $D127*($H127-$G127)), 0), $D127*$H127), 0)","v":15505},35174,null,50679,{"$f":"IF($J127=\"MBD\", IF(INTRO!$E$39=\"Non-endemic\", IF($H127<>0, IF($I127=0, $D127*$H127, $D127*($H127-$G127)), 0), $D127*$H127), 0)","v":0},0,null,0,null,0,0,null,35174,176,null,0,0]
[{"$f":"IF(AND(INTRO!$E$37=\"Non-endemic\",INTRO!$E$41=\"Non-endemic\"),\" \",IF(COUNTRY_INFO!A128=0,\" \",COUNTRY_INFO!A128))","v":"Ghana"},{"$f":"IF(AND(INTRO!$E$37=\"Non-endemic\",INTRO!$E$41=\"Non-endemic\"),\" \",IF(COUNTRY_INFO!B128=0,\" \",COUNTRY_INFO!B128))","v":"Northern"},{"$f":"IF(AND(INTRO!$E$37=\"Non-endemic\",INTRO!$E$41=\"Non-endemic\"),\" \",IF(COUNTRY_INFO!C128=0,\" \",COUNTRY_INFO!C128))","v":"Bole"},{"$f":"IF(AND(INTRO!$E$37=\"Non-endemic\",INTRO!$E$41=\"Non-endemic\"),0,IF(AND(OR(COUNTRY_INFO!$H128=0,COUNTRY_INFO!$H128=4,COUNTRY_INFO!$H128=99),OR(COUNTRY_INFO!$J128=0,COUNTRY_INFO!$J128=4)),0,COUNTRY_INFO!$E128))","v":8559},{"$f":"IF(AND(INTRO!$E$37=\"Non-endemic\",INTRO!$E$41=\"Non-endemic\"),0,IF(AND(OR(COUNTRY_INFO!$H128=0,COUNTRY_INFO!$H128=4,COUNTRY_INFO!$H128=99),OR(COUNTRY_INFO!$J128=0,COUNTRY_INFO!$J128=4)),0,COUNTRY_INFO!$F128))","v":19416},27975,{"$f":"IF(AND(INTRO!$E$37=\"Non-endemic\",INTRO!$E$41=\"Non-endemic\"),0,COUNTRY_INFO!P128)","v":1},{"$f":"IF(AND(INTRO!$E$37=\"Non-endemic\",INTRO!$E$41=\"Non-endemic\"),0,COUNTRY_INFO!R128)","v":1},{"$f":"IF(INTRO!$E$39=\"Non-endemic\",IF($G128=1,DEC!I128,0),IF($G128=1,IVM!G128,0))","v":68313},"",{"$f":"IF($J128=\"ALB\", IF(INTRO!$E$39=\"Non-endemic\", IF($H128<>0, IF($I128=0, $D128*$H128, $D128*($H128-$G128)), 0), $D128*$H128), 0)","v":0},0,null,0,{"$f":"IF($J128=\"MBD\", IF(INTRO!$E$39=\"Non-endemic\", IF($H128<>0, IF($I128=0, $D128*$H128, $D128*($H128-$G128)), 0), $D128*$H128), 0)","v":0},0,null,0,null,68313,342,null,0,0,null,0,0]
[{"$f":"IF(AND(INTRO!$E$37=\"Non-endemic\",INTRO!$E$41=\"Non-endemic\"),\" \",IF(COUNTRY_INFO!A129=0,\" \",COUNTRY_INFO!A129))","v":"Ghana"},{"$f":"IF(AND(INTRO!$E$37=\"Non-endemic\",INTRO!$E$41=\"Non-endemic\"),\" \",IF(COUNTRY_INFO!B129=0,\" \",COUNTRY_INFO!B129))","v":"Northern"},{"$f":"IF(AND(INTRO!$E$37=\"Non-endemic\",INTRO!$E$41=\"Non-endemic\"),\" \",IF(COUNTRY_INFO!C129=0,\" \",COUNTRY_INFO!C129))","v":"Bunkpurugu-Yunyuo"},{"$f":"IF(AND(INTRO!$E$37=\"Non-endemic\",INTRO!$E$41=\"Non-endemic\"),0,IF(AND(OR(COUNTRY_INFO!$H129=0,COUNTRY_INFO!$H129=4,COUNTRY_INFO!$H129=99),OR(COUNTRY_INFO!$J129=0,COUNTRY_INFO!$J129=4)),0,COUNTRY_INFO!$E129))","v":17035},{"$f":"IF(AND(INTRO!$E$37=\"Non-endemic\",INTRO!$E$41=\"Non-endemic\"),0,IF(AND(OR(COUNTRY_INFO!$H129=0,COUNTRY_INFO!$H129=4,COUNTRY_INFO!$H129=99),OR(COUNTRY_INFO!$J129=0,COUNTRY_INFO!$J129=4)),0,COUNTRY_INFO!$F129))","v":38644},55679,{"$f":"IF(AND(INTRO!$E$37=\"Non-endemic\",INTRO!$E$41=\"Non-endemic\"),0,COUNTRY_INFO!P129)","v":0},{"$f":"IF(AND(INTRO!$E$37=\"Non-endemic\",INTRO!$E$41=\"Non-endemic\"),0,COUNTRY_INFO!R129)","v":1},{"$f":"IF(INTRO!$E$39=\"Non-endemic\",IF($G129=1,DEC!I129,0),IF($G129=1,IVM!G129,0))","v":0},"ALB",{"$f":"IF($J129=\"ALB\", IF(INTRO!$E$39=\"Non-endemic\", IF($H129<>0, IF($I129=0, $D129*$H129, $D129*($H129-$G129)), 0), $D129*$H129), 0)","v":17035},38644,null,55679,{"$f":"IF($J129=\"MBD\", IF(INTRO!$E$39=\"Non-endemic\", IF($H129<>0, IF($I129=0, $D129*$H129, $D129*($H129-$G129)), 0), $D129*$H129), 0)","v":0},0,null,0,null,0,0,null,38644,194,null,0,0]
[{"$f":"IF(AND(INTRO!$E$37=\"Non-endemic\",INTRO!$E$41=\"Non-endemic\"),\" \",IF(COUNTRY_INFO!A130=0,\" \",COUNTRY_INFO!A130))","v":"Ghana"},{"$f":"IF(AND(INTRO!$E$37=\"Non-endemic\",INTRO!$E$41=\"Non-endemic\"),\" \",IF(COUNTRY_INFO!B130=0,\" \",COUNTRY_INFO!B130))","v":"Northern"},{"$f":"IF(AND(INTRO!$E$37=\"Non-endemic\",INTRO!$E$41=\"Non-endemic\"),\" \",IF(COUNTRY_INFO!C130=0,\" \",COUNTRY_INFO!C130))","v":"Central Gonja"},{"$f":"IF(AND(INTRO!$E$37=\"Non-endemic\",INTRO!$E$41=\"Non-endemic\"),0,IF(AND(OR(COUNTRY_INFO!$H130=0,COUNTRY_INFO!$H130=4,COUNTRY_INFO!$H130=99),OR(COUNTRY_INFO!$J130=0,COUNTRY_INFO!$J130=4)),0,COUNTRY_INFO!$E130))","v":12211},{"$f":"IF(AND(INTRO!$E$37=\"Non-endemic\",INTRO!$E$41=\"Non-endemic\"),0,IF(AND(OR(COUNTRY_INFO!$H130=0,COUNTRY_INFO!$H130=4,COUNTRY_INFO!$H130=99),OR(COUNTRY_INFO!$J130=0,COUNTRY_INFO!$J130=4)),0,COUNTRY_INFO!$F130))","v":27701},39912,{"$f":"IF(AND(INTRO!$E$37=\"Non-endemic\",INTRO!$E$41=\"Non-endemic\"),0,COUNTRY_INFO!P130)","v":0},{"$f":"IF(AND(INTRO!$E$37=\"Non-endemic\",INTRO!$E$41=\"Non-endemic\"),0,COUNTRY_INFO!R130)","v":1},{"$f":"IF(INTRO!$E$39=\"Non-endemic\",IF($G130=1,DEC!I130,0),IF($G130=1,IVM!G130,0))","v":0},"ALB",{"$f":"IF($J130=\"ALB\", IF(INTRO!$E$39=\"Non-endemic\", IF($H130<>0, IF($I130=0, $D130*$H130, $D130*($H130-$G130)), 0), $D130*$H130), 0)","v":12211},27701,null,39912,{"$f":"IF($J130=\"MBD\", IF(INTRO!$E$39=\"Non-endemic\", IF($H130<>0, IF($I130=0, $D130*$H130, $D130*($H130-$G130)), 0), $D130*$H130), 0)","v":0},0,null,0,null,0,0,null,27701,139,null,0,0]
[{"$f":"IF(AND(INTRO!$E$37=\"Non-endemic\",INTRO!$E$41=\"Non-endemic\"),\" \",IF(COUNTRY_INFO!A131=0,\" \",COUNTRY_INFO!A131))","v":"Ghana"},{"$f":"IF(AND(INTRO!$E$37=\"Non-endemic\",INTRO!$E$41=\"Non-endemic\"),\" \",IF(COUNTRY_INFO!B131=0,\" \",COUNTRY_INFO!B131))","v":"Northern"},{"$f":"IF(AND(INTRO!$E$37=\"Non-endemic\",INTRO!$E$41=\"Non-endemic\"),\" \",IF(COUNTRY_INFO!C131=0,\" \",COUNTRY_INFO!C131))","v":"Chereponi"},{"$f":"IF(AND(INTRO!$E$37=\"Non-endemic\",INTRO!$E$41=\"Non-endemic\"),0,IF(AND(OR(COUNTRY_INFO!$H131=0,COUNTRY_INFO!$H131=4,COUNTRY_INFO!$H131=99),OR(COUNTRY_INFO!$J131=0,COUNTRY_INFO!$J131=4)),0,COUNTRY_INFO!$E131))","v":7419},{"$f":"IF(AND(INTRO!$E$37=\"Non-endemic\",INTRO!$E$41=\"Non-endemic\"),0,IF(AND(OR(COUNTRY_INFO!$H131=0,COUNTRY_INFO!$H131=4,COUNTRY_INFO!$H131=99),OR(COUNTRY_INFO!$J131=0,COUNTRY_INFO!$J131=4)),0,COUNTRY_INFO!$F131))","v":16831},24250,{"$f":"IF(AND(INTRO!$E$37=\"Non-endemic\",INTRO!$E$41=\"Non-endemic\"),0,COUNTRY_INFO!P131)","v":0},{"$f":"IF(AND(INTRO!$E$37=\"Non-endemic\",INTRO!$E$41=\"Non-endemic\"),0,COUNTRY_INFO!R131)","v":1},{"$f":"IF(INTRO!$E$39=\"Non-endemic\",IF($G131=1,DEC!I131,0),IF($G131=1,IVM!G131,0))","v":0},"ALB",{"$f":"IF($J131=\"ALB\", IF(INTRO!$E$39=\"Non-endemic\", IF($H131<>0, IF($I131=0, $D131*$H131, $D131*($H131-$G131)), 0), $D131*$H131), 0)","v":7419},16831,null,24250,{"$f":"IF($J131=\"MBD\", IF(INTRO!$E$39=\"Non-endemic\", IF($H131<>0, IF($I131=0, $D131*$H131, $D131*($H131-$G131)), 0), $D131*$H131), 0)","v":0},0,null,0,null,0,0,null,16831,85,null,0,0]
[{"$f":"IF(AND(INTRO!$E$37=\"Non-endemic\",INTRO!$E$41=\"Non-endemic\"),\" \",IF(COUNTRY_INFO!A132=0,\" \",COUNTRY_INFO!A132))","v":"Ghana"},{"$f":"IF(AND(INTRO!$E$37=\"Non-endemic\",INTRO!$E$41=\"Non-endemic\"),\" \",IF(COUNTRY_INFO!B132=0,\" \",COUNTRY_INFO!B132))","v":"Northern"},{"$f":"IF(AND(INTRO!$E$37=\"Non-endemic\",INTRO!$E$41=\"Non-endemic\"),\" \",IF(COUNTRY_INFO!C132=0,\" \",COUNTRY_INFO!C132))","v":"East Gonja"},{"$f":"IF(AND(INTRO!$E$37=\"Non-endemic\",INTRO!$E$41=\"Non-endemic\"),0,IF(AND(OR(COUNTRY_INFO!$H132=0,COUNTRY_INFO!$H132=4,COUNTRY_INFO!$H132=99),OR(COUNTRY_INFO!$J132=0,COUNTRY_INFO!$J132=4)),0,COUNTRY_INFO!$E132))","v":18822},{"$f":"IF(AND(INTRO!$E$37=\"Non-endemic\",INTRO!$E$41=\"Non-endemic\"),0,IF(AND(OR(COUNTRY_INFO!$H132=0,COUNTRY_INFO!$H132=4,COUNTRY_INFO!$H132=99),OR(COUNTRY_INFO!$J132=0,COUNTRY_INFO!$J132=4)),0,COUNTRY_INFO!$F132))","v":42698},61520,{"$f":"IF(AND(INTRO!$E$37=\"Non-endemic\",INTRO!$E$41=\"Non-endemic\"),0,COUNTRY_INFO!P132)","v":0},{"$f":"IF(AND(INTRO!$E$37=\"Non-endemic\",INTRO!$E$41=\"Non-endemic\"),0,COUNTRY_INFO!R132)","v":1},{"$f":"IF(INTRO!$E$39=\"Non-endemic\",IF($G132=1,DEC!I132,0),IF($G132=1,IVM!G132,0))","v":0},"ALB",{"$f":"IF($J132=\"ALB\", IF(INTRO!$E$39=\"Non-endemic\", IF($H132<>0, IF($I132=0, $D132*$H132, $D132*($H132-$G132)), 0), $D132*$H132), 0)","v":18822},42698,null,61520,{"$f":"IF($J132=\"MBD\", IF(INTRO!$E$39=\"Non-endemic\", IF($H132<>0, IF($I132=0, $D132*$H132, $D132*($H132-$G132)), 0), $D132*$H132), 0)","v":0},0,null,0,null,0,0,null,42698,214,null,0,0]
[{"$f":"IF(AND(INTRO!$E$37=\"Non-endemic\",INTRO!$E$41=\"Non-endemic\"),\" \",IF(COUNTRY_INFO!A133=0,\" \",COUNTRY_INFO!A133))","v":"Ghana"},{"$f":"IF(AND(INTRO!$E$37=\"Non-endemic\",INTRO!$E$41=\"Non-endemic\"),\" \",IF(COUNTRY_INFO!B133=0,\" \",COUNTRY_INFO!B133))","v":"Northern"},{"$f":"IF(AND(INTRO!$E$37=\"Non-endemic\",INTRO!$E$41=\"Non-endemic\"),\" \",IF(COUNTRY_INFO!C133=0,\" \",COUNTRY_INFO!C133))","v":"East Mamprusi"},{"$f":"IF(AND(INTRO!$E$37=\"Non-endemic\",INTRO!$E$41=\"Non-endemic\"),0,IF(AND(OR(COUNTRY_INFO!$H133=0,COUNTRY_INFO!$H133=4,COUNTRY_INFO!$H133=99),OR(COUNTRY_INFO!$J133=0,COUNTRY_INFO!$J133=4)),0,COUNTRY_INFO!$E133))","v":16815},{"$f":"IF(AND(INTRO!$E$37=\"Non-endemic\",INTRO!$E$41=\"Non-endemic\"),0,IF(AND(OR(COUNTRY_INFO!$H133=0,COUNTRY_INFO!$H133=4,COUNTRY_INFO!$H133=99),OR(COUNTRY_INFO!$J133=0,COUNTRY_INFO!$J133=4)),0,COUNTRY_INFO!$F133))","v":38146},54961,{"$f":"IF(AND(INTRO!$E$37=\"Non-endemic\",INTRO!$E$41=\"Non-endemic\"),0,COUNTRY_INFO!P133)","v":0},{"$f":"IF(AND(INTRO!$E$37=\"Non-endemic\",INTRO!$E$41=\"Non-endemic\"),0,COUNTRY_INFO!R133)","v":1},{"$f":"IF(INTRO!$E$39=\"Non-endemic\",IF($G133=1,DEC!I133,0),IF($G133=1,IVM!G133,0))","v":0},"ALB",{"$f":"IF($J133=\"ALB\", IF(INTRO!$E$39=\"Non-endemic\", IF($H133<>0, IF($I133=0, $D133*$H133, $D133*($H133-$G133)), 0), $D133*$H133), 0)","v":16815},38146,null,54961,{"$f":"IF($J133=\"MBD\", IF(INTRO!$E$39=\"Non-endemic\", IF($H133<>0, IF($I133=0, $D133*$H133, $D133*($H133-$G133)), 0), $D133*$H133), 0)","v":0},0,null,0,null,0,0,null,38146,191,null,0,0]
[{"$f":"IF(AND(INTRO!$E$37=\"Non-endemic\",INTRO!$E$41=\"Non-endemic\"),\" \",IF(COUNTRY_INFO!A134=0,\" \",COUNTRY_INFO!A134))","v":"Ghana"},{"$f":"IF(AND(INTRO!$E$37=\"Non-endemic\",INTRO!$E$41=\"Non-endemic\"),\" \",IF(COUNTRY_INFO!B134=0,\" \",COUNTRY_INFO!B134))","v":"Northern"},{"$f":"IF(AND(INTRO!$E$37=\"Non-endemic\",INTRO!$E$41=\"Non-endemic\"),\" \",IF(COUNTRY_INFO!C134=0,\" \",COUNTRY_INFO!C134))","v":"Gushiegu"},{"$f":"IF(AND(INTRO!$E$37=\"Non-endemic\",INTRO!$E$41=\"Non-endemic\"),0,IF(AND(OR(COUNTRY_INFO!$H134=0,COUNTRY_INFO!$H134=4,COUNTRY_INFO!$H134=99),OR(COUNTRY_INFO!$J134=0,COUNTRY_INFO!$J134=4)),0,COUNTRY_INFO!$E134))","v":15460},{"$f":"IF(AND(INTRO!$E$37=\"Non-endemic\",INTRO!$E$41=\"Non-endemic\"),0,IF(AND(OR(COUNTRY_INFO!$H134=0,COUNTRY_INFO!$H134=4,COUNTRY_INFO!$H134=99),OR(COUNTRY_INFO!$J134=0,COUNTRY_INFO!$J134=4)),0,COUNTRY_INFO!$F134))","v":35072},50532,{"$f":"IF(AND(INTRO!$E$37=\"Non-endemic\",INTRO!$E$41=\"Non-endemic\"),0,COUNTRY_INFO!P134)","v":0},{"$f":"IF(AND(INTRO!$E$37=\"Non-endemic\",INTRO!$E$41=\"Non-endemic\"),0,COUNTRY_INFO!R134)","v":1},{"$f":"IF(INTRO!$E$39=\"Non-endemic\",IF($G134=1,DEC!I134,0),IF($G134=1,IVM!G134,0))","v":0},"ALB",{"$f":"IF($J134=\"ALB\", IF(INTRO!$E$39=\"Non-endemic\", IF($H134<>0, IF($I134=0, $D134*$H134, $D134*($H134-$G134)), 0), $D134*$H134), 0)","v":15460},35072,null,50532,{"$f":"IF($J134=\"MBD\", IF(INTRO!$E$39=\"Non-endemic\", IF($H134<>0, IF($I134=0, $D134*$H134, $D134*($H134-$G134)), 0), $D134*$H134), 0)","v":0},0,null,0,null,0,0,null,35072,176,null,0,0]
[{"$f":"IF(AND(INTRO!$E$37=\"Non-endemic\",INTRO!$E$41=\"Non-endemic\"),\" \",IF(COUNTRY_INFO!A135=0,\" \",COUNTRY_INFO!A135))","v":"Ghana"},{"$f":"IF(AND(INTRO!$E$37=\"Non-endemic\",INTRO!$E$41=\"Non-endemic\"),\" \",IF(COUNTRY_INFO!B135=0,\" \",COUNTRY_INFO!B135))","v":"Northern"},{"$f":"IF(AND(INTRO!$E$37=\"Non-endemic\",INTRO!$E$41=\"Non-endemic\"),\" \",IF(COUNTRY_INFO!C135=0,\" \",COUNTRY_INFO!C135))","v":"Karaga"},{"$f":"IF(AND(INTRO!$E$37=\"Non-endemic\",INTRO!$E$41=\"Non-endemic\"),0,IF(AND(OR(COUNTRY_INFO!$H135=0,COUNTRY_INFO!$H135=4,COUNTRY_INFO!$H135=99),OR(COUNTRY_INFO!$J135=0,COUNTRY_INFO!$J135=4)),0,COUNTRY_INFO!$E135))","v":10798},{"$f":"IF(AND(INTRO!$E$37=\"Non-endemic\",INTRO!$E$41=\"Non-endemic\"),0,IF(AND(OR(COUNTRY_INFO!$H135=0,COUNTRY_INFO!$H135=4,COUNTRY_INFO!$H135=99),OR(COUNTRY_INFO!$J135=0,COUNTRY_INFO!$J135=4)),0,COUNTRY_INFO!$F135))","v":24495},35293,{"$f":"IF(AND(INTRO!$E$37=\"Non-endemic\",INTRO!$E$41=\"Non-endemic\"),0,COUNTRY_INFO!P135)","v":0},{"$f":"IF(AND(INTRO!$E$37=\"Non-endemic\",INTRO!$E$41=\"Non-endemic\"),0,COUNTRY_INFO!R135)","v":1},{"$f":"IF(INTRO!$E$39=\"Non-endemic\",IF($G135=1,DEC!I135,0),IF($G135=1,IVM!G135,0))","v":0},"ALB",{"$f":"IF($J135=\"ALB\", IF(INTRO!$E$39=\"Non-endemic\", IF($H135<>0, IF($I135=0, $D135*$H135, $D135*($H135-$G135)), 0), $D135*$H135), 0)","v":10798},24495,null,35293,{"$f":"IF($J135=\"MBD\", IF(INTRO!$E$39=\"Non-endemic\", IF($H135<>0, IF($I135=0, $D135*$H135, $D135*($H135-$G135)), 0), $D135*$H135), 0)","v":0},0,null,0,null,0,0,null,24495,123,null,0,0]
[{"$f":"IF(AND(INTRO!$E$37=\"Non-endemic\",INTRO!$E$41=\"Non-endemic\"),\" \",IF(COUNTRY_INFO!A136=0,\" \",COUNTRY_INFO!A136))","v":"Ghana"},{"$f":"IF(AND(INTRO!$E$37=\"Non-endemic\",INTRO!$E$41=\"Non-endemic\"),\" \",IF(COUNTRY_INFO!B136=0,\" \",COUNTRY_INFO!B136))","v":"Northern"},{"$f":"IF(AND(INTRO!$E$37=\"Non-endemic\",INTRO!$E$41=\"Non-endemic\"),\" \",IF(COUNTRY_INFO!C136=0,\" \",COUNTRY_INFO!C136))","v":"Kpandai"},{"$f":"IF(AND(INTRO!$E$37=\"Non-endemic\",INTRO!$E$41=\"Non-endemic\"),0,IF(AND(OR(COUNTRY_INFO!$H136=0,COUNTRY_INFO!$H136=4,COUNTRY_INFO!$H136=99),OR(COUNTRY_INFO!$J136=0,COUNTRY_INFO!$J136=4)),0,COUNTRY_INFO!$E136))","v":15121},{"$f":"IF(AND(INTRO!$E$37=\"Non-endemic\",INTRO!$E$41=\"Non-endemic\"),0,IF(AND(OR(COUNTRY_INFO!$H136=0,COUNTRY_INFO!$H136=4,COUNTRY_INFO!$H136=99),OR(COUNTRY_INFO!$J136=0,COUNTRY_INFO!$J136=4)),0,COUNTRY_INFO!$F136))","v":34302},49423,{"$f":"IF(AND(INTRO!$E$37=\"Non-endemic\",INTRO!$E$41=\"Non-endemic\"),0,COUNTRY_INFO!P136)","v":0},{"$f":"IF(AND(INTRO!$E$37=\"Non-endemic\",INTRO!$E$41=\"Non-endemic\"),0,COUNTRY_INFO!R136)","v":1},{"$f":"IF(INTRO!$E$39=\"Non-endemic\",IF($G136=1,DEC!I136,0),IF($G136=1,IVM!G136,0))","v":0},"ALB",{"$f":"IF($J136=\"ALB\", IF(INTRO!$E$39=\"Non-endemic\", IF($H136<>0, IF($I136=0, $D136*$H136, $D136*($H136-$G136)), 0), $D136*$H136), 0)","v":15121},34302,null,49423,{"$f":"IF($J136=\"MBD\", IF(INTRO!$E$39=\"Non-endemic\", IF($H136<>0, IF($I136=0, $D136*$H136, $D136*($H136-$G136)), 0), $D136*$H136), 0)","v":0},0,null,0,null,0,0,null,34302,172,null,0,0]
[{"$f":"IF(AND(INTRO!$E$37=\"Non-endemic\",INTRO!$E$41=\"Non-endemic\"),\" \",IF(COUNTRY_INFO!A137=0,\" \",COUNTRY_INFO!A137))","v":"Ghana"},{"$f":"IF(AND(INTRO!$E$37=\"Non-endemic\",INTRO!$E$41=\"Non-endemic\"),\" \",IF(COUNTRY_INFO!B137=0,\" \",COUNTRY_INFO!B137))","v":"Northern"},{"$f":"IF(AND(INTRO!$E$37=\"Non-endemic\",INTRO!$E$41=\"Non-endemic\"),\" \",IF(COUNTRY_INFO!C137=0,\" \",COUNTRY_INFO!C137))","v":"Nanumba North"},{"$f":"IF(AND(INTRO!$E$37=\"Non-endemic\",INTRO!$E$41=\"Non-endemic\"),0,IF(AND(OR(COUNTRY_INFO!$H137=0,COUNTRY_INFO!$H137=4,COUNTRY_INFO!$H137=99),OR(COUNTRY_INFO!$J137=0,COUNTRY_INFO!$J137=4)),0,COUNTRY_INFO!$E137))","v":19674},{"$f":"IF(AND(INTRO!$E$37=\"Non-endemic\",INTRO!$E$41=\"Non-endemic\"),0,IF(AND(OR(COUNTRY_INFO!$H137=0,COUNTRY_INFO!$H137=4,COUNTRY_INFO!$H137=99),OR(COUNTRY_INFO!$J137=0,COUNTRY_INFO!$J137=4)),0,COUNTRY_INFO!$F137))","v":44631},{"$f":"SUM(D137:E137)","v":64305},{"$f":"IF(AND(INTRO!$E$37=\"Non-endemic\",INTRO!$E$41=\"Non-endemic\"),0,COUNTRY_INFO!P137)","v":0},{"$f":"IF(AND(INTRO!$E$37=\"Non-endemic\",INTRO!$E$41=\"Non-endemic\"),0,COUNTRY_INFO!R137)","v":1},{"$f":"IF(INTRO!$E$39=\"Non-endemic\",IF($G137=1,DEC!I137,0),IF($G137=1,IVM!G137,0))","v":0},"ALB",{"$f":"IF($J137=\"ALB\", IF(INTRO!$E$39=\"Non-endemic\", IF($H137<>0, IF($I137=0, $D137*$H137, $D137*($H137-$G137)), 0), $D137*$H137), 0)","v":19674},{"$f":"IF($J137=\"ALB\", IF($H137<>0, IF($I137=0, $E137*$H137, $E137*($H137-$G137)),0), 0)","v":44631},null,{"$f":"SUM(K137:M137)","v":64305},{"$f":"IF($J137=\"MBD\", IF(INTRO!$E$39=\"Non-endemic\", IF($H137<>0, IF($I137=0, $D137*$H137, $D137*($H137-$G137)), 0), $D137*$H137), 0)","v":0},{"$f":"IF($J137=\"MBD\", IF($H137<>0,IF($I137=0, $E137*$H137, $E137*($H137-$G137)),0), 0 )","v":0},null,{"$f":"SUM(O137:Q137)","v":0},null,{"$f":"IF($I137>$S137, $I137-$S137,0)","v":0},{"$f":"ROUNDUP($I137/200,0)","v":0},null,{"$f":"IF($L137>$V137,$L137-$V137,0)","v":44631},{"$f":"ROUNDUP($L137/200,0)","v":224},null,{"$f":"IF($P137>$Y137,$P137-$Y137,0)","v":0},{"$f":"ROUNDUP($P137/150,0)","v":0}]
[{"$f":"IF(AND(INTRO!$E$37=\"Non-endemic\",INTRO!$E$41=\"Non-endemic\"),\" \",IF(COUNTRY_INFO!A138=0,\" \",COUNTRY_INFO!A138))","v":"Ghana"},{"$f":"IF(AND(INTRO!$E$37=\"Non-endemic\",INTRO!$E$41=\"Non-endemic\"),\" \",IF(COUNTRY_INFO!B138=0,\" \",COUNTRY_INFO!B138))","v":"Northern"},{"$f":"IF(AND(INTRO!$E$37=\"Non-endemic\",INTRO!$E$41=\"Non-endemic\"),\" \",IF(COUNTRY_INFO!C138=0,\" \",COUNTRY_INFO!C138))","v":"Nanumba South"},{"$f":"IF(AND(INTRO!$E$37=\"Non-endemic\",INTRO!$E$41=\"Non-endemic\"),0,IF(AND(OR(COUNTRY_INFO!$H138=0,COUNTRY_INFO!$H138=4,COUNTRY_INFO!$H138=99),OR(COUNTRY_INFO!$J138=0,COUNTRY_INFO!$J138=4)),0,COUNTRY_INFO!$E138))","v":12988},{"$f":"IF(AND(INTRO!$E$37=\"Non-endemic\",INTRO!$E$41=\"Non-endemic\"),0,IF(AND(OR(COUNTRY_INFO!$H138=0,COUNTRY_INFO!$H138=4,COUNTRY_INFO!$H138=99),OR(COUNTRY_INFO!$J138=0,COUNTRY_INFO!$J138=4)),0,COUNTRY_INFO!$F138))","v":29462},42450,{"$f":"IF(AND(INTRO!$E$37=\"Non-endemic\",INTRO!$E$41=\"Non-endemic\"),0,COUNTRY_INFO!P138)","v":0},{"$f":"IF(AND(INTRO!$E$37=\"Non-endemic\",INTRO!$E$41=\"Non-endemic\"),0,COUNTRY_INFO!R138)","v":1},{"$f":"IF(INTRO!$E$39=\"Non-endemic\",IF($G138=1,DEC!I138,0),IF($G138=1,IVM!G138,0))","v":0},"ALB",{"$f":"IF($J138=\"ALB\", IF(INTRO!$E$39=\"Non-endemic\", IF($H138<>0, IF($I138=0, $D138*$H138, $D138*($H138-$G138)), 0), $D138*$H138), 0)","v":12988},29462,null,42450,{"$f":"IF($J138=\"MBD\", IF(INTRO!$E$39=\"Non-endemic\", IF($H138<>0, IF($I138=0, $D138*$H138, $D138*($H138-$G138)), 0), $D138*$H138), 0)","v":0},0,null,0,null,0,0,null,29462,148,null,0,0]
[{"$f":"IF(AND(INTRO!$E$37=\"Non-endemic\",INTRO!$E$41=\"Non-endemic\"),\" \",IF(COUNTRY_INFO!A139=0,\" \",COUNTRY_INFO!A139))","v":"Ghana"},{"$f":"IF(AND(INTRO!$E$37=\"Non-endemic\",INTRO!$E$41=\"Non-endemic\"),\" \",IF(COUNTRY_INFO!B139=0,\" \",COUNTRY_INFO!B139))","v":"Northern"},{"$f":"IF(AND(INTRO!$E$37=\"Non-endemic\",INTRO!$E$41=\"Non-endemic\"),\" \",IF(COUNTRY_INFO!C139=0,\" \",COUNTRY_INFO!C139))","v":"Saboba"},{"$f":"IF(AND(INTRO!$E$37=\"Non-endemic\",INTRO!$E$41=\"Non-endemic\"),0,IF(AND(OR(COUNTRY_INFO!$H139=0,COUNTRY_INFO!$H139=4,COUNTRY_INFO!$H139=99),OR(COUNTRY_INFO!$J139=0,COUNTRY_INFO!$J139=4)),0,COUNTRY_INFO!$E139))","v":9130},{"$f":"IF(AND(INTRO!$E$37=\"Non-endemic\",INTRO!$E$41=\"Non-endemic\"),0,IF(AND(OR(COUNTRY_INFO!$H139=0,COUNTRY_INFO!$H139=4,COUNTRY_INFO!$H139=99),OR(COUNTRY_INFO!$J139=0,COUNTRY_INFO!$J139=4)),0,COUNTRY_INFO!$F139))","v":20712},29842,{"$f":"IF(AND(INTRO!$E$37=\"Non-endemic\",INTRO!$E$41=\"Non-endemic\"),0,COUNTRY_INFO!P139)","v":0},{"$f":"IF(AND(INTRO!$E$37=\"Non-endemic\",INTRO!$E$41=\"Non-endemic\"),0,COUNTRY_INFO!R139)","v":1},{"$f":"IF(INTRO!$E$39=\"Non-endemic\",IF($G139=1,DEC!I139,0),IF($G139=1,IVM!G139,0))","v":0},"ALB",{"$f":"IF($J139=\"ALB\", IF(INTRO!$E$39=\"Non-endemic\", IF($H139<>0, IF($I139=0, $D139*$H139, $D139*($H139-$G139)), 0), $D139*$H139), 0)","v":9130},20712,null,29842,{"$f":"IF($J139=\"MBD\", IF(INTRO!$E$39=\"Non-endemic\", IF($H139<>0, IF($I139=0, $D139*$H139, $D139*($H139-$G139)), 0), $D139*$H139), 0)","v":0},0,null,0,null,0,0,null,20712,104,null,0,0]
[{"$f":"IF(AND(INTRO!$E$37=\"Non-endemic\",INTRO!$E$41=\"Non-endemic\"),\" \",IF(COUNTRY_INFO!A140=0,\" \",COUNTRY_INFO!A140))","v":"Ghana"},{"$f":"IF(AND(INTRO!$E$37=\"Non-endemic\",INTRO!$E$41=\"Non-endemic\"),\" \",IF(COUNTRY_INFO!B140=0,\" \",COUNTRY_INFO!B140))","v":"Northern"},{"$f":"IF(AND(INTRO!$E$37=\"Non-endemic\",INTRO!$E$41=\"Non-endemic\"),\" \",IF(COUNTRY_INFO!C140=0,\" \",COUNTRY_INFO!C140))","v":"Savelugu-Nanton"},{"$f":"IF(AND(INTRO!$E$37=\"Non-endemic\",INTRO!$E$41=\"Non-endemic\"),0,IF(AND(OR(COUNTRY_INFO!$H140=0,COUNTRY_INFO!$H140=4,COUNTRY_INFO!$H140=99),OR(COUNTRY_INFO!$J140=0,COUNTRY_INFO!$J140=4)),0,COUNTRY_INFO!$E140))","v":19354},{"$f":"IF(AND(INTRO!$E$37=\"Non-endemic\",INTRO!$E$41=\"Non-endemic\"),0,IF(AND(OR(COUNTRY_INFO!$H140=0,COUNTRY_INFO!$H140=4,COUNTRY_INFO!$H140=99),OR(COUNTRY_INFO!$J140=0,COUNTRY_INFO!$J140=4)),0,COUNTRY_INFO!$F140))","v":43906},63260,{"$f":"IF(AND(INTRO!$E$37=\"Non-endemic\",INTRO!$E$41=\"Non-endemic\"),0,COUNTRY_INFO!P140)","v":0},{"$f":"IF(AND(INTRO!$E$37=\"Non-endemic\",INTRO!$E$41=\"Non-endemic\"),0,COUNTRY_INFO!R140)","v":1},{"$f":"IF(INTRO!$E$39=\"Non-endemic\",IF($G140=1,DEC!I140,0),IF($G140=1,IVM!G140,0))","v":0},"ALB",{"$f":"IF($J140=\"ALB\", IF(INTRO!$E$39=\"Non-endemic\", IF($H140<>0, IF($I140=0, $D140*$H140, $D140*($H140-$G140)), 0), $D140*$H140), 0)","v":19354},43906,null,63260,{"$f":"IF($J140=\"MBD\", IF(INTRO!$E$39=\"Non-endemic\", IF($H140<>0, IF($I140=0, $D140*$H140, $D140*($H140-$G140)), 0), $D140*$H140), 0)","v":0},0,null,0,null,0,0,null,43906,220,null,0,0]
[{"$f":"IF(AND(INTRO!$E$37=\"Non-endemic\",INTRO!$E$41=\"Non-endemic\"),\" \",IF(COUNTRY_INFO!A141=0,\" \",COUNTRY_INFO!A141))","v":"Ghana"},{"$f":"IF(AND(INTRO!$E$37=\"Non-endemic\",INTRO!$E$41=\"Non-endemic\"),\" \",IF(COUNTRY_INFO!B141=0,\" \",COUNTRY_INFO!B141))","v":"Northern"},{"$f":"IF(AND(INTRO!$E$37=\"Non-endemic\",INTRO!$E$41=\"Non-endemic\"),\" \",IF(COUNTRY_INFO!C141=0,\" \",COUNTRY_INFO!C141))","v":"Sawla-Tuna-Kalba"},{"$f":"IF(AND(INTRO!$E$37=\"Non-endemic\",INTRO!$E$41=\"Non-endemic\"),0,IF(AND(OR(COUNTRY_INFO!$H141=0,COUNTRY_INFO!$H141=4,COUNTRY_INFO!$H141=99),OR(COUNTRY_INFO!$J141=0,COUNTRY_INFO!$J141=4)),0,COUNTRY_INFO!$E141))","v":13877},{"$f":"IF(AND(INTRO!$E$37=\"Non-endemic\",INTRO!$E$41=\"Non-endemic\"),0,IF(AND(OR(COUNTRY_INFO!$H141=0,COUNTRY_INFO!$H141=4,COUNTRY_INFO!$H141=99),OR(COUNTRY_INFO!$J141=0,COUNTRY_INFO!$J141=4)),0,COUNTRY_INFO!$F141))","v":31480},45357,{"$f":"IF(AND(INTRO!$E$37=\"Non-endemic\",INTRO!$E$41=\"Non-endemic\"),0,COUNTRY_INFO!P141)","v":1},{"$f":"IF(AND(INTRO!$E$37=\"Non-endemic\",INTRO!$E$41=\"Non-endemic\"),0,COUNTRY_INFO!R141)","v":1},{"$f":"IF(INTRO!$E$39=\"Non-endemic\",IF($G141=1,DEC!I141,0),IF($G141=1,IVM!G141,0))","v":110757},"",{"$f":"IF($J141=\"ALB\", IF(INTRO!$E$39=\"Non-endemic\", IF($H141<>0, IF($I141=0, $D141*$H141, $D141*($H141-$G141)), 0), $D141*$H141), 0)","v":0},0,null,0,{"$f":"IF($J141=\"MBD\", IF(INTRO!$E$39=\"Non-endemic\", IF($H141<>0, IF($I141=0, $D141*$H141, $D141*($H141-$G141)), 0), $D141*$H141), 0)","v":0},0,null,0,null,110757,554,null,0,0,null,0,0]
[{"$f":"IF(AND(INTRO!$E$37=\"Non-endemic\",INTRO!$E$41=\"Non-endemic\"),\" \",IF(COUNTRY_INFO!A142=0,\" \",COUNTRY_INFO!A142))","v":"Ghana"},{"$f":"IF(AND(INTRO!$E$37=\"Non-endemic\",INTRO!$E$41=\"Non-endemic\"),\" \",IF(COUNTRY_INFO!B142=0,\" \",COUNTRY_INFO!B142))","v":"Northern"},{"$f":"IF(AND(INTRO!$E$37=\"Non-endemic\",INTRO!$E$41=\"Non-endemic\"),\" \",IF(COUNTRY_INFO!C142=0,\" \",COUNTRY_INFO!C142))","v":"Tamale"},{"$f":"IF(AND(INTRO!$E$37=\"Non-endemic\",INTRO!$E$41=\"Non-endemic\"),0,IF(AND(OR(COUNTRY_INFO!$H142=0,COUNTRY_INFO!$H142=4,COUNTRY_INFO!$H142=99),OR(COUNTRY_INFO!$J142=0,COUNTRY_INFO!$J142=4)),0,COUNTRY_INFO!$E142))","v":31023},{"$f":"IF(AND(INTRO!$E$37=\"Non-endemic\",INTRO!$E$41=\"Non-endemic\"),0,IF(AND(OR(COUNTRY_INFO!$H142=0,COUNTRY_INFO!$H142=4,COUNTRY_INFO!$H142=99),OR(COUNTRY_INFO!$J142=0,COUNTRY_INFO!$J142=4)),0,COUNTRY_INFO!$F142))","v":70375},101398,{"$f":"IF(AND(INTRO!$E$37=\"Non-endemic\",INTRO!$E$41=\"Non-endemic\"),0,COUNTRY_INFO!P142)","v":0},{"$f":"IF(AND(INTRO!$E$37=\"Non-endemic\",INTRO!$E$41=\"Non-endemic\"),0,COUNTRY_INFO!R142)","v":1},{"$f":"IF(INTRO!$E$39=\"Non-endemic\",IF($G142=1,DEC!I142,0),IF($G142=1,IVM!G142,0))","v":0},"ALB",{"$f":"IF($J142=\"ALB\", IF(INTRO!$E$39=\"Non-endemic\", IF($H142<>0, IF($I142=0, $D142*$H142, $D142*($H142-$G142)), 0), $D142*$H142), 0)","v":31023},70375,null,101398,{"$f":"IF($J142=\"MBD\", IF(INTRO!$E$39=\"Non-endemic\", IF($H142<>0, IF($I142=0, $D142*$H142, $D142*($H142-$G142)), 0), $D142*$H142), 0)","v":0},0,null,0,null,0,0,null,70375,352,null,0,0]
[{"$f":"IF(AND(INTRO!$E$37=\"Non-endemic\",INTRO!$E$41=\"Non-endemic\"),\" \",IF(COUNTRY_INFO!A143=0,\" \",COUNTRY_INFO!A143))","v":"Ghana"},{"$f":"IF(AND(INTRO!$E$37=\"Non-endemic\",INTRO!$E$41=\"Non-endemic\"),\" \",IF(COUNTRY_INFO!B143=0,\" \",COUNTRY_INFO!B143))","v":"Northern"},{"$f":"IF(AND(INTRO!$E$37=\"Non-endemic\",INTRO!$E$41=\"Non-endemic\"),\" \",IF(COUNTRY_INFO!C143=0,\" \",COUNTRY_INFO!C143))","v":"Sagnarigu"},{"$f":"IF(AND(INTRO!$E$37=\"Non-endemic\",INTRO!$E$41=\"Non-endemic\"),0,IF(AND(OR(COUNTRY_INFO!$H143=0,COUNTRY_INFO!$H143=4,COUNTRY_INFO!$H143=99),OR(COUNTRY_INFO!$J143=0,COUNTRY_INFO!$J143=4)),0,COUNTRY_INFO!$E143))","v":20579},{"$f":"IF(AND(INTRO!$E$37=\"Non-endemic\",INTRO!$E$41=\"Non-endemic\"),0,IF(AND(OR(COUNTRY_INFO!$H143=0,COUNTRY_INFO!$H143=4,COUNTRY_INFO!$H143=99),OR(COUNTRY_INFO!$J143=0,COUNTRY_INFO!$J143=4)),0,COUNTRY_INFO!$F143))","v":46685},67264,{"$f":"IF(AND(INTRO!$E$37=\"Non-endemic\",INTRO!$E$41=\"Non-endemic\"),0,COUNTRY_INFO!P143)","v":0},{"$f":"IF(AND(INTRO!$E$37=\"Non-endemic\",INTRO!$E$41=\"Non-endemic\"),0,COUNTRY_INFO!R143)","v":1},{"$f":"IF(INTRO!$E$39=\"Non-endemic\",IF($G143=1,DEC!I143,0),IF($G143=1,IVM!G143,0))","v":0},"ALB",{"$f":"IF($J143=\"ALB\", IF(INTRO!$E$39=\"Non-endemic\", IF($H143<>0, IF($I143=0, $D143*$H143, $D143*($H143-$G143)), 0), $D143*$H143), 0)","v":20579},46685,null,67264,{"$f":"IF($J143=\"MBD\", IF(INTRO!$E$39=\"Non-endemic\", IF($H143<>0, IF($I143=0, $D143*$H143, $D143*($H143-$G143)), 0), $D143*$H143), 0)","v":0},0,null,0,null,0,0,null,46685,234,null,0,0]
[{"$f":"IF(AND(INTRO!$E$37=\"Non-endemic\",INTRO!$E$41=\"Non-endemic\"),\" \",IF(COUNTRY_INFO!A144=0,\" \",COUNTRY_INFO!A144))","v":"Ghana"},{"$f":"IF(AND(INTRO!$E$37=\"Non-endemic\",INTRO!$E$41=\"Non-endemic\"),\" \",IF(COUNTRY_INFO!B144=0,\" \",COUNTRY_INFO!B144))","v":"Northern"},{"$f":"IF(AND(INTRO!$E$37=\"Non-endemic\",INTRO!$E$41=\"Non-endemic\"),\" \",IF(COUNTRY_INFO!C144=0,\" \",COUNTRY_INFO!C144))","v":"Tolon"},{"$f":"IF(AND(INTRO!$E$37=\"Non-endemic\",INTRO!$E$41=\"Non-endemic\"),0,IF(AND(OR(COUNTRY_INFO!$H144=0,COUNTRY_INFO!$H144=4,COUNTRY_INFO!$H144=99),OR(COUNTRY_INFO!$J144=0,COUNTRY_INFO!$J144=4)),0,COUNTRY_INFO!$E144))","v":10205},{"$f":"IF(AND(INTRO!$E$37=\"Non-endemic\",INTRO!$E$41=\"Non-endemic\"),0,IF(AND(OR(COUNTRY_INFO!$H144=0,COUNTRY_INFO!$H144=4,COUNTRY_INFO!$H144=99),OR(COUNTRY_INFO!$J144=0,COUNTRY_INFO!$J144=4)),0,COUNTRY_INFO!$F144))","v":23150},33355,{"$f":"IF(AND(INTRO!$E$37=\"Non-endemic\",INTRO!$E$41=\"Non-endemic\"),0,COUNTRY_INFO!P144)","v":0},{"$f":"IF(AND(INTRO!$E$37=\"Non-endemic\",INTRO!$E$41=\"Non-endemic\"),0,COUNTRY_INFO!R144)","v":1},{"$f":"IF(INTRO!$E$39=\"Non-endemic\",IF($G144=1,DEC!I144,0),IF($G144=1,IVM!G144,0))","v":0},"ALB",{"$f":"IF($J144=\"ALB\", IF(INTRO!$E$39=\"Non-endemic\", IF($H144<>0, IF($I144=0, $D144*$H144, $D144*($H144-$G144)), 0), $D144*$H144), 0)","v":10205},23150,null,33355,{"$f":"IF($J144=\"MBD\", IF(INTRO!$E$39=\"Non-endemic\", IF($H144<>0, IF($I144=0, $D144*$H144, $D144*($H144-$G144)), 0), $D144*$H144), 0)","v":0},0,null,0,null,0,0,null,23150,116,null,0,0]
[{"$f":"IF(AND(INTRO!$E$37=\"Non-endemic\",INTRO!$E$41=\"Non-endemic\"),\" \",IF(COUNTRY_INFO!A145=0,\" \",COUNTRY_INFO!A145))","v":"Ghana"},{"$f":"IF(AND(INTRO!$E$37=\"Non-endemic\",INTRO!$E$41=\"Non-endemic\"),\" \",IF(COUNTRY_INFO!B145=0,\" \",COUNTRY_INFO!B145))","v":"Northern"},{"$f":"IF(AND(INTRO!$E$37=\"Non-endemic\",INTRO!$E$41=\"Non-endemic\"),\" \",IF(COUNTRY_INFO!C145=0,\" \",COUNTRY_INFO!C145))","v":"Kumbungu"},{"$f":"IF(AND(INTRO!$E$37=\"Non-endemic\",INTRO!$E$41=\"Non-endemic\"),0,IF(AND(OR(COUNTRY_INFO!$H145=0,COUNTRY_INFO!$H145=4,COUNTRY_INFO!$H145=99),OR(COUNTRY_INFO!$J145=0,COUNTRY_INFO!$J145=4)),0,COUNTRY_INFO!$E145))","v":5405},{"$f":"IF(AND(INTRO!$E$37=\"Non-endemic\",INTRO!$E$41=\"Non-endemic\"),0,IF(AND(OR(COUNTRY_INFO!$H145=0,COUNTRY_INFO!$H145=4,COUNTRY_INFO!$H145=99),OR(COUNTRY_INFO!$J145=0,COUNTRY_INFO!$J145=4)),0,COUNTRY_INFO!$F145))","v":12260},17665,{"$f":"IF(AND(INTRO!$E$37=\"Non-endemic\",INTRO!$E$41=\"Non-endemic\"),0,COUNTRY_INFO!P145)","v":0},{"$f":"IF(AND(INTRO!$E$37=\"Non-endemic\",INTRO!$E$41=\"Non-endemic\"),0,COUNTRY_INFO!R145)","v":1},{"$f":"IF(INTRO!$E$39=\"Non-endemic\",IF($G145=1,DEC!I145,0),IF($G145=1,IVM!G145,0))","v":0},"ALB",{"$f":"IF($J145=\"ALB\", IF(INTRO!$E$39=\"Non-endemic\", IF($H145<>0, IF($I145=0, $D145*$H145, $D145*($H145-$G145)), 0), $D145*$H145), 0)","v":5405},12260,null,17665,{"$f":"IF($J145=\"MBD\", IF(INTRO!$E$39=\"Non-endemic\", IF($H145<>0, IF($I145=0, $D145*$H145, $D145*($H145-$G145)), 0), $D145*$H145), 0)","v":0},0,null,0,null,0,0,null,12260,62,null,0,0]
[{"$f":"IF(AND(INTRO!$E$37=\"Non-endemic\",INTRO!$E$41=\"Non-endemic\"),\" \",IF(COUNTRY_INFO!A146=0,\" \",COUNTRY_INFO!A146))","v":"Ghana"},{"$f":"IF(AND(INTRO!$E$37=\"Non-endemic\",INTRO!$E$41=\"Non-endemic\"),\" \",IF(COUNTRY_INFO!B146=0,\" \",COUNTRY_INFO!B146))","v":"Northern"},{"$f":"IF(AND(INTRO!$E$37=\"Non-endemic\",INTRO!$E$41=\"Non-endemic\"),\" \",IF(COUNTRY_INFO!C146=0,\" \",COUNTRY_INFO!C146))","v":"West Gonja"},{"$f":"IF(AND(INTRO!$E$37=\"Non-endemic\",INTRO!$E$41=\"Non-endemic\"),0,IF(AND(OR(COUNTRY_INFO!$H146=0,COUNTRY_INFO!$H146=4,COUNTRY_INFO!$H146=99),OR(COUNTRY_INFO!$J146=0,COUNTRY_INFO!$J146=4)),0,COUNTRY_INFO!$E146))","v":5722},{"$f":"IF(AND(INTRO!$E$37=\"Non-endemic\",INTRO!$E$41=\"Non-endemic\"),0,IF(AND(OR(COUNTRY_INFO!$H146=0,COUNTRY_INFO!$H146=4,COUNTRY_INFO!$H146=99),OR(COUNTRY_INFO!$J146=0,COUNTRY_INFO!$J146=4)),0,COUNTRY_INFO!$F146))","v":12981},18703,{"$f":"IF(AND(INTRO!$E$37=\"Non-endemic\",INTRO!$E$41=\"Non-endemic\"),0,COUNTRY_INFO!P146)","v":1},{"$f":"IF(AND(INTRO!$E$37=\"Non-endemic\",INTRO!$E$41=\"Non-endemic\"),0,COUNTRY_INFO!R146)","v":1},{"$f":"IF(INTRO!$E$39=\"Non-endemic\",IF($G146=1,DEC!I146,0),IF($G146=1,IVM!G146,0))","v":45672},"",{"$f":"IF($J146=\"ALB\", IF(INTRO!$E$39=\"Non-endemic\", IF($H146<>0, IF($I146=0, $D146*$H146, $D146*($H146-$G146)), 0), $D146*$H146), 0)","v":0},0,null,0,{"$f":"IF($J146=\"MBD\", IF(INTRO!$E$39=\"Non-endemic\", IF($H146<>0, IF($I146=0, $D146*$H146, $D146*($H146-$G146)), 0), $D146*$H146), 0)","v":0},0,null,0,null,45672,229,null,0,0,null,0,0]
[{"$f":"IF(AND(INTRO!$E$37=\"Non-endemic\",INTRO!$E$41=\"Non-endemic\"),\" \",IF(COUNTRY_INFO!A147=0,\" \",COUNTRY_INFO!A147))","v":"Ghana"},{"$f":"IF(AND(INTRO!$E$37=\"Non-endemic\",INTRO!$E$41=\"Non-endemic\"),\" \",IF(COUNTRY_INFO!B147=0,\" \",COUNTRY_INFO!B147))","v":"Northern"},{"$f":"IF(AND(INTRO!$E$37=\"Non-endemic\",INTRO!$E$41=\"Non-endemic\"),\" \",IF(COUNTRY_INFO!C147=0,\" \",COUNTRY_INFO!C147))","v":"North Gonja"},{"$f":"IF(AND(INTRO!$E$37=\"Non-endemic\",INTRO!$E$41=\"Non-endemic\"),0,IF(AND(OR(COUNTRY_INFO!$H147=0,COUNTRY_INFO!$H147=4,COUNTRY_INFO!$H147=99),OR(COUNTRY_INFO!$J147=0,COUNTRY_INFO!$J147=4)),0,COUNTRY_INFO!$E147))","v":6051},{"$f":"IF(AND(INTRO!$E$37=\"Non-endemic\",INTRO!$E$41=\"Non-endemic\"),0,IF(AND(OR(COUNTRY_INFO!$H147=0,COUNTRY_INFO!$H147=4,COUNTRY_INFO!$H147=99),OR(COUNTRY_INFO!$J147=0,COUNTRY_INFO!$J147=4)),0,COUNTRY_INFO!$F147))","v":13727},19778,{"$f":"IF(AND(INTRO!$E$37=\"Non-endemic\",INTRO!$E$41=\"Non-endemic\"),0,COUNTRY_INFO!P147)","v":1},{"$f":"IF(AND(INTRO!$E$37=\"Non-endemic\",INTRO!$E$41=\"Non-endemic\"),0,COUNTRY_INFO!R147)","v":1},{"$f":"IF(INTRO!$E$39=\"Non-endemic\",IF($G147=1,DEC!I147,0),IF($G147=1,IVM!G147,0))","v":48297},"",{"$f":"IF($J147=\"ALB\", IF(INTRO!$E$39=\"Non-endemic\", IF($H147<>0, IF($I147=0, $D147*$H147, $D147*($H147-$G147)), 0), $D147*$H147), 0)","v":0},0,null,0,{"$f":"IF($J147=\"MBD\", IF(INTRO!$E$39=\"Non-endemic\", IF($H147<>0, IF($I147=0, $D147*$H147, $D147*($H147-$G147)), 0), $D147*$H147), 0)","v":0},0,null,0,null,48297,242,null,0,0,null,0,0]
[{"$f":"IF(AND(INTRO!$E$37=\"Non-endemic\",INTRO!$E$41=\"Non-endemic\"),\" \",IF(COUNTRY_INFO!A148=0,\" \",COUNTRY_INFO!A148))","v":"Ghana"},{"$f":"IF(AND(INTRO!$E$37=\"Non-endemic\",INTRO!$E$41=\"Non-endemic\"),\" \",IF(COUNTRY_INFO!B148=0,\" \",COUNTRY_INFO!B148))","v":"Northern"},{"$f":"IF(AND(INTRO!$E$37=\"Non-endemic\",INTRO!$E$41=\"Non-endemic\"),\" \",IF(COUNTRY_INFO!C148=0,\" \",COUNTRY_INFO!C148))","v":"West Mamprusi"},{"$f":"IF(AND(INTRO!$E$37=\"Non-endemic\",INTRO!$E$41=\"Non-endemic\"),0,IF(AND(OR(COUNTRY_INFO!$H148=0,COUNTRY_INFO!$H148=4,COUNTRY_INFO!$H148=99),OR(COUNTRY_INFO!$J148=0,COUNTRY_INFO!$J148=4)),0,COUNTRY_INFO!$E148))","v":16830},{"$f":"IF(AND(INTRO!$E$37=\"Non-endemic\",INTRO!$E$41=\"Non-endemic\"),0,IF(AND(OR(COUNTRY_INFO!$H148=0,COUNTRY_INFO!$H148=4,COUNTRY_INFO!$H148=99),OR(COUNTRY_INFO!$J148=0,COUNTRY_INFO!$J148=4)),0,COUNTRY_INFO!$F148))","v":38180},55010,{"$f":"IF(AND(INTRO!$E$37=\"Non-endemic\",INTRO!$E$41=\"Non-endemic\"),0,COUNTRY_INFO!P148)","v":0},{"$f":"IF(AND(INTRO!$E$37=\"Non-endemic\",INTRO!$E$41=\"Non-endemic\"),0,COUNTRY_INFO!R148)","v":1},{"$f":"IF(INTRO!$E$39=\"Non-endemic\",IF($G148=1,DEC!I148,0),IF($G148=1,IVM!G148,0))","v":0},"ALB",{"$f":"IF($J148=\"ALB\", IF(INTRO!$E$39=\"Non-endemic\", IF($H148<>0, IF($I148=0, $D148*$H148, $D148*($H148-$G148)), 0), $D148*$H148), 0)","v":16830},38180,null,55010,{"$f":"IF($J148=\"MBD\", IF(INTRO!$E$39=\"Non-endemic\", IF($H148<>0, IF($I148=0, $D148*$H148, $D148*($H148-$G148)), 0), $D148*$H148), 0)","v":0},0,null,0,null,0,0,null,38180,191,null,0,0]
[{"$f":"IF(AND(INTRO!$E$37=\"Non-endemic\",INTRO!$E$41=\"Non-endemic\"),\" \",IF(COUNTRY_INFO!A149=0,\" \",COUNTRY_INFO!A149))","v":"Ghana"},{"$f":"IF(AND(INTRO!$E$37=\"Non-endemic\",INTRO!$E$41=\"Non-endemic\"),\" \",IF(COUNTRY_INFO!B149=0,\" \",COUNTRY_INFO!B149))","v":"Northern"},{"$f":"IF(AND(INTRO!$E$37=\"Non-endemic\",INTRO!$E$41=\"Non-endemic\"),\" \",IF(COUNTRY_INFO!C149=0,\" \",COUNTRY_INFO!C149))","v":"Mamprugo Moaduri"},{"$f":"IF(AND(INTRO!$E$37=\"Non-endemic\",INTRO!$E$41=\"Non-endemic\"),0,IF(AND(OR(COUNTRY_INFO!$H149=0,COUNTRY_INFO!$H149=4,COUNTRY_INFO!$H149=99),OR(COUNTRY_INFO!$J149=0,COUNTRY_INFO!$J149=4)),0,COUNTRY_INFO!$E149))","v":6516},{"$f":"IF(AND(INTRO!$E$37=\"Non-endemic\",INTRO!$E$41=\"Non-endemic\"),0,IF(AND(OR(COUNTRY_INFO!$H149=0,COUNTRY_INFO!$H149=4,COUNTRY_INFO!$H149=99),OR(COUNTRY_INFO!$J149=0,COUNTRY_INFO!$J149=4)),0,COUNTRY_INFO!$F149))","v":14782},21298,{"$f":"IF(AND(INTRO!$E$37=\"Non-endemic\",INTRO!$E$41=\"Non-endemic\"),0,COUNTRY_INFO!P149)","v":0},{"$f":"IF(AND(INTRO!$E$37=\"Non-endemic\",INTRO!$E$41=\"Non-endemic\"),0,COUNTRY_INFO!R149)","v":1},{"$f":"IF(INTRO!$E$39=\"Non-endemic\",IF($G149=1,DEC!I149,0),IF($G149=1,IVM!G149,0))","v":0},"ALB",{"$f":"IF($J149=\"ALB\", IF(INTRO!$E$39=\"Non-endemic\", IF($H149<>0, IF($I149=0, $D149*$H149, $D149*($H149-$G149)), 0), $D149*$H149), 0)","v":6516},14782,null,21298,{"$f":"IF($J149=\"MBD\", IF(INTRO!$E$39=\"Non-endemic\", IF($H149<>0, IF($I149=0, $D149*$H149, $D149*($H149-$G149)), 0), $D149*$H149), 0)","v":0},0,null,0,null,0,0,null,14782,74,null,0,0]
[{"$f":"IF(AND(INTRO!$E$37=\"Non-endemic\",INTRO!$E$41=\"Non-endemic\"),\" \",IF(COUNTRY_INFO!A150=0,\" \",COUNTRY_INFO!A150))","v":"Ghana"},{"$f":"IF(AND(INTRO!$E$37=\"Non-endemic\",INTRO!$E$41=\"Non-endemic\"),\" \",IF(COUNTRY_INFO!B150=0,\" \",COUNTRY_INFO!B150))","v":"Northern"},{"$f":"IF(AND(INTRO!$E$37=\"Non-endemic\",INTRO!$E$41=\"Non-endemic\"),\" \",IF(COUNTRY_INFO!C150=0,\" \",COUNTRY_INFO!C150))","v":"Yendi"},{"$f":"IF(AND(INTRO!$E$37=\"Non-endemic\",INTRO!$E$41=\"Non-endemic\"),0,IF(AND(OR(COUNTRY_INFO!$H150=0,COUNTRY_INFO!$H150=4,COUNTRY_INFO!$H150=99),OR(COUNTRY_INFO!$J150=0,COUNTRY_INFO!$J150=4)),0,COUNTRY_INFO!$E150))","v":16433},{"$f":"IF(AND(INTRO!$E$37=\"Non-endemic\",INTRO!$E$41=\"Non-endemic\"),0,IF(AND(OR(COUNTRY_INFO!$H150=0,COUNTRY_INFO!$H150=4,COUNTRY_INFO!$H150=99),OR(COUNTRY_INFO!$J150=0,COUNTRY_INFO!$J150=4)),0,COUNTRY_INFO!$F150))","v":37279},53712,{"$f":"IF(AND(INTRO!$E$37=\"Non-endemic\",INTRO!$E$41=\"Non-endemic\"),0,COUNTRY_INFO!P150)","v":0},{"$f":"IF(AND(INTRO!$E$37=\"Non-endemic\",INTRO!$E$41=\"Non-endemic\"),0,COUNTRY_INFO!R150)","v":1},{"$f":"IF(INTRO!$E$39=\"Non-endemic\",IF($G150=1,DEC!I150,0),IF($G150=1,IVM!G150,0))","v":0},"ALB",{"$f":"IF($J150=\"ALB\", IF(INTRO!$E$39=\"Non-endemic\", IF($H150<>0, IF($I150=0, $D150*$H150, $D150*($H150-$G150)), 0), $D150*$H150), 0)","v":16433},37279,null,53712,{"$f":"IF($J150=\"MBD\", IF(INTRO!$E$39=\"Non-endemic\", IF($H150<>0, IF($I150=0, $D150*$H150, $D150*($H150-$G150)), 0), $D150*$H150), 0)","v":0},0,null,0,null,0,0,null,37279,187,null,0,0]
[{"$f":"IF(AND(INTRO!$E$37=\"Non-endemic\",INTRO!$E$41=\"Non-endemic\"),\" \",IF(COUNTRY_INFO!A151=0,\" \",COUNTRY_INFO!A151))","v":"Ghana"},{"$f":"IF(AND(INTRO!$E$37=\"Non-endemic\",INTRO!$E$41=\"Non-endemic\"),\" \",IF(COUNTRY_INFO!B151=0,\" \",COUNTRY_INFO!B151))","v":"Northern"},{"$f":"IF(AND(INTRO!$E$37=\"Non-endemic\",INTRO!$E$41=\"Non-endemic\"),\" \",IF(COUNTRY_INFO!C151=0,\" \",COUNTRY_INFO!C151))","v":"Mion"},{"$f":"IF(AND(INTRO!$E$37=\"Non-endemic\",INTRO!$E$41=\"Non-endemic\"),0,IF(AND(OR(COUNTRY_INFO!$H151=0,COUNTRY_INFO!$H151=4,COUNTRY_INFO!$H151=99),OR(COUNTRY_INFO!$J151=0,COUNTRY_INFO!$J151=4)),0,COUNTRY_INFO!$E151))","v":11302},{"$f":"IF(AND(INTRO!$E$37=\"Non-endemic\",INTRO!$E$41=\"Non-endemic\"),0,IF(AND(OR(COUNTRY_INFO!$H151=0,COUNTRY_INFO!$H151=4,COUNTRY_INFO!$H151=99),OR(COUNTRY_INFO!$J151=0,COUNTRY_INFO!$J151=4)),0,COUNTRY_INFO!$F151))","v":25638},36940,{"$f":"IF(AND(INTRO!$E$37=\"Non-endemic\",INTRO!$E$41=\"Non-endemic\"),0,COUNTRY_INFO!P151)","v":0},{"$f":"IF(AND(INTRO!$E$37=\"Non-endemic\",INTRO!$E$41=\"Non-endemic\"),0,COUNTRY_INFO!R151)","v":1},{"$f":"IF(INTRO!$E$39=\"Non-endemic\",IF($G151=1,DEC!I151,0),IF($G151=1,IVM!G151,0))","v":0},"ALB",{"$f":"IF($J151=\"ALB\", IF(INTRO!$E$39=\"Non-endemic\", IF($H151<>0, IF($I151=0, $D151*$H151, $D151*($H151-$G151)), 0), $D151*$H151), 0)","v":11302},25638,null,36940,{"$f":"IF($J151=\"MBD\", IF(INTRO!$E$39=\"Non-endemic\", IF($H151<>0, IF($I151=0, $D151*$H151, $D151*($H151-$G151)), 0), $D151*$H151), 0)","v":0},0,null,0,null,0,0,null,25638,129,null,0,0]
[{"$f":"IF(AND(INTRO!$E$37=\"Non-endemic\",INTRO!$E$41=\"Non-endemic\"),\" \",IF(COUNTRY_INFO!A152=0,\" \",COUNTRY_INFO!A152))","v":"Ghana"},{"$f":"IF(AND(INTRO!$E$37=\"Non-endemic\",INTRO!$E$41=\"Non-endemic\"),\" \",IF(COUNTRY_INFO!B152=0,\" \",COUNTRY_INFO!B152))","v":"Northern"},{"$f":"IF(AND(INTRO!$E$37=\"Non-endemic\",INTRO!$E$41=\"Non-endemic\"),\" \",IF(COUNTRY_INFO!C152=0,\" \",COUNTRY_INFO!C152))","v":"Zabzugu"},{"$f":"IF(AND(INTRO!$E$37=\"Non-endemic\",INTRO!$E$41=\"Non-endemic\"),0,IF(AND(OR(COUNTRY_INFO!$H152=0,COUNTRY_INFO!$H152=4,COUNTRY_INFO!$H152=99),OR(COUNTRY_INFO!$J152=0,COUNTRY_INFO!$J152=4)),0,COUNTRY_INFO!$E152))","v":8960},{"$f":"IF(AND(INTRO!$E$37=\"Non-endemic\",INTRO!$E$41=\"Non-endemic\"),0,IF(AND(OR(COUNTRY_INFO!$H152=0,COUNTRY_INFO!$H152=4,COUNTRY_INFO!$H152=99),OR(COUNTRY_INFO!$J152=0,COUNTRY_INFO!$J152=4)),0,COUNTRY_INFO!$F152))","v":20326},29286,{"$f":"IF(AND(INTRO!$E$37=\"Non-endemic\",INTRO!$E$41=\"Non-endemic\"),0,COUNTRY_INFO!P152)","v":0},{"$f":"IF(AND(INTRO!$E$37=\"Non-endemic\",INTRO!$E$41=\"Non-endemic\"),0,COUNTRY_INFO!R152)","v":1},{"$f":"IF(INTRO!$E$39=\"Non-endemic\",IF($G152=1,DEC!I152,0),IF($G152=1,IVM!G152,0))","v":0},"ALB",{"$f":"IF($J152=\"ALB\", IF(INTRO!$E$39=\"Non-endemic\", IF($H152<>0, IF($I152=0, $D152*$H152, $D152*($H152-$G152)), 0), $D152*$H152), 0)","v":8960},20326,null,29286,{"$f":"IF($J152=\"MBD\", IF(INTRO!$E$39=\"Non-endemic\", IF($H152<>0, IF($I152=0, $D152*$H152, $D152*($H152-$G152)), 0), $D152*$H152), 0)","v":0},0,null,0,null,0,0,null,20326,102,null,0,0]
[{"$f":"IF(AND(INTRO!$E$37=\"Non-endemic\",INTRO!$E$41=\"Non-endemic\"),\" \",IF(COUNTRY_INFO!A153=0,\" \",COUNTRY_INFO!A153))","v":"Ghana"},{"$f":"IF(AND(INTRO!$E$37=\"Non-endemic\",INTRO!$E$41=\"Non-endemic\"),\" \",IF(COUNTRY_INFO!B153=0,\" \",COUNTRY_INFO!B153))","v":"Northern"},{"$f":"IF(AND(INTRO!$E$37=\"Non-endemic\",INTRO!$E$41=\"Non-endemic\"),\" \",IF(COUNTRY_INFO!C153=0,\" \",COUNTRY_INFO!C153))","v":"Tatale Sangule"},{"$f":"IF(AND(INTRO!$E$37=\"Non-endemic\",INTRO!$E$41=\"Non-endemic\"),0,IF(AND(OR(COUNTRY_INFO!$H153=0,COUNTRY_INFO!$H153=4,COUNTRY_INFO!$H153=99),OR(COUNTRY_INFO!$J153=0,COUNTRY_INFO!$J153=4)),0,COUNTRY_INFO!$E153))","v":8250},{"$f":"IF(AND(INTRO!$E$37=\"Non-endemic\",INTRO!$E$41=\"Non-endemic\"),0,IF(AND(OR(COUNTRY_INFO!$H153=0,COUNTRY_INFO!$H153=4,COUNTRY_INFO!$H153=99),OR(COUNTRY_INFO!$J153=0,COUNTRY_INFO!$J153=4)),0,COUNTRY_INFO!$F153))","v":18716},26966,{"$f":"IF(AND(INTRO!$E$37=\"Non-endemic\",INTRO!$E$41=\"Non-endemic\"),0,COUNTRY_INFO!P153)","v":0},{"$f":"IF(AND(INTRO!$E$37=\"Non-endemic\",INTRO!$E$41=\"Non-endemic\"),0,COUNTRY_INFO!R153)","v":1},{"$f":"IF(INTRO!$E$39=\"Non-endemic\",IF($G153=1,DEC!I153,0),IF($G153=1,IVM!G153,0))","v":0},"ALB",{"$f":"IF($J153=\"ALB\", IF(INTRO!$E$39=\"Non-endemic\", IF($H153<>0, IF($I153=0, $D153*$H153, $D153*($H153-$G153)), 0), $D153*$H153), 0)","v":8250},18716,null,26966,{"$f":"IF($J153=\"MBD\", IF(INTRO!$E$39=\"Non-endemic\", IF($H153<>0, IF($I153=0, $D153*$H153, $D153*($H153-$G153)), 0), $D153*$H153), 0)","v":0},0,null,0,null,0,0,null,18716,94,null,0,0]
[{"$f":"IF(AND(INTRO!$E$37=\"Non-endemic\",INTRO!$E$41=\"Non-endemic\"),\" \",IF(COUNTRY_INFO!A154=0,\" \",COUNTRY_INFO!A154))","v":"Ghana"},{"$f":"IF(AND(INTRO!$E$37=\"Non-endemic\",INTRO!$E$41=\"Non-endemic\"),\" \",IF(COUNTRY_INFO!B154=0,\" \",COUNTRY_INFO!B154))","v":"Upper East"},{"$f":"IF(AND(INTRO!$E$37=\"Non-endemic\",INTRO!$E$41=\"Non-endemic\"),\" \",IF(COUNTRY_INFO!C154=0,\" \",COUNTRY_INFO!C154))","v":"Bawku Municipal"},{"$f":"IF(AND(INTRO!$E$37=\"Non-endemic\",INTRO!$E$41=\"Non-endemic\"),0,IF(AND(OR(COUNTRY_INFO!$H154=0,COUNTRY_INFO!$H154=4,COUNTRY_INFO!$H154=99),OR(COUNTRY_INFO!$J154=0,COUNTRY_INFO!$J154=4)),0,COUNTRY_INFO!$E154))","v":11984},{"$f":"IF(AND(INTRO!$E$37=\"Non-endemic\",INTRO!$E$41=\"Non-endemic\"),0,IF(AND(OR(COUNTRY_INFO!$H154=0,COUNTRY_INFO!$H154=4,COUNTRY_INFO!$H154=99),OR(COUNTRY_INFO!$J154=0,COUNTRY_INFO!$J154=4)),0,COUNTRY_INFO!$F154))","v":27186},39170,{"$f":"IF(AND(INTRO!$E$37=\"Non-endemic\",INTRO!$E$41=\"Non-endemic\"),0,COUNTRY_INFO!P154)","v":0},{"$f":"IF(AND(INTRO!$E$37=\"Non-endemic\",INTRO!$E$41=\"Non-endemic\"),0,COUNTRY_INFO!R154)","v":1},{"$f":"IF(INTRO!$E$39=\"Non-endemic\",IF($G154=1,DEC!I154,0),IF($G154=1,IVM!G154,0))","v":0},"ALB",{"$f":"IF($J154=\"ALB\", IF(INTRO!$E$39=\"Non-endemic\", IF($H154<>0, IF($I154=0, $D154*$H154, $D154*($H154-$G154)), 0), $D154*$H154), 0)","v":11984},27186,null,39170,{"$f":"IF($J154=\"MBD\", IF(INTRO!$E$39=\"Non-endemic\", IF($H154<>0, IF($I154=0, $D154*$H154, $D154*($H154-$G154)), 0), $D154*$H154), 0)","v":0},0,null,0,null,0,0,null,27186,136,null,0,0]
[{"$f":"IF(AND(INTRO!$E$37=\"Non-endemic\",INTRO!$E$41=\"Non-endemic\"),\" \",IF(COUNTRY_INFO!A155=0,\" \",COUNTRY_INFO!A155))","v":"Ghana"},{"$f":"IF(AND(INTRO!$E$37=\"Non-endemic\",INTRO!$E$41=\"Non-endemic\"),\" \",IF(COUNTRY_INFO!B155=0,\" \",COUNTRY_INFO!B155))","v":"Upper East"},{"$f":"IF(AND(INTRO!$E$37=\"Non-endemic\",INTRO!$E$41=\"Non-endemic\"),\" \",IF(COUNTRY_INFO!C155=0,\" \",COUNTRY_INFO!C155))","v":"Pusiga"},{"$f":"IF(AND(INTRO!$E$37=\"Non-endemic\",INTRO!$E$41=\"Non-endemic\"),0,IF(AND(OR(COUNTRY_INFO!$H155=0,COUNTRY_INFO!$H155=4,COUNTRY_INFO!$H155=99),OR(COUNTRY_INFO!$J155=0,COUNTRY_INFO!$J155=4)),0,COUNTRY_INFO!$E155))","v":7015},{"$f":"IF(AND(INTRO!$E$37=\"Non-endemic\",INTRO!$E$41=\"Non-endemic\"),0,IF(AND(OR(COUNTRY_INFO!$H155=0,COUNTRY_INFO!$H155=4,COUNTRY_INFO!$H155=99),OR(COUNTRY_INFO!$J155=0,COUNTRY_INFO!$J155=4)),0,COUNTRY_INFO!$F155))","v":15913},22928,{"$f":"IF(AND(INTRO!$E$37=\"Non-endemic\",INTRO!$E$41=\"Non-endemic\"),0,COUNTRY_INFO!P155)","v":0},{"$f":"IF(AND(INTRO!$E$37=\"Non-endemic\",INTRO!$E$41=\"Non-endemic\"),0,COUNTRY_INFO!R155)","v":1},{"$f":"IF(INTRO!$E$39=\"Non-endemic\",IF($G155=1,DEC!I155,0),IF($G155=1,IVM!G155,0))","v":0},"ALB",{"$f":"IF($J155=\"ALB\", IF(INTRO!$E$39=\"Non-endemic\", IF($H155<>0, IF($I155=0, $D155*$H155, $D155*($H155-$G155)), 0), $D155*$H155), 0)","v":7015},15913,null,22928,{"$f":"IF($J155=\"MBD\", IF(INTRO!$E$39=\"Non-endemic\", IF($H155<>0, IF($I155=0, $D155*$H155, $D155*($H155-$G155)), 0), $D155*$H155), 0)","v":0},0,null,0,null,0,0,null,15913,80,null,0,0]
[{"$f":"IF(AND(INTRO!$E$37=\"Non-endemic\",INTRO!$E$41=\"Non-endemic\"),\" \",IF(COUNTRY_INFO!A156=0,\" \",COUNTRY_INFO!A156))","v":"Ghana"},{"$f":"IF(AND(INTRO!$E$37=\"Non-endemic\",INTRO!$E$41=\"Non-endemic\"),\" \",IF(COUNTRY_INFO!B156=0,\" \",COUNTRY_INFO!B156))","v":"Upper East"},{"$f":"IF(AND(INTRO!$E$37=\"Non-endemic\",INTRO!$E$41=\"Non-endemic\"),\" \",IF(COUNTRY_INFO!C156=0,\" \",COUNTRY_INFO!C156))","v":"Binduri"},{"$f":"IF(AND(INTRO!$E$37=\"Non-endemic\",INTRO!$E$41=\"Non-endemic\"),0,IF(AND(OR(COUNTRY_INFO!$H156=0,COUNTRY_INFO!$H156=4,COUNTRY_INFO!$H156=99),OR(COUNTRY_INFO!$J156=0,COUNTRY_INFO!$J156=4)),0,COUNTRY_INFO!$E156))","v":7489},{"$f":"IF(AND(INTRO!$E$37=\"Non-endemic\",INTRO!$E$41=\"Non-endemic\"),0,IF(AND(OR(COUNTRY_INFO!$H156=0,COUNTRY_INFO!$H156=4,COUNTRY_INFO!$H156=99),OR(COUNTRY_INFO!$J156=0,COUNTRY_INFO!$J156=4)),0,COUNTRY_INFO!$F156))","v":16989},24478,{"$f":"IF(AND(INTRO!$E$37=\"Non-endemic\",INTRO!$E$41=\"Non-endemic\"),0,COUNTRY_INFO!P156)","v":0},{"$f":"IF(AND(INTRO!$E$37=\"Non-endemic\",INTRO!$E$41=\"Non-endemic\"),0,COUNTRY_INFO!R156)","v":1},{"$f":"IF(INTRO!$E$39=\"Non-endemic\",IF($G156=1,DEC!I156,0),IF($G156=1,IVM!G156,0))","v":0},"ALB",{"$f":"IF($J156=\"ALB\", IF(INTRO!$E$39=\"Non-endemic\", IF($H156<>0, IF($I156=0, $D156*$H156, $D156*($H156-$G156)), 0), $D156*$H156), 0)","v":7489},16989,null,24478,{"$f":"IF($J156=\"MBD\", IF(INTRO!$E$39=\"Non-endemic\", IF($H156<>0, IF($I156=0, $D156*$H156, $D156*($H156-$G156)), 0), $D156*$H156), 0)","v":0},0,null,0,null,0,0,null,16989,85,null,0,0]
[{"$f":"IF(AND(INTRO!$E$37=\"Non-endemic\",INTRO!$E$41=\"Non-endemic\"),\" \",IF(COUNTRY_INFO!A157=0,\" \",COUNTRY_INFO!A157))","v":"Ghana"},{"$f":"IF(AND(INTRO!$E$37=\"Non-endemic\",INTRO!$E$41=\"Non-endemic\"),\" \",IF(COUNTRY_INFO!B157=0,\" \",COUNTRY_INFO!B157))","v":"Upper East"},{"$f":"IF(AND(INTRO!$E$37=\"Non-endemic\",INTRO!$E$41=\"Non-endemic\"),\" \",IF(COUNTRY_INFO!C157=0,\" \",COUNTRY_INFO!C157))","v":"Bawku West"},{"$f":"IF(AND(INTRO!$E$37=\"Non-endemic\",INTRO!$E$41=\"Non-endemic\"),0,IF(AND(OR(COUNTRY_INFO!$H157=0,COUNTRY_INFO!$H157=4,COUNTRY_INFO!$H157=99),OR(COUNTRY_INFO!$J157=0,COUNTRY_INFO!$J157=4)),0,COUNTRY_INFO!$E157))","v":11436},{"$f":"IF(AND(INTRO!$E$37=\"Non-endemic\",INTRO!$E$41=\"Non-endemic\"),0,IF(AND(OR(COUNTRY_INFO!$H157=0,COUNTRY_INFO!$H157=4,COUNTRY_INFO!$H157=99),OR(COUNTRY_INFO!$J157=0,COUNTRY_INFO!$J157=4)),0,COUNTRY_INFO!$F157))","v":25944},37380,{"$f":"IF(AND(INTRO!$E$37=\"Non-endemic\",INTRO!$E$41=\"Non-endemic\"),0,COUNTRY_INFO!P157)","v":0},{"$f":"IF(AND(INTRO!$E$37=\"Non-endemic\",INTRO!$E$41=\"Non-endemic\"),0,COUNTRY_INFO!R157)","v":1},{"$f":"IF(INTRO!$E$39=\"Non-endemic\",IF($G157=1,DEC!I157,0),IF($G157=1,IVM!G157,0))","v":0},"ALB",{"$f":"IF($J157=\"ALB\", IF(INTRO!$E$39=\"Non-endemic\", IF($H157<>0, IF($I157=0, $D157*$H157, $D157*($H157-$G157)), 0), $D157*$H157), 0)","v":11436},25944,null,37380,{"$f":"IF($J157=\"MBD\", IF(INTRO!$E$39=\"Non-endemic\", IF($H157<>0, IF($I157=0, $D157*$H157, $D157*($H157-$G157)), 0), $D157*$H157), 0)","v":0},0,null,0,null,0,0,null,25944,130,null,0,0]
[{"$f":"IF(AND(INTRO!$E$37=\"Non-endemic\",INTRO!$E$41=\"Non-endemic\"),\" \",IF(COUNTRY_INFO!A158=0,\" \",COUNTRY_INFO!A158))","v":"Ghana"},{"$f":"IF(AND(INTRO!$E$37=\"Non-endemic\",INTRO!$E$41=\"Non-endemic\"),\" \",IF(COUNTRY_INFO!B158=0,\" \",COUNTRY_INFO!B158))","v":"Upper East"},{"$f":"IF(AND(INTRO!$E$37=\"Non-endemic\",INTRO!$E$41=\"Non-endemic\"),\" \",IF(COUNTRY_INFO!C158=0,\" \",COUNTRY_INFO!C158))","v":"Bolgatanga Municipal"},{"$f":"IF(AND(INTRO!$E$37=\"Non-endemic\",INTRO!$E$41=\"Non-endemic\"),0,IF(AND(OR(COUNTRY_INFO!$H158=0,COUNTRY_INFO!$H158=4,COUNTRY_INFO!$H158=99),OR(COUNTRY_INFO!$J158=0,COUNTRY_INFO!$J158=4)),0,COUNTRY_INFO!$E158))","v":15999},{"$f":"IF(AND(INTRO!$E$37=\"Non-endemic\",INTRO!$E$41=\"Non-endemic\"),0,IF(AND(OR(COUNTRY_INFO!$H158=0,COUNTRY_INFO!$H158=4,COUNTRY_INFO!$H158=99),OR(COUNTRY_INFO!$J158=0,COUNTRY_INFO!$J158=4)),0,COUNTRY_INFO!$F158))","v":36294},52293,{"$f":"IF(AND(INTRO!$E$37=\"Non-endemic\",INTRO!$E$41=\"Non-endemic\"),0,COUNTRY_INFO!P158)","v":0},{"$f":"IF(AND(INTRO!$E$37=\"Non-endemic\",INTRO!$E$41=\"Non-endemic\"),0,COUNTRY_INFO!R158)","v":1},{"$f":"IF(INTRO!$E$39=\"Non-endemic\",IF($G158=1,DEC!I158,0),IF($G158=1,IVM!G158,0))","v":0},"ALB",{"$f":"IF($J158=\"ALB\", IF(INTRO!$E$39=\"Non-endemic\", IF($H158<>0, IF($I158=0, $D158*$H158, $D158*($H158-$G158)), 0), $D158*$H158), 0)","v":15999},36294,null,52293,{"$f":"IF($J158=\"MBD\", IF(INTRO!$E$39=\"Non-endemic\", IF($H158<>0, IF($I158=0, $D158*$H158, $D158*($H158-$G158)), 0), $D158*$H158), 0)","v":0},0,null,0,null,0,0,null,36294,182,null,0,0]
[{"$f":"IF(AND(INTRO!$E$37=\"Non-endemic\",INTRO!$E$41=\"Non-endemic\"),\" \",IF(COUNTRY_INFO!A159=0,\" \",COUNTRY_INFO!A159))","v":"Ghana"},{"$f":"IF(AND(INTRO!$E$37=\"Non-endemic\",INTRO!$E$41=\"Non-endemic\"),\" \",IF(COUNTRY_INFO!B159=0,\" \",COUNTRY_INFO!B159))","v":"Upper East"},{"$f":"IF(AND(INTRO!$E$37=\"Non-endemic\",INTRO!$E$41=\"Non-endemic\"),\" \",IF(COUNTRY_INFO!C159=0,\" \",COUNTRY_INFO!C159))","v":"Bongo"},{"$f":"IF(AND(INTRO!$E$37=\"Non-endemic\",INTRO!$E$41=\"Non-endemic\"),0,IF(AND(OR(COUNTRY_INFO!$H159=0,COUNTRY_INFO!$H159=4,COUNTRY_INFO!$H159=99),OR(COUNTRY_INFO!$J159=0,COUNTRY_INFO!$J159=4)),0,COUNTRY_INFO!$E159))","v":10282},{"$f":"IF(AND(INTRO!$E$37=\"Non-endemic\",INTRO!$E$41=\"Non-endemic\"),0,IF(AND(OR(COUNTRY_INFO!$H159=0,COUNTRY_INFO!$H159=4,COUNTRY_INFO!$H159=99),OR(COUNTRY_INFO!$J159=0,COUNTRY_INFO!$J159=4)),0,COUNTRY_INFO!$F159))","v":23326},33608,{"$f":"IF(AND(INTRO!$E$37=\"Non-endemic\",INTRO!$E$41=\"Non-endemic\"),0,COUNTRY_INFO!P159)","v":0},{"$f":"IF(AND(INTRO!$E$37=\"Non-endemic\",INTRO!$E$41=\"Non-endemic\"),0,COUNTRY_INFO!R159)","v":1},{"$f":"IF(INTRO!$E$39=\"Non-endemic\",IF($G159=1,DEC!I159,0),IF($G159=1,IVM!G159,0))","v":0},"ALB",{"$f":"IF($J159=\"ALB\", IF(INTRO!$E$39=\"Non-endemic\", IF($H159<>0, IF($I159=0, $D159*$H159, $D159*($H159-$G159)), 0), $D159*$H159), 0)","v":10282},23326,null,33608,{"$f":"IF($J159=\"MBD\", IF(INTRO!$E$39=\"Non-endemic\", IF($H159<>0, IF($I159=0, $D159*$H159, $D159*($H159-$G159)), 0), $D159*$H159), 0)","v":0},0,null,0,null,0,0,null,23326,117,null,0,0]
[{"$f":"IF(AND(INTRO!$E$37=\"Non-endemic\",INTRO!$E$41=\"Non-endemic\"),\" \",IF(COUNTRY_INFO!A160=0,\" \",COUNTRY_INFO!A160))","v":"Ghana"},{"$f":"IF(AND(INTRO!$E$37=\"Non-endemic\",INTRO!$E$41=\"Non-endemic\"),\" \",IF(COUNTRY_INFO!B160=0,\" \",COUNTRY_INFO!B160))","v":"Upper East"},{"$f":"IF(AND(INTRO!$E$37=\"Non-endemic\",INTRO!$E$41=\"Non-endemic\"),\" \",IF(COUNTRY_INFO!C160=0,\" \",COUNTRY_INFO!C160))","v":"Builsa North"},{"$f":"IF(AND(INTRO!$E$37=\"Non-endemic\",INTRO!$E$41=\"Non-endemic\"),0,IF(AND(OR(COUNTRY_INFO!$H160=0,COUNTRY_INFO!$H160=4,COUNTRY_INFO!$H160=99),OR(COUNTRY_INFO!$J160=0,COUNTRY_INFO!$J160=4)),0,COUNTRY_INFO!$E160))","v":6869},{"$f":"IF(AND(INTRO!$E$37=\"Non-endemic\",INTRO!$E$41=\"Non-endemic\"),0,IF(AND(OR(COUNTRY_INFO!$H160=0,COUNTRY_INFO!$H160=4,COUNTRY_INFO!$H160=99),OR(COUNTRY_INFO!$J160=0,COUNTRY_INFO!$J160=4)),0,COUNTRY_INFO!$F160))","v":15582},22451,{"$f":"IF(AND(INTRO!$E$37=\"Non-endemic\",INTRO!$E$41=\"Non-endemic\"),0,COUNTRY_INFO!P160)","v":0},{"$f":"IF(AND(INTRO!$E$37=\"Non-endemic\",INTRO!$E$41=\"Non-endemic\"),0,COUNTRY_INFO!R160)","v":1},{"$f":"IF(INTRO!$E$39=\"Non-endemic\",IF($G160=1,DEC!I160,0),IF($G160=1,IVM!G160,0))","v":0},"ALB",{"$f":"IF($J160=\"ALB\", IF(INTRO!$E$39=\"Non-endemic\", IF($H160<>0, IF($I160=0, $D160*$H160, $D160*($H160-$G160)), 0), $D160*$H160), 0)","v":6869},15582,null,22451,{"$f":"IF($J160=\"MBD\", IF(INTRO!$E$39=\"Non-endemic\", IF($H160<>0, IF($I160=0, $D160*$H160, $D160*($H160-$G160)), 0), $D160*$H160), 0)","v":0},0,null,0,null,0,0,null,15582,78,null,0,0]
[{"$f":"IF(AND(INTRO!$E$37=\"Non-endemic\",INTRO!$E$41=\"Non-endemic\"),\" \",IF(COUNTRY_INFO!A161=0,\" \",COUNTRY_INFO!A161))","v":"Ghana"},{"$f":"IF(AND(INTRO!$E$37=\"Non-endemic\",INTRO!$E$41=\"Non-endemic\"),\" \",IF(COUNTRY_INFO!B161=0,\" \",COUNTRY_INFO!B161))","v":"Upper East"},{"$f":"IF(AND(INTRO!$E$37=\"Non-endemic\",INTRO!$E$41=\"Non-endemic\"),\" \",IF(COUNTRY_INFO!C161=0,\" \",COUNTRY_INFO!C161))","v":"Builsa South"},{"$f":"IF(AND(INTRO!$E$37=\"Non-endemic\",INTRO!$E$41=\"Non-endemic\"),0,IF(AND(OR(COUNTRY_INFO!$H161=0,COUNTRY_INFO!$H161=4,COUNTRY_INFO!$H161=99),OR(COUNTRY_INFO!$J161=0,COUNTRY_INFO!$J161=4)),0,COUNTRY_INFO!$E161))","v":4441},{"$f":"IF(AND(INTRO!$E$37=\"Non-endemic\",INTRO!$E$41=\"Non-endemic\"),0,IF(AND(OR(COUNTRY_INFO!$H161=0,COUNTRY_INFO!$H161=4,COUNTRY_INFO!$H161=99),OR(COUNTRY_INFO!$J161=0,COUNTRY_INFO!$J161=4)),0,COUNTRY_INFO!$F161))","v":10074},14515,{"$f":"IF(AND(INTRO!$E$37=\"Non-endemic\",INTRO!$E$41=\"Non-endemic\"),0,COUNTRY_INFO!P161)","v":0},{"$f":"IF(AND(INTRO!$E$37=\"Non-endemic\",INTRO!$E$41=\"Non-endemic\"),0,COUNTRY_INFO!R161)","v":1},{"$f":"IF(INTRO!$E$39=\"Non-endemic\",IF($G161=1,DEC!I161,0),IF($G161=1,IVM!G161,0))","v":0},"ALB",{"$f":"IF($J161=\"ALB\", IF(INTRO!$E$39=\"Non-endemic\", IF($H161<>0, IF($I161=0, $D161*$H161, $D161*($H161-$G161)), 0), $D161*$H161), 0)","v":4441},10074,null,14515,{"$f":"IF($J161=\"MBD\", IF(INTRO!$E$39=\"Non-endemic\", IF($H161<>0, IF($I161=0, $D161*$H161, $D161*($H161-$G161)), 0), $D161*$H161), 0)","v":0},0,null,0,null,0,0,null,10074,51,null,0,0]
[{"$f":"IF(AND(INTRO!$E$37=\"Non-endemic\",INTRO!$E$41=\"Non-endemic\"),\" \",IF(COUNTRY_INFO!A162=0,\" \",COUNTRY_INFO!A162))","v":"Ghana"},{"$f":"IF(AND(INTRO!$E$37=\"Non-endemic\",INTRO!$E$41=\"Non-endemic\"),\" \",IF(COUNTRY_INFO!B162=0,\" \",COUNTRY_INFO!B162))","v":"Upper East"},{"$f":"IF(AND(INTRO!$E$37=\"Non-endemic\",INTRO!$E$41=\"Non-endemic\"),\" \",IF(COUNTRY_INFO!C162=0,\" \",COUNTRY_INFO!C162))","v":"Garu-Tempane"},{"$f":"IF(AND(INTRO!$E$37=\"Non-endemic\",INTRO!$E$41=\"Non-endemic\"),0,IF(AND(OR(COUNTRY_INFO!$H162=0,COUNTRY_INFO!$H162=4,COUNTRY_INFO!$H162=99),OR(COUNTRY_INFO!$J162=0,COUNTRY_INFO!$J162=4)),0,COUNTRY_INFO!$E162))","v":15811},{"$f":"IF(AND(INTRO!$E$37=\"Non-endemic\",INTRO!$E$41=\"Non-endemic\"),0,IF(AND(OR(COUNTRY_INFO!$H162=0,COUNTRY_INFO!$H162=4,COUNTRY_INFO!$H162=99),OR(COUNTRY_INFO!$J162=0,COUNTRY_INFO!$J162=4)),0,COUNTRY_INFO!$F162))","v":35867},51678,{"$f":"IF(AND(INTRO!$E$37=\"Non-endemic\",INTRO!$E$41=\"Non-endemic\"),0,COUNTRY_INFO!P162)","v":0},{"$f":"IF(AND(INTRO!$E$37=\"Non-endemic\",INTRO!$E$41=\"Non-endemic\"),0,COUNTRY_INFO!R162)","v":1},{"$f":"IF(INTRO!$E$39=\"Non-endemic\",IF($G162=1,DEC!I162,0),IF($G162=1,IVM!G162,0))","v":0},"ALB",{"$f":"IF($J162=\"ALB\", IF(INTRO!$E$39=\"Non-endemic\", IF($H162<>0, IF($I162=0, $D162*$H162, $D162*($H162-$G162)), 0), $D162*$H162), 0)","v":15811},35867,null,51678,{"$f":"IF($J162=\"MBD\", IF(INTRO!$E$39=\"Non-endemic\", IF($H162<>0, IF($I162=0, $D162*$H162, $D162*($H162-$G162)), 0), $D162*$H162), 0)","v":0},0,null,0,null,0,0,null,35867,180,null,0,0]
[{"$f":"IF(AND(INTRO!$E$37=\"Non-endemic\",INTRO!$E$41=\"Non-endemic\"),\" \",IF(COUNTRY_INFO!A163=0,\" \",COUNTRY_INFO!A163))","v":"Ghana"},{"$f":"IF(AND(INTRO!$E$37=\"Non-endemic\",INTRO!$E$41=\"Non-endemic\"),\" \",IF(COUNTRY_INFO!B163=0,\" \",COUNTRY_INFO!B163))","v":"Upper East"},{"$f":"IF(AND(INTRO!$E$37=\"Non-endemic\",INTRO!$E$41=\"Non-endemic\"),\" \",IF(COUNTRY_INFO!C163=0,\" \",COUNTRY_INFO!C163))","v":"Kassena-Nankana"},{"$f":"IF(AND(INTRO!$E$37=\"Non-endemic\",INTRO!$E$41=\"Non-endemic\"),0,IF(AND(OR(COUNTRY_INFO!$H163=0,COUNTRY_INFO!$H163=4,COUNTRY_INFO!$H163=99),OR(COUNTRY_INFO!$J163=0,COUNTRY_INFO!$J163=4)),0,COUNTRY_INFO!$E163))","v":13371},{"$f":"IF(AND(INTRO!$E$37=\"Non-endemic\",INTRO!$E$41=\"Non-endemic\"),0,IF(AND(OR(COUNTRY_INFO!$H163=0,COUNTRY_INFO!$H163=4,COUNTRY_INFO!$H163=99),OR(COUNTRY_INFO!$J163=0,COUNTRY_INFO!$J163=4)),0,COUNTRY_INFO!$F163))","v":30333},43704,{"$f":"IF(AND(INTRO!$E$37=\"Non-endemic\",INTRO!$E$41=\"Non-endemic\"),0,COUNTRY_INFO!P163)","v":0},{"$f":"IF(AND(INTRO!$E$37=\"Non-endemic\",INTRO!$E$41=\"Non-endemic\"),0,COUNTRY_INFO!R163)","v":1},{"$f":"IF(INTRO!$E$39=\"Non-endemic\",IF($G163=1,DEC!I163,0),IF($G163=1,IVM!G163,0))","v":0},"ALB",{"$f":"IF($J163=\"ALB\", IF(INTRO!$E$39=\"Non-endemic\", IF($H163<>0, IF($I163=0, $D163*$H163, $D163*($H163-$G163)), 0), $D163*$H163), 0)","v":13371},30333,null,43704,{"$f":"IF($J163=\"MBD\", IF(INTRO!$E$39=\"Non-endemic\", IF($H163<>0, IF($I163=0, $D163*$H163, $D163*($H163-$G163)), 0), $D163*$H163), 0)","v":0},0,null,0,null,0,0,null,30333,152,null,0,0]
[{"$f":"IF(AND(INTRO!$E$37=\"Non-endemic\",INTRO!$E$41=\"Non-endemic\"),\" \",IF(COUNTRY_INFO!A164=0,\" \",COUNTRY_INFO!A164))","v":"Ghana"},{"$f":"IF(AND(INTRO!$E$37=\"Non-endemic\",INTRO!$E$41=\"Non-endemic\"),\" \",IF(COUNTRY_INFO!B164=0,\" \",COUNTRY_INFO!B164))","v":"Upper East"},{"$f":"IF(AND(INTRO!$E$37=\"Non-endemic\",INTRO!$E$41=\"Non-endemic\"),\" \",IF(COUNTRY_INFO!C164=0,\" \",COUNTRY_INFO!C164))","v":"Kassena-Nankana West"},{"$f":"IF(AND(INTRO!$E$37=\"Non-endemic\",INTRO!$E$41=\"Non-endemic\"),0,IF(AND(OR(COUNTRY_INFO!$H164=0,COUNTRY_INFO!$H164=4,COUNTRY_INFO!$H164=99),OR(COUNTRY_INFO!$J164=0,COUNTRY_INFO!$J164=4)),0,COUNTRY_INFO!$E164))","v":8595},{"$f":"IF(AND(INTRO!$E$37=\"Non-endemic\",INTRO!$E$41=\"Non-endemic\"),0,IF(AND(OR(COUNTRY_INFO!$H164=0,COUNTRY_INFO!$H164=4,COUNTRY_INFO!$H164=99),OR(COUNTRY_INFO!$J164=0,COUNTRY_INFO!$J164=4)),0,COUNTRY_INFO!$F164))","v":19497},28092,{"$f":"IF(AND(INTRO!$E$37=\"Non-endemic\",INTRO!$E$41=\"Non-endemic\"),0,COUNTRY_INFO!P164)","v":1},{"$f":"IF(AND(INTRO!$E$37=\"Non-endemic\",INTRO!$E$41=\"Non-endemic\"),0,COUNTRY_INFO!R164)","v":1},{"$f":"IF(INTRO!$E$39=\"Non-endemic\",IF($G164=1,DEC!I164,0),IF($G164=1,IVM!G164,0))","v":68597},"",{"$f":"IF($J164=\"ALB\", IF(INTRO!$E$39=\"Non-endemic\", IF($H164<>0, IF($I164=0, $D164*$H164, $D164*($H164-$G164)), 0), $D164*$H164), 0)","v":0},0,null,0,{"$f":"IF($J164=\"MBD\", IF(INTRO!$E$39=\"Non-endemic\", IF($H164<>0, IF($I164=0, $D164*$H164, $D164*($H164-$G164)), 0), $D164*$H164), 0)","v":0},0,null,0,null,68597,343,null,0,0,null,0,0]
[{"$f":"IF(AND(INTRO!$E$37=\"Non-endemic\",INTRO!$E$41=\"Non-endemic\"),\" \",IF(COUNTRY_INFO!A165=0,\" \",COUNTRY_INFO!A165))","v":"Ghana"},{"$f":"IF(AND(INTRO!$E$37=\"Non-endemic\",INTRO!$E$41=\"Non-endemic\"),\" \",IF(COUNTRY_INFO!B165=0,\" \",COUNTRY_INFO!B165))","v":"Upper East"},{"$f":"IF(AND(INTRO!$E$37=\"Non-endemic\",INTRO!$E$41=\"Non-endemic\"),\" \",IF(COUNTRY_INFO!C165=0,\" \",COUNTRY_INFO!C165))","v":"Nadbam"},{"$f":"IF(AND(INTRO!$E$37=\"Non-endemic\",INTRO!$E$41=\"Non-endemic\"),0,IF(AND(OR(COUNTRY_INFO!$H165=0,COUNTRY_INFO!$H165=4,COUNTRY_INFO!$H165=99),OR(COUNTRY_INFO!$J165=0,COUNTRY_INFO!$J165=4)),0,COUNTRY_INFO!$E165))","v":4114},{"$f":"IF(AND(INTRO!$E$37=\"Non-endemic\",INTRO!$E$41=\"Non-endemic\"),0,IF(AND(OR(COUNTRY_INFO!$H165=0,COUNTRY_INFO!$H165=4,COUNTRY_INFO!$H165=99),OR(COUNTRY_INFO!$J165=0,COUNTRY_INFO!$J165=4)),0,COUNTRY_INFO!$F165))","v":9332},13446,{"$f":"IF(AND(INTRO!$E$37=\"Non-endemic\",INTRO!$E$41=\"Non-endemic\"),0,COUNTRY_INFO!P165)","v":1},{"$f":"IF(AND(INTRO!$E$37=\"Non-endemic\",INTRO!$E$41=\"Non-endemic\"),0,COUNTRY_INFO!R165)","v":1},{"$f":"IF(INTRO!$E$39=\"Non-endemic\",IF($G165=1,DEC!I165,0),IF($G165=1,IVM!G165,0))","v":32834},"",{"$f":"IF($J165=\"ALB\", IF(INTRO!$E$39=\"Non-endemic\", IF($H165<>0, IF($I165=0, $D165*$H165, $D165*($H165-$G165)), 0), $D165*$H165), 0)","v":0},0,null,0,{"$f":"IF($J165=\"MBD\", IF(INTRO!$E$39=\"Non-endemic\", IF($H165<>0, IF($I165=0, $D165*$H165, $D165*($H165-$G165)), 0), $D165*$H165), 0)","v":0},0,null,0,null,32834,165,null,0,0,null,0,0]
[{"$f":"IF(AND(INTRO!$E$37=\"Non-endemic\",INTRO!$E$41=\"Non-endemic\"),\" \",IF(COUNTRY_INFO!A166=0,\" \",COUNTRY_INFO!A166))","v":"Ghana"},{"$f":"IF(AND(INTRO!$E$37=\"Non-endemic\",INTRO!$E$41=\"Non-endemic\"),\" \",IF(COUNTRY_INFO!B166=0,\" \",COUNTRY_INFO!B166))","v":"Upper East"},{"$f":"IF(AND(INTRO!$E$37=\"Non-endemic\",INTRO!$E$41=\"Non-endemic\"),\" \",IF(COUNTRY_INFO!C166=0,\" \",COUNTRY_INFO!C166))","v":"Talensi"},{"$f":"IF(AND(INTRO!$E$37=\"Non-endemic\",INTRO!$E$41=\"Non-endemic\"),0,IF(AND(OR(COUNTRY_INFO!$H166=0,COUNTRY_INFO!$H166=4,COUNTRY_INFO!$H166=99),OR(COUNTRY_INFO!$J166=0,COUNTRY_INFO!$J166=4)),0,COUNTRY_INFO!$E166))","v":9875},{"$f":"IF(AND(INTRO!$E$37=\"Non-endemic\",INTRO!$E$41=\"Non-endemic\"),0,IF(AND(OR(COUNTRY_INFO!$H166=0,COUNTRY_INFO!$H166=4,COUNTRY_INFO!$H166=99),OR(COUNTRY_INFO!$J166=0,COUNTRY_INFO!$J166=4)),0,COUNTRY_INFO!$F166))","v":22401},32276,{"$f":"IF(AND(INTRO!$E$37=\"Non-endemic\",INTRO!$E$41=\"Non-endemic\"),0,COUNTRY_INFO!P166)","v":0},{"$f":"IF(AND(INTRO!$E$37=\"Non-endemic\",INTRO!$E$41=\"Non-endemic\"),0,COUNTRY_INFO!R166)","v":1},{"$f":"IF(INTRO!$E$39=\"Non-endemic\",IF($G166=1,DEC!I166,0),IF($G166=1,IVM!G166,0))","v":0},"ALB",{"$f":"IF($J166=\"ALB\", IF(INTRO!$E$39=\"Non-endemic\", IF($H166<>0, IF($I166=0, $D166*$H166, $D166*($H166-$G166)), 0), $D166*$H166), 0)","v":9875},22401,null,32276,{"$f":"IF($J166=\"MBD\", IF(INTRO!$E$39=\"Non-endemic\", IF($H166<>0, IF($I166=0, $D166*$H166, $D166*($H166-$G166)), 0), $D166*$H166), 0)","v":0},0,null,0,null,0,0,null,22401,113,null,0,0]
[{"$f":"IF(AND(INTRO!$E$37=\"Non-endemic\",INTRO!$E$41=\"Non-endemic\"),\" \",IF(COUNTRY_INFO!A167=0,\" \",COUNTRY_INFO!A167))","v":"Ghana"},{"$f":"IF(AND(INTRO!$E$37=\"Non-endemic\",INTRO!$E$41=\"Non-endemic\"),\" \",IF(COUNTRY_INFO!B167=0,\" \",COUNTRY_INFO!B167))","v":"Upper West"},{"$f":"IF(AND(INTRO!$E$37=\"Non-endemic\",INTRO!$E$41=\"Non-endemic\"),\" \",IF(COUNTRY_INFO!C167=0,\" \",COUNTRY_INFO!C167))","v":"Jirapa"},{"$f":"IF(AND(INTRO!$E$37=\"Non-endemic\",INTRO!$E$41=\"Non-endemic\"),0,IF(AND(OR(COUNTRY_INFO!$H167=0,COUNTRY_INFO!$H167=4,COUNTRY_INFO!$H167=99),OR(COUNTRY_INFO!$J167=0,COUNTRY_INFO!$J167=4)),0,COUNTRY_INFO!$E167))","v":11361},{"$f":"IF(AND(INTRO!$E$37=\"Non-endemic\",INTRO!$E$41=\"Non-endemic\"),0,IF(AND(OR(COUNTRY_INFO!$H167=0,COUNTRY_INFO!$H167=4,COUNTRY_INFO!$H167=99),OR(COUNTRY_INFO!$J167=0,COUNTRY_INFO!$J167=4)),0,COUNTRY_INFO!$F167))","v":25772},37133,{"$f":"IF(AND(INTRO!$E$37=\"Non-endemic\",INTRO!$E$41=\"Non-endemic\"),0,COUNTRY_INFO!P167)","v":1},{"$f":"IF(AND(INTRO!$E$37=\"Non-endemic\",INTRO!$E$41=\"Non-endemic\"),0,COUNTRY_INFO!R167)","v":1},{"$f":"IF(INTRO!$E$39=\"Non-endemic\",IF($G167=1,DEC!I167,0),IF($G167=1,IVM!G167,0))","v":90676},"",{"$f":"IF($J167=\"ALB\", IF(INTRO!$E$39=\"Non-endemic\", IF($H167<>0, IF($I167=0, $D167*$H167, $D167*($H167-$G167)), 0), $D167*$H167), 0)","v":0},0,null,0,{"$f":"IF($J167=\"MBD\", IF(INTRO!$E$39=\"Non-endemic\", IF($H167<>0, IF($I167=0, $D167*$H167, $D167*($H167-$G167)), 0), $D167*$H167), 0)","v":0},0,null,0,null,90676,454,null,0,0,null,0,0]
[{"$f":"IF(AND(INTRO!$E$37=\"Non-endemic\",INTRO!$E$41=\"Non-endemic\"),\" \",IF(COUNTRY_INFO!A168=0,\" \",COUNTRY_INFO!A168))","v":"Ghana"},{"$f":"IF(AND(INTRO!$E$37=\"Non-endemic\",INTRO!$E$41=\"Non-endemic\"),\" \",IF(COUNTRY_INFO!B168=0,\" \",COUNTRY_INFO!B168))","v":"Upper West"},{"$f":"IF(AND(INTRO!$E$37=\"Non-endemic\",INTRO!$E$41=\"Non-endemic\"),\" \",IF(COUNTRY_INFO!C168=0,\" \",COUNTRY_INFO!C168))","v":"Lambussie"},{"$f":"IF(AND(INTRO!$E$37=\"Non-endemic\",INTRO!$E$41=\"Non-endemic\"),0,IF(AND(OR(COUNTRY_INFO!$H168=0,COUNTRY_INFO!$H168=4,COUNTRY_INFO!$H168=99),OR(COUNTRY_INFO!$J168=0,COUNTRY_INFO!$J168=4)),0,COUNTRY_INFO!$E168))","v":6638},{"$f":"IF(AND(INTRO!$E$37=\"Non-endemic\",INTRO!$E$41=\"Non-endemic\"),0,IF(AND(OR(COUNTRY_INFO!$H168=0,COUNTRY_INFO!$H168=4,COUNTRY_INFO!$H168=99),OR(COUNTRY_INFO!$J168=0,COUNTRY_INFO!$J168=4)),0,COUNTRY_INFO!$F168))","v":15059},21697,{"$f":"IF(AND(INTRO!$E$37=\"Non-endemic\",INTRO!$E$41=\"Non-endemic\"),0,COUNTRY_INFO!P168)","v":0},{"$f":"IF(AND(INTRO!$E$37=\"Non-endemic\",INTRO!$E$41=\"Non-endemic\"),0,COUNTRY_INFO!R168)","v":1},{"$f":"IF(INTRO!$E$39=\"Non-endemic\",IF($G168=1,DEC!I168,0),IF($G168=1,IVM!G168,0))","v":0},"ALB",{"$f":"IF($J168=\"ALB\", IF(INTRO!$E$39=\"Non-endemic\", IF($H168<>0, IF($I168=0, $D168*$H168, $D168*($H168-$G168)), 0), $D168*$H168), 0)","v":6638},15059,null,21697,{"$f":"IF($J168=\"MBD\", IF(INTRO!$E$39=\"Non-endemic\", IF($H168<>0, IF($I168=0, $D168*$H168, $D168*($H168-$G168)), 0), $D168*$H168), 0)","v":0},0,null,0,null,0,0,null,15059,76,null,0,0]
[{"$f":"IF(AND(INTRO!$E$37=\"Non-endemic\",INTRO!$E$41=\"Non-endemic\"),\" \",IF(COUNTRY_INFO!A169=0,\" \",COUNTRY_INFO!A169))","v":"Ghana"},{"$f":"IF(AND(INTRO!$E$37=\"Non-endemic\",INTRO!$E$41=\"Non-endemic\"),\" \",IF(COUNTRY_INFO!B169=0,\" \",COUNTRY_INFO!B169))","v":"Upper West"},{"$f":"IF(AND(INTRO!$E$37=\"Non-endemic\",INTRO!$E$41=\"Non-endemic\"),\" \",IF(COUNTRY_INFO!C169=0,\" \",COUNTRY_INFO!C169))","v":"Lawra"},{"$f":"IF(AND(INTRO!$E$37=\"Non-endemic\",INTRO!$E$41=\"Non-endemic\"),0,IF(AND(OR(COUNTRY_INFO!$H169=0,COUNTRY_INFO!$H169=4,COUNTRY_INFO!$H169=99),OR(COUNTRY_INFO!$J169=0,COUNTRY_INFO!$J169=4)),0,COUNTRY_INFO!$E169))","v":7150},{"$f":"IF(AND(INTRO!$E$37=\"Non-endemic\",INTRO!$E$41=\"Non-endemic\"),0,IF(AND(OR(COUNTRY_INFO!$H169=0,COUNTRY_INFO!$H169=4,COUNTRY_INFO!$H169=99),OR(COUNTRY_INFO!$J169=0,COUNTRY_INFO!$J169=4)),0,COUNTRY_INFO!$F169))","v":16219},23369,{"$f":"IF(AND(INTRO!$E$37=\"Non-endemic\",INTRO!$E$41=\"Non-endemic\"),0,COUNTRY_INFO!P169)","v":1},{"$f":"IF(AND(INTRO!$E$37=\"Non-endemic\",INTRO!$E$41=\"Non-endemic\"),0,COUNTRY_INFO!R169)","v":1},{"$f":"IF(INTRO!$E$39=\"Non-endemic\",IF($G169=1,DEC!I169,0),IF($G169=1,IVM!G169,0))","v":57064},"",{"$f":"IF($J169=\"ALB\", IF(INTRO!$E$39=\"Non-endemic\", IF($H169<>0, IF($I169=0, $D169*$H169, $D169*($H169-$G169)), 0), $D169*$H169), 0)","v":0},0,null,0,{"$f":"IF($J169=\"MBD\", IF(INTRO!$E$39=\"Non-endemic\", IF($H169<>0, IF($I169=0, $D169*$H169, $D169*($H169-$G169)), 0), $D169*$H169), 0)","v":0},0,null,0,null,57064,286,null,0,0,null,0,0]
[{"$f":"IF(AND(INTRO!$E$37=\"Non-endemic\",INTRO!$E$41=\"Non-endemic\"),\" \",IF(COUNTRY_INFO!A170=0,\" \",COUNTRY_INFO!A170))","v":"Ghana"},{"$f":"IF(AND(INTRO!$E$37=\"Non-endemic\",INTRO!$E$41=\"Non-endemic\"),\" \",IF(COUNTRY_INFO!B170=0,\" \",COUNTRY_INFO!B170))","v":"Upper West"},{"$f":"IF(AND(INTRO!$E$37=\"Non-endemic\",INTRO!$E$41=\"Non-endemic\"),\" \",IF(COUNTRY_INFO!C170=0,\" \",COUNTRY_INFO!C170))","v":"Nandom"},{"$f":"IF(AND(INTRO!$E$37=\"Non-endemic\",INTRO!$E$41=\"Non-endemic\"),0,IF(AND(OR(COUNTRY_INFO!$H170=0,COUNTRY_INFO!$H170=4,COUNTRY_INFO!$H170=99),OR(COUNTRY_INFO!$J170=0,COUNTRY_INFO!$J170=4)),0,COUNTRY_INFO!$E170))","v":5821},{"$f":"IF(AND(INTRO!$E$37=\"Non-endemic\",INTRO!$E$41=\"Non-endemic\"),0,IF(AND(OR(COUNTRY_INFO!$H170=0,COUNTRY_INFO!$H170=4,COUNTRY_INFO!$H170=99),OR(COUNTRY_INFO!$J170=0,COUNTRY_INFO!$J170=4)),0,COUNTRY_INFO!$F170))","v":13206},19027,{"$f":"IF(AND(INTRO!$E$37=\"Non-endemic\",INTRO!$E$41=\"Non-endemic\"),0,COUNTRY_INFO!P170)","v":0},{"$f":"IF(AND(INTRO!$E$37=\"Non-endemic\",INTRO!$E$41=\"Non-endemic\"),0,COUNTRY_INFO!R170)","v":1},{"$f":"IF(INTRO!$E$39=\"Non-endemic\",IF($G170=1,DEC!I170,0),IF($G170=1,IVM!G170,0))","v":0},"ALB",{"$f":"IF($J170=\"ALB\", IF(INTRO!$E$39=\"Non-endemic\", IF($H170<>0, IF($I170=0, $D170*$H170, $D170*($H170-$G170)), 0), $D170*$H170), 0)","v":5821},13206,null,19027,{"$f":"IF($J170=\"MBD\", IF(INTRO!$E$39=\"Non-endemic\", IF($H170<>0, IF($I170=0, $D170*$H170, $D170*($H170-$G170)), 0), $D170*$H170), 0)","v":0},0,null,0,null,0,0,null,13206,67,null,0,0]
[{"$f":"IF(AND(INTRO!$E$37=\"Non-endemic\",INTRO!$E$41=\"Non-endemic\"),\" \",IF(COUNTRY_INFO!A171=0,\" \",COUNTRY_INFO!A171))","v":"Ghana"},{"$f":"IF(AND(INTRO!$E$37=\"Non-endemic\",INTRO!$E$41=\"Non-endemic\"),\" \",IF(COUNTRY_INFO!B171=0,\" \",COUNTRY_INFO!B171))","v":"Upper West"},{"$f":"IF(AND(INTRO!$E$37=\"Non-endemic\",INTRO!$E$41=\"Non-endemic\"),\" \",IF(COUNTRY_INFO!C171=0,\" \",COUNTRY_INFO!C171))","v":"Nadowli"},{"$f":"IF(AND(INTRO!$E$37=\"Non-endemic\",INTRO!$E$41=\"Non-endemic\"),0,IF(AND(OR(COUNTRY_INFO!$H171=0,COUNTRY_INFO!$H171=4,COUNTRY_INFO!$H171=99),OR(COUNTRY_INFO!$J171=0,COUNTRY_INFO!$J171=4)),0,COUNTRY_INFO!$E171))","v":7943},{"$f":"IF(AND(INTRO!$E$37=\"Non-endemic\",INTRO!$E$41=\"Non-endemic\"),0,IF(AND(OR(COUNTRY_INFO!$H171=0,COUNTRY_INFO!$H171=4,COUNTRY_INFO!$H171=99),OR(COUNTRY_INFO!$J171=0,COUNTRY_INFO!$J171=4)),0,COUNTRY_INFO!$F171))","v":18018},25961,{"$f":"IF(AND(INTRO!$E$37=\"Non-endemic\",INTRO!$E$41=\"Non-endemic\"),0,COUNTRY_INFO!P171)","v":0},{"$f":"IF(AND(INTRO!$E$37=\"Non-endemic\",INTRO!$E$41=\"Non-endemic\"),0,COUNTRY_INFO!R171)","v":1},{"$f":"IF(INTRO!$E$39=\"Non-endemic\",IF($G171=1,DEC!I171,0),IF($G171=1,IVM!G171,0))","v":0},"ALB",{"$f":"IF($J171=\"ALB\", IF(INTRO!$E$39=\"Non-endemic\", IF($H171<>0, IF($I171=0, $D171*$H171, $D171*($H171-$G171)), 0), $D171*$H171), 0)","v":7943},18018,null,25961,{"$f":"IF($J171=\"MBD\", IF(INTRO!$E$39=\"Non-endemic\", IF($H171<>0, IF($I171=0, $D171*$H171, $D171*($H171-$G171)), 0), $D171*$H171), 0)","v":0},0,null,0,null,0,0,null,18018,91,null,0,0]
[{"$f":"IF(AND(INTRO!$E$37=\"Non-endemic\",INTRO!$E$41=\"Non-endemic\"),\" \",IF(COUNTRY_INFO!A172=0,\" \",COUNTRY_INFO!A172))","v":"Ghana"},{"$f":"IF(AND(INTRO!$E$37=\"Non-endemic\",INTRO!$E$41=\"Non-endemic\"),\" \",IF(COUNTRY_INFO!B172=0,\" \",COUNTRY_INFO!B172))","v":"Upper West"},{"$f":"IF(AND(INTRO!$E$37=\"Non-endemic\",INTRO!$E$41=\"Non-endemic\"),\" \",IF(COUNTRY_INFO!C172=0,\" \",COUNTRY_INFO!C172))","v":"Daffiama Bussie Issa"},{"$f":"IF(AND(INTRO!$E$37=\"Non-endemic\",INTRO!$E$41=\"Non-endemic\"),0,IF(AND(OR(COUNTRY_INFO!$H172=0,COUNTRY_INFO!$H172=4,COUNTRY_INFO!$H172=99),OR(COUNTRY_INFO!$J172=0,COUNTRY_INFO!$J172=4)),0,COUNTRY_INFO!$E172))","v":4187},{"$f":"IF(AND(INTRO!$E$37=\"Non-endemic\",INTRO!$E$41=\"Non-endemic\"),0,IF(AND(OR(COUNTRY_INFO!$H172=0,COUNTRY_INFO!$H172=4,COUNTRY_INFO!$H172=99),OR(COUNTRY_INFO!$J172=0,COUNTRY_INFO!$J172=4)),0,COUNTRY_INFO!$F172))","v":9499},13686,{"$f":"IF(AND(INTRO!$E$37=\"Non-endemic\",INTRO!$E$41=\"Non-endemic\"),0,COUNTRY_INFO!P172)","v":0},{"$f":"IF(AND(INTRO!$E$37=\"Non-endemic\",INTRO!$E$41=\"Non-endemic\"),0,COUNTRY_INFO!R172)","v":1},{"$f":"IF(INTRO!$E$39=\"Non-endemic\",IF($G172=1,DEC!I172,0),IF($G172=1,IVM!G172,0))","v":0},"ALB",{"$f":"IF($J172=\"ALB\", IF(INTRO!$E$39=\"Non-endemic\", IF($H172<>0, IF($I172=0, $D172*$H172, $D172*($H172-$G172)), 0), $D172*$H172), 0)","v":4187},9499,null,13686,{"$f":"IF($J172=\"MBD\", IF(INTRO!$E$39=\"Non-endemic\", IF($H172<>0, IF($I172=0, $D172*$H172, $D172*($H172-$G172)), 0), $D172*$H172), 0)","v":0},0,null,0,null,0,0,null,9499,48,null,0,0]
[{"$f":"IF(AND(INTRO!$E$37=\"Non-endemic\",INTRO!$E$41=\"Non-endemic\"),\" \",IF(COUNTRY_INFO!A173=0,\" \",COUNTRY_INFO!A173))","v":"Ghana"},{"$f":"IF(AND(INTRO!$E$37=\"Non-endemic\",INTRO!$E$41=\"Non-endemic\"),\" \",IF(COUNTRY_INFO!B173=0,\" \",COUNTRY_INFO!B173))","v":"Upper West"},{"$f":"IF(AND(INTRO!$E$37=\"Non-endemic\",INTRO!$E$41=\"Non-endemic\"),\" \",IF(COUNTRY_INFO!C173=0,\" \",COUNTRY_INFO!C173))","v":"Sissala East"},{"$f":"IF(AND(INTRO!$E$37=\"Non-endemic\",INTRO!$E$41=\"Non-endemic\"),0,IF(AND(OR(COUNTRY_INFO!$H173=0,COUNTRY_INFO!$H173=4,COUNTRY_INFO!$H173=99),OR(COUNTRY_INFO!$J173=0,COUNTRY_INFO!$J173=4)),0,COUNTRY_INFO!$E173))","v":7265},{"$f":"IF(AND(INTRO!$E$37=\"Non-endemic\",INTRO!$E$41=\"Non-endemic\"),0,IF(AND(OR(COUNTRY_INFO!$H173=0,COUNTRY_INFO!$H173=4,COUNTRY_INFO!$H173=99),OR(COUNTRY_INFO!$J173=0,COUNTRY_INFO!$J173=4)),0,COUNTRY_INFO!$F173))","v":16480},23745,{"$f":"IF(AND(INTRO!$E$37=\"Non-endemic\",INTRO!$E$41=\"Non-endemic\"),0,COUNTRY_INFO!P173)","v":0},{"$f":"IF(AND(INTRO!$E$37=\"Non-endemic\",INTRO!$E$41=\"Non-endemic\"),0,COUNTRY_INFO!R173)","v":1},{"$f":"IF(INTRO!$E$39=\"Non-endemic\",IF($G173=1,DEC!I173,0),IF($G173=1,IVM!G173,0))","v":0},"ALB",{"$f":"IF($J173=\"ALB\", IF(INTRO!$E$39=\"Non-endemic\", IF($H173<>0, IF($I173=0, $D173*$H173, $D173*($H173-$G173)), 0), $D173*$H173), 0)","v":7265},16480,null,23745,{"$f":"IF($J173=\"MBD\", IF(INTRO!$E$39=\"Non-endemic\", IF($H173<>0, IF($I173=0, $D173*$H173, $D173*($H173-$G173)), 0), $D173*$H173), 0)","v":0},0,null,0,null,0,0,null,16480,83,null,0,0]
[{"$f":"IF(AND(INTRO!$E$37=\"Non-endemic\",INTRO!$E$41=\"Non-endemic\"),\" \",IF(COUNTRY_INFO!A174=0,\" \",COUNTRY_INFO!A174))","v":"Ghana"},{"$f":"IF(AND(INTRO!$E$37=\"Non-endemic\",INTRO!$E$41=\"Non-endemic\"),\" \",IF(COUNTRY_INFO!B174=0,\" \",COUNTRY_INFO!B174))","v":"Upper West"},{"$f":"IF(AND(INTRO!$E$37=\"Non-endemic\",INTRO!$E$41=\"Non-endemic\"),\" \",IF(COUNTRY_INFO!C174=0,\" \",COUNTRY_INFO!C174))","v":"Sissala West"},{"$f":"IF(AND(INTRO!$E$37=\"Non-endemic\",INTRO!$E$41=\"Non-endemic\"),0,IF(AND(OR(COUNTRY_INFO!$H174=0,COUNTRY_INFO!$H174=4,COUNTRY_INFO!$H174=99),OR(COUNTRY_INFO!$J174=0,COUNTRY_INFO!$J174=4)),0,COUNTRY_INFO!$E174))","v":6371},{"$f":"IF(AND(INTRO!$E$37=\"Non-endemic\",INTRO!$E$41=\"Non-endemic\"),0,IF(AND(OR(COUNTRY_INFO!$H174=0,COUNTRY_INFO!$H174=4,COUNTRY_INFO!$H174=99),OR(COUNTRY_INFO!$J174=0,COUNTRY_INFO!$J174=4)),0,COUNTRY_INFO!$F174))","v":14452},20823,{"$f":"IF(AND(INTRO!$E$37=\"Non-endemic\",INTRO!$E$41=\"Non-endemic\"),0,COUNTRY_INFO!P174)","v":0},{"$f":"IF(AND(INTRO!$E$37=\"Non-endemic\",INTRO!$E$41=\"Non-endemic\"),0,COUNTRY_INFO!R174)","v":1},{"$f":"IF(INTRO!$E$39=\"Non-endemic\",IF($G174=1,DEC!I174,0),IF($G174=1,IVM!G174,0))","v":0},"ALB",{"$f":"IF($J174=\"ALB\", IF(INTRO!$E$39=\"Non-endemic\", IF($H174<>0, IF($I174=0, $D174*$H174, $D174*($H174-$G174)), 0), $D174*$H174), 0)","v":6371},14452,null,20823,{"$f":"IF($J174=\"MBD\", IF(INTRO!$E$39=\"Non-endemic\", IF($H174<>0, IF($I174=0, $D174*$H174, $D174*($H174-$G174)), 0), $D174*$H174), 0)","v":0},0,null,0,null,0,0,null,14452,73,null,0,0]
[{"$f":"IF(AND(INTRO!$E$37=\"Non-endemic\",INTRO!$E$41=\"Non-endemic\"),\" \",IF(COUNTRY_INFO!A175=0,\" \",COUNTRY_INFO!A175))","v":"Ghana"},{"$f":"IF(AND(INTRO!$E$37=\"Non-endemic\",INTRO!$E$41=\"Non-endemic\"),\" \",IF(COUNTRY_INFO!B175=0,\" \",COUNTRY_INFO!B175))","v":"Upper West"},{"$f":"IF(AND(INTRO!$E$37=\"Non-endemic\",INTRO!$E$41=\"Non-endemic\"),\" \",IF(COUNTRY_INFO!C175=0,\" \",COUNTRY_INFO!C175))","v":"Wa East"},{"$f":"IF(AND(INTRO!$E$37=\"Non-endemic\",INTRO!$E$41=\"Non-endemic\"),0,IF(AND(OR(COUNTRY_INFO!$H175=0,COUNTRY_INFO!$H175=4,COUNTRY_INFO!$H175=99),OR(COUNTRY_INFO!$J175=0,COUNTRY_INFO!$J175=4)),0,COUNTRY_INFO!$E175))","v":9263},{"$f":"IF(AND(INTRO!$E$37=\"Non-endemic\",INTRO!$E$41=\"Non-endemic\"),0,IF(AND(OR(COUNTRY_INFO!$H175=0,COUNTRY_INFO!$H175=4,COUNTRY_INFO!$H175=99),OR(COUNTRY_INFO!$J175=0,COUNTRY_INFO!$J175=4)),0,COUNTRY_INFO!$F175))","v":21012},30275,{"$f":"IF(AND(INTRO!$E$37=\"Non-endemic\",INTRO!$E$41=\"Non-endemic\"),0,COUNTRY_INFO!P175)","v":1},{"$f":"IF(AND(INTRO!$E$37=\"Non-endemic\",INTRO!$E$41=\"Non-endemic\"),0,COUNTRY_INFO!R175)","v":1},{"$f":"IF(INTRO!$E$39=\"Non-endemic\",IF($G175=1,DEC!I175,0),IF($G175=1,IVM!G175,0))","v":73929},"",{"$f":"IF($J175=\"ALB\", IF(INTRO!$E$39=\"Non-endemic\", IF($H175<>0, IF($I175=0, $D175*$H175, $D175*($H175-$G175)), 0), $D175*$H175), 0)","v":0},0,null,0,{"$f":"IF($J175=\"MBD\", IF(INTRO!$E$39=\"Non-endemic\", IF($H175<>0, IF($I175=0, $D175*$H175, $D175*($H175-$G175)), 0), $D175*$H175), 0)","v":0},0,null,0,null,73929,370,null,0,0,null,0,0]
[{"$f":"IF(AND(INTRO!$E$37=\"Non-endemic\",INTRO!$E$41=\"Non-endemic\"),\" \",IF(COUNTRY_INFO!A176=0,\" \",COUNTRY_INFO!A176))","v":"Ghana"},{"$f":"IF(AND(INTRO!$E$37=\"Non-endemic\",INTRO!$E$41=\"Non-endemic\"),\" \",IF(COUNTRY_INFO!B176=0,\" \",COUNTRY_INFO!B176))","v":"Upper West"},{"$f":"IF(AND(INTRO!$E$37=\"Non-endemic\",INTRO!$E$41=\"Non-endemic\"),\" \",IF(COUNTRY_INFO!C176=0,\" \",COUNTRY_INFO!C176))","v":"Wa Municipal"},{"$f":"IF(AND(INTRO!$E$37=\"Non-endemic\",INTRO!$E$41=\"Non-endemic\"),0,IF(AND(OR(COUNTRY_INFO!$H176=0,COUNTRY_INFO!$H176=4,COUNTRY_INFO!$H176=99),OR(COUNTRY_INFO!$J176=0,COUNTRY_INFO!$J176=4)),0,COUNTRY_INFO!$E176))","v":13779},{"$f":"IF(AND(INTRO!$E$37=\"Non-endemic\",INTRO!$E$41=\"Non-endemic\"),0,IF(AND(OR(COUNTRY_INFO!$H176=0,COUNTRY_INFO!$H176=4,COUNTRY_INFO!$H176=99),OR(COUNTRY_INFO!$J176=0,COUNTRY_INFO!$J176=4)),0,COUNTRY_INFO!$F176))","v":31257},45036,{"$f":"IF(AND(INTRO!$E$37=\"Non-endemic\",INTRO!$E$41=\"Non-endemic\"),0,COUNTRY_INFO!P176)","v":0},{"$f":"IF(AND(INTRO!$E$37=\"Non-endemic\",INTRO!$E$41=\"Non-endemic\"),0,COUNTRY_INFO!R176)","v":1},{"$f":"IF(INTRO!$E$39=\"Non-endemic\",IF($G176=1,DEC!I176,0),IF($G176=1,IVM!G176,0))","v":0},"ALB",{"$f":"IF($J176=\"ALB\", IF(INTRO!$E$39=\"Non-endemic\", IF($H176<>0, IF($I176=0, $D176*$H176, $D176*($H176-$G176)), 0), $D176*$H176), 0)","v":13779},31257,null,45036,{"$f":"IF($J176=\"MBD\", IF(INTRO!$E$39=\"Non-endemic\", IF($H176<>0, IF($I176=0, $D176*$H176, $D176*($H176-$G176)), 0), $D176*$H176), 0)","v":0},0,null,0,null,0,0,null,31257,157,null,0,0]
[{"$f":"IF(AND(INTRO!$E$37=\"Non-endemic\",INTRO!$E$41=\"Non-endemic\"),\" \",IF(COUNTRY_INFO!A177=0,\" \",COUNTRY_INFO!A177))","v":"Ghana"},{"$f":"IF(AND(INTRO!$E$37=\"Non-endemic\",INTRO!$E$41=\"Non-endemic\"),\" \",IF(COUNTRY_INFO!B177=0,\" \",COUNTRY_INFO!B177))","v":"Upper West"},{"$f":"IF(AND(INTRO!$E$37=\"Non-endemic\",INTRO!$E$41=\"Non-endemic\"),\" \",IF(COUNTRY_INFO!C177=0,\" \",COUNTRY_INFO!C177))","v":"Wa West"},{"$f":"IF(AND(INTRO!$E$37=\"Non-endemic\",INTRO!$E$41=\"Non-endemic\"),0,IF(AND(OR(COUNTRY_INFO!$H177=0,COUNTRY_INFO!$H177=4,COUNTRY_INFO!$H177=99),OR(COUNTRY_INFO!$J177=0,COUNTRY_INFO!$J177=4)),0,COUNTRY_INFO!$E177))","v":10454},{"$f":"IF(AND(INTRO!$E$37=\"Non-endemic\",INTRO!$E$41=\"Non-endemic\"),0,IF(AND(OR(COUNTRY_INFO!$H177=0,COUNTRY_INFO!$H177=4,COUNTRY_INFO!$H177=99),OR(COUNTRY_INFO!$J177=0,COUNTRY_INFO!$J177=4)),0,COUNTRY_INFO!$F177))","v":23716},34170,{"$f":"IF(AND(INTRO!$E$37=\"Non-endemic\",INTRO!$E$41=\"Non-endemic\"),0,COUNTRY_INFO!P177)","v":1},{"$f":"IF(AND(INTRO!$E$37=\"Non-endemic\",INTRO!$E$41=\"Non-endemic\"),0,COUNTRY_INFO!R177)","v":1},{"$f":"IF(INTRO!$E$39=\"Non-endemic\",IF($G177=1,DEC!I177,0),IF($G177=1,IVM!G177,0))","v":83442},"",{"$f":"IF($J177=\"ALB\", IF(INTRO!$E$39=\"Non-endemic\", IF($H177<>0, IF($I177=0, $D177*$H177, $D177*($H177-$G177)), 0), $D177*$H177), 0)","v":0},0,null,0,{"$f":"IF($J177=\"MBD\", IF(INTRO!$E$39=\"Non-endemic\", IF($H177<>0, IF($I177=0, $D177*$H177, $D177*($H177-$G177)), 0), $D177*$H177), 0)","v":0},0,null,0,null,83442,418,null,0,0,null,0,0]
[{"$f":"IF(AND(INTRO!$E$37=\"Non-endemic\",INTRO!$E$41=\"Non-endemic\"),\" \",IF(COUNTRY_INFO!A178=0,\" \",COUNTRY_INFO!A178))","v":"Ghana"},{"$f":"IF(AND(INTRO!$E$37=\"Non-endemic\",INTRO!$E$41=\"Non-endemic\"),\" \",IF(COUNTRY_INFO!B178=0,\" \",COUNTRY_INFO!B178))","v":"Volta"},{"$f":"IF(AND(INTRO!$E$37=\"Non-endemic\",INTRO!$E$41=\"Non-endemic\"),\" \",IF(COUNTRY_INFO!C178=0,\" \",COUNTRY_INFO!C178))","v":"Agotime Ziope"},{"$f":"IF(AND(INTRO!$E$37=\"Non-endemic\",INTRO!$E$41=\"Non-endemic\"),0,IF(AND(OR(COUNTRY_INFO!$H178=0,COUNTRY_INFO!$H178=4,COUNTRY_INFO!$H178=99),OR(COUNTRY_INFO!$J178=0,COUNTRY_INFO!$J178=4)),0,COUNTRY_INFO!$E178))","v":4641},{"$f":"IF(AND(INTRO!$E$37=\"Non-endemic\",INTRO!$E$41=\"Non-endemic\"),0,IF(AND(OR(COUNTRY_INFO!$H178=0,COUNTRY_INFO!$H178=4,COUNTRY_INFO!$H178=99),OR(COUNTRY_INFO!$J178=0,COUNTRY_INFO!$J178=4)),0,COUNTRY_INFO!$F178))","v":10528},15169,{"$f":"IF(AND(INTRO!$E$37=\"Non-endemic\",INTRO!$E$41=\"Non-endemic\"),0,COUNTRY_INFO!P178)","v":0},{"$f":"IF(AND(INTRO!$E$37=\"Non-endemic\",INTRO!$E$41=\"Non-endemic\"),0,COUNTRY_INFO!R178)","v":1},{"$f":"IF(INTRO!$E$39=\"Non-endemic\",IF($G178=1,DEC!I178,0),IF($G178=1,IVM!G178,0))","v":0},"ALB",{"$f":"IF($J178=\"ALB\", IF(INTRO!$E$39=\"Non-endemic\", IF($H178<>0, IF($I178=0, $D178*$H178, $D178*($H178-$G178)), 0), $D178*$H178), 0)","v":4641},10528,null,15169,{"$f":"IF($J178=\"MBD\", IF(INTRO!$E$39=\"Non-endemic\", IF($H178<>0, IF($I178=0, $D178*$H178, $D178*($H178-$G178)), 0), $D178*$H178), 0)","v":0},0,null,0,null,0,0,null,10528,53,null,0,0]
[{"$f":"IF(AND(INTRO!$E$37=\"Non-endemic\",INTRO!$E$41=\"Non-endemic\"),\" \",IF(COUNTRY_INFO!A179=0,\" \",COUNTRY_INFO!A179))","v":"Ghana"},{"$f":"IF(AND(INTRO!$E$37=\"Non-endemic\",INTRO!$E$41=\"Non-endemic\"),\" \",IF(COUNTRY_INFO!B179=0,\" \",COUNTRY_INFO!B179))","v":"Volta"},{"$f":"IF(AND(INTRO!$E$37=\"Non-endemic\",INTRO!$E$41=\"Non-endemic\"),\" \",IF(COUNTRY_INFO!C179=0,\" \",COUNTRY_INFO!C179))","v":"Adaklu"},{"$f":"IF(AND(INTRO!$E$37=\"Non-endemic\",INTRO!$E$41=\"Non-endemic\"),0,IF(AND(OR(COUNTRY_INFO!$H179=0,COUNTRY_INFO!$H179=4,COUNTRY_INFO!$H179=99),OR(COUNTRY_INFO!$J179=0,COUNTRY_INFO!$J179=4)),0,COUNTRY_INFO!$E179))","v":4034},{"$f":"IF(AND(INTRO!$E$37=\"Non-endemic\",INTRO!$E$41=\"Non-endemic\"),0,IF(AND(OR(COUNTRY_INFO!$H179=0,COUNTRY_INFO!$H179=4,COUNTRY_INFO!$H179=99),OR(COUNTRY_INFO!$J179=0,COUNTRY_INFO!$J179=4)),0,COUNTRY_INFO!$F179))","v":9151},13185,{"$f":"IF(AND(INTRO!$E$37=\"Non-endemic\",INTRO!$E$41=\"Non-endemic\"),0,COUNTRY_INFO!P179)","v":0},{"$f":"IF(AND(INTRO!$E$37=\"Non-endemic\",INTRO!$E$41=\"Non-endemic\"),0,COUNTRY_INFO!R179)","v":1},{"$f":"IF(INTRO!$E$39=\"Non-endemic\",IF($G179=1,DEC!I179,0),IF($G179=1,IVM!G179,0))","v":0},"ALB",{"$f":"IF($J179=\"ALB\", IF(INTRO!$E$39=\"Non-endemic\", IF($H179<>0, IF($I179=0, $D179*$H179, $D179*($H179-$G179)), 0), $D179*$H179), 0)","v":4034},9151,null,13185,{"$f":"IF($J179=\"MBD\", IF(INTRO!$E$39=\"Non-endemic\", IF($H179<>0, IF($I179=0, $D179*$H179, $D179*($H179-$G179)), 0), $D179*$H179), 0)","v":0},0,null,0,null,0,0,null,9151,46,null,0,0]
[{"$f":"IF(AND(INTRO!$E$37=\"Non-endemic\",INTRO!$E$41=\"Non-endemic\"),\" \",IF(COUNTRY_INFO!A180=0,\" \",COUNTRY_INFO!A180))","v":"Ghana"},{"$f":"IF(AND(INTRO!$E$37=\"Non-endemic\",INTRO!$E$41=\"Non-endemic\"),\" \",IF(COUNTRY_INFO!B180=0,\" \",COUNTRY_INFO!B180))","v":"Volta"},{"$f":"IF(AND(INTRO!$E$37=\"Non-endemic\",INTRO!$E$41=\"Non-endemic\"),\" \",IF(COUNTRY_INFO!C180=0,\" \",COUNTRY_INFO!C180))","v":"Akatsi"},{"$f":"IF(AND(INTRO!$E$37=\"Non-endemic\",INTRO!$E$41=\"Non-endemic\"),0,IF(AND(OR(COUNTRY_INFO!$H180=0,COUNTRY_INFO!$H180=4,COUNTRY_INFO!$H180=99),OR(COUNTRY_INFO!$J180=0,COUNTRY_INFO!$J180=4)),0,COUNTRY_INFO!$E180))","v":12853},{"$f":"IF(AND(INTRO!$E$37=\"Non-endemic\",INTRO!$E$41=\"Non-endemic\"),0,IF(AND(OR(COUNTRY_INFO!$H180=0,COUNTRY_INFO!$H180=4,COUNTRY_INFO!$H180=99),OR(COUNTRY_INFO!$J180=0,COUNTRY_INFO!$J180=4)),0,COUNTRY_INFO!$F180))","v":29158},42011,{"$f":"IF(AND(INTRO!$E$37=\"Non-endemic\",INTRO!$E$41=\"Non-endemic\"),0,COUNTRY_INFO!P180)","v":0},{"$f":"IF(AND(INTRO!$E$37=\"Non-endemic\",INTRO!$E$41=\"Non-endemic\"),0,COUNTRY_INFO!R180)","v":1},{"$f":"IF(INTRO!$E$39=\"Non-endemic\",IF($G180=1,DEC!I180,0),IF($G180=1,IVM!G180,0))","v":0},"ALB",{"$f":"IF($J180=\"ALB\", IF(INTRO!$E$39=\"Non-endemic\", IF($H180<>0, IF($I180=0, $D180*$H180, $D180*($H180-$G180)), 0), $D180*$H180), 0)","v":12853},29158,null,42011,{"$f":"IF($J180=\"MBD\", IF(INTRO!$E$39=\"Non-endemic\", IF($H180<>0, IF($I180=0, $D180*$H180, $D180*($H180-$G180)), 0), $D180*$H180), 0)","v":0},0,null,0,null,0,0,null,29158,146,null,0,0]
[{"$f":"IF(AND(INTRO!$E$37=\"Non-endemic\",INTRO!$E$41=\"Non-endemic\"),\" \",IF(COUNTRY_INFO!A181=0,\" \",COUNTRY_INFO!A181))","v":"Ghana"},{"$f":"IF(AND(INTRO!$E$37=\"Non-endemic\",INTRO!$E$41=\"Non-endemic\"),\" \",IF(COUNTRY_INFO!B181=0,\" \",COUNTRY_INFO!B181))","v":"Volta"},{"$f":"IF(AND(INTRO!$E$37=\"Non-endemic\",INTRO!$E$41=\"Non-endemic\"),\" \",IF(COUNTRY_INFO!C181=0,\" \",COUNTRY_INFO!C181))","v":"Akatsi North"},{"$f":"IF(AND(INTRO!$E$37=\"Non-endemic\",INTRO!$E$41=\"Non-endemic\"),0,IF(AND(OR(COUNTRY_INFO!$H181=0,COUNTRY_INFO!$H181=4,COUNTRY_INFO!$H181=99),OR(COUNTRY_INFO!$J181=0,COUNTRY_INFO!$J181=4)),0,COUNTRY_INFO!$E181))","v":4450},{"$f":"IF(AND(INTRO!$E$37=\"Non-endemic\",INTRO!$E$41=\"Non-endemic\"),0,IF(AND(OR(COUNTRY_INFO!$H181=0,COUNTRY_INFO!$H181=4,COUNTRY_INFO!$H181=99),OR(COUNTRY_INFO!$J181=0,COUNTRY_INFO!$J181=4)),0,COUNTRY_INFO!$F181))","v":10094},14544,{"$f":"IF(AND(INTRO!$E$37=\"Non-endemic\",INTRO!$E$41=\"Non-endemic\"),0,COUNTRY_INFO!P181)","v":0},{"$f":"IF(AND(INTRO!$E$37=\"Non-endemic\",INTRO!$E$41=\"Non-endemic\"),0,COUNTRY_INFO!R181)","v":1},{"$f":"IF(INTRO!$E$39=\"Non-endemic\",IF($G181=1,DEC!I181,0),IF($G181=1,IVM!G181,0))","v":0},"ALB",{"$f":"IF($J181=\"ALB\", IF(INTRO!$E$39=\"Non-endemic\", IF($H181<>0, IF($I181=0, $D181*$H181, $D181*($H181-$G181)), 0), $D181*$H181), 0)","v":4450},10094,null,14544,{"$f":"IF($J181=\"MBD\", IF(INTRO!$E$39=\"Non-endemic\", IF($H181<>0, IF($I181=0, $D181*$H181, $D181*($H181-$G181)), 0), $D181*$H181), 0)","v":0},0,null,0,null,0,0,null,10094,51,null,0,0]
[{"$f":"IF(AND(INTRO!$E$37=\"Non-endemic\",INTRO!$E$41=\"Non-endemic\"),\" \",IF(COUNTRY_INFO!A182=0,\" \",COUNTRY_INFO!A182))","v":"Ghana"},{"$f":"IF(AND(INTRO!$E$37=\"Non-endemic\",INTRO!$E$41=\"Non-endemic\"),\" \",IF(COUNTRY_INFO!B182=0,\" \",COUNTRY_INFO!B182))","v":"Volta"},{"$f":"IF(AND(INTRO!$E$37=\"Non-endemic\",INTRO!$E$41=\"Non-endemic\"),\" \",IF(COUNTRY_INFO!C182=0,\" \",COUNTRY_INFO!C182))","v":"Biakoye"},{"$f":"IF(AND(INTRO!$E$37=\"Non-endemic\",INTRO!$E$41=\"Non-endemic\"),0,IF(AND(OR(COUNTRY_INFO!$H182=0,COUNTRY_INFO!$H182=4,COUNTRY_INFO!$H182=99),OR(COUNTRY_INFO!$J182=0,COUNTRY_INFO!$J182=4)),0,COUNTRY_INFO!$E182))","v":8876},{"$f":"IF(AND(INTRO!$E$37=\"Non-endemic\",INTRO!$E$41=\"Non-endemic\"),0,IF(AND(OR(COUNTRY_INFO!$H182=0,COUNTRY_INFO!$H182=4,COUNTRY_INFO!$H182=99),OR(COUNTRY_INFO!$J182=0,COUNTRY_INFO!$J182=4)),0,COUNTRY_INFO!$F182))","v":20136},29012,{"$f":"IF(AND(INTRO!$E$37=\"Non-endemic\",INTRO!$E$41=\"Non-endemic\"),0,COUNTRY_INFO!P182)","v":0},{"$f":"IF(AND(INTRO!$E$37=\"Non-endemic\",INTRO!$E$41=\"Non-endemic\"),0,COUNTRY_INFO!R182)","v":1},{"$f":"IF(INTRO!$E$39=\"Non-endemic\",IF($G182=1,DEC!I182,0),IF($G182=1,IVM!G182,0))","v":0},"ALB",{"$f":"IF($J182=\"ALB\", IF(INTRO!$E$39=\"Non-endemic\", IF($H182<>0, IF($I182=0, $D182*$H182, $D182*($H182-$G182)), 0), $D182*$H182), 0)","v":8876},20136,null,29012,{"$f":"IF($J182=\"MBD\", IF(INTRO!$E$39=\"Non-endemic\", IF($H182<>0, IF($I182=0, $D182*$H182, $D182*($H182-$G182)), 0), $D182*$H182), 0)","v":0},0,null,0,null,0,0,null,20136,101,null,0,0]
[{"$f":"IF(AND(INTRO!$E$37=\"Non-endemic\",INTRO!$E$41=\"Non-endemic\"),\" \",IF(COUNTRY_INFO!A183=0,\" \",COUNTRY_INFO!A183))","v":"Ghana"},{"$f":"IF(AND(INTRO!$E$37=\"Non-endemic\",INTRO!$E$41=\"Non-endemic\"),\" \",IF(COUNTRY_INFO!B183=0,\" \",COUNTRY_INFO!B183))","v":"Volta"},{"$f":"IF(AND(INTRO!$E$37=\"Non-endemic\",INTRO!$E$41=\"Non-endemic\"),\" \",IF(COUNTRY_INFO!C183=0,\" \",COUNTRY_INFO!C183))","v":"Ho Municipal"},{"$f":"IF(AND(INTRO!$E$37=\"Non-endemic\",INTRO!$E$41=\"Non-endemic\"),0,IF(AND(OR(COUNTRY_INFO!$H183=0,COUNTRY_INFO!$H183=4,COUNTRY_INFO!$H183=99),OR(COUNTRY_INFO!$J183=0,COUNTRY_INFO!$J183=4)),0,COUNTRY_INFO!$E183))","v":23879},{"$f":"IF(AND(INTRO!$E$37=\"Non-endemic\",INTRO!$E$41=\"Non-endemic\"),0,IF(AND(OR(COUNTRY_INFO!$H183=0,COUNTRY_INFO!$H183=4,COUNTRY_INFO!$H183=99),OR(COUNTRY_INFO!$J183=0,COUNTRY_INFO!$J183=4)),0,COUNTRY_INFO!$F183))","v":54169},78048,{"$f":"IF(AND(INTRO!$E$37=\"Non-endemic\",INTRO!$E$41=\"Non-endemic\"),0,COUNTRY_INFO!P183)","v":0},{"$f":"IF(AND(INTRO!$E$37=\"Non-endemic\",INTRO!$E$41=\"Non-endemic\"),0,COUNTRY_INFO!R183)","v":1},{"$f":"IF(INTRO!$E$39=\"Non-endemic\",IF($G183=1,DEC!I183,0),IF($G183=1,IVM!G183,0))","v":0},"ALB",{"$f":"IF($J183=\"ALB\", IF(INTRO!$E$39=\"Non-endemic\", IF($H183<>0, IF($I183=0, $D183*$H183, $D183*($H183-$G183)), 0), $D183*$H183), 0)","v":23879},54169,null,78048,{"$f":"IF($J183=\"MBD\", IF(INTRO!$E$39=\"Non-endemic\", IF($H183<>0, IF($I183=0, $D183*$H183, $D183*($H183-$G183)), 0), $D183*$H183), 0)","v":0},0,null,0,null,0,0,null,54169,271,null,0,0]
[{"$f":"IF(AND(INTRO!$E$37=\"Non-endemic\",INTRO!$E$41=\"Non-endemic\"),\" \",IF(COUNTRY_INFO!A184=0,\" \",COUNTRY_INFO!A184))","v":"Ghana"},{"$f":"IF(AND(INTRO!$E$37=\"Non-endemic\",INTRO!$E$41=\"Non-endemic\"),\" \",IF(COUNTRY_INFO!B184=0,\" \",COUNTRY_INFO!B184))","v":"Volta"},{"$f":"IF(AND(INTRO!$E$37=\"Non-endemic\",INTRO!$E$41=\"Non-endemic\"),\" \",IF(COUNTRY_INFO!C184=0,\" \",COUNTRY_INFO!C184))","v":"Ho West"},{"$f":"IF(AND(INTRO!$E$37=\"Non-endemic\",INTRO!$E$41=\"Non-endemic\"),0,IF(AND(OR(COUNTRY_INFO!$H184=0,COUNTRY_INFO!$H184=4,COUNTRY_INFO!$H184=99),OR(COUNTRY_INFO!$J184=0,COUNTRY_INFO!$J184=4)),0,COUNTRY_INFO!$E184))","v":12742},{"$f":"IF(AND(INTRO!$E$37=\"Non-endemic\",INTRO!$E$41=\"Non-endemic\"),0,IF(AND(OR(COUNTRY_INFO!$H184=0,COUNTRY_INFO!$H184=4,COUNTRY_INFO!$H184=99),OR(COUNTRY_INFO!$J184=0,COUNTRY_INFO!$J184=4)),0,COUNTRY_INFO!$F184))","v":28906},41648,{"$f":"IF(AND(INTRO!$E$37=\"Non-endemic\",INTRO!$E$41=\"Non-endemic\"),0,COUNTRY_INFO!P184)","v":0},{"$f":"IF(AND(INTRO!$E$37=\"Non-endemic\",INTRO!$E$41=\"Non-endemic\"),0,COUNTRY_INFO!R184)","v":1},{"$f":"IF(INTRO!$E$39=\"Non-endemic\",IF($G184=1,DEC!I184,0),IF($G184=1,IVM!G184,0))","v":0},"ALB",{"$f":"IF($J184=\"ALB\", IF(INTRO!$E$39=\"Non-endemic\", IF($H184<>0, IF($I184=0, $D184*$H184, $D184*($H184-$G184)), 0), $D184*$H184), 0)","v":12742},28906,null,41648,{"$f":"IF($J184=\"MBD\", IF(INTRO!$E$39=\"Non-endemic\", IF($H184<>0, IF($I184=0, $D184*$H184, $D184*($H184-$G184)), 0), $D184*$H184), 0)","v":0},0,null,0,null,0,0,null,28906,145,null,0,0]
[{"$f":"IF(AND(INTRO!$E$37=\"Non-endemic\",INTRO!$E$41=\"Non-endemic\"),\" \",IF(COUNTRY_INFO!A185=0,\" \",COUNTRY_INFO!A185))","v":"Ghana"},{"$f":"IF(AND(INTRO!$E$37=\"Non-endemic\",INTRO!$E$41=\"Non-endemic\"),\" \",IF(COUNTRY_INFO!B185=0,\" \",COUNTRY_INFO!B185))","v":"Volta"},{"$f":"IF(AND(INTRO!$E$37=\"Non-endemic\",INTRO!$E$41=\"Non-endemic\"),\" \",IF(COUNTRY_INFO!C185=0,\" \",COUNTRY_INFO!C185))","v":"Hohoe"},{"$f":"IF(AND(INTRO!$E$37=\"Non-endemic\",INTRO!$E$41=\"Non-endemic\"),0,IF(AND(OR(COUNTRY_INFO!$H185=0,COUNTRY_INFO!$H185=4,COUNTRY_INFO!$H185=99),OR(COUNTRY_INFO!$J185=0,COUNTRY_INFO!$J185=4)),0,COUNTRY_INFO!$E185))","v":22496},{"$f":"IF(AND(INTRO!$E$37=\"Non-endemic\",INTRO!$E$41=\"Non-endemic\"),0,IF(AND(OR(COUNTRY_INFO!$H185=0,COUNTRY_INFO!$H185=4,COUNTRY_INFO!$H185=99),OR(COUNTRY_INFO!$J185=0,COUNTRY_INFO!$J185=4)),0,COUNTRY_INFO!$F185))","v":51033},73529,{"$f":"IF(AND(INTRO!$E$37=\"Non-endemic\",INTRO!$E$41=\"Non-endemic\"),0,COUNTRY_INFO!P185)","v":0},{"$f":"IF(AND(INTRO!$E$37=\"Non-endemic\",INTRO!$E$41=\"Non-endemic\"),0,COUNTRY_INFO!R185)","v":1},{"$f":"IF(INTRO!$E$39=\"Non-endemic\",IF($G185=1,DEC!I185,0),IF($G185=1,IVM!G185,0))","v":0},"ALB",{"$f":"IF($J185=\"ALB\", IF(INTRO!$E$39=\"Non-endemic\", IF($H185<>0, IF($I185=0, $D185*$H185, $D185*($H185-$G185)), 0), $D185*$H185), 0)","v":22496},51033,null,73529,{"$f":"IF($J185=\"MBD\", IF(INTRO!$E$39=\"Non-endemic\", IF($H185<>0, IF($I185=0, $D185*$H185, $D185*($H185-$G185)), 0), $D185*$H185), 0)","v":0},0,null,0,null,0,0,null,51033,256,null,0,0]
[{"$f":"IF(AND(INTRO!$E$37=\"Non-endemic\",INTRO!$E$41=\"Non-endemic\"),\" \",IF(COUNTRY_INFO!A186=0,\" \",COUNTRY_INFO!A186))","v":"Ghana"},{"$f":"IF(AND(INTRO!$E$37=\"Non-endemic\",INTRO!$E$41=\"Non-endemic\"),\" \",IF(COUNTRY_INFO!B186=0,\" \",COUNTRY_INFO!B186))","v":"Volta"},{"$f":"IF(AND(INTRO!$E$37=\"Non-endemic\",INTRO!$E$41=\"Non-endemic\"),\" \",IF(COUNTRY_INFO!C186=0,\" \",COUNTRY_INFO!C186))","v":"Afadjato (East Dayi)"},{"$f":"IF(AND(INTRO!$E$37=\"Non-endemic\",INTRO!$E$41=\"Non-endemic\"),0,IF(AND(OR(COUNTRY_INFO!$H186=0,COUNTRY_INFO!$H186=4,COUNTRY_INFO!$H186=99),OR(COUNTRY_INFO!$J186=0,COUNTRY_INFO!$J186=4)),0,COUNTRY_INFO!$E186))","v":12800},{"$f":"IF(AND(INTRO!$E$37=\"Non-endemic\",INTRO!$E$41=\"Non-endemic\"),0,IF(AND(OR(COUNTRY_INFO!$H186=0,COUNTRY_INFO!$H186=4,COUNTRY_INFO!$H186=99),OR(COUNTRY_INFO!$J186=0,COUNTRY_INFO!$J186=4)),0,COUNTRY_INFO!$F186))","v":29037},41837,{"$f":"IF(AND(INTRO!$E$37=\"Non-endemic\",INTRO!$E$41=\"Non-endemic\"),0,COUNTRY_INFO!P186)","v":0},{"$f":"IF(AND(INTRO!$E$37=\"Non-endemic\",INTRO!$E$41=\"Non-endemic\"),0,COUNTRY_INFO!R186)","v":1},{"$f":"IF(INTRO!$E$39=\"Non-endemic\",IF($G186=1,DEC!I186,0),IF($G186=1,IVM!G186,0))","v":0},"ALB",{"$f":"IF($J186=\"ALB\", IF(INTRO!$E$39=\"Non-endemic\", IF($H186<>0, IF($I186=0, $D186*$H186, $D186*($H186-$G186)), 0), $D186*$H186), 0)","v":12800},29037,null,41837,{"$f":"IF($J186=\"MBD\", IF(INTRO!$E$39=\"Non-endemic\", IF($H186<>0, IF($I186=0, $D186*$H186, $D186*($H186-$G186)), 0), $D186*$H186), 0)","v":0},0,null,0,null,0,0,null,29037,146,null,0,0]
[{"$f":"IF(AND(INTRO!$E$37=\"Non-endemic\",INTRO!$E$41=\"Non-endemic\"),\" \",IF(COUNTRY_INFO!A187=0,\" \",COUNTRY_INFO!A187))","v":"Ghana"},{"$f":"IF(AND(INTRO!$E$37=\"Non-endemic\",INTRO!$E$41=\"Non-endemic\"),\" \",IF(COUNTRY_INFO!B187=0,\" \",COUNTRY_INFO!B187))","v":"Volta"},{"$f":"IF(AND(INTRO!$E$37=\"Non-endemic\",INTRO!$E$41=\"Non-endemic\"),\" \",IF(COUNTRY_INFO!C187=0,\" \",COUNTRY_INFO!C187))","v":"Jasikan"},{"$f":"IF(AND(INTRO!$E$37=\"Non-endemic\",INTRO!$E$41=\"Non-endemic\"),0,IF(AND(OR(COUNTRY_INFO!$H187=0,COUNTRY_INFO!$H187=4,COUNTRY_INFO!$H187=99),OR(COUNTRY_INFO!$J187=0,COUNTRY_INFO!$J187=4)),0,COUNTRY_INFO!$E187))","v":7971},{"$f":"IF(AND(INTRO!$E$37=\"Non-endemic\",INTRO!$E$41=\"Non-endemic\"),0,IF(AND(OR(COUNTRY_INFO!$H187=0,COUNTRY_INFO!$H187=4,COUNTRY_INFO!$H187=99),OR(COUNTRY_INFO!$J187=0,COUNTRY_INFO!$J187=4)),0,COUNTRY_INFO!$F187))","v":18083},26054,{"$f":"IF(AND(INTRO!$E$37=\"Non-endemic\",INTRO!$E$41=\"Non-endemic\"),0,COUNTRY_INFO!P187)","v":0},{"$f":"IF(AND(INTRO!$E$37=\"Non-endemic\",INTRO!$E$41=\"Non-endemic\"),0,COUNTRY_INFO!R187)","v":1},{"$f":"IF(INTRO!$E$39=\"Non-endemic\",IF($G187=1,DEC!I187,0),IF($G187=1,IVM!G187,0))","v":0},"ALB",{"$f":"IF($J187=\"ALB\", IF(INTRO!$E$39=\"Non-endemic\", IF($H187<>0, IF($I187=0, $D187*$H187, $D187*($H187-$G187)), 0), $D187*$H187), 0)","v":7971},18083,null,26054,{"$f":"IF($J187=\"MBD\", IF(INTRO!$E$39=\"Non-endemic\", IF($H187<>0, IF($I187=0, $D187*$H187, $D187*($H187-$G187)), 0), $D187*$H187), 0)","v":0},0,null,0,null,0,0,null,18083,91,null,0,0]
[{"$f":"IF(AND(INTRO!$E$37=\"Non-endemic\",INTRO!$E$41=\"Non-endemic\"),\" \",IF(COUNTRY_INFO!A188=0,\" \",COUNTRY_INFO!A188))","v":"Ghana"},{"$f":"IF(AND(INTRO!$E$37=\"Non-endemic\",INTRO!$E$41=\"Non-endemic\"),\" \",IF(COUNTRY_INFO!B188=0,\" \",COUNTRY_INFO!B188))","v":"Volta"},{"$f":"IF(AND(INTRO!$E$37=\"Non-endemic\",INTRO!$E$41=\"Non-endemic\"),\" \",IF(COUNTRY_INFO!C188=0,\" \",COUNTRY_INFO!C188))","v":"Kadjebi"},{"$f":"IF(AND(INTRO!$E$37=\"Non-endemic\",INTRO!$E$41=\"Non-endemic\"),0,IF(AND(OR(COUNTRY_INFO!$H188=0,COUNTRY_INFO!$H188=4,COUNTRY_INFO!$H188=99),OR(COUNTRY_INFO!$J188=0,COUNTRY_INFO!$J188=4)),0,COUNTRY_INFO!$E188))","v":7988},{"$f":"IF(AND(INTRO!$E$37=\"Non-endemic\",INTRO!$E$41=\"Non-endemic\"),0,IF(AND(OR(COUNTRY_INFO!$H188=0,COUNTRY_INFO!$H188=4,COUNTRY_INFO!$H188=99),OR(COUNTRY_INFO!$J188=0,COUNTRY_INFO!$J188=4)),0,COUNTRY_INFO!$F188))","v":18120},26108,{"$f":"IF(AND(INTRO!$E$37=\"Non-endemic\",INTRO!$E$41=\"Non-endemic\"),0,COUNTRY_INFO!P188)","v":0},{"$f":"IF(AND(INTRO!$E$37=\"Non-endemic\",INTRO!$E$41=\"Non-endemic\"),0,COUNTRY_INFO!R188)","v":1},{"$f":"IF(INTRO!$E$39=\"Non-endemic\",IF($G188=1,DEC!I188,0),IF($G188=1,IVM!G188,0))","v":0},"ALB",{"$f":"IF($J188=\"ALB\", IF(INTRO!$E$39=\"Non-endemic\", IF($H188<>0, IF($I188=0, $D188*$H188, $D188*($H188-$G188)), 0), $D188*$H188), 0)","v":7988},18120,null,26108,{"$f":"IF($J188=\"MBD\", IF(INTRO!$E$39=\"Non-endemic\", IF($H188<>0, IF($I188=0, $D188*$H188, $D188*($H188-$G188)), 0), $D188*$H188), 0)","v":0},0,null,0,null,0,0,null,18120,91,null,0,0]
[{"$f":"IF(AND(INTRO!$E$37=\"Non-endemic\",INTRO!$E$41=\"Non-endemic\"),\" \",IF(COUNTRY_INFO!A189=0,\" \",COUNTRY_INFO!A189))","v":"Ghana"},{"$f":"IF(AND(INTRO!$E$37=\"Non-endemic\",INTRO!$E$41=\"Non-endemic\"),\" \",IF(COUNTRY_INFO!B189=0,\" \",COUNTRY_INFO!B189))","v":"Volta"},{"$f":"IF(AND(INTRO!$E$37=\"Non-endemic\",INTRO!$E$41=\"Non-endemic\"),\" \",IF(COUNTRY_INFO!C189=0,\" \",COUNTRY_INFO!C189))","v":"Keta"},{"$f":"IF(AND(INTRO!$E$37=\"Non-endemic\",INTRO!$E$41=\"Non-endemic\"),0,IF(AND(OR(COUNTRY_INFO!$H189=0,COUNTRY_INFO!$H189=4,COUNTRY_INFO!$H189=99),OR(COUNTRY_INFO!$J189=0,COUNTRY_INFO!$J189=4)),0,COUNTRY_INFO!$E189))","v":19883},{"$f":"IF(AND(INTRO!$E$37=\"Non-endemic\",INTRO!$E$41=\"Non-endemic\"),0,IF(AND(OR(COUNTRY_INFO!$H189=0,COUNTRY_INFO!$H189=4,COUNTRY_INFO!$H189=99),OR(COUNTRY_INFO!$J189=0,COUNTRY_INFO!$J189=4)),0,COUNTRY_INFO!$F189))","v":45106},64989,{"$f":"IF(AND(INTRO!$E$37=\"Non-endemic\",INTRO!$E$41=\"Non-endemic\"),0,COUNTRY_INFO!P189)","v":0},{"$f":"IF(AND(INTRO!$E$37=\"Non-endemic\",INTRO!$E$41=\"Non-endemic\"),0,COUNTRY_INFO!R189)","v":1},{"$f":"IF(INTRO!$E$39=\"Non-endemic\",IF($G189=1,DEC!I189,0),IF($G189=1,IVM!G189,0))","v":0},"ALB",{"$f":"IF($J189=\"ALB\", IF(INTRO!$E$39=\"Non-endemic\", IF($H189<>0, IF($I189=0, $D189*$H189, $D189*($H189-$G189)), 0), $D189*$H189), 0)","v":19883},45106,null,64989,{"$f":"IF($J189=\"MBD\", IF(INTRO!$E$39=\"Non-endemic\", IF($H189<>0, IF($I189=0, $D189*$H189, $D189*($H189-$G189)), 0), $D189*$H189), 0)","v":0},0,null,0,null,0,0,null,45106,226,null,0,0]
[{"$f":"IF(AND(INTRO!$E$37=\"Non-endemic\",INTRO!$E$41=\"Non-endemic\"),\" \",IF(COUNTRY_INFO!A190=0,\" \",COUNTRY_INFO!A190))","v":"Ghana"},{"$f":"IF(AND(INTRO!$E$37=\"Non-endemic\",INTRO!$E$41=\"Non-endemic\"),\" \",IF(COUNTRY_INFO!B190=0,\" \",COUNTRY_INFO!B190))","v":"Volta"},{"$f":"IF(AND(INTRO!$E$37=\"Non-endemic\",INTRO!$E$41=\"Non-endemic\"),\" \",IF(COUNTRY_INFO!C190=0,\" \",COUNTRY_INFO!C190))","v":"Ketu North"},{"$f":"IF(AND(INTRO!$E$37=\"Non-endemic\",INTRO!$E$41=\"Non-endemic\"),0,IF(AND(OR(COUNTRY_INFO!$H190=0,COUNTRY_INFO!$H190=4,COUNTRY_INFO!$H190=99),OR(COUNTRY_INFO!$J190=0,COUNTRY_INFO!$J190=4)),0,COUNTRY_INFO!$E190))","v":13458},{"$f":"IF(AND(INTRO!$E$37=\"Non-endemic\",INTRO!$E$41=\"Non-endemic\"),0,IF(AND(OR(COUNTRY_INFO!$H190=0,COUNTRY_INFO!$H190=4,COUNTRY_INFO!$H190=99),OR(COUNTRY_INFO!$J190=0,COUNTRY_INFO!$J190=4)),0,COUNTRY_INFO!$F190))","v":30529},43987,{"$f":"IF(AND(INTRO!$E$37=\"Non-endemic\",INTRO!$E$41=\"Non-endemic\"),0,COUNTRY_INFO!P190)","v":0},{"$f":"IF(AND(INTRO!$E$37=\"Non-endemic\",INTRO!$E$41=\"Non-endemic\"),0,COUNTRY_INFO!R190)","v":1},{"$f":"IF(INTRO!$E$39=\"Non-endemic\",IF($G190=1,DEC!I190,0),IF($G190=1,IVM!G190,0))","v":0},"ALB",{"$f":"IF($J190=\"ALB\", IF(INTRO!$E$39=\"Non-endemic\", IF($H190<>0, IF($I190=0, $D190*$H190, $D190*($H190-$G190)), 0), $D190*$H190), 0)","v":13458},30529,null,43987,{"$f":"IF($J190=\"MBD\", IF(INTRO!$E$39=\"Non-endemic\", IF($H190<>0, IF($I190=0, $D190*$H190, $D190*($H190-$G190)), 0), $D190*$H190), 0)","v":0},0,null,0,null,0,0,null,30529,153,null,0,0]
[{"$f":"IF(AND(INTRO!$E$37=\"Non-endemic\",INTRO!$E$41=\"Non-endemic\"),\" \",IF(COUNTRY_INFO!A191=0,\" \",COUNTRY_INFO!A191))","v":"Ghana"},{"$f":"IF(AND(INTRO!$E$37=\"Non-endemic\",INTRO!$E$41=\"Non-endemic\"),\" \",IF(COUNTRY_INFO!B191=0,\" \",COUNTRY_INFO!B191))","v":"Volta"},{"$f":"IF(AND(INTRO!$E$37=\"Non-endemic\",INTRO!$E$41=\"Non-endemic\"),\" \",IF(COUNTRY_INFO!C191=0,\" \",COUNTRY_INFO!C191))","v":"Ketu South"},{"$f":"IF(AND(INTRO!$E$37=\"Non-endemic\",INTRO!$E$41=\"Non-endemic\"),0,IF(AND(OR(COUNTRY_INFO!$H191=0,COUNTRY_INFO!$H191=4,COUNTRY_INFO!$H191=99),OR(COUNTRY_INFO!$J191=0,COUNTRY_INFO!$J191=4)),0,COUNTRY_INFO!$E191))","v":21653},{"$f":"IF(AND(INTRO!$E$37=\"Non-endemic\",INTRO!$E$41=\"Non-endemic\"),0,IF(AND(OR(COUNTRY_INFO!$H191=0,COUNTRY_INFO!$H191=4,COUNTRY_INFO!$H191=99),OR(COUNTRY_INFO!$J191=0,COUNTRY_INFO!$J191=4)),0,COUNTRY_INFO!$F191))","v":49120},70773,{"$f":"IF(AND(INTRO!$E$37=\"Non-endemic\",INTRO!$E$41=\"Non-endemic\"),0,COUNTRY_INFO!P191)","v":0},{"$f":"IF(AND(INTRO!$E$37=\"Non-endemic\",INTRO!$E$41=\"Non-endemic\"),0,COUNTRY_INFO!R191)","v":1},{"$f":"IF(INTRO!$E$39=\"Non-endemic\",IF($G191=1,DEC!I191,0),IF($G191=1,IVM!G191,0))","v":0},"ALB",{"$f":"IF($J191=\"ALB\", IF(INTRO!$E$39=\"Non-endemic\", IF($H191<>0, IF($I191=0, $D191*$H191, $D191*($H191-$G191)), 0), $D191*$H191), 0)","v":21653},49120,null,70773,{"$f":"IF($J191=\"MBD\", IF(INTRO!$E$39=\"Non-endemic\", IF($H191<>0, IF($I191=0, $D191*$H191, $D191*($H191-$G191)), 0), $D191*$H191), 0)","v":0},0,null,0,null,0,0,null,49120,246,null,0,0]
[{"$f":"IF(AND(INTRO!$E$37=\"Non-endemic\",INTRO!$E$41=\"Non-endemic\"),\" \",IF(COUNTRY_INFO!A192=0,\" \",COUNTRY_INFO!A192))","v":"Ghana"},{"$f":"IF(AND(INTRO!$E$37=\"Non-endemic\",INTRO!$E$41=\"Non-endemic\"),\" \",IF(COUNTRY_INFO!B192=0,\" \",COUNTRY_INFO!B192))","v":"Volta"},{"$f":"IF(AND(INTRO!$E$37=\"Non-endemic\",INTRO!$E$41=\"Non-endemic\"),\" \",IF(COUNTRY_INFO!C192=0,\" \",COUNTRY_INFO!C192))","v":"Kpando"},{"$f":"IF(AND(INTRO!$E$37=\"Non-endemic\",INTRO!$E$41=\"Non-endemic\"),0,IF(AND(OR(COUNTRY_INFO!$H192=0,COUNTRY_INFO!$H192=4,COUNTRY_INFO!$H192=99),OR(COUNTRY_INFO!$J192=0,COUNTRY_INFO!$J192=4)),0,COUNTRY_INFO!$E192))","v":7238},{"$f":"IF(AND(INTRO!$E$37=\"Non-endemic\",INTRO!$E$41=\"Non-endemic\"),0,IF(AND(OR(COUNTRY_INFO!$H192=0,COUNTRY_INFO!$H192=4,COUNTRY_INFO!$H192=99),OR(COUNTRY_INFO!$J192=0,COUNTRY_INFO!$J192=4)),0,COUNTRY_INFO!$F192))","v":16419},23657,{"$f":"IF(AND(INTRO!$E$37=\"Non-endemic\",INTRO!$E$41=\"Non-endemic\"),0,COUNTRY_INFO!P192)","v":0},{"$f":"IF(AND(INTRO!$E$37=\"Non-endemic\",INTRO!$E$41=\"Non-endemic\"),0,COUNTRY_INFO!R192)","v":1},{"$f":"IF(INTRO!$E$39=\"Non-endemic\",IF($G192=1,DEC!I192,0),IF($G192=1,IVM!G192,0))","v":0},"ALB",{"$f":"IF($J192=\"ALB\", IF(INTRO!$E$39=\"Non-endemic\", IF($H192<>0, IF($I192=0, $D192*$H192, $D192*($H192-$G192)), 0), $D192*$H192), 0)","v":7238},16419,null,23657,{"$f":"IF($J192=\"MBD\", IF(INTRO!$E$39=\"Non-endemic\", IF($H192<>0, IF($I192=0, $D192*$H192, $D192*($H192-$G192)), 0), $D192*$H192), 0)","v":0},0,null,0,null,0,0,null,16419,83,null,0,0]
[{"$f":"IF(AND(INTRO!$E$37=\"Non-endemic\",INTRO!$E$41=\"Non-endemic\"),\" \",IF(COUNTRY_INFO!A193=0,\" \",COUNTRY_INFO!A193))","v":"Ghana"},{"$f":"IF(AND(INTRO!$E$37=\"Non-endemic\",INTRO!$E$41=\"Non-endemic\"),\" \",IF(COUNTRY_INFO!B193=0,\" \",COUNTRY_INFO!B193))","v":"Volta"},{"$f":"IF(AND(INTRO!$E$37=\"Non-endemic\",INTRO!$E$41=\"Non-endemic\"),\" \",IF(COUNTRY_INFO!C193=0,\" \",COUNTRY_INFO!C193))","v":"North Dayi"},{"$f":"IF(AND(INTRO!$E$37=\"Non-endemic\",INTRO!$E$41=\"Non-endemic\"),0,IF(AND(OR(COUNTRY_INFO!$H193=0,COUNTRY_INFO!$H193=4,COUNTRY_INFO!$H193=99),OR(COUNTRY_INFO!$J193=0,COUNTRY_INFO!$J193=4)),0,COUNTRY_INFO!$E193))","v":5376},{"$f":"IF(AND(INTRO!$E$37=\"Non-endemic\",INTRO!$E$41=\"Non-endemic\"),0,IF(AND(OR(COUNTRY_INFO!$H193=0,COUNTRY_INFO!$H193=4,COUNTRY_INFO!$H193=99),OR(COUNTRY_INFO!$J193=0,COUNTRY_INFO!$J193=4)),0,COUNTRY_INFO!$F193))","v":12196},17572,{"$f":"IF(AND(INTRO!$E$37=\"Non-endemic\",INTRO!$E$41=\"Non-endemic\"),0,COUNTRY_INFO!P193)","v":0},{"$f":"IF(AND(INTRO!$E$37=\"Non-endemic\",INTRO!$E$41=\"Non-endemic\"),0,COUNTRY_INFO!R193)","v":1},{"$f":"IF(INTRO!$E$39=\"Non-endemic\",IF($G193=1,DEC!I193,0),IF($G193=1,IVM!G193,0))","v":0},"ALB",{"$f":"IF($J193=\"ALB\", IF(INTRO!$E$39=\"Non-endemic\", IF($H193<>0, IF($I193=0, $D193*$H193, $D193*($H193-$G193)), 0), $D193*$H193), 0)","v":5376},12196,null,17572,{"$f":"IF($J193=\"MBD\", IF(INTRO!$E$39=\"Non-endemic\", IF($H193<>0, IF($I193=0, $D193*$H193, $D193*($H193-$G193)), 0), $D193*$H193), 0)","v":0},0,null,0,null,0,0,null,12196,61,null,0,0]
[{"$f":"IF(AND(INTRO!$E$37=\"Non-endemic\",INTRO!$E$41=\"Non-endemic\"),\" \",IF(COUNTRY_INFO!A194=0,\" \",COUNTRY_INFO!A194))","v":"Ghana"},{"$f":"IF(AND(INTRO!$E$37=\"Non-endemic\",INTRO!$E$41=\"Non-endemic\"),\" \",IF(COUNTRY_INFO!B194=0,\" \",COUNTRY_INFO!B194))","v":"Volta"},{"$f":"IF(AND(INTRO!$E$37=\"Non-endemic\",INTRO!$E$41=\"Non-endemic\"),\" \",IF(COUNTRY_INFO!C194=0,\" \",COUNTRY_INFO!C194))","v":"Krachi East"},{"$f":"IF(AND(INTRO!$E$37=\"Non-endemic\",INTRO!$E$41=\"Non-endemic\"),0,IF(AND(OR(COUNTRY_INFO!$H194=0,COUNTRY_INFO!$H194=4,COUNTRY_INFO!$H194=99),OR(COUNTRY_INFO!$J194=0,COUNTRY_INFO!$J194=4)),0,COUNTRY_INFO!$E194))","v":15733},{"$f":"IF(AND(INTRO!$E$37=\"Non-endemic\",INTRO!$E$41=\"Non-endemic\"),0,IF(AND(OR(COUNTRY_INFO!$H194=0,COUNTRY_INFO!$H194=4,COUNTRY_INFO!$H194=99),OR(COUNTRY_INFO!$J194=0,COUNTRY_INFO!$J194=4)),0,COUNTRY_INFO!$F194))","v":35690},51423,{"$f":"IF(AND(INTRO!$E$37=\"Non-endemic\",INTRO!$E$41=\"Non-endemic\"),0,COUNTRY_INFO!P194)","v":0},{"$f":"IF(AND(INTRO!$E$37=\"Non-endemic\",INTRO!$E$41=\"Non-endemic\"),0,COUNTRY_INFO!R194)","v":1},{"$f":"IF(INTRO!$E$39=\"Non-endemic\",IF($G194=1,DEC!I194,0),IF($G194=1,IVM!G194,0))","v":0},"ALB",{"$f":"IF($J194=\"ALB\", IF(INTRO!$E$39=\"Non-endemic\", IF($H194<>0, IF($I194=0, $D194*$H194, $D194*($H194-$G194)), 0), $D194*$H194), 0)","v":15733},35690,null,51423,{"$f":"IF($J194=\"MBD\", IF(INTRO!$E$39=\"Non-endemic\", IF($H194<>0, IF($I194=0, $D194*$H194, $D194*($H194-$G194)), 0), $D194*$H194), 0)","v":0},0,null,0,null,0,0,null,35690,179,null,0,0]
[{"$f":"IF(AND(INTRO!$E$37=\"Non-endemic\",INTRO!$E$41=\"Non-endemic\"),\" \",IF(COUNTRY_INFO!A195=0,\" \",COUNTRY_INFO!A195))","v":"Ghana"},{"$f":"IF(AND(INTRO!$E$37=\"Non-endemic\",INTRO!$E$41=\"Non-endemic\"),\" \",IF(COUNTRY_INFO!B195=0,\" \",COUNTRY_INFO!B195))","v":"Volta"},{"$f":"IF(AND(INTRO!$E$37=\"Non-endemic\",INTRO!$E$41=\"Non-endemic\"),\" \",IF(COUNTRY_INFO!C195=0,\" \",COUNTRY_INFO!C195))","v":"Krachi West"},{"$f":"IF(AND(INTRO!$E$37=\"Non-endemic\",INTRO!$E$41=\"Non-endemic\"),0,IF(AND(OR(COUNTRY_INFO!$H195=0,COUNTRY_INFO!$H195=4,COUNTRY_INFO!$H195=99),OR(COUNTRY_INFO!$J195=0,COUNTRY_INFO!$J195=4)),0,COUNTRY_INFO!$E195))","v":6656},{"$f":"IF(AND(INTRO!$E$37=\"Non-endemic\",INTRO!$E$41=\"Non-endemic\"),0,IF(AND(OR(COUNTRY_INFO!$H195=0,COUNTRY_INFO!$H195=4,COUNTRY_INFO!$H195=99),OR(COUNTRY_INFO!$J195=0,COUNTRY_INFO!$J195=4)),0,COUNTRY_INFO!$F195))","v":15100},21756,{"$f":"IF(AND(INTRO!$E$37=\"Non-endemic\",INTRO!$E$41=\"Non-endemic\"),0,COUNTRY_INFO!P195)","v":0},{"$f":"IF(AND(INTRO!$E$37=\"Non-endemic\",INTRO!$E$41=\"Non-endemic\"),0,COUNTRY_INFO!R195)","v":1},{"$f":"IF(INTRO!$E$39=\"Non-endemic\",IF($G195=1,DEC!I195,0),IF($G195=1,IVM!G195,0))","v":0},"ALB",{"$f":"IF($J195=\"ALB\", IF(INTRO!$E$39=\"Non-endemic\", IF($H195<>0, IF($I195=0, $D195*$H195, $D195*($H195-$G195)), 0), $D195*$H195), 0)","v":6656},15100,null,21756,{"$f":"IF($J195=\"MBD\", IF(INTRO!$E$39=\"Non-endemic\", IF($H195<>0, IF($I195=0, $D195*$H195, $D195*($H195-$G195)), 0), $D195*$H195), 0)","v":0},0,null,0,null,0,0,null,15100,76,null,0,0]
[{"$f":"IF(AND(INTRO!$E$37=\"Non-endemic\",INTRO!$E$41=\"Non-endemic\"),\" \",IF(COUNTRY_INFO!A196=0,\" \",COUNTRY_INFO!A196))","v":"Ghana"},{"$f":"IF(AND(INTRO!$E$37=\"Non-endemic\",INTRO!$E$41=\"Non-endemic\"),\" \",IF(COUNTRY_INFO!B196=0,\" \",COUNTRY_INFO!B196))","v":"Volta"},{"$f":"IF(AND(INTRO!$E$37=\"Non-endemic\",INTRO!$E$41=\"Non-endemic\"),\" \",IF(COUNTRY_INFO!C196=0,\" \",COUNTRY_INFO!C196))","v":"Krachi Nchumuru"},{"$f":"IF(AND(INTRO!$E$37=\"Non-endemic\",INTRO!$E$41=\"Non-endemic\"),0,IF(AND(OR(COUNTRY_INFO!$H196=0,COUNTRY_INFO!$H196=4,COUNTRY_INFO!$H196=99),OR(COUNTRY_INFO!$J196=0,COUNTRY_INFO!$J196=4)),0,COUNTRY_INFO!$E196))","v":9791},{"$f":"IF(AND(INTRO!$E$37=\"Non-endemic\",INTRO!$E$41=\"Non-endemic\"),0,IF(AND(OR(COUNTRY_INFO!$H196=0,COUNTRY_INFO!$H196=4,COUNTRY_INFO!$H196=99),OR(COUNTRY_INFO!$J196=0,COUNTRY_INFO!$J196=4)),0,COUNTRY_INFO!$F196))","v":22210},32001,{"$f":"IF(AND(INTRO!$E$37=\"Non-endemic\",INTRO!$E$41=\"Non-endemic\"),0,COUNTRY_INFO!P196)","v":0},{"$f":"IF(AND(INTRO!$E$37=\"Non-endemic\",INTRO!$E$41=\"Non-endemic\"),0,COUNTRY_INFO!R196)","v":1},{"$f":"IF(INTRO!$E$39=\"Non-endemic\",IF($G196=1,DEC!I196,0),IF($G196=1,IVM!G196,0))","v":0},"ALB",{"$f":"IF($J196=\"ALB\", IF(INTRO!$E$39=\"Non-endemic\", IF($H196<>0, IF($I196=0, $D196*$H196, $D196*($H196-$G196)), 0), $D196*$H196), 0)","v":9791},22210,null,32001,{"$f":"IF($J196=\"MBD\", IF(INTRO!$E$39=\"Non-endemic\", IF($H196<>0, IF($I196=0, $D196*$H196, $D196*($H196-$G196)), 0), $D196*$H196), 0)","v":0},0,null,0,null,0,0,null,22210,112,null,0,0]
[{"$f":"IF(AND(INTRO!$E$37=\"Non-endemic\",INTRO!$E$41=\"Non-endemic\"),\" \",IF(COUNTRY_INFO!A197=0,\" \",COUNTRY_INFO!A197))","v":"Ghana"},{"$f":"IF(AND(INTRO!$E$37=\"Non-endemic\",INTRO!$E$41=\"Non-endemic\"),\" \",IF(COUNTRY_INFO!B197=0,\" \",COUNTRY_INFO!B197))","v":"Volta"},{"$f":"IF(AND(INTRO!$E$37=\"Non-endemic\",INTRO!$E$41=\"Non-endemic\"),\" \",IF(COUNTRY_INFO!C197=0,\" \",COUNTRY_INFO!C197))","v":"Nkwanta North"},{"$f":"IF(AND(INTRO!$E$37=\"Non-endemic\",INTRO!$E$41=\"Non-endemic\"),0,IF(AND(OR(COUNTRY_INFO!$H197=0,COUNTRY_INFO!$H197=4,COUNTRY_INFO!$H197=99),OR(COUNTRY_INFO!$J197=0,COUNTRY_INFO!$J197=4)),0,COUNTRY_INFO!$E197))","v":8695},{"$f":"IF(AND(INTRO!$E$37=\"Non-endemic\",INTRO!$E$41=\"Non-endemic\"),0,IF(AND(OR(COUNTRY_INFO!$H197=0,COUNTRY_INFO!$H197=4,COUNTRY_INFO!$H197=99),OR(COUNTRY_INFO!$J197=0,COUNTRY_INFO!$J197=4)),0,COUNTRY_INFO!$F197))","v":19724},28419,{"$f":"IF(AND(INTRO!$E$37=\"Non-endemic\",INTRO!$E$41=\"Non-endemic\"),0,COUNTRY_INFO!P197)","v":0},{"$f":"IF(AND(INTRO!$E$37=\"Non-endemic\",INTRO!$E$41=\"Non-endemic\"),0,COUNTRY_INFO!R197)","v":1},{"$f":"IF(INTRO!$E$39=\"Non-endemic\",IF($G197=1,DEC!I197,0),IF($G197=1,IVM!G197,0))","v":0},"ALB",{"$f":"IF($J197=\"ALB\", IF(INTRO!$E$39=\"Non-endemic\", IF($H197<>0, IF($I197=0, $D197*$H197, $D197*($H197-$G197)), 0), $D197*$H197), 0)","v":8695},19724,null,28419,{"$f":"IF($J197=\"MBD\", IF(INTRO!$E$39=\"Non-endemic\", IF($H197<>0, IF($I197=0, $D197*$H197, $D197*($H197-$G197)), 0), $D197*$H197), 0)","v":0},0,null,0,null,0,0,null,19724,99,null,0,0]
[{"$f":"IF(AND(INTRO!$E$37=\"Non-endemic\",INTRO!$E$41=\"Non-endemic\"),\" \",IF(COUNTRY_INFO!A198=0,\" \",COUNTRY_INFO!A198))","v":"Ghana"},{"$f":"IF(AND(INTRO!$E$37=\"Non-endemic\",INTRO!$E$41=\"Non-endemic\"),\" \",IF(COUNTRY_INFO!B198=0,\" \",COUNTRY_INFO!B198))","v":"Volta"},{"$f":"IF(AND(INTRO!$E$37=\"Non-endemic\",INTRO!$E$41=\"Non-endemic\"),\" \",IF(COUNTRY_INFO!C198=0,\" \",COUNTRY_INFO!C198))","v":"Nkwanta South"},{"$f":"IF(AND(INTRO!$E$37=\"Non-endemic\",INTRO!$E$41=\"Non-endemic\"),0,IF(AND(OR(COUNTRY_INFO!$H198=0,COUNTRY_INFO!$H198=4,COUNTRY_INFO!$H198=99),OR(COUNTRY_INFO!$J198=0,COUNTRY_INFO!$J198=4)),0,COUNTRY_INFO!$E198))","v":15878},{"$f":"IF(AND(INTRO!$E$37=\"Non-endemic\",INTRO!$E$41=\"Non-endemic\"),0,IF(AND(OR(COUNTRY_INFO!$H198=0,COUNTRY_INFO!$H198=4,COUNTRY_INFO!$H198=99),OR(COUNTRY_INFO!$J198=0,COUNTRY_INFO!$J198=4)),0,COUNTRY_INFO!$F198))","v":36018},51896,{"$f":"IF(AND(INTRO!$E$37=\"Non-endemic\",INTRO!$E$41=\"Non-endemic\"),0,COUNTRY_INFO!P198)","v":0},{"$f":"IF(AND(INTRO!$E$37=\"Non-endemic\",INTRO!$E$41=\"Non-endemic\"),0,COUNTRY_INFO!R198)","v":1},{"$f":"IF(INTRO!$E$39=\"Non-endemic\",IF($G198=1,DEC!I198,0),IF($G198=1,IVM!G198,0))","v":0},"ALB",{"$f":"IF($J198=\"ALB\", IF(INTRO!$E$39=\"Non-endemic\", IF($H198<>0, IF($I198=0, $D198*$H198, $D198*($H198-$G198)), 0), $D198*$H198), 0)","v":15878},36018,null,51896,{"$f":"IF($J198=\"MBD\", IF(INTRO!$E$39=\"Non-endemic\", IF($H198<>0, IF($I198=0, $D198*$H198, $D198*($H198-$G198)), 0), $D198*$H198), 0)","v":0},0,null,0,null,0,0,null,36018,181,null,0,0]
[{"$f":"IF(AND(INTRO!$E$37=\"Non-endemic\",INTRO!$E$41=\"Non-endemic\"),\" \",IF(COUNTRY_INFO!A199=0,\" \",COUNTRY_INFO!A199))","v":"Ghana"},{"$f":"IF(AND(INTRO!$E$37=\"Non-endemic\",INTRO!$E$41=\"Non-endemic\"),\" \",IF(COUNTRY_INFO!B199=0,\" \",COUNTRY_INFO!B199))","v":"Volta"},{"$f":"IF(AND(INTRO!$E$37=\"Non-endemic\",INTRO!$E$41=\"Non-endemic\"),\" \",IF(COUNTRY_INFO!C199=0,\" \",COUNTRY_INFO!C199))","v":"North Tongu"},{"$f":"IF(AND(INTRO!$E$37=\"Non-endemic\",INTRO!$E$41=\"Non-endemic\"),0,IF(AND(OR(COUNTRY_INFO!$H199=0,COUNTRY_INFO!$H199=4,COUNTRY_INFO!$H199=99),OR(COUNTRY_INFO!$J199=0,COUNTRY_INFO!$J199=4)),0,COUNTRY_INFO!$E199))","v":12092},{"$f":"IF(AND(INTRO!$E$37=\"Non-endemic\",INTRO!$E$41=\"Non-endemic\"),0,IF(AND(OR(COUNTRY_INFO!$H199=0,COUNTRY_INFO!$H199=4,COUNTRY_INFO!$H199=99),OR(COUNTRY_INFO!$J199=0,COUNTRY_INFO!$J199=4)),0,COUNTRY_INFO!$F199))","v":27432},39524,{"$f":"IF(AND(INTRO!$E$37=\"Non-endemic\",INTRO!$E$41=\"Non-endemic\"),0,COUNTRY_INFO!P199)","v":0},{"$f":"IF(AND(INTRO!$E$37=\"Non-endemic\",INTRO!$E$41=\"Non-endemic\"),0,COUNTRY_INFO!R199)","v":1},{"$f":"IF(INTRO!$E$39=\"Non-endemic\",IF($G199=1,DEC!I199,0),IF($G199=1,IVM!G199,0))","v":0},"ALB",{"$f":"IF($J199=\"ALB\", IF(INTRO!$E$39=\"Non-endemic\", IF($H199<>0, IF($I199=0, $D199*$H199, $D199*($H199-$G199)), 0), $D199*$H199), 0)","v":12092},27432,null,39524,{"$f":"IF($J199=\"MBD\", IF(INTRO!$E$39=\"Non-endemic\", IF($H199<>0, IF($I199=0, $D199*$H199, $D199*($H199-$G199)), 0), $D199*$H199), 0)","v":0},0,null,0,null,0,0,null,27432,138,null,0,0]
[{"$f":"IF(AND(INTRO!$E$37=\"Non-endemic\",INTRO!$E$41=\"Non-endemic\"),\" \",IF(COUNTRY_INFO!A200=0,\" \",COUNTRY_INFO!A200))","v":"Ghana"},{"$f":"IF(AND(INTRO!$E$37=\"Non-endemic\",INTRO!$E$41=\"Non-endemic\"),\" \",IF(COUNTRY_INFO!B200=0,\" \",COUNTRY_INFO!B200))","v":"Volta"},{"$f":"IF(AND(INTRO!$E$37=\"Non-endemic\",INTRO!$E$41=\"Non-endemic\"),\" \",IF(COUNTRY_INFO!C200=0,\" \",COUNTRY_INFO!C200))","v":"Central Tongu"},{"$f":"IF(AND(INTRO!$E$37=\"Non-endemic\",INTRO!$E$41=\"Non-endemic\"),0,IF(AND(OR(COUNTRY_INFO!$H200=0,COUNTRY_INFO!$H200=4,COUNTRY_INFO!$H200=99),OR(COUNTRY_INFO!$J200=0,COUNTRY_INFO!$J200=4)),0,COUNTRY_INFO!$E200))","v":8002},{"$f":"IF(AND(INTRO!$E$37=\"Non-endemic\",INTRO!$E$41=\"Non-endemic\"),0,IF(AND(OR(COUNTRY_INFO!$H200=0,COUNTRY_INFO!$H200=4,COUNTRY_INFO!$H200=99),OR(COUNTRY_INFO!$J200=0,COUNTRY_INFO!$J200=4)),0,COUNTRY_INFO!$F200))","v":18154},26156,{"$f":"IF(AND(INTRO!$E$37=\"Non-endemic\",INTRO!$E$41=\"Non-endemic\"),0,COUNTRY_INFO!P200)","v":0},{"$f":"IF(AND(INTRO!$E$37=\"Non-endemic\",INTRO!$E$41=\"Non-endemic\"),0,COUNTRY_INFO!R200)","v":1},{"$f":"IF(INTRO!$E$39=\"Non-endemic\",IF($G200=1,DEC!I200,0),IF($G200=1,IVM!G200,0))","v":0},"ALB",{"$f":"IF($J200=\"ALB\", IF(INTRO!$E$39=\"Non-endemic\", IF($H200<>0, IF($I200=0, $D200*$H200, $D200*($H200-$G200)), 0), $D200*$H200), 0)","v":8002},18154,null,26156,{"$f":"IF($J200=\"MBD\", IF(INTRO!$E$39=\"Non-endemic\", IF($H200<>0, IF($I200=0, $D200*$H200, $D200*($H200-$G200)), 0), $D200*$H200), 0)","v":0},0,null,0,null,0,0,null,18154,91,null,0,0]
[{"$f":"IF(AND(INTRO!$E$37=\"Non-endemic\",INTRO!$E$41=\"Non-endemic\"),\" \",IF(COUNTRY_INFO!A201=0,\" \",COUNTRY_INFO!A201))","v":"Ghana"},{"$f":"IF(AND(INTRO!$E$37=\"Non-endemic\",INTRO!$E$41=\"Non-endemic\"),\" \",IF(COUNTRY_INFO!B201=0,\" \",COUNTRY_INFO!B201))","v":"Volta"},{"$f":"IF(AND(INTRO!$E$37=\"Non-endemic\",INTRO!$E$41=\"Non-endemic\"),\" \",IF(COUNTRY_INFO!C201=0,\" \",COUNTRY_INFO!C201))","v":"South Dayi"},{"$f":"IF(AND(INTRO!$E$37=\"Non-endemic\",INTRO!$E$41=\"Non-endemic\"),0,IF(AND(OR(COUNTRY_INFO!$H201=0,COUNTRY_INFO!$H201=4,COUNTRY_INFO!$H201=99),OR(COUNTRY_INFO!$J201=0,COUNTRY_INFO!$J201=4)),0,COUNTRY_INFO!$E201))","v":6285},{"$f":"IF(AND(INTRO!$E$37=\"Non-endemic\",INTRO!$E$41=\"Non-endemic\"),0,IF(AND(OR(COUNTRY_INFO!$H201=0,COUNTRY_INFO!$H201=4,COUNTRY_INFO!$H201=99),OR(COUNTRY_INFO!$J201=0,COUNTRY_INFO!$J201=4)),0,COUNTRY_INFO!$F201))","v":14258},{"$f":"SUM(D201:E201)","v":20543},{"$f":"IF(AND(INTRO!$E$37=\"Non-endemic\",INTRO!$E$41=\"Non-endemic\"),0,COUNTRY_INFO!P201)","v":0},{"$f":"IF(AND(INTRO!$E$37=\"Non-endemic\",INTRO!$E$41=\"Non-endemic\"),0,COUNTRY_INFO!R201)","v":1},{"$f":"IF(INTRO!$E$39=\"Non-endemic\",IF($G201=1,DEC!I201,0),IF($G201=1,IVM!G201,0))","v":0},"ALB",{"$f":"IF($J201=\"ALB\", IF(INTRO!$E$39=\"Non-endemic\", IF($H201<>0, IF($I201=0, $D201*$H201, $D201*($H201-$G201)), 0), $D201*$H201), 0)","v":6285},{"$f":"IF($J201=\"ALB\", IF($H201<>0, IF($I201=0, $E201*$H201, $E201*($H201-$G201)),0), 0)","v":14258},null,{"$f":"SUM(K201:M201)","v":20543},{"$f":"IF($J201=\"MBD\", IF(INTRO!$E$39=\"Non-endemic\", IF($H201<>0, IF($I201=0, $D201*$H201, $D201*($H201-$G201)), 0), $D201*$H201), 0)","v":0},{"$f":"IF($J201=\"MBD\", IF($H201<>0,IF($I201=0, $E201*$H201, $E201*($H201-$G201)),0), 0 )","v":0},null,{"$f":"SUM(O201:Q201)","v":0},null,{"$f":"IF($I201>$S201, $I201-$S201,0)","v":0},{"$f":"ROUNDUP($I201/200,0)","v":0},null,{"$f":"IF($L201>$V201,$L201-$V201,0)","v":14258},{"$f":"ROUNDUP($L201/200,0)","v":72},null,{"$f":"IF($P201>$Y201,$P201-$Y201,0)","v":0},{"$f":"ROUNDUP($P201/150,0)","v":0}]
[{"$f":"IF(AND(INTRO!$E$37=\"Non-endemic\",INTRO!$E$41=\"Non-endemic\"),\" \",IF(COUNTRY_INFO!A202=0,\" \",COUNTRY_INFO!A202))","v":"Ghana"},{"$f":"IF(AND(INTRO!$E$37=\"Non-endemic\",INTRO!$E$41=\"Non-endemic\"),\" \",IF(COUNTRY_INFO!B202=0,\" \",COUNTRY_INFO!B202))","v":"Volta"},{"$f":"IF(AND(INTRO!$E$37=\"Non-endemic\",INTRO!$E$41=\"Non-endemic\"),\" \",IF(COUNTRY_INFO!C202=0,\" \",COUNTRY_INFO!C202))","v":"South Tongu"},{"$f":"IF(AND(INTRO!$E$37=\"Non-endemic\",INTRO!$E$41=\"Non-endemic\"),0,IF(AND(OR(COUNTRY_INFO!$H202=0,COUNTRY_INFO!$H202=4,COUNTRY_INFO!$H202=99),OR(COUNTRY_INFO!$J202=0,COUNTRY_INFO!$J202=4)),0,COUNTRY_INFO!$E202))","v":11846},{"$f":"IF(AND(INTRO!$E$37=\"Non-endemic\",INTRO!$E$41=\"Non-endemic\"),0,IF(AND(OR(COUNTRY_INFO!$H202=0,COUNTRY_INFO!$H202=4,COUNTRY_INFO!$H202=99),OR(COUNTRY_INFO!$J202=0,COUNTRY_INFO!$J202=4)),0,COUNTRY_INFO!$F202))","v":26874},38720,{"$f":"IF(AND(INTRO!$E$37=\"Non-endemic\",INTRO!$E$41=\"Non-endemic\"),0,COUNTRY_INFO!P202)","v":0},{"$f":"IF(AND(INTRO!$E$37=\"Non-endemic\",INTRO!$E$41=\"Non-endemic\"),0,COUNTRY_INFO!R202)","v":1},{"$f":"IF(INTRO!$E$39=\"Non-endemic\",IF($G202=1,DEC!I202,0),IF($G202=1,IVM!G202,0))","v":0},"ALB",{"$f":"IF($J202=\"ALB\", IF(INTRO!$E$39=\"Non-endemic\", IF($H202<>0, IF($I202=0, $D202*$H202, $D202*($H202-$G202)), 0), $D202*$H202), 0)","v":11846},26874,null,38720,{"$f":"IF($J202=\"MBD\", IF(INTRO!$E$39=\"Non-endemic\", IF($H202<>0, IF($I202=0, $D202*$H202, $D202*($H202-$G202)), 0), $D202*$H202), 0)","v":0},0,null,0,null,0,0,null,26874,135,null,0,0]
[{"$f":"IF(AND(INTRO!$E$37=\"Non-endemic\",INTRO!$E$41=\"Non-endemic\"),\" \",IF(COUNTRY_INFO!A203=0,\" \",COUNTRY_INFO!A203))","v":"Ghana"},{"$f":"IF(AND(INTRO!$E$37=\"Non-endemic\",INTRO!$E$41=\"Non-endemic\"),\" \",IF(COUNTRY_INFO!B203=0,\" \",COUNTRY_INFO!B203))","v":"Western"},{"$f":"IF(AND(INTRO!$E$37=\"Non-endemic\",INTRO!$E$41=\"Non-endemic\"),\" \",IF(COUNTRY_INFO!C203=0,\" \",COUNTRY_INFO!C203))","v":"Ahanta West"},{"$f":"IF(AND(INTRO!$E$37=\"Non-endemic\",INTRO!$E$41=\"Non-endemic\"),0,IF(AND(OR(COUNTRY_INFO!$H203=0,COUNTRY_INFO!$H203=4,COUNTRY_INFO!$H203=99),OR(COUNTRY_INFO!$J203=0,COUNTRY_INFO!$J203=4)),0,COUNTRY_INFO!$E203))","v":13758},{"$f":"IF(AND(INTRO!$E$37=\"Non-endemic\",INTRO!$E$41=\"Non-endemic\"),0,IF(AND(OR(COUNTRY_INFO!$H203=0,COUNTRY_INFO!$H203=4,COUNTRY_INFO!$H203=99),OR(COUNTRY_INFO!$J203=0,COUNTRY_INFO!$J203=4)),0,COUNTRY_INFO!$F203))","v":31210},44968,{"$f":"IF(AND(INTRO!$E$37=\"Non-endemic\",INTRO!$E$41=\"Non-endemic\"),0,COUNTRY_INFO!P203)","v":1},{"$f":"IF(AND(INTRO!$E$37=\"Non-endemic\",INTRO!$E$41=\"Non-endemic\"),0,COUNTRY_INFO!R203)","v":1},{"$f":"IF(INTRO!$E$39=\"Non-endemic\",IF($G203=1,DEC!I203,0),IF($G203=1,IVM!G203,0))","v":109808},"",{"$f":"IF($J203=\"ALB\", IF(INTRO!$E$39=\"Non-endemic\", IF($H203<>0, IF($I203=0, $D203*$H203, $D203*($H203-$G203)), 0), $D203*$H203), 0)","v":0},0,null,0,{"$f":"IF($J203=\"MBD\", IF(INTRO!$E$39=\"Non-endemic\", IF($H203<>0, IF($I203=0, $D203*$H203, $D203*($H203-$G203)), 0), $D203*$H203), 0)","v":0},0,null,0,null,109808,550,null,0,0,null,0,0]
[{"$f":"IF(AND(INTRO!$E$37=\"Non-endemic\",INTRO!$E$41=\"Non-endemic\"),\" \",IF(COUNTRY_INFO!A204=0,\" \",COUNTRY_INFO!A204))","v":"Ghana"},{"$f":"IF(AND(INTRO!$E$37=\"Non-endemic\",INTRO!$E$41=\"Non-endemic\"),\" \",IF(COUNTRY_INFO!B204=0,\" \",COUNTRY_INFO!B204))","v":"Western"},{"$f":"IF(AND(INTRO!$E$37=\"Non-endemic\",INTRO!$E$41=\"Non-endemic\"),\" \",IF(COUNTRY_INFO!C204=0,\" \",COUNTRY_INFO!C204))","v":"Aowin"},{"$f":"IF(AND(INTRO!$E$37=\"Non-endemic\",INTRO!$E$41=\"Non-endemic\"),0,IF(AND(OR(COUNTRY_INFO!$H204=0,COUNTRY_INFO!$H204=4,COUNTRY_INFO!$H204=99),OR(COUNTRY_INFO!$J204=0,COUNTRY_INFO!$J204=4)),0,COUNTRY_INFO!$E204))","v":15313},{"$f":"IF(AND(INTRO!$E$37=\"Non-endemic\",INTRO!$E$41=\"Non-endemic\"),0,IF(AND(OR(COUNTRY_INFO!$H204=0,COUNTRY_INFO!$H204=4,COUNTRY_INFO!$H204=99),OR(COUNTRY_INFO!$J204=0,COUNTRY_INFO!$J204=4)),0,COUNTRY_INFO!$F204))","v":34737},50050,{"$f":"IF(AND(INTRO!$E$37=\"Non-endemic\",INTRO!$E$41=\"Non-endemic\"),0,COUNTRY_INFO!P204)","v":0},{"$f":"IF(AND(INTRO!$E$37=\"Non-endemic\",INTRO!$E$41=\"Non-endemic\"),0,COUNTRY_INFO!R204)","v":1},{"$f":"IF(INTRO!$E$39=\"Non-endemic\",IF($G204=1,DEC!I204,0),IF($G204=1,IVM!G204,0))","v":0},"ALB",{"$f":"IF($J204=\"ALB\", IF(INTRO!$E$39=\"Non-endemic\", IF($H204<>0, IF($I204=0, $D204*$H204, $D204*($H204-$G204)), 0), $D204*$H204), 0)","v":15313},34737,null,50050,{"$f":"IF($J204=\"MBD\", IF(INTRO!$E$39=\"Non-endemic\", IF($H204<>0, IF($I204=0, $D204*$H204, $D204*($H204-$G204)), 0), $D204*$H204), 0)","v":0},0,null,0,null,0,0,null,34737,174,null,0,0]
[{"$f":"IF(AND(INTRO!$E$37=\"Non-endemic\",INTRO!$E$41=\"Non-endemic\"),\" \",IF(COUNTRY_INFO!A205=0,\" \",COUNTRY_INFO!A205))","v":"Ghana"},{"$f":"IF(AND(INTRO!$E$37=\"Non-endemic\",INTRO!$E$41=\"Non-endemic\"),\" \",IF(COUNTRY_INFO!B205=0,\" \",COUNTRY_INFO!B205))","v":"Western"},{"$f":"IF(AND(INTRO!$E$37=\"Non-endemic\",INTRO!$E$41=\"Non-endemic\"),\" \",IF(COUNTRY_INFO!C205=0,\" \",COUNTRY_INFO!C205))","v":"Suaman"},{"$f":"IF(AND(INTRO!$E$37=\"Non-endemic\",INTRO!$E$41=\"Non-endemic\"),0,IF(AND(OR(COUNTRY_INFO!$H205=0,COUNTRY_INFO!$H205=4,COUNTRY_INFO!$H205=99),OR(COUNTRY_INFO!$J205=0,COUNTRY_INFO!$J205=4)),0,COUNTRY_INFO!$E205))","v":2616},{"$f":"IF(AND(INTRO!$E$37=\"Non-endemic\",INTRO!$E$41=\"Non-endemic\"),0,IF(AND(OR(COUNTRY_INFO!$H205=0,COUNTRY_INFO!$H205=4,COUNTRY_INFO!$H205=99),OR(COUNTRY_INFO!$J205=0,COUNTRY_INFO!$J205=4)),0,COUNTRY_INFO!$F205))","v":5934},8550,{"$f":"IF(AND(INTRO!$E$37=\"Non-endemic\",INTRO!$E$41=\"Non-endemic\"),0,COUNTRY_INFO!P205)","v":0},{"$f":"IF(AND(INTRO!$E$37=\"Non-endemic\",INTRO!$E$41=\"Non-endemic\"),0,COUNTRY_INFO!R205)","v":1},{"$f":"IF(INTRO!$E$39=\"Non-endemic\",IF($G205=1,DEC!I205,0),IF($G205=1,IVM!G205,0))","v":0},"ALB",{"$f":"IF($J205=\"ALB\", IF(INTRO!$E$39=\"Non-endemic\", IF($H205<>0, IF($I205=0, $D205*$H205, $D205*($H205-$G205)), 0), $D205*$H205), 0)","v":2616},5934,null,8550,{"$f":"IF($J205=\"MBD\", IF(INTRO!$E$39=\"Non-endemic\", IF($H205<>0, IF($I205=0, $D205*$H205, $D205*($H205-$G205)), 0), $D205*$H205), 0)","v":0},0,null,0,null,0,0,null,5934,30,null,0,0]
[{"$f":"IF(AND(INTRO!$E$37=\"Non-endemic\",INTRO!$E$41=\"Non-endemic\"),\" \",IF(COUNTRY_INFO!A206=0,\" \",COUNTRY_INFO!A206))","v":"Ghana"},{"$f":"IF(AND(INTRO!$E$37=\"Non-endemic\",INTRO!$E$41=\"Non-endemic\"),\" \",IF(COUNTRY_INFO!B206=0,\" \",COUNTRY_INFO!B206))","v":"Western"},{"$f":"IF(AND(INTRO!$E$37=\"Non-endemic\",INTRO!$E$41=\"Non-endemic\"),\" \",IF(COUNTRY_INFO!C206=0,\" \",COUNTRY_INFO!C206))","v":"Axim Municipal "},{"$f":"IF(AND(INTRO!$E$37=\"Non-endemic\",INTRO!$E$41=\"Non-endemic\"),0,IF(AND(OR(COUNTRY_INFO!$H206=0,COUNTRY_INFO!$H206=4,COUNTRY_INFO!$H206=99),OR(COUNTRY_INFO!$J206=0,COUNTRY_INFO!$J206=4)),0,COUNTRY_INFO!$E206))","v":7879},{"$f":"IF(AND(INTRO!$E$37=\"Non-endemic\",INTRO!$E$41=\"Non-endemic\"),0,IF(AND(OR(COUNTRY_INFO!$H206=0,COUNTRY_INFO!$H206=4,COUNTRY_INFO!$H206=99),OR(COUNTRY_INFO!$J206=0,COUNTRY_INFO!$J206=4)),0,COUNTRY_INFO!$F206))","v":17873},25752,{"$f":"IF(AND(INTRO!$E$37=\"Non-endemic\",INTRO!$E$41=\"Non-endemic\"),0,COUNTRY_INFO!P206)","v":1},{"$f":"IF(AND(INTRO!$E$37=\"Non-endemic\",INTRO!$E$41=\"Non-endemic\"),0,COUNTRY_INFO!R206)","v":1},{"$f":"IF(INTRO!$E$39=\"Non-endemic\",IF($G206=1,DEC!I206,0),IF($G206=1,IVM!G206,0))","v":62884},"",{"$f":"IF($J206=\"ALB\", IF(INTRO!$E$39=\"Non-endemic\", IF($H206<>0, IF($I206=0, $D206*$H206, $D206*($H206-$G206)), 0), $D206*$H206), 0)","v":0},0,null,0,{"$f":"IF($J206=\"MBD\", IF(INTRO!$E$39=\"Non-endemic\", IF($H206<>0, IF($I206=0, $D206*$H206, $D206*($H206-$G206)), 0), $D206*$H206), 0)","v":0},0,null,0,null,62884,315,null,0,0,null,0,0]
[{"$f":"IF(AND(INTRO!$E$37=\"Non-endemic\",INTRO!$E$41=\"Non-endemic\"),\" \",IF(COUNTRY_INFO!A207=0,\" \",COUNTRY_INFO!A207))","v":"Ghana"},{"$f":"IF(AND(INTRO!$E$37=\"Non-endemic\",INTRO!$E$41=\"Non-endemic\"),\" \",IF(COUNTRY_INFO!B207=0,\" \",COUNTRY_INFO!B207))","v":"Western"},{"$f":"IF(AND(INTRO!$E$37=\"Non-endemic\",INTRO!$E$41=\"Non-endemic\"),\" \",IF(COUNTRY_INFO!C207=0,\" \",COUNTRY_INFO!C207))","v":"Bia West"},{"$f":"IF(AND(INTRO!$E$37=\"Non-endemic\",INTRO!$E$41=\"Non-endemic\"),0,IF(AND(OR(COUNTRY_INFO!$H207=0,COUNTRY_INFO!$H207=4,COUNTRY_INFO!$H207=99),OR(COUNTRY_INFO!$J207=0,COUNTRY_INFO!$J207=4)),0,COUNTRY_INFO!$E207))","v":11652},{"$f":"IF(AND(INTRO!$E$37=\"Non-endemic\",INTRO!$E$41=\"Non-endemic\"),0,IF(AND(OR(COUNTRY_INFO!$H207=0,COUNTRY_INFO!$H207=4,COUNTRY_INFO!$H207=99),OR(COUNTRY_INFO!$J207=0,COUNTRY_INFO!$J207=4)),0,COUNTRY_INFO!$F207))","v":26433},38085,{"$f":"IF(AND(INTRO!$E$37=\"Non-endemic\",INTRO!$E$41=\"Non-endemic\"),0,COUNTRY_INFO!P207)","v":0},{"$f":"IF(AND(INTRO!$E$37=\"Non-endemic\",INTRO!$E$41=\"Non-endemic\"),0,COUNTRY_INFO!R207)","v":1},{"$f":"IF(INTRO!$E$39=\"Non-endemic\",IF($G207=1,DEC!I207,0),IF($G207=1,IVM!G207,0))","v":0},"ALB",{"$f":"IF($J207=\"ALB\", IF(INTRO!$E$39=\"Non-endemic\", IF($H207<>0, IF($I207=0, $D207*$H207, $D207*($H207-$G207)), 0), $D207*$H207), 0)","v":11652},26433,null,38085,{"$f":"IF($J207=\"MBD\", IF(INTRO!$E$39=\"Non-endemic\", IF($H207<>0, IF($I207=0, $D207*$H207, $D207*($H207-$G207)), 0), $D207*$H207), 0)","v":0},0,null,0,null,0,0,null,26433,133,null,0,0]
[{"$f":"IF(AND(INTRO!$E$37=\"Non-endemic\",INTRO!$E$41=\"Non-endemic\"),\" \",IF(COUNTRY_INFO!A208=0,\" \",COUNTRY_INFO!A208))","v":"Ghana"},{"$f":"IF(AND(INTRO!$E$37=\"Non-endemic\",INTRO!$E$41=\"Non-endemic\"),\" \",IF(COUNTRY_INFO!B208=0,\" \",COUNTRY_INFO!B208))","v":"Western"},{"$f":"IF(AND(INTRO!$E$37=\"Non-endemic\",INTRO!$E$41=\"Non-endemic\"),\" \",IF(COUNTRY_INFO!C208=0,\" \",COUNTRY_INFO!C208))","v":"Bia East"},{"$f":"IF(AND(INTRO!$E$37=\"Non-endemic\",INTRO!$E$41=\"Non-endemic\"),0,IF(AND(OR(COUNTRY_INFO!$H208=0,COUNTRY_INFO!$H208=4,COUNTRY_INFO!$H208=99),OR(COUNTRY_INFO!$J208=0,COUNTRY_INFO!$J208=4)),0,COUNTRY_INFO!$E208))","v":3416},{"$f":"IF(AND(INTRO!$E$37=\"Non-endemic\",INTRO!$E$41=\"Non-endemic\"),0,IF(AND(OR(COUNTRY_INFO!$H208=0,COUNTRY_INFO!$H208=4,COUNTRY_INFO!$H208=99),OR(COUNTRY_INFO!$J208=0,COUNTRY_INFO!$J208=4)),0,COUNTRY_INFO!$F208))","v":7749},11165,{"$f":"IF(AND(INTRO!$E$37=\"Non-endemic\",INTRO!$E$41=\"Non-endemic\"),0,COUNTRY_INFO!P208)","v":0},{"$f":"IF(AND(INTRO!$E$37=\"Non-endemic\",INTRO!$E$41=\"Non-endemic\"),0,COUNTRY_INFO!R208)","v":1},{"$f":"IF(INTRO!$E$39=\"Non-endemic\",IF($G208=1,DEC!I208,0),IF($G208=1,IVM!G208,0))","v":0},"ALB",{"$f":"IF($J208=\"ALB\", IF(INTRO!$E$39=\"Non-endemic\", IF($H208<>0, IF($I208=0, $D208*$H208, $D208*($H208-$G208)), 0), $D208*$H208), 0)","v":3416},7749,null,11165,{"$f":"IF($J208=\"MBD\", IF(INTRO!$E$39=\"Non-endemic\", IF($H208<>0, IF($I208=0, $D208*$H208, $D208*($H208-$G208)), 0), $D208*$H208), 0)","v":0},0,null,0,null,0,0,null,7749,39,null,0,0]
[{"$f":"IF(AND(INTRO!$E$37=\"Non-endemic\",INTRO!$E$41=\"Non-endemic\"),\" \",IF(COUNTRY_INFO!A209=0,\" \",COUNTRY_INFO!A209))","v":"Ghana"},{"$f":"IF(AND(INTRO!$E$37=\"Non-endemic\",INTRO!$E$41=\"Non-endemic\"),\" \",IF(COUNTRY_INFO!B209=0,\" \",COUNTRY_INFO!B209))","v":"Western"},{"$f":"IF(AND(INTRO!$E$37=\"Non-endemic\",INTRO!$E$41=\"Non-endemic\"),\" \",IF(COUNTRY_INFO!C209=0,\" \",COUNTRY_INFO!C209))","v":"Bibiani-Anhwiaso-Bekwai"},{"$f":"IF(AND(INTRO!$E$37=\"Non-endemic\",INTRO!$E$41=\"Non-endemic\"),0,IF(AND(OR(COUNTRY_INFO!$H209=0,COUNTRY_INFO!$H209=4,COUNTRY_INFO!$H209=99),OR(COUNTRY_INFO!$J209=0,COUNTRY_INFO!$J209=4)),0,COUNTRY_INFO!$E209))","v":15967},{"$f":"IF(AND(INTRO!$E$37=\"Non-endemic\",INTRO!$E$41=\"Non-endemic\"),0,IF(AND(OR(COUNTRY_INFO!$H209=0,COUNTRY_INFO!$H209=4,COUNTRY_INFO!$H209=99),OR(COUNTRY_INFO!$J209=0,COUNTRY_INFO!$J209=4)),0,COUNTRY_INFO!$F209))","v":36222},52189,{"$f":"IF(AND(INTRO!$E$37=\"Non-endemic\",INTRO!$E$41=\"Non-endemic\"),0,COUNTRY_INFO!P209)","v":0},{"$f":"IF(AND(INTRO!$E$37=\"Non-endemic\",INTRO!$E$41=\"Non-endemic\"),0,COUNTRY_INFO!R209)","v":1},{"$f":"IF(INTRO!$E$39=\"Non-endemic\",IF($G209=1,DEC!I209,0),IF($G209=1,IVM!G209,0))","v":0},"ALB",{"$f":"IF($J209=\"ALB\", IF(INTRO!$E$39=\"Non-endemic\", IF($H209<>0, IF($I209=0, $D209*$H209, $D209*($H209-$G209)), 0), $D209*$H209), 0)","v":15967},36222,null,52189,{"$f":"IF($J209=\"MBD\", IF(INTRO!$E$39=\"Non-endemic\", IF($H209<>0, IF($I209=0, $D209*$H209, $D209*($H209-$G209)), 0), $D209*$H209), 0)","v":0},0,null,0,null,0,0,null,36222,182,null,0,0]
[{"$f":"IF(AND(INTRO!$E$37=\"Non-endemic\",INTRO!$E$41=\"Non-endemic\"),\" \",IF(COUNTRY_INFO!A210=0,\" \",COUNTRY_INFO!A210))","v":"Ghana"},{"$f":"IF(AND(INTRO!$E$37=\"Non-endemic\",INTRO!$E$41=\"Non-endemic\"),\" \",IF(COUNTRY_INFO!B210=0,\" \",COUNTRY_INFO!B210))","v":"Western"},{"$f":"IF(AND(INTRO!$E$37=\"Non-endemic\",INTRO!$E$41=\"Non-endemic\"),\" \",IF(COUNTRY_INFO!C210=0,\" \",COUNTRY_INFO!C210))","v":"Ellembelle"},{"$f":"IF(AND(INTRO!$E$37=\"Non-endemic\",INTRO!$E$41=\"Non-endemic\"),0,IF(AND(OR(COUNTRY_INFO!$H210=0,COUNTRY_INFO!$H210=4,COUNTRY_INFO!$H210=99),OR(COUNTRY_INFO!$J210=0,COUNTRY_INFO!$J210=4)),0,COUNTRY_INFO!$E210))","v":11334},{"$f":"IF(AND(INTRO!$E$37=\"Non-endemic\",INTRO!$E$41=\"Non-endemic\"),0,IF(AND(OR(COUNTRY_INFO!$H210=0,COUNTRY_INFO!$H210=4,COUNTRY_INFO!$H210=99),OR(COUNTRY_INFO!$J210=0,COUNTRY_INFO!$J210=4)),0,COUNTRY_INFO!$F210))","v":25711},37045,{"$f":"IF(AND(INTRO!$E$37=\"Non-endemic\",INTRO!$E$41=\"Non-endemic\"),0,COUNTRY_INFO!P210)","v":1},{"$f":"IF(AND(INTRO!$E$37=\"Non-endemic\",INTRO!$E$41=\"Non-endemic\"),0,COUNTRY_INFO!R210)","v":1},{"$f":"IF(INTRO!$E$39=\"Non-endemic\",IF($G210=1,DEC!I210,0),IF($G210=1,IVM!G210,0))","v":90460},"",{"$f":"IF($J210=\"ALB\", IF(INTRO!$E$39=\"Non-endemic\", IF($H210<>0, IF($I210=0, $D210*$H210, $D210*($H210-$G210)), 0), $D210*$H210), 0)","v":0},0,null,0,{"$f":"IF($J210=\"MBD\", IF(INTRO!$E$39=\"Non-endemic\", IF($H210<>0, IF($I210=0, $D210*$H210, $D210*($H210-$G210)), 0), $D210*$H210), 0)","v":0},0,null,0,null,90460,453,null,0,0,null,0,0]
[{"$f":"IF(AND(INTRO!$E$37=\"Non-endemic\",INTRO!$E$41=\"Non-endemic\"),\" \",IF(COUNTRY_INFO!A211=0,\" \",COUNTRY_INFO!A211))","v":"Ghana"},{"$f":"IF(AND(INTRO!$E$37=\"Non-endemic\",INTRO!$E$41=\"Non-endemic\"),\" \",IF(COUNTRY_INFO!B211=0,\" \",COUNTRY_INFO!B211))","v":"Western"},{"$f":"IF(AND(INTRO!$E$37=\"Non-endemic\",INTRO!$E$41=\"Non-endemic\"),\" \",IF(COUNTRY_INFO!C211=0,\" \",COUNTRY_INFO!C211))","v":"Jomoro"},{"$f":"IF(AND(INTRO!$E$37=\"Non-endemic\",INTRO!$E$41=\"Non-endemic\"),0,IF(AND(OR(COUNTRY_INFO!$H211=0,COUNTRY_INFO!$H211=4,COUNTRY_INFO!$H211=99),OR(COUNTRY_INFO!$J211=0,COUNTRY_INFO!$J211=4)),0,COUNTRY_INFO!$E211))","v":19443},{"$f":"IF(AND(INTRO!$E$37=\"Non-endemic\",INTRO!$E$41=\"Non-endemic\"),0,IF(AND(OR(COUNTRY_INFO!$H211=0,COUNTRY_INFO!$H211=4,COUNTRY_INFO!$H211=99),OR(COUNTRY_INFO!$J211=0,COUNTRY_INFO!$J211=4)),0,COUNTRY_INFO!$F211))","v":44107},63550,{"$f":"IF(AND(INTRO!$E$37=\"Non-endemic\",INTRO!$E$41=\"Non-endemic\"),0,COUNTRY_INFO!P211)","v":0},{"$f":"IF(AND(INTRO!$E$37=\"Non-endemic\",INTRO!$E$41=\"Non-endemic\"),0,COUNTRY_INFO!R211)","v":1},{"$f":"IF(INTRO!$E$39=\"Non-endemic\",IF($G211=1,DEC!I211,0),IF($G211=1,IVM!G211,0))","v":0},"ALB",{"$f":"IF($J211=\"ALB\", IF(INTRO!$E$39=\"Non-endemic\", IF($H211<>0, IF($I211=0, $D211*$H211, $D211*($H211-$G211)), 0), $D211*$H211), 0)","v":19443},44107,null,63550,{"$f":"IF($J211=\"MBD\", IF(INTRO!$E$39=\"Non-endemic\", IF($H211<>0, IF($I211=0, $D211*$H211, $D211*($H211-$G211)), 0), $D211*$H211), 0)","v":0},0,null,0,null,0,0,null,44107,221,null,0,0]
[{"$f":"IF(AND(INTRO!$E$37=\"Non-endemic\",INTRO!$E$41=\"Non-endemic\"),\" \",IF(COUNTRY_INFO!A212=0,\" \",COUNTRY_INFO!A212))","v":"Ghana"},{"$f":"IF(AND(INTRO!$E$37=\"Non-endemic\",INTRO!$E$41=\"Non-endemic\"),\" \",IF(COUNTRY_INFO!B212=0,\" \",COUNTRY_INFO!B212))","v":"Western"},{"$f":"IF(AND(INTRO!$E$37=\"Non-endemic\",INTRO!$E$41=\"Non-endemic\"),\" \",IF(COUNTRY_INFO!C212=0,\" \",COUNTRY_INFO!C212))","v":"Juabeso"},{"$f":"IF(AND(INTRO!$E$37=\"Non-endemic\",INTRO!$E$41=\"Non-endemic\"),0,IF(AND(OR(COUNTRY_INFO!$H212=0,COUNTRY_INFO!$H212=4,COUNTRY_INFO!$H212=99),OR(COUNTRY_INFO!$J212=0,COUNTRY_INFO!$J212=4)),0,COUNTRY_INFO!$E212))","v":7632},{"$f":"IF(AND(INTRO!$E$37=\"Non-endemic\",INTRO!$E$41=\"Non-endemic\"),0,IF(AND(OR(COUNTRY_INFO!$H212=0,COUNTRY_INFO!$H212=4,COUNTRY_INFO!$H212=99),OR(COUNTRY_INFO!$J212=0,COUNTRY_INFO!$J212=4)),0,COUNTRY_INFO!$F212))","v":17313},24945,{"$f":"IF(AND(INTRO!$E$37=\"Non-endemic\",INTRO!$E$41=\"Non-endemic\"),0,COUNTRY_INFO!P212)","v":0},{"$f":"IF(AND(INTRO!$E$37=\"Non-endemic\",INTRO!$E$41=\"Non-endemic\"),0,COUNTRY_INFO!R212)","v":1},{"$f":"IF(INTRO!$E$39=\"Non-endemic\",IF($G212=1,DEC!I212,0),IF($G212=1,IVM!G212,0))","v":0},"ALB",{"$f":"IF($J212=\"ALB\", IF(INTRO!$E$39=\"Non-endemic\", IF($H212<>0, IF($I212=0, $D212*$H212, $D212*($H212-$G212)), 0), $D212*$H212), 0)","v":7632},17313,null,24945,{"$f":"IF($J212=\"MBD\", IF(INTRO!$E$39=\"Non-endemic\", IF($H212<>0, IF($I212=0, $D212*$H212, $D212*($H212-$G212)), 0), $D212*$H212), 0)","v":0},0,null,0,null,0,0,null,17313,87,null,0,0]
[{"$f":"IF(AND(INTRO!$E$37=\"Non-endemic\",INTRO!$E$41=\"Non-endemic\"),\" \",IF(COUNTRY_INFO!A213=0,\" \",COUNTRY_INFO!A213))","v":"Ghana"},{"$f":"IF(AND(INTRO!$E$37=\"Non-endemic\",INTRO!$E$41=\"Non-endemic\"),\" \",IF(COUNTRY_INFO!B213=0,\" \",COUNTRY_INFO!B213))","v":"Western"},{"$f":"IF(AND(INTRO!$E$37=\"Non-endemic\",INTRO!$E$41=\"Non-endemic\"),\" \",IF(COUNTRY_INFO!C213=0,\" \",COUNTRY_INFO!C213))","v":"Bodi"},{"$f":"IF(AND(INTRO!$E$37=\"Non-endemic\",INTRO!$E$41=\"Non-endemic\"),0,IF(AND(OR(COUNTRY_INFO!$H213=0,COUNTRY_INFO!$H213=4,COUNTRY_INFO!$H213=99),OR(COUNTRY_INFO!$J213=0,COUNTRY_INFO!$J213=4)),0,COUNTRY_INFO!$E213))","v":6843},{"$f":"IF(AND(INTRO!$E$37=\"Non-endemic\",INTRO!$E$41=\"Non-endemic\"),0,IF(AND(OR(COUNTRY_INFO!$H213=0,COUNTRY_INFO!$H213=4,COUNTRY_INFO!$H213=99),OR(COUNTRY_INFO!$J213=0,COUNTRY_INFO!$J213=4)),0,COUNTRY_INFO!$F213))","v":15523},22366,{"$f":"IF(AND(INTRO!$E$37=\"Non-endemic\",INTRO!$E$41=\"Non-endemic\"),0,COUNTRY_INFO!P213)","v":0},{"$f":"IF(AND(INTRO!$E$37=\"Non-endemic\",INTRO!$E$41=\"Non-endemic\"),0,COUNTRY_INFO!R213)","v":1},{"$f":"IF(INTRO!$E$39=\"Non-endemic\",IF($G213=1,DEC!I213,0),IF($G213=1,IVM!G213,0))","v":0},"ALB",{"$f":"IF($J213=\"ALB\", IF(INTRO!$E$39=\"Non-endemic\", IF($H213<>0, IF($I213=0, $D213*$H213, $D213*($H213-$G213)), 0), $D213*$H213), 0)","v":6843},15523,null,22366,{"$f":"IF($J213=\"MBD\", IF(INTRO!$E$39=\"Non-endemic\", IF($H213<>0, IF($I213=0, $D213*$H213, $D213*($H213-$G213)), 0), $D213*$H213), 0)","v":0},0,null,0,null,0,0,null,15523,78,null,0,0]
[{"$f":"IF(AND(INTRO!$E$37=\"Non-endemic\",INTRO!$E$41=\"Non-endemic\"),\" \",IF(COUNTRY_INFO!A214=0,\" \",COUNTRY_INFO!A214))","v":"Ghana"},{"$f":"IF(AND(INTRO!$E$37=\"Non-endemic\",INTRO!$E$41=\"Non-endemic\"),\" \",IF(COUNTRY_INFO!B214=0,\" \",COUNTRY_INFO!B214))","v":"Western"},{"$f":"IF(AND(INTRO!$E$37=\"Non-endemic\",INTRO!$E$41=\"Non-endemic\"),\" \",IF(COUNTRY_INFO!C214=0,\" \",COUNTRY_INFO!C214))","v":"Wassa East"},{"$f":"IF(AND(INTRO!$E$37=\"Non-endemic\",INTRO!$E$41=\"Non-endemic\"),0,IF(AND(OR(COUNTRY_INFO!$H214=0,COUNTRY_INFO!$H214=4,COUNTRY_INFO!$H214=99),OR(COUNTRY_INFO!$J214=0,COUNTRY_INFO!$J214=4)),0,COUNTRY_INFO!$E214))","v":10501},{"$f":"IF(AND(INTRO!$E$37=\"Non-endemic\",INTRO!$E$41=\"Non-endemic\"),0,IF(AND(OR(COUNTRY_INFO!$H214=0,COUNTRY_INFO!$H214=4,COUNTRY_INFO!$H214=99),OR(COUNTRY_INFO!$J214=0,COUNTRY_INFO!$J214=4)),0,COUNTRY_INFO!$F214))","v":23822},34323,{"$f":"IF(AND(INTRO!$E$37=\"Non-endemic\",INTRO!$E$41=\"Non-endemic\"),0,COUNTRY_INFO!P214)","v":0},{"$f":"IF(AND(INTRO!$E$37=\"Non-endemic\",INTRO!$E$41=\"Non-endemic\"),0,COUNTRY_INFO!R214)","v":1},{"$f":"IF(INTRO!$E$39=\"Non-endemic\",IF($G214=1,DEC!I214,0),IF($G214=1,IVM!G214,0))","v":0},"ALB",{"$f":"IF($J214=\"ALB\", IF(INTRO!$E$39=\"Non-endemic\", IF($H214<>0, IF($I214=0, $D214*$H214, $D214*($H214-$G214)), 0), $D214*$H214), 0)","v":10501},23822,null,34323,{"$f":"IF($J214=\"MBD\", IF(INTRO!$E$39=\"Non-endemic\", IF($H214<>0, IF($I214=0, $D214*$H214, $D214*($H214-$G214)), 0), $D214*$H214), 0)","v":0},0,null,0,null,0,0,null,23822,120,null,0,0]
[{"$f":"IF(AND(INTRO!$E$37=\"Non-endemic\",INTRO!$E$41=\"Non-endemic\"),\" \",IF(COUNTRY_INFO!A215=0,\" \",COUNTRY_INFO!A215))","v":"Ghana"},{"$f":"IF(AND(INTRO!$E$37=\"Non-endemic\",INTRO!$E$41=\"Non-endemic\"),\" \",IF(COUNTRY_INFO!B215=0,\" \",COUNTRY_INFO!B215))","v":"Western"},{"$f":"IF(AND(INTRO!$E$37=\"Non-endemic\",INTRO!$E$41=\"Non-endemic\"),\" \",IF(COUNTRY_INFO!C215=0,\" \",COUNTRY_INFO!C215))","v":"Mpohor"},{"$f":"IF(AND(INTRO!$E$37=\"Non-endemic\",INTRO!$E$41=\"Non-endemic\"),0,IF(AND(OR(COUNTRY_INFO!$H215=0,COUNTRY_INFO!$H215=4,COUNTRY_INFO!$H215=99),OR(COUNTRY_INFO!$J215=0,COUNTRY_INFO!$J215=4)),0,COUNTRY_INFO!$E215))","v":5560},{"$f":"IF(AND(INTRO!$E$37=\"Non-endemic\",INTRO!$E$41=\"Non-endemic\"),0,IF(AND(OR(COUNTRY_INFO!$H215=0,COUNTRY_INFO!$H215=4,COUNTRY_INFO!$H215=99),OR(COUNTRY_INFO!$J215=0,COUNTRY_INFO!$J215=4)),0,COUNTRY_INFO!$F215))","v":12612},18172,{"$f":"IF(AND(INTRO!$E$37=\"Non-endemic\",INTRO!$E$41=\"Non-endemic\"),0,COUNTRY_INFO!P215)","v":0},{"$f":"IF(AND(INTRO!$E$37=\"Non-endemic\",INTRO!$E$41=\"Non-endemic\"),0,COUNTRY_INFO!R215)","v":1},{"$f":"IF(INTRO!$E$39=\"Non-endemic\",IF($G215=1,DEC!I215,0),IF($G215=1,IVM!G215,0))","v":0},"ALB",{"$f":"IF($J215=\"ALB\", IF(INTRO!$E$39=\"Non-endemic\", IF($H215<>0, IF($I215=0, $D215*$H215, $D215*($H215-$G215)), 0), $D215*$H215), 0)","v":5560},12612,null,18172,{"$f":"IF($J215=\"MBD\", IF(INTRO!$E$39=\"Non-endemic\", IF($H215<>0, IF($I215=0, $D215*$H215, $D215*($H215-$G215)), 0), $D215*$H215), 0)","v":0},0,null,0,null,0,0,null,12612,64,null,0,0]
[{"$f":"IF(AND(INTRO!$E$37=\"Non-endemic\",INTRO!$E$41=\"Non-endemic\"),\" \",IF(COUNTRY_INFO!A216=0,\" \",COUNTRY_INFO!A216))","v":"Ghana"},{"$f":"IF(AND(INTRO!$E$37=\"Non-endemic\",INTRO!$E$41=\"Non-endemic\"),\" \",IF(COUNTRY_INFO!B216=0,\" \",COUNTRY_INFO!B216))","v":"Western"},{"$f":"IF(AND(INTRO!$E$37=\"Non-endemic\",INTRO!$E$41=\"Non-endemic\"),\" \",IF(COUNTRY_INFO!C216=0,\" \",COUNTRY_INFO!C216))","v":"Prestea-Huni-Valley"},{"$f":"IF(AND(INTRO!$E$37=\"Non-endemic\",INTRO!$E$41=\"Non-endemic\"),0,IF(AND(OR(COUNTRY_INFO!$H216=0,COUNTRY_INFO!$H216=4,COUNTRY_INFO!$H216=99),OR(COUNTRY_INFO!$J216=0,COUNTRY_INFO!$J216=4)),0,COUNTRY_INFO!$E216))","v":20634},{"$f":"IF(AND(INTRO!$E$37=\"Non-endemic\",INTRO!$E$41=\"Non-endemic\"),0,IF(AND(OR(COUNTRY_INFO!$H216=0,COUNTRY_INFO!$H216=4,COUNTRY_INFO!$H216=99),OR(COUNTRY_INFO!$J216=0,COUNTRY_INFO!$J216=4)),0,COUNTRY_INFO!$F216))","v":46809},67443,{"$f":"IF(AND(INTRO!$E$37=\"Non-endemic\",INTRO!$E$41=\"Non-endemic\"),0,COUNTRY_INFO!P216)","v":0},{"$f":"IF(AND(INTRO!$E$37=\"Non-endemic\",INTRO!$E$41=\"Non-endemic\"),0,COUNTRY_INFO!R216)","v":1},{"$f":"IF(INTRO!$E$39=\"Non-endemic\",IF($G216=1,DEC!I216,0),IF($G216=1,IVM!G216,0))","v":0},"ALB",{"$f":"IF($J216=\"ALB\", IF(INTRO!$E$39=\"Non-endemic\", IF($H216<>0, IF($I216=0, $D216*$H216, $D216*($H216-$G216)), 0), $D216*$H216), 0)","v":20634},46809,null,67443,{"$f":"IF($J216=\"MBD\", IF(INTRO!$E$39=\"Non-endemic\", IF($H216<>0, IF($I216=0, $D216*$H216, $D216*($H216-$G216)), 0), $D216*$H216), 0)","v":0},0,null,0,null,0,0,null,46809,235,null,0,0]
[{"$f":"IF(AND(INTRO!$E$37=\"Non-endemic\",INTRO!$E$41=\"Non-endemic\"),\" \",IF(COUNTRY_INFO!A217=0,\" \",COUNTRY_INFO!A217))","v":"Ghana"},{"$f":"IF(AND(INTRO!$E$37=\"Non-endemic\",INTRO!$E$41=\"Non-endemic\"),\" \",IF(COUNTRY_INFO!B217=0,\" \",COUNTRY_INFO!B217))","v":"Western"},{"$f":"IF(AND(INTRO!$E$37=\"Non-endemic\",INTRO!$E$41=\"Non-endemic\"),\" \",IF(COUNTRY_INFO!C217=0,\" \",COUNTRY_INFO!C217))","v":"Sefwi-Akontombra"},{"$f":"IF(AND(INTRO!$E$37=\"Non-endemic\",INTRO!$E$41=\"Non-endemic\"),0,IF(AND(OR(COUNTRY_INFO!$H217=0,COUNTRY_INFO!$H217=4,COUNTRY_INFO!$H217=99),OR(COUNTRY_INFO!$J217=0,COUNTRY_INFO!$J217=4)),0,COUNTRY_INFO!$E217))","v":10682},{"$f":"IF(AND(INTRO!$E$37=\"Non-endemic\",INTRO!$E$41=\"Non-endemic\"),0,IF(AND(OR(COUNTRY_INFO!$H217=0,COUNTRY_INFO!$H217=4,COUNTRY_INFO!$H217=99),OR(COUNTRY_INFO!$J217=0,COUNTRY_INFO!$J217=4)),0,COUNTRY_INFO!$F217))","v":24232},34914,{"$f":"IF(AND(INTRO!$E$37=\"Non-endemic\",INTRO!$E$41=\"Non-endemic\"),0,COUNTRY_INFO!P217)","v":0},{"$f":"IF(AND(INTRO!$E$37=\"Non-endemic\",INTRO!$E$41=\"Non-endemic\"),0,COUNTRY_INFO!R217)","v":1},{"$f":"IF(INTRO!$E$39=\"Non-endemic\",IF($G217=1,DEC!I217,0),IF($G217=1,IVM!G217,0))","v":0},"ALB",{"$f":"IF($J217=\"ALB\", IF(INTRO!$E$39=\"Non-endemic\", IF($H217<>0, IF($I217=0, $D217*$H217, $D217*($H217-$G217)), 0), $D217*$H217), 0)","v":10682},24232,null,34914,{"$f":"IF($J217=\"MBD\", IF(INTRO!$E$39=\"Non-endemic\", IF($H217<>0, IF($I217=0, $D217*$H217, $D217*($H217-$G217)), 0), $D217*$H217), 0)","v":0},0,null,0,null,0,0,null,24232,122,null,0,0]
[{"$f":"IF(AND(INTRO!$E$37=\"Non-endemic\",INTRO!$E$41=\"Non-endemic\"),\" \",IF(COUNTRY_INFO!A218=0,\" \",COUNTRY_INFO!A218))","v":"Ghana"},{"$f":"IF(AND(INTRO!$E$37=\"Non-endemic\",INTRO!$E$41=\"Non-endemic\"),\" \",IF(COUNTRY_INFO!B218=0,\" \",COUNTRY_INFO!B218))","v":"Western"},{"$f":"IF(AND(INTRO!$E$37=\"Non-endemic\",INTRO!$E$41=\"Non-endemic\"),\" \",IF(COUNTRY_INFO!C218=0,\" \",COUNTRY_INFO!C218))","v":"Sefwi-Wiawso"},{"$f":"IF(AND(INTRO!$E$37=\"Non-endemic\",INTRO!$E$41=\"Non-endemic\"),0,IF(AND(OR(COUNTRY_INFO!$H218=0,COUNTRY_INFO!$H218=4,COUNTRY_INFO!$H218=99),OR(COUNTRY_INFO!$J218=0,COUNTRY_INFO!$J218=4)),0,COUNTRY_INFO!$E218))","v":18030},{"$f":"IF(AND(INTRO!$E$37=\"Non-endemic\",INTRO!$E$41=\"Non-endemic\"),0,IF(AND(OR(COUNTRY_INFO!$H218=0,COUNTRY_INFO!$H218=4,COUNTRY_INFO!$H218=99),OR(COUNTRY_INFO!$J218=0,COUNTRY_INFO!$J218=4)),0,COUNTRY_INFO!$F218))","v":40902},58932,{"$f":"IF(AND(INTRO!$E$37=\"Non-endemic\",INTRO!$E$41=\"Non-endemic\"),0,COUNTRY_INFO!P218)","v":0},{"$f":"IF(AND(INTRO!$E$37=\"Non-endemic\",INTRO!$E$41=\"Non-endemic\"),0,COUNTRY_INFO!R218)","v":1},{"$f":"IF(INTRO!$E$39=\"Non-endemic\",IF($G218=1,DEC!I218,0),IF($G218=1,IVM!G218,0))","v":0},"ALB",{"$f":"IF($J218=\"ALB\", IF(INTRO!$E$39=\"Non-endemic\", IF($H218<>0, IF($I218=0, $D218*$H218, $D218*($H218-$G218)), 0), $D218*$H218), 0)","v":18030},40902,null,58932,{"$f":"IF($J218=\"MBD\", IF(INTRO!$E$39=\"Non-endemic\", IF($H218<>0, IF($I218=0, $D218*$H218, $D218*($H218-$G218)), 0), $D218*$H218), 0)","v":0},0,null,0,null,0,0,null,40902,205,null,0,0]
[{"$f":"IF(AND(INTRO!$E$37=\"Non-endemic\",INTRO!$E$41=\"Non-endemic\"),\" \",IF(COUNTRY_INFO!A219=0,\" \",COUNTRY_INFO!A219))","v":"Ghana"},{"$f":"IF(AND(INTRO!$E$37=\"Non-endemic\",INTRO!$E$41=\"Non-endemic\"),\" \",IF(COUNTRY_INFO!B219=0,\" \",COUNTRY_INFO!B219))","v":"Western"},{"$f":"IF(AND(INTRO!$E$37=\"Non-endemic\",INTRO!$E$41=\"Non-endemic\"),\" \",IF(COUNTRY_INFO!C219=0,\" \",COUNTRY_INFO!C219))","v":"Sekondi-Takoradi"},{"$f":"IF(AND(INTRO!$E$37=\"Non-endemic\",INTRO!$E$41=\"Non-endemic\"),0,IF(AND(OR(COUNTRY_INFO!$H219=0,COUNTRY_INFO!$H219=4,COUNTRY_INFO!$H219=99),OR(COUNTRY_INFO!$J219=0,COUNTRY_INFO!$J219=4)),0,COUNTRY_INFO!$E219))","v":72477},{"$f":"IF(AND(INTRO!$E$37=\"Non-endemic\",INTRO!$E$41=\"Non-endemic\"),0,IF(AND(OR(COUNTRY_INFO!$H219=0,COUNTRY_INFO!$H219=4,COUNTRY_INFO!$H219=99),OR(COUNTRY_INFO!$J219=0,COUNTRY_INFO!$J219=4)),0,COUNTRY_INFO!$F219))","v":164414},236891,{"$f":"IF(AND(INTRO!$E$37=\"Non-endemic\",INTRO!$E$41=\"Non-endemic\"),0,COUNTRY_INFO!P219)","v":0},{"$f":"IF(AND(INTRO!$E$37=\"Non-endemic\",INTRO!$E$41=\"Non-endemic\"),0,COUNTRY_INFO!R219)","v":1},{"$f":"IF(INTRO!$E$39=\"Non-endemic\",IF($G219=1,DEC!I219,0),IF($G219=1,IVM!G219,0))","v":0},"ALB",{"$f":"IF($J219=\"ALB\", IF(INTRO!$E$39=\"Non-endemic\", IF($H219<>0, IF($I219=0, $D219*$H219, $D219*($H219-$G219)), 0), $D219*$H219), 0)","v":72477},164414,null,236891,{"$f":"IF($J219=\"MBD\", IF(INTRO!$E$39=\"Non-endemic\", IF($H219<>0, IF($I219=0, $D219*$H219, $D219*($H219-$G219)), 0), $D219*$H219), 0)","v":0},0,null,0,null,0,0,null,164414,823,null,0,0]
[{"$f":"IF(AND(INTRO!$E$37=\"Non-endemic\",INTRO!$E$41=\"Non-endemic\"),\" \",IF(COUNTRY_INFO!A220=0,\" \",COUNTRY_INFO!A220))","v":"Ghana"},{"$f":"IF(AND(INTRO!$E$37=\"Non-endemic\",INTRO!$E$41=\"Non-endemic\"),\" \",IF(COUNTRY_INFO!B220=0,\" \",COUNTRY_INFO!B220))","v":"Western"},{"$f":"IF(AND(INTRO!$E$37=\"Non-endemic\",INTRO!$E$41=\"Non-endemic\"),\" \",IF(COUNTRY_INFO!C220=0,\" \",COUNTRY_INFO!C220))","v":"Shama"},{"$f":"IF(AND(INTRO!$E$37=\"Non-endemic\",INTRO!$E$41=\"Non-endemic\"),0,IF(AND(OR(COUNTRY_INFO!$H220=0,COUNTRY_INFO!$H220=4,COUNTRY_INFO!$H220=99),OR(COUNTRY_INFO!$J220=0,COUNTRY_INFO!$J220=4)),0,COUNTRY_INFO!$E220))","v":10617},{"$f":"IF(AND(INTRO!$E$37=\"Non-endemic\",INTRO!$E$41=\"Non-endemic\"),0,IF(AND(OR(COUNTRY_INFO!$H220=0,COUNTRY_INFO!$H220=4,COUNTRY_INFO!$H220=99),OR(COUNTRY_INFO!$J220=0,COUNTRY_INFO!$J220=4)),0,COUNTRY_INFO!$F220))","v":24084},34701,{"$f":"IF(AND(INTRO!$E$37=\"Non-endemic\",INTRO!$E$41=\"Non-endemic\"),0,COUNTRY_INFO!P220)","v":0},{"$f":"IF(AND(INTRO!$E$37=\"Non-endemic\",INTRO!$E$41=\"Non-endemic\"),0,COUNTRY_INFO!R220)","v":1},{"$f":"IF(INTRO!$E$39=\"Non-endemic\",IF($G220=1,DEC!I220,0),IF($G220=1,IVM!G220,0))","v":0},"ALB",{"$f":"IF($J220=\"ALB\", IF(INTRO!$E$39=\"Non-endemic\", IF($H220<>0, IF($I220=0, $D220*$H220, $D220*($H220-$G220)), 0), $D220*$H220), 0)","v":10617},24084,null,34701,{"$f":"IF($J220=\"MBD\", IF(INTRO!$E$39=\"Non-endemic\", IF($H220<>0, IF($I220=0, $D220*$H220, $D220*($H220-$G220)), 0), $D220*$H220), 0)","v":0},0,null,0,null,0,0,null,24084,121,null,0,0]
[{"$f":"IF(AND(INTRO!$E$37=\"Non-endemic\",INTRO!$E$41=\"Non-endemic\"),\" \",IF(COUNTRY_INFO!A221=0,\" \",COUNTRY_INFO!A221))","v":"Ghana"},{"$f":"IF(AND(INTRO!$E$37=\"Non-endemic\",INTRO!$E$41=\"Non-endemic\"),\" \",IF(COUNTRY_INFO!B221=0,\" \",COUNTRY_INFO!B221))","v":"Western"},{"$f":"IF(AND(INTRO!$E$37=\"Non-endemic\",INTRO!$E$41=\"Non-endemic\"),\" \",IF(COUNTRY_INFO!C221=0,\" \",COUNTRY_INFO!C221))","v":"Tarkwa-Nsuaem"},{"$f":"IF(AND(INTRO!$E$37=\"Non-endemic\",INTRO!$E$41=\"Non-endemic\"),0,IF(AND(OR(COUNTRY_INFO!$H221=0,COUNTRY_INFO!$H221=4,COUNTRY_INFO!$H221=99),OR(COUNTRY_INFO!$J221=0,COUNTRY_INFO!$J221=4)),0,COUNTRY_INFO!$E221))","v":11719},{"$f":"IF(AND(INTRO!$E$37=\"Non-endemic\",INTRO!$E$41=\"Non-endemic\"),0,IF(AND(OR(COUNTRY_INFO!$H221=0,COUNTRY_INFO!$H221=4,COUNTRY_INFO!$H221=99),OR(COUNTRY_INFO!$J221=0,COUNTRY_INFO!$J221=4)),0,COUNTRY_INFO!$F221))","v":26585},38304,{"$f":"IF(AND(INTRO!$E$37=\"Non-endemic\",INTRO!$E$41=\"Non-endemic\"),0,COUNTRY_INFO!P221)","v":0},{"$f":"IF(AND(INTRO!$E$37=\"Non-endemic\",INTRO!$E$41=\"Non-endemic\"),0,COUNTRY_INFO!R221)","v":1},{"$f":"IF(INTRO!$E$39=\"Non-endemic\",IF($G221=1,DEC!I221,0),IF($G221=1,IVM!G221,0))","v":0},"ALB",{"$f":"IF($J221=\"ALB\", IF(INTRO!$E$39=\"Non-endemic\", IF($H221<>0, IF($I221=0, $D221*$H221, $D221*($H221-$G221)), 0), $D221*$H221), 0)","v":11719},26585,null,38304,{"$f":"IF($J221=\"MBD\", IF(INTRO!$E$39=\"Non-endemic\", IF($H221<>0, IF($I221=0, $D221*$H221, $D221*($H221-$G221)), 0), $D221*$H221), 0)","v":0},0,null,0,null,0,0,null,26585,133,null,0,0]
[{"$f":"IF(AND(INTRO!$E$37=\"Non-endemic\",INTRO!$E$41=\"Non-endemic\"),\" \",IF(COUNTRY_INFO!A222=0,\" \",COUNTRY_INFO!A222))","v":"Ghana"},{"$f":"IF(AND(INTRO!$E$37=\"Non-endemic\",INTRO!$E$41=\"Non-endemic\"),\" \",IF(COUNTRY_INFO!B222=0,\" \",COUNTRY_INFO!B222))","v":"Western"},{"$f":"IF(AND(INTRO!$E$37=\"Non-endemic\",INTRO!$E$41=\"Non-endemic\"),\" \",IF(COUNTRY_INFO!C222=0,\" \",COUNTRY_INFO!C222))","v":"Wassa-Amenfi East"},{"$f":"IF(AND(INTRO!$E$37=\"Non-endemic\",INTRO!$E$41=\"Non-endemic\"),0,IF(AND(OR(COUNTRY_INFO!$H222=0,COUNTRY_INFO!$H222=4,COUNTRY_INFO!$H222=99),OR(COUNTRY_INFO!$J222=0,COUNTRY_INFO!$J222=4)),0,COUNTRY_INFO!$E222))","v":10813},{"$f":"IF(AND(INTRO!$E$37=\"Non-endemic\",INTRO!$E$41=\"Non-endemic\"),0,IF(AND(OR(COUNTRY_INFO!$H222=0,COUNTRY_INFO!$H222=4,COUNTRY_INFO!$H222=99),OR(COUNTRY_INFO!$J222=0,COUNTRY_INFO!$J222=4)),0,COUNTRY_INFO!$F222))","v":24529},35342,{"$f":"IF(AND(INTRO!$E$37=\"Non-endemic\",INTRO!$E$41=\"Non-endemic\"),0,COUNTRY_INFO!P222)","v":0},{"$f":"IF(AND(INTRO!$E$37=\"Non-endemic\",INTRO!$E$41=\"Non-endemic\"),0,COUNTRY_INFO!R222)","v":1},{"$f":"IF(INTRO!$E$39=\"Non-endemic\",IF($G222=1,DEC!I222,0),IF($G222=1,IVM!G222,0))","v":0},"ALB",{"$f":"IF($J222=\"ALB\", IF(INTRO!$E$39=\"Non-endemic\", IF($H222<>0, IF($I222=0, $D222*$H222, $D222*($H222-$G222)), 0), $D222*$H222), 0)","v":10813},24529,null,35342,{"$f":"IF($J222=\"MBD\", IF(INTRO!$E$39=\"Non-endemic\", IF($H222<>0, IF($I222=0, $D222*$H222, $D222*($H222-$G222)), 0), $D222*$H222), 0)","v":0},0,null,0,null,0,0,null,24529,123,null,0,0]
[{"$f":"IF(AND(INTRO!$E$37=\"Non-endemic\",INTRO!$E$41=\"Non-endemic\"),\" \",IF(COUNTRY_INFO!A223=0,\" \",COUNTRY_INFO!A223))","v":"Ghana"},{"$f":"IF(AND(INTRO!$E$37=\"Non-endemic\",INTRO!$E$41=\"Non-endemic\"),\" \",IF(COUNTRY_INFO!B223=0,\" \",COUNTRY_INFO!B223))","v":"Western"},{"$f":"IF(AND(INTRO!$E$37=\"Non-endemic\",INTRO!$E$41=\"Non-endemic\"),\" \",IF(COUNTRY_INFO!C223=0,\" \",COUNTRY_INFO!C223))","v":"Wassa Amenfi Central"},{"$f":"IF(AND(INTRO!$E$37=\"Non-endemic\",INTRO!$E$41=\"Non-endemic\"),0,IF(AND(OR(COUNTRY_INFO!$H223=0,COUNTRY_INFO!$H223=4,COUNTRY_INFO!$H223=99),OR(COUNTRY_INFO!$J223=0,COUNTRY_INFO!$J223=4)),0,COUNTRY_INFO!$E223))","v":8878},{"$f":"IF(AND(INTRO!$E$37=\"Non-endemic\",INTRO!$E$41=\"Non-endemic\"),0,IF(AND(OR(COUNTRY_INFO!$H223=0,COUNTRY_INFO!$H223=4,COUNTRY_INFO!$H223=99),OR(COUNTRY_INFO!$J223=0,COUNTRY_INFO!$J223=4)),0,COUNTRY_INFO!$F223))","v":20140},29018,{"$f":"IF(AND(INTRO!$E$37=\"Non-endemic\",INTRO!$E$41=\"Non-endemic\"),0,COUNTRY_INFO!P223)","v":0},{"$f":"IF(AND(INTRO!$E$37=\"Non-endemic\",INTRO!$E$41=\"Non-endemic\"),0,COUNTRY_INFO!R223)","v":1},{"$f":"IF(INTRO!$E$39=\"Non-endemic\",IF($G223=1,DEC!I223,0),IF($G223=1,IVM!G223,0))","v":0},"ALB",{"$f":"IF($J223=\"ALB\", IF(INTRO!$E$39=\"Non-endemic\", IF($H223<>0, IF($I223=0, $D223*$H223, $D223*($H223-$G223)), 0), $D223*$H223), 0)","v":8878},20140,null,29018,{"$f":"IF($J223=\"MBD\", IF(INTRO!$E$39=\"Non-endemic\", IF($H223<>0, IF($I223=0, $D223*$H223, $D223*($H223-$G223)), 0), $D223*$H223), 0)","v":0},0,null,0,null,0,0,null,20140,101,null,0,0]
[{"$f":"IF(AND(INTRO!$E$37=\"Non-endemic\",INTRO!$E$41=\"Non-endemic\"),\" \",IF(COUNTRY_INFO!A224=0,\" \",COUNTRY_INFO!A224))","v":"Ghana"},{"$f":"IF(AND(INTRO!$E$37=\"Non-endemic\",INTRO!$E$41=\"Non-endemic\"),\" \",IF(COUNTRY_INFO!B224=0,\" \",COUNTRY_INFO!B224))","v":"Western"},{"$f":"IF(AND(INTRO!$E$37=\"Non-endemic\",INTRO!$E$41=\"Non-endemic\"),\" \",IF(COUNTRY_INFO!C224=0,\" \",COUNTRY_INFO!C224))","v":"Wassa-Amenfi West"},{"$f":"IF(AND(INTRO!$E$37=\"Non-endemic\",INTRO!$E$41=\"Non-endemic\"),0,IF(AND(OR(COUNTRY_INFO!$H224=0,COUNTRY_INFO!$H224=4,COUNTRY_INFO!$H224=99),OR(COUNTRY_INFO!$J224=0,COUNTRY_INFO!$J224=4)),0,COUNTRY_INFO!$E224))","v":11997},{"$f":"IF(AND(INTRO!$E$37=\"Non-endemic\",INTRO!$E$41=\"Non-endemic\"),0,IF(AND(OR(COUNTRY_INFO!$H224=0,COUNTRY_INFO!$H224=4,COUNTRY_INFO!$H224=99),OR(COUNTRY_INFO!$J224=0,COUNTRY_INFO!$J224=4)),0,COUNTRY_INFO!$F224))","v":27216},39213,{"$f":"IF(AND(INTRO!$E$37=\"Non-endemic\",INTRO!$E$41=\"Non-endemic\"),0,COUNTRY_INFO!P224)","v":0},{"$f":"IF(AND(INTRO!$E$37=\"Non-endemic\",INTRO!$E$41=\"Non-endemic\"),0,COUNTRY_INFO!R224)","v":1},{"$f":"IF(INTRO!$E$39=\"Non-endemic\",IF($G224=1,DEC!I224,0),IF($G224=1,IVM!G224,0))","v":0},"ALB",{"$f":"IF($J224=\"ALB\", IF(INTRO!$E$39=\"Non-endemic\", IF($H224<>0, IF($I224=0, $D224*$H224, $D224*($H224-$G224)), 0), $D224*$H224), 0)","v":11997},27216,null,39213,{"$f":"IF($J224=\"MBD\", IF(INTRO!$E$39=\"Non-endemic\", IF($H224<>0, IF($I224=0, $D224*$H224, $D224*($H224-$G224)), 0), $D224*$H224), 0)","v":0},0,null,0,null,0,0,null,27216,137,null,0,0]
[{"$f":"IF(AND(INTRO!$E$37=\"Non-endemic\",INTRO!$E$41=\"Non-endemic\"),\" \",IF(COUNTRY_INFO!A225=0,\" \",COUNTRY_INFO!A225))","v":"Ghana"},{"$f":"IF(AND(INTRO!$E$37=\"Non-endemic\",INTRO!$E$41=\"Non-endemic\"),\" \",IF(COUNTRY_INFO!B225=0,\" \",COUNTRY_INFO!B225))","v":" "},{"$f":"IF(AND(INTRO!$E$37=\"Non-endemic\",INTRO!$E$41=\"Non-endemic\"),\" \",IF(COUNTRY_INFO!C225=0,\" \",COUNTRY_INFO!C225))","v":" "},{"$f":"IF(AND(INTRO!$E$37=\"Non-endemic\",INTRO!$E$41=\"Non-endemic\"),0,IF(AND(OR(COUNTRY_INFO!$H225=0,COUNTRY_INFO!$H225=4,COUNTRY_INFO!$H225=99),OR(COUNTRY_INFO!$J225=0,COUNTRY_INFO!$J225=4)),0,COUNTRY_INFO!$E225))","v":0},{"$f":"IF(AND(INTRO!$E$37=\"Non-endemic\",INTRO!$E$41=\"Non-endemic\"),0,IF(AND(OR(COUNTRY_INFO!$H225=0,COUNTRY_INFO!$H225=4,COUNTRY_INFO!$H225=99),OR(COUNTRY_INFO!$J225=0,COUNTRY_INFO!$J225=4)),0,COUNTRY_INFO!$F225))","v":0},0,{"$f":"IF(AND(INTRO!$E$37=\"Non-endemic\",INTRO!$E$41=\"Non-endemic\"),0,COUNTRY_INFO!P225)","v":0},{"$f":"IF(AND(INTRO!$E$37=\"Non-endemic\",INTRO!$E$41=\"Non-endemic\"),0,COUNTRY_INFO!R225)","v":0},{"$f":"IF(INTRO!$E$39=\"Non-endemic\",IF($G225=1,DEC!I225,0),IF($G225=1,IVM!G225,0))","v":0},null,{"$f":"IF($J225=\"ALB\", IF(INTRO!$E$39=\"Non-endemic\", IF($H225<>0, IF($I225=0, $D225*$H225, $D225*($H225-$G225)), 0), $D225*$H225), 0)","v":0},0,null,0,{"$f":"IF($J225=\"MBD\", IF(INTRO!$E$39=\"Non-endemic\", IF($H225<>0, IF($I225=0, $D225*$H225, $D225*($H225-$G225)), 0), $D225*$H225), 0)","v":0},0,null,0,null,0,0,null,0,0,null,0,0]
[{"$f":"IF(AND(INTRO!$E$37=\"Non-endemic\",INTRO!$E$41=\"Non-endemic\"),\" \",IF(COUNTRY_INFO!A226=0,\" \",COUNTRY_INFO!A226))","v":"Ghana"},{"$f":"IF(AND(INTRO!$E$37=\"Non-endemic\",INTRO!$E$41=\"Non-endemic\"),\" \",IF(COUNTRY_INFO!B226=0,\" \",COUNTRY_INFO!B226))","v":" "},{"$f":"IF(AND(INTRO!$E$37=\"Non-endemic\",INTRO!$E$41=\"Non-endemic\"),\" \",IF(COUNTRY_INFO!C226=0,\" \",COUNTRY_INFO!C226))","v":" "},{"$f":"IF(AND(INTRO!$E$37=\"Non-endemic\",INTRO!$E$41=\"Non-endemic\"),0,IF(AND(OR(COUNTRY_INFO!$H226=0,COUNTRY_INFO!$H226=4,COUNTRY_INFO!$H226=99),OR(COUNTRY_INFO!$J226=0,COUNTRY_INFO!$J226=4)),0,COUNTRY_INFO!$E226))","v":0},{"$f":"IF(AND(INTRO!$E$37=\"Non-endemic\",INTRO!$E$41=\"Non-endemic\"),0,IF(AND(OR(COUNTRY_INFO!$H226=0,COUNTRY_INFO!$H226=4,COUNTRY_INFO!$H226=99),OR(COUNTRY_INFO!$J226=0,COUNTRY_INFO!$J226=4)),0,COUNTRY_INFO!$F226))","v":0},0,{"$f":"IF(AND(INTRO!$E$37=\"Non-endemic\",INTRO!$E$41=\"Non-endemic\"),0,COUNTRY_INFO!P226)","v":0},{"$f":"IF(AND(INTRO!$E$37=\"Non-endemic\",INTRO!$E$41=\"Non-endemic\"),0,COUNTRY_INFO!R226)","v":0},{"$f":"IF(INTRO!$E$39=\"Non-endemic\",IF($G226=1,DEC!I226,0),IF($G226=1,IVM!G226,0))","v":0},null,{"$f":"IF($J226=\"ALB\", IF(INTRO!$E$39=\"Non-endemic\", IF($H226<>0, IF($I226=0, $D226*$H226, $D226*($H226-$G226)), 0), $D226*$H226), 0)","v":0},0,null,0,{"$f":"IF($J226=\"MBD\", IF(INTRO!$E$39=\"Non-endemic\", IF($H226<>0, IF($I226=0, $D226*$H226, $D226*($H226-$G226)), 0), $D226*$H226), 0)","v":0},0,null,0,null,0,0,null,0,0,null,0,0]
[{"$f":"IF(AND(INTRO!$E$37=\"Non-endemic\",INTRO!$E$41=\"Non-endemic\"),\" \",IF(COUNTRY_INFO!A227=0,\" \",COUNTRY_INFO!A227))","v":"Ghana"},{"$f":"IF(AND(INTRO!$E$37=\"Non-endemic\",INTRO!$E$41=\"Non-endemic\"),\" \",IF(COUNTRY_INFO!B227=0,\" \",COUNTRY_INFO!B227))","v":" "},{"$f":"IF(AND(INTRO!$E$37=\"Non-endemic\",INTRO!$E$41=\"Non-endemic\"),\" \",IF(COUNTRY_INFO!C227=0,\" \",COUNTRY_INFO!C227))","v":" "},{"$f":"IF(AND(INTRO!$E$37=\"Non-endemic\",INTRO!$E$41=\"Non-endemic\"),0,IF(AND(OR(COUNTRY_INFO!$H227=0,COUNTRY_INFO!$H227=4,COUNTRY_INFO!$H227=99),OR(COUNTRY_INFO!$J227=0,COUNTRY_INFO!$J227=4)),0,COUNTRY_INFO!$E227))","v":0},{"$f":"IF(AND(INTRO!$E$37=\"Non-endemic\",INTRO!$E$41=\"Non-endemic\"),0,IF(AND(OR(COUNTRY_INFO!$H227=0,COUNTRY_INFO!$H227=4,COUNTRY_INFO!$H227=99),OR(COUNTRY_INFO!$J227=0,COUNTRY_INFO!$J227=4)),0,COUNTRY_INFO!$F227))","v":0},0,{"$f":"IF(AND(INTRO!$E$37=\"Non-endemic\",INTRO!$E$41=\"Non-endemic\"),0,COUNTRY_INFO!P227)","v":0},{"$f":"IF(AND(INTRO!$E$37=\"Non-endemic\",INTRO!$E$41=\"Non-endemic\"),0,COUNTRY_INFO!R227)","v":0},{"$f":"IF(INTRO!$E$39=\"Non-endemic\",IF($G227=1,DEC!I227,0),IF($G227=1,IVM!G227,0))","v":0},null,{"$f":"IF($J227=\"ALB\", IF(INTRO!$E$39=\"Non-endemic\", IF($H227<>0, IF($I227=0, $D227*$H227, $D227*($H227-$G227)), 0), $D227*$H227), 0)","v":0},0,null,0,{"$f":"IF($J227=\"MBD\", IF(INTRO!$E$39=\"Non-endemic\", IF($H227<>0, IF($I227=0, $D227*$H227, $D227*($H227-$G227)), 0), $D227*$H227), 0)","v":0},0,null,0,null,0,0,null,0,0,null,0,0]
[{"$f":"IF(AND(INTRO!$E$37=\"Non-endemic\",INTRO!$E$41=\"Non-endemic\"),\" \",IF(COUNTRY_INFO!A228=0,\" \",COUNTRY_INFO!A228))","v":"Ghana"},{"$f":"IF(AND(INTRO!$E$37=\"Non-endemic\",INTRO!$E$41=\"Non-endemic\"),\" \",IF(COUNTRY_INFO!B228=0,\" \",COUNTRY_INFO!B228))","v":" "},{"$f":"IF(AND(INTRO!$E$37=\"Non-endemic\",INTRO!$E$41=\"Non-endemic\"),\" \",IF(COUNTRY_INFO!C228=0,\" \",COUNTRY_INFO!C228))","v":" "},{"$f":"IF(AND(INTRO!$E$37=\"Non-endemic\",INTRO!$E$41=\"Non-endemic\"),0,IF(AND(OR(COUNTRY_INFO!$H228=0,COUNTRY_INFO!$H228=4,COUNTRY_INFO!$H228=99),OR(COUNTRY_INFO!$J228=0,COUNTRY_INFO!$J228=4)),0,COUNTRY_INFO!$E228))","v":0},{"$f":"IF(AND(INTRO!$E$37=\"Non-endemic\",INTRO!$E$41=\"Non-endemic\"),0,IF(AND(OR(COUNTRY_INFO!$H228=0,COUNTRY_INFO!$H228=4,COUNTRY_INFO!$H228=99),OR(COUNTRY_INFO!$J228=0,COUNTRY_INFO!$J228=4)),0,COUNTRY_INFO!$F228))","v":0},0,{"$f":"IF(AND(INTRO!$E$37=\"Non-endemic\",INTRO!$E$41=\"Non-endemic\"),0,COUNTRY_INFO!P228)","v":0},{"$f":"IF(AND(INTRO!$E$37=\"Non-endemic\",INTRO!$E$41=\"Non-endemic\"),0,COUNTRY_INFO!R228)","v":0},{"$f":"IF(INTRO!$E$39=\"Non-endemic\",IF($G228=1,DEC!I228,0),IF($G228=1,IVM!G228,0))","v":0},null,{"$f":"IF($J228=\"ALB\", IF(INTRO!$E$39=\"Non-endemic\", IF($H228<>0, IF($I228=0, $D228*$H228, $D228*($H228-$G228)), 0), $D228*$H228), 0)","v":0},0,null,0,{"$f":"IF($J228=\"MBD\", IF(INTRO!$E$39=\"Non-endemic\", IF($H228<>0, IF($I228=0, $D228*$H228, $D228*($H228-$G228)), 0), $D228*$H228), 0)","v":0},0,null,0,null,0,0,null,0,0,null,0,0]
[{"$f":"IF(AND(INTRO!$E$37=\"Non-endemic\",INTRO!$E$41=\"Non-endemic\"),\" \",IF(COUNTRY_INFO!A229=0,\" \",COUNTRY_INFO!A229))","v":"Ghana"},{"$f":"IF(AND(INTRO!$E$37=\"Non-endemic\",INTRO!$E$41=\"Non-endemic\"),\" \",IF(COUNTRY_INFO!B229=0,\" \",COUNTRY_INFO!B229))","v":" "},{"$f":"IF(AND(INTRO!$E$37=\"Non-endemic\",INTRO!$E$41=\"Non-endemic\"),\" \",IF(COUNTRY_INFO!C229=0,\" \",COUNTRY_INFO!C229))","v":" "},{"$f":"IF(AND(INTRO!$E$37=\"Non-endemic\",INTRO!$E$41=\"Non-endemic\"),0,IF(AND(OR(COUNTRY_INFO!$H229=0,COUNTRY_INFO!$H229=4,COUNTRY_INFO!$H229=99),OR(COUNTRY_INFO!$J229=0,COUNTRY_INFO!$J229=4)),0,COUNTRY_INFO!$E229))","v":0},{"$f":"IF(AND(INTRO!$E$37=\"Non-endemic\",INTRO!$E$41=\"Non-endemic\"),0,IF(AND(OR(COUNTRY_INFO!$H229=0,COUNTRY_INFO!$H229=4,COUNTRY_INFO!$H229=99),OR(COUNTRY_INFO!$J229=0,COUNTRY_INFO!$J229=4)),0,COUNTRY_INFO!$F229))","v":0},0,{"$f":"IF(AND(INTRO!$E$37=\"Non-endemic\",INTRO!$E$41=\"Non-endemic\"),0,COUNTRY_INFO!P229)","v":0},{"$f":"IF(AND(INTRO!$E$37=\"Non-endemic\",INTRO!$E$41=\"Non-endemic\"),0,COUNTRY_INFO!R229)","v":0},{"$f":"IF(INTRO!$E$39=\"Non-endemic\",IF($G229=1,DEC!I229,0),IF($G229=1,IVM!G229,0))","v":0},null,{"$f":"IF($J229=\"ALB\", IF(INTRO!$E$39=\"Non-endemic\", IF($H229<>0, IF($I229=0, $D229*$H229, $D229*($H229-$G229)), 0), $D229*$H229), 0)","v":0},0,null,0,{"$f":"IF($J229=\"MBD\", IF(INTRO!$E$39=\"Non-endemic\", IF($H229<>0, IF($I229=0, $D229*$H229, $D229*($H229-$G229)), 0), $D229*$H229), 0)","v":0},0,null,0,null,0,0,null,0,0,null,0,0]

{"sheet":"PZQ","index":4,"n_rows":229,"n_cols":18,"rows_kept":229,"cut":false,"hidden":false,"merged":[[6,16,7,16],[6,4,7,4],[6,5,7,5],[6,7,7,7],[6,0,7,0],[6,1,7,1],[6,2,7,2],[6,3,7,3],[5,12,5,17],[6,6,7,6],[6,8,7,8],[6,9,7,9],[3,0,3,2],[5,0,5,2],[5,3,5,5],[5,8,5,11],[5,6,5,7],[6,10,7,10],[6,17,7,17],[6,13,7,13],[6,14,7,14],[6,15,7,15],[6,11,7,11],[6,12,7,12]]}
["Praziquantel (PZQ)"]
["Administrative structure, eligible population by age group, treatment plan and information about tablets"]
[]
["TOTAL",null,null,{"$f":"SUM(D$9:D$1000)","v":4351971.3499999996},{"$f":"SUM(E$9:E$1000)","v":6251386.6000000006},{"$f":"SUM(F$9:F$1000)","v":10603357.950000005},null,null,{"$f":"SUM(I$9:I$1000)","v":6060441},0,5499876.3999999994,11560317.400000002,15151102.5,16499629.199999997,15151102.5,0,15151102.5,15258]
[]
["Country administrative structure",null,null,"Population requiring treatment with PZQ",null,null,"Treatment plan",null,"Target population",null,null,null,"Praziquantel (PZQ)"]
["Country","Province/State","District","SAC","Adults","Total","SCH","All SAC targeted?","SAC","SAC\nat lower level","Adults","Total","SAC","Adults","Total required\nfor SAC","Remaining in stock","Tablets to be procured","Bottle (600 mg)\n1000 tablets"]
[]
[{"$f":"IF(INTRO!$E$43=\"Non-endemic\",\" \", IF(COUNTRY_INFO!A9=0,\" \",COUNTRY_INFO!A9))","v":"Ghana"},{"$f":"IF(INTRO!$E$43=\"Non-endemic\",\" \", IF(COUNTRY_INFO!B9=0,\" \",COUNTRY_INFO!B9))","v":"Ashanti"},{"$f":"IF(INTRO!$E$43=\"Non-endemic\",\" \", IF(COUNTRY_INFO!C9=0,\" \",COUNTRY_INFO!C9))","v":"Adansi North"},{"$f":"IF(INTRO!$E$43=\"Non-endemic\", 0, IF(COUNTRY_INFO!$K9>0, IF(COUNTRY_INFO!$K9=4, 0, IF(COUNTRY_INFO!$K9=1, COUNTRY_INFO!$F9*0.33, IF(COUNTRY_INFO!$K9=2, COUNTRY_INFO!$F9*0.5, COUNTRY_INFO!$F9))), 0))","v":16618.5},{"$f":"IF(INTRO!$E$43=\"Non-endemic\", 0, IF(COUNTRY_INFO!$K9>0, IF(COUNTRY_INFO!$K9=4, 0, IF(COUNTRY_INFO!$K9=1, 0, IF(COUNTRY_INFO!$K9=2, COUNTRY_INFO!$G9*0.2, COUNTRY_INFO!$G9))), 0))","v":16740.400000000001},{"$f":"SUM(D9:E9)","v":33358.9},{"$f":"IF(INTRO!$E$43=\"Non-endemic\", \"Not required\", COUNTRY_INFO!S9)","v":1},"Yes",{"$f":"IF($D9=0,0,IF(AND($G9>0,$H9<>\"Yes\"),D9,IF(AND($G9>0,$H9=\"Yes\"),COUNTRY_INFO!$F9,0)))","v":33237},null,{"$f":"IF($G9>0,E9, 0)","v":16740.400000000001},{"$f":"IF($J9=0,SUM(I9,K9),SUM(J9,K9))","v":49977.4},{"$f":"IF($J9=0,$I9*2.5,$J9*2.5)","v":83092.5},{"$f":"$K9*3","v":50221.200000000004},{"$f":"M9","v":83092.5},null,{"$f":"IF($O9>$P9,O9-P9,0)","v":83092.5},{"$f":"ROUNDUP($O9/1000,0)","v":84}]
[{"$f":"IF(INTRO!$E$43=\"Non-endemic\",\" \", IF(COUNTRY_INFO!A10=0,\" \",COUNTRY_INFO!A10))","v":"Ghana"},{"$f":"IF(INTRO!$E$43=\"Non-endemic\",\" \", IF(COUNTRY_INFO!B10=0,\" \",COUNTRY_INFO!B10))","v":"Ashanti"},{"$f":"IF(INTRO!$E$43=\"Non-endemic\",\" \", IF(COUNTRY_INFO!C10=0,\" \",COUNTRY_INFO!C10))","v":"Adansi South"},{"$f":"IF(INTRO!$E$43=\"Non-endemic\", 0, IF(COUNTRY_INFO!$K10>0, IF(COUNTRY_INFO!$K10=4, 0, IF(COUNTRY_INFO!$K10=1, COUNTRY_INFO!$F10*0.33, IF(COUNTRY_INFO!$K10=2, COUNTRY_INFO!$F10*0.5, COUNTRY_INFO!$F10))), 0))","v":17904.5},{"$f":"IF(INTRO!$E$43=\"Non-endemic\", 0, IF(COUNTRY_INFO!$K10>0, IF(COUNTRY_INFO!$K10=4, 0, IF(COUNTRY_INFO!$K10=1, 0, IF(COUNTRY_INFO!$K10=2, COUNTRY_INFO!$G10*0.2, COUNTRY_INFO!$G10))), 0))","v":18035.8},35940.300000000003,{"$f":"IF(INTRO!$E$43=\"Non-endemic\", \"Not required\", COUNTRY_INFO!S10)","v":1},"Yes",{"$f":"IF($D10=0,0,IF(AND($G10>0,$H10<>\"Yes\"),D10,IF(AND($G10>0,$H10=\"Yes\"),COUNTRY_INFO!$F10,0)))","v":35809},null,18035.8,53844.800000000003,89522.5,54107.399999999994,89522.5,null,89522.5,90]
[{"$f":"IF(INTRO!$E$43=\"Non-endemic\",\" \", IF(COUNTRY_INFO!A11=0,\" \",COUNTRY_INFO!A11))","v":"Ghana"},{"$f":"IF(INTRO!$E$43=\"Non-endemic\",\" \", IF(COUNTRY_INFO!B11=0,\" \",COUNTRY_INFO!B11))","v":"Ashanti"},{"$f":"IF(INTRO!$E$43=\"Non-endemic\",\" \", IF(COUNTRY_INFO!C11=0,\" \",COUNTRY_INFO!C11))","v":"Afigya-Kwabre"},{"$f":"IF(INTRO!$E$43=\"Non-endemic\", 0, IF(COUNTRY_INFO!$K11>0, IF(COUNTRY_INFO!$K11=4, 0, IF(COUNTRY_INFO!$K11=1, COUNTRY_INFO!$F11*0.33, IF(COUNTRY_INFO!$K11=2, COUNTRY_INFO!$F11*0.5, COUNTRY_INFO!$F11))), 0))","v":21126},{"$f":"IF(INTRO!$E$43=\"Non-endemic\", 0, IF(COUNTRY_INFO!$K11>0, IF(COUNTRY_INFO!$K11=4, 0, IF(COUNTRY_INFO!$K11=1, 0, IF(COUNTRY_INFO!$K11=2, COUNTRY_INFO!$G11*0.2, COUNTRY_INFO!$G11))), 0))","v":21281.4},42407.4,{"$f":"IF(INTRO!$E$43=\"Non-endemic\", \"Not required\", COUNTRY_INFO!S11)","v":1},"Yes",{"$f":"IF($D11=0,0,IF(AND($G11>0,$H11<>\"Yes\"),D11,IF(AND($G11>0,$H11=\"Yes\"),COUNTRY_INFO!$F11,0)))","v":42252},null,21281.4,63533.4,105630,63844.200000000004,105630,null,105630,106]
[{"$f":"IF(INTRO!$E$43=\"Non-endemic\",\" \", IF(COUNTRY_INFO!A12=0,\" \",COUNTRY_INFO!A12))","v":"Ghana"},{"$f":"IF(INTRO!$E$43=\"Non-endemic\",\" \", IF(COUNTRY_INFO!B12=0,\" \",COUNTRY_INFO!B12))","v":"Ashanti"},{"$f":"IF(INTRO!$E$43=\"Non-endemic\",\" \", IF(COUNTRY_INFO!C12=0,\" \",COUNTRY_INFO!C12))","v":"Ahafo-Ano North"},{"$f":"IF(INTRO!$E$43=\"Non-endemic\", 0, IF(COUNTRY_INFO!$K12>0, IF(COUNTRY_INFO!$K12=4, 0, IF(COUNTRY_INFO!$K12=1, COUNTRY_INFO!$F12*0.33, IF(COUNTRY_INFO!$K12=2, COUNTRY_INFO!$F12*0.5, COUNTRY_INFO!$F12))), 0))","v":14631},{"$f":"IF(INTRO!$E$43=\"Non-endemic\", 0, IF(COUNTRY_INFO!$K12>0, IF(COUNTRY_INFO!$K12=4, 0, IF(COUNTRY_INFO!$K12=1, 0, IF(COUNTRY_INFO!$K12=2, COUNTRY_INFO!$G12*0.2, COUNTRY_INFO!$G12))), 0))","v":14738.6},29369.599999999999,{"$f":"IF(INTRO!$E$43=\"Non-endemic\", \"Not required\", COUNTRY_INFO!S12)","v":1},"Yes",{"$f":"IF($D12=0,0,IF(AND($G12>0,$H12<>\"Yes\"),D12,IF(AND($G12>0,$H12=\"Yes\"),COUNTRY_INFO!$F12,0)))","v":29262},null,14738.6,44000.6,73155,44215.8,73155,null,73155,74]
[{"$f":"IF(INTRO!$E$43=\"Non-endemic\",\" \", IF(COUNTRY_INFO!A13=0,\" \",COUNTRY_INFO!A13))","v":"Ghana"},{"$f":"IF(INTRO!$E$43=\"Non-endemic\",\" \", IF(COUNTRY_INFO!B13=0,\" \",COUNTRY_INFO!B13))","v":"Ashanti"},{"$f":"IF(INTRO!$E$43=\"Non-endemic\",\" \", IF(COUNTRY_INFO!C13=0,\" \",COUNTRY_INFO!C13))","v":"Ahafo-Ano South"},{"$f":"IF(INTRO!$E$43=\"Non-endemic\", 0, IF(COUNTRY_INFO!$K13>0, IF(COUNTRY_INFO!$K13=4, 0, IF(COUNTRY_INFO!$K13=1, COUNTRY_INFO!$F13*0.33, IF(COUNTRY_INFO!$K13=2, COUNTRY_INFO!$F13*0.5, COUNTRY_INFO!$F13))), 0))","v":37758},{"$f":"IF(INTRO!$E$43=\"Non-endemic\", 0, IF(COUNTRY_INFO!$K13>0, IF(COUNTRY_INFO!$K13=4, 0, IF(COUNTRY_INFO!$K13=1, 0, IF(COUNTRY_INFO!$K13=2, COUNTRY_INFO!$G13*0.2, COUNTRY_INFO!$G13))), 0))","v":95088},132846,{"$f":"IF(INTRO!$E$43=\"Non-endemic\", \"Not required\", COUNTRY_INFO!S13)","v":1},"Yes",{"$f":"IF($D13=0,0,IF(AND($G13>0,$H13<>\"Yes\"),D13,IF(AND($G13>0,$H13=\"Yes\"),COUNTRY_INFO!$F13,0)))","v":37758},null,95088,132846,94395,285264,94395,null,94395,95]
[{"$f":"IF(INTRO!$E$43=\"Non-endemic\",\" \", IF(COUNTRY_INFO!A14=0,\" \",COUNTRY_INFO!A14))","v":"Ghana"},{"$f":"IF(INTRO!$E$43=\"Non-endemic\",\" \", IF(COUNTRY_INFO!B14=0,\" \",COUNTRY_INFO!B14))","v":"Ashanti"},{"$f":"IF(INTRO!$E$43=\"Non-endemic\",\" \", IF(COUNTRY_INFO!C14=0,\" \",COUNTRY_INFO!C14))","v":"Amansie Central"},{"$f":"IF(INTRO!$E$43=\"Non-endemic\", 0, IF(COUNTRY_INFO!$K14>0, IF(COUNTRY_INFO!$K14=4, 0, IF(COUNTRY_INFO!$K14=1, COUNTRY_INFO!$F14*0.33, IF(COUNTRY_INFO!$K14=2, COUNTRY_INFO!$F14*0.5, COUNTRY_INFO!$F14))), 0))","v":28162},{"$f":"IF(INTRO!$E$43=\"Non-endemic\", 0, IF(COUNTRY_INFO!$K14>0, IF(COUNTRY_INFO!$K14=4, 0, IF(COUNTRY_INFO!$K14=1, 0, IF(COUNTRY_INFO!$K14=2, COUNTRY_INFO!$G14*0.2, COUNTRY_INFO!$G14))), 0))","v":70923},99085,{"$f":"IF(INTRO!$E$43=\"Non-endemic\", \"Not required\", COUNTRY_INFO!S14)","v":1},"Yes",{"$f":"IF($D14=0,0,IF(AND($G14>0,$H14<>\"Yes\"),D14,IF(AND($G14>0,$H14=\"Yes\"),COUNTRY_INFO!$F14,0)))","v":28162},null,70923,99085,70405,212769,70405,null,70405,71]
[{"$f":"IF(INTRO!$E$43=\"Non-endemic\",\" \", IF(COUNTRY_INFO!A15=0,\" \",COUNTRY_INFO!A15))","v":"Ghana"},{"$f":"IF(INTRO!$E$43=\"Non-endemic\",\" \", IF(COUNTRY_INFO!B15=0,\" \",COUNTRY_INFO!B15))","v":"Ashanti"},{"$f":"IF(INTRO!$E$43=\"Non-endemic\",\" \", IF(COUNTRY_INFO!C15=0,\" \",COUNTRY_INFO!C15))","v":"Mampong Muncipal"},{"$f":"IF(INTRO!$E$43=\"Non-endemic\", 0, IF(COUNTRY_INFO!$K15>0, IF(COUNTRY_INFO!$K15=4, 0, IF(COUNTRY_INFO!$K15=1, COUNTRY_INFO!$F15*0.33, IF(COUNTRY_INFO!$K15=2, COUNTRY_INFO!$F15*0.5, COUNTRY_INFO!$F15))), 0))","v":13664},{"$f":"IF(INTRO!$E$43=\"Non-endemic\", 0, IF(COUNTRY_INFO!$K15>0, IF(COUNTRY_INFO!$K15=4, 0, IF(COUNTRY_INFO!$K15=1, 0, IF(COUNTRY_INFO!$K15=2, COUNTRY_INFO!$G15*0.2, COUNTRY_INFO!$G15))), 0))","v":13764.2},27428.2,{"$f":"IF(INTRO!$E$43=\"Non-endemic\", \"Not required\", COUNTRY_INFO!S15)","v":1},"Yes",{"$f":"IF($D15=0,0,IF(AND($G15>0,$H15<>\"Yes\"),D15,IF(AND($G15>0,$H15=\"Yes\"),COUNTRY_INFO!$F15,0)))","v":27328},null,13764.2,41092.199999999997,68320,41292.600000000006,68320,null,68320,69]
[{"$f":"IF(INTRO!$E$43=\"Non-endemic\",\" \", IF(COUNTRY_INFO!A16=0,\" \",COUNTRY_INFO!A16))","v":"Ghana"},{"$f":"IF(INTRO!$E$43=\"Non-endemic\",\" \", IF(COUNTRY_INFO!B16=0,\" \",COUNTRY_INFO!B16))","v":"Ashanti"},{"$f":"IF(INTRO!$E$43=\"Non-endemic\",\" \", IF(COUNTRY_INFO!C16=0,\" \",COUNTRY_INFO!C16))","v":"Amansie West"},{"$f":"IF(INTRO!$E$43=\"Non-endemic\", 0, IF(COUNTRY_INFO!$K16>0, IF(COUNTRY_INFO!$K16=4, 0, IF(COUNTRY_INFO!$K16=1, COUNTRY_INFO!$F16*0.33, IF(COUNTRY_INFO!$K16=2, COUNTRY_INFO!$F16*0.5, COUNTRY_INFO!$F16))), 0))","v":41691},{"$f":"IF(INTRO!$E$43=\"Non-endemic\", 0, IF(COUNTRY_INFO!$K16>0, IF(COUNTRY_INFO!$K16=4, 0, IF(COUNTRY_INFO!$K16=1, 0, IF(COUNTRY_INFO!$K16=2, COUNTRY_INFO!$G16*0.2, COUNTRY_INFO!$G16))), 0))","v":104993},146684,{"$f":"IF(INTRO!$E$43=\"Non-endemic\", \"Not required\", COUNTRY_INFO!S16)","v":1},"Yes",{"$f":"IF($D16=0,0,IF(AND($G16>0,$H16<>\"Yes\"),D16,IF(AND($G16>0,$H16=\"Yes\"),COUNTRY_INFO!$F16,0)))","v":41691},null,104993,146684,104227.5,314979,104227.5,null,104227.5,105]
[{"$f":"IF(INTRO!$E$43=\"Non-endemic\",\" \", IF(COUNTRY_INFO!A17=0,\" \",COUNTRY_INFO!A17))","v":"Ghana"},{"$f":"IF(INTRO!$E$43=\"Non-endemic\",\" \", IF(COUNTRY_INFO!B17=0,\" \",COUNTRY_INFO!B17))","v":"Ashanti"},{"$f":"IF(INTRO!$E$43=\"Non-endemic\",\" \", IF(COUNTRY_INFO!C17=0,\" \",COUNTRY_INFO!C17))","v":"Asante-Akim Central"},{"$f":"IF(INTRO!$E$43=\"Non-endemic\", 0, IF(COUNTRY_INFO!$K17>0, IF(COUNTRY_INFO!$K17=4, 0, IF(COUNTRY_INFO!$K17=1, COUNTRY_INFO!$F17*0.33, IF(COUNTRY_INFO!$K17=2, COUNTRY_INFO!$F17*0.5, COUNTRY_INFO!$F17))), 0))","v":11096.5},{"$f":"IF(INTRO!$E$43=\"Non-endemic\", 0, IF(COUNTRY_INFO!$K17>0, IF(COUNTRY_INFO!$K17=4, 0, IF(COUNTRY_INFO!$K17=1, 0, IF(COUNTRY_INFO!$K17=2, COUNTRY_INFO!$G17*0.2, COUNTRY_INFO!$G17))), 0))","v":11178},22274.5,{"$f":"IF(INTRO!$E$43=\"Non-endemic\", \"Not required\", COUNTRY_INFO!S17)","v":1},"Yes",{"$f":"IF($D17=0,0,IF(AND($G17>0,$H17<>\"Yes\"),D17,IF(AND($G17>0,$H17=\"Yes\"),COUNTRY_INFO!$F17,0)))","v":22193},null,11178,33371,55482.5,33534,55482.5,null,55482.5,56]
[{"$f":"IF(INTRO!$E$43=\"Non-endemic\",\" \", IF(COUNTRY_INFO!A18=0,\" \",COUNTRY_INFO!A18))","v":"Ghana"},{"$f":"IF(INTRO!$E$43=\"Non-endemic\",\" \", IF(COUNTRY_INFO!B18=0,\" \",COUNTRY_INFO!B18))","v":"Ashanti"},{"$f":"IF(INTRO!$E$43=\"Non-endemic\",\" \", IF(COUNTRY_INFO!C18=0,\" \",COUNTRY_INFO!C18))","v":"Asante-Akim North"},{"$f":"IF(INTRO!$E$43=\"Non-endemic\", 0, IF(COUNTRY_INFO!$K18>0, IF(COUNTRY_INFO!$K18=4, 0, IF(COUNTRY_INFO!$K18=1, COUNTRY_INFO!$F18*0.33, IF(COUNTRY_INFO!$K18=2, COUNTRY_INFO!$F18*0.5, COUNTRY_INFO!$F18))), 0))","v":10736.5},{"$f":"IF(INTRO!$E$43=\"Non-endemic\", 0, IF(COUNTRY_INFO!$K18>0, IF(COUNTRY_INFO!$K18=4, 0, IF(COUNTRY_INFO!$K18=1, 0, IF(COUNTRY_INFO!$K18=2, COUNTRY_INFO!$G18*0.2, COUNTRY_INFO!$G18))), 0))","v":10815.2},21551.7,{"$f":"IF(INTRO!$E$43=\"Non-endemic\", \"Not required\", COUNTRY_INFO!S18)","v":1},"Yes",{"$f":"IF($D18=0,0,IF(AND($G18>0,$H18<>\"Yes\"),D18,IF(AND($G18>0,$H18=\"Yes\"),COUNTRY_INFO!$F18,0)))","v":21473},null,10815.2,32288.2,53682.5,32445.600000000002,53682.5,null,53682.5,54]
[{"$f":"IF(INTRO!$E$43=\"Non-endemic\",\" \", IF(COUNTRY_INFO!A19=0,\" \",COUNTRY_INFO!A19))","v":"Ghana"},{"$f":"IF(INTRO!$E$43=\"Non-endemic\",\" \", IF(COUNTRY_INFO!B19=0,\" \",COUNTRY_INFO!B19))","v":"Ashanti"},{"$f":"IF(INTRO!$E$43=\"Non-endemic\",\" \", IF(COUNTRY_INFO!C19=0,\" \",COUNTRY_INFO!C19))","v":"Asante-Akim South"},{"$f":"IF(INTRO!$E$43=\"Non-endemic\", 0, IF(COUNTRY_INFO!$K19>0, IF(COUNTRY_INFO!$K19=4, 0, IF(COUNTRY_INFO!$K19=1, COUNTRY_INFO!$F19*0.33, IF(COUNTRY_INFO!$K19=2, COUNTRY_INFO!$F19*0.5, COUNTRY_INFO!$F19))), 0))","v":18194},{"$f":"IF(INTRO!$E$43=\"Non-endemic\", 0, IF(COUNTRY_INFO!$K19>0, IF(COUNTRY_INFO!$K19=4, 0, IF(COUNTRY_INFO!$K19=1, 0, IF(COUNTRY_INFO!$K19=2, COUNTRY_INFO!$G19*0.2, COUNTRY_INFO!$G19))), 0))","v":18327.8},36521.800000000003,{"$f":"IF(INTRO!$E$43=\"Non-endemic\", \"Not required\", COUNTRY_INFO!S19)","v":1},"Yes",{"$f":"IF($D19=0,0,IF(AND($G19>0,$H19<>\"Yes\"),D19,IF(AND($G19>0,$H19=\"Yes\"),COUNTRY_INFO!$F19,0)))","v":36388},null,18327.8,54715.8,90970,54983.399999999994,90970,null,90970,91]
[{"$f":"IF(INTRO!$E$43=\"Non-endemic\",\" \", IF(COUNTRY_INFO!A20=0,\" \",COUNTRY_INFO!A20))","v":"Ghana"},{"$f":"IF(INTRO!$E$43=\"Non-endemic\",\" \", IF(COUNTRY_INFO!B20=0,\" \",COUNTRY_INFO!B20))","v":"Ashanti"},{"$f":"IF(INTRO!$E$43=\"Non-endemic\",\" \", IF(COUNTRY_INFO!C20=0,\" \",COUNTRY_INFO!C20))","v":"Atwima-Kwanwoma"},{"$f":"IF(INTRO!$E$43=\"Non-endemic\", 0, IF(COUNTRY_INFO!$K20>0, IF(COUNTRY_INFO!$K20=4, 0, IF(COUNTRY_INFO!$K20=1, COUNTRY_INFO!$F20*0.33, IF(COUNTRY_INFO!$K20=2, COUNTRY_INFO!$F20*0.5, COUNTRY_INFO!$F20))), 0))","v":14064.5},{"$f":"IF(INTRO!$E$43=\"Non-endemic\", 0, IF(COUNTRY_INFO!$K20>0, IF(COUNTRY_INFO!$K20=4, 0, IF(COUNTRY_INFO!$K20=1, 0, IF(COUNTRY_INFO!$K20=2, COUNTRY_INFO!$G20*0.2, COUNTRY_INFO!$G20))), 0))","v":14167.800000000001},28232.300000000003,{"$f":"IF(INTRO!$E$43=\"Non-endemic\", \"Not required\", COUNTRY_INFO!S20)","v":1},"Yes",{"$f":"IF($D20=0,0,IF(AND($G20>0,$H20<>\"Yes\"),D20,IF(AND($G20>0,$H20=\"Yes\"),COUNTRY_INFO!$F20,0)))","v":28129},null,14167.800000000001,42296.800000000003,70322.5,42503.4,70322.5,null,70322.5,71]
[{"$f":"IF(INTRO!$E$43=\"Non-endemic\",\" \", IF(COUNTRY_INFO!A21=0,\" \",COUNTRY_INFO!A21))","v":"Ghana"},{"$f":"IF(INTRO!$E$43=\"Non-endemic\",\" \", IF(COUNTRY_INFO!B21=0,\" \",COUNTRY_INFO!B21))","v":"Ashanti"},{"$f":"IF(INTRO!$E$43=\"Non-endemic\",\" \", IF(COUNTRY_INFO!C21=0,\" \",COUNTRY_INFO!C21))","v":"Atwima-Mponua"},{"$f":"IF(INTRO!$E$43=\"Non-endemic\", 0, IF(COUNTRY_INFO!$K21>0, IF(COUNTRY_INFO!$K21=4, 0, IF(COUNTRY_INFO!$K21=1, COUNTRY_INFO!$F21*0.33, IF(COUNTRY_INFO!$K21=2, COUNTRY_INFO!$F21*0.5, COUNTRY_INFO!$F21))), 0))","v":36989},{"$f":"IF(INTRO!$E$43=\"Non-endemic\", 0, IF(COUNTRY_INFO!$K21>0, IF(COUNTRY_INFO!$K21=4, 0, IF(COUNTRY_INFO!$K21=1, 0, IF(COUNTRY_INFO!$K21=2, COUNTRY_INFO!$G21*0.2, COUNTRY_INFO!$G21))), 0))","v":93151},130140,{"$f":"IF(INTRO!$E$43=\"Non-endemic\", \"Not required\", COUNTRY_INFO!S21)","v":1},"Yes",{"$f":"IF($D21=0,0,IF(AND($G21>0,$H21<>\"Yes\"),D21,IF(AND($G21>0,$H21=\"Yes\"),COUNTRY_INFO!$F21,0)))","v":36989},null,93151,130140,92472.5,279453,92472.5,null,92472.5,93]
[{"$f":"IF(INTRO!$E$43=\"Non-endemic\",\" \", IF(COUNTRY_INFO!A22=0,\" \",COUNTRY_INFO!A22))","v":"Ghana"},{"$f":"IF(INTRO!$E$43=\"Non-endemic\",\" \", IF(COUNTRY_INFO!B22=0,\" \",COUNTRY_INFO!B22))","v":"Ashanti"},{"$f":"IF(INTRO!$E$43=\"Non-endemic\",\" \", IF(COUNTRY_INFO!C22=0,\" \",COUNTRY_INFO!C22))","v":"Atwima-Nwabiagya"},{"$f":"IF(INTRO!$E$43=\"Non-endemic\", 0, IF(COUNTRY_INFO!$K22>0, IF(COUNTRY_INFO!$K22=4, 0, IF(COUNTRY_INFO!$K22=1, COUNTRY_INFO!$F22*0.33, IF(COUNTRY_INFO!$K22=2, COUNTRY_INFO!$F22*0.5, COUNTRY_INFO!$F22))), 0))","v":23125.5},{"$f":"IF(INTRO!$E$43=\"Non-endemic\", 0, IF(COUNTRY_INFO!$K22>0, IF(COUNTRY_INFO!$K22=4, 0, IF(COUNTRY_INFO!$K22=1, 0, IF(COUNTRY_INFO!$K22=2, COUNTRY_INFO!$G22*0.2, COUNTRY_INFO!$G22))), 0))","v":23295.4},46420.9,{"$f":"IF(INTRO!$E$43=\"Non-endemic\", \"Not required\", COUNTRY_INFO!S22)","v":1},"Yes",{"$f":"IF($D22=0,0,IF(AND($G22>0,$H22<>\"Yes\"),D22,IF(AND($G22>0,$H22=\"Yes\"),COUNTRY_INFO!$F22,0)))","v":46251},null,23295.4,69546.399999999994,115627.5,69886.200000000012,115627.5,null,115627.5,116]
[{"$f":"IF(INTRO!$E$43=\"Non-endemic\",\" \", IF(COUNTRY_INFO!A23=0,\" \",COUNTRY_INFO!A23))","v":"Ghana"},{"$f":"IF(INTRO!$E$43=\"Non-endemic\",\" \", IF(COUNTRY_INFO!B23=0,\" \",COUNTRY_INFO!B23))","v":"Ashanti"},{"$f":"IF(INTRO!$E$43=\"Non-endemic\",\" \", IF(COUNTRY_INFO!C23=0,\" \",COUNTRY_INFO!C23))","v":"Bosomtwe"},{"$f":"IF(INTRO!$E$43=\"Non-endemic\", 0, IF(COUNTRY_INFO!$K23>0, IF(COUNTRY_INFO!$K23=4, 0, IF(COUNTRY_INFO!$K23=1, COUNTRY_INFO!$F23*0.33, IF(COUNTRY_INFO!$K23=2, COUNTRY_INFO!$F23*0.5, COUNTRY_INFO!$F23))), 0))","v":14573},{"$f":"IF(INTRO!$E$43=\"Non-endemic\", 0, IF(COUNTRY_INFO!$K23>0, IF(COUNTRY_INFO!$K23=4, 0, IF(COUNTRY_INFO!$K23=1, 0, IF(COUNTRY_INFO!$K23=2, COUNTRY_INFO!$G23*0.2, COUNTRY_INFO!$G23))), 0))","v":14680},29253,{"$f":"IF(INTRO!$E$43=\"Non-endemic\", \"Not required\", COUNTRY_INFO!S23)","v":1},"Yes",{"$f":"IF($D23=0,0,IF(AND($G23>0,$H23<>\"Yes\"),D23,IF(AND($G23>0,$H23=\"Yes\"),COUNTRY_INFO!$F23,0)))","v":29146},null,14680,43826,72865,44040,72865,null,72865,73]
[{"$f":"IF(INTRO!$E$43=\"Non-endemic\",\" \", IF(COUNTRY_INFO!A24=0,\" \",COUNTRY_INFO!A24))","v":"Ghana"},{"$f":"IF(INTRO!$E$43=\"Non-endemic\",\" \", IF(COUNTRY_INFO!B24=0,\" \",COUNTRY_INFO!B24))","v":"Ashanti"},{"$f":"IF(INTRO!$E$43=\"Non-endemic\",\" \", IF(COUNTRY_INFO!C24=0,\" \",COUNTRY_INFO!C24))","v":"Bosome-Freho"},{"$f":"IF(INTRO!$E$43=\"Non-endemic\", 0, IF(COUNTRY_INFO!$K24>0, IF(COUNTRY_INFO!$K24=4, 0, IF(COUNTRY_INFO!$K24=1, COUNTRY_INFO!$F24*0.33, IF(COUNTRY_INFO!$K24=2, COUNTRY_INFO!$F24*0.5, COUNTRY_INFO!$F24))), 0))","v":18745},{"$f":"IF(INTRO!$E$43=\"Non-endemic\", 0, IF(COUNTRY_INFO!$K24>0, IF(COUNTRY_INFO!$K24=4, 0, IF(COUNTRY_INFO!$K24=1, 0, IF(COUNTRY_INFO!$K24=2, COUNTRY_INFO!$G24*0.2, COUNTRY_INFO!$G24))), 0))","v":47206},65951,{"$f":"IF(INTRO!$E$43=\"Non-endemic\", \"Not required\", COUNTRY_INFO!S24)","v":1},"Yes",{"$f":"IF($D24=0,0,IF(AND($G24>0,$H24<>\"Yes\"),D24,IF(AND($G24>0,$H24=\"Yes\"),COUNTRY_INFO!$F24,0)))","v":18745},null,47206,65951,46862.5,141618,46862.5,null,46862.5,47]
[{"$f":"IF(INTRO!$E$43=\"Non-endemic\",\" \", IF(COUNTRY_INFO!A25=0,\" \",COUNTRY_INFO!A25))","v":"Ghana"},{"$f":"IF(INTRO!$E$43=\"Non-endemic\",\" \", IF(COUNTRY_INFO!B25=0,\" \",COUNTRY_INFO!B25))","v":"Ashanti"},{"$f":"IF(INTRO!$E$43=\"Non-endemic\",\" \", IF(COUNTRY_INFO!C25=0,\" \",COUNTRY_INFO!C25))","v":"Ejisu-Juaben"},{"$f":"IF(INTRO!$E$43=\"Non-endemic\", 0, IF(COUNTRY_INFO!$K25>0, IF(COUNTRY_INFO!$K25=4, 0, IF(COUNTRY_INFO!$K25=1, COUNTRY_INFO!$F25*0.33, IF(COUNTRY_INFO!$K25=2, COUNTRY_INFO!$F25*0.5, COUNTRY_INFO!$F25))), 0))","v":22309},{"$f":"IF(INTRO!$E$43=\"Non-endemic\", 0, IF(COUNTRY_INFO!$K25>0, IF(COUNTRY_INFO!$K25=4, 0, IF(COUNTRY_INFO!$K25=1, 0, IF(COUNTRY_INFO!$K25=2, COUNTRY_INFO!$G25*0.2, COUNTRY_INFO!$G25))), 0))","v":22472.800000000003},44781.8,{"$f":"IF(INTRO!$E$43=\"Non-endemic\", \"Not required\", COUNTRY_INFO!S25)","v":1},"Yes",{"$f":"IF($D25=0,0,IF(AND($G25>0,$H25<>\"Yes\"),D25,IF(AND($G25>0,$H25=\"Yes\"),COUNTRY_INFO!$F25,0)))","v":44618},null,22472.800000000003,67090.8,111545,67418.400000000009,111545,null,111545,112]
[{"$f":"IF(INTRO!$E$43=\"Non-endemic\",\" \", IF(COUNTRY_INFO!A26=0,\" \",COUNTRY_INFO!A26))","v":"Ghana"},{"$f":"IF(INTRO!$E$43=\"Non-endemic\",\" \", IF(COUNTRY_INFO!B26=0,\" \",COUNTRY_INFO!B26))","v":"Ashanti"},{"$f":"IF(INTRO!$E$43=\"Non-endemic\",\" \", IF(COUNTRY_INFO!C26=0,\" \",COUNTRY_INFO!C26))","v":"Ejura-Sekyedomasi"},{"$f":"IF(INTRO!$E$43=\"Non-endemic\", 0, IF(COUNTRY_INFO!$K26>0, IF(COUNTRY_INFO!$K26=4, 0, IF(COUNTRY_INFO!$K26=1, COUNTRY_INFO!$F26*0.33, IF(COUNTRY_INFO!$K26=2, COUNTRY_INFO!$F26*0.5, COUNTRY_INFO!$F26))), 0))","v":26519},{"$f":"IF(INTRO!$E$43=\"Non-endemic\", 0, IF(COUNTRY_INFO!$K26>0, IF(COUNTRY_INFO!$K26=4, 0, IF(COUNTRY_INFO!$K26=1, 0, IF(COUNTRY_INFO!$K26=2, COUNTRY_INFO!$G26*0.2, COUNTRY_INFO!$G26))), 0))","v":66785},93304,{"$f":"IF(INTRO!$E$43=\"Non-endemic\", \"Not required\", COUNTRY_INFO!S26)","v":1},"Yes",{"$f":"IF($D26=0,0,IF(AND($G26>0,$H26<>\"Yes\"),D26,IF(AND($G26>0,$H26=\"Yes\"),COUNTRY_INFO!$F26,0)))","v":26519},null,66785,93304,66297.5,200355,66297.5,null,66297.5,67]
[{"$f":"IF(INTRO!$E$43=\"Non-endemic\",\" \", IF(COUNTRY_INFO!A27=0,\" \",COUNTRY_INFO!A27))","v":"Ghana"},{"$f":"IF(INTRO!$E$43=\"Non-endemic\",\" \", IF(COUNTRY_INFO!B27=0,\" \",COUNTRY_INFO!B27))","v":"Ashanti"},{"$f":"IF(INTRO!$E$43=\"Non-endemic\",\" \", IF(COUNTRY_INFO!C27=0,\" \",COUNTRY_INFO!C27))","v":"Kumasi Metropolis"},{"$f":"IF(INTRO!$E$43=\"Non-endemic\", 0, IF(COUNTRY_INFO!$K27>0, IF(COUNTRY_INFO!$K27=4, 0, IF(COUNTRY_INFO!$K27=1, COUNTRY_INFO!$F27*0.33, IF(COUNTRY_INFO!$K27=2, COUNTRY_INFO!$F27*0.5, COUNTRY_INFO!$F27))), 0))","v":268499},{"$f":"IF(INTRO!$E$43=\"Non-endemic\", 0, IF(COUNTRY_INFO!$K27>0, IF(COUNTRY_INFO!$K27=4, 0, IF(COUNTRY_INFO!$K27=1, 0, IF(COUNTRY_INFO!$K27=2, COUNTRY_INFO!$G27*0.2, COUNTRY_INFO!$G27))), 0))","v":270471.60000000003},538970.60000000009,{"$f":"IF(INTRO!$E$43=\"Non-endemic\", \"Not required\", COUNTRY_INFO!S27)","v":0},null,{"$f":"IF($D27=0,0,IF(AND($G27>0,$H27<>\"Yes\"),D27,IF(AND($G27>0,$H27=\"Yes\"),COUNTRY_INFO!$F27,0)))","v":0},null,0,0,0,0,0,null,0,0]
[{"$f":"IF(INTRO!$E$43=\"Non-endemic\",\" \", IF(COUNTRY_INFO!A28=0,\" \",COUNTRY_INFO!A28))","v":"Ghana"},{"$f":"IF(INTRO!$E$43=\"Non-endemic\",\" \", IF(COUNTRY_INFO!B28=0,\" \",COUNTRY_INFO!B28))","v":"Ashanti"},{"$f":"IF(INTRO!$E$43=\"Non-endemic\",\" \", IF(COUNTRY_INFO!C28=0,\" \",COUNTRY_INFO!C28))","v":"Kwabre"},{"$f":"IF(INTRO!$E$43=\"Non-endemic\", 0, IF(COUNTRY_INFO!$K28>0, IF(COUNTRY_INFO!$K28=4, 0, IF(COUNTRY_INFO!$K28=1, COUNTRY_INFO!$F28*0.33, IF(COUNTRY_INFO!$K28=2, COUNTRY_INFO!$F28*0.5, COUNTRY_INFO!$F28))), 0))","v":17932},{"$f":"IF(INTRO!$E$43=\"Non-endemic\", 0, IF(COUNTRY_INFO!$K28>0, IF(COUNTRY_INFO!$K28=4, 0, IF(COUNTRY_INFO!$K28=1, 0, IF(COUNTRY_INFO!$K28=2, COUNTRY_INFO!$G28*0.2, COUNTRY_INFO!$G28))), 0))","v":18063.600000000002},35995.600000000006,{"$f":"IF(INTRO!$E$43=\"Non-endemic\", \"Not required\", COUNTRY_INFO!S28)","v":1},"Yes",{"$f":"IF($D28=0,0,IF(AND($G28>0,$H28<>\"Yes\"),D28,IF(AND($G28>0,$H28=\"Yes\"),COUNTRY_INFO!$F28,0)))","v":35864},null,18063.600000000002,53927.600000000006,89660,54190.8,89660,null,89660,90]
[{"$f":"IF(INTRO!$E$43=\"Non-endemic\",\" \", IF(COUNTRY_INFO!A29=0,\" \",COUNTRY_INFO!A29))","v":"Ghana"},{"$f":"IF(INTRO!$E$43=\"Non-endemic\",\" \", IF(COUNTRY_INFO!B29=0,\" \",COUNTRY_INFO!B29))","v":"Ashanti"},{"$f":"IF(INTRO!$E$43=\"Non-endemic\",\" \", IF(COUNTRY_INFO!C29=0,\" \",COUNTRY_INFO!C29))","v":"Bekwai Municipal"},{"$f":"IF(INTRO!$E$43=\"Non-endemic\", 0, IF(COUNTRY_INFO!$K29>0, IF(COUNTRY_INFO!$K29=4, 0, IF(COUNTRY_INFO!$K29=1, COUNTRY_INFO!$F29*0.33, IF(COUNTRY_INFO!$K29=2, COUNTRY_INFO!$F29*0.5, COUNTRY_INFO!$F29))), 0))","v":18315},{"$f":"IF(INTRO!$E$43=\"Non-endemic\", 0, IF(COUNTRY_INFO!$K29>0, IF(COUNTRY_INFO!$K29=4, 0, IF(COUNTRY_INFO!$K29=1, 0, IF(COUNTRY_INFO!$K29=2, COUNTRY_INFO!$G29*0.2, COUNTRY_INFO!$G29))), 0))","v":18449.400000000001},36764.400000000001,{"$f":"IF(INTRO!$E$43=\"Non-endemic\", \"Not required\", COUNTRY_INFO!S29)","v":1},"Yes",{"$f":"IF($D29=0,0,IF(AND($G29>0,$H29<>\"Yes\"),D29,IF(AND($G29>0,$H29=\"Yes\"),COUNTRY_INFO!$F29,0)))","v":36630},null,18449.400000000001,55079.4,91575,55348.200000000004,91575,null,91575,92]
[{"$f":"IF(INTRO!$E$43=\"Non-endemic\",\" \", IF(COUNTRY_INFO!A30=0,\" \",COUNTRY_INFO!A30))","v":"Ghana"},{"$f":"IF(INTRO!$E$43=\"Non-endemic\",\" \", IF(COUNTRY_INFO!B30=0,\" \",COUNTRY_INFO!B30))","v":"Ashanti"},{"$f":"IF(INTRO!$E$43=\"Non-endemic\",\" \", IF(COUNTRY_INFO!C30=0,\" \",COUNTRY_INFO!C30))","v":"Asokore-Mampong"},{"$f":"IF(INTRO!$E$43=\"Non-endemic\", 0, IF(COUNTRY_INFO!$K30>0, IF(COUNTRY_INFO!$K30=4, 0, IF(COUNTRY_INFO!$K30=1, COUNTRY_INFO!$F30*0.33, IF(COUNTRY_INFO!$K30=2, COUNTRY_INFO!$F30*0.5, COUNTRY_INFO!$F30))), 0))","v":47301},{"$f":"IF(INTRO!$E$43=\"Non-endemic\", 0, IF(COUNTRY_INFO!$K30>0, IF(COUNTRY_INFO!$K30=4, 0, IF(COUNTRY_INFO!$K30=1, 0, IF(COUNTRY_INFO!$K30=2, COUNTRY_INFO!$G30*0.2, COUNTRY_INFO!$G30))), 0))","v":47648.4},94949.4,{"$f":"IF(INTRO!$E$43=\"Non-endemic\", \"Not required\", COUNTRY_INFO!S30)","v":1},"Yes",{"$f":"IF($D30=0,0,IF(AND($G30>0,$H30<>\"Yes\"),D30,IF(AND($G30>0,$H30=\"Yes\"),COUNTRY_INFO!$F30,0)))","v":94602},null,47648.4,142250.4,236505,142945.20000000001,236505,null,236505,237]
[{"$f":"IF(INTRO!$E$43=\"Non-endemic\",\" \", IF(COUNTRY_INFO!A31=0,\" \",COUNTRY_INFO!A31))","v":"Ghana"},{"$f":"IF(INTRO!$E$43=\"Non-endemic\",\" \", IF(COUNTRY_INFO!B31=0,\" \",COUNTRY_INFO!B31))","v":"Ashanti"},{"$f":"IF(INTRO!$E$43=\"Non-endemic\",\" \", IF(COUNTRY_INFO!C31=0,\" \",COUNTRY_INFO!C31))","v":"Obuasi Municipal"},{"$f":"IF(INTRO!$E$43=\"Non-endemic\", 0, IF(COUNTRY_INFO!$K31>0, IF(COUNTRY_INFO!$K31=4, 0, IF(COUNTRY_INFO!$K31=1, COUNTRY_INFO!$F31*0.33, IF(COUNTRY_INFO!$K31=2, COUNTRY_INFO!$F31*0.5, COUNTRY_INFO!$F31))), 0))","v":26169.5},{"$f":"IF(INTRO!$E$43=\"Non-endemic\", 0, IF(COUNTRY_INFO!$K31>0, IF(COUNTRY_INFO!$K31=4, 0, IF(COUNTRY_INFO!$K31=1, 0, IF(COUNTRY_INFO!$K31=2, COUNTRY_INFO!$G31*0.2, COUNTRY_INFO!$G31))), 0))","v":26361.800000000003},52531.3,{"$f":"IF(INTRO!$E$43=\"Non-endemic\", \"Not required\", COUNTRY_INFO!S31)","v":1},"Yes",{"$f":"IF($D31=0,0,IF(AND($G31>0,$H31<>\"Yes\"),D31,IF(AND($G31>0,$H31=\"Yes\"),COUNTRY_INFO!$F31,0)))","v":52339},null,26361.800000000003,78700.800000000003,130847.5,79085.400000000009,130847.5,null,130847.5,131]
[{"$f":"IF(INTRO!$E$43=\"Non-endemic\",\" \", IF(COUNTRY_INFO!A32=0,\" \",COUNTRY_INFO!A32))","v":"Ghana"},{"$f":"IF(INTRO!$E$43=\"Non-endemic\",\" \", IF(COUNTRY_INFO!B32=0,\" \",COUNTRY_INFO!B32))","v":"Ashanti"},{"$f":"IF(INTRO!$E$43=\"Non-endemic\",\" \", IF(COUNTRY_INFO!C32=0,\" \",COUNTRY_INFO!C32))","v":"Offiinso Municipal"},{"$f":"IF(INTRO!$E$43=\"Non-endemic\", 0, IF(COUNTRY_INFO!$K32>0, IF(COUNTRY_INFO!$K32=4, 0, IF(COUNTRY_INFO!$K32=1, COUNTRY_INFO!$F32*0.33, IF(COUNTRY_INFO!$K32=2, COUNTRY_INFO!$F32*0.5, COUNTRY_INFO!$F32))), 0))","v":11932.5},{"$f":"IF(INTRO!$E$43=\"Non-endemic\", 0, IF(COUNTRY_INFO!$K32>0, IF(COUNTRY_INFO!$K32=4, 0, IF(COUNTRY_INFO!$K32=1, 0, IF(COUNTRY_INFO!$K32=2, COUNTRY_INFO!$G32*0.2, COUNTRY_INFO!$G32))), 0))","v":12020.2},23952.7,{"$f":"IF(INTRO!$E$43=\"Non-endemic\", \"Not required\", COUNTRY_INFO!S32)","v":1},"Yes",{"$f":"IF($D32=0,0,IF(AND($G32>0,$H32<>\"Yes\"),D32,IF(AND($G32>0,$H32=\"Yes\"),COUNTRY_INFO!$F32,0)))","v":23865},null,12020.2,35885.199999999997,59662.5,36060.600000000006,59662.5,null,59662.5,60]
[{"$f":"IF(INTRO!$E$43=\"Non-endemic\",\" \", IF(COUNTRY_INFO!A33=0,\" \",COUNTRY_INFO!A33))","v":"Ghana"},{"$f":"IF(INTRO!$E$43=\"Non-endemic\",\" \", IF(COUNTRY_INFO!B33=0,\" \",COUNTRY_INFO!B33))","v":"Ashanti"},{"$f":"IF(INTRO!$E$43=\"Non-endemic\",\" \", IF(COUNTRY_INFO!C33=0,\" \",COUNTRY_INFO!C33))","v":"Offinso North"},{"$f":"IF(INTRO!$E$43=\"Non-endemic\", 0, IF(COUNTRY_INFO!$K33>0, IF(COUNTRY_INFO!$K33=4, 0, IF(COUNTRY_INFO!$K33=1, COUNTRY_INFO!$F33*0.33, IF(COUNTRY_INFO!$K33=2, COUNTRY_INFO!$F33*0.5, COUNTRY_INFO!$F33))), 0))","v":8826.5},{"$f":"IF(INTRO!$E$43=\"Non-endemic\", 0, IF(COUNTRY_INFO!$K33>0, IF(COUNTRY_INFO!$K33=4, 0, IF(COUNTRY_INFO!$K33=1, 0, IF(COUNTRY_INFO!$K33=2, COUNTRY_INFO!$G33*0.2, COUNTRY_INFO!$G33))), 0))","v":8891.6},17718.099999999999,{"$f":"IF(INTRO!$E$43=\"Non-endemic\", \"Not required\", COUNTRY_INFO!S33)","v":1},"Yes",{"$f":"IF($D33=0,0,IF(AND($G33>0,$H33<>\"Yes\"),D33,IF(AND($G33>0,$H33=\"Yes\"),COUNTRY_INFO!$F33,0)))","v":17653},null,8891.6,26544.6,44132.5,26674.800000000003,44132.5,null,44132.5,45]
[{"$f":"IF(INTRO!$E$43=\"Non-endemic\",\" \", IF(COUNTRY_INFO!A34=0,\" \",COUNTRY_INFO!A34))","v":"Ghana"},{"$f":"IF(INTRO!$E$43=\"Non-endemic\",\" \", IF(COUNTRY_INFO!B34=0,\" \",COUNTRY_INFO!B34))","v":"Ashanti"},{"$f":"IF(INTRO!$E$43=\"Non-endemic\",\" \", IF(COUNTRY_INFO!C34=0,\" \",COUNTRY_INFO!C34))","v":"Sekyere-Afram Plains"},{"$f":"IF(INTRO!$E$43=\"Non-endemic\", 0, IF(COUNTRY_INFO!$K34>0, IF(COUNTRY_INFO!$K34=4, 0, IF(COUNTRY_INFO!$K34=1, COUNTRY_INFO!$F34*0.33, IF(COUNTRY_INFO!$K34=2, COUNTRY_INFO!$F34*0.5, COUNTRY_INFO!$F34))), 0))","v":8856},{"$f":"IF(INTRO!$E$43=\"Non-endemic\", 0, IF(COUNTRY_INFO!$K34>0, IF(COUNTRY_INFO!$K34=4, 0, IF(COUNTRY_INFO!$K34=1, 0, IF(COUNTRY_INFO!$K34=2, COUNTRY_INFO!$G34*0.2, COUNTRY_INFO!$G34))), 0))","v":22303},31159,{"$f":"IF(INTRO!$E$43=\"Non-endemic\", \"Not required\", COUNTRY_INFO!S34)","v":1},"Yes",{"$f":"IF($D34=0,0,IF(AND($G34>0,$H34<>\"Yes\"),D34,IF(AND($G34>0,$H34=\"Yes\"),COUNTRY_INFO!$F34,0)))","v":8856},null,22303,31159,22140,66909,22140,null,22140,23]
[{"$f":"IF(INTRO!$E$43=\"Non-endemic\",\" \", IF(COUNTRY_INFO!A35=0,\" \",COUNTRY_INFO!A35))","v":"Ghana"},{"$f":"IF(INTRO!$E$43=\"Non-endemic\",\" \", IF(COUNTRY_INFO!B35=0,\" \",COUNTRY_INFO!B35))","v":"Ashanti"},{"$f":"IF(INTRO!$E$43=\"Non-endemic\",\" \", IF(COUNTRY_INFO!C35=0,\" \",COUNTRY_INFO!C35))","v":"Kumawu"},{"$f":"IF(INTRO!$E$43=\"Non-endemic\", 0, IF(COUNTRY_INFO!$K35>0, IF(COUNTRY_INFO!$K35=4, 0, IF(COUNTRY_INFO!$K35=1, COUNTRY_INFO!$F35*0.33, IF(COUNTRY_INFO!$K35=2, COUNTRY_INFO!$F35*0.5, COUNTRY_INFO!$F35))), 0))","v":20298},{"$f":"IF(INTRO!$E$43=\"Non-endemic\", 0, IF(COUNTRY_INFO!$K35>0, IF(COUNTRY_INFO!$K35=4, 0, IF(COUNTRY_INFO!$K35=1, 0, IF(COUNTRY_INFO!$K35=2, COUNTRY_INFO!$G35*0.2, COUNTRY_INFO!$G35))), 0))","v":51118},71416,{"$f":"IF(INTRO!$E$43=\"Non-endemic\", \"Not required\", COUNTRY_INFO!S35)","v":1},"Yes",{"$f":"IF($D35=0,0,IF(AND($G35>0,$H35<>\"Yes\"),D35,IF(AND($G35>0,$H35=\"Yes\"),COUNTRY_INFO!$F35,0)))","v":20298},null,51118,71416,50745,153354,50745,null,50745,51]
[{"$f":"IF(INTRO!$E$43=\"Non-endemic\",\" \", IF(COUNTRY_INFO!A36=0,\" \",COUNTRY_INFO!A36))","v":"Ghana"},{"$f":"IF(INTRO!$E$43=\"Non-endemic\",\" \", IF(COUNTRY_INFO!B36=0,\" \",COUNTRY_INFO!B36))","v":"Ashanti"},{"$f":"IF(INTRO!$E$43=\"Non-endemic\",\" \", IF(COUNTRY_INFO!C36=0,\" \",COUNTRY_INFO!C36))","v":"Sekyere Central"},{"$f":"IF(INTRO!$E$43=\"Non-endemic\", 0, IF(COUNTRY_INFO!$K36>0, IF(COUNTRY_INFO!$K36=4, 0, IF(COUNTRY_INFO!$K36=1, COUNTRY_INFO!$F36*0.33, IF(COUNTRY_INFO!$K36=2, COUNTRY_INFO!$F36*0.5, COUNTRY_INFO!$F36))), 0))","v":11053.5},{"$f":"IF(INTRO!$E$43=\"Non-endemic\", 0, IF(COUNTRY_INFO!$K36>0, IF(COUNTRY_INFO!$K36=4, 0, IF(COUNTRY_INFO!$K36=1, 0, IF(COUNTRY_INFO!$K36=2, COUNTRY_INFO!$G36*0.2, COUNTRY_INFO!$G36))), 0))","v":11134.800000000001},22188.300000000003,{"$f":"IF(INTRO!$E$43=\"Non-endemic\", \"Not required\", COUNTRY_INFO!S36)","v":1},"Yes",{"$f":"IF($D36=0,0,IF(AND($G36>0,$H36<>\"Yes\"),D36,IF(AND($G36>0,$H36=\"Yes\"),COUNTRY_INFO!$F36,0)))","v":22107},null,11134.800000000001,33241.800000000003,55267.5,33404.400000000001,55267.5,null,55267.5,56]
[{"$f":"IF(INTRO!$E$43=\"Non-endemic\",\" \", IF(COUNTRY_INFO!A37=0,\" \",COUNTRY_INFO!A37))","v":"Ghana"},{"$f":"IF(INTRO!$E$43=\"Non-endemic\",\" \", IF(COUNTRY_INFO!B37=0,\" \",COUNTRY_INFO!B37))","v":"Ashanti"},{"$f":"IF(INTRO!$E$43=\"Non-endemic\",\" \", IF(COUNTRY_INFO!C37=0,\" \",COUNTRY_INFO!C37))","v":"Sekyere East"},{"$f":"IF(INTRO!$E$43=\"Non-endemic\", 0, IF(COUNTRY_INFO!$K37>0, IF(COUNTRY_INFO!$K37=4, 0, IF(COUNTRY_INFO!$K37=1, COUNTRY_INFO!$F37*0.33, IF(COUNTRY_INFO!$K37=2, COUNTRY_INFO!$F37*0.5, COUNTRY_INFO!$F37))), 0))","v":9647.5},{"$f":"IF(INTRO!$E$43=\"Non-endemic\", 0, IF(COUNTRY_INFO!$K37>0, IF(COUNTRY_INFO!$K37=4, 0, IF(COUNTRY_INFO!$K37=1, 0, IF(COUNTRY_INFO!$K37=2, COUNTRY_INFO!$G37*0.2, COUNTRY_INFO!$G37))), 0))","v":9718.6},19366.099999999999,{"$f":"IF(INTRO!$E$43=\"Non-endemic\", \"Not required\", COUNTRY_INFO!S37)","v":1},"Yes",{"$f":"IF($D37=0,0,IF(AND($G37>0,$H37<>\"Yes\"),D37,IF(AND($G37>0,$H37=\"Yes\"),COUNTRY_INFO!$F37,0)))","v":19295},null,9718.6,29013.599999999999,48237.5,29155.800000000003,48237.5,null,48237.5,49]
[{"$f":"IF(INTRO!$E$43=\"Non-endemic\",\" \", IF(COUNTRY_INFO!A38=0,\" \",COUNTRY_INFO!A38))","v":"Ghana"},{"$f":"IF(INTRO!$E$43=\"Non-endemic\",\" \", IF(COUNTRY_INFO!B38=0,\" \",COUNTRY_INFO!B38))","v":"Ashanti"},{"$f":"IF(INTRO!$E$43=\"Non-endemic\",\" \", IF(COUNTRY_INFO!C38=0,\" \",COUNTRY_INFO!C38))","v":"Sekyere South"},{"$f":"IF(INTRO!$E$43=\"Non-endemic\", 0, IF(COUNTRY_INFO!$K38>0, IF(COUNTRY_INFO!$K38=4, 0, IF(COUNTRY_INFO!$K38=1, COUNTRY_INFO!$F38*0.33, IF(COUNTRY_INFO!$K38=2, COUNTRY_INFO!$F38*0.5, COUNTRY_INFO!$F38))), 0))","v":14588.5},{"$f":"IF(INTRO!$E$43=\"Non-endemic\", 0, IF(COUNTRY_INFO!$K38>0, IF(COUNTRY_INFO!$K38=4, 0, IF(COUNTRY_INFO!$K38=1, 0, IF(COUNTRY_INFO!$K38=2, COUNTRY_INFO!$G38*0.2, COUNTRY_INFO!$G38))), 0))","v":14695.400000000001},29283.9,{"$f":"IF(INTRO!$E$43=\"Non-endemic\", \"Not required\", COUNTRY_INFO!S38)","v":1},"Yes",{"$f":"IF($D38=0,0,IF(AND($G38>0,$H38<>\"Yes\"),D38,IF(AND($G38>0,$H38=\"Yes\"),COUNTRY_INFO!$F38,0)))","v":29177},null,14695.400000000001,43872.4,72942.5,44086.200000000004,72942.5,null,72942.5,73]
[{"$f":"IF(INTRO!$E$43=\"Non-endemic\",\" \", IF(COUNTRY_INFO!A39=0,\" \",COUNTRY_INFO!A39))","v":"Ghana"},{"$f":"IF(INTRO!$E$43=\"Non-endemic\",\" \", IF(COUNTRY_INFO!B39=0,\" \",COUNTRY_INFO!B39))","v":"Brong-Ahafo"},{"$f":"IF(INTRO!$E$43=\"Non-endemic\",\" \", IF(COUNTRY_INFO!C39=0,\" \",COUNTRY_INFO!C39))","v":"Asunafo North"},{"$f":"IF(INTRO!$E$43=\"Non-endemic\", 0, IF(COUNTRY_INFO!$K39>0, IF(COUNTRY_INFO!$K39=4, 0, IF(COUNTRY_INFO!$K39=1, COUNTRY_INFO!$F39*0.33, IF(COUNTRY_INFO!$K39=2, COUNTRY_INFO!$F39*0.5, COUNTRY_INFO!$F39))), 0))","v":18754},{"$f":"IF(INTRO!$E$43=\"Non-endemic\", 0, IF(COUNTRY_INFO!$K39>0, IF(COUNTRY_INFO!$K39=4, 0, IF(COUNTRY_INFO!$K39=1, 0, IF(COUNTRY_INFO!$K39=2, COUNTRY_INFO!$G39*0.2, COUNTRY_INFO!$G39))), 0))","v":18891.600000000002},37645.600000000006,{"$f":"IF(INTRO!$E$43=\"Non-endemic\", \"Not required\", COUNTRY_INFO!S39)","v":1},"Yes",{"$f":"IF($D39=0,0,IF(AND($G39>0,$H39<>\"Yes\"),D39,IF(AND($G39>0,$H39=\"Yes\"),COUNTRY_INFO!$F39,0)))","v":37508},null,18891.600000000002,56399.600000000006,93770,56674.8,93770,null,93770,94]
[{"$f":"IF(INTRO!$E$43=\"Non-endemic\",\" \", IF(COUNTRY_INFO!A40=0,\" \",COUNTRY_INFO!A40))","v":"Ghana"},{"$f":"IF(INTRO!$E$43=\"Non-endemic\",\" \", IF(COUNTRY_INFO!B40=0,\" \",COUNTRY_INFO!B40))","v":"Brong-Ahafo"},{"$f":"IF(INTRO!$E$43=\"Non-endemic\",\" \", IF(COUNTRY_INFO!C40=0,\" \",COUNTRY_INFO!C40))","v":"Asunafo South"},{"$f":"IF(INTRO!$E$43=\"Non-endemic\", 0, IF(COUNTRY_INFO!$K40>0, IF(COUNTRY_INFO!$K40=4, 0, IF(COUNTRY_INFO!$K40=1, COUNTRY_INFO!$F40*0.33, IF(COUNTRY_INFO!$K40=2, COUNTRY_INFO!$F40*0.5, COUNTRY_INFO!$F40))), 0))","v":14376},{"$f":"IF(INTRO!$E$43=\"Non-endemic\", 0, IF(COUNTRY_INFO!$K40>0, IF(COUNTRY_INFO!$K40=4, 0, IF(COUNTRY_INFO!$K40=1, 0, IF(COUNTRY_INFO!$K40=2, COUNTRY_INFO!$G40*0.2, COUNTRY_INFO!$G40))), 0))","v":14481.800000000001},28857.800000000003,{"$f":"IF(INTRO!$E$43=\"Non-endemic\", \"Not required\", COUNTRY_INFO!S40)","v":1},"Yes",{"$f":"IF($D40=0,0,IF(AND($G40>0,$H40<>\"Yes\"),D40,IF(AND($G40>0,$H40=\"Yes\"),COUNTRY_INFO!$F40,0)))","v":28752},null,14481.800000000001,43233.8,71880,43445.4,71880,null,71880,72]
[{"$f":"IF(INTRO!$E$43=\"Non-endemic\",\" \", IF(COUNTRY_INFO!A41=0,\" \",COUNTRY_INFO!A41))","v":"Ghana"},{"$f":"IF(INTRO!$E$43=\"Non-endemic\",\" \", IF(COUNTRY_INFO!B41=0,\" \",COUNTRY_INFO!B41))","v":"Brong-Ahafo"},{"$f":"IF(INTRO!$E$43=\"Non-endemic\",\" \", IF(COUNTRY_INFO!C41=0,\" \",COUNTRY_INFO!C41))","v":"Asutifi North"},{"$f":"IF(INTRO!$E$43=\"Non-endemic\", 0, IF(COUNTRY_INFO!$K41>0, IF(COUNTRY_INFO!$K41=4, 0, IF(COUNTRY_INFO!$K41=1, COUNTRY_INFO!$F41*0.33, IF(COUNTRY_INFO!$K41=2, COUNTRY_INFO!$F41*0.5, COUNTRY_INFO!$F41))), 0))","v":7971.5},{"$f":"IF(INTRO!$E$43=\"Non-endemic\", 0, IF(COUNTRY_INFO!$K41>0, IF(COUNTRY_INFO!$K41=4, 0, IF(COUNTRY_INFO!$K41=1, 0, IF(COUNTRY_INFO!$K41=2, COUNTRY_INFO!$G41*0.2, COUNTRY_INFO!$G41))), 0))","v":8030.2000000000007},16001.7,{"$f":"IF(INTRO!$E$43=\"Non-endemic\", \"Not required\", COUNTRY_INFO!S41)","v":1},"Yes",{"$f":"IF($D41=0,0,IF(AND($G41>0,$H41<>\"Yes\"),D41,IF(AND($G41>0,$H41=\"Yes\"),COUNTRY_INFO!$F41,0)))","v":15943},null,8030.2000000000007,23973.200000000001,39857.5,24090.600000000002,39857.5,null,39857.5,40]
[{"$f":"IF(INTRO!$E$43=\"Non-endemic\",\" \", IF(COUNTRY_INFO!A42=0,\" \",COUNTRY_INFO!A42))","v":"Ghana"},{"$f":"IF(INTRO!$E$43=\"Non-endemic\",\" \", IF(COUNTRY_INFO!B42=0,\" \",COUNTRY_INFO!B42))","v":"Brong-Ahafo"},{"$f":"IF(INTRO!$E$43=\"Non-endemic\",\" \", IF(COUNTRY_INFO!C42=0,\" \",COUNTRY_INFO!C42))","v":"Asutifi South"},{"$f":"IF(INTRO!$E$43=\"Non-endemic\", 0, IF(COUNTRY_INFO!$K42>0, IF(COUNTRY_INFO!$K42=4, 0, IF(COUNTRY_INFO!$K42=1, COUNTRY_INFO!$F42*0.33, IF(COUNTRY_INFO!$K42=2, COUNTRY_INFO!$F42*0.5, COUNTRY_INFO!$F42))), 0))","v":7948.5},{"$f":"IF(INTRO!$E$43=\"Non-endemic\", 0, IF(COUNTRY_INFO!$K42>0, IF(COUNTRY_INFO!$K42=4, 0, IF(COUNTRY_INFO!$K42=1, 0, IF(COUNTRY_INFO!$K42=2, COUNTRY_INFO!$G42*0.2, COUNTRY_INFO!$G42))), 0))","v":8006.6},15955.1,{"$f":"IF(INTRO!$E$43=\"Non-endemic\", \"Not required\", COUNTRY_INFO!S42)","v":1},"Yes",{"$f":"IF($D42=0,0,IF(AND($G42>0,$H42<>\"Yes\"),D42,IF(AND($G42>0,$H42=\"Yes\"),COUNTRY_INFO!$F42,0)))","v":15897},null,8006.6,23903.599999999999,39742.5,24019.800000000003,39742.5,null,39742.5,40]
[{"$f":"IF(INTRO!$E$43=\"Non-endemic\",\" \", IF(COUNTRY_INFO!A43=0,\" \",COUNTRY_INFO!A43))","v":"Ghana"},{"$f":"IF(INTRO!$E$43=\"Non-endemic\",\" \", IF(COUNTRY_INFO!B43=0,\" \",COUNTRY_INFO!B43))","v":"Brong-Ahafo"},{"$f":"IF(INTRO!$E$43=\"Non-endemic\",\" \", IF(COUNTRY_INFO!C43=0,\" \",COUNTRY_INFO!C43))","v":"Atebubu-Amanteng"},{"$f":"IF(INTRO!$E$43=\"Non-endemic\", 0, IF(COUNTRY_INFO!$K43>0, IF(COUNTRY_INFO!$K43=4, 0, IF(COUNTRY_INFO!$K43=1, COUNTRY_INFO!$F43*0.33, IF(COUNTRY_INFO!$K43=2, COUNTRY_INFO!$F43*0.5, COUNTRY_INFO!$F43))), 0))","v":15934},{"$f":"IF(INTRO!$E$43=\"Non-endemic\", 0, IF(COUNTRY_INFO!$K43>0, IF(COUNTRY_INFO!$K43=4, 0, IF(COUNTRY_INFO!$K43=1, 0, IF(COUNTRY_INFO!$K43=2, COUNTRY_INFO!$G43*0.2, COUNTRY_INFO!$G43))), 0))","v":16051.2},31985.200000000001,{"$f":"IF(INTRO!$E$43=\"Non-endemic\", \"Not required\", COUNTRY_INFO!S43)","v":1},"Yes",{"$f":"IF($D43=0,0,IF(AND($G43>0,$H43<>\"Yes\"),D43,IF(AND($G43>0,$H43=\"Yes\"),COUNTRY_INFO!$F43,0)))","v":31868},null,16051.2,47919.199999999997,79670,48153.600000000006,79670,null,79670,80]
[{"$f":"IF(INTRO!$E$43=\"Non-endemic\",\" \", IF(COUNTRY_INFO!A44=0,\" \",COUNTRY_INFO!A44))","v":"Ghana"},{"$f":"IF(INTRO!$E$43=\"Non-endemic\",\" \", IF(COUNTRY_INFO!B44=0,\" \",COUNTRY_INFO!B44))","v":"Brong-Ahafo"},{"$f":"IF(INTRO!$E$43=\"Non-endemic\",\" \", IF(COUNTRY_INFO!C44=0,\" \",COUNTRY_INFO!C44))","v":"Berekum"},{"$f":"IF(INTRO!$E$43=\"Non-endemic\", 0, IF(COUNTRY_INFO!$K44>0, IF(COUNTRY_INFO!$K44=4, 0, IF(COUNTRY_INFO!$K44=1, COUNTRY_INFO!$F44*0.33, IF(COUNTRY_INFO!$K44=2, COUNTRY_INFO!$F44*0.5, COUNTRY_INFO!$F44))), 0))","v":12868.35},{"$f":"IF(INTRO!$E$43=\"Non-endemic\", 0, IF(COUNTRY_INFO!$K44>0, IF(COUNTRY_INFO!$K44=4, 0, IF(COUNTRY_INFO!$K44=1, 0, IF(COUNTRY_INFO!$K44=2, COUNTRY_INFO!$G44*0.2, COUNTRY_INFO!$G44))), 0))","v":0},12868.35,{"$f":"IF(INTRO!$E$43=\"Non-endemic\", \"Not required\", COUNTRY_INFO!S44)","v":1},"Yes",{"$f":"IF($D44=0,0,IF(AND($G44>0,$H44<>\"Yes\"),D44,IF(AND($G44>0,$H44=\"Yes\"),COUNTRY_INFO!$F44,0)))","v":38995},null,0,38995,97487.5,0,97487.5,null,97487.5,98]
[{"$f":"IF(INTRO!$E$43=\"Non-endemic\",\" \", IF(COUNTRY_INFO!A45=0,\" \",COUNTRY_INFO!A45))","v":"Ghana"},{"$f":"IF(INTRO!$E$43=\"Non-endemic\",\" \", IF(COUNTRY_INFO!B45=0,\" \",COUNTRY_INFO!B45))","v":"Brong-Ahafo"},{"$f":"IF(INTRO!$E$43=\"Non-endemic\",\" \", IF(COUNTRY_INFO!C45=0,\" \",COUNTRY_INFO!C45))","v":"Dormaa Municipal"},{"$f":"IF(INTRO!$E$43=\"Non-endemic\", 0, IF(COUNTRY_INFO!$K45>0, IF(COUNTRY_INFO!$K45=4, 0, IF(COUNTRY_INFO!$K45=1, COUNTRY_INFO!$F45*0.33, IF(COUNTRY_INFO!$K45=2, COUNTRY_INFO!$F45*0.5, COUNTRY_INFO!$F45))), 0))","v":11129.25},{"$f":"IF(INTRO!$E$43=\"Non-endemic\", 0, IF(COUNTRY_INFO!$K45>0, IF(COUNTRY_INFO!$K45=4, 0, IF(COUNTRY_INFO!$K45=1, 0, IF(COUNTRY_INFO!$K45=2, COUNTRY_INFO!$G45*0.2, COUNTRY_INFO!$G45))), 0))","v":0},11129.25,{"$f":"IF(INTRO!$E$43=\"Non-endemic\", \"Not required\", COUNTRY_INFO!S45)","v":1},"Yes",{"$f":"IF($D45=0,0,IF(AND($G45>0,$H45<>\"Yes\"),D45,IF(AND($G45>0,$H45=\"Yes\"),COUNTRY_INFO!$F45,0)))","v":33725},null,0,33725,84312.5,0,84312.5,null,84312.5,85]
[{"$f":"IF(INTRO!$E$43=\"Non-endemic\",\" \", IF(COUNTRY_INFO!A46=0,\" \",COUNTRY_INFO!A46))","v":"Ghana"},{"$f":"IF(INTRO!$E$43=\"Non-endemic\",\" \", IF(COUNTRY_INFO!B46=0,\" \",COUNTRY_INFO!B46))","v":"Brong-Ahafo"},{"$f":"IF(INTRO!$E$43=\"Non-endemic\",\" \", IF(COUNTRY_INFO!C46=0,\" \",COUNTRY_INFO!C46))","v":"Dormaa West"},{"$f":"IF(INTRO!$E$43=\"Non-endemic\", 0, IF(COUNTRY_INFO!$K46>0, IF(COUNTRY_INFO!$K46=4, 0, IF(COUNTRY_INFO!$K46=1, COUNTRY_INFO!$F46*0.33, IF(COUNTRY_INFO!$K46=2, COUNTRY_INFO!$F46*0.5, COUNTRY_INFO!$F46))), 0))","v":4733.1900000000005},{"$f":"IF(INTRO!$E$43=\"Non-endemic\", 0, IF(COUNTRY_INFO!$K46>0, IF(COUNTRY_INFO!$K46=4, 0, IF(COUNTRY_INFO!$K46=1, 0, IF(COUNTRY_INFO!$K46=2, COUNTRY_INFO!$G46*0.2, COUNTRY_INFO!$G46))), 0))","v":0},4733.1900000000005,{"$f":"IF(INTRO!$E$43=\"Non-endemic\", \"Not required\", COUNTRY_INFO!S46)","v":1},"Yes",{"$f":"IF($D46=0,0,IF(AND($G46>0,$H46<>\"Yes\"),D46,IF(AND($G46>0,$H46=\"Yes\"),COUNTRY_INFO!$F46,0)))","v":14343},null,0,14343,35857.5,0,35857.5,null,35857.5,36]
[{"$f":"IF(INTRO!$E$43=\"Non-endemic\",\" \", IF(COUNTRY_INFO!A47=0,\" \",COUNTRY_INFO!A47))","v":"Ghana"},{"$f":"IF(INTRO!$E$43=\"Non-endemic\",\" \", IF(COUNTRY_INFO!B47=0,\" \",COUNTRY_INFO!B47))","v":"Brong-Ahafo"},{"$f":"IF(INTRO!$E$43=\"Non-endemic\",\" \", IF(COUNTRY_INFO!C47=0,\" \",COUNTRY_INFO!C47))","v":"Dormaa East"},{"$f":"IF(INTRO!$E$43=\"Non-endemic\", 0, IF(COUNTRY_INFO!$K47>0, IF(COUNTRY_INFO!$K47=4, 0, IF(COUNTRY_INFO!$K47=1, COUNTRY_INFO!$F47*0.33, IF(COUNTRY_INFO!$K47=2, COUNTRY_INFO!$F47*0.5, COUNTRY_INFO!$F47))), 0))","v":5049.9900000000007},{"$f":"IF(INTRO!$E$43=\"Non-endemic\", 0, IF(COUNTRY_INFO!$K47>0, IF(COUNTRY_INFO!$K47=4, 0, IF(COUNTRY_INFO!$K47=1, 0, IF(COUNTRY_INFO!$K47=2, COUNTRY_INFO!$G47*0.2, COUNTRY_INFO!$G47))), 0))","v":0},5049.9900000000007,{"$f":"IF(INTRO!$E$43=\"Non-endemic\", \"Not required\", COUNTRY_INFO!S47)","v":1},"Yes",{"$f":"IF($D47=0,0,IF(AND($G47>0,$H47<>\"Yes\"),D47,IF(AND($G47>0,$H47=\"Yes\"),COUNTRY_INFO!$F47,0)))","v":15303},null,0,15303,38257.5,0,38257.5,null,38257.5,39]
[{"$f":"IF(INTRO!$E$43=\"Non-endemic\",\" \", IF(COUNTRY_INFO!A48=0,\" \",COUNTRY_INFO!A48))","v":"Ghana"},{"$f":"IF(INTRO!$E$43=\"Non-endemic\",\" \", IF(COUNTRY_INFO!B48=0,\" \",COUNTRY_INFO!B48))","v":"Brong-Ahafo"},{"$f":"IF(INTRO!$E$43=\"Non-endemic\",\" \", IF(COUNTRY_INFO!C48=0,\" \",COUNTRY_INFO!C48))","v":"Jaman North"},{"$f":"IF(INTRO!$E$43=\"Non-endemic\", 0, IF(COUNTRY_INFO!$K48>0, IF(COUNTRY_INFO!$K48=4, 0, IF(COUNTRY_INFO!$K48=1, COUNTRY_INFO!$F48*0.33, IF(COUNTRY_INFO!$K48=2, COUNTRY_INFO!$F48*0.5, COUNTRY_INFO!$F48))), 0))","v":12493},{"$f":"IF(INTRO!$E$43=\"Non-endemic\", 0, IF(COUNTRY_INFO!$K48>0, IF(COUNTRY_INFO!$K48=4, 0, IF(COUNTRY_INFO!$K48=1, 0, IF(COUNTRY_INFO!$K48=2, COUNTRY_INFO!$G48*0.2, COUNTRY_INFO!$G48))), 0))","v":12584.800000000001},25077.800000000003,{"$f":"IF(INTRO!$E$43=\"Non-endemic\", \"Not required\", COUNTRY_INFO!S48)","v":1},"Yes",{"$f":"IF($D48=0,0,IF(AND($G48>0,$H48<>\"Yes\"),D48,IF(AND($G48>0,$H48=\"Yes\"),COUNTRY_INFO!$F48,0)))","v":24986},null,12584.800000000001,37570.800000000003,62465,37754.400000000001,62465,null,62465,63]
[{"$f":"IF(INTRO!$E$43=\"Non-endemic\",\" \", IF(COUNTRY_INFO!A49=0,\" \",COUNTRY_INFO!A49))","v":"Ghana"},{"$f":"IF(INTRO!$E$43=\"Non-endemic\",\" \", IF(COUNTRY_INFO!B49=0,\" \",COUNTRY_INFO!B49))","v":"Brong-Ahafo"},{"$f":"IF(INTRO!$E$43=\"Non-endemic\",\" \", IF(COUNTRY_INFO!C49=0,\" \",COUNTRY_INFO!C49))","v":"Jaman south"},{"$f":"IF(INTRO!$E$43=\"Non-endemic\", 0, IF(COUNTRY_INFO!$K49>0, IF(COUNTRY_INFO!$K49=4, 0, IF(COUNTRY_INFO!$K49=1, COUNTRY_INFO!$F49*0.33, IF(COUNTRY_INFO!$K49=2, COUNTRY_INFO!$F49*0.5, COUNTRY_INFO!$F49))), 0))","v":9197.1},{"$f":"IF(INTRO!$E$43=\"Non-endemic\", 0, IF(COUNTRY_INFO!$K49>0, IF(COUNTRY_INFO!$K49=4, 0, IF(COUNTRY_INFO!$K49=1, 0, IF(COUNTRY_INFO!$K49=2, COUNTRY_INFO!$G49*0.2, COUNTRY_INFO!$G49))), 0))","v":0},9197.1,{"$f":"IF(INTRO!$E$43=\"Non-endemic\", \"Not required\", COUNTRY_INFO!S49)","v":1},"Yes",{"$f":"IF($D49=0,0,IF(AND($G49>0,$H49<>\"Yes\"),D49,IF(AND($G49>0,$H49=\"Yes\"),COUNTRY_INFO!$F49,0)))","v":27870},null,0,27870,69675,0,69675,null,69675,70]
[{"$f":"IF(INTRO!$E$43=\"Non-endemic\",\" \", IF(COUNTRY_INFO!A50=0,\" \",COUNTRY_INFO!A50))","v":"Ghana"},{"$f":"IF(INTRO!$E$43=\"Non-endemic\",\" \", IF(COUNTRY_INFO!B50=0,\" \",COUNTRY_INFO!B50))","v":"Brong-Ahafo"},{"$f":"IF(INTRO!$E$43=\"Non-endemic\",\" \", IF(COUNTRY_INFO!C50=0,\" \",COUNTRY_INFO!C50))","v":"Kintampo North"},{"$f":"IF(INTRO!$E$43=\"Non-endemic\", 0, IF(COUNTRY_INFO!$K50>0, IF(COUNTRY_INFO!$K50=4, 0, IF(COUNTRY_INFO!$K50=1, COUNTRY_INFO!$F50*0.33, IF(COUNTRY_INFO!$K50=2, COUNTRY_INFO!$F50*0.5, COUNTRY_INFO!$F50))), 0))","v":14361},{"$f":"IF(INTRO!$E$43=\"Non-endemic\", 0, IF(COUNTRY_INFO!$K50>0, IF(COUNTRY_INFO!$K50=4, 0, IF(COUNTRY_INFO!$K50=1, 0, IF(COUNTRY_INFO!$K50=2, COUNTRY_INFO!$G50*0.2, COUNTRY_INFO!$G50))), 0))","v":14466.6},28827.599999999999,{"$f":"IF(INTRO!$E$43=\"Non-endemic\", \"Not required\", COUNTRY_INFO!S50)","v":1},"Yes",{"$f":"IF($D50=0,0,IF(AND($G50>0,$H50<>\"Yes\"),D50,IF(AND($G50>0,$H50=\"Yes\"),COUNTRY_INFO!$F50,0)))","v":28722},null,14466.6,43188.6,71805,43399.8,71805,null,71805,72]
[{"$f":"IF(INTRO!$E$43=\"Non-endemic\",\" \", IF(COUNTRY_INFO!A51=0,\" \",COUNTRY_INFO!A51))","v":"Ghana"},{"$f":"IF(INTRO!$E$43=\"Non-endemic\",\" \", IF(COUNTRY_INFO!B51=0,\" \",COUNTRY_INFO!B51))","v":"Brong-Ahafo"},{"$f":"IF(INTRO!$E$43=\"Non-endemic\",\" \", IF(COUNTRY_INFO!C51=0,\" \",COUNTRY_INFO!C51))","v":"Kintampo South"},{"$f":"IF(INTRO!$E$43=\"Non-endemic\", 0, IF(COUNTRY_INFO!$K51>0, IF(COUNTRY_INFO!$K51=4, 0, IF(COUNTRY_INFO!$K51=1, COUNTRY_INFO!$F51*0.33, IF(COUNTRY_INFO!$K51=2, COUNTRY_INFO!$F51*0.5, COUNTRY_INFO!$F51))), 0))","v":12183},{"$f":"IF(INTRO!$E$43=\"Non-endemic\", 0, IF(COUNTRY_INFO!$K51>0, IF(COUNTRY_INFO!$K51=4, 0, IF(COUNTRY_INFO!$K51=1, 0, IF(COUNTRY_INFO!$K51=2, COUNTRY_INFO!$G51*0.2, COUNTRY_INFO!$G51))), 0))","v":12272.6},24455.599999999999,{"$f":"IF(INTRO!$E$43=\"Non-endemic\", \"Not required\", COUNTRY_INFO!S51)","v":1},"Yes",{"$f":"IF($D51=0,0,IF(AND($G51>0,$H51<>\"Yes\"),D51,IF(AND($G51>0,$H51=\"Yes\"),COUNTRY_INFO!$F51,0)))","v":24366},null,12272.6,36638.6,60915,36817.800000000003,60915,null,60915,61]
[{"$f":"IF(INTRO!$E$43=\"Non-endemic\",\" \", IF(COUNTRY_INFO!A52=0,\" \",COUNTRY_INFO!A52))","v":"Ghana"},{"$f":"IF(INTRO!$E$43=\"Non-endemic\",\" \", IF(COUNTRY_INFO!B52=0,\" \",COUNTRY_INFO!B52))","v":"Brong-Ahafo"},{"$f":"IF(INTRO!$E$43=\"Non-endemic\",\" \", IF(COUNTRY_INFO!C52=0,\" \",COUNTRY_INFO!C52))","v":"Nkoranza North"},{"$f":"IF(INTRO!$E$43=\"Non-endemic\", 0, IF(COUNTRY_INFO!$K52>0, IF(COUNTRY_INFO!$K52=4, 0, IF(COUNTRY_INFO!$K52=1, COUNTRY_INFO!$F52*0.33, IF(COUNTRY_INFO!$K52=2, COUNTRY_INFO!$F52*0.5, COUNTRY_INFO!$F52))), 0))","v":9911},{"$f":"IF(INTRO!$E$43=\"Non-endemic\", 0, IF(COUNTRY_INFO!$K52>0, IF(COUNTRY_INFO!$K52=4, 0, IF(COUNTRY_INFO!$K52=1, 0, IF(COUNTRY_INFO!$K52=2, COUNTRY_INFO!$G52*0.2, COUNTRY_INFO!$G52))), 0))","v":9984},19895,{"$f":"IF(INTRO!$E$43=\"Non-endemic\", \"Not required\", COUNTRY_INFO!S52)","v":1},"Yes",{"$f":"IF($D52=0,0,IF(AND($G52>0,$H52<>\"Yes\"),D52,IF(AND($G52>0,$H52=\"Yes\"),COUNTRY_INFO!$F52,0)))","v":19822},null,9984,29806,49555,29952,49555,null,49555,50]
[{"$f":"IF(INTRO!$E$43=\"Non-endemic\",\" \", IF(COUNTRY_INFO!A53=0,\" \",COUNTRY_INFO!A53))","v":"Ghana"},{"$f":"IF(INTRO!$E$43=\"Non-endemic\",\" \", IF(COUNTRY_INFO!B53=0,\" \",COUNTRY_INFO!B53))","v":"Brong-Ahafo"},{"$f":"IF(INTRO!$E$43=\"Non-endemic\",\" \", IF(COUNTRY_INFO!C53=0,\" \",COUNTRY_INFO!C53))","v":"Nkoranza South"},{"$f":"IF(INTRO!$E$43=\"Non-endemic\", 0, IF(COUNTRY_INFO!$K53>0, IF(COUNTRY_INFO!$K53=4, 0, IF(COUNTRY_INFO!$K53=1, COUNTRY_INFO!$F53*0.33, IF(COUNTRY_INFO!$K53=2, COUNTRY_INFO!$F53*0.5, COUNTRY_INFO!$F53))), 0))","v":15180.5},{"$f":"IF(INTRO!$E$43=\"Non-endemic\", 0, IF(COUNTRY_INFO!$K53>0, IF(COUNTRY_INFO!$K53=4, 0, IF(COUNTRY_INFO!$K53=1, 0, IF(COUNTRY_INFO!$K53=2, COUNTRY_INFO!$G53*0.2, COUNTRY_INFO!$G53))), 0))","v":15292.2},30472.7,{"$f":"IF(INTRO!$E$43=\"Non-endemic\", \"Not required\", COUNTRY_INFO!S53)","v":1},"Yes",{"$f":"IF($D53=0,0,IF(AND($G53>0,$H53<>\"Yes\"),D53,IF(AND($G53>0,$H53=\"Yes\"),COUNTRY_INFO!$F53,0)))","v":30361},null,15292.2,45653.2,75902.5,45876.600000000006,75902.5,null,75902.5,76]
[{"$f":"IF(INTRO!$E$43=\"Non-endemic\",\" \", IF(COUNTRY_INFO!A54=0,\" \",COUNTRY_INFO!A54))","v":"Ghana"},{"$f":"IF(INTRO!$E$43=\"Non-endemic\",\" \", IF(COUNTRY_INFO!B54=0,\" \",COUNTRY_INFO!B54))","v":"Brong-Ahafo"},{"$f":"IF(INTRO!$E$43=\"Non-endemic\",\" \", IF(COUNTRY_INFO!C54=0,\" \",COUNTRY_INFO!C54))","v":"Pru"},{"$f":"IF(INTRO!$E$43=\"Non-endemic\", 0, IF(COUNTRY_INFO!$K54>0, IF(COUNTRY_INFO!$K54=4, 0, IF(COUNTRY_INFO!$K54=1, COUNTRY_INFO!$F54*0.33, IF(COUNTRY_INFO!$K54=2, COUNTRY_INFO!$F54*0.5, COUNTRY_INFO!$F54))), 0))","v":38880},{"$f":"IF(INTRO!$E$43=\"Non-endemic\", 0, IF(COUNTRY_INFO!$K54>0, IF(COUNTRY_INFO!$K54=4, 0, IF(COUNTRY_INFO!$K54=1, 0, IF(COUNTRY_INFO!$K54=2, COUNTRY_INFO!$G54*0.2, COUNTRY_INFO!$G54))), 0))","v":97915},136795,{"$f":"IF(INTRO!$E$43=\"Non-endemic\", \"Not required\", COUNTRY_INFO!S54)","v":1},"Yes",{"$f":"IF($D54=0,0,IF(AND($G54>0,$H54<>\"Yes\"),D54,IF(AND($G54>0,$H54=\"Yes\"),COUNTRY_INFO!$F54,0)))","v":38880},null,97915,136795,97200,293745,97200,null,97200,98]
[{"$f":"IF(INTRO!$E$43=\"Non-endemic\",\" \", IF(COUNTRY_INFO!A55=0,\" \",COUNTRY_INFO!A55))","v":"Ghana"},{"$f":"IF(INTRO!$E$43=\"Non-endemic\",\" \", IF(COUNTRY_INFO!B55=0,\" \",COUNTRY_INFO!B55))","v":"Brong-Ahafo"},{"$f":"IF(INTRO!$E$43=\"Non-endemic\",\" \", IF(COUNTRY_INFO!C55=0,\" \",COUNTRY_INFO!C55))","v":"Sene East"},{"$f":"IF(INTRO!$E$43=\"Non-endemic\", 0, IF(COUNTRY_INFO!$K55>0, IF(COUNTRY_INFO!$K55=4, 0, IF(COUNTRY_INFO!$K55=1, COUNTRY_INFO!$F55*0.33, IF(COUNTRY_INFO!$K55=2, COUNTRY_INFO!$F55*0.5, COUNTRY_INFO!$F55))), 0))","v":18203},{"$f":"IF(INTRO!$E$43=\"Non-endemic\", 0, IF(COUNTRY_INFO!$K55>0, IF(COUNTRY_INFO!$K55=4, 0, IF(COUNTRY_INFO!$K55=1, 0, IF(COUNTRY_INFO!$K55=2, COUNTRY_INFO!$G55*0.2, COUNTRY_INFO!$G55))), 0))","v":45841},64044,{"$f":"IF(INTRO!$E$43=\"Non-endemic\", \"Not required\", COUNTRY_INFO!S55)","v":1},"Yes",{"$f":"IF($D55=0,0,IF(AND($G55>0,$H55<>\"Yes\"),D55,IF(AND($G55>0,$H55=\"Yes\"),COUNTRY_INFO!$F55,0)))","v":18203},null,45841,64044,45507.5,137523,45507.5,null,45507.5,46]
[{"$f":"IF(INTRO!$E$43=\"Non-endemic\",\" \", IF(COUNTRY_INFO!A56=0,\" \",COUNTRY_INFO!A56))","v":"Ghana"},{"$f":"IF(INTRO!$E$43=\"Non-endemic\",\" \", IF(COUNTRY_INFO!B56=0,\" \",COUNTRY_INFO!B56))","v":"Brong-Ahafo"},{"$f":"IF(INTRO!$E$43=\"Non-endemic\",\" \", IF(COUNTRY_INFO!C56=0,\" \",COUNTRY_INFO!C56))","v":"Sene West"},{"$f":"IF(INTRO!$E$43=\"Non-endemic\", 0, IF(COUNTRY_INFO!$K56>0, IF(COUNTRY_INFO!$K56=4, 0, IF(COUNTRY_INFO!$K56=1, COUNTRY_INFO!$F56*0.33, IF(COUNTRY_INFO!$K56=2, COUNTRY_INFO!$F56*0.5, COUNTRY_INFO!$F56))), 0))","v":17537},{"$f":"IF(INTRO!$E$43=\"Non-endemic\", 0, IF(COUNTRY_INFO!$K56>0, IF(COUNTRY_INFO!$K56=4, 0, IF(COUNTRY_INFO!$K56=1, 0, IF(COUNTRY_INFO!$K56=2, COUNTRY_INFO!$G56*0.2, COUNTRY_INFO!$G56))), 0))","v":44165},61702,{"$f":"IF(INTRO!$E$43=\"Non-endemic\", \"Not required\", COUNTRY_INFO!S56)","v":1},"Yes",{"$f":"IF($D56=0,0,IF(AND($G56>0,$H56<>\"Yes\"),D56,IF(AND($G56>0,$H56=\"Yes\"),COUNTRY_INFO!$F56,0)))","v":17537},null,44165,61702,43842.5,132495,43842.5,null,43842.5,44]
[{"$f":"IF(INTRO!$E$43=\"Non-endemic\",\" \", IF(COUNTRY_INFO!A57=0,\" \",COUNTRY_INFO!A57))","v":"Ghana"},{"$f":"IF(INTRO!$E$43=\"Non-endemic\",\" \", IF(COUNTRY_INFO!B57=0,\" \",COUNTRY_INFO!B57))","v":"Brong-Ahafo"},{"$f":"IF(INTRO!$E$43=\"Non-endemic\",\" \", IF(COUNTRY_INFO!C57=0,\" \",COUNTRY_INFO!C57))","v":"Sunyani Municipal"},{"$f":"IF(INTRO!$E$43=\"Non-endemic\", 0, IF(COUNTRY_INFO!$K57>0, IF(COUNTRY_INFO!$K57=4, 0, IF(COUNTRY_INFO!$K57=1, COUNTRY_INFO!$F57*0.33, IF(COUNTRY_INFO!$K57=2, COUNTRY_INFO!$F57*0.5, COUNTRY_INFO!$F57))), 0))","v":18534},{"$f":"IF(INTRO!$E$43=\"Non-endemic\", 0, IF(COUNTRY_INFO!$K57>0, IF(COUNTRY_INFO!$K57=4, 0, IF(COUNTRY_INFO!$K57=1, 0, IF(COUNTRY_INFO!$K57=2, COUNTRY_INFO!$G57*0.2, COUNTRY_INFO!$G57))), 0))","v":18670.2},37204.199999999997,{"$f":"IF(INTRO!$E$43=\"Non-endemic\", \"Not required\", COUNTRY_INFO!S57)","v":1},"Yes",{"$f":"IF($D57=0,0,IF(AND($G57>0,$H57<>\"Yes\"),D57,IF(AND($G57>0,$H57=\"Yes\"),COUNTRY_INFO!$F57,0)))","v":37068},null,18670.2,55738.2,92670,56010.600000000006,92670,null,92670,93]
[{"$f":"IF(INTRO!$E$43=\"Non-endemic\",\" \", IF(COUNTRY_INFO!A58=0,\" \",COUNTRY_INFO!A58))","v":"Ghana"},{"$f":"IF(INTRO!$E$43=\"Non-endemic\",\" \", IF(COUNTRY_INFO!B58=0,\" \",COUNTRY_INFO!B58))","v":"Brong-Ahafo"},{"$f":"IF(INTRO!$E$43=\"Non-endemic\",\" \", IF(COUNTRY_INFO!C58=0,\" \",COUNTRY_INFO!C58))","v":"Sunyani West"},{"$f":"IF(INTRO!$E$43=\"Non-endemic\", 0, IF(COUNTRY_INFO!$K58>0, IF(COUNTRY_INFO!$K58=4, 0, IF(COUNTRY_INFO!$K58=1, COUNTRY_INFO!$F58*0.33, IF(COUNTRY_INFO!$K58=2, COUNTRY_INFO!$F58*0.5, COUNTRY_INFO!$F58))), 0))","v":8465.16},{"$f":"IF(INTRO!$E$43=\"Non-endemic\", 0, IF(COUNTRY_INFO!$K58>0, IF(COUNTRY_INFO!$K58=4, 0, IF(COUNTRY_INFO!$K58=1, 0, IF(COUNTRY_INFO!$K58=2, COUNTRY_INFO!$G58*0.2, COUNTRY_INFO!$G58))), 0))","v":0},8465.16,{"$f":"IF(INTRO!$E$43=\"Non-endemic\", \"Not required\", COUNTRY_INFO!S58)","v":1},"Yes",{"$f":"IF($D58=0,0,IF(AND($G58>0,$H58<>\"Yes\"),D58,IF(AND($G58>0,$H58=\"Yes\"),COUNTRY_INFO!$F58,0)))","v":25652},null,0,25652,64130,0,64130,null,64130,65]
[{"$f":"IF(INTRO!$E$43=\"Non-endemic\",\" \", IF(COUNTRY_INFO!A59=0,\" \",COUNTRY_INFO!A59))","v":"Ghana"},{"$f":"IF(INTRO!$E$43=\"Non-endemic\",\" \", IF(COUNTRY_INFO!B59=0,\" \",COUNTRY_INFO!B59))","v":"Brong-Ahafo"},{"$f":"IF(INTRO!$E$43=\"Non-endemic\",\" \", IF(COUNTRY_INFO!C59=0,\" \",COUNTRY_INFO!C59))","v":"Tain"},{"$f":"IF(INTRO!$E$43=\"Non-endemic\", 0, IF(COUNTRY_INFO!$K59>0, IF(COUNTRY_INFO!$K59=4, 0, IF(COUNTRY_INFO!$K59=1, COUNTRY_INFO!$F59*0.33, IF(COUNTRY_INFO!$K59=2, COUNTRY_INFO!$F59*0.5, COUNTRY_INFO!$F59))), 0))","v":8746.32},{"$f":"IF(INTRO!$E$43=\"Non-endemic\", 0, IF(COUNTRY_INFO!$K59>0, IF(COUNTRY_INFO!$K59=4, 0, IF(COUNTRY_INFO!$K59=1, 0, IF(COUNTRY_INFO!$K59=2, COUNTRY_INFO!$G59*0.2, COUNTRY_INFO!$G59))), 0))","v":0},8746.32,{"$f":"IF(INTRO!$E$43=\"Non-endemic\", \"Not required\", COUNTRY_INFO!S59)","v":1},"Yes",{"$f":"IF($D59=0,0,IF(AND($G59>0,$H59<>\"Yes\"),D59,IF(AND($G59>0,$H59=\"Yes\"),COUNTRY_INFO!$F59,0)))","v":26504},null,0,26504,66260,0,66260,null,66260,67]
[{"$f":"IF(INTRO!$E$43=\"Non-endemic\",\" \", IF(COUNTRY_INFO!A60=0,\" \",COUNTRY_INFO!A60))","v":"Ghana"},{"$f":"IF(INTRO!$E$43=\"Non-endemic\",\" \", IF(COUNTRY_INFO!B60=0,\" \",COUNTRY_INFO!B60))","v":"Brong-Ahafo"},{"$f":"IF(INTRO!$E$43=\"Non-endemic\",\" \", IF(COUNTRY_INFO!C60=0,\" \",COUNTRY_INFO!C60))","v":"Banda"},{"$f":"IF(INTRO!$E$43=\"Non-endemic\", 0, IF(COUNTRY_INFO!$K60>0, IF(COUNTRY_INFO!$K60=4, 0, IF(COUNTRY_INFO!$K60=1, COUNTRY_INFO!$F60*0.33, IF(COUNTRY_INFO!$K60=2, COUNTRY_INFO!$F60*0.5, COUNTRY_INFO!$F60))), 0))","v":2013.3300000000002},{"$f":"IF(INTRO!$E$43=\"Non-endemic\", 0, IF(COUNTRY_INFO!$K60>0, IF(COUNTRY_INFO!$K60=4, 0, IF(COUNTRY_INFO!$K60=1, 0, IF(COUNTRY_INFO!$K60=2, COUNTRY_INFO!$G60*0.2, COUNTRY_INFO!$G60))), 0))","v":0},2013.3300000000002,{"$f":"IF(INTRO!$E$43=\"Non-endemic\", \"Not required\", COUNTRY_INFO!S60)","v":1},"Yes",{"$f":"IF($D60=0,0,IF(AND($G60>0,$H60<>\"Yes\"),D60,IF(AND($G60>0,$H60=\"Yes\"),COUNTRY_INFO!$F60,0)))","v":6101},null,0,6101,15252.5,0,15252.5,null,15252.5,16]
[{"$f":"IF(INTRO!$E$43=\"Non-endemic\",\" \", IF(COUNTRY_INFO!A61=0,\" \",COUNTRY_INFO!A61))","v":"Ghana"},{"$f":"IF(INTRO!$E$43=\"Non-endemic\",\" \", IF(COUNTRY_INFO!B61=0,\" \",COUNTRY_INFO!B61))","v":"Brong-Ahafo"},{"$f":"IF(INTRO!$E$43=\"Non-endemic\",\" \", IF(COUNTRY_INFO!C61=0,\" \",COUNTRY_INFO!C61))","v":"Tano North"},{"$f":"IF(INTRO!$E$43=\"Non-endemic\", 0, IF(COUNTRY_INFO!$K61>0, IF(COUNTRY_INFO!$K61=4, 0, IF(COUNTRY_INFO!$K61=1, COUNTRY_INFO!$F61*0.33, IF(COUNTRY_INFO!$K61=2, COUNTRY_INFO!$F61*0.5, COUNTRY_INFO!$F61))), 0))","v":12028.5},{"$f":"IF(INTRO!$E$43=\"Non-endemic\", 0, IF(COUNTRY_INFO!$K61>0, IF(COUNTRY_INFO!$K61=4, 0, IF(COUNTRY_INFO!$K61=1, 0, IF(COUNTRY_INFO!$K61=2, COUNTRY_INFO!$G61*0.2, COUNTRY_INFO!$G61))), 0))","v":12117},24145.5,{"$f":"IF(INTRO!$E$43=\"Non-endemic\", \"Not required\", COUNTRY_INFO!S61)","v":1},"Yes",{"$f":"IF($D61=0,0,IF(AND($G61>0,$H61<>\"Yes\"),D61,IF(AND($G61>0,$H61=\"Yes\"),COUNTRY_INFO!$F61,0)))","v":24057},null,12117,36174,60142.5,36351,60142.5,null,60142.5,61]
[{"$f":"IF(INTRO!$E$43=\"Non-endemic\",\" \", IF(COUNTRY_INFO!A62=0,\" \",COUNTRY_INFO!A62))","v":"Ghana"},{"$f":"IF(INTRO!$E$43=\"Non-endemic\",\" \", IF(COUNTRY_INFO!B62=0,\" \",COUNTRY_INFO!B62))","v":"Brong-Ahafo"},{"$f":"IF(INTRO!$E$43=\"Non-endemic\",\" \", IF(COUNTRY_INFO!C62=0,\" \",COUNTRY_INFO!C62))","v":"Tano South"},{"$f":"IF(INTRO!$E$43=\"Non-endemic\", 0, IF(COUNTRY_INFO!$K62>0, IF(COUNTRY_INFO!$K62=4, 0, IF(COUNTRY_INFO!$K62=1, COUNTRY_INFO!$F62*0.33, IF(COUNTRY_INFO!$K62=2, COUNTRY_INFO!$F62*0.5, COUNTRY_INFO!$F62))), 0))","v":11751.5},{"$f":"IF(INTRO!$E$43=\"Non-endemic\", 0, IF(COUNTRY_INFO!$K62>0, IF(COUNTRY_INFO!$K62=4, 0, IF(COUNTRY_INFO!$K62=1, 0, IF(COUNTRY_INFO!$K62=2, COUNTRY_INFO!$G62*0.2, COUNTRY_INFO!$G62))), 0))","v":11837.800000000001},23589.300000000003,{"$f":"IF(INTRO!$E$43=\"Non-endemic\", \"Not required\", COUNTRY_INFO!S62)","v":1},"Yes",{"$f":"IF($D62=0,0,IF(AND($G62>0,$H62<>\"Yes\"),D62,IF(AND($G62>0,$H62=\"Yes\"),COUNTRY_INFO!$F62,0)))","v":23503},null,11837.800000000001,35340.800000000003,58757.5,35513.4,58757.5,null,58757.5,59]
[{"$f":"IF(INTRO!$E$43=\"Non-endemic\",\" \", IF(COUNTRY_INFO!A63=0,\" \",COUNTRY_INFO!A63))","v":"Ghana"},{"$f":"IF(INTRO!$E$43=\"Non-endemic\",\" \", IF(COUNTRY_INFO!B63=0,\" \",COUNTRY_INFO!B63))","v":"Brong-Ahafo"},{"$f":"IF(INTRO!$E$43=\"Non-endemic\",\" \", IF(COUNTRY_INFO!C63=0,\" \",COUNTRY_INFO!C63))","v":"Techiman Municipal"},{"$f":"IF(INTRO!$E$43=\"Non-endemic\", 0, IF(COUNTRY_INFO!$K63>0, IF(COUNTRY_INFO!$K63=4, 0, IF(COUNTRY_INFO!$K63=1, COUNTRY_INFO!$F63*0.33, IF(COUNTRY_INFO!$K63=2, COUNTRY_INFO!$F63*0.5, COUNTRY_INFO!$F63))), 0))","v":22228.5},{"$f":"IF(INTRO!$E$43=\"Non-endemic\", 0, IF(COUNTRY_INFO!$K63>0, IF(COUNTRY_INFO!$K63=4, 0, IF(COUNTRY_INFO!$K63=1, 0, IF(COUNTRY_INFO!$K63=2, COUNTRY_INFO!$G63*0.2, COUNTRY_INFO!$G63))), 0))","v":22392},44620.5,{"$f":"IF(INTRO!$E$43=\"Non-endemic\", \"Not required\", COUNTRY_INFO!S63)","v":1},"Yes",{"$f":"IF($D63=0,0,IF(AND($G63>0,$H63<>\"Yes\"),D63,IF(AND($G63>0,$H63=\"Yes\"),COUNTRY_INFO!$F63,0)))","v":44457},null,22392,66849,111142.5,67176,111142.5,null,111142.5,112]
[{"$f":"IF(INTRO!$E$43=\"Non-endemic\",\" \", IF(COUNTRY_INFO!A64=0,\" \",COUNTRY_INFO!A64))","v":"Ghana"},{"$f":"IF(INTRO!$E$43=\"Non-endemic\",\" \", IF(COUNTRY_INFO!B64=0,\" \",COUNTRY_INFO!B64))","v":"Brong-Ahafo"},{"$f":"IF(INTRO!$E$43=\"Non-endemic\",\" \", IF(COUNTRY_INFO!C64=0,\" \",COUNTRY_INFO!C64))","v":"Techiman North"},{"$f":"IF(INTRO!$E$43=\"Non-endemic\", 0, IF(COUNTRY_INFO!$K64>0, IF(COUNTRY_INFO!$K64=4, 0, IF(COUNTRY_INFO!$K64=1, COUNTRY_INFO!$F64*0.33, IF(COUNTRY_INFO!$K64=2, COUNTRY_INFO!$F64*0.5, COUNTRY_INFO!$F64))), 0))","v":8884.5},{"$f":"IF(INTRO!$E$43=\"Non-endemic\", 0, IF(COUNTRY_INFO!$K64>0, IF(COUNTRY_INFO!$K64=4, 0, IF(COUNTRY_INFO!$K64=1, 0, IF(COUNTRY_INFO!$K64=2, COUNTRY_INFO!$G64*0.2, COUNTRY_INFO!$G64))), 0))","v":8949.8000000000011},17834.300000000003,{"$f":"IF(INTRO!$E$43=\"Non-endemic\", \"Not required\", COUNTRY_INFO!S64)","v":1},"Yes",{"$f":"IF($D64=0,0,IF(AND($G64>0,$H64<>\"Yes\"),D64,IF(AND($G64>0,$H64=\"Yes\"),COUNTRY_INFO!$F64,0)))","v":17769},null,8949.8000000000011,26718.800000000003,44422.5,26849.4,44422.5,null,44422.5,45]
[{"$f":"IF(INTRO!$E$43=\"Non-endemic\",\" \", IF(COUNTRY_INFO!A65=0,\" \",COUNTRY_INFO!A65))","v":"Ghana"},{"$f":"IF(INTRO!$E$43=\"Non-endemic\",\" \", IF(COUNTRY_INFO!B65=0,\" \",COUNTRY_INFO!B65))","v":"Brong-Ahafo"},{"$f":"IF(INTRO!$E$43=\"Non-endemic\",\" \", IF(COUNTRY_INFO!C65=0,\" \",COUNTRY_INFO!C65))","v":"Wenchi Municipal"},{"$f":"IF(INTRO!$E$43=\"Non-endemic\", 0, IF(COUNTRY_INFO!$K65>0, IF(COUNTRY_INFO!$K65=4, 0, IF(COUNTRY_INFO!$K65=1, COUNTRY_INFO!$F65*0.33, IF(COUNTRY_INFO!$K65=2, COUNTRY_INFO!$F65*0.5, COUNTRY_INFO!$F65))), 0))","v":8908.35},{"$f":"IF(INTRO!$E$43=\"Non-endemic\", 0, IF(COUNTRY_INFO!$K65>0, IF(COUNTRY_INFO!$K65=4, 0, IF(COUNTRY_INFO!$K65=1, 0, IF(COUNTRY_INFO!$K65=2, COUNTRY_INFO!$G65*0.2, COUNTRY_INFO!$G65))), 0))","v":0},8908.35,{"$f":"IF(INTRO!$E$43=\"Non-endemic\", \"Not required\", COUNTRY_INFO!S65)","v":1},"Yes",{"$f":"IF($D65=0,0,IF(AND($G65>0,$H65<>\"Yes\"),D65,IF(AND($G65>0,$H65=\"Yes\"),COUNTRY_INFO!$F65,0)))","v":26995},null,0,26995,67487.5,0,67487.5,null,67487.5,68]
[{"$f":"IF(INTRO!$E$43=\"Non-endemic\",\" \", IF(COUNTRY_INFO!A66=0,\" \",COUNTRY_INFO!A66))","v":"Ghana"},{"$f":"IF(INTRO!$E$43=\"Non-endemic\",\" \", IF(COUNTRY_INFO!B66=0,\" \",COUNTRY_INFO!B66))","v":"Central"},{"$f":"IF(INTRO!$E$43=\"Non-endemic\",\" \", IF(COUNTRY_INFO!C66=0,\" \",COUNTRY_INFO!C66))","v":"Abura-Asebu-Kwamankese"},{"$f":"IF(INTRO!$E$43=\"Non-endemic\", 0, IF(COUNTRY_INFO!$K66>0, IF(COUNTRY_INFO!$K66=4, 0, IF(COUNTRY_INFO!$K66=1, COUNTRY_INFO!$F66*0.33, IF(COUNTRY_INFO!$K66=2, COUNTRY_INFO!$F66*0.5, COUNTRY_INFO!$F66))), 0))","v":18759},{"$f":"IF(INTRO!$E$43=\"Non-endemic\", 0, IF(COUNTRY_INFO!$K66>0, IF(COUNTRY_INFO!$K66=4, 0, IF(COUNTRY_INFO!$K66=1, 0, IF(COUNTRY_INFO!$K66=2, COUNTRY_INFO!$G66*0.2, COUNTRY_INFO!$G66))), 0))","v":18897},37656,{"$f":"IF(INTRO!$E$43=\"Non-endemic\", \"Not required\", COUNTRY_INFO!S66)","v":1},"Yes",{"$f":"IF($D66=0,0,IF(AND($G66>0,$H66<>\"Yes\"),D66,IF(AND($G66>0,$H66=\"Yes\"),COUNTRY_INFO!$F66,0)))","v":37518},null,18897,56415,93795,56691,93795,null,93795,94]
[{"$f":"IF(INTRO!$E$43=\"Non-endemic\",\" \", IF(COUNTRY_INFO!A67=0,\" \",COUNTRY_INFO!A67))","v":"Ghana"},{"$f":"IF(INTRO!$E$43=\"Non-endemic\",\" \", IF(COUNTRY_INFO!B67=0,\" \",COUNTRY_INFO!B67))","v":"Central"},{"$f":"IF(INTRO!$E$43=\"Non-endemic\",\" \", IF(COUNTRY_INFO!C67=0,\" \",COUNTRY_INFO!C67))","v":"Agona East"},{"$f":"IF(INTRO!$E$43=\"Non-endemic\", 0, IF(COUNTRY_INFO!$K67>0, IF(COUNTRY_INFO!$K67=4, 0, IF(COUNTRY_INFO!$K67=1, COUNTRY_INFO!$F67*0.33, IF(COUNTRY_INFO!$K67=2, COUNTRY_INFO!$F67*0.5, COUNTRY_INFO!$F67))), 0))","v":13754},{"$f":"IF(INTRO!$E$43=\"Non-endemic\", 0, IF(COUNTRY_INFO!$K67>0, IF(COUNTRY_INFO!$K67=4, 0, IF(COUNTRY_INFO!$K67=1, 0, IF(COUNTRY_INFO!$K67=2, COUNTRY_INFO!$G67*0.2, COUNTRY_INFO!$G67))), 0))","v":13855.2},27609.200000000001,{"$f":"IF(INTRO!$E$43=\"Non-endemic\", \"Not required\", COUNTRY_INFO!S67)","v":1},"Yes",{"$f":"IF($D67=0,0,IF(AND($G67>0,$H67<>\"Yes\"),D67,IF(AND($G67>0,$H67=\"Yes\"),COUNTRY_INFO!$F67,0)))","v":27508},null,13855.2,41363.199999999997,68770,41565.600000000006,68770,null,68770,69]
[{"$f":"IF(INTRO!$E$43=\"Non-endemic\",\" \", IF(COUNTRY_INFO!A68=0,\" \",COUNTRY_INFO!A68))","v":"Ghana"},{"$f":"IF(INTRO!$E$43=\"Non-endemic\",\" \", IF(COUNTRY_INFO!B68=0,\" \",COUNTRY_INFO!B68))","v":"Central"},{"$f":"IF(INTRO!$E$43=\"Non-endemic\",\" \", IF(COUNTRY_INFO!C68=0,\" \",COUNTRY_INFO!C68))","v":"Agona West"},{"$f":"IF(INTRO!$E$43=\"Non-endemic\", 0, IF(COUNTRY_INFO!$K68>0, IF(COUNTRY_INFO!$K68=4, 0, IF(COUNTRY_INFO!$K68=1, COUNTRY_INFO!$F68*0.33, IF(COUNTRY_INFO!$K68=2, COUNTRY_INFO!$F68*0.5, COUNTRY_INFO!$F68))), 0))","v":18466.5},{"$f":"IF(INTRO!$E$43=\"Non-endemic\", 0, IF(COUNTRY_INFO!$K68>0, IF(COUNTRY_INFO!$K68=4, 0, IF(COUNTRY_INFO!$K68=1, 0, IF(COUNTRY_INFO!$K68=2, COUNTRY_INFO!$G68*0.2, COUNTRY_INFO!$G68))), 0))","v":18602.400000000001},37068.9,{"$f":"IF(INTRO!$E$43=\"Non-endemic\", \"Not required\", COUNTRY_INFO!S68)","v":1},"Yes",{"$f":"IF($D68=0,0,IF(AND($G68>0,$H68<>\"Yes\"),D68,IF(AND($G68>0,$H68=\"Yes\"),COUNTRY_INFO!$F68,0)))","v":36933},null,18602.400000000001,55535.4,92332.5,55807.200000000004,92332.5,null,92332.5,93]
[{"$f":"IF(INTRO!$E$43=\"Non-endemic\",\" \", IF(COUNTRY_INFO!A69=0,\" \",COUNTRY_INFO!A69))","v":"Ghana"},{"$f":"IF(INTRO!$E$43=\"Non-endemic\",\" \", IF(COUNTRY_INFO!B69=0,\" \",COUNTRY_INFO!B69))","v":"Central"},{"$f":"IF(INTRO!$E$43=\"Non-endemic\",\" \", IF(COUNTRY_INFO!C69=0,\" \",COUNTRY_INFO!C69))","v":"Ajumako-Enyan-Essiam"},{"$f":"IF(INTRO!$E$43=\"Non-endemic\", 0, IF(COUNTRY_INFO!$K69>0, IF(COUNTRY_INFO!$K69=4, 0, IF(COUNTRY_INFO!$K69=1, COUNTRY_INFO!$F69*0.33, IF(COUNTRY_INFO!$K69=2, COUNTRY_INFO!$F69*0.5, COUNTRY_INFO!$F69))), 0))","v":22098.5},{"$f":"IF(INTRO!$E$43=\"Non-endemic\", 0, IF(COUNTRY_INFO!$K69>0, IF(COUNTRY_INFO!$K69=4, 0, IF(COUNTRY_INFO!$K69=1, 0, IF(COUNTRY_INFO!$K69=2, COUNTRY_INFO!$G69*0.2, COUNTRY_INFO!$G69))), 0))","v":22260.800000000003},44359.3,{"$f":"IF(INTRO!$E$43=\"Non-endemic\", \"Not required\", COUNTRY_INFO!S69)","v":1},"Yes",{"$f":"IF($D69=0,0,IF(AND($G69>0,$H69<>\"Yes\"),D69,IF(AND($G69>0,$H69=\"Yes\"),COUNTRY_INFO!$F69,0)))","v":44197},null,22260.800000000003,66457.8,110492.5,66782.400000000009,110492.5,null,110492.5,111]
[{"$f":"IF(INTRO!$E$43=\"Non-endemic\",\" \", IF(COUNTRY_INFO!A70=0,\" \",COUNTRY_INFO!A70))","v":"Ghana"},{"$f":"IF(INTRO!$E$43=\"Non-endemic\",\" \", IF(COUNTRY_INFO!B70=0,\" \",COUNTRY_INFO!B70))","v":"Central"},{"$f":"IF(INTRO!$E$43=\"Non-endemic\",\" \", IF(COUNTRY_INFO!C70=0,\" \",COUNTRY_INFO!C70))","v":"Asikuma-Odoben-Brakwa"},{"$f":"IF(INTRO!$E$43=\"Non-endemic\", 0, IF(COUNTRY_INFO!$K70>0, IF(COUNTRY_INFO!$K70=4, 0, IF(COUNTRY_INFO!$K70=1, COUNTRY_INFO!$F70*0.33, IF(COUNTRY_INFO!$K70=2, COUNTRY_INFO!$F70*0.5, COUNTRY_INFO!$F70))), 0))","v":36084},{"$f":"IF(INTRO!$E$43=\"Non-endemic\", 0, IF(COUNTRY_INFO!$K70>0, IF(COUNTRY_INFO!$K70=4, 0, IF(COUNTRY_INFO!$K70=1, 0, IF(COUNTRY_INFO!$K70=2, COUNTRY_INFO!$G70*0.2, COUNTRY_INFO!$G70))), 0))","v":90873},126957,{"$f":"IF(INTRO!$E$43=\"Non-endemic\", \"Not required\", COUNTRY_INFO!S70)","v":1},"Yes",{"$f":"IF($D70=0,0,IF(AND($G70>0,$H70<>\"Yes\"),D70,IF(AND($G70>0,$H70=\"Yes\"),COUNTRY_INFO!$F70,0)))","v":36084},null,90873,126957,90210,272619,90210,null,90210,91]
[{"$f":"IF(INTRO!$E$43=\"Non-endemic\",\" \", IF(COUNTRY_INFO!A71=0,\" \",COUNTRY_INFO!A71))","v":"Ghana"},{"$f":"IF(INTRO!$E$43=\"Non-endemic\",\" \", IF(COUNTRY_INFO!B71=0,\" \",COUNTRY_INFO!B71))","v":"Central"},{"$f":"IF(INTRO!$E$43=\"Non-endemic\",\" \", IF(COUNTRY_INFO!C71=0,\" \",COUNTRY_INFO!C71))","v":"Assin North"},{"$f":"IF(INTRO!$E$43=\"Non-endemic\", 0, IF(COUNTRY_INFO!$K71>0, IF(COUNTRY_INFO!$K71=4, 0, IF(COUNTRY_INFO!$K71=1, COUNTRY_INFO!$F71*0.33, IF(COUNTRY_INFO!$K71=2, COUNTRY_INFO!$F71*0.5, COUNTRY_INFO!$F71))), 0))","v":51655},{"$f":"IF(INTRO!$E$43=\"Non-endemic\", 0, IF(COUNTRY_INFO!$K71>0, IF(COUNTRY_INFO!$K71=4, 0, IF(COUNTRY_INFO!$K71=1, 0, IF(COUNTRY_INFO!$K71=2, COUNTRY_INFO!$G71*0.2, COUNTRY_INFO!$G71))), 0))","v":130087},181742,{"$f":"IF(INTRO!$E$43=\"Non-endemic\", \"Not required\", COUNTRY_INFO!S71)","v":1},"Yes",{"$f":"IF($D71=0,0,IF(AND($G71>0,$H71<>\"Yes\"),D71,IF(AND($G71>0,$H71=\"Yes\"),COUNTRY_INFO!$F71,0)))","v":51655},null,130087,181742,129137.5,390261,129137.5,null,129137.5,130]
[{"$f":"IF(INTRO!$E$43=\"Non-endemic\",\" \", IF(COUNTRY_INFO!A72=0,\" \",COUNTRY_INFO!A72))","v":"Ghana"},{"$f":"IF(INTRO!$E$43=\"Non-endemic\",\" \", IF(COUNTRY_INFO!B72=0,\" \",COUNTRY_INFO!B72))","v":"Central"},{"$f":"IF(INTRO!$E$43=\"Non-endemic\",\" \", IF(COUNTRY_INFO!C72=0,\" \",COUNTRY_INFO!C72))","v":"Assin South"},{"$f":"IF(INTRO!$E$43=\"Non-endemic\", 0, IF(COUNTRY_INFO!$K72>0, IF(COUNTRY_INFO!$K72=4, 0, IF(COUNTRY_INFO!$K72=1, COUNTRY_INFO!$F72*0.33, IF(COUNTRY_INFO!$K72=2, COUNTRY_INFO!$F72*0.5, COUNTRY_INFO!$F72))), 0))","v":16687.5},{"$f":"IF(INTRO!$E$43=\"Non-endemic\", 0, IF(COUNTRY_INFO!$K72>0, IF(COUNTRY_INFO!$K72=4, 0, IF(COUNTRY_INFO!$K72=1, 0, IF(COUNTRY_INFO!$K72=2, COUNTRY_INFO!$G72*0.2, COUNTRY_INFO!$G72))), 0))","v":16810.2},33497.699999999997,{"$f":"IF(INTRO!$E$43=\"Non-endemic\", \"Not required\", COUNTRY_INFO!S72)","v":1},"Yes",{"$f":"IF($D72=0,0,IF(AND($G72>0,$H72<>\"Yes\"),D72,IF(AND($G72>0,$H72=\"Yes\"),COUNTRY_INFO!$F72,0)))","v":33375},null,16810.2,50185.2,83437.5,50430.600000000006,83437.5,null,83437.5,84]
[{"$f":"IF(INTRO!$E$43=\"Non-endemic\",\" \", IF(COUNTRY_INFO!A73=0,\" \",COUNTRY_INFO!A73))","v":"Ghana"},{"$f":"IF(INTRO!$E$43=\"Non-endemic\",\" \", IF(COUNTRY_INFO!B73=0,\" \",COUNTRY_INFO!B73))","v":"Central"},{"$f":"IF(INTRO!$E$43=\"Non-endemic\",\" \", IF(COUNTRY_INFO!C73=0,\" \",COUNTRY_INFO!C73))","v":"Awutu-Senya West"},{"$f":"IF(INTRO!$E$43=\"Non-endemic\", 0, IF(COUNTRY_INFO!$K73>0, IF(COUNTRY_INFO!$K73=4, 0, IF(COUNTRY_INFO!$K73=1, COUNTRY_INFO!$F73*0.33, IF(COUNTRY_INFO!$K73=2, COUNTRY_INFO!$F73*0.5, COUNTRY_INFO!$F73))), 0))","v":14045},{"$f":"IF(INTRO!$E$43=\"Non-endemic\", 0, IF(COUNTRY_INFO!$K73>0, IF(COUNTRY_INFO!$K73=4, 0, IF(COUNTRY_INFO!$K73=1, 0, IF(COUNTRY_INFO!$K73=2, COUNTRY_INFO!$G73*0.2, COUNTRY_INFO!$G73))), 0))","v":14148},{"$f":"SUM(D73:E73)","v":28193},{"$f":"IF(INTRO!$E$43=\"Non-endemic\", \"Not required\", COUNTRY_INFO!S73)","v":1},"Yes",{"$f":"IF($D73=0,0,IF(AND($G73>0,$H73<>\"Yes\"),D73,IF(AND($G73>0,$H73=\"Yes\"),COUNTRY_INFO!$F73,0)))","v":28090},null,{"$f":"IF($G73>0,E73, 0)","v":14148},{"$f":"IF($J73=0,SUM(I73,K73),SUM(J73,K73))","v":42238},{"$f":"IF($J73=0,$I73*2.5,$J73*2.5)","v":70225},{"$f":"$K73*3","v":42444},{"$f":"M73","v":70225},null,{"$f":"IF($O73>$P73,O73-P73,0)","v":70225},{"$f":"ROUNDUP($O73/1000,0)","v":71}]
[{"$f":"IF(INTRO!$E$43=\"Non-endemic\",\" \", IF(COUNTRY_INFO!A74=0,\" \",COUNTRY_INFO!A74))","v":"Ghana"},{"$f":"IF(INTRO!$E$43=\"Non-endemic\",\" \", IF(COUNTRY_INFO!B74=0,\" \",COUNTRY_INFO!B74))","v":"Central"},{"$f":"IF(INTRO!$E$43=\"Non-endemic\",\" \", IF(COUNTRY_INFO!C74=0,\" \",COUNTRY_INFO!C74))","v":"Awutu-Senya East"},{"$f":"IF(INTRO!$E$43=\"Non-endemic\", 0, IF(COUNTRY_INFO!$K74>0, IF(COUNTRY_INFO!$K74=4, 0, IF(COUNTRY_INFO!$K74=1, COUNTRY_INFO!$F74*0.33, IF(COUNTRY_INFO!$K74=2, COUNTRY_INFO!$F74*0.5, COUNTRY_INFO!$F74))), 0))","v":17220},{"$f":"IF(INTRO!$E$43=\"Non-endemic\", 0, IF(COUNTRY_INFO!$K74>0, IF(COUNTRY_INFO!$K74=4, 0, IF(COUNTRY_INFO!$K74=1, 0, IF(COUNTRY_INFO!$K74=2, COUNTRY_INFO!$G74*0.2, COUNTRY_INFO!$G74))), 0))","v":17346.400000000001},34566.400000000001,{"$f":"IF(INTRO!$E$43=\"Non-endemic\", \"Not required\", COUNTRY_INFO!S74)","v":1},"Yes",{"$f":"IF($D74=0,0,IF(AND($G74>0,$H74<>\"Yes\"),D74,IF(AND($G74>0,$H74=\"Yes\"),COUNTRY_INFO!$F74,0)))","v":34440},null,17346.400000000001,51786.400000000001,86100,52039.200000000004,86100,null,86100,87]
[{"$f":"IF(INTRO!$E$43=\"Non-endemic\",\" \", IF(COUNTRY_INFO!A75=0,\" \",COUNTRY_INFO!A75))","v":"Ghana"},{"$f":"IF(INTRO!$E$43=\"Non-endemic\",\" \", IF(COUNTRY_INFO!B75=0,\" \",COUNTRY_INFO!B75))","v":"Central"},{"$f":"IF(INTRO!$E$43=\"Non-endemic\",\" \", IF(COUNTRY_INFO!C75=0,\" \",COUNTRY_INFO!C75))","v":"Cape Coast"},{"$f":"IF(INTRO!$E$43=\"Non-endemic\", 0, IF(COUNTRY_INFO!$K75>0, IF(COUNTRY_INFO!$K75=4, 0, IF(COUNTRY_INFO!$K75=1, COUNTRY_INFO!$F75*0.33, IF(COUNTRY_INFO!$K75=2, COUNTRY_INFO!$F75*0.5, COUNTRY_INFO!$F75))), 0))","v":27197},{"$f":"IF(INTRO!$E$43=\"Non-endemic\", 0, IF(COUNTRY_INFO!$K75>0, IF(COUNTRY_INFO!$K75=4, 0, IF(COUNTRY_INFO!$K75=1, 0, IF(COUNTRY_INFO!$K75=2, COUNTRY_INFO!$G75*0.2, COUNTRY_INFO!$G75))), 0))","v":27396.600000000002},54593.600000000006,{"$f":"IF(INTRO!$E$43=\"Non-endemic\", \"Not required\", COUNTRY_INFO!S75)","v":1},"Yes",{"$f":"IF($D75=0,0,IF(AND($G75>0,$H75<>\"Yes\"),D75,IF(AND($G75>0,$H75=\"Yes\"),COUNTRY_INFO!$F75,0)))","v":54394},null,27396.600000000002,81790.600000000006,135985,82189.8,135985,null,135985,136]
[{"$f":"IF(INTRO!$E$43=\"Non-endemic\",\" \", IF(COUNTRY_INFO!A76=0,\" \",COUNTRY_INFO!A76))","v":"Ghana"},{"$f":"IF(INTRO!$E$43=\"Non-endemic\",\" \", IF(COUNTRY_INFO!B76=0,\" \",COUNTRY_INFO!B76))","v":"Central"},{"$f":"IF(INTRO!$E$43=\"Non-endemic\",\" \", IF(COUNTRY_INFO!C76=0,\" \",COUNTRY_INFO!C76))","v":"Efutu"},{"$f":"IF(INTRO!$E$43=\"Non-endemic\", 0, IF(COUNTRY_INFO!$K76>0, IF(COUNTRY_INFO!$K76=4, 0, IF(COUNTRY_INFO!$K76=1, COUNTRY_INFO!$F76*0.33, IF(COUNTRY_INFO!$K76=2, COUNTRY_INFO!$F76*0.5, COUNTRY_INFO!$F76))), 0))","v":10981},{"$f":"IF(INTRO!$E$43=\"Non-endemic\", 0, IF(COUNTRY_INFO!$K76>0, IF(COUNTRY_INFO!$K76=4, 0, IF(COUNTRY_INFO!$K76=1, 0, IF(COUNTRY_INFO!$K76=2, COUNTRY_INFO!$G76*0.2, COUNTRY_INFO!$G76))), 0))","v":11061.800000000001},22042.800000000003,{"$f":"IF(INTRO!$E$43=\"Non-endemic\", \"Not required\", COUNTRY_INFO!S76)","v":1},"Yes",{"$f":"IF($D76=0,0,IF(AND($G76>0,$H76<>\"Yes\"),D76,IF(AND($G76>0,$H76=\"Yes\"),COUNTRY_INFO!$F76,0)))","v":21962},null,11061.800000000001,33023.800000000003,54905,33185.4,54905,null,54905,55]
[{"$f":"IF(INTRO!$E$43=\"Non-endemic\",\" \", IF(COUNTRY_INFO!A77=0,\" \",COUNTRY_INFO!A77))","v":"Ghana"},{"$f":"IF(INTRO!$E$43=\"Non-endemic\",\" \", IF(COUNTRY_INFO!B77=0,\" \",COUNTRY_INFO!B77))","v":"Central"},{"$f":"IF(INTRO!$E$43=\"Non-endemic\",\" \", IF(COUNTRY_INFO!C77=0,\" \",COUNTRY_INFO!C77))","v":"Gomoa East"},{"$f":"IF(INTRO!$E$43=\"Non-endemic\", 0, IF(COUNTRY_INFO!$K77>0, IF(COUNTRY_INFO!$K77=4, 0, IF(COUNTRY_INFO!$K77=1, COUNTRY_INFO!$F77*0.33, IF(COUNTRY_INFO!$K77=2, COUNTRY_INFO!$F77*0.5, COUNTRY_INFO!$F77))), 0))","v":33148.5},{"$f":"IF(INTRO!$E$43=\"Non-endemic\", 0, IF(COUNTRY_INFO!$K77>0, IF(COUNTRY_INFO!$K77=4, 0, IF(COUNTRY_INFO!$K77=1, 0, IF(COUNTRY_INFO!$K77=2, COUNTRY_INFO!$G77*0.2, COUNTRY_INFO!$G77))), 0))","v":33391.800000000003},66540.3,{"$f":"IF(INTRO!$E$43=\"Non-endemic\", \"Not required\", COUNTRY_INFO!S77)","v":1},"Yes",{"$f":"IF($D77=0,0,IF(AND($G77>0,$H77<>\"Yes\"),D77,IF(AND($G77>0,$H77=\"Yes\"),COUNTRY_INFO!$F77,0)))","v":66297},null,33391.800000000003,99688.8,165742.5,100175.40000000001,165742.5,null,165742.5,166]
[{"$f":"IF(INTRO!$E$43=\"Non-endemic\",\" \", IF(COUNTRY_INFO!A78=0,\" \",COUNTRY_INFO!A78))","v":"Ghana"},{"$f":"IF(INTRO!$E$43=\"Non-endemic\",\" \", IF(COUNTRY_INFO!B78=0,\" \",COUNTRY_INFO!B78))","v":"Central"},{"$f":"IF(INTRO!$E$43=\"Non-endemic\",\" \", IF(COUNTRY_INFO!C78=0,\" \",COUNTRY_INFO!C78))","v":"Gomoa West"},{"$f":"IF(INTRO!$E$43=\"Non-endemic\", 0, IF(COUNTRY_INFO!$K78>0, IF(COUNTRY_INFO!$K78=4, 0, IF(COUNTRY_INFO!$K78=1, COUNTRY_INFO!$F78*0.33, IF(COUNTRY_INFO!$K78=2, COUNTRY_INFO!$F78*0.5, COUNTRY_INFO!$F78))), 0))","v":21641},{"$f":"IF(INTRO!$E$43=\"Non-endemic\", 0, IF(COUNTRY_INFO!$K78>0, IF(COUNTRY_INFO!$K78=4, 0, IF(COUNTRY_INFO!$K78=1, 0, IF(COUNTRY_INFO!$K78=2, COUNTRY_INFO!$G78*0.2, COUNTRY_INFO!$G78))), 0))","v":21800.2},43441.2,{"$f":"IF(INTRO!$E$43=\"Non-endemic\", \"Not required\", COUNTRY_INFO!S78)","v":1},"Yes",{"$f":"IF($D78=0,0,IF(AND($G78>0,$H78<>\"Yes\"),D78,IF(AND($G78>0,$H78=\"Yes\"),COUNTRY_INFO!$F78,0)))","v":43282},null,21800.2,65082.2,108205,65400.600000000006,108205,null,108205,109]
[{"$f":"IF(INTRO!$E$43=\"Non-endemic\",\" \", IF(COUNTRY_INFO!A79=0,\" \",COUNTRY_INFO!A79))","v":"Ghana"},{"$f":"IF(INTRO!$E$43=\"Non-endemic\",\" \", IF(COUNTRY_INFO!B79=0,\" \",COUNTRY_INFO!B79))","v":"Central"},{"$f":"IF(INTRO!$E$43=\"Non-endemic\",\" \", IF(COUNTRY_INFO!C79=0,\" \",COUNTRY_INFO!C79))","v":"Komenda-Edina-Eguafo-Abirem"},{"$f":"IF(INTRO!$E$43=\"Non-endemic\", 0, IF(COUNTRY_INFO!$K79>0, IF(COUNTRY_INFO!$K79=4, 0, IF(COUNTRY_INFO!$K79=1, COUNTRY_INFO!$F79*0.33, IF(COUNTRY_INFO!$K79=2, COUNTRY_INFO!$F79*0.5, COUNTRY_INFO!$F79))), 0))","v":23164.5},{"$f":"IF(INTRO!$E$43=\"Non-endemic\", 0, IF(COUNTRY_INFO!$K79>0, IF(COUNTRY_INFO!$K79=4, 0, IF(COUNTRY_INFO!$K79=1, 0, IF(COUNTRY_INFO!$K79=2, COUNTRY_INFO!$G79*0.2, COUNTRY_INFO!$G79))), 0))","v":23334.600000000002},46499.100000000006,{"$f":"IF(INTRO!$E$43=\"Non-endemic\", \"Not required\", COUNTRY_INFO!S79)","v":1},"Yes",{"$f":"IF($D79=0,0,IF(AND($G79>0,$H79<>\"Yes\"),D79,IF(AND($G79>0,$H79=\"Yes\"),COUNTRY_INFO!$F79,0)))","v":46329},null,23334.600000000002,69663.600000000006,115822.5,70003.8,115822.5,null,115822.5,116]
[{"$f":"IF(INTRO!$E$43=\"Non-endemic\",\" \", IF(COUNTRY_INFO!A80=0,\" \",COUNTRY_INFO!A80))","v":"Ghana"},{"$f":"IF(INTRO!$E$43=\"Non-endemic\",\" \", IF(COUNTRY_INFO!B80=0,\" \",COUNTRY_INFO!B80))","v":"Central"},{"$f":"IF(INTRO!$E$43=\"Non-endemic\",\" \", IF(COUNTRY_INFO!C80=0,\" \",COUNTRY_INFO!C80))","v":"Mfansteman"},{"$f":"IF(INTRO!$E$43=\"Non-endemic\", 0, IF(COUNTRY_INFO!$K80>0, IF(COUNTRY_INFO!$K80=4, 0, IF(COUNTRY_INFO!$K80=1, COUNTRY_INFO!$F80*0.33, IF(COUNTRY_INFO!$K80=2, COUNTRY_INFO!$F80*0.5, COUNTRY_INFO!$F80))), 0))","v":46210},{"$f":"IF(INTRO!$E$43=\"Non-endemic\", 0, IF(COUNTRY_INFO!$K80>0, IF(COUNTRY_INFO!$K80=4, 0, IF(COUNTRY_INFO!$K80=1, 0, IF(COUNTRY_INFO!$K80=2, COUNTRY_INFO!$G80*0.2, COUNTRY_INFO!$G80))), 0))","v":116373},162583,{"$f":"IF(INTRO!$E$43=\"Non-endemic\", \"Not required\", COUNTRY_INFO!S80)","v":1},"Yes",{"$f":"IF($D80=0,0,IF(AND($G80>0,$H80<>\"Yes\"),D80,IF(AND($G80>0,$H80=\"Yes\"),COUNTRY_INFO!$F80,0)))","v":46210},null,116373,162583,115525,349119,115525,null,115525,116]
[{"$f":"IF(INTRO!$E$43=\"Non-endemic\",\" \", IF(COUNTRY_INFO!A81=0,\" \",COUNTRY_INFO!A81))","v":"Ghana"},{"$f":"IF(INTRO!$E$43=\"Non-endemic\",\" \", IF(COUNTRY_INFO!B81=0,\" \",COUNTRY_INFO!B81))","v":"Central"},{"$f":"IF(INTRO!$E$43=\"Non-endemic\",\" \", IF(COUNTRY_INFO!C81=0,\" \",COUNTRY_INFO!C81))","v":"Ekumfi"},{"$f":"IF(INTRO!$E$43=\"Non-endemic\", 0, IF(COUNTRY_INFO!$K81>0, IF(COUNTRY_INFO!$K81=4, 0, IF(COUNTRY_INFO!$K81=1, COUNTRY_INFO!$F81*0.33, IF(COUNTRY_INFO!$K81=2, COUNTRY_INFO!$F81*0.5, COUNTRY_INFO!$F81))), 0))","v":16722},{"$f":"IF(INTRO!$E$43=\"Non-endemic\", 0, IF(COUNTRY_INFO!$K81>0, IF(COUNTRY_INFO!$K81=4, 0, IF(COUNTRY_INFO!$K81=1, 0, IF(COUNTRY_INFO!$K81=2, COUNTRY_INFO!$G81*0.2, COUNTRY_INFO!$G81))), 0))","v":42113},58835,{"$f":"IF(INTRO!$E$43=\"Non-endemic\", \"Not required\", COUNTRY_INFO!S81)","v":1},"Yes",{"$f":"IF($D81=0,0,IF(AND($G81>0,$H81<>\"Yes\"),D81,IF(AND($G81>0,$H81=\"Yes\"),COUNTRY_INFO!$F81,0)))","v":16722},null,42113,58835,41805,126339,41805,null,41805,42]
[{"$f":"IF(INTRO!$E$43=\"Non-endemic\",\" \", IF(COUNTRY_INFO!A82=0,\" \",COUNTRY_INFO!A82))","v":"Ghana"},{"$f":"IF(INTRO!$E$43=\"Non-endemic\",\" \", IF(COUNTRY_INFO!B82=0,\" \",COUNTRY_INFO!B82))","v":"Central"},{"$f":"IF(INTRO!$E$43=\"Non-endemic\",\" \", IF(COUNTRY_INFO!C82=0,\" \",COUNTRY_INFO!C82))","v":"Lower Denkyira"},{"$f":"IF(INTRO!$E$43=\"Non-endemic\", 0, IF(COUNTRY_INFO!$K82>0, IF(COUNTRY_INFO!$K82=4, 0, IF(COUNTRY_INFO!$K82=1, COUNTRY_INFO!$F82*0.33, IF(COUNTRY_INFO!$K82=2, COUNTRY_INFO!$F82*0.5, COUNTRY_INFO!$F82))), 0))","v":8825.5},{"$f":"IF(INTRO!$E$43=\"Non-endemic\", 0, IF(COUNTRY_INFO!$K82>0, IF(COUNTRY_INFO!$K82=4, 0, IF(COUNTRY_INFO!$K82=1, 0, IF(COUNTRY_INFO!$K82=2, COUNTRY_INFO!$G82*0.2, COUNTRY_INFO!$G82))), 0))","v":8890.4},17715.900000000001,{"$f":"IF(INTRO!$E$43=\"Non-endemic\", \"Not required\", COUNTRY_INFO!S82)","v":1},"Yes",{"$f":"IF($D82=0,0,IF(AND($G82>0,$H82<>\"Yes\"),D82,IF(AND($G82>0,$H82=\"Yes\"),COUNTRY_INFO!$F82,0)))","v":17651},null,8890.4,26541.4,44127.5,26671.199999999997,44127.5,null,44127.5,45]
[{"$f":"IF(INTRO!$E$43=\"Non-endemic\",\" \", IF(COUNTRY_INFO!A83=0,\" \",COUNTRY_INFO!A83))","v":"Ghana"},{"$f":"IF(INTRO!$E$43=\"Non-endemic\",\" \", IF(COUNTRY_INFO!B83=0,\" \",COUNTRY_INFO!B83))","v":"Central"},{"$f":"IF(INTRO!$E$43=\"Non-endemic\",\" \", IF(COUNTRY_INFO!C83=0,\" \",COUNTRY_INFO!C83))","v":"Twifu-Ati Mokwa"},{"$f":"IF(INTRO!$E$43=\"Non-endemic\", 0, IF(COUNTRY_INFO!$K83>0, IF(COUNTRY_INFO!$K83=4, 0, IF(COUNTRY_INFO!$K83=1, COUNTRY_INFO!$F83*0.33, IF(COUNTRY_INFO!$K83=2, COUNTRY_INFO!$F83*0.5, COUNTRY_INFO!$F83))), 0))","v":9884},{"$f":"IF(INTRO!$E$43=\"Non-endemic\", 0, IF(COUNTRY_INFO!$K83>0, IF(COUNTRY_INFO!$K83=4, 0, IF(COUNTRY_INFO!$K83=1, 0, IF(COUNTRY_INFO!$K83=2, COUNTRY_INFO!$G83*0.2, COUNTRY_INFO!$G83))), 0))","v":9956.6},19840.599999999999,{"$f":"IF(INTRO!$E$43=\"Non-endemic\", \"Not required\", COUNTRY_INFO!S83)","v":1},"Yes",{"$f":"IF($D83=0,0,IF(AND($G83>0,$H83<>\"Yes\"),D83,IF(AND($G83>0,$H83=\"Yes\"),COUNTRY_INFO!$F83,0)))","v":19768},null,9956.6,29724.6,49420,29869.800000000003,49420,null,49420,50]
[{"$f":"IF(INTRO!$E$43=\"Non-endemic\",\" \", IF(COUNTRY_INFO!A84=0,\" \",COUNTRY_INFO!A84))","v":"Ghana"},{"$f":"IF(INTRO!$E$43=\"Non-endemic\",\" \", IF(COUNTRY_INFO!B84=0,\" \",COUNTRY_INFO!B84))","v":"Central"},{"$f":"IF(INTRO!$E$43=\"Non-endemic\",\" \", IF(COUNTRY_INFO!C84=0,\" \",COUNTRY_INFO!C84))","v":"Upper Denkyira East"},{"$f":"IF(INTRO!$E$43=\"Non-endemic\", 0, IF(COUNTRY_INFO!$K84>0, IF(COUNTRY_INFO!$K84=4, 0, IF(COUNTRY_INFO!$K84=1, COUNTRY_INFO!$F84*0.33, IF(COUNTRY_INFO!$K84=2, COUNTRY_INFO!$F84*0.5, COUNTRY_INFO!$F84))), 0))","v":23311},{"$f":"IF(INTRO!$E$43=\"Non-endemic\", 0, IF(COUNTRY_INFO!$K84>0, IF(COUNTRY_INFO!$K84=4, 0, IF(COUNTRY_INFO!$K84=1, 0, IF(COUNTRY_INFO!$K84=2, COUNTRY_INFO!$G84*0.2, COUNTRY_INFO!$G84))), 0))","v":58706},82017,{"$f":"IF(INTRO!$E$43=\"Non-endemic\", \"Not required\", COUNTRY_INFO!S84)","v":1},"Yes",{"$f":"IF($D84=0,0,IF(AND($G84>0,$H84<>\"Yes\"),D84,IF(AND($G84>0,$H84=\"Yes\"),COUNTRY_INFO!$F84,0)))","v":23311},null,58706,82017,58277.5,176118,58277.5,null,58277.5,59]
[{"$f":"IF(INTRO!$E$43=\"Non-endemic\",\" \", IF(COUNTRY_INFO!A85=0,\" \",COUNTRY_INFO!A85))","v":"Ghana"},{"$f":"IF(INTRO!$E$43=\"Non-endemic\",\" \", IF(COUNTRY_INFO!B85=0,\" \",COUNTRY_INFO!B85))","v":"Central"},{"$f":"IF(INTRO!$E$43=\"Non-endemic\",\" \", IF(COUNTRY_INFO!C85=0,\" \",COUNTRY_INFO!C85))","v":"Upper Denkyira West"},{"$f":"IF(INTRO!$E$43=\"Non-endemic\", 0, IF(COUNTRY_INFO!$K85>0, IF(COUNTRY_INFO!$K85=4, 0, IF(COUNTRY_INFO!$K85=1, COUNTRY_INFO!$F85*0.33, IF(COUNTRY_INFO!$K85=2, COUNTRY_INFO!$F85*0.5, COUNTRY_INFO!$F85))), 0))","v":9613.5},{"$f":"IF(INTRO!$E$43=\"Non-endemic\", 0, IF(COUNTRY_INFO!$K85>0, IF(COUNTRY_INFO!$K85=4, 0, IF(COUNTRY_INFO!$K85=1, 0, IF(COUNTRY_INFO!$K85=2, COUNTRY_INFO!$G85*0.2, COUNTRY_INFO!$G85))), 0))","v":9684},19297.5,{"$f":"IF(INTRO!$E$43=\"Non-endemic\", \"Not required\", COUNTRY_INFO!S85)","v":1},"Yes",{"$f":"IF($D85=0,0,IF(AND($G85>0,$H85<>\"Yes\"),D85,IF(AND($G85>0,$H85=\"Yes\"),COUNTRY_INFO!$F85,0)))","v":19227},null,9684,28911,48067.5,29052,48067.5,null,48067.5,49]
[{"$f":"IF(INTRO!$E$43=\"Non-endemic\",\" \", IF(COUNTRY_INFO!A86=0,\" \",COUNTRY_INFO!A86))","v":"Ghana"},{"$f":"IF(INTRO!$E$43=\"Non-endemic\",\" \", IF(COUNTRY_INFO!B86=0,\" \",COUNTRY_INFO!B86))","v":"Eastern"},{"$f":"IF(INTRO!$E$43=\"Non-endemic\",\" \", IF(COUNTRY_INFO!C86=0,\" \",COUNTRY_INFO!C86))","v":"Akwapim North"},{"$f":"IF(INTRO!$E$43=\"Non-endemic\", 0, IF(COUNTRY_INFO!$K86>0, IF(COUNTRY_INFO!$K86=4, 0, IF(COUNTRY_INFO!$K86=1, COUNTRY_INFO!$F86*0.33, IF(COUNTRY_INFO!$K86=2, COUNTRY_INFO!$F86*0.5, COUNTRY_INFO!$F86))), 0))","v":20209.5},{"$f":"IF(INTRO!$E$43=\"Non-endemic\", 0, IF(COUNTRY_INFO!$K86>0, IF(COUNTRY_INFO!$K86=4, 0, IF(COUNTRY_INFO!$K86=1, 0, IF(COUNTRY_INFO!$K86=2, COUNTRY_INFO!$G86*0.2, COUNTRY_INFO!$G86))), 0))","v":20358},40567.5,{"$f":"IF(INTRO!$E$43=\"Non-endemic\", \"Not required\", COUNTRY_INFO!S86)","v":1},"Yes",{"$f":"IF($D86=0,0,IF(AND($G86>0,$H86<>\"Yes\"),D86,IF(AND($G86>0,$H86=\"Yes\"),COUNTRY_INFO!$F86,0)))","v":40419},null,20358,60777,101047.5,61074,101047.5,null,101047.5,102]
[{"$f":"IF(INTRO!$E$43=\"Non-endemic\",\" \", IF(COUNTRY_INFO!A87=0,\" \",COUNTRY_INFO!A87))","v":"Ghana"},{"$f":"IF(INTRO!$E$43=\"Non-endemic\",\" \", IF(COUNTRY_INFO!B87=0,\" \",COUNTRY_INFO!B87))","v":"Eastern"},{"$f":"IF(INTRO!$E$43=\"Non-endemic\",\" \", IF(COUNTRY_INFO!C87=0,\" \",COUNTRY_INFO!C87))","v":"Akwapim South"},{"$f":"IF(INTRO!$E$43=\"Non-endemic\", 0, IF(COUNTRY_INFO!$K87>0, IF(COUNTRY_INFO!$K87=4, 0, IF(COUNTRY_INFO!$K87=1, COUNTRY_INFO!$F87*0.33, IF(COUNTRY_INFO!$K87=2, COUNTRY_INFO!$F87*0.5, COUNTRY_INFO!$F87))), 0))","v":5553},{"$f":"IF(INTRO!$E$43=\"Non-endemic\", 0, IF(COUNTRY_INFO!$K87>0, IF(COUNTRY_INFO!$K87=4, 0, IF(COUNTRY_INFO!$K87=1, 0, IF(COUNTRY_INFO!$K87=2, COUNTRY_INFO!$G87*0.2, COUNTRY_INFO!$G87))), 0))","v":5593.8},11146.8,{"$f":"IF(INTRO!$E$43=\"Non-endemic\", \"Not required\", COUNTRY_INFO!S87)","v":1},"Yes",{"$f":"IF($D87=0,0,IF(AND($G87>0,$H87<>\"Yes\"),D87,IF(AND($G87>0,$H87=\"Yes\"),COUNTRY_INFO!$F87,0)))","v":11106},null,5593.8,16699.8,27765,16781.400000000001,27765,null,27765,28]
[{"$f":"IF(INTRO!$E$43=\"Non-endemic\",\" \", IF(COUNTRY_INFO!A88=0,\" \",COUNTRY_INFO!A88))","v":"Ghana"},{"$f":"IF(INTRO!$E$43=\"Non-endemic\",\" \", IF(COUNTRY_INFO!B88=0,\" \",COUNTRY_INFO!B88))","v":"Eastern"},{"$f":"IF(INTRO!$E$43=\"Non-endemic\",\" \", IF(COUNTRY_INFO!C88=0,\" \",COUNTRY_INFO!C88))","v":"Nsawam Adoagyiri Municipal"},{"$f":"IF(INTRO!$E$43=\"Non-endemic\", 0, IF(COUNTRY_INFO!$K88>0, IF(COUNTRY_INFO!$K88=4, 0, IF(COUNTRY_INFO!$K88=1, COUNTRY_INFO!$F88*0.33, IF(COUNTRY_INFO!$K88=2, COUNTRY_INFO!$F88*0.5, COUNTRY_INFO!$F88))), 0))","v":12734.5},{"$f":"IF(INTRO!$E$43=\"Non-endemic\", 0, IF(COUNTRY_INFO!$K88>0, IF(COUNTRY_INFO!$K88=4, 0, IF(COUNTRY_INFO!$K88=1, 0, IF(COUNTRY_INFO!$K88=2, COUNTRY_INFO!$G88*0.2, COUNTRY_INFO!$G88))), 0))","v":12828},25562.5,{"$f":"IF(INTRO!$E$43=\"Non-endemic\", \"Not required\", COUNTRY_INFO!S88)","v":1},"Yes",{"$f":"IF($D88=0,0,IF(AND($G88>0,$H88<>\"Yes\"),D88,IF(AND($G88>0,$H88=\"Yes\"),COUNTRY_INFO!$F88,0)))","v":25469},null,12828,38297,63672.5,38484,63672.5,null,63672.5,64]
[{"$f":"IF(INTRO!$E$43=\"Non-endemic\",\" \", IF(COUNTRY_INFO!A89=0,\" \",COUNTRY_INFO!A89))","v":"Ghana"},{"$f":"IF(INTRO!$E$43=\"Non-endemic\",\" \", IF(COUNTRY_INFO!B89=0,\" \",COUNTRY_INFO!B89))","v":"Eastern"},{"$f":"IF(INTRO!$E$43=\"Non-endemic\",\" \", IF(COUNTRY_INFO!C89=0,\" \",COUNTRY_INFO!C89))","v":"Akyemansa"},{"$f":"IF(INTRO!$E$43=\"Non-endemic\", 0, IF(COUNTRY_INFO!$K89>0, IF(COUNTRY_INFO!$K89=4, 0, IF(COUNTRY_INFO!$K89=1, COUNTRY_INFO!$F89*0.33, IF(COUNTRY_INFO!$K89=2, COUNTRY_INFO!$F89*0.5, COUNTRY_INFO!$F89))), 0))","v":14418.5},{"$f":"IF(INTRO!$E$43=\"Non-endemic\", 0, IF(COUNTRY_INFO!$K89>0, IF(COUNTRY_INFO!$K89=4, 0, IF(COUNTRY_INFO!$K89=1, 0, IF(COUNTRY_INFO!$K89=2, COUNTRY_INFO!$G89*0.2, COUNTRY_INFO!$G89))), 0))","v":14524.400000000001},28942.9,{"$f":"IF(INTRO!$E$43=\"Non-endemic\", \"Not required\", COUNTRY_INFO!S89)","v":1},"Yes",{"$f":"IF($D89=0,0,IF(AND($G89>0,$H89<>\"Yes\"),D89,IF(AND($G89>0,$H89=\"Yes\"),COUNTRY_INFO!$F89,0)))","v":28837},null,14524.400000000001,43361.4,72092.5,43573.200000000004,72092.5,null,72092.5,73]
[{"$f":"IF(INTRO!$E$43=\"Non-endemic\",\" \", IF(COUNTRY_INFO!A90=0,\" \",COUNTRY_INFO!A90))","v":"Ghana"},{"$f":"IF(INTRO!$E$43=\"Non-endemic\",\" \", IF(COUNTRY_INFO!B90=0,\" \",COUNTRY_INFO!B90))","v":"Eastern"},{"$f":"IF(INTRO!$E$43=\"Non-endemic\",\" \", IF(COUNTRY_INFO!C90=0,\" \",COUNTRY_INFO!C90))","v":"Asuogyaman"},{"$f":"IF(INTRO!$E$43=\"Non-endemic\", 0, IF(COUNTRY_INFO!$K90>0, IF(COUNTRY_INFO!$K90=4, 0, IF(COUNTRY_INFO!$K90=1, COUNTRY_INFO!$F90*0.33, IF(COUNTRY_INFO!$K90=2, COUNTRY_INFO!$F90*0.5, COUNTRY_INFO!$F90))), 0))","v":14518},{"$f":"IF(INTRO!$E$43=\"Non-endemic\", 0, IF(COUNTRY_INFO!$K90>0, IF(COUNTRY_INFO!$K90=4, 0, IF(COUNTRY_INFO!$K90=1, 0, IF(COUNTRY_INFO!$K90=2, COUNTRY_INFO!$G90*0.2, COUNTRY_INFO!$G90))), 0))","v":14624.6},29142.6,{"$f":"IF(INTRO!$E$43=\"Non-endemic\", \"Not required\", COUNTRY_INFO!S90)","v":1},"Yes",{"$f":"IF($D90=0,0,IF(AND($G90>0,$H90<>\"Yes\"),D90,IF(AND($G90>0,$H90=\"Yes\"),COUNTRY_INFO!$F90,0)))","v":29036},null,14624.6,43660.6,72590,43873.8,72590,null,72590,73]
[{"$f":"IF(INTRO!$E$43=\"Non-endemic\",\" \", IF(COUNTRY_INFO!A91=0,\" \",COUNTRY_INFO!A91))","v":"Ghana"},{"$f":"IF(INTRO!$E$43=\"Non-endemic\",\" \", IF(COUNTRY_INFO!B91=0,\" \",COUNTRY_INFO!B91))","v":"Eastern"},{"$f":"IF(INTRO!$E$43=\"Non-endemic\",\" \", IF(COUNTRY_INFO!C91=0,\" \",COUNTRY_INFO!C91))","v":"Atiwa"},{"$f":"IF(INTRO!$E$43=\"Non-endemic\", 0, IF(COUNTRY_INFO!$K91>0, IF(COUNTRY_INFO!$K91=4, 0, IF(COUNTRY_INFO!$K91=1, COUNTRY_INFO!$F91*0.33, IF(COUNTRY_INFO!$K91=2, COUNTRY_INFO!$F91*0.5, COUNTRY_INFO!$F91))), 0))","v":32760},{"$f":"IF(INTRO!$E$43=\"Non-endemic\", 0, IF(COUNTRY_INFO!$K91>0, IF(COUNTRY_INFO!$K91=4, 0, IF(COUNTRY_INFO!$K91=1, 0, IF(COUNTRY_INFO!$K91=2, COUNTRY_INFO!$G91*0.2, COUNTRY_INFO!$G91))), 0))","v":82502},115262,{"$f":"IF(INTRO!$E$43=\"Non-endemic\", \"Not required\", COUNTRY_INFO!S91)","v":1},"Yes",{"$f":"IF($D91=0,0,IF(AND($G91>0,$H91<>\"Yes\"),D91,IF(AND($G91>0,$H91=\"Yes\"),COUNTRY_INFO!$F91,0)))","v":32760},null,82502,115262,81900,247506,81900,null,81900,82]
[{"$f":"IF(INTRO!$E$43=\"Non-endemic\",\" \", IF(COUNTRY_INFO!A92=0,\" \",COUNTRY_INFO!A92))","v":"Ghana"},{"$f":"IF(INTRO!$E$43=\"Non-endemic\",\" \", IF(COUNTRY_INFO!B92=0,\" \",COUNTRY_INFO!B92))","v":"Eastern"},{"$f":"IF(INTRO!$E$43=\"Non-endemic\",\" \", IF(COUNTRY_INFO!C92=0,\" \",COUNTRY_INFO!C92))","v":"Birim Central"},{"$f":"IF(INTRO!$E$43=\"Non-endemic\", 0, IF(COUNTRY_INFO!$K92>0, IF(COUNTRY_INFO!$K92=4, 0, IF(COUNTRY_INFO!$K92=1, COUNTRY_INFO!$F92*0.33, IF(COUNTRY_INFO!$K92=2, COUNTRY_INFO!$F92*0.5, COUNTRY_INFO!$F92))), 0))","v":21451},{"$f":"IF(INTRO!$E$43=\"Non-endemic\", 0, IF(COUNTRY_INFO!$K92>0, IF(COUNTRY_INFO!$K92=4, 0, IF(COUNTRY_INFO!$K92=1, 0, IF(COUNTRY_INFO!$K92=2, COUNTRY_INFO!$G92*0.2, COUNTRY_INFO!$G92))), 0))","v":21608.800000000003},43059.8,{"$f":"IF(INTRO!$E$43=\"Non-endemic\", \"Not required\", COUNTRY_INFO!S92)","v":1},"Yes",{"$f":"IF($D92=0,0,IF(AND($G92>0,$H92<>\"Yes\"),D92,IF(AND($G92>0,$H92=\"Yes\"),COUNTRY_INFO!$F92,0)))","v":42902},null,21608.800000000003,64510.8,107255,64826.400000000009,107255,null,107255,108]
[{"$f":"IF(INTRO!$E$43=\"Non-endemic\",\" \", IF(COUNTRY_INFO!A93=0,\" \",COUNTRY_INFO!A93))","v":"Ghana"},{"$f":"IF(INTRO!$E$43=\"Non-endemic\",\" \", IF(COUNTRY_INFO!B93=0,\" \",COUNTRY_INFO!B93))","v":"Eastern"},{"$f":"IF(INTRO!$E$43=\"Non-endemic\",\" \", IF(COUNTRY_INFO!C93=0,\" \",COUNTRY_INFO!C93))","v":"Birim North"},{"$f":"IF(INTRO!$E$43=\"Non-endemic\", 0, IF(COUNTRY_INFO!$K93>0, IF(COUNTRY_INFO!$K93=4, 0, IF(COUNTRY_INFO!$K93=1, COUNTRY_INFO!$F93*0.33, IF(COUNTRY_INFO!$K93=2, COUNTRY_INFO!$F93*0.5, COUNTRY_INFO!$F93))), 0))","v":11684},{"$f":"IF(INTRO!$E$43=\"Non-endemic\", 0, IF(COUNTRY_INFO!$K93>0, IF(COUNTRY_INFO!$K93=4, 0, IF(COUNTRY_INFO!$K93=1, 0, IF(COUNTRY_INFO!$K93=2, COUNTRY_INFO!$G93*0.2, COUNTRY_INFO!$G93))), 0))","v":11769.800000000001},23453.800000000003,{"$f":"IF(INTRO!$E$43=\"Non-endemic\", \"Not required\", COUNTRY_INFO!S93)","v":1},"Yes",{"$f":"IF($D93=0,0,IF(AND($G93>0,$H93<>\"Yes\"),D93,IF(AND($G93>0,$H93=\"Yes\"),COUNTRY_INFO!$F93,0)))","v":23368},null,11769.800000000001,35137.800000000003,58420,35309.4,58420,null,58420,59]
[{"$f":"IF(INTRO!$E$43=\"Non-endemic\",\" \", IF(COUNTRY_INFO!A94=0,\" \",COUNTRY_INFO!A94))","v":"Ghana"},{"$f":"IF(INTRO!$E$43=\"Non-endemic\",\" \", IF(COUNTRY_INFO!B94=0,\" \",COUNTRY_INFO!B94))","v":"Eastern"},{"$f":"IF(INTRO!$E$43=\"Non-endemic\",\" \", IF(COUNTRY_INFO!C94=0,\" \",COUNTRY_INFO!C94))","v":"Birim South"},{"$f":"IF(INTRO!$E$43=\"Non-endemic\", 0, IF(COUNTRY_INFO!$K94>0, IF(COUNTRY_INFO!$K94=4, 0, IF(COUNTRY_INFO!$K94=1, COUNTRY_INFO!$F94*0.33, IF(COUNTRY_INFO!$K94=2, COUNTRY_INFO!$F94*0.5, COUNTRY_INFO!$F94))), 0))","v":35469},{"$f":"IF(INTRO!$E$43=\"Non-endemic\", 0, IF(COUNTRY_INFO!$K94>0, IF(COUNTRY_INFO!$K94=4, 0, IF(COUNTRY_INFO!$K94=1, 0, IF(COUNTRY_INFO!$K94=2, COUNTRY_INFO!$G94*0.2, COUNTRY_INFO!$G94))), 0))","v":89323},124792,{"$f":"IF(INTRO!$E$43=\"Non-endemic\", \"Not required\", COUNTRY_INFO!S94)","v":1},"Yes",{"$f":"IF($D94=0,0,IF(AND($G94>0,$H94<>\"Yes\"),D94,IF(AND($G94>0,$H94=\"Yes\"),COUNTRY_INFO!$F94,0)))","v":35469},null,89323,124792,88672.5,267969,88672.5,null,88672.5,89]
[{"$f":"IF(INTRO!$E$43=\"Non-endemic\",\" \", IF(COUNTRY_INFO!A95=0,\" \",COUNTRY_INFO!A95))","v":"Ghana"},{"$f":"IF(INTRO!$E$43=\"Non-endemic\",\" \", IF(COUNTRY_INFO!B95=0,\" \",COUNTRY_INFO!B95))","v":"Eastern"},{"$f":"IF(INTRO!$E$43=\"Non-endemic\",\" \", IF(COUNTRY_INFO!C95=0,\" \",COUNTRY_INFO!C95))","v":"East Akim Municipal"},{"$f":"IF(INTRO!$E$43=\"Non-endemic\", 0, IF(COUNTRY_INFO!$K95>0, IF(COUNTRY_INFO!$K95=4, 0, IF(COUNTRY_INFO!$K95=1, COUNTRY_INFO!$F95*0.33, IF(COUNTRY_INFO!$K95=2, COUNTRY_INFO!$F95*0.5, COUNTRY_INFO!$F95))), 0))","v":24861},{"$f":"IF(INTRO!$E$43=\"Non-endemic\", 0, IF(COUNTRY_INFO!$K95>0, IF(COUNTRY_INFO!$K95=4, 0, IF(COUNTRY_INFO!$K95=1, 0, IF(COUNTRY_INFO!$K95=2, COUNTRY_INFO!$G95*0.2, COUNTRY_INFO!$G95))), 0))","v":25043.600000000002},49904.600000000006,{"$f":"IF(INTRO!$E$43=\"Non-endemic\", \"Not required\", COUNTRY_INFO!S95)","v":1},"Yes",{"$f":"IF($D95=0,0,IF(AND($G95>0,$H95<>\"Yes\"),D95,IF(AND($G95>0,$H95=\"Yes\"),COUNTRY_INFO!$F95,0)))","v":49722},null,25043.600000000002,74765.600000000006,124305,75130.8,124305,null,124305,125]
[{"$f":"IF(INTRO!$E$43=\"Non-endemic\",\" \", IF(COUNTRY_INFO!A96=0,\" \",COUNTRY_INFO!A96))","v":"Ghana"},{"$f":"IF(INTRO!$E$43=\"Non-endemic\",\" \", IF(COUNTRY_INFO!B96=0,\" \",COUNTRY_INFO!B96))","v":"Eastern"},{"$f":"IF(INTRO!$E$43=\"Non-endemic\",\" \", IF(COUNTRY_INFO!C96=0,\" \",COUNTRY_INFO!C96))","v":"Fanteakwa"},{"$f":"IF(INTRO!$E$43=\"Non-endemic\", 0, IF(COUNTRY_INFO!$K96>0, IF(COUNTRY_INFO!$K96=4, 0, IF(COUNTRY_INFO!$K96=1, COUNTRY_INFO!$F96*0.33, IF(COUNTRY_INFO!$K96=2, COUNTRY_INFO!$F96*0.5, COUNTRY_INFO!$F96))), 0))","v":32166},{"$f":"IF(INTRO!$E$43=\"Non-endemic\", 0, IF(COUNTRY_INFO!$K96>0, IF(COUNTRY_INFO!$K96=4, 0, IF(COUNTRY_INFO!$K96=1, 0, IF(COUNTRY_INFO!$K96=2, COUNTRY_INFO!$G96*0.2, COUNTRY_INFO!$G96))), 0))","v":81005},113171,{"$f":"IF(INTRO!$E$43=\"Non-endemic\", \"Not required\", COUNTRY_INFO!S96)","v":1},"Yes",{"$f":"IF($D96=0,0,IF(AND($G96>0,$H96<>\"Yes\"),D96,IF(AND($G96>0,$H96=\"Yes\"),COUNTRY_INFO!$F96,0)))","v":32166},null,81005,113171,80415,243015,80415,null,80415,81]
[{"$f":"IF(INTRO!$E$43=\"Non-endemic\",\" \", IF(COUNTRY_INFO!A97=0,\" \",COUNTRY_INFO!A97))","v":"Ghana"},{"$f":"IF(INTRO!$E$43=\"Non-endemic\",\" \", IF(COUNTRY_INFO!B97=0,\" \",COUNTRY_INFO!B97))","v":"Eastern"},{"$f":"IF(INTRO!$E$43=\"Non-endemic\",\" \", IF(COUNTRY_INFO!C97=0,\" \",COUNTRY_INFO!C97))","v":"Kwaebibirem"},{"$f":"IF(INTRO!$E$43=\"Non-endemic\", 0, IF(COUNTRY_INFO!$K97>0, IF(COUNTRY_INFO!$K97=4, 0, IF(COUNTRY_INFO!$K97=1, COUNTRY_INFO!$F97*0.33, IF(COUNTRY_INFO!$K97=2, COUNTRY_INFO!$F97*0.5, COUNTRY_INFO!$F97))), 0))","v":33783},{"$f":"IF(INTRO!$E$43=\"Non-endemic\", 0, IF(COUNTRY_INFO!$K97>0, IF(COUNTRY_INFO!$K97=4, 0, IF(COUNTRY_INFO!$K97=1, 0, IF(COUNTRY_INFO!$K97=2, COUNTRY_INFO!$G97*0.2, COUNTRY_INFO!$G97))), 0))","v":85078},118861,{"$f":"IF(INTRO!$E$43=\"Non-endemic\", \"Not required\", COUNTRY_INFO!S97)","v":1},"Yes",{"$f":"IF($D97=0,0,IF(AND($G97>0,$H97<>\"Yes\"),D97,IF(AND($G97>0,$H97=\"Yes\"),COUNTRY_INFO!$F97,0)))","v":33783},null,85078,118861,84457.5,255234,84457.5,null,84457.5,85]
[{"$f":"IF(INTRO!$E$43=\"Non-endemic\",\" \", IF(COUNTRY_INFO!A98=0,\" \",COUNTRY_INFO!A98))","v":"Ghana"},{"$f":"IF(INTRO!$E$43=\"Non-endemic\",\" \", IF(COUNTRY_INFO!B98=0,\" \",COUNTRY_INFO!B98))","v":"Eastern"},{"$f":"IF(INTRO!$E$43=\"Non-endemic\",\" \", IF(COUNTRY_INFO!C98=0,\" \",COUNTRY_INFO!C98))","v":"Denkyembour"},{"$f":"IF(INTRO!$E$43=\"Non-endemic\", 0, IF(COUNTRY_INFO!$K98>0, IF(COUNTRY_INFO!$K98=4, 0, IF(COUNTRY_INFO!$K98=1, COUNTRY_INFO!$F98*0.33, IF(COUNTRY_INFO!$K98=2, COUNTRY_INFO!$F98*0.5, COUNTRY_INFO!$F98))), 0))","v":23244},{"$f":"IF(INTRO!$E$43=\"Non-endemic\", 0, IF(COUNTRY_INFO!$K98>0, IF(COUNTRY_INFO!$K98=4, 0, IF(COUNTRY_INFO!$K98=1, 0, IF(COUNTRY_INFO!$K98=2, COUNTRY_INFO!$G98*0.2, COUNTRY_INFO!$G98))), 0))","v":58537},81781,{"$f":"IF(INTRO!$E$43=\"Non-endemic\", \"Not required\", COUNTRY_INFO!S98)","v":1},"Yes",{"$f":"IF($D98=0,0,IF(AND($G98>0,$H98<>\"Yes\"),D98,IF(AND($G98>0,$H98=\"Yes\"),COUNTRY_INFO!$F98,0)))","v":23244},null,58537,81781,58110,175611,58110,null,58110,59]
[{"$f":"IF(INTRO!$E$43=\"Non-endemic\",\" \", IF(COUNTRY_INFO!A99=0,\" \",COUNTRY_INFO!A99))","v":"Ghana"},{"$f":"IF(INTRO!$E$43=\"Non-endemic\",\" \", IF(COUNTRY_INFO!B99=0,\" \",COUNTRY_INFO!B99))","v":"Eastern"},{"$f":"IF(INTRO!$E$43=\"Non-endemic\",\" \", IF(COUNTRY_INFO!C99=0,\" \",COUNTRY_INFO!C99))","v":"Kwahu East"},{"$f":"IF(INTRO!$E$43=\"Non-endemic\", 0, IF(COUNTRY_INFO!$K99>0, IF(COUNTRY_INFO!$K99=4, 0, IF(COUNTRY_INFO!$K99=1, COUNTRY_INFO!$F99*0.33, IF(COUNTRY_INFO!$K99=2, COUNTRY_INFO!$F99*0.5, COUNTRY_INFO!$F99))), 0))","v":22840},{"$f":"IF(INTRO!$E$43=\"Non-endemic\", 0, IF(COUNTRY_INFO!$K99>0, IF(COUNTRY_INFO!$K99=4, 0, IF(COUNTRY_INFO!$K99=1, 0, IF(COUNTRY_INFO!$K99=2, COUNTRY_INFO!$G99*0.2, COUNTRY_INFO!$G99))), 0))","v":57520},80360,{"$f":"IF(INTRO!$E$43=\"Non-endemic\", \"Not required\", COUNTRY_INFO!S99)","v":1},"Yes",{"$f":"IF($D99=0,0,IF(AND($G99>0,$H99<>\"Yes\"),D99,IF(AND($G99>0,$H99=\"Yes\"),COUNTRY_INFO!$F99,0)))","v":22840},null,57520,80360,57100,172560,57100,null,57100,58]
[{"$f":"IF(INTRO!$E$43=\"Non-endemic\",\" \", IF(COUNTRY_INFO!A100=0,\" \",COUNTRY_INFO!A100))","v":"Ghana"},{"$f":"IF(INTRO!$E$43=\"Non-endemic\",\" \", IF(COUNTRY_INFO!B100=0,\" \",COUNTRY_INFO!B100))","v":"Eastern"},{"$f":"IF(INTRO!$E$43=\"Non-endemic\",\" \", IF(COUNTRY_INFO!C100=0,\" \",COUNTRY_INFO!C100))","v":"Kwahu Afram Plains North"},{"$f":"IF(INTRO!$E$43=\"Non-endemic\", 0, IF(COUNTRY_INFO!$K100>0, IF(COUNTRY_INFO!$K100=4, 0, IF(COUNTRY_INFO!$K100=1, COUNTRY_INFO!$F100*0.33, IF(COUNTRY_INFO!$K100=2, COUNTRY_INFO!$F100*0.5, COUNTRY_INFO!$F100))), 0))","v":30377},{"$f":"IF(INTRO!$E$43=\"Non-endemic\", 0, IF(COUNTRY_INFO!$K100>0, IF(COUNTRY_INFO!$K100=4, 0, IF(COUNTRY_INFO!$K100=1, 0, IF(COUNTRY_INFO!$K100=2, COUNTRY_INFO!$G100*0.2, COUNTRY_INFO!$G100))), 0))","v":76500},106877,{"$f":"IF(INTRO!$E$43=\"Non-endemic\", \"Not required\", COUNTRY_INFO!S100)","v":1},"Yes",{"$f":"IF($D100=0,0,IF(AND($G100>0,$H100<>\"Yes\"),D100,IF(AND($G100>0,$H100=\"Yes\"),COUNTRY_INFO!$F100,0)))","v":30377},null,76500,106877,75942.5,229500,75942.5,null,75942.5,76]
[{"$f":"IF(INTRO!$E$43=\"Non-endemic\",\" \", IF(COUNTRY_INFO!A101=0,\" \",COUNTRY_INFO!A101))","v":"Ghana"},{"$f":"IF(INTRO!$E$43=\"Non-endemic\",\" \", IF(COUNTRY_INFO!B101=0,\" \",COUNTRY_INFO!B101))","v":"Eastern"},{"$f":"IF(INTRO!$E$43=\"Non-endemic\",\" \", IF(COUNTRY_INFO!C101=0,\" \",COUNTRY_INFO!C101))","v":"Kwahu Afram Plains South"},{"$f":"IF(INTRO!$E$43=\"Non-endemic\", 0, IF(COUNTRY_INFO!$K101>0, IF(COUNTRY_INFO!$K101=4, 0, IF(COUNTRY_INFO!$K101=1, COUNTRY_INFO!$F101*0.33, IF(COUNTRY_INFO!$K101=2, COUNTRY_INFO!$F101*0.5, COUNTRY_INFO!$F101))), 0))","v":34253},{"$f":"IF(INTRO!$E$43=\"Non-endemic\", 0, IF(COUNTRY_INFO!$K101>0, IF(COUNTRY_INFO!$K101=4, 0, IF(COUNTRY_INFO!$K101=1, 0, IF(COUNTRY_INFO!$K101=2, COUNTRY_INFO!$G101*0.2, COUNTRY_INFO!$G101))), 0))","v":86261},120514,{"$f":"IF(INTRO!$E$43=\"Non-endemic\", \"Not required\", COUNTRY_INFO!S101)","v":1},"Yes",{"$f":"IF($D101=0,0,IF(AND($G101>0,$H101<>\"Yes\"),D101,IF(AND($G101>0,$H101=\"Yes\"),COUNTRY_INFO!$F101,0)))","v":34253},null,86261,120514,85632.5,258783,85632.5,null,85632.5,86]
[{"$f":"IF(INTRO!$E$43=\"Non-endemic\",\" \", IF(COUNTRY_INFO!A102=0,\" \",COUNTRY_INFO!A102))","v":"Ghana"},{"$f":"IF(INTRO!$E$43=\"Non-endemic\",\" \", IF(COUNTRY_INFO!B102=0,\" \",COUNTRY_INFO!B102))","v":"Eastern"},{"$f":"IF(INTRO!$E$43=\"Non-endemic\",\" \", IF(COUNTRY_INFO!C102=0,\" \",COUNTRY_INFO!C102))","v":"Kwahu South"},{"$f":"IF(INTRO!$E$43=\"Non-endemic\", 0, IF(COUNTRY_INFO!$K102>0, IF(COUNTRY_INFO!$K102=4, 0, IF(COUNTRY_INFO!$K102=1, COUNTRY_INFO!$F102*0.33, IF(COUNTRY_INFO!$K102=2, COUNTRY_INFO!$F102*0.5, COUNTRY_INFO!$F102))), 0))","v":20658},{"$f":"IF(INTRO!$E$43=\"Non-endemic\", 0, IF(COUNTRY_INFO!$K102>0, IF(COUNTRY_INFO!$K102=4, 0, IF(COUNTRY_INFO!$K102=1, 0, IF(COUNTRY_INFO!$K102=2, COUNTRY_INFO!$G102*0.2, COUNTRY_INFO!$G102))), 0))","v":52025},72683,{"$f":"IF(INTRO!$E$43=\"Non-endemic\", \"Not required\", COUNTRY_INFO!S102)","v":1},"Yes",{"$f":"IF($D102=0,0,IF(AND($G102>0,$H102<>\"Yes\"),D102,IF(AND($G102>0,$H102=\"Yes\"),COUNTRY_INFO!$F102,0)))","v":20658},null,52025,72683,51645,156075,51645,null,51645,52]
[{"$f":"IF(INTRO!$E$43=\"Non-endemic\",\" \", IF(COUNTRY_INFO!A103=0,\" \",COUNTRY_INFO!A103))","v":"Ghana"},{"$f":"IF(INTRO!$E$43=\"Non-endemic\",\" \", IF(COUNTRY_INFO!B103=0,\" \",COUNTRY_INFO!B103))","v":"Eastern"},{"$f":"IF(INTRO!$E$43=\"Non-endemic\",\" \", IF(COUNTRY_INFO!C103=0,\" \",COUNTRY_INFO!C103))","v":"Kwahu West"},{"$f":"IF(INTRO!$E$43=\"Non-endemic\", 0, IF(COUNTRY_INFO!$K103>0, IF(COUNTRY_INFO!$K103=4, 0, IF(COUNTRY_INFO!$K103=1, COUNTRY_INFO!$F103*0.33, IF(COUNTRY_INFO!$K103=2, COUNTRY_INFO!$F103*0.5, COUNTRY_INFO!$F103))), 0))","v":13857.5},{"$f":"IF(INTRO!$E$43=\"Non-endemic\", 0, IF(COUNTRY_INFO!$K103>0, IF(COUNTRY_INFO!$K103=4, 0, IF(COUNTRY_INFO!$K103=1, 0, IF(COUNTRY_INFO!$K103=2, COUNTRY_INFO!$G103*0.2, COUNTRY_INFO!$G103))), 0))","v":13959.2},27816.7,{"$f":"IF(INTRO!$E$43=\"Non-endemic\", \"Not required\", COUNTRY_INFO!S103)","v":1},"Yes",{"$f":"IF($D103=0,0,IF(AND($G103>0,$H103<>\"Yes\"),D103,IF(AND($G103>0,$H103=\"Yes\"),COUNTRY_INFO!$F103,0)))","v":27715},null,13959.2,41674.199999999997,69287.5,41877.600000000006,69287.5,null,69287.5,70]
[{"$f":"IF(INTRO!$E$43=\"Non-endemic\",\" \", IF(COUNTRY_INFO!A104=0,\" \",COUNTRY_INFO!A104))","v":"Ghana"},{"$f":"IF(INTRO!$E$43=\"Non-endemic\",\" \", IF(COUNTRY_INFO!B104=0,\" \",COUNTRY_INFO!B104))","v":"Eastern"},{"$f":"IF(INTRO!$E$43=\"Non-endemic\",\" \", IF(COUNTRY_INFO!C104=0,\" \",COUNTRY_INFO!C104))","v":"Lower Manya Krobo"},{"$f":"IF(INTRO!$E$43=\"Non-endemic\", 0, IF(COUNTRY_INFO!$K104>0, IF(COUNTRY_INFO!$K104=4, 0, IF(COUNTRY_INFO!$K104=1, COUNTRY_INFO!$F104*0.33, IF(COUNTRY_INFO!$K104=2, COUNTRY_INFO!$F104*0.5, COUNTRY_INFO!$F104))), 0))","v":13215},{"$f":"IF(INTRO!$E$43=\"Non-endemic\", 0, IF(COUNTRY_INFO!$K104>0, IF(COUNTRY_INFO!$K104=4, 0, IF(COUNTRY_INFO!$K104=1, 0, IF(COUNTRY_INFO!$K104=2, COUNTRY_INFO!$G104*0.2, COUNTRY_INFO!$G104))), 0))","v":13312},26527,{"$f":"IF(INTRO!$E$43=\"Non-endemic\", \"Not required\", COUNTRY_INFO!S104)","v":1},"Yes",{"$f":"IF($D104=0,0,IF(AND($G104>0,$H104<>\"Yes\"),D104,IF(AND($G104>0,$H104=\"Yes\"),COUNTRY_INFO!$F104,0)))","v":26430},null,13312,39742,66075,39936,66075,null,66075,67]
[{"$f":"IF(INTRO!$E$43=\"Non-endemic\",\" \", IF(COUNTRY_INFO!A105=0,\" \",COUNTRY_INFO!A105))","v":"Ghana"},{"$f":"IF(INTRO!$E$43=\"Non-endemic\",\" \", IF(COUNTRY_INFO!B105=0,\" \",COUNTRY_INFO!B105))","v":"Eastern"},{"$f":"IF(INTRO!$E$43=\"Non-endemic\",\" \", IF(COUNTRY_INFO!C105=0,\" \",COUNTRY_INFO!C105))","v":"New Juaben Municipal"},{"$f":"IF(INTRO!$E$43=\"Non-endemic\", 0, IF(COUNTRY_INFO!$K105>0, IF(COUNTRY_INFO!$K105=4, 0, IF(COUNTRY_INFO!$K105=1, COUNTRY_INFO!$F105*0.33, IF(COUNTRY_INFO!$K105=2, COUNTRY_INFO!$F105*0.5, COUNTRY_INFO!$F105))), 0))","v":27205},{"$f":"IF(INTRO!$E$43=\"Non-endemic\", 0, IF(COUNTRY_INFO!$K105>0, IF(COUNTRY_INFO!$K105=4, 0, IF(COUNTRY_INFO!$K105=1, 0, IF(COUNTRY_INFO!$K105=2, COUNTRY_INFO!$G105*0.2, COUNTRY_INFO!$G105))), 0))","v":27405},54610,{"$f":"IF(INTRO!$E$43=\"Non-endemic\", \"Not required\", COUNTRY_INFO!S105)","v":1},"Yes",{"$f":"IF($D105=0,0,IF(AND($G105>0,$H105<>\"Yes\"),D105,IF(AND($G105>0,$H105=\"Yes\"),COUNTRY_INFO!$F105,0)))","v":54410},null,27405,81815,136025,82215,136025,null,136025,137]
[{"$f":"IF(INTRO!$E$43=\"Non-endemic\",\" \", IF(COUNTRY_INFO!A106=0,\" \",COUNTRY_INFO!A106))","v":"Ghana"},{"$f":"IF(INTRO!$E$43=\"Non-endemic\",\" \", IF(COUNTRY_INFO!B106=0,\" \",COUNTRY_INFO!B106))","v":"Eastern"},{"$f":"IF(INTRO!$E$43=\"Non-endemic\",\" \", IF(COUNTRY_INFO!C106=0,\" \",COUNTRY_INFO!C106))","v":"Suhum"},{"$f":"IF(INTRO!$E$43=\"Non-endemic\", 0, IF(COUNTRY_INFO!$K106>0, IF(COUNTRY_INFO!$K106=4, 0, IF(COUNTRY_INFO!$K106=1, COUNTRY_INFO!$F106*0.33, IF(COUNTRY_INFO!$K106=2, COUNTRY_INFO!$F106*0.5, COUNTRY_INFO!$F106))), 0))","v":13522.5},{"$f":"IF(INTRO!$E$43=\"Non-endemic\", 0, IF(COUNTRY_INFO!$K106>0, IF(COUNTRY_INFO!$K106=4, 0, IF(COUNTRY_INFO!$K106=1, 0, IF(COUNTRY_INFO!$K106=2, COUNTRY_INFO!$G106*0.2, COUNTRY_INFO!$G106))), 0))","v":13622},27144.5,{"$f":"IF(INTRO!$E$43=\"Non-endemic\", \"Not required\", COUNTRY_INFO!S106)","v":1},"Yes",{"$f":"IF($D106=0,0,IF(AND($G106>0,$H106<>\"Yes\"),D106,IF(AND($G106>0,$H106=\"Yes\"),COUNTRY_INFO!$F106,0)))","v":27045},null,13622,40667,67612.5,40866,67612.5,null,67612.5,68]
[{"$f":"IF(INTRO!$E$43=\"Non-endemic\",\" \", IF(COUNTRY_INFO!A107=0,\" \",COUNTRY_INFO!A107))","v":"Ghana"},{"$f":"IF(INTRO!$E$43=\"Non-endemic\",\" \", IF(COUNTRY_INFO!B107=0,\" \",COUNTRY_INFO!B107))","v":"Eastern"},{"$f":"IF(INTRO!$E$43=\"Non-endemic\",\" \", IF(COUNTRY_INFO!C107=0,\" \",COUNTRY_INFO!C107))","v":"Ayensuano"},{"$f":"IF(INTRO!$E$43=\"Non-endemic\", 0, IF(COUNTRY_INFO!$K107>0, IF(COUNTRY_INFO!$K107=4, 0, IF(COUNTRY_INFO!$K107=1, COUNTRY_INFO!$F107*0.33, IF(COUNTRY_INFO!$K107=2, COUNTRY_INFO!$F107*0.5, COUNTRY_INFO!$F107))), 0))","v":11287.5},{"$f":"IF(INTRO!$E$43=\"Non-endemic\", 0, IF(COUNTRY_INFO!$K107>0, IF(COUNTRY_INFO!$K107=4, 0, IF(COUNTRY_INFO!$K107=1, 0, IF(COUNTRY_INFO!$K107=2, COUNTRY_INFO!$G107*0.2, COUNTRY_INFO!$G107))), 0))","v":11370.2},22657.7,{"$f":"IF(INTRO!$E$43=\"Non-endemic\", \"Not required\", COUNTRY_INFO!S107)","v":1},"Yes",{"$f":"IF($D107=0,0,IF(AND($G107>0,$H107<>\"Yes\"),D107,IF(AND($G107>0,$H107=\"Yes\"),COUNTRY_INFO!$F107,0)))","v":22575},null,11370.2,33945.199999999997,56437.5,34110.600000000006,56437.5,null,56437.5,57]
[{"$f":"IF(INTRO!$E$43=\"Non-endemic\",\" \", IF(COUNTRY_INFO!A108=0,\" \",COUNTRY_INFO!A108))","v":"Ghana"},{"$f":"IF(INTRO!$E$43=\"Non-endemic\",\" \", IF(COUNTRY_INFO!B108=0,\" \",COUNTRY_INFO!B108))","v":"Eastern"},{"$f":"IF(INTRO!$E$43=\"Non-endemic\",\" \", IF(COUNTRY_INFO!C108=0,\" \",COUNTRY_INFO!C108))","v":"Upper Manya Krobo"},{"$f":"IF(INTRO!$E$43=\"Non-endemic\", 0, IF(COUNTRY_INFO!$K108>0, IF(COUNTRY_INFO!$K108=4, 0, IF(COUNTRY_INFO!$K108=1, COUNTRY_INFO!$F108*0.33, IF(COUNTRY_INFO!$K108=2, COUNTRY_INFO!$F108*0.5, COUNTRY_INFO!$F108))), 0))","v":10675},{"$f":"IF(INTRO!$E$43=\"Non-endemic\", 0, IF(COUNTRY_INFO!$K108>0, IF(COUNTRY_INFO!$K108=4, 0, IF(COUNTRY_INFO!$K108=1, 0, IF(COUNTRY_INFO!$K108=2, COUNTRY_INFO!$G108*0.2, COUNTRY_INFO!$G108))), 0))","v":10753.400000000001},21428.400000000001,{"$f":"IF(INTRO!$E$43=\"Non-endemic\", \"Not required\", COUNTRY_INFO!S108)","v":1},"Yes",{"$f":"IF($D108=0,0,IF(AND($G108>0,$H108<>\"Yes\"),D108,IF(AND($G108>0,$H108=\"Yes\"),COUNTRY_INFO!$F108,0)))","v":21350},null,10753.400000000001,32103.4,53375,32260.200000000004,53375,null,53375,54]
[{"$f":"IF(INTRO!$E$43=\"Non-endemic\",\" \", IF(COUNTRY_INFO!A109=0,\" \",COUNTRY_INFO!A109))","v":"Ghana"},{"$f":"IF(INTRO!$E$43=\"Non-endemic\",\" \", IF(COUNTRY_INFO!B109=0,\" \",COUNTRY_INFO!B109))","v":"Eastern"},{"$f":"IF(INTRO!$E$43=\"Non-endemic\",\" \", IF(COUNTRY_INFO!C109=0,\" \",COUNTRY_INFO!C109))","v":"Upper West Akim"},{"$f":"IF(INTRO!$E$43=\"Non-endemic\", 0, IF(COUNTRY_INFO!$K109>0, IF(COUNTRY_INFO!$K109=4, 0, IF(COUNTRY_INFO!$K109=1, COUNTRY_INFO!$F109*0.33, IF(COUNTRY_INFO!$K109=2, COUNTRY_INFO!$F109*0.5, COUNTRY_INFO!$F109))), 0))","v":25780},{"$f":"IF(INTRO!$E$43=\"Non-endemic\", 0, IF(COUNTRY_INFO!$K109>0, IF(COUNTRY_INFO!$K109=4, 0, IF(COUNTRY_INFO!$K109=1, 0, IF(COUNTRY_INFO!$K109=2, COUNTRY_INFO!$G109*0.2, COUNTRY_INFO!$G109))), 0))","v":64923},90703,{"$f":"IF(INTRO!$E$43=\"Non-endemic\", \"Not required\", COUNTRY_INFO!S109)","v":1},"Yes",{"$f":"IF($D109=0,0,IF(AND($G109>0,$H109<>\"Yes\"),D109,IF(AND($G109>0,$H109=\"Yes\"),COUNTRY_INFO!$F109,0)))","v":25780},null,64923,90703,64450,194769,64450,null,64450,65]
[{"$f":"IF(INTRO!$E$43=\"Non-endemic\",\" \", IF(COUNTRY_INFO!A110=0,\" \",COUNTRY_INFO!A110))","v":"Ghana"},{"$f":"IF(INTRO!$E$43=\"Non-endemic\",\" \", IF(COUNTRY_INFO!B110=0,\" \",COUNTRY_INFO!B110))","v":"Eastern"},{"$f":"IF(INTRO!$E$43=\"Non-endemic\",\" \", IF(COUNTRY_INFO!C110=0,\" \",COUNTRY_INFO!C110))","v":"West Akim Municipal"},{"$f":"IF(INTRO!$E$43=\"Non-endemic\", 0, IF(COUNTRY_INFO!$K110>0, IF(COUNTRY_INFO!$K110=4, 0, IF(COUNTRY_INFO!$K110=1, COUNTRY_INFO!$F110*0.33, IF(COUNTRY_INFO!$K110=2, COUNTRY_INFO!$F110*0.5, COUNTRY_INFO!$F110))), 0))","v":32072},{"$f":"IF(INTRO!$E$43=\"Non-endemic\", 0, IF(COUNTRY_INFO!$K110>0, IF(COUNTRY_INFO!$K110=4, 0, IF(COUNTRY_INFO!$K110=1, 0, IF(COUNTRY_INFO!$K110=2, COUNTRY_INFO!$G110*0.2, COUNTRY_INFO!$G110))), 0))","v":80770},112842,{"$f":"IF(INTRO!$E$43=\"Non-endemic\", \"Not required\", COUNTRY_INFO!S110)","v":1},"Yes",{"$f":"IF($D110=0,0,IF(AND($G110>0,$H110<>\"Yes\"),D110,IF(AND($G110>0,$H110=\"Yes\"),COUNTRY_INFO!$F110,0)))","v":32072},null,80770,112842,80180,242310,80180,null,80180,81]
[{"$f":"IF(INTRO!$E$43=\"Non-endemic\",\" \", IF(COUNTRY_INFO!A111=0,\" \",COUNTRY_INFO!A111))","v":"Ghana"},{"$f":"IF(INTRO!$E$43=\"Non-endemic\",\" \", IF(COUNTRY_INFO!B111=0,\" \",COUNTRY_INFO!B111))","v":"Eastern"},{"$f":"IF(INTRO!$E$43=\"Non-endemic\",\" \", IF(COUNTRY_INFO!C111=0,\" \",COUNTRY_INFO!C111))","v":"Yilo Krobo"},{"$f":"IF(INTRO!$E$43=\"Non-endemic\", 0, IF(COUNTRY_INFO!$K111>0, IF(COUNTRY_INFO!$K111=4, 0, IF(COUNTRY_INFO!$K111=1, COUNTRY_INFO!$F111*0.33, IF(COUNTRY_INFO!$K111=2, COUNTRY_INFO!$F111*0.5, COUNTRY_INFO!$F111))), 0))","v":13007.5},{"$f":"IF(INTRO!$E$43=\"Non-endemic\", 0, IF(COUNTRY_INFO!$K111>0, IF(COUNTRY_INFO!$K111=4, 0, IF(COUNTRY_INFO!$K111=1, 0, IF(COUNTRY_INFO!$K111=2, COUNTRY_INFO!$G111*0.2, COUNTRY_INFO!$G111))), 0))","v":13103.2},26110.7,{"$f":"IF(INTRO!$E$43=\"Non-endemic\", \"Not required\", COUNTRY_INFO!S111)","v":1},"Yes",{"$f":"IF($D111=0,0,IF(AND($G111>0,$H111<>\"Yes\"),D111,IF(AND($G111>0,$H111=\"Yes\"),COUNTRY_INFO!$F111,0)))","v":26015},null,13103.2,39118.199999999997,65037.5,39309.600000000006,65037.5,null,65037.5,66]
[{"$f":"IF(INTRO!$E$43=\"Non-endemic\",\" \", IF(COUNTRY_INFO!A112=0,\" \",COUNTRY_INFO!A112))","v":"Ghana"},{"$f":"IF(INTRO!$E$43=\"Non-endemic\",\" \", IF(COUNTRY_INFO!B112=0,\" \",COUNTRY_INFO!B112))","v":"Greater Accra"},{"$f":"IF(INTRO!$E$43=\"Non-endemic\",\" \", IF(COUNTRY_INFO!C112=0,\" \",COUNTRY_INFO!C112))","v":"Accra Metro"},{"$f":"IF(INTRO!$E$43=\"Non-endemic\", 0, IF(COUNTRY_INFO!$K112>0, IF(COUNTRY_INFO!$K112=4, 0, IF(COUNTRY_INFO!$K112=1, COUNTRY_INFO!$F112*0.33, IF(COUNTRY_INFO!$K112=2, COUNTRY_INFO!$F112*0.5, COUNTRY_INFO!$F112))), 0))","v":266548.5},{"$f":"IF(INTRO!$E$43=\"Non-endemic\", 0, IF(COUNTRY_INFO!$K112>0, IF(COUNTRY_INFO!$K112=4, 0, IF(COUNTRY_INFO!$K112=1, 0, IF(COUNTRY_INFO!$K112=2, COUNTRY_INFO!$G112*0.2, COUNTRY_INFO!$G112))), 0))","v":268507},535055.5,{"$f":"IF(INTRO!$E$43=\"Non-endemic\", \"Not required\", COUNTRY_INFO!S112)","v":0},null,{"$f":"IF($D112=0,0,IF(AND($G112>0,$H112<>\"Yes\"),D112,IF(AND($G112>0,$H112=\"Yes\"),COUNTRY_INFO!$F112,0)))","v":0},null,0,0,0,0,0,null,0,0]
[{"$f":"IF(INTRO!$E$43=\"Non-endemic\",\" \", IF(COUNTRY_INFO!A113=0,\" \",COUNTRY_INFO!A113))","v":"Ghana"},{"$f":"IF(INTRO!$E$43=\"Non-endemic\",\" \", IF(COUNTRY_INFO!B113=0,\" \",COUNTRY_INFO!B113))","v":"Greater Accra"},{"$f":"IF(INTRO!$E$43=\"Non-endemic\",\" \", IF(COUNTRY_INFO!C113=0,\" \",COUNTRY_INFO!C113))","v":"La Dade-Kotopon"},{"$f":"IF(INTRO!$E$43=\"Non-endemic\", 0, IF(COUNTRY_INFO!$K113>0, IF(COUNTRY_INFO!$K113=4, 0, IF(COUNTRY_INFO!$K113=1, COUNTRY_INFO!$F113*0.33, IF(COUNTRY_INFO!$K113=2, COUNTRY_INFO!$F113*0.5, COUNTRY_INFO!$F113))), 0))","v":29379.5},{"$f":"IF(INTRO!$E$43=\"Non-endemic\", 0, IF(COUNTRY_INFO!$K113>0, IF(COUNTRY_INFO!$K113=4, 0, IF(COUNTRY_INFO!$K113=1, 0, IF(COUNTRY_INFO!$K113=2, COUNTRY_INFO!$G113*0.2, COUNTRY_INFO!$G113))), 0))","v":29595.200000000001},58974.7,{"$f":"IF(INTRO!$E$43=\"Non-endemic\", \"Not required\", COUNTRY_INFO!S113)","v":0},null,{"$f":"IF($D113=0,0,IF(AND($G113>0,$H113<>\"Yes\"),D113,IF(AND($G113>0,$H113=\"Yes\"),COUNTRY_INFO!$F113,0)))","v":0},null,0,0,0,0,0,null,0,0]
[{"$f":"IF(INTRO!$E$43=\"Non-endemic\",\" \", IF(COUNTRY_INFO!A114=0,\" \",COUNTRY_INFO!A114))","v":"Ghana"},{"$f":"IF(INTRO!$E$43=\"Non-endemic\",\" \", IF(COUNTRY_INFO!B114=0,\" \",COUNTRY_INFO!B114))","v":"Greater Accra"},{"$f":"IF(INTRO!$E$43=\"Non-endemic\",\" \", IF(COUNTRY_INFO!C114=0,\" \",COUNTRY_INFO!C114))","v":"Adenta "},{"$f":"IF(INTRO!$E$43=\"Non-endemic\", 0, IF(COUNTRY_INFO!$K114>0, IF(COUNTRY_INFO!$K114=4, 0, IF(COUNTRY_INFO!$K114=1, COUNTRY_INFO!$F114*0.33, IF(COUNTRY_INFO!$K114=2, COUNTRY_INFO!$F114*0.5, COUNTRY_INFO!$F114))), 0))","v":12520.5},{"$f":"IF(INTRO!$E$43=\"Non-endemic\", 0, IF(COUNTRY_INFO!$K114>0, IF(COUNTRY_INFO!$K114=4, 0, IF(COUNTRY_INFO!$K114=1, 0, IF(COUNTRY_INFO!$K114=2, COUNTRY_INFO!$G114*0.2, COUNTRY_INFO!$G114))), 0))","v":12612.800000000001},25133.300000000003,{"$f":"IF(INTRO!$E$43=\"Non-endemic\", \"Not required\", COUNTRY_INFO!S114)","v":1},"Yes",{"$f":"IF($D114=0,0,IF(AND($G114>0,$H114<>\"Yes\"),D114,IF(AND($G114>0,$H114=\"Yes\"),COUNTRY_INFO!$F114,0)))","v":25041},null,12612.800000000001,37653.800000000003,62602.5,37838.400000000001,62602.5,null,62602.5,63]
[{"$f":"IF(INTRO!$E$43=\"Non-endemic\",\" \", IF(COUNTRY_INFO!A115=0,\" \",COUNTRY_INFO!A115))","v":"Ghana"},{"$f":"IF(INTRO!$E$43=\"Non-endemic\",\" \", IF(COUNTRY_INFO!B115=0,\" \",COUNTRY_INFO!B115))","v":"Greater Accra"},{"$f":"IF(INTRO!$E$43=\"Non-endemic\",\" \", IF(COUNTRY_INFO!C115=0,\" \",COUNTRY_INFO!C115))","v":"Ashiaman"},{"$f":"IF(INTRO!$E$43=\"Non-endemic\", 0, IF(COUNTRY_INFO!$K115>0, IF(COUNTRY_INFO!$K115=4, 0, IF(COUNTRY_INFO!$K115=1, COUNTRY_INFO!$F115*0.33, IF(COUNTRY_INFO!$K115=2, COUNTRY_INFO!$F115*0.5, COUNTRY_INFO!$F115))), 0))","v":30571},{"$f":"IF(INTRO!$E$43=\"Non-endemic\", 0, IF(COUNTRY_INFO!$K115>0, IF(COUNTRY_INFO!$K115=4, 0, IF(COUNTRY_INFO!$K115=1, 0, IF(COUNTRY_INFO!$K115=2, COUNTRY_INFO!$G115*0.2, COUNTRY_INFO!$G115))), 0))","v":30795.800000000003},61366.8,{"$f":"IF(INTRO!$E$43=\"Non-endemic\", \"Not required\", COUNTRY_INFO!S115)","v":1},"Yes",{"$f":"IF($D115=0,0,IF(AND($G115>0,$H115<>\"Yes\"),D115,IF(AND($G115>0,$H115=\"Yes\"),COUNTRY_INFO!$F115,0)))","v":61142},null,30795.800000000003,91937.8,152855,92387.400000000009,152855,null,152855,153]
[{"$f":"IF(INTRO!$E$43=\"Non-endemic\",\" \", IF(COUNTRY_INFO!A116=0,\" \",COUNTRY_INFO!A116))","v":"Ghana"},{"$f":"IF(INTRO!$E$43=\"Non-endemic\",\" \", IF(COUNTRY_INFO!B116=0,\" \",COUNTRY_INFO!B116))","v":"Greater Accra"},{"$f":"IF(INTRO!$E$43=\"Non-endemic\",\" \", IF(COUNTRY_INFO!C116=0,\" \",COUNTRY_INFO!C116))","v":"Ada East"},{"$f":"IF(INTRO!$E$43=\"Non-endemic\", 0, IF(COUNTRY_INFO!$K116>0, IF(COUNTRY_INFO!$K116=4, 0, IF(COUNTRY_INFO!$K116=1, COUNTRY_INFO!$F116*0.33, IF(COUNTRY_INFO!$K116=2, COUNTRY_INFO!$F116*0.5, COUNTRY_INFO!$F116))), 0))","v":11473},{"$f":"IF(INTRO!$E$43=\"Non-endemic\", 0, IF(COUNTRY_INFO!$K116>0, IF(COUNTRY_INFO!$K116=4, 0, IF(COUNTRY_INFO!$K116=1, 0, IF(COUNTRY_INFO!$K116=2, COUNTRY_INFO!$G116*0.2, COUNTRY_INFO!$G116))), 0))","v":11557.400000000001},23030.400000000001,{"$f":"IF(INTRO!$E$43=\"Non-endemic\", \"Not required\", COUNTRY_INFO!S116)","v":1},"Yes",{"$f":"IF($D116=0,0,IF(AND($G116>0,$H116<>\"Yes\"),D116,IF(AND($G116>0,$H116=\"Yes\"),COUNTRY_INFO!$F116,0)))","v":22946},null,11557.400000000001,34503.4,57365,34672.200000000004,57365,null,57365,58]
[{"$f":"IF(INTRO!$E$43=\"Non-endemic\",\" \", IF(COUNTRY_INFO!A117=0,\" \",COUNTRY_INFO!A117))","v":"Ghana"},{"$f":"IF(INTRO!$E$43=\"Non-endemic\",\" \", IF(COUNTRY_INFO!B117=0,\" \",COUNTRY_INFO!B117))","v":"Greater Accra"},{"$f":"IF(INTRO!$E$43=\"Non-endemic\",\" \", IF(COUNTRY_INFO!C117=0,\" \",COUNTRY_INFO!C117))","v":"Ada West"},{"$f":"IF(INTRO!$E$43=\"Non-endemic\", 0, IF(COUNTRY_INFO!$K117>0, IF(COUNTRY_INFO!$K117=4, 0, IF(COUNTRY_INFO!$K117=1, COUNTRY_INFO!$F117*0.33, IF(COUNTRY_INFO!$K117=2, COUNTRY_INFO!$F117*0.5, COUNTRY_INFO!$F117))), 0))","v":9464.5},{"$f":"IF(INTRO!$E$43=\"Non-endemic\", 0, IF(COUNTRY_INFO!$K117>0, IF(COUNTRY_INFO!$K117=4, 0, IF(COUNTRY_INFO!$K117=1, 0, IF(COUNTRY_INFO!$K117=2, COUNTRY_INFO!$G117*0.2, COUNTRY_INFO!$G117))), 0))","v":9534.2000000000007},18998.7,{"$f":"IF(INTRO!$E$43=\"Non-endemic\", \"Not required\", COUNTRY_INFO!S117)","v":1},"Yes",{"$f":"IF($D117=0,0,IF(AND($G117>0,$H117<>\"Yes\"),D117,IF(AND($G117>0,$H117=\"Yes\"),COUNTRY_INFO!$F117,0)))","v":18929},null,9534.2000000000007,28463.200000000001,47322.5,28602.600000000002,47322.5,null,47322.5,48]
[{"$f":"IF(INTRO!$E$43=\"Non-endemic\",\" \", IF(COUNTRY_INFO!A118=0,\" \",COUNTRY_INFO!A118))","v":"Ghana"},{"$f":"IF(INTRO!$E$43=\"Non-endemic\",\" \", IF(COUNTRY_INFO!B118=0,\" \",COUNTRY_INFO!B118))","v":"Greater Accra"},{"$f":"IF(INTRO!$E$43=\"Non-endemic\",\" \", IF(COUNTRY_INFO!C118=0,\" \",COUNTRY_INFO!C118))","v":"Shai Osudoku"},{"$f":"IF(INTRO!$E$43=\"Non-endemic\", 0, IF(COUNTRY_INFO!$K118>0, IF(COUNTRY_INFO!$K118=4, 0, IF(COUNTRY_INFO!$K118=1, COUNTRY_INFO!$F118*0.33, IF(COUNTRY_INFO!$K118=2, COUNTRY_INFO!$F118*0.5, COUNTRY_INFO!$F118))), 0))","v":8343},{"$f":"IF(INTRO!$E$43=\"Non-endemic\", 0, IF(COUNTRY_INFO!$K118>0, IF(COUNTRY_INFO!$K118=4, 0, IF(COUNTRY_INFO!$K118=1, 0, IF(COUNTRY_INFO!$K118=2, COUNTRY_INFO!$G118*0.2, COUNTRY_INFO!$G118))), 0))","v":8404.2000000000007},16747.2,{"$f":"IF(INTRO!$E$43=\"Non-endemic\", \"Not required\", COUNTRY_INFO!S118)","v":1},"Yes",{"$f":"IF($D118=0,0,IF(AND($G118>0,$H118<>\"Yes\"),D118,IF(AND($G118>0,$H118=\"Yes\"),COUNTRY_INFO!$F118,0)))","v":16686},null,8404.2000000000007,25090.2,41715,25212.600000000002,41715,null,41715,42]
[{"$f":"IF(INTRO!$E$43=\"Non-endemic\",\" \", IF(COUNTRY_INFO!A119=0,\" \",COUNTRY_INFO!A119))","v":"Ghana"},{"$f":"IF(INTRO!$E$43=\"Non-endemic\",\" \", IF(COUNTRY_INFO!B119=0,\" \",COUNTRY_INFO!B119))","v":"Greater Accra"},{"$f":"IF(INTRO!$E$43=\"Non-endemic\",\" \", IF(COUNTRY_INFO!C119=0,\" \",COUNTRY_INFO!C119))","v":"Ningo Prampram"},{"$f":"IF(INTRO!$E$43=\"Non-endemic\", 0, IF(COUNTRY_INFO!$K119>0, IF(COUNTRY_INFO!$K119=4, 0, IF(COUNTRY_INFO!$K119=1, COUNTRY_INFO!$F119*0.33, IF(COUNTRY_INFO!$K119=2, COUNTRY_INFO!$F119*0.5, COUNTRY_INFO!$F119))), 0))","v":11320.5},{"$f":"IF(INTRO!$E$43=\"Non-endemic\", 0, IF(COUNTRY_INFO!$K119>0, IF(COUNTRY_INFO!$K119=4, 0, IF(COUNTRY_INFO!$K119=1, 0, IF(COUNTRY_INFO!$K119=2, COUNTRY_INFO!$G119*0.2, COUNTRY_INFO!$G119))), 0))","v":11403.800000000001},22724.300000000003,{"$f":"IF(INTRO!$E$43=\"Non-endemic\", \"Not required\", COUNTRY_INFO!S119)","v":1},"Yes",{"$f":"IF($D119=0,0,IF(AND($G119>0,$H119<>\"Yes\"),D119,IF(AND($G119>0,$H119=\"Yes\"),COUNTRY_INFO!$F119,0)))","v":22641},null,11403.800000000001,34044.800000000003,56602.5,34211.4,56602.5,null,56602.5,57]
[{"$f":"IF(INTRO!$E$43=\"Non-endemic\",\" \", IF(COUNTRY_INFO!A120=0,\" \",COUNTRY_INFO!A120))","v":"Ghana"},{"$f":"IF(INTRO!$E$43=\"Non-endemic\",\" \", IF(COUNTRY_INFO!B120=0,\" \",COUNTRY_INFO!B120))","v":"Greater Accra"},{"$f":"IF(INTRO!$E$43=\"Non-endemic\",\" \", IF(COUNTRY_INFO!C120=0,\" \",COUNTRY_INFO!C120))","v":"Ga East"},{"$f":"IF(INTRO!$E$43=\"Non-endemic\", 0, IF(COUNTRY_INFO!$K120>0, IF(COUNTRY_INFO!$K120=4, 0, IF(COUNTRY_INFO!$K120=1, COUNTRY_INFO!$F120*0.33, IF(COUNTRY_INFO!$K120=2, COUNTRY_INFO!$F120*0.5, COUNTRY_INFO!$F120))), 0))","v":23650.5},{"$f":"IF(INTRO!$E$43=\"Non-endemic\", 0, IF(COUNTRY_INFO!$K120>0, IF(COUNTRY_INFO!$K120=4, 0, IF(COUNTRY_INFO!$K120=1, 0, IF(COUNTRY_INFO!$K120=2, COUNTRY_INFO!$G120*0.2, COUNTRY_INFO!$G120))), 0))","v":23824.400000000001},47474.9,{"$f":"IF(INTRO!$E$43=\"Non-endemic\", \"Not required\", COUNTRY_INFO!S120)","v":1},"Yes",{"$f":"IF($D120=0,0,IF(AND($G120>0,$H120<>\"Yes\"),D120,IF(AND($G120>0,$H120=\"Yes\"),COUNTRY_INFO!$F120,0)))","v":47301},null,23824.400000000001,71125.399999999994,118252.5,71473.200000000012,118252.5,null,118252.5,119]
[{"$f":"IF(INTRO!$E$43=\"Non-endemic\",\" \", IF(COUNTRY_INFO!A121=0,\" \",COUNTRY_INFO!A121))","v":"Ghana"},{"$f":"IF(INTRO!$E$43=\"Non-endemic\",\" \", IF(COUNTRY_INFO!B121=0,\" \",COUNTRY_INFO!B121))","v":"Greater Accra"},{"$f":"IF(INTRO!$E$43=\"Non-endemic\",\" \", IF(COUNTRY_INFO!C121=0,\" \",COUNTRY_INFO!C121))","v":"La-Nkwantanang-Madina"},{"$f":"IF(INTRO!$E$43=\"Non-endemic\", 0, IF(COUNTRY_INFO!$K121>0, IF(COUNTRY_INFO!$K121=4, 0, IF(COUNTRY_INFO!$K121=1, COUNTRY_INFO!$F121*0.33, IF(COUNTRY_INFO!$K121=2, COUNTRY_INFO!$F121*0.5, COUNTRY_INFO!$F121))), 0))","v":17917.5},{"$f":"IF(INTRO!$E$43=\"Non-endemic\", 0, IF(COUNTRY_INFO!$K121>0, IF(COUNTRY_INFO!$K121=4, 0, IF(COUNTRY_INFO!$K121=1, 0, IF(COUNTRY_INFO!$K121=2, COUNTRY_INFO!$G121*0.2, COUNTRY_INFO!$G121))), 0))","v":18049},35966.5,{"$f":"IF(INTRO!$E$43=\"Non-endemic\", \"Not required\", COUNTRY_INFO!S121)","v":1},"Yes",{"$f":"IF($D121=0,0,IF(AND($G121>0,$H121<>\"Yes\"),D121,IF(AND($G121>0,$H121=\"Yes\"),COUNTRY_INFO!$F121,0)))","v":35835},null,18049,53884,89587.5,54147,89587.5,null,89587.5,90]
[{"$f":"IF(INTRO!$E$43=\"Non-endemic\",\" \", IF(COUNTRY_INFO!A122=0,\" \",COUNTRY_INFO!A122))","v":"Ghana"},{"$f":"IF(INTRO!$E$43=\"Non-endemic\",\" \", IF(COUNTRY_INFO!B122=0,\" \",COUNTRY_INFO!B122))","v":"Greater Accra"},{"$f":"IF(INTRO!$E$43=\"Non-endemic\",\" \", IF(COUNTRY_INFO!C122=0,\" \",COUNTRY_INFO!C122))","v":"Ga South"},{"$f":"IF(INTRO!$E$43=\"Non-endemic\", 0, IF(COUNTRY_INFO!$K122>0, IF(COUNTRY_INFO!$K122=4, 0, IF(COUNTRY_INFO!$K122=1, COUNTRY_INFO!$F122*0.33, IF(COUNTRY_INFO!$K122=2, COUNTRY_INFO!$F122*0.5, COUNTRY_INFO!$F122))), 0))","v":155484},{"$f":"IF(INTRO!$E$43=\"Non-endemic\", 0, IF(COUNTRY_INFO!$K122>0, IF(COUNTRY_INFO!$K122=4, 0, IF(COUNTRY_INFO!$K122=1, 0, IF(COUNTRY_INFO!$K122=2, COUNTRY_INFO!$G122*0.2, COUNTRY_INFO!$G122))), 0))","v":391567},547051,{"$f":"IF(INTRO!$E$43=\"Non-endemic\", \"Not required\", COUNTRY_INFO!S122)","v":1},"Yes",{"$f":"IF($D122=0,0,IF(AND($G122>0,$H122<>\"Yes\"),D122,IF(AND($G122>0,$H122=\"Yes\"),COUNTRY_INFO!$F122,0)))","v":155484},null,391567,547051,388710,1174701,388710,null,388710,389]
[{"$f":"IF(INTRO!$E$43=\"Non-endemic\",\" \", IF(COUNTRY_INFO!A123=0,\" \",COUNTRY_INFO!A123))","v":"Ghana"},{"$f":"IF(INTRO!$E$43=\"Non-endemic\",\" \", IF(COUNTRY_INFO!B123=0,\" \",COUNTRY_INFO!B123))","v":"Greater Accra"},{"$f":"IF(INTRO!$E$43=\"Non-endemic\",\" \", IF(COUNTRY_INFO!C123=0,\" \",COUNTRY_INFO!C123))","v":"Ga Central"},{"$f":"IF(INTRO!$E$43=\"Non-endemic\", 0, IF(COUNTRY_INFO!$K123>0, IF(COUNTRY_INFO!$K123=4, 0, IF(COUNTRY_INFO!$K123=1, COUNTRY_INFO!$F123*0.33, IF(COUNTRY_INFO!$K123=2, COUNTRY_INFO!$F123*0.5, COUNTRY_INFO!$F123))), 0))","v":13752},{"$f":"IF(INTRO!$E$43=\"Non-endemic\", 0, IF(COUNTRY_INFO!$K123>0, IF(COUNTRY_INFO!$K123=4, 0, IF(COUNTRY_INFO!$K123=1, 0, IF(COUNTRY_INFO!$K123=2, COUNTRY_INFO!$G123*0.2, COUNTRY_INFO!$G123))), 0))","v":34633},48385,{"$f":"IF(INTRO!$E$43=\"Non-endemic\", \"Not required\", COUNTRY_INFO!S123)","v":0},null,{"$f":"IF($D123=0,0,IF(AND($G123>0,$H123<>\"Yes\"),D123,IF(AND($G123>0,$H123=\"Yes\"),COUNTRY_INFO!$F123,0)))","v":0},null,0,0,0,0,0,null,0,0]
[{"$f":"IF(INTRO!$E$43=\"Non-endemic\",\" \", IF(COUNTRY_INFO!A124=0,\" \",COUNTRY_INFO!A124))","v":"Ghana"},{"$f":"IF(INTRO!$E$43=\"Non-endemic\",\" \", IF(COUNTRY_INFO!B124=0,\" \",COUNTRY_INFO!B124))","v":"Greater Accra"},{"$f":"IF(INTRO!$E$43=\"Non-endemic\",\" \", IF(COUNTRY_INFO!C124=0,\" \",COUNTRY_INFO!C124))","v":"Ga West"},{"$f":"IF(INTRO!$E$43=\"Non-endemic\", 0, IF(COUNTRY_INFO!$K124>0, IF(COUNTRY_INFO!$K124=4, 0, IF(COUNTRY_INFO!$K124=1, COUNTRY_INFO!$F124*0.33, IF(COUNTRY_INFO!$K124=2, COUNTRY_INFO!$F124*0.5, COUNTRY_INFO!$F124))), 0))","v":70368},{"$f":"IF(INTRO!$E$43=\"Non-endemic\", 0, IF(COUNTRY_INFO!$K124>0, IF(COUNTRY_INFO!$K124=4, 0, IF(COUNTRY_INFO!$K124=1, 0, IF(COUNTRY_INFO!$K124=2, COUNTRY_INFO!$G124*0.2, COUNTRY_INFO!$G124))), 0))","v":177212},247580,{"$f":"IF(INTRO!$E$43=\"Non-endemic\", \"Not required\", COUNTRY_INFO!S124)","v":1},"Yes",{"$f":"IF($D124=0,0,IF(AND($G124>0,$H124<>\"Yes\"),D124,IF(AND($G124>0,$H124=\"Yes\"),COUNTRY_INFO!$F124,0)))","v":70368},null,177212,247580,175920,531636,175920,null,175920,176]
[{"$f":"IF(INTRO!$E$43=\"Non-endemic\",\" \", IF(COUNTRY_INFO!A125=0,\" \",COUNTRY_INFO!A125))","v":"Ghana"},{"$f":"IF(INTRO!$E$43=\"Non-endemic\",\" \", IF(COUNTRY_INFO!B125=0,\" \",COUNTRY_INFO!B125))","v":"Greater Accra"},{"$f":"IF(INTRO!$E$43=\"Non-endemic\",\" \", IF(COUNTRY_INFO!C125=0,\" \",COUNTRY_INFO!C125))","v":"Ledzokuku-Krowor"},{"$f":"IF(INTRO!$E$43=\"Non-endemic\", 0, IF(COUNTRY_INFO!$K125>0, IF(COUNTRY_INFO!$K125=4, 0, IF(COUNTRY_INFO!$K125=1, COUNTRY_INFO!$F125*0.33, IF(COUNTRY_INFO!$K125=2, COUNTRY_INFO!$F125*0.5, COUNTRY_INFO!$F125))), 0))","v":36487.5},{"$f":"IF(INTRO!$E$43=\"Non-endemic\", 0, IF(COUNTRY_INFO!$K125>0, IF(COUNTRY_INFO!$K125=4, 0, IF(COUNTRY_INFO!$K125=1, 0, IF(COUNTRY_INFO!$K125=2, COUNTRY_INFO!$G125*0.2, COUNTRY_INFO!$G125))), 0))","v":36755.599999999999},73243.100000000006,{"$f":"IF(INTRO!$E$43=\"Non-endemic\", \"Not required\", COUNTRY_INFO!S125)","v":1},"Yes",{"$f":"IF($D125=0,0,IF(AND($G125>0,$H125<>\"Yes\"),D125,IF(AND($G125>0,$H125=\"Yes\"),COUNTRY_INFO!$F125,0)))","v":72975},null,36755.599999999999,109730.6,182437.5,110266.79999999999,182437.5,null,182437.5,183]
[{"$f":"IF(INTRO!$E$43=\"Non-endemic\",\" \", IF(COUNTRY_INFO!A126=0,\" \",COUNTRY_INFO!A126))","v":"Ghana"},{"$f":"IF(INTRO!$E$43=\"Non-endemic\",\" \", IF(COUNTRY_INFO!B126=0,\" \",COUNTRY_INFO!B126))","v":"Greater Accra"},{"$f":"IF(INTRO!$E$43=\"Non-endemic\",\" \", IF(COUNTRY_INFO!C126=0,\" \",COUNTRY_INFO!C126))","v":"Tema"},{"$f":"IF(INTRO!$E$43=\"Non-endemic\", 0, IF(COUNTRY_INFO!$K126>0, IF(COUNTRY_INFO!$K126=4, 0, IF(COUNTRY_INFO!$K126=1, COUNTRY_INFO!$F126*0.33, IF(COUNTRY_INFO!$K126=2, COUNTRY_INFO!$F126*0.5, COUNTRY_INFO!$F126))), 0))","v":46867.5},{"$f":"IF(INTRO!$E$43=\"Non-endemic\", 0, IF(COUNTRY_INFO!$K126>0, IF(COUNTRY_INFO!$K126=4, 0, IF(COUNTRY_INFO!$K126=1, 0, IF(COUNTRY_INFO!$K126=2, COUNTRY_INFO!$G126*0.2, COUNTRY_INFO!$G126))), 0))","v":47211.8},94079.3,{"$f":"IF(INTRO!$E$43=\"Non-endemic\", \"Not required\", COUNTRY_INFO!S126)","v":0},null,{"$f":"IF($D126=0,0,IF(AND($G126>0,$H126<>\"Yes\"),D126,IF(AND($G126>0,$H126=\"Yes\"),COUNTRY_INFO!$F126,0)))","v":0},null,0,0,0,0,0,null,0,0]
[{"$f":"IF(INTRO!$E$43=\"Non-endemic\",\" \", IF(COUNTRY_INFO!A127=0,\" \",COUNTRY_INFO!A127))","v":"Ghana"},{"$f":"IF(INTRO!$E$43=\"Non-endemic\",\" \", IF(COUNTRY_INFO!B127=0,\" \",COUNTRY_INFO!B127))","v":"Greater Accra"},{"$f":"IF(INTRO!$E$43=\"Non-endemic\",\" \", IF(COUNTRY_INFO!C127=0,\" \",COUNTRY_INFO!C127))","v":"Kpone Katamanso"},{"$f":"IF(INTRO!$E$43=\"Non-endemic\", 0, IF(COUNTRY_INFO!$K127>0, IF(COUNTRY_INFO!$K127=4, 0, IF(COUNTRY_INFO!$K127=1, COUNTRY_INFO!$F127*0.33, IF(COUNTRY_INFO!$K127=2, COUNTRY_INFO!$F127*0.5, COUNTRY_INFO!$F127))), 0))","v":17587},{"$f":"IF(INTRO!$E$43=\"Non-endemic\", 0, IF(COUNTRY_INFO!$K127>0, IF(COUNTRY_INFO!$K127=4, 0, IF(COUNTRY_INFO!$K127=1, 0, IF(COUNTRY_INFO!$K127=2, COUNTRY_INFO!$G127*0.2, COUNTRY_INFO!$G127))), 0))","v":17716.400000000001},35303.4,{"$f":"IF(INTRO!$E$43=\"Non-endemic\", \"Not required\", COUNTRY_INFO!S127)","v":1},"Yes",{"$f":"IF($D127=0,0,IF(AND($G127>0,$H127<>\"Yes\"),D127,IF(AND($G127>0,$H127=\"Yes\"),COUNTRY_INFO!$F127,0)))","v":35174},null,17716.400000000001,52890.400000000001,87935,53149.200000000004,87935,null,87935,88]
[{"$f":"IF(INTRO!$E$43=\"Non-endemic\",\" \", IF(COUNTRY_INFO!A128=0,\" \",COUNTRY_INFO!A128))","v":"Ghana"},{"$f":"IF(INTRO!$E$43=\"Non-endemic\",\" \", IF(COUNTRY_INFO!B128=0,\" \",COUNTRY_INFO!B128))","v":"Northern"},{"$f":"IF(INTRO!$E$43=\"Non-endemic\",\" \", IF(COUNTRY_INFO!C128=0,\" \",COUNTRY_INFO!C128))","v":"Bole"},{"$f":"IF(INTRO!$E$43=\"Non-endemic\", 0, IF(COUNTRY_INFO!$K128>0, IF(COUNTRY_INFO!$K128=4, 0, IF(COUNTRY_INFO!$K128=1, COUNTRY_INFO!$F128*0.33, IF(COUNTRY_INFO!$K128=2, COUNTRY_INFO!$F128*0.5, COUNTRY_INFO!$F128))), 0))","v":6407.2800000000007},{"$f":"IF(INTRO!$E$43=\"Non-endemic\", 0, IF(COUNTRY_INFO!$K128>0, IF(COUNTRY_INFO!$K128=4, 0, IF(COUNTRY_INFO!$K128=1, 0, IF(COUNTRY_INFO!$K128=2, COUNTRY_INFO!$G128*0.2, COUNTRY_INFO!$G128))), 0))","v":0},6407.2800000000007,{"$f":"IF(INTRO!$E$43=\"Non-endemic\", \"Not required\", COUNTRY_INFO!S128)","v":1},"Yes",{"$f":"IF($D128=0,0,IF(AND($G128>0,$H128<>\"Yes\"),D128,IF(AND($G128>0,$H128=\"Yes\"),COUNTRY_INFO!$F128,0)))","v":19416},null,0,19416,48540,0,48540,null,48540,49]
[{"$f":"IF(INTRO!$E$43=\"Non-endemic\",\" \", IF(COUNTRY_INFO!A129=0,\" \",COUNTRY_INFO!A129))","v":"Ghana"},{"$f":"IF(INTRO!$E$43=\"Non-endemic\",\" \", IF(COUNTRY_INFO!B129=0,\" \",COUNTRY_INFO!B129))","v":"Northern"},{"$f":"IF(INTRO!$E$43=\"Non-endemic\",\" \", IF(COUNTRY_INFO!C129=0,\" \",COUNTRY_INFO!C129))","v":"Bunkpurugu-Yunyuo"},{"$f":"IF(INTRO!$E$43=\"Non-endemic\", 0, IF(COUNTRY_INFO!$K129>0, IF(COUNTRY_INFO!$K129=4, 0, IF(COUNTRY_INFO!$K129=1, COUNTRY_INFO!$F129*0.33, IF(COUNTRY_INFO!$K129=2, COUNTRY_INFO!$F129*0.5, COUNTRY_INFO!$F129))), 0))","v":12752.52},{"$f":"IF(INTRO!$E$43=\"Non-endemic\", 0, IF(COUNTRY_INFO!$K129>0, IF(COUNTRY_INFO!$K129=4, 0, IF(COUNTRY_INFO!$K129=1, 0, IF(COUNTRY_INFO!$K129=2, COUNTRY_INFO!$G129*0.2, COUNTRY_INFO!$G129))), 0))","v":0},12752.52,{"$f":"IF(INTRO!$E$43=\"Non-endemic\", \"Not required\", COUNTRY_INFO!S129)","v":1},"Yes",{"$f":"IF($D129=0,0,IF(AND($G129>0,$H129<>\"Yes\"),D129,IF(AND($G129>0,$H129=\"Yes\"),COUNTRY_INFO!$F129,0)))","v":38644},null,0,38644,96610,0,96610,null,96610,97]
[{"$f":"IF(INTRO!$E$43=\"Non-endemic\",\" \", IF(COUNTRY_INFO!A130=0,\" \",COUNTRY_INFO!A130))","v":"Ghana"},{"$f":"IF(INTRO!$E$43=\"Non-endemic\",\" \", IF(COUNTRY_INFO!B130=0,\" \",COUNTRY_INFO!B130))","v":"Northern"},{"$f":"IF(INTRO!$E$43=\"Non-endemic\",\" \", IF(COUNTRY_INFO!C130=0,\" \",COUNTRY_INFO!C130))","v":"Central Gonja"},{"$f":"IF(INTRO!$E$43=\"Non-endemic\", 0, IF(COUNTRY_INFO!$K130>0, IF(COUNTRY_INFO!$K130=4, 0, IF(COUNTRY_INFO!$K130=1, COUNTRY_INFO!$F130*0.33, IF(COUNTRY_INFO!$K130=2, COUNTRY_INFO!$F130*0.5, COUNTRY_INFO!$F130))), 0))","v":13850.5},{"$f":"IF(INTRO!$E$43=\"Non-endemic\", 0, IF(COUNTRY_INFO!$K130>0, IF(COUNTRY_INFO!$K130=4, 0, IF(COUNTRY_INFO!$K130=1, 0, IF(COUNTRY_INFO!$K130=2, COUNTRY_INFO!$G130*0.2, COUNTRY_INFO!$G130))), 0))","v":13952.400000000001},27802.9,{"$f":"IF(INTRO!$E$43=\"Non-endemic\", \"Not required\", COUNTRY_INFO!S130)","v":1},"Yes",{"$f":"IF($D130=0,0,IF(AND($G130>0,$H130<>\"Yes\"),D130,IF(AND($G130>0,$H130=\"Yes\"),COUNTRY_INFO!$F130,0)))","v":27701},null,13952.400000000001,41653.4,69252.5,41857.200000000004,69252.5,null,69252.5,70]
[{"$f":"IF(INTRO!$E$43=\"Non-endemic\",\" \", IF(COUNTRY_INFO!A131=0,\" \",COUNTRY_INFO!A131))","v":"Ghana"},{"$f":"IF(INTRO!$E$43=\"Non-endemic\",\" \", IF(COUNTRY_INFO!B131=0,\" \",COUNTRY_INFO!B131))","v":"Northern"},{"$f":"IF(INTRO!$E$43=\"Non-endemic\",\" \", IF(COUNTRY_INFO!C131=0,\" \",COUNTRY_INFO!C131))","v":"Chereponi"},{"$f":"IF(INTRO!$E$43=\"Non-endemic\", 0, IF(COUNTRY_INFO!$K131>0, IF(COUNTRY_INFO!$K131=4, 0, IF(COUNTRY_INFO!$K131=1, COUNTRY_INFO!$F131*0.33, IF(COUNTRY_INFO!$K131=2, COUNTRY_INFO!$F131*0.5, COUNTRY_INFO!$F131))), 0))","v":5554.2300000000005},{"$f":"IF(INTRO!$E$43=\"Non-endemic\", 0, IF(COUNTRY_INFO!$K131>0, IF(COUNTRY_INFO!$K131=4, 0, IF(COUNTRY_INFO!$K131=1, 0, IF(COUNTRY_INFO!$K131=2, COUNTRY_INFO!$G131*0.2, COUNTRY_INFO!$G131))), 0))","v":0},5554.2300000000005,{"$f":"IF(INTRO!$E$43=\"Non-endemic\", \"Not required\", COUNTRY_INFO!S131)","v":1},"Yes",{"$f":"IF($D131=0,0,IF(AND($G131>0,$H131<>\"Yes\"),D131,IF(AND($G131>0,$H131=\"Yes\"),COUNTRY_INFO!$F131,0)))","v":16831},null,0,16831,42077.5,0,42077.5,null,42077.5,43]
[{"$f":"IF(INTRO!$E$43=\"Non-endemic\",\" \", IF(COUNTRY_INFO!A132=0,\" \",COUNTRY_INFO!A132))","v":"Ghana"},{"$f":"IF(INTRO!$E$43=\"Non-endemic\",\" \", IF(COUNTRY_INFO!B132=0,\" \",COUNTRY_INFO!B132))","v":"Northern"},{"$f":"IF(INTRO!$E$43=\"Non-endemic\",\" \", IF(COUNTRY_INFO!C132=0,\" \",COUNTRY_INFO!C132))","v":"East Gonja"},{"$f":"IF(INTRO!$E$43=\"Non-endemic\", 0, IF(COUNTRY_INFO!$K132>0, IF(COUNTRY_INFO!$K132=4, 0, IF(COUNTRY_INFO!$K132=1, COUNTRY_INFO!$F132*0.33, IF(COUNTRY_INFO!$K132=2, COUNTRY_INFO!$F132*0.5, COUNTRY_INFO!$F132))), 0))","v":42698},{"$f":"IF(INTRO!$E$43=\"Non-endemic\", 0, IF(COUNTRY_INFO!$K132>0, IF(COUNTRY_INFO!$K132=4, 0, IF(COUNTRY_INFO!$K132=1, 0, IF(COUNTRY_INFO!$K132=2, COUNTRY_INFO!$G132*0.2, COUNTRY_INFO!$G132))), 0))","v":107528},150226,{"$f":"IF(INTRO!$E$43=\"Non-endemic\", \"Not required\", COUNTRY_INFO!S132)","v":1},"Yes",{"$f":"IF($D132=0,0,IF(AND($G132>0,$H132<>\"Yes\"),D132,IF(AND($G132>0,$H132=\"Yes\"),COUNTRY_INFO!$F132,0)))","v":42698},null,107528,150226,106745,322584,106745,null,106745,107]
[{"$f":"IF(INTRO!$E$43=\"Non-endemic\",\" \", IF(COUNTRY_INFO!A133=0,\" \",COUNTRY_INFO!A133))","v":"Ghana"},{"$f":"IF(INTRO!$E$43=\"Non-endemic\",\" \", IF(COUNTRY_INFO!B133=0,\" \",COUNTRY_INFO!B133))","v":"Northern"},{"$f":"IF(INTRO!$E$43=\"Non-endemic\",\" \", IF(COUNTRY_INFO!C133=0,\" \",COUNTRY_INFO!C133))","v":"East Mamprusi"},{"$f":"IF(INTRO!$E$43=\"Non-endemic\", 0, IF(COUNTRY_INFO!$K133>0, IF(COUNTRY_INFO!$K133=4, 0, IF(COUNTRY_INFO!$K133=1, COUNTRY_INFO!$F133*0.33, IF(COUNTRY_INFO!$K133=2, COUNTRY_INFO!$F133*0.5, COUNTRY_INFO!$F133))), 0))","v":12588.18},{"$f":"IF(INTRO!$E$43=\"Non-endemic\", 0, IF(COUNTRY_INFO!$K133>0, IF(COUNTRY_INFO!$K133=4, 0, IF(COUNTRY_INFO!$K133=1, 0, IF(COUNTRY_INFO!$K133=2, COUNTRY_INFO!$G133*0.2, COUNTRY_INFO!$G133))), 0))","v":0},12588.18,{"$f":"IF(INTRO!$E$43=\"Non-endemic\", \"Not required\", COUNTRY_INFO!S133)","v":1},"Yes",{"$f":"IF($D133=0,0,IF(AND($G133>0,$H133<>\"Yes\"),D133,IF(AND($G133>0,$H133=\"Yes\"),COUNTRY_INFO!$F133,0)))","v":38146},null,0,38146,95365,0,95365,null,95365,96]
[{"$f":"IF(INTRO!$E$43=\"Non-endemic\",\" \", IF(COUNTRY_INFO!A134=0,\" \",COUNTRY_INFO!A134))","v":"Ghana"},{"$f":"IF(INTRO!$E$43=\"Non-endemic\",\" \", IF(COUNTRY_INFO!B134=0,\" \",COUNTRY_INFO!B134))","v":"Northern"},{"$f":"IF(INTRO!$E$43=\"Non-endemic\",\" \", IF(COUNTRY_INFO!C134=0,\" \",COUNTRY_INFO!C134))","v":"Gushiegu"},{"$f":"IF(INTRO!$E$43=\"Non-endemic\", 0, IF(COUNTRY_INFO!$K134>0, IF(COUNTRY_INFO!$K134=4, 0, IF(COUNTRY_INFO!$K134=1, COUNTRY_INFO!$F134*0.33, IF(COUNTRY_INFO!$K134=2, COUNTRY_INFO!$F134*0.5, COUNTRY_INFO!$F134))), 0))","v":11573.76},{"$f":"IF(INTRO!$E$43=\"Non-endemic\", 0, IF(COUNTRY_INFO!$K134>0, IF(COUNTRY_INFO!$K134=4, 0, IF(COUNTRY_INFO!$K134=1, 0, IF(COUNTRY_INFO!$K134=2, COUNTRY_INFO!$G134*0.2, COUNTRY_INFO!$G134))), 0))","v":0},11573.76,{"$f":"IF(INTRO!$E$43=\"Non-endemic\", \"Not required\", COUNTRY_INFO!S134)","v":1},"Yes",{"$f":"IF($D134=0,0,IF(AND($G134>0,$H134<>\"Yes\"),D134,IF(AND($G134>0,$H134=\"Yes\"),COUNTRY_INFO!$F134,0)))","v":35072},null,0,35072,87680,0,87680,null,87680,88]
[{"$f":"IF(INTRO!$E$43=\"Non-endemic\",\" \", IF(COUNTRY_INFO!A135=0,\" \",COUNTRY_INFO!A135))","v":"Ghana"},{"$f":"IF(INTRO!$E$43=\"Non-endemic\",\" \", IF(COUNTRY_INFO!B135=0,\" \",COUNTRY_INFO!B135))","v":"Northern"},{"$f":"IF(INTRO!$E$43=\"Non-endemic\",\" \", IF(COUNTRY_INFO!C135=0,\" \",COUNTRY_INFO!C135))","v":"Karaga"},{"$f":"IF(INTRO!$E$43=\"Non-endemic\", 0, IF(COUNTRY_INFO!$K135>0, IF(COUNTRY_INFO!$K135=4, 0, IF(COUNTRY_INFO!$K135=1, COUNTRY_INFO!$F135*0.33, IF(COUNTRY_INFO!$K135=2, COUNTRY_INFO!$F135*0.5, COUNTRY_INFO!$F135))), 0))","v":8083.35},{"$f":"IF(INTRO!$E$43=\"Non-endemic\", 0, IF(COUNTRY_INFO!$K135>0, IF(COUNTRY_INFO!$K135=4, 0, IF(COUNTRY_INFO!$K135=1, 0, IF(COUNTRY_INFO!$K135=2, COUNTRY_INFO!$G135*0.2, COUNTRY_INFO!$G135))), 0))","v":0},8083.35,{"$f":"IF(INTRO!$E$43=\"Non-endemic\", \"Not required\", COUNTRY_INFO!S135)","v":1},"Yes",{"$f":"IF($D135=0,0,IF(AND($G135>0,$H135<>\"Yes\"),D135,IF(AND($G135>0,$H135=\"Yes\"),COUNTRY_INFO!$F135,0)))","v":24495},null,0,24495,61237.5,0,61237.5,null,61237.5,62]
[{"$f":"IF(INTRO!$E$43=\"Non-endemic\",\" \", IF(COUNTRY_INFO!A136=0,\" \",COUNTRY_INFO!A136))","v":"Ghana"},{"$f":"IF(INTRO!$E$43=\"Non-endemic\",\" \", IF(COUNTRY_INFO!B136=0,\" \",COUNTRY_INFO!B136))","v":"Northern"},{"$f":"IF(INTRO!$E$43=\"Non-endemic\",\" \", IF(COUNTRY_INFO!C136=0,\" \",COUNTRY_INFO!C136))","v":"Kpandai"},{"$f":"IF(INTRO!$E$43=\"Non-endemic\", 0, IF(COUNTRY_INFO!$K136>0, IF(COUNTRY_INFO!$K136=4, 0, IF(COUNTRY_INFO!$K136=1, COUNTRY_INFO!$F136*0.33, IF(COUNTRY_INFO!$K136=2, COUNTRY_INFO!$F136*0.5, COUNTRY_INFO!$F136))), 0))","v":34302},{"$f":"IF(INTRO!$E$43=\"Non-endemic\", 0, IF(COUNTRY_INFO!$K136>0, IF(COUNTRY_INFO!$K136=4, 0, IF(COUNTRY_INFO!$K136=1, 0, IF(COUNTRY_INFO!$K136=2, COUNTRY_INFO!$G136*0.2, COUNTRY_INFO!$G136))), 0))","v":86384},120686,{"$f":"IF(INTRO!$E$43=\"Non-endemic\", \"Not required\", COUNTRY_INFO!S136)","v":1},"Yes",{"$f":"IF($D136=0,0,IF(AND($G136>0,$H136<>\"Yes\"),D136,IF(AND($G136>0,$H136=\"Yes\"),COUNTRY_INFO!$F136,0)))","v":34302},null,86384,120686,85755,259152,85755,null,85755,86]
[{"$f":"IF(INTRO!$E$43=\"Non-endemic\",\" \", IF(COUNTRY_INFO!A137=0,\" \",COUNTRY_INFO!A137))","v":"Ghana"},{"$f":"IF(INTRO!$E$43=\"Non-endemic\",\" \", IF(COUNTRY_INFO!B137=0,\" \",COUNTRY_INFO!B137))","v":"Northern"},{"$f":"IF(INTRO!$E$43=\"Non-endemic\",\" \", IF(COUNTRY_INFO!C137=0,\" \",COUNTRY_INFO!C137))","v":"Nanumba North"},{"$f":"IF(INTRO!$E$43=\"Non-endemic\", 0, IF(COUNTRY_INFO!$K137>0, IF(COUNTRY_INFO!$K137=4, 0, IF(COUNTRY_INFO!$K137=1, COUNTRY_INFO!$F137*0.33, IF(COUNTRY_INFO!$K137=2, COUNTRY_INFO!$F137*0.5, COUNTRY_INFO!$F137))), 0))","v":22315.5},{"$f":"IF(INTRO!$E$43=\"Non-endemic\", 0, IF(COUNTRY_INFO!$K137>0, IF(COUNTRY_INFO!$K137=4, 0, IF(COUNTRY_INFO!$K137=1, 0, IF(COUNTRY_INFO!$K137=2, COUNTRY_INFO!$G137*0.2, COUNTRY_INFO!$G137))), 0))","v":22479.600000000002},{"$f":"SUM(D137:E137)","v":44795.100000000006},{"$f":"IF(INTRO!$E$43=\"Non-endemic\", \"Not required\", COUNTRY_INFO!S137)","v":1},"Yes",{"$f":"IF($D137=0,0,IF(AND($G137>0,$H137<>\"Yes\"),D137,IF(AND($G137>0,$H137=\"Yes\"),COUNTRY_INFO!$F137,0)))","v":44631},null,{"$f":"IF($G137>0,E137, 0)","v":22479.600000000002},{"$f":"IF($J137=0,SUM(I137,K137),SUM(J137,K137))","v":67110.600000000006},{"$f":"IF($J137=0,$I137*2.5,$J137*2.5)","v":111577.5},{"$f":"$K137*3","v":67438.8},{"$f":"M137","v":111577.5},null,{"$f":"IF($O137>$P137,O137-P137,0)","v":111577.5},{"$f":"ROUNDUP($O137/1000,0)","v":112}]
[{"$f":"IF(INTRO!$E$43=\"Non-endemic\",\" \", IF(COUNTRY_INFO!A138=0,\" \",COUNTRY_INFO!A138))","v":"Ghana"},{"$f":"IF(INTRO!$E$43=\"Non-endemic\",\" \", IF(COUNTRY_INFO!B138=0,\" \",COUNTRY_INFO!B138))","v":"Northern"},{"$f":"IF(INTRO!$E$43=\"Non-endemic\",\" \", IF(COUNTRY_INFO!C138=0,\" \",COUNTRY_INFO!C138))","v":"Nanumba South"},{"$f":"IF(INTRO!$E$43=\"Non-endemic\", 0, IF(COUNTRY_INFO!$K138>0, IF(COUNTRY_INFO!$K138=4, 0, IF(COUNTRY_INFO!$K138=1, COUNTRY_INFO!$F138*0.33, IF(COUNTRY_INFO!$K138=2, COUNTRY_INFO!$F138*0.5, COUNTRY_INFO!$F138))), 0))","v":14731},{"$f":"IF(INTRO!$E$43=\"Non-endemic\", 0, IF(COUNTRY_INFO!$K138>0, IF(COUNTRY_INFO!$K138=4, 0, IF(COUNTRY_INFO!$K138=1, 0, IF(COUNTRY_INFO!$K138=2, COUNTRY_INFO!$G138*0.2, COUNTRY_INFO!$G138))), 0))","v":14839.400000000001},29570.400000000001,{"$f":"IF(INTRO!$E$43=\"Non-endemic\", \"Not required\", COUNTRY_INFO!S138)","v":1},"Yes",{"$f":"IF($D138=0,0,IF(AND($G138>0,$H138<>\"Yes\"),D138,IF(AND($G138>0,$H138=\"Yes\"),COUNTRY_INFO!$F138,0)))","v":29462},null,14839.400000000001,44301.4,73655,44518.200000000004,73655,null,73655,74]
[{"$f":"IF(INTRO!$E$43=\"Non-endemic\",\" \", IF(COUNTRY_INFO!A139=0,\" \",COUNTRY_INFO!A139))","v":"Ghana"},{"$f":"IF(INTRO!$E$43=\"Non-endemic\",\" \", IF(COUNTRY_INFO!B139=0,\" \",COUNTRY_INFO!B139))","v":"Northern"},{"$f":"IF(INTRO!$E$43=\"Non-endemic\",\" \", IF(COUNTRY_INFO!C139=0,\" \",COUNTRY_INFO!C139))","v":"Saboba"},{"$f":"IF(INTRO!$E$43=\"Non-endemic\", 0, IF(COUNTRY_INFO!$K139>0, IF(COUNTRY_INFO!$K139=4, 0, IF(COUNTRY_INFO!$K139=1, COUNTRY_INFO!$F139*0.33, IF(COUNTRY_INFO!$K139=2, COUNTRY_INFO!$F139*0.5, COUNTRY_INFO!$F139))), 0))","v":6834.96},{"$f":"IF(INTRO!$E$43=\"Non-endemic\", 0, IF(COUNTRY_INFO!$K139>0, IF(COUNTRY_INFO!$K139=4, 0, IF(COUNTRY_INFO!$K139=1, 0, IF(COUNTRY_INFO!$K139=2, COUNTRY_INFO!$G139*0.2, COUNTRY_INFO!$G139))), 0))","v":0},6834.96,{"$f":"IF(INTRO!$E$43=\"Non-endemic\", \"Not required\", COUNTRY_INFO!S139)","v":1},"Yes",{"$f":"IF($D139=0,0,IF(AND($G139>0,$H139<>\"Yes\"),D139,IF(AND($G139>0,$H139=\"Yes\"),COUNTRY_INFO!$F139,0)))","v":20712},null,0,20712,51780,0,51780,null,51780,52]
[{"$f":"IF(INTRO!$E$43=\"Non-endemic\",\" \", IF(COUNTRY_INFO!A140=0,\" \",COUNTRY_INFO!A140))","v":"Ghana"},{"$f":"IF(INTRO!$E$43=\"Non-endemic\",\" \", IF(COUNTRY_INFO!B140=0,\" \",COUNTRY_INFO!B140))","v":"Northern"},{"$f":"IF(INTRO!$E$43=\"Non-endemic\",\" \", IF(COUNTRY_INFO!C140=0,\" \",COUNTRY_INFO!C140))","v":"Savelugu-Nanton"},{"$f":"IF(INTRO!$E$43=\"Non-endemic\", 0, IF(COUNTRY_INFO!$K140>0, IF(COUNTRY_INFO!$K140=4, 0, IF(COUNTRY_INFO!$K140=1, COUNTRY_INFO!$F140*0.33, IF(COUNTRY_INFO!$K140=2, COUNTRY_INFO!$F140*0.5, COUNTRY_INFO!$F140))), 0))","v":14488.980000000001},{"$f":"IF(INTRO!$E$43=\"Non-endemic\", 0, IF(COUNTRY_INFO!$K140>0, IF(COUNTRY_INFO!$K140=4, 0, IF(COUNTRY_INFO!$K140=1, 0, IF(COUNTRY_INFO!$K140=2, COUNTRY_INFO!$G140*0.2, COUNTRY_INFO!$G140))), 0))","v":0},14488.980000000001,{"$f":"IF(INTRO!$E$43=\"Non-endemic\", \"Not required\", COUNTRY_INFO!S140)","v":1},"Yes",{"$f":"IF($D140=0,0,IF(AND($G140>0,$H140<>\"Yes\"),D140,IF(AND($G140>0,$H140=\"Yes\"),COUNTRY_INFO!$F140,0)))","v":43906},null,0,43906,109765,0,109765,null,109765,110]
[{"$f":"IF(INTRO!$E$43=\"Non-endemic\",\" \", IF(COUNTRY_INFO!A141=0,\" \",COUNTRY_INFO!A141))","v":"Ghana"},{"$f":"IF(INTRO!$E$43=\"Non-endemic\",\" \", IF(COUNTRY_INFO!B141=0,\" \",COUNTRY_INFO!B141))","v":"Northern"},{"$f":"IF(INTRO!$E$43=\"Non-endemic\",\" \", IF(COUNTRY_INFO!C141=0,\" \",COUNTRY_INFO!C141))","v":"Sawla-Tuna-Kalba"},{"$f":"IF(INTRO!$E$43=\"Non-endemic\", 0, IF(COUNTRY_INFO!$K141>0, IF(COUNTRY_INFO!$K141=4, 0, IF(COUNTRY_INFO!$K141=1, COUNTRY_INFO!$F141*0.33, IF(COUNTRY_INFO!$K141=2, COUNTRY_INFO!$F141*0.5, COUNTRY_INFO!$F141))), 0))","v":10388.4},{"$f":"IF(INTRO!$E$43=\"Non-endemic\", 0, IF(COUNTRY_INFO!$K141>0, IF(COUNTRY_INFO!$K141=4, 0, IF(COUNTRY_INFO!$K141=1, 0, IF(COUNTRY_INFO!$K141=2, COUNTRY_INFO!$G141*0.2, COUNTRY_INFO!$G141))), 0))","v":0},10388.4,{"$f":"IF(INTRO!$E$43=\"Non-endemic\", \"Not required\", COUNTRY_INFO!S141)","v":1},"Yes",{"$f":"IF($D141=0,0,IF(AND($G141>0,$H141<>\"Yes\"),D141,IF(AND($G141>0,$H141=\"Yes\"),COUNTRY_INFO!$F141,0)))","v":31480},null,0,31480,78700,0,78700,null,78700,79]
[{"$f":"IF(INTRO!$E$43=\"Non-endemic\",\" \", IF(COUNTRY_INFO!A142=0,\" \",COUNTRY_INFO!A142))","v":"Ghana"},{"$f":"IF(INTRO!$E$43=\"Non-endemic\",\" \", IF(COUNTRY_INFO!B142=0,\" \",COUNTRY_INFO!B142))","v":"Northern"},{"$f":"IF(INTRO!$E$43=\"Non-endemic\",\" \", IF(COUNTRY_INFO!C142=0,\" \",COUNTRY_INFO!C142))","v":"Tamale"},{"$f":"IF(INTRO!$E$43=\"Non-endemic\", 0, IF(COUNTRY_INFO!$K142>0, IF(COUNTRY_INFO!$K142=4, 0, IF(COUNTRY_INFO!$K142=1, COUNTRY_INFO!$F142*0.33, IF(COUNTRY_INFO!$K142=2, COUNTRY_INFO!$F142*0.5, COUNTRY_INFO!$F142))), 0))","v":23223.75},{"$f":"IF(INTRO!$E$43=\"Non-endemic\", 0, IF(COUNTRY_INFO!$K142>0, IF(COUNTRY_INFO!$K142=4, 0, IF(COUNTRY_INFO!$K142=1, 0, IF(COUNTRY_INFO!$K142=2, COUNTRY_INFO!$G142*0.2, COUNTRY_INFO!$G142))), 0))","v":0},23223.75,{"$f":"IF(INTRO!$E$43=\"Non-endemic\", \"Not required\", COUNTRY_INFO!S142)","v":0},null,{"$f":"IF($D142=0,0,IF(AND($G142>0,$H142<>\"Yes\"),D142,IF(AND($G142>0,$H142=\"Yes\"),COUNTRY_INFO!$F142,0)))","v":0},null,0,0,0,0,0,null,0,0]
[{"$f":"IF(INTRO!$E$43=\"Non-endemic\",\" \", IF(COUNTRY_INFO!A143=0,\" \",COUNTRY_INFO!A143))","v":"Ghana"},{"$f":"IF(INTRO!$E$43=\"Non-endemic\",\" \", IF(COUNTRY_INFO!B143=0,\" \",COUNTRY_INFO!B143))","v":"Northern"},{"$f":"IF(INTRO!$E$43=\"Non-endemic\",\" \", IF(COUNTRY_INFO!C143=0,\" \",COUNTRY_INFO!C143))","v":"Sagnarigu"},{"$f":"IF(INTRO!$E$43=\"Non-endemic\", 0, IF(COUNTRY_INFO!$K143>0, IF(COUNTRY_INFO!$K143=4, 0, IF(COUNTRY_INFO!$K143=1, COUNTRY_INFO!$F143*0.33, IF(COUNTRY_INFO!$K143=2, COUNTRY_INFO!$F143*0.5, COUNTRY_INFO!$F143))), 0))","v":15406.050000000001},{"$f":"IF(INTRO!$E$43=\"Non-endemic\", 0, IF(COUNTRY_INFO!$K143>0, IF(COUNTRY_INFO!$K143=4, 0, IF(COUNTRY_INFO!$K143=1, 0, IF(COUNTRY_INFO!$K143=2, COUNTRY_INFO!$G143*0.2, COUNTRY_INFO!$G143))), 0))","v":0},15406.050000000001,{"$f":"IF(INTRO!$E$43=\"Non-endemic\", \"Not required\", COUNTRY_INFO!S143)","v":1},"Yes",{"$f":"IF($D143=0,0,IF(AND($G143>0,$H143<>\"Yes\"),D143,IF(AND($G143>0,$H143=\"Yes\"),COUNTRY_INFO!$F143,0)))","v":46685},null,0,46685,116712.5,0,116712.5,null,116712.5,117]
[{"$f":"IF(INTRO!$E$43=\"Non-endemic\",\" \", IF(COUNTRY_INFO!A144=0,\" \",COUNTRY_INFO!A144))","v":"Ghana"},{"$f":"IF(INTRO!$E$43=\"Non-endemic\",\" \", IF(COUNTRY_INFO!B144=0,\" \",COUNTRY_INFO!B144))","v":"Northern"},{"$f":"IF(INTRO!$E$43=\"Non-endemic\",\" \", IF(COUNTRY_INFO!C144=0,\" \",COUNTRY_INFO!C144))","v":"Tolon"},{"$f":"IF(INTRO!$E$43=\"Non-endemic\", 0, IF(COUNTRY_INFO!$K144>0, IF(COUNTRY_INFO!$K144=4, 0, IF(COUNTRY_INFO!$K144=1, COUNTRY_INFO!$F144*0.33, IF(COUNTRY_INFO!$K144=2, COUNTRY_INFO!$F144*0.5, COUNTRY_INFO!$F144))), 0))","v":7639.5},{"$f":"IF(INTRO!$E$43=\"Non-endemic\", 0, IF(COUNTRY_INFO!$K144>0, IF(COUNTRY_INFO!$K144=4, 0, IF(COUNTRY_INFO!$K144=1, 0, IF(COUNTRY_INFO!$K144=2, COUNTRY_INFO!$G144*0.2, COUNTRY_INFO!$G144))), 0))","v":0},7639.5,{"$f":"IF(INTRO!$E$43=\"Non-endemic\", \"Not required\", COUNTRY_INFO!S144)","v":1},"Yes",{"$f":"IF($D144=0,0,IF(AND($G144>0,$H144<>\"Yes\"),D144,IF(AND($G144>0,$H144=\"Yes\"),COUNTRY_INFO!$F144,0)))","v":23150},null,0,23150,57875,0,57875,null,57875,58]
[{"$f":"IF(INTRO!$E$43=\"Non-endemic\",\" \", IF(COUNTRY_INFO!A145=0,\" \",COUNTRY_INFO!A145))","v":"Ghana"},{"$f":"IF(INTRO!$E$43=\"Non-endemic\",\" \", IF(COUNTRY_INFO!B145=0,\" \",COUNTRY_INFO!B145))","v":"Northern"},{"$f":"IF(INTRO!$E$43=\"Non-endemic\",\" \", IF(COUNTRY_INFO!C145=0,\" \",COUNTRY_INFO!C145))","v":"Kumbungu"},{"$f":"IF(INTRO!$E$43=\"Non-endemic\", 0, IF(COUNTRY_INFO!$K145>0, IF(COUNTRY_INFO!$K145=4, 0, IF(COUNTRY_INFO!$K145=1, COUNTRY_INFO!$F145*0.33, IF(COUNTRY_INFO!$K145=2, COUNTRY_INFO!$F145*0.5, COUNTRY_INFO!$F145))), 0))","v":4045.8},{"$f":"IF(INTRO!$E$43=\"Non-endemic\", 0, IF(COUNTRY_INFO!$K145>0, IF(COUNTRY_INFO!$K145=4, 0, IF(COUNTRY_INFO!$K145=1, 0, IF(COUNTRY_INFO!$K145=2, COUNTRY_INFO!$G145*0.2, COUNTRY_INFO!$G145))), 0))","v":0},4045.8,{"$f":"IF(INTRO!$E$43=\"Non-endemic\", \"Not required\", COUNTRY_INFO!S145)","v":1},"Yes",{"$f":"IF($D145=0,0,IF(AND($G145>0,$H145<>\"Yes\"),D145,IF(AND($G145>0,$H145=\"Yes\"),COUNTRY_INFO!$F145,0)))","v":12260},null,0,12260,30650,0,30650,null,30650,31]
[{"$f":"IF(INTRO!$E$43=\"Non-endemic\",\" \", IF(COUNTRY_INFO!A146=0,\" \",COUNTRY_INFO!A146))","v":"Ghana"},{"$f":"IF(INTRO!$E$43=\"Non-endemic\",\" \", IF(COUNTRY_INFO!B146=0,\" \",COUNTRY_INFO!B146))","v":"Northern"},{"$f":"IF(INTRO!$E$43=\"Non-endemic\",\" \", IF(COUNTRY_INFO!C146=0,\" \",COUNTRY_INFO!C146))","v":"West Gonja"},{"$f":"IF(INTRO!$E$43=\"Non-endemic\", 0, IF(COUNTRY_INFO!$K146>0, IF(COUNTRY_INFO!$K146=4, 0, IF(COUNTRY_INFO!$K146=1, COUNTRY_INFO!$F146*0.33, IF(COUNTRY_INFO!$K146=2, COUNTRY_INFO!$F146*0.5, COUNTRY_INFO!$F146))), 0))","v":4283.7300000000005},{"$f":"IF(INTRO!$E$43=\"Non-endemic\", 0, IF(COUNTRY_INFO!$K146>0, IF(COUNTRY_INFO!$K146=4, 0, IF(COUNTRY_INFO!$K146=1, 0, IF(COUNTRY_INFO!$K146=2, COUNTRY_INFO!$G146*0.2, COUNTRY_INFO!$G146))), 0))","v":0},4283.7300000000005,{"$f":"IF(INTRO!$E$43=\"Non-endemic\", \"Not required\", COUNTRY_INFO!S146)","v":1},"Yes",{"$f":"IF($D146=0,0,IF(AND($G146>0,$H146<>\"Yes\"),D146,IF(AND($G146>0,$H146=\"Yes\"),COUNTRY_INFO!$F146,0)))","v":12981},null,0,12981,32452.5,0,32452.5,null,32452.5,33]
[{"$f":"IF(INTRO!$E$43=\"Non-endemic\",\" \", IF(COUNTRY_INFO!A147=0,\" \",COUNTRY_INFO!A147))","v":"Ghana"},{"$f":"IF(INTRO!$E$43=\"Non-endemic\",\" \", IF(COUNTRY_INFO!B147=0,\" \",COUNTRY_INFO!B147))","v":"Northern"},{"$f":"IF(INTRO!$E$43=\"Non-endemic\",\" \", IF(COUNTRY_INFO!C147=0,\" \",COUNTRY_INFO!C147))","v":"North Gonja"},{"$f":"IF(INTRO!$E$43=\"Non-endemic\", 0, IF(COUNTRY_INFO!$K147>0, IF(COUNTRY_INFO!$K147=4, 0, IF(COUNTRY_INFO!$K147=1, COUNTRY_INFO!$F147*0.33, IF(COUNTRY_INFO!$K147=2, COUNTRY_INFO!$F147*0.5, COUNTRY_INFO!$F147))), 0))","v":4529.91},{"$f":"IF(INTRO!$E$43=\"Non-endemic\", 0, IF(COUNTRY_INFO!$K147>0, IF(COUNTRY_INFO!$K147=4, 0, IF(COUNTRY_INFO!$K147=1, 0, IF(COUNTRY_INFO!$K147=2, COUNTRY_INFO!$G147*0.2, COUNTRY_INFO!$G147))), 0))","v":0},4529.91,{"$f":"IF(INTRO!$E$43=\"Non-endemic\", \"Not required\", COUNTRY_INFO!S147)","v":1},"Yes",{"$f":"IF($D147=0,0,IF(AND($G147>0,$H147<>\"Yes\"),D147,IF(AND($G147>0,$H147=\"Yes\"),COUNTRY_INFO!$F147,0)))","v":13727},null,0,13727,34317.5,0,34317.5,null,34317.5,35]
[{"$f":"IF(INTRO!$E$43=\"Non-endemic\",\" \", IF(COUNTRY_INFO!A148=0,\" \",COUNTRY_INFO!A148))","v":"Ghana"},{"$f":"IF(INTRO!$E$43=\"Non-endemic\",\" \", IF(COUNTRY_INFO!B148=0,\" \",COUNTRY_INFO!B148))","v":"Northern"},{"$f":"IF(INTRO!$E$43=\"Non-endemic\",\" \", IF(COUNTRY_INFO!C148=0,\" \",COUNTRY_INFO!C148))","v":"West Mamprusi"},{"$f":"IF(INTRO!$E$43=\"Non-endemic\", 0, IF(COUNTRY_INFO!$K148>0, IF(COUNTRY_INFO!$K148=4, 0, IF(COUNTRY_INFO!$K148=1, COUNTRY_INFO!$F148*0.33, IF(COUNTRY_INFO!$K148=2, COUNTRY_INFO!$F148*0.5, COUNTRY_INFO!$F148))), 0))","v":19090},{"$f":"IF(INTRO!$E$43=\"Non-endemic\", 0, IF(COUNTRY_INFO!$K148>0, IF(COUNTRY_INFO!$K148=4, 0, IF(COUNTRY_INFO!$K148=1, 0, IF(COUNTRY_INFO!$K148=2, COUNTRY_INFO!$G148*0.2, COUNTRY_INFO!$G148))), 0))","v":19230},38320,{"$f":"IF(INTRO!$E$43=\"Non-endemic\", \"Not required\", COUNTRY_INFO!S148)","v":1},"Yes",{"$f":"IF($D148=0,0,IF(AND($G148>0,$H148<>\"Yes\"),D148,IF(AND($G148>0,$H148=\"Yes\"),COUNTRY_INFO!$F148,0)))","v":38180},null,19230,57410,95450,57690,95450,null,95450,96]
[{"$f":"IF(INTRO!$E$43=\"Non-endemic\",\" \", IF(COUNTRY_INFO!A149=0,\" \",COUNTRY_INFO!A149))","v":"Ghana"},{"$f":"IF(INTRO!$E$43=\"Non-endemic\",\" \", IF(COUNTRY_INFO!B149=0,\" \",COUNTRY_INFO!B149))","v":"Northern"},{"$f":"IF(INTRO!$E$43=\"Non-endemic\",\" \", IF(COUNTRY_INFO!C149=0,\" \",COUNTRY_INFO!C149))","v":"Mamprugo Moaduri"},{"$f":"IF(INTRO!$E$43=\"Non-endemic\", 0, IF(COUNTRY_INFO!$K149>0, IF(COUNTRY_INFO!$K149=4, 0, IF(COUNTRY_INFO!$K149=1, COUNTRY_INFO!$F149*0.33, IF(COUNTRY_INFO!$K149=2, COUNTRY_INFO!$F149*0.5, COUNTRY_INFO!$F149))), 0))","v":7391},{"$f":"IF(INTRO!$E$43=\"Non-endemic\", 0, IF(COUNTRY_INFO!$K149>0, IF(COUNTRY_INFO!$K149=4, 0, IF(COUNTRY_INFO!$K149=1, 0, IF(COUNTRY_INFO!$K149=2, COUNTRY_INFO!$G149*0.2, COUNTRY_INFO!$G149))), 0))","v":7445.4000000000005},14836.400000000001,{"$f":"IF(INTRO!$E$43=\"Non-endemic\", \"Not required\", COUNTRY_INFO!S149)","v":1},"Yes",{"$f":"IF($D149=0,0,IF(AND($G149>0,$H149<>\"Yes\"),D149,IF(AND($G149>0,$H149=\"Yes\"),COUNTRY_INFO!$F149,0)))","v":14782},null,7445.4000000000005,22227.4,36955,22336.2,36955,null,36955,37]
[{"$f":"IF(INTRO!$E$43=\"Non-endemic\",\" \", IF(COUNTRY_INFO!A150=0,\" \",COUNTRY_INFO!A150))","v":"Ghana"},{"$f":"IF(INTRO!$E$43=\"Non-endemic\",\" \", IF(COUNTRY_INFO!B150=0,\" \",COUNTRY_INFO!B150))","v":"Northern"},{"$f":"IF(INTRO!$E$43=\"Non-endemic\",\" \", IF(COUNTRY_INFO!C150=0,\" \",COUNTRY_INFO!C150))","v":"Yendi"},{"$f":"IF(INTRO!$E$43=\"Non-endemic\", 0, IF(COUNTRY_INFO!$K150>0, IF(COUNTRY_INFO!$K150=4, 0, IF(COUNTRY_INFO!$K150=1, COUNTRY_INFO!$F150*0.33, IF(COUNTRY_INFO!$K150=2, COUNTRY_INFO!$F150*0.5, COUNTRY_INFO!$F150))), 0))","v":12302.07},{"$f":"IF(INTRO!$E$43=\"Non-endemic\", 0, IF(COUNTRY_INFO!$K150>0, IF(COUNTRY_INFO!$K150=4, 0, IF(COUNTRY_INFO!$K150=1, 0, IF(COUNTRY_INFO!$K150=2, COUNTRY_INFO!$G150*0.2, COUNTRY_INFO!$G150))), 0))","v":0},12302.07,{"$f":"IF(INTRO!$E$43=\"Non-endemic\", \"Not required\", COUNTRY_INFO!S150)","v":1},"Yes",{"$f":"IF($D150=0,0,IF(AND($G150>0,$H150<>\"Yes\"),D150,IF(AND($G150>0,$H150=\"Yes\"),COUNTRY_INFO!$F150,0)))","v":37279},null,0,37279,93197.5,0,93197.5,null,93197.5,94]
[{"$f":"IF(INTRO!$E$43=\"Non-endemic\",\" \", IF(COUNTRY_INFO!A151=0,\" \",COUNTRY_INFO!A151))","v":"Ghana"},{"$f":"IF(INTRO!$E$43=\"Non-endemic\",\" \", IF(COUNTRY_INFO!B151=0,\" \",COUNTRY_INFO!B151))","v":"Northern"},{"$f":"IF(INTRO!$E$43=\"Non-endemic\",\" \", IF(COUNTRY_INFO!C151=0,\" \",COUNTRY_INFO!C151))","v":"Mion"},{"$f":"IF(INTRO!$E$43=\"Non-endemic\", 0, IF(COUNTRY_INFO!$K151>0, IF(COUNTRY_INFO!$K151=4, 0, IF(COUNTRY_INFO!$K151=1, COUNTRY_INFO!$F151*0.33, IF(COUNTRY_INFO!$K151=2, COUNTRY_INFO!$F151*0.5, COUNTRY_INFO!$F151))), 0))","v":8460.5400000000009},{"$f":"IF(INTRO!$E$43=\"Non-endemic\", 0, IF(COUNTRY_INFO!$K151>0, IF(COUNTRY_INFO!$K151=4, 0, IF(COUNTRY_INFO!$K151=1, 0, IF(COUNTRY_INFO!$K151=2, COUNTRY_INFO!$G151*0.2, COUNTRY_INFO!$G151))), 0))","v":0},8460.5400000000009,{"$f":"IF(INTRO!$E$43=\"Non-endemic\", \"Not required\", COUNTRY_INFO!S151)","v":1},"Yes",{"$f":"IF($D151=0,0,IF(AND($G151>0,$H151<>\"Yes\"),D151,IF(AND($G151>0,$H151=\"Yes\"),COUNTRY_INFO!$F151,0)))","v":25638},null,0,25638,64095,0,64095,null,64095,65]
[{"$f":"IF(INTRO!$E$43=\"Non-endemic\",\" \", IF(COUNTRY_INFO!A152=0,\" \",COUNTRY_INFO!A152))","v":"Ghana"},{"$f":"IF(INTRO!$E$43=\"Non-endemic\",\" \", IF(COUNTRY_INFO!B152=0,\" \",COUNTRY_INFO!B152))","v":"Northern"},{"$f":"IF(INTRO!$E$43=\"Non-endemic\",\" \", IF(COUNTRY_INFO!C152=0,\" \",COUNTRY_INFO!C152))","v":"Zabzugu"},{"$f":"IF(INTRO!$E$43=\"Non-endemic\", 0, IF(COUNTRY_INFO!$K152>0, IF(COUNTRY_INFO!$K152=4, 0, IF(COUNTRY_INFO!$K152=1, COUNTRY_INFO!$F152*0.33, IF(COUNTRY_INFO!$K152=2, COUNTRY_INFO!$F152*0.5, COUNTRY_INFO!$F152))), 0))","v":10163},{"$f":"IF(INTRO!$E$43=\"Non-endemic\", 0, IF(COUNTRY_INFO!$K152>0, IF(COUNTRY_INFO!$K152=4, 0, IF(COUNTRY_INFO!$K152=1, 0, IF(COUNTRY_INFO!$K152=2, COUNTRY_INFO!$G152*0.2, COUNTRY_INFO!$G152))), 0))","v":10237.6},20400.599999999999,{"$f":"IF(INTRO!$E$43=\"Non-endemic\", \"Not required\", COUNTRY_INFO!S152)","v":1},"Yes",{"$f":"IF($D152=0,0,IF(AND($G152>0,$H152<>\"Yes\"),D152,IF(AND($G152>0,$H152=\"Yes\"),COUNTRY_INFO!$F152,0)))","v":20326},null,10237.6,30563.599999999999,50815,30712.800000000003,50815,null,50815,51]
[{"$f":"IF(INTRO!$E$43=\"Non-endemic\",\" \", IF(COUNTRY_INFO!A153=0,\" \",COUNTRY_INFO!A153))","v":"Ghana"},{"$f":"IF(INTRO!$E$43=\"Non-endemic\",\" \", IF(COUNTRY_INFO!B153=0,\" \",COUNTRY_INFO!B153))","v":"Northern"},{"$f":"IF(INTRO!$E$43=\"Non-endemic\",\" \", IF(COUNTRY_INFO!C153=0,\" \",COUNTRY_INFO!C153))","v":"Tatale Sangule"},{"$f":"IF(INTRO!$E$43=\"Non-endemic\", 0, IF(COUNTRY_INFO!$K153>0, IF(COUNTRY_INFO!$K153=4, 0, IF(COUNTRY_INFO!$K153=1, COUNTRY_INFO!$F153*0.33, IF(COUNTRY_INFO!$K153=2, COUNTRY_INFO!$F153*0.5, COUNTRY_INFO!$F153))), 0))","v":9358},{"$f":"IF(INTRO!$E$43=\"Non-endemic\", 0, IF(COUNTRY_INFO!$K153>0, IF(COUNTRY_INFO!$K153=4, 0, IF(COUNTRY_INFO!$K153=1, 0, IF(COUNTRY_INFO!$K153=2, COUNTRY_INFO!$G153*0.2, COUNTRY_INFO!$G153))), 0))","v":9426.8000000000011},18784.800000000003,{"$f":"IF(INTRO!$E$43=\"Non-endemic\", \"Not required\", COUNTRY_INFO!S153)","v":1},"Yes",{"$f":"IF($D153=0,0,IF(AND($G153>0,$H153<>\"Yes\"),D153,IF(AND($G153>0,$H153=\"Yes\"),COUNTRY_INFO!$F153,0)))","v":18716},null,9426.8000000000011,28142.800000000003,46790,28280.400000000001,46790,null,46790,47]
[{"$f":"IF(INTRO!$E$43=\"Non-endemic\",\" \", IF(COUNTRY_INFO!A154=0,\" \",COUNTRY_INFO!A154))","v":"Ghana"},{"$f":"IF(INTRO!$E$43=\"Non-endemic\",\" \", IF(COUNTRY_INFO!B154=0,\" \",COUNTRY_INFO!B154))","v":"Upper East"},{"$f":"IF(INTRO!$E$43=\"Non-endemic\",\" \", IF(COUNTRY_INFO!C154=0,\" \",COUNTRY_INFO!C154))","v":"Bawku Municipal"},{"$f":"IF(INTRO!$E$43=\"Non-endemic\", 0, IF(COUNTRY_INFO!$K154>0, IF(COUNTRY_INFO!$K154=4, 0, IF(COUNTRY_INFO!$K154=1, COUNTRY_INFO!$F154*0.33, IF(COUNTRY_INFO!$K154=2, COUNTRY_INFO!$F154*0.5, COUNTRY_INFO!$F154))), 0))","v":13593},{"$f":"IF(INTRO!$E$43=\"Non-endemic\", 0, IF(COUNTRY_INFO!$K154>0, IF(COUNTRY_INFO!$K154=4, 0, IF(COUNTRY_INFO!$K154=1, 0, IF(COUNTRY_INFO!$K154=2, COUNTRY_INFO!$G154*0.2, COUNTRY_INFO!$G154))), 0))","v":13693},27286,{"$f":"IF(INTRO!$E$43=\"Non-endemic\", \"Not required\", COUNTRY_INFO!S154)","v":1},"Yes",{"$f":"IF($D154=0,0,IF(AND($G154>0,$H154<>\"Yes\"),D154,IF(AND($G154>0,$H154=\"Yes\"),COUNTRY_INFO!$F154,0)))","v":27186},null,13693,40879,67965,41079,67965,null,67965,68]
[{"$f":"IF(INTRO!$E$43=\"Non-endemic\",\" \", IF(COUNTRY_INFO!A155=0,\" \",COUNTRY_INFO!A155))","v":"Ghana"},{"$f":"IF(INTRO!$E$43=\"Non-endemic\",\" \", IF(COUNTRY_INFO!B155=0,\" \",COUNTRY_INFO!B155))","v":"Upper East"},{"$f":"IF(INTRO!$E$43=\"Non-endemic\",\" \", IF(COUNTRY_INFO!C155=0,\" \",COUNTRY_INFO!C155))","v":"Pusiga"},{"$f":"IF(INTRO!$E$43=\"Non-endemic\", 0, IF(COUNTRY_INFO!$K155>0, IF(COUNTRY_INFO!$K155=4, 0, IF(COUNTRY_INFO!$K155=1, COUNTRY_INFO!$F155*0.33, IF(COUNTRY_INFO!$K155=2, COUNTRY_INFO!$F155*0.5, COUNTRY_INFO!$F155))), 0))","v":7956.5},{"$f":"IF(INTRO!$E$43=\"Non-endemic\", 0, IF(COUNTRY_INFO!$K155>0, IF(COUNTRY_INFO!$K155=4, 0, IF(COUNTRY_INFO!$K155=1, 0, IF(COUNTRY_INFO!$K155=2, COUNTRY_INFO!$G155*0.2, COUNTRY_INFO!$G155))), 0))","v":8015},15971.5,{"$f":"IF(INTRO!$E$43=\"Non-endemic\", \"Not required\", COUNTRY_INFO!S155)","v":1},"Yes",{"$f":"IF($D155=0,0,IF(AND($G155>0,$H155<>\"Yes\"),D155,IF(AND($G155>0,$H155=\"Yes\"),COUNTRY_INFO!$F155,0)))","v":15913},null,8015,23928,39782.5,24045,39782.5,null,39782.5,40]
[{"$f":"IF(INTRO!$E$43=\"Non-endemic\",\" \", IF(COUNTRY_INFO!A156=0,\" \",COUNTRY_INFO!A156))","v":"Ghana"},{"$f":"IF(INTRO!$E$43=\"Non-endemic\",\" \", IF(COUNTRY_INFO!B156=0,\" \",COUNTRY_INFO!B156))","v":"Upper East"},{"$f":"IF(INTRO!$E$43=\"Non-endemic\",\" \", IF(COUNTRY_INFO!C156=0,\" \",COUNTRY_INFO!C156))","v":"Binduri"},{"$f":"IF(INTRO!$E$43=\"Non-endemic\", 0, IF(COUNTRY_INFO!$K156>0, IF(COUNTRY_INFO!$K156=4, 0, IF(COUNTRY_INFO!$K156=1, COUNTRY_INFO!$F156*0.33, IF(COUNTRY_INFO!$K156=2, COUNTRY_INFO!$F156*0.5, COUNTRY_INFO!$F156))), 0))","v":8494.5},{"$f":"IF(INTRO!$E$43=\"Non-endemic\", 0, IF(COUNTRY_INFO!$K156>0, IF(COUNTRY_INFO!$K156=4, 0, IF(COUNTRY_INFO!$K156=1, 0, IF(COUNTRY_INFO!$K156=2, COUNTRY_INFO!$G156*0.2, COUNTRY_INFO!$G156))), 0))","v":8556.6},17051.099999999999,{"$f":"IF(INTRO!$E$43=\"Non-endemic\", \"Not required\", COUNTRY_INFO!S156)","v":1},"Yes",{"$f":"IF($D156=0,0,IF(AND($G156>0,$H156<>\"Yes\"),D156,IF(AND($G156>0,$H156=\"Yes\"),COUNTRY_INFO!$F156,0)))","v":16989},null,8556.6,25545.599999999999,42472.5,25669.800000000003,42472.5,null,42472.5,43]
[{"$f":"IF(INTRO!$E$43=\"Non-endemic\",\" \", IF(COUNTRY_INFO!A157=0,\" \",COUNTRY_INFO!A157))","v":"Ghana"},{"$f":"IF(INTRO!$E$43=\"Non-endemic\",\" \", IF(COUNTRY_INFO!B157=0,\" \",COUNTRY_INFO!B157))","v":"Upper East"},{"$f":"IF(INTRO!$E$43=\"Non-endemic\",\" \", IF(COUNTRY_INFO!C157=0,\" \",COUNTRY_INFO!C157))","v":"Bawku West"},{"$f":"IF(INTRO!$E$43=\"Non-endemic\", 0, IF(COUNTRY_INFO!$K157>0, IF(COUNTRY_INFO!$K157=4, 0, IF(COUNTRY_INFO!$K157=1, COUNTRY_INFO!$F157*0.33, IF(COUNTRY_INFO!$K157=2, COUNTRY_INFO!$F157*0.5, COUNTRY_INFO!$F157))), 0))","v":12972},{"$f":"IF(INTRO!$E$43=\"Non-endemic\", 0, IF(COUNTRY_INFO!$K157>0, IF(COUNTRY_INFO!$K157=4, 0, IF(COUNTRY_INFO!$K157=1, 0, IF(COUNTRY_INFO!$K157=2, COUNTRY_INFO!$G157*0.2, COUNTRY_INFO!$G157))), 0))","v":13067.2},26039.200000000001,{"$f":"IF(INTRO!$E$43=\"Non-endemic\", \"Not required\", COUNTRY_INFO!S157)","v":1},"Yes",{"$f":"IF($D157=0,0,IF(AND($G157>0,$H157<>\"Yes\"),D157,IF(AND($G157>0,$H157=\"Yes\"),COUNTRY_INFO!$F157,0)))","v":25944},null,13067.2,39011.199999999997,64860,39201.600000000006,64860,null,64860,65]
[{"$f":"IF(INTRO!$E$43=\"Non-endemic\",\" \", IF(COUNTRY_INFO!A158=0,\" \",COUNTRY_INFO!A158))","v":"Ghana"},{"$f":"IF(INTRO!$E$43=\"Non-endemic\",\" \", IF(COUNTRY_INFO!B158=0,\" \",COUNTRY_INFO!B158))","v":"Upper East"},{"$f":"IF(INTRO!$E$43=\"Non-endemic\",\" \", IF(COUNTRY_INFO!C158=0,\" \",COUNTRY_INFO!C158))","v":"Bolgatanga Municipal"},{"$f":"IF(INTRO!$E$43=\"Non-endemic\", 0, IF(COUNTRY_INFO!$K158>0, IF(COUNTRY_INFO!$K158=4, 0, IF(COUNTRY_INFO!$K158=1, COUNTRY_INFO!$F158*0.33, IF(COUNTRY_INFO!$K158=2, COUNTRY_INFO!$F158*0.5, COUNTRY_INFO!$F158))), 0))","v":18147},{"$f":"IF(INTRO!$E$43=\"Non-endemic\", 0, IF(COUNTRY_INFO!$K158>0, IF(COUNTRY_INFO!$K158=4, 0, IF(COUNTRY_INFO!$K158=1, 0, IF(COUNTRY_INFO!$K158=2, COUNTRY_INFO!$G158*0.2, COUNTRY_INFO!$G158))), 0))","v":18280.400000000001},36427.4,{"$f":"IF(INTRO!$E$43=\"Non-endemic\", \"Not required\", COUNTRY_INFO!S158)","v":0},null,{"$f":"IF($D158=0,0,IF(AND($G158>0,$H158<>\"Yes\"),D158,IF(AND($G158>0,$H158=\"Yes\"),COUNTRY_INFO!$F158,0)))","v":0},null,0,0,0,0,0,null,0,0]
[{"$f":"IF(INTRO!$E$43=\"Non-endemic\",\" \", IF(COUNTRY_INFO!A159=0,\" \",COUNTRY_INFO!A159))","v":"Ghana"},{"$f":"IF(INTRO!$E$43=\"Non-endemic\",\" \", IF(COUNTRY_INFO!B159=0,\" \",COUNTRY_INFO!B159))","v":"Upper East"},{"$f":"IF(INTRO!$E$43=\"Non-endemic\",\" \", IF(COUNTRY_INFO!C159=0,\" \",COUNTRY_INFO!C159))","v":"Bongo"},{"$f":"IF(INTRO!$E$43=\"Non-endemic\", 0, IF(COUNTRY_INFO!$K159>0, IF(COUNTRY_INFO!$K159=4, 0, IF(COUNTRY_INFO!$K159=1, COUNTRY_INFO!$F159*0.33, IF(COUNTRY_INFO!$K159=2, COUNTRY_INFO!$F159*0.5, COUNTRY_INFO!$F159))), 0))","v":23326},{"$f":"IF(INTRO!$E$43=\"Non-endemic\", 0, IF(COUNTRY_INFO!$K159>0, IF(COUNTRY_INFO!$K159=4, 0, IF(COUNTRY_INFO!$K159=1, 0, IF(COUNTRY_INFO!$K159=2, COUNTRY_INFO!$G159*0.2, COUNTRY_INFO!$G159))), 0))","v":58743},82069,{"$f":"IF(INTRO!$E$43=\"Non-endemic\", \"Not required\", COUNTRY_INFO!S159)","v":1},"Yes",{"$f":"IF($D159=0,0,IF(AND($G159>0,$H159<>\"Yes\"),D159,IF(AND($G159>0,$H159=\"Yes\"),COUNTRY_INFO!$F159,0)))","v":23326},null,58743,82069,58315,176229,58315,null,58315,59]
[{"$f":"IF(INTRO!$E$43=\"Non-endemic\",\" \", IF(COUNTRY_INFO!A160=0,\" \",COUNTRY_INFO!A160))","v":"Ghana"},{"$f":"IF(INTRO!$E$43=\"Non-endemic\",\" \", IF(COUNTRY_INFO!B160=0,\" \",COUNTRY_INFO!B160))","v":"Upper East"},{"$f":"IF(INTRO!$E$43=\"Non-endemic\",\" \", IF(COUNTRY_INFO!C160=0,\" \",COUNTRY_INFO!C160))","v":"Builsa North"},{"$f":"IF(INTRO!$E$43=\"Non-endemic\", 0, IF(COUNTRY_INFO!$K160>0, IF(COUNTRY_INFO!$K160=4, 0, IF(COUNTRY_INFO!$K160=1, COUNTRY_INFO!$F160*0.33, IF(COUNTRY_INFO!$K160=2, COUNTRY_INFO!$F160*0.5, COUNTRY_INFO!$F160))), 0))","v":7791},{"$f":"IF(INTRO!$E$43=\"Non-endemic\", 0, IF(COUNTRY_INFO!$K160>0, IF(COUNTRY_INFO!$K160=4, 0, IF(COUNTRY_INFO!$K160=1, 0, IF(COUNTRY_INFO!$K160=2, COUNTRY_INFO!$G160*0.2, COUNTRY_INFO!$G160))), 0))","v":7848.2000000000007},15639.2,{"$f":"IF(INTRO!$E$43=\"Non-endemic\", \"Not required\", COUNTRY_INFO!S160)","v":1},"Yes",{"$f":"IF($D160=0,0,IF(AND($G160>0,$H160<>\"Yes\"),D160,IF(AND($G160>0,$H160=\"Yes\"),COUNTRY_INFO!$F160,0)))","v":15582},null,7848.2000000000007,23430.2,38955,23544.600000000002,38955,null,38955,39]
[{"$f":"IF(INTRO!$E$43=\"Non-endemic\",\" \", IF(COUNTRY_INFO!A161=0,\" \",COUNTRY_INFO!A161))","v":"Ghana"},{"$f":"IF(INTRO!$E$43=\"Non-endemic\",\" \", IF(COUNTRY_INFO!B161=0,\" \",COUNTRY_INFO!B161))","v":"Upper East"},{"$f":"IF(INTRO!$E$43=\"Non-endemic\",\" \", IF(COUNTRY_INFO!C161=0,\" \",COUNTRY_INFO!C161))","v":"Builsa South"},{"$f":"IF(INTRO!$E$43=\"Non-endemic\", 0, IF(COUNTRY_INFO!$K161>0, IF(COUNTRY_INFO!$K161=4, 0, IF(COUNTRY_INFO!$K161=1, COUNTRY_INFO!$F161*0.33, IF(COUNTRY_INFO!$K161=2, COUNTRY_INFO!$F161*0.5, COUNTRY_INFO!$F161))), 0))","v":5037},{"$f":"IF(INTRO!$E$43=\"Non-endemic\", 0, IF(COUNTRY_INFO!$K161>0, IF(COUNTRY_INFO!$K161=4, 0, IF(COUNTRY_INFO!$K161=1, 0, IF(COUNTRY_INFO!$K161=2, COUNTRY_INFO!$G161*0.2, COUNTRY_INFO!$G161))), 0))","v":5074},10111,{"$f":"IF(INTRO!$E$43=\"Non-endemic\", \"Not required\", COUNTRY_INFO!S161)","v":1},"Yes",{"$f":"IF($D161=0,0,IF(AND($G161>0,$H161<>\"Yes\"),D161,IF(AND($G161>0,$H161=\"Yes\"),COUNTRY_INFO!$F161,0)))","v":10074},null,5074,15148,25185,15222,25185,null,25185,26]
[{"$f":"IF(INTRO!$E$43=\"Non-endemic\",\" \", IF(COUNTRY_INFO!A162=0,\" \",COUNTRY_INFO!A162))","v":"Ghana"},{"$f":"IF(INTRO!$E$43=\"Non-endemic\",\" \", IF(COUNTRY_INFO!B162=0,\" \",COUNTRY_INFO!B162))","v":"Upper East"},{"$f":"IF(INTRO!$E$43=\"Non-endemic\",\" \", IF(COUNTRY_INFO!C162=0,\" \",COUNTRY_INFO!C162))","v":"Garu-Tempane"},{"$f":"IF(INTRO!$E$43=\"Non-endemic\", 0, IF(COUNTRY_INFO!$K162>0, IF(COUNTRY_INFO!$K162=4, 0, IF(COUNTRY_INFO!$K162=1, COUNTRY_INFO!$F162*0.33, IF(COUNTRY_INFO!$K162=2, COUNTRY_INFO!$F162*0.5, COUNTRY_INFO!$F162))), 0))","v":17933.5},{"$f":"IF(INTRO!$E$43=\"Non-endemic\", 0, IF(COUNTRY_INFO!$K162>0, IF(COUNTRY_INFO!$K162=4, 0, IF(COUNTRY_INFO!$K162=1, 0, IF(COUNTRY_INFO!$K162=2, COUNTRY_INFO!$G162*0.2, COUNTRY_INFO!$G162))), 0))","v":18065.400000000001},35998.9,{"$f":"IF(INTRO!$E$43=\"Non-endemic\", \"Not required\", COUNTRY_INFO!S162)","v":1},"Yes",{"$f":"IF($D162=0,0,IF(AND($G162>0,$H162<>\"Yes\"),D162,IF(AND($G162>0,$H162=\"Yes\"),COUNTRY_INFO!$F162,0)))","v":35867},null,18065.400000000001,53932.4,89667.5,54196.200000000004,89667.5,null,89667.5,90]
[{"$f":"IF(INTRO!$E$43=\"Non-endemic\",\" \", IF(COUNTRY_INFO!A163=0,\" \",COUNTRY_INFO!A163))","v":"Ghana"},{"$f":"IF(INTRO!$E$43=\"Non-endemic\",\" \", IF(COUNTRY_INFO!B163=0,\" \",COUNTRY_INFO!B163))","v":"Upper East"},{"$f":"IF(INTRO!$E$43=\"Non-endemic\",\" \", IF(COUNTRY_INFO!C163=0,\" \",COUNTRY_INFO!C163))","v":"Kassena-Nankana"},{"$f":"IF(INTRO!$E$43=\"Non-endemic\", 0, IF(COUNTRY_INFO!$K163>0, IF(COUNTRY_INFO!$K163=4, 0, IF(COUNTRY_INFO!$K163=1, COUNTRY_INFO!$F163*0.33, IF(COUNTRY_INFO!$K163=2, COUNTRY_INFO!$F163*0.5, COUNTRY_INFO!$F163))), 0))","v":30333},{"$f":"IF(INTRO!$E$43=\"Non-endemic\", 0, IF(COUNTRY_INFO!$K163>0, IF(COUNTRY_INFO!$K163=4, 0, IF(COUNTRY_INFO!$K163=1, 0, IF(COUNTRY_INFO!$K163=2, COUNTRY_INFO!$G163*0.2, COUNTRY_INFO!$G163))), 0))","v":76390},106723,{"$f":"IF(INTRO!$E$43=\"Non-endemic\", \"Not required\", COUNTRY_INFO!S163)","v":1},"Yes",{"$f":"IF($D163=0,0,IF(AND($G163>0,$H163<>\"Yes\"),D163,IF(AND($G163>0,$H163=\"Yes\"),COUNTRY_INFO!$F163,0)))","v":30333},null,76390,106723,75832.5,229170,75832.5,null,75832.5,76]
[{"$f":"IF(INTRO!$E$43=\"Non-endemic\",\" \", IF(COUNTRY_INFO!A164=0,\" \",COUNTRY_INFO!A164))","v":"Ghana"},{"$f":"IF(INTRO!$E$43=\"Non-endemic\",\" \", IF(COUNTRY_INFO!B164=0,\" \",COUNTRY_INFO!B164))","v":"Upper East"},{"$f":"IF(INTRO!$E$43=\"Non-endemic\",\" \", IF(COUNTRY_INFO!C164=0,\" \",COUNTRY_INFO!C164))","v":"Kassena-Nankana West"},{"$f":"IF(INTRO!$E$43=\"Non-endemic\", 0, IF(COUNTRY_INFO!$K164>0, IF(COUNTRY_INFO!$K164=4, 0, IF(COUNTRY_INFO!$K164=1, COUNTRY_INFO!$F164*0.33, IF(COUNTRY_INFO!$K164=2, COUNTRY_INFO!$F164*0.5, COUNTRY_INFO!$F164))), 0))","v":19497},{"$f":"IF(INTRO!$E$43=\"Non-endemic\", 0, IF(COUNTRY_INFO!$K164>0, IF(COUNTRY_INFO!$K164=4, 0, IF(COUNTRY_INFO!$K164=1, 0, IF(COUNTRY_INFO!$K164=2, COUNTRY_INFO!$G164*0.2, COUNTRY_INFO!$G164))), 0))","v":49100},68597,{"$f":"IF(INTRO!$E$43=\"Non-endemic\", \"Not required\", COUNTRY_INFO!S164)","v":1},"Yes",{"$f":"IF($D164=0,0,IF(AND($G164>0,$H164<>\"Yes\"),D164,IF(AND($G164>0,$H164=\"Yes\"),COUNTRY_INFO!$F164,0)))","v":19497},null,49100,68597,48742.5,147300,48742.5,null,48742.5,49]
[{"$f":"IF(INTRO!$E$43=\"Non-endemic\",\" \", IF(COUNTRY_INFO!A165=0,\" \",COUNTRY_INFO!A165))","v":"Ghana"},{"$f":"IF(INTRO!$E$43=\"Non-endemic\",\" \", IF(COUNTRY_INFO!B165=0,\" \",COUNTRY_INFO!B165))","v":"Upper East"},{"$f":"IF(INTRO!$E$43=\"Non-endemic\",\" \", IF(COUNTRY_INFO!C165=0,\" \",COUNTRY_INFO!C165))","v":"Nadbam"},{"$f":"IF(INTRO!$E$43=\"Non-endemic\", 0, IF(COUNTRY_INFO!$K165>0, IF(COUNTRY_INFO!$K165=4, 0, IF(COUNTRY_INFO!$K165=1, COUNTRY_INFO!$F165*0.33, IF(COUNTRY_INFO!$K165=2, COUNTRY_INFO!$F165*0.5, COUNTRY_INFO!$F165))), 0))","v":4666},{"$f":"IF(INTRO!$E$43=\"Non-endemic\", 0, IF(COUNTRY_INFO!$K165>0, IF(COUNTRY_INFO!$K165=4, 0, IF(COUNTRY_INFO!$K165=1, 0, IF(COUNTRY_INFO!$K165=2, COUNTRY_INFO!$G165*0.2, COUNTRY_INFO!$G165))), 0))","v":4700.4000000000005},9366.4000000000015,{"$f":"IF(INTRO!$E$43=\"Non-endemic\", \"Not required\", COUNTRY_INFO!S165)","v":1},"Yes",{"$f":"IF($D165=0,0,IF(AND($G165>0,$H165<>\"Yes\"),D165,IF(AND($G165>0,$H165=\"Yes\"),COUNTRY_INFO!$F165,0)))","v":9332},null,4700.4000000000005,14032.400000000001,23330,14101.2,23330,null,23330,24]
[{"$f":"IF(INTRO!$E$43=\"Non-endemic\",\" \", IF(COUNTRY_INFO!A166=0,\" \",COUNTRY_INFO!A166))","v":"Ghana"},{"$f":"IF(INTRO!$E$43=\"Non-endemic\",\" \", IF(COUNTRY_INFO!B166=0,\" \",COUNTRY_INFO!B166))","v":"Upper East"},{"$f":"IF(INTRO!$E$43=\"Non-endemic\",\" \", IF(COUNTRY_INFO!C166=0,\" \",COUNTRY_INFO!C166))","v":"Talensi"},{"$f":"IF(INTRO!$E$43=\"Non-endemic\", 0, IF(COUNTRY_INFO!$K166>0, IF(COUNTRY_INFO!$K166=4, 0, IF(COUNTRY_INFO!$K166=1, COUNTRY_INFO!$F166*0.33, IF(COUNTRY_INFO!$K166=2, COUNTRY_INFO!$F166*0.5, COUNTRY_INFO!$F166))), 0))","v":11200.5},{"$f":"IF(INTRO!$E$43=\"Non-endemic\", 0, IF(COUNTRY_INFO!$K166>0, IF(COUNTRY_INFO!$K166=4, 0, IF(COUNTRY_INFO!$K166=1, 0, IF(COUNTRY_INFO!$K166=2, COUNTRY_INFO!$G166*0.2, COUNTRY_INFO!$G166))), 0))","v":11282.800000000001},22483.300000000003,{"$f":"IF(INTRO!$E$43=\"Non-endemic\", \"Not required\", COUNTRY_INFO!S166)","v":1},"Yes",{"$f":"IF($D166=0,0,IF(AND($G166>0,$H166<>\"Yes\"),D166,IF(AND($G166>0,$H166=\"Yes\"),COUNTRY_INFO!$F166,0)))","v":22401},null,11282.800000000001,33683.800000000003,56002.5,33848.400000000001,56002.5,null,56002.5,57]
[{"$f":"IF(INTRO!$E$43=\"Non-endemic\",\" \", IF(COUNTRY_INFO!A167=0,\" \",COUNTRY_INFO!A167))","v":"Ghana"},{"$f":"IF(INTRO!$E$43=\"Non-endemic\",\" \", IF(COUNTRY_INFO!B167=0,\" \",COUNTRY_INFO!B167))","v":"Upper West"},{"$f":"IF(INTRO!$E$43=\"Non-endemic\",\" \", IF(COUNTRY_INFO!C167=0,\" \",COUNTRY_INFO!C167))","v":"Jirapa"},{"$f":"IF(INTRO!$E$43=\"Non-endemic\", 0, IF(COUNTRY_INFO!$K167>0, IF(COUNTRY_INFO!$K167=4, 0, IF(COUNTRY_INFO!$K167=1, COUNTRY_INFO!$F167*0.33, IF(COUNTRY_INFO!$K167=2, COUNTRY_INFO!$F167*0.5, COUNTRY_INFO!$F167))), 0))","v":12886},{"$f":"IF(INTRO!$E$43=\"Non-endemic\", 0, IF(COUNTRY_INFO!$K167>0, IF(COUNTRY_INFO!$K167=4, 0, IF(COUNTRY_INFO!$K167=1, 0, IF(COUNTRY_INFO!$K167=2, COUNTRY_INFO!$G167*0.2, COUNTRY_INFO!$G167))), 0))","v":12980.800000000001},25866.800000000003,{"$f":"IF(INTRO!$E$43=\"Non-endemic\", \"Not required\", COUNTRY_INFO!S167)","v":1},"Yes",{"$f":"IF($D167=0,0,IF(AND($G167>0,$H167<>\"Yes\"),D167,IF(AND($G167>0,$H167=\"Yes\"),COUNTRY_INFO!$F167,0)))","v":25772},null,12980.800000000001,38752.800000000003,64430,38942.400000000001,64430,null,64430,65]
[{"$f":"IF(INTRO!$E$43=\"Non-endemic\",\" \", IF(COUNTRY_INFO!A168=0,\" \",COUNTRY_INFO!A168))","v":"Ghana"},{"$f":"IF(INTRO!$E$43=\"Non-endemic\",\" \", IF(COUNTRY_INFO!B168=0,\" \",COUNTRY_INFO!B168))","v":"Upper West"},{"$f":"IF(INTRO!$E$43=\"Non-endemic\",\" \", IF(COUNTRY_INFO!C168=0,\" \",COUNTRY_INFO!C168))","v":"Lambussie"},{"$f":"IF(INTRO!$E$43=\"Non-endemic\", 0, IF(COUNTRY_INFO!$K168>0, IF(COUNTRY_INFO!$K168=4, 0, IF(COUNTRY_INFO!$K168=1, COUNTRY_INFO!$F168*0.33, IF(COUNTRY_INFO!$K168=2, COUNTRY_INFO!$F168*0.5, COUNTRY_INFO!$F168))), 0))","v":7529.5},{"$f":"IF(INTRO!$E$43=\"Non-endemic\", 0, IF(COUNTRY_INFO!$K168>0, IF(COUNTRY_INFO!$K168=4, 0, IF(COUNTRY_INFO!$K168=1, 0, IF(COUNTRY_INFO!$K168=2, COUNTRY_INFO!$G168*0.2, COUNTRY_INFO!$G168))), 0))","v":7585},15114.5,{"$f":"IF(INTRO!$E$43=\"Non-endemic\", \"Not required\", COUNTRY_INFO!S168)","v":1},"Yes",{"$f":"IF($D168=0,0,IF(AND($G168>0,$H168<>\"Yes\"),D168,IF(AND($G168>0,$H168=\"Yes\"),COUNTRY_INFO!$F168,0)))","v":15059},null,7585,22644,37647.5,22755,37647.5,null,37647.5,38]
[{"$f":"IF(INTRO!$E$43=\"Non-endemic\",\" \", IF(COUNTRY_INFO!A169=0,\" \",COUNTRY_INFO!A169))","v":"Ghana"},{"$f":"IF(INTRO!$E$43=\"Non-endemic\",\" \", IF(COUNTRY_INFO!B169=0,\" \",COUNTRY_INFO!B169))","v":"Upper West"},{"$f":"IF(INTRO!$E$43=\"Non-endemic\",\" \", IF(COUNTRY_INFO!C169=0,\" \",COUNTRY_INFO!C169))","v":"Lawra"},{"$f":"IF(INTRO!$E$43=\"Non-endemic\", 0, IF(COUNTRY_INFO!$K169>0, IF(COUNTRY_INFO!$K169=4, 0, IF(COUNTRY_INFO!$K169=1, COUNTRY_INFO!$F169*0.33, IF(COUNTRY_INFO!$K169=2, COUNTRY_INFO!$F169*0.5, COUNTRY_INFO!$F169))), 0))","v":5352.27},{"$f":"IF(INTRO!$E$43=\"Non-endemic\", 0, IF(COUNTRY_INFO!$K169>0, IF(COUNTRY_INFO!$K169=4, 0, IF(COUNTRY_INFO!$K169=1, 0, IF(COUNTRY_INFO!$K169=2, COUNTRY_INFO!$G169*0.2, COUNTRY_INFO!$G169))), 0))","v":0},5352.27,{"$f":"IF(INTRO!$E$43=\"Non-endemic\", \"Not required\", COUNTRY_INFO!S169)","v":1},"Yes",{"$f":"IF($D169=0,0,IF(AND($G169>0,$H169<>\"Yes\"),D169,IF(AND($G169>0,$H169=\"Yes\"),COUNTRY_INFO!$F169,0)))","v":16219},null,0,16219,40547.5,0,40547.5,null,40547.5,41]
[{"$f":"IF(INTRO!$E$43=\"Non-endemic\",\" \", IF(COUNTRY_INFO!A170=0,\" \",COUNTRY_INFO!A170))","v":"Ghana"},{"$f":"IF(INTRO!$E$43=\"Non-endemic\",\" \", IF(COUNTRY_INFO!B170=0,\" \",COUNTRY_INFO!B170))","v":"Upper West"},{"$f":"IF(INTRO!$E$43=\"Non-endemic\",\" \", IF(COUNTRY_INFO!C170=0,\" \",COUNTRY_INFO!C170))","v":"Nandom"},{"$f":"IF(INTRO!$E$43=\"Non-endemic\", 0, IF(COUNTRY_INFO!$K170>0, IF(COUNTRY_INFO!$K170=4, 0, IF(COUNTRY_INFO!$K170=1, COUNTRY_INFO!$F170*0.33, IF(COUNTRY_INFO!$K170=2, COUNTRY_INFO!$F170*0.5, COUNTRY_INFO!$F170))), 0))","v":4357.9800000000005},{"$f":"IF(INTRO!$E$43=\"Non-endemic\", 0, IF(COUNTRY_INFO!$K170>0, IF(COUNTRY_INFO!$K170=4, 0, IF(COUNTRY_INFO!$K170=1, 0, IF(COUNTRY_INFO!$K170=2, COUNTRY_INFO!$G170*0.2, COUNTRY_INFO!$G170))), 0))","v":0},4357.9800000000005,{"$f":"IF(INTRO!$E$43=\"Non-endemic\", \"Not required\", COUNTRY_INFO!S170)","v":1},"Yes",{"$f":"IF($D170=0,0,IF(AND($G170>0,$H170<>\"Yes\"),D170,IF(AND($G170>0,$H170=\"Yes\"),COUNTRY_INFO!$F170,0)))","v":13206},null,0,13206,33015,0,33015,null,33015,34]
[{"$f":"IF(INTRO!$E$43=\"Non-endemic\",\" \", IF(COUNTRY_INFO!A171=0,\" \",COUNTRY_INFO!A171))","v":"Ghana"},{"$f":"IF(INTRO!$E$43=\"Non-endemic\",\" \", IF(COUNTRY_INFO!B171=0,\" \",COUNTRY_INFO!B171))","v":"Upper West"},{"$f":"IF(INTRO!$E$43=\"Non-endemic\",\" \", IF(COUNTRY_INFO!C171=0,\" \",COUNTRY_INFO!C171))","v":"Nadowli"},{"$f":"IF(INTRO!$E$43=\"Non-endemic\", 0, IF(COUNTRY_INFO!$K171>0, IF(COUNTRY_INFO!$K171=4, 0, IF(COUNTRY_INFO!$K171=1, COUNTRY_INFO!$F171*0.33, IF(COUNTRY_INFO!$K171=2, COUNTRY_INFO!$F171*0.5, COUNTRY_INFO!$F171))), 0))","v":9009},{"$f":"IF(INTRO!$E$43=\"Non-endemic\", 0, IF(COUNTRY_INFO!$K171>0, IF(COUNTRY_INFO!$K171=4, 0, IF(COUNTRY_INFO!$K171=1, 0, IF(COUNTRY_INFO!$K171=2, COUNTRY_INFO!$G171*0.2, COUNTRY_INFO!$G171))), 0))","v":9075.4},18084.400000000001,{"$f":"IF(INTRO!$E$43=\"Non-endemic\", \"Not required\", COUNTRY_INFO!S171)","v":1},"Yes",{"$f":"IF($D171=0,0,IF(AND($G171>0,$H171<>\"Yes\"),D171,IF(AND($G171>0,$H171=\"Yes\"),COUNTRY_INFO!$F171,0)))","v":18018},null,9075.4,27093.4,45045,27226.199999999997,45045,null,45045,46]
[{"$f":"IF(INTRO!$E$43=\"Non-endemic\",\" \", IF(COUNTRY_INFO!A172=0,\" \",COUNTRY_INFO!A172))","v":"Ghana"},{"$f":"IF(INTRO!$E$43=\"Non-endemic\",\" \", IF(COUNTRY_INFO!B172=0,\" \",COUNTRY_INFO!B172))","v":"Upper West"},{"$f":"IF(INTRO!$E$43=\"Non-endemic\",\" \", IF(COUNTRY_INFO!C172=0,\" \",COUNTRY_INFO!C172))","v":"Daffiama Bussie Issa"},{"$f":"IF(INTRO!$E$43=\"Non-endemic\", 0, IF(COUNTRY_INFO!$K172>0, IF(COUNTRY_INFO!$K172=4, 0, IF(COUNTRY_INFO!$K172=1, COUNTRY_INFO!$F172*0.33, IF(COUNTRY_INFO!$K172=2, COUNTRY_INFO!$F172*0.5, COUNTRY_INFO!$F172))), 0))","v":4749.5},{"$f":"IF(INTRO!$E$43=\"Non-endemic\", 0, IF(COUNTRY_INFO!$K172>0, IF(COUNTRY_INFO!$K172=4, 0, IF(COUNTRY_INFO!$K172=1, 0, IF(COUNTRY_INFO!$K172=2, COUNTRY_INFO!$G172*0.2, COUNTRY_INFO!$G172))), 0))","v":4784.6000000000004},9534.1,{"$f":"IF(INTRO!$E$43=\"Non-endemic\", \"Not required\", COUNTRY_INFO!S172)","v":1},"Yes",{"$f":"IF($D172=0,0,IF(AND($G172>0,$H172<>\"Yes\"),D172,IF(AND($G172>0,$H172=\"Yes\"),COUNTRY_INFO!$F172,0)))","v":9499},null,4784.6000000000004,14283.6,23747.5,14353.800000000001,23747.5,null,23747.5,24]
[{"$f":"IF(INTRO!$E$43=\"Non-endemic\",\" \", IF(COUNTRY_INFO!A173=0,\" \",COUNTRY_INFO!A173))","v":"Ghana"},{"$f":"IF(INTRO!$E$43=\"Non-endemic\",\" \", IF(COUNTRY_INFO!B173=0,\" \",COUNTRY_INFO!B173))","v":"Upper West"},{"$f":"IF(INTRO!$E$43=\"Non-endemic\",\" \", IF(COUNTRY_INFO!C173=0,\" \",COUNTRY_INFO!C173))","v":"Sissala East"},{"$f":"IF(INTRO!$E$43=\"Non-endemic\", 0, IF(COUNTRY_INFO!$K173>0, IF(COUNTRY_INFO!$K173=4, 0, IF(COUNTRY_INFO!$K173=1, COUNTRY_INFO!$F173*0.33, IF(COUNTRY_INFO!$K173=2, COUNTRY_INFO!$F173*0.5, COUNTRY_INFO!$F173))), 0))","v":8240},{"$f":"IF(INTRO!$E$43=\"Non-endemic\", 0, IF(COUNTRY_INFO!$K173>0, IF(COUNTRY_INFO!$K173=4, 0, IF(COUNTRY_INFO!$K173=1, 0, IF(COUNTRY_INFO!$K173=2, COUNTRY_INFO!$G173*0.2, COUNTRY_INFO!$G173))), 0))","v":8300.6},16540.599999999999,{"$f":"IF(INTRO!$E$43=\"Non-endemic\", \"Not required\", COUNTRY_INFO!S173)","v":1},"Yes",{"$f":"IF($D173=0,0,IF(AND($G173>0,$H173<>\"Yes\"),D173,IF(AND($G173>0,$H173=\"Yes\"),COUNTRY_INFO!$F173,0)))","v":16480},null,8300.6,24780.6,41200,24901.800000000003,41200,null,41200,42]
[{"$f":"IF(INTRO!$E$43=\"Non-endemic\",\" \", IF(COUNTRY_INFO!A174=0,\" \",COUNTRY_INFO!A174))","v":"Ghana"},{"$f":"IF(INTRO!$E$43=\"Non-endemic\",\" \", IF(COUNTRY_INFO!B174=0,\" \",COUNTRY_INFO!B174))","v":"Upper West"},{"$f":"IF(INTRO!$E$43=\"Non-endemic\",\" \", IF(COUNTRY_INFO!C174=0,\" \",COUNTRY_INFO!C174))","v":"Sissala West"},{"$f":"IF(INTRO!$E$43=\"Non-endemic\", 0, IF(COUNTRY_INFO!$K174>0, IF(COUNTRY_INFO!$K174=4, 0, IF(COUNTRY_INFO!$K174=1, COUNTRY_INFO!$F174*0.33, IF(COUNTRY_INFO!$K174=2, COUNTRY_INFO!$F174*0.5, COUNTRY_INFO!$F174))), 0))","v":14452},{"$f":"IF(INTRO!$E$43=\"Non-endemic\", 0, IF(COUNTRY_INFO!$K174>0, IF(COUNTRY_INFO!$K174=4, 0, IF(COUNTRY_INFO!$K174=1, 0, IF(COUNTRY_INFO!$K174=2, COUNTRY_INFO!$G174*0.2, COUNTRY_INFO!$G174))), 0))","v":36396},50848,{"$f":"IF(INTRO!$E$43=\"Non-endemic\", \"Not required\", COUNTRY_INFO!S174)","v":1},"Yes",{"$f":"IF($D174=0,0,IF(AND($G174>0,$H174<>\"Yes\"),D174,IF(AND($G174>0,$H174=\"Yes\"),COUNTRY_INFO!$F174,0)))","v":14452},null,36396,50848,36130,109188,36130,null,36130,37]
[{"$f":"IF(INTRO!$E$43=\"Non-endemic\",\" \", IF(COUNTRY_INFO!A175=0,\" \",COUNTRY_INFO!A175))","v":"Ghana"},{"$f":"IF(INTRO!$E$43=\"Non-endemic\",\" \", IF(COUNTRY_INFO!B175=0,\" \",COUNTRY_INFO!B175))","v":"Upper West"},{"$f":"IF(INTRO!$E$43=\"Non-endemic\",\" \", IF(COUNTRY_INFO!C175=0,\" \",COUNTRY_INFO!C175))","v":"Wa East"},{"$f":"IF(INTRO!$E$43=\"Non-endemic\", 0, IF(COUNTRY_INFO!$K175>0, IF(COUNTRY_INFO!$K175=4, 0, IF(COUNTRY_INFO!$K175=1, COUNTRY_INFO!$F175*0.33, IF(COUNTRY_INFO!$K175=2, COUNTRY_INFO!$F175*0.5, COUNTRY_INFO!$F175))), 0))","v":6933.96},{"$f":"IF(INTRO!$E$43=\"Non-endemic\", 0, IF(COUNTRY_INFO!$K175>0, IF(COUNTRY_INFO!$K175=4, 0, IF(COUNTRY_INFO!$K175=1, 0, IF(COUNTRY_INFO!$K175=2, COUNTRY_INFO!$G175*0.2, COUNTRY_INFO!$G175))), 0))","v":0},6933.96,{"$f":"IF(INTRO!$E$43=\"Non-endemic\", \"Not required\", COUNTRY_INFO!S175)","v":1},"Yes",{"$f":"IF($D175=0,0,IF(AND($G175>0,$H175<>\"Yes\"),D175,IF(AND($G175>0,$H175=\"Yes\"),COUNTRY_INFO!$F175,0)))","v":21012},null,0,21012,52530,0,52530,null,52530,53]
[{"$f":"IF(INTRO!$E$43=\"Non-endemic\",\" \", IF(COUNTRY_INFO!A176=0,\" \",COUNTRY_INFO!A176))","v":"Ghana"},{"$f":"IF(INTRO!$E$43=\"Non-endemic\",\" \", IF(COUNTRY_INFO!B176=0,\" \",COUNTRY_INFO!B176))","v":"Upper West"},{"$f":"IF(INTRO!$E$43=\"Non-endemic\",\" \", IF(COUNTRY_INFO!C176=0,\" \",COUNTRY_INFO!C176))","v":"Wa Municipal"},{"$f":"IF(INTRO!$E$43=\"Non-endemic\", 0, IF(COUNTRY_INFO!$K176>0, IF(COUNTRY_INFO!$K176=4, 0, IF(COUNTRY_INFO!$K176=1, COUNTRY_INFO!$F176*0.33, IF(COUNTRY_INFO!$K176=2, COUNTRY_INFO!$F176*0.5, COUNTRY_INFO!$F176))), 0))","v":10314.810000000001},{"$f":"IF(INTRO!$E$43=\"Non-endemic\", 0, IF(COUNTRY_INFO!$K176>0, IF(COUNTRY_INFO!$K176=4, 0, IF(COUNTRY_INFO!$K176=1, 0, IF(COUNTRY_INFO!$K176=2, COUNTRY_INFO!$G176*0.2, COUNTRY_INFO!$G176))), 0))","v":0},10314.810000000001,{"$f":"IF(INTRO!$E$43=\"Non-endemic\", \"Not required\", COUNTRY_INFO!S176)","v":1},"Yes",{"$f":"IF($D176=0,0,IF(AND($G176>0,$H176<>\"Yes\"),D176,IF(AND($G176>0,$H176=\"Yes\"),COUNTRY_INFO!$F176,0)))","v":31257},null,0,31257,78142.5,0,78142.5,null,78142.5,79]
[{"$f":"IF(INTRO!$E$43=\"Non-endemic\",\" \", IF(COUNTRY_INFO!A177=0,\" \",COUNTRY_INFO!A177))","v":"Ghana"},{"$f":"IF(INTRO!$E$43=\"Non-endemic\",\" \", IF(COUNTRY_INFO!B177=0,\" \",COUNTRY_INFO!B177))","v":"Upper West"},{"$f":"IF(INTRO!$E$43=\"Non-endemic\",\" \", IF(COUNTRY_INFO!C177=0,\" \",COUNTRY_INFO!C177))","v":"Wa West"},{"$f":"IF(INTRO!$E$43=\"Non-endemic\", 0, IF(COUNTRY_INFO!$K177>0, IF(COUNTRY_INFO!$K177=4, 0, IF(COUNTRY_INFO!$K177=1, COUNTRY_INFO!$F177*0.33, IF(COUNTRY_INFO!$K177=2, COUNTRY_INFO!$F177*0.5, COUNTRY_INFO!$F177))), 0))","v":7826.2800000000007},{"$f":"IF(INTRO!$E$43=\"Non-endemic\", 0, IF(COUNTRY_INFO!$K177>0, IF(COUNTRY_INFO!$K177=4, 0, IF(COUNTRY_INFO!$K177=1, 0, IF(COUNTRY_INFO!$K177=2, COUNTRY_INFO!$G177*0.2, COUNTRY_INFO!$G177))), 0))","v":0},7826.2800000000007,{"$f":"IF(INTRO!$E$43=\"Non-endemic\", \"Not required\", COUNTRY_INFO!S177)","v":1},"Yes",{"$f":"IF($D177=0,0,IF(AND($G177>0,$H177<>\"Yes\"),D177,IF(AND($G177>0,$H177=\"Yes\"),COUNTRY_INFO!$F177,0)))","v":23716},null,0,23716,59290,0,59290,null,59290,60]
[{"$f":"IF(INTRO!$E$43=\"Non-endemic\",\" \", IF(COUNTRY_INFO!A178=0,\" \",COUNTRY_INFO!A178))","v":"Ghana"},{"$f":"IF(INTRO!$E$43=\"Non-endemic\",\" \", IF(COUNTRY_INFO!B178=0,\" \",COUNTRY_INFO!B178))","v":"Volta"},{"$f":"IF(INTRO!$E$43=\"Non-endemic\",\" \", IF(COUNTRY_INFO!C178=0,\" \",COUNTRY_INFO!C178))","v":"Agotime Ziope"},{"$f":"IF(INTRO!$E$43=\"Non-endemic\", 0, IF(COUNTRY_INFO!$K178>0, IF(COUNTRY_INFO!$K178=4, 0, IF(COUNTRY_INFO!$K178=1, COUNTRY_INFO!$F178*0.33, IF(COUNTRY_INFO!$K178=2, COUNTRY_INFO!$F178*0.5, COUNTRY_INFO!$F178))), 0))","v":5264},{"$f":"IF(INTRO!$E$43=\"Non-endemic\", 0, IF(COUNTRY_INFO!$K178>0, IF(COUNTRY_INFO!$K178=4, 0, IF(COUNTRY_INFO!$K178=1, 0, IF(COUNTRY_INFO!$K178=2, COUNTRY_INFO!$G178*0.2, COUNTRY_INFO!$G178))), 0))","v":5302.8},10566.8,{"$f":"IF(INTRO!$E$43=\"Non-endemic\", \"Not required\", COUNTRY_INFO!S178)","v":1},"Yes",{"$f":"IF($D178=0,0,IF(AND($G178>0,$H178<>\"Yes\"),D178,IF(AND($G178>0,$H178=\"Yes\"),COUNTRY_INFO!$F178,0)))","v":10528},null,5302.8,15830.8,26320,15908.400000000001,26320,null,26320,27]
[{"$f":"IF(INTRO!$E$43=\"Non-endemic\",\" \", IF(COUNTRY_INFO!A179=0,\" \",COUNTRY_INFO!A179))","v":"Ghana"},{"$f":"IF(INTRO!$E$43=\"Non-endemic\",\" \", IF(COUNTRY_INFO!B179=0,\" \",COUNTRY_INFO!B179))","v":"Volta"},{"$f":"IF(INTRO!$E$43=\"Non-endemic\",\" \", IF(COUNTRY_INFO!C179=0,\" \",COUNTRY_INFO!C179))","v":"Adaklu"},{"$f":"IF(INTRO!$E$43=\"Non-endemic\", 0, IF(COUNTRY_INFO!$K179>0, IF(COUNTRY_INFO!$K179=4, 0, IF(COUNTRY_INFO!$K179=1, COUNTRY_INFO!$F179*0.33, IF(COUNTRY_INFO!$K179=2, COUNTRY_INFO!$F179*0.5, COUNTRY_INFO!$F179))), 0))","v":4575.5},{"$f":"IF(INTRO!$E$43=\"Non-endemic\", 0, IF(COUNTRY_INFO!$K179>0, IF(COUNTRY_INFO!$K179=4, 0, IF(COUNTRY_INFO!$K179=1, 0, IF(COUNTRY_INFO!$K179=2, COUNTRY_INFO!$G179*0.2, COUNTRY_INFO!$G179))), 0))","v":4609},9184.5,{"$f":"IF(INTRO!$E$43=\"Non-endemic\", \"Not required\", COUNTRY_INFO!S179)","v":1},"Yes",{"$f":"IF($D179=0,0,IF(AND($G179>0,$H179<>\"Yes\"),D179,IF(AND($G179>0,$H179=\"Yes\"),COUNTRY_INFO!$F179,0)))","v":9151},null,4609,13760,22877.5,13827,22877.5,null,22877.5,23]
[{"$f":"IF(INTRO!$E$43=\"Non-endemic\",\" \", IF(COUNTRY_INFO!A180=0,\" \",COUNTRY_INFO!A180))","v":"Ghana"},{"$f":"IF(INTRO!$E$43=\"Non-endemic\",\" \", IF(COUNTRY_INFO!B180=0,\" \",COUNTRY_INFO!B180))","v":"Volta"},{"$f":"IF(INTRO!$E$43=\"Non-endemic\",\" \", IF(COUNTRY_INFO!C180=0,\" \",COUNTRY_INFO!C180))","v":"Akatsi"},{"$f":"IF(INTRO!$E$43=\"Non-endemic\", 0, IF(COUNTRY_INFO!$K180>0, IF(COUNTRY_INFO!$K180=4, 0, IF(COUNTRY_INFO!$K180=1, COUNTRY_INFO!$F180*0.33, IF(COUNTRY_INFO!$K180=2, COUNTRY_INFO!$F180*0.5, COUNTRY_INFO!$F180))), 0))","v":14579},{"$f":"IF(INTRO!$E$43=\"Non-endemic\", 0, IF(COUNTRY_INFO!$K180>0, IF(COUNTRY_INFO!$K180=4, 0, IF(COUNTRY_INFO!$K180=1, 0, IF(COUNTRY_INFO!$K180=2, COUNTRY_INFO!$G180*0.2, COUNTRY_INFO!$G180))), 0))","v":14686},29265,{"$f":"IF(INTRO!$E$43=\"Non-endemic\", \"Not required\", COUNTRY_INFO!S180)","v":1},"Yes",{"$f":"IF($D180=0,0,IF(AND($G180>0,$H180<>\"Yes\"),D180,IF(AND($G180>0,$H180=\"Yes\"),COUNTRY_INFO!$F180,0)))","v":29158},null,14686,43844,72895,44058,72895,null,72895,73]
[{"$f":"IF(INTRO!$E$43=\"Non-endemic\",\" \", IF(COUNTRY_INFO!A181=0,\" \",COUNTRY_INFO!A181))","v":"Ghana"},{"$f":"IF(INTRO!$E$43=\"Non-endemic\",\" \", IF(COUNTRY_INFO!B181=0,\" \",COUNTRY_INFO!B181))","v":"Volta"},{"$f":"IF(INTRO!$E$43=\"Non-endemic\",\" \", IF(COUNTRY_INFO!C181=0,\" \",COUNTRY_INFO!C181))","v":"Akatsi North"},{"$f":"IF(INTRO!$E$43=\"Non-endemic\", 0, IF(COUNTRY_INFO!$K181>0, IF(COUNTRY_INFO!$K181=4, 0, IF(COUNTRY_INFO!$K181=1, COUNTRY_INFO!$F181*0.33, IF(COUNTRY_INFO!$K181=2, COUNTRY_INFO!$F181*0.5, COUNTRY_INFO!$F181))), 0))","v":5047},{"$f":"IF(INTRO!$E$43=\"Non-endemic\", 0, IF(COUNTRY_INFO!$K181>0, IF(COUNTRY_INFO!$K181=4, 0, IF(COUNTRY_INFO!$K181=1, 0, IF(COUNTRY_INFO!$K181=2, COUNTRY_INFO!$G181*0.2, COUNTRY_INFO!$G181))), 0))","v":5084},10131,{"$f":"IF(INTRO!$E$43=\"Non-endemic\", \"Not required\", COUNTRY_INFO!S181)","v":1},"Yes",{"$f":"IF($D181=0,0,IF(AND($G181>0,$H181<>\"Yes\"),D181,IF(AND($G181>0,$H181=\"Yes\"),COUNTRY_INFO!$F181,0)))","v":10094},null,5084,15178,25235,15252,25235,null,25235,26]
[{"$f":"IF(INTRO!$E$43=\"Non-endemic\",\" \", IF(COUNTRY_INFO!A182=0,\" \",COUNTRY_INFO!A182))","v":"Ghana"},{"$f":"IF(INTRO!$E$43=\"Non-endemic\",\" \", IF(COUNTRY_INFO!B182=0,\" \",COUNTRY_INFO!B182))","v":"Volta"},{"$f":"IF(INTRO!$E$43=\"Non-endemic\",\" \", IF(COUNTRY_INFO!C182=0,\" \",COUNTRY_INFO!C182))","v":"Biakoye"},{"$f":"IF(INTRO!$E$43=\"Non-endemic\", 0, IF(COUNTRY_INFO!$K182>0, IF(COUNTRY_INFO!$K182=4, 0, IF(COUNTRY_INFO!$K182=1, COUNTRY_INFO!$F182*0.33, IF(COUNTRY_INFO!$K182=2, COUNTRY_INFO!$F182*0.5, COUNTRY_INFO!$F182))), 0))","v":20136},{"$f":"IF(INTRO!$E$43=\"Non-endemic\", 0, IF(COUNTRY_INFO!$K182>0, IF(COUNTRY_INFO!$K182=4, 0, IF(COUNTRY_INFO!$K182=1, 0, IF(COUNTRY_INFO!$K182=2, COUNTRY_INFO!$G182*0.2, COUNTRY_INFO!$G182))), 0))","v":50711},70847,{"$f":"IF(INTRO!$E$43=\"Non-endemic\", \"Not required\", COUNTRY_INFO!S182)","v":1},"Yes",{"$f":"IF($D182=0,0,IF(AND($G182>0,$H182<>\"Yes\"),D182,IF(AND($G182>0,$H182=\"Yes\"),COUNTRY_INFO!$F182,0)))","v":20136},null,50711,70847,50340,152133,50340,null,50340,51]
[{"$f":"IF(INTRO!$E$43=\"Non-endemic\",\" \", IF(COUNTRY_INFO!A183=0,\" \",COUNTRY_INFO!A183))","v":"Ghana"},{"$f":"IF(INTRO!$E$43=\"Non-endemic\",\" \", IF(COUNTRY_INFO!B183=0,\" \",COUNTRY_INFO!B183))","v":"Volta"},{"$f":"IF(INTRO!$E$43=\"Non-endemic\",\" \", IF(COUNTRY_INFO!C183=0,\" \",COUNTRY_INFO!C183))","v":"Ho Municipal"},{"$f":"IF(INTRO!$E$43=\"Non-endemic\", 0, IF(COUNTRY_INFO!$K183>0, IF(COUNTRY_INFO!$K183=4, 0, IF(COUNTRY_INFO!$K183=1, COUNTRY_INFO!$F183*0.33, IF(COUNTRY_INFO!$K183=2, COUNTRY_INFO!$F183*0.5, COUNTRY_INFO!$F183))), 0))","v":27084.5},{"$f":"IF(INTRO!$E$43=\"Non-endemic\", 0, IF(COUNTRY_INFO!$K183>0, IF(COUNTRY_INFO!$K183=4, 0, IF(COUNTRY_INFO!$K183=1, 0, IF(COUNTRY_INFO!$K183=2, COUNTRY_INFO!$G183*0.2, COUNTRY_INFO!$G183))), 0))","v":27283.600000000002},54368.100000000006,{"$f":"IF(INTRO!$E$43=\"Non-endemic\", \"Not required\", COUNTRY_INFO!S183)","v":1},"Yes",{"$f":"IF($D183=0,0,IF(AND($G183>0,$H183<>\"Yes\"),D183,IF(AND($G183>0,$H183=\"Yes\"),COUNTRY_INFO!$F183,0)))","v":54169},null,27283.600000000002,81452.600000000006,135422.5,81850.8,135422.5,null,135422.5,136]
[{"$f":"IF(INTRO!$E$43=\"Non-endemic\",\" \", IF(COUNTRY_INFO!A184=0,\" \",COUNTRY_INFO!A184))","v":"Ghana"},{"$f":"IF(INTRO!$E$43=\"Non-endemic\",\" \", IF(COUNTRY_INFO!B184=0,\" \",COUNTRY_INFO!B184))","v":"Volta"},{"$f":"IF(INTRO!$E$43=\"Non-endemic\",\" \", IF(COUNTRY_INFO!C184=0,\" \",COUNTRY_INFO!C184))","v":"Ho West"},{"$f":"IF(INTRO!$E$43=\"Non-endemic\", 0, IF(COUNTRY_INFO!$K184>0, IF(COUNTRY_INFO!$K184=4, 0, IF(COUNTRY_INFO!$K184=1, COUNTRY_INFO!$F184*0.33, IF(COUNTRY_INFO!$K184=2, COUNTRY_INFO!$F184*0.5, COUNTRY_INFO!$F184))), 0))","v":14453},{"$f":"IF(INTRO!$E$43=\"Non-endemic\", 0, IF(COUNTRY_INFO!$K184>0, IF(COUNTRY_INFO!$K184=4, 0, IF(COUNTRY_INFO!$K184=1, 0, IF(COUNTRY_INFO!$K184=2, COUNTRY_INFO!$G184*0.2, COUNTRY_INFO!$G184))), 0))","v":14559.2},29012.2,{"$f":"IF(INTRO!$E$43=\"Non-endemic\", \"Not required\", COUNTRY_INFO!S184)","v":1},"Yes",{"$f":"IF($D184=0,0,IF(AND($G184>0,$H184<>\"Yes\"),D184,IF(AND($G184>0,$H184=\"Yes\"),COUNTRY_INFO!$F184,0)))","v":28906},null,14559.2,43465.2,72265,43677.600000000006,72265,null,72265,73]
[{"$f":"IF(INTRO!$E$43=\"Non-endemic\",\" \", IF(COUNTRY_INFO!A185=0,\" \",COUNTRY_INFO!A185))","v":"Ghana"},{"$f":"IF(INTRO!$E$43=\"Non-endemic\",\" \", IF(COUNTRY_INFO!B185=0,\" \",COUNTRY_INFO!B185))","v":"Volta"},{"$f":"IF(INTRO!$E$43=\"Non-endemic\",\" \", IF(COUNTRY_INFO!C185=0,\" \",COUNTRY_INFO!C185))","v":"Hohoe"},{"$f":"IF(INTRO!$E$43=\"Non-endemic\", 0, IF(COUNTRY_INFO!$K185>0, IF(COUNTRY_INFO!$K185=4, 0, IF(COUNTRY_INFO!$K185=1, COUNTRY_INFO!$F185*0.33, IF(COUNTRY_INFO!$K185=2, COUNTRY_INFO!$F185*0.5, COUNTRY_INFO!$F185))), 0))","v":25516.5},{"$f":"IF(INTRO!$E$43=\"Non-endemic\", 0, IF(COUNTRY_INFO!$K185>0, IF(COUNTRY_INFO!$K185=4, 0, IF(COUNTRY_INFO!$K185=1, 0, IF(COUNTRY_INFO!$K185=2, COUNTRY_INFO!$G185*0.2, COUNTRY_INFO!$G185))), 0))","v":25703.800000000003},51220.3,{"$f":"IF(INTRO!$E$43=\"Non-endemic\", \"Not required\", COUNTRY_INFO!S185)","v":1},"Yes",{"$f":"IF($D185=0,0,IF(AND($G185>0,$H185<>\"Yes\"),D185,IF(AND($G185>0,$H185=\"Yes\"),COUNTRY_INFO!$F185,0)))","v":51033},null,25703.800000000003,76736.800000000003,127582.5,77111.400000000009,127582.5,null,127582.5,128]
[{"$f":"IF(INTRO!$E$43=\"Non-endemic\",\" \", IF(COUNTRY_INFO!A186=0,\" \",COUNTRY_INFO!A186))","v":"Ghana"},{"$f":"IF(INTRO!$E$43=\"Non-endemic\",\" \", IF(COUNTRY_INFO!B186=0,\" \",COUNTRY_INFO!B186))","v":"Volta"},{"$f":"IF(INTRO!$E$43=\"Non-endemic\",\" \", IF(COUNTRY_INFO!C186=0,\" \",COUNTRY_INFO!C186))","v":"Afadjato (East Dayi)"},{"$f":"IF(INTRO!$E$43=\"Non-endemic\", 0, IF(COUNTRY_INFO!$K186>0, IF(COUNTRY_INFO!$K186=4, 0, IF(COUNTRY_INFO!$K186=1, COUNTRY_INFO!$F186*0.33, IF(COUNTRY_INFO!$K186=2, COUNTRY_INFO!$F186*0.5, COUNTRY_INFO!$F186))), 0))","v":14518.5},{"$f":"IF(INTRO!$E$43=\"Non-endemic\", 0, IF(COUNTRY_INFO!$K186>0, IF(COUNTRY_INFO!$K186=4, 0, IF(COUNTRY_INFO!$K186=1, 0, IF(COUNTRY_INFO!$K186=2, COUNTRY_INFO!$G186*0.2, COUNTRY_INFO!$G186))), 0))","v":14625.2},29143.7,{"$f":"IF(INTRO!$E$43=\"Non-endemic\", \"Not required\", COUNTRY_INFO!S186)","v":1},"Yes",{"$f":"IF($D186=0,0,IF(AND($G186>0,$H186<>\"Yes\"),D186,IF(AND($G186>0,$H186=\"Yes\"),COUNTRY_INFO!$F186,0)))","v":29037},null,14625.2,43662.2,72592.5,43875.600000000006,72592.5,null,72592.5,73]
[{"$f":"IF(INTRO!$E$43=\"Non-endemic\",\" \", IF(COUNTRY_INFO!A187=0,\" \",COUNTRY_INFO!A187))","v":"Ghana"},{"$f":"IF(INTRO!$E$43=\"Non-endemic\",\" \", IF(COUNTRY_INFO!B187=0,\" \",COUNTRY_INFO!B187))","v":"Volta"},{"$f":"IF(INTRO!$E$43=\"Non-endemic\",\" \", IF(COUNTRY_INFO!C187=0,\" \",COUNTRY_INFO!C187))","v":"Jasikan"},{"$f":"IF(INTRO!$E$43=\"Non-endemic\", 0, IF(COUNTRY_INFO!$K187>0, IF(COUNTRY_INFO!$K187=4, 0, IF(COUNTRY_INFO!$K187=1, COUNTRY_INFO!$F187*0.33, IF(COUNTRY_INFO!$K187=2, COUNTRY_INFO!$F187*0.5, COUNTRY_INFO!$F187))), 0))","v":9041.5},{"$f":"IF(INTRO!$E$43=\"Non-endemic\", 0, IF(COUNTRY_INFO!$K187>0, IF(COUNTRY_INFO!$K187=4, 0, IF(COUNTRY_INFO!$K187=1, 0, IF(COUNTRY_INFO!$K187=2, COUNTRY_INFO!$G187*0.2, COUNTRY_INFO!$G187))), 0))","v":9108},18149.5,{"$f":"IF(INTRO!$E$43=\"Non-endemic\", \"Not required\", COUNTRY_INFO!S187)","v":1},"Yes",{"$f":"IF($D187=0,0,IF(AND($G187>0,$H187<>\"Yes\"),D187,IF(AND($G187>0,$H187=\"Yes\"),COUNTRY_INFO!$F187,0)))","v":18083},null,9108,27191,45207.5,27324,45207.5,null,45207.5,46]
[{"$f":"IF(INTRO!$E$43=\"Non-endemic\",\" \", IF(COUNTRY_INFO!A188=0,\" \",COUNTRY_INFO!A188))","v":"Ghana"},{"$f":"IF(INTRO!$E$43=\"Non-endemic\",\" \", IF(COUNTRY_INFO!B188=0,\" \",COUNTRY_INFO!B188))","v":"Volta"},{"$f":"IF(INTRO!$E$43=\"Non-endemic\",\" \", IF(COUNTRY_INFO!C188=0,\" \",COUNTRY_INFO!C188))","v":"Kadjebi"},{"$f":"IF(INTRO!$E$43=\"Non-endemic\", 0, IF(COUNTRY_INFO!$K188>0, IF(COUNTRY_INFO!$K188=4, 0, IF(COUNTRY_INFO!$K188=1, COUNTRY_INFO!$F188*0.33, IF(COUNTRY_INFO!$K188=2, COUNTRY_INFO!$F188*0.5, COUNTRY_INFO!$F188))), 0))","v":9060},{"$f":"IF(INTRO!$E$43=\"Non-endemic\", 0, IF(COUNTRY_INFO!$K188>0, IF(COUNTRY_INFO!$K188=4, 0, IF(COUNTRY_INFO!$K188=1, 0, IF(COUNTRY_INFO!$K188=2, COUNTRY_INFO!$G188*0.2, COUNTRY_INFO!$G188))), 0))","v":9126.6},18186.599999999999,{"$f":"IF(INTRO!$E$43=\"Non-endemic\", \"Not required\", COUNTRY_INFO!S188)","v":1},"Yes",{"$f":"IF($D188=0,0,IF(AND($G188>0,$H188<>\"Yes\"),D188,IF(AND($G188>0,$H188=\"Yes\"),COUNTRY_INFO!$F188,0)))","v":18120},null,9126.6,27246.6,45300,27379.800000000003,45300,null,45300,46]
[{"$f":"IF(INTRO!$E$43=\"Non-endemic\",\" \", IF(COUNTRY_INFO!A189=0,\" \",COUNTRY_INFO!A189))","v":"Ghana"},{"$f":"IF(INTRO!$E$43=\"Non-endemic\",\" \", IF(COUNTRY_INFO!B189=0,\" \",COUNTRY_INFO!B189))","v":"Volta"},{"$f":"IF(INTRO!$E$43=\"Non-endemic\",\" \", IF(COUNTRY_INFO!C189=0,\" \",COUNTRY_INFO!C189))","v":"Keta"},{"$f":"IF(INTRO!$E$43=\"Non-endemic\", 0, IF(COUNTRY_INFO!$K189>0, IF(COUNTRY_INFO!$K189=4, 0, IF(COUNTRY_INFO!$K189=1, COUNTRY_INFO!$F189*0.33, IF(COUNTRY_INFO!$K189=2, COUNTRY_INFO!$F189*0.5, COUNTRY_INFO!$F189))), 0))","v":22553},{"$f":"IF(INTRO!$E$43=\"Non-endemic\", 0, IF(COUNTRY_INFO!$K189>0, IF(COUNTRY_INFO!$K189=4, 0, IF(COUNTRY_INFO!$K189=1, 0, IF(COUNTRY_INFO!$K189=2, COUNTRY_INFO!$G189*0.2, COUNTRY_INFO!$G189))), 0))","v":22718.600000000002},45271.600000000006,{"$f":"IF(INTRO!$E$43=\"Non-endemic\", \"Not required\", COUNTRY_INFO!S189)","v":1},"Yes",{"$f":"IF($D189=0,0,IF(AND($G189>0,$H189<>\"Yes\"),D189,IF(AND($G189>0,$H189=\"Yes\"),COUNTRY_INFO!$F189,0)))","v":45106},null,22718.600000000002,67824.600000000006,112765,68155.8,112765,null,112765,113]
[{"$f":"IF(INTRO!$E$43=\"Non-endemic\",\" \", IF(COUNTRY_INFO!A190=0,\" \",COUNTRY_INFO!A190))","v":"Ghana"},{"$f":"IF(INTRO!$E$43=\"Non-endemic\",\" \", IF(COUNTRY_INFO!B190=0,\" \",COUNTRY_INFO!B190))","v":"Volta"},{"$f":"IF(INTRO!$E$43=\"Non-endemic\",\" \", IF(COUNTRY_INFO!C190=0,\" \",COUNTRY_INFO!C190))","v":"Ketu North"},{"$f":"IF(INTRO!$E$43=\"Non-endemic\", 0, IF(COUNTRY_INFO!$K190>0, IF(COUNTRY_INFO!$K190=4, 0, IF(COUNTRY_INFO!$K190=1, COUNTRY_INFO!$F190*0.33, IF(COUNTRY_INFO!$K190=2, COUNTRY_INFO!$F190*0.5, COUNTRY_INFO!$F190))), 0))","v":15264.5},{"$f":"IF(INTRO!$E$43=\"Non-endemic\", 0, IF(COUNTRY_INFO!$K190>0, IF(COUNTRY_INFO!$K190=4, 0, IF(COUNTRY_INFO!$K190=1, 0, IF(COUNTRY_INFO!$K190=2, COUNTRY_INFO!$G190*0.2, COUNTRY_INFO!$G190))), 0))","v":15376.6},30641.1,{"$f":"IF(INTRO!$E$43=\"Non-endemic\", \"Not required\", COUNTRY_INFO!S190)","v":1},"Yes",{"$f":"IF($D190=0,0,IF(AND($G190>0,$H190<>\"Yes\"),D190,IF(AND($G190>0,$H190=\"Yes\"),COUNTRY_INFO!$F190,0)))","v":30529},null,15376.6,45905.599999999999,76322.5,46129.8,76322.5,null,76322.5,77]
[{"$f":"IF(INTRO!$E$43=\"Non-endemic\",\" \", IF(COUNTRY_INFO!A191=0,\" \",COUNTRY_INFO!A191))","v":"Ghana"},{"$f":"IF(INTRO!$E$43=\"Non-endemic\",\" \", IF(COUNTRY_INFO!B191=0,\" \",COUNTRY_INFO!B191))","v":"Volta"},{"$f":"IF(INTRO!$E$43=\"Non-endemic\",\" \", IF(COUNTRY_INFO!C191=0,\" \",COUNTRY_INFO!C191))","v":"Ketu South"},{"$f":"IF(INTRO!$E$43=\"Non-endemic\", 0, IF(COUNTRY_INFO!$K191>0, IF(COUNTRY_INFO!$K191=4, 0, IF(COUNTRY_INFO!$K191=1, COUNTRY_INFO!$F191*0.33, IF(COUNTRY_INFO!$K191=2, COUNTRY_INFO!$F191*0.5, COUNTRY_INFO!$F191))), 0))","v":24560},{"$f":"IF(INTRO!$E$43=\"Non-endemic\", 0, IF(COUNTRY_INFO!$K191>0, IF(COUNTRY_INFO!$K191=4, 0, IF(COUNTRY_INFO!$K191=1, 0, IF(COUNTRY_INFO!$K191=2, COUNTRY_INFO!$G191*0.2, COUNTRY_INFO!$G191))), 0))","v":24740.400000000001},49300.4,{"$f":"IF(INTRO!$E$43=\"Non-endemic\", \"Not required\", COUNTRY_INFO!S191)","v":1},"Yes",{"$f":"IF($D191=0,0,IF(AND($G191>0,$H191<>\"Yes\"),D191,IF(AND($G191>0,$H191=\"Yes\"),COUNTRY_INFO!$F191,0)))","v":49120},null,24740.400000000001,73860.399999999994,122800,74221.200000000012,122800,null,122800,123]
[{"$f":"IF(INTRO!$E$43=\"Non-endemic\",\" \", IF(COUNTRY_INFO!A192=0,\" \",COUNTRY_INFO!A192))","v":"Ghana"},{"$f":"IF(INTRO!$E$43=\"Non-endemic\",\" \", IF(COUNTRY_INFO!B192=0,\" \",COUNTRY_INFO!B192))","v":"Volta"},{"$f":"IF(INTRO!$E$43=\"Non-endemic\",\" \", IF(COUNTRY_INFO!C192=0,\" \",COUNTRY_INFO!C192))","v":"Kpando"},{"$f":"IF(INTRO!$E$43=\"Non-endemic\", 0, IF(COUNTRY_INFO!$K192>0, IF(COUNTRY_INFO!$K192=4, 0, IF(COUNTRY_INFO!$K192=1, COUNTRY_INFO!$F192*0.33, IF(COUNTRY_INFO!$K192=2, COUNTRY_INFO!$F192*0.5, COUNTRY_INFO!$F192))), 0))","v":16419},{"$f":"IF(INTRO!$E$43=\"Non-endemic\", 0, IF(COUNTRY_INFO!$K192>0, IF(COUNTRY_INFO!$K192=4, 0, IF(COUNTRY_INFO!$K192=1, 0, IF(COUNTRY_INFO!$K192=2, COUNTRY_INFO!$G192*0.2, COUNTRY_INFO!$G192))), 0))","v":41349},57768,{"$f":"IF(INTRO!$E$43=\"Non-endemic\", \"Not required\", COUNTRY_INFO!S192)","v":1},"Yes",{"$f":"IF($D192=0,0,IF(AND($G192>0,$H192<>\"Yes\"),D192,IF(AND($G192>0,$H192=\"Yes\"),COUNTRY_INFO!$F192,0)))","v":16419},null,41349,57768,41047.5,124047,41047.5,null,41047.5,42]
[{"$f":"IF(INTRO!$E$43=\"Non-endemic\",\" \", IF(COUNTRY_INFO!A193=0,\" \",COUNTRY_INFO!A193))","v":"Ghana"},{"$f":"IF(INTRO!$E$43=\"Non-endemic\",\" \", IF(COUNTRY_INFO!B193=0,\" \",COUNTRY_INFO!B193))","v":"Volta"},{"$f":"IF(INTRO!$E$43=\"Non-endemic\",\" \", IF(COUNTRY_INFO!C193=0,\" \",COUNTRY_INFO!C193))","v":"North Dayi"},{"$f":"IF(INTRO!$E$43=\"Non-endemic\", 0, IF(COUNTRY_INFO!$K193>0, IF(COUNTRY_INFO!$K193=4, 0, IF(COUNTRY_INFO!$K193=1, COUNTRY_INFO!$F193*0.33, IF(COUNTRY_INFO!$K193=2, COUNTRY_INFO!$F193*0.5, COUNTRY_INFO!$F193))), 0))","v":12196},{"$f":"IF(INTRO!$E$43=\"Non-endemic\", 0, IF(COUNTRY_INFO!$K193>0, IF(COUNTRY_INFO!$K193=4, 0, IF(COUNTRY_INFO!$K193=1, 0, IF(COUNTRY_INFO!$K193=2, COUNTRY_INFO!$G193*0.2, COUNTRY_INFO!$G193))), 0))","v":30713},42909,{"$f":"IF(INTRO!$E$43=\"Non-endemic\", \"Not required\", COUNTRY_INFO!S193)","v":1},"Yes",{"$f":"IF($D193=0,0,IF(AND($G193>0,$H193<>\"Yes\"),D193,IF(AND($G193>0,$H193=\"Yes\"),COUNTRY_INFO!$F193,0)))","v":12196},null,30713,42909,30490,92139,30490,null,30490,31]
[{"$f":"IF(INTRO!$E$43=\"Non-endemic\",\" \", IF(COUNTRY_INFO!A194=0,\" \",COUNTRY_INFO!A194))","v":"Ghana"},{"$f":"IF(INTRO!$E$43=\"Non-endemic\",\" \", IF(COUNTRY_INFO!B194=0,\" \",COUNTRY_INFO!B194))","v":"Volta"},{"$f":"IF(INTRO!$E$43=\"Non-endemic\",\" \", IF(COUNTRY_INFO!C194=0,\" \",COUNTRY_INFO!C194))","v":"Krachi East"},{"$f":"IF(INTRO!$E$43=\"Non-endemic\", 0, IF(COUNTRY_INFO!$K194>0, IF(COUNTRY_INFO!$K194=4, 0, IF(COUNTRY_INFO!$K194=1, COUNTRY_INFO!$F194*0.33, IF(COUNTRY_INFO!$K194=2, COUNTRY_INFO!$F194*0.5, COUNTRY_INFO!$F194))), 0))","v":35690},{"$f":"IF(INTRO!$E$43=\"Non-endemic\", 0, IF(COUNTRY_INFO!$K194>0, IF(COUNTRY_INFO!$K194=4, 0, IF(COUNTRY_INFO!$K194=1, 0, IF(COUNTRY_INFO!$K194=2, COUNTRY_INFO!$G194*0.2, COUNTRY_INFO!$G194))), 0))","v":89881},125571,{"$f":"IF(INTRO!$E$43=\"Non-endemic\", \"Not required\", COUNTRY_INFO!S194)","v":1},"Yes",{"$f":"IF($D194=0,0,IF(AND($G194>0,$H194<>\"Yes\"),D194,IF(AND($G194>0,$H194=\"Yes\"),COUNTRY_INFO!$F194,0)))","v":35690},null,89881,125571,89225,269643,89225,null,89225,90]
[{"$f":"IF(INTRO!$E$43=\"Non-endemic\",\" \", IF(COUNTRY_INFO!A195=0,\" \",COUNTRY_INFO!A195))","v":"Ghana"},{"$f":"IF(INTRO!$E$43=\"Non-endemic\",\" \", IF(COUNTRY_INFO!B195=0,\" \",COUNTRY_INFO!B195))","v":"Volta"},{"$f":"IF(INTRO!$E$43=\"Non-endemic\",\" \", IF(COUNTRY_INFO!C195=0,\" \",COUNTRY_INFO!C195))","v":"Krachi West"},{"$f":"IF(INTRO!$E$43=\"Non-endemic\", 0, IF(COUNTRY_INFO!$K195>0, IF(COUNTRY_INFO!$K195=4, 0, IF(COUNTRY_INFO!$K195=1, COUNTRY_INFO!$F195*0.33, IF(COUNTRY_INFO!$K195=2, COUNTRY_INFO!$F195*0.5, COUNTRY_INFO!$F195))), 0))","v":15100},{"$f":"IF(INTRO!$E$43=\"Non-endemic\", 0, IF(COUNTRY_INFO!$K195>0, IF(COUNTRY_INFO!$K195=4, 0, IF(COUNTRY_INFO!$K195=1, 0, IF(COUNTRY_INFO!$K195=2, COUNTRY_INFO!$G195*0.2, COUNTRY_INFO!$G195))), 0))","v":38026},53126,{"$f":"IF(INTRO!$E$43=\"Non-endemic\", \"Not required\", COUNTRY_INFO!S195)","v":1},"Yes",{"$f":"IF($D195=0,0,IF(AND($G195>0,$H195<>\"Yes\"),D195,IF(AND($G195>0,$H195=\"Yes\"),COUNTRY_INFO!$F195,0)))","v":15100},null,38026,53126,37750,114078,37750,null,37750,38]
[{"$f":"IF(INTRO!$E$43=\"Non-endemic\",\" \", IF(COUNTRY_INFO!A196=0,\" \",COUNTRY_INFO!A196))","v":"Ghana"},{"$f":"IF(INTRO!$E$43=\"Non-endemic\",\" \", IF(COUNTRY_INFO!B196=0,\" \",COUNTRY_INFO!B196))","v":"Volta"},{"$f":"IF(INTRO!$E$43=\"Non-endemic\",\" \", IF(COUNTRY_INFO!C196=0,\" \",COUNTRY_INFO!C196))","v":"Krachi Nchumuru"},{"$f":"IF(INTRO!$E$43=\"Non-endemic\", 0, IF(COUNTRY_INFO!$K196>0, IF(COUNTRY_INFO!$K196=4, 0, IF(COUNTRY_INFO!$K196=1, COUNTRY_INFO!$F196*0.33, IF(COUNTRY_INFO!$K196=2, COUNTRY_INFO!$F196*0.5, COUNTRY_INFO!$F196))), 0))","v":22210},{"$f":"IF(INTRO!$E$43=\"Non-endemic\", 0, IF(COUNTRY_INFO!$K196>0, IF(COUNTRY_INFO!$K196=4, 0, IF(COUNTRY_INFO!$K196=1, 0, IF(COUNTRY_INFO!$K196=2, COUNTRY_INFO!$G196*0.2, COUNTRY_INFO!$G196))), 0))","v":55934},78144,{"$f":"IF(INTRO!$E$43=\"Non-endemic\", \"Not required\", COUNTRY_INFO!S196)","v":1},"Yes",{"$f":"IF($D196=0,0,IF(AND($G196>0,$H196<>\"Yes\"),D196,IF(AND($G196>0,$H196=\"Yes\"),COUNTRY_INFO!$F196,0)))","v":22210},null,55934,78144,55525,167802,55525,null,55525,56]
[{"$f":"IF(INTRO!$E$43=\"Non-endemic\",\" \", IF(COUNTRY_INFO!A197=0,\" \",COUNTRY_INFO!A197))","v":"Ghana"},{"$f":"IF(INTRO!$E$43=\"Non-endemic\",\" \", IF(COUNTRY_INFO!B197=0,\" \",COUNTRY_INFO!B197))","v":"Volta"},{"$f":"IF(INTRO!$E$43=\"Non-endemic\",\" \", IF(COUNTRY_INFO!C197=0,\" \",COUNTRY_INFO!C197))","v":"Nkwanta North"},{"$f":"IF(INTRO!$E$43=\"Non-endemic\", 0, IF(COUNTRY_INFO!$K197>0, IF(COUNTRY_INFO!$K197=4, 0, IF(COUNTRY_INFO!$K197=1, COUNTRY_INFO!$F197*0.33, IF(COUNTRY_INFO!$K197=2, COUNTRY_INFO!$F197*0.5, COUNTRY_INFO!$F197))), 0))","v":19724},{"$f":"IF(INTRO!$E$43=\"Non-endemic\", 0, IF(COUNTRY_INFO!$K197>0, IF(COUNTRY_INFO!$K197=4, 0, IF(COUNTRY_INFO!$K197=1, 0, IF(COUNTRY_INFO!$K197=2, COUNTRY_INFO!$G197*0.2, COUNTRY_INFO!$G197))), 0))","v":49673},69397,{"$f":"IF(INTRO!$E$43=\"Non-endemic\", \"Not required\", COUNTRY_INFO!S197)","v":1},"Yes",{"$f":"IF($D197=0,0,IF(AND($G197>0,$H197<>\"Yes\"),D197,IF(AND($G197>0,$H197=\"Yes\"),COUNTRY_INFO!$F197,0)))","v":19724},null,49673,69397,49310,149019,49310,null,49310,50]
[{"$f":"IF(INTRO!$E$43=\"Non-endemic\",\" \", IF(COUNTRY_INFO!A198=0,\" \",COUNTRY_INFO!A198))","v":"Ghana"},{"$f":"IF(INTRO!$E$43=\"Non-endemic\",\" \", IF(COUNTRY_INFO!B198=0,\" \",COUNTRY_INFO!B198))","v":"Volta"},{"$f":"IF(INTRO!$E$43=\"Non-endemic\",\" \", IF(COUNTRY_INFO!C198=0,\" \",COUNTRY_INFO!C198))","v":"Nkwanta South"},{"$f":"IF(INTRO!$E$43=\"Non-endemic\", 0, IF(COUNTRY_INFO!$K198>0, IF(COUNTRY_INFO!$K198=4, 0, IF(COUNTRY_INFO!$K198=1, COUNTRY_INFO!$F198*0.33, IF(COUNTRY_INFO!$K198=2, COUNTRY_INFO!$F198*0.5, COUNTRY_INFO!$F198))), 0))","v":18009},{"$f":"IF(INTRO!$E$43=\"Non-endemic\", 0, IF(COUNTRY_INFO!$K198>0, IF(COUNTRY_INFO!$K198=4, 0, IF(COUNTRY_INFO!$K198=1, 0, IF(COUNTRY_INFO!$K198=2, COUNTRY_INFO!$G198*0.2, COUNTRY_INFO!$G198))), 0))","v":18141.600000000002},36150.600000000006,{"$f":"IF(INTRO!$E$43=\"Non-endemic\", \"Not required\", COUNTRY_INFO!S198)","v":1},"Yes",{"$f":"IF($D198=0,0,IF(AND($G198>0,$H198<>\"Yes\"),D198,IF(AND($G198>0,$H198=\"Yes\"),COUNTRY_INFO!$F198,0)))","v":36018},null,18141.600000000002,54159.600000000006,90045,54424.800000000003,90045,null,90045,91]
[{"$f":"IF(INTRO!$E$43=\"Non-endemic\",\" \", IF(COUNTRY_INFO!A199=0,\" \",COUNTRY_INFO!A199))","v":"Ghana"},{"$f":"IF(INTRO!$E$43=\"Non-endemic\",\" \", IF(COUNTRY_INFO!B199=0,\" \",COUNTRY_INFO!B199))","v":"Volta"},{"$f":"IF(INTRO!$E$43=\"Non-endemic\",\" \", IF(COUNTRY_INFO!C199=0,\" \",COUNTRY_INFO!C199))","v":"North Tongu"},{"$f":"IF(INTRO!$E$43=\"Non-endemic\", 0, IF(COUNTRY_INFO!$K199>0, IF(COUNTRY_INFO!$K199=4, 0, IF(COUNTRY_INFO!$K199=1, COUNTRY_INFO!$F199*0.33, IF(COUNTRY_INFO!$K199=2, COUNTRY_INFO!$F199*0.5, COUNTRY_INFO!$F199))), 0))","v":13716},{"$f":"IF(INTRO!$E$43=\"Non-endemic\", 0, IF(COUNTRY_INFO!$K199>0, IF(COUNTRY_INFO!$K199=4, 0, IF(COUNTRY_INFO!$K199=1, 0, IF(COUNTRY_INFO!$K199=2, COUNTRY_INFO!$G199*0.2, COUNTRY_INFO!$G199))), 0))","v":13816.800000000001},27532.800000000003,{"$f":"IF(INTRO!$E$43=\"Non-endemic\", \"Not required\", COUNTRY_INFO!S199)","v":1},"Yes",{"$f":"IF($D199=0,0,IF(AND($G199>0,$H199<>\"Yes\"),D199,IF(AND($G199>0,$H199=\"Yes\"),COUNTRY_INFO!$F199,0)))","v":27432},null,13816.800000000001,41248.800000000003,68580,41450.400000000001,68580,null,68580,69]
[{"$f":"IF(INTRO!$E$43=\"Non-endemic\",\" \", IF(COUNTRY_INFO!A200=0,\" \",COUNTRY_INFO!A200))","v":"Ghana"},{"$f":"IF(INTRO!$E$43=\"Non-endemic\",\" \", IF(COUNTRY_INFO!B200=0,\" \",COUNTRY_INFO!B200))","v":"Volta"},{"$f":"IF(INTRO!$E$43=\"Non-endemic\",\" \", IF(COUNTRY_INFO!C200=0,\" \",COUNTRY_INFO!C200))","v":"Central Tongu"},{"$f":"IF(INTRO!$E$43=\"Non-endemic\", 0, IF(COUNTRY_INFO!$K200>0, IF(COUNTRY_INFO!$K200=4, 0, IF(COUNTRY_INFO!$K200=1, COUNTRY_INFO!$F200*0.33, IF(COUNTRY_INFO!$K200=2, COUNTRY_INFO!$F200*0.5, COUNTRY_INFO!$F200))), 0))","v":9077},{"$f":"IF(INTRO!$E$43=\"Non-endemic\", 0, IF(COUNTRY_INFO!$K200>0, IF(COUNTRY_INFO!$K200=4, 0, IF(COUNTRY_INFO!$K200=1, 0, IF(COUNTRY_INFO!$K200=2, COUNTRY_INFO!$G200*0.2, COUNTRY_INFO!$G200))), 0))","v":9143.4},18220.400000000001,{"$f":"IF(INTRO!$E$43=\"Non-endemic\", \"Not required\", COUNTRY_INFO!S200)","v":1},"Yes",{"$f":"IF($D200=0,0,IF(AND($G200>0,$H200<>\"Yes\"),D200,IF(AND($G200>0,$H200=\"Yes\"),COUNTRY_INFO!$F200,0)))","v":18154},null,9143.4,27297.4,45385,27430.199999999997,45385,null,45385,46]
[{"$f":"IF(INTRO!$E$43=\"Non-endemic\",\" \", IF(COUNTRY_INFO!A201=0,\" \",COUNTRY_INFO!A201))","v":"Ghana"},{"$f":"IF(INTRO!$E$43=\"Non-endemic\",\" \", IF(COUNTRY_INFO!B201=0,\" \",COUNTRY_INFO!B201))","v":"Volta"},{"$f":"IF(INTRO!$E$43=\"Non-endemic\",\" \", IF(COUNTRY_INFO!C201=0,\" \",COUNTRY_INFO!C201))","v":"South Dayi"},{"$f":"IF(INTRO!$E$43=\"Non-endemic\", 0, IF(COUNTRY_INFO!$K201>0, IF(COUNTRY_INFO!$K201=4, 0, IF(COUNTRY_INFO!$K201=1, COUNTRY_INFO!$F201*0.33, IF(COUNTRY_INFO!$K201=2, COUNTRY_INFO!$F201*0.5, COUNTRY_INFO!$F201))), 0))","v":14258},{"$f":"IF(INTRO!$E$43=\"Non-endemic\", 0, IF(COUNTRY_INFO!$K201>0, IF(COUNTRY_INFO!$K201=4, 0, IF(COUNTRY_INFO!$K201=1, 0, IF(COUNTRY_INFO!$K201=2, COUNTRY_INFO!$G201*0.2, COUNTRY_INFO!$G201))), 0))","v":35906},{"$f":"SUM(D201:E201)","v":50164},{"$f":"IF(INTRO!$E$43=\"Non-endemic\", \"Not required\", COUNTRY_INFO!S201)","v":1},"Yes",{"$f":"IF($D201=0,0,IF(AND($G201>0,$H201<>\"Yes\"),D201,IF(AND($G201>0,$H201=\"Yes\"),COUNTRY_INFO!$F201,0)))","v":14258},null,{"$f":"IF($G201>0,E201, 0)","v":35906},{"$f":"IF($J201=0,SUM(I201,K201),SUM(J201,K201))","v":50164},{"$f":"IF($J201=0,$I201*2.5,$J201*2.5)","v":35645},{"$f":"$K201*3","v":107718},{"$f":"M201","v":35645},null,{"$f":"IF($O201>$P201,O201-P201,0)","v":35645},{"$f":"ROUNDUP($O201/1000,0)","v":36}]
[{"$f":"IF(INTRO!$E$43=\"Non-endemic\",\" \", IF(COUNTRY_INFO!A202=0,\" \",COUNTRY_INFO!A202))","v":"Ghana"},{"$f":"IF(INTRO!$E$43=\"Non-endemic\",\" \", IF(COUNTRY_INFO!B202=0,\" \",COUNTRY_INFO!B202))","v":"Volta"},{"$f":"IF(INTRO!$E$43=\"Non-endemic\",\" \", IF(COUNTRY_INFO!C202=0,\" \",COUNTRY_INFO!C202))","v":"South Tongu"},{"$f":"IF(INTRO!$E$43=\"Non-endemic\", 0, IF(COUNTRY_INFO!$K202>0, IF(COUNTRY_INFO!$K202=4, 0, IF(COUNTRY_INFO!$K202=1, COUNTRY_INFO!$F202*0.33, IF(COUNTRY_INFO!$K202=2, COUNTRY_INFO!$F202*0.5, COUNTRY_INFO!$F202))), 0))","v":13437},{"$f":"IF(INTRO!$E$43=\"Non-endemic\", 0, IF(COUNTRY_INFO!$K202>0, IF(COUNTRY_INFO!$K202=4, 0, IF(COUNTRY_INFO!$K202=1, 0, IF(COUNTRY_INFO!$K202=2, COUNTRY_INFO!$G202*0.2, COUNTRY_INFO!$G202))), 0))","v":13535.400000000001},26972.400000000001,{"$f":"IF(INTRO!$E$43=\"Non-endemic\", \"Not required\", COUNTRY_INFO!S202)","v":1},"Yes",{"$f":"IF($D202=0,0,IF(AND($G202>0,$H202<>\"Yes\"),D202,IF(AND($G202>0,$H202=\"Yes\"),COUNTRY_INFO!$F202,0)))","v":26874},null,13535.400000000001,40409.4,67185,40606.200000000004,67185,null,67185,68]
[{"$f":"IF(INTRO!$E$43=\"Non-endemic\",\" \", IF(COUNTRY_INFO!A203=0,\" \",COUNTRY_INFO!A203))","v":"Ghana"},{"$f":"IF(INTRO!$E$43=\"Non-endemic\",\" \", IF(COUNTRY_INFO!B203=0,\" \",COUNTRY_INFO!B203))","v":"Western"},{"$f":"IF(INTRO!$E$43=\"Non-endemic\",\" \", IF(COUNTRY_INFO!C203=0,\" \",COUNTRY_INFO!C203))","v":"Ahanta West"},{"$f":"IF(INTRO!$E$43=\"Non-endemic\", 0, IF(COUNTRY_INFO!$K203>0, IF(COUNTRY_INFO!$K203=4, 0, IF(COUNTRY_INFO!$K203=1, COUNTRY_INFO!$F203*0.33, IF(COUNTRY_INFO!$K203=2, COUNTRY_INFO!$F203*0.5, COUNTRY_INFO!$F203))), 0))","v":15605},{"$f":"IF(INTRO!$E$43=\"Non-endemic\", 0, IF(COUNTRY_INFO!$K203>0, IF(COUNTRY_INFO!$K203=4, 0, IF(COUNTRY_INFO!$K203=1, 0, IF(COUNTRY_INFO!$K203=2, COUNTRY_INFO!$G203*0.2, COUNTRY_INFO!$G203))), 0))","v":15719.6},31324.6,{"$f":"IF(INTRO!$E$43=\"Non-endemic\", \"Not required\", COUNTRY_INFO!S203)","v":1},"Yes",{"$f":"IF($D203=0,0,IF(AND($G203>0,$H203<>\"Yes\"),D203,IF(AND($G203>0,$H203=\"Yes\"),COUNTRY_INFO!$F203,0)))","v":31210},null,15719.6,46929.599999999999,78025,47158.8,78025,null,78025,79]
[{"$f":"IF(INTRO!$E$43=\"Non-endemic\",\" \", IF(COUNTRY_INFO!A204=0,\" \",COUNTRY_INFO!A204))","v":"Ghana"},{"$f":"IF(INTRO!$E$43=\"Non-endemic\",\" \", IF(COUNTRY_INFO!B204=0,\" \",COUNTRY_INFO!B204))","v":"Western"},{"$f":"IF(INTRO!$E$43=\"Non-endemic\",\" \", IF(COUNTRY_INFO!C204=0,\" \",COUNTRY_INFO!C204))","v":"Aowin"},{"$f":"IF(INTRO!$E$43=\"Non-endemic\", 0, IF(COUNTRY_INFO!$K204>0, IF(COUNTRY_INFO!$K204=4, 0, IF(COUNTRY_INFO!$K204=1, COUNTRY_INFO!$F204*0.33, IF(COUNTRY_INFO!$K204=2, COUNTRY_INFO!$F204*0.5, COUNTRY_INFO!$F204))), 0))","v":34737},{"$f":"IF(INTRO!$E$43=\"Non-endemic\", 0, IF(COUNTRY_INFO!$K204>0, IF(COUNTRY_INFO!$K204=4, 0, IF(COUNTRY_INFO!$K204=1, 0, IF(COUNTRY_INFO!$K204=2, COUNTRY_INFO!$G204*0.2, COUNTRY_INFO!$G204))), 0))","v":87480},122217,{"$f":"IF(INTRO!$E$43=\"Non-endemic\", \"Not required\", COUNTRY_INFO!S204)","v":1},"Yes",{"$f":"IF($D204=0,0,IF(AND($G204>0,$H204<>\"Yes\"),D204,IF(AND($G204>0,$H204=\"Yes\"),COUNTRY_INFO!$F204,0)))","v":34737},null,87480,122217,86842.5,262440,86842.5,null,86842.5,87]
[{"$f":"IF(INTRO!$E$43=\"Non-endemic\",\" \", IF(COUNTRY_INFO!A205=0,\" \",COUNTRY_INFO!A205))","v":"Ghana"},{"$f":"IF(INTRO!$E$43=\"Non-endemic\",\" \", IF(COUNTRY_INFO!B205=0,\" \",COUNTRY_INFO!B205))","v":"Western"},{"$f":"IF(INTRO!$E$43=\"Non-endemic\",\" \", IF(COUNTRY_INFO!C205=0,\" \",COUNTRY_INFO!C205))","v":"Suaman"},{"$f":"IF(INTRO!$E$43=\"Non-endemic\", 0, IF(COUNTRY_INFO!$K205>0, IF(COUNTRY_INFO!$K205=4, 0, IF(COUNTRY_INFO!$K205=1, COUNTRY_INFO!$F205*0.33, IF(COUNTRY_INFO!$K205=2, COUNTRY_INFO!$F205*0.5, COUNTRY_INFO!$F205))), 0))","v":5934},{"$f":"IF(INTRO!$E$43=\"Non-endemic\", 0, IF(COUNTRY_INFO!$K205>0, IF(COUNTRY_INFO!$K205=4, 0, IF(COUNTRY_INFO!$K205=1, 0, IF(COUNTRY_INFO!$K205=2, COUNTRY_INFO!$G205*0.2, COUNTRY_INFO!$G205))), 0))","v":14945},20879,{"$f":"IF(INTRO!$E$43=\"Non-endemic\", \"Not required\", COUNTRY_INFO!S205)","v":1},"Yes",{"$f":"IF($D205=0,0,IF(AND($G205>0,$H205<>\"Yes\"),D205,IF(AND($G205>0,$H205=\"Yes\"),COUNTRY_INFO!$F205,0)))","v":5934},null,14945,20879,14835,44835,14835,null,14835,15]
[{"$f":"IF(INTRO!$E$43=\"Non-endemic\",\" \", IF(COUNTRY_INFO!A206=0,\" \",COUNTRY_INFO!A206))","v":"Ghana"},{"$f":"IF(INTRO!$E$43=\"Non-endemic\",\" \", IF(COUNTRY_INFO!B206=0,\" \",COUNTRY_INFO!B206))","v":"Western"},{"$f":"IF(INTRO!$E$43=\"Non-endemic\",\" \", IF(COUNTRY_INFO!C206=0,\" \",COUNTRY_INFO!C206))","v":"Axim Municipal "},{"$f":"IF(INTRO!$E$43=\"Non-endemic\", 0, IF(COUNTRY_INFO!$K206>0, IF(COUNTRY_INFO!$K206=4, 0, IF(COUNTRY_INFO!$K206=1, COUNTRY_INFO!$F206*0.33, IF(COUNTRY_INFO!$K206=2, COUNTRY_INFO!$F206*0.5, COUNTRY_INFO!$F206))), 0))","v":8936.5},{"$f":"IF(INTRO!$E$43=\"Non-endemic\", 0, IF(COUNTRY_INFO!$K206>0, IF(COUNTRY_INFO!$K206=4, 0, IF(COUNTRY_INFO!$K206=1, 0, IF(COUNTRY_INFO!$K206=2, COUNTRY_INFO!$G206*0.2, COUNTRY_INFO!$G206))), 0))","v":9002.2000000000007},17938.7,{"$f":"IF(INTRO!$E$43=\"Non-endemic\", \"Not required\", COUNTRY_INFO!S206)","v":1},"Yes",{"$f":"IF($D206=0,0,IF(AND($G206>0,$H206<>\"Yes\"),D206,IF(AND($G206>0,$H206=\"Yes\"),COUNTRY_INFO!$F206,0)))","v":17873},null,9002.2000000000007,26875.200000000001,44682.5,27006.600000000002,44682.5,null,44682.5,45]
[{"$f":"IF(INTRO!$E$43=\"Non-endemic\",\" \", IF(COUNTRY_INFO!A207=0,\" \",COUNTRY_INFO!A207))","v":"Ghana"},{"$f":"IF(INTRO!$E$43=\"Non-endemic\",\" \", IF(COUNTRY_INFO!B207=0,\" \",COUNTRY_INFO!B207))","v":"Western"},{"$f":"IF(INTRO!$E$43=\"Non-endemic\",\" \", IF(COUNTRY_INFO!C207=0,\" \",COUNTRY_INFO!C207))","v":"Bia West"},{"$f":"IF(INTRO!$E$43=\"Non-endemic\", 0, IF(COUNTRY_INFO!$K207>0, IF(COUNTRY_INFO!$K207=4, 0, IF(COUNTRY_INFO!$K207=1, COUNTRY_INFO!$F207*0.33, IF(COUNTRY_INFO!$K207=2, COUNTRY_INFO!$F207*0.5, COUNTRY_INFO!$F207))), 0))","v":13216.5},{"$f":"IF(INTRO!$E$43=\"Non-endemic\", 0, IF(COUNTRY_INFO!$K207>0, IF(COUNTRY_INFO!$K207=4, 0, IF(COUNTRY_INFO!$K207=1, 0, IF(COUNTRY_INFO!$K207=2, COUNTRY_INFO!$G207*0.2, COUNTRY_INFO!$G207))), 0))","v":13313.6},26530.1,{"$f":"IF(INTRO!$E$43=\"Non-endemic\", \"Not required\", COUNTRY_INFO!S207)","v":1},"Yes",{"$f":"IF($D207=0,0,IF(AND($G207>0,$H207<>\"Yes\"),D207,IF(AND($G207>0,$H207=\"Yes\"),COUNTRY_INFO!$F207,0)))","v":26433},null,13313.6,39746.6,66082.5,39940.800000000003,66082.5,null,66082.5,67]
[{"$f":"IF(INTRO!$E$43=\"Non-endemic\",\" \", IF(COUNTRY_INFO!A208=0,\" \",COUNTRY_INFO!A208))","v":"Ghana"},{"$f":"IF(INTRO!$E$43=\"Non-endemic\",\" \", IF(COUNTRY_INFO!B208=0,\" \",COUNTRY_INFO!B208))","v":"Western"},{"$f":"IF(INTRO!$E$43=\"Non-endemic\",\" \", IF(COUNTRY_INFO!C208=0,\" \",COUNTRY_INFO!C208))","v":"Bia East"},{"$f":"IF(INTRO!$E$43=\"Non-endemic\", 0, IF(COUNTRY_INFO!$K208>0, IF(COUNTRY_INFO!$K208=4, 0, IF(COUNTRY_INFO!$K208=1, COUNTRY_INFO!$F208*0.33, IF(COUNTRY_INFO!$K208=2, COUNTRY_INFO!$F208*0.5, COUNTRY_INFO!$F208))), 0))","v":3874.5},{"$f":"IF(INTRO!$E$43=\"Non-endemic\", 0, IF(COUNTRY_INFO!$K208>0, IF(COUNTRY_INFO!$K208=4, 0, IF(COUNTRY_INFO!$K208=1, 0, IF(COUNTRY_INFO!$K208=2, COUNTRY_INFO!$G208*0.2, COUNTRY_INFO!$G208))), 0))","v":3903.2000000000003},7777.7000000000007,{"$f":"IF(INTRO!$E$43=\"Non-endemic\", \"Not required\", COUNTRY_INFO!S208)","v":1},"Yes",{"$f":"IF($D208=0,0,IF(AND($G208>0,$H208<>\"Yes\"),D208,IF(AND($G208>0,$H208=\"Yes\"),COUNTRY_INFO!$F208,0)))","v":7749},null,3903.2000000000003,11652.2,19372.5,11709.6,19372.5,null,19372.5,20]
[{"$f":"IF(INTRO!$E$43=\"Non-endemic\",\" \", IF(COUNTRY_INFO!A209=0,\" \",COUNTRY_INFO!A209))","v":"Ghana"},{"$f":"IF(INTRO!$E$43=\"Non-endemic\",\" \", IF(COUNTRY_INFO!B209=0,\" \",COUNTRY_INFO!B209))","v":"Western"},{"$f":"IF(INTRO!$E$43=\"Non-endemic\",\" \", IF(COUNTRY_INFO!C209=0,\" \",COUNTRY_INFO!C209))","v":"Bibiani-Anhwiaso-Bekwai"},{"$f":"IF(INTRO!$E$43=\"Non-endemic\", 0, IF(COUNTRY_INFO!$K209>0, IF(COUNTRY_INFO!$K209=4, 0, IF(COUNTRY_INFO!$K209=1, COUNTRY_INFO!$F209*0.33, IF(COUNTRY_INFO!$K209=2, COUNTRY_INFO!$F209*0.5, COUNTRY_INFO!$F209))), 0))","v":18111},{"$f":"IF(INTRO!$E$43=\"Non-endemic\", 0, IF(COUNTRY_INFO!$K209>0, IF(COUNTRY_INFO!$K209=4, 0, IF(COUNTRY_INFO!$K209=1, 0, IF(COUNTRY_INFO!$K209=2, COUNTRY_INFO!$G209*0.2, COUNTRY_INFO!$G209))), 0))","v":18243.8},36354.800000000003,{"$f":"IF(INTRO!$E$43=\"Non-endemic\", \"Not required\", COUNTRY_INFO!S209)","v":1},"Yes",{"$f":"IF($D209=0,0,IF(AND($G209>0,$H209<>\"Yes\"),D209,IF(AND($G209>0,$H209=\"Yes\"),COUNTRY_INFO!$F209,0)))","v":36222},null,18243.8,54465.8,90555,54731.399999999994,90555,null,90555,91]
[{"$f":"IF(INTRO!$E$43=\"Non-endemic\",\" \", IF(COUNTRY_INFO!A210=0,\" \",COUNTRY_INFO!A210))","v":"Ghana"},{"$f":"IF(INTRO!$E$43=\"Non-endemic\",\" \", IF(COUNTRY_INFO!B210=0,\" \",COUNTRY_INFO!B210))","v":"Western"},{"$f":"IF(INTRO!$E$43=\"Non-endemic\",\" \", IF(COUNTRY_INFO!C210=0,\" \",COUNTRY_INFO!C210))","v":"Ellembelle"},{"$f":"IF(INTRO!$E$43=\"Non-endemic\", 0, IF(COUNTRY_INFO!$K210>0, IF(COUNTRY_INFO!$K210=4, 0, IF(COUNTRY_INFO!$K210=1, COUNTRY_INFO!$F210*0.33, IF(COUNTRY_INFO!$K210=2, COUNTRY_INFO!$F210*0.5, COUNTRY_INFO!$F210))), 0))","v":12855.5},{"$f":"IF(INTRO!$E$43=\"Non-endemic\", 0, IF(COUNTRY_INFO!$K210>0, IF(COUNTRY_INFO!$K210=4, 0, IF(COUNTRY_INFO!$K210=1, 0, IF(COUNTRY_INFO!$K210=2, COUNTRY_INFO!$G210*0.2, COUNTRY_INFO!$G210))), 0))","v":12949.800000000001},25805.300000000003,{"$f":"IF(INTRO!$E$43=\"Non-endemic\", \"Not required\", COUNTRY_INFO!S210)","v":1},"Yes",{"$f":"IF($D210=0,0,IF(AND($G210>0,$H210<>\"Yes\"),D210,IF(AND($G210>0,$H210=\"Yes\"),COUNTRY_INFO!$F210,0)))","v":25711},null,12949.800000000001,38660.800000000003,64277.5,38849.4,64277.5,null,64277.5,65]
[{"$f":"IF(INTRO!$E$43=\"Non-endemic\",\" \", IF(COUNTRY_INFO!A211=0,\" \",COUNTRY_INFO!A211))","v":"Ghana"},{"$f":"IF(INTRO!$E$43=\"Non-endemic\",\" \", IF(COUNTRY_INFO!B211=0,\" \",COUNTRY_INFO!B211))","v":"Western"},{"$f":"IF(INTRO!$E$43=\"Non-endemic\",\" \", IF(COUNTRY_INFO!C211=0,\" \",COUNTRY_INFO!C211))","v":"Jomoro"},{"$f":"IF(INTRO!$E$43=\"Non-endemic\", 0, IF(COUNTRY_INFO!$K211>0, IF(COUNTRY_INFO!$K211=4, 0, IF(COUNTRY_INFO!$K211=1, COUNTRY_INFO!$F211*0.33, IF(COUNTRY_INFO!$K211=2, COUNTRY_INFO!$F211*0.5, COUNTRY_INFO!$F211))), 0))","v":22053.5},{"$f":"IF(INTRO!$E$43=\"Non-endemic\", 0, IF(COUNTRY_INFO!$K211>0, IF(COUNTRY_INFO!$K211=4, 0, IF(COUNTRY_INFO!$K211=1, 0, IF(COUNTRY_INFO!$K211=2, COUNTRY_INFO!$G211*0.2, COUNTRY_INFO!$G211))), 0))","v":22215.4},44268.9,{"$f":"IF(INTRO!$E$43=\"Non-endemic\", \"Not required\", COUNTRY_INFO!S211)","v":1},"Yes",{"$f":"IF($D211=0,0,IF(AND($G211>0,$H211<>\"Yes\"),D211,IF(AND($G211>0,$H211=\"Yes\"),COUNTRY_INFO!$F211,0)))","v":44107},null,22215.4,66322.399999999994,110267.5,66646.200000000012,110267.5,null,110267.5,111]
[{"$f":"IF(INTRO!$E$43=\"Non-endemic\",\" \", IF(COUNTRY_INFO!A212=0,\" \",COUNTRY_INFO!A212))","v":"Ghana"},{"$f":"IF(INTRO!$E$43=\"Non-endemic\",\" \", IF(COUNTRY_INFO!B212=0,\" \",COUNTRY_INFO!B212))","v":"Western"},{"$f":"IF(INTRO!$E$43=\"Non-endemic\",\" \", IF(COUNTRY_INFO!C212=0,\" \",COUNTRY_INFO!C212))","v":"Juabeso"},{"$f":"IF(INTRO!$E$43=\"Non-endemic\", 0, IF(COUNTRY_INFO!$K212>0, IF(COUNTRY_INFO!$K212=4, 0, IF(COUNTRY_INFO!$K212=1, COUNTRY_INFO!$F212*0.33, IF(COUNTRY_INFO!$K212=2, COUNTRY_INFO!$F212*0.5, COUNTRY_INFO!$F212))), 0))","v":8656.5},{"$f":"IF(INTRO!$E$43=\"Non-endemic\", 0, IF(COUNTRY_INFO!$K212>0, IF(COUNTRY_INFO!$K212=4, 0, IF(COUNTRY_INFO!$K212=1, 0, IF(COUNTRY_INFO!$K212=2, COUNTRY_INFO!$G212*0.2, COUNTRY_INFO!$G212))), 0))","v":8720},17376.5,{"$f":"IF(INTRO!$E$43=\"Non-endemic\", \"Not required\", COUNTRY_INFO!S212)","v":1},"Yes",{"$f":"IF($D212=0,0,IF(AND($G212>0,$H212<>\"Yes\"),D212,IF(AND($G212>0,$H212=\"Yes\"),COUNTRY_INFO!$F212,0)))","v":17313},null,8720,26033,43282.5,26160,43282.5,null,43282.5,44]
[{"$f":"IF(INTRO!$E$43=\"Non-endemic\",\" \", IF(COUNTRY_INFO!A213=0,\" \",COUNTRY_INFO!A213))","v":"Ghana"},{"$f":"IF(INTRO!$E$43=\"Non-endemic\",\" \", IF(COUNTRY_INFO!B213=0,\" \",COUNTRY_INFO!B213))","v":"Western"},{"$f":"IF(INTRO!$E$43=\"Non-endemic\",\" \", IF(COUNTRY_INFO!C213=0,\" \",COUNTRY_INFO!C213))","v":"Bodi"},{"$f":"IF(INTRO!$E$43=\"Non-endemic\", 0, IF(COUNTRY_INFO!$K213>0, IF(COUNTRY_INFO!$K213=4, 0, IF(COUNTRY_INFO!$K213=1, COUNTRY_INFO!$F213*0.33, IF(COUNTRY_INFO!$K213=2, COUNTRY_INFO!$F213*0.5, COUNTRY_INFO!$F213))), 0))","v":7761.5},{"$f":"IF(INTRO!$E$43=\"Non-endemic\", 0, IF(COUNTRY_INFO!$K213>0, IF(COUNTRY_INFO!$K213=4, 0, IF(COUNTRY_INFO!$K213=1, 0, IF(COUNTRY_INFO!$K213=2, COUNTRY_INFO!$G213*0.2, COUNTRY_INFO!$G213))), 0))","v":7818.4000000000005},15579.900000000001,{"$f":"IF(INTRO!$E$43=\"Non-endemic\", \"Not required\", COUNTRY_INFO!S213)","v":1},"Yes",{"$f":"IF($D213=0,0,IF(AND($G213>0,$H213<>\"Yes\"),D213,IF(AND($G213>0,$H213=\"Yes\"),COUNTRY_INFO!$F213,0)))","v":15523},null,7818.4000000000005,23341.4,38807.5,23455.200000000001,38807.5,null,38807.5,39]
[{"$f":"IF(INTRO!$E$43=\"Non-endemic\",\" \", IF(COUNTRY_INFO!A214=0,\" \",COUNTRY_INFO!A214))","v":"Ghana"},{"$f":"IF(INTRO!$E$43=\"Non-endemic\",\" \", IF(COUNTRY_INFO!B214=0,\" \",COUNTRY_INFO!B214))","v":"Western"},{"$f":"IF(INTRO!$E$43=\"Non-endemic\",\" \", IF(COUNTRY_INFO!C214=0,\" \",COUNTRY_INFO!C214))","v":"Wassa East"},{"$f":"IF(INTRO!$E$43=\"Non-endemic\", 0, IF(COUNTRY_INFO!$K214>0, IF(COUNTRY_INFO!$K214=4, 0, IF(COUNTRY_INFO!$K214=1, COUNTRY_INFO!$F214*0.33, IF(COUNTRY_INFO!$K214=2, COUNTRY_INFO!$F214*0.5, COUNTRY_INFO!$F214))), 0))","v":11911},{"$f":"IF(INTRO!$E$43=\"Non-endemic\", 0, IF(COUNTRY_INFO!$K214>0, IF(COUNTRY_INFO!$K214=4, 0, IF(COUNTRY_INFO!$K214=1, 0, IF(COUNTRY_INFO!$K214=2, COUNTRY_INFO!$G214*0.2, COUNTRY_INFO!$G214))), 0))","v":11998.6},23909.599999999999,{"$f":"IF(INTRO!$E$43=\"Non-endemic\", \"Not required\", COUNTRY_INFO!S214)","v":1},"Yes",{"$f":"IF($D214=0,0,IF(AND($G214>0,$H214<>\"Yes\"),D214,IF(AND($G214>0,$H214=\"Yes\"),COUNTRY_INFO!$F214,0)))","v":23822},null,11998.6,35820.6,59555,35995.800000000003,59555,null,59555,60]
[{"$f":"IF(INTRO!$E$43=\"Non-endemic\",\" \", IF(COUNTRY_INFO!A215=0,\" \",COUNTRY_INFO!A215))","v":"Ghana"},{"$f":"IF(INTRO!$E$43=\"Non-endemic\",\" \", IF(COUNTRY_INFO!B215=0,\" \",COUNTRY_INFO!B215))","v":"Western"},{"$f":"IF(INTRO!$E$43=\"Non-endemic\",\" \", IF(COUNTRY_INFO!C215=0,\" \",COUNTRY_INFO!C215))","v":"Mpohor"},{"$f":"IF(INTRO!$E$43=\"Non-endemic\", 0, IF(COUNTRY_INFO!$K215>0, IF(COUNTRY_INFO!$K215=4, 0, IF(COUNTRY_INFO!$K215=1, COUNTRY_INFO!$F215*0.33, IF(COUNTRY_INFO!$K215=2, COUNTRY_INFO!$F215*0.5, COUNTRY_INFO!$F215))), 0))","v":6306},{"$f":"IF(INTRO!$E$43=\"Non-endemic\", 0, IF(COUNTRY_INFO!$K215>0, IF(COUNTRY_INFO!$K215=4, 0, IF(COUNTRY_INFO!$K215=1, 0, IF(COUNTRY_INFO!$K215=2, COUNTRY_INFO!$G215*0.2, COUNTRY_INFO!$G215))), 0))","v":6352.4000000000005},12658.400000000001,{"$f":"IF(INTRO!$E$43=\"Non-endemic\", \"Not required\", COUNTRY_INFO!S215)","v":1},"Yes",{"$f":"IF($D215=0,0,IF(AND($G215>0,$H215<>\"Yes\"),D215,IF(AND($G215>0,$H215=\"Yes\"),COUNTRY_INFO!$F215,0)))","v":12612},null,6352.4000000000005,18964.400000000001,31530,19057.2,31530,null,31530,32]
[{"$f":"IF(INTRO!$E$43=\"Non-endemic\",\" \", IF(COUNTRY_INFO!A216=0,\" \",COUNTRY_INFO!A216))","v":"Ghana"},{"$f":"IF(INTRO!$E$43=\"Non-endemic\",\" \", IF(COUNTRY_INFO!B216=0,\" \",COUNTRY_INFO!B216))","v":"Western"},{"$f":"IF(INTRO!$E$43=\"Non-endemic\",\" \", IF(COUNTRY_INFO!C216=0,\" \",COUNTRY_INFO!C216))","v":"Prestea-Huni-Valley"},{"$f":"IF(INTRO!$E$43=\"Non-endemic\", 0, IF(COUNTRY_INFO!$K216>0, IF(COUNTRY_INFO!$K216=4, 0, IF(COUNTRY_INFO!$K216=1, COUNTRY_INFO!$F216*0.33, IF(COUNTRY_INFO!$K216=2, COUNTRY_INFO!$F216*0.5, COUNTRY_INFO!$F216))), 0))","v":23404.5},{"$f":"IF(INTRO!$E$43=\"Non-endemic\", 0, IF(COUNTRY_INFO!$K216>0, IF(COUNTRY_INFO!$K216=4, 0, IF(COUNTRY_INFO!$K216=1, 0, IF(COUNTRY_INFO!$K216=2, COUNTRY_INFO!$G216*0.2, COUNTRY_INFO!$G216))), 0))","v":23576.400000000001},46980.9,{"$f":"IF(INTRO!$E$43=\"Non-endemic\", \"Not required\", COUNTRY_INFO!S216)","v":1},"Yes",{"$f":"IF($D216=0,0,IF(AND($G216>0,$H216<>\"Yes\"),D216,IF(AND($G216>0,$H216=\"Yes\"),COUNTRY_INFO!$F216,0)))","v":46809},null,23576.400000000001,70385.399999999994,117022.5,70729.200000000012,117022.5,null,117022.5,118]
[{"$f":"IF(INTRO!$E$43=\"Non-endemic\",\" \", IF(COUNTRY_INFO!A217=0,\" \",COUNTRY_INFO!A217))","v":"Ghana"},{"$f":"IF(INTRO!$E$43=\"Non-endemic\",\" \", IF(COUNTRY_INFO!B217=0,\" \",COUNTRY_INFO!B217))","v":"Western"},{"$f":"IF(INTRO!$E$43=\"Non-endemic\",\" \", IF(COUNTRY_INFO!C217=0,\" \",COUNTRY_INFO!C217))","v":"Sefwi-Akontombra"},{"$f":"IF(INTRO!$E$43=\"Non-endemic\", 0, IF(COUNTRY_INFO!$K217>0, IF(COUNTRY_INFO!$K217=4, 0, IF(COUNTRY_INFO!$K217=1, COUNTRY_INFO!$F217*0.33, IF(COUNTRY_INFO!$K217=2, COUNTRY_INFO!$F217*0.5, COUNTRY_INFO!$F217))), 0))","v":12116},{"$f":"IF(INTRO!$E$43=\"Non-endemic\", 0, IF(COUNTRY_INFO!$K217>0, IF(COUNTRY_INFO!$K217=4, 0, IF(COUNTRY_INFO!$K217=1, 0, IF(COUNTRY_INFO!$K217=2, COUNTRY_INFO!$G217*0.2, COUNTRY_INFO!$G217))), 0))","v":12204.800000000001},24320.800000000003,{"$f":"IF(INTRO!$E$43=\"Non-endemic\", \"Not required\", COUNTRY_INFO!S217)","v":1},"Yes",{"$f":"IF($D217=0,0,IF(AND($G217>0,$H217<>\"Yes\"),D217,IF(AND($G217>0,$H217=\"Yes\"),COUNTRY_INFO!$F217,0)))","v":24232},null,12204.800000000001,36436.800000000003,60580,36614.400000000001,60580,null,60580,61]
[{"$f":"IF(INTRO!$E$43=\"Non-endemic\",\" \", IF(COUNTRY_INFO!A218=0,\" \",COUNTRY_INFO!A218))","v":"Ghana"},{"$f":"IF(INTRO!$E$43=\"Non-endemic\",\" \", IF(COUNTRY_INFO!B218=0,\" \",COUNTRY_INFO!B218))","v":"Western"},{"$f":"IF(INTRO!$E$43=\"Non-endemic\",\" \", IF(COUNTRY_INFO!C218=0,\" \",COUNTRY_INFO!C218))","v":"Sefwi-Wiawso"},{"$f":"IF(INTRO!$E$43=\"Non-endemic\", 0, IF(COUNTRY_INFO!$K218>0, IF(COUNTRY_INFO!$K218=4, 0, IF(COUNTRY_INFO!$K218=1, COUNTRY_INFO!$F218*0.33, IF(COUNTRY_INFO!$K218=2, COUNTRY_INFO!$F218*0.5, COUNTRY_INFO!$F218))), 0))","v":20451},{"$f":"IF(INTRO!$E$43=\"Non-endemic\", 0, IF(COUNTRY_INFO!$K218>0, IF(COUNTRY_INFO!$K218=4, 0, IF(COUNTRY_INFO!$K218=1, 0, IF(COUNTRY_INFO!$K218=2, COUNTRY_INFO!$G218*0.2, COUNTRY_INFO!$G218))), 0))","v":20601.2},41052.199999999997,{"$f":"IF(INTRO!$E$43=\"Non-endemic\", \"Not required\", COUNTRY_INFO!S218)","v":1},"Yes",{"$f":"IF($D218=0,0,IF(AND($G218>0,$H218<>\"Yes\"),D218,IF(AND($G218>0,$H218=\"Yes\"),COUNTRY_INFO!$F218,0)))","v":40902},null,20601.2,61503.199999999997,102255,61803.600000000006,102255,null,102255,103]
[{"$f":"IF(INTRO!$E$43=\"Non-endemic\",\" \", IF(COUNTRY_INFO!A219=0,\" \",COUNTRY_INFO!A219))","v":"Ghana"},{"$f":"IF(INTRO!$E$43=\"Non-endemic\",\" \", IF(COUNTRY_INFO!B219=0,\" \",COUNTRY_INFO!B219))","v":"Western"},{"$f":"IF(INTRO!$E$43=\"Non-endemic\",\" \", IF(COUNTRY_INFO!C219=0,\" \",COUNTRY_INFO!C219))","v":"Sekondi-Takoradi"},{"$f":"IF(INTRO!$E$43=\"Non-endemic\", 0, IF(COUNTRY_INFO!$K219>0, IF(COUNTRY_INFO!$K219=4, 0, IF(COUNTRY_INFO!$K219=1, COUNTRY_INFO!$F219*0.33, IF(COUNTRY_INFO!$K219=2, COUNTRY_INFO!$F219*0.5, COUNTRY_INFO!$F219))), 0))","v":82207},{"$f":"IF(INTRO!$E$43=\"Non-endemic\", 0, IF(COUNTRY_INFO!$K219>0, IF(COUNTRY_INFO!$K219=4, 0, IF(COUNTRY_INFO!$K219=1, 0, IF(COUNTRY_INFO!$K219=2, COUNTRY_INFO!$G219*0.2, COUNTRY_INFO!$G219))), 0))","v":82811.200000000012},165018.20000000001,{"$f":"IF(INTRO!$E$43=\"Non-endemic\", \"Not required\", COUNTRY_INFO!S219)","v":0},null,{"$f":"IF($D219=0,0,IF(AND($G219>0,$H219<>\"Yes\"),D219,IF(AND($G219>0,$H219=\"Yes\"),COUNTRY_INFO!$F219,0)))","v":0},null,0,0,0,0,0,null,0,0]
[{"$f":"IF(INTRO!$E$43=\"Non-endemic\",\" \", IF(COUNTRY_INFO!A220=0,\" \",COUNTRY_INFO!A220))","v":"Ghana"},{"$f":"IF(INTRO!$E$43=\"Non-endemic\",\" \", IF(COUNTRY_INFO!B220=0,\" \",COUNTRY_INFO!B220))","v":"Western"},{"$f":"IF(INTRO!$E$43=\"Non-endemic\",\" \", IF(COUNTRY_INFO!C220=0,\" \",COUNTRY_INFO!C220))","v":"Shama"},{"$f":"IF(INTRO!$E$43=\"Non-endemic\", 0, IF(COUNTRY_INFO!$K220>0, IF(COUNTRY_INFO!$K220=4, 0, IF(COUNTRY_INFO!$K220=1, COUNTRY_INFO!$F220*0.33, IF(COUNTRY_INFO!$K220=2, COUNTRY_INFO!$F220*0.5, COUNTRY_INFO!$F220))), 0))","v":12042},{"$f":"IF(INTRO!$E$43=\"Non-endemic\", 0, IF(COUNTRY_INFO!$K220>0, IF(COUNTRY_INFO!$K220=4, 0, IF(COUNTRY_INFO!$K220=1, 0, IF(COUNTRY_INFO!$K220=2, COUNTRY_INFO!$G220*0.2, COUNTRY_INFO!$G220))), 0))","v":12130.800000000001},24172.800000000003,{"$f":"IF(INTRO!$E$43=\"Non-endemic\", \"Not required\", COUNTRY_INFO!S220)","v":1},"Yes",{"$f":"IF($D220=0,0,IF(AND($G220>0,$H220<>\"Yes\"),D220,IF(AND($G220>0,$H220=\"Yes\"),COUNTRY_INFO!$F220,0)))","v":24084},null,12130.800000000001,36214.800000000003,60210,36392.400000000001,60210,null,60210,61]
[{"$f":"IF(INTRO!$E$43=\"Non-endemic\",\" \", IF(COUNTRY_INFO!A221=0,\" \",COUNTRY_INFO!A221))","v":"Ghana"},{"$f":"IF(INTRO!$E$43=\"Non-endemic\",\" \", IF(COUNTRY_INFO!B221=0,\" \",COUNTRY_INFO!B221))","v":"Western"},{"$f":"IF(INTRO!$E$43=\"Non-endemic\",\" \", IF(COUNTRY_INFO!C221=0,\" \",COUNTRY_INFO!C221))","v":"Tarkwa-Nsuaem"},{"$f":"IF(INTRO!$E$43=\"Non-endemic\", 0, IF(COUNTRY_INFO!$K221>0, IF(COUNTRY_INFO!$K221=4, 0, IF(COUNTRY_INFO!$K221=1, COUNTRY_INFO!$F221*0.33, IF(COUNTRY_INFO!$K221=2, COUNTRY_INFO!$F221*0.5, COUNTRY_INFO!$F221))), 0))","v":13292.5},{"$f":"IF(INTRO!$E$43=\"Non-endemic\", 0, IF(COUNTRY_INFO!$K221>0, IF(COUNTRY_INFO!$K221=4, 0, IF(COUNTRY_INFO!$K221=1, 0, IF(COUNTRY_INFO!$K221=2, COUNTRY_INFO!$G221*0.2, COUNTRY_INFO!$G221))), 0))","v":13390.2},26682.7,{"$f":"IF(INTRO!$E$43=\"Non-endemic\", \"Not required\", COUNTRY_INFO!S221)","v":1},"Yes",{"$f":"IF($D221=0,0,IF(AND($G221>0,$H221<>\"Yes\"),D221,IF(AND($G221>0,$H221=\"Yes\"),COUNTRY_INFO!$F221,0)))","v":26585},null,13390.2,39975.199999999997,66462.5,40170.600000000006,66462.5,null,66462.5,67]
[{"$f":"IF(INTRO!$E$43=\"Non-endemic\",\" \", IF(COUNTRY_INFO!A222=0,\" \",COUNTRY_INFO!A222))","v":"Ghana"},{"$f":"IF(INTRO!$E$43=\"Non-endemic\",\" \", IF(COUNTRY_INFO!B222=0,\" \",COUNTRY_INFO!B222))","v":"Western"},{"$f":"IF(INTRO!$E$43=\"Non-endemic\",\" \", IF(COUNTRY_INFO!C222=0,\" \",COUNTRY_INFO!C222))","v":"Wassa-Amenfi East"},{"$f":"IF(INTRO!$E$43=\"Non-endemic\", 0, IF(COUNTRY_INFO!$K222>0, IF(COUNTRY_INFO!$K222=4, 0, IF(COUNTRY_INFO!$K222=1, COUNTRY_INFO!$F222*0.33, IF(COUNTRY_INFO!$K222=2, COUNTRY_INFO!$F222*0.5, COUNTRY_INFO!$F222))), 0))","v":12264.5},{"$f":"IF(INTRO!$E$43=\"Non-endemic\", 0, IF(COUNTRY_INFO!$K222>0, IF(COUNTRY_INFO!$K222=4, 0, IF(COUNTRY_INFO!$K222=1, 0, IF(COUNTRY_INFO!$K222=2, COUNTRY_INFO!$G222*0.2, COUNTRY_INFO!$G222))), 0))","v":12354.400000000001},24618.9,{"$f":"IF(INTRO!$E$43=\"Non-endemic\", \"Not required\", COUNTRY_INFO!S222)","v":1},"Yes",{"$f":"IF($D222=0,0,IF(AND($G222>0,$H222<>\"Yes\"),D222,IF(AND($G222>0,$H222=\"Yes\"),COUNTRY_INFO!$F222,0)))","v":24529},null,12354.400000000001,36883.4,61322.5,37063.200000000004,61322.5,null,61322.5,62]
[{"$f":"IF(INTRO!$E$43=\"Non-endemic\",\" \", IF(COUNTRY_INFO!A223=0,\" \",COUNTRY_INFO!A223))","v":"Ghana"},{"$f":"IF(INTRO!$E$43=\"Non-endemic\",\" \", IF(COUNTRY_INFO!B223=0,\" \",COUNTRY_INFO!B223))","v":"Western"},{"$f":"IF(INTRO!$E$43=\"Non-endemic\",\" \", IF(COUNTRY_INFO!C223=0,\" \",COUNTRY_INFO!C223))","v":"Wassa Amenfi Central"},{"$f":"IF(INTRO!$E$43=\"Non-endemic\", 0, IF(COUNTRY_INFO!$K223>0, IF(COUNTRY_INFO!$K223=4, 0, IF(COUNTRY_INFO!$K223=1, COUNTRY_INFO!$F223*0.33, IF(COUNTRY_INFO!$K223=2, COUNTRY_INFO!$F223*0.5, COUNTRY_INFO!$F223))), 0))","v":10070},{"$f":"IF(INTRO!$E$43=\"Non-endemic\", 0, IF(COUNTRY_INFO!$K223>0, IF(COUNTRY_INFO!$K223=4, 0, IF(COUNTRY_INFO!$K223=1, 0, IF(COUNTRY_INFO!$K223=2, COUNTRY_INFO!$G223*0.2, COUNTRY_INFO!$G223))), 0))","v":10144.200000000001},20214.2,{"$f":"IF(INTRO!$E$43=\"Non-endemic\", \"Not required\", COUNTRY_INFO!S223)","v":1},"Yes",{"$f":"IF($D223=0,0,IF(AND($G223>0,$H223<>\"Yes\"),D223,IF(AND($G223>0,$H223=\"Yes\"),COUNTRY_INFO!$F223,0)))","v":20140},null,10144.200000000001,30284.2,50350,30432.600000000002,50350,null,50350,51]
[{"$f":"IF(INTRO!$E$43=\"Non-endemic\",\" \", IF(COUNTRY_INFO!A224=0,\" \",COUNTRY_INFO!A224))","v":"Ghana"},{"$f":"IF(INTRO!$E$43=\"Non-endemic\",\" \", IF(COUNTRY_INFO!B224=0,\" \",COUNTRY_INFO!B224))","v":"Western"},{"$f":"IF(INTRO!$E$43=\"Non-endemic\",\" \", IF(COUNTRY_INFO!C224=0,\" \",COUNTRY_INFO!C224))","v":"Wassa-Amenfi West"},{"$f":"IF(INTRO!$E$43=\"Non-endemic\", 0, IF(COUNTRY_INFO!$K224>0, IF(COUNTRY_INFO!$K224=4, 0, IF(COUNTRY_INFO!$K224=1, COUNTRY_INFO!$F224*0.33, IF(COUNTRY_INFO!$K224=2, COUNTRY_INFO!$F224*0.5, COUNTRY_INFO!$F224))), 0))","v":27216},{"$f":"IF(INTRO!$E$43=\"Non-endemic\", 0, IF(COUNTRY_INFO!$K224>0, IF(COUNTRY_INFO!$K224=4, 0, IF(COUNTRY_INFO!$K224=1, 0, IF(COUNTRY_INFO!$K224=2, COUNTRY_INFO!$G224*0.2, COUNTRY_INFO!$G224))), 0))","v":68539},95755,{"$f":"IF(INTRO!$E$43=\"Non-endemic\", \"Not required\", COUNTRY_INFO!S224)","v":1},"Yes",{"$f":"IF($D224=0,0,IF(AND($G224>0,$H224<>\"Yes\"),D224,IF(AND($G224>0,$H224=\"Yes\"),COUNTRY_INFO!$F224,0)))","v":27216},null,68539,95755,68040,205617,68040,null,68040,69]
[{"$f":"IF(INTRO!$E$43=\"Non-endemic\",\" \", IF(COUNTRY_INFO!A225=0,\" \",COUNTRY_INFO!A225))","v":"Ghana"},{"$f":"IF(INTRO!$E$43=\"Non-endemic\",\" \", IF(COUNTRY_INFO!B225=0,\" \",COUNTRY_INFO!B225))","v":" "},{"$f":"IF(INTRO!$E$43=\"Non-endemic\",\" \", IF(COUNTRY_INFO!C225=0,\" \",COUNTRY_INFO!C225))","v":" "},{"$f":"IF(INTRO!$E$43=\"Non-endemic\", 0, IF(COUNTRY_INFO!$K225>0, IF(COUNTRY_INFO!$K225=4, 0, IF(COUNTRY_INFO!$K225=1, COUNTRY_INFO!$F225*0.33, IF(COUNTRY_INFO!$K225=2, COUNTRY_INFO!$F225*0.5, COUNTRY_INFO!$F225))), 0))","v":0},{"$f":"IF(INTRO!$E$43=\"Non-endemic\", 0, IF(COUNTRY_INFO!$K225>0, IF(COUNTRY_INFO!$K225=4, 0, IF(COUNTRY_INFO!$K225=1, 0, IF(COUNTRY_INFO!$K225=2, COUNTRY_INFO!$G225*0.2, COUNTRY_INFO!$G225))), 0))","v":0},0,{"$f":"IF(INTRO!$E$43=\"Non-endemic\", \"Not required\", COUNTRY_INFO!S225)","v":0},null,{"$f":"IF($D225=0,0,IF(AND($G225>0,$H225<>\"Yes\"),D225,IF(AND($G225>0,$H225=\"Yes\"),COUNTRY_INFO!$F225,0)))","v":0},null,0,0,0,0,0,null,0,0]
[{"$f":"IF(INTRO!$E$43=\"Non-endemic\",\" \", IF(COUNTRY_INFO!A226=0,\" \",COUNTRY_INFO!A226))","v":"Ghana"},{"$f":"IF(INTRO!$E$43=\"Non-endemic\",\" \", IF(COUNTRY_INFO!B226=0,\" \",COUNTRY_INFO!B226))","v":" "},{"$f":"IF(INTRO!$E$43=\"Non-endemic\",\" \", IF(COUNTRY_INFO!C226=0,\" \",COUNTRY_INFO!C226))","v":" "},{"$f":"IF(INTRO!$E$43=\"Non-endemic\", 0, IF(COUNTRY_INFO!$K226>0, IF(COUNTRY_INFO!$K226=4, 0, IF(COUNTRY_INFO!$K226=1, COUNTRY_INFO!$F226*0.33, IF(COUNTRY_INFO!$K226=2, COUNTRY_INFO!$F226*0.5, COUNTRY_INFO!$F226))), 0))","v":0},{"$f":"IF(INTRO!$E$43=\"Non-endemic\", 0, IF(COUNTRY_INFO!$K226>0, IF(COUNTRY_INFO!$K226=4, 0, IF(COUNTRY_INFO!$K226=1, 0, IF(COUNTRY_INFO!$K226=2, COUNTRY_INFO!$G226*0.2, COUNTRY_INFO!$G226))), 0))","v":0},0,{"$f":"IF(INTRO!$E$43=\"Non-endemic\", \"Not required\", COUNTRY_INFO!S226)","v":0},null,{"$f":"IF($D226=0,0,IF(AND($G226>0,$H226<>\"Yes\"),D226,IF(AND($G226>0,$H226=\"Yes\"),COUNTRY_INFO!$F226,0)))","v":0},null,0,0,0,0,0,null,0,0]
[{"$f":"IF(INTRO!$E$43=\"Non-endemic\",\" \", IF(COUNTRY_INFO!A227=0,\" \",COUNTRY_INFO!A227))","v":"Ghana"},{"$f":"IF(INTRO!$E$43=\"Non-endemic\",\" \", IF(COUNTRY_INFO!B227=0,\" \",COUNTRY_INFO!B227))","v":" "},{"$f":"IF(INTRO!$E$43=\"Non-endemic\",\" \", IF(COUNTRY_INFO!C227=0,\" \",COUNTRY_INFO!C227))","v":" "},{"$f":"IF(INTRO!$E$43=\"Non-endemic\", 0, IF(COUNTRY_INFO!$K227>0, IF(COUNTRY_INFO!$K227=4, 0, IF(COUNTRY_INFO!$K227=1, COUNTRY_INFO!$F227*0.33, IF(COUNTRY_INFO!$K227=2, COUNTRY_INFO!$F227*0.5, COUNTRY_INFO!$F227))), 0))","v":0},{"$f":"IF(INTRO!$E$43=\"Non-endemic\", 0, IF(COUNTRY_INFO!$K227>0, IF(COUNTRY_INFO!$K227=4, 0, IF(COUNTRY_INFO!$K227=1, 0, IF(COUNTRY_INFO!$K227=2, COUNTRY_INFO!$G227*0.2, COUNTRY_INFO!$G227))), 0))","v":0},0,{"$f":"IF(INTRO!$E$43=\"Non-endemic\", \"Not required\", COUNTRY_INFO!S227)","v":0},null,{"$f":"IF($D227=0,0,IF(AND($G227>0,$H227<>\"Yes\"),D227,IF(AND($G227>0,$H227=\"Yes\"),COUNTRY_INFO!$F227,0)))","v":0},null,0,0,0,0,0,null,0,0]
[{"$f":"IF(INTRO!$E$43=\"Non-endemic\",\" \", IF(COUNTRY_INFO!A228=0,\" \",COUNTRY_INFO!A228))","v":"Ghana"},{"$f":"IF(INTRO!$E$43=\"Non-endemic\",\" \", IF(COUNTRY_INFO!B228=0,\" \",COUNTRY_INFO!B228))","v":" "},{"$f":"IF(INTRO!$E$43=\"Non-endemic\",\" \", IF(COUNTRY_INFO!C228=0,\" \",COUNTRY_INFO!C228))","v":" "},{"$f":"IF(INTRO!$E$43=\"Non-endemic\", 0, IF(COUNTRY_INFO!$K228>0, IF(COUNTRY_INFO!$K228=4, 0, IF(COUNTRY_INFO!$K228=1, COUNTRY_INFO!$F228*0.33, IF(COUNTRY_INFO!$K228=2, COUNTRY_INFO!$F228*0.5, COUNTRY_INFO!$F228))), 0))","v":0},{"$f":"IF(INTRO!$E$43=\"Non-endemic\", 0, IF(COUNTRY_INFO!$K228>0, IF(COUNTRY_INFO!$K228=4, 0, IF(COUNTRY_INFO!$K228=1, 0, IF(COUNTRY_INFO!$K228=2, COUNTRY_INFO!$G228*0.2, COUNTRY_INFO!$G228))), 0))","v":0},0,{"$f":"IF(INTRO!$E$43=\"Non-endemic\", \"Not required\", COUNTRY_INFO!S228)","v":0},null,{"$f":"IF($D228=0,0,IF(AND($G228>0,$H228<>\"Yes\"),D228,IF(AND($G228>0,$H228=\"Yes\"),COUNTRY_INFO!$F228,0)))","v":0},null,0,0,0,0,0,null,0,0]
[{"$f":"IF(INTRO!$E$43=\"Non-endemic\",\" \", IF(COUNTRY_INFO!A229=0,\" \",COUNTRY_INFO!A229))","v":"Ghana"},{"$f":"IF(INTRO!$E$43=\"Non-endemic\",\" \", IF(COUNTRY_INFO!B229=0,\" \",COUNTRY_INFO!B229))","v":" "},{"$f":"IF(INTRO!$E$43=\"Non-endemic\",\" \", IF(COUNTRY_INFO!C229=0,\" \",COUNTRY_INFO!C229))","v":" "},{"$f":"IF(INTRO!$E$43=\"Non-endemic\", 0, IF(COUNTRY_INFO!$K229>0, IF(COUNTRY_INFO!$K229=4, 0, IF(COUNTRY_INFO!$K229=1, COUNTRY_INFO!$F229*0.33, IF(COUNTRY_INFO!$K229=2, COUNTRY_INFO!$F229*0.5, COUNTRY_INFO!$F229))), 0))","v":0},{"$f":"IF(INTRO!$E$43=\"Non-endemic\", 0, IF(COUNTRY_INFO!$K229>0, IF(COUNTRY_INFO!$K229=4, 0, IF(COUNTRY_INFO!$K229=1, 0, IF(COUNTRY_INFO!$K229=2, COUNTRY_INFO!$G229*0.2, COUNTRY_INFO!$G229))), 0))","v":0},0,{"$f":"IF(INTRO!$E$43=\"Non-endemic\", \"Not required\", COUNTRY_INFO!S229)","v":0},null,{"$f":"IF($D229=0,0,IF(AND($G229>0,$H229<>\"Yes\"),D229,IF(AND($G229>0,$H229=\"Yes\"),COUNTRY_INFO!$F229,0)))","v":0},null,0,0,0,0,0,null,0,0]

{"sheet":"IVM","index":5,"n_rows":229,"n_cols":17,"rows_kept":229,"cut":false,"hidden":false,"merged":[[6,10,7,10],[6,11,7,11],[6,12,7,12],[6,13,7,13],[3,0,3,2],[3,4,3,5],[6,4,7,4],[6,5,7,5],[5,10,5,16],[6,0,7,0],[6,1,7,1],[6,2,7,2],[6,7,6,9],[5,0,5,2],[5,4,5,5],[5,6,5,9],[6,14,7,14],[5,3,7,3],[6,15,7,15],[6,16,7,16]]}
["Ivermectin (IVM)"]
["Administrative structure, eligible population by age group, treatment plan and information about tablets"]
[]
["TOTAL",null,null,{"$f":"SUM(D$9:D$1000)","v":11191769},null,null,{"$f":"SUM(G$9:G$1000)","v":1163404},10558871,0,10558871,1321815.5999999999,47375008.800000012,1935715.5999999996,50632540.000000015,0,50632540.000000015,101332]
[]
["Country administrative structure",null,null,"Population requiring treatment with IVM","Treatment plan",null,"Target population",null,null,null,"Ivermectin (IVM)"]
["Country","Province/State","District",null,"LF","Oncho","LF","Oncho",null,null,"LF only","Oncho only","LF+Oncho","Total required","Remaining in stock","Tablets to be procured","Bottles (3mg)\n500 tablets"]
[null,null,null,null,null,null,null,"in the district","in villages","total"]
[{"$f":"IF(INTRO!$E$39=\"Non-endemic\",\" \",IF(COUNTRY_INFO!A9=0,\" \",COUNTRY_INFO!A9))","v":"Ghana"},{"$f":"IF(INTRO!$E$39=\"Non-endemic\",\" \",IF(COUNTRY_INFO!B9=0,\" \",COUNTRY_INFO!B9))","v":"Ashanti"},{"$f":"IF(INTRO!$E$39=\"Non-endemic\",\" \",IF(COUNTRY_INFO!C9=0,\" \",COUNTRY_INFO!C9))","v":"Adansi North"},{"$f":"IF(INTRO!$E$39=\"Non-endemic\",0,IF(INTRO!$E$39=\"Endemic but PC is not required\",IF(COUNTRY_INFO!$H9=1,COUNTRY_INFO!F9+COUNTRY_INFO!G9,0),IF(COUNTRY_INFO!$H9=1,COUNTRY_INFO!F9+COUNTRY_INFO!G9,IF(COUNTRY_INFO!$I9=1,IF(COUNTRY_INFO!M9>=(COUNTRY_INFO!F9+COUNTRY_INFO!G9),COUNTRY_INFO!F9+COUNTRY_INFO!G9,COUNTRY_INFO!$M9),0))))","v":106901},{"$f":"IF(AND(INTRO!$E$39=\"Non-endemic\",INTRO!$E$37=\"Non-endemic\"),\"Not required\",IF(INTRO!$E$39=\"Non-endemic\",\"Treat with DEC\",COUNTRY_INFO!P9))","v":0},{"$f":"IF(INTRO!$E$39<>\"Non-endemic\",COUNTRY_INFO!Q9,\"Not required\")","v":2},{"$f":"IF(COUNTRY_INFO!H9=1, IF($E9=1,$D9, 0),0)","v":0},{"$f":"IF(INTRO!$E$39<>\"Endemic\",0, IF(AND(COUNTRY_INFO!$I9=1,$F9<>0),IF(COUNTRY_INFO!M9>=(COUNTRY_INFO!F9+COUNTRY_INFO!G9),COUNTRY_INFO!F9+COUNTRY_INFO!G9,COUNTRY_INFO!$M9), 0))","v":106901},null,{"$f":"IF(I9=0,H9,IF(I9>H9,H9,I9))","v":106901},{"$f":"IF(G9<J9,0,IF($E9=1, (G9-J9)*2.8, 0))","v":0},{"$f":"IF($E9<$F9, J9*(F9-E9)*2.8, 0)","v":598645.6},{"$f":"IF(AND($E9=1, $F9<>0), J9*2.8, 0)","v":0},{"$f":"SUM(K9:M9)","v":598645.6},null,{"$f":"IF($N9>$O9,$N9-$O9,0)","v":598645.6},{"$f":"ROUNDUP($N9/500,0)","v":1198}]
[{"$f":"IF(INTRO!$E$39=\"Non-endemic\",\" \",IF(COUNTRY_INFO!A10=0,\" \",COUNTRY_INFO!A10))","v":"Ghana"},{"$f":"IF(INTRO!$E$39=\"Non-endemic\",\" \",IF(COUNTRY_INFO!B10=0,\" \",COUNTRY_INFO!B10))","v":"Ashanti"},{"$f":"IF(INTRO!$E$39=\"Non-endemic\",\" \",IF(COUNTRY_INFO!C10=0,\" \",COUNTRY_INFO!C10))","v":"Adansi South"},{"$f":"IF(INTRO!$E$39=\"Non-endemic\",0,IF(INTRO!$E$39=\"Endemic but PC is not required\",IF(COUNTRY_INFO!$H10=1,COUNTRY_INFO!F10+COUNTRY_INFO!G10,0),IF(COUNTRY_INFO!$H10=1,COUNTRY_INFO!F10+COUNTRY_INFO!G10,IF(COUNTRY_INFO!$I10=1,IF(COUNTRY_INFO!M10>=(COUNTRY_INFO!F10+COUNTRY_INFO!G10),COUNTRY_INFO!F10+COUNTRY_INFO!G10,COUNTRY_INFO!$M10),0))))","v":125988},{"$f":"IF(AND(INTRO!$E$39=\"Non-endemic\",INTRO!$E$37=\"Non-endemic\"),\"Not required\",IF(INTRO!$E$39=\"Non-endemic\",\"Treat with DEC\",COUNTRY_INFO!P10))","v":0},{"$f":"IF(INTRO!$E$39<>\"Non-endemic\",COUNTRY_INFO!Q10,\"Not required\")","v":2},{"$f":"IF(COUNTRY_INFO!H10=1, IF($E10=1,$D10, 0),0)","v":0},{"$f":"IF(INTRO!$E$39<>\"Endemic\",0, IF(AND(COUNTRY_INFO!$I10=1,$F10<>0),IF(COUNTRY_INFO!M10>=(COUNTRY_INFO!F10+COUNTRY_INFO!G10),COUNTRY_INFO!F10+COUNTRY_INFO!G10,COUNTRY_INFO!$M10), 0))","v":125988},null,125988,0,705532.79999999993,0,705532.79999999993,null,705532.79999999993,1412]
[{"$f":"IF(INTRO!$E$39=\"Non-endemic\",\" \",IF(COUNTRY_INFO!A11=0,\" \",COUNTRY_INFO!A11))","v":"Ghana"},{"$f":"IF(INTRO!$E$39=\"Non-endemic\",\" \",IF(COUNTRY_INFO!B11=0,\" \",COUNTRY_INFO!B11))","v":"Ashanti"},{"$f":"IF(INTRO!$E$39=\"Non-endemic\",\" \",IF(COUNTRY_INFO!C11=0,\" \",COUNTRY_INFO!C11))","v":"Afigya-Kwabre"},{"$f":"IF(INTRO!$E$39=\"Non-endemic\",0,IF(INTRO!$E$39=\"Endemic but PC is not required\",IF(COUNTRY_INFO!$H11=1,COUNTRY_INFO!F11+COUNTRY_INFO!G11,0),IF(COUNTRY_INFO!$H11=1,COUNTRY_INFO!F11+COUNTRY_INFO!G11,IF(COUNTRY_INFO!$I11=1,IF(COUNTRY_INFO!M11>=(COUNTRY_INFO!F11+COUNTRY_INFO!G11),COUNTRY_INFO!F11+COUNTRY_INFO!G11,COUNTRY_INFO!$M11),0))))","v":114512},{"$f":"IF(AND(INTRO!$E$39=\"Non-endemic\",INTRO!$E$37=\"Non-endemic\"),\"Not required\",IF(INTRO!$E$39=\"Non-endemic\",\"Treat with DEC\",COUNTRY_INFO!P11))","v":0},{"$f":"IF(INTRO!$E$39<>\"Non-endemic\",COUNTRY_INFO!Q11,\"Not required\")","v":1},{"$f":"IF(COUNTRY_INFO!H11=1, IF($E11=1,$D11, 0),0)","v":0},{"$f":"IF(INTRO!$E$39<>\"Endemic\",0, IF(AND(COUNTRY_INFO!$I11=1,$F11<>0),IF(COUNTRY_INFO!M11>=(COUNTRY_INFO!F11+COUNTRY_INFO!G11),COUNTRY_INFO!F11+COUNTRY_INFO!G11,COUNTRY_INFO!$M11), 0))","v":114512},null,114512,0,320633.59999999998,0,320633.59999999998,null,320633.59999999998,642]
[{"$f":"IF(INTRO!$E$39=\"Non-endemic\",\" \",IF(COUNTRY_INFO!A12=0,\" \",COUNTRY_INFO!A12))","v":"Ghana"},{"$f":"IF(INTRO!$E$39=\"Non-endemic\",\" \",IF(COUNTRY_INFO!B12=0,\" \",COUNTRY_INFO!B12))","v":"Ashanti"},{"$f":"IF(INTRO!$E$39=\"Non-endemic\",\" \",IF(COUNTRY_INFO!C12=0,\" \",COUNTRY_INFO!C12))","v":"Ahafo-Ano North"},{"$f":"IF(INTRO!$E$39=\"Non-endemic\",0,IF(INTRO!$E$39=\"Endemic but PC is not required\",IF(COUNTRY_INFO!$H12=1,COUNTRY_INFO!F12+COUNTRY_INFO!G12,0),IF(COUNTRY_INFO!$H12=1,COUNTRY_INFO!F12+COUNTRY_INFO!G12,IF(COUNTRY_INFO!$I12=1,IF(COUNTRY_INFO!M12>=(COUNTRY_INFO!F12+COUNTRY_INFO!G12),COUNTRY_INFO!F12+COUNTRY_INFO!G12,COUNTRY_INFO!$M12),0))))","v":39432},{"$f":"IF(AND(INTRO!$E$39=\"Non-endemic\",INTRO!$E$37=\"Non-endemic\"),\"Not required\",IF(INTRO!$E$39=\"Non-endemic\",\"Treat with DEC\",COUNTRY_INFO!P12))","v":0},{"$f":"IF(INTRO!$E$39<>\"Non-endemic\",COUNTRY_INFO!Q12,\"Not required\")","v":1},{"$f":"IF(COUNTRY_INFO!H12=1, IF($E12=1,$D12, 0),0)","v":0},{"$f":"IF(INTRO!$E$39<>\"Endemic\",0, IF(AND(COUNTRY_INFO!$I12=1,$F12<>0),IF(COUNTRY_INFO!M12>=(COUNTRY_INFO!F12+COUNTRY_INFO!G12),COUNTRY_INFO!F12+COUNTRY_INFO!G12,COUNTRY_INFO!$M12), 0))","v":39432},null,39432,0,110409.59999999999,0,110409.59999999999,null,110409.59999999999,221]
[{"$f":"IF(INTRO!$E$39=\"Non-endemic\",\" \",IF(COUNTRY_INFO!A13=0,\" \",COUNTRY_INFO!A13))","v":"Ghana"},{"$f":"IF(INTRO!$E$39=\"Non-endemic\",\" \",IF(COUNTRY_INFO!B13=0,\" \",COUNTRY_INFO!B13))","v":"Ashanti"},{"$f":"IF(INTRO!$E$39=\"Non-endemic\",\" \",IF(COUNTRY_INFO!C13=0,\" \",COUNTRY_INFO!C13))","v":"Ahafo-Ano South"},{"$f":"IF(INTRO!$E$39=\"Non-endemic\",0,IF(INTRO!$E$39=\"Endemic but PC is not required\",IF(COUNTRY_INFO!$H13=1,COUNTRY_INFO!F13+COUNTRY_INFO!G13,0),IF(COUNTRY_INFO!$H13=1,COUNTRY_INFO!F13+COUNTRY_INFO!G13,IF(COUNTRY_INFO!$I13=1,IF(COUNTRY_INFO!M13>=(COUNTRY_INFO!F13+COUNTRY_INFO!G13),COUNTRY_INFO!F13+COUNTRY_INFO!G13,COUNTRY_INFO!$M13),0))))","v":82143},{"$f":"IF(AND(INTRO!$E$39=\"Non-endemic\",INTRO!$E$37=\"Non-endemic\"),\"Not required\",IF(INTRO!$E$39=\"Non-endemic\",\"Treat with DEC\",COUNTRY_INFO!P13))","v":0},{"$f":"IF(INTRO!$E$39<>\"Non-endemic\",COUNTRY_INFO!Q13,\"Not required\")","v":1},{"$f":"IF(COUNTRY_INFO!H13=1, IF($E13=1,$D13, 0),0)","v":0},{"$f":"IF(INTRO!$E$39<>\"Endemic\",0, IF(AND(COUNTRY_INFO!$I13=1,$F13<>0),IF(COUNTRY_INFO!M13>=(COUNTRY_INFO!F13+COUNTRY_INFO!G13),COUNTRY_INFO!F13+COUNTRY_INFO!G13,COUNTRY_INFO!$M13), 0))","v":82143},null,82143,0,230000.4,0,230000.4,null,230000.4,461]
[{"$f":"IF(INTRO!$E$39=\"Non-endemic\",\" \",IF(COUNTRY_INFO!A14=0,\" \",COUNTRY_INFO!A14))","v":"Ghana"},{"$f":"IF(INTRO!$E$39=\"Non-endemic\",\" \",IF(COUNTRY_INFO!B14=0,\" \",COUNTRY_INFO!B14))","v":"Ashanti"},{"$f":"IF(INTRO!$E$39=\"Non-endemic\",\" \",IF(COUNTRY_INFO!C14=0,\" \",COUNTRY_INFO!C14))","v":"Amansie Central"},{"$f":"IF(INTRO!$E$39=\"Non-endemic\",0,IF(INTRO!$E$39=\"Endemic but PC is not required\",IF(COUNTRY_INFO!$H14=1,COUNTRY_INFO!F14+COUNTRY_INFO!G14,0),IF(COUNTRY_INFO!$H14=1,COUNTRY_INFO!F14+COUNTRY_INFO!G14,IF(COUNTRY_INFO!$I14=1,IF(COUNTRY_INFO!M14>=(COUNTRY_INFO!F14+COUNTRY_INFO!G14),COUNTRY_INFO!F14+COUNTRY_INFO!G14,COUNTRY_INFO!$M14),0))))","v":56567},{"$f":"IF(AND(INTRO!$E$39=\"Non-endemic\",INTRO!$E$37=\"Non-endemic\"),\"Not required\",IF(INTRO!$E$39=\"Non-endemic\",\"Treat with DEC\",COUNTRY_INFO!P14))","v":0},{"$f":"IF(INTRO!$E$39<>\"Non-endemic\",COUNTRY_INFO!Q14,\"Not required\")","v":2},{"$f":"IF(COUNTRY_INFO!H14=1, IF($E14=1,$D14, 0),0)","v":0},{"$f":"IF(INTRO!$E$39<>\"Endemic\",0, IF(AND(COUNTRY_INFO!$I14=1,$F14<>0),IF(COUNTRY_INFO!M14>=(COUNTRY_INFO!F14+COUNTRY_INFO!G14),COUNTRY_INFO!F14+COUNTRY_INFO!G14,COUNTRY_INFO!$M14), 0))","v":56567},null,56567,0,316775.19999999995,0,316775.19999999995,null,316775.19999999995,634]
[{"$f":"IF(INTRO!$E$39=\"Non-endemic\",\" \",IF(COUNTRY_INFO!A15=0,\" \",COUNTRY_INFO!A15))","v":"Ghana"},{"$f":"IF(INTRO!$E$39=\"Non-endemic\",\" \",IF(COUNTRY_INFO!B15=0,\" \",COUNTRY_INFO!B15))","v":"Ashanti"},{"$f":"IF(INTRO!$E$39=\"Non-endemic\",\" \",IF(COUNTRY_INFO!C15=0,\" \",COUNTRY_INFO!C15))","v":"Mampong Muncipal"},{"$f":"IF(INTRO!$E$39=\"Non-endemic\",0,IF(INTRO!$E$39=\"Endemic but PC is not required\",IF(COUNTRY_INFO!$H15=1,COUNTRY_INFO!F15+COUNTRY_INFO!G15,0),IF(COUNTRY_INFO!$H15=1,COUNTRY_INFO!F15+COUNTRY_INFO!G15,IF(COUNTRY_INFO!$I15=1,IF(COUNTRY_INFO!M15>=(COUNTRY_INFO!F15+COUNTRY_INFO!G15),COUNTRY_INFO!F15+COUNTRY_INFO!G15,COUNTRY_INFO!$M15),0))))","v":46847},{"$f":"IF(AND(INTRO!$E$39=\"Non-endemic\",INTRO!$E$37=\"Non-endemic\"),\"Not required\",IF(INTRO!$E$39=\"Non-endemic\",\"Treat with DEC\",COUNTRY_INFO!P15))","v":0},{"$f":"IF(INTRO!$E$39<>\"Non-endemic\",COUNTRY_INFO!Q15,\"Not required\")","v":1},{"$f":"IF(COUNTRY_INFO!H15=1, IF($E15=1,$D15, 0),0)","v":0},{"$f":"IF(INTRO!$E$39<>\"Endemic\",0, IF(AND(COUNTRY_INFO!$I15=1,$F15<>0),IF(COUNTRY_INFO!M15>=(COUNTRY_INFO!F15+COUNTRY_INFO!G15),COUNTRY_INFO!F15+COUNTRY_INFO!G15,COUNTRY_INFO!$M15), 0))","v":46847},null,46847,0,131171.6,0,131171.6,null,131171.6,263]
[{"$f":"IF(INTRO!$E$39=\"Non-endemic\",\" \",IF(COUNTRY_INFO!A16=0,\" \",COUNTRY_INFO!A16))","v":"Ghana"},{"$f":"IF(INTRO!$E$39=\"Non-endemic\",\" \",IF(COUNTRY_INFO!B16=0,\" \",COUNTRY_INFO!B16))","v":"Ashanti"},{"$f":"IF(INTRO!$E$39=\"Non-endemic\",\" \",IF(COUNTRY_INFO!C16=0,\" \",COUNTRY_INFO!C16))","v":"Amansie West"},{"$f":"IF(INTRO!$E$39=\"Non-endemic\",0,IF(INTRO!$E$39=\"Endemic but PC is not required\",IF(COUNTRY_INFO!$H16=1,COUNTRY_INFO!F16+COUNTRY_INFO!G16,0),IF(COUNTRY_INFO!$H16=1,COUNTRY_INFO!F16+COUNTRY_INFO!G16,IF(COUNTRY_INFO!$I16=1,IF(COUNTRY_INFO!M16>=(COUNTRY_INFO!F16+COUNTRY_INFO!G16),COUNTRY_INFO!F16+COUNTRY_INFO!G16,COUNTRY_INFO!$M16),0))))","v":20925},{"$f":"IF(AND(INTRO!$E$39=\"Non-endemic\",INTRO!$E$37=\"Non-endemic\"),\"Not required\",IF(INTRO!$E$39=\"Non-endemic\",\"Treat with DEC\",COUNTRY_INFO!P16))","v":0},{"$f":"IF(INTRO!$E$39<>\"Non-endemic\",COUNTRY_INFO!Q16,\"Not required\")","v":1},{"$f":"IF(COUNTRY_INFO!H16=1, IF($E16=1,$D16, 0),0)","v":0},{"$f":"IF(INTRO!$E$39<>\"Endemic\",0, IF(AND(COUNTRY_INFO!$I16=1,$F16<>0),IF(COUNTRY_INFO!M16>=(COUNTRY_INFO!F16+COUNTRY_INFO!G16),COUNTRY_INFO!F16+COUNTRY_INFO!G16,COUNTRY_INFO!$M16), 0))","v":20925},null,20925,0,58589.999999999993,0,58589.999999999993,null,58589.999999999993,118]
[{"$f":"IF(INTRO!$E$39=\"Non-endemic\",\" \",IF(COUNTRY_INFO!A17=0,\" \",COUNTRY_INFO!A17))","v":"Ghana"},{"$f":"IF(INTRO!$E$39=\"Non-endemic\",\" \",IF(COUNTRY_INFO!B17=0,\" \",COUNTRY_INFO!B17))","v":"Ashanti"},{"$f":"IF(INTRO!$E$39=\"Non-endemic\",\" \",IF(COUNTRY_INFO!C17=0,\" \",COUNTRY_INFO!C17))","v":"Asante-Akim Central"},{"$f":"IF(INTRO!$E$39=\"Non-endemic\",0,IF(INTRO!$E$39=\"Endemic but PC is not required\",IF(COUNTRY_INFO!$H17=1,COUNTRY_INFO!F17+COUNTRY_INFO!G17,0),IF(COUNTRY_INFO!$H17=1,COUNTRY_INFO!F17+COUNTRY_INFO!G17,IF(COUNTRY_INFO!$I17=1,IF(COUNTRY_INFO!M17>=(COUNTRY_INFO!F17+COUNTRY_INFO!G17),COUNTRY_INFO!F17+COUNTRY_INFO!G17,COUNTRY_INFO!$M17),0))))","v":0},{"$f":"IF(AND(INTRO!$E$39=\"Non-endemic\",INTRO!$E$37=\"Non-endemic\"),\"Not required\",IF(INTRO!$E$39=\"Non-endemic\",\"Treat with DEC\",COUNTRY_INFO!P17))","v":0},{"$f":"IF(INTRO!$E$39<>\"Non-endemic\",COUNTRY_INFO!Q17,\"Not required\")","v":0},{"$f":"IF(COUNTRY_INFO!H17=1, IF($E17=1,$D17, 0),0)","v":0},{"$f":"IF(INTRO!$E$39<>\"Endemic\",0, IF(AND(COUNTRY_INFO!$I17=1,$F17<>0),IF(COUNTRY_INFO!M17>=(COUNTRY_INFO!F17+COUNTRY_INFO!G17),COUNTRY_INFO!F17+COUNTRY_INFO!G17,COUNTRY_INFO!$M17), 0))","v":0},null,0,0,0,0,0,null,0,0]
[{"$f":"IF(INTRO!$E$39=\"Non-endemic\",\" \",IF(COUNTRY_INFO!A18=0,\" \",COUNTRY_INFO!A18))","v":"Ghana"},{"$f":"IF(INTRO!$E$39=\"Non-endemic\",\" \",IF(COUNTRY_INFO!B18=0,\" \",COUNTRY_INFO!B18))","v":"Ashanti"},{"$f":"IF(INTRO!$E$39=\"Non-endemic\",\" \",IF(COUNTRY_INFO!C18=0,\" \",COUNTRY_INFO!C18))","v":"Asante-Akim North"},{"$f":"IF(INTRO!$E$39=\"Non-endemic\",0,IF(INTRO!$E$39=\"Endemic but PC is not required\",IF(COUNTRY_INFO!$H18=1,COUNTRY_INFO!F18+COUNTRY_INFO!G18,0),IF(COUNTRY_INFO!$H18=1,COUNTRY_INFO!F18+COUNTRY_INFO!G18,IF(COUNTRY_INFO!$I18=1,IF(COUNTRY_INFO!M18>=(COUNTRY_INFO!F18+COUNTRY_INFO!G18),COUNTRY_INFO!F18+COUNTRY_INFO!G18,COUNTRY_INFO!$M18),0))))","v":0},{"$f":"IF(AND(INTRO!$E$39=\"Non-endemic\",INTRO!$E$37=\"Non-endemic\"),\"Not required\",IF(INTRO!$E$39=\"Non-endemic\",\"Treat with DEC\",COUNTRY_INFO!P18))","v":0},{"$f":"IF(INTRO!$E$39<>\"Non-endemic\",COUNTRY_INFO!Q18,\"Not required\")","v":0},{"$f":"IF(COUNTRY_INFO!H18=1, IF($E18=1,$D18, 0),0)","v":0},{"$f":"IF(INTRO!$E$39<>\"Endemic\",0, IF(AND(COUNTRY_INFO!$I18=1,$F18<>0),IF(COUNTRY_INFO!M18>=(COUNTRY_INFO!F18+COUNTRY_INFO!G18),COUNTRY_INFO!F18+COUNTRY_INFO!G18,COUNTRY_INFO!$M18), 0))","v":0},null,0,0,0,0,0,null,0,0]
[{"$f":"IF(INTRO!$E$39=\"Non-endemic\",\" \",IF(COUNTRY_INFO!A19=0,\" \",COUNTRY_INFO!A19))","v":"Ghana"},{"$f":"IF(INTRO!$E$39=\"Non-endemic\",\" \",IF(COUNTRY_INFO!B19=0,\" \",COUNTRY_INFO!B19))","v":"Ashanti"},{"$f":"IF(INTRO!$E$39=\"Non-endemic\",\" \",IF(COUNTRY_INFO!C19=0,\" \",COUNTRY_INFO!C19))","v":"Asante-Akim South"},{"$f":"IF(INTRO!$E$39=\"Non-endemic\",0,IF(INTRO!$E$39=\"Endemic but PC is not required\",IF(COUNTRY_INFO!$H19=1,COUNTRY_INFO!F19+COUNTRY_INFO!G19,0),IF(COUNTRY_INFO!$H19=1,COUNTRY_INFO!F19+COUNTRY_INFO!G19,IF(COUNTRY_INFO!$I19=1,IF(COUNTRY_INFO!M19>=(COUNTRY_INFO!F19+COUNTRY_INFO!G19),COUNTRY_INFO!F19+COUNTRY_INFO!G19,COUNTRY_INFO!$M19),0))))","v":128027},{"$f":"IF(AND(INTRO!$E$39=\"Non-endemic\",INTRO!$E$37=\"Non-endemic\"),\"Not required\",IF(INTRO!$E$39=\"Non-endemic\",\"Treat with DEC\",COUNTRY_INFO!P19))","v":0},{"$f":"IF(INTRO!$E$39<>\"Non-endemic\",COUNTRY_INFO!Q19,\"Not required\")","v":2},{"$f":"IF(COUNTRY_INFO!H19=1, IF($E19=1,$D19, 0),0)","v":0},{"$f":"IF(INTRO!$E$39<>\"Endemic\",0, IF(AND(COUNTRY_INFO!$I19=1,$F19<>0),IF(COUNTRY_INFO!M19>=(COUNTRY_INFO!F19+COUNTRY_INFO!G19),COUNTRY_INFO!F19+COUNTRY_INFO!G19,COUNTRY_INFO!$M19), 0))","v":128027},null,128027,0,716951.2,0,716951.2,null,716951.2,1434]
[{"$f":"IF(INTRO!$E$39=\"Non-endemic\",\" \",IF(COUNTRY_INFO!A20=0,\" \",COUNTRY_INFO!A20))","v":"Ghana"},{"$f":"IF(INTRO!$E$39=\"Non-endemic\",\" \",IF(COUNTRY_INFO!B20=0,\" \",COUNTRY_INFO!B20))","v":"Ashanti"},{"$f":"IF(INTRO!$E$39=\"Non-endemic\",\" \",IF(COUNTRY_INFO!C20=0,\" \",COUNTRY_INFO!C20))","v":"Atwima-Kwanwoma"},{"$f":"IF(INTRO!$E$39=\"Non-endemic\",0,IF(INTRO!$E$39=\"Endemic but PC is not required\",IF(COUNTRY_INFO!$H20=1,COUNTRY_INFO!F20+COUNTRY_INFO!G20,0),IF(COUNTRY_INFO!$H20=1,COUNTRY_INFO!F20+COUNTRY_INFO!G20,IF(COUNTRY_INFO!$I20=1,IF(COUNTRY_INFO!M20>=(COUNTRY_INFO!F20+COUNTRY_INFO!G20),COUNTRY_INFO!F20+COUNTRY_INFO!G20,COUNTRY_INFO!$M20),0))))","v":0},{"$f":"IF(AND(INTRO!$E$39=\"Non-endemic\",INTRO!$E$37=\"Non-endemic\"),\"Not required\",IF(INTRO!$E$39=\"Non-endemic\",\"Treat with DEC\",COUNTRY_INFO!P20))","v":0},{"$f":"IF(INTRO!$E$39<>\"Non-endemic\",COUNTRY_INFO!Q20,\"Not required\")","v":0},{"$f":"IF(COUNTRY_INFO!H20=1, IF($E20=1,$D20, 0),0)","v":0},{"$f":"IF(INTRO!$E$39<>\"Endemic\",0, IF(AND(COUNTRY_INFO!$I20=1,$F20<>0),IF(COUNTRY_INFO!M20>=(COUNTRY_INFO!F20+COUNTRY_INFO!G20),COUNTRY_INFO!F20+COUNTRY_INFO!G20,COUNTRY_INFO!$M20), 0))","v":0},null,0,0,0,0,0,null,0,0]
[{"$f":"IF(INTRO!$E$39=\"Non-endemic\",\" \",IF(COUNTRY_INFO!A21=0,\" \",COUNTRY_INFO!A21))","v":"Ghana"},{"$f":"IF(INTRO!$E$39=\"Non-endemic\",\" \",IF(COUNTRY_INFO!B21=0,\" \",COUNTRY_INFO!B21))","v":"Ashanti"},{"$f":"IF(INTRO!$E$39=\"Non-endemic\",\" \",IF(COUNTRY_INFO!C21=0,\" \",COUNTRY_INFO!C21))","v":"Atwima-Mponua"},{"$f":"IF(INTRO!$E$39=\"Non-endemic\",0,IF(INTRO!$E$39=\"Endemic but PC is not required\",IF(COUNTRY_INFO!$H21=1,COUNTRY_INFO!F21+COUNTRY_INFO!G21,0),IF(COUNTRY_INFO!$H21=1,COUNTRY_INFO!F21+COUNTRY_INFO!G21,IF(COUNTRY_INFO!$I21=1,IF(COUNTRY_INFO!M21>=(COUNTRY_INFO!F21+COUNTRY_INFO!G21),COUNTRY_INFO!F21+COUNTRY_INFO!G21,COUNTRY_INFO!$M21),0))))","v":120779},{"$f":"IF(AND(INTRO!$E$39=\"Non-endemic\",INTRO!$E$37=\"Non-endemic\"),\"Not required\",IF(INTRO!$E$39=\"Non-endemic\",\"Treat with DEC\",COUNTRY_INFO!P21))","v":0},{"$f":"IF(INTRO!$E$39<>\"Non-endemic\",COUNTRY_INFO!Q21,\"Not required\")","v":1},{"$f":"IF(COUNTRY_INFO!H21=1, IF($E21=1,$D21, 0),0)","v":0},{"$f":"IF(INTRO!$E$39<>\"Endemic\",0, IF(AND(COUNTRY_INFO!$I21=1,$F21<>0),IF(COUNTRY_INFO!M21>=(COUNTRY_INFO!F21+COUNTRY_INFO!G21),COUNTRY_INFO!F21+COUNTRY_INFO!G21,COUNTRY_INFO!$M21), 0))","v":120779},null,120779,0,338181.19999999995,0,338181.19999999995,null,338181.19999999995,677]
[{"$f":"IF(INTRO!$E$39=\"Non-endemic\",\" \",IF(COUNTRY_INFO!A22=0,\" \",COUNTRY_INFO!A22))","v":"Ghana"},{"$f":"IF(INTRO!$E$39=\"Non-endemic\",\" \",IF(COUNTRY_INFO!B22=0,\" \",COUNTRY_INFO!B22))","v":"Ashanti"},{"$f":"IF(INTRO!$E$39=\"Non-endemic\",\" \",IF(COUNTRY_INFO!C22=0,\" \",COUNTRY_INFO!C22))","v":"Atwima-Nwabiagya"},{"$f":"IF(INTRO!$E$39=\"Non-endemic\",0,IF(INTRO!$E$39=\"Endemic but PC is not required\",IF(COUNTRY_INFO!$H22=1,COUNTRY_INFO!F22+COUNTRY_INFO!G22,0),IF(COUNTRY_INFO!$H22=1,COUNTRY_INFO!F22+COUNTRY_INFO!G22,IF(COUNTRY_INFO!$I22=1,IF(COUNTRY_INFO!M22>=(COUNTRY_INFO!F22+COUNTRY_INFO!G22),COUNTRY_INFO!F22+COUNTRY_INFO!G22,COUNTRY_INFO!$M22),0))))","v":69283},{"$f":"IF(AND(INTRO!$E$39=\"Non-endemic\",INTRO!$E$37=\"Non-endemic\"),\"Not required\",IF(INTRO!$E$39=\"Non-endemic\",\"Treat with DEC\",COUNTRY_INFO!P22))","v":0},{"$f":"IF(INTRO!$E$39<>\"Non-endemic\",COUNTRY_INFO!Q22,\"Not required\")","v":1},{"$f":"IF(COUNTRY_INFO!H22=1, IF($E22=1,$D22, 0),0)","v":0},{"$f":"IF(INTRO!$E$39<>\"Endemic\",0, IF(AND(COUNTRY_INFO!$I22=1,$F22<>0),IF(COUNTRY_INFO!M22>=(COUNTRY_INFO!F22+COUNTRY_INFO!G22),COUNTRY_INFO!F22+COUNTRY_INFO!G22,COUNTRY_INFO!$M22), 0))","v":69283},null,69283,0,193992.4,0,193992.4,null,193992.4,388]
[{"$f":"IF(INTRO!$E$39=\"Non-endemic\",\" \",IF(COUNTRY_INFO!A23=0,\" \",COUNTRY_INFO!A23))","v":"Ghana"},{"$f":"IF(INTRO!$E$39=\"Non-endemic\",\" \",IF(COUNTRY_INFO!B23=0,\" \",COUNTRY_INFO!B23))","v":"Ashanti"},{"$f":"IF(INTRO!$E$39=\"Non-endemic\",\" \",IF(COUNTRY_INFO!C23=0,\" \",COUNTRY_INFO!C23))","v":"Bosomtwe"},{"$f":"IF(INTRO!$E$39=\"Non-endemic\",0,IF(INTRO!$E$39=\"Endemic but PC is not required\",IF(COUNTRY_INFO!$H23=1,COUNTRY_INFO!F23+COUNTRY_INFO!G23,0),IF(COUNTRY_INFO!$H23=1,COUNTRY_INFO!F23+COUNTRY_INFO!G23,IF(COUNTRY_INFO!$I23=1,IF(COUNTRY_INFO!M23>=(COUNTRY_INFO!F23+COUNTRY_INFO!G23),COUNTRY_INFO!F23+COUNTRY_INFO!G23,COUNTRY_INFO!$M23),0))))","v":102546},{"$f":"IF(AND(INTRO!$E$39=\"Non-endemic\",INTRO!$E$37=\"Non-endemic\"),\"Not required\",IF(INTRO!$E$39=\"Non-endemic\",\"Treat with DEC\",COUNTRY_INFO!P23))","v":0},{"$f":"IF(INTRO!$E$39<>\"Non-endemic\",COUNTRY_INFO!Q23,\"Not required\")","v":1},{"$f":"IF(COUNTRY_INFO!H23=1, IF($E23=1,$D23, 0),0)","v":0},{"$f":"IF(INTRO!$E$39<>\"Endemic\",0, IF(AND(COUNTRY_INFO!$I23=1,$F23<>0),IF(COUNTRY_INFO!M23>=(COUNTRY_INFO!F23+COUNTRY_INFO!G23),COUNTRY_INFO!F23+COUNTRY_INFO!G23,COUNTRY_INFO!$M23), 0))","v":102546},null,102546,0,287128.8,0,287128.8,null,287128.8,575]
[{"$f":"IF(INTRO!$E$39=\"Non-endemic\",\" \",IF(COUNTRY_INFO!A24=0,\" \",COUNTRY_INFO!A24))","v":"Ghana"},{"$f":"IF(INTRO!$E$39=\"Non-endemic\",\" \",IF(COUNTRY_INFO!B24=0,\" \",COUNTRY_INFO!B24))","v":"Ashanti"},{"$f":"IF(INTRO!$E$39=\"Non-endemic\",\" \",IF(COUNTRY_INFO!C24=0,\" \",COUNTRY_INFO!C24))","v":"Bosome-Freho"},{"$f":"IF(INTRO!$E$39=\"Non-endemic\",0,IF(INTRO!$E$39=\"Endemic but PC is not required\",IF(COUNTRY_INFO!$H24=1,COUNTRY_INFO!F24+COUNTRY_INFO!G24,0),IF(COUNTRY_INFO!$H24=1,COUNTRY_INFO!F24+COUNTRY_INFO!G24,IF(COUNTRY_INFO!$I24=1,IF(COUNTRY_INFO!M24>=(COUNTRY_INFO!F24+COUNTRY_INFO!G24),COUNTRY_INFO!F24+COUNTRY_INFO!G24,COUNTRY_INFO!$M24),0))))","v":61292},{"$f":"IF(AND(INTRO!$E$39=\"Non-endemic\",INTRO!$E$37=\"Non-endemic\"),\"Not required\",IF(INTRO!$E$39=\"Non-endemic\",\"Treat with DEC\",COUNTRY_INFO!P24))","v":0},{"$f":"IF(INTRO!$E$39<>\"Non-endemic\",COUNTRY_INFO!Q24,\"Not required\")","v":2},{"$f":"IF(COUNTRY_INFO!H24=1, IF($E24=1,$D24, 0),0)","v":0},{"$f":"IF(INTRO!$E$39<>\"Endemic\",0, IF(AND(COUNTRY_INFO!$I24=1,$F24<>0),IF(COUNTRY_INFO!M24>=(COUNTRY_INFO!F24+COUNTRY_INFO!G24),COUNTRY_INFO!F24+COUNTRY_INFO!G24,COUNTRY_INFO!$M24), 0))","v":61292},null,61292,0,343235.19999999995,0,343235.19999999995,null,343235.19999999995,687]
[{"$f":"IF(INTRO!$E$39=\"Non-endemic\",\" \",IF(COUNTRY_INFO!A25=0,\" \",COUNTRY_INFO!A25))","v":"Ghana"},{"$f":"IF(INTRO!$E$39=\"Non-endemic\",\" \",IF(COUNTRY_INFO!B25=0,\" \",COUNTRY_INFO!B25))","v":"Ashanti"},{"$f":"IF(INTRO!$E$39=\"Non-endemic\",\" \",IF(COUNTRY_INFO!C25=0,\" \",COUNTRY_INFO!C25))","v":"Ejisu-Juaben"},{"$f":"IF(INTRO!$E$39=\"Non-endemic\",0,IF(INTRO!$E$39=\"Endemic but PC is not required\",IF(COUNTRY_INFO!$H25=1,COUNTRY_INFO!F25+COUNTRY_INFO!G25,0),IF(COUNTRY_INFO!$H25=1,COUNTRY_INFO!F25+COUNTRY_INFO!G25,IF(COUNTRY_INFO!$I25=1,IF(COUNTRY_INFO!M25>=(COUNTRY_INFO!F25+COUNTRY_INFO!G25),COUNTRY_INFO!F25+COUNTRY_INFO!G25,COUNTRY_INFO!$M25),0))))","v":106537},{"$f":"IF(AND(INTRO!$E$39=\"Non-endemic\",INTRO!$E$37=\"Non-endemic\"),\"Not required\",IF(INTRO!$E$39=\"Non-endemic\",\"Treat with DEC\",COUNTRY_INFO!P25))","v":0},{"$f":"IF(INTRO!$E$39<>\"Non-endemic\",COUNTRY_INFO!Q25,\"Not required\")","v":1},{"$f":"IF(COUNTRY_INFO!H25=1, IF($E25=1,$D25, 0),0)","v":0},{"$f":"IF(INTRO!$E$39<>\"Endemic\",0, IF(AND(COUNTRY_INFO!$I25=1,$F25<>0),IF(COUNTRY_INFO!M25>=(COUNTRY_INFO!F25+COUNTRY_INFO!G25),COUNTRY_INFO!F25+COUNTRY_INFO!G25,COUNTRY_INFO!$M25), 0))","v":106537},null,106537,0,298303.59999999998,0,298303.59999999998,null,298303.59999999998,597]
[{"$f":"IF(INTRO!$E$39=\"Non-endemic\",\" \",IF(COUNTRY_INFO!A26=0,\" \",COUNTRY_INFO!A26))","v":"Ghana"},{"$f":"IF(INTRO!$E$39=\"Non-endemic\",\" \",IF(COUNTRY_INFO!B26=0,\" \",COUNTRY_INFO!B26))","v":"Ashanti"},{"$f":"IF(INTRO!$E$39=\"Non-endemic\",\" \",IF(COUNTRY_INFO!C26=0,\" \",COUNTRY_INFO!C26))","v":"Ejura-Sekyedomasi"},{"$f":"IF(INTRO!$E$39=\"Non-endemic\",0,IF(INTRO!$E$39=\"Endemic but PC is not required\",IF(COUNTRY_INFO!$H26=1,COUNTRY_INFO!F26+COUNTRY_INFO!G26,0),IF(COUNTRY_INFO!$H26=1,COUNTRY_INFO!F26+COUNTRY_INFO!G26,IF(COUNTRY_INFO!$I26=1,IF(COUNTRY_INFO!M26>=(COUNTRY_INFO!F26+COUNTRY_INFO!G26),COUNTRY_INFO!F26+COUNTRY_INFO!G26,COUNTRY_INFO!$M26),0))))","v":37884},{"$f":"IF(AND(INTRO!$E$39=\"Non-endemic\",INTRO!$E$37=\"Non-endemic\"),\"Not required\",IF(INTRO!$E$39=\"Non-endemic\",\"Treat with DEC\",COUNTRY_INFO!P26))","v":0},{"$f":"IF(INTRO!$E$39<>\"Non-endemic\",COUNTRY_INFO!Q26,\"Not required\")","v":1},{"$f":"IF(COUNTRY_INFO!H26=1, IF($E26=1,$D26, 0),0)","v":0},{"$f":"IF(INTRO!$E$39<>\"Endemic\",0, IF(AND(COUNTRY_INFO!$I26=1,$F26<>0),IF(COUNTRY_INFO!M26>=(COUNTRY_INFO!F26+COUNTRY_INFO!G26),COUNTRY_INFO!F26+COUNTRY_INFO!G26,COUNTRY_INFO!$M26), 0))","v":37884},null,37884,0,106075.2,0,106075.2,null,106075.2,213]
[{"$f":"IF(INTRO!$E$39=\"Non-endemic\",\" \",IF(COUNTRY_INFO!A27=0,\" \",COUNTRY_INFO!A27))","v":"Ghana"},{"$f":"IF(INTRO!$E$39=\"Non-endemic\",\" \",IF(COUNTRY_INFO!B27=0,\" \",COUNTRY_INFO!B27))","v":"Ashanti"},{"$f":"IF(INTRO!$E$39=\"Non-endemic\",\" \",IF(COUNTRY_INFO!C27=0,\" \",COUNTRY_INFO!C27))","v":"Kumasi Metropolis"},{"$f":"IF(INTRO!$E$39=\"Non-endemic\",0,IF(INTRO!$E$39=\"Endemic but PC is not required\",IF(COUNTRY_INFO!$H27=1,COUNTRY_INFO!F27+COUNTRY_INFO!G27,0),IF(COUNTRY_INFO!$H27=1,COUNTRY_INFO!F27+COUNTRY_INFO!G27,IF(COUNTRY_INFO!$I27=1,IF(COUNTRY_INFO!M27>=(COUNTRY_INFO!F27+COUNTRY_INFO!G27),COUNTRY_INFO!F27+COUNTRY_INFO!G27,COUNTRY_INFO!$M27),0))))","v":0},{"$f":"IF(AND(INTRO!$E$39=\"Non-endemic\",INTRO!$E$37=\"Non-endemic\"),\"Not required\",IF(INTRO!$E$39=\"Non-endemic\",\"Treat with DEC\",COUNTRY_INFO!P27))","v":0},{"$f":"IF(INTRO!$E$39<>\"Non-endemic\",COUNTRY_INFO!Q27,\"Not required\")","v":0},{"$f":"IF(COUNTRY_INFO!H27=1, IF($E27=1,$D27, 0),0)","v":0},{"$f":"IF(INTRO!$E$39<>\"Endemic\",0, IF(AND(COUNTRY_INFO!$I27=1,$F27<>0),IF(COUNTRY_INFO!M27>=(COUNTRY_INFO!F27+COUNTRY_INFO!G27),COUNTRY_INFO!F27+COUNTRY_INFO!G27,COUNTRY_INFO!$M27), 0))","v":0},null,0,0,0,0,0,null,0,0]
[{"$f":"IF(INTRO!$E$39=\"Non-endemic\",\" \",IF(COUNTRY_INFO!A28=0,\" \",COUNTRY_INFO!A28))","v":"Ghana"},{"$f":"IF(INTRO!$E$39=\"Non-endemic\",\" \",IF(COUNTRY_INFO!B28=0,\" \",COUNTRY_INFO!B28))","v":"Ashanti"},{"$f":"IF(INTRO!$E$39=\"Non-endemic\",\" \",IF(COUNTRY_INFO!C28=0,\" \",COUNTRY_INFO!C28))","v":"Kwabre"},{"$f":"IF(INTRO!$E$39=\"Non-endemic\",0,IF(INTRO!$E$39=\"Endemic but PC is not required\",IF(COUNTRY_INFO!$H28=1,COUNTRY_INFO!F28+COUNTRY_INFO!G28,0),IF(COUNTRY_INFO!$H28=1,COUNTRY_INFO!F28+COUNTRY_INFO!G28,IF(COUNTRY_INFO!$I28=1,IF(COUNTRY_INFO!M28>=(COUNTRY_INFO!F28+COUNTRY_INFO!G28),COUNTRY_INFO!F28+COUNTRY_INFO!G28,COUNTRY_INFO!$M28),0))))","v":0},{"$f":"IF(AND(INTRO!$E$39=\"Non-endemic\",INTRO!$E$37=\"Non-endemic\"),\"Not required\",IF(INTRO!$E$39=\"Non-endemic\",\"Treat with DEC\",COUNTRY_INFO!P28))","v":0},{"$f":"IF(INTRO!$E$39<>\"Non-endemic\",COUNTRY_INFO!Q28,\"Not required\")","v":0},{"$f":"IF(COUNTRY_INFO!H28=1, IF($E28=1,$D28, 0),0)","v":0},{"$f":"IF(INTRO!$E$39<>\"Endemic\",0, IF(AND(COUNTRY_INFO!$I28=1,$F28<>0),IF(COUNTRY_INFO!M28>=(COUNTRY_INFO!F28+COUNTRY_INFO!G28),COUNTRY_INFO!F28+COUNTRY_INFO!G28,COUNTRY_INFO!$M28), 0))","v":0},null,0,0,0,0,0,null,0,0]
[{"$f":"IF(INTRO!$E$39=\"Non-endemic\",\" \",IF(COUNTRY_INFO!A29=0,\" \",COUNTRY_INFO!A29))","v":"Ghana"},{"$f":"IF(INTRO!$E$39=\"Non-endemic\",\" \",IF(COUNTRY_INFO!B29=0,\" \",COUNTRY_INFO!B29))","v":"Ashanti"},{"$f":"IF(INTRO!$E$39=\"Non-endemic\",\" \",IF(COUNTRY_INFO!C29=0,\" \",COUNTRY_INFO!C29))","v":"Bekwai Municipal"},{"$f":"IF(INTRO!$E$39=\"Non-endemic\",0,IF(INTRO!$E$39=\"Endemic but PC is not required\",IF(COUNTRY_INFO!$H29=1,COUNTRY_INFO!F29+COUNTRY_INFO!G29,0),IF(COUNTRY_INFO!$H29=1,COUNTRY_INFO!F29+COUNTRY_INFO!G29,IF(COUNTRY_INFO!$I29=1,IF(COUNTRY_INFO!M29>=(COUNTRY_INFO!F29+COUNTRY_INFO!G29),COUNTRY_INFO!F29+COUNTRY_INFO!G29,COUNTRY_INFO!$M29),0))))","v":0},{"$f":"IF(AND(INTRO!$E$39=\"Non-endemic\",INTRO!$E$37=\"Non-endemic\"),\"Not required\",IF(INTRO!$E$39=\"Non-endemic\",\"Treat with DEC\",COUNTRY_INFO!P29))","v":0},{"$f":"IF(INTRO!$E$39<>\"Non-endemic\",COUNTRY_INFO!Q29,\"Not required\")","v":0},{"$f":"IF(COUNTRY_INFO!H29=1, IF($E29=1,$D29, 0),0)","v":0},{"$f":"IF(INTRO!$E$39<>\"Endemic\",0, IF(AND(COUNTRY_INFO!$I29=1,$F29<>0),IF(COUNTRY_INFO!M29>=(COUNTRY_INFO!F29+COUNTRY_INFO!G29),COUNTRY_INFO!F29+COUNTRY_INFO!G29,COUNTRY_INFO!$M29), 0))","v":0},null,0,0,0,0,0,null,0,0]
[{"$f":"IF(INTRO!$E$39=\"Non-endemic\",\" \",IF(COUNTRY_INFO!A30=0,\" \",COUNTRY_INFO!A30))","v":"Ghana"},{"$f":"IF(INTRO!$E$39=\"Non-endemic\",\" \",IF(COUNTRY_INFO!B30=0,\" \",COUNTRY_INFO!B30))","v":"Ashanti"},{"$f":"IF(INTRO!$E$39=\"Non-endemic\",\" \",IF(COUNTRY_INFO!C30=0,\" \",COUNTRY_INFO!C30))","v":"Asokore-Mampong"},{"$f":"IF(INTRO!$E$39=\"Non-endemic\",0,IF(INTRO!$E$39=\"Endemic but PC is not required\",IF(COUNTRY_INFO!$H30=1,COUNTRY_INFO!F30+COUNTRY_INFO!G30,0),IF(COUNTRY_INFO!$H30=1,COUNTRY_INFO!F30+COUNTRY_INFO!G30,IF(COUNTRY_INFO!$I30=1,IF(COUNTRY_INFO!M30>=(COUNTRY_INFO!F30+COUNTRY_INFO!G30),COUNTRY_INFO!F30+COUNTRY_INFO!G30,COUNTRY_INFO!$M30),0))))","v":0},{"$f":"IF(AND(INTRO!$E$39=\"Non-endemic\",INTRO!$E$37=\"Non-endemic\"),\"Not required\",IF(INTRO!$E$39=\"Non-endemic\",\"Treat with DEC\",COUNTRY_INFO!P30))","v":0},{"$f":"IF(INTRO!$E$39<>\"Non-endemic\",COUNTRY_INFO!Q30,\"Not required\")","v":0},{"$f":"IF(COUNTRY_INFO!H30=1, IF($E30=1,$D30, 0),0)","v":0},{"$f":"IF(INTRO!$E$39<>\"Endemic\",0, IF(AND(COUNTRY_INFO!$I30=1,$F30<>0),IF(COUNTRY_INFO!M30>=(COUNTRY_INFO!F30+COUNTRY_INFO!G30),COUNTRY_INFO!F30+COUNTRY_INFO!G30,COUNTRY_INFO!$M30), 0))","v":0},null,0,0,0,0,0,null,0,0]
[{"$f":"IF(INTRO!$E$39=\"Non-endemic\",\" \",IF(COUNTRY_INFO!A31=0,\" \",COUNTRY_INFO!A31))","v":"Ghana"},{"$f":"IF(INTRO!$E$39=\"Non-endemic\",\" \",IF(COUNTRY_INFO!B31=0,\" \",COUNTRY_INFO!B31))","v":"Ashanti"},{"$f":"IF(INTRO!$E$39=\"Non-endemic\",\" \",IF(COUNTRY_INFO!C31=0,\" \",COUNTRY_INFO!C31))","v":"Obuasi Municipal"},{"$f":"IF(INTRO!$E$39=\"Non-endemic\",0,IF(INTRO!$E$39=\"Endemic but PC is not required\",IF(COUNTRY_INFO!$H31=1,COUNTRY_INFO!F31+COUNTRY_INFO!G31,0),IF(COUNTRY_INFO!$H31=1,COUNTRY_INFO!F31+COUNTRY_INFO!G31,IF(COUNTRY_INFO!$I31=1,IF(COUNTRY_INFO!M31>=(COUNTRY_INFO!F31+COUNTRY_INFO!G31),COUNTRY_INFO!F31+COUNTRY_INFO!G31,COUNTRY_INFO!$M31),0))))","v":151464},{"$f":"IF(AND(INTRO!$E$39=\"Non-endemic\",INTRO!$E$37=\"Non-endemic\"),\"Not required\",IF(INTRO!$E$39=\"Non-endemic\",\"Treat with DEC\",COUNTRY_INFO!P31))","v":0},{"$f":"IF(INTRO!$E$39<>\"Non-endemic\",COUNTRY_INFO!Q31,\"Not required\")","v":1},{"$f":"IF(COUNTRY_INFO!H31=1, IF($E31=1,$D31, 0),0)","v":0},{"$f":"IF(INTRO!$E$39<>\"Endemic\",0, IF(AND(COUNTRY_INFO!$I31=1,$F31<>0),IF(COUNTRY_INFO!M31>=(COUNTRY_INFO!F31+COUNTRY_INFO!G31),COUNTRY_INFO!F31+COUNTRY_INFO!G31,COUNTRY_INFO!$M31), 0))","v":151464},null,151464,0,424099.19999999995,0,424099.19999999995,null,424099.19999999995,849]
[{"$f":"IF(INTRO!$E$39=\"Non-endemic\",\" \",IF(COUNTRY_INFO!A32=0,\" \",COUNTRY_INFO!A32))","v":"Ghana"},{"$f":"IF(INTRO!$E$39=\"Non-endemic\",\" \",IF(COUNTRY_INFO!B32=0,\" \",COUNTRY_INFO!B32))","v":"Ashanti"},{"$f":"IF(INTRO!$E$39=\"Non-endemic\",\" \",IF(COUNTRY_INFO!C32=0,\" \",COUNTRY_INFO!C32))","v":"Offiinso Municipal"},{"$f":"IF(INTRO!$E$39=\"Non-endemic\",0,IF(INTRO!$E$39=\"Endemic but PC is not required\",IF(COUNTRY_INFO!$H32=1,COUNTRY_INFO!F32+COUNTRY_INFO!G32,0),IF(COUNTRY_INFO!$H32=1,COUNTRY_INFO!F32+COUNTRY_INFO!G32,IF(COUNTRY_INFO!$I32=1,IF(COUNTRY_INFO!M32>=(COUNTRY_INFO!F32+COUNTRY_INFO!G32),COUNTRY_INFO!F32+COUNTRY_INFO!G32,COUNTRY_INFO!$M32),0))))","v":77401},{"$f":"IF(AND(INTRO!$E$39=\"Non-endemic\",INTRO!$E$37=\"Non-endemic\"),\"Not required\",IF(INTRO!$E$39=\"Non-endemic\",\"Treat with DEC\",COUNTRY_INFO!P32))","v":0},{"$f":"IF(INTRO!$E$39<>\"Non-endemic\",COUNTRY_INFO!Q32,\"Not required\")","v":2},{"$f":"IF(COUNTRY_INFO!H32=1, IF($E32=1,$D32, 0),0)","v":0},{"$f":"IF(INTRO!$E$39<>\"Endemic\",0, IF(AND(COUNTRY_INFO!$I32=1,$F32<>0),IF(COUNTRY_INFO!M32>=(COUNTRY_INFO!F32+COUNTRY_INFO!G32),COUNTRY_INFO!F32+COUNTRY_INFO!G32,COUNTRY_INFO!$M32), 0))","v":77401},null,77401,0,433445.6,0,433445.6,null,433445.6,867]
[{"$f":"IF(INTRO!$E$39=\"Non-endemic\",\" \",IF(COUNTRY_INFO!A33=0,\" \",COUNTRY_INFO!A33))","v":"Ghana"},{"$f":"IF(INTRO!$E$39=\"Non-endemic\",\" \",IF(COUNTRY_INFO!B33=0,\" \",COUNTRY_INFO!B33))","v":"Ashanti"},{"$f":"IF(INTRO!$E$39=\"Non-endemic\",\" \",IF(COUNTRY_INFO!C33=0,\" \",COUNTRY_INFO!C33))","v":"Offinso North"},{"$f":"IF(INTRO!$E$39=\"Non-endemic\",0,IF(INTRO!$E$39=\"Endemic but PC is not required\",IF(COUNTRY_INFO!$H33=1,COUNTRY_INFO!F33+COUNTRY_INFO!G33,0),IF(COUNTRY_INFO!$H33=1,COUNTRY_INFO!F33+COUNTRY_INFO!G33,IF(COUNTRY_INFO!$I33=1,IF(COUNTRY_INFO!M33>=(COUNTRY_INFO!F33+COUNTRY_INFO!G33),COUNTRY_INFO!F33+COUNTRY_INFO!G33,COUNTRY_INFO!$M33),0))))","v":62111},{"$f":"IF(AND(INTRO!$E$39=\"Non-endemic\",INTRO!$E$37=\"Non-endemic\"),\"Not required\",IF(INTRO!$E$39=\"Non-endemic\",\"Treat with DEC\",COUNTRY_INFO!P33))","v":0},{"$f":"IF(INTRO!$E$39<>\"Non-endemic\",COUNTRY_INFO!Q33,\"Not required\")","v":2},{"$f":"IF(COUNTRY_INFO!H33=1, IF($E33=1,$D33, 0),0)","v":0},{"$f":"IF(INTRO!$E$39<>\"Endemic\",0, IF(AND(COUNTRY_INFO!$I33=1,$F33<>0),IF(COUNTRY_INFO!M33>=(COUNTRY_INFO!F33+COUNTRY_INFO!G33),COUNTRY_INFO!F33+COUNTRY_INFO!G33,COUNTRY_INFO!$M33), 0))","v":62111},null,62111,0,347821.6,0,347821.6,null,347821.6,696]
[{"$f":"IF(INTRO!$E$39=\"Non-endemic\",\" \",IF(COUNTRY_INFO!A34=0,\" \",COUNTRY_INFO!A34))","v":"Ghana"},{"$f":"IF(INTRO!$E$39=\"Non-endemic\",\" \",IF(COUNTRY_INFO!B34=0,\" \",COUNTRY_INFO!B34))","v":"Ashanti"},{"$f":"IF(INTRO!$E$39=\"Non-endemic\",\" \",IF(COUNTRY_INFO!C34=0,\" \",COUNTRY_INFO!C34))","v":"Sekyere-Afram Plains"},{"$f":"IF(INTRO!$E$39=\"Non-endemic\",0,IF(INTRO!$E$39=\"Endemic but PC is not required\",IF(COUNTRY_INFO!$H34=1,COUNTRY_INFO!F34+COUNTRY_INFO!G34,0),IF(COUNTRY_INFO!$H34=1,COUNTRY_INFO!F34+COUNTRY_INFO!G34,IF(COUNTRY_INFO!$I34=1,IF(COUNTRY_INFO!M34>=(COUNTRY_INFO!F34+COUNTRY_INFO!G34),COUNTRY_INFO!F34+COUNTRY_INFO!G34,COUNTRY_INFO!$M34),0))))","v":31159},{"$f":"IF(AND(INTRO!$E$39=\"Non-endemic\",INTRO!$E$37=\"Non-endemic\"),\"Not required\",IF(INTRO!$E$39=\"Non-endemic\",\"Treat with DEC\",COUNTRY_INFO!P34))","v":0},{"$f":"IF(INTRO!$E$39<>\"Non-endemic\",COUNTRY_INFO!Q34,\"Not required\")","v":1},{"$f":"IF(COUNTRY_INFO!H34=1, IF($E34=1,$D34, 0),0)","v":0},{"$f":"IF(INTRO!$E$39<>\"Endemic\",0, IF(AND(COUNTRY_INFO!$I34=1,$F34<>0),IF(COUNTRY_INFO!M34>=(COUNTRY_INFO!F34+COUNTRY_INFO!G34),COUNTRY_INFO!F34+COUNTRY_INFO!G34,COUNTRY_INFO!$M34), 0))","v":31159},null,31159,0,87245.2,0,87245.2,null,87245.2,175]
[{"$f":"IF(INTRO!$E$39=\"Non-endemic\",\" \",IF(COUNTRY_INFO!A35=0,\" \",COUNTRY_INFO!A35))","v":"Ghana"},{"$f":"IF(INTRO!$E$39=\"Non-endemic\",\" \",IF(COUNTRY_INFO!B35=0,\" \",COUNTRY_INFO!B35))","v":"Ashanti"},{"$f":"IF(INTRO!$E$39=\"Non-endemic\",\" \",IF(COUNTRY_INFO!C35=0,\" \",COUNTRY_INFO!C35))","v":"Kumawu"},{"$f":"IF(INTRO!$E$39=\"Non-endemic\",0,IF(INTRO!$E$39=\"Endemic but PC is not required\",IF(COUNTRY_INFO!$H35=1,COUNTRY_INFO!F35+COUNTRY_INFO!G35,0),IF(COUNTRY_INFO!$H35=1,COUNTRY_INFO!F35+COUNTRY_INFO!G35,IF(COUNTRY_INFO!$I35=1,IF(COUNTRY_INFO!M35>=(COUNTRY_INFO!F35+COUNTRY_INFO!G35),COUNTRY_INFO!F35+COUNTRY_INFO!G35,COUNTRY_INFO!$M35),0))))","v":71416},{"$f":"IF(AND(INTRO!$E$39=\"Non-endemic\",INTRO!$E$37=\"Non-endemic\"),\"Not required\",IF(INTRO!$E$39=\"Non-endemic\",\"Treat with DEC\",COUNTRY_INFO!P35))","v":0},{"$f":"IF(INTRO!$E$39<>\"Non-endemic\",COUNTRY_INFO!Q35,\"Not required\")","v":1},{"$f":"IF(COUNTRY_INFO!H35=1, IF($E35=1,$D35, 0),0)","v":0},{"$f":"IF(INTRO!$E$39<>\"Endemic\",0, IF(AND(COUNTRY_INFO!$I35=1,$F35<>0),IF(COUNTRY_INFO!M35>=(COUNTRY_INFO!F35+COUNTRY_INFO!G35),COUNTRY_INFO!F35+COUNTRY_INFO!G35,COUNTRY_INFO!$M35), 0))","v":71416},null,71416,0,199964.79999999999,0,199964.79999999999,null,199964.79999999999,400]
[{"$f":"IF(INTRO!$E$39=\"Non-endemic\",\" \",IF(COUNTRY_INFO!A36=0,\" \",COUNTRY_INFO!A36))","v":"Ghana"},{"$f":"IF(INTRO!$E$39=\"Non-endemic\",\" \",IF(COUNTRY_INFO!B36=0,\" \",COUNTRY_INFO!B36))","v":"Ashanti"},{"$f":"IF(INTRO!$E$39=\"Non-endemic\",\" \",IF(COUNTRY_INFO!C36=0,\" \",COUNTRY_INFO!C36))","v":"Sekyere Central"},{"$f":"IF(INTRO!$E$39=\"Non-endemic\",0,IF(INTRO!$E$39=\"Endemic but PC is not required\",IF(COUNTRY_INFO!$H36=1,COUNTRY_INFO!F36+COUNTRY_INFO!G36,0),IF(COUNTRY_INFO!$H36=1,COUNTRY_INFO!F36+COUNTRY_INFO!G36,IF(COUNTRY_INFO!$I36=1,IF(COUNTRY_INFO!M36>=(COUNTRY_INFO!F36+COUNTRY_INFO!G36),COUNTRY_INFO!F36+COUNTRY_INFO!G36,COUNTRY_INFO!$M36),0))))","v":77781},{"$f":"IF(AND(INTRO!$E$39=\"Non-endemic\",INTRO!$E$37=\"Non-endemic\"),\"Not required\",IF(INTRO!$E$39=\"Non-endemic\",\"Treat with DEC\",COUNTRY_INFO!P36))","v":0},{"$f":"IF(INTRO!$E$39<>\"Non-endemic\",COUNTRY_INFO!Q36,\"Not required\")","v":1},{"$f":"IF(COUNTRY_INFO!H36=1, IF($E36=1,$D36, 0),0)","v":0},{"$f":"IF(INTRO!$E$39<>\"Endemic\",0, IF(AND(COUNTRY_INFO!$I36=1,$F36<>0),IF(COUNTRY_INFO!M36>=(COUNTRY_INFO!F36+COUNTRY_INFO!G36),COUNTRY_INFO!F36+COUNTRY_INFO!G36,COUNTRY_INFO!$M36), 0))","v":77781},null,77781,0,217786.8,0,217786.8,null,217786.8,436]
[{"$f":"IF(INTRO!$E$39=\"Non-endemic\",\" \",IF(COUNTRY_INFO!A37=0,\" \",COUNTRY_INFO!A37))","v":"Ghana"},{"$f":"IF(INTRO!$E$39=\"Non-endemic\",\" \",IF(COUNTRY_INFO!B37=0,\" \",COUNTRY_INFO!B37))","v":"Ashanti"},{"$f":"IF(INTRO!$E$39=\"Non-endemic\",\" \",IF(COUNTRY_INFO!C37=0,\" \",COUNTRY_INFO!C37))","v":"Sekyere East"},{"$f":"IF(INTRO!$E$39=\"Non-endemic\",0,IF(INTRO!$E$39=\"Endemic but PC is not required\",IF(COUNTRY_INFO!$H37=1,COUNTRY_INFO!F37+COUNTRY_INFO!G37,0),IF(COUNTRY_INFO!$H37=1,COUNTRY_INFO!F37+COUNTRY_INFO!G37,IF(COUNTRY_INFO!$I37=1,IF(COUNTRY_INFO!M37>=(COUNTRY_INFO!F37+COUNTRY_INFO!G37),COUNTRY_INFO!F37+COUNTRY_INFO!G37,COUNTRY_INFO!$M37),0))))","v":67888},{"$f":"IF(AND(INTRO!$E$39=\"Non-endemic\",INTRO!$E$37=\"Non-endemic\"),\"Not required\",IF(INTRO!$E$39=\"Non-endemic\",\"Treat with DEC\",COUNTRY_INFO!P37))","v":0},{"$f":"IF(INTRO!$E$39<>\"Non-endemic\",COUNTRY_INFO!Q37,\"Not required\")","v":1},{"$f":"IF(COUNTRY_INFO!H37=1, IF($E37=1,$D37, 0),0)","v":0},{"$f":"IF(INTRO!$E$39<>\"Endemic\",0, IF(AND(COUNTRY_INFO!$I37=1,$F37<>0),IF(COUNTRY_INFO!M37>=(COUNTRY_INFO!F37+COUNTRY_INFO!G37),COUNTRY_INFO!F37+COUNTRY_INFO!G37,COUNTRY_INFO!$M37), 0))","v":67888},null,67888,0,190086.39999999999,0,190086.39999999999,null,190086.39999999999,381]
[{"$f":"IF(INTRO!$E$39=\"Non-endemic\",\" \",IF(COUNTRY_INFO!A38=0,\" \",COUNTRY_INFO!A38))","v":"Ghana"},{"$f":"IF(INTRO!$E$39=\"Non-endemic\",\" \",IF(COUNTRY_INFO!B38=0,\" \",COUNTRY_INFO!B38))","v":"Ashanti"},{"$f":"IF(INTRO!$E$39=\"Non-endemic\",\" \",IF(COUNTRY_INFO!C38=0,\" \",COUNTRY_INFO!C38))","v":"Sekyere South"},{"$f":"IF(INTRO!$E$39=\"Non-endemic\",0,IF(INTRO!$E$39=\"Endemic but PC is not required\",IF(COUNTRY_INFO!$H38=1,COUNTRY_INFO!F38+COUNTRY_INFO!G38,0),IF(COUNTRY_INFO!$H38=1,COUNTRY_INFO!F38+COUNTRY_INFO!G38,IF(COUNTRY_INFO!$I38=1,IF(COUNTRY_INFO!M38>=(COUNTRY_INFO!F38+COUNTRY_INFO!G38),COUNTRY_INFO!F38+COUNTRY_INFO!G38,COUNTRY_INFO!$M38),0))))","v":63117},{"$f":"IF(AND(INTRO!$E$39=\"Non-endemic\",INTRO!$E$37=\"Non-endemic\"),\"Not required\",IF(INTRO!$E$39=\"Non-endemic\",\"Treat with DEC\",COUNTRY_INFO!P38))","v":0},{"$f":"IF(INTRO!$E$39<>\"Non-endemic\",COUNTRY_INFO!Q38,\"Not required\")","v":1},{"$f":"IF(COUNTRY_INFO!H38=1, IF($E38=1,$D38, 0),0)","v":0},{"$f":"IF(INTRO!$E$39<>\"Endemic\",0, IF(AND(COUNTRY_INFO!$I38=1,$F38<>0),IF(COUNTRY_INFO!M38>=(COUNTRY_INFO!F38+COUNTRY_INFO!G38),COUNTRY_INFO!F38+COUNTRY_INFO!G38,COUNTRY_INFO!$M38), 0))","v":63117},null,63117,0,176727.59999999998,0,176727.59999999998,null,176727.59999999998,354]
[{"$f":"IF(INTRO!$E$39=\"Non-endemic\",\" \",IF(COUNTRY_INFO!A39=0,\" \",COUNTRY_INFO!A39))","v":"Ghana"},{"$f":"IF(INTRO!$E$39=\"Non-endemic\",\" \",IF(COUNTRY_INFO!B39=0,\" \",COUNTRY_INFO!B39))","v":"Brong-Ahafo"},{"$f":"IF(INTRO!$E$39=\"Non-endemic\",\" \",IF(COUNTRY_INFO!C39=0,\" \",COUNTRY_INFO!C39))","v":"Asunafo North"},{"$f":"IF(INTRO!$E$39=\"Non-endemic\",0,IF(INTRO!$E$39=\"Endemic but PC is not required\",IF(COUNTRY_INFO!$H39=1,COUNTRY_INFO!F39+COUNTRY_INFO!G39,0),IF(COUNTRY_INFO!$H39=1,COUNTRY_INFO!F39+COUNTRY_INFO!G39,IF(COUNTRY_INFO!$I39=1,IF(COUNTRY_INFO!M39>=(COUNTRY_INFO!F39+COUNTRY_INFO!G39),COUNTRY_INFO!F39+COUNTRY_INFO!G39,COUNTRY_INFO!$M39),0))))","v":131966},{"$f":"IF(AND(INTRO!$E$39=\"Non-endemic\",INTRO!$E$37=\"Non-endemic\"),\"Not required\",IF(INTRO!$E$39=\"Non-endemic\",\"Treat with DEC\",COUNTRY_INFO!P39))","v":0},{"$f":"IF(INTRO!$E$39<>\"Non-endemic\",COUNTRY_INFO!Q39,\"Not required\")","v":2},{"$f":"IF(COUNTRY_INFO!H39=1, IF($E39=1,$D39, 0),0)","v":0},{"$f":"IF(INTRO!$E$39<>\"Endemic\",0, IF(AND(COUNTRY_INFO!$I39=1,$F39<>0),IF(COUNTRY_INFO!M39>=(COUNTRY_INFO!F39+COUNTRY_INFO!G39),COUNTRY_INFO!F39+COUNTRY_INFO!G39,COUNTRY_INFO!$M39), 0))","v":131966},null,131966,0,739009.6,0,739009.6,null,739009.6,1479]
[{"$f":"IF(INTRO!$E$39=\"Non-endemic\",\" \",IF(COUNTRY_INFO!A40=0,\" \",COUNTRY_INFO!A40))","v":"Ghana"},{"$f":"IF(INTRO!$E$39=\"Non-endemic\",\" \",IF(COUNTRY_INFO!B40=0,\" \",COUNTRY_INFO!B40))","v":"Brong-Ahafo"},{"$f":"IF(INTRO!$E$39=\"Non-endemic\",\" \",IF(COUNTRY_INFO!C40=0,\" \",COUNTRY_INFO!C40))","v":"Asunafo South"},{"$f":"IF(INTRO!$E$39=\"Non-endemic\",0,IF(INTRO!$E$39=\"Endemic but PC is not required\",IF(COUNTRY_INFO!$H40=1,COUNTRY_INFO!F40+COUNTRY_INFO!G40,0),IF(COUNTRY_INFO!$H40=1,COUNTRY_INFO!F40+COUNTRY_INFO!G40,IF(COUNTRY_INFO!$I40=1,IF(COUNTRY_INFO!M40>=(COUNTRY_INFO!F40+COUNTRY_INFO!G40),COUNTRY_INFO!F40+COUNTRY_INFO!G40,COUNTRY_INFO!$M40),0))))","v":101161},{"$f":"IF(AND(INTRO!$E$39=\"Non-endemic\",INTRO!$E$37=\"Non-endemic\"),\"Not required\",IF(INTRO!$E$39=\"Non-endemic\",\"Treat with DEC\",COUNTRY_INFO!P40))","v":0},{"$f":"IF(INTRO!$E$39<>\"Non-endemic\",COUNTRY_INFO!Q40,\"Not required\")","v":2},{"$f":"IF(COUNTRY_INFO!H40=1, IF($E40=1,$D40, 0),0)","v":0},{"$f":"IF(INTRO!$E$39<>\"Endemic\",0, IF(AND(COUNTRY_INFO!$I40=1,$F40<>0),IF(COUNTRY_INFO!M40>=(COUNTRY_INFO!F40+COUNTRY_INFO!G40),COUNTRY_INFO!F40+COUNTRY_INFO!G40,COUNTRY_INFO!$M40), 0))","v":101161},null,101161,0,566501.6,0,566501.6,null,566501.6,1134]
[{"$f":"IF(INTRO!$E$39=\"Non-endemic\",\" \",IF(COUNTRY_INFO!A41=0,\" \",COUNTRY_INFO!A41))","v":"Ghana"},{"$f":"IF(INTRO!$E$39=\"Non-endemic\",\" \",IF(COUNTRY_INFO!B41=0,\" \",COUNTRY_INFO!B41))","v":"Brong-Ahafo"},{"$f":"IF(INTRO!$E$39=\"Non-endemic\",\" \",IF(COUNTRY_INFO!C41=0,\" \",COUNTRY_INFO!C41))","v":"Asutifi North"},{"$f":"IF(INTRO!$E$39=\"Non-endemic\",0,IF(INTRO!$E$39=\"Endemic but PC is not required\",IF(COUNTRY_INFO!$H41=1,COUNTRY_INFO!F41+COUNTRY_INFO!G41,0),IF(COUNTRY_INFO!$H41=1,COUNTRY_INFO!F41+COUNTRY_INFO!G41,IF(COUNTRY_INFO!$I41=1,IF(COUNTRY_INFO!M41>=(COUNTRY_INFO!F41+COUNTRY_INFO!G41),COUNTRY_INFO!F41+COUNTRY_INFO!G41,COUNTRY_INFO!$M41),0))))","v":13754},{"$f":"IF(AND(INTRO!$E$39=\"Non-endemic\",INTRO!$E$37=\"Non-endemic\"),\"Not required\",IF(INTRO!$E$39=\"Non-endemic\",\"Treat with DEC\",COUNTRY_INFO!P41))","v":0},{"$f":"IF(INTRO!$E$39<>\"Non-endemic\",COUNTRY_INFO!Q41,\"Not required\")","v":2},{"$f":"IF(COUNTRY_INFO!H41=1, IF($E41=1,$D41, 0),0)","v":0},{"$f":"IF(INTRO!$E$39<>\"Endemic\",0, IF(AND(COUNTRY_INFO!$I41=1,$F41<>0),IF(COUNTRY_INFO!M41>=(COUNTRY_INFO!F41+COUNTRY_INFO!G41),COUNTRY_INFO!F41+COUNTRY_INFO!G41,COUNTRY_INFO!$M41), 0))","v":13754},null,13754,0,77022.399999999994,0,77022.399999999994,null,77022.399999999994,155]
[{"$f":"IF(INTRO!$E$39=\"Non-endemic\",\" \",IF(COUNTRY_INFO!A42=0,\" \",COUNTRY_INFO!A42))","v":"Ghana"},{"$f":"IF(INTRO!$E$39=\"Non-endemic\",\" \",IF(COUNTRY_INFO!B42=0,\" \",COUNTRY_INFO!B42))","v":"Brong-Ahafo"},{"$f":"IF(INTRO!$E$39=\"Non-endemic\",\" \",IF(COUNTRY_INFO!C42=0,\" \",COUNTRY_INFO!C42))","v":"Asutifi South"},{"$f":"IF(INTRO!$E$39=\"Non-endemic\",0,IF(INTRO!$E$39=\"Endemic but PC is not required\",IF(COUNTRY_INFO!$H42=1,COUNTRY_INFO!F42+COUNTRY_INFO!G42,0),IF(COUNTRY_INFO!$H42=1,COUNTRY_INFO!F42+COUNTRY_INFO!G42,IF(COUNTRY_INFO!$I42=1,IF(COUNTRY_INFO!M42>=(COUNTRY_INFO!F42+COUNTRY_INFO!G42),COUNTRY_INFO!F42+COUNTRY_INFO!G42,COUNTRY_INFO!$M42),0))))","v":55930},{"$f":"IF(AND(INTRO!$E$39=\"Non-endemic\",INTRO!$E$37=\"Non-endemic\"),\"Not required\",IF(INTRO!$E$39=\"Non-endemic\",\"Treat with DEC\",COUNTRY_INFO!P42))","v":0},{"$f":"IF(INTRO!$E$39<>\"Non-endemic\",COUNTRY_INFO!Q42,\"Not required\")","v":1},{"$f":"IF(COUNTRY_INFO!H42=1, IF($E42=1,$D42, 0),0)","v":0},{"$f":"IF(INTRO!$E$39<>\"Endemic\",0, IF(AND(COUNTRY_INFO!$I42=1,$F42<>0),IF(COUNTRY_INFO!M42>=(COUNTRY_INFO!F42+COUNTRY_INFO!G42),COUNTRY_INFO!F42+COUNTRY_INFO!G42,COUNTRY_INFO!$M42), 0))","v":55930},null,55930,0,156604,0,156604,null,156604,314]
[{"$f":"IF(INTRO!$E$39=\"Non-endemic\",\" \",IF(COUNTRY_INFO!A43=0,\" \",COUNTRY_INFO!A43))","v":"Ghana"},{"$f":"IF(INTRO!$E$39=\"Non-endemic\",\" \",IF(COUNTRY_INFO!B43=0,\" \",COUNTRY_INFO!B43))","v":"Brong-Ahafo"},{"$f":"IF(INTRO!$E$39=\"Non-endemic\",\" \",IF(COUNTRY_INFO!C43=0,\" \",COUNTRY_INFO!C43))","v":"Atebubu-Amanteng"},{"$f":"IF(INTRO!$E$39=\"Non-endemic\",0,IF(INTRO!$E$39=\"Endemic but PC is not required\",IF(COUNTRY_INFO!$H43=1,COUNTRY_INFO!F43+COUNTRY_INFO!G43,0),IF(COUNTRY_INFO!$H43=1,COUNTRY_INFO!F43+COUNTRY_INFO!G43,IF(COUNTRY_INFO!$I43=1,IF(COUNTRY_INFO!M43>=(COUNTRY_INFO!F43+COUNTRY_INFO!G43),COUNTRY_INFO!F43+COUNTRY_INFO!G43,COUNTRY_INFO!$M43),0))))","v":112124},{"$f":"IF(AND(INTRO!$E$39=\"Non-endemic\",INTRO!$E$37=\"Non-endemic\"),\"Not required\",IF(INTRO!$E$39=\"Non-endemic\",\"Treat with DEC\",COUNTRY_INFO!P43))","v":0},{"$f":"IF(INTRO!$E$39<>\"Non-endemic\",COUNTRY_INFO!Q43,\"Not required\")","v":2},{"$f":"IF(COUNTRY_INFO!H43=1, IF($E43=1,$D43, 0),0)","v":0},{"$f":"IF(INTRO!$E$39<>\"Endemic\",0, IF(AND(COUNTRY_INFO!$I43=1,$F43<>0),IF(COUNTRY_INFO!M43>=(COUNTRY_INFO!F43+COUNTRY_INFO!G43),COUNTRY_INFO!F43+COUNTRY_INFO!G43,COUNTRY_INFO!$M43), 0))","v":112124},null,112124,0,627894.39999999991,0,627894.39999999991,null,627894.39999999991,1256]
[{"$f":"IF(INTRO!$E$39=\"Non-endemic\",\" \",IF(COUNTRY_INFO!A44=0,\" \",COUNTRY_INFO!A44))","v":"Ghana"},{"$f":"IF(INTRO!$E$39=\"Non-endemic\",\" \",IF(COUNTRY_INFO!B44=0,\" \",COUNTRY_INFO!B44))","v":"Brong-Ahafo"},{"$f":"IF(INTRO!$E$39=\"Non-endemic\",\" \",IF(COUNTRY_INFO!C44=0,\" \",COUNTRY_INFO!C44))","v":"Berekum"},{"$f":"IF(INTRO!$E$39=\"Non-endemic\",0,IF(INTRO!$E$39=\"Endemic but PC is not required\",IF(COUNTRY_INFO!$H44=1,COUNTRY_INFO!F44+COUNTRY_INFO!G44,0),IF(COUNTRY_INFO!$H44=1,COUNTRY_INFO!F44+COUNTRY_INFO!G44,IF(COUNTRY_INFO!$I44=1,IF(COUNTRY_INFO!M44>=(COUNTRY_INFO!F44+COUNTRY_INFO!G44),COUNTRY_INFO!F44+COUNTRY_INFO!G44,COUNTRY_INFO!$M44),0))))","v":0},{"$f":"IF(AND(INTRO!$E$39=\"Non-endemic\",INTRO!$E$37=\"Non-endemic\"),\"Not required\",IF(INTRO!$E$39=\"Non-endemic\",\"Treat with DEC\",COUNTRY_INFO!P44))","v":0},{"$f":"IF(INTRO!$E$39<>\"Non-endemic\",COUNTRY_INFO!Q44,\"Not required\")","v":0},{"$f":"IF(COUNTRY_INFO!H44=1, IF($E44=1,$D44, 0),0)","v":0},{"$f":"IF(INTRO!$E$39<>\"Endemic\",0, IF(AND(COUNTRY_INFO!$I44=1,$F44<>0),IF(COUNTRY_INFO!M44>=(COUNTRY_INFO!F44+COUNTRY_INFO!G44),COUNTRY_INFO!F44+COUNTRY_INFO!G44,COUNTRY_INFO!$M44), 0))","v":0},null,0,0,0,0,0,null,0,0]
[{"$f":"IF(INTRO!$E$39=\"Non-endemic\",\" \",IF(COUNTRY_INFO!A45=0,\" \",COUNTRY_INFO!A45))","v":"Ghana"},{"$f":"IF(INTRO!$E$39=\"Non-endemic\",\" \",IF(COUNTRY_INFO!B45=0,\" \",COUNTRY_INFO!B45))","v":"Brong-Ahafo"},{"$f":"IF(INTRO!$E$39=\"Non-endemic\",\" \",IF(COUNTRY_INFO!C45=0,\" \",COUNTRY_INFO!C45))","v":"Dormaa Municipal"},{"$f":"IF(INTRO!$E$39=\"Non-endemic\",0,IF(INTRO!$E$39=\"Endemic but PC is not required\",IF(COUNTRY_INFO!$H45=1,COUNTRY_INFO!F45+COUNTRY_INFO!G45,0),IF(COUNTRY_INFO!$H45=1,COUNTRY_INFO!F45+COUNTRY_INFO!G45,IF(COUNTRY_INFO!$I45=1,IF(COUNTRY_INFO!M45>=(COUNTRY_INFO!F45+COUNTRY_INFO!G45),COUNTRY_INFO!F45+COUNTRY_INFO!G45,COUNTRY_INFO!$M45),0))))","v":0},{"$f":"IF(AND(INTRO!$E$39=\"Non-endemic\",INTRO!$E$37=\"Non-endemic\"),\"Not required\",IF(INTRO!$E$39=\"Non-endemic\",\"Treat with DEC\",COUNTRY_INFO!P45))","v":0},{"$f":"IF(INTRO!$E$39<>\"Non-endemic\",COUNTRY_INFO!Q45,\"Not required\")","v":0},{"$f":"IF(COUNTRY_INFO!H45=1, IF($E45=1,$D45, 0),0)","v":0},{"$f":"IF(INTRO!$E$39<>\"Endemic\",0, IF(AND(COUNTRY_INFO!$I45=1,$F45<>0),IF(COUNTRY_INFO!M45>=(COUNTRY_INFO!F45+COUNTRY_INFO!G45),COUNTRY_INFO!F45+COUNTRY_INFO!G45,COUNTRY_INFO!$M45), 0))","v":0},null,0,0,0,0,0,null,0,0]
[{"$f":"IF(INTRO!$E$39=\"Non-endemic\",\" \",IF(COUNTRY_INFO!A46=0,\" \",COUNTRY_INFO!A46))","v":"Ghana"},{"$f":"IF(INTRO!$E$39=\"Non-endemic\",\" \",IF(COUNTRY_INFO!B46=0,\" \",COUNTRY_INFO!B46))","v":"Brong-Ahafo"},{"$f":"IF(INTRO!$E$39=\"Non-endemic\",\" \",IF(COUNTRY_INFO!C46=0,\" \",COUNTRY_INFO!C46))","v":"Dormaa West"},{"$f":"IF(INTRO!$E$39=\"Non-endemic\",0,IF(INTRO!$E$39=\"Endemic but PC is not required\",IF(COUNTRY_INFO!$H46=1,COUNTRY_INFO!F46+COUNTRY_INFO!G46,0),IF(COUNTRY_INFO!$H46=1,COUNTRY_INFO!F46+COUNTRY_INFO!G46,IF(COUNTRY_INFO!$I46=1,IF(COUNTRY_INFO!M46>=(COUNTRY_INFO!F46+COUNTRY_INFO!G46),COUNTRY_INFO!F46+COUNTRY_INFO!G46,COUNTRY_INFO!$M46),0))))","v":0},{"$f":"IF(AND(INTRO!$E$39=\"Non-endemic\",INTRO!$E$37=\"Non-endemic\"),\"Not required\",IF(INTRO!$E$39=\"Non-endemic\",\"Treat with DEC\",COUNTRY_INFO!P46))","v":0},{"$f":"IF(INTRO!$E$39<>\"Non-endemic\",COUNTRY_INFO!Q46,\"Not required\")","v":0},{"$f":"IF(COUNTRY_INFO!H46=1, IF($E46=1,$D46, 0),0)","v":0},{"$f":"IF(INTRO!$E$39<>\"Endemic\",0, IF(AND(COUNTRY_INFO!$I46=1,$F46<>0),IF(COUNTRY_INFO!M46>=(COUNTRY_INFO!F46+COUNTRY_INFO!G46),COUNTRY_INFO!F46+COUNTRY_INFO!G46,COUNTRY_INFO!$M46), 0))","v":0},null,0,0,0,0,0,null,0,0]
[{"$f":"IF(INTRO!$E$39=\"Non-endemic\",\" \",IF(COUNTRY_INFO!A47=0,\" \",COUNTRY_INFO!A47))","v":"Ghana"},{"$f":"IF(INTRO!$E$39=\"Non-endemic\",\" \",IF(COUNTRY_INFO!B47=0,\" \",COUNTRY_INFO!B47))","v":"Brong-Ahafo"},{"$f":"IF(INTRO!$E$39=\"Non-endemic\",\" \",IF(COUNTRY_INFO!C47=0,\" \",COUNTRY_INFO!C47))","v":"Dormaa East"},{"$f":"IF(INTRO!$E$39=\"Non-endemic\",0,IF(INTRO!$E$39=\"Endemic but PC is not required\",IF(COUNTRY_INFO!$H47=1,COUNTRY_INFO!F47+COUNTRY_INFO!G47,0),IF(COUNTRY_INFO!$H47=1,COUNTRY_INFO!F47+COUNTRY_INFO!G47,IF(COUNTRY_INFO!$I47=1,IF(COUNTRY_INFO!M47>=(COUNTRY_INFO!F47+COUNTRY_INFO!G47),COUNTRY_INFO!F47+COUNTRY_INFO!G47,COUNTRY_INFO!$M47),0))))","v":0},{"$f":"IF(AND(INTRO!$E$39=\"Non-endemic\",INTRO!$E$37=\"Non-endemic\"),\"Not required\",IF(INTRO!$E$39=\"Non-endemic\",\"Treat with DEC\",COUNTRY_INFO!P47))","v":0},{"$f":"IF(INTRO!$E$39<>\"Non-endemic\",COUNTRY_INFO!Q47,\"Not required\")","v":0},{"$f":"IF(COUNTRY_INFO!H47=1, IF($E47=1,$D47, 0),0)","v":0},{"$f":"IF(INTRO!$E$39<>\"Endemic\",0, IF(AND(COUNTRY_INFO!$I47=1,$F47<>0),IF(COUNTRY_INFO!M47>=(COUNTRY_INFO!F47+COUNTRY_INFO!G47),COUNTRY_INFO!F47+COUNTRY_INFO!G47,COUNTRY_INFO!$M47), 0))","v":0},null,0,0,0,0,0,null,0,0]
[{"$f":"IF(INTRO!$E$39=\"Non-endemic\",\" \",IF(COUNTRY_INFO!A48=0,\" \",COUNTRY_INFO!A48))","v":"Ghana"},{"$f":"IF(INTRO!$E$39=\"Non-endemic\",\" \",IF(COUNTRY_INFO!B48=0,\" \",COUNTRY_INFO!B48))","v":"Brong-Ahafo"},{"$f":"IF(INTRO!$E$39=\"Non-endemic\",\" \",IF(COUNTRY_INFO!C48=0,\" \",COUNTRY_INFO!C48))","v":"Jaman North"},{"$f":"IF(INTRO!$E$39=\"Non-endemic\",0,IF(INTRO!$E$39=\"Endemic but PC is not required\",IF(COUNTRY_INFO!$H48=1,COUNTRY_INFO!F48+COUNTRY_INFO!G48,0),IF(COUNTRY_INFO!$H48=1,COUNTRY_INFO!F48+COUNTRY_INFO!G48,IF(COUNTRY_INFO!$I48=1,IF(COUNTRY_INFO!M48>=(COUNTRY_INFO!F48+COUNTRY_INFO!G48),COUNTRY_INFO!F48+COUNTRY_INFO!G48,COUNTRY_INFO!$M48),0))))","v":0},{"$f":"IF(AND(INTRO!$E$39=\"Non-endemic\",INTRO!$E$37=\"Non-endemic\"),\"Not required\",IF(INTRO!$E$39=\"Non-endemic\",\"Treat with DEC\",COUNTRY_INFO!P48))","v":0},{"$f":"IF(INTRO!$E$39<>\"Non-endemic\",COUNTRY_INFO!Q48,\"Not required\")","v":0},{"$f":"IF(COUNTRY_INFO!H48=1, IF($E48=1,$D48, 0),0)","v":0},{"$f":"IF(INTRO!$E$39<>\"Endemic\",0, IF(AND(COUNTRY_INFO!$I48=1,$F48<>0),IF(COUNTRY_INFO!M48>=(COUNTRY_INFO!F48+COUNTRY_INFO!G48),COUNTRY_INFO!F48+COUNTRY_INFO!G48,COUNTRY_INFO!$M48), 0))","v":0},null,0,0,0,0,0,null,0,0]
[{"$f":"IF(INTRO!$E$39=\"Non-endemic\",\" \",IF(COUNTRY_INFO!A49=0,\" \",COUNTRY_INFO!A49))","v":"Ghana"},{"$f":"IF(INTRO!$E$39=\"Non-endemic\",\" \",IF(COUNTRY_INFO!B49=0,\" \",COUNTRY_INFO!B49))","v":"Brong-Ahafo"},{"$f":"IF(INTRO!$E$39=\"Non-endemic\",\" \",IF(COUNTRY_INFO!C49=0,\" \",COUNTRY_INFO!C49))","v":"Jaman south"},{"$f":"IF(INTRO!$E$39=\"Non-endemic\",0,IF(INTRO!$E$39=\"Endemic but PC is not required\",IF(COUNTRY_INFO!$H49=1,COUNTRY_INFO!F49+COUNTRY_INFO!G49,0),IF(COUNTRY_INFO!$H49=1,COUNTRY_INFO!F49+COUNTRY_INFO!G49,IF(COUNTRY_INFO!$I49=1,IF(COUNTRY_INFO!M49>=(COUNTRY_INFO!F49+COUNTRY_INFO!G49),COUNTRY_INFO!F49+COUNTRY_INFO!G49,COUNTRY_INFO!$M49),0))))","v":0},{"$f":"IF(AND(INTRO!$E$39=\"Non-endemic\",INTRO!$E$37=\"Non-endemic\"),\"Not required\",IF(INTRO!$E$39=\"Non-endemic\",\"Treat with DEC\",COUNTRY_INFO!P49))","v":0},{"$f":"IF(INTRO!$E$39<>\"Non-endemic\",COUNTRY_INFO!Q49,\"Not required\")","v":0},{"$f":"IF(COUNTRY_INFO!H49=1, IF($E49=1,$D49, 0),0)","v":0},{"$f":"IF(INTRO!$E$39<>\"Endemic\",0, IF(AND(COUNTRY_INFO!$I49=1,$F49<>0),IF(COUNTRY_INFO!M49>=(COUNTRY_INFO!F49+COUNTRY_INFO!G49),COUNTRY_INFO!F49+COUNTRY_INFO!G49,COUNTRY_INFO!$M49), 0))","v":0},null,0,0,0,0,0,null,0,0]
[{"$f":"IF(INTRO!$E$39=\"Non-endemic\",\" \",IF(COUNTRY_INFO!A50=0,\" \",COUNTRY_INFO!A50))","v":"Ghana"},{"$f":"IF(INTRO!$E$39=\"Non-endemic\",\" \",IF(COUNTRY_INFO!B50=0,\" \",COUNTRY_INFO!B50))","v":"Brong-Ahafo"},{"$f":"IF(INTRO!$E$39=\"Non-endemic\",\" \",IF(COUNTRY_INFO!C50=0,\" \",COUNTRY_INFO!C50))","v":"Kintampo North"},{"$f":"IF(INTRO!$E$39=\"Non-endemic\",0,IF(INTRO!$E$39=\"Endemic but PC is not required\",IF(COUNTRY_INFO!$H50=1,COUNTRY_INFO!F50+COUNTRY_INFO!G50,0),IF(COUNTRY_INFO!$H50=1,COUNTRY_INFO!F50+COUNTRY_INFO!G50,IF(COUNTRY_INFO!$I50=1,IF(COUNTRY_INFO!M50>=(COUNTRY_INFO!F50+COUNTRY_INFO!G50),COUNTRY_INFO!F50+COUNTRY_INFO!G50,COUNTRY_INFO!$M50),0))))","v":101055},{"$f":"IF(AND(INTRO!$E$39=\"Non-endemic\",INTRO!$E$37=\"Non-endemic\"),\"Not required\",IF(INTRO!$E$39=\"Non-endemic\",\"Treat with DEC\",COUNTRY_INFO!P50))","v":0},{"$f":"IF(INTRO!$E$39<>\"Non-endemic\",COUNTRY_INFO!Q50,\"Not required\")","v":2},{"$f":"IF(COUNTRY_INFO!H50=1, IF($E50=1,$D50, 0),0)","v":0},{"$f":"IF(INTRO!$E$39<>\"Endemic\",0, IF(AND(COUNTRY_INFO!$I50=1,$F50<>0),IF(COUNTRY_INFO!M50>=(COUNTRY_INFO!F50+COUNTRY_INFO!G50),COUNTRY_INFO!F50+COUNTRY_INFO!G50,COUNTRY_INFO!$M50), 0))","v":101055},null,101055,0,565908,0,565908,null,565908,1132]
[{"$f":"IF(INTRO!$E$39=\"Non-endemic\",\" \",IF(COUNTRY_INFO!A51=0,\" \",COUNTRY_INFO!A51))","v":"Ghana"},{"$f":"IF(INTRO!$E$39=\"Non-endemic\",\" \",IF(COUNTRY_INFO!B51=0,\" \",COUNTRY_INFO!B51))","v":"Brong-Ahafo"},{"$f":"IF(INTRO!$E$39=\"Non-endemic\",\" \",IF(COUNTRY_INFO!C51=0,\" \",COUNTRY_INFO!C51))","v":"Kintampo South"},{"$f":"IF(INTRO!$E$39=\"Non-endemic\",0,IF(INTRO!$E$39=\"Endemic but PC is not required\",IF(COUNTRY_INFO!$H51=1,COUNTRY_INFO!F51+COUNTRY_INFO!G51,0),IF(COUNTRY_INFO!$H51=1,COUNTRY_INFO!F51+COUNTRY_INFO!G51,IF(COUNTRY_INFO!$I51=1,IF(COUNTRY_INFO!M51>=(COUNTRY_INFO!F51+COUNTRY_INFO!G51),COUNTRY_INFO!F51+COUNTRY_INFO!G51,COUNTRY_INFO!$M51),0))))","v":85729},{"$f":"IF(AND(INTRO!$E$39=\"Non-endemic\",INTRO!$E$37=\"Non-endemic\"),\"Not required\",IF(INTRO!$E$39=\"Non-endemic\",\"Treat with DEC\",COUNTRY_INFO!P51))","v":0},{"$f":"IF(INTRO!$E$39<>\"Non-endemic\",COUNTRY_INFO!Q51,\"Not required\")","v":2},{"$f":"IF(COUNTRY_INFO!H51=1, IF($E51=1,$D51, 0),0)","v":0},{"$f":"IF(INTRO!$E$39<>\"Endemic\",0, IF(AND(COUNTRY_INFO!$I51=1,$F51<>0),IF(COUNTRY_INFO!M51>=(COUNTRY_INFO!F51+COUNTRY_INFO!G51),COUNTRY_INFO!F51+COUNTRY_INFO!G51,COUNTRY_INFO!$M51), 0))","v":85729},null,85729,0,480082.39999999997,0,480082.39999999997,null,480082.39999999997,961]
[{"$f":"IF(INTRO!$E$39=\"Non-endemic\",\" \",IF(COUNTRY_INFO!A52=0,\" \",COUNTRY_INFO!A52))","v":"Ghana"},{"$f":"IF(INTRO!$E$39=\"Non-endemic\",\" \",IF(COUNTRY_INFO!B52=0,\" \",COUNTRY_INFO!B52))","v":"Brong-Ahafo"},{"$f":"IF(INTRO!$E$39=\"Non-endemic\",\" \",IF(COUNTRY_INFO!C52=0,\" \",COUNTRY_INFO!C52))","v":"Nkoranza North"},{"$f":"IF(INTRO!$E$39=\"Non-endemic\",0,IF(INTRO!$E$39=\"Endemic but PC is not required\",IF(COUNTRY_INFO!$H52=1,COUNTRY_INFO!F52+COUNTRY_INFO!G52,0),IF(COUNTRY_INFO!$H52=1,COUNTRY_INFO!F52+COUNTRY_INFO!G52,IF(COUNTRY_INFO!$I52=1,IF(COUNTRY_INFO!M52>=(COUNTRY_INFO!F52+COUNTRY_INFO!G52),COUNTRY_INFO!F52+COUNTRY_INFO!G52,COUNTRY_INFO!$M52),0))))","v":69742},{"$f":"IF(AND(INTRO!$E$39=\"Non-endemic\",INTRO!$E$37=\"Non-endemic\"),\"Not required\",IF(INTRO!$E$39=\"Non-endemic\",\"Treat with DEC\",COUNTRY_INFO!P52))","v":0},{"$f":"IF(INTRO!$E$39<>\"Non-endemic\",COUNTRY_INFO!Q52,\"Not required\")","v":2},{"$f":"IF(COUNTRY_INFO!H52=1, IF($E52=1,$D52, 0),0)","v":0},{"$f":"IF(INTRO!$E$39<>\"Endemic\",0, IF(AND(COUNTRY_INFO!$I52=1,$F52<>0),IF(COUNTRY_INFO!M52>=(COUNTRY_INFO!F52+COUNTRY_INFO!G52),COUNTRY_INFO!F52+COUNTRY_INFO!G52,COUNTRY_INFO!$M52), 0))","v":69742},null,69742,0,390555.19999999995,0,390555.19999999995,null,390555.19999999995,782]
[{"$f":"IF(INTRO!$E$39=\"Non-endemic\",\" \",IF(COUNTRY_INFO!A53=0,\" \",COUNTRY_INFO!A53))","v":"Ghana"},{"$f":"IF(INTRO!$E$39=\"Non-endemic\",\" \",IF(COUNTRY_INFO!B53=0,\" \",COUNTRY_INFO!B53))","v":"Brong-Ahafo"},{"$f":"IF(INTRO!$E$39=\"Non-endemic\",\" \",IF(COUNTRY_INFO!C53=0,\" \",COUNTRY_INFO!C53))","v":"Nkoranza South"},{"$f":"IF(INTRO!$E$39=\"Non-endemic\",0,IF(INTRO!$E$39=\"Endemic but PC is not required\",IF(COUNTRY_INFO!$H53=1,COUNTRY_INFO!F53+COUNTRY_INFO!G53,0),IF(COUNTRY_INFO!$H53=1,COUNTRY_INFO!F53+COUNTRY_INFO!G53,IF(COUNTRY_INFO!$I53=1,IF(COUNTRY_INFO!M53>=(COUNTRY_INFO!F53+COUNTRY_INFO!G53),COUNTRY_INFO!F53+COUNTRY_INFO!G53,COUNTRY_INFO!$M53),0))))","v":106822},{"$f":"IF(AND(INTRO!$E$39=\"Non-endemic\",INTRO!$E$37=\"Non-endemic\"),\"Not required\",IF(INTRO!$E$39=\"Non-endemic\",\"Treat with DEC\",COUNTRY_INFO!P53))","v":0},{"$f":"IF(INTRO!$E$39<>\"Non-endemic\",COUNTRY_INFO!Q53,\"Not required\")","v":2},{"$f":"IF(COUNTRY_INFO!H53=1, IF($E53=1,$D53, 0),0)","v":0},{"$f":"IF(INTRO!$E$39<>\"Endemic\",0, IF(AND(COUNTRY_INFO!$I53=1,$F53<>0),IF(COUNTRY_INFO!M53>=(COUNTRY_INFO!F53+COUNTRY_INFO!G53),COUNTRY_INFO!F53+COUNTRY_INFO!G53,COUNTRY_INFO!$M53), 0))","v":106822},null,106822,0,598203.19999999995,0,598203.19999999995,null,598203.19999999995,1197]
[{"$f":"IF(INTRO!$E$39=\"Non-endemic\",\" \",IF(COUNTRY_INFO!A54=0,\" \",COUNTRY_INFO!A54))","v":"Ghana"},{"$f":"IF(INTRO!$E$39=\"Non-endemic\",\" \",IF(COUNTRY_INFO!B54=0,\" \",COUNTRY_INFO!B54))","v":"Brong-Ahafo"},{"$f":"IF(INTRO!$E$39=\"Non-endemic\",\" \",IF(COUNTRY_INFO!C54=0,\" \",COUNTRY_INFO!C54))","v":"Pru"},{"$f":"IF(INTRO!$E$39=\"Non-endemic\",0,IF(INTRO!$E$39=\"Endemic but PC is not required\",IF(COUNTRY_INFO!$H54=1,COUNTRY_INFO!F54+COUNTRY_INFO!G54,0),IF(COUNTRY_INFO!$H54=1,COUNTRY_INFO!F54+COUNTRY_INFO!G54,IF(COUNTRY_INFO!$I54=1,IF(COUNTRY_INFO!M54>=(COUNTRY_INFO!F54+COUNTRY_INFO!G54),COUNTRY_INFO!F54+COUNTRY_INFO!G54,COUNTRY_INFO!$M54),0))))","v":136795},{"$f":"IF(AND(INTRO!$E$39=\"Non-endemic\",INTRO!$E$37=\"Non-endemic\"),\"Not required\",IF(INTRO!$E$39=\"Non-endemic\",\"Treat with DEC\",COUNTRY_INFO!P54))","v":0},{"$f":"IF(INTRO!$E$39<>\"Non-endemic\",COUNTRY_INFO!Q54,\"Not required\")","v":2},{"$f":"IF(COUNTRY_INFO!H54=1, IF($E54=1,$D54, 0),0)","v":0},{"$f":"IF(INTRO!$E$39<>\"Endemic\",0, IF(AND(COUNTRY_INFO!$I54=1,$F54<>0),IF(COUNTRY_INFO!M54>=(COUNTRY_INFO!F54+COUNTRY_INFO!G54),COUNTRY_INFO!F54+COUNTRY_INFO!G54,COUNTRY_INFO!$M54), 0))","v":136795},null,136795,0,766052,0,766052,null,766052,1533]
[{"$f":"IF(INTRO!$E$39=\"Non-endemic\",\" \",IF(COUNTRY_INFO!A55=0,\" \",COUNTRY_INFO!A55))","v":"Ghana"},{"$f":"IF(INTRO!$E$39=\"Non-endemic\",\" \",IF(COUNTRY_INFO!B55=0,\" \",COUNTRY_INFO!B55))","v":"Brong-Ahafo"},{"$f":"IF(INTRO!$E$39=\"Non-endemic\",\" \",IF(COUNTRY_INFO!C55=0,\" \",COUNTRY_INFO!C55))","v":"Sene East"},{"$f":"IF(INTRO!$E$39=\"Non-endemic\",0,IF(INTRO!$E$39=\"Endemic but PC is not required\",IF(COUNTRY_INFO!$H55=1,COUNTRY_INFO!F55+COUNTRY_INFO!G55,0),IF(COUNTRY_INFO!$H55=1,COUNTRY_INFO!F55+COUNTRY_INFO!G55,IF(COUNTRY_INFO!$I55=1,IF(COUNTRY_INFO!M55>=(COUNTRY_INFO!F55+COUNTRY_INFO!G55),COUNTRY_INFO!F55+COUNTRY_INFO!G55,COUNTRY_INFO!$M55),0))))","v":64044},{"$f":"IF(AND(INTRO!$E$39=\"Non-endemic\",INTRO!$E$37=\"Non-endemic\"),\"Not required\",IF(INTRO!$E$39=\"Non-endemic\",\"Treat with DEC\",COUNTRY_INFO!P55))","v":0},{"$f":"IF(INTRO!$E$39<>\"Non-endemic\",COUNTRY_INFO!Q55,\"Not required\")","v":1},{"$f":"IF(COUNTRY_INFO!H55=1, IF($E55=1,$D55, 0),0)","v":0},{"$f":"IF(INTRO!$E$39<>\"Endemic\",0, IF(AND(COUNTRY_INFO!$I55=1,$F55<>0),IF(COUNTRY_INFO!M55>=(COUNTRY_INFO!F55+COUNTRY_INFO!G55),COUNTRY_INFO!F55+COUNTRY_INFO!G55,COUNTRY_INFO!$M55), 0))","v":64044},null,64044,0,179323.19999999998,0,179323.19999999998,null,179323.19999999998,359]
[{"$f":"IF(INTRO!$E$39=\"Non-endemic\",\" \",IF(COUNTRY_INFO!A56=0,\" \",COUNTRY_INFO!A56))","v":"Ghana"},{"$f":"IF(INTRO!$E$39=\"Non-endemic\",\" \",IF(COUNTRY_INFO!B56=0,\" \",COUNTRY_INFO!B56))","v":"Brong-Ahafo"},{"$f":"IF(INTRO!$E$39=\"Non-endemic\",\" \",IF(COUNTRY_INFO!C56=0,\" \",COUNTRY_INFO!C56))","v":"Sene West"},{"$f":"IF(INTRO!$E$39=\"Non-endemic\",0,IF(INTRO!$E$39=\"Endemic but PC is not required\",IF(COUNTRY_INFO!$H56=1,COUNTRY_INFO!F56+COUNTRY_INFO!G56,0),IF(COUNTRY_INFO!$H56=1,COUNTRY_INFO!F56+COUNTRY_INFO!G56,IF(COUNTRY_INFO!$I56=1,IF(COUNTRY_INFO!M56>=(COUNTRY_INFO!F56+COUNTRY_INFO!G56),COUNTRY_INFO!F56+COUNTRY_INFO!G56,COUNTRY_INFO!$M56),0))))","v":61702},{"$f":"IF(AND(INTRO!$E$39=\"Non-endemic\",INTRO!$E$37=\"Non-endemic\"),\"Not required\",IF(INTRO!$E$39=\"Non-endemic\",\"Treat with DEC\",COUNTRY_INFO!P56))","v":0},{"$f":"IF(INTRO!$E$39<>\"Non-endemic\",COUNTRY_INFO!Q56,\"Not required\")","v":1},{"$f":"IF(COUNTRY_INFO!H56=1, IF($E56=1,$D56, 0),0)","v":0},{"$f":"IF(INTRO!$E$39<>\"Endemic\",0, IF(AND(COUNTRY_INFO!$I56=1,$F56<>0),IF(COUNTRY_INFO!M56>=(COUNTRY_INFO!F56+COUNTRY_INFO!G56),COUNTRY_INFO!F56+COUNTRY_INFO!G56,COUNTRY_INFO!$M56), 0))","v":61702},null,61702,0,172765.59999999998,0,172765.59999999998,null,172765.59999999998,346]
[{"$f":"IF(INTRO!$E$39=\"Non-endemic\",\" \",IF(COUNTRY_INFO!A57=0,\" \",COUNTRY_INFO!A57))","v":"Ghana"},{"$f":"IF(INTRO!$E$39=\"Non-endemic\",\" \",IF(COUNTRY_INFO!B57=0,\" \",COUNTRY_INFO!B57))","v":"Brong-Ahafo"},{"$f":"IF(INTRO!$E$39=\"Non-endemic\",\" \",IF(COUNTRY_INFO!C57=0,\" \",COUNTRY_INFO!C57))","v":"Sunyani Municipal"},{"$f":"IF(INTRO!$E$39=\"Non-endemic\",0,IF(INTRO!$E$39=\"Endemic but PC is not required\",IF(COUNTRY_INFO!$H57=1,COUNTRY_INFO!F57+COUNTRY_INFO!G57,0),IF(COUNTRY_INFO!$H57=1,COUNTRY_INFO!F57+COUNTRY_INFO!G57,IF(COUNTRY_INFO!$I57=1,IF(COUNTRY_INFO!M57>=(COUNTRY_INFO!F57+COUNTRY_INFO!G57),COUNTRY_INFO!F57+COUNTRY_INFO!G57,COUNTRY_INFO!$M57),0))))","v":130419},{"$f":"IF(AND(INTRO!$E$39=\"Non-endemic\",INTRO!$E$37=\"Non-endemic\"),\"Not required\",IF(INTRO!$E$39=\"Non-endemic\",\"Treat with DEC\",COUNTRY_INFO!P57))","v":1},{"$f":"IF(INTRO!$E$39<>\"Non-endemic\",COUNTRY_INFO!Q57,\"Not required\")","v":0},{"$f":"IF(COUNTRY_INFO!H57=1, IF($E57=1,$D57, 0),0)","v":130419},{"$f":"IF(INTRO!$E$39<>\"Endemic\",0, IF(AND(COUNTRY_INFO!$I57=1,$F57<>0),IF(COUNTRY_INFO!M57>=(COUNTRY_INFO!F57+COUNTRY_INFO!G57),COUNTRY_INFO!F57+COUNTRY_INFO!G57,COUNTRY_INFO!$M57), 0))","v":0},null,0,365173.19999999995,0,0,365173.19999999995,null,365173.19999999995,731]
[{"$f":"IF(INTRO!$E$39=\"Non-endemic\",\" \",IF(COUNTRY_INFO!A58=0,\" \",COUNTRY_INFO!A58))","v":"Ghana"},{"$f":"IF(INTRO!$E$39=\"Non-endemic\",\" \",IF(COUNTRY_INFO!B58=0,\" \",COUNTRY_INFO!B58))","v":"Brong-Ahafo"},{"$f":"IF(INTRO!$E$39=\"Non-endemic\",\" \",IF(COUNTRY_INFO!C58=0,\" \",COUNTRY_INFO!C58))","v":"Sunyani West"},{"$f":"IF(INTRO!$E$39=\"Non-endemic\",0,IF(INTRO!$E$39=\"Endemic but PC is not required\",IF(COUNTRY_INFO!$H58=1,COUNTRY_INFO!F58+COUNTRY_INFO!G58,0),IF(COUNTRY_INFO!$H58=1,COUNTRY_INFO!F58+COUNTRY_INFO!G58,IF(COUNTRY_INFO!$I58=1,IF(COUNTRY_INFO!M58>=(COUNTRY_INFO!F58+COUNTRY_INFO!G58),COUNTRY_INFO!F58+COUNTRY_INFO!G58,COUNTRY_INFO!$M58),0))))","v":90252},{"$f":"IF(AND(INTRO!$E$39=\"Non-endemic\",INTRO!$E$37=\"Non-endemic\"),\"Not required\",IF(INTRO!$E$39=\"Non-endemic\",\"Treat with DEC\",COUNTRY_INFO!P58))","v":1},{"$f":"IF(INTRO!$E$39<>\"Non-endemic\",COUNTRY_INFO!Q58,\"Not required\")","v":1},{"$f":"IF(COUNTRY_INFO!H58=1, IF($E58=1,$D58, 0),0)","v":90252},{"$f":"IF(INTRO!$E$39<>\"Endemic\",0, IF(AND(COUNTRY_INFO!$I58=1,$F58<>0),IF(COUNTRY_INFO!M58>=(COUNTRY_INFO!F58+COUNTRY_INFO!G58),COUNTRY_INFO!F58+COUNTRY_INFO!G58,COUNTRY_INFO!$M58), 0))","v":90252},null,90252,0,0,252705.59999999998,252705.59999999998,null,252705.59999999998,506]
[{"$f":"IF(INTRO!$E$39=\"Non-endemic\",\" \",IF(COUNTRY_INFO!A59=0,\" \",COUNTRY_INFO!A59))","v":"Ghana"},{"$f":"IF(INTRO!$E$39=\"Non-endemic\",\" \",IF(COUNTRY_INFO!B59=0,\" \",COUNTRY_INFO!B59))","v":"Brong-Ahafo"},{"$f":"IF(INTRO!$E$39=\"Non-endemic\",\" \",IF(COUNTRY_INFO!C59=0,\" \",COUNTRY_INFO!C59))","v":"Tain"},{"$f":"IF(INTRO!$E$39=\"Non-endemic\",0,IF(INTRO!$E$39=\"Endemic but PC is not required\",IF(COUNTRY_INFO!$H59=1,COUNTRY_INFO!F59+COUNTRY_INFO!G59,0),IF(COUNTRY_INFO!$H59=1,COUNTRY_INFO!F59+COUNTRY_INFO!G59,IF(COUNTRY_INFO!$I59=1,IF(COUNTRY_INFO!M59>=(COUNTRY_INFO!F59+COUNTRY_INFO!G59),COUNTRY_INFO!F59+COUNTRY_INFO!G59,COUNTRY_INFO!$M59),0))))","v":93250},{"$f":"IF(AND(INTRO!$E$39=\"Non-endemic\",INTRO!$E$37=\"Non-endemic\"),\"Not required\",IF(INTRO!$E$39=\"Non-endemic\",\"Treat with DEC\",COUNTRY_INFO!P59))","v":0},{"$f":"IF(INTRO!$E$39<>\"Non-endemic\",COUNTRY_INFO!Q59,\"Not required\")","v":2},{"$f":"IF(COUNTRY_INFO!H59=1, IF($E59=1,$D59, 0),0)","v":0},{"$f":"IF(INTRO!$E$39<>\"Endemic\",0, IF(AND(COUNTRY_INFO!$I59=1,$F59<>0),IF(COUNTRY_INFO!M59>=(COUNTRY_INFO!F59+COUNTRY_INFO!G59),COUNTRY_INFO!F59+COUNTRY_INFO!G59,COUNTRY_INFO!$M59), 0))","v":93250},null,93250,0,522199.99999999994,0,522199.99999999994,null,522199.99999999994,1045]
[{"$f":"IF(INTRO!$E$39=\"Non-endemic\",\" \",IF(COUNTRY_INFO!A60=0,\" \",COUNTRY_INFO!A60))","v":"Ghana"},{"$f":"IF(INTRO!$E$39=\"Non-endemic\",\" \",IF(COUNTRY_INFO!B60=0,\" \",COUNTRY_INFO!B60))","v":"Brong-Ahafo"},{"$f":"IF(INTRO!$E$39=\"Non-endemic\",\" \",IF(COUNTRY_INFO!C60=0,\" \",COUNTRY_INFO!C60))","v":"Banda"},{"$f":"IF(INTRO!$E$39=\"Non-endemic\",0,IF(INTRO!$E$39=\"Endemic but PC is not required\",IF(COUNTRY_INFO!$H60=1,COUNTRY_INFO!F60+COUNTRY_INFO!G60,0),IF(COUNTRY_INFO!$H60=1,COUNTRY_INFO!F60+COUNTRY_INFO!G60,IF(COUNTRY_INFO!$I60=1,IF(COUNTRY_INFO!M60>=(COUNTRY_INFO!F60+COUNTRY_INFO!G60),COUNTRY_INFO!F60+COUNTRY_INFO!G60,COUNTRY_INFO!$M60),0))))","v":21466},{"$f":"IF(AND(INTRO!$E$39=\"Non-endemic\",INTRO!$E$37=\"Non-endemic\"),\"Not required\",IF(INTRO!$E$39=\"Non-endemic\",\"Treat with DEC\",COUNTRY_INFO!P60))","v":0},{"$f":"IF(INTRO!$E$39<>\"Non-endemic\",COUNTRY_INFO!Q60,\"Not required\")","v":2},{"$f":"IF(COUNTRY_INFO!H60=1, IF($E60=1,$D60, 0),0)","v":0},{"$f":"IF(INTRO!$E$39<>\"Endemic\",0, IF(AND(COUNTRY_INFO!$I60=1,$F60<>0),IF(COUNTRY_INFO!M60>=(COUNTRY_INFO!F60+COUNTRY_INFO!G60),COUNTRY_INFO!F60+COUNTRY_INFO!G60,COUNTRY_INFO!$M60), 0))","v":21466},null,21466,0,120209.59999999999,0,120209.59999999999,null,120209.59999999999,241]
[{"$f":"IF(INTRO!$E$39=\"Non-endemic\",\" \",IF(COUNTRY_INFO!A61=0,\" \",COUNTRY_INFO!A61))","v":"Ghana"},{"$f":"IF(INTRO!$E$39=\"Non-endemic\",\" \",IF(COUNTRY_INFO!B61=0,\" \",COUNTRY_INFO!B61))","v":"Brong-Ahafo"},{"$f":"IF(INTRO!$E$39=\"Non-endemic\",\" \",IF(COUNTRY_INFO!C61=0,\" \",COUNTRY_INFO!C61))","v":"Tano North"},{"$f":"IF(INTRO!$E$39=\"Non-endemic\",0,IF(INTRO!$E$39=\"Endemic but PC is not required\",IF(COUNTRY_INFO!$H61=1,COUNTRY_INFO!F61+COUNTRY_INFO!G61,0),IF(COUNTRY_INFO!$H61=1,COUNTRY_INFO!F61+COUNTRY_INFO!G61,IF(COUNTRY_INFO!$I61=1,IF(COUNTRY_INFO!M61>=(COUNTRY_INFO!F61+COUNTRY_INFO!G61),COUNTRY_INFO!F61+COUNTRY_INFO!G61,COUNTRY_INFO!$M61),0))))","v":84642},{"$f":"IF(AND(INTRO!$E$39=\"Non-endemic\",INTRO!$E$37=\"Non-endemic\"),\"Not required\",IF(INTRO!$E$39=\"Non-endemic\",\"Treat with DEC\",COUNTRY_INFO!P61))","v":0},{"$f":"IF(INTRO!$E$39<>\"Non-endemic\",COUNTRY_INFO!Q61,\"Not required\")","v":1},{"$f":"IF(COUNTRY_INFO!H61=1, IF($E61=1,$D61, 0),0)","v":0},{"$f":"IF(INTRO!$E$39<>\"Endemic\",0, IF(AND(COUNTRY_INFO!$I61=1,$F61<>0),IF(COUNTRY_INFO!M61>=(COUNTRY_INFO!F61+COUNTRY_INFO!G61),COUNTRY_INFO!F61+COUNTRY_INFO!G61,COUNTRY_INFO!$M61), 0))","v":84642},null,84642,0,236997.59999999998,0,236997.59999999998,null,236997.59999999998,474]
[{"$f":"IF(INTRO!$E$39=\"Non-endemic\",\" \",IF(COUNTRY_INFO!A62=0,\" \",COUNTRY_INFO!A62))","v":"Ghana"},{"$f":"IF(INTRO!$E$39=\"Non-endemic\",\" \",IF(COUNTRY_INFO!B62=0,\" \",COUNTRY_INFO!B62))","v":"Brong-Ahafo"},{"$f":"IF(INTRO!$E$39=\"Non-endemic\",\" \",IF(COUNTRY_INFO!C62=0,\" \",COUNTRY_INFO!C62))","v":"Tano South"},{"$f":"IF(INTRO!$E$39=\"Non-endemic\",0,IF(INTRO!$E$39=\"Endemic but PC is not required\",IF(COUNTRY_INFO!$H62=1,COUNTRY_INFO!F62+COUNTRY_INFO!G62,0),IF(COUNTRY_INFO!$H62=1,COUNTRY_INFO!F62+COUNTRY_INFO!G62,IF(COUNTRY_INFO!$I62=1,IF(COUNTRY_INFO!M62>=(COUNTRY_INFO!F62+COUNTRY_INFO!G62),COUNTRY_INFO!F62+COUNTRY_INFO!G62,COUNTRY_INFO!$M62),0))))","v":24270},{"$f":"IF(AND(INTRO!$E$39=\"Non-endemic\",INTRO!$E$37=\"Non-endemic\"),\"Not required\",IF(INTRO!$E$39=\"Non-endemic\",\"Treat with DEC\",COUNTRY_INFO!P62))","v":0},{"$f":"IF(INTRO!$E$39<>\"Non-endemic\",COUNTRY_INFO!Q62,\"Not required\")","v":2},{"$f":"IF(COUNTRY_INFO!H62=1, IF($E62=1,$D62, 0),0)","v":0},{"$f":"IF(INTRO!$E$39<>\"Endemic\",0, IF(AND(COUNTRY_INFO!$I62=1,$F62<>0),IF(COUNTRY_INFO!M62>=(COUNTRY_INFO!F62+COUNTRY_INFO!G62),COUNTRY_INFO!F62+COUNTRY_INFO!G62,COUNTRY_INFO!$M62), 0))","v":24270},null,24270,0,135912,0,135912,null,135912,272]
[{"$f":"IF(INTRO!$E$39=\"Non-endemic\",\" \",IF(COUNTRY_INFO!A63=0,\" \",COUNTRY_INFO!A63))","v":"Ghana"},{"$f":"IF(INTRO!$E$39=\"Non-endemic\",\" \",IF(COUNTRY_INFO!B63=0,\" \",COUNTRY_INFO!B63))","v":"Brong-Ahafo"},{"$f":"IF(INTRO!$E$39=\"Non-endemic\",\" \",IF(COUNTRY_INFO!C63=0,\" \",COUNTRY_INFO!C63))","v":"Techiman Municipal"},{"$f":"IF(INTRO!$E$39=\"Non-endemic\",0,IF(INTRO!$E$39=\"Endemic but PC is not required\",IF(COUNTRY_INFO!$H63=1,COUNTRY_INFO!F63+COUNTRY_INFO!G63,0),IF(COUNTRY_INFO!$H63=1,COUNTRY_INFO!F63+COUNTRY_INFO!G63,IF(COUNTRY_INFO!$I63=1,IF(COUNTRY_INFO!M63>=(COUNTRY_INFO!F63+COUNTRY_INFO!G63),COUNTRY_INFO!F63+COUNTRY_INFO!G63,COUNTRY_INFO!$M63),0))))","v":156417},{"$f":"IF(AND(INTRO!$E$39=\"Non-endemic\",INTRO!$E$37=\"Non-endemic\"),\"Not required\",IF(INTRO!$E$39=\"Non-endemic\",\"Treat with DEC\",COUNTRY_INFO!P63))","v":0},{"$f":"IF(INTRO!$E$39<>\"Non-endemic\",COUNTRY_INFO!Q63,\"Not required\")","v":1},{"$f":"IF(COUNTRY_INFO!H63=1, IF($E63=1,$D63, 0),0)","v":0},{"$f":"IF(INTRO!$E$39<>\"Endemic\",0, IF(AND(COUNTRY_INFO!$I63=1,$F63<>0),IF(COUNTRY_INFO!M63>=(COUNTRY_INFO!F63+COUNTRY_INFO!G63),COUNTRY_INFO!F63+COUNTRY_INFO!G63,COUNTRY_INFO!$M63), 0))","v":156417},null,156417,0,437967.6,0,437967.6,null,437967.6,876]
[{"$f":"IF(INTRO!$E$39=\"Non-endemic\",\" \",IF(COUNTRY_INFO!A64=0,\" \",COUNTRY_INFO!A64))","v":"Ghana"},{"$f":"IF(INTRO!$E$39=\"Non-endemic\",\" \",IF(COUNTRY_INFO!B64=0,\" \",COUNTRY_INFO!B64))","v":"Brong-Ahafo"},{"$f":"IF(INTRO!$E$39=\"Non-endemic\",\" \",IF(COUNTRY_INFO!C64=0,\" \",COUNTRY_INFO!C64))","v":"Techiman North"},{"$f":"IF(INTRO!$E$39=\"Non-endemic\",0,IF(INTRO!$E$39=\"Endemic but PC is not required\",IF(COUNTRY_INFO!$H64=1,COUNTRY_INFO!F64+COUNTRY_INFO!G64,0),IF(COUNTRY_INFO!$H64=1,COUNTRY_INFO!F64+COUNTRY_INFO!G64,IF(COUNTRY_INFO!$I64=1,IF(COUNTRY_INFO!M64>=(COUNTRY_INFO!F64+COUNTRY_INFO!G64),COUNTRY_INFO!F64+COUNTRY_INFO!G64,COUNTRY_INFO!$M64),0))))","v":62518},{"$f":"IF(AND(INTRO!$E$39=\"Non-endemic\",INTRO!$E$37=\"Non-endemic\"),\"Not required\",IF(INTRO!$E$39=\"Non-endemic\",\"Treat with DEC\",COUNTRY_INFO!P64))","v":0},{"$f":"IF(INTRO!$E$39<>\"Non-endemic\",COUNTRY_INFO!Q64,\"Not required\")","v":1},{"$f":"IF(COUNTRY_INFO!H64=1, IF($E64=1,$D64, 0),0)","v":0},{"$f":"IF(INTRO!$E$39<>\"Endemic\",0, IF(AND(COUNTRY_INFO!$I64=1,$F64<>0),IF(COUNTRY_INFO!M64>=(COUNTRY_INFO!F64+COUNTRY_INFO!G64),COUNTRY_INFO!F64+COUNTRY_INFO!G64,COUNTRY_INFO!$M64), 0))","v":62518},null,62518,0,175050.4,0,175050.4,null,175050.4,351]
[{"$f":"IF(INTRO!$E$39=\"Non-endemic\",\" \",IF(COUNTRY_INFO!A65=0,\" \",COUNTRY_INFO!A65))","v":"Ghana"},{"$f":"IF(INTRO!$E$39=\"Non-endemic\",\" \",IF(COUNTRY_INFO!B65=0,\" \",COUNTRY_INFO!B65))","v":"Brong-Ahafo"},{"$f":"IF(INTRO!$E$39=\"Non-endemic\",\" \",IF(COUNTRY_INFO!C65=0,\" \",COUNTRY_INFO!C65))","v":"Wenchi Municipal"},{"$f":"IF(INTRO!$E$39=\"Non-endemic\",0,IF(INTRO!$E$39=\"Endemic but PC is not required\",IF(COUNTRY_INFO!$H65=1,COUNTRY_INFO!F65+COUNTRY_INFO!G65,0),IF(COUNTRY_INFO!$H65=1,COUNTRY_INFO!F65+COUNTRY_INFO!G65,IF(COUNTRY_INFO!$I65=1,IF(COUNTRY_INFO!M65>=(COUNTRY_INFO!F65+COUNTRY_INFO!G65),COUNTRY_INFO!F65+COUNTRY_INFO!G65,COUNTRY_INFO!$M65),0))))","v":94979},{"$f":"IF(AND(INTRO!$E$39=\"Non-endemic\",INTRO!$E$37=\"Non-endemic\"),\"Not required\",IF(INTRO!$E$39=\"Non-endemic\",\"Treat with DEC\",COUNTRY_INFO!P65))","v":0},{"$f":"IF(INTRO!$E$39<>\"Non-endemic\",COUNTRY_INFO!Q65,\"Not required\")","v":2},{"$f":"IF(COUNTRY_INFO!H65=1, IF($E65=1,$D65, 0),0)","v":0},{"$f":"IF(INTRO!$E$39<>\"Endemic\",0, IF(AND(COUNTRY_INFO!$I65=1,$F65<>0),IF(COUNTRY_INFO!M65>=(COUNTRY_INFO!F65+COUNTRY_INFO!G65),COUNTRY_INFO!F65+COUNTRY_INFO!G65,COUNTRY_INFO!$M65), 0))","v":94979},null,94979,0,531882.4,0,531882.4,null,531882.4,1064]
[{"$f":"IF(INTRO!$E$39=\"Non-endemic\",\" \",IF(COUNTRY_INFO!A66=0,\" \",COUNTRY_INFO!A66))","v":"Ghana"},{"$f":"IF(INTRO!$E$39=\"Non-endemic\",\" \",IF(COUNTRY_INFO!B66=0,\" \",COUNTRY_INFO!B66))","v":"Central"},{"$f":"IF(INTRO!$E$39=\"Non-endemic\",\" \",IF(COUNTRY_INFO!C66=0,\" \",COUNTRY_INFO!C66))","v":"Abura-Asebu-Kwamankese"},{"$f":"IF(INTRO!$E$39=\"Non-endemic\",0,IF(INTRO!$E$39=\"Endemic but PC is not required\",IF(COUNTRY_INFO!$H66=1,COUNTRY_INFO!F66+COUNTRY_INFO!G66,0),IF(COUNTRY_INFO!$H66=1,COUNTRY_INFO!F66+COUNTRY_INFO!G66,IF(COUNTRY_INFO!$I66=1,IF(COUNTRY_INFO!M66>=(COUNTRY_INFO!F66+COUNTRY_INFO!G66),COUNTRY_INFO!F66+COUNTRY_INFO!G66,COUNTRY_INFO!$M66),0))))","v":0},{"$f":"IF(AND(INTRO!$E$39=\"Non-endemic\",INTRO!$E$37=\"Non-endemic\"),\"Not required\",IF(INTRO!$E$39=\"Non-endemic\",\"Treat with DEC\",COUNTRY_INFO!P66))","v":0},{"$f":"IF(INTRO!$E$39<>\"Non-endemic\",COUNTRY_INFO!Q66,\"Not required\")","v":0},{"$f":"IF(COUNTRY_INFO!H66=1, IF($E66=1,$D66, 0),0)","v":0},{"$f":"IF(INTRO!$E$39<>\"Endemic\",0, IF(AND(COUNTRY_INFO!$I66=1,$F66<>0),IF(COUNTRY_INFO!M66>=(COUNTRY_INFO!F66+COUNTRY_INFO!G66),COUNTRY_INFO!F66+COUNTRY_INFO!G66,COUNTRY_INFO!$M66), 0))","v":0},null,0,0,0,0,0,null,0,0]
[{"$f":"IF(INTRO!$E$39=\"Non-endemic\",\" \",IF(COUNTRY_INFO!A67=0,\" \",COUNTRY_INFO!A67))","v":"Ghana"},{"$f":"IF(INTRO!$E$39=\"Non-endemic\",\" \",IF(COUNTRY_INFO!B67=0,\" \",COUNTRY_INFO!B67))","v":"Central"},{"$f":"IF(INTRO!$E$39=\"Non-endemic\",\" \",IF(COUNTRY_INFO!C67=0,\" \",COUNTRY_INFO!C67))","v":"Agona East"},{"$f":"IF(INTRO!$E$39=\"Non-endemic\",0,IF(INTRO!$E$39=\"Endemic but PC is not required\",IF(COUNTRY_INFO!$H67=1,COUNTRY_INFO!F67+COUNTRY_INFO!G67,0),IF(COUNTRY_INFO!$H67=1,COUNTRY_INFO!F67+COUNTRY_INFO!G67,IF(COUNTRY_INFO!$I67=1,IF(COUNTRY_INFO!M67>=(COUNTRY_INFO!F67+COUNTRY_INFO!G67),COUNTRY_INFO!F67+COUNTRY_INFO!G67,COUNTRY_INFO!$M67),0))))","v":0},{"$f":"IF(AND(INTRO!$E$39=\"Non-endemic\",INTRO!$E$37=\"Non-endemic\"),\"Not required\",IF(INTRO!$E$39=\"Non-endemic\",\"Treat with DEC\",COUNTRY_INFO!P67))","v":0},{"$f":"IF(INTRO!$E$39<>\"Non-endemic\",COUNTRY_INFO!Q67,\"Not required\")","v":0},{"$f":"IF(COUNTRY_INFO!H67=1, IF($E67=1,$D67, 0),0)","v":0},{"$f":"IF(INTRO!$E$39<>\"Endemic\",0, IF(AND(COUNTRY_INFO!$I67=1,$F67<>0),IF(COUNTRY_INFO!M67>=(COUNTRY_INFO!F67+COUNTRY_INFO!G67),COUNTRY_INFO!F67+COUNTRY_INFO!G67,COUNTRY_INFO!$M67), 0))","v":0},null,0,0,0,0,0,null,0,0]
[{"$f":"IF(INTRO!$E$39=\"Non-endemic\",\" \",IF(COUNTRY_INFO!A68=0,\" \",COUNTRY_INFO!A68))","v":"Ghana"},{"$f":"IF(INTRO!$E$39=\"Non-endemic\",\" \",IF(COUNTRY_INFO!B68=0,\" \",COUNTRY_INFO!B68))","v":"Central"},{"$f":"IF(INTRO!$E$39=\"Non-endemic\",\" \",IF(COUNTRY_INFO!C68=0,\" \",COUNTRY_INFO!C68))","v":"Agona West"},{"$f":"IF(INTRO!$E$39=\"Non-endemic\",0,IF(INTRO!$E$39=\"Endemic but PC is not required\",IF(COUNTRY_INFO!$H68=1,COUNTRY_INFO!F68+COUNTRY_INFO!G68,0),IF(COUNTRY_INFO!$H68=1,COUNTRY_INFO!F68+COUNTRY_INFO!G68,IF(COUNTRY_INFO!$I68=1,IF(COUNTRY_INFO!M68>=(COUNTRY_INFO!F68+COUNTRY_INFO!G68),COUNTRY_INFO!F68+COUNTRY_INFO!G68,COUNTRY_INFO!$M68),0))))","v":0},{"$f":"IF(AND(INTRO!$E$39=\"Non-endemic\",INTRO!$E$37=\"Non-endemic\"),\"Not required\",IF(INTRO!$E$39=\"Non-endemic\",\"Treat with DEC\",COUNTRY_INFO!P68))","v":0},{"$f":"IF(INTRO!$E$39<>\"Non-endemic\",COUNTRY_INFO!Q68,\"Not required\")","v":0},{"$f":"IF(COUNTRY_INFO!H68=1, IF($E68=1,$D68, 0),0)","v":0},{"$f":"IF(INTRO!$E$39<>\"Endemic\",0, IF(AND(COUNTRY_INFO!$I68=1,$F68<>0),IF(COUNTRY_INFO!M68>=(COUNTRY_INFO!F68+COUNTRY_INFO!G68),COUNTRY_INFO!F68+COUNTRY_INFO!G68,COUNTRY_INFO!$M68), 0))","v":0},null,0,0,0,0,0,null,0,0]
[{"$f":"IF(INTRO!$E$39=\"Non-endemic\",\" \",IF(COUNTRY_INFO!A69=0,\" \",COUNTRY_INFO!A69))","v":"Ghana"},{"$f":"IF(INTRO!$E$39=\"Non-endemic\",\" \",IF(COUNTRY_INFO!B69=0,\" \",COUNTRY_INFO!B69))","v":"Central"},{"$f":"IF(INTRO!$E$39=\"Non-endemic\",\" \",IF(COUNTRY_INFO!C69=0,\" \",COUNTRY_INFO!C69))","v":"Ajumako-Enyan-Essiam"},{"$f":"IF(INTRO!$E$39=\"Non-endemic\",0,IF(INTRO!$E$39=\"Endemic but PC is not required\",IF(COUNTRY_INFO!$H69=1,COUNTRY_INFO!F69+COUNTRY_INFO!G69,0),IF(COUNTRY_INFO!$H69=1,COUNTRY_INFO!F69+COUNTRY_INFO!G69,IF(COUNTRY_INFO!$I69=1,IF(COUNTRY_INFO!M69>=(COUNTRY_INFO!F69+COUNTRY_INFO!G69),COUNTRY_INFO!F69+COUNTRY_INFO!G69,COUNTRY_INFO!$M69),0))))","v":0},{"$f":"IF(AND(INTRO!$E$39=\"Non-endemic\",INTRO!$E$37=\"Non-endemic\"),\"Not required\",IF(INTRO!$E$39=\"Non-endemic\",\"Treat with DEC\",COUNTRY_INFO!P69))","v":0},{"$f":"IF(INTRO!$E$39<>\"Non-endemic\",COUNTRY_INFO!Q69,\"Not required\")","v":0},{"$f":"IF(COUNTRY_INFO!H69=1, IF($E69=1,$D69, 0),0)","v":0},{"$f":"IF(INTRO!$E$39<>\"Endemic\",0, IF(AND(COUNTRY_INFO!$I69=1,$F69<>0),IF(COUNTRY_INFO!M69>=(COUNTRY_INFO!F69+COUNTRY_INFO!G69),COUNTRY_INFO!F69+COUNTRY_INFO!G69,COUNTRY_INFO!$M69), 0))","v":0},null,0,0,0,0,0,null,0,0]
[{"$f":"IF(INTRO!$E$39=\"Non-endemic\",\" \",IF(COUNTRY_INFO!A70=0,\" \",COUNTRY_INFO!A70))","v":"Ghana"},{"$f":"IF(INTRO!$E$39=\"Non-endemic\",\" \",IF(COUNTRY_INFO!B70=0,\" \",COUNTRY_INFO!B70))","v":"Central"},{"$f":"IF(INTRO!$E$39=\"Non-endemic\",\" \",IF(COUNTRY_INFO!C70=0,\" \",COUNTRY_INFO!C70))","v":"Asikuma-Odoben-Brakwa"},{"$f":"IF(INTRO!$E$39=\"Non-endemic\",0,IF(INTRO!$E$39=\"Endemic but PC is not required\",IF(COUNTRY_INFO!$H70=1,COUNTRY_INFO!F70+COUNTRY_INFO!G70,0),IF(COUNTRY_INFO!$H70=1,COUNTRY_INFO!F70+COUNTRY_INFO!G70,IF(COUNTRY_INFO!$I70=1,IF(COUNTRY_INFO!M70>=(COUNTRY_INFO!F70+COUNTRY_INFO!G70),COUNTRY_INFO!F70+COUNTRY_INFO!G70,COUNTRY_INFO!$M70),0))))","v":0},{"$f":"IF(AND(INTRO!$E$39=\"Non-endemic\",INTRO!$E$37=\"Non-endemic\"),\"Not required\",IF(INTRO!$E$39=\"Non-endemic\",\"Treat with DEC\",COUNTRY_INFO!P70))","v":0},{"$f":"IF(INTRO!$E$39<>\"Non-endemic\",COUNTRY_INFO!Q70,\"Not required\")","v":0},{"$f":"IF(COUNTRY_INFO!H70=1, IF($E70=1,$D70, 0),0)","v":0},{"$f":"IF(INTRO!$E$39<>\"Endemic\",0, IF(AND(COUNTRY_INFO!$I70=1,$F70<>0),IF(COUNTRY_INFO!M70>=(COUNTRY_INFO!F70+COUNTRY_INFO!G70),COUNTRY_INFO!F70+COUNTRY_INFO!G70,COUNTRY_INFO!$M70), 0))","v":0},null,0,0,0,0,0,null,0,0]
[{"$f":"IF(INTRO!$E$39=\"Non-endemic\",\" \",IF(COUNTRY_INFO!A71=0,\" \",COUNTRY_INFO!A71))","v":"Ghana"},{"$f":"IF(INTRO!$E$39=\"Non-endemic\",\" \",IF(COUNTRY_INFO!B71=0,\" \",COUNTRY_INFO!B71))","v":"Central"},{"$f":"IF(INTRO!$E$39=\"Non-endemic\",\" \",IF(COUNTRY_INFO!C71=0,\" \",COUNTRY_INFO!C71))","v":"Assin North"},{"$f":"IF(INTRO!$E$39=\"Non-endemic\",0,IF(INTRO!$E$39=\"Endemic but PC is not required\",IF(COUNTRY_INFO!$H71=1,COUNTRY_INFO!F71+COUNTRY_INFO!G71,0),IF(COUNTRY_INFO!$H71=1,COUNTRY_INFO!F71+COUNTRY_INFO!G71,IF(COUNTRY_INFO!$I71=1,IF(COUNTRY_INFO!M71>=(COUNTRY_INFO!F71+COUNTRY_INFO!G71),COUNTRY_INFO!F71+COUNTRY_INFO!G71,COUNTRY_INFO!$M71),0))))","v":181742},{"$f":"IF(AND(INTRO!$E$39=\"Non-endemic\",INTRO!$E$37=\"Non-endemic\"),\"Not required\",IF(INTRO!$E$39=\"Non-endemic\",\"Treat with DEC\",COUNTRY_INFO!P71))","v":0},{"$f":"IF(INTRO!$E$39<>\"Non-endemic\",COUNTRY_INFO!Q71,\"Not required\")","v":2},{"$f":"IF(COUNTRY_INFO!H71=1, IF($E71=1,$D71, 0),0)","v":0},{"$f":"IF(INTRO!$E$39<>\"Endemic\",0, IF(AND(COUNTRY_INFO!$I71=1,$F71<>0),IF(COUNTRY_INFO!M71>=(COUNTRY_INFO!F71+COUNTRY_INFO!G71),COUNTRY_INFO!F71+COUNTRY_INFO!G71,COUNTRY_INFO!$M71), 0))","v":181742},null,181742,0,1017755.2,0,1017755.2,null,1017755.2,2036]
[{"$f":"IF(INTRO!$E$39=\"Non-endemic\",\" \",IF(COUNTRY_INFO!A72=0,\" \",COUNTRY_INFO!A72))","v":"Ghana"},{"$f":"IF(INTRO!$E$39=\"Non-endemic\",\" \",IF(COUNTRY_INFO!B72=0,\" \",COUNTRY_INFO!B72))","v":"Central"},{"$f":"IF(INTRO!$E$39=\"Non-endemic\",\" \",IF(COUNTRY_INFO!C72=0,\" \",COUNTRY_INFO!C72))","v":"Assin South"},{"$f":"IF(INTRO!$E$39=\"Non-endemic\",0,IF(INTRO!$E$39=\"Endemic but PC is not required\",IF(COUNTRY_INFO!$H72=1,COUNTRY_INFO!F72+COUNTRY_INFO!G72,0),IF(COUNTRY_INFO!$H72=1,COUNTRY_INFO!F72+COUNTRY_INFO!G72,IF(COUNTRY_INFO!$I72=1,IF(COUNTRY_INFO!M72>=(COUNTRY_INFO!F72+COUNTRY_INFO!G72),COUNTRY_INFO!F72+COUNTRY_INFO!G72,COUNTRY_INFO!$M72),0))))","v":117426},{"$f":"IF(AND(INTRO!$E$39=\"Non-endemic\",INTRO!$E$37=\"Non-endemic\"),\"Not required\",IF(INTRO!$E$39=\"Non-endemic\",\"Treat with DEC\",COUNTRY_INFO!P72))","v":0},{"$f":"IF(INTRO!$E$39<>\"Non-endemic\",COUNTRY_INFO!Q72,\"Not required\")","v":2},{"$f":"IF(COUNTRY_INFO!H72=1, IF($E72=1,$D72, 0),0)","v":0},{"$f":"IF(INTRO!$E$39<>\"Endemic\",0, IF(AND(COUNTRY_INFO!$I72=1,$F72<>0),IF(COUNTRY_INFO!M72>=(COUNTRY_INFO!F72+COUNTRY_INFO!G72),COUNTRY_INFO!F72+COUNTRY_INFO!G72,COUNTRY_INFO!$M72), 0))","v":117426},null,117426,0,657585.6,0,657585.6,null,657585.6,1316]
[{"$f":"IF(INTRO!$E$39=\"Non-endemic\",\" \",IF(COUNTRY_INFO!A73=0,\" \",COUNTRY_INFO!A73))","v":"Ghana"},{"$f":"IF(INTRO!$E$39=\"Non-endemic\",\" \",IF(COUNTRY_INFO!B73=0,\" \",COUNTRY_INFO!B73))","v":"Central"},{"$f":"IF(INTRO!$E$39=\"Non-endemic\",\" \",IF(COUNTRY_INFO!C73=0,\" \",COUNTRY_INFO!C73))","v":"Awutu-Senya West"},{"$f":"IF(INTRO!$E$39=\"Non-endemic\",0,IF(INTRO!$E$39=\"Endemic but PC is not required\",IF(COUNTRY_INFO!$H73=1,COUNTRY_INFO!F73+COUNTRY_INFO!G73,0),IF(COUNTRY_INFO!$H73=1,COUNTRY_INFO!F73+COUNTRY_INFO!G73,IF(COUNTRY_INFO!$I73=1,IF(COUNTRY_INFO!M73>=(COUNTRY_INFO!F73+COUNTRY_INFO!G73),COUNTRY_INFO!F73+COUNTRY_INFO!G73,COUNTRY_INFO!$M73),0))))","v":0},{"$f":"IF(AND(INTRO!$E$39=\"Non-endemic\",INTRO!$E$37=\"Non-endemic\"),\"Not required\",IF(INTRO!$E$39=\"Non-endemic\",\"Treat with DEC\",COUNTRY_INFO!P73))","v":0},{"$f":"IF(INTRO!$E$39<>\"Non-endemic\",COUNTRY_INFO!Q73,\"Not required\")","v":0},{"$f":"IF(COUNTRY_INFO!H73=1, IF($E73=1,$D73, 0),0)","v":0},{"$f":"IF(INTRO!$E$39<>\"Endemic\",0, IF(AND(COUNTRY_INFO!$I73=1,$F73<>0),IF(COUNTRY_INFO!M73>=(COUNTRY_INFO!F73+COUNTRY_INFO!G73),COUNTRY_INFO!F73+COUNTRY_INFO!G73,COUNTRY_INFO!$M73), 0))","v":0},null,{"$f":"IF(I73=0,H73,IF(I73>H73,H73,I73))","v":0},{"$f":"IF(G73<J73,0,IF($E73=1, (G73-J73)*2.8, 0))","v":0},{"$f":"IF($E73<$F73, J73*(F73-E73)*2.8, 0)","v":0},{"$f":"IF(AND($E73=1, $F73<>0), J73*2.8, 0)","v":0},{"$f":"SUM(K73:M73)","v":0},null,{"$f":"IF($N73>$O73,$N73-$O73,0)","v":0},{"$f":"ROUNDUP($N73/500,0)","v":0}]
[{"$f":"IF(INTRO!$E$39=\"Non-endemic\",\" \",IF(COUNTRY_INFO!A74=0,\" \",COUNTRY_INFO!A74))","v":"Ghana"},{"$f":"IF(INTRO!$E$39=\"Non-endemic\",\" \",IF(COUNTRY_INFO!B74=0,\" \",COUNTRY_INFO!B74))","v":"Central"},{"$f":"IF(INTRO!$E$39=\"Non-endemic\",\" \",IF(COUNTRY_INFO!C74=0,\" \",COUNTRY_INFO!C74))","v":"Awutu-Senya East"},{"$f":"IF(INTRO!$E$39=\"Non-endemic\",0,IF(INTRO!$E$39=\"Endemic but PC is not required\",IF(COUNTRY_INFO!$H74=1,COUNTRY_INFO!F74+COUNTRY_INFO!G74,0),IF(COUNTRY_INFO!$H74=1,COUNTRY_INFO!F74+COUNTRY_INFO!G74,IF(COUNTRY_INFO!$I74=1,IF(COUNTRY_INFO!M74>=(COUNTRY_INFO!F74+COUNTRY_INFO!G74),COUNTRY_INFO!F74+COUNTRY_INFO!G74,COUNTRY_INFO!$M74),0))))","v":0},{"$f":"IF(AND(INTRO!$E$39=\"Non-endemic\",INTRO!$E$37=\"Non-endemic\"),\"Not required\",IF(INTRO!$E$39=\"Non-endemic\",\"Treat with DEC\",COUNTRY_INFO!P74))","v":0},{"$f":"IF(INTRO!$E$39<>\"Non-endemic\",COUNTRY_INFO!Q74,\"Not required\")","v":0},{"$f":"IF(COUNTRY_INFO!H74=1, IF($E74=1,$D74, 0),0)","v":0},{"$f":"IF(INTRO!$E$39<>\"Endemic\",0, IF(AND(COUNTRY_INFO!$I74=1,$F74<>0),IF(COUNTRY_INFO!M74>=(COUNTRY_INFO!F74+COUNTRY_INFO!G74),COUNTRY_INFO!F74+COUNTRY_INFO!G74,COUNTRY_INFO!$M74), 0))","v":0},null,0,0,0,0,0,null,0,0]
[{"$f":"IF(INTRO!$E$39=\"Non-endemic\",\" \",IF(COUNTRY_INFO!A75=0,\" \",COUNTRY_INFO!A75))","v":"Ghana"},{"$f":"IF(INTRO!$E$39=\"Non-endemic\",\" \",IF(COUNTRY_INFO!B75=0,\" \",COUNTRY_INFO!B75))","v":"Central"},{"$f":"IF(INTRO!$E$39=\"Non-endemic\",\" \",IF(COUNTRY_INFO!C75=0,\" \",COUNTRY_INFO!C75))","v":"Cape Coast"},{"$f":"IF(INTRO!$E$39=\"Non-endemic\",0,IF(INTRO!$E$39=\"Endemic but PC is not required\",IF(COUNTRY_INFO!$H75=1,COUNTRY_INFO!F75+COUNTRY_INFO!G75,0),IF(COUNTRY_INFO!$H75=1,COUNTRY_INFO!F75+COUNTRY_INFO!G75,IF(COUNTRY_INFO!$I75=1,IF(COUNTRY_INFO!M75>=(COUNTRY_INFO!F75+COUNTRY_INFO!G75),COUNTRY_INFO!F75+COUNTRY_INFO!G75,COUNTRY_INFO!$M75),0))))","v":0},{"$f":"IF(AND(INTRO!$E$39=\"Non-endemic\",INTRO!$E$37=\"Non-endemic\"),\"Not required\",IF(INTRO!$E$39=\"Non-endemic\",\"Treat with DEC\",COUNTRY_INFO!P75))","v":0},{"$f":"IF(INTRO!$E$39<>\"Non-endemic\",COUNTRY_INFO!Q75,\"Not required\")","v":0},{"$f":"IF(COUNTRY_INFO!H75=1, IF($E75=1,$D75, 0),0)","v":0},{"$f":"IF(INTRO!$E$39<>\"Endemic\",0, IF(AND(COUNTRY_INFO!$I75=1,$F75<>0),IF(COUNTRY_INFO!M75>=(COUNTRY_INFO!F75+COUNTRY_INFO!G75),COUNTRY_INFO!F75+COUNTRY_INFO!G75,COUNTRY_INFO!$M75), 0))","v":0},null,0,0,0,0,0,null,0,0]
[{"$f":"IF(INTRO!$E$39=\"Non-endemic\",\" \",IF(COUNTRY_INFO!A76=0,\" \",COUNTRY_INFO!A76))","v":"Ghana"},{"$f":"IF(INTRO!$E$39=\"Non-endemic\",\" \",IF(COUNTRY_INFO!B76=0,\" \",COUNTRY_INFO!B76))","v":"Central"},{"$f":"IF(INTRO!$E$39=\"Non-endemic\",\" \",IF(COUNTRY_INFO!C76=0,\" \",COUNTRY_INFO!C76))","v":"Efutu"},{"$f":"IF(INTRO!$E$39=\"Non-endemic\",0,IF(INTRO!$E$39=\"Endemic but PC is not required\",IF(COUNTRY_INFO!$H76=1,COUNTRY_INFO!F76+COUNTRY_INFO!G76,0),IF(COUNTRY_INFO!$H76=1,COUNTRY_INFO!F76+COUNTRY_INFO!G76,IF(COUNTRY_INFO!$I76=1,IF(COUNTRY_INFO!M76>=(COUNTRY_INFO!F76+COUNTRY_INFO!G76),COUNTRY_INFO!F76+COUNTRY_INFO!G76,COUNTRY_INFO!$M76),0))))","v":0},{"$f":"IF(AND(INTRO!$E$39=\"Non-endemic\",INTRO!$E$37=\"Non-endemic\"),\"Not required\",IF(INTRO!$E$39=\"Non-endemic\",\"Treat with DEC\",COUNTRY_INFO!P76))","v":0},{"$f":"IF(INTRO!$E$39<>\"Non-endemic\",COUNTRY_INFO!Q76,\"Not required\")","v":0},{"$f":"IF(COUNTRY_INFO!H76=1, IF($E76=1,$D76, 0),0)","v":0},{"$f":"IF(INTRO!$E$39<>\"Endemic\",0, IF(AND(COUNTRY_INFO!$I76=1,$F76<>0),IF(COUNTRY_INFO!M76>=(COUNTRY_INFO!F76+COUNTRY_INFO!G76),COUNTRY_INFO!F76+COUNTRY_INFO!G76,COUNTRY_INFO!$M76), 0))","v":0},null,0,0,0,0,0,null,0,0]
[{"$f":"IF(INTRO!$E$39=\"Non-endemic\",\" \",IF(COUNTRY_INFO!A77=0,\" \",COUNTRY_INFO!A77))","v":"Ghana"},{"$f":"IF(INTRO!$E$39=\"Non-endemic\",\" \",IF(COUNTRY_INFO!B77=0,\" \",COUNTRY_INFO!B77))","v":"Central"},{"$f":"IF(INTRO!$E$39=\"Non-endemic\",\" \",IF(COUNTRY_INFO!C77=0,\" \",COUNTRY_INFO!C77))","v":"Gomoa East"},{"$f":"IF(INTRO!$E$39=\"Non-endemic\",0,IF(INTRO!$E$39=\"Endemic but PC is not required\",IF(COUNTRY_INFO!$H77=1,COUNTRY_INFO!F77+COUNTRY_INFO!G77,0),IF(COUNTRY_INFO!$H77=1,COUNTRY_INFO!F77+COUNTRY_INFO!G77,IF(COUNTRY_INFO!$I77=1,IF(COUNTRY_INFO!M77>=(COUNTRY_INFO!F77+COUNTRY_INFO!G77),COUNTRY_INFO!F77+COUNTRY_INFO!G77,COUNTRY_INFO!$M77),0))))","v":0},{"$f":"IF(AND(INTRO!$E$39=\"Non-endemic\",INTRO!$E$37=\"Non-endemic\"),\"Not required\",IF(INTRO!$E$39=\"Non-endemic\",\"Treat with DEC\",COUNTRY_INFO!P77))","v":0},{"$f":"IF(INTRO!$E$39<>\"Non-endemic\",COUNTRY_INFO!Q77,\"Not required\")","v":0},{"$f":"IF(COUNTRY_INFO!H77=1, IF($E77=1,$D77, 0),0)","v":0},{"$f":"IF(INTRO!$E$39<>\"Endemic\",0, IF(AND(COUNTRY_INFO!$I77=1,$F77<>0),IF(COUNTRY_INFO!M77>=(COUNTRY_INFO!F77+COUNTRY_INFO!G77),COUNTRY_INFO!F77+COUNTRY_INFO!G77,COUNTRY_INFO!$M77), 0))","v":0},null,0,0,0,0,0,null,0,0]
[{"$f":"IF(INTRO!$E$39=\"Non-endemic\",\" \",IF(COUNTRY_INFO!A78=0,\" \",COUNTRY_INFO!A78))","v":"Ghana"},{"$f":"IF(INTRO!$E$39=\"Non-endemic\",\" \",IF(COUNTRY_INFO!B78=0,\" \",COUNTRY_INFO!B78))","v":"Central"},{"$f":"IF(INTRO!$E$39=\"Non-endemic\",\" \",IF(COUNTRY_INFO!C78=0,\" \",COUNTRY_INFO!C78))","v":"Gomoa West"},{"$f":"IF(INTRO!$E$39=\"Non-endemic\",0,IF(INTRO!$E$39=\"Endemic but PC is not required\",IF(COUNTRY_INFO!$H78=1,COUNTRY_INFO!F78+COUNTRY_INFO!G78,0),IF(COUNTRY_INFO!$H78=1,COUNTRY_INFO!F78+COUNTRY_INFO!G78,IF(COUNTRY_INFO!$I78=1,IF(COUNTRY_INFO!M78>=(COUNTRY_INFO!F78+COUNTRY_INFO!G78),COUNTRY_INFO!F78+COUNTRY_INFO!G78,COUNTRY_INFO!$M78),0))))","v":0},{"$f":"IF(AND(INTRO!$E$39=\"Non-endemic\",INTRO!$E$37=\"Non-endemic\"),\"Not required\",IF(INTRO!$E$39=\"Non-endemic\",\"Treat with DEC\",COUNTRY_INFO!P78))","v":0},{"$f":"IF(INTRO!$E$39<>\"Non-endemic\",COUNTRY_INFO!Q78,\"Not required\")","v":0},{"$f":"IF(COUNTRY_INFO!H78=1, IF($E78=1,$D78, 0),0)","v":0},{"$f":"IF(INTRO!$E$39<>\"Endemic\",0, IF(AND(COUNTRY_INFO!$I78=1,$F78<>0),IF(COUNTRY_INFO!M78>=(COUNTRY_INFO!F78+COUNTRY_INFO!G78),COUNTRY_INFO!F78+COUNTRY_INFO!G78,COUNTRY_INFO!$M78), 0))","v":0},null,0,0,0,0,0,null,0,0]
[{"$f":"IF(INTRO!$E$39=\"Non-endemic\",\" \",IF(COUNTRY_INFO!A79=0,\" \",COUNTRY_INFO!A79))","v":"Ghana"},{"$f":"IF(INTRO!$E$39=\"Non-endemic\",\" \",IF(COUNTRY_INFO!B79=0,\" \",COUNTRY_INFO!B79))","v":"Central"},{"$f":"IF(INTRO!$E$39=\"Non-endemic\",\" \",IF(COUNTRY_INFO!C79=0,\" \",COUNTRY_INFO!C79))","v":"Komenda-Edina-Eguafo-Abirem"},{"$f":"IF(INTRO!$E$39=\"Non-endemic\",0,IF(INTRO!$E$39=\"Endemic but PC is not required\",IF(COUNTRY_INFO!$H79=1,COUNTRY_INFO!F79+COUNTRY_INFO!G79,0),IF(COUNTRY_INFO!$H79=1,COUNTRY_INFO!F79+COUNTRY_INFO!G79,IF(COUNTRY_INFO!$I79=1,IF(COUNTRY_INFO!M79>=(COUNTRY_INFO!F79+COUNTRY_INFO!G79),COUNTRY_INFO!F79+COUNTRY_INFO!G79,COUNTRY_INFO!$M79),0))))","v":0},{"$f":"IF(AND(INTRO!$E$39=\"Non-endemic\",INTRO!$E$37=\"Non-endemic\"),\"Not required\",IF(INTRO!$E$39=\"Non-endemic\",\"Treat with DEC\",COUNTRY_INFO!P79))","v":0},{"$f":"IF(INTRO!$E$39<>\"Non-endemic\",COUNTRY_INFO!Q79,\"Not required\")","v":0},{"$f":"IF(COUNTRY_INFO!H79=1, IF($E79=1,$D79, 0),0)","v":0},{"$f":"IF(INTRO!$E$39<>\"Endemic\",0, IF(AND(COUNTRY_INFO!$I79=1,$F79<>0),IF(COUNTRY_INFO!M79>=(COUNTRY_INFO!F79+COUNTRY_INFO!G79),COUNTRY_INFO!F79+COUNTRY_INFO!G79,COUNTRY_INFO!$M79), 0))","v":0},null,0,0,0,0,0,null,0,0]
[{"$f":"IF(INTRO!$E$39=\"Non-endemic\",\" \",IF(COUNTRY_INFO!A80=0,\" \",COUNTRY_INFO!A80))","v":"Ghana"},{"$f":"IF(INTRO!$E$39=\"Non-endemic\",\" \",IF(COUNTRY_INFO!B80=0,\" \",COUNTRY_INFO!B80))","v":"Central"},{"$f":"IF(INTRO!$E$39=\"Non-endemic\",\" \",IF(COUNTRY_INFO!C80=0,\" \",COUNTRY_INFO!C80))","v":"Mfansteman"},{"$f":"IF(INTRO!$E$39=\"Non-endemic\",0,IF(INTRO!$E$39=\"Endemic but PC is not required\",IF(COUNTRY_INFO!$H80=1,COUNTRY_INFO!F80+COUNTRY_INFO!G80,0),IF(COUNTRY_INFO!$H80=1,COUNTRY_INFO!F80+COUNTRY_INFO!G80,IF(COUNTRY_INFO!$I80=1,IF(COUNTRY_INFO!M80>=(COUNTRY_INFO!F80+COUNTRY_INFO!G80),COUNTRY_INFO!F80+COUNTRY_INFO!G80,COUNTRY_INFO!$M80),0))))","v":0},{"$f":"IF(AND(INTRO!$E$39=\"Non-endemic\",INTRO!$E$37=\"Non-endemic\"),\"Not required\",IF(INTRO!$E$39=\"Non-endemic\",\"Treat with DEC\",COUNTRY_INFO!P80))","v":0},{"$f":"IF(INTRO!$E$39<>\"Non-endemic\",COUNTRY_INFO!Q80,\"Not required\")","v":0},{"$f":"IF(COUNTRY_INFO!H80=1, IF($E80=1,$D80, 0),0)","v":0},{"$f":"IF(INTRO!$E$39<>\"Endemic\",0, IF(AND(COUNTRY_INFO!$I80=1,$F80<>0),IF(COUNTRY_INFO!M80>=(COUNTRY_INFO!F80+COUNTRY_INFO!G80),COUNTRY_INFO!F80+COUNTRY_INFO!G80,COUNTRY_INFO!$M80), 0))","v":0},null,0,0,0,0,0,null,0,0]
[{"$f":"IF(INTRO!$E$39=\"Non-endemic\",\" \",IF(COUNTRY_INFO!A81=0,\" \",COUNTRY_INFO!A81))","v":"Ghana"},{"$f":"IF(INTRO!$E$39=\"Non-endemic\",\" \",IF(COUNTRY_INFO!B81=0,\" \",COUNTRY_INFO!B81))","v":"Central"},{"$f":"IF(INTRO!$E$39=\"Non-endemic\",\" \",IF(COUNTRY_INFO!C81=0,\" \",COUNTRY_INFO!C81))","v":"Ekumfi"},{"$f":"IF(INTRO!$E$39=\"Non-endemic\",0,IF(INTRO!$E$39=\"Endemic but PC is not required\",IF(COUNTRY_INFO!$H81=1,COUNTRY_INFO!F81+COUNTRY_INFO!G81,0),IF(COUNTRY_INFO!$H81=1,COUNTRY_INFO!F81+COUNTRY_INFO!G81,IF(COUNTRY_INFO!$I81=1,IF(COUNTRY_INFO!M81>=(COUNTRY_INFO!F81+COUNTRY_INFO!G81),COUNTRY_INFO!F81+COUNTRY_INFO!G81,COUNTRY_INFO!$M81),0))))","v":0},{"$f":"IF(AND(INTRO!$E$39=\"Non-endemic\",INTRO!$E$37=\"Non-endemic\"),\"Not required\",IF(INTRO!$E$39=\"Non-endemic\",\"Treat with DEC\",COUNTRY_INFO!P81))","v":0},{"$f":"IF(INTRO!$E$39<>\"Non-endemic\",COUNTRY_INFO!Q81,\"Not required\")","v":0},{"$f":"IF(COUNTRY_INFO!H81=1, IF($E81=1,$D81, 0),0)","v":0},{"$f":"IF(INTRO!$E$39<>\"Endemic\",0, IF(AND(COUNTRY_INFO!$I81=1,$F81<>0),IF(COUNTRY_INFO!M81>=(COUNTRY_INFO!F81+COUNTRY_INFO!G81),COUNTRY_INFO!F81+COUNTRY_INFO!G81,COUNTRY_INFO!$M81), 0))","v":0},null,0,0,0,0,0,null,0,0]
[{"$f":"IF(INTRO!$E$39=\"Non-endemic\",\" \",IF(COUNTRY_INFO!A82=0,\" \",COUNTRY_INFO!A82))","v":"Ghana"},{"$f":"IF(INTRO!$E$39=\"Non-endemic\",\" \",IF(COUNTRY_INFO!B82=0,\" \",COUNTRY_INFO!B82))","v":"Central"},{"$f":"IF(INTRO!$E$39=\"Non-endemic\",\" \",IF(COUNTRY_INFO!C82=0,\" \",COUNTRY_INFO!C82))","v":"Lower Denkyira"},{"$f":"IF(INTRO!$E$39=\"Non-endemic\",0,IF(INTRO!$E$39=\"Endemic but PC is not required\",IF(COUNTRY_INFO!$H82=1,COUNTRY_INFO!F82+COUNTRY_INFO!G82,0),IF(COUNTRY_INFO!$H82=1,COUNTRY_INFO!F82+COUNTRY_INFO!G82,IF(COUNTRY_INFO!$I82=1,IF(COUNTRY_INFO!M82>=(COUNTRY_INFO!F82+COUNTRY_INFO!G82),COUNTRY_INFO!F82+COUNTRY_INFO!G82,COUNTRY_INFO!$M82),0))))","v":62103},{"$f":"IF(AND(INTRO!$E$39=\"Non-endemic\",INTRO!$E$37=\"Non-endemic\"),\"Not required\",IF(INTRO!$E$39=\"Non-endemic\",\"Treat with DEC\",COUNTRY_INFO!P82))","v":0},{"$f":"IF(INTRO!$E$39<>\"Non-endemic\",COUNTRY_INFO!Q82,\"Not required\")","v":2},{"$f":"IF(COUNTRY_INFO!H82=1, IF($E82=1,$D82, 0),0)","v":0},{"$f":"IF(INTRO!$E$39<>\"Endemic\",0, IF(AND(COUNTRY_INFO!$I82=1,$F82<>0),IF(COUNTRY_INFO!M82>=(COUNTRY_INFO!F82+COUNTRY_INFO!G82),COUNTRY_INFO!F82+COUNTRY_INFO!G82,COUNTRY_INFO!$M82), 0))","v":62103},null,62103,0,347776.8,0,347776.8,null,347776.8,696]
[{"$f":"IF(INTRO!$E$39=\"Non-endemic\",\" \",IF(COUNTRY_INFO!A83=0,\" \",COUNTRY_INFO!A83))","v":"Ghana"},{"$f":"IF(INTRO!$E$39=\"Non-endemic\",\" \",IF(COUNTRY_INFO!B83=0,\" \",COUNTRY_INFO!B83))","v":"Central"},{"$f":"IF(INTRO!$E$39=\"Non-endemic\",\" \",IF(COUNTRY_INFO!C83=0,\" \",COUNTRY_INFO!C83))","v":"Twifu-Ati Mokwa"},{"$f":"IF(INTRO!$E$39=\"Non-endemic\",0,IF(INTRO!$E$39=\"Endemic but PC is not required\",IF(COUNTRY_INFO!$H83=1,COUNTRY_INFO!F83+COUNTRY_INFO!G83,0),IF(COUNTRY_INFO!$H83=1,COUNTRY_INFO!F83+COUNTRY_INFO!G83,IF(COUNTRY_INFO!$I83=1,IF(COUNTRY_INFO!M83>=(COUNTRY_INFO!F83+COUNTRY_INFO!G83),COUNTRY_INFO!F83+COUNTRY_INFO!G83,COUNTRY_INFO!$M83),0))))","v":69551},{"$f":"IF(AND(INTRO!$E$39=\"Non-endemic\",INTRO!$E$37=\"Non-endemic\"),\"Not required\",IF(INTRO!$E$39=\"Non-endemic\",\"Treat with DEC\",COUNTRY_INFO!P83))","v":0},{"$f":"IF(INTRO!$E$39<>\"Non-endemic\",COUNTRY_INFO!Q83,\"Not required\")","v":2},{"$f":"IF(COUNTRY_INFO!H83=1, IF($E83=1,$D83, 0),0)","v":0},{"$f":"IF(INTRO!$E$39<>\"Endemic\",0, IF(AND(COUNTRY_INFO!$I83=1,$F83<>0),IF(COUNTRY_INFO!M83>=(COUNTRY_INFO!F83+COUNTRY_INFO!G83),COUNTRY_INFO!F83+COUNTRY_INFO!G83,COUNTRY_INFO!$M83), 0))","v":69551},null,69551,0,389485.6,0,389485.6,null,389485.6,779]
[{"$f":"IF(INTRO!$E$39=\"Non-endemic\",\" \",IF(COUNTRY_INFO!A84=0,\" \",COUNTRY_INFO!A84))","v":"Ghana"},{"$f":"IF(INTRO!$E$39=\"Non-endemic\",\" \",IF(COUNTRY_INFO!B84=0,\" \",COUNTRY_INFO!B84))","v":"Central"},{"$f":"IF(INTRO!$E$39=\"Non-endemic\",\" \",IF(COUNTRY_INFO!C84=0,\" \",COUNTRY_INFO!C84))","v":"Upper Denkyira East"},{"$f":"IF(INTRO!$E$39=\"Non-endemic\",0,IF(INTRO!$E$39=\"Endemic but PC is not required\",IF(COUNTRY_INFO!$H84=1,COUNTRY_INFO!F84+COUNTRY_INFO!G84,0),IF(COUNTRY_INFO!$H84=1,COUNTRY_INFO!F84+COUNTRY_INFO!G84,IF(COUNTRY_INFO!$I84=1,IF(COUNTRY_INFO!M84>=(COUNTRY_INFO!F84+COUNTRY_INFO!G84),COUNTRY_INFO!F84+COUNTRY_INFO!G84,COUNTRY_INFO!$M84),0))))","v":82017},{"$f":"IF(AND(INTRO!$E$39=\"Non-endemic\",INTRO!$E$37=\"Non-endemic\"),\"Not required\",IF(INTRO!$E$39=\"Non-endemic\",\"Treat with DEC\",COUNTRY_INFO!P84))","v":0},{"$f":"IF(INTRO!$E$39<>\"Non-endemic\",COUNTRY_INFO!Q84,\"Not required\")","v":2},{"$f":"IF(COUNTRY_INFO!H84=1, IF($E84=1,$D84, 0),0)","v":0},{"$f":"IF(INTRO!$E$39<>\"Endemic\",0, IF(AND(COUNTRY_INFO!$I84=1,$F84<>0),IF(COUNTRY_INFO!M84>=(COUNTRY_INFO!F84+COUNTRY_INFO!G84),COUNTRY_INFO!F84+COUNTRY_INFO!G84,COUNTRY_INFO!$M84), 0))","v":82017},null,82017,0,459295.19999999995,0,459295.19999999995,null,459295.19999999995,919]
[{"$f":"IF(INTRO!$E$39=\"Non-endemic\",\" \",IF(COUNTRY_INFO!A85=0,\" \",COUNTRY_INFO!A85))","v":"Ghana"},{"$f":"IF(INTRO!$E$39=\"Non-endemic\",\" \",IF(COUNTRY_INFO!B85=0,\" \",COUNTRY_INFO!B85))","v":"Central"},{"$f":"IF(INTRO!$E$39=\"Non-endemic\",\" \",IF(COUNTRY_INFO!C85=0,\" \",COUNTRY_INFO!C85))","v":"Upper Denkyira West"},{"$f":"IF(INTRO!$E$39=\"Non-endemic\",0,IF(INTRO!$E$39=\"Endemic but PC is not required\",IF(COUNTRY_INFO!$H85=1,COUNTRY_INFO!F85+COUNTRY_INFO!G85,0),IF(COUNTRY_INFO!$H85=1,COUNTRY_INFO!F85+COUNTRY_INFO!G85,IF(COUNTRY_INFO!$I85=1,IF(COUNTRY_INFO!M85>=(COUNTRY_INFO!F85+COUNTRY_INFO!G85),COUNTRY_INFO!F85+COUNTRY_INFO!G85,COUNTRY_INFO!$M85),0))))","v":67647},{"$f":"IF(AND(INTRO!$E$39=\"Non-endemic\",INTRO!$E$37=\"Non-endemic\"),\"Not required\",IF(INTRO!$E$39=\"Non-endemic\",\"Treat with DEC\",COUNTRY_INFO!P85))","v":0},{"$f":"IF(INTRO!$E$39<>\"Non-endemic\",COUNTRY_INFO!Q85,\"Not required\")","v":2},{"$f":"IF(COUNTRY_INFO!H85=1, IF($E85=1,$D85, 0),0)","v":0},{"$f":"IF(INTRO!$E$39<>\"Endemic\",0, IF(AND(COUNTRY_INFO!$I85=1,$F85<>0),IF(COUNTRY_INFO!M85>=(COUNTRY_INFO!F85+COUNTRY_INFO!G85),COUNTRY_INFO!F85+COUNTRY_INFO!G85,COUNTRY_INFO!$M85), 0))","v":67647},null,67647,0,378823.19999999995,0,378823.19999999995,null,378823.19999999995,758]
[{"$f":"IF(INTRO!$E$39=\"Non-endemic\",\" \",IF(COUNTRY_INFO!A86=0,\" \",COUNTRY_INFO!A86))","v":"Ghana"},{"$f":"IF(INTRO!$E$39=\"Non-endemic\",\" \",IF(COUNTRY_INFO!B86=0,\" \",COUNTRY_INFO!B86))","v":"Eastern"},{"$f":"IF(INTRO!$E$39=\"Non-endemic\",\" \",IF(COUNTRY_INFO!C86=0,\" \",COUNTRY_INFO!C86))","v":"Akwapim North"},{"$f":"IF(INTRO!$E$39=\"Non-endemic\",0,IF(INTRO!$E$39=\"Endemic but PC is not required\",IF(COUNTRY_INFO!$H86=1,COUNTRY_INFO!F86+COUNTRY_INFO!G86,0),IF(COUNTRY_INFO!$H86=1,COUNTRY_INFO!F86+COUNTRY_INFO!G86,IF(COUNTRY_INFO!$I86=1,IF(COUNTRY_INFO!M86>=(COUNTRY_INFO!F86+COUNTRY_INFO!G86),COUNTRY_INFO!F86+COUNTRY_INFO!G86,COUNTRY_INFO!$M86),0))))","v":142209},{"$f":"IF(AND(INTRO!$E$39=\"Non-endemic\",INTRO!$E$37=\"Non-endemic\"),\"Not required\",IF(INTRO!$E$39=\"Non-endemic\",\"Treat with DEC\",COUNTRY_INFO!P86))","v":0},{"$f":"IF(INTRO!$E$39<>\"Non-endemic\",COUNTRY_INFO!Q86,\"Not required\")","v":2},{"$f":"IF(COUNTRY_INFO!H86=1, IF($E86=1,$D86, 0),0)","v":0},{"$f":"IF(INTRO!$E$39<>\"Endemic\",0, IF(AND(COUNTRY_INFO!$I86=1,$F86<>0),IF(COUNTRY_INFO!M86>=(COUNTRY_INFO!F86+COUNTRY_INFO!G86),COUNTRY_INFO!F86+COUNTRY_INFO!G86,COUNTRY_INFO!$M86), 0))","v":142209},null,142209,0,796370.39999999991,0,796370.39999999991,null,796370.39999999991,1593]
[{"$f":"IF(INTRO!$E$39=\"Non-endemic\",\" \",IF(COUNTRY_INFO!A87=0,\" \",COUNTRY_INFO!A87))","v":"Ghana"},{"$f":"IF(INTRO!$E$39=\"Non-endemic\",\" \",IF(COUNTRY_INFO!B87=0,\" \",COUNTRY_INFO!B87))","v":"Eastern"},{"$f":"IF(INTRO!$E$39=\"Non-endemic\",\" \",IF(COUNTRY_INFO!C87=0,\" \",COUNTRY_INFO!C87))","v":"Akwapim South"},{"$f":"IF(INTRO!$E$39=\"Non-endemic\",0,IF(INTRO!$E$39=\"Endemic but PC is not required\",IF(COUNTRY_INFO!$H87=1,COUNTRY_INFO!F87+COUNTRY_INFO!G87,0),IF(COUNTRY_INFO!$H87=1,COUNTRY_INFO!F87+COUNTRY_INFO!G87,IF(COUNTRY_INFO!$I87=1,IF(COUNTRY_INFO!M87>=(COUNTRY_INFO!F87+COUNTRY_INFO!G87),COUNTRY_INFO!F87+COUNTRY_INFO!G87,COUNTRY_INFO!$M87),0))))","v":0},{"$f":"IF(AND(INTRO!$E$39=\"Non-endemic\",INTRO!$E$37=\"Non-endemic\"),\"Not required\",IF(INTRO!$E$39=\"Non-endemic\",\"Treat with DEC\",COUNTRY_INFO!P87))","v":0},{"$f":"IF(INTRO!$E$39<>\"Non-endemic\",COUNTRY_INFO!Q87,\"Not required\")","v":0},{"$f":"IF(COUNTRY_INFO!H87=1, IF($E87=1,$D87, 0),0)","v":0},{"$f":"IF(INTRO!$E$39<>\"Endemic\",0, IF(AND(COUNTRY_INFO!$I87=1,$F87<>0),IF(COUNTRY_INFO!M87>=(COUNTRY_INFO!F87+COUNTRY_INFO!G87),COUNTRY_INFO!F87+COUNTRY_INFO!G87,COUNTRY_INFO!$M87), 0))","v":0},null,0,0,0,0,0,null,0,0]
[{"$f":"IF(INTRO!$E$39=\"Non-endemic\",\" \",IF(COUNTRY_INFO!A88=0,\" \",COUNTRY_INFO!A88))","v":"Ghana"},{"$f":"IF(INTRO!$E$39=\"Non-endemic\",\" \",IF(COUNTRY_INFO!B88=0,\" \",COUNTRY_INFO!B88))","v":"Eastern"},{"$f":"IF(INTRO!$E$39=\"Non-endemic\",\" \",IF(COUNTRY_INFO!C88=0,\" \",COUNTRY_INFO!C88))","v":"Nsawam Adoagyiri Municipal"},{"$f":"IF(INTRO!$E$39=\"Non-endemic\",0,IF(INTRO!$E$39=\"Endemic but PC is not required\",IF(COUNTRY_INFO!$H88=1,COUNTRY_INFO!F88+COUNTRY_INFO!G88,0),IF(COUNTRY_INFO!$H88=1,COUNTRY_INFO!F88+COUNTRY_INFO!G88,IF(COUNTRY_INFO!$I88=1,IF(COUNTRY_INFO!M88>=(COUNTRY_INFO!F88+COUNTRY_INFO!G88),COUNTRY_INFO!F88+COUNTRY_INFO!G88,COUNTRY_INFO!$M88),0))))","v":0},{"$f":"IF(AND(INTRO!$E$39=\"Non-endemic\",INTRO!$E$37=\"Non-endemic\"),\"Not required\",IF(INTRO!$E$39=\"Non-endemic\",\"Treat with DEC\",COUNTRY_INFO!P88))","v":0},{"$f":"IF(INTRO!$E$39<>\"Non-endemic\",COUNTRY_INFO!Q88,\"Not required\")","v":0},{"$f":"IF(COUNTRY_INFO!H88=1, IF($E88=1,$D88, 0),0)","v":0},{"$f":"IF(INTRO!$E$39<>\"Endemic\",0, IF(AND(COUNTRY_INFO!$I88=1,$F88<>0),IF(COUNTRY_INFO!M88>=(COUNTRY_INFO!F88+COUNTRY_INFO!G88),COUNTRY_INFO!F88+COUNTRY_INFO!G88,COUNTRY_INFO!$M88), 0))","v":0},null,0,0,0,0,0,null,0,0]
[{"$f":"IF(INTRO!$E$39=\"Non-endemic\",\" \",IF(COUNTRY_INFO!A89=0,\" \",COUNTRY_INFO!A89))","v":"Ghana"},{"$f":"IF(INTRO!$E$39=\"Non-endemic\",\" \",IF(COUNTRY_INFO!B89=0,\" \",COUNTRY_INFO!B89))","v":"Eastern"},{"$f":"IF(INTRO!$E$39=\"Non-endemic\",\" \",IF(COUNTRY_INFO!C89=0,\" \",COUNTRY_INFO!C89))","v":"Akyemansa"},{"$f":"IF(INTRO!$E$39=\"Non-endemic\",0,IF(INTRO!$E$39=\"Endemic but PC is not required\",IF(COUNTRY_INFO!$H89=1,COUNTRY_INFO!F89+COUNTRY_INFO!G89,0),IF(COUNTRY_INFO!$H89=1,COUNTRY_INFO!F89+COUNTRY_INFO!G89,IF(COUNTRY_INFO!$I89=1,IF(COUNTRY_INFO!M89>=(COUNTRY_INFO!F89+COUNTRY_INFO!G89),COUNTRY_INFO!F89+COUNTRY_INFO!G89,COUNTRY_INFO!$M89),0))))","v":101459},{"$f":"IF(AND(INTRO!$E$39=\"Non-endemic\",INTRO!$E$37=\"Non-endemic\"),\"Not required\",IF(INTRO!$E$39=\"Non-endemic\",\"Treat with DEC\",COUNTRY_INFO!P89))","v":0},{"$f":"IF(INTRO!$E$39<>\"Non-endemic\",COUNTRY_INFO!Q89,\"Not required\")","v":2},{"$f":"IF(COUNTRY_INFO!H89=1, IF($E89=1,$D89, 0),0)","v":0},{"$f":"IF(INTRO!$E$39<>\"Endemic\",0, IF(AND(COUNTRY_INFO!$I89=1,$F89<>0),IF(COUNTRY_INFO!M89>=(COUNTRY_INFO!F89+COUNTRY_INFO!G89),COUNTRY_INFO!F89+COUNTRY_INFO!G89,COUNTRY_INFO!$M89), 0))","v":101459},null,101459,0,568170.39999999991,0,568170.39999999991,null,568170.39999999991,1137]
[{"$f":"IF(INTRO!$E$39=\"Non-endemic\",\" \",IF(COUNTRY_INFO!A90=0,\" \",COUNTRY_INFO!A90))","v":"Ghana"},{"$f":"IF(INTRO!$E$39=\"Non-endemic\",\" \",IF(COUNTRY_INFO!B90=0,\" \",COUNTRY_INFO!B90))","v":"Eastern"},{"$f":"IF(INTRO!$E$39=\"Non-endemic\",\" \",IF(COUNTRY_INFO!C90=0,\" \",COUNTRY_INFO!C90))","v":"Asuogyaman"},{"$f":"IF(INTRO!$E$39=\"Non-endemic\",0,IF(INTRO!$E$39=\"Endemic but PC is not required\",IF(COUNTRY_INFO!$H90=1,COUNTRY_INFO!F90+COUNTRY_INFO!G90,0),IF(COUNTRY_INFO!$H90=1,COUNTRY_INFO!F90+COUNTRY_INFO!G90,IF(COUNTRY_INFO!$I90=1,IF(COUNTRY_INFO!M90>=(COUNTRY_INFO!F90+COUNTRY_INFO!G90),COUNTRY_INFO!F90+COUNTRY_INFO!G90,COUNTRY_INFO!$M90),0))))","v":0},{"$f":"IF(AND(INTRO!$E$39=\"Non-endemic\",INTRO!$E$37=\"Non-endemic\"),\"Not required\",IF(INTRO!$E$39=\"Non-endemic\",\"Treat with DEC\",COUNTRY_INFO!P90))","v":0},{"$f":"IF(INTRO!$E$39<>\"Non-endemic\",COUNTRY_INFO!Q90,\"Not required\")","v":0},{"$f":"IF(COUNTRY_INFO!H90=1, IF($E90=1,$D90, 0),0)","v":0},{"$f":"IF(INTRO!$E$39<>\"Endemic\",0, IF(AND(COUNTRY_INFO!$I90=1,$F90<>0),IF(COUNTRY_INFO!M90>=(COUNTRY_INFO!F90+COUNTRY_INFO!G90),COUNTRY_INFO!F90+COUNTRY_INFO!G90,COUNTRY_INFO!$M90), 0))","v":0},null,0,0,0,0,0,null,0,0]
[{"$f":"IF(INTRO!$E$39=\"Non-endemic\",\" \",IF(COUNTRY_INFO!A91=0,\" \",COUNTRY_INFO!A91))","v":"Ghana"},{"$f":"IF(INTRO!$E$39=\"Non-endemic\",\" \",IF(COUNTRY_INFO!B91=0,\" \",COUNTRY_INFO!B91))","v":"Eastern"},{"$f":"IF(INTRO!$E$39=\"Non-endemic\",\" \",IF(COUNTRY_INFO!C91=0,\" \",COUNTRY_INFO!C91))","v":"Atiwa"},{"$f":"IF(INTRO!$E$39=\"Non-endemic\",0,IF(INTRO!$E$39=\"Endemic but PC is not required\",IF(COUNTRY_INFO!$H91=1,COUNTRY_INFO!F91+COUNTRY_INFO!G91,0),IF(COUNTRY_INFO!$H91=1,COUNTRY_INFO!F91+COUNTRY_INFO!G91,IF(COUNTRY_INFO!$I91=1,IF(COUNTRY_INFO!M91>=(COUNTRY_INFO!F91+COUNTRY_INFO!G91),COUNTRY_INFO!F91+COUNTRY_INFO!G91,COUNTRY_INFO!$M91),0))))","v":115262},{"$f":"IF(AND(INTRO!$E$39=\"Non-endemic\",INTRO!$E$37=\"Non-endemic\"),\"Not required\",IF(INTRO!$E$39=\"Non-endemic\",\"Treat with DEC\",COUNTRY_INFO!P91))","v":0},{"$f":"IF(INTRO!$E$39<>\"Non-endemic\",COUNTRY_INFO!Q91,\"Not required\")","v":1},{"$f":"IF(COUNTRY_INFO!H91=1, IF($E91=1,$D91, 0),0)","v":0},{"$f":"IF(INTRO!$E$39<>\"Endemic\",0, IF(AND(COUNTRY_INFO!$I91=1,$F91<>0),IF(COUNTRY_INFO!M91>=(COUNTRY_INFO!F91+COUNTRY_INFO!G91),COUNTRY_INFO!F91+COUNTRY_INFO!G91,COUNTRY_INFO!$M91), 0))","v":115262},null,115262,0,322733.59999999998,0,322733.59999999998,null,322733.59999999998,646]
[{"$f":"IF(INTRO!$E$39=\"Non-endemic\",\" \",IF(COUNTRY_INFO!A92=0,\" \",COUNTRY_INFO!A92))","v":"Ghana"},{"$f":"IF(INTRO!$E$39=\"Non-endemic\",\" \",IF(COUNTRY_INFO!B92=0,\" \",COUNTRY_INFO!B92))","v":"Eastern"},{"$f":"IF(INTRO!$E$39=\"Non-endemic\",\" \",IF(COUNTRY_INFO!C92=0,\" \",COUNTRY_INFO!C92))","v":"Birim Central"},{"$f":"IF(INTRO!$E$39=\"Non-endemic\",0,IF(INTRO!$E$39=\"Endemic but PC is not required\",IF(COUNTRY_INFO!$H92=1,COUNTRY_INFO!F92+COUNTRY_INFO!G92,0),IF(COUNTRY_INFO!$H92=1,COUNTRY_INFO!F92+COUNTRY_INFO!G92,IF(COUNTRY_INFO!$I92=1,IF(COUNTRY_INFO!M92>=(COUNTRY_INFO!F92+COUNTRY_INFO!G92),COUNTRY_INFO!F92+COUNTRY_INFO!G92,COUNTRY_INFO!$M92),0))))","v":150946},{"$f":"IF(AND(INTRO!$E$39=\"Non-endemic\",INTRO!$E$37=\"Non-endemic\"),\"Not required\",IF(INTRO!$E$39=\"Non-endemic\",\"Treat with DEC\",COUNTRY_INFO!P92))","v":0},{"$f":"IF(INTRO!$E$39<>\"Non-endemic\",COUNTRY_INFO!Q92,\"Not required\")","v":2},{"$f":"IF(COUNTRY_INFO!H92=1, IF($E92=1,$D92, 0),0)","v":0},{"$f":"IF(INTRO!$E$39<>\"Endemic\",0, IF(AND(COUNTRY_INFO!$I92=1,$F92<>0),IF(COUNTRY_INFO!M92>=(COUNTRY_INFO!F92+COUNTRY_INFO!G92),COUNTRY_INFO!F92+COUNTRY_INFO!G92,COUNTRY_INFO!$M92), 0))","v":150946},null,150946,0,845297.6,0,845297.6,null,845297.6,1691]
[{"$f":"IF(INTRO!$E$39=\"Non-endemic\",\" \",IF(COUNTRY_INFO!A93=0,\" \",COUNTRY_INFO!A93))","v":"Ghana"},{"$f":"IF(INTRO!$E$39=\"Non-endemic\",\" \",IF(COUNTRY_INFO!B93=0,\" \",COUNTRY_INFO!B93))","v":"Eastern"},{"$f":"IF(INTRO!$E$39=\"Non-endemic\",\" \",IF(COUNTRY_INFO!C93=0,\" \",COUNTRY_INFO!C93))","v":"Birim North"},{"$f":"IF(INTRO!$E$39=\"Non-endemic\",0,IF(INTRO!$E$39=\"Endemic but PC is not required\",IF(COUNTRY_INFO!$H93=1,COUNTRY_INFO!F93+COUNTRY_INFO!G93,0),IF(COUNTRY_INFO!$H93=1,COUNTRY_INFO!F93+COUNTRY_INFO!G93,IF(COUNTRY_INFO!$I93=1,IF(COUNTRY_INFO!M93>=(COUNTRY_INFO!F93+COUNTRY_INFO!G93),COUNTRY_INFO!F93+COUNTRY_INFO!G93,COUNTRY_INFO!$M93),0))))","v":82217},{"$f":"IF(AND(INTRO!$E$39=\"Non-endemic\",INTRO!$E$37=\"Non-endemic\"),\"Not required\",IF(INTRO!$E$39=\"Non-endemic\",\"Treat with DEC\",COUNTRY_INFO!P93))","v":0},{"$f":"IF(INTRO!$E$39<>\"Non-endemic\",COUNTRY_INFO!Q93,\"Not required\")","v":2},{"$f":"IF(COUNTRY_INFO!H93=1, IF($E93=1,$D93, 0),0)","v":0},{"$f":"IF(INTRO!$E$39<>\"Endemic\",0, IF(AND(COUNTRY_INFO!$I93=1,$F93<>0),IF(COUNTRY_INFO!M93>=(COUNTRY_INFO!F93+COUNTRY_INFO!G93),COUNTRY_INFO!F93+COUNTRY_INFO!G93,COUNTRY_INFO!$M93), 0))","v":82217},null,82217,0,460415.19999999995,0,460415.19999999995,null,460415.19999999995,921]
[{"$f":"IF(INTRO!$E$39=\"Non-endemic\",\" \",IF(COUNTRY_INFO!A94=0,\" \",COUNTRY_INFO!A94))","v":"Ghana"},{"$f":"IF(INTRO!$E$39=\"Non-endemic\",\" \",IF(COUNTRY_INFO!B94=0,\" \",COUNTRY_INFO!B94))","v":"Eastern"},{"$f":"IF(INTRO!$E$39=\"Non-endemic\",\" \",IF(COUNTRY_INFO!C94=0,\" \",COUNTRY_INFO!C94))","v":"Birim South"},{"$f":"IF(INTRO!$E$39=\"Non-endemic\",0,IF(INTRO!$E$39=\"Endemic but PC is not required\",IF(COUNTRY_INFO!$H94=1,COUNTRY_INFO!F94+COUNTRY_INFO!G94,0),IF(COUNTRY_INFO!$H94=1,COUNTRY_INFO!F94+COUNTRY_INFO!G94,IF(COUNTRY_INFO!$I94=1,IF(COUNTRY_INFO!M94>=(COUNTRY_INFO!F94+COUNTRY_INFO!G94),COUNTRY_INFO!F94+COUNTRY_INFO!G94,COUNTRY_INFO!$M94),0))))","v":124792},{"$f":"IF(AND(INTRO!$E$39=\"Non-endemic\",INTRO!$E$37=\"Non-endemic\"),\"Not required\",IF(INTRO!$E$39=\"Non-endemic\",\"Treat with DEC\",COUNTRY_INFO!P94))","v":0},{"$f":"IF(INTRO!$E$39<>\"Non-endemic\",COUNTRY_INFO!Q94,\"Not required\")","v":2},{"$f":"IF(COUNTRY_INFO!H94=1, IF($E94=1,$D94, 0),0)","v":0},{"$f":"IF(INTRO!$E$39<>\"Endemic\",0, IF(AND(COUNTRY_INFO!$I94=1,$F94<>0),IF(COUNTRY_INFO!M94>=(COUNTRY_INFO!F94+COUNTRY_INFO!G94),COUNTRY_INFO!F94+COUNTRY_INFO!G94,COUNTRY_INFO!$M94), 0))","v":124792},null,124792,0,698835.2,0,698835.2,null,698835.2,1398]
[{"$f":"IF(INTRO!$E$39=\"Non-endemic\",\" \",IF(COUNTRY_INFO!A95=0,\" \",COUNTRY_INFO!A95))","v":"Ghana"},{"$f":"IF(INTRO!$E$39=\"Non-endemic\",\" \",IF(COUNTRY_INFO!B95=0,\" \",COUNTRY_INFO!B95))","v":"Eastern"},{"$f":"IF(INTRO!$E$39=\"Non-endemic\",\" \",IF(COUNTRY_INFO!C95=0,\" \",COUNTRY_INFO!C95))","v":"East Akim Municipal"},{"$f":"IF(INTRO!$E$39=\"Non-endemic\",0,IF(INTRO!$E$39=\"Endemic but PC is not required\",IF(COUNTRY_INFO!$H95=1,COUNTRY_INFO!F95+COUNTRY_INFO!G95,0),IF(COUNTRY_INFO!$H95=1,COUNTRY_INFO!F95+COUNTRY_INFO!G95,IF(COUNTRY_INFO!$I95=1,IF(COUNTRY_INFO!M95>=(COUNTRY_INFO!F95+COUNTRY_INFO!G95),COUNTRY_INFO!F95+COUNTRY_INFO!G95,COUNTRY_INFO!$M95),0))))","v":174940},{"$f":"IF(AND(INTRO!$E$39=\"Non-endemic\",INTRO!$E$37=\"Non-endemic\"),\"Not required\",IF(INTRO!$E$39=\"Non-endemic\",\"Treat with DEC\",COUNTRY_INFO!P95))","v":0},{"$f":"IF(INTRO!$E$39<>\"Non-endemic\",COUNTRY_INFO!Q95,\"Not required\")","v":2},{"$f":"IF(COUNTRY_INFO!H95=1, IF($E95=1,$D95, 0),0)","v":0},{"$f":"IF(INTRO!$E$39<>\"Endemic\",0, IF(AND(COUNTRY_INFO!$I95=1,$F95<>0),IF(COUNTRY_INFO!M95>=(COUNTRY_INFO!F95+COUNTRY_INFO!G95),COUNTRY_INFO!F95+COUNTRY_INFO!G95,COUNTRY_INFO!$M95), 0))","v":174940},null,174940,0,979663.99999999988,0,979663.99999999988,null,979663.99999999988,1960]
[{"$f":"IF(INTRO!$E$39=\"Non-endemic\",\" \",IF(COUNTRY_INFO!A96=0,\" \",COUNTRY_INFO!A96))","v":"Ghana"},{"$f":"IF(INTRO!$E$39=\"Non-endemic\",\" \",IF(COUNTRY_INFO!B96=0,\" \",COUNTRY_INFO!B96))","v":"Eastern"},{"$f":"IF(INTRO!$E$39=\"Non-endemic\",\" \",IF(COUNTRY_INFO!C96=0,\" \",COUNTRY_INFO!C96))","v":"Fanteakwa"},{"$f":"IF(INTRO!$E$39=\"Non-endemic\",0,IF(INTRO!$E$39=\"Endemic but PC is not required\",IF(COUNTRY_INFO!$H96=1,COUNTRY_INFO!F96+COUNTRY_INFO!G96,0),IF(COUNTRY_INFO!$H96=1,COUNTRY_INFO!F96+COUNTRY_INFO!G96,IF(COUNTRY_INFO!$I96=1,IF(COUNTRY_INFO!M96>=(COUNTRY_INFO!F96+COUNTRY_INFO!G96),COUNTRY_INFO!F96+COUNTRY_INFO!G96,COUNTRY_INFO!$M96),0))))","v":113171},{"$f":"IF(AND(INTRO!$E$39=\"Non-endemic\",INTRO!$E$37=\"Non-endemic\"),\"Not required\",IF(INTRO!$E$39=\"Non-endemic\",\"Treat with DEC\",COUNTRY_INFO!P96))","v":0},{"$f":"IF(INTRO!$E$39<>\"Non-endemic\",COUNTRY_INFO!Q96,\"Not required\")","v":1},{"$f":"IF(COUNTRY_INFO!H96=1, IF($E96=1,$D96, 0),0)","v":0},{"$f":"IF(INTRO!$E$39<>\"Endemic\",0, IF(AND(COUNTRY_INFO!$I96=1,$F96<>0),IF(COUNTRY_INFO!M96>=(COUNTRY_INFO!F96+COUNTRY_INFO!G96),COUNTRY_INFO!F96+COUNTRY_INFO!G96,COUNTRY_INFO!$M96), 0))","v":113171},null,113171,0,316878.8,0,316878.8,null,316878.8,634]
[{"$f":"IF(INTRO!$E$39=\"Non-endemic\",\" \",IF(COUNTRY_INFO!A97=0,\" \",COUNTRY_INFO!A97))","v":"Ghana"},{"$f":"IF(INTRO!$E$39=\"Non-endemic\",\" \",IF(COUNTRY_INFO!B97=0,\" \",COUNTRY_INFO!B97))","v":"Eastern"},{"$f":"IF(INTRO!$E$39=\"Non-endemic\",\" \",IF(COUNTRY_INFO!C97=0,\" \",COUNTRY_INFO!C97))","v":"Kwaebibirem"},{"$f":"IF(INTRO!$E$39=\"Non-endemic\",0,IF(INTRO!$E$39=\"Endemic but PC is not required\",IF(COUNTRY_INFO!$H97=1,COUNTRY_INFO!F97+COUNTRY_INFO!G97,0),IF(COUNTRY_INFO!$H97=1,COUNTRY_INFO!F97+COUNTRY_INFO!G97,IF(COUNTRY_INFO!$I97=1,IF(COUNTRY_INFO!M97>=(COUNTRY_INFO!F97+COUNTRY_INFO!G97),COUNTRY_INFO!F97+COUNTRY_INFO!G97,COUNTRY_INFO!$M97),0))))","v":118861},{"$f":"IF(AND(INTRO!$E$39=\"Non-endemic\",INTRO!$E$37=\"Non-endemic\"),\"Not required\",IF(INTRO!$E$39=\"Non-endemic\",\"Treat with DEC\",COUNTRY_INFO!P97))","v":0},{"$f":"IF(INTRO!$E$39<>\"Non-endemic\",COUNTRY_INFO!Q97,\"Not required\")","v":2},{"$f":"IF(COUNTRY_INFO!H97=1, IF($E97=1,$D97, 0),0)","v":0},{"$f":"IF(INTRO!$E$39<>\"Endemic\",0, IF(AND(COUNTRY_INFO!$I97=1,$F97<>0),IF(COUNTRY_INFO!M97>=(COUNTRY_INFO!F97+COUNTRY_INFO!G97),COUNTRY_INFO!F97+COUNTRY_INFO!G97,COUNTRY_INFO!$M97), 0))","v":118861},null,118861,0,665621.6,0,665621.6,null,665621.6,1332]
[{"$f":"IF(INTRO!$E$39=\"Non-endemic\",\" \",IF(COUNTRY_INFO!A98=0,\" \",COUNTRY_INFO!A98))","v":"Ghana"},{"$f":"IF(INTRO!$E$39=\"Non-endemic\",\" \",IF(COUNTRY_INFO!B98=0,\" \",COUNTRY_INFO!B98))","v":"Eastern"},{"$f":"IF(INTRO!$E$39=\"Non-endemic\",\" \",IF(COUNTRY_INFO!C98=0,\" \",COUNTRY_INFO!C98))","v":"Denkyembour"},{"$f":"IF(INTRO!$E$39=\"Non-endemic\",0,IF(INTRO!$E$39=\"Endemic but PC is not required\",IF(COUNTRY_INFO!$H98=1,COUNTRY_INFO!F98+COUNTRY_INFO!G98,0),IF(COUNTRY_INFO!$H98=1,COUNTRY_INFO!F98+COUNTRY_INFO!G98,IF(COUNTRY_INFO!$I98=1,IF(COUNTRY_INFO!M98>=(COUNTRY_INFO!F98+COUNTRY_INFO!G98),COUNTRY_INFO!F98+COUNTRY_INFO!G98,COUNTRY_INFO!$M98),0))))","v":0},{"$f":"IF(AND(INTRO!$E$39=\"Non-endemic\",INTRO!$E$37=\"Non-endemic\"),\"Not required\",IF(INTRO!$E$39=\"Non-endemic\",\"Treat with DEC\",COUNTRY_INFO!P98))","v":0},{"$f":"IF(INTRO!$E$39<>\"Non-endemic\",COUNTRY_INFO!Q98,\"Not required\")","v":0},{"$f":"IF(COUNTRY_INFO!H98=1, IF($E98=1,$D98, 0),0)","v":0},{"$f":"IF(INTRO!$E$39<>\"Endemic\",0, IF(AND(COUNTRY_INFO!$I98=1,$F98<>0),IF(COUNTRY_INFO!M98>=(COUNTRY_INFO!F98+COUNTRY_INFO!G98),COUNTRY_INFO!F98+COUNTRY_INFO!G98,COUNTRY_INFO!$M98), 0))","v":0},null,0,0,0,0,0,null,0,0]
[{"$f":"IF(INTRO!$E$39=\"Non-endemic\",\" \",IF(COUNTRY_INFO!A99=0,\" \",COUNTRY_INFO!A99))","v":"Ghana"},{"$f":"IF(INTRO!$E$39=\"Non-endemic\",\" \",IF(COUNTRY_INFO!B99=0,\" \",COUNTRY_INFO!B99))","v":"Eastern"},{"$f":"IF(INTRO!$E$39=\"Non-endemic\",\" \",IF(COUNTRY_INFO!C99=0,\" \",COUNTRY_INFO!C99))","v":"Kwahu East"},{"$f":"IF(INTRO!$E$39=\"Non-endemic\",0,IF(INTRO!$E$39=\"Endemic but PC is not required\",IF(COUNTRY_INFO!$H99=1,COUNTRY_INFO!F99+COUNTRY_INFO!G99,0),IF(COUNTRY_INFO!$H99=1,COUNTRY_INFO!F99+COUNTRY_INFO!G99,IF(COUNTRY_INFO!$I99=1,IF(COUNTRY_INFO!M99>=(COUNTRY_INFO!F99+COUNTRY_INFO!G99),COUNTRY_INFO!F99+COUNTRY_INFO!G99,COUNTRY_INFO!$M99),0))))","v":80360},{"$f":"IF(AND(INTRO!$E$39=\"Non-endemic\",INTRO!$E$37=\"Non-endemic\"),\"Not required\",IF(INTRO!$E$39=\"Non-endemic\",\"Treat with DEC\",COUNTRY_INFO!P99))","v":0},{"$f":"IF(INTRO!$E$39<>\"Non-endemic\",COUNTRY_INFO!Q99,\"Not required\")","v":2},{"$f":"IF(COUNTRY_INFO!H99=1, IF($E99=1,$D99, 0),0)","v":0},{"$f":"IF(INTRO!$E$39<>\"Endemic\",0, IF(AND(COUNTRY_INFO!$I99=1,$F99<>0),IF(COUNTRY_INFO!M99>=(COUNTRY_INFO!F99+COUNTRY_INFO!G99),COUNTRY_INFO!F99+COUNTRY_INFO!G99,COUNTRY_INFO!$M99), 0))","v":80360},null,80360,0,450016,0,450016,null,450016,901]
[{"$f":"IF(INTRO!$E$39=\"Non-endemic\",\" \",IF(COUNTRY_INFO!A100=0,\" \",COUNTRY_INFO!A100))","v":"Ghana"},{"$f":"IF(INTRO!$E$39=\"Non-endemic\",\" \",IF(COUNTRY_INFO!B100=0,\" \",COUNTRY_INFO!B100))","v":"Eastern"},{"$f":"IF(INTRO!$E$39=\"Non-endemic\",\" \",IF(COUNTRY_INFO!C100=0,\" \",COUNTRY_INFO!C100))","v":"Kwahu Afram Plains North"},{"$f":"IF(INTRO!$E$39=\"Non-endemic\",0,IF(INTRO!$E$39=\"Endemic but PC is not required\",IF(COUNTRY_INFO!$H100=1,COUNTRY_INFO!F100+COUNTRY_INFO!G100,0),IF(COUNTRY_INFO!$H100=1,COUNTRY_INFO!F100+COUNTRY_INFO!G100,IF(COUNTRY_INFO!$I100=1,IF(COUNTRY_INFO!M100>=(COUNTRY_INFO!F100+COUNTRY_INFO!G100),COUNTRY_INFO!F100+COUNTRY_INFO!G100,COUNTRY_INFO!$M100),0))))","v":106877},{"$f":"IF(AND(INTRO!$E$39=\"Non-endemic\",INTRO!$E$37=\"Non-endemic\"),\"Not required\",IF(INTRO!$E$39=\"Non-endemic\",\"Treat with DEC\",COUNTRY_INFO!P100))","v":0},{"$f":"IF(INTRO!$E$39<>\"Non-endemic\",COUNTRY_INFO!Q100,\"Not required\")","v":2},{"$f":"IF(COUNTRY_INFO!H100=1, IF($E100=1,$D100, 0),0)","v":0},{"$f":"IF(INTRO!$E$39<>\"Endemic\",0, IF(AND(COUNTRY_INFO!$I100=1,$F100<>0),IF(COUNTRY_INFO!M100>=(COUNTRY_INFO!F100+COUNTRY_INFO!G100),COUNTRY_INFO!F100+COUNTRY_INFO!G100,COUNTRY_INFO!$M100), 0))","v":106877},null,106877,0,598511.19999999995,0,598511.19999999995,null,598511.19999999995,1198]
[{"$f":"IF(INTRO!$E$39=\"Non-endemic\",\" \",IF(COUNTRY_INFO!A101=0,\" \",COUNTRY_INFO!A101))","v":"Ghana"},{"$f":"IF(INTRO!$E$39=\"Non-endemic\",\" \",IF(COUNTRY_INFO!B101=0,\" \",COUNTRY_INFO!B101))","v":"Eastern"},{"$f":"IF(INTRO!$E$39=\"Non-endemic\",\" \",IF(COUNTRY_INFO!C101=0,\" \",COUNTRY_INFO!C101))","v":"Kwahu Afram Plains South"},{"$f":"IF(INTRO!$E$39=\"Non-endemic\",0,IF(INTRO!$E$39=\"Endemic but PC is not required\",IF(COUNTRY_INFO!$H101=1,COUNTRY_INFO!F101+COUNTRY_INFO!G101,0),IF(COUNTRY_INFO!$H101=1,COUNTRY_INFO!F101+COUNTRY_INFO!G101,IF(COUNTRY_INFO!$I101=1,IF(COUNTRY_INFO!M101>=(COUNTRY_INFO!F101+COUNTRY_INFO!G101),COUNTRY_INFO!F101+COUNTRY_INFO!G101,COUNTRY_INFO!$M101),0))))","v":120514},{"$f":"IF(AND(INTRO!$E$39=\"Non-endemic\",INTRO!$E$37=\"Non-endemic\"),\"Not required\",IF(INTRO!$E$39=\"Non-endemic\",\"Treat with DEC\",COUNTRY_INFO!P101))","v":0},{"$f":"IF(INTRO!$E$39<>\"Non-endemic\",COUNTRY_INFO!Q101,\"Not required\")","v":2},{"$f":"IF(COUNTRY_INFO!H101=1, IF($E101=1,$D101, 0),0)","v":0},{"$f":"IF(INTRO!$E$39<>\"Endemic\",0, IF(AND(COUNTRY_INFO!$I101=1,$F101<>0),IF(COUNTRY_INFO!M101>=(COUNTRY_INFO!F101+COUNTRY_INFO!G101),COUNTRY_INFO!F101+COUNTRY_INFO!G101,COUNTRY_INFO!$M101), 0))","v":120514},null,120514,0,674878.39999999991,0,674878.39999999991,null,674878.39999999991,1350]
[{"$f":"IF(INTRO!$E$39=\"Non-endemic\",\" \",IF(COUNTRY_INFO!A102=0,\" \",COUNTRY_INFO!A102))","v":"Ghana"},{"$f":"IF(INTRO!$E$39=\"Non-endemic\",\" \",IF(COUNTRY_INFO!B102=0,\" \",COUNTRY_INFO!B102))","v":"Eastern"},{"$f":"IF(INTRO!$E$39=\"Non-endemic\",\" \",IF(COUNTRY_INFO!C102=0,\" \",COUNTRY_INFO!C102))","v":"Kwahu South"},{"$f":"IF(INTRO!$E$39=\"Non-endemic\",0,IF(INTRO!$E$39=\"Endemic but PC is not required\",IF(COUNTRY_INFO!$H102=1,COUNTRY_INFO!F102+COUNTRY_INFO!G102,0),IF(COUNTRY_INFO!$H102=1,COUNTRY_INFO!F102+COUNTRY_INFO!G102,IF(COUNTRY_INFO!$I102=1,IF(COUNTRY_INFO!M102>=(COUNTRY_INFO!F102+COUNTRY_INFO!G102),COUNTRY_INFO!F102+COUNTRY_INFO!G102,COUNTRY_INFO!$M102),0))))","v":72683},{"$f":"IF(AND(INTRO!$E$39=\"Non-endemic\",INTRO!$E$37=\"Non-endemic\"),\"Not required\",IF(INTRO!$E$39=\"Non-endemic\",\"Treat with DEC\",COUNTRY_INFO!P102))","v":0},{"$f":"IF(INTRO!$E$39<>\"Non-endemic\",COUNTRY_INFO!Q102,\"Not required\")","v":2},{"$f":"IF(COUNTRY_INFO!H102=1, IF($E102=1,$D102, 0),0)","v":0},{"$f":"IF(INTRO!$E$39<>\"Endemic\",0, IF(AND(COUNTRY_INFO!$I102=1,$F102<>0),IF(COUNTRY_INFO!M102>=(COUNTRY_INFO!F102+COUNTRY_INFO!G102),COUNTRY_INFO!F102+COUNTRY_INFO!G102,COUNTRY_INFO!$M102), 0))","v":72683},null,72683,0,407024.8,0,407024.8,null,407024.8,815]
[{"$f":"IF(INTRO!$E$39=\"Non-endemic\",\" \",IF(COUNTRY_INFO!A103=0,\" \",COUNTRY_INFO!A103))","v":"Ghana"},{"$f":"IF(INTRO!$E$39=\"Non-endemic\",\" \",IF(COUNTRY_INFO!B103=0,\" \",COUNTRY_INFO!B103))","v":"Eastern"},{"$f":"IF(INTRO!$E$39=\"Non-endemic\",\" \",IF(COUNTRY_INFO!C103=0,\" \",COUNTRY_INFO!C103))","v":"Kwahu West"},{"$f":"IF(INTRO!$E$39=\"Non-endemic\",0,IF(INTRO!$E$39=\"Endemic but PC is not required\",IF(COUNTRY_INFO!$H103=1,COUNTRY_INFO!F103+COUNTRY_INFO!G103,0),IF(COUNTRY_INFO!$H103=1,COUNTRY_INFO!F103+COUNTRY_INFO!G103,IF(COUNTRY_INFO!$I103=1,IF(COUNTRY_INFO!M103>=(COUNTRY_INFO!F103+COUNTRY_INFO!G103),COUNTRY_INFO!F103+COUNTRY_INFO!G103,COUNTRY_INFO!$M103),0))))","v":0},{"$f":"IF(AND(INTRO!$E$39=\"Non-endemic\",INTRO!$E$37=\"Non-endemic\"),\"Not required\",IF(INTRO!$E$39=\"Non-endemic\",\"Treat with DEC\",COUNTRY_INFO!P103))","v":0},{"$f":"IF(INTRO!$E$39<>\"Non-endemic\",COUNTRY_INFO!Q103,\"Not required\")","v":0},{"$f":"IF(COUNTRY_INFO!H103=1, IF($E103=1,$D103, 0),0)","v":0},{"$f":"IF(INTRO!$E$39<>\"Endemic\",0, IF(AND(COUNTRY_INFO!$I103=1,$F103<>0),IF(COUNTRY_INFO!M103>=(COUNTRY_INFO!F103+COUNTRY_INFO!G103),COUNTRY_INFO!F103+COUNTRY_INFO!G103,COUNTRY_INFO!$M103), 0))","v":0},null,0,0,0,0,0,null,0,0]
[{"$f":"IF(INTRO!$E$39=\"Non-endemic\",\" \",IF(COUNTRY_INFO!A104=0,\" \",COUNTRY_INFO!A104))","v":"Ghana"},{"$f":"IF(INTRO!$E$39=\"Non-endemic\",\" \",IF(COUNTRY_INFO!B104=0,\" \",COUNTRY_INFO!B104))","v":"Eastern"},{"$f":"IF(INTRO!$E$39=\"Non-endemic\",\" \",IF(COUNTRY_INFO!C104=0,\" \",COUNTRY_INFO!C104))","v":"Lower Manya Krobo"},{"$f":"IF(INTRO!$E$39=\"Non-endemic\",0,IF(INTRO!$E$39=\"Endemic but PC is not required\",IF(COUNTRY_INFO!$H104=1,COUNTRY_INFO!F104+COUNTRY_INFO!G104,0),IF(COUNTRY_INFO!$H104=1,COUNTRY_INFO!F104+COUNTRY_INFO!G104,IF(COUNTRY_INFO!$I104=1,IF(COUNTRY_INFO!M104>=(COUNTRY_INFO!F104+COUNTRY_INFO!G104),COUNTRY_INFO!F104+COUNTRY_INFO!G104,COUNTRY_INFO!$M104),0))))","v":0},{"$f":"IF(AND(INTRO!$E$39=\"Non-endemic\",INTRO!$E$37=\"Non-endemic\"),\"Not required\",IF(INTRO!$E$39=\"Non-endemic\",\"Treat with DEC\",COUNTRY_INFO!P104))","v":0},{"$f":"IF(INTRO!$E$39<>\"Non-endemic\",COUNTRY_INFO!Q104,\"Not required\")","v":0},{"$f":"IF(COUNTRY_INFO!H104=1, IF($E104=1,$D104, 0),0)","v":0},{"$f":"IF(INTRO!$E$39<>\"Endemic\",0, IF(AND(COUNTRY_INFO!$I104=1,$F104<>0),IF(COUNTRY_INFO!M104>=(COUNTRY_INFO!F104+COUNTRY_INFO!G104),COUNTRY_INFO!F104+COUNTRY_INFO!G104,COUNTRY_INFO!$M104), 0))","v":0},null,0,0,0,0,0,null,0,0]
[{"$f":"IF(INTRO!$E$39=\"Non-endemic\",\" \",IF(COUNTRY_INFO!A105=0,\" \",COUNTRY_INFO!A105))","v":"Ghana"},{"$f":"IF(INTRO!$E$39=\"Non-endemic\",\" \",IF(COUNTRY_INFO!B105=0,\" \",COUNTRY_INFO!B105))","v":"Eastern"},{"$f":"IF(INTRO!$E$39=\"Non-endemic\",\" \",IF(COUNTRY_INFO!C105=0,\" \",COUNTRY_INFO!C105))","v":"New Juaben Municipal"},{"$f":"IF(INTRO!$E$39=\"Non-endemic\",0,IF(INTRO!$E$39=\"Endemic but PC is not required\",IF(COUNTRY_INFO!$H105=1,COUNTRY_INFO!F105+COUNTRY_INFO!G105,0),IF(COUNTRY_INFO!$H105=1,COUNTRY_INFO!F105+COUNTRY_INFO!G105,IF(COUNTRY_INFO!$I105=1,IF(COUNTRY_INFO!M105>=(COUNTRY_INFO!F105+COUNTRY_INFO!G105),COUNTRY_INFO!F105+COUNTRY_INFO!G105,COUNTRY_INFO!$M105),0))))","v":191435},{"$f":"IF(AND(INTRO!$E$39=\"Non-endemic\",INTRO!$E$37=\"Non-endemic\"),\"Not required\",IF(INTRO!$E$39=\"Non-endemic\",\"Treat with DEC\",COUNTRY_INFO!P105))","v":0},{"$f":"IF(INTRO!$E$39<>\"Non-endemic\",COUNTRY_INFO!Q105,\"Not required\")","v":2},{"$f":"IF(COUNTRY_INFO!H105=1, IF($E105=1,$D105, 0),0)","v":0},{"$f":"IF(INTRO!$E$39<>\"Endemic\",0, IF(AND(COUNTRY_INFO!$I105=1,$F105<>0),IF(COUNTRY_INFO!M105>=(COUNTRY_INFO!F105+COUNTRY_INFO!G105),COUNTRY_INFO!F105+COUNTRY_INFO!G105,COUNTRY_INFO!$M105), 0))","v":191435},null,191435,0,1072036,0,1072036,null,1072036,2145]
[{"$f":"IF(INTRO!$E$39=\"Non-endemic\",\" \",IF(COUNTRY_INFO!A106=0,\" \",COUNTRY_INFO!A106))","v":"Ghana"},{"$f":"IF(INTRO!$E$39=\"Non-endemic\",\" \",IF(COUNTRY_INFO!B106=0,\" \",COUNTRY_INFO!B106))","v":"Eastern"},{"$f":"IF(INTRO!$E$39=\"Non-endemic\",\" \",IF(COUNTRY_INFO!C106=0,\" \",COUNTRY_INFO!C106))","v":"Suhum"},{"$f":"IF(INTRO!$E$39=\"Non-endemic\",0,IF(INTRO!$E$39=\"Endemic but PC is not required\",IF(COUNTRY_INFO!$H106=1,COUNTRY_INFO!F106+COUNTRY_INFO!G106,0),IF(COUNTRY_INFO!$H106=1,COUNTRY_INFO!F106+COUNTRY_INFO!G106,IF(COUNTRY_INFO!$I106=1,IF(COUNTRY_INFO!M106>=(COUNTRY_INFO!F106+COUNTRY_INFO!G106),COUNTRY_INFO!F106+COUNTRY_INFO!G106,COUNTRY_INFO!$M106),0))))","v":0},{"$f":"IF(AND(INTRO!$E$39=\"Non-endemic\",INTRO!$E$37=\"Non-endemic\"),\"Not required\",IF(INTRO!$E$39=\"Non-endemic\",\"Treat with DEC\",COUNTRY_INFO!P106))","v":0},{"$f":"IF(INTRO!$E$39<>\"Non-endemic\",COUNTRY_INFO!Q106,\"Not required\")","v":0},{"$f":"IF(COUNTRY_INFO!H106=1, IF($E106=1,$D106, 0),0)","v":0},{"$f":"IF(INTRO!$E$39<>\"Endemic\",0, IF(AND(COUNTRY_INFO!$I106=1,$F106<>0),IF(COUNTRY_INFO!M106>=(COUNTRY_INFO!F106+COUNTRY_INFO!G106),COUNTRY_INFO!F106+COUNTRY_INFO!G106,COUNTRY_INFO!$M106), 0))","v":0},null,0,0,0,0,0,null,0,0]
[{"$f":"IF(INTRO!$E$39=\"Non-endemic\",\" \",IF(COUNTRY_INFO!A107=0,\" \",COUNTRY_INFO!A107))","v":"Ghana"},{"$f":"IF(INTRO!$E$39=\"Non-endemic\",\" \",IF(COUNTRY_INFO!B107=0,\" \",COUNTRY_INFO!B107))","v":"Eastern"},{"$f":"IF(INTRO!$E$39=\"Non-endemic\",\" \",IF(COUNTRY_INFO!C107=0,\" \",COUNTRY_INFO!C107))","v":"Ayensuano"},{"$f":"IF(INTRO!$E$39=\"Non-endemic\",0,IF(INTRO!$E$39=\"Endemic but PC is not required\",IF(COUNTRY_INFO!$H107=1,COUNTRY_INFO!F107+COUNTRY_INFO!G107,0),IF(COUNTRY_INFO!$H107=1,COUNTRY_INFO!F107+COUNTRY_INFO!G107,IF(COUNTRY_INFO!$I107=1,IF(COUNTRY_INFO!M107>=(COUNTRY_INFO!F107+COUNTRY_INFO!G107),COUNTRY_INFO!F107+COUNTRY_INFO!G107,COUNTRY_INFO!$M107),0))))","v":0},{"$f":"IF(AND(INTRO!$E$39=\"Non-endemic\",INTRO!$E$37=\"Non-endemic\"),\"Not required\",IF(INTRO!$E$39=\"Non-endemic\",\"Treat with DEC\",COUNTRY_INFO!P107))","v":0},{"$f":"IF(INTRO!$E$39<>\"Non-endemic\",COUNTRY_INFO!Q107,\"Not required\")","v":0},{"$f":"IF(COUNTRY_INFO!H107=1, IF($E107=1,$D107, 0),0)","v":0},{"$f":"IF(INTRO!$E$39<>\"Endemic\",0, IF(AND(COUNTRY_INFO!$I107=1,$F107<>0),IF(COUNTRY_INFO!M107>=(COUNTRY_INFO!F107+COUNTRY_INFO!G107),COUNTRY_INFO!F107+COUNTRY_INFO!G107,COUNTRY_INFO!$M107), 0))","v":0},null,0,0,0,0,0,null,0,0]
[{"$f":"IF(INTRO!$E$39=\"Non-endemic\",\" \",IF(COUNTRY_INFO!A108=0,\" \",COUNTRY_INFO!A108))","v":"Ghana"},{"$f":"IF(INTRO!$E$39=\"Non-endemic\",\" \",IF(COUNTRY_INFO!B108=0,\" \",COUNTRY_INFO!B108))","v":"Eastern"},{"$f":"IF(INTRO!$E$39=\"Non-endemic\",\" \",IF(COUNTRY_INFO!C108=0,\" \",COUNTRY_INFO!C108))","v":"Upper Manya Krobo"},{"$f":"IF(INTRO!$E$39=\"Non-endemic\",0,IF(INTRO!$E$39=\"Endemic but PC is not required\",IF(COUNTRY_INFO!$H108=1,COUNTRY_INFO!F108+COUNTRY_INFO!G108,0),IF(COUNTRY_INFO!$H108=1,COUNTRY_INFO!F108+COUNTRY_INFO!G108,IF(COUNTRY_INFO!$I108=1,IF(COUNTRY_INFO!M108>=(COUNTRY_INFO!F108+COUNTRY_INFO!G108),COUNTRY_INFO!F108+COUNTRY_INFO!G108,COUNTRY_INFO!$M108),0))))","v":0},{"$f":"IF(AND(INTRO!$E$39=\"Non-endemic\",INTRO!$E$37=\"Non-endemic\"),\"Not required\",IF(INTRO!$E$39=\"Non-endemic\",\"Treat with DEC\",COUNTRY_INFO!P108))","v":0},{"$f":"IF(INTRO!$E$39<>\"Non-endemic\",COUNTRY_INFO!Q108,\"Not required\")","v":0},{"$f":"IF(COUNTRY_INFO!H108=1, IF($E108=1,$D108, 0),0)","v":0},{"$f":"IF(INTRO!$E$39<>\"Endemic\",0, IF(AND(COUNTRY_INFO!$I108=1,$F108<>0),IF(COUNTRY_INFO!M108>=(COUNTRY_INFO!F108+COUNTRY_INFO!G108),COUNTRY_INFO!F108+COUNTRY_INFO!G108,COUNTRY_INFO!$M108), 0))","v":0},null,0,0,0,0,0,null,0,0]
[{"$f":"IF(INTRO!$E$39=\"Non-endemic\",\" \",IF(COUNTRY_INFO!A109=0,\" \",COUNTRY_INFO!A109))","v":"Ghana"},{"$f":"IF(INTRO!$E$39=\"Non-endemic\",\" \",IF(COUNTRY_INFO!B109=0,\" \",COUNTRY_INFO!B109))","v":"Eastern"},{"$f":"IF(INTRO!$E$39=\"Non-endemic\",\" \",IF(COUNTRY_INFO!C109=0,\" \",COUNTRY_INFO!C109))","v":"Upper West Akim"},{"$f":"IF(INTRO!$E$39=\"Non-endemic\",0,IF(INTRO!$E$39=\"Endemic but PC is not required\",IF(COUNTRY_INFO!$H109=1,COUNTRY_INFO!F109+COUNTRY_INFO!G109,0),IF(COUNTRY_INFO!$H109=1,COUNTRY_INFO!F109+COUNTRY_INFO!G109,IF(COUNTRY_INFO!$I109=1,IF(COUNTRY_INFO!M109>=(COUNTRY_INFO!F109+COUNTRY_INFO!G109),COUNTRY_INFO!F109+COUNTRY_INFO!G109,COUNTRY_INFO!$M109),0))))","v":90703},{"$f":"IF(AND(INTRO!$E$39=\"Non-endemic\",INTRO!$E$37=\"Non-endemic\"),\"Not required\",IF(INTRO!$E$39=\"Non-endemic\",\"Treat with DEC\",COUNTRY_INFO!P109))","v":0},{"$f":"IF(INTRO!$E$39<>\"Non-endemic\",COUNTRY_INFO!Q109,\"Not required\")","v":2},{"$f":"IF(COUNTRY_INFO!H109=1, IF($E109=1,$D109, 0),0)","v":0},{"$f":"IF(INTRO!$E$39<>\"Endemic\",0, IF(AND(COUNTRY_INFO!$I109=1,$F109<>0),IF(COUNTRY_INFO!M109>=(COUNTRY_INFO!F109+COUNTRY_INFO!G109),COUNTRY_INFO!F109+COUNTRY_INFO!G109,COUNTRY_INFO!$M109), 0))","v":90703},null,90703,0,507936.8,0,507936.8,null,507936.8,1016]
[{"$f":"IF(INTRO!$E$39=\"Non-endemic\",\" \",IF(COUNTRY_INFO!A110=0,\" \",COUNTRY_INFO!A110))","v":"Ghana"},{"$f":"IF(INTRO!$E$39=\"Non-endemic\",\" \",IF(COUNTRY_INFO!B110=0,\" \",COUNTRY_INFO!B110))","v":"Eastern"},{"$f":"IF(INTRO!$E$39=\"Non-endemic\",\" \",IF(COUNTRY_INFO!C110=0,\" \",COUNTRY_INFO!C110))","v":"West Akim Municipal"},{"$f":"IF(INTRO!$E$39=\"Non-endemic\",0,IF(INTRO!$E$39=\"Endemic but PC is not required\",IF(COUNTRY_INFO!$H110=1,COUNTRY_INFO!F110+COUNTRY_INFO!G110,0),IF(COUNTRY_INFO!$H110=1,COUNTRY_INFO!F110+COUNTRY_INFO!G110,IF(COUNTRY_INFO!$I110=1,IF(COUNTRY_INFO!M110>=(COUNTRY_INFO!F110+COUNTRY_INFO!G110),COUNTRY_INFO!F110+COUNTRY_INFO!G110,COUNTRY_INFO!$M110),0))))","v":112842},{"$f":"IF(AND(INTRO!$E$39=\"Non-endemic\",INTRO!$E$37=\"Non-endemic\"),\"Not required\",IF(INTRO!$E$39=\"Non-endemic\",\"Treat with DEC\",COUNTRY_INFO!P110))","v":0},{"$f":"IF(INTRO!$E$39<>\"Non-endemic\",COUNTRY_INFO!Q110,\"Not required\")","v":2},{"$f":"IF(COUNTRY_INFO!H110=1, IF($E110=1,$D110, 0),0)","v":0},{"$f":"IF(INTRO!$E$39<>\"Endemic\",0, IF(AND(COUNTRY_INFO!$I110=1,$F110<>0),IF(COUNTRY_INFO!M110>=(COUNTRY_INFO!F110+COUNTRY_INFO!G110),COUNTRY_INFO!F110+COUNTRY_INFO!G110,COUNTRY_INFO!$M110), 0))","v":112842},null,112842,0,631915.19999999995,0,631915.19999999995,null,631915.19999999995,1264]
[{"$f":"IF(INTRO!$E$39=\"Non-endemic\",\" \",IF(COUNTRY_INFO!A111=0,\" \",COUNTRY_INFO!A111))","v":"Ghana"},{"$f":"IF(INTRO!$E$39=\"Non-endemic\",\" \",IF(COUNTRY_INFO!B111=0,\" \",COUNTRY_INFO!B111))","v":"Eastern"},{"$f":"IF(INTRO!$E$39=\"Non-endemic\",\" \",IF(COUNTRY_INFO!C111=0,\" \",COUNTRY_INFO!C111))","v":"Yilo Krobo"},{"$f":"IF(INTRO!$E$39=\"Non-endemic\",0,IF(INTRO!$E$39=\"Endemic but PC is not required\",IF(COUNTRY_INFO!$H111=1,COUNTRY_INFO!F111+COUNTRY_INFO!G111,0),IF(COUNTRY_INFO!$H111=1,COUNTRY_INFO!F111+COUNTRY_INFO!G111,IF(COUNTRY_INFO!$I111=1,IF(COUNTRY_INFO!M111>=(COUNTRY_INFO!F111+COUNTRY_INFO!G111),COUNTRY_INFO!F111+COUNTRY_INFO!G111,COUNTRY_INFO!$M111),0))))","v":91531},{"$f":"IF(AND(INTRO!$E$39=\"Non-endemic\",INTRO!$E$37=\"Non-endemic\"),\"Not required\",IF(INTRO!$E$39=\"Non-endemic\",\"Treat with DEC\",COUNTRY_INFO!P111))","v":0},{"$f":"IF(INTRO!$E$39<>\"Non-endemic\",COUNTRY_INFO!Q111,\"Not required\")","v":1},{"$f":"IF(COUNTRY_INFO!H111=1, IF($E111=1,$D111, 0),0)","v":0},{"$f":"IF(INTRO!$E$39<>\"Endemic\",0, IF(AND(COUNTRY_INFO!$I111=1,$F111<>0),IF(COUNTRY_INFO!M111>=(COUNTRY_INFO!F111+COUNTRY_INFO!G111),COUNTRY_INFO!F111+COUNTRY_INFO!G111,COUNTRY_INFO!$M111), 0))","v":91531},null,91531,0,256286.8,0,256286.8,null,256286.8,513]
[{"$f":"IF(INTRO!$E$39=\"Non-endemic\",\" \",IF(COUNTRY_INFO!A112=0,\" \",COUNTRY_INFO!A112))","v":"Ghana"},{"$f":"IF(INTRO!$E$39=\"Non-endemic\",\" \",IF(COUNTRY_INFO!B112=0,\" \",COUNTRY_INFO!B112))","v":"Greater Accra"},{"$f":"IF(INTRO!$E$39=\"Non-endemic\",\" \",IF(COUNTRY_INFO!C112=0,\" \",COUNTRY_INFO!C112))","v":"Accra Metro"},{"$f":"IF(INTRO!$E$39=\"Non-endemic\",0,IF(INTRO!$E$39=\"Endemic but PC is not required\",IF(COUNTRY_INFO!$H112=1,COUNTRY_INFO!F112+COUNTRY_INFO!G112,0),IF(COUNTRY_INFO!$H112=1,COUNTRY_INFO!F112+COUNTRY_INFO!G112,IF(COUNTRY_INFO!$I112=1,IF(COUNTRY_INFO!M112>=(COUNTRY_INFO!F112+COUNTRY_INFO!G112),COUNTRY_INFO!F112+COUNTRY_INFO!G112,COUNTRY_INFO!$M112),0))))","v":0},{"$f":"IF(AND(INTRO!$E$39=\"Non-endemic\",INTRO!$E$37=\"Non-endemic\"),\"Not required\",IF(INTRO!$E$39=\"Non-endemic\",\"Treat with DEC\",COUNTRY_INFO!P112))","v":0},{"$f":"IF(INTRO!$E$39<>\"Non-endemic\",COUNTRY_INFO!Q112,\"Not required\")","v":0},{"$f":"IF(COUNTRY_INFO!H112=1, IF($E112=1,$D112, 0),0)","v":0},{"$f":"IF(INTRO!$E$39<>\"Endemic\",0, IF(AND(COUNTRY_INFO!$I112=1,$F112<>0),IF(COUNTRY_INFO!M112>=(COUNTRY_INFO!F112+COUNTRY_INFO!G112),COUNTRY_INFO!F112+COUNTRY_INFO!G112,COUNTRY_INFO!$M112), 0))","v":0},null,0,0,0,0,0,null,0,0]
[{"$f":"IF(INTRO!$E$39=\"Non-endemic\",\" \",IF(COUNTRY_INFO!A113=0,\" \",COUNTRY_INFO!A113))","v":"Ghana"},{"$f":"IF(INTRO!$E$39=\"Non-endemic\",\" \",IF(COUNTRY_INFO!B113=0,\" \",COUNTRY_INFO!B113))","v":"Greater Accra"},{"$f":"IF(INTRO!$E$39=\"Non-endemic\",\" \",IF(COUNTRY_INFO!C113=0,\" \",COUNTRY_INFO!C113))","v":"La Dade-Kotopon"},{"$f":"IF(INTRO!$E$39=\"Non-endemic\",0,IF(INTRO!$E$39=\"Endemic but PC is not required\",IF(COUNTRY_INFO!$H113=1,COUNTRY_INFO!F113+COUNTRY_INFO!G113,0),IF(COUNTRY_INFO!$H113=1,COUNTRY_INFO!F113+COUNTRY_INFO!G113,IF(COUNTRY_INFO!$I113=1,IF(COUNTRY_INFO!M113>=(COUNTRY_INFO!F113+COUNTRY_INFO!G113),COUNTRY_INFO!F113+COUNTRY_INFO!G113,COUNTRY_INFO!$M113),0))))","v":0},{"$f":"IF(AND(INTRO!$E$39=\"Non-endemic\",INTRO!$E$37=\"Non-endemic\"),\"Not required\",IF(INTRO!$E$39=\"Non-endemic\",\"Treat with DEC\",COUNTRY_INFO!P113))","v":0},{"$f":"IF(INTRO!$E$39<>\"Non-endemic\",COUNTRY_INFO!Q113,\"Not required\")","v":0},{"$f":"IF(COUNTRY_INFO!H113=1, IF($E113=1,$D113, 0),0)","v":0},{"$f":"IF(INTRO!$E$39<>\"Endemic\",0, IF(AND(COUNTRY_INFO!$I113=1,$F113<>0),IF(COUNTRY_INFO!M113>=(COUNTRY_INFO!F113+COUNTRY_INFO!G113),COUNTRY_INFO!F113+COUNTRY_INFO!G113,COUNTRY_INFO!$M113), 0))","v":0},null,0,0,0,0,0,null,0,0]
[{"$f":"IF(INTRO!$E$39=\"Non-endemic\",\" \",IF(COUNTRY_INFO!A114=0,\" \",COUNTRY_INFO!A114))","v":"Ghana"},{"$f":"IF(INTRO!$E$39=\"Non-endemic\",\" \",IF(COUNTRY_INFO!B114=0,\" \",COUNTRY_INFO!B114))","v":"Greater Accra"},{"$f":"IF(INTRO!$E$39=\"Non-endemic\",\" \",IF(COUNTRY_INFO!C114=0,\" \",COUNTRY_INFO!C114))","v":"Adenta "},{"$f":"IF(INTRO!$E$39=\"Non-endemic\",0,IF(INTRO!$E$39=\"Endemic but PC is not required\",IF(COUNTRY_INFO!$H114=1,COUNTRY_INFO!F114+COUNTRY_INFO!G114,0),IF(COUNTRY_INFO!$H114=1,COUNTRY_INFO!F114+COUNTRY_INFO!G114,IF(COUNTRY_INFO!$I114=1,IF(COUNTRY_INFO!M114>=(COUNTRY_INFO!F114+COUNTRY_INFO!G114),COUNTRY_INFO!F114+COUNTRY_INFO!G114,COUNTRY_INFO!$M114),0))))","v":0},{"$f":"IF(AND(INTRO!$E$39=\"Non-endemic\",INTRO!$E$37=\"Non-endemic\"),\"Not required\",IF(INTRO!$E$39=\"Non-endemic\",\"Treat with DEC\",COUNTRY_INFO!P114))","v":0},{"$f":"IF(INTRO!$E$39<>\"Non-endemic\",COUNTRY_INFO!Q114,\"Not required\")","v":0},{"$f":"IF(COUNTRY_INFO!H114=1, IF($E114=1,$D114, 0),0)","v":0},{"$f":"IF(INTRO!$E$39<>\"Endemic\",0, IF(AND(COUNTRY_INFO!$I114=1,$F114<>0),IF(COUNTRY_INFO!M114>=(COUNTRY_INFO!F114+COUNTRY_INFO!G114),COUNTRY_INFO!F114+COUNTRY_INFO!G114,COUNTRY_INFO!$M114), 0))","v":0},null,0,0,0,0,0,null,0,0]
[{"$f":"IF(INTRO!$E$39=\"Non-endemic\",\" \",IF(COUNTRY_INFO!A115=0,\" \",COUNTRY_INFO!A115))","v":"Ghana"},{"$f":"IF(INTRO!$E$39=\"Non-endemic\",\" \",IF(COUNTRY_INFO!B115=0,\" \",COUNTRY_INFO!B115))","v":"Greater Accra"},{"$f":"IF(INTRO!$E$39=\"Non-endemic\",\" \",IF(COUNTRY_INFO!C115=0,\" \",COUNTRY_INFO!C115))","v":"Ashiaman"},{"$f":"IF(INTRO!$E$39=\"Non-endemic\",0,IF(INTRO!$E$39=\"Endemic but PC is not required\",IF(COUNTRY_INFO!$H115=1,COUNTRY_INFO!F115+COUNTRY_INFO!G115,0),IF(COUNTRY_INFO!$H115=1,COUNTRY_INFO!F115+COUNTRY_INFO!G115,IF(COUNTRY_INFO!$I115=1,IF(COUNTRY_INFO!M115>=(COUNTRY_INFO!F115+COUNTRY_INFO!G115),COUNTRY_INFO!F115+COUNTRY_INFO!G115,COUNTRY_INFO!$M115),0))))","v":0},{"$f":"IF(AND(INTRO!$E$39=\"Non-endemic\",INTRO!$E$37=\"Non-endemic\"),\"Not required\",IF(INTRO!$E$39=\"Non-endemic\",\"Treat with DEC\",COUNTRY_INFO!P115))","v":0},{"$f":"IF(INTRO!$E$39<>\"Non-endemic\",COUNTRY_INFO!Q115,\"Not required\")","v":0},{"$f":"IF(COUNTRY_INFO!H115=1, IF($E115=1,$D115, 0),0)","v":0},{"$f":"IF(INTRO!$E$39<>\"Endemic\",0, IF(AND(COUNTRY_INFO!$I115=1,$F115<>0),IF(COUNTRY_INFO!M115>=(COUNTRY_INFO!F115+COUNTRY_INFO!G115),COUNTRY_INFO!F115+COUNTRY_INFO!G115,COUNTRY_INFO!$M115), 0))","v":0},null,0,0,0,0,0,null,0,0]
[{"$f":"IF(INTRO!$E$39=\"Non-endemic\",\" \",IF(COUNTRY_INFO!A116=0,\" \",COUNTRY_INFO!A116))","v":"Ghana"},{"$f":"IF(INTRO!$E$39=\"Non-endemic\",\" \",IF(COUNTRY_INFO!B116=0,\" \",COUNTRY_INFO!B116))","v":"Greater Accra"},{"$f":"IF(INTRO!$E$39=\"Non-endemic\",\" \",IF(COUNTRY_INFO!C116=0,\" \",COUNTRY_INFO!C116))","v":"Ada East"},{"$f":"IF(INTRO!$E$39=\"Non-endemic\",0,IF(INTRO!$E$39=\"Endemic but PC is not required\",IF(COUNTRY_INFO!$H116=1,COUNTRY_INFO!F116+COUNTRY_INFO!G116,0),IF(COUNTRY_INFO!$H116=1,COUNTRY_INFO!F116+COUNTRY_INFO!G116,IF(COUNTRY_INFO!$I116=1,IF(COUNTRY_INFO!M116>=(COUNTRY_INFO!F116+COUNTRY_INFO!G116),COUNTRY_INFO!F116+COUNTRY_INFO!G116,COUNTRY_INFO!$M116),0))))","v":0},{"$f":"IF(AND(INTRO!$E$39=\"Non-endemic\",INTRO!$E$37=\"Non-endemic\"),\"Not required\",IF(INTRO!$E$39=\"Non-endemic\",\"Treat with DEC\",COUNTRY_INFO!P116))","v":0},{"$f":"IF(INTRO!$E$39<>\"Non-endemic\",COUNTRY_INFO!Q116,\"Not required\")","v":0},{"$f":"IF(COUNTRY_INFO!H116=1, IF($E116=1,$D116, 0),0)","v":0},{"$f":"IF(INTRO!$E$39<>\"Endemic\",0, IF(AND(COUNTRY_INFO!$I116=1,$F116<>0),IF(COUNTRY_INFO!M116>=(COUNTRY_INFO!F116+COUNTRY_INFO!G116),COUNTRY_INFO!F116+COUNTRY_INFO!G116,COUNTRY_INFO!$M116), 0))","v":0},null,0,0,0,0,0,null,0,0]
[{"$f":"IF(INTRO!$E$39=\"Non-endemic\",\" \",IF(COUNTRY_INFO!A117=0,\" \",COUNTRY_INFO!A117))","v":"Ghana"},{"$f":"IF(INTRO!$E$39=\"Non-endemic\",\" \",IF(COUNTRY_INFO!B117=0,\" \",COUNTRY_INFO!B117))","v":"Greater Accra"},{"$f":"IF(INTRO!$E$39=\"Non-endemic\",\" \",IF(COUNTRY_INFO!C117=0,\" \",COUNTRY_INFO!C117))","v":"Ada West"},{"$f":"IF(INTRO!$E$39=\"Non-endemic\",0,IF(INTRO!$E$39=\"Endemic but PC is not required\",IF(COUNTRY_INFO!$H117=1,COUNTRY_INFO!F117+COUNTRY_INFO!G117,0),IF(COUNTRY_INFO!$H117=1,COUNTRY_INFO!F117+COUNTRY_INFO!G117,IF(COUNTRY_INFO!$I117=1,IF(COUNTRY_INFO!M117>=(COUNTRY_INFO!F117+COUNTRY_INFO!G117),COUNTRY_INFO!F117+COUNTRY_INFO!G117,COUNTRY_INFO!$M117),0))))","v":0},{"$f":"IF(AND(INTRO!$E$39=\"Non-endemic\",INTRO!$E$37=\"Non-endemic\"),\"Not required\",IF(INTRO!$E$39=\"Non-endemic\",\"Treat with DEC\",COUNTRY_INFO!P117))","v":0},{"$f":"IF(INTRO!$E$39<>\"Non-endemic\",COUNTRY_INFO!Q117,\"Not required\")","v":0},{"$f":"IF(COUNTRY_INFO!H117=1, IF($E117=1,$D117, 0),0)","v":0},{"$f":"IF(INTRO!$E$39<>\"Endemic\",0, IF(AND(COUNTRY_INFO!$I117=1,$F117<>0),IF(COUNTRY_INFO!M117>=(COUNTRY_INFO!F117+COUNTRY_INFO!G117),COUNTRY_INFO!F117+COUNTRY_INFO!G117,COUNTRY_INFO!$M117), 0))","v":0},null,0,0,0,0,0,null,0,0]
[{"$f":"IF(INTRO!$E$39=\"Non-endemic\",\" \",IF(COUNTRY_INFO!A118=0,\" \",COUNTRY_INFO!A118))","v":"Ghana"},{"$f":"IF(INTRO!$E$39=\"Non-endemic\",\" \",IF(COUNTRY_INFO!B118=0,\" \",COUNTRY_INFO!B118))","v":"Greater Accra"},{"$f":"IF(INTRO!$E$39=\"Non-endemic\",\" \",IF(COUNTRY_INFO!C118=0,\" \",COUNTRY_INFO!C118))","v":"Shai Osudoku"},{"$f":"IF(INTRO!$E$39=\"Non-endemic\",0,IF(INTRO!$E$39=\"Endemic but PC is not required\",IF(COUNTRY_INFO!$H118=1,COUNTRY_INFO!F118+COUNTRY_INFO!G118,0),IF(COUNTRY_INFO!$H118=1,COUNTRY_INFO!F118+COUNTRY_INFO!G118,IF(COUNTRY_INFO!$I118=1,IF(COUNTRY_INFO!M118>=(COUNTRY_INFO!F118+COUNTRY_INFO!G118),COUNTRY_INFO!F118+COUNTRY_INFO!G118,COUNTRY_INFO!$M118),0))))","v":0},{"$f":"IF(AND(INTRO!$E$39=\"Non-endemic\",INTRO!$E$37=\"Non-endemic\"),\"Not required\",IF(INTRO!$E$39=\"Non-endemic\",\"Treat with DEC\",COUNTRY_INFO!P118))","v":0},{"$f":"IF(INTRO!$E$39<>\"Non-endemic\",COUNTRY_INFO!Q118,\"Not required\")","v":0},{"$f":"IF(COUNTRY_INFO!H118=1, IF($E118=1,$D118, 0),0)","v":0},{"$f":"IF(INTRO!$E$39<>\"Endemic\",0, IF(AND(COUNTRY_INFO!$I118=1,$F118<>0),IF(COUNTRY_INFO!M118>=(COUNTRY_INFO!F118+COUNTRY_INFO!G118),COUNTRY_INFO!F118+COUNTRY_INFO!G118,COUNTRY_INFO!$M118), 0))","v":0},null,0,0,0,0,0,null,0,0]
[{"$f":"IF(INTRO!$E$39=\"Non-endemic\",\" \",IF(COUNTRY_INFO!A119=0,\" \",COUNTRY_INFO!A119))","v":"Ghana"},{"$f":"IF(INTRO!$E$39=\"Non-endemic\",\" \",IF(COUNTRY_INFO!B119=0,\" \",COUNTRY_INFO!B119))","v":"Greater Accra"},{"$f":"IF(INTRO!$E$39=\"Non-endemic\",\" \",IF(COUNTRY_INFO!C119=0,\" \",COUNTRY_INFO!C119))","v":"Ningo Prampram"},{"$f":"IF(INTRO!$E$39=\"Non-endemic\",0,IF(INTRO!$E$39=\"Endemic but PC is not required\",IF(COUNTRY_INFO!$H119=1,COUNTRY_INFO!F119+COUNTRY_INFO!G119,0),IF(COUNTRY_INFO!$H119=1,COUNTRY_INFO!F119+COUNTRY_INFO!G119,IF(COUNTRY_INFO!$I119=1,IF(COUNTRY_INFO!M119>=(COUNTRY_INFO!F119+COUNTRY_INFO!G119),COUNTRY_INFO!F119+COUNTRY_INFO!G119,COUNTRY_INFO!$M119),0))))","v":0},{"$f":"IF(AND(INTRO!$E$39=\"Non-endemic\",INTRO!$E$37=\"Non-endemic\"),\"Not required\",IF(INTRO!$E$39=\"Non-endemic\",\"Treat with DEC\",COUNTRY_INFO!P119))","v":0},{"$f":"IF(INTRO!$E$39<>\"Non-endemic\",COUNTRY_INFO!Q119,\"Not required\")","v":0},{"$f":"IF(COUNTRY_INFO!H119=1, IF($E119=1,$D119, 0),0)","v":0},{"$f":"IF(INTRO!$E$39<>\"Endemic\",0, IF(AND(COUNTRY_INFO!$I119=1,$F119<>0),IF(COUNTRY_INFO!M119>=(COUNTRY_INFO!F119+COUNTRY_INFO!G119),COUNTRY_INFO!F119+COUNTRY_INFO!G119,COUNTRY_INFO!$M119), 0))","v":0},null,0,0,0,0,0,null,0,0]
[{"$f":"IF(INTRO!$E$39=\"Non-endemic\",\" \",IF(COUNTRY_INFO!A120=0,\" \",COUNTRY_INFO!A120))","v":"Ghana"},{"$f":"IF(INTRO!$E$39=\"Non-endemic\",\" \",IF(COUNTRY_INFO!B120=0,\" \",COUNTRY_INFO!B120))","v":"Greater Accra"},{"$f":"IF(INTRO!$E$39=\"Non-endemic\",\" \",IF(COUNTRY_INFO!C120=0,\" \",COUNTRY_INFO!C120))","v":"Ga East"},{"$f":"IF(INTRO!$E$39=\"Non-endemic\",0,IF(INTRO!$E$39=\"Endemic but PC is not required\",IF(COUNTRY_INFO!$H120=1,COUNTRY_INFO!F120+COUNTRY_INFO!G120,0),IF(COUNTRY_INFO!$H120=1,COUNTRY_INFO!F120+COUNTRY_INFO!G120,IF(COUNTRY_INFO!$I120=1,IF(COUNTRY_INFO!M120>=(COUNTRY_INFO!F120+COUNTRY_INFO!G120),COUNTRY_INFO!F120+COUNTRY_INFO!G120,COUNTRY_INFO!$M120),0))))","v":0},{"$f":"IF(AND(INTRO!$E$39=\"Non-endemic\",INTRO!$E$37=\"Non-endemic\"),\"Not required\",IF(INTRO!$E$39=\"Non-endemic\",\"Treat with DEC\",COUNTRY_INFO!P120))","v":0},{"$f":"IF(INTRO!$E$39<>\"Non-endemic\",COUNTRY_INFO!Q120,\"Not required\")","v":0},{"$f":"IF(COUNTRY_INFO!H120=1, IF($E120=1,$D120, 0),0)","v":0},{"$f":"IF(INTRO!$E$39<>\"Endemic\",0, IF(AND(COUNTRY_INFO!$I120=1,$F120<>0),IF(COUNTRY_INFO!M120>=(COUNTRY_INFO!F120+COUNTRY_INFO!G120),COUNTRY_INFO!F120+COUNTRY_INFO!G120,COUNTRY_INFO!$M120), 0))","v":0},null,0,0,0,0,0,null,0,0]
[{"$f":"IF(INTRO!$E$39=\"Non-endemic\",\" \",IF(COUNTRY_INFO!A121=0,\" \",COUNTRY_INFO!A121))","v":"Ghana"},{"$f":"IF(INTRO!$E$39=\"Non-endemic\",\" \",IF(COUNTRY_INFO!B121=0,\" \",COUNTRY_INFO!B121))","v":"Greater Accra"},{"$f":"IF(INTRO!$E$39=\"Non-endemic\",\" \",IF(COUNTRY_INFO!C121=0,\" \",COUNTRY_INFO!C121))","v":"La-Nkwantanang-Madina"},{"$f":"IF(INTRO!$E$39=\"Non-endemic\",0,IF(INTRO!$E$39=\"Endemic but PC is not required\",IF(COUNTRY_INFO!$H121=1,COUNTRY_INFO!F121+COUNTRY_INFO!G121,0),IF(COUNTRY_INFO!$H121=1,COUNTRY_INFO!F121+COUNTRY_INFO!G121,IF(COUNTRY_INFO!$I121=1,IF(COUNTRY_INFO!M121>=(COUNTRY_INFO!F121+COUNTRY_INFO!G121),COUNTRY_INFO!F121+COUNTRY_INFO!G121,COUNTRY_INFO!$M121),0))))","v":0},{"$f":"IF(AND(INTRO!$E$39=\"Non-endemic\",INTRO!$E$37=\"Non-endemic\"),\"Not required\",IF(INTRO!$E$39=\"Non-endemic\",\"Treat with DEC\",COUNTRY_INFO!P121))","v":0},{"$f":"IF(INTRO!$E$39<>\"Non-endemic\",COUNTRY_INFO!Q121,\"Not required\")","v":0},{"$f":"IF(COUNTRY_INFO!H121=1, IF($E121=1,$D121, 0),0)","v":0},{"$f":"IF(INTRO!$E$39<>\"Endemic\",0, IF(AND(COUNTRY_INFO!$I121=1,$F121<>0),IF(COUNTRY_INFO!M121>=(COUNTRY_INFO!F121+COUNTRY_INFO!G121),COUNTRY_INFO!F121+COUNTRY_INFO!G121,COUNTRY_INFO!$M121), 0))","v":0},null,0,0,0,0,0,null,0,0]
[{"$f":"IF(INTRO!$E$39=\"Non-endemic\",\" \",IF(COUNTRY_INFO!A122=0,\" \",COUNTRY_INFO!A122))","v":"Ghana"},{"$f":"IF(INTRO!$E$39=\"Non-endemic\",\" \",IF(COUNTRY_INFO!B122=0,\" \",COUNTRY_INFO!B122))","v":"Greater Accra"},{"$f":"IF(INTRO!$E$39=\"Non-endemic\",\" \",IF(COUNTRY_INFO!C122=0,\" \",COUNTRY_INFO!C122))","v":"Ga South"},{"$f":"IF(INTRO!$E$39=\"Non-endemic\",0,IF(INTRO!$E$39=\"Endemic but PC is not required\",IF(COUNTRY_INFO!$H122=1,COUNTRY_INFO!F122+COUNTRY_INFO!G122,0),IF(COUNTRY_INFO!$H122=1,COUNTRY_INFO!F122+COUNTRY_INFO!G122,IF(COUNTRY_INFO!$I122=1,IF(COUNTRY_INFO!M122>=(COUNTRY_INFO!F122+COUNTRY_INFO!G122),COUNTRY_INFO!F122+COUNTRY_INFO!G122,COUNTRY_INFO!$M122),0))))","v":0},{"$f":"IF(AND(INTRO!$E$39=\"Non-endemic\",INTRO!$E$37=\"Non-endemic\"),\"Not required\",IF(INTRO!$E$39=\"Non-endemic\",\"Treat with DEC\",COUNTRY_INFO!P122))","v":0},{"$f":"IF(INTRO!$E$39<>\"Non-endemic\",COUNTRY_INFO!Q122,\"Not required\")","v":0},{"$f":"IF(COUNTRY_INFO!H122=1, IF($E122=1,$D122, 0),0)","v":0},{"$f":"IF(INTRO!$E$39<>\"Endemic\",0, IF(AND(COUNTRY_INFO!$I122=1,$F122<>0),IF(COUNTRY_INFO!M122>=(COUNTRY_INFO!F122+COUNTRY_INFO!G122),COUNTRY_INFO!F122+COUNTRY_INFO!G122,COUNTRY_INFO!$M122), 0))","v":0},null,0,0,0,0,0,null,0,0]
[{"$f":"IF(INTRO!$E$39=\"Non-endemic\",\" \",IF(COUNTRY_INFO!A123=0,\" \",COUNTRY_INFO!A123))","v":"Ghana"},{"$f":"IF(INTRO!$E$39=\"Non-endemic\",\" \",IF(COUNTRY_INFO!B123=0,\" \",COUNTRY_INFO!B123))","v":"Greater Accra"},{"$f":"IF(INTRO!$E$39=\"Non-endemic\",\" \",IF(COUNTRY_INFO!C123=0,\" \",COUNTRY_INFO!C123))","v":"Ga Central"},{"$f":"IF(INTRO!$E$39=\"Non-endemic\",0,IF(INTRO!$E$39=\"Endemic but PC is not required\",IF(COUNTRY_INFO!$H123=1,COUNTRY_INFO!F123+COUNTRY_INFO!G123,0),IF(COUNTRY_INFO!$H123=1,COUNTRY_INFO!F123+COUNTRY_INFO!G123,IF(COUNTRY_INFO!$I123=1,IF(COUNTRY_INFO!M123>=(COUNTRY_INFO!F123+COUNTRY_INFO!G123),COUNTRY_INFO!F123+COUNTRY_INFO!G123,COUNTRY_INFO!$M123),0))))","v":0},{"$f":"IF(AND(INTRO!$E$39=\"Non-endemic\",INTRO!$E$37=\"Non-endemic\"),\"Not required\",IF(INTRO!$E$39=\"Non-endemic\",\"Treat with DEC\",COUNTRY_INFO!P123))","v":0},{"$f":"IF(INTRO!$E$39<>\"Non-endemic\",COUNTRY_INFO!Q123,\"Not required\")","v":0},{"$f":"IF(COUNTRY_INFO!H123=1, IF($E123=1,$D123, 0),0)","v":0},{"$f":"IF(INTRO!$E$39<>\"Endemic\",0, IF(AND(COUNTRY_INFO!$I123=1,$F123<>0),IF(COUNTRY_INFO!M123>=(COUNTRY_INFO!F123+COUNTRY_INFO!G123),COUNTRY_INFO!F123+COUNTRY_INFO!G123,COUNTRY_INFO!$M123), 0))","v":0},null,0,0,0,0,0,null,0,0]
[{"$f":"IF(INTRO!$E$39=\"Non-endemic\",\" \",IF(COUNTRY_INFO!A124=0,\" \",COUNTRY_INFO!A124))","v":"Ghana"},{"$f":"IF(INTRO!$E$39=\"Non-endemic\",\" \",IF(COUNTRY_INFO!B124=0,\" \",COUNTRY_INFO!B124))","v":"Greater Accra"},{"$f":"IF(INTRO!$E$39=\"Non-endemic\",\" \",IF(COUNTRY_INFO!C124=0,\" \",COUNTRY_INFO!C124))","v":"Ga West"},{"$f":"IF(INTRO!$E$39=\"Non-endemic\",0,IF(INTRO!$E$39=\"Endemic but PC is not required\",IF(COUNTRY_INFO!$H124=1,COUNTRY_INFO!F124+COUNTRY_INFO!G124,0),IF(COUNTRY_INFO!$H124=1,COUNTRY_INFO!F124+COUNTRY_INFO!G124,IF(COUNTRY_INFO!$I124=1,IF(COUNTRY_INFO!M124>=(COUNTRY_INFO!F124+COUNTRY_INFO!G124),COUNTRY_INFO!F124+COUNTRY_INFO!G124,COUNTRY_INFO!$M124),0))))","v":0},{"$f":"IF(AND(INTRO!$E$39=\"Non-endemic\",INTRO!$E$37=\"Non-endemic\"),\"Not required\",IF(INTRO!$E$39=\"Non-endemic\",\"Treat with DEC\",COUNTRY_INFO!P124))","v":0},{"$f":"IF(INTRO!$E$39<>\"Non-endemic\",COUNTRY_INFO!Q124,\"Not required\")","v":0},{"$f":"IF(COUNTRY_INFO!H124=1, IF($E124=1,$D124, 0),0)","v":0},{"$f":"IF(INTRO!$E$39<>\"Endemic\",0, IF(AND(COUNTRY_INFO!$I124=1,$F124<>0),IF(COUNTRY_INFO!M124>=(COUNTRY_INFO!F124+COUNTRY_INFO!G124),COUNTRY_INFO!F124+COUNTRY_INFO!G124,COUNTRY_INFO!$M124), 0))","v":0},null,0,0,0,0,0,null,0,0]
[{"$f":"IF(INTRO!$E$39=\"Non-endemic\",\" \",IF(COUNTRY_INFO!A125=0,\" \",COUNTRY_INFO!A125))","v":"Ghana"},{"$f":"IF(INTRO!$E$39=\"Non-endemic\",\" \",IF(COUNTRY_INFO!B125=0,\" \",COUNTRY_INFO!B125))","v":"Greater Accra"},{"$f":"IF(INTRO!$E$39=\"Non-endemic\",\" \",IF(COUNTRY_INFO!C125=0,\" \",COUNTRY_INFO!C125))","v":"Ledzokuku-Krowor"},{"$f":"IF(INTRO!$E$39=\"Non-endemic\",0,IF(INTRO!$E$39=\"Endemic but PC is not required\",IF(COUNTRY_INFO!$H125=1,COUNTRY_INFO!F125+COUNTRY_INFO!G125,0),IF(COUNTRY_INFO!$H125=1,COUNTRY_INFO!F125+COUNTRY_INFO!G125,IF(COUNTRY_INFO!$I125=1,IF(COUNTRY_INFO!M125>=(COUNTRY_INFO!F125+COUNTRY_INFO!G125),COUNTRY_INFO!F125+COUNTRY_INFO!G125,COUNTRY_INFO!$M125),0))))","v":0},{"$f":"IF(AND(INTRO!$E$39=\"Non-endemic\",INTRO!$E$37=\"Non-endemic\"),\"Not required\",IF(INTRO!$E$39=\"Non-endemic\",\"Treat with DEC\",COUNTRY_INFO!P125))","v":0},{"$f":"IF(INTRO!$E$39<>\"Non-endemic\",COUNTRY_INFO!Q125,\"Not required\")","v":0},{"$f":"IF(COUNTRY_INFO!H125=1, IF($E125=1,$D125, 0),0)","v":0},{"$f":"IF(INTRO!$E$39<>\"Endemic\",0, IF(AND(COUNTRY_INFO!$I125=1,$F125<>0),IF(COUNTRY_INFO!M125>=(COUNTRY_INFO!F125+COUNTRY_INFO!G125),COUNTRY_INFO!F125+COUNTRY_INFO!G125,COUNTRY_INFO!$M125), 0))","v":0},null,0,0,0,0,0,null,0,0]
[{"$f":"IF(INTRO!$E$39=\"Non-endemic\",\" \",IF(COUNTRY_INFO!A126=0,\" \",COUNTRY_INFO!A126))","v":"Ghana"},{"$f":"IF(INTRO!$E$39=\"Non-endemic\",\" \",IF(COUNTRY_INFO!B126=0,\" \",COUNTRY_INFO!B126))","v":"Greater Accra"},{"$f":"IF(INTRO!$E$39=\"Non-endemic\",\" \",IF(COUNTRY_INFO!C126=0,\" \",COUNTRY_INFO!C126))","v":"Tema"},{"$f":"IF(INTRO!$E$39=\"Non-endemic\",0,IF(INTRO!$E$39=\"Endemic but PC is not required\",IF(COUNTRY_INFO!$H126=1,COUNTRY_INFO!F126+COUNTRY_INFO!G126,0),IF(COUNTRY_INFO!$H126=1,COUNTRY_INFO!F126+COUNTRY_INFO!G126,IF(COUNTRY_INFO!$I126=1,IF(COUNTRY_INFO!M126>=(COUNTRY_INFO!F126+COUNTRY_INFO!G126),COUNTRY_INFO!F126+COUNTRY_INFO!G126,COUNTRY_INFO!$M126),0))))","v":0},{"$f":"IF(AND(INTRO!$E$39=\"Non-endemic\",INTRO!$E$37=\"Non-endemic\"),\"Not required\",IF(INTRO!$E$39=\"Non-endemic\",\"Treat with DEC\",COUNTRY_INFO!P126))","v":0},{"$f":"IF(INTRO!$E$39<>\"Non-endemic\",COUNTRY_INFO!Q126,\"Not required\")","v":0},{"$f":"IF(COUNTRY_INFO!H126=1, IF($E126=1,$D126, 0),0)","v":0},{"$f":"IF(INTRO!$E$39<>\"Endemic\",0, IF(AND(COUNTRY_INFO!$I126=1,$F126<>0),IF(COUNTRY_INFO!M126>=(COUNTRY_INFO!F126+COUNTRY_INFO!G126),COUNTRY_INFO!F126+COUNTRY_INFO!G126,COUNTRY_INFO!$M126), 0))","v":0},null,0,0,0,0,0,null,0,0]
[{"$f":"IF(INTRO!$E$39=\"Non-endemic\",\" \",IF(COUNTRY_INFO!A127=0,\" \",COUNTRY_INFO!A127))","v":"Ghana"},{"$f":"IF(INTRO!$E$39=\"Non-endemic\",\" \",IF(COUNTRY_INFO!B127=0,\" \",COUNTRY_INFO!B127))","v":"Greater Accra"},{"$f":"IF(INTRO!$E$39=\"Non-endemic\",\" \",IF(COUNTRY_INFO!C127=0,\" \",COUNTRY_INFO!C127))","v":"Kpone Katamanso"},{"$f":"IF(INTRO!$E$39=\"Non-endemic\",0,IF(INTRO!$E$39=\"Endemic but PC is not required\",IF(COUNTRY_INFO!$H127=1,COUNTRY_INFO!F127+COUNTRY_INFO!G127,0),IF(COUNTRY_INFO!$H127=1,COUNTRY_INFO!F127+COUNTRY_INFO!G127,IF(COUNTRY_INFO!$I127=1,IF(COUNTRY_INFO!M127>=(COUNTRY_INFO!F127+COUNTRY_INFO!G127),COUNTRY_INFO!F127+COUNTRY_INFO!G127,COUNTRY_INFO!$M127),0))))","v":0},{"$f":"IF(AND(INTRO!$E$39=\"Non-endemic\",INTRO!$E$37=\"Non-endemic\"),\"Not required\",IF(INTRO!$E$39=\"Non-endemic\",\"Treat with DEC\",COUNTRY_INFO!P127))","v":0},{"$f":"IF(INTRO!$E$39<>\"Non-endemic\",COUNTRY_INFO!Q127,\"Not required\")","v":0},{"$f":"IF(COUNTRY_INFO!H127=1, IF($E127=1,$D127, 0),0)","v":0},{"$f":"IF(INTRO!$E$39<>\"Endemic\",0, IF(AND(COUNTRY_INFO!$I127=1,$F127<>0),IF(COUNTRY_INFO!M127>=(COUNTRY_INFO!F127+COUNTRY_INFO!G127),COUNTRY_INFO!F127+COUNTRY_INFO!G127,COUNTRY_INFO!$M127), 0))","v":0},null,0,0,0,0,0,null,0,0]
[{"$f":"IF(INTRO!$E$39=\"Non-endemic\",\" \",IF(COUNTRY_INFO!A128=0,\" \",COUNTRY_INFO!A128))","v":"Ghana"},{"$f":"IF(INTRO!$E$39=\"Non-endemic\",\" \",IF(COUNTRY_INFO!B128=0,\" \",COUNTRY_INFO!B128))","v":"Northern"},{"$f":"IF(INTRO!$E$39=\"Non-endemic\",\" \",IF(COUNTRY_INFO!C128=0,\" \",COUNTRY_INFO!C128))","v":"Bole"},{"$f":"IF(INTRO!$E$39=\"Non-endemic\",0,IF(INTRO!$E$39=\"Endemic but PC is not required\",IF(COUNTRY_INFO!$H128=1,COUNTRY_INFO!F128+COUNTRY_INFO!G128,0),IF(COUNTRY_INFO!$H128=1,COUNTRY_INFO!F128+COUNTRY_INFO!G128,IF(COUNTRY_INFO!$I128=1,IF(COUNTRY_INFO!M128>=(COUNTRY_INFO!F128+COUNTRY_INFO!G128),COUNTRY_INFO!F128+COUNTRY_INFO!G128,COUNTRY_INFO!$M128),0))))","v":68313},{"$f":"IF(AND(INTRO!$E$39=\"Non-endemic\",INTRO!$E$37=\"Non-endemic\"),\"Not required\",IF(INTRO!$E$39=\"Non-endemic\",\"Treat with DEC\",COUNTRY_INFO!P128))","v":1},{"$f":"IF(INTRO!$E$39<>\"Non-endemic\",COUNTRY_INFO!Q128,\"Not required\")","v":2},{"$f":"IF(COUNTRY_INFO!H128=1, IF($E128=1,$D128, 0),0)","v":68313},{"$f":"IF(INTRO!$E$39<>\"Endemic\",0, IF(AND(COUNTRY_INFO!$I128=1,$F128<>0),IF(COUNTRY_INFO!M128>=(COUNTRY_INFO!F128+COUNTRY_INFO!G128),COUNTRY_INFO!F128+COUNTRY_INFO!G128,COUNTRY_INFO!$M128), 0))","v":68313},null,68313,0,191276.4,191276.4,382552.8,null,382552.8,766]
[{"$f":"IF(INTRO!$E$39=\"Non-endemic\",\" \",IF(COUNTRY_INFO!A129=0,\" \",COUNTRY_INFO!A129))","v":"Ghana"},{"$f":"IF(INTRO!$E$39=\"Non-endemic\",\" \",IF(COUNTRY_INFO!B129=0,\" \",COUNTRY_INFO!B129))","v":"Northern"},{"$f":"IF(INTRO!$E$39=\"Non-endemic\",\" \",IF(COUNTRY_INFO!C129=0,\" \",COUNTRY_INFO!C129))","v":"Bunkpurugu-Yunyuo"},{"$f":"IF(INTRO!$E$39=\"Non-endemic\",0,IF(INTRO!$E$39=\"Endemic but PC is not required\",IF(COUNTRY_INFO!$H129=1,COUNTRY_INFO!F129+COUNTRY_INFO!G129,0),IF(COUNTRY_INFO!$H129=1,COUNTRY_INFO!F129+COUNTRY_INFO!G129,IF(COUNTRY_INFO!$I129=1,IF(COUNTRY_INFO!M129>=(COUNTRY_INFO!F129+COUNTRY_INFO!G129),COUNTRY_INFO!F129+COUNTRY_INFO!G129,COUNTRY_INFO!$M129),0))))","v":0},{"$f":"IF(AND(INTRO!$E$39=\"Non-endemic\",INTRO!$E$37=\"Non-endemic\"),\"Not required\",IF(INTRO!$E$39=\"Non-endemic\",\"Treat with DEC\",COUNTRY_INFO!P129))","v":0},{"$f":"IF(INTRO!$E$39<>\"Non-endemic\",COUNTRY_INFO!Q129,\"Not required\")","v":0},{"$f":"IF(COUNTRY_INFO!H129=1, IF($E129=1,$D129, 0),0)","v":0},{"$f":"IF(INTRO!$E$39<>\"Endemic\",0, IF(AND(COUNTRY_INFO!$I129=1,$F129<>0),IF(COUNTRY_INFO!M129>=(COUNTRY_INFO!F129+COUNTRY_INFO!G129),COUNTRY_INFO!F129+COUNTRY_INFO!G129,COUNTRY_INFO!$M129), 0))","v":0},null,0,0,0,0,0,null,0,0]
[{"$f":"IF(INTRO!$E$39=\"Non-endemic\",\" \",IF(COUNTRY_INFO!A130=0,\" \",COUNTRY_INFO!A130))","v":"Ghana"},{"$f":"IF(INTRO!$E$39=\"Non-endemic\",\" \",IF(COUNTRY_INFO!B130=0,\" \",COUNTRY_INFO!B130))","v":"Northern"},{"$f":"IF(INTRO!$E$39=\"Non-endemic\",\" \",IF(COUNTRY_INFO!C130=0,\" \",COUNTRY_INFO!C130))","v":"Central Gonja"},{"$f":"IF(INTRO!$E$39=\"Non-endemic\",0,IF(INTRO!$E$39=\"Endemic but PC is not required\",IF(COUNTRY_INFO!$H130=1,COUNTRY_INFO!F130+COUNTRY_INFO!G130,0),IF(COUNTRY_INFO!$H130=1,COUNTRY_INFO!F130+COUNTRY_INFO!G130,IF(COUNTRY_INFO!$I130=1,IF(COUNTRY_INFO!M130>=(COUNTRY_INFO!F130+COUNTRY_INFO!G130),COUNTRY_INFO!F130+COUNTRY_INFO!G130,COUNTRY_INFO!$M130),0))))","v":0},{"$f":"IF(AND(INTRO!$E$39=\"Non-endemic\",INTRO!$E$37=\"Non-endemic\"),\"Not required\",IF(INTRO!$E$39=\"Non-endemic\",\"Treat with DEC\",COUNTRY_INFO!P130))","v":0},{"$f":"IF(INTRO!$E$39<>\"Non-endemic\",COUNTRY_INFO!Q130,\"Not required\")","v":0},{"$f":"IF(COUNTRY_INFO!H130=1, IF($E130=1,$D130, 0),0)","v":0},{"$f":"IF(INTRO!$E$39<>\"Endemic\",0, IF(AND(COUNTRY_INFO!$I130=1,$F130<>0),IF(COUNTRY_INFO!M130>=(COUNTRY_INFO!F130+COUNTRY_INFO!G130),COUNTRY_INFO!F130+COUNTRY_INFO!G130,COUNTRY_INFO!$M130), 0))","v":0},null,0,0,0,0,0,null,0,0]
[{"$f":"IF(INTRO!$E$39=\"Non-endemic\",\" \",IF(COUNTRY_INFO!A131=0,\" \",COUNTRY_INFO!A131))","v":"Ghana"},{"$f":"IF(INTRO!$E$39=\"Non-endemic\",\" \",IF(COUNTRY_INFO!B131=0,\" \",COUNTRY_INFO!B131))","v":"Northern"},{"$f":"IF(INTRO!$E$39=\"Non-endemic\",\" \",IF(COUNTRY_INFO!C131=0,\" \",COUNTRY_INFO!C131))","v":"Chereponi"},{"$f":"IF(INTRO!$E$39=\"Non-endemic\",0,IF(INTRO!$E$39=\"Endemic but PC is not required\",IF(COUNTRY_INFO!$H131=1,COUNTRY_INFO!F131+COUNTRY_INFO!G131,0),IF(COUNTRY_INFO!$H131=1,COUNTRY_INFO!F131+COUNTRY_INFO!G131,IF(COUNTRY_INFO!$I131=1,IF(COUNTRY_INFO!M131>=(COUNTRY_INFO!F131+COUNTRY_INFO!G131),COUNTRY_INFO!F131+COUNTRY_INFO!G131,COUNTRY_INFO!$M131),0))))","v":0},{"$f":"IF(AND(INTRO!$E$39=\"Non-endemic\",INTRO!$E$37=\"Non-endemic\"),\"Not required\",IF(INTRO!$E$39=\"Non-endemic\",\"Treat with DEC\",COUNTRY_INFO!P131))","v":0},{"$f":"IF(INTRO!$E$39<>\"Non-endemic\",COUNTRY_INFO!Q131,\"Not required\")","v":0},{"$f":"IF(COUNTRY_INFO!H131=1, IF($E131=1,$D131, 0),0)","v":0},{"$f":"IF(INTRO!$E$39<>\"Endemic\",0, IF(AND(COUNTRY_INFO!$I131=1,$F131<>0),IF(COUNTRY_INFO!M131>=(COUNTRY_INFO!F131+COUNTRY_INFO!G131),COUNTRY_INFO!F131+COUNTRY_INFO!G131,COUNTRY_INFO!$M131), 0))","v":0},null,0,0,0,0,0,null,0,0]
[{"$f":"IF(INTRO!$E$39=\"Non-endemic\",\" \",IF(COUNTRY_INFO!A132=0,\" \",COUNTRY_INFO!A132))","v":"Ghana"},{"$f":"IF(INTRO!$E$39=\"Non-endemic\",\" \",IF(COUNTRY_INFO!B132=0,\" \",COUNTRY_INFO!B132))","v":"Northern"},{"$f":"IF(INTRO!$E$39=\"Non-endemic\",\" \",IF(COUNTRY_INFO!C132=0,\" \",COUNTRY_INFO!C132))","v":"East Gonja"},{"$f":"IF(INTRO!$E$39=\"Non-endemic\",0,IF(INTRO!$E$39=\"Endemic but PC is not required\",IF(COUNTRY_INFO!$H132=1,COUNTRY_INFO!F132+COUNTRY_INFO!G132,0),IF(COUNTRY_INFO!$H132=1,COUNTRY_INFO!F132+COUNTRY_INFO!G132,IF(COUNTRY_INFO!$I132=1,IF(COUNTRY_INFO!M132>=(COUNTRY_INFO!F132+COUNTRY_INFO!G132),COUNTRY_INFO!F132+COUNTRY_INFO!G132,COUNTRY_INFO!$M132),0))))","v":66224},{"$f":"IF(AND(INTRO!$E$39=\"Non-endemic\",INTRO!$E$37=\"Non-endemic\"),\"Not required\",IF(INTRO!$E$39=\"Non-endemic\",\"Treat with DEC\",COUNTRY_INFO!P132))","v":0},{"$f":"IF(INTRO!$E$39<>\"Non-endemic\",COUNTRY_INFO!Q132,\"Not required\")","v":2},{"$f":"IF(COUNTRY_INFO!H132=1, IF($E132=1,$D132, 0),0)","v":0},{"$f":"IF(INTRO!$E$39<>\"Endemic\",0, IF(AND(COUNTRY_INFO!$I132=1,$F132<>0),IF(COUNTRY_INFO!M132>=(COUNTRY_INFO!F132+COUNTRY_INFO!G132),COUNTRY_INFO!F132+COUNTRY_INFO!G132,COUNTRY_INFO!$M132), 0))","v":66224},null,66224,0,370854.39999999997,0,370854.39999999997,null,370854.39999999997,742]
[{"$f":"IF(INTRO!$E$39=\"Non-endemic\",\" \",IF(COUNTRY_INFO!A133=0,\" \",COUNTRY_INFO!A133))","v":"Ghana"},{"$f":"IF(INTRO!$E$39=\"Non-endemic\",\" \",IF(COUNTRY_INFO!B133=0,\" \",COUNTRY_INFO!B133))","v":"Northern"},{"$f":"IF(INTRO!$E$39=\"Non-endemic\",\" \",IF(COUNTRY_INFO!C133=0,\" \",COUNTRY_INFO!C133))","v":"East Mamprusi"},{"$f":"IF(INTRO!$E$39=\"Non-endemic\",0,IF(INTRO!$E$39=\"Endemic but PC is not required\",IF(COUNTRY_INFO!$H133=1,COUNTRY_INFO!F133+COUNTRY_INFO!G133,0),IF(COUNTRY_INFO!$H133=1,COUNTRY_INFO!F133+COUNTRY_INFO!G133,IF(COUNTRY_INFO!$I133=1,IF(COUNTRY_INFO!M133>=(COUNTRY_INFO!F133+COUNTRY_INFO!G133),COUNTRY_INFO!F133+COUNTRY_INFO!G133,COUNTRY_INFO!$M133),0))))","v":0},{"$f":"IF(AND(INTRO!$E$39=\"Non-endemic\",INTRO!$E$37=\"Non-endemic\"),\"Not required\",IF(INTRO!$E$39=\"Non-endemic\",\"Treat with DEC\",COUNTRY_INFO!P133))","v":0},{"$f":"IF(INTRO!$E$39<>\"Non-endemic\",COUNTRY_INFO!Q133,\"Not required\")","v":0},{"$f":"IF(COUNTRY_INFO!H133=1, IF($E133=1,$D133, 0),0)","v":0},{"$f":"IF(INTRO!$E$39<>\"Endemic\",0, IF(AND(COUNTRY_INFO!$I133=1,$F133<>0),IF(COUNTRY_INFO!M133>=(COUNTRY_INFO!F133+COUNTRY_INFO!G133),COUNTRY_INFO!F133+COUNTRY_INFO!G133,COUNTRY_INFO!$M133), 0))","v":0},null,0,0,0,0,0,null,0,0]
[{"$f":"IF(INTRO!$E$39=\"Non-endemic\",\" \",IF(COUNTRY_INFO!A134=0,\" \",COUNTRY_INFO!A134))","v":"Ghana"},{"$f":"IF(INTRO!$E$39=\"Non-endemic\",\" \",IF(COUNTRY_INFO!B134=0,\" \",COUNTRY_INFO!B134))","v":"Northern"},{"$f":"IF(INTRO!$E$39=\"Non-endemic\",\" \",IF(COUNTRY_INFO!C134=0,\" \",COUNTRY_INFO!C134))","v":"Gushiegu"},{"$f":"IF(INTRO!$E$39=\"Non-endemic\",0,IF(INTRO!$E$39=\"Endemic but PC is not required\",IF(COUNTRY_INFO!$H134=1,COUNTRY_INFO!F134+COUNTRY_INFO!G134,0),IF(COUNTRY_INFO!$H134=1,COUNTRY_INFO!F134+COUNTRY_INFO!G134,IF(COUNTRY_INFO!$I134=1,IF(COUNTRY_INFO!M134>=(COUNTRY_INFO!F134+COUNTRY_INFO!G134),COUNTRY_INFO!F134+COUNTRY_INFO!G134,COUNTRY_INFO!$M134),0))))","v":0},{"$f":"IF(AND(INTRO!$E$39=\"Non-endemic\",INTRO!$E$37=\"Non-endemic\"),\"Not required\",IF(INTRO!$E$39=\"Non-endemic\",\"Treat with DEC\",COUNTRY_INFO!P134))","v":0},{"$f":"IF(INTRO!$E$39<>\"Non-endemic\",COUNTRY_INFO!Q134,\"Not required\")","v":0},{"$f":"IF(COUNTRY_INFO!H134=1, IF($E134=1,$D134, 0),0)","v":0},{"$f":"IF(INTRO!$E$39<>\"Endemic\",0, IF(AND(COUNTRY_INFO!$I134=1,$F134<>0),IF(COUNTRY_INFO!M134>=(COUNTRY_INFO!F134+COUNTRY_INFO!G134),COUNTRY_INFO!F134+COUNTRY_INFO!G134,COUNTRY_INFO!$M134), 0))","v":0},null,0,0,0,0,0,null,0,0]
[{"$f":"IF(INTRO!$E$39=\"Non-endemic\",\" \",IF(COUNTRY_INFO!A135=0,\" \",COUNTRY_INFO!A135))","v":"Ghana"},{"$f":"IF(INTRO!$E$39=\"Non-endemic\",\" \",IF(COUNTRY_INFO!B135=0,\" \",COUNTRY_INFO!B135))","v":"Northern"},{"$f":"IF(INTRO!$E$39=\"Non-endemic\",\" \",IF(COUNTRY_INFO!C135=0,\" \",COUNTRY_INFO!C135))","v":"Karaga"},{"$f":"IF(INTRO!$E$39=\"Non-endemic\",0,IF(INTRO!$E$39=\"Endemic but PC is not required\",IF(COUNTRY_INFO!$H135=1,COUNTRY_INFO!F135+COUNTRY_INFO!G135,0),IF(COUNTRY_INFO!$H135=1,COUNTRY_INFO!F135+COUNTRY_INFO!G135,IF(COUNTRY_INFO!$I135=1,IF(COUNTRY_INFO!M135>=(COUNTRY_INFO!F135+COUNTRY_INFO!G135),COUNTRY_INFO!F135+COUNTRY_INFO!G135,COUNTRY_INFO!$M135),0))))","v":0},{"$f":"IF(AND(INTRO!$E$39=\"Non-endemic\",INTRO!$E$37=\"Non-endemic\"),\"Not required\",IF(INTRO!$E$39=\"Non-endemic\",\"Treat with DEC\",COUNTRY_INFO!P135))","v":0},{"$f":"IF(INTRO!$E$39<>\"Non-endemic\",COUNTRY_INFO!Q135,\"Not required\")","v":0},{"$f":"IF(COUNTRY_INFO!H135=1, IF($E135=1,$D135, 0),0)","v":0},{"$f":"IF(INTRO!$E$39<>\"Endemic\",0, IF(AND(COUNTRY_INFO!$I135=1,$F135<>0),IF(COUNTRY_INFO!M135>=(COUNTRY_INFO!F135+COUNTRY_INFO!G135),COUNTRY_INFO!F135+COUNTRY_INFO!G135,COUNTRY_INFO!$M135), 0))","v":0},null,0,0,0,0,0,null,0,0]
[{"$f":"IF(INTRO!$E$39=\"Non-endemic\",\" \",IF(COUNTRY_INFO!A136=0,\" \",COUNTRY_INFO!A136))","v":"Ghana"},{"$f":"IF(INTRO!$E$39=\"Non-endemic\",\" \",IF(COUNTRY_INFO!B136=0,\" \",COUNTRY_INFO!B136))","v":"Northern"},{"$f":"IF(INTRO!$E$39=\"Non-endemic\",\" \",IF(COUNTRY_INFO!C136=0,\" \",COUNTRY_INFO!C136))","v":"Kpandai"},{"$f":"IF(INTRO!$E$39=\"Non-endemic\",0,IF(INTRO!$E$39=\"Endemic but PC is not required\",IF(COUNTRY_INFO!$H136=1,COUNTRY_INFO!F136+COUNTRY_INFO!G136,0),IF(COUNTRY_INFO!$H136=1,COUNTRY_INFO!F136+COUNTRY_INFO!G136,IF(COUNTRY_INFO!$I136=1,IF(COUNTRY_INFO!M136>=(COUNTRY_INFO!F136+COUNTRY_INFO!G136),COUNTRY_INFO!F136+COUNTRY_INFO!G136,COUNTRY_INFO!$M136),0))))","v":120686},{"$f":"IF(AND(INTRO!$E$39=\"Non-endemic\",INTRO!$E$37=\"Non-endemic\"),\"Not required\",IF(INTRO!$E$39=\"Non-endemic\",\"Treat with DEC\",COUNTRY_INFO!P136))","v":0},{"$f":"IF(INTRO!$E$39<>\"Non-endemic\",COUNTRY_INFO!Q136,\"Not required\")","v":2},{"$f":"IF(COUNTRY_INFO!H136=1, IF($E136=1,$D136, 0),0)","v":0},{"$f":"IF(INTRO!$E$39<>\"Endemic\",0, IF(AND(COUNTRY_INFO!$I136=1,$F136<>0),IF(COUNTRY_INFO!M136>=(COUNTRY_INFO!F136+COUNTRY_INFO!G136),COUNTRY_INFO!F136+COUNTRY_INFO!G136,COUNTRY_INFO!$M136), 0))","v":120686},null,120686,0,675841.6,0,675841.6,null,675841.6,1352]
[{"$f":"IF(INTRO!$E$39=\"Non-endemic\",\" \",IF(COUNTRY_INFO!A137=0,\" \",COUNTRY_INFO!A137))","v":"Ghana"},{"$f":"IF(INTRO!$E$39=\"Non-endemic\",\" \",IF(COUNTRY_INFO!B137=0,\" \",COUNTRY_INFO!B137))","v":"Northern"},{"$f":"IF(INTRO!$E$39=\"Non-endemic\",\" \",IF(COUNTRY_INFO!C137=0,\" \",COUNTRY_INFO!C137))","v":"Nanumba North"},{"$f":"IF(INTRO!$E$39=\"Non-endemic\",0,IF(INTRO!$E$39=\"Endemic but PC is not required\",IF(COUNTRY_INFO!$H137=1,COUNTRY_INFO!F137+COUNTRY_INFO!G137,0),IF(COUNTRY_INFO!$H137=1,COUNTRY_INFO!F137+COUNTRY_INFO!G137,IF(COUNTRY_INFO!$I137=1,IF(COUNTRY_INFO!M137>=(COUNTRY_INFO!F137+COUNTRY_INFO!G137),COUNTRY_INFO!F137+COUNTRY_INFO!G137,COUNTRY_INFO!$M137),0))))","v":50601},{"$f":"IF(AND(INTRO!$E$39=\"Non-endemic\",INTRO!$E$37=\"Non-endemic\"),\"Not required\",IF(INTRO!$E$39=\"Non-endemic\",\"Treat with DEC\",COUNTRY_INFO!P137))","v":0},{"$f":"IF(INTRO!$E$39<>\"Non-endemic\",COUNTRY_INFO!Q137,\"Not required\")","v":2},{"$f":"IF(COUNTRY_INFO!H137=1, IF($E137=1,$D137, 0),0)","v":0},{"$f":"IF(INTRO!$E$39<>\"Endemic\",0, IF(AND(COUNTRY_INFO!$I137=1,$F137<>0),IF(COUNTRY_INFO!M137>=(COUNTRY_INFO!F137+COUNTRY_INFO!G137),COUNTRY_INFO!F137+COUNTRY_INFO!G137,COUNTRY_INFO!$M137), 0))","v":50601},null,{"$f":"IF(I137=0,H137,IF(I137>H137,H137,I137))","v":50601},{"$f":"IF(G137<J137,0,IF($E137=1, (G137-J137)*2.8, 0))","v":0},{"$f":"IF($E137<$F137, J137*(F137-E137)*2.8, 0)","v":283365.59999999998},{"$f":"IF(AND($E137=1, $F137<>0), J137*2.8, 0)","v":0},{"$f":"SUM(K137:M137)","v":283365.59999999998},null,{"$f":"IF($N137>$O137,$N137-$O137,0)","v":283365.59999999998},{"$f":"ROUNDUP($N137/500,0)","v":567}]
[{"$f":"IF(INTRO!$E$39=\"Non-endemic\",\" \",IF(COUNTRY_INFO!A138=0,\" \",COUNTRY_INFO!A138))","v":"Ghana"},{"$f":"IF(INTRO!$E$39=\"Non-endemic\",\" \",IF(COUNTRY_INFO!B138=0,\" \",COUNTRY_INFO!B138))","v":"Northern"},{"$f":"IF(INTRO!$E$39=\"Non-endemic\",\" \",IF(COUNTRY_INFO!C138=0,\" \",COUNTRY_INFO!C138))","v":"Nanumba South"},{"$f":"IF(INTRO!$E$39=\"Non-endemic\",0,IF(INTRO!$E$39=\"Endemic but PC is not required\",IF(COUNTRY_INFO!$H138=1,COUNTRY_INFO!F138+COUNTRY_INFO!G138,0),IF(COUNTRY_INFO!$H138=1,COUNTRY_INFO!F138+COUNTRY_INFO!G138,IF(COUNTRY_INFO!$I138=1,IF(COUNTRY_INFO!M138>=(COUNTRY_INFO!F138+COUNTRY_INFO!G138),COUNTRY_INFO!F138+COUNTRY_INFO!G138,COUNTRY_INFO!$M138),0))))","v":103659},{"$f":"IF(AND(INTRO!$E$39=\"Non-endemic\",INTRO!$E$37=\"Non-endemic\"),\"Not required\",IF(INTRO!$E$39=\"Non-endemic\",\"Treat with DEC\",COUNTRY_INFO!P138))","v":0},{"$f":"IF(INTRO!$E$39<>\"Non-endemic\",COUNTRY_INFO!Q138,\"Not required\")","v":1},{"$f":"IF(COUNTRY_INFO!H138=1, IF($E138=1,$D138, 0),0)","v":0},{"$f":"IF(INTRO!$E$39<>\"Endemic\",0, IF(AND(COUNTRY_INFO!$I138=1,$F138<>0),IF(COUNTRY_INFO!M138>=(COUNTRY_INFO!F138+COUNTRY_INFO!G138),COUNTRY_INFO!F138+COUNTRY_INFO!G138,COUNTRY_INFO!$M138), 0))","v":103659},null,103659,0,290245.19999999995,0,290245.19999999995,null,290245.19999999995,581]
[{"$f":"IF(INTRO!$E$39=\"Non-endemic\",\" \",IF(COUNTRY_INFO!A139=0,\" \",COUNTRY_INFO!A139))","v":"Ghana"},{"$f":"IF(INTRO!$E$39=\"Non-endemic\",\" \",IF(COUNTRY_INFO!B139=0,\" \",COUNTRY_INFO!B139))","v":"Northern"},{"$f":"IF(INTRO!$E$39=\"Non-endemic\",\" \",IF(COUNTRY_INFO!C139=0,\" \",COUNTRY_INFO!C139))","v":"Saboba"},{"$f":"IF(INTRO!$E$39=\"Non-endemic\",0,IF(INTRO!$E$39=\"Endemic but PC is not required\",IF(COUNTRY_INFO!$H139=1,COUNTRY_INFO!F139+COUNTRY_INFO!G139,0),IF(COUNTRY_INFO!$H139=1,COUNTRY_INFO!F139+COUNTRY_INFO!G139,IF(COUNTRY_INFO!$I139=1,IF(COUNTRY_INFO!M139>=(COUNTRY_INFO!F139+COUNTRY_INFO!G139),COUNTRY_INFO!F139+COUNTRY_INFO!G139,COUNTRY_INFO!$M139),0))))","v":0},{"$f":"IF(AND(INTRO!$E$39=\"Non-endemic\",INTRO!$E$37=\"Non-endemic\"),\"Not required\",IF(INTRO!$E$39=\"Non-endemic\",\"Treat with DEC\",COUNTRY_INFO!P139))","v":0},{"$f":"IF(INTRO!$E$39<>\"Non-endemic\",COUNTRY_INFO!Q139,\"Not required\")","v":0},{"$f":"IF(COUNTRY_INFO!H139=1, IF($E139=1,$D139, 0),0)","v":0},{"$f":"IF(INTRO!$E$39<>\"Endemic\",0, IF(AND(COUNTRY_INFO!$I139=1,$F139<>0),IF(COUNTRY_INFO!M139>=(COUNTRY_INFO!F139+COUNTRY_INFO!G139),COUNTRY_INFO!F139+COUNTRY_INFO!G139,COUNTRY_INFO!$M139), 0))","v":0},null,0,0,0,0,0,null,0,0]
[{"$f":"IF(INTRO!$E$39=\"Non-endemic\",\" \",IF(COUNTRY_INFO!A140=0,\" \",COUNTRY_INFO!A140))","v":"Ghana"},{"$f":"IF(INTRO!$E$39=\"Non-endemic\",\" \",IF(COUNTRY_INFO!B140=0,\" \",COUNTRY_INFO!B140))","v":"Northern"},{"$f":"IF(INTRO!$E$39=\"Non-endemic\",\" \",IF(COUNTRY_INFO!C140=0,\" \",COUNTRY_INFO!C140))","v":"Savelugu-Nanton"},{"$f":"IF(INTRO!$E$39=\"Non-endemic\",0,IF(INTRO!$E$39=\"Endemic but PC is not required\",IF(COUNTRY_INFO!$H140=1,COUNTRY_INFO!F140+COUNTRY_INFO!G140,0),IF(COUNTRY_INFO!$H140=1,COUNTRY_INFO!F140+COUNTRY_INFO!G140,IF(COUNTRY_INFO!$I140=1,IF(COUNTRY_INFO!M140>=(COUNTRY_INFO!F140+COUNTRY_INFO!G140),COUNTRY_INFO!F140+COUNTRY_INFO!G140,COUNTRY_INFO!$M140),0))))","v":48386},{"$f":"IF(AND(INTRO!$E$39=\"Non-endemic\",INTRO!$E$37=\"Non-endemic\"),\"Not required\",IF(INTRO!$E$39=\"Non-endemic\",\"Treat with DEC\",COUNTRY_INFO!P140))","v":0},{"$f":"IF(INTRO!$E$39<>\"Non-endemic\",COUNTRY_INFO!Q140,\"Not required\")","v":2},{"$f":"IF(COUNTRY_INFO!H140=1, IF($E140=1,$D140, 0),0)","v":0},{"$f":"IF(INTRO!$E$39<>\"Endemic\",0, IF(AND(COUNTRY_INFO!$I140=1,$F140<>0),IF(COUNTRY_INFO!M140>=(COUNTRY_INFO!F140+COUNTRY_INFO!G140),COUNTRY_INFO!F140+COUNTRY_INFO!G140,COUNTRY_INFO!$M140), 0))","v":48386},null,48386,0,270961.59999999998,0,270961.59999999998,null,270961.59999999998,542]
[{"$f":"IF(INTRO!$E$39=\"Non-endemic\",\" \",IF(COUNTRY_INFO!A141=0,\" \",COUNTRY_INFO!A141))","v":"Ghana"},{"$f":"IF(INTRO!$E$39=\"Non-endemic\",\" \",IF(COUNTRY_INFO!B141=0,\" \",COUNTRY_INFO!B141))","v":"Northern"},{"$f":"IF(INTRO!$E$39=\"Non-endemic\",\" \",IF(COUNTRY_INFO!C141=0,\" \",COUNTRY_INFO!C141))","v":"Sawla-Tuna-Kalba"},{"$f":"IF(INTRO!$E$39=\"Non-endemic\",0,IF(INTRO!$E$39=\"Endemic but PC is not required\",IF(COUNTRY_INFO!$H141=1,COUNTRY_INFO!F141+COUNTRY_INFO!G141,0),IF(COUNTRY_INFO!$H141=1,COUNTRY_INFO!F141+COUNTRY_INFO!G141,IF(COUNTRY_INFO!$I141=1,IF(COUNTRY_INFO!M141>=(COUNTRY_INFO!F141+COUNTRY_INFO!G141),COUNTRY_INFO!F141+COUNTRY_INFO!G141,COUNTRY_INFO!$M141),0))))","v":110757},{"$f":"IF(AND(INTRO!$E$39=\"Non-endemic\",INTRO!$E$37=\"Non-endemic\"),\"Not required\",IF(INTRO!$E$39=\"Non-endemic\",\"Treat with DEC\",COUNTRY_INFO!P141))","v":1},{"$f":"IF(INTRO!$E$39<>\"Non-endemic\",COUNTRY_INFO!Q141,\"Not required\")","v":1},{"$f":"IF(COUNTRY_INFO!H141=1, IF($E141=1,$D141, 0),0)","v":110757},{"$f":"IF(INTRO!$E$39<>\"Endemic\",0, IF(AND(COUNTRY_INFO!$I141=1,$F141<>0),IF(COUNTRY_INFO!M141>=(COUNTRY_INFO!F141+COUNTRY_INFO!G141),COUNTRY_INFO!F141+COUNTRY_INFO!G141,COUNTRY_INFO!$M141), 0))","v":110757},null,110757,0,0,310119.59999999998,310119.59999999998,null,310119.59999999998,621]
[{"$f":"IF(INTRO!$E$39=\"Non-endemic\",\" \",IF(COUNTRY_INFO!A142=0,\" \",COUNTRY_INFO!A142))","v":"Ghana"},{"$f":"IF(INTRO!$E$39=\"Non-endemic\",\" \",IF(COUNTRY_INFO!B142=0,\" \",COUNTRY_INFO!B142))","v":"Northern"},{"$f":"IF(INTRO!$E$39=\"Non-endemic\",\" \",IF(COUNTRY_INFO!C142=0,\" \",COUNTRY_INFO!C142))","v":"Tamale"},{"$f":"IF(INTRO!$E$39=\"Non-endemic\",0,IF(INTRO!$E$39=\"Endemic but PC is not required\",IF(COUNTRY_INFO!$H142=1,COUNTRY_INFO!F142+COUNTRY_INFO!G142,0),IF(COUNTRY_INFO!$H142=1,COUNTRY_INFO!F142+COUNTRY_INFO!G142,IF(COUNTRY_INFO!$I142=1,IF(COUNTRY_INFO!M142>=(COUNTRY_INFO!F142+COUNTRY_INFO!G142),COUNTRY_INFO!F142+COUNTRY_INFO!G142,COUNTRY_INFO!$M142),0))))","v":0},{"$f":"IF(AND(INTRO!$E$39=\"Non-endemic\",INTRO!$E$37=\"Non-endemic\"),\"Not required\",IF(INTRO!$E$39=\"Non-endemic\",\"Treat with DEC\",COUNTRY_INFO!P142))","v":0},{"$f":"IF(INTRO!$E$39<>\"Non-endemic\",COUNTRY_INFO!Q142,\"Not required\")","v":0},{"$f":"IF(COUNTRY_INFO!H142=1, IF($E142=1,$D142, 0),0)","v":0},{"$f":"IF(INTRO!$E$39<>\"Endemic\",0, IF(AND(COUNTRY_INFO!$I142=1,$F142<>0),IF(COUNTRY_INFO!M142>=(COUNTRY_INFO!F142+COUNTRY_INFO!G142),COUNTRY_INFO!F142+COUNTRY_INFO!G142,COUNTRY_INFO!$M142), 0))","v":0},null,0,0,0,0,0,null,0,0]
[{"$f":"IF(INTRO!$E$39=\"Non-endemic\",\" \",IF(COUNTRY_INFO!A143=0,\" \",COUNTRY_INFO!A143))","v":"Ghana"},{"$f":"IF(INTRO!$E$39=\"Non-endemic\",\" \",IF(COUNTRY_INFO!B143=0,\" \",COUNTRY_INFO!B143))","v":"Northern"},{"$f":"IF(INTRO!$E$39=\"Non-endemic\",\" \",IF(COUNTRY_INFO!C143=0,\" \",COUNTRY_INFO!C143))","v":"Sagnarigu"},{"$f":"IF(INTRO!$E$39=\"Non-endemic\",0,IF(INTRO!$E$39=\"Endemic but PC is not required\",IF(COUNTRY_INFO!$H143=1,COUNTRY_INFO!F143+COUNTRY_INFO!G143,0),IF(COUNTRY_INFO!$H143=1,COUNTRY_INFO!F143+COUNTRY_INFO!G143,IF(COUNTRY_INFO!$I143=1,IF(COUNTRY_INFO!M143>=(COUNTRY_INFO!F143+COUNTRY_INFO!G143),COUNTRY_INFO!F143+COUNTRY_INFO!G143,COUNTRY_INFO!$M143),0))))","v":0},{"$f":"IF(AND(INTRO!$E$39=\"Non-endemic\",INTRO!$E$37=\"Non-endemic\"),\"Not required\",IF(INTRO!$E$39=\"Non-endemic\",\"Treat with DEC\",COUNTRY_INFO!P143))","v":0},{"$f":"IF(INTRO!$E$39<>\"Non-endemic\",COUNTRY_INFO!Q143,\"Not required\")","v":0},{"$f":"IF(COUNTRY_INFO!H143=1, IF($E143=1,$D143, 0),0)","v":0},{"$f":"IF(INTRO!$E$39<>\"Endemic\",0, IF(AND(COUNTRY_INFO!$I143=1,$F143<>0),IF(COUNTRY_INFO!M143>=(COUNTRY_INFO!F143+COUNTRY_INFO!G143),COUNTRY_INFO!F143+COUNTRY_INFO!G143,COUNTRY_INFO!$M143), 0))","v":0},null,0,0,0,0,0,null,0,0]
[{"$f":"IF(INTRO!$E$39=\"Non-endemic\",\" \",IF(COUNTRY_INFO!A144=0,\" \",COUNTRY_INFO!A144))","v":"Ghana"},{"$f":"IF(INTRO!$E$39=\"Non-endemic\",\" \",IF(COUNTRY_INFO!B144=0,\" \",COUNTRY_INFO!B144))","v":"Northern"},{"$f":"IF(INTRO!$E$39=\"Non-endemic\",\" \",IF(COUNTRY_INFO!C144=0,\" \",COUNTRY_INFO!C144))","v":"Tolon"},{"$f":"IF(INTRO!$E$39=\"Non-endemic\",0,IF(INTRO!$E$39=\"Endemic but PC is not required\",IF(COUNTRY_INFO!$H144=1,COUNTRY_INFO!F144+COUNTRY_INFO!G144,0),IF(COUNTRY_INFO!$H144=1,COUNTRY_INFO!F144+COUNTRY_INFO!G144,IF(COUNTRY_INFO!$I144=1,IF(COUNTRY_INFO!M144>=(COUNTRY_INFO!F144+COUNTRY_INFO!G144),COUNTRY_INFO!F144+COUNTRY_INFO!G144,COUNTRY_INFO!$M144),0))))","v":0},{"$f":"IF(AND(INTRO!$E$39=\"Non-endemic\",INTRO!$E$37=\"Non-endemic\"),\"Not required\",IF(INTRO!$E$39=\"Non-endemic\",\"Treat with DEC\",COUNTRY_INFO!P144))","v":0},{"$f":"IF(INTRO!$E$39<>\"Non-endemic\",COUNTRY_INFO!Q144,\"Not required\")","v":0},{"$f":"IF(COUNTRY_INFO!H144=1, IF($E144=1,$D144, 0),0)","v":0},{"$f":"IF(INTRO!$E$39<>\"Endemic\",0, IF(AND(COUNTRY_INFO!$I144=1,$F144<>0),IF(COUNTRY_INFO!M144>=(COUNTRY_INFO!F144+COUNTRY_INFO!G144),COUNTRY_INFO!F144+COUNTRY_INFO!G144,COUNTRY_INFO!$M144), 0))","v":0},null,0,0,0,0,0,null,0,0]
[{"$f":"IF(INTRO!$E$39=\"Non-endemic\",\" \",IF(COUNTRY_INFO!A145=0,\" \",COUNTRY_INFO!A145))","v":"Ghana"},{"$f":"IF(INTRO!$E$39=\"Non-endemic\",\" \",IF(COUNTRY_INFO!B145=0,\" \",COUNTRY_INFO!B145))","v":"Northern"},{"$f":"IF(INTRO!$E$39=\"Non-endemic\",\" \",IF(COUNTRY_INFO!C145=0,\" \",COUNTRY_INFO!C145))","v":"Kumbungu"},{"$f":"IF(INTRO!$E$39=\"Non-endemic\",0,IF(INTRO!$E$39=\"Endemic but PC is not required\",IF(COUNTRY_INFO!$H145=1,COUNTRY_INFO!F145+COUNTRY_INFO!G145,0),IF(COUNTRY_INFO!$H145=1,COUNTRY_INFO!F145+COUNTRY_INFO!G145,IF(COUNTRY_INFO!$I145=1,IF(COUNTRY_INFO!M145>=(COUNTRY_INFO!F145+COUNTRY_INFO!G145),COUNTRY_INFO!F145+COUNTRY_INFO!G145,COUNTRY_INFO!$M145),0))))","v":43136},{"$f":"IF(AND(INTRO!$E$39=\"Non-endemic\",INTRO!$E$37=\"Non-endemic\"),\"Not required\",IF(INTRO!$E$39=\"Non-endemic\",\"Treat with DEC\",COUNTRY_INFO!P145))","v":0},{"$f":"IF(INTRO!$E$39<>\"Non-endemic\",COUNTRY_INFO!Q145,\"Not required\")","v":2},{"$f":"IF(COUNTRY_INFO!H145=1, IF($E145=1,$D145, 0),0)","v":0},{"$f":"IF(INTRO!$E$39<>\"Endemic\",0, IF(AND(COUNTRY_INFO!$I145=1,$F145<>0),IF(COUNTRY_INFO!M145>=(COUNTRY_INFO!F145+COUNTRY_INFO!G145),COUNTRY_INFO!F145+COUNTRY_INFO!G145,COUNTRY_INFO!$M145), 0))","v":43136},null,43136,0,241561.59999999998,0,241561.59999999998,null,241561.59999999998,484]
[{"$f":"IF(INTRO!$E$39=\"Non-endemic\",\" \",IF(COUNTRY_INFO!A146=0,\" \",COUNTRY_INFO!A146))","v":"Ghana"},{"$f":"IF(INTRO!$E$39=\"Non-endemic\",\" \",IF(COUNTRY_INFO!B146=0,\" \",COUNTRY_INFO!B146))","v":"Northern"},{"$f":"IF(INTRO!$E$39=\"Non-endemic\",\" \",IF(COUNTRY_INFO!C146=0,\" \",COUNTRY_INFO!C146))","v":"West Gonja"},{"$f":"IF(INTRO!$E$39=\"Non-endemic\",0,IF(INTRO!$E$39=\"Endemic but PC is not required\",IF(COUNTRY_INFO!$H146=1,COUNTRY_INFO!F146+COUNTRY_INFO!G146,0),IF(COUNTRY_INFO!$H146=1,COUNTRY_INFO!F146+COUNTRY_INFO!G146,IF(COUNTRY_INFO!$I146=1,IF(COUNTRY_INFO!M146>=(COUNTRY_INFO!F146+COUNTRY_INFO!G146),COUNTRY_INFO!F146+COUNTRY_INFO!G146,COUNTRY_INFO!$M146),0))))","v":45672},{"$f":"IF(AND(INTRO!$E$39=\"Non-endemic\",INTRO!$E$37=\"Non-endemic\"),\"Not required\",IF(INTRO!$E$39=\"Non-endemic\",\"Treat with DEC\",COUNTRY_INFO!P146))","v":1},{"$f":"IF(INTRO!$E$39<>\"Non-endemic\",COUNTRY_INFO!Q146,\"Not required\")","v":0},{"$f":"IF(COUNTRY_INFO!H146=1, IF($E146=1,$D146, 0),0)","v":45672},{"$f":"IF(INTRO!$E$39<>\"Endemic\",0, IF(AND(COUNTRY_INFO!$I146=1,$F146<>0),IF(COUNTRY_INFO!M146>=(COUNTRY_INFO!F146+COUNTRY_INFO!G146),COUNTRY_INFO!F146+COUNTRY_INFO!G146,COUNTRY_INFO!$M146), 0))","v":0},null,0,127881.59999999999,0,0,127881.59999999999,null,127881.59999999999,256]
[{"$f":"IF(INTRO!$E$39=\"Non-endemic\",\" \",IF(COUNTRY_INFO!A147=0,\" \",COUNTRY_INFO!A147))","v":"Ghana"},{"$f":"IF(INTRO!$E$39=\"Non-endemic\",\" \",IF(COUNTRY_INFO!B147=0,\" \",COUNTRY_INFO!B147))","v":"Northern"},{"$f":"IF(INTRO!$E$39=\"Non-endemic\",\" \",IF(COUNTRY_INFO!C147=0,\" \",COUNTRY_INFO!C147))","v":"North Gonja"},{"$f":"IF(INTRO!$E$39=\"Non-endemic\",0,IF(INTRO!$E$39=\"Endemic but PC is not required\",IF(COUNTRY_INFO!$H147=1,COUNTRY_INFO!F147+COUNTRY_INFO!G147,0),IF(COUNTRY_INFO!$H147=1,COUNTRY_INFO!F147+COUNTRY_INFO!G147,IF(COUNTRY_INFO!$I147=1,IF(COUNTRY_INFO!M147>=(COUNTRY_INFO!F147+COUNTRY_INFO!G147),COUNTRY_INFO!F147+COUNTRY_INFO!G147,COUNTRY_INFO!$M147),0))))","v":48297},{"$f":"IF(AND(INTRO!$E$39=\"Non-endemic\",INTRO!$E$37=\"Non-endemic\"),\"Not required\",IF(INTRO!$E$39=\"Non-endemic\",\"Treat with DEC\",COUNTRY_INFO!P147))","v":1},{"$f":"IF(INTRO!$E$39<>\"Non-endemic\",COUNTRY_INFO!Q147,\"Not required\")","v":2},{"$f":"IF(COUNTRY_INFO!H147=1, IF($E147=1,$D147, 0),0)","v":48297},{"$f":"IF(INTRO!$E$39<>\"Endemic\",0, IF(AND(COUNTRY_INFO!$I147=1,$F147<>0),IF(COUNTRY_INFO!M147>=(COUNTRY_INFO!F147+COUNTRY_INFO!G147),COUNTRY_INFO!F147+COUNTRY_INFO!G147,COUNTRY_INFO!$M147), 0))","v":48297},null,48297,0,135231.6,135231.6,270463.2,null,270463.2,541]
[{"$f":"IF(INTRO!$E$39=\"Non-endemic\",\" \",IF(COUNTRY_INFO!A148=0,\" \",COUNTRY_INFO!A148))","v":"Ghana"},{"$f":"IF(INTRO!$E$39=\"Non-endemic\",\" \",IF(COUNTRY_INFO!B148=0,\" \",COUNTRY_INFO!B148))","v":"Northern"},{"$f":"IF(INTRO!$E$39=\"Non-endemic\",\" \",IF(COUNTRY_INFO!C148=0,\" \",COUNTRY_INFO!C148))","v":"West Mamprusi"},{"$f":"IF(INTRO!$E$39=\"Non-endemic\",0,IF(INTRO!$E$39=\"Endemic but PC is not required\",IF(COUNTRY_INFO!$H148=1,COUNTRY_INFO!F148+COUNTRY_INFO!G148,0),IF(COUNTRY_INFO!$H148=1,COUNTRY_INFO!F148+COUNTRY_INFO!G148,IF(COUNTRY_INFO!$I148=1,IF(COUNTRY_INFO!M148>=(COUNTRY_INFO!F148+COUNTRY_INFO!G148),COUNTRY_INFO!F148+COUNTRY_INFO!G148,COUNTRY_INFO!$M148),0))))","v":0},{"$f":"IF(AND(INTRO!$E$39=\"Non-endemic\",INTRO!$E$37=\"Non-endemic\"),\"Not required\",IF(INTRO!$E$39=\"Non-endemic\",\"Treat with DEC\",COUNTRY_INFO!P148))","v":0},{"$f":"IF(INTRO!$E$39<>\"Non-endemic\",COUNTRY_INFO!Q148,\"Not required\")","v":0},{"$f":"IF(COUNTRY_INFO!H148=1, IF($E148=1,$D148, 0),0)","v":0},{"$f":"IF(INTRO!$E$39<>\"Endemic\",0, IF(AND(COUNTRY_INFO!$I148=1,$F148<>0),IF(COUNTRY_INFO!M148>=(COUNTRY_INFO!F148+COUNTRY_INFO!G148),COUNTRY_INFO!F148+COUNTRY_INFO!G148,COUNTRY_INFO!$M148), 0))","v":0},null,0,0,0,0,0,null,0,0]
[{"$f":"IF(INTRO!$E$39=\"Non-endemic\",\" \",IF(COUNTRY_INFO!A149=0,\" \",COUNTRY_INFO!A149))","v":"Ghana"},{"$f":"IF(INTRO!$E$39=\"Non-endemic\",\" \",IF(COUNTRY_INFO!B149=0,\" \",COUNTRY_INFO!B149))","v":"Northern"},{"$f":"IF(INTRO!$E$39=\"Non-endemic\",\" \",IF(COUNTRY_INFO!C149=0,\" \",COUNTRY_INFO!C149))","v":"Mamprugo Moaduri"},{"$f":"IF(INTRO!$E$39=\"Non-endemic\",0,IF(INTRO!$E$39=\"Endemic but PC is not required\",IF(COUNTRY_INFO!$H149=1,COUNTRY_INFO!F149+COUNTRY_INFO!G149,0),IF(COUNTRY_INFO!$H149=1,COUNTRY_INFO!F149+COUNTRY_INFO!G149,IF(COUNTRY_INFO!$I149=1,IF(COUNTRY_INFO!M149>=(COUNTRY_INFO!F149+COUNTRY_INFO!G149),COUNTRY_INFO!F149+COUNTRY_INFO!G149,COUNTRY_INFO!$M149),0))))","v":52009},{"$f":"IF(AND(INTRO!$E$39=\"Non-endemic\",INTRO!$E$37=\"Non-endemic\"),\"Not required\",IF(INTRO!$E$39=\"Non-endemic\",\"Treat with DEC\",COUNTRY_INFO!P149))","v":0},{"$f":"IF(INTRO!$E$39<>\"Non-endemic\",COUNTRY_INFO!Q149,\"Not required\")","v":2},{"$f":"IF(COUNTRY_INFO!H149=1, IF($E149=1,$D149, 0),0)","v":0},{"$f":"IF(INTRO!$E$39<>\"Endemic\",0, IF(AND(COUNTRY_INFO!$I149=1,$F149<>0),IF(COUNTRY_INFO!M149>=(COUNTRY_INFO!F149+COUNTRY_INFO!G149),COUNTRY_INFO!F149+COUNTRY_INFO!G149,COUNTRY_INFO!$M149), 0))","v":52009},null,52009,0,291250.39999999997,0,291250.39999999997,null,291250.39999999997,583]
[{"$f":"IF(INTRO!$E$39=\"Non-endemic\",\" \",IF(COUNTRY_INFO!A150=0,\" \",COUNTRY_INFO!A150))","v":"Ghana"},{"$f":"IF(INTRO!$E$39=\"Non-endemic\",\" \",IF(COUNTRY_INFO!B150=0,\" \",COUNTRY_INFO!B150))","v":"Northern"},{"$f":"IF(INTRO!$E$39=\"Non-endemic\",\" \",IF(COUNTRY_INFO!C150=0,\" \",COUNTRY_INFO!C150))","v":"Yendi"},{"$f":"IF(INTRO!$E$39=\"Non-endemic\",0,IF(INTRO!$E$39=\"Endemic but PC is not required\",IF(COUNTRY_INFO!$H150=1,COUNTRY_INFO!F150+COUNTRY_INFO!G150,0),IF(COUNTRY_INFO!$H150=1,COUNTRY_INFO!F150+COUNTRY_INFO!G150,IF(COUNTRY_INFO!$I150=1,IF(COUNTRY_INFO!M150>=(COUNTRY_INFO!F150+COUNTRY_INFO!G150),COUNTRY_INFO!F150+COUNTRY_INFO!G150,COUNTRY_INFO!$M150),0))))","v":0},{"$f":"IF(AND(INTRO!$E$39=\"Non-endemic\",INTRO!$E$37=\"Non-endemic\"),\"Not required\",IF(INTRO!$E$39=\"Non-endemic\",\"Treat with DEC\",COUNTRY_INFO!P150))","v":0},{"$f":"IF(INTRO!$E$39<>\"Non-endemic\",COUNTRY_INFO!Q150,\"Not required\")","v":0},{"$f":"IF(COUNTRY_INFO!H150=1, IF($E150=1,$D150, 0),0)","v":0},{"$f":"IF(INTRO!$E$39<>\"Endemic\",0, IF(AND(COUNTRY_INFO!$I150=1,$F150<>0),IF(COUNTRY_INFO!M150>=(COUNTRY_INFO!F150+COUNTRY_INFO!G150),COUNTRY_INFO!F150+COUNTRY_INFO!G150,COUNTRY_INFO!$M150), 0))","v":0},null,0,0,0,0,0,null,0,0]
[{"$f":"IF(INTRO!$E$39=\"Non-endemic\",\" \",IF(COUNTRY_INFO!A151=0,\" \",COUNTRY_INFO!A151))","v":"Ghana"},{"$f":"IF(INTRO!$E$39=\"Non-endemic\",\" \",IF(COUNTRY_INFO!B151=0,\" \",COUNTRY_INFO!B151))","v":"Northern"},{"$f":"IF(INTRO!$E$39=\"Non-endemic\",\" \",IF(COUNTRY_INFO!C151=0,\" \",COUNTRY_INFO!C151))","v":"Mion"},{"$f":"IF(INTRO!$E$39=\"Non-endemic\",0,IF(INTRO!$E$39=\"Endemic but PC is not required\",IF(COUNTRY_INFO!$H151=1,COUNTRY_INFO!F151+COUNTRY_INFO!G151,0),IF(COUNTRY_INFO!$H151=1,COUNTRY_INFO!F151+COUNTRY_INFO!G151,IF(COUNTRY_INFO!$I151=1,IF(COUNTRY_INFO!M151>=(COUNTRY_INFO!F151+COUNTRY_INFO!G151),COUNTRY_INFO!F151+COUNTRY_INFO!G151,COUNTRY_INFO!$M151),0))))","v":0},{"$f":"IF(AND(INTRO!$E$39=\"Non-endemic\",INTRO!$E$37=\"Non-endemic\"),\"Not required\",IF(INTRO!$E$39=\"Non-endemic\",\"Treat with DEC\",COUNTRY_INFO!P151))","v":0},{"$f":"IF(INTRO!$E$39<>\"Non-endemic\",COUNTRY_INFO!Q151,\"Not required\")","v":0},{"$f":"IF(COUNTRY_INFO!H151=1, IF($E151=1,$D151, 0),0)","v":0},{"$f":"IF(INTRO!$E$39<>\"Endemic\",0, IF(AND(COUNTRY_INFO!$I151=1,$F151<>0),IF(COUNTRY_INFO!M151>=(COUNTRY_INFO!F151+COUNTRY_INFO!G151),COUNTRY_INFO!F151+COUNTRY_INFO!G151,COUNTRY_INFO!$M151), 0))","v":0},null,0,0,0,0,0,null,0,0]
[{"$f":"IF(INTRO!$E$39=\"Non-endemic\",\" \",IF(COUNTRY_INFO!A152=0,\" \",COUNTRY_INFO!A152))","v":"Ghana"},{"$f":"IF(INTRO!$E$39=\"Non-endemic\",\" \",IF(COUNTRY_INFO!B152=0,\" \",COUNTRY_INFO!B152))","v":"Northern"},{"$f":"IF(INTRO!$E$39=\"Non-endemic\",\" \",IF(COUNTRY_INFO!C152=0,\" \",COUNTRY_INFO!C152))","v":"Zabzugu"},{"$f":"IF(INTRO!$E$39=\"Non-endemic\",0,IF(INTRO!$E$39=\"Endemic but PC is not required\",IF(COUNTRY_INFO!$H152=1,COUNTRY_INFO!F152+COUNTRY_INFO!G152,0),IF(COUNTRY_INFO!$H152=1,COUNTRY_INFO!F152+COUNTRY_INFO!G152,IF(COUNTRY_INFO!$I152=1,IF(COUNTRY_INFO!M152>=(COUNTRY_INFO!F152+COUNTRY_INFO!G152),COUNTRY_INFO!F152+COUNTRY_INFO!G152,COUNTRY_INFO!$M152),0))))","v":71514},{"$f":"IF(AND(INTRO!$E$39=\"Non-endemic\",INTRO!$E$37=\"Non-endemic\"),\"Not required\",IF(INTRO!$E$39=\"Non-endemic\",\"Treat with DEC\",COUNTRY_INFO!P152))","v":0},{"$f":"IF(INTRO!$E$39<>\"Non-endemic\",COUNTRY_INFO!Q152,\"Not required\")","v":2},{"$f":"IF(COUNTRY_INFO!H152=1, IF($E152=1,$D152, 0),0)","v":0},{"$f":"IF(INTRO!$E$39<>\"Endemic\",0, IF(AND(COUNTRY_INFO!$I152=1,$F152<>0),IF(COUNTRY_INFO!M152>=(COUNTRY_INFO!F152+COUNTRY_INFO!G152),COUNTRY_INFO!F152+COUNTRY_INFO!G152,COUNTRY_INFO!$M152), 0))","v":71514},null,71514,0,400478.39999999997,0,400478.39999999997,null,400478.39999999997,801]
[{"$f":"IF(INTRO!$E$39=\"Non-endemic\",\" \",IF(COUNTRY_INFO!A153=0,\" \",COUNTRY_INFO!A153))","v":"Ghana"},{"$f":"IF(INTRO!$E$39=\"Non-endemic\",\" \",IF(COUNTRY_INFO!B153=0,\" \",COUNTRY_INFO!B153))","v":"Northern"},{"$f":"IF(INTRO!$E$39=\"Non-endemic\",\" \",IF(COUNTRY_INFO!C153=0,\" \",COUNTRY_INFO!C153))","v":"Tatale Sangule"},{"$f":"IF(INTRO!$E$39=\"Non-endemic\",0,IF(INTRO!$E$39=\"Endemic but PC is not required\",IF(COUNTRY_INFO!$H153=1,COUNTRY_INFO!F153+COUNTRY_INFO!G153,0),IF(COUNTRY_INFO!$H153=1,COUNTRY_INFO!F153+COUNTRY_INFO!G153,IF(COUNTRY_INFO!$I153=1,IF(COUNTRY_INFO!M153>=(COUNTRY_INFO!F153+COUNTRY_INFO!G153),COUNTRY_INFO!F153+COUNTRY_INFO!G153,COUNTRY_INFO!$M153),0))))","v":0},{"$f":"IF(AND(INTRO!$E$39=\"Non-endemic\",INTRO!$E$37=\"Non-endemic\"),\"Not required\",IF(INTRO!$E$39=\"Non-endemic\",\"Treat with DEC\",COUNTRY_INFO!P153))","v":0},{"$f":"IF(INTRO!$E$39<>\"Non-endemic\",COUNTRY_INFO!Q153,\"Not required\")","v":0},{"$f":"IF(COUNTRY_INFO!H153=1, IF($E153=1,$D153, 0),0)","v":0},{"$f":"IF(INTRO!$E$39<>\"Endemic\",0, IF(AND(COUNTRY_INFO!$I153=1,$F153<>0),IF(COUNTRY_INFO!M153>=(COUNTRY_INFO!F153+COUNTRY_INFO!G153),COUNTRY_INFO!F153+COUNTRY_INFO!G153,COUNTRY_INFO!$M153), 0))","v":0},null,0,0,0,0,0,null,0,0]
[{"$f":"IF(INTRO!$E$39=\"Non-endemic\",\" \",IF(COUNTRY_INFO!A154=0,\" \",COUNTRY_INFO!A154))","v":"Ghana"},{"$f":"IF(INTRO!$E$39=\"Non-endemic\",\" \",IF(COUNTRY_INFO!B154=0,\" \",COUNTRY_INFO!B154))","v":"Upper East"},{"$f":"IF(INTRO!$E$39=\"Non-endemic\",\" \",IF(COUNTRY_INFO!C154=0,\" \",COUNTRY_INFO!C154))","v":"Bawku Municipal"},{"$f":"IF(INTRO!$E$39=\"Non-endemic\",0,IF(INTRO!$E$39=\"Endemic but PC is not required\",IF(COUNTRY_INFO!$H154=1,COUNTRY_INFO!F154+COUNTRY_INFO!G154,0),IF(COUNTRY_INFO!$H154=1,COUNTRY_INFO!F154+COUNTRY_INFO!G154,IF(COUNTRY_INFO!$I154=1,IF(COUNTRY_INFO!M154>=(COUNTRY_INFO!F154+COUNTRY_INFO!G154),COUNTRY_INFO!F154+COUNTRY_INFO!G154,COUNTRY_INFO!$M154),0))))","v":0},{"$f":"IF(AND(INTRO!$E$39=\"Non-endemic\",INTRO!$E$37=\"Non-endemic\"),\"Not required\",IF(INTRO!$E$39=\"Non-endemic\",\"Treat with DEC\",COUNTRY_INFO!P154))","v":0},{"$f":"IF(INTRO!$E$39<>\"Non-endemic\",COUNTRY_INFO!Q154,\"Not required\")","v":0},{"$f":"IF(COUNTRY_INFO!H154=1, IF($E154=1,$D154, 0),0)","v":0},{"$f":"IF(INTRO!$E$39<>\"Endemic\",0, IF(AND(COUNTRY_INFO!$I154=1,$F154<>0),IF(COUNTRY_INFO!M154>=(COUNTRY_INFO!F154+COUNTRY_INFO!G154),COUNTRY_INFO!F154+COUNTRY_INFO!G154,COUNTRY_INFO!$M154), 0))","v":0},null,0,0,0,0,0,null,0,0]
[{"$f":"IF(INTRO!$E$39=\"Non-endemic\",\" \",IF(COUNTRY_INFO!A155=0,\" \",COUNTRY_INFO!A155))","v":"Ghana"},{"$f":"IF(INTRO!$E$39=\"Non-endemic\",\" \",IF(COUNTRY_INFO!B155=0,\" \",COUNTRY_INFO!B155))","v":"Upper East"},{"$f":"IF(INTRO!$E$39=\"Non-endemic\",\" \",IF(COUNTRY_INFO!C155=0,\" \",COUNTRY_INFO!C155))","v":"Pusiga"},{"$f":"IF(INTRO!$E$39=\"Non-endemic\",0,IF(INTRO!$E$39=\"Endemic but PC is not required\",IF(COUNTRY_INFO!$H155=1,COUNTRY_INFO!F155+COUNTRY_INFO!G155,0),IF(COUNTRY_INFO!$H155=1,COUNTRY_INFO!F155+COUNTRY_INFO!G155,IF(COUNTRY_INFO!$I155=1,IF(COUNTRY_INFO!M155>=(COUNTRY_INFO!F155+COUNTRY_INFO!G155),COUNTRY_INFO!F155+COUNTRY_INFO!G155,COUNTRY_INFO!$M155),0))))","v":0},{"$f":"IF(AND(INTRO!$E$39=\"Non-endemic\",INTRO!$E$37=\"Non-endemic\"),\"Not required\",IF(INTRO!$E$39=\"Non-endemic\",\"Treat with DEC\",COUNTRY_INFO!P155))","v":0},{"$f":"IF(INTRO!$E$39<>\"Non-endemic\",COUNTRY_INFO!Q155,\"Not required\")","v":0},{"$f":"IF(COUNTRY_INFO!H155=1, IF($E155=1,$D155, 0),0)","v":0},{"$f":"IF(INTRO!$E$39<>\"Endemic\",0, IF(AND(COUNTRY_INFO!$I155=1,$F155<>0),IF(COUNTRY_INFO!M155>=(COUNTRY_INFO!F155+COUNTRY_INFO!G155),COUNTRY_INFO!F155+COUNTRY_INFO!G155,COUNTRY_INFO!$M155), 0))","v":0},null,0,0,0,0,0,null,0,0]
[{"$f":"IF(INTRO!$E$39=\"Non-endemic\",\" \",IF(COUNTRY_INFO!A156=0,\" \",COUNTRY_INFO!A156))","v":"Ghana"},{"$f":"IF(INTRO!$E$39=\"Non-endemic\",\" \",IF(COUNTRY_INFO!B156=0,\" \",COUNTRY_INFO!B156))","v":"Upper East"},{"$f":"IF(INTRO!$E$39=\"Non-endemic\",\" \",IF(COUNTRY_INFO!C156=0,\" \",COUNTRY_INFO!C156))","v":"Binduri"},{"$f":"IF(INTRO!$E$39=\"Non-endemic\",0,IF(INTRO!$E$39=\"Endemic but PC is not required\",IF(COUNTRY_INFO!$H156=1,COUNTRY_INFO!F156+COUNTRY_INFO!G156,0),IF(COUNTRY_INFO!$H156=1,COUNTRY_INFO!F156+COUNTRY_INFO!G156,IF(COUNTRY_INFO!$I156=1,IF(COUNTRY_INFO!M156>=(COUNTRY_INFO!F156+COUNTRY_INFO!G156),COUNTRY_INFO!F156+COUNTRY_INFO!G156,COUNTRY_INFO!$M156),0))))","v":0},{"$f":"IF(AND(INTRO!$E$39=\"Non-endemic\",INTRO!$E$37=\"Non-endemic\"),\"Not required\",IF(INTRO!$E$39=\"Non-endemic\",\"Treat with DEC\",COUNTRY_INFO!P156))","v":0},{"$f":"IF(INTRO!$E$39<>\"Non-endemic\",COUNTRY_INFO!Q156,\"Not required\")","v":0},{"$f":"IF(COUNTRY_INFO!H156=1, IF($E156=1,$D156, 0),0)","v":0},{"$f":"IF(INTRO!$E$39<>\"Endemic\",0, IF(AND(COUNTRY_INFO!$I156=1,$F156<>0),IF(COUNTRY_INFO!M156>=(COUNTRY_INFO!F156+COUNTRY_INFO!G156),COUNTRY_INFO!F156+COUNTRY_INFO!G156,COUNTRY_INFO!$M156), 0))","v":0},null,0,0,0,0,0,null,0,0]
[{"$f":"IF(INTRO!$E$39=\"Non-endemic\",\" \",IF(COUNTRY_INFO!A157=0,\" \",COUNTRY_INFO!A157))","v":"Ghana"},{"$f":"IF(INTRO!$E$39=\"Non-endemic\",\" \",IF(COUNTRY_INFO!B157=0,\" \",COUNTRY_INFO!B157))","v":"Upper East"},{"$f":"IF(INTRO!$E$39=\"Non-endemic\",\" \",IF(COUNTRY_INFO!C157=0,\" \",COUNTRY_INFO!C157))","v":"Bawku West"},{"$f":"IF(INTRO!$E$39=\"Non-endemic\",0,IF(INTRO!$E$39=\"Endemic but PC is not required\",IF(COUNTRY_INFO!$H157=1,COUNTRY_INFO!F157+COUNTRY_INFO!G157,0),IF(COUNTRY_INFO!$H157=1,COUNTRY_INFO!F157+COUNTRY_INFO!G157,IF(COUNTRY_INFO!$I157=1,IF(COUNTRY_INFO!M157>=(COUNTRY_INFO!F157+COUNTRY_INFO!G157),COUNTRY_INFO!F157+COUNTRY_INFO!G157,COUNTRY_INFO!$M157),0))))","v":91280},{"$f":"IF(AND(INTRO!$E$39=\"Non-endemic\",INTRO!$E$37=\"Non-endemic\"),\"Not required\",IF(INTRO!$E$39=\"Non-endemic\",\"Treat with DEC\",COUNTRY_INFO!P157))","v":0},{"$f":"IF(INTRO!$E$39<>\"Non-endemic\",COUNTRY_INFO!Q157,\"Not required\")","v":2},{"$f":"IF(COUNTRY_INFO!H157=1, IF($E157=1,$D157, 0),0)","v":0},{"$f":"IF(INTRO!$E$39<>\"Endemic\",0, IF(AND(COUNTRY_INFO!$I157=1,$F157<>0),IF(COUNTRY_INFO!M157>=(COUNTRY_INFO!F157+COUNTRY_INFO!G157),COUNTRY_INFO!F157+COUNTRY_INFO!G157,COUNTRY_INFO!$M157), 0))","v":91280},null,91280,0,511167.99999999994,0,511167.99999999994,null,511167.99999999994,1023]
[{"$f":"IF(INTRO!$E$39=\"Non-endemic\",\" \",IF(COUNTRY_INFO!A158=0,\" \",COUNTRY_INFO!A158))","v":"Ghana"},{"$f":"IF(INTRO!$E$39=\"Non-endemic\",\" \",IF(COUNTRY_INFO!B158=0,\" \",COUNTRY_INFO!B158))","v":"Upper East"},{"$f":"IF(INTRO!$E$39=\"Non-endemic\",\" \",IF(COUNTRY_INFO!C158=0,\" \",COUNTRY_INFO!C158))","v":"Bolgatanga Municipal"},{"$f":"IF(INTRO!$E$39=\"Non-endemic\",0,IF(INTRO!$E$39=\"Endemic but PC is not required\",IF(COUNTRY_INFO!$H158=1,COUNTRY_INFO!F158+COUNTRY_INFO!G158,0),IF(COUNTRY_INFO!$H158=1,COUNTRY_INFO!F158+COUNTRY_INFO!G158,IF(COUNTRY_INFO!$I158=1,IF(COUNTRY_INFO!M158>=(COUNTRY_INFO!F158+COUNTRY_INFO!G158),COUNTRY_INFO!F158+COUNTRY_INFO!G158,COUNTRY_INFO!$M158),0))))","v":0},{"$f":"IF(AND(INTRO!$E$39=\"Non-endemic\",INTRO!$E$37=\"Non-endemic\"),\"Not required\",IF(INTRO!$E$39=\"Non-endemic\",\"Treat with DEC\",COUNTRY_INFO!P158))","v":0},{"$f":"IF(INTRO!$E$39<>\"Non-endemic\",COUNTRY_INFO!Q158,\"Not required\")","v":0},{"$f":"IF(COUNTRY_INFO!H158=1, IF($E158=1,$D158, 0),0)","v":0},{"$f":"IF(INTRO!$E$39<>\"Endemic\",0, IF(AND(COUNTRY_INFO!$I158=1,$F158<>0),IF(COUNTRY_INFO!M158>=(COUNTRY_INFO!F158+COUNTRY_INFO!G158),COUNTRY_INFO!F158+COUNTRY_INFO!G158,COUNTRY_INFO!$M158), 0))","v":0},null,0,0,0,0,0,null,0,0]
[{"$f":"IF(INTRO!$E$39=\"Non-endemic\",\" \",IF(COUNTRY_INFO!A159=0,\" \",COUNTRY_INFO!A159))","v":"Ghana"},{"$f":"IF(INTRO!$E$39=\"Non-endemic\",\" \",IF(COUNTRY_INFO!B159=0,\" \",COUNTRY_INFO!B159))","v":"Upper East"},{"$f":"IF(INTRO!$E$39=\"Non-endemic\",\" \",IF(COUNTRY_INFO!C159=0,\" \",COUNTRY_INFO!C159))","v":"Bongo"},{"$f":"IF(INTRO!$E$39=\"Non-endemic\",0,IF(INTRO!$E$39=\"Endemic but PC is not required\",IF(COUNTRY_INFO!$H159=1,COUNTRY_INFO!F159+COUNTRY_INFO!G159,0),IF(COUNTRY_INFO!$H159=1,COUNTRY_INFO!F159+COUNTRY_INFO!G159,IF(COUNTRY_INFO!$I159=1,IF(COUNTRY_INFO!M159>=(COUNTRY_INFO!F159+COUNTRY_INFO!G159),COUNTRY_INFO!F159+COUNTRY_INFO!G159,COUNTRY_INFO!$M159),0))))","v":0},{"$f":"IF(AND(INTRO!$E$39=\"Non-endemic\",INTRO!$E$37=\"Non-endemic\"),\"Not required\",IF(INTRO!$E$39=\"Non-endemic\",\"Treat with DEC\",COUNTRY_INFO!P159))","v":0},{"$f":"IF(INTRO!$E$39<>\"Non-endemic\",COUNTRY_INFO!Q159,\"Not required\")","v":0},{"$f":"IF(COUNTRY_INFO!H159=1, IF($E159=1,$D159, 0),0)","v":0},{"$f":"IF(INTRO!$E$39<>\"Endemic\",0, IF(AND(COUNTRY_INFO!$I159=1,$F159<>0),IF(COUNTRY_INFO!M159>=(COUNTRY_INFO!F159+COUNTRY_INFO!G159),COUNTRY_INFO!F159+COUNTRY_INFO!G159,COUNTRY_INFO!$M159), 0))","v":0},null,0,0,0,0,0,null,0,0]
[{"$f":"IF(INTRO!$E$39=\"Non-endemic\",\" \",IF(COUNTRY_INFO!A160=0,\" \",COUNTRY_INFO!A160))","v":"Ghana"},{"$f":"IF(INTRO!$E$39=\"Non-endemic\",\" \",IF(COUNTRY_INFO!B160=0,\" \",COUNTRY_INFO!B160))","v":"Upper East"},{"$f":"IF(INTRO!$E$39=\"Non-endemic\",\" \",IF(COUNTRY_INFO!C160=0,\" \",COUNTRY_INFO!C160))","v":"Builsa North"},{"$f":"IF(INTRO!$E$39=\"Non-endemic\",0,IF(INTRO!$E$39=\"Endemic but PC is not required\",IF(COUNTRY_INFO!$H160=1,COUNTRY_INFO!F160+COUNTRY_INFO!G160,0),IF(COUNTRY_INFO!$H160=1,COUNTRY_INFO!F160+COUNTRY_INFO!G160,IF(COUNTRY_INFO!$I160=1,IF(COUNTRY_INFO!M160>=(COUNTRY_INFO!F160+COUNTRY_INFO!G160),COUNTRY_INFO!F160+COUNTRY_INFO!G160,COUNTRY_INFO!$M160),0))))","v":54823},{"$f":"IF(AND(INTRO!$E$39=\"Non-endemic\",INTRO!$E$37=\"Non-endemic\"),\"Not required\",IF(INTRO!$E$39=\"Non-endemic\",\"Treat with DEC\",COUNTRY_INFO!P160))","v":0},{"$f":"IF(INTRO!$E$39<>\"Non-endemic\",COUNTRY_INFO!Q160,\"Not required\")","v":2},{"$f":"IF(COUNTRY_INFO!H160=1, IF($E160=1,$D160, 0),0)","v":0},{"$f":"IF(INTRO!$E$39<>\"Endemic\",0, IF(AND(COUNTRY_INFO!$I160=1,$F160<>0),IF(COUNTRY_INFO!M160>=(COUNTRY_INFO!F160+COUNTRY_INFO!G160),COUNTRY_INFO!F160+COUNTRY_INFO!G160,COUNTRY_INFO!$M160), 0))","v":54823},null,54823,0,307008.8,0,307008.8,null,307008.8,615]
[{"$f":"IF(INTRO!$E$39=\"Non-endemic\",\" \",IF(COUNTRY_INFO!A161=0,\" \",COUNTRY_INFO!A161))","v":"Ghana"},{"$f":"IF(INTRO!$E$39=\"Non-endemic\",\" \",IF(COUNTRY_INFO!B161=0,\" \",COUNTRY_INFO!B161))","v":"Upper East"},{"$f":"IF(INTRO!$E$39=\"Non-endemic\",\" \",IF(COUNTRY_INFO!C161=0,\" \",COUNTRY_INFO!C161))","v":"Builsa South"},{"$f":"IF(INTRO!$E$39=\"Non-endemic\",0,IF(INTRO!$E$39=\"Endemic but PC is not required\",IF(COUNTRY_INFO!$H161=1,COUNTRY_INFO!F161+COUNTRY_INFO!G161,0),IF(COUNTRY_INFO!$H161=1,COUNTRY_INFO!F161+COUNTRY_INFO!G161,IF(COUNTRY_INFO!$I161=1,IF(COUNTRY_INFO!M161>=(COUNTRY_INFO!F161+COUNTRY_INFO!G161),COUNTRY_INFO!F161+COUNTRY_INFO!G161,COUNTRY_INFO!$M161),0))))","v":35444},{"$f":"IF(AND(INTRO!$E$39=\"Non-endemic\",INTRO!$E$37=\"Non-endemic\"),\"Not required\",IF(INTRO!$E$39=\"Non-endemic\",\"Treat with DEC\",COUNTRY_INFO!P161))","v":0},{"$f":"IF(INTRO!$E$39<>\"Non-endemic\",COUNTRY_INFO!Q161,\"Not required\")","v":1},{"$f":"IF(COUNTRY_INFO!H161=1, IF($E161=1,$D161, 0),0)","v":0},{"$f":"IF(INTRO!$E$39<>\"Endemic\",0, IF(AND(COUNTRY_INFO!$I161=1,$F161<>0),IF(COUNTRY_INFO!M161>=(COUNTRY_INFO!F161+COUNTRY_INFO!G161),COUNTRY_INFO!F161+COUNTRY_INFO!G161,COUNTRY_INFO!$M161), 0))","v":35444},null,35444,0,99243.199999999997,0,99243.199999999997,null,99243.199999999997,199]
[{"$f":"IF(INTRO!$E$39=\"Non-endemic\",\" \",IF(COUNTRY_INFO!A162=0,\" \",COUNTRY_INFO!A162))","v":"Ghana"},{"$f":"IF(INTRO!$E$39=\"Non-endemic\",\" \",IF(COUNTRY_INFO!B162=0,\" \",COUNTRY_INFO!B162))","v":"Upper East"},{"$f":"IF(INTRO!$E$39=\"Non-endemic\",\" \",IF(COUNTRY_INFO!C162=0,\" \",COUNTRY_INFO!C162))","v":"Garu-Tempane"},{"$f":"IF(INTRO!$E$39=\"Non-endemic\",0,IF(INTRO!$E$39=\"Endemic but PC is not required\",IF(COUNTRY_INFO!$H162=1,COUNTRY_INFO!F162+COUNTRY_INFO!G162,0),IF(COUNTRY_INFO!$H162=1,COUNTRY_INFO!F162+COUNTRY_INFO!G162,IF(COUNTRY_INFO!$I162=1,IF(COUNTRY_INFO!M162>=(COUNTRY_INFO!F162+COUNTRY_INFO!G162),COUNTRY_INFO!F162+COUNTRY_INFO!G162,COUNTRY_INFO!$M162),0))))","v":126194},{"$f":"IF(AND(INTRO!$E$39=\"Non-endemic\",INTRO!$E$37=\"Non-endemic\"),\"Not required\",IF(INTRO!$E$39=\"Non-endemic\",\"Treat with DEC\",COUNTRY_INFO!P162))","v":0},{"$f":"IF(INTRO!$E$39<>\"Non-endemic\",COUNTRY_INFO!Q162,\"Not required\")","v":2},{"$f":"IF(COUNTRY_INFO!H162=1, IF($E162=1,$D162, 0),0)","v":0},{"$f":"IF(INTRO!$E$39<>\"Endemic\",0, IF(AND(COUNTRY_INFO!$I162=1,$F162<>0),IF(COUNTRY_INFO!M162>=(COUNTRY_INFO!F162+COUNTRY_INFO!G162),COUNTRY_INFO!F162+COUNTRY_INFO!G162,COUNTRY_INFO!$M162), 0))","v":126194},null,126194,0,706686.39999999991,0,706686.39999999991,null,706686.39999999991,1414]
[{"$f":"IF(INTRO!$E$39=\"Non-endemic\",\" \",IF(COUNTRY_INFO!A163=0,\" \",COUNTRY_INFO!A163))","v":"Ghana"},{"$f":"IF(INTRO!$E$39=\"Non-endemic\",\" \",IF(COUNTRY_INFO!B163=0,\" \",COUNTRY_INFO!B163))","v":"Upper East"},{"$f":"IF(INTRO!$E$39=\"Non-endemic\",\" \",IF(COUNTRY_INFO!C163=0,\" \",COUNTRY_INFO!C163))","v":"Kassena-Nankana"},{"$f":"IF(INTRO!$E$39=\"Non-endemic\",0,IF(INTRO!$E$39=\"Endemic but PC is not required\",IF(COUNTRY_INFO!$H163=1,COUNTRY_INFO!F163+COUNTRY_INFO!G163,0),IF(COUNTRY_INFO!$H163=1,COUNTRY_INFO!F163+COUNTRY_INFO!G163,IF(COUNTRY_INFO!$I163=1,IF(COUNTRY_INFO!M163>=(COUNTRY_INFO!F163+COUNTRY_INFO!G163),COUNTRY_INFO!F163+COUNTRY_INFO!G163,COUNTRY_INFO!$M163),0))))","v":0},{"$f":"IF(AND(INTRO!$E$39=\"Non-endemic\",INTRO!$E$37=\"Non-endemic\"),\"Not required\",IF(INTRO!$E$39=\"Non-endemic\",\"Treat with DEC\",COUNTRY_INFO!P163))","v":0},{"$f":"IF(INTRO!$E$39<>\"Non-endemic\",COUNTRY_INFO!Q163,\"Not required\")","v":0},{"$f":"IF(COUNTRY_INFO!H163=1, IF($E163=1,$D163, 0),0)","v":0},{"$f":"IF(INTRO!$E$39<>\"Endemic\",0, IF(AND(COUNTRY_INFO!$I163=1,$F163<>0),IF(COUNTRY_INFO!M163>=(COUNTRY_INFO!F163+COUNTRY_INFO!G163),COUNTRY_INFO!F163+COUNTRY_INFO!G163,COUNTRY_INFO!$M163), 0))","v":0},null,0,0,0,0,0,null,0,0]
[{"$f":"IF(INTRO!$E$39=\"Non-endemic\",\" \",IF(COUNTRY_INFO!A164=0,\" \",COUNTRY_INFO!A164))","v":"Ghana"},{"$f":"IF(INTRO!$E$39=\"Non-endemic\",\" \",IF(COUNTRY_INFO!B164=0,\" \",COUNTRY_INFO!B164))","v":"Upper East"},{"$f":"IF(INTRO!$E$39=\"Non-endemic\",\" \",IF(COUNTRY_INFO!C164=0,\" \",COUNTRY_INFO!C164))","v":"Kassena-Nankana West"},{"$f":"IF(INTRO!$E$39=\"Non-endemic\",0,IF(INTRO!$E$39=\"Endemic but PC is not required\",IF(COUNTRY_INFO!$H164=1,COUNTRY_INFO!F164+COUNTRY_INFO!G164,0),IF(COUNTRY_INFO!$H164=1,COUNTRY_INFO!F164+COUNTRY_INFO!G164,IF(COUNTRY_INFO!$I164=1,IF(COUNTRY_INFO!M164>=(COUNTRY_INFO!F164+COUNTRY_INFO!G164),COUNTRY_INFO!F164+COUNTRY_INFO!G164,COUNTRY_INFO!$M164),0))))","v":68597},{"$f":"IF(AND(INTRO!$E$39=\"Non-endemic\",INTRO!$E$37=\"Non-endemic\"),\"Not required\",IF(INTRO!$E$39=\"Non-endemic\",\"Treat with DEC\",COUNTRY_INFO!P164))","v":1},{"$f":"IF(INTRO!$E$39<>\"Non-endemic\",COUNTRY_INFO!Q164,\"Not required\")","v":1},{"$f":"IF(COUNTRY_INFO!H164=1, IF($E164=1,$D164, 0),0)","v":68597},{"$f":"IF(INTRO!$E$39<>\"Endemic\",0, IF(AND(COUNTRY_INFO!$I164=1,$F164<>0),IF(COUNTRY_INFO!M164>=(COUNTRY_INFO!F164+COUNTRY_INFO!G164),COUNTRY_INFO!F164+COUNTRY_INFO!G164,COUNTRY_INFO!$M164), 0))","v":68597},null,68597,0,0,192071.59999999998,192071.59999999998,null,192071.59999999998,385]
[{"$f":"IF(INTRO!$E$39=\"Non-endemic\",\" \",IF(COUNTRY_INFO!A165=0,\" \",COUNTRY_INFO!A165))","v":"Ghana"},{"$f":"IF(INTRO!$E$39=\"Non-endemic\",\" \",IF(COUNTRY_INFO!B165=0,\" \",COUNTRY_INFO!B165))","v":"Upper East"},{"$f":"IF(INTRO!$E$39=\"Non-endemic\",\" \",IF(COUNTRY_INFO!C165=0,\" \",COUNTRY_INFO!C165))","v":"Nadbam"},{"$f":"IF(INTRO!$E$39=\"Non-endemic\",0,IF(INTRO!$E$39=\"Endemic but PC is not required\",IF(COUNTRY_INFO!$H165=1,COUNTRY_INFO!F165+COUNTRY_INFO!G165,0),IF(COUNTRY_INFO!$H165=1,COUNTRY_INFO!F165+COUNTRY_INFO!G165,IF(COUNTRY_INFO!$I165=1,IF(COUNTRY_INFO!M165>=(COUNTRY_INFO!F165+COUNTRY_INFO!G165),COUNTRY_INFO!F165+COUNTRY_INFO!G165,COUNTRY_INFO!$M165),0))))","v":32834},{"$f":"IF(AND(INTRO!$E$39=\"Non-endemic\",INTRO!$E$37=\"Non-endemic\"),\"Not required\",IF(INTRO!$E$39=\"Non-endemic\",\"Treat with DEC\",COUNTRY_INFO!P165))","v":1},{"$f":"IF(INTRO!$E$39<>\"Non-endemic\",COUNTRY_INFO!Q165,\"Not required\")","v":0},{"$f":"IF(COUNTRY_INFO!H165=1, IF($E165=1,$D165, 0),0)","v":32834},{"$f":"IF(INTRO!$E$39<>\"Endemic\",0, IF(AND(COUNTRY_INFO!$I165=1,$F165<>0),IF(COUNTRY_INFO!M165>=(COUNTRY_INFO!F165+COUNTRY_INFO!G165),COUNTRY_INFO!F165+COUNTRY_INFO!G165,COUNTRY_INFO!$M165), 0))","v":0},null,0,91935.2,0,0,91935.2,null,91935.2,184]
[{"$f":"IF(INTRO!$E$39=\"Non-endemic\",\" \",IF(COUNTRY_INFO!A166=0,\" \",COUNTRY_INFO!A166))","v":"Ghana"},{"$f":"IF(INTRO!$E$39=\"Non-endemic\",\" \",IF(COUNTRY_INFO!B166=0,\" \",COUNTRY_INFO!B166))","v":"Upper East"},{"$f":"IF(INTRO!$E$39=\"Non-endemic\",\" \",IF(COUNTRY_INFO!C166=0,\" \",COUNTRY_INFO!C166))","v":"Talensi"},{"$f":"IF(INTRO!$E$39=\"Non-endemic\",0,IF(INTRO!$E$39=\"Endemic but PC is not required\",IF(COUNTRY_INFO!$H166=1,COUNTRY_INFO!F166+COUNTRY_INFO!G166,0),IF(COUNTRY_INFO!$H166=1,COUNTRY_INFO!F166+COUNTRY_INFO!G166,IF(COUNTRY_INFO!$I166=1,IF(COUNTRY_INFO!M166>=(COUNTRY_INFO!F166+COUNTRY_INFO!G166),COUNTRY_INFO!F166+COUNTRY_INFO!G166,COUNTRY_INFO!$M166),0))))","v":0},{"$f":"IF(AND(INTRO!$E$39=\"Non-endemic\",INTRO!$E$37=\"Non-endemic\"),\"Not required\",IF(INTRO!$E$39=\"Non-endemic\",\"Treat with DEC\",COUNTRY_INFO!P166))","v":0},{"$f":"IF(INTRO!$E$39<>\"Non-endemic\",COUNTRY_INFO!Q166,\"Not required\")","v":0},{"$f":"IF(COUNTRY_INFO!H166=1, IF($E166=1,$D166, 0),0)","v":0},{"$f":"IF(INTRO!$E$39<>\"Endemic\",0, IF(AND(COUNTRY_INFO!$I166=1,$F166<>0),IF(COUNTRY_INFO!M166>=(COUNTRY_INFO!F166+COUNTRY_INFO!G166),COUNTRY_INFO!F166+COUNTRY_INFO!G166,COUNTRY_INFO!$M166), 0))","v":0},null,0,0,0,0,0,null,0,0]
[{"$f":"IF(INTRO!$E$39=\"Non-endemic\",\" \",IF(COUNTRY_INFO!A167=0,\" \",COUNTRY_INFO!A167))","v":"Ghana"},{"$f":"IF(INTRO!$E$39=\"Non-endemic\",\" \",IF(COUNTRY_INFO!B167=0,\" \",COUNTRY_INFO!B167))","v":"Upper West"},{"$f":"IF(INTRO!$E$39=\"Non-endemic\",\" \",IF(COUNTRY_INFO!C167=0,\" \",COUNTRY_INFO!C167))","v":"Jirapa"},{"$f":"IF(INTRO!$E$39=\"Non-endemic\",0,IF(INTRO!$E$39=\"Endemic but PC is not required\",IF(COUNTRY_INFO!$H167=1,COUNTRY_INFO!F167+COUNTRY_INFO!G167,0),IF(COUNTRY_INFO!$H167=1,COUNTRY_INFO!F167+COUNTRY_INFO!G167,IF(COUNTRY_INFO!$I167=1,IF(COUNTRY_INFO!M167>=(COUNTRY_INFO!F167+COUNTRY_INFO!G167),COUNTRY_INFO!F167+COUNTRY_INFO!G167,COUNTRY_INFO!$M167),0))))","v":90676},{"$f":"IF(AND(INTRO!$E$39=\"Non-endemic\",INTRO!$E$37=\"Non-endemic\"),\"Not required\",IF(INTRO!$E$39=\"Non-endemic\",\"Treat with DEC\",COUNTRY_INFO!P167))","v":1},{"$f":"IF(INTRO!$E$39<>\"Non-endemic\",COUNTRY_INFO!Q167,\"Not required\")","v":2},{"$f":"IF(COUNTRY_INFO!H167=1, IF($E167=1,$D167, 0),0)","v":90676},{"$f":"IF(INTRO!$E$39<>\"Endemic\",0, IF(AND(COUNTRY_INFO!$I167=1,$F167<>0),IF(COUNTRY_INFO!M167>=(COUNTRY_INFO!F167+COUNTRY_INFO!G167),COUNTRY_INFO!F167+COUNTRY_INFO!G167,COUNTRY_INFO!$M167), 0))","v":90676},null,90676,0,253892.8,253892.8,507785.6,null,507785.6,1016]
[{"$f":"IF(INTRO!$E$39=\"Non-endemic\",\" \",IF(COUNTRY_INFO!A168=0,\" \",COUNTRY_INFO!A168))","v":"Ghana"},{"$f":"IF(INTRO!$E$39=\"Non-endemic\",\" \",IF(COUNTRY_INFO!B168=0,\" \",COUNTRY_INFO!B168))","v":"Upper West"},{"$f":"IF(INTRO!$E$39=\"Non-endemic\",\" \",IF(COUNTRY_INFO!C168=0,\" \",COUNTRY_INFO!C168))","v":"Lambussie"},{"$f":"IF(INTRO!$E$39=\"Non-endemic\",0,IF(INTRO!$E$39=\"Endemic but PC is not required\",IF(COUNTRY_INFO!$H168=1,COUNTRY_INFO!F168+COUNTRY_INFO!G168,0),IF(COUNTRY_INFO!$H168=1,COUNTRY_INFO!F168+COUNTRY_INFO!G168,IF(COUNTRY_INFO!$I168=1,IF(COUNTRY_INFO!M168>=(COUNTRY_INFO!F168+COUNTRY_INFO!G168),COUNTRY_INFO!F168+COUNTRY_INFO!G168,COUNTRY_INFO!$M168),0))))","v":52984},{"$f":"IF(AND(INTRO!$E$39=\"Non-endemic\",INTRO!$E$37=\"Non-endemic\"),\"Not required\",IF(INTRO!$E$39=\"Non-endemic\",\"Treat with DEC\",COUNTRY_INFO!P168))","v":0},{"$f":"IF(INTRO!$E$39<>\"Non-endemic\",COUNTRY_INFO!Q168,\"Not required\")","v":2},{"$f":"IF(COUNTRY_INFO!H168=1, IF($E168=1,$D168, 0),0)","v":0},{"$f":"IF(INTRO!$E$39<>\"Endemic\",0, IF(AND(COUNTRY_INFO!$I168=1,$F168<>0),IF(COUNTRY_INFO!M168>=(COUNTRY_INFO!F168+COUNTRY_INFO!G168),COUNTRY_INFO!F168+COUNTRY_INFO!G168,COUNTRY_INFO!$M168), 0))","v":52984},null,52984,0,296710.39999999997,0,296710.39999999997,null,296710.39999999997,594]
[{"$f":"IF(INTRO!$E$39=\"Non-endemic\",\" \",IF(COUNTRY_INFO!A169=0,\" \",COUNTRY_INFO!A169))","v":"Ghana"},{"$f":"IF(INTRO!$E$39=\"Non-endemic\",\" \",IF(COUNTRY_INFO!B169=0,\" \",COUNTRY_INFO!B169))","v":"Upper West"},{"$f":"IF(INTRO!$E$39=\"Non-endemic\",\" \",IF(COUNTRY_INFO!C169=0,\" \",COUNTRY_INFO!C169))","v":"Lawra"},{"$f":"IF(INTRO!$E$39=\"Non-endemic\",0,IF(INTRO!$E$39=\"Endemic but PC is not required\",IF(COUNTRY_INFO!$H169=1,COUNTRY_INFO!F169+COUNTRY_INFO!G169,0),IF(COUNTRY_INFO!$H169=1,COUNTRY_INFO!F169+COUNTRY_INFO!G169,IF(COUNTRY_INFO!$I169=1,IF(COUNTRY_INFO!M169>=(COUNTRY_INFO!F169+COUNTRY_INFO!G169),COUNTRY_INFO!F169+COUNTRY_INFO!G169,COUNTRY_INFO!$M169),0))))","v":57064},{"$f":"IF(AND(INTRO!$E$39=\"Non-endemic\",INTRO!$E$37=\"Non-endemic\"),\"Not required\",IF(INTRO!$E$39=\"Non-endemic\",\"Treat with DEC\",COUNTRY_INFO!P169))","v":1},{"$f":"IF(INTRO!$E$39<>\"Non-endemic\",COUNTRY_INFO!Q169,\"Not required\")","v":2},{"$f":"IF(COUNTRY_INFO!H169=1, IF($E169=1,$D169, 0),0)","v":57064},{"$f":"IF(INTRO!$E$39<>\"Endemic\",0, IF(AND(COUNTRY_INFO!$I169=1,$F169<>0),IF(COUNTRY_INFO!M169>=(COUNTRY_INFO!F169+COUNTRY_INFO!G169),COUNTRY_INFO!F169+COUNTRY_INFO!G169,COUNTRY_INFO!$M169), 0))","v":57064},null,57064,0,159779.19999999998,159779.19999999998,319558.39999999997,null,319558.39999999997,640]
[{"$f":"IF(INTRO!$E$39=\"Non-endemic\",\" \",IF(COUNTRY_INFO!A170=0,\" \",COUNTRY_INFO!A170))","v":"Ghana"},{"$f":"IF(INTRO!$E$39=\"Non-endemic\",\" \",IF(COUNTRY_INFO!B170=0,\" \",COUNTRY_INFO!B170))","v":"Upper West"},{"$f":"IF(INTRO!$E$39=\"Non-endemic\",\" \",IF(COUNTRY_INFO!C170=0,\" \",COUNTRY_INFO!C170))","v":"Nandom"},{"$f":"IF(INTRO!$E$39=\"Non-endemic\",0,IF(INTRO!$E$39=\"Endemic but PC is not required\",IF(COUNTRY_INFO!$H170=1,COUNTRY_INFO!F170+COUNTRY_INFO!G170,0),IF(COUNTRY_INFO!$H170=1,COUNTRY_INFO!F170+COUNTRY_INFO!G170,IF(COUNTRY_INFO!$I170=1,IF(COUNTRY_INFO!M170>=(COUNTRY_INFO!F170+COUNTRY_INFO!G170),COUNTRY_INFO!F170+COUNTRY_INFO!G170,COUNTRY_INFO!$M170),0))))","v":46462},{"$f":"IF(AND(INTRO!$E$39=\"Non-endemic\",INTRO!$E$37=\"Non-endemic\"),\"Not required\",IF(INTRO!$E$39=\"Non-endemic\",\"Treat with DEC\",COUNTRY_INFO!P170))","v":0},{"$f":"IF(INTRO!$E$39<>\"Non-endemic\",COUNTRY_INFO!Q170,\"Not required\")","v":2},{"$f":"IF(COUNTRY_INFO!H170=1, IF($E170=1,$D170, 0),0)","v":0},{"$f":"IF(INTRO!$E$39<>\"Endemic\",0, IF(AND(COUNTRY_INFO!$I170=1,$F170<>0),IF(COUNTRY_INFO!M170>=(COUNTRY_INFO!F170+COUNTRY_INFO!G170),COUNTRY_INFO!F170+COUNTRY_INFO!G170,COUNTRY_INFO!$M170), 0))","v":46462},null,46462,0,260187.19999999998,0,260187.19999999998,null,260187.19999999998,521]
[{"$f":"IF(INTRO!$E$39=\"Non-endemic\",\" \",IF(COUNTRY_INFO!A171=0,\" \",COUNTRY_INFO!A171))","v":"Ghana"},{"$f":"IF(INTRO!$E$39=\"Non-endemic\",\" \",IF(COUNTRY_INFO!B171=0,\" \",COUNTRY_INFO!B171))","v":"Upper West"},{"$f":"IF(INTRO!$E$39=\"Non-endemic\",\" \",IF(COUNTRY_INFO!C171=0,\" \",COUNTRY_INFO!C171))","v":"Nadowli"},{"$f":"IF(INTRO!$E$39=\"Non-endemic\",0,IF(INTRO!$E$39=\"Endemic but PC is not required\",IF(COUNTRY_INFO!$H171=1,COUNTRY_INFO!F171+COUNTRY_INFO!G171,0),IF(COUNTRY_INFO!$H171=1,COUNTRY_INFO!F171+COUNTRY_INFO!G171,IF(COUNTRY_INFO!$I171=1,IF(COUNTRY_INFO!M171>=(COUNTRY_INFO!F171+COUNTRY_INFO!G171),COUNTRY_INFO!F171+COUNTRY_INFO!G171,COUNTRY_INFO!$M171),0))))","v":63395},{"$f":"IF(AND(INTRO!$E$39=\"Non-endemic\",INTRO!$E$37=\"Non-endemic\"),\"Not required\",IF(INTRO!$E$39=\"Non-endemic\",\"Treat with DEC\",COUNTRY_INFO!P171))","v":0},{"$f":"IF(INTRO!$E$39<>\"Non-endemic\",COUNTRY_INFO!Q171,\"Not required\")","v":2},{"$f":"IF(COUNTRY_INFO!H171=1, IF($E171=1,$D171, 0),0)","v":0},{"$f":"IF(INTRO!$E$39<>\"Endemic\",0, IF(AND(COUNTRY_INFO!$I171=1,$F171<>0),IF(COUNTRY_INFO!M171>=(COUNTRY_INFO!F171+COUNTRY_INFO!G171),COUNTRY_INFO!F171+COUNTRY_INFO!G171,COUNTRY_INFO!$M171), 0))","v":63395},null,63395,0,355012,0,355012,null,355012,711]
[{"$f":"IF(INTRO!$E$39=\"Non-endemic\",\" \",IF(COUNTRY_INFO!A172=0,\" \",COUNTRY_INFO!A172))","v":"Ghana"},{"$f":"IF(INTRO!$E$39=\"Non-endemic\",\" \",IF(COUNTRY_INFO!B172=0,\" \",COUNTRY_INFO!B172))","v":"Upper West"},{"$f":"IF(INTRO!$E$39=\"Non-endemic\",\" \",IF(COUNTRY_INFO!C172=0,\" \",COUNTRY_INFO!C172))","v":"Daffiama Bussie Issa"},{"$f":"IF(INTRO!$E$39=\"Non-endemic\",0,IF(INTRO!$E$39=\"Endemic but PC is not required\",IF(COUNTRY_INFO!$H172=1,COUNTRY_INFO!F172+COUNTRY_INFO!G172,0),IF(COUNTRY_INFO!$H172=1,COUNTRY_INFO!F172+COUNTRY_INFO!G172,IF(COUNTRY_INFO!$I172=1,IF(COUNTRY_INFO!M172>=(COUNTRY_INFO!F172+COUNTRY_INFO!G172),COUNTRY_INFO!F172+COUNTRY_INFO!G172,COUNTRY_INFO!$M172),0))))","v":33422},{"$f":"IF(AND(INTRO!$E$39=\"Non-endemic\",INTRO!$E$37=\"Non-endemic\"),\"Not required\",IF(INTRO!$E$39=\"Non-endemic\",\"Treat with DEC\",COUNTRY_INFO!P172))","v":0},{"$f":"IF(INTRO!$E$39<>\"Non-endemic\",COUNTRY_INFO!Q172,\"Not required\")","v":2},{"$f":"IF(COUNTRY_INFO!H172=1, IF($E172=1,$D172, 0),0)","v":0},{"$f":"IF(INTRO!$E$39<>\"Endemic\",0, IF(AND(COUNTRY_INFO!$I172=1,$F172<>0),IF(COUNTRY_INFO!M172>=(COUNTRY_INFO!F172+COUNTRY_INFO!G172),COUNTRY_INFO!F172+COUNTRY_INFO!G172,COUNTRY_INFO!$M172), 0))","v":33422},null,33422,0,187163.19999999998,0,187163.19999999998,null,187163.19999999998,375]
[{"$f":"IF(INTRO!$E$39=\"Non-endemic\",\" \",IF(COUNTRY_INFO!A173=0,\" \",COUNTRY_INFO!A173))","v":"Ghana"},{"$f":"IF(INTRO!$E$39=\"Non-endemic\",\" \",IF(COUNTRY_INFO!B173=0,\" \",COUNTRY_INFO!B173))","v":"Upper West"},{"$f":"IF(INTRO!$E$39=\"Non-endemic\",\" \",IF(COUNTRY_INFO!C173=0,\" \",COUNTRY_INFO!C173))","v":"Sissala East"},{"$f":"IF(INTRO!$E$39=\"Non-endemic\",0,IF(INTRO!$E$39=\"Endemic but PC is not required\",IF(COUNTRY_INFO!$H173=1,COUNTRY_INFO!F173+COUNTRY_INFO!G173,0),IF(COUNTRY_INFO!$H173=1,COUNTRY_INFO!F173+COUNTRY_INFO!G173,IF(COUNTRY_INFO!$I173=1,IF(COUNTRY_INFO!M173>=(COUNTRY_INFO!F173+COUNTRY_INFO!G173),COUNTRY_INFO!F173+COUNTRY_INFO!G173,COUNTRY_INFO!$M173),0))))","v":57983},{"$f":"IF(AND(INTRO!$E$39=\"Non-endemic\",INTRO!$E$37=\"Non-endemic\"),\"Not required\",IF(INTRO!$E$39=\"Non-endemic\",\"Treat with DEC\",COUNTRY_INFO!P173))","v":0},{"$f":"IF(INTRO!$E$39<>\"Non-endemic\",COUNTRY_INFO!Q173,\"Not required\")","v":2},{"$f":"IF(COUNTRY_INFO!H173=1, IF($E173=1,$D173, 0),0)","v":0},{"$f":"IF(INTRO!$E$39<>\"Endemic\",0, IF(AND(COUNTRY_INFO!$I173=1,$F173<>0),IF(COUNTRY_INFO!M173>=(COUNTRY_INFO!F173+COUNTRY_INFO!G173),COUNTRY_INFO!F173+COUNTRY_INFO!G173,COUNTRY_INFO!$M173), 0))","v":57983},null,57983,0,324704.8,0,324704.8,null,324704.8,650]
[{"$f":"IF(INTRO!$E$39=\"Non-endemic\",\" \",IF(COUNTRY_INFO!A174=0,\" \",COUNTRY_INFO!A174))","v":"Ghana"},{"$f":"IF(INTRO!$E$39=\"Non-endemic\",\" \",IF(COUNTRY_INFO!B174=0,\" \",COUNTRY_INFO!B174))","v":"Upper West"},{"$f":"IF(INTRO!$E$39=\"Non-endemic\",\" \",IF(COUNTRY_INFO!C174=0,\" \",COUNTRY_INFO!C174))","v":"Sissala West"},{"$f":"IF(INTRO!$E$39=\"Non-endemic\",0,IF(INTRO!$E$39=\"Endemic but PC is not required\",IF(COUNTRY_INFO!$H174=1,COUNTRY_INFO!F174+COUNTRY_INFO!G174,0),IF(COUNTRY_INFO!$H174=1,COUNTRY_INFO!F174+COUNTRY_INFO!G174,IF(COUNTRY_INFO!$I174=1,IF(COUNTRY_INFO!M174>=(COUNTRY_INFO!F174+COUNTRY_INFO!G174),COUNTRY_INFO!F174+COUNTRY_INFO!G174,COUNTRY_INFO!$M174),0))))","v":50848},{"$f":"IF(AND(INTRO!$E$39=\"Non-endemic\",INTRO!$E$37=\"Non-endemic\"),\"Not required\",IF(INTRO!$E$39=\"Non-endemic\",\"Treat with DEC\",COUNTRY_INFO!P174))","v":0},{"$f":"IF(INTRO!$E$39<>\"Non-endemic\",COUNTRY_INFO!Q174,\"Not required\")","v":0},{"$f":"IF(COUNTRY_INFO!H174=1, IF($E174=1,$D174, 0),0)","v":0},{"$f":"IF(INTRO!$E$39<>\"Endemic\",0, IF(AND(COUNTRY_INFO!$I174=1,$F174<>0),IF(COUNTRY_INFO!M174>=(COUNTRY_INFO!F174+COUNTRY_INFO!G174),COUNTRY_INFO!F174+COUNTRY_INFO!G174,COUNTRY_INFO!$M174), 0))","v":0},null,0,0,0,0,0,null,0,0]
[{"$f":"IF(INTRO!$E$39=\"Non-endemic\",\" \",IF(COUNTRY_INFO!A175=0,\" \",COUNTRY_INFO!A175))","v":"Ghana"},{"$f":"IF(INTRO!$E$39=\"Non-endemic\",\" \",IF(COUNTRY_INFO!B175=0,\" \",COUNTRY_INFO!B175))","v":"Upper West"},{"$f":"IF(INTRO!$E$39=\"Non-endemic\",\" \",IF(COUNTRY_INFO!C175=0,\" \",COUNTRY_INFO!C175))","v":"Wa East"},{"$f":"IF(INTRO!$E$39=\"Non-endemic\",0,IF(INTRO!$E$39=\"Endemic but PC is not required\",IF(COUNTRY_INFO!$H175=1,COUNTRY_INFO!F175+COUNTRY_INFO!G175,0),IF(COUNTRY_INFO!$H175=1,COUNTRY_INFO!F175+COUNTRY_INFO!G175,IF(COUNTRY_INFO!$I175=1,IF(COUNTRY_INFO!M175>=(COUNTRY_INFO!F175+COUNTRY_INFO!G175),COUNTRY_INFO!F175+COUNTRY_INFO!G175,COUNTRY_INFO!$M175),0))))","v":73929},{"$f":"IF(AND(INTRO!$E$39=\"Non-endemic\",INTRO!$E$37=\"Non-endemic\"),\"Not required\",IF(INTRO!$E$39=\"Non-endemic\",\"Treat with DEC\",COUNTRY_INFO!P175))","v":1},{"$f":"IF(INTRO!$E$39<>\"Non-endemic\",COUNTRY_INFO!Q175,\"Not required\")","v":2},{"$f":"IF(COUNTRY_INFO!H175=1, IF($E175=1,$D175, 0),0)","v":73929},{"$f":"IF(INTRO!$E$39<>\"Endemic\",0, IF(AND(COUNTRY_INFO!$I175=1,$F175<>0),IF(COUNTRY_INFO!M175>=(COUNTRY_INFO!F175+COUNTRY_INFO!G175),COUNTRY_INFO!F175+COUNTRY_INFO!G175,COUNTRY_INFO!$M175), 0))","v":73929},null,73929,0,207001.19999999998,207001.19999999998,414002.39999999997,null,414002.39999999997,829]
[{"$f":"IF(INTRO!$E$39=\"Non-endemic\",\" \",IF(COUNTRY_INFO!A176=0,\" \",COUNTRY_INFO!A176))","v":"Ghana"},{"$f":"IF(INTRO!$E$39=\"Non-endemic\",\" \",IF(COUNTRY_INFO!B176=0,\" \",COUNTRY_INFO!B176))","v":"Upper West"},{"$f":"IF(INTRO!$E$39=\"Non-endemic\",\" \",IF(COUNTRY_INFO!C176=0,\" \",COUNTRY_INFO!C176))","v":"Wa Municipal"},{"$f":"IF(INTRO!$E$39=\"Non-endemic\",0,IF(INTRO!$E$39=\"Endemic but PC is not required\",IF(COUNTRY_INFO!$H176=1,COUNTRY_INFO!F176+COUNTRY_INFO!G176,0),IF(COUNTRY_INFO!$H176=1,COUNTRY_INFO!F176+COUNTRY_INFO!G176,IF(COUNTRY_INFO!$I176=1,IF(COUNTRY_INFO!M176>=(COUNTRY_INFO!F176+COUNTRY_INFO!G176),COUNTRY_INFO!F176+COUNTRY_INFO!G176,COUNTRY_INFO!$M176),0))))","v":109973},{"$f":"IF(AND(INTRO!$E$39=\"Non-endemic\",INTRO!$E$37=\"Non-endemic\"),\"Not required\",IF(INTRO!$E$39=\"Non-endemic\",\"Treat with DEC\",COUNTRY_INFO!P176))","v":0},{"$f":"IF(INTRO!$E$39<>\"Non-endemic\",COUNTRY_INFO!Q176,\"Not required\")","v":0},{"$f":"IF(COUNTRY_INFO!H176=1, IF($E176=1,$D176, 0),0)","v":0},{"$f":"IF(INTRO!$E$39<>\"Endemic\",0, IF(AND(COUNTRY_INFO!$I176=1,$F176<>0),IF(COUNTRY_INFO!M176>=(COUNTRY_INFO!F176+COUNTRY_INFO!G176),COUNTRY_INFO!F176+COUNTRY_INFO!G176,COUNTRY_INFO!$M176), 0))","v":0},null,0,0,0,0,0,null,0,0]
[{"$f":"IF(INTRO!$E$39=\"Non-endemic\",\" \",IF(COUNTRY_INFO!A177=0,\" \",COUNTRY_INFO!A177))","v":"Ghana"},{"$f":"IF(INTRO!$E$39=\"Non-endemic\",\" \",IF(COUNTRY_INFO!B177=0,\" \",COUNTRY_INFO!B177))","v":"Upper West"},{"$f":"IF(INTRO!$E$39=\"Non-endemic\",\" \",IF(COUNTRY_INFO!C177=0,\" \",COUNTRY_INFO!C177))","v":"Wa West"},{"$f":"IF(INTRO!$E$39=\"Non-endemic\",0,IF(INTRO!$E$39=\"Endemic but PC is not required\",IF(COUNTRY_INFO!$H177=1,COUNTRY_INFO!F177+COUNTRY_INFO!G177,0),IF(COUNTRY_INFO!$H177=1,COUNTRY_INFO!F177+COUNTRY_INFO!G177,IF(COUNTRY_INFO!$I177=1,IF(COUNTRY_INFO!M177>=(COUNTRY_INFO!F177+COUNTRY_INFO!G177),COUNTRY_INFO!F177+COUNTRY_INFO!G177,COUNTRY_INFO!$M177),0))))","v":83442},{"$f":"IF(AND(INTRO!$E$39=\"Non-endemic\",INTRO!$E$37=\"Non-endemic\"),\"Not required\",IF(INTRO!$E$39=\"Non-endemic\",\"Treat with DEC\",COUNTRY_INFO!P177))","v":1},{"$f":"IF(INTRO!$E$39<>\"Non-endemic\",COUNTRY_INFO!Q177,\"Not required\")","v":2},{"$f":"IF(COUNTRY_INFO!H177=1, IF($E177=1,$D177, 0),0)","v":83442},{"$f":"IF(INTRO!$E$39<>\"Endemic\",0, IF(AND(COUNTRY_INFO!$I177=1,$F177<>0),IF(COUNTRY_INFO!M177>=(COUNTRY_INFO!F177+COUNTRY_INFO!G177),COUNTRY_INFO!F177+COUNTRY_INFO!G177,COUNTRY_INFO!$M177), 0))","v":83442},null,83442,0,233637.59999999998,233637.59999999998,467275.19999999995,null,467275.19999999995,935]
[{"$f":"IF(INTRO!$E$39=\"Non-endemic\",\" \",IF(COUNTRY_INFO!A178=0,\" \",COUNTRY_INFO!A178))","v":"Ghana"},{"$f":"IF(INTRO!$E$39=\"Non-endemic\",\" \",IF(COUNTRY_INFO!B178=0,\" \",COUNTRY_INFO!B178))","v":"Volta"},{"$f":"IF(INTRO!$E$39=\"Non-endemic\",\" \",IF(COUNTRY_INFO!C178=0,\" \",COUNTRY_INFO!C178))","v":"Agotime Ziope"},{"$f":"IF(INTRO!$E$39=\"Non-endemic\",0,IF(INTRO!$E$39=\"Endemic but PC is not required\",IF(COUNTRY_INFO!$H178=1,COUNTRY_INFO!F178+COUNTRY_INFO!G178,0),IF(COUNTRY_INFO!$H178=1,COUNTRY_INFO!F178+COUNTRY_INFO!G178,IF(COUNTRY_INFO!$I178=1,IF(COUNTRY_INFO!M178>=(COUNTRY_INFO!F178+COUNTRY_INFO!G178),COUNTRY_INFO!F178+COUNTRY_INFO!G178,COUNTRY_INFO!$M178),0))))","v":37042},{"$f":"IF(AND(INTRO!$E$39=\"Non-endemic\",INTRO!$E$37=\"Non-endemic\"),\"Not required\",IF(INTRO!$E$39=\"Non-endemic\",\"Treat with DEC\",COUNTRY_INFO!P178))","v":0},{"$f":"IF(INTRO!$E$39<>\"Non-endemic\",COUNTRY_INFO!Q178,\"Not required\")","v":2},{"$f":"IF(COUNTRY_INFO!H178=1, IF($E178=1,$D178, 0),0)","v":0},{"$f":"IF(INTRO!$E$39<>\"Endemic\",0, IF(AND(COUNTRY_INFO!$I178=1,$F178<>0),IF(COUNTRY_INFO!M178>=(COUNTRY_INFO!F178+COUNTRY_INFO!G178),COUNTRY_INFO!F178+COUNTRY_INFO!G178,COUNTRY_INFO!$M178), 0))","v":37042},null,37042,0,207435.19999999998,0,207435.19999999998,null,207435.19999999998,415]
[{"$f":"IF(INTRO!$E$39=\"Non-endemic\",\" \",IF(COUNTRY_INFO!A179=0,\" \",COUNTRY_INFO!A179))","v":"Ghana"},{"$f":"IF(INTRO!$E$39=\"Non-endemic\",\" \",IF(COUNTRY_INFO!B179=0,\" \",COUNTRY_INFO!B179))","v":"Volta"},{"$f":"IF(INTRO!$E$39=\"Non-endemic\",\" \",IF(COUNTRY_INFO!C179=0,\" \",COUNTRY_INFO!C179))","v":"Adaklu"},{"$f":"IF(INTRO!$E$39=\"Non-endemic\",0,IF(INTRO!$E$39=\"Endemic but PC is not required\",IF(COUNTRY_INFO!$H179=1,COUNTRY_INFO!F179+COUNTRY_INFO!G179,0),IF(COUNTRY_INFO!$H179=1,COUNTRY_INFO!F179+COUNTRY_INFO!G179,IF(COUNTRY_INFO!$I179=1,IF(COUNTRY_INFO!M179>=(COUNTRY_INFO!F179+COUNTRY_INFO!G179),COUNTRY_INFO!F179+COUNTRY_INFO!G179,COUNTRY_INFO!$M179),0))))","v":32196},{"$f":"IF(AND(INTRO!$E$39=\"Non-endemic\",INTRO!$E$37=\"Non-endemic\"),\"Not required\",IF(INTRO!$E$39=\"Non-endemic\",\"Treat with DEC\",COUNTRY_INFO!P179))","v":0},{"$f":"IF(INTRO!$E$39<>\"Non-endemic\",COUNTRY_INFO!Q179,\"Not required\")","v":2},{"$f":"IF(COUNTRY_INFO!H179=1, IF($E179=1,$D179, 0),0)","v":0},{"$f":"IF(INTRO!$E$39<>\"Endemic\",0, IF(AND(COUNTRY_INFO!$I179=1,$F179<>0),IF(COUNTRY_INFO!M179>=(COUNTRY_INFO!F179+COUNTRY_INFO!G179),COUNTRY_INFO!F179+COUNTRY_INFO!G179,COUNTRY_INFO!$M179), 0))","v":32196},null,32196,0,180297.59999999998,0,180297.59999999998,null,180297.59999999998,361]
[{"$f":"IF(INTRO!$E$39=\"Non-endemic\",\" \",IF(COUNTRY_INFO!A180=0,\" \",COUNTRY_INFO!A180))","v":"Ghana"},{"$f":"IF(INTRO!$E$39=\"Non-endemic\",\" \",IF(COUNTRY_INFO!B180=0,\" \",COUNTRY_INFO!B180))","v":"Volta"},{"$f":"IF(INTRO!$E$39=\"Non-endemic\",\" \",IF(COUNTRY_INFO!C180=0,\" \",COUNTRY_INFO!C180))","v":"Akatsi"},{"$f":"IF(INTRO!$E$39=\"Non-endemic\",0,IF(INTRO!$E$39=\"Endemic but PC is not required\",IF(COUNTRY_INFO!$H180=1,COUNTRY_INFO!F180+COUNTRY_INFO!G180,0),IF(COUNTRY_INFO!$H180=1,COUNTRY_INFO!F180+COUNTRY_INFO!G180,IF(COUNTRY_INFO!$I180=1,IF(COUNTRY_INFO!M180>=(COUNTRY_INFO!F180+COUNTRY_INFO!G180),COUNTRY_INFO!F180+COUNTRY_INFO!G180,COUNTRY_INFO!$M180),0))))","v":0},{"$f":"IF(AND(INTRO!$E$39=\"Non-endemic\",INTRO!$E$37=\"Non-endemic\"),\"Not required\",IF(INTRO!$E$39=\"Non-endemic\",\"Treat with DEC\",COUNTRY_INFO!P180))","v":0},{"$f":"IF(INTRO!$E$39<>\"Non-endemic\",COUNTRY_INFO!Q180,\"Not required\")","v":0},{"$f":"IF(COUNTRY_INFO!H180=1, IF($E180=1,$D180, 0),0)","v":0},{"$f":"IF(INTRO!$E$39<>\"Endemic\",0, IF(AND(COUNTRY_INFO!$I180=1,$F180<>0),IF(COUNTRY_INFO!M180>=(COUNTRY_INFO!F180+COUNTRY_INFO!G180),COUNTRY_INFO!F180+COUNTRY_INFO!G180,COUNTRY_INFO!$M180), 0))","v":0},null,0,0,0,0,0,null,0,0]
[{"$f":"IF(INTRO!$E$39=\"Non-endemic\",\" \",IF(COUNTRY_INFO!A181=0,\" \",COUNTRY_INFO!A181))","v":"Ghana"},{"$f":"IF(INTRO!$E$39=\"Non-endemic\",\" \",IF(COUNTRY_INFO!B181=0,\" \",COUNTRY_INFO!B181))","v":"Volta"},{"$f":"IF(INTRO!$E$39=\"Non-endemic\",\" \",IF(COUNTRY_INFO!C181=0,\" \",COUNTRY_INFO!C181))","v":"Akatsi North"},{"$f":"IF(INTRO!$E$39=\"Non-endemic\",0,IF(INTRO!$E$39=\"Endemic but PC is not required\",IF(COUNTRY_INFO!$H181=1,COUNTRY_INFO!F181+COUNTRY_INFO!G181,0),IF(COUNTRY_INFO!$H181=1,COUNTRY_INFO!F181+COUNTRY_INFO!G181,IF(COUNTRY_INFO!$I181=1,IF(COUNTRY_INFO!M181>=(COUNTRY_INFO!F181+COUNTRY_INFO!G181),COUNTRY_INFO!F181+COUNTRY_INFO!G181,COUNTRY_INFO!$M181),0))))","v":0},{"$f":"IF(AND(INTRO!$E$39=\"Non-endemic\",INTRO!$E$37=\"Non-endemic\"),\"Not required\",IF(INTRO!$E$39=\"Non-endemic\",\"Treat with DEC\",COUNTRY_INFO!P181))","v":0},{"$f":"IF(INTRO!$E$39<>\"Non-endemic\",COUNTRY_INFO!Q181,\"Not required\")","v":0},{"$f":"IF(COUNTRY_INFO!H181=1, IF($E181=1,$D181, 0),0)","v":0},{"$f":"IF(INTRO!$E$39<>\"Endemic\",0, IF(AND(COUNTRY_INFO!$I181=1,$F181<>0),IF(COUNTRY_INFO!M181>=(COUNTRY_INFO!F181+COUNTRY_INFO!G181),COUNTRY_INFO!F181+COUNTRY_INFO!G181,COUNTRY_INFO!$M181), 0))","v":0},null,0,0,0,0,0,null,0,0]
[{"$f":"IF(INTRO!$E$39=\"Non-endemic\",\" \",IF(COUNTRY_INFO!A182=0,\" \",COUNTRY_INFO!A182))","v":"Ghana"},{"$f":"IF(INTRO!$E$39=\"Non-endemic\",\" \",IF(COUNTRY_INFO!B182=0,\" \",COUNTRY_INFO!B182))","v":"Volta"},{"$f":"IF(INTRO!$E$39=\"Non-endemic\",\" \",IF(COUNTRY_INFO!C182=0,\" \",COUNTRY_INFO!C182))","v":"Biakoye"},{"$f":"IF(INTRO!$E$39=\"Non-endemic\",0,IF(INTRO!$E$39=\"Endemic but PC is not required\",IF(COUNTRY_INFO!$H182=1,COUNTRY_INFO!F182+COUNTRY_INFO!G182,0),IF(COUNTRY_INFO!$H182=1,COUNTRY_INFO!F182+COUNTRY_INFO!G182,IF(COUNTRY_INFO!$I182=1,IF(COUNTRY_INFO!M182>=(COUNTRY_INFO!F182+COUNTRY_INFO!G182),COUNTRY_INFO!F182+COUNTRY_INFO!G182,COUNTRY_INFO!$M182),0))))","v":70847},{"$f":"IF(AND(INTRO!$E$39=\"Non-endemic\",INTRO!$E$37=\"Non-endemic\"),\"Not required\",IF(INTRO!$E$39=\"Non-endemic\",\"Treat with DEC\",COUNTRY_INFO!P182))","v":0},{"$f":"IF(INTRO!$E$39<>\"Non-endemic\",COUNTRY_INFO!Q182,\"Not required\")","v":1},{"$f":"IF(COUNTRY_INFO!H182=1, IF($E182=1,$D182, 0),0)","v":0},{"$f":"IF(INTRO!$E$39<>\"Endemic\",0, IF(AND(COUNTRY_INFO!$I182=1,$F182<>0),IF(COUNTRY_INFO!M182>=(COUNTRY_INFO!F182+COUNTRY_INFO!G182),COUNTRY_INFO!F182+COUNTRY_INFO!G182,COUNTRY_INFO!$M182), 0))","v":70847},null,70847,0,198371.59999999998,0,198371.59999999998,null,198371.59999999998,397]
[{"$f":"IF(INTRO!$E$39=\"Non-endemic\",\" \",IF(COUNTRY_INFO!A183=0,\" \",COUNTRY_INFO!A183))","v":"Ghana"},{"$f":"IF(INTRO!$E$39=\"Non-endemic\",\" \",IF(COUNTRY_INFO!B183=0,\" \",COUNTRY_INFO!B183))","v":"Volta"},{"$f":"IF(INTRO!$E$39=\"Non-endemic\",\" \",IF(COUNTRY_INFO!C183=0,\" \",COUNTRY_INFO!C183))","v":"Ho Municipal"},{"$f":"IF(INTRO!$E$39=\"Non-endemic\",0,IF(INTRO!$E$39=\"Endemic but PC is not required\",IF(COUNTRY_INFO!$H183=1,COUNTRY_INFO!F183+COUNTRY_INFO!G183,0),IF(COUNTRY_INFO!$H183=1,COUNTRY_INFO!F183+COUNTRY_INFO!G183,IF(COUNTRY_INFO!$I183=1,IF(COUNTRY_INFO!M183>=(COUNTRY_INFO!F183+COUNTRY_INFO!G183),COUNTRY_INFO!F183+COUNTRY_INFO!G183,COUNTRY_INFO!$M183),0))))","v":190587},{"$f":"IF(AND(INTRO!$E$39=\"Non-endemic\",INTRO!$E$37=\"Non-endemic\"),\"Not required\",IF(INTRO!$E$39=\"Non-endemic\",\"Treat with DEC\",COUNTRY_INFO!P183))","v":0},{"$f":"IF(INTRO!$E$39<>\"Non-endemic\",COUNTRY_INFO!Q183,\"Not required\")","v":2},{"$f":"IF(COUNTRY_INFO!H183=1, IF($E183=1,$D183, 0),0)","v":0},{"$f":"IF(INTRO!$E$39<>\"Endemic\",0, IF(AND(COUNTRY_INFO!$I183=1,$F183<>0),IF(COUNTRY_INFO!M183>=(COUNTRY_INFO!F183+COUNTRY_INFO!G183),COUNTRY_INFO!F183+COUNTRY_INFO!G183,COUNTRY_INFO!$M183), 0))","v":190587},null,190587,0,1067287.2,0,1067287.2,null,1067287.2,2135]
[{"$f":"IF(INTRO!$E$39=\"Non-endemic\",\" \",IF(COUNTRY_INFO!A184=0,\" \",COUNTRY_INFO!A184))","v":"Ghana"},{"$f":"IF(INTRO!$E$39=\"Non-endemic\",\" \",IF(COUNTRY_INFO!B184=0,\" \",COUNTRY_INFO!B184))","v":"Volta"},{"$f":"IF(INTRO!$E$39=\"Non-endemic\",\" \",IF(COUNTRY_INFO!C184=0,\" \",COUNTRY_INFO!C184))","v":"Ho West"},{"$f":"IF(INTRO!$E$39=\"Non-endemic\",0,IF(INTRO!$E$39=\"Endemic but PC is not required\",IF(COUNTRY_INFO!$H184=1,COUNTRY_INFO!F184+COUNTRY_INFO!G184,0),IF(COUNTRY_INFO!$H184=1,COUNTRY_INFO!F184+COUNTRY_INFO!G184,IF(COUNTRY_INFO!$I184=1,IF(COUNTRY_INFO!M184>=(COUNTRY_INFO!F184+COUNTRY_INFO!G184),COUNTRY_INFO!F184+COUNTRY_INFO!G184,COUNTRY_INFO!$M184),0))))","v":101702},{"$f":"IF(AND(INTRO!$E$39=\"Non-endemic\",INTRO!$E$37=\"Non-endemic\"),\"Not required\",IF(INTRO!$E$39=\"Non-endemic\",\"Treat with DEC\",COUNTRY_INFO!P184))","v":0},{"$f":"IF(INTRO!$E$39<>\"Non-endemic\",COUNTRY_INFO!Q184,\"Not required\")","v":2},{"$f":"IF(COUNTRY_INFO!H184=1, IF($E184=1,$D184, 0),0)","v":0},{"$f":"IF(INTRO!$E$39<>\"Endemic\",0, IF(AND(COUNTRY_INFO!$I184=1,$F184<>0),IF(COUNTRY_INFO!M184>=(COUNTRY_INFO!F184+COUNTRY_INFO!G184),COUNTRY_INFO!F184+COUNTRY_INFO!G184,COUNTRY_INFO!$M184), 0))","v":101702},null,101702,0,569531.19999999995,0,569531.19999999995,null,569531.19999999995,1140]
[{"$f":"IF(INTRO!$E$39=\"Non-endemic\",\" \",IF(COUNTRY_INFO!A185=0,\" \",COUNTRY_INFO!A185))","v":"Ghana"},{"$f":"IF(INTRO!$E$39=\"Non-endemic\",\" \",IF(COUNTRY_INFO!B185=0,\" \",COUNTRY_INFO!B185))","v":"Volta"},{"$f":"IF(INTRO!$E$39=\"Non-endemic\",\" \",IF(COUNTRY_INFO!C185=0,\" \",COUNTRY_INFO!C185))","v":"Hohoe"},{"$f":"IF(INTRO!$E$39=\"Non-endemic\",0,IF(INTRO!$E$39=\"Endemic but PC is not required\",IF(COUNTRY_INFO!$H185=1,COUNTRY_INFO!F185+COUNTRY_INFO!G185,0),IF(COUNTRY_INFO!$H185=1,COUNTRY_INFO!F185+COUNTRY_INFO!G185,IF(COUNTRY_INFO!$I185=1,IF(COUNTRY_INFO!M185>=(COUNTRY_INFO!F185+COUNTRY_INFO!G185),COUNTRY_INFO!F185+COUNTRY_INFO!G185,COUNTRY_INFO!$M185),0))))","v":179552},{"$f":"IF(AND(INTRO!$E$39=\"Non-endemic\",INTRO!$E$37=\"Non-endemic\"),\"Not required\",IF(INTRO!$E$39=\"Non-endemic\",\"Treat with DEC\",COUNTRY_INFO!P185))","v":0},{"$f":"IF(INTRO!$E$39<>\"Non-endemic\",COUNTRY_INFO!Q185,\"Not required\")","v":1},{"$f":"IF(COUNTRY_INFO!H185=1, IF($E185=1,$D185, 0),0)","v":0},{"$f":"IF(INTRO!$E$39<>\"Endemic\",0, IF(AND(COUNTRY_INFO!$I185=1,$F185<>0),IF(COUNTRY_INFO!M185>=(COUNTRY_INFO!F185+COUNTRY_INFO!G185),COUNTRY_INFO!F185+COUNTRY_INFO!G185,COUNTRY_INFO!$M185), 0))","v":179552},null,179552,0,502745.59999999998,0,502745.59999999998,null,502745.59999999998,1006]
[{"$f":"IF(INTRO!$E$39=\"Non-endemic\",\" \",IF(COUNTRY_INFO!A186=0,\" \",COUNTRY_INFO!A186))","v":"Ghana"},{"$f":"IF(INTRO!$E$39=\"Non-endemic\",\" \",IF(COUNTRY_INFO!B186=0,\" \",COUNTRY_INFO!B186))","v":"Volta"},{"$f":"IF(INTRO!$E$39=\"Non-endemic\",\" \",IF(COUNTRY_INFO!C186=0,\" \",COUNTRY_INFO!C186))","v":"Afadjato (East Dayi)"},{"$f":"IF(INTRO!$E$39=\"Non-endemic\",0,IF(INTRO!$E$39=\"Endemic but PC is not required\",IF(COUNTRY_INFO!$H186=1,COUNTRY_INFO!F186+COUNTRY_INFO!G186,0),IF(COUNTRY_INFO!$H186=1,COUNTRY_INFO!F186+COUNTRY_INFO!G186,IF(COUNTRY_INFO!$I186=1,IF(COUNTRY_INFO!M186>=(COUNTRY_INFO!F186+COUNTRY_INFO!G186),COUNTRY_INFO!F186+COUNTRY_INFO!G186,COUNTRY_INFO!$M186),0))))","v":102163},{"$f":"IF(AND(INTRO!$E$39=\"Non-endemic\",INTRO!$E$37=\"Non-endemic\"),\"Not required\",IF(INTRO!$E$39=\"Non-endemic\",\"Treat with DEC\",COUNTRY_INFO!P186))","v":0},{"$f":"IF(INTRO!$E$39<>\"Non-endemic\",COUNTRY_INFO!Q186,\"Not required\")","v":1},{"$f":"IF(COUNTRY_INFO!H186=1, IF($E186=1,$D186, 0),0)","v":0},{"$f":"IF(INTRO!$E$39<>\"Endemic\",0, IF(AND(COUNTRY_INFO!$I186=1,$F186<>0),IF(COUNTRY_INFO!M186>=(COUNTRY_INFO!F186+COUNTRY_INFO!G186),COUNTRY_INFO!F186+COUNTRY_INFO!G186,COUNTRY_INFO!$M186), 0))","v":102163},null,102163,0,286056.39999999997,0,286056.39999999997,null,286056.39999999997,573]
[{"$f":"IF(INTRO!$E$39=\"Non-endemic\",\" \",IF(COUNTRY_INFO!A187=0,\" \",COUNTRY_INFO!A187))","v":"Ghana"},{"$f":"IF(INTRO!$E$39=\"Non-endemic\",\" \",IF(COUNTRY_INFO!B187=0,\" \",COUNTRY_INFO!B187))","v":"Volta"},{"$f":"IF(INTRO!$E$39=\"Non-endemic\",\" \",IF(COUNTRY_INFO!C187=0,\" \",COUNTRY_INFO!C187))","v":"Jasikan"},{"$f":"IF(INTRO!$E$39=\"Non-endemic\",0,IF(INTRO!$E$39=\"Endemic but PC is not required\",IF(COUNTRY_INFO!$H187=1,COUNTRY_INFO!F187+COUNTRY_INFO!G187,0),IF(COUNTRY_INFO!$H187=1,COUNTRY_INFO!F187+COUNTRY_INFO!G187,IF(COUNTRY_INFO!$I187=1,IF(COUNTRY_INFO!M187>=(COUNTRY_INFO!F187+COUNTRY_INFO!G187),COUNTRY_INFO!F187+COUNTRY_INFO!G187,COUNTRY_INFO!$M187),0))))","v":63623},{"$f":"IF(AND(INTRO!$E$39=\"Non-endemic\",INTRO!$E$37=\"Non-endemic\"),\"Not required\",IF(INTRO!$E$39=\"Non-endemic\",\"Treat with DEC\",COUNTRY_INFO!P187))","v":0},{"$f":"IF(INTRO!$E$39<>\"Non-endemic\",COUNTRY_INFO!Q187,\"Not required\")","v":1},{"$f":"IF(COUNTRY_INFO!H187=1, IF($E187=1,$D187, 0),0)","v":0},{"$f":"IF(INTRO!$E$39<>\"Endemic\",0, IF(AND(COUNTRY_INFO!$I187=1,$F187<>0),IF(COUNTRY_INFO!M187>=(COUNTRY_INFO!F187+COUNTRY_INFO!G187),COUNTRY_INFO!F187+COUNTRY_INFO!G187,COUNTRY_INFO!$M187), 0))","v":63623},null,63623,0,178144.4,0,178144.4,null,178144.4,357]
[{"$f":"IF(INTRO!$E$39=\"Non-endemic\",\" \",IF(COUNTRY_INFO!A188=0,\" \",COUNTRY_INFO!A188))","v":"Ghana"},{"$f":"IF(INTRO!$E$39=\"Non-endemic\",\" \",IF(COUNTRY_INFO!B188=0,\" \",COUNTRY_INFO!B188))","v":"Volta"},{"$f":"IF(INTRO!$E$39=\"Non-endemic\",\" \",IF(COUNTRY_INFO!C188=0,\" \",COUNTRY_INFO!C188))","v":"Kadjebi"},{"$f":"IF(INTRO!$E$39=\"Non-endemic\",0,IF(INTRO!$E$39=\"Endemic but PC is not required\",IF(COUNTRY_INFO!$H188=1,COUNTRY_INFO!F188+COUNTRY_INFO!G188,0),IF(COUNTRY_INFO!$H188=1,COUNTRY_INFO!F188+COUNTRY_INFO!G188,IF(COUNTRY_INFO!$I188=1,IF(COUNTRY_INFO!M188>=(COUNTRY_INFO!F188+COUNTRY_INFO!G188),COUNTRY_INFO!F188+COUNTRY_INFO!G188,COUNTRY_INFO!$M188),0))))","v":63753},{"$f":"IF(AND(INTRO!$E$39=\"Non-endemic\",INTRO!$E$37=\"Non-endemic\"),\"Not required\",IF(INTRO!$E$39=\"Non-endemic\",\"Treat with DEC\",COUNTRY_INFO!P188))","v":0},{"$f":"IF(INTRO!$E$39<>\"Non-endemic\",COUNTRY_INFO!Q188,\"Not required\")","v":1},{"$f":"IF(COUNTRY_INFO!H188=1, IF($E188=1,$D188, 0),0)","v":0},{"$f":"IF(INTRO!$E$39<>\"Endemic\",0, IF(AND(COUNTRY_INFO!$I188=1,$F188<>0),IF(COUNTRY_INFO!M188>=(COUNTRY_INFO!F188+COUNTRY_INFO!G188),COUNTRY_INFO!F188+COUNTRY_INFO!G188,COUNTRY_INFO!$M188), 0))","v":63753},null,63753,0,178508.4,0,178508.4,null,178508.4,358]
[{"$f":"IF(INTRO!$E$39=\"Non-endemic\",\" \",IF(COUNTRY_INFO!A189=0,\" \",COUNTRY_INFO!A189))","v":"Ghana"},{"$f":"IF(INTRO!$E$39=\"Non-endemic\",\" \",IF(COUNTRY_INFO!B189=0,\" \",COUNTRY_INFO!B189))","v":"Volta"},{"$f":"IF(INTRO!$E$39=\"Non-endemic\",\" \",IF(COUNTRY_INFO!C189=0,\" \",COUNTRY_INFO!C189))","v":"Keta"},{"$f":"IF(INTRO!$E$39=\"Non-endemic\",0,IF(INTRO!$E$39=\"Endemic but PC is not required\",IF(COUNTRY_INFO!$H189=1,COUNTRY_INFO!F189+COUNTRY_INFO!G189,0),IF(COUNTRY_INFO!$H189=1,COUNTRY_INFO!F189+COUNTRY_INFO!G189,IF(COUNTRY_INFO!$I189=1,IF(COUNTRY_INFO!M189>=(COUNTRY_INFO!F189+COUNTRY_INFO!G189),COUNTRY_INFO!F189+COUNTRY_INFO!G189,COUNTRY_INFO!$M189),0))))","v":0},{"$f":"IF(AND(INTRO!$E$39=\"Non-endemic\",INTRO!$E$37=\"Non-endemic\"),\"Not required\",IF(INTRO!$E$39=\"Non-endemic\",\"Treat with DEC\",COUNTRY_INFO!P189))","v":0},{"$f":"IF(INTRO!$E$39<>\"Non-endemic\",COUNTRY_INFO!Q189,\"Not required\")","v":0},{"$f":"IF(COUNTRY_INFO!H189=1, IF($E189=1,$D189, 0),0)","v":0},{"$f":"IF(INTRO!$E$39<>\"Endemic\",0, IF(AND(COUNTRY_INFO!$I189=1,$F189<>0),IF(COUNTRY_INFO!M189>=(COUNTRY_INFO!F189+COUNTRY_INFO!G189),COUNTRY_INFO!F189+COUNTRY_INFO!G189,COUNTRY_INFO!$M189), 0))","v":0},null,0,0,0,0,0,null,0,0]
[{"$f":"IF(INTRO!$E$39=\"Non-endemic\",\" \",IF(COUNTRY_INFO!A190=0,\" \",COUNTRY_INFO!A190))","v":"Ghana"},{"$f":"IF(INTRO!$E$39=\"Non-endemic\",\" \",IF(COUNTRY_INFO!B190=0,\" \",COUNTRY_INFO!B190))","v":"Volta"},{"$f":"IF(INTRO!$E$39=\"Non-endemic\",\" \",IF(COUNTRY_INFO!C190=0,\" \",COUNTRY_INFO!C190))","v":"Ketu North"},{"$f":"IF(INTRO!$E$39=\"Non-endemic\",0,IF(INTRO!$E$39=\"Endemic but PC is not required\",IF(COUNTRY_INFO!$H190=1,COUNTRY_INFO!F190+COUNTRY_INFO!G190,0),IF(COUNTRY_INFO!$H190=1,COUNTRY_INFO!F190+COUNTRY_INFO!G190,IF(COUNTRY_INFO!$I190=1,IF(COUNTRY_INFO!M190>=(COUNTRY_INFO!F190+COUNTRY_INFO!G190),COUNTRY_INFO!F190+COUNTRY_INFO!G190,COUNTRY_INFO!$M190),0))))","v":0},{"$f":"IF(AND(INTRO!$E$39=\"Non-endemic\",INTRO!$E$37=\"Non-endemic\"),\"Not required\",IF(INTRO!$E$39=\"Non-endemic\",\"Treat with DEC\",COUNTRY_INFO!P190))","v":0},{"$f":"IF(INTRO!$E$39<>\"Non-endemic\",COUNTRY_INFO!Q190,\"Not required\")","v":0},{"$f":"IF(COUNTRY_INFO!H190=1, IF($E190=1,$D190, 0),0)","v":0},{"$f":"IF(INTRO!$E$39<>\"Endemic\",0, IF(AND(COUNTRY_INFO!$I190=1,$F190<>0),IF(COUNTRY_INFO!M190>=(COUNTRY_INFO!F190+COUNTRY_INFO!G190),COUNTRY_INFO!F190+COUNTRY_INFO!G190,COUNTRY_INFO!$M190), 0))","v":0},null,0,0,0,0,0,null,0,0]
[{"$f":"IF(INTRO!$E$39=\"Non-endemic\",\" \",IF(COUNTRY_INFO!A191=0,\" \",COUNTRY_INFO!A191))","v":"Ghana"},{"$f":"IF(INTRO!$E$39=\"Non-endemic\",\" \",IF(COUNTRY_INFO!B191=0,\" \",COUNTRY_INFO!B191))","v":"Volta"},{"$f":"IF(INTRO!$E$39=\"Non-endemic\",\" \",IF(COUNTRY_INFO!C191=0,\" \",COUNTRY_INFO!C191))","v":"Ketu South"},{"$f":"IF(INTRO!$E$39=\"Non-endemic\",0,IF(INTRO!$E$39=\"Endemic but PC is not required\",IF(COUNTRY_INFO!$H191=1,COUNTRY_INFO!F191+COUNTRY_INFO!G191,0),IF(COUNTRY_INFO!$H191=1,COUNTRY_INFO!F191+COUNTRY_INFO!G191,IF(COUNTRY_INFO!$I191=1,IF(COUNTRY_INFO!M191>=(COUNTRY_INFO!F191+COUNTRY_INFO!G191),COUNTRY_INFO!F191+COUNTRY_INFO!G191,COUNTRY_INFO!$M191),0))))","v":0},{"$f":"IF(AND(INTRO!$E$39=\"Non-endemic\",INTRO!$E$37=\"Non-endemic\"),\"Not required\",IF(INTRO!$E$39=\"Non-endemic\",\"Treat with DEC\",COUNTRY_INFO!P191))","v":0},{"$f":"IF(INTRO!$E$39<>\"Non-endemic\",COUNTRY_INFO!Q191,\"Not required\")","v":0},{"$f":"IF(COUNTRY_INFO!H191=1, IF($E191=1,$D191, 0),0)","v":0},{"$f":"IF(INTRO!$E$39<>\"Endemic\",0, IF(AND(COUNTRY_INFO!$I191=1,$F191<>0),IF(COUNTRY_INFO!M191>=(COUNTRY_INFO!F191+COUNTRY_INFO!G191),COUNTRY_INFO!F191+COUNTRY_INFO!G191,COUNTRY_INFO!$M191), 0))","v":0},null,0,0,0,0,0,null,0,0]
[{"$f":"IF(INTRO!$E$39=\"Non-endemic\",\" \",IF(COUNTRY_INFO!A192=0,\" \",COUNTRY_INFO!A192))","v":"Ghana"},{"$f":"IF(INTRO!$E$39=\"Non-endemic\",\" \",IF(COUNTRY_INFO!B192=0,\" \",COUNTRY_INFO!B192))","v":"Volta"},{"$f":"IF(INTRO!$E$39=\"Non-endemic\",\" \",IF(COUNTRY_INFO!C192=0,\" \",COUNTRY_INFO!C192))","v":"Kpando"},{"$f":"IF(INTRO!$E$39=\"Non-endemic\",0,IF(INTRO!$E$39=\"Endemic but PC is not required\",IF(COUNTRY_INFO!$H192=1,COUNTRY_INFO!F192+COUNTRY_INFO!G192,0),IF(COUNTRY_INFO!$H192=1,COUNTRY_INFO!F192+COUNTRY_INFO!G192,IF(COUNTRY_INFO!$I192=1,IF(COUNTRY_INFO!M192>=(COUNTRY_INFO!F192+COUNTRY_INFO!G192),COUNTRY_INFO!F192+COUNTRY_INFO!G192,COUNTRY_INFO!$M192),0))))","v":16622},{"$f":"IF(AND(INTRO!$E$39=\"Non-endemic\",INTRO!$E$37=\"Non-endemic\"),\"Not required\",IF(INTRO!$E$39=\"Non-endemic\",\"Treat with DEC\",COUNTRY_INFO!P192))","v":0},{"$f":"IF(INTRO!$E$39<>\"Non-endemic\",COUNTRY_INFO!Q192,\"Not required\")","v":1},{"$f":"IF(COUNTRY_INFO!H192=1, IF($E192=1,$D192, 0),0)","v":0},{"$f":"IF(INTRO!$E$39<>\"Endemic\",0, IF(AND(COUNTRY_INFO!$I192=1,$F192<>0),IF(COUNTRY_INFO!M192>=(COUNTRY_INFO!F192+COUNTRY_INFO!G192),COUNTRY_INFO!F192+COUNTRY_INFO!G192,COUNTRY_INFO!$M192), 0))","v":16622},null,16622,0,46541.599999999999,0,46541.599999999999,null,46541.599999999999,94]
[{"$f":"IF(INTRO!$E$39=\"Non-endemic\",\" \",IF(COUNTRY_INFO!A193=0,\" \",COUNTRY_INFO!A193))","v":"Ghana"},{"$f":"IF(INTRO!$E$39=\"Non-endemic\",\" \",IF(COUNTRY_INFO!B193=0,\" \",COUNTRY_INFO!B193))","v":"Volta"},{"$f":"IF(INTRO!$E$39=\"Non-endemic\",\" \",IF(COUNTRY_INFO!C193=0,\" \",COUNTRY_INFO!C193))","v":"North Dayi"},{"$f":"IF(INTRO!$E$39=\"Non-endemic\",0,IF(INTRO!$E$39=\"Endemic but PC is not required\",IF(COUNTRY_INFO!$H193=1,COUNTRY_INFO!F193+COUNTRY_INFO!G193,0),IF(COUNTRY_INFO!$H193=1,COUNTRY_INFO!F193+COUNTRY_INFO!G193,IF(COUNTRY_INFO!$I193=1,IF(COUNTRY_INFO!M193>=(COUNTRY_INFO!F193+COUNTRY_INFO!G193),COUNTRY_INFO!F193+COUNTRY_INFO!G193,COUNTRY_INFO!$M193),0))))","v":42909},{"$f":"IF(AND(INTRO!$E$39=\"Non-endemic\",INTRO!$E$37=\"Non-endemic\"),\"Not required\",IF(INTRO!$E$39=\"Non-endemic\",\"Treat with DEC\",COUNTRY_INFO!P193))","v":0},{"$f":"IF(INTRO!$E$39<>\"Non-endemic\",COUNTRY_INFO!Q193,\"Not required\")","v":1},{"$f":"IF(COUNTRY_INFO!H193=1, IF($E193=1,$D193, 0),0)","v":0},{"$f":"IF(INTRO!$E$39<>\"Endemic\",0, IF(AND(COUNTRY_INFO!$I193=1,$F193<>0),IF(COUNTRY_INFO!M193>=(COUNTRY_INFO!F193+COUNTRY_INFO!G193),COUNTRY_INFO!F193+COUNTRY_INFO!G193,COUNTRY_INFO!$M193), 0))","v":42909},null,42909,0,120145.2,0,120145.2,null,120145.2,241]
[{"$f":"IF(INTRO!$E$39=\"Non-endemic\",\" \",IF(COUNTRY_INFO!A194=0,\" \",COUNTRY_INFO!A194))","v":"Ghana"},{"$f":"IF(INTRO!$E$39=\"Non-endemic\",\" \",IF(COUNTRY_INFO!B194=0,\" \",COUNTRY_INFO!B194))","v":"Volta"},{"$f":"IF(INTRO!$E$39=\"Non-endemic\",\" \",IF(COUNTRY_INFO!C194=0,\" \",COUNTRY_INFO!C194))","v":"Krachi East"},{"$f":"IF(INTRO!$E$39=\"Non-endemic\",0,IF(INTRO!$E$39=\"Endemic but PC is not required\",IF(COUNTRY_INFO!$H194=1,COUNTRY_INFO!F194+COUNTRY_INFO!G194,0),IF(COUNTRY_INFO!$H194=1,COUNTRY_INFO!F194+COUNTRY_INFO!G194,IF(COUNTRY_INFO!$I194=1,IF(COUNTRY_INFO!M194>=(COUNTRY_INFO!F194+COUNTRY_INFO!G194),COUNTRY_INFO!F194+COUNTRY_INFO!G194,COUNTRY_INFO!$M194),0))))","v":125571},{"$f":"IF(AND(INTRO!$E$39=\"Non-endemic\",INTRO!$E$37=\"Non-endemic\"),\"Not required\",IF(INTRO!$E$39=\"Non-endemic\",\"Treat with DEC\",COUNTRY_INFO!P194))","v":0},{"$f":"IF(INTRO!$E$39<>\"Non-endemic\",COUNTRY_INFO!Q194,\"Not required\")","v":1},{"$f":"IF(COUNTRY_INFO!H194=1, IF($E194=1,$D194, 0),0)","v":0},{"$f":"IF(INTRO!$E$39<>\"Endemic\",0, IF(AND(COUNTRY_INFO!$I194=1,$F194<>0),IF(COUNTRY_INFO!M194>=(COUNTRY_INFO!F194+COUNTRY_INFO!G194),COUNTRY_INFO!F194+COUNTRY_INFO!G194,COUNTRY_INFO!$M194), 0))","v":125571},null,125571,0,351598.8,0,351598.8,null,351598.8,704]
[{"$f":"IF(INTRO!$E$39=\"Non-endemic\",\" \",IF(COUNTRY_INFO!A195=0,\" \",COUNTRY_INFO!A195))","v":"Ghana"},{"$f":"IF(INTRO!$E$39=\"Non-endemic\",\" \",IF(COUNTRY_INFO!B195=0,\" \",COUNTRY_INFO!B195))","v":"Volta"},{"$f":"IF(INTRO!$E$39=\"Non-endemic\",\" \",IF(COUNTRY_INFO!C195=0,\" \",COUNTRY_INFO!C195))","v":"Krachi West"},{"$f":"IF(INTRO!$E$39=\"Non-endemic\",0,IF(INTRO!$E$39=\"Endemic but PC is not required\",IF(COUNTRY_INFO!$H195=1,COUNTRY_INFO!F195+COUNTRY_INFO!G195,0),IF(COUNTRY_INFO!$H195=1,COUNTRY_INFO!F195+COUNTRY_INFO!G195,IF(COUNTRY_INFO!$I195=1,IF(COUNTRY_INFO!M195>=(COUNTRY_INFO!F195+COUNTRY_INFO!G195),COUNTRY_INFO!F195+COUNTRY_INFO!G195,COUNTRY_INFO!$M195),0))))","v":0},{"$f":"IF(AND(INTRO!$E$39=\"Non-endemic\",INTRO!$E$37=\"Non-endemic\"),\"Not required\",IF(INTRO!$E$39=\"Non-endemic\",\"Treat with DEC\",COUNTRY_INFO!P195))","v":0},{"$f":"IF(INTRO!$E$39<>\"Non-endemic\",COUNTRY_INFO!Q195,\"Not required\")","v":0},{"$f":"IF(COUNTRY_INFO!H195=1, IF($E195=1,$D195, 0),0)","v":0},{"$f":"IF(INTRO!$E$39<>\"Endemic\",0, IF(AND(COUNTRY_INFO!$I195=1,$F195<>0),IF(COUNTRY_INFO!M195>=(COUNTRY_INFO!F195+COUNTRY_INFO!G195),COUNTRY_INFO!F195+COUNTRY_INFO!G195,COUNTRY_INFO!$M195), 0))","v":0},null,0,0,0,0,0,null,0,0]
[{"$f":"IF(INTRO!$E$39=\"Non-endemic\",\" \",IF(COUNTRY_INFO!A196=0,\" \",COUNTRY_INFO!A196))","v":"Ghana"},{"$f":"IF(INTRO!$E$39=\"Non-endemic\",\" \",IF(COUNTRY_INFO!B196=0,\" \",COUNTRY_INFO!B196))","v":"Volta"},{"$f":"IF(INTRO!$E$39=\"Non-endemic\",\" \",IF(COUNTRY_INFO!C196=0,\" \",COUNTRY_INFO!C196))","v":"Krachi Nchumuru"},{"$f":"IF(INTRO!$E$39=\"Non-endemic\",0,IF(INTRO!$E$39=\"Endemic but PC is not required\",IF(COUNTRY_INFO!$H196=1,COUNTRY_INFO!F196+COUNTRY_INFO!G196,0),IF(COUNTRY_INFO!$H196=1,COUNTRY_INFO!F196+COUNTRY_INFO!G196,IF(COUNTRY_INFO!$I196=1,IF(COUNTRY_INFO!M196>=(COUNTRY_INFO!F196+COUNTRY_INFO!G196),COUNTRY_INFO!F196+COUNTRY_INFO!G196,COUNTRY_INFO!$M196),0))))","v":24986},{"$f":"IF(AND(INTRO!$E$39=\"Non-endemic\",INTRO!$E$37=\"Non-endemic\"),\"Not required\",IF(INTRO!$E$39=\"Non-endemic\",\"Treat with DEC\",COUNTRY_INFO!P196))","v":0},{"$f":"IF(INTRO!$E$39<>\"Non-endemic\",COUNTRY_INFO!Q196,\"Not required\")","v":2},{"$f":"IF(COUNTRY_INFO!H196=1, IF($E196=1,$D196, 0),0)","v":0},{"$f":"IF(INTRO!$E$39<>\"Endemic\",0, IF(AND(COUNTRY_INFO!$I196=1,$F196<>0),IF(COUNTRY_INFO!M196>=(COUNTRY_INFO!F196+COUNTRY_INFO!G196),COUNTRY_INFO!F196+COUNTRY_INFO!G196,COUNTRY_INFO!$M196), 0))","v":24986},null,24986,0,139921.59999999998,0,139921.59999999998,null,139921.59999999998,280]
[{"$f":"IF(INTRO!$E$39=\"Non-endemic\",\" \",IF(COUNTRY_INFO!A197=0,\" \",COUNTRY_INFO!A197))","v":"Ghana"},{"$f":"IF(INTRO!$E$39=\"Non-endemic\",\" \",IF(COUNTRY_INFO!B197=0,\" \",COUNTRY_INFO!B197))","v":"Volta"},{"$f":"IF(INTRO!$E$39=\"Non-endemic\",\" \",IF(COUNTRY_INFO!C197=0,\" \",COUNTRY_INFO!C197))","v":"Nkwanta North"},{"$f":"IF(INTRO!$E$39=\"Non-endemic\",0,IF(INTRO!$E$39=\"Endemic but PC is not required\",IF(COUNTRY_INFO!$H197=1,COUNTRY_INFO!F197+COUNTRY_INFO!G197,0),IF(COUNTRY_INFO!$H197=1,COUNTRY_INFO!F197+COUNTRY_INFO!G197,IF(COUNTRY_INFO!$I197=1,IF(COUNTRY_INFO!M197>=(COUNTRY_INFO!F197+COUNTRY_INFO!G197),COUNTRY_INFO!F197+COUNTRY_INFO!G197,COUNTRY_INFO!$M197),0))))","v":69397},{"$f":"IF(AND(INTRO!$E$39=\"Non-endemic\",INTRO!$E$37=\"Non-endemic\"),\"Not required\",IF(INTRO!$E$39=\"Non-endemic\",\"Treat with DEC\",COUNTRY_INFO!P197))","v":0},{"$f":"IF(INTRO!$E$39<>\"Non-endemic\",COUNTRY_INFO!Q197,\"Not required\")","v":2},{"$f":"IF(COUNTRY_INFO!H197=1, IF($E197=1,$D197, 0),0)","v":0},{"$f":"IF(INTRO!$E$39<>\"Endemic\",0, IF(AND(COUNTRY_INFO!$I197=1,$F197<>0),IF(COUNTRY_INFO!M197>=(COUNTRY_INFO!F197+COUNTRY_INFO!G197),COUNTRY_INFO!F197+COUNTRY_INFO!G197,COUNTRY_INFO!$M197), 0))","v":69397},null,69397,0,388623.19999999995,0,388623.19999999995,null,388623.19999999995,778]
[{"$f":"IF(INTRO!$E$39=\"Non-endemic\",\" \",IF(COUNTRY_INFO!A198=0,\" \",COUNTRY_INFO!A198))","v":"Ghana"},{"$f":"IF(INTRO!$E$39=\"Non-endemic\",\" \",IF(COUNTRY_INFO!B198=0,\" \",COUNTRY_INFO!B198))","v":"Volta"},{"$f":"IF(INTRO!$E$39=\"Non-endemic\",\" \",IF(COUNTRY_INFO!C198=0,\" \",COUNTRY_INFO!C198))","v":"Nkwanta South"},{"$f":"IF(INTRO!$E$39=\"Non-endemic\",0,IF(INTRO!$E$39=\"Endemic but PC is not required\",IF(COUNTRY_INFO!$H198=1,COUNTRY_INFO!F198+COUNTRY_INFO!G198,0),IF(COUNTRY_INFO!$H198=1,COUNTRY_INFO!F198+COUNTRY_INFO!G198,IF(COUNTRY_INFO!$I198=1,IF(COUNTRY_INFO!M198>=(COUNTRY_INFO!F198+COUNTRY_INFO!G198),COUNTRY_INFO!F198+COUNTRY_INFO!G198,COUNTRY_INFO!$M198),0))))","v":126726},{"$f":"IF(AND(INTRO!$E$39=\"Non-endemic\",INTRO!$E$37=\"Non-endemic\"),\"Not required\",IF(INTRO!$E$39=\"Non-endemic\",\"Treat with DEC\",COUNTRY_INFO!P198))","v":0},{"$f":"IF(INTRO!$E$39<>\"Non-endemic\",COUNTRY_INFO!Q198,\"Not required\")","v":2},{"$f":"IF(COUNTRY_INFO!H198=1, IF($E198=1,$D198, 0),0)","v":0},{"$f":"IF(INTRO!$E$39<>\"Endemic\",0, IF(AND(COUNTRY_INFO!$I198=1,$F198<>0),IF(COUNTRY_INFO!M198>=(COUNTRY_INFO!F198+COUNTRY_INFO!G198),COUNTRY_INFO!F198+COUNTRY_INFO!G198,COUNTRY_INFO!$M198), 0))","v":126726},null,126726,0,709665.6,0,709665.6,null,709665.6,1420]
[{"$f":"IF(INTRO!$E$39=\"Non-endemic\",\" \",IF(COUNTRY_INFO!A199=0,\" \",COUNTRY_INFO!A199))","v":"Ghana"},{"$f":"IF(INTRO!$E$39=\"Non-endemic\",\" \",IF(COUNTRY_INFO!B199=0,\" \",COUNTRY_INFO!B199))","v":"Volta"},{"$f":"IF(INTRO!$E$39=\"Non-endemic\",\" \",IF(COUNTRY_INFO!C199=0,\" \",COUNTRY_INFO!C199))","v":"North Tongu"},{"$f":"IF(INTRO!$E$39=\"Non-endemic\",0,IF(INTRO!$E$39=\"Endemic but PC is not required\",IF(COUNTRY_INFO!$H199=1,COUNTRY_INFO!F199+COUNTRY_INFO!G199,0),IF(COUNTRY_INFO!$H199=1,COUNTRY_INFO!F199+COUNTRY_INFO!G199,IF(COUNTRY_INFO!$I199=1,IF(COUNTRY_INFO!M199>=(COUNTRY_INFO!F199+COUNTRY_INFO!G199),COUNTRY_INFO!F199+COUNTRY_INFO!G199,COUNTRY_INFO!$M199),0))))","v":0},{"$f":"IF(AND(INTRO!$E$39=\"Non-endemic\",INTRO!$E$37=\"Non-endemic\"),\"Not required\",IF(INTRO!$E$39=\"Non-endemic\",\"Treat with DEC\",COUNTRY_INFO!P199))","v":0},{"$f":"IF(INTRO!$E$39<>\"Non-endemic\",COUNTRY_INFO!Q199,\"Not required\")","v":0},{"$f":"IF(COUNTRY_INFO!H199=1, IF($E199=1,$D199, 0),0)","v":0},{"$f":"IF(INTRO!$E$39<>\"Endemic\",0, IF(AND(COUNTRY_INFO!$I199=1,$F199<>0),IF(COUNTRY_INFO!M199>=(COUNTRY_INFO!F199+COUNTRY_INFO!G199),COUNTRY_INFO!F199+COUNTRY_INFO!G199,COUNTRY_INFO!$M199), 0))","v":0},null,0,0,0,0,0,null,0,0]
[{"$f":"IF(INTRO!$E$39=\"Non-endemic\",\" \",IF(COUNTRY_INFO!A200=0,\" \",COUNTRY_INFO!A200))","v":"Ghana"},{"$f":"IF(INTRO!$E$39=\"Non-endemic\",\" \",IF(COUNTRY_INFO!B200=0,\" \",COUNTRY_INFO!B200))","v":"Volta"},{"$f":"IF(INTRO!$E$39=\"Non-endemic\",\" \",IF(COUNTRY_INFO!C200=0,\" \",COUNTRY_INFO!C200))","v":"Central Tongu"},{"$f":"IF(INTRO!$E$39=\"Non-endemic\",0,IF(INTRO!$E$39=\"Endemic but PC is not required\",IF(COUNTRY_INFO!$H200=1,COUNTRY_INFO!F200+COUNTRY_INFO!G200,0),IF(COUNTRY_INFO!$H200=1,COUNTRY_INFO!F200+COUNTRY_INFO!G200,IF(COUNTRY_INFO!$I200=1,IF(COUNTRY_INFO!M200>=(COUNTRY_INFO!F200+COUNTRY_INFO!G200),COUNTRY_INFO!F200+COUNTRY_INFO!G200,COUNTRY_INFO!$M200),0))))","v":0},{"$f":"IF(AND(INTRO!$E$39=\"Non-endemic\",INTRO!$E$37=\"Non-endemic\"),\"Not required\",IF(INTRO!$E$39=\"Non-endemic\",\"Treat with DEC\",COUNTRY_INFO!P200))","v":0},{"$f":"IF(INTRO!$E$39<>\"Non-endemic\",COUNTRY_INFO!Q200,\"Not required\")","v":0},{"$f":"IF(COUNTRY_INFO!H200=1, IF($E200=1,$D200, 0),0)","v":0},{"$f":"IF(INTRO!$E$39<>\"Endemic\",0, IF(AND(COUNTRY_INFO!$I200=1,$F200<>0),IF(COUNTRY_INFO!M200>=(COUNTRY_INFO!F200+COUNTRY_INFO!G200),COUNTRY_INFO!F200+COUNTRY_INFO!G200,COUNTRY_INFO!$M200), 0))","v":0},null,0,0,0,0,0,null,0,0]
[{"$f":"IF(INTRO!$E$39=\"Non-endemic\",\" \",IF(COUNTRY_INFO!A201=0,\" \",COUNTRY_INFO!A201))","v":"Ghana"},{"$f":"IF(INTRO!$E$39=\"Non-endemic\",\" \",IF(COUNTRY_INFO!B201=0,\" \",COUNTRY_INFO!B201))","v":"Volta"},{"$f":"IF(INTRO!$E$39=\"Non-endemic\",\" \",IF(COUNTRY_INFO!C201=0,\" \",COUNTRY_INFO!C201))","v":"South Dayi"},{"$f":"IF(INTRO!$E$39=\"Non-endemic\",0,IF(INTRO!$E$39=\"Endemic but PC is not required\",IF(COUNTRY_INFO!$H201=1,COUNTRY_INFO!F201+COUNTRY_INFO!G201,0),IF(COUNTRY_INFO!$H201=1,COUNTRY_INFO!F201+COUNTRY_INFO!G201,IF(COUNTRY_INFO!$I201=1,IF(COUNTRY_INFO!M201>=(COUNTRY_INFO!F201+COUNTRY_INFO!G201),COUNTRY_INFO!F201+COUNTRY_INFO!G201,COUNTRY_INFO!$M201),0))))","v":0},{"$f":"IF(AND(INTRO!$E$39=\"Non-endemic\",INTRO!$E$37=\"Non-endemic\"),\"Not required\",IF(INTRO!$E$39=\"Non-endemic\",\"Treat with DEC\",COUNTRY_INFO!P201))","v":0},{"$f":"IF(INTRO!$E$39<>\"Non-endemic\",COUNTRY_INFO!Q201,\"Not required\")","v":0},{"$f":"IF(COUNTRY_INFO!H201=1, IF($E201=1,$D201, 0),0)","v":0},{"$f":"IF(INTRO!$E$39<>\"Endemic\",0, IF(AND(COUNTRY_INFO!$I201=1,$F201<>0),IF(COUNTRY_INFO!M201>=(COUNTRY_INFO!F201+COUNTRY_INFO!G201),COUNTRY_INFO!F201+COUNTRY_INFO!G201,COUNTRY_INFO!$M201), 0))","v":0},null,{"$f":"IF(I201=0,H201,IF(I201>H201,H201,I201))","v":0},{"$f":"IF(G201<J201,0,IF($E201=1, (G201-J201)*2.8, 0))","v":0},{"$f":"IF($E201<$F201, J201*(F201-E201)*2.8, 0)","v":0},{"$f":"IF(AND($E201=1, $F201<>0), J201*2.8, 0)","v":0},{"$f":"SUM(K201:M201)","v":0},null,{"$f":"IF($N201>$O201,$N201-$O201,0)","v":0},{"$f":"ROUNDUP($N201/500,0)","v":0}]
[{"$f":"IF(INTRO!$E$39=\"Non-endemic\",\" \",IF(COUNTRY_INFO!A202=0,\" \",COUNTRY_INFO!A202))","v":"Ghana"},{"$f":"IF(INTRO!$E$39=\"Non-endemic\",\" \",IF(COUNTRY_INFO!B202=0,\" \",COUNTRY_INFO!B202))","v":"Volta"},{"$f":"IF(INTRO!$E$39=\"Non-endemic\",\" \",IF(COUNTRY_INFO!C202=0,\" \",COUNTRY_INFO!C202))","v":"South Tongu"},{"$f":"IF(INTRO!$E$39=\"Non-endemic\",0,IF(INTRO!$E$39=\"Endemic but PC is not required\",IF(COUNTRY_INFO!$H202=1,COUNTRY_INFO!F202+COUNTRY_INFO!G202,0),IF(COUNTRY_INFO!$H202=1,COUNTRY_INFO!F202+COUNTRY_INFO!G202,IF(COUNTRY_INFO!$I202=1,IF(COUNTRY_INFO!M202>=(COUNTRY_INFO!F202+COUNTRY_INFO!G202),COUNTRY_INFO!F202+COUNTRY_INFO!G202,COUNTRY_INFO!$M202),0))))","v":0},{"$f":"IF(AND(INTRO!$E$39=\"Non-endemic\",INTRO!$E$37=\"Non-endemic\"),\"Not required\",IF(INTRO!$E$39=\"Non-endemic\",\"Treat with DEC\",COUNTRY_INFO!P202))","v":0},{"$f":"IF(INTRO!$E$39<>\"Non-endemic\",COUNTRY_INFO!Q202,\"Not required\")","v":0},{"$f":"IF(COUNTRY_INFO!H202=1, IF($E202=1,$D202, 0),0)","v":0},{"$f":"IF(INTRO!$E$39<>\"Endemic\",0, IF(AND(COUNTRY_INFO!$I202=1,$F202<>0),IF(COUNTRY_INFO!M202>=(COUNTRY_INFO!F202+COUNTRY_INFO!G202),COUNTRY_INFO!F202+COUNTRY_INFO!G202,COUNTRY_INFO!$M202), 0))","v":0},null,0,0,0,0,0,null,0,0]
[{"$f":"IF(INTRO!$E$39=\"Non-endemic\",\" \",IF(COUNTRY_INFO!A203=0,\" \",COUNTRY_INFO!A203))","v":"Ghana"},{"$f":"IF(INTRO!$E$39=\"Non-endemic\",\" \",IF(COUNTRY_INFO!B203=0,\" \",COUNTRY_INFO!B203))","v":"Western"},{"$f":"IF(INTRO!$E$39=\"Non-endemic\",\" \",IF(COUNTRY_INFO!C203=0,\" \",COUNTRY_INFO!C203))","v":"Ahanta West"},{"$f":"IF(INTRO!$E$39=\"Non-endemic\",0,IF(INTRO!$E$39=\"Endemic but PC is not required\",IF(COUNTRY_INFO!$H203=1,COUNTRY_INFO!F203+COUNTRY_INFO!G203,0),IF(COUNTRY_INFO!$H203=1,COUNTRY_INFO!F203+COUNTRY_INFO!G203,IF(COUNTRY_INFO!$I203=1,IF(COUNTRY_INFO!M203>=(COUNTRY_INFO!F203+COUNTRY_INFO!G203),COUNTRY_INFO!F203+COUNTRY_INFO!G203,COUNTRY_INFO!$M203),0))))","v":109808},{"$f":"IF(AND(INTRO!$E$39=\"Non-endemic\",INTRO!$E$37=\"Non-endemic\"),\"Not required\",IF(INTRO!$E$39=\"Non-endemic\",\"Treat with DEC\",COUNTRY_INFO!P203))","v":1},{"$f":"IF(INTRO!$E$39<>\"Non-endemic\",COUNTRY_INFO!Q203,\"Not required\")","v":0},{"$f":"IF(COUNTRY_INFO!H203=1, IF($E203=1,$D203, 0),0)","v":109808},{"$f":"IF(INTRO!$E$39<>\"Endemic\",0, IF(AND(COUNTRY_INFO!$I203=1,$F203<>0),IF(COUNTRY_INFO!M203>=(COUNTRY_INFO!F203+COUNTRY_INFO!G203),COUNTRY_INFO!F203+COUNTRY_INFO!G203,COUNTRY_INFO!$M203), 0))","v":0},null,0,307462.39999999997,0,0,307462.39999999997,null,307462.39999999997,615]
[{"$f":"IF(INTRO!$E$39=\"Non-endemic\",\" \",IF(COUNTRY_INFO!A204=0,\" \",COUNTRY_INFO!A204))","v":"Ghana"},{"$f":"IF(INTRO!$E$39=\"Non-endemic\",\" \",IF(COUNTRY_INFO!B204=0,\" \",COUNTRY_INFO!B204))","v":"Western"},{"$f":"IF(INTRO!$E$39=\"Non-endemic\",\" \",IF(COUNTRY_INFO!C204=0,\" \",COUNTRY_INFO!C204))","v":"Aowin"},{"$f":"IF(INTRO!$E$39=\"Non-endemic\",0,IF(INTRO!$E$39=\"Endemic but PC is not required\",IF(COUNTRY_INFO!$H204=1,COUNTRY_INFO!F204+COUNTRY_INFO!G204,0),IF(COUNTRY_INFO!$H204=1,COUNTRY_INFO!F204+COUNTRY_INFO!G204,IF(COUNTRY_INFO!$I204=1,IF(COUNTRY_INFO!M204>=(COUNTRY_INFO!F204+COUNTRY_INFO!G204),COUNTRY_INFO!F204+COUNTRY_INFO!G204,COUNTRY_INFO!$M204),0))))","v":122217},{"$f":"IF(AND(INTRO!$E$39=\"Non-endemic\",INTRO!$E$37=\"Non-endemic\"),\"Not required\",IF(INTRO!$E$39=\"Non-endemic\",\"Treat with DEC\",COUNTRY_INFO!P204))","v":0},{"$f":"IF(INTRO!$E$39<>\"Non-endemic\",COUNTRY_INFO!Q204,\"Not required\")","v":2},{"$f":"IF(COUNTRY_INFO!H204=1, IF($E204=1,$D204, 0),0)","v":0},{"$f":"IF(INTRO!$E$39<>\"Endemic\",0, IF(AND(COUNTRY_INFO!$I204=1,$F204<>0),IF(COUNTRY_INFO!M204>=(COUNTRY_INFO!F204+COUNTRY_INFO!G204),COUNTRY_INFO!F204+COUNTRY_INFO!G204,COUNTRY_INFO!$M204), 0))","v":122217},null,122217,0,684415.2,0,684415.2,null,684415.2,1369]
[{"$f":"IF(INTRO!$E$39=\"Non-endemic\",\" \",IF(COUNTRY_INFO!A205=0,\" \",COUNTRY_INFO!A205))","v":"Ghana"},{"$f":"IF(INTRO!$E$39=\"Non-endemic\",\" \",IF(COUNTRY_INFO!B205=0,\" \",COUNTRY_INFO!B205))","v":"Western"},{"$f":"IF(INTRO!$E$39=\"Non-endemic\",\" \",IF(COUNTRY_INFO!C205=0,\" \",COUNTRY_INFO!C205))","v":"Suaman"},{"$f":"IF(INTRO!$E$39=\"Non-endemic\",0,IF(INTRO!$E$39=\"Endemic but PC is not required\",IF(COUNTRY_INFO!$H205=1,COUNTRY_INFO!F205+COUNTRY_INFO!G205,0),IF(COUNTRY_INFO!$H205=1,COUNTRY_INFO!F205+COUNTRY_INFO!G205,IF(COUNTRY_INFO!$I205=1,IF(COUNTRY_INFO!M205>=(COUNTRY_INFO!F205+COUNTRY_INFO!G205),COUNTRY_INFO!F205+COUNTRY_INFO!G205,COUNTRY_INFO!$M205),0))))","v":20879},{"$f":"IF(AND(INTRO!$E$39=\"Non-endemic\",INTRO!$E$37=\"Non-endemic\"),\"Not required\",IF(INTRO!$E$39=\"Non-endemic\",\"Treat with DEC\",COUNTRY_INFO!P205))","v":0},{"$f":"IF(INTRO!$E$39<>\"Non-endemic\",COUNTRY_INFO!Q205,\"Not required\")","v":2},{"$f":"IF(COUNTRY_INFO!H205=1, IF($E205=1,$D205, 0),0)","v":0},{"$f":"IF(INTRO!$E$39<>\"Endemic\",0, IF(AND(COUNTRY_INFO!$I205=1,$F205<>0),IF(COUNTRY_INFO!M205>=(COUNTRY_INFO!F205+COUNTRY_INFO!G205),COUNTRY_INFO!F205+COUNTRY_INFO!G205,COUNTRY_INFO!$M205), 0))","v":20879},null,20879,0,116922.4,0,116922.4,null,116922.4,234]
[{"$f":"IF(INTRO!$E$39=\"Non-endemic\",\" \",IF(COUNTRY_INFO!A206=0,\" \",COUNTRY_INFO!A206))","v":"Ghana"},{"$f":"IF(INTRO!$E$39=\"Non-endemic\",\" \",IF(COUNTRY_INFO!B206=0,\" \",COUNTRY_INFO!B206))","v":"Western"},{"$f":"IF(INTRO!$E$39=\"Non-endemic\",\" \",IF(COUNTRY_INFO!C206=0,\" \",COUNTRY_INFO!C206))","v":"Axim Municipal "},{"$f":"IF(INTRO!$E$39=\"Non-endemic\",0,IF(INTRO!$E$39=\"Endemic but PC is not required\",IF(COUNTRY_INFO!$H206=1,COUNTRY_INFO!F206+COUNTRY_INFO!G206,0),IF(COUNTRY_INFO!$H206=1,COUNTRY_INFO!F206+COUNTRY_INFO!G206,IF(COUNTRY_INFO!$I206=1,IF(COUNTRY_INFO!M206>=(COUNTRY_INFO!F206+COUNTRY_INFO!G206),COUNTRY_INFO!F206+COUNTRY_INFO!G206,COUNTRY_INFO!$M206),0))))","v":62884},{"$f":"IF(AND(INTRO!$E$39=\"Non-endemic\",INTRO!$E$37=\"Non-endemic\"),\"Not required\",IF(INTRO!$E$39=\"Non-endemic\",\"Treat with DEC\",COUNTRY_INFO!P206))","v":1},{"$f":"IF(INTRO!$E$39<>\"Non-endemic\",COUNTRY_INFO!Q206,\"Not required\")","v":0},{"$f":"IF(COUNTRY_INFO!H206=1, IF($E206=1,$D206, 0),0)","v":62884},{"$f":"IF(INTRO!$E$39<>\"Endemic\",0, IF(AND(COUNTRY_INFO!$I206=1,$F206<>0),IF(COUNTRY_INFO!M206>=(COUNTRY_INFO!F206+COUNTRY_INFO!G206),COUNTRY_INFO!F206+COUNTRY_INFO!G206,COUNTRY_INFO!$M206), 0))","v":0},null,0,176075.19999999998,0,0,176075.19999999998,null,176075.19999999998,353]
[{"$f":"IF(INTRO!$E$39=\"Non-endemic\",\" \",IF(COUNTRY_INFO!A207=0,\" \",COUNTRY_INFO!A207))","v":"Ghana"},{"$f":"IF(INTRO!$E$39=\"Non-endemic\",\" \",IF(COUNTRY_INFO!B207=0,\" \",COUNTRY_INFO!B207))","v":"Western"},{"$f":"IF(INTRO!$E$39=\"Non-endemic\",\" \",IF(COUNTRY_INFO!C207=0,\" \",COUNTRY_INFO!C207))","v":"Bia West"},{"$f":"IF(INTRO!$E$39=\"Non-endemic\",0,IF(INTRO!$E$39=\"Endemic but PC is not required\",IF(COUNTRY_INFO!$H207=1,COUNTRY_INFO!F207+COUNTRY_INFO!G207,0),IF(COUNTRY_INFO!$H207=1,COUNTRY_INFO!F207+COUNTRY_INFO!G207,IF(COUNTRY_INFO!$I207=1,IF(COUNTRY_INFO!M207>=(COUNTRY_INFO!F207+COUNTRY_INFO!G207),COUNTRY_INFO!F207+COUNTRY_INFO!G207,COUNTRY_INFO!$M207),0))))","v":93001},{"$f":"IF(AND(INTRO!$E$39=\"Non-endemic\",INTRO!$E$37=\"Non-endemic\"),\"Not required\",IF(INTRO!$E$39=\"Non-endemic\",\"Treat with DEC\",COUNTRY_INFO!P207))","v":0},{"$f":"IF(INTRO!$E$39<>\"Non-endemic\",COUNTRY_INFO!Q207,\"Not required\")","v":2},{"$f":"IF(COUNTRY_INFO!H207=1, IF($E207=1,$D207, 0),0)","v":0},{"$f":"IF(INTRO!$E$39<>\"Endemic\",0, IF(AND(COUNTRY_INFO!$I207=1,$F207<>0),IF(COUNTRY_INFO!M207>=(COUNTRY_INFO!F207+COUNTRY_INFO!G207),COUNTRY_INFO!F207+COUNTRY_INFO!G207,COUNTRY_INFO!$M207), 0))","v":93001},null,93001,0,520805.6,0,520805.6,null,520805.6,1042]
[{"$f":"IF(INTRO!$E$39=\"Non-endemic\",\" \",IF(COUNTRY_INFO!A208=0,\" \",COUNTRY_INFO!A208))","v":"Ghana"},{"$f":"IF(INTRO!$E$39=\"Non-endemic\",\" \",IF(COUNTRY_INFO!B208=0,\" \",COUNTRY_INFO!B208))","v":"Western"},{"$f":"IF(INTRO!$E$39=\"Non-endemic\",\" \",IF(COUNTRY_INFO!C208=0,\" \",COUNTRY_INFO!C208))","v":"Bia East"},{"$f":"IF(INTRO!$E$39=\"Non-endemic\",0,IF(INTRO!$E$39=\"Endemic but PC is not required\",IF(COUNTRY_INFO!$H208=1,COUNTRY_INFO!F208+COUNTRY_INFO!G208,0),IF(COUNTRY_INFO!$H208=1,COUNTRY_INFO!F208+COUNTRY_INFO!G208,IF(COUNTRY_INFO!$I208=1,IF(COUNTRY_INFO!M208>=(COUNTRY_INFO!F208+COUNTRY_INFO!G208),COUNTRY_INFO!F208+COUNTRY_INFO!G208,COUNTRY_INFO!$M208),0))))","v":27265},{"$f":"IF(AND(INTRO!$E$39=\"Non-endemic\",INTRO!$E$37=\"Non-endemic\"),\"Not required\",IF(INTRO!$E$39=\"Non-endemic\",\"Treat with DEC\",COUNTRY_INFO!P208))","v":0},{"$f":"IF(INTRO!$E$39<>\"Non-endemic\",COUNTRY_INFO!Q208,\"Not required\")","v":1},{"$f":"IF(COUNTRY_INFO!H208=1, IF($E208=1,$D208, 0),0)","v":0},{"$f":"IF(INTRO!$E$39<>\"Endemic\",0, IF(AND(COUNTRY_INFO!$I208=1,$F208<>0),IF(COUNTRY_INFO!M208>=(COUNTRY_INFO!F208+COUNTRY_INFO!G208),COUNTRY_INFO!F208+COUNTRY_INFO!G208,COUNTRY_INFO!$M208), 0))","v":27265},null,27265,0,76342,0,76342,null,76342,153]
[{"$f":"IF(INTRO!$E$39=\"Non-endemic\",\" \",IF(COUNTRY_INFO!A209=0,\" \",COUNTRY_INFO!A209))","v":"Ghana"},{"$f":"IF(INTRO!$E$39=\"Non-endemic\",\" \",IF(COUNTRY_INFO!B209=0,\" \",COUNTRY_INFO!B209))","v":"Western"},{"$f":"IF(INTRO!$E$39=\"Non-endemic\",\" \",IF(COUNTRY_INFO!C209=0,\" \",COUNTRY_INFO!C209))","v":"Bibiani-Anhwiaso-Bekwai"},{"$f":"IF(INTRO!$E$39=\"Non-endemic\",0,IF(INTRO!$E$39=\"Endemic but PC is not required\",IF(COUNTRY_INFO!$H209=1,COUNTRY_INFO!F209+COUNTRY_INFO!G209,0),IF(COUNTRY_INFO!$H209=1,COUNTRY_INFO!F209+COUNTRY_INFO!G209,IF(COUNTRY_INFO!$I209=1,IF(COUNTRY_INFO!M209>=(COUNTRY_INFO!F209+COUNTRY_INFO!G209),COUNTRY_INFO!F209+COUNTRY_INFO!G209,COUNTRY_INFO!$M209),0))))","v":127441},{"$f":"IF(AND(INTRO!$E$39=\"Non-endemic\",INTRO!$E$37=\"Non-endemic\"),\"Not required\",IF(INTRO!$E$39=\"Non-endemic\",\"Treat with DEC\",COUNTRY_INFO!P209))","v":0},{"$f":"IF(INTRO!$E$39<>\"Non-endemic\",COUNTRY_INFO!Q209,\"Not required\")","v":1},{"$f":"IF(COUNTRY_INFO!H209=1, IF($E209=1,$D209, 0),0)","v":0},{"$f":"IF(INTRO!$E$39<>\"Endemic\",0, IF(AND(COUNTRY_INFO!$I209=1,$F209<>0),IF(COUNTRY_INFO!M209>=(COUNTRY_INFO!F209+COUNTRY_INFO!G209),COUNTRY_INFO!F209+COUNTRY_INFO!G209,COUNTRY_INFO!$M209), 0))","v":127441},null,127441,0,356834.8,0,356834.8,null,356834.8,714]
[{"$f":"IF(INTRO!$E$39=\"Non-endemic\",\" \",IF(COUNTRY_INFO!A210=0,\" \",COUNTRY_INFO!A210))","v":"Ghana"},{"$f":"IF(INTRO!$E$39=\"Non-endemic\",\" \",IF(COUNTRY_INFO!B210=0,\" \",COUNTRY_INFO!B210))","v":"Western"},{"$f":"IF(INTRO!$E$39=\"Non-endemic\",\" \",IF(COUNTRY_INFO!C210=0,\" \",COUNTRY_INFO!C210))","v":"Ellembelle"},{"$f":"IF(INTRO!$E$39=\"Non-endemic\",0,IF(INTRO!$E$39=\"Endemic but PC is not required\",IF(COUNTRY_INFO!$H210=1,COUNTRY_INFO!F210+COUNTRY_INFO!G210,0),IF(COUNTRY_INFO!$H210=1,COUNTRY_INFO!F210+COUNTRY_INFO!G210,IF(COUNTRY_INFO!$I210=1,IF(COUNTRY_INFO!M210>=(COUNTRY_INFO!F210+COUNTRY_INFO!G210),COUNTRY_INFO!F210+COUNTRY_INFO!G210,COUNTRY_INFO!$M210),0))))","v":90460},{"$f":"IF(AND(INTRO!$E$39=\"Non-endemic\",INTRO!$E$37=\"Non-endemic\"),\"Not required\",IF(INTRO!$E$39=\"Non-endemic\",\"Treat with DEC\",COUNTRY_INFO!P210))","v":1},{"$f":"IF(INTRO!$E$39<>\"Non-endemic\",COUNTRY_INFO!Q210,\"Not required\")","v":0},{"$f":"IF(COUNTRY_INFO!H210=1, IF($E210=1,$D210, 0),0)","v":90460},{"$f":"IF(INTRO!$E$39<>\"Endemic\",0, IF(AND(COUNTRY_INFO!$I210=1,$F210<>0),IF(COUNTRY_INFO!M210>=(COUNTRY_INFO!F210+COUNTRY_INFO!G210),COUNTRY_INFO!F210+COUNTRY_INFO!G210,COUNTRY_INFO!$M210), 0))","v":0},null,0,253287.99999999997,0,0,253287.99999999997,null,253287.99999999997,507]
[{"$f":"IF(INTRO!$E$39=\"Non-endemic\",\" \",IF(COUNTRY_INFO!A211=0,\" \",COUNTRY_INFO!A211))","v":"Ghana"},{"$f":"IF(INTRO!$E$39=\"Non-endemic\",\" \",IF(COUNTRY_INFO!B211=0,\" \",COUNTRY_INFO!B211))","v":"Western"},{"$f":"IF(INTRO!$E$39=\"Non-endemic\",\" \",IF(COUNTRY_INFO!C211=0,\" \",COUNTRY_INFO!C211))","v":"Jomoro"},{"$f":"IF(INTRO!$E$39=\"Non-endemic\",0,IF(INTRO!$E$39=\"Endemic but PC is not required\",IF(COUNTRY_INFO!$H211=1,COUNTRY_INFO!F211+COUNTRY_INFO!G211,0),IF(COUNTRY_INFO!$H211=1,COUNTRY_INFO!F211+COUNTRY_INFO!G211,IF(COUNTRY_INFO!$I211=1,IF(COUNTRY_INFO!M211>=(COUNTRY_INFO!F211+COUNTRY_INFO!G211),COUNTRY_INFO!F211+COUNTRY_INFO!G211,COUNTRY_INFO!$M211),0))))","v":155184},{"$f":"IF(AND(INTRO!$E$39=\"Non-endemic\",INTRO!$E$37=\"Non-endemic\"),\"Not required\",IF(INTRO!$E$39=\"Non-endemic\",\"Treat with DEC\",COUNTRY_INFO!P211))","v":0},{"$f":"IF(INTRO!$E$39<>\"Non-endemic\",COUNTRY_INFO!Q211,\"Not required\")","v":2},{"$f":"IF(COUNTRY_INFO!H211=1, IF($E211=1,$D211, 0),0)","v":0},{"$f":"IF(INTRO!$E$39<>\"Endemic\",0, IF(AND(COUNTRY_INFO!$I211=1,$F211<>0),IF(COUNTRY_INFO!M211>=(COUNTRY_INFO!F211+COUNTRY_INFO!G211),COUNTRY_INFO!F211+COUNTRY_INFO!G211,COUNTRY_INFO!$M211), 0))","v":155184},null,155184,0,869030.39999999991,0,869030.39999999991,null,869030.39999999991,1739]
[{"$f":"IF(INTRO!$E$39=\"Non-endemic\",\" \",IF(COUNTRY_INFO!A212=0,\" \",COUNTRY_INFO!A212))","v":"Ghana"},{"$f":"IF(INTRO!$E$39=\"Non-endemic\",\" \",IF(COUNTRY_INFO!B212=0,\" \",COUNTRY_INFO!B212))","v":"Western"},{"$f":"IF(INTRO!$E$39=\"Non-endemic\",\" \",IF(COUNTRY_INFO!C212=0,\" \",COUNTRY_INFO!C212))","v":"Juabeso"},{"$f":"IF(INTRO!$E$39=\"Non-endemic\",0,IF(INTRO!$E$39=\"Endemic but PC is not required\",IF(COUNTRY_INFO!$H212=1,COUNTRY_INFO!F212+COUNTRY_INFO!G212,0),IF(COUNTRY_INFO!$H212=1,COUNTRY_INFO!F212+COUNTRY_INFO!G212,IF(COUNTRY_INFO!$I212=1,IF(COUNTRY_INFO!M212>=(COUNTRY_INFO!F212+COUNTRY_INFO!G212),COUNTRY_INFO!F212+COUNTRY_INFO!G212,COUNTRY_INFO!$M212),0))))","v":60913},{"$f":"IF(AND(INTRO!$E$39=\"Non-endemic\",INTRO!$E$37=\"Non-endemic\"),\"Not required\",IF(INTRO!$E$39=\"Non-endemic\",\"Treat with DEC\",COUNTRY_INFO!P212))","v":0},{"$f":"IF(INTRO!$E$39<>\"Non-endemic\",COUNTRY_INFO!Q212,\"Not required\")","v":2},{"$f":"IF(COUNTRY_INFO!H212=1, IF($E212=1,$D212, 0),0)","v":0},{"$f":"IF(INTRO!$E$39<>\"Endemic\",0, IF(AND(COUNTRY_INFO!$I212=1,$F212<>0),IF(COUNTRY_INFO!M212>=(COUNTRY_INFO!F212+COUNTRY_INFO!G212),COUNTRY_INFO!F212+COUNTRY_INFO!G212,COUNTRY_INFO!$M212), 0))","v":60913},null,60913,0,341112.8,0,341112.8,null,341112.8,683]
[{"$f":"IF(INTRO!$E$39=\"Non-endemic\",\" \",IF(COUNTRY_INFO!A213=0,\" \",COUNTRY_INFO!A213))","v":"Ghana"},{"$f":"IF(INTRO!$E$39=\"Non-endemic\",\" \",IF(COUNTRY_INFO!B213=0,\" \",COUNTRY_INFO!B213))","v":"Western"},{"$f":"IF(INTRO!$E$39=\"Non-endemic\",\" \",IF(COUNTRY_INFO!C213=0,\" \",COUNTRY_INFO!C213))","v":"Bodi"},{"$f":"IF(INTRO!$E$39=\"Non-endemic\",0,IF(INTRO!$E$39=\"Endemic but PC is not required\",IF(COUNTRY_INFO!$H213=1,COUNTRY_INFO!F213+COUNTRY_INFO!G213,0),IF(COUNTRY_INFO!$H213=1,COUNTRY_INFO!F213+COUNTRY_INFO!G213,IF(COUNTRY_INFO!$I213=1,IF(COUNTRY_INFO!M213>=(COUNTRY_INFO!F213+COUNTRY_INFO!G213),COUNTRY_INFO!F213+COUNTRY_INFO!G213,COUNTRY_INFO!$M213),0))))","v":54615},{"$f":"IF(AND(INTRO!$E$39=\"Non-endemic\",INTRO!$E$37=\"Non-endemic\"),\"Not required\",IF(INTRO!$E$39=\"Non-endemic\",\"Treat with DEC\",COUNTRY_INFO!P213))","v":0},{"$f":"IF(INTRO!$E$39<>\"Non-endemic\",COUNTRY_INFO!Q213,\"Not required\")","v":1},{"$f":"IF(COUNTRY_INFO!H213=1, IF($E213=1,$D213, 0),0)","v":0},{"$f":"IF(INTRO!$E$39<>\"Endemic\",0, IF(AND(COUNTRY_INFO!$I213=1,$F213<>0),IF(COUNTRY_INFO!M213>=(COUNTRY_INFO!F213+COUNTRY_INFO!G213),COUNTRY_INFO!F213+COUNTRY_INFO!G213,COUNTRY_INFO!$M213), 0))","v":54615},null,54615,0,152922,0,152922,null,152922,306]
[{"$f":"IF(INTRO!$E$39=\"Non-endemic\",\" \",IF(COUNTRY_INFO!A214=0,\" \",COUNTRY_INFO!A214))","v":"Ghana"},{"$f":"IF(INTRO!$E$39=\"Non-endemic\",\" \",IF(COUNTRY_INFO!B214=0,\" \",COUNTRY_INFO!B214))","v":"Western"},{"$f":"IF(INTRO!$E$39=\"Non-endemic\",\" \",IF(COUNTRY_INFO!C214=0,\" \",COUNTRY_INFO!C214))","v":"Wassa East"},{"$f":"IF(INTRO!$E$39=\"Non-endemic\",0,IF(INTRO!$E$39=\"Endemic but PC is not required\",IF(COUNTRY_INFO!$H214=1,COUNTRY_INFO!F214+COUNTRY_INFO!G214,0),IF(COUNTRY_INFO!$H214=1,COUNTRY_INFO!F214+COUNTRY_INFO!G214,IF(COUNTRY_INFO!$I214=1,IF(COUNTRY_INFO!M214>=(COUNTRY_INFO!F214+COUNTRY_INFO!G214),COUNTRY_INFO!F214+COUNTRY_INFO!G214,COUNTRY_INFO!$M214),0))))","v":83815},{"$f":"IF(AND(INTRO!$E$39=\"Non-endemic\",INTRO!$E$37=\"Non-endemic\"),\"Not required\",IF(INTRO!$E$39=\"Non-endemic\",\"Treat with DEC\",COUNTRY_INFO!P214))","v":0},{"$f":"IF(INTRO!$E$39<>\"Non-endemic\",COUNTRY_INFO!Q214,\"Not required\")","v":2},{"$f":"IF(COUNTRY_INFO!H214=1, IF($E214=1,$D214, 0),0)","v":0},{"$f":"IF(INTRO!$E$39<>\"Endemic\",0, IF(AND(COUNTRY_INFO!$I214=1,$F214<>0),IF(COUNTRY_INFO!M214>=(COUNTRY_INFO!F214+COUNTRY_INFO!G214),COUNTRY_INFO!F214+COUNTRY_INFO!G214,COUNTRY_INFO!$M214), 0))","v":83815},null,83815,0,469363.99999999994,0,469363.99999999994,null,469363.99999999994,939]
[{"$f":"IF(INTRO!$E$39=\"Non-endemic\",\" \",IF(COUNTRY_INFO!A215=0,\" \",COUNTRY_INFO!A215))","v":"Ghana"},{"$f":"IF(INTRO!$E$39=\"Non-endemic\",\" \",IF(COUNTRY_INFO!B215=0,\" \",COUNTRY_INFO!B215))","v":"Western"},{"$f":"IF(INTRO!$E$39=\"Non-endemic\",\" \",IF(COUNTRY_INFO!C215=0,\" \",COUNTRY_INFO!C215))","v":"Mpohor"},{"$f":"IF(INTRO!$E$39=\"Non-endemic\",0,IF(INTRO!$E$39=\"Endemic but PC is not required\",IF(COUNTRY_INFO!$H215=1,COUNTRY_INFO!F215+COUNTRY_INFO!G215,0),IF(COUNTRY_INFO!$H215=1,COUNTRY_INFO!F215+COUNTRY_INFO!G215,IF(COUNTRY_INFO!$I215=1,IF(COUNTRY_INFO!M215>=(COUNTRY_INFO!F215+COUNTRY_INFO!G215),COUNTRY_INFO!F215+COUNTRY_INFO!G215,COUNTRY_INFO!$M215),0))))","v":44374},{"$f":"IF(AND(INTRO!$E$39=\"Non-endemic\",INTRO!$E$37=\"Non-endemic\"),\"Not required\",IF(INTRO!$E$39=\"Non-endemic\",\"Treat with DEC\",COUNTRY_INFO!P215))","v":0},{"$f":"IF(INTRO!$E$39<>\"Non-endemic\",COUNTRY_INFO!Q215,\"Not required\")","v":2},{"$f":"IF(COUNTRY_INFO!H215=1, IF($E215=1,$D215, 0),0)","v":0},{"$f":"IF(INTRO!$E$39<>\"Endemic\",0, IF(AND(COUNTRY_INFO!$I215=1,$F215<>0),IF(COUNTRY_INFO!M215>=(COUNTRY_INFO!F215+COUNTRY_INFO!G215),COUNTRY_INFO!F215+COUNTRY_INFO!G215,COUNTRY_INFO!$M215), 0))","v":44374},null,44374,0,248494.4,0,248494.4,null,248494.4,497]
[{"$f":"IF(INTRO!$E$39=\"Non-endemic\",\" \",IF(COUNTRY_INFO!A216=0,\" \",COUNTRY_INFO!A216))","v":"Ghana"},{"$f":"IF(INTRO!$E$39=\"Non-endemic\",\" \",IF(COUNTRY_INFO!B216=0,\" \",COUNTRY_INFO!B216))","v":"Western"},{"$f":"IF(INTRO!$E$39=\"Non-endemic\",\" \",IF(COUNTRY_INFO!C216=0,\" \",COUNTRY_INFO!C216))","v":"Prestea-Huni-Valley"},{"$f":"IF(INTRO!$E$39=\"Non-endemic\",0,IF(INTRO!$E$39=\"Endemic but PC is not required\",IF(COUNTRY_INFO!$H216=1,COUNTRY_INFO!F216+COUNTRY_INFO!G216,0),IF(COUNTRY_INFO!$H216=1,COUNTRY_INFO!F216+COUNTRY_INFO!G216,IF(COUNTRY_INFO!$I216=1,IF(COUNTRY_INFO!M216>=(COUNTRY_INFO!F216+COUNTRY_INFO!G216),COUNTRY_INFO!F216+COUNTRY_INFO!G216,COUNTRY_INFO!$M216),0))))","v":164691},{"$f":"IF(AND(INTRO!$E$39=\"Non-endemic\",INTRO!$E$37=\"Non-endemic\"),\"Not required\",IF(INTRO!$E$39=\"Non-endemic\",\"Treat with DEC\",COUNTRY_INFO!P216))","v":0},{"$f":"IF(INTRO!$E$39<>\"Non-endemic\",COUNTRY_INFO!Q216,\"Not required\")","v":2},{"$f":"IF(COUNTRY_INFO!H216=1, IF($E216=1,$D216, 0),0)","v":0},{"$f":"IF(INTRO!$E$39<>\"Endemic\",0, IF(AND(COUNTRY_INFO!$I216=1,$F216<>0),IF(COUNTRY_INFO!M216>=(COUNTRY_INFO!F216+COUNTRY_INFO!G216),COUNTRY_INFO!F216+COUNTRY_INFO!G216,COUNTRY_INFO!$M216), 0))","v":164691},null,164691,0,922269.6,0,922269.6,null,922269.6,1845]
[{"$f":"IF(INTRO!$E$39=\"Non-endemic\",\" \",IF(COUNTRY_INFO!A217=0,\" \",COUNTRY_INFO!A217))","v":"Ghana"},{"$f":"IF(INTRO!$E$39=\"Non-endemic\",\" \",IF(COUNTRY_INFO!B217=0,\" \",COUNTRY_INFO!B217))","v":"Western"},{"$f":"IF(INTRO!$E$39=\"Non-endemic\",\" \",IF(COUNTRY_INFO!C217=0,\" \",COUNTRY_INFO!C217))","v":"Sefwi-Akontombra"},{"$f":"IF(INTRO!$E$39=\"Non-endemic\",0,IF(INTRO!$E$39=\"Endemic but PC is not required\",IF(COUNTRY_INFO!$H217=1,COUNTRY_INFO!F217+COUNTRY_INFO!G217,0),IF(COUNTRY_INFO!$H217=1,COUNTRY_INFO!F217+COUNTRY_INFO!G217,IF(COUNTRY_INFO!$I217=1,IF(COUNTRY_INFO!M217>=(COUNTRY_INFO!F217+COUNTRY_INFO!G217),COUNTRY_INFO!F217+COUNTRY_INFO!G217,COUNTRY_INFO!$M217),0))))","v":85256},{"$f":"IF(AND(INTRO!$E$39=\"Non-endemic\",INTRO!$E$37=\"Non-endemic\"),\"Not required\",IF(INTRO!$E$39=\"Non-endemic\",\"Treat with DEC\",COUNTRY_INFO!P217))","v":0},{"$f":"IF(INTRO!$E$39<>\"Non-endemic\",COUNTRY_INFO!Q217,\"Not required\")","v":2},{"$f":"IF(COUNTRY_INFO!H217=1, IF($E217=1,$D217, 0),0)","v":0},{"$f":"IF(INTRO!$E$39<>\"Endemic\",0, IF(AND(COUNTRY_INFO!$I217=1,$F217<>0),IF(COUNTRY_INFO!M217>=(COUNTRY_INFO!F217+COUNTRY_INFO!G217),COUNTRY_INFO!F217+COUNTRY_INFO!G217,COUNTRY_INFO!$M217), 0))","v":85256},null,85256,0,477433.59999999998,0,477433.59999999998,null,477433.59999999998,955]
[{"$f":"IF(INTRO!$E$39=\"Non-endemic\",\" \",IF(COUNTRY_INFO!A218=0,\" \",COUNTRY_INFO!A218))","v":"Ghana"},{"$f":"IF(INTRO!$E$39=\"Non-endemic\",\" \",IF(COUNTRY_INFO!B218=0,\" \",COUNTRY_INFO!B218))","v":"Western"},{"$f":"IF(INTRO!$E$39=\"Non-endemic\",\" \",IF(COUNTRY_INFO!C218=0,\" \",COUNTRY_INFO!C218))","v":"Sefwi-Wiawso"},{"$f":"IF(INTRO!$E$39=\"Non-endemic\",0,IF(INTRO!$E$39=\"Endemic but PC is not required\",IF(COUNTRY_INFO!$H218=1,COUNTRY_INFO!F218+COUNTRY_INFO!G218,0),IF(COUNTRY_INFO!$H218=1,COUNTRY_INFO!F218+COUNTRY_INFO!G218,IF(COUNTRY_INFO!$I218=1,IF(COUNTRY_INFO!M218>=(COUNTRY_INFO!F218+COUNTRY_INFO!G218),COUNTRY_INFO!F218+COUNTRY_INFO!G218,COUNTRY_INFO!$M218),0))))","v":143908},{"$f":"IF(AND(INTRO!$E$39=\"Non-endemic\",INTRO!$E$37=\"Non-endemic\"),\"Not required\",IF(INTRO!$E$39=\"Non-endemic\",\"Treat with DEC\",COUNTRY_INFO!P218))","v":0},{"$f":"IF(INTRO!$E$39<>\"Non-endemic\",COUNTRY_INFO!Q218,\"Not required\")","v":1},{"$f":"IF(COUNTRY_INFO!H218=1, IF($E218=1,$D218, 0),0)","v":0},{"$f":"IF(INTRO!$E$39<>\"Endemic\",0, IF(AND(COUNTRY_INFO!$I218=1,$F218<>0),IF(COUNTRY_INFO!M218>=(COUNTRY_INFO!F218+COUNTRY_INFO!G218),COUNTRY_INFO!F218+COUNTRY_INFO!G218,COUNTRY_INFO!$M218), 0))","v":143908},null,143908,0,402942.39999999997,0,402942.39999999997,null,402942.39999999997,806]
[{"$f":"IF(INTRO!$E$39=\"Non-endemic\",\" \",IF(COUNTRY_INFO!A219=0,\" \",COUNTRY_INFO!A219))","v":"Ghana"},{"$f":"IF(INTRO!$E$39=\"Non-endemic\",\" \",IF(COUNTRY_INFO!B219=0,\" \",COUNTRY_INFO!B219))","v":"Western"},{"$f":"IF(INTRO!$E$39=\"Non-endemic\",\" \",IF(COUNTRY_INFO!C219=0,\" \",COUNTRY_INFO!C219))","v":"Sekondi-Takoradi"},{"$f":"IF(INTRO!$E$39=\"Non-endemic\",0,IF(INTRO!$E$39=\"Endemic but PC is not required\",IF(COUNTRY_INFO!$H219=1,COUNTRY_INFO!F219+COUNTRY_INFO!G219,0),IF(COUNTRY_INFO!$H219=1,COUNTRY_INFO!F219+COUNTRY_INFO!G219,IF(COUNTRY_INFO!$I219=1,IF(COUNTRY_INFO!M219>=(COUNTRY_INFO!F219+COUNTRY_INFO!G219),COUNTRY_INFO!F219+COUNTRY_INFO!G219,COUNTRY_INFO!$M219),0))))","v":0},{"$f":"IF(AND(INTRO!$E$39=\"Non-endemic\",INTRO!$E$37=\"Non-endemic\"),\"Not required\",IF(INTRO!$E$39=\"Non-endemic\",\"Treat with DEC\",COUNTRY_INFO!P219))","v":0},{"$f":"IF(INTRO!$E$39<>\"Non-endemic\",COUNTRY_INFO!Q219,\"Not required\")","v":0},{"$f":"IF(COUNTRY_INFO!H219=1, IF($E219=1,$D219, 0),0)","v":0},{"$f":"IF(INTRO!$E$39<>\"Endemic\",0, IF(AND(COUNTRY_INFO!$I219=1,$F219<>0),IF(COUNTRY_INFO!M219>=(COUNTRY_INFO!F219+COUNTRY_INFO!G219),COUNTRY_INFO!F219+COUNTRY_INFO!G219,COUNTRY_INFO!$M219), 0))","v":0},null,0,0,0,0,0,null,0,0]
[{"$f":"IF(INTRO!$E$39=\"Non-endemic\",\" \",IF(COUNTRY_INFO!A220=0,\" \",COUNTRY_INFO!A220))","v":"Ghana"},{"$f":"IF(INTRO!$E$39=\"Non-endemic\",\" \",IF(COUNTRY_INFO!B220=0,\" \",COUNTRY_INFO!B220))","v":"Western"},{"$f":"IF(INTRO!$E$39=\"Non-endemic\",\" \",IF(COUNTRY_INFO!C220=0,\" \",COUNTRY_INFO!C220))","v":"Shama"},{"$f":"IF(INTRO!$E$39=\"Non-endemic\",0,IF(INTRO!$E$39=\"Endemic but PC is not required\",IF(COUNTRY_INFO!$H220=1,COUNTRY_INFO!F220+COUNTRY_INFO!G220,0),IF(COUNTRY_INFO!$H220=1,COUNTRY_INFO!F220+COUNTRY_INFO!G220,IF(COUNTRY_INFO!$I220=1,IF(COUNTRY_INFO!M220>=(COUNTRY_INFO!F220+COUNTRY_INFO!G220),COUNTRY_INFO!F220+COUNTRY_INFO!G220,COUNTRY_INFO!$M220),0))))","v":0},{"$f":"IF(AND(INTRO!$E$39=\"Non-endemic\",INTRO!$E$37=\"Non-endemic\"),\"Not required\",IF(INTRO!$E$39=\"Non-endemic\",\"Treat with DEC\",COUNTRY_INFO!P220))","v":0},{"$f":"IF(INTRO!$E$39<>\"Non-endemic\",COUNTRY_INFO!Q220,\"Not required\")","v":0},{"$f":"IF(COUNTRY_INFO!H220=1, IF($E220=1,$D220, 0),0)","v":0},{"$f":"IF(INTRO!$E$39<>\"Endemic\",0, IF(AND(COUNTRY_INFO!$I220=1,$F220<>0),IF(COUNTRY_INFO!M220>=(COUNTRY_INFO!F220+COUNTRY_INFO!G220),COUNTRY_INFO!F220+COUNTRY_INFO!G220,COUNTRY_INFO!$M220), 0))","v":0},null,0,0,0,0,0,null,0,0]
[{"$f":"IF(INTRO!$E$39=\"Non-endemic\",\" \",IF(COUNTRY_INFO!A221=0,\" \",COUNTRY_INFO!A221))","v":"Ghana"},{"$f":"IF(INTRO!$E$39=\"Non-endemic\",\" \",IF(COUNTRY_INFO!B221=0,\" \",COUNTRY_INFO!B221))","v":"Western"},{"$f":"IF(INTRO!$E$39=\"Non-endemic\",\" \",IF(COUNTRY_INFO!C221=0,\" \",COUNTRY_INFO!C221))","v":"Tarkwa-Nsuaem"},{"$f":"IF(INTRO!$E$39=\"Non-endemic\",0,IF(INTRO!$E$39=\"Endemic but PC is not required\",IF(COUNTRY_INFO!$H221=1,COUNTRY_INFO!F221+COUNTRY_INFO!G221,0),IF(COUNTRY_INFO!$H221=1,COUNTRY_INFO!F221+COUNTRY_INFO!G221,IF(COUNTRY_INFO!$I221=1,IF(COUNTRY_INFO!M221>=(COUNTRY_INFO!F221+COUNTRY_INFO!G221),COUNTRY_INFO!F221+COUNTRY_INFO!G221,COUNTRY_INFO!$M221),0))))","v":93536},{"$f":"IF(AND(INTRO!$E$39=\"Non-endemic\",INTRO!$E$37=\"Non-endemic\"),\"Not required\",IF(INTRO!$E$39=\"Non-endemic\",\"Treat with DEC\",COUNTRY_INFO!P221))","v":0},{"$f":"IF(INTRO!$E$39<>\"Non-endemic\",COUNTRY_INFO!Q221,\"Not required\")","v":2},{"$f":"IF(COUNTRY_INFO!H221=1, IF($E221=1,$D221, 0),0)","v":0},{"$f":"IF(INTRO!$E$39<>\"Endemic\",0, IF(AND(COUNTRY_INFO!$I221=1,$F221<>0),IF(COUNTRY_INFO!M221>=(COUNTRY_INFO!F221+COUNTRY_INFO!G221),COUNTRY_INFO!F221+COUNTRY_INFO!G221,COUNTRY_INFO!$M221), 0))","v":93536},null,93536,0,523801.59999999998,0,523801.59999999998,null,523801.59999999998,1048]
[{"$f":"IF(INTRO!$E$39=\"Non-endemic\",\" \",IF(COUNTRY_INFO!A222=0,\" \",COUNTRY_INFO!A222))","v":"Ghana"},{"$f":"IF(INTRO!$E$39=\"Non-endemic\",\" \",IF(COUNTRY_INFO!B222=0,\" \",COUNTRY_INFO!B222))","v":"Western"},{"$f":"IF(INTRO!$E$39=\"Non-endemic\",\" \",IF(COUNTRY_INFO!C222=0,\" \",COUNTRY_INFO!C222))","v":"Wassa-Amenfi East"},{"$f":"IF(INTRO!$E$39=\"Non-endemic\",0,IF(INTRO!$E$39=\"Endemic but PC is not required\",IF(COUNTRY_INFO!$H222=1,COUNTRY_INFO!F222+COUNTRY_INFO!G222,0),IF(COUNTRY_INFO!$H222=1,COUNTRY_INFO!F222+COUNTRY_INFO!G222,IF(COUNTRY_INFO!$I222=1,IF(COUNTRY_INFO!M222>=(COUNTRY_INFO!F222+COUNTRY_INFO!G222),COUNTRY_INFO!F222+COUNTRY_INFO!G222,COUNTRY_INFO!$M222),0))))","v":86301},{"$f":"IF(AND(INTRO!$E$39=\"Non-endemic\",INTRO!$E$37=\"Non-endemic\"),\"Not required\",IF(INTRO!$E$39=\"Non-endemic\",\"Treat with DEC\",COUNTRY_INFO!P222))","v":0},{"$f":"IF(INTRO!$E$39<>\"Non-endemic\",COUNTRY_INFO!Q222,\"Not required\")","v":2},{"$f":"IF(COUNTRY_INFO!H222=1, IF($E222=1,$D222, 0),0)","v":0},{"$f":"IF(INTRO!$E$39<>\"Endemic\",0, IF(AND(COUNTRY_INFO!$I222=1,$F222<>0),IF(COUNTRY_INFO!M222>=(COUNTRY_INFO!F222+COUNTRY_INFO!G222),COUNTRY_INFO!F222+COUNTRY_INFO!G222,COUNTRY_INFO!$M222), 0))","v":86301},null,86301,0,483285.6,0,483285.6,null,483285.6,967]
[{"$f":"IF(INTRO!$E$39=\"Non-endemic\",\" \",IF(COUNTRY_INFO!A223=0,\" \",COUNTRY_INFO!A223))","v":"Ghana"},{"$f":"IF(INTRO!$E$39=\"Non-endemic\",\" \",IF(COUNTRY_INFO!B223=0,\" \",COUNTRY_INFO!B223))","v":"Western"},{"$f":"IF(INTRO!$E$39=\"Non-endemic\",\" \",IF(COUNTRY_INFO!C223=0,\" \",COUNTRY_INFO!C223))","v":"Wassa Amenfi Central"},{"$f":"IF(INTRO!$E$39=\"Non-endemic\",0,IF(INTRO!$E$39=\"Endemic but PC is not required\",IF(COUNTRY_INFO!$H223=1,COUNTRY_INFO!F223+COUNTRY_INFO!G223,0),IF(COUNTRY_INFO!$H223=1,COUNTRY_INFO!F223+COUNTRY_INFO!G223,IF(COUNTRY_INFO!$I223=1,IF(COUNTRY_INFO!M223>=(COUNTRY_INFO!F223+COUNTRY_INFO!G223),COUNTRY_INFO!F223+COUNTRY_INFO!G223,COUNTRY_INFO!$M223),0))))","v":70861},{"$f":"IF(AND(INTRO!$E$39=\"Non-endemic\",INTRO!$E$37=\"Non-endemic\"),\"Not required\",IF(INTRO!$E$39=\"Non-endemic\",\"Treat with DEC\",COUNTRY_INFO!P223))","v":0},{"$f":"IF(INTRO!$E$39<>\"Non-endemic\",COUNTRY_INFO!Q223,\"Not required\")","v":1},{"$f":"IF(COUNTRY_INFO!H223=1, IF($E223=1,$D223, 0),0)","v":0},{"$f":"IF(INTRO!$E$39<>\"Endemic\",0, IF(AND(COUNTRY_INFO!$I223=1,$F223<>0),IF(COUNTRY_INFO!M223>=(COUNTRY_INFO!F223+COUNTRY_INFO!G223),COUNTRY_INFO!F223+COUNTRY_INFO!G223,COUNTRY_INFO!$M223), 0))","v":70861},null,70861,0,198410.8,0,198410.8,null,198410.8,397]
[{"$f":"IF(INTRO!$E$39=\"Non-endemic\",\" \",IF(COUNTRY_INFO!A224=0,\" \",COUNTRY_INFO!A224))","v":"Ghana"},{"$f":"IF(INTRO!$E$39=\"Non-endemic\",\" \",IF(COUNTRY_INFO!B224=0,\" \",COUNTRY_INFO!B224))","v":"Western"},{"$f":"IF(INTRO!$E$39=\"Non-endemic\",\" \",IF(COUNTRY_INFO!C224=0,\" \",COUNTRY_INFO!C224))","v":"Wassa-Amenfi West"},{"$f":"IF(INTRO!$E$39=\"Non-endemic\",0,IF(INTRO!$E$39=\"Endemic but PC is not required\",IF(COUNTRY_INFO!$H224=1,COUNTRY_INFO!F224+COUNTRY_INFO!G224,0),IF(COUNTRY_INFO!$H224=1,COUNTRY_INFO!F224+COUNTRY_INFO!G224,IF(COUNTRY_INFO!$I224=1,IF(COUNTRY_INFO!M224>=(COUNTRY_INFO!F224+COUNTRY_INFO!G224),COUNTRY_INFO!F224+COUNTRY_INFO!G224,COUNTRY_INFO!$M224),0))))","v":95755},{"$f":"IF(AND(INTRO!$E$39=\"Non-endemic\",INTRO!$E$37=\"Non-endemic\"),\"Not required\",IF(INTRO!$E$39=\"Non-endemic\",\"Treat with DEC\",COUNTRY_INFO!P224))","v":0},{"$f":"IF(INTRO!$E$39<>\"Non-endemic\",COUNTRY_INFO!Q224,\"Not required\")","v":2},{"$f":"IF(COUNTRY_INFO!H224=1, IF($E224=1,$D224, 0),0)","v":0},{"$f":"IF(INTRO!$E$39<>\"Endemic\",0, IF(AND(COUNTRY_INFO!$I224=1,$F224<>0),IF(COUNTRY_INFO!M224>=(COUNTRY_INFO!F224+COUNTRY_INFO!G224),COUNTRY_INFO!F224+COUNTRY_INFO!G224,COUNTRY_INFO!$M224), 0))","v":95755},null,95755,0,536228,0,536228,null,536228,1073]
[{"$f":"IF(INTRO!$E$39=\"Non-endemic\",\" \",IF(COUNTRY_INFO!A225=0,\" \",COUNTRY_INFO!A225))","v":"Ghana"},{"$f":"IF(INTRO!$E$39=\"Non-endemic\",\" \",IF(COUNTRY_INFO!B225=0,\" \",COUNTRY_INFO!B225))","v":" "},{"$f":"IF(INTRO!$E$39=\"Non-endemic\",\" \",IF(COUNTRY_INFO!C225=0,\" \",COUNTRY_INFO!C225))","v":" "},{"$f":"IF(INTRO!$E$39=\"Non-endemic\",0,IF(INTRO!$E$39=\"Endemic but PC is not required\",IF(COUNTRY_INFO!$H225=1,COUNTRY_INFO!F225+COUNTRY_INFO!G225,0),IF(COUNTRY_INFO!$H225=1,COUNTRY_INFO!F225+COUNTRY_INFO!G225,IF(COUNTRY_INFO!$I225=1,IF(COUNTRY_INFO!M225>=(COUNTRY_INFO!F225+COUNTRY_INFO!G225),COUNTRY_INFO!F225+COUNTRY_INFO!G225,COUNTRY_INFO!$M225),0))))","v":0},{"$f":"IF(AND(INTRO!$E$39=\"Non-endemic\",INTRO!$E$37=\"Non-endemic\"),\"Not required\",IF(INTRO!$E$39=\"Non-endemic\",\"Treat with DEC\",COUNTRY_INFO!P225))","v":0},{"$f":"IF(INTRO!$E$39<>\"Non-endemic\",COUNTRY_INFO!Q225,\"Not required\")","v":0},{"$f":"IF(COUNTRY_INFO!H225=1, IF($E225=1,$D225, 0),0)","v":0},{"$f":"IF(INTRO!$E$39<>\"Endemic\",0, IF(AND(COUNTRY_INFO!$I225=1,$F225<>0),IF(COUNTRY_INFO!M225>=(COUNTRY_INFO!F225+COUNTRY_INFO!G225),COUNTRY_INFO!F225+COUNTRY_INFO!G225,COUNTRY_INFO!$M225), 0))","v":0},null,0,0,0,0,0,null,0,0]
[{"$f":"IF(INTRO!$E$39=\"Non-endemic\",\" \",IF(COUNTRY_INFO!A226=0,\" \",COUNTRY_INFO!A226))","v":"Ghana"},{"$f":"IF(INTRO!$E$39=\"Non-endemic\",\" \",IF(COUNTRY_INFO!B226=0,\" \",COUNTRY_INFO!B226))","v":" "},{"$f":"IF(INTRO!$E$39=\"Non-endemic\",\" \",IF(COUNTRY_INFO!C226=0,\" \",COUNTRY_INFO!C226))","v":" "},{"$f":"IF(INTRO!$E$39=\"Non-endemic\",0,IF(INTRO!$E$39=\"Endemic but PC is not required\",IF(COUNTRY_INFO!$H226=1,COUNTRY_INFO!F226+COUNTRY_INFO!G226,0),IF(COUNTRY_INFO!$H226=1,COUNTRY_INFO!F226+COUNTRY_INFO!G226,IF(COUNTRY_INFO!$I226=1,IF(COUNTRY_INFO!M226>=(COUNTRY_INFO!F226+COUNTRY_INFO!G226),COUNTRY_INFO!F226+COUNTRY_INFO!G226,COUNTRY_INFO!$M226),0))))","v":0},{"$f":"IF(AND(INTRO!$E$39=\"Non-endemic\",INTRO!$E$37=\"Non-endemic\"),\"Not required\",IF(INTRO!$E$39=\"Non-endemic\",\"Treat with DEC\",COUNTRY_INFO!P226))","v":0},{"$f":"IF(INTRO!$E$39<>\"Non-endemic\",COUNTRY_INFO!Q226,\"Not required\")","v":0},{"$f":"IF(COUNTRY_INFO!H226=1, IF($E226=1,$D226, 0),0)","v":0},{"$f":"IF(INTRO!$E$39<>\"Endemic\",0, IF(AND(COUNTRY_INFO!$I226=1,$F226<>0),IF(COUNTRY_INFO!M226>=(COUNTRY_INFO!F226+COUNTRY_INFO!G226),COUNTRY_INFO!F226+COUNTRY_INFO!G226,COUNTRY_INFO!$M226), 0))","v":0},null,0,0,0,0,0,null,0,0]
[{"$f":"IF(INTRO!$E$39=\"Non-endemic\",\" \",IF(COUNTRY_INFO!A227=0,\" \",COUNTRY_INFO!A227))","v":"Ghana"},{"$f":"IF(INTRO!$E$39=\"Non-endemic\",\" \",IF(COUNTRY_INFO!B227=0,\" \",COUNTRY_INFO!B227))","v":" "},{"$f":"IF(INTRO!$E$39=\"Non-endemic\",\" \",IF(COUNTRY_INFO!C227=0,\" \",COUNTRY_INFO!C227))","v":" "},{"$f":"IF(INTRO!$E$39=\"Non-endemic\",0,IF(INTRO!$E$39=\"Endemic but PC is not required\",IF(COUNTRY_INFO!$H227=1,COUNTRY_INFO!F227+COUNTRY_INFO!G227,0),IF(COUNTRY_INFO!$H227=1,COUNTRY_INFO!F227+COUNTRY_INFO!G227,IF(COUNTRY_INFO!$I227=1,IF(COUNTRY_INFO!M227>=(COUNTRY_INFO!F227+COUNTRY_INFO!G227),COUNTRY_INFO!F227+COUNTRY_INFO!G227,COUNTRY_INFO!$M227),0))))","v":0},{"$f":"IF(AND(INTRO!$E$39=\"Non-endemic\",INTRO!$E$37=\"Non-endemic\"),\"Not required\",IF(INTRO!$E$39=\"Non-endemic\",\"Treat with DEC\",COUNTRY_INFO!P227))","v":0},{"$f":"IF(INTRO!$E$39<>\"Non-endemic\",COUNTRY_INFO!Q227,\"Not required\")","v":0},{"$f":"IF(COUNTRY_INFO!H227=1, IF($E227=1,$D227, 0),0)","v":0},{"$f":"IF(INTRO!$E$39<>\"Endemic\",0, IF(AND(COUNTRY_INFO!$I227=1,$F227<>0),IF(COUNTRY_INFO!M227>=(COUNTRY_INFO!F227+COUNTRY_INFO!G227),COUNTRY_INFO!F227+COUNTRY_INFO!G227,COUNTRY_INFO!$M227), 0))","v":0},null,0,0,0,0,0,null,0,0]
[{"$f":"IF(INTRO!$E$39=\"Non-endemic\",\" \",IF(COUNTRY_INFO!A228=0,\" \",COUNTRY_INFO!A228))","v":"Ghana"},{"$f":"IF(INTRO!$E$39=\"Non-endemic\",\" \",IF(COUNTRY_INFO!B228=0,\" \",COUNTRY_INFO!B228))","v":" "},{"$f":"IF(INTRO!$E$39=\"Non-endemic\",\" \",IF(COUNTRY_INFO!C228=0,\" \",COUNTRY_INFO!C228))","v":" "},{"$f":"IF(INTRO!$E$39=\"Non-endemic\",0,IF(INTRO!$E$39=\"Endemic but PC is not required\",IF(COUNTRY_INFO!$H228=1,COUNTRY_INFO!F228+COUNTRY_INFO!G228,0),IF(COUNTRY_INFO!$H228=1,COUNTRY_INFO!F228+COUNTRY_INFO!G228,IF(COUNTRY_INFO!$I228=1,IF(COUNTRY_INFO!M228>=(COUNTRY_INFO!F228+COUNTRY_INFO!G228),COUNTRY_INFO!F228+COUNTRY_INFO!G228,COUNTRY_INFO!$M228),0))))","v":0},{"$f":"IF(AND(INTRO!$E$39=\"Non-endemic\",INTRO!$E$37=\"Non-endemic\"),\"Not required\",IF(INTRO!$E$39=\"Non-endemic\",\"Treat with DEC\",COUNTRY_INFO!P228))","v":0},{"$f":"IF(INTRO!$E$39<>\"Non-endemic\",COUNTRY_INFO!Q228,\"Not required\")","v":0},{"$f":"IF(COUNTRY_INFO!H228=1, IF($E228=1,$D228, 0),0)","v":0},{"$f":"IF(INTRO!$E$39<>\"Endemic\",0, IF(AND(COUNTRY_INFO!$I228=1,$F228<>0),IF(COUNTRY_INFO!M228>=(COUNTRY_INFO!F228+COUNTRY_INFO!G228),COUNTRY_INFO!F228+COUNTRY_INFO!G228,COUNTRY_INFO!$M228), 0))","v":0},null,0,0,0,0,0,null,0,0]
[{"$f":"IF(INTRO!$E$39=\"Non-endemic\",\" \",IF(COUNTRY_INFO!A229=0,\" \",COUNTRY_INFO!A229))","v":"Ghana"},{"$f":"IF(INTRO!$E$39=\"Non-endemic\",\" \",IF(COUNTRY_INFO!B229=0,\" \",COUNTRY_INFO!B229))","v":" "},{"$f":"IF(INTRO!$E$39=\"Non-endemic\",\" \",IF(COUNTRY_INFO!C229=0,\" \",COUNTRY_INFO!C229))","v":" "},{"$f":"IF(INTRO!$E$39=\"Non-endemic\",0,IF(INTRO!$E$39=\"Endemic but PC is not required\",IF(COUNTRY_INFO!$H229=1,COUNTRY_INFO!F229+COUNTRY_INFO!G229,0),IF(COUNTRY_INFO!$H229=1,COUNTRY_INFO!F229+COUNTRY_INFO!G229,IF(COUNTRY_INFO!$I229=1,IF(COUNTRY_INFO!M229>=(COUNTRY_INFO!F229+COUNTRY_INFO!G229),COUNTRY_INFO!F229+COUNTRY_INFO!G229,COUNTRY_INFO!$M229),0))))","v":0},{"$f":"IF(AND(INTRO!$E$39=\"Non-endemic\",INTRO!$E$37=\"Non-endemic\"),\"Not required\",IF(INTRO!$E$39=\"Non-endemic\",\"Treat with DEC\",COUNTRY_INFO!P229))","v":0},{"$f":"IF(INTRO!$E$39<>\"Non-endemic\",COUNTRY_INFO!Q229,\"Not required\")","v":0},{"$f":"IF(COUNTRY_INFO!H229=1, IF($E229=1,$D229, 0),0)","v":0},{"$f":"IF(INTRO!$E$39<>\"Endemic\",0, IF(AND(COUNTRY_INFO!$I229=1,$F229<>0),IF(COUNTRY_INFO!M229>=(COUNTRY_INFO!F229+COUNTRY_INFO!G229),COUNTRY_INFO!F229+COUNTRY_INFO!G229,COUNTRY_INFO!$M229), 0))","v":0},null,0,0,0,0,0,null,0,0]

{"sheet":"SUMMARY","index":6,"n_rows":92,"n_cols":8,"rows_kept":92,"cut":false,"hidden":false,"merged":[[82,3,82,7],[50,5,50,6],[46,5,46,6],[47,5,47,6],[48,5,48,6],[62,4,62,6],[53,1,53,7],[59,1,59,7],[54,1,54,7],[55,1,55,7],[81,1,81,7],[61,1,61,7],[79,1,79,7],[80,1,80,7],[69,1,69,7],[76,2,76,3],[41,5,41,6],[9,1,10,1],[9,2,9,5],[9,6,9,7],[49,5,49,6],[6,1,6,7],[5,2,5,5],[68,1,68,7],[57,1,57,7],[56,1,56,7],[25,1,25,7],[21,2,24,5],[30,2,30,3],[30,4,30,5],[30,6,30,7],[42,5,42,6],[43,5,43,6],[44,5,44,6],[58,1,58,7],[45,5,45,6],[40,5,40,6],[0,1,0,7],[1,1,1,7],[2,1,2,5],[3,1,3,7],[4,1,4,7],[77,2,77,3],[63,4,63,6],[64,4,64,6],[65,4,65,6],[66,4,66,6],[96,1,96,7],[76,4,76,5],[75,2,75,3],[73,4,73,5],[74,4,74,5],[75,4,75,5],[73,2,73,3],[74,2,74,3],[91,1,91,7],[77,4,77,5],[86,1,86,7],[90,1,90,7],[85,1,85,7],[83,1,83,2],[83,3,83,7],[82,1,82,2]]}
[]
[null,"Joint request for selected PC medicines v.3"]
[]
[null,"This form constitutes an official government request to WHO for the supply of the PC medicines. It can be submitted any time before 15 August of the current year for distribution of medicines during the following year, but at least 6-8 months before the planned PC intervention(s) to allow time for reviewing and approval of the request, placing order, manufacturing PC medicines and shipment to the country."]
[]
[null,"Country",{"$f":"IF(INTRO!$E$33<>0,INTRO!$E$33,\" \")","v":"Ghana"},null,null,null,"Year",{"$f":"IF(INTRO!$E$35<>0,INTRO!$E$35,\" \")","v":2019}]
[]
[null,"Information on PC medicines requested to WHO"]
[]
[null,"PC medicine","Number of tablets",null,null,null,"Total number of bottles"]
[null,null,"Required","In stock","In pipeline","Requested","Required","Requested"]
[null,"Albendazole for LF",1163404,13173400,null,{"$f":"IF(C12>(D12+E12),C12-D12-E12, 0)","v":0},{"$f":"IF($C12=0,0, IF($B12=\"Albendazole for LF\", IF($C12=ALB_MBD!$I$4,ALB_MBD!$U$4,ROUNDUP($C12/200,0)), IF($B12=\"Albendazole for STH (SAC)\", IF($C12=ALB_MBD!$L$4,ALB_MBD!$X$4,ROUNDUP($C12/200,0)), IF($B12=\"Mebendazole (SAC)\", IF($C12=ALB_MBD!$P$4,ALB_MBD!$AA$4,ROUNDUP($C12/150,0)), IF($B12=\"Diethylcarbamazine citrate\", IF($C12=DEC!$J$4,DEC!$M$4,ROUNDUP($C12/1000,0)), IF($B12=\"Praziquantel (SAC)\", IF($C12=PZQ!$O$4,PZQ!$R$4,ROUNDUP($C12/1000,0)), IF($B12=\"Ivermectin\", IF($C12=IVM!$N$4,IVM!$Q$4,$C12/500+0.49),0)))))))","v":5826},{"$f":"IF($F12=0,0,IF(OR($B12=\"Albendazole for LF\",$B12=\"Albendazole for STH (SAC)\"),$G12-ROUNDUP(($E12+$D12)/200,0),IF($B12=\"Ivermectin\",$G12-ROUNDUP(($E12+$D12)/500,0),IF($B12=\"Mebendazole (SAC)\",$G12-ROUNDUP(($E12+$D12)/150,0),$G12-ROUNDUP(($E12+$D12)/1000,0)))))","v":0}]
[null,"Albendazole for STH (SAC)",7237199,13173400,null,0,{"$f":"IF($C13=0,0, IF($B13=\"Albendazole for LF\", IF($C13=ALB_MBD!$I$4,ALB_MBD!$U$4,ROUNDUP($C13/200,0)), IF($B13=\"Albendazole for STH (SAC)\", IF($C13=ALB_MBD!$L$4,ALB_MBD!$X$4,ROUNDUP($C13/200,0)), IF($B13=\"Mebendazole (SAC)\", IF($C13=ALB_MBD!$P$4,ALB_MBD!$AA$4,ROUNDUP($C13/150,0)), IF($B13=\"Diethylcarbamazine citrate\", IF($C13=DEC!$J$4,DEC!$M$4,ROUNDUP($C13/1000,0)), IF($B13=\"Praziquantel (SAC)\", IF($C13=PZQ!$O$4,PZQ!$R$4,ROUNDUP($C13/1000,0)), IF($B13=\"Ivermectin\", IF($C13=IVM!$N$4,IVM!$Q$4,$C13/500+0.49),0)))))))","v":36286},0]
[null,"Praziquantel (SAC)",15151102.5,0,0,15151102.5,{"$f":"IF($C14=0,0, IF($B14=\"Albendazole for LF\", IF($C14=ALB_MBD!$I$4,ALB_MBD!$U$4,ROUNDUP($C14/200,0)), IF($B14=\"Albendazole for STH (SAC)\", IF($C14=ALB_MBD!$L$4,ALB_MBD!$X$4,ROUNDUP($C14/200,0)), IF($B14=\"Mebendazole (SAC)\", IF($C14=ALB_MBD!$P$4,ALB_MBD!$AA$4,ROUNDUP($C14/150,0)), IF($B14=\"Diethylcarbamazine citrate\", IF($C14=DEC!$J$4,DEC!$M$4,ROUNDUP($C14/1000,0)), IF($B14=\"Praziquantel (SAC)\", IF($C14=PZQ!$O$4,PZQ!$R$4,ROUNDUP($C14/1000,0)), IF($B14=\"Ivermectin\", IF($C14=IVM!$N$4,IVM!$Q$4,$C14/500+0.49),0)))))))","v":15258},15258]
[null,"Ivermectin",50632540.000000015,0,null,50632540.000000015,{"$f":"IF($C15=0,0, IF($B15=\"Albendazole for LF\", IF($C15=ALB_MBD!$I$4,ALB_MBD!$U$4,ROUNDUP($C15/200,0)), IF($B15=\"Albendazole for STH (SAC)\", IF($C15=ALB_MBD!$L$4,ALB_MBD!$X$4,ROUNDUP($C15/200,0)), IF($B15=\"Mebendazole (SAC)\", IF($C15=ALB_MBD!$P$4,ALB_MBD!$AA$4,ROUNDUP($C15/150,0)), IF($B15=\"Diethylcarbamazine citrate\", IF($C15=DEC!$J$4,DEC!$M$4,ROUNDUP($C15/1000,0)), IF($B15=\"Praziquantel (SAC)\", IF($C15=PZQ!$O$4,PZQ!$R$4,ROUNDUP($C15/1000,0)), IF($B15=\"Ivermectin\", IF($C15=IVM!$N$4,IVM!$Q$4,$C15/500+0.49),0)))))))","v":101332},101332]
[null,null,0,0,null,0,{"$f":"IF($C16=0,0, IF($B16=\"Albendazole for LF\", IF($C16=ALB_MBD!$I$4,ALB_MBD!$U$4,ROUNDUP($C16/200,0)), IF($B16=\"Albendazole for STH (SAC)\", IF($C16=ALB_MBD!$L$4,ALB_MBD!$X$4,ROUNDUP($C16/200,0)), IF($B16=\"Mebendazole (SAC)\", IF($C16=ALB_MBD!$P$4,ALB_MBD!$AA$4,ROUNDUP($C16/150,0)), IF($B16=\"Diethylcarbamazine citrate\", IF($C16=DEC!$J$4,DEC!$M$4,ROUNDUP($C16/1000,0)), IF($B16=\"Praziquantel (SAC)\", IF($C16=PZQ!$O$4,PZQ!$R$4,ROUNDUP($C16/1000,0)), IF($B16=\"Ivermectin\", IF($C16=IVM!$N$4,IVM!$Q$4,$C16/500+0.49),0)))))))","v":0},0]
[null,null,0,0,null,0,{"$f":"IF($C17=0,0, IF($B17=\"Albendazole for LF\", IF($C17=ALB_MBD!$I$4,ALB_MBD!$U$4,ROUNDUP($C17/200,0)), IF($B17=\"Albendazole for STH (SAC)\", IF($C17=ALB_MBD!$L$4,ALB_MBD!$X$4,ROUNDUP($C17/200,0)), IF($B17=\"Mebendazole (SAC)\", IF($C17=ALB_MBD!$P$4,ALB_MBD!$AA$4,ROUNDUP($C17/150,0)), IF($B17=\"Diethylcarbamazine citrate\", IF($C17=DEC!$J$4,DEC!$M$4,ROUNDUP($C17/1000,0)), IF($B17=\"Praziquantel (SAC)\", IF($C17=PZQ!$O$4,PZQ!$R$4,ROUNDUP($C17/1000,0)), IF($B17=\"Ivermectin\", IF($C17=IVM!$N$4,IVM!$Q$4,$C17/500+0.49),0)))))))","v":0},0]
[]
[null,"Number of people to be treated with donated medicine ( see User Guide for details )"]
[]
[null,"Disease",null,null,null,null,"Round 1","Round 2"]
[null,"Lymphatic filariasis","These figures are estimated only for targeted \nage groups to be treated with donated \nmedicines in areas where treatment for specific disease is required",null,null,null,1163404," "]
[null,"Onchocerciasis",null,null,null,null,10558871,7052102]
[null,"Schistosomiasis",null,null,null,null,6060441," "]
[null,"Soil-transmitted helminthiases",null,null,null,null,7567865,0]
[]
[]
[]
[null,"Information on planned PC interventions"]
[]
[null,"PC medicine","Planned date of the \n1st round of PC",null,"Planned date of the \n2nd round of PC",null,"Date by which the medicine \nshould arrive to the national warehouse"]
[null,"Albendazole for LF","April",2019,null,null,"February",2019]
[null,"Albendazole for STH","September",2019,null,null,"February",2019]
[null,"Praziquantel","September",2019,null,null,"February",2019]
[null,"Ivermectin","April",2019,"November",2019,"February",2019]
[]
[]
[]
[null,"Information on PC medicines for treatment of population not targeted with current donation through WHO"]
[]
[null,"PC medicine","Age group","# of people","# of tablets","Specify source",null,"Status"]
[]
[]
[]
[]
[]
[]
[]
[]
[]
[]
[]
[null,"Checklist"]
[null,"Submission"]
[null,"What should be submitted?"]
[null,"The supply of the requested medicines should be based on up-to-date epidemiological data, specific usage plans, and capacity for implementation. The following checklist ensures that all necessary forms and information are provided to WHO (in electronic format). "]
[null,"Joint request for selected PC medicines"]
[null,"Joint reporting form"]
[null,"PC epidemiological data reporting form"]
[]
[null,"Availability of funding for implementation in the year for which the medicines are requested"]
[]
[null,"Diseases \ntargeted for implementation","Total treatments","Funding secured for","Source",null,null,"Amount"]
[null,{"$f":"B22","v":"Lymphatic filariasis"},{"$f":"SUM(G22:H22)","v":1163404},null,"USAID/END in Africa"]
[null,{"$f":"B23","v":"Onchocerciasis"},{"$f":"SUM(G23:H23)","v":17610973},null,"USAID/END in Africa/SightSavers"]
[null,{"$f":"B24","v":"Schistosomiasis"},{"$f":"SUM(G24:H24)","v":6060441}]
[null,{"$f":"B25","v":"Soil-transmitted helminthiases"},{"$f":"SUM(G25:H25)","v":7567865}]
[]
[null,"Who should fill in the form? "]
[null,"National NTD coordinator should compile all required information needed to complete the request form. In the absence of such a coordinator, specific programme managers should coordinate their respective part. The final single request must be approved by the Ministry of Health."]
[]
[null,"Information on person(s) who has filled in the form"]
[]
[null,"Title ","Name",null,"Phone",null,"Email","Date"]
[null,"NTD/PC Coordinator","Dr. Benjamin Kofi Marfo",null,"(2330)208232286",null,"marfobenjamin2002@yahoo.com","25/06/2018"]
[null,"MandE Focal Point","Mr. Ernest Mensah",null,"(2330)242907493",null,"ernestmensah1@gmail.com","25/06/2018"]
[]
[]
[]
[null,"The WHO recommends that all serious adverse events suspected to be associated with use of PC medicines should be reported in accordance with national Pharmacovigilance guidelines. In the absence of a national Pharmacovigilance system, contact the WHO Neglected Tropical Disease department for guidance."]
[null,"The WHO is committed to facilitate PC medicines donation with a free-of-charge supply of a) albendazole, mebendazole and praziquantel to the MoH’s national warehouse; and b) diethylcarbamazine citrate to the entry port/airport of recipient countries."]
[null,"The institution submitting the present request is responsible for a) arranging the offloading of the medicines from the truck and storing it in the national warehouse and subsequent shipment to the final distribution centres; b) for registering the donated medicine, if required, by the relevant national regulatory authorities; and c) for informing about any changes of their PC campaigns (e.g. postpone of the planned MDA date, replacement of NTD coordinator, etc.)."]
[null,"Name and signature of NTD coordinator \nor Ministry of Health representative"]
[null,"Date:"]
[]
[null,"Please complete information on shipment and consignee in the worksheet SHIPMENT. Any additional details related to this Request should be provided in the \"Additional information\" box in the worksheet SHIPMENT."]
[null,"Please send the national request (signed and in electronic format) to the concerned WR with copy to:"]
[null,"WHO headquarters","PC_JointForms@who.int"]
[null,"WHO Regional Office","Regional Advisor for NTD"]
[null,"Mectizan donation program","Dr Yao Sodahlon, email: ysodahlon@taskforce.org"]
[]
[null,"Please note that your request will be reviewed by an independent panel before approval. The information in this form, joint reporting form and PC epidemiological data reporting form are essential for WHO to ensure efficient usage of medicines. As part of its ongoing monitoring and evaluation activities, and to meet its contractual obligations to donors and other partners, WHO and its appointed agents reserve the right to periodically inspect stocks of the medicines at country level."]

{"sheet":"SHIPMENT","index":7,"n_rows":46,"n_cols":8,"rows_kept":46,"cut":false,"hidden":false,"merged":[[34,1,34,7],[36,1,36,7],[0,1,0,7],[1,1,1,7],[2,1,2,5],[17,5,17,7],[18,5,18,7],[19,2,19,4],[19,5,19,7],[21,2,21,4],[3,2,3,5],[4,1,4,7],[22,2,22,4],[22,5,22,7],[15,2,15,4],[20,5,20,7],[15,5,15,7],[20,2,20,4],[18,2,18,4],[16,2,16,4],[47,1,56,7],[45,1,45,7],[37,1,37,6],[38,1,38,5],[40,1,40,7],[41,1,41,6],[39,1,39,6],[42,1,42,6],[43,1,43,7],[25,2,25,4],[25,5,25,7],[24,1,24,7],[6,1,6,7],[7,2,7,4],[7,5,7,7],[8,2,8,4],[8,5,8,7],[9,2,9,4],[9,5,9,7],[10,2,10,4],[10,5,10,7],[11,2,11,4],[11,5,11,7],[12,2,12,4],[12,5,12,7],[13,2,13,4],[13,5,13,7],[14,2,14,4],[14,5,14,7],[23,2,23,4],[23,5,23,7],[21,5,21,7],[16,5,16,7],[17,2,17,4],[26,2,26,4],[26,5,26,7],[27,2,27,4],[27,5,27,7],[28,2,28,4],[28,5,28,7],[32,2,32,4],[32,5,32,7],[29,2,29,4],[29,5,29,7],[30,2,30,4],[30,5,30,7],[31,2,31,4],[31,5,31,7]]}
[]
[null,"Joint request for selected PC medicines v.3"]
[]
[null,"Country",{"$f":"IF(INTRO!$E$33<>0,INTRO!$E$33,\" \")","v":"Ghana"},null,null,null,"Year",{"$f":"IF(INTRO!$E$35<>0,INTRO!$E$35,\" \")","v":2019}]
[]
[null,"Information on shipment and consignee "]
[]
[null,null,"Consignee",null,null,"Delivery point / Final recipient\nif different from the consignee"]
[null,"Name","WR",null,null,"Dr. Benjamin Kofi Marfo"]
[null,"Department/Unit","WHO Gountry Office",null,null,"Neglected Tropical Diseases Programme"]
[null,"Organization","WHO ",null,null,"Ghana Health Service"]
[null,"Phone","00233 302 774725/763920",null,null,"00233 20 823 2286"]
[null,"Fax","00233 302 763920",null,null,"00233 302 2276 739"]
[null,"E-mail","whoghana@gh.afro.who.int",null,null,"marfobenjamin2000@yahoo.com"]
[null,"Mailing address","20 Water St., North Ridge, P.O.Box M 142, Accra",null,null,"NTD Programme, P.O.Box MB 190, Accra, Ghana"]
[]
[null,null,"Consignee",null,null,"Delivery point / Final recipient\nif different from the consignee"]
[null,"Name"]
[null,"Department/Unit"]
[null,"Organization"]
[null,"Phone"]
[null,"Fax"]
[null,"E-mail"]
[null,"Mailing address"]
[]
[null,null,"Consignee",null,null,"Delivery point / Final recipient\nif different from the consignee"]
[null,"Name"]
[null,"Department/Unit"]
[null,"Organization"]
[null,"Phone"]
[null,"Fax"]
[null,"E-mail"]
[null,"Mailing address"]
[]
[]
[null,"Information on import requirements"]
[]
[null,"Is the Import Permit required?"]
[null,"How long does it take to obtain the Import Permit?"]
[null,"Do you require any documents to be submitted together with the Import Permit application?"]
[null,"If YES, please specify here"]
[null,"Does the consignee have to get customs clearance before the shipment can proceed?"]
[null,"Is there any additional information may be helpful in ensuring timely clearance and delivery of medicines to your country? "]
[null,"If YES, please specify here"]
[]
[null,"Additional information"]