{"text_format":"1","workbook":"xlsx","n_sheets":11,"sheets":["INTRO","COUNTRY_INFO","DEC","ALB_MBD","DSD","PZQ","IVM","IVM+","SUMMARY","SHIPMENT","DATA_POLICY"],"not_rendered":{"charts":0,"images":3,"macros":1,"external_links":1,"defined_names":11,"comments":9,"pivot_tables":0},"unopened":[],"bounds":{"document_bytes":16777216,"sheet_cells":100000,"rows_first":2000,"rows_last":500,"rows_between":2000,"halvings":0,"cell_chars":16384,"cell_head_chars":4096},"cells_cut":0,"cells_raw":0,"read":"whole","date_system":"1900"}

{"sheet":"INTRO","index":0,"n_rows":51,"n_cols":5,"rows_kept":51,"cut":false,"hidden":false,"merged":[[21,1,21,4],[46,1,46,4],[38,1,38,2],[40,1,40,2],[42,1,42,2],[44,1,44,2],[36,1,36,2],[22,2,23,4],[25,2,26,4],[27,1,27,4],[32,1,32,2],[29,1,29,4],[30,1,30,4],[28,2,28,4],[24,1,24,4],[34,1,34,2],[0,1,0,4],[2,1,2,4],[1,1,1,4],[5,1,5,4],[3,1,3,4],[7,2,7,4],[11,1,11,4],[4,1,4,4],[10,2,10,4],[20,2,20,4],[17,1,17,4],[13,1,13,4],[18,2,18,4],[8,2,8,4],[9,2,9,4],[19,1,19,4],[12,1,12,4],[16,1,16,4],[14,1,14,4],[15,1,15,4]]}
[]
[null,"Formulaire de demande commune de médicaments pour CP v.4.1"]
[]
[null,"Dans le cadre des efforts mondiaux entrepris pour accélérer l'expansion de la chimioprévention (CP) pour l'élimination de la filariose lymphatique et la lutte contre la schistosomiase et les géohelminthiases, l'Organisation mondiale de la Santé (OMS) facilite l'approvisionnement en albendazole, comprimés de 400 mg (GSK), pour les programmes nationaux d'élimination de la filariose lymphatique et programmes nationaux de lutte contre les géohelminthiases; en diethylcarbamazine, comprimés de 100 mg (Eisai), pour les programmes nationaux d'élimination de la filariose lymphatique; en mebendazole, comprimés de 500 mg (J&J) pour les programmes nationaux de lutte contre les géohelminthiases et en praziquantel, comprimés de 600 mg (Merck KGaA), destinés aux enfants d'âge scolaire, pour les programmes nationaux de lutte contre la schistosomiase. L'OMS contribue également à l'approvisionnement en ivermectine, comprimés de 3 mg (Merck), pour les programmes de donation pour l'onchocercose et la filariose lymphatique. \nCet outil Excel est concu pour aider les pays à quantifier le nombre de comprimés nécessaires, selon le traitement de chimioprévention requis, pour atteindre les objectifs de couverture de traitement de populations et districts pour l'année de la demande de médicaments. Le résultat de cet outil est une demande commune de médicaments pour la chimioprévention des maladies tropicales négligées, qui peut être imprimée, signée et soumise à l'OMS pour la demande de ces médicaments. "]
[]
[null,"Structure de l'application (feuilles de travail) :"]
[]
[null,"INTRO","Cette feuille contient des instructions pour compléter le formulaire de demande de médicaments pour la chimioprévention et des informations sur le statut de la chimioprévention pour les maladies d'endémie du pays."]
[null,"COUNTRY_INFO","Cette feuille contient des informations sur la structure administrative du pays, la population par groupe d'âge, le statut d'endémicité pour chaque maladie, la population devant être traitée par chimioprévention et les interventions prévues."]
[null,"DEC, ALB_MBD, PZQ et IVM","Ces feuilles contiennent des informations sur l'endémicité des districts ciblés pour le traitement aux médicaments spécifiques à la chimioprévention, les plans de traitement, et le nombre de comprimés requis et demandés."]
[null,"SUMMARY","Cette feuille inclut un résumé du nombre de comprimés demandés, des informations concernant le stock et les dates de soumission de la demande de médicaments. Avant de générer le rapport (run macros), veuillez sélectionner le médicament pour lequel le rapport est nécessaire. Veuillez suivre la même règle pour voir le nombre de personnes à traiter pour les maladies spécifiques. \nCette feuille doit être imprimée et soumise en tant que \"Formulaire de demande commune de médicaments pour chimioprévention\" (voir les instructions pour la soumission du formulaire sous la feuille SUMMARY)."]
[]
[null,"Instructions pour la saisie des données"]
[]
[null,"La plupart des cellules des feuilles de travail mentionnées ci-dessus contiennent des formules calculées automatiquement en fonction du protocole de traitement recommandé par l'OMS pour chaque maladie.\nVoir : https://www.who.int/publications/i/item/9789241599993."]
[]
[null,"Veuillez entrer vos données dans les cellules en fonction de leur code de couleur :"]
[]
[null,null,"Blanc - la cellule n'est pas protégée. Veuillez entrer la valeur de l'indicateur demandé."]
[]
[null,null,"Jaune - la cellule est protégée et inclut le nom de l'indicateur. Aucune entrée de données requise."]
[]
[null,null,"Orange - la cellule n'est pas protégée et contient un menu déroulant. Veuillez sélectionner la valeur dans le menu déroulant. "]
[]
[]
[null,null,"Vert - la cellule n'est pas protégée et contient des formules. Veuillez changer la valeur indiquée uniquement si vos données sont différentes de celles calculées automatiquement.  "]
[]
[]
[null,null,"Bleu - la cellule est protégée et contient des formules. Aucune entrée de données requise. "]
[]
[null,"Données pays"]
[]
[null,"PAYS",null,null,"Côte d'Ivoire"]
[null,null,null,null,5]
[null,"Année de la demande de médicaments",null,null,2023]
[]
[null,"Le pays est-il endémique à la filariose lymphatique (FL) ?",null,null,"Endémique"]
[]
[null,"Le pays est-il endémique à l'onchocercose (ONCHO) ? ",null,null,"Endémique"]
[]
[null,"Le pays est-il endémique aux géohelminthiases (STH) ?",null,null,"Endémique"]
[]
[null,"Le pays est-il endémique à la schistosomiase (SCH) ?",null,null,"Endémique"]
[]
[null,"Combien d'unités administratives compte le pays ?",null,null,113]
[]
[null,"Si les données démographiques par groupe d'âge ne sont pas disponibles au second niveau administratif, veuillez entrer la proportion (%) de population, par groupe d'âge, du pays. Si les données sont disponibles, veuillez laisser les cellules vierges."]
[null,"1-4 ans","Enfants d'âge pré-scolaire (EAPréS)",null,0.12690000000000001]
[null,"5-14 ans","Enfants d'âge scolaire (EAS)",null,0.25440000000000002]
[null,"15 ans et plus","Adultes",null,0.58360000000000001]
[null,"15-49 ans","Femmes en âge de procréer (FAP)",null,0.24129999999999999]

{"sheet":"COUNTRY_INFO","index":1,"n_rows":122,"n_cols":74,"rows_kept":122,"cut":false,"hidden":false,"merged":[[3,0,3,2],[3,7,3,10],[3,21,3,24],[5,0,5,2],[3,26,3,29],[5,26,5,29],[5,3,5,6],[5,7,5,10],[5,11,5,20],[5,21,5,24],[6,3,7,3],[6,2,7,2],[6,1,7,1],[6,0,7,0],[6,21,7,21],[6,13,6,16],[6,11,7,11],[6,12,7,12],[6,7,7,7],[6,8,7,8],[6,9,7,9],[6,10,7,10],[6,6,7,6],[6,5,7,5],[6,4,7,4],[6,28,7,28],[6,29,7,29],[6,17,6,20],[6,25,7,25],[6,22,7,22],[6,23,7,23],[6,24,7,24],[6,26,7,26],[6,27,7,27]]}
["INFORMATIONS PAYS"]
["Struture administrative, population par groupe d'âge, statut d'endémicité et interventions planifiées"]
[]
["TOTAL",null,null,{"$f":"SUBTOTAL(9,D$10:D$1010)","v":28486818},{"$f":"SUBTOTAL(9,E$10:E$1010)","v":3614973},7247042,16624902,null,null,null,null,{"$f":"SUBTOTAL(9,L$10:L$1010)","v":15174858},20569103,868173,1740451,1650830,4259454,1833985,2777681,11245714,14642610]
[]
["Structure administrative du pays",null,null,"Population",null,null,null,"Endémicité",null,null,null,"Population nécessitant la CP",null,null,null,null,null,null,null,null,null,"Nombre de tournées de traitement prévues pour l'année",null,null,null,"Criteria to apply for \nIVM+DEC+ALB therapy","Enquêtes épidémiologiques planifiées pour l’année"]
["Pays","Région/Département","District","Total","EAPréS","EAS","Adultes","FL","Oncho","STH","SCH","FL","ONCHO","STH",null,null,null,"SCH",null,null,null,"FL","Oncho","STH","SCH","FL","FL","Oncho","STH","SCH"]
[null,null,null,null,null,null,null,null,null,null,null,null,null,"EAPréS","EAS","FAP","TOTAL","EAPréS","EAS","Adultes","TOTAL",null,null,null,null,null,null,null,null,null,null,null,null,"IU_ID","IU_NAME"]
[null,null,null,null,null,null,null,null,null,null,null,null,null,null,null,null,null,null,null,null,null,null,null,null,null,null,null,null,null,null,"x","x","x","x","x","x","x","X","X","X","X","X","X","X","X","x","x","x","x","x","x","x","x","x","x","x","x","x","x","x","x","x","x","x","x","x","x","x","x","x","x","x","x","x"]
[{"$f":"IF(INTRO!$E$33<>0,INTRO!$E$33, \" \")","v":"Côte d'Ivoire"},"ABIDJAN 1 ","ABOBO EST",672399,{"$f":"IF(INTRO!$E$48=\"\",\"\",ROUND($D10*INTRO!$E$48,0))","v":85327},{"$f":"IF(INTRO!$E$49=\"\",\"\",ROUND($D10*INTRO!$E$49,0))","v":171058},{"$f":"IF(INTRO!$E$50=\"\",\"\",ROUND($D10*INTRO!$E$50,0))","v":392412},0,0,1,1,{"$f":"IF(INTRO!$E$37=\"Endémique\",IF($H10>0,IF($H10=4,\"Inconnu\",IF($H10=99,\"Interrompu\",$D10)),0),\"Non requis\")","v":0},{"$f":"IF(INTRO!$E$39=\"Endémique\", IF($I10>0, IF($I10=4,\"Inconnu\",IF($I10=99,\"Interrompu\",$D10)), 0),\"Non requis\")","v":0},{"$f":"IF(INTRO!$E$41=\"Endémique\", IF($J10>1, IF($J10=4, \"Inconnu\", IF($J10=99, \"Surveillance\", E10)), 0),\"Non requis\")","v":0},{"$f":"IF(INTRO!$E$41=\"Endémique\", IF($J10>1, IF($J10=4, \"Inconnu\", IF($J10=99, \"Surveillance\", F10)), 0),\"Non requis\")","v":0},{"$f":"IF(INTRO!$E$41=\"Endémique\", IF($J10>1, IF($J10=4, \"Inconnu\", IF($J10=99, \"Surveillance\", ROUND(D10*INTRO!$E$51,0))), 0),\"Non requis\")","v":0},{"$f":"IF(INTRO!$E$41=\"Endémique\", IF($J10>1, IF($J10=4, \"Inconnu\", IF($J10=99, \"Surveillance\", SUM($N10:$P10))), 0),\"Non requis\")","v":0},{"$f":"IF(INTRO!$E$43=\"Endémique\", IF($K10>1, IF($K10=4, \"Inconnu\", IF($K10=99, \"Surveillance\", ROUND(E10*0.75,0))), 0),\"Non requis\")","v":0},233652,{"$f":"IF(INTRO!$E$43=\"Endémique\", IF($K10>1, IF($K10=4, \"Inconnu\", IF($K10=99, \"Surveillance\", G10)), 0),\"Non requis\")","v":0},{"$f":"IF(INTRO!$E$43=\"Endémique\", IF($K10>1, IF($K10=4, \"Inconnu\", IF($K10=99, \"Surveillance\", SUM($R10:$T10))), 0),\"Non requis\")","v":0},0,0,0,1,null,null,null,null,null,null,null,null,15335,"ABOBO EST"]
[{"$f":"IF(INTRO!$E$33<>0,INTRO!$E$33, \" \")","v":"Côte d'Ivoire"},"ABIDJAN 1 ","ABOBO OUEST",699844,{"$f":"IF(INTRO!$E$48=\"\",\"\",ROUND($D11*INTRO!$E$48,0))","v":88810},{"$f":"IF(INTRO!$E$49=\"\",\"\",ROUND($D11*INTRO!$E$49,0))","v":178040},{"$f":"IF(INTRO!$E$50=\"\",\"\",ROUND($D11*INTRO!$E$50,0))","v":408429},0,0,1,1,{"$f":"IF(INTRO!$E$37=\"Endémique\",IF($H11>0,IF($H11=4,\"Inconnu\",IF($H11=99,\"Interrompu\",$D11)),0),\"Non requis\")","v":0},{"$f":"IF(INTRO!$E$39=\"Endémique\", IF($I11>0, IF($I11=4,\"Inconnu\",IF($I11=99,\"Interrompu\",$D11)), 0),\"Non requis\")","v":0},{"$f":"IF(INTRO!$E$41=\"Endémique\", IF($J11>1, IF($J11=4, \"Inconnu\", IF($J11=99, \"Surveillance\", E11)), 0),\"Non requis\")","v":0},{"$f":"IF(INTRO!$E$41=\"Endémique\", IF($J11>1, IF($J11=4, \"Inconnu\", IF($J11=99, \"Surveillance\", F11)), 0),\"Non requis\")","v":0},{"$f":"IF(INTRO!$E$41=\"Endémique\", IF($J11>1, IF($J11=4, \"Inconnu\", IF($J11=99, \"Surveillance\", ROUND(D11*INTRO!$E$51,0))), 0),\"Non requis\")","v":0},{"$f":"IF(INTRO!$E$41=\"Endémique\", IF($J11>1, IF($J11=4, \"Inconnu\", IF($J11=99, \"Surveillance\", SUM($N11:$P11))), 0),\"Non requis\")","v":0},{"$f":"IF(INTRO!$E$43=\"Endémique\", IF($K11>1, IF($K11=4, \"Inconnu\", IF($K11=99, \"Surveillance\", ROUND(E11*0.75,0))), 0),\"Non requis\")","v":0},77041,{"$f":"IF(INTRO!$E$43=\"Endémique\", IF($K11>1, IF($K11=4, \"Inconnu\", IF($K11=99, \"Surveillance\", G11)), 0),\"Non requis\")","v":0},{"$f":"IF(INTRO!$E$43=\"Endémique\", IF($K11>1, IF($K11=4, \"Inconnu\", IF($K11=99, \"Surveillance\", SUM($R11:$T11))), 0),\"Non requis\")","v":0},0,0,0,1,null,null,null,null,null,null,null,null,15336,"ABOBO OUEST"]
[{"$f":"IF(INTRO!$E$33<>0,INTRO!$E$33, \" \")","v":"Côte d'Ivoire"},"ABIDJAN 1 ","ANYAMA",210328,{"$f":"IF(INTRO!$E$48=\"\",\"\",ROUND($D12*INTRO!$E$48,0))","v":26691},{"$f":"IF(INTRO!$E$49=\"\",\"\",ROUND($D12*INTRO!$E$49,0))","v":53507},{"$f":"IF(INTRO!$E$50=\"\",\"\",ROUND($D12*INTRO!$E$50,0))","v":122747},0,0,1,2,{"$f":"IF(INTRO!$E$37=\"Endémique\",IF($H12>0,IF($H12=4,\"Inconnu\",IF($H12=99,\"Interrompu\",$D12)),0),\"Non requis\")","v":0},{"$f":"IF(INTRO!$E$39=\"Endémique\", IF($I12>0, IF($I12=4,\"Inconnu\",IF($I12=99,\"Interrompu\",$D12)), 0),\"Non requis\")","v":0},{"$f":"IF(INTRO!$E$41=\"Endémique\", IF($J12>1, IF($J12=4, \"Inconnu\", IF($J12=99, \"Surveillance\", E12)), 0),\"Non requis\")","v":0},{"$f":"IF(INTRO!$E$41=\"Endémique\", IF($J12>1, IF($J12=4, \"Inconnu\", IF($J12=99, \"Surveillance\", F12)), 0),\"Non requis\")","v":0},{"$f":"IF(INTRO!$E$41=\"Endémique\", IF($J12>1, IF($J12=4, \"Inconnu\", IF($J12=99, \"Surveillance\", ROUND(D12*INTRO!$E$51,0))), 0),\"Non requis\")","v":0},{"$f":"IF(INTRO!$E$41=\"Endémique\", IF($J12>1, IF($J12=4, \"Inconnu\", IF($J12=99, \"Surveillance\", SUM($N12:$P12))), 0),\"Non requis\")","v":0},{"$f":"IF(INTRO!$E$43=\"Endémique\", IF($K12>1, IF($K12=4, \"Inconnu\", IF($K12=99, \"Surveillance\", ROUND(E12*0.75,0))), 0),\"Non requis\")","v":20018},0,{"$f":"IF(INTRO!$E$43=\"Endémique\", IF($K12>1, IF($K12=4, \"Inconnu\", IF($K12=99, \"Surveillance\", G12)), 0),\"Non requis\")","v":122747},{"$f":"IF(INTRO!$E$43=\"Endémique\", IF($K12>1, IF($K12=4, \"Inconnu\", IF($K12=99, \"Surveillance\", SUM($R12:$T12))), 0),\"Non requis\")","v":142765},0,0,0,0,null,null,null,null,null,null,null,null,15337,"ANYAMA"]
[{"$f":"IF(INTRO!$E$33<>0,INTRO!$E$33, \" \")","v":"Côte d'Ivoire"},"ABIDJAN 1 ","YOPOUGON EST",955875,{"$f":"IF(INTRO!$E$48=\"\",\"\",ROUND($D13*INTRO!$E$48,0))","v":121301},{"$f":"IF(INTRO!$E$49=\"\",\"\",ROUND($D13*INTRO!$E$49,0))","v":243175},{"$f":"IF(INTRO!$E$50=\"\",\"\",ROUND($D13*INTRO!$E$50,0))","v":557849},19,0,1,2,{"$f":"IF(INTRO!$E$37=\"Endémique\",IF($H13>0,IF($H13=4,\"Inconnu\",IF($H13=99,\"Interrompu\",$D13)),0),\"Non requis\")","v":955875},{"$f":"IF(INTRO!$E$39=\"Endémique\", IF($I13>0, IF($I13=4,\"Inconnu\",IF($I13=99,\"Interrompu\",$D13)), 0),\"Non requis\")","v":0},{"$f":"IF(INTRO!$E$41=\"Endémique\", IF($J13>1, IF($J13=4, \"Inconnu\", IF($J13=99, \"Surveillance\", E13)), 0),\"Non requis\")","v":0},{"$f":"IF(INTRO!$E$41=\"Endémique\", IF($J13>1, IF($J13=4, \"Inconnu\", IF($J13=99, \"Surveillance\", F13)), 0),\"Non requis\")","v":0},{"$f":"IF(INTRO!$E$41=\"Endémique\", IF($J13>1, IF($J13=4, \"Inconnu\", IF($J13=99, \"Surveillance\", ROUND(D13*INTRO!$E$51,0))), 0),\"Non requis\")","v":0},{"$f":"IF(INTRO!$E$41=\"Endémique\", IF($J13>1, IF($J13=4, \"Inconnu\", IF($J13=99, \"Surveillance\", SUM($N13:$P13))), 0),\"Non requis\")","v":0},{"$f":"IF(INTRO!$E$43=\"Endémique\", IF($K13>1, IF($K13=4, \"Inconnu\", IF($K13=99, \"Surveillance\", ROUND(E13*0.75,0))), 0),\"Non requis\")","v":90976},195983,{"$f":"IF(INTRO!$E$43=\"Endémique\", IF($K13>1, IF($K13=4, \"Inconnu\", IF($K13=99, \"Surveillance\", G13)), 0),\"Non requis\")","v":557849},{"$f":"IF(INTRO!$E$43=\"Endémique\", IF($K13>1, IF($K13=4, \"Inconnu\", IF($K13=99, \"Surveillance\", SUM($R13:$T13))), 0),\"Non requis\")","v":844808},0,0,0,1,null,null,null,null,null,null,null,null,15333,"YOPOUGON EST"]
[{"$f":"IF(INTRO!$E$33<>0,INTRO!$E$33, \" \")","v":"Côte d'Ivoire"},"ABIDJAN 1 ","YOPOUGON OUEST",542320,{"$f":"IF(INTRO!$E$48=\"\",\"\",ROUND($D14*INTRO!$E$48,0))","v":68820},{"$f":"IF(INTRO!$E$49=\"\",\"\",ROUND($D14*INTRO!$E$49,0))","v":137966},{"$f":"IF(INTRO!$E$50=\"\",\"\",ROUND($D14*INTRO!$E$50,0))","v":316498},19,0,1,1,{"$f":"IF(INTRO!$E$37=\"Endémique\",IF($H14>0,IF($H14=4,\"Inconnu\",IF($H14=99,\"Interrompu\",$D14)),0),\"Non requis\")","v":542320},{"$f":"IF(INTRO!$E$39=\"Endémique\", IF($I14>0, IF($I14=4,\"Inconnu\",IF($I14=99,\"Interrompu\",$D14)), 0),\"Non requis\")","v":0},{"$f":"IF(INTRO!$E$41=\"Endémique\", IF($J14>1, IF($J14=4, \"Inconnu\", IF($J14=99, \"Surveillance\", E14)), 0),\"Non requis\")","v":0},{"$f":"IF(INTRO!$E$41=\"Endémique\", IF($J14>1, IF($J14=4, \"Inconnu\", IF($J14=99, \"Surveillance\", F14)), 0),\"Non requis\")","v":0},{"$f":"IF(INTRO!$E$41=\"Endémique\", IF($J14>1, IF($J14=4, \"Inconnu\", IF($J14=99, \"Surveillance\", ROUND(D14*INTRO!$E$51,0))), 0),\"Non requis\")","v":0},{"$f":"IF(INTRO!$E$41=\"Endémique\", IF($J14>1, IF($J14=4, \"Inconnu\", IF($J14=99, \"Surveillance\", SUM($N14:$P14))), 0),\"Non requis\")","v":0},{"$f":"IF(INTRO!$E$43=\"Endémique\", IF($K14>1, IF($K14=4, \"Inconnu\", IF($K14=99, \"Surveillance\", ROUND(E14*0.75,0))), 0),\"Non requis\")","v":0},118331,{"$f":"IF(INTRO!$E$43=\"Endémique\", IF($K14>1, IF($K14=4, \"Inconnu\", IF($K14=99, \"Surveillance\", G14)), 0),\"Non requis\")","v":0},{"$f":"IF(INTRO!$E$43=\"Endémique\", IF($K14>1, IF($K14=4, \"Inconnu\", IF($K14=99, \"Surveillance\", SUM($R14:$T14))), 0),\"Non requis\")","v":0},0,0,0,1,null,null,null,null,null,null,null,null,15334,"YOPOUGON OUEST"]
[{"$f":"IF(INTRO!$E$33<>0,INTRO!$E$33, \" \")","v":"Côte d'Ivoire"},"ABIDJAN 2","ADJAME-PLATEAU-ATTECOUBE",853944,{"$f":"IF(INTRO!$E$48=\"\",\"\",ROUND($D15*INTRO!$E$48,0))","v":108365},{"$f":"IF(INTRO!$E$49=\"\",\"\",ROUND($D15*INTRO!$E$49,0))","v":217243},{"$f":"IF(INTRO!$E$50=\"\",\"\",ROUND($D15*INTRO!$E$50,0))","v":498362},0,0,1,2,{"$f":"IF(INTRO!$E$37=\"Endémique\",IF($H15>0,IF($H15=4,\"Inconnu\",IF($H15=99,\"Interrompu\",$D15)),0),\"Non requis\")","v":0},{"$f":"IF(INTRO!$E$39=\"Endémique\", IF($I15>0, IF($I15=4,\"Inconnu\",IF($I15=99,\"Interrompu\",$D15)), 0),\"Non requis\")","v":0},{"$f":"IF(INTRO!$E$41=\"Endémique\", IF($J15>1, IF($J15=4, \"Inconnu\", IF($J15=99, \"Surveillance\", E15)), 0),\"Non requis\")","v":0},{"$f":"IF(INTRO!$E$41=\"Endémique\", IF($J15>1, IF($J15=4, \"Inconnu\", IF($J15=99, \"Surveillance\", F15)), 0),\"Non requis\")","v":0},{"$f":"IF(INTRO!$E$41=\"Endémique\", IF($J15>1, IF($J15=4, \"Inconnu\", IF($J15=99, \"Surveillance\", ROUND(D15*INTRO!$E$51,0))), 0),\"Non requis\")","v":0},{"$f":"IF(INTRO!$E$41=\"Endémique\", IF($J15>1, IF($J15=4, \"Inconnu\", IF($J15=99, \"Surveillance\", SUM($N15:$P15))), 0),\"Non requis\")","v":0},{"$f":"IF(INTRO!$E$43=\"Endémique\", IF($K15>1, IF($K15=4, \"Inconnu\", IF($K15=99, \"Surveillance\", ROUND(E15*0.75,0))), 0),\"Non requis\")","v":81274},0,{"$f":"IF(INTRO!$E$43=\"Endémique\", IF($K15>1, IF($K15=4, \"Inconnu\", IF($K15=99, \"Surveillance\", G15)), 0),\"Non requis\")","v":498362},{"$f":"IF(INTRO!$E$43=\"Endémique\", IF($K15>1, IF($K15=4, \"Inconnu\", IF($K15=99, \"Surveillance\", SUM($R15:$T15))), 0),\"Non requis\")","v":579636},0,0,0,0,null,null,null,null,null,null,null,null,15329,"ADJAME-PLATEAU-ATTECOUBE"]
[{"$f":"IF(INTRO!$E$33<>0,INTRO!$E$33, \" \")","v":"Côte d'Ivoire"},"ABIDJAN 2","COCODY-BINGERVILLE",711764,{"$f":"IF(INTRO!$E$48=\"\",\"\",ROUND($D16*INTRO!$E$48,0))","v":90323},{"$f":"IF(INTRO!$E$49=\"\",\"\",ROUND($D16*INTRO!$E$49,0))","v":181073},{"$f":"IF(INTRO!$E$50=\"\",\"\",ROUND($D16*INTRO!$E$50,0))","v":415385},19,0,1,1,{"$f":"IF(INTRO!$E$37=\"Endémique\",IF($H16>0,IF($H16=4,\"Inconnu\",IF($H16=99,\"Interrompu\",$D16)),0),\"Non requis\")","v":711764},{"$f":"IF(INTRO!$E$39=\"Endémique\", IF($I16>0, IF($I16=4,\"Inconnu\",IF($I16=99,\"Interrompu\",$D16)), 0),\"Non requis\")","v":0},{"$f":"IF(INTRO!$E$41=\"Endémique\", IF($J16>1, IF($J16=4, \"Inconnu\", IF($J16=99, \"Surveillance\", E16)), 0),\"Non requis\")","v":0},{"$f":"IF(INTRO!$E$41=\"Endémique\", IF($J16>1, IF($J16=4, \"Inconnu\", IF($J16=99, \"Surveillance\", F16)), 0),\"Non requis\")","v":0},{"$f":"IF(INTRO!$E$41=\"Endémique\", IF($J16>1, IF($J16=4, \"Inconnu\", IF($J16=99, \"Surveillance\", ROUND(D16*INTRO!$E$51,0))), 0),\"Non requis\")","v":0},{"$f":"IF(INTRO!$E$41=\"Endémique\", IF($J16>1, IF($J16=4, \"Inconnu\", IF($J16=99, \"Surveillance\", SUM($N16:$P16))), 0),\"Non requis\")","v":0},{"$f":"IF(INTRO!$E$43=\"Endémique\", IF($K16>1, IF($K16=4, \"Inconnu\", IF($K16=99, \"Surveillance\", ROUND(E16*0.75,0))), 0),\"Non requis\")","v":0},0,{"$f":"IF(INTRO!$E$43=\"Endémique\", IF($K16>1, IF($K16=4, \"Inconnu\", IF($K16=99, \"Surveillance\", G16)), 0),\"Non requis\")","v":0},{"$f":"IF(INTRO!$E$43=\"Endémique\", IF($K16>1, IF($K16=4, \"Inconnu\", IF($K16=99, \"Surveillance\", SUM($R16:$T16))), 0),\"Non requis\")","v":0},0,0,0,0,null,null,null,null,null,null,null,null,15338,"COCODY-BINGERVILLE"]
[{"$f":"IF(INTRO!$E$33<>0,INTRO!$E$33, \" \")","v":"Côte d'Ivoire"},"ABIDJAN 2","KOUMASSI",576691,{"$f":"IF(INTRO!$E$48=\"\",\"\",ROUND($D17*INTRO!$E$48,0))","v":73182},{"$f":"IF(INTRO!$E$49=\"\",\"\",ROUND($D17*INTRO!$E$49,0))","v":146710},{"$f":"IF(INTRO!$E$50=\"\",\"\",ROUND($D17*INTRO!$E$50,0))","v":336557},0,0,1,1,{"$f":"IF(INTRO!$E$37=\"Endémique\",IF($H17>0,IF($H17=4,\"Inconnu\",IF($H17=99,\"Interrompu\",$D17)),0),\"Non requis\")","v":0},{"$f":"IF(INTRO!$E$39=\"Endémique\", IF($I17>0, IF($I17=4,\"Inconnu\",IF($I17=99,\"Interrompu\",$D17)), 0),\"Non requis\")","v":0},{"$f":"IF(INTRO!$E$41=\"Endémique\", IF($J17>1, IF($J17=4, \"Inconnu\", IF($J17=99, \"Surveillance\", E17)), 0),\"Non requis\")","v":0},{"$f":"IF(INTRO!$E$41=\"Endémique\", IF($J17>1, IF($J17=4, \"Inconnu\", IF($J17=99, \"Surveillance\", F17)), 0),\"Non requis\")","v":0},{"$f":"IF(INTRO!$E$41=\"Endémique\", IF($J17>1, IF($J17=4, \"Inconnu\", IF($J17=99, \"Surveillance\", ROUND(D17*INTRO!$E$51,0))), 0),\"Non requis\")","v":0},{"$f":"IF(INTRO!$E$41=\"Endémique\", IF($J17>1, IF($J17=4, \"Inconnu\", IF($J17=99, \"Surveillance\", SUM($N17:$P17))), 0),\"Non requis\")","v":0},{"$f":"IF(INTRO!$E$43=\"Endémique\", IF($K17>1, IF($K17=4, \"Inconnu\", IF($K17=99, \"Surveillance\", ROUND(E17*0.75,0))), 0),\"Non requis\")","v":0},0,{"$f":"IF(INTRO!$E$43=\"Endémique\", IF($K17>1, IF($K17=4, \"Inconnu\", IF($K17=99, \"Surveillance\", G17)), 0),\"Non requis\")","v":0},{"$f":"IF(INTRO!$E$43=\"Endémique\", IF($K17>1, IF($K17=4, \"Inconnu\", IF($K17=99, \"Surveillance\", SUM($R17:$T17))), 0),\"Non requis\")","v":0},0,0,0,0,null,null,null,null,null,null,null,null,15417,"KOUMASSI"]
[{"$f":"IF(INTRO!$E$33<>0,INTRO!$E$33, \" \")","v":"Côte d'Ivoire"},"ABIDJAN 2","PORT BOUET-VRIDI",557910,{"$f":"IF(INTRO!$E$48=\"\",\"\",ROUND($D18*INTRO!$E$48,0))","v":70799},{"$f":"IF(INTRO!$E$49=\"\",\"\",ROUND($D18*INTRO!$E$49,0))","v":141932},{"$f":"IF(INTRO!$E$50=\"\",\"\",ROUND($D18*INTRO!$E$50,0))","v":325596},0,0,1,2,{"$f":"IF(INTRO!$E$37=\"Endémique\",IF($H18>0,IF($H18=4,\"Inconnu\",IF($H18=99,\"Interrompu\",$D18)),0),\"Non requis\")","v":0},{"$f":"IF(INTRO!$E$39=\"Endémique\", IF($I18>0, IF($I18=4,\"Inconnu\",IF($I18=99,\"Interrompu\",$D18)), 0),\"Non requis\")","v":0},{"$f":"IF(INTRO!$E$41=\"Endémique\", IF($J18>1, IF($J18=4, \"Inconnu\", IF($J18=99, \"Surveillance\", E18)), 0),\"Non requis\")","v":0},{"$f":"IF(INTRO!$E$41=\"Endémique\", IF($J18>1, IF($J18=4, \"Inconnu\", IF($J18=99, \"Surveillance\", F18)), 0),\"Non requis\")","v":0},{"$f":"IF(INTRO!$E$41=\"Endémique\", IF($J18>1, IF($J18=4, \"Inconnu\", IF($J18=99, \"Surveillance\", ROUND(D18*INTRO!$E$51,0))), 0),\"Non requis\")","v":0},{"$f":"IF(INTRO!$E$41=\"Endémique\", IF($J18>1, IF($J18=4, \"Inconnu\", IF($J18=99, \"Surveillance\", SUM($N18:$P18))), 0),\"Non requis\")","v":0},{"$f":"IF(INTRO!$E$43=\"Endémique\", IF($K18>1, IF($K18=4, \"Inconnu\", IF($K18=99, \"Surveillance\", ROUND(E18*0.75,0))), 0),\"Non requis\")","v":53099},0,{"$f":"IF(INTRO!$E$43=\"Endémique\", IF($K18>1, IF($K18=4, \"Inconnu\", IF($K18=99, \"Surveillance\", G18)), 0),\"Non requis\")","v":325596},{"$f":"IF(INTRO!$E$43=\"Endémique\", IF($K18>1, IF($K18=4, \"Inconnu\", IF($K18=99, \"Surveillance\", SUM($R18:$T18))), 0),\"Non requis\")","v":378695},0,0,0,0,null,null,null,null,null,null,null,null,15418,"PORT BOUET VRIDI"]
[{"$f":"IF(INTRO!$E$33<>0,INTRO!$E$33, \" \")","v":"Côte d'Ivoire"},"ABIDJAN 2","TREICHVILLE-MARCORY",469244,{"$f":"IF(INTRO!$E$48=\"\",\"\",ROUND($D19*INTRO!$E$48,0))","v":59547},{"$f":"IF(INTRO!$E$49=\"\",\"\",ROUND($D19*INTRO!$E$49,0))","v":119376},{"$f":"IF(INTRO!$E$50=\"\",\"\",ROUND($D19*INTRO!$E$50,0))","v":273851},0,0,1,1,{"$f":"IF(INTRO!$E$37=\"Endémique\",IF($H19>0,IF($H19=4,\"Inconnu\",IF($H19=99,\"Interrompu\",$D19)),0),\"Non requis\")","v":0},{"$f":"IF(INTRO!$E$39=\"Endémique\", IF($I19>0, IF($I19=4,\"Inconnu\",IF($I19=99,\"Interrompu\",$D19)), 0),\"Non requis\")","v":0},{"$f":"IF(INTRO!$E$41=\"Endémique\", IF($J19>1, IF($J19=4, \"Inconnu\", IF($J19=99, \"Surveillance\", E19)), 0),\"Non requis\")","v":0},{"$f":"IF(INTRO!$E$41=\"Endémique\", IF($J19>1, IF($J19=4, \"Inconnu\", IF($J19=99, \"Surveillance\", F19)), 0),\"Non requis\")","v":0},{"$f":"IF(INTRO!$E$41=\"Endémique\", IF($J19>1, IF($J19=4, \"Inconnu\", IF($J19=99, \"Surveillance\", ROUND(D19*INTRO!$E$51,0))), 0),\"Non requis\")","v":0},{"$f":"IF(INTRO!$E$41=\"Endémique\", IF($J19>1, IF($J19=4, \"Inconnu\", IF($J19=99, \"Surveillance\", SUM($N19:$P19))), 0),\"Non requis\")","v":0},{"$f":"IF(INTRO!$E$43=\"Endémique\", IF($K19>1, IF($K19=4, \"Inconnu\", IF($K19=99, \"Surveillance\", ROUND(E19*0.75,0))), 0),\"Non requis\")","v":0},0,{"$f":"IF(INTRO!$E$43=\"Endémique\", IF($K19>1, IF($K19=4, \"Inconnu\", IF($K19=99, \"Surveillance\", G19)), 0),\"Non requis\")","v":0},{"$f":"IF(INTRO!$E$43=\"Endémique\", IF($K19>1, IF($K19=4, \"Inconnu\", IF($K19=99, \"Surveillance\", SUM($R19:$T19))), 0),\"Non requis\")","v":0},0,0,0,0,null,null,null,null,null,null,null,null,15340,"MARCORY-TREICHVILLE"]
[{"$f":"IF(INTRO!$E$33<>0,INTRO!$E$33, \" \")","v":"Côte d'Ivoire"},"AGNEBY-TIASSA","AGBOVILLE",365233,{"$f":"IF(INTRO!$E$48=\"\",\"\",ROUND($D20*INTRO!$E$48,0))","v":46348},{"$f":"IF(INTRO!$E$49=\"\",\"\",ROUND($D20*INTRO!$E$49,0))","v":92915},{"$f":"IF(INTRO!$E$50=\"\",\"\",ROUND($D20*INTRO!$E$50,0))","v":213150},19,1,1,2,{"$f":"IF(INTRO!$E$37=\"Endémique\",IF($H20>0,IF($H20=4,\"Inconnu\",IF($H20=99,\"Interrompu\",$D20)),0),\"Non requis\")","v":365233},{"$f":"IF(INTRO!$E$39=\"Endémique\", IF($I20>0, IF($I20=4,\"Inconnu\",IF($I20=99,\"Interrompu\",$D20)), 0),\"Non requis\")","v":365233},{"$f":"IF(INTRO!$E$41=\"Endémique\", IF($J20>1, IF($J20=4, \"Inconnu\", IF($J20=99, \"Surveillance\", E20)), 0),\"Non requis\")","v":0},{"$f":"IF(INTRO!$E$41=\"Endémique\", IF($J20>1, IF($J20=4, \"Inconnu\", IF($J20=99, \"Surveillance\", F20)), 0),\"Non requis\")","v":0},{"$f":"IF(INTRO!$E$41=\"Endémique\", IF($J20>1, IF($J20=4, \"Inconnu\", IF($J20=99, \"Surveillance\", ROUND(D20*INTRO!$E$51,0))), 0),\"Non requis\")","v":0},{"$f":"IF(INTRO!$E$41=\"Endémique\", IF($J20>1, IF($J20=4, \"Inconnu\", IF($J20=99, \"Surveillance\", SUM($N20:$P20))), 0),\"Non requis\")","v":0},{"$f":"IF(INTRO!$E$43=\"Endémique\", IF($K20>1, IF($K20=4, \"Inconnu\", IF($K20=99, \"Surveillance\", ROUND(E20*0.75,0))), 0),\"Non requis\")","v":34761},0,{"$f":"IF(INTRO!$E$43=\"Endémique\", IF($K20>1, IF($K20=4, \"Inconnu\", IF($K20=99, \"Surveillance\", G20)), 0),\"Non requis\")","v":213150},{"$f":"IF(INTRO!$E$43=\"Endémique\", IF($K20>1, IF($K20=4, \"Inconnu\", IF($K20=99, \"Surveillance\", SUM($R20:$T20))), 0),\"Non requis\")","v":247911},0,1,0,0,null,null,null,null,null,null,null,null,15342,"AGBOVILLE"]
[{"$f":"IF(INTRO!$E$33<>0,INTRO!$E$33, \" \")","v":"Côte d'Ivoire"},"AGNEBY-TIASSA","SIKENSI",98076,{"$f":"IF(INTRO!$E$48=\"\",\"\",ROUND($D21*INTRO!$E$48,0))","v":12446},{"$f":"IF(INTRO!$E$49=\"\",\"\",ROUND($D21*INTRO!$E$49,0))","v":24951},{"$f":"IF(INTRO!$E$50=\"\",\"\",ROUND($D21*INTRO!$E$50,0))","v":57237},19,1,2,3,{"$f":"IF(INTRO!$E$37=\"Endémique\",IF($H21>0,IF($H21=4,\"Inconnu\",IF($H21=99,\"Interrompu\",$D21)),0),\"Non requis\")","v":98076},{"$f":"IF(INTRO!$E$39=\"Endémique\", IF($I21>0, IF($I21=4,\"Inconnu\",IF($I21=99,\"Interrompu\",$D21)), 0),\"Non requis\")","v":98076},{"$f":"IF(INTRO!$E$41=\"Endémique\", IF($J21>1, IF($J21=4, \"Inconnu\", IF($J21=99, \"Surveillance\", E21)), 0),\"Non requis\")","v":12446},{"$f":"IF(INTRO!$E$41=\"Endémique\", IF($J21>1, IF($J21=4, \"Inconnu\", IF($J21=99, \"Surveillance\", F21)), 0),\"Non requis\")","v":24951},{"$f":"IF(INTRO!$E$41=\"Endémique\", IF($J21>1, IF($J21=4, \"Inconnu\", IF($J21=99, \"Surveillance\", ROUND(D21*INTRO!$E$51,0))), 0),\"Non requis\")","v":23666},{"$f":"IF(INTRO!$E$41=\"Endémique\", IF($J21>1, IF($J21=4, \"Inconnu\", IF($J21=99, \"Surveillance\", SUM($N21:$P21))), 0),\"Non requis\")","v":61063},{"$f":"IF(INTRO!$E$43=\"Endémique\", IF($K21>1, IF($K21=4, \"Inconnu\", IF($K21=99, \"Surveillance\", ROUND(E21*0.75,0))), 0),\"Non requis\")","v":9335},2423,{"$f":"IF(INTRO!$E$43=\"Endémique\", IF($K21>1, IF($K21=4, \"Inconnu\", IF($K21=99, \"Surveillance\", G21)), 0),\"Non requis\")","v":57237},{"$f":"IF(INTRO!$E$43=\"Endémique\", IF($K21>1, IF($K21=4, \"Inconnu\", IF($K21=99, \"Surveillance\", SUM($R21:$T21))), 0),\"Non requis\")","v":68995},0,1,1,1,null,null,null,null,null,null,null,null,15345,"SIKENSI"]
[{"$f":"IF(INTRO!$E$33<>0,INTRO!$E$33, \" \")","v":"Côte d'Ivoire"},"AGNEBY-TIASSA","TIASSALE",295461,{"$f":"IF(INTRO!$E$48=\"\",\"\",ROUND($D22*INTRO!$E$48,0))","v":37494},{"$f":"IF(INTRO!$E$49=\"\",\"\",ROUND($D22*INTRO!$E$49,0))","v":75165},{"$f":"IF(INTRO!$E$50=\"\",\"\",ROUND($D22*INTRO!$E$50,0))","v":172431},99,1,2,2,{"$f":"IF(INTRO!$E$37=\"Endémique\",IF($H22>0,IF($H22=4,\"Inconnu\",IF($H22=99,\"Interrompu\",$D22)),0),\"Non requis\")","v":"Interrompu"},{"$f":"IF(INTRO!$E$39=\"Endémique\", IF($I22>0, IF($I22=4,\"Inconnu\",IF($I22=99,\"Interrompu\",$D22)), 0),\"Non requis\")","v":295461},{"$f":"IF(INTRO!$E$41=\"Endémique\", IF($J22>1, IF($J22=4, \"Inconnu\", IF($J22=99, \"Surveillance\", E22)), 0),\"Non requis\")","v":37494},{"$f":"IF(INTRO!$E$41=\"Endémique\", IF($J22>1, IF($J22=4, \"Inconnu\", IF($J22=99, \"Surveillance\", F22)), 0),\"Non requis\")","v":75165},{"$f":"IF(INTRO!$E$41=\"Endémique\", IF($J22>1, IF($J22=4, \"Inconnu\", IF($J22=99, \"Surveillance\", ROUND(D22*INTRO!$E$51,0))), 0),\"Non requis\")","v":71295},{"$f":"IF(INTRO!$E$41=\"Endémique\", IF($J22>1, IF($J22=4, \"Inconnu\", IF($J22=99, \"Surveillance\", SUM($N22:$P22))), 0),\"Non requis\")","v":183954},{"$f":"IF(INTRO!$E$43=\"Endémique\", IF($K22>1, IF($K22=4, \"Inconnu\", IF($K22=99, \"Surveillance\", ROUND(E22*0.75,0))), 0),\"Non requis\")","v":28121},75592,{"$f":"IF(INTRO!$E$43=\"Endémique\", IF($K22>1, IF($K22=4, \"Inconnu\", IF($K22=99, \"Surveillance\", G22)), 0),\"Non requis\")","v":172431},{"$f":"IF(INTRO!$E$43=\"Endémique\", IF($K22>1, IF($K22=4, \"Inconnu\", IF($K22=99, \"Surveillance\", SUM($R22:$T22))), 0),\"Non requis\")","v":276144},0,1,1,1,null,null,null,null,null,null,null,null,15346,"TIASSALE"]
[{"$f":"IF(INTRO!$E$33<>0,INTRO!$E$33, \" \")","v":"Côte d'Ivoire"},"BAFING","KORO",76976,{"$f":"IF(INTRO!$E$48=\"\",\"\",ROUND($D23*INTRO!$E$48,0))","v":9768},{"$f":"IF(INTRO!$E$49=\"\",\"\",ROUND($D23*INTRO!$E$49,0))","v":19583},{"$f":"IF(INTRO!$E$50=\"\",\"\",ROUND($D23*INTRO!$E$50,0))","v":44923},19,1,2,2,{"$f":"IF(INTRO!$E$37=\"Endémique\",IF($H23>0,IF($H23=4,\"Inconnu\",IF($H23=99,\"Interrompu\",$D23)),0),\"Non requis\")","v":76976},{"$f":"IF(INTRO!$E$39=\"Endémique\", IF($I23>0, IF($I23=4,\"Inconnu\",IF($I23=99,\"Interrompu\",$D23)), 0),\"Non requis\")","v":76976},{"$f":"IF(INTRO!$E$41=\"Endémique\", IF($J23>1, IF($J23=4, \"Inconnu\", IF($J23=99, \"Surveillance\", E23)), 0),\"Non requis\")","v":9768},{"$f":"IF(INTRO!$E$41=\"Endémique\", IF($J23>1, IF($J23=4, \"Inconnu\", IF($J23=99, \"Surveillance\", F23)), 0),\"Non requis\")","v":19583},{"$f":"IF(INTRO!$E$41=\"Endémique\", IF($J23>1, IF($J23=4, \"Inconnu\", IF($J23=99, \"Surveillance\", ROUND(D23*INTRO!$E$51,0))), 0),\"Non requis\")","v":18574},{"$f":"IF(INTRO!$E$41=\"Endémique\", IF($J23>1, IF($J23=4, \"Inconnu\", IF($J23=99, \"Surveillance\", SUM($N23:$P23))), 0),\"Non requis\")","v":47925},{"$f":"IF(INTRO!$E$43=\"Endémique\", IF($K23>1, IF($K23=4, \"Inconnu\", IF($K23=99, \"Surveillance\", ROUND(E23*0.75,0))), 0),\"Non requis\")","v":7326},19694,{"$f":"IF(INTRO!$E$43=\"Endémique\", IF($K23>1, IF($K23=4, \"Inconnu\", IF($K23=99, \"Surveillance\", G23)), 0),\"Non requis\")","v":44923},{"$f":"IF(INTRO!$E$43=\"Endémique\", IF($K23>1, IF($K23=4, \"Inconnu\", IF($K23=99, \"Surveillance\", SUM($R23:$T23))), 0),\"Non requis\")","v":71943},0,1,1,1,null,"TAS",null,null,null,null,null,null,15442,"KORO"]
[{"$f":"IF(INTRO!$E$33<>0,INTRO!$E$33, \" \")","v":"Côte d'Ivoire"},"BAFING","OUANINOU",63449,{"$f":"IF(INTRO!$E$48=\"\",\"\",ROUND($D24*INTRO!$E$48,0))","v":8052},{"$f":"IF(INTRO!$E$49=\"\",\"\",ROUND($D24*INTRO!$E$49,0))","v":16141},{"$f":"IF(INTRO!$E$50=\"\",\"\",ROUND($D24*INTRO!$E$50,0))","v":37029},19,1,2,3,{"$f":"IF(INTRO!$E$37=\"Endémique\",IF($H24>0,IF($H24=4,\"Inconnu\",IF($H24=99,\"Interrompu\",$D24)),0),\"Non requis\")","v":63449},{"$f":"IF(INTRO!$E$39=\"Endémique\", IF($I24>0, IF($I24=4,\"Inconnu\",IF($I24=99,\"Interrompu\",$D24)), 0),\"Non requis\")","v":63449},{"$f":"IF(INTRO!$E$41=\"Endémique\", IF($J24>1, IF($J24=4, \"Inconnu\", IF($J24=99, \"Surveillance\", E24)), 0),\"Non requis\")","v":8052},{"$f":"IF(INTRO!$E$41=\"Endémique\", IF($J24>1, IF($J24=4, \"Inconnu\", IF($J24=99, \"Surveillance\", F24)), 0),\"Non requis\")","v":16141},{"$f":"IF(INTRO!$E$41=\"Endémique\", IF($J24>1, IF($J24=4, \"Inconnu\", IF($J24=99, \"Surveillance\", ROUND(D24*INTRO!$E$51,0))), 0),\"Non requis\")","v":15310},{"$f":"IF(INTRO!$E$41=\"Endémique\", IF($J24>1, IF($J24=4, \"Inconnu\", IF($J24=99, \"Surveillance\", SUM($N24:$P24))), 0),\"Non requis\")","v":39503},{"$f":"IF(INTRO!$E$43=\"Endémique\", IF($K24>1, IF($K24=4, \"Inconnu\", IF($K24=99, \"Surveillance\", ROUND(E24*0.75,0))), 0),\"Non requis\")","v":6039},15101,{"$f":"IF(INTRO!$E$43=\"Endémique\", IF($K24>1, IF($K24=4, \"Inconnu\", IF($K24=99, \"Surveillance\", G24)), 0),\"Non requis\")","v":37029},{"$f":"IF(INTRO!$E$43=\"Endémique\", IF($K24>1, IF($K24=4, \"Inconnu\", IF($K24=99, \"Surveillance\", SUM($R24:$T24))), 0),\"Non requis\")","v":58169},0,1,1,1,null,"TAS",null,null,null,null,null,null,15443,"OUANINOU"]
[{"$f":"IF(INTRO!$E$33<>0,INTRO!$E$33, \" \")","v":"Côte d'Ivoire"},"BAFING","TOUBA",97547,{"$f":"IF(INTRO!$E$48=\"\",\"\",ROUND($D25*INTRO!$E$48,0))","v":12379},{"$f":"IF(INTRO!$E$49=\"\",\"\",ROUND($D25*INTRO!$E$49,0))","v":24816},{"$f":"IF(INTRO!$E$50=\"\",\"\",ROUND($D25*INTRO!$E$50,0))","v":56928},19,1,2,3,{"$f":"IF(INTRO!$E$37=\"Endémique\",IF($H25>0,IF($H25=4,\"Inconnu\",IF($H25=99,\"Interrompu\",$D25)),0),\"Non requis\")","v":97547},{"$f":"IF(INTRO!$E$39=\"Endémique\", IF($I25>0, IF($I25=4,\"Inconnu\",IF($I25=99,\"Interrompu\",$D25)), 0),\"Non requis\")","v":97547},{"$f":"IF(INTRO!$E$41=\"Endémique\", IF($J25>1, IF($J25=4, \"Inconnu\", IF($J25=99, \"Surveillance\", E25)), 0),\"Non requis\")","v":12379},{"$f":"IF(INTRO!$E$41=\"Endémique\", IF($J25>1, IF($J25=4, \"Inconnu\", IF($J25=99, \"Surveillance\", F25)), 0),\"Non requis\")","v":24816},{"$f":"IF(INTRO!$E$41=\"Endémique\", IF($J25>1, IF($J25=4, \"Inconnu\", IF($J25=99, \"Surveillance\", ROUND(D25*INTRO!$E$51,0))), 0),\"Non requis\")","v":23538},{"$f":"IF(INTRO!$E$41=\"Endémique\", IF($J25>1, IF($J25=4, \"Inconnu\", IF($J25=99, \"Surveillance\", SUM($N25:$P25))), 0),\"Non requis\")","v":60733},{"$f":"IF(INTRO!$E$43=\"Endémique\", IF($K25>1, IF($K25=4, \"Inconnu\", IF($K25=99, \"Surveillance\", ROUND(E25*0.75,0))), 0),\"Non requis\")","v":9284},26086,{"$f":"IF(INTRO!$E$43=\"Endémique\", IF($K25>1, IF($K25=4, \"Inconnu\", IF($K25=99, \"Surveillance\", G25)), 0),\"Non requis\")","v":56928},{"$f":"IF(INTRO!$E$43=\"Endémique\", IF($K25>1, IF($K25=4, \"Inconnu\", IF($K25=99, \"Surveillance\", SUM($R25:$T25))), 0),\"Non requis\")","v":92298},0,1,1,1,null,"TAS",null,null,null,null,null,null,15441,"TOUBA"]
[{"$f":"IF(INTRO!$E$33<>0,INTRO!$E$33, \" \")","v":"Côte d'Ivoire"},"BAGOUE","BOUNDIALI",172427,{"$f":"IF(INTRO!$E$48=\"\",\"\",ROUND($D26*INTRO!$E$48,0))","v":21881},{"$f":"IF(INTRO!$E$49=\"\",\"\",ROUND($D26*INTRO!$E$49,0))","v":43865},{"$f":"IF(INTRO!$E$50=\"\",\"\",ROUND($D26*INTRO!$E$50,0))","v":100628},19,1,1,1,{"$f":"IF(INTRO!$E$37=\"Endémique\",IF($H26>0,IF($H26=4,\"Inconnu\",IF($H26=99,\"Interrompu\",$D26)),0),\"Non requis\")","v":172427},{"$f":"IF(INTRO!$E$39=\"Endémique\", IF($I26>0, IF($I26=4,\"Inconnu\",IF($I26=99,\"Interrompu\",$D26)), 0),\"Non requis\")","v":172427},{"$f":"IF(INTRO!$E$41=\"Endémique\", IF($J26>1, IF($J26=4, \"Inconnu\", IF($J26=99, \"Surveillance\", E26)), 0),\"Non requis\")","v":0},{"$f":"IF(INTRO!$E$41=\"Endémique\", IF($J26>1, IF($J26=4, \"Inconnu\", IF($J26=99, \"Surveillance\", F26)), 0),\"Non requis\")","v":0},{"$f":"IF(INTRO!$E$41=\"Endémique\", IF($J26>1, IF($J26=4, \"Inconnu\", IF($J26=99, \"Surveillance\", ROUND(D26*INTRO!$E$51,0))), 0),\"Non requis\")","v":0},{"$f":"IF(INTRO!$E$41=\"Endémique\", IF($J26>1, IF($J26=4, \"Inconnu\", IF($J26=99, \"Surveillance\", SUM($N26:$P26))), 0),\"Non requis\")","v":0},{"$f":"IF(INTRO!$E$43=\"Endémique\", IF($K26>1, IF($K26=4, \"Inconnu\", IF($K26=99, \"Surveillance\", ROUND(E26*0.75,0))), 0),\"Non requis\")","v":0},34409,{"$f":"IF(INTRO!$E$43=\"Endémique\", IF($K26>1, IF($K26=4, \"Inconnu\", IF($K26=99, \"Surveillance\", G26)), 0),\"Non requis\")","v":0},{"$f":"IF(INTRO!$E$43=\"Endémique\", IF($K26>1, IF($K26=4, \"Inconnu\", IF($K26=99, \"Surveillance\", SUM($R26:$T26))), 0),\"Non requis\")","v":0},0,1,0,1,null,"TAS",null,null,null,null,null,null,15449,"BOUNDIALI"]
[{"$f":"IF(INTRO!$E$33<>0,INTRO!$E$33, \" \")","v":"Côte d'Ivoire"},"BAGOUE","KOUTO",175012,{"$f":"IF(INTRO!$E$48=\"\",\"\",ROUND($D27*INTRO!$E$48,0))","v":22209},{"$f":"IF(INTRO!$E$49=\"\",\"\",ROUND($D27*INTRO!$E$49,0))","v":44523},{"$f":"IF(INTRO!$E$50=\"\",\"\",ROUND($D27*INTRO!$E$50,0))","v":102137},19,1,1,1,{"$f":"IF(INTRO!$E$37=\"Endémique\",IF($H27>0,IF($H27=4,\"Inconnu\",IF($H27=99,\"Interrompu\",$D27)),0),\"Non requis\")","v":175012},{"$f":"IF(INTRO!$E$39=\"Endémique\", IF($I27>0, IF($I27=4,\"Inconnu\",IF($I27=99,\"Interrompu\",$D27)), 0),\"Non requis\")","v":175012},{"$f":"IF(INTRO!$E$41=\"Endémique\", IF($J27>1, IF($J27=4, \"Inconnu\", IF($J27=99, \"Surveillance\", E27)), 0),\"Non requis\")","v":0},{"$f":"IF(INTRO!$E$41=\"Endémique\", IF($J27>1, IF($J27=4, \"Inconnu\", IF($J27=99, \"Surveillance\", F27)), 0),\"Non requis\")","v":0},{"$f":"IF(INTRO!$E$41=\"Endémique\", IF($J27>1, IF($J27=4, \"Inconnu\", IF($J27=99, \"Surveillance\", ROUND(D27*INTRO!$E$51,0))), 0),\"Non requis\")","v":0},{"$f":"IF(INTRO!$E$41=\"Endémique\", IF($J27>1, IF($J27=4, \"Inconnu\", IF($J27=99, \"Surveillance\", SUM($N27:$P27))), 0),\"Non requis\")","v":0},{"$f":"IF(INTRO!$E$43=\"Endémique\", IF($K27>1, IF($K27=4, \"Inconnu\", IF($K27=99, \"Surveillance\", ROUND(E27*0.75,0))), 0),\"Non requis\")","v":0},35289,{"$f":"IF(INTRO!$E$43=\"Endémique\", IF($K27>1, IF($K27=4, \"Inconnu\", IF($K27=99, \"Surveillance\", G27)), 0),\"Non requis\")","v":0},{"$f":"IF(INTRO!$E$43=\"Endémique\", IF($K27>1, IF($K27=4, \"Inconnu\", IF($K27=99, \"Surveillance\", SUM($R27:$T27))), 0),\"Non requis\")","v":0},0,1,0,1,null,"TAS",null,null,null,null,null,null,15450,"KOUTO"]
[{"$f":"IF(INTRO!$E$33<>0,INTRO!$E$33, \" \")","v":"Côte d'Ivoire"},"BAGOUE","TENGRELA",159896,{"$f":"IF(INTRO!$E$48=\"\",\"\",ROUND($D28*INTRO!$E$48,0))","v":20291},{"$f":"IF(INTRO!$E$49=\"\",\"\",ROUND($D28*INTRO!$E$49,0))","v":40678},{"$f":"IF(INTRO!$E$50=\"\",\"\",ROUND($D28*INTRO!$E$50,0))","v":93315},19,0,1,1,{"$f":"IF(INTRO!$E$37=\"Endémique\",IF($H28>0,IF($H28=4,\"Inconnu\",IF($H28=99,\"Interrompu\",$D28)),0),\"Non requis\")","v":159896},{"$f":"IF(INTRO!$E$39=\"Endémique\", IF($I28>0, IF($I28=4,\"Inconnu\",IF($I28=99,\"Interrompu\",$D28)), 0),\"Non requis\")","v":0},{"$f":"IF(INTRO!$E$41=\"Endémique\", IF($J28>1, IF($J28=4, \"Inconnu\", IF($J28=99, \"Surveillance\", E28)), 0),\"Non requis\")","v":0},{"$f":"IF(INTRO!$E$41=\"Endémique\", IF($J28>1, IF($J28=4, \"Inconnu\", IF($J28=99, \"Surveillance\", F28)), 0),\"Non requis\")","v":0},{"$f":"IF(INTRO!$E$41=\"Endémique\", IF($J28>1, IF($J28=4, \"Inconnu\", IF($J28=99, \"Surveillance\", ROUND(D28*INTRO!$E$51,0))), 0),\"Non requis\")","v":0},{"$f":"IF(INTRO!$E$41=\"Endémique\", IF($J28>1, IF($J28=4, \"Inconnu\", IF($J28=99, \"Surveillance\", SUM($N28:$P28))), 0),\"Non requis\")","v":0},{"$f":"IF(INTRO!$E$43=\"Endémique\", IF($K28>1, IF($K28=4, \"Inconnu\", IF($K28=99, \"Surveillance\", ROUND(E28*0.75,0))), 0),\"Non requis\")","v":0},31205,{"$f":"IF(INTRO!$E$43=\"Endémique\", IF($K28>1, IF($K28=4, \"Inconnu\", IF($K28=99, \"Surveillance\", G28)), 0),\"Non requis\")","v":0},{"$f":"IF(INTRO!$E$43=\"Endémique\", IF($K28>1, IF($K28=4, \"Inconnu\", IF($K28=99, \"Surveillance\", SUM($R28:$T28))), 0),\"Non requis\")","v":0},0,0,0,1,null,"TAS",null,null,null,null,null,null,15401,"TENGRELA"]
[{"$f":"IF(INTRO!$E$33<>0,INTRO!$E$33, \" \")","v":"Côte d'Ivoire"},"BELIER","DIDIEVI",118393,{"$f":"IF(INTRO!$E$48=\"\",\"\",ROUND($D29*INTRO!$E$48,0))","v":15024},{"$f":"IF(INTRO!$E$49=\"\",\"\",ROUND($D29*INTRO!$E$49,0))","v":30119},{"$f":"IF(INTRO!$E$50=\"\",\"\",ROUND($D29*INTRO!$E$50,0))","v":69094},99,1,2,2,{"$f":"IF(INTRO!$E$37=\"Endémique\",IF($H29>0,IF($H29=4,\"Inconnu\",IF($H29=99,\"Interrompu\",$D29)),0),\"Non requis\")","v":"Interrompu"},{"$f":"IF(INTRO!$E$39=\"Endémique\", IF($I29>0, IF($I29=4,\"Inconnu\",IF($I29=99,\"Interrompu\",$D29)), 0),\"Non requis\")","v":118393},{"$f":"IF(INTRO!$E$41=\"Endémique\", IF($J29>1, IF($J29=4, \"Inconnu\", IF($J29=99, \"Surveillance\", E29)), 0),\"Non requis\")","v":15024},{"$f":"IF(INTRO!$E$41=\"Endémique\", IF($J29>1, IF($J29=4, \"Inconnu\", IF($J29=99, \"Surveillance\", F29)), 0),\"Non requis\")","v":30119},{"$f":"IF(INTRO!$E$41=\"Endémique\", IF($J29>1, IF($J29=4, \"Inconnu\", IF($J29=99, \"Surveillance\", ROUND(D29*INTRO!$E$51,0))), 0),\"Non requis\")","v":28568},{"$f":"IF(INTRO!$E$41=\"Endémique\", IF($J29>1, IF($J29=4, \"Inconnu\", IF($J29=99, \"Surveillance\", SUM($N29:$P29))), 0),\"Non requis\")","v":73711},{"$f":"IF(INTRO!$E$43=\"Endémique\", IF($K29>1, IF($K29=4, \"Inconnu\", IF($K29=99, \"Surveillance\", ROUND(E29*0.75,0))), 0),\"Non requis\")","v":11268},0,{"$f":"IF(INTRO!$E$43=\"Endémique\", IF($K29>1, IF($K29=4, \"Inconnu\", IF($K29=99, \"Surveillance\", G29)), 0),\"Non requis\")","v":69094},{"$f":"IF(INTRO!$E$43=\"Endémique\", IF($K29>1, IF($K29=4, \"Inconnu\", IF($K29=99, \"Surveillance\", SUM($R29:$T29))), 0),\"Non requis\")","v":80362},0,1,1,0,null,null,null,null,null,null,null,null,15347,"DIDIEVI"]
[{"$f":"IF(INTRO!$E$33<>0,INTRO!$E$33, \" \")","v":"Côte d'Ivoire"},"BELIER","TIEBISSOU",124754,{"$f":"IF(INTRO!$E$48=\"\",\"\",ROUND($D30*INTRO!$E$48,0))","v":15831},{"$f":"IF(INTRO!$E$49=\"\",\"\",ROUND($D30*INTRO!$E$49,0))","v":31737},{"$f":"IF(INTRO!$E$50=\"\",\"\",ROUND($D30*INTRO!$E$50,0))","v":72806},99,1,2,3,{"$f":"IF(INTRO!$E$37=\"Endémique\",IF($H30>0,IF($H30=4,\"Inconnu\",IF($H30=99,\"Interrompu\",$D30)),0),\"Non requis\")","v":"Interrompu"},{"$f":"IF(INTRO!$E$39=\"Endémique\", IF($I30>0, IF($I30=4,\"Inconnu\",IF($I30=99,\"Interrompu\",$D30)), 0),\"Non requis\")","v":124754},{"$f":"IF(INTRO!$E$41=\"Endémique\", IF($J30>1, IF($J30=4, \"Inconnu\", IF($J30=99, \"Surveillance\", E30)), 0),\"Non requis\")","v":15831},{"$f":"IF(INTRO!$E$41=\"Endémique\", IF($J30>1, IF($J30=4, \"Inconnu\", IF($J30=99, \"Surveillance\", F30)), 0),\"Non requis\")","v":31737},{"$f":"IF(INTRO!$E$41=\"Endémique\", IF($J30>1, IF($J30=4, \"Inconnu\", IF($J30=99, \"Surveillance\", ROUND(D30*INTRO!$E$51,0))), 0),\"Non requis\")","v":30103},{"$f":"IF(INTRO!$E$41=\"Endémique\", IF($J30>1, IF($J30=4, \"Inconnu\", IF($J30=99, \"Surveillance\", SUM($N30:$P30))), 0),\"Non requis\")","v":77671},{"$f":"IF(INTRO!$E$43=\"Endémique\", IF($K30>1, IF($K30=4, \"Inconnu\", IF($K30=99, \"Surveillance\", ROUND(E30*0.75,0))), 0),\"Non requis\")","v":11873},31149,{"$f":"IF(INTRO!$E$43=\"Endémique\", IF($K30>1, IF($K30=4, \"Inconnu\", IF($K30=99, \"Surveillance\", G30)), 0),\"Non requis\")","v":72806},{"$f":"IF(INTRO!$E$43=\"Endémique\", IF($K30>1, IF($K30=4, \"Inconnu\", IF($K30=99, \"Surveillance\", SUM($R30:$T30))), 0),\"Non requis\")","v":115828},0,1,1,1,null,null,null,null,null,null,null,null,15348,"TIEBISSOU"]
[{"$f":"IF(INTRO!$E$33<>0,INTRO!$E$33, \" \")","v":"Côte d'Ivoire"},"BELIER","TOUMODI",195007,{"$f":"IF(INTRO!$E$48=\"\",\"\",ROUND($D31*INTRO!$E$48,0))","v":24746},{"$f":"IF(INTRO!$E$49=\"\",\"\",ROUND($D31*INTRO!$E$49,0))","v":49610},{"$f":"IF(INTRO!$E$50=\"\",\"\",ROUND($D31*INTRO!$E$50,0))","v":113806},99,1,2,3,{"$f":"IF(INTRO!$E$37=\"Endémique\",IF($H31>0,IF($H31=4,\"Inconnu\",IF($H31=99,\"Interrompu\",$D31)),0),\"Non requis\")","v":"Interrompu"},{"$f":"IF(INTRO!$E$39=\"Endémique\", IF($I31>0, IF($I31=4,\"Inconnu\",IF($I31=99,\"Interrompu\",$D31)), 0),\"Non requis\")","v":195007},{"$f":"IF(INTRO!$E$41=\"Endémique\", IF($J31>1, IF($J31=4, \"Inconnu\", IF($J31=99, \"Surveillance\", E31)), 0),\"Non requis\")","v":24746},{"$f":"IF(INTRO!$E$41=\"Endémique\", IF($J31>1, IF($J31=4, \"Inconnu\", IF($J31=99, \"Surveillance\", F31)), 0),\"Non requis\")","v":49610},{"$f":"IF(INTRO!$E$41=\"Endémique\", IF($J31>1, IF($J31=4, \"Inconnu\", IF($J31=99, \"Surveillance\", ROUND(D31*INTRO!$E$51,0))), 0),\"Non requis\")","v":47055},{"$f":"IF(INTRO!$E$41=\"Endémique\", IF($J31>1, IF($J31=4, \"Inconnu\", IF($J31=99, \"Surveillance\", SUM($N31:$P31))), 0),\"Non requis\")","v":121411},{"$f":"IF(INTRO!$E$43=\"Endémique\", IF($K31>1, IF($K31=4, \"Inconnu\", IF($K31=99, \"Surveillance\", ROUND(E31*0.75,0))), 0),\"Non requis\")","v":18560},2830,{"$f":"IF(INTRO!$E$43=\"Endémique\", IF($K31>1, IF($K31=4, \"Inconnu\", IF($K31=99, \"Surveillance\", G31)), 0),\"Non requis\")","v":113806},{"$f":"IF(INTRO!$E$43=\"Endémique\", IF($K31>1, IF($K31=4, \"Inconnu\", IF($K31=99, \"Surveillance\", SUM($R31:$T31))), 0),\"Non requis\")","v":135196},0,1,1,1,null,null,null,null,null,null,null,null,15349,"TOUMODI"]
[{"$f":"IF(INTRO!$E$33<>0,INTRO!$E$33, \" \")","v":"Côte d'Ivoire"},"BELIER","YAMOUSSOUKRO",446145,{"$f":"IF(INTRO!$E$48=\"\",\"\",ROUND($D32*INTRO!$E$48,0))","v":56616},{"$f":"IF(INTRO!$E$49=\"\",\"\",ROUND($D32*INTRO!$E$49,0))","v":113499},{"$f":"IF(INTRO!$E$50=\"\",\"\",ROUND($D32*INTRO!$E$50,0))","v":260370},99,1,2,3,{"$f":"IF(INTRO!$E$37=\"Endémique\",IF($H32>0,IF($H32=4,\"Inconnu\",IF($H32=99,\"Interrompu\",$D32)),0),\"Non requis\")","v":"Interrompu"},{"$f":"IF(INTRO!$E$39=\"Endémique\", IF($I32>0, IF($I32=4,\"Inconnu\",IF($I32=99,\"Interrompu\",$D32)), 0),\"Non requis\")","v":446145},{"$f":"IF(INTRO!$E$41=\"Endémique\", IF($J32>1, IF($J32=4, \"Inconnu\", IF($J32=99, \"Surveillance\", E32)), 0),\"Non requis\")","v":56616},{"$f":"IF(INTRO!$E$41=\"Endémique\", IF($J32>1, IF($J32=4, \"Inconnu\", IF($J32=99, \"Surveillance\", F32)), 0),\"Non requis\")","v":113499},{"$f":"IF(INTRO!$E$41=\"Endémique\", IF($J32>1, IF($J32=4, \"Inconnu\", IF($J32=99, \"Surveillance\", ROUND(D32*INTRO!$E$51,0))), 0),\"Non requis\")","v":107655},{"$f":"IF(INTRO!$E$41=\"Endémique\", IF($J32>1, IF($J32=4, \"Inconnu\", IF($J32=99, \"Surveillance\", SUM($N32:$P32))), 0),\"Non requis\")","v":277770},{"$f":"IF(INTRO!$E$43=\"Endémique\", IF($K32>1, IF($K32=4, \"Inconnu\", IF($K32=99, \"Surveillance\", ROUND(E32*0.75,0))), 0),\"Non requis\")","v":42462},95461,{"$f":"IF(INTRO!$E$43=\"Endémique\", IF($K32>1, IF($K32=4, \"Inconnu\", IF($K32=99, \"Surveillance\", G32)), 0),\"Non requis\")","v":260370},{"$f":"IF(INTRO!$E$43=\"Endémique\", IF($K32>1, IF($K32=4, \"Inconnu\", IF($K32=99, \"Surveillance\", SUM($R32:$T32))), 0),\"Non requis\")","v":398293},0,1,1,1,null,null,null,null,null,null,null,null,15350,"YAMOUSSOUKRO"]
[{"$f":"IF(INTRO!$E$33<>0,INTRO!$E$33, \" \")","v":"Côte d'Ivoire"},"BERE","DIANRA",122826,{"$f":"IF(INTRO!$E$48=\"\",\"\",ROUND($D33*INTRO!$E$48,0))","v":15587},{"$f":"IF(INTRO!$E$49=\"\",\"\",ROUND($D33*INTRO!$E$49,0))","v":31247},{"$f":"IF(INTRO!$E$50=\"\",\"\",ROUND($D33*INTRO!$E$50,0))","v":71681},0,1,2,1,{"$f":"IF(INTRO!$E$37=\"Endémique\",IF($H33>0,IF($H33=4,\"Inconnu\",IF($H33=99,\"Interrompu\",$D33)),0),\"Non requis\")","v":0},{"$f":"IF(INTRO!$E$39=\"Endémique\", IF($I33>0, IF($I33=4,\"Inconnu\",IF($I33=99,\"Interrompu\",$D33)), 0),\"Non requis\")","v":122826},{"$f":"IF(INTRO!$E$41=\"Endémique\", IF($J33>1, IF($J33=4, \"Inconnu\", IF($J33=99, \"Surveillance\", E33)), 0),\"Non requis\")","v":15587},{"$f":"IF(INTRO!$E$41=\"Endémique\", IF($J33>1, IF($J33=4, \"Inconnu\", IF($J33=99, \"Surveillance\", F33)), 0),\"Non requis\")","v":31247},{"$f":"IF(INTRO!$E$41=\"Endémique\", IF($J33>1, IF($J33=4, \"Inconnu\", IF($J33=99, \"Surveillance\", ROUND(D33*INTRO!$E$51,0))), 0),\"Non requis\")","v":29638},{"$f":"IF(INTRO!$E$41=\"Endémique\", IF($J33>1, IF($J33=4, \"Inconnu\", IF($J33=99, \"Surveillance\", SUM($N33:$P33))), 0),\"Non requis\")","v":76472},{"$f":"IF(INTRO!$E$43=\"Endémique\", IF($K33>1, IF($K33=4, \"Inconnu\", IF($K33=99, \"Surveillance\", ROUND(E33*0.75,0))), 0),\"Non requis\")","v":0},25655,{"$f":"IF(INTRO!$E$43=\"Endémique\", IF($K33>1, IF($K33=4, \"Inconnu\", IF($K33=99, \"Surveillance\", G33)), 0),\"Non requis\")","v":0},{"$f":"IF(INTRO!$E$43=\"Endémique\", IF($K33>1, IF($K33=4, \"Inconnu\", IF($K33=99, \"Surveillance\", SUM($R33:$T33))), 0),\"Non requis\")","v":0},0,1,1,1,null,null,null,null,null,null,null,null,15459,"DIANRA"]
[{"$f":"IF(INTRO!$E$33<>0,INTRO!$E$33, \" \")","v":"Côte d'Ivoire"},"BERE","KOUNAHIRI",98791,{"$f":"IF(INTRO!$E$48=\"\",\"\",ROUND($D34*INTRO!$E$48,0))","v":12537},{"$f":"IF(INTRO!$E$49=\"\",\"\",ROUND($D34*INTRO!$E$49,0))","v":25132},{"$f":"IF(INTRO!$E$50=\"\",\"\",ROUND($D34*INTRO!$E$50,0))","v":57654},0,1,2,2,{"$f":"IF(INTRO!$E$37=\"Endémique\",IF($H34>0,IF($H34=4,\"Inconnu\",IF($H34=99,\"Interrompu\",$D34)),0),\"Non requis\")","v":0},{"$f":"IF(INTRO!$E$39=\"Endémique\", IF($I34>0, IF($I34=4,\"Inconnu\",IF($I34=99,\"Interrompu\",$D34)), 0),\"Non requis\")","v":98791},{"$f":"IF(INTRO!$E$41=\"Endémique\", IF($J34>1, IF($J34=4, \"Inconnu\", IF($J34=99, \"Surveillance\", E34)), 0),\"Non requis\")","v":12537},{"$f":"IF(INTRO!$E$41=\"Endémique\", IF($J34>1, IF($J34=4, \"Inconnu\", IF($J34=99, \"Surveillance\", F34)), 0),\"Non requis\")","v":25132},{"$f":"IF(INTRO!$E$41=\"Endémique\", IF($J34>1, IF($J34=4, \"Inconnu\", IF($J34=99, \"Surveillance\", ROUND(D34*INTRO!$E$51,0))), 0),\"Non requis\")","v":23838},{"$f":"IF(INTRO!$E$41=\"Endémique\", IF($J34>1, IF($J34=4, \"Inconnu\", IF($J34=99, \"Surveillance\", SUM($N34:$P34))), 0),\"Non requis\")","v":61507},{"$f":"IF(INTRO!$E$43=\"Endémique\", IF($K34>1, IF($K34=4, \"Inconnu\", IF($K34=99, \"Surveillance\", ROUND(E34*0.75,0))), 0),\"Non requis\")","v":9403},20985,{"$f":"IF(INTRO!$E$43=\"Endémique\", IF($K34>1, IF($K34=4, \"Inconnu\", IF($K34=99, \"Surveillance\", G34)), 0),\"Non requis\")","v":57654},{"$f":"IF(INTRO!$E$43=\"Endémique\", IF($K34>1, IF($K34=4, \"Inconnu\", IF($K34=99, \"Surveillance\", SUM($R34:$T34))), 0),\"Non requis\")","v":88042},0,1,1,1,null,null,null,null,null,null,null,null,15460,"KOUNAHIRI"]
[{"$f":"IF(INTRO!$E$33<>0,INTRO!$E$33, \" \")","v":"Côte d'Ivoire"},"BERE","MANKONO",274069,{"$f":"IF(INTRO!$E$48=\"\",\"\",ROUND($D35*INTRO!$E$48,0))","v":34779},{"$f":"IF(INTRO!$E$49=\"\",\"\",ROUND($D35*INTRO!$E$49,0))","v":69723},{"$f":"IF(INTRO!$E$50=\"\",\"\",ROUND($D35*INTRO!$E$50,0))","v":159947},0,1,2,1,{"$f":"IF(INTRO!$E$37=\"Endémique\",IF($H35>0,IF($H35=4,\"Inconnu\",IF($H35=99,\"Interrompu\",$D35)),0),\"Non requis\")","v":0},{"$f":"IF(INTRO!$E$39=\"Endémique\", IF($I35>0, IF($I35=4,\"Inconnu\",IF($I35=99,\"Interrompu\",$D35)), 0),\"Non requis\")","v":274069},{"$f":"IF(INTRO!$E$41=\"Endémique\", IF($J35>1, IF($J35=4, \"Inconnu\", IF($J35=99, \"Surveillance\", E35)), 0),\"Non requis\")","v":34779},{"$f":"IF(INTRO!$E$41=\"Endémique\", IF($J35>1, IF($J35=4, \"Inconnu\", IF($J35=99, \"Surveillance\", F35)), 0),\"Non requis\")","v":69723},{"$f":"IF(INTRO!$E$41=\"Endémique\", IF($J35>1, IF($J35=4, \"Inconnu\", IF($J35=99, \"Surveillance\", ROUND(D35*INTRO!$E$51,0))), 0),\"Non requis\")","v":66133},{"$f":"IF(INTRO!$E$41=\"Endémique\", IF($J35>1, IF($J35=4, \"Inconnu\", IF($J35=99, \"Surveillance\", SUM($N35:$P35))), 0),\"Non requis\")","v":170635},{"$f":"IF(INTRO!$E$43=\"Endémique\", IF($K35>1, IF($K35=4, \"Inconnu\", IF($K35=99, \"Surveillance\", ROUND(E35*0.75,0))), 0),\"Non requis\")","v":0},59856,{"$f":"IF(INTRO!$E$43=\"Endémique\", IF($K35>1, IF($K35=4, \"Inconnu\", IF($K35=99, \"Surveillance\", G35)), 0),\"Non requis\")","v":0},{"$f":"IF(INTRO!$E$43=\"Endémique\", IF($K35>1, IF($K35=4, \"Inconnu\", IF($K35=99, \"Surveillance\", SUM($R35:$T35))), 0),\"Non requis\")","v":0},0,1,1,1,null,null,null,null,null,null,null,null,15458,"MANKONO"]
[{"$f":"IF(INTRO!$E$33<>0,INTRO!$E$33, \" \")","v":"Côte d'Ivoire"},"BOUKANI","BOUNA",144615,{"$f":"IF(INTRO!$E$48=\"\",\"\",ROUND($D36*INTRO!$E$48,0))","v":18352},{"$f":"IF(INTRO!$E$49=\"\",\"\",ROUND($D36*INTRO!$E$49,0))","v":36790},{"$f":"IF(INTRO!$E$50=\"\",\"\",ROUND($D36*INTRO!$E$50,0))","v":84397},99,1,1,2,{"$f":"IF(INTRO!$E$37=\"Endémique\",IF($H36>0,IF($H36=4,\"Inconnu\",IF($H36=99,\"Interrompu\",$D36)),0),\"Non requis\")","v":"Interrompu"},{"$f":"IF(INTRO!$E$39=\"Endémique\", IF($I36>0, IF($I36=4,\"Inconnu\",IF($I36=99,\"Interrompu\",$D36)), 0),\"Non requis\")","v":144615},{"$f":"IF(INTRO!$E$41=\"Endémique\", IF($J36>1, IF($J36=4, \"Inconnu\", IF($J36=99, \"Surveillance\", E36)), 0),\"Non requis\")","v":0},{"$f":"IF(INTRO!$E$41=\"Endémique\", IF($J36>1, IF($J36=4, \"Inconnu\", IF($J36=99, \"Surveillance\", F36)), 0),\"Non requis\")","v":0},{"$f":"IF(INTRO!$E$41=\"Endémique\", IF($J36>1, IF($J36=4, \"Inconnu\", IF($J36=99, \"Surveillance\", ROUND(D36*INTRO!$E$51,0))), 0),\"Non requis\")","v":0},{"$f":"IF(INTRO!$E$41=\"Endémique\", IF($J36>1, IF($J36=4, \"Inconnu\", IF($J36=99, \"Surveillance\", SUM($N36:$P36))), 0),\"Non requis\")","v":0},{"$f":"IF(INTRO!$E$43=\"Endémique\", IF($K36>1, IF($K36=4, \"Inconnu\", IF($K36=99, \"Surveillance\", ROUND(E36*0.75,0))), 0),\"Non requis\")","v":13764},34760,{"$f":"IF(INTRO!$E$43=\"Endémique\", IF($K36>1, IF($K36=4, \"Inconnu\", IF($K36=99, \"Surveillance\", G36)), 0),\"Non requis\")","v":84397},{"$f":"IF(INTRO!$E$43=\"Endémique\", IF($K36>1, IF($K36=4, \"Inconnu\", IF($K36=99, \"Surveillance\", SUM($R36:$T36))), 0),\"Non requis\")","v":132921},0,1,0,1,null,null,null,null,null,null,null,null,15423,"BOUNA"]
[{"$f":"IF(INTRO!$E$33<>0,INTRO!$E$33, \" \")","v":"Côte d'Ivoire"},"BOUKANI","DOROPO",84106,{"$f":"IF(INTRO!$E$48=\"\",\"\",ROUND($D37*INTRO!$E$48,0))","v":10673},{"$f":"IF(INTRO!$E$49=\"\",\"\",ROUND($D37*INTRO!$E$49,0))","v":21397},{"$f":"IF(INTRO!$E$50=\"\",\"\",ROUND($D37*INTRO!$E$50,0))","v":49084},1,1,1,2,{"$f":"IF(INTRO!$E$37=\"Endémique\",IF($H37>0,IF($H37=4,\"Inconnu\",IF($H37=99,\"Interrompu\",$D37)),0),\"Non requis\")","v":84106},{"$f":"IF(INTRO!$E$39=\"Endémique\", IF($I37>0, IF($I37=4,\"Inconnu\",IF($I37=99,\"Interrompu\",$D37)), 0),\"Non requis\")","v":84106},{"$f":"IF(INTRO!$E$41=\"Endémique\", IF($J37>1, IF($J37=4, \"Inconnu\", IF($J37=99, \"Surveillance\", E37)), 0),\"Non requis\")","v":0},{"$f":"IF(INTRO!$E$41=\"Endémique\", IF($J37>1, IF($J37=4, \"Inconnu\", IF($J37=99, \"Surveillance\", F37)), 0),\"Non requis\")","v":0},{"$f":"IF(INTRO!$E$41=\"Endémique\", IF($J37>1, IF($J37=4, \"Inconnu\", IF($J37=99, \"Surveillance\", ROUND(D37*INTRO!$E$51,0))), 0),\"Non requis\")","v":0},{"$f":"IF(INTRO!$E$41=\"Endémique\", IF($J37>1, IF($J37=4, \"Inconnu\", IF($J37=99, \"Surveillance\", SUM($N37:$P37))), 0),\"Non requis\")","v":0},{"$f":"IF(INTRO!$E$43=\"Endémique\", IF($K37>1, IF($K37=4, \"Inconnu\", IF($K37=99, \"Surveillance\", ROUND(E37*0.75,0))), 0),\"Non requis\")","v":8005},20904,{"$f":"IF(INTRO!$E$43=\"Endémique\", IF($K37>1, IF($K37=4, \"Inconnu\", IF($K37=99, \"Surveillance\", G37)), 0),\"Non requis\")","v":49084},{"$f":"IF(INTRO!$E$43=\"Endémique\", IF($K37>1, IF($K37=4, \"Inconnu\", IF($K37=99, \"Surveillance\", SUM($R37:$T37))), 0),\"Non requis\")","v":77993},1,1,0,1,null,null,null,null,null,null,null,null,15424,"DOROPO"]
[{"$f":"IF(INTRO!$E$33<>0,INTRO!$E$33, \" \")","v":"Côte d'Ivoire"},"BOUKANI","NASSIAN",56178,{"$f":"IF(INTRO!$E$48=\"\",\"\",ROUND($D38*INTRO!$E$48,0))","v":7129},{"$f":"IF(INTRO!$E$49=\"\",\"\",ROUND($D38*INTRO!$E$49,0))","v":14292},{"$f":"IF(INTRO!$E$50=\"\",\"\",ROUND($D38*INTRO!$E$50,0))","v":32785},19,1,2,0,{"$f":"IF(INTRO!$E$37=\"Endémique\",IF($H38>0,IF($H38=4,\"Inconnu\",IF($H38=99,\"Interrompu\",$D38)),0),\"Non requis\")","v":56178},{"$f":"IF(INTRO!$E$39=\"Endémique\", IF($I38>0, IF($I38=4,\"Inconnu\",IF($I38=99,\"Interrompu\",$D38)), 0),\"Non requis\")","v":56178},{"$f":"IF(INTRO!$E$41=\"Endémique\", IF($J38>1, IF($J38=4, \"Inconnu\", IF($J38=99, \"Surveillance\", E38)), 0),\"Non requis\")","v":7129},{"$f":"IF(INTRO!$E$41=\"Endémique\", IF($J38>1, IF($J38=4, \"Inconnu\", IF($J38=99, \"Surveillance\", F38)), 0),\"Non requis\")","v":14292},{"$f":"IF(INTRO!$E$41=\"Endémique\", IF($J38>1, IF($J38=4, \"Inconnu\", IF($J38=99, \"Surveillance\", ROUND(D38*INTRO!$E$51,0))), 0),\"Non requis\")","v":13556},{"$f":"IF(INTRO!$E$41=\"Endémique\", IF($J38>1, IF($J38=4, \"Inconnu\", IF($J38=99, \"Surveillance\", SUM($N38:$P38))), 0),\"Non requis\")","v":34977},{"$f":"IF(INTRO!$E$43=\"Endémique\", IF($K38>1, IF($K38=4, \"Inconnu\", IF($K38=99, \"Surveillance\", ROUND(E38*0.75,0))), 0),\"Non requis\")","v":0},0,{"$f":"IF(INTRO!$E$43=\"Endémique\", IF($K38>1, IF($K38=4, \"Inconnu\", IF($K38=99, \"Surveillance\", G38)), 0),\"Non requis\")","v":0},{"$f":"IF(INTRO!$E$43=\"Endémique\", IF($K38>1, IF($K38=4, \"Inconnu\", IF($K38=99, \"Surveillance\", SUM($R38:$T38))), 0),\"Non requis\")","v":0},0,1,1,0,null,null,null,null,null,null,null,null,15353,"NASSIAN"]
[{"$f":"IF(INTRO!$E$33<>0,INTRO!$E$33, \" \")","v":"Côte d'Ivoire"},"BOUKANI","TEHINI",52169,{"$f":"IF(INTRO!$E$48=\"\",\"\",ROUND($D39*INTRO!$E$48,0))","v":6620},{"$f":"IF(INTRO!$E$49=\"\",\"\",ROUND($D39*INTRO!$E$49,0))","v":13272},{"$f":"IF(INTRO!$E$50=\"\",\"\",ROUND($D39*INTRO!$E$50,0))","v":30446},1,1,1,2,{"$f":"IF(INTRO!$E$37=\"Endémique\",IF($H39>0,IF($H39=4,\"Inconnu\",IF($H39=99,\"Interrompu\",$D39)),0),\"Non requis\")","v":52169},{"$f":"IF(INTRO!$E$39=\"Endémique\", IF($I39>0, IF($I39=4,\"Inconnu\",IF($I39=99,\"Interrompu\",$D39)), 0),\"Non requis\")","v":52169},{"$f":"IF(INTRO!$E$41=\"Endémique\", IF($J39>1, IF($J39=4, \"Inconnu\", IF($J39=99, \"Surveillance\", E39)), 0),\"Non requis\")","v":0},{"$f":"IF(INTRO!$E$41=\"Endémique\", IF($J39>1, IF($J39=4, \"Inconnu\", IF($J39=99, \"Surveillance\", F39)), 0),\"Non requis\")","v":0},{"$f":"IF(INTRO!$E$41=\"Endémique\", IF($J39>1, IF($J39=4, \"Inconnu\", IF($J39=99, \"Surveillance\", ROUND(D39*INTRO!$E$51,0))), 0),\"Non requis\")","v":0},{"$f":"IF(INTRO!$E$41=\"Endémique\", IF($J39>1, IF($J39=4, \"Inconnu\", IF($J39=99, \"Surveillance\", SUM($N39:$P39))), 0),\"Non requis\")","v":0},{"$f":"IF(INTRO!$E$43=\"Endémique\", IF($K39>1, IF($K39=4, \"Inconnu\", IF($K39=99, \"Surveillance\", ROUND(E39*0.75,0))), 0),\"Non requis\")","v":4965},13733,{"$f":"IF(INTRO!$E$43=\"Endémique\", IF($K39>1, IF($K39=4, \"Inconnu\", IF($K39=99, \"Surveillance\", G39)), 0),\"Non requis\")","v":30446},{"$f":"IF(INTRO!$E$43=\"Endémique\", IF($K39>1, IF($K39=4, \"Inconnu\", IF($K39=99, \"Surveillance\", SUM($R39:$T39))), 0),\"Non requis\")","v":49144},1,1,0,1,null,null,null,null,null,null,null,null,15425,"TEHINI"]
[{"$f":"IF(INTRO!$E$33<>0,INTRO!$E$33, \" \")","v":"Côte d'Ivoire"},"CAVALLY","BLOLEQUIN",142711,{"$f":"IF(INTRO!$E$48=\"\",\"\",ROUND($D40*INTRO!$E$48,0))","v":18110},{"$f":"IF(INTRO!$E$49=\"\",\"\",ROUND($D40*INTRO!$E$49,0))","v":36306},{"$f":"IF(INTRO!$E$50=\"\",\"\",ROUND($D40*INTRO!$E$50,0))","v":83286},99,1,1,3,{"$f":"IF(INTRO!$E$37=\"Endémique\",IF($H40>0,IF($H40=4,\"Inconnu\",IF($H40=99,\"Interrompu\",$D40)),0),\"Non requis\")","v":"Interrompu"},{"$f":"IF(INTRO!$E$39=\"Endémique\", IF($I40>0, IF($I40=4,\"Inconnu\",IF($I40=99,\"Interrompu\",$D40)), 0),\"Non requis\")","v":142711},{"$f":"IF(INTRO!$E$41=\"Endémique\", IF($J40>1, IF($J40=4, \"Inconnu\", IF($J40=99, \"Surveillance\", E40)), 0),\"Non requis\")","v":0},{"$f":"IF(INTRO!$E$41=\"Endémique\", IF($J40>1, IF($J40=4, \"Inconnu\", IF($J40=99, \"Surveillance\", F40)), 0),\"Non requis\")","v":0},{"$f":"IF(INTRO!$E$41=\"Endémique\", IF($J40>1, IF($J40=4, \"Inconnu\", IF($J40=99, \"Surveillance\", ROUND(D40*INTRO!$E$51,0))), 0),\"Non requis\")","v":0},{"$f":"IF(INTRO!$E$41=\"Endémique\", IF($J40>1, IF($J40=4, \"Inconnu\", IF($J40=99, \"Surveillance\", SUM($N40:$P40))), 0),\"Non requis\")","v":0},{"$f":"IF(INTRO!$E$43=\"Endémique\", IF($K40>1, IF($K40=4, \"Inconnu\", IF($K40=99, \"Surveillance\", ROUND(E40*0.75,0))), 0),\"Non requis\")","v":13583},36512,{"$f":"IF(INTRO!$E$43=\"Endémique\", IF($K40>1, IF($K40=4, \"Inconnu\", IF($K40=99, \"Surveillance\", G40)), 0),\"Non requis\")","v":83286},{"$f":"IF(INTRO!$E$43=\"Endémique\", IF($K40>1, IF($K40=4, \"Inconnu\", IF($K40=99, \"Surveillance\", SUM($R40:$T40))), 0),\"Non requis\")","v":133381},0,1,0,1,null,null,null,null,null,null,null,null,15356,"BLOLEQUIN"]
[{"$f":"IF(INTRO!$E$33<>0,INTRO!$E$33, \" \")","v":"Côte d'Ivoire"},"CAVALLY","GUIGLO",204445,{"$f":"IF(INTRO!$E$48=\"\",\"\",ROUND($D41*INTRO!$E$48,0))","v":25944},{"$f":"IF(INTRO!$E$49=\"\",\"\",ROUND($D41*INTRO!$E$49,0))","v":52011},{"$f":"IF(INTRO!$E$50=\"\",\"\",ROUND($D41*INTRO!$E$50,0))","v":119314},99,1,1,2,{"$f":"IF(INTRO!$E$37=\"Endémique\",IF($H41>0,IF($H41=4,\"Inconnu\",IF($H41=99,\"Interrompu\",$D41)),0),\"Non requis\")","v":"Interrompu"},{"$f":"IF(INTRO!$E$39=\"Endémique\", IF($I41>0, IF($I41=4,\"Inconnu\",IF($I41=99,\"Interrompu\",$D41)), 0),\"Non requis\")","v":204445},{"$f":"IF(INTRO!$E$41=\"Endémique\", IF($J41>1, IF($J41=4, \"Inconnu\", IF($J41=99, \"Surveillance\", E41)), 0),\"Non requis\")","v":0},{"$f":"IF(INTRO!$E$41=\"Endémique\", IF($J41>1, IF($J41=4, \"Inconnu\", IF($J41=99, \"Surveillance\", F41)), 0),\"Non requis\")","v":0},{"$f":"IF(INTRO!$E$41=\"Endémique\", IF($J41>1, IF($J41=4, \"Inconnu\", IF($J41=99, \"Surveillance\", ROUND(D41*INTRO!$E$51,0))), 0),\"Non requis\")","v":0},{"$f":"IF(INTRO!$E$41=\"Endémique\", IF($J41>1, IF($J41=4, \"Inconnu\", IF($J41=99, \"Surveillance\", SUM($N41:$P41))), 0),\"Non requis\")","v":0},{"$f":"IF(INTRO!$E$43=\"Endémique\", IF($K41>1, IF($K41=4, \"Inconnu\", IF($K41=99, \"Surveillance\", ROUND(E41*0.75,0))), 0),\"Non requis\")","v":19458},0,{"$f":"IF(INTRO!$E$43=\"Endémique\", IF($K41>1, IF($K41=4, \"Inconnu\", IF($K41=99, \"Surveillance\", G41)), 0),\"Non requis\")","v":119314},{"$f":"IF(INTRO!$E$43=\"Endémique\", IF($K41>1, IF($K41=4, \"Inconnu\", IF($K41=99, \"Surveillance\", SUM($R41:$T41))), 0),\"Non requis\")","v":138772},0,1,0,0,null,null,null,null,null,null,null,null,15429,"GUIGLO"]
[{"$f":"IF(INTRO!$E$33<>0,INTRO!$E$33, \" \")","v":"Côte d'Ivoire"},"CAVALLY","TAI",119120,{"$f":"IF(INTRO!$E$48=\"\",\"\",ROUND($D42*INTRO!$E$48,0))","v":15116},{"$f":"IF(INTRO!$E$49=\"\",\"\",ROUND($D42*INTRO!$E$49,0))","v":30304},{"$f":"IF(INTRO!$E$50=\"\",\"\",ROUND($D42*INTRO!$E$50,0))","v":69518},99,1,1,2,{"$f":"IF(INTRO!$E$37=\"Endémique\",IF($H42>0,IF($H42=4,\"Inconnu\",IF($H42=99,\"Interrompu\",$D42)),0),\"Non requis\")","v":"Interrompu"},{"$f":"IF(INTRO!$E$39=\"Endémique\", IF($I42>0, IF($I42=4,\"Inconnu\",IF($I42=99,\"Interrompu\",$D42)), 0),\"Non requis\")","v":119120},{"$f":"IF(INTRO!$E$41=\"Endémique\", IF($J42>1, IF($J42=4, \"Inconnu\", IF($J42=99, \"Surveillance\", E42)), 0),\"Non requis\")","v":0},{"$f":"IF(INTRO!$E$41=\"Endémique\", IF($J42>1, IF($J42=4, \"Inconnu\", IF($J42=99, \"Surveillance\", F42)), 0),\"Non requis\")","v":0},{"$f":"IF(INTRO!$E$41=\"Endémique\", IF($J42>1, IF($J42=4, \"Inconnu\", IF($J42=99, \"Surveillance\", ROUND(D42*INTRO!$E$51,0))), 0),\"Non requis\")","v":0},{"$f":"IF(INTRO!$E$41=\"Endémique\", IF($J42>1, IF($J42=4, \"Inconnu\", IF($J42=99, \"Surveillance\", SUM($N42:$P42))), 0),\"Non requis\")","v":0},{"$f":"IF(INTRO!$E$43=\"Endémique\", IF($K42>1, IF($K42=4, \"Inconnu\", IF($K42=99, \"Surveillance\", ROUND(E42*0.75,0))), 0),\"Non requis\")","v":11337},0,{"$f":"IF(INTRO!$E$43=\"Endémique\", IF($K42>1, IF($K42=4, \"Inconnu\", IF($K42=99, \"Surveillance\", G42)), 0),\"Non requis\")","v":69518},{"$f":"IF(INTRO!$E$43=\"Endémique\", IF($K42>1, IF($K42=4, \"Inconnu\", IF($K42=99, \"Surveillance\", SUM($R42:$T42))), 0),\"Non requis\")","v":80855},0,1,0,0,null,null,null,null,null,null,null,null,15430,"TAI"]
[{"$f":"IF(INTRO!$E$33<>0,INTRO!$E$33, \" \")","v":"Côte d'Ivoire"},"CAVALLY","TOULEPLEU",65947,{"$f":"IF(INTRO!$E$48=\"\",\"\",ROUND($D43*INTRO!$E$48,0))","v":8369},{"$f":"IF(INTRO!$E$49=\"\",\"\",ROUND($D43*INTRO!$E$49,0))","v":16777},{"$f":"IF(INTRO!$E$50=\"\",\"\",ROUND($D43*INTRO!$E$50,0))","v":38487},1,1,1,2,{"$f":"IF(INTRO!$E$37=\"Endémique\",IF($H43>0,IF($H43=4,\"Inconnu\",IF($H43=99,\"Interrompu\",$D43)),0),\"Non requis\")","v":65947},{"$f":"IF(INTRO!$E$39=\"Endémique\", IF($I43>0, IF($I43=4,\"Inconnu\",IF($I43=99,\"Interrompu\",$D43)), 0),\"Non requis\")","v":65947},{"$f":"IF(INTRO!$E$41=\"Endémique\", IF($J43>1, IF($J43=4, \"Inconnu\", IF($J43=99, \"Surveillance\", E43)), 0),\"Non requis\")","v":0},{"$f":"IF(INTRO!$E$41=\"Endémique\", IF($J43>1, IF($J43=4, \"Inconnu\", IF($J43=99, \"Surveillance\", F43)), 0),\"Non requis\")","v":0},{"$f":"IF(INTRO!$E$41=\"Endémique\", IF($J43>1, IF($J43=4, \"Inconnu\", IF($J43=99, \"Surveillance\", ROUND(D43*INTRO!$E$51,0))), 0),\"Non requis\")","v":0},{"$f":"IF(INTRO!$E$41=\"Endémique\", IF($J43>1, IF($J43=4, \"Inconnu\", IF($J43=99, \"Surveillance\", SUM($N43:$P43))), 0),\"Non requis\")","v":0},{"$f":"IF(INTRO!$E$43=\"Endémique\", IF($K43>1, IF($K43=4, \"Inconnu\", IF($K43=99, \"Surveillance\", ROUND(E43*0.75,0))), 0),\"Non requis\")","v":6277},873,{"$f":"IF(INTRO!$E$43=\"Endémique\", IF($K43>1, IF($K43=4, \"Inconnu\", IF($K43=99, \"Surveillance\", G43)), 0),\"Non requis\")","v":38487},{"$f":"IF(INTRO!$E$43=\"Endémique\", IF($K43>1, IF($K43=4, \"Inconnu\", IF($K43=99, \"Surveillance\", SUM($R43:$T43))), 0),\"Non requis\")","v":45637},1,1,0,1,null,null,null,null,null,null,null,null,15360,"TOULEPLEU"]
[{"$f":"IF(INTRO!$E$33<>0,INTRO!$E$33, \" \")","v":"Côte d'Ivoire"},"FOLON","KANIASSO",73338,{"$f":"IF(INTRO!$E$48=\"\",\"\",ROUND($D44*INTRO!$E$48,0))","v":9307},{"$f":"IF(INTRO!$E$49=\"\",\"\",ROUND($D44*INTRO!$E$49,0))","v":18657},{"$f":"IF(INTRO!$E$50=\"\",\"\",ROUND($D44*INTRO!$E$50,0))","v":42800},0,1,1,0,{"$f":"IF(INTRO!$E$37=\"Endémique\",IF($H44>0,IF($H44=4,\"Inconnu\",IF($H44=99,\"Interrompu\",$D44)),0),\"Non requis\")","v":0},{"$f":"IF(INTRO!$E$39=\"Endémique\", IF($I44>0, IF($I44=4,\"Inconnu\",IF($I44=99,\"Interrompu\",$D44)), 0),\"Non requis\")","v":73338},{"$f":"IF(INTRO!$E$41=\"Endémique\", IF($J44>1, IF($J44=4, \"Inconnu\", IF($J44=99, \"Surveillance\", E44)), 0),\"Non requis\")","v":0},{"$f":"IF(INTRO!$E$41=\"Endémique\", IF($J44>1, IF($J44=4, \"Inconnu\", IF($J44=99, \"Surveillance\", F44)), 0),\"Non requis\")","v":0},{"$f":"IF(INTRO!$E$41=\"Endémique\", IF($J44>1, IF($J44=4, \"Inconnu\", IF($J44=99, \"Surveillance\", ROUND(D44*INTRO!$E$51,0))), 0),\"Non requis\")","v":0},{"$f":"IF(INTRO!$E$41=\"Endémique\", IF($J44>1, IF($J44=4, \"Inconnu\", IF($J44=99, \"Surveillance\", SUM($N44:$P44))), 0),\"Non requis\")","v":0},{"$f":"IF(INTRO!$E$43=\"Endémique\", IF($K44>1, IF($K44=4, \"Inconnu\", IF($K44=99, \"Surveillance\", ROUND(E44*0.75,0))), 0),\"Non requis\")","v":0},0,{"$f":"IF(INTRO!$E$43=\"Endémique\", IF($K44>1, IF($K44=4, \"Inconnu\", IF($K44=99, \"Surveillance\", G44)), 0),\"Non requis\")","v":0},{"$f":"IF(INTRO!$E$43=\"Endémique\", IF($K44>1, IF($K44=4, \"Inconnu\", IF($K44=99, \"Surveillance\", SUM($R44:$T44))), 0),\"Non requis\")","v":0},0,1,0,0,null,null,null,null,null,null,null,null,15438,"KANIASSO"]
[{"$f":"IF(INTRO!$E$33<>0,INTRO!$E$33, \" \")","v":"Côte d'Ivoire"},"FOLON","MINIGNAN",48121,{"$f":"IF(INTRO!$E$48=\"\",\"\",ROUND($D45*INTRO!$E$48,0))","v":6107},{"$f":"IF(INTRO!$E$49=\"\",\"\",ROUND($D45*INTRO!$E$49,0))","v":12242},{"$f":"IF(INTRO!$E$50=\"\",\"\",ROUND($D45*INTRO!$E$50,0))","v":28083},0,1,1,2,{"$f":"IF(INTRO!$E$37=\"Endémique\",IF($H45>0,IF($H45=4,\"Inconnu\",IF($H45=99,\"Interrompu\",$D45)),0),\"Non requis\")","v":0},{"$f":"IF(INTRO!$E$39=\"Endémique\", IF($I45>0, IF($I45=4,\"Inconnu\",IF($I45=99,\"Interrompu\",$D45)), 0),\"Non requis\")","v":48121},{"$f":"IF(INTRO!$E$41=\"Endémique\", IF($J45>1, IF($J45=4, \"Inconnu\", IF($J45=99, \"Surveillance\", E45)), 0),\"Non requis\")","v":0},{"$f":"IF(INTRO!$E$41=\"Endémique\", IF($J45>1, IF($J45=4, \"Inconnu\", IF($J45=99, \"Surveillance\", F45)), 0),\"Non requis\")","v":0},{"$f":"IF(INTRO!$E$41=\"Endémique\", IF($J45>1, IF($J45=4, \"Inconnu\", IF($J45=99, \"Surveillance\", ROUND(D45*INTRO!$E$51,0))), 0),\"Non requis\")","v":0},{"$f":"IF(INTRO!$E$41=\"Endémique\", IF($J45>1, IF($J45=4, \"Inconnu\", IF($J45=99, \"Surveillance\", SUM($N45:$P45))), 0),\"Non requis\")","v":0},{"$f":"IF(INTRO!$E$43=\"Endémique\", IF($K45>1, IF($K45=4, \"Inconnu\", IF($K45=99, \"Surveillance\", ROUND(E45*0.75,0))), 0),\"Non requis\")","v":4580},10191,{"$f":"IF(INTRO!$E$43=\"Endémique\", IF($K45>1, IF($K45=4, \"Inconnu\", IF($K45=99, \"Surveillance\", G45)), 0),\"Non requis\")","v":28083},{"$f":"IF(INTRO!$E$43=\"Endémique\", IF($K45>1, IF($K45=4, \"Inconnu\", IF($K45=99, \"Surveillance\", SUM($R45:$T45))), 0),\"Non requis\")","v":42854},0,1,0,1,null,null,null,null,null,null,null,null,15437,"MINIGNAN"]
[{"$f":"IF(INTRO!$E$33<>0,INTRO!$E$33, \" \")","v":"Côte d'Ivoire"},"GBEKE","BEOUMI",184233,{"$f":"IF(INTRO!$E$48=\"\",\"\",ROUND($D46*INTRO!$E$48,0))","v":23379},{"$f":"IF(INTRO!$E$49=\"\",\"\",ROUND($D46*INTRO!$E$49,0))","v":46869},{"$f":"IF(INTRO!$E$50=\"\",\"\",ROUND($D46*INTRO!$E$50,0))","v":107518},19,1,1,2,{"$f":"IF(INTRO!$E$37=\"Endémique\",IF($H46>0,IF($H46=4,\"Inconnu\",IF($H46=99,\"Interrompu\",$D46)),0),\"Non requis\")","v":184233},{"$f":"IF(INTRO!$E$39=\"Endémique\", IF($I46>0, IF($I46=4,\"Inconnu\",IF($I46=99,\"Interrompu\",$D46)), 0),\"Non requis\")","v":184233},{"$f":"IF(INTRO!$E$41=\"Endémique\", IF($J46>1, IF($J46=4, \"Inconnu\", IF($J46=99, \"Surveillance\", E46)), 0),\"Non requis\")","v":0},{"$f":"IF(INTRO!$E$41=\"Endémique\", IF($J46>1, IF($J46=4, \"Inconnu\", IF($J46=99, \"Surveillance\", F46)), 0),\"Non requis\")","v":0},{"$f":"IF(INTRO!$E$41=\"Endémique\", IF($J46>1, IF($J46=4, \"Inconnu\", IF($J46=99, \"Surveillance\", ROUND(D46*INTRO!$E$51,0))), 0),\"Non requis\")","v":0},{"$f":"IF(INTRO!$E$41=\"Endémique\", IF($J46>1, IF($J46=4, \"Inconnu\", IF($J46=99, \"Surveillance\", SUM($N46:$P46))), 0),\"Non requis\")","v":0},{"$f":"IF(INTRO!$E$43=\"Endémique\", IF($K46>1, IF($K46=4, \"Inconnu\", IF($K46=99, \"Surveillance\", ROUND(E46*0.75,0))), 0),\"Non requis\")","v":17534},0,{"$f":"IF(INTRO!$E$43=\"Endémique\", IF($K46>1, IF($K46=4, \"Inconnu\", IF($K46=99, \"Surveillance\", G46)), 0),\"Non requis\")","v":107518},{"$f":"IF(INTRO!$E$43=\"Endémique\", IF($K46>1, IF($K46=4, \"Inconnu\", IF($K46=99, \"Surveillance\", SUM($R46:$T46))), 0),\"Non requis\")","v":125052},0,1,0,0,null,null,null,null,null,null,null,null,15361,"BEOUMI"]
[{"$f":"IF(INTRO!$E$33<>0,INTRO!$E$33, \" \")","v":"Côte d'Ivoire"},"GBEKE","BOTRO",97280,{"$f":"IF(INTRO!$E$48=\"\",\"\",ROUND($D47*INTRO!$E$48,0))","v":12345},{"$f":"IF(INTRO!$E$49=\"\",\"\",ROUND($D47*INTRO!$E$49,0))","v":24748},{"$f":"IF(INTRO!$E$50=\"\",\"\",ROUND($D47*INTRO!$E$50,0))","v":56773},19,1,1,0,{"$f":"IF(INTRO!$E$37=\"Endémique\",IF($H47>0,IF($H47=4,\"Inconnu\",IF($H47=99,\"Interrompu\",$D47)),0),\"Non requis\")","v":97280},{"$f":"IF(INTRO!$E$39=\"Endémique\", IF($I47>0, IF($I47=4,\"Inconnu\",IF($I47=99,\"Interrompu\",$D47)), 0),\"Non requis\")","v":97280},{"$f":"IF(INTRO!$E$41=\"Endémique\", IF($J47>1, IF($J47=4, \"Inconnu\", IF($J47=99, \"Surveillance\", E47)), 0),\"Non requis\")","v":0},{"$f":"IF(INTRO!$E$41=\"Endémique\", IF($J47>1, IF($J47=4, \"Inconnu\", IF($J47=99, \"Surveillance\", F47)), 0),\"Non requis\")","v":0},{"$f":"IF(INTRO!$E$41=\"Endémique\", IF($J47>1, IF($J47=4, \"Inconnu\", IF($J47=99, \"Surveillance\", ROUND(D47*INTRO!$E$51,0))), 0),\"Non requis\")","v":0},{"$f":"IF(INTRO!$E$41=\"Endémique\", IF($J47>1, IF($J47=4, \"Inconnu\", IF($J47=99, \"Surveillance\", SUM($N47:$P47))), 0),\"Non requis\")","v":0},{"$f":"IF(INTRO!$E$43=\"Endémique\", IF($K47>1, IF($K47=4, \"Inconnu\", IF($K47=99, \"Surveillance\", ROUND(E47*0.75,0))), 0),\"Non requis\")","v":0},0,{"$f":"IF(INTRO!$E$43=\"Endémique\", IF($K47>1, IF($K47=4, \"Inconnu\", IF($K47=99, \"Surveillance\", G47)), 0),\"Non requis\")","v":0},{"$f":"IF(INTRO!$E$43=\"Endémique\", IF($K47>1, IF($K47=4, \"Inconnu\", IF($K47=99, \"Surveillance\", SUM($R47:$T47))), 0),\"Non requis\")","v":0},0,1,0,0,null,null,null,null,null,null,null,null,15432,"BOTRO"]
[{"$f":"IF(INTRO!$E$33<>0,INTRO!$E$33, \" \")","v":"Côte d'Ivoire"},"GBEKE","BOUAKE NORD-EST",231500,{"$f":"IF(INTRO!$E$48=\"\",\"\",ROUND($D48*INTRO!$E$48,0))","v":29377},{"$f":"IF(INTRO!$E$49=\"\",\"\",ROUND($D48*INTRO!$E$49,0))","v":58894},{"$f":"IF(INTRO!$E$50=\"\",\"\",ROUND($D48*INTRO!$E$50,0))","v":135103},19,1,2,2,{"$f":"IF(INTRO!$E$37=\"Endémique\",IF($H48>0,IF($H48=4,\"Inconnu\",IF($H48=99,\"Interrompu\",$D48)),0),\"Non requis\")","v":231500},{"$f":"IF(INTRO!$E$39=\"Endémique\", IF($I48>0, IF($I48=4,\"Inconnu\",IF($I48=99,\"Interrompu\",$D48)), 0),\"Non requis\")","v":231500},{"$f":"IF(INTRO!$E$41=\"Endémique\", IF($J48>1, IF($J48=4, \"Inconnu\", IF($J48=99, \"Surveillance\", E48)), 0),\"Non requis\")","v":29377},{"$f":"IF(INTRO!$E$41=\"Endémique\", IF($J48>1, IF($J48=4, \"Inconnu\", IF($J48=99, \"Surveillance\", F48)), 0),\"Non requis\")","v":58894},{"$f":"IF(INTRO!$E$41=\"Endémique\", IF($J48>1, IF($J48=4, \"Inconnu\", IF($J48=99, \"Surveillance\", ROUND(D48*INTRO!$E$51,0))), 0),\"Non requis\")","v":55861},{"$f":"IF(INTRO!$E$41=\"Endémique\", IF($J48>1, IF($J48=4, \"Inconnu\", IF($J48=99, \"Surveillance\", SUM($N48:$P48))), 0),\"Non requis\")","v":144132},{"$f":"IF(INTRO!$E$43=\"Endémique\", IF($K48>1, IF($K48=4, \"Inconnu\", IF($K48=99, \"Surveillance\", ROUND(E48*0.75,0))), 0),\"Non requis\")","v":22033},0,{"$f":"IF(INTRO!$E$43=\"Endémique\", IF($K48>1, IF($K48=4, \"Inconnu\", IF($K48=99, \"Surveillance\", G48)), 0),\"Non requis\")","v":135103},{"$f":"IF(INTRO!$E$43=\"Endémique\", IF($K48>1, IF($K48=4, \"Inconnu\", IF($K48=99, \"Surveillance\", SUM($R48:$T48))), 0),\"Non requis\")","v":157136},0,1,1,0,null,null,null,null,null,null,null,null,15362,"BOUAKE NORD-EST"]
[{"$f":"IF(INTRO!$E$33<>0,INTRO!$E$33, \" \")","v":"Côte d'Ivoire"},"GBEKE","BOUAKE NORD-OUEST",341481,{"$f":"IF(INTRO!$E$48=\"\",\"\",ROUND($D49*INTRO!$E$48,0))","v":43334},{"$f":"IF(INTRO!$E$49=\"\",\"\",ROUND($D49*INTRO!$E$49,0))","v":86873},{"$f":"IF(INTRO!$E$50=\"\",\"\",ROUND($D49*INTRO!$E$50,0))","v":199288},19,1,1,3,{"$f":"IF(INTRO!$E$37=\"Endémique\",IF($H49>0,IF($H49=4,\"Inconnu\",IF($H49=99,\"Interrompu\",$D49)),0),\"Non requis\")","v":341481},{"$f":"IF(INTRO!$E$39=\"Endémique\", IF($I49>0, IF($I49=4,\"Inconnu\",IF($I49=99,\"Interrompu\",$D49)), 0),\"Non requis\")","v":341481},{"$f":"IF(INTRO!$E$41=\"Endémique\", IF($J49>1, IF($J49=4, \"Inconnu\", IF($J49=99, \"Surveillance\", E49)), 0),\"Non requis\")","v":0},{"$f":"IF(INTRO!$E$41=\"Endémique\", IF($J49>1, IF($J49=4, \"Inconnu\", IF($J49=99, \"Surveillance\", F49)), 0),\"Non requis\")","v":0},{"$f":"IF(INTRO!$E$41=\"Endémique\", IF($J49>1, IF($J49=4, \"Inconnu\", IF($J49=99, \"Surveillance\", ROUND(D49*INTRO!$E$51,0))), 0),\"Non requis\")","v":0},{"$f":"IF(INTRO!$E$41=\"Endémique\", IF($J49>1, IF($J49=4, \"Inconnu\", IF($J49=99, \"Surveillance\", SUM($N49:$P49))), 0),\"Non requis\")","v":0},{"$f":"IF(INTRO!$E$43=\"Endémique\", IF($K49>1, IF($K49=4, \"Inconnu\", IF($K49=99, \"Surveillance\", ROUND(E49*0.75,0))), 0),\"Non requis\")","v":32501},105278,{"$f":"IF(INTRO!$E$43=\"Endémique\", IF($K49>1, IF($K49=4, \"Inconnu\", IF($K49=99, \"Surveillance\", G49)), 0),\"Non requis\")","v":199288},{"$f":"IF(INTRO!$E$43=\"Endémique\", IF($K49>1, IF($K49=4, \"Inconnu\", IF($K49=99, \"Surveillance\", SUM($R49:$T49))), 0),\"Non requis\")","v":337067},0,1,0,1,null,null,null,null,null,null,null,null,15431,"BOUAKE NORD OUEST"]
[{"$f":"IF(INTRO!$E$33<>0,INTRO!$E$33, \" \")","v":"Côte d'Ivoire"},"GBEKE","BOUAKE SUD",240258,{"$f":"IF(INTRO!$E$48=\"\",\"\",ROUND($D50*INTRO!$E$48,0))","v":30489},{"$f":"IF(INTRO!$E$49=\"\",\"\",ROUND($D50*INTRO!$E$49,0))","v":61122},{"$f":"IF(INTRO!$E$50=\"\",\"\",ROUND($D50*INTRO!$E$50,0))","v":140215},19,0,1,2,{"$f":"IF(INTRO!$E$37=\"Endémique\",IF($H50>0,IF($H50=4,\"Inconnu\",IF($H50=99,\"Interrompu\",$D50)),0),\"Non requis\")","v":240258},{"$f":"IF(INTRO!$E$39=\"Endémique\", IF($I50>0, IF($I50=4,\"Inconnu\",IF($I50=99,\"Interrompu\",$D50)), 0),\"Non requis\")","v":0},{"$f":"IF(INTRO!$E$41=\"Endémique\", IF($J50>1, IF($J50=4, \"Inconnu\", IF($J50=99, \"Surveillance\", E50)), 0),\"Non requis\")","v":0},{"$f":"IF(INTRO!$E$41=\"Endémique\", IF($J50>1, IF($J50=4, \"Inconnu\", IF($J50=99, \"Surveillance\", F50)), 0),\"Non requis\")","v":0},{"$f":"IF(INTRO!$E$41=\"Endémique\", IF($J50>1, IF($J50=4, \"Inconnu\", IF($J50=99, \"Surveillance\", ROUND(D50*INTRO!$E$51,0))), 0),\"Non requis\")","v":0},{"$f":"IF(INTRO!$E$41=\"Endémique\", IF($J50>1, IF($J50=4, \"Inconnu\", IF($J50=99, \"Surveillance\", SUM($N50:$P50))), 0),\"Non requis\")","v":0},{"$f":"IF(INTRO!$E$43=\"Endémique\", IF($K50>1, IF($K50=4, \"Inconnu\", IF($K50=99, \"Surveillance\", ROUND(E50*0.75,0))), 0),\"Non requis\")","v":22867},0,{"$f":"IF(INTRO!$E$43=\"Endémique\", IF($K50>1, IF($K50=4, \"Inconnu\", IF($K50=99, \"Surveillance\", G50)), 0),\"Non requis\")","v":140215},{"$f":"IF(INTRO!$E$43=\"Endémique\", IF($K50>1, IF($K50=4, \"Inconnu\", IF($K50=99, \"Surveillance\", SUM($R50:$T50))), 0),\"Non requis\")","v":163082},0,0,0,0,null,"TAS",null,null,null,null,null,null,15364,"BOUAKE SUD"]
[{"$f":"IF(INTRO!$E$33<>0,INTRO!$E$33, \" \")","v":"Côte d'Ivoire"},"GBEKE","SAKASSOU",112932,{"$f":"IF(INTRO!$E$48=\"\",\"\",ROUND($D51*INTRO!$E$48,0))","v":14331},{"$f":"IF(INTRO!$E$49=\"\",\"\",ROUND($D51*INTRO!$E$49,0))","v":28730},{"$f":"IF(INTRO!$E$50=\"\",\"\",ROUND($D51*INTRO!$E$50,0))","v":65907},19,1,2,3,{"$f":"IF(INTRO!$E$37=\"Endémique\",IF($H51>0,IF($H51=4,\"Inconnu\",IF($H51=99,\"Interrompu\",$D51)),0),\"Non requis\")","v":112932},{"$f":"IF(INTRO!$E$39=\"Endémique\", IF($I51>0, IF($I51=4,\"Inconnu\",IF($I51=99,\"Interrompu\",$D51)), 0),\"Non requis\")","v":112932},{"$f":"IF(INTRO!$E$41=\"Endémique\", IF($J51>1, IF($J51=4, \"Inconnu\", IF($J51=99, \"Surveillance\", E51)), 0),\"Non requis\")","v":14331},{"$f":"IF(INTRO!$E$41=\"Endémique\", IF($J51>1, IF($J51=4, \"Inconnu\", IF($J51=99, \"Surveillance\", F51)), 0),\"Non requis\")","v":28730},{"$f":"IF(INTRO!$E$41=\"Endémique\", IF($J51>1, IF($J51=4, \"Inconnu\", IF($J51=99, \"Surveillance\", ROUND(D51*INTRO!$E$51,0))), 0),\"Non requis\")","v":27250},{"$f":"IF(INTRO!$E$41=\"Endémique\", IF($J51>1, IF($J51=4, \"Inconnu\", IF($J51=99, \"Surveillance\", SUM($N51:$P51))), 0),\"Non requis\")","v":70311},{"$f":"IF(INTRO!$E$43=\"Endémique\", IF($K51>1, IF($K51=4, \"Inconnu\", IF($K51=99, \"Surveillance\", ROUND(E51*0.75,0))), 0),\"Non requis\")","v":10748},23025,{"$f":"IF(INTRO!$E$43=\"Endémique\", IF($K51>1, IF($K51=4, \"Inconnu\", IF($K51=99, \"Surveillance\", G51)), 0),\"Non requis\")","v":65907},{"$f":"IF(INTRO!$E$43=\"Endémique\", IF($K51>1, IF($K51=4, \"Inconnu\", IF($K51=99, \"Surveillance\", SUM($R51:$T51))), 0),\"Non requis\")","v":99680},0,1,1,1,null,null,null,null,null,null,null,null,15365,"SAKASSOU"]
[{"$f":"IF(INTRO!$E$33<>0,INTRO!$E$33, \" \")","v":"Côte d'Ivoire"},"GBOKLE","FRESCO",117211,{"$f":"IF(INTRO!$E$48=\"\",\"\",ROUND($D52*INTRO!$E$48,0))","v":14874},{"$f":"IF(INTRO!$E$49=\"\",\"\",ROUND($D52*INTRO!$E$49,0))","v":29818},{"$f":"IF(INTRO!$E$50=\"\",\"\",ROUND($D52*INTRO!$E$50,0))","v":68404},19,1,2,2,{"$f":"IF(INTRO!$E$37=\"Endémique\",IF($H52>0,IF($H52=4,\"Inconnu\",IF($H52=99,\"Interrompu\",$D52)),0),\"Non requis\")","v":117211},{"$f":"IF(INTRO!$E$39=\"Endémique\", IF($I52>0, IF($I52=4,\"Inconnu\",IF($I52=99,\"Interrompu\",$D52)), 0),\"Non requis\")","v":117211},{"$f":"IF(INTRO!$E$41=\"Endémique\", IF($J52>1, IF($J52=4, \"Inconnu\", IF($J52=99, \"Surveillance\", E52)), 0),\"Non requis\")","v":14874},{"$f":"IF(INTRO!$E$41=\"Endémique\", IF($J52>1, IF($J52=4, \"Inconnu\", IF($J52=99, \"Surveillance\", F52)), 0),\"Non requis\")","v":29818},{"$f":"IF(INTRO!$E$41=\"Endémique\", IF($J52>1, IF($J52=4, \"Inconnu\", IF($J52=99, \"Surveillance\", ROUND(D52*INTRO!$E$51,0))), 0),\"Non requis\")","v":28283},{"$f":"IF(INTRO!$E$41=\"Endémique\", IF($J52>1, IF($J52=4, \"Inconnu\", IF($J52=99, \"Surveillance\", SUM($N52:$P52))), 0),\"Non requis\")","v":72975},{"$f":"IF(INTRO!$E$43=\"Endémique\", IF($K52>1, IF($K52=4, \"Inconnu\", IF($K52=99, \"Surveillance\", ROUND(E52*0.75,0))), 0),\"Non requis\")","v":11156},0,{"$f":"IF(INTRO!$E$43=\"Endémique\", IF($K52>1, IF($K52=4, \"Inconnu\", IF($K52=99, \"Surveillance\", G52)), 0),\"Non requis\")","v":68404},{"$f":"IF(INTRO!$E$43=\"Endémique\", IF($K52>1, IF($K52=4, \"Inconnu\", IF($K52=99, \"Surveillance\", SUM($R52:$T52))), 0),\"Non requis\")","v":79560},0,1,1,0,null,null,null,null,null,null,null,null,15386,"FRESCO"]
[{"$f":"IF(INTRO!$E$33<>0,INTRO!$E$33, \" \")","v":"Côte d'Ivoire"},"GBOKLE","SASSANDRA ",346550,{"$f":"IF(INTRO!$E$48=\"\",\"\",ROUND($D53*INTRO!$E$48,0))","v":43977},{"$f":"IF(INTRO!$E$49=\"\",\"\",ROUND($D53*INTRO!$E$49,0))","v":88162},{"$f":"IF(INTRO!$E$50=\"\",\"\",ROUND($D53*INTRO!$E$50,0))","v":202247},99,1,1,3,{"$f":"IF(INTRO!$E$37=\"Endémique\",IF($H53>0,IF($H53=4,\"Inconnu\",IF($H53=99,\"Interrompu\",$D53)),0),\"Non requis\")","v":"Interrompu"},{"$f":"IF(INTRO!$E$39=\"Endémique\", IF($I53>0, IF($I53=4,\"Inconnu\",IF($I53=99,\"Interrompu\",$D53)), 0),\"Non requis\")","v":346550},{"$f":"IF(INTRO!$E$41=\"Endémique\", IF($J53>1, IF($J53=4, \"Inconnu\", IF($J53=99, \"Surveillance\", E53)), 0),\"Non requis\")","v":0},{"$f":"IF(INTRO!$E$41=\"Endémique\", IF($J53>1, IF($J53=4, \"Inconnu\", IF($J53=99, \"Surveillance\", F53)), 0),\"Non requis\")","v":0},{"$f":"IF(INTRO!$E$41=\"Endémique\", IF($J53>1, IF($J53=4, \"Inconnu\", IF($J53=99, \"Surveillance\", ROUND(D53*INTRO!$E$51,0))), 0),\"Non requis\")","v":0},{"$f":"IF(INTRO!$E$41=\"Endémique\", IF($J53>1, IF($J53=4, \"Inconnu\", IF($J53=99, \"Surveillance\", SUM($N53:$P53))), 0),\"Non requis\")","v":0},{"$f":"IF(INTRO!$E$43=\"Endémique\", IF($K53>1, IF($K53=4, \"Inconnu\", IF($K53=99, \"Surveillance\", ROUND(E53*0.75,0))), 0),\"Non requis\")","v":32983},1647,{"$f":"IF(INTRO!$E$43=\"Endémique\", IF($K53>1, IF($K53=4, \"Inconnu\", IF($K53=99, \"Surveillance\", G53)), 0),\"Non requis\")","v":202247},{"$f":"IF(INTRO!$E$43=\"Endémique\", IF($K53>1, IF($K53=4, \"Inconnu\", IF($K53=99, \"Surveillance\", SUM($R53:$T53))), 0),\"Non requis\")","v":236877},0,1,0,1,null,null,null,null,null,null,null,null,15368,"SASSANDRA "]
[{"$f":"IF(INTRO!$E$33<>0,INTRO!$E$33, \" \")","v":"Côte d'Ivoire"},"GOH","GAGNOA 1",443284,{"$f":"IF(INTRO!$E$48=\"\",\"\",ROUND($D54*INTRO!$E$48,0))","v":56253},{"$f":"IF(INTRO!$E$49=\"\",\"\",ROUND($D54*INTRO!$E$49,0))","v":112771},{"$f":"IF(INTRO!$E$50=\"\",\"\",ROUND($D54*INTRO!$E$50,0))","v":258701},1,1,1,2,{"$f":"IF(INTRO!$E$37=\"Endémique\",IF($H54>0,IF($H54=4,\"Inconnu\",IF($H54=99,\"Interrompu\",$D54)),0),\"Non requis\")","v":443284},{"$f":"IF(INTRO!$E$39=\"Endémique\", IF($I54>0, IF($I54=4,\"Inconnu\",IF($I54=99,\"Interrompu\",$D54)), 0),\"Non requis\")","v":443284},{"$f":"IF(INTRO!$E$41=\"Endémique\", IF($J54>1, IF($J54=4, \"Inconnu\", IF($J54=99, \"Surveillance\", E54)), 0),\"Non requis\")","v":0},{"$f":"IF(INTRO!$E$41=\"Endémique\", IF($J54>1, IF($J54=4, \"Inconnu\", IF($J54=99, \"Surveillance\", F54)), 0),\"Non requis\")","v":0},{"$f":"IF(INTRO!$E$41=\"Endémique\", IF($J54>1, IF($J54=4, \"Inconnu\", IF($J54=99, \"Surveillance\", ROUND(D54*INTRO!$E$51,0))), 0),\"Non requis\")","v":0},{"$f":"IF(INTRO!$E$41=\"Endémique\", IF($J54>1, IF($J54=4, \"Inconnu\", IF($J54=99, \"Surveillance\", SUM($N54:$P54))), 0),\"Non requis\")","v":0},{"$f":"IF(INTRO!$E$43=\"Endémique\", IF($K54>1, IF($K54=4, \"Inconnu\", IF($K54=99, \"Surveillance\", ROUND(E54*0.75,0))), 0),\"Non requis\")","v":42190},0,{"$f":"IF(INTRO!$E$43=\"Endémique\", IF($K54>1, IF($K54=4, \"Inconnu\", IF($K54=99, \"Surveillance\", G54)), 0),\"Non requis\")","v":258701},{"$f":"IF(INTRO!$E$43=\"Endémique\", IF($K54>1, IF($K54=4, \"Inconnu\", IF($K54=99, \"Surveillance\", SUM($R54:$T54))), 0),\"Non requis\")","v":300891},1,1,0,0,null,null,null,null,null,null,null,null,15433,"GAGNOA 1"]
[{"$f":"IF(INTRO!$E$33<>0,INTRO!$E$33, \" \")","v":"Côte d'Ivoire"},"GOH","GAGNOA 2",309661,{"$f":"IF(INTRO!$E$48=\"\",\"\",ROUND($D55*INTRO!$E$48,0))","v":39296},{"$f":"IF(INTRO!$E$49=\"\",\"\",ROUND($D55*INTRO!$E$49,0))","v":78778},{"$f":"IF(INTRO!$E$50=\"\",\"\",ROUND($D55*INTRO!$E$50,0))","v":180718},19,1,1,2,{"$f":"IF(INTRO!$E$37=\"Endémique\",IF($H55>0,IF($H55=4,\"Inconnu\",IF($H55=99,\"Interrompu\",$D55)),0),\"Non requis\")","v":309661},{"$f":"IF(INTRO!$E$39=\"Endémique\", IF($I55>0, IF($I55=4,\"Inconnu\",IF($I55=99,\"Interrompu\",$D55)), 0),\"Non requis\")","v":309661},{"$f":"IF(INTRO!$E$41=\"Endémique\", IF($J55>1, IF($J55=4, \"Inconnu\", IF($J55=99, \"Surveillance\", E55)), 0),\"Non requis\")","v":0},{"$f":"IF(INTRO!$E$41=\"Endémique\", IF($J55>1, IF($J55=4, \"Inconnu\", IF($J55=99, \"Surveillance\", F55)), 0),\"Non requis\")","v":0},{"$f":"IF(INTRO!$E$41=\"Endémique\", IF($J55>1, IF($J55=4, \"Inconnu\", IF($J55=99, \"Surveillance\", ROUND(D55*INTRO!$E$51,0))), 0),\"Non requis\")","v":0},{"$f":"IF(INTRO!$E$41=\"Endémique\", IF($J55>1, IF($J55=4, \"Inconnu\", IF($J55=99, \"Surveillance\", SUM($N55:$P55))), 0),\"Non requis\")","v":0},{"$f":"IF(INTRO!$E$43=\"Endémique\", IF($K55>1, IF($K55=4, \"Inconnu\", IF($K55=99, \"Surveillance\", ROUND(E55*0.75,0))), 0),\"Non requis\")","v":29472},0,{"$f":"IF(INTRO!$E$43=\"Endémique\", IF($K55>1, IF($K55=4, \"Inconnu\", IF($K55=99, \"Surveillance\", G55)), 0),\"Non requis\")","v":180718},{"$f":"IF(INTRO!$E$43=\"Endémique\", IF($K55>1, IF($K55=4, \"Inconnu\", IF($K55=99, \"Surveillance\", SUM($R55:$T55))), 0),\"Non requis\")","v":210190},0,1,0,0,null,null,null,null,null,null,null,null,15434,"GAGNOA 2"]
[{"$f":"IF(INTRO!$E$33<>0,INTRO!$E$33, \" \")","v":"Côte d'Ivoire"},"GOH","OUME",362713,{"$f":"IF(INTRO!$E$48=\"\",\"\",ROUND($D56*INTRO!$E$48,0))","v":46028},{"$f":"IF(INTRO!$E$49=\"\",\"\",ROUND($D56*INTRO!$E$49,0))","v":92274},{"$f":"IF(INTRO!$E$50=\"\",\"\",ROUND($D56*INTRO!$E$50,0))","v":211679},19,1,1,2,{"$f":"IF(INTRO!$E$37=\"Endémique\",IF($H56>0,IF($H56=4,\"Inconnu\",IF($H56=99,\"Interrompu\",$D56)),0),\"Non requis\")","v":362713},{"$f":"IF(INTRO!$E$39=\"Endémique\", IF($I56>0, IF($I56=4,\"Inconnu\",IF($I56=99,\"Interrompu\",$D56)), 0),\"Non requis\")","v":362713},{"$f":"IF(INTRO!$E$41=\"Endémique\", IF($J56>1, IF($J56=4, \"Inconnu\", IF($J56=99, \"Surveillance\", E56)), 0),\"Non requis\")","v":0},{"$f":"IF(INTRO!$E$41=\"Endémique\", IF($J56>1, IF($J56=4, \"Inconnu\", IF($J56=99, \"Surveillance\", F56)), 0),\"Non requis\")","v":0},{"$f":"IF(INTRO!$E$41=\"Endémique\", IF($J56>1, IF($J56=4, \"Inconnu\", IF($J56=99, \"Surveillance\", ROUND(D56*INTRO!$E$51,0))), 0),\"Non requis\")","v":0},{"$f":"IF(INTRO!$E$41=\"Endémique\", IF($J56>1, IF($J56=4, \"Inconnu\", IF($J56=99, \"Surveillance\", SUM($N56:$P56))), 0),\"Non requis\")","v":0},{"$f":"IF(INTRO!$E$43=\"Endémique\", IF($K56>1, IF($K56=4, \"Inconnu\", IF($K56=99, \"Surveillance\", ROUND(E56*0.75,0))), 0),\"Non requis\")","v":34521},0,{"$f":"IF(INTRO!$E$43=\"Endémique\", IF($K56>1, IF($K56=4, \"Inconnu\", IF($K56=99, \"Surveillance\", G56)), 0),\"Non requis\")","v":211679},{"$f":"IF(INTRO!$E$43=\"Endémique\", IF($K56>1, IF($K56=4, \"Inconnu\", IF($K56=99, \"Surveillance\", SUM($R56:$T56))), 0),\"Non requis\")","v":246200},0,1,0,0,null,null,null,null,null,null,null,null,15372,"OUME"]
[{"$f":"IF(INTRO!$E$33<>0,INTRO!$E$33, \" \")","v":"Côte d'Ivoire"},"GONTOUGO","BONDOUKOU",393539,{"$f":"IF(INTRO!$E$48=\"\",\"\",ROUND($D57*INTRO!$E$48,0))","v":49940},{"$f":"IF(INTRO!$E$49=\"\",\"\",ROUND($D57*INTRO!$E$49,0))","v":100116},{"$f":"IF(INTRO!$E$50=\"\",\"\",ROUND($D57*INTRO!$E$50,0))","v":229669},99,1,1,1,{"$f":"IF(INTRO!$E$37=\"Endémique\",IF($H57>0,IF($H57=4,\"Inconnu\",IF($H57=99,\"Interrompu\",$D57)),0),\"Non requis\")","v":"Interrompu"},{"$f":"IF(INTRO!$E$39=\"Endémique\", IF($I57>0, IF($I57=4,\"Inconnu\",IF($I57=99,\"Interrompu\",$D57)), 0),\"Non requis\")","v":393539},{"$f":"IF(INTRO!$E$41=\"Endémique\", IF($J57>1, IF($J57=4, \"Inconnu\", IF($J57=99, \"Surveillance\", E57)), 0),\"Non requis\")","v":0},{"$f":"IF(INTRO!$E$41=\"Endémique\", IF($J57>1, IF($J57=4, \"Inconnu\", IF($J57=99, \"Surveillance\", F57)), 0),\"Non requis\")","v":0},{"$f":"IF(INTRO!$E$41=\"Endémique\", IF($J57>1, IF($J57=4, \"Inconnu\", IF($J57=99, \"Surveillance\", ROUND(D57*INTRO!$E$51,0))), 0),\"Non requis\")","v":0},{"$f":"IF(INTRO!$E$41=\"Endémique\", IF($J57>1, IF($J57=4, \"Inconnu\", IF($J57=99, \"Surveillance\", SUM($N57:$P57))), 0),\"Non requis\")","v":0},{"$f":"IF(INTRO!$E$43=\"Endémique\", IF($K57>1, IF($K57=4, \"Inconnu\", IF($K57=99, \"Surveillance\", ROUND(E57*0.75,0))), 0),\"Non requis\")","v":0},0,{"$f":"IF(INTRO!$E$43=\"Endémique\", IF($K57>1, IF($K57=4, \"Inconnu\", IF($K57=99, \"Surveillance\", G57)), 0),\"Non requis\")","v":0},{"$f":"IF(INTRO!$E$43=\"Endémique\", IF($K57>1, IF($K57=4, \"Inconnu\", IF($K57=99, \"Surveillance\", SUM($R57:$T57))), 0),\"Non requis\")","v":0},0,1,0,0,null,null,null,null,null,null,null,null,15421,"BONDOUKOU"]
[{"$f":"IF(INTRO!$E$33<>0,INTRO!$E$33, \" \")","v":"Côte d'Ivoire"},"GONTOUGO","KOUNFAO",137069,{"$f":"IF(INTRO!$E$48=\"\",\"\",ROUND($D58*INTRO!$E$48,0))","v":17394},{"$f":"IF(INTRO!$E$49=\"\",\"\",ROUND($D58*INTRO!$E$49,0))","v":34870},{"$f":"IF(INTRO!$E$50=\"\",\"\",ROUND($D58*INTRO!$E$50,0))","v":79993},99,1,2,0,{"$f":"IF(INTRO!$E$37=\"Endémique\",IF($H58>0,IF($H58=4,\"Inconnu\",IF($H58=99,\"Interrompu\",$D58)),0),\"Non requis\")","v":"Interrompu"},{"$f":"IF(INTRO!$E$39=\"Endémique\", IF($I58>0, IF($I58=4,\"Inconnu\",IF($I58=99,\"Interrompu\",$D58)), 0),\"Non requis\")","v":137069},{"$f":"IF(INTRO!$E$41=\"Endémique\", IF($J58>1, IF($J58=4, \"Inconnu\", IF($J58=99, \"Surveillance\", E58)), 0),\"Non requis\")","v":17394},{"$f":"IF(INTRO!$E$41=\"Endémique\", IF($J58>1, IF($J58=4, \"Inconnu\", IF($J58=99, \"Surveillance\", F58)), 0),\"Non requis\")","v":34870},{"$f":"IF(INTRO!$E$41=\"Endémique\", IF($J58>1, IF($J58=4, \"Inconnu\", IF($J58=99, \"Surveillance\", ROUND(D58*INTRO!$E$51,0))), 0),\"Non requis\")","v":33075},{"$f":"IF(INTRO!$E$41=\"Endémique\", IF($J58>1, IF($J58=4, \"Inconnu\", IF($J58=99, \"Surveillance\", SUM($N58:$P58))), 0),\"Non requis\")","v":85339},{"$f":"IF(INTRO!$E$43=\"Endémique\", IF($K58>1, IF($K58=4, \"Inconnu\", IF($K58=99, \"Surveillance\", ROUND(E58*0.75,0))), 0),\"Non requis\")","v":0},0,{"$f":"IF(INTRO!$E$43=\"Endémique\", IF($K58>1, IF($K58=4, \"Inconnu\", IF($K58=99, \"Surveillance\", G58)), 0),\"Non requis\")","v":0},{"$f":"IF(INTRO!$E$43=\"Endémique\", IF($K58>1, IF($K58=4, \"Inconnu\", IF($K58=99, \"Surveillance\", SUM($R58:$T58))), 0),\"Non requis\")","v":0},0,1,1,0,null,null,null,null,null,null,null,null,15427,"KOUN-FAO"]
[{"$f":"IF(INTRO!$E$33<>0,INTRO!$E$33, \" \")","v":"Côte d'Ivoire"},"GONTOUGO","SANDEGUE",66292,{"$f":"IF(INTRO!$E$48=\"\",\"\",ROUND($D59*INTRO!$E$48,0))","v":8412},{"$f":"IF(INTRO!$E$49=\"\",\"\",ROUND($D59*INTRO!$E$49,0))","v":16865},{"$f":"IF(INTRO!$E$50=\"\",\"\",ROUND($D59*INTRO!$E$50,0))","v":38688},99,1,1,0,{"$f":"IF(INTRO!$E$37=\"Endémique\",IF($H59>0,IF($H59=4,\"Inconnu\",IF($H59=99,\"Interrompu\",$D59)),0),\"Non requis\")","v":"Interrompu"},{"$f":"IF(INTRO!$E$39=\"Endémique\", IF($I59>0, IF($I59=4,\"Inconnu\",IF($I59=99,\"Interrompu\",$D59)), 0),\"Non requis\")","v":66292},{"$f":"IF(INTRO!$E$41=\"Endémique\", IF($J59>1, IF($J59=4, \"Inconnu\", IF($J59=99, \"Surveillance\", E59)), 0),\"Non requis\")","v":0},{"$f":"IF(INTRO!$E$41=\"Endémique\", IF($J59>1, IF($J59=4, \"Inconnu\", IF($J59=99, \"Surveillance\", F59)), 0),\"Non requis\")","v":0},{"$f":"IF(INTRO!$E$41=\"Endémique\", IF($J59>1, IF($J59=4, \"Inconnu\", IF($J59=99, \"Surveillance\", ROUND(D59*INTRO!$E$51,0))), 0),\"Non requis\")","v":0},{"$f":"IF(INTRO!$E$41=\"Endémique\", IF($J59>1, IF($J59=4, \"Inconnu\", IF($J59=99, \"Surveillance\", SUM($N59:$P59))), 0),\"Non requis\")","v":0},{"$f":"IF(INTRO!$E$43=\"Endémique\", IF($K59>1, IF($K59=4, \"Inconnu\", IF($K59=99, \"Surveillance\", ROUND(E59*0.75,0))), 0),\"Non requis\")","v":0},0,{"$f":"IF(INTRO!$E$43=\"Endémique\", IF($K59>1, IF($K59=4, \"Inconnu\", IF($K59=99, \"Surveillance\", G59)), 0),\"Non requis\")","v":0},{"$f":"IF(INTRO!$E$43=\"Endémique\", IF($K59>1, IF($K59=4, \"Inconnu\", IF($K59=99, \"Surveillance\", SUM($R59:$T59))), 0),\"Non requis\")","v":0},0,1,0,0,null,null,null,null,null,null,null,null,15422,"SANDEGUE"]
[{"$f":"IF(INTRO!$E$33<>0,INTRO!$E$33, \" \")","v":"Côte d'Ivoire"},"GONTOUGO","TANDA",91460,{"$f":"IF(INTRO!$E$48=\"\",\"\",ROUND($D60*INTRO!$E$48,0))","v":11606},{"$f":"IF(INTRO!$E$49=\"\",\"\",ROUND($D60*INTRO!$E$49,0))","v":23267},{"$f":"IF(INTRO!$E$50=\"\",\"\",ROUND($D60*INTRO!$E$50,0))","v":53376},99,1,2,0,{"$f":"IF(INTRO!$E$37=\"Endémique\",IF($H60>0,IF($H60=4,\"Inconnu\",IF($H60=99,\"Interrompu\",$D60)),0),\"Non requis\")","v":"Interrompu"},{"$f":"IF(INTRO!$E$39=\"Endémique\", IF($I60>0, IF($I60=4,\"Inconnu\",IF($I60=99,\"Interrompu\",$D60)), 0),\"Non requis\")","v":91460},{"$f":"IF(INTRO!$E$41=\"Endémique\", IF($J60>1, IF($J60=4, \"Inconnu\", IF($J60=99, \"Surveillance\", E60)), 0),\"Non requis\")","v":11606},{"$f":"IF(INTRO!$E$41=\"Endémique\", IF($J60>1, IF($J60=4, \"Inconnu\", IF($J60=99, \"Surveillance\", F60)), 0),\"Non requis\")","v":23267},{"$f":"IF(INTRO!$E$41=\"Endémique\", IF($J60>1, IF($J60=4, \"Inconnu\", IF($J60=99, \"Surveillance\", ROUND(D60*INTRO!$E$51,0))), 0),\"Non requis\")","v":22069},{"$f":"IF(INTRO!$E$41=\"Endémique\", IF($J60>1, IF($J60=4, \"Inconnu\", IF($J60=99, \"Surveillance\", SUM($N60:$P60))), 0),\"Non requis\")","v":56942},{"$f":"IF(INTRO!$E$43=\"Endémique\", IF($K60>1, IF($K60=4, \"Inconnu\", IF($K60=99, \"Surveillance\", ROUND(E60*0.75,0))), 0),\"Non requis\")","v":0},0,{"$f":"IF(INTRO!$E$43=\"Endémique\", IF($K60>1, IF($K60=4, \"Inconnu\", IF($K60=99, \"Surveillance\", G60)), 0),\"Non requis\")","v":0},{"$f":"IF(INTRO!$E$43=\"Endémique\", IF($K60>1, IF($K60=4, \"Inconnu\", IF($K60=99, \"Surveillance\", SUM($R60:$T60))), 0),\"Non requis\")","v":0},0,1,1,0,null,null,null,null,null,null,null,null,15426,"TANDA"]
[{"$f":"IF(INTRO!$E$33<>0,INTRO!$E$33, \" \")","v":"Côte d'Ivoire"},"GONTOUGO","TRANSUA",98444,{"$f":"IF(INTRO!$E$48=\"\",\"\",ROUND($D61*INTRO!$E$48,0))","v":12493},{"$f":"IF(INTRO!$E$49=\"\",\"\",ROUND($D61*INTRO!$E$49,0))","v":25044},{"$f":"IF(INTRO!$E$50=\"\",\"\",ROUND($D61*INTRO!$E$50,0))","v":57452},99,1,2,0,{"$f":"IF(INTRO!$E$37=\"Endémique\",IF($H61>0,IF($H61=4,\"Inconnu\",IF($H61=99,\"Interrompu\",$D61)),0),\"Non requis\")","v":"Interrompu"},{"$f":"IF(INTRO!$E$39=\"Endémique\", IF($I61>0, IF($I61=4,\"Inconnu\",IF($I61=99,\"Interrompu\",$D61)), 0),\"Non requis\")","v":98444},{"$f":"IF(INTRO!$E$41=\"Endémique\", IF($J61>1, IF($J61=4, \"Inconnu\", IF($J61=99, \"Surveillance\", E61)), 0),\"Non requis\")","v":12493},{"$f":"IF(INTRO!$E$41=\"Endémique\", IF($J61>1, IF($J61=4, \"Inconnu\", IF($J61=99, \"Surveillance\", F61)), 0),\"Non requis\")","v":25044},{"$f":"IF(INTRO!$E$41=\"Endémique\", IF($J61>1, IF($J61=4, \"Inconnu\", IF($J61=99, \"Surveillance\", ROUND(D61*INTRO!$E$51,0))), 0),\"Non requis\")","v":23755},{"$f":"IF(INTRO!$E$41=\"Endémique\", IF($J61>1, IF($J61=4, \"Inconnu\", IF($J61=99, \"Surveillance\", SUM($N61:$P61))), 0),\"Non requis\")","v":61292},{"$f":"IF(INTRO!$E$43=\"Endémique\", IF($K61>1, IF($K61=4, \"Inconnu\", IF($K61=99, \"Surveillance\", ROUND(E61*0.75,0))), 0),\"Non requis\")","v":0},0,{"$f":"IF(INTRO!$E$43=\"Endémique\", IF($K61>1, IF($K61=4, \"Inconnu\", IF($K61=99, \"Surveillance\", G61)), 0),\"Non requis\")","v":0},{"$f":"IF(INTRO!$E$43=\"Endémique\", IF($K61>1, IF($K61=4, \"Inconnu\", IF($K61=99, \"Surveillance\", SUM($R61:$T61))), 0),\"Non requis\")","v":0},0,1,1,0,null,null,null,null,null,null,null,null,15428,"TRANSUA"]
[{"$f":"IF(INTRO!$E$33<>0,INTRO!$E$33, \" \")","v":"Côte d'Ivoire"},"GRANDS PONTS","DABOU",171401,{"$f":"IF(INTRO!$E$48=\"\",\"\",ROUND($D62*INTRO!$E$48,0))","v":21751},{"$f":"IF(INTRO!$E$49=\"\",\"\",ROUND($D62*INTRO!$E$49,0))","v":43604},{"$f":"IF(INTRO!$E$50=\"\",\"\",ROUND($D62*INTRO!$E$50,0))","v":100030},19,1,2,1,{"$f":"IF(INTRO!$E$37=\"Endémique\",IF($H62>0,IF($H62=4,\"Inconnu\",IF($H62=99,\"Interrompu\",$D62)),0),\"Non requis\")","v":171401},{"$f":"IF(INTRO!$E$39=\"Endémique\", IF($I62>0, IF($I62=4,\"Inconnu\",IF($I62=99,\"Interrompu\",$D62)), 0),\"Non requis\")","v":171401},{"$f":"IF(INTRO!$E$41=\"Endémique\", IF($J62>1, IF($J62=4, \"Inconnu\", IF($J62=99, \"Surveillance\", E62)), 0),\"Non requis\")","v":21751},{"$f":"IF(INTRO!$E$41=\"Endémique\", IF($J62>1, IF($J62=4, \"Inconnu\", IF($J62=99, \"Surveillance\", F62)), 0),\"Non requis\")","v":43604},{"$f":"IF(INTRO!$E$41=\"Endémique\", IF($J62>1, IF($J62=4, \"Inconnu\", IF($J62=99, \"Surveillance\", ROUND(D62*INTRO!$E$51,0))), 0),\"Non requis\")","v":41359},{"$f":"IF(INTRO!$E$41=\"Endémique\", IF($J62>1, IF($J62=4, \"Inconnu\", IF($J62=99, \"Surveillance\", SUM($N62:$P62))), 0),\"Non requis\")","v":106714},{"$f":"IF(INTRO!$E$43=\"Endémique\", IF($K62>1, IF($K62=4, \"Inconnu\", IF($K62=99, \"Surveillance\", ROUND(E62*0.75,0))), 0),\"Non requis\")","v":0},41445,{"$f":"IF(INTRO!$E$43=\"Endémique\", IF($K62>1, IF($K62=4, \"Inconnu\", IF($K62=99, \"Surveillance\", G62)), 0),\"Non requis\")","v":0},{"$f":"IF(INTRO!$E$43=\"Endémique\", IF($K62>1, IF($K62=4, \"Inconnu\", IF($K62=99, \"Surveillance\", SUM($R62:$T62))), 0),\"Non requis\")","v":0},0,1,1,1,null,"TAS",null,null,null,null,null,null,15330,"DABOU"]
[{"$f":"IF(INTRO!$E$33<>0,INTRO!$E$33, \" \")","v":"Côte d'Ivoire"},"GRANDS PONTS","GRAND-LAHOU",174210,{"$f":"IF(INTRO!$E$48=\"\",\"\",ROUND($D63*INTRO!$E$48,0))","v":22107},{"$f":"IF(INTRO!$E$49=\"\",\"\",ROUND($D63*INTRO!$E$49,0))","v":44319},{"$f":"IF(INTRO!$E$50=\"\",\"\",ROUND($D63*INTRO!$E$50,0))","v":101669},19,0,2,1,{"$f":"IF(INTRO!$E$37=\"Endémique\",IF($H63>0,IF($H63=4,\"Inconnu\",IF($H63=99,\"Interrompu\",$D63)),0),\"Non requis\")","v":174210},{"$f":"IF(INTRO!$E$39=\"Endémique\", IF($I63>0, IF($I63=4,\"Inconnu\",IF($I63=99,\"Interrompu\",$D63)), 0),\"Non requis\")","v":0},{"$f":"IF(INTRO!$E$41=\"Endémique\", IF($J63>1, IF($J63=4, \"Inconnu\", IF($J63=99, \"Surveillance\", E63)), 0),\"Non requis\")","v":22107},{"$f":"IF(INTRO!$E$41=\"Endémique\", IF($J63>1, IF($J63=4, \"Inconnu\", IF($J63=99, \"Surveillance\", F63)), 0),\"Non requis\")","v":44319},{"$f":"IF(INTRO!$E$41=\"Endémique\", IF($J63>1, IF($J63=4, \"Inconnu\", IF($J63=99, \"Surveillance\", ROUND(D63*INTRO!$E$51,0))), 0),\"Non requis\")","v":42037},{"$f":"IF(INTRO!$E$41=\"Endémique\", IF($J63>1, IF($J63=4, \"Inconnu\", IF($J63=99, \"Surveillance\", SUM($N63:$P63))), 0),\"Non requis\")","v":108463},{"$f":"IF(INTRO!$E$43=\"Endémique\", IF($K63>1, IF($K63=4, \"Inconnu\", IF($K63=99, \"Surveillance\", ROUND(E63*0.75,0))), 0),\"Non requis\")","v":0},37184,{"$f":"IF(INTRO!$E$43=\"Endémique\", IF($K63>1, IF($K63=4, \"Inconnu\", IF($K63=99, \"Surveillance\", G63)), 0),\"Non requis\")","v":0},{"$f":"IF(INTRO!$E$43=\"Endémique\", IF($K63>1, IF($K63=4, \"Inconnu\", IF($K63=99, \"Surveillance\", SUM($R63:$T63))), 0),\"Non requis\")","v":0},0,0,1,1,null,null,null,null,null,null,null,null,15331,"GRAND-LAHOU"]
[{"$f":"IF(INTRO!$E$33<>0,INTRO!$E$33, \" \")","v":"Côte d'Ivoire"},"GRANDS PONTS","JACQUEVILLE",64829,{"$f":"IF(INTRO!$E$48=\"\",\"\",ROUND($D64*INTRO!$E$48,0))","v":8227},{"$f":"IF(INTRO!$E$49=\"\",\"\",ROUND($D64*INTRO!$E$49,0))","v":16492},{"$f":"IF(INTRO!$E$50=\"\",\"\",ROUND($D64*INTRO!$E$50,0))","v":37834},19,0,2,1,{"$f":"IF(INTRO!$E$37=\"Endémique\",IF($H64>0,IF($H64=4,\"Inconnu\",IF($H64=99,\"Interrompu\",$D64)),0),\"Non requis\")","v":64829},{"$f":"IF(INTRO!$E$39=\"Endémique\", IF($I64>0, IF($I64=4,\"Inconnu\",IF($I64=99,\"Interrompu\",$D64)), 0),\"Non requis\")","v":0},{"$f":"IF(INTRO!$E$41=\"Endémique\", IF($J64>1, IF($J64=4, \"Inconnu\", IF($J64=99, \"Surveillance\", E64)), 0),\"Non requis\")","v":8227},{"$f":"IF(INTRO!$E$41=\"Endémique\", IF($J64>1, IF($J64=4, \"Inconnu\", IF($J64=99, \"Surveillance\", F64)), 0),\"Non requis\")","v":16492},{"$f":"IF(INTRO!$E$41=\"Endémique\", IF($J64>1, IF($J64=4, \"Inconnu\", IF($J64=99, \"Surveillance\", ROUND(D64*INTRO!$E$51,0))), 0),\"Non requis\")","v":15643},{"$f":"IF(INTRO!$E$41=\"Endémique\", IF($J64>1, IF($J64=4, \"Inconnu\", IF($J64=99, \"Surveillance\", SUM($N64:$P64))), 0),\"Non requis\")","v":40362},{"$f":"IF(INTRO!$E$43=\"Endémique\", IF($K64>1, IF($K64=4, \"Inconnu\", IF($K64=99, \"Surveillance\", ROUND(E64*0.75,0))), 0),\"Non requis\")","v":0},12757,{"$f":"IF(INTRO!$E$43=\"Endémique\", IF($K64>1, IF($K64=4, \"Inconnu\", IF($K64=99, \"Surveillance\", G64)), 0),\"Non requis\")","v":0},{"$f":"IF(INTRO!$E$43=\"Endémique\", IF($K64>1, IF($K64=4, \"Inconnu\", IF($K64=99, \"Surveillance\", SUM($R64:$T64))), 0),\"Non requis\")","v":0},0,0,1,1,null,null,null,null,null,null,null,null,15332,"JACQUEVILLE"]
[{"$f":"IF(INTRO!$E$33<>0,INTRO!$E$33, \" \")","v":"Côte d'Ivoire"},"GUEMON","BANGOLO",415037,{"$f":"IF(INTRO!$E$48=\"\",\"\",ROUND($D65*INTRO!$E$48,0))","v":52668},{"$f":"IF(INTRO!$E$49=\"\",\"\",ROUND($D65*INTRO!$E$49,0))","v":105585},{"$f":"IF(INTRO!$E$50=\"\",\"\",ROUND($D65*INTRO!$E$50,0))","v":242216},19,1,1,3,{"$f":"IF(INTRO!$E$37=\"Endémique\",IF($H65>0,IF($H65=4,\"Inconnu\",IF($H65=99,\"Interrompu\",$D65)),0),\"Non requis\")","v":415037},{"$f":"IF(INTRO!$E$39=\"Endémique\", IF($I65>0, IF($I65=4,\"Inconnu\",IF($I65=99,\"Interrompu\",$D65)), 0),\"Non requis\")","v":415037},{"$f":"IF(INTRO!$E$41=\"Endémique\", IF($J65>1, IF($J65=4, \"Inconnu\", IF($J65=99, \"Surveillance\", E65)), 0),\"Non requis\")","v":0},{"$f":"IF(INTRO!$E$41=\"Endémique\", IF($J65>1, IF($J65=4, \"Inconnu\", IF($J65=99, \"Surveillance\", F65)), 0),\"Non requis\")","v":0},{"$f":"IF(INTRO!$E$41=\"Endémique\", IF($J65>1, IF($J65=4, \"Inconnu\", IF($J65=99, \"Surveillance\", ROUND(D65*INTRO!$E$51,0))), 0),\"Non requis\")","v":0},{"$f":"IF(INTRO!$E$41=\"Endémique\", IF($J65>1, IF($J65=4, \"Inconnu\", IF($J65=99, \"Surveillance\", SUM($N65:$P65))), 0),\"Non requis\")","v":0},{"$f":"IF(INTRO!$E$43=\"Endémique\", IF($K65>1, IF($K65=4, \"Inconnu\", IF($K65=99, \"Surveillance\", ROUND(E65*0.75,0))), 0),\"Non requis\")","v":39501},106185,{"$f":"IF(INTRO!$E$43=\"Endémique\", IF($K65>1, IF($K65=4, \"Inconnu\", IF($K65=99, \"Surveillance\", G65)), 0),\"Non requis\")","v":242216},{"$f":"IF(INTRO!$E$43=\"Endémique\", IF($K65>1, IF($K65=4, \"Inconnu\", IF($K65=99, \"Surveillance\", SUM($R65:$T65))), 0),\"Non requis\")","v":387902},0,1,0,1,null,null,null,null,null,null,null,null,15355,"BANGOLO"]
[{"$f":"IF(INTRO!$E$33<>0,INTRO!$E$33, \" \")","v":"Côte d'Ivoire"},"GUEMON","DUEKOUE",532479,{"$f":"IF(INTRO!$E$48=\"\",\"\",ROUND($D66*INTRO!$E$48,0))","v":67572},{"$f":"IF(INTRO!$E$49=\"\",\"\",ROUND($D66*INTRO!$E$49,0))","v":135463},{"$f":"IF(INTRO!$E$50=\"\",\"\",ROUND($D66*INTRO!$E$50,0))","v":310755},19,1,1,2,{"$f":"IF(INTRO!$E$37=\"Endémique\",IF($H66>0,IF($H66=4,\"Inconnu\",IF($H66=99,\"Interrompu\",$D66)),0),\"Non requis\")","v":532479},{"$f":"IF(INTRO!$E$39=\"Endémique\", IF($I66>0, IF($I66=4,\"Inconnu\",IF($I66=99,\"Interrompu\",$D66)), 0),\"Non requis\")","v":532479},{"$f":"IF(INTRO!$E$41=\"Endémique\", IF($J66>1, IF($J66=4, \"Inconnu\", IF($J66=99, \"Surveillance\", E66)), 0),\"Non requis\")","v":0},{"$f":"IF(INTRO!$E$41=\"Endémique\", IF($J66>1, IF($J66=4, \"Inconnu\", IF($J66=99, \"Surveillance\", F66)), 0),\"Non requis\")","v":0},{"$f":"IF(INTRO!$E$41=\"Endémique\", IF($J66>1, IF($J66=4, \"Inconnu\", IF($J66=99, \"Surveillance\", ROUND(D66*INTRO!$E$51,0))), 0),\"Non requis\")","v":0},{"$f":"IF(INTRO!$E$41=\"Endémique\", IF($J66>1, IF($J66=4, \"Inconnu\", IF($J66=99, \"Surveillance\", SUM($N66:$P66))), 0),\"Non requis\")","v":0},{"$f":"IF(INTRO!$E$43=\"Endémique\", IF($K66>1, IF($K66=4, \"Inconnu\", IF($K66=99, \"Surveillance\", ROUND(E66*0.75,0))), 0),\"Non requis\")","v":50679},0,{"$f":"IF(INTRO!$E$43=\"Endémique\", IF($K66>1, IF($K66=4, \"Inconnu\", IF($K66=99, \"Surveillance\", G66)), 0),\"Non requis\")","v":310755},{"$f":"IF(INTRO!$E$43=\"Endémique\", IF($K66>1, IF($K66=4, \"Inconnu\", IF($K66=99, \"Surveillance\", SUM($R66:$T66))), 0),\"Non requis\")","v":361434},0,1,0,0,null,null,null,null,null,null,null,null,15357,"DUEKOUE"]
[{"$f":"IF(INTRO!$E$33<>0,INTRO!$E$33, \" \")","v":"Côte d'Ivoire"},"GUEMON","KOUIBLY",251943,{"$f":"IF(INTRO!$E$48=\"\",\"\",ROUND($D67*INTRO!$E$48,0))","v":31972},{"$f":"IF(INTRO!$E$49=\"\",\"\",ROUND($D67*INTRO!$E$49,0))","v":64094},{"$f":"IF(INTRO!$E$50=\"\",\"\",ROUND($D67*INTRO!$E$50,0))","v":147034},19,1,1,2,{"$f":"IF(INTRO!$E$37=\"Endémique\",IF($H67>0,IF($H67=4,\"Inconnu\",IF($H67=99,\"Interrompu\",$D67)),0),\"Non requis\")","v":251943},{"$f":"IF(INTRO!$E$39=\"Endémique\", IF($I67>0, IF($I67=4,\"Inconnu\",IF($I67=99,\"Interrompu\",$D67)), 0),\"Non requis\")","v":251943},{"$f":"IF(INTRO!$E$41=\"Endémique\", IF($J67>1, IF($J67=4, \"Inconnu\", IF($J67=99, \"Surveillance\", E67)), 0),\"Non requis\")","v":0},{"$f":"IF(INTRO!$E$41=\"Endémique\", IF($J67>1, IF($J67=4, \"Inconnu\", IF($J67=99, \"Surveillance\", F67)), 0),\"Non requis\")","v":0},{"$f":"IF(INTRO!$E$41=\"Endémique\", IF($J67>1, IF($J67=4, \"Inconnu\", IF($J67=99, \"Surveillance\", ROUND(D67*INTRO!$E$51,0))), 0),\"Non requis\")","v":0},{"$f":"IF(INTRO!$E$41=\"Endémique\", IF($J67>1, IF($J67=4, \"Inconnu\", IF($J67=99, \"Surveillance\", SUM($N67:$P67))), 0),\"Non requis\")","v":0},{"$f":"IF(INTRO!$E$43=\"Endémique\", IF($K67>1, IF($K67=4, \"Inconnu\", IF($K67=99, \"Surveillance\", ROUND(E67*0.75,0))), 0),\"Non requis\")","v":23979},0,{"$f":"IF(INTRO!$E$43=\"Endémique\", IF($K67>1, IF($K67=4, \"Inconnu\", IF($K67=99, \"Surveillance\", G67)), 0),\"Non requis\")","v":147034},{"$f":"IF(INTRO!$E$43=\"Endémique\", IF($K67>1, IF($K67=4, \"Inconnu\", IF($K67=99, \"Surveillance\", SUM($R67:$T67))), 0),\"Non requis\")","v":171013},0,1,0,0,null,null,null,null,null,null,null,null,15359,"KOUIBLY"]
[{"$f":"IF(INTRO!$E$33<>0,INTRO!$E$33, \" \")","v":"Côte d'Ivoire"},"HAMBOL","DABAKALA",245307,{"$f":"IF(INTRO!$E$48=\"\",\"\",ROUND($D68*INTRO!$E$48,0))","v":31129},{"$f":"IF(INTRO!$E$49=\"\",\"\",ROUND($D68*INTRO!$E$49,0))","v":62406},{"$f":"IF(INTRO!$E$50=\"\",\"\",ROUND($D68*INTRO!$E$50,0))","v":143161},99,1,1,1,{"$f":"IF(INTRO!$E$37=\"Endémique\",IF($H68>0,IF($H68=4,\"Inconnu\",IF($H68=99,\"Interrompu\",$D68)),0),\"Non requis\")","v":"Interrompu"},{"$f":"IF(INTRO!$E$39=\"Endémique\", IF($I68>0, IF($I68=4,\"Inconnu\",IF($I68=99,\"Interrompu\",$D68)), 0),\"Non requis\")","v":245307},{"$f":"IF(INTRO!$E$41=\"Endémique\", IF($J68>1, IF($J68=4, \"Inconnu\", IF($J68=99, \"Surveillance\", E68)), 0),\"Non requis\")","v":0},{"$f":"IF(INTRO!$E$41=\"Endémique\", IF($J68>1, IF($J68=4, \"Inconnu\", IF($J68=99, \"Surveillance\", F68)), 0),\"Non requis\")","v":0},{"$f":"IF(INTRO!$E$41=\"Endémique\", IF($J68>1, IF($J68=4, \"Inconnu\", IF($J68=99, \"Surveillance\", ROUND(D68*INTRO!$E$51,0))), 0),\"Non requis\")","v":0},{"$f":"IF(INTRO!$E$41=\"Endémique\", IF($J68>1, IF($J68=4, \"Inconnu\", IF($J68=99, \"Surveillance\", SUM($N68:$P68))), 0),\"Non requis\")","v":0},{"$f":"IF(INTRO!$E$43=\"Endémique\", IF($K68>1, IF($K68=4, \"Inconnu\", IF($K68=99, \"Surveillance\", ROUND(E68*0.75,0))), 0),\"Non requis\")","v":0},0,{"$f":"IF(INTRO!$E$43=\"Endémique\", IF($K68>1, IF($K68=4, \"Inconnu\", IF($K68=99, \"Surveillance\", G68)), 0),\"Non requis\")","v":0},{"$f":"IF(INTRO!$E$43=\"Endémique\", IF($K68>1, IF($K68=4, \"Inconnu\", IF($K68=99, \"Surveillance\", SUM($R68:$T68))), 0),\"Non requis\")","v":0},0,1,0,0,null,null,null,null,null,null,null,null,15373,"DABAKALA"]
[{"$f":"IF(INTRO!$E$33<>0,INTRO!$E$33, \" \")","v":"Côte d'Ivoire"},"HAMBOL","KATIOLA",138565,{"$f":"IF(INTRO!$E$48=\"\",\"\",ROUND($D69*INTRO!$E$48,0))","v":17584},{"$f":"IF(INTRO!$E$49=\"\",\"\",ROUND($D69*INTRO!$E$49,0))","v":35251},{"$f":"IF(INTRO!$E$50=\"\",\"\",ROUND($D69*INTRO!$E$50,0))","v":80867},99,1,1,3,{"$f":"IF(INTRO!$E$37=\"Endémique\",IF($H69>0,IF($H69=4,\"Inconnu\",IF($H69=99,\"Interrompu\",$D69)),0),\"Non requis\")","v":"Interrompu"},{"$f":"IF(INTRO!$E$39=\"Endémique\", IF($I69>0, IF($I69=4,\"Inconnu\",IF($I69=99,\"Interrompu\",$D69)), 0),\"Non requis\")","v":138565},{"$f":"IF(INTRO!$E$41=\"Endémique\", IF($J69>1, IF($J69=4, \"Inconnu\", IF($J69=99, \"Surveillance\", E69)), 0),\"Non requis\")","v":0},{"$f":"IF(INTRO!$E$41=\"Endémique\", IF($J69>1, IF($J69=4, \"Inconnu\", IF($J69=99, \"Surveillance\", F69)), 0),\"Non requis\")","v":0},{"$f":"IF(INTRO!$E$41=\"Endémique\", IF($J69>1, IF($J69=4, \"Inconnu\", IF($J69=99, \"Surveillance\", ROUND(D69*INTRO!$E$51,0))), 0),\"Non requis\")","v":0},{"$f":"IF(INTRO!$E$41=\"Endémique\", IF($J69>1, IF($J69=4, \"Inconnu\", IF($J69=99, \"Surveillance\", SUM($N69:$P69))), 0),\"Non requis\")","v":0},{"$f":"IF(INTRO!$E$43=\"Endémique\", IF($K69>1, IF($K69=4, \"Inconnu\", IF($K69=99, \"Surveillance\", ROUND(E69*0.75,0))), 0),\"Non requis\")","v":13188},27527,{"$f":"IF(INTRO!$E$43=\"Endémique\", IF($K69>1, IF($K69=4, \"Inconnu\", IF($K69=99, \"Surveillance\", G69)), 0),\"Non requis\")","v":80867},{"$f":"IF(INTRO!$E$43=\"Endémique\", IF($K69>1, IF($K69=4, \"Inconnu\", IF($K69=99, \"Surveillance\", SUM($R69:$T69))), 0),\"Non requis\")","v":121582},0,1,0,1,null,null,null,null,null,null,null,null,15374,"KATIOLA"]
[{"$f":"IF(INTRO!$E$33<>0,INTRO!$E$33, \" \")","v":"Côte d'Ivoire"},"HAMBOL","NIAKARA",173451,{"$f":"IF(INTRO!$E$48=\"\",\"\",ROUND($D70*INTRO!$E$48,0))","v":22011},{"$f":"IF(INTRO!$E$49=\"\",\"\",ROUND($D70*INTRO!$E$49,0))","v":44126},{"$f":"IF(INTRO!$E$50=\"\",\"\",ROUND($D70*INTRO!$E$50,0))","v":101226},99,1,1,1,{"$f":"IF(INTRO!$E$37=\"Endémique\",IF($H70>0,IF($H70=4,\"Inconnu\",IF($H70=99,\"Interrompu\",$D70)),0),\"Non requis\")","v":"Interrompu"},{"$f":"IF(INTRO!$E$39=\"Endémique\", IF($I70>0, IF($I70=4,\"Inconnu\",IF($I70=99,\"Interrompu\",$D70)), 0),\"Non requis\")","v":173451},{"$f":"IF(INTRO!$E$41=\"Endémique\", IF($J70>1, IF($J70=4, \"Inconnu\", IF($J70=99, \"Surveillance\", E70)), 0),\"Non requis\")","v":0},{"$f":"IF(INTRO!$E$41=\"Endémique\", IF($J70>1, IF($J70=4, \"Inconnu\", IF($J70=99, \"Surveillance\", F70)), 0),\"Non requis\")","v":0},{"$f":"IF(INTRO!$E$41=\"Endémique\", IF($J70>1, IF($J70=4, \"Inconnu\", IF($J70=99, \"Surveillance\", ROUND(D70*INTRO!$E$51,0))), 0),\"Non requis\")","v":0},{"$f":"IF(INTRO!$E$41=\"Endémique\", IF($J70>1, IF($J70=4, \"Inconnu\", IF($J70=99, \"Surveillance\", SUM($N70:$P70))), 0),\"Non requis\")","v":0},{"$f":"IF(INTRO!$E$43=\"Endémique\", IF($K70>1, IF($K70=4, \"Inconnu\", IF($K70=99, \"Surveillance\", ROUND(E70*0.75,0))), 0),\"Non requis\")","v":0},0,{"$f":"IF(INTRO!$E$43=\"Endémique\", IF($K70>1, IF($K70=4, \"Inconnu\", IF($K70=99, \"Surveillance\", G70)), 0),\"Non requis\")","v":0},{"$f":"IF(INTRO!$E$43=\"Endémique\", IF($K70>1, IF($K70=4, \"Inconnu\", IF($K70=99, \"Surveillance\", SUM($R70:$T70))), 0),\"Non requis\")","v":0},0,1,0,0,null,null,null,null,null,null,null,null,15375,"NIAKARA"]
[{"$f":"IF(INTRO!$E$33<>0,INTRO!$E$33, \" \")","v":"Côte d'Ivoire"},"HAUT SASSANDRA","DALOA",684577,{"$f":"IF(INTRO!$E$48=\"\",\"\",ROUND($D71*INTRO!$E$48,0))","v":86873},{"$f":"IF(INTRO!$E$49=\"\",\"\",ROUND($D71*INTRO!$E$49,0))","v":174156},{"$f":"IF(INTRO!$E$50=\"\",\"\",ROUND($D71*INTRO!$E$50,0))","v":399519},19,1,1,1,{"$f":"IF(INTRO!$E$37=\"Endémique\",IF($H71>0,IF($H71=4,\"Inconnu\",IF($H71=99,\"Interrompu\",$D71)),0),\"Non requis\")","v":684577},{"$f":"IF(INTRO!$E$39=\"Endémique\", IF($I71>0, IF($I71=4,\"Inconnu\",IF($I71=99,\"Interrompu\",$D71)), 0),\"Non requis\")","v":684577},{"$f":"IF(INTRO!$E$41=\"Endémique\", IF($J71>1, IF($J71=4, \"Inconnu\", IF($J71=99, \"Surveillance\", E71)), 0),\"Non requis\")","v":0},{"$f":"IF(INTRO!$E$41=\"Endémique\", IF($J71>1, IF($J71=4, \"Inconnu\", IF($J71=99, \"Surveillance\", F71)), 0),\"Non requis\")","v":0},{"$f":"IF(INTRO!$E$41=\"Endémique\", IF($J71>1, IF($J71=4, \"Inconnu\", IF($J71=99, \"Surveillance\", ROUND(D71*INTRO!$E$51,0))), 0),\"Non requis\")","v":0},{"$f":"IF(INTRO!$E$41=\"Endémique\", IF($J71>1, IF($J71=4, \"Inconnu\", IF($J71=99, \"Surveillance\", SUM($N71:$P71))), 0),\"Non requis\")","v":0},{"$f":"IF(INTRO!$E$43=\"Endémique\", IF($K71>1, IF($K71=4, \"Inconnu\", IF($K71=99, \"Surveillance\", ROUND(E71*0.75,0))), 0),\"Non requis\")","v":0},175144,{"$f":"IF(INTRO!$E$43=\"Endémique\", IF($K71>1, IF($K71=4, \"Inconnu\", IF($K71=99, \"Surveillance\", G71)), 0),\"Non requis\")","v":0},{"$f":"IF(INTRO!$E$43=\"Endémique\", IF($K71>1, IF($K71=4, \"Inconnu\", IF($K71=99, \"Surveillance\", SUM($R71:$T71))), 0),\"Non requis\")","v":0},0,1,0,1,null,null,null,null,null,null,null,null,15435,"DALOA"]
[{"$f":"IF(INTRO!$E$33<>0,INTRO!$E$33, \" \")","v":"Côte d'Ivoire"},"HAUT SASSANDRA","ISSIA",379412,{"$f":"IF(INTRO!$E$48=\"\",\"\",ROUND($D72*INTRO!$E$48,0))","v":48147},{"$f":"IF(INTRO!$E$49=\"\",\"\",ROUND($D72*INTRO!$E$49,0))","v":96522},{"$f":"IF(INTRO!$E$50=\"\",\"\",ROUND($D72*INTRO!$E$50,0))","v":221425},19,1,2,3,{"$f":"IF(INTRO!$E$37=\"Endémique\",IF($H72>0,IF($H72=4,\"Inconnu\",IF($H72=99,\"Interrompu\",$D72)),0),\"Non requis\")","v":379412},{"$f":"IF(INTRO!$E$39=\"Endémique\", IF($I72>0, IF($I72=4,\"Inconnu\",IF($I72=99,\"Interrompu\",$D72)), 0),\"Non requis\")","v":379412},{"$f":"IF(INTRO!$E$41=\"Endémique\", IF($J72>1, IF($J72=4, \"Inconnu\", IF($J72=99, \"Surveillance\", E72)), 0),\"Non requis\")","v":48147},{"$f":"IF(INTRO!$E$41=\"Endémique\", IF($J72>1, IF($J72=4, \"Inconnu\", IF($J72=99, \"Surveillance\", F72)), 0),\"Non requis\")","v":96522},{"$f":"IF(INTRO!$E$41=\"Endémique\", IF($J72>1, IF($J72=4, \"Inconnu\", IF($J72=99, \"Surveillance\", ROUND(D72*INTRO!$E$51,0))), 0),\"Non requis\")","v":91552},{"$f":"IF(INTRO!$E$41=\"Endémique\", IF($J72>1, IF($J72=4, \"Inconnu\", IF($J72=99, \"Surveillance\", SUM($N72:$P72))), 0),\"Non requis\")","v":236221},{"$f":"IF(INTRO!$E$43=\"Endémique\", IF($K72>1, IF($K72=4, \"Inconnu\", IF($K72=99, \"Surveillance\", ROUND(E72*0.75,0))), 0),\"Non requis\")","v":36110},89905,{"$f":"IF(INTRO!$E$43=\"Endémique\", IF($K72>1, IF($K72=4, \"Inconnu\", IF($K72=99, \"Surveillance\", G72)), 0),\"Non requis\")","v":221425},{"$f":"IF(INTRO!$E$43=\"Endémique\", IF($K72>1, IF($K72=4, \"Inconnu\", IF($K72=99, \"Surveillance\", SUM($R72:$T72))), 0),\"Non requis\")","v":347440},0,1,1,1,null,null,null,null,null,null,null,null,15377,"ISSIA"]
[{"$f":"IF(INTRO!$E$33<>0,INTRO!$E$33, \" \")","v":"Côte d'Ivoire"},"HAUT SASSANDRA","VAVOUA",463894,{"$f":"IF(INTRO!$E$48=\"\",\"\",ROUND($D73*INTRO!$E$48,0))","v":58868},{"$f":"IF(INTRO!$E$49=\"\",\"\",ROUND($D73*INTRO!$E$49,0))","v":118015},{"$f":"IF(INTRO!$E$50=\"\",\"\",ROUND($D73*INTRO!$E$50,0))","v":270729},19,1,2,2,{"$f":"IF(INTRO!$E$37=\"Endémique\",IF($H73>0,IF($H73=4,\"Inconnu\",IF($H73=99,\"Interrompu\",$D73)),0),\"Non requis\")","v":463894},{"$f":"IF(INTRO!$E$39=\"Endémique\", IF($I73>0, IF($I73=4,\"Inconnu\",IF($I73=99,\"Interrompu\",$D73)), 0),\"Non requis\")","v":463894},{"$f":"IF(INTRO!$E$41=\"Endémique\", IF($J73>1, IF($J73=4, \"Inconnu\", IF($J73=99, \"Surveillance\", E73)), 0),\"Non requis\")","v":58868},{"$f":"IF(INTRO!$E$41=\"Endémique\", IF($J73>1, IF($J73=4, \"Inconnu\", IF($J73=99, \"Surveillance\", F73)), 0),\"Non requis\")","v":118015},{"$f":"IF(INTRO!$E$41=\"Endémique\", IF($J73>1, IF($J73=4, \"Inconnu\", IF($J73=99, \"Surveillance\", ROUND(D73*INTRO!$E$51,0))), 0),\"Non requis\")","v":111938},{"$f":"IF(INTRO!$E$41=\"Endémique\", IF($J73>1, IF($J73=4, \"Inconnu\", IF($J73=99, \"Surveillance\", SUM($N73:$P73))), 0),\"Non requis\")","v":288821},{"$f":"IF(INTRO!$E$43=\"Endémique\", IF($K73>1, IF($K73=4, \"Inconnu\", IF($K73=99, \"Surveillance\", ROUND(E73*0.75,0))), 0),\"Non requis\")","v":44151},0,{"$f":"IF(INTRO!$E$43=\"Endémique\", IF($K73>1, IF($K73=4, \"Inconnu\", IF($K73=99, \"Surveillance\", G73)), 0),\"Non requis\")","v":270729},{"$f":"IF(INTRO!$E$43=\"Endémique\", IF($K73>1, IF($K73=4, \"Inconnu\", IF($K73=99, \"Surveillance\", SUM($R73:$T73))), 0),\"Non requis\")","v":314880},0,1,1,0,null,null,null,null,null,null,null,null,15378,"VAVOUA"]
[{"$f":"IF(INTRO!$E$33<>0,INTRO!$E$33, \" \")","v":"Côte d'Ivoire"},"HAUT SASSANDRA","ZOUKOUGBEU",127876,{"$f":"IF(INTRO!$E$48=\"\",\"\",ROUND($D74*INTRO!$E$48,0))","v":16227},{"$f":"IF(INTRO!$E$49=\"\",\"\",ROUND($D74*INTRO!$E$49,0))","v":32532},{"$f":"IF(INTRO!$E$50=\"\",\"\",ROUND($D74*INTRO!$E$50,0))","v":74628},19,1,1,1,{"$f":"IF(INTRO!$E$37=\"Endémique\",IF($H74>0,IF($H74=4,\"Inconnu\",IF($H74=99,\"Interrompu\",$D74)),0),\"Non requis\")","v":127876},{"$f":"IF(INTRO!$E$39=\"Endémique\", IF($I74>0, IF($I74=4,\"Inconnu\",IF($I74=99,\"Interrompu\",$D74)), 0),\"Non requis\")","v":127876},{"$f":"IF(INTRO!$E$41=\"Endémique\", IF($J74>1, IF($J74=4, \"Inconnu\", IF($J74=99, \"Surveillance\", E74)), 0),\"Non requis\")","v":0},{"$f":"IF(INTRO!$E$41=\"Endémique\", IF($J74>1, IF($J74=4, \"Inconnu\", IF($J74=99, \"Surveillance\", F74)), 0),\"Non requis\")","v":0},{"$f":"IF(INTRO!$E$41=\"Endémique\", IF($J74>1, IF($J74=4, \"Inconnu\", IF($J74=99, \"Surveillance\", ROUND(D74*INTRO!$E$51,0))), 0),\"Non requis\")","v":0},{"$f":"IF(INTRO!$E$41=\"Endémique\", IF($J74>1, IF($J74=4, \"Inconnu\", IF($J74=99, \"Surveillance\", SUM($N74:$P74))), 0),\"Non requis\")","v":0},{"$f":"IF(INTRO!$E$43=\"Endémique\", IF($K74>1, IF($K74=4, \"Inconnu\", IF($K74=99, \"Surveillance\", ROUND(E74*0.75,0))), 0),\"Non requis\")","v":0},32716,{"$f":"IF(INTRO!$E$43=\"Endémique\", IF($K74>1, IF($K74=4, \"Inconnu\", IF($K74=99, \"Surveillance\", G74)), 0),\"Non requis\")","v":0},{"$f":"IF(INTRO!$E$43=\"Endémique\", IF($K74>1, IF($K74=4, \"Inconnu\", IF($K74=99, \"Surveillance\", SUM($R74:$T74))), 0),\"Non requis\")","v":0},0,1,0,1,null,null,null,null,null,null,null,null,15436,"ZOUKOUGBEU"]
[{"$f":"IF(INTRO!$E$33<>0,INTRO!$E$33, \" \")","v":"Côte d'Ivoire"},"IFFOU","DAOUKRO",215152,{"$f":"IF(INTRO!$E$48=\"\",\"\",ROUND($D75*INTRO!$E$48,0))","v":27303},{"$f":"IF(INTRO!$E$49=\"\",\"\",ROUND($D75*INTRO!$E$49,0))","v":54735},{"$f":"IF(INTRO!$E$50=\"\",\"\",ROUND($D75*INTRO!$E$50,0))","v":125563},99,1,2,2,{"$f":"IF(INTRO!$E$37=\"Endémique\",IF($H75>0,IF($H75=4,\"Inconnu\",IF($H75=99,\"Interrompu\",$D75)),0),\"Non requis\")","v":"Interrompu"},{"$f":"IF(INTRO!$E$39=\"Endémique\", IF($I75>0, IF($I75=4,\"Inconnu\",IF($I75=99,\"Interrompu\",$D75)), 0),\"Non requis\")","v":215152},{"$f":"IF(INTRO!$E$41=\"Endémique\", IF($J75>1, IF($J75=4, \"Inconnu\", IF($J75=99, \"Surveillance\", E75)), 0),\"Non requis\")","v":27303},{"$f":"IF(INTRO!$E$41=\"Endémique\", IF($J75>1, IF($J75=4, \"Inconnu\", IF($J75=99, \"Surveillance\", F75)), 0),\"Non requis\")","v":54735},{"$f":"IF(INTRO!$E$41=\"Endémique\", IF($J75>1, IF($J75=4, \"Inconnu\", IF($J75=99, \"Surveillance\", ROUND(D75*INTRO!$E$51,0))), 0),\"Non requis\")","v":51916},{"$f":"IF(INTRO!$E$41=\"Endémique\", IF($J75>1, IF($J75=4, \"Inconnu\", IF($J75=99, \"Surveillance\", SUM($N75:$P75))), 0),\"Non requis\")","v":133954},{"$f":"IF(INTRO!$E$43=\"Endémique\", IF($K75>1, IF($K75=4, \"Inconnu\", IF($K75=99, \"Surveillance\", ROUND(E75*0.75,0))), 0),\"Non requis\")","v":20477},26629,{"$f":"IF(INTRO!$E$43=\"Endémique\", IF($K75>1, IF($K75=4, \"Inconnu\", IF($K75=99, \"Surveillance\", G75)), 0),\"Non requis\")","v":125563},{"$f":"IF(INTRO!$E$43=\"Endémique\", IF($K75>1, IF($K75=4, \"Inconnu\", IF($K75=99, \"Surveillance\", SUM($R75:$T75))), 0),\"Non requis\")","v":172669},0,1,1,1,null,null,null,null,null,null,null,null,15393,"DAOUKRO"]
[{"$f":"IF(INTRO!$E$33<>0,INTRO!$E$33, \" \")","v":"Côte d'Ivoire"},"IFFOU","M'BAHIAKRO",107882,{"$f":"IF(INTRO!$E$48=\"\",\"\",ROUND($D76*INTRO!$E$48,0))","v":13690},{"$f":"IF(INTRO!$E$49=\"\",\"\",ROUND($D76*INTRO!$E$49,0))","v":27445},{"$f":"IF(INTRO!$E$50=\"\",\"\",ROUND($D76*INTRO!$E$50,0))","v":62960},19,1,1,2,{"$f":"IF(INTRO!$E$37=\"Endémique\",IF($H76>0,IF($H76=4,\"Inconnu\",IF($H76=99,\"Interrompu\",$D76)),0),\"Non requis\")","v":107882},{"$f":"IF(INTRO!$E$39=\"Endémique\", IF($I76>0, IF($I76=4,\"Inconnu\",IF($I76=99,\"Interrompu\",$D76)), 0),\"Non requis\")","v":107882},{"$f":"IF(INTRO!$E$41=\"Endémique\", IF($J76>1, IF($J76=4, \"Inconnu\", IF($J76=99, \"Surveillance\", E76)), 0),\"Non requis\")","v":0},{"$f":"IF(INTRO!$E$41=\"Endémique\", IF($J76>1, IF($J76=4, \"Inconnu\", IF($J76=99, \"Surveillance\", F76)), 0),\"Non requis\")","v":0},{"$f":"IF(INTRO!$E$41=\"Endémique\", IF($J76>1, IF($J76=4, \"Inconnu\", IF($J76=99, \"Surveillance\", ROUND(D76*INTRO!$E$51,0))), 0),\"Non requis\")","v":0},{"$f":"IF(INTRO!$E$41=\"Endémique\", IF($J76>1, IF($J76=4, \"Inconnu\", IF($J76=99, \"Surveillance\", SUM($N76:$P76))), 0),\"Non requis\")","v":0},{"$f":"IF(INTRO!$E$43=\"Endémique\", IF($K76>1, IF($K76=4, \"Inconnu\", IF($K76=99, \"Surveillance\", ROUND(E76*0.75,0))), 0),\"Non requis\")","v":10268},23966,{"$f":"IF(INTRO!$E$43=\"Endémique\", IF($K76>1, IF($K76=4, \"Inconnu\", IF($K76=99, \"Surveillance\", G76)), 0),\"Non requis\")","v":62960},{"$f":"IF(INTRO!$E$43=\"Endémique\", IF($K76>1, IF($K76=4, \"Inconnu\", IF($K76=99, \"Surveillance\", SUM($R76:$T76))), 0),\"Non requis\")","v":97194},0,1,0,1,null,"TAS",null,null,null,null,null,null,15395,"M'BAHIAKRO"]
[{"$f":"IF(INTRO!$E$33<>0,INTRO!$E$33, \" \")","v":"Côte d'Ivoire"},"IFFOU","PRIKRO",98443,{"$f":"IF(INTRO!$E$48=\"\",\"\",ROUND($D77*INTRO!$E$48,0))","v":12492},{"$f":"IF(INTRO!$E$49=\"\",\"\",ROUND($D77*INTRO!$E$49,0))","v":25044},{"$f":"IF(INTRO!$E$50=\"\",\"\",ROUND($D77*INTRO!$E$50,0))","v":57451},19,1,2,2,{"$f":"IF(INTRO!$E$37=\"Endémique\",IF($H77>0,IF($H77=4,\"Inconnu\",IF($H77=99,\"Interrompu\",$D77)),0),\"Non requis\")","v":98443},{"$f":"IF(INTRO!$E$39=\"Endémique\", IF($I77>0, IF($I77=4,\"Inconnu\",IF($I77=99,\"Interrompu\",$D77)), 0),\"Non requis\")","v":98443},{"$f":"IF(INTRO!$E$41=\"Endémique\", IF($J77>1, IF($J77=4, \"Inconnu\", IF($J77=99, \"Surveillance\", E77)), 0),\"Non requis\")","v":12492},{"$f":"IF(INTRO!$E$41=\"Endémique\", IF($J77>1, IF($J77=4, \"Inconnu\", IF($J77=99, \"Surveillance\", F77)), 0),\"Non requis\")","v":25044},{"$f":"IF(INTRO!$E$41=\"Endémique\", IF($J77>1, IF($J77=4, \"Inconnu\", IF($J77=99, \"Surveillance\", ROUND(D77*INTRO!$E$51,0))), 0),\"Non requis\")","v":23754},{"$f":"IF(INTRO!$E$41=\"Endémique\", IF($J77>1, IF($J77=4, \"Inconnu\", IF($J77=99, \"Surveillance\", SUM($N77:$P77))), 0),\"Non requis\")","v":61290},{"$f":"IF(INTRO!$E$43=\"Endémique\", IF($K77>1, IF($K77=4, \"Inconnu\", IF($K77=99, \"Surveillance\", ROUND(E77*0.75,0))), 0),\"Non requis\")","v":9369},15310,{"$f":"IF(INTRO!$E$43=\"Endémique\", IF($K77>1, IF($K77=4, \"Inconnu\", IF($K77=99, \"Surveillance\", G77)), 0),\"Non requis\")","v":57451},{"$f":"IF(INTRO!$E$43=\"Endémique\", IF($K77>1, IF($K77=4, \"Inconnu\", IF($K77=99, \"Surveillance\", SUM($R77:$T77))), 0),\"Non requis\")","v":82130},0,1,1,1,null,null,null,null,null,null,null,null,15396,"PRIKRO"]
[{"$f":"IF(INTRO!$E$33<>0,INTRO!$E$33, \" \")","v":"Côte d'Ivoire"},"INDENIE-DJUABLIN","ABENGOUROU",421562,{"$f":"IF(INTRO!$E$48=\"\",\"\",ROUND($D78*INTRO!$E$48,0))","v":53496},{"$f":"IF(INTRO!$E$49=\"\",\"\",ROUND($D78*INTRO!$E$49,0))","v":107245},{"$f":"IF(INTRO!$E$50=\"\",\"\",ROUND($D78*INTRO!$E$50,0))","v":246024},99,1,1,2,{"$f":"IF(INTRO!$E$37=\"Endémique\",IF($H78>0,IF($H78=4,\"Inconnu\",IF($H78=99,\"Interrompu\",$D78)),0),\"Non requis\")","v":"Interrompu"},{"$f":"IF(INTRO!$E$39=\"Endémique\", IF($I78>0, IF($I78=4,\"Inconnu\",IF($I78=99,\"Interrompu\",$D78)), 0),\"Non requis\")","v":421562},{"$f":"IF(INTRO!$E$41=\"Endémique\", IF($J78>1, IF($J78=4, \"Inconnu\", IF($J78=99, \"Surveillance\", E78)), 0),\"Non requis\")","v":0},{"$f":"IF(INTRO!$E$41=\"Endémique\", IF($J78>1, IF($J78=4, \"Inconnu\", IF($J78=99, \"Surveillance\", F78)), 0),\"Non requis\")","v":0},{"$f":"IF(INTRO!$E$41=\"Endémique\", IF($J78>1, IF($J78=4, \"Inconnu\", IF($J78=99, \"Surveillance\", ROUND(D78*INTRO!$E$51,0))), 0),\"Non requis\")","v":0},{"$f":"IF(INTRO!$E$41=\"Endémique\", IF($J78>1, IF($J78=4, \"Inconnu\", IF($J78=99, \"Surveillance\", SUM($N78:$P78))), 0),\"Non requis\")","v":0},{"$f":"IF(INTRO!$E$43=\"Endémique\", IF($K78>1, IF($K78=4, \"Inconnu\", IF($K78=99, \"Surveillance\", ROUND(E78*0.75,0))), 0),\"Non requis\")","v":40122},88728,{"$f":"IF(INTRO!$E$43=\"Endémique\", IF($K78>1, IF($K78=4, \"Inconnu\", IF($K78=99, \"Surveillance\", G78)), 0),\"Non requis\")","v":246024},{"$f":"IF(INTRO!$E$43=\"Endémique\", IF($K78>1, IF($K78=4, \"Inconnu\", IF($K78=99, \"Surveillance\", SUM($R78:$T78))), 0),\"Non requis\")","v":374874},0,1,0,1,null,null,null,null,null,null,null,null,15379,"ABENGOUROU"]
[{"$f":"IF(INTRO!$E$33<>0,INTRO!$E$33, \" \")","v":"Côte d'Ivoire"},"INDENIE-DJUABLIN","AGNIBILEKRO",210924,{"$f":"IF(INTRO!$E$48=\"\",\"\",ROUND($D79*INTRO!$E$48,0))","v":26766},{"$f":"IF(INTRO!$E$49=\"\",\"\",ROUND($D79*INTRO!$E$49,0))","v":53659},{"$f":"IF(INTRO!$E$50=\"\",\"\",ROUND($D79*INTRO!$E$50,0))","v":123095},99,1,1,1,{"$f":"IF(INTRO!$E$37=\"Endémique\",IF($H79>0,IF($H79=4,\"Inconnu\",IF($H79=99,\"Interrompu\",$D79)),0),\"Non requis\")","v":"Interrompu"},{"$f":"IF(INTRO!$E$39=\"Endémique\", IF($I79>0, IF($I79=4,\"Inconnu\",IF($I79=99,\"Interrompu\",$D79)), 0),\"Non requis\")","v":210924},{"$f":"IF(INTRO!$E$41=\"Endémique\", IF($J79>1, IF($J79=4, \"Inconnu\", IF($J79=99, \"Surveillance\", E79)), 0),\"Non requis\")","v":0},{"$f":"IF(INTRO!$E$41=\"Endémique\", IF($J79>1, IF($J79=4, \"Inconnu\", IF($J79=99, \"Surveillance\", F79)), 0),\"Non requis\")","v":0},{"$f":"IF(INTRO!$E$41=\"Endémique\", IF($J79>1, IF($J79=4, \"Inconnu\", IF($J79=99, \"Surveillance\", ROUND(D79*INTRO!$E$51,0))), 0),\"Non requis\")","v":0},{"$f":"IF(INTRO!$E$41=\"Endémique\", IF($J79>1, IF($J79=4, \"Inconnu\", IF($J79=99, \"Surveillance\", SUM($N79:$P79))), 0),\"Non requis\")","v":0},{"$f":"IF(INTRO!$E$43=\"Endémique\", IF($K79>1, IF($K79=4, \"Inconnu\", IF($K79=99, \"Surveillance\", ROUND(E79*0.75,0))), 0),\"Non requis\")","v":0},43118,{"$f":"IF(INTRO!$E$43=\"Endémique\", IF($K79>1, IF($K79=4, \"Inconnu\", IF($K79=99, \"Surveillance\", G79)), 0),\"Non requis\")","v":0},{"$f":"IF(INTRO!$E$43=\"Endémique\", IF($K79>1, IF($K79=4, \"Inconnu\", IF($K79=99, \"Surveillance\", SUM($R79:$T79))), 0),\"Non requis\")","v":0},0,1,0,1,null,null,null,null,null,null,null,null,15380,"AGNIBILEKRO"]
[{"$f":"IF(INTRO!$E$33<>0,INTRO!$E$33, \" \")","v":"Côte d'Ivoire"},"INDENIE-DJUABLIN","BETTIE",70349,{"$f":"IF(INTRO!$E$48=\"\",\"\",ROUND($D80*INTRO!$E$48,0))","v":8927},{"$f":"IF(INTRO!$E$49=\"\",\"\",ROUND($D80*INTRO!$E$49,0))","v":17897},{"$f":"IF(INTRO!$E$50=\"\",\"\",ROUND($D80*INTRO!$E$50,0))","v":41056},19,1,1,2,{"$f":"IF(INTRO!$E$37=\"Endémique\",IF($H80>0,IF($H80=4,\"Inconnu\",IF($H80=99,\"Interrompu\",$D80)),0),\"Non requis\")","v":70349},{"$f":"IF(INTRO!$E$39=\"Endémique\", IF($I80>0, IF($I80=4,\"Inconnu\",IF($I80=99,\"Interrompu\",$D80)), 0),\"Non requis\")","v":70349},{"$f":"IF(INTRO!$E$41=\"Endémique\", IF($J80>1, IF($J80=4, \"Inconnu\", IF($J80=99, \"Surveillance\", E80)), 0),\"Non requis\")","v":0},{"$f":"IF(INTRO!$E$41=\"Endémique\", IF($J80>1, IF($J80=4, \"Inconnu\", IF($J80=99, \"Surveillance\", F80)), 0),\"Non requis\")","v":0},{"$f":"IF(INTRO!$E$41=\"Endémique\", IF($J80>1, IF($J80=4, \"Inconnu\", IF($J80=99, \"Surveillance\", ROUND(D80*INTRO!$E$51,0))), 0),\"Non requis\")","v":0},{"$f":"IF(INTRO!$E$41=\"Endémique\", IF($J80>1, IF($J80=4, \"Inconnu\", IF($J80=99, \"Surveillance\", SUM($N80:$P80))), 0),\"Non requis\")","v":0},{"$f":"IF(INTRO!$E$43=\"Endémique\", IF($K80>1, IF($K80=4, \"Inconnu\", IF($K80=99, \"Surveillance\", ROUND(E80*0.75,0))), 0),\"Non requis\")","v":6695},11380,{"$f":"IF(INTRO!$E$43=\"Endémique\", IF($K80>1, IF($K80=4, \"Inconnu\", IF($K80=99, \"Surveillance\", G80)), 0),\"Non requis\")","v":41056},{"$f":"IF(INTRO!$E$43=\"Endémique\", IF($K80>1, IF($K80=4, \"Inconnu\", IF($K80=99, \"Surveillance\", SUM($R80:$T80))), 0),\"Non requis\")","v":59131},0,1,0,1,null,null,null,null,null,null,null,null,15381,"BETTIE"]
[{"$f":"IF(INTRO!$E$33<>0,INTRO!$E$33, \" \")","v":"Côte d'Ivoire"},"KABADOUGOU","MADINANI",79417,{"$f":"IF(INTRO!$E$48=\"\",\"\",ROUND($D81*INTRO!$E$48,0))","v":10078},{"$f":"IF(INTRO!$E$49=\"\",\"\",ROUND($D81*INTRO!$E$49,0))","v":20204},{"$f":"IF(INTRO!$E$50=\"\",\"\",ROUND($D81*INTRO!$E$50,0))","v":46348},99,1,1,2,{"$f":"IF(INTRO!$E$37=\"Endémique\",IF($H81>0,IF($H81=4,\"Inconnu\",IF($H81=99,\"Interrompu\",$D81)),0),\"Non requis\")","v":"Interrompu"},{"$f":"IF(INTRO!$E$39=\"Endémique\", IF($I81>0, IF($I81=4,\"Inconnu\",IF($I81=99,\"Interrompu\",$D81)), 0),\"Non requis\")","v":79417},{"$f":"IF(INTRO!$E$41=\"Endémique\", IF($J81>1, IF($J81=4, \"Inconnu\", IF($J81=99, \"Surveillance\", E81)), 0),\"Non requis\")","v":0},{"$f":"IF(INTRO!$E$41=\"Endémique\", IF($J81>1, IF($J81=4, \"Inconnu\", IF($J81=99, \"Surveillance\", F81)), 0),\"Non requis\")","v":0},{"$f":"IF(INTRO!$E$41=\"Endémique\", IF($J81>1, IF($J81=4, \"Inconnu\", IF($J81=99, \"Surveillance\", ROUND(D81*INTRO!$E$51,0))), 0),\"Non requis\")","v":0},{"$f":"IF(INTRO!$E$41=\"Endémique\", IF($J81>1, IF($J81=4, \"Inconnu\", IF($J81=99, \"Surveillance\", SUM($N81:$P81))), 0),\"Non requis\")","v":0},{"$f":"IF(INTRO!$E$43=\"Endémique\", IF($K81>1, IF($K81=4, \"Inconnu\", IF($K81=99, \"Surveillance\", ROUND(E81*0.75,0))), 0),\"Non requis\")","v":7559},0,{"$f":"IF(INTRO!$E$43=\"Endémique\", IF($K81>1, IF($K81=4, \"Inconnu\", IF($K81=99, \"Surveillance\", G81)), 0),\"Non requis\")","v":46348},{"$f":"IF(INTRO!$E$43=\"Endémique\", IF($K81>1, IF($K81=4, \"Inconnu\", IF($K81=99, \"Surveillance\", SUM($R81:$T81))), 0),\"Non requis\")","v":53907},0,1,0,0,null,null,null,null,null,null,null,null,15440,"MADINANI"]
[{"$f":"IF(INTRO!$E$33<>0,INTRO!$E$33, \" \")","v":"Côte d'Ivoire"},"KABADOUGOU","ODIENNE",153222,{"$f":"IF(INTRO!$E$48=\"\",\"\",ROUND($D82*INTRO!$E$48,0))","v":19444},{"$f":"IF(INTRO!$E$49=\"\",\"\",ROUND($D82*INTRO!$E$49,0))","v":38980},{"$f":"IF(INTRO!$E$50=\"\",\"\",ROUND($D82*INTRO!$E$50,0))","v":89420},99,1,1,2,{"$f":"IF(INTRO!$E$37=\"Endémique\",IF($H82>0,IF($H82=4,\"Inconnu\",IF($H82=99,\"Interrompu\",$D82)),0),\"Non requis\")","v":"Interrompu"},{"$f":"IF(INTRO!$E$39=\"Endémique\", IF($I82>0, IF($I82=4,\"Inconnu\",IF($I82=99,\"Interrompu\",$D82)), 0),\"Non requis\")","v":153222},{"$f":"IF(INTRO!$E$41=\"Endémique\", IF($J82>1, IF($J82=4, \"Inconnu\", IF($J82=99, \"Surveillance\", E82)), 0),\"Non requis\")","v":0},{"$f":"IF(INTRO!$E$41=\"Endémique\", IF($J82>1, IF($J82=4, \"Inconnu\", IF($J82=99, \"Surveillance\", F82)), 0),\"Non requis\")","v":0},{"$f":"IF(INTRO!$E$41=\"Endémique\", IF($J82>1, IF($J82=4, \"Inconnu\", IF($J82=99, \"Surveillance\", ROUND(D82*INTRO!$E$51,0))), 0),\"Non requis\")","v":0},{"$f":"IF(INTRO!$E$41=\"Endémique\", IF($J82>1, IF($J82=4, \"Inconnu\", IF($J82=99, \"Surveillance\", SUM($N82:$P82))), 0),\"Non requis\")","v":0},{"$f":"IF(INTRO!$E$43=\"Endémique\", IF($K82>1, IF($K82=4, \"Inconnu\", IF($K82=99, \"Surveillance\", ROUND(E82*0.75,0))), 0),\"Non requis\")","v":14583},36020,{"$f":"IF(INTRO!$E$43=\"Endémique\", IF($K82>1, IF($K82=4, \"Inconnu\", IF($K82=99, \"Surveillance\", G82)), 0),\"Non requis\")","v":89420},{"$f":"IF(INTRO!$E$43=\"Endémique\", IF($K82>1, IF($K82=4, \"Inconnu\", IF($K82=99, \"Surveillance\", SUM($R82:$T82))), 0),\"Non requis\")","v":140023},0,1,0,1,null,null,null,null,null,null,null,null,15439,"ODIENNE"]
[{"$f":"IF(INTRO!$E$33<>0,INTRO!$E$33, \" \")","v":"Côte d'Ivoire"},"LOH-DJIBOUA","DIVO",470909,{"$f":"IF(INTRO!$E$48=\"\",\"\",ROUND($D83*INTRO!$E$48,0))","v":59758},{"$f":"IF(INTRO!$E$49=\"\",\"\",ROUND($D83*INTRO!$E$49,0))","v":119799},{"$f":"IF(INTRO!$E$50=\"\",\"\",ROUND($D83*INTRO!$E$50,0))","v":274822},19,1,1,3,{"$f":"IF(INTRO!$E$37=\"Endémique\",IF($H83>0,IF($H83=4,\"Inconnu\",IF($H83=99,\"Interrompu\",$D83)),0),\"Non requis\")","v":470909},{"$f":"IF(INTRO!$E$39=\"Endémique\", IF($I83>0, IF($I83=4,\"Inconnu\",IF($I83=99,\"Interrompu\",$D83)), 0),\"Non requis\")","v":470909},{"$f":"IF(INTRO!$E$41=\"Endémique\", IF($J83>1, IF($J83=4, \"Inconnu\", IF($J83=99, \"Surveillance\", E83)), 0),\"Non requis\")","v":0},{"$f":"IF(INTRO!$E$41=\"Endémique\", IF($J83>1, IF($J83=4, \"Inconnu\", IF($J83=99, \"Surveillance\", F83)), 0),\"Non requis\")","v":0},{"$f":"IF(INTRO!$E$41=\"Endémique\", IF($J83>1, IF($J83=4, \"Inconnu\", IF($J83=99, \"Surveillance\", ROUND(D83*INTRO!$E$51,0))), 0),\"Non requis\")","v":0},{"$f":"IF(INTRO!$E$41=\"Endémique\", IF($J83>1, IF($J83=4, \"Inconnu\", IF($J83=99, \"Surveillance\", SUM($N83:$P83))), 0),\"Non requis\")","v":0},{"$f":"IF(INTRO!$E$43=\"Endémique\", IF($K83>1, IF($K83=4, \"Inconnu\", IF($K83=99, \"Surveillance\", ROUND(E83*0.75,0))), 0),\"Non requis\")","v":44819},6859,{"$f":"IF(INTRO!$E$43=\"Endémique\", IF($K83>1, IF($K83=4, \"Inconnu\", IF($K83=99, \"Surveillance\", G83)), 0),\"Non requis\")","v":274822},{"$f":"IF(INTRO!$E$43=\"Endémique\", IF($K83>1, IF($K83=4, \"Inconnu\", IF($K83=99, \"Surveillance\", SUM($R83:$T83))), 0),\"Non requis\")","v":326500},0,1,0,1,null,null,null,null,null,null,null,null,15385,"DIVO"]
[{"$f":"IF(INTRO!$E$33<>0,INTRO!$E$33, \" \")","v":"Côte d'Ivoire"},"LOH-DJIBOUA","GUITRY",181751,{"$f":"IF(INTRO!$E$48=\"\",\"\",ROUND($D84*INTRO!$E$48,0))","v":23064},{"$f":"IF(INTRO!$E$49=\"\",\"\",ROUND($D84*INTRO!$E$49,0))","v":46237},{"$f":"IF(INTRO!$E$50=\"\",\"\",ROUND($D84*INTRO!$E$50,0))","v":106070},19,1,1,2,{"$f":"IF(INTRO!$E$37=\"Endémique\",IF($H84>0,IF($H84=4,\"Inconnu\",IF($H84=99,\"Interrompu\",$D84)),0),\"Non requis\")","v":181751},{"$f":"IF(INTRO!$E$39=\"Endémique\", IF($I84>0, IF($I84=4,\"Inconnu\",IF($I84=99,\"Interrompu\",$D84)), 0),\"Non requis\")","v":181751},{"$f":"IF(INTRO!$E$41=\"Endémique\", IF($J84>1, IF($J84=4, \"Inconnu\", IF($J84=99, \"Surveillance\", E84)), 0),\"Non requis\")","v":0},{"$f":"IF(INTRO!$E$41=\"Endémique\", IF($J84>1, IF($J84=4, \"Inconnu\", IF($J84=99, \"Surveillance\", F84)), 0),\"Non requis\")","v":0},{"$f":"IF(INTRO!$E$41=\"Endémique\", IF($J84>1, IF($J84=4, \"Inconnu\", IF($J84=99, \"Surveillance\", ROUND(D84*INTRO!$E$51,0))), 0),\"Non requis\")","v":0},{"$f":"IF(INTRO!$E$41=\"Endémique\", IF($J84>1, IF($J84=4, \"Inconnu\", IF($J84=99, \"Surveillance\", SUM($N84:$P84))), 0),\"Non requis\")","v":0},{"$f":"IF(INTRO!$E$43=\"Endémique\", IF($K84>1, IF($K84=4, \"Inconnu\", IF($K84=99, \"Surveillance\", ROUND(E84*0.75,0))), 0),\"Non requis\")","v":17298},0,{"$f":"IF(INTRO!$E$43=\"Endémique\", IF($K84>1, IF($K84=4, \"Inconnu\", IF($K84=99, \"Surveillance\", G84)), 0),\"Non requis\")","v":106070},{"$f":"IF(INTRO!$E$43=\"Endémique\", IF($K84>1, IF($K84=4, \"Inconnu\", IF($K84=99, \"Surveillance\", SUM($R84:$T84))), 0),\"Non requis\")","v":123368},0,1,0,0,null,null,null,null,null,null,null,null,15411,"GUITRY"]
[{"$f":"IF(INTRO!$E$33<>0,INTRO!$E$33, \" \")","v":"Côte d'Ivoire"},"LOH-DJIBOUA","LAKOTA",250429,{"$f":"IF(INTRO!$E$48=\"\",\"\",ROUND($D85*INTRO!$E$48,0))","v":31779},{"$f":"IF(INTRO!$E$49=\"\",\"\",ROUND($D85*INTRO!$E$49,0))","v":63709},{"$f":"IF(INTRO!$E$50=\"\",\"\",ROUND($D85*INTRO!$E$50,0))","v":146150},19,1,1,3,{"$f":"IF(INTRO!$E$37=\"Endémique\",IF($H85>0,IF($H85=4,\"Inconnu\",IF($H85=99,\"Interrompu\",$D85)),0),\"Non requis\")","v":250429},{"$f":"IF(INTRO!$E$39=\"Endémique\", IF($I85>0, IF($I85=4,\"Inconnu\",IF($I85=99,\"Interrompu\",$D85)), 0),\"Non requis\")","v":250429},{"$f":"IF(INTRO!$E$41=\"Endémique\", IF($J85>1, IF($J85=4, \"Inconnu\", IF($J85=99, \"Surveillance\", E85)), 0),\"Non requis\")","v":0},{"$f":"IF(INTRO!$E$41=\"Endémique\", IF($J85>1, IF($J85=4, \"Inconnu\", IF($J85=99, \"Surveillance\", F85)), 0),\"Non requis\")","v":0},{"$f":"IF(INTRO!$E$41=\"Endémique\", IF($J85>1, IF($J85=4, \"Inconnu\", IF($J85=99, \"Surveillance\", ROUND(D85*INTRO!$E$51,0))), 0),\"Non requis\")","v":0},{"$f":"IF(INTRO!$E$41=\"Endémique\", IF($J85>1, IF($J85=4, \"Inconnu\", IF($J85=99, \"Surveillance\", SUM($N85:$P85))), 0),\"Non requis\")","v":0},{"$f":"IF(INTRO!$E$43=\"Endémique\", IF($K85>1, IF($K85=4, \"Inconnu\", IF($K85=99, \"Surveillance\", ROUND(E85*0.75,0))), 0),\"Non requis\")","v":23834},4796,{"$f":"IF(INTRO!$E$43=\"Endémique\", IF($K85>1, IF($K85=4, \"Inconnu\", IF($K85=99, \"Surveillance\", G85)), 0),\"Non requis\")","v":146150},{"$f":"IF(INTRO!$E$43=\"Endémique\", IF($K85>1, IF($K85=4, \"Inconnu\", IF($K85=99, \"Surveillance\", SUM($R85:$T85))), 0),\"Non requis\")","v":174780},0,1,0,1,null,null,null,null,null,null,null,null,15387,"LAKOTA"]
[{"$f":"IF(INTRO!$E$33<>0,INTRO!$E$33, \" \")","v":"Côte d'Ivoire"},"MARAHOUE","BOUAFLE",512756,{"$f":"IF(INTRO!$E$48=\"\",\"\",ROUND($D86*INTRO!$E$48,0))","v":65069},{"$f":"IF(INTRO!$E$49=\"\",\"\",ROUND($D86*INTRO!$E$49,0))","v":130445},{"$f":"IF(INTRO!$E$50=\"\",\"\",ROUND($D86*INTRO!$E$50,0))","v":299244},99,1,1,2,{"$f":"IF(INTRO!$E$37=\"Endémique\",IF($H86>0,IF($H86=4,\"Inconnu\",IF($H86=99,\"Interrompu\",$D86)),0),\"Non requis\")","v":"Interrompu"},{"$f":"IF(INTRO!$E$39=\"Endémique\", IF($I86>0, IF($I86=4,\"Inconnu\",IF($I86=99,\"Interrompu\",$D86)), 0),\"Non requis\")","v":512756},{"$f":"IF(INTRO!$E$41=\"Endémique\", IF($J86>1, IF($J86=4, \"Inconnu\", IF($J86=99, \"Surveillance\", E86)), 0),\"Non requis\")","v":0},{"$f":"IF(INTRO!$E$41=\"Endémique\", IF($J86>1, IF($J86=4, \"Inconnu\", IF($J86=99, \"Surveillance\", F86)), 0),\"Non requis\")","v":0},{"$f":"IF(INTRO!$E$41=\"Endémique\", IF($J86>1, IF($J86=4, \"Inconnu\", IF($J86=99, \"Surveillance\", ROUND(D86*INTRO!$E$51,0))), 0),\"Non requis\")","v":0},{"$f":"IF(INTRO!$E$41=\"Endémique\", IF($J86>1, IF($J86=4, \"Inconnu\", IF($J86=99, \"Surveillance\", SUM($N86:$P86))), 0),\"Non requis\")","v":0},{"$f":"IF(INTRO!$E$43=\"Endémique\", IF($K86>1, IF($K86=4, \"Inconnu\", IF($K86=99, \"Surveillance\", ROUND(E86*0.75,0))), 0),\"Non requis\")","v":48802},0,{"$f":"IF(INTRO!$E$43=\"Endémique\", IF($K86>1, IF($K86=4, \"Inconnu\", IF($K86=99, \"Surveillance\", G86)), 0),\"Non requis\")","v":299244},{"$f":"IF(INTRO!$E$43=\"Endémique\", IF($K86>1, IF($K86=4, \"Inconnu\", IF($K86=99, \"Surveillance\", SUM($R86:$T86))), 0),\"Non requis\")","v":348046},0,1,0,0,null,null,null,null,null,null,null,null,15388,"BOUAFLE"]
[{"$f":"IF(INTRO!$E$33<>0,INTRO!$E$33, \" \")","v":"Côte d'Ivoire"},"MARAHOUE","SINFRA",297896,{"$f":"IF(INTRO!$E$48=\"\",\"\",ROUND($D87*INTRO!$E$48,0))","v":37803},{"$f":"IF(INTRO!$E$49=\"\",\"\",ROUND($D87*INTRO!$E$49,0))","v":75785},{"$f":"IF(INTRO!$E$50=\"\",\"\",ROUND($D87*INTRO!$E$50,0))","v":173852},19,0,2,2,{"$f":"IF(INTRO!$E$37=\"Endémique\",IF($H87>0,IF($H87=4,\"Inconnu\",IF($H87=99,\"Interrompu\",$D87)),0),\"Non requis\")","v":297896},{"$f":"IF(INTRO!$E$39=\"Endémique\", IF($I87>0, IF($I87=4,\"Inconnu\",IF($I87=99,\"Interrompu\",$D87)), 0),\"Non requis\")","v":0},{"$f":"IF(INTRO!$E$41=\"Endémique\", IF($J87>1, IF($J87=4, \"Inconnu\", IF($J87=99, \"Surveillance\", E87)), 0),\"Non requis\")","v":37803},{"$f":"IF(INTRO!$E$41=\"Endémique\", IF($J87>1, IF($J87=4, \"Inconnu\", IF($J87=99, \"Surveillance\", F87)), 0),\"Non requis\")","v":75785},{"$f":"IF(INTRO!$E$41=\"Endémique\", IF($J87>1, IF($J87=4, \"Inconnu\", IF($J87=99, \"Surveillance\", ROUND(D87*INTRO!$E$51,0))), 0),\"Non requis\")","v":71882},{"$f":"IF(INTRO!$E$41=\"Endémique\", IF($J87>1, IF($J87=4, \"Inconnu\", IF($J87=99, \"Surveillance\", SUM($N87:$P87))), 0),\"Non requis\")","v":185470},{"$f":"IF(INTRO!$E$43=\"Endémique\", IF($K87>1, IF($K87=4, \"Inconnu\", IF($K87=99, \"Surveillance\", ROUND(E87*0.75,0))), 0),\"Non requis\")","v":28352},0,{"$f":"IF(INTRO!$E$43=\"Endémique\", IF($K87>1, IF($K87=4, \"Inconnu\", IF($K87=99, \"Surveillance\", G87)), 0),\"Non requis\")","v":173852},{"$f":"IF(INTRO!$E$43=\"Endémique\", IF($K87>1, IF($K87=4, \"Inconnu\", IF($K87=99, \"Surveillance\", SUM($R87:$T87))), 0),\"Non requis\")","v":202204},0,0,1,0,null,null,null,null,null,null,null,null,15389,"SINFRA"]
[{"$f":"IF(INTRO!$E$33<>0,INTRO!$E$33, \" \")","v":"Côte d'Ivoire"},"MARAHOUE","ZUENOULA",268647,{"$f":"IF(INTRO!$E$48=\"\",\"\",ROUND($D88*INTRO!$E$48,0))","v":34091},{"$f":"IF(INTRO!$E$49=\"\",\"\",ROUND($D88*INTRO!$E$49,0))","v":68344},{"$f":"IF(INTRO!$E$50=\"\",\"\",ROUND($D88*INTRO!$E$50,0))","v":156782},19,1,1,2,{"$f":"IF(INTRO!$E$37=\"Endémique\",IF($H88>0,IF($H88=4,\"Inconnu\",IF($H88=99,\"Interrompu\",$D88)),0),\"Non requis\")","v":268647},{"$f":"IF(INTRO!$E$39=\"Endémique\", IF($I88>0, IF($I88=4,\"Inconnu\",IF($I88=99,\"Interrompu\",$D88)), 0),\"Non requis\")","v":268647},{"$f":"IF(INTRO!$E$41=\"Endémique\", IF($J88>1, IF($J88=4, \"Inconnu\", IF($J88=99, \"Surveillance\", E88)), 0),\"Non requis\")","v":0},{"$f":"IF(INTRO!$E$41=\"Endémique\", IF($J88>1, IF($J88=4, \"Inconnu\", IF($J88=99, \"Surveillance\", F88)), 0),\"Non requis\")","v":0},{"$f":"IF(INTRO!$E$41=\"Endémique\", IF($J88>1, IF($J88=4, \"Inconnu\", IF($J88=99, \"Surveillance\", ROUND(D88*INTRO!$E$51,0))), 0),\"Non requis\")","v":0},{"$f":"IF(INTRO!$E$41=\"Endémique\", IF($J88>1, IF($J88=4, \"Inconnu\", IF($J88=99, \"Surveillance\", SUM($N88:$P88))), 0),\"Non requis\")","v":0},{"$f":"IF(INTRO!$E$43=\"Endémique\", IF($K88>1, IF($K88=4, \"Inconnu\", IF($K88=99, \"Surveillance\", ROUND(E88*0.75,0))), 0),\"Non requis\")","v":25568},0,{"$f":"IF(INTRO!$E$43=\"Endémique\", IF($K88>1, IF($K88=4, \"Inconnu\", IF($K88=99, \"Surveillance\", G88)), 0),\"Non requis\")","v":156782},{"$f":"IF(INTRO!$E$43=\"Endémique\", IF($K88>1, IF($K88=4, \"Inconnu\", IF($K88=99, \"Surveillance\", SUM($R88:$T88))), 0),\"Non requis\")","v":182350},0,1,0,0,null,null,null,null,null,null,null,null,15390,"ZUENOULA"]
[{"$f":"IF(INTRO!$E$33<>0,INTRO!$E$33, \" \")","v":"Côte d'Ivoire"},"ME","ADZOPE",228671,{"$f":"IF(INTRO!$E$48=\"\",\"\",ROUND($D89*INTRO!$E$48,0))","v":29018},{"$f":"IF(INTRO!$E$49=\"\",\"\",ROUND($D89*INTRO!$E$49,0))","v":58174},{"$f":"IF(INTRO!$E$50=\"\",\"\",ROUND($D89*INTRO!$E$50,0))","v":133452},1,1,1,2,{"$f":"IF(INTRO!$E$37=\"Endémique\",IF($H89>0,IF($H89=4,\"Inconnu\",IF($H89=99,\"Interrompu\",$D89)),0),\"Non requis\")","v":228671},{"$f":"IF(INTRO!$E$39=\"Endémique\", IF($I89>0, IF($I89=4,\"Inconnu\",IF($I89=99,\"Interrompu\",$D89)), 0),\"Non requis\")","v":228671},{"$f":"IF(INTRO!$E$41=\"Endémique\", IF($J89>1, IF($J89=4, \"Inconnu\", IF($J89=99, \"Surveillance\", E89)), 0),\"Non requis\")","v":0},{"$f":"IF(INTRO!$E$41=\"Endémique\", IF($J89>1, IF($J89=4, \"Inconnu\", IF($J89=99, \"Surveillance\", F89)), 0),\"Non requis\")","v":0},{"$f":"IF(INTRO!$E$41=\"Endémique\", IF($J89>1, IF($J89=4, \"Inconnu\", IF($J89=99, \"Surveillance\", ROUND(D89*INTRO!$E$51,0))), 0),\"Non requis\")","v":0},{"$f":"IF(INTRO!$E$41=\"Endémique\", IF($J89>1, IF($J89=4, \"Inconnu\", IF($J89=99, \"Surveillance\", SUM($N89:$P89))), 0),\"Non requis\")","v":0},{"$f":"IF(INTRO!$E$43=\"Endémique\", IF($K89>1, IF($K89=4, \"Inconnu\", IF($K89=99, \"Surveillance\", ROUND(E89*0.75,0))), 0),\"Non requis\")","v":21764},0,{"$f":"IF(INTRO!$E$43=\"Endémique\", IF($K89>1, IF($K89=4, \"Inconnu\", IF($K89=99, \"Surveillance\", G89)), 0),\"Non requis\")","v":133452},{"$f":"IF(INTRO!$E$43=\"Endémique\", IF($K89>1, IF($K89=4, \"Inconnu\", IF($K89=99, \"Surveillance\", SUM($R89:$T89))), 0),\"Non requis\")","v":155216},1,1,0,0,null,null,null,null,null,null,null,null,15419,"ADZOPE"]
[{"$f":"IF(INTRO!$E$33<>0,INTRO!$E$33, \" \")","v":"Côte d'Ivoire"},"ME","AKOUPE",140649,{"$f":"IF(INTRO!$E$48=\"\",\"\",ROUND($D90*INTRO!$E$48,0))","v":17848},{"$f":"IF(INTRO!$E$49=\"\",\"\",ROUND($D90*INTRO!$E$49,0))","v":35781},{"$f":"IF(INTRO!$E$50=\"\",\"\",ROUND($D90*INTRO!$E$50,0))","v":82083},1,1,1,2,{"$f":"IF(INTRO!$E$37=\"Endémique\",IF($H90>0,IF($H90=4,\"Inconnu\",IF($H90=99,\"Interrompu\",$D90)),0),\"Non requis\")","v":140649},{"$f":"IF(INTRO!$E$39=\"Endémique\", IF($I90>0, IF($I90=4,\"Inconnu\",IF($I90=99,\"Interrompu\",$D90)), 0),\"Non requis\")","v":140649},{"$f":"IF(INTRO!$E$41=\"Endémique\", IF($J90>1, IF($J90=4, \"Inconnu\", IF($J90=99, \"Surveillance\", E90)), 0),\"Non requis\")","v":0},{"$f":"IF(INTRO!$E$41=\"Endémique\", IF($J90>1, IF($J90=4, \"Inconnu\", IF($J90=99, \"Surveillance\", F90)), 0),\"Non requis\")","v":0},{"$f":"IF(INTRO!$E$41=\"Endémique\", IF($J90>1, IF($J90=4, \"Inconnu\", IF($J90=99, \"Surveillance\", ROUND(D90*INTRO!$E$51,0))), 0),\"Non requis\")","v":0},{"$f":"IF(INTRO!$E$41=\"Endémique\", IF($J90>1, IF($J90=4, \"Inconnu\", IF($J90=99, \"Surveillance\", SUM($N90:$P90))), 0),\"Non requis\")","v":0},{"$f":"IF(INTRO!$E$43=\"Endémique\", IF($K90>1, IF($K90=4, \"Inconnu\", IF($K90=99, \"Surveillance\", ROUND(E90*0.75,0))), 0),\"Non requis\")","v":13386},0,{"$f":"IF(INTRO!$E$43=\"Endémique\", IF($K90>1, IF($K90=4, \"Inconnu\", IF($K90=99, \"Surveillance\", G90)), 0),\"Non requis\")","v":82083},{"$f":"IF(INTRO!$E$43=\"Endémique\", IF($K90>1, IF($K90=4, \"Inconnu\", IF($K90=99, \"Surveillance\", SUM($R90:$T90))), 0),\"Non requis\")","v":95469},1,1,0,0,null,null,null,null,null,null,null,null,15343,"AKOUPE"]
[{"$f":"IF(INTRO!$E$33<>0,INTRO!$E$33, \" \")","v":"Côte d'Ivoire"},"ME","ALEPE",148743,{"$f":"IF(INTRO!$E$48=\"\",\"\",ROUND($D91*INTRO!$E$48,0))","v":18875},{"$f":"IF(INTRO!$E$49=\"\",\"\",ROUND($D91*INTRO!$E$49,0))","v":37840},{"$f":"IF(INTRO!$E$50=\"\",\"\",ROUND($D91*INTRO!$E$50,0))","v":86806},1,1,1,1,{"$f":"IF(INTRO!$E$37=\"Endémique\",IF($H91>0,IF($H91=4,\"Inconnu\",IF($H91=99,\"Interrompu\",$D91)),0),\"Non requis\")","v":148743},{"$f":"IF(INTRO!$E$39=\"Endémique\", IF($I91>0, IF($I91=4,\"Inconnu\",IF($I91=99,\"Interrompu\",$D91)), 0),\"Non requis\")","v":148743},{"$f":"IF(INTRO!$E$41=\"Endémique\", IF($J91>1, IF($J91=4, \"Inconnu\", IF($J91=99, \"Surveillance\", E91)), 0),\"Non requis\")","v":0},{"$f":"IF(INTRO!$E$41=\"Endémique\", IF($J91>1, IF($J91=4, \"Inconnu\", IF($J91=99, \"Surveillance\", F91)), 0),\"Non requis\")","v":0},{"$f":"IF(INTRO!$E$41=\"Endémique\", IF($J91>1, IF($J91=4, \"Inconnu\", IF($J91=99, \"Surveillance\", ROUND(D91*INTRO!$E$51,0))), 0),\"Non requis\")","v":0},{"$f":"IF(INTRO!$E$41=\"Endémique\", IF($J91>1, IF($J91=4, \"Inconnu\", IF($J91=99, \"Surveillance\", SUM($N91:$P91))), 0),\"Non requis\")","v":0},{"$f":"IF(INTRO!$E$43=\"Endémique\", IF($K91>1, IF($K91=4, \"Inconnu\", IF($K91=99, \"Surveillance\", ROUND(E91*0.75,0))), 0),\"Non requis\")","v":0},0,{"$f":"IF(INTRO!$E$43=\"Endémique\", IF($K91>1, IF($K91=4, \"Inconnu\", IF($K91=99, \"Surveillance\", G91)), 0),\"Non requis\")","v":0},{"$f":"IF(INTRO!$E$43=\"Endémique\", IF($K91>1, IF($K91=4, \"Inconnu\", IF($K91=99, \"Surveillance\", SUM($R91:$T91))), 0),\"Non requis\")","v":0},1,1,0,0,null,null,null,null,null,null,null,null,15344,"ALEPE"]
[{"$f":"IF(INTRO!$E$33<>0,INTRO!$E$33, \" \")","v":"Côte d'Ivoire"},"ME","YAKASSE ATTOBROU",90133,{"$f":"IF(INTRO!$E$48=\"\",\"\",ROUND($D92*INTRO!$E$48,0))","v":11438},{"$f":"IF(INTRO!$E$49=\"\",\"\",ROUND($D92*INTRO!$E$49,0))","v":22930},{"$f":"IF(INTRO!$E$50=\"\",\"\",ROUND($D92*INTRO!$E$50,0))","v":52602},1,1,1,2,{"$f":"IF(INTRO!$E$37=\"Endémique\",IF($H92>0,IF($H92=4,\"Inconnu\",IF($H92=99,\"Interrompu\",$D92)),0),\"Non requis\")","v":90133},{"$f":"IF(INTRO!$E$39=\"Endémique\", IF($I92>0, IF($I92=4,\"Inconnu\",IF($I92=99,\"Interrompu\",$D92)), 0),\"Non requis\")","v":90133},{"$f":"IF(INTRO!$E$41=\"Endémique\", IF($J92>1, IF($J92=4, \"Inconnu\", IF($J92=99, \"Surveillance\", E92)), 0),\"Non requis\")","v":0},{"$f":"IF(INTRO!$E$41=\"Endémique\", IF($J92>1, IF($J92=4, \"Inconnu\", IF($J92=99, \"Surveillance\", F92)), 0),\"Non requis\")","v":0},{"$f":"IF(INTRO!$E$41=\"Endémique\", IF($J92>1, IF($J92=4, \"Inconnu\", IF($J92=99, \"Surveillance\", ROUND(D92*INTRO!$E$51,0))), 0),\"Non requis\")","v":0},{"$f":"IF(INTRO!$E$41=\"Endémique\", IF($J92>1, IF($J92=4, \"Inconnu\", IF($J92=99, \"Surveillance\", SUM($N92:$P92))), 0),\"Non requis\")","v":0},{"$f":"IF(INTRO!$E$43=\"Endémique\", IF($K92>1, IF($K92=4, \"Inconnu\", IF($K92=99, \"Surveillance\", ROUND(E92*0.75,0))), 0),\"Non requis\")","v":8579},0,{"$f":"IF(INTRO!$E$43=\"Endémique\", IF($K92>1, IF($K92=4, \"Inconnu\", IF($K92=99, \"Surveillance\", G92)), 0),\"Non requis\")","v":52602},{"$f":"IF(INTRO!$E$43=\"Endémique\", IF($K92>1, IF($K92=4, \"Inconnu\", IF($K92=99, \"Surveillance\", SUM($R92:$T92))), 0),\"Non requis\")","v":61181},1,1,0,0,null,null,null,null,null,null,null,null,15420,"YAKASSE-ATTOBROU"]
[{"$f":"IF(INTRO!$E$33<>0,INTRO!$E$33, \" \")","v":"Côte d'Ivoire"},"MORONOU","ARRAH",105820,{"$f":"IF(INTRO!$E$48=\"\",\"\",ROUND($D93*INTRO!$E$48,0))","v":13429},{"$f":"IF(INTRO!$E$49=\"\",\"\",ROUND($D93*INTRO!$E$49,0))","v":26921},{"$f":"IF(INTRO!$E$50=\"\",\"\",ROUND($D93*INTRO!$E$50,0))","v":61757},99,1,2,1,{"$f":"IF(INTRO!$E$37=\"Endémique\",IF($H93>0,IF($H93=4,\"Inconnu\",IF($H93=99,\"Interrompu\",$D93)),0),\"Non requis\")","v":"Interrompu"},{"$f":"IF(INTRO!$E$39=\"Endémique\", IF($I93>0, IF($I93=4,\"Inconnu\",IF($I93=99,\"Interrompu\",$D93)), 0),\"Non requis\")","v":105820},{"$f":"IF(INTRO!$E$41=\"Endémique\", IF($J93>1, IF($J93=4, \"Inconnu\", IF($J93=99, \"Surveillance\", E93)), 0),\"Non requis\")","v":13429},{"$f":"IF(INTRO!$E$41=\"Endémique\", IF($J93>1, IF($J93=4, \"Inconnu\", IF($J93=99, \"Surveillance\", F93)), 0),\"Non requis\")","v":26921},{"$f":"IF(INTRO!$E$41=\"Endémique\", IF($J93>1, IF($J93=4, \"Inconnu\", IF($J93=99, \"Surveillance\", ROUND(D93*INTRO!$E$51,0))), 0),\"Non requis\")","v":25534},{"$f":"IF(INTRO!$E$41=\"Endémique\", IF($J93>1, IF($J93=4, \"Inconnu\", IF($J93=99, \"Surveillance\", SUM($N93:$P93))), 0),\"Non requis\")","v":65884},{"$f":"IF(INTRO!$E$43=\"Endémique\", IF($K93>1, IF($K93=4, \"Inconnu\", IF($K93=99, \"Surveillance\", ROUND(E93*0.75,0))), 0),\"Non requis\")","v":0},7980,{"$f":"IF(INTRO!$E$43=\"Endémique\", IF($K93>1, IF($K93=4, \"Inconnu\", IF($K93=99, \"Surveillance\", G93)), 0),\"Non requis\")","v":0},{"$f":"IF(INTRO!$E$43=\"Endémique\", IF($K93>1, IF($K93=4, \"Inconnu\", IF($K93=99, \"Surveillance\", SUM($R93:$T93))), 0),\"Non requis\")","v":0},0,1,1,1,null,null,null,null,null,null,null,null,15447,"ARRAH"]
[{"$f":"IF(INTRO!$E$33<>0,INTRO!$E$33, \" \")","v":"Côte d'Ivoire"},"MORONOU","BONGOUANOU",217724,{"$f":"IF(INTRO!$E$48=\"\",\"\",ROUND($D94*INTRO!$E$48,0))","v":27629},{"$f":"IF(INTRO!$E$49=\"\",\"\",ROUND($D94*INTRO!$E$49,0))","v":55389},{"$f":"IF(INTRO!$E$50=\"\",\"\",ROUND($D94*INTRO!$E$50,0))","v":127064},99,1,2,1,{"$f":"IF(INTRO!$E$37=\"Endémique\",IF($H94>0,IF($H94=4,\"Inconnu\",IF($H94=99,\"Interrompu\",$D94)),0),\"Non requis\")","v":"Interrompu"},{"$f":"IF(INTRO!$E$39=\"Endémique\", IF($I94>0, IF($I94=4,\"Inconnu\",IF($I94=99,\"Interrompu\",$D94)), 0),\"Non requis\")","v":217724},{"$f":"IF(INTRO!$E$41=\"Endémique\", IF($J94>1, IF($J94=4, \"Inconnu\", IF($J94=99, \"Surveillance\", E94)), 0),\"Non requis\")","v":27629},{"$f":"IF(INTRO!$E$41=\"Endémique\", IF($J94>1, IF($J94=4, \"Inconnu\", IF($J94=99, \"Surveillance\", F94)), 0),\"Non requis\")","v":55389},{"$f":"IF(INTRO!$E$41=\"Endémique\", IF($J94>1, IF($J94=4, \"Inconnu\", IF($J94=99, \"Surveillance\", ROUND(D94*INTRO!$E$51,0))), 0),\"Non requis\")","v":52537},{"$f":"IF(INTRO!$E$41=\"Endémique\", IF($J94>1, IF($J94=4, \"Inconnu\", IF($J94=99, \"Surveillance\", SUM($N94:$P94))), 0),\"Non requis\")","v":135555},{"$f":"IF(INTRO!$E$43=\"Endémique\", IF($K94>1, IF($K94=4, \"Inconnu\", IF($K94=99, \"Surveillance\", ROUND(E94*0.75,0))), 0),\"Non requis\")","v":0},54890,{"$f":"IF(INTRO!$E$43=\"Endémique\", IF($K94>1, IF($K94=4, \"Inconnu\", IF($K94=99, \"Surveillance\", G94)), 0),\"Non requis\")","v":0},{"$f":"IF(INTRO!$E$43=\"Endémique\", IF($K94>1, IF($K94=4, \"Inconnu\", IF($K94=99, \"Surveillance\", SUM($R94:$T94))), 0),\"Non requis\")","v":0},0,1,1,1,null,null,null,null,null,null,null,null,15446,"BONGOUANOU"]
[{"$f":"IF(INTRO!$E$33<>0,INTRO!$E$33, \" \")","v":"Côte d'Ivoire"},"MORONOU","M'BATTO",140878,{"$f":"IF(INTRO!$E$48=\"\",\"\",ROUND($D95*INTRO!$E$48,0))","v":17877},{"$f":"IF(INTRO!$E$49=\"\",\"\",ROUND($D95*INTRO!$E$49,0))","v":35839},{"$f":"IF(INTRO!$E$50=\"\",\"\",ROUND($D95*INTRO!$E$50,0))","v":82216},99,1,2,2,{"$f":"IF(INTRO!$E$37=\"Endémique\",IF($H95>0,IF($H95=4,\"Inconnu\",IF($H95=99,\"Interrompu\",$D95)),0),\"Non requis\")","v":"Interrompu"},{"$f":"IF(INTRO!$E$39=\"Endémique\", IF($I95>0, IF($I95=4,\"Inconnu\",IF($I95=99,\"Interrompu\",$D95)), 0),\"Non requis\")","v":140878},{"$f":"IF(INTRO!$E$41=\"Endémique\", IF($J95>1, IF($J95=4, \"Inconnu\", IF($J95=99, \"Surveillance\", E95)), 0),\"Non requis\")","v":17877},{"$f":"IF(INTRO!$E$41=\"Endémique\", IF($J95>1, IF($J95=4, \"Inconnu\", IF($J95=99, \"Surveillance\", F95)), 0),\"Non requis\")","v":35839},{"$f":"IF(INTRO!$E$41=\"Endémique\", IF($J95>1, IF($J95=4, \"Inconnu\", IF($J95=99, \"Surveillance\", ROUND(D95*INTRO!$E$51,0))), 0),\"Non requis\")","v":33994},{"$f":"IF(INTRO!$E$41=\"Endémique\", IF($J95>1, IF($J95=4, \"Inconnu\", IF($J95=99, \"Surveillance\", SUM($N95:$P95))), 0),\"Non requis\")","v":87710},{"$f":"IF(INTRO!$E$43=\"Endémique\", IF($K95>1, IF($K95=4, \"Inconnu\", IF($K95=99, \"Surveillance\", ROUND(E95*0.75,0))), 0),\"Non requis\")","v":13408},36042,{"$f":"IF(INTRO!$E$43=\"Endémique\", IF($K95>1, IF($K95=4, \"Inconnu\", IF($K95=99, \"Surveillance\", G95)), 0),\"Non requis\")","v":82216},{"$f":"IF(INTRO!$E$43=\"Endémique\", IF($K95>1, IF($K95=4, \"Inconnu\", IF($K95=99, \"Surveillance\", SUM($R95:$T95))), 0),\"Non requis\")","v":131666},0,1,1,1,null,null,null,null,null,null,null,null,15448,"M'BATTO"]
[{"$f":"IF(INTRO!$E$33<>0,INTRO!$E$33, \" \")","v":"Côte d'Ivoire"},"NAWA","BUYO",212760,{"$f":"IF(INTRO!$E$48=\"\",\"\",ROUND($D96*INTRO!$E$48,0))","v":26999},{"$f":"IF(INTRO!$E$49=\"\",\"\",ROUND($D96*INTRO!$E$49,0))","v":54126},{"$f":"IF(INTRO!$E$50=\"\",\"\",ROUND($D96*INTRO!$E$50,0))","v":124167},99,1,1,2,{"$f":"IF(INTRO!$E$37=\"Endémique\",IF($H96>0,IF($H96=4,\"Inconnu\",IF($H96=99,\"Interrompu\",$D96)),0),\"Non requis\")","v":"Interrompu"},{"$f":"IF(INTRO!$E$39=\"Endémique\", IF($I96>0, IF($I96=4,\"Inconnu\",IF($I96=99,\"Interrompu\",$D96)), 0),\"Non requis\")","v":212760},{"$f":"IF(INTRO!$E$41=\"Endémique\", IF($J96>1, IF($J96=4, \"Inconnu\", IF($J96=99, \"Surveillance\", E96)), 0),\"Non requis\")","v":0},{"$f":"IF(INTRO!$E$41=\"Endémique\", IF($J96>1, IF($J96=4, \"Inconnu\", IF($J96=99, \"Surveillance\", F96)), 0),\"Non requis\")","v":0},{"$f":"IF(INTRO!$E$41=\"Endémique\", IF($J96>1, IF($J96=4, \"Inconnu\", IF($J96=99, \"Surveillance\", ROUND(D96*INTRO!$E$51,0))), 0),\"Non requis\")","v":0},{"$f":"IF(INTRO!$E$41=\"Endémique\", IF($J96>1, IF($J96=4, \"Inconnu\", IF($J96=99, \"Surveillance\", SUM($N96:$P96))), 0),\"Non requis\")","v":0},{"$f":"IF(INTRO!$E$43=\"Endémique\", IF($K96>1, IF($K96=4, \"Inconnu\", IF($K96=99, \"Surveillance\", ROUND(E96*0.75,0))), 0),\"Non requis\")","v":20249},0,{"$f":"IF(INTRO!$E$43=\"Endémique\", IF($K96>1, IF($K96=4, \"Inconnu\", IF($K96=99, \"Surveillance\", G96)), 0),\"Non requis\")","v":124167},{"$f":"IF(INTRO!$E$43=\"Endémique\", IF($K96>1, IF($K96=4, \"Inconnu\", IF($K96=99, \"Surveillance\", SUM($R96:$T96))), 0),\"Non requis\")","v":144416},0,1,0,0,null,null,null,null,null,null,null,null,15414,"BUYO"]
[{"$f":"IF(INTRO!$E$33<>0,INTRO!$E$33, \" \")","v":"Côte d'Ivoire"},"NAWA","GUEYO",96826,{"$f":"IF(INTRO!$E$48=\"\",\"\",ROUND($D97*INTRO!$E$48,0))","v":12287},{"$f":"IF(INTRO!$E$49=\"\",\"\",ROUND($D97*INTRO!$E$49,0))","v":24633},{"$f":"IF(INTRO!$E$50=\"\",\"\",ROUND($D97*INTRO!$E$50,0))","v":56508},1,1,1,3,{"$f":"IF(INTRO!$E$37=\"Endémique\",IF($H97>0,IF($H97=4,\"Inconnu\",IF($H97=99,\"Interrompu\",$D97)),0),\"Non requis\")","v":96826},{"$f":"IF(INTRO!$E$39=\"Endémique\", IF($I97>0, IF($I97=4,\"Inconnu\",IF($I97=99,\"Interrompu\",$D97)), 0),\"Non requis\")","v":96826},{"$f":"IF(INTRO!$E$41=\"Endémique\", IF($J97>1, IF($J97=4, \"Inconnu\", IF($J97=99, \"Surveillance\", E97)), 0),\"Non requis\")","v":0},{"$f":"IF(INTRO!$E$41=\"Endémique\", IF($J97>1, IF($J97=4, \"Inconnu\", IF($J97=99, \"Surveillance\", F97)), 0),\"Non requis\")","v":0},{"$f":"IF(INTRO!$E$41=\"Endémique\", IF($J97>1, IF($J97=4, \"Inconnu\", IF($J97=99, \"Surveillance\", ROUND(D97*INTRO!$E$51,0))), 0),\"Non requis\")","v":0},{"$f":"IF(INTRO!$E$41=\"Endémique\", IF($J97>1, IF($J97=4, \"Inconnu\", IF($J97=99, \"Surveillance\", SUM($N97:$P97))), 0),\"Non requis\")","v":0},{"$f":"IF(INTRO!$E$43=\"Endémique\", IF($K97>1, IF($K97=4, \"Inconnu\", IF($K97=99, \"Surveillance\", ROUND(E97*0.75,0))), 0),\"Non requis\")","v":9215},5428,{"$f":"IF(INTRO!$E$43=\"Endémique\", IF($K97>1, IF($K97=4, \"Inconnu\", IF($K97=99, \"Surveillance\", G97)), 0),\"Non requis\")","v":56508},{"$f":"IF(INTRO!$E$43=\"Endémique\", IF($K97>1, IF($K97=4, \"Inconnu\", IF($K97=99, \"Surveillance\", SUM($R97:$T97))), 0),\"Non requis\")","v":71151},1,1,0,1,null,null,null,null,null,null,null,null,15366,"GUEYO"]
[{"$f":"IF(INTRO!$E$33<>0,INTRO!$E$33, \" \")","v":"Côte d'Ivoire"},"NAWA","MEAGUI",371400,{"$f":"IF(INTRO!$E$48=\"\",\"\",ROUND($D98*INTRO!$E$48,0))","v":47131},{"$f":"IF(INTRO!$E$49=\"\",\"\",ROUND($D98*INTRO!$E$49,0))","v":94484},{"$f":"IF(INTRO!$E$50=\"\",\"\",ROUND($D98*INTRO!$E$50,0))","v":216749},99,1,1,2,{"$f":"IF(INTRO!$E$37=\"Endémique\",IF($H98>0,IF($H98=4,\"Inconnu\",IF($H98=99,\"Interrompu\",$D98)),0),\"Non requis\")","v":"Interrompu"},{"$f":"IF(INTRO!$E$39=\"Endémique\", IF($I98>0, IF($I98=4,\"Inconnu\",IF($I98=99,\"Interrompu\",$D98)), 0),\"Non requis\")","v":371400},{"$f":"IF(INTRO!$E$41=\"Endémique\", IF($J98>1, IF($J98=4, \"Inconnu\", IF($J98=99, \"Surveillance\", E98)), 0),\"Non requis\")","v":0},{"$f":"IF(INTRO!$E$41=\"Endémique\", IF($J98>1, IF($J98=4, \"Inconnu\", IF($J98=99, \"Surveillance\", F98)), 0),\"Non requis\")","v":0},{"$f":"IF(INTRO!$E$41=\"Endémique\", IF($J98>1, IF($J98=4, \"Inconnu\", IF($J98=99, \"Surveillance\", ROUND(D98*INTRO!$E$51,0))), 0),\"Non requis\")","v":0},{"$f":"IF(INTRO!$E$41=\"Endémique\", IF($J98>1, IF($J98=4, \"Inconnu\", IF($J98=99, \"Surveillance\", SUM($N98:$P98))), 0),\"Non requis\")","v":0},{"$f":"IF(INTRO!$E$43=\"Endémique\", IF($K98>1, IF($K98=4, \"Inconnu\", IF($K98=99, \"Surveillance\", ROUND(E98*0.75,0))), 0),\"Non requis\")","v":35348},0,{"$f":"IF(INTRO!$E$43=\"Endémique\", IF($K98>1, IF($K98=4, \"Inconnu\", IF($K98=99, \"Surveillance\", G98)), 0),\"Non requis\")","v":216749},{"$f":"IF(INTRO!$E$43=\"Endémique\", IF($K98>1, IF($K98=4, \"Inconnu\", IF($K98=99, \"Surveillance\", SUM($R98:$T98))), 0),\"Non requis\")","v":252097},0,1,0,0,null,null,null,null,null,null,null,null,15413,"MEAGUY"]
[{"$f":"IF(INTRO!$E$33<>0,INTRO!$E$33, \" \")","v":"Côte d'Ivoire"},"NAWA","SOUBRE",581573,{"$f":"IF(INTRO!$E$48=\"\",\"\",ROUND($D99*INTRO!$E$48,0))","v":73802},{"$f":"IF(INTRO!$E$49=\"\",\"\",ROUND($D99*INTRO!$E$49,0))","v":147952},{"$f":"IF(INTRO!$E$50=\"\",\"\",ROUND($D99*INTRO!$E$50,0))","v":339406},99,1,1,3,{"$f":"IF(INTRO!$E$37=\"Endémique\",IF($H99>0,IF($H99=4,\"Inconnu\",IF($H99=99,\"Interrompu\",$D99)),0),\"Non requis\")","v":"Interrompu"},{"$f":"IF(INTRO!$E$39=\"Endémique\", IF($I99>0, IF($I99=4,\"Inconnu\",IF($I99=99,\"Interrompu\",$D99)), 0),\"Non requis\")","v":581573},{"$f":"IF(INTRO!$E$41=\"Endémique\", IF($J99>1, IF($J99=4, \"Inconnu\", IF($J99=99, \"Surveillance\", E99)), 0),\"Non requis\")","v":0},{"$f":"IF(INTRO!$E$41=\"Endémique\", IF($J99>1, IF($J99=4, \"Inconnu\", IF($J99=99, \"Surveillance\", F99)), 0),\"Non requis\")","v":0},{"$f":"IF(INTRO!$E$41=\"Endémique\", IF($J99>1, IF($J99=4, \"Inconnu\", IF($J99=99, \"Surveillance\", ROUND(D99*INTRO!$E$51,0))), 0),\"Non requis\")","v":0},{"$f":"IF(INTRO!$E$41=\"Endémique\", IF($J99>1, IF($J99=4, \"Inconnu\", IF($J99=99, \"Surveillance\", SUM($N99:$P99))), 0),\"Non requis\")","v":0},{"$f":"IF(INTRO!$E$43=\"Endémique\", IF($K99>1, IF($K99=4, \"Inconnu\", IF($K99=99, \"Surveillance\", ROUND(E99*0.75,0))), 0),\"Non requis\")","v":55352},2670,{"$f":"IF(INTRO!$E$43=\"Endémique\", IF($K99>1, IF($K99=4, \"Inconnu\", IF($K99=99, \"Surveillance\", G99)), 0),\"Non requis\")","v":339406},{"$f":"IF(INTRO!$E$43=\"Endémique\", IF($K99>1, IF($K99=4, \"Inconnu\", IF($K99=99, \"Surveillance\", SUM($R99:$T99))), 0),\"Non requis\")","v":397428},0,1,0,1,null,null,null,null,null,null,null,null,15412,"SOUBRE"]
[{"$f":"IF(INTRO!$E$33<>0,INTRO!$E$33, \" \")","v":"Côte d'Ivoire"},"N'ZI","BOCANDA",168999,{"$f":"IF(INTRO!$E$48=\"\",\"\",ROUND($D100*INTRO!$E$48,0))","v":21446},{"$f":"IF(INTRO!$E$49=\"\",\"\",ROUND($D100*INTRO!$E$49,0))","v":42993},{"$f":"IF(INTRO!$E$50=\"\",\"\",ROUND($D100*INTRO!$E$50,0))","v":98628},0,1,2,2,{"$f":"IF(INTRO!$E$37=\"Endémique\",IF($H100>0,IF($H100=4,\"Inconnu\",IF($H100=99,\"Interrompu\",$D100)),0),\"Non requis\")","v":0},{"$f":"IF(INTRO!$E$39=\"Endémique\", IF($I100>0, IF($I100=4,\"Inconnu\",IF($I100=99,\"Interrompu\",$D100)), 0),\"Non requis\")","v":168999},{"$f":"IF(INTRO!$E$41=\"Endémique\", IF($J100>1, IF($J100=4, \"Inconnu\", IF($J100=99, \"Surveillance\", E100)), 0),\"Non requis\")","v":21446},{"$f":"IF(INTRO!$E$41=\"Endémique\", IF($J100>1, IF($J100=4, \"Inconnu\", IF($J100=99, \"Surveillance\", F100)), 0),\"Non requis\")","v":42993},{"$f":"IF(INTRO!$E$41=\"Endémique\", IF($J100>1, IF($J100=4, \"Inconnu\", IF($J100=99, \"Surveillance\", ROUND(D100*INTRO!$E$51,0))), 0),\"Non requis\")","v":40779},{"$f":"IF(INTRO!$E$41=\"Endémique\", IF($J100>1, IF($J100=4, \"Inconnu\", IF($J100=99, \"Surveillance\", SUM($N100:$P100))), 0),\"Non requis\")","v":105218},{"$f":"IF(INTRO!$E$43=\"Endémique\", IF($K100>1, IF($K100=4, \"Inconnu\", IF($K100=99, \"Surveillance\", ROUND(E100*0.75,0))), 0),\"Non requis\")","v":16085},32113,{"$f":"IF(INTRO!$E$43=\"Endémique\", IF($K100>1, IF($K100=4, \"Inconnu\", IF($K100=99, \"Surveillance\", G100)), 0),\"Non requis\")","v":98628},{"$f":"IF(INTRO!$E$43=\"Endémique\", IF($K100>1, IF($K100=4, \"Inconnu\", IF($K100=99, \"Surveillance\", SUM($R100:$T100))), 0),\"Non requis\")","v":146826},0,1,1,1,null,null,null,null,null,null,null,null,15444,"BOCANDA"]
[{"$f":"IF(INTRO!$E$33<>0,INTRO!$E$33, \" \")","v":"Côte d'Ivoire"},"N'ZI","DIMBOKRO",121254,{"$f":"IF(INTRO!$E$48=\"\",\"\",ROUND($D101*INTRO!$E$48,0))","v":15387},{"$f":"IF(INTRO!$E$49=\"\",\"\",ROUND($D101*INTRO!$E$49,0))","v":30847},{"$f":"IF(INTRO!$E$50=\"\",\"\",ROUND($D101*INTRO!$E$50,0))","v":70764},99,1,2,2,{"$f":"IF(INTRO!$E$37=\"Endémique\",IF($H101>0,IF($H101=4,\"Inconnu\",IF($H101=99,\"Interrompu\",$D101)),0),\"Non requis\")","v":"Interrompu"},{"$f":"IF(INTRO!$E$39=\"Endémique\", IF($I101>0, IF($I101=4,\"Inconnu\",IF($I101=99,\"Interrompu\",$D101)), 0),\"Non requis\")","v":121254},{"$f":"IF(INTRO!$E$41=\"Endémique\", IF($J101>1, IF($J101=4, \"Inconnu\", IF($J101=99, \"Surveillance\", E101)), 0),\"Non requis\")","v":15387},{"$f":"IF(INTRO!$E$41=\"Endémique\", IF($J101>1, IF($J101=4, \"Inconnu\", IF($J101=99, \"Surveillance\", F101)), 0),\"Non requis\")","v":30847},{"$f":"IF(INTRO!$E$41=\"Endémique\", IF($J101>1, IF($J101=4, \"Inconnu\", IF($J101=99, \"Surveillance\", ROUND(D101*INTRO!$E$51,0))), 0),\"Non requis\")","v":29259},{"$f":"IF(INTRO!$E$41=\"Endémique\", IF($J101>1, IF($J101=4, \"Inconnu\", IF($J101=99, \"Surveillance\", SUM($N101:$P101))), 0),\"Non requis\")","v":75493},{"$f":"IF(INTRO!$E$43=\"Endémique\", IF($K101>1, IF($K101=4, \"Inconnu\", IF($K101=99, \"Surveillance\", ROUND(E101*0.75,0))), 0),\"Non requis\")","v":11540},26247,{"$f":"IF(INTRO!$E$43=\"Endémique\", IF($K101>1, IF($K101=4, \"Inconnu\", IF($K101=99, \"Surveillance\", G101)), 0),\"Non requis\")","v":70764},{"$f":"IF(INTRO!$E$43=\"Endémique\", IF($K101>1, IF($K101=4, \"Inconnu\", IF($K101=99, \"Surveillance\", SUM($R101:$T101))), 0),\"Non requis\")","v":108551},0,1,1,1,null,null,null,null,null,null,null,null,15394,"DIMBOKRO"]
[{"$f":"IF(INTRO!$E$33<>0,INTRO!$E$33, \" \")","v":"Côte d'Ivoire"},"N'ZI","KOUASSI-KOUASSIKRO",39433,{"$f":"IF(INTRO!$E$48=\"\",\"\",ROUND($D102*INTRO!$E$48,0))","v":5004},{"$f":"IF(INTRO!$E$49=\"\",\"\",ROUND($D102*INTRO!$E$49,0))","v":10032},{"$f":"IF(INTRO!$E$50=\"\",\"\",ROUND($D102*INTRO!$E$50,0))","v":23013},0,1,2,1,{"$f":"IF(INTRO!$E$37=\"Endémique\",IF($H102>0,IF($H102=4,\"Inconnu\",IF($H102=99,\"Interrompu\",$D102)),0),\"Non requis\")","v":0},{"$f":"IF(INTRO!$E$39=\"Endémique\", IF($I102>0, IF($I102=4,\"Inconnu\",IF($I102=99,\"Interrompu\",$D102)), 0),\"Non requis\")","v":39433},{"$f":"IF(INTRO!$E$41=\"Endémique\", IF($J102>1, IF($J102=4, \"Inconnu\", IF($J102=99, \"Surveillance\", E102)), 0),\"Non requis\")","v":5004},{"$f":"IF(INTRO!$E$41=\"Endémique\", IF($J102>1, IF($J102=4, \"Inconnu\", IF($J102=99, \"Surveillance\", F102)), 0),\"Non requis\")","v":10032},{"$f":"IF(INTRO!$E$41=\"Endémique\", IF($J102>1, IF($J102=4, \"Inconnu\", IF($J102=99, \"Surveillance\", ROUND(D102*INTRO!$E$51,0))), 0),\"Non requis\")","v":9515},{"$f":"IF(INTRO!$E$41=\"Endémique\", IF($J102>1, IF($J102=4, \"Inconnu\", IF($J102=99, \"Surveillance\", SUM($N102:$P102))), 0),\"Non requis\")","v":24551},{"$f":"IF(INTRO!$E$43=\"Endémique\", IF($K102>1, IF($K102=4, \"Inconnu\", IF($K102=99, \"Surveillance\", ROUND(E102*0.75,0))), 0),\"Non requis\")","v":0},1783,{"$f":"IF(INTRO!$E$43=\"Endémique\", IF($K102>1, IF($K102=4, \"Inconnu\", IF($K102=99, \"Surveillance\", G102)), 0),\"Non requis\")","v":0},{"$f":"IF(INTRO!$E$43=\"Endémique\", IF($K102>1, IF($K102=4, \"Inconnu\", IF($K102=99, \"Surveillance\", SUM($R102:$T102))), 0),\"Non requis\")","v":0},0,1,1,1,null,null,null,null,null,null,null,null,15445,"KOUASSI-KOUASSIKRO"]
[{"$f":"IF(INTRO!$E$33<>0,INTRO!$E$33, \" \")","v":"Côte d'Ivoire"},"PORO","DIKODOUGOU",109632,{"$f":"IF(INTRO!$E$48=\"\",\"\",ROUND($D103*INTRO!$E$48,0))","v":13912},{"$f":"IF(INTRO!$E$49=\"\",\"\",ROUND($D103*INTRO!$E$49,0))","v":27890},{"$f":"IF(INTRO!$E$50=\"\",\"\",ROUND($D103*INTRO!$E$50,0))","v":63981},19,1,1,1,{"$f":"IF(INTRO!$E$37=\"Endémique\",IF($H103>0,IF($H103=4,\"Inconnu\",IF($H103=99,\"Interrompu\",$D103)),0),\"Non requis\")","v":109632},{"$f":"IF(INTRO!$E$39=\"Endémique\", IF($I103>0, IF($I103=4,\"Inconnu\",IF($I103=99,\"Interrompu\",$D103)), 0),\"Non requis\")","v":109632},{"$f":"IF(INTRO!$E$41=\"Endémique\", IF($J103>1, IF($J103=4, \"Inconnu\", IF($J103=99, \"Surveillance\", E103)), 0),\"Non requis\")","v":0},{"$f":"IF(INTRO!$E$41=\"Endémique\", IF($J103>1, IF($J103=4, \"Inconnu\", IF($J103=99, \"Surveillance\", F103)), 0),\"Non requis\")","v":0},{"$f":"IF(INTRO!$E$41=\"Endémique\", IF($J103>1, IF($J103=4, \"Inconnu\", IF($J103=99, \"Surveillance\", ROUND(D103*INTRO!$E$51,0))), 0),\"Non requis\")","v":0},{"$f":"IF(INTRO!$E$41=\"Endémique\", IF($J103>1, IF($J103=4, \"Inconnu\", IF($J103=99, \"Surveillance\", SUM($N103:$P103))), 0),\"Non requis\")","v":0},{"$f":"IF(INTRO!$E$43=\"Endémique\", IF($K103>1, IF($K103=4, \"Inconnu\", IF($K103=99, \"Surveillance\", ROUND(E103*0.75,0))), 0),\"Non requis\")","v":0},27858,{"$f":"IF(INTRO!$E$43=\"Endémique\", IF($K103>1, IF($K103=4, \"Inconnu\", IF($K103=99, \"Surveillance\", G103)), 0),\"Non requis\")","v":0},{"$f":"IF(INTRO!$E$43=\"Endémique\", IF($K103>1, IF($K103=4, \"Inconnu\", IF($K103=99, \"Surveillance\", SUM($R103:$T103))), 0),\"Non requis\")","v":0},0,1,0,1,null,"TAS",null,null,null,null,null,null,15455,"DIKODOUGOU"]
[{"$f":"IF(INTRO!$E$33<>0,INTRO!$E$33, \" \")","v":"Côte d'Ivoire"},"PORO","KORHOGO 1",604002,{"$f":"IF(INTRO!$E$48=\"\",\"\",ROUND($D104*INTRO!$E$48,0))","v":76648},{"$f":"IF(INTRO!$E$49=\"\",\"\",ROUND($D104*INTRO!$E$49,0))","v":153658},{"$f":"IF(INTRO!$E$50=\"\",\"\",ROUND($D104*INTRO!$E$50,0))","v":352496},19,1,1,2,{"$f":"IF(INTRO!$E$37=\"Endémique\",IF($H104>0,IF($H104=4,\"Inconnu\",IF($H104=99,\"Interrompu\",$D104)),0),\"Non requis\")","v":604002},{"$f":"IF(INTRO!$E$39=\"Endémique\", IF($I104>0, IF($I104=4,\"Inconnu\",IF($I104=99,\"Interrompu\",$D104)), 0),\"Non requis\")","v":604002},{"$f":"IF(INTRO!$E$41=\"Endémique\", IF($J104>1, IF($J104=4, \"Inconnu\", IF($J104=99, \"Surveillance\", E104)), 0),\"Non requis\")","v":0},{"$f":"IF(INTRO!$E$41=\"Endémique\", IF($J104>1, IF($J104=4, \"Inconnu\", IF($J104=99, \"Surveillance\", F104)), 0),\"Non requis\")","v":0},{"$f":"IF(INTRO!$E$41=\"Endémique\", IF($J104>1, IF($J104=4, \"Inconnu\", IF($J104=99, \"Surveillance\", ROUND(D104*INTRO!$E$51,0))), 0),\"Non requis\")","v":0},{"$f":"IF(INTRO!$E$41=\"Endémique\", IF($J104>1, IF($J104=4, \"Inconnu\", IF($J104=99, \"Surveillance\", SUM($N104:$P104))), 0),\"Non requis\")","v":0},{"$f":"IF(INTRO!$E$43=\"Endémique\", IF($K104>1, IF($K104=4, \"Inconnu\", IF($K104=99, \"Surveillance\", ROUND(E104*0.75,0))), 0),\"Non requis\")","v":57486},146013,{"$f":"IF(INTRO!$E$43=\"Endémique\", IF($K104>1, IF($K104=4, \"Inconnu\", IF($K104=99, \"Surveillance\", G104)), 0),\"Non requis\")","v":352496},{"$f":"IF(INTRO!$E$43=\"Endémique\", IF($K104>1, IF($K104=4, \"Inconnu\", IF($K104=99, \"Surveillance\", SUM($R104:$T104))), 0),\"Non requis\")","v":555995},0,1,0,1,null,"TAS",null,null,null,null,null,null,15453,"KORHOGO 1"]
[{"$f":"IF(INTRO!$E$33<>0,INTRO!$E$33, \" \")","v":"Côte d'Ivoire"},"PORO","KORHOGO 2",126433,{"$f":"IF(INTRO!$E$48=\"\",\"\",ROUND($D105*INTRO!$E$48,0))","v":16044},{"$f":"IF(INTRO!$E$49=\"\",\"\",ROUND($D105*INTRO!$E$49,0))","v":32165},{"$f":"IF(INTRO!$E$50=\"\",\"\",ROUND($D105*INTRO!$E$50,0))","v":73786},19,1,1,1,{"$f":"IF(INTRO!$E$37=\"Endémique\",IF($H105>0,IF($H105=4,\"Inconnu\",IF($H105=99,\"Interrompu\",$D105)),0),\"Non requis\")","v":126433},{"$f":"IF(INTRO!$E$39=\"Endémique\", IF($I105>0, IF($I105=4,\"Inconnu\",IF($I105=99,\"Interrompu\",$D105)), 0),\"Non requis\")","v":126433},{"$f":"IF(INTRO!$E$41=\"Endémique\", IF($J105>1, IF($J105=4, \"Inconnu\", IF($J105=99, \"Surveillance\", E105)), 0),\"Non requis\")","v":0},{"$f":"IF(INTRO!$E$41=\"Endémique\", IF($J105>1, IF($J105=4, \"Inconnu\", IF($J105=99, \"Surveillance\", F105)), 0),\"Non requis\")","v":0},{"$f":"IF(INTRO!$E$41=\"Endémique\", IF($J105>1, IF($J105=4, \"Inconnu\", IF($J105=99, \"Surveillance\", ROUND(D105*INTRO!$E$51,0))), 0),\"Non requis\")","v":0},{"$f":"IF(INTRO!$E$41=\"Endémique\", IF($J105>1, IF($J105=4, \"Inconnu\", IF($J105=99, \"Surveillance\", SUM($N105:$P105))), 0),\"Non requis\")","v":0},{"$f":"IF(INTRO!$E$43=\"Endémique\", IF($K105>1, IF($K105=4, \"Inconnu\", IF($K105=99, \"Surveillance\", ROUND(E105*0.75,0))), 0),\"Non requis\")","v":0},37690,{"$f":"IF(INTRO!$E$43=\"Endémique\", IF($K105>1, IF($K105=4, \"Inconnu\", IF($K105=99, \"Surveillance\", G105)), 0),\"Non requis\")","v":0},{"$f":"IF(INTRO!$E$43=\"Endémique\", IF($K105>1, IF($K105=4, \"Inconnu\", IF($K105=99, \"Surveillance\", SUM($R105:$T105))), 0),\"Non requis\")","v":0},0,1,0,1,null,"TAS",null,null,null,null,null,null,15454,"KORHOGO 2"]
[{"$f":"IF(INTRO!$E$33<>0,INTRO!$E$33, \" \")","v":"Côte d'Ivoire"},"PORO","M'BENGUE",119474,{"$f":"IF(INTRO!$E$48=\"\",\"\",ROUND($D106*INTRO!$E$48,0))","v":15161},{"$f":"IF(INTRO!$E$49=\"\",\"\",ROUND($D106*INTRO!$E$49,0))","v":30394},{"$f":"IF(INTRO!$E$50=\"\",\"\",ROUND($D106*INTRO!$E$50,0))","v":69725},19,1,1,1,{"$f":"IF(INTRO!$E$37=\"Endémique\",IF($H106>0,IF($H106=4,\"Inconnu\",IF($H106=99,\"Interrompu\",$D106)),0),\"Non requis\")","v":119474},{"$f":"IF(INTRO!$E$39=\"Endémique\", IF($I106>0, IF($I106=4,\"Inconnu\",IF($I106=99,\"Interrompu\",$D106)), 0),\"Non requis\")","v":119474},{"$f":"IF(INTRO!$E$41=\"Endémique\", IF($J106>1, IF($J106=4, \"Inconnu\", IF($J106=99, \"Surveillance\", E106)), 0),\"Non requis\")","v":0},{"$f":"IF(INTRO!$E$41=\"Endémique\", IF($J106>1, IF($J106=4, \"Inconnu\", IF($J106=99, \"Surveillance\", F106)), 0),\"Non requis\")","v":0},{"$f":"IF(INTRO!$E$41=\"Endémique\", IF($J106>1, IF($J106=4, \"Inconnu\", IF($J106=99, \"Surveillance\", ROUND(D106*INTRO!$E$51,0))), 0),\"Non requis\")","v":0},{"$f":"IF(INTRO!$E$41=\"Endémique\", IF($J106>1, IF($J106=4, \"Inconnu\", IF($J106=99, \"Surveillance\", SUM($N106:$P106))), 0),\"Non requis\")","v":0},{"$f":"IF(INTRO!$E$43=\"Endémique\", IF($K106>1, IF($K106=4, \"Inconnu\", IF($K106=99, \"Surveillance\", ROUND(E106*0.75,0))), 0),\"Non requis\")","v":0},27217,{"$f":"IF(INTRO!$E$43=\"Endémique\", IF($K106>1, IF($K106=4, \"Inconnu\", IF($K106=99, \"Surveillance\", G106)), 0),\"Non requis\")","v":0},{"$f":"IF(INTRO!$E$43=\"Endémique\", IF($K106>1, IF($K106=4, \"Inconnu\", IF($K106=99, \"Surveillance\", SUM($R106:$T106))), 0),\"Non requis\")","v":0},0,1,0,1,null,"TAS",null,null,null,null,null,null,15463,"M'BENGUE"]
[{"$f":"IF(INTRO!$E$33<>0,INTRO!$E$33, \" \")","v":"Côte d'Ivoire"},"PORO","SINEMENTILAI",79746,{"$f":"IF(INTRO!$E$48=\"\",\"\",ROUND($D107*INTRO!$E$48,0))","v":10120},{"$f":"IF(INTRO!$E$49=\"\",\"\",ROUND($D107*INTRO!$E$49,0))","v":20287},{"$f":"IF(INTRO!$E$50=\"\",\"\",ROUND($D107*INTRO!$E$50,0))","v":46540},19,1,1,1,{"$f":"IF(INTRO!$E$37=\"Endémique\",IF($H107>0,IF($H107=4,\"Inconnu\",IF($H107=99,\"Interrompu\",$D107)),0),\"Non requis\")","v":79746},{"$f":"IF(INTRO!$E$39=\"Endémique\", IF($I107>0, IF($I107=4,\"Inconnu\",IF($I107=99,\"Interrompu\",$D107)), 0),\"Non requis\")","v":79746},{"$f":"IF(INTRO!$E$41=\"Endémique\", IF($J107>1, IF($J107=4, \"Inconnu\", IF($J107=99, \"Surveillance\", E107)), 0),\"Non requis\")","v":0},{"$f":"IF(INTRO!$E$41=\"Endémique\", IF($J107>1, IF($J107=4, \"Inconnu\", IF($J107=99, \"Surveillance\", F107)), 0),\"Non requis\")","v":0},{"$f":"IF(INTRO!$E$41=\"Endémique\", IF($J107>1, IF($J107=4, \"Inconnu\", IF($J107=99, \"Surveillance\", ROUND(D107*INTRO!$E$51,0))), 0),\"Non requis\")","v":0},{"$f":"IF(INTRO!$E$41=\"Endémique\", IF($J107>1, IF($J107=4, \"Inconnu\", IF($J107=99, \"Surveillance\", SUM($N107:$P107))), 0),\"Non requis\")","v":0},{"$f":"IF(INTRO!$E$43=\"Endémique\", IF($K107>1, IF($K107=4, \"Inconnu\", IF($K107=99, \"Surveillance\", ROUND(E107*0.75,0))), 0),\"Non requis\")","v":0},24239,{"$f":"IF(INTRO!$E$43=\"Endémique\", IF($K107>1, IF($K107=4, \"Inconnu\", IF($K107=99, \"Surveillance\", G107)), 0),\"Non requis\")","v":0},{"$f":"IF(INTRO!$E$43=\"Endémique\", IF($K107>1, IF($K107=4, \"Inconnu\", IF($K107=99, \"Surveillance\", SUM($R107:$T107))), 0),\"Non requis\")","v":0},0,1,0,1,null,"TAS",null,null,null,null,null,null,15464,"SINEMENTILAI"]
[{"$f":"IF(INTRO!$E$33<>0,INTRO!$E$33, \" \")","v":"Côte d'Ivoire"},"SAN-PEDRO","SAN PEDRO",730307,{"$f":"IF(INTRO!$E$48=\"\",\"\",ROUND($D108*INTRO!$E$48,0))","v":92676},{"$f":"IF(INTRO!$E$49=\"\",\"\",ROUND($D108*INTRO!$E$49,0))","v":185790},{"$f":"IF(INTRO!$E$50=\"\",\"\",ROUND($D108*INTRO!$E$50,0))","v":426207},99,0,1,2,{"$f":"IF(INTRO!$E$37=\"Endémique\",IF($H108>0,IF($H108=4,\"Inconnu\",IF($H108=99,\"Interrompu\",$D108)),0),\"Non requis\")","v":"Interrompu"},{"$f":"IF(INTRO!$E$39=\"Endémique\", IF($I108>0, IF($I108=4,\"Inconnu\",IF($I108=99,\"Interrompu\",$D108)), 0),\"Non requis\")","v":0},{"$f":"IF(INTRO!$E$41=\"Endémique\", IF($J108>1, IF($J108=4, \"Inconnu\", IF($J108=99, \"Surveillance\", E108)), 0),\"Non requis\")","v":0},{"$f":"IF(INTRO!$E$41=\"Endémique\", IF($J108>1, IF($J108=4, \"Inconnu\", IF($J108=99, \"Surveillance\", F108)), 0),\"Non requis\")","v":0},{"$f":"IF(INTRO!$E$41=\"Endémique\", IF($J108>1, IF($J108=4, \"Inconnu\", IF($J108=99, \"Surveillance\", ROUND(D108*INTRO!$E$51,0))), 0),\"Non requis\")","v":0},{"$f":"IF(INTRO!$E$41=\"Endémique\", IF($J108>1, IF($J108=4, \"Inconnu\", IF($J108=99, \"Surveillance\", SUM($N108:$P108))), 0),\"Non requis\")","v":0},{"$f":"IF(INTRO!$E$43=\"Endémique\", IF($K108>1, IF($K108=4, \"Inconnu\", IF($K108=99, \"Surveillance\", ROUND(E108*0.75,0))), 0),\"Non requis\")","v":69507},0,{"$f":"IF(INTRO!$E$43=\"Endémique\", IF($K108>1, IF($K108=4, \"Inconnu\", IF($K108=99, \"Surveillance\", G108)), 0),\"Non requis\")","v":426207},{"$f":"IF(INTRO!$E$43=\"Endémique\", IF($K108>1, IF($K108=4, \"Inconnu\", IF($K108=99, \"Surveillance\", SUM($R108:$T108))), 0),\"Non requis\")","v":495714},0,0,0,0,null,null,null,null,null,null,null,null,15367,"SAN PEDRO"]
[{"$f":"IF(INTRO!$E$33<>0,INTRO!$E$33, \" \")","v":"Côte d'Ivoire"},"SAN-PEDRO","TABOU",226225,{"$f":"IF(INTRO!$E$48=\"\",\"\",ROUND($D109*INTRO!$E$48,0))","v":28708},{"$f":"IF(INTRO!$E$49=\"\",\"\",ROUND($D109*INTRO!$E$49,0))","v":57552},{"$f":"IF(INTRO!$E$50=\"\",\"\",ROUND($D109*INTRO!$E$50,0))","v":132025},99,1,2,2,{"$f":"IF(INTRO!$E$37=\"Endémique\",IF($H109>0,IF($H109=4,\"Inconnu\",IF($H109=99,\"Interrompu\",$D109)),0),\"Non requis\")","v":"Interrompu"},{"$f":"IF(INTRO!$E$39=\"Endémique\", IF($I109>0, IF($I109=4,\"Inconnu\",IF($I109=99,\"Interrompu\",$D109)), 0),\"Non requis\")","v":226225},{"$f":"IF(INTRO!$E$41=\"Endémique\", IF($J109>1, IF($J109=4, \"Inconnu\", IF($J109=99, \"Surveillance\", E109)), 0),\"Non requis\")","v":28708},{"$f":"IF(INTRO!$E$41=\"Endémique\", IF($J109>1, IF($J109=4, \"Inconnu\", IF($J109=99, \"Surveillance\", F109)), 0),\"Non requis\")","v":57552},{"$f":"IF(INTRO!$E$41=\"Endémique\", IF($J109>1, IF($J109=4, \"Inconnu\", IF($J109=99, \"Surveillance\", ROUND(D109*INTRO!$E$51,0))), 0),\"Non requis\")","v":54588},{"$f":"IF(INTRO!$E$41=\"Endémique\", IF($J109>1, IF($J109=4, \"Inconnu\", IF($J109=99, \"Surveillance\", SUM($N109:$P109))), 0),\"Non requis\")","v":140848},{"$f":"IF(INTRO!$E$43=\"Endémique\", IF($K109>1, IF($K109=4, \"Inconnu\", IF($K109=99, \"Surveillance\", ROUND(E109*0.75,0))), 0),\"Non requis\")","v":21531},0,{"$f":"IF(INTRO!$E$43=\"Endémique\", IF($K109>1, IF($K109=4, \"Inconnu\", IF($K109=99, \"Surveillance\", G109)), 0),\"Non requis\")","v":132025},{"$f":"IF(INTRO!$E$43=\"Endémique\", IF($K109>1, IF($K109=4, \"Inconnu\", IF($K109=99, \"Surveillance\", SUM($R109:$T109))), 0),\"Non requis\")","v":153556},0,1,1,0,null,null,null,null,null,null,null,null,15370,"TABOU"]
[{"$f":"IF(INTRO!$E$33<>0,INTRO!$E$33, \" \")","v":"Côte d'Ivoire"},"SUD-COMOE","ABOISSO",358179,{"$f":"IF(INTRO!$E$48=\"\",\"\",ROUND($D110*INTRO!$E$48,0))","v":45453},{"$f":"IF(INTRO!$E$49=\"\",\"\",ROUND($D110*INTRO!$E$49,0))","v":91121},{"$f":"IF(INTRO!$E$50=\"\",\"\",ROUND($D110*INTRO!$E$50,0))","v":209033},99,1,1,3,{"$f":"IF(INTRO!$E$37=\"Endémique\",IF($H110>0,IF($H110=4,\"Inconnu\",IF($H110=99,\"Interrompu\",$D110)),0),\"Non requis\")","v":"Interrompu"},{"$f":"IF(INTRO!$E$39=\"Endémique\", IF($I110>0, IF($I110=4,\"Inconnu\",IF($I110=99,\"Interrompu\",$D110)), 0),\"Non requis\")","v":358179},{"$f":"IF(INTRO!$E$41=\"Endémique\", IF($J110>1, IF($J110=4, \"Inconnu\", IF($J110=99, \"Surveillance\", E110)), 0),\"Non requis\")","v":0},{"$f":"IF(INTRO!$E$41=\"Endémique\", IF($J110>1, IF($J110=4, \"Inconnu\", IF($J110=99, \"Surveillance\", F110)), 0),\"Non requis\")","v":0},{"$f":"IF(INTRO!$E$41=\"Endémique\", IF($J110>1, IF($J110=4, \"Inconnu\", IF($J110=99, \"Surveillance\", ROUND(D110*INTRO!$E$51,0))), 0),\"Non requis\")","v":0},{"$f":"IF(INTRO!$E$41=\"Endémique\", IF($J110>1, IF($J110=4, \"Inconnu\", IF($J110=99, \"Surveillance\", SUM($N110:$P110))), 0),\"Non requis\")","v":0},{"$f":"IF(INTRO!$E$43=\"Endémique\", IF($K110>1, IF($K110=4, \"Inconnu\", IF($K110=99, \"Surveillance\", ROUND(E110*0.75,0))), 0),\"Non requis\")","v":34090},82584,{"$f":"IF(INTRO!$E$43=\"Endémique\", IF($K110>1, IF($K110=4, \"Inconnu\", IF($K110=99, \"Surveillance\", G110)), 0),\"Non requis\")","v":209033},{"$f":"IF(INTRO!$E$43=\"Endémique\", IF($K110>1, IF($K110=4, \"Inconnu\", IF($K110=99, \"Surveillance\", SUM($R110:$T110))), 0),\"Non requis\")","v":325707},0,1,0,1,null,null,null,null,null,null,null,null,15402,"ABOISSO"]
[{"$f":"IF(INTRO!$E$33<>0,INTRO!$E$33, \" \")","v":"Côte d'Ivoire"},"SUD-COMOE","ADIAKE",97204,{"$f":"IF(INTRO!$E$48=\"\",\"\",ROUND($D111*INTRO!$E$48,0))","v":12335},{"$f":"IF(INTRO!$E$49=\"\",\"\",ROUND($D111*INTRO!$E$49,0))","v":24729},{"$f":"IF(INTRO!$E$50=\"\",\"\",ROUND($D111*INTRO!$E$50,0))","v":56728},99,1,1,1,{"$f":"IF(INTRO!$E$37=\"Endémique\",IF($H111>0,IF($H111=4,\"Inconnu\",IF($H111=99,\"Interrompu\",$D111)),0),\"Non requis\")","v":"Interrompu"},{"$f":"IF(INTRO!$E$39=\"Endémique\", IF($I111>0, IF($I111=4,\"Inconnu\",IF($I111=99,\"Interrompu\",$D111)), 0),\"Non requis\")","v":97204},{"$f":"IF(INTRO!$E$41=\"Endémique\", IF($J111>1, IF($J111=4, \"Inconnu\", IF($J111=99, \"Surveillance\", E111)), 0),\"Non requis\")","v":0},{"$f":"IF(INTRO!$E$41=\"Endémique\", IF($J111>1, IF($J111=4, \"Inconnu\", IF($J111=99, \"Surveillance\", F111)), 0),\"Non requis\")","v":0},{"$f":"IF(INTRO!$E$41=\"Endémique\", IF($J111>1, IF($J111=4, \"Inconnu\", IF($J111=99, \"Surveillance\", ROUND(D111*INTRO!$E$51,0))), 0),\"Non requis\")","v":0},{"$f":"IF(INTRO!$E$41=\"Endémique\", IF($J111>1, IF($J111=4, \"Inconnu\", IF($J111=99, \"Surveillance\", SUM($N111:$P111))), 0),\"Non requis\")","v":0},{"$f":"IF(INTRO!$E$43=\"Endémique\", IF($K111>1, IF($K111=4, \"Inconnu\", IF($K111=99, \"Surveillance\", ROUND(E111*0.75,0))), 0),\"Non requis\")","v":0},0,{"$f":"IF(INTRO!$E$43=\"Endémique\", IF($K111>1, IF($K111=4, \"Inconnu\", IF($K111=99, \"Surveillance\", G111)), 0),\"Non requis\")","v":0},{"$f":"IF(INTRO!$E$43=\"Endémique\", IF($K111>1, IF($K111=4, \"Inconnu\", IF($K111=99, \"Surveillance\", SUM($R111:$T111))), 0),\"Non requis\")","v":0},0,1,0,0,null,null,null,null,null,null,null,null,15456,"ADIAKE"]
[{"$f":"IF(INTRO!$E$33<>0,INTRO!$E$33, \" \")","v":"Côte d'Ivoire"},"SUD-COMOE","GRAND-BASSAM",208338,{"$f":"IF(INTRO!$E$48=\"\",\"\",ROUND($D112*INTRO!$E$48,0))","v":26438},{"$f":"IF(INTRO!$E$49=\"\",\"\",ROUND($D112*INTRO!$E$49,0))","v":53001},{"$f":"IF(INTRO!$E$50=\"\",\"\",ROUND($D112*INTRO!$E$50,0))","v":121586},99,1,2,2,{"$f":"IF(INTRO!$E$37=\"Endémique\",IF($H112>0,IF($H112=4,\"Inconnu\",IF($H112=99,\"Interrompu\",$D112)),0),\"Non requis\")","v":"Interrompu"},{"$f":"IF(INTRO!$E$39=\"Endémique\", IF($I112>0, IF($I112=4,\"Inconnu\",IF($I112=99,\"Interrompu\",$D112)), 0),\"Non requis\")","v":208338},{"$f":"IF(INTRO!$E$41=\"Endémique\", IF($J112>1, IF($J112=4, \"Inconnu\", IF($J112=99, \"Surveillance\", E112)), 0),\"Non requis\")","v":26438},{"$f":"IF(INTRO!$E$41=\"Endémique\", IF($J112>1, IF($J112=4, \"Inconnu\", IF($J112=99, \"Surveillance\", F112)), 0),\"Non requis\")","v":53001},{"$f":"IF(INTRO!$E$41=\"Endémique\", IF($J112>1, IF($J112=4, \"Inconnu\", IF($J112=99, \"Surveillance\", ROUND(D112*INTRO!$E$51,0))), 0),\"Non requis\")","v":50272},{"$f":"IF(INTRO!$E$41=\"Endémique\", IF($J112>1, IF($J112=4, \"Inconnu\", IF($J112=99, \"Surveillance\", SUM($N112:$P112))), 0),\"Non requis\")","v":129711},{"$f":"IF(INTRO!$E$43=\"Endémique\", IF($K112>1, IF($K112=4, \"Inconnu\", IF($K112=99, \"Surveillance\", ROUND(E112*0.75,0))), 0),\"Non requis\")","v":19829},0,{"$f":"IF(INTRO!$E$43=\"Endémique\", IF($K112>1, IF($K112=4, \"Inconnu\", IF($K112=99, \"Surveillance\", G112)), 0),\"Non requis\")","v":121586},{"$f":"IF(INTRO!$E$43=\"Endémique\", IF($K112>1, IF($K112=4, \"Inconnu\", IF($K112=99, \"Surveillance\", SUM($R112:$T112))), 0),\"Non requis\")","v":141415},0,1,1,0,null,null,null,null,null,null,null,null,15404,"GRAND-BASSAM"]
[{"$f":"IF(INTRO!$E$33<>0,INTRO!$E$33, \" \")","v":"Côte d'Ivoire"},"SUD-COMOE","TIAPOUM",83955,{"$f":"IF(INTRO!$E$48=\"\",\"\",ROUND($D113*INTRO!$E$48,0))","v":10654},{"$f":"IF(INTRO!$E$49=\"\",\"\",ROUND($D113*INTRO!$E$49,0))","v":21358},{"$f":"IF(INTRO!$E$50=\"\",\"\",ROUND($D113*INTRO!$E$50,0))","v":48996},19,1,1,1,{"$f":"IF(INTRO!$E$37=\"Endémique\",IF($H113>0,IF($H113=4,\"Inconnu\",IF($H113=99,\"Interrompu\",$D113)),0),\"Non requis\")","v":83955},{"$f":"IF(INTRO!$E$39=\"Endémique\", IF($I113>0, IF($I113=4,\"Inconnu\",IF($I113=99,\"Interrompu\",$D113)), 0),\"Non requis\")","v":83955},{"$f":"IF(INTRO!$E$41=\"Endémique\", IF($J113>1, IF($J113=4, \"Inconnu\", IF($J113=99, \"Surveillance\", E113)), 0),\"Non requis\")","v":0},{"$f":"IF(INTRO!$E$41=\"Endémique\", IF($J113>1, IF($J113=4, \"Inconnu\", IF($J113=99, \"Surveillance\", F113)), 0),\"Non requis\")","v":0},{"$f":"IF(INTRO!$E$41=\"Endémique\", IF($J113>1, IF($J113=4, \"Inconnu\", IF($J113=99, \"Surveillance\", ROUND(D113*INTRO!$E$51,0))), 0),\"Non requis\")","v":0},{"$f":"IF(INTRO!$E$41=\"Endémique\", IF($J113>1, IF($J113=4, \"Inconnu\", IF($J113=99, \"Surveillance\", SUM($N113:$P113))), 0),\"Non requis\")","v":0},{"$f":"IF(INTRO!$E$43=\"Endémique\", IF($K113>1, IF($K113=4, \"Inconnu\", IF($K113=99, \"Surveillance\", ROUND(E113*0.75,0))), 0),\"Non requis\")","v":0},0,{"$f":"IF(INTRO!$E$43=\"Endémique\", IF($K113>1, IF($K113=4, \"Inconnu\", IF($K113=99, \"Surveillance\", G113)), 0),\"Non requis\")","v":0},{"$f":"IF(INTRO!$E$43=\"Endémique\", IF($K113>1, IF($K113=4, \"Inconnu\", IF($K113=99, \"Surveillance\", SUM($R113:$T113))), 0),\"Non requis\")","v":0},0,1,0,0,null,"TAS",null,null,null,null,null,null,15457,"TIAPOUM"]
[{"$f":"IF(INTRO!$E$33<>0,INTRO!$E$33, \" \")","v":"Côte d'Ivoire"},"TCHOLOGO","FERKESSEDOUGOU",200957,{"$f":"IF(INTRO!$E$48=\"\",\"\",ROUND($D114*INTRO!$E$48,0))","v":25501},{"$f":"IF(INTRO!$E$49=\"\",\"\",ROUND($D114*INTRO!$E$49,0))","v":51123},{"$f":"IF(INTRO!$E$50=\"\",\"\",ROUND($D114*INTRO!$E$50,0))","v":117279},19,1,2,1,{"$f":"IF(INTRO!$E$37=\"Endémique\",IF($H114>0,IF($H114=4,\"Inconnu\",IF($H114=99,\"Interrompu\",$D114)),0),\"Non requis\")","v":200957},{"$f":"IF(INTRO!$E$39=\"Endémique\", IF($I114>0, IF($I114=4,\"Inconnu\",IF($I114=99,\"Interrompu\",$D114)), 0),\"Non requis\")","v":200957},{"$f":"IF(INTRO!$E$41=\"Endémique\", IF($J114>1, IF($J114=4, \"Inconnu\", IF($J114=99, \"Surveillance\", E114)), 0),\"Non requis\")","v":25501},{"$f":"IF(INTRO!$E$41=\"Endémique\", IF($J114>1, IF($J114=4, \"Inconnu\", IF($J114=99, \"Surveillance\", F114)), 0),\"Non requis\")","v":51123},{"$f":"IF(INTRO!$E$41=\"Endémique\", IF($J114>1, IF($J114=4, \"Inconnu\", IF($J114=99, \"Surveillance\", ROUND(D114*INTRO!$E$51,0))), 0),\"Non requis\")","v":48491},{"$f":"IF(INTRO!$E$41=\"Endémique\", IF($J114>1, IF($J114=4, \"Inconnu\", IF($J114=99, \"Surveillance\", SUM($N114:$P114))), 0),\"Non requis\")","v":125115},{"$f":"IF(INTRO!$E$43=\"Endémique\", IF($K114>1, IF($K114=4, \"Inconnu\", IF($K114=99, \"Surveillance\", ROUND(E114*0.75,0))), 0),\"Non requis\")","v":0},0,{"$f":"IF(INTRO!$E$43=\"Endémique\", IF($K114>1, IF($K114=4, \"Inconnu\", IF($K114=99, \"Surveillance\", G114)), 0),\"Non requis\")","v":0},{"$f":"IF(INTRO!$E$43=\"Endémique\", IF($K114>1, IF($K114=4, \"Inconnu\", IF($K114=99, \"Surveillance\", SUM($R114:$T114))), 0),\"Non requis\")","v":0},0,1,1,0,null,"TAS",null,null,null,null,null,null,15451,"FERKESSEDOUGOU"]
[{"$f":"IF(INTRO!$E$33<>0,INTRO!$E$33, \" \")","v":"Côte d'Ivoire"},"TCHOLOGO","KONG",123341,{"$f":"IF(INTRO!$E$48=\"\",\"\",ROUND($D115*INTRO!$E$48,0))","v":15652},{"$f":"IF(INTRO!$E$49=\"\",\"\",ROUND($D115*INTRO!$E$49,0))","v":31378},{"$f":"IF(INTRO!$E$50=\"\",\"\",ROUND($D115*INTRO!$E$50,0))","v":71982},19,1,2,1,{"$f":"IF(INTRO!$E$37=\"Endémique\",IF($H115>0,IF($H115=4,\"Inconnu\",IF($H115=99,\"Interrompu\",$D115)),0),\"Non requis\")","v":123341},{"$f":"IF(INTRO!$E$39=\"Endémique\", IF($I115>0, IF($I115=4,\"Inconnu\",IF($I115=99,\"Interrompu\",$D115)), 0),\"Non requis\")","v":123341},{"$f":"IF(INTRO!$E$41=\"Endémique\", IF($J115>1, IF($J115=4, \"Inconnu\", IF($J115=99, \"Surveillance\", E115)), 0),\"Non requis\")","v":15652},{"$f":"IF(INTRO!$E$41=\"Endémique\", IF($J115>1, IF($J115=4, \"Inconnu\", IF($J115=99, \"Surveillance\", F115)), 0),\"Non requis\")","v":31378},{"$f":"IF(INTRO!$E$41=\"Endémique\", IF($J115>1, IF($J115=4, \"Inconnu\", IF($J115=99, \"Surveillance\", ROUND(D115*INTRO!$E$51,0))), 0),\"Non requis\")","v":29762},{"$f":"IF(INTRO!$E$41=\"Endémique\", IF($J115>1, IF($J115=4, \"Inconnu\", IF($J115=99, \"Surveillance\", SUM($N115:$P115))), 0),\"Non requis\")","v":76792},{"$f":"IF(INTRO!$E$43=\"Endémique\", IF($K115>1, IF($K115=4, \"Inconnu\", IF($K115=99, \"Surveillance\", ROUND(E115*0.75,0))), 0),\"Non requis\")","v":0},0,{"$f":"IF(INTRO!$E$43=\"Endémique\", IF($K115>1, IF($K115=4, \"Inconnu\", IF($K115=99, \"Surveillance\", G115)), 0),\"Non requis\")","v":0},{"$f":"IF(INTRO!$E$43=\"Endémique\", IF($K115>1, IF($K115=4, \"Inconnu\", IF($K115=99, \"Surveillance\", SUM($R115:$T115))), 0),\"Non requis\")","v":0},0,1,1,0,null,"TAS",null,null,null,null,null,null,15452,"KONG"]
[{"$f":"IF(INTRO!$E$33<>0,INTRO!$E$33, \" \")","v":"Côte d'Ivoire"},"TCHOLOGO","OUANGOLODOUGOU",332116,{"$f":"IF(INTRO!$E$48=\"\",\"\",ROUND($D116*INTRO!$E$48,0))","v":42146},{"$f":"IF(INTRO!$E$49=\"\",\"\",ROUND($D116*INTRO!$E$49,0))","v":84490},{"$f":"IF(INTRO!$E$50=\"\",\"\",ROUND($D116*INTRO!$E$50,0))","v":193823},19,1,1,2,{"$f":"IF(INTRO!$E$37=\"Endémique\",IF($H116>0,IF($H116=4,\"Inconnu\",IF($H116=99,\"Interrompu\",$D116)),0),\"Non requis\")","v":332116},{"$f":"IF(INTRO!$E$39=\"Endémique\", IF($I116>0, IF($I116=4,\"Inconnu\",IF($I116=99,\"Interrompu\",$D116)), 0),\"Non requis\")","v":332116},{"$f":"IF(INTRO!$E$41=\"Endémique\", IF($J116>1, IF($J116=4, \"Inconnu\", IF($J116=99, \"Surveillance\", E116)), 0),\"Non requis\")","v":0},{"$f":"IF(INTRO!$E$41=\"Endémique\", IF($J116>1, IF($J116=4, \"Inconnu\", IF($J116=99, \"Surveillance\", F116)), 0),\"Non requis\")","v":0},{"$f":"IF(INTRO!$E$41=\"Endémique\", IF($J116>1, IF($J116=4, \"Inconnu\", IF($J116=99, \"Surveillance\", ROUND(D116*INTRO!$E$51,0))), 0),\"Non requis\")","v":0},{"$f":"IF(INTRO!$E$41=\"Endémique\", IF($J116>1, IF($J116=4, \"Inconnu\", IF($J116=99, \"Surveillance\", SUM($N116:$P116))), 0),\"Non requis\")","v":0},{"$f":"IF(INTRO!$E$43=\"Endémique\", IF($K116>1, IF($K116=4, \"Inconnu\", IF($K116=99, \"Surveillance\", ROUND(E116*0.75,0))), 0),\"Non requis\")","v":31610},0,{"$f":"IF(INTRO!$E$43=\"Endémique\", IF($K116>1, IF($K116=4, \"Inconnu\", IF($K116=99, \"Surveillance\", G116)), 0),\"Non requis\")","v":193823},{"$f":"IF(INTRO!$E$43=\"Endémique\", IF($K116>1, IF($K116=4, \"Inconnu\", IF($K116=99, \"Surveillance\", SUM($R116:$T116))), 0),\"Non requis\")","v":225433},0,1,0,0,null,"TAS",null,null,null,null,null,null,15400,"OUANGOLODOUGOU"]
[{"$f":"IF(INTRO!$E$33<>0,INTRO!$E$33, \" \")","v":"Côte d'Ivoire"},"TONKPI","BIANKOUMA",244785,{"$f":"IF(INTRO!$E$48=\"\",\"\",ROUND($D117*INTRO!$E$48,0))","v":31063},{"$f":"IF(INTRO!$E$49=\"\",\"\",ROUND($D117*INTRO!$E$49,0))","v":62273},{"$f":"IF(INTRO!$E$50=\"\",\"\",ROUND($D117*INTRO!$E$50,0))","v":142857},19,1,2,2,{"$f":"IF(INTRO!$E$37=\"Endémique\",IF($H117>0,IF($H117=4,\"Inconnu\",IF($H117=99,\"Interrompu\",$D117)),0),\"Non requis\")","v":244785},{"$f":"IF(INTRO!$E$39=\"Endémique\", IF($I117>0, IF($I117=4,\"Inconnu\",IF($I117=99,\"Interrompu\",$D117)), 0),\"Non requis\")","v":244785},{"$f":"IF(INTRO!$E$41=\"Endémique\", IF($J117>1, IF($J117=4, \"Inconnu\", IF($J117=99, \"Surveillance\", E117)), 0),\"Non requis\")","v":31063},{"$f":"IF(INTRO!$E$41=\"Endémique\", IF($J117>1, IF($J117=4, \"Inconnu\", IF($J117=99, \"Surveillance\", F117)), 0),\"Non requis\")","v":62273},{"$f":"IF(INTRO!$E$41=\"Endémique\", IF($J117>1, IF($J117=4, \"Inconnu\", IF($J117=99, \"Surveillance\", ROUND(D117*INTRO!$E$51,0))), 0),\"Non requis\")","v":59067},{"$f":"IF(INTRO!$E$41=\"Endémique\", IF($J117>1, IF($J117=4, \"Inconnu\", IF($J117=99, \"Surveillance\", SUM($N117:$P117))), 0),\"Non requis\")","v":152403},{"$f":"IF(INTRO!$E$43=\"Endémique\", IF($K117>1, IF($K117=4, \"Inconnu\", IF($K117=99, \"Surveillance\", ROUND(E117*0.75,0))), 0),\"Non requis\")","v":23297},0,{"$f":"IF(INTRO!$E$43=\"Endémique\", IF($K117>1, IF($K117=4, \"Inconnu\", IF($K117=99, \"Surveillance\", G117)), 0),\"Non requis\")","v":142857},{"$f":"IF(INTRO!$E$43=\"Endémique\", IF($K117>1, IF($K117=4, \"Inconnu\", IF($K117=99, \"Surveillance\", SUM($R117:$T117))), 0),\"Non requis\")","v":166154},0,1,1,0,null,"TAS",null,null,null,null,null,null,15405,"BIANKOUMA"]
[{"$f":"IF(INTRO!$E$33<>0,INTRO!$E$33, \" \")","v":"Côte d'Ivoire"},"TONKPI","DANANE",333357,{"$f":"IF(INTRO!$E$48=\"\",\"\",ROUND($D118*INTRO!$E$48,0))","v":42303},{"$f":"IF(INTRO!$E$49=\"\",\"\",ROUND($D118*INTRO!$E$49,0))","v":84806},{"$f":"IF(INTRO!$E$50=\"\",\"\",ROUND($D118*INTRO!$E$50,0))","v":194547},19,1,1,2,{"$f":"IF(INTRO!$E$37=\"Endémique\",IF($H118>0,IF($H118=4,\"Inconnu\",IF($H118=99,\"Interrompu\",$D118)),0),\"Non requis\")","v":333357},{"$f":"IF(INTRO!$E$39=\"Endémique\", IF($I118>0, IF($I118=4,\"Inconnu\",IF($I118=99,\"Interrompu\",$D118)), 0),\"Non requis\")","v":333357},{"$f":"IF(INTRO!$E$41=\"Endémique\", IF($J118>1, IF($J118=4, \"Inconnu\", IF($J118=99, \"Surveillance\", E118)), 0),\"Non requis\")","v":0},{"$f":"IF(INTRO!$E$41=\"Endémique\", IF($J118>1, IF($J118=4, \"Inconnu\", IF($J118=99, \"Surveillance\", F118)), 0),\"Non requis\")","v":0},{"$f":"IF(INTRO!$E$41=\"Endémique\", IF($J118>1, IF($J118=4, \"Inconnu\", IF($J118=99, \"Surveillance\", ROUND(D118*INTRO!$E$51,0))), 0),\"Non requis\")","v":0},{"$f":"IF(INTRO!$E$41=\"Endémique\", IF($J118>1, IF($J118=4, \"Inconnu\", IF($J118=99, \"Surveillance\", SUM($N118:$P118))), 0),\"Non requis\")","v":0},{"$f":"IF(INTRO!$E$43=\"Endémique\", IF($K118>1, IF($K118=4, \"Inconnu\", IF($K118=99, \"Surveillance\", ROUND(E118*0.75,0))), 0),\"Non requis\")","v":31727},0,{"$f":"IF(INTRO!$E$43=\"Endémique\", IF($K118>1, IF($K118=4, \"Inconnu\", IF($K118=99, \"Surveillance\", G118)), 0),\"Non requis\")","v":194547},{"$f":"IF(INTRO!$E$43=\"Endémique\", IF($K118>1, IF($K118=4, \"Inconnu\", IF($K118=99, \"Surveillance\", SUM($R118:$T118))), 0),\"Non requis\")","v":226274},0,1,0,0,null,"TAS",null,null,null,null,null,null,15406,"DANANE"]
[{"$f":"IF(INTRO!$E$33<>0,INTRO!$E$33, \" \")","v":"Côte d'Ivoire"},"TONKPI","MAN",416988,{"$f":"IF(INTRO!$E$48=\"\",\"\",ROUND($D119*INTRO!$E$48,0))","v":52916},{"$f":"IF(INTRO!$E$49=\"\",\"\",ROUND($D119*INTRO!$E$49,0))","v":106082},{"$f":"IF(INTRO!$E$50=\"\",\"\",ROUND($D119*INTRO!$E$50,0))","v":243354},19,1,1,2,{"$f":"IF(INTRO!$E$37=\"Endémique\",IF($H119>0,IF($H119=4,\"Inconnu\",IF($H119=99,\"Interrompu\",$D119)),0),\"Non requis\")","v":416988},{"$f":"IF(INTRO!$E$39=\"Endémique\", IF($I119>0, IF($I119=4,\"Inconnu\",IF($I119=99,\"Interrompu\",$D119)), 0),\"Non requis\")","v":416988},{"$f":"IF(INTRO!$E$41=\"Endémique\", IF($J119>1, IF($J119=4, \"Inconnu\", IF($J119=99, \"Surveillance\", E119)), 0),\"Non requis\")","v":0},{"$f":"IF(INTRO!$E$41=\"Endémique\", IF($J119>1, IF($J119=4, \"Inconnu\", IF($J119=99, \"Surveillance\", F119)), 0),\"Non requis\")","v":0},{"$f":"IF(INTRO!$E$41=\"Endémique\", IF($J119>1, IF($J119=4, \"Inconnu\", IF($J119=99, \"Surveillance\", ROUND(D119*INTRO!$E$51,0))), 0),\"Non requis\")","v":0},{"$f":"IF(INTRO!$E$41=\"Endémique\", IF($J119>1, IF($J119=4, \"Inconnu\", IF($J119=99, \"Surveillance\", SUM($N119:$P119))), 0),\"Non requis\")","v":0},{"$f":"IF(INTRO!$E$43=\"Endémique\", IF($K119>1, IF($K119=4, \"Inconnu\", IF($K119=99, \"Surveillance\", ROUND(E119*0.75,0))), 0),\"Non requis\")","v":39687},0,{"$f":"IF(INTRO!$E$43=\"Endémique\", IF($K119>1, IF($K119=4, \"Inconnu\", IF($K119=99, \"Surveillance\", G119)), 0),\"Non requis\")","v":243354},{"$f":"IF(INTRO!$E$43=\"Endémique\", IF($K119>1, IF($K119=4, \"Inconnu\", IF($K119=99, \"Surveillance\", SUM($R119:$T119))), 0),\"Non requis\")","v":283041},0,1,0,0,null,"TAS",null,null,null,null,null,null,15407,"MAN"]
[{"$f":"IF(INTRO!$E$33<>0,INTRO!$E$33, \" \")","v":"Côte d'Ivoire"},"TONKPI","ZOUAN-HOUNIEN",243431,{"$f":"IF(INTRO!$E$48=\"\",\"\",ROUND($D120*INTRO!$E$48,0))","v":30891},{"$f":"IF(INTRO!$E$49=\"\",\"\",ROUND($D120*INTRO!$E$49,0))","v":61929},{"$f":"IF(INTRO!$E$50=\"\",\"\",ROUND($D120*INTRO!$E$50,0))","v":142066},1,1,1,3,{"$f":"IF(INTRO!$E$37=\"Endémique\",IF($H120>0,IF($H120=4,\"Inconnu\",IF($H120=99,\"Interrompu\",$D120)),0),\"Non requis\")","v":243431},{"$f":"IF(INTRO!$E$39=\"Endémique\", IF($I120>0, IF($I120=4,\"Inconnu\",IF($I120=99,\"Interrompu\",$D120)), 0),\"Non requis\")","v":243431},{"$f":"IF(INTRO!$E$41=\"Endémique\", IF($J120>1, IF($J120=4, \"Inconnu\", IF($J120=99, \"Surveillance\", E120)), 0),\"Non requis\")","v":0},{"$f":"IF(INTRO!$E$41=\"Endémique\", IF($J120>1, IF($J120=4, \"Inconnu\", IF($J120=99, \"Surveillance\", F120)), 0),\"Non requis\")","v":0},{"$f":"IF(INTRO!$E$41=\"Endémique\", IF($J120>1, IF($J120=4, \"Inconnu\", IF($J120=99, \"Surveillance\", ROUND(D120*INTRO!$E$51,0))), 0),\"Non requis\")","v":0},{"$f":"IF(INTRO!$E$41=\"Endémique\", IF($J120>1, IF($J120=4, \"Inconnu\", IF($J120=99, \"Surveillance\", SUM($N120:$P120))), 0),\"Non requis\")","v":0},{"$f":"IF(INTRO!$E$43=\"Endémique\", IF($K120>1, IF($K120=4, \"Inconnu\", IF($K120=99, \"Surveillance\", ROUND(E120*0.75,0))), 0),\"Non requis\")","v":23168},62282,{"$f":"IF(INTRO!$E$43=\"Endémique\", IF($K120>1, IF($K120=4, \"Inconnu\", IF($K120=99, \"Surveillance\", G120)), 0),\"Non requis\")","v":142066},{"$f":"IF(INTRO!$E$43=\"Endémique\", IF($K120>1, IF($K120=4, \"Inconnu\", IF($K120=99, \"Surveillance\", SUM($R120:$T120))), 0),\"Non requis\")","v":227516},1,1,0,1,null,null,null,null,null,null,null,null,15408,"ZOUAN-HOUNIEN"]
[{"$f":"IF(INTRO!$E$33<>0,INTRO!$E$33, \" \")","v":"Côte d'Ivoire"},"WORODOUGOU","KANI",87398,{"$f":"IF(INTRO!$E$48=\"\",\"\",ROUND($D121*INTRO!$E$48,0))","v":11091},{"$f":"IF(INTRO!$E$49=\"\",\"\",ROUND($D121*INTRO!$E$49,0))","v":22234},{"$f":"IF(INTRO!$E$50=\"\",\"\",ROUND($D121*INTRO!$E$50,0))","v":51005},19,1,2,1,{"$f":"IF(INTRO!$E$37=\"Endémique\",IF($H121>0,IF($H121=4,\"Inconnu\",IF($H121=99,\"Interrompu\",$D121)),0),\"Non requis\")","v":87398},{"$f":"IF(INTRO!$E$39=\"Endémique\", IF($I121>0, IF($I121=4,\"Inconnu\",IF($I121=99,\"Interrompu\",$D121)), 0),\"Non requis\")","v":87398},{"$f":"IF(INTRO!$E$41=\"Endémique\", IF($J121>1, IF($J121=4, \"Inconnu\", IF($J121=99, \"Surveillance\", E121)), 0),\"Non requis\")","v":11091},{"$f":"IF(INTRO!$E$41=\"Endémique\", IF($J121>1, IF($J121=4, \"Inconnu\", IF($J121=99, \"Surveillance\", F121)), 0),\"Non requis\")","v":22234},{"$f":"IF(INTRO!$E$41=\"Endémique\", IF($J121>1, IF($J121=4, \"Inconnu\", IF($J121=99, \"Surveillance\", ROUND(D121*INTRO!$E$51,0))), 0),\"Non requis\")","v":21089},{"$f":"IF(INTRO!$E$41=\"Endémique\", IF($J121>1, IF($J121=4, \"Inconnu\", IF($J121=99, \"Surveillance\", SUM($N121:$P121))), 0),\"Non requis\")","v":54414},{"$f":"IF(INTRO!$E$43=\"Endémique\", IF($K121>1, IF($K121=4, \"Inconnu\", IF($K121=99, \"Surveillance\", ROUND(E121*0.75,0))), 0),\"Non requis\")","v":0},22359,{"$f":"IF(INTRO!$E$43=\"Endémique\", IF($K121>1, IF($K121=4, \"Inconnu\", IF($K121=99, \"Surveillance\", G121)), 0),\"Non requis\")","v":0},{"$f":"IF(INTRO!$E$43=\"Endémique\", IF($K121>1, IF($K121=4, \"Inconnu\", IF($K121=99, \"Surveillance\", SUM($R121:$T121))), 0),\"Non requis\")","v":0},0,1,1,1,null,null,null,null,null,null,null,null,15461,"KANI"]
[{"$f":"IF(INTRO!$E$33<>0,INTRO!$E$33, \" \")","v":"Côte d'Ivoire"},"WORODOUGOU","SEGUELA",234729,{"$f":"IF(INTRO!$E$48=\"\",\"\",ROUND($D122*INTRO!$E$48,0))","v":29787},{"$f":"IF(INTRO!$E$49=\"\",\"\",ROUND($D122*INTRO!$E$49,0))","v":59715},{"$f":"IF(INTRO!$E$50=\"\",\"\",ROUND($D122*INTRO!$E$50,0))","v":136988},19,1,2,1,{"$f":"IF(INTRO!$E$37=\"Endémique\",IF($H122>0,IF($H122=4,\"Inconnu\",IF($H122=99,\"Interrompu\",$D122)),0),\"Non requis\")","v":234729},{"$f":"IF(INTRO!$E$39=\"Endémique\", IF($I122>0, IF($I122=4,\"Inconnu\",IF($I122=99,\"Interrompu\",$D122)), 0),\"Non requis\")","v":234729},{"$f":"IF(INTRO!$E$41=\"Endémique\", IF($J122>1, IF($J122=4, \"Inconnu\", IF($J122=99, \"Surveillance\", E122)), 0),\"Non requis\")","v":29787},{"$f":"IF(INTRO!$E$41=\"Endémique\", IF($J122>1, IF($J122=4, \"Inconnu\", IF($J122=99, \"Surveillance\", F122)), 0),\"Non requis\")","v":59715},{"$f":"IF(INTRO!$E$41=\"Endémique\", IF($J122>1, IF($J122=4, \"Inconnu\", IF($J122=99, \"Surveillance\", ROUND(D122*INTRO!$E$51,0))), 0),\"Non requis\")","v":56640},{"$f":"IF(INTRO!$E$41=\"Endémique\", IF($J122>1, IF($J122=4, \"Inconnu\", IF($J122=99, \"Surveillance\", SUM($N122:$P122))), 0),\"Non requis\")","v":146142},{"$f":"IF(INTRO!$E$43=\"Endémique\", IF($K122>1, IF($K122=4, \"Inconnu\", IF($K122=99, \"Surveillance\", ROUND(E122*0.75,0))), 0),\"Non requis\")","v":0},52952,{"$f":"IF(INTRO!$E$43=\"Endémique\", IF($K122>1, IF($K122=4, \"Inconnu\", IF($K122=99, \"Surveillance\", G122)), 0),\"Non requis\")","v":0},{"$f":"IF(INTRO!$E$43=\"Endémique\", IF($K122>1, IF($K122=4, \"Inconnu\", IF($K122=99, \"Surveillance\", SUM($R122:$T122))), 0),\"Non requis\")","v":0},0,1,1,1,null,null,null,null,null,null,null,null,15462,"SEGUELA"]

{"sheet":"DEC","index":2,"n_rows":122,"n_cols":12,"rows_kept":122,"cut":false,"hidden":true,"merged":[[3,0,3,2],[5,0,5,2],[6,5,7,5],[6,2,7,2],[6,1,7,1],[6,10,7,10],[6,0,7,0],[6,11,7,11],[5,3,5,6],[5,9,5,11],[6,4,7,4],[6,3,7,3],[6,8,7,8],[6,7,7,7],[6,6,7,6],[6,9,7,9]]}
["Diethylcarbamazine (DEC)"]
["Structure administrative, population ciblée par groupe d'âge, plan de traitement et information sur les comprimés"]
[]
["TOTAL",null,null,{"$f":"SUBTOTAL(9,D$10:D$1010)","v":0},0,0,0,null,{"$f":"SUBTOTAL(9,I$10:I$1010)","v":0},0,0,0]
[]
["Structure administrative du pays",null,null,"Population nécessitant un traitement avec DEC",null,null,null,"Plan de traitement","Population cible","Diethylcarbamazine (DEC)"]
["Pays","Région/Département","District","EAPréS","EAS","Adultes","Total","FL","FL","Total requis","Reste en stock","Comprimés devant être fournis"]
[]
[]
[{"$f":"IF(INTRO!$E$39<>\"Non endémique\", \" \", IF(INTRO!$E$37=\"Non endémique\",\" \", IF(COUNTRY_INFO!A10=0,\" \",COUNTRY_INFO!A10)))","v":" "},{"$f":"IF(INTRO!$E$39<>\"Non endémique\", \" \", IF(INTRO!$E$37=\"Non endémique\",\" \", IF(COUNTRY_INFO!B10=0,\" \",COUNTRY_INFO!B10)))","v":" "},{"$f":"IF(INTRO!$E$39<>\"Non endémique\", \" \", IF(INTRO!$E$37=\"Non endémique\",\" \", IF(COUNTRY_INFO!C10=0,\" \",COUNTRY_INFO!C10)))","v":" "},{"$f":"IF(INTRO!$E$39<>\"Non endémique\", 0, IF(INTRO!$E$37=\"Non endémique\",0,IF(COUNTRY_INFO!$H10=1,COUNTRY_INFO!E10,0)))","v":0},{"$f":"IF(INTRO!$E$39<>\"Non endémique\", 0, IF(INTRO!$E$37=\"Non endémique\",0,IF(COUNTRY_INFO!$H10=1,COUNTRY_INFO!F10,0)))","v":0},{"$f":"IF(INTRO!$E$39<>\"Non endémique\", 0, IF(INTRO!$E$37=\"Non endémique\",0,IF(COUNTRY_INFO!$H10=1,COUNTRY_INFO!G10,0)))","v":0},{"$f":"SUM(D10:F10)","v":0},{"$f":"IF(INTRO!$E$39=\"Non endémique\",IF(INTRO!$E$37=\"Non endémique\",\"Non requis\",COUNTRY_INFO!V10),\"Traiter avec IVM\")","v":"Traiter avec IVM"},{"$f":"IF(H10=1,G10,0)","v":0},{"$f":"IF(I10>0,I10*2.5,0)","v":0},null,{"$f":"IF($J10>$K10,$J10-$K10,0)","v":0}]
[{"$f":"IF(INTRO!$E$39<>\"Non endémique\", \" \", IF(INTRO!$E$37=\"Non endémique\",\" \", IF(COUNTRY_INFO!A11=0,\" \",COUNTRY_INFO!A11)))","v":" "},{"$f":"IF(INTRO!$E$39<>\"Non endémique\", \" \", IF(INTRO!$E$37=\"Non endémique\",\" \", IF(COUNTRY_INFO!B11=0,\" \",COUNTRY_INFO!B11)))","v":" "},{"$f":"IF(INTRO!$E$39<>\"Non endémique\", \" \", IF(INTRO!$E$37=\"Non endémique\",\" \", IF(COUNTRY_INFO!C11=0,\" \",COUNTRY_INFO!C11)))","v":" "},{"$f":"IF(INTRO!$E$39<>\"Non endémique\", 0, IF(INTRO!$E$37=\"Non endémique\",0,IF(COUNTRY_INFO!$H11=1,COUNTRY_INFO!E11,0)))","v":0},{"$f":"IF(INTRO!$E$39<>\"Non endémique\", 0, IF(INTRO!$E$37=\"Non endémique\",0,IF(COUNTRY_INFO!$H11=1,COUNTRY_INFO!F11,0)))","v":0},{"$f":"IF(INTRO!$E$39<>\"Non endémique\", 0, IF(INTRO!$E$37=\"Non endémique\",0,IF(COUNTRY_INFO!$H11=1,COUNTRY_INFO!G11,0)))","v":0},{"$f":"SUM(D11:F11)","v":0},{"$f":"IF(INTRO!$E$39=\"Non endémique\",IF(INTRO!$E$37=\"Non endémique\",\"Non requis\",COUNTRY_INFO!V11),\"Traiter avec IVM\")","v":"Traiter avec IVM"},{"$f":"IF(H11=1,G11,0)","v":0},{"$f":"IF(I11>0,I11*2.5,0)","v":0},null,0]
[{"$f":"IF(INTRO!$E$39<>\"Non endémique\", \" \", IF(INTRO!$E$37=\"Non endémique\",\" \", IF(COUNTRY_INFO!A12=0,\" \",COUNTRY_INFO!A12)))","v":" "},{"$f":"IF(INTRO!$E$39<>\"Non endémique\", \" \", IF(INTRO!$E$37=\"Non endémique\",\" \", IF(COUNTRY_INFO!B12=0,\" \",COUNTRY_INFO!B12)))","v":" "},{"$f":"IF(INTRO!$E$39<>\"Non endémique\", \" \", IF(INTRO!$E$37=\"Non endémique\",\" \", IF(COUNTRY_INFO!C12=0,\" \",COUNTRY_INFO!C12)))","v":" "},{"$f":"IF(INTRO!$E$39<>\"Non endémique\", 0, IF(INTRO!$E$37=\"Non endémique\",0,IF(COUNTRY_INFO!$H12=1,COUNTRY_INFO!E12,0)))","v":0},{"$f":"IF(INTRO!$E$39<>\"Non endémique\", 0, IF(INTRO!$E$37=\"Non endémique\",0,IF(COUNTRY_INFO!$H12=1,COUNTRY_INFO!F12,0)))","v":0},{"$f":"IF(INTRO!$E$39<>\"Non endémique\", 0, IF(INTRO!$E$37=\"Non endémique\",0,IF(COUNTRY_INFO!$H12=1,COUNTRY_INFO!G12,0)))","v":0},0,{"$f":"IF(INTRO!$E$39=\"Non endémique\",IF(INTRO!$E$37=\"Non endémique\",\"Non requis\",COUNTRY_INFO!V12),\"Traiter avec IVM\")","v":"Traiter avec IVM"},0,0,null,0]
[{"$f":"IF(INTRO!$E$39<>\"Non endémique\", \" \", IF(INTRO!$E$37=\"Non endémique\",\" \", IF(COUNTRY_INFO!A13=0,\" \",COUNTRY_INFO!A13)))","v":" "},{"$f":"IF(INTRO!$E$39<>\"Non endémique\", \" \", IF(INTRO!$E$37=\"Non endémique\",\" \", IF(COUNTRY_INFO!B13=0,\" \",COUNTRY_INFO!B13)))","v":" "},{"$f":"IF(INTRO!$E$39<>\"Non endémique\", \" \", IF(INTRO!$E$37=\"Non endémique\",\" \", IF(COUNTRY_INFO!C13=0,\" \",COUNTRY_INFO!C13)))","v":" "},{"$f":"IF(INTRO!$E$39<>\"Non endémique\", 0, IF(INTRO!$E$37=\"Non endémique\",0,IF(COUNTRY_INFO!$H13=1,COUNTRY_INFO!E13,0)))","v":0},{"$f":"IF(INTRO!$E$39<>\"Non endémique\", 0, IF(INTRO!$E$37=\"Non endémique\",0,IF(COUNTRY_INFO!$H13=1,COUNTRY_INFO!F13,0)))","v":0},{"$f":"IF(INTRO!$E$39<>\"Non endémique\", 0, IF(INTRO!$E$37=\"Non endémique\",0,IF(COUNTRY_INFO!$H13=1,COUNTRY_INFO!G13,0)))","v":0},0,{"$f":"IF(INTRO!$E$39=\"Non endémique\",IF(INTRO!$E$37=\"Non endémique\",\"Non requis\",COUNTRY_INFO!V13),\"Traiter avec IVM\")","v":"Traiter avec IVM"},0,0,null,0]
[{"$f":"IF(INTRO!$E$39<>\"Non endémique\", \" \", IF(INTRO!$E$37=\"Non endémique\",\" \", IF(COUNTRY_INFO!A14=0,\" \",COUNTRY_INFO!A14)))","v":" "},{"$f":"IF(INTRO!$E$39<>\"Non endémique\", \" \", IF(INTRO!$E$37=\"Non endémique\",\" \", IF(COUNTRY_INFO!B14=0,\" \",COUNTRY_INFO!B14)))","v":" "},{"$f":"IF(INTRO!$E$39<>\"Non endémique\", \" \", IF(INTRO!$E$37=\"Non endémique\",\" \", IF(COUNTRY_INFO!C14=0,\" \",COUNTRY_INFO!C14)))","v":" "},{"$f":"IF(INTRO!$E$39<>\"Non endémique\", 0, IF(INTRO!$E$37=\"Non endémique\",0,IF(COUNTRY_INFO!$H14=1,COUNTRY_INFO!E14,0)))","v":0},{"$f":"IF(INTRO!$E$39<>\"Non endémique\", 0, IF(INTRO!$E$37=\"Non endémique\",0,IF(COUNTRY_INFO!$H14=1,COUNTRY_INFO!F14,0)))","v":0},{"$f":"IF(INTRO!$E$39<>\"Non endémique\", 0, IF(INTRO!$E$37=\"Non endémique\",0,IF(COUNTRY_INFO!$H14=1,COUNTRY_INFO!G14,0)))","v":0},0,{"$f":"IF(INTRO!$E$39=\"Non endémique\",IF(INTRO!$E$37=\"Non endémique\",\"Non requis\",COUNTRY_INFO!V14),\"Traiter avec IVM\")","v":"Traiter avec IVM"},0,0,null,0]
[{"$f":"IF(INTRO!$E$39<>\"Non endémique\", \" \", IF(INTRO!$E$37=\"Non endémique\",\" \", IF(COUNTRY_INFO!A15=0,\" \",COUNTRY_INFO!A15)))","v":" "},{"$f":"IF(INTRO!$E$39<>\"Non endémique\", \" \", IF(INTRO!$E$37=\"Non endémique\",\" \", IF(COUNTRY_INFO!B15=0,\" \",COUNTRY_INFO!B15)))","v":" "},{"$f":"IF(INTRO!$E$39<>\"Non endémique\", \" \", IF(INTRO!$E$37=\"Non endémique\",\" \", IF(COUNTRY_INFO!C15=0,\" \",COUNTRY_INFO!C15)))","v":" "},{"$f":"IF(INTRO!$E$39<>\"Non endémique\", 0, IF(INTRO!$E$37=\"Non endémique\",0,IF(COUNTRY_INFO!$H15=1,COUNTRY_INFO!E15,0)))","v":0},{"$f":"IF(INTRO!$E$39<>\"Non endémique\", 0, IF(INTRO!$E$37=\"Non endémique\",0,IF(COUNTRY_INFO!$H15=1,COUNTRY_INFO!F15,0)))","v":0},{"$f":"IF(INTRO!$E$39<>\"Non endémique\", 0, IF(INTRO!$E$37=\"Non endémique\",0,IF(COUNTRY_INFO!$H15=1,COUNTRY_INFO!G15,0)))","v":0},0,{"$f":"IF(INTRO!$E$39=\"Non endémique\",IF(INTRO!$E$37=\"Non endémique\",\"Non requis\",COUNTRY_INFO!V15),\"Traiter avec IVM\")","v":"Traiter avec IVM"},0,0,null,0]
[{"$f":"IF(INTRO!$E$39<>\"Non endémique\", \" \", IF(INTRO!$E$37=\"Non endémique\",\" \", IF(COUNTRY_INFO!A16=0,\" \",COUNTRY_INFO!A16)))","v":" "},{"$f":"IF(INTRO!$E$39<>\"Non endémique\", \" \", IF(INTRO!$E$37=\"Non endémique\",\" \", IF(COUNTRY_INFO!B16=0,\" \",COUNTRY_INFO!B16)))","v":" "},{"$f":"IF(INTRO!$E$39<>\"Non endémique\", \" \", IF(INTRO!$E$37=\"Non endémique\",\" \", IF(COUNTRY_INFO!C16=0,\" \",COUNTRY_INFO!C16)))","v":" "},{"$f":"IF(INTRO!$E$39<>\"Non endémique\", 0, IF(INTRO!$E$37=\"Non endémique\",0,IF(COUNTRY_INFO!$H16=1,COUNTRY_INFO!E16,0)))","v":0},{"$f":"IF(INTRO!$E$39<>\"Non endémique\", 0, IF(INTRO!$E$37=\"Non endémique\",0,IF(COUNTRY_INFO!$H16=1,COUNTRY_INFO!F16,0)))","v":0},{"$f":"IF(INTRO!$E$39<>\"Non endémique\", 0, IF(INTRO!$E$37=\"Non endémique\",0,IF(COUNTRY_INFO!$H16=1,COUNTRY_INFO!G16,0)))","v":0},0,{"$f":"IF(INTRO!$E$39=\"Non endémique\",IF(INTRO!$E$37=\"Non endémique\",\"Non requis\",COUNTRY_INFO!V16),\"Traiter avec IVM\")","v":"Traiter avec IVM"},0,0,null,0]
[{"$f":"IF(INTRO!$E$39<>\"Non endémique\", \" \", IF(INTRO!$E$37=\"Non endémique\",\" \", IF(COUNTRY_INFO!A17=0,\" \",COUNTRY_INFO!A17)))","v":" "},{"$f":"IF(INTRO!$E$39<>\"Non endémique\", \" \", IF(INTRO!$E$37=\"Non endémique\",\" \", IF(COUNTRY_INFO!B17=0,\" \",COUNTRY_INFO!B17)))","v":" "},{"$f":"IF(INTRO!$E$39<>\"Non endémique\", \" \", IF(INTRO!$E$37=\"Non endémique\",\" \", IF(COUNTRY_INFO!C17=0,\" \",COUNTRY_INFO!C17)))","v":" "},{"$f":"IF(INTRO!$E$39<>\"Non endémique\", 0, IF(INTRO!$E$37=\"Non endémique\",0,IF(COUNTRY_INFO!$H17=1,COUNTRY_INFO!E17,0)))","v":0},{"$f":"IF(INTRO!$E$39<>\"Non endémique\", 0, IF(INTRO!$E$37=\"Non endémique\",0,IF(COUNTRY_INFO!$H17=1,COUNTRY_INFO!F17,0)))","v":0},{"$f":"IF(INTRO!$E$39<>\"Non endémique\", 0, IF(INTRO!$E$37=\"Non endémique\",0,IF(COUNTRY_INFO!$H17=1,COUNTRY_INFO!G17,0)))","v":0},0,{"$f":"IF(INTRO!$E$39=\"Non endémique\",IF(INTRO!$E$37=\"Non endémique\",\"Non requis\",COUNTRY_INFO!V17),\"Traiter avec IVM\")","v":"Traiter avec IVM"},0,0,null,0]
[{"$f":"IF(INTRO!$E$39<>\"Non endémique\", \" \", IF(INTRO!$E$37=\"Non endémique\",\" \", IF(COUNTRY_INFO!A18=0,\" \",COUNTRY_INFO!A18)))","v":" "},{"$f":"IF(INTRO!$E$39<>\"Non endémique\", \" \", IF(INTRO!$E$37=\"Non endémique\",\" \", IF(COUNTRY_INFO!B18=0,\" \",COUNTRY_INFO!B18)))","v":" "},{"$f":"IF(INTRO!$E$39<>\"Non endémique\", \" \", IF(INTRO!$E$37=\"Non endémique\",\" \", IF(COUNTRY_INFO!C18=0,\" \",COUNTRY_INFO!C18)))","v":" "},{"$f":"IF(INTRO!$E$39<>\"Non endémique\", 0, IF(INTRO!$E$37=\"Non endémique\",0,IF(COUNTRY_INFO!$H18=1,COUNTRY_INFO!E18,0)))","v":0},{"$f":"IF(INTRO!$E$39<>\"Non endémique\", 0, IF(INTRO!$E$37=\"Non endémique\",0,IF(COUNTRY_INFO!$H18=1,COUNTRY_INFO!F18,0)))","v":0},{"$f":"IF(INTRO!$E$39<>\"Non endémique\", 0, IF(INTRO!$E$37=\"Non endémique\",0,IF(COUNTRY_INFO!$H18=1,COUNTRY_INFO!G18,0)))","v":0},0,{"$f":"IF(INTRO!$E$39=\"Non endémique\",IF(INTRO!$E$37=\"Non endémique\",\"Non requis\",COUNTRY_INFO!V18),\"Traiter avec IVM\")","v":"Traiter avec IVM"},0,0,null,0]
[{"$f":"IF(INTRO!$E$39<>\"Non endémique\", \" \", IF(INTRO!$E$37=\"Non endémique\",\" \", IF(COUNTRY_INFO!A19=0,\" \",COUNTRY_INFO!A19)))","v":" "},{"$f":"IF(INTRO!$E$39<>\"Non endémique\", \" \", IF(INTRO!$E$37=\"Non endémique\",\" \", IF(COUNTRY_INFO!B19=0,\" \",COUNTRY_INFO!B19)))","v":" "},{"$f":"IF(INTRO!$E$39<>\"Non endémique\", \" \", IF(INTRO!$E$37=\"Non endémique\",\" \", IF(COUNTRY_INFO!C19=0,\" \",COUNTRY_INFO!C19)))","v":" "},{"$f":"IF(INTRO!$E$39<>\"Non endémique\", 0, IF(INTRO!$E$37=\"Non endémique\",0,IF(COUNTRY_INFO!$H19=1,COUNTRY_INFO!E19,0)))","v":0},{"$f":"IF(INTRO!$E$39<>\"Non endémique\", 0, IF(INTRO!$E$37=\"Non endémique\",0,IF(COUNTRY_INFO!$H19=1,COUNTRY_INFO!F19,0)))","v":0},{"$f":"IF(INTRO!$E$39<>\"Non endémique\", 0, IF(INTRO!$E$37=\"Non endémique\",0,IF(COUNTRY_INFO!$H19=1,COUNTRY_INFO!G19,0)))","v":0},0,{"$f":"IF(INTRO!$E$39=\"Non endémique\",IF(INTRO!$E$37=\"Non endémique\",\"Non requis\",COUNTRY_INFO!V19),\"Traiter avec IVM\")","v":"Traiter avec IVM"},0,0,null,0]
[{"$f":"IF(INTRO!$E$39<>\"Non endémique\", \" \", IF(INTRO!$E$37=\"Non endémique\",\" \", IF(COUNTRY_INFO!A20=0,\" \",COUNTRY_INFO!A20)))","v":" "},{"$f":"IF(INTRO!$E$39<>\"Non endémique\", \" \", IF(INTRO!$E$37=\"Non endémique\",\" \", IF(COUNTRY_INFO!B20=0,\" \",COUNTRY_INFO!B20)))","v":" "},{"$f":"IF(INTRO!$E$39<>\"Non endémique\", \" \", IF(INTRO!$E$37=\"Non endémique\",\" \", IF(COUNTRY_INFO!C20=0,\" \",COUNTRY_INFO!C20)))","v":" "},{"$f":"IF(INTRO!$E$39<>\"Non endémique\", 0, IF(INTRO!$E$37=\"Non endémique\",0,IF(COUNTRY_INFO!$H20=1,COUNTRY_INFO!E20,0)))","v":0},{"$f":"IF(INTRO!$E$39<>\"Non endémique\", 0, IF(INTRO!$E$37=\"Non endémique\",0,IF(COUNTRY_INFO!$H20=1,COUNTRY_INFO!F20,0)))","v":0},{"$f":"IF(INTRO!$E$39<>\"Non endémique\", 0, IF(INTRO!$E$37=\"Non endémique\",0,IF(COUNTRY_INFO!$H20=1,COUNTRY_INFO!G20,0)))","v":0},0,{"$f":"IF(INTRO!$E$39=\"Non endémique\",IF(INTRO!$E$37=\"Non endémique\",\"Non requis\",COUNTRY_INFO!V20),\"Traiter avec IVM\")","v":"Traiter avec IVM"},0,0,null,0]
[{"$f":"IF(INTRO!$E$39<>\"Non endémique\", \" \", IF(INTRO!$E$37=\"Non endémique\",\" \", IF(COUNTRY_INFO!A21=0,\" \",COUNTRY_INFO!A21)))","v":" "},{"$f":"IF(INTRO!$E$39<>\"Non endémique\", \" \", IF(INTRO!$E$37=\"Non endémique\",\" \", IF(COUNTRY_INFO!B21=0,\" \",COUNTRY_INFO!B21)))","v":" "},{"$f":"IF(INTRO!$E$39<>\"Non endémique\", \" \", IF(INTRO!$E$37=\"Non endémique\",\" \", IF(COUNTRY_INFO!C21=0,\" \",COUNTRY_INFO!C21)))","v":" "},{"$f":"IF(INTRO!$E$39<>\"Non endémique\", 0, IF(INTRO!$E$37=\"Non endémique\",0,IF(COUNTRY_INFO!$H21=1,COUNTRY_INFO!E21,0)))","v":0},{"$f":"IF(INTRO!$E$39<>\"Non endémique\", 0, IF(INTRO!$E$37=\"Non endémique\",0,IF(COUNTRY_INFO!$H21=1,COUNTRY_INFO!F21,0)))","v":0},{"$f":"IF(INTRO!$E$39<>\"Non endémique\", 0, IF(INTRO!$E$37=\"Non endémique\",0,IF(COUNTRY_INFO!$H21=1,COUNTRY_INFO!G21,0)))","v":0},0,{"$f":"IF(INTRO!$E$39=\"Non endémique\",IF(INTRO!$E$37=\"Non endémique\",\"Non requis\",COUNTRY_INFO!V21),\"Traiter avec IVM\")","v":"Traiter avec IVM"},0,0,null,0]
[{"$f":"IF(INTRO!$E$39<>\"Non endémique\", \" \", IF(INTRO!$E$37=\"Non endémique\",\" \", IF(COUNTRY_INFO!A22=0,\" \",COUNTRY_INFO!A22)))","v":" "},{"$f":"IF(INTRO!$E$39<>\"Non endémique\", \" \", IF(INTRO!$E$37=\"Non endémique\",\" \", IF(COUNTRY_INFO!B22=0,\" \",COUNTRY_INFO!B22)))","v":" "},{"$f":"IF(INTRO!$E$39<>\"Non endémique\", \" \", IF(INTRO!$E$37=\"Non endémique\",\" \", IF(COUNTRY_INFO!C22=0,\" \",COUNTRY_INFO!C22)))","v":" "},{"$f":"IF(INTRO!$E$39<>\"Non endémique\", 0, IF(INTRO!$E$37=\"Non endémique\",0,IF(COUNTRY_INFO!$H22=1,COUNTRY_INFO!E22,0)))","v":0},{"$f":"IF(INTRO!$E$39<>\"Non endémique\", 0, IF(INTRO!$E$37=\"Non endémique\",0,IF(COUNTRY_INFO!$H22=1,COUNTRY_INFO!F22,0)))","v":0},{"$f":"IF(INTRO!$E$39<>\"Non endémique\", 0, IF(INTRO!$E$37=\"Non endémique\",0,IF(COUNTRY_INFO!$H22=1,COUNTRY_INFO!G22,0)))","v":0},0,{"$f":"IF(INTRO!$E$39=\"Non endémique\",IF(INTRO!$E$37=\"Non endémique\",\"Non requis\",COUNTRY_INFO!V22),\"Traiter avec IVM\")","v":"Traiter avec IVM"},0,0,null,0]
[{"$f":"IF(INTRO!$E$39<>\"Non endémique\", \" \", IF(INTRO!$E$37=\"Non endémique\",\" \", IF(COUNTRY_INFO!A23=0,\" \",COUNTRY_INFO!A23)))","v":" "},{"$f":"IF(INTRO!$E$39<>\"Non endémique\", \" \", IF(INTRO!$E$37=\"Non endémique\",\" \", IF(COUNTRY_INFO!B23=0,\" \",COUNTRY_INFO!B23)))","v":" "},{"$f":"IF(INTRO!$E$39<>\"Non endémique\", \" \", IF(INTRO!$E$37=\"Non endémique\",\" \", IF(COUNTRY_INFO!C23=0,\" \",COUNTRY_INFO!C23)))","v":" "},{"$f":"IF(INTRO!$E$39<>\"Non endémique\", 0, IF(INTRO!$E$37=\"Non endémique\",0,IF(COUNTRY_INFO!$H23=1,COUNTRY_INFO!E23,0)))","v":0},{"$f":"IF(INTRO!$E$39<>\"Non endémique\", 0, IF(INTRO!$E$37=\"Non endémique\",0,IF(COUNTRY_INFO!$H23=1,COUNTRY_INFO!F23,0)))","v":0},{"$f":"IF(INTRO!$E$39<>\"Non endémique\", 0, IF(INTRO!$E$37=\"Non endémique\",0,IF(COUNTRY_INFO!$H23=1,COUNTRY_INFO!G23,0)))","v":0},0,{"$f":"IF(INTRO!$E$39=\"Non endémique\",IF(INTRO!$E$37=\"Non endémique\",\"Non requis\",COUNTRY_INFO!V23),\"Traiter avec IVM\")","v":"Traiter avec IVM"},0,0,null,0]
[{"$f":"IF(INTRO!$E$39<>\"Non endémique\", \" \", IF(INTRO!$E$37=\"Non endémique\",\" \", IF(COUNTRY_INFO!A24=0,\" \",COUNTRY_INFO!A24)))","v":" "},{"$f":"IF(INTRO!$E$39<>\"Non endémique\", \" \", IF(INTRO!$E$37=\"Non endémique\",\" \", IF(COUNTRY_INFO!B24=0,\" \",COUNTRY_INFO!B24)))","v":" "},{"$f":"IF(INTRO!$E$39<>\"Non endémique\", \" \", IF(INTRO!$E$37=\"Non endémique\",\" \", IF(COUNTRY_INFO!C24=0,\" \",COUNTRY_INFO!C24)))","v":" "},{"$f":"IF(INTRO!$E$39<>\"Non endémique\", 0, IF(INTRO!$E$37=\"Non endémique\",0,IF(COUNTRY_INFO!$H24=1,COUNTRY_INFO!E24,0)))","v":0},{"$f":"IF(INTRO!$E$39<>\"Non endémique\", 0, IF(INTRO!$E$37=\"Non endémique\",0,IF(COUNTRY_INFO!$H24=1,COUNTRY_INFO!F24,0)))","v":0},{"$f":"IF(INTRO!$E$39<>\"Non endémique\", 0, IF(INTRO!$E$37=\"Non endémique\",0,IF(COUNTRY_INFO!$H24=1,COUNTRY_INFO!G24,0)))","v":0},0,{"$f":"IF(INTRO!$E$39=\"Non endémique\",IF(INTRO!$E$37=\"Non endémique\",\"Non requis\",COUNTRY_INFO!V24),\"Traiter avec IVM\")","v":"Traiter avec IVM"},0,0,null,0]
[{"$f":"IF(INTRO!$E$39<>\"Non endémique\", \" \", IF(INTRO!$E$37=\"Non endémique\",\" \", IF(COUNTRY_INFO!A25=0,\" \",COUNTRY_INFO!A25)))","v":" "},{"$f":"IF(INTRO!$E$39<>\"Non endémique\", \" \", IF(INTRO!$E$37=\"Non endémique\",\" \", IF(COUNTRY_INFO!B25=0,\" \",COUNTRY_INFO!B25)))","v":" "},{"$f":"IF(INTRO!$E$39<>\"Non endémique\", \" \", IF(INTRO!$E$37=\"Non endémique\",\" \", IF(COUNTRY_INFO!C25=0,\" \",COUNTRY_INFO!C25)))","v":" "},{"$f":"IF(INTRO!$E$39<>\"Non endémique\", 0, IF(INTRO!$E$37=\"Non endémique\",0,IF(COUNTRY_INFO!$H25=1,COUNTRY_INFO!E25,0)))","v":0},{"$f":"IF(INTRO!$E$39<>\"Non endémique\", 0, IF(INTRO!$E$37=\"Non endémique\",0,IF(COUNTRY_INFO!$H25=1,COUNTRY_INFO!F25,0)))","v":0},{"$f":"IF(INTRO!$E$39<>\"Non endémique\", 0, IF(INTRO!$E$37=\"Non endémique\",0,IF(COUNTRY_INFO!$H25=1,COUNTRY_INFO!G25,0)))","v":0},0,{"$f":"IF(INTRO!$E$39=\"Non endémique\",IF(INTRO!$E$37=\"Non endémique\",\"Non requis\",COUNTRY_INFO!V25),\"Traiter avec IVM\")","v":"Traiter avec IVM"},0,0,null,0]
[{"$f":"IF(INTRO!$E$39<>\"Non endémique\", \" \", IF(INTRO!$E$37=\"Non endémique\",\" \", IF(COUNTRY_INFO!A26=0,\" \",COUNTRY_INFO!A26)))","v":" "},{"$f":"IF(INTRO!$E$39<>\"Non endémique\", \" \", IF(INTRO!$E$37=\"Non endémique\",\" \", IF(COUNTRY_INFO!B26=0,\" \",COUNTRY_INFO!B26)))","v":" "},{"$f":"IF(INTRO!$E$39<>\"Non endémique\", \" \", IF(INTRO!$E$37=\"Non endémique\",\" \", IF(COUNTRY_INFO!C26=0,\" \",COUNTRY_INFO!C26)))","v":" "},{"$f":"IF(INTRO!$E$39<>\"Non endémique\", 0, IF(INTRO!$E$37=\"Non endémique\",0,IF(COUNTRY_INFO!$H26=1,COUNTRY_INFO!E26,0)))","v":0},{"$f":"IF(INTRO!$E$39<>\"Non endémique\", 0, IF(INTRO!$E$37=\"Non endémique\",0,IF(COUNTRY_INFO!$H26=1,COUNTRY_INFO!F26,0)))","v":0},{"$f":"IF(INTRO!$E$39<>\"Non endémique\", 0, IF(INTRO!$E$37=\"Non endémique\",0,IF(COUNTRY_INFO!$H26=1,COUNTRY_INFO!G26,0)))","v":0},0,{"$f":"IF(INTRO!$E$39=\"Non endémique\",IF(INTRO!$E$37=\"Non endémique\",\"Non requis\",COUNTRY_INFO!V26),\"Traiter avec IVM\")","v":"Traiter avec IVM"},0,0,null,0]
[{"$f":"IF(INTRO!$E$39<>\"Non endémique\", \" \", IF(INTRO!$E$37=\"Non endémique\",\" \", IF(COUNTRY_INFO!A27=0,\" \",COUNTRY_INFO!A27)))","v":" "},{"$f":"IF(INTRO!$E$39<>\"Non endémique\", \" \", IF(INTRO!$E$37=\"Non endémique\",\" \", IF(COUNTRY_INFO!B27=0,\" \",COUNTRY_INFO!B27)))","v":" "},{"$f":"IF(INTRO!$E$39<>\"Non endémique\", \" \", IF(INTRO!$E$37=\"Non endémique\",\" \", IF(COUNTRY_INFO!C27=0,\" \",COUNTRY_INFO!C27)))","v":" "},{"$f":"IF(INTRO!$E$39<>\"Non endémique\", 0, IF(INTRO!$E$37=\"Non endémique\",0,IF(COUNTRY_INFO!$H27=1,COUNTRY_INFO!E27,0)))","v":0},{"$f":"IF(INTRO!$E$39<>\"Non endémique\", 0, IF(INTRO!$E$37=\"Non endémique\",0,IF(COUNTRY_INFO!$H27=1,COUNTRY_INFO!F27,0)))","v":0},{"$f":"IF(INTRO!$E$39<>\"Non endémique\", 0, IF(INTRO!$E$37=\"Non endémique\",0,IF(COUNTRY_INFO!$H27=1,COUNTRY_INFO!G27,0)))","v":0},0,{"$f":"IF(INTRO!$E$39=\"Non endémique\",IF(INTRO!$E$37=\"Non endémique\",\"Non requis\",COUNTRY_INFO!V27),\"Traiter avec IVM\")","v":"Traiter avec IVM"},0,0,null,0]
[{"$f":"IF(INTRO!$E$39<>\"Non endémique\", \" \", IF(INTRO!$E$37=\"Non endémique\",\" \", IF(COUNTRY_INFO!A28=0,\" \",COUNTRY_INFO!A28)))","v":" "},{"$f":"IF(INTRO!$E$39<>\"Non endémique\", \" \", IF(INTRO!$E$37=\"Non endémique\",\" \", IF(COUNTRY_INFO!B28=0,\" \",COUNTRY_INFO!B28)))","v":" "},{"$f":"IF(INTRO!$E$39<>\"Non endémique\", \" \", IF(INTRO!$E$37=\"Non endémique\",\" \", IF(COUNTRY_INFO!C28=0,\" \",COUNTRY_INFO!C28)))","v":" "},{"$f":"IF(INTRO!$E$39<>\"Non endémique\", 0, IF(INTRO!$E$37=\"Non endémique\",0,IF(COUNTRY_INFO!$H28=1,COUNTRY_INFO!E28,0)))","v":0},{"$f":"IF(INTRO!$E$39<>\"Non endémique\", 0, IF(INTRO!$E$37=\"Non endémique\",0,IF(COUNTRY_INFO!$H28=1,COUNTRY_INFO!F28,0)))","v":0},{"$f":"IF(INTRO!$E$39<>\"Non endémique\", 0, IF(INTRO!$E$37=\"Non endémique\",0,IF(COUNTRY_INFO!$H28=1,COUNTRY_INFO!G28,0)))","v":0},0,{"$f":"IF(INTRO!$E$39=\"Non endémique\",IF(INTRO!$E$37=\"Non endémique\",\"Non requis\",COUNTRY_INFO!V28),\"Traiter avec IVM\")","v":"Traiter avec IVM"},0,0,null,0]
[{"$f":"IF(INTRO!$E$39<>\"Non endémique\", \" \", IF(INTRO!$E$37=\"Non endémique\",\" \", IF(COUNTRY_INFO!A29=0,\" \",COUNTRY_INFO!A29)))","v":" "},{"$f":"IF(INTRO!$E$39<>\"Non endémique\", \" \", IF(INTRO!$E$37=\"Non endémique\",\" \", IF(COUNTRY_INFO!B29=0,\" \",COUNTRY_INFO!B29)))","v":" "},{"$f":"IF(INTRO!$E$39<>\"Non endémique\", \" \", IF(INTRO!$E$37=\"Non endémique\",\" \", IF(COUNTRY_INFO!C29=0,\" \",COUNTRY_INFO!C29)))","v":" "},{"$f":"IF(INTRO!$E$39<>\"Non endémique\", 0, IF(INTRO!$E$37=\"Non endémique\",0,IF(COUNTRY_INFO!$H29=1,COUNTRY_INFO!E29,0)))","v":0},{"$f":"IF(INTRO!$E$39<>\"Non endémique\", 0, IF(INTRO!$E$37=\"Non endémique\",0,IF(COUNTRY_INFO!$H29=1,COUNTRY_INFO!F29,0)))","v":0},{"$f":"IF(INTRO!$E$39<>\"Non endémique\", 0, IF(INTRO!$E$37=\"Non endémique\",0,IF(COUNTRY_INFO!$H29=1,COUNTRY_INFO!G29,0)))","v":0},0,{"$f":"IF(INTRO!$E$39=\"Non endémique\",IF(INTRO!$E$37=\"Non endémique\",\"Non requis\",COUNTRY_INFO!V29),\"Traiter avec IVM\")","v":"Traiter avec IVM"},0,0,null,0]
[{"$f":"IF(INTRO!$E$39<>\"Non endémique\", \" \", IF(INTRO!$E$37=\"Non endémique\",\" \", IF(COUNTRY_INFO!A30=0,\" \",COUNTRY_INFO!A30)))","v":" "},{"$f":"IF(INTRO!$E$39<>\"Non endémique\", \" \", IF(INTRO!$E$37=\"Non endémique\",\" \", IF(COUNTRY_INFO!B30=0,\" \",COUNTRY_INFO!B30)))","v":" "},{"$f":"IF(INTRO!$E$39<>\"Non endémique\", \" \", IF(INTRO!$E$37=\"Non endémique\",\" \", IF(COUNTRY_INFO!C30=0,\" \",COUNTRY_INFO!C30)))","v":" "},{"$f":"IF(INTRO!$E$39<>\"Non endémique\", 0, IF(INTRO!$E$37=\"Non endémique\",0,IF(COUNTRY_INFO!$H30=1,COUNTRY_INFO!E30,0)))","v":0},{"$f":"IF(INTRO!$E$39<>\"Non endémique\", 0, IF(INTRO!$E$37=\"Non endémique\",0,IF(COUNTRY_INFO!$H30=1,COUNTRY_INFO!F30,0)))","v":0},{"$f":"IF(INTRO!$E$39<>\"Non endémique\", 0, IF(INTRO!$E$37=\"Non endémique\",0,IF(COUNTRY_INFO!$H30=1,COUNTRY_INFO!G30,0)))","v":0},0,{"$f":"IF(INTRO!$E$39=\"Non endémique\",IF(INTRO!$E$37=\"Non endémique\",\"Non requis\",COUNTRY_INFO!V30),\"Traiter avec IVM\")","v":"Traiter avec IVM"},0,0,null,0]
[{"$f":"IF(INTRO!$E$39<>\"Non endémique\", \" \", IF(INTRO!$E$37=\"Non endémique\",\" \", IF(COUNTRY_INFO!A31=0,\" \",COUNTRY_INFO!A31)))","v":" "},{"$f":"IF(INTRO!$E$39<>\"Non endémique\", \" \", IF(INTRO!$E$37=\"Non endémique\",\" \", IF(COUNTRY_INFO!B31=0,\" \",COUNTRY_INFO!B31)))","v":" "},{"$f":"IF(INTRO!$E$39<>\"Non endémique\", \" \", IF(INTRO!$E$37=\"Non endémique\",\" \", IF(COUNTRY_INFO!C31=0,\" \",COUNTRY_INFO!C31)))","v":" "},{"$f":"IF(INTRO!$E$39<>\"Non endémique\", 0, IF(INTRO!$E$37=\"Non endémique\",0,IF(COUNTRY_INFO!$H31=1,COUNTRY_INFO!E31,0)))","v":0},{"$f":"IF(INTRO!$E$39<>\"Non endémique\", 0, IF(INTRO!$E$37=\"Non endémique\",0,IF(COUNTRY_INFO!$H31=1,COUNTRY_INFO!F31,0)))","v":0},{"$f":"IF(INTRO!$E$39<>\"Non endémique\", 0, IF(INTRO!$E$37=\"Non endémique\",0,IF(COUNTRY_INFO!$H31=1,COUNTRY_INFO!G31,0)))","v":0},0,{"$f":"IF(INTRO!$E$39=\"Non endémique\",IF(INTRO!$E$37=\"Non endémique\",\"Non requis\",COUNTRY_INFO!V31),\"Traiter avec IVM\")","v":"Traiter avec IVM"},0,0,null,0]
[{"$f":"IF(INTRO!$E$39<>\"Non endémique\", \" \", IF(INTRO!$E$37=\"Non endémique\",\" \", IF(COUNTRY_INFO!A32=0,\" \",COUNTRY_INFO!A32)))","v":" "},{"$f":"IF(INTRO!$E$39<>\"Non endémique\", \" \", IF(INTRO!$E$37=\"Non endémique\",\" \", IF(COUNTRY_INFO!B32=0,\" \",COUNTRY_INFO!B32)))","v":" "},{"$f":"IF(INTRO!$E$39<>\"Non endémique\", \" \", IF(INTRO!$E$37=\"Non endémique\",\" \", IF(COUNTRY_INFO!C32=0,\" \",COUNTRY_INFO!C32)))","v":" "},{"$f":"IF(INTRO!$E$39<>\"Non endémique\", 0, IF(INTRO!$E$37=\"Non endémique\",0,IF(COUNTRY_INFO!$H32=1,COUNTRY_INFO!E32,0)))","v":0},{"$f":"IF(INTRO!$E$39<>\"Non endémique\", 0, IF(INTRO!$E$37=\"Non endémique\",0,IF(COUNTRY_INFO!$H32=1,COUNTRY_INFO!F32,0)))","v":0},{"$f":"IF(INTRO!$E$39<>\"Non endémique\", 0, IF(INTRO!$E$37=\"Non endémique\",0,IF(COUNTRY_INFO!$H32=1,COUNTRY_INFO!G32,0)))","v":0},0,{"$f":"IF(INTRO!$E$39=\"Non endémique\",IF(INTRO!$E$37=\"Non endémique\",\"Non requis\",COUNTRY_INFO!V32),\"Traiter avec IVM\")","v":"Traiter avec IVM"},0,0,null,0]
[{"$f":"IF(INTRO!$E$39<>\"Non endémique\", \" \", IF(INTRO!$E$37=\"Non endémique\",\" \", IF(COUNTRY_INFO!A33=0,\" \",COUNTRY_INFO!A33)))","v":" "},{"$f":"IF(INTRO!$E$39<>\"Non endémique\", \" \", IF(INTRO!$E$37=\"Non endémique\",\" \", IF(COUNTRY_INFO!B33=0,\" \",COUNTRY_INFO!B33)))","v":" "},{"$f":"IF(INTRO!$E$39<>\"Non endémique\", \" \", IF(INTRO!$E$37=\"Non endémique\",\" \", IF(COUNTRY_INFO!C33=0,\" \",COUNTRY_INFO!C33)))","v":" "},{"$f":"IF(INTRO!$E$39<>\"Non endémique\", 0, IF(INTRO!$E$37=\"Non endémique\",0,IF(COUNTRY_INFO!$H33=1,COUNTRY_INFO!E33,0)))","v":0},{"$f":"IF(INTRO!$E$39<>\"Non endémique\", 0, IF(INTRO!$E$37=\"Non endémique\",0,IF(COUNTRY_INFO!$H33=1,COUNTRY_INFO!F33,0)))","v":0},{"$f":"IF(INTRO!$E$39<>\"Non endémique\", 0, IF(INTRO!$E$37=\"Non endémique\",0,IF(COUNTRY_INFO!$H33=1,COUNTRY_INFO!G33,0)))","v":0},0,{"$f":"IF(INTRO!$E$39=\"Non endémique\",IF(INTRO!$E$37=\"Non endémique\",\"Non requis\",COUNTRY_INFO!V33),\"Traiter avec IVM\")","v":"Traiter avec IVM"},0,0,null,0]
[{"$f":"IF(INTRO!$E$39<>\"Non endémique\", \" \", IF(INTRO!$E$37=\"Non endémique\",\" \", IF(COUNTRY_INFO!A34=0,\" \",COUNTRY_INFO!A34)))","v":" "},{"$f":"IF(INTRO!$E$39<>\"Non endémique\", \" \", IF(INTRO!$E$37=\"Non endémique\",\" \", IF(COUNTRY_INFO!B34=0,\" \",COUNTRY_INFO!B34)))","v":" "},{"$f":"IF(INTRO!$E$39<>\"Non endémique\", \" \", IF(INTRO!$E$37=\"Non endémique\",\" \", IF(COUNTRY_INFO!C34=0,\" \",COUNTRY_INFO!C34)))","v":" "},{"$f":"IF(INTRO!$E$39<>\"Non endémique\", 0, IF(INTRO!$E$37=\"Non endémique\",0,IF(COUNTRY_INFO!$H34=1,COUNTRY_INFO!E34,0)))","v":0},{"$f":"IF(INTRO!$E$39<>\"Non endémique\", 0, IF(INTRO!$E$37=\"Non endémique\",0,IF(COUNTRY_INFO!$H34=1,COUNTRY_INFO!F34,0)))","v":0},{"$f":"IF(INTRO!$E$39<>\"Non endémique\", 0, IF(INTRO!$E$37=\"Non endémique\",0,IF(COUNTRY_INFO!$H34=1,COUNTRY_INFO!G34,0)))","v":0},0,{"$f":"IF(INTRO!$E$39=\"Non endémique\",IF(INTRO!$E$37=\"Non endémique\",\"Non requis\",COUNTRY_INFO!V34),\"Traiter avec IVM\")","v":"Traiter avec IVM"},0,0,null,0]
[{"$f":"IF(INTRO!$E$39<>\"Non endémique\", \" \", IF(INTRO!$E$37=\"Non endémique\",\" \", IF(COUNTRY_INFO!A35=0,\" \",COUNTRY_INFO!A35)))","v":" "},{"$f":"IF(INTRO!$E$39<>\"Non endémique\", \" \", IF(INTRO!$E$37=\"Non endémique\",\" \", IF(COUNTRY_INFO!B35=0,\" \",COUNTRY_INFO!B35)))","v":" "},{"$f":"IF(INTRO!$E$39<>\"Non endémique\", \" \", IF(INTRO!$E$37=\"Non endémique\",\" \", IF(COUNTRY_INFO!C35=0,\" \",COUNTRY_INFO!C35)))","v":" "},{"$f":"IF(INTRO!$E$39<>\"Non endémique\", 0, IF(INTRO!$E$37=\"Non endémique\",0,IF(COUNTRY_INFO!$H35=1,COUNTRY_INFO!E35,0)))","v":0},{"$f":"IF(INTRO!$E$39<>\"Non endémique\", 0, IF(INTRO!$E$37=\"Non endémique\",0,IF(COUNTRY_INFO!$H35=1,COUNTRY_INFO!F35,0)))","v":0},{"$f":"IF(INTRO!$E$39<>\"Non endémique\", 0, IF(INTRO!$E$37=\"Non endémique\",0,IF(COUNTRY_INFO!$H35=1,COUNTRY_INFO!G35,0)))","v":0},0,{"$f":"IF(INTRO!$E$39=\"Non endémique\",IF(INTRO!$E$37=\"Non endémique\",\"Non requis\",COUNTRY_INFO!V35),\"Traiter avec IVM\")","v":"Traiter avec IVM"},0,0,null,0]
[{"$f":"IF(INTRO!$E$39<>\"Non endémique\", \" \", IF(INTRO!$E$37=\"Non endémique\",\" \", IF(COUNTRY_INFO!A36=0,\" \",COUNTRY_INFO!A36)))","v":" "},{"$f":"IF(INTRO!$E$39<>\"Non endémique\", \" \", IF(INTRO!$E$37=\"Non endémique\",\" \", IF(COUNTRY_INFO!B36=0,\" \",COUNTRY_INFO!B36)))","v":" "},{"$f":"IF(INTRO!$E$39<>\"Non endémique\", \" \", IF(INTRO!$E$37=\"Non endémique\",\" \", IF(COUNTRY_INFO!C36=0,\" \",COUNTRY_INFO!C36)))","v":" "},{"$f":"IF(INTRO!$E$39<>\"Non endémique\", 0, IF(INTRO!$E$37=\"Non endémique\",0,IF(COUNTRY_INFO!$H36=1,COUNTRY_INFO!E36,0)))","v":0},{"$f":"IF(INTRO!$E$39<>\"Non endémique\", 0, IF(INTRO!$E$37=\"Non endémique\",0,IF(COUNTRY_INFO!$H36=1,COUNTRY_INFO!F36,0)))","v":0},{"$f":"IF(INTRO!$E$39<>\"Non endémique\", 0, IF(INTRO!$E$37=\"Non endémique\",0,IF(COUNTRY_INFO!$H36=1,COUNTRY_INFO!G36,0)))","v":0},0,{"$f":"IF(INTRO!$E$39=\"Non endémique\",IF(INTRO!$E$37=\"Non endémique\",\"Non requis\",COUNTRY_INFO!V36),\"Traiter avec IVM\")","v":"Traiter avec IVM"},0,0,null,0]
[{"$f":"IF(INTRO!$E$39<>\"Non endémique\", \" \", IF(INTRO!$E$37=\"Non endémique\",\" \", IF(COUNTRY_INFO!A37=0,\" \",COUNTRY_INFO!A37)))","v":" "},{"$f":"IF(INTRO!$E$39<>\"Non endémique\", \" \", IF(INTRO!$E$37=\"Non endémique\",\" \", IF(COUNTRY_INFO!B37=0,\" \",COUNTRY_INFO!B37)))","v":" "},{"$f":"IF(INTRO!$E$39<>\"Non endémique\", \" \", IF(INTRO!$E$37=\"Non endémique\",\" \", IF(COUNTRY_INFO!C37=0,\" \",COUNTRY_INFO!C37)))","v":" "},{"$f":"IF(INTRO!$E$39<>\"Non endémique\", 0, IF(INTRO!$E$37=\"Non endémique\",0,IF(COUNTRY_INFO!$H37=1,COUNTRY_INFO!E37,0)))","v":0},{"$f":"IF(INTRO!$E$39<>\"Non endémique\", 0, IF(INTRO!$E$37=\"Non endémique\",0,IF(COUNTRY_INFO!$H37=1,COUNTRY_INFO!F37,0)))","v":0},{"$f":"IF(INTRO!$E$39<>\"Non endémique\", 0, IF(INTRO!$E$37=\"Non endémique\",0,IF(COUNTRY_INFO!$H37=1,COUNTRY_INFO!G37,0)))","v":0},0,{"$f":"IF(INTRO!$E$39=\"Non endémique\",IF(INTRO!$E$37=\"Non endémique\",\"Non requis\",COUNTRY_INFO!V37),\"Traiter avec IVM\")","v":"Traiter avec IVM"},0,0,null,0]
[{"$f":"IF(INTRO!$E$39<>\"Non endémique\", \" \", IF(INTRO!$E$37=\"Non endémique\",\" \", IF(COUNTRY_INFO!A38=0,\" \",COUNTRY_INFO!A38)))","v":" "},{"$f":"IF(INTRO!$E$39<>\"Non endémique\", \" \", IF(INTRO!$E$37=\"Non endémique\",\" \", IF(COUNTRY_INFO!B38=0,\" \",COUNTRY_INFO!B38)))","v":" "},{"$f":"IF(INTRO!$E$39<>\"Non endémique\", \" \", IF(INTRO!$E$37=\"Non endémique\",\" \", IF(COUNTRY_INFO!C38=0,\" \",COUNTRY_INFO!C38)))","v":" "},{"$f":"IF(INTRO!$E$39<>\"Non endémique\", 0, IF(INTRO!$E$37=\"Non endémique\",0,IF(COUNTRY_INFO!$H38=1,COUNTRY_INFO!E38,0)))","v":0},{"$f":"IF(INTRO!$E$39<>\"Non endémique\", 0, IF(INTRO!$E$37=\"Non endémique\",0,IF(COUNTRY_INFO!$H38=1,COUNTRY_INFO!F38,0)))","v":0},{"$f":"IF(INTRO!$E$39<>\"Non endémique\", 0, IF(INTRO!$E$37=\"Non endémique\",0,IF(COUNTRY_INFO!$H38=1,COUNTRY_INFO!G38,0)))","v":0},0,{"$f":"IF(INTRO!$E$39=\"Non endémique\",IF(INTRO!$E$37=\"Non endémique\",\"Non requis\",COUNTRY_INFO!V38),\"Traiter avec IVM\")","v":"Traiter avec IVM"},0,0,null,0]
[{"$f":"IF(INTRO!$E$39<>\"Non endémique\", \" \", IF(INTRO!$E$37=\"Non endémique\",\" \", IF(COUNTRY_INFO!A39=0,\" \",COUNTRY_INFO!A39)))","v":" "},{"$f":"IF(INTRO!$E$39<>\"Non endémique\", \" \", IF(INTRO!$E$37=\"Non endémique\",\" \", IF(COUNTRY_INFO!B39=0,\" \",COUNTRY_INFO!B39)))","v":" "},{"$f":"IF(INTRO!$E$39<>\"Non endémique\", \" \", IF(INTRO!$E$37=\"Non endémique\",\" \", IF(COUNTRY_INFO!C39=0,\" \",COUNTRY_INFO!C39)))","v":" "},{"$f":"IF(INTRO!$E$39<>\"Non endémique\", 0, IF(INTRO!$E$37=\"Non endémique\",0,IF(COUNTRY_INFO!$H39=1,COUNTRY_INFO!E39,0)))","v":0},{"$f":"IF(INTRO!$E$39<>\"Non endémique\", 0, IF(INTRO!$E$37=\"Non endémique\",0,IF(COUNTRY_INFO!$H39=1,COUNTRY_INFO!F39,0)))","v":0},{"$f":"IF(INTRO!$E$39<>\"Non endémique\", 0, IF(INTRO!$E$37=\"Non endémique\",0,IF(COUNTRY_INFO!$H39=1,COUNTRY_INFO!G39,0)))","v":0},0,{"$f":"IF(INTRO!$E$39=\"Non endémique\",IF(INTRO!$E$37=\"Non endémique\",\"Non requis\",COUNTRY_INFO!V39),\"Traiter avec IVM\")","v":"Traiter avec IVM"},0,0,null,0]
[{"$f":"IF(INTRO!$E$39<>\"Non endémique\", \" \", IF(INTRO!$E$37=\"Non endémique\",\" \", IF(COUNTRY_INFO!A40=0,\" \",COUNTRY_INFO!A40)))","v":" "},{"$f":"IF(INTRO!$E$39<>\"Non endémique\", \" \", IF(INTRO!$E$37=\"Non endémique\",\" \", IF(COUNTRY_INFO!B40=0,\" \",COUNTRY_INFO!B40)))","v":" "},{"$f":"IF(INTRO!$E$39<>\"Non endémique\", \" \", IF(INTRO!$E$37=\"Non endémique\",\" \", IF(COUNTRY_INFO!C40=0,\" \",COUNTRY_INFO!C40)))","v":" "},{"$f":"IF(INTRO!$E$39<>\"Non endémique\", 0, IF(INTRO!$E$37=\"Non endémique\",0,IF(COUNTRY_INFO!$H40=1,COUNTRY_INFO!E40,0)))","v":0},{"$f":"IF(INTRO!$E$39<>\"Non endémique\", 0, IF(INTRO!$E$37=\"Non endémique\",0,IF(COUNTRY_INFO!$H40=1,COUNTRY_INFO!F40,0)))","v":0},{"$f":"IF(INTRO!$E$39<>\"Non endémique\", 0, IF(INTRO!$E$37=\"Non endémique\",0,IF(COUNTRY_INFO!$H40=1,COUNTRY_INFO!G40,0)))","v":0},0,{"$f":"IF(INTRO!$E$39=\"Non endémique\",IF(INTRO!$E$37=\"Non endémique\",\"Non requis\",COUNTRY_INFO!V40),\"Traiter avec IVM\")","v":"Traiter avec IVM"},0,0,null,0]
[{"$f":"IF(INTRO!$E$39<>\"Non endémique\", \" \", IF(INTRO!$E$37=\"Non endémique\",\" \", IF(COUNTRY_INFO!A41=0,\" \",COUNTRY_INFO!A41)))","v":" "},{"$f":"IF(INTRO!$E$39<>\"Non endémique\", \" \", IF(INTRO!$E$37=\"Non endémique\",\" \", IF(COUNTRY_INFO!B41=0,\" \",COUNTRY_INFO!B41)))","v":" "},{"$f":"IF(INTRO!$E$39<>\"Non endémique\", \" \", IF(INTRO!$E$37=\"Non endémique\",\" \", IF(COUNTRY_INFO!C41=0,\" \",COUNTRY_INFO!C41)))","v":" "},{"$f":"IF(INTRO!$E$39<>\"Non endémique\", 0, IF(INTRO!$E$37=\"Non endémique\",0,IF(COUNTRY_INFO!$H41=1,COUNTRY_INFO!E41,0)))","v":0},{"$f":"IF(INTRO!$E$39<>\"Non endémique\", 0, IF(INTRO!$E$37=\"Non endémique\",0,IF(COUNTRY_INFO!$H41=1,COUNTRY_INFO!F41,0)))","v":0},{"$f":"IF(INTRO!$E$39<>\"Non endémique\", 0, IF(INTRO!$E$37=\"Non endémique\",0,IF(COUNTRY_INFO!$H41=1,COUNTRY_INFO!G41,0)))","v":0},0,{"$f":"IF(INTRO!$E$39=\"Non endémique\",IF(INTRO!$E$37=\"Non endémique\",\"Non requis\",COUNTRY_INFO!V41),\"Traiter avec IVM\")","v":"Traiter avec IVM"},0,0,null,0]
[{"$f":"IF(INTRO!$E$39<>\"Non endémique\", \" \", IF(INTRO!$E$37=\"Non endémique\",\" \", IF(COUNTRY_INFO!A42=0,\" \",COUNTRY_INFO!A42)))","v":" "},{"$f":"IF(INTRO!$E$39<>\"Non endémique\", \" \", IF(INTRO!$E$37=\"Non endémique\",\" \", IF(COUNTRY_INFO!B42=0,\" \",COUNTRY_INFO!B42)))","v":" "},{"$f":"IF(INTRO!$E$39<>\"Non endémique\", \" \", IF(INTRO!$E$37=\"Non endémique\",\" \", IF(COUNTRY_INFO!C42=0,\" \",COUNTRY_INFO!C42)))","v":" "},{"$f":"IF(INTRO!$E$39<>\"Non endémique\", 0, IF(INTRO!$E$37=\"Non endémique\",0,IF(COUNTRY_INFO!$H42=1,COUNTRY_INFO!E42,0)))","v":0},{"$f":"IF(INTRO!$E$39<>\"Non endémique\", 0, IF(INTRO!$E$37=\"Non endémique\",0,IF(COUNTRY_INFO!$H42=1,COUNTRY_INFO!F42,0)))","v":0},{"$f":"IF(INTRO!$E$39<>\"Non endémique\", 0, IF(INTRO!$E$37=\"Non endémique\",0,IF(COUNTRY_INFO!$H42=1,COUNTRY_INFO!G42,0)))","v":0},0,{"$f":"IF(INTRO!$E$39=\"Non endémique\",IF(INTRO!$E$37=\"Non endémique\",\"Non requis\",COUNTRY_INFO!V42),\"Traiter avec IVM\")","v":"Traiter avec IVM"},0,0,null,0]
[{"$f":"IF(INTRO!$E$39<>\"Non endémique\", \" \", IF(INTRO!$E$37=\"Non endémique\",\" \", IF(COUNTRY_INFO!A43=0,\" \",COUNTRY_INFO!A43)))","v":" "},{"$f":"IF(INTRO!$E$39<>\"Non endémique\", \" \", IF(INTRO!$E$37=\"Non endémique\",\" \", IF(COUNTRY_INFO!B43=0,\" \",COUNTRY_INFO!B43)))","v":" "},{"$f":"IF(INTRO!$E$39<>\"Non endémique\", \" \", IF(INTRO!$E$37=\"Non endémique\",\" \", IF(COUNTRY_INFO!C43=0,\" \",COUNTRY_INFO!C43)))","v":" "},{"$f":"IF(INTRO!$E$39<>\"Non endémique\", 0, IF(INTRO!$E$37=\"Non endémique\",0,IF(COUNTRY_INFO!$H43=1,COUNTRY_INFO!E43,0)))","v":0},{"$f":"IF(INTRO!$E$39<>\"Non endémique\", 0, IF(INTRO!$E$37=\"Non endémique\",0,IF(COUNTRY_INFO!$H43=1,COUNTRY_INFO!F43,0)))","v":0},{"$f":"IF(INTRO!$E$39<>\"Non endémique\", 0, IF(INTRO!$E$37=\"Non endémique\",0,IF(COUNTRY_INFO!$H43=1,COUNTRY_INFO!G43,0)))","v":0},0,{"$f":"IF(INTRO!$E$39=\"Non endémique\",IF(INTRO!$E$37=\"Non endémique\",\"Non requis\",COUNTRY_INFO!V43),\"Traiter avec IVM\")","v":"Traiter avec IVM"},0,0,null,0]
[{"$f":"IF(INTRO!$E$39<>\"Non endémique\", \" \", IF(INTRO!$E$37=\"Non endémique\",\" \", IF(COUNTRY_INFO!A44=0,\" \",COUNTRY_INFO!A44)))","v":" "},{"$f":"IF(INTRO!$E$39<>\"Non endémique\", \" \", IF(INTRO!$E$37=\"Non endémique\",\" \", IF(COUNTRY_INFO!B44=0,\" \",COUNTRY_INFO!B44)))","v":" "},{"$f":"IF(INTRO!$E$39<>\"Non endémique\", \" \", IF(INTRO!$E$37=\"Non endémique\",\" \", IF(COUNTRY_INFO!C44=0,\" \",COUNTRY_INFO!C44)))","v":" "},{"$f":"IF(INTRO!$E$39<>\"Non endémique\", 0, IF(INTRO!$E$37=\"Non endémique\",0,IF(COUNTRY_INFO!$H44=1,COUNTRY_INFO!E44,0)))","v":0},{"$f":"IF(INTRO!$E$39<>\"Non endémique\", 0, IF(INTRO!$E$37=\"Non endémique\",0,IF(COUNTRY_INFO!$H44=1,COUNTRY_INFO!F44,0)))","v":0},{"$f":"IF(INTRO!$E$39<>\"Non endémique\", 0, IF(INTRO!$E$37=\"Non endémique\",0,IF(COUNTRY_INFO!$H44=1,COUNTRY_INFO!G44,0)))","v":0},0,{"$f":"IF(INTRO!$E$39=\"Non endémique\",IF(INTRO!$E$37=\"Non endémique\",\"Non requis\",COUNTRY_INFO!V44),\"Traiter avec IVM\")","v":"Traiter avec IVM"},0,0,null,0]
[{"$f":"IF(INTRO!$E$39<>\"Non endémique\", \" \", IF(INTRO!$E$37=\"Non endémique\",\" \", IF(COUNTRY_INFO!A45=0,\" \",COUNTRY_INFO!A45)))","v":" "},{"$f":"IF(INTRO!$E$39<>\"Non endémique\", \" \", IF(INTRO!$E$37=\"Non endémique\",\" \", IF(COUNTRY_INFO!B45=0,\" \",COUNTRY_INFO!B45)))","v":" "},{"$f":"IF(INTRO!$E$39<>\"Non endémique\", \" \", IF(INTRO!$E$37=\"Non endémique\",\" \", IF(COUNTRY_INFO!C45=0,\" \",COUNTRY_INFO!C45)))","v":" "},{"$f":"IF(INTRO!$E$39<>\"Non endémique\", 0, IF(INTRO!$E$37=\"Non endémique\",0,IF(COUNTRY_INFO!$H45=1,COUNTRY_INFO!E45,0)))","v":0},{"$f":"IF(INTRO!$E$39<>\"Non endémique\", 0, IF(INTRO!$E$37=\"Non endémique\",0,IF(COUNTRY_INFO!$H45=1,COUNTRY_INFO!F45,0)))","v":0},{"$f":"IF(INTRO!$E$39<>\"Non endémique\", 0, IF(INTRO!$E$37=\"Non endémique\",0,IF(COUNTRY_INFO!$H45=1,COUNTRY_INFO!G45,0)))","v":0},0,{"$f":"IF(INTRO!$E$39=\"Non endémique\",IF(INTRO!$E$37=\"Non endémique\",\"Non requis\",COUNTRY_INFO!V45),\"Traiter avec IVM\")","v":"Traiter avec IVM"},0,0,null,0]
[{"$f":"IF(INTRO!$E$39<>\"Non endémique\", \" \", IF(INTRO!$E$37=\"Non endémique\",\" \", IF(COUNTRY_INFO!A46=0,\" \",COUNTRY_INFO!A46)))","v":" "},{"$f":"IF(INTRO!$E$39<>\"Non endémique\", \" \", IF(INTRO!$E$37=\"Non endémique\",\" \", IF(COUNTRY_INFO!B46=0,\" \",COUNTRY_INFO!B46)))","v":" "},{"$f":"IF(INTRO!$E$39<>\"Non endémique\", \" \", IF(INTRO!$E$37=\"Non endémique\",\" \", IF(COUNTRY_INFO!C46=0,\" \",COUNTRY_INFO!C46)))","v":" "},{"$f":"IF(INTRO!$E$39<>\"Non endémique\", 0, IF(INTRO!$E$37=\"Non endémique\",0,IF(COUNTRY_INFO!$H46=1,COUNTRY_INFO!E46,0)))","v":0},{"$f":"IF(INTRO!$E$39<>\"Non endémique\", 0, IF(INTRO!$E$37=\"Non endémique\",0,IF(COUNTRY_INFO!$H46=1,COUNTRY_INFO!F46,0)))","v":0},{"$f":"IF(INTRO!$E$39<>\"Non endémique\", 0, IF(INTRO!$E$37=\"Non endémique\",0,IF(COUNTRY_INFO!$H46=1,COUNTRY_INFO!G46,0)))","v":0},0,{"$f":"IF(INTRO!$E$39=\"Non endémique\",IF(INTRO!$E$37=\"Non endémique\",\"Non requis\",COUNTRY_INFO!V46),\"Traiter avec IVM\")","v":"Traiter avec IVM"},0,0,null,0]
[{"$f":"IF(INTRO!$E$39<>\"Non endémique\", \" \", IF(INTRO!$E$37=\"Non endémique\",\" \", IF(COUNTRY_INFO!A47=0,\" \",COUNTRY_INFO!A47)))","v":" "},{"$f":"IF(INTRO!$E$39<>\"Non endémique\", \" \", IF(INTRO!$E$37=\"Non endémique\",\" \", IF(COUNTRY_INFO!B47=0,\" \",COUNTRY_INFO!B47)))","v":" "},{"$f":"IF(INTRO!$E$39<>\"Non endémique\", \" \", IF(INTRO!$E$37=\"Non endémique\",\" \", IF(COUNTRY_INFO!C47=0,\" \",COUNTRY_INFO!C47)))","v":" "},{"$f":"IF(INTRO!$E$39<>\"Non endémique\", 0, IF(INTRO!$E$37=\"Non endémique\",0,IF(COUNTRY_INFO!$H47=1,COUNTRY_INFO!E47,0)))","v":0},{"$f":"IF(INTRO!$E$39<>\"Non endémique\", 0, IF(INTRO!$E$37=\"Non endémique\",0,IF(COUNTRY_INFO!$H47=1,COUNTRY_INFO!F47,0)))","v":0},{"$f":"IF(INTRO!$E$39<>\"Non endémique\", 0, IF(INTRO!$E$37=\"Non endémique\",0,IF(COUNTRY_INFO!$H47=1,COUNTRY_INFO!G47,0)))","v":0},0,{"$f":"IF(INTRO!$E$39=\"Non endémique\",IF(INTRO!$E$37=\"Non endémique\",\"Non requis\",COUNTRY_INFO!V47),\"Traiter avec IVM\")","v":"Traiter avec IVM"},0,0,null,0]
[{"$f":"IF(INTRO!$E$39<>\"Non endémique\", \" \", IF(INTRO!$E$37=\"Non endémique\",\" \", IF(COUNTRY_INFO!A48=0,\" \",COUNTRY_INFO!A48)))","v":" "},{"$f":"IF(INTRO!$E$39<>\"Non endémique\", \" \", IF(INTRO!$E$37=\"Non endémique\",\" \", IF(COUNTRY_INFO!B48=0,\" \",COUNTRY_INFO!B48)))","v":" "},{"$f":"IF(INTRO!$E$39<>\"Non endémique\", \" \", IF(INTRO!$E$37=\"Non endémique\",\" \", IF(COUNTRY_INFO!C48=0,\" \",COUNTRY_INFO!C48)))","v":" "},{"$f":"IF(INTRO!$E$39<>\"Non endémique\", 0, IF(INTRO!$E$37=\"Non endémique\",0,IF(COUNTRY_INFO!$H48=1,COUNTRY_INFO!E48,0)))","v":0},{"$f":"IF(INTRO!$E$39<>\"Non endémique\", 0, IF(INTRO!$E$37=\"Non endémique\",0,IF(COUNTRY_INFO!$H48=1,COUNTRY_INFO!F48,0)))","v":0},{"$f":"IF(INTRO!$E$39<>\"Non endémique\", 0, IF(INTRO!$E$37=\"Non endémique\",0,IF(COUNTRY_INFO!$H48=1,COUNTRY_INFO!G48,0)))","v":0},0,{"$f":"IF(INTRO!$E$39=\"Non endémique\",IF(INTRO!$E$37=\"Non endémique\",\"Non requis\",COUNTRY_INFO!V48),\"Traiter avec IVM\")","v":"Traiter avec IVM"},0,0,null,0]
[{"$f":"IF(INTRO!$E$39<>\"Non endémique\", \" \", IF(INTRO!$E$37=\"Non endémique\",\" \", IF(COUNTRY_INFO!A49=0,\" \",COUNTRY_INFO!A49)))","v":" "},{"$f":"IF(INTRO!$E$39<>\"Non endémique\", \" \", IF(INTRO!$E$37=\"Non endémique\",\" \", IF(COUNTRY_INFO!B49=0,\" \",COUNTRY_INFO!B49)))","v":" "},{"$f":"IF(INTRO!$E$39<>\"Non endémique\", \" \", IF(INTRO!$E$37=\"Non endémique\",\" \", IF(COUNTRY_INFO!C49=0,\" \",COUNTRY_INFO!C49)))","v":" "},{"$f":"IF(INTRO!$E$39<>\"Non endémique\", 0, IF(INTRO!$E$37=\"Non endémique\",0,IF(COUNTRY_INFO!$H49=1,COUNTRY_INFO!E49,0)))","v":0},{"$f":"IF(INTRO!$E$39<>\"Non endémique\", 0, IF(INTRO!$E$37=\"Non endémique\",0,IF(COUNTRY_INFO!$H49=1,COUNTRY_INFO!F49,0)))","v":0},{"$f":"IF(INTRO!$E$39<>\"Non endémique\", 0, IF(INTRO!$E$37=\"Non endémique\",0,IF(COUNTRY_INFO!$H49=1,COUNTRY_INFO!G49,0)))","v":0},0,{"$f":"IF(INTRO!$E$39=\"Non endémique\",IF(INTRO!$E$37=\"Non endémique\",\"Non requis\",COUNTRY_INFO!V49),\"Traiter avec IVM\")","v":"Traiter avec IVM"},0,0,null,0]
[{"$f":"IF(INTRO!$E$39<>\"Non endémique\", \" \", IF(INTRO!$E$37=\"Non endémique\",\" \", IF(COUNTRY_INFO!A50=0,\" \",COUNTRY_INFO!A50)))","v":" "},{"$f":"IF(INTRO!$E$39<>\"Non endémique\", \" \", IF(INTRO!$E$37=\"Non endémique\",\" \", IF(COUNTRY_INFO!B50=0,\" \",COUNTRY_INFO!B50)))","v":" "},{"$f":"IF(INTRO!$E$39<>\"Non endémique\", \" \", IF(INTRO!$E$37=\"Non endémique\",\" \", IF(COUNTRY_INFO!C50=0,\" \",COUNTRY_INFO!C50)))","v":" "},{"$f":"IF(INTRO!$E$39<>\"Non endémique\", 0, IF(INTRO!$E$37=\"Non endémique\",0,IF(COUNTRY_INFO!$H50=1,COUNTRY_INFO!E50,0)))","v":0},{"$f":"IF(INTRO!$E$39<>\"Non endémique\", 0, IF(INTRO!$E$37=\"Non endémique\",0,IF(COUNTRY_INFO!$H50=1,COUNTRY_INFO!F50,0)))","v":0},{"$f":"IF(INTRO!$E$39<>\"Non endémique\", 0, IF(INTRO!$E$37=\"Non endémique\",0,IF(COUNTRY_INFO!$H50=1,COUNTRY_INFO!G50,0)))","v":0},0,{"$f":"IF(INTRO!$E$39=\"Non endémique\",IF(INTRO!$E$37=\"Non endémique\",\"Non requis\",COUNTRY_INFO!V50),\"Traiter avec IVM\")","v":"Traiter avec IVM"},0,0,null,0]
[{"$f":"IF(INTRO!$E$39<>\"Non endémique\", \" \", IF(INTRO!$E$37=\"Non endémique\",\" \", IF(COUNTRY_INFO!A51=0,\" \",COUNTRY_INFO!A51)))","v":" "},{"$f":"IF(INTRO!$E$39<>\"Non endémique\", \" \", IF(INTRO!$E$37=\"Non endémique\",\" \", IF(COUNTRY_INFO!B51=0,\" \",COUNTRY_INFO!B51)))","v":" "},{"$f":"IF(INTRO!$E$39<>\"Non endémique\", \" \", IF(INTRO!$E$37=\"Non endémique\",\" \", IF(COUNTRY_INFO!C51=0,\" \",COUNTRY_INFO!C51)))","v":" "},{"$f":"IF(INTRO!$E$39<>\"Non endémique\", 0, IF(INTRO!$E$37=\"Non endémique\",0,IF(COUNTRY_INFO!$H51=1,COUNTRY_INFO!E51,0)))","v":0},{"$f":"IF(INTRO!$E$39<>\"Non endémique\", 0, IF(INTRO!$E$37=\"Non endémique\",0,IF(COUNTRY_INFO!$H51=1,COUNTRY_INFO!F51,0)))","v":0},{"$f":"IF(INTRO!$E$39<>\"Non endémique\", 0, IF(INTRO!$E$37=\"Non endémique\",0,IF(COUNTRY_INFO!$H51=1,COUNTRY_INFO!G51,0)))","v":0},0,{"$f":"IF(INTRO!$E$39=\"Non endémique\",IF(INTRO!$E$37=\"Non endémique\",\"Non requis\",COUNTRY_INFO!V51),\"Traiter avec IVM\")","v":"Traiter avec IVM"},0,0,null,0]
[{"$f":"IF(INTRO!$E$39<>\"Non endémique\", \" \", IF(INTRO!$E$37=\"Non endémique\",\" \", IF(COUNTRY_INFO!A52=0,\" \",COUNTRY_INFO!A52)))","v":" "},{"$f":"IF(INTRO!$E$39<>\"Non endémique\", \" \", IF(INTRO!$E$37=\"Non endémique\",\" \", IF(COUNTRY_INFO!B52=0,\" \",COUNTRY_INFO!B52)))","v":" "},{"$f":"IF(INTRO!$E$39<>\"Non endémique\", \" \", IF(INTRO!$E$37=\"Non endémique\",\" \", IF(COUNTRY_INFO!C52=0,\" \",COUNTRY_INFO!C52)))","v":" "},{"$f":"IF(INTRO!$E$39<>\"Non endémique\", 0, IF(INTRO!$E$37=\"Non endémique\",0,IF(COUNTRY_INFO!$H52=1,COUNTRY_INFO!E52,0)))","v":0},{"$f":"IF(INTRO!$E$39<>\"Non endémique\", 0, IF(INTRO!$E$37=\"Non endémique\",0,IF(COUNTRY_INFO!$H52=1,COUNTRY_INFO!F52,0)))","v":0},{"$f":"IF(INTRO!$E$39<>\"Non endémique\", 0, IF(INTRO!$E$37=\"Non endémique\",0,IF(COUNTRY_INFO!$H52=1,COUNTRY_INFO!G52,0)))","v":0},0,{"$f":"IF(INTRO!$E$39=\"Non endémique\",IF(INTRO!$E$37=\"Non endémique\",\"Non requis\",COUNTRY_INFO!V52),\"Traiter avec IVM\")","v":"Traiter avec IVM"},0,0,null,0]
[{"$f":"IF(INTRO!$E$39<>\"Non endémique\", \" \", IF(INTRO!$E$37=\"Non endémique\",\" \", IF(COUNTRY_INFO!A53=0,\" \",COUNTRY_INFO!A53)))","v":" "},{"$f":"IF(INTRO!$E$39<>\"Non endémique\", \" \", IF(INTRO!$E$37=\"Non endémique\",\" \", IF(COUNTRY_INFO!B53=0,\" \",COUNTRY_INFO!B53)))","v":" "},{"$f":"IF(INTRO!$E$39<>\"Non endémique\", \" \", IF(INTRO!$E$37=\"Non endémique\",\" \", IF(COUNTRY_INFO!C53=0,\" \",COUNTRY_INFO!C53)))","v":" "},{"$f":"IF(INTRO!$E$39<>\"Non endémique\", 0, IF(INTRO!$E$37=\"Non endémique\",0,IF(COUNTRY_INFO!$H53=1,COUNTRY_INFO!E53,0)))","v":0},{"$f":"IF(INTRO!$E$39<>\"Non endémique\", 0, IF(INTRO!$E$37=\"Non endémique\",0,IF(COUNTRY_INFO!$H53=1,COUNTRY_INFO!F53,0)))","v":0},{"$f":"IF(INTRO!$E$39<>\"Non endémique\", 0, IF(INTRO!$E$37=\"Non endémique\",0,IF(COUNTRY_INFO!$H53=1,COUNTRY_INFO!G53,0)))","v":0},0,{"$f":"IF(INTRO!$E$39=\"Non endémique\",IF(INTRO!$E$37=\"Non endémique\",\"Non requis\",COUNTRY_INFO!V53),\"Traiter avec IVM\")","v":"Traiter avec IVM"},0,0,null,0]
[{"$f":"IF(INTRO!$E$39<>\"Non endémique\", \" \", IF(INTRO!$E$37=\"Non endémique\",\" \", IF(COUNTRY_INFO!A54=0,\" \",COUNTRY_INFO!A54)))","v":" "},{"$f":"IF(INTRO!$E$39<>\"Non endémique\", \" \", IF(INTRO!$E$37=\"Non endémique\",\" \", IF(COUNTRY_INFO!B54=0,\" \",COUNTRY_INFO!B54)))","v":" "},{"$f":"IF(INTRO!$E$39<>\"Non endémique\", \" \", IF(INTRO!$E$37=\"Non endémique\",\" \", IF(COUNTRY_INFO!C54=0,\" \",COUNTRY_INFO!C54)))","v":" "},{"$f":"IF(INTRO!$E$39<>\"Non endémique\", 0, IF(INTRO!$E$37=\"Non endémique\",0,IF(COUNTRY_INFO!$H54=1,COUNTRY_INFO!E54,0)))","v":0},{"$f":"IF(INTRO!$E$39<>\"Non endémique\", 0, IF(INTRO!$E$37=\"Non endémique\",0,IF(COUNTRY_INFO!$H54=1,COUNTRY_INFO!F54,0)))","v":0},{"$f":"IF(INTRO!$E$39<>\"Non endémique\", 0, IF(INTRO!$E$37=\"Non endémique\",0,IF(COUNTRY_INFO!$H54=1,COUNTRY_INFO!G54,0)))","v":0},0,{"$f":"IF(INTRO!$E$39=\"Non endémique\",IF(INTRO!$E$37=\"Non endémique\",\"Non requis\",COUNTRY_INFO!V54),\"Traiter avec IVM\")","v":"Traiter avec IVM"},0,0,null,0]
[{"$f":"IF(INTRO!$E$39<>\"Non endémique\", \" \", IF(INTRO!$E$37=\"Non endémique\",\" \", IF(COUNTRY_INFO!A55=0,\" \",COUNTRY_INFO!A55)))","v":" "},{"$f":"IF(INTRO!$E$39<>\"Non endémique\", \" \", IF(INTRO!$E$37=\"Non endémique\",\" \", IF(COUNTRY_INFO!B55=0,\" \",COUNTRY_INFO!B55)))","v":" "},{"$f":"IF(INTRO!$E$39<>\"Non endémique\", \" \", IF(INTRO!$E$37=\"Non endémique\",\" \", IF(COUNTRY_INFO!C55=0,\" \",COUNTRY_INFO!C55)))","v":" "},{"$f":"IF(INTRO!$E$39<>\"Non endémique\", 0, IF(INTRO!$E$37=\"Non endémique\",0,IF(COUNTRY_INFO!$H55=1,COUNTRY_INFO!E55,0)))","v":0},{"$f":"IF(INTRO!$E$39<>\"Non endémique\", 0, IF(INTRO!$E$37=\"Non endémique\",0,IF(COUNTRY_INFO!$H55=1,COUNTRY_INFO!F55,0)))","v":0},{"$f":"IF(INTRO!$E$39<>\"Non endémique\", 0, IF(INTRO!$E$37=\"Non endémique\",0,IF(COUNTRY_INFO!$H55=1,COUNTRY_INFO!G55,0)))","v":0},0,{"$f":"IF(INTRO!$E$39=\"Non endémique\",IF(INTRO!$E$37=\"Non endémique\",\"Non requis\",COUNTRY_INFO!V55),\"Traiter avec IVM\")","v":"Traiter avec IVM"},0,0,null,0]
[{"$f":"IF(INTRO!$E$39<>\"Non endémique\", \" \", IF(INTRO!$E$37=\"Non endémique\",\" \", IF(COUNTRY_INFO!A56=0,\" \",COUNTRY_INFO!A56)))","v":" "},{"$f":"IF(INTRO!$E$39<>\"Non endémique\", \" \", IF(INTRO!$E$37=\"Non endémique\",\" \", IF(COUNTRY_INFO!B56=0,\" \",COUNTRY_INFO!B56)))","v":" "},{"$f":"IF(INTRO!$E$39<>\"Non endémique\", \" \", IF(INTRO!$E$37=\"Non endémique\",\" \", IF(COUNTRY_INFO!C56=0,\" \",COUNTRY_INFO!C56)))","v":" "},{"$f":"IF(INTRO!$E$39<>\"Non endémique\", 0, IF(INTRO!$E$37=\"Non endémique\",0,IF(COUNTRY_INFO!$H56=1,COUNTRY_INFO!E56,0)))","v":0},{"$f":"IF(INTRO!$E$39<>\"Non endémique\", 0, IF(INTRO!$E$37=\"Non endémique\",0,IF(COUNTRY_INFO!$H56=1,COUNTRY_INFO!F56,0)))","v":0},{"$f":"IF(INTRO!$E$39<>\"Non endémique\", 0, IF(INTRO!$E$37=\"Non endémique\",0,IF(COUNTRY_INFO!$H56=1,COUNTRY_INFO!G56,0)))","v":0},0,{"$f":"IF(INTRO!$E$39=\"Non endémique\",IF(INTRO!$E$37=\"Non endémique\",\"Non requis\",COUNTRY_INFO!V56),\"Traiter avec IVM\")","v":"Traiter avec IVM"},0,0,null,0]
[{"$f":"IF(INTRO!$E$39<>\"Non endémique\", \" \", IF(INTRO!$E$37=\"Non endémique\",\" \", IF(COUNTRY_INFO!A57=0,\" \",COUNTRY_INFO!A57)))","v":" "},{"$f":"IF(INTRO!$E$39<>\"Non endémique\", \" \", IF(INTRO!$E$37=\"Non endémique\",\" \", IF(COUNTRY_INFO!B57=0,\" \",COUNTRY_INFO!B57)))","v":" "},{"$f":"IF(INTRO!$E$39<>\"Non endémique\", \" \", IF(INTRO!$E$37=\"Non endémique\",\" \", IF(COUNTRY_INFO!C57=0,\" \",COUNTRY_INFO!C57)))","v":" "},{"$f":"IF(INTRO!$E$39<>\"Non endémique\", 0, IF(INTRO!$E$37=\"Non endémique\",0,IF(COUNTRY_INFO!$H57=1,COUNTRY_INFO!E57,0)))","v":0},{"$f":"IF(INTRO!$E$39<>\"Non endémique\", 0, IF(INTRO!$E$37=\"Non endémique\",0,IF(COUNTRY_INFO!$H57=1,COUNTRY_INFO!F57,0)))","v":0},{"$f":"IF(INTRO!$E$39<>\"Non endémique\", 0, IF(INTRO!$E$37=\"Non endémique\",0,IF(COUNTRY_INFO!$H57=1,COUNTRY_INFO!G57,0)))","v":0},0,{"$f":"IF(INTRO!$E$39=\"Non endémique\",IF(INTRO!$E$37=\"Non endémique\",\"Non requis\",COUNTRY_INFO!V57),\"Traiter avec IVM\")","v":"Traiter avec IVM"},0,0,null,0]
[{"$f":"IF(INTRO!$E$39<>\"Non endémique\", \" \", IF(INTRO!$E$37=\"Non endémique\",\" \", IF(COUNTRY_INFO!A58=0,\" \",COUNTRY_INFO!A58)))","v":" "},{"$f":"IF(INTRO!$E$39<>\"Non endémique\", \" \", IF(INTRO!$E$37=\"Non endémique\",\" \", IF(COUNTRY_INFO!B58=0,\" \",COUNTRY_INFO!B58)))","v":" "},{"$f":"IF(INTRO!$E$39<>\"Non endémique\", \" \", IF(INTRO!$E$37=\"Non endémique\",\" \", IF(COUNTRY_INFO!C58=0,\" \",COUNTRY_INFO!C58)))","v":" "},{"$f":"IF(INTRO!$E$39<>\"Non endémique\", 0, IF(INTRO!$E$37=\"Non endémique\",0,IF(COUNTRY_INFO!$H58=1,COUNTRY_INFO!E58,0)))","v":0},{"$f":"IF(INTRO!$E$39<>\"Non endémique\", 0, IF(INTRO!$E$37=\"Non endémique\",0,IF(COUNTRY_INFO!$H58=1,COUNTRY_INFO!F58,0)))","v":0},{"$f":"IF(INTRO!$E$39<>\"Non endémique\", 0, IF(INTRO!$E$37=\"Non endémique\",0,IF(COUNTRY_INFO!$H58=1,COUNTRY_INFO!G58,0)))","v":0},0,{"$f":"IF(INTRO!$E$39=\"Non endémique\",IF(INTRO!$E$37=\"Non endémique\",\"Non requis\",COUNTRY_INFO!V58),\"Traiter avec IVM\")","v":"Traiter avec IVM"},0,0,null,0]
[{"$f":"IF(INTRO!$E$39<>\"Non endémique\", \" \", IF(INTRO!$E$37=\"Non endémique\",\" \", IF(COUNTRY_INFO!A59=0,\" \",COUNTRY_INFO!A59)))","v":" "},{"$f":"IF(INTRO!$E$39<>\"Non endémique\", \" \", IF(INTRO!$E$37=\"Non endémique\",\" \", IF(COUNTRY_INFO!B59=0,\" \",COUNTRY_INFO!B59)))","v":" "},{"$f":"IF(INTRO!$E$39<>\"Non endémique\", \" \", IF(INTRO!$E$37=\"Non endémique\",\" \", IF(COUNTRY_INFO!C59=0,\" \",COUNTRY_INFO!C59)))","v":" "},{"$f":"IF(INTRO!$E$39<>\"Non endémique\", 0, IF(INTRO!$E$37=\"Non endémique\",0,IF(COUNTRY_INFO!$H59=1,COUNTRY_INFO!E59,0)))","v":0},{"$f":"IF(INTRO!$E$39<>\"Non endémique\", 0, IF(INTRO!$E$37=\"Non endémique\",0,IF(COUNTRY_INFO!$H59=1,COUNTRY_INFO!F59,0)))","v":0},{"$f":"IF(INTRO!$E$39<>\"Non endémique\", 0, IF(INTRO!$E$37=\"Non endémique\",0,IF(COUNTRY_INFO!$H59=1,COUNTRY_INFO!G59,0)))","v":0},0,{"$f":"IF(INTRO!$E$39=\"Non endémique\",IF(INTRO!$E$37=\"Non endémique\",\"Non requis\",COUNTRY_INFO!V59),\"Traiter avec IVM\")","v":"Traiter avec IVM"},0,0,null,0]
[{"$f":"IF(INTRO!$E$39<>\"Non endémique\", \" \", IF(INTRO!$E$37=\"Non endémique\",\" \", IF(COUNTRY_INFO!A60=0,\" \",COUNTRY_INFO!A60)))","v":" "},{"$f":"IF(INTRO!$E$39<>\"Non endémique\", \" \", IF(INTRO!$E$37=\"Non endémique\",\" \", IF(COUNTRY_INFO!B60=0,\" \",COUNTRY_INFO!B60)))","v":" "},{"$f":"IF(INTRO!$E$39<>\"Non endémique\", \" \", IF(INTRO!$E$37=\"Non endémique\",\" \", IF(COUNTRY_INFO!C60=0,\" \",COUNTRY_INFO!C60)))","v":" "},{"$f":"IF(INTRO!$E$39<>\"Non endémique\", 0, IF(INTRO!$E$37=\"Non endémique\",0,IF(COUNTRY_INFO!$H60=1,COUNTRY_INFO!E60,0)))","v":0},{"$f":"IF(INTRO!$E$39<>\"Non endémique\", 0, IF(INTRO!$E$37=\"Non endémique\",0,IF(COUNTRY_INFO!$H60=1,COUNTRY_INFO!F60,0)))","v":0},{"$f":"IF(INTRO!$E$39<>\"Non endémique\", 0, IF(INTRO!$E$37=\"Non endémique\",0,IF(COUNTRY_INFO!$H60=1,COUNTRY_INFO!G60,0)))","v":0},0,{"$f":"IF(INTRO!$E$39=\"Non endémique\",IF(INTRO!$E$37=\"Non endémique\",\"Non requis\",COUNTRY_INFO!V60),\"Traiter avec IVM\")","v":"Traiter avec IVM"},0,0,null,0]
[{"$f":"IF(INTRO!$E$39<>\"Non endémique\", \" \", IF(INTRO!$E$37=\"Non endémique\",\" \", IF(COUNTRY_INFO!A61=0,\" \",COUNTRY_INFO!A61)))","v":" "},{"$f":"IF(INTRO!$E$39<>\"Non endémique\", \" \", IF(INTRO!$E$37=\"Non endémique\",\" \", IF(COUNTRY_INFO!B61=0,\" \",COUNTRY_INFO!B61)))","v":" "},{"$f":"IF(INTRO!$E$39<>\"Non endémique\", \" \", IF(INTRO!$E$37=\"Non endémique\",\" \", IF(COUNTRY_INFO!C61=0,\" \",COUNTRY_INFO!C61)))","v":" "},{"$f":"IF(INTRO!$E$39<>\"Non endémique\", 0, IF(INTRO!$E$37=\"Non endémique\",0,IF(COUNTRY_INFO!$H61=1,COUNTRY_INFO!E61,0)))","v":0},{"$f":"IF(INTRO!$E$39<>\"Non endémique\", 0, IF(INTRO!$E$37=\"Non endémique\",0,IF(COUNTRY_INFO!$H61=1,COUNTRY_INFO!F61,0)))","v":0},{"$f":"IF(INTRO!$E$39<>\"Non endémique\", 0, IF(INTRO!$E$37=\"Non endémique\",0,IF(COUNTRY_INFO!$H61=1,COUNTRY_INFO!G61,0)))","v":0},0,{"$f":"IF(INTRO!$E$39=\"Non endémique\",IF(INTRO!$E$37=\"Non endémique\",\"Non requis\",COUNTRY_INFO!V61),\"Traiter avec IVM\")","v":"Traiter avec IVM"},0,0,null,0]
[{"$f":"IF(INTRO!$E$39<>\"Non endémique\", \" \", IF(INTRO!$E$37=\"Non endémique\",\" \", IF(COUNTRY_INFO!A62=0,\" \",COUNTRY_INFO!A62)))","v":" "},{"$f":"IF(INTRO!$E$39<>\"Non endémique\", \" \", IF(INTRO!$E$37=\"Non endémique\",\" \", IF(COUNTRY_INFO!B62=0,\" \",COUNTRY_INFO!B62)))","v":" "},{"$f":"IF(INTRO!$E$39<>\"Non endémique\", \" \", IF(INTRO!$E$37=\"Non endémique\",\" \", IF(COUNTRY_INFO!C62=0,\" \",COUNTRY_INFO!C62)))","v":" "},{"$f":"IF(INTRO!$E$39<>\"Non endémique\", 0, IF(INTRO!$E$37=\"Non endémique\",0,IF(COUNTRY_INFO!$H62=1,COUNTRY_INFO!E62,0)))","v":0},{"$f":"IF(INTRO!$E$39<>\"Non endémique\", 0, IF(INTRO!$E$37=\"Non endémique\",0,IF(COUNTRY_INFO!$H62=1,COUNTRY_INFO!F62,0)))","v":0},{"$f":"IF(INTRO!$E$39<>\"Non endémique\", 0, IF(INTRO!$E$37=\"Non endémique\",0,IF(COUNTRY_INFO!$H62=1,COUNTRY_INFO!G62,0)))","v":0},0,{"$f":"IF(INTRO!$E$39=\"Non endémique\",IF(INTRO!$E$37=\"Non endémique\",\"Non requis\",COUNTRY_INFO!V62),\"Traiter avec IVM\")","v":"Traiter avec IVM"},0,0,null,0]
[{"$f":"IF(INTRO!$E$39<>\"Non endémique\", \" \", IF(INTRO!$E$37=\"Non endémique\",\" \", IF(COUNTRY_INFO!A63=0,\" \",COUNTRY_INFO!A63)))","v":" "},{"$f":"IF(INTRO!$E$39<>\"Non endémique\", \" \", IF(INTRO!$E$37=\"Non endémique\",\" \", IF(COUNTRY_INFO!B63=0,\" \",COUNTRY_INFO!B63)))","v":" "},{"$f":"IF(INTRO!$E$39<>\"Non endémique\", \" \", IF(INTRO!$E$37=\"Non endémique\",\" \", IF(COUNTRY_INFO!C63=0,\" \",COUNTRY_INFO!C63)))","v":" "},{"$f":"IF(INTRO!$E$39<>\"Non endémique\", 0, IF(INTRO!$E$37=\"Non endémique\",0,IF(COUNTRY_INFO!$H63=1,COUNTRY_INFO!E63,0)))","v":0},{"$f":"IF(INTRO!$E$39<>\"Non endémique\", 0, IF(INTRO!$E$37=\"Non endémique\",0,IF(COUNTRY_INFO!$H63=1,COUNTRY_INFO!F63,0)))","v":0},{"$f":"IF(INTRO!$E$39<>\"Non endémique\", 0, IF(INTRO!$E$37=\"Non endémique\",0,IF(COUNTRY_INFO!$H63=1,COUNTRY_INFO!G63,0)))","v":0},0,{"$f":"IF(INTRO!$E$39=\"Non endémique\",IF(INTRO!$E$37=\"Non endémique\",\"Non requis\",COUNTRY_INFO!V63),\"Traiter avec IVM\")","v":"Traiter avec IVM"},0,0,null,0]
[{"$f":"IF(INTRO!$E$39<>\"Non endémique\", \" \", IF(INTRO!$E$37=\"Non endémique\",\" \", IF(COUNTRY_INFO!A64=0,\" \",COUNTRY_INFO!A64)))","v":" "},{"$f":"IF(INTRO!$E$39<>\"Non endémique\", \" \", IF(INTRO!$E$37=\"Non endémique\",\" \", IF(COUNTRY_INFO!B64=0,\" \",COUNTRY_INFO!B64)))","v":" "},{"$f":"IF(INTRO!$E$39<>\"Non endémique\", \" \", IF(INTRO!$E$37=\"Non endémique\",\" \", IF(COUNTRY_INFO!C64=0,\" \",COUNTRY_INFO!C64)))","v":" "},{"$f":"IF(INTRO!$E$39<>\"Non endémique\", 0, IF(INTRO!$E$37=\"Non endémique\",0,IF(COUNTRY_INFO!$H64=1,COUNTRY_INFO!E64,0)))","v":0},{"$f":"IF(INTRO!$E$39<>\"Non endémique\", 0, IF(INTRO!$E$37=\"Non endémique\",0,IF(COUNTRY_INFO!$H64=1,COUNTRY_INFO!F64,0)))","v":0},{"$f":"IF(INTRO!$E$39<>\"Non endémique\", 0, IF(INTRO!$E$37=\"Non endémique\",0,IF(COUNTRY_INFO!$H64=1,COUNTRY_INFO!G64,0)))","v":0},0,{"$f":"IF(INTRO!$E$39=\"Non endémique\",IF(INTRO!$E$37=\"Non endémique\",\"Non requis\",COUNTRY_INFO!V64),\"Traiter avec IVM\")","v":"Traiter avec IVM"},0,0,null,0]
[{"$f":"IF(INTRO!$E$39<>\"Non endémique\", \" \", IF(INTRO!$E$37=\"Non endémique\",\" \", IF(COUNTRY_INFO!A65=0,\" \",COUNTRY_INFO!A65)))","v":" "},{"$f":"IF(INTRO!$E$39<>\"Non endémique\", \" \", IF(INTRO!$E$37=\"Non endémique\",\" \", IF(COUNTRY_INFO!B65=0,\" \",COUNTRY_INFO!B65)))","v":" "},{"$f":"IF(INTRO!$E$39<>\"Non endémique\", \" \", IF(INTRO!$E$37=\"Non endémique\",\" \", IF(COUNTRY_INFO!C65=0,\" \",COUNTRY_INFO!C65)))","v":" "},{"$f":"IF(INTRO!$E$39<>\"Non endémique\", 0, IF(INTRO!$E$37=\"Non endémique\",0,IF(COUNTRY_INFO!$H65=1,COUNTRY_INFO!E65,0)))","v":0},{"$f":"IF(INTRO!$E$39<>\"Non endémique\", 0, IF(INTRO!$E$37=\"Non endémique\",0,IF(COUNTRY_INFO!$H65=1,COUNTRY_INFO!F65,0)))","v":0},{"$f":"IF(INTRO!$E$39<>\"Non endémique\", 0, IF(INTRO!$E$37=\"Non endémique\",0,IF(COUNTRY_INFO!$H65=1,COUNTRY_INFO!G65,0)))","v":0},0,{"$f":"IF(INTRO!$E$39=\"Non endémique\",IF(INTRO!$E$37=\"Non endémique\",\"Non requis\",COUNTRY_INFO!V65),\"Traiter avec IVM\")","v":"Traiter avec IVM"},0,0,null,0]
[{"$f":"IF(INTRO!$E$39<>\"Non endémique\", \" \", IF(INTRO!$E$37=\"Non endémique\",\" \", IF(COUNTRY_INFO!A66=0,\" \",COUNTRY_INFO!A66)))","v":" "},{"$f":"IF(INTRO!$E$39<>\"Non endémique\", \" \", IF(INTRO!$E$37=\"Non endémique\",\" \", IF(COUNTRY_INFO!B66=0,\" \",COUNTRY_INFO!B66)))","v":" "},{"$f":"IF(INTRO!$E$39<>\"Non endémique\", \" \", IF(INTRO!$E$37=\"Non endémique\",\" \", IF(COUNTRY_INFO!C66=0,\" \",COUNTRY_INFO!C66)))","v":" "},{"$f":"IF(INTRO!$E$39<>\"Non endémique\", 0, IF(INTRO!$E$37=\"Non endémique\",0,IF(COUNTRY_INFO!$H66=1,COUNTRY_INFO!E66,0)))","v":0},{"$f":"IF(INTRO!$E$39<>\"Non endémique\", 0, IF(INTRO!$E$37=\"Non endémique\",0,IF(COUNTRY_INFO!$H66=1,COUNTRY_INFO!F66,0)))","v":0},{"$f":"IF(INTRO!$E$39<>\"Non endémique\", 0, IF(INTRO!$E$37=\"Non endémique\",0,IF(COUNTRY_INFO!$H66=1,COUNTRY_INFO!G66,0)))","v":0},0,{"$f":"IF(INTRO!$E$39=\"Non endémique\",IF(INTRO!$E$37=\"Non endémique\",\"Non requis\",COUNTRY_INFO!V66),\"Traiter avec IVM\")","v":"Traiter avec IVM"},0,0,null,0]
[{"$f":"IF(INTRO!$E$39<>\"Non endémique\", \" \", IF(INTRO!$E$37=\"Non endémique\",\" \", IF(COUNTRY_INFO!A67=0,\" \",COUNTRY_INFO!A67)))","v":" "},{"$f":"IF(INTRO!$E$39<>\"Non endémique\", \" \", IF(INTRO!$E$37=\"Non endémique\",\" \", IF(COUNTRY_INFO!B67=0,\" \",COUNTRY_INFO!B67)))","v":" "},{"$f":"IF(INTRO!$E$39<>\"Non endémique\", \" \", IF(INTRO!$E$37=\"Non endémique\",\" \", IF(COUNTRY_INFO!C67=0,\" \",COUNTRY_INFO!C67)))","v":" "},{"$f":"IF(INTRO!$E$39<>\"Non endémique\", 0, IF(INTRO!$E$37=\"Non endémique\",0,IF(COUNTRY_INFO!$H67=1,COUNTRY_INFO!E67,0)))","v":0},{"$f":"IF(INTRO!$E$39<>\"Non endémique\", 0, IF(INTRO!$E$37=\"Non endémique\",0,IF(COUNTRY_INFO!$H67=1,COUNTRY_INFO!F67,0)))","v":0},{"$f":"IF(INTRO!$E$39<>\"Non endémique\", 0, IF(INTRO!$E$37=\"Non endémique\",0,IF(COUNTRY_INFO!$H67=1,COUNTRY_INFO!G67,0)))","v":0},0,{"$f":"IF(INTRO!$E$39=\"Non endémique\",IF(INTRO!$E$37=\"Non endémique\",\"Non requis\",COUNTRY_INFO!V67),\"Traiter avec IVM\")","v":"Traiter avec IVM"},0,0,null,0]
[{"$f":"IF(INTRO!$E$39<>\"Non endémique\", \" \", IF(INTRO!$E$37=\"Non endémique\",\" \", IF(COUNTRY_INFO!A68=0,\" \",COUNTRY_INFO!A68)))","v":" "},{"$f":"IF(INTRO!$E$39<>\"Non endémique\", \" \", IF(INTRO!$E$37=\"Non endémique\",\" \", IF(COUNTRY_INFO!B68=0,\" \",COUNTRY_INFO!B68)))","v":" "},{"$f":"IF(INTRO!$E$39<>\"Non endémique\", \" \", IF(INTRO!$E$37=\"Non endémique\",\" \", IF(COUNTRY_INFO!C68=0,\" \",COUNTRY_INFO!C68)))","v":" "},{"$f":"IF(INTRO!$E$39<>\"Non endémique\", 0, IF(INTRO!$E$37=\"Non endémique\",0,IF(COUNTRY_INFO!$H68=1,COUNTRY_INFO!E68,0)))","v":0},{"$f":"IF(INTRO!$E$39<>\"Non endémique\", 0, IF(INTRO!$E$37=\"Non endémique\",0,IF(COUNTRY_INFO!$H68=1,COUNTRY_INFO!F68,0)))","v":0},{"$f":"IF(INTRO!$E$39<>\"Non endémique\", 0, IF(INTRO!$E$37=\"Non endémique\",0,IF(COUNTRY_INFO!$H68=1,COUNTRY_INFO!G68,0)))","v":0},0,{"$f":"IF(INTRO!$E$39=\"Non endémique\",IF(INTRO!$E$37=\"Non endémique\",\"Non requis\",COUNTRY_INFO!V68),\"Traiter avec IVM\")","v":"Traiter avec IVM"},0,0,null,0]
[{"$f":"IF(INTRO!$E$39<>\"Non endémique\", \" \", IF(INTRO!$E$37=\"Non endémique\",\" \", IF(COUNTRY_INFO!A69=0,\" \",COUNTRY_INFO!A69)))","v":" "},{"$f":"IF(INTRO!$E$39<>\"Non endémique\", \" \", IF(INTRO!$E$37=\"Non endémique\",\" \", IF(COUNTRY_INFO!B69=0,\" \",COUNTRY_INFO!B69)))","v":" "},{"$f":"IF(INTRO!$E$39<>\"Non endémique\", \" \", IF(INTRO!$E$37=\"Non endémique\",\" \", IF(COUNTRY_INFO!C69=0,\" \",COUNTRY_INFO!C69)))","v":" "},{"$f":"IF(INTRO!$E$39<>\"Non endémique\", 0, IF(INTRO!$E$37=\"Non endémique\",0,IF(COUNTRY_INFO!$H69=1,COUNTRY_INFO!E69,0)))","v":0},{"$f":"IF(INTRO!$E$39<>\"Non endémique\", 0, IF(INTRO!$E$37=\"Non endémique\",0,IF(COUNTRY_INFO!$H69=1,COUNTRY_INFO!F69,0)))","v":0},{"$f":"IF(INTRO!$E$39<>\"Non endémique\", 0, IF(INTRO!$E$37=\"Non endémique\",0,IF(COUNTRY_INFO!$H69=1,COUNTRY_INFO!G69,0)))","v":0},0,{"$f":"IF(INTRO!$E$39=\"Non endémique\",IF(INTRO!$E$37=\"Non endémique\",\"Non requis\",COUNTRY_INFO!V69),\"Traiter avec IVM\")","v":"Traiter avec IVM"},0,0,null,0]
[{"$f":"IF(INTRO!$E$39<>\"Non endémique\", \" \", IF(INTRO!$E$37=\"Non endémique\",\" \", IF(COUNTRY_INFO!A70=0,\" \",COUNTRY_INFO!A70)))","v":" "},{"$f":"IF(INTRO!$E$39<>\"Non endémique\", \" \", IF(INTRO!$E$37=\"Non endémique\",\" \", IF(COUNTRY_INFO!B70=0,\" \",COUNTRY_INFO!B70)))","v":" "},{"$f":"IF(INTRO!$E$39<>\"Non endémique\", \" \", IF(INTRO!$E$37=\"Non endémique\",\" \", IF(COUNTRY_INFO!C70=0,\" \",COUNTRY_INFO!C70)))","v":" "},{"$f":"IF(INTRO!$E$39<>\"Non endémique\", 0, IF(INTRO!$E$37=\"Non endémique\",0,IF(COUNTRY_INFO!$H70=1,COUNTRY_INFO!E70,0)))","v":0},{"$f":"IF(INTRO!$E$39<>\"Non endémique\", 0, IF(INTRO!$E$37=\"Non endémique\",0,IF(COUNTRY_INFO!$H70=1,COUNTRY_INFO!F70,0)))","v":0},{"$f":"IF(INTRO!$E$39<>\"Non endémique\", 0, IF(INTRO!$E$37=\"Non endémique\",0,IF(COUNTRY_INFO!$H70=1,COUNTRY_INFO!G70,0)))","v":0},0,{"$f":"IF(INTRO!$E$39=\"Non endémique\",IF(INTRO!$E$37=\"Non endémique\",\"Non requis\",COUNTRY_INFO!V70),\"Traiter avec IVM\")","v":"Traiter avec IVM"},0,0,null,0]
[{"$f":"IF(INTRO!$E$39<>\"Non endémique\", \" \", IF(INTRO!$E$37=\"Non endémique\",\" \", IF(COUNTRY_INFO!A71=0,\" \",COUNTRY_INFO!A71)))","v":" "},{"$f":"IF(INTRO!$E$39<>\"Non endémique\", \" \", IF(INTRO!$E$37=\"Non endémique\",\" \", IF(COUNTRY_INFO!B71=0,\" \",COUNTRY_INFO!B71)))","v":" "},{"$f":"IF(INTRO!$E$39<>\"Non endémique\", \" \", IF(INTRO!$E$37=\"Non endémique\",\" \", IF(COUNTRY_INFO!C71=0,\" \",COUNTRY_INFO!C71)))","v":" "},{"$f":"IF(INTRO!$E$39<>\"Non endémique\", 0, IF(INTRO!$E$37=\"Non endémique\",0,IF(COUNTRY_INFO!$H71=1,COUNTRY_INFO!E71,0)))","v":0},{"$f":"IF(INTRO!$E$39<>\"Non endémique\", 0, IF(INTRO!$E$37=\"Non endémique\",0,IF(COUNTRY_INFO!$H71=1,COUNTRY_INFO!F71,0)))","v":0},{"$f":"IF(INTRO!$E$39<>\"Non endémique\", 0, IF(INTRO!$E$37=\"Non endémique\",0,IF(COUNTRY_INFO!$H71=1,COUNTRY_INFO!G71,0)))","v":0},0,{"$f":"IF(INTRO!$E$39=\"Non endémique\",IF(INTRO!$E$37=\"Non endémique\",\"Non requis\",COUNTRY_INFO!V71),\"Traiter avec IVM\")","v":"Traiter avec IVM"},0,0,null,0]
[{"$f":"IF(INTRO!$E$39<>\"Non endémique\", \" \", IF(INTRO!$E$37=\"Non endémique\",\" \", IF(COUNTRY_INFO!A72=0,\" \",COUNTRY_INFO!A72)))","v":" "},{"$f":"IF(INTRO!$E$39<>\"Non endémique\", \" \", IF(INTRO!$E$37=\"Non endémique\",\" \", IF(COUNTRY_INFO!B72=0,\" \",COUNTRY_INFO!B72)))","v":" "},{"$f":"IF(INTRO!$E$39<>\"Non endémique\", \" \", IF(INTRO!$E$37=\"Non endémique\",\" \", IF(COUNTRY_INFO!C72=0,\" \",COUNTRY_INFO!C72)))","v":" "},{"$f":"IF(INTRO!$E$39<>\"Non endémique\", 0, IF(INTRO!$E$37=\"Non endémique\",0,IF(COUNTRY_INFO!$H72=1,COUNTRY_INFO!E72,0)))","v":0},{"$f":"IF(INTRO!$E$39<>\"Non endémique\", 0, IF(INTRO!$E$37=\"Non endémique\",0,IF(COUNTRY_INFO!$H72=1,COUNTRY_INFO!F72,0)))","v":0},{"$f":"IF(INTRO!$E$39<>\"Non endémique\", 0, IF(INTRO!$E$37=\"Non endémique\",0,IF(COUNTRY_INFO!$H72=1,COUNTRY_INFO!G72,0)))","v":0},0,{"$f":"IF(INTRO!$E$39=\"Non endémique\",IF(INTRO!$E$37=\"Non endémique\",\"Non requis\",COUNTRY_INFO!V72),\"Traiter avec IVM\")","v":"Traiter avec IVM"},0,0,null,0]
[{"$f":"IF(INTRO!$E$39<>\"Non endémique\", \" \", IF(INTRO!$E$37=\"Non endémique\",\" \", IF(COUNTRY_INFO!A73=0,\" \",COUNTRY_INFO!A73)))","v":" "},{"$f":"IF(INTRO!$E$39<>\"Non endémique\", \" \", IF(INTRO!$E$37=\"Non endémique\",\" \", IF(COUNTRY_INFO!B73=0,\" \",COUNTRY_INFO!B73)))","v":" "},{"$f":"IF(INTRO!$E$39<>\"Non endémique\", \" \", IF(INTRO!$E$37=\"Non endémique\",\" \", IF(COUNTRY_INFO!C73=0,\" \",COUNTRY_INFO!C73)))","v":" "},{"$f":"IF(INTRO!$E$39<>\"Non endémique\", 0, IF(INTRO!$E$37=\"Non endémique\",0,IF(COUNTRY_INFO!$H73=1,COUNTRY_INFO!E73,0)))","v":0},{"$f":"IF(INTRO!$E$39<>\"Non endémique\", 0, IF(INTRO!$E$37=\"Non endémique\",0,IF(COUNTRY_INFO!$H73=1,COUNTRY_INFO!F73,0)))","v":0},{"$f":"IF(INTRO!$E$39<>\"Non endémique\", 0, IF(INTRO!$E$37=\"Non endémique\",0,IF(COUNTRY_INFO!$H73=1,COUNTRY_INFO!G73,0)))","v":0},0,{"$f":"IF(INTRO!$E$39=\"Non endémique\",IF(INTRO!$E$37=\"Non endémique\",\"Non requis\",COUNTRY_INFO!V73),\"Traiter avec IVM\")","v":"Traiter avec IVM"},0,0,null,0]
[{"$f":"IF(INTRO!$E$39<>\"Non endémique\", \" \", IF(INTRO!$E$37=\"Non endémique\",\" \", IF(COUNTRY_INFO!A74=0,\" \",COUNTRY_INFO!A74)))","v":" "},{"$f":"IF(INTRO!$E$39<>\"Non endémique\", \" \", IF(INTRO!$E$37=\"Non endémique\",\" \", IF(COUNTRY_INFO!B74=0,\" \",COUNTRY_INFO!B74)))","v":" "},{"$f":"IF(INTRO!$E$39<>\"Non endémique\", \" \", IF(INTRO!$E$37=\"Non endémique\",\" \", IF(COUNTRY_INFO!C74=0,\" \",COUNTRY_INFO!C74)))","v":" "},{"$f":"IF(INTRO!$E$39<>\"Non endémique\", 0, IF(INTRO!$E$37=\"Non endémique\",0,IF(COUNTRY_INFO!$H74=1,COUNTRY_INFO!E74,0)))","v":0},{"$f":"IF(INTRO!$E$39<>\"Non endémique\", 0, IF(INTRO!$E$37=\"Non endémique\",0,IF(COUNTRY_INFO!$H74=1,COUNTRY_INFO!F74,0)))","v":0},{"$f":"IF(INTRO!$E$39<>\"Non endémique\", 0, IF(INTRO!$E$37=\"Non endémique\",0,IF(COUNTRY_INFO!$H74=1,COUNTRY_INFO!G74,0)))","v":0},0,{"$f":"IF(INTRO!$E$39=\"Non endémique\",IF(INTRO!$E$37=\"Non endémique\",\"Non requis\",COUNTRY_INFO!V74),\"Traiter avec IVM\")","v":"Traiter avec IVM"},0,0,null,0]
[{"$f":"IF(INTRO!$E$39<>\"Non endémique\", \" \", IF(INTRO!$E$37=\"Non endémique\",\" \", IF(COUNTRY_INFO!A75=0,\" \",COUNTRY_INFO!A75)))","v":" "},{"$f":"IF(INTRO!$E$39<>\"Non endémique\", \" \", IF(INTRO!$E$37=\"Non endémique\",\" \", IF(COUNTRY_INFO!B75=0,\" \",COUNTRY_INFO!B75)))","v":" "},{"$f":"IF(INTRO!$E$39<>\"Non endémique\", \" \", IF(INTRO!$E$37=\"Non endémique\",\" \", IF(COUNTRY_INFO!C75=0,\" \",COUNTRY_INFO!C75)))","v":" "},{"$f":"IF(INTRO!$E$39<>\"Non endémique\", 0, IF(INTRO!$E$37=\"Non endémique\",0,IF(COUNTRY_INFO!$H75=1,COUNTRY_INFO!E75,0)))","v":0},{"$f":"IF(INTRO!$E$39<>\"Non endémique\", 0, IF(INTRO!$E$37=\"Non endémique\",0,IF(COUNTRY_INFO!$H75=1,COUNTRY_INFO!F75,0)))","v":0},{"$f":"IF(INTRO!$E$39<>\"Non endémique\", 0, IF(INTRO!$E$37=\"Non endémique\",0,IF(COUNTRY_INFO!$H75=1,COUNTRY_INFO!G75,0)))","v":0},{"$f":"SUM(D75:F75)","v":0},{"$f":"IF(INTRO!$E$39=\"Non endémique\",IF(INTRO!$E$37=\"Non endémique\",\"Non requis\",COUNTRY_INFO!V75),\"Traiter avec IVM\")","v":"Traiter avec IVM"},{"$f":"IF(H75=1,G75,0)","v":0},{"$f":"IF(I75>0,I75*2.5,0)","v":0},null,0]
[{"$f":"IF(INTRO!$E$39<>\"Non endémique\", \" \", IF(INTRO!$E$37=\"Non endémique\",\" \", IF(COUNTRY_INFO!A76=0,\" \",COUNTRY_INFO!A76)))","v":" "},{"$f":"IF(INTRO!$E$39<>\"Non endémique\", \" \", IF(INTRO!$E$37=\"Non endémique\",\" \", IF(COUNTRY_INFO!B76=0,\" \",COUNTRY_INFO!B76)))","v":" "},{"$f":"IF(INTRO!$E$39<>\"Non endémique\", \" \", IF(INTRO!$E$37=\"Non endémique\",\" \", IF(COUNTRY_INFO!C76=0,\" \",COUNTRY_INFO!C76)))","v":" "},{"$f":"IF(INTRO!$E$39<>\"Non endémique\", 0, IF(INTRO!$E$37=\"Non endémique\",0,IF(COUNTRY_INFO!$H76=1,COUNTRY_INFO!E76,0)))","v":0},{"$f":"IF(INTRO!$E$39<>\"Non endémique\", 0, IF(INTRO!$E$37=\"Non endémique\",0,IF(COUNTRY_INFO!$H76=1,COUNTRY_INFO!F76,0)))","v":0},{"$f":"IF(INTRO!$E$39<>\"Non endémique\", 0, IF(INTRO!$E$37=\"Non endémique\",0,IF(COUNTRY_INFO!$H76=1,COUNTRY_INFO!G76,0)))","v":0},0,{"$f":"IF(INTRO!$E$39=\"Non endémique\",IF(INTRO!$E$37=\"Non endémique\",\"Non requis\",COUNTRY_INFO!V76),\"Traiter avec IVM\")","v":"Traiter avec IVM"},0,0,null,0]
[{"$f":"IF(INTRO!$E$39<>\"Non endémique\", \" \", IF(INTRO!$E$37=\"Non endémique\",\" \", IF(COUNTRY_INFO!A77=0,\" \",COUNTRY_INFO!A77)))","v":" "},{"$f":"IF(INTRO!$E$39<>\"Non endémique\", \" \", IF(INTRO!$E$37=\"Non endémique\",\" \", IF(COUNTRY_INFO!B77=0,\" \",COUNTRY_INFO!B77)))","v":" "},{"$f":"IF(INTRO!$E$39<>\"Non endémique\", \" \", IF(INTRO!$E$37=\"Non endémique\",\" \", IF(COUNTRY_INFO!C77=0,\" \",COUNTRY_INFO!C77)))","v":" "},{"$f":"IF(INTRO!$E$39<>\"Non endémique\", 0, IF(INTRO!$E$37=\"Non endémique\",0,IF(COUNTRY_INFO!$H77=1,COUNTRY_INFO!E77,0)))","v":0},{"$f":"IF(INTRO!$E$39<>\"Non endémique\", 0, IF(INTRO!$E$37=\"Non endémique\",0,IF(COUNTRY_INFO!$H77=1,COUNTRY_INFO!F77,0)))","v":0},{"$f":"IF(INTRO!$E$39<>\"Non endémique\", 0, IF(INTRO!$E$37=\"Non endémique\",0,IF(COUNTRY_INFO!$H77=1,COUNTRY_INFO!G77,0)))","v":0},0,{"$f":"IF(INTRO!$E$39=\"Non endémique\",IF(INTRO!$E$37=\"Non endémique\",\"Non requis\",COUNTRY_INFO!V77),\"Traiter avec IVM\")","v":"Traiter avec IVM"},0,0,null,0]
[{"$f":"IF(INTRO!$E$39<>\"Non endémique\", \" \", IF(INTRO!$E$37=\"Non endémique\",\" \", IF(COUNTRY_INFO!A78=0,\" \",COUNTRY_INFO!A78)))","v":" "},{"$f":"IF(INTRO!$E$39<>\"Non endémique\", \" \", IF(INTRO!$E$37=\"Non endémique\",\" \", IF(COUNTRY_INFO!B78=0,\" \",COUNTRY_INFO!B78)))","v":" "},{"$f":"IF(INTRO!$E$39<>\"Non endémique\", \" \", IF(INTRO!$E$37=\"Non endémique\",\" \", IF(COUNTRY_INFO!C78=0,\" \",COUNTRY_INFO!C78)))","v":" "},{"$f":"IF(INTRO!$E$39<>\"Non endémique\", 0, IF(INTRO!$E$37=\"Non endémique\",0,IF(COUNTRY_INFO!$H78=1,COUNTRY_INFO!E78,0)))","v":0},{"$f":"IF(INTRO!$E$39<>\"Non endémique\", 0, IF(INTRO!$E$37=\"Non endémique\",0,IF(COUNTRY_INFO!$H78=1,COUNTRY_INFO!F78,0)))","v":0},{"$f":"IF(INTRO!$E$39<>\"Non endémique\", 0, IF(INTRO!$E$37=\"Non endémique\",0,IF(COUNTRY_INFO!$H78=1,COUNTRY_INFO!G78,0)))","v":0},0,{"$f":"IF(INTRO!$E$39=\"Non endémique\",IF(INTRO!$E$37=\"Non endémique\",\"Non requis\",COUNTRY_INFO!V78),\"Traiter avec IVM\")","v":"Traiter avec IVM"},0,0,null,0]
[{"$f":"IF(INTRO!$E$39<>\"Non endémique\", \" \", IF(INTRO!$E$37=\"Non endémique\",\" \", IF(COUNTRY_INFO!A79=0,\" \",COUNTRY_INFO!A79)))","v":" "},{"$f":"IF(INTRO!$E$39<>\"Non endémique\", \" \", IF(INTRO!$E$37=\"Non endémique\",\" \", IF(COUNTRY_INFO!B79=0,\" \",COUNTRY_INFO!B79)))","v":" "},{"$f":"IF(INTRO!$E$39<>\"Non endémique\", \" \", IF(INTRO!$E$37=\"Non endémique\",\" \", IF(COUNTRY_INFO!C79=0,\" \",COUNTRY_INFO!C79)))","v":" "},{"$f":"IF(INTRO!$E$39<>\"Non endémique\", 0, IF(INTRO!$E$37=\"Non endémique\",0,IF(COUNTRY_INFO!$H79=1,COUNTRY_INFO!E79,0)))","v":0},{"$f":"IF(INTRO!$E$39<>\"Non endémique\", 0, IF(INTRO!$E$37=\"Non endémique\",0,IF(COUNTRY_INFO!$H79=1,COUNTRY_INFO!F79,0)))","v":0},{"$f":"IF(INTRO!$E$39<>\"Non endémique\", 0, IF(INTRO!$E$37=\"Non endémique\",0,IF(COUNTRY_INFO!$H79=1,COUNTRY_INFO!G79,0)))","v":0},0,{"$f":"IF(INTRO!$E$39=\"Non endémique\",IF(INTRO!$E$37=\"Non endémique\",\"Non requis\",COUNTRY_INFO!V79),\"Traiter avec IVM\")","v":"Traiter avec IVM"},0,0,null,0]
[{"$f":"IF(INTRO!$E$39<>\"Non endémique\", \" \", IF(INTRO!$E$37=\"Non endémique\",\" \", IF(COUNTRY_INFO!A80=0,\" \",COUNTRY_INFO!A80)))","v":" "},{"$f":"IF(INTRO!$E$39<>\"Non endémique\", \" \", IF(INTRO!$E$37=\"Non endémique\",\" \", IF(COUNTRY_INFO!B80=0,\" \",COUNTRY_INFO!B80)))","v":" "},{"$f":"IF(INTRO!$E$39<>\"Non endémique\", \" \", IF(INTRO!$E$37=\"Non endémique\",\" \", IF(COUNTRY_INFO!C80=0,\" \",COUNTRY_INFO!C80)))","v":" "},{"$f":"IF(INTRO!$E$39<>\"Non endémique\", 0, IF(INTRO!$E$37=\"Non endémique\",0,IF(COUNTRY_INFO!$H80=1,COUNTRY_INFO!E80,0)))","v":0},{"$f":"IF(INTRO!$E$39<>\"Non endémique\", 0, IF(INTRO!$E$37=\"Non endémique\",0,IF(COUNTRY_INFO!$H80=1,COUNTRY_INFO!F80,0)))","v":0},{"$f":"IF(INTRO!$E$39<>\"Non endémique\", 0, IF(INTRO!$E$37=\"Non endémique\",0,IF(COUNTRY_INFO!$H80=1,COUNTRY_INFO!G80,0)))","v":0},0,{"$f":"IF(INTRO!$E$39=\"Non endémique\",IF(INTRO!$E$37=\"Non endémique\",\"Non requis\",COUNTRY_INFO!V80),\"Traiter avec IVM\")","v":"Traiter avec IVM"},0,0,null,0]
[{"$f":"IF(INTRO!$E$39<>\"Non endémique\", \" \", IF(INTRO!$E$37=\"Non endémique\",\" \", IF(COUNTRY_INFO!A81=0,\" \",COUNTRY_INFO!A81)))","v":" "},{"$f":"IF(INTRO!$E$39<>\"Non endémique\", \" \", IF(INTRO!$E$37=\"Non endémique\",\" \", IF(COUNTRY_INFO!B81=0,\" \",COUNTRY_INFO!B81)))","v":" "},{"$f":"IF(INTRO!$E$39<>\"Non endémique\", \" \", IF(INTRO!$E$37=\"Non endémique\",\" \", IF(COUNTRY_INFO!C81=0,\" \",COUNTRY_INFO!C81)))","v":" "},{"$f":"IF(INTRO!$E$39<>\"Non endémique\", 0, IF(INTRO!$E$37=\"Non endémique\",0,IF(COUNTRY_INFO!$H81=1,COUNTRY_INFO!E81,0)))","v":0},{"$f":"IF(INTRO!$E$39<>\"Non endémique\", 0, IF(INTRO!$E$37=\"Non endémique\",0,IF(COUNTRY_INFO!$H81=1,COUNTRY_INFO!F81,0)))","v":0},{"$f":"IF(INTRO!$E$39<>\"Non endémique\", 0, IF(INTRO!$E$37=\"Non endémique\",0,IF(COUNTRY_INFO!$H81=1,COUNTRY_INFO!G81,0)))","v":0},0,{"$f":"IF(INTRO!$E$39=\"Non endémique\",IF(INTRO!$E$37=\"Non endémique\",\"Non requis\",COUNTRY_INFO!V81),\"Traiter avec IVM\")","v":"Traiter avec IVM"},0,0,null,0]
[{"$f":"IF(INTRO!$E$39<>\"Non endémique\", \" \", IF(INTRO!$E$37=\"Non endémique\",\" \", IF(COUNTRY_INFO!A82=0,\" \",COUNTRY_INFO!A82)))","v":" "},{"$f":"IF(INTRO!$E$39<>\"Non endémique\", \" \", IF(INTRO!$E$37=\"Non endémique\",\" \", IF(COUNTRY_INFO!B82=0,\" \",COUNTRY_INFO!B82)))","v":" "},{"$f":"IF(INTRO!$E$39<>\"Non endémique\", \" \", IF(INTRO!$E$37=\"Non endémique\",\" \", IF(COUNTRY_INFO!C82=0,\" \",COUNTRY_INFO!C82)))","v":" "},{"$f":"IF(INTRO!$E$39<>\"Non endémique\", 0, IF(INTRO!$E$37=\"Non endémique\",0,IF(COUNTRY_INFO!$H82=1,COUNTRY_INFO!E82,0)))","v":0},{"$f":"IF(INTRO!$E$39<>\"Non endémique\", 0, IF(INTRO!$E$37=\"Non endémique\",0,IF(COUNTRY_INFO!$H82=1,COUNTRY_INFO!F82,0)))","v":0},{"$f":"IF(INTRO!$E$39<>\"Non endémique\", 0, IF(INTRO!$E$37=\"Non endémique\",0,IF(COUNTRY_INFO!$H82=1,COUNTRY_INFO!G82,0)))","v":0},0,{"$f":"IF(INTRO!$E$39=\"Non endémique\",IF(INTRO!$E$37=\"Non endémique\",\"Non requis\",COUNTRY_INFO!V82),\"Traiter avec IVM\")","v":"Traiter avec IVM"},0,0,null,0]
[{"$f":"IF(INTRO!$E$39<>\"Non endémique\", \" \", IF(INTRO!$E$37=\"Non endémique\",\" \", IF(COUNTRY_INFO!A83=0,\" \",COUNTRY_INFO!A83)))","v":" "},{"$f":"IF(INTRO!$E$39<>\"Non endémique\", \" \", IF(INTRO!$E$37=\"Non endémique\",\" \", IF(COUNTRY_INFO!B83=0,\" \",COUNTRY_INFO!B83)))","v":" "},{"$f":"IF(INTRO!$E$39<>\"Non endémique\", \" \", IF(INTRO!$E$37=\"Non endémique\",\" \", IF(COUNTRY_INFO!C83=0,\" \",COUNTRY_INFO!C83)))","v":" "},{"$f":"IF(INTRO!$E$39<>\"Non endémique\", 0, IF(INTRO!$E$37=\"Non endémique\",0,IF(COUNTRY_INFO!$H83=1,COUNTRY_INFO!E83,0)))","v":0},{"$f":"IF(INTRO!$E$39<>\"Non endémique\", 0, IF(INTRO!$E$37=\"Non endémique\",0,IF(COUNTRY_INFO!$H83=1,COUNTRY_INFO!F83,0)))","v":0},{"$f":"IF(INTRO!$E$39<>\"Non endémique\", 0, IF(INTRO!$E$37=\"Non endémique\",0,IF(COUNTRY_INFO!$H83=1,COUNTRY_INFO!G83,0)))","v":0},0,{"$f":"IF(INTRO!$E$39=\"Non endémique\",IF(INTRO!$E$37=\"Non endémique\",\"Non requis\",COUNTRY_INFO!V83),\"Traiter avec IVM\")","v":"Traiter avec IVM"},0,0,null,0]
[{"$f":"IF(INTRO!$E$39<>\"Non endémique\", \" \", IF(INTRO!$E$37=\"Non endémique\",\" \", IF(COUNTRY_INFO!A84=0,\" \",COUNTRY_INFO!A84)))","v":" "},{"$f":"IF(INTRO!$E$39<>\"Non endémique\", \" \", IF(INTRO!$E$37=\"Non endémique\",\" \", IF(COUNTRY_INFO!B84=0,\" \",COUNTRY_INFO!B84)))","v":" "},{"$f":"IF(INTRO!$E$39<>\"Non endémique\", \" \", IF(INTRO!$E$37=\"Non endémique\",\" \", IF(COUNTRY_INFO!C84=0,\" \",COUNTRY_INFO!C84)))","v":" "},{"$f":"IF(INTRO!$E$39<>\"Non endémique\", 0, IF(INTRO!$E$37=\"Non endémique\",0,IF(COUNTRY_INFO!$H84=1,COUNTRY_INFO!E84,0)))","v":0},{"$f":"IF(INTRO!$E$39<>\"Non endémique\", 0, IF(INTRO!$E$37=\"Non endémique\",0,IF(COUNTRY_INFO!$H84=1,COUNTRY_INFO!F84,0)))","v":0},{"$f":"IF(INTRO!$E$39<>\"Non endémique\", 0, IF(INTRO!$E$37=\"Non endémique\",0,IF(COUNTRY_INFO!$H84=1,COUNTRY_INFO!G84,0)))","v":0},0,{"$f":"IF(INTRO!$E$39=\"Non endémique\",IF(INTRO!$E$37=\"Non endémique\",\"Non requis\",COUNTRY_INFO!V84),\"Traiter avec IVM\")","v":"Traiter avec IVM"},0,0,null,0]
[{"$f":"IF(INTRO!$E$39<>\"Non endémique\", \" \", IF(INTRO!$E$37=\"Non endémique\",\" \", IF(COUNTRY_INFO!A85=0,\" \",COUNTRY_INFO!A85)))","v":" "},{"$f":"IF(INTRO!$E$39<>\"Non endémique\", \" \", IF(INTRO!$E$37=\"Non endémique\",\" \", IF(COUNTRY_INFO!B85=0,\" \",COUNTRY_INFO!B85)))","v":" "},{"$f":"IF(INTRO!$E$39<>\"Non endémique\", \" \", IF(INTRO!$E$37=\"Non endémique\",\" \", IF(COUNTRY_INFO!C85=0,\" \",COUNTRY_INFO!C85)))","v":" "},{"$f":"IF(INTRO!$E$39<>\"Non endémique\", 0, IF(INTRO!$E$37=\"Non endémique\",0,IF(COUNTRY_INFO!$H85=1,COUNTRY_INFO!E85,0)))","v":0},{"$f":"IF(INTRO!$E$39<>\"Non endémique\", 0, IF(INTRO!$E$37=\"Non endémique\",0,IF(COUNTRY_INFO!$H85=1,COUNTRY_INFO!F85,0)))","v":0},{"$f":"IF(INTRO!$E$39<>\"Non endémique\", 0, IF(INTRO!$E$37=\"Non endémique\",0,IF(COUNTRY_INFO!$H85=1,COUNTRY_INFO!G85,0)))","v":0},0,{"$f":"IF(INTRO!$E$39=\"Non endémique\",IF(INTRO!$E$37=\"Non endémique\",\"Non requis\",COUNTRY_INFO!V85),\"Traiter avec IVM\")","v":"Traiter avec IVM"},0,0,null,0]
[{"$f":"IF(INTRO!$E$39<>\"Non endémique\", \" \", IF(INTRO!$E$37=\"Non endémique\",\" \", IF(COUNTRY_INFO!A86=0,\" \",COUNTRY_INFO!A86)))","v":" "},{"$f":"IF(INTRO!$E$39<>\"Non endémique\", \" \", IF(INTRO!$E$37=\"Non endémique\",\" \", IF(COUNTRY_INFO!B86=0,\" \",COUNTRY_INFO!B86)))","v":" "},{"$f":"IF(INTRO!$E$39<>\"Non endémique\", \" \", IF(INTRO!$E$37=\"Non endémique\",\" \", IF(COUNTRY_INFO!C86=0,\" \",COUNTRY_INFO!C86)))","v":" "},{"$f":"IF(INTRO!$E$39<>\"Non endémique\", 0, IF(INTRO!$E$37=\"Non endémique\",0,IF(COUNTRY_INFO!$H86=1,COUNTRY_INFO!E86,0)))","v":0},{"$f":"IF(INTRO!$E$39<>\"Non endémique\", 0, IF(INTRO!$E$37=\"Non endémique\",0,IF(COUNTRY_INFO!$H86=1,COUNTRY_INFO!F86,0)))","v":0},{"$f":"IF(INTRO!$E$39<>\"Non endémique\", 0, IF(INTRO!$E$37=\"Non endémique\",0,IF(COUNTRY_INFO!$H86=1,COUNTRY_INFO!G86,0)))","v":0},0,{"$f":"IF(INTRO!$E$39=\"Non endémique\",IF(INTRO!$E$37=\"Non endémique\",\"Non requis\",COUNTRY_INFO!V86),\"Traiter avec IVM\")","v":"Traiter avec IVM"},0,0,null,0]
[{"$f":"IF(INTRO!$E$39<>\"Non endémique\", \" \", IF(INTRO!$E$37=\"Non endémique\",\" \", IF(COUNTRY_INFO!A87=0,\" \",COUNTRY_INFO!A87)))","v":" "},{"$f":"IF(INTRO!$E$39<>\"Non endémique\", \" \", IF(INTRO!$E$37=\"Non endémique\",\" \", IF(COUNTRY_INFO!B87=0,\" \",COUNTRY_INFO!B87)))","v":" "},{"$f":"IF(INTRO!$E$39<>\"Non endémique\", \" \", IF(INTRO!$E$37=\"Non endémique\",\" \", IF(COUNTRY_INFO!C87=0,\" \",COUNTRY_INFO!C87)))","v":" "},{"$f":"IF(INTRO!$E$39<>\"Non endémique\", 0, IF(INTRO!$E$37=\"Non endémique\",0,IF(COUNTRY_INFO!$H87=1,COUNTRY_INFO!E87,0)))","v":0},{"$f":"IF(INTRO!$E$39<>\"Non endémique\", 0, IF(INTRO!$E$37=\"Non endémique\",0,IF(COUNTRY_INFO!$H87=1,COUNTRY_INFO!F87,0)))","v":0},{"$f":"IF(INTRO!$E$39<>\"Non endémique\", 0, IF(INTRO!$E$37=\"Non endémique\",0,IF(COUNTRY_INFO!$H87=1,COUNTRY_INFO!G87,0)))","v":0},0,{"$f":"IF(INTRO!$E$39=\"Non endémique\",IF(INTRO!$E$37=\"Non endémique\",\"Non requis\",COUNTRY_INFO!V87),\"Traiter avec IVM\")","v":"Traiter avec IVM"},0,0,null,0]
[{"$f":"IF(INTRO!$E$39<>\"Non endémique\", \" \", IF(INTRO!$E$37=\"Non endémique\",\" \", IF(COUNTRY_INFO!A88=0,\" \",COUNTRY_INFO!A88)))","v":" "},{"$f":"IF(INTRO!$E$39<>\"Non endémique\", \" \", IF(INTRO!$E$37=\"Non endémique\",\" \", IF(COUNTRY_INFO!B88=0,\" \",COUNTRY_INFO!B88)))","v":" "},{"$f":"IF(INTRO!$E$39<>\"Non endémique\", \" \", IF(INTRO!$E$37=\"Non endémique\",\" \", IF(COUNTRY_INFO!C88=0,\" \",COUNTRY_INFO!C88)))","v":" "},{"$f":"IF(INTRO!$E$39<>\"Non endémique\", 0, IF(INTRO!$E$37=\"Non endémique\",0,IF(COUNTRY_INFO!$H88=1,COUNTRY_INFO!E88,0)))","v":0},{"$f":"IF(INTRO!$E$39<>\"Non endémique\", 0, IF(INTRO!$E$37=\"Non endémique\",0,IF(COUNTRY_INFO!$H88=1,COUNTRY_INFO!F88,0)))","v":0},{"$f":"IF(INTRO!$E$39<>\"Non endémique\", 0, IF(INTRO!$E$37=\"Non endémique\",0,IF(COUNTRY_INFO!$H88=1,COUNTRY_INFO!G88,0)))","v":0},0,{"$f":"IF(INTRO!$E$39=\"Non endémique\",IF(INTRO!$E$37=\"Non endémique\",\"Non requis\",COUNTRY_INFO!V88),\"Traiter avec IVM\")","v":"Traiter avec IVM"},0,0,null,0]
[{"$f":"IF(INTRO!$E$39<>\"Non endémique\", \" \", IF(INTRO!$E$37=\"Non endémique\",\" \", IF(COUNTRY_INFO!A89=0,\" \",COUNTRY_INFO!A89)))","v":" "},{"$f":"IF(INTRO!$E$39<>\"Non endémique\", \" \", IF(INTRO!$E$37=\"Non endémique\",\" \", IF(COUNTRY_INFO!B89=0,\" \",COUNTRY_INFO!B89)))","v":" "},{"$f":"IF(INTRO!$E$39<>\"Non endémique\", \" \", IF(INTRO!$E$37=\"Non endémique\",\" \", IF(COUNTRY_INFO!C89=0,\" \",COUNTRY_INFO!C89)))","v":" "},{"$f":"IF(INTRO!$E$39<>\"Non endémique\", 0, IF(INTRO!$E$37=\"Non endémique\",0,IF(COUNTRY_INFO!$H89=1,COUNTRY_INFO!E89,0)))","v":0},{"$f":"IF(INTRO!$E$39<>\"Non endémique\", 0, IF(INTRO!$E$37=\"Non endémique\",0,IF(COUNTRY_INFO!$H89=1,COUNTRY_INFO!F89,0)))","v":0},{"$f":"IF(INTRO!$E$39<>\"Non endémique\", 0, IF(INTRO!$E$37=\"Non endémique\",0,IF(COUNTRY_INFO!$H89=1,COUNTRY_INFO!G89,0)))","v":0},0,{"$f":"IF(INTRO!$E$39=\"Non endémique\",IF(INTRO!$E$37=\"Non endémique\",\"Non requis\",COUNTRY_INFO!V89),\"Traiter avec IVM\")","v":"Traiter avec IVM"},0,0,null,0]
[{"$f":"IF(INTRO!$E$39<>\"Non endémique\", \" \", IF(INTRO!$E$37=\"Non endémique\",\" \", IF(COUNTRY_INFO!A90=0,\" \",COUNTRY_INFO!A90)))","v":" "},{"$f":"IF(INTRO!$E$39<>\"Non endémique\", \" \", IF(INTRO!$E$37=\"Non endémique\",\" \", IF(COUNTRY_INFO!B90=0,\" \",COUNTRY_INFO!B90)))","v":" "},{"$f":"IF(INTRO!$E$39<>\"Non endémique\", \" \", IF(INTRO!$E$37=\"Non endémique\",\" \", IF(COUNTRY_INFO!C90=0,\" \",COUNTRY_INFO!C90)))","v":" "},{"$f":"IF(INTRO!$E$39<>\"Non endémique\", 0, IF(INTRO!$E$37=\"Non endémique\",0,IF(COUNTRY_INFO!$H90=1,COUNTRY_INFO!E90,0)))","v":0},{"$f":"IF(INTRO!$E$39<>\"Non endémique\", 0, IF(INTRO!$E$37=\"Non endémique\",0,IF(COUNTRY_INFO!$H90=1,COUNTRY_INFO!F90,0)))","v":0},{"$f":"IF(INTRO!$E$39<>\"Non endémique\", 0, IF(INTRO!$E$37=\"Non endémique\",0,IF(COUNTRY_INFO!$H90=1,COUNTRY_INFO!G90,0)))","v":0},0,{"$f":"IF(INTRO!$E$39=\"Non endémique\",IF(INTRO!$E$37=\"Non endémique\",\"Non requis\",COUNTRY_INFO!V90),\"Traiter avec IVM\")","v":"Traiter avec IVM"},0,0,null,0]
[{"$f":"IF(INTRO!$E$39<>\"Non endémique\", \" \", IF(INTRO!$E$37=\"Non endémique\",\" \", IF(COUNTRY_INFO!A91=0,\" \",COUNTRY_INFO!A91)))","v":" "},{"$f":"IF(INTRO!$E$39<>\"Non endémique\", \" \", IF(INTRO!$E$37=\"Non endémique\",\" \", IF(COUNTRY_INFO!B91=0,\" \",COUNTRY_INFO!B91)))","v":" "},{"$f":"IF(INTRO!$E$39<>\"Non endémique\", \" \", IF(INTRO!$E$37=\"Non endémique\",\" \", IF(COUNTRY_INFO!C91=0,\" \",COUNTRY_INFO!C91)))","v":" "},{"$f":"IF(INTRO!$E$39<>\"Non endémique\", 0, IF(INTRO!$E$37=\"Non endémique\",0,IF(COUNTRY_INFO!$H91=1,COUNTRY_INFO!E91,0)))","v":0},{"$f":"IF(INTRO!$E$39<>\"Non endémique\", 0, IF(INTRO!$E$37=\"Non endémique\",0,IF(COUNTRY_INFO!$H91=1,COUNTRY_INFO!F91,0)))","v":0},{"$f":"IF(INTRO!$E$39<>\"Non endémique\", 0, IF(INTRO!$E$37=\"Non endémique\",0,IF(COUNTRY_INFO!$H91=1,COUNTRY_INFO!G91,0)))","v":0},0,{"$f":"IF(INTRO!$E$39=\"Non endémique\",IF(INTRO!$E$37=\"Non endémique\",\"Non requis\",COUNTRY_INFO!V91),\"Traiter avec IVM\")","v":"Traiter avec IVM"},0,0,null,0]
[{"$f":"IF(INTRO!$E$39<>\"Non endémique\", \" \", IF(INTRO!$E$37=\"Non endémique\",\" \", IF(COUNTRY_INFO!A92=0,\" \",COUNTRY_INFO!A92)))","v":" "},{"$f":"IF(INTRO!$E$39<>\"Non endémique\", \" \", IF(INTRO!$E$37=\"Non endémique\",\" \", IF(COUNTRY_INFO!B92=0,\" \",COUNTRY_INFO!B92)))","v":" "},{"$f":"IF(INTRO!$E$39<>\"Non endémique\", \" \", IF(INTRO!$E$37=\"Non endémique\",\" \", IF(COUNTRY_INFO!C92=0,\" \",COUNTRY_INFO!C92)))","v":" "},{"$f":"IF(INTRO!$E$39<>\"Non endémique\", 0, IF(INTRO!$E$37=\"Non endémique\",0,IF(COUNTRY_INFO!$H92=1,COUNTRY_INFO!E92,0)))","v":0},{"$f":"IF(INTRO!$E$39<>\"Non endémique\", 0, IF(INTRO!$E$37=\"Non endémique\",0,IF(COUNTRY_INFO!$H92=1,COUNTRY_INFO!F92,0)))","v":0},{"$f":"IF(INTRO!$E$39<>\"Non endémique\", 0, IF(INTRO!$E$37=\"Non endémique\",0,IF(COUNTRY_INFO!$H92=1,COUNTRY_INFO!G92,0)))","v":0},0,{"$f":"IF(INTRO!$E$39=\"Non endémique\",IF(INTRO!$E$37=\"Non endémique\",\"Non requis\",COUNTRY_INFO!V92),\"Traiter avec IVM\")","v":"Traiter avec IVM"},0,0,null,0]
[{"$f":"IF(INTRO!$E$39<>\"Non endémique\", \" \", IF(INTRO!$E$37=\"Non endémique\",\" \", IF(COUNTRY_INFO!A93=0,\" \",COUNTRY_INFO!A93)))","v":" "},{"$f":"IF(INTRO!$E$39<>\"Non endémique\", \" \", IF(INTRO!$E$37=\"Non endémique\",\" \", IF(COUNTRY_INFO!B93=0,\" \",COUNTRY_INFO!B93)))","v":" "},{"$f":"IF(INTRO!$E$39<>\"Non endémique\", \" \", IF(INTRO!$E$37=\"Non endémique\",\" \", IF(COUNTRY_INFO!C93=0,\" \",COUNTRY_INFO!C93)))","v":" "},{"$f":"IF(INTRO!$E$39<>\"Non endémique\", 0, IF(INTRO!$E$37=\"Non endémique\",0,IF(COUNTRY_INFO!$H93=1,COUNTRY_INFO!E93,0)))","v":0},{"$f":"IF(INTRO!$E$39<>\"Non endémique\", 0, IF(INTRO!$E$37=\"Non endémique\",0,IF(COUNTRY_INFO!$H93=1,COUNTRY_INFO!F93,0)))","v":0},{"$f":"IF(INTRO!$E$39<>\"Non endémique\", 0, IF(INTRO!$E$37=\"Non endémique\",0,IF(COUNTRY_INFO!$H93=1,COUNTRY_INFO!G93,0)))","v":0},0,{"$f":"IF(INTRO!$E$39=\"Non endémique\",IF(INTRO!$E$37=\"Non endémique\",\"Non requis\",COUNTRY_INFO!V93),\"Traiter avec IVM\")","v":"Traiter avec IVM"},0,0,null,0]
[{"$f":"IF(INTRO!$E$39<>\"Non endémique\", \" \", IF(INTRO!$E$37=\"Non endémique\",\" \", IF(COUNTRY_INFO!A94=0,\" \",COUNTRY_INFO!A94)))","v":" "},{"$f":"IF(INTRO!$E$39<>\"Non endémique\", \" \", IF(INTRO!$E$37=\"Non endémique\",\" \", IF(COUNTRY_INFO!B94=0,\" \",COUNTRY_INFO!B94)))","v":" "},{"$f":"IF(INTRO!$E$39<>\"Non endémique\", \" \", IF(INTRO!$E$37=\"Non endémique\",\" \", IF(COUNTRY_INFO!C94=0,\" \",COUNTRY_INFO!C94)))","v":" "},{"$f":"IF(INTRO!$E$39<>\"Non endémique\", 0, IF(INTRO!$E$37=\"Non endémique\",0,IF(COUNTRY_INFO!$H94=1,COUNTRY_INFO!E94,0)))","v":0},{"$f":"IF(INTRO!$E$39<>\"Non endémique\", 0, IF(INTRO!$E$37=\"Non endémique\",0,IF(COUNTRY_INFO!$H94=1,COUNTRY_INFO!F94,0)))","v":0},{"$f":"IF(INTRO!$E$39<>\"Non endémique\", 0, IF(INTRO!$E$37=\"Non endémique\",0,IF(COUNTRY_INFO!$H94=1,COUNTRY_INFO!G94,0)))","v":0},0,{"$f":"IF(INTRO!$E$39=\"Non endémique\",IF(INTRO!$E$37=\"Non endémique\",\"Non requis\",COUNTRY_INFO!V94),\"Traiter avec IVM\")","v":"Traiter avec IVM"},0,0,null,0]
[{"$f":"IF(INTRO!$E$39<>\"Non endémique\", \" \", IF(INTRO!$E$37=\"Non endémique\",\" \", IF(COUNTRY_INFO!A95=0,\" \",COUNTRY_INFO!A95)))","v":" "},{"$f":"IF(INTRO!$E$39<>\"Non endémique\", \" \", IF(INTRO!$E$37=\"Non endémique\",\" \", IF(COUNTRY_INFO!B95=0,\" \",COUNTRY_INFO!B95)))","v":" "},{"$f":"IF(INTRO!$E$39<>\"Non endémique\", \" \", IF(INTRO!$E$37=\"Non endémique\",\" \", IF(COUNTRY_INFO!C95=0,\" \",COUNTRY_INFO!C95)))","v":" "},{"$f":"IF(INTRO!$E$39<>\"Non endémique\", 0, IF(INTRO!$E$37=\"Non endémique\",0,IF(COUNTRY_INFO!$H95=1,COUNTRY_INFO!E95,0)))","v":0},{"$f":"IF(INTRO!$E$39<>\"Non endémique\", 0, IF(INTRO!$E$37=\"Non endémique\",0,IF(COUNTRY_INFO!$H95=1,COUNTRY_INFO!F95,0)))","v":0},{"$f":"IF(INTRO!$E$39<>\"Non endémique\", 0, IF(INTRO!$E$37=\"Non endémique\",0,IF(COUNTRY_INFO!$H95=1,COUNTRY_INFO!G95,0)))","v":0},0,{"$f":"IF(INTRO!$E$39=\"Non endémique\",IF(INTRO!$E$37=\"Non endémique\",\"Non requis\",COUNTRY_INFO!V95),\"Traiter avec IVM\")","v":"Traiter avec IVM"},0,0,null,0]
[{"$f":"IF(INTRO!$E$39<>\"Non endémique\", \" \", IF(INTRO!$E$37=\"Non endémique\",\" \", IF(COUNTRY_INFO!A96=0,\" \",COUNTRY_INFO!A96)))","v":" "},{"$f":"IF(INTRO!$E$39<>\"Non endémique\", \" \", IF(INTRO!$E$37=\"Non endémique\",\" \", IF(COUNTRY_INFO!B96=0,\" \",COUNTRY_INFO!B96)))","v":" "},{"$f":"IF(INTRO!$E$39<>\"Non endémique\", \" \", IF(INTRO!$E$37=\"Non endémique\",\" \", IF(COUNTRY_INFO!C96=0,\" \",COUNTRY_INFO!C96)))","v":" "},{"$f":"IF(INTRO!$E$39<>\"Non endémique\", 0, IF(INTRO!$E$37=\"Non endémique\",0,IF(COUNTRY_INFO!$H96=1,COUNTRY_INFO!E96,0)))","v":0},{"$f":"IF(INTRO!$E$39<>\"Non endémique\", 0, IF(INTRO!$E$37=\"Non endémique\",0,IF(COUNTRY_INFO!$H96=1,COUNTRY_INFO!F96,0)))","v":0},{"$f":"IF(INTRO!$E$39<>\"Non endémique\", 0, IF(INTRO!$E$37=\"Non endémique\",0,IF(COUNTRY_INFO!$H96=1,COUNTRY_INFO!G96,0)))","v":0},0,{"$f":"IF(INTRO!$E$39=\"Non endémique\",IF(INTRO!$E$37=\"Non endémique\",\"Non requis\",COUNTRY_INFO!V96),\"Traiter avec IVM\")","v":"Traiter avec IVM"},0,0,null,0]
[{"$f":"IF(INTRO!$E$39<>\"Non endémique\", \" \", IF(INTRO!$E$37=\"Non endémique\",\" \", IF(COUNTRY_INFO!A97=0,\" \",COUNTRY_INFO!A97)))","v":" "},{"$f":"IF(INTRO!$E$39<>\"Non endémique\", \" \", IF(INTRO!$E$37=\"Non endémique\",\" \", IF(COUNTRY_INFO!B97=0,\" \",COUNTRY_INFO!B97)))","v":" "},{"$f":"IF(INTRO!$E$39<>\"Non endémique\", \" \", IF(INTRO!$E$37=\"Non endémique\",\" \", IF(COUNTRY_INFO!C97=0,\" \",COUNTRY_INFO!C97)))","v":" "},{"$f":"IF(INTRO!$E$39<>\"Non endémique\", 0, IF(INTRO!$E$37=\"Non endémique\",0,IF(COUNTRY_INFO!$H97=1,COUNTRY_INFO!E97,0)))","v":0},{"$f":"IF(INTRO!$E$39<>\"Non endémique\", 0, IF(INTRO!$E$37=\"Non endémique\",0,IF(COUNTRY_INFO!$H97=1,COUNTRY_INFO!F97,0)))","v":0},{"$f":"IF(INTRO!$E$39<>\"Non endémique\", 0, IF(INTRO!$E$37=\"Non endémique\",0,IF(COUNTRY_INFO!$H97=1,COUNTRY_INFO!G97,0)))","v":0},0,{"$f":"IF(INTRO!$E$39=\"Non endémique\",IF(INTRO!$E$37=\"Non endémique\",\"Non requis\",COUNTRY_INFO!V97),\"Traiter avec IVM\")","v":"Traiter avec IVM"},0,0,null,0]
[{"$f":"IF(INTRO!$E$39<>\"Non endémique\", \" \", IF(INTRO!$E$37=\"Non endémique\",\" \", IF(COUNTRY_INFO!A98=0,\" \",COUNTRY_INFO!A98)))","v":" "},{"$f":"IF(INTRO!$E$39<>\"Non endémique\", \" \", IF(INTRO!$E$37=\"Non endémique\",\" \", IF(COUNTRY_INFO!B98=0,\" \",COUNTRY_INFO!B98)))","v":" "},{"$f":"IF(INTRO!$E$39<>\"Non endémique\", \" \", IF(INTRO!$E$37=\"Non endémique\",\" \", IF(COUNTRY_INFO!C98=0,\" \",COUNTRY_INFO!C98)))","v":" "},{"$f":"IF(INTRO!$E$39<>\"Non endémique\", 0, IF(INTRO!$E$37=\"Non endémique\",0,IF(COUNTRY_INFO!$H98=1,COUNTRY_INFO!E98,0)))","v":0},{"$f":"IF(INTRO!$E$39<>\"Non endémique\", 0, IF(INTRO!$E$37=\"Non endémique\",0,IF(COUNTRY_INFO!$H98=1,COUNTRY_INFO!F98,0)))","v":0},{"$f":"IF(INTRO!$E$39<>\"Non endémique\", 0, IF(INTRO!$E$37=\"Non endémique\",0,IF(COUNTRY_INFO!$H98=1,COUNTRY_INFO!G98,0)))","v":0},0,{"$f":"IF(INTRO!$E$39=\"Non endémique\",IF(INTRO!$E$37=\"Non endémique\",\"Non requis\",COUNTRY_INFO!V98),\"Traiter avec IVM\")","v":"Traiter avec IVM"},0,0,null,0]
[{"$f":"IF(INTRO!$E$39<>\"Non endémique\", \" \", IF(INTRO!$E$37=\"Non endémique\",\" \", IF(COUNTRY_INFO!A99=0,\" \",COUNTRY_INFO!A99)))","v":" "},{"$f":"IF(INTRO!$E$39<>\"Non endémique\", \" \", IF(INTRO!$E$37=\"Non endémique\",\" \", IF(COUNTRY_INFO!B99=0,\" \",COUNTRY_INFO!B99)))","v":" "},{"$f":"IF(INTRO!$E$39<>\"Non endémique\", \" \", IF(INTRO!$E$37=\"Non endémique\",\" \", IF(COUNTRY_INFO!C99=0,\" \",COUNTRY_INFO!C99)))","v":" "},{"$f":"IF(INTRO!$E$39<>\"Non endémique\", 0, IF(INTRO!$E$37=\"Non endémique\",0,IF(COUNTRY_INFO!$H99=1,COUNTRY_INFO!E99,0)))","v":0},{"$f":"IF(INTRO!$E$39<>\"Non endémique\", 0, IF(INTRO!$E$37=\"Non endémique\",0,IF(COUNTRY_INFO!$H99=1,COUNTRY_INFO!F99,0)))","v":0},{"$f":"IF(INTRO!$E$39<>\"Non endémique\", 0, IF(INTRO!$E$37=\"Non endémique\",0,IF(COUNTRY_INFO!$H99=1,COUNTRY_INFO!G99,0)))","v":0},0,{"$f":"IF(INTRO!$E$39=\"Non endémique\",IF(INTRO!$E$37=\"Non endémique\",\"Non requis\",COUNTRY_INFO!V99),\"Traiter avec IVM\")","v":"Traiter avec IVM"},0,0,null,0]
[{"$f":"IF(INTRO!$E$39<>\"Non endémique\", \" \", IF(INTRO!$E$37=\"Non endémique\",\" \", IF(COUNTRY_INFO!A100=0,\" \",COUNTRY_INFO!A100)))","v":" "},{"$f":"IF(INTRO!$E$39<>\"Non endémique\", \" \", IF(INTRO!$E$37=\"Non endémique\",\" \", IF(COUNTRY_INFO!B100=0,\" \",COUNTRY_INFO!B100)))","v":" "},{"$f":"IF(INTRO!$E$39<>\"Non endémique\", \" \", IF(INTRO!$E$37=\"Non endémique\",\" \", IF(COUNTRY_INFO!C100=0,\" \",COUNTRY_INFO!C100)))","v":" "},{"$f":"IF(INTRO!$E$39<>\"Non endémique\", 0, IF(INTRO!$E$37=\"Non endémique\",0,IF(COUNTRY_INFO!$H100=1,COUNTRY_INFO!E100,0)))","v":0},{"$f":"IF(INTRO!$E$39<>\"Non endémique\", 0, IF(INTRO!$E$37=\"Non endémique\",0,IF(COUNTRY_INFO!$H100=1,COUNTRY_INFO!F100,0)))","v":0},{"$f":"IF(INTRO!$E$39<>\"Non endémique\", 0, IF(INTRO!$E$37=\"Non endémique\",0,IF(COUNTRY_INFO!$H100=1,COUNTRY_INFO!G100,0)))","v":0},0,{"$f":"IF(INTRO!$E$39=\"Non endémique\",IF(INTRO!$E$37=\"Non endémique\",\"Non requis\",COUNTRY_INFO!V100),\"Traiter avec IVM\")","v":"Traiter avec IVM"},0,0,null,0]
[{"$f":"IF(INTRO!$E$39<>\"Non endémique\", \" \", IF(INTRO!$E$37=\"Non endémique\",\" \", IF(COUNTRY_INFO!A101=0,\" \",COUNTRY_INFO!A101)))","v":" "},{"$f":"IF(INTRO!$E$39<>\"Non endémique\", \" \", IF(INTRO!$E$37=\"Non endémique\",\" \", IF(COUNTRY_INFO!B101=0,\" \",COUNTRY_INFO!B101)))","v":" "},{"$f":"IF(INTRO!$E$39<>\"Non endémique\", \" \", IF(INTRO!$E$37=\"Non endémique\",\" \", IF(COUNTRY_INFO!C101=0,\" \",COUNTRY_INFO!C101)))","v":" "},{"$f":"IF(INTRO!$E$39<>\"Non endémique\", 0, IF(INTRO!$E$37=\"Non endémique\",0,IF(COUNTRY_INFO!$H101=1,COUNTRY_INFO!E101,0)))","v":0},{"$f":"IF(INTRO!$E$39<>\"Non endémique\", 0, IF(INTRO!$E$37=\"Non endémique\",0,IF(COUNTRY_INFO!$H101=1,COUNTRY_INFO!F101,0)))","v":0},{"$f":"IF(INTRO!$E$39<>\"Non endémique\", 0, IF(INTRO!$E$37=\"Non endémique\",0,IF(COUNTRY_INFO!$H101=1,COUNTRY_INFO!G101,0)))","v":0},0,{"$f":"IF(INTRO!$E$39=\"Non endémique\",IF(INTRO!$E$37=\"Non endémique\",\"Non requis\",COUNTRY_INFO!V101),\"Traiter avec IVM\")","v":"Traiter avec IVM"},0,0,null,0]
[{"$f":"IF(INTRO!$E$39<>\"Non endémique\", \" \", IF(INTRO!$E$37=\"Non endémique\",\" \", IF(COUNTRY_INFO!A102=0,\" \",COUNTRY_INFO!A102)))","v":" "},{"$f":"IF(INTRO!$E$39<>\"Non endémique\", \" \", IF(INTRO!$E$37=\"Non endémique\",\" \", IF(COUNTRY_INFO!B102=0,\" \",COUNTRY_INFO!B102)))","v":" "},{"$f":"IF(INTRO!$E$39<>\"Non endémique\", \" \", IF(INTRO!$E$37=\"Non endémique\",\" \", IF(COUNTRY_INFO!C102=0,\" \",COUNTRY_INFO!C102)))","v":" "},{"$f":"IF(INTRO!$E$39<>\"Non endémique\", 0, IF(INTRO!$E$37=\"Non endémique\",0,IF(COUNTRY_INFO!$H102=1,COUNTRY_INFO!E102,0)))","v":0},{"$f":"IF(INTRO!$E$39<>\"Non endémique\", 0, IF(INTRO!$E$37=\"Non endémique\",0,IF(COUNTRY_INFO!$H102=1,COUNTRY_INFO!F102,0)))","v":0},{"$f":"IF(INTRO!$E$39<>\"Non endémique\", 0, IF(INTRO!$E$37=\"Non endémique\",0,IF(COUNTRY_INFO!$H102=1,COUNTRY_INFO!G102,0)))","v":0},0,{"$f":"IF(INTRO!$E$39=\"Non endémique\",IF(INTRO!$E$37=\"Non endémique\",\"Non requis\",COUNTRY_INFO!V102),\"Traiter avec IVM\")","v":"Traiter avec IVM"},0,0,null,0]
[{"$f":"IF(INTRO!$E$39<>\"Non endémique\", \" \", IF(INTRO!$E$37=\"Non endémique\",\" \", IF(COUNTRY_INFO!A103=0,\" \",COUNTRY_INFO!A103)))","v":" "},{"$f":"IF(INTRO!$E$39<>\"Non endémique\", \" \", IF(INTRO!$E$37=\"Non endémique\",\" \", IF(COUNTRY_INFO!B103=0,\" \",COUNTRY_INFO!B103)))","v":" "},{"$f":"IF(INTRO!$E$39<>\"Non endémique\", \" \", IF(INTRO!$E$37=\"Non endémique\",\" \", IF(COUNTRY_INFO!C103=0,\" \",COUNTRY_INFO!C103)))","v":" "},{"$f":"IF(INTRO!$E$39<>\"Non endémique\", 0, IF(INTRO!$E$37=\"Non endémique\",0,IF(COUNTRY_INFO!$H103=1,COUNTRY_INFO!E103,0)))","v":0},{"$f":"IF(INTRO!$E$39<>\"Non endémique\", 0, IF(INTRO!$E$37=\"Non endémique\",0,IF(COUNTRY_INFO!$H103=1,COUNTRY_INFO!F103,0)))","v":0},{"$f":"IF(INTRO!$E$39<>\"Non endémique\", 0, IF(INTRO!$E$37=\"Non endémique\",0,IF(COUNTRY_INFO!$H103=1,COUNTRY_INFO!G103,0)))","v":0},0,{"$f":"IF(INTRO!$E$39=\"Non endémique\",IF(INTRO!$E$37=\"Non endémique\",\"Non requis\",COUNTRY_INFO!V103),\"Traiter avec IVM\")","v":"Traiter avec IVM"},0,0,null,0]
[{"$f":"IF(INTRO!$E$39<>\"Non endémique\", \" \", IF(INTRO!$E$37=\"Non endémique\",\" \", IF(COUNTRY_INFO!A104=0,\" \",COUNTRY_INFO!A104)))","v":" "},{"$f":"IF(INTRO!$E$39<>\"Non endémique\", \" \", IF(INTRO!$E$37=\"Non endémique\",\" \", IF(COUNTRY_INFO!B104=0,\" \",COUNTRY_INFO!B104)))","v":" "},{"$f":"IF(INTRO!$E$39<>\"Non endémique\", \" \", IF(INTRO!$E$37=\"Non endémique\",\" \", IF(COUNTRY_INFO!C104=0,\" \",COUNTRY_INFO!C104)))","v":" "},{"$f":"IF(INTRO!$E$39<>\"Non endémique\", 0, IF(INTRO!$E$37=\"Non endémique\",0,IF(COUNTRY_INFO!$H104=1,COUNTRY_INFO!E104,0)))","v":0},{"$f":"IF(INTRO!$E$39<>\"Non endémique\", 0, IF(INTRO!$E$37=\"Non endémique\",0,IF(COUNTRY_INFO!$H104=1,COUNTRY_INFO!F104,0)))","v":0},{"$f":"IF(INTRO!$E$39<>\"Non endémique\", 0, IF(INTRO!$E$37=\"Non endémique\",0,IF(COUNTRY_INFO!$H104=1,COUNTRY_INFO!G104,0)))","v":0},0,{"$f":"IF(INTRO!$E$39=\"Non endémique\",IF(INTRO!$E$37=\"Non endémique\",\"Non requis\",COUNTRY_INFO!V104),\"Traiter avec IVM\")","v":"Traiter avec IVM"},0,0,null,0]
[{"$f":"IF(INTRO!$E$39<>\"Non endémique\", \" \", IF(INTRO!$E$37=\"Non endémique\",\" \", IF(COUNTRY_INFO!A105=0,\" \",COUNTRY_INFO!A105)))","v":" "},{"$f":"IF(INTRO!$E$39<>\"Non endémique\", \" \", IF(INTRO!$E$37=\"Non endémique\",\" \", IF(COUNTRY_INFO!B105=0,\" \",COUNTRY_INFO!B105)))","v":" "},{"$f":"IF(INTRO!$E$39<>\"Non endémique\", \" \", IF(INTRO!$E$37=\"Non endémique\",\" \", IF(COUNTRY_INFO!C105=0,\" \",COUNTRY_INFO!C105)))","v":" "},{"$f":"IF(INTRO!$E$39<>\"Non endémique\", 0, IF(INTRO!$E$37=\"Non endémique\",0,IF(COUNTRY_INFO!$H105=1,COUNTRY_INFO!E105,0)))","v":0},{"$f":"IF(INTRO!$E$39<>\"Non endémique\", 0, IF(INTRO!$E$37=\"Non endémique\",0,IF(COUNTRY_INFO!$H105=1,COUNTRY_INFO!F105,0)))","v":0},{"$f":"IF(INTRO!$E$39<>\"Non endémique\", 0, IF(INTRO!$E$37=\"Non endémique\",0,IF(COUNTRY_INFO!$H105=1,COUNTRY_INFO!G105,0)))","v":0},0,{"$f":"IF(INTRO!$E$39=\"Non endémique\",IF(INTRO!$E$37=\"Non endémique\",\"Non requis\",COUNTRY_INFO!V105),\"Traiter avec IVM\")","v":"Traiter avec IVM"},0,0,null,0]
[{"$f":"IF(INTRO!$E$39<>\"Non endémique\", \" \", IF(INTRO!$E$37=\"Non endémique\",\" \", IF(COUNTRY_INFO!A106=0,\" \",COUNTRY_INFO!A106)))","v":" "},{"$f":"IF(INTRO!$E$39<>\"Non endémique\", \" \", IF(INTRO!$E$37=\"Non endémique\",\" \", IF(COUNTRY_INFO!B106=0,\" \",COUNTRY_INFO!B106)))","v":" "},{"$f":"IF(INTRO!$E$39<>\"Non endémique\", \" \", IF(INTRO!$E$37=\"Non endémique\",\" \", IF(COUNTRY_INFO!C106=0,\" \",COUNTRY_INFO!C106)))","v":" "},{"$f":"IF(INTRO!$E$39<>\"Non endémique\", 0, IF(INTRO!$E$37=\"Non endémique\",0,IF(COUNTRY_INFO!$H106=1,COUNTRY_INFO!E106,0)))","v":0},{"$f":"IF(INTRO!$E$39<>\"Non endémique\", 0, IF(INTRO!$E$37=\"Non endémique\",0,IF(COUNTRY_INFO!$H106=1,COUNTRY_INFO!F106,0)))","v":0},{"$f":"IF(INTRO!$E$39<>\"Non endémique\", 0, IF(INTRO!$E$37=\"Non endémique\",0,IF(COUNTRY_INFO!$H106=1,COUNTRY_INFO!G106,0)))","v":0},0,{"$f":"IF(INTRO!$E$39=\"Non endémique\",IF(INTRO!$E$37=\"Non endémique\",\"Non requis\",COUNTRY_INFO!V106),\"Traiter avec IVM\")","v":"Traiter avec IVM"},0,0,null,0]
[{"$f":"IF(INTRO!$E$39<>\"Non endémique\", \" \", IF(INTRO!$E$37=\"Non endémique\",\" \", IF(COUNTRY_INFO!A107=0,\" \",COUNTRY_INFO!A107)))","v":" "},{"$f":"IF(INTRO!$E$39<>\"Non endémique\", \" \", IF(INTRO!$E$37=\"Non endémique\",\" \", IF(COUNTRY_INFO!B107=0,\" \",COUNTRY_INFO!B107)))","v":" "},{"$f":"IF(INTRO!$E$39<>\"Non endémique\", \" \", IF(INTRO!$E$37=\"Non endémique\",\" \", IF(COUNTRY_INFO!C107=0,\" \",COUNTRY_INFO!C107)))","v":" "},{"$f":"IF(INTRO!$E$39<>\"Non endémique\", 0, IF(INTRO!$E$37=\"Non endémique\",0,IF(COUNTRY_INFO!$H107=1,COUNTRY_INFO!E107,0)))","v":0},{"$f":"IF(INTRO!$E$39<>\"Non endémique\", 0, IF(INTRO!$E$37=\"Non endémique\",0,IF(COUNTRY_INFO!$H107=1,COUNTRY_INFO!F107,0)))","v":0},{"$f":"IF(INTRO!$E$39<>\"Non endémique\", 0, IF(INTRO!$E$37=\"Non endémique\",0,IF(COUNTRY_INFO!$H107=1,COUNTRY_INFO!G107,0)))","v":0},0,{"$f":"IF(INTRO!$E$39=\"Non endémique\",IF(INTRO!$E$37=\"Non endémique\",\"Non requis\",COUNTRY_INFO!V107),\"Traiter avec IVM\")","v":"Traiter avec IVM"},0,0,null,0]
[{"$f":"IF(INTRO!$E$39<>\"Non endémique\", \" \", IF(INTRO!$E$37=\"Non endémique\",\" \", IF(COUNTRY_INFO!A108=0,\" \",COUNTRY_INFO!A108)))","v":" "},{"$f":"IF(INTRO!$E$39<>\"Non endémique\", \" \", IF(INTRO!$E$37=\"Non endémique\",\" \", IF(COUNTRY_INFO!B108=0,\" \",COUNTRY_INFO!B108)))","v":" "},{"$f":"IF(INTRO!$E$39<>\"Non endémique\", \" \", IF(INTRO!$E$37=\"Non endémique\",\" \", IF(COUNTRY_INFO!C108=0,\" \",COUNTRY_INFO!C108)))","v":" "},{"$f":"IF(INTRO!$E$39<>\"Non endémique\", 0, IF(INTRO!$E$37=\"Non endémique\",0,IF(COUNTRY_INFO!$H108=1,COUNTRY_INFO!E108,0)))","v":0},{"$f":"IF(INTRO!$E$39<>\"Non endémique\", 0, IF(INTRO!$E$37=\"Non endémique\",0,IF(COUNTRY_INFO!$H108=1,COUNTRY_INFO!F108,0)))","v":0},{"$f":"IF(INTRO!$E$39<>\"Non endémique\", 0, IF(INTRO!$E$37=\"Non endémique\",0,IF(COUNTRY_INFO!$H108=1,COUNTRY_INFO!G108,0)))","v":0},0,{"$f":"IF(INTRO!$E$39=\"Non endémique\",IF(INTRO!$E$37=\"Non endémique\",\"Non requis\",COUNTRY_INFO!V108),\"Traiter avec IVM\")","v":"Traiter avec IVM"},0,0,null,0]
[{"$f":"IF(INTRO!$E$39<>\"Non endémique\", \" \", IF(INTRO!$E$37=\"Non endémique\",\" \", IF(COUNTRY_INFO!A109=0,\" \",COUNTRY_INFO!A109)))","v":" "},{"$f":"IF(INTRO!$E$39<>\"Non endémique\", \" \", IF(INTRO!$E$37=\"Non endémique\",\" \", IF(COUNTRY_INFO!B109=0,\" \",COUNTRY_INFO!B109)))","v":" "},{"$f":"IF(INTRO!$E$39<>\"Non endémique\", \" \", IF(INTRO!$E$37=\"Non endémique\",\" \", IF(COUNTRY_INFO!C109=0,\" \",COUNTRY_INFO!C109)))","v":" "},{"$f":"IF(INTRO!$E$39<>\"Non endémique\", 0, IF(INTRO!$E$37=\"Non endémique\",0,IF(COUNTRY_INFO!$H109=1,COUNTRY_INFO!E109,0)))","v":0},{"$f":"IF(INTRO!$E$39<>\"Non endémique\", 0, IF(INTRO!$E$37=\"Non endémique\",0,IF(COUNTRY_INFO!$H109=1,COUNTRY_INFO!F109,0)))","v":0},{"$f":"IF(INTRO!$E$39<>\"Non endémique\", 0, IF(INTRO!$E$37=\"Non endémique\",0,IF(COUNTRY_INFO!$H109=1,COUNTRY_INFO!G109,0)))","v":0},0,{"$f":"IF(INTRO!$E$39=\"Non endémique\",IF(INTRO!$E$37=\"Non endémique\",\"Non requis\",COUNTRY_INFO!V109),\"Traiter avec IVM\")","v":"Traiter avec IVM"},0,0,null,0]
[{"$f":"IF(INTRO!$E$39<>\"Non endémique\", \" \", IF(INTRO!$E$37=\"Non endémique\",\" \", IF(COUNTRY_INFO!A110=0,\" \",COUNTRY_INFO!A110)))","v":" "},{"$f":"IF(INTRO!$E$39<>\"Non endémique\", \" \", IF(INTRO!$E$37=\"Non endémique\",\" \", IF(COUNTRY_INFO!B110=0,\" \",COUNTRY_INFO!B110)))","v":" "},{"$f":"IF(INTRO!$E$39<>\"Non endémique\", \" \", IF(INTRO!$E$37=\"Non endémique\",\" \", IF(COUNTRY_INFO!C110=0,\" \",COUNTRY_INFO!C110)))","v":" "},{"$f":"IF(INTRO!$E$39<>\"Non endémique\", 0, IF(INTRO!$E$37=\"Non endémique\",0,IF(COUNTRY_INFO!$H110=1,COUNTRY_INFO!E110,0)))","v":0},{"$f":"IF(INTRO!$E$39<>\"Non endémique\", 0, IF(INTRO!$E$37=\"Non endémique\",0,IF(COUNTRY_INFO!$H110=1,COUNTRY_INFO!F110,0)))","v":0},{"$f":"IF(INTRO!$E$39<>\"Non endémique\", 0, IF(INTRO!$E$37=\"Non endémique\",0,IF(COUNTRY_INFO!$H110=1,COUNTRY_INFO!G110,0)))","v":0},0,{"$f":"IF(INTRO!$E$39=\"Non endémique\",IF(INTRO!$E$37=\"Non endémique\",\"Non requis\",COUNTRY_INFO!V110),\"Traiter avec IVM\")","v":"Traiter avec IVM"},0,0,null,0]
[{"$f":"IF(INTRO!$E$39<>\"Non endémique\", \" \", IF(INTRO!$E$37=\"Non endémique\",\" \", IF(COUNTRY_INFO!A111=0,\" \",COUNTRY_INFO!A111)))","v":" "},{"$f":"IF(INTRO!$E$39<>\"Non endémique\", \" \", IF(INTRO!$E$37=\"Non endémique\",\" \", IF(COUNTRY_INFO!B111=0,\" \",COUNTRY_INFO!B111)))","v":" "},{"$f":"IF(INTRO!$E$39<>\"Non endémique\", \" \", IF(INTRO!$E$37=\"Non endémique\",\" \", IF(COUNTRY_INFO!C111=0,\" \",COUNTRY_INFO!C111)))","v":" "},{"$f":"IF(INTRO!$E$39<>\"Non endémique\", 0, IF(INTRO!$E$37=\"Non endémique\",0,IF(COUNTRY_INFO!$H111=1,COUNTRY_INFO!E111,0)))","v":0},{"$f":"IF(INTRO!$E$39<>\"Non endémique\", 0, IF(INTRO!$E$37=\"Non endémique\",0,IF(COUNTRY_INFO!$H111=1,COUNTRY_INFO!F111,0)))","v":0},{"$f":"IF(INTRO!$E$39<>\"Non endémique\", 0, IF(INTRO!$E$37=\"Non endémique\",0,IF(COUNTRY_INFO!$H111=1,COUNTRY_INFO!G111,0)))","v":0},0,{"$f":"IF(INTRO!$E$39=\"Non endémique\",IF(INTRO!$E$37=\"Non endémique\",\"Non requis\",COUNTRY_INFO!V111),\"Traiter avec IVM\")","v":"Traiter avec IVM"},0,0,null,0]
[{"$f":"IF(INTRO!$E$39<>\"Non endémique\", \" \", IF(INTRO!$E$37=\"Non endémique\",\" \", IF(COUNTRY_INFO!A112=0,\" \",COUNTRY_INFO!A112)))","v":" "},{"$f":"IF(INTRO!$E$39<>\"Non endémique\", \" \", IF(INTRO!$E$37=\"Non endémique\",\" \", IF(COUNTRY_INFO!B112=0,\" \",COUNTRY_INFO!B112)))","v":" "},{"$f":"IF(INTRO!$E$39<>\"Non endémique\", \" \", IF(INTRO!$E$37=\"Non endémique\",\" \", IF(COUNTRY_INFO!C112=0,\" \",COUNTRY_INFO!C112)))","v":" "},{"$f":"IF(INTRO!$E$39<>\"Non endémique\", 0, IF(INTRO!$E$37=\"Non endémique\",0,IF(COUNTRY_INFO!$H112=1,COUNTRY_INFO!E112,0)))","v":0},{"$f":"IF(INTRO!$E$39<>\"Non endémique\", 0, IF(INTRO!$E$37=\"Non endémique\",0,IF(COUNTRY_INFO!$H112=1,COUNTRY_INFO!F112,0)))","v":0},{"$f":"IF(INTRO!$E$39<>\"Non endémique\", 0, IF(INTRO!$E$37=\"Non endémique\",0,IF(COUNTRY_INFO!$H112=1,COUNTRY_INFO!G112,0)))","v":0},0,{"$f":"IF(INTRO!$E$39=\"Non endémique\",IF(INTRO!$E$37=\"Non endémique\",\"Non requis\",COUNTRY_INFO!V112),\"Traiter avec IVM\")","v":"Traiter avec IVM"},0,0,null,0]
[{"$f":"IF(INTRO!$E$39<>\"Non endémique\", \" \", IF(INTRO!$E$37=\"Non endémique\",\" \", IF(COUNTRY_INFO!A113=0,\" \",COUNTRY_INFO!A113)))","v":" "},{"$f":"IF(INTRO!$E$39<>\"Non endémique\", \" \", IF(INTRO!$E$37=\"Non endémique\",\" \", IF(COUNTRY_INFO!B113=0,\" \",COUNTRY_INFO!B113)))","v":" "},{"$f":"IF(INTRO!$E$39<>\"Non endémique\", \" \", IF(INTRO!$E$37=\"Non endémique\",\" \", IF(COUNTRY_INFO!C113=0,\" \",COUNTRY_INFO!C113)))","v":" "},{"$f":"IF(INTRO!$E$39<>\"Non endémique\", 0, IF(INTRO!$E$37=\"Non endémique\",0,IF(COUNTRY_INFO!$H113=1,COUNTRY_INFO!E113,0)))","v":0},{"$f":"IF(INTRO!$E$39<>\"Non endémique\", 0, IF(INTRO!$E$37=\"Non endémique\",0,IF(COUNTRY_INFO!$H113=1,COUNTRY_INFO!F113,0)))","v":0},{"$f":"IF(INTRO!$E$39<>\"Non endémique\", 0, IF(INTRO!$E$37=\"Non endémique\",0,IF(COUNTRY_INFO!$H113=1,COUNTRY_INFO!G113,0)))","v":0},0,{"$f":"IF(INTRO!$E$39=\"Non endémique\",IF(INTRO!$E$37=\"Non endémique\",\"Non requis\",COUNTRY_INFO!V113),\"Traiter avec IVM\")","v":"Traiter avec IVM"},0,0,null,0]
[{"$f":"IF(INTRO!$E$39<>\"Non endémique\", \" \", IF(INTRO!$E$37=\"Non endémique\",\" \", IF(COUNTRY_INFO!A114=0,\" \",COUNTRY_INFO!A114)))","v":" "},{"$f":"IF(INTRO!$E$39<>\"Non endémique\", \" \", IF(INTRO!$E$37=\"Non endémique\",\" \", IF(COUNTRY_INFO!B114=0,\" \",COUNTRY_INFO!B114)))","v":" "},{"$f":"IF(INTRO!$E$39<>\"Non endémique\", \" \", IF(INTRO!$E$37=\"Non endémique\",\" \", IF(COUNTRY_INFO!C114=0,\" \",COUNTRY_INFO!C114)))","v":" "},{"$f":"IF(INTRO!$E$39<>\"Non endémique\", 0, IF(INTRO!$E$37=\"Non endémique\",0,IF(COUNTRY_INFO!$H114=1,COUNTRY_INFO!E114,0)))","v":0},{"$f":"IF(INTRO!$E$39<>\"Non endémique\", 0, IF(INTRO!$E$37=\"Non endémique\",0,IF(COUNTRY_INFO!$H114=1,COUNTRY_INFO!F114,0)))","v":0},{"$f":"IF(INTRO!$E$39<>\"Non endémique\", 0, IF(INTRO!$E$37=\"Non endémique\",0,IF(COUNTRY_INFO!$H114=1,COUNTRY_INFO!G114,0)))","v":0},0,{"$f":"IF(INTRO!$E$39=\"Non endémique\",IF(INTRO!$E$37=\"Non endémique\",\"Non requis\",COUNTRY_INFO!V114),\"Traiter avec IVM\")","v":"Traiter avec IVM"},0,0,null,0]
[{"$f":"IF(INTRO!$E$39<>\"Non endémique\", \" \", IF(INTRO!$E$37=\"Non endémique\",\" \", IF(COUNTRY_INFO!A115=0,\" \",COUNTRY_INFO!A115)))","v":" "},{"$f":"IF(INTRO!$E$39<>\"Non endémique\", \" \", IF(INTRO!$E$37=\"Non endémique\",\" \", IF(COUNTRY_INFO!B115=0,\" \",COUNTRY_INFO!B115)))","v":" "},{"$f":"IF(INTRO!$E$39<>\"Non endémique\", \" \", IF(INTRO!$E$37=\"Non endémique\",\" \", IF(COUNTRY_INFO!C115=0,\" \",COUNTRY_INFO!C115)))","v":" "},{"$f":"IF(INTRO!$E$39<>\"Non endémique\", 0, IF(INTRO!$E$37=\"Non endémique\",0,IF(COUNTRY_INFO!$H115=1,COUNTRY_INFO!E115,0)))","v":0},{"$f":"IF(INTRO!$E$39<>\"Non endémique\", 0, IF(INTRO!$E$37=\"Non endémique\",0,IF(COUNTRY_INFO!$H115=1,COUNTRY_INFO!F115,0)))","v":0},{"$f":"IF(INTRO!$E$39<>\"Non endémique\", 0, IF(INTRO!$E$37=\"Non endémique\",0,IF(COUNTRY_INFO!$H115=1,COUNTRY_INFO!G115,0)))","v":0},0,{"$f":"IF(INTRO!$E$39=\"Non endémique\",IF(INTRO!$E$37=\"Non endémique\",\"Non requis\",COUNTRY_INFO!V115),\"Traiter avec IVM\")","v":"Traiter avec IVM"},0,0,null,0]
[{"$f":"IF(INTRO!$E$39<>\"Non endémique\", \" \", IF(INTRO!$E$37=\"Non endémique\",\" \", IF(COUNTRY_INFO!A116=0,\" \",COUNTRY_INFO!A116)))","v":" "},{"$f":"IF(INTRO!$E$39<>\"Non endémique\", \" \", IF(INTRO!$E$37=\"Non endémique\",\" \", IF(COUNTRY_INFO!B116=0,\" \",COUNTRY_INFO!B116)))","v":" "},{"$f":"IF(INTRO!$E$39<>\"Non endémique\", \" \", IF(INTRO!$E$37=\"Non endémique\",\" \", IF(COUNTRY_INFO!C116=0,\" \",COUNTRY_INFO!C116)))","v":" "},{"$f":"IF(INTRO!$E$39<>\"Non endémique\", 0, IF(INTRO!$E$37=\"Non endémique\",0,IF(COUNTRY_INFO!$H116=1,COUNTRY_INFO!E116,0)))","v":0},{"$f":"IF(INTRO!$E$39<>\"Non endémique\", 0, IF(INTRO!$E$37=\"Non endémique\",0,IF(COUNTRY_INFO!$H116=1,COUNTRY_INFO!F116,0)))","v":0},{"$f":"IF(INTRO!$E$39<>\"Non endémique\", 0, IF(INTRO!$E$37=\"Non endémique\",0,IF(COUNTRY_INFO!$H116=1,COUNTRY_INFO!G116,0)))","v":0},0,{"$f":"IF(INTRO!$E$39=\"Non endémique\",IF(INTRO!$E$37=\"Non endémique\",\"Non requis\",COUNTRY_INFO!V116),\"Traiter avec IVM\")","v":"Traiter avec IVM"},0,0,null,0]
[{"$f":"IF(INTRO!$E$39<>\"Non endémique\", \" \", IF(INTRO!$E$37=\"Non endémique\",\" \", IF(COUNTRY_INFO!A117=0,\" \",COUNTRY_INFO!A117)))","v":" "},{"$f":"IF(INTRO!$E$39<>\"Non endémique\", \" \", IF(INTRO!$E$37=\"Non endémique\",\" \", IF(COUNTRY_INFO!B117=0,\" \",COUNTRY_INFO!B117)))","v":" "},{"$f":"IF(INTRO!$E$39<>\"Non endémique\", \" \", IF(INTRO!$E$37=\"Non endémique\",\" \", IF(COUNTRY_INFO!C117=0,\" \",COUNTRY_INFO!C117)))","v":" "},{"$f":"IF(INTRO!$E$39<>\"Non endémique\", 0, IF(INTRO!$E$37=\"Non endémique\",0,IF(COUNTRY_INFO!$H117=1,COUNTRY_INFO!E117,0)))","v":0},{"$f":"IF(INTRO!$E$39<>\"Non endémique\", 0, IF(INTRO!$E$37=\"Non endémique\",0,IF(COUNTRY_INFO!$H117=1,COUNTRY_INFO!F117,0)))","v":0},{"$f":"IF(INTRO!$E$39<>\"Non endémique\", 0, IF(INTRO!$E$37=\"Non endémique\",0,IF(COUNTRY_INFO!$H117=1,COUNTRY_INFO!G117,0)))","v":0},0,{"$f":"IF(INTRO!$E$39=\"Non endémique\",IF(INTRO!$E$37=\"Non endémique\",\"Non requis\",COUNTRY_INFO!V117),\"Traiter avec IVM\")","v":"Traiter avec IVM"},0,0,null,0]
[{"$f":"IF(INTRO!$E$39<>\"Non endémique\", \" \", IF(INTRO!$E$37=\"Non endémique\",\" \", IF(COUNTRY_INFO!A118=0,\" \",COUNTRY_INFO!A118)))","v":" "},{"$f":"IF(INTRO!$E$39<>\"Non endémique\", \" \", IF(INTRO!$E$37=\"Non endémique\",\" \", IF(COUNTRY_INFO!B118=0,\" \",COUNTRY_INFO!B118)))","v":" "},{"$f":"IF(INTRO!$E$39<>\"Non endémique\", \" \", IF(INTRO!$E$37=\"Non endémique\",\" \", IF(COUNTRY_INFO!C118=0,\" \",COUNTRY_INFO!C118)))","v":" "},{"$f":"IF(INTRO!$E$39<>\"Non endémique\", 0, IF(INTRO!$E$37=\"Non endémique\",0,IF(COUNTRY_INFO!$H118=1,COUNTRY_INFO!E118,0)))","v":0},{"$f":"IF(INTRO!$E$39<>\"Non endémique\", 0, IF(INTRO!$E$37=\"Non endémique\",0,IF(COUNTRY_INFO!$H118=1,COUNTRY_INFO!F118,0)))","v":0},{"$f":"IF(INTRO!$E$39<>\"Non endémique\", 0, IF(INTRO!$E$37=\"Non endémique\",0,IF(COUNTRY_INFO!$H118=1,COUNTRY_INFO!G118,0)))","v":0},0,{"$f":"IF(INTRO!$E$39=\"Non endémique\",IF(INTRO!$E$37=\"Non endémique\",\"Non requis\",COUNTRY_INFO!V118),\"Traiter avec IVM\")","v":"Traiter avec IVM"},0,0,null,0]
[{"$f":"IF(INTRO!$E$39<>\"Non endémique\", \" \", IF(INTRO!$E$37=\"Non endémique\",\" \", IF(COUNTRY_INFO!A119=0,\" \",COUNTRY_INFO!A119)))","v":" "},{"$f":"IF(INTRO!$E$39<>\"Non endémique\", \" \", IF(INTRO!$E$37=\"Non endémique\",\" \", IF(COUNTRY_INFO!B119=0,\" \",COUNTRY_INFO!B119)))","v":" "},{"$f":"IF(INTRO!$E$39<>\"Non endémique\", \" \", IF(INTRO!$E$37=\"Non endémique\",\" \", IF(COUNTRY_INFO!C119=0,\" \",COUNTRY_INFO!C119)))","v":" "},{"$f":"IF(INTRO!$E$39<>\"Non endémique\", 0, IF(INTRO!$E$37=\"Non endémique\",0,IF(COUNTRY_INFO!$H119=1,COUNTRY_INFO!E119,0)))","v":0},{"$f":"IF(INTRO!$E$39<>\"Non endémique\", 0, IF(INTRO!$E$37=\"Non endémique\",0,IF(COUNTRY_INFO!$H119=1,COUNTRY_INFO!F119,0)))","v":0},{"$f":"IF(INTRO!$E$39<>\"Non endémique\", 0, IF(INTRO!$E$37=\"Non endémique\",0,IF(COUNTRY_INFO!$H119=1,COUNTRY_INFO!G119,0)))","v":0},0,{"$f":"IF(INTRO!$E$39=\"Non endémique\",IF(INTRO!$E$37=\"Non endémique\",\"Non requis\",COUNTRY_INFO!V119),\"Traiter avec IVM\")","v":"Traiter avec IVM"},0,0,null,0]
[{"$f":"IF(INTRO!$E$39<>\"Non endémique\", \" \", IF(INTRO!$E$37=\"Non endémique\",\" \", IF(COUNTRY_INFO!A120=0,\" \",COUNTRY_INFO!A120)))","v":" "},{"$f":"IF(INTRO!$E$39<>\"Non endémique\", \" \", IF(INTRO!$E$37=\"Non endémique\",\" \", IF(COUNTRY_INFO!B120=0,\" \",COUNTRY_INFO!B120)))","v":" "},{"$f":"IF(INTRO!$E$39<>\"Non endémique\", \" \", IF(INTRO!$E$37=\"Non endémique\",\" \", IF(COUNTRY_INFO!C120=0,\" \",COUNTRY_INFO!C120)))","v":" "},{"$f":"IF(INTRO!$E$39<>\"Non endémique\", 0, IF(INTRO!$E$37=\"Non endémique\",0,IF(COUNTRY_INFO!$H120=1,COUNTRY_INFO!E120,0)))","v":0},{"$f":"IF(INTRO!$E$39<>\"Non endémique\", 0, IF(INTRO!$E$37=\"Non endémique\",0,IF(COUNTRY_INFO!$H120=1,COUNTRY_INFO!F120,0)))","v":0},{"$f":"IF(INTRO!$E$39<>\"Non endémique\", 0, IF(INTRO!$E$37=\"Non endémique\",0,IF(COUNTRY_INFO!$H120=1,COUNTRY_INFO!G120,0)))","v":0},0,{"$f":"IF(INTRO!$E$39=\"Non endémique\",IF(INTRO!$E$37=\"Non endémique\",\"Non requis\",COUNTRY_INFO!V120),\"Traiter avec IVM\")","v":"Traiter avec IVM"},0,0,null,0]
[{"$f":"IF(INTRO!$E$39<>\"Non endémique\", \" \", IF(INTRO!$E$37=\"Non endémique\",\" \", IF(COUNTRY_INFO!A121=0,\" \",COUNTRY_INFO!A121)))","v":" "},{"$f":"IF(INTRO!$E$39<>\"Non endémique\", \" \", IF(INTRO!$E$37=\"Non endémique\",\" \", IF(COUNTRY_INFO!B121=0,\" \",COUNTRY_INFO!B121)))","v":" "},{"$f":"IF(INTRO!$E$39<>\"Non endémique\", \" \", IF(INTRO!$E$37=\"Non endémique\",\" \", IF(COUNTRY_INFO!C121=0,\" \",COUNTRY_INFO!C121)))","v":" "},{"$f":"IF(INTRO!$E$39<>\"Non endémique\", 0, IF(INTRO!$E$37=\"Non endémique\",0,IF(COUNTRY_INFO!$H121=1,COUNTRY_INFO!E121,0)))","v":0},{"$f":"IF(INTRO!$E$39<>\"Non endémique\", 0, IF(INTRO!$E$37=\"Non endémique\",0,IF(COUNTRY_INFO!$H121=1,COUNTRY_INFO!F121,0)))","v":0},{"$f":"IF(INTRO!$E$39<>\"Non endémique\", 0, IF(INTRO!$E$37=\"Non endémique\",0,IF(COUNTRY_INFO!$H121=1,COUNTRY_INFO!G121,0)))","v":0},0,{"$f":"IF(INTRO!$E$39=\"Non endémique\",IF(INTRO!$E$37=\"Non endémique\",\"Non requis\",COUNTRY_INFO!V121),\"Traiter avec IVM\")","v":"Traiter avec IVM"},0,0,null,0]
[{"$f":"IF(INTRO!$E$39<>\"Non endémique\", \" \", IF(INTRO!$E$37=\"Non endémique\",\" \", IF(COUNTRY_INFO!A122=0,\" \",COUNTRY_INFO!A122)))","v":" "},{"$f":"IF(INTRO!$E$39<>\"Non endémique\", \" \", IF(INTRO!$E$37=\"Non endémique\",\" \", IF(COUNTRY_INFO!B122=0,\" \",COUNTRY_INFO!B122)))","v":" "},{"$f":"IF(INTRO!$E$39<>\"Non endémique\", \" \", IF(INTRO!$E$37=\"Non endémique\",\" \", IF(COUNTRY_INFO!C122=0,\" \",COUNTRY_INFO!C122)))","v":" "},{"$f":"IF(INTRO!$E$39<>\"Non endémique\", 0, IF(INTRO!$E$37=\"Non endémique\",0,IF(COUNTRY_INFO!$H122=1,COUNTRY_INFO!E122,0)))","v":0},{"$f":"IF(INTRO!$E$39<>\"Non endémique\", 0, IF(INTRO!$E$37=\"Non endémique\",0,IF(COUNTRY_INFO!$H122=1,COUNTRY_INFO!F122,0)))","v":0},{"$f":"IF(INTRO!$E$39<>\"Non endémique\", 0, IF(INTRO!$E$37=\"Non endémique\",0,IF(COUNTRY_INFO!$H122=1,COUNTRY_INFO!G122,0)))","v":0},0,{"$f":"IF(INTRO!$E$39=\"Non endémique\",IF(INTRO!$E$37=\"Non endémique\",\"Non requis\",COUNTRY_INFO!V122),\"Traiter avec IVM\")","v":"Traiter avec IVM"},0,0,null,0]

{"sheet":"ALB_MBD","index":3,"n_rows":122,"n_cols":21,"rows_kept":122,"cut":false,"hidden":false,"merged":[[6,9,6,10],[6,11,7,11],[0,6,0,10],[1,6,1,7],[1,9,1,10],[5,6,5,11],[6,6,6,7],[3,0,3,2],[3,3,3,4],[5,0,5,2],[5,3,5,4],[5,5,7,5],[6,0,7,0],[6,1,7,1],[6,2,7,2],[6,3,7,3],[6,4,7,4],[5,12,5,17],[6,20,7,20],[5,18,5,20],[6,18,7,18],[6,19,7,19],[6,16,7,16],[6,17,7,17],[6,15,7,15],[6,12,7,12],[6,13,7,13],[6,14,7,14]]}
["Albendazole (ALB) et Mebendazole (MBD)",null,null,null,null,null,"Choisir le médicament pour le traitement de STH \npour chaque groupe d'âge"]
["Structure administrative, population ciblée par groupe d'âge, plan de traitement et information sur les comprimés",null,null,null,null,null,null,null,"ALB"]
[]
["TOTAL",null,null,null,null,{"$f":"SUBTOTAL(9,F$10:F$1010)","v":1335739},null,{"$f":"SUBTOTAL(9,H$10:H$1010)","v":868173},1740451,null,1650830,4259454,1335739,0,1335739,1740451,0,1740451,0,0,0]
[]
["Structure administrative du pays",null,null,"Plan de traitement",null,"Population couverte par le PEFL avec ALB","Population cible pour STH",null,null,null,null,null,"Albendazole (ALB)",null,null,null,null,null,"Mebendazole (MBD)"]
["Pays","Région/Département","District","FL","STH",null,"EAPréS",null,"EAS","FAP",null,"Total","Total requis (FL)","Reste en stock (FL)","Comprimés devant être fournis (FL)","Total requis (STH)","Reste en stock (STH)","Comprimés devant être fournis (STH)","Total requis","Reste en stock","Comprimés devant être fournis"]
[null,null,null,null,null,null,"Tournées","Personnes","Personnes","Tournées","Personnes"]
[]
[{"$f":"IF(AND(INTRO!$E$37=\"Non endémique\",INTRO!$E$41=\"Non endémique\"),\" \",IF(COUNTRY_INFO!A10=0,\" \",COUNTRY_INFO!A10))","v":"Côte d'Ivoire"},{"$f":"IF(AND(INTRO!$E$37=\"Non endémique\",INTRO!$E$41=\"Non endémique\"),\" \",IF(COUNTRY_INFO!B10=0,\" \",COUNTRY_INFO!B10))","v":"ABIDJAN 1 "},{"$f":"IF(AND(INTRO!$E$37=\"Non endémique\",INTRO!$E$41=\"Non endémique\"),\" \",IF(COUNTRY_INFO!C10=0,\" \",COUNTRY_INFO!C10))","v":"ABOBO EST"},{"$f":"IF(AND(INTRO!$E$37=\"Non endémique\",INTRO!$E$41=\"Non endémique\"),0,COUNTRY_INFO!V10)","v":0},{"$f":"IF(AND(INTRO!$E$37=\"Non endémique\",INTRO!$E$41=\"Non endémique\"),0,COUNTRY_INFO!X10)","v":0},{"$f":"IF(INTRO!$E$39=\"Non endémique\",IF($D10=1,DEC!I10,0),IF($D10=1,IVM!G10,0))","v":0},null,{"$f":"IF(OR(COUNTRY_INFO!N10=\"Inconnu\",COUNTRY_INFO!N10=\"Surveillance\",COUNTRY_INFO!N10=\"Non requis\",COUNTRY_INFO!N10=0),0,IF(INTRO!$E$39=\"Non endémique\",IF(AND($E10<>0,$G10=\"\"),IF($F10=0,COUNTRY_INFO!N10*$E10,COUNTRY_INFO!N10*($E10-$D10)),IF(AND($E10<>0,$G10<>0),IF($F10=0,COUNTRY_INFO!N10*$G10,COUNTRY_INFO!N10*($G10-$D10)),0)),IF($G10=\"\",COUNTRY_INFO!N10*$E10,COUNTRY_INFO!N10*$G10)))","v":0},{"$f":"IF(OR(COUNTRY_INFO!O10=\"Inconnu\",COUNTRY_INFO!O10=\"Surveillance\",COUNTRY_INFO!O10=\"Non requis\",COUNTRY_INFO!O10=0),0,IF($E10<>0, IF($F10=0,COUNTRY_INFO!O10*$E10,COUNTRY_INFO!O10*($E10-$D10)),COUNTRY_INFO!O10*$E10))","v":0},null,{"$f":"IF(OR(COUNTRY_INFO!P10=\"Inconnu\",COUNTRY_INFO!P10=\"Surveillance\",COUNTRY_INFO!P10=\"Non requis\",COUNTRY_INFO!P10=0),0,IF(AND($E10<>0,$J10=\"\"),IF($F10=0,COUNTRY_INFO!P10*$E10,COUNTRY_INFO!P10*($E10-$D10)), IF(AND($E10<>0,$J10<>0),IF($F10=0,COUNTRY_INFO!P10*$J10,COUNTRY_INFO!P10*($J10-$D10)), COUNTRY_INFO!P10*$J10)))","v":0},{"$f":"ROUND($H10,0)+ROUND($I10,0)+ROUND($K10,0)","v":0},{"$f":"$F10","v":0},null,{"$f":"IF($M10>$N10, $M10-$N10,0)","v":0},{"$f":"ROUND((IF($G$2=\"ALB\",$H10,0)+IF($I$2=\"ALB\",$I10,0)+IF($J$2=\"ALB\",$K10,0)),0)","v":0},null,{"$f":"IF($P10>$Q10,$P10-$Q10,0)","v":0},{"$f":"ROUND((IF($G$2=\"MBD\",$H10,0)+IF($I$2=\"MBD\",$I10,0)+IF($J$2=\"MBD\",$K10,0)),0)","v":0},null,{"$f":"IF($S10>$T10,$S10-$T10,0)","v":0}]
[{"$f":"IF(AND(INTRO!$E$37=\"Non endémique\",INTRO!$E$41=\"Non endémique\"),\" \",IF(COUNTRY_INFO!A11=0,\" \",COUNTRY_INFO!A11))","v":"Côte d'Ivoire"},{"$f":"IF(AND(INTRO!$E$37=\"Non endémique\",INTRO!$E$41=\"Non endémique\"),\" \",IF(COUNTRY_INFO!B11=0,\" \",COUNTRY_INFO!B11))","v":"ABIDJAN 1 "},{"$f":"IF(AND(INTRO!$E$37=\"Non endémique\",INTRO!$E$41=\"Non endémique\"),\" \",IF(COUNTRY_INFO!C11=0,\" \",COUNTRY_INFO!C11))","v":"ABOBO OUEST"},{"$f":"IF(AND(INTRO!$E$37=\"Non endémique\",INTRO!$E$41=\"Non endémique\"),0,COUNTRY_INFO!V11)","v":0},{"$f":"IF(AND(INTRO!$E$37=\"Non endémique\",INTRO!$E$41=\"Non endémique\"),0,COUNTRY_INFO!X11)","v":0},{"$f":"IF(INTRO!$E$39=\"Non endémique\",IF($D11=1,DEC!I11,0),IF($D11=1,IVM!G11,0))","v":0},null,{"$f":"IF(OR(COUNTRY_INFO!N11=\"Inconnu\",COUNTRY_INFO!N11=\"Surveillance\",COUNTRY_INFO!N11=\"Non requis\",COUNTRY_INFO!N11=0),0,IF(INTRO!$E$39=\"Non endémique\",IF(AND($E11<>0,$G11=\"\"),IF($F11=0,COUNTRY_INFO!N11*$E11,COUNTRY_INFO!N11*($E11-$D11)),IF(AND($E11<>0,$G11<>0),IF($F11=0,COUNTRY_INFO!N11*$G11,COUNTRY_INFO!N11*($G11-$D11)),0)),IF($G11=\"\",COUNTRY_INFO!N11*$E11,COUNTRY_INFO!N11*$G11)))","v":0},{"$f":"IF(OR(COUNTRY_INFO!O11=\"Inconnu\",COUNTRY_INFO!O11=\"Surveillance\",COUNTRY_INFO!O11=\"Non requis\",COUNTRY_INFO!O11=0),0,IF($E11<>0, IF($F11=0,COUNTRY_INFO!O11*$E11,COUNTRY_INFO!O11*($E11-$D11)),COUNTRY_INFO!O11*$E11))","v":0},null,{"$f":"IF(OR(COUNTRY_INFO!P11=\"Inconnu\",COUNTRY_INFO!P11=\"Surveillance\",COUNTRY_INFO!P11=\"Non requis\",COUNTRY_INFO!P11=0),0,IF(AND($E11<>0,$J11=\"\"),IF($F11=0,COUNTRY_INFO!P11*$E11,COUNTRY_INFO!P11*($E11-$D11)), IF(AND($E11<>0,$J11<>0),IF($F11=0,COUNTRY_INFO!P11*$J11,COUNTRY_INFO!P11*($J11-$D11)), COUNTRY_INFO!P11*$J11)))","v":0},0,0,null,0,0,null,0,0,null,0]
[{"$f":"IF(AND(INTRO!$E$37=\"Non endémique\",INTRO!$E$41=\"Non endémique\"),\" \",IF(COUNTRY_INFO!A12=0,\" \",COUNTRY_INFO!A12))","v":"Côte d'Ivoire"},{"$f":"IF(AND(INTRO!$E$37=\"Non endémique\",INTRO!$E$41=\"Non endémique\"),\" \",IF(COUNTRY_INFO!B12=0,\" \",COUNTRY_INFO!B12))","v":"ABIDJAN 1 "},{"$f":"IF(AND(INTRO!$E$37=\"Non endémique\",INTRO!$E$41=\"Non endémique\"),\" \",IF(COUNTRY_INFO!C12=0,\" \",COUNTRY_INFO!C12))","v":"ANYAMA"},{"$f":"IF(AND(INTRO!$E$37=\"Non endémique\",INTRO!$E$41=\"Non endémique\"),0,COUNTRY_INFO!V12)","v":0},{"$f":"IF(AND(INTRO!$E$37=\"Non endémique\",INTRO!$E$41=\"Non endémique\"),0,COUNTRY_INFO!X12)","v":0},{"$f":"IF(INTRO!$E$39=\"Non endémique\",IF($D12=1,DEC!I12,0),IF($D12=1,IVM!G12,0))","v":0},null,{"$f":"IF(OR(COUNTRY_INFO!N12=\"Inconnu\",COUNTRY_INFO!N12=\"Surveillance\",COUNTRY_INFO!N12=\"Non requis\",COUNTRY_INFO!N12=0),0,IF(INTRO!$E$39=\"Non endémique\",IF(AND($E12<>0,$G12=\"\"),IF($F12=0,COUNTRY_INFO!N12*$E12,COUNTRY_INFO!N12*($E12-$D12)),IF(AND($E12<>0,$G12<>0),IF($F12=0,COUNTRY_INFO!N12*$G12,COUNTRY_INFO!N12*($G12-$D12)),0)),IF($G12=\"\",COUNTRY_INFO!N12*$E12,COUNTRY_INFO!N12*$G12)))","v":0},{"$f":"IF(OR(COUNTRY_INFO!O12=\"Inconnu\",COUNTRY_INFO!O12=\"Surveillance\",COUNTRY_INFO!O12=\"Non requis\",COUNTRY_INFO!O12=0),0,IF($E12<>0, IF($F12=0,COUNTRY_INFO!O12*$E12,COUNTRY_INFO!O12*($E12-$D12)),COUNTRY_INFO!O12*$E12))","v":0},null,{"$f":"IF(OR(COUNTRY_INFO!P12=\"Inconnu\",COUNTRY_INFO!P12=\"Surveillance\",COUNTRY_INFO!P12=\"Non requis\",COUNTRY_INFO!P12=0),0,IF(AND($E12<>0,$J12=\"\"),IF($F12=0,COUNTRY_INFO!P12*$E12,COUNTRY_INFO!P12*($E12-$D12)), IF(AND($E12<>0,$J12<>0),IF($F12=0,COUNTRY_INFO!P12*$J12,COUNTRY_INFO!P12*($J12-$D12)), COUNTRY_INFO!P12*$J12)))","v":0},0,0,null,0,0,null,0,0,null,0]
[{"$f":"IF(AND(INTRO!$E$37=\"Non endémique\",INTRO!$E$41=\"Non endémique\"),\" \",IF(COUNTRY_INFO!A13=0,\" \",COUNTRY_INFO!A13))","v":"Côte d'Ivoire"},{"$f":"IF(AND(INTRO!$E$37=\"Non endémique\",INTRO!$E$41=\"Non endémique\"),\" \",IF(COUNTRY_INFO!B13=0,\" \",COUNTRY_INFO!B13))","v":"ABIDJAN 1 "},{"$f":"IF(AND(INTRO!$E$37=\"Non endémique\",INTRO!$E$41=\"Non endémique\"),\" \",IF(COUNTRY_INFO!C13=0,\" \",COUNTRY_INFO!C13))","v":"YOPOUGON EST"},{"$f":"IF(AND(INTRO!$E$37=\"Non endémique\",INTRO!$E$41=\"Non endémique\"),0,COUNTRY_INFO!V13)","v":0},{"$f":"IF(AND(INTRO!$E$37=\"Non endémique\",INTRO!$E$41=\"Non endémique\"),0,COUNTRY_INFO!X13)","v":0},{"$f":"IF(INTRO!$E$39=\"Non endémique\",IF($D13=1,DEC!I13,0),IF($D13=1,IVM!G13,0))","v":0},null,{"$f":"IF(OR(COUNTRY_INFO!N13=\"Inconnu\",COUNTRY_INFO!N13=\"Surveillance\",COUNTRY_INFO!N13=\"Non requis\",COUNTRY_INFO!N13=0),0,IF(INTRO!$E$39=\"Non endémique\",IF(AND($E13<>0,$G13=\"\"),IF($F13=0,COUNTRY_INFO!N13*$E13,COUNTRY_INFO!N13*($E13-$D13)),IF(AND($E13<>0,$G13<>0),IF($F13=0,COUNTRY_INFO!N13*$G13,COUNTRY_INFO!N13*($G13-$D13)),0)),IF($G13=\"\",COUNTRY_INFO!N13*$E13,COUNTRY_INFO!N13*$G13)))","v":0},{"$f":"IF(OR(COUNTRY_INFO!O13=\"Inconnu\",COUNTRY_INFO!O13=\"Surveillance\",COUNTRY_INFO!O13=\"Non requis\",COUNTRY_INFO!O13=0),0,IF($E13<>0, IF($F13=0,COUNTRY_INFO!O13*$E13,COUNTRY_INFO!O13*($E13-$D13)),COUNTRY_INFO!O13*$E13))","v":0},null,{"$f":"IF(OR(COUNTRY_INFO!P13=\"Inconnu\",COUNTRY_INFO!P13=\"Surveillance\",COUNTRY_INFO!P13=\"Non requis\",COUNTRY_INFO!P13=0),0,IF(AND($E13<>0,$J13=\"\"),IF($F13=0,COUNTRY_INFO!P13*$E13,COUNTRY_INFO!P13*($E13-$D13)), IF(AND($E13<>0,$J13<>0),IF($F13=0,COUNTRY_INFO!P13*$J13,COUNTRY_INFO!P13*($J13-$D13)), COUNTRY_INFO!P13*$J13)))","v":0},0,0,null,0,0,null,0,0,null,0]
[{"$f":"IF(AND(INTRO!$E$37=\"Non endémique\",INTRO!$E$41=\"Non endémique\"),\" \",IF(COUNTRY_INFO!A14=0,\" \",COUNTRY_INFO!A14))","v":"Côte d'Ivoire"},{"$f":"IF(AND(INTRO!$E$37=\"Non endémique\",INTRO!$E$41=\"Non endémique\"),\" \",IF(COUNTRY_INFO!B14=0,\" \",COUNTRY_INFO!B14))","v":"ABIDJAN 1 "},{"$f":"IF(AND(INTRO!$E$37=\"Non endémique\",INTRO!$E$41=\"Non endémique\"),\" \",IF(COUNTRY_INFO!C14=0,\" \",COUNTRY_INFO!C14))","v":"YOPOUGON OUEST"},{"$f":"IF(AND(INTRO!$E$37=\"Non endémique\",INTRO!$E$41=\"Non endémique\"),0,COUNTRY_INFO!V14)","v":0},{"$f":"IF(AND(INTRO!$E$37=\"Non endémique\",INTRO!$E$41=\"Non endémique\"),0,COUNTRY_INFO!X14)","v":0},{"$f":"IF(INTRO!$E$39=\"Non endémique\",IF($D14=1,DEC!I14,0),IF($D14=1,IVM!G14,0))","v":0},null,{"$f":"IF(OR(COUNTRY_INFO!N14=\"Inconnu\",COUNTRY_INFO!N14=\"Surveillance\",COUNTRY_INFO!N14=\"Non requis\",COUNTRY_INFO!N14=0),0,IF(INTRO!$E$39=\"Non endémique\",IF(AND($E14<>0,$G14=\"\"),IF($F14=0,COUNTRY_INFO!N14*$E14,COUNTRY_INFO!N14*($E14-$D14)),IF(AND($E14<>0,$G14<>0),IF($F14=0,COUNTRY_INFO!N14*$G14,COUNTRY_INFO!N14*($G14-$D14)),0)),IF($G14=\"\",COUNTRY_INFO!N14*$E14,COUNTRY_INFO!N14*$G14)))","v":0},{"$f":"IF(OR(COUNTRY_INFO!O14=\"Inconnu\",COUNTRY_INFO!O14=\"Surveillance\",COUNTRY_INFO!O14=\"Non requis\",COUNTRY_INFO!O14=0),0,IF($E14<>0, IF($F14=0,COUNTRY_INFO!O14*$E14,COUNTRY_INFO!O14*($E14-$D14)),COUNTRY_INFO!O14*$E14))","v":0},null,{"$f":"IF(OR(COUNTRY_INFO!P14=\"Inconnu\",COUNTRY_INFO!P14=\"Surveillance\",COUNTRY_INFO!P14=\"Non requis\",COUNTRY_INFO!P14=0),0,IF(AND($E14<>0,$J14=\"\"),IF($F14=0,COUNTRY_INFO!P14*$E14,COUNTRY_INFO!P14*($E14-$D14)), IF(AND($E14<>0,$J14<>0),IF($F14=0,COUNTRY_INFO!P14*$J14,COUNTRY_INFO!P14*($J14-$D14)), COUNTRY_INFO!P14*$J14)))","v":0},0,0,null,0,0,null,0,0,null,0]
[{"$f":"IF(AND(INTRO!$E$37=\"Non endémique\",INTRO!$E$41=\"Non endémique\"),\" \",IF(COUNTRY_INFO!A15=0,\" \",COUNTRY_INFO!A15))","v":"Côte d'Ivoire"},{"$f":"IF(AND(INTRO!$E$37=\"Non endémique\",INTRO!$E$41=\"Non endémique\"),\" \",IF(COUNTRY_INFO!B15=0,\" \",COUNTRY_INFO!B15))","v":"ABIDJAN 2"},{"$f":"IF(AND(INTRO!$E$37=\"Non endémique\",INTRO!$E$41=\"Non endémique\"),\" \",IF(COUNTRY_INFO!C15=0,\" \",COUNTRY_INFO!C15))","v":"ADJAME-PLATEAU-ATTECOUBE"},{"$f":"IF(AND(INTRO!$E$37=\"Non endémique\",INTRO!$E$41=\"Non endémique\"),0,COUNTRY_INFO!V15)","v":0},{"$f":"IF(AND(INTRO!$E$37=\"Non endémique\",INTRO!$E$41=\"Non endémique\"),0,COUNTRY_INFO!X15)","v":0},{"$f":"IF(INTRO!$E$39=\"Non endémique\",IF($D15=1,DEC!I15,0),IF($D15=1,IVM!G15,0))","v":0},null,{"$f":"IF(OR(COUNTRY_INFO!N15=\"Inconnu\",COUNTRY_INFO!N15=\"Surveillance\",COUNTRY_INFO!N15=\"Non requis\",COUNTRY_INFO!N15=0),0,IF(INTRO!$E$39=\"Non endémique\",IF(AND($E15<>0,$G15=\"\"),IF($F15=0,COUNTRY_INFO!N15*$E15,COUNTRY_INFO!N15*($E15-$D15)),IF(AND($E15<>0,$G15<>0),IF($F15=0,COUNTRY_INFO!N15*$G15,COUNTRY_INFO!N15*($G15-$D15)),0)),IF($G15=\"\",COUNTRY_INFO!N15*$E15,COUNTRY_INFO!N15*$G15)))","v":0},{"$f":"IF(OR(COUNTRY_INFO!O15=\"Inconnu\",COUNTRY_INFO!O15=\"Surveillance\",COUNTRY_INFO!O15=\"Non requis\",COUNTRY_INFO!O15=0),0,IF($E15<>0, IF($F15=0,COUNTRY_INFO!O15*$E15,COUNTRY_INFO!O15*($E15-$D15)),COUNTRY_INFO!O15*$E15))","v":0},null,{"$f":"IF(OR(COUNTRY_INFO!P15=\"Inconnu\",COUNTRY_INFO!P15=\"Surveillance\",COUNTRY_INFO!P15=\"Non requis\",COUNTRY_INFO!P15=0),0,IF(AND($E15<>0,$J15=\"\"),IF($F15=0,COUNTRY_INFO!P15*$E15,COUNTRY_INFO!P15*($E15-$D15)), IF(AND($E15<>0,$J15<>0),IF($F15=0,COUNTRY_INFO!P15*$J15,COUNTRY_INFO!P15*($J15-$D15)), COUNTRY_INFO!P15*$J15)))","v":0},0,0,null,0,0,null,0,0,null,0]
[{"$f":"IF(AND(INTRO!$E$37=\"Non endémique\",INTRO!$E$41=\"Non endémique\"),\" \",IF(COUNTRY_INFO!A16=0,\" \",COUNTRY_INFO!A16))","v":"Côte d'Ivoire"},{"$f":"IF(AND(INTRO!$E$37=\"Non endémique\",INTRO!$E$41=\"Non endémique\"),\" \",IF(COUNTRY_INFO!B16=0,\" \",COUNTRY_INFO!B16))","v":"ABIDJAN 2"},{"$f":"IF(AND(INTRO!$E$37=\"Non endémique\",INTRO!$E$41=\"Non endémique\"),\" \",IF(COUNTRY_INFO!C16=0,\" \",COUNTRY_INFO!C16))","v":"COCODY-BINGERVILLE"},{"$f":"IF(AND(INTRO!$E$37=\"Non endémique\",INTRO!$E$41=\"Non endémique\"),0,COUNTRY_INFO!V16)","v":0},{"$f":"IF(AND(INTRO!$E$37=\"Non endémique\",INTRO!$E$41=\"Non endémique\"),0,COUNTRY_INFO!X16)","v":0},{"$f":"IF(INTRO!$E$39=\"Non endémique\",IF($D16=1,DEC!I16,0),IF($D16=1,IVM!G16,0))","v":0},null,{"$f":"IF(OR(COUNTRY_INFO!N16=\"Inconnu\",COUNTRY_INFO!N16=\"Surveillance\",COUNTRY_INFO!N16=\"Non requis\",COUNTRY_INFO!N16=0),0,IF(INTRO!$E$39=\"Non endémique\",IF(AND($E16<>0,$G16=\"\"),IF($F16=0,COUNTRY_INFO!N16*$E16,COUNTRY_INFO!N16*($E16-$D16)),IF(AND($E16<>0,$G16<>0),IF($F16=0,COUNTRY_INFO!N16*$G16,COUNTRY_INFO!N16*($G16-$D16)),0)),IF($G16=\"\",COUNTRY_INFO!N16*$E16,COUNTRY_INFO!N16*$G16)))","v":0},{"$f":"IF(OR(COUNTRY_INFO!O16=\"Inconnu\",COUNTRY_INFO!O16=\"Surveillance\",COUNTRY_INFO!O16=\"Non requis\",COUNTRY_INFO!O16=0),0,IF($E16<>0, IF($F16=0,COUNTRY_INFO!O16*$E16,COUNTRY_INFO!O16*($E16-$D16)),COUNTRY_INFO!O16*$E16))","v":0},null,{"$f":"IF(OR(COUNTRY_INFO!P16=\"Inconnu\",COUNTRY_INFO!P16=\"Surveillance\",COUNTRY_INFO!P16=\"Non requis\",COUNTRY_INFO!P16=0),0,IF(AND($E16<>0,$J16=\"\"),IF($F16=0,COUNTRY_INFO!P16*$E16,COUNTRY_INFO!P16*($E16-$D16)), IF(AND($E16<>0,$J16<>0),IF($F16=0,COUNTRY_INFO!P16*$J16,COUNTRY_INFO!P16*($J16-$D16)), COUNTRY_INFO!P16*$J16)))","v":0},0,0,null,0,0,null,0,0,null,0]
[{"$f":"IF(AND(INTRO!$E$37=\"Non endémique\",INTRO!$E$41=\"Non endémique\"),\" \",IF(COUNTRY_INFO!A17=0,\" \",COUNTRY_INFO!A17))","v":"Côte d'Ivoire"},{"$f":"IF(AND(INTRO!$E$37=\"Non endémique\",INTRO!$E$41=\"Non endémique\"),\" \",IF(COUNTRY_INFO!B17=0,\" \",COUNTRY_INFO!B17))","v":"ABIDJAN 2"},{"$f":"IF(AND(INTRO!$E$37=\"Non endémique\",INTRO!$E$41=\"Non endémique\"),\" \",IF(COUNTRY_INFO!C17=0,\" \",COUNTRY_INFO!C17))","v":"KOUMASSI"},{"$f":"IF(AND(INTRO!$E$37=\"Non endémique\",INTRO!$E$41=\"Non endémique\"),0,COUNTRY_INFO!V17)","v":0},{"$f":"IF(AND(INTRO!$E$37=\"Non endémique\",INTRO!$E$41=\"Non endémique\"),0,COUNTRY_INFO!X17)","v":0},{"$f":"IF(INTRO!$E$39=\"Non endémique\",IF($D17=1,DEC!I17,0),IF($D17=1,IVM!G17,0))","v":0},null,{"$f":"IF(OR(COUNTRY_INFO!N17=\"Inconnu\",COUNTRY_INFO!N17=\"Surveillance\",COUNTRY_INFO!N17=\"Non requis\",COUNTRY_INFO!N17=0),0,IF(INTRO!$E$39=\"Non endémique\",IF(AND($E17<>0,$G17=\"\"),IF($F17=0,COUNTRY_INFO!N17*$E17,COUNTRY_INFO!N17*($E17-$D17)),IF(AND($E17<>0,$G17<>0),IF($F17=0,COUNTRY_INFO!N17*$G17,COUNTRY_INFO!N17*($G17-$D17)),0)),IF($G17=\"\",COUNTRY_INFO!N17*$E17,COUNTRY_INFO!N17*$G17)))","v":0},{"$f":"IF(OR(COUNTRY_INFO!O17=\"Inconnu\",COUNTRY_INFO!O17=\"Surveillance\",COUNTRY_INFO!O17=\"Non requis\",COUNTRY_INFO!O17=0),0,IF($E17<>0, IF($F17=0,COUNTRY_INFO!O17*$E17,COUNTRY_INFO!O17*($E17-$D17)),COUNTRY_INFO!O17*$E17))","v":0},null,{"$f":"IF(OR(COUNTRY_INFO!P17=\"Inconnu\",COUNTRY_INFO!P17=\"Surveillance\",COUNTRY_INFO!P17=\"Non requis\",COUNTRY_INFO!P17=0),0,IF(AND($E17<>0,$J17=\"\"),IF($F17=0,COUNTRY_INFO!P17*$E17,COUNTRY_INFO!P17*($E17-$D17)), IF(AND($E17<>0,$J17<>0),IF($F17=0,COUNTRY_INFO!P17*$J17,COUNTRY_INFO!P17*($J17-$D17)), COUNTRY_INFO!P17*$J17)))","v":0},0,0,null,0,0,null,0,0,null,0]
[{"$f":"IF(AND(INTRO!$E$37=\"Non endémique\",INTRO!$E$41=\"Non endémique\"),\" \",IF(COUNTRY_INFO!A18=0,\" \",COUNTRY_INFO!A18))","v":"Côte d'Ivoire"},{"$f":"IF(AND(INTRO!$E$37=\"Non endémique\",INTRO!$E$41=\"Non endémique\"),\" \",IF(COUNTRY_INFO!B18=0,\" \",COUNTRY_INFO!B18))","v":"ABIDJAN 2"},{"$f":"IF(AND(INTRO!$E$37=\"Non endémique\",INTRO!$E$41=\"Non endémique\"),\" \",IF(COUNTRY_INFO!C18=0,\" \",COUNTRY_INFO!C18))","v":"PORT BOUET-VRIDI"},{"$f":"IF(AND(INTRO!$E$37=\"Non endémique\",INTRO!$E$41=\"Non endémique\"),0,COUNTRY_INFO!V18)","v":0},{"$f":"IF(AND(INTRO!$E$37=\"Non endémique\",INTRO!$E$41=\"Non endémique\"),0,COUNTRY_INFO!X18)","v":0},{"$f":"IF(INTRO!$E$39=\"Non endémique\",IF($D18=1,DEC!I18,0),IF($D18=1,IVM!G18,0))","v":0},null,{"$f":"IF(OR(COUNTRY_INFO!N18=\"Inconnu\",COUNTRY_INFO!N18=\"Surveillance\",COUNTRY_INFO!N18=\"Non requis\",COUNTRY_INFO!N18=0),0,IF(INTRO!$E$39=\"Non endémique\",IF(AND($E18<>0,$G18=\"\"),IF($F18=0,COUNTRY_INFO!N18*$E18,COUNTRY_INFO!N18*($E18-$D18)),IF(AND($E18<>0,$G18<>0),IF($F18=0,COUNTRY_INFO!N18*$G18,COUNTRY_INFO!N18*($G18-$D18)),0)),IF($G18=\"\",COUNTRY_INFO!N18*$E18,COUNTRY_INFO!N18*$G18)))","v":0},{"$f":"IF(OR(COUNTRY_INFO!O18=\"Inconnu\",COUNTRY_INFO!O18=\"Surveillance\",COUNTRY_INFO!O18=\"Non requis\",COUNTRY_INFO!O18=0),0,IF($E18<>0, IF($F18=0,COUNTRY_INFO!O18*$E18,COUNTRY_INFO!O18*($E18-$D18)),COUNTRY_INFO!O18*$E18))","v":0},null,{"$f":"IF(OR(COUNTRY_INFO!P18=\"Inconnu\",COUNTRY_INFO!P18=\"Surveillance\",COUNTRY_INFO!P18=\"Non requis\",COUNTRY_INFO!P18=0),0,IF(AND($E18<>0,$J18=\"\"),IF($F18=0,COUNTRY_INFO!P18*$E18,COUNTRY_INFO!P18*($E18-$D18)), IF(AND($E18<>0,$J18<>0),IF($F18=0,COUNTRY_INFO!P18*$J18,COUNTRY_INFO!P18*($J18-$D18)), COUNTRY_INFO!P18*$J18)))","v":0},0,0,null,0,0,null,0,0,null,0]
[{"$f":"IF(AND(INTRO!$E$37=\"Non endémique\",INTRO!$E$41=\"Non endémique\"),\" \",IF(COUNTRY_INFO!A19=0,\" \",COUNTRY_INFO!A19))","v":"Côte d'Ivoire"},{"$f":"IF(AND(INTRO!$E$37=\"Non endémique\",INTRO!$E$41=\"Non endémique\"),\" \",IF(COUNTRY_INFO!B19=0,\" \",COUNTRY_INFO!B19))","v":"ABIDJAN 2"},{"$f":"IF(AND(INTRO!$E$37=\"Non endémique\",INTRO!$E$41=\"Non endémique\"),\" \",IF(COUNTRY_INFO!C19=0,\" \",COUNTRY_INFO!C19))","v":"TREICHVILLE-MARCORY"},{"$f":"IF(AND(INTRO!$E$37=\"Non endémique\",INTRO!$E$41=\"Non endémique\"),0,COUNTRY_INFO!V19)","v":0},{"$f":"IF(AND(INTRO!$E$37=\"Non endémique\",INTRO!$E$41=\"Non endémique\"),0,COUNTRY_INFO!X19)","v":0},{"$f":"IF(INTRO!$E$39=\"Non endémique\",IF($D19=1,DEC!I19,0),IF($D19=1,IVM!G19,0))","v":0},null,{"$f":"IF(OR(COUNTRY_INFO!N19=\"Inconnu\",COUNTRY_INFO!N19=\"Surveillance\",COUNTRY_INFO!N19=\"Non requis\",COUNTRY_INFO!N19=0),0,IF(INTRO!$E$39=\"Non endémique\",IF(AND($E19<>0,$G19=\"\"),IF($F19=0,COUNTRY_INFO!N19*$E19,COUNTRY_INFO!N19*($E19-$D19)),IF(AND($E19<>0,$G19<>0),IF($F19=0,COUNTRY_INFO!N19*$G19,COUNTRY_INFO!N19*($G19-$D19)),0)),IF($G19=\"\",COUNTRY_INFO!N19*$E19,COUNTRY_INFO!N19*$G19)))","v":0},{"$f":"IF(OR(COUNTRY_INFO!O19=\"Inconnu\",COUNTRY_INFO!O19=\"Surveillance\",COUNTRY_INFO!O19=\"Non requis\",COUNTRY_INFO!O19=0),0,IF($E19<>0, IF($F19=0,COUNTRY_INFO!O19*$E19,COUNTRY_INFO!O19*($E19-$D19)),COUNTRY_INFO!O19*$E19))","v":0},null,{"$f":"IF(OR(COUNTRY_INFO!P19=\"Inconnu\",COUNTRY_INFO!P19=\"Surveillance\",COUNTRY_INFO!P19=\"Non requis\",COUNTRY_INFO!P19=0),0,IF(AND($E19<>0,$J19=\"\"),IF($F19=0,COUNTRY_INFO!P19*$E19,COUNTRY_INFO!P19*($E19-$D19)), IF(AND($E19<>0,$J19<>0),IF($F19=0,COUNTRY_INFO!P19*$J19,COUNTRY_INFO!P19*($J19-$D19)), COUNTRY_INFO!P19*$J19)))","v":0},0,0,null,0,0,null,0,0,null,0]
[{"$f":"IF(AND(INTRO!$E$37=\"Non endémique\",INTRO!$E$41=\"Non endémique\"),\" \",IF(COUNTRY_INFO!A20=0,\" \",COUNTRY_INFO!A20))","v":"Côte d'Ivoire"},{"$f":"IF(AND(INTRO!$E$37=\"Non endémique\",INTRO!$E$41=\"Non endémique\"),\" \",IF(COUNTRY_INFO!B20=0,\" \",COUNTRY_INFO!B20))","v":"AGNEBY-TIASSA"},{"$f":"IF(AND(INTRO!$E$37=\"Non endémique\",INTRO!$E$41=\"Non endémique\"),\" \",IF(COUNTRY_INFO!C20=0,\" \",COUNTRY_INFO!C20))","v":"AGBOVILLE"},{"$f":"IF(AND(INTRO!$E$37=\"Non endémique\",INTRO!$E$41=\"Non endémique\"),0,COUNTRY_INFO!V20)","v":0},{"$f":"IF(AND(INTRO!$E$37=\"Non endémique\",INTRO!$E$41=\"Non endémique\"),0,COUNTRY_INFO!X20)","v":0},{"$f":"IF(INTRO!$E$39=\"Non endémique\",IF($D20=1,DEC!I20,0),IF($D20=1,IVM!G20,0))","v":0},null,{"$f":"IF(OR(COUNTRY_INFO!N20=\"Inconnu\",COUNTRY_INFO!N20=\"Surveillance\",COUNTRY_INFO!N20=\"Non requis\",COUNTRY_INFO!N20=0),0,IF(INTRO!$E$39=\"Non endémique\",IF(AND($E20<>0,$G20=\"\"),IF($F20=0,COUNTRY_INFO!N20*$E20,COUNTRY_INFO!N20*($E20-$D20)),IF(AND($E20<>0,$G20<>0),IF($F20=0,COUNTRY_INFO!N20*$G20,COUNTRY_INFO!N20*($G20-$D20)),0)),IF($G20=\"\",COUNTRY_INFO!N20*$E20,COUNTRY_INFO!N20*$G20)))","v":0},{"$f":"IF(OR(COUNTRY_INFO!O20=\"Inconnu\",COUNTRY_INFO!O20=\"Surveillance\",COUNTRY_INFO!O20=\"Non requis\",COUNTRY_INFO!O20=0),0,IF($E20<>0, IF($F20=0,COUNTRY_INFO!O20*$E20,COUNTRY_INFO!O20*($E20-$D20)),COUNTRY_INFO!O20*$E20))","v":0},null,{"$f":"IF(OR(COUNTRY_INFO!P20=\"Inconnu\",COUNTRY_INFO!P20=\"Surveillance\",COUNTRY_INFO!P20=\"Non requis\",COUNTRY_INFO!P20=0),0,IF(AND($E20<>0,$J20=\"\"),IF($F20=0,COUNTRY_INFO!P20*$E20,COUNTRY_INFO!P20*($E20-$D20)), IF(AND($E20<>0,$J20<>0),IF($F20=0,COUNTRY_INFO!P20*$J20,COUNTRY_INFO!P20*($J20-$D20)), COUNTRY_INFO!P20*$J20)))","v":0},0,0,null,0,0,null,0,0,null,0]
[{"$f":"IF(AND(INTRO!$E$37=\"Non endémique\",INTRO!$E$41=\"Non endémique\"),\" \",IF(COUNTRY_INFO!A21=0,\" \",COUNTRY_INFO!A21))","v":"Côte d'Ivoire"},{"$f":"IF(AND(INTRO!$E$37=\"Non endémique\",INTRO!$E$41=\"Non endémique\"),\" \",IF(COUNTRY_INFO!B21=0,\" \",COUNTRY_INFO!B21))","v":"AGNEBY-TIASSA"},{"$f":"IF(AND(INTRO!$E$37=\"Non endémique\",INTRO!$E$41=\"Non endémique\"),\" \",IF(COUNTRY_INFO!C21=0,\" \",COUNTRY_INFO!C21))","v":"SIKENSI"},{"$f":"IF(AND(INTRO!$E$37=\"Non endémique\",INTRO!$E$41=\"Non endémique\"),0,COUNTRY_INFO!V21)","v":0},{"$f":"IF(AND(INTRO!$E$37=\"Non endémique\",INTRO!$E$41=\"Non endémique\"),0,COUNTRY_INFO!X21)","v":1},{"$f":"IF(INTRO!$E$39=\"Non endémique\",IF($D21=1,DEC!I21,0),IF($D21=1,IVM!G21,0))","v":0},null,{"$f":"IF(OR(COUNTRY_INFO!N21=\"Inconnu\",COUNTRY_INFO!N21=\"Surveillance\",COUNTRY_INFO!N21=\"Non requis\",COUNTRY_INFO!N21=0),0,IF(INTRO!$E$39=\"Non endémique\",IF(AND($E21<>0,$G21=\"\"),IF($F21=0,COUNTRY_INFO!N21*$E21,COUNTRY_INFO!N21*($E21-$D21)),IF(AND($E21<>0,$G21<>0),IF($F21=0,COUNTRY_INFO!N21*$G21,COUNTRY_INFO!N21*($G21-$D21)),0)),IF($G21=\"\",COUNTRY_INFO!N21*$E21,COUNTRY_INFO!N21*$G21)))","v":12446},{"$f":"IF(OR(COUNTRY_INFO!O21=\"Inconnu\",COUNTRY_INFO!O21=\"Surveillance\",COUNTRY_INFO!O21=\"Non requis\",COUNTRY_INFO!O21=0),0,IF($E21<>0, IF($F21=0,COUNTRY_INFO!O21*$E21,COUNTRY_INFO!O21*($E21-$D21)),COUNTRY_INFO!O21*$E21))","v":24951},null,{"$f":"IF(OR(COUNTRY_INFO!P21=\"Inconnu\",COUNTRY_INFO!P21=\"Surveillance\",COUNTRY_INFO!P21=\"Non requis\",COUNTRY_INFO!P21=0),0,IF(AND($E21<>0,$J21=\"\"),IF($F21=0,COUNTRY_INFO!P21*$E21,COUNTRY_INFO!P21*($E21-$D21)), IF(AND($E21<>0,$J21<>0),IF($F21=0,COUNTRY_INFO!P21*$J21,COUNTRY_INFO!P21*($J21-$D21)), COUNTRY_INFO!P21*$J21)))","v":23666},61063,0,null,0,24951,null,24951,0,null,0]
[{"$f":"IF(AND(INTRO!$E$37=\"Non endémique\",INTRO!$E$41=\"Non endémique\"),\" \",IF(COUNTRY_INFO!A22=0,\" \",COUNTRY_INFO!A22))","v":"Côte d'Ivoire"},{"$f":"IF(AND(INTRO!$E$37=\"Non endémique\",INTRO!$E$41=\"Non endémique\"),\" \",IF(COUNTRY_INFO!B22=0,\" \",COUNTRY_INFO!B22))","v":"AGNEBY-TIASSA"},{"$f":"IF(AND(INTRO!$E$37=\"Non endémique\",INTRO!$E$41=\"Non endémique\"),\" \",IF(COUNTRY_INFO!C22=0,\" \",COUNTRY_INFO!C22))","v":"TIASSALE"},{"$f":"IF(AND(INTRO!$E$37=\"Non endémique\",INTRO!$E$41=\"Non endémique\"),0,COUNTRY_INFO!V22)","v":0},{"$f":"IF(AND(INTRO!$E$37=\"Non endémique\",INTRO!$E$41=\"Non endémique\"),0,COUNTRY_INFO!X22)","v":1},{"$f":"IF(INTRO!$E$39=\"Non endémique\",IF($D22=1,DEC!I22,0),IF($D22=1,IVM!G22,0))","v":0},null,{"$f":"IF(OR(COUNTRY_INFO!N22=\"Inconnu\",COUNTRY_INFO!N22=\"Surveillance\",COUNTRY_INFO!N22=\"Non requis\",COUNTRY_INFO!N22=0),0,IF(INTRO!$E$39=\"Non endémique\",IF(AND($E22<>0,$G22=\"\"),IF($F22=0,COUNTRY_INFO!N22*$E22,COUNTRY_INFO!N22*($E22-$D22)),IF(AND($E22<>0,$G22<>0),IF($F22=0,COUNTRY_INFO!N22*$G22,COUNTRY_INFO!N22*($G22-$D22)),0)),IF($G22=\"\",COUNTRY_INFO!N22*$E22,COUNTRY_INFO!N22*$G22)))","v":37494},{"$f":"IF(OR(COUNTRY_INFO!O22=\"Inconnu\",COUNTRY_INFO!O22=\"Surveillance\",COUNTRY_INFO!O22=\"Non requis\",COUNTRY_INFO!O22=0),0,IF($E22<>0, IF($F22=0,COUNTRY_INFO!O22*$E22,COUNTRY_INFO!O22*($E22-$D22)),COUNTRY_INFO!O22*$E22))","v":75165},null,{"$f":"IF(OR(COUNTRY_INFO!P22=\"Inconnu\",COUNTRY_INFO!P22=\"Surveillance\",COUNTRY_INFO!P22=\"Non requis\",COUNTRY_INFO!P22=0),0,IF(AND($E22<>0,$J22=\"\"),IF($F22=0,COUNTRY_INFO!P22*$E22,COUNTRY_INFO!P22*($E22-$D22)), IF(AND($E22<>0,$J22<>0),IF($F22=0,COUNTRY_INFO!P22*$J22,COUNTRY_INFO!P22*($J22-$D22)), COUNTRY_INFO!P22*$J22)))","v":71295},183954,0,null,0,75165,null,75165,0,null,0]
[{"$f":"IF(AND(INTRO!$E$37=\"Non endémique\",INTRO!$E$41=\"Non endémique\"),\" \",IF(COUNTRY_INFO!A23=0,\" \",COUNTRY_INFO!A23))","v":"Côte d'Ivoire"},{"$f":"IF(AND(INTRO!$E$37=\"Non endémique\",INTRO!$E$41=\"Non endémique\"),\" \",IF(COUNTRY_INFO!B23=0,\" \",COUNTRY_INFO!B23))","v":"BAFING"},{"$f":"IF(AND(INTRO!$E$37=\"Non endémique\",INTRO!$E$41=\"Non endémique\"),\" \",IF(COUNTRY_INFO!C23=0,\" \",COUNTRY_INFO!C23))","v":"KORO"},{"$f":"IF(AND(INTRO!$E$37=\"Non endémique\",INTRO!$E$41=\"Non endémique\"),0,COUNTRY_INFO!V23)","v":0},{"$f":"IF(AND(INTRO!$E$37=\"Non endémique\",INTRO!$E$41=\"Non endémique\"),0,COUNTRY_INFO!X23)","v":1},{"$f":"IF(INTRO!$E$39=\"Non endémique\",IF($D23=1,DEC!I23,0),IF($D23=1,IVM!G23,0))","v":0},null,{"$f":"IF(OR(COUNTRY_INFO!N23=\"Inconnu\",COUNTRY_INFO!N23=\"Surveillance\",COUNTRY_INFO!N23=\"Non requis\",COUNTRY_INFO!N23=0),0,IF(INTRO!$E$39=\"Non endémique\",IF(AND($E23<>0,$G23=\"\"),IF($F23=0,COUNTRY_INFO!N23*$E23,COUNTRY_INFO!N23*($E23-$D23)),IF(AND($E23<>0,$G23<>0),IF($F23=0,COUNTRY_INFO!N23*$G23,COUNTRY_INFO!N23*($G23-$D23)),0)),IF($G23=\"\",COUNTRY_INFO!N23*$E23,COUNTRY_INFO!N23*$G23)))","v":9768},{"$f":"IF(OR(COUNTRY_INFO!O23=\"Inconnu\",COUNTRY_INFO!O23=\"Surveillance\",COUNTRY_INFO!O23=\"Non requis\",COUNTRY_INFO!O23=0),0,IF($E23<>0, IF($F23=0,COUNTRY_INFO!O23*$E23,COUNTRY_INFO!O23*($E23-$D23)),COUNTRY_INFO!O23*$E23))","v":19583},null,{"$f":"IF(OR(COUNTRY_INFO!P23=\"Inconnu\",COUNTRY_INFO!P23=\"Surveillance\",COUNTRY_INFO!P23=\"Non requis\",COUNTRY_INFO!P23=0),0,IF(AND($E23<>0,$J23=\"\"),IF($F23=0,COUNTRY_INFO!P23*$E23,COUNTRY_INFO!P23*($E23-$D23)), IF(AND($E23<>0,$J23<>0),IF($F23=0,COUNTRY_INFO!P23*$J23,COUNTRY_INFO!P23*($J23-$D23)), COUNTRY_INFO!P23*$J23)))","v":18574},47925,0,null,0,19583,null,19583,0,null,0]
[{"$f":"IF(AND(INTRO!$E$37=\"Non endémique\",INTRO!$E$41=\"Non endémique\"),\" \",IF(COUNTRY_INFO!A24=0,\" \",COUNTRY_INFO!A24))","v":"Côte d'Ivoire"},{"$f":"IF(AND(INTRO!$E$37=\"Non endémique\",INTRO!$E$41=\"Non endémique\"),\" \",IF(COUNTRY_INFO!B24=0,\" \",COUNTRY_INFO!B24))","v":"BAFING"},{"$f":"IF(AND(INTRO!$E$37=\"Non endémique\",INTRO!$E$41=\"Non endémique\"),\" \",IF(COUNTRY_INFO!C24=0,\" \",COUNTRY_INFO!C24))","v":"OUANINOU"},{"$f":"IF(AND(INTRO!$E$37=\"Non endémique\",INTRO!$E$41=\"Non endémique\"),0,COUNTRY_INFO!V24)","v":0},{"$f":"IF(AND(INTRO!$E$37=\"Non endémique\",INTRO!$E$41=\"Non endémique\"),0,COUNTRY_INFO!X24)","v":1},{"$f":"IF(INTRO!$E$39=\"Non endémique\",IF($D24=1,DEC!I24,0),IF($D24=1,IVM!G24,0))","v":0},null,{"$f":"IF(OR(COUNTRY_INFO!N24=\"Inconnu\",COUNTRY_INFO!N24=\"Surveillance\",COUNTRY_INFO!N24=\"Non requis\",COUNTRY_INFO!N24=0),0,IF(INTRO!$E$39=\"Non endémique\",IF(AND($E24<>0,$G24=\"\"),IF($F24=0,COUNTRY_INFO!N24*$E24,COUNTRY_INFO!N24*($E24-$D24)),IF(AND($E24<>0,$G24<>0),IF($F24=0,COUNTRY_INFO!N24*$G24,COUNTRY_INFO!N24*($G24-$D24)),0)),IF($G24=\"\",COUNTRY_INFO!N24*$E24,COUNTRY_INFO!N24*$G24)))","v":8052},{"$f":"IF(OR(COUNTRY_INFO!O24=\"Inconnu\",COUNTRY_INFO!O24=\"Surveillance\",COUNTRY_INFO!O24=\"Non requis\",COUNTRY_INFO!O24=0),0,IF($E24<>0, IF($F24=0,COUNTRY_INFO!O24*$E24,COUNTRY_INFO!O24*($E24-$D24)),COUNTRY_INFO!O24*$E24))","v":16141},null,{"$f":"IF(OR(COUNTRY_INFO!P24=\"Inconnu\",COUNTRY_INFO!P24=\"Surveillance\",COUNTRY_INFO!P24=\"Non requis\",COUNTRY_INFO!P24=0),0,IF(AND($E24<>0,$J24=\"\"),IF($F24=0,COUNTRY_INFO!P24*$E24,COUNTRY_INFO!P24*($E24-$D24)), IF(AND($E24<>0,$J24<>0),IF($F24=0,COUNTRY_INFO!P24*$J24,COUNTRY_INFO!P24*($J24-$D24)), COUNTRY_INFO!P24*$J24)))","v":15310},39503,0,null,0,16141,null,16141,0,null,0]
[{"$f":"IF(AND(INTRO!$E$37=\"Non endémique\",INTRO!$E$41=\"Non endémique\"),\" \",IF(COUNTRY_INFO!A25=0,\" \",COUNTRY_INFO!A25))","v":"Côte d'Ivoire"},{"$f":"IF(AND(INTRO!$E$37=\"Non endémique\",INTRO!$E$41=\"Non endémique\"),\" \",IF(COUNTRY_INFO!B25=0,\" \",COUNTRY_INFO!B25))","v":"BAFING"},{"$f":"IF(AND(INTRO!$E$37=\"Non endémique\",INTRO!$E$41=\"Non endémique\"),\" \",IF(COUNTRY_INFO!C25=0,\" \",COUNTRY_INFO!C25))","v":"TOUBA"},{"$f":"IF(AND(INTRO!$E$37=\"Non endémique\",INTRO!$E$41=\"Non endémique\"),0,COUNTRY_INFO!V25)","v":0},{"$f":"IF(AND(INTRO!$E$37=\"Non endémique\",INTRO!$E$41=\"Non endémique\"),0,COUNTRY_INFO!X25)","v":1},{"$f":"IF(INTRO!$E$39=\"Non endémique\",IF($D25=1,DEC!I25,0),IF($D25=1,IVM!G25,0))","v":0},null,{"$f":"IF(OR(COUNTRY_INFO!N25=\"Inconnu\",COUNTRY_INFO!N25=\"Surveillance\",COUNTRY_INFO!N25=\"Non requis\",COUNTRY_INFO!N25=0),0,IF(INTRO!$E$39=\"Non endémique\",IF(AND($E25<>0,$G25=\"\"),IF($F25=0,COUNTRY_INFO!N25*$E25,COUNTRY_INFO!N25*($E25-$D25)),IF(AND($E25<>0,$G25<>0),IF($F25=0,COUNTRY_INFO!N25*$G25,COUNTRY_INFO!N25*($G25-$D25)),0)),IF($G25=\"\",COUNTRY_INFO!N25*$E25,COUNTRY_INFO!N25*$G25)))","v":12379},{"$f":"IF(OR(COUNTRY_INFO!O25=\"Inconnu\",COUNTRY_INFO!O25=\"Surveillance\",COUNTRY_INFO!O25=\"Non requis\",COUNTRY_INFO!O25=0),0,IF($E25<>0, IF($F25=0,COUNTRY_INFO!O25*$E25,COUNTRY_INFO!O25*($E25-$D25)),COUNTRY_INFO!O25*$E25))","v":24816},null,{"$f":"IF(OR(COUNTRY_INFO!P25=\"Inconnu\",COUNTRY_INFO!P25=\"Surveillance\",COUNTRY_INFO!P25=\"Non requis\",COUNTRY_INFO!P25=0),0,IF(AND($E25<>0,$J25=\"\"),IF($F25=0,COUNTRY_INFO!P25*$E25,COUNTRY_INFO!P25*($E25-$D25)), IF(AND($E25<>0,$J25<>0),IF($F25=0,COUNTRY_INFO!P25*$J25,COUNTRY_INFO!P25*($J25-$D25)), COUNTRY_INFO!P25*$J25)))","v":23538},60733,0,null,0,24816,null,24816,0,null,0]
[{"$f":"IF(AND(INTRO!$E$37=\"Non endémique\",INTRO!$E$41=\"Non endémique\"),\" \",IF(COUNTRY_INFO!A26=0,\" \",COUNTRY_INFO!A26))","v":"Côte d'Ivoire"},{"$f":"IF(AND(INTRO!$E$37=\"Non endémique\",INTRO!$E$41=\"Non endémique\"),\" \",IF(COUNTRY_INFO!B26=0,\" \",COUNTRY_INFO!B26))","v":"BAGOUE"},{"$f":"IF(AND(INTRO!$E$37=\"Non endémique\",INTRO!$E$41=\"Non endémique\"),\" \",IF(COUNTRY_INFO!C26=0,\" \",COUNTRY_INFO!C26))","v":"BOUNDIALI"},{"$f":"IF(AND(INTRO!$E$37=\"Non endémique\",INTRO!$E$41=\"Non endémique\"),0,COUNTRY_INFO!V26)","v":0},{"$f":"IF(AND(INTRO!$E$37=\"Non endémique\",INTRO!$E$41=\"Non endémique\"),0,COUNTRY_INFO!X26)","v":0},{"$f":"IF(INTRO!$E$39=\"Non endémique\",IF($D26=1,DEC!I26,0),IF($D26=1,IVM!G26,0))","v":0},null,{"$f":"IF(OR(COUNTRY_INFO!N26=\"Inconnu\",COUNTRY_INFO!N26=\"Surveillance\",COUNTRY_INFO!N26=\"Non requis\",COUNTRY_INFO!N26=0),0,IF(INTRO!$E$39=\"Non endémique\",IF(AND($E26<>0,$G26=\"\"),IF($F26=0,COUNTRY_INFO!N26*$E26,COUNTRY_INFO!N26*($E26-$D26)),IF(AND($E26<>0,$G26<>0),IF($F26=0,COUNTRY_INFO!N26*$G26,COUNTRY_INFO!N26*($G26-$D26)),0)),IF($G26=\"\",COUNTRY_INFO!N26*$E26,COUNTRY_INFO!N26*$G26)))","v":0},{"$f":"IF(OR(COUNTRY_INFO!O26=\"Inconnu\",COUNTRY_INFO!O26=\"Surveillance\",COUNTRY_INFO!O26=\"Non requis\",COUNTRY_INFO!O26=0),0,IF($E26<>0, IF($F26=0,COUNTRY_INFO!O26*$E26,COUNTRY_INFO!O26*($E26-$D26)),COUNTRY_INFO!O26*$E26))","v":0},null,{"$f":"IF(OR(COUNTRY_INFO!P26=\"Inconnu\",COUNTRY_INFO!P26=\"Surveillance\",COUNTRY_INFO!P26=\"Non requis\",COUNTRY_INFO!P26=0),0,IF(AND($E26<>0,$J26=\"\"),IF($F26=0,COUNTRY_INFO!P26*$E26,COUNTRY_INFO!P26*($E26-$D26)), IF(AND($E26<>0,$J26<>0),IF($F26=0,COUNTRY_INFO!P26*$J26,COUNTRY_INFO!P26*($J26-$D26)), COUNTRY_INFO!P26*$J26)))","v":0},0,0,null,0,0,null,0,0,null,0]
[{"$f":"IF(AND(INTRO!$E$37=\"Non endémique\",INTRO!$E$41=\"Non endémique\"),\" \",IF(COUNTRY_INFO!A27=0,\" \",COUNTRY_INFO!A27))","v":"Côte d'Ivoire"},{"$f":"IF(AND(INTRO!$E$37=\"Non endémique\",INTRO!$E$41=\"Non endémique\"),\" \",IF(COUNTRY_INFO!B27=0,\" \",COUNTRY_INFO!B27))","v":"BAGOUE"},{"$f":"IF(AND(INTRO!$E$37=\"Non endémique\",INTRO!$E$41=\"Non endémique\"),\" \",IF(COUNTRY_INFO!C27=0,\" \",COUNTRY_INFO!C27))","v":"KOUTO"},{"$f":"IF(AND(INTRO!$E$37=\"Non endémique\",INTRO!$E$41=\"Non endémique\"),0,COUNTRY_INFO!V27)","v":0},{"$f":"IF(AND(INTRO!$E$37=\"Non endémique\",INTRO!$E$41=\"Non endémique\"),0,COUNTRY_INFO!X27)","v":0},{"$f":"IF(INTRO!$E$39=\"Non endémique\",IF($D27=1,DEC!I27,0),IF($D27=1,IVM!G27,0))","v":0},null,{"$f":"IF(OR(COUNTRY_INFO!N27=\"Inconnu\",COUNTRY_INFO!N27=\"Surveillance\",COUNTRY_INFO!N27=\"Non requis\",COUNTRY_INFO!N27=0),0,IF(INTRO!$E$39=\"Non endémique\",IF(AND($E27<>0,$G27=\"\"),IF($F27=0,COUNTRY_INFO!N27*$E27,COUNTRY_INFO!N27*($E27-$D27)),IF(AND($E27<>0,$G27<>0),IF($F27=0,COUNTRY_INFO!N27*$G27,COUNTRY_INFO!N27*($G27-$D27)),0)),IF($G27=\"\",COUNTRY_INFO!N27*$E27,COUNTRY_INFO!N27*$G27)))","v":0},{"$f":"IF(OR(COUNTRY_INFO!O27=\"Inconnu\",COUNTRY_INFO!O27=\"Surveillance\",COUNTRY_INFO!O27=\"Non requis\",COUNTRY_INFO!O27=0),0,IF($E27<>0, IF($F27=0,COUNTRY_INFO!O27*$E27,COUNTRY_INFO!O27*($E27-$D27)),COUNTRY_INFO!O27*$E27))","v":0},null,{"$f":"IF(OR(COUNTRY_INFO!P27=\"Inconnu\",COUNTRY_INFO!P27=\"Surveillance\",COUNTRY_INFO!P27=\"Non requis\",COUNTRY_INFO!P27=0),0,IF(AND($E27<>0,$J27=\"\"),IF($F27=0,COUNTRY_INFO!P27*$E27,COUNTRY_INFO!P27*($E27-$D27)), IF(AND($E27<>0,$J27<>0),IF($F27=0,COUNTRY_INFO!P27*$J27,COUNTRY_INFO!P27*($J27-$D27)), COUNTRY_INFO!P27*$J27)))","v":0},0,0,null,0,0,null,0,0,null,0]
[{"$f":"IF(AND(INTRO!$E$37=\"Non endémique\",INTRO!$E$41=\"Non endémique\"),\" \",IF(COUNTRY_INFO!A28=0,\" \",COUNTRY_INFO!A28))","v":"Côte d'Ivoire"},{"$f":"IF(AND(INTRO!$E$37=\"Non endémique\",INTRO!$E$41=\"Non endémique\"),\" \",IF(COUNTRY_INFO!B28=0,\" \",COUNTRY_INFO!B28))","v":"BAGOUE"},{"$f":"IF(AND(INTRO!$E$37=\"Non endémique\",INTRO!$E$41=\"Non endémique\"),\" \",IF(COUNTRY_INFO!C28=0,\" \",COUNTRY_INFO!C28))","v":"TENGRELA"},{"$f":"IF(AND(INTRO!$E$37=\"Non endémique\",INTRO!$E$41=\"Non endémique\"),0,COUNTRY_INFO!V28)","v":0},{"$f":"IF(AND(INTRO!$E$37=\"Non endémique\",INTRO!$E$41=\"Non endémique\"),0,COUNTRY_INFO!X28)","v":0},{"$f":"IF(INTRO!$E$39=\"Non endémique\",IF($D28=1,DEC!I28,0),IF($D28=1,IVM!G28,0))","v":0},null,{"$f":"IF(OR(COUNTRY_INFO!N28=\"Inconnu\",COUNTRY_INFO!N28=\"Surveillance\",COUNTRY_INFO!N28=\"Non requis\",COUNTRY_INFO!N28=0),0,IF(INTRO!$E$39=\"Non endémique\",IF(AND($E28<>0,$G28=\"\"),IF($F28=0,COUNTRY_INFO!N28*$E28,COUNTRY_INFO!N28*($E28-$D28)),IF(AND($E28<>0,$G28<>0),IF($F28=0,COUNTRY_INFO!N28*$G28,COUNTRY_INFO!N28*($G28-$D28)),0)),IF($G28=\"\",COUNTRY_INFO!N28*$E28,COUNTRY_INFO!N28*$G28)))","v":0},{"$f":"IF(OR(COUNTRY_INFO!O28=\"Inconnu\",COUNTRY_INFO!O28=\"Surveillance\",COUNTRY_INFO!O28=\"Non requis\",COUNTRY_INFO!O28=0),0,IF($E28<>0, IF($F28=0,COUNTRY_INFO!O28*$E28,COUNTRY_INFO!O28*($E28-$D28)),COUNTRY_INFO!O28*$E28))","v":0},null,{"$f":"IF(OR(COUNTRY_INFO!P28=\"Inconnu\",COUNTRY_INFO!P28=\"Surveillance\",COUNTRY_INFO!P28=\"Non requis\",COUNTRY_INFO!P28=0),0,IF(AND($E28<>0,$J28=\"\"),IF($F28=0,COUNTRY_INFO!P28*$E28,COUNTRY_INFO!P28*($E28-$D28)), IF(AND($E28<>0,$J28<>0),IF($F28=0,COUNTRY_INFO!P28*$J28,COUNTRY_INFO!P28*($J28-$D28)), COUNTRY_INFO!P28*$J28)))","v":0},0,0,null,0,0,null,0,0,null,0]
[{"$f":"IF(AND(INTRO!$E$37=\"Non endémique\",INTRO!$E$41=\"Non endémique\"),\" \",IF(COUNTRY_INFO!A29=0,\" \",COUNTRY_INFO!A29))","v":"Côte d'Ivoire"},{"$f":"IF(AND(INTRO!$E$37=\"Non endémique\",INTRO!$E$41=\"Non endémique\"),\" \",IF(COUNTRY_INFO!B29=0,\" \",COUNTRY_INFO!B29))","v":"BELIER"},{"$f":"IF(AND(INTRO!$E$37=\"Non endémique\",INTRO!$E$41=\"Non endémique\"),\" \",IF(COUNTRY_INFO!C29=0,\" \",COUNTRY_INFO!C29))","v":"DIDIEVI"},{"$f":"IF(AND(INTRO!$E$37=\"Non endémique\",INTRO!$E$41=\"Non endémique\"),0,COUNTRY_INFO!V29)","v":0},{"$f":"IF(AND(INTRO!$E$37=\"Non endémique\",INTRO!$E$41=\"Non endémique\"),0,COUNTRY_INFO!X29)","v":1},{"$f":"IF(INTRO!$E$39=\"Non endémique\",IF($D29=1,DEC!I29,0),IF($D29=1,IVM!G29,0))","v":0},null,{"$f":"IF(OR(COUNTRY_INFO!N29=\"Inconnu\",COUNTRY_INFO!N29=\"Surveillance\",COUNTRY_INFO!N29=\"Non requis\",COUNTRY_INFO!N29=0),0,IF(INTRO!$E$39=\"Non endémique\",IF(AND($E29<>0,$G29=\"\"),IF($F29=0,COUNTRY_INFO!N29*$E29,COUNTRY_INFO!N29*($E29-$D29)),IF(AND($E29<>0,$G29<>0),IF($F29=0,COUNTRY_INFO!N29*$G29,COUNTRY_INFO!N29*($G29-$D29)),0)),IF($G29=\"\",COUNTRY_INFO!N29*$E29,COUNTRY_INFO!N29*$G29)))","v":15024},{"$f":"IF(OR(COUNTRY_INFO!O29=\"Inconnu\",COUNTRY_INFO!O29=\"Surveillance\",COUNTRY_INFO!O29=\"Non requis\",COUNTRY_INFO!O29=0),0,IF($E29<>0, IF($F29=0,COUNTRY_INFO!O29*$E29,COUNTRY_INFO!O29*($E29-$D29)),COUNTRY_INFO!O29*$E29))","v":30119},null,{"$f":"IF(OR(COUNTRY_INFO!P29=\"Inconnu\",COUNTRY_INFO!P29=\"Surveillance\",COUNTRY_INFO!P29=\"Non requis\",COUNTRY_INFO!P29=0),0,IF(AND($E29<>0,$J29=\"\"),IF($F29=0,COUNTRY_INFO!P29*$E29,COUNTRY_INFO!P29*($E29-$D29)), IF(AND($E29<>0,$J29<>0),IF($F29=0,COUNTRY_INFO!P29*$J29,COUNTRY_INFO!P29*($J29-$D29)), COUNTRY_INFO!P29*$J29)))","v":28568},73711,0,null,0,30119,null,30119,0,null,0]
[{"$f":"IF(AND(INTRO!$E$37=\"Non endémique\",INTRO!$E$41=\"Non endémique\"),\" \",IF(COUNTRY_INFO!A30=0,\" \",COUNTRY_INFO!A30))","v":"Côte d'Ivoire"},{"$f":"IF(AND(INTRO!$E$37=\"Non endémique\",INTRO!$E$41=\"Non endémique\"),\" \",IF(COUNTRY_INFO!B30=0,\" \",COUNTRY_INFO!B30))","v":"BELIER"},{"$f":"IF(AND(INTRO!$E$37=\"Non endémique\",INTRO!$E$41=\"Non endémique\"),\" \",IF(COUNTRY_INFO!C30=0,\" \",COUNTRY_INFO!C30))","v":"TIEBISSOU"},{"$f":"IF(AND(INTRO!$E$37=\"Non endémique\",INTRO!$E$41=\"Non endémique\"),0,COUNTRY_INFO!V30)","v":0},{"$f":"IF(AND(INTRO!$E$37=\"Non endémique\",INTRO!$E$41=\"Non endémique\"),0,COUNTRY_INFO!X30)","v":1},{"$f":"IF(INTRO!$E$39=\"Non endémique\",IF($D30=1,DEC!I30,0),IF($D30=1,IVM!G30,0))","v":0},null,{"$f":"IF(OR(COUNTRY_INFO!N30=\"Inconnu\",COUNTRY_INFO!N30=\"Surveillance\",COUNTRY_INFO!N30=\"Non requis\",COUNTRY_INFO!N30=0),0,IF(INTRO!$E$39=\"Non endémique\",IF(AND($E30<>0,$G30=\"\"),IF($F30=0,COUNTRY_INFO!N30*$E30,COUNTRY_INFO!N30*($E30-$D30)),IF(AND($E30<>0,$G30<>0),IF($F30=0,COUNTRY_INFO!N30*$G30,COUNTRY_INFO!N30*($G30-$D30)),0)),IF($G30=\"\",COUNTRY_INFO!N30*$E30,COUNTRY_INFO!N30*$G30)))","v":15831},{"$f":"IF(OR(COUNTRY_INFO!O30=\"Inconnu\",COUNTRY_INFO!O30=\"Surveillance\",COUNTRY_INFO!O30=\"Non requis\",COUNTRY_INFO!O30=0),0,IF($E30<>0, IF($F30=0,COUNTRY_INFO!O30*$E30,COUNTRY_INFO!O30*($E30-$D30)),COUNTRY_INFO!O30*$E30))","v":31737},null,{"$f":"IF(OR(COUNTRY_INFO!P30=\"Inconnu\",COUNTRY_INFO!P30=\"Surveillance\",COUNTRY_INFO!P30=\"Non requis\",COUNTRY_INFO!P30=0),0,IF(AND($E30<>0,$J30=\"\"),IF($F30=0,COUNTRY_INFO!P30*$E30,COUNTRY_INFO!P30*($E30-$D30)), IF(AND($E30<>0,$J30<>0),IF($F30=0,COUNTRY_INFO!P30*$J30,COUNTRY_INFO!P30*($J30-$D30)), COUNTRY_INFO!P30*$J30)))","v":30103},77671,0,null,0,31737,null,31737,0,null,0]
[{"$f":"IF(AND(INTRO!$E$37=\"Non endémique\",INTRO!$E$41=\"Non endémique\"),\" \",IF(COUNTRY_INFO!A31=0,\" \",COUNTRY_INFO!A31))","v":"Côte d'Ivoire"},{"$f":"IF(AND(INTRO!$E$37=\"Non endémique\",INTRO!$E$41=\"Non endémique\"),\" \",IF(COUNTRY_INFO!B31=0,\" \",COUNTRY_INFO!B31))","v":"BELIER"},{"$f":"IF(AND(INTRO!$E$37=\"Non endémique\",INTRO!$E$41=\"Non endémique\"),\" \",IF(COUNTRY_INFO!C31=0,\" \",COUNTRY_INFO!C31))","v":"TOUMODI"},{"$f":"IF(AND(INTRO!$E$37=\"Non endémique\",INTRO!$E$41=\"Non endémique\"),0,COUNTRY_INFO!V31)","v":0},{"$f":"IF(AND(INTRO!$E$37=\"Non endémique\",INTRO!$E$41=\"Non endémique\"),0,COUNTRY_INFO!X31)","v":1},{"$f":"IF(INTRO!$E$39=\"Non endémique\",IF($D31=1,DEC!I31,0),IF($D31=1,IVM!G31,0))","v":0},null,{"$f":"IF(OR(COUNTRY_INFO!N31=\"Inconnu\",COUNTRY_INFO!N31=\"Surveillance\",COUNTRY_INFO!N31=\"Non requis\",COUNTRY_INFO!N31=0),0,IF(INTRO!$E$39=\"Non endémique\",IF(AND($E31<>0,$G31=\"\"),IF($F31=0,COUNTRY_INFO!N31*$E31,COUNTRY_INFO!N31*($E31-$D31)),IF(AND($E31<>0,$G31<>0),IF($F31=0,COUNTRY_INFO!N31*$G31,COUNTRY_INFO!N31*($G31-$D31)),0)),IF($G31=\"\",COUNTRY_INFO!N31*$E31,COUNTRY_INFO!N31*$G31)))","v":24746},{"$f":"IF(OR(COUNTRY_INFO!O31=\"Inconnu\",COUNTRY_INFO!O31=\"Surveillance\",COUNTRY_INFO!O31=\"Non requis\",COUNTRY_INFO!O31=0),0,IF($E31<>0, IF($F31=0,COUNTRY_INFO!O31*$E31,COUNTRY_INFO!O31*($E31-$D31)),COUNTRY_INFO!O31*$E31))","v":49610},null,{"$f":"IF(OR(COUNTRY_INFO!P31=\"Inconnu\",COUNTRY_INFO!P31=\"Surveillance\",COUNTRY_INFO!P31=\"Non requis\",COUNTRY_INFO!P31=0),0,IF(AND($E31<>0,$J31=\"\"),IF($F31=0,COUNTRY_INFO!P31*$E31,COUNTRY_INFO!P31*($E31-$D31)), IF(AND($E31<>0,$J31<>0),IF($F31=0,COUNTRY_INFO!P31*$J31,COUNTRY_INFO!P31*($J31-$D31)), COUNTRY_INFO!P31*$J31)))","v":47055},121411,0,null,0,49610,null,49610,0,null,0]
[{"$f":"IF(AND(INTRO!$E$37=\"Non endémique\",INTRO!$E$41=\"Non endémique\"),\" \",IF(COUNTRY_INFO!A32=0,\" \",COUNTRY_INFO!A32))","v":"Côte d'Ivoire"},{"$f":"IF(AND(INTRO!$E$37=\"Non endémique\",INTRO!$E$41=\"Non endémique\"),\" \",IF(COUNTRY_INFO!B32=0,\" \",COUNTRY_INFO!B32))","v":"BELIER"},{"$f":"IF(AND(INTRO!$E$37=\"Non endémique\",INTRO!$E$41=\"Non endémique\"),\" \",IF(COUNTRY_INFO!C32=0,\" \",COUNTRY_INFO!C32))","v":"YAMOUSSOUKRO"},{"$f":"IF(AND(INTRO!$E$37=\"Non endémique\",INTRO!$E$41=\"Non endémique\"),0,COUNTRY_INFO!V32)","v":0},{"$f":"IF(AND(INTRO!$E$37=\"Non endémique\",INTRO!$E$41=\"Non endémique\"),0,COUNTRY_INFO!X32)","v":1},{"$f":"IF(INTRO!$E$39=\"Non endémique\",IF($D32=1,DEC!I32,0),IF($D32=1,IVM!G32,0))","v":0},null,{"$f":"IF(OR(COUNTRY_INFO!N32=\"Inconnu\",COUNTRY_INFO!N32=\"Surveillance\",COUNTRY_INFO!N32=\"Non requis\",COUNTRY_INFO!N32=0),0,IF(INTRO!$E$39=\"Non endémique\",IF(AND($E32<>0,$G32=\"\"),IF($F32=0,COUNTRY_INFO!N32*$E32,COUNTRY_INFO!N32*($E32-$D32)),IF(AND($E32<>0,$G32<>0),IF($F32=0,COUNTRY_INFO!N32*$G32,COUNTRY_INFO!N32*($G32-$D32)),0)),IF($G32=\"\",COUNTRY_INFO!N32*$E32,COUNTRY_INFO!N32*$G32)))","v":56616},{"$f":"IF(OR(COUNTRY_INFO!O32=\"Inconnu\",COUNTRY_INFO!O32=\"Surveillance\",COUNTRY_INFO!O32=\"Non requis\",COUNTRY_INFO!O32=0),0,IF($E32<>0, IF($F32=0,COUNTRY_INFO!O32*$E32,COUNTRY_INFO!O32*($E32-$D32)),COUNTRY_INFO!O32*$E32))","v":113499},null,{"$f":"IF(OR(COUNTRY_INFO!P32=\"Inconnu\",COUNTRY_INFO!P32=\"Surveillance\",COUNTRY_INFO!P32=\"Non requis\",COUNTRY_INFO!P32=0),0,IF(AND($E32<>0,$J32=\"\"),IF($F32=0,COUNTRY_INFO!P32*$E32,COUNTRY_INFO!P32*($E32-$D32)), IF(AND($E32<>0,$J32<>0),IF($F32=0,COUNTRY_INFO!P32*$J32,COUNTRY_INFO!P32*($J32-$D32)), COUNTRY_INFO!P32*$J32)))","v":107655},277770,0,null,0,113499,null,113499,0,null,0]
[{"$f":"IF(AND(INTRO!$E$37=\"Non endémique\",INTRO!$E$41=\"Non endémique\"),\" \",IF(COUNTRY_INFO!A33=0,\" \",COUNTRY_INFO!A33))","v":"Côte d'Ivoire"},{"$f":"IF(AND(INTRO!$E$37=\"Non endémique\",INTRO!$E$41=\"Non endémique\"),\" \",IF(COUNTRY_INFO!B33=0,\" \",COUNTRY_INFO!B33))","v":"BERE"},{"$f":"IF(AND(INTRO!$E$37=\"Non endémique\",INTRO!$E$41=\"Non endémique\"),\" \",IF(COUNTRY_INFO!C33=0,\" \",COUNTRY_INFO!C33))","v":"DIANRA"},{"$f":"IF(AND(INTRO!$E$37=\"Non endémique\",INTRO!$E$41=\"Non endémique\"),0,COUNTRY_INFO!V33)","v":0},{"$f":"IF(AND(INTRO!$E$37=\"Non endémique\",INTRO!$E$41=\"Non endémique\"),0,COUNTRY_INFO!X33)","v":1},{"$f":"IF(INTRO!$E$39=\"Non endémique\",IF($D33=1,DEC!I33,0),IF($D33=1,IVM!G33,0))","v":0},null,{"$f":"IF(OR(COUNTRY_INFO!N33=\"Inconnu\",COUNTRY_INFO!N33=\"Surveillance\",COUNTRY_INFO!N33=\"Non requis\",COUNTRY_INFO!N33=0),0,IF(INTRO!$E$39=\"Non endémique\",IF(AND($E33<>0,$G33=\"\"),IF($F33=0,COUNTRY_INFO!N33*$E33,COUNTRY_INFO!N33*($E33-$D33)),IF(AND($E33<>0,$G33<>0),IF($F33=0,COUNTRY_INFO!N33*$G33,COUNTRY_INFO!N33*($G33-$D33)),0)),IF($G33=\"\",COUNTRY_INFO!N33*$E33,COUNTRY_INFO!N33*$G33)))","v":15587},{"$f":"IF(OR(COUNTRY_INFO!O33=\"Inconnu\",COUNTRY_INFO!O33=\"Surveillance\",COUNTRY_INFO!O33=\"Non requis\",COUNTRY_INFO!O33=0),0,IF($E33<>0, IF($F33=0,COUNTRY_INFO!O33*$E33,COUNTRY_INFO!O33*($E33-$D33)),COUNTRY_INFO!O33*$E33))","v":31247},null,{"$f":"IF(OR(COUNTRY_INFO!P33=\"Inconnu\",COUNTRY_INFO!P33=\"Surveillance\",COUNTRY_INFO!P33=\"Non requis\",COUNTRY_INFO!P33=0),0,IF(AND($E33<>0,$J33=\"\"),IF($F33=0,COUNTRY_INFO!P33*$E33,COUNTRY_INFO!P33*($E33-$D33)), IF(AND($E33<>0,$J33<>0),IF($F33=0,COUNTRY_INFO!P33*$J33,COUNTRY_INFO!P33*($J33-$D33)), COUNTRY_INFO!P33*$J33)))","v":29638},76472,0,null,0,31247,null,31247,0,null,0]
[{"$f":"IF(AND(INTRO!$E$37=\"Non endémique\",INTRO!$E$41=\"Non endémique\"),\" \",IF(COUNTRY_INFO!A34=0,\" \",COUNTRY_INFO!A34))","v":"Côte d'Ivoire"},{"$f":"IF(AND(INTRO!$E$37=\"Non endémique\",INTRO!$E$41=\"Non endémique\"),\" \",IF(COUNTRY_INFO!B34=0,\" \",COUNTRY_INFO!B34))","v":"BERE"},{"$f":"IF(AND(INTRO!$E$37=\"Non endémique\",INTRO!$E$41=\"Non endémique\"),\" \",IF(COUNTRY_INFO!C34=0,\" \",COUNTRY_INFO!C34))","v":"KOUNAHIRI"},{"$f":"IF(AND(INTRO!$E$37=\"Non endémique\",INTRO!$E$41=\"Non endémique\"),0,COUNTRY_INFO!V34)","v":0},{"$f":"IF(AND(INTRO!$E$37=\"Non endémique\",INTRO!$E$41=\"Non endémique\"),0,COUNTRY_INFO!X34)","v":1},{"$f":"IF(INTRO!$E$39=\"Non endémique\",IF($D34=1,DEC!I34,0),IF($D34=1,IVM!G34,0))","v":0},null,{"$f":"IF(OR(COUNTRY_INFO!N34=\"Inconnu\",COUNTRY_INFO!N34=\"Surveillance\",COUNTRY_INFO!N34=\"Non requis\",COUNTRY_INFO!N34=0),0,IF(INTRO!$E$39=\"Non endémique\",IF(AND($E34<>0,$G34=\"\"),IF($F34=0,COUNTRY_INFO!N34*$E34,COUNTRY_INFO!N34*($E34-$D34)),IF(AND($E34<>0,$G34<>0),IF($F34=0,COUNTRY_INFO!N34*$G34,COUNTRY_INFO!N34*($G34-$D34)),0)),IF($G34=\"\",COUNTRY_INFO!N34*$E34,COUNTRY_INFO!N34*$G34)))","v":12537},{"$f":"IF(OR(COUNTRY_INFO!O34=\"Inconnu\",COUNTRY_INFO!O34=\"Surveillance\",COUNTRY_INFO!O34=\"Non requis\",COUNTRY_INFO!O34=0),0,IF($E34<>0, IF($F34=0,COUNTRY_INFO!O34*$E34,COUNTRY_INFO!O34*($E34-$D34)),COUNTRY_INFO!O34*$E34))","v":25132},null,{"$f":"IF(OR(COUNTRY_INFO!P34=\"Inconnu\",COUNTRY_INFO!P34=\"Surveillance\",COUNTRY_INFO!P34=\"Non requis\",COUNTRY_INFO!P34=0),0,IF(AND($E34<>0,$J34=\"\"),IF($F34=0,COUNTRY_INFO!P34*$E34,COUNTRY_INFO!P34*($E34-$D34)), IF(AND($E34<>0,$J34<>0),IF($F34=0,COUNTRY_INFO!P34*$J34,COUNTRY_INFO!P34*($J34-$D34)), COUNTRY_INFO!P34*$J34)))","v":23838},61507,0,null,0,25132,null,25132,0,null,0]
[{"$f":"IF(AND(INTRO!$E$37=\"Non endémique\",INTRO!$E$41=\"Non endémique\"),\" \",IF(COUNTRY_INFO!A35=0,\" \",COUNTRY_INFO!A35))","v":"Côte d'Ivoire"},{"$f":"IF(AND(INTRO!$E$37=\"Non endémique\",INTRO!$E$41=\"Non endémique\"),\" \",IF(COUNTRY_INFO!B35=0,\" \",COUNTRY_INFO!B35))","v":"BERE"},{"$f":"IF(AND(INTRO!$E$37=\"Non endémique\",INTRO!$E$41=\"Non endémique\"),\" \",IF(COUNTRY_INFO!C35=0,\" \",COUNTRY_INFO!C35))","v":"MANKONO"},{"$f":"IF(AND(INTRO!$E$37=\"Non endémique\",INTRO!$E$41=\"Non endémique\"),0,COUNTRY_INFO!V35)","v":0},{"$f":"IF(AND(INTRO!$E$37=\"Non endémique\",INTRO!$E$41=\"Non endémique\"),0,COUNTRY_INFO!X35)","v":1},{"$f":"IF(INTRO!$E$39=\"Non endémique\",IF($D35=1,DEC!I35,0),IF($D35=1,IVM!G35,0))","v":0},null,{"$f":"IF(OR(COUNTRY_INFO!N35=\"Inconnu\",COUNTRY_INFO!N35=\"Surveillance\",COUNTRY_INFO!N35=\"Non requis\",COUNTRY_INFO!N35=0),0,IF(INTRO!$E$39=\"Non endémique\",IF(AND($E35<>0,$G35=\"\"),IF($F35=0,COUNTRY_INFO!N35*$E35,COUNTRY_INFO!N35*($E35-$D35)),IF(AND($E35<>0,$G35<>0),IF($F35=0,COUNTRY_INFO!N35*$G35,COUNTRY_INFO!N35*($G35-$D35)),0)),IF($G35=\"\",COUNTRY_INFO!N35*$E35,COUNTRY_INFO!N35*$G35)))","v":34779},{"$f":"IF(OR(COUNTRY_INFO!O35=\"Inconnu\",COUNTRY_INFO!O35=\"Surveillance\",COUNTRY_INFO!O35=\"Non requis\",COUNTRY_INFO!O35=0),0,IF($E35<>0, IF($F35=0,COUNTRY_INFO!O35*$E35,COUNTRY_INFO!O35*($E35-$D35)),COUNTRY_INFO!O35*$E35))","v":69723},null,{"$f":"IF(OR(COUNTRY_INFO!P35=\"Inconnu\",COUNTRY_INFO!P35=\"Surveillance\",COUNTRY_INFO!P35=\"Non requis\",COUNTRY_INFO!P35=0),0,IF(AND($E35<>0,$J35=\"\"),IF($F35=0,COUNTRY_INFO!P35*$E35,COUNTRY_INFO!P35*($E35-$D35)), IF(AND($E35<>0,$J35<>0),IF($F35=0,COUNTRY_INFO!P35*$J35,COUNTRY_INFO!P35*($J35-$D35)), COUNTRY_INFO!P35*$J35)))","v":66133},170635,0,null,0,69723,null,69723,0,null,0]
[{"$f":"IF(AND(INTRO!$E$37=\"Non endémique\",INTRO!$E$41=\"Non endémique\"),\" \",IF(COUNTRY_INFO!A36=0,\" \",COUNTRY_INFO!A36))","v":"Côte d'Ivoire"},{"$f":"IF(AND(INTRO!$E$37=\"Non endémique\",INTRO!$E$41=\"Non endémique\"),\" \",IF(COUNTRY_INFO!B36=0,\" \",COUNTRY_INFO!B36))","v":"BOUKANI"},{"$f":"IF(AND(INTRO!$E$37=\"Non endémique\",INTRO!$E$41=\"Non endémique\"),\" \",IF(COUNTRY_INFO!C36=0,\" \",COUNTRY_INFO!C36))","v":"BOUNA"},{"$f":"IF(AND(INTRO!$E$37=\"Non endémique\",INTRO!$E$41=\"Non endémique\"),0,COUNTRY_INFO!V36)","v":0},{"$f":"IF(AND(INTRO!$E$37=\"Non endémique\",INTRO!$E$41=\"Non endémique\"),0,COUNTRY_INFO!X36)","v":0},{"$f":"IF(INTRO!$E$39=\"Non endémique\",IF($D36=1,DEC!I36,0),IF($D36=1,IVM!G36,0))","v":0},null,{"$f":"IF(OR(COUNTRY_INFO!N36=\"Inconnu\",COUNTRY_INFO!N36=\"Surveillance\",COUNTRY_INFO!N36=\"Non requis\",COUNTRY_INFO!N36=0),0,IF(INTRO!$E$39=\"Non endémique\",IF(AND($E36<>0,$G36=\"\"),IF($F36=0,COUNTRY_INFO!N36*$E36,COUNTRY_INFO!N36*($E36-$D36)),IF(AND($E36<>0,$G36<>0),IF($F36=0,COUNTRY_INFO!N36*$G36,COUNTRY_INFO!N36*($G36-$D36)),0)),IF($G36=\"\",COUNTRY_INFO!N36*$E36,COUNTRY_INFO!N36*$G36)))","v":0},{"$f":"IF(OR(COUNTRY_INFO!O36=\"Inconnu\",COUNTRY_INFO!O36=\"Surveillance\",COUNTRY_INFO!O36=\"Non requis\",COUNTRY_INFO!O36=0),0,IF($E36<>0, IF($F36=0,COUNTRY_INFO!O36*$E36,COUNTRY_INFO!O36*($E36-$D36)),COUNTRY_INFO!O36*$E36))","v":0},null,{"$f":"IF(OR(COUNTRY_INFO!P36=\"Inconnu\",COUNTRY_INFO!P36=\"Surveillance\",COUNTRY_INFO!P36=\"Non requis\",COUNTRY_INFO!P36=0),0,IF(AND($E36<>0,$J36=\"\"),IF($F36=0,COUNTRY_INFO!P36*$E36,COUNTRY_INFO!P36*($E36-$D36)), IF(AND($E36<>0,$J36<>0),IF($F36=0,COUNTRY_INFO!P36*$J36,COUNTRY_INFO!P36*($J36-$D36)), COUNTRY_INFO!P36*$J36)))","v":0},0,0,null,0,0,null,0,0,null,0]
[{"$f":"IF(AND(INTRO!$E$37=\"Non endémique\",INTRO!$E$41=\"Non endémique\"),\" \",IF(COUNTRY_INFO!A37=0,\" \",COUNTRY_INFO!A37))","v":"Côte d'Ivoire"},{"$f":"IF(AND(INTRO!$E$37=\"Non endémique\",INTRO!$E$41=\"Non endémique\"),\" \",IF(COUNTRY_INFO!B37=0,\" \",COUNTRY_INFO!B37))","v":"BOUKANI"},{"$f":"IF(AND(INTRO!$E$37=\"Non endémique\",INTRO!$E$41=\"Non endémique\"),\" \",IF(COUNTRY_INFO!C37=0,\" \",COUNTRY_INFO!C37))","v":"DOROPO"},{"$f":"IF(AND(INTRO!$E$37=\"Non endémique\",INTRO!$E$41=\"Non endémique\"),0,COUNTRY_INFO!V37)","v":1},{"$f":"IF(AND(INTRO!$E$37=\"Non endémique\",INTRO!$E$41=\"Non endémique\"),0,COUNTRY_INFO!X37)","v":0},{"$f":"IF(INTRO!$E$39=\"Non endémique\",IF($D37=1,DEC!I37,0),IF($D37=1,IVM!G37,0))","v":70481},null,{"$f":"IF(OR(COUNTRY_INFO!N37=\"Inconnu\",COUNTRY_INFO!N37=\"Surveillance\",COUNTRY_INFO!N37=\"Non requis\",COUNTRY_INFO!N37=0),0,IF(INTRO!$E$39=\"Non endémique\",IF(AND($E37<>0,$G37=\"\"),IF($F37=0,COUNTRY_INFO!N37*$E37,COUNTRY_INFO!N37*($E37-$D37)),IF(AND($E37<>0,$G37<>0),IF($F37=0,COUNTRY_INFO!N37*$G37,COUNTRY_INFO!N37*($G37-$D37)),0)),IF($G37=\"\",COUNTRY_INFO!N37*$E37,COUNTRY_INFO!N37*$G37)))","v":0},{"$f":"IF(OR(COUNTRY_INFO!O37=\"Inconnu\",COUNTRY_INFO!O37=\"Surveillance\",COUNTRY_INFO!O37=\"Non requis\",COUNTRY_INFO!O37=0),0,IF($E37<>0, IF($F37=0,COUNTRY_INFO!O37*$E37,COUNTRY_INFO!O37*($E37-$D37)),COUNTRY_INFO!O37*$E37))","v":0},null,{"$f":"IF(OR(COUNTRY_INFO!P37=\"Inconnu\",COUNTRY_INFO!P37=\"Surveillance\",COUNTRY_INFO!P37=\"Non requis\",COUNTRY_INFO!P37=0),0,IF(AND($E37<>0,$J37=\"\"),IF($F37=0,COUNTRY_INFO!P37*$E37,COUNTRY_INFO!P37*($E37-$D37)), IF(AND($E37<>0,$J37<>0),IF($F37=0,COUNTRY_INFO!P37*$J37,COUNTRY_INFO!P37*($J37-$D37)), COUNTRY_INFO!P37*$J37)))","v":0},0,70481,null,70481,0,null,0,0,null,0]
[{"$f":"IF(AND(INTRO!$E$37=\"Non endémique\",INTRO!$E$41=\"Non endémique\"),\" \",IF(COUNTRY_INFO!A38=0,\" \",COUNTRY_INFO!A38))","v":"Côte d'Ivoire"},{"$f":"IF(AND(INTRO!$E$37=\"Non endémique\",INTRO!$E$41=\"Non endémique\"),\" \",IF(COUNTRY_INFO!B38=0,\" \",COUNTRY_INFO!B38))","v":"BOUKANI"},{"$f":"IF(AND(INTRO!$E$37=\"Non endémique\",INTRO!$E$41=\"Non endémique\"),\" \",IF(COUNTRY_INFO!C38=0,\" \",COUNTRY_INFO!C38))","v":"NASSIAN"},{"$f":"IF(AND(INTRO!$E$37=\"Non endémique\",INTRO!$E$41=\"Non endémique\"),0,COUNTRY_INFO!V38)","v":0},{"$f":"IF(AND(INTRO!$E$37=\"Non endémique\",INTRO!$E$41=\"Non endémique\"),0,COUNTRY_INFO!X38)","v":1},{"$f":"IF(INTRO!$E$39=\"Non endémique\",IF($D38=1,DEC!I38,0),IF($D38=1,IVM!G38,0))","v":0},null,{"$f":"IF(OR(COUNTRY_INFO!N38=\"Inconnu\",COUNTRY_INFO!N38=\"Surveillance\",COUNTRY_INFO!N38=\"Non requis\",COUNTRY_INFO!N38=0),0,IF(INTRO!$E$39=\"Non endémique\",IF(AND($E38<>0,$G38=\"\"),IF($F38=0,COUNTRY_INFO!N38*$E38,COUNTRY_INFO!N38*($E38-$D38)),IF(AND($E38<>0,$G38<>0),IF($F38=0,COUNTRY_INFO!N38*$G38,COUNTRY_INFO!N38*($G38-$D38)),0)),IF($G38=\"\",COUNTRY_INFO!N38*$E38,COUNTRY_INFO!N38*$G38)))","v":7129},{"$f":"IF(OR(COUNTRY_INFO!O38=\"Inconnu\",COUNTRY_INFO!O38=\"Surveillance\",COUNTRY_INFO!O38=\"Non requis\",COUNTRY_INFO!O38=0),0,IF($E38<>0, IF($F38=0,COUNTRY_INFO!O38*$E38,COUNTRY_INFO!O38*($E38-$D38)),COUNTRY_INFO!O38*$E38))","v":14292},null,{"$f":"IF(OR(COUNTRY_INFO!P38=\"Inconnu\",COUNTRY_INFO!P38=\"Surveillance\",COUNTRY_INFO!P38=\"Non requis\",COUNTRY_INFO!P38=0),0,IF(AND($E38<>0,$J38=\"\"),IF($F38=0,COUNTRY_INFO!P38*$E38,COUNTRY_INFO!P38*($E38-$D38)), IF(AND($E38<>0,$J38<>0),IF($F38=0,COUNTRY_INFO!P38*$J38,COUNTRY_INFO!P38*($J38-$D38)), COUNTRY_INFO!P38*$J38)))","v":13556},34977,0,null,0,14292,null,14292,0,null,0]
[{"$f":"IF(AND(INTRO!$E$37=\"Non endémique\",INTRO!$E$41=\"Non endémique\"),\" \",IF(COUNTRY_INFO!A39=0,\" \",COUNTRY_INFO!A39))","v":"Côte d'Ivoire"},{"$f":"IF(AND(INTRO!$E$37=\"Non endémique\",INTRO!$E$41=\"Non endémique\"),\" \",IF(COUNTRY_INFO!B39=0,\" \",COUNTRY_INFO!B39))","v":"BOUKANI"},{"$f":"IF(AND(INTRO!$E$37=\"Non endémique\",INTRO!$E$41=\"Non endémique\"),\" \",IF(COUNTRY_INFO!C39=0,\" \",COUNTRY_INFO!C39))","v":"TEHINI"},{"$f":"IF(AND(INTRO!$E$37=\"Non endémique\",INTRO!$E$41=\"Non endémique\"),0,COUNTRY_INFO!V39)","v":1},{"$f":"IF(AND(INTRO!$E$37=\"Non endémique\",INTRO!$E$41=\"Non endémique\"),0,COUNTRY_INFO!X39)","v":0},{"$f":"IF(INTRO!$E$39=\"Non endémique\",IF($D39=1,DEC!I39,0),IF($D39=1,IVM!G39,0))","v":43718},null,{"$f":"IF(OR(COUNTRY_INFO!N39=\"Inconnu\",COUNTRY_INFO!N39=\"Surveillance\",COUNTRY_INFO!N39=\"Non requis\",COUNTRY_INFO!N39=0),0,IF(INTRO!$E$39=\"Non endémique\",IF(AND($E39<>0,$G39=\"\"),IF($F39=0,COUNTRY_INFO!N39*$E39,COUNTRY_INFO!N39*($E39-$D39)),IF(AND($E39<>0,$G39<>0),IF($F39=0,COUNTRY_INFO!N39*$G39,COUNTRY_INFO!N39*($G39-$D39)),0)),IF($G39=\"\",COUNTRY_INFO!N39*$E39,COUNTRY_INFO!N39*$G39)))","v":0},{"$f":"IF(OR(COUNTRY_INFO!O39=\"Inconnu\",COUNTRY_INFO!O39=\"Surveillance\",COUNTRY_INFO!O39=\"Non requis\",COUNTRY_INFO!O39=0),0,IF($E39<>0, IF($F39=0,COUNTRY_INFO!O39*$E39,COUNTRY_INFO!O39*($E39-$D39)),COUNTRY_INFO!O39*$E39))","v":0},null,{"$f":"IF(OR(COUNTRY_INFO!P39=\"Inconnu\",COUNTRY_INFO!P39=\"Surveillance\",COUNTRY_INFO!P39=\"Non requis\",COUNTRY_INFO!P39=0),0,IF(AND($E39<>0,$J39=\"\"),IF($F39=0,COUNTRY_INFO!P39*$E39,COUNTRY_INFO!P39*($E39-$D39)), IF(AND($E39<>0,$J39<>0),IF($F39=0,COUNTRY_INFO!P39*$J39,COUNTRY_INFO!P39*($J39-$D39)), COUNTRY_INFO!P39*$J39)))","v":0},0,43718,null,43718,0,null,0,0,null,0]
[{"$f":"IF(AND(INTRO!$E$37=\"Non endémique\",INTRO!$E$41=\"Non endémique\"),\" \",IF(COUNTRY_INFO!A40=0,\" \",COUNTRY_INFO!A40))","v":"Côte d'Ivoire"},{"$f":"IF(AND(INTRO!$E$37=\"Non endémique\",INTRO!$E$41=\"Non endémique\"),\" \",IF(COUNTRY_INFO!B40=0,\" \",COUNTRY_INFO!B40))","v":"CAVALLY"},{"$f":"IF(AND(INTRO!$E$37=\"Non endémique\",INTRO!$E$41=\"Non endémique\"),\" \",IF(COUNTRY_INFO!C40=0,\" \",COUNTRY_INFO!C40))","v":"BLOLEQUIN"},{"$f":"IF(AND(INTRO!$E$37=\"Non endémique\",INTRO!$E$41=\"Non endémique\"),0,COUNTRY_INFO!V40)","v":0},{"$f":"IF(AND(INTRO!$E$37=\"Non endémique\",INTRO!$E$41=\"Non endémique\"),0,COUNTRY_INFO!X40)","v":0},{"$f":"IF(INTRO!$E$39=\"Non endémique\",IF($D40=1,DEC!I40,0),IF($D40=1,IVM!G40,0))","v":0},null,{"$f":"IF(OR(COUNTRY_INFO!N40=\"Inconnu\",COUNTRY_INFO!N40=\"Surveillance\",COUNTRY_INFO!N40=\"Non requis\",COUNTRY_INFO!N40=0),0,IF(INTRO!$E$39=\"Non endémique\",IF(AND($E40<>0,$G40=\"\"),IF($F40=0,COUNTRY_INFO!N40*$E40,COUNTRY_INFO!N40*($E40-$D40)),IF(AND($E40<>0,$G40<>0),IF($F40=0,COUNTRY_INFO!N40*$G40,COUNTRY_INFO!N40*($G40-$D40)),0)),IF($G40=\"\",COUNTRY_INFO!N40*$E40,COUNTRY_INFO!N40*$G40)))","v":0},{"$f":"IF(OR(COUNTRY_INFO!O40=\"Inconnu\",COUNTRY_INFO!O40=\"Surveillance\",COUNTRY_INFO!O40=\"Non requis\",COUNTRY_INFO!O40=0),0,IF($E40<>0, IF($F40=0,COUNTRY_INFO!O40*$E40,COUNTRY_INFO!O40*($E40-$D40)),COUNTRY_INFO!O40*$E40))","v":0},null,{"$f":"IF(OR(COUNTRY_INFO!P40=\"Inconnu\",COUNTRY_INFO!P40=\"Surveillance\",COUNTRY_INFO!P40=\"Non requis\",COUNTRY_INFO!P40=0),0,IF(AND($E40<>0,$J40=\"\"),IF($F40=0,COUNTRY_INFO!P40*$E40,COUNTRY_INFO!P40*($E40-$D40)), IF(AND($E40<>0,$J40<>0),IF($F40=0,COUNTRY_INFO!P40*$J40,COUNTRY_INFO!P40*($J40-$D40)), COUNTRY_INFO!P40*$J40)))","v":0},0,0,null,0,0,null,0,0,null,0]
[{"$f":"IF(AND(INTRO!$E$37=\"Non endémique\",INTRO!$E$41=\"Non endémique\"),\" \",IF(COUNTRY_INFO!A41=0,\" \",COUNTRY_INFO!A41))","v":"Côte d'Ivoire"},{"$f":"IF(AND(INTRO!$E$37=\"Non endémique\",INTRO!$E$41=\"Non endémique\"),\" \",IF(COUNTRY_INFO!B41=0,\" \",COUNTRY_INFO!B41))","v":"CAVALLY"},{"$f":"IF(AND(INTRO!$E$37=\"Non endémique\",INTRO!$E$41=\"Non endémique\"),\" \",IF(COUNTRY_INFO!C41=0,\" \",COUNTRY_INFO!C41))","v":"GUIGLO"},{"$f":"IF(AND(INTRO!$E$37=\"Non endémique\",INTRO!$E$41=\"Non endémique\"),0,COUNTRY_INFO!V41)","v":0},{"$f":"IF(AND(INTRO!$E$37=\"Non endémique\",INTRO!$E$41=\"Non endémique\"),0,COUNTRY_INFO!X41)","v":0},{"$f":"IF(INTRO!$E$39=\"Non endémique\",IF($D41=1,DEC!I41,0),IF($D41=1,IVM!G41,0))","v":0},null,{"$f":"IF(OR(COUNTRY_INFO!N41=\"Inconnu\",COUNTRY_INFO!N41=\"Surveillance\",COUNTRY_INFO!N41=\"Non requis\",COUNTRY_INFO!N41=0),0,IF(INTRO!$E$39=\"Non endémique\",IF(AND($E41<>0,$G41=\"\"),IF($F41=0,COUNTRY_INFO!N41*$E41,COUNTRY_INFO!N41*($E41-$D41)),IF(AND($E41<>0,$G41<>0),IF($F41=0,COUNTRY_INFO!N41*$G41,COUNTRY_INFO!N41*($G41-$D41)),0)),IF($G41=\"\",COUNTRY_INFO!N41*$E41,COUNTRY_INFO!N41*$G41)))","v":0},{"$f":"IF(OR(COUNTRY_INFO!O41=\"Inconnu\",COUNTRY_INFO!O41=\"Surveillance\",COUNTRY_INFO!O41=\"Non requis\",COUNTRY_INFO!O41=0),0,IF($E41<>0, IF($F41=0,COUNTRY_INFO!O41*$E41,COUNTRY_INFO!O41*($E41-$D41)),COUNTRY_INFO!O41*$E41))","v":0},null,{"$f":"IF(OR(COUNTRY_INFO!P41=\"Inconnu\",COUNTRY_INFO!P41=\"Surveillance\",COUNTRY_INFO!P41=\"Non requis\",COUNTRY_INFO!P41=0),0,IF(AND($E41<>0,$J41=\"\"),IF($F41=0,COUNTRY_INFO!P41*$E41,COUNTRY_INFO!P41*($E41-$D41)), IF(AND($E41<>0,$J41<>0),IF($F41=0,COUNTRY_INFO!P41*$J41,COUNTRY_INFO!P41*($J41-$D41)), COUNTRY_INFO!P41*$J41)))","v":0},0,0,null,0,0,null,0,0,null,0]
[{"$f":"IF(AND(INTRO!$E$37=\"Non endémique\",INTRO!$E$41=\"Non endémique\"),\" \",IF(COUNTRY_INFO!A42=0,\" \",COUNTRY_INFO!A42))","v":"Côte d'Ivoire"},{"$f":"IF(AND(INTRO!$E$37=\"Non endémique\",INTRO!$E$41=\"Non endémique\"),\" \",IF(COUNTRY_INFO!B42=0,\" \",COUNTRY_INFO!B42))","v":"CAVALLY"},{"$f":"IF(AND(INTRO!$E$37=\"Non endémique\",INTRO!$E$41=\"Non endémique\"),\" \",IF(COUNTRY_INFO!C42=0,\" \",COUNTRY_INFO!C42))","v":"TAI"},{"$f":"IF(AND(INTRO!$E$37=\"Non endémique\",INTRO!$E$41=\"Non endémique\"),0,COUNTRY_INFO!V42)","v":0},{"$f":"IF(AND(INTRO!$E$37=\"Non endémique\",INTRO!$E$41=\"Non endémique\"),0,COUNTRY_INFO!X42)","v":0},{"$f":"IF(INTRO!$E$39=\"Non endémique\",IF($D42=1,DEC!I42,0),IF($D42=1,IVM!G42,0))","v":0},null,{"$f":"IF(OR(COUNTRY_INFO!N42=\"Inconnu\",COUNTRY_INFO!N42=\"Surveillance\",COUNTRY_INFO!N42=\"Non requis\",COUNTRY_INFO!N42=0),0,IF(INTRO!$E$39=\"Non endémique\",IF(AND($E42<>0,$G42=\"\"),IF($F42=0,COUNTRY_INFO!N42*$E42,COUNTRY_INFO!N42*($E42-$D42)),IF(AND($E42<>0,$G42<>0),IF($F42=0,COUNTRY_INFO!N42*$G42,COUNTRY_INFO!N42*($G42-$D42)),0)),IF($G42=\"\",COUNTRY_INFO!N42*$E42,COUNTRY_INFO!N42*$G42)))","v":0},{"$f":"IF(OR(COUNTRY_INFO!O42=\"Inconnu\",COUNTRY_INFO!O42=\"Surveillance\",COUNTRY_INFO!O42=\"Non requis\",COUNTRY_INFO!O42=0),0,IF($E42<>0, IF($F42=0,COUNTRY_INFO!O42*$E42,COUNTRY_INFO!O42*($E42-$D42)),COUNTRY_INFO!O42*$E42))","v":0},null,{"$f":"IF(OR(COUNTRY_INFO!P42=\"Inconnu\",COUNTRY_INFO!P42=\"Surveillance\",COUNTRY_INFO!P42=\"Non requis\",COUNTRY_INFO!P42=0),0,IF(AND($E42<>0,$J42=\"\"),IF($F42=0,COUNTRY_INFO!P42*$E42,COUNTRY_INFO!P42*($E42-$D42)), IF(AND($E42<>0,$J42<>0),IF($F42=0,COUNTRY_INFO!P42*$J42,COUNTRY_INFO!P42*($J42-$D42)), COUNTRY_INFO!P42*$J42)))","v":0},0,0,null,0,0,null,0,0,null,0]
[{"$f":"IF(AND(INTRO!$E$37=\"Non endémique\",INTRO!$E$41=\"Non endémique\"),\" \",IF(COUNTRY_INFO!A43=0,\" \",COUNTRY_INFO!A43))","v":"Côte d'Ivoire"},{"$f":"IF(AND(INTRO!$E$37=\"Non endémique\",INTRO!$E$41=\"Non endémique\"),\" \",IF(COUNTRY_INFO!B43=0,\" \",COUNTRY_INFO!B43))","v":"CAVALLY"},{"$f":"IF(AND(INTRO!$E$37=\"Non endémique\",INTRO!$E$41=\"Non endémique\"),\" \",IF(COUNTRY_INFO!C43=0,\" \",COUNTRY_INFO!C43))","v":"TOULEPLEU"},{"$f":"IF(AND(INTRO!$E$37=\"Non endémique\",INTRO!$E$41=\"Non endémique\"),0,COUNTRY_INFO!V43)","v":1},{"$f":"IF(AND(INTRO!$E$37=\"Non endémique\",INTRO!$E$41=\"Non endémique\"),0,COUNTRY_INFO!X43)","v":0},{"$f":"IF(INTRO!$E$39=\"Non endémique\",IF($D43=1,DEC!I43,0),IF($D43=1,IVM!G43,0))","v":55264},null,{"$f":"IF(OR(COUNTRY_INFO!N43=\"Inconnu\",COUNTRY_INFO!N43=\"Surveillance\",COUNTRY_INFO!N43=\"Non requis\",COUNTRY_INFO!N43=0),0,IF(INTRO!$E$39=\"Non endémique\",IF(AND($E43<>0,$G43=\"\"),IF($F43=0,COUNTRY_INFO!N43*$E43,COUNTRY_INFO!N43*($E43-$D43)),IF(AND($E43<>0,$G43<>0),IF($F43=0,COUNTRY_INFO!N43*$G43,COUNTRY_INFO!N43*($G43-$D43)),0)),IF($G43=\"\",COUNTRY_INFO!N43*$E43,COUNTRY_INFO!N43*$G43)))","v":0},{"$f":"IF(OR(COUNTRY_INFO!O43=\"Inconnu\",COUNTRY_INFO!O43=\"Surveillance\",COUNTRY_INFO!O43=\"Non requis\",COUNTRY_INFO!O43=0),0,IF($E43<>0, IF($F43=0,COUNTRY_INFO!O43*$E43,COUNTRY_INFO!O43*($E43-$D43)),COUNTRY_INFO!O43*$E43))","v":0},null,{"$f":"IF(OR(COUNTRY_INFO!P43=\"Inconnu\",COUNTRY_INFO!P43=\"Surveillance\",COUNTRY_INFO!P43=\"Non requis\",COUNTRY_INFO!P43=0),0,IF(AND($E43<>0,$J43=\"\"),IF($F43=0,COUNTRY_INFO!P43*$E43,COUNTRY_INFO!P43*($E43-$D43)), IF(AND($E43<>0,$J43<>0),IF($F43=0,COUNTRY_INFO!P43*$J43,COUNTRY_INFO!P43*($J43-$D43)), COUNTRY_INFO!P43*$J43)))","v":0},0,55264,null,55264,0,null,0,0,null,0]
[{"$f":"IF(AND(INTRO!$E$37=\"Non endémique\",INTRO!$E$41=\"Non endémique\"),\" \",IF(COUNTRY_INFO!A44=0,\" \",COUNTRY_INFO!A44))","v":"Côte d'Ivoire"},{"$f":"IF(AND(INTRO!$E$37=\"Non endémique\",INTRO!$E$41=\"Non endémique\"),\" \",IF(COUNTRY_INFO!B44=0,\" \",COUNTRY_INFO!B44))","v":"FOLON"},{"$f":"IF(AND(INTRO!$E$37=\"Non endémique\",INTRO!$E$41=\"Non endémique\"),\" \",IF(COUNTRY_INFO!C44=0,\" \",COUNTRY_INFO!C44))","v":"KANIASSO"},{"$f":"IF(AND(INTRO!$E$37=\"Non endémique\",INTRO!$E$41=\"Non endémique\"),0,COUNTRY_INFO!V44)","v":0},{"$f":"IF(AND(INTRO!$E$37=\"Non endémique\",INTRO!$E$41=\"Non endémique\"),0,COUNTRY_INFO!X44)","v":0},{"$f":"IF(INTRO!$E$39=\"Non endémique\",IF($D44=1,DEC!I44,0),IF($D44=1,IVM!G44,0))","v":0},null,{"$f":"IF(OR(COUNTRY_INFO!N44=\"Inconnu\",COUNTRY_INFO!N44=\"Surveillance\",COUNTRY_INFO!N44=\"Non requis\",COUNTRY_INFO!N44=0),0,IF(INTRO!$E$39=\"Non endémique\",IF(AND($E44<>0,$G44=\"\"),IF($F44=0,COUNTRY_INFO!N44*$E44,COUNTRY_INFO!N44*($E44-$D44)),IF(AND($E44<>0,$G44<>0),IF($F44=0,COUNTRY_INFO!N44*$G44,COUNTRY_INFO!N44*($G44-$D44)),0)),IF($G44=\"\",COUNTRY_INFO!N44*$E44,COUNTRY_INFO!N44*$G44)))","v":0},{"$f":"IF(OR(COUNTRY_INFO!O44=\"Inconnu\",COUNTRY_INFO!O44=\"Surveillance\",COUNTRY_INFO!O44=\"Non requis\",COUNTRY_INFO!O44=0),0,IF($E44<>0, IF($F44=0,COUNTRY_INFO!O44*$E44,COUNTRY_INFO!O44*($E44-$D44)),COUNTRY_INFO!O44*$E44))","v":0},null,{"$f":"IF(OR(COUNTRY_INFO!P44=\"Inconnu\",COUNTRY_INFO!P44=\"Surveillance\",COUNTRY_INFO!P44=\"Non requis\",COUNTRY_INFO!P44=0),0,IF(AND($E44<>0,$J44=\"\"),IF($F44=0,COUNTRY_INFO!P44*$E44,COUNTRY_INFO!P44*($E44-$D44)), IF(AND($E44<>0,$J44<>0),IF($F44=0,COUNTRY_INFO!P44*$J44,COUNTRY_INFO!P44*($J44-$D44)), COUNTRY_INFO!P44*$J44)))","v":0},0,0,null,0,0,null,0,0,null,0]
[{"$f":"IF(AND(INTRO!$E$37=\"Non endémique\",INTRO!$E$41=\"Non endémique\"),\" \",IF(COUNTRY_INFO!A45=0,\" \",COUNTRY_INFO!A45))","v":"Côte d'Ivoire"},{"$f":"IF(AND(INTRO!$E$37=\"Non endémique\",INTRO!$E$41=\"Non endémique\"),\" \",IF(COUNTRY_INFO!B45=0,\" \",COUNTRY_INFO!B45))","v":"FOLON"},{"$f":"IF(AND(INTRO!$E$37=\"Non endémique\",INTRO!$E$41=\"Non endémique\"),\" \",IF(COUNTRY_INFO!C45=0,\" \",COUNTRY_INFO!C45))","v":"MINIGNAN"},{"$f":"IF(AND(INTRO!$E$37=\"Non endémique\",INTRO!$E$41=\"Non endémique\"),0,COUNTRY_INFO!V45)","v":0},{"$f":"IF(AND(INTRO!$E$37=\"Non endémique\",INTRO!$E$41=\"Non endémique\"),0,COUNTRY_INFO!X45)","v":0},{"$f":"IF(INTRO!$E$39=\"Non endémique\",IF($D45=1,DEC!I45,0),IF($D45=1,IVM!G45,0))","v":0},null,{"$f":"IF(OR(COUNTRY_INFO!N45=\"Inconnu\",COUNTRY_INFO!N45=\"Surveillance\",COUNTRY_INFO!N45=\"Non requis\",COUNTRY_INFO!N45=0),0,IF(INTRO!$E$39=\"Non endémique\",IF(AND($E45<>0,$G45=\"\"),IF($F45=0,COUNTRY_INFO!N45*$E45,COUNTRY_INFO!N45*($E45-$D45)),IF(AND($E45<>0,$G45<>0),IF($F45=0,COUNTRY_INFO!N45*$G45,COUNTRY_INFO!N45*($G45-$D45)),0)),IF($G45=\"\",COUNTRY_INFO!N45*$E45,COUNTRY_INFO!N45*$G45)))","v":0},{"$f":"IF(OR(COUNTRY_INFO!O45=\"Inconnu\",COUNTRY_INFO!O45=\"Surveillance\",COUNTRY_INFO!O45=\"Non requis\",COUNTRY_INFO!O45=0),0,IF($E45<>0, IF($F45=0,COUNTRY_INFO!O45*$E45,COUNTRY_INFO!O45*($E45-$D45)),COUNTRY_INFO!O45*$E45))","v":0},null,{"$f":"IF(OR(COUNTRY_INFO!P45=\"Inconnu\",COUNTRY_INFO!P45=\"Surveillance\",COUNTRY_INFO!P45=\"Non requis\",COUNTRY_INFO!P45=0),0,IF(AND($E45<>0,$J45=\"\"),IF($F45=0,COUNTRY_INFO!P45*$E45,COUNTRY_INFO!P45*($E45-$D45)), IF(AND($E45<>0,$J45<>0),IF($F45=0,COUNTRY_INFO!P45*$J45,COUNTRY_INFO!P45*($J45-$D45)), COUNTRY_INFO!P45*$J45)))","v":0},0,0,null,0,0,null,0,0,null,0]
[{"$f":"IF(AND(INTRO!$E$37=\"Non endémique\",INTRO!$E$41=\"Non endémique\"),\" \",IF(COUNTRY_INFO!A46=0,\" \",COUNTRY_INFO!A46))","v":"Côte d'Ivoire"},{"$f":"IF(AND(INTRO!$E$37=\"Non endémique\",INTRO!$E$41=\"Non endémique\"),\" \",IF(COUNTRY_INFO!B46=0,\" \",COUNTRY_INFO!B46))","v":"GBEKE"},{"$f":"IF(AND(INTRO!$E$37=\"Non endémique\",INTRO!$E$41=\"Non endémique\"),\" \",IF(COUNTRY_INFO!C46=0,\" \",COUNTRY_INFO!C46))","v":"BEOUMI"},{"$f":"IF(AND(INTRO!$E$37=\"Non endémique\",INTRO!$E$41=\"Non endémique\"),0,COUNTRY_INFO!V46)","v":0},{"$f":"IF(AND(INTRO!$E$37=\"Non endémique\",INTRO!$E$41=\"Non endémique\"),0,COUNTRY_INFO!X46)","v":0},{"$f":"IF(INTRO!$E$39=\"Non endémique\",IF($D46=1,DEC!I46,0),IF($D46=1,IVM!G46,0))","v":0},null,{"$f":"IF(OR(COUNTRY_INFO!N46=\"Inconnu\",COUNTRY_INFO!N46=\"Surveillance\",COUNTRY_INFO!N46=\"Non requis\",COUNTRY_INFO!N46=0),0,IF(INTRO!$E$39=\"Non endémique\",IF(AND($E46<>0,$G46=\"\"),IF($F46=0,COUNTRY_INFO!N46*$E46,COUNTRY_INFO!N46*($E46-$D46)),IF(AND($E46<>0,$G46<>0),IF($F46=0,COUNTRY_INFO!N46*$G46,COUNTRY_INFO!N46*($G46-$D46)),0)),IF($G46=\"\",COUNTRY_INFO!N46*$E46,COUNTRY_INFO!N46*$G46)))","v":0},{"$f":"IF(OR(COUNTRY_INFO!O46=\"Inconnu\",COUNTRY_INFO!O46=\"Surveillance\",COUNTRY_INFO!O46=\"Non requis\",COUNTRY_INFO!O46=0),0,IF($E46<>0, IF($F46=0,COUNTRY_INFO!O46*$E46,COUNTRY_INFO!O46*($E46-$D46)),COUNTRY_INFO!O46*$E46))","v":0},null,{"$f":"IF(OR(COUNTRY_INFO!P46=\"Inconnu\",COUNTRY_INFO!P46=\"Surveillance\",COUNTRY_INFO!P46=\"Non requis\",COUNTRY_INFO!P46=0),0,IF(AND($E46<>0,$J46=\"\"),IF($F46=0,COUNTRY_INFO!P46*$E46,COUNTRY_INFO!P46*($E46-$D46)), IF(AND($E46<>0,$J46<>0),IF($F46=0,COUNTRY_INFO!P46*$J46,COUNTRY_INFO!P46*($J46-$D46)), COUNTRY_INFO!P46*$J46)))","v":0},0,0,null,0,0,null,0,0,null,0]
[{"$f":"IF(AND(INTRO!$E$37=\"Non endémique\",INTRO!$E$41=\"Non endémique\"),\" \",IF(COUNTRY_INFO!A47=0,\" \",COUNTRY_INFO!A47))","v":"Côte d'Ivoire"},{"$f":"IF(AND(INTRO!$E$37=\"Non endémique\",INTRO!$E$41=\"Non endémique\"),\" \",IF(COUNTRY_INFO!B47=0,\" \",COUNTRY_INFO!B47))","v":"GBEKE"},{"$f":"IF(AND(INTRO!$E$37=\"Non endémique\",INTRO!$E$41=\"Non endémique\"),\" \",IF(COUNTRY_INFO!C47=0,\" \",COUNTRY_INFO!C47))","v":"BOTRO"},{"$f":"IF(AND(INTRO!$E$37=\"Non endémique\",INTRO!$E$41=\"Non endémique\"),0,COUNTRY_INFO!V47)","v":0},{"$f":"IF(AND(INTRO!$E$37=\"Non endémique\",INTRO!$E$41=\"Non endémique\"),0,COUNTRY_INFO!X47)","v":0},{"$f":"IF(INTRO!$E$39=\"Non endémique\",IF($D47=1,DEC!I47,0),IF($D47=1,IVM!G47,0))","v":0},null,{"$f":"IF(OR(COUNTRY_INFO!N47=\"Inconnu\",COUNTRY_INFO!N47=\"Surveillance\",COUNTRY_INFO!N47=\"Non requis\",COUNTRY_INFO!N47=0),0,IF(INTRO!$E$39=\"Non endémique\",IF(AND($E47<>0,$G47=\"\"),IF($F47=0,COUNTRY_INFO!N47*$E47,COUNTRY_INFO!N47*($E47-$D47)),IF(AND($E47<>0,$G47<>0),IF($F47=0,COUNTRY_INFO!N47*$G47,COUNTRY_INFO!N47*($G47-$D47)),0)),IF($G47=\"\",COUNTRY_INFO!N47*$E47,COUNTRY_INFO!N47*$G47)))","v":0},{"$f":"IF(OR(COUNTRY_INFO!O47=\"Inconnu\",COUNTRY_INFO!O47=\"Surveillance\",COUNTRY_INFO!O47=\"Non requis\",COUNTRY_INFO!O47=0),0,IF($E47<>0, IF($F47=0,COUNTRY_INFO!O47*$E47,COUNTRY_INFO!O47*($E47-$D47)),COUNTRY_INFO!O47*$E47))","v":0},null,{"$f":"IF(OR(COUNTRY_INFO!P47=\"Inconnu\",COUNTRY_INFO!P47=\"Surveillance\",COUNTRY_INFO!P47=\"Non requis\",COUNTRY_INFO!P47=0),0,IF(AND($E47<>0,$J47=\"\"),IF($F47=0,COUNTRY_INFO!P47*$E47,COUNTRY_INFO!P47*($E47-$D47)), IF(AND($E47<>0,$J47<>0),IF($F47=0,COUNTRY_INFO!P47*$J47,COUNTRY_INFO!P47*($J47-$D47)), COUNTRY_INFO!P47*$J47)))","v":0},0,0,null,0,0,null,0,0,null,0]
[{"$f":"IF(AND(INTRO!$E$37=\"Non endémique\",INTRO!$E$41=\"Non endémique\"),\" \",IF(COUNTRY_INFO!A48=0,\" \",COUNTRY_INFO!A48))","v":"Côte d'Ivoire"},{"$f":"IF(AND(INTRO!$E$37=\"Non endémique\",INTRO!$E$41=\"Non endémique\"),\" \",IF(COUNTRY_INFO!B48=0,\" \",COUNTRY_INFO!B48))","v":"GBEKE"},{"$f":"IF(AND(INTRO!$E$37=\"Non endémique\",INTRO!$E$41=\"Non endémique\"),\" \",IF(COUNTRY_INFO!C48=0,\" \",COUNTRY_INFO!C48))","v":"BOUAKE NORD-EST"},{"$f":"IF(AND(INTRO!$E$37=\"Non endémique\",INTRO!$E$41=\"Non endémique\"),0,COUNTRY_INFO!V48)","v":0},{"$f":"IF(AND(INTRO!$E$37=\"Non endémique\",INTRO!$E$41=\"Non endémique\"),0,COUNTRY_INFO!X48)","v":1},{"$f":"IF(INTRO!$E$39=\"Non endémique\",IF($D48=1,DEC!I48,0),IF($D48=1,IVM!G48,0))","v":0},null,{"$f":"IF(OR(COUNTRY_INFO!N48=\"Inconnu\",COUNTRY_INFO!N48=\"Surveillance\",COUNTRY_INFO!N48=\"Non requis\",COUNTRY_INFO!N48=0),0,IF(INTRO!$E$39=\"Non endémique\",IF(AND($E48<>0,$G48=\"\"),IF($F48=0,COUNTRY_INFO!N48*$E48,COUNTRY_INFO!N48*($E48-$D48)),IF(AND($E48<>0,$G48<>0),IF($F48=0,COUNTRY_INFO!N48*$G48,COUNTRY_INFO!N48*($G48-$D48)),0)),IF($G48=\"\",COUNTRY_INFO!N48*$E48,COUNTRY_INFO!N48*$G48)))","v":29377},{"$f":"IF(OR(COUNTRY_INFO!O48=\"Inconnu\",COUNTRY_INFO!O48=\"Surveillance\",COUNTRY_INFO!O48=\"Non requis\",COUNTRY_INFO!O48=0),0,IF($E48<>0, IF($F48=0,COUNTRY_INFO!O48*$E48,COUNTRY_INFO!O48*($E48-$D48)),COUNTRY_INFO!O48*$E48))","v":58894},null,{"$f":"IF(OR(COUNTRY_INFO!P48=\"Inconnu\",COUNTRY_INFO!P48=\"Surveillance\",COUNTRY_INFO!P48=\"Non requis\",COUNTRY_INFO!P48=0),0,IF(AND($E48<>0,$J48=\"\"),IF($F48=0,COUNTRY_INFO!P48*$E48,COUNTRY_INFO!P48*($E48-$D48)), IF(AND($E48<>0,$J48<>0),IF($F48=0,COUNTRY_INFO!P48*$J48,COUNTRY_INFO!P48*($J48-$D48)), COUNTRY_INFO!P48*$J48)))","v":55861},144132,0,null,0,58894,null,58894,0,null,0]
[{"$f":"IF(AND(INTRO!$E$37=\"Non endémique\",INTRO!$E$41=\"Non endémique\"),\" \",IF(COUNTRY_INFO!A49=0,\" \",COUNTRY_INFO!A49))","v":"Côte d'Ivoire"},{"$f":"IF(AND(INTRO!$E$37=\"Non endémique\",INTRO!$E$41=\"Non endémique\"),\" \",IF(COUNTRY_INFO!B49=0,\" \",COUNTRY_INFO!B49))","v":"GBEKE"},{"$f":"IF(AND(INTRO!$E$37=\"Non endémique\",INTRO!$E$41=\"Non endémique\"),\" \",IF(COUNTRY_INFO!C49=0,\" \",COUNTRY_INFO!C49))","v":"BOUAKE NORD-OUEST"},{"$f":"IF(AND(INTRO!$E$37=\"Non endémique\",INTRO!$E$41=\"Non endémique\"),0,COUNTRY_INFO!V49)","v":0},{"$f":"IF(AND(INTRO!$E$37=\"Non endémique\",INTRO!$E$41=\"Non endémique\"),0,COUNTRY_INFO!X49)","v":0},{"$f":"IF(INTRO!$E$39=\"Non endémique\",IF($D49=1,DEC!I49,0),IF($D49=1,IVM!G49,0))","v":0},null,{"$f":"IF(OR(COUNTRY_INFO!N49=\"Inconnu\",COUNTRY_INFO!N49=\"Surveillance\",COUNTRY_INFO!N49=\"Non requis\",COUNTRY_INFO!N49=0),0,IF(INTRO!$E$39=\"Non endémique\",IF(AND($E49<>0,$G49=\"\"),IF($F49=0,COUNTRY_INFO!N49*$E49,COUNTRY_INFO!N49*($E49-$D49)),IF(AND($E49<>0,$G49<>0),IF($F49=0,COUNTRY_INFO!N49*$G49,COUNTRY_INFO!N49*($G49-$D49)),0)),IF($G49=\"\",COUNTRY_INFO!N49*$E49,COUNTRY_INFO!N49*$G49)))","v":0},{"$f":"IF(OR(COUNTRY_INFO!O49=\"Inconnu\",COUNTRY_INFO!O49=\"Surveillance\",COUNTRY_INFO!O49=\"Non requis\",COUNTRY_INFO!O49=0),0,IF($E49<>0, IF($F49=0,COUNTRY_INFO!O49*$E49,COUNTRY_INFO!O49*($E49-$D49)),COUNTRY_INFO!O49*$E49))","v":0},null,{"$f":"IF(OR(COUNTRY_INFO!P49=\"Inconnu\",COUNTRY_INFO!P49=\"Surveillance\",COUNTRY_INFO!P49=\"Non requis\",COUNTRY_INFO!P49=0),0,IF(AND($E49<>0,$J49=\"\"),IF($F49=0,COUNTRY_INFO!P49*$E49,COUNTRY_INFO!P49*($E49-$D49)), IF(AND($E49<>0,$J49<>0),IF($F49=0,COUNTRY_INFO!P49*$J49,COUNTRY_INFO!P49*($J49-$D49)), COUNTRY_INFO!P49*$J49)))","v":0},0,0,null,0,0,null,0,0,null,0]
[{"$f":"IF(AND(INTRO!$E$37=\"Non endémique\",INTRO!$E$41=\"Non endémique\"),\" \",IF(COUNTRY_INFO!A50=0,\" \",COUNTRY_INFO!A50))","v":"Côte d'Ivoire"},{"$f":"IF(AND(INTRO!$E$37=\"Non endémique\",INTRO!$E$41=\"Non endémique\"),\" \",IF(COUNTRY_INFO!B50=0,\" \",COUNTRY_INFO!B50))","v":"GBEKE"},{"$f":"IF(AND(INTRO!$E$37=\"Non endémique\",INTRO!$E$41=\"Non endémique\"),\" \",IF(COUNTRY_INFO!C50=0,\" \",COUNTRY_INFO!C50))","v":"BOUAKE SUD"},{"$f":"IF(AND(INTRO!$E$37=\"Non endémique\",INTRO!$E$41=\"Non endémique\"),0,COUNTRY_INFO!V50)","v":0},{"$f":"IF(AND(INTRO!$E$37=\"Non endémique\",INTRO!$E$41=\"Non endémique\"),0,COUNTRY_INFO!X50)","v":0},{"$f":"IF(INTRO!$E$39=\"Non endémique\",IF($D50=1,DEC!I50,0),IF($D50=1,IVM!G50,0))","v":0},null,{"$f":"IF(OR(COUNTRY_INFO!N50=\"Inconnu\",COUNTRY_INFO!N50=\"Surveillance\",COUNTRY_INFO!N50=\"Non requis\",COUNTRY_INFO!N50=0),0,IF(INTRO!$E$39=\"Non endémique\",IF(AND($E50<>0,$G50=\"\"),IF($F50=0,COUNTRY_INFO!N50*$E50,COUNTRY_INFO!N50*($E50-$D50)),IF(AND($E50<>0,$G50<>0),IF($F50=0,COUNTRY_INFO!N50*$G50,COUNTRY_INFO!N50*($G50-$D50)),0)),IF($G50=\"\",COUNTRY_INFO!N50*$E50,COUNTRY_INFO!N50*$G50)))","v":0},{"$f":"IF(OR(COUNTRY_INFO!O50=\"Inconnu\",COUNTRY_INFO!O50=\"Surveillance\",COUNTRY_INFO!O50=\"Non requis\",COUNTRY_INFO!O50=0),0,IF($E50<>0, IF($F50=0,COUNTRY_INFO!O50*$E50,COUNTRY_INFO!O50*($E50-$D50)),COUNTRY_INFO!O50*$E50))","v":0},null,{"$f":"IF(OR(COUNTRY_INFO!P50=\"Inconnu\",COUNTRY_INFO!P50=\"Surveillance\",COUNTRY_INFO!P50=\"Non requis\",COUNTRY_INFO!P50=0),0,IF(AND($E50<>0,$J50=\"\"),IF($F50=0,COUNTRY_INFO!P50*$E50,COUNTRY_INFO!P50*($E50-$D50)), IF(AND($E50<>0,$J50<>0),IF($F50=0,COUNTRY_INFO!P50*$J50,COUNTRY_INFO!P50*($J50-$D50)), COUNTRY_INFO!P50*$J50)))","v":0},0,0,null,0,0,null,0,0,null,0]
[{"$f":"IF(AND(INTRO!$E$37=\"Non endémique\",INTRO!$E$41=\"Non endémique\"),\" \",IF(COUNTRY_INFO!A51=0,\" \",COUNTRY_INFO!A51))","v":"Côte d'Ivoire"},{"$f":"IF(AND(INTRO!$E$37=\"Non endémique\",INTRO!$E$41=\"Non endémique\"),\" \",IF(COUNTRY_INFO!B51=0,\" \",COUNTRY_INFO!B51))","v":"GBEKE"},{"$f":"IF(AND(INTRO!$E$37=\"Non endémique\",INTRO!$E$41=\"Non endémique\"),\" \",IF(COUNTRY_INFO!C51=0,\" \",COUNTRY_INFO!C51))","v":"SAKASSOU"},{"$f":"IF(AND(INTRO!$E$37=\"Non endémique\",INTRO!$E$41=\"Non endémique\"),0,COUNTRY_INFO!V51)","v":0},{"$f":"IF(AND(INTRO!$E$37=\"Non endémique\",INTRO!$E$41=\"Non endémique\"),0,COUNTRY_INFO!X51)","v":1},{"$f":"IF(INTRO!$E$39=\"Non endémique\",IF($D51=1,DEC!I51,0),IF($D51=1,IVM!G51,0))","v":0},null,{"$f":"IF(OR(COUNTRY_INFO!N51=\"Inconnu\",COUNTRY_INFO!N51=\"Surveillance\",COUNTRY_INFO!N51=\"Non requis\",COUNTRY_INFO!N51=0),0,IF(INTRO!$E$39=\"Non endémique\",IF(AND($E51<>0,$G51=\"\"),IF($F51=0,COUNTRY_INFO!N51*$E51,COUNTRY_INFO!N51*($E51-$D51)),IF(AND($E51<>0,$G51<>0),IF($F51=0,COUNTRY_INFO!N51*$G51,COUNTRY_INFO!N51*($G51-$D51)),0)),IF($G51=\"\",COUNTRY_INFO!N51*$E51,COUNTRY_INFO!N51*$G51)))","v":14331},{"$f":"IF(OR(COUNTRY_INFO!O51=\"Inconnu\",COUNTRY_INFO!O51=\"Surveillance\",COUNTRY_INFO!O51=\"Non requis\",COUNTRY_INFO!O51=0),0,IF($E51<>0, IF($F51=0,COUNTRY_INFO!O51*$E51,COUNTRY_INFO!O51*($E51-$D51)),COUNTRY_INFO!O51*$E51))","v":28730},null,{"$f":"IF(OR(COUNTRY_INFO!P51=\"Inconnu\",COUNTRY_INFO!P51=\"Surveillance\",COUNTRY_INFO!P51=\"Non requis\",COUNTRY_INFO!P51=0),0,IF(AND($E51<>0,$J51=\"\"),IF($F51=0,COUNTRY_INFO!P51*$E51,COUNTRY_INFO!P51*($E51-$D51)), IF(AND($E51<>0,$J51<>0),IF($F51=0,COUNTRY_INFO!P51*$J51,COUNTRY_INFO!P51*($J51-$D51)), COUNTRY_INFO!P51*$J51)))","v":27250},70311,0,null,0,28730,null,28730,0,null,0]
[{"$f":"IF(AND(INTRO!$E$37=\"Non endémique\",INTRO!$E$41=\"Non endémique\"),\" \",IF(COUNTRY_INFO!A52=0,\" \",COUNTRY_INFO!A52))","v":"Côte d'Ivoire"},{"$f":"IF(AND(INTRO!$E$37=\"Non endémique\",INTRO!$E$41=\"Non endémique\"),\" \",IF(COUNTRY_INFO!B52=0,\" \",COUNTRY_INFO!B52))","v":"GBOKLE"},{"$f":"IF(AND(INTRO!$E$37=\"Non endémique\",INTRO!$E$41=\"Non endémique\"),\" \",IF(COUNTRY_INFO!C52=0,\" \",COUNTRY_INFO!C52))","v":"FRESCO"},{"$f":"IF(AND(INTRO!$E$37=\"Non endémique\",INTRO!$E$41=\"Non endémique\"),0,COUNTRY_INFO!V52)","v":0},{"$f":"IF(AND(INTRO!$E$37=\"Non endémique\",INTRO!$E$41=\"Non endémique\"),0,COUNTRY_INFO!X52)","v":1},{"$f":"IF(INTRO!$E$39=\"Non endémique\",IF($D52=1,DEC!I52,0),IF($D52=1,IVM!G52,0))","v":0},null,{"$f":"IF(OR(COUNTRY_INFO!N52=\"Inconnu\",COUNTRY_INFO!N52=\"Surveillance\",COUNTRY_INFO!N52=\"Non requis\",COUNTRY_INFO!N52=0),0,IF(INTRO!$E$39=\"Non endémique\",IF(AND($E52<>0,$G52=\"\"),IF($F52=0,COUNTRY_INFO!N52*$E52,COUNTRY_INFO!N52*($E52-$D52)),IF(AND($E52<>0,$G52<>0),IF($F52=0,COUNTRY_INFO!N52*$G52,COUNTRY_INFO!N52*($G52-$D52)),0)),IF($G52=\"\",COUNTRY_INFO!N52*$E52,COUNTRY_INFO!N52*$G52)))","v":14874},{"$f":"IF(OR(COUNTRY_INFO!O52=\"Inconnu\",COUNTRY_INFO!O52=\"Surveillance\",COUNTRY_INFO!O52=\"Non requis\",COUNTRY_INFO!O52=0),0,IF($E52<>0, IF($F52=0,COUNTRY_INFO!O52*$E52,COUNTRY_INFO!O52*($E52-$D52)),COUNTRY_INFO!O52*$E52))","v":29818},null,{"$f":"IF(OR(COUNTRY_INFO!P52=\"Inconnu\",COUNTRY_INFO!P52=\"Surveillance\",COUNTRY_INFO!P52=\"Non requis\",COUNTRY_INFO!P52=0),0,IF(AND($E52<>0,$J52=\"\"),IF($F52=0,COUNTRY_INFO!P52*$E52,COUNTRY_INFO!P52*($E52-$D52)), IF(AND($E52<>0,$J52<>0),IF($F52=0,COUNTRY_INFO!P52*$J52,COUNTRY_INFO!P52*($J52-$D52)), COUNTRY_INFO!P52*$J52)))","v":28283},72975,0,null,0,29818,null,29818,0,null,0]
[{"$f":"IF(AND(INTRO!$E$37=\"Non endémique\",INTRO!$E$41=\"Non endémique\"),\" \",IF(COUNTRY_INFO!A53=0,\" \",COUNTRY_INFO!A53))","v":"Côte d'Ivoire"},{"$f":"IF(AND(INTRO!$E$37=\"Non endémique\",INTRO!$E$41=\"Non endémique\"),\" \",IF(COUNTRY_INFO!B53=0,\" \",COUNTRY_INFO!B53))","v":"GBOKLE"},{"$f":"IF(AND(INTRO!$E$37=\"Non endémique\",INTRO!$E$41=\"Non endémique\"),\" \",IF(COUNTRY_INFO!C53=0,\" \",COUNTRY_INFO!C53))","v":"SASSANDRA "},{"$f":"IF(AND(INTRO!$E$37=\"Non endémique\",INTRO!$E$41=\"Non endémique\"),0,COUNTRY_INFO!V53)","v":0},{"$f":"IF(AND(INTRO!$E$37=\"Non endémique\",INTRO!$E$41=\"Non endémique\"),0,COUNTRY_INFO!X53)","v":0},{"$f":"IF(INTRO!$E$39=\"Non endémique\",IF($D53=1,DEC!I53,0),IF($D53=1,IVM!G53,0))","v":0},null,{"$f":"IF(OR(COUNTRY_INFO!N53=\"Inconnu\",COUNTRY_INFO!N53=\"Surveillance\",COUNTRY_INFO!N53=\"Non requis\",COUNTRY_INFO!N53=0),0,IF(INTRO!$E$39=\"Non endémique\",IF(AND($E53<>0,$G53=\"\"),IF($F53=0,COUNTRY_INFO!N53*$E53,COUNTRY_INFO!N53*($E53-$D53)),IF(AND($E53<>0,$G53<>0),IF($F53=0,COUNTRY_INFO!N53*$G53,COUNTRY_INFO!N53*($G53-$D53)),0)),IF($G53=\"\",COUNTRY_INFO!N53*$E53,COUNTRY_INFO!N53*$G53)))","v":0},{"$f":"IF(OR(COUNTRY_INFO!O53=\"Inconnu\",COUNTRY_INFO!O53=\"Surveillance\",COUNTRY_INFO!O53=\"Non requis\",COUNTRY_INFO!O53=0),0,IF($E53<>0, IF($F53=0,COUNTRY_INFO!O53*$E53,COUNTRY_INFO!O53*($E53-$D53)),COUNTRY_INFO!O53*$E53))","v":0},null,{"$f":"IF(OR(COUNTRY_INFO!P53=\"Inconnu\",COUNTRY_INFO!P53=\"Surveillance\",COUNTRY_INFO!P53=\"Non requis\",COUNTRY_INFO!P53=0),0,IF(AND($E53<>0,$J53=\"\"),IF($F53=0,COUNTRY_INFO!P53*$E53,COUNTRY_INFO!P53*($E53-$D53)), IF(AND($E53<>0,$J53<>0),IF($F53=0,COUNTRY_INFO!P53*$J53,COUNTRY_INFO!P53*($J53-$D53)), COUNTRY_INFO!P53*$J53)))","v":0},0,0,null,0,0,null,0,0,null,0]
[{"$f":"IF(AND(INTRO!$E$37=\"Non endémique\",INTRO!$E$41=\"Non endémique\"),\" \",IF(COUNTRY_INFO!A54=0,\" \",COUNTRY_INFO!A54))","v":"Côte d'Ivoire"},{"$f":"IF(AND(INTRO!$E$37=\"Non endémique\",INTRO!$E$41=\"Non endémique\"),\" \",IF(COUNTRY_INFO!B54=0,\" \",COUNTRY_INFO!B54))","v":"GOH"},{"$f":"IF(AND(INTRO!$E$37=\"Non endémique\",INTRO!$E$41=\"Non endémique\"),\" \",IF(COUNTRY_INFO!C54=0,\" \",COUNTRY_INFO!C54))","v":"GAGNOA 1"},{"$f":"IF(AND(INTRO!$E$37=\"Non endémique\",INTRO!$E$41=\"Non endémique\"),0,COUNTRY_INFO!V54)","v":1},{"$f":"IF(AND(INTRO!$E$37=\"Non endémique\",INTRO!$E$41=\"Non endémique\"),0,COUNTRY_INFO!X54)","v":0},{"$f":"IF(INTRO!$E$39=\"Non endémique\",IF($D54=1,DEC!I54,0),IF($D54=1,IVM!G54,0))","v":371472},null,{"$f":"IF(OR(COUNTRY_INFO!N54=\"Inconnu\",COUNTRY_INFO!N54=\"Surveillance\",COUNTRY_INFO!N54=\"Non requis\",COUNTRY_INFO!N54=0),0,IF(INTRO!$E$39=\"Non endémique\",IF(AND($E54<>0,$G54=\"\"),IF($F54=0,COUNTRY_INFO!N54*$E54,COUNTRY_INFO!N54*($E54-$D54)),IF(AND($E54<>0,$G54<>0),IF($F54=0,COUNTRY_INFO!N54*$G54,COUNTRY_INFO!N54*($G54-$D54)),0)),IF($G54=\"\",COUNTRY_INFO!N54*$E54,COUNTRY_INFO!N54*$G54)))","v":0},{"$f":"IF(OR(COUNTRY_INFO!O54=\"Inconnu\",COUNTRY_INFO!O54=\"Surveillance\",COUNTRY_INFO!O54=\"Non requis\",COUNTRY_INFO!O54=0),0,IF($E54<>0, IF($F54=0,COUNTRY_INFO!O54*$E54,COUNTRY_INFO!O54*($E54-$D54)),COUNTRY_INFO!O54*$E54))","v":0},null,{"$f":"IF(OR(COUNTRY_INFO!P54=\"Inconnu\",COUNTRY_INFO!P54=\"Surveillance\",COUNTRY_INFO!P54=\"Non requis\",COUNTRY_INFO!P54=0),0,IF(AND($E54<>0,$J54=\"\"),IF($F54=0,COUNTRY_INFO!P54*$E54,COUNTRY_INFO!P54*($E54-$D54)), IF(AND($E54<>0,$J54<>0),IF($F54=0,COUNTRY_INFO!P54*$J54,COUNTRY_INFO!P54*($J54-$D54)), COUNTRY_INFO!P54*$J54)))","v":0},0,371472,null,371472,0,null,0,0,null,0]
[{"$f":"IF(AND(INTRO!$E$37=\"Non endémique\",INTRO!$E$41=\"Non endémique\"),\" \",IF(COUNTRY_INFO!A55=0,\" \",COUNTRY_INFO!A55))","v":"Côte d'Ivoire"},{"$f":"IF(AND(INTRO!$E$37=\"Non endémique\",INTRO!$E$41=\"Non endémique\"),\" \",IF(COUNTRY_INFO!B55=0,\" \",COUNTRY_INFO!B55))","v":"GOH"},{"$f":"IF(AND(INTRO!$E$37=\"Non endémique\",INTRO!$E$41=\"Non endémique\"),\" \",IF(COUNTRY_INFO!C55=0,\" \",COUNTRY_INFO!C55))","v":"GAGNOA 2"},{"$f":"IF(AND(INTRO!$E$37=\"Non endémique\",INTRO!$E$41=\"Non endémique\"),0,COUNTRY_INFO!V55)","v":0},{"$f":"IF(AND(INTRO!$E$37=\"Non endémique\",INTRO!$E$41=\"Non endémique\"),0,COUNTRY_INFO!X55)","v":0},{"$f":"IF(INTRO!$E$39=\"Non endémique\",IF($D55=1,DEC!I55,0),IF($D55=1,IVM!G55,0))","v":0},null,{"$f":"IF(OR(COUNTRY_INFO!N55=\"Inconnu\",COUNTRY_INFO!N55=\"Surveillance\",COUNTRY_INFO!N55=\"Non requis\",COUNTRY_INFO!N55=0),0,IF(INTRO!$E$39=\"Non endémique\",IF(AND($E55<>0,$G55=\"\"),IF($F55=0,COUNTRY_INFO!N55*$E55,COUNTRY_INFO!N55*($E55-$D55)),IF(AND($E55<>0,$G55<>0),IF($F55=0,COUNTRY_INFO!N55*$G55,COUNTRY_INFO!N55*($G55-$D55)),0)),IF($G55=\"\",COUNTRY_INFO!N55*$E55,COUNTRY_INFO!N55*$G55)))","v":0},{"$f":"IF(OR(COUNTRY_INFO!O55=\"Inconnu\",COUNTRY_INFO!O55=\"Surveillance\",COUNTRY_INFO!O55=\"Non requis\",COUNTRY_INFO!O55=0),0,IF($E55<>0, IF($F55=0,COUNTRY_INFO!O55*$E55,COUNTRY_INFO!O55*($E55-$D55)),COUNTRY_INFO!O55*$E55))","v":0},null,{"$f":"IF(OR(COUNTRY_INFO!P55=\"Inconnu\",COUNTRY_INFO!P55=\"Surveillance\",COUNTRY_INFO!P55=\"Non requis\",COUNTRY_INFO!P55=0),0,IF(AND($E55<>0,$J55=\"\"),IF($F55=0,COUNTRY_INFO!P55*$E55,COUNTRY_INFO!P55*($E55-$D55)), IF(AND($E55<>0,$J55<>0),IF($F55=0,COUNTRY_INFO!P55*$J55,COUNTRY_INFO!P55*($J55-$D55)), COUNTRY_INFO!P55*$J55)))","v":0},0,0,null,0,0,null,0,0,null,0]
[{"$f":"IF(AND(INTRO!$E$37=\"Non endémique\",INTRO!$E$41=\"Non endémique\"),\" \",IF(COUNTRY_INFO!A56=0,\" \",COUNTRY_INFO!A56))","v":"Côte d'Ivoire"},{"$f":"IF(AND(INTRO!$E$37=\"Non endémique\",INTRO!$E$41=\"Non endémique\"),\" \",IF(COUNTRY_INFO!B56=0,\" \",COUNTRY_INFO!B56))","v":"GOH"},{"$f":"IF(AND(INTRO!$E$37=\"Non endémique\",INTRO!$E$41=\"Non endémique\"),\" \",IF(COUNTRY_INFO!C56=0,\" \",COUNTRY_INFO!C56))","v":"OUME"},{"$f":"IF(AND(INTRO!$E$37=\"Non endémique\",INTRO!$E$41=\"Non endémique\"),0,COUNTRY_INFO!V56)","v":0},{"$f":"IF(AND(INTRO!$E$37=\"Non endémique\",INTRO!$E$41=\"Non endémique\"),0,COUNTRY_INFO!X56)","v":0},{"$f":"IF(INTRO!$E$39=\"Non endémique\",IF($D56=1,DEC!I56,0),IF($D56=1,IVM!G56,0))","v":0},null,{"$f":"IF(OR(COUNTRY_INFO!N56=\"Inconnu\",COUNTRY_INFO!N56=\"Surveillance\",COUNTRY_INFO!N56=\"Non requis\",COUNTRY_INFO!N56=0),0,IF(INTRO!$E$39=\"Non endémique\",IF(AND($E56<>0,$G56=\"\"),IF($F56=0,COUNTRY_INFO!N56*$E56,COUNTRY_INFO!N56*($E56-$D56)),IF(AND($E56<>0,$G56<>0),IF($F56=0,COUNTRY_INFO!N56*$G56,COUNTRY_INFO!N56*($G56-$D56)),0)),IF($G56=\"\",COUNTRY_INFO!N56*$E56,COUNTRY_INFO!N56*$G56)))","v":0},{"$f":"IF(OR(COUNTRY_INFO!O56=\"Inconnu\",COUNTRY_INFO!O56=\"Surveillance\",COUNTRY_INFO!O56=\"Non requis\",COUNTRY_INFO!O56=0),0,IF($E56<>0, IF($F56=0,COUNTRY_INFO!O56*$E56,COUNTRY_INFO!O56*($E56-$D56)),COUNTRY_INFO!O56*$E56))","v":0},null,{"$f":"IF(OR(COUNTRY_INFO!P56=\"Inconnu\",COUNTRY_INFO!P56=\"Surveillance\",COUNTRY_INFO!P56=\"Non requis\",COUNTRY_INFO!P56=0),0,IF(AND($E56<>0,$J56=\"\"),IF($F56=0,COUNTRY_INFO!P56*$E56,COUNTRY_INFO!P56*($E56-$D56)), IF(AND($E56<>0,$J56<>0),IF($F56=0,COUNTRY_INFO!P56*$J56,COUNTRY_INFO!P56*($J56-$D56)), COUNTRY_INFO!P56*$J56)))","v":0},0,0,null,0,0,null,0,0,null,0]
[{"$f":"IF(AND(INTRO!$E$37=\"Non endémique\",INTRO!$E$41=\"Non endémique\"),\" \",IF(COUNTRY_INFO!A57=0,\" \",COUNTRY_INFO!A57))","v":"Côte d'Ivoire"},{"$f":"IF(AND(INTRO!$E$37=\"Non endémique\",INTRO!$E$41=\"Non endémique\"),\" \",IF(COUNTRY_INFO!B57=0,\" \",COUNTRY_INFO!B57))","v":"GONTOUGO"},{"$f":"IF(AND(INTRO!$E$37=\"Non endémique\",INTRO!$E$41=\"Non endémique\"),\" \",IF(COUNTRY_INFO!C57=0,\" \",COUNTRY_INFO!C57))","v":"BONDOUKOU"},{"$f":"IF(AND(INTRO!$E$37=\"Non endémique\",INTRO!$E$41=\"Non endémique\"),0,COUNTRY_INFO!V57)","v":0},{"$f":"IF(AND(INTRO!$E$37=\"Non endémique\",INTRO!$E$41=\"Non endémique\"),0,COUNTRY_INFO!X57)","v":0},{"$f":"IF(INTRO!$E$39=\"Non endémique\",IF($D57=1,DEC!I57,0),IF($D57=1,IVM!G57,0))","v":0},null,{"$f":"IF(OR(COUNTRY_INFO!N57=\"Inconnu\",COUNTRY_INFO!N57=\"Surveillance\",COUNTRY_INFO!N57=\"Non requis\",COUNTRY_INFO!N57=0),0,IF(INTRO!$E$39=\"Non endémique\",IF(AND($E57<>0,$G57=\"\"),IF($F57=0,COUNTRY_INFO!N57*$E57,COUNTRY_INFO!N57*($E57-$D57)),IF(AND($E57<>0,$G57<>0),IF($F57=0,COUNTRY_INFO!N57*$G57,COUNTRY_INFO!N57*($G57-$D57)),0)),IF($G57=\"\",COUNTRY_INFO!N57*$E57,COUNTRY_INFO!N57*$G57)))","v":0},{"$f":"IF(OR(COUNTRY_INFO!O57=\"Inconnu\",COUNTRY_INFO!O57=\"Surveillance\",COUNTRY_INFO!O57=\"Non requis\",COUNTRY_INFO!O57=0),0,IF($E57<>0, IF($F57=0,COUNTRY_INFO!O57*$E57,COUNTRY_INFO!O57*($E57-$D57)),COUNTRY_INFO!O57*$E57))","v":0},null,{"$f":"IF(OR(COUNTRY_INFO!P57=\"Inconnu\",COUNTRY_INFO!P57=\"Surveillance\",COUNTRY_INFO!P57=\"Non requis\",COUNTRY_INFO!P57=0),0,IF(AND($E57<>0,$J57=\"\"),IF($F57=0,COUNTRY_INFO!P57*$E57,COUNTRY_INFO!P57*($E57-$D57)), IF(AND($E57<>0,$J57<>0),IF($F57=0,COUNTRY_INFO!P57*$J57,COUNTRY_INFO!P57*($J57-$D57)), COUNTRY_INFO!P57*$J57)))","v":0},0,0,null,0,0,null,0,0,null,0]
[{"$f":"IF(AND(INTRO!$E$37=\"Non endémique\",INTRO!$E$41=\"Non endémique\"),\" \",IF(COUNTRY_INFO!A58=0,\" \",COUNTRY_INFO!A58))","v":"Côte d'Ivoire"},{"$f":"IF(AND(INTRO!$E$37=\"Non endémique\",INTRO!$E$41=\"Non endémique\"),\" \",IF(COUNTRY_INFO!B58=0,\" \",COUNTRY_INFO!B58))","v":"GONTOUGO"},{"$f":"IF(AND(INTRO!$E$37=\"Non endémique\",INTRO!$E$41=\"Non endémique\"),\" \",IF(COUNTRY_INFO!C58=0,\" \",COUNTRY_INFO!C58))","v":"KOUNFAO"},{"$f":"IF(AND(INTRO!$E$37=\"Non endémique\",INTRO!$E$41=\"Non endémique\"),0,COUNTRY_INFO!V58)","v":0},{"$f":"IF(AND(INTRO!$E$37=\"Non endémique\",INTRO!$E$41=\"Non endémique\"),0,COUNTRY_INFO!X58)","v":1},{"$f":"IF(INTRO!$E$39=\"Non endémique\",IF($D58=1,DEC!I58,0),IF($D58=1,IVM!G58,0))","v":0},null,{"$f":"IF(OR(COUNTRY_INFO!N58=\"Inconnu\",COUNTRY_INFO!N58=\"Surveillance\",COUNTRY_INFO!N58=\"Non requis\",COUNTRY_INFO!N58=0),0,IF(INTRO!$E$39=\"Non endémique\",IF(AND($E58<>0,$G58=\"\"),IF($F58=0,COUNTRY_INFO!N58*$E58,COUNTRY_INFO!N58*($E58-$D58)),IF(AND($E58<>0,$G58<>0),IF($F58=0,COUNTRY_INFO!N58*$G58,COUNTRY_INFO!N58*($G58-$D58)),0)),IF($G58=\"\",COUNTRY_INFO!N58*$E58,COUNTRY_INFO!N58*$G58)))","v":17394},{"$f":"IF(OR(COUNTRY_INFO!O58=\"Inconnu\",COUNTRY_INFO!O58=\"Surveillance\",COUNTRY_INFO!O58=\"Non requis\",COUNTRY_INFO!O58=0),0,IF($E58<>0, IF($F58=0,COUNTRY_INFO!O58*$E58,COUNTRY_INFO!O58*($E58-$D58)),COUNTRY_INFO!O58*$E58))","v":34870},null,{"$f":"IF(OR(COUNTRY_INFO!P58=\"Inconnu\",COUNTRY_INFO!P58=\"Surveillance\",COUNTRY_INFO!P58=\"Non requis\",COUNTRY_INFO!P58=0),0,IF(AND($E58<>0,$J58=\"\"),IF($F58=0,COUNTRY_INFO!P58*$E58,COUNTRY_INFO!P58*($E58-$D58)), IF(AND($E58<>0,$J58<>0),IF($F58=0,COUNTRY_INFO!P58*$J58,COUNTRY_INFO!P58*($J58-$D58)), COUNTRY_INFO!P58*$J58)))","v":33075},85339,0,null,0,34870,null,34870,0,null,0]
[{"$f":"IF(AND(INTRO!$E$37=\"Non endémique\",INTRO!$E$41=\"Non endémique\"),\" \",IF(COUNTRY_INFO!A59=0,\" \",COUNTRY_INFO!A59))","v":"Côte d'Ivoire"},{"$f":"IF(AND(INTRO!$E$37=\"Non endémique\",INTRO!$E$41=\"Non endémique\"),\" \",IF(COUNTRY_INFO!B59=0,\" \",COUNTRY_INFO!B59))","v":"GONTOUGO"},{"$f":"IF(AND(INTRO!$E$37=\"Non endémique\",INTRO!$E$41=\"Non endémique\"),\" \",IF(COUNTRY_INFO!C59=0,\" \",COUNTRY_INFO!C59))","v":"SANDEGUE"},{"$f":"IF(AND(INTRO!$E$37=\"Non endémique\",INTRO!$E$41=\"Non endémique\"),0,COUNTRY_INFO!V59)","v":0},{"$f":"IF(AND(INTRO!$E$37=\"Non endémique\",INTRO!$E$41=\"Non endémique\"),0,COUNTRY_INFO!X59)","v":0},{"$f":"IF(INTRO!$E$39=\"Non endémique\",IF($D59=1,DEC!I59,0),IF($D59=1,IVM!G59,0))","v":0},null,{"$f":"IF(OR(COUNTRY_INFO!N59=\"Inconnu\",COUNTRY_INFO!N59=\"Surveillance\",COUNTRY_INFO!N59=\"Non requis\",COUNTRY_INFO!N59=0),0,IF(INTRO!$E$39=\"Non endémique\",IF(AND($E59<>0,$G59=\"\"),IF($F59=0,COUNTRY_INFO!N59*$E59,COUNTRY_INFO!N59*($E59-$D59)),IF(AND($E59<>0,$G59<>0),IF($F59=0,COUNTRY_INFO!N59*$G59,COUNTRY_INFO!N59*($G59-$D59)),0)),IF($G59=\"\",COUNTRY_INFO!N59*$E59,COUNTRY_INFO!N59*$G59)))","v":0},{"$f":"IF(OR(COUNTRY_INFO!O59=\"Inconnu\",COUNTRY_INFO!O59=\"Surveillance\",COUNTRY_INFO!O59=\"Non requis\",COUNTRY_INFO!O59=0),0,IF($E59<>0, IF($F59=0,COUNTRY_INFO!O59*$E59,COUNTRY_INFO!O59*($E59-$D59)),COUNTRY_INFO!O59*$E59))","v":0},null,{"$f":"IF(OR(COUNTRY_INFO!P59=\"Inconnu\",COUNTRY_INFO!P59=\"Surveillance\",COUNTRY_INFO!P59=\"Non requis\",COUNTRY_INFO!P59=0),0,IF(AND($E59<>0,$J59=\"\"),IF($F59=0,COUNTRY_INFO!P59*$E59,COUNTRY_INFO!P59*($E59-$D59)), IF(AND($E59<>0,$J59<>0),IF($F59=0,COUNTRY_INFO!P59*$J59,COUNTRY_INFO!P59*($J59-$D59)), COUNTRY_INFO!P59*$J59)))","v":0},0,0,null,0,0,null,0,0,null,0]
[{"$f":"IF(AND(INTRO!$E$37=\"Non endémique\",INTRO!$E$41=\"Non endémique\"),\" \",IF(COUNTRY_INFO!A60=0,\" \",COUNTRY_INFO!A60))","v":"Côte d'Ivoire"},{"$f":"IF(AND(INTRO!$E$37=\"Non endémique\",INTRO!$E$41=\"Non endémique\"),\" \",IF(COUNTRY_INFO!B60=0,\" \",COUNTRY_INFO!B60))","v":"GONTOUGO"},{"$f":"IF(AND(INTRO!$E$37=\"Non endémique\",INTRO!$E$41=\"Non endémique\"),\" \",IF(COUNTRY_INFO!C60=0,\" \",COUNTRY_INFO!C60))","v":"TANDA"},{"$f":"IF(AND(INTRO!$E$37=\"Non endémique\",INTRO!$E$41=\"Non endémique\"),0,COUNTRY_INFO!V60)","v":0},{"$f":"IF(AND(INTRO!$E$37=\"Non endémique\",INTRO!$E$41=\"Non endémique\"),0,COUNTRY_INFO!X60)","v":1},{"$f":"IF(INTRO!$E$39=\"Non endémique\",IF($D60=1,DEC!I60,0),IF($D60=1,IVM!G60,0))","v":0},null,{"$f":"IF(OR(COUNTRY_INFO!N60=\"Inconnu\",COUNTRY_INFO!N60=\"Surveillance\",COUNTRY_INFO!N60=\"Non requis\",COUNTRY_INFO!N60=0),0,IF(INTRO!$E$39=\"Non endémique\",IF(AND($E60<>0,$G60=\"\"),IF($F60=0,COUNTRY_INFO!N60*$E60,COUNTRY_INFO!N60*($E60-$D60)),IF(AND($E60<>0,$G60<>0),IF($F60=0,COUNTRY_INFO!N60*$G60,COUNTRY_INFO!N60*($G60-$D60)),0)),IF($G60=\"\",COUNTRY_INFO!N60*$E60,COUNTRY_INFO!N60*$G60)))","v":11606},{"$f":"IF(OR(COUNTRY_INFO!O60=\"Inconnu\",COUNTRY_INFO!O60=\"Surveillance\",COUNTRY_INFO!O60=\"Non requis\",COUNTRY_INFO!O60=0),0,IF($E60<>0, IF($F60=0,COUNTRY_INFO!O60*$E60,COUNTRY_INFO!O60*($E60-$D60)),COUNTRY_INFO!O60*$E60))","v":23267},null,{"$f":"IF(OR(COUNTRY_INFO!P60=\"Inconnu\",COUNTRY_INFO!P60=\"Surveillance\",COUNTRY_INFO!P60=\"Non requis\",COUNTRY_INFO!P60=0),0,IF(AND($E60<>0,$J60=\"\"),IF($F60=0,COUNTRY_INFO!P60*$E60,COUNTRY_INFO!P60*($E60-$D60)), IF(AND($E60<>0,$J60<>0),IF($F60=0,COUNTRY_INFO!P60*$J60,COUNTRY_INFO!P60*($J60-$D60)), COUNTRY_INFO!P60*$J60)))","v":22069},56942,0,null,0,23267,null,23267,0,null,0]
[{"$f":"IF(AND(INTRO!$E$37=\"Non endémique\",INTRO!$E$41=\"Non endémique\"),\" \",IF(COUNTRY_INFO!A61=0,\" \",COUNTRY_INFO!A61))","v":"Côte d'Ivoire"},{"$f":"IF(AND(INTRO!$E$37=\"Non endémique\",INTRO!$E$41=\"Non endémique\"),\" \",IF(COUNTRY_INFO!B61=0,\" \",COUNTRY_INFO!B61))","v":"GONTOUGO"},{"$f":"IF(AND(INTRO!$E$37=\"Non endémique\",INTRO!$E$41=\"Non endémique\"),\" \",IF(COUNTRY_INFO!C61=0,\" \",COUNTRY_INFO!C61))","v":"TRANSUA"},{"$f":"IF(AND(INTRO!$E$37=\"Non endémique\",INTRO!$E$41=\"Non endémique\"),0,COUNTRY_INFO!V61)","v":0},{"$f":"IF(AND(INTRO!$E$37=\"Non endémique\",INTRO!$E$41=\"Non endémique\"),0,COUNTRY_INFO!X61)","v":1},{"$f":"IF(INTRO!$E$39=\"Non endémique\",IF($D61=1,DEC!I61,0),IF($D61=1,IVM!G61,0))","v":0},null,{"$f":"IF(OR(COUNTRY_INFO!N61=\"Inconnu\",COUNTRY_INFO!N61=\"Surveillance\",COUNTRY_INFO!N61=\"Non requis\",COUNTRY_INFO!N61=0),0,IF(INTRO!$E$39=\"Non endémique\",IF(AND($E61<>0,$G61=\"\"),IF($F61=0,COUNTRY_INFO!N61*$E61,COUNTRY_INFO!N61*($E61-$D61)),IF(AND($E61<>0,$G61<>0),IF($F61=0,COUNTRY_INFO!N61*$G61,COUNTRY_INFO!N61*($G61-$D61)),0)),IF($G61=\"\",COUNTRY_INFO!N61*$E61,COUNTRY_INFO!N61*$G61)))","v":12493},{"$f":"IF(OR(COUNTRY_INFO!O61=\"Inconnu\",COUNTRY_INFO!O61=\"Surveillance\",COUNTRY_INFO!O61=\"Non requis\",COUNTRY_INFO!O61=0),0,IF($E61<>0, IF($F61=0,COUNTRY_INFO!O61*$E61,COUNTRY_INFO!O61*($E61-$D61)),COUNTRY_INFO!O61*$E61))","v":25044},null,{"$f":"IF(OR(COUNTRY_INFO!P61=\"Inconnu\",COUNTRY_INFO!P61=\"Surveillance\",COUNTRY_INFO!P61=\"Non requis\",COUNTRY_INFO!P61=0),0,IF(AND($E61<>0,$J61=\"\"),IF($F61=0,COUNTRY_INFO!P61*$E61,COUNTRY_INFO!P61*($E61-$D61)), IF(AND($E61<>0,$J61<>0),IF($F61=0,COUNTRY_INFO!P61*$J61,COUNTRY_INFO!P61*($J61-$D61)), COUNTRY_INFO!P61*$J61)))","v":23755},61292,0,null,0,25044,null,25044,0,null,0]
[{"$f":"IF(AND(INTRO!$E$37=\"Non endémique\",INTRO!$E$41=\"Non endémique\"),\" \",IF(COUNTRY_INFO!A62=0,\" \",COUNTRY_INFO!A62))","v":"Côte d'Ivoire"},{"$f":"IF(AND(INTRO!$E$37=\"Non endémique\",INTRO!$E$41=\"Non endémique\"),\" \",IF(COUNTRY_INFO!B62=0,\" \",COUNTRY_INFO!B62))","v":"GRANDS PONTS"},{"$f":"IF(AND(INTRO!$E$37=\"Non endémique\",INTRO!$E$41=\"Non endémique\"),\" \",IF(COUNTRY_INFO!C62=0,\" \",COUNTRY_INFO!C62))","v":"DABOU"},{"$f":"IF(AND(INTRO!$E$37=\"Non endémique\",INTRO!$E$41=\"Non endémique\"),0,COUNTRY_INFO!V62)","v":0},{"$f":"IF(AND(INTRO!$E$37=\"Non endémique\",INTRO!$E$41=\"Non endémique\"),0,COUNTRY_INFO!X62)","v":1},{"$f":"IF(INTRO!$E$39=\"Non endémique\",IF($D62=1,DEC!I62,0),IF($D62=1,IVM!G62,0))","v":0},null,{"$f":"IF(OR(COUNTRY_INFO!N62=\"Inconnu\",COUNTRY_INFO!N62=\"Surveillance\",COUNTRY_INFO!N62=\"Non requis\",COUNTRY_INFO!N62=0),0,IF(INTRO!$E$39=\"Non endémique\",IF(AND($E62<>0,$G62=\"\"),IF($F62=0,COUNTRY_INFO!N62*$E62,COUNTRY_INFO!N62*($E62-$D62)),IF(AND($E62<>0,$G62<>0),IF($F62=0,COUNTRY_INFO!N62*$G62,COUNTRY_INFO!N62*($G62-$D62)),0)),IF($G62=\"\",COUNTRY_INFO!N62*$E62,COUNTRY_INFO!N62*$G62)))","v":21751},{"$f":"IF(OR(COUNTRY_INFO!O62=\"Inconnu\",COUNTRY_INFO!O62=\"Surveillance\",COUNTRY_INFO!O62=\"Non requis\",COUNTRY_INFO!O62=0),0,IF($E62<>0, IF($F62=0,COUNTRY_INFO!O62*$E62,COUNTRY_INFO!O62*($E62-$D62)),COUNTRY_INFO!O62*$E62))","v":43604},null,{"$f":"IF(OR(COUNTRY_INFO!P62=\"Inconnu\",COUNTRY_INFO!P62=\"Surveillance\",COUNTRY_INFO!P62=\"Non requis\",COUNTRY_INFO!P62=0),0,IF(AND($E62<>0,$J62=\"\"),IF($F62=0,COUNTRY_INFO!P62*$E62,COUNTRY_INFO!P62*($E62-$D62)), IF(AND($E62<>0,$J62<>0),IF($F62=0,COUNTRY_INFO!P62*$J62,COUNTRY_INFO!P62*($J62-$D62)), COUNTRY_INFO!P62*$J62)))","v":41359},106714,0,null,0,43604,null,43604,0,null,0]
[{"$f":"IF(AND(INTRO!$E$37=\"Non endémique\",INTRO!$E$41=\"Non endémique\"),\" \",IF(COUNTRY_INFO!A63=0,\" \",COUNTRY_INFO!A63))","v":"Côte d'Ivoire"},{"$f":"IF(AND(INTRO!$E$37=\"Non endémique\",INTRO!$E$41=\"Non endémique\"),\" \",IF(COUNTRY_INFO!B63=0,\" \",COUNTRY_INFO!B63))","v":"GRANDS PONTS"},{"$f":"IF(AND(INTRO!$E$37=\"Non endémique\",INTRO!$E$41=\"Non endémique\"),\" \",IF(COUNTRY_INFO!C63=0,\" \",COUNTRY_INFO!C63))","v":"GRAND-LAHOU"},{"$f":"IF(AND(INTRO!$E$37=\"Non endémique\",INTRO!$E$41=\"Non endémique\"),0,COUNTRY_INFO!V63)","v":0},{"$f":"IF(AND(INTRO!$E$37=\"Non endémique\",INTRO!$E$41=\"Non endémique\"),0,COUNTRY_INFO!X63)","v":1},{"$f":"IF(INTRO!$E$39=\"Non endémique\",IF($D63=1,DEC!I63,0),IF($D63=1,IVM!G63,0))","v":0},null,{"$f":"IF(OR(COUNTRY_INFO!N63=\"Inconnu\",COUNTRY_INFO!N63=\"Surveillance\",COUNTRY_INFO!N63=\"Non requis\",COUNTRY_INFO!N63=0),0,IF(INTRO!$E$39=\"Non endémique\",IF(AND($E63<>0,$G63=\"\"),IF($F63=0,COUNTRY_INFO!N63*$E63,COUNTRY_INFO!N63*($E63-$D63)),IF(AND($E63<>0,$G63<>0),IF($F63=0,COUNTRY_INFO!N63*$G63,COUNTRY_INFO!N63*($G63-$D63)),0)),IF($G63=\"\",COUNTRY_INFO!N63*$E63,COUNTRY_INFO!N63*$G63)))","v":22107},{"$f":"IF(OR(COUNTRY_INFO!O63=\"Inconnu\",COUNTRY_INFO!O63=\"Surveillance\",COUNTRY_INFO!O63=\"Non requis\",COUNTRY_INFO!O63=0),0,IF($E63<>0, IF($F63=0,COUNTRY_INFO!O63*$E63,COUNTRY_INFO!O63*($E63-$D63)),COUNTRY_INFO!O63*$E63))","v":44319},null,{"$f":"IF(OR(COUNTRY_INFO!P63=\"Inconnu\",COUNTRY_INFO!P63=\"Surveillance\",COUNTRY_INFO!P63=\"Non requis\",COUNTRY_INFO!P63=0),0,IF(AND($E63<>0,$J63=\"\"),IF($F63=0,COUNTRY_INFO!P63*$E63,COUNTRY_INFO!P63*($E63-$D63)), IF(AND($E63<>0,$J63<>0),IF($F63=0,COUNTRY_INFO!P63*$J63,COUNTRY_INFO!P63*($J63-$D63)), COUNTRY_INFO!P63*$J63)))","v":42037},108463,0,null,0,44319,null,44319,0,null,0]
[{"$f":"IF(AND(INTRO!$E$37=\"Non endémique\",INTRO!$E$41=\"Non endémique\"),\" \",IF(COUNTRY_INFO!A64=0,\" \",COUNTRY_INFO!A64))","v":"Côte d'Ivoire"},{"$f":"IF(AND(INTRO!$E$37=\"Non endémique\",INTRO!$E$41=\"Non endémique\"),\" \",IF(COUNTRY_INFO!B64=0,\" \",COUNTRY_INFO!B64))","v":"GRANDS PONTS"},{"$f":"IF(AND(INTRO!$E$37=\"Non endémique\",INTRO!$E$41=\"Non endémique\"),\" \",IF(COUNTRY_INFO!C64=0,\" \",COUNTRY_INFO!C64))","v":"JACQUEVILLE"},{"$f":"IF(AND(INTRO!$E$37=\"Non endémique\",INTRO!$E$41=\"Non endémique\"),0,COUNTRY_INFO!V64)","v":0},{"$f":"IF(AND(INTRO!$E$37=\"Non endémique\",INTRO!$E$41=\"Non endémique\"),0,COUNTRY_INFO!X64)","v":1},{"$f":"IF(INTRO!$E$39=\"Non endémique\",IF($D64=1,DEC!I64,0),IF($D64=1,IVM!G64,0))","v":0},null,{"$f":"IF(OR(COUNTRY_INFO!N64=\"Inconnu\",COUNTRY_INFO!N64=\"Surveillance\",COUNTRY_INFO!N64=\"Non requis\",COUNTRY_INFO!N64=0),0,IF(INTRO!$E$39=\"Non endémique\",IF(AND($E64<>0,$G64=\"\"),IF($F64=0,COUNTRY_INFO!N64*$E64,COUNTRY_INFO!N64*($E64-$D64)),IF(AND($E64<>0,$G64<>0),IF($F64=0,COUNTRY_INFO!N64*$G64,COUNTRY_INFO!N64*($G64-$D64)),0)),IF($G64=\"\",COUNTRY_INFO!N64*$E64,COUNTRY_INFO!N64*$G64)))","v":8227},{"$f":"IF(OR(COUNTRY_INFO!O64=\"Inconnu\",COUNTRY_INFO!O64=\"Surveillance\",COUNTRY_INFO!O64=\"Non requis\",COUNTRY_INFO!O64=0),0,IF($E64<>0, IF($F64=0,COUNTRY_INFO!O64*$E64,COUNTRY_INFO!O64*($E64-$D64)),COUNTRY_INFO!O64*$E64))","v":16492},null,{"$f":"IF(OR(COUNTRY_INFO!P64=\"Inconnu\",COUNTRY_INFO!P64=\"Surveillance\",COUNTRY_INFO!P64=\"Non requis\",COUNTRY_INFO!P64=0),0,IF(AND($E64<>0,$J64=\"\"),IF($F64=0,COUNTRY_INFO!P64*$E64,COUNTRY_INFO!P64*($E64-$D64)), IF(AND($E64<>0,$J64<>0),IF($F64=0,COUNTRY_INFO!P64*$J64,COUNTRY_INFO!P64*($J64-$D64)), COUNTRY_INFO!P64*$J64)))","v":15643},40362,0,null,0,16492,null,16492,0,null,0]
[{"$f":"IF(AND(INTRO!$E$37=\"Non endémique\",INTRO!$E$41=\"Non endémique\"),\" \",IF(COUNTRY_INFO!A65=0,\" \",COUNTRY_INFO!A65))","v":"Côte d'Ivoire"},{"$f":"IF(AND(INTRO!$E$37=\"Non endémique\",INTRO!$E$41=\"Non endémique\"),\" \",IF(COUNTRY_INFO!B65=0,\" \",COUNTRY_INFO!B65))","v":"GUEMON"},{"$f":"IF(AND(INTRO!$E$37=\"Non endémique\",INTRO!$E$41=\"Non endémique\"),\" \",IF(COUNTRY_INFO!C65=0,\" \",COUNTRY_INFO!C65))","v":"BANGOLO"},{"$f":"IF(AND(INTRO!$E$37=\"Non endémique\",INTRO!$E$41=\"Non endémique\"),0,COUNTRY_INFO!V65)","v":0},{"$f":"IF(AND(INTRO!$E$37=\"Non endémique\",INTRO!$E$41=\"Non endémique\"),0,COUNTRY_INFO!X65)","v":0},{"$f":"IF(INTRO!$E$39=\"Non endémique\",IF($D65=1,DEC!I65,0),IF($D65=1,IVM!G65,0))","v":0},null,{"$f":"IF(OR(COUNTRY_INFO!N65=\"Inconnu\",COUNTRY_INFO!N65=\"Surveillance\",COUNTRY_INFO!N65=\"Non requis\",COUNTRY_INFO!N65=0),0,IF(INTRO!$E$39=\"Non endémique\",IF(AND($E65<>0,$G65=\"\"),IF($F65=0,COUNTRY_INFO!N65*$E65,COUNTRY_INFO!N65*($E65-$D65)),IF(AND($E65<>0,$G65<>0),IF($F65=0,COUNTRY_INFO!N65*$G65,COUNTRY_INFO!N65*($G65-$D65)),0)),IF($G65=\"\",COUNTRY_INFO!N65*$E65,COUNTRY_INFO!N65*$G65)))","v":0},{"$f":"IF(OR(COUNTRY_INFO!O65=\"Inconnu\",COUNTRY_INFO!O65=\"Surveillance\",COUNTRY_INFO!O65=\"Non requis\",COUNTRY_INFO!O65=0),0,IF($E65<>0, IF($F65=0,COUNTRY_INFO!O65*$E65,COUNTRY_INFO!O65*($E65-$D65)),COUNTRY_INFO!O65*$E65))","v":0},null,{"$f":"IF(OR(COUNTRY_INFO!P65=\"Inconnu\",COUNTRY_INFO!P65=\"Surveillance\",COUNTRY_INFO!P65=\"Non requis\",COUNTRY_INFO!P65=0),0,IF(AND($E65<>0,$J65=\"\"),IF($F65=0,COUNTRY_INFO!P65*$E65,COUNTRY_INFO!P65*($E65-$D65)), IF(AND($E65<>0,$J65<>0),IF($F65=0,COUNTRY_INFO!P65*$J65,COUNTRY_INFO!P65*($J65-$D65)), COUNTRY_INFO!P65*$J65)))","v":0},0,0,null,0,0,null,0,0,null,0]
[{"$f":"IF(AND(INTRO!$E$37=\"Non endémique\",INTRO!$E$41=\"Non endémique\"),\" \",IF(COUNTRY_INFO!A66=0,\" \",COUNTRY_INFO!A66))","v":"Côte d'Ivoire"},{"$f":"IF(AND(INTRO!$E$37=\"Non endémique\",INTRO!$E$41=\"Non endémique\"),\" \",IF(COUNTRY_INFO!B66=0,\" \",COUNTRY_INFO!B66))","v":"GUEMON"},{"$f":"IF(AND(INTRO!$E$37=\"Non endémique\",INTRO!$E$41=\"Non endémique\"),\" \",IF(COUNTRY_INFO!C66=0,\" \",COUNTRY_INFO!C66))","v":"DUEKOUE"},{"$f":"IF(AND(INTRO!$E$37=\"Non endémique\",INTRO!$E$41=\"Non endémique\"),0,COUNTRY_INFO!V66)","v":0},{"$f":"IF(AND(INTRO!$E$37=\"Non endémique\",INTRO!$E$41=\"Non endémique\"),0,COUNTRY_INFO!X66)","v":0},{"$f":"IF(INTRO!$E$39=\"Non endémique\",IF($D66=1,DEC!I66,0),IF($D66=1,IVM!G66,0))","v":0},null,{"$f":"IF(OR(COUNTRY_INFO!N66=\"Inconnu\",COUNTRY_INFO!N66=\"Surveillance\",COUNTRY_INFO!N66=\"Non requis\",COUNTRY_INFO!N66=0),0,IF(INTRO!$E$39=\"Non endémique\",IF(AND($E66<>0,$G66=\"\"),IF($F66=0,COUNTRY_INFO!N66*$E66,COUNTRY_INFO!N66*($E66-$D66)),IF(AND($E66<>0,$G66<>0),IF($F66=0,COUNTRY_INFO!N66*$G66,COUNTRY_INFO!N66*($G66-$D66)),0)),IF($G66=\"\",COUNTRY_INFO!N66*$E66,COUNTRY_INFO!N66*$G66)))","v":0},{"$f":"IF(OR(COUNTRY_INFO!O66=\"Inconnu\",COUNTRY_INFO!O66=\"Surveillance\",COUNTRY_INFO!O66=\"Non requis\",COUNTRY_INFO!O66=0),0,IF($E66<>0, IF($F66=0,COUNTRY_INFO!O66*$E66,COUNTRY_INFO!O66*($E66-$D66)),COUNTRY_INFO!O66*$E66))","v":0},null,{"$f":"IF(OR(COUNTRY_INFO!P66=\"Inconnu\",COUNTRY_INFO!P66=\"Surveillance\",COUNTRY_INFO!P66=\"Non requis\",COUNTRY_INFO!P66=0),0,IF(AND($E66<>0,$J66=\"\"),IF($F66=0,COUNTRY_INFO!P66*$E66,COUNTRY_INFO!P66*($E66-$D66)), IF(AND($E66<>0,$J66<>0),IF($F66=0,COUNTRY_INFO!P66*$J66,COUNTRY_INFO!P66*($J66-$D66)), COUNTRY_INFO!P66*$J66)))","v":0},0,0,null,0,0,null,0,0,null,0]
[{"$f":"IF(AND(INTRO!$E$37=\"Non endémique\",INTRO!$E$41=\"Non endémique\"),\" \",IF(COUNTRY_INFO!A67=0,\" \",COUNTRY_INFO!A67))","v":"Côte d'Ivoire"},{"$f":"IF(AND(INTRO!$E$37=\"Non endémique\",INTRO!$E$41=\"Non endémique\"),\" \",IF(COUNTRY_INFO!B67=0,\" \",COUNTRY_INFO!B67))","v":"GUEMON"},{"$f":"IF(AND(INTRO!$E$37=\"Non endémique\",INTRO!$E$41=\"Non endémique\"),\" \",IF(COUNTRY_INFO!C67=0,\" \",COUNTRY_INFO!C67))","v":"KOUIBLY"},{"$f":"IF(AND(INTRO!$E$37=\"Non endémique\",INTRO!$E$41=\"Non endémique\"),0,COUNTRY_INFO!V67)","v":0},{"$f":"IF(AND(INTRO!$E$37=\"Non endémique\",INTRO!$E$41=\"Non endémique\"),0,COUNTRY_INFO!X67)","v":0},{"$f":"IF(INTRO!$E$39=\"Non endémique\",IF($D67=1,DEC!I67,0),IF($D67=1,IVM!G67,0))","v":0},null,{"$f":"IF(OR(COUNTRY_INFO!N67=\"Inconnu\",COUNTRY_INFO!N67=\"Surveillance\",COUNTRY_INFO!N67=\"Non requis\",COUNTRY_INFO!N67=0),0,IF(INTRO!$E$39=\"Non endémique\",IF(AND($E67<>0,$G67=\"\"),IF($F67=0,COUNTRY_INFO!N67*$E67,COUNTRY_INFO!N67*($E67-$D67)),IF(AND($E67<>0,$G67<>0),IF($F67=0,COUNTRY_INFO!N67*$G67,COUNTRY_INFO!N67*($G67-$D67)),0)),IF($G67=\"\",COUNTRY_INFO!N67*$E67,COUNTRY_INFO!N67*$G67)))","v":0},{"$f":"IF(OR(COUNTRY_INFO!O67=\"Inconnu\",COUNTRY_INFO!O67=\"Surveillance\",COUNTRY_INFO!O67=\"Non requis\",COUNTRY_INFO!O67=0),0,IF($E67<>0, IF($F67=0,COUNTRY_INFO!O67*$E67,COUNTRY_INFO!O67*($E67-$D67)),COUNTRY_INFO!O67*$E67))","v":0},null,{"$f":"IF(OR(COUNTRY_INFO!P67=\"Inconnu\",COUNTRY_INFO!P67=\"Surveillance\",COUNTRY_INFO!P67=\"Non requis\",COUNTRY_INFO!P67=0),0,IF(AND($E67<>0,$J67=\"\"),IF($F67=0,COUNTRY_INFO!P67*$E67,COUNTRY_INFO!P67*($E67-$D67)), IF(AND($E67<>0,$J67<>0),IF($F67=0,COUNTRY_INFO!P67*$J67,COUNTRY_INFO!P67*($J67-$D67)), COUNTRY_INFO!P67*$J67)))","v":0},0,0,null,0,0,null,0,0,null,0]
[{"$f":"IF(AND(INTRO!$E$37=\"Non endémique\",INTRO!$E$41=\"Non endémique\"),\" \",IF(COUNTRY_INFO!A68=0,\" \",COUNTRY_INFO!A68))","v":"Côte d'Ivoire"},{"$f":"IF(AND(INTRO!$E$37=\"Non endémique\",INTRO!$E$41=\"Non endémique\"),\" \",IF(COUNTRY_INFO!B68=0,\" \",COUNTRY_INFO!B68))","v":"HAMBOL"},{"$f":"IF(AND(INTRO!$E$37=\"Non endémique\",INTRO!$E$41=\"Non endémique\"),\" \",IF(COUNTRY_INFO!C68=0,\" \",COUNTRY_INFO!C68))","v":"DABAKALA"},{"$f":"IF(AND(INTRO!$E$37=\"Non endémique\",INTRO!$E$41=\"Non endémique\"),0,COUNTRY_INFO!V68)","v":0},{"$f":"IF(AND(INTRO!$E$37=\"Non endémique\",INTRO!$E$41=\"Non endémique\"),0,COUNTRY_INFO!X68)","v":0},{"$f":"IF(INTRO!$E$39=\"Non endémique\",IF($D68=1,DEC!I68,0),IF($D68=1,IVM!G68,0))","v":0},null,{"$f":"IF(OR(COUNTRY_INFO!N68=\"Inconnu\",COUNTRY_INFO!N68=\"Surveillance\",COUNTRY_INFO!N68=\"Non requis\",COUNTRY_INFO!N68=0),0,IF(INTRO!$E$39=\"Non endémique\",IF(AND($E68<>0,$G68=\"\"),IF($F68=0,COUNTRY_INFO!N68*$E68,COUNTRY_INFO!N68*($E68-$D68)),IF(AND($E68<>0,$G68<>0),IF($F68=0,COUNTRY_INFO!N68*$G68,COUNTRY_INFO!N68*($G68-$D68)),0)),IF($G68=\"\",COUNTRY_INFO!N68*$E68,COUNTRY_INFO!N68*$G68)))","v":0},{"$f":"IF(OR(COUNTRY_INFO!O68=\"Inconnu\",COUNTRY_INFO!O68=\"Surveillance\",COUNTRY_INFO!O68=\"Non requis\",COUNTRY_INFO!O68=0),0,IF($E68<>0, IF($F68=0,COUNTRY_INFO!O68*$E68,COUNTRY_INFO!O68*($E68-$D68)),COUNTRY_INFO!O68*$E68))","v":0},null,{"$f":"IF(OR(COUNTRY_INFO!P68=\"Inconnu\",COUNTRY_INFO!P68=\"Surveillance\",COUNTRY_INFO!P68=\"Non requis\",COUNTRY_INFO!P68=0),0,IF(AND($E68<>0,$J68=\"\"),IF($F68=0,COUNTRY_INFO!P68*$E68,COUNTRY_INFO!P68*($E68-$D68)), IF(AND($E68<>0,$J68<>0),IF($F68=0,COUNTRY_INFO!P68*$J68,COUNTRY_INFO!P68*($J68-$D68)), COUNTRY_INFO!P68*$J68)))","v":0},0,0,null,0,0,null,0,0,null,0]
[{"$f":"IF(AND(INTRO!$E$37=\"Non endémique\",INTRO!$E$41=\"Non endémique\"),\" \",IF(COUNTRY_INFO!A69=0,\" \",COUNTRY_INFO!A69))","v":"Côte d'Ivoire"},{"$f":"IF(AND(INTRO!$E$37=\"Non endémique\",INTRO!$E$41=\"Non endémique\"),\" \",IF(COUNTRY_INFO!B69=0,\" \",COUNTRY_INFO!B69))","v":"HAMBOL"},{"$f":"IF(AND(INTRO!$E$37=\"Non endémique\",INTRO!$E$41=\"Non endémique\"),\" \",IF(COUNTRY_INFO!C69=0,\" \",COUNTRY_INFO!C69))","v":"KATIOLA"},{"$f":"IF(AND(INTRO!$E$37=\"Non endémique\",INTRO!$E$41=\"Non endémique\"),0,COUNTRY_INFO!V69)","v":0},{"$f":"IF(AND(INTRO!$E$37=\"Non endémique\",INTRO!$E$41=\"Non endémique\"),0,COUNTRY_INFO!X69)","v":0},{"$f":"IF(INTRO!$E$39=\"Non endémique\",IF($D69=1,DEC!I69,0),IF($D69=1,IVM!G69,0))","v":0},null,{"$f":"IF(OR(COUNTRY_INFO!N69=\"Inconnu\",COUNTRY_INFO!N69=\"Surveillance\",COUNTRY_INFO!N69=\"Non requis\",COUNTRY_INFO!N69=0),0,IF(INTRO!$E$39=\"Non endémique\",IF(AND($E69<>0,$G69=\"\"),IF($F69=0,COUNTRY_INFO!N69*$E69,COUNTRY_INFO!N69*($E69-$D69)),IF(AND($E69<>0,$G69<>0),IF($F69=0,COUNTRY_INFO!N69*$G69,COUNTRY_INFO!N69*($G69-$D69)),0)),IF($G69=\"\",COUNTRY_INFO!N69*$E69,COUNTRY_INFO!N69*$G69)))","v":0},{"$f":"IF(OR(COUNTRY_INFO!O69=\"Inconnu\",COUNTRY_INFO!O69=\"Surveillance\",COUNTRY_INFO!O69=\"Non requis\",COUNTRY_INFO!O69=0),0,IF($E69<>0, IF($F69=0,COUNTRY_INFO!O69*$E69,COUNTRY_INFO!O69*($E69-$D69)),COUNTRY_INFO!O69*$E69))","v":0},null,{"$f":"IF(OR(COUNTRY_INFO!P69=\"Inconnu\",COUNTRY_INFO!P69=\"Surveillance\",COUNTRY_INFO!P69=\"Non requis\",COUNTRY_INFO!P69=0),0,IF(AND($E69<>0,$J69=\"\"),IF($F69=0,COUNTRY_INFO!P69*$E69,COUNTRY_INFO!P69*($E69-$D69)), IF(AND($E69<>0,$J69<>0),IF($F69=0,COUNTRY_INFO!P69*$J69,COUNTRY_INFO!P69*($J69-$D69)), COUNTRY_INFO!P69*$J69)))","v":0},0,0,null,0,0,null,0,0,null,0]
[{"$f":"IF(AND(INTRO!$E$37=\"Non endémique\",INTRO!$E$41=\"Non endémique\"),\" \",IF(COUNTRY_INFO!A70=0,\" \",COUNTRY_INFO!A70))","v":"Côte d'Ivoire"},{"$f":"IF(AND(INTRO!$E$37=\"Non endémique\",INTRO!$E$41=\"Non endémique\"),\" \",IF(COUNTRY_INFO!B70=0,\" \",COUNTRY_INFO!B70))","v":"HAMBOL"},{"$f":"IF(AND(INTRO!$E$37=\"Non endémique\",INTRO!$E$41=\"Non endémique\"),\" \",IF(COUNTRY_INFO!C70=0,\" \",COUNTRY_INFO!C70))","v":"NIAKARA"},{"$f":"IF(AND(INTRO!$E$37=\"Non endémique\",INTRO!$E$41=\"Non endémique\"),0,COUNTRY_INFO!V70)","v":0},{"$f":"IF(AND(INTRO!$E$37=\"Non endémique\",INTRO!$E$41=\"Non endémique\"),0,COUNTRY_INFO!X70)","v":0},{"$f":"IF(INTRO!$E$39=\"Non endémique\",IF($D70=1,DEC!I70,0),IF($D70=1,IVM!G70,0))","v":0},null,{"$f":"IF(OR(COUNTRY_INFO!N70=\"Inconnu\",COUNTRY_INFO!N70=\"Surveillance\",COUNTRY_INFO!N70=\"Non requis\",COUNTRY_INFO!N70=0),0,IF(INTRO!$E$39=\"Non endémique\",IF(AND($E70<>0,$G70=\"\"),IF($F70=0,COUNTRY_INFO!N70*$E70,COUNTRY_INFO!N70*($E70-$D70)),IF(AND($E70<>0,$G70<>0),IF($F70=0,COUNTRY_INFO!N70*$G70,COUNTRY_INFO!N70*($G70-$D70)),0)),IF($G70=\"\",COUNTRY_INFO!N70*$E70,COUNTRY_INFO!N70*$G70)))","v":0},{"$f":"IF(OR(COUNTRY_INFO!O70=\"Inconnu\",COUNTRY_INFO!O70=\"Surveillance\",COUNTRY_INFO!O70=\"Non requis\",COUNTRY_INFO!O70=0),0,IF($E70<>0, IF($F70=0,COUNTRY_INFO!O70*$E70,COUNTRY_INFO!O70*($E70-$D70)),COUNTRY_INFO!O70*$E70))","v":0},null,{"$f":"IF(OR(COUNTRY_INFO!P70=\"Inconnu\",COUNTRY_INFO!P70=\"Surveillance\",COUNTRY_INFO!P70=\"Non requis\",COUNTRY_INFO!P70=0),0,IF(AND($E70<>0,$J70=\"\"),IF($F70=0,COUNTRY_INFO!P70*$E70,COUNTRY_INFO!P70*($E70-$D70)), IF(AND($E70<>0,$J70<>0),IF($F70=0,COUNTRY_INFO!P70*$J70,COUNTRY_INFO!P70*($J70-$D70)), COUNTRY_INFO!P70*$J70)))","v":0},0,0,null,0,0,null,0,0,null,0]
[{"$f":"IF(AND(INTRO!$E$37=\"Non endémique\",INTRO!$E$41=\"Non endémique\"),\" \",IF(COUNTRY_INFO!A71=0,\" \",COUNTRY_INFO!A71))","v":"Côte d'Ivoire"},{"$f":"IF(AND(INTRO!$E$37=\"Non endémique\",INTRO!$E$41=\"Non endémique\"),\" \",IF(COUNTRY_INFO!B71=0,\" \",COUNTRY_INFO!B71))","v":"HAUT SASSANDRA"},{"$f":"IF(AND(INTRO!$E$37=\"Non endémique\",INTRO!$E$41=\"Non endémique\"),\" \",IF(COUNTRY_INFO!C71=0,\" \",COUNTRY_INFO!C71))","v":"DALOA"},{"$f":"IF(AND(INTRO!$E$37=\"Non endémique\",INTRO!$E$41=\"Non endémique\"),0,COUNTRY_INFO!V71)","v":0},{"$f":"IF(AND(INTRO!$E$37=\"Non endémique\",INTRO!$E$41=\"Non endémique\"),0,COUNTRY_INFO!X71)","v":0},{"$f":"IF(INTRO!$E$39=\"Non endémique\",IF($D71=1,DEC!I71,0),IF($D71=1,IVM!G71,0))","v":0},null,{"$f":"IF(OR(COUNTRY_INFO!N71=\"Inconnu\",COUNTRY_INFO!N71=\"Surveillance\",COUNTRY_INFO!N71=\"Non requis\",COUNTRY_INFO!N71=0),0,IF(INTRO!$E$39=\"Non endémique\",IF(AND($E71<>0,$G71=\"\"),IF($F71=0,COUNTRY_INFO!N71*$E71,COUNTRY_INFO!N71*($E71-$D71)),IF(AND($E71<>0,$G71<>0),IF($F71=0,COUNTRY_INFO!N71*$G71,COUNTRY_INFO!N71*($G71-$D71)),0)),IF($G71=\"\",COUNTRY_INFO!N71*$E71,COUNTRY_INFO!N71*$G71)))","v":0},{"$f":"IF(OR(COUNTRY_INFO!O71=\"Inconnu\",COUNTRY_INFO!O71=\"Surveillance\",COUNTRY_INFO!O71=\"Non requis\",COUNTRY_INFO!O71=0),0,IF($E71<>0, IF($F71=0,COUNTRY_INFO!O71*$E71,COUNTRY_INFO!O71*($E71-$D71)),COUNTRY_INFO!O71*$E71))","v":0},null,{"$f":"IF(OR(COUNTRY_INFO!P71=\"Inconnu\",COUNTRY_INFO!P71=\"Surveillance\",COUNTRY_INFO!P71=\"Non requis\",COUNTRY_INFO!P71=0),0,IF(AND($E71<>0,$J71=\"\"),IF($F71=0,COUNTRY_INFO!P71*$E71,COUNTRY_INFO!P71*($E71-$D71)), IF(AND($E71<>0,$J71<>0),IF($F71=0,COUNTRY_INFO!P71*$J71,COUNTRY_INFO!P71*($J71-$D71)), COUNTRY_INFO!P71*$J71)))","v":0},0,0,null,0,0,null,0,0,null,0]
[{"$f":"IF(AND(INTRO!$E$37=\"Non endémique\",INTRO!$E$41=\"Non endémique\"),\" \",IF(COUNTRY_INFO!A72=0,\" \",COUNTRY_INFO!A72))","v":"Côte d'Ivoire"},{"$f":"IF(AND(INTRO!$E$37=\"Non endémique\",INTRO!$E$41=\"Non endémique\"),\" \",IF(COUNTRY_INFO!B72=0,\" \",COUNTRY_INFO!B72))","v":"HAUT SASSANDRA"},{"$f":"IF(AND(INTRO!$E$37=\"Non endémique\",INTRO!$E$41=\"Non endémique\"),\" \",IF(COUNTRY_INFO!C72=0,\" \",COUNTRY_INFO!C72))","v":"ISSIA"},{"$f":"IF(AND(INTRO!$E$37=\"Non endémique\",INTRO!$E$41=\"Non endémique\"),0,COUNTRY_INFO!V72)","v":0},{"$f":"IF(AND(INTRO!$E$37=\"Non endémique\",INTRO!$E$41=\"Non endémique\"),0,COUNTRY_INFO!X72)","v":1},{"$f":"IF(INTRO!$E$39=\"Non endémique\",IF($D72=1,DEC!I72,0),IF($D72=1,IVM!G72,0))","v":0},null,{"$f":"IF(OR(COUNTRY_INFO!N72=\"Inconnu\",COUNTRY_INFO!N72=\"Surveillance\",COUNTRY_INFO!N72=\"Non requis\",COUNTRY_INFO!N72=0),0,IF(INTRO!$E$39=\"Non endémique\",IF(AND($E72<>0,$G72=\"\"),IF($F72=0,COUNTRY_INFO!N72*$E72,COUNTRY_INFO!N72*($E72-$D72)),IF(AND($E72<>0,$G72<>0),IF($F72=0,COUNTRY_INFO!N72*$G72,COUNTRY_INFO!N72*($G72-$D72)),0)),IF($G72=\"\",COUNTRY_INFO!N72*$E72,COUNTRY_INFO!N72*$G72)))","v":48147},{"$f":"IF(OR(COUNTRY_INFO!O72=\"Inconnu\",COUNTRY_INFO!O72=\"Surveillance\",COUNTRY_INFO!O72=\"Non requis\",COUNTRY_INFO!O72=0),0,IF($E72<>0, IF($F72=0,COUNTRY_INFO!O72*$E72,COUNTRY_INFO!O72*($E72-$D72)),COUNTRY_INFO!O72*$E72))","v":96522},null,{"$f":"IF(OR(COUNTRY_INFO!P72=\"Inconnu\",COUNTRY_INFO!P72=\"Surveillance\",COUNTRY_INFO!P72=\"Non requis\",COUNTRY_INFO!P72=0),0,IF(AND($E72<>0,$J72=\"\"),IF($F72=0,COUNTRY_INFO!P72*$E72,COUNTRY_INFO!P72*($E72-$D72)), IF(AND($E72<>0,$J72<>0),IF($F72=0,COUNTRY_INFO!P72*$J72,COUNTRY_INFO!P72*($J72-$D72)), COUNTRY_INFO!P72*$J72)))","v":91552},236221,0,null,0,96522,null,96522,0,null,0]
[{"$f":"IF(AND(INTRO!$E$37=\"Non endémique\",INTRO!$E$41=\"Non endémique\"),\" \",IF(COUNTRY_INFO!A73=0,\" \",COUNTRY_INFO!A73))","v":"Côte d'Ivoire"},{"$f":"IF(AND(INTRO!$E$37=\"Non endémique\",INTRO!$E$41=\"Non endémique\"),\" \",IF(COUNTRY_INFO!B73=0,\" \",COUNTRY_INFO!B73))","v":"HAUT SASSANDRA"},{"$f":"IF(AND(INTRO!$E$37=\"Non endémique\",INTRO!$E$41=\"Non endémique\"),\" \",IF(COUNTRY_INFO!C73=0,\" \",COUNTRY_INFO!C73))","v":"VAVOUA"},{"$f":"IF(AND(INTRO!$E$37=\"Non endémique\",INTRO!$E$41=\"Non endémique\"),0,COUNTRY_INFO!V73)","v":0},{"$f":"IF(AND(INTRO!$E$37=\"Non endémique\",INTRO!$E$41=\"Non endémique\"),0,COUNTRY_INFO!X73)","v":1},{"$f":"IF(INTRO!$E$39=\"Non endémique\",IF($D73=1,DEC!I73,0),IF($D73=1,IVM!G73,0))","v":0},null,{"$f":"IF(OR(COUNTRY_INFO!N73=\"Inconnu\",COUNTRY_INFO!N73=\"Surveillance\",COUNTRY_INFO!N73=\"Non requis\",COUNTRY_INFO!N73=0),0,IF(INTRO!$E$39=\"Non endémique\",IF(AND($E73<>0,$G73=\"\"),IF($F73=0,COUNTRY_INFO!N73*$E73,COUNTRY_INFO!N73*($E73-$D73)),IF(AND($E73<>0,$G73<>0),IF($F73=0,COUNTRY_INFO!N73*$G73,COUNTRY_INFO!N73*($G73-$D73)),0)),IF($G73=\"\",COUNTRY_INFO!N73*$E73,COUNTRY_INFO!N73*$G73)))","v":58868},{"$f":"IF(OR(COUNTRY_INFO!O73=\"Inconnu\",COUNTRY_INFO!O73=\"Surveillance\",COUNTRY_INFO!O73=\"Non requis\",COUNTRY_INFO!O73=0),0,IF($E73<>0, IF($F73=0,COUNTRY_INFO!O73*$E73,COUNTRY_INFO!O73*($E73-$D73)),COUNTRY_INFO!O73*$E73))","v":118015},null,{"$f":"IF(OR(COUNTRY_INFO!P73=\"Inconnu\",COUNTRY_INFO!P73=\"Surveillance\",COUNTRY_INFO!P73=\"Non requis\",COUNTRY_INFO!P73=0),0,IF(AND($E73<>0,$J73=\"\"),IF($F73=0,COUNTRY_INFO!P73*$E73,COUNTRY_INFO!P73*($E73-$D73)), IF(AND($E73<>0,$J73<>0),IF($F73=0,COUNTRY_INFO!P73*$J73,COUNTRY_INFO!P73*($J73-$D73)), COUNTRY_INFO!P73*$J73)))","v":111938},288821,0,null,0,118015,null,118015,0,null,0]
[{"$f":"IF(AND(INTRO!$E$37=\"Non endémique\",INTRO!$E$41=\"Non endémique\"),\" \",IF(COUNTRY_INFO!A74=0,\" \",COUNTRY_INFO!A74))","v":"Côte d'Ivoire"},{"$f":"IF(AND(INTRO!$E$37=\"Non endémique\",INTRO!$E$41=\"Non endémique\"),\" \",IF(COUNTRY_INFO!B74=0,\" \",COUNTRY_INFO!B74))","v":"HAUT SASSANDRA"},{"$f":"IF(AND(INTRO!$E$37=\"Non endémique\",INTRO!$E$41=\"Non endémique\"),\" \",IF(COUNTRY_INFO!C74=0,\" \",COUNTRY_INFO!C74))","v":"ZOUKOUGBEU"},{"$f":"IF(AND(INTRO!$E$37=\"Non endémique\",INTRO!$E$41=\"Non endémique\"),0,COUNTRY_INFO!V74)","v":0},{"$f":"IF(AND(INTRO!$E$37=\"Non endémique\",INTRO!$E$41=\"Non endémique\"),0,COUNTRY_INFO!X74)","v":0},{"$f":"IF(INTRO!$E$39=\"Non endémique\",IF($D74=1,DEC!I74,0),IF($D74=1,IVM!G74,0))","v":0},null,{"$f":"IF(OR(COUNTRY_INFO!N74=\"Inconnu\",COUNTRY_INFO!N74=\"Surveillance\",COUNTRY_INFO!N74=\"Non requis\",COUNTRY_INFO!N74=0),0,IF(INTRO!$E$39=\"Non endémique\",IF(AND($E74<>0,$G74=\"\"),IF($F74=0,COUNTRY_INFO!N74*$E74,COUNTRY_INFO!N74*($E74-$D74)),IF(AND($E74<>0,$G74<>0),IF($F74=0,COUNTRY_INFO!N74*$G74,COUNTRY_INFO!N74*($G74-$D74)),0)),IF($G74=\"\",COUNTRY_INFO!N74*$E74,COUNTRY_INFO!N74*$G74)))","v":0},{"$f":"IF(OR(COUNTRY_INFO!O74=\"Inconnu\",COUNTRY_INFO!O74=\"Surveillance\",COUNTRY_INFO!O74=\"Non requis\",COUNTRY_INFO!O74=0),0,IF($E74<>0, IF($F74=0,COUNTRY_INFO!O74*$E74,COUNTRY_INFO!O74*($E74-$D74)),COUNTRY_INFO!O74*$E74))","v":0},null,{"$f":"IF(OR(COUNTRY_INFO!P74=\"Inconnu\",COUNTRY_INFO!P74=\"Surveillance\",COUNTRY_INFO!P74=\"Non requis\",COUNTRY_INFO!P74=0),0,IF(AND($E74<>0,$J74=\"\"),IF($F74=0,COUNTRY_INFO!P74*$E74,COUNTRY_INFO!P74*($E74-$D74)), IF(AND($E74<>0,$J74<>0),IF($F74=0,COUNTRY_INFO!P74*$J74,COUNTRY_INFO!P74*($J74-$D74)), COUNTRY_INFO!P74*$J74)))","v":0},0,0,null,0,0,null,0,0,null,0]
[{"$f":"IF(AND(INTRO!$E$37=\"Non endémique\",INTRO!$E$41=\"Non endémique\"),\" \",IF(COUNTRY_INFO!A75=0,\" \",COUNTRY_INFO!A75))","v":"Côte d'Ivoire"},{"$f":"IF(AND(INTRO!$E$37=\"Non endémique\",INTRO!$E$41=\"Non endémique\"),\" \",IF(COUNTRY_INFO!B75=0,\" \",COUNTRY_INFO!B75))","v":"IFFOU"},{"$f":"IF(AND(INTRO!$E$37=\"Non endémique\",INTRO!$E$41=\"Non endémique\"),\" \",IF(COUNTRY_INFO!C75=0,\" \",COUNTRY_INFO!C75))","v":"DAOUKRO"},{"$f":"IF(AND(INTRO!$E$37=\"Non endémique\",INTRO!$E$41=\"Non endémique\"),0,COUNTRY_INFO!V75)","v":0},{"$f":"IF(AND(INTRO!$E$37=\"Non endémique\",INTRO!$E$41=\"Non endémique\"),0,COUNTRY_INFO!X75)","v":1},{"$f":"IF(INTRO!$E$39=\"Non endémique\",IF($D75=1,DEC!I75,0),IF($D75=1,IVM!G75,0))","v":0},null,{"$f":"IF(OR(COUNTRY_INFO!N75=\"Inconnu\",COUNTRY_INFO!N75=\"Surveillance\",COUNTRY_INFO!N75=\"Non requis\",COUNTRY_INFO!N75=0),0,IF(INTRO!$E$39=\"Non endémique\",IF(AND($E75<>0,$G75=\"\"),IF($F75=0,COUNTRY_INFO!N75*$E75,COUNTRY_INFO!N75*($E75-$D75)),IF(AND($E75<>0,$G75<>0),IF($F75=0,COUNTRY_INFO!N75*$G75,COUNTRY_INFO!N75*($G75-$D75)),0)),IF($G75=\"\",COUNTRY_INFO!N75*$E75,COUNTRY_INFO!N75*$G75)))","v":27303},{"$f":"IF(OR(COUNTRY_INFO!O75=\"Inconnu\",COUNTRY_INFO!O75=\"Surveillance\",COUNTRY_INFO!O75=\"Non requis\",COUNTRY_INFO!O75=0),0,IF($E75<>0, IF($F75=0,COUNTRY_INFO!O75*$E75,COUNTRY_INFO!O75*($E75-$D75)),COUNTRY_INFO!O75*$E75))","v":54735},null,{"$f":"IF(OR(COUNTRY_INFO!P75=\"Inconnu\",COUNTRY_INFO!P75=\"Surveillance\",COUNTRY_INFO!P75=\"Non requis\",COUNTRY_INFO!P75=0),0,IF(AND($E75<>0,$J75=\"\"),IF($F75=0,COUNTRY_INFO!P75*$E75,COUNTRY_INFO!P75*($E75-$D75)), IF(AND($E75<>0,$J75<>0),IF($F75=0,COUNTRY_INFO!P75*$J75,COUNTRY_INFO!P75*($J75-$D75)), COUNTRY_INFO!P75*$J75)))","v":51916},133954,0,null,0,54735,null,54735,0,null,0]
[{"$f":"IF(AND(INTRO!$E$37=\"Non endémique\",INTRO!$E$41=\"Non endémique\"),\" \",IF(COUNTRY_INFO!A76=0,\" \",COUNTRY_INFO!A76))","v":"Côte d'Ivoire"},{"$f":"IF(AND(INTRO!$E$37=\"Non endémique\",INTRO!$E$41=\"Non endémique\"),\" \",IF(COUNTRY_INFO!B76=0,\" \",COUNTRY_INFO!B76))","v":"IFFOU"},{"$f":"IF(AND(INTRO!$E$37=\"Non endémique\",INTRO!$E$41=\"Non endémique\"),\" \",IF(COUNTRY_INFO!C76=0,\" \",COUNTRY_INFO!C76))","v":"M'BAHIAKRO"},{"$f":"IF(AND(INTRO!$E$37=\"Non endémique\",INTRO!$E$41=\"Non endémique\"),0,COUNTRY_INFO!V76)","v":0},{"$f":"IF(AND(INTRO!$E$37=\"Non endémique\",INTRO!$E$41=\"Non endémique\"),0,COUNTRY_INFO!X76)","v":0},{"$f":"IF(INTRO!$E$39=\"Non endémique\",IF($D76=1,DEC!I76,0),IF($D76=1,IVM!G76,0))","v":0},null,{"$f":"IF(OR(COUNTRY_INFO!N76=\"Inconnu\",COUNTRY_INFO!N76=\"Surveillance\",COUNTRY_INFO!N76=\"Non requis\",COUNTRY_INFO!N76=0),0,IF(INTRO!$E$39=\"Non endémique\",IF(AND($E76<>0,$G76=\"\"),IF($F76=0,COUNTRY_INFO!N76*$E76,COUNTRY_INFO!N76*($E76-$D76)),IF(AND($E76<>0,$G76<>0),IF($F76=0,COUNTRY_INFO!N76*$G76,COUNTRY_INFO!N76*($G76-$D76)),0)),IF($G76=\"\",COUNTRY_INFO!N76*$E76,COUNTRY_INFO!N76*$G76)))","v":0},{"$f":"IF(OR(COUNTRY_INFO!O76=\"Inconnu\",COUNTRY_INFO!O76=\"Surveillance\",COUNTRY_INFO!O76=\"Non requis\",COUNTRY_INFO!O76=0),0,IF($E76<>0, IF($F76=0,COUNTRY_INFO!O76*$E76,COUNTRY_INFO!O76*($E76-$D76)),COUNTRY_INFO!O76*$E76))","v":0},null,{"$f":"IF(OR(COUNTRY_INFO!P76=\"Inconnu\",COUNTRY_INFO!P76=\"Surveillance\",COUNTRY_INFO!P76=\"Non requis\",COUNTRY_INFO!P76=0),0,IF(AND($E76<>0,$J76=\"\"),IF($F76=0,COUNTRY_INFO!P76*$E76,COUNTRY_INFO!P76*($E76-$D76)), IF(AND($E76<>0,$J76<>0),IF($F76=0,COUNTRY_INFO!P76*$J76,COUNTRY_INFO!P76*($J76-$D76)), COUNTRY_INFO!P76*$J76)))","v":0},0,0,null,0,0,null,0,0,null,0]
[{"$f":"IF(AND(INTRO!$E$37=\"Non endémique\",INTRO!$E$41=\"Non endémique\"),\" \",IF(COUNTRY_INFO!A77=0,\" \",COUNTRY_INFO!A77))","v":"Côte d'Ivoire"},{"$f":"IF(AND(INTRO!$E$37=\"Non endémique\",INTRO!$E$41=\"Non endémique\"),\" \",IF(COUNTRY_INFO!B77=0,\" \",COUNTRY_INFO!B77))","v":"IFFOU"},{"$f":"IF(AND(INTRO!$E$37=\"Non endémique\",INTRO!$E$41=\"Non endémique\"),\" \",IF(COUNTRY_INFO!C77=0,\" \",COUNTRY_INFO!C77))","v":"PRIKRO"},{"$f":"IF(AND(INTRO!$E$37=\"Non endémique\",INTRO!$E$41=\"Non endémique\"),0,COUNTRY_INFO!V77)","v":0},{"$f":"IF(AND(INTRO!$E$37=\"Non endémique\",INTRO!$E$41=\"Non endémique\"),0,COUNTRY_INFO!X77)","v":1},{"$f":"IF(INTRO!$E$39=\"Non endémique\",IF($D77=1,DEC!I77,0),IF($D77=1,IVM!G77,0))","v":0},null,{"$f":"IF(OR(COUNTRY_INFO!N77=\"Inconnu\",COUNTRY_INFO!N77=\"Surveillance\",COUNTRY_INFO!N77=\"Non requis\",COUNTRY_INFO!N77=0),0,IF(INTRO!$E$39=\"Non endémique\",IF(AND($E77<>0,$G77=\"\"),IF($F77=0,COUNTRY_INFO!N77*$E77,COUNTRY_INFO!N77*($E77-$D77)),IF(AND($E77<>0,$G77<>0),IF($F77=0,COUNTRY_INFO!N77*$G77,COUNTRY_INFO!N77*($G77-$D77)),0)),IF($G77=\"\",COUNTRY_INFO!N77*$E77,COUNTRY_INFO!N77*$G77)))","v":12492},{"$f":"IF(OR(COUNTRY_INFO!O77=\"Inconnu\",COUNTRY_INFO!O77=\"Surveillance\",COUNTRY_INFO!O77=\"Non requis\",COUNTRY_INFO!O77=0),0,IF($E77<>0, IF($F77=0,COUNTRY_INFO!O77*$E77,COUNTRY_INFO!O77*($E77-$D77)),COUNTRY_INFO!O77*$E77))","v":25044},null,{"$f":"IF(OR(COUNTRY_INFO!P77=\"Inconnu\",COUNTRY_INFO!P77=\"Surveillance\",COUNTRY_INFO!P77=\"Non requis\",COUNTRY_INFO!P77=0),0,IF(AND($E77<>0,$J77=\"\"),IF($F77=0,COUNTRY_INFO!P77*$E77,COUNTRY_INFO!P77*($E77-$D77)), IF(AND($E77<>0,$J77<>0),IF($F77=0,COUNTRY_INFO!P77*$J77,COUNTRY_INFO!P77*($J77-$D77)), COUNTRY_INFO!P77*$J77)))","v":23754},61290,0,null,0,25044,null,25044,0,null,0]
[{"$f":"IF(AND(INTRO!$E$37=\"Non endémique\",INTRO!$E$41=\"Non endémique\"),\" \",IF(COUNTRY_INFO!A78=0,\" \",COUNTRY_INFO!A78))","v":"Côte d'Ivoire"},{"$f":"IF(AND(INTRO!$E$37=\"Non endémique\",INTRO!$E$41=\"Non endémique\"),\" \",IF(COUNTRY_INFO!B78=0,\" \",COUNTRY_INFO!B78))","v":"INDENIE-DJUABLIN"},{"$f":"IF(AND(INTRO!$E$37=\"Non endémique\",INTRO!$E$41=\"Non endémique\"),\" \",IF(COUNTRY_INFO!C78=0,\" \",COUNTRY_INFO!C78))","v":"ABENGOUROU"},{"$f":"IF(AND(INTRO!$E$37=\"Non endémique\",INTRO!$E$41=\"Non endémique\"),0,COUNTRY_INFO!V78)","v":0},{"$f":"IF(AND(INTRO!$E$37=\"Non endémique\",INTRO!$E$41=\"Non endémique\"),0,COUNTRY_INFO!X78)","v":0},{"$f":"IF(INTRO!$E$39=\"Non endémique\",IF($D78=1,DEC!I78,0),IF($D78=1,IVM!G78,0))","v":0},null,{"$f":"IF(OR(COUNTRY_INFO!N78=\"Inconnu\",COUNTRY_INFO!N78=\"Surveillance\",COUNTRY_INFO!N78=\"Non requis\",COUNTRY_INFO!N78=0),0,IF(INTRO!$E$39=\"Non endémique\",IF(AND($E78<>0,$G78=\"\"),IF($F78=0,COUNTRY_INFO!N78*$E78,COUNTRY_INFO!N78*($E78-$D78)),IF(AND($E78<>0,$G78<>0),IF($F78=0,COUNTRY_INFO!N78*$G78,COUNTRY_INFO!N78*($G78-$D78)),0)),IF($G78=\"\",COUNTRY_INFO!N78*$E78,COUNTRY_INFO!N78*$G78)))","v":0},{"$f":"IF(OR(COUNTRY_INFO!O78=\"Inconnu\",COUNTRY_INFO!O78=\"Surveillance\",COUNTRY_INFO!O78=\"Non requis\",COUNTRY_INFO!O78=0),0,IF($E78<>0, IF($F78=0,COUNTRY_INFO!O78*$E78,COUNTRY_INFO!O78*($E78-$D78)),COUNTRY_INFO!O78*$E78))","v":0},null,{"$f":"IF(OR(COUNTRY_INFO!P78=\"Inconnu\",COUNTRY_INFO!P78=\"Surveillance\",COUNTRY_INFO!P78=\"Non requis\",COUNTRY_INFO!P78=0),0,IF(AND($E78<>0,$J78=\"\"),IF($F78=0,COUNTRY_INFO!P78*$E78,COUNTRY_INFO!P78*($E78-$D78)), IF(AND($E78<>0,$J78<>0),IF($F78=0,COUNTRY_INFO!P78*$J78,COUNTRY_INFO!P78*($J78-$D78)), COUNTRY_INFO!P78*$J78)))","v":0},0,0,null,0,0,null,0,0,null,0]
[{"$f":"IF(AND(INTRO!$E$37=\"Non endémique\",INTRO!$E$41=\"Non endémique\"),\" \",IF(COUNTRY_INFO!A79=0,\" \",COUNTRY_INFO!A79))","v":"Côte d'Ivoire"},{"$f":"IF(AND(INTRO!$E$37=\"Non endémique\",INTRO!$E$41=\"Non endémique\"),\" \",IF(COUNTRY_INFO!B79=0,\" \",COUNTRY_INFO!B79))","v":"INDENIE-DJUABLIN"},{"$f":"IF(AND(INTRO!$E$37=\"Non endémique\",INTRO!$E$41=\"Non endémique\"),\" \",IF(COUNTRY_INFO!C79=0,\" \",COUNTRY_INFO!C79))","v":"AGNIBILEKRO"},{"$f":"IF(AND(INTRO!$E$37=\"Non endémique\",INTRO!$E$41=\"Non endémique\"),0,COUNTRY_INFO!V79)","v":0},{"$f":"IF(AND(INTRO!$E$37=\"Non endémique\",INTRO!$E$41=\"Non endémique\"),0,COUNTRY_INFO!X79)","v":0},{"$f":"IF(INTRO!$E$39=\"Non endémique\",IF($D79=1,DEC!I79,0),IF($D79=1,IVM!G79,0))","v":0},null,{"$f":"IF(OR(COUNTRY_INFO!N79=\"Inconnu\",COUNTRY_INFO!N79=\"Surveillance\",COUNTRY_INFO!N79=\"Non requis\",COUNTRY_INFO!N79=0),0,IF(INTRO!$E$39=\"Non endémique\",IF(AND($E79<>0,$G79=\"\"),IF($F79=0,COUNTRY_INFO!N79*$E79,COUNTRY_INFO!N79*($E79-$D79)),IF(AND($E79<>0,$G79<>0),IF($F79=0,COUNTRY_INFO!N79*$G79,COUNTRY_INFO!N79*($G79-$D79)),0)),IF($G79=\"\",COUNTRY_INFO!N79*$E79,COUNTRY_INFO!N79*$G79)))","v":0},{"$f":"IF(OR(COUNTRY_INFO!O79=\"Inconnu\",COUNTRY_INFO!O79=\"Surveillance\",COUNTRY_INFO!O79=\"Non requis\",COUNTRY_INFO!O79=0),0,IF($E79<>0, IF($F79=0,COUNTRY_INFO!O79*$E79,COUNTRY_INFO!O79*($E79-$D79)),COUNTRY_INFO!O79*$E79))","v":0},null,{"$f":"IF(OR(COUNTRY_INFO!P79=\"Inconnu\",COUNTRY_INFO!P79=\"Surveillance\",COUNTRY_INFO!P79=\"Non requis\",COUNTRY_INFO!P79=0),0,IF(AND($E79<>0,$J79=\"\"),IF($F79=0,COUNTRY_INFO!P79*$E79,COUNTRY_INFO!P79*($E79-$D79)), IF(AND($E79<>0,$J79<>0),IF($F79=0,COUNTRY_INFO!P79*$J79,COUNTRY_INFO!P79*($J79-$D79)), COUNTRY_INFO!P79*$J79)))","v":0},0,0,null,0,0,null,0,0,null,0]
[{"$f":"IF(AND(INTRO!$E$37=\"Non endémique\",INTRO!$E$41=\"Non endémique\"),\" \",IF(COUNTRY_INFO!A80=0,\" \",COUNTRY_INFO!A80))","v":"Côte d'Ivoire"},{"$f":"IF(AND(INTRO!$E$37=\"Non endémique\",INTRO!$E$41=\"Non endémique\"),\" \",IF(COUNTRY_INFO!B80=0,\" \",COUNTRY_INFO!B80))","v":"INDENIE-DJUABLIN"},{"$f":"IF(AND(INTRO!$E$37=\"Non endémique\",INTRO!$E$41=\"Non endémique\"),\" \",IF(COUNTRY_INFO!C80=0,\" \",COUNTRY_INFO!C80))","v":"BETTIE"},{"$f":"IF(AND(INTRO!$E$37=\"Non endémique\",INTRO!$E$41=\"Non endémique\"),0,COUNTRY_INFO!V80)","v":0},{"$f":"IF(AND(INTRO!$E$37=\"Non endémique\",INTRO!$E$41=\"Non endémique\"),0,COUNTRY_INFO!X80)","v":0},{"$f":"IF(INTRO!$E$39=\"Non endémique\",IF($D80=1,DEC!I80,0),IF($D80=1,IVM!G80,0))","v":0},null,{"$f":"IF(OR(COUNTRY_INFO!N80=\"Inconnu\",COUNTRY_INFO!N80=\"Surveillance\",COUNTRY_INFO!N80=\"Non requis\",COUNTRY_INFO!N80=0),0,IF(INTRO!$E$39=\"Non endémique\",IF(AND($E80<>0,$G80=\"\"),IF($F80=0,COUNTRY_INFO!N80*$E80,COUNTRY_INFO!N80*($E80-$D80)),IF(AND($E80<>0,$G80<>0),IF($F80=0,COUNTRY_INFO!N80*$G80,COUNTRY_INFO!N80*($G80-$D80)),0)),IF($G80=\"\",COUNTRY_INFO!N80*$E80,COUNTRY_INFO!N80*$G80)))","v":0},{"$f":"IF(OR(COUNTRY_INFO!O80=\"Inconnu\",COUNTRY_INFO!O80=\"Surveillance\",COUNTRY_INFO!O80=\"Non requis\",COUNTRY_INFO!O80=0),0,IF($E80<>0, IF($F80=0,COUNTRY_INFO!O80*$E80,COUNTRY_INFO!O80*($E80-$D80)),COUNTRY_INFO!O80*$E80))","v":0},null,{"$f":"IF(OR(COUNTRY_INFO!P80=\"Inconnu\",COUNTRY_INFO!P80=\"Surveillance\",COUNTRY_INFO!P80=\"Non requis\",COUNTRY_INFO!P80=0),0,IF(AND($E80<>0,$J80=\"\"),IF($F80=0,COUNTRY_INFO!P80*$E80,COUNTRY_INFO!P80*($E80-$D80)), IF(AND($E80<>0,$J80<>0),IF($F80=0,COUNTRY_INFO!P80*$J80,COUNTRY_INFO!P80*($J80-$D80)), COUNTRY_INFO!P80*$J80)))","v":0},0,0,null,0,0,null,0,0,null,0]
[{"$f":"IF(AND(INTRO!$E$37=\"Non endémique\",INTRO!$E$41=\"Non endémique\"),\" \",IF(COUNTRY_INFO!A81=0,\" \",COUNTRY_INFO!A81))","v":"Côte d'Ivoire"},{"$f":"IF(AND(INTRO!$E$37=\"Non endémique\",INTRO!$E$41=\"Non endémique\"),\" \",IF(COUNTRY_INFO!B81=0,\" \",COUNTRY_INFO!B81))","v":"KABADOUGOU"},{"$f":"IF(AND(INTRO!$E$37=\"Non endémique\",INTRO!$E$41=\"Non endémique\"),\" \",IF(COUNTRY_INFO!C81=0,\" \",COUNTRY_INFO!C81))","v":"MADINANI"},{"$f":"IF(AND(INTRO!$E$37=\"Non endémique\",INTRO!$E$41=\"Non endémique\"),0,COUNTRY_INFO!V81)","v":0},{"$f":"IF(AND(INTRO!$E$37=\"Non endémique\",INTRO!$E$41=\"Non endémique\"),0,COUNTRY_INFO!X81)","v":0},{"$f":"IF(INTRO!$E$39=\"Non endémique\",IF($D81=1,DEC!I81,0),IF($D81=1,IVM!G81,0))","v":0},null,{"$f":"IF(OR(COUNTRY_INFO!N81=\"Inconnu\",COUNTRY_INFO!N81=\"Surveillance\",COUNTRY_INFO!N81=\"Non requis\",COUNTRY_INFO!N81=0),0,IF(INTRO!$E$39=\"Non endémique\",IF(AND($E81<>0,$G81=\"\"),IF($F81=0,COUNTRY_INFO!N81*$E81,COUNTRY_INFO!N81*($E81-$D81)),IF(AND($E81<>0,$G81<>0),IF($F81=0,COUNTRY_INFO!N81*$G81,COUNTRY_INFO!N81*($G81-$D81)),0)),IF($G81=\"\",COUNTRY_INFO!N81*$E81,COUNTRY_INFO!N81*$G81)))","v":0},{"$f":"IF(OR(COUNTRY_INFO!O81=\"Inconnu\",COUNTRY_INFO!O81=\"Surveillance\",COUNTRY_INFO!O81=\"Non requis\",COUNTRY_INFO!O81=0),0,IF($E81<>0, IF($F81=0,COUNTRY_INFO!O81*$E81,COUNTRY_INFO!O81*($E81-$D81)),COUNTRY_INFO!O81*$E81))","v":0},null,{"$f":"IF(OR(COUNTRY_INFO!P81=\"Inconnu\",COUNTRY_INFO!P81=\"Surveillance\",COUNTRY_INFO!P81=\"Non requis\",COUNTRY_INFO!P81=0),0,IF(AND($E81<>0,$J81=\"\"),IF($F81=0,COUNTRY_INFO!P81*$E81,COUNTRY_INFO!P81*($E81-$D81)), IF(AND($E81<>0,$J81<>0),IF($F81=0,COUNTRY_INFO!P81*$J81,COUNTRY_INFO!P81*($J81-$D81)), COUNTRY_INFO!P81*$J81)))","v":0},0,0,null,0,0,null,0,0,null,0]
[{"$f":"IF(AND(INTRO!$E$37=\"Non endémique\",INTRO!$E$41=\"Non endémique\"),\" \",IF(COUNTRY_INFO!A82=0,\" \",COUNTRY_INFO!A82))","v":"Côte d'Ivoire"},{"$f":"IF(AND(INTRO!$E$37=\"Non endémique\",INTRO!$E$41=\"Non endémique\"),\" \",IF(COUNTRY_INFO!B82=0,\" \",COUNTRY_INFO!B82))","v":"KABADOUGOU"},{"$f":"IF(AND(INTRO!$E$37=\"Non endémique\",INTRO!$E$41=\"Non endémique\"),\" \",IF(COUNTRY_INFO!C82=0,\" \",COUNTRY_INFO!C82))","v":"ODIENNE"},{"$f":"IF(AND(INTRO!$E$37=\"Non endémique\",INTRO!$E$41=\"Non endémique\"),0,COUNTRY_INFO!V82)","v":0},{"$f":"IF(AND(INTRO!$E$37=\"Non endémique\",INTRO!$E$41=\"Non endémique\"),0,COUNTRY_INFO!X82)","v":0},{"$f":"IF(INTRO!$E$39=\"Non endémique\",IF($D82=1,DEC!I82,0),IF($D82=1,IVM!G82,0))","v":0},null,{"$f":"IF(OR(COUNTRY_INFO!N82=\"Inconnu\",COUNTRY_INFO!N82=\"Surveillance\",COUNTRY_INFO!N82=\"Non requis\",COUNTRY_INFO!N82=0),0,IF(INTRO!$E$39=\"Non endémique\",IF(AND($E82<>0,$G82=\"\"),IF($F82=0,COUNTRY_INFO!N82*$E82,COUNTRY_INFO!N82*($E82-$D82)),IF(AND($E82<>0,$G82<>0),IF($F82=0,COUNTRY_INFO!N82*$G82,COUNTRY_INFO!N82*($G82-$D82)),0)),IF($G82=\"\",COUNTRY_INFO!N82*$E82,COUNTRY_INFO!N82*$G82)))","v":0},{"$f":"IF(OR(COUNTRY_INFO!O82=\"Inconnu\",COUNTRY_INFO!O82=\"Surveillance\",COUNTRY_INFO!O82=\"Non requis\",COUNTRY_INFO!O82=0),0,IF($E82<>0, IF($F82=0,COUNTRY_INFO!O82*$E82,COUNTRY_INFO!O82*($E82-$D82)),COUNTRY_INFO!O82*$E82))","v":0},null,{"$f":"IF(OR(COUNTRY_INFO!P82=\"Inconnu\",COUNTRY_INFO!P82=\"Surveillance\",COUNTRY_INFO!P82=\"Non requis\",COUNTRY_INFO!P82=0),0,IF(AND($E82<>0,$J82=\"\"),IF($F82=0,COUNTRY_INFO!P82*$E82,COUNTRY_INFO!P82*($E82-$D82)), IF(AND($E82<>0,$J82<>0),IF($F82=0,COUNTRY_INFO!P82*$J82,COUNTRY_INFO!P82*($J82-$D82)), COUNTRY_INFO!P82*$J82)))","v":0},0,0,null,0,0,null,0,0,null,0]
[{"$f":"IF(AND(INTRO!$E$37=\"Non endémique\",INTRO!$E$41=\"Non endémique\"),\" \",IF(COUNTRY_INFO!A83=0,\" \",COUNTRY_INFO!A83))","v":"Côte d'Ivoire"},{"$f":"IF(AND(INTRO!$E$37=\"Non endémique\",INTRO!$E$41=\"Non endémique\"),\" \",IF(COUNTRY_INFO!B83=0,\" \",COUNTRY_INFO!B83))","v":"LOH-DJIBOUA"},{"$f":"IF(AND(INTRO!$E$37=\"Non endémique\",INTRO!$E$41=\"Non endémique\"),\" \",IF(COUNTRY_INFO!C83=0,\" \",COUNTRY_INFO!C83))","v":"DIVO"},{"$f":"IF(AND(INTRO!$E$37=\"Non endémique\",INTRO!$E$41=\"Non endémique\"),0,COUNTRY_INFO!V83)","v":0},{"$f":"IF(AND(INTRO!$E$37=\"Non endémique\",INTRO!$E$41=\"Non endémique\"),0,COUNTRY_INFO!X83)","v":0},{"$f":"IF(INTRO!$E$39=\"Non endémique\",IF($D83=1,DEC!I83,0),IF($D83=1,IVM!G83,0))","v":0},null,{"$f":"IF(OR(COUNTRY_INFO!N83=\"Inconnu\",COUNTRY_INFO!N83=\"Surveillance\",COUNTRY_INFO!N83=\"Non requis\",COUNTRY_INFO!N83=0),0,IF(INTRO!$E$39=\"Non endémique\",IF(AND($E83<>0,$G83=\"\"),IF($F83=0,COUNTRY_INFO!N83*$E83,COUNTRY_INFO!N83*($E83-$D83)),IF(AND($E83<>0,$G83<>0),IF($F83=0,COUNTRY_INFO!N83*$G83,COUNTRY_INFO!N83*($G83-$D83)),0)),IF($G83=\"\",COUNTRY_INFO!N83*$E83,COUNTRY_INFO!N83*$G83)))","v":0},{"$f":"IF(OR(COUNTRY_INFO!O83=\"Inconnu\",COUNTRY_INFO!O83=\"Surveillance\",COUNTRY_INFO!O83=\"Non requis\",COUNTRY_INFO!O83=0),0,IF($E83<>0, IF($F83=0,COUNTRY_INFO!O83*$E83,COUNTRY_INFO!O83*($E83-$D83)),COUNTRY_INFO!O83*$E83))","v":0},null,{"$f":"IF(OR(COUNTRY_INFO!P83=\"Inconnu\",COUNTRY_INFO!P83=\"Surveillance\",COUNTRY_INFO!P83=\"Non requis\",COUNTRY_INFO!P83=0),0,IF(AND($E83<>0,$J83=\"\"),IF($F83=0,COUNTRY_INFO!P83*$E83,COUNTRY_INFO!P83*($E83-$D83)), IF(AND($E83<>0,$J83<>0),IF($F83=0,COUNTRY_INFO!P83*$J83,COUNTRY_INFO!P83*($J83-$D83)), COUNTRY_INFO!P83*$J83)))","v":0},0,0,null,0,0,null,0,0,null,0]
[{"$f":"IF(AND(INTRO!$E$37=\"Non endémique\",INTRO!$E$41=\"Non endémique\"),\" \",IF(COUNTRY_INFO!A84=0,\" \",COUNTRY_INFO!A84))","v":"Côte d'Ivoire"},{"$f":"IF(AND(INTRO!$E$37=\"Non endémique\",INTRO!$E$41=\"Non endémique\"),\" \",IF(COUNTRY_INFO!B84=0,\" \",COUNTRY_INFO!B84))","v":"LOH-DJIBOUA"},{"$f":"IF(AND(INTRO!$E$37=\"Non endémique\",INTRO!$E$41=\"Non endémique\"),\" \",IF(COUNTRY_INFO!C84=0,\" \",COUNTRY_INFO!C84))","v":"GUITRY"},{"$f":"IF(AND(INTRO!$E$37=\"Non endémique\",INTRO!$E$41=\"Non endémique\"),0,COUNTRY_INFO!V84)","v":0},{"$f":"IF(AND(INTRO!$E$37=\"Non endémique\",INTRO!$E$41=\"Non endémique\"),0,COUNTRY_INFO!X84)","v":0},{"$f":"IF(INTRO!$E$39=\"Non endémique\",IF($D84=1,DEC!I84,0),IF($D84=1,IVM!G84,0))","v":0},null,{"$f":"IF(OR(COUNTRY_INFO!N84=\"Inconnu\",COUNTRY_INFO!N84=\"Surveillance\",COUNTRY_INFO!N84=\"Non requis\",COUNTRY_INFO!N84=0),0,IF(INTRO!$E$39=\"Non endémique\",IF(AND($E84<>0,$G84=\"\"),IF($F84=0,COUNTRY_INFO!N84*$E84,COUNTRY_INFO!N84*($E84-$D84)),IF(AND($E84<>0,$G84<>0),IF($F84=0,COUNTRY_INFO!N84*$G84,COUNTRY_INFO!N84*($G84-$D84)),0)),IF($G84=\"\",COUNTRY_INFO!N84*$E84,COUNTRY_INFO!N84*$G84)))","v":0},{"$f":"IF(OR(COUNTRY_INFO!O84=\"Inconnu\",COUNTRY_INFO!O84=\"Surveillance\",COUNTRY_INFO!O84=\"Non requis\",COUNTRY_INFO!O84=0),0,IF($E84<>0, IF($F84=0,COUNTRY_INFO!O84*$E84,COUNTRY_INFO!O84*($E84-$D84)),COUNTRY_INFO!O84*$E84))","v":0},null,{"$f":"IF(OR(COUNTRY_INFO!P84=\"Inconnu\",COUNTRY_INFO!P84=\"Surveillance\",COUNTRY_INFO!P84=\"Non requis\",COUNTRY_INFO!P84=0),0,IF(AND($E84<>0,$J84=\"\"),IF($F84=0,COUNTRY_INFO!P84*$E84,COUNTRY_INFO!P84*($E84-$D84)), IF(AND($E84<>0,$J84<>0),IF($F84=0,COUNTRY_INFO!P84*$J84,COUNTRY_INFO!P84*($J84-$D84)), COUNTRY_INFO!P84*$J84)))","v":0},0,0,null,0,0,null,0,0,null,0]
[{"$f":"IF(AND(INTRO!$E$37=\"Non endémique\",INTRO!$E$41=\"Non endémique\"),\" \",IF(COUNTRY_INFO!A85=0,\" \",COUNTRY_INFO!A85))","v":"Côte d'Ivoire"},{"$f":"IF(AND(INTRO!$E$37=\"Non endémique\",INTRO!$E$41=\"Non endémique\"),\" \",IF(COUNTRY_INFO!B85=0,\" \",COUNTRY_INFO!B85))","v":"LOH-DJIBOUA"},{"$f":"IF(AND(INTRO!$E$37=\"Non endémique\",INTRO!$E$41=\"Non endémique\"),\" \",IF(COUNTRY_INFO!C85=0,\" \",COUNTRY_INFO!C85))","v":"LAKOTA"},{"$f":"IF(AND(INTRO!$E$37=\"Non endémique\",INTRO!$E$41=\"Non endémique\"),0,COUNTRY_INFO!V85)","v":0},{"$f":"IF(AND(INTRO!$E$37=\"Non endémique\",INTRO!$E$41=\"Non endémique\"),0,COUNTRY_INFO!X85)","v":0},{"$f":"IF(INTRO!$E$39=\"Non endémique\",IF($D85=1,DEC!I85,0),IF($D85=1,IVM!G85,0))","v":0},null,{"$f":"IF(OR(COUNTRY_INFO!N85=\"Inconnu\",COUNTRY_INFO!N85=\"Surveillance\",COUNTRY_INFO!N85=\"Non requis\",COUNTRY_INFO!N85=0),0,IF(INTRO!$E$39=\"Non endémique\",IF(AND($E85<>0,$G85=\"\"),IF($F85=0,COUNTRY_INFO!N85*$E85,COUNTRY_INFO!N85*($E85-$D85)),IF(AND($E85<>0,$G85<>0),IF($F85=0,COUNTRY_INFO!N85*$G85,COUNTRY_INFO!N85*($G85-$D85)),0)),IF($G85=\"\",COUNTRY_INFO!N85*$E85,COUNTRY_INFO!N85*$G85)))","v":0},{"$f":"IF(OR(COUNTRY_INFO!O85=\"Inconnu\",COUNTRY_INFO!O85=\"Surveillance\",COUNTRY_INFO!O85=\"Non requis\",COUNTRY_INFO!O85=0),0,IF($E85<>0, IF($F85=0,COUNTRY_INFO!O85*$E85,COUNTRY_INFO!O85*($E85-$D85)),COUNTRY_INFO!O85*$E85))","v":0},null,{"$f":"IF(OR(COUNTRY_INFO!P85=\"Inconnu\",COUNTRY_INFO!P85=\"Surveillance\",COUNTRY_INFO!P85=\"Non requis\",COUNTRY_INFO!P85=0),0,IF(AND($E85<>0,$J85=\"\"),IF($F85=0,COUNTRY_INFO!P85*$E85,COUNTRY_INFO!P85*($E85-$D85)), IF(AND($E85<>0,$J85<>0),IF($F85=0,COUNTRY_INFO!P85*$J85,COUNTRY_INFO!P85*($J85-$D85)), COUNTRY_INFO!P85*$J85)))","v":0},0,0,null,0,0,null,0,0,null,0]
[{"$f":"IF(AND(INTRO!$E$37=\"Non endémique\",INTRO!$E$41=\"Non endémique\"),\" \",IF(COUNTRY_INFO!A86=0,\" \",COUNTRY_INFO!A86))","v":"Côte d'Ivoire"},{"$f":"IF(AND(INTRO!$E$37=\"Non endémique\",INTRO!$E$41=\"Non endémique\"),\" \",IF(COUNTRY_INFO!B86=0,\" \",COUNTRY_INFO!B86))","v":"MARAHOUE"},{"$f":"IF(AND(INTRO!$E$37=\"Non endémique\",INTRO!$E$41=\"Non endémique\"),\" \",IF(COUNTRY_INFO!C86=0,\" \",COUNTRY_INFO!C86))","v":"BOUAFLE"},{"$f":"IF(AND(INTRO!$E$37=\"Non endémique\",INTRO!$E$41=\"Non endémique\"),0,COUNTRY_INFO!V86)","v":0},{"$f":"IF(AND(INTRO!$E$37=\"Non endémique\",INTRO!$E$41=\"Non endémique\"),0,COUNTRY_INFO!X86)","v":0},{"$f":"IF(INTRO!$E$39=\"Non endémique\",IF($D86=1,DEC!I86,0),IF($D86=1,IVM!G86,0))","v":0},null,{"$f":"IF(OR(COUNTRY_INFO!N86=\"Inconnu\",COUNTRY_INFO!N86=\"Surveillance\",COUNTRY_INFO!N86=\"Non requis\",COUNTRY_INFO!N86=0),0,IF(INTRO!$E$39=\"Non endémique\",IF(AND($E86<>0,$G86=\"\"),IF($F86=0,COUNTRY_INFO!N86*$E86,COUNTRY_INFO!N86*($E86-$D86)),IF(AND($E86<>0,$G86<>0),IF($F86=0,COUNTRY_INFO!N86*$G86,COUNTRY_INFO!N86*($G86-$D86)),0)),IF($G86=\"\",COUNTRY_INFO!N86*$E86,COUNTRY_INFO!N86*$G86)))","v":0},{"$f":"IF(OR(COUNTRY_INFO!O86=\"Inconnu\",COUNTRY_INFO!O86=\"Surveillance\",COUNTRY_INFO!O86=\"Non requis\",COUNTRY_INFO!O86=0),0,IF($E86<>0, IF($F86=0,COUNTRY_INFO!O86*$E86,COUNTRY_INFO!O86*($E86-$D86)),COUNTRY_INFO!O86*$E86))","v":0},null,{"$f":"IF(OR(COUNTRY_INFO!P86=\"Inconnu\",COUNTRY_INFO!P86=\"Surveillance\",COUNTRY_INFO!P86=\"Non requis\",COUNTRY_INFO!P86=0),0,IF(AND($E86<>0,$J86=\"\"),IF($F86=0,COUNTRY_INFO!P86*$E86,COUNTRY_INFO!P86*($E86-$D86)), IF(AND($E86<>0,$J86<>0),IF($F86=0,COUNTRY_INFO!P86*$J86,COUNTRY_INFO!P86*($J86-$D86)), COUNTRY_INFO!P86*$J86)))","v":0},0,0,null,0,0,null,0,0,null,0]
[{"$f":"IF(AND(INTRO!$E$37=\"Non endémique\",INTRO!$E$41=\"Non endémique\"),\" \",IF(COUNTRY_INFO!A87=0,\" \",COUNTRY_INFO!A87))","v":"Côte d'Ivoire"},{"$f":"IF(AND(INTRO!$E$37=\"Non endémique\",INTRO!$E$41=\"Non endémique\"),\" \",IF(COUNTRY_INFO!B87=0,\" \",COUNTRY_INFO!B87))","v":"MARAHOUE"},{"$f":"IF(AND(INTRO!$E$37=\"Non endémique\",INTRO!$E$41=\"Non endémique\"),\" \",IF(COUNTRY_INFO!C87=0,\" \",COUNTRY_INFO!C87))","v":"SINFRA"},{"$f":"IF(AND(INTRO!$E$37=\"Non endémique\",INTRO!$E$41=\"Non endémique\"),0,COUNTRY_INFO!V87)","v":0},{"$f":"IF(AND(INTRO!$E$37=\"Non endémique\",INTRO!$E$41=\"Non endémique\"),0,COUNTRY_INFO!X87)","v":1},{"$f":"IF(INTRO!$E$39=\"Non endémique\",IF($D87=1,DEC!I87,0),IF($D87=1,IVM!G87,0))","v":0},null,{"$f":"IF(OR(COUNTRY_INFO!N87=\"Inconnu\",COUNTRY_INFO!N87=\"Surveillance\",COUNTRY_INFO!N87=\"Non requis\",COUNTRY_INFO!N87=0),0,IF(INTRO!$E$39=\"Non endémique\",IF(AND($E87<>0,$G87=\"\"),IF($F87=0,COUNTRY_INFO!N87*$E87,COUNTRY_INFO!N87*($E87-$D87)),IF(AND($E87<>0,$G87<>0),IF($F87=0,COUNTRY_INFO!N87*$G87,COUNTRY_INFO!N87*($G87-$D87)),0)),IF($G87=\"\",COUNTRY_INFO!N87*$E87,COUNTRY_INFO!N87*$G87)))","v":37803},{"$f":"IF(OR(COUNTRY_INFO!O87=\"Inconnu\",COUNTRY_INFO!O87=\"Surveillance\",COUNTRY_INFO!O87=\"Non requis\",COUNTRY_INFO!O87=0),0,IF($E87<>0, IF($F87=0,COUNTRY_INFO!O87*$E87,COUNTRY_INFO!O87*($E87-$D87)),COUNTRY_INFO!O87*$E87))","v":75785},null,{"$f":"IF(OR(COUNTRY_INFO!P87=\"Inconnu\",COUNTRY_INFO!P87=\"Surveillance\",COUNTRY_INFO!P87=\"Non requis\",COUNTRY_INFO!P87=0),0,IF(AND($E87<>0,$J87=\"\"),IF($F87=0,COUNTRY_INFO!P87*$E87,COUNTRY_INFO!P87*($E87-$D87)), IF(AND($E87<>0,$J87<>0),IF($F87=0,COUNTRY_INFO!P87*$J87,COUNTRY_INFO!P87*($J87-$D87)), COUNTRY_INFO!P87*$J87)))","v":71882},185470,0,null,0,75785,null,75785,0,null,0]
[{"$f":"IF(AND(INTRO!$E$37=\"Non endémique\",INTRO!$E$41=\"Non endémique\"),\" \",IF(COUNTRY_INFO!A88=0,\" \",COUNTRY_INFO!A88))","v":"Côte d'Ivoire"},{"$f":"IF(AND(INTRO!$E$37=\"Non endémique\",INTRO!$E$41=\"Non endémique\"),\" \",IF(COUNTRY_INFO!B88=0,\" \",COUNTRY_INFO!B88))","v":"MARAHOUE"},{"$f":"IF(AND(INTRO!$E$37=\"Non endémique\",INTRO!$E$41=\"Non endémique\"),\" \",IF(COUNTRY_INFO!C88=0,\" \",COUNTRY_INFO!C88))","v":"ZUENOULA"},{"$f":"IF(AND(INTRO!$E$37=\"Non endémique\",INTRO!$E$41=\"Non endémique\"),0,COUNTRY_INFO!V88)","v":0},{"$f":"IF(AND(INTRO!$E$37=\"Non endémique\",INTRO!$E$41=\"Non endémique\"),0,COUNTRY_INFO!X88)","v":0},{"$f":"IF(INTRO!$E$39=\"Non endémique\",IF($D88=1,DEC!I88,0),IF($D88=1,IVM!G88,0))","v":0},null,{"$f":"IF(OR(COUNTRY_INFO!N88=\"Inconnu\",COUNTRY_INFO!N88=\"Surveillance\",COUNTRY_INFO!N88=\"Non requis\",COUNTRY_INFO!N88=0),0,IF(INTRO!$E$39=\"Non endémique\",IF(AND($E88<>0,$G88=\"\"),IF($F88=0,COUNTRY_INFO!N88*$E88,COUNTRY_INFO!N88*($E88-$D88)),IF(AND($E88<>0,$G88<>0),IF($F88=0,COUNTRY_INFO!N88*$G88,COUNTRY_INFO!N88*($G88-$D88)),0)),IF($G88=\"\",COUNTRY_INFO!N88*$E88,COUNTRY_INFO!N88*$G88)))","v":0},{"$f":"IF(OR(COUNTRY_INFO!O88=\"Inconnu\",COUNTRY_INFO!O88=\"Surveillance\",COUNTRY_INFO!O88=\"Non requis\",COUNTRY_INFO!O88=0),0,IF($E88<>0, IF($F88=0,COUNTRY_INFO!O88*$E88,COUNTRY_INFO!O88*($E88-$D88)),COUNTRY_INFO!O88*$E88))","v":0},null,{"$f":"IF(OR(COUNTRY_INFO!P88=\"Inconnu\",COUNTRY_INFO!P88=\"Surveillance\",COUNTRY_INFO!P88=\"Non requis\",COUNTRY_INFO!P88=0),0,IF(AND($E88<>0,$J88=\"\"),IF($F88=0,COUNTRY_INFO!P88*$E88,COUNTRY_INFO!P88*($E88-$D88)), IF(AND($E88<>0,$J88<>0),IF($F88=0,COUNTRY_INFO!P88*$J88,COUNTRY_INFO!P88*($J88-$D88)), COUNTRY_INFO!P88*$J88)))","v":0},0,0,null,0,0,null,0,0,null,0]
[{"$f":"IF(AND(INTRO!$E$37=\"Non endémique\",INTRO!$E$41=\"Non endémique\"),\" \",IF(COUNTRY_INFO!A89=0,\" \",COUNTRY_INFO!A89))","v":"Côte d'Ivoire"},{"$f":"IF(AND(INTRO!$E$37=\"Non endémique\",INTRO!$E$41=\"Non endémique\"),\" \",IF(COUNTRY_INFO!B89=0,\" \",COUNTRY_INFO!B89))","v":"ME"},{"$f":"IF(AND(INTRO!$E$37=\"Non endémique\",INTRO!$E$41=\"Non endémique\"),\" \",IF(COUNTRY_INFO!C89=0,\" \",COUNTRY_INFO!C89))","v":"ADZOPE"},{"$f":"IF(AND(INTRO!$E$37=\"Non endémique\",INTRO!$E$41=\"Non endémique\"),0,COUNTRY_INFO!V89)","v":1},{"$f":"IF(AND(INTRO!$E$37=\"Non endémique\",INTRO!$E$41=\"Non endémique\"),0,COUNTRY_INFO!X89)","v":0},{"$f":"IF(INTRO!$E$39=\"Non endémique\",IF($D89=1,DEC!I89,0),IF($D89=1,IVM!G89,0))","v":191626},null,{"$f":"IF(OR(COUNTRY_INFO!N89=\"Inconnu\",COUNTRY_INFO!N89=\"Surveillance\",COUNTRY_INFO!N89=\"Non requis\",COUNTRY_INFO!N89=0),0,IF(INTRO!$E$39=\"Non endémique\",IF(AND($E89<>0,$G89=\"\"),IF($F89=0,COUNTRY_INFO!N89*$E89,COUNTRY_INFO!N89*($E89-$D89)),IF(AND($E89<>0,$G89<>0),IF($F89=0,COUNTRY_INFO!N89*$G89,COUNTRY_INFO!N89*($G89-$D89)),0)),IF($G89=\"\",COUNTRY_INFO!N89*$E89,COUNTRY_INFO!N89*$G89)))","v":0},{"$f":"IF(OR(COUNTRY_INFO!O89=\"Inconnu\",COUNTRY_INFO!O89=\"Surveillance\",COUNTRY_INFO!O89=\"Non requis\",COUNTRY_INFO!O89=0),0,IF($E89<>0, IF($F89=0,COUNTRY_INFO!O89*$E89,COUNTRY_INFO!O89*($E89-$D89)),COUNTRY_INFO!O89*$E89))","v":0},null,{"$f":"IF(OR(COUNTRY_INFO!P89=\"Inconnu\",COUNTRY_INFO!P89=\"Surveillance\",COUNTRY_INFO!P89=\"Non requis\",COUNTRY_INFO!P89=0),0,IF(AND($E89<>0,$J89=\"\"),IF($F89=0,COUNTRY_INFO!P89*$E89,COUNTRY_INFO!P89*($E89-$D89)), IF(AND($E89<>0,$J89<>0),IF($F89=0,COUNTRY_INFO!P89*$J89,COUNTRY_INFO!P89*($J89-$D89)), COUNTRY_INFO!P89*$J89)))","v":0},0,191626,null,191626,0,null,0,0,null,0]
[{"$f":"IF(AND(INTRO!$E$37=\"Non endémique\",INTRO!$E$41=\"Non endémique\"),\" \",IF(COUNTRY_INFO!A90=0,\" \",COUNTRY_INFO!A90))","v":"Côte d'Ivoire"},{"$f":"IF(AND(INTRO!$E$37=\"Non endémique\",INTRO!$E$41=\"Non endémique\"),\" \",IF(COUNTRY_INFO!B90=0,\" \",COUNTRY_INFO!B90))","v":"ME"},{"$f":"IF(AND(INTRO!$E$37=\"Non endémique\",INTRO!$E$41=\"Non endémique\"),\" \",IF(COUNTRY_INFO!C90=0,\" \",COUNTRY_INFO!C90))","v":"AKOUPE"},{"$f":"IF(AND(INTRO!$E$37=\"Non endémique\",INTRO!$E$41=\"Non endémique\"),0,COUNTRY_INFO!V90)","v":1},{"$f":"IF(AND(INTRO!$E$37=\"Non endémique\",INTRO!$E$41=\"Non endémique\"),0,COUNTRY_INFO!X90)","v":0},{"$f":"IF(INTRO!$E$39=\"Non endémique\",IF($D90=1,DEC!I90,0),IF($D90=1,IVM!G90,0))","v":117864},null,{"$f":"IF(OR(COUNTRY_INFO!N90=\"Inconnu\",COUNTRY_INFO!N90=\"Surveillance\",COUNTRY_INFO!N90=\"Non requis\",COUNTRY_INFO!N90=0),0,IF(INTRO!$E$39=\"Non endémique\",IF(AND($E90<>0,$G90=\"\"),IF($F90=0,COUNTRY_INFO!N90*$E90,COUNTRY_INFO!N90*($E90-$D90)),IF(AND($E90<>0,$G90<>0),IF($F90=0,COUNTRY_INFO!N90*$G90,COUNTRY_INFO!N90*($G90-$D90)),0)),IF($G90=\"\",COUNTRY_INFO!N90*$E90,COUNTRY_INFO!N90*$G90)))","v":0},{"$f":"IF(OR(COUNTRY_INFO!O90=\"Inconnu\",COUNTRY_INFO!O90=\"Surveillance\",COUNTRY_INFO!O90=\"Non requis\",COUNTRY_INFO!O90=0),0,IF($E90<>0, IF($F90=0,COUNTRY_INFO!O90*$E90,COUNTRY_INFO!O90*($E90-$D90)),COUNTRY_INFO!O90*$E90))","v":0},null,{"$f":"IF(OR(COUNTRY_INFO!P90=\"Inconnu\",COUNTRY_INFO!P90=\"Surveillance\",COUNTRY_INFO!P90=\"Non requis\",COUNTRY_INFO!P90=0),0,IF(AND($E90<>0,$J90=\"\"),IF($F90=0,COUNTRY_INFO!P90*$E90,COUNTRY_INFO!P90*($E90-$D90)), IF(AND($E90<>0,$J90<>0),IF($F90=0,COUNTRY_INFO!P90*$J90,COUNTRY_INFO!P90*($J90-$D90)), COUNTRY_INFO!P90*$J90)))","v":0},0,117864,null,117864,0,null,0,0,null,0]
[{"$f":"IF(AND(INTRO!$E$37=\"Non endémique\",INTRO!$E$41=\"Non endémique\"),\" \",IF(COUNTRY_INFO!A91=0,\" \",COUNTRY_INFO!A91))","v":"Côte d'Ivoire"},{"$f":"IF(AND(INTRO!$E$37=\"Non endémique\",INTRO!$E$41=\"Non endémique\"),\" \",IF(COUNTRY_INFO!B91=0,\" \",COUNTRY_INFO!B91))","v":"ME"},{"$f":"IF(AND(INTRO!$E$37=\"Non endémique\",INTRO!$E$41=\"Non endémique\"),\" \",IF(COUNTRY_INFO!C91=0,\" \",COUNTRY_INFO!C91))","v":"ALEPE"},{"$f":"IF(AND(INTRO!$E$37=\"Non endémique\",INTRO!$E$41=\"Non endémique\"),0,COUNTRY_INFO!V91)","v":1},{"$f":"IF(AND(INTRO!$E$37=\"Non endémique\",INTRO!$E$41=\"Non endémique\"),0,COUNTRY_INFO!X91)","v":0},{"$f":"IF(INTRO!$E$39=\"Non endémique\",IF($D91=1,DEC!I91,0),IF($D91=1,IVM!G91,0))","v":124646},null,{"$f":"IF(OR(COUNTRY_INFO!N91=\"Inconnu\",COUNTRY_INFO!N91=\"Surveillance\",COUNTRY_INFO!N91=\"Non requis\",COUNTRY_INFO!N91=0),0,IF(INTRO!$E$39=\"Non endémique\",IF(AND($E91<>0,$G91=\"\"),IF($F91=0,COUNTRY_INFO!N91*$E91,COUNTRY_INFO!N91*($E91-$D91)),IF(AND($E91<>0,$G91<>0),IF($F91=0,COUNTRY_INFO!N91*$G91,COUNTRY_INFO!N91*($G91-$D91)),0)),IF($G91=\"\",COUNTRY_INFO!N91*$E91,COUNTRY_INFO!N91*$G91)))","v":0},{"$f":"IF(OR(COUNTRY_INFO!O91=\"Inconnu\",COUNTRY_INFO!O91=\"Surveillance\",COUNTRY_INFO!O91=\"Non requis\",COUNTRY_INFO!O91=0),0,IF($E91<>0, IF($F91=0,COUNTRY_INFO!O91*$E91,COUNTRY_INFO!O91*($E91-$D91)),COUNTRY_INFO!O91*$E91))","v":0},null,{"$f":"IF(OR(COUNTRY_INFO!P91=\"Inconnu\",COUNTRY_INFO!P91=\"Surveillance\",COUNTRY_INFO!P91=\"Non requis\",COUNTRY_INFO!P91=0),0,IF(AND($E91<>0,$J91=\"\"),IF($F91=0,COUNTRY_INFO!P91*$E91,COUNTRY_INFO!P91*($E91-$D91)), IF(AND($E91<>0,$J91<>0),IF($F91=0,COUNTRY_INFO!P91*$J91,COUNTRY_INFO!P91*($J91-$D91)), COUNTRY_INFO!P91*$J91)))","v":0},0,124646,null,124646,0,null,0,0,null,0]
[{"$f":"IF(AND(INTRO!$E$37=\"Non endémique\",INTRO!$E$41=\"Non endémique\"),\" \",IF(COUNTRY_INFO!A92=0,\" \",COUNTRY_INFO!A92))","v":"Côte d'Ivoire"},{"$f":"IF(AND(INTRO!$E$37=\"Non endémique\",INTRO!$E$41=\"Non endémique\"),\" \",IF(COUNTRY_INFO!B92=0,\" \",COUNTRY_INFO!B92))","v":"ME"},{"$f":"IF(AND(INTRO!$E$37=\"Non endémique\",INTRO!$E$41=\"Non endémique\"),\" \",IF(COUNTRY_INFO!C92=0,\" \",COUNTRY_INFO!C92))","v":"YAKASSE ATTOBROU"},{"$f":"IF(AND(INTRO!$E$37=\"Non endémique\",INTRO!$E$41=\"Non endémique\"),0,COUNTRY_INFO!V92)","v":1},{"$f":"IF(AND(INTRO!$E$37=\"Non endémique\",INTRO!$E$41=\"Non endémique\"),0,COUNTRY_INFO!X92)","v":0},{"$f":"IF(INTRO!$E$39=\"Non endémique\",IF($D92=1,DEC!I92,0),IF($D92=1,IVM!G92,0))","v":75532},null,{"$f":"IF(OR(COUNTRY_INFO!N92=\"Inconnu\",COUNTRY_INFO!N92=\"Surveillance\",COUNTRY_INFO!N92=\"Non requis\",COUNTRY_INFO!N92=0),0,IF(INTRO!$E$39=\"Non endémique\",IF(AND($E92<>0,$G92=\"\"),IF($F92=0,COUNTRY_INFO!N92*$E92,COUNTRY_INFO!N92*($E92-$D92)),IF(AND($E92<>0,$G92<>0),IF($F92=0,COUNTRY_INFO!N92*$G92,COUNTRY_INFO!N92*($G92-$D92)),0)),IF($G92=\"\",COUNTRY_INFO!N92*$E92,COUNTRY_INFO!N92*$G92)))","v":0},{"$f":"IF(OR(COUNTRY_INFO!O92=\"Inconnu\",COUNTRY_INFO!O92=\"Surveillance\",COUNTRY_INFO!O92=\"Non requis\",COUNTRY_INFO!O92=0),0,IF($E92<>0, IF($F92=0,COUNTRY_INFO!O92*$E92,COUNTRY_INFO!O92*($E92-$D92)),COUNTRY_INFO!O92*$E92))","v":0},null,{"$f":"IF(OR(COUNTRY_INFO!P92=\"Inconnu\",COUNTRY_INFO!P92=\"Surveillance\",COUNTRY_INFO!P92=\"Non requis\",COUNTRY_INFO!P92=0),0,IF(AND($E92<>0,$J92=\"\"),IF($F92=0,COUNTRY_INFO!P92*$E92,COUNTRY_INFO!P92*($E92-$D92)), IF(AND($E92<>0,$J92<>0),IF($F92=0,COUNTRY_INFO!P92*$J92,COUNTRY_INFO!P92*($J92-$D92)), COUNTRY_INFO!P92*$J92)))","v":0},0,75532,null,75532,0,null,0,0,null,0]
[{"$f":"IF(AND(INTRO!$E$37=\"Non endémique\",INTRO!$E$41=\"Non endémique\"),\" \",IF(COUNTRY_INFO!A93=0,\" \",COUNTRY_INFO!A93))","v":"Côte d'Ivoire"},{"$f":"IF(AND(INTRO!$E$37=\"Non endémique\",INTRO!$E$41=\"Non endémique\"),\" \",IF(COUNTRY_INFO!B93=0,\" \",COUNTRY_INFO!B93))","v":"MORONOU"},{"$f":"IF(AND(INTRO!$E$37=\"Non endémique\",INTRO!$E$41=\"Non endémique\"),\" \",IF(COUNTRY_INFO!C93=0,\" \",COUNTRY_INFO!C93))","v":"ARRAH"},{"$f":"IF(AND(INTRO!$E$37=\"Non endémique\",INTRO!$E$41=\"Non endémique\"),0,COUNTRY_INFO!V93)","v":0},{"$f":"IF(AND(INTRO!$E$37=\"Non endémique\",INTRO!$E$41=\"Non endémique\"),0,COUNTRY_INFO!X93)","v":1},{"$f":"IF(INTRO!$E$39=\"Non endémique\",IF($D93=1,DEC!I93,0),IF($D93=1,IVM!G93,0))","v":0},null,{"$f":"IF(OR(COUNTRY_INFO!N93=\"Inconnu\",COUNTRY_INFO!N93=\"Surveillance\",COUNTRY_INFO!N93=\"Non requis\",COUNTRY_INFO!N93=0),0,IF(INTRO!$E$39=\"Non endémique\",IF(AND($E93<>0,$G93=\"\"),IF($F93=0,COUNTRY_INFO!N93*$E93,COUNTRY_INFO!N93*($E93-$D93)),IF(AND($E93<>0,$G93<>0),IF($F93=0,COUNTRY_INFO!N93*$G93,COUNTRY_INFO!N93*($G93-$D93)),0)),IF($G93=\"\",COUNTRY_INFO!N93*$E93,COUNTRY_INFO!N93*$G93)))","v":13429},{"$f":"IF(OR(COUNTRY_INFO!O93=\"Inconnu\",COUNTRY_INFO!O93=\"Surveillance\",COUNTRY_INFO!O93=\"Non requis\",COUNTRY_INFO!O93=0),0,IF($E93<>0, IF($F93=0,COUNTRY_INFO!O93*$E93,COUNTRY_INFO!O93*($E93-$D93)),COUNTRY_INFO!O93*$E93))","v":26921},null,{"$f":"IF(OR(COUNTRY_INFO!P93=\"Inconnu\",COUNTRY_INFO!P93=\"Surveillance\",COUNTRY_INFO!P93=\"Non requis\",COUNTRY_INFO!P93=0),0,IF(AND($E93<>0,$J93=\"\"),IF($F93=0,COUNTRY_INFO!P93*$E93,COUNTRY_INFO!P93*($E93-$D93)), IF(AND($E93<>0,$J93<>0),IF($F93=0,COUNTRY_INFO!P93*$J93,COUNTRY_INFO!P93*($J93-$D93)), COUNTRY_INFO!P93*$J93)))","v":25534},65884,0,null,0,26921,null,26921,0,null,0]
[{"$f":"IF(AND(INTRO!$E$37=\"Non endémique\",INTRO!$E$41=\"Non endémique\"),\" \",IF(COUNTRY_INFO!A94=0,\" \",COUNTRY_INFO!A94))","v":"Côte d'Ivoire"},{"$f":"IF(AND(INTRO!$E$37=\"Non endémique\",INTRO!$E$41=\"Non endémique\"),\" \",IF(COUNTRY_INFO!B94=0,\" \",COUNTRY_INFO!B94))","v":"MORONOU"},{"$f":"IF(AND(INTRO!$E$37=\"Non endémique\",INTRO!$E$41=\"Non endémique\"),\" \",IF(COUNTRY_INFO!C94=0,\" \",COUNTRY_INFO!C94))","v":"BONGOUANOU"},{"$f":"IF(AND(INTRO!$E$37=\"Non endémique\",INTRO!$E$41=\"Non endémique\"),0,COUNTRY_INFO!V94)","v":0},{"$f":"IF(AND(INTRO!$E$37=\"Non endémique\",INTRO!$E$41=\"Non endémique\"),0,COUNTRY_INFO!X94)","v":1},{"$f":"IF(INTRO!$E$39=\"Non endémique\",IF($D94=1,DEC!I94,0),IF($D94=1,IVM!G94,0))","v":0},null,{"$f":"IF(OR(COUNTRY_INFO!N94=\"Inconnu\",COUNTRY_INFO!N94=\"Surveillance\",COUNTRY_INFO!N94=\"Non requis\",COUNTRY_INFO!N94=0),0,IF(INTRO!$E$39=\"Non endémique\",IF(AND($E94<>0,$G94=\"\"),IF($F94=0,COUNTRY_INFO!N94*$E94,COUNTRY_INFO!N94*($E94-$D94)),IF(AND($E94<>0,$G94<>0),IF($F94=0,COUNTRY_INFO!N94*$G94,COUNTRY_INFO!N94*($G94-$D94)),0)),IF($G94=\"\",COUNTRY_INFO!N94*$E94,COUNTRY_INFO!N94*$G94)))","v":27629},{"$f":"IF(OR(COUNTRY_INFO!O94=\"Inconnu\",COUNTRY_INFO!O94=\"Surveillance\",COUNTRY_INFO!O94=\"Non requis\",COUNTRY_INFO!O94=0),0,IF($E94<>0, IF($F94=0,COUNTRY_INFO!O94*$E94,COUNTRY_INFO!O94*($E94-$D94)),COUNTRY_INFO!O94*$E94))","v":55389},null,{"$f":"IF(OR(COUNTRY_INFO!P94=\"Inconnu\",COUNTRY_INFO!P94=\"Surveillance\",COUNTRY_INFO!P94=\"Non requis\",COUNTRY_INFO!P94=0),0,IF(AND($E94<>0,$J94=\"\"),IF($F94=0,COUNTRY_INFO!P94*$E94,COUNTRY_INFO!P94*($E94-$D94)), IF(AND($E94<>0,$J94<>0),IF($F94=0,COUNTRY_INFO!P94*$J94,COUNTRY_INFO!P94*($J94-$D94)), COUNTRY_INFO!P94*$J94)))","v":52537},135555,0,null,0,55389,null,55389,0,null,0]
[{"$f":"IF(AND(INTRO!$E$37=\"Non endémique\",INTRO!$E$41=\"Non endémique\"),\" \",IF(COUNTRY_INFO!A95=0,\" \",COUNTRY_INFO!A95))","v":"Côte d'Ivoire"},{"$f":"IF(AND(INTRO!$E$37=\"Non endémique\",INTRO!$E$41=\"Non endémique\"),\" \",IF(COUNTRY_INFO!B95=0,\" \",COUNTRY_INFO!B95))","v":"MORONOU"},{"$f":"IF(AND(INTRO!$E$37=\"Non endémique\",INTRO!$E$41=\"Non endémique\"),\" \",IF(COUNTRY_INFO!C95=0,\" \",COUNTRY_INFO!C95))","v":"M'BATTO"},{"$f":"IF(AND(INTRO!$E$37=\"Non endémique\",INTRO!$E$41=\"Non endémique\"),0,COUNTRY_INFO!V95)","v":0},{"$f":"IF(AND(INTRO!$E$37=\"Non endémique\",INTRO!$E$41=\"Non endémique\"),0,COUNTRY_INFO!X95)","v":1},{"$f":"IF(INTRO!$E$39=\"Non endémique\",IF($D95=1,DEC!I95,0),IF($D95=1,IVM!G95,0))","v":0},null,{"$f":"IF(OR(COUNTRY_INFO!N95=\"Inconnu\",COUNTRY_INFO!N95=\"Surveillance\",COUNTRY_INFO!N95=\"Non requis\",COUNTRY_INFO!N95=0),0,IF(INTRO!$E$39=\"Non endémique\",IF(AND($E95<>0,$G95=\"\"),IF($F95=0,COUNTRY_INFO!N95*$E95,COUNTRY_INFO!N95*($E95-$D95)),IF(AND($E95<>0,$G95<>0),IF($F95=0,COUNTRY_INFO!N95*$G95,COUNTRY_INFO!N95*($G95-$D95)),0)),IF($G95=\"\",COUNTRY_INFO!N95*$E95,COUNTRY_INFO!N95*$G95)))","v":17877},{"$f":"IF(OR(COUNTRY_INFO!O95=\"Inconnu\",COUNTRY_INFO!O95=\"Surveillance\",COUNTRY_INFO!O95=\"Non requis\",COUNTRY_INFO!O95=0),0,IF($E95<>0, IF($F95=0,COUNTRY_INFO!O95*$E95,COUNTRY_INFO!O95*($E95-$D95)),COUNTRY_INFO!O95*$E95))","v":35839},null,{"$f":"IF(OR(COUNTRY_INFO!P95=\"Inconnu\",COUNTRY_INFO!P95=\"Surveillance\",COUNTRY_INFO!P95=\"Non requis\",COUNTRY_INFO!P95=0),0,IF(AND($E95<>0,$J95=\"\"),IF($F95=0,COUNTRY_INFO!P95*$E95,COUNTRY_INFO!P95*($E95-$D95)), IF(AND($E95<>0,$J95<>0),IF($F95=0,COUNTRY_INFO!P95*$J95,COUNTRY_INFO!P95*($J95-$D95)), COUNTRY_INFO!P95*$J95)))","v":33994},87710,0,null,0,35839,null,35839,0,null,0]
[{"$f":"IF(AND(INTRO!$E$37=\"Non endémique\",INTRO!$E$41=\"Non endémique\"),\" \",IF(COUNTRY_INFO!A96=0,\" \",COUNTRY_INFO!A96))","v":"Côte d'Ivoire"},{"$f":"IF(AND(INTRO!$E$37=\"Non endémique\",INTRO!$E$41=\"Non endémique\"),\" \",IF(COUNTRY_INFO!B96=0,\" \",COUNTRY_INFO!B96))","v":"NAWA"},{"$f":"IF(AND(INTRO!$E$37=\"Non endémique\",INTRO!$E$41=\"Non endémique\"),\" \",IF(COUNTRY_INFO!C96=0,\" \",COUNTRY_INFO!C96))","v":"BUYO"},{"$f":"IF(AND(INTRO!$E$37=\"Non endémique\",INTRO!$E$41=\"Non endémique\"),0,COUNTRY_INFO!V96)","v":0},{"$f":"IF(AND(INTRO!$E$37=\"Non endémique\",INTRO!$E$41=\"Non endémique\"),0,COUNTRY_INFO!X96)","v":0},{"$f":"IF(INTRO!$E$39=\"Non endémique\",IF($D96=1,DEC!I96,0),IF($D96=1,IVM!G96,0))","v":0},null,{"$f":"IF(OR(COUNTRY_INFO!N96=\"Inconnu\",COUNTRY_INFO!N96=\"Surveillance\",COUNTRY_INFO!N96=\"Non requis\",COUNTRY_INFO!N96=0),0,IF(INTRO!$E$39=\"Non endémique\",IF(AND($E96<>0,$G96=\"\"),IF($F96=0,COUNTRY_INFO!N96*$E96,COUNTRY_INFO!N96*($E96-$D96)),IF(AND($E96<>0,$G96<>0),IF($F96=0,COUNTRY_INFO!N96*$G96,COUNTRY_INFO!N96*($G96-$D96)),0)),IF($G96=\"\",COUNTRY_INFO!N96*$E96,COUNTRY_INFO!N96*$G96)))","v":0},{"$f":"IF(OR(COUNTRY_INFO!O96=\"Inconnu\",COUNTRY_INFO!O96=\"Surveillance\",COUNTRY_INFO!O96=\"Non requis\",COUNTRY_INFO!O96=0),0,IF($E96<>0, IF($F96=0,COUNTRY_INFO!O96*$E96,COUNTRY_INFO!O96*($E96-$D96)),COUNTRY_INFO!O96*$E96))","v":0},null,{"$f":"IF(OR(COUNTRY_INFO!P96=\"Inconnu\",COUNTRY_INFO!P96=\"Surveillance\",COUNTRY_INFO!P96=\"Non requis\",COUNTRY_INFO!P96=0),0,IF(AND($E96<>0,$J96=\"\"),IF($F96=0,COUNTRY_INFO!P96*$E96,COUNTRY_INFO!P96*($E96-$D96)), IF(AND($E96<>0,$J96<>0),IF($F96=0,COUNTRY_INFO!P96*$J96,COUNTRY_INFO!P96*($J96-$D96)), COUNTRY_INFO!P96*$J96)))","v":0},0,0,null,0,0,null,0,0,null,0]
[{"$f":"IF(AND(INTRO!$E$37=\"Non endémique\",INTRO!$E$41=\"Non endémique\"),\" \",IF(COUNTRY_INFO!A97=0,\" \",COUNTRY_INFO!A97))","v":"Côte d'Ivoire"},{"$f":"IF(AND(INTRO!$E$37=\"Non endémique\",INTRO!$E$41=\"Non endémique\"),\" \",IF(COUNTRY_INFO!B97=0,\" \",COUNTRY_INFO!B97))","v":"NAWA"},{"$f":"IF(AND(INTRO!$E$37=\"Non endémique\",INTRO!$E$41=\"Non endémique\"),\" \",IF(COUNTRY_INFO!C97=0,\" \",COUNTRY_INFO!C97))","v":"GUEYO"},{"$f":"IF(AND(INTRO!$E$37=\"Non endémique\",INTRO!$E$41=\"Non endémique\"),0,COUNTRY_INFO!V97)","v":1},{"$f":"IF(AND(INTRO!$E$37=\"Non endémique\",INTRO!$E$41=\"Non endémique\"),0,COUNTRY_INFO!X97)","v":0},{"$f":"IF(INTRO!$E$39=\"Non endémique\",IF($D97=1,DEC!I97,0),IF($D97=1,IVM!G97,0))","v":81141},null,{"$f":"IF(OR(COUNTRY_INFO!N97=\"Inconnu\",COUNTRY_INFO!N97=\"Surveillance\",COUNTRY_INFO!N97=\"Non requis\",COUNTRY_INFO!N97=0),0,IF(INTRO!$E$39=\"Non endémique\",IF(AND($E97<>0,$G97=\"\"),IF($F97=0,COUNTRY_INFO!N97*$E97,COUNTRY_INFO!N97*($E97-$D97)),IF(AND($E97<>0,$G97<>0),IF($F97=0,COUNTRY_INFO!N97*$G97,COUNTRY_INFO!N97*($G97-$D97)),0)),IF($G97=\"\",COUNTRY_INFO!N97*$E97,COUNTRY_INFO!N97*$G97)))","v":0},{"$f":"IF(OR(COUNTRY_INFO!O97=\"Inconnu\",COUNTRY_INFO!O97=\"Surveillance\",COUNTRY_INFO!O97=\"Non requis\",COUNTRY_INFO!O97=0),0,IF($E97<>0, IF($F97=0,COUNTRY_INFO!O97*$E97,COUNTRY_INFO!O97*($E97-$D97)),COUNTRY_INFO!O97*$E97))","v":0},null,{"$f":"IF(OR(COUNTRY_INFO!P97=\"Inconnu\",COUNTRY_INFO!P97=\"Surveillance\",COUNTRY_INFO!P97=\"Non requis\",COUNTRY_INFO!P97=0),0,IF(AND($E97<>0,$J97=\"\"),IF($F97=0,COUNTRY_INFO!P97*$E97,COUNTRY_INFO!P97*($E97-$D97)), IF(AND($E97<>0,$J97<>0),IF($F97=0,COUNTRY_INFO!P97*$J97,COUNTRY_INFO!P97*($J97-$D97)), COUNTRY_INFO!P97*$J97)))","v":0},0,81141,null,81141,0,null,0,0,null,0]
[{"$f":"IF(AND(INTRO!$E$37=\"Non endémique\",INTRO!$E$41=\"Non endémique\"),\" \",IF(COUNTRY_INFO!A98=0,\" \",COUNTRY_INFO!A98))","v":"Côte d'Ivoire"},{"$f":"IF(AND(INTRO!$E$37=\"Non endémique\",INTRO!$E$41=\"Non endémique\"),\" \",IF(COUNTRY_INFO!B98=0,\" \",COUNTRY_INFO!B98))","v":"NAWA"},{"$f":"IF(AND(INTRO!$E$37=\"Non endémique\",INTRO!$E$41=\"Non endémique\"),\" \",IF(COUNTRY_INFO!C98=0,\" \",COUNTRY_INFO!C98))","v":"MEAGUI"},{"$f":"IF(AND(INTRO!$E$37=\"Non endémique\",INTRO!$E$41=\"Non endémique\"),0,COUNTRY_INFO!V98)","v":0},{"$f":"IF(AND(INTRO!$E$37=\"Non endémique\",INTRO!$E$41=\"Non endémique\"),0,COUNTRY_INFO!X98)","v":0},{"$f":"IF(INTRO!$E$39=\"Non endémique\",IF($D98=1,DEC!I98,0),IF($D98=1,IVM!G98,0))","v":0},null,{"$f":"IF(OR(COUNTRY_INFO!N98=\"Inconnu\",COUNTRY_INFO!N98=\"Surveillance\",COUNTRY_INFO!N98=\"Non requis\",COUNTRY_INFO!N98=0),0,IF(INTRO!$E$39=\"Non endémique\",IF(AND($E98<>0,$G98=\"\"),IF($F98=0,COUNTRY_INFO!N98*$E98,COUNTRY_INFO!N98*($E98-$D98)),IF(AND($E98<>0,$G98<>0),IF($F98=0,COUNTRY_INFO!N98*$G98,COUNTRY_INFO!N98*($G98-$D98)),0)),IF($G98=\"\",COUNTRY_INFO!N98*$E98,COUNTRY_INFO!N98*$G98)))","v":0},{"$f":"IF(OR(COUNTRY_INFO!O98=\"Inconnu\",COUNTRY_INFO!O98=\"Surveillance\",COUNTRY_INFO!O98=\"Non requis\",COUNTRY_INFO!O98=0),0,IF($E98<>0, IF($F98=0,COUNTRY_INFO!O98*$E98,COUNTRY_INFO!O98*($E98-$D98)),COUNTRY_INFO!O98*$E98))","v":0},null,{"$f":"IF(OR(COUNTRY_INFO!P98=\"Inconnu\",COUNTRY_INFO!P98=\"Surveillance\",COUNTRY_INFO!P98=\"Non requis\",COUNTRY_INFO!P98=0),0,IF(AND($E98<>0,$J98=\"\"),IF($F98=0,COUNTRY_INFO!P98*$E98,COUNTRY_INFO!P98*($E98-$D98)), IF(AND($E98<>0,$J98<>0),IF($F98=0,COUNTRY_INFO!P98*$J98,COUNTRY_INFO!P98*($J98-$D98)), COUNTRY_INFO!P98*$J98)))","v":0},0,0,null,0,0,null,0,0,null,0]
[{"$f":"IF(AND(INTRO!$E$37=\"Non endémique\",INTRO!$E$41=\"Non endémique\"),\" \",IF(COUNTRY_INFO!A99=0,\" \",COUNTRY_INFO!A99))","v":"Côte d'Ivoire"},{"$f":"IF(AND(INTRO!$E$37=\"Non endémique\",INTRO!$E$41=\"Non endémique\"),\" \",IF(COUNTRY_INFO!B99=0,\" \",COUNTRY_INFO!B99))","v":"NAWA"},{"$f":"IF(AND(INTRO!$E$37=\"Non endémique\",INTRO!$E$41=\"Non endémique\"),\" \",IF(COUNTRY_INFO!C99=0,\" \",COUNTRY_INFO!C99))","v":"SOUBRE"},{"$f":"IF(AND(INTRO!$E$37=\"Non endémique\",INTRO!$E$41=\"Non endémique\"),0,COUNTRY_INFO!V99)","v":0},{"$f":"IF(AND(INTRO!$E$37=\"Non endémique\",INTRO!$E$41=\"Non endémique\"),0,COUNTRY_INFO!X99)","v":0},{"$f":"IF(INTRO!$E$39=\"Non endémique\",IF($D99=1,DEC!I99,0),IF($D99=1,IVM!G99,0))","v":0},null,{"$f":"IF(OR(COUNTRY_INFO!N99=\"Inconnu\",COUNTRY_INFO!N99=\"Surveillance\",COUNTRY_INFO!N99=\"Non requis\",COUNTRY_INFO!N99=0),0,IF(INTRO!$E$39=\"Non endémique\",IF(AND($E99<>0,$G99=\"\"),IF($F99=0,COUNTRY_INFO!N99*$E99,COUNTRY_INFO!N99*($E99-$D99)),IF(AND($E99<>0,$G99<>0),IF($F99=0,COUNTRY_INFO!N99*$G99,COUNTRY_INFO!N99*($G99-$D99)),0)),IF($G99=\"\",COUNTRY_INFO!N99*$E99,COUNTRY_INFO!N99*$G99)))","v":0},{"$f":"IF(OR(COUNTRY_INFO!O99=\"Inconnu\",COUNTRY_INFO!O99=\"Surveillance\",COUNTRY_INFO!O99=\"Non requis\",COUNTRY_INFO!O99=0),0,IF($E99<>0, IF($F99=0,COUNTRY_INFO!O99*$E99,COUNTRY_INFO!O99*($E99-$D99)),COUNTRY_INFO!O99*$E99))","v":0},null,{"$f":"IF(OR(COUNTRY_INFO!P99=\"Inconnu\",COUNTRY_INFO!P99=\"Surveillance\",COUNTRY_INFO!P99=\"Non requis\",COUNTRY_INFO!P99=0),0,IF(AND($E99<>0,$J99=\"\"),IF($F99=0,COUNTRY_INFO!P99*$E99,COUNTRY_INFO!P99*($E99-$D99)), IF(AND($E99<>0,$J99<>0),IF($F99=0,COUNTRY_INFO!P99*$J99,COUNTRY_INFO!P99*($J99-$D99)), COUNTRY_INFO!P99*$J99)))","v":0},0,0,null,0,0,null,0,0,null,0]
[{"$f":"IF(AND(INTRO!$E$37=\"Non endémique\",INTRO!$E$41=\"Non endémique\"),\" \",IF(COUNTRY_INFO!A100=0,\" \",COUNTRY_INFO!A100))","v":"Côte d'Ivoire"},{"$f":"IF(AND(INTRO!$E$37=\"Non endémique\",INTRO!$E$41=\"Non endémique\"),\" \",IF(COUNTRY_INFO!B100=0,\" \",COUNTRY_INFO!B100))","v":"N'ZI"},{"$f":"IF(AND(INTRO!$E$37=\"Non endémique\",INTRO!$E$41=\"Non endémique\"),\" \",IF(COUNTRY_INFO!C100=0,\" \",COUNTRY_INFO!C100))","v":"BOCANDA"},{"$f":"IF(AND(INTRO!$E$37=\"Non endémique\",INTRO!$E$41=\"Non endémique\"),0,COUNTRY_INFO!V100)","v":0},{"$f":"IF(AND(INTRO!$E$37=\"Non endémique\",INTRO!$E$41=\"Non endémique\"),0,COUNTRY_INFO!X100)","v":1},{"$f":"IF(INTRO!$E$39=\"Non endémique\",IF($D100=1,DEC!I100,0),IF($D100=1,IVM!G100,0))","v":0},null,{"$f":"IF(OR(COUNTRY_INFO!N100=\"Inconnu\",COUNTRY_INFO!N100=\"Surveillance\",COUNTRY_INFO!N100=\"Non requis\",COUNTRY_INFO!N100=0),0,IF(INTRO!$E$39=\"Non endémique\",IF(AND($E100<>0,$G100=\"\"),IF($F100=0,COUNTRY_INFO!N100*$E100,COUNTRY_INFO!N100*($E100-$D100)),IF(AND($E100<>0,$G100<>0),IF($F100=0,COUNTRY_INFO!N100*$G100,COUNTRY_INFO!N100*($G100-$D100)),0)),IF($G100=\"\",COUNTRY_INFO!N100*$E100,COUNTRY_INFO!N100*$G100)))","v":21446},{"$f":"IF(OR(COUNTRY_INFO!O100=\"Inconnu\",COUNTRY_INFO!O100=\"Surveillance\",COUNTRY_INFO!O100=\"Non requis\",COUNTRY_INFO!O100=0),0,IF($E100<>0, IF($F100=0,COUNTRY_INFO!O100*$E100,COUNTRY_INFO!O100*($E100-$D100)),COUNTRY_INFO!O100*$E100))","v":42993},null,{"$f":"IF(OR(COUNTRY_INFO!P100=\"Inconnu\",COUNTRY_INFO!P100=\"Surveillance\",COUNTRY_INFO!P100=\"Non requis\",COUNTRY_INFO!P100=0),0,IF(AND($E100<>0,$J100=\"\"),IF($F100=0,COUNTRY_INFO!P100*$E100,COUNTRY_INFO!P100*($E100-$D100)), IF(AND($E100<>0,$J100<>0),IF($F100=0,COUNTRY_INFO!P100*$J100,COUNTRY_INFO!P100*($J100-$D100)), COUNTRY_INFO!P100*$J100)))","v":40779},105218,0,null,0,42993,null,42993,0,null,0]
[{"$f":"IF(AND(INTRO!$E$37=\"Non endémique\",INTRO!$E$41=\"Non endémique\"),\" \",IF(COUNTRY_INFO!A101=0,\" \",COUNTRY_INFO!A101))","v":"Côte d'Ivoire"},{"$f":"IF(AND(INTRO!$E$37=\"Non endémique\",INTRO!$E$41=\"Non endémique\"),\" \",IF(COUNTRY_INFO!B101=0,\" \",COUNTRY_INFO!B101))","v":"N'ZI"},{"$f":"IF(AND(INTRO!$E$37=\"Non endémique\",INTRO!$E$41=\"Non endémique\"),\" \",IF(COUNTRY_INFO!C101=0,\" \",COUNTRY_INFO!C101))","v":"DIMBOKRO"},{"$f":"IF(AND(INTRO!$E$37=\"Non endémique\",INTRO!$E$41=\"Non endémique\"),0,COUNTRY_INFO!V101)","v":0},{"$f":"IF(AND(INTRO!$E$37=\"Non endémique\",INTRO!$E$41=\"Non endémique\"),0,COUNTRY_INFO!X101)","v":1},{"$f":"IF(INTRO!$E$39=\"Non endémique\",IF($D101=1,DEC!I101,0),IF($D101=1,IVM!G101,0))","v":0},null,{"$f":"IF(OR(COUNTRY_INFO!N101=\"Inconnu\",COUNTRY_INFO!N101=\"Surveillance\",COUNTRY_INFO!N101=\"Non requis\",COUNTRY_INFO!N101=0),0,IF(INTRO!$E$39=\"Non endémique\",IF(AND($E101<>0,$G101=\"\"),IF($F101=0,COUNTRY_INFO!N101*$E101,COUNTRY_INFO!N101*($E101-$D101)),IF(AND($E101<>0,$G101<>0),IF($F101=0,COUNTRY_INFO!N101*$G101,COUNTRY_INFO!N101*($G101-$D101)),0)),IF($G101=\"\",COUNTRY_INFO!N101*$E101,COUNTRY_INFO!N101*$G101)))","v":15387},{"$f":"IF(OR(COUNTRY_INFO!O101=\"Inconnu\",COUNTRY_INFO!O101=\"Surveillance\",COUNTRY_INFO!O101=\"Non requis\",COUNTRY_INFO!O101=0),0,IF($E101<>0, IF($F101=0,COUNTRY_INFO!O101*$E101,COUNTRY_INFO!O101*($E101-$D101)),COUNTRY_INFO!O101*$E101))","v":30847},null,{"$f":"IF(OR(COUNTRY_INFO!P101=\"Inconnu\",COUNTRY_INFO!P101=\"Surveillance\",COUNTRY_INFO!P101=\"Non requis\",COUNTRY_INFO!P101=0),0,IF(AND($E101<>0,$J101=\"\"),IF($F101=0,COUNTRY_INFO!P101*$E101,COUNTRY_INFO!P101*($E101-$D101)), IF(AND($E101<>0,$J101<>0),IF($F101=0,COUNTRY_INFO!P101*$J101,COUNTRY_INFO!P101*($J101-$D101)), COUNTRY_INFO!P101*$J101)))","v":29259},75493,0,null,0,30847,null,30847,0,null,0]
[{"$f":"IF(AND(INTRO!$E$37=\"Non endémique\",INTRO!$E$41=\"Non endémique\"),\" \",IF(COUNTRY_INFO!A102=0,\" \",COUNTRY_INFO!A102))","v":"Côte d'Ivoire"},{"$f":"IF(AND(INTRO!$E$37=\"Non endémique\",INTRO!$E$41=\"Non endémique\"),\" \",IF(COUNTRY_INFO!B102=0,\" \",COUNTRY_INFO!B102))","v":"N'ZI"},{"$f":"IF(AND(INTRO!$E$37=\"Non endémique\",INTRO!$E$41=\"Non endémique\"),\" \",IF(COUNTRY_INFO!C102=0,\" \",COUNTRY_INFO!C102))","v":"KOUASSI-KOUASSIKRO"},{"$f":"IF(AND(INTRO!$E$37=\"Non endémique\",INTRO!$E$41=\"Non endémique\"),0,COUNTRY_INFO!V102)","v":0},{"$f":"IF(AND(INTRO!$E$37=\"Non endémique\",INTRO!$E$41=\"Non endémique\"),0,COUNTRY_INFO!X102)","v":1},{"$f":"IF(INTRO!$E$39=\"Non endémique\",IF($D102=1,DEC!I102,0),IF($D102=1,IVM!G102,0))","v":0},null,{"$f":"IF(OR(COUNTRY_INFO!N102=\"Inconnu\",COUNTRY_INFO!N102=\"Surveillance\",COUNTRY_INFO!N102=\"Non requis\",COUNTRY_INFO!N102=0),0,IF(INTRO!$E$39=\"Non endémique\",IF(AND($E102<>0,$G102=\"\"),IF($F102=0,COUNTRY_INFO!N102*$E102,COUNTRY_INFO!N102*($E102-$D102)),IF(AND($E102<>0,$G102<>0),IF($F102=0,COUNTRY_INFO!N102*$G102,COUNTRY_INFO!N102*($G102-$D102)),0)),IF($G102=\"\",COUNTRY_INFO!N102*$E102,COUNTRY_INFO!N102*$G102)))","v":5004},{"$f":"IF(OR(COUNTRY_INFO!O102=\"Inconnu\",COUNTRY_INFO!O102=\"Surveillance\",COUNTRY_INFO!O102=\"Non requis\",COUNTRY_INFO!O102=0),0,IF($E102<>0, IF($F102=0,COUNTRY_INFO!O102*$E102,COUNTRY_INFO!O102*($E102-$D102)),COUNTRY_INFO!O102*$E102))","v":10032},null,{"$f":"IF(OR(COUNTRY_INFO!P102=\"Inconnu\",COUNTRY_INFO!P102=\"Surveillance\",COUNTRY_INFO!P102=\"Non requis\",COUNTRY_INFO!P102=0),0,IF(AND($E102<>0,$J102=\"\"),IF($F102=0,COUNTRY_INFO!P102*$E102,COUNTRY_INFO!P102*($E102-$D102)), IF(AND($E102<>0,$J102<>0),IF($F102=0,COUNTRY_INFO!P102*$J102,COUNTRY_INFO!P102*($J102-$D102)), COUNTRY_INFO!P102*$J102)))","v":9515},24551,0,null,0,10032,null,10032,0,null,0]
[{"$f":"IF(AND(INTRO!$E$37=\"Non endémique\",INTRO!$E$41=\"Non endémique\"),\" \",IF(COUNTRY_INFO!A103=0,\" \",COUNTRY_INFO!A103))","v":"Côte d'Ivoire"},{"$f":"IF(AND(INTRO!$E$37=\"Non endémique\",INTRO!$E$41=\"Non endémique\"),\" \",IF(COUNTRY_INFO!B103=0,\" \",COUNTRY_INFO!B103))","v":"PORO"},{"$f":"IF(AND(INTRO!$E$37=\"Non endémique\",INTRO!$E$41=\"Non endémique\"),\" \",IF(COUNTRY_INFO!C103=0,\" \",COUNTRY_INFO!C103))","v":"DIKODOUGOU"},{"$f":"IF(AND(INTRO!$E$37=\"Non endémique\",INTRO!$E$41=\"Non endémique\"),0,COUNTRY_INFO!V103)","v":0},{"$f":"IF(AND(INTRO!$E$37=\"Non endémique\",INTRO!$E$41=\"Non endémique\"),0,COUNTRY_INFO!X103)","v":0},{"$f":"IF(INTRO!$E$39=\"Non endémique\",IF($D103=1,DEC!I103,0),IF($D103=1,IVM!G103,0))","v":0},null,{"$f":"IF(OR(COUNTRY_INFO!N103=\"Inconnu\",COUNTRY_INFO!N103=\"Surveillance\",COUNTRY_INFO!N103=\"Non requis\",COUNTRY_INFO!N103=0),0,IF(INTRO!$E$39=\"Non endémique\",IF(AND($E103<>0,$G103=\"\"),IF($F103=0,COUNTRY_INFO!N103*$E103,COUNTRY_INFO!N103*($E103-$D103)),IF(AND($E103<>0,$G103<>0),IF($F103=0,COUNTRY_INFO!N103*$G103,COUNTRY_INFO!N103*($G103-$D103)),0)),IF($G103=\"\",COUNTRY_INFO!N103*$E103,COUNTRY_INFO!N103*$G103)))","v":0},{"$f":"IF(OR(COUNTRY_INFO!O103=\"Inconnu\",COUNTRY_INFO!O103=\"Surveillance\",COUNTRY_INFO!O103=\"Non requis\",COUNTRY_INFO!O103=0),0,IF($E103<>0, IF($F103=0,COUNTRY_INFO!O103*$E103,COUNTRY_INFO!O103*($E103-$D103)),COUNTRY_INFO!O103*$E103))","v":0},null,{"$f":"IF(OR(COUNTRY_INFO!P103=\"Inconnu\",COUNTRY_INFO!P103=\"Surveillance\",COUNTRY_INFO!P103=\"Non requis\",COUNTRY_INFO!P103=0),0,IF(AND($E103<>0,$J103=\"\"),IF($F103=0,COUNTRY_INFO!P103*$E103,COUNTRY_INFO!P103*($E103-$D103)), IF(AND($E103<>0,$J103<>0),IF($F103=0,COUNTRY_INFO!P103*$J103,COUNTRY_INFO!P103*($J103-$D103)), COUNTRY_INFO!P103*$J103)))","v":0},0,0,null,0,0,null,0,0,null,0]
[{"$f":"IF(AND(INTRO!$E$37=\"Non endémique\",INTRO!$E$41=\"Non endémique\"),\" \",IF(COUNTRY_INFO!A104=0,\" \",COUNTRY_INFO!A104))","v":"Côte d'Ivoire"},{"$f":"IF(AND(INTRO!$E$37=\"Non endémique\",INTRO!$E$41=\"Non endémique\"),\" \",IF(COUNTRY_INFO!B104=0,\" \",COUNTRY_INFO!B104))","v":"PORO"},{"$f":"IF(AND(INTRO!$E$37=\"Non endémique\",INTRO!$E$41=\"Non endémique\"),\" \",IF(COUNTRY_INFO!C104=0,\" \",COUNTRY_INFO!C104))","v":"KORHOGO 1"},{"$f":"IF(AND(INTRO!$E$37=\"Non endémique\",INTRO!$E$41=\"Non endémique\"),0,COUNTRY_INFO!V104)","v":0},{"$f":"IF(AND(INTRO!$E$37=\"Non endémique\",INTRO!$E$41=\"Non endémique\"),0,COUNTRY_INFO!X104)","v":0},{"$f":"IF(INTRO!$E$39=\"Non endémique\",IF($D104=1,DEC!I104,0),IF($D104=1,IVM!G104,0))","v":0},null,{"$f":"IF(OR(COUNTRY_INFO!N104=\"Inconnu\",COUNTRY_INFO!N104=\"Surveillance\",COUNTRY_INFO!N104=\"Non requis\",COUNTRY_INFO!N104=0),0,IF(INTRO!$E$39=\"Non endémique\",IF(AND($E104<>0,$G104=\"\"),IF($F104=0,COUNTRY_INFO!N104*$E104,COUNTRY_INFO!N104*($E104-$D104)),IF(AND($E104<>0,$G104<>0),IF($F104=0,COUNTRY_INFO!N104*$G104,COUNTRY_INFO!N104*($G104-$D104)),0)),IF($G104=\"\",COUNTRY_INFO!N104*$E104,COUNTRY_INFO!N104*$G104)))","v":0},{"$f":"IF(OR(COUNTRY_INFO!O104=\"Inconnu\",COUNTRY_INFO!O104=\"Surveillance\",COUNTRY_INFO!O104=\"Non requis\",COUNTRY_INFO!O104=0),0,IF($E104<>0, IF($F104=0,COUNTRY_INFO!O104*$E104,COUNTRY_INFO!O104*($E104-$D104)),COUNTRY_INFO!O104*$E104))","v":0},null,{"$f":"IF(OR(COUNTRY_INFO!P104=\"Inconnu\",COUNTRY_INFO!P104=\"Surveillance\",COUNTRY_INFO!P104=\"Non requis\",COUNTRY_INFO!P104=0),0,IF(AND($E104<>0,$J104=\"\"),IF($F104=0,COUNTRY_INFO!P104*$E104,COUNTRY_INFO!P104*($E104-$D104)), IF(AND($E104<>0,$J104<>0),IF($F104=0,COUNTRY_INFO!P104*$J104,COUNTRY_INFO!P104*($J104-$D104)), COUNTRY_INFO!P104*$J104)))","v":0},0,0,null,0,0,null,0,0,null,0]
[{"$f":"IF(AND(INTRO!$E$37=\"Non endémique\",INTRO!$E$41=\"Non endémique\"),\" \",IF(COUNTRY_INFO!A105=0,\" \",COUNTRY_INFO!A105))","v":"Côte d'Ivoire"},{"$f":"IF(AND(INTRO!$E$37=\"Non endémique\",INTRO!$E$41=\"Non endémique\"),\" \",IF(COUNTRY_INFO!B105=0,\" \",COUNTRY_INFO!B105))","v":"PORO"},{"$f":"IF(AND(INTRO!$E$37=\"Non endémique\",INTRO!$E$41=\"Non endémique\"),\" \",IF(COUNTRY_INFO!C105=0,\" \",COUNTRY_INFO!C105))","v":"KORHOGO 2"},{"$f":"IF(AND(INTRO!$E$37=\"Non endémique\",INTRO!$E$41=\"Non endémique\"),0,COUNTRY_INFO!V105)","v":0},{"$f":"IF(AND(INTRO!$E$37=\"Non endémique\",INTRO!$E$41=\"Non endémique\"),0,COUNTRY_INFO!X105)","v":0},{"$f":"IF(INTRO!$E$39=\"Non endémique\",IF($D105=1,DEC!I105,0),IF($D105=1,IVM!G105,0))","v":0},null,{"$f":"IF(OR(COUNTRY_INFO!N105=\"Inconnu\",COUNTRY_INFO!N105=\"Surveillance\",COUNTRY_INFO!N105=\"Non requis\",COUNTRY_INFO!N105=0),0,IF(INTRO!$E$39=\"Non endémique\",IF(AND($E105<>0,$G105=\"\"),IF($F105=0,COUNTRY_INFO!N105*$E105,COUNTRY_INFO!N105*($E105-$D105)),IF(AND($E105<>0,$G105<>0),IF($F105=0,COUNTRY_INFO!N105*$G105,COUNTRY_INFO!N105*($G105-$D105)),0)),IF($G105=\"\",COUNTRY_INFO!N105*$E105,COUNTRY_INFO!N105*$G105)))","v":0},{"$f":"IF(OR(COUNTRY_INFO!O105=\"Inconnu\",COUNTRY_INFO!O105=\"Surveillance\",COUNTRY_INFO!O105=\"Non requis\",COUNTRY_INFO!O105=0),0,IF($E105<>0, IF($F105=0,COUNTRY_INFO!O105*$E105,COUNTRY_INFO!O105*($E105-$D105)),COUNTRY_INFO!O105*$E105))","v":0},null,{"$f":"IF(OR(COUNTRY_INFO!P105=\"Inconnu\",COUNTRY_INFO!P105=\"Surveillance\",COUNTRY_INFO!P105=\"Non requis\",COUNTRY_INFO!P105=0),0,IF(AND($E105<>0,$J105=\"\"),IF($F105=0,COUNTRY_INFO!P105*$E105,COUNTRY_INFO!P105*($E105-$D105)), IF(AND($E105<>0,$J105<>0),IF($F105=0,COUNTRY_INFO!P105*$J105,COUNTRY_INFO!P105*($J105-$D105)), COUNTRY_INFO!P105*$J105)))","v":0},0,0,null,0,0,null,0,0,null,0]
[{"$f":"IF(AND(INTRO!$E$37=\"Non endémique\",INTRO!$E$41=\"Non endémique\"),\" \",IF(COUNTRY_INFO!A106=0,\" \",COUNTRY_INFO!A106))","v":"Côte d'Ivoire"},{"$f":"IF(AND(INTRO!$E$37=\"Non endémique\",INTRO!$E$41=\"Non endémique\"),\" \",IF(COUNTRY_INFO!B106=0,\" \",COUNTRY_INFO!B106))","v":"PORO"},{"$f":"IF(AND(INTRO!$E$37=\"Non endémique\",INTRO!$E$41=\"Non endémique\"),\" \",IF(COUNTRY_INFO!C106=0,\" \",COUNTRY_INFO!C106))","v":"M'BENGUE"},{"$f":"IF(AND(INTRO!$E$37=\"Non endémique\",INTRO!$E$41=\"Non endémique\"),0,COUNTRY_INFO!V106)","v":0},{"$f":"IF(AND(INTRO!$E$37=\"Non endémique\",INTRO!$E$41=\"Non endémique\"),0,COUNTRY_INFO!X106)","v":0},{"$f":"IF(INTRO!$E$39=\"Non endémique\",IF($D106=1,DEC!I106,0),IF($D106=1,IVM!G106,0))","v":0},null,{"$f":"IF(OR(COUNTRY_INFO!N106=\"Inconnu\",COUNTRY_INFO!N106=\"Surveillance\",COUNTRY_INFO!N106=\"Non requis\",COUNTRY_INFO!N106=0),0,IF(INTRO!$E$39=\"Non endémique\",IF(AND($E106<>0,$G106=\"\"),IF($F106=0,COUNTRY_INFO!N106*$E106,COUNTRY_INFO!N106*($E106-$D106)),IF(AND($E106<>0,$G106<>0),IF($F106=0,COUNTRY_INFO!N106*$G106,COUNTRY_INFO!N106*($G106-$D106)),0)),IF($G106=\"\",COUNTRY_INFO!N106*$E106,COUNTRY_INFO!N106*$G106)))","v":0},{"$f":"IF(OR(COUNTRY_INFO!O106=\"Inconnu\",COUNTRY_INFO!O106=\"Surveillance\",COUNTRY_INFO!O106=\"Non requis\",COUNTRY_INFO!O106=0),0,IF($E106<>0, IF($F106=0,COUNTRY_INFO!O106*$E106,COUNTRY_INFO!O106*($E106-$D106)),COUNTRY_INFO!O106*$E106))","v":0},null,{"$f":"IF(OR(COUNTRY_INFO!P106=\"Inconnu\",COUNTRY_INFO!P106=\"Surveillance\",COUNTRY_INFO!P106=\"Non requis\",COUNTRY_INFO!P106=0),0,IF(AND($E106<>0,$J106=\"\"),IF($F106=0,COUNTRY_INFO!P106*$E106,COUNTRY_INFO!P106*($E106-$D106)), IF(AND($E106<>0,$J106<>0),IF($F106=0,COUNTRY_INFO!P106*$J106,COUNTRY_INFO!P106*($J106-$D106)), COUNTRY_INFO!P106*$J106)))","v":0},0,0,null,0,0,null,0,0,null,0]
[{"$f":"IF(AND(INTRO!$E$37=\"Non endémique\",INTRO!$E$41=\"Non endémique\"),\" \",IF(COUNTRY_INFO!A107=0,\" \",COUNTRY_INFO!A107))","v":"Côte d'Ivoire"},{"$f":"IF(AND(INTRO!$E$37=\"Non endémique\",INTRO!$E$41=\"Non endémique\"),\" \",IF(COUNTRY_INFO!B107=0,\" \",COUNTRY_INFO!B107))","v":"PORO"},{"$f":"IF(AND(INTRO!$E$37=\"Non endémique\",INTRO!$E$41=\"Non endémique\"),\" \",IF(COUNTRY_INFO!C107=0,\" \",COUNTRY_INFO!C107))","v":"SINEMENTILAI"},{"$f":"IF(AND(INTRO!$E$37=\"Non endémique\",INTRO!$E$41=\"Non endémique\"),0,COUNTRY_INFO!V107)","v":0},{"$f":"IF(AND(INTRO!$E$37=\"Non endémique\",INTRO!$E$41=\"Non endémique\"),0,COUNTRY_INFO!X107)","v":0},{"$f":"IF(INTRO!$E$39=\"Non endémique\",IF($D107=1,DEC!I107,0),IF($D107=1,IVM!G107,0))","v":0},null,{"$f":"IF(OR(COUNTRY_INFO!N107=\"Inconnu\",COUNTRY_INFO!N107=\"Surveillance\",COUNTRY_INFO!N107=\"Non requis\",COUNTRY_INFO!N107=0),0,IF(INTRO!$E$39=\"Non endémique\",IF(AND($E107<>0,$G107=\"\"),IF($F107=0,COUNTRY_INFO!N107*$E107,COUNTRY_INFO!N107*($E107-$D107)),IF(AND($E107<>0,$G107<>0),IF($F107=0,COUNTRY_INFO!N107*$G107,COUNTRY_INFO!N107*($G107-$D107)),0)),IF($G107=\"\",COUNTRY_INFO!N107*$E107,COUNTRY_INFO!N107*$G107)))","v":0},{"$f":"IF(OR(COUNTRY_INFO!O107=\"Inconnu\",COUNTRY_INFO!O107=\"Surveillance\",COUNTRY_INFO!O107=\"Non requis\",COUNTRY_INFO!O107=0),0,IF($E107<>0, IF($F107=0,COUNTRY_INFO!O107*$E107,COUNTRY_INFO!O107*($E107-$D107)),COUNTRY_INFO!O107*$E107))","v":0},null,{"$f":"IF(OR(COUNTRY_INFO!P107=\"Inconnu\",COUNTRY_INFO!P107=\"Surveillance\",COUNTRY_INFO!P107=\"Non requis\",COUNTRY_INFO!P107=0),0,IF(AND($E107<>0,$J107=\"\"),IF($F107=0,COUNTRY_INFO!P107*$E107,COUNTRY_INFO!P107*($E107-$D107)), IF(AND($E107<>0,$J107<>0),IF($F107=0,COUNTRY_INFO!P107*$J107,COUNTRY_INFO!P107*($J107-$D107)), COUNTRY_INFO!P107*$J107)))","v":0},0,0,null,0,0,null,0,0,null,0]
[{"$f":"IF(AND(INTRO!$E$37=\"Non endémique\",INTRO!$E$41=\"Non endémique\"),\" \",IF(COUNTRY_INFO!A108=0,\" \",COUNTRY_INFO!A108))","v":"Côte d'Ivoire"},{"$f":"IF(AND(INTRO!$E$37=\"Non endémique\",INTRO!$E$41=\"Non endémique\"),\" \",IF(COUNTRY_INFO!B108=0,\" \",COUNTRY_INFO!B108))","v":"SAN-PEDRO"},{"$f":"IF(AND(INTRO!$E$37=\"Non endémique\",INTRO!$E$41=\"Non endémique\"),\" \",IF(COUNTRY_INFO!C108=0,\" \",COUNTRY_INFO!C108))","v":"SAN PEDRO"},{"$f":"IF(AND(INTRO!$E$37=\"Non endémique\",INTRO!$E$41=\"Non endémique\"),0,COUNTRY_INFO!V108)","v":0},{"$f":"IF(AND(INTRO!$E$37=\"Non endémique\",INTRO!$E$41=\"Non endémique\"),0,COUNTRY_INFO!X108)","v":0},{"$f":"IF(INTRO!$E$39=\"Non endémique\",IF($D108=1,DEC!I108,0),IF($D108=1,IVM!G108,0))","v":0},null,{"$f":"IF(OR(COUNTRY_INFO!N108=\"Inconnu\",COUNTRY_INFO!N108=\"Surveillance\",COUNTRY_INFO!N108=\"Non requis\",COUNTRY_INFO!N108=0),0,IF(INTRO!$E$39=\"Non endémique\",IF(AND($E108<>0,$G108=\"\"),IF($F108=0,COUNTRY_INFO!N108*$E108,COUNTRY_INFO!N108*($E108-$D108)),IF(AND($E108<>0,$G108<>0),IF($F108=0,COUNTRY_INFO!N108*$G108,COUNTRY_INFO!N108*($G108-$D108)),0)),IF($G108=\"\",COUNTRY_INFO!N108*$E108,COUNTRY_INFO!N108*$G108)))","v":0},{"$f":"IF(OR(COUNTRY_INFO!O108=\"Inconnu\",COUNTRY_INFO!O108=\"Surveillance\",COUNTRY_INFO!O108=\"Non requis\",COUNTRY_INFO!O108=0),0,IF($E108<>0, IF($F108=0,COUNTRY_INFO!O108*$E108,COUNTRY_INFO!O108*($E108-$D108)),COUNTRY_INFO!O108*$E108))","v":0},null,{"$f":"IF(OR(COUNTRY_INFO!P108=\"Inconnu\",COUNTRY_INFO!P108=\"Surveillance\",COUNTRY_INFO!P108=\"Non requis\",COUNTRY_INFO!P108=0),0,IF(AND($E108<>0,$J108=\"\"),IF($F108=0,COUNTRY_INFO!P108*$E108,COUNTRY_INFO!P108*($E108-$D108)), IF(AND($E108<>0,$J108<>0),IF($F108=0,COUNTRY_INFO!P108*$J108,COUNTRY_INFO!P108*($J108-$D108)), COUNTRY_INFO!P108*$J108)))","v":0},0,0,null,0,0,null,0,0,null,0]
[{"$f":"IF(AND(INTRO!$E$37=\"Non endémique\",INTRO!$E$41=\"Non endémique\"),\" \",IF(COUNTRY_INFO!A109=0,\" \",COUNTRY_INFO!A109))","v":"Côte d'Ivoire"},{"$f":"IF(AND(INTRO!$E$37=\"Non endémique\",INTRO!$E$41=\"Non endémique\"),\" \",IF(COUNTRY_INFO!B109=0,\" \",COUNTRY_INFO!B109))","v":"SAN-PEDRO"},{"$f":"IF(AND(INTRO!$E$37=\"Non endémique\",INTRO!$E$41=\"Non endémique\"),\" \",IF(COUNTRY_INFO!C109=0,\" \",COUNTRY_INFO!C109))","v":"TABOU"},{"$f":"IF(AND(INTRO!$E$37=\"Non endémique\",INTRO!$E$41=\"Non endémique\"),0,COUNTRY_INFO!V109)","v":0},{"$f":"IF(AND(INTRO!$E$37=\"Non endémique\",INTRO!$E$41=\"Non endémique\"),0,COUNTRY_INFO!X109)","v":1},{"$f":"IF(INTRO!$E$39=\"Non endémique\",IF($D109=1,DEC!I109,0),IF($D109=1,IVM!G109,0))","v":0},null,{"$f":"IF(OR(COUNTRY_INFO!N109=\"Inconnu\",COUNTRY_INFO!N109=\"Surveillance\",COUNTRY_INFO!N109=\"Non requis\",COUNTRY_INFO!N109=0),0,IF(INTRO!$E$39=\"Non endémique\",IF(AND($E109<>0,$G109=\"\"),IF($F109=0,COUNTRY_INFO!N109*$E109,COUNTRY_INFO!N109*($E109-$D109)),IF(AND($E109<>0,$G109<>0),IF($F109=0,COUNTRY_INFO!N109*$G109,COUNTRY_INFO!N109*($G109-$D109)),0)),IF($G109=\"\",COUNTRY_INFO!N109*$E109,COUNTRY_INFO!N109*$G109)))","v":28708},{"$f":"IF(OR(COUNTRY_INFO!O109=\"Inconnu\",COUNTRY_INFO!O109=\"Surveillance\",COUNTRY_INFO!O109=\"Non requis\",COUNTRY_INFO!O109=0),0,IF($E109<>0, IF($F109=0,COUNTRY_INFO!O109*$E109,COUNTRY_INFO!O109*($E109-$D109)),COUNTRY_INFO!O109*$E109))","v":57552},null,{"$f":"IF(OR(COUNTRY_INFO!P109=\"Inconnu\",COUNTRY_INFO!P109=\"Surveillance\",COUNTRY_INFO!P109=\"Non requis\",COUNTRY_INFO!P109=0),0,IF(AND($E109<>0,$J109=\"\"),IF($F109=0,COUNTRY_INFO!P109*$E109,COUNTRY_INFO!P109*($E109-$D109)), IF(AND($E109<>0,$J109<>0),IF($F109=0,COUNTRY_INFO!P109*$J109,COUNTRY_INFO!P109*($J109-$D109)), COUNTRY_INFO!P109*$J109)))","v":54588},140848,0,null,0,57552,null,57552,0,null,0]
[{"$f":"IF(AND(INTRO!$E$37=\"Non endémique\",INTRO!$E$41=\"Non endémique\"),\" \",IF(COUNTRY_INFO!A110=0,\" \",COUNTRY_INFO!A110))","v":"Côte d'Ivoire"},{"$f":"IF(AND(INTRO!$E$37=\"Non endémique\",INTRO!$E$41=\"Non endémique\"),\" \",IF(COUNTRY_INFO!B110=0,\" \",COUNTRY_INFO!B110))","v":"SUD-COMOE"},{"$f":"IF(AND(INTRO!$E$37=\"Non endémique\",INTRO!$E$41=\"Non endémique\"),\" \",IF(COUNTRY_INFO!C110=0,\" \",COUNTRY_INFO!C110))","v":"ABOISSO"},{"$f":"IF(AND(INTRO!$E$37=\"Non endémique\",INTRO!$E$41=\"Non endémique\"),0,COUNTRY_INFO!V110)","v":0},{"$f":"IF(AND(INTRO!$E$37=\"Non endémique\",INTRO!$E$41=\"Non endémique\"),0,COUNTRY_INFO!X110)","v":0},{"$f":"IF(INTRO!$E$39=\"Non endémique\",IF($D110=1,DEC!I110,0),IF($D110=1,IVM!G110,0))","v":0},null,{"$f":"IF(OR(COUNTRY_INFO!N110=\"Inconnu\",COUNTRY_INFO!N110=\"Surveillance\",COUNTRY_INFO!N110=\"Non requis\",COUNTRY_INFO!N110=0),0,IF(INTRO!$E$39=\"Non endémique\",IF(AND($E110<>0,$G110=\"\"),IF($F110=0,COUNTRY_INFO!N110*$E110,COUNTRY_INFO!N110*($E110-$D110)),IF(AND($E110<>0,$G110<>0),IF($F110=0,COUNTRY_INFO!N110*$G110,COUNTRY_INFO!N110*($G110-$D110)),0)),IF($G110=\"\",COUNTRY_INFO!N110*$E110,COUNTRY_INFO!N110*$G110)))","v":0},{"$f":"IF(OR(COUNTRY_INFO!O110=\"Inconnu\",COUNTRY_INFO!O110=\"Surveillance\",COUNTRY_INFO!O110=\"Non requis\",COUNTRY_INFO!O110=0),0,IF($E110<>0, IF($F110=0,COUNTRY_INFO!O110*$E110,COUNTRY_INFO!O110*($E110-$D110)),COUNTRY_INFO!O110*$E110))","v":0},null,{"$f":"IF(OR(COUNTRY_INFO!P110=\"Inconnu\",COUNTRY_INFO!P110=\"Surveillance\",COUNTRY_INFO!P110=\"Non requis\",COUNTRY_INFO!P110=0),0,IF(AND($E110<>0,$J110=\"\"),IF($F110=0,COUNTRY_INFO!P110*$E110,COUNTRY_INFO!P110*($E110-$D110)), IF(AND($E110<>0,$J110<>0),IF($F110=0,COUNTRY_INFO!P110*$J110,COUNTRY_INFO!P110*($J110-$D110)), COUNTRY_INFO!P110*$J110)))","v":0},0,0,null,0,0,null,0,0,null,0]
[{"$f":"IF(AND(INTRO!$E$37=\"Non endémique\",INTRO!$E$41=\"Non endémique\"),\" \",IF(COUNTRY_INFO!A111=0,\" \",COUNTRY_INFO!A111))","v":"Côte d'Ivoire"},{"$f":"IF(AND(INTRO!$E$37=\"Non endémique\",INTRO!$E$41=\"Non endémique\"),\" \",IF(COUNTRY_INFO!B111=0,\" \",COUNTRY_INFO!B111))","v":"SUD-COMOE"},{"$f":"IF(AND(INTRO!$E$37=\"Non endémique\",INTRO!$E$41=\"Non endémique\"),\" \",IF(COUNTRY_INFO!C111=0,\" \",COUNTRY_INFO!C111))","v":"ADIAKE"},{"$f":"IF(AND(INTRO!$E$37=\"Non endémique\",INTRO!$E$41=\"Non endémique\"),0,COUNTRY_INFO!V111)","v":0},{"$f":"IF(AND(INTRO!$E$37=\"Non endémique\",INTRO!$E$41=\"Non endémique\"),0,COUNTRY_INFO!X111)","v":0},{"$f":"IF(INTRO!$E$39=\"Non endémique\",IF($D111=1,DEC!I111,0),IF($D111=1,IVM!G111,0))","v":0},null,{"$f":"IF(OR(COUNTRY_INFO!N111=\"Inconnu\",COUNTRY_INFO!N111=\"Surveillance\",COUNTRY_INFO!N111=\"Non requis\",COUNTRY_INFO!N111=0),0,IF(INTRO!$E$39=\"Non endémique\",IF(AND($E111<>0,$G111=\"\"),IF($F111=0,COUNTRY_INFO!N111*$E111,COUNTRY_INFO!N111*($E111-$D111)),IF(AND($E111<>0,$G111<>0),IF($F111=0,COUNTRY_INFO!N111*$G111,COUNTRY_INFO!N111*($G111-$D111)),0)),IF($G111=\"\",COUNTRY_INFO!N111*$E111,COUNTRY_INFO!N111*$G111)))","v":0},{"$f":"IF(OR(COUNTRY_INFO!O111=\"Inconnu\",COUNTRY_INFO!O111=\"Surveillance\",COUNTRY_INFO!O111=\"Non requis\",COUNTRY_INFO!O111=0),0,IF($E111<>0, IF($F111=0,COUNTRY_INFO!O111*$E111,COUNTRY_INFO!O111*($E111-$D111)),COUNTRY_INFO!O111*$E111))","v":0},null,{"$f":"IF(OR(COUNTRY_INFO!P111=\"Inconnu\",COUNTRY_INFO!P111=\"Surveillance\",COUNTRY_INFO!P111=\"Non requis\",COUNTRY_INFO!P111=0),0,IF(AND($E111<>0,$J111=\"\"),IF($F111=0,COUNTRY_INFO!P111*$E111,COUNTRY_INFO!P111*($E111-$D111)), IF(AND($E111<>0,$J111<>0),IF($F111=0,COUNTRY_INFO!P111*$J111,COUNTRY_INFO!P111*($J111-$D111)), COUNTRY_INFO!P111*$J111)))","v":0},0,0,null,0,0,null,0,0,null,0]
[{"$f":"IF(AND(INTRO!$E$37=\"Non endémique\",INTRO!$E$41=\"Non endémique\"),\" \",IF(COUNTRY_INFO!A112=0,\" \",COUNTRY_INFO!A112))","v":"Côte d'Ivoire"},{"$f":"IF(AND(INTRO!$E$37=\"Non endémique\",INTRO!$E$41=\"Non endémique\"),\" \",IF(COUNTRY_INFO!B112=0,\" \",COUNTRY_INFO!B112))","v":"SUD-COMOE"},{"$f":"IF(AND(INTRO!$E$37=\"Non endémique\",INTRO!$E$41=\"Non endémique\"),\" \",IF(COUNTRY_INFO!C112=0,\" \",COUNTRY_INFO!C112))","v":"GRAND-BASSAM"},{"$f":"IF(AND(INTRO!$E$37=\"Non endémique\",INTRO!$E$41=\"Non endémique\"),0,COUNTRY_INFO!V112)","v":0},{"$f":"IF(AND(INTRO!$E$37=\"Non endémique\",INTRO!$E$41=\"Non endémique\"),0,COUNTRY_INFO!X112)","v":1},{"$f":"IF(INTRO!$E$39=\"Non endémique\",IF($D112=1,DEC!I112,0),IF($D112=1,IVM!G112,0))","v":0},null,{"$f":"IF(OR(COUNTRY_INFO!N112=\"Inconnu\",COUNTRY_INFO!N112=\"Surveillance\",COUNTRY_INFO!N112=\"Non requis\",COUNTRY_INFO!N112=0),0,IF(INTRO!$E$39=\"Non endémique\",IF(AND($E112<>0,$G112=\"\"),IF($F112=0,COUNTRY_INFO!N112*$E112,COUNTRY_INFO!N112*($E112-$D112)),IF(AND($E112<>0,$G112<>0),IF($F112=0,COUNTRY_INFO!N112*$G112,COUNTRY_INFO!N112*($G112-$D112)),0)),IF($G112=\"\",COUNTRY_INFO!N112*$E112,COUNTRY_INFO!N112*$G112)))","v":26438},{"$f":"IF(OR(COUNTRY_INFO!O112=\"Inconnu\",COUNTRY_INFO!O112=\"Surveillance\",COUNTRY_INFO!O112=\"Non requis\",COUNTRY_INFO!O112=0),0,IF($E112<>0, IF($F112=0,COUNTRY_INFO!O112*$E112,COUNTRY_INFO!O112*($E112-$D112)),COUNTRY_INFO!O112*$E112))","v":53001},null,{"$f":"IF(OR(COUNTRY_INFO!P112=\"Inconnu\",COUNTRY_INFO!P112=\"Surveillance\",COUNTRY_INFO!P112=\"Non requis\",COUNTRY_INFO!P112=0),0,IF(AND($E112<>0,$J112=\"\"),IF($F112=0,COUNTRY_INFO!P112*$E112,COUNTRY_INFO!P112*($E112-$D112)), IF(AND($E112<>0,$J112<>0),IF($F112=0,COUNTRY_INFO!P112*$J112,COUNTRY_INFO!P112*($J112-$D112)), COUNTRY_INFO!P112*$J112)))","v":50272},129711,0,null,0,53001,null,53001,0,null,0]
[{"$f":"IF(AND(INTRO!$E$37=\"Non endémique\",INTRO!$E$41=\"Non endémique\"),\" \",IF(COUNTRY_INFO!A113=0,\" \",COUNTRY_INFO!A113))","v":"Côte d'Ivoire"},{"$f":"IF(AND(INTRO!$E$37=\"Non endémique\",INTRO!$E$41=\"Non endémique\"),\" \",IF(COUNTRY_INFO!B113=0,\" \",COUNTRY_INFO!B113))","v":"SUD-COMOE"},{"$f":"IF(AND(INTRO!$E$37=\"Non endémique\",INTRO!$E$41=\"Non endémique\"),\" \",IF(COUNTRY_INFO!C113=0,\" \",COUNTRY_INFO!C113))","v":"TIAPOUM"},{"$f":"IF(AND(INTRO!$E$37=\"Non endémique\",INTRO!$E$41=\"Non endémique\"),0,COUNTRY_INFO!V113)","v":0},{"$f":"IF(AND(INTRO!$E$37=\"Non endémique\",INTRO!$E$41=\"Non endémique\"),0,COUNTRY_INFO!X113)","v":0},{"$f":"IF(INTRO!$E$39=\"Non endémique\",IF($D113=1,DEC!I113,0),IF($D113=1,IVM!G113,0))","v":0},null,{"$f":"IF(OR(COUNTRY_INFO!N113=\"Inconnu\",COUNTRY_INFO!N113=\"Surveillance\",COUNTRY_INFO!N113=\"Non requis\",COUNTRY_INFO!N113=0),0,IF(INTRO!$E$39=\"Non endémique\",IF(AND($E113<>0,$G113=\"\"),IF($F113=0,COUNTRY_INFO!N113*$E113,COUNTRY_INFO!N113*($E113-$D113)),IF(AND($E113<>0,$G113<>0),IF($F113=0,COUNTRY_INFO!N113*$G113,COUNTRY_INFO!N113*($G113-$D113)),0)),IF($G113=\"\",COUNTRY_INFO!N113*$E113,COUNTRY_INFO!N113*$G113)))","v":0},{"$f":"IF(OR(COUNTRY_INFO!O113=\"Inconnu\",COUNTRY_INFO!O113=\"Surveillance\",COUNTRY_INFO!O113=\"Non requis\",COUNTRY_INFO!O113=0),0,IF($E113<>0, IF($F113=0,COUNTRY_INFO!O113*$E113,COUNTRY_INFO!O113*($E113-$D113)),COUNTRY_INFO!O113*$E113))","v":0},null,{"$f":"IF(OR(COUNTRY_INFO!P113=\"Inconnu\",COUNTRY_INFO!P113=\"Surveillance\",COUNTRY_INFO!P113=\"Non requis\",COUNTRY_INFO!P113=0),0,IF(AND($E113<>0,$J113=\"\"),IF($F113=0,COUNTRY_INFO!P113*$E113,COUNTRY_INFO!P113*($E113-$D113)), IF(AND($E113<>0,$J113<>0),IF($F113=0,COUNTRY_INFO!P113*$J113,COUNTRY_INFO!P113*($J113-$D113)), COUNTRY_INFO!P113*$J113)))","v":0},0,0,null,0,0,null,0,0,null,0]
[{"$f":"IF(AND(INTRO!$E$37=\"Non endémique\",INTRO!$E$41=\"Non endémique\"),\" \",IF(COUNTRY_INFO!A114=0,\" \",COUNTRY_INFO!A114))","v":"Côte d'Ivoire"},{"$f":"IF(AND(INTRO!$E$37=\"Non endémique\",INTRO!$E$41=\"Non endémique\"),\" \",IF(COUNTRY_INFO!B114=0,\" \",COUNTRY_INFO!B114))","v":"TCHOLOGO"},{"$f":"IF(AND(INTRO!$E$37=\"Non endémique\",INTRO!$E$41=\"Non endémique\"),\" \",IF(COUNTRY_INFO!C114=0,\" \",COUNTRY_INFO!C114))","v":"FERKESSEDOUGOU"},{"$f":"IF(AND(INTRO!$E$37=\"Non endémique\",INTRO!$E$41=\"Non endémique\"),0,COUNTRY_INFO!V114)","v":0},{"$f":"IF(AND(INTRO!$E$37=\"Non endémique\",INTRO!$E$41=\"Non endémique\"),0,COUNTRY_INFO!X114)","v":1},{"$f":"IF(INTRO!$E$39=\"Non endémique\",IF($D114=1,DEC!I114,0),IF($D114=1,IVM!G114,0))","v":0},null,{"$f":"IF(OR(COUNTRY_INFO!N114=\"Inconnu\",COUNTRY_INFO!N114=\"Surveillance\",COUNTRY_INFO!N114=\"Non requis\",COUNTRY_INFO!N114=0),0,IF(INTRO!$E$39=\"Non endémique\",IF(AND($E114<>0,$G114=\"\"),IF($F114=0,COUNTRY_INFO!N114*$E114,COUNTRY_INFO!N114*($E114-$D114)),IF(AND($E114<>0,$G114<>0),IF($F114=0,COUNTRY_INFO!N114*$G114,COUNTRY_INFO!N114*($G114-$D114)),0)),IF($G114=\"\",COUNTRY_INFO!N114*$E114,COUNTRY_INFO!N114*$G114)))","v":25501},{"$f":"IF(OR(COUNTRY_INFO!O114=\"Inconnu\",COUNTRY_INFO!O114=\"Surveillance\",COUNTRY_INFO!O114=\"Non requis\",COUNTRY_INFO!O114=0),0,IF($E114<>0, IF($F114=0,COUNTRY_INFO!O114*$E114,COUNTRY_INFO!O114*($E114-$D114)),COUNTRY_INFO!O114*$E114))","v":51123},null,{"$f":"IF(OR(COUNTRY_INFO!P114=\"Inconnu\",COUNTRY_INFO!P114=\"Surveillance\",COUNTRY_INFO!P114=\"Non requis\",COUNTRY_INFO!P114=0),0,IF(AND($E114<>0,$J114=\"\"),IF($F114=0,COUNTRY_INFO!P114*$E114,COUNTRY_INFO!P114*($E114-$D114)), IF(AND($E114<>0,$J114<>0),IF($F114=0,COUNTRY_INFO!P114*$J114,COUNTRY_INFO!P114*($J114-$D114)), COUNTRY_INFO!P114*$J114)))","v":48491},125115,0,null,0,51123,null,51123,0,null,0]
[{"$f":"IF(AND(INTRO!$E$37=\"Non endémique\",INTRO!$E$41=\"Non endémique\"),\" \",IF(COUNTRY_INFO!A115=0,\" \",COUNTRY_INFO!A115))","v":"Côte d'Ivoire"},{"$f":"IF(AND(INTRO!$E$37=\"Non endémique\",INTRO!$E$41=\"Non endémique\"),\" \",IF(COUNTRY_INFO!B115=0,\" \",COUNTRY_INFO!B115))","v":"TCHOLOGO"},{"$f":"IF(AND(INTRO!$E$37=\"Non endémique\",INTRO!$E$41=\"Non endémique\"),\" \",IF(COUNTRY_INFO!C115=0,\" \",COUNTRY_INFO!C115))","v":"KONG"},{"$f":"IF(AND(INTRO!$E$37=\"Non endémique\",INTRO!$E$41=\"Non endémique\"),0,COUNTRY_INFO!V115)","v":0},{"$f":"IF(AND(INTRO!$E$37=\"Non endémique\",INTRO!$E$41=\"Non endémique\"),0,COUNTRY_INFO!X115)","v":1},{"$f":"IF(INTRO!$E$39=\"Non endémique\",IF($D115=1,DEC!I115,0),IF($D115=1,IVM!G115,0))","v":0},null,{"$f":"IF(OR(COUNTRY_INFO!N115=\"Inconnu\",COUNTRY_INFO!N115=\"Surveillance\",COUNTRY_INFO!N115=\"Non requis\",COUNTRY_INFO!N115=0),0,IF(INTRO!$E$39=\"Non endémique\",IF(AND($E115<>0,$G115=\"\"),IF($F115=0,COUNTRY_INFO!N115*$E115,COUNTRY_INFO!N115*($E115-$D115)),IF(AND($E115<>0,$G115<>0),IF($F115=0,COUNTRY_INFO!N115*$G115,COUNTRY_INFO!N115*($G115-$D115)),0)),IF($G115=\"\",COUNTRY_INFO!N115*$E115,COUNTRY_INFO!N115*$G115)))","v":15652},{"$f":"IF(OR(COUNTRY_INFO!O115=\"Inconnu\",COUNTRY_INFO!O115=\"Surveillance\",COUNTRY_INFO!O115=\"Non requis\",COUNTRY_INFO!O115=0),0,IF($E115<>0, IF($F115=0,COUNTRY_INFO!O115*$E115,COUNTRY_INFO!O115*($E115-$D115)),COUNTRY_INFO!O115*$E115))","v":31378},null,{"$f":"IF(OR(COUNTRY_INFO!P115=\"Inconnu\",COUNTRY_INFO!P115=\"Surveillance\",COUNTRY_INFO!P115=\"Non requis\",COUNTRY_INFO!P115=0),0,IF(AND($E115<>0,$J115=\"\"),IF($F115=0,COUNTRY_INFO!P115*$E115,COUNTRY_INFO!P115*($E115-$D115)), IF(AND($E115<>0,$J115<>0),IF($F115=0,COUNTRY_INFO!P115*$J115,COUNTRY_INFO!P115*($J115-$D115)), COUNTRY_INFO!P115*$J115)))","v":29762},76792,0,null,0,31378,null,31378,0,null,0]
[{"$f":"IF(AND(INTRO!$E$37=\"Non endémique\",INTRO!$E$41=\"Non endémique\"),\" \",IF(COUNTRY_INFO!A116=0,\" \",COUNTRY_INFO!A116))","v":"Côte d'Ivoire"},{"$f":"IF(AND(INTRO!$E$37=\"Non endémique\",INTRO!$E$41=\"Non endémique\"),\" \",IF(COUNTRY_INFO!B116=0,\" \",COUNTRY_INFO!B116))","v":"TCHOLOGO"},{"$f":"IF(AND(INTRO!$E$37=\"Non endémique\",INTRO!$E$41=\"Non endémique\"),\" \",IF(COUNTRY_INFO!C116=0,\" \",COUNTRY_INFO!C116))","v":"OUANGOLODOUGOU"},{"$f":"IF(AND(INTRO!$E$37=\"Non endémique\",INTRO!$E$41=\"Non endémique\"),0,COUNTRY_INFO!V116)","v":0},{"$f":"IF(AND(INTRO!$E$37=\"Non endémique\",INTRO!$E$41=\"Non endémique\"),0,COUNTRY_INFO!X116)","v":0},{"$f":"IF(INTRO!$E$39=\"Non endémique\",IF($D116=1,DEC!I116,0),IF($D116=1,IVM!G116,0))","v":0},null,{"$f":"IF(OR(COUNTRY_INFO!N116=\"Inconnu\",COUNTRY_INFO!N116=\"Surveillance\",COUNTRY_INFO!N116=\"Non requis\",COUNTRY_INFO!N116=0),0,IF(INTRO!$E$39=\"Non endémique\",IF(AND($E116<>0,$G116=\"\"),IF($F116=0,COUNTRY_INFO!N116*$E116,COUNTRY_INFO!N116*($E116-$D116)),IF(AND($E116<>0,$G116<>0),IF($F116=0,COUNTRY_INFO!N116*$G116,COUNTRY_INFO!N116*($G116-$D116)),0)),IF($G116=\"\",COUNTRY_INFO!N116*$E116,COUNTRY_INFO!N116*$G116)))","v":0},{"$f":"IF(OR(COUNTRY_INFO!O116=\"Inconnu\",COUNTRY_INFO!O116=\"Surveillance\",COUNTRY_INFO!O116=\"Non requis\",COUNTRY_INFO!O116=0),0,IF($E116<>0, IF($F116=0,COUNTRY_INFO!O116*$E116,COUNTRY_INFO!O116*($E116-$D116)),COUNTRY_INFO!O116*$E116))","v":0},null,{"$f":"IF(OR(COUNTRY_INFO!P116=\"Inconnu\",COUNTRY_INFO!P116=\"Surveillance\",COUNTRY_INFO!P116=\"Non requis\",COUNTRY_INFO!P116=0),0,IF(AND($E116<>0,$J116=\"\"),IF($F116=0,COUNTRY_INFO!P116*$E116,COUNTRY_INFO!P116*($E116-$D116)), IF(AND($E116<>0,$J116<>0),IF($F116=0,COUNTRY_INFO!P116*$J116,COUNTRY_INFO!P116*($J116-$D116)), COUNTRY_INFO!P116*$J116)))","v":0},0,0,null,0,0,null,0,0,null,0]
[{"$f":"IF(AND(INTRO!$E$37=\"Non endémique\",INTRO!$E$41=\"Non endémique\"),\" \",IF(COUNTRY_INFO!A117=0,\" \",COUNTRY_INFO!A117))","v":"Côte d'Ivoire"},{"$f":"IF(AND(INTRO!$E$37=\"Non endémique\",INTRO!$E$41=\"Non endémique\"),\" \",IF(COUNTRY_INFO!B117=0,\" \",COUNTRY_INFO!B117))","v":"TONKPI"},{"$f":"IF(AND(INTRO!$E$37=\"Non endémique\",INTRO!$E$41=\"Non endémique\"),\" \",IF(COUNTRY_INFO!C117=0,\" \",COUNTRY_INFO!C117))","v":"BIANKOUMA"},{"$f":"IF(AND(INTRO!$E$37=\"Non endémique\",INTRO!$E$41=\"Non endémique\"),0,COUNTRY_INFO!V117)","v":0},{"$f":"IF(AND(INTRO!$E$37=\"Non endémique\",INTRO!$E$41=\"Non endémique\"),0,COUNTRY_INFO!X117)","v":1},{"$f":"IF(INTRO!$E$39=\"Non endémique\",IF($D117=1,DEC!I117,0),IF($D117=1,IVM!G117,0))","v":0},null,{"$f":"IF(OR(COUNTRY_INFO!N117=\"Inconnu\",COUNTRY_INFO!N117=\"Surveillance\",COUNTRY_INFO!N117=\"Non requis\",COUNTRY_INFO!N117=0),0,IF(INTRO!$E$39=\"Non endémique\",IF(AND($E117<>0,$G117=\"\"),IF($F117=0,COUNTRY_INFO!N117*$E117,COUNTRY_INFO!N117*($E117-$D117)),IF(AND($E117<>0,$G117<>0),IF($F117=0,COUNTRY_INFO!N117*$G117,COUNTRY_INFO!N117*($G117-$D117)),0)),IF($G117=\"\",COUNTRY_INFO!N117*$E117,COUNTRY_INFO!N117*$G117)))","v":31063},{"$f":"IF(OR(COUNTRY_INFO!O117=\"Inconnu\",COUNTRY_INFO!O117=\"Surveillance\",COUNTRY_INFO!O117=\"Non requis\",COUNTRY_INFO!O117=0),0,IF($E117<>0, IF($F117=0,COUNTRY_INFO!O117*$E117,COUNTRY_INFO!O117*($E117-$D117)),COUNTRY_INFO!O117*$E117))","v":62273},null,{"$f":"IF(OR(COUNTRY_INFO!P117=\"Inconnu\",COUNTRY_INFO!P117=\"Surveillance\",COUNTRY_INFO!P117=\"Non requis\",COUNTRY_INFO!P117=0),0,IF(AND($E117<>0,$J117=\"\"),IF($F117=0,COUNTRY_INFO!P117*$E117,COUNTRY_INFO!P117*($E117-$D117)), IF(AND($E117<>0,$J117<>0),IF($F117=0,COUNTRY_INFO!P117*$J117,COUNTRY_INFO!P117*($J117-$D117)), COUNTRY_INFO!P117*$J117)))","v":59067},152403,0,null,0,62273,null,62273,0,null,0]
[{"$f":"IF(AND(INTRO!$E$37=\"Non endémique\",INTRO!$E$41=\"Non endémique\"),\" \",IF(COUNTRY_INFO!A118=0,\" \",COUNTRY_INFO!A118))","v":"Côte d'Ivoire"},{"$f":"IF(AND(INTRO!$E$37=\"Non endémique\",INTRO!$E$41=\"Non endémique\"),\" \",IF(COUNTRY_INFO!B118=0,\" \",COUNTRY_INFO!B118))","v":"TONKPI"},{"$f":"IF(AND(INTRO!$E$37=\"Non endémique\",INTRO!$E$41=\"Non endémique\"),\" \",IF(COUNTRY_INFO!C118=0,\" \",COUNTRY_INFO!C118))","v":"DANANE"},{"$f":"IF(AND(INTRO!$E$37=\"Non endémique\",INTRO!$E$41=\"Non endémique\"),0,COUNTRY_INFO!V118)","v":0},{"$f":"IF(AND(INTRO!$E$37=\"Non endémique\",INTRO!$E$41=\"Non endémique\"),0,COUNTRY_INFO!X118)","v":0},{"$f":"IF(INTRO!$E$39=\"Non endémique\",IF($D118=1,DEC!I118,0),IF($D118=1,IVM!G118,0))","v":0},null,{"$f":"IF(OR(COUNTRY_INFO!N118=\"Inconnu\",COUNTRY_INFO!N118=\"Surveillance\",COUNTRY_INFO!N118=\"Non requis\",COUNTRY_INFO!N118=0),0,IF(INTRO!$E$39=\"Non endémique\",IF(AND($E118<>0,$G118=\"\"),IF($F118=0,COUNTRY_INFO!N118*$E118,COUNTRY_INFO!N118*($E118-$D118)),IF(AND($E118<>0,$G118<>0),IF($F118=0,COUNTRY_INFO!N118*$G118,COUNTRY_INFO!N118*($G118-$D118)),0)),IF($G118=\"\",COUNTRY_INFO!N118*$E118,COUNTRY_INFO!N118*$G118)))","v":0},{"$f":"IF(OR(COUNTRY_INFO!O118=\"Inconnu\",COUNTRY_INFO!O118=\"Surveillance\",COUNTRY_INFO!O118=\"Non requis\",COUNTRY_INFO!O118=0),0,IF($E118<>0, IF($F118=0,COUNTRY_INFO!O118*$E118,COUNTRY_INFO!O118*($E118-$D118)),COUNTRY_INFO!O118*$E118))","v":0},null,{"$f":"IF(OR(COUNTRY_INFO!P118=\"Inconnu\",COUNTRY_INFO!P118=\"Surveillance\",COUNTRY_INFO!P118=\"Non requis\",COUNTRY_INFO!P118=0),0,IF(AND($E118<>0,$J118=\"\"),IF($F118=0,COUNTRY_INFO!P118*$E118,COUNTRY_INFO!P118*($E118-$D118)), IF(AND($E118<>0,$J118<>0),IF($F118=0,COUNTRY_INFO!P118*$J118,COUNTRY_INFO!P118*($J118-$D118)), COUNTRY_INFO!P118*$J118)))","v":0},0,0,null,0,0,null,0,0,null,0]
[{"$f":"IF(AND(INTRO!$E$37=\"Non endémique\",INTRO!$E$41=\"Non endémique\"),\" \",IF(COUNTRY_INFO!A119=0,\" \",COUNTRY_INFO!A119))","v":"Côte d'Ivoire"},{"$f":"IF(AND(INTRO!$E$37=\"Non endémique\",INTRO!$E$41=\"Non endémique\"),\" \",IF(COUNTRY_INFO!B119=0,\" \",COUNTRY_INFO!B119))","v":"TONKPI"},{"$f":"IF(AND(INTRO!$E$37=\"Non endémique\",INTRO!$E$41=\"Non endémique\"),\" \",IF(COUNTRY_INFO!C119=0,\" \",COUNTRY_INFO!C119))","v":"MAN"},{"$f":"IF(AND(INTRO!$E$37=\"Non endémique\",INTRO!$E$41=\"Non endémique\"),0,COUNTRY_INFO!V119)","v":0},{"$f":"IF(AND(INTRO!$E$37=\"Non endémique\",INTRO!$E$41=\"Non endémique\"),0,COUNTRY_INFO!X119)","v":0},{"$f":"IF(INTRO!$E$39=\"Non endémique\",IF($D119=1,DEC!I119,0),IF($D119=1,IVM!G119,0))","v":0},null,{"$f":"IF(OR(COUNTRY_INFO!N119=\"Inconnu\",COUNTRY_INFO!N119=\"Surveillance\",COUNTRY_INFO!N119=\"Non requis\",COUNTRY_INFO!N119=0),0,IF(INTRO!$E$39=\"Non endémique\",IF(AND($E119<>0,$G119=\"\"),IF($F119=0,COUNTRY_INFO!N119*$E119,COUNTRY_INFO!N119*($E119-$D119)),IF(AND($E119<>0,$G119<>0),IF($F119=0,COUNTRY_INFO!N119*$G119,COUNTRY_INFO!N119*($G119-$D119)),0)),IF($G119=\"\",COUNTRY_INFO!N119*$E119,COUNTRY_INFO!N119*$G119)))","v":0},{"$f":"IF(OR(COUNTRY_INFO!O119=\"Inconnu\",COUNTRY_INFO!O119=\"Surveillance\",COUNTRY_INFO!O119=\"Non requis\",COUNTRY_INFO!O119=0),0,IF($E119<>0, IF($F119=0,COUNTRY_INFO!O119*$E119,COUNTRY_INFO!O119*($E119-$D119)),COUNTRY_INFO!O119*$E119))","v":0},null,{"$f":"IF(OR(COUNTRY_INFO!P119=\"Inconnu\",COUNTRY_INFO!P119=\"Surveillance\",COUNTRY_INFO!P119=\"Non requis\",COUNTRY_INFO!P119=0),0,IF(AND($E119<>0,$J119=\"\"),IF($F119=0,COUNTRY_INFO!P119*$E119,COUNTRY_INFO!P119*($E119-$D119)), IF(AND($E119<>0,$J119<>0),IF($F119=0,COUNTRY_INFO!P119*$J119,COUNTRY_INFO!P119*($J119-$D119)), COUNTRY_INFO!P119*$J119)))","v":0},0,0,null,0,0,null,0,0,null,0]
[{"$f":"IF(AND(INTRO!$E$37=\"Non endémique\",INTRO!$E$41=\"Non endémique\"),\" \",IF(COUNTRY_INFO!A120=0,\" \",COUNTRY_INFO!A120))","v":"Côte d'Ivoire"},{"$f":"IF(AND(INTRO!$E$37=\"Non endémique\",INTRO!$E$41=\"Non endémique\"),\" \",IF(COUNTRY_INFO!B120=0,\" \",COUNTRY_INFO!B120))","v":"TONKPI"},{"$f":"IF(AND(INTRO!$E$37=\"Non endémique\",INTRO!$E$41=\"Non endémique\"),\" \",IF(COUNTRY_INFO!C120=0,\" \",COUNTRY_INFO!C120))","v":"ZOUAN-HOUNIEN"},{"$f":"IF(AND(INTRO!$E$37=\"Non endémique\",INTRO!$E$41=\"Non endémique\"),0,COUNTRY_INFO!V120)","v":1},{"$f":"IF(AND(INTRO!$E$37=\"Non endémique\",INTRO!$E$41=\"Non endémique\"),0,COUNTRY_INFO!X120)","v":0},{"$f":"IF(INTRO!$E$39=\"Non endémique\",IF($D120=1,DEC!I120,0),IF($D120=1,IVM!G120,0))","v":203995},null,{"$f":"IF(OR(COUNTRY_INFO!N120=\"Inconnu\",COUNTRY_INFO!N120=\"Surveillance\",COUNTRY_INFO!N120=\"Non requis\",COUNTRY_INFO!N120=0),0,IF(INTRO!$E$39=\"Non endémique\",IF(AND($E120<>0,$G120=\"\"),IF($F120=0,COUNTRY_INFO!N120*$E120,COUNTRY_INFO!N120*($E120-$D120)),IF(AND($E120<>0,$G120<>0),IF($F120=0,COUNTRY_INFO!N120*$G120,COUNTRY_INFO!N120*($G120-$D120)),0)),IF($G120=\"\",COUNTRY_INFO!N120*$E120,COUNTRY_INFO!N120*$G120)))","v":0},{"$f":"IF(OR(COUNTRY_INFO!O120=\"Inconnu\",COUNTRY_INFO!O120=\"Surveillance\",COUNTRY_INFO!O120=\"Non requis\",COUNTRY_INFO!O120=0),0,IF($E120<>0, IF($F120=0,COUNTRY_INFO!O120*$E120,COUNTRY_INFO!O120*($E120-$D120)),COUNTRY_INFO!O120*$E120))","v":0},null,{"$f":"IF(OR(COUNTRY_INFO!P120=\"Inconnu\",COUNTRY_INFO!P120=\"Surveillance\",COUNTRY_INFO!P120=\"Non requis\",COUNTRY_INFO!P120=0),0,IF(AND($E120<>0,$J120=\"\"),IF($F120=0,COUNTRY_INFO!P120*$E120,COUNTRY_INFO!P120*($E120-$D120)), IF(AND($E120<>0,$J120<>0),IF($F120=0,COUNTRY_INFO!P120*$J120,COUNTRY_INFO!P120*($J120-$D120)), COUNTRY_INFO!P120*$J120)))","v":0},0,203995,null,203995,0,null,0,0,null,0]
[{"$f":"IF(AND(INTRO!$E$37=\"Non endémique\",INTRO!$E$41=\"Non endémique\"),\" \",IF(COUNTRY_INFO!A121=0,\" \",COUNTRY_INFO!A121))","v":"Côte d'Ivoire"},{"$f":"IF(AND(INTRO!$E$37=\"Non endémique\",INTRO!$E$41=\"Non endémique\"),\" \",IF(COUNTRY_INFO!B121=0,\" \",COUNTRY_INFO!B121))","v":"WORODOUGOU"},{"$f":"IF(AND(INTRO!$E$37=\"Non endémique\",INTRO!$E$41=\"Non endémique\"),\" \",IF(COUNTRY_INFO!C121=0,\" \",COUNTRY_INFO!C121))","v":"KANI"},{"$f":"IF(AND(INTRO!$E$37=\"Non endémique\",INTRO!$E$41=\"Non endémique\"),0,COUNTRY_INFO!V121)","v":0},{"$f":"IF(AND(INTRO!$E$37=\"Non endémique\",INTRO!$E$41=\"Non endémique\"),0,COUNTRY_INFO!X121)","v":1},{"$f":"IF(INTRO!$E$39=\"Non endémique\",IF($D121=1,DEC!I121,0),IF($D121=1,IVM!G121,0))","v":0},null,{"$f":"IF(OR(COUNTRY_INFO!N121=\"Inconnu\",COUNTRY_INFO!N121=\"Surveillance\",COUNTRY_INFO!N121=\"Non requis\",COUNTRY_INFO!N121=0),0,IF(INTRO!$E$39=\"Non endémique\",IF(AND($E121<>0,$G121=\"\"),IF($F121=0,COUNTRY_INFO!N121*$E121,COUNTRY_INFO!N121*($E121-$D121)),IF(AND($E121<>0,$G121<>0),IF($F121=0,COUNTRY_INFO!N121*$G121,COUNTRY_INFO!N121*($G121-$D121)),0)),IF($G121=\"\",COUNTRY_INFO!N121*$E121,COUNTRY_INFO!N121*$G121)))","v":11091},{"$f":"IF(OR(COUNTRY_INFO!O121=\"Inconnu\",COUNTRY_INFO!O121=\"Surveillance\",COUNTRY_INFO!O121=\"Non requis\",COUNTRY_INFO!O121=0),0,IF($E121<>0, IF($F121=0,COUNTRY_INFO!O121*$E121,COUNTRY_INFO!O121*($E121-$D121)),COUNTRY_INFO!O121*$E121))","v":22234},null,{"$f":"IF(OR(COUNTRY_INFO!P121=\"Inconnu\",COUNTRY_INFO!P121=\"Surveillance\",COUNTRY_INFO!P121=\"Non requis\",COUNTRY_INFO!P121=0),0,IF(AND($E121<>0,$J121=\"\"),IF($F121=0,COUNTRY_INFO!P121*$E121,COUNTRY_INFO!P121*($E121-$D121)), IF(AND($E121<>0,$J121<>0),IF($F121=0,COUNTRY_INFO!P121*$J121,COUNTRY_INFO!P121*($J121-$D121)), COUNTRY_INFO!P121*$J121)))","v":21089},54414,0,null,0,22234,null,22234,0,null,0]
[{"$f":"IF(AND(INTRO!$E$37=\"Non endémique\",INTRO!$E$41=\"Non endémique\"),\" \",IF(COUNTRY_INFO!A122=0,\" \",COUNTRY_INFO!A122))","v":"Côte d'Ivoire"},{"$f":"IF(AND(INTRO!$E$37=\"Non endémique\",INTRO!$E$41=\"Non endémique\"),\" \",IF(COUNTRY_INFO!B122=0,\" \",COUNTRY_INFO!B122))","v":"WORODOUGOU"},{"$f":"IF(AND(INTRO!$E$37=\"Non endémique\",INTRO!$E$41=\"Non endémique\"),\" \",IF(COUNTRY_INFO!C122=0,\" \",COUNTRY_INFO!C122))","v":"SEGUELA"},{"$f":"IF(AND(INTRO!$E$37=\"Non endémique\",INTRO!$E$41=\"Non endémique\"),0,COUNTRY_INFO!V122)","v":0},{"$f":"IF(AND(INTRO!$E$37=\"Non endémique\",INTRO!$E$41=\"Non endémique\"),0,COUNTRY_INFO!X122)","v":1},{"$f":"IF(INTRO!$E$39=\"Non endémique\",IF($D122=1,DEC!I122,0),IF($D122=1,IVM!G122,0))","v":0},null,{"$f":"IF(OR(COUNTRY_INFO!N122=\"Inconnu\",COUNTRY_INFO!N122=\"Surveillance\",COUNTRY_INFO!N122=\"Non requis\",COUNTRY_INFO!N122=0),0,IF(INTRO!$E$39=\"Non endémique\",IF(AND($E122<>0,$G122=\"\"),IF($F122=0,COUNTRY_INFO!N122*$E122,COUNTRY_INFO!N122*($E122-$D122)),IF(AND($E122<>0,$G122<>0),IF($F122=0,COUNTRY_INFO!N122*$G122,COUNTRY_INFO!N122*($G122-$D122)),0)),IF($G122=\"\",COUNTRY_INFO!N122*$E122,COUNTRY_INFO!N122*$G122)))","v":29787},{"$f":"IF(OR(COUNTRY_INFO!O122=\"Inconnu\",COUNTRY_INFO!O122=\"Surveillance\",COUNTRY_INFO!O122=\"Non requis\",COUNTRY_INFO!O122=0),0,IF($E122<>0, IF($F122=0,COUNTRY_INFO!O122*$E122,COUNTRY_INFO!O122*($E122-$D122)),COUNTRY_INFO!O122*$E122))","v":59715},null,{"$f":"IF(OR(COUNTRY_INFO!P122=\"Inconnu\",COUNTRY_INFO!P122=\"Surveillance\",COUNTRY_INFO!P122=\"Non requis\",COUNTRY_INFO!P122=0),0,IF(AND($E122<>0,$J122=\"\"),IF($F122=0,COUNTRY_INFO!P122*$E122,COUNTRY_INFO!P122*($E122-$D122)), IF(AND($E122<>0,$J122<>0),IF($F122=0,COUNTRY_INFO!P122*$J122,COUNTRY_INFO!P122*($J122-$D122)), COUNTRY_INFO!P122*$J122)))","v":56640},146142,0,null,0,59715,null,59715,0,null,0]

{"sheet":"DSD","index":4,"n_rows":2255,"n_cols":18,"rows_kept":2255,"cut":false,"hidden":false,"merged":[[0,0,0,6],[0,8,0,14]]}
["Géographie",null,null,null,null,null,null,"EPI","Population nécessitant la CP et \rProjections annuelles de traitement -  2023"]
["SN","Pays","ISO3","Province","District","ESPEN_UMO_ID","Aire de santé","Endemicité","EAS nécessitant CP","Adultes nécessitant CP","Total nécessitant CP","Programmé pour Rx","EAS à traiter","Adultes à traiter Rx","Total à traiter","Endemicity code","EAPréS nécessitant CP","EAPréS à traiter"]
[98,"Côte d'Ivoire","CIV","ABIDJAN 1 ","ABOBO EST",15335,"ABOBO BAOULE","Faible",10601,0,10601,1,10601,0,10601,1,{"$f":"_xlfn.XLOOKUP($G3,[1]demo_data!$G$5:$G$2257,[1]demo_data!$I$5:$I$2257)","v":38631}]
[99,"Côte d'Ivoire","CIV","ABIDJAN 1 ","ABOBO EST",15335,"ABOBO-TE","Faible",22285,0,22285,1,22285,0,22285,1,{"$f":"_xlfn.XLOOKUP($G4,[1]demo_data!$G$5:$G$2257,[1]demo_data!$I$5:$I$2257)","v":81213}]
[100,"Côte d'Ivoire","CIV","ABIDJAN 1 ","ABOBO EST",15335,"ACID","Faible",20597,0,20597,1,20597,0,20597,1,{"$f":"_xlfn.XLOOKUP($G5,[1]demo_data!$G$5:$G$2257,[1]demo_data!$I$5:$I$2257)","v":75063}]
[101,"Côte d'Ivoire","CIV","ABIDJAN 1 ","ABOBO EST",15335,"AGBEKOI","Faible",14507,0,14507,1,14507,0,14507,1,{"$f":"_xlfn.XLOOKUP($G6,[1]demo_data!$G$5:$G$2257,[1]demo_data!$I$5:$I$2257)","v":52868}]
[102,"Côte d'Ivoire","CIV","ABIDJAN 1 ","ABOBO EST",15335,"AKEIKOI","Faible",18713,0,18713,1,18713,0,18713,1,{"$f":"_xlfn.XLOOKUP($G7,[1]demo_data!$G$5:$G$2257,[1]demo_data!$I$5:$I$2257)","v":68197}]
[103,"Côte d'Ivoire","CIV","ABIDJAN 1 ","ABOBO EST",15335,"AVOCATIER","Faible",20386,0,20386,1,20386,0,20386,1,{"$f":"_xlfn.XLOOKUP($G8,[1]demo_data!$G$5:$G$2257,[1]demo_data!$I$5:$I$2257)","v":74292}]
[104,"Côte d'Ivoire","CIV","ABIDJAN 1 ","ABOBO EST",15335,"BANCO SUD","Faible",26726,0,26726,1,26726,0,26726,1,{"$f":"_xlfn.XLOOKUP($G9,[1]demo_data!$G$5:$G$2257,[1]demo_data!$I$5:$I$2257)","v":97401}]
[105,"Côte d'Ivoire","CIV","ABIDJAN 1 ","ABOBO EST",15335,"BC","Faible",15154,0,15154,1,15154,0,15154,1,{"$f":"_xlfn.XLOOKUP($G10,[1]demo_data!$G$5:$G$2257,[1]demo_data!$I$5:$I$2257)","v":55229}]
[106,"Côte d'Ivoire","CIV","ABIDJAN 1 ","ABOBO EST",15335,"CLOUETCHA","Faible",18130,0,18130,1,18130,0,18130,1,{"$f":"_xlfn.XLOOKUP($G11,[1]demo_data!$G$5:$G$2257,[1]demo_data!$I$5:$I$2257)","v":66075}]
[107,"Côte d'Ivoire","CIV","ABIDJAN 1 ","ABOBO EST",15335,"DJIBI ","Faible",5299,0,5299,1,5299,0,5299,1,{"$f":"_xlfn.XLOOKUP($G12,[1]demo_data!$G$5:$G$2257,[1]demo_data!$I$5:$I$2257)","v":19311}]
[108,"Côte d'Ivoire","CIV","ABIDJAN 1 ","ABOBO EST",15335,"HABITAT SOS","Faible",10679,0,10679,1,10679,0,10679,1,{"$f":"_xlfn.XLOOKUP($G13,[1]demo_data!$G$5:$G$2257,[1]demo_data!$I$5:$I$2257)","v":38915}]
[109,"Côte d'Ivoire","CIV","ABIDJAN 1 ","ABOBO EST",15335,"HOUPHOUËT BOIBNY","Faible",32099,0,32099,1,32099,0,32099,1,{"$f":"_xlfn.XLOOKUP($G14,[1]demo_data!$G$5:$G$2257,[1]demo_data!$I$5:$I$2257)","v":116981}]
[110,"Côte d'Ivoire","CIV","ABIDJAN 1 ","ABOBO EST",15335,"KENNEDY","Faible",18476,0,18476,1,18476,0,18476,1,{"$f":"_xlfn.XLOOKUP($G15,[1]demo_data!$G$5:$G$2257,[1]demo_data!$I$5:$I$2257)","v":67334}]
[111,"Côte d'Ivoire","CIV","ABIDJAN 1 ","ABOBO OUEST",15336,"CM ASAPSU","Non endémique",0,0,0,0,0,0,0,0,{"$f":"_xlfn.XLOOKUP($G16,[1]demo_data!$G$5:$G$2257,[1]demo_data!$I$5:$I$2257)","v":33501}]
[112,"Côte d'Ivoire","CIV","ABIDJAN 1 ","ABOBO OUEST",15336,"CMS EL RAPHA","Faible",10282,0,10282,1,10282,0,10282,1,{"$f":"_xlfn.XLOOKUP($G17,[1]demo_data!$G$5:$G$2257,[1]demo_data!$I$5:$I$2257)","v":42012}]
[113,"Côte d'Ivoire","CIV","ABIDJAN 1 ","ABOBO OUEST",15336,"CSU Com AGOUETO","Non endémique",0,0,0,0,0,0,0,0,{"$f":"_xlfn.XLOOKUP($G18,[1]demo_data!$G$5:$G$2257,[1]demo_data!$I$5:$I$2257)","v":48743}]
[114,"Côte d'Ivoire","CIV","ABIDJAN 1 ","ABOBO OUEST",15336,"CSU Com ASSOMIN","Faible",12265,0,12265,1,12265,0,12265,1,{"$f":"_xlfn.XLOOKUP($G19,[1]demo_data!$G$5:$G$2257,[1]demo_data!$I$5:$I$2257)","v":50115}]
[115,"Côte d'Ivoire","CIV","ABIDJAN 1 ","ABOBO OUEST",15336,"CSU Com BOCABO","Non endémique",0,0,0,0,0,0,0,0,{"$f":"_xlfn.XLOOKUP($G20,[1]demo_data!$G$5:$G$2257,[1]demo_data!$I$5:$I$2257)","v":40291}]
[116,"Côte d'Ivoire","CIV","ABIDJAN 1 ","ABOBO OUEST",15336,"FSU Com ANONKOUA KOUTE","Non endémique",0,0,0,0,0,0,0,0,{"$f":"_xlfn.XLOOKUP($G21,[1]demo_data!$G$5:$G$2257,[1]demo_data!$I$5:$I$2257)","v":42493}]
[117,"Côte d'Ivoire","CIV","ABIDJAN 1 ","ABOBO OUEST",15336,"FSU Com SAGBE","Faible",15605,0,15605,1,15605,0,15605,1,{"$f":"_xlfn.XLOOKUP($G22,[1]demo_data!$G$5:$G$2257,[1]demo_data!$I$5:$I$2257)","v":63765}]
[118,"Côte d'Ivoire","CIV","ABIDJAN 1 ","ABOBO OUEST",15336,"HOPITAL GENERAL ABOBO SUD","Faible",33867,0,33867,1,33867,0,33867,1,{"$f":"_xlfn.XLOOKUP($G23,[1]demo_data!$G$5:$G$2257,[1]demo_data!$I$5:$I$2257)","v":138388}]
[119,"Côte d'Ivoire","CIV","ABIDJAN 1 ","ABOBO OUEST",15336,"SSSU 3 PK18","Faible",5022,0,5022,1,5022,0,5022,1,{"$f":"_xlfn.XLOOKUP($G24,[1]demo_data!$G$5:$G$2257,[1]demo_data!$I$5:$I$2257)","v":20521}]
[120,"Côte d'Ivoire","CIV","ABIDJAN 1 ","ANYAMA",15337,"AIME TON PROCHAIN","Faible",6901,0,6901,0,0,0,0,1,{"$f":"_xlfn.XLOOKUP($G25,[1]demo_data!$G$5:$G$2257,[1]demo_data!$I$5:$I$2257)","v":27215}]
[121,"Côte d'Ivoire","CIV","ABIDJAN 1 ","ANYAMA",15337,"CENTRE SOCIAL","Faible",2504,0,2504,0,0,0,0,1,{"$f":"_xlfn.XLOOKUP($G26,[1]demo_data!$G$5:$G$2257,[1]demo_data!$I$5:$I$2257)","v":9877}]
[122,"Côte d'Ivoire","CIV","ABIDJAN 1 ","ANYAMA",15337,"CSR ADONKOI 2","Faible",446,0,446,0,0,0,0,1,{"$f":"_xlfn.XLOOKUP($G27,[1]demo_data!$G$5:$G$2257,[1]demo_data!$I$5:$I$2257)","v":1761}]
[123,"Côte d'Ivoire","CIV","ABIDJAN 1 ","ANYAMA",15337,"CSR ATTIEKOI","Faible",948,0,948,0,0,0,0,1,{"$f":"_xlfn.XLOOKUP($G28,[1]demo_data!$G$5:$G$2257,[1]demo_data!$I$5:$I$2257)","v":3740}]
[124,"Côte d'Ivoire","CIV","ABIDJAN 1 ","ANYAMA",15337,"CSR AZAGUIE-BLIDA","Faible",812,0,812,0,0,0,0,1,{"$f":"_xlfn.XLOOKUP($G29,[1]demo_data!$G$5:$G$2257,[1]demo_data!$I$5:$I$2257)","v":3202}]
[125,"Côte d'Ivoire","CIV","ABIDJAN 1 ","ANYAMA",15337,"CSR EBIMPE","Faible",1180,0,1180,0,0,0,0,1,{"$f":"_xlfn.XLOOKUP($G30,[1]demo_data!$G$5:$G$2257,[1]demo_data!$I$5:$I$2257)","v":4655}]
[126,"Côte d'Ivoire","CIV","ABIDJAN 1 ","ANYAMA",15337,"CSR LA ME","Faible",696,0,696,0,0,0,0,1,{"$f":"_xlfn.XLOOKUP($G31,[1]demo_data!$G$5:$G$2257,[1]demo_data!$I$5:$I$2257)","v":2745}]
[127,"Côte d'Ivoire","CIV","ABIDJAN 1 ","ANYAMA",15337,"CSR M'BONOUA","Faible",518,0,518,0,0,0,0,1,{"$f":"_xlfn.XLOOKUP($G32,[1]demo_data!$G$5:$G$2257,[1]demo_data!$I$5:$I$2257)","v":2045}]
[128,"Côte d'Ivoire","CIV","ABIDJAN 1 ","ANYAMA",15337,"CSR M'BRAGO 1","Faible",662,0,662,0,0,0,0,1,{"$f":"_xlfn.XLOOKUP($G33,[1]demo_data!$G$5:$G$2257,[1]demo_data!$I$5:$I$2257)","v":2609}]
[129,"Côte d'Ivoire","CIV","ABIDJAN 1 ","ANYAMA",15337,"CSR M'PODY","Faible",1105,0,1105,0,0,0,0,1,{"$f":"_xlfn.XLOOKUP($G34,[1]demo_data!$G$5:$G$2257,[1]demo_data!$I$5:$I$2257)","v":4359}]
[130,"Côte d'Ivoire","CIV","ABIDJAN 1 ","ANYAMA",15337,"CSU AHOUABO","Faible",2305,0,2305,0,0,0,0,1,{"$f":"_xlfn.XLOOKUP($G35,[1]demo_data!$G$5:$G$2257,[1]demo_data!$I$5:$I$2257)","v":9093}]
[131,"Côte d'Ivoire","CIV","ABIDJAN 1 ","ANYAMA",15337,"CSU AHOUE","Faible",1249,0,1249,0,0,0,0,1,{"$f":"_xlfn.XLOOKUP($G36,[1]demo_data!$G$5:$G$2257,[1]demo_data!$I$5:$I$2257)","v":4924}]
[132,"Côte d'Ivoire","CIV","ABIDJAN 1 ","ANYAMA",15337,"CSU AKOUPE-ANYAMA","Modérée",2920,1340,4260,0,0,0,0,2,{"$f":"_xlfn.XLOOKUP($G37,[1]demo_data!$G$5:$G$2257,[1]demo_data!$I$5:$I$2257)","v":11515}]
[133,"Côte d'Ivoire","CIV","ABIDJAN 1 ","ANYAMA",15337,"CSU ALLOKOI","Faible",646,0,646,0,0,0,0,1,{"$f":"_xlfn.XLOOKUP($G38,[1]demo_data!$G$5:$G$2257,[1]demo_data!$I$5:$I$2257)","v":2550}]
[134,"Côte d'Ivoire","CIV","ABIDJAN 1 ","ANYAMA",15337,"CSU ANYAMA","Modérée",8418,3863,12281,0,0,0,0,2,{"$f":"_xlfn.XLOOKUP($G39,[1]demo_data!$G$5:$G$2257,[1]demo_data!$I$5:$I$2257)","v":33200}]
[135,"Côte d'Ivoire","CIV","ABIDJAN 1 ","ANYAMA",15337,"CSU ATTINGUIE","Faible",1424,0,1424,0,0,0,0,1,{"$f":"_xlfn.XLOOKUP($G40,[1]demo_data!$G$5:$G$2257,[1]demo_data!$I$5:$I$2257)","v":5616}]
[136,"Côte d'Ivoire","CIV","ABIDJAN 1 ","ANYAMA",15337,"CSU BROFODOUME","Faible",1139,0,1139,0,0,0,0,1,{"$f":"_xlfn.XLOOKUP($G41,[1]demo_data!$G$5:$G$2257,[1]demo_data!$I$5:$I$2257)","v":4493}]
[137,"Côte d'Ivoire","CIV","ABIDJAN 1 ","ANYAMA",15337,"HOPITAL GENERAL ANYAMA","Faible",14763,0,14763,0,0,0,0,1,{"$f":"_xlfn.XLOOKUP($G42,[1]demo_data!$G$5:$G$2257,[1]demo_data!$I$5:$I$2257)","v":58221}]
[62,"Côte d'Ivoire","CIV","ABIDJAN 1 ","YOPOUGON EST",15333,"ANDOKOI","Faible",24116,0,24116,1,24116,0,24116,1,{"$f":"_xlfn.XLOOKUP($G43,[1]demo_data!$G$5:$G$2257,[1]demo_data!$I$5:$I$2257)","v":102312}]
[63,"Côte d'Ivoire","CIV","ABIDJAN 1 ","YOPOUGON EST",15333,"ASAPSU1","Faible",27636,0,27636,1,27636,0,27636,1,{"$f":"_xlfn.XLOOKUP($G44,[1]demo_data!$G$5:$G$2257,[1]demo_data!$I$5:$I$2257)","v":117244}]
[64,"Côte d'Ivoire","CIV","ABIDJAN 1 ","YOPOUGON EST",15333,"CAMES","Faible",13777,0,13777,1,13777,0,13777,1,{"$f":"_xlfn.XLOOKUP($G45,[1]demo_data!$G$5:$G$2257,[1]demo_data!$I$5:$I$2257)","v":58448}]
[65,"Côte d'Ivoire","CIV","ABIDJAN 1 ","YOPOUGON EST",15333,"KOUTE","Faible",14770,0,14770,1,14770,0,14770,1,{"$f":"_xlfn.XLOOKUP($G46,[1]demo_data!$G$5:$G$2257,[1]demo_data!$I$5:$I$2257)","v":62660}]
[66,"Côte d'Ivoire","CIV","ABIDJAN 1 ","YOPOUGON EST",15333,"KOWEIT","Faible",24891,0,24891,1,24891,0,24891,1,{"$f":"_xlfn.XLOOKUP($G47,[1]demo_data!$G$5:$G$2257,[1]demo_data!$I$5:$I$2257)","v":105595}]
[67,"Côte d'Ivoire","CIV","ABIDJAN 1 ","YOPOUGON EST",15333,"MACA","Faible",13733,0,13733,1,13733,0,13733,1,{"$f":"_xlfn.XLOOKUP($G48,[1]demo_data!$G$5:$G$2257,[1]demo_data!$I$5:$I$2257)","v":58260}]
[68,"Côte d'Ivoire","CIV","ABIDJAN 1 ","YOPOUGON EST",15333,"NAZAREEN","Faible",11313,0,11313,1,11313,0,11313,1,{"$f":"_xlfn.XLOOKUP($G49,[1]demo_data!$G$5:$G$2257,[1]demo_data!$I$5:$I$2257)","v":47992}]
[69,"Côte d'Ivoire","CIV","ABIDJAN 1 ","YOPOUGON EST",15333,"OUASSAKARA","Faible",29490,0,29490,1,29490,0,29490,1,{"$f":"_xlfn.XLOOKUP($G50,[1]demo_data!$G$5:$G$2257,[1]demo_data!$I$5:$I$2257)","v":125112}]
[70,"Côte d'Ivoire","CIV","ABIDJAN 1 ","YOPOUGON EST",15333,"TOIT ROUGE","Modérée",27061,12416,39477,1,27061,12416,39477,2,{"$f":"_xlfn.XLOOKUP($G51,[1]demo_data!$G$5:$G$2257,[1]demo_data!$I$5:$I$2257)","v":114802}]
[71,"Côte d'Ivoire","CIV","ABIDJAN 1 ","YOPOUGON EST",15333,"YOPOUGON SANTE","Faible",9196,0,9196,1,9196,0,9196,1,{"$f":"_xlfn.XLOOKUP($G52,[1]demo_data!$G$5:$G$2257,[1]demo_data!$I$5:$I$2257)","v":39013}]
[72,"Côte d'Ivoire","CIV","ABIDJAN 1 ","YOPOUGON OUEST SONGON",15334,"CASCI ACADEMIE","Faible",8046,0,8046,1,8046,0,8046,1,{"$f":"_xlfn.XLOOKUP($G53,[1]demo_data!$G$5:$G$2257,[1]demo_data!$I$5:$I$2257)","v":20657}]
[73,"Côte d'Ivoire","CIV","ABIDJAN 1 ","YOPOUGON OUEST SONGON",15334,"CENTRE SOCIAL NIANGON","Non endémique",0,0,0,0,0,0,0,0,{"$f":"_xlfn.XLOOKUP($G54,[1]demo_data!$G$5:$G$2257,[1]demo_data!$I$5:$I$2257)","v":11876}]
[74,"Côte d'Ivoire","CIV","ABIDJAN 1 ","YOPOUGON OUEST SONGON",15334,"CHU YOPOUGON","Non endémique",0,0,0,0,0,0,0,0,{"$f":"_xlfn.XLOOKUP($G55,[1]demo_data!$G$5:$G$2257,[1]demo_data!$I$5:$I$2257)","v":18319}]
[75,"Côte d'Ivoire","CIV","ABIDJAN 1 ","YOPOUGON OUEST SONGON",15334,"CLINIQUE LA GRACE DIVINE","Faible",6472,0,6472,1,6472,0,6472,1,{"$f":"_xlfn.XLOOKUP($G56,[1]demo_data!$G$5:$G$2257,[1]demo_data!$I$5:$I$2257)","v":16616}]
[76,"Côte d'Ivoire","CIV","ABIDJAN 1 ","YOPOUGON OUEST SONGON",15334,"CM PRIVE NIEKY de SONGON KASSEMBLE","Faible",3215,0,3215,1,3215,0,3215,1,{"$f":"_xlfn.XLOOKUP($G57,[1]demo_data!$G$5:$G$2257,[1]demo_data!$I$5:$I$2257)","v":8257}]
[77,"Côte d'Ivoire","CIV","ABIDJAN 1 ","YOPOUGON OUEST SONGON",15334,"CM PRIVE PALMAFRIQUE de SONGON ANGUEDEDOU","Faible",1264,0,1264,1,1264,0,1264,1,{"$f":"_xlfn.XLOOKUP($G58,[1]demo_data!$G$5:$G$2257,[1]demo_data!$I$5:$I$2257)","v":3244}]
[78,"Côte d'Ivoire","CIV","ABIDJAN 1 ","YOPOUGON OUEST SONGON",15334,"CM PRIVE SOLIDARITE DE YOPOUGON GESCO ","Faible",3354,0,3354,1,3354,0,3354,1,{"$f":"_xlfn.XLOOKUP($G59,[1]demo_data!$G$5:$G$2257,[1]demo_data!$I$5:$I$2257)","v":8612}]
[79,"Côte d'Ivoire","CIV","ABIDJAN 1 ","YOPOUGON OUEST SONGON",15334,"CSR DM PUBLIC de ADIOPODOUME","Faible",5143,0,5143,1,5143,0,5143,1,{"$f":"_xlfn.XLOOKUP($G60,[1]demo_data!$G$5:$G$2257,[1]demo_data!$I$5:$I$2257)","v":13206}]
[80,"Côte d'Ivoire","CIV","ABIDJAN 1 ","YOPOUGON OUEST SONGON",15334,"CSR -I PUBLIC DE ABADJIN KOUTE ","Faible",3000,0,3000,1,3000,0,3000,1,{"$f":"_xlfn.XLOOKUP($G61,[1]demo_data!$G$5:$G$2257,[1]demo_data!$I$5:$I$2257)","v":7702}]
[81,"Côte d'Ivoire","CIV","ABIDJAN 1 ","YOPOUGON OUEST SONGON",15334,"CSR-D PUBLIC de BAGO","Faible",551,0,551,1,551,0,551,1,{"$f":"_xlfn.XLOOKUP($G62,[1]demo_data!$G$5:$G$2257,[1]demo_data!$I$5:$I$2257)","v":1415}]
[82,"Côte d'Ivoire","CIV","ABIDJAN 1 ","YOPOUGON OUEST SONGON",15334,"CSR-DM PUBLIC de SONGON AGBAN","Faible",5198,0,5198,1,5198,0,5198,1,{"$f":"_xlfn.XLOOKUP($G63,[1]demo_data!$G$5:$G$2257,[1]demo_data!$I$5:$I$2257)","v":13346}]
[83,"Côte d'Ivoire","CIV","ABIDJAN 1 ","YOPOUGON OUEST SONGON",15334,"CSU DM PRIVE ASAPSU de GESCO","Non endémique",0,0,0,0,0,0,0,0,{"$f":"_xlfn.XLOOKUP($G64,[1]demo_data!$G$5:$G$2257,[1]demo_data!$I$5:$I$2257)","v":8929}]
[84,"Côte d'Ivoire","CIV","ABIDJAN 1 ","YOPOUGON OUEST SONGON",15334,"CSU-DM COMMUNAUTAIRE de YOPOUGON AZITO","Faible",5694,0,5694,1,5694,0,5694,1,{"$f":"_xlfn.XLOOKUP($G65,[1]demo_data!$G$5:$G$2257,[1]demo_data!$I$5:$I$2257)","v":14622}]
[85,"Côte d'Ivoire","CIV","ABIDJAN 1 ","YOPOUGON OUEST SONGON",15334,"CSU-DM COMMUNAUTAIRE NIANGON LOKOA de YOPOUGON","Non endémique",0,0,0,0,0,0,0,0,{"$f":"_xlfn.XLOOKUP($G66,[1]demo_data!$G$5:$G$2257,[1]demo_data!$I$5:$I$2257)","v":21730}]
[86,"Côte d'Ivoire","CIV","ABIDJAN 1 ","YOPOUGON OUEST SONGON",15334,"CSU-DM CONFESSIONNEL Sœur Catherine de YOPOUGON","Faible",18990,0,18990,1,18990,0,18990,1,{"$f":"_xlfn.XLOOKUP($G67,[1]demo_data!$G$5:$G$2257,[1]demo_data!$I$5:$I$2257)","v":48758}]
[87,"Côte d'Ivoire","CIV","ABIDJAN 1 ","YOPOUGON OUEST SONGON",15334,"CSU-DM PUBLIC de KOSSIHOUEN","Faible",2483,0,2483,1,2483,0,2483,1,{"$f":"_xlfn.XLOOKUP($G68,[1]demo_data!$G$5:$G$2257,[1]demo_data!$I$5:$I$2257)","v":6376}]
[88,"Côte d'Ivoire","CIV","ABIDJAN 1 ","YOPOUGON OUEST SONGON",15334,"CSU-DM PUBLIC de SONGON KASSEMBLE","Faible",5785,0,5785,1,5785,0,5785,1,{"$f":"_xlfn.XLOOKUP($G69,[1]demo_data!$G$5:$G$2257,[1]demo_data!$I$5:$I$2257)","v":14853}]
[89,"Côte d'Ivoire","CIV","ABIDJAN 1 ","YOPOUGON OUEST SONGON",15334,"FSU COMMUNAUTAIRE de ADIOPODOUME ","Faible",4751,0,4751,1,4751,0,4751,1,{"$f":"_xlfn.XLOOKUP($G70,[1]demo_data!$G$5:$G$2257,[1]demo_data!$I$5:$I$2257)","v":12200}]
[91,"Côte d'Ivoire","CIV","ABIDJAN 1 ","YOPOUGON OUEST SONGON",15334,"FSU COMMUNAUTAIRE de NIANGON SUD","Faible",13565,0,13565,1,13565,0,13565,1,{"$f":"_xlfn.XLOOKUP($G71,[1]demo_data!$G$5:$G$2257,[1]demo_data!$I$5:$I$2257)","v":34827}]
[92,"Côte d'Ivoire","CIV","ABIDJAN 1 ","YOPOUGON OUEST SONGON",15334,"FSU COMMUNAUTAIRE de PORT-BOUET 2","Faible",8931,0,8931,1,8931,0,8931,1,{"$f":"_xlfn.XLOOKUP($G72,[1]demo_data!$G$5:$G$2257,[1]demo_data!$I$5:$I$2257)","v":22932}]
[93,"Côte d'Ivoire","CIV","ABIDJAN 1 ","YOPOUGON OUEST SONGON",15334,"FSU COMMUNAUTAIRE de PORT-BOUET 3","Faible",700,0,700,1,700,0,700,1,{"$f":"_xlfn.XLOOKUP($G73,[1]demo_data!$G$5:$G$2257,[1]demo_data!$I$5:$I$2257)","v":1797}]
[94,"Côte d'Ivoire","CIV","ABIDJAN 1 ","YOPOUGON OUEST SONGON",15334,"FSU COMMUNAUTAIRE de PORT-BOUET 4","Faible",5479,0,5479,1,5479,0,5479,1,{"$f":"_xlfn.XLOOKUP($G74,[1]demo_data!$G$5:$G$2257,[1]demo_data!$I$5:$I$2257)","v":14067}]
[95,"Côte d'Ivoire","CIV","ABIDJAN 1 ","YOPOUGON OUEST SONGON",15334,"FSU COMMUNAUTAIRE de PORT-BOUET 5","Faible",5235,0,5235,1,5235,0,5235,1,{"$f":"_xlfn.XLOOKUP($G75,[1]demo_data!$G$5:$G$2257,[1]demo_data!$I$5:$I$2257)","v":13439}]
[96,"Côte d'Ivoire","CIV","ABIDJAN 1 ","YOPOUGON OUEST SONGON",15334,"FSU COMMUNAUTAIRE de PORT-BOUET 6","Faible",10475,0,10475,1,10475,0,10475,1,{"$f":"_xlfn.XLOOKUP($G76,[1]demo_data!$G$5:$G$2257,[1]demo_data!$I$5:$I$2257)","v":26896}]
[90,"Côte d'Ivoire","CIV","ABIDJAN 1 ","YOPOUGON OUEST SONGON",15334,"FSU COMMUNAUTAIRE de GESCO","Non endémique",0,0,0,0,0,0,0,0,{"$f":"_xlfn.XLOOKUP($G77,[1]demo_data!$G$5:$G$2257,[1]demo_data!$I$5:$I$2257)","v":27815}]
[97,"Côte d'Ivoire","CIV","ABIDJAN 1 ","YOPOUGON OUEST SONGON",15334,"HG PUBLIC de YOPOUGON ATTIE","Non endémique",0,0,0,0,0,0,0,0,{"$f":"_xlfn.XLOOKUP($G78,[1]demo_data!$G$5:$G$2257,[1]demo_data!$I$5:$I$2257)","v":88454}]
[1,"Côte d'Ivoire","CIV","ABIDJAN 2","ADJAME-PLATEAU-ATTECOUBE",15329,"220 LOGEMENTS","Faible",61500,0,61500,0,0,0,0,1,{"$f":"_xlfn.XLOOKUP($G79,[1]demo_data!$G$5:$G$2257,[1]demo_data!$I$5:$I$2257)","v":210137}]
[2,"Côte d'Ivoire","CIV","ABIDJAN 2","ADJAME-PLATEAU-ATTECOUBE",15329,"ABOBO DOUME","Faible",13409,0,13409,0,0,0,0,1,{"$f":"_xlfn.XLOOKUP($G80,[1]demo_data!$G$5:$G$2257,[1]demo_data!$I$5:$I$2257)","v":45817}]
[3,"Côte d'Ivoire","CIV","ABIDJAN 2","ADJAME-PLATEAU-ATTECOUBE",15329,"AGBAN VILLAGE","Faible",6986,0,6986,0,0,0,0,1,{"$f":"_xlfn.XLOOKUP($G81,[1]demo_data!$G$5:$G$2257,[1]demo_data!$I$5:$I$2257)","v":23869}]
[4,"Côte d'Ivoire","CIV","ABIDJAN 2","ADJAME-PLATEAU-ATTECOUBE",15329,"ATTECOUBE","Modérée",37948,17411,55359,0,0,0,0,2,{"$f":"_xlfn.XLOOKUP($G82,[1]demo_data!$G$5:$G$2257,[1]demo_data!$I$5:$I$2257)","v":129663}]
[5,"Côte d'Ivoire","CIV","ABIDJAN 2","ADJAME-PLATEAU-ATTECOUBE",15329,"BRAMAKOTE","Faible",22061,0,22061,0,0,0,0,1,{"$f":"_xlfn.XLOOKUP($G83,[1]demo_data!$G$5:$G$2257,[1]demo_data!$I$5:$I$2257)","v":75379}]
[6,"Côte d'Ivoire","CIV","ABIDJAN 2","ADJAME-PLATEAU-ATTECOUBE",15329,"LOCODJRO","Non endémique",0,0,0,0,0,0,0,0,{"$f":"_xlfn.XLOOKUP($G84,[1]demo_data!$G$5:$G$2257,[1]demo_data!$I$5:$I$2257)","v":102793}]
[7,"Côte d'Ivoire","CIV","ABIDJAN 2","ADJAME-PLATEAU-ATTECOUBE",15329,"PLATEAU","Faible",3616,0,3616,0,0,0,0,1,{"$f":"_xlfn.XLOOKUP($G85,[1]demo_data!$G$5:$G$2257,[1]demo_data!$I$5:$I$2257)","v":12353}]
[8,"Côte d'Ivoire","CIV","ABIDJAN 2","ADJAME-PLATEAU-ATTECOUBE",15329,"WILLIAMS VILLE","Faible",42870,0,42870,0,0,0,0,1,{"$f":"_xlfn.XLOOKUP($G86,[1]demo_data!$G$5:$G$2257,[1]demo_data!$I$5:$I$2257)","v":146483}]
[138,"Côte d'Ivoire","CIV","ABIDJAN 2","COCODY-BINGERVILLE",15338,"ABATTA","Faible",2666,0,2666,0,0,0,0,1,{"$f":"_xlfn.XLOOKUP($G87,[1]demo_data!$G$5:$G$2257,[1]demo_data!$I$5:$I$2257)","v":9174}]
[139,"Côte d'Ivoire","CIV","ABIDJAN 2","COCODY-BINGERVILLE",15338,"AKOUEDO ATTIE","Faible",3511,0,3511,0,0,0,0,1,{"$f":"_xlfn.XLOOKUP($G88,[1]demo_data!$G$5:$G$2257,[1]demo_data!$I$5:$I$2257)","v":12082}]
[140,"Côte d'Ivoire","CIV","ABIDJAN 2","COCODY-BINGERVILLE",15338,"AKOUEDO VILLAGE","Faible",10470,0,10470,0,0,0,0,1,{"$f":"_xlfn.XLOOKUP($G89,[1]demo_data!$G$5:$G$2257,[1]demo_data!$I$5:$I$2257)","v":36028}]
[141,"Côte d'Ivoire","CIV","ABIDJAN 2","COCODY-BINGERVILLE",15338,"ANGRE","Non endémique",0,0,0,0,0,0,0,0,{"$f":"_xlfn.XLOOKUP($G90,[1]demo_data!$G$5:$G$2257,[1]demo_data!$I$5:$I$2257)","v":43976}]
[142,"Côte d'Ivoire","CIV","ABIDJAN 2","COCODY-BINGERVILLE",15338,"ANONO","Non endémique",0,0,0,0,0,0,0,0,{"$f":"_xlfn.XLOOKUP($G91,[1]demo_data!$G$5:$G$2257,[1]demo_data!$I$5:$I$2257)","v":59476}]
[143,"Côte d'Ivoire","CIV","ABIDJAN 2","COCODY-BINGERVILLE",15338,"BLOCKHAUSS","Faible",4973,0,4973,0,0,0,0,1,{"$f":"_xlfn.XLOOKUP($G92,[1]demo_data!$G$5:$G$2257,[1]demo_data!$I$5:$I$2257)","v":17114}]
[144,"Côte d'Ivoire","CIV","ABIDJAN 2","COCODY-BINGERVILLE",15338,"CHU COCODY","Faible",4857,0,4857,0,0,0,0,1,{"$f":"_xlfn.XLOOKUP($G93,[1]demo_data!$G$5:$G$2257,[1]demo_data!$I$5:$I$2257)","v":16714}]
[145,"Côte d'Ivoire","CIV","ABIDJAN 2","COCODY-BINGERVILLE",15338,"COLOMBIE","Faible",15058,0,15058,0,0,0,0,1,{"$f":"_xlfn.XLOOKUP($G94,[1]demo_data!$G$5:$G$2257,[1]demo_data!$I$5:$I$2257)","v":51815}]
[146,"Côte d'Ivoire","CIV","ABIDJAN 2","COCODY-BINGERVILLE",15338,"ELOKA","Faible",3312,0,3312,0,0,0,0,1,{"$f":"_xlfn.XLOOKUP($G95,[1]demo_data!$G$5:$G$2257,[1]demo_data!$I$5:$I$2257)","v":11397}]
[147,"Côte d'Ivoire","CIV","ABIDJAN 2","COCODY-BINGERVILLE",15338,"GBAGBA","Faible",9606,0,9606,0,0,0,0,1,{"$f":"_xlfn.XLOOKUP($G96,[1]demo_data!$G$5:$G$2257,[1]demo_data!$I$5:$I$2257)","v":33056}]
[148,"Côte d'Ivoire","CIV","ABIDJAN 2","COCODY-BINGERVILLE",15338,"GENIE 2000","Faible",1550,0,1550,0,0,0,0,1,{"$f":"_xlfn.XLOOKUP($G97,[1]demo_data!$G$5:$G$2257,[1]demo_data!$I$5:$I$2257)","v":5335}]
[149,"Côte d'Ivoire","CIV","ABIDJAN 2","COCODY-BINGERVILLE",15338,"GENIE 2001","Faible",1372,0,1372,0,0,0,0,1,{"$f":"_xlfn.XLOOKUP($G98,[1]demo_data!$G$5:$G$2257,[1]demo_data!$I$5:$I$2257)","v":4720}]
[150,"Côte d'Ivoire","CIV","ABIDJAN 2","COCODY-BINGERVILLE",15338,"GENIE 2002","Faible",732,0,732,0,0,0,0,1,{"$f":"_xlfn.XLOOKUP($G99,[1]demo_data!$G$5:$G$2257,[1]demo_data!$I$5:$I$2257)","v":2516}]
[151,"Côte d'Ivoire","CIV","ABIDJAN 2","COCODY-BINGERVILLE",15338,"GENIE 2003","Faible",882,0,882,0,0,0,0,1,{"$f":"_xlfn.XLOOKUP($G100,[1]demo_data!$G$5:$G$2257,[1]demo_data!$I$5:$I$2257)","v":3035}]
[152,"Côte d'Ivoire","CIV","ABIDJAN 2","COCODY-BINGERVILLE",15338,"HG BINGERVILLE","Faible",12420,0,12420,0,0,0,0,1,{"$f":"_xlfn.XLOOKUP($G101,[1]demo_data!$G$5:$G$2257,[1]demo_data!$I$5:$I$2257)","v":42735}]
[153,"Côte d'Ivoire","CIV","ABIDJAN 2","COCODY-BINGERVILLE",15338,"M'BADON","Faible",2517,0,2517,0,0,0,0,1,{"$f":"_xlfn.XLOOKUP($G102,[1]demo_data!$G$5:$G$2257,[1]demo_data!$I$5:$I$2257)","v":8660}]
[154,"Côte d'Ivoire","CIV","ABIDJAN 2","COCODY-BINGERVILLE",15338,"MERE MARIA","Faible",17881,0,17881,0,0,0,0,1,{"$f":"_xlfn.XLOOKUP($G103,[1]demo_data!$G$5:$G$2257,[1]demo_data!$I$5:$I$2257)","v":61530}]
[155,"Côte d'Ivoire","CIV","ABIDJAN 2","COCODY-BINGERVILLE",15338,"M'POUTO","Non endémique",0,0,0,0,0,0,0,0,{"$f":"_xlfn.XLOOKUP($G104,[1]demo_data!$G$5:$G$2257,[1]demo_data!$I$5:$I$2257)","v":21796}]
[156,"Côte d'Ivoire","CIV","ABIDJAN 2","COCODY-BINGERVILLE",15338,"NIMATOULLAH","Non endémique",0,0,0,0,0,0,0,0,{"$f":"_xlfn.XLOOKUP($G105,[1]demo_data!$G$5:$G$2257,[1]demo_data!$I$5:$I$2257)","v":36838}]
[157,"Côte d'Ivoire","CIV","ABIDJAN 2","COCODY-BINGERVILLE",15338,"PMI BINGERVILLE","Faible",12708,0,12708,0,0,0,0,1,{"$f":"_xlfn.XLOOKUP($G106,[1]demo_data!$G$5:$G$2257,[1]demo_data!$I$5:$I$2257)","v":43730}]
[158,"Côte d'Ivoire","CIV","ABIDJAN 2","COCODY-BINGERVILLE",15338,"PMI COCODY","Non endémique",0,0,0,0,0,0,0,0,{"$f":"_xlfn.XLOOKUP($G107,[1]demo_data!$G$5:$G$2257,[1]demo_data!$I$5:$I$2257)","v":55190}]
[159,"Côte d'Ivoire","CIV","ABIDJAN 2","COCODY-BINGERVILLE",15338,"RIVIERA PALMERAIE","Faible",14441,0,14441,0,0,0,0,1,{"$f":"_xlfn.XLOOKUP($G108,[1]demo_data!$G$5:$G$2257,[1]demo_data!$I$5:$I$2257)","v":49693}]
[162,"Côte d'Ivoire","CIV","ABIDJAN 2","KOUMASSI",15417,"AKLOMIABLA","Faible",6517,0,6517,0,0,0,0,1,{"$f":"_xlfn.XLOOKUP($G109,[1]demo_data!$G$5:$G$2257,[1]demo_data!$I$5:$I$2257)","v":24514}]
[164,"Côte d'Ivoire","CIV","ABIDJAN 2","KOUMASSI",15417,"Campement","Non endémique",0,0,0,0,0,0,0,0,{"$f":"_xlfn.XLOOKUP($G110,[1]demo_data!$G$5:$G$2257,[1]demo_data!$I$5:$I$2257)","v":56353}]
[165,"Côte d'Ivoire","CIV","ABIDJAN 2","KOUMASSI",15417,"CM CROIX ROUGE","Non endémique",0,0,0,0,0,0,0,0,{"$f":"_xlfn.XLOOKUP($G111,[1]demo_data!$G$5:$G$2257,[1]demo_data!$I$5:$I$2257)","v":49856}]
[168,"Côte d'Ivoire","CIV","ABIDJAN 2","KOUMASSI",15417,"DIVO","Faible",37867,0,37867,0,0,0,0,1,{"$f":"_xlfn.XLOOKUP($G112,[1]demo_data!$G$5:$G$2257,[1]demo_data!$I$5:$I$2257)","v":142438}]
[170,"Côte d'Ivoire","CIV","ABIDJAN 2","KOUMASSI",15417,"HG KOUMASSI","Non endémique",0,0,0,0,0,0,0,0,{"$f":"_xlfn.XLOOKUP($G113,[1]demo_data!$G$5:$G$2257,[1]demo_data!$I$5:$I$2257)","v":232996}]
[173,"Côte d'Ivoire","CIV","ABIDJAN 2","KOUMASSI",15417,"PANGOLIN","Non endémique",0,0,0,0,0,0,0,0,{"$f":"_xlfn.XLOOKUP($G114,[1]demo_data!$G$5:$G$2257,[1]demo_data!$I$5:$I$2257)","v":49187}]
[176,"Côte d'Ivoire","CIV","ABIDJAN 2","KOUMASSI",15417,"ZOE BRUNO ","Faible",9828,0,9828,0,0,0,0,1,{"$f":"_xlfn.XLOOKUP($G115,[1]demo_data!$G$5:$G$2257,[1]demo_data!$I$5:$I$2257)","v":36971}]
[160,"Côte d'Ivoire","CIV","ABIDJAN 2","PORT BOUET-VRIDI",15418,"ABOUABOU","Faible",1351,0,1351,0,0,0,0,1,{"$f":"_xlfn.XLOOKUP($G116,[1]demo_data!$G$5:$G$2257,[1]demo_data!$I$5:$I$2257)","v":4065}]
[161,"Côte d'Ivoire","CIV","ABIDJAN 2","PORT BOUET-VRIDI",15418,"ADJAHUI","Faible",7998,0,7998,0,0,0,0,1,{"$f":"_xlfn.XLOOKUP($G117,[1]demo_data!$G$5:$G$2257,[1]demo_data!$I$5:$I$2257)","v":24059}]
[163,"Côte d'Ivoire","CIV","ABIDJAN 2","PORT BOUET-VRIDI",15418,"AKWABA DERRIERE WHARF","Faible",10007,0,10007,0,0,0,0,1,{"$f":"_xlfn.XLOOKUP($G118,[1]demo_data!$G$5:$G$2257,[1]demo_data!$I$5:$I$2257)","v":30100}]
[166,"Côte d'Ivoire","CIV","ABIDJAN 2","PORT BOUET-VRIDI",15418,"CSR AKOBRAKRE","Faible",4720,0,4720,0,0,0,0,1,{"$f":"_xlfn.XLOOKUP($G119,[1]demo_data!$G$5:$G$2257,[1]demo_data!$I$5:$I$2257)","v":14197}]
[167,"Côte d'Ivoire","CIV","ABIDJAN 2","PORT BOUET-VRIDI",15418,"CSU COM GONZAGUEVILLE","Faible",31603,0,31603,0,0,0,0,1,{"$f":"_xlfn.XLOOKUP($G120,[1]demo_data!$G$5:$G$2257,[1]demo_data!$I$5:$I$2257)","v":95065}]
[169,"Côte d'Ivoire","CIV","ABIDJAN 2","PORT BOUET-VRIDI",15418,"FSU Vridi Cité","Faible",11125,0,11125,0,0,0,0,1,{"$f":"_xlfn.XLOOKUP($G121,[1]demo_data!$G$5:$G$2257,[1]demo_data!$I$5:$I$2257)","v":33464}]
[171,"Côte d'Ivoire","CIV","ABIDJAN 2","PORT BOUET-VRIDI",15418,"HG PORT BOUET","Modérée",39026,17905,56931,0,0,0,0,2,{"$f":"_xlfn.XLOOKUP($G122,[1]demo_data!$G$5:$G$2257,[1]demo_data!$I$5:$I$2257)","v":117392}]
[172,"Côte d'Ivoire","CIV","ABIDJAN 2","PORT BOUET-VRIDI",15418,"HMVridi Cité ","Faible",6956,0,6956,0,0,0,0,1,{"$f":"_xlfn.XLOOKUP($G123,[1]demo_data!$G$5:$G$2257,[1]demo_data!$I$5:$I$2257)","v":20925}]
[174,"Côte d'Ivoire","CIV","ABIDJAN 2","PORT BOUET-VRIDI",15418,"POLYCLINIQUE D'ADJOUFOU","Faible",13524,0,13524,0,0,0,0,1,{"$f":"_xlfn.XLOOKUP($G124,[1]demo_data!$G$5:$G$2257,[1]demo_data!$I$5:$I$2257)","v":40681}]
[175,"Côte d'Ivoire","CIV","ABIDJAN 2","PORT BOUET-VRIDI",15418,"VRIDI 3","Faible",6507,0,6507,0,0,0,0,1,{"$f":"_xlfn.XLOOKUP($G125,[1]demo_data!$G$5:$G$2257,[1]demo_data!$I$5:$I$2257)","v":19572}]
[177,"Côte d'Ivoire","CIV","ABIDJAN 2","TREICHVILLE-MARCORY",15340,"CCAS","Faible",12339,0,12339,0,0,0,0,1,{"$f":"_xlfn.XLOOKUP($G126,[1]demo_data!$G$5:$G$2257,[1]demo_data!$I$5:$I$2257)","v":42160}]
[178,"Côte d'Ivoire","CIV","ABIDJAN 2","TREICHVILLE-MARCORY",15340,"CMS ENTENTE","Faible",4802,0,4802,0,0,0,0,1,{"$f":"_xlfn.XLOOKUP($G127,[1]demo_data!$G$5:$G$2257,[1]demo_data!$I$5:$I$2257)","v":16408}]
[179,"Côte d'Ivoire","CIV","ABIDJAN 2","TREICHVILLE-MARCORY",15340,"CS ASAPSU","Faible",6002,0,6002,0,0,0,0,1,{"$f":"_xlfn.XLOOKUP($G128,[1]demo_data!$G$5:$G$2257,[1]demo_data!$I$5:$I$2257)","v":20510}]
[180,"Côte d'Ivoire","CIV","ABIDJAN 2","TREICHVILLE-MARCORY",15340,"CSU COM ALIODAN","Non endémique",0,0,0,0,0,0,0,0,{"$f":"_xlfn.XLOOKUP($G129,[1]demo_data!$G$5:$G$2257,[1]demo_data!$I$5:$I$2257)","v":49223}]
[181,"Côte d'Ivoire","CIV","ABIDJAN 2","TREICHVILLE-MARCORY",15340,"CSU COM ARRAS 3","Faible",12005,0,12005,0,0,0,0,1,{"$f":"_xlfn.XLOOKUP($G130,[1]demo_data!$G$5:$G$2257,[1]demo_data!$I$5:$I$2257)","v":41018}]
[182,"Côte d'Ivoire","CIV","ABIDJAN 2","TREICHVILLE-MARCORY",15340,"DISPENSAIRE DU PONT","Faible",14406,0,14406,0,0,0,0,1,{"$f":"_xlfn.XLOOKUP($G131,[1]demo_data!$G$5:$G$2257,[1]demo_data!$I$5:$I$2257)","v":49223}]
[183,"Côte d'Ivoire","CIV","ABIDJAN 2","TREICHVILLE-MARCORY",15340,"FSU COM ANOUMABO","Non endémique",0,0,0,0,0,0,0,0,{"$f":"_xlfn.XLOOKUP($G132,[1]demo_data!$G$5:$G$2257,[1]demo_data!$I$5:$I$2257)","v":49223}]
[184,"Côte d'Ivoire","CIV","ABIDJAN 2","TREICHVILLE-MARCORY",15340,"HG MARCORY","Faible",16472,0,16472,0,0,0,0,1,{"$f":"_xlfn.XLOOKUP($G133,[1]demo_data!$G$5:$G$2257,[1]demo_data!$I$5:$I$2257)","v":56285}]
[185,"Côte d'Ivoire","CIV","ABIDJAN 2","TREICHVILLE-MARCORY",15340,"HG TREICHVILLE/CMS AVENUE 1","Non endémique",0,0,0,0,0,0,0,0,{"$f":"_xlfn.XLOOKUP($G134,[1]demo_data!$G$5:$G$2257,[1]demo_data!$I$5:$I$2257)","v":36919}]
[186,"Côte d'Ivoire","CIV","ABIDJAN 2","TREICHVILLE-MARCORY",15340,"INHP CHU TREICHVILLE","Faible",14406,0,14406,0,0,0,0,1,{"$f":"_xlfn.XLOOKUP($G135,[1]demo_data!$G$5:$G$2257,[1]demo_data!$I$5:$I$2257)","v":49223}]
[209,"Côte d'Ivoire","CIV","AGNEBY-TIASSA","AGBOVILLE",15342,"AZAGUIE","Modérée",6363,2919,9282,0,0,0,0,2,{"$f":"_xlfn.XLOOKUP($G136,[1]demo_data!$G$5:$G$2257,[1]demo_data!$I$5:$I$2257)","v":23151}]
[210,"Côte d'Ivoire","CIV","AGNEBY-TIASSA","AGBOVILLE",15342,"CHR AGBOVILLE","Modérée",13803,6332,20135,0,0,0,0,2,{"$f":"_xlfn.XLOOKUP($G137,[1]demo_data!$G$5:$G$2257,[1]demo_data!$I$5:$I$2257)","v":50219}]
[211,"Côte d'Ivoire","CIV","AGNEBY-TIASSA","AGBOVILLE",15342,"CSR AMANGBEU","Modérée",1013,465,1478,0,0,0,0,2,{"$f":"_xlfn.XLOOKUP($G138,[1]demo_data!$G$5:$G$2257,[1]demo_data!$I$5:$I$2257)","v":3685}]
[212,"Côte d'Ivoire","CIV","AGNEBY-TIASSA","AGBOVILLE",15342,"CSR ANNO","Modérée",3047,1398,4445,0,0,0,0,2,{"$f":"_xlfn.XLOOKUP($G139,[1]demo_data!$G$5:$G$2257,[1]demo_data!$I$5:$I$2257)","v":11089}]
[213,"Côte d'Ivoire","CIV","AGNEBY-TIASSA","AGBOVILLE",15342,"CSR ELEVI","Modérée",1140,523,1663,0,0,0,0,2,{"$f":"_xlfn.XLOOKUP($G140,[1]demo_data!$G$5:$G$2257,[1]demo_data!$I$5:$I$2257)","v":4147}]
[214,"Côte d'Ivoire","CIV","AGNEBY-TIASSA","AGBOVILLE",15342,"CSR GRAND-YAPO","Modérée",1878,862,2740,0,0,0,0,2,{"$f":"_xlfn.XLOOKUP($G141,[1]demo_data!$G$5:$G$2257,[1]demo_data!$I$5:$I$2257)","v":6831}]
[215,"Côte d'Ivoire","CIV","AGNEBY-TIASSA","AGBOVILLE",15342,"CSR M'BERIE","Modérée",2328,1068,3396,0,0,0,0,2,{"$f":"_xlfn.XLOOKUP($G142,[1]demo_data!$G$5:$G$2257,[1]demo_data!$I$5:$I$2257)","v":8471}]
[216,"Côte d'Ivoire","CIV","AGNEBY-TIASSA","AGBOVILLE",15342,"CSR ODOGUIE","Modérée",708,325,1033,0,0,0,0,2,{"$f":"_xlfn.XLOOKUP($G143,[1]demo_data!$G$5:$G$2257,[1]demo_data!$I$5:$I$2257)","v":2577}]
[217,"Côte d'Ivoire","CIV","AGNEBY-TIASSA","AGBOVILLE",15342,"CSR OFFOUMPO","Modérée",2248,1031,3279,0,0,0,0,2,{"$f":"_xlfn.XLOOKUP($G144,[1]demo_data!$G$5:$G$2257,[1]demo_data!$I$5:$I$2257)","v":8178}]
[218,"Côte d'Ivoire","CIV","AGNEBY-TIASSA","AGBOVILLE",15342,"CSR OTOPE","Modérée",1232,565,1797,0,0,0,0,2,{"$f":"_xlfn.XLOOKUP($G145,[1]demo_data!$G$5:$G$2257,[1]demo_data!$I$5:$I$2257)","v":4483}]
[219,"Côte d'Ivoire","CIV","AGNEBY-TIASSA","AGBOVILLE",15342,"CSR WAHIN","Modérée",529,243,772,0,0,0,0,2,{"$f":"_xlfn.XLOOKUP($G146,[1]demo_data!$G$5:$G$2257,[1]demo_data!$I$5:$I$2257)","v":1927}]
[220,"Côte d'Ivoire","CIV","AGNEBY-TIASSA","AGBOVILLE",15342,"CSR YAPO-GARE","Modérée",1866,856,2722,0,0,0,0,2,{"$f":"_xlfn.XLOOKUP($G147,[1]demo_data!$G$5:$G$2257,[1]demo_data!$I$5:$I$2257)","v":6789}]
[221,"Côte d'Ivoire","CIV","AGNEBY-TIASSA","AGBOVILLE",15342,"CSU ABOUDE","Modérée",5590,2565,8155,0,0,0,0,2,{"$f":"_xlfn.XLOOKUP($G148,[1]demo_data!$G$5:$G$2257,[1]demo_data!$I$5:$I$2257)","v":20340}]
[222,"Côte d'Ivoire","CIV","AGNEBY-TIASSA","AGBOVILLE",15342,"CSU ANANGUIE","Modérée",3022,1386,4408,0,0,0,0,2,{"$f":"_xlfn.XLOOKUP($G149,[1]demo_data!$G$5:$G$2257,[1]demo_data!$I$5:$I$2257)","v":10993}]
[223,"Côte d'Ivoire","CIV","AGNEBY-TIASSA","AGBOVILLE",15342,"CSU ATTOBROU","Modérée",3477,1595,5072,0,0,0,0,2,{"$f":"_xlfn.XLOOKUP($G150,[1]demo_data!$G$5:$G$2257,[1]demo_data!$I$5:$I$2257)","v":12652}]
[224,"Côte d'Ivoire","CIV","AGNEBY-TIASSA","AGBOVILLE",15342,"CSU CECHI","Modérée",4567,2095,6662,0,0,0,0,2,{"$f":"_xlfn.XLOOKUP($G151,[1]demo_data!$G$5:$G$2257,[1]demo_data!$I$5:$I$2257)","v":16617}]
[225,"Côte d'Ivoire","CIV","AGNEBY-TIASSA","AGBOVILLE",15342,"CSU GRAND-MORIE","Modérée",2503,1148,3651,0,0,0,0,2,{"$f":"_xlfn.XLOOKUP($G152,[1]demo_data!$G$5:$G$2257,[1]demo_data!$I$5:$I$2257)","v":9107}]
[226,"Côte d'Ivoire","CIV","AGNEBY-TIASSA","AGBOVILLE",15342,"CSU GUESSIGUIE","Modérée",2843,1305,4148,0,0,0,0,2,{"$f":"_xlfn.XLOOKUP($G153,[1]demo_data!$G$5:$G$2257,[1]demo_data!$I$5:$I$2257)","v":10346}]
[227,"Côte d'Ivoire","CIV","AGNEBY-TIASSA","AGBOVILLE",15342,"CSU LOVIGUIE","Modérée",1938,890,2828,0,0,0,0,2,{"$f":"_xlfn.XLOOKUP($G154,[1]demo_data!$G$5:$G$2257,[1]demo_data!$I$5:$I$2257)","v":7051}]
[228,"Côte d'Ivoire","CIV","AGNEBY-TIASSA","AGBOVILLE",15342,"CSU ORESS-KROBOU","Modérée",1716,788,2504,0,0,0,0,2,{"$f":"_xlfn.XLOOKUP($G155,[1]demo_data!$G$5:$G$2257,[1]demo_data!$I$5:$I$2257)","v":6247}]
[229,"Côte d'Ivoire","CIV","AGNEBY-TIASSA","AGBOVILLE",15342,"CSU RUBINO","Modérée",6086,2793,8879,0,0,0,0,2,{"$f":"_xlfn.XLOOKUP($G156,[1]demo_data!$G$5:$G$2257,[1]demo_data!$I$5:$I$2257)","v":22145}]
[230,"Côte d'Ivoire","CIV","AGNEBY-TIASSA","AGBOVILLE",15342,"DR ABBE-BEGNINI","Modérée",1392,639,2031,0,0,0,0,2,{"$f":"_xlfn.XLOOKUP($G157,[1]demo_data!$G$5:$G$2257,[1]demo_data!$I$5:$I$2257)","v":5067}]
[231,"Côte d'Ivoire","CIV","AGNEBY-TIASSA","AGBOVILLE",15342,"DR ACHIEKOI","Modérée",263,121,384,0,0,0,0,2,{"$f":"_xlfn.XLOOKUP($G158,[1]demo_data!$G$5:$G$2257,[1]demo_data!$I$5:$I$2257)","v":957}]
[232,"Côte d'Ivoire","CIV","AGNEBY-TIASSA","AGBOVILLE",15342,"DR BANGUIE 2","Modérée",2164,992,3156,0,0,0,0,2,{"$f":"_xlfn.XLOOKUP($G159,[1]demo_data!$G$5:$G$2257,[1]demo_data!$I$5:$I$2257)","v":7872}]
[233,"Côte d'Ivoire","CIV","AGNEBY-TIASSA","AGBOVILLE",15342,"DR COPA","Modérée",674,309,983,0,0,0,0,2,{"$f":"_xlfn.XLOOKUP($G160,[1]demo_data!$G$5:$G$2257,[1]demo_data!$I$5:$I$2257)","v":2451}]
[234,"Côte d'Ivoire","CIV","AGNEBY-TIASSA","AGBOVILLE",15342,"DR EHOUEGUIE","Modérée",985,452,1437,0,0,0,0,2,{"$f":"_xlfn.XLOOKUP($G161,[1]demo_data!$G$5:$G$2257,[1]demo_data!$I$5:$I$2257)","v":3585}]
[235,"Côte d'Ivoire","CIV","AGNEBY-TIASSA","AGBOVILLE",15342,"DR GBESSE","Modérée",1157,530,1687,0,0,0,0,2,{"$f":"_xlfn.XLOOKUP($G162,[1]demo_data!$G$5:$G$2257,[1]demo_data!$I$5:$I$2257)","v":4209}]
[236,"Côte d'Ivoire","CIV","AGNEBY-TIASSA","AGBOVILLE",15342,"DR GOUABO","Modérée",1005,462,1467,0,0,0,0,2,{"$f":"_xlfn.XLOOKUP($G163,[1]demo_data!$G$5:$G$2257,[1]demo_data!$I$5:$I$2257)","v":3659}]
[237,"Côte d'Ivoire","CIV","AGNEBY-TIASSA","AGBOVILLE",15342,"DR LAPO","Modérée",732,336,1068,0,0,0,0,2,{"$f":"_xlfn.XLOOKUP($G164,[1]demo_data!$G$5:$G$2257,[1]demo_data!$I$5:$I$2257)","v":2662}]
[238,"Côte d'Ivoire","CIV","AGNEBY-TIASSA","AGBOVILLE",15342,"DR M'BROME","Modérée",1360,624,1984,0,0,0,0,2,{"$f":"_xlfn.XLOOKUP($G165,[1]demo_data!$G$5:$G$2257,[1]demo_data!$I$5:$I$2257)","v":4948}]
[239,"Côte d'Ivoire","CIV","AGNEBY-TIASSA","AGBOVILLE",15342,"DR M'BROU","Modérée",1343,617,1960,0,0,0,0,2,{"$f":"_xlfn.XLOOKUP($G166,[1]demo_data!$G$5:$G$2257,[1]demo_data!$I$5:$I$2257)","v":4886}]
[240,"Côte d'Ivoire","CIV","AGNEBY-TIASSA","AGBOVILLE",15342,"DR MOUTCHO","Modérée",1485,681,2166,0,0,0,0,2,{"$f":"_xlfn.XLOOKUP($G167,[1]demo_data!$G$5:$G$2257,[1]demo_data!$I$5:$I$2257)","v":5400}]
[241,"Côte d'Ivoire","CIV","AGNEBY-TIASSA","AGBOVILLE",15342,"DR OFFA","Modérée",1591,731,2322,0,0,0,0,2,{"$f":"_xlfn.XLOOKUP($G168,[1]demo_data!$G$5:$G$2257,[1]demo_data!$I$5:$I$2257)","v":5789}]
[242,"Côte d'Ivoire","CIV","AGNEBY-TIASSA","AGBOVILLE",15342,"DR SEGUIE-BOGUIE","Modérée",1763,808,2571,0,0,0,0,2,{"$f":"_xlfn.XLOOKUP($G169,[1]demo_data!$G$5:$G$2257,[1]demo_data!$I$5:$I$2257)","v":6415}]
[243,"Côte d'Ivoire","CIV","AGNEBY-TIASSA","AGBOVILLE",15342,"PMI AGBOVILLE","Modérée",6024,2764,8788,0,0,0,0,2,{"$f":"_xlfn.XLOOKUP($G170,[1]demo_data!$G$5:$G$2257,[1]demo_data!$I$5:$I$2257)","v":21917}]
[244,"Côte d'Ivoire","CIV","AGNEBY-TIASSA","AGBOVILLE",15342,"SSSU AGBOVILLE","Modérée",3605,1654,5259,0,0,0,0,2,{"$f":"_xlfn.XLOOKUP($G171,[1]demo_data!$G$5:$G$2257,[1]demo_data!$I$5:$I$2257)","v":13119}]
[283,"Côte d'Ivoire","CIV","AGNEBY-TIASSA","SIKENSI",15345,"CSR BAKANOU A","Faible",909,0,909,0,0,0,0,1,{"$f":"_xlfn.XLOOKUP($G172,[1]demo_data!$G$5:$G$2257,[1]demo_data!$I$5:$I$2257)","v":3309}]
[284,"Côte d'Ivoire","CIV","AGNEBY-TIASSA","SIKENSI",15345,"CSR BECEDI","Modérée",2863,1313,4176,0,0,0,0,2,{"$f":"_xlfn.XLOOKUP($G173,[1]demo_data!$G$5:$G$2257,[1]demo_data!$I$5:$I$2257)","v":10415}]
[285,"Côte d'Ivoire","CIV","AGNEBY-TIASSA","SIKENSI",15345,"CSR BRAFFOUEBI","Faible",658,0,658,0,0,0,0,1,{"$f":"_xlfn.XLOOKUP($G174,[1]demo_data!$G$5:$G$2257,[1]demo_data!$I$5:$I$2257)","v":2394}]
[286,"Côte d'Ivoire","CIV","AGNEBY-TIASSA","SIKENSI",15345,"CSR ELIBOU","Modérée",4527,2077,6604,0,0,0,0,2,{"$f":"_xlfn.XLOOKUP($G175,[1]demo_data!$G$5:$G$2257,[1]demo_data!$I$5:$I$2257)","v":16469}]
[287,"Côte d'Ivoire","CIV","AGNEBY-TIASSA","SIKENSI",15345,"CSR KATADJI","Modérée",1643,753,2396,0,0,0,0,2,{"$f":"_xlfn.XLOOKUP($G176,[1]demo_data!$G$5:$G$2257,[1]demo_data!$I$5:$I$2257)","v":5975}]
[288,"Côte d'Ivoire","CIV","AGNEBY-TIASSA","SIKENSI",15345,"CSR SAHUYE","Forte",2423,5559,7982,1,2423,5559,7982,3,{"$f":"_xlfn.XLOOKUP($G177,[1]demo_data!$G$5:$G$2257,[1]demo_data!$I$5:$I$2257)","v":8817}]
[289,"Côte d'Ivoire","CIV","AGNEBY-TIASSA","SIKENSI",15345,"CSR SOUKOUKRO","Modérée",570,262,832,0,0,0,0,2,{"$f":"_xlfn.XLOOKUP($G178,[1]demo_data!$G$5:$G$2257,[1]demo_data!$I$5:$I$2257)","v":2074}]
[290,"Côte d'Ivoire","CIV","AGNEBY-TIASSA","SIKENSI",15345,"CSR YAOBOU","Modérée",1445,663,2108,0,0,0,0,2,{"$f":"_xlfn.XLOOKUP($G179,[1]demo_data!$G$5:$G$2257,[1]demo_data!$I$5:$I$2257)","v":5256}]
[291,"Côte d'Ivoire","CIV","AGNEBY-TIASSA","SIKENSI",15345,"CSU GOMON","Faible",3850,0,3850,0,0,0,0,1,{"$f":"_xlfn.XLOOKUP($G180,[1]demo_data!$G$5:$G$2257,[1]demo_data!$I$5:$I$2257)","v":14004}]
[292,"Côte d'Ivoire","CIV","AGNEBY-TIASSA","SIKENSI",15345,"DR BAKANOU B","Modérée",1075,494,1569,0,0,0,0,2,{"$f":"_xlfn.XLOOKUP($G181,[1]demo_data!$G$5:$G$2257,[1]demo_data!$I$5:$I$2257)","v":3911}]
[293,"Côte d'Ivoire","CIV","AGNEBY-TIASSA","SIKENSI",15345,"HG SIKENSI","Modérée",5130,2354,7484,0,0,0,0,2,{"$f":"_xlfn.XLOOKUP($G182,[1]demo_data!$G$5:$G$2257,[1]demo_data!$I$5:$I$2257)","v":18667}]
[294,"Côte d'Ivoire","CIV","AGNEBY-TIASSA","TIASSALE",15346," BOTINDE","Modérée",2324,1066,3390,1,2324,1066,3390,2,{"$f":"_xlfn.XLOOKUP($G183,[1]demo_data!$G$5:$G$2257,[1]demo_data!$I$5:$I$2257)","v":8452}]
[295,"Côte d'Ivoire","CIV","AGNEBY-TIASSA","TIASSALE",15346,"AFFIKRO","Modérée",3637,1669,5306,1,3637,1669,5306,2,{"$f":"_xlfn.XLOOKUP($G184,[1]demo_data!$G$5:$G$2257,[1]demo_data!$I$5:$I$2257)","v":13228}]
[296,"Côte d'Ivoire","CIV","AGNEBY-TIASSA","TIASSALE",15346,"AHEREMOU 2","Modérée",695,319,1014,1,695,319,1014,2,{"$f":"_xlfn.XLOOKUP($G185,[1]demo_data!$G$5:$G$2257,[1]demo_data!$I$5:$I$2257)","v":2527}]
[297,"Côte d'Ivoire","CIV","AGNEBY-TIASSA","TIASSALE",15346,"AHIROA","Modérée",1061,486,1547,1,1061,486,1547,2,{"$f":"_xlfn.XLOOKUP($G186,[1]demo_data!$G$5:$G$2257,[1]demo_data!$I$5:$I$2257)","v":3858}]
[298,"Côte d'Ivoire","CIV","AGNEBY-TIASSA","TIASSALE",15346,"AHONDO","Modérée",1301,597,1898,1,1301,597,1898,2,{"$f":"_xlfn.XLOOKUP($G187,[1]demo_data!$G$5:$G$2257,[1]demo_data!$I$5:$I$2257)","v":4731}]
[299,"Côte d'Ivoire","CIV","AGNEBY-TIASSA","TIASSALE",15346,"AHOUAKRO","Modérée",1723,790,2513,1,1723,790,2513,2,{"$f":"_xlfn.XLOOKUP($G188,[1]demo_data!$G$5:$G$2257,[1]demo_data!$I$5:$I$2257)","v":6266}]
[300,"Côte d'Ivoire","CIV","AGNEBY-TIASSA","TIASSALE",15346,"AHOUATY","Modérée",364,167,531,1,364,167,531,2,{"$f":"_xlfn.XLOOKUP($G189,[1]demo_data!$G$5:$G$2257,[1]demo_data!$I$5:$I$2257)","v":1323}]
[301,"Côte d'Ivoire","CIV","AGNEBY-TIASSA","TIASSALE",15346,"AMANI MENOU","Modérée",1192,547,1739,1,1192,547,1739,2,{"$f":"_xlfn.XLOOKUP($G190,[1]demo_data!$G$5:$G$2257,[1]demo_data!$I$5:$I$2257)","v":4335}]
[302,"Côte d'Ivoire","CIV","AGNEBY-TIASSA","TIASSALE",15346,"ATTIGUEI","Modérée",2327,1068,3395,1,2327,1068,3395,2,{"$f":"_xlfn.XLOOKUP($G191,[1]demo_data!$G$5:$G$2257,[1]demo_data!$I$5:$I$2257)","v":8463}]
[303,"Côte d'Ivoire","CIV","AGNEBY-TIASSA","TIASSALE",15346,"BINAO","Modérée",4196,1926,6122,1,4196,1926,6122,2,{"$f":"_xlfn.XLOOKUP($G192,[1]demo_data!$G$5:$G$2257,[1]demo_data!$I$5:$I$2257)","v":15263}]
[304,"Côte d'Ivoire","CIV","AGNEBY-TIASSA","TIASSALE",15346,"BODO","Modérée",1747,801,2548,1,1747,801,2548,2,{"$f":"_xlfn.XLOOKUP($G193,[1]demo_data!$G$5:$G$2257,[1]demo_data!$I$5:$I$2257)","v":6353}]
[305,"Côte d'Ivoire","CIV","AGNEBY-TIASSA","TIASSALE",15346,"BOUSSOUKRO","Modérée",2263,1038,3301,1,2263,1038,3301,2,{"$f":"_xlfn.XLOOKUP($G194,[1]demo_data!$G$5:$G$2257,[1]demo_data!$I$5:$I$2257)","v":8232}]
[306,"Côte d'Ivoire","CIV","AGNEBY-TIASSA","TIASSALE",15346,"BROUBROU","Modérée",2467,1132,3599,1,2467,1132,3599,2,{"$f":"_xlfn.XLOOKUP($G195,[1]demo_data!$G$5:$G$2257,[1]demo_data!$I$5:$I$2257)","v":8969}]
[307,"Côte d'Ivoire","CIV","AGNEBY-TIASSA","TIASSALE",15346,"DENISEKRO","Modérée",936,429,1365,1,936,429,1365,2,{"$f":"_xlfn.XLOOKUP($G196,[1]demo_data!$G$5:$G$2257,[1]demo_data!$I$5:$I$2257)","v":3403}]
[308,"Côte d'Ivoire","CIV","AGNEBY-TIASSA","TIASSALE",15346,"DISTRICT BASE","Modérée",763,351,1114,1,763,351,1114,2,{"$f":"_xlfn.XLOOKUP($G197,[1]demo_data!$G$5:$G$2257,[1]demo_data!$I$5:$I$2257)","v":2778}]
[309,"Côte d'Ivoire","CIV","AGNEBY-TIASSA","TIASSALE",15346,"ETICOON","Modérée",2193,1005,3198,1,2193,1005,3198,2,{"$f":"_xlfn.XLOOKUP($G198,[1]demo_data!$G$5:$G$2257,[1]demo_data!$I$5:$I$2257)","v":7974}]
[310,"Côte d'Ivoire","CIV","AGNEBY-TIASSA","TIASSALE",15346,"HG TAABO","Modérée",3753,1722,5475,1,3753,1722,5475,2,{"$f":"_xlfn.XLOOKUP($G199,[1]demo_data!$G$5:$G$2257,[1]demo_data!$I$5:$I$2257)","v":13648}]
[311,"Côte d'Ivoire","CIV","AGNEBY-TIASSA","TIASSALE",15346,"KASSASSO","Modérée",672,309,981,1,672,309,981,2,{"$f":"_xlfn.XLOOKUP($G200,[1]demo_data!$G$5:$G$2257,[1]demo_data!$I$5:$I$2257)","v":2445}]
[312,"Côte d'Ivoire","CIV","AGNEBY-TIASSA","TIASSALE",15346,"KATCHENOU","Modérée",259,119,378,1,259,119,378,2,{"$f":"_xlfn.XLOOKUP($G201,[1]demo_data!$G$5:$G$2257,[1]demo_data!$I$5:$I$2257)","v":940}]
[313,"Côte d'Ivoire","CIV","AGNEBY-TIASSA","TIASSALE",15346,"KONDIEBOUMAN","Modérée",3092,1419,4511,1,3092,1419,4511,2,{"$f":"_xlfn.XLOOKUP($G202,[1]demo_data!$G$5:$G$2257,[1]demo_data!$I$5:$I$2257)","v":11245}]
[314,"Côte d'Ivoire","CIV","AGNEBY-TIASSA","TIASSALE",15346,"KOTIESSOU","Modérée",705,323,1028,1,705,323,1028,2,{"$f":"_xlfn.XLOOKUP($G203,[1]demo_data!$G$5:$G$2257,[1]demo_data!$I$5:$I$2257)","v":2564}]
[315,"Côte d'Ivoire","CIV","AGNEBY-TIASSA","TIASSALE",15346,"LELEBLE","Modérée",1451,666,2117,1,1451,666,2117,2,{"$f":"_xlfn.XLOOKUP($G204,[1]demo_data!$G$5:$G$2257,[1]demo_data!$I$5:$I$2257)","v":5276}]
[316,"Côte d'Ivoire","CIV","AGNEBY-TIASSA","TIASSALE",15346,"MAC TIASSALE","Modérée",231,106,337,1,231,106,337,2,{"$f":"_xlfn.XLOOKUP($G205,[1]demo_data!$G$5:$G$2257,[1]demo_data!$I$5:$I$2257)","v":840}]
[317,"Côte d'Ivoire","CIV","AGNEBY-TIASSA","TIASSALE",15346,"M'BRIMBO","Modérée",1692,777,2469,1,1692,777,2469,2,{"$f":"_xlfn.XLOOKUP($G206,[1]demo_data!$G$5:$G$2257,[1]demo_data!$I$5:$I$2257)","v":6153}]
[318,"Côte d'Ivoire","CIV","AGNEBY-TIASSA","TIASSALE",15346,"MOROKRO","Modérée",4656,2136,6792,1,4656,2136,6792,2,{"$f":"_xlfn.XLOOKUP($G207,[1]demo_data!$G$5:$G$2257,[1]demo_data!$I$5:$I$2257)","v":16932}]
[319,"Côte d'Ivoire","CIV","AGNEBY-TIASSA","TIASSALE",15346,"N'DENOU","Modérée",812,372,1184,1,812,372,1184,2,{"$f":"_xlfn.XLOOKUP($G208,[1]demo_data!$G$5:$G$2257,[1]demo_data!$I$5:$I$2257)","v":2951}]
[320,"Côte d'Ivoire","CIV","AGNEBY-TIASSA","TIASSALE",15346,"N'DOUCI","Modérée",11906,5462,17368,1,11906,5462,17368,2,{"$f":"_xlfn.XLOOKUP($G209,[1]demo_data!$G$5:$G$2257,[1]demo_data!$I$5:$I$2257)","v":43299}]
[321,"Côte d'Ivoire","CIV","AGNEBY-TIASSA","TIASSALE",15346,"N'ZIANOUAN","Modérée",4088,1876,5964,1,4088,1876,5964,2,{"$f":"_xlfn.XLOOKUP($G210,[1]demo_data!$G$5:$G$2257,[1]demo_data!$I$5:$I$2257)","v":14864}]
[322,"Côte d'Ivoire","CIV","AGNEBY-TIASSA","TIASSALE",15346,"PACOBO","Modérée",1948,894,2842,1,1948,894,2842,2,{"$f":"_xlfn.XLOOKUP($G211,[1]demo_data!$G$5:$G$2257,[1]demo_data!$I$5:$I$2257)","v":7085}]
[323,"Côte d'Ivoire","CIV","AGNEBY-TIASSA","TIASSALE",15346,"PMI TIASSALE","Modérée",7458,3422,10880,1,7458,3422,10880,2,{"$f":"_xlfn.XLOOKUP($G212,[1]demo_data!$G$5:$G$2257,[1]demo_data!$I$5:$I$2257)","v":27124}]
[324,"Côte d'Ivoire","CIV","AGNEBY-TIASSA","TIASSALE",15346,"SINGROBO","Modérée",925,425,1350,1,925,425,1350,2,{"$f":"_xlfn.XLOOKUP($G213,[1]demo_data!$G$5:$G$2257,[1]demo_data!$I$5:$I$2257)","v":3366}]
[325,"Côte d'Ivoire","CIV","AGNEBY-TIASSA","TIASSALE",15346,"SOKROGBO VILLAGE","Modérée",2026,930,2956,1,2026,930,2956,2,{"$f":"_xlfn.XLOOKUP($G214,[1]demo_data!$G$5:$G$2257,[1]demo_data!$I$5:$I$2257)","v":7370}]
[326,"Côte d'Ivoire","CIV","AGNEBY-TIASSA","TIASSALE",15346,"TOKOHIRI","Modérée",729,334,1063,1,729,334,1063,2,{"$f":"_xlfn.XLOOKUP($G215,[1]demo_data!$G$5:$G$2257,[1]demo_data!$I$5:$I$2257)","v":2651}]
[1444,"Côte d'Ivoire","CIV","BAFING","KORO",15442,"CSU BOOKO","Faible",3618,0,3618,1,3618,0,3618,1,{"$f":"_xlfn.XLOOKUP($G216,[1]demo_data!$G$5:$G$2257,[1]demo_data!$I$5:$I$2257)","v":9539}]
[1445,"Côte d'Ivoire","CIV","BAFING","KORO",15442,"CSU BOROTOU","Modérée",2871,1317,4188,1,2871,1317,4188,2,{"$f":"_xlfn.XLOOKUP($G217,[1]demo_data!$G$5:$G$2257,[1]demo_data!$I$5:$I$2257)","v":7567}]
[1454,"Côte d'Ivoire","CIV","BAFING","KORO",15442,"DR KOFFINA","Faible",1890,0,1890,1,1890,0,1890,1,{"$f":"_xlfn.XLOOKUP($G218,[1]demo_data!$G$5:$G$2257,[1]demo_data!$I$5:$I$2257)","v":4982}]
[1456,"Côte d'Ivoire","CIV","BAFING","KORO",15442,"DR MOAMBASSO","Faible",1713,0,1713,1,1713,0,1713,1,{"$f":"_xlfn.XLOOKUP($G219,[1]demo_data!$G$5:$G$2257,[1]demo_data!$I$5:$I$2257)","v":4517}]
[1460,"Côte d'Ivoire","CIV","BAFING","KORO",15442,"HG KORO","Faible",3800,0,3800,1,3800,0,3800,1,{"$f":"_xlfn.XLOOKUP($G220,[1]demo_data!$G$5:$G$2257,[1]demo_data!$I$5:$I$2257)","v":10018}]
[1461,"Côte d'Ivoire","CIV","BAFING","KORO",15442,"MR BONTOU","Faible",5802,0,5802,1,5802,0,5802,1,{"$f":"_xlfn.XLOOKUP($G221,[1]demo_data!$G$5:$G$2257,[1]demo_data!$I$5:$I$2257)","v":15294}]
[1433,"Côte d'Ivoire","CIV","BAFING","OUANINOU",15443,"CSR FERENTELLA","Forte",569,1305,1874,1,569,1305,1874,3,{"$f":"_xlfn.XLOOKUP($G222,[1]demo_data!$G$5:$G$2257,[1]demo_data!$I$5:$I$2257)","v":2079}]
[1435,"Côte d'Ivoire","CIV","BAFING","OUANINOU",15443,"CSR GBELO","Forte",634,1456,2090,1,634,1456,2090,3,{"$f":"_xlfn.XLOOKUP($G223,[1]demo_data!$G$5:$G$2257,[1]demo_data!$I$5:$I$2257)","v":2318}]
[1437,"Côte d'Ivoire","CIV","BAFING","OUANINOU",15443,"CSR MANDOUGOU","Modérée",503,231,734,1,503,231,734,2,{"$f":"_xlfn.XLOOKUP($G224,[1]demo_data!$G$5:$G$2257,[1]demo_data!$I$5:$I$2257)","v":1839}]
[1439,"Côte d'Ivoire","CIV","BAFING","OUANINOU",15443,"CSR SABOUDOUGOU","Forte",1392,3195,4587,1,1392,3195,4587,3,{"$f":"_xlfn.XLOOKUP($G225,[1]demo_data!$G$5:$G$2257,[1]demo_data!$I$5:$I$2257)","v":5089}]
[1440,"Côte d'Ivoire","CIV","BAFING","OUANINOU",15443,"CSR SANTA","Forte",1427,3275,4702,1,1427,3275,4702,3,{"$f":"_xlfn.XLOOKUP($G226,[1]demo_data!$G$5:$G$2257,[1]demo_data!$I$5:$I$2257)","v":5215}]
[1442,"Côte d'Ivoire","CIV","BAFING","OUANINOU",15443,"CSR TIAHOUE","Forte",1291,2961,4252,1,1291,2961,4252,3,{"$f":"_xlfn.XLOOKUP($G227,[1]demo_data!$G$5:$G$2257,[1]demo_data!$I$5:$I$2257)","v":4717}]
[1448,"Côte d'Ivoire","CIV","BAFING","OUANINOU",15443,"CSU KOONAN","Forte",2012,4617,6629,1,2012,4617,6629,3,{"$f":"_xlfn.XLOOKUP($G228,[1]demo_data!$G$5:$G$2257,[1]demo_data!$I$5:$I$2257)","v":7353}]
[1449,"Côte d'Ivoire","CIV","BAFING","OUANINOU",15443,"CSU OUANINOU","Forte",3982,9133,13115,1,3982,9133,13115,3,{"$f":"_xlfn.XLOOKUP($G229,[1]demo_data!$G$5:$G$2257,[1]demo_data!$I$5:$I$2257)","v":14548}]
[1452,"Côte d'Ivoire","CIV","BAFING","OUANINOU",15443,"DR GANHOUE","Forte",955,2192,3147,1,955,2192,3147,3,{"$f":"_xlfn.XLOOKUP($G230,[1]demo_data!$G$5:$G$2257,[1]demo_data!$I$5:$I$2257)","v":3490}]
[1453,"Côte d'Ivoire","CIV","BAFING","OUANINOU",15443,"DR GOUEKAN","Modérée",1247,573,1820,1,1247,573,1820,2,{"$f":"_xlfn.XLOOKUP($G231,[1]demo_data!$G$5:$G$2257,[1]demo_data!$I$5:$I$2257)","v":4556}]
[1459,"Côte d'Ivoire","CIV","BAFING","OUANINOU",15443,"DR ZABANANGORO","Forte",1089,2498,3587,1,1089,2498,3587,3,{"$f":"_xlfn.XLOOKUP($G232,[1]demo_data!$G$5:$G$2257,[1]demo_data!$I$5:$I$2257)","v":3978}]
[1432,"Côte d'Ivoire","CIV","BAFING","TOUBA",15441,"CSR DIOMAN","Faible",1312,0,1312,1,1312,0,1312,1,{"$f":"_xlfn.XLOOKUP($G233,[1]demo_data!$G$5:$G$2257,[1]demo_data!$I$5:$I$2257)","v":5329}]
[1434,"Côte d'Ivoire","CIV","BAFING","TOUBA",15441,"CSR FOUENAN","Modérée",1450,665,2115,1,1450,665,2115,2,{"$f":"_xlfn.XLOOKUP($G234,[1]demo_data!$G$5:$G$2257,[1]demo_data!$I$5:$I$2257)","v":5888}]
[1436,"Côte d'Ivoire","CIV","BAFING","TOUBA",15441,"CSR MADINA","Modérée",727,333,1060,1,727,333,1060,2,{"$f":"_xlfn.XLOOKUP($G235,[1]demo_data!$G$5:$G$2257,[1]demo_data!$I$5:$I$2257)","v":2953}]
[1438,"Côte d'Ivoire","CIV","BAFING","TOUBA",15441,"CSR NIOKOSSO","Modérée",1830,839,2669,1,1830,839,2669,2,{"$f":"_xlfn.XLOOKUP($G236,[1]demo_data!$G$5:$G$2257,[1]demo_data!$I$5:$I$2257)","v":7433}]
[1441,"Côte d'Ivoire","CIV","BAFING","TOUBA",15441,"CSR SOKOURALA","Modérée",741,340,1081,1,741,340,1081,2,{"$f":"_xlfn.XLOOKUP($G237,[1]demo_data!$G$5:$G$2257,[1]demo_data!$I$5:$I$2257)","v":3010}]
[1443,"Côte d'Ivoire","CIV","BAFING","TOUBA",15441,"CSR TIENKO","Forte",1076,2469,3545,1,1076,2469,3545,3,{"$f":"_xlfn.XLOOKUP($G238,[1]demo_data!$G$5:$G$2257,[1]demo_data!$I$5:$I$2257)","v":4370}]
[1446,"Côte d'Ivoire","CIV","BAFING","TOUBA",15441,"CSU FOUNGBESSO","Modérée",1699,780,2479,1,1699,780,2479,2,{"$f":"_xlfn.XLOOKUP($G239,[1]demo_data!$G$5:$G$2257,[1]demo_data!$I$5:$I$2257)","v":6901}]
[1447,"Côte d'Ivoire","CIV","BAFING","TOUBA",15441,"CSU GUINTEGUELA","Faible",1987,0,1987,1,1987,0,1987,1,{"$f":"_xlfn.XLOOKUP($G240,[1]demo_data!$G$5:$G$2257,[1]demo_data!$I$5:$I$2257)","v":8071}]
[1450,"Côte d'Ivoire","CIV","BAFING","TOUBA",15441,"DR BAKANDESSO","Modérée",2329,1068,3397,1,2329,1068,3397,2,{"$f":"_xlfn.XLOOKUP($G241,[1]demo_data!$G$5:$G$2257,[1]demo_data!$I$5:$I$2257)","v":9459}]
[1451,"Côte d'Ivoire","CIV","BAFING","TOUBA",15441,"DR DOH","Modérée",1130,518,1648,1,1130,518,1648,2,{"$f":"_xlfn.XLOOKUP($G242,[1]demo_data!$G$5:$G$2257,[1]demo_data!$I$5:$I$2257)","v":4588}]
[1455,"Côte d'Ivoire","CIV","BAFING","TOUBA",15441,"DR MAHANDOUGOU","Modérée",790,362,1152,1,790,362,1152,2,{"$f":"_xlfn.XLOOKUP($G243,[1]demo_data!$G$5:$G$2257,[1]demo_data!$I$5:$I$2257)","v":3209}]
[1457,"Côte d'Ivoire","CIV","BAFING","TOUBA",15441,"DR OUEBASSO","Faible",1495,0,1495,1,1495,0,1495,1,{"$f":"_xlfn.XLOOKUP($G244,[1]demo_data!$G$5:$G$2257,[1]demo_data!$I$5:$I$2257)","v":6071}]
[1458,"Côte d'Ivoire","CIV","BAFING","TOUBA",15441,"DR SILAKORO","Modérée",781,358,1139,1,781,358,1139,2,{"$f":"_xlfn.XLOOKUP($G245,[1]demo_data!$G$5:$G$2257,[1]demo_data!$I$5:$I$2257)","v":3170}]
[1462,"Côte d'Ivoire","CIV","BAFING","TOUBA",15441,"PMI","Forte",7105,16300,23405,1,7105,16300,23405,3,{"$f":"_xlfn.XLOOKUP($G246,[1]demo_data!$G$5:$G$2257,[1]demo_data!$I$5:$I$2257)","v":34689}]
[1463,"Côte d'Ivoire","CIV","BAFING","TOUBA",15441,"SOKOURA 2","Modérée",1634,750,2384,1,1634,750,2384,2,{"$f":"_xlfn.XLOOKUP($G247,[1]demo_data!$G$5:$G$2257,[1]demo_data!$I$5:$I$2257)","v":6639}]
[1773,"Côte d'Ivoire","CIV","BAGOUE","BOUNDIALI",15449,"BAYA","Faible",1371,0,1371,1,1371,0,1371,1,{"$f":"_xlfn.XLOOKUP($G248,[1]demo_data!$G$5:$G$2257,[1]demo_data!$I$5:$I$2257)","v":4707}]
[1775,"Côte d'Ivoire","CIV","BAGOUE","BOUNDIALI",15449,"BOUNDIALI","Faible",14730,0,14730,1,14730,0,14730,1,{"$f":"_xlfn.XLOOKUP($G249,[1]demo_data!$G$5:$G$2257,[1]demo_data!$I$5:$I$2257)","v":50586}]
[1778,"Côte d'Ivoire","CIV","BAGOUE","BOUNDIALI",15449,"DIOGO","Faible",943,0,943,1,943,0,943,1,{"$f":"_xlfn.XLOOKUP($G250,[1]demo_data!$G$5:$G$2257,[1]demo_data!$I$5:$I$2257)","v":3237}]
[1780,"Côte d'Ivoire","CIV","BAGOUE","BOUNDIALI",15449,"FODIO","Non endémique",0,0,0,0,0,0,0,0,{"$f":"_xlfn.XLOOKUP($G251,[1]demo_data!$G$5:$G$2257,[1]demo_data!$I$5:$I$2257)","v":5855}]
[1781,"Côte d'Ivoire","CIV","BAGOUE","BOUNDIALI",15449,"GANAONI","Non endémique",0,0,0,0,0,0,0,0,{"$f":"_xlfn.XLOOKUP($G252,[1]demo_data!$G$5:$G$2257,[1]demo_data!$I$5:$I$2257)","v":8316}]
[1782,"Côte d'Ivoire","CIV","BAGOUE","BOUNDIALI",15449,"GBEMOU","Faible",439,0,439,1,439,0,439,1,{"$f":"_xlfn.XLOOKUP($G253,[1]demo_data!$G$5:$G$2257,[1]demo_data!$I$5:$I$2257)","v":1507}]
[1784,"Côte d'Ivoire","CIV","BAGOUE","BOUNDIALI",15449,"KASSERE","Non endémique",0,0,0,0,0,0,0,0,{"$f":"_xlfn.XLOOKUP($G254,[1]demo_data!$G$5:$G$2257,[1]demo_data!$I$5:$I$2257)","v":14712}]
[1785,"Côte d'Ivoire","CIV","BAGOUE","BOUNDIALI",15449,"KEBI","Faible",2160,0,2160,1,2160,0,2160,1,{"$f":"_xlfn.XLOOKUP($G255,[1]demo_data!$G$5:$G$2257,[1]demo_data!$I$5:$I$2257)","v":7416}]
[1786,"Côte d'Ivoire","CIV","BAGOUE","BOUNDIALI",15449,"KELEGBALA","Faible",1129,0,1129,1,1129,0,1129,1,{"$f":"_xlfn.XLOOKUP($G256,[1]demo_data!$G$5:$G$2257,[1]demo_data!$I$5:$I$2257)","v":3877}]
[1790,"Côte d'Ivoire","CIV","BAGOUE","BOUNDIALI",15449,"LAFI","Faible",921,0,921,1,921,0,921,1,{"$f":"_xlfn.XLOOKUP($G257,[1]demo_data!$G$5:$G$2257,[1]demo_data!$I$5:$I$2257)","v":3164}]
[1791,"Côte d'Ivoire","CIV","BAGOUE","BOUNDIALI",15449,"LANDIOUGOU","Faible",2142,0,2142,1,2142,0,2142,1,{"$f":"_xlfn.XLOOKUP($G258,[1]demo_data!$G$5:$G$2257,[1]demo_data!$I$5:$I$2257)","v":7358}]
[1795,"Côte d'Ivoire","CIV","BAGOUE","BOUNDIALI",15449,"NIEMPURGUE","Faible",1422,0,1422,1,1422,0,1422,1,{"$f":"_xlfn.XLOOKUP($G259,[1]demo_data!$G$5:$G$2257,[1]demo_data!$I$5:$I$2257)","v":4884}]
[1796,"Côte d'Ivoire","CIV","BAGOUE","BOUNDIALI",15449,"NONDARA","Non endémique",0,0,0,0,0,0,0,0,{"$f":"_xlfn.XLOOKUP($G260,[1]demo_data!$G$5:$G$2257,[1]demo_data!$I$5:$I$2257)","v":4448}]
[1797,"Côte d'Ivoire","CIV","BAGOUE","BOUNDIALI",15449,"OUAZOMON","Faible",1081,0,1081,1,1081,0,1081,1,{"$f":"_xlfn.XLOOKUP($G261,[1]demo_data!$G$5:$G$2257,[1]demo_data!$I$5:$I$2257)","v":3713}]
[1798,"Côte d'Ivoire","CIV","BAGOUE","BOUNDIALI",15449,"PONONDOUGOU","Faible",1647,0,1647,1,1647,0,1647,1,{"$f":"_xlfn.XLOOKUP($G262,[1]demo_data!$G$5:$G$2257,[1]demo_data!$I$5:$I$2257)","v":5656}]
[1802,"Côte d'Ivoire","CIV","BAGOUE","BOUNDIALI",15449,"SIEMPURGO","Faible",1518,0,1518,1,1518,0,1518,1,{"$f":"_xlfn.XLOOKUP($G263,[1]demo_data!$G$5:$G$2257,[1]demo_data!$I$5:$I$2257)","v":5214}]
[1803,"Côte d'Ivoire","CIV","BAGOUE","BOUNDIALI",15449,"SISSEDOUGOU","Faible",1458,0,1458,1,1458,0,1458,1,{"$f":"_xlfn.XLOOKUP($G264,[1]demo_data!$G$5:$G$2257,[1]demo_data!$I$5:$I$2257)","v":5008}]
[1804,"Côte d'Ivoire","CIV","BAGOUE","BOUNDIALI",15449,"TIASSO","Faible",1313,0,1313,1,1313,0,1313,1,{"$f":"_xlfn.XLOOKUP($G265,[1]demo_data!$G$5:$G$2257,[1]demo_data!$I$5:$I$2257)","v":4510}]
[1808,"Côte d'Ivoire","CIV","BAGOUE","BOUNDIALI",15449,"TOMBOUGOU","Faible",866,0,866,1,866,0,866,1,{"$f":"_xlfn.XLOOKUP($G266,[1]demo_data!$G$5:$G$2257,[1]demo_data!$I$5:$I$2257)","v":2972}]
[1812,"Côte d'Ivoire","CIV","BAGOUE","BOUNDIALI",15449,"YELE","Faible",1269,0,1269,1,1269,0,1269,1,{"$f":"_xlfn.XLOOKUP($G267,[1]demo_data!$G$5:$G$2257,[1]demo_data!$I$5:$I$2257)","v":4357}]
[1774,"Côte d'Ivoire","CIV","BAGOUE","KOUTO",15450,"BLESSEGUE","Faible",1803,0,1803,1,1803,0,1803,1,{"$f":"_xlfn.XLOOKUP($G268,[1]demo_data!$G$5:$G$2257,[1]demo_data!$I$5:$I$2257)","v":5918}]
[1776,"Côte d'Ivoire","CIV","BAGOUE","KOUTO",15450,"BOYO","Faible",2411,0,2411,1,2411,0,2411,1,{"$f":"_xlfn.XLOOKUP($G269,[1]demo_data!$G$5:$G$2257,[1]demo_data!$I$5:$I$2257)","v":7914}]
[1777,"Côte d'Ivoire","CIV","BAGOUE","KOUTO",15450,"DEMBASSO","Non endémique",0,0,0,0,0,0,0,0,{"$f":"_xlfn.XLOOKUP($G270,[1]demo_data!$G$5:$G$2257,[1]demo_data!$I$5:$I$2257)","v":6985}]
[1779,"Côte d'Ivoire","CIV","BAGOUE","KOUTO",15450,"DOUASSO","Faible",1227,0,1227,1,1227,0,1227,1,{"$f":"_xlfn.XLOOKUP($G271,[1]demo_data!$G$5:$G$2257,[1]demo_data!$I$5:$I$2257)","v":4027}]
[1783,"Côte d'Ivoire","CIV","BAGOUE","KOUTO",15450,"GBON","Faible",4032,0,4032,1,4032,0,4032,1,{"$f":"_xlfn.XLOOKUP($G272,[1]demo_data!$G$5:$G$2257,[1]demo_data!$I$5:$I$2257)","v":13236}]
[1787,"Côte d'Ivoire","CIV","BAGOUE","KOUTO",15450,"KOLIA","Non endémique",0,0,0,0,0,0,0,0,{"$f":"_xlfn.XLOOKUP($G273,[1]demo_data!$G$5:$G$2257,[1]demo_data!$I$5:$I$2257)","v":15839}]
[1788,"Côte d'Ivoire","CIV","BAGOUE","KOUTO",15450,"KORO","Faible",1549,0,1549,1,1549,0,1549,1,{"$f":"_xlfn.XLOOKUP($G274,[1]demo_data!$G$5:$G$2257,[1]demo_data!$I$5:$I$2257)","v":5085}]
[1789,"Côte d'Ivoire","CIV","BAGOUE","KOUTO",15450,"KOUTO","Faible",4654,0,4654,1,4654,0,4654,1,{"$f":"_xlfn.XLOOKUP($G275,[1]demo_data!$G$5:$G$2257,[1]demo_data!$I$5:$I$2257)","v":15276}]
[1792,"Côte d'Ivoire","CIV","BAGOUE","KOUTO",15450,"MAHALE","Faible",1788,0,1788,1,1788,0,1788,1,{"$f":"_xlfn.XLOOKUP($G276,[1]demo_data!$G$5:$G$2257,[1]demo_data!$I$5:$I$2257)","v":5869}]
[1793,"Côte d'Ivoire","CIV","BAGOUE","KOUTO",15450,"MOUGNINI","Faible",1266,0,1266,1,1266,0,1266,1,{"$f":"_xlfn.XLOOKUP($G277,[1]demo_data!$G$5:$G$2257,[1]demo_data!$I$5:$I$2257)","v":4156}]
[1794,"Côte d'Ivoire","CIV","BAGOUE","KOUTO",15450,"N'DEOU","Faible",1392,0,1392,1,1392,0,1392,1,{"$f":"_xlfn.XLOOKUP($G278,[1]demo_data!$G$5:$G$2257,[1]demo_data!$I$5:$I$2257)","v":4569}]
[1799,"Côte d'Ivoire","CIV","BAGOUE","KOUTO",15450,"PORTIO","Faible",1364,0,1364,1,1364,0,1364,1,{"$f":"_xlfn.XLOOKUP($G279,[1]demo_data!$G$5:$G$2257,[1]demo_data!$I$5:$I$2257)","v":4475}]
[1800,"Côte d'Ivoire","CIV","BAGOUE","KOUTO",15450,"SAHANLA","Faible",2833,0,2833,1,2833,0,2833,1,{"$f":"_xlfn.XLOOKUP($G280,[1]demo_data!$G$5:$G$2257,[1]demo_data!$I$5:$I$2257)","v":9297}]
[1801,"Côte d'Ivoire","CIV","BAGOUE","KOUTO",15450,"SANAHOULE","Faible",594,0,594,1,594,0,594,1,{"$f":"_xlfn.XLOOKUP($G281,[1]demo_data!$G$5:$G$2257,[1]demo_data!$I$5:$I$2257)","v":1948}]
[1805,"Côte d'Ivoire","CIV","BAGOUE","KOUTO",15450,"TINASSO","Faible",1452,0,1452,1,1452,0,1452,1,{"$f":"_xlfn.XLOOKUP($G282,[1]demo_data!$G$5:$G$2257,[1]demo_data!$I$5:$I$2257)","v":4767}]
[1806,"Côte d'Ivoire","CIV","BAGOUE","KOUTO",15450,"TINDARA","Faible",2287,0,2287,1,2287,0,2287,1,{"$f":"_xlfn.XLOOKUP($G283,[1]demo_data!$G$5:$G$2257,[1]demo_data!$I$5:$I$2257)","v":7507}]
[1807,"Côte d'Ivoire","CIV","BAGOUE","KOUTO",15450,"TIOGO","Faible",1657,0,1657,1,1657,0,1657,1,{"$f":"_xlfn.XLOOKUP($G284,[1]demo_data!$G$5:$G$2257,[1]demo_data!$I$5:$I$2257)","v":5440}]
[1809,"Côte d'Ivoire","CIV","BAGOUE","KOUTO",15450,"TOUNVRE","Faible",1837,0,1837,1,1837,0,1837,1,{"$f":"_xlfn.XLOOKUP($G285,[1]demo_data!$G$5:$G$2257,[1]demo_data!$I$5:$I$2257)","v":6029}]
[1810,"Côte d'Ivoire","CIV","BAGOUE","KOUTO",15450,"WOMON","Faible",819,0,819,1,819,0,819,1,{"$f":"_xlfn.XLOOKUP($G286,[1]demo_data!$G$5:$G$2257,[1]demo_data!$I$5:$I$2257)","v":2686}]
[1811,"Côte d'Ivoire","CIV","BAGOUE","KOUTO",15450,"WORA","Faible",2324,0,2324,1,2324,0,2324,1,{"$f":"_xlfn.XLOOKUP($G287,[1]demo_data!$G$5:$G$2257,[1]demo_data!$I$5:$I$2257)","v":7627}]
[1813,"Côte d'Ivoire","CIV","BAGOUE","KOUTO",15450,"ZAGUINASSO","Non endémique",0,0,0,0,0,0,0,0,{"$f":"_xlfn.XLOOKUP($G288,[1]demo_data!$G$5:$G$2257,[1]demo_data!$I$5:$I$2257)","v":8309}]
[1951,"Côte d'Ivoire","CIV","BAGOUE","TENGRELA",15401,"BOLONA","Non endémique",0,0,0,0,0,0,0,0,{"$f":"_xlfn.XLOOKUP($G289,[1]demo_data!$G$5:$G$2257,[1]demo_data!$I$5:$I$2257)","v":6734}]
[1952,"Côte d'Ivoire","CIV","BAGOUE","TENGRELA",15401,"DEBETE","Faible",1209,0,1209,1,1209,0,1209,1,{"$f":"_xlfn.XLOOKUP($G290,[1]demo_data!$G$5:$G$2257,[1]demo_data!$I$5:$I$2257)","v":4071}]
[1953,"Côte d'Ivoire","CIV","BAGOUE","TENGRELA",15401,"DIAMAKANI","Faible",1976,0,1976,1,1976,0,1976,1,{"$f":"_xlfn.XLOOKUP($G291,[1]demo_data!$G$5:$G$2257,[1]demo_data!$I$5:$I$2257)","v":6656}]
[1954,"Côte d'Ivoire","CIV","BAGOUE","TENGRELA",15401,"DOUGBA NOUVEAU","Non endémique",0,0,0,0,0,0,0,0,{"$f":"_xlfn.XLOOKUP($G292,[1]demo_data!$G$5:$G$2257,[1]demo_data!$I$5:$I$2257)","v":3148}]
[1955,"Côte d'Ivoire","CIV","BAGOUE","TENGRELA",15401,"HG TENGRELA","Faible",5988,0,5988,1,5988,0,5988,1,{"$f":"_xlfn.XLOOKUP($G293,[1]demo_data!$G$5:$G$2257,[1]demo_data!$I$5:$I$2257)","v":20171}]
[1956,"Côte d'Ivoire","CIV","BAGOUE","TENGRELA",15401,"KANAKONO","Non endémique",0,0,0,0,0,0,0,0,{"$f":"_xlfn.XLOOKUP($G294,[1]demo_data!$G$5:$G$2257,[1]demo_data!$I$5:$I$2257)","v":15430}]
[1957,"Côte d'Ivoire","CIV","BAGOUE","TENGRELA",15401,"KOULOUSSON","Faible",822,0,822,1,822,0,822,1,{"$f":"_xlfn.XLOOKUP($G295,[1]demo_data!$G$5:$G$2257,[1]demo_data!$I$5:$I$2257)","v":2769}]
[1958,"Côte d'Ivoire","CIV","BAGOUE","TENGRELA",15401,"LOMARA","Faible",1946,0,1946,1,1946,0,1946,1,{"$f":"_xlfn.XLOOKUP($G296,[1]demo_data!$G$5:$G$2257,[1]demo_data!$I$5:$I$2257)","v":6556}]
[1959,"Côte d'Ivoire","CIV","BAGOUE","TENGRELA",15401,"NEGUEPIE","Faible",3762,0,3762,1,3762,0,3762,1,{"$f":"_xlfn.XLOOKUP($G297,[1]demo_data!$G$5:$G$2257,[1]demo_data!$I$5:$I$2257)","v":12675}]
[1960,"Côte d'Ivoire","CIV","BAGOUE","TENGRELA",15401,"PAPARA","Non endémique",0,0,0,0,0,0,0,0,{"$f":"_xlfn.XLOOKUP($G298,[1]demo_data!$G$5:$G$2257,[1]demo_data!$I$5:$I$2257)","v":7378}]
[1961,"Côte d'Ivoire","CIV","BAGOUE","TENGRELA",15401,"PMI","Faible",12353,0,12353,1,12353,0,12353,1,{"$f":"_xlfn.XLOOKUP($G299,[1]demo_data!$G$5:$G$2257,[1]demo_data!$I$5:$I$2257)","v":34689}]
[1962,"Côte d'Ivoire","CIV","BAGOUE","TENGRELA",15401,"SAN","Faible",2235,0,2235,1,2235,0,2235,1,{"$f":"_xlfn.XLOOKUP($G300,[1]demo_data!$G$5:$G$2257,[1]demo_data!$I$5:$I$2257)","v":7529}]
[1963,"Côte d'Ivoire","CIV","BAGOUE","TENGRELA",15401,"ZANASSO","Faible",914,0,914,1,914,0,914,1,{"$f":"_xlfn.XLOOKUP($G301,[1]demo_data!$G$5:$G$2257,[1]demo_data!$I$5:$I$2257)","v":3080}]
[327,"Côte d'Ivoire","CIV","BELIER","DIDIEVI",15347,"ALLOKOKRO","Faible",680,0,680,0,0,0,0,1,{"$f":"_xlfn.XLOOKUP($G302,[1]demo_data!$G$5:$G$2257,[1]demo_data!$I$5:$I$2257)","v":2258}]
[328,"Côte d'Ivoire","CIV","BELIER","DIDIEVI",15347,"ATTEKRO","Faible",172,0,172,0,0,0,0,1,{"$f":"_xlfn.XLOOKUP($G303,[1]demo_data!$G$5:$G$2257,[1]demo_data!$I$5:$I$2257)","v":573}]
[329,"Côte d'Ivoire","CIV","BELIER","DIDIEVI",15347,"BOLI","Modérée",3582,1644,5226,0,0,0,0,2,{"$f":"_xlfn.XLOOKUP($G304,[1]demo_data!$G$5:$G$2257,[1]demo_data!$I$5:$I$2257)","v":11895}]
[330,"Côte d'Ivoire","CIV","BELIER","DIDIEVI",15347,"DIDIEVI","Non endémique",0,0,0,0,0,0,0,0,{"$f":"_xlfn.XLOOKUP($G305,[1]demo_data!$G$5:$G$2257,[1]demo_data!$I$5:$I$2257)","v":13360}]
[331,"Côte d'Ivoire","CIV","BELIER","DIDIEVI",15347,"GBANGBOSSOU","Faible",2050,0,2050,0,0,0,0,1,{"$f":"_xlfn.XLOOKUP($G306,[1]demo_data!$G$5:$G$2257,[1]demo_data!$I$5:$I$2257)","v":6808}]
[332,"Côte d'Ivoire","CIV","BELIER","DIDIEVI",15347,"KONANSUIKRO","Faible",865,0,865,0,0,0,0,1,{"$f":"_xlfn.XLOOKUP($G307,[1]demo_data!$G$5:$G$2257,[1]demo_data!$I$5:$I$2257)","v":2873}]
[333,"Côte d'Ivoire","CIV","BELIER","DIDIEVI",15347,"KONDROKRO-DJASSANOU","Faible",1312,0,1312,0,0,0,0,1,{"$f":"_xlfn.XLOOKUP($G308,[1]demo_data!$G$5:$G$2257,[1]demo_data!$I$5:$I$2257)","v":4358}]
[334,"Côte d'Ivoire","CIV","BELIER","DIDIEVI",15347,"KOUASSI-KONGOKRO","Faible",910,0,910,0,0,0,0,1,{"$f":"_xlfn.XLOOKUP($G309,[1]demo_data!$G$5:$G$2257,[1]demo_data!$I$5:$I$2257)","v":3023}]
[335,"Côte d'Ivoire","CIV","BELIER","DIDIEVI",15347,"KPEBO","Faible",766,0,766,0,0,0,0,1,{"$f":"_xlfn.XLOOKUP($G310,[1]demo_data!$G$5:$G$2257,[1]demo_data!$I$5:$I$2257)","v":2544}]
[336,"Côte d'Ivoire","CIV","BELIER","DIDIEVI",15347,"KRAYABO","Non endémique",0,0,0,0,0,0,0,0,{"$f":"_xlfn.XLOOKUP($G311,[1]demo_data!$G$5:$G$2257,[1]demo_data!$I$5:$I$2257)","v":1431}]
[337,"Côte d'Ivoire","CIV","BELIER","DIDIEVI",15347,"MOLONOUBLE","Faible",2783,0,2783,0,0,0,0,1,{"$f":"_xlfn.XLOOKUP($G312,[1]demo_data!$G$5:$G$2257,[1]demo_data!$I$5:$I$2257)","v":9239}]
[338,"Côte d'Ivoire","CIV","BELIER","DIDIEVI",15347,"N'DA-AKISSIKRO","Faible",1131,0,1131,0,0,0,0,1,{"$f":"_xlfn.XLOOKUP($G313,[1]demo_data!$G$5:$G$2257,[1]demo_data!$I$5:$I$2257)","v":3753}]
[339,"Côte d'Ivoire","CIV","BELIER","DIDIEVI",15347,"N'DRIKRO","Faible",433,0,433,0,0,0,0,1,{"$f":"_xlfn.XLOOKUP($G314,[1]demo_data!$G$5:$G$2257,[1]demo_data!$I$5:$I$2257)","v":1439}]
[340,"Côte d'Ivoire","CIV","BELIER","DIDIEVI",15347,"N'GUYAKRO","Faible",1580,0,1580,0,0,0,0,1,{"$f":"_xlfn.XLOOKUP($G315,[1]demo_data!$G$5:$G$2257,[1]demo_data!$I$5:$I$2257)","v":5248}]
[341,"Côte d'Ivoire","CIV","BELIER","DIDIEVI",15347,"N'ZIKPLI-SESSEKRO","Faible",1321,0,1321,0,0,0,0,1,{"$f":"_xlfn.XLOOKUP($G316,[1]demo_data!$G$5:$G$2257,[1]demo_data!$I$5:$I$2257)","v":4389}]
[342,"Côte d'Ivoire","CIV","BELIER","DIDIEVI",15347,"RAVIART","Faible",2519,0,2519,0,0,0,0,1,{"$f":"_xlfn.XLOOKUP($G317,[1]demo_data!$G$5:$G$2257,[1]demo_data!$I$5:$I$2257)","v":8366}]
[343,"Côte d'Ivoire","CIV","BELIER","DIDIEVI",15347,"TIE-N'DIEKRO","Modérée",3352,1538,4890,0,0,0,0,2,{"$f":"_xlfn.XLOOKUP($G318,[1]demo_data!$G$5:$G$2257,[1]demo_data!$I$5:$I$2257)","v":11132}]
[344,"Côte d'Ivoire","CIV","BELIER","DIDIEVI",15347,"YAAKRO","Non endémique",0,0,0,0,0,0,0,0,{"$f":"_xlfn.XLOOKUP($G319,[1]demo_data!$G$5:$G$2257,[1]demo_data!$I$5:$I$2257)","v":7889}]
[345,"Côte d'Ivoire","CIV","BELIER","TIEBISSOU",15348,"CSR AHOUGNANSOU-ALLAHOU","Faible",1362,0,1362,1,1362,0,1362,1,{"$f":"_xlfn.XLOOKUP($G320,[1]demo_data!$G$5:$G$2257,[1]demo_data!$I$5:$I$2257)","v":4535}]
[346,"Côte d'Ivoire","CIV","BELIER","TIEBISSOU",15348,"CSR AKOI-N'DENOU","Faible",1425,0,1425,1,1425,0,1425,1,{"$f":"_xlfn.XLOOKUP($G321,[1]demo_data!$G$5:$G$2257,[1]demo_data!$I$5:$I$2257)","v":4748}]
[347,"Côte d'Ivoire","CIV","BELIER","TIEBISSOU",15348,"CSR ASSE-N'GATTAKRO","Non endémique",0,0,0,0,0,0,0,0,{"$f":"_xlfn.XLOOKUP($G322,[1]demo_data!$G$5:$G$2257,[1]demo_data!$I$5:$I$2257)","v":2563}]
[348,"Côte d'Ivoire","CIV","BELIER","TIEBISSOU",15348,"CSR ATTIENKOFFIKRO","Faible",839,0,839,1,839,0,839,1,{"$f":"_xlfn.XLOOKUP($G323,[1]demo_data!$G$5:$G$2257,[1]demo_data!$I$5:$I$2257)","v":2795}]
[349,"Côte d'Ivoire","CIV","BELIER","TIEBISSOU",15348,"CSR BONIANKRO","Faible",1057,0,1057,1,1057,0,1057,1,{"$f":"_xlfn.XLOOKUP($G324,[1]demo_data!$G$5:$G$2257,[1]demo_data!$I$5:$I$2257)","v":3520}]
[350,"Côte d'Ivoire","CIV","BELIER","TIEBISSOU",15348,"CSR KOUA-KOUASSIKRO","Faible",692,0,692,1,692,0,692,1,{"$f":"_xlfn.XLOOKUP($G325,[1]demo_data!$G$5:$G$2257,[1]demo_data!$I$5:$I$2257)","v":2304}]
[351,"Côte d'Ivoire","CIV","BELIER","TIEBISSOU",15348,"CSR N'GANGORO-AÏTOU","Forte",1336,3065,4401,1,1336,3065,4401,3,{"$f":"_xlfn.XLOOKUP($G326,[1]demo_data!$G$5:$G$2257,[1]demo_data!$I$5:$I$2257)","v":4451}]
[352,"Côte d'Ivoire","CIV","BELIER","TIEBISSOU",15348,"CSR NGATTADOLIKRO","Modérée",2191,1005,3196,1,2191,1005,3196,2,{"$f":"_xlfn.XLOOKUP($G327,[1]demo_data!$G$5:$G$2257,[1]demo_data!$I$5:$I$2257)","v":7298}]
[353,"Côte d'Ivoire","CIV","BELIER","TIEBISSOU",15348,"CSR PRANOUA","Faible",825,0,825,1,825,0,825,1,{"$f":"_xlfn.XLOOKUP($G328,[1]demo_data!$G$5:$G$2257,[1]demo_data!$I$5:$I$2257)","v":2749}]
[354,"Côte d'Ivoire","CIV","BELIER","TIEBISSOU",15348,"CSR TAKI-SALEKRO","Faible",1195,0,1195,1,1195,0,1195,1,{"$f":"_xlfn.XLOOKUP($G329,[1]demo_data!$G$5:$G$2257,[1]demo_data!$I$5:$I$2257)","v":3981}]
[355,"Côte d'Ivoire","CIV","BELIER","TIEBISSOU",15348,"CSR YADIBIKRO","Forte",1406,3225,4631,1,1406,3225,4631,3,{"$f":"_xlfn.XLOOKUP($G330,[1]demo_data!$G$5:$G$2257,[1]demo_data!$I$5:$I$2257)","v":4682}]
[356,"Côte d'Ivoire","CIV","BELIER","TIEBISSOU",15348,"CSU LOMOKANKRO","Faible",862,0,862,1,862,0,862,1,{"$f":"_xlfn.XLOOKUP($G331,[1]demo_data!$G$5:$G$2257,[1]demo_data!$I$5:$I$2257)","v":2869}]
[357,"Côte d'Ivoire","CIV","BELIER","TIEBISSOU",15348,"CSU MOLONOU","Modérée",1271,583,1854,1,1271,583,1854,2,{"$f":"_xlfn.XLOOKUP($G332,[1]demo_data!$G$5:$G$2257,[1]demo_data!$I$5:$I$2257)","v":4233}]
[358,"Côte d'Ivoire","CIV","BELIER","TIEBISSOU",15348,"CSU YAKPABO-SAKASSOU","Faible",1054,0,1054,1,1054,0,1054,1,{"$f":"_xlfn.XLOOKUP($G333,[1]demo_data!$G$5:$G$2257,[1]demo_data!$I$5:$I$2257)","v":3511}]
[359,"Côte d'Ivoire","CIV","BELIER","TIEBISSOU",15348,"DR AMAN-SALEKRO","Faible",1476,0,1476,1,1476,0,1476,1,{"$f":"_xlfn.XLOOKUP($G334,[1]demo_data!$G$5:$G$2257,[1]demo_data!$I$5:$I$2257)","v":4917}]
[360,"Côte d'Ivoire","CIV","BELIER","TIEBISSOU",15348,"DR ASSEMBO","Faible",1289,0,1289,1,1289,0,1289,1,{"$f":"_xlfn.XLOOKUP($G335,[1]demo_data!$G$5:$G$2257,[1]demo_data!$I$5:$I$2257)","v":4292}]
[361,"Côte d'Ivoire","CIV","BELIER","TIEBISSOU",15348,"DR DUIBO-KPATO","Modérée",844,388,1232,1,844,388,1232,2,{"$f":"_xlfn.XLOOKUP($G336,[1]demo_data!$G$5:$G$2257,[1]demo_data!$I$5:$I$2257)","v":2814}]
[362,"Côte d'Ivoire","CIV","BELIER","TIEBISSOU",15348,"DR GROGRO","Modérée",1207,553,1760,1,1207,553,1760,2,{"$f":"_xlfn.XLOOKUP($G337,[1]demo_data!$G$5:$G$2257,[1]demo_data!$I$5:$I$2257)","v":4017}]
[363,"Côte d'Ivoire","CIV","BELIER","TIEBISSOU",15348,"DR KONDEYAOKRO","Faible",1079,0,1079,1,1079,0,1079,1,{"$f":"_xlfn.XLOOKUP($G338,[1]demo_data!$G$5:$G$2257,[1]demo_data!$I$5:$I$2257)","v":3595}]
[364,"Côte d'Ivoire","CIV","BELIER","TIEBISSOU",15348,"DR MINABO","Faible",1229,0,1229,1,1229,0,1229,1,{"$f":"_xlfn.XLOOKUP($G339,[1]demo_data!$G$5:$G$2257,[1]demo_data!$I$5:$I$2257)","v":4095}]
[365,"Côte d'Ivoire","CIV","BELIER","TIEBISSOU",15348,"DR N'GANGORO-NANAFOUE","Faible",583,0,583,1,583,0,583,1,{"$f":"_xlfn.XLOOKUP($G340,[1]demo_data!$G$5:$G$2257,[1]demo_data!$I$5:$I$2257)","v":1940}]
[366,"Côte d'Ivoire","CIV","BELIER","TIEBISSOU",15348,"DR N'GOIMBO","Faible",900,0,900,1,900,0,900,1,{"$f":"_xlfn.XLOOKUP($G341,[1]demo_data!$G$5:$G$2257,[1]demo_data!$I$5:$I$2257)","v":2998}]
[367,"Côte d'Ivoire","CIV","BELIER","TIEBISSOU",15348,"DR N'VLANKRO","Faible",560,0,560,1,560,0,560,1,{"$f":"_xlfn.XLOOKUP($G342,[1]demo_data!$G$5:$G$2257,[1]demo_data!$I$5:$I$2257)","v":1866}]
[368,"Côte d'Ivoire","CIV","BELIER","TIEBISSOU",15348,"HOPITAL GENERAL TIEBISSOU","Faible",6467,0,6467,1,6467,0,6467,1,{"$f":"_xlfn.XLOOKUP($G343,[1]demo_data!$G$5:$G$2257,[1]demo_data!$I$5:$I$2257)","v":21540}]
[369,"Côte d'Ivoire","CIV","BELIER","TOUMODI",15349,"CSR Bonikro","Modérée",2944,1350,4294,0,0,0,0,2,{"$f":"_xlfn.XLOOKUP($G344,[1]demo_data!$G$5:$G$2257,[1]demo_data!$I$5:$I$2257)","v":10197}]
[370,"Côte d'Ivoire","CIV","BELIER","TOUMODI",15349,"CSR Bringakro","Modérée",1744,800,2544,0,0,0,0,2,{"$f":"_xlfn.XLOOKUP($G345,[1]demo_data!$G$5:$G$2257,[1]demo_data!$I$5:$I$2257)","v":6045}]
[371,"Côte d'Ivoire","CIV","BELIER","TOUMODI",15349,"CSR Djangomenou","Modérée",557,255,812,0,0,0,0,2,{"$f":"_xlfn.XLOOKUP($G346,[1]demo_data!$G$5:$G$2257,[1]demo_data!$I$5:$I$2257)","v":1930}]
[372,"Côte d'Ivoire","CIV","BELIER","TOUMODI",15349,"CSR Gbohua","Modérée",1051,482,1533,0,0,0,0,2,{"$f":"_xlfn.XLOOKUP($G347,[1]demo_data!$G$5:$G$2257,[1]demo_data!$I$5:$I$2257)","v":3639}]
[373,"Côte d'Ivoire","CIV","BELIER","TOUMODI",15349,"CSR Konankokorekro","Modérée",1265,581,1846,0,0,0,0,2,{"$f":"_xlfn.XLOOKUP($G348,[1]demo_data!$G$5:$G$2257,[1]demo_data!$I$5:$I$2257)","v":4381}]
[374,"Côte d'Ivoire","CIV","BELIER","TOUMODI",15349,"CSR Loukouyaokro","Faible",1064,0,1064,0,0,0,0,1,{"$f":"_xlfn.XLOOKUP($G349,[1]demo_data!$G$5:$G$2257,[1]demo_data!$I$5:$I$2257)","v":3686}]
[375,"Côte d'Ivoire","CIV","BELIER","TOUMODI",15349,"CSR Moronou","Forte",2154,4941,7095,1,2154,4941,7095,3,{"$f":"_xlfn.XLOOKUP($G350,[1]demo_data!$G$5:$G$2257,[1]demo_data!$I$5:$I$2257)","v":7462}]
[376,"Côte d'Ivoire","CIV","BELIER","TOUMODI",15349,"CSR Zahakro","Forte",676,1552,2228,1,676,1552,2228,3,{"$f":"_xlfn.XLOOKUP($G351,[1]demo_data!$G$5:$G$2257,[1]demo_data!$I$5:$I$2257)","v":2344}]
[377,"Côte d'Ivoire","CIV","BELIER","TOUMODI",15349,"CSU Angoda","Modérée",1656,759,2415,0,0,0,0,2,{"$f":"_xlfn.XLOOKUP($G352,[1]demo_data!$G$5:$G$2257,[1]demo_data!$I$5:$I$2257)","v":5736}]
[378,"Côte d'Ivoire","CIV","BELIER","TOUMODI",15349,"CSU Binava","Faible",5036,0,5036,0,0,0,0,1,{"$f":"_xlfn.XLOOKUP($G353,[1]demo_data!$G$5:$G$2257,[1]demo_data!$I$5:$I$2257)","v":17447}]
[379,"Côte d'Ivoire","CIV","BELIER","TOUMODI",15349,"CSU Kokumbo","Modérée",5537,2540,8077,0,0,0,0,2,{"$f":"_xlfn.XLOOKUP($G354,[1]demo_data!$G$5:$G$2257,[1]demo_data!$I$5:$I$2257)","v":19185}]
[380,"Côte d'Ivoire","CIV","BELIER","TOUMODI",15349,"CSU Kpouebo","Non endémique",0,0,0,0,0,0,0,0,{"$f":"_xlfn.XLOOKUP($G355,[1]demo_data!$G$5:$G$2257,[1]demo_data!$I$5:$I$2257)","v":9927}]
[381,"Côte d'Ivoire","CIV","BELIER","TOUMODI",15349,"DR Abli","Faible",790,0,790,0,0,0,0,1,{"$f":"_xlfn.XLOOKUP($G356,[1]demo_data!$G$5:$G$2257,[1]demo_data!$I$5:$I$2257)","v":2737}]
[382,"Côte d'Ivoire","CIV","BELIER","TOUMODI",15349,"DR Akakro N'zikpli","Faible",797,0,797,0,0,0,0,1,{"$f":"_xlfn.XLOOKUP($G357,[1]demo_data!$G$5:$G$2257,[1]demo_data!$I$5:$I$2257)","v":2761}]
[383,"Côte d'Ivoire","CIV","BELIER","TOUMODI",15349,"DR Assakra","Modérée",1215,557,1772,0,0,0,0,2,{"$f":"_xlfn.XLOOKUP($G358,[1]demo_data!$G$5:$G$2257,[1]demo_data!$I$5:$I$2257)","v":4207}]
[384,"Côte d'Ivoire","CIV","BELIER","TOUMODI",15349,"DR Assinze","Modérée",762,350,1112,0,0,0,0,2,{"$f":"_xlfn.XLOOKUP($G359,[1]demo_data!$G$5:$G$2257,[1]demo_data!$I$5:$I$2257)","v":2640}]
[385,"Côte d'Ivoire","CIV","BELIER","TOUMODI",15349,"DR Assoumvouê","Modérée",743,341,1084,0,0,0,0,2,{"$f":"_xlfn.XLOOKUP($G360,[1]demo_data!$G$5:$G$2257,[1]demo_data!$I$5:$I$2257)","v":2572}]
[386,"Côte d'Ivoire","CIV","BELIER","TOUMODI",15349,"DR Didable","Modérée",1957,898,2855,0,0,0,0,2,{"$f":"_xlfn.XLOOKUP($G361,[1]demo_data!$G$5:$G$2257,[1]demo_data!$I$5:$I$2257)","v":6779}]
[387,"Côte d'Ivoire","CIV","BELIER","TOUMODI",15349,"DR Kahankro","Modérée",884,405,1289,0,0,0,0,2,{"$f":"_xlfn.XLOOKUP($G362,[1]demo_data!$G$5:$G$2257,[1]demo_data!$I$5:$I$2257)","v":3063}]
[388,"Côte d'Ivoire","CIV","BELIER","TOUMODI",15349,"DR Ketekre bonikro","Modérée",743,341,1084,0,0,0,0,2,{"$f":"_xlfn.XLOOKUP($G363,[1]demo_data!$G$5:$G$2257,[1]demo_data!$I$5:$I$2257)","v":2573}]
[389,"Côte d'Ivoire","CIV","BELIER","TOUMODI",15349,"DR Lomo Nord","Modérée",304,140,444,0,0,0,0,2,{"$f":"_xlfn.XLOOKUP($G364,[1]demo_data!$G$5:$G$2257,[1]demo_data!$I$5:$I$2257)","v":1052}]
[390,"Côte d'Ivoire","CIV","BELIER","TOUMODI",15349,"DR N'doukahakro","Modérée",644,295,939,0,0,0,0,2,{"$f":"_xlfn.XLOOKUP($G365,[1]demo_data!$G$5:$G$2257,[1]demo_data!$I$5:$I$2257)","v":2232}]
[391,"Côte d'Ivoire","CIV","BELIER","TOUMODI",15349,"DR N'guessanbakro","Modérée",1172,538,1710,0,0,0,0,2,{"$f":"_xlfn.XLOOKUP($G366,[1]demo_data!$G$5:$G$2257,[1]demo_data!$I$5:$I$2257)","v":4058}]
[392,"Côte d'Ivoire","CIV","BELIER","TOUMODI",15349,"DR Ouaouakro","Modérée",536,246,782,0,0,0,0,2,{"$f":"_xlfn.XLOOKUP($G367,[1]demo_data!$G$5:$G$2257,[1]demo_data!$I$5:$I$2257)","v":1856}]
[393,"Côte d'Ivoire","CIV","BELIER","TOUMODI",15349,"DR Sakassou","Modérée",487,224,711,0,0,0,0,2,{"$f":"_xlfn.XLOOKUP($G368,[1]demo_data!$G$5:$G$2257,[1]demo_data!$I$5:$I$2257)","v":1688}]
[394,"Côte d'Ivoire","CIV","BELIER","TOUMODI",15349,"HG Djekanou","Modérée",3101,1423,4524,0,0,0,0,2,{"$f":"_xlfn.XLOOKUP($G369,[1]demo_data!$G$5:$G$2257,[1]demo_data!$I$5:$I$2257)","v":10743}]
[395,"Côte d'Ivoire","CIV","BELIER","TOUMODI",15349,"HG Toumodi","Modérée",9210,4226,13436,0,0,0,0,2,{"$f":"_xlfn.XLOOKUP($G370,[1]demo_data!$G$5:$G$2257,[1]demo_data!$I$5:$I$2257)","v":31909}]
[396,"Côte d'Ivoire","CIV","BELIER","YAMOUSSOUKRO",15350,"AKPESSEKRO","Modérée",1881,863,2744,1,1881,863,2744,2,{"$f":"_xlfn.XLOOKUP($G371,[1]demo_data!$G$5:$G$2257,[1]demo_data!$I$5:$I$2257)","v":7819}]
[397,"Côte d'Ivoire","CIV","BELIER","YAMOUSSOUKRO",15350,"ALLANGOUA- NGBESSOU","Modérée",1482,680,2162,1,1482,680,2162,2,{"$f":"_xlfn.XLOOKUP($G372,[1]demo_data!$G$5:$G$2257,[1]demo_data!$I$5:$I$2257)","v":6162}]
[398,"Côte d'Ivoire","CIV","BELIER","YAMOUSSOUKRO",15350,"ALLIANCE","Modérée",4445,2040,6485,1,4445,2040,6485,2,{"$f":"_xlfn.XLOOKUP($G373,[1]demo_data!$G$5:$G$2257,[1]demo_data!$I$5:$I$2257)","v":18481}]
[399,"Côte d'Ivoire","CIV","BELIER","YAMOUSSOUKRO",15350,"ASSANOU","Modérée",740,340,1080,1,740,340,1080,2,{"$f":"_xlfn.XLOOKUP($G374,[1]demo_data!$G$5:$G$2257,[1]demo_data!$I$5:$I$2257)","v":3078}]
[400,"Côte d'Ivoire","CIV","BELIER","YAMOUSSOUKRO",15350,"ATTIEGOUAKRO","Faible",3273,0,3273,1,3273,0,3273,1,{"$f":"_xlfn.XLOOKUP($G375,[1]demo_data!$G$5:$G$2257,[1]demo_data!$I$5:$I$2257)","v":13608}]
[401,"Côte d'Ivoire","CIV","BELIER","YAMOUSSOUKRO",15350,"BONZI","Modérée",1327,608,1935,1,1327,608,1935,2,{"$f":"_xlfn.XLOOKUP($G376,[1]demo_data!$G$5:$G$2257,[1]demo_data!$I$5:$I$2257)","v":5517}]
[402,"Côte d'Ivoire","CIV","BELIER","YAMOUSSOUKRO",15350,"DIOULAKRO","Modérée",32535,14927,47462,1,32535,14927,47462,2,{"$f":"_xlfn.XLOOKUP($G377,[1]demo_data!$G$5:$G$2257,[1]demo_data!$I$5:$I$2257)","v":135282}]
[403,"Côte d'Ivoire","CIV","BELIER","YAMOUSSOUKRO",15350,"DUOKRO","Modérée",845,388,1233,1,845,388,1233,2,{"$f":"_xlfn.XLOOKUP($G378,[1]demo_data!$G$5:$G$2257,[1]demo_data!$I$5:$I$2257)","v":3516}]
[404,"Côte d'Ivoire","CIV","BELIER","YAMOUSSOUKRO",15350,"KONGOUANOU","Modérée",1489,683,2172,1,1489,683,2172,2,{"$f":"_xlfn.XLOOKUP($G379,[1]demo_data!$G$5:$G$2257,[1]demo_data!$I$5:$I$2257)","v":6189}]
[405,"Côte d'Ivoire","CIV","BELIER","YAMOUSSOUKRO",15350,"KOSSOU","Modérée",2570,1179,3749,1,2570,1179,3749,2,{"$f":"_xlfn.XLOOKUP($G380,[1]demo_data!$G$5:$G$2257,[1]demo_data!$I$5:$I$2257)","v":10685}]
[406,"Côte d'Ivoire","CIV","BELIER","YAMOUSSOUKRO",15350,"KROUKROUBO","Modérée",1444,662,2106,1,1444,662,2106,2,{"$f":"_xlfn.XLOOKUP($G381,[1]demo_data!$G$5:$G$2257,[1]demo_data!$I$5:$I$2257)","v":6002}]
[407,"Côte d'Ivoire","CIV","BELIER","YAMOUSSOUKRO",15350,"LABOKRO","Non endémique",0,0,0,0,0,0,0,0,{"$f":"_xlfn.XLOOKUP($G382,[1]demo_data!$G$5:$G$2257,[1]demo_data!$I$5:$I$2257)","v":8137}]
[408,"Côte d'Ivoire","CIV","BELIER","YAMOUSSOUKRO",15350,"LOGBAKRO","Faible",2353,0,2353,1,2353,0,2353,1,{"$f":"_xlfn.XLOOKUP($G383,[1]demo_data!$G$5:$G$2257,[1]demo_data!$I$5:$I$2257)","v":9781}]
[409,"Côte d'Ivoire","CIV","BELIER","YAMOUSSOUKRO",15350,"LOLOBO","Faible",2400,0,2400,1,2400,0,2400,1,{"$f":"_xlfn.XLOOKUP($G384,[1]demo_data!$G$5:$G$2257,[1]demo_data!$I$5:$I$2257)","v":9979}]
[410,"Côte d'Ivoire","CIV","BELIER","YAMOUSSOUKRO",15350,"MAHOUNOU AKOUE","Modérée",1812,831,2643,1,1812,831,2643,2,{"$f":"_xlfn.XLOOKUP($G385,[1]demo_data!$G$5:$G$2257,[1]demo_data!$I$5:$I$2257)","v":7535}]
[411,"Côte d'Ivoire","CIV","BELIER","YAMOUSSOUKRO",15350,"MOROFE","Modérée",3349,1537,4886,1,3349,1537,4886,2,{"$f":"_xlfn.XLOOKUP($G386,[1]demo_data!$G$5:$G$2257,[1]demo_data!$I$5:$I$2257)","v":13925}]
[412,"Côte d'Ivoire","CIV","BELIER","YAMOUSSOUKRO",15350,"NGATTAKRO","Non endémique",0,0,0,0,0,0,0,0,{"$f":"_xlfn.XLOOKUP($G387,[1]demo_data!$G$5:$G$2257,[1]demo_data!$I$5:$I$2257)","v":8785}]
[413,"Côte d'Ivoire","CIV","BELIER","YAMOUSSOUKRO",15350,"NZERE","Modérée",755,347,1102,1,755,347,1102,2,{"$f":"_xlfn.XLOOKUP($G388,[1]demo_data!$G$5:$G$2257,[1]demo_data!$I$5:$I$2257)","v":3142}]
[414,"Côte d'Ivoire","CIV","BELIER","YAMOUSSOUKRO",15350,"NZUESSY","Modérée",7648,3509,11157,1,7648,3509,11157,2,{"$f":"_xlfn.XLOOKUP($G389,[1]demo_data!$G$5:$G$2257,[1]demo_data!$I$5:$I$2257)","v":31799}]
[415,"Côte d'Ivoire","CIV","BELIER","YAMOUSSOUKRO",15350,"OUFFOUE DIEKRO","Modérée",2037,935,2972,1,2037,935,2972,2,{"$f":"_xlfn.XLOOKUP($G390,[1]demo_data!$G$5:$G$2257,[1]demo_data!$I$5:$I$2257)","v":8468}]
[416,"Côte d'Ivoire","CIV","BELIER","YAMOUSSOUKRO",15350,"PMI","Modérée",8342,3828,12170,1,8342,3828,12170,2,{"$f":"_xlfn.XLOOKUP($G391,[1]demo_data!$G$5:$G$2257,[1]demo_data!$I$5:$I$2257)","v":34689}]
[417,"Côte d'Ivoire","CIV","BELIER","YAMOUSSOUKRO",15350,"SAHABO","Modérée",1674,768,2442,1,1674,768,2442,2,{"$f":"_xlfn.XLOOKUP($G392,[1]demo_data!$G$5:$G$2257,[1]demo_data!$I$5:$I$2257)","v":6964}]
[418,"Côte d'Ivoire","CIV","BELIER","YAMOUSSOUKRO",15350,"SAKIARE","Forte",3160,7249,10409,1,3160,7249,10409,3,{"$f":"_xlfn.XLOOKUP($G393,[1]demo_data!$G$5:$G$2257,[1]demo_data!$I$5:$I$2257)","v":13139}]
[419,"Côte d'Ivoire","CIV","BELIER","YAMOUSSOUKRO",15350,"SEMAN","Modérée",2018,925,2943,1,2018,925,2943,2,{"$f":"_xlfn.XLOOKUP($G394,[1]demo_data!$G$5:$G$2257,[1]demo_data!$I$5:$I$2257)","v":8392}]
[420,"Côte d'Ivoire","CIV","BELIER","YAMOUSSOUKRO",15350,"SUIBIAKRO","Modérée",803,368,1171,1,803,368,1171,2,{"$f":"_xlfn.XLOOKUP($G395,[1]demo_data!$G$5:$G$2257,[1]demo_data!$I$5:$I$2257)","v":3340}]
[421,"Côte d'Ivoire","CIV","BELIER","YAMOUSSOUKRO",15350,"TOUMBOKRO","Modérée",2272,1042,3314,1,2272,1042,3314,2,{"$f":"_xlfn.XLOOKUP($G396,[1]demo_data!$G$5:$G$2257,[1]demo_data!$I$5:$I$2257)","v":9446}]
[422,"Côte d'Ivoire","CIV","BELIER","YAMOUSSOUKRO",15350,"ZAMBAKRO","Modérée",1830,840,2670,1,1830,840,2670,2,{"$f":"_xlfn.XLOOKUP($G397,[1]demo_data!$G$5:$G$2257,[1]demo_data!$I$5:$I$2257)","v":7611}]
[423,"Côte d'Ivoire","CIV","BELIER","YAMOUSSOUKRO",15350,"ZATTA","Faible",2977,0,2977,1,2977,0,2977,1,{"$f":"_xlfn.XLOOKUP($G398,[1]demo_data!$G$5:$G$2257,[1]demo_data!$I$5:$I$2257)","v":12380}]
[2180,"Côte d'Ivoire","CIV","BERE","DIANRA",15459,"CSR FARABA","Faible",3082,0,3082,1,3082,0,3082,1,{"$f":"_xlfn.XLOOKUP($G399,[1]demo_data!$G$5:$G$2257,[1]demo_data!$I$5:$I$2257)","v":9553}]
[2186,"Côte d'Ivoire","CIV","BERE","DIANRA",15459,"CSR OUAHIERE","Faible",1948,0,1948,1,1948,0,1948,1,{"$f":"_xlfn.XLOOKUP($G400,[1]demo_data!$G$5:$G$2257,[1]demo_data!$I$5:$I$2257)","v":6038}]
[2188,"Côte d'Ivoire","CIV","BERE","DIANRA",15459,"CSR SONONZO","Faible",3417,0,3417,1,3417,0,3417,1,{"$f":"_xlfn.XLOOKUP($G401,[1]demo_data!$G$5:$G$2257,[1]demo_data!$I$5:$I$2257)","v":10588}]
[2193,"Côte d'Ivoire","CIV","BERE","DIANRA",15459,"CSU DIANRA","Faible",9397,0,9397,1,9397,0,9397,1,{"$f":"_xlfn.XLOOKUP($G402,[1]demo_data!$G$5:$G$2257,[1]demo_data!$I$5:$I$2257)","v":29127}]
[2199,"Côte d'Ivoire","CIV","BERE","DIANRA",15459,"D U DIANRA VILLAGE ","Faible",5974,0,5974,1,5974,0,5974,1,{"$f":"_xlfn.XLOOKUP($G403,[1]demo_data!$G$5:$G$2257,[1]demo_data!$I$5:$I$2257)","v":18517}]
[2213,"Côte d'Ivoire","CIV","BERE","DIANRA",15459,"DR YERETIELE","Faible",1837,0,1837,1,1837,0,1837,1,{"$f":"_xlfn.XLOOKUP($G404,[1]demo_data!$G$5:$G$2257,[1]demo_data!$I$5:$I$2257)","v":5693}]
[2174,"Côte d'Ivoire","CIV","BERE","KOUNAHIRI",15460,"CSR BAMBALOUMA","Faible",1056,0,1056,1,1056,0,1056,1,{"$f":"_xlfn.XLOOKUP($G405,[1]demo_data!$G$5:$G$2257,[1]demo_data!$I$5:$I$2257)","v":3778}]
[2176,"Côte d'Ivoire","CIV","BERE","KOUNAHIRI",15460,"CSR BOYAOKRO","Faible",1911,0,1911,1,1911,0,1911,1,{"$f":"_xlfn.XLOOKUP($G406,[1]demo_data!$G$5:$G$2257,[1]demo_data!$I$5:$I$2257)","v":6842}]
[2182,"Côte d'Ivoire","CIV","BERE","KOUNAHIRI",15460,"CSR KOROKOPLA","Faible",2403,0,2403,1,2403,0,2403,1,{"$f":"_xlfn.XLOOKUP($G407,[1]demo_data!$G$5:$G$2257,[1]demo_data!$I$5:$I$2257)","v":8603}]
[2189,"Côte d'Ivoire","CIV","BERE","KOUNAHIRI",15460,"CSR SOUKOUROUGBAN","Faible",1970,0,1970,1,1970,0,1970,1,{"$f":"_xlfn.XLOOKUP($G408,[1]demo_data!$G$5:$G$2257,[1]demo_data!$I$5:$I$2257)","v":7051}]
[2191,"Côte d'Ivoire","CIV","BERE","KOUNAHIRI",15460,"CSR TRAFESSO","Faible",917,0,917,1,917,0,917,1,{"$f":"_xlfn.XLOOKUP($G409,[1]demo_data!$G$5:$G$2257,[1]demo_data!$I$5:$I$2257)","v":3285}]
[2194,"Côte d'Ivoire","CIV","BERE","KOUNAHIRI",15460,"CSU KONGASSO","Non endémique",0,0,0,0,0,0,0,0,{"$f":"_xlfn.XLOOKUP($G410,[1]demo_data!$G$5:$G$2257,[1]demo_data!$I$5:$I$2257)","v":11095}]
[2195,"Côte d'Ivoire","CIV","BERE","KOUNAHIRI",15460,"CSU KOUNAHIRI","Faible",3840,0,3840,1,3840,0,3840,1,{"$f":"_xlfn.XLOOKUP($G411,[1]demo_data!$G$5:$G$2257,[1]demo_data!$I$5:$I$2257)","v":13749}]
[2201,"Côte d'Ivoire","CIV","BERE","KOUNAHIRI",15460,"DR AGBAHOU","Faible",1565,0,1565,1,1565,0,1565,1,{"$f":"_xlfn.XLOOKUP($G412,[1]demo_data!$G$5:$G$2257,[1]demo_data!$I$5:$I$2257)","v":5600}]
[2203,"Côte d'Ivoire","CIV","BERE","KOUNAHIRI",15460,"DR FOUTOUNOU","Faible",790,0,790,1,790,0,790,1,{"$f":"_xlfn.XLOOKUP($G413,[1]demo_data!$G$5:$G$2257,[1]demo_data!$I$5:$I$2257)","v":2829}]
[2204,"Côte d'Ivoire","CIV","BERE","KOUNAHIRI",15460,"DR GBEMA","Non endémique",0,0,0,0,0,0,0,0,{"$f":"_xlfn.XLOOKUP($G414,[1]demo_data!$G$5:$G$2257,[1]demo_data!$I$5:$I$2257)","v":3756}]
[2207,"Côte d'Ivoire","CIV","BERE","KOUNAHIRI",15460,"DR KOUATTA","Faible",2542,0,2542,1,2542,0,2542,1,{"$f":"_xlfn.XLOOKUP($G415,[1]demo_data!$G$5:$G$2257,[1]demo_data!$I$5:$I$2257)","v":9101}]
[2208,"Côte d'Ivoire","CIV","BERE","KOUNAHIRI",15460,"DR LEASSO","Faible",875,0,875,1,875,0,875,1,{"$f":"_xlfn.XLOOKUP($G416,[1]demo_data!$G$5:$G$2257,[1]demo_data!$I$5:$I$2257)","v":3134}]
[2212,"Côte d'Ivoire","CIV","BERE","KOUNAHIRI",15460,"DR TOUBALO","Modérée",1550,711,2261,1,1550,711,2261,2,{"$f":"_xlfn.XLOOKUP($G417,[1]demo_data!$G$5:$G$2257,[1]demo_data!$I$5:$I$2257)","v":5550}]
[2215,"Côte d'Ivoire","CIV","BERE","KOUNAHIRI",15460,"PMI KOUNAHIRI","Faible",1566,0,1566,1,1566,0,1566,1,{"$f":"_xlfn.XLOOKUP($G418,[1]demo_data!$G$5:$G$2257,[1]demo_data!$I$5:$I$2257)","v":5605}]
[2171,"Côte d'Ivoire","CIV","BERE","MANKONO",15458,"CS KAMORO","Non endémique",0,0,0,0,0,0,0,0,{"$f":"_xlfn.XLOOKUP($G419,[1]demo_data!$G$5:$G$2257,[1]demo_data!$I$5:$I$2257)","v":10379}]
[2172,"Côte d'Ivoire","CIV","BERE","MANKONO",15458,"CSCNDC MARANDALLAH","Faible",2376,0,2376,1,2376,0,2376,1,{"$f":"_xlfn.XLOOKUP($G420,[1]demo_data!$G$5:$G$2257,[1]demo_data!$I$5:$I$2257)","v":8881}]
[2173,"Côte d'Ivoire","CIV","BERE","MANKONO",15458,"CSJ ALLAMANO","Faible",2557,0,2557,1,2557,0,2557,1,{"$f":"_xlfn.XLOOKUP($G421,[1]demo_data!$G$5:$G$2257,[1]demo_data!$I$5:$I$2257)","v":9554}]
[2175,"Côte d'Ivoire","CIV","BERE","MANKONO",15458,"CSR BIELOU","Faible",3310,0,3310,1,3310,0,3310,1,{"$f":"_xlfn.XLOOKUP($G422,[1]demo_data!$G$5:$G$2257,[1]demo_data!$I$5:$I$2257)","v":12370}]
[2177,"Côte d'Ivoire","CIV","BERE","MANKONO",15458,"CSR DANDOUGOU","Faible",2802,0,2802,1,2802,0,2802,1,{"$f":"_xlfn.XLOOKUP($G423,[1]demo_data!$G$5:$G$2257,[1]demo_data!$I$5:$I$2257)","v":10472}]
[2178,"Côte d'Ivoire","CIV","BERE","MANKONO",15458,"CSR DANTOGO","Faible",2233,0,2233,1,2233,0,2233,1,{"$f":"_xlfn.XLOOKUP($G424,[1]demo_data!$G$5:$G$2257,[1]demo_data!$I$5:$I$2257)","v":8343}]
[2179,"Côte d'Ivoire","CIV","BERE","MANKONO",15458,"CSR DIALAKORO","Faible",2089,0,2089,1,2089,0,2089,1,{"$f":"_xlfn.XLOOKUP($G425,[1]demo_data!$G$5:$G$2257,[1]demo_data!$I$5:$I$2257)","v":7808}]
[2181,"Côte d'Ivoire","CIV","BERE","MANKONO",15458,"CSR FIZALOUMA","Faible",2917,0,2917,1,2917,0,2917,1,{"$f":"_xlfn.XLOOKUP($G426,[1]demo_data!$G$5:$G$2257,[1]demo_data!$I$5:$I$2257)","v":10903}]
[2183,"Côte d'Ivoire","CIV","BERE","MANKONO",15458,"CSR KPESSO","Faible",4194,0,4194,1,4194,0,4194,1,{"$f":"_xlfn.XLOOKUP($G427,[1]demo_data!$G$5:$G$2257,[1]demo_data!$I$5:$I$2257)","v":15674}]
[2184,"Côte d'Ivoire","CIV","BERE","MANKONO",15458,"CSR NAKARA","Faible",2029,0,2029,1,2029,0,2029,1,{"$f":"_xlfn.XLOOKUP($G428,[1]demo_data!$G$5:$G$2257,[1]demo_data!$I$5:$I$2257)","v":7584}]
[2185,"Côte d'Ivoire","CIV","BERE","MANKONO",15458,"CSR NINAKIRI","Faible",2467,0,2467,1,2467,0,2467,1,{"$f":"_xlfn.XLOOKUP($G429,[1]demo_data!$G$5:$G$2257,[1]demo_data!$I$5:$I$2257)","v":9217}]
[2187,"Côte d'Ivoire","CIV","BERE","MANKONO",15458,"CSR OUEDALLAH","Non endémique",0,0,0,0,0,0,0,0,{"$f":"_xlfn.XLOOKUP($G430,[1]demo_data!$G$5:$G$2257,[1]demo_data!$I$5:$I$2257)","v":9408}]
[2190,"Côte d'Ivoire","CIV","BERE","MANKONO",15458,"CSR TOMONO - SAMBOROSSO","Faible",2611,0,2611,1,2611,0,2611,1,{"$f":"_xlfn.XLOOKUP($G431,[1]demo_data!$G$5:$G$2257,[1]demo_data!$I$5:$I$2257)","v":9758}]
[2192,"Côte d'Ivoire","CIV","BERE","MANKONO",15458,"CSU BOUANDOUGOU","Faible",5993,0,5993,1,5993,0,5993,1,{"$f":"_xlfn.XLOOKUP($G432,[1]demo_data!$G$5:$G$2257,[1]demo_data!$I$5:$I$2257)","v":22397}]
[2196,"Côte d'Ivoire","CIV","BERE","MANKONO",15458,"CSU MARANDALLAH","Faible",2491,0,2491,1,2491,0,2491,1,{"$f":"_xlfn.XLOOKUP($G433,[1]demo_data!$G$5:$G$2257,[1]demo_data!$I$5:$I$2257)","v":9311}]
[2197,"Côte d'Ivoire","CIV","BERE","MANKONO",15458,"CSU SARAHALA","Faible",6153,0,6153,1,6153,0,6153,1,{"$f":"_xlfn.XLOOKUP($G434,[1]demo_data!$G$5:$G$2257,[1]demo_data!$I$5:$I$2257)","v":22997}]
[2198,"Côte d'Ivoire","CIV","BERE","MANKONO",15458,"CSU TIENINGOUE","Non endémique",0,0,0,0,0,0,0,0,{"$f":"_xlfn.XLOOKUP($G435,[1]demo_data!$G$5:$G$2257,[1]demo_data!$I$5:$I$2257)","v":20160}]
[2200,"Côte d'Ivoire","CIV","BERE","MANKONO",15458,"D U OUSSOUGOULA ","Faible",2285,0,2285,1,2285,0,2285,1,{"$f":"_xlfn.XLOOKUP($G436,[1]demo_data!$G$5:$G$2257,[1]demo_data!$I$5:$I$2257)","v":8538}]
[2202,"Côte d'Ivoire","CIV","BERE","MANKONO",15458,"DR DAWARA","Faible",1592,0,1592,1,1592,0,1592,1,{"$f":"_xlfn.XLOOKUP($G437,[1]demo_data!$G$5:$G$2257,[1]demo_data!$I$5:$I$2257)","v":5951}]
[2205,"Côte d'Ivoire","CIV","BERE","MANKONO",15458,"DR KOBADALLAH","Faible",2044,0,2044,1,2044,0,2044,1,{"$f":"_xlfn.XLOOKUP($G438,[1]demo_data!$G$5:$G$2257,[1]demo_data!$I$5:$I$2257)","v":7637}]
[2206,"Côte d'Ivoire","CIV","BERE","MANKONO",15458,"DR KOUASSIDOUGOU","Non endémique",0,0,0,0,0,0,0,0,{"$f":"_xlfn.XLOOKUP($G439,[1]demo_data!$G$5:$G$2257,[1]demo_data!$I$5:$I$2257)","v":5368}]
[2209,"Côte d'Ivoire","CIV","BERE","MANKONO",15458,"DR NIANKABI","Faible",637,0,637,1,637,0,637,1,{"$f":"_xlfn.XLOOKUP($G440,[1]demo_data!$G$5:$G$2257,[1]demo_data!$I$5:$I$2257)","v":2383}]
[2210,"Côte d'Ivoire","CIV","BERE","MANKONO",15458,"DR SIENKOUNON","Faible",716,0,716,1,716,0,716,1,{"$f":"_xlfn.XLOOKUP($G441,[1]demo_data!$G$5:$G$2257,[1]demo_data!$I$5:$I$2257)","v":2676}]
[2211,"Côte d'Ivoire","CIV","BERE","MANKONO",15458,"DR SIRIHO","Non endémique",0,0,0,0,0,0,0,0,{"$f":"_xlfn.XLOOKUP($G442,[1]demo_data!$G$5:$G$2257,[1]demo_data!$I$5:$I$2257)","v":15127}]
[2214,"Côte d'Ivoire","CIV","BERE","MANKONO",15458,"HG","Faible",4485,0,4485,1,4485,0,4485,1,{"$f":"_xlfn.XLOOKUP($G443,[1]demo_data!$G$5:$G$2257,[1]demo_data!$I$5:$I$2257)","v":16760}]
[2216,"Côte d'Ivoire","CIV","BERE","MANKONO",15458,"SSSU","Faible",3875,0,3875,1,3875,0,3875,1,{"$f":"_xlfn.XLOOKUP($G444,[1]demo_data!$G$5:$G$2257,[1]demo_data!$I$5:$I$2257)","v":26871}]
[480,"Côte d'Ivoire","CIV","BOUKANI","BOUNA",15423,"BANIA","Modérée",206,94,300,1,206,94,300,2,{"$f":"_xlfn.XLOOKUP($G445,[1]demo_data!$G$5:$G$2257,[1]demo_data!$I$5:$I$2257)","v":814}]
[482,"Côte d'Ivoire","CIV","BOUKANI","BOUNA",15423,"BOUKO","Modérée",1536,705,2241,1,1536,705,2241,2,{"$f":"_xlfn.XLOOKUP($G446,[1]demo_data!$G$5:$G$2257,[1]demo_data!$I$5:$I$2257)","v":6055}]
[483,"Côte d'Ivoire","CIV","BOUKANI","BOUNA",15423,"DANOA","Modérée",2685,1232,3917,1,2685,1232,3917,2,{"$f":"_xlfn.XLOOKUP($G447,[1]demo_data!$G$5:$G$2257,[1]demo_data!$I$5:$I$2257)","v":10586}]
[484,"Côte d'Ivoire","CIV","BOUKANI","BOUNA",15423,"DAPIDOUO","Modérée",1283,588,1871,1,1283,588,1871,2,{"$f":"_xlfn.XLOOKUP($G448,[1]demo_data!$G$5:$G$2257,[1]demo_data!$I$5:$I$2257)","v":5056}]
[488,"Côte d'Ivoire","CIV","BOUKANI","BOUNA",15423,"KARTOUDOUO","Modérée",2100,963,3063,1,2100,963,3063,2,{"$f":"_xlfn.XLOOKUP($G449,[1]demo_data!$G$5:$G$2257,[1]demo_data!$I$5:$I$2257)","v":8279}]
[489,"Côte d'Ivoire","CIV","BOUKANI","BOUNA",15423,"KINTA","Modérée",817,374,1191,1,817,374,1191,2,{"$f":"_xlfn.XLOOKUP($G450,[1]demo_data!$G$5:$G$2257,[1]demo_data!$I$5:$I$2257)","v":3221}]
[490,"Côte d'Ivoire","CIV","BOUKANI","BOUNA",15423,"KOFLANDE","Modérée",608,279,887,1,608,279,887,2,{"$f":"_xlfn.XLOOKUP($G451,[1]demo_data!$G$5:$G$2257,[1]demo_data!$I$5:$I$2257)","v":2399}]
[491,"Côte d'Ivoire","CIV","BOUKANI","BOUNA",15423,"KOKPINGUE","Modérée",300,137,437,1,300,137,437,2,{"$f":"_xlfn.XLOOKUP($G452,[1]demo_data!$G$5:$G$2257,[1]demo_data!$I$5:$I$2257)","v":1183}]
[495,"Côte d'Ivoire","CIV","BOUKANI","BOUNA",15423,"LATROUGO","Modérée",430,197,627,1,430,197,627,2,{"$f":"_xlfn.XLOOKUP($G453,[1]demo_data!$G$5:$G$2257,[1]demo_data!$I$5:$I$2257)","v":1696}]
[496,"Côte d'Ivoire","CIV","BOUKANI","BOUNA",15423,"LEOMIDOUO","Modérée",1242,570,1812,1,1242,570,1812,2,{"$f":"_xlfn.XLOOKUP($G454,[1]demo_data!$G$5:$G$2257,[1]demo_data!$I$5:$I$2257)","v":4900}]
[497,"Côte d'Ivoire","CIV","BOUKANI","BOUNA",15423,"MASSITEON","Modérée",409,188,597,1,409,188,597,2,{"$f":"_xlfn.XLOOKUP($G455,[1]demo_data!$G$5:$G$2257,[1]demo_data!$I$5:$I$2257)","v":1616}]
[499,"Côte d'Ivoire","CIV","BOUKANI","BOUNA",15423,"NIANDEGUE","Modérée",1725,791,2516,1,1725,791,2516,2,{"$f":"_xlfn.XLOOKUP($G456,[1]demo_data!$G$5:$G$2257,[1]demo_data!$I$5:$I$2257)","v":6800}]
[500,"Côte d'Ivoire","CIV","BOUKANI","BOUNA",15423,"ONDEFIDOUO","Modérée",2215,1017,3232,1,2215,1017,3232,2,{"$f":"_xlfn.XLOOKUP($G457,[1]demo_data!$G$5:$G$2257,[1]demo_data!$I$5:$I$2257)","v":8735}]
[501,"Côte d'Ivoire","CIV","BOUKANI","BOUNA",15423,"PANZARANI","Modérée",922,423,1345,1,922,423,1345,2,{"$f":"_xlfn.XLOOKUP($G458,[1]demo_data!$G$5:$G$2257,[1]demo_data!$I$5:$I$2257)","v":3635}]
[502,"Côte d'Ivoire","CIV","BOUKANI","BOUNA",15423,"PIAYE","Non endémique",0,0,0,0,0,0,0,0,{"$f":"_xlfn.XLOOKUP($G459,[1]demo_data!$G$5:$G$2257,[1]demo_data!$I$5:$I$2257)","v":6481}]
[503,"Côte d'Ivoire","CIV","BOUKANI","BOUNA",15423,"PMI BOUNA","Modérée",8514,3906,12420,1,8514,3906,12420,2,{"$f":"_xlfn.XLOOKUP($G460,[1]demo_data!$G$5:$G$2257,[1]demo_data!$I$5:$I$2257)","v":33566}]
[504,"Côte d'Ivoire","CIV","BOUKANI","BOUNA",15423,"POUAN","Modérée",447,205,652,1,447,205,652,2,{"$f":"_xlfn.XLOOKUP($G461,[1]demo_data!$G$5:$G$2257,[1]demo_data!$I$5:$I$2257)","v":1761}]
[505,"Côte d'Ivoire","CIV","BOUKANI","BOUNA",15423,"SANGUINARI","Modérée",577,265,842,1,577,265,842,2,{"$f":"_xlfn.XLOOKUP($G462,[1]demo_data!$G$5:$G$2257,[1]demo_data!$I$5:$I$2257)","v":2273}]
[506,"Côte d'Ivoire","CIV","BOUKANI","BOUNA",15423,"SEPIDOUO","Modérée",939,431,1370,1,939,431,1370,2,{"$f":"_xlfn.XLOOKUP($G463,[1]demo_data!$G$5:$G$2257,[1]demo_data!$I$5:$I$2257)","v":3699}]
[507,"Côte d'Ivoire","CIV","BOUKANI","BOUNA",15423,"SOTITEDOUO","Modérée",1168,536,1704,1,1168,536,1704,2,{"$f":"_xlfn.XLOOKUP($G464,[1]demo_data!$G$5:$G$2257,[1]demo_data!$I$5:$I$2257)","v":4603}]
[508,"Côte d'Ivoire","CIV","BOUKANI","BOUNA",15423,"SYALEDOUO","Modérée",1070,491,1561,1,1070,491,1561,2,{"$f":"_xlfn.XLOOKUP($G465,[1]demo_data!$G$5:$G$2257,[1]demo_data!$I$5:$I$2257)","v":4219}]
[512,"Côte d'Ivoire","CIV","BOUKANI","BOUNA",15423,"VARGBO","Non endémique",0,0,0,0,0,0,0,0,{"$f":"_xlfn.XLOOKUP($G466,[1]demo_data!$G$5:$G$2257,[1]demo_data!$I$5:$I$2257)","v":3236}]
[513,"Côte d'Ivoire","CIV","BOUKANI","BOUNA",15423,"VONKORO","Modérée",488,224,712,1,488,224,712,2,{"$f":"_xlfn.XLOOKUP($G467,[1]demo_data!$G$5:$G$2257,[1]demo_data!$I$5:$I$2257)","v":1926}]
[514,"Côte d'Ivoire","CIV","BOUKANI","BOUNA",15423,"YOUNDOUO","Faible",4582,0,4582,1,4582,0,4582,1,{"$f":"_xlfn.XLOOKUP($G468,[1]demo_data!$G$5:$G$2257,[1]demo_data!$I$5:$I$2257)","v":18066}]
[515,"Côte d'Ivoire","CIV","BOUKANI","BOUNA",15423,"YOUTOURDOUO","Modérée",497,228,725,1,497,228,725,2,{"$f":"_xlfn.XLOOKUP($G469,[1]demo_data!$G$5:$G$2257,[1]demo_data!$I$5:$I$2257)","v":1960}]
[479,"Côte d'Ivoire","CIV","BOUKANI","DOROPO",15424,"ANGAYE","Faible",1478,0,1478,1,1478,0,1478,1,{"$f":"_xlfn.XLOOKUP($G470,[1]demo_data!$G$5:$G$2257,[1]demo_data!$I$5:$I$2257)","v":4447}]
[485,"Côte d'Ivoire","CIV","BOUKANI","DOROPO",15424,"DOROPO","Faible",8969,0,8969,1,8969,0,8969,1,{"$f":"_xlfn.XLOOKUP($G471,[1]demo_data!$G$5:$G$2257,[1]demo_data!$I$5:$I$2257)","v":26968}]
[487,"Côte d'Ivoire","CIV","BOUKANI","DOROPO",15424,"KALAMON","Faible",2291,0,2291,1,2291,0,2291,1,{"$f":"_xlfn.XLOOKUP($G472,[1]demo_data!$G$5:$G$2257,[1]demo_data!$I$5:$I$2257)","v":6888}]
[493,"Côte d'Ivoire","CIV","BOUKANI","DOROPO",15424,"KOUNZIE","Faible",1591,0,1591,1,1591,0,1591,1,{"$f":"_xlfn.XLOOKUP($G473,[1]demo_data!$G$5:$G$2257,[1]demo_data!$I$5:$I$2257)","v":4784}]
[494,"Côte d'Ivoire","CIV","BOUKANI","DOROPO",15424,"LANKIO","Modérée",1069,490,1559,1,1069,490,1559,2,{"$f":"_xlfn.XLOOKUP($G474,[1]demo_data!$G$5:$G$2257,[1]demo_data!$I$5:$I$2257)","v":3214}]
[498,"Côte d'Ivoire","CIV","BOUKANI","DOROPO",15424,"NIAMOIN","Modérée",3159,1450,4609,1,3159,1450,4609,2,{"$f":"_xlfn.XLOOKUP($G475,[1]demo_data!$G$5:$G$2257,[1]demo_data!$I$5:$I$2257)","v":9498}]
[511,"Côte d'Ivoire","CIV","BOUKANI","DOROPO",15424,"VARALE","Faible",2347,0,2347,1,2347,0,2347,1,{"$f":"_xlfn.XLOOKUP($G476,[1]demo_data!$G$5:$G$2257,[1]demo_data!$I$5:$I$2257)","v":7057}]
[516,"Côte d'Ivoire","CIV","BOUKANI","NASSIAN",15353,"BANVAYO","Non endémique",0,0,0,0,0,0,0,0,{"$f":"_xlfn.XLOOKUP($G477,[1]demo_data!$G$5:$G$2257,[1]demo_data!$I$5:$I$2257)","v":1661}]
[517,"Côte d'Ivoire","CIV","BOUKANI","NASSIAN",15353,"BOGOFA","Non endémique",0,0,0,0,0,0,0,0,{"$f":"_xlfn.XLOOKUP($G478,[1]demo_data!$G$5:$G$2257,[1]demo_data!$I$5:$I$2257)","v":7329}]
[518,"Côte d'Ivoire","CIV","BOUKANI","NASSIAN",15353,"DEPINGO","Non endémique",0,0,0,0,0,0,0,0,{"$f":"_xlfn.XLOOKUP($G479,[1]demo_data!$G$5:$G$2257,[1]demo_data!$I$5:$I$2257)","v":1431}]
[519,"Côte d'Ivoire","CIV","BOUKANI","NASSIAN",15353,"KAKPIN","Non endémique",0,0,0,0,0,0,0,0,{"$f":"_xlfn.XLOOKUP($G480,[1]demo_data!$G$5:$G$2257,[1]demo_data!$I$5:$I$2257)","v":3853}]
[520,"Côte d'Ivoire","CIV","BOUKANI","NASSIAN",15353,"KOTOUBA","Non endémique",0,0,0,0,0,0,0,0,{"$f":"_xlfn.XLOOKUP($G481,[1]demo_data!$G$5:$G$2257,[1]demo_data!$I$5:$I$2257)","v":5913}]
[521,"Côte d'Ivoire","CIV","BOUKANI","NASSIAN",15353,"LAMBIRA","Non endémique",0,0,0,0,0,0,0,0,{"$f":"_xlfn.XLOOKUP($G482,[1]demo_data!$G$5:$G$2257,[1]demo_data!$I$5:$I$2257)","v":4134}]
[522,"Côte d'Ivoire","CIV","BOUKANI","NASSIAN",15353,"NASSIAN","Non endémique",0,0,0,0,0,0,0,0,{"$f":"_xlfn.XLOOKUP($G483,[1]demo_data!$G$5:$G$2257,[1]demo_data!$I$5:$I$2257)","v":9206}]
[523,"Côte d'Ivoire","CIV","BOUKANI","NASSIAN",15353,"PARHADI","Non endémique",0,0,0,0,0,0,0,0,{"$f":"_xlfn.XLOOKUP($G484,[1]demo_data!$G$5:$G$2257,[1]demo_data!$I$5:$I$2257)","v":4250}]
[524,"Côte d'Ivoire","CIV","BOUKANI","NASSIAN",15353,"SIRIKI-BANGO","Non endémique",0,0,0,0,0,0,0,0,{"$f":"_xlfn.XLOOKUP($G485,[1]demo_data!$G$5:$G$2257,[1]demo_data!$I$5:$I$2257)","v":2069}]
[525,"Côte d'Ivoire","CIV","BOUKANI","NASSIAN",15353,"SOMINASSE","Non endémique",0,0,0,0,0,0,0,0,{"$f":"_xlfn.XLOOKUP($G486,[1]demo_data!$G$5:$G$2257,[1]demo_data!$I$5:$I$2257)","v":5951}]
[526,"Côte d'Ivoire","CIV","BOUKANI","NASSIAN",15353,"TALAHINI","Non endémique",0,0,0,0,0,0,0,0,{"$f":"_xlfn.XLOOKUP($G487,[1]demo_data!$G$5:$G$2257,[1]demo_data!$I$5:$I$2257)","v":3945}]
[527,"Côte d'Ivoire","CIV","BOUKANI","NASSIAN",15353,"TOUNGBO-YAGA","Non endémique",0,0,0,0,0,0,0,0,{"$f":"_xlfn.XLOOKUP($G488,[1]demo_data!$G$5:$G$2257,[1]demo_data!$I$5:$I$2257)","v":2087}]
[481,"Côte d'Ivoire","CIV","BOUKANI","TEHINI",15425,"BAVE","Faible",1471,0,1471,1,1471,0,1471,1,{"$f":"_xlfn.XLOOKUP($G489,[1]demo_data!$G$5:$G$2257,[1]demo_data!$I$5:$I$2257)","v":5305}]
[486,"Côte d'Ivoire","CIV","BOUKANI","TEHINI",15425,"GOGO","Modérée",2697,1237,3934,1,2697,1237,3934,2,{"$f":"_xlfn.XLOOKUP($G490,[1]demo_data!$G$5:$G$2257,[1]demo_data!$I$5:$I$2257)","v":9726}]
[492,"Côte d'Ivoire","CIV","BOUKANI","TEHINI",15425,"KOUEBONOU","Faible",817,0,817,1,817,0,817,1,{"$f":"_xlfn.XLOOKUP($G491,[1]demo_data!$G$5:$G$2257,[1]demo_data!$I$5:$I$2257)","v":2944}]
[509,"Côte d'Ivoire","CIV","BOUKANI","TEHINI",15425,"TEHINI","Faible",5272,0,5272,1,5272,0,5272,1,{"$f":"_xlfn.XLOOKUP($G492,[1]demo_data!$G$5:$G$2257,[1]demo_data!$I$5:$I$2257)","v":19003}]
[510,"Côte d'Ivoire","CIV","BOUKANI","TEHINI",15425,"TOUGBO","Faible",3476,0,3476,1,3476,0,3476,1,{"$f":"_xlfn.XLOOKUP($G493,[1]demo_data!$G$5:$G$2257,[1]demo_data!$I$5:$I$2257)","v":12532}]
[616,"Côte d'Ivoire","CIV","CAVALLY","BLOLEQUIN",15356,"CSR BLEDIDIEYA","Modérée",2578,1183,3761,1,2578,1183,3761,2,{"$f":"_xlfn.XLOOKUP($G494,[1]demo_data!$G$5:$G$2257,[1]demo_data!$I$5:$I$2257)","v":10136}]
[617,"Côte d'Ivoire","CIV","CAVALLY","BLOLEQUIN",15356,"CSR CHANTIER COLONEL","Forte",3504,8037,11541,1,3504,8037,11541,3,{"$f":"_xlfn.XLOOKUP($G495,[1]demo_data!$G$5:$G$2257,[1]demo_data!$I$5:$I$2257)","v":13774}]
[618,"Côte d'Ivoire","CIV","CAVALLY","BLOLEQUIN",15356,"CSR DANDROU","Modérée",3253,1493,4746,1,3253,1493,4746,2,{"$f":"_xlfn.XLOOKUP($G496,[1]demo_data!$G$5:$G$2257,[1]demo_data!$I$5:$I$2257)","v":12790}]
[619,"Côte d'Ivoire","CIV","CAVALLY","BLOLEQUIN",15356,"CSR DIBOKE","Modérée",2554,1172,3726,1,2554,1172,3726,2,{"$f":"_xlfn.XLOOKUP($G497,[1]demo_data!$G$5:$G$2257,[1]demo_data!$I$5:$I$2257)","v":10039}]
[620,"Côte d'Ivoire","CIV","CAVALLY","BLOLEQUIN",15356,"CSR GUIBOBLY","Modérée",2055,943,2998,1,2055,943,2998,2,{"$f":"_xlfn.XLOOKUP($G498,[1]demo_data!$G$5:$G$2257,[1]demo_data!$I$5:$I$2257)","v":8081}]
[621,"Côte d'Ivoire","CIV","CAVALLY","BLOLEQUIN",15356,"CSR TINHOU","Modérée",1472,675,2147,1,1472,675,2147,2,{"$f":"_xlfn.XLOOKUP($G499,[1]demo_data!$G$5:$G$2257,[1]demo_data!$I$5:$I$2257)","v":5788}]
[622,"Côte d'Ivoire","CIV","CAVALLY","BLOLEQUIN",15356,"CSR TOMEPLEU","Modérée",3575,1640,5215,1,3575,1640,5215,2,{"$f":"_xlfn.XLOOKUP($G500,[1]demo_data!$G$5:$G$2257,[1]demo_data!$I$5:$I$2257)","v":14055}]
[623,"Côte d'Ivoire","CIV","CAVALLY","BLOLEQUIN",15356,"CSU DOKE","Modérée",2781,1276,4057,1,2781,1276,4057,2,{"$f":"_xlfn.XLOOKUP($G501,[1]demo_data!$G$5:$G$2257,[1]demo_data!$I$5:$I$2257)","v":10937}]
[624,"Côte d'Ivoire","CIV","CAVALLY","BLOLEQUIN",15356,"CSU ZEAGLO","Modérée",5105,2342,7447,1,5105,2342,7447,2,{"$f":"_xlfn.XLOOKUP($G502,[1]demo_data!$G$5:$G$2257,[1]demo_data!$I$5:$I$2257)","v":20073}]
[625,"Côte d'Ivoire","CIV","CAVALLY","BLOLEQUIN",15356,"DR PETIT GUIGLO","Modérée",1444,663,2107,1,1444,663,2107,2,{"$f":"_xlfn.XLOOKUP($G503,[1]demo_data!$G$5:$G$2257,[1]demo_data!$I$5:$I$2257)","v":5676}]
[626,"Côte d'Ivoire","CIV","CAVALLY","BLOLEQUIN",15356,"HG BLOLEQUIN","Modérée",8191,3758,11949,1,8191,3758,11949,2,{"$f":"_xlfn.XLOOKUP($G504,[1]demo_data!$G$5:$G$2257,[1]demo_data!$I$5:$I$2257)","v":32203}]
[662,"Côte d'Ivoire","CIV","CAVALLY","GUIGLO",15429,"CSR BEDY GOAZON","Modérée",4810,2207,7017,0,0,0,0,2,{"$f":"_xlfn.XLOOKUP($G505,[1]demo_data!$G$5:$G$2257,[1]demo_data!$I$5:$I$2257)","v":19014}]
[663,"Côte d'Ivoire","CIV","CAVALLY","GUIGLO",15429,"CSR GOYA","Modérée",1450,665,2115,0,0,0,0,2,{"$f":"_xlfn.XLOOKUP($G506,[1]demo_data!$G$5:$G$2257,[1]demo_data!$I$5:$I$2257)","v":5730}]
[664,"Côte d'Ivoire","CIV","CAVALLY","GUIGLO",15429,"CSR GUINKIN","Modérée",3066,1407,4473,0,0,0,0,2,{"$f":"_xlfn.XLOOKUP($G507,[1]demo_data!$G$5:$G$2257,[1]demo_data!$I$5:$I$2257)","v":12120}]
[666,"Côte d'Ivoire","CIV","CAVALLY","GUIGLO",15429,"CSR NIZAHON","Modérée",3234,1484,4718,0,0,0,0,2,{"$f":"_xlfn.XLOOKUP($G508,[1]demo_data!$G$5:$G$2257,[1]demo_data!$I$5:$I$2257)","v":12786}]
[667,"Côte d'Ivoire","CIV","CAVALLY","GUIGLO",15429,"CSR ZOUAN","Modérée",2114,970,3084,0,0,0,0,2,{"$f":"_xlfn.XLOOKUP($G509,[1]demo_data!$G$5:$G$2257,[1]demo_data!$I$5:$I$2257)","v":8355}]
[668,"Côte d'Ivoire","CIV","CAVALLY","GUIGLO",15429,"CSR ZRO","Modérée",2569,1179,3748,0,0,0,0,2,{"$f":"_xlfn.XLOOKUP($G510,[1]demo_data!$G$5:$G$2257,[1]demo_data!$I$5:$I$2257)","v":10157}]
[671,"Côte d'Ivoire","CIV","CAVALLY","GUIGLO",15429,"DR BEABLO","Modérée",2156,989,3145,0,0,0,0,2,{"$f":"_xlfn.XLOOKUP($G511,[1]demo_data!$G$5:$G$2257,[1]demo_data!$I$5:$I$2257)","v":8524}]
[672,"Côte d'Ivoire","CIV","CAVALLY","GUIGLO",15429,"DR BEHEBO","Modérée",2296,1054,3350,0,0,0,0,2,{"$f":"_xlfn.XLOOKUP($G512,[1]demo_data!$G$5:$G$2257,[1]demo_data!$I$5:$I$2257)","v":9077}]
[673,"Côte d'Ivoire","CIV","CAVALLY","GUIGLO",15429,"DR BEOUA","Modérée",2339,1073,3412,0,0,0,0,2,{"$f":"_xlfn.XLOOKUP($G513,[1]demo_data!$G$5:$G$2257,[1]demo_data!$I$5:$I$2257)","v":9249}]
[675,"Côte d'Ivoire","CIV","CAVALLY","GUIGLO",15429,"DR GBLAPLEU","Modérée",966,443,1409,0,0,0,0,2,{"$f":"_xlfn.XLOOKUP($G514,[1]demo_data!$G$5:$G$2257,[1]demo_data!$I$5:$I$2257)","v":3819}]
[676,"Côte d'Ivoire","CIV","CAVALLY","GUIGLO",15429,"DR KRIDY","Modérée",2170,996,3166,0,0,0,0,2,{"$f":"_xlfn.XLOOKUP($G515,[1]demo_data!$G$5:$G$2257,[1]demo_data!$I$5:$I$2257)","v":8581}]
[677,"Côte d'Ivoire","CIV","CAVALLY","GUIGLO",15429,"DR MONA","Modérée",2140,982,3122,0,0,0,0,2,{"$f":"_xlfn.XLOOKUP($G516,[1]demo_data!$G$5:$G$2257,[1]demo_data!$I$5:$I$2257)","v":8462}]
[678,"Côte d'Ivoire","CIV","CAVALLY","GUIGLO",15429,"DR PETIT GUIGLO","Modérée",3606,1655,5261,0,0,0,0,2,{"$f":"_xlfn.XLOOKUP($G517,[1]demo_data!$G$5:$G$2257,[1]demo_data!$I$5:$I$2257)","v":5676}]
[680,"Côte d'Ivoire","CIV","CAVALLY","GUIGLO",15429,"NICLA","Modérée",3437,1577,5014,0,0,0,0,2,{"$f":"_xlfn.XLOOKUP($G518,[1]demo_data!$G$5:$G$2257,[1]demo_data!$I$5:$I$2257)","v":13591}]
[681,"Côte d'Ivoire","CIV","CAVALLY","GUIGLO",15429,"PMI ","Modérée",15953,7319,23272,0,0,0,0,2,{"$f":"_xlfn.XLOOKUP($G519,[1]demo_data!$G$5:$G$2257,[1]demo_data!$I$5:$I$2257)","v":63073}]
[665,"Côte d'Ivoire","CIV","CAVALLY","TAI",15430,"CSR KEÏBLY","Modérée",4174,1916,6090,0,0,0,0,2,{"$f":"_xlfn.XLOOKUP($G520,[1]demo_data!$G$5:$G$2257,[1]demo_data!$I$5:$I$2257)","v":16253}]
[669,"Côte d'Ivoire","CIV","CAVALLY","TAI",15430,"CSU TAÏ","Modérée",5676,2604,8280,0,0,0,0,2,{"$f":"_xlfn.XLOOKUP($G521,[1]demo_data!$G$5:$G$2257,[1]demo_data!$I$5:$I$2257)","v":22101}]
[670,"Côte d'Ivoire","CIV","CAVALLY","TAI",15430,"CSU ZAGNE","Modérée",10975,5036,16011,0,0,0,0,2,{"$f":"_xlfn.XLOOKUP($G522,[1]demo_data!$G$5:$G$2257,[1]demo_data!$I$5:$I$2257)","v":42735}]
[674,"Côte d'Ivoire","CIV","CAVALLY","TAI",15430,"DR DJIDOUBAYE","Modérée",3309,1518,4827,0,0,0,0,2,{"$f":"_xlfn.XLOOKUP($G523,[1]demo_data!$G$5:$G$2257,[1]demo_data!$I$5:$I$2257)","v":12883}]
[679,"Côte d'Ivoire","CIV","CAVALLY","TAI",15430,"DR TIOLE OULA","Modérée",2406,1104,3510,0,0,0,0,2,{"$f":"_xlfn.XLOOKUP($G524,[1]demo_data!$G$5:$G$2257,[1]demo_data!$I$5:$I$2257)","v":9369}]
[682,"Côte d'Ivoire","CIV","CAVALLY","TAI",15430,"SAKRE","Modérée",3936,1806,5742,0,0,0,0,2,{"$f":"_xlfn.XLOOKUP($G525,[1]demo_data!$G$5:$G$2257,[1]demo_data!$I$5:$I$2257)","v":15327}]
[712,"Côte d'Ivoire","CIV","CAVALLY","TOULEUPLEU",15360,"CSR BOHOBLY","Modérée",1680,771,2451,0,0,0,0,2,{"$f":"_xlfn.XLOOKUP($G526,[1]demo_data!$G$5:$G$2257,[1]demo_data!$I$5:$I$2257)","v":6602}]
[713,"Côte d'Ivoire","CIV","CAVALLY","TOULEUPLEU",15360,"CSR NEZOBLY","Modérée",692,317,1009,0,0,0,0,2,{"$f":"_xlfn.XLOOKUP($G527,[1]demo_data!$G$5:$G$2257,[1]demo_data!$I$5:$I$2257)","v":2721}]
[714,"Côte d'Ivoire","CIV","CAVALLY","TOULEUPLEU",15360,"CSR PAHOUBLY","Modérée",1193,548,1741,0,0,0,0,2,{"$f":"_xlfn.XLOOKUP($G528,[1]demo_data!$G$5:$G$2257,[1]demo_data!$I$5:$I$2257)","v":4691}]
[715,"Côte d'Ivoire","CIV","CAVALLY","TOULEUPLEU",15360,"CSR SAHIBLY","Modérée",718,329,1047,0,0,0,0,2,{"$f":"_xlfn.XLOOKUP($G529,[1]demo_data!$G$5:$G$2257,[1]demo_data!$I$5:$I$2257)","v":2824}]
[716,"Côte d'Ivoire","CIV","CAVALLY","TOULEUPLEU",15360,"CSR ZIOMBLY","Modérée",575,264,839,0,0,0,0,2,{"$f":"_xlfn.XLOOKUP($G530,[1]demo_data!$G$5:$G$2257,[1]demo_data!$I$5:$I$2257)","v":2261}]
[717,"Côte d'Ivoire","CIV","CAVALLY","TOULEUPLEU",15360,"CSU BAKOUBLY","Modérée",1393,639,2032,0,0,0,0,2,{"$f":"_xlfn.XLOOKUP($G531,[1]demo_data!$G$5:$G$2257,[1]demo_data!$I$5:$I$2257)","v":5478}]
[718,"Côte d'Ivoire","CIV","CAVALLY","TOULEUPLEU",15360,"CSU INTEGRE","Modérée",670,308,978,0,0,0,0,2,{"$f":"_xlfn.XLOOKUP($G532,[1]demo_data!$G$5:$G$2257,[1]demo_data!$I$5:$I$2257)","v":2635}]
[719,"Côte d'Ivoire","CIV","CAVALLY","TOULEUPLEU",15360,"CSU MEO","Modérée",2392,1097,3489,0,0,0,0,2,{"$f":"_xlfn.XLOOKUP($G533,[1]demo_data!$G$5:$G$2257,[1]demo_data!$I$5:$I$2257)","v":9403}]
[720,"Côte d'Ivoire","CIV","CAVALLY","TOULEUPLEU",15360,"CSU PEHE","Modérée",1541,707,2248,0,0,0,0,2,{"$f":"_xlfn.XLOOKUP($G534,[1]demo_data!$G$5:$G$2257,[1]demo_data!$I$5:$I$2257)","v":6061}]
[721,"Côte d'Ivoire","CIV","CAVALLY","TOULEUPLEU",15360,"CSU TIOBLY","Modérée",1084,498,1582,0,0,0,0,2,{"$f":"_xlfn.XLOOKUP($G535,[1]demo_data!$G$5:$G$2257,[1]demo_data!$I$5:$I$2257)","v":4265}]
[722,"Côte d'Ivoire","CIV","CAVALLY","TOULEUPLEU",15360,"DR DENAN","Modérée",539,247,786,0,0,0,0,2,{"$f":"_xlfn.XLOOKUP($G536,[1]demo_data!$G$5:$G$2257,[1]demo_data!$I$5:$I$2257)","v":2117}]
[723,"Côte d'Ivoire","CIV","CAVALLY","TOULEUPLEU",15360,"DR DIAIBLY","Modérée",824,378,1202,0,0,0,0,2,{"$f":"_xlfn.XLOOKUP($G537,[1]demo_data!$G$5:$G$2257,[1]demo_data!$I$5:$I$2257)","v":3237}]
[724,"Côte d'Ivoire","CIV","CAVALLY","TOULEUPLEU",15360,"DR KLAON","Faible",406,0,406,0,0,0,0,1,{"$f":"_xlfn.XLOOKUP($G538,[1]demo_data!$G$5:$G$2257,[1]demo_data!$I$5:$I$2257)","v":1599}]
[725,"Côte d'Ivoire","CIV","CAVALLY","TOULEUPLEU",15360,"DR KOARHO","Forte",399,916,1315,1,399,916,1315,3,{"$f":"_xlfn.XLOOKUP($G539,[1]demo_data!$G$5:$G$2257,[1]demo_data!$I$5:$I$2257)","v":1570}]
[726,"Côte d'Ivoire","CIV","CAVALLY","TOULEUPLEU",15360,"DR PEHEKANHOUEBLY","Modérée",93,43,136,0,0,0,0,2,{"$f":"_xlfn.XLOOKUP($G540,[1]demo_data!$G$5:$G$2257,[1]demo_data!$I$5:$I$2257)","v":369}]
[727,"Côte d'Ivoire","CIV","CAVALLY","TOULEUPLEU",15360,"DR TOYEBLY","Forte",474,1088,1562,1,474,1088,1562,3,{"$f":"_xlfn.XLOOKUP($G541,[1]demo_data!$G$5:$G$2257,[1]demo_data!$I$5:$I$2257)","v":1864}]
[728,"Côte d'Ivoire","CIV","CAVALLY","TOULEUPLEU",15360,"HOPITAL GENERAL TOULEPLEU","Modérée",2197,1008,3205,0,0,0,0,2,{"$f":"_xlfn.XLOOKUP($G542,[1]demo_data!$G$5:$G$2257,[1]demo_data!$I$5:$I$2257)","v":8637}]
[1360,"Côte d'Ivoire","CIV","FOLON","KANIASSO",15438,"CSR BANANGORO","Non endémique",0,0,0,0,0,0,0,0,{"$f":"_xlfn.XLOOKUP($G543,[1]demo_data!$G$5:$G$2257,[1]demo_data!$I$5:$I$2257)","v":6030}]
[1361,"Côte d'Ivoire","CIV","FOLON","KANIASSO",15438,"CSR GOUEYA","Non endémique",0,0,0,0,0,0,0,0,{"$f":"_xlfn.XLOOKUP($G544,[1]demo_data!$G$5:$G$2257,[1]demo_data!$I$5:$I$2257)","v":4033}]
[1362,"Côte d'Ivoire","CIV","FOLON","KANIASSO",15438,"CSR MANADOUN","Non endémique",0,0,0,0,0,0,0,0,{"$f":"_xlfn.XLOOKUP($G545,[1]demo_data!$G$5:$G$2257,[1]demo_data!$I$5:$I$2257)","v":4522}]
[1363,"Côte d'Ivoire","CIV","FOLON","KANIASSO",15438,"CSR OUELLI","Non endémique",0,0,0,0,0,0,0,0,{"$f":"_xlfn.XLOOKUP($G546,[1]demo_data!$G$5:$G$2257,[1]demo_data!$I$5:$I$2257)","v":4895}]
[1364,"Côte d'Ivoire","CIV","FOLON","KANIASSO",15438,"CSR SANAFEREDOUGOU","Non endémique",0,0,0,0,0,0,0,0,{"$f":"_xlfn.XLOOKUP($G547,[1]demo_data!$G$5:$G$2257,[1]demo_data!$I$5:$I$2257)","v":2114}]
[1365,"Côte d'Ivoire","CIV","FOLON","KANIASSO",15438,"CSU GOULIA","Non endémique",0,0,0,0,0,0,0,0,{"$f":"_xlfn.XLOOKUP($G548,[1]demo_data!$G$5:$G$2257,[1]demo_data!$I$5:$I$2257)","v":14492}]
[1366,"Côte d'Ivoire","CIV","FOLON","KANIASSO",15438,"CSU KANIASSO","Non endémique",0,0,0,0,0,0,0,0,{"$f":"_xlfn.XLOOKUP($G549,[1]demo_data!$G$5:$G$2257,[1]demo_data!$I$5:$I$2257)","v":3123}]
[1369,"Côte d'Ivoire","CIV","FOLON","KANIASSO",15438,"CSU MAHANDIANA","Non endémique",0,0,0,0,0,0,0,0,{"$f":"_xlfn.XLOOKUP($G550,[1]demo_data!$G$5:$G$2257,[1]demo_data!$I$5:$I$2257)","v":10891}]
[1375,"Côte d'Ivoire","CIV","FOLON","KANIASSO",15438,"DR KARALA","Non endémique",0,0,0,0,0,0,0,0,{"$f":"_xlfn.XLOOKUP($G551,[1]demo_data!$G$5:$G$2257,[1]demo_data!$I$5:$I$2257)","v":1007}]
[1377,"Côte d'Ivoire","CIV","FOLON","KANIASSO",15438,"DR KORO OULE","Non endémique",0,0,0,0,0,0,0,0,{"$f":"_xlfn.XLOOKUP($G552,[1]demo_data!$G$5:$G$2257,[1]demo_data!$I$5:$I$2257)","v":2122}]
[1379,"Côte d'Ivoire","CIV","FOLON","KANIASSO",15438,"DR NAFADOUGOU","Non endémique",0,0,0,0,0,0,0,0,{"$f":"_xlfn.XLOOKUP($G553,[1]demo_data!$G$5:$G$2257,[1]demo_data!$I$5:$I$2257)","v":981}]
[1382,"Côte d'Ivoire","CIV","FOLON","KANIASSO",15438,"DR TAHARA","Non endémique",0,0,0,0,0,0,0,0,{"$f":"_xlfn.XLOOKUP($G554,[1]demo_data!$G$5:$G$2257,[1]demo_data!$I$5:$I$2257)","v":3549}]
[1383,"Côte d'Ivoire","CIV","FOLON","KANIASSO",15438,"DR WAHIRE","Non endémique",0,0,0,0,0,0,0,0,{"$f":"_xlfn.XLOOKUP($G555,[1]demo_data!$G$5:$G$2257,[1]demo_data!$I$5:$I$2257)","v":4172}]
[1367,"Côte d'Ivoire","CIV","FOLON","MINIGNAN",15437,"CSU KIMBIRILA NORD","Non endémique",0,0,0,0,0,0,0,0,{"$f":"_xlfn.XLOOKUP($G556,[1]demo_data!$G$5:$G$2257,[1]demo_data!$I$5:$I$2257)","v":3134}]
[1368,"Côte d'Ivoire","CIV","FOLON","MINIGNAN",15437,"CSU KOUBAN","Modérée",1284,589,1873,1,1284,589,1873,2,{"$f":"_xlfn.XLOOKUP($G557,[1]demo_data!$G$5:$G$2257,[1]demo_data!$I$5:$I$2257)","v":4617}]
[1370,"Côte d'Ivoire","CIV","FOLON","MINIGNAN",15437,"CSU MINIGNAN","Modérée",1120,514,1634,1,1120,514,1634,2,{"$f":"_xlfn.XLOOKUP($G558,[1]demo_data!$G$5:$G$2257,[1]demo_data!$I$5:$I$2257)","v":4032}]
[1371,"Côte d'Ivoire","CIV","FOLON","MINIGNAN",15437,"CSU SOKORO","Modérée",1106,508,1614,1,1106,508,1614,2,{"$f":"_xlfn.XLOOKUP($G559,[1]demo_data!$G$5:$G$2257,[1]demo_data!$I$5:$I$2257)","v":3981}]
[1372,"Côte d'Ivoire","CIV","FOLON","MINIGNAN",15437,"CSU TIENKO","Modérée",1911,877,2788,1,1911,877,2788,2,{"$f":"_xlfn.XLOOKUP($G560,[1]demo_data!$G$5:$G$2257,[1]demo_data!$I$5:$I$2257)","v":6877}]
[1373,"Côte d'Ivoire","CIV","FOLON","MINIGNAN",15437,"DR GOUENZOU","Non endémique",0,0,0,0,0,0,0,0,{"$f":"_xlfn.XLOOKUP($G561,[1]demo_data!$G$5:$G$2257,[1]demo_data!$I$5:$I$2257)","v":2196}]
[1374,"Côte d'Ivoire","CIV","FOLON","MINIGNAN",15437,"DR KABANGOUE","Modérée",516,237,753,1,516,237,753,2,{"$f":"_xlfn.XLOOKUP($G562,[1]demo_data!$G$5:$G$2257,[1]demo_data!$I$5:$I$2257)","v":1856}]
[1376,"Côte d'Ivoire","CIV","FOLON","MINIGNAN",15437,"DR KEMINGOUARA","Modérée",197,90,287,1,197,90,287,2,{"$f":"_xlfn.XLOOKUP($G563,[1]demo_data!$G$5:$G$2257,[1]demo_data!$I$5:$I$2257)","v":709}]
[1378,"Côte d'Ivoire","CIV","FOLON","MINIGNAN",15437,"DR KOTOULA","Non endémique",0,0,0,0,0,0,0,0,{"$f":"_xlfn.XLOOKUP($G564,[1]demo_data!$G$5:$G$2257,[1]demo_data!$I$5:$I$2257)","v":2266}]
[1380,"Côte d'Ivoire","CIV","FOLON","MINIGNAN",15437,"DR NAGUINA","Modérée",747,343,1090,1,747,343,1090,2,{"$f":"_xlfn.XLOOKUP($G565,[1]demo_data!$G$5:$G$2257,[1]demo_data!$I$5:$I$2257)","v":2686}]
[1381,"Côte d'Ivoire","CIV","FOLON","MINIGNAN",15437,"DR SOKOURABA FOLO","Non endémique",0,0,0,0,0,0,0,0,{"$f":"_xlfn.XLOOKUP($G566,[1]demo_data!$G$5:$G$2257,[1]demo_data!$I$5:$I$2257)","v":6021}]
[1384,"Côte d'Ivoire","CIV","FOLON","MINIGNAN",15437,"HG MINIGNAN","Faible",3310,0,3310,1,3310,0,3310,1,{"$f":"_xlfn.XLOOKUP($G567,[1]demo_data!$G$5:$G$2257,[1]demo_data!$I$5:$I$2257)","v":11911}]
[729,"Côte d'Ivoire","CIV","GBEKE","BEOUMI",15361,"AHOUNZE","Faible",1226,0,1226,0,0,0,0,1,{"$f":"_xlfn.XLOOKUP($G568,[1]demo_data!$G$5:$G$2257,[1]demo_data!$I$5:$I$2257)","v":4669}]
[730,"Côte d'Ivoire","CIV","GBEKE","BEOUMI",15361,"AKOUNDA","Faible",488,0,488,0,0,0,0,1,{"$f":"_xlfn.XLOOKUP($G569,[1]demo_data!$G$5:$G$2257,[1]demo_data!$I$5:$I$2257)","v":1862}]
[732,"Côte d'Ivoire","CIV","GBEKE","BEOUMI",15361,"CSR ABOUAKRO","Faible",1447,0,1447,0,0,0,0,1,{"$f":"_xlfn.XLOOKUP($G570,[1]demo_data!$G$5:$G$2257,[1]demo_data!$I$5:$I$2257)","v":5510}]
[733,"Côte d'Ivoire","CIV","GBEKE","BEOUMI",15361,"CSR AFOTOBO","Non endémique",0,0,0,0,0,0,0,0,{"$f":"_xlfn.XLOOKUP($G571,[1]demo_data!$G$5:$G$2257,[1]demo_data!$I$5:$I$2257)","v":10487}]
[734,"Côte d'Ivoire","CIV","GBEKE","BEOUMI",15361,"CSR BOUREBO","Faible",1771,0,1771,0,0,0,0,1,{"$f":"_xlfn.XLOOKUP($G572,[1]demo_data!$G$5:$G$2257,[1]demo_data!$I$5:$I$2257)","v":6744}]
[735,"Côte d'Ivoire","CIV","GBEKE","BEOUMI",15361,"CSR DIANHOUN","Faible",1025,0,1025,0,0,0,0,1,{"$f":"_xlfn.XLOOKUP($G573,[1]demo_data!$G$5:$G$2257,[1]demo_data!$I$5:$I$2257)","v":3904}]
[736,"Côte d'Ivoire","CIV","GBEKE","BEOUMI",15361,"CSR DIEVIESSOU","Modérée",1427,655,2082,0,0,0,0,2,{"$f":"_xlfn.XLOOKUP($G574,[1]demo_data!$G$5:$G$2257,[1]demo_data!$I$5:$I$2257)","v":5434}]
[737,"Côte d'Ivoire","CIV","GBEKE","BEOUMI",15361,"CSR FARI -M'BABO","Non endémique",0,0,0,0,0,0,0,0,{"$f":"_xlfn.XLOOKUP($G575,[1]demo_data!$G$5:$G$2257,[1]demo_data!$I$5:$I$2257)","v":5724}]
[738,"Côte d'Ivoire","CIV","GBEKE","BEOUMI",15361,"CSR GOLIKPANGBASSOU","Faible",1168,0,1168,0,0,0,0,1,{"$f":"_xlfn.XLOOKUP($G576,[1]demo_data!$G$5:$G$2257,[1]demo_data!$I$5:$I$2257)","v":4445}]
[739,"Côte d'Ivoire","CIV","GBEKE","BEOUMI",15361,"CSR KONGOBO","Faible",1061,0,1061,0,0,0,0,1,{"$f":"_xlfn.XLOOKUP($G577,[1]demo_data!$G$5:$G$2257,[1]demo_data!$I$5:$I$2257)","v":4041}]
[740,"Côte d'Ivoire","CIV","GBEKE","BEOUMI",15361,"CSR KONGODJAN","Faible",1825,0,1825,0,0,0,0,1,{"$f":"_xlfn.XLOOKUP($G578,[1]demo_data!$G$5:$G$2257,[1]demo_data!$I$5:$I$2257)","v":6951}]
[741,"Côte d'Ivoire","CIV","GBEKE","BEOUMI",15361,"CSR KOUEBO-DAN","Faible",1148,0,1148,0,0,0,0,1,{"$f":"_xlfn.XLOOKUP($G579,[1]demo_data!$G$5:$G$2257,[1]demo_data!$I$5:$I$2257)","v":4374}]
[742,"Côte d'Ivoire","CIV","GBEKE","BEOUMI",15361,"CSR LOLOBO","Faible",1228,0,1228,0,0,0,0,1,{"$f":"_xlfn.XLOOKUP($G580,[1]demo_data!$G$5:$G$2257,[1]demo_data!$I$5:$I$2257)","v":4677}]
[743,"Côte d'Ivoire","CIV","GBEKE","BEOUMI",15361,"CSR N'GUESSANKRO","Faible",1513,0,1513,0,0,0,0,1,{"$f":"_xlfn.XLOOKUP($G581,[1]demo_data!$G$5:$G$2257,[1]demo_data!$I$5:$I$2257)","v":5763}]
[744,"Côte d'Ivoire","CIV","GBEKE","BEOUMI",15361,"CSR NIAMBRUN","Faible",1479,0,1479,0,0,0,0,1,{"$f":"_xlfn.XLOOKUP($G582,[1]demo_data!$G$5:$G$2257,[1]demo_data!$I$5:$I$2257)","v":5635}]
[745,"Côte d'Ivoire","CIV","GBEKE","BEOUMI",15361,"CSU ANDO-KEKRENOU","Non endémique",0,0,0,0,0,0,0,0,{"$f":"_xlfn.XLOOKUP($G583,[1]demo_data!$G$5:$G$2257,[1]demo_data!$I$5:$I$2257)","v":12000}]
[746,"Côte d'Ivoire","CIV","GBEKE","BEOUMI",15361,"CSU BODOKRO","Faible",1540,0,1540,0,0,0,0,1,{"$f":"_xlfn.XLOOKUP($G584,[1]demo_data!$G$5:$G$2257,[1]demo_data!$I$5:$I$2257)","v":5865}]
[747,"Côte d'Ivoire","CIV","GBEKE","BEOUMI",15361,"CSU KONDROBO","Faible",1399,0,1399,0,0,0,0,1,{"$f":"_xlfn.XLOOKUP($G585,[1]demo_data!$G$5:$G$2257,[1]demo_data!$I$5:$I$2257)","v":5327}]
[748,"Côte d'Ivoire","CIV","GBEKE","BEOUMI",15361,"CSU MARABADIASSA","Faible",3725,0,3725,0,0,0,0,1,{"$f":"_xlfn.XLOOKUP($G586,[1]demo_data!$G$5:$G$2257,[1]demo_data!$I$5:$I$2257)","v":14185}]
[750,"Côte d'Ivoire","CIV","GBEKE","BEOUMI",15361,"DR AHOKOKRO","Faible",732,0,732,0,0,0,0,1,{"$f":"_xlfn.XLOOKUP($G587,[1]demo_data!$G$5:$G$2257,[1]demo_data!$I$5:$I$2257)","v":2785}]
[751,"Côte d'Ivoire","CIV","GBEKE","BEOUMI",15361,"DR ALLEKRO","Faible",790,0,790,0,0,0,0,1,{"$f":"_xlfn.XLOOKUP($G588,[1]demo_data!$G$5:$G$2257,[1]demo_data!$I$5:$I$2257)","v":3008}]
[749,"Côte d'Ivoire","CIV","GBEKE","BEOUMI",15361,"DR ASSENGOU-N'GOTRAN","Faible",1747,0,1747,0,0,0,0,1,{"$f":"_xlfn.XLOOKUP($G589,[1]demo_data!$G$5:$G$2257,[1]demo_data!$I$5:$I$2257)","v":6655}]
[752,"Côte d'Ivoire","CIV","GBEKE","BEOUMI",15361,"DR ASSENZE","Faible",738,0,738,0,0,0,0,1,{"$f":"_xlfn.XLOOKUP($G590,[1]demo_data!$G$5:$G$2257,[1]demo_data!$I$5:$I$2257)","v":2808}]
[753,"Côte d'Ivoire","CIV","GBEKE","BEOUMI",15361,"DR MESSOUKRO","Faible",679,0,679,0,0,0,0,1,{"$f":"_xlfn.XLOOKUP($G591,[1]demo_data!$G$5:$G$2257,[1]demo_data!$I$5:$I$2257)","v":2587}]
[754,"Côte d'Ivoire","CIV","GBEKE","BEOUMI",15361,"DR PETENOU","Faible",413,0,413,0,0,0,0,1,{"$f":"_xlfn.XLOOKUP($G592,[1]demo_data!$G$5:$G$2257,[1]demo_data!$I$5:$I$2257)","v":1576}]
[755,"Côte d'Ivoire","CIV","GBEKE","BEOUMI",15361,"DR PLIBO","Faible",1009,0,1009,0,0,0,0,1,{"$f":"_xlfn.XLOOKUP($G593,[1]demo_data!$G$5:$G$2257,[1]demo_data!$I$5:$I$2257)","v":3840}]
[731,"Côte d'Ivoire","CIV","GBEKE","BEOUMI",15361,"HG BEOUMI","Modérée",10144,4654,14798,0,0,0,0,2,{"$f":"_xlfn.XLOOKUP($G594,[1]demo_data!$G$5:$G$2257,[1]demo_data!$I$5:$I$2257)","v":38626}]
[774,"Côte d'Ivoire","CIV","GBEKE","BOTRO",15432,"CSR ABOLIKRO","Non endémique",0,0,0,0,0,0,0,0,{"$f":"_xlfn.XLOOKUP($G595,[1]demo_data!$G$5:$G$2257,[1]demo_data!$I$5:$I$2257)","v":4836}]
[775,"Côte d'Ivoire","CIV","GBEKE","BOTRO",15432,"CSR ANGOUAYAOKRO","Non endémique",0,0,0,0,0,0,0,0,{"$f":"_xlfn.XLOOKUP($G596,[1]demo_data!$G$5:$G$2257,[1]demo_data!$I$5:$I$2257)","v":3897}]
[776,"Côte d'Ivoire","CIV","GBEKE","BOTRO",15432,"CSR BAMELA ","Non endémique",0,0,0,0,0,0,0,0,{"$f":"_xlfn.XLOOKUP($G597,[1]demo_data!$G$5:$G$2257,[1]demo_data!$I$5:$I$2257)","v":1544}]
[779,"Côte d'Ivoire","CIV","GBEKE","BOTRO",15432,"CSR DELAKRO","Non endémique",0,0,0,0,0,0,0,0,{"$f":"_xlfn.XLOOKUP($G598,[1]demo_data!$G$5:$G$2257,[1]demo_data!$I$5:$I$2257)","v":2519}]
[780,"Côte d'Ivoire","CIV","GBEKE","BOTRO",15432,"CSR KLEMEKLO","Non endémique",0,0,0,0,0,0,0,0,{"$f":"_xlfn.XLOOKUP($G599,[1]demo_data!$G$5:$G$2257,[1]demo_data!$I$5:$I$2257)","v":2106}]
[781,"Côte d'Ivoire","CIV","GBEKE","BOTRO",15432,"CSR KROFOINSOU","Non endémique",0,0,0,0,0,0,0,0,{"$f":"_xlfn.XLOOKUP($G600,[1]demo_data!$G$5:$G$2257,[1]demo_data!$I$5:$I$2257)","v":6158}]
[782,"Côte d'Ivoire","CIV","GBEKE","BOTRO",15432,"CSR SAHEBO","Non endémique",0,0,0,0,0,0,0,0,{"$f":"_xlfn.XLOOKUP($G601,[1]demo_data!$G$5:$G$2257,[1]demo_data!$I$5:$I$2257)","v":1860}]
[783,"Côte d'Ivoire","CIV","GBEKE","BOTRO",15432,"CSR SINZEKRO ","Non endémique",0,0,0,0,0,0,0,0,{"$f":"_xlfn.XLOOKUP($G602,[1]demo_data!$G$5:$G$2257,[1]demo_data!$I$5:$I$2257)","v":3100}]
[785,"Côte d'Ivoire","CIV","GBEKE","BOTRO",15432,"CSU BOTRO","Non endémique",0,0,0,0,0,0,0,0,{"$f":"_xlfn.XLOOKUP($G603,[1]demo_data!$G$5:$G$2257,[1]demo_data!$I$5:$I$2257)","v":14475}]
[791,"Côte d'Ivoire","CIV","GBEKE","BOTRO",15432,"DR ANGOKOUNKPAMGBASSOU","Non endémique",0,0,0,0,0,0,0,0,{"$f":"_xlfn.XLOOKUP($G604,[1]demo_data!$G$5:$G$2257,[1]demo_data!$I$5:$I$2257)","v":1584}]
[792,"Côte d'Ivoire","CIV","GBEKE","BOTRO",15432,"DR SAOUNDI","Non endémique",0,0,0,0,0,0,0,0,{"$f":"_xlfn.XLOOKUP($G605,[1]demo_data!$G$5:$G$2257,[1]demo_data!$I$5:$I$2257)","v":1900}]
[793,"Côte d'Ivoire","CIV","GBEKE","BOTRO",15432,"DR TAKRA ADIEKRO","Non endémique",0,0,0,0,0,0,0,0,{"$f":"_xlfn.XLOOKUP($G606,[1]demo_data!$G$5:$G$2257,[1]demo_data!$I$5:$I$2257)","v":2320}]
[756,"Côte d'Ivoire","CIV","GBEKE","BOUAKE NORD-EST",15362,"CSR AKAKRO","Faible",360,0,360,0,0,0,0,1,{"$f":"_xlfn.XLOOKUP($G607,[1]demo_data!$G$5:$G$2257,[1]demo_data!$I$5:$I$2257)","v":2201}]
[757,"Côte d'Ivoire","CIV","GBEKE","BOUAKE NORD-EST",15362,"CSR BAMORO","Faible",1890,0,1890,0,0,0,0,1,{"$f":"_xlfn.XLOOKUP($G608,[1]demo_data!$G$5:$G$2257,[1]demo_data!$I$5:$I$2257)","v":11560}]
[758,"Côte d'Ivoire","CIV","GBEKE","BOUAKE NORD-EST",15362,"CSR BOUNDA","Modérée",1160,532,1692,0,0,0,0,2,{"$f":"_xlfn.XLOOKUP($G609,[1]demo_data!$G$5:$G$2257,[1]demo_data!$I$5:$I$2257)","v":7098}]
[759,"Côte d'Ivoire","CIV","GBEKE","BOUAKE NORD-EST",15362,"CSR KAHANKRO","Faible",836,0,836,0,0,0,0,1,{"$f":"_xlfn.XLOOKUP($G610,[1]demo_data!$G$5:$G$2257,[1]demo_data!$I$5:$I$2257)","v":5115}]
[760,"Côte d'Ivoire","CIV","GBEKE","BOUAKE NORD-EST",15362,"CSR MAMINI","Faible",1257,0,1257,0,0,0,0,1,{"$f":"_xlfn.XLOOKUP($G611,[1]demo_data!$G$5:$G$2257,[1]demo_data!$I$5:$I$2257)","v":7689}]
[761,"Côte d'Ivoire","CIV","GBEKE","BOUAKE NORD-EST",15362,"CSR SAMINIKRO","Non endémique",0,0,0,0,0,0,0,0,{"$f":"_xlfn.XLOOKUP($G612,[1]demo_data!$G$5:$G$2257,[1]demo_data!$I$5:$I$2257)","v":5130}]
[762,"Côte d'Ivoire","CIV","GBEKE","BOUAKE NORD-EST",15362,"CSR YAPO KOUAKOUKRO","Non endémique",0,0,0,0,0,0,0,0,{"$f":"_xlfn.XLOOKUP($G613,[1]demo_data!$G$5:$G$2257,[1]demo_data!$I$5:$I$2257)","v":1893}]
[763,"Côte d'Ivoire","CIV","GBEKE","BOUAKE NORD-EST",15362,"CSU BELLEVILLE","Faible",8421,0,8421,0,0,0,0,1,{"$f":"_xlfn.XLOOKUP($G614,[1]demo_data!$G$5:$G$2257,[1]demo_data!$I$5:$I$2257)","v":51526}]
[764,"Côte d'Ivoire","CIV","GBEKE","BOUAKE NORD-EST",15362,"CSU BROBO","Faible",2740,0,2740,0,0,0,0,1,{"$f":"_xlfn.XLOOKUP($G615,[1]demo_data!$G$5:$G$2257,[1]demo_data!$I$5:$I$2257)","v":16769}]
[765,"Côte d'Ivoire","CIV","GBEKE","BOUAKE NORD-EST",15362,"CSU COM KOTIAKOFFIKRO","Non endémique",0,0,0,0,0,0,0,0,{"$f":"_xlfn.XLOOKUP($G616,[1]demo_data!$G$5:$G$2257,[1]demo_data!$I$5:$I$2257)","v":86294}]
[766,"Côte d'Ivoire","CIV","GBEKE","BOUAKE NORD-EST",15362,"CSU SOKOURA","Faible",8721,0,8721,0,0,0,0,1,{"$f":"_xlfn.XLOOKUP($G617,[1]demo_data!$G$5:$G$2257,[1]demo_data!$I$5:$I$2257)","v":53354}]
[767,"Côte d'Ivoire","CIV","GBEKE","BOUAKE NORD-EST",15362,"DR LANGBASSOU","Faible",1385,0,1385,0,0,0,0,1,{"$f":"_xlfn.XLOOKUP($G618,[1]demo_data!$G$5:$G$2257,[1]demo_data!$I$5:$I$2257)","v":8473}]
[768,"Côte d'Ivoire","CIV","GBEKE","BOUAKE NORD-EST",15362,"HMIAC ATTIENKRO","Non endémique",0,0,0,0,0,0,0,0,{"$f":"_xlfn.XLOOKUP($G619,[1]demo_data!$G$5:$G$2257,[1]demo_data!$I$5:$I$2257)","v":3782}]
[769,"Côte d'Ivoire","CIV","GBEKE","BOUAKE NORD-EST",15362,"INFIRMERIE 3e BATAILLON","Faible",42,0,42,0,0,0,0,1,{"$f":"_xlfn.XLOOKUP($G620,[1]demo_data!$G$5:$G$2257,[1]demo_data!$I$5:$I$2257)","v":259}]
[770,"Côte d'Ivoire","CIV","GBEKE","BOUAKE NORD-EST",15362,"MATERNITE PRIVEE TOURE","Faible",1587,0,1587,0,0,0,0,1,{"$f":"_xlfn.XLOOKUP($G621,[1]demo_data!$G$5:$G$2257,[1]demo_data!$I$5:$I$2257)","v":9710}]
[771,"Côte d'Ivoire","CIV","GBEKE","BOUAKE NORD-EST",15362,"ONG AIME TON PROCHAIN (ATP)","Faible",276,0,276,0,0,0,0,1,{"$f":"_xlfn.XLOOKUP($G622,[1]demo_data!$G$5:$G$2257,[1]demo_data!$I$5:$I$2257)","v":1686}]
[772,"Côte d'Ivoire","CIV","GBEKE","BOUAKE NORD-EST",15362,"PMI SOKOURA","Faible",4661,0,4661,0,0,0,0,1,{"$f":"_xlfn.XLOOKUP($G623,[1]demo_data!$G$5:$G$2257,[1]demo_data!$I$5:$I$2257)","v":28518}]
[773,"Côte d'Ivoire","CIV","GBEKE","BOUAKE NORD-OUEST",15431,"CENTRE DE VACCINATION DU DISTRICT","Faible",5492,0,5492,1,5492,0,5492,1,{"$f":"_xlfn.XLOOKUP($G624,[1]demo_data!$G$5:$G$2257,[1]demo_data!$I$5:$I$2257)","v":13089}]
[777,"Côte d'Ivoire","CIV","GBEKE","BOUAKE NORD-OUEST",15431,"CSR BENDEKOUASSIKRO","Non endémique",0,0,0,0,0,0,0,0,{"$f":"_xlfn.XLOOKUP($G625,[1]demo_data!$G$5:$G$2257,[1]demo_data!$I$5:$I$2257)","v":11506}]
[778,"Côte d'Ivoire","CIV","GBEKE","BOUAKE NORD-OUEST",15431,"CSR BOUKEBO","Faible",670,0,670,1,670,0,670,1,{"$f":"_xlfn.XLOOKUP($G626,[1]demo_data!$G$5:$G$2257,[1]demo_data!$I$5:$I$2257)","v":1596}]
[784,"Côte d'Ivoire","CIV","GBEKE","BOUAKE NORD-OUEST",15431,"CSU AHOUGNASSOU","Faible",19182,0,19182,1,19182,0,19182,1,{"$f":"_xlfn.XLOOKUP($G627,[1]demo_data!$G$5:$G$2257,[1]demo_data!$I$5:$I$2257)","v":45712}]
[786,"Côte d'Ivoire","CIV","GBEKE","BOUAKE NORD-OUEST",15431,"CSU BROUKRO","Faible",6630,0,6630,1,6630,0,6630,1,{"$f":"_xlfn.XLOOKUP($G628,[1]demo_data!$G$5:$G$2257,[1]demo_data!$I$5:$I$2257)","v":15800}]
[787,"Côte d'Ivoire","CIV","GBEKE","BOUAKE NORD-OUEST",15431,"CSU DAR ES SALAM","Faible",10712,0,10712,1,10712,0,10712,1,{"$f":"_xlfn.XLOOKUP($G629,[1]demo_data!$G$5:$G$2257,[1]demo_data!$I$5:$I$2257)","v":25527}]
[788,"Côte d'Ivoire","CIV","GBEKE","BOUAKE NORD-OUEST",15431,"CSU DIABO","Modérée",7203,3305,10508,1,7203,3305,10508,2,{"$f":"_xlfn.XLOOKUP($G630,[1]demo_data!$G$5:$G$2257,[1]demo_data!$I$5:$I$2257)","v":17164}]
[789,"Côte d'Ivoire","CIV","GBEKE","BOUAKE NORD-OUEST",15431,"CSU DIEZOUKOUAMEKRO","Faible",23766,0,23766,1,23766,0,23766,1,{"$f":"_xlfn.XLOOKUP($G631,[1]demo_data!$G$5:$G$2257,[1]demo_data!$I$5:$I$2257)","v":56636}]
[790,"Côte d'Ivoire","CIV","GBEKE","BOUAKE NORD-OUEST",15431,"CSU LANGUIBONOU","Forte",935,2143,3078,1,935,2143,3078,3,{"$f":"_xlfn.XLOOKUP($G632,[1]demo_data!$G$5:$G$2257,[1]demo_data!$I$5:$I$2257)","v":2227}]
[794,"Côte d'Ivoire","CIV","GBEKE","BOUAKE NORD-OUEST",15431,"HP N'GATTAKRO","Modérée",7706,3536,11242,1,7706,3536,11242,2,{"$f":"_xlfn.XLOOKUP($G633,[1]demo_data!$G$5:$G$2257,[1]demo_data!$I$5:$I$2257)","v":18364}]
[795,"Côte d'Ivoire","CIV","GBEKE","BOUAKE NORD-OUEST",15431,"KONANKRO MIZRON","Faible",4553,0,4553,1,4553,0,4553,1,{"$f":"_xlfn.XLOOKUP($G634,[1]demo_data!$G$5:$G$2257,[1]demo_data!$I$5:$I$2257)","v":10851}]
[796,"Côte d'Ivoire","CIV","GBEKE","BOUAKE NORD-OUEST",15431,"KPANGBAMBO","Modérée",4212,1932,6144,1,4212,1932,6144,2,{"$f":"_xlfn.XLOOKUP($G635,[1]demo_data!$G$5:$G$2257,[1]demo_data!$I$5:$I$2257)","v":10036}]
[797,"Côte d'Ivoire","CIV","GBEKE","BOUAKE NORD-OUEST",15431,"SSSU-3 DAR ES SALAM","Faible",14217,0,14217,1,14217,0,14217,1,{"$f":"_xlfn.XLOOKUP($G636,[1]demo_data!$G$5:$G$2257,[1]demo_data!$I$5:$I$2257)","v":33879}]
[798,"Côte d'Ivoire","CIV","GBEKE","BOUAKE SUD",15364,"CSR ASSOUAKRO","Faible",739,0,739,0,0,0,0,1,{"$f":"_xlfn.XLOOKUP($G637,[1]demo_data!$G$5:$G$2257,[1]demo_data!$I$5:$I$2257)","v":4204}]
[799,"Côte d'Ivoire","CIV","GBEKE","BOUAKE SUD",15364,"CSR GARE KAN","Modérée",1546,709,2255,0,0,0,0,2,{"$f":"_xlfn.XLOOKUP($G638,[1]demo_data!$G$5:$G$2257,[1]demo_data!$I$5:$I$2257)","v":8796}]
[800,"Côte d'Ivoire","CIV","GBEKE","BOUAKE SUD",15364,"CSR KONGODEKRO","Faible",1698,0,1698,0,0,0,0,1,{"$f":"_xlfn.XLOOKUP($G639,[1]demo_data!$G$5:$G$2257,[1]demo_data!$I$5:$I$2257)","v":9658}]
[801,"Côte d'Ivoire","CIV","GBEKE","BOUAKE SUD",15364,"CSR KONZO","Non endémique",0,0,0,0,0,0,0,0,{"$f":"_xlfn.XLOOKUP($G640,[1]demo_data!$G$5:$G$2257,[1]demo_data!$I$5:$I$2257)","v":4377}]
[802,"Côte d'Ivoire","CIV","GBEKE","BOUAKE SUD",15364,"CSR KOUASSIBLEKRO","Faible",515,0,515,0,0,0,0,1,{"$f":"_xlfn.XLOOKUP($G641,[1]demo_data!$G$5:$G$2257,[1]demo_data!$I$5:$I$2257)","v":2928}]
[803,"Côte d'Ivoire","CIV","GBEKE","BOUAKE SUD",15364,"CSR LENGBRE","Non endémique",0,0,0,0,0,0,0,0,{"$f":"_xlfn.XLOOKUP($G642,[1]demo_data!$G$5:$G$2257,[1]demo_data!$I$5:$I$2257)","v":8978}]
[804,"Côte d'Ivoire","CIV","GBEKE","BOUAKE SUD",15364,"CSR TIEPLE","Faible",1117,0,1117,0,0,0,0,1,{"$f":"_xlfn.XLOOKUP($G643,[1]demo_data!$G$5:$G$2257,[1]demo_data!$I$5:$I$2257)","v":6358}]
[805,"Côte d'Ivoire","CIV","GBEKE","BOUAKE SUD",15364,"CSU AIR France","Faible",13797,0,13797,0,0,0,0,1,{"$f":"_xlfn.XLOOKUP($G644,[1]demo_data!$G$5:$G$2257,[1]demo_data!$I$5:$I$2257)","v":78475}]
[806,"Côte d'Ivoire","CIV","GBEKE","BOUAKE SUD",15364,"CSU DJEBONOUA","Faible",3104,0,3104,0,0,0,0,1,{"$f":"_xlfn.XLOOKUP($G645,[1]demo_data!$G$5:$G$2257,[1]demo_data!$I$5:$I$2257)","v":17656}]
[807,"Côte d'Ivoire","CIV","GBEKE","BOUAKE SUD",15364,"CSU DJENONOUA","Faible",465,0,465,0,0,0,0,1,{"$f":"_xlfn.XLOOKUP($G646,[1]demo_data!$G$5:$G$2257,[1]demo_data!$I$5:$I$2257)","v":2644}]
[808,"Côte d'Ivoire","CIV","GBEKE","BOUAKE SUD",15364,"CSU KOKO","Faible",17335,0,17335,0,0,0,0,1,{"$f":"_xlfn.XLOOKUP($G647,[1]demo_data!$G$5:$G$2257,[1]demo_data!$I$5:$I$2257)","v":98607}]
[809,"Côte d'Ivoire","CIV","GBEKE","BOUAKE SUD",15364,"CSU NIMBO","Faible",5599,0,5599,0,0,0,0,1,{"$f":"_xlfn.XLOOKUP($G648,[1]demo_data!$G$5:$G$2257,[1]demo_data!$I$5:$I$2257)","v":31849}]
[810,"Côte d'Ivoire","CIV","GBEKE","BOUAKE SUD",15364,"DR MLAN KOUASSIKRO","Non endémique",0,0,0,0,0,0,0,0,{"$f":"_xlfn.XLOOKUP($G649,[1]demo_data!$G$5:$G$2257,[1]demo_data!$I$5:$I$2257)","v":2755}]
[811,"Côte d'Ivoire","CIV","GBEKE","SAKASSOU",15365,"CSR-D KANANGO-KPLI","Faible",1265,0,1265,1,1265,0,1265,1,{"$f":"_xlfn.XLOOKUP($G650,[1]demo_data!$G$5:$G$2257,[1]demo_data!$I$5:$I$2257)","v":4818}]
[812,"Côte d'Ivoire","CIV","GBEKE","SAKASSOU",15365,"CSR-D KANGRE","Faible",886,0,886,1,886,0,886,1,{"$f":"_xlfn.XLOOKUP($G651,[1]demo_data!$G$5:$G$2257,[1]demo_data!$I$5:$I$2257)","v":3376}]
[813,"Côte d'Ivoire","CIV","GBEKE","SAKASSOU",15365,"CSR-D KONANKRO","Faible",812,0,812,1,812,0,812,1,{"$f":"_xlfn.XLOOKUP($G652,[1]demo_data!$G$5:$G$2257,[1]demo_data!$I$5:$I$2257)","v":3089}]
[814,"Côte d'Ivoire","CIV","GBEKE","SAKASSOU",15365,"CSR-DM ADJEKRO","Non endémique",0,0,0,0,0,0,0,0,{"$f":"_xlfn.XLOOKUP($G653,[1]demo_data!$G$5:$G$2257,[1]demo_data!$I$5:$I$2257)","v":2363}]
[815,"Côte d'Ivoire","CIV","GBEKE","SAKASSOU",15365,"CSR-DM ALLOKO-DJEKRO","Non endémique",0,0,0,0,0,0,0,0,{"$f":"_xlfn.XLOOKUP($G654,[1]demo_data!$G$5:$G$2257,[1]demo_data!$I$5:$I$2257)","v":2552}]
[816,"Côte d'Ivoire","CIV","GBEKE","SAKASSOU",15365,"CSR-DM ANDOFOUE-BONOU","Faible",767,0,767,1,767,0,767,1,{"$f":"_xlfn.XLOOKUP($G655,[1]demo_data!$G$5:$G$2257,[1]demo_data!$I$5:$I$2257)","v":2921}]
[817,"Côte d'Ivoire","CIV","GBEKE","SAKASSOU",15365,"CSR-DM ANDO-ZUME","Faible",1038,0,1038,1,1038,0,1038,1,{"$f":"_xlfn.XLOOKUP($G656,[1]demo_data!$G$5:$G$2257,[1]demo_data!$I$5:$I$2257)","v":3953}]
[818,"Côte d'Ivoire","CIV","GBEKE","SAKASSOU",15365,"CSR-DM ASSANDRE","Faible",2413,0,2413,1,2413,0,2413,1,{"$f":"_xlfn.XLOOKUP($G657,[1]demo_data!$G$5:$G$2257,[1]demo_data!$I$5:$I$2257)","v":9188}]
[819,"Côte d'Ivoire","CIV","GBEKE","SAKASSOU",15365,"CSR-DM FOTO-KOUAMEKRO","Modérée",1168,536,1704,1,1168,536,1704,2,{"$f":"_xlfn.XLOOKUP($G658,[1]demo_data!$G$5:$G$2257,[1]demo_data!$I$5:$I$2257)","v":4445}]
[820,"Côte d'Ivoire","CIV","GBEKE","SAKASSOU",15365,"CSR-DM KONGO","Non endémique",0,0,0,0,0,0,0,0,{"$f":"_xlfn.XLOOKUP($G659,[1]demo_data!$G$5:$G$2257,[1]demo_data!$I$5:$I$2257)","v":1814}]
[821,"Côte d'Ivoire","CIV","GBEKE","SAKASSOU",15365,"CSR-DM N'GUESSAN-POKOUKRO","Modérée",2089,958,3047,1,2089,958,3047,2,{"$f":"_xlfn.XLOOKUP($G660,[1]demo_data!$G$5:$G$2257,[1]demo_data!$I$5:$I$2257)","v":7954}]
[822,"Côte d'Ivoire","CIV","GBEKE","SAKASSOU",15365,"CSR-DM ODIAYE","Faible",681,0,681,1,681,0,681,1,{"$f":"_xlfn.XLOOKUP($G661,[1]demo_data!$G$5:$G$2257,[1]demo_data!$I$5:$I$2257)","v":2594}]
[823,"Côte d'Ivoire","CIV","GBEKE","SAKASSOU",15365,"CSR-DM SOKOBO","Forte",1247,2858,4105,1,1247,2858,4105,3,{"$f":"_xlfn.XLOOKUP($G662,[1]demo_data!$G$5:$G$2257,[1]demo_data!$I$5:$I$2257)","v":4745}]
[824,"Côte d'Ivoire","CIV","GBEKE","SAKASSOU",15365,"CSR-DM SOUAFOUE-DJANHAN","Faible",960,0,960,1,960,0,960,1,{"$f":"_xlfn.XLOOKUP($G663,[1]demo_data!$G$5:$G$2257,[1]demo_data!$I$5:$I$2257)","v":3656}]
[825,"Côte d'Ivoire","CIV","GBEKE","SAKASSOU",15365,"CSU-DM ASSIRIKRO","Non endémique",0,0,0,0,0,0,0,0,{"$f":"_xlfn.XLOOKUP($G664,[1]demo_data!$G$5:$G$2257,[1]demo_data!$I$5:$I$2257)","v":5364}]
[826,"Côte d'Ivoire","CIV","GBEKE","SAKASSOU",15365,"CSU-DM AYAOU-SOKPA","Non endémique",0,0,0,0,0,0,0,0,{"$f":"_xlfn.XLOOKUP($G665,[1]demo_data!$G$5:$G$2257,[1]demo_data!$I$5:$I$2257)","v":7982}]
[827,"Côte d'Ivoire","CIV","GBEKE","SAKASSOU",15365,"CSU-DM SRAN-BÉLAKRO","Modérée",1278,587,1865,1,1278,587,1865,2,{"$f":"_xlfn.XLOOKUP($G666,[1]demo_data!$G$5:$G$2257,[1]demo_data!$I$5:$I$2257)","v":4868}]
[828,"Côte d'Ivoire","CIV","GBEKE","SAKASSOU",15365,"CSU-DM SRAN-BONDOSSOU","Non endémique",0,0,0,0,0,0,0,0,{"$f":"_xlfn.XLOOKUP($G667,[1]demo_data!$G$5:$G$2257,[1]demo_data!$I$5:$I$2257)","v":2265}]
[829,"Côte d'Ivoire","CIV","GBEKE","SAKASSOU",15365,"CSU-DM TOUMODI-SAKASSOU","Faible",626,0,626,1,626,0,626,1,{"$f":"_xlfn.XLOOKUP($G668,[1]demo_data!$G$5:$G$2257,[1]demo_data!$I$5:$I$2257)","v":2384}]
[830,"Côte d'Ivoire","CIV","GBEKE","SAKASSOU",15365,"HG SAKASSOU I","Faible",3007,0,3007,1,3007,0,3007,1,{"$f":"_xlfn.XLOOKUP($G669,[1]demo_data!$G$5:$G$2257,[1]demo_data!$I$5:$I$2257)","v":11451}]
[831,"Côte d'Ivoire","CIV","GBEKE","SAKASSOU",15365,"HG SAKASSOU II","Modérée",4788,2197,6985,1,4788,2197,6985,2,{"$f":"_xlfn.XLOOKUP($G670,[1]demo_data!$G$5:$G$2257,[1]demo_data!$I$5:$I$2257)","v":18235}]
[1509,"Côte d'Ivoire","CIV","GBOKLE","FRESCO",15386,"CMS GBAGAM","Non endémique",0,0,0,0,0,0,0,0,{"$f":"_xlfn.XLOOKUP($G671,[1]demo_data!$G$5:$G$2257,[1]demo_data!$I$5:$I$2257)","v":3805}]
[1510,"Côte d'Ivoire","CIV","GBOKLE","FRESCO",15386,"CSU GBAGBAM","Modérée",1622,745,2367,0,0,0,0,2,{"$f":"_xlfn.XLOOKUP($G672,[1]demo_data!$G$5:$G$2257,[1]demo_data!$I$5:$I$2257)","v":6379}]
[1511,"Côte d'Ivoire","CIV","GBOKLE","FRESCO",15386,"DAHIRI","Faible",2986,0,2986,0,0,0,0,1,{"$f":"_xlfn.XLOOKUP($G673,[1]demo_data!$G$5:$G$2257,[1]demo_data!$I$5:$I$2257)","v":11737}]
[1512,"Côte d'Ivoire","CIV","GBOKLE","FRESCO",15386,"DASSIOKO","Non endémique",0,0,0,0,0,0,0,0,{"$f":"_xlfn.XLOOKUP($G674,[1]demo_data!$G$5:$G$2257,[1]demo_data!$I$5:$I$2257)","v":10261}]
[1513,"Côte d'Ivoire","CIV","GBOKLE","FRESCO",15386,"FRESCO","Faible",2439,0,2439,0,0,0,0,1,{"$f":"_xlfn.XLOOKUP($G675,[1]demo_data!$G$5:$G$2257,[1]demo_data!$I$5:$I$2257)","v":9587}]
[1514,"Côte d'Ivoire","CIV","GBOKLE","FRESCO",15386,"GOMENEBERI","Faible",2164,0,2164,0,0,0,0,1,{"$f":"_xlfn.XLOOKUP($G676,[1]demo_data!$G$5:$G$2257,[1]demo_data!$I$5:$I$2257)","v":8507}]
[1515,"Côte d'Ivoire","CIV","GBOKLE","FRESCO",15386,"LOBOGROU","Modérée",1502,689,2191,0,0,0,0,2,{"$f":"_xlfn.XLOOKUP($G677,[1]demo_data!$G$5:$G$2257,[1]demo_data!$I$5:$I$2257)","v":5905}]
[1516,"Côte d'Ivoire","CIV","GBOKLE","FRESCO",15386,"LOULUDOU","Non endémique",0,0,0,0,0,0,0,0,{"$f":"_xlfn.XLOOKUP($G678,[1]demo_data!$G$5:$G$2257,[1]demo_data!$I$5:$I$2257)","v":5555}]
[1517,"Côte d'Ivoire","CIV","GBOKLE","FRESCO",15386,"OKROMODOU","Non endémique",0,0,0,0,0,0,0,0,{"$f":"_xlfn.XLOOKUP($G679,[1]demo_data!$G$5:$G$2257,[1]demo_data!$I$5:$I$2257)","v":13561}]
[1518,"Côte d'Ivoire","CIV","GBOKLE","FRESCO",15386,"PETIT-BONDOUKOU","Faible",2261,0,2261,0,0,0,0,1,{"$f":"_xlfn.XLOOKUP($G680,[1]demo_data!$G$5:$G$2257,[1]demo_data!$I$5:$I$2257)","v":8892}]
[1519,"Côte d'Ivoire","CIV","GBOKLE","FRESCO",15386,"YAKASSE","Non endémique",0,0,0,0,0,0,0,0,{"$f":"_xlfn.XLOOKUP($G681,[1]demo_data!$G$5:$G$2257,[1]demo_data!$I$5:$I$2257)","v":6172}]
[1520,"Côte d'Ivoire","CIV","GBOKLE","FRESCO",15386,"YOBERI","Non endémique",0,0,0,0,0,0,0,0,{"$f":"_xlfn.XLOOKUP($G682,[1]demo_data!$G$5:$G$2257,[1]demo_data!$I$5:$I$2257)","v":6034}]
[1521,"Côte d'Ivoire","CIV","GBOKLE","FRESCO",15386,"ZEGBAN","Non endémique",0,0,0,0,0,0,0,0,{"$f":"_xlfn.XLOOKUP($G683,[1]demo_data!$G$5:$G$2257,[1]demo_data!$I$5:$I$2257)","v":6867}]
[1522,"Côte d'Ivoire","CIV","GBOKLE","FRESCO",15386,"ZERIBERI","Modérée",2522,1157,3679,0,0,0,0,2,{"$f":"_xlfn.XLOOKUP($G684,[1]demo_data!$G$5:$G$2257,[1]demo_data!$I$5:$I$2257)","v":9917}]
[1523,"Côte d'Ivoire","CIV","GBOKLE","FRESCO",15386,"ZUZUOKO","Faible",1200,0,1200,0,0,0,0,1,{"$f":"_xlfn.XLOOKUP($G685,[1]demo_data!$G$5:$G$2257,[1]demo_data!$I$5:$I$2257)","v":4721}]
[936,"Côte d'Ivoire","CIV","GBOKLE","SASSANDRA",15368,"ADEBEM","Modérée",3212,1474,4686,0,0,0,0,2,{"$f":"_xlfn.XLOOKUP($G686,[1]demo_data!$G$5:$G$2257,[1]demo_data!$I$5:$I$2257)","v":12631}]
[937,"Côte d'Ivoire","CIV","GBOKLE","SASSANDRA",15368,"BALOKUYA","Modérée",3785,1737,5522,0,0,0,0,2,{"$f":"_xlfn.XLOOKUP($G687,[1]demo_data!$G$5:$G$2257,[1]demo_data!$I$5:$I$2257)","v":14882}]
[938,"Côte d'Ivoire","CIV","GBOKLE","SASSANDRA",15368,"BOLO V1","Modérée",1442,662,2104,0,0,0,0,2,{"$f":"_xlfn.XLOOKUP($G688,[1]demo_data!$G$5:$G$2257,[1]demo_data!$I$5:$I$2257)","v":5667}]
[939,"Côte d'Ivoire","CIV","GBOKLE","SASSANDRA",15368,"DAKPADOU","Modérée",3518,1614,5132,0,0,0,0,2,{"$f":"_xlfn.XLOOKUP($G689,[1]demo_data!$G$5:$G$2257,[1]demo_data!$I$5:$I$2257)","v":13833}]
[940,"Côte d'Ivoire","CIV","GBOKLE","SASSANDRA",15368,"DREWIN","Non endémique",0,0,0,0,0,0,0,0,{"$f":"_xlfn.XLOOKUP($G690,[1]demo_data!$G$5:$G$2257,[1]demo_data!$I$5:$I$2257)","v":4894}]
[941,"Côte d'Ivoire","CIV","GBOKLE","SASSANDRA",15368,"GAOULOU","Forte",1647,3777,5424,1,1647,3777,5424,3,{"$f":"_xlfn.XLOOKUP($G691,[1]demo_data!$G$5:$G$2257,[1]demo_data!$I$5:$I$2257)","v":6473}]
[934,"Côte d'Ivoire","CIV","GBOKLE","SASSANDRA",15368,"GNAGO 1","Modérée",3886,1783,5669,0,0,0,0,2,{"$f":"_xlfn.XLOOKUP($G692,[1]demo_data!$G$5:$G$2257,[1]demo_data!$I$5:$I$2257)","v":15278}]
[942,"Côte d'Ivoire","CIV","GBOKLE","SASSANDRA",15368,"GNAGO 2","Modérée",4172,1913,6085,0,0,0,0,2,{"$f":"_xlfn.XLOOKUP($G693,[1]demo_data!$G$5:$G$2257,[1]demo_data!$I$5:$I$2257)","v":16400}]
[943,"Côte d'Ivoire","CIV","GBOKLE","SASSANDRA",15368,"GOBROKO","Modérée",1786,820,2606,0,0,0,0,2,{"$f":"_xlfn.XLOOKUP($G694,[1]demo_data!$G$5:$G$2257,[1]demo_data!$I$5:$I$2257)","v":7021}]
[944,"Côte d'Ivoire","CIV","GBOKLE","SASSANDRA",15368,"GRIHIRI","Modérée",5378,2468,7846,0,0,0,0,2,{"$f":"_xlfn.XLOOKUP($G695,[1]demo_data!$G$5:$G$2257,[1]demo_data!$I$5:$I$2257)","v":21144}]
[935,"Côte d'Ivoire","CIV","GBOKLE","SASSANDRA",15368,"GUEDIKPO","Modérée",832,382,1214,0,0,0,0,2,{"$f":"_xlfn.XLOOKUP($G696,[1]demo_data!$G$5:$G$2257,[1]demo_data!$I$5:$I$2257)","v":3270}]
[945,"Côte d'Ivoire","CIV","GBOKLE","SASSANDRA",15368,"KOKOLOPOZO ","Modérée",1786,820,2606,0,0,0,0,2,{"$f":"_xlfn.XLOOKUP($G697,[1]demo_data!$G$5:$G$2257,[1]demo_data!$I$5:$I$2257)","v":7021}]
[946,"Côte d'Ivoire","CIV","GBOKLE","SASSANDRA",15368,"KOUKOHIDOU","Faible",1086,0,1086,0,0,0,0,1,{"$f":"_xlfn.XLOOKUP($G698,[1]demo_data!$G$5:$G$2257,[1]demo_data!$I$5:$I$2257)","v":4269}]
[947,"Côte d'Ivoire","CIV","GBOKLE","SASSANDRA",15368,"LIPOYO","Faible",3760,0,3760,0,0,0,0,1,{"$f":"_xlfn.XLOOKUP($G699,[1]demo_data!$G$5:$G$2257,[1]demo_data!$I$5:$I$2257)","v":14783}]
[948,"Côte d'Ivoire","CIV","GBOKLE","SASSANDRA",15368,"LOBAKUYA","Modérée",4775,2191,6966,0,0,0,0,2,{"$f":"_xlfn.XLOOKUP($G700,[1]demo_data!$G$5:$G$2257,[1]demo_data!$I$5:$I$2257)","v":18773}]
[949,"Côte d'Ivoire","CIV","GBOKLE","SASSANDRA",15368,"LOUHIRI KODIA","Modérée",2962,1359,4321,0,0,0,0,2,{"$f":"_xlfn.XLOOKUP($G701,[1]demo_data!$G$5:$G$2257,[1]demo_data!$I$5:$I$2257)","v":11646}]
[950,"Côte d'Ivoire","CIV","GBOKLE","SASSANDRA",15368,"MEDON","Modérée",4570,2097,6667,0,0,0,0,2,{"$f":"_xlfn.XLOOKUP($G702,[1]demo_data!$G$5:$G$2257,[1]demo_data!$I$5:$I$2257)","v":17968}]
[933,"Côte d'Ivoire","CIV","GBOKLE","SASSANDRA",15368,"NIABABLI","Modérée",1267,582,1849,0,0,0,0,2,{"$f":"_xlfn.XLOOKUP($G703,[1]demo_data!$G$5:$G$2257,[1]demo_data!$I$5:$I$2257)","v":4982}]
[951,"Côte d'Ivoire","CIV","GBOKLE","SASSANDRA",15368,"NIAPIDOU","Modérée",4146,1902,6048,0,0,0,0,2,{"$f":"_xlfn.XLOOKUP($G704,[1]demo_data!$G$5:$G$2257,[1]demo_data!$I$5:$I$2257)","v":16302}]
[952,"Côte d'Ivoire","CIV","GBOKLE","SASSANDRA",15368,"NIEGROUBOUE","Modérée",2893,1328,4221,0,0,0,0,2,{"$f":"_xlfn.XLOOKUP($G705,[1]demo_data!$G$5:$G$2257,[1]demo_data!$I$5:$I$2257)","v":11375}]
[953,"Côte d'Ivoire","CIV","GBOKLE","SASSANDRA",15368,"PAULY BROUSSE","Faible",2502,0,2502,0,0,0,0,1,{"$f":"_xlfn.XLOOKUP($G706,[1]demo_data!$G$5:$G$2257,[1]demo_data!$I$5:$I$2257)","v":9839}]
[954,"Côte d'Ivoire","CIV","GBOKLE","SASSANDRA",15368,"PAULY CHANTIER","Modérée",2610,1197,3807,0,0,0,0,2,{"$f":"_xlfn.XLOOKUP($G707,[1]demo_data!$G$5:$G$2257,[1]demo_data!$I$5:$I$2257)","v":10262}]
[955,"Côte d'Ivoire","CIV","GBOKLE","SASSANDRA",15368,"SAFAMANOIS","Faible",2843,0,2843,0,0,0,0,1,{"$f":"_xlfn.XLOOKUP($G708,[1]demo_data!$G$5:$G$2257,[1]demo_data!$I$5:$I$2257)","v":11176}]
[956,"Côte d'Ivoire","CIV","GBOKLE","SASSANDRA",15368,"SAGO","Modérée",3618,1660,5278,0,0,0,0,2,{"$f":"_xlfn.XLOOKUP($G709,[1]demo_data!$G$5:$G$2257,[1]demo_data!$I$5:$I$2257)","v":14225}]
[957,"Côte d'Ivoire","CIV","GBOKLE","SASSANDRA",15368,"SAHOUA","Modérée",4206,1930,6136,0,0,0,0,2,{"$f":"_xlfn.XLOOKUP($G710,[1]demo_data!$G$5:$G$2257,[1]demo_data!$I$5:$I$2257)","v":16535}]
[958,"Côte d'Ivoire","CIV","GBOKLE","SASSANDRA",15368,"SASSANDRA","Modérée",9900,4542,14442,0,0,0,0,2,{"$f":"_xlfn.XLOOKUP($G711,[1]demo_data!$G$5:$G$2257,[1]demo_data!$I$5:$I$2257)","v":38925}]
[959,"Côte d'Ivoire","CIV","GBOKLE","SASSANDRA",15368,"TIAZALE","Modérée",1515,696,2211,0,0,0,0,2,{"$f":"_xlfn.XLOOKUP($G712,[1]demo_data!$G$5:$G$2257,[1]demo_data!$I$5:$I$2257)","v":5957}]
[960,"Côte d'Ivoire","CIV","GBOKLE","SASSANDRA",15368,"ZAEBRE","Modérée",2083,955,3038,0,0,0,0,2,{"$f":"_xlfn.XLOOKUP($G713,[1]demo_data!$G$5:$G$2257,[1]demo_data!$I$5:$I$2257)","v":8187}]
[961,"Côte d'Ivoire","CIV","GBOKLE","SASSANDRA",15368,"ZEGREBOUE","Modérée",1237,567,1804,0,0,0,0,2,{"$f":"_xlfn.XLOOKUP($G714,[1]demo_data!$G$5:$G$2257,[1]demo_data!$I$5:$I$2257)","v":4865}]
[1033,"Côte d'Ivoire","CIV","GOH","GAGNOA 1",15433,"AHIZABRE","Modérée",2972,1364,4336,0,0,0,0,2,{"$f":"_xlfn.XLOOKUP($G715,[1]demo_data!$G$5:$G$2257,[1]demo_data!$I$5:$I$2257)","v":12242}]
[1039,"Côte d'Ivoire","CIV","GOH","GAGNOA 1",15433,"CSR BOBIA","Faible",1618,0,1618,0,0,0,0,1,{"$f":"_xlfn.XLOOKUP($G716,[1]demo_data!$G$5:$G$2257,[1]demo_data!$I$5:$I$2257)","v":6666}]
[1041,"Côte d'Ivoire","CIV","GOH","GAGNOA 1",15433,"BOGREGNOA","Faible",974,0,974,0,0,0,0,1,{"$f":"_xlfn.XLOOKUP($G717,[1]demo_data!$G$5:$G$2257,[1]demo_data!$I$5:$I$2257)","v":4011}]
[1046,"Côte d'Ivoire","CIV","GOH","GAGNOA 1",15433,"DAHOPA","Modérée",806,370,1176,0,0,0,0,2,{"$f":"_xlfn.XLOOKUP($G718,[1]demo_data!$G$5:$G$2257,[1]demo_data!$I$5:$I$2257)","v":3321}]
[1047,"Côte d'Ivoire","CIV","GOH","GAGNOA 1",15433,"DALIGUEPA","Faible",656,0,656,0,0,0,0,1,{"$f":"_xlfn.XLOOKUP($G719,[1]demo_data!$G$5:$G$2257,[1]demo_data!$I$5:$I$2257)","v":2701}]
[1048,"Côte d'Ivoire","CIV","GOH","GAGNOA 1",15433,"DALIGUEPALEGNOA","Faible",957,0,957,0,0,0,0,1,{"$f":"_xlfn.XLOOKUP($G720,[1]demo_data!$G$5:$G$2257,[1]demo_data!$I$5:$I$2257)","v":3943}]
[1049,"Côte d'Ivoire","CIV","GOH","GAGNOA 1",15433,"DALILIE","Faible",371,0,371,0,0,0,0,1,{"$f":"_xlfn.XLOOKUP($G721,[1]demo_data!$G$5:$G$2257,[1]demo_data!$I$5:$I$2257)","v":1530}]
[1050,"Côte d'Ivoire","CIV","GOH","GAGNOA 1",15433,"DIABOUO","Modérée",1855,851,2706,0,0,0,0,2,{"$f":"_xlfn.XLOOKUP($G722,[1]demo_data!$G$5:$G$2257,[1]demo_data!$I$5:$I$2257)","v":7641}]
[1052,"Côte d'Ivoire","CIV","GOH","GAGNOA 1",15433,"DIGBEUGNOA","Modérée",1183,543,1726,0,0,0,0,2,{"$f":"_xlfn.XLOOKUP($G723,[1]demo_data!$G$5:$G$2257,[1]demo_data!$I$5:$I$2257)","v":4872}]
[1055,"Côte d'Ivoire","CIV","GOH","GAGNOA 1",15433,"DODOUGNOA","Faible",498,0,498,0,0,0,0,1,{"$f":"_xlfn.XLOOKUP($G724,[1]demo_data!$G$5:$G$2257,[1]demo_data!$I$5:$I$2257)","v":2052}]
[1056,"Côte d'Ivoire","CIV","GOH","GAGNOA 1",15433,"DOUGROUPALEGNOA","Faible",1823,0,1823,0,0,0,0,1,{"$f":"_xlfn.XLOOKUP($G725,[1]demo_data!$G$5:$G$2257,[1]demo_data!$I$5:$I$2257)","v":7510}]
[1057,"Côte d'Ivoire","CIV","GOH","GAGNOA 1",15433,"DOUKOUYO","Faible",3475,0,3475,0,0,0,0,1,{"$f":"_xlfn.XLOOKUP($G726,[1]demo_data!$G$5:$G$2257,[1]demo_data!$I$5:$I$2257)","v":14313}]
[1060,"Côte d'Ivoire","CIV","GOH","GAGNOA 1",15433,"GAGNOA","Faible",45138,0,45138,0,0,0,0,1,{"$f":"_xlfn.XLOOKUP($G727,[1]demo_data!$G$5:$G$2257,[1]demo_data!$I$5:$I$2257)","v":185930}]
[1061,"Côte d'Ivoire","CIV","GOH","GAGNOA 1",15433,"GALEBRE","Faible",5583,0,5583,0,0,0,0,1,{"$f":"_xlfn.XLOOKUP($G728,[1]demo_data!$G$5:$G$2257,[1]demo_data!$I$5:$I$2257)","v":22998}]
[1062,"Côte d'Ivoire","CIV","GOH","GAGNOA 1",15433,"GAZAHIO","Faible",2961,0,2961,0,0,0,0,1,{"$f":"_xlfn.XLOOKUP($G729,[1]demo_data!$G$5:$G$2257,[1]demo_data!$I$5:$I$2257)","v":12197}]
[1063,"Côte d'Ivoire","CIV","GOH","GAGNOA 1",15433,"GBADJE","Faible",659,0,659,0,0,0,0,1,{"$f":"_xlfn.XLOOKUP($G730,[1]demo_data!$G$5:$G$2257,[1]demo_data!$I$5:$I$2257)","v":2711}]
[1064,"Côte d'Ivoire","CIV","GOH","GAGNOA 1",15433,"GNAGBODOUGNOA","Faible",2415,0,2415,0,0,0,0,1,{"$f":"_xlfn.XLOOKUP($G731,[1]demo_data!$G$5:$G$2257,[1]demo_data!$I$5:$I$2257)","v":9948}]
[1065,"Côte d'Ivoire","CIV","GOH","GAGNOA 1",15433,"GNALEGRIBOUO","Faible",740,0,740,0,0,0,0,1,{"$f":"_xlfn.XLOOKUP($G732,[1]demo_data!$G$5:$G$2257,[1]demo_data!$I$5:$I$2257)","v":3047}]
[1066,"Côte d'Ivoire","CIV","GOH","GAGNOA 1",15433,"GNALIEPA","Faible",980,0,980,0,0,0,0,1,{"$f":"_xlfn.XLOOKUP($G733,[1]demo_data!$G$5:$G$2257,[1]demo_data!$I$5:$I$2257)","v":4034}]
[1067,"Côte d'Ivoire","CIV","GOH","GAGNOA 1",15433,"GNATROA","Faible",5724,0,5724,0,0,0,0,1,{"$f":"_xlfn.XLOOKUP($G734,[1]demo_data!$G$5:$G$2257,[1]demo_data!$I$5:$I$2257)","v":23577}]
[1068,"Côte d'Ivoire","CIV","GOH","GAGNOA 1",15433,"GNIGBAWA","Faible",642,0,642,0,0,0,0,1,{"$f":"_xlfn.XLOOKUP($G735,[1]demo_data!$G$5:$G$2257,[1]demo_data!$I$5:$I$2257)","v":2644}]
[1069,"Côte d'Ivoire","CIV","GOH","GAGNOA 1",15433,"GODELILIE","Faible",389,0,389,0,0,0,0,1,{"$f":"_xlfn.XLOOKUP($G736,[1]demo_data!$G$5:$G$2257,[1]demo_data!$I$5:$I$2257)","v":1603}]
[1070,"Côte d'Ivoire","CIV","GOH","GAGNOA 1",15433,"GUEMENEDOU","Faible",1008,0,1008,0,0,0,0,1,{"$f":"_xlfn.XLOOKUP($G737,[1]demo_data!$G$5:$G$2257,[1]demo_data!$I$5:$I$2257)","v":4152}]
[1071,"Côte d'Ivoire","CIV","GOH","GAGNOA 1",15433,"GUESSIHO","Faible",1147,0,1147,0,0,0,0,1,{"$f":"_xlfn.XLOOKUP($G738,[1]demo_data!$G$5:$G$2257,[1]demo_data!$I$5:$I$2257)","v":4724}]
[1073,"Côte d'Ivoire","CIV","GOH","GAGNOA 1",15433,"GUIBOUO","Modérée",1614,741,2355,0,0,0,0,2,{"$f":"_xlfn.XLOOKUP($G739,[1]demo_data!$G$5:$G$2257,[1]demo_data!$I$5:$I$2257)","v":6648}]
[1074,"Côte d'Ivoire","CIV","GOH","GAGNOA 1",15433,"KAKREDOU","Faible",1042,0,1042,0,0,0,0,1,{"$f":"_xlfn.XLOOKUP($G740,[1]demo_data!$G$5:$G$2257,[1]demo_data!$I$5:$I$2257)","v":4292}]
[1075,"Côte d'Ivoire","CIV","GOH","GAGNOA 1",15433,"KOSSEHOA","Faible",3785,0,3785,0,0,0,0,1,{"$f":"_xlfn.XLOOKUP($G741,[1]demo_data!$G$5:$G$2257,[1]demo_data!$I$5:$I$2257)","v":15590}]
[1076,"Côte d'Ivoire","CIV","GOH","GAGNOA 1",15433,"KPAPEKOU","Faible",1396,0,1396,0,0,0,0,1,{"$f":"_xlfn.XLOOKUP($G742,[1]demo_data!$G$5:$G$2257,[1]demo_data!$I$5:$I$2257)","v":5753}]
[1077,"Côte d'Ivoire","CIV","GOH","GAGNOA 1",15433,"KRAGBALILIE","Faible",2375,0,2375,0,0,0,0,1,{"$f":"_xlfn.XLOOKUP($G743,[1]demo_data!$G$5:$G$2257,[1]demo_data!$I$5:$I$2257)","v":9784}]
[1078,"Côte d'Ivoire","CIV","GOH","GAGNOA 1",15433,"KRIPAHIO","Faible",1199,0,1199,0,0,0,0,1,{"$f":"_xlfn.XLOOKUP($G744,[1]demo_data!$G$5:$G$2257,[1]demo_data!$I$5:$I$2257)","v":4939}]
[1079,"Côte d'Ivoire","CIV","GOH","GAGNOA 1",15433,"LEBAM","Faible",1076,0,1076,0,0,0,0,1,{"$f":"_xlfn.XLOOKUP($G745,[1]demo_data!$G$5:$G$2257,[1]demo_data!$I$5:$I$2257)","v":4435}]
[1080,"Côte d'Ivoire","CIV","GOH","GAGNOA 1",15433,"LOGOBIA","Non endémique",0,0,0,0,0,0,0,0,{"$f":"_xlfn.XLOOKUP($G746,[1]demo_data!$G$5:$G$2257,[1]demo_data!$I$5:$I$2257)","v":6053}]
[1081,"Côte d'Ivoire","CIV","GOH","GAGNOA 1",15433,"MAGBEHIGOUEPA","Faible",921,0,921,0,0,0,0,1,{"$f":"_xlfn.XLOOKUP($G747,[1]demo_data!$G$5:$G$2257,[1]demo_data!$I$5:$I$2257)","v":3794}]
[1082,"Côte d'Ivoire","CIV","GOH","GAGNOA 1",15433,"MAHIBOUO","Faible",1748,0,1748,0,0,0,0,1,{"$f":"_xlfn.XLOOKUP($G748,[1]demo_data!$G$5:$G$2257,[1]demo_data!$I$5:$I$2257)","v":7204}]
[1085,"Côte d'Ivoire","CIV","GOH","GAGNOA 1",15433,"NAGADOUKOU","Faible",2276,0,2276,0,0,0,0,1,{"$f":"_xlfn.XLOOKUP($G749,[1]demo_data!$G$5:$G$2257,[1]demo_data!$I$5:$I$2257)","v":9375}]
[1086,"Côte d'Ivoire","CIV","GOH","GAGNOA 1",15433,"NEKIEDE","Faible",2811,0,2811,0,0,0,0,1,{"$f":"_xlfn.XLOOKUP($G750,[1]demo_data!$G$5:$G$2257,[1]demo_data!$I$5:$I$2257)","v":11581}]
[1087,"Côte d'Ivoire","CIV","GOH","GAGNOA 1",15433,"NIAHIRIO","Faible",2467,0,2467,0,0,0,0,1,{"$f":"_xlfn.XLOOKUP($G751,[1]demo_data!$G$5:$G$2257,[1]demo_data!$I$5:$I$2257)","v":10160}]
[1088,"Côte d'Ivoire","CIV","GOH","GAGNOA 1",15433,"OLIBRIBOUO","Faible",349,0,349,0,0,0,0,1,{"$f":"_xlfn.XLOOKUP($G752,[1]demo_data!$G$5:$G$2257,[1]demo_data!$I$5:$I$2257)","v":1436}]
[1091,"Côte d'Ivoire","CIV","GOH","GAGNOA 1",15433,"OURAGAHIO","Faible",3031,0,3031,0,0,0,0,1,{"$f":"_xlfn.XLOOKUP($G753,[1]demo_data!$G$5:$G$2257,[1]demo_data!$I$5:$I$2257)","v":12482}]
[1092,"Côte d'Ivoire","CIV","GOH","GAGNOA 1",15433,"PAYOPA","Faible",1110,0,1110,0,0,0,0,1,{"$f":"_xlfn.XLOOKUP($G754,[1]demo_data!$G$5:$G$2257,[1]demo_data!$I$5:$I$2257)","v":4575}]
[1093,"Côte d'Ivoire","CIV","GOH","GAGNOA 1",15433,"PISSEKOU","Faible",1352,0,1352,0,0,0,0,1,{"$f":"_xlfn.XLOOKUP($G755,[1]demo_data!$G$5:$G$2257,[1]demo_data!$I$5:$I$2257)","v":5570}]
[1095,"Côte d'Ivoire","CIV","GOH","GAGNOA 1",15433,"SERIHIO","Faible",4247,0,4247,0,0,0,0,1,{"$f":"_xlfn.XLOOKUP($G756,[1]demo_data!$G$5:$G$2257,[1]demo_data!$I$5:$I$2257)","v":17494}]
[1098,"Côte d'Ivoire","CIV","GOH","GAGNOA 1",15433,"TIPADIPA","Faible",926,0,926,0,0,0,0,1,{"$f":"_xlfn.XLOOKUP($G757,[1]demo_data!$G$5:$G$2257,[1]demo_data!$I$5:$I$2257)","v":3816}]
[1099,"Côte d'Ivoire","CIV","GOH","GAGNOA 1",15433,"TOUTOUBRE","Modérée",1039,477,1516,0,0,0,0,2,{"$f":"_xlfn.XLOOKUP($G758,[1]demo_data!$G$5:$G$2257,[1]demo_data!$I$5:$I$2257)","v":4280}]
[1103,"Côte d'Ivoire","CIV","GOH","GAGNOA 1",15433,"ZIALEGREHOA","Faible",1596,0,1596,0,0,0,0,1,{"$f":"_xlfn.XLOOKUP($G759,[1]demo_data!$G$5:$G$2257,[1]demo_data!$I$5:$I$2257)","v":6576}]
[1034,"Côte d'Ivoire","CIV","GOH","GAGNOA 2",15434,"BAYEKOU GBASSI","Modérée",1086,498,1584,0,0,0,0,2,{"$f":"_xlfn.XLOOKUP($G760,[1]demo_data!$G$5:$G$2257,[1]demo_data!$I$5:$I$2257)","v":2617}]
[1035,"Côte d'Ivoire","CIV","GOH","GAGNOA 2",15434,"BAYOTA","Modérée",8281,3799,12080,0,0,0,0,2,{"$f":"_xlfn.XLOOKUP($G761,[1]demo_data!$G$5:$G$2257,[1]demo_data!$I$5:$I$2257)","v":19972}]
[1036,"Côte d'Ivoire","CIV","GOH","GAGNOA 2",15434,"BELAM","Modérée",1787,820,2607,0,0,0,0,2,{"$f":"_xlfn.XLOOKUP($G762,[1]demo_data!$G$5:$G$2257,[1]demo_data!$I$5:$I$2257)","v":4311}]
[1037,"Côte d'Ivoire","CIV","GOH","GAGNOA 2",15434,"BELIEHOA","Modérée",690,317,1007,0,0,0,0,2,{"$f":"_xlfn.XLOOKUP($G763,[1]demo_data!$G$5:$G$2257,[1]demo_data!$I$5:$I$2257)","v":1666}]
[1038,"Côte d'Ivoire","CIV","GOH","GAGNOA 2",15434,"BIAKOU","Modérée",1324,607,1931,0,0,0,0,2,{"$f":"_xlfn.XLOOKUP($G764,[1]demo_data!$G$5:$G$2257,[1]demo_data!$I$5:$I$2257)","v":3193}]
[1040,"Côte d'Ivoire","CIV","GOH","GAGNOA 2",15434,"BODOCIPA","Modérée",1503,689,2192,0,0,0,0,2,{"$f":"_xlfn.XLOOKUP($G765,[1]demo_data!$G$5:$G$2257,[1]demo_data!$I$5:$I$2257)","v":3625}]
[1042,"Côte d'Ivoire","CIV","GOH","GAGNOA 2",15434,"BOUGROU","Modérée",3392,1556,4948,0,0,0,0,2,{"$f":"_xlfn.XLOOKUP($G766,[1]demo_data!$G$5:$G$2257,[1]demo_data!$I$5:$I$2257)","v":8181}]
[1043,"Côte d'Ivoire","CIV","GOH","GAGNOA 2",15434,"BRIHI","Modérée",4090,1877,5967,0,0,0,0,2,{"$f":"_xlfn.XLOOKUP($G767,[1]demo_data!$G$5:$G$2257,[1]demo_data!$I$5:$I$2257)","v":9865}]
[1044,"Côte d'Ivoire","CIV","GOH","GAGNOA 2",15434,"BROUDOUME","Modérée",1363,625,1988,0,0,0,0,2,{"$f":"_xlfn.XLOOKUP($G768,[1]demo_data!$G$5:$G$2257,[1]demo_data!$I$5:$I$2257)","v":3287}]
[1045,"Côte d'Ivoire","CIV","GOH","GAGNOA 2",15434,"DAHIEPA-KEHI","Modérée",1987,912,2899,0,0,0,0,2,{"$f":"_xlfn.XLOOKUP($G769,[1]demo_data!$G$5:$G$2257,[1]demo_data!$I$5:$I$2257)","v":4793}]
[1051,"Côte d'Ivoire","CIV","GOH","GAGNOA 2",15434,"DIDIA","Modérée",1472,676,2148,0,0,0,0,2,{"$f":"_xlfn.XLOOKUP($G770,[1]demo_data!$G$5:$G$2257,[1]demo_data!$I$5:$I$2257)","v":3552}]
[1053,"Côte d'Ivoire","CIV","GOH","GAGNOA 2",15434,"DIGNAGO","Modérée",5656,2595,8251,0,0,0,0,2,{"$f":"_xlfn.XLOOKUP($G771,[1]demo_data!$G$5:$G$2257,[1]demo_data!$I$5:$I$2257)","v":13642}]
[1054,"Côte d'Ivoire","CIV","GOH","GAGNOA 2",15434,"DJEDJEDIGBEUPA","Modérée",422,194,616,0,0,0,0,2,{"$f":"_xlfn.XLOOKUP($G772,[1]demo_data!$G$5:$G$2257,[1]demo_data!$I$5:$I$2257)","v":1017}]
[1058,"Côte d'Ivoire","CIV","GOH","GAGNOA 2",15434,"DRAYO-DAGNOA","Modérée",3265,1498,4763,0,0,0,0,2,{"$f":"_xlfn.XLOOKUP($G773,[1]demo_data!$G$5:$G$2257,[1]demo_data!$I$5:$I$2257)","v":7874}]
[1059,"Côte d'Ivoire","CIV","GOH","GAGNOA 2",15434,"DRIBOUO","Modérée",3024,1387,4411,0,0,0,0,2,{"$f":"_xlfn.XLOOKUP($G774,[1]demo_data!$G$5:$G$2257,[1]demo_data!$I$5:$I$2257)","v":7292}]
[1072,"Côte d'Ivoire","CIV","GOH","GAGNOA 2",15434,"GUIBEROUA","Modérée",15025,6894,21919,0,0,0,0,2,{"$f":"_xlfn.XLOOKUP($G775,[1]demo_data!$G$5:$G$2257,[1]demo_data!$I$5:$I$2257)","v":36239}]
[1083,"Côte d'Ivoire","CIV","GOH","GAGNOA 2",15434,"MAMA","Modérée",1867,857,2724,0,0,0,0,2,{"$f":"_xlfn.XLOOKUP($G776,[1]demo_data!$G$5:$G$2257,[1]demo_data!$I$5:$I$2257)","v":4505}]
[1084,"Côte d'Ivoire","CIV","GOH","GAGNOA 2",15434,"METEPA-GOPA","Modérée",1667,765,2432,0,0,0,0,2,{"$f":"_xlfn.XLOOKUP($G777,[1]demo_data!$G$5:$G$2257,[1]demo_data!$I$5:$I$2257)","v":4022}]
[1089,"Côte d'Ivoire","CIV","GOH","GAGNOA 2",15434,"ONDJAHIO","Modérée",1368,627,1995,0,0,0,0,2,{"$f":"_xlfn.XLOOKUP($G778,[1]demo_data!$G$5:$G$2257,[1]demo_data!$I$5:$I$2257)","v":3297}]
[1090,"Côte d'Ivoire","CIV","GOH","GAGNOA 2",15434,"OTTEHOA","Modérée",1547,710,2257,0,0,0,0,2,{"$f":"_xlfn.XLOOKUP($G779,[1]demo_data!$G$5:$G$2257,[1]demo_data!$I$5:$I$2257)","v":3731}]
[1094,"Côte d'Ivoire","CIV","GOH","GAGNOA 2",15434,"SANEGAZE","Modérée",2260,1037,3297,0,0,0,0,2,{"$f":"_xlfn.XLOOKUP($G780,[1]demo_data!$G$5:$G$2257,[1]demo_data!$I$5:$I$2257)","v":5452}]
[1096,"Côte d'Ivoire","CIV","GOH","GAGNOA 2",15434,"SIEGOUEKOU","Modérée",1066,489,1555,0,0,0,0,2,{"$f":"_xlfn.XLOOKUP($G781,[1]demo_data!$G$5:$G$2257,[1]demo_data!$I$5:$I$2257)","v":2571}]
[1097,"Côte d'Ivoire","CIV","GOH","GAGNOA 2",15434,"TEHIRI","Modérée",5692,2612,8304,0,0,0,0,2,{"$f":"_xlfn.XLOOKUP($G782,[1]demo_data!$G$5:$G$2257,[1]demo_data!$I$5:$I$2257)","v":13730}]
[1100,"Côte d'Ivoire","CIV","GOH","GAGNOA 2",15434,"YOPOHUE","Modérée",1800,826,2626,0,0,0,0,2,{"$f":"_xlfn.XLOOKUP($G783,[1]demo_data!$G$5:$G$2257,[1]demo_data!$I$5:$I$2257)","v":4341}]
[1101,"Côte d'Ivoire","CIV","GOH","GAGNOA 2",15434,"ZAHIBOHIO","Modérée",1227,563,1790,0,0,0,0,2,{"$f":"_xlfn.XLOOKUP($G784,[1]demo_data!$G$5:$G$2257,[1]demo_data!$I$5:$I$2257)","v":2960}]
[1102,"Côte d'Ivoire","CIV","GOH","GAGNOA 2",15434,"ZEBIZEKOU","Modérée",948,435,1383,0,0,0,0,2,{"$f":"_xlfn.XLOOKUP($G785,[1]demo_data!$G$5:$G$2257,[1]demo_data!$I$5:$I$2257)","v":2286}]
[1104,"Côte d'Ivoire","CIV","GOH","GAGNOA 2",15434,"ZIPLIGNAN","Modérée",3490,1602,5092,0,0,0,0,2,{"$f":"_xlfn.XLOOKUP($G786,[1]demo_data!$G$5:$G$2257,[1]demo_data!$I$5:$I$2257)","v":8418}]
[1105,"Côte d'Ivoire","CIV","GOH","GAGNOA 2",15434,"ZOHOA","Modérée",4200,1927,6127,0,0,0,0,2,{"$f":"_xlfn.XLOOKUP($G787,[1]demo_data!$G$5:$G$2257,[1]demo_data!$I$5:$I$2257)","v":10130}]
[1106,"Côte d'Ivoire","CIV","GOH","OUME",15372,"CSR AKROUFLA","Faible",998,0,998,0,0,0,0,1,{"$f":"_xlfn.XLOOKUP($G788,[1]demo_data!$G$5:$G$2257,[1]demo_data!$I$5:$I$2257)","v":3430}]
[1107,"Côte d'Ivoire","CIV","GOH","OUME",15372,"CSR BIDIE","Faible",2513,0,2513,0,0,0,0,1,{"$f":"_xlfn.XLOOKUP($G789,[1]demo_data!$G$5:$G$2257,[1]demo_data!$I$5:$I$2257)","v":8635}]
[1108,"Côte d'Ivoire","CIV","GOH","OUME",15372,"CSR BOKEDA","Faible",1775,0,1775,0,0,0,0,1,{"$f":"_xlfn.XLOOKUP($G790,[1]demo_data!$G$5:$G$2257,[1]demo_data!$I$5:$I$2257)","v":6100}]
[1109,"Côte d'Ivoire","CIV","GOH","OUME",15372,"CSR BOODA","Faible",2341,0,2341,0,0,0,0,1,{"$f":"_xlfn.XLOOKUP($G791,[1]demo_data!$G$5:$G$2257,[1]demo_data!$I$5:$I$2257)","v":8047}]
[1110,"Côte d'Ivoire","CIV","GOH","OUME",15372,"CSR BROZAN","Faible",2001,0,2001,0,0,0,0,1,{"$f":"_xlfn.XLOOKUP($G792,[1]demo_data!$G$5:$G$2257,[1]demo_data!$I$5:$I$2257)","v":6876}]
[1111,"Côte d'Ivoire","CIV","GOH","OUME",15372,"CSR DOUKOUYA","Modérée",4154,1905,6059,0,0,0,0,2,{"$f":"_xlfn.XLOOKUP($G793,[1]demo_data!$G$5:$G$2257,[1]demo_data!$I$5:$I$2257)","v":14276}]
[1112,"Côte d'Ivoire","CIV","GOH","OUME",15372,"CSR GABIA","Modérée",3550,1629,5179,0,0,0,0,2,{"$f":"_xlfn.XLOOKUP($G794,[1]demo_data!$G$5:$G$2257,[1]demo_data!$I$5:$I$2257)","v":12201}]
[1113,"Côte d'Ivoire","CIV","GOH","OUME",15372,"CSR KOUAMEFLA","Faible",4156,0,4156,0,0,0,0,1,{"$f":"_xlfn.XLOOKUP($G795,[1]demo_data!$G$5:$G$2257,[1]demo_data!$I$5:$I$2257)","v":14285}]
[1114,"Côte d'Ivoire","CIV","GOH","OUME",15372,"CSR LAHOUDA","Faible",3911,0,3911,0,0,0,0,1,{"$f":"_xlfn.XLOOKUP($G796,[1]demo_data!$G$5:$G$2257,[1]demo_data!$I$5:$I$2257)","v":13443}]
[1115,"Côte d'Ivoire","CIV","GOH","OUME",15372,"CSR SAKAHOUO","Faible",3825,0,3825,0,0,0,0,1,{"$f":"_xlfn.XLOOKUP($G797,[1]demo_data!$G$5:$G$2257,[1]demo_data!$I$5:$I$2257)","v":13146}]
[1116,"Côte d'Ivoire","CIV","GOH","OUME",15372,"CSR TIEGBA","Faible",1386,0,1386,0,0,0,0,1,{"$f":"_xlfn.XLOOKUP($G798,[1]demo_data!$G$5:$G$2257,[1]demo_data!$I$5:$I$2257)","v":4765}]
[1117,"Côte d'Ivoire","CIV","GOH","OUME",15372,"CSR YOHOUDA","Faible",1380,0,1380,0,0,0,0,1,{"$f":"_xlfn.XLOOKUP($G799,[1]demo_data!$G$5:$G$2257,[1]demo_data!$I$5:$I$2257)","v":4741}]
[1118,"Côte d'Ivoire","CIV","GOH","OUME",15372,"CSR ZADDI","Faible",2267,0,2267,0,0,0,0,1,{"$f":"_xlfn.XLOOKUP($G800,[1]demo_data!$G$5:$G$2257,[1]demo_data!$I$5:$I$2257)","v":7792}]
[1119,"Côte d'Ivoire","CIV","GOH","OUME",15372,"CSU DIEGONEFLA","Faible",12247,0,12247,0,0,0,0,1,{"$f":"_xlfn.XLOOKUP($G801,[1]demo_data!$G$5:$G$2257,[1]demo_data!$I$5:$I$2257)","v":42092}]
[1120,"Côte d'Ivoire","CIV","GOH","OUME",15372,"CSU GUEPAHOUO","Faible",7323,0,7323,0,0,0,0,1,{"$f":"_xlfn.XLOOKUP($G802,[1]demo_data!$G$5:$G$2257,[1]demo_data!$I$5:$I$2257)","v":25167}]
[1121,"Côte d'Ivoire","CIV","GOH","OUME",15372,"CSU TONLA","Faible",3488,0,3488,0,0,0,0,1,{"$f":"_xlfn.XLOOKUP($G803,[1]demo_data!$G$5:$G$2257,[1]demo_data!$I$5:$I$2257)","v":11990}]
[1122,"Côte d'Ivoire","CIV","GOH","OUME",15372,"DR BLEANIANDA","Faible",2051,0,2051,0,0,0,0,1,{"$f":"_xlfn.XLOOKUP($G804,[1]demo_data!$G$5:$G$2257,[1]demo_data!$I$5:$I$2257)","v":7050}]
[1123,"Côte d'Ivoire","CIV","GOH","OUME",15372,"DR DOKA","Faible",3412,0,3412,0,0,0,0,1,{"$f":"_xlfn.XLOOKUP($G805,[1]demo_data!$G$5:$G$2257,[1]demo_data!$I$5:$I$2257)","v":11729}]
[1124,"Côte d'Ivoire","CIV","GOH","OUME",15372,"DR DONDI","Faible",2389,0,2389,0,0,0,0,1,{"$f":"_xlfn.XLOOKUP($G806,[1]demo_data!$G$5:$G$2257,[1]demo_data!$I$5:$I$2257)","v":8208}]
[1125,"Côte d'Ivoire","CIV","GOH","OUME",15372,"DR DOUGBAFLA","Modérée",1618,743,2361,0,0,0,0,2,{"$f":"_xlfn.XLOOKUP($G807,[1]demo_data!$G$5:$G$2257,[1]demo_data!$I$5:$I$2257)","v":5561}]
[1126,"Côte d'Ivoire","CIV","GOH","OUME",15372,"DR GOUDI","Faible",2030,0,2030,0,0,0,0,1,{"$f":"_xlfn.XLOOKUP($G808,[1]demo_data!$G$5:$G$2257,[1]demo_data!$I$5:$I$2257)","v":6979}]
[1127,"Côte d'Ivoire","CIV","GOH","OUME",15372,"DR GOULIKAO","Faible",1290,0,1290,0,0,0,0,1,{"$f":"_xlfn.XLOOKUP($G809,[1]demo_data!$G$5:$G$2257,[1]demo_data!$I$5:$I$2257)","v":4432}]
[1128,"Côte d'Ivoire","CIV","GOH","OUME",15372,"DR LOUA","Faible",2603,0,2603,0,0,0,0,1,{"$f":"_xlfn.XLOOKUP($G810,[1]demo_data!$G$5:$G$2257,[1]demo_data!$I$5:$I$2257)","v":8948}]
[1129,"Côte d'Ivoire","CIV","GOH","OUME",15372,"DR SCIERIE JACOB","Faible",1651,0,1651,0,0,0,0,1,{"$f":"_xlfn.XLOOKUP($G811,[1]demo_data!$G$5:$G$2257,[1]demo_data!$I$5:$I$2257)","v":5673}]
[1130,"Côte d'Ivoire","CIV","GOH","OUME",15372,"DR ZANGUE","Faible",2191,0,2191,0,0,0,0,1,{"$f":"_xlfn.XLOOKUP($G812,[1]demo_data!$G$5:$G$2257,[1]demo_data!$I$5:$I$2257)","v":7530}]
[1131,"Côte d'Ivoire","CIV","GOH","OUME",15372,"PMI","Modérée",16247,7454,23701,0,0,0,0,2,{"$f":"_xlfn.XLOOKUP($G813,[1]demo_data!$G$5:$G$2257,[1]demo_data!$I$5:$I$2257)","v":34689}]
[424,"Côte d'Ivoire","CIV","GONTOUGO","BONDOUKOU",15421,"CSI KOBOKO","Faible",1510,0,1510,0,0,0,0,1,{"$f":"_xlfn.XLOOKUP($G814,[1]demo_data!$G$5:$G$2257,[1]demo_data!$I$5:$I$2257)","v":5554}]
[425,"Côte d'Ivoire","CIV","GONTOUGO","BONDOUKOU",15421,"CSR APPIMANDOUM","Faible",908,0,908,0,0,0,0,1,{"$f":"_xlfn.XLOOKUP($G815,[1]demo_data!$G$5:$G$2257,[1]demo_data!$I$5:$I$2257)","v":3341}]
[427,"Côte d'Ivoire","CIV","GONTOUGO","BONDOUKOU",15421,"CSR BANDOLE","Faible",1419,0,1419,0,0,0,0,1,{"$f":"_xlfn.XLOOKUP($G816,[1]demo_data!$G$5:$G$2257,[1]demo_data!$I$5:$I$2257)","v":5221}]
[428,"Côte d'Ivoire","CIV","GONTOUGO","BONDOUKOU",15421,"CSR BOROMBA","Faible",1327,0,1327,0,0,0,0,1,{"$f":"_xlfn.XLOOKUP($G817,[1]demo_data!$G$5:$G$2257,[1]demo_data!$I$5:$I$2257)","v":4882}]
[429,"Côte d'Ivoire","CIV","GONTOUGO","BONDOUKOU",15421,"CSR DINGBI","Faible",645,0,645,0,0,0,0,1,{"$f":"_xlfn.XLOOKUP($G818,[1]demo_data!$G$5:$G$2257,[1]demo_data!$I$5:$I$2257)","v":2375}]
[430,"Côte d'Ivoire","CIV","GONTOUGO","BONDOUKOU",15421,"CSR GBANHUI","Faible",2300,0,2300,0,0,0,0,1,{"$f":"_xlfn.XLOOKUP($G819,[1]demo_data!$G$5:$G$2257,[1]demo_data!$I$5:$I$2257)","v":8460}]
[431,"Côte d'Ivoire","CIV","GONTOUGO","BONDOUKOU",15421,"CSR HEREBO","Faible",742,0,742,0,0,0,0,1,{"$f":"_xlfn.XLOOKUP($G820,[1]demo_data!$G$5:$G$2257,[1]demo_data!$I$5:$I$2257)","v":2729}]
[432,"Côte d'Ivoire","CIV","GONTOUGO","BONDOUKOU",15421,"CSR KARAKO","Non endémique",0,0,0,0,0,0,0,0,{"$f":"_xlfn.XLOOKUP($G821,[1]demo_data!$G$5:$G$2257,[1]demo_data!$I$5:$I$2257)","v":2692}]
[433,"Côte d'Ivoire","CIV","GONTOUGO","BONDOUKOU",15421,"CSR KOUASSI N'DAWA","Faible",1680,0,1680,0,0,0,0,1,{"$f":"_xlfn.XLOOKUP($G822,[1]demo_data!$G$5:$G$2257,[1]demo_data!$I$5:$I$2257)","v":6179}]
[434,"Côte d'Ivoire","CIV","GONTOUGO","BONDOUKOU",15421,"CSR KPANAN","Faible",1490,0,1490,0,0,0,0,1,{"$f":"_xlfn.XLOOKUP($G823,[1]demo_data!$G$5:$G$2257,[1]demo_data!$I$5:$I$2257)","v":5478}]
[435,"Côte d'Ivoire","CIV","GONTOUGO","BONDOUKOU",15421,"CSR MARAHUI-AHINIFIE","Faible",459,0,459,0,0,0,0,1,{"$f":"_xlfn.XLOOKUP($G824,[1]demo_data!$G$5:$G$2257,[1]demo_data!$I$5:$I$2257)","v":1686}]
[438,"Côte d'Ivoire","CIV","GONTOUGO","BONDOUKOU",15421,"CSR PINDA - BOROKO","Faible",1376,0,1376,0,0,0,0,1,{"$f":"_xlfn.XLOOKUP($G825,[1]demo_data!$G$5:$G$2257,[1]demo_data!$I$5:$I$2257)","v":5063}]
[439,"Côte d'Ivoire","CIV","GONTOUGO","BONDOUKOU",15421,"CSR SAPIA","Non endémique",0,0,0,0,0,0,0,0,{"$f":"_xlfn.XLOOKUP($G826,[1]demo_data!$G$5:$G$2257,[1]demo_data!$I$5:$I$2257)","v":2578}]
[440,"Côte d'Ivoire","CIV","GONTOUGO","BONDOUKOU",15421,"CSR SOKO","Faible",3038,0,3038,0,0,0,0,1,{"$f":"_xlfn.XLOOKUP($G827,[1]demo_data!$G$5:$G$2257,[1]demo_data!$I$5:$I$2257)","v":11175}]
[441,"Côte d'Ivoire","CIV","GONTOUGO","BONDOUKOU",15421,"CSR TAMBI","Faible",3633,0,3633,0,0,0,0,1,{"$f":"_xlfn.XLOOKUP($G828,[1]demo_data!$G$5:$G$2257,[1]demo_data!$I$5:$I$2257)","v":13365}]
[442,"Côte d'Ivoire","CIV","GONTOUGO","BONDOUKOU",15421,"CSR TOROSSANGUEHI","Faible",3031,0,3031,0,0,0,0,1,{"$f":"_xlfn.XLOOKUP($G829,[1]demo_data!$G$5:$G$2257,[1]demo_data!$I$5:$I$2257)","v":11149}]
[443,"Côte d'Ivoire","CIV","GONTOUGO","BONDOUKOU",15421,"CSU BONDO","Faible",2322,0,2322,0,0,0,0,1,{"$f":"_xlfn.XLOOKUP($G830,[1]demo_data!$G$5:$G$2257,[1]demo_data!$I$5:$I$2257)","v":8541}]
[445,"Côte d'Ivoire","CIV","GONTOUGO","BONDOUKOU",15421,"CSU GOUMERE","Faible",2467,0,2467,0,0,0,0,1,{"$f":"_xlfn.XLOOKUP($G831,[1]demo_data!$G$5:$G$2257,[1]demo_data!$I$5:$I$2257)","v":9072}]
[446,"Côte d'Ivoire","CIV","GONTOUGO","BONDOUKOU",15421,"CSU LAOUDIBA","Faible",4785,0,4785,0,0,0,0,1,{"$f":"_xlfn.XLOOKUP($G832,[1]demo_data!$G$5:$G$2257,[1]demo_data!$I$5:$I$2257)","v":17602}]
[447,"Côte d'Ivoire","CIV","GONTOUGO","BONDOUKOU",15421,"CSU SAINTE MARIE","Non endémique",0,0,0,0,0,0,0,0,{"$f":"_xlfn.XLOOKUP($G833,[1]demo_data!$G$5:$G$2257,[1]demo_data!$I$5:$I$2257)","v":12114}]
[448,"Côte d'Ivoire","CIV","GONTOUGO","BONDOUKOU",15421,"CSU SAPLI SEPINGO","Faible",3471,0,3471,0,0,0,0,1,{"$f":"_xlfn.XLOOKUP($G834,[1]demo_data!$G$5:$G$2257,[1]demo_data!$I$5:$I$2257)","v":12768}]
[449,"Côte d'Ivoire","CIV","GONTOUGO","BONDOUKOU",15421,"CSU SOROBANGO","Non endémique",0,0,0,0,0,0,0,0,{"$f":"_xlfn.XLOOKUP($G835,[1]demo_data!$G$5:$G$2257,[1]demo_data!$I$5:$I$2257)","v":8813}]
[450,"Côte d'Ivoire","CIV","GONTOUGO","BONDOUKOU",15421,"CSU TABAGNE","Faible",3063,0,3063,0,0,0,0,1,{"$f":"_xlfn.XLOOKUP($G836,[1]demo_data!$G$5:$G$2257,[1]demo_data!$I$5:$I$2257)","v":11267}]
[451,"Côte d'Ivoire","CIV","GONTOUGO","BONDOUKOU",15421,"CSU TAOUDI","Faible",2236,0,2236,0,0,0,0,1,{"$f":"_xlfn.XLOOKUP($G837,[1]demo_data!$G$5:$G$2257,[1]demo_data!$I$5:$I$2257)","v":8223}]
[452,"Côte d'Ivoire","CIV","GONTOUGO","BONDOUKOU",15421,"CSU YEZIMALA","Faible",1772,0,1772,0,0,0,0,1,{"$f":"_xlfn.XLOOKUP($G838,[1]demo_data!$G$5:$G$2257,[1]demo_data!$I$5:$I$2257)","v":6517}]
[454,"Côte d'Ivoire","CIV","GONTOUGO","BONDOUKOU",15421,"DINAOUDI","Faible",2029,0,2029,0,0,0,0,1,{"$f":"_xlfn.XLOOKUP($G839,[1]demo_data!$G$5:$G$2257,[1]demo_data!$I$5:$I$2257)","v":7465}]
[455,"Côte d'Ivoire","CIV","GONTOUGO","BONDOUKOU",15421,"DR AMODI","Faible",370,0,370,0,0,0,0,1,{"$f":"_xlfn.XLOOKUP($G840,[1]demo_data!$G$5:$G$2257,[1]demo_data!$I$5:$I$2257)","v":1363}]
[458,"Côte d'Ivoire","CIV","GONTOUGO","BONDOUKOU",15421,"DR DEBA","Faible",2135,0,2135,0,0,0,0,1,{"$f":"_xlfn.XLOOKUP($G841,[1]demo_data!$G$5:$G$2257,[1]demo_data!$I$5:$I$2257)","v":7853}]
[459,"Côte d'Ivoire","CIV","GONTOUGO","BONDOUKOU",15421,"DR DONVAGNE","Faible",929,0,929,0,0,0,0,1,{"$f":"_xlfn.XLOOKUP($G842,[1]demo_data!$G$5:$G$2257,[1]demo_data!$I$5:$I$2257)","v":3414}]
[460,"Côte d'Ivoire","CIV","GONTOUGO","BONDOUKOU",15421,"DR KAMALA","Faible",2397,0,2397,0,0,0,0,1,{"$f":"_xlfn.XLOOKUP($G843,[1]demo_data!$G$5:$G$2257,[1]demo_data!$I$5:$I$2257)","v":8818}]
[462,"Côte d'Ivoire","CIV","GONTOUGO","BONDOUKOU",15421,"DR KANGUELE","Faible",2160,0,2160,0,0,0,0,1,{"$f":"_xlfn.XLOOKUP($G844,[1]demo_data!$G$5:$G$2257,[1]demo_data!$I$5:$I$2257)","v":7944}]
[464,"Côte d'Ivoire","CIV","GONTOUGO","BONDOUKOU",15421,"DR KIRAMISSE","Faible",662,0,662,0,0,0,0,1,{"$f":"_xlfn.XLOOKUP($G845,[1]demo_data!$G$5:$G$2257,[1]demo_data!$I$5:$I$2257)","v":2434}]
[465,"Côte d'Ivoire","CIV","GONTOUGO","BONDOUKOU",15421,"DR KOUAFO","Faible",1493,0,1493,0,0,0,0,1,{"$f":"_xlfn.XLOOKUP($G846,[1]demo_data!$G$5:$G$2257,[1]demo_data!$I$5:$I$2257)","v":5492}]
[466,"Côte d'Ivoire","CIV","GONTOUGO","BONDOUKOU",15421,"DR KOUASSI-KOUMAN","Faible",490,0,490,0,0,0,0,1,{"$f":"_xlfn.XLOOKUP($G847,[1]demo_data!$G$5:$G$2257,[1]demo_data!$I$5:$I$2257)","v":1804}]
[467,"Côte d'Ivoire","CIV","GONTOUGO","BONDOUKOU",15421,"DR LAOUDIGAN","Non endémique",0,0,0,0,0,0,0,0,{"$f":"_xlfn.XLOOKUP($G848,[1]demo_data!$G$5:$G$2257,[1]demo_data!$I$5:$I$2257)","v":4674}]
[468,"Côte d'Ivoire","CIV","GONTOUGO","BONDOUKOU",15421,"DR MAGAM","Faible",746,0,746,0,0,0,0,1,{"$f":"_xlfn.XLOOKUP($G849,[1]demo_data!$G$5:$G$2257,[1]demo_data!$I$5:$I$2257)","v":2745}]
[469,"Côte d'Ivoire","CIV","GONTOUGO","BONDOUKOU",15421,"DR MARAHUI","Faible",1785,0,1785,0,0,0,0,1,{"$f":"_xlfn.XLOOKUP($G850,[1]demo_data!$G$5:$G$2257,[1]demo_data!$I$5:$I$2257)","v":6568}]
[470,"Côte d'Ivoire","CIV","GONTOUGO","BONDOUKOU",15421,"DR PETEYE","Faible",1154,0,1154,0,0,0,0,1,{"$f":"_xlfn.XLOOKUP($G851,[1]demo_data!$G$5:$G$2257,[1]demo_data!$I$5:$I$2257)","v":4248}]
[471,"Côte d'Ivoire","CIV","GONTOUGO","BONDOUKOU",15421,"DR SANGUEHI","Faible",1139,0,1139,0,0,0,0,1,{"$f":"_xlfn.XLOOKUP($G852,[1]demo_data!$G$5:$G$2257,[1]demo_data!$I$5:$I$2257)","v":4189}]
[472,"Côte d'Ivoire","CIV","GONTOUGO","BONDOUKOU",15421,"DR SEREOUDE","Faible",961,0,961,0,0,0,0,1,{"$f":"_xlfn.XLOOKUP($G853,[1]demo_data!$G$5:$G$2257,[1]demo_data!$I$5:$I$2257)","v":3536}]
[473,"Côte d'Ivoire","CIV","GONTOUGO","BONDOUKOU",15421,"DR TAGADI","Faible",2798,0,2798,0,0,0,0,1,{"$f":"_xlfn.XLOOKUP($G854,[1]demo_data!$G$5:$G$2257,[1]demo_data!$I$5:$I$2257)","v":10293}]
[474,"Côte d'Ivoire","CIV","GONTOUGO","BONDOUKOU",15421,"DR TEFRODOUO","Faible",5574,0,5574,0,0,0,0,1,{"$f":"_xlfn.XLOOKUP($G855,[1]demo_data!$G$5:$G$2257,[1]demo_data!$I$5:$I$2257)","v":20507}]
[475,"Côte d'Ivoire","CIV","GONTOUGO","BONDOUKOU",15421,"DR YAOKOKOROKO","Faible",426,0,426,0,0,0,0,1,{"$f":"_xlfn.XLOOKUP($G856,[1]demo_data!$G$5:$G$2257,[1]demo_data!$I$5:$I$2257)","v":1567}]
[476,"Côte d'Ivoire","CIV","GONTOUGO","BONDOUKOU",15421,"FLAKIEDOUGOU","Faible",4917,0,4917,0,0,0,0,1,{"$f":"_xlfn.XLOOKUP($G857,[1]demo_data!$G$5:$G$2257,[1]demo_data!$I$5:$I$2257)","v":18085}]
[478,"Côte d'Ivoire","CIV","GONTOUGO","BONDOUKOU",15421,"PMI BONDOUKOU","Non endémique",0,0,0,0,0,0,0,0,{"$f":"_xlfn.XLOOKUP($G858,[1]demo_data!$G$5:$G$2257,[1]demo_data!$I$5:$I$2257)","v":60531}]
[528,"Côte d'Ivoire","CIV","GONTOUGO","KOUNFAO",15427,"CSR ABOKRO","Non endémique",0,0,0,0,0,0,0,0,{"$f":"_xlfn.XLOOKUP($G859,[1]demo_data!$G$5:$G$2257,[1]demo_data!$I$5:$I$2257)","v":1358}]
[530,"Côte d'Ivoire","CIV","GONTOUGO","KOUNFAO",15427,"CSR ADOUKRO","Non endémique",0,0,0,0,0,0,0,0,{"$f":"_xlfn.XLOOKUP($G860,[1]demo_data!$G$5:$G$2257,[1]demo_data!$I$5:$I$2257)","v":4753}]
[532,"Côte d'Ivoire","CIV","GONTOUGO","KOUNFAO",15427,"CSR AMEYAOKRO","Non endémique",0,0,0,0,0,0,0,0,{"$f":"_xlfn.XLOOKUP($G861,[1]demo_data!$G$5:$G$2257,[1]demo_data!$I$5:$I$2257)","v":5760}]
[535,"Côte d'Ivoire","CIV","GONTOUGO","KOUNFAO",15427,"CSR DEIMBA","Non endémique",0,0,0,0,0,0,0,0,{"$f":"_xlfn.XLOOKUP($G862,[1]demo_data!$G$5:$G$2257,[1]demo_data!$I$5:$I$2257)","v":3967}]
[537,"Côte d'Ivoire","CIV","GONTOUGO","KOUNFAO",15427,"CSR DJORO-DJORO","Non endémique",0,0,0,0,0,0,0,0,{"$f":"_xlfn.XLOOKUP($G863,[1]demo_data!$G$5:$G$2257,[1]demo_data!$I$5:$I$2257)","v":3124}]
[549,"Côte d'Ivoire","CIV","GONTOUGO","KOUNFAO",15427,"CSR N'GUESSAN BRINDOUKRO","Non endémique",0,0,0,0,0,0,0,0,{"$f":"_xlfn.XLOOKUP($G864,[1]demo_data!$G$5:$G$2257,[1]demo_data!$I$5:$I$2257)","v":6201}]
[550,"Côte d'Ivoire","CIV","GONTOUGO","KOUNFAO",15427,"CSR OUATTE","Non endémique",0,0,0,0,0,0,0,0,{"$f":"_xlfn.XLOOKUP($G865,[1]demo_data!$G$5:$G$2257,[1]demo_data!$I$5:$I$2257)","v":4972}]
[555,"Côte d'Ivoire","CIV","GONTOUGO","KOUNFAO",15427,"CSR YAKASSE BINI","Non endémique",0,0,0,0,0,0,0,0,{"$f":"_xlfn.XLOOKUP($G866,[1]demo_data!$G$5:$G$2257,[1]demo_data!$I$5:$I$2257)","v":2662}]
[559,"Côte d'Ivoire","CIV","GONTOUGO","KOUNFAO",15427,"CSU KOKOMIAN","Non endémique",0,0,0,0,0,0,0,0,{"$f":"_xlfn.XLOOKUP($G867,[1]demo_data!$G$5:$G$2257,[1]demo_data!$I$5:$I$2257)","v":8014}]
[560,"Côte d'Ivoire","CIV","GONTOUGO","KOUNFAO",15427,"CSU KOUASSI DATEKRO","Non endémique",0,0,0,0,0,0,0,0,{"$f":"_xlfn.XLOOKUP($G868,[1]demo_data!$G$5:$G$2257,[1]demo_data!$I$5:$I$2257)","v":11573}]
[561,"Côte d'Ivoire","CIV","GONTOUGO","KOUNFAO",15427,"CSU KOUNFAO","Non endémique",0,0,0,0,0,0,0,0,{"$f":"_xlfn.XLOOKUP($G869,[1]demo_data!$G$5:$G$2257,[1]demo_data!$I$5:$I$2257)","v":11411}]
[562,"Côte d'Ivoire","CIV","GONTOUGO","KOUNFAO",15427,"CSU KRAKRO","Non endémique",0,0,0,0,0,0,0,0,{"$f":"_xlfn.XLOOKUP($G870,[1]demo_data!$G$5:$G$2257,[1]demo_data!$I$5:$I$2257)","v":9478}]
[563,"Côte d'Ivoire","CIV","GONTOUGO","KOUNFAO",15427,"CSU TANKESSE","Non endémique",0,0,0,0,0,0,0,0,{"$f":"_xlfn.XLOOKUP($G871,[1]demo_data!$G$5:$G$2257,[1]demo_data!$I$5:$I$2257)","v":14534}]
[565,"Côte d'Ivoire","CIV","GONTOUGO","KOUNFAO",15427,"CSU TIENKOIKRO","Non endémique",0,0,0,0,0,0,0,0,{"$f":"_xlfn.XLOOKUP($G872,[1]demo_data!$G$5:$G$2257,[1]demo_data!$I$5:$I$2257)","v":4536}]
[579,"Côte d'Ivoire","CIV","GONTOUGO","KOUNFAO",15427,"DR KORIA","Non endémique",0,0,0,0,0,0,0,0,{"$f":"_xlfn.XLOOKUP($G873,[1]demo_data!$G$5:$G$2257,[1]demo_data!$I$5:$I$2257)","v":3667}]
[580,"Côte d'Ivoire","CIV","GONTOUGO","KOUNFAO",15427,"DR KOTRONOU","Non endémique",0,0,0,0,0,0,0,0,{"$f":"_xlfn.XLOOKUP($G874,[1]demo_data!$G$5:$G$2257,[1]demo_data!$I$5:$I$2257)","v":3721}]
[583,"Côte d'Ivoire","CIV","GONTOUGO","KOUNFAO",15427,"DR KOUAKOU-KRAKRO","Non endémique",0,0,0,0,0,0,0,0,{"$f":"_xlfn.XLOOKUP($G875,[1]demo_data!$G$5:$G$2257,[1]demo_data!$I$5:$I$2257)","v":6713}]
[590,"Côte d'Ivoire","CIV","GONTOUGO","KOUNFAO",15427,"DR TAKIKRO","Non endémique",0,0,0,0,0,0,0,0,{"$f":"_xlfn.XLOOKUP($G876,[1]demo_data!$G$5:$G$2257,[1]demo_data!$I$5:$I$2257)","v":2772}]
[426,"Côte d'Ivoire","CIV","GONTOUGO","SANDEGUE",15422,"CSR BANDAKAGNI-SOKOURA","Non endémique",0,0,0,0,0,0,0,0,{"$f":"_xlfn.XLOOKUP($G877,[1]demo_data!$G$5:$G$2257,[1]demo_data!$I$5:$I$2257)","v":12917}]
[436,"Côte d'Ivoire","CIV","GONTOUGO","SANDEGUE",15422,"CSR MASSADOUGOU","Non endémique",0,0,0,0,0,0,0,0,{"$f":"_xlfn.XLOOKUP($G878,[1]demo_data!$G$5:$G$2257,[1]demo_data!$I$5:$I$2257)","v":9078}]
[437,"Côte d'Ivoire","CIV","GONTOUGO","SANDEGUE",15422,"CSR NAMASSI","Non endémique",0,0,0,0,0,0,0,0,{"$f":"_xlfn.XLOOKUP($G879,[1]demo_data!$G$5:$G$2257,[1]demo_data!$I$5:$I$2257)","v":9852}]
[444,"Côte d'Ivoire","CIV","GONTOUGO","SANDEGUE",15422,"CSU DIMANDOUGOU","Non endémique",0,0,0,0,0,0,0,0,{"$f":"_xlfn.XLOOKUP($G880,[1]demo_data!$G$5:$G$2257,[1]demo_data!$I$5:$I$2257)","v":11020}]
[453,"Côte d'Ivoire","CIV","GONTOUGO","SANDEGUE",15422,"CSU YOROBODI","Non endémique",0,0,0,0,0,0,0,0,{"$f":"_xlfn.XLOOKUP($G881,[1]demo_data!$G$5:$G$2257,[1]demo_data!$I$5:$I$2257)","v":15922}]
[456,"Côte d'Ivoire","CIV","GONTOUGO","SANDEGUE",15422,"DR AWAIKRO","Non endémique",0,0,0,0,0,0,0,0,{"$f":"_xlfn.XLOOKUP($G882,[1]demo_data!$G$5:$G$2257,[1]demo_data!$I$5:$I$2257)","v":5723}]
[457,"Côte d'Ivoire","CIV","GONTOUGO","SANDEGUE",15422,"DR BANDAKAGNI-TOMORA","Non endémique",0,0,0,0,0,0,0,0,{"$f":"_xlfn.XLOOKUP($G883,[1]demo_data!$G$5:$G$2257,[1]demo_data!$I$5:$I$2257)","v":3730}]
[461,"Côte d'Ivoire","CIV","GONTOUGO","SANDEGUE",15422,"DR KAMELE","Non endémique",0,0,0,0,0,0,0,0,{"$f":"_xlfn.XLOOKUP($G884,[1]demo_data!$G$5:$G$2257,[1]demo_data!$I$5:$I$2257)","v":3624}]
[463,"Côte d'Ivoire","CIV","GONTOUGO","SANDEGUE",15422,"DR KEMEDI","Non endémique",0,0,0,0,0,0,0,0,{"$f":"_xlfn.XLOOKUP($G885,[1]demo_data!$G$5:$G$2257,[1]demo_data!$I$5:$I$2257)","v":1802}]
[477,"Côte d'Ivoire","CIV","GONTOUGO","SANDEGUE",15422,"HG SANDEGUE","Non endémique",0,0,0,0,0,0,0,0,{"$f":"_xlfn.XLOOKUP($G886,[1]demo_data!$G$5:$G$2257,[1]demo_data!$I$5:$I$2257)","v":9789}]
[533,"Côte d'Ivoire","CIV","GONTOUGO","TANDA",15426,"CSR BROUKRO","Non endémique",0,0,0,0,0,0,0,0,{"$f":"_xlfn.XLOOKUP($G887,[1]demo_data!$G$5:$G$2257,[1]demo_data!$I$5:$I$2257)","v":2064}]
[536,"Côte d'Ivoire","CIV","GONTOUGO","TANDA",15426,"CSR DIAMBA","Non endémique",0,0,0,0,0,0,0,0,{"$f":"_xlfn.XLOOKUP($G888,[1]demo_data!$G$5:$G$2257,[1]demo_data!$I$5:$I$2257)","v":4890}]
[538,"Côte d'Ivoire","CIV","GONTOUGO","TANDA",15426,"CSR ESSIKRO","Non endémique",0,0,0,0,0,0,0,0,{"$f":"_xlfn.XLOOKUP($G889,[1]demo_data!$G$5:$G$2257,[1]demo_data!$I$5:$I$2257)","v":2778}]
[539,"Côte d'Ivoire","CIV","GONTOUGO","TANDA",15426,"CSR FISSA","Non endémique",0,0,0,0,0,0,0,0,{"$f":"_xlfn.XLOOKUP($G890,[1]demo_data!$G$5:$G$2257,[1]demo_data!$I$5:$I$2257)","v":2852}]
[540,"Côte d'Ivoire","CIV","GONTOUGO","TANDA",15426,"CSR GONDIA","Non endémique",0,0,0,0,0,0,0,0,{"$f":"_xlfn.XLOOKUP($G891,[1]demo_data!$G$5:$G$2257,[1]demo_data!$I$5:$I$2257)","v":3694}]
[541,"Côte d'Ivoire","CIV","GONTOUGO","TANDA",15426,"CSR GUIENDE","Non endémique",0,0,0,0,0,0,0,0,{"$f":"_xlfn.XLOOKUP($G892,[1]demo_data!$G$5:$G$2257,[1]demo_data!$I$5:$I$2257)","v":7417}]
[542,"Côte d'Ivoire","CIV","GONTOUGO","TANDA",15426,"CSR KOROBO","Non endémique",0,0,0,0,0,0,0,0,{"$f":"_xlfn.XLOOKUP($G893,[1]demo_data!$G$5:$G$2257,[1]demo_data!$I$5:$I$2257)","v":3776}]
[543,"Côte d'Ivoire","CIV","GONTOUGO","TANDA",15426,"CSR KOTOGWANDA","Non endémique",0,0,0,0,0,0,0,0,{"$f":"_xlfn.XLOOKUP($G894,[1]demo_data!$G$5:$G$2257,[1]demo_data!$I$5:$I$2257)","v":4317}]
[545,"Côte d'Ivoire","CIV","GONTOUGO","TANDA",15426,"CSR KOUASSIA NANGUINI","Non endémique",0,0,0,0,0,0,0,0,{"$f":"_xlfn.XLOOKUP($G895,[1]demo_data!$G$5:$G$2257,[1]demo_data!$I$5:$I$2257)","v":6466}]
[546,"Côte d'Ivoire","CIV","GONTOUGO","TANDA",15426,"CSR LOMO","Non endémique",0,0,0,0,0,0,0,0,{"$f":"_xlfn.XLOOKUP($G896,[1]demo_data!$G$5:$G$2257,[1]demo_data!$I$5:$I$2257)","v":5081}]
[547,"Côte d'Ivoire","CIV","GONTOUGO","TANDA",15426,"CSR MISSOUMIHIAN 1","Non endémique",0,0,0,0,0,0,0,0,{"$f":"_xlfn.XLOOKUP($G897,[1]demo_data!$G$5:$G$2257,[1]demo_data!$I$5:$I$2257)","v":3803}]
[548,"Côte d'Ivoire","CIV","GONTOUGO","TANDA",15426,"CSR N'DAKRO","Non endémique",0,0,0,0,0,0,0,0,{"$f":"_xlfn.XLOOKUP($G898,[1]demo_data!$G$5:$G$2257,[1]demo_data!$I$5:$I$2257)","v":6194}]
[551,"Côte d'Ivoire","CIV","GONTOUGO","TANDA",15426,"CSR PALA","Non endémique",0,0,0,0,0,0,0,0,{"$f":"_xlfn.XLOOKUP($G899,[1]demo_data!$G$5:$G$2257,[1]demo_data!$I$5:$I$2257)","v":2091}]
[553,"Côte d'Ivoire","CIV","GONTOUGO","TANDA",15426,"CSR SIASSO","Non endémique",0,0,0,0,0,0,0,0,{"$f":"_xlfn.XLOOKUP($G900,[1]demo_data!$G$5:$G$2257,[1]demo_data!$I$5:$I$2257)","v":924}]
[557,"Côte d'Ivoire","CIV","GONTOUGO","TANDA",15426,"CSU AMANVI","Non endémique",0,0,0,0,0,0,0,0,{"$f":"_xlfn.XLOOKUP($G901,[1]demo_data!$G$5:$G$2257,[1]demo_data!$I$5:$I$2257)","v":4999}]
[564,"Côte d'Ivoire","CIV","GONTOUGO","TANDA",15426,"CSU TIEDIO","Non endémique",0,0,0,0,0,0,0,0,{"$f":"_xlfn.XLOOKUP($G902,[1]demo_data!$G$5:$G$2257,[1]demo_data!$I$5:$I$2257)","v":5352}]
[566,"Côte d'Ivoire","CIV","GONTOUGO","TANDA",15426,"DR ABOKOUMAN","Non endémique",0,0,0,0,0,0,0,0,{"$f":"_xlfn.XLOOKUP($G903,[1]demo_data!$G$5:$G$2257,[1]demo_data!$I$5:$I$2257)","v":2620}]
[568,"Côte d'Ivoire","CIV","GONTOUGO","TANDA",15426,"DR ANANVOUENOU","Non endémique",0,0,0,0,0,0,0,0,{"$f":"_xlfn.XLOOKUP($G904,[1]demo_data!$G$5:$G$2257,[1]demo_data!$I$5:$I$2257)","v":2200}]
[571,"Côte d'Ivoire","CIV","GONTOUGO","TANDA",15426,"DR ASSUAMAKRO","Non endémique",0,0,0,0,0,0,0,0,{"$f":"_xlfn.XLOOKUP($G905,[1]demo_data!$G$5:$G$2257,[1]demo_data!$I$5:$I$2257)","v":4754}]
[573,"Côte d'Ivoire","CIV","GONTOUGO","TANDA",15426,"DR BOUKO","Non endémique",0,0,0,0,0,0,0,0,{"$f":"_xlfn.XLOOKUP($G906,[1]demo_data!$G$5:$G$2257,[1]demo_data!$I$5:$I$2257)","v":2771}]
[574,"Côte d'Ivoire","CIV","GONTOUGO","TANDA",15426,"DR DIEDOU PAMBASSO","Non endémique",0,0,0,0,0,0,0,0,{"$f":"_xlfn.XLOOKUP($G907,[1]demo_data!$G$5:$G$2257,[1]demo_data!$I$5:$I$2257)","v":3967}]
[575,"Côte d'Ivoire","CIV","GONTOUGO","TANDA",15426,"DR DOKANOU","Non endémique",0,0,0,0,0,0,0,0,{"$f":"_xlfn.XLOOKUP($G908,[1]demo_data!$G$5:$G$2257,[1]demo_data!$I$5:$I$2257)","v":2475}]
[576,"Côte d'Ivoire","CIV","GONTOUGO","TANDA",15426,"DR IGUELA","Non endémique",0,0,0,0,0,0,0,0,{"$f":"_xlfn.XLOOKUP($G909,[1]demo_data!$G$5:$G$2257,[1]demo_data!$I$5:$I$2257)","v":1876}]
[591,"Côte d'Ivoire","CIV","GONTOUGO","TANDA",15426,"DR TANGAMOUROU","Non endémique",0,0,0,0,0,0,0,0,{"$f":"_xlfn.XLOOKUP($G910,[1]demo_data!$G$5:$G$2257,[1]demo_data!$I$5:$I$2257)","v":3912}]
[592,"Côte d'Ivoire","CIV","GONTOUGO","TANDA",15426,"DR TEHUI","Non endémique",0,0,0,0,0,0,0,0,{"$f":"_xlfn.XLOOKUP($G911,[1]demo_data!$G$5:$G$2257,[1]demo_data!$I$5:$I$2257)","v":4863}]
[593,"Côte d'Ivoire","CIV","GONTOUGO","TANDA",15426,"HG TANDA","Non endémique",0,0,0,0,0,0,0,0,{"$f":"_xlfn.XLOOKUP($G912,[1]demo_data!$G$5:$G$2257,[1]demo_data!$I$5:$I$2257)","v":22639}]
[529,"Côte d'Ivoire","CIV","GONTOUGO","TRANSUA",15428,"CSR ADANDIA","Non endémique",0,0,0,0,0,0,0,0,{"$f":"_xlfn.XLOOKUP($G913,[1]demo_data!$G$5:$G$2257,[1]demo_data!$I$5:$I$2257)","v":1902}]
[531,"Côte d'Ivoire","CIV","GONTOUGO","TRANSUA",15428,"CSR AHUITIESSO","Non endémique",0,0,0,0,0,0,0,0,{"$f":"_xlfn.XLOOKUP($G914,[1]demo_data!$G$5:$G$2257,[1]demo_data!$I$5:$I$2257)","v":8540}]
[534,"Côte d'Ivoire","CIV","GONTOUGO","TRANSUA",15428,"CSR DADIASSE","Non endémique",0,0,0,0,0,0,0,0,{"$f":"_xlfn.XLOOKUP($G915,[1]demo_data!$G$5:$G$2257,[1]demo_data!$I$5:$I$2257)","v":8301}]
[544,"Côte d'Ivoire","CIV","GONTOUGO","TRANSUA",15428,"CSR KOUASSI SERANOU","Non endémique",0,0,0,0,0,0,0,0,{"$f":"_xlfn.XLOOKUP($G916,[1]demo_data!$G$5:$G$2257,[1]demo_data!$I$5:$I$2257)","v":3784}]
[552,"Côte d'Ivoire","CIV","GONTOUGO","TRANSUA",15428,"CSR PENGAKRO","Non endémique",0,0,0,0,0,0,0,0,{"$f":"_xlfn.XLOOKUP($G917,[1]demo_data!$G$5:$G$2257,[1]demo_data!$I$5:$I$2257)","v":3749}]
[554,"Côte d'Ivoire","CIV","GONTOUGO","TRANSUA",15428,"CSR SOUROMANI","Non endémique",0,0,0,0,0,0,0,0,{"$f":"_xlfn.XLOOKUP($G918,[1]demo_data!$G$5:$G$2257,[1]demo_data!$I$5:$I$2257)","v":1793}]
[556,"Côte d'Ivoire","CIV","GONTOUGO","TRANSUA",15428,"CSR YAO NANGO","Non endémique",0,0,0,0,0,0,0,0,{"$f":"_xlfn.XLOOKUP($G919,[1]demo_data!$G$5:$G$2257,[1]demo_data!$I$5:$I$2257)","v":2364}]
[558,"Côte d'Ivoire","CIV","GONTOUGO","TRANSUA",15428,"CSU ASSUEFRY","Non endémique",0,0,0,0,0,0,0,0,{"$f":"_xlfn.XLOOKUP($G920,[1]demo_data!$G$5:$G$2257,[1]demo_data!$I$5:$I$2257)","v":13957}]
[567,"Côte d'Ivoire","CIV","GONTOUGO","TRANSUA",15428,"DR AKRASSIKRO","Non endémique",0,0,0,0,0,0,0,0,{"$f":"_xlfn.XLOOKUP($G921,[1]demo_data!$G$5:$G$2257,[1]demo_data!$I$5:$I$2257)","v":491}]
[569,"Côte d'Ivoire","CIV","GONTOUGO","TRANSUA",15428,"DR ARROSUA","Non endémique",0,0,0,0,0,0,0,0,{"$f":"_xlfn.XLOOKUP($G922,[1]demo_data!$G$5:$G$2257,[1]demo_data!$I$5:$I$2257)","v":4374}]
[570,"Côte d'Ivoire","CIV","GONTOUGO","TRANSUA",15428,"DR ASSINDI","Non endémique",0,0,0,0,0,0,0,0,{"$f":"_xlfn.XLOOKUP($G923,[1]demo_data!$G$5:$G$2257,[1]demo_data!$I$5:$I$2257)","v":4672}]
[572,"Côte d'Ivoire","CIV","GONTOUGO","TRANSUA",15428,"DR ASSUETIAKESSE","Non endémique",0,0,0,0,0,0,0,0,{"$f":"_xlfn.XLOOKUP($G924,[1]demo_data!$G$5:$G$2257,[1]demo_data!$I$5:$I$2257)","v":8939}]
[577,"Côte d'Ivoire","CIV","GONTOUGO","TRANSUA",15428,"DR KASSAN","Non endémique",0,0,0,0,0,0,0,0,{"$f":"_xlfn.XLOOKUP($G925,[1]demo_data!$G$5:$G$2257,[1]demo_data!$I$5:$I$2257)","v":1821}]
[578,"Côte d'Ivoire","CIV","GONTOUGO","TRANSUA",15428,"DR KEKRENI","Non endémique",0,0,0,0,0,0,0,0,{"$f":"_xlfn.XLOOKUP($G926,[1]demo_data!$G$5:$G$2257,[1]demo_data!$I$5:$I$2257)","v":2123}]
[581,"Côte d'Ivoire","CIV","GONTOUGO","TRANSUA",15428,"DR KOUADIO KISSIKRO","Non endémique",0,0,0,0,0,0,0,0,{"$f":"_xlfn.XLOOKUP($G927,[1]demo_data!$G$5:$G$2257,[1]demo_data!$I$5:$I$2257)","v":5515}]
[582,"Côte d'Ivoire","CIV","GONTOUGO","TRANSUA",15428,"DR KOUAHINIKRO","Non endémique",0,0,0,0,0,0,0,0,{"$f":"_xlfn.XLOOKUP($G928,[1]demo_data!$G$5:$G$2257,[1]demo_data!$I$5:$I$2257)","v":4103}]
[584,"Côte d'Ivoire","CIV","GONTOUGO","TRANSUA",15428,"DR MANTOUKOUA","Non endémique",0,0,0,0,0,0,0,0,{"$f":"_xlfn.XLOOKUP($G929,[1]demo_data!$G$5:$G$2257,[1]demo_data!$I$5:$I$2257)","v":1792}]
[585,"Côte d'Ivoire","CIV","GONTOUGO","TRANSUA",15428,"DR MEREKOU","Non endémique",0,0,0,0,0,0,0,0,{"$f":"_xlfn.XLOOKUP($G930,[1]demo_data!$G$5:$G$2257,[1]demo_data!$I$5:$I$2257)","v":2757}]
[586,"Côte d'Ivoire","CIV","GONTOUGO","TRANSUA",15428,"DR N'ZUASSE","Non endémique",0,0,0,0,0,0,0,0,{"$f":"_xlfn.XLOOKUP($G931,[1]demo_data!$G$5:$G$2257,[1]demo_data!$I$5:$I$2257)","v":1902}]
[587,"Côte d'Ivoire","CIV","GONTOUGO","TRANSUA",15428,"DR POKO","Non endémique",0,0,0,0,0,0,0,0,{"$f":"_xlfn.XLOOKUP($G932,[1]demo_data!$G$5:$G$2257,[1]demo_data!$I$5:$I$2257)","v":4754}]
[588,"Côte d'Ivoire","CIV","GONTOUGO","TRANSUA",15428,"DR PRITI 1","Non endémique",0,0,0,0,0,0,0,0,{"$f":"_xlfn.XLOOKUP($G933,[1]demo_data!$G$5:$G$2257,[1]demo_data!$I$5:$I$2257)","v":1456}]
[589,"Côte d'Ivoire","CIV","GONTOUGO","TRANSUA",15428,"DR PRITI 2","Non endémique",0,0,0,0,0,0,0,0,{"$f":"_xlfn.XLOOKUP($G934,[1]demo_data!$G$5:$G$2257,[1]demo_data!$I$5:$I$2257)","v":1250}]
[594,"Côte d'Ivoire","CIV","GONTOUGO","TRANSUA",15428,"HG TRANSUA","Non endémique",0,0,0,0,0,0,0,0,{"$f":"_xlfn.XLOOKUP($G935,[1]demo_data!$G$5:$G$2257,[1]demo_data!$I$5:$I$2257)","v":4375}]
[9,"Côte d'Ivoire","CIV","GRANDS PONTS","DABOU",15330,"AHUA-AKAKRO","Faible",985,0,985,1,985,0,985,1,{"$f":"_xlfn.XLOOKUP($G936,[1]demo_data!$G$5:$G$2257,[1]demo_data!$I$5:$I$2257)","v":3793}]
[10,"Côte d'Ivoire","CIV","GRANDS PONTS","DABOU",15330,"ARMEBE","Faible",340,0,340,1,340,0,340,1,{"$f":"_xlfn.XLOOKUP($G937,[1]demo_data!$G$5:$G$2257,[1]demo_data!$I$5:$I$2257)","v":1308}]
[11,"Côte d'Ivoire","CIV","GRANDS PONTS","DABOU",15330,"BEDRIMOU","Faible",972,0,972,1,972,0,972,1,{"$f":"_xlfn.XLOOKUP($G938,[1]demo_data!$G$5:$G$2257,[1]demo_data!$I$5:$I$2257)","v":3743}]
[12,"Côte d'Ivoire","CIV","GRANDS PONTS","DABOU",15330,"BONN","Non endémique",0,0,0,0,0,0,0,0,{"$f":"_xlfn.XLOOKUP($G939,[1]demo_data!$G$5:$G$2257,[1]demo_data!$I$5:$I$2257)","v":3431}]
[13,"Côte d'Ivoire","CIV","GRANDS PONTS","DABOU",15330,"BOUBOURY","Faible",1017,0,1017,1,1017,0,1017,1,{"$f":"_xlfn.XLOOKUP($G940,[1]demo_data!$G$5:$G$2257,[1]demo_data!$I$5:$I$2257)","v":3919}]
[14,"Côte d'Ivoire","CIV","GRANDS PONTS","DABOU",15330,"COSROU","Faible",1271,0,1271,1,1271,0,1271,1,{"$f":"_xlfn.XLOOKUP($G941,[1]demo_data!$G$5:$G$2257,[1]demo_data!$I$5:$I$2257)","v":4898}]
[15,"Côte d'Ivoire","CIV","GRANDS PONTS","DABOU",15330,"DABOU","Faible",18693,0,18693,1,18693,0,18693,1,{"$f":"_xlfn.XLOOKUP($G942,[1]demo_data!$G$5:$G$2257,[1]demo_data!$I$5:$I$2257)","v":72023}]
[16,"Côte d'Ivoire","CIV","GRANDS PONTS","DABOU",15330,"IRA","Faible",2367,0,2367,1,2367,0,2367,1,{"$f":"_xlfn.XLOOKUP($G943,[1]demo_data!$G$5:$G$2257,[1]demo_data!$I$5:$I$2257)","v":9120}]
[17,"Côte d'Ivoire","CIV","GRANDS PONTS","DABOU",15330,"LOPOU","Faible",3719,0,3719,1,3719,0,3719,1,{"$f":"_xlfn.XLOOKUP($G944,[1]demo_data!$G$5:$G$2257,[1]demo_data!$I$5:$I$2257)","v":14330}]
[18,"Côte d'Ivoire","CIV","GRANDS PONTS","DABOU",15330,"N'GATTY","Faible",450,0,450,1,450,0,450,1,{"$f":"_xlfn.XLOOKUP($G945,[1]demo_data!$G$5:$G$2257,[1]demo_data!$I$5:$I$2257)","v":1735}]
[19,"Côte d'Ivoire","CIV","GRANDS PONTS","DABOU",15330,"NIGUI-NANOU","Faible",171,0,171,1,171,0,171,1,{"$f":"_xlfn.XLOOKUP($G946,[1]demo_data!$G$5:$G$2257,[1]demo_data!$I$5:$I$2257)","v":658}]
[20,"Côte d'Ivoire","CIV","GRANDS PONTS","DABOU",15330,"NOUVEL OUSROU","Faible",1808,0,1808,1,1808,0,1808,1,{"$f":"_xlfn.XLOOKUP($G947,[1]demo_data!$G$5:$G$2257,[1]demo_data!$I$5:$I$2257)","v":6966}]
[21,"Côte d'Ivoire","CIV","GRANDS PONTS","DABOU",15330,"OPOYOU","Faible",1124,0,1124,1,1124,0,1124,1,{"$f":"_xlfn.XLOOKUP($G948,[1]demo_data!$G$5:$G$2257,[1]demo_data!$I$5:$I$2257)","v":4335}]
[22,"Côte d'Ivoire","CIV","GRANDS PONTS","DABOU",15330,"ORBAFF","Non endémique",0,0,0,0,0,0,0,0,{"$f":"_xlfn.XLOOKUP($G949,[1]demo_data!$G$5:$G$2257,[1]demo_data!$I$5:$I$2257)","v":5844}]
[23,"Côte d'Ivoire","CIV","GRANDS PONTS","DABOU",15330,"PANDAH","Faible",525,0,525,1,525,0,525,1,{"$f":"_xlfn.XLOOKUP($G950,[1]demo_data!$G$5:$G$2257,[1]demo_data!$I$5:$I$2257)","v":2023}]
[24,"Côte d'Ivoire","CIV","GRANDS PONTS","DABOU",15330,"PASS","Faible",523,0,523,1,523,0,523,1,{"$f":"_xlfn.XLOOKUP($G951,[1]demo_data!$G$5:$G$2257,[1]demo_data!$I$5:$I$2257)","v":2014}]
[25,"Côte d'Ivoire","CIV","GRANDS PONTS","DABOU",15330,"PETIT BADIEN","Faible",496,0,496,1,496,0,496,1,{"$f":"_xlfn.XLOOKUP($G952,[1]demo_data!$G$5:$G$2257,[1]demo_data!$I$5:$I$2257)","v":1910}]
[26,"Côte d'Ivoire","CIV","GRANDS PONTS","DABOU",15330,"SAVANE","Faible",648,0,648,1,648,0,648,1,{"$f":"_xlfn.XLOOKUP($G953,[1]demo_data!$G$5:$G$2257,[1]demo_data!$I$5:$I$2257)","v":2500}]
[27,"Côte d'Ivoire","CIV","GRANDS PONTS","DABOU",15330,"SST SAPH","Faible",785,0,785,1,785,0,785,1,{"$f":"_xlfn.XLOOKUP($G954,[1]demo_data!$G$5:$G$2257,[1]demo_data!$I$5:$I$2257)","v":3026}]
[28,"Côte d'Ivoire","CIV","GRANDS PONTS","DABOU",15330,"TOUPAH","Faible",1302,0,1302,1,1302,0,1302,1,{"$f":"_xlfn.XLOOKUP($G955,[1]demo_data!$G$5:$G$2257,[1]demo_data!$I$5:$I$2257)","v":5015}]
[29,"Côte d'Ivoire","CIV","GRANDS PONTS","DABOU",15330,"VIEEIL AKLODJ","Faible",1841,0,1841,1,1841,0,1841,1,{"$f":"_xlfn.XLOOKUP($G956,[1]demo_data!$G$5:$G$2257,[1]demo_data!$I$5:$I$2257)","v":7093}]
[30,"Côte d'Ivoire","CIV","GRANDS PONTS","DABOU",15330,"VIEUX BADIEN","Faible",1369,0,1369,1,1369,0,1369,1,{"$f":"_xlfn.XLOOKUP($G957,[1]demo_data!$G$5:$G$2257,[1]demo_data!$I$5:$I$2257)","v":5273}]
[31,"Côte d'Ivoire","CIV","GRANDS PONTS","DABOU",15330,"YASSAP","Faible",1039,0,1039,1,1039,0,1039,1,{"$f":"_xlfn.XLOOKUP($G958,[1]demo_data!$G$5:$G$2257,[1]demo_data!$I$5:$I$2257)","v":4002}]
[32,"Côte d'Ivoire","CIV","GRANDS PONTS","GRAND-LAHOU",15331,"COMMUNE","Faible",9427,0,9427,1,9427,0,9427,1,{"$f":"_xlfn.XLOOKUP($G959,[1]demo_data!$G$5:$G$2257,[1]demo_data!$I$5:$I$2257)","v":37249}]
[33,"Côte d'Ivoire","CIV","GRANDS PONTS","GRAND-LAHOU",15331,"CSR AHOUGNANFOUTOU","Faible",869,0,869,1,869,0,869,1,{"$f":"_xlfn.XLOOKUP($G960,[1]demo_data!$G$5:$G$2257,[1]demo_data!$I$5:$I$2257)","v":3434}]
[34,"Côte d'Ivoire","CIV","GRANDS PONTS","GRAND-LAHOU",15331,"CSR BELLEVILLE","Faible",3740,0,3740,1,3740,0,3740,1,{"$f":"_xlfn.XLOOKUP($G961,[1]demo_data!$G$5:$G$2257,[1]demo_data!$I$5:$I$2257)","v":14777}]
[35,"Côte d'Ivoire","CIV","GRANDS PONTS","GRAND-LAHOU",15331,"CSR BRAFFEDON","Non endémique",0,0,0,0,0,0,0,0,{"$f":"_xlfn.XLOOKUP($G962,[1]demo_data!$G$5:$G$2257,[1]demo_data!$I$5:$I$2257)","v":11415}]
[36,"Côte d'Ivoire","CIV","GRANDS PONTS","GRAND-LAHOU",15331,"CSR DONGBO-TAMABO","Faible",3309,0,3309,1,3309,0,3309,1,{"$f":"_xlfn.XLOOKUP($G963,[1]demo_data!$G$5:$G$2257,[1]demo_data!$I$5:$I$2257)","v":13073}]
[37,"Côte d'Ivoire","CIV","GRANDS PONTS","GRAND-LAHOU",15331,"CSR LAHOU-KPANDA","Non endémique",0,0,0,0,0,0,0,0,{"$f":"_xlfn.XLOOKUP($G964,[1]demo_data!$G$5:$G$2257,[1]demo_data!$I$5:$I$2257)","v":6164}]
[38,"Côte d'Ivoire","CIV","GRANDS PONTS","GRAND-LAHOU",15331,"CSR LIBOLI","Faible",1055,0,1055,1,1055,0,1055,1,{"$f":"_xlfn.XLOOKUP($G965,[1]demo_data!$G$5:$G$2257,[1]demo_data!$I$5:$I$2257)","v":4167}]
[39,"Côte d'Ivoire","CIV","GRANDS PONTS","GRAND-LAHOU",15331,"CSR TIEVIESSOU","Faible",3864,0,3864,1,3864,0,3864,1,{"$f":"_xlfn.XLOOKUP($G966,[1]demo_data!$G$5:$G$2257,[1]demo_data!$I$5:$I$2257)","v":15268}]
[40,"Côte d'Ivoire","CIV","GRANDS PONTS","GRAND-LAHOU",15331,"CSR TOUKOUZOU","Non endémique",0,0,0,0,0,0,0,0,{"$f":"_xlfn.XLOOKUP($G967,[1]demo_data!$G$5:$G$2257,[1]demo_data!$I$5:$I$2257)","v":2697}]
[41,"Côte d'Ivoire","CIV","GRANDS PONTS","GRAND-LAHOU",15331,"CSU AHOUANOU","Faible",3659,0,3659,1,3659,0,3659,1,{"$f":"_xlfn.XLOOKUP($G968,[1]demo_data!$G$5:$G$2257,[1]demo_data!$I$5:$I$2257)","v":14457}]
[42,"Côte d'Ivoire","CIV","GRANDS PONTS","GRAND-LAHOU",15331,"CSU BACANDA","Faible",6292,0,6292,1,6292,0,6292,1,{"$f":"_xlfn.XLOOKUP($G969,[1]demo_data!$G$5:$G$2257,[1]demo_data!$I$5:$I$2257)","v":24861}]
[43,"Côte d'Ivoire","CIV","GRANDS PONTS","GRAND-LAHOU",15331,"CSU EBOUNOU","Non endémique",0,0,0,0,0,0,0,0,{"$f":"_xlfn.XLOOKUP($G970,[1]demo_data!$G$5:$G$2257,[1]demo_data!$I$5:$I$2257)","v":7698}]
[44,"Côte d'Ivoire","CIV","GRANDS PONTS","GRAND-LAHOU",15331,"DR DIATEKET","Non endémique",0,0,0,0,0,0,0,0,{"$f":"_xlfn.XLOOKUP($G971,[1]demo_data!$G$5:$G$2257,[1]demo_data!$I$5:$I$2257)","v":1217}]
[45,"Côte d'Ivoire","CIV","GRANDS PONTS","GRAND-LAHOU",15331,"DR DIBOU","Faible",276,0,276,1,276,0,276,1,{"$f":"_xlfn.XLOOKUP($G972,[1]demo_data!$G$5:$G$2257,[1]demo_data!$I$5:$I$2257)","v":1090}]
[46,"Côte d'Ivoire","CIV","GRANDS PONTS","GRAND-LAHOU",15331,"DR KROKROM","Faible",3243,0,3243,1,3243,0,3243,1,{"$f":"_xlfn.XLOOKUP($G973,[1]demo_data!$G$5:$G$2257,[1]demo_data!$I$5:$I$2257)","v":12813}]
[47,"Côte d'Ivoire","CIV","GRANDS PONTS","GRAND-LAHOU",15331,"NANDIBO 2","Faible",1450,0,1450,1,1450,0,1450,1,{"$f":"_xlfn.XLOOKUP($G974,[1]demo_data!$G$5:$G$2257,[1]demo_data!$I$5:$I$2257)","v":5729}]
[48,"Côte d'Ivoire","CIV","GRANDS PONTS","JACQUEVILLE",15332,"ABRACO","Faible",344,0,344,1,344,0,344,1,{"$f":"_xlfn.XLOOKUP($G975,[1]demo_data!$G$5:$G$2257,[1]demo_data!$I$5:$I$2257)","v":1358}]
[49,"Côte d'Ivoire","CIV","GRANDS PONTS","JACQUEVILLE",15332,"ADDAH","Faible",1134,0,1134,1,1134,0,1134,1,{"$f":"_xlfn.XLOOKUP($G976,[1]demo_data!$G$5:$G$2257,[1]demo_data!$I$5:$I$2257)","v":4480}]
[50,"Côte d'Ivoire","CIV","GRANDS PONTS","JACQUEVILLE",15332,"ADESSE","Non endémique",0,0,0,0,0,0,0,0,{"$f":"_xlfn.XLOOKUP($G977,[1]demo_data!$G$5:$G$2257,[1]demo_data!$I$5:$I$2257)","v":1470}]
[51,"Côte d'Ivoire","CIV","GRANDS PONTS","JACQUEVILLE",15332,"ATTOUTOU A","Faible",198,0,198,1,198,0,198,1,{"$f":"_xlfn.XLOOKUP($G978,[1]demo_data!$G$5:$G$2257,[1]demo_data!$I$5:$I$2257)","v":784}]
[52,"Côte d'Ivoire","CIV","GRANDS PONTS","JACQUEVILLE",15332,"ATTOUTOU B","Faible",455,0,455,1,455,0,455,1,{"$f":"_xlfn.XLOOKUP($G979,[1]demo_data!$G$5:$G$2257,[1]demo_data!$I$5:$I$2257)","v":1796}]
[53,"Côte d'Ivoire","CIV","GRANDS PONTS","JACQUEVILLE",15332,"AVAGOU","Faible",1416,0,1416,1,1416,0,1416,1,{"$f":"_xlfn.XLOOKUP($G980,[1]demo_data!$G$5:$G$2257,[1]demo_data!$I$5:$I$2257)","v":5596}]
[54,"Côte d'Ivoire","CIV","GRANDS PONTS","JACQUEVILLE",15332,"HOPITAL GENERAL","Faible",5571,0,5571,1,5571,0,5571,1,{"$f":"_xlfn.XLOOKUP($G981,[1]demo_data!$G$5:$G$2257,[1]demo_data!$I$5:$I$2257)","v":22012}]
[55,"Côte d'Ivoire","CIV","GRANDS PONTS","JACQUEVILLE",15332,"IROBO","Non endémique",0,0,0,0,0,0,0,0,{"$f":"_xlfn.XLOOKUP($G982,[1]demo_data!$G$5:$G$2257,[1]demo_data!$I$5:$I$2257)","v":8973}]
[56,"Côte d'Ivoire","CIV","GRANDS PONTS","JACQUEVILLE",15332,"KOUVE","Non endémique",0,0,0,0,0,0,0,0,{"$f":"_xlfn.XLOOKUP($G983,[1]demo_data!$G$5:$G$2257,[1]demo_data!$I$5:$I$2257)","v":2192}]
[57,"Côte d'Ivoire","CIV","GRANDS PONTS","JACQUEVILLE",15332,"N'DJEM","Faible",1549,0,1549,1,1549,0,1549,1,{"$f":"_xlfn.XLOOKUP($G984,[1]demo_data!$G$5:$G$2257,[1]demo_data!$I$5:$I$2257)","v":6121}]
[58,"Côte d'Ivoire","CIV","GRANDS PONTS","JACQUEVILLE",15332,"NIGUI-ASSOKO","Non endémique",0,0,0,0,0,0,0,0,{"$f":"_xlfn.XLOOKUP($G985,[1]demo_data!$G$5:$G$2257,[1]demo_data!$I$5:$I$2257)","v":1449}]
[59,"Côte d'Ivoire","CIV","GRANDS PONTS","JACQUEVILLE",15332,"NIGUI-SAFF","Non endémique",0,0,0,0,0,0,0,0,{"$f":"_xlfn.XLOOKUP($G986,[1]demo_data!$G$5:$G$2257,[1]demo_data!$I$5:$I$2257)","v":1050}]
[60,"Côte d'Ivoire","CIV","GRANDS PONTS","JACQUEVILLE",15332,"SASSAKO","Faible",939,0,939,1,939,0,939,1,{"$f":"_xlfn.XLOOKUP($G987,[1]demo_data!$G$5:$G$2257,[1]demo_data!$I$5:$I$2257)","v":3708}]
[61,"Côte d'Ivoire","CIV","GRANDS PONTS","JACQUEVILLE",15332,"TIAGBA","Faible",1151,0,1151,1,1151,0,1151,1,{"$f":"_xlfn.XLOOKUP($G988,[1]demo_data!$G$5:$G$2257,[1]demo_data!$I$5:$I$2257)","v":4549}]
[595,"Côte d'Ivoire","CIV","GUEMON","BANGOLO",15355,"CSR BLENIMEOUIN","Forte",11644,26712,38356,1,11644,26712,38356,3,{"$f":"_xlfn.XLOOKUP($G989,[1]demo_data!$G$5:$G$2257,[1]demo_data!$I$5:$I$2257)","v":40603}]
[596,"Côte d'Ivoire","CIV","GUEMON","BANGOLO",15355,"CSR DAH ZAGNA","Forte",3614,8289,11903,1,3614,8289,11903,3,{"$f":"_xlfn.XLOOKUP($G990,[1]demo_data!$G$5:$G$2257,[1]demo_data!$I$5:$I$2257)","v":12599}]
[597,"Côte d'Ivoire","CIV","GUEMON","BANGOLO",15355,"CSR DIAPLEAN","Forte",1931,4428,6359,1,1931,4428,6359,3,{"$f":"_xlfn.XLOOKUP($G991,[1]demo_data!$G$5:$G$2257,[1]demo_data!$I$5:$I$2257)","v":6731}]
[598,"Côte d'Ivoire","CIV","GUEMON","BANGOLO",15355,"CSR GOHOUO ZAGNA","Forte",5352,12277,17629,1,5352,12277,17629,3,{"$f":"_xlfn.XLOOKUP($G992,[1]demo_data!$G$5:$G$2257,[1]demo_data!$I$5:$I$2257)","v":18661}]
[599,"Côte d'Ivoire","CIV","GUEMON","BANGOLO",15355,"CSR GUEHOUO","Forte",2287,5245,7532,1,2287,5245,7532,3,{"$f":"_xlfn.XLOOKUP($G993,[1]demo_data!$G$5:$G$2257,[1]demo_data!$I$5:$I$2257)","v":7973}]
[600,"Côte d'Ivoire","CIV","GUEMON","BANGOLO",15355,"CSR GUEZON TKE","Forte",5546,12722,18268,1,5546,12722,18268,3,{"$f":"_xlfn.XLOOKUP($G994,[1]demo_data!$G$5:$G$2257,[1]demo_data!$I$5:$I$2257)","v":19338}]
[601,"Côte d'Ivoire","CIV","GUEMON","BANGOLO",15355,"CSR KAHEN","Forte",8698,19956,28654,1,8698,19956,28654,3,{"$f":"_xlfn.XLOOKUP($G995,[1]demo_data!$G$5:$G$2257,[1]demo_data!$I$5:$I$2257)","v":30333}]
[602,"Côte d'Ivoire","CIV","GUEMON","BANGOLO",15355,"CSR ZEREGBO","Forte",2802,6429,9231,1,2802,6429,9231,3,{"$f":"_xlfn.XLOOKUP($G996,[1]demo_data!$G$5:$G$2257,[1]demo_data!$I$5:$I$2257)","v":9772}]
[603,"Côte d'Ivoire","CIV","GUEMON","BANGOLO",15355,"CSU BANGOLO-KAHEN ZONF","Forte",999,2293,3292,1,999,2293,3292,3,{"$f":"_xlfn.XLOOKUP($G997,[1]demo_data!$G$5:$G$2257,[1]demo_data!$I$5:$I$2257)","v":3486}]
[604,"Côte d'Ivoire","CIV","GUEMON","BANGOLO",15355,"CSU DIEOUZON","Forte",7905,18135,26040,1,7905,18135,26040,3,{"$f":"_xlfn.XLOOKUP($G998,[1]demo_data!$G$5:$G$2257,[1]demo_data!$I$5:$I$2257)","v":27566}]
[605,"Côte d'Ivoire","CIV","GUEMON","BANGOLO",15355,"CSU GUINGLO TKE","Forte",6989,16032,23021,1,6989,16032,23021,3,{"$f":"_xlfn.XLOOKUP($G999,[1]demo_data!$G$5:$G$2257,[1]demo_data!$I$5:$I$2257)","v":24369}]
[606,"Côte d'Ivoire","CIV","GUEMON","BANGOLO",15355,"CSU ZEO","Forte",4522,10374,14896,1,4522,10374,14896,3,{"$f":"_xlfn.XLOOKUP($G1000,[1]demo_data!$G$5:$G$2257,[1]demo_data!$I$5:$I$2257)","v":15768}]
[607,"Côte d'Ivoire","CIV","GUEMON","BANGOLO",15355,"CSU ZOU","Forte",12204,27997,40201,1,12204,27997,40201,3,{"$f":"_xlfn.XLOOKUP($G1001,[1]demo_data!$G$5:$G$2257,[1]demo_data!$I$5:$I$2257)","v":42557}]
[608,"Côte d'Ivoire","CIV","GUEMON","BANGOLO",15355,"DR BABLY","Forte",3077,7058,10135,1,3077,7058,10135,3,{"$f":"_xlfn.XLOOKUP($G1002,[1]demo_data!$G$5:$G$2257,[1]demo_data!$I$5:$I$2257)","v":10729}]
[609,"Côte d'Ivoire","CIV","GUEMON","BANGOLO",15355,"DR BANGUEHI","Forte",5412,12417,17829,1,5412,12417,17829,3,{"$f":"_xlfn.XLOOKUP($G1003,[1]demo_data!$G$5:$G$2257,[1]demo_data!$I$5:$I$2257)","v":18874}]
[610,"Côte d'Ivoire","CIV","GUEMON","BANGOLO",15355,"DR BEOUE ZIBIAO","Forte",1898,4353,6251,1,1898,4353,6251,3,{"$f":"_xlfn.XLOOKUP($G1004,[1]demo_data!$G$5:$G$2257,[1]demo_data!$I$5:$I$2257)","v":6617}]
[611,"Côte d'Ivoire","CIV","GUEMON","BANGOLO",15355,"DR DIOUROUZON ","Forte",2833,6498,9331,1,2833,6498,9331,3,{"$f":"_xlfn.XLOOKUP($G1005,[1]demo_data!$G$5:$G$2257,[1]demo_data!$I$5:$I$2257)","v":9877}]
[612,"Côte d'Ivoire","CIV","GUEMON","BANGOLO",15355,"DR GLOPLOU","Forte",3174,7282,10456,1,3174,7282,10456,3,{"$f":"_xlfn.XLOOKUP($G1006,[1]demo_data!$G$5:$G$2257,[1]demo_data!$I$5:$I$2257)","v":11068}]
[613,"Côte d'Ivoire","CIV","GUEMON","BANGOLO",15355,"DR GRAND PIN","Forte",1973,4527,6500,1,1973,4527,6500,3,{"$f":"_xlfn.XLOOKUP($G1007,[1]demo_data!$G$5:$G$2257,[1]demo_data!$I$5:$I$2257)","v":6881}]
[614,"Côte d'Ivoire","CIV","GUEMON","BANGOLO",15355,"DR ZIONDROU ZIBO","Forte",2794,6408,9202,1,2794,6408,9202,3,{"$f":"_xlfn.XLOOKUP($G1008,[1]demo_data!$G$5:$G$2257,[1]demo_data!$I$5:$I$2257)","v":9741}]
[615,"Côte d'Ivoire","CIV","GUEMON","BANGOLO",15355,"HG BANGOLO","Forte",10531,24158,34689,1,10531,24158,34689,3,{"$f":"_xlfn.XLOOKUP($G1009,[1]demo_data!$G$5:$G$2257,[1]demo_data!$I$5:$I$2257)","v":36722}]
[627,"Côte d'Ivoire","CIV","GUEMON","DUEKOUE",15357,"CSR BAHE SEBON","Modérée",3289,1509,4798,0,0,0,0,2,{"$f":"_xlfn.XLOOKUP($G1010,[1]demo_data!$G$5:$G$2257,[1]demo_data!$I$5:$I$2257)","v":11469}]
[628,"Côte d'Ivoire","CIV","GUEMON","DUEKOUE",15357,"CSR DIBOBLY","Modérée",6101,2799,8900,0,0,0,0,2,{"$f":"_xlfn.XLOOKUP($G1011,[1]demo_data!$G$5:$G$2257,[1]demo_data!$I$5:$I$2257)","v":21272}]
[629,"Côte d'Ivoire","CIV","GUEMON","DUEKOUE",15357,"CSR DIOUROUZON","Modérée",6025,2764,8789,0,0,0,0,2,{"$f":"_xlfn.XLOOKUP($G1012,[1]demo_data!$G$5:$G$2257,[1]demo_data!$I$5:$I$2257)","v":21008}]
[630,"Côte d'Ivoire","CIV","GUEMON","DUEKOUE",15357,"CSR FENGOLO","Modérée",6516,2990,9506,0,0,0,0,2,{"$f":"_xlfn.XLOOKUP($G1013,[1]demo_data!$G$5:$G$2257,[1]demo_data!$I$5:$I$2257)","v":22722}]
[631,"Côte d'Ivoire","CIV","GUEMON","DUEKOUE",15357,"CSR GLAOU-LOKOSSO","Modérée",4323,1983,6306,0,0,0,0,2,{"$f":"_xlfn.XLOOKUP($G1014,[1]demo_data!$G$5:$G$2257,[1]demo_data!$I$5:$I$2257)","v":15071}]
[632,"Côte d'Ivoire","CIV","GUEMON","DUEKOUE",15357,"CSR GUINGLO ZIA","Modérée",2100,963,3063,0,0,0,0,2,{"$f":"_xlfn.XLOOKUP($G1015,[1]demo_data!$G$5:$G$2257,[1]demo_data!$I$5:$I$2257)","v":7324}]
[633,"Côte d'Ivoire","CIV","GUEMON","DUEKOUE",15357,"CSR KRANZADOUGOU","Modérée",3579,1642,5221,0,0,0,0,2,{"$f":"_xlfn.XLOOKUP($G1016,[1]demo_data!$G$5:$G$2257,[1]demo_data!$I$5:$I$2257)","v":12481}]
[634,"Côte d'Ivoire","CIV","GUEMON","DUEKOUE",15357,"CSR NIDROU","Modérée",5149,2363,7512,0,0,0,0,2,{"$f":"_xlfn.XLOOKUP($G1017,[1]demo_data!$G$5:$G$2257,[1]demo_data!$I$5:$I$2257)","v":17956}]
[635,"Côte d'Ivoire","CIV","GUEMON","DUEKOUE",15357,"CSR OUATTARADOUGOU","Modérée",4708,2161,6869,0,0,0,0,2,{"$f":"_xlfn.XLOOKUP($G1018,[1]demo_data!$G$5:$G$2257,[1]demo_data!$I$5:$I$2257)","v":16418}]
[636,"Côte d'Ivoire","CIV","GUEMON","DUEKOUE",15357,"CSU BAGOHOUO","Modérée",3210,1473,4683,0,0,0,0,2,{"$f":"_xlfn.XLOOKUP($G1019,[1]demo_data!$G$5:$G$2257,[1]demo_data!$I$5:$I$2257)","v":11194}]
[637,"Côte d'Ivoire","CIV","GUEMON","DUEKOUE",15357,"CSU DIAYE BERNARD","Modérée",1898,871,2769,0,0,0,0,2,{"$f":"_xlfn.XLOOKUP($G1020,[1]demo_data!$G$5:$G$2257,[1]demo_data!$I$5:$I$2257)","v":6619}]
[638,"Côte d'Ivoire","CIV","GUEMON","DUEKOUE",15357,"CSU GBAPLEU","Modérée",6881,3157,10038,0,0,0,0,2,{"$f":"_xlfn.XLOOKUP($G1021,[1]demo_data!$G$5:$G$2257,[1]demo_data!$I$5:$I$2257)","v":23995}]
[639,"Côte d'Ivoire","CIV","GUEMON","DUEKOUE",15357,"CSU GUEHIEBLY","Modérée",3406,1563,4969,0,0,0,0,2,{"$f":"_xlfn.XLOOKUP($G1022,[1]demo_data!$G$5:$G$2257,[1]demo_data!$I$5:$I$2257)","v":11878}]
[640,"Côte d'Ivoire","CIV","GUEMON","DUEKOUE",15357,"CSU GUEZON","Modérée",6895,3163,10058,0,0,0,0,2,{"$f":"_xlfn.XLOOKUP($G1023,[1]demo_data!$G$5:$G$2257,[1]demo_data!$I$5:$I$2257)","v":24042}]
[641,"Côte d'Ivoire","CIV","GUEMON","DUEKOUE",15357,"CSU KOKOMAN","Modérée",7397,3394,10791,0,0,0,0,2,{"$f":"_xlfn.XLOOKUP($G1024,[1]demo_data!$G$5:$G$2257,[1]demo_data!$I$5:$I$2257)","v":25796}]
[642,"Côte d'Ivoire","CIV","GUEMON","DUEKOUE",15357,"DIAHOUIN","Modérée",1648,756,2404,0,0,0,0,2,{"$f":"_xlfn.XLOOKUP($G1025,[1]demo_data!$G$5:$G$2257,[1]demo_data!$I$5:$I$2257)","v":5744}]
[643,"Côte d'Ivoire","CIV","GUEMON","DUEKOUE",15357,"DR AMANIMICHELKRO","Modérée",1083,497,1580,0,0,0,0,2,{"$f":"_xlfn.XLOOKUP($G1026,[1]demo_data!$G$5:$G$2257,[1]demo_data!$I$5:$I$2257)","v":3777}]
[644,"Côte d'Ivoire","CIV","GUEMON","DUEKOUE",15357,"DR BAOUBLY","Modérée",1906,875,2781,0,0,0,0,2,{"$f":"_xlfn.XLOOKUP($G1027,[1]demo_data!$G$5:$G$2257,[1]demo_data!$I$5:$I$2257)","v":6648}]
[645,"Côte d'Ivoire","CIV","GUEMON","DUEKOUE",15357,"DR BINAO","Modérée",1648,756,2404,0,0,0,0,2,{"$f":"_xlfn.XLOOKUP($G1028,[1]demo_data!$G$5:$G$2257,[1]demo_data!$I$5:$I$2257)","v":5746}]
[646,"Côte d'Ivoire","CIV","GUEMON","DUEKOUE",15357,"DR BLODY","Modérée",1967,903,2870,0,0,0,0,2,{"$f":"_xlfn.XLOOKUP($G1029,[1]demo_data!$G$5:$G$2257,[1]demo_data!$I$5:$I$2257)","v":6859}]
[647,"Côte d'Ivoire","CIV","GUEMON","DUEKOUE",15357,"DR BOHOUSSOUKRO","Modérée",1263,580,1843,0,0,0,0,2,{"$f":"_xlfn.XLOOKUP($G1030,[1]demo_data!$G$5:$G$2257,[1]demo_data!$I$5:$I$2257)","v":4403}]
[648,"Côte d'Ivoire","CIV","GUEMON","DUEKOUE",15357,"DR DAHOUA","Modérée",3223,1478,4701,0,0,0,0,2,{"$f":"_xlfn.XLOOKUP($G1031,[1]demo_data!$G$5:$G$2257,[1]demo_data!$I$5:$I$2257)","v":11236}]
[649,"Côte d'Ivoire","CIV","GUEMON","DUEKOUE",15357,"DR FOUEDOUGOU","Modérée",3864,1773,5637,0,0,0,0,2,{"$f":"_xlfn.XLOOKUP($G1032,[1]demo_data!$G$5:$G$2257,[1]demo_data!$I$5:$I$2257)","v":13473}]
[650,"Côte d'Ivoire","CIV","GUEMON","DUEKOUE",15357,"DR GOZON","Modérée",2985,1370,4355,0,0,0,0,2,{"$f":"_xlfn.XLOOKUP($G1033,[1]demo_data!$G$5:$G$2257,[1]demo_data!$I$5:$I$2257)","v":10408}]
[651,"Côte d'Ivoire","CIV","GUEMON","DUEKOUE",15357,"DR GREIKRO","Modérée",1866,857,2723,0,0,0,0,2,{"$f":"_xlfn.XLOOKUP($G1034,[1]demo_data!$G$5:$G$2257,[1]demo_data!$I$5:$I$2257)","v":6508}]
[652,"Côte d'Ivoire","CIV","GUEMON","DUEKOUE",15357,"DR LEDJAN V 14","Modérée",2296,1054,3350,0,0,0,0,2,{"$f":"_xlfn.XLOOKUP($G1035,[1]demo_data!$G$5:$G$2257,[1]demo_data!$I$5:$I$2257)","v":8007}]
[653,"Côte d'Ivoire","CIV","GUEMON","DUEKOUE",15357,"DR NIAMBLY","Modérée",4201,1928,6129,0,0,0,0,2,{"$f":"_xlfn.XLOOKUP($G1036,[1]demo_data!$G$5:$G$2257,[1]demo_data!$I$5:$I$2257)","v":14651}]
[654,"Côte d'Ivoire","CIV","GUEMON","DUEKOUE",15357,"DR PAPADOUGOU","Modérée",3189,1463,4652,0,0,0,0,2,{"$f":"_xlfn.XLOOKUP($G1037,[1]demo_data!$G$5:$G$2257,[1]demo_data!$I$5:$I$2257)","v":11118}]
[655,"Côte d'Ivoire","CIV","GUEMON","DUEKOUE",15357,"DR PETIT GUIGLO","Modérée",2179,999,3178,0,0,0,0,2,{"$f":"_xlfn.XLOOKUP($G1038,[1]demo_data!$G$5:$G$2257,[1]demo_data!$I$5:$I$2257)","v":5676}]
[656,"Côte d'Ivoire","CIV","GUEMON","DUEKOUE",15357,"DR PINHOU","Modérée",2814,1292,4106,0,0,0,0,2,{"$f":"_xlfn.XLOOKUP($G1039,[1]demo_data!$G$5:$G$2257,[1]demo_data!$I$5:$I$2257)","v":9815}]
[657,"Côte d'Ivoire","CIV","GUEMON","DUEKOUE",15357,"DR PONAN OUINLO","Modérée",1908,876,2784,0,0,0,0,2,{"$f":"_xlfn.XLOOKUP($G1040,[1]demo_data!$G$5:$G$2257,[1]demo_data!$I$5:$I$2257)","v":6656}]
[658,"Côte d'Ivoire","CIV","GUEMON","DUEKOUE",15357,"DR PONAN VAHI","Modérée",2315,1062,3377,0,0,0,0,2,{"$f":"_xlfn.XLOOKUP($G1041,[1]demo_data!$G$5:$G$2257,[1]demo_data!$I$5:$I$2257)","v":8073}]
[659,"Côte d'Ivoire","CIV","GUEMON","DUEKOUE",15357,"DR TOA ZEO","Modérée",3352,1538,4890,0,0,0,0,2,{"$f":"_xlfn.XLOOKUP($G1042,[1]demo_data!$G$5:$G$2257,[1]demo_data!$I$5:$I$2257)","v":11687}]
[660,"Côte d'Ivoire","CIV","GUEMON","DUEKOUE",15357,"DR YROZON","Modérée",1616,741,2357,0,0,0,0,2,{"$f":"_xlfn.XLOOKUP($G1043,[1]demo_data!$G$5:$G$2257,[1]demo_data!$I$5:$I$2257)","v":5634}]
[661,"Côte d'Ivoire","CIV","GUEMON","DUEKOUE",15357,"PMI DUEKOUE","Modérée",19429,8914,28343,0,0,0,0,2,{"$f":"_xlfn.XLOOKUP($G1044,[1]demo_data!$G$5:$G$2257,[1]demo_data!$I$5:$I$2257)","v":67751}]
[683,"Côte d'Ivoire","CIV","GUEMON","KOUIBLY",15359,"CSR DOUAGUE","Modérée",6279,2881,9160,0,0,0,0,2,{"$f":"_xlfn.XLOOKUP($G1045,[1]demo_data!$G$5:$G$2257,[1]demo_data!$I$5:$I$2257)","v":22280}]
[684,"Côte d'Ivoire","CIV","GUEMON","KOUIBLY",15359,"CSR GBADROU","Modérée",895,410,1305,0,0,0,0,2,{"$f":"_xlfn.XLOOKUP($G1046,[1]demo_data!$G$5:$G$2257,[1]demo_data!$I$5:$I$2257)","v":3174}]
[685,"Côte d'Ivoire","CIV","GUEMON","KOUIBLY",15359,"CSR GUINGLO GUEZON","Modérée",1341,615,1956,0,0,0,0,2,{"$f":"_xlfn.XLOOKUP($G1047,[1]demo_data!$G$5:$G$2257,[1]demo_data!$I$5:$I$2257)","v":4756}]
[686,"Côte d'Ivoire","CIV","GUEMON","KOUIBLY",15359,"CSR KLANGBOLABLY","Modérée",3028,1389,4417,0,0,0,0,2,{"$f":"_xlfn.XLOOKUP($G1048,[1]demo_data!$G$5:$G$2257,[1]demo_data!$I$5:$I$2257)","v":10743}]
[687,"Côte d'Ivoire","CIV","GUEMON","KOUIBLY",15359,"CSR KOUA","Modérée",1417,650,2067,0,0,0,0,2,{"$f":"_xlfn.XLOOKUP($G1049,[1]demo_data!$G$5:$G$2257,[1]demo_data!$I$5:$I$2257)","v":5028}]
[688,"Côte d'Ivoire","CIV","GUEMON","KOUIBLY",15359,"CSR PIANDROU","Modérée",1099,505,1604,0,0,0,0,2,{"$f":"_xlfn.XLOOKUP($G1050,[1]demo_data!$G$5:$G$2257,[1]demo_data!$I$5:$I$2257)","v":3900}]
[689,"Côte d'Ivoire","CIV","GUEMON","KOUIBLY",15359,"CSR POMBLY","Modérée",3986,1828,5814,0,0,0,0,2,{"$f":"_xlfn.XLOOKUP($G1051,[1]demo_data!$G$5:$G$2257,[1]demo_data!$I$5:$I$2257)","v":14142}]
[690,"Côte d'Ivoire","CIV","GUEMON","KOUIBLY",15359,"CSR TROKPADROU","Modérée",1350,620,1970,0,0,0,0,2,{"$f":"_xlfn.XLOOKUP($G1052,[1]demo_data!$G$5:$G$2257,[1]demo_data!$I$5:$I$2257)","v":4790}]
[691,"Côte d'Ivoire","CIV","GUEMON","KOUIBLY",15359,"CSR ZOUATTA 2","Modérée",1453,667,2120,0,0,0,0,2,{"$f":"_xlfn.XLOOKUP($G1053,[1]demo_data!$G$5:$G$2257,[1]demo_data!$I$5:$I$2257)","v":5156}]
[692,"Côte d'Ivoire","CIV","GUEMON","KOUIBLY",15359,"CSU FACOBLY","Modérée",4028,1848,5876,0,0,0,0,2,{"$f":"_xlfn.XLOOKUP($G1054,[1]demo_data!$G$5:$G$2257,[1]demo_data!$I$5:$I$2257)","v":14292}]
[693,"Côte d'Ivoire","CIV","GUEMON","KOUIBLY",15359,"CSU NIDROU","Modérée",1219,559,1778,0,0,0,0,2,{"$f":"_xlfn.XLOOKUP($G1055,[1]demo_data!$G$5:$G$2257,[1]demo_data!$I$5:$I$2257)","v":4325}]
[694,"Côte d'Ivoire","CIV","GUEMON","KOUIBLY",15359,"CSU SEMIEN","Modérée",4728,2169,6897,0,0,0,0,2,{"$f":"_xlfn.XLOOKUP($G1056,[1]demo_data!$G$5:$G$2257,[1]demo_data!$I$5:$I$2257)","v":16774}]
[695,"Côte d'Ivoire","CIV","GUEMON","KOUIBLY",15359,"CSU TIENY SEABLY","Modérée",1468,673,2141,0,0,0,0,2,{"$f":"_xlfn.XLOOKUP($G1057,[1]demo_data!$G$5:$G$2257,[1]demo_data!$I$5:$I$2257)","v":5209}]
[696,"Côte d'Ivoire","CIV","GUEMON","KOUIBLY",15359,"CSU TOTRODROU","Modérée",1481,679,2160,0,0,0,0,2,{"$f":"_xlfn.XLOOKUP($G1058,[1]demo_data!$G$5:$G$2257,[1]demo_data!$I$5:$I$2257)","v":5254}]
[697,"Côte d'Ivoire","CIV","GUEMON","KOUIBLY",15359,"DR BATIEBLY TRODROU","Modérée",603,277,880,0,0,0,0,2,{"$f":"_xlfn.XLOOKUP($G1059,[1]demo_data!$G$5:$G$2257,[1]demo_data!$I$5:$I$2257)","v":2142}]
[698,"Côte d'Ivoire","CIV","GUEMON","KOUIBLY",15359,"DR FLANSOBLY","Modérée",1445,663,2108,0,0,0,0,2,{"$f":"_xlfn.XLOOKUP($G1060,[1]demo_data!$G$5:$G$2257,[1]demo_data!$I$5:$I$2257)","v":5125}]
[699,"Côte d'Ivoire","CIV","GUEMON","KOUIBLY",15359,"DR GUEZON","Modérée",1701,781,2482,0,0,0,0,2,{"$f":"_xlfn.XLOOKUP($G1061,[1]demo_data!$G$5:$G$2257,[1]demo_data!$I$5:$I$2257)","v":6035}]
[700,"Côte d'Ivoire","CIV","GUEMON","KOUIBLY",15359,"DR KANEBLY","Modérée",1801,826,2627,0,0,0,0,2,{"$f":"_xlfn.XLOOKUP($G1062,[1]demo_data!$G$5:$G$2257,[1]demo_data!$I$5:$I$2257)","v":6388}]
[701,"Côte d'Ivoire","CIV","GUEMON","KOUIBLY",15359,"DR KONTROU","Modérée",521,239,760,0,0,0,0,2,{"$f":"_xlfn.XLOOKUP($G1063,[1]demo_data!$G$5:$G$2257,[1]demo_data!$I$5:$I$2257)","v":1850}]
[702,"Côte d'Ivoire","CIV","GUEMON","KOUIBLY",15359,"DR KORDROU","Modérée",1472,675,2147,0,0,0,0,2,{"$f":"_xlfn.XLOOKUP($G1064,[1]demo_data!$G$5:$G$2257,[1]demo_data!$I$5:$I$2257)","v":5223}]
[703,"Côte d'Ivoire","CIV","GUEMON","KOUIBLY",15359,"DR OUYABLY GNONDROU","Modérée",2084,956,3040,0,0,0,0,2,{"$f":"_xlfn.XLOOKUP($G1065,[1]demo_data!$G$5:$G$2257,[1]demo_data!$I$5:$I$2257)","v":7393}]
[704,"Côte d'Ivoire","CIV","GUEMON","KOUIBLY",15359,"DR PIEBLY 1","Modérée",3556,1631,5187,0,0,0,0,2,{"$f":"_xlfn.XLOOKUP($G1066,[1]demo_data!$G$5:$G$2257,[1]demo_data!$I$5:$I$2257)","v":12616}]
[705,"Côte d'Ivoire","CIV","GUEMON","KOUIBLY",15359,"DR SIEBLY","Modérée",1049,481,1530,0,0,0,0,2,{"$f":"_xlfn.XLOOKUP($G1067,[1]demo_data!$G$5:$G$2257,[1]demo_data!$I$5:$I$2257)","v":3721}]
[706,"Côte d'Ivoire","CIV","GUEMON","KOUIBLY",15359,"DR SOAKPE DOUEDY","Modérée",1784,819,2603,0,0,0,0,2,{"$f":"_xlfn.XLOOKUP($G1068,[1]demo_data!$G$5:$G$2257,[1]demo_data!$I$5:$I$2257)","v":6330}]
[707,"Côte d'Ivoire","CIV","GUEMON","KOUIBLY",15359,"DR SOUEBLY MAYEBLY","Modérée",1803,827,2630,0,0,0,0,2,{"$f":"_xlfn.XLOOKUP($G1069,[1]demo_data!$G$5:$G$2257,[1]demo_data!$I$5:$I$2257)","v":6396}]
[708,"Côte d'Ivoire","CIV","GUEMON","KOUIBLY",15359,"DR TACOURABLY","Modérée",2333,1070,3403,0,0,0,0,2,{"$f":"_xlfn.XLOOKUP($G1070,[1]demo_data!$G$5:$G$2257,[1]demo_data!$I$5:$I$2257)","v":8276}]
[709,"Côte d'Ivoire","CIV","GUEMON","KOUIBLY",15359,"DR TOUANDROU BEOUE 2","Modérée",1619,743,2362,0,0,0,0,2,{"$f":"_xlfn.XLOOKUP($G1071,[1]demo_data!$G$5:$G$2257,[1]demo_data!$I$5:$I$2257)","v":5743}]
[710,"Côte d'Ivoire","CIV","GUEMON","KOUIBLY",15359,"DR TOUANDROU GBEAN","Modérée",774,355,1129,0,0,0,0,2,{"$f":"_xlfn.XLOOKUP($G1072,[1]demo_data!$G$5:$G$2257,[1]demo_data!$I$5:$I$2257)","v":2745}]
[711,"Côte d'Ivoire","CIV","GUEMON","KOUIBLY",15359,"HG KOUIBLY","Modérée",8144,3737,11881,0,0,0,0,2,{"$f":"_xlfn.XLOOKUP($G1073,[1]demo_data!$G$5:$G$2257,[1]demo_data!$I$5:$I$2257)","v":28895}]
[1132,"Côte d'Ivoire","CIV","HAMBOL","DABAKALA",15373,"CSR BOKALA","Non endémique",0,0,0,0,0,0,0,0,{"$f":"_xlfn.XLOOKUP($G1074,[1]demo_data!$G$5:$G$2257,[1]demo_data!$I$5:$I$2257)","v":8571}]
[1133,"Côte d'Ivoire","CIV","HAMBOL","DABAKALA",15373,"CSR FENESSIGUEDOUGOU","Faible",1799,0,1799,0,0,0,0,1,{"$f":"_xlfn.XLOOKUP($G1075,[1]demo_data!$G$5:$G$2257,[1]demo_data!$I$5:$I$2257)","v":6313}]
[1134,"Côte d'Ivoire","CIV","HAMBOL","DABAKALA",15373,"CSR KAFOUDOUGOU","Non endémique",0,0,0,0,0,0,0,0,{"$f":"_xlfn.XLOOKUP($G1076,[1]demo_data!$G$5:$G$2257,[1]demo_data!$I$5:$I$2257)","v":10996}]
[1135,"Côte d'Ivoire","CIV","HAMBOL","DABAKALA",15373,"CSR KAWOLO SOBARA","Non endémique",0,0,0,0,0,0,0,0,{"$f":"_xlfn.XLOOKUP($G1077,[1]demo_data!$G$5:$G$2257,[1]demo_data!$I$5:$I$2257)","v":5797}]
[1136,"Côte d'Ivoire","CIV","HAMBOL","DABAKALA",15373,"CSR M'BORLA DIOULASSO","Faible",2657,0,2657,0,0,0,0,1,{"$f":"_xlfn.XLOOKUP($G1078,[1]demo_data!$G$5:$G$2257,[1]demo_data!$I$5:$I$2257)","v":9325}]
[1137,"Côte d'Ivoire","CIV","HAMBOL","DABAKALA",15373,"CSR TENDENE","Non endémique",0,0,0,0,0,0,0,0,{"$f":"_xlfn.XLOOKUP($G1079,[1]demo_data!$G$5:$G$2257,[1]demo_data!$I$5:$I$2257)","v":5398}]
[1138,"Côte d'Ivoire","CIV","HAMBOL","DABAKALA",15373,"CSU BASSAWA","Non endémique",0,0,0,0,0,0,0,0,{"$f":"_xlfn.XLOOKUP($G1080,[1]demo_data!$G$5:$G$2257,[1]demo_data!$I$5:$I$2257)","v":17902}]
[1139,"Côte d'Ivoire","CIV","HAMBOL","DABAKALA",15373,"CSU BONIEREDOUGOU","Non endémique",0,0,0,0,0,0,0,0,{"$f":"_xlfn.XLOOKUP($G1081,[1]demo_data!$G$5:$G$2257,[1]demo_data!$I$5:$I$2257)","v":19639}]
[1140,"Côte d'Ivoire","CIV","HAMBOL","DABAKALA",15373,"CSU FOUMBOLO","Faible",6433,0,6433,0,0,0,0,1,{"$f":"_xlfn.XLOOKUP($G1082,[1]demo_data!$G$5:$G$2257,[1]demo_data!$I$5:$I$2257)","v":22581}]
[1141,"Côte d'Ivoire","CIV","HAMBOL","DABAKALA",15373,"CSU NIEMENE","Non endémique",0,0,0,0,0,0,0,0,{"$f":"_xlfn.XLOOKUP($G1083,[1]demo_data!$G$5:$G$2257,[1]demo_data!$I$5:$I$2257)","v":8744}]
[1142,"Côte d'Ivoire","CIV","HAMBOL","DABAKALA",15373,"CSU SATAMA SOKORO","Faible",3744,0,3744,0,0,0,0,1,{"$f":"_xlfn.XLOOKUP($G1084,[1]demo_data!$G$5:$G$2257,[1]demo_data!$I$5:$I$2257)","v":13141}]
[1143,"Côte d'Ivoire","CIV","HAMBOL","DABAKALA",15373,"CSU SATAMA SOKOURA","Faible",4821,0,4821,0,0,0,0,1,{"$f":"_xlfn.XLOOKUP($G1085,[1]demo_data!$G$5:$G$2257,[1]demo_data!$I$5:$I$2257)","v":16920}]
[1144,"Côte d'Ivoire","CIV","HAMBOL","DABAKALA",15373,"CSU SOKALA SOBARA","Non endémique",0,0,0,0,0,0,0,0,{"$f":"_xlfn.XLOOKUP($G1086,[1]demo_data!$G$5:$G$2257,[1]demo_data!$I$5:$I$2257)","v":5594}]
[1145,"Côte d'Ivoire","CIV","HAMBOL","DABAKALA",15373,"DR KAFINE","Faible",1189,0,1189,0,0,0,0,1,{"$f":"_xlfn.XLOOKUP($G1087,[1]demo_data!$G$5:$G$2257,[1]demo_data!$I$5:$I$2257)","v":4175}]
[1146,"Côte d'Ivoire","CIV","HAMBOL","DABAKALA",15373,"DR KOGBERA","Faible",2215,0,2215,0,0,0,0,1,{"$f":"_xlfn.XLOOKUP($G1088,[1]demo_data!$G$5:$G$2257,[1]demo_data!$I$5:$I$2257)","v":7775}]
[1147,"Côte d'Ivoire","CIV","HAMBOL","DABAKALA",15373,"DR KPANA KALO","Faible",1864,0,1864,0,0,0,0,1,{"$f":"_xlfn.XLOOKUP($G1089,[1]demo_data!$G$5:$G$2257,[1]demo_data!$I$5:$I$2257)","v":6544}]
[1148,"Côte d'Ivoire","CIV","HAMBOL","DABAKALA",15373,"DR LISSOLO SOBARA","Faible",1280,0,1280,0,0,0,0,1,{"$f":"_xlfn.XLOOKUP($G1090,[1]demo_data!$G$5:$G$2257,[1]demo_data!$I$5:$I$2257)","v":4494}]
[1149,"Côte d'Ivoire","CIV","HAMBOL","DABAKALA",15373,"DR SITIOLO","Faible",1223,0,1223,0,0,0,0,1,{"$f":"_xlfn.XLOOKUP($G1091,[1]demo_data!$G$5:$G$2257,[1]demo_data!$I$5:$I$2257)","v":4291}]
[1150,"Côte d'Ivoire","CIV","HAMBOL","DABAKALA",15373,"DR WENDENE","Faible",786,0,786,0,0,0,0,1,{"$f":"_xlfn.XLOOKUP($G1092,[1]demo_data!$G$5:$G$2257,[1]demo_data!$I$5:$I$2257)","v":2758}]
[1151,"Côte d'Ivoire","CIV","HAMBOL","DABAKALA",15373,"DR YAOSSEDOUGOU","Non endémique",0,0,0,0,0,0,0,0,{"$f":"_xlfn.XLOOKUP($G1093,[1]demo_data!$G$5:$G$2257,[1]demo_data!$I$5:$I$2257)","v":6698}]
[1152,"Côte d'Ivoire","CIV","HAMBOL","DABAKALA",15373,"HG DABAKALA","Faible",9294,0,9294,0,0,0,0,1,{"$f":"_xlfn.XLOOKUP($G1094,[1]demo_data!$G$5:$G$2257,[1]demo_data!$I$5:$I$2257)","v":32618}]
[1153,"Côte d'Ivoire","CIV","HAMBOL","KATIOLA",15374,"CHR","Modérée",8742,4011,12753,1,8742,4011,12753,2,{"$f":"_xlfn.XLOOKUP($G1095,[1]demo_data!$G$5:$G$2257,[1]demo_data!$I$5:$I$2257)","v":30680}]
[1154,"Côte d'Ivoire","CIV","HAMBOL","KATIOLA",15374,"CSR DARAKOKAHA","Modérée",1580,725,2305,1,1580,725,2305,2,{"$f":"_xlfn.XLOOKUP($G1096,[1]demo_data!$G$5:$G$2257,[1]demo_data!$I$5:$I$2257)","v":5546}]
[1155,"Côte d'Ivoire","CIV","HAMBOL","KATIOLA",15374,"CSR KOFFISSIOKAHA","Faible",1444,0,1444,1,1444,0,1444,1,{"$f":"_xlfn.XLOOKUP($G1097,[1]demo_data!$G$5:$G$2257,[1]demo_data!$I$5:$I$2257)","v":5067}]
[1156,"Côte d'Ivoire","CIV","HAMBOL","KATIOLA",15374,"CSR LOUBGONOU","Faible",2604,0,2604,1,2604,0,2604,1,{"$f":"_xlfn.XLOOKUP($G1098,[1]demo_data!$G$5:$G$2257,[1]demo_data!$I$5:$I$2257)","v":9139}]
[1157,"Côte d'Ivoire","CIV","HAMBOL","KATIOLA",15374,"CSR NIKOLO","Modérée",709,325,1034,1,709,325,1034,2,{"$f":"_xlfn.XLOOKUP($G1099,[1]demo_data!$G$5:$G$2257,[1]demo_data!$I$5:$I$2257)","v":2488}]
[1158,"Côte d'Ivoire","CIV","HAMBOL","KATIOLA",15374,"CSU FRONAN","Forte",6085,13959,20044,1,6085,13959,20044,3,{"$f":"_xlfn.XLOOKUP($G1100,[1]demo_data!$G$5:$G$2257,[1]demo_data!$I$5:$I$2257)","v":21357}]
[1159,"Côte d'Ivoire","CIV","HAMBOL","KATIOLA",15374,"CSU TIMBE","Modérée",2119,972,3091,1,2119,972,3091,2,{"$f":"_xlfn.XLOOKUP($G1101,[1]demo_data!$G$5:$G$2257,[1]demo_data!$I$5:$I$2257)","v":7435}]
[1160,"Côte d'Ivoire","CIV","HAMBOL","KATIOLA",15374,"DR KANAGONON","Faible",2373,0,2373,1,2373,0,2373,1,{"$f":"_xlfn.XLOOKUP($G1102,[1]demo_data!$G$5:$G$2257,[1]demo_data!$I$5:$I$2257)","v":8330}]
[1161,"Côte d'Ivoire","CIV","HAMBOL","KATIOLA",15374,"DR KPEFELE","Faible",921,0,921,1,921,0,921,1,{"$f":"_xlfn.XLOOKUP($G1103,[1]demo_data!$G$5:$G$2257,[1]demo_data!$I$5:$I$2257)","v":3233}]
[1162,"Côte d'Ivoire","CIV","HAMBOL","KATIOLA",15374,"DR TOURO","Modérée",950,436,1386,1,950,436,1386,2,{"$f":"_xlfn.XLOOKUP($G1104,[1]demo_data!$G$5:$G$2257,[1]demo_data!$I$5:$I$2257)","v":3335}]
[1163,"Côte d'Ivoire","CIV","HAMBOL","KATIOLA",15374,"PMI","Non endémique",0,0,0,0,0,0,0,0,{"$f":"_xlfn.XLOOKUP($G1105,[1]demo_data!$G$5:$G$2257,[1]demo_data!$I$5:$I$2257)","v":34689}]
[1164,"Côte d'Ivoire","CIV","HAMBOL","NIAKARAMADOUGOU",15375,"CMS SUCAF CI 2","Faible",4833,0,4833,0,0,0,0,1,{"$f":"_xlfn.XLOOKUP($G1106,[1]demo_data!$G$5:$G$2257,[1]demo_data!$I$5:$I$2257)","v":16571}]
[1165,"Côte d'Ivoire","CIV","HAMBOL","NIAKARAMADOUGOU",15375,"CSR KANAWOLO","Faible",2392,0,2392,0,0,0,0,1,{"$f":"_xlfn.XLOOKUP($G1107,[1]demo_data!$G$5:$G$2257,[1]demo_data!$I$5:$I$2257)","v":8197}]
[1166,"Côte d'Ivoire","CIV","HAMBOL","NIAKARAMADOUGOU",15375,"CSR N'GOLODOUGOU","Faible",833,0,833,0,0,0,0,1,{"$f":"_xlfn.XLOOKUP($G1108,[1]demo_data!$G$5:$G$2257,[1]demo_data!$I$5:$I$2257)","v":2857}]
[1167,"Côte d'Ivoire","CIV","HAMBOL","NIAKARAMADOUGOU",15375,"CSR NIEDIEKAHA","Non endémique",0,0,0,0,0,0,0,0,{"$f":"_xlfn.XLOOKUP($G1109,[1]demo_data!$G$5:$G$2257,[1]demo_data!$I$5:$I$2257)","v":5404}]
[1168,"Côte d'Ivoire","CIV","HAMBOL","NIAKARAMADOUGOU",15375,"CSU BADIKAHA","Faible",1840,0,1840,0,0,0,0,1,{"$f":"_xlfn.XLOOKUP($G1110,[1]demo_data!$G$5:$G$2257,[1]demo_data!$I$5:$I$2257)","v":6306}]
[1169,"Côte d'Ivoire","CIV","HAMBOL","NIAKARAMADOUGOU",15375,"CSU TAFIRE","Faible",7630,0,7630,0,0,0,0,1,{"$f":"_xlfn.XLOOKUP($G1111,[1]demo_data!$G$5:$G$2257,[1]demo_data!$I$5:$I$2257)","v":26156}]
[1170,"Côte d'Ivoire","CIV","HAMBOL","NIAKARAMADOUGOU",15375,"CSU TORTIYA","Faible",9194,0,9194,0,0,0,0,1,{"$f":"_xlfn.XLOOKUP($G1112,[1]demo_data!$G$5:$G$2257,[1]demo_data!$I$5:$I$2257)","v":31520}]
[1171,"Côte d'Ivoire","CIV","HAMBOL","NIAKARAMADOUGOU",15375,"DR ARIKOKAHA","Faible",2422,0,2422,0,0,0,0,1,{"$f":"_xlfn.XLOOKUP($G1113,[1]demo_data!$G$5:$G$2257,[1]demo_data!$I$5:$I$2257)","v":8305}]
[1172,"Côte d'Ivoire","CIV","HAMBOL","NIAKARAMADOUGOU",15375,"DR OUEREGUEKAHA","Faible",980,0,980,0,0,0,0,1,{"$f":"_xlfn.XLOOKUP($G1114,[1]demo_data!$G$5:$G$2257,[1]demo_data!$I$5:$I$2257)","v":3358}]
[1173,"Côte d'Ivoire","CIV","HAMBOL","NIAKARAMADOUGOU",15375,"DR PETIONARA","Non endémique",0,0,0,0,0,0,0,0,{"$f":"_xlfn.XLOOKUP($G1115,[1]demo_data!$G$5:$G$2257,[1]demo_data!$I$5:$I$2257)","v":3937}]
[1174,"Côte d'Ivoire","CIV","HAMBOL","NIAKARAMADOUGOU",15375,"DR SEPIKAHA","Faible",1603,0,1603,0,0,0,0,1,{"$f":"_xlfn.XLOOKUP($G1116,[1]demo_data!$G$5:$G$2257,[1]demo_data!$I$5:$I$2257)","v":5494}]
[1175,"Côte d'Ivoire","CIV","HAMBOL","NIAKARAMADOUGOU",15375,"HG NIAKARA","Faible",9924,0,9924,0,0,0,0,1,{"$f":"_xlfn.XLOOKUP($G1117,[1]demo_data!$G$5:$G$2257,[1]demo_data!$I$5:$I$2257)","v":34021}]
[1176,"Côte d'Ivoire","CIV","HAUT SASSANDRA","DALOA",15435,"BANDIAHI","Faible",4802,0,4802,1,4802,0,4802,1,{"$f":"_xlfn.XLOOKUP($G1118,[1]demo_data!$G$5:$G$2257,[1]demo_data!$I$5:$I$2257)","v":18327}]
[1177,"Côte d'Ivoire","CIV","HAUT SASSANDRA","DALOA",15435,"BEDIALA","Faible",6365,0,6365,1,6365,0,6365,1,{"$f":"_xlfn.XLOOKUP($G1119,[1]demo_data!$G$5:$G$2257,[1]demo_data!$I$5:$I$2257)","v":24294}]
[1181,"Côte d'Ivoire","CIV","HAUT SASSANDRA","DALOA",15435,"BIDIAHOUAN","Faible",1778,0,1778,1,1778,0,1778,1,{"$f":"_xlfn.XLOOKUP($G1120,[1]demo_data!$G$5:$G$2257,[1]demo_data!$I$5:$I$2257)","v":6785}]
[1182,"Côte d'Ivoire","CIV","HAUT SASSANDRA","DALOA",15435,"BOBOUA BAHOUAN","Faible",5708,0,5708,1,5708,0,5708,1,{"$f":"_xlfn.XLOOKUP($G1121,[1]demo_data!$G$5:$G$2257,[1]demo_data!$I$5:$I$2257)","v":21783}]
[1183,"Côte d'Ivoire","CIV","HAUT SASSANDRA","DALOA",15435,"BRIBOUO","Faible",1129,0,1129,1,1129,0,1129,1,{"$f":"_xlfn.XLOOKUP($G1122,[1]demo_data!$G$5:$G$2257,[1]demo_data!$I$5:$I$2257)","v":4308}]
[1184,"Côte d'Ivoire","CIV","HAUT SASSANDRA","DALOA",15435,"CHR ONG SAPHARM","Faible",6771,0,6771,1,6771,0,6771,1,{"$f":"_xlfn.XLOOKUP($G1123,[1]demo_data!$G$5:$G$2257,[1]demo_data!$I$5:$I$2257)","v":25839}]
[1185,"Côte d'Ivoire","CIV","HAUT SASSANDRA","DALOA",15435,"DDS","Faible",9967,0,9967,1,9967,0,9967,1,{"$f":"_xlfn.XLOOKUP($G1124,[1]demo_data!$G$5:$G$2257,[1]demo_data!$I$5:$I$2257)","v":38035}]
[1188,"Côte d'Ivoire","CIV","HAUT SASSANDRA","DALOA",15435,"DERAHOUAN","Faible",2220,0,2220,1,2220,0,2220,1,{"$f":"_xlfn.XLOOKUP($G1125,[1]demo_data!$G$5:$G$2257,[1]demo_data!$I$5:$I$2257)","v":8473}]
[1190,"Côte d'Ivoire","CIV","HAUT SASSANDRA","DALOA",15435,"DIGBA","Faible",1223,0,1223,1,1223,0,1223,1,{"$f":"_xlfn.XLOOKUP($G1126,[1]demo_data!$G$5:$G$2257,[1]demo_data!$I$5:$I$2257)","v":4666}]
[1191,"Côte d'Ivoire","CIV","HAUT SASSANDRA","DALOA",15435,"DIGBAPIA","Faible",3132,0,3132,1,3132,0,3132,1,{"$f":"_xlfn.XLOOKUP($G1127,[1]demo_data!$G$5:$G$2257,[1]demo_data!$I$5:$I$2257)","v":11953}]
[1192,"Côte d'Ivoire","CIV","HAUT SASSANDRA","DALOA",15435,"DISPENSAIRE CATHOLIQUE","Faible",3792,0,3792,1,3792,0,3792,1,{"$f":"_xlfn.XLOOKUP($G1128,[1]demo_data!$G$5:$G$2257,[1]demo_data!$I$5:$I$2257)","v":14473}]
[1193,"Côte d'Ivoire","CIV","HAUT SASSANDRA","DALOA",15435,"DISPENSAIRE URBAIN","Faible",9004,0,9004,1,9004,0,9004,1,{"$f":"_xlfn.XLOOKUP($G1129,[1]demo_data!$G$5:$G$2257,[1]demo_data!$I$5:$I$2257)","v":34363}]
[1195,"Côte d'Ivoire","CIV","HAUT SASSANDRA","DALOA",15435,"DON TONINO","Faible",4948,0,4948,1,4948,0,4948,1,{"$f":"_xlfn.XLOOKUP($G1130,[1]demo_data!$G$5:$G$2257,[1]demo_data!$I$5:$I$2257)","v":18886}]
[1196,"Côte d'Ivoire","CIV","HAUT SASSANDRA","DALOA",15435,"GADOUAN 1","Faible",8754,0,8754,1,8754,0,8754,1,{"$f":"_xlfn.XLOOKUP($G1131,[1]demo_data!$G$5:$G$2257,[1]demo_data!$I$5:$I$2257)","v":33409}]
[1197,"Côte d'Ivoire","CIV","HAUT SASSANDRA","DALOA",15435,"GADOUAN 2","Faible",2575,0,2575,1,2575,0,2575,1,{"$f":"_xlfn.XLOOKUP($G1132,[1]demo_data!$G$5:$G$2257,[1]demo_data!$I$5:$I$2257)","v":9830}]
[1198,"Côte d'Ivoire","CIV","HAUT SASSANDRA","DALOA",15435,"GAMINA","Faible",8984,0,8984,1,8984,0,8984,1,{"$f":"_xlfn.XLOOKUP($G1133,[1]demo_data!$G$5:$G$2257,[1]demo_data!$I$5:$I$2257)","v":34287}]
[1199,"Côte d'Ivoire","CIV","HAUT SASSANDRA","DALOA",15435,"GARAGE","Faible",10469,0,10469,1,10469,0,10469,1,{"$f":"_xlfn.XLOOKUP($G1134,[1]demo_data!$G$5:$G$2257,[1]demo_data!$I$5:$I$2257)","v":39957}]
[1200,"Côte d'Ivoire","CIV","HAUT SASSANDRA","DALOA",15435,"GBOGUHE","Faible",3373,0,3373,1,3373,0,3373,1,{"$f":"_xlfn.XLOOKUP($G1135,[1]demo_data!$G$5:$G$2257,[1]demo_data!$I$5:$I$2257)","v":12876}]
[1201,"Côte d'Ivoire","CIV","HAUT SASSANDRA","DALOA",15435,"GNAMANOU","Faible",4802,0,4802,1,4802,0,4802,1,{"$f":"_xlfn.XLOOKUP($G1136,[1]demo_data!$G$5:$G$2257,[1]demo_data!$I$5:$I$2257)","v":18327}]
[1202,"Côte d'Ivoire","CIV","HAUT SASSANDRA","DALOA",15435,"GOKRA","Faible",1448,0,1448,1,1448,0,1448,1,{"$f":"_xlfn.XLOOKUP($G1137,[1]demo_data!$G$5:$G$2257,[1]demo_data!$I$5:$I$2257)","v":5524}]
[1203,"Côte d'Ivoire","CIV","HAUT SASSANDRA","DALOA",15435,"GONATE 1","Faible",7545,0,7545,1,7545,0,7545,1,{"$f":"_xlfn.XLOOKUP($G1138,[1]demo_data!$G$5:$G$2257,[1]demo_data!$I$5:$I$2257)","v":28796}]
[1204,"Côte d'Ivoire","CIV","HAUT SASSANDRA","DALOA",15435,"GONATE 2","Faible",334,0,334,1,334,0,334,1,{"$f":"_xlfn.XLOOKUP($G1139,[1]demo_data!$G$5:$G$2257,[1]demo_data!$I$5:$I$2257)","v":1278}]
[1207,"Côte d'Ivoire","CIV","HAUT SASSANDRA","DALOA",15435,"KEIBLA","Faible",3044,0,3044,1,3044,0,3044,1,{"$f":"_xlfn.XLOOKUP($G1140,[1]demo_data!$G$5:$G$2257,[1]demo_data!$I$5:$I$2257)","v":11617}]
[1208,"Côte d'Ivoire","CIV","HAUT SASSANDRA","DALOA",15435,"KIBOUO","Faible",2057,0,2057,1,2057,0,2057,1,{"$f":"_xlfn.XLOOKUP($G1141,[1]demo_data!$G$5:$G$2257,[1]demo_data!$I$5:$I$2257)","v":7852}]
[1209,"Côte d'Ivoire","CIV","HAUT SASSANDRA","DALOA",15435,"LAGOGUHE","Faible",1079,0,1079,1,1079,0,1079,1,{"$f":"_xlfn.XLOOKUP($G1142,[1]demo_data!$G$5:$G$2257,[1]demo_data!$I$5:$I$2257)","v":4120}]
[1210,"Côte d'Ivoire","CIV","HAUT SASSANDRA","DALOA",15435,"LUENOUFLA 1","Faible",6828,0,6828,1,6828,0,6828,1,{"$f":"_xlfn.XLOOKUP($G1143,[1]demo_data!$G$5:$G$2257,[1]demo_data!$I$5:$I$2257)","v":26059}]
[1211,"Côte d'Ivoire","CIV","HAUT SASSANDRA","DALOA",15435,"LUENOUFLA 2","Faible",194,0,194,1,194,0,194,1,{"$f":"_xlfn.XLOOKUP($G1144,[1]demo_data!$G$5:$G$2257,[1]demo_data!$I$5:$I$2257)","v":741}]
[1212,"Côte d'Ivoire","CIV","HAUT SASSANDRA","DALOA",15435,"MATERNITE MUNICIPALE","Faible",10376,0,10376,1,10376,0,10376,1,{"$f":"_xlfn.XLOOKUP($G1145,[1]demo_data!$G$5:$G$2257,[1]demo_data!$I$5:$I$2257)","v":39598}]
[1213,"Côte d'Ivoire","CIV","HAUT SASSANDRA","DALOA",15435,"NIOUBOUA","Faible",2511,0,2511,1,2511,0,2511,1,{"$f":"_xlfn.XLOOKUP($G1146,[1]demo_data!$G$5:$G$2257,[1]demo_data!$I$5:$I$2257)","v":9580}]
[1214,"Côte d'Ivoire","CIV","HAUT SASSANDRA","DALOA",15435,"PMI","Faible",10232,0,10232,1,10232,0,10232,1,{"$f":"_xlfn.XLOOKUP($G1147,[1]demo_data!$G$5:$G$2257,[1]demo_data!$I$5:$I$2257)","v":34689}]
[1215,"Côte d'Ivoire","CIV","HAUT SASSANDRA","DALOA",15435,"SERIA","Faible",1807,0,1807,1,1807,0,1807,1,{"$f":"_xlfn.XLOOKUP($G1148,[1]demo_data!$G$5:$G$2257,[1]demo_data!$I$5:$I$2257)","v":6898}]
[1216,"Côte d'Ivoire","CIV","HAUT SASSANDRA","DALOA",15435,"TAGOURA","Faible",817,0,817,1,817,0,817,1,{"$f":"_xlfn.XLOOKUP($G1149,[1]demo_data!$G$5:$G$2257,[1]demo_data!$I$5:$I$2257)","v":3115}]
[1217,"Côte d'Ivoire","CIV","HAUT SASSANDRA","DALOA",15435,"TAHIRAGUHE","Faible",1138,0,1138,1,1138,0,1138,1,{"$f":"_xlfn.XLOOKUP($G1150,[1]demo_data!$G$5:$G$2257,[1]demo_data!$I$5:$I$2257)","v":4341}]
[1218,"Côte d'Ivoire","CIV","HAUT SASSANDRA","DALOA",15435,"TAPEGUHE","Faible",1360,0,1360,1,1360,0,1360,1,{"$f":"_xlfn.XLOOKUP($G1151,[1]demo_data!$G$5:$G$2257,[1]demo_data!$I$5:$I$2257)","v":5191}]
[1219,"Côte d'Ivoire","CIV","HAUT SASSANDRA","DALOA",15435,"TCHEBLOGUHE","Faible",2086,0,2086,1,2086,0,2086,1,{"$f":"_xlfn.XLOOKUP($G1152,[1]demo_data!$G$5:$G$2257,[1]demo_data!$I$5:$I$2257)","v":7962}]
[1220,"Côte d'Ivoire","CIV","HAUT SASSANDRA","DALOA",15435,"YOKOREA","Faible",4659,0,4659,1,4659,0,4659,1,{"$f":"_xlfn.XLOOKUP($G1153,[1]demo_data!$G$5:$G$2257,[1]demo_data!$I$5:$I$2257)","v":17779}]
[1221,"Côte d'Ivoire","CIV","HAUT SASSANDRA","DALOA",15435,"ZAHIA","Faible",4275,0,4275,1,4275,0,4275,1,{"$f":"_xlfn.XLOOKUP($G1154,[1]demo_data!$G$5:$G$2257,[1]demo_data!$I$5:$I$2257)","v":16315}]
[1222,"Côte d'Ivoire","CIV","HAUT SASSANDRA","DALOA",15435,"ZALIOHOUAN","Faible",7413,0,7413,1,7413,0,7413,1,{"$f":"_xlfn.XLOOKUP($G1155,[1]demo_data!$G$5:$G$2257,[1]demo_data!$I$5:$I$2257)","v":28292}]
[1223,"Côte d'Ivoire","CIV","HAUT SASSANDRA","DALOA",15435,"ZEPREGUHE","Faible",2441,0,2441,1,2441,0,2441,1,{"$f":"_xlfn.XLOOKUP($G1156,[1]demo_data!$G$5:$G$2257,[1]demo_data!$I$5:$I$2257)","v":9314}]
[1224,"Côte d'Ivoire","CIV","HAUT SASSANDRA","DALOA",15435,"ZOBOUA","Faible",1402,0,1402,1,1402,0,1402,1,{"$f":"_xlfn.XLOOKUP($G1157,[1]demo_data!$G$5:$G$2257,[1]demo_data!$I$5:$I$2257)","v":5350}]
[1225,"Côte d'Ivoire","CIV","HAUT SASSANDRA","DALOA",15435,"ZOKOGUHE","Faible",2302,0,2302,1,2302,0,2302,1,{"$f":"_xlfn.XLOOKUP($G1158,[1]demo_data!$G$5:$G$2257,[1]demo_data!$I$5:$I$2257)","v":8788}]
[1228,"Côte d'Ivoire","CIV","HAUT SASSANDRA","ISSIA",15377,"CDT","Faible",3971,0,3971,1,3971,0,3971,1,{"$f":"_xlfn.XLOOKUP($G1159,[1]demo_data!$G$5:$G$2257,[1]demo_data!$I$5:$I$2257)","v":15611}]
[1229,"Côte d'Ivoire","CIV","HAUT SASSANDRA","ISSIA",15377,"CSR BEKORA","Faible",724,0,724,1,724,0,724,1,{"$f":"_xlfn.XLOOKUP($G1160,[1]demo_data!$G$5:$G$2257,[1]demo_data!$I$5:$I$2257)","v":2850}]
[1230,"Côte d'Ivoire","CIV","HAUT SASSANDRA","ISSIA",15377,"CSR BEMADI","Faible",2767,0,2767,1,2767,0,2767,1,{"$f":"_xlfn.XLOOKUP($G1161,[1]demo_data!$G$5:$G$2257,[1]demo_data!$I$5:$I$2257)","v":10881}]
[1231,"Côte d'Ivoire","CIV","HAUT SASSANDRA","ISSIA",15377,"CSR BOBREGUHE","Faible",1786,0,1786,1,1786,0,1786,1,{"$f":"_xlfn.XLOOKUP($G1162,[1]demo_data!$G$5:$G$2257,[1]demo_data!$I$5:$I$2257)","v":7024}]
[1232,"Côte d'Ivoire","CIV","HAUT SASSANDRA","ISSIA",15377,"CSR BROMA","Faible",2809,0,2809,1,2809,0,2809,1,{"$f":"_xlfn.XLOOKUP($G1163,[1]demo_data!$G$5:$G$2257,[1]demo_data!$I$5:$I$2257)","v":11046}]
[1233,"Côte d'Ivoire","CIV","HAUT SASSANDRA","ISSIA",15377,"CSR DADEGUHE","Faible",3446,0,3446,1,3446,0,3446,1,{"$f":"_xlfn.XLOOKUP($G1164,[1]demo_data!$G$5:$G$2257,[1]demo_data!$I$5:$I$2257)","v":13550}]
[1234,"Côte d'Ivoire","CIV","HAUT SASSANDRA","ISSIA",15377,"CSR GABIA","Faible",1207,0,1207,1,1207,0,1207,1,{"$f":"_xlfn.XLOOKUP($G1165,[1]demo_data!$G$5:$G$2257,[1]demo_data!$I$5:$I$2257)","v":12201}]
[1235,"Côte d'Ivoire","CIV","HAUT SASSANDRA","ISSIA",15377,"CSR GAZIBOUO","Modérée",2334,1071,3405,1,2334,1071,3405,2,{"$f":"_xlfn.XLOOKUP($G1166,[1]demo_data!$G$5:$G$2257,[1]demo_data!$I$5:$I$2257)","v":9177}]
[1236,"Côte d'Ivoire","CIV","HAUT SASSANDRA","ISSIA",15377,"CSR GOGOGUHE","Faible",1451,0,1451,1,1451,0,1451,1,{"$f":"_xlfn.XLOOKUP($G1167,[1]demo_data!$G$5:$G$2257,[1]demo_data!$I$5:$I$2257)","v":5705}]
[1237,"Côte d'Ivoire","CIV","HAUT SASSANDRA","ISSIA",15377,"CSR GOLIHOA","Modérée",2016,925,2941,1,2016,925,2941,2,{"$f":"_xlfn.XLOOKUP($G1168,[1]demo_data!$G$5:$G$2257,[1]demo_data!$I$5:$I$2257)","v":7926}]
[1238,"Côte d'Ivoire","CIV","HAUT SASSANDRA","ISSIA",15377,"CSR LUEHOUAN","Faible",5102,0,5102,1,5102,0,5102,1,{"$f":"_xlfn.XLOOKUP($G1169,[1]demo_data!$G$5:$G$2257,[1]demo_data!$I$5:$I$2257)","v":20061}]
[1239,"Côte d'Ivoire","CIV","HAUT SASSANDRA","ISSIA",15377,"CSR MABOGUHE","Faible",701,0,701,1,701,0,701,1,{"$f":"_xlfn.XLOOKUP($G1170,[1]demo_data!$G$5:$G$2257,[1]demo_data!$I$5:$I$2257)","v":2755}]
[1240,"Côte d'Ivoire","CIV","HAUT SASSANDRA","ISSIA",15377,"CSR MAPAIX","Faible",2660,0,2660,1,2660,0,2660,1,{"$f":"_xlfn.XLOOKUP($G1171,[1]demo_data!$G$5:$G$2257,[1]demo_data!$I$5:$I$2257)","v":10458}]
[1241,"Côte d'Ivoire","CIV","HAUT SASSANDRA","ISSIA",15377,"CSR NIAKIA","Faible",3333,0,3333,1,3333,0,3333,1,{"$f":"_xlfn.XLOOKUP($G1172,[1]demo_data!$G$5:$G$2257,[1]demo_data!$I$5:$I$2257)","v":13108}]
[1242,"Côte d'Ivoire","CIV","HAUT SASSANDRA","ISSIA",15377,"CSR TEZIE","Faible",1885,0,1885,1,1885,0,1885,1,{"$f":"_xlfn.XLOOKUP($G1173,[1]demo_data!$G$5:$G$2257,[1]demo_data!$I$5:$I$2257)","v":7412}]
[1243,"Côte d'Ivoire","CIV","HAUT SASSANDRA","ISSIA",15377,"CSU BOGUEDIA","Modérée",3307,1517,4824,1,3307,1517,4824,2,{"$f":"_xlfn.XLOOKUP($G1174,[1]demo_data!$G$5:$G$2257,[1]demo_data!$I$5:$I$2257)","v":13001}]
[1244,"Côte d'Ivoire","CIV","HAUT SASSANDRA","ISSIA",15377,"CSU IBOGUHE","Modérée",7618,3496,11114,1,7618,3496,11114,2,{"$f":"_xlfn.XLOOKUP($G1175,[1]demo_data!$G$5:$G$2257,[1]demo_data!$I$5:$I$2257)","v":29951}]
[1245,"Côte d'Ivoire","CIV","HAUT SASSANDRA","ISSIA",15377,"CSU NAHIO","Faible",4710,0,4710,1,4710,0,4710,1,{"$f":"_xlfn.XLOOKUP($G1176,[1]demo_data!$G$5:$G$2257,[1]demo_data!$I$5:$I$2257)","v":18521}]
[1246,"Côte d'Ivoire","CIV","HAUT SASSANDRA","ISSIA",15377,"CSU NAMANE","Non endémique",0,0,0,0,0,0,0,0,{"$f":"_xlfn.XLOOKUP($G1177,[1]demo_data!$G$5:$G$2257,[1]demo_data!$I$5:$I$2257)","v":7381}]
[1247,"Côte d'Ivoire","CIV","HAUT SASSANDRA","ISSIA",15377,"CSU SAIOUA","Modérée",8690,3987,12677,1,8690,3987,12677,2,{"$f":"_xlfn.XLOOKUP($G1178,[1]demo_data!$G$5:$G$2257,[1]demo_data!$I$5:$I$2257)","v":34167}]
[1248,"Côte d'Ivoire","CIV","HAUT SASSANDRA","ISSIA",15377,"CSU TAPEGUIA","Forte",2587,5934,8521,1,2587,5934,8521,3,{"$f":"_xlfn.XLOOKUP($G1179,[1]demo_data!$G$5:$G$2257,[1]demo_data!$I$5:$I$2257)","v":10171}]
[1249,"Côte d'Ivoire","CIV","HAUT SASSANDRA","ISSIA",15377,"DR BEZIBOUO-ZUZUA","Faible",759,0,759,1,759,0,759,1,{"$f":"_xlfn.XLOOKUP($G1180,[1]demo_data!$G$5:$G$2257,[1]demo_data!$I$5:$I$2257)","v":2983}]
[1250,"Côte d'Ivoire","CIV","HAUT SASSANDRA","ISSIA",15377,"DR BROKOUA","Faible",1477,0,1477,1,1477,0,1477,1,{"$f":"_xlfn.XLOOKUP($G1181,[1]demo_data!$G$5:$G$2257,[1]demo_data!$I$5:$I$2257)","v":5807}]
[1251,"Côte d'Ivoire","CIV","HAUT SASSANDRA","ISSIA",15377,"DR DAHIRA2","Faible",2356,0,2356,1,2356,0,2356,1,{"$f":"_xlfn.XLOOKUP($G1182,[1]demo_data!$G$5:$G$2257,[1]demo_data!$I$5:$I$2257)","v":9260}]
[1252,"Côte d'Ivoire","CIV","HAUT SASSANDRA","ISSIA",15377,"DR DEGAULLEKRO","Faible",2904,0,2904,1,2904,0,2904,1,{"$f":"_xlfn.XLOOKUP($G1183,[1]demo_data!$G$5:$G$2257,[1]demo_data!$I$5:$I$2257)","v":11418}]
[1253,"Côte d'Ivoire","CIV","HAUT SASSANDRA","ISSIA",15377,"DR DIASSA","Faible",3436,0,3436,1,3436,0,3436,1,{"$f":"_xlfn.XLOOKUP($G1184,[1]demo_data!$G$5:$G$2257,[1]demo_data!$I$5:$I$2257)","v":13510}]
[1254,"Côte d'Ivoire","CIV","HAUT SASSANDRA","ISSIA",15377,"DR MADIA","Faible",962,0,962,1,962,0,962,1,{"$f":"_xlfn.XLOOKUP($G1185,[1]demo_data!$G$5:$G$2257,[1]demo_data!$I$5:$I$2257)","v":3784}]
[1255,"Côte d'Ivoire","CIV","HAUT SASSANDRA","ISSIA",15377,"DR ZADIHOA","Faible",1655,0,1655,1,1655,0,1655,1,{"$f":"_xlfn.XLOOKUP($G1186,[1]demo_data!$G$5:$G$2257,[1]demo_data!$I$5:$I$2257)","v":6508}]
[1256,"Côte d'Ivoire","CIV","HAUT SASSANDRA","ISSIA",15377,"DU HKB","Non endémique",0,0,0,0,0,0,0,0,{"$f":"_xlfn.XLOOKUP($G1187,[1]demo_data!$G$5:$G$2257,[1]demo_data!$I$5:$I$2257)","v":20769}]
[1257,"Côte d'Ivoire","CIV","HAUT SASSANDRA","ISSIA",15377,"HG ISSIA","Faible",7511,0,7511,1,7511,0,7511,1,{"$f":"_xlfn.XLOOKUP($G1188,[1]demo_data!$G$5:$G$2257,[1]demo_data!$I$5:$I$2257)","v":29530}]
[1258,"Côte d'Ivoire","CIV","HAUT SASSANDRA","ISSIA",15377,"PMI ISSIA","Faible",5741,0,5741,1,5741,0,5741,1,{"$f":"_xlfn.XLOOKUP($G1189,[1]demo_data!$G$5:$G$2257,[1]demo_data!$I$5:$I$2257)","v":{"$error":"#N/A"}}]
[1259,"Côte d'Ivoire","CIV","HAUT SASSANDRA","VAVOUA",15378,"CSR-D BODOUASSO","Non endémique",0,0,0,0,0,0,0,0,{"$f":"_xlfn.XLOOKUP($G1190,[1]demo_data!$G$5:$G$2257,[1]demo_data!$I$5:$I$2257)","v":6115}]
[1260,"Côte d'Ivoire","CIV","HAUT SASSANDRA","VAVOUA",15378,"CSR-D DEDIAFLA","Faible",6084,0,6084,0,0,0,0,1,{"$f":"_xlfn.XLOOKUP($G1191,[1]demo_data!$G$5:$G$2257,[1]demo_data!$I$5:$I$2257)","v":23922}]
[1261,"Côte d'Ivoire","CIV","HAUT SASSANDRA","VAVOUA",15378,"CSR-D VROUO2","Faible",582,0,582,0,0,0,0,1,{"$f":"_xlfn.XLOOKUP($G1192,[1]demo_data!$G$5:$G$2257,[1]demo_data!$I$5:$I$2257)","v":2286}]
[1262,"Côte d'Ivoire","CIV","HAUT SASSANDRA","VAVOUA",15378,"CSR-D VROUO3","Faible",770,0,770,0,0,0,0,1,{"$f":"_xlfn.XLOOKUP($G1193,[1]demo_data!$G$5:$G$2257,[1]demo_data!$I$5:$I$2257)","v":3025}]
[1263,"Côte d'Ivoire","CIV","HAUT SASSANDRA","VAVOUA",15378,"CSR-D VROUO4","Faible",518,0,518,0,0,0,0,1,{"$f":"_xlfn.XLOOKUP($G1194,[1]demo_data!$G$5:$G$2257,[1]demo_data!$I$5:$I$2257)","v":2038}]
[1264,"Côte d'Ivoire","CIV","HAUT SASSANDRA","VAVOUA",15378,"CSR-D VROUO5","Faible",865,0,865,0,0,0,0,1,{"$f":"_xlfn.XLOOKUP($G1195,[1]demo_data!$G$5:$G$2257,[1]demo_data!$I$5:$I$2257)","v":3400}]
[1265,"Côte d'Ivoire","CIV","HAUT SASSANDRA","VAVOUA",15378,"CSR-D YOOUREDOULA","Faible",5563,0,5563,0,0,0,0,1,{"$f":"_xlfn.XLOOKUP($G1196,[1]demo_data!$G$5:$G$2257,[1]demo_data!$I$5:$I$2257)","v":21872}]
[1266,"Côte d'Ivoire","CIV","HAUT SASSANDRA","VAVOUA",15378,"CSR-D ZUEHI GOTTRON","Faible",1885,0,1885,0,0,0,0,1,{"$f":"_xlfn.XLOOKUP($G1197,[1]demo_data!$G$5:$G$2257,[1]demo_data!$I$5:$I$2257)","v":7409}]
[1267,"Côte d'Ivoire","CIV","HAUT SASSANDRA","VAVOUA",15378,"CSR-DM ANCIEN PROZI","Faible",4969,0,4969,0,0,0,0,1,{"$f":"_xlfn.XLOOKUP($G1198,[1]demo_data!$G$5:$G$2257,[1]demo_data!$I$5:$I$2257)","v":19534}]
[1268,"Côte d'Ivoire","CIV","HAUT SASSANDRA","VAVOUA",15378,"CSR-DM BAHOULIFLA","Non endémique",0,0,0,0,0,0,0,0,{"$f":"_xlfn.XLOOKUP($G1199,[1]demo_data!$G$5:$G$2257,[1]demo_data!$I$5:$I$2257)","v":15846}]
[1269,"Côte d'Ivoire","CIV","HAUT SASSANDRA","VAVOUA",15378,"CSR-DM BAZRA NATIS","Faible",6059,0,6059,0,0,0,0,1,{"$f":"_xlfn.XLOOKUP($G1200,[1]demo_data!$G$5:$G$2257,[1]demo_data!$I$5:$I$2257)","v":23820}]
[1270,"Côte d'Ivoire","CIV","HAUT SASSANDRA","VAVOUA",15378,"CSR-DM BONOUFLA","Faible",5416,0,5416,0,0,0,0,1,{"$f":"_xlfn.XLOOKUP($G1201,[1]demo_data!$G$5:$G$2257,[1]demo_data!$I$5:$I$2257)","v":21295}]
[1271,"Côte d'Ivoire","CIV","HAUT SASSANDRA","VAVOUA",15378,"CSR-DM DANANON","Faible",1623,0,1623,0,0,0,0,1,{"$f":"_xlfn.XLOOKUP($G1202,[1]demo_data!$G$5:$G$2257,[1]demo_data!$I$5:$I$2257)","v":6383}]
[1272,"Côte d'Ivoire","CIV","HAUT SASSANDRA","VAVOUA",15378,"CSR-DM DERAGON","Faible",2697,0,2697,0,0,0,0,1,{"$f":"_xlfn.XLOOKUP($G1203,[1]demo_data!$G$5:$G$2257,[1]demo_data!$I$5:$I$2257)","v":10603}]
[1273,"Côte d'Ivoire","CIV","HAUT SASSANDRA","VAVOUA",15378,"CSR-DM GBABO","Non endémique",0,0,0,0,0,0,0,0,{"$f":"_xlfn.XLOOKUP($G1204,[1]demo_data!$G$5:$G$2257,[1]demo_data!$I$5:$I$2257)","v":23109}]
[1274,"Côte d'Ivoire","CIV","HAUT SASSANDRA","VAVOUA",15378,"CSR-DM GOURIELA","Faible",3009,0,3009,0,0,0,0,1,{"$f":"_xlfn.XLOOKUP($G1205,[1]demo_data!$G$5:$G$2257,[1]demo_data!$I$5:$I$2257)","v":11833}]
[1275,"Côte d'Ivoire","CIV","HAUT SASSANDRA","VAVOUA",15378,"CSR-DM KETRO BASSAM","Faible",5884,0,5884,0,0,0,0,1,{"$f":"_xlfn.XLOOKUP($G1206,[1]demo_data!$G$5:$G$2257,[1]demo_data!$I$5:$I$2257)","v":23134}]
[1276,"Côte d'Ivoire","CIV","HAUT SASSANDRA","VAVOUA",15378,"CSR-DM MIGNORE","Faible",4718,0,4718,0,0,0,0,1,{"$f":"_xlfn.XLOOKUP($G1207,[1]demo_data!$G$5:$G$2257,[1]demo_data!$I$5:$I$2257)","v":18546}]
[1277,"Côte d'Ivoire","CIV","HAUT SASSANDRA","VAVOUA",15378,"CSR-DM MONOKO ZOHI","Non endémique",0,0,0,0,0,0,0,0,{"$f":"_xlfn.XLOOKUP($G1208,[1]demo_data!$G$5:$G$2257,[1]demo_data!$I$5:$I$2257)","v":21711}]
[1278,"Côte d'Ivoire","CIV","HAUT SASSANDRA","VAVOUA",15378,"CSR-DM NEOULEFLA","Faible",2841,0,2841,0,0,0,0,1,{"$f":"_xlfn.XLOOKUP($G1209,[1]demo_data!$G$5:$G$2257,[1]demo_data!$I$5:$I$2257)","v":11170}]
[1279,"Côte d'Ivoire","CIV","HAUT SASSANDRA","VAVOUA",15378,"CSR-DM PELEZI","Faible",7712,0,7712,0,0,0,0,1,{"$f":"_xlfn.XLOOKUP($G1210,[1]demo_data!$G$5:$G$2257,[1]demo_data!$I$5:$I$2257)","v":30321}]
[1280,"Côte d'Ivoire","CIV","HAUT SASSANDRA","VAVOUA",15378,"CSR-DM SEBEDOUFLA","Faible",942,0,942,0,0,0,0,1,{"$f":"_xlfn.XLOOKUP($G1211,[1]demo_data!$G$5:$G$2257,[1]demo_data!$I$5:$I$2257)","v":3703}]
[1281,"Côte d'Ivoire","CIV","HAUT SASSANDRA","VAVOUA",15378,"CSR-DM TENEFERO","Faible",1553,0,1553,0,0,0,0,1,{"$f":"_xlfn.XLOOKUP($G1212,[1]demo_data!$G$5:$G$2257,[1]demo_data!$I$5:$I$2257)","v":6107}]
[1282,"Côte d'Ivoire","CIV","HAUT SASSANDRA","VAVOUA",15378,"CSR-DM TRAFLA GOTTRON","Faible",2905,0,2905,0,0,0,0,1,{"$f":"_xlfn.XLOOKUP($G1213,[1]demo_data!$G$5:$G$2257,[1]demo_data!$I$5:$I$2257)","v":11421}]
[1283,"Côte d'Ivoire","CIV","HAUT SASSANDRA","VAVOUA",15378,"CSR-DM VAAFLA","Faible",4452,0,4452,0,0,0,0,1,{"$f":"_xlfn.XLOOKUP($G1214,[1]demo_data!$G$5:$G$2257,[1]demo_data!$I$5:$I$2257)","v":17502}]
[1284,"Côte d'Ivoire","CIV","HAUT SASSANDRA","VAVOUA",15378,"CSR-DM VAOU","Faible",4019,0,4019,0,0,0,0,1,{"$f":"_xlfn.XLOOKUP($G1215,[1]demo_data!$G$5:$G$2257,[1]demo_data!$I$5:$I$2257)","v":15800}]
[1285,"Côte d'Ivoire","CIV","HAUT SASSANDRA","VAVOUA",15378,"CSR-M DANZERVILLE","Non endémique",0,0,0,0,0,0,0,0,{"$f":"_xlfn.XLOOKUP($G1216,[1]demo_data!$G$5:$G$2257,[1]demo_data!$I$5:$I$2257)","v":11344}]
[1286,"Côte d'Ivoire","CIV","HAUT SASSANDRA","VAVOUA",15378,"CSU-DM DANIA","Faible",10030,0,10030,0,0,0,0,1,{"$f":"_xlfn.XLOOKUP($G1217,[1]demo_data!$G$5:$G$2257,[1]demo_data!$I$5:$I$2257)","v":39435}]
[1287,"Côte d'Ivoire","CIV","HAUT SASSANDRA","VAVOUA",15378,"CSU-DM SEITIFLA","Faible",2831,0,2831,0,0,0,0,1,{"$f":"_xlfn.XLOOKUP($G1218,[1]demo_data!$G$5:$G$2257,[1]demo_data!$I$5:$I$2257)","v":11132}]
[1288,"Côte d'Ivoire","CIV","HAUT SASSANDRA","VAVOUA",15378,"CSU-DM VAVOUA","Faible",4722,0,4722,0,0,0,0,1,{"$f":"_xlfn.XLOOKUP($G1219,[1]demo_data!$G$5:$G$2257,[1]demo_data!$I$5:$I$2257)","v":18565}]
[1289,"Côte d'Ivoire","CIV","HAUT SASSANDRA","VAVOUA",15378,"HG VAVOUA","Modérée",4685,2149,6834,0,0,0,0,2,{"$f":"_xlfn.XLOOKUP($G1220,[1]demo_data!$G$5:$G$2257,[1]demo_data!$I$5:$I$2257)","v":18418}]
[1290,"Côte d'Ivoire","CIV","HAUT SASSANDRA","VAVOUA",15378,"SSSU-SAJ VAVOUA","Faible",1479,0,1479,0,0,0,0,1,{"$f":"_xlfn.XLOOKUP($G1221,[1]demo_data!$G$5:$G$2257,[1]demo_data!$I$5:$I$2257)","v":5818}]
[1178,"Côte d'Ivoire","CIV","HAUT SASSANDRA","ZOUKOUGBEU",15436,"BELLE VILLE 1","Faible",4387,0,4387,1,4387,0,4387,1,{"$f":"_xlfn.XLOOKUP($G1222,[1]demo_data!$G$5:$G$2257,[1]demo_data!$I$5:$I$2257)","v":19955}]
[1179,"Côte d'Ivoire","CIV","HAUT SASSANDRA","ZOUKOUGBEU",15436,"BELLE VILLE 2","Faible",2056,0,2056,1,2056,0,2056,1,{"$f":"_xlfn.XLOOKUP($G1223,[1]demo_data!$G$5:$G$2257,[1]demo_data!$I$5:$I$2257)","v":9350}]
[1180,"Côte d'Ivoire","CIV","HAUT SASSANDRA","ZOUKOUGBEU",15436,"BELLE VILLE 3","Faible",203,0,203,1,203,0,203,1,{"$f":"_xlfn.XLOOKUP($G1224,[1]demo_data!$G$5:$G$2257,[1]demo_data!$I$5:$I$2257)","v":925}]
[1186,"Côte d'Ivoire","CIV","HAUT SASSANDRA","ZOUKOUGBEU",15436,"DEBO","Faible",913,0,913,1,913,0,913,1,{"$f":"_xlfn.XLOOKUP($G1225,[1]demo_data!$G$5:$G$2257,[1]demo_data!$I$5:$I$2257)","v":4154}]
[1187,"Côte d'Ivoire","CIV","HAUT SASSANDRA","ZOUKOUGBEU",15436,"DEDEGBEU","Faible",1925,0,1925,1,1925,0,1925,1,{"$f":"_xlfn.XLOOKUP($G1226,[1]demo_data!$G$5:$G$2257,[1]demo_data!$I$5:$I$2257)","v":8755}]
[1189,"Côte d'Ivoire","CIV","HAUT SASSANDRA","ZOUKOUGBEU",15436,"DETROYA","Faible",1378,0,1378,1,1378,0,1378,1,{"$f":"_xlfn.XLOOKUP($G1227,[1]demo_data!$G$5:$G$2257,[1]demo_data!$I$5:$I$2257)","v":6265}]
[1194,"Côte d'Ivoire","CIV","HAUT SASSANDRA","ZOUKOUGBEU",15436,"DOMANGBEU","Faible",2824,0,2824,1,2824,0,2824,1,{"$f":"_xlfn.XLOOKUP($G1228,[1]demo_data!$G$5:$G$2257,[1]demo_data!$I$5:$I$2257)","v":12840}]
[1205,"Côte d'Ivoire","CIV","HAUT SASSANDRA","ZOUKOUGBEU",15436,"GREGBEU","Faible",3795,0,3795,1,3795,0,3795,1,{"$f":"_xlfn.XLOOKUP($G1229,[1]demo_data!$G$5:$G$2257,[1]demo_data!$I$5:$I$2257)","v":17263}]
[1206,"Côte d'Ivoire","CIV","HAUT SASSANDRA","ZOUKOUGBEU",15436,"GUESSABO","Faible",6259,0,6259,1,6259,0,6259,1,{"$f":"_xlfn.XLOOKUP($G1230,[1]demo_data!$G$5:$G$2257,[1]demo_data!$I$5:$I$2257)","v":28465}]
[1226,"Côte d'Ivoire","CIV","HAUT SASSANDRA","ZOUKOUGBEU",15436,"ZOUKOUGBEU","Faible",6579,0,6579,1,6579,0,6579,1,{"$f":"_xlfn.XLOOKUP($G1231,[1]demo_data!$G$5:$G$2257,[1]demo_data!$I$5:$I$2257)","v":29922}]
[1227,"Côte d'Ivoire","CIV","HAUT SASSANDRA","ZOUKOUGBEU",15436,"ZOUKPANGBEU","Faible",2397,0,2397,1,2397,0,2397,1,{"$f":"_xlfn.XLOOKUP($G1232,[1]demo_data!$G$5:$G$2257,[1]demo_data!$I$5:$I$2257)","v":10899}]
[1708,"Côte d'Ivoire","CIV","IFOU","DAOUKRO",15393,"CSR AKPASSANOU","Non endémique",0,0,0,0,0,0,0,0,{"$f":"_xlfn.XLOOKUP($G1233,[1]demo_data!$G$5:$G$2257,[1]demo_data!$I$5:$I$2257)","v":4144}]
[1709,"Côte d'Ivoire","CIV","IFOU","DAOUKRO",15393,"CSR ETTROKRO","Non endémique",0,0,0,0,0,0,0,0,{"$f":"_xlfn.XLOOKUP($G1234,[1]demo_data!$G$5:$G$2257,[1]demo_data!$I$5:$I$2257)","v":13090}]
[1710,"Côte d'Ivoire","CIV","IFOU","DAOUKRO",15393,"CSR KATIMANSOU","Non endémique",0,0,0,0,0,0,0,0,{"$f":"_xlfn.XLOOKUP($G1235,[1]demo_data!$G$5:$G$2257,[1]demo_data!$I$5:$I$2257)","v":4877}]
[1711,"Côte d'Ivoire","CIV","IFOU","DAOUKRO",15393,"CSR KONGOTI","Non endémique",0,0,0,0,0,0,0,0,{"$f":"_xlfn.XLOOKUP($G1236,[1]demo_data!$G$5:$G$2257,[1]demo_data!$I$5:$I$2257)","v":9023}]
[1712,"Côte d'Ivoire","CIV","IFOU","DAOUKRO",15393,"CSR LEKIKRO","Faible",1056,0,1056,1,1056,0,1056,1,{"$f":"_xlfn.XLOOKUP($G1237,[1]demo_data!$G$5:$G$2257,[1]demo_data!$I$5:$I$2257)","v":3552}]
[1713,"Côte d'Ivoire","CIV","IFOU","DAOUKRO",15393,"CSR SAMANZA","Faible",1844,0,1844,1,1844,0,1844,1,{"$f":"_xlfn.XLOOKUP($G1238,[1]demo_data!$G$5:$G$2257,[1]demo_data!$I$5:$I$2257)","v":6202}]
[1714,"Côte d'Ivoire","CIV","IFOU","DAOUKRO",15393,"CSR ZANZANSOU","Non endémique",0,0,0,0,0,0,0,0,{"$f":"_xlfn.XLOOKUP($G1239,[1]demo_data!$G$5:$G$2257,[1]demo_data!$I$5:$I$2257)","v":6045}]
[1715,"Côte d'Ivoire","CIV","IFOU","DAOUKRO",15393,"CSU ANANDA","Non endémique",0,0,0,0,0,0,0,0,{"$f":"_xlfn.XLOOKUP($G1240,[1]demo_data!$G$5:$G$2257,[1]demo_data!$I$5:$I$2257)","v":8362}]
[1716,"Côte d'Ivoire","CIV","IFOU","DAOUKRO",15393,"CSU OUELLE","Non endémique",0,0,0,0,0,0,0,0,{"$f":"_xlfn.XLOOKUP($G1241,[1]demo_data!$G$5:$G$2257,[1]demo_data!$I$5:$I$2257)","v":16659}]
[1717,"Côte d'Ivoire","CIV","IFOU","DAOUKRO",15393,"DR AGNI-ASSIKASSO","Faible",1454,0,1454,1,1454,0,1454,1,{"$f":"_xlfn.XLOOKUP($G1242,[1]demo_data!$G$5:$G$2257,[1]demo_data!$I$5:$I$2257)","v":4891}]
[1718,"Côte d'Ivoire","CIV","IFOU","DAOUKRO",15393,"DR BALEKOKRO","Non endémique",0,0,0,0,0,0,0,0,{"$f":"_xlfn.XLOOKUP($G1243,[1]demo_data!$G$5:$G$2257,[1]demo_data!$I$5:$I$2257)","v":1789}]
[1719,"Côte d'Ivoire","CIV","IFOU","DAOUKRO",15393,"DR BENDIEKOMENANKRO","Faible",1311,0,1311,1,1311,0,1311,1,{"$f":"_xlfn.XLOOKUP($G1244,[1]demo_data!$G$5:$G$2257,[1]demo_data!$I$5:$I$2257)","v":4411}]
[1720,"Côte d'Ivoire","CIV","IFOU","DAOUKRO",15393,"DR KONIANKOUAMEKRO","Non endémique",0,0,0,0,0,0,0,0,{"$f":"_xlfn.XLOOKUP($G1245,[1]demo_data!$G$5:$G$2257,[1]demo_data!$I$5:$I$2257)","v":6002}]
[1721,"Côte d'Ivoire","CIV","IFOU","DAOUKRO",15393,"DR KOUAKOUSSEKRO","Faible",2766,0,2766,1,2766,0,2766,1,{"$f":"_xlfn.XLOOKUP($G1246,[1]demo_data!$G$5:$G$2257,[1]demo_data!$I$5:$I$2257)","v":9305}]
[1722,"Côte d'Ivoire","CIV","IFOU","DAOUKRO",15393,"DR N'GATTAKRO","Non endémique",0,0,0,0,0,0,0,0,{"$f":"_xlfn.XLOOKUP($G1247,[1]demo_data!$G$5:$G$2257,[1]demo_data!$I$5:$I$2257)","v":11626}]
[1723,"Côte d'Ivoire","CIV","IFOU","DAOUKRO",15393,"DR PANIGOKRO","Non endémique",0,0,0,0,0,0,0,0,{"$f":"_xlfn.XLOOKUP($G1248,[1]demo_data!$G$5:$G$2257,[1]demo_data!$I$5:$I$2257)","v":3211}]
[1724,"Côte d'Ivoire","CIV","IFOU","DAOUKRO",15393,"DR POTOSSOU","Forte",1047,2400,3447,1,1047,2400,3447,3,{"$f":"_xlfn.XLOOKUP($G1249,[1]demo_data!$G$5:$G$2257,[1]demo_data!$I$5:$I$2257)","v":3519}]
[1725,"Côte d'Ivoire","CIV","IFOU","DAOUKRO",15393,"FSU PEPRESSOU","Non endémique",0,0,0,0,0,0,0,0,{"$f":"_xlfn.XLOOKUP($G1250,[1]demo_data!$G$5:$G$2257,[1]demo_data!$I$5:$I$2257)","v":5122}]
[1726,"Côte d'Ivoire","CIV","IFOU","DAOUKRO",15393,"HG DAOUKRO","Faible",17151,0,17151,1,17151,0,17151,1,{"$f":"_xlfn.XLOOKUP($G1251,[1]demo_data!$G$5:$G$2257,[1]demo_data!$I$5:$I$2257)","v":57689}]
[1727,"Côte d'Ivoire","CIV","IFOU","DAOUKRO",15393,"PMI DAOUKRO","Non endémique",0,0,0,0,0,0,0,0,{"$f":"_xlfn.XLOOKUP($G1252,[1]demo_data!$G$5:$G$2257,[1]demo_data!$I$5:$I$2257)","v":5640}]
[1745,"Côte d'Ivoire","CIV","IFOU","M'BAHIAKRO",15395,"ADIYAPIKRO","Forte",1129,2589,3718,1,1129,2589,3718,3,{"$f":"_xlfn.XLOOKUP($G1253,[1]demo_data!$G$5:$G$2257,[1]demo_data!$I$5:$I$2257)","v":3795}]
[1746,"Côte d'Ivoire","CIV","IFOU","M'BAHIAKRO",15395,"AKPOUEBOUE","Forte",1316,3020,4336,1,1316,3020,4336,3,{"$f":"_xlfn.XLOOKUP($G1254,[1]demo_data!$G$5:$G$2257,[1]demo_data!$I$5:$I$2257)","v":4427}]
[1747,"Côte d'Ivoire","CIV","IFOU","M'BAHIAKRO",15395,"AMANKRO","Forte",1000,2294,3294,1,1000,2294,3294,3,{"$f":"_xlfn.XLOOKUP($G1255,[1]demo_data!$G$5:$G$2257,[1]demo_data!$I$5:$I$2257)","v":3364}]
[1748,"Côte d'Ivoire","CIV","IFOU","M'BAHIAKRO",15395,"ATTOKRO ","Forte",1579,3622,5201,1,1579,3622,5201,3,{"$f":"_xlfn.XLOOKUP($G1256,[1]demo_data!$G$5:$G$2257,[1]demo_data!$I$5:$I$2257)","v":5310}]
[1758,"Côte d'Ivoire","CIV","IFOU","M'BAHIAKRO",15395,"CSR SONDO","Non endémique",0,0,0,0,0,0,0,0,{"$f":"_xlfn.XLOOKUP($G1257,[1]demo_data!$G$5:$G$2257,[1]demo_data!$I$5:$I$2257)","v":9859}]
[1752,"Côte d'Ivoire","CIV","IFOU","M'BAHIAKRO",15395,"CSR-DM-KONGOTI","Non endémique",0,0,0,0,0,0,0,0,{"$f":"_xlfn.XLOOKUP($G1258,[1]demo_data!$G$5:$G$2257,[1]demo_data!$I$5:$I$2257)","v":2374}]
[1753,"Côte d'Ivoire","CIV","IFOU","M'BAHIAKRO",15395,"CSR-DM-KOUASSIKRO","Faible",1492,0,1492,1,1492,0,1492,1,{"$f":"_xlfn.XLOOKUP($G1259,[1]demo_data!$G$5:$G$2257,[1]demo_data!$I$5:$I$2257)","v":5018}]
[1759,"Côte d'Ivoire","CIV","IFOU","M'BAHIAKRO",15395,"CSR-DM-TOTODOUGOU","Forte",2675,6137,8812,1,2675,6137,8812,3,{"$f":"_xlfn.XLOOKUP($G1260,[1]demo_data!$G$5:$G$2257,[1]demo_data!$I$5:$I$2257)","v":8997}]
[1756,"Côte d'Ivoire","CIV","IFOU","M'BAHIAKRO",15395,"CSR-D-PANIGOKRO","Faible",957,0,957,1,957,0,957,1,{"$f":"_xlfn.XLOOKUP($G1261,[1]demo_data!$G$5:$G$2257,[1]demo_data!$I$5:$I$2257)","v":3221}]
[1749,"Côte d'Ivoire","CIV","IFOU","M'BAHIAKRO",15395,"CSU-DM-BONGUERA","Faible",2259,0,2259,1,2259,0,2259,1,{"$f":"_xlfn.XLOOKUP($G1262,[1]demo_data!$G$5:$G$2257,[1]demo_data!$I$5:$I$2257)","v":7598}]
[1750,"Côte d'Ivoire","CIV","IFOU","M'BAHIAKRO",15395,"DADIEKRO","Forte",1221,2802,4023,1,1221,2802,4023,3,{"$f":"_xlfn.XLOOKUP($G1263,[1]demo_data!$G$5:$G$2257,[1]demo_data!$I$5:$I$2257)","v":4108}]
[1751,"Côte d'Ivoire","CIV","IFOU","M'BAHIAKRO",15395,"HG M'BAHIAKRO","Faible",5360,0,5360,1,5360,0,5360,1,{"$f":"_xlfn.XLOOKUP($G1264,[1]demo_data!$G$5:$G$2257,[1]demo_data!$I$5:$I$2257)","v":18028}]
[1754,"Côte d'Ivoire","CIV","IFOU","M'BAHIAKRO",15395,"KPAKPANOU","Forte",1785,4095,5880,1,1785,4095,5880,3,{"$f":"_xlfn.XLOOKUP($G1265,[1]demo_data!$G$5:$G$2257,[1]demo_data!$I$5:$I$2257)","v":6005}]
[1755,"Côte d'Ivoire","CIV","IFOU","M'BAHIAKRO",15395,"OUASSADOUGOU","Forte",1892,4340,6232,1,1892,4340,6232,3,{"$f":"_xlfn.XLOOKUP($G1266,[1]demo_data!$G$5:$G$2257,[1]demo_data!$I$5:$I$2257)","v":6364}]
[1757,"Côte d'Ivoire","CIV","IFOU","M'BAHIAKRO",15395,"SAHEBO","Forte",1301,2984,4285,1,1301,2984,4285,3,{"$f":"_xlfn.XLOOKUP($G1267,[1]demo_data!$G$5:$G$2257,[1]demo_data!$I$5:$I$2257)","v":4375}]
[1760,"Côte d'Ivoire","CIV","IFOU","PRIKRO",15396,"CSR ABEDENI","Faible",1011,0,1011,1,1011,0,1011,1,{"$f":"_xlfn.XLOOKUP($G1268,[1]demo_data!$G$5:$G$2257,[1]demo_data!$I$5:$I$2257)","v":3399}]
[1761,"Côte d'Ivoire","CIV","IFOU","PRIKRO",15396,"CSR ANYANOU","Modérée",2069,949,3018,1,2069,949,3018,2,{"$f":"_xlfn.XLOOKUP($G1269,[1]demo_data!$G$5:$G$2257,[1]demo_data!$I$5:$I$2257)","v":6959}]
[1762,"Côte d'Ivoire","CIV","IFOU","PRIKRO",15396,"CSR BABAKRO","Non endémique",0,0,0,0,0,0,0,0,{"$f":"_xlfn.XLOOKUP($G1270,[1]demo_data!$G$5:$G$2257,[1]demo_data!$I$5:$I$2257)","v":6275}]
[1763,"Côte d'Ivoire","CIV","IFOU","PRIKRO",15396,"CSR GROUMANIA","Faible",2099,0,2099,1,2099,0,2099,1,{"$f":"_xlfn.XLOOKUP($G1271,[1]demo_data!$G$5:$G$2257,[1]demo_data!$I$5:$I$2257)","v":7063}]
[1764,"Côte d'Ivoire","CIV","IFOU","PRIKRO",15396,"CSR KONANDI N'DAKRO","Faible",1232,0,1232,1,1232,0,1232,1,{"$f":"_xlfn.XLOOKUP($G1272,[1]demo_data!$G$5:$G$2257,[1]demo_data!$I$5:$I$2257)","v":4146}]
[1765,"Côte d'Ivoire","CIV","IFOU","PRIKRO",15396,"CSR KONANDIKRO","Faible",2894,0,2894,1,2894,0,2894,1,{"$f":"_xlfn.XLOOKUP($G1273,[1]demo_data!$G$5:$G$2257,[1]demo_data!$I$5:$I$2257)","v":9737}]
[1766,"Côte d'Ivoire","CIV","IFOU","PRIKRO",15396,"CSR LINGUEZAN","Non endémique",0,0,0,0,0,0,0,0,{"$f":"_xlfn.XLOOKUP($G1274,[1]demo_data!$G$5:$G$2257,[1]demo_data!$I$5:$I$2257)","v":3389}]
[1767,"Côte d'Ivoire","CIV","IFOU","PRIKRO",15396,"CSU FAMIENKRO","Non endémique",0,0,0,0,0,0,0,0,{"$f":"_xlfn.XLOOKUP($G1275,[1]demo_data!$G$5:$G$2257,[1]demo_data!$I$5:$I$2257)","v":8542}]
[1768,"Côte d'Ivoire","CIV","IFOU","PRIKRO",15396,"CSU KOFFI AMONKRO","Faible",2452,0,2452,1,2452,0,2452,1,{"$f":"_xlfn.XLOOKUP($G1276,[1]demo_data!$G$5:$G$2257,[1]demo_data!$I$5:$I$2257)","v":8249}]
[1769,"Côte d'Ivoire","CIV","IFOU","PRIKRO",15396,"CSU NAFANA","Non endémique",0,0,0,0,0,0,0,0,{"$f":"_xlfn.XLOOKUP($G1277,[1]demo_data!$G$5:$G$2257,[1]demo_data!$I$5:$I$2257)","v":9632}]
[1770,"Côte d'Ivoire","CIV","IFOU","PRIKRO",15396,"DR AKANANGBO","Faible",959,0,959,1,959,0,959,1,{"$f":"_xlfn.XLOOKUP($G1278,[1]demo_data!$G$5:$G$2257,[1]demo_data!$I$5:$I$2257)","v":3227}]
[1771,"Côte d'Ivoire","CIV","IFOU","PRIKRO",15396,"DR GBANGBO N'DAKRO","Non endémique",0,0,0,0,0,0,0,0,{"$f":"_xlfn.XLOOKUP($G1279,[1]demo_data!$G$5:$G$2257,[1]demo_data!$I$5:$I$2257)","v":5378}]
[1772,"Côte d'Ivoire","CIV","IFOU","PRIKRO",15396,"HG PRIKRO","Faible",2594,0,2594,1,2594,0,2594,1,{"$f":"_xlfn.XLOOKUP($G1280,[1]demo_data!$G$5:$G$2257,[1]demo_data!$I$5:$I$2257)","v":8724}]
[1291,"Côte d'Ivoire","CIV","INDENIE-DJUABLIN","ABENGOUROU",15379,"ADAOU","Faible",2529,0,2529,1,2529,0,2529,1,{"$f":"_xlfn.XLOOKUP($G1281,[1]demo_data!$G$5:$G$2257,[1]demo_data!$I$5:$I$2257)","v":8869}]
[1292,"Côte d'Ivoire","CIV","INDENIE-DJUABLIN","ABENGOUROU",15379,"AKATI","Faible",1813,0,1813,1,1813,0,1813,1,{"$f":"_xlfn.XLOOKUP($G1282,[1]demo_data!$G$5:$G$2257,[1]demo_data!$I$5:$I$2257)","v":6359}]
[1293,"Côte d'Ivoire","CIV","INDENIE-DJUABLIN","ABENGOUROU",15379,"BON SAMARITAIN","Faible",1170,0,1170,1,1170,0,1170,1,{"$f":"_xlfn.XLOOKUP($G1283,[1]demo_data!$G$5:$G$2257,[1]demo_data!$I$5:$I$2257)","v":4101}]
[1294,"Côte d'Ivoire","CIV","INDENIE-DJUABLIN","ABENGOUROU",15379,"CAFETOU BELLE-VILLE","Faible",3958,0,3958,1,3958,0,3958,1,{"$f":"_xlfn.XLOOKUP($G1284,[1]demo_data!$G$5:$G$2257,[1]demo_data!$I$5:$I$2257)","v":13883}]
[1295,"Côte d'Ivoire","CIV","INDENIE-DJUABLIN","ABENGOUROU",15379,"CAT (Lobikro)","Faible",1766,0,1766,1,1766,0,1766,1,{"$f":"_xlfn.XLOOKUP($G1285,[1]demo_data!$G$5:$G$2257,[1]demo_data!$I$5:$I$2257)","v":6190}]
[1296,"Côte d'Ivoire","CIV","INDENIE-DJUABLIN","ABENGOUROU",15379,"CHR","Modérée",5278,2421,7699,1,5278,2421,7699,2,{"$f":"_xlfn.XLOOKUP($G1286,[1]demo_data!$G$5:$G$2257,[1]demo_data!$I$5:$I$2257)","v":30680}]
[1297,"Côte d'Ivoire","CIV","INDENIE-DJUABLIN","ABENGOUROU",15379,"CSR ABRONAMOUE","Faible",2820,0,2820,1,2820,0,2820,1,{"$f":"_xlfn.XLOOKUP($G1287,[1]demo_data!$G$5:$G$2257,[1]demo_data!$I$5:$I$2257)","v":9890}]
[1298,"Côte d'Ivoire","CIV","INDENIE-DJUABLIN","ABENGOUROU",15379,"CSR ADOUKOFFIKRO","Faible",1088,0,1088,1,1088,0,1088,1,{"$f":"_xlfn.XLOOKUP($G1288,[1]demo_data!$G$5:$G$2257,[1]demo_data!$I$5:$I$2257)","v":3814}]
[1299,"Côte d'Ivoire","CIV","INDENIE-DJUABLIN","ABENGOUROU",15379,"CSR AMIANKOUASSIKRO","Faible",1851,0,1851,1,1851,0,1851,1,{"$f":"_xlfn.XLOOKUP($G1289,[1]demo_data!$G$5:$G$2257,[1]demo_data!$I$5:$I$2257)","v":6490}]
[1300,"Côte d'Ivoire","CIV","INDENIE-DJUABLIN","ABENGOUROU",15379,"CSR BEBOU","Faible",1696,0,1696,1,1696,0,1696,1,{"$f":"_xlfn.XLOOKUP($G1290,[1]demo_data!$G$5:$G$2257,[1]demo_data!$I$5:$I$2257)","v":5948}]
[1301,"Côte d'Ivoire","CIV","INDENIE-DJUABLIN","ABENGOUROU",15379,"CSR DJANGOBO","Faible",1926,0,1926,1,1926,0,1926,1,{"$f":"_xlfn.XLOOKUP($G1291,[1]demo_data!$G$5:$G$2257,[1]demo_data!$I$5:$I$2257)","v":6752}]
[1302,"Côte d'Ivoire","CIV","INDENIE-DJUABLIN","ABENGOUROU",15379,"CSR EHUASSO","Faible",2240,0,2240,1,2240,0,2240,1,{"$f":"_xlfn.XLOOKUP($G1292,[1]demo_data!$G$5:$G$2257,[1]demo_data!$I$5:$I$2257)","v":7853}]
[1303,"Côte d'Ivoire","CIV","INDENIE-DJUABLIN","ABENGOUROU",15379,"CSR ELINSO","Faible",1437,0,1437,1,1437,0,1437,1,{"$f":"_xlfn.XLOOKUP($G1293,[1]demo_data!$G$5:$G$2257,[1]demo_data!$I$5:$I$2257)","v":5041}]
[1304,"Côte d'Ivoire","CIV","INDENIE-DJUABLIN","ABENGOUROU",15379,"CSR KOITIENKRO","Faible",1620,0,1620,1,1620,0,1620,1,{"$f":"_xlfn.XLOOKUP($G1294,[1]demo_data!$G$5:$G$2257,[1]demo_data!$I$5:$I$2257)","v":5680}]
[1305,"Côte d'Ivoire","CIV","INDENIE-DJUABLIN","ABENGOUROU",15379,"CSR SATIKRAN","Faible",3648,0,3648,1,3648,0,3648,1,{"$f":"_xlfn.XLOOKUP($G1295,[1]demo_data!$G$5:$G$2257,[1]demo_data!$I$5:$I$2257)","v":12794}]
[1306,"Côte d'Ivoire","CIV","INDENIE-DJUABLIN","ABENGOUROU",15379,"CSR TAHAKRO","Faible",1127,0,1127,1,1127,0,1127,1,{"$f":"_xlfn.XLOOKUP($G1296,[1]demo_data!$G$5:$G$2257,[1]demo_data!$I$5:$I$2257)","v":3952}]
[1307,"Côte d'Ivoire","CIV","INDENIE-DJUABLIN","ABENGOUROU",15379,"CSU AFFALIKRO","Non endémique",0,0,0,0,0,0,0,0,{"$f":"_xlfn.XLOOKUP($G1297,[1]demo_data!$G$5:$G$2257,[1]demo_data!$I$5:$I$2257)","v":12700}]
[1308,"Côte d'Ivoire","CIV","INDENIE-DJUABLIN","ABENGOUROU",15379,"CSU AMELEKIA","Faible",3123,0,3123,1,3123,0,3123,1,{"$f":"_xlfn.XLOOKUP($G1298,[1]demo_data!$G$5:$G$2257,[1]demo_data!$I$5:$I$2257)","v":10952}]
[1309,"Côte d'Ivoire","CIV","INDENIE-DJUABLIN","ABENGOUROU",15379,"CSU ANIASSUE","Faible",3592,0,3592,1,3592,0,3592,1,{"$f":"_xlfn.XLOOKUP($G1299,[1]demo_data!$G$5:$G$2257,[1]demo_data!$I$5:$I$2257)","v":12596}]
[1310,"Côte d'Ivoire","CIV","INDENIE-DJUABLIN","ABENGOUROU",15379,"CSU APPOISSO","Faible",4554,0,4554,1,4554,0,4554,1,{"$f":"_xlfn.XLOOKUP($G1300,[1]demo_data!$G$5:$G$2257,[1]demo_data!$I$5:$I$2257)","v":15971}]
[1311,"Côte d'Ivoire","CIV","INDENIE-DJUABLIN","ABENGOUROU",15379,"CSU APPROMPRONOU","Faible",1529,0,1529,1,1529,0,1529,1,{"$f":"_xlfn.XLOOKUP($G1301,[1]demo_data!$G$5:$G$2257,[1]demo_data!$I$5:$I$2257)","v":5361}]
[1312,"Côte d'Ivoire","CIV","INDENIE-DJUABLIN","ABENGOUROU",15379,"CSU EBILASSOKRO","Non endémique",0,0,0,0,0,0,0,0,{"$f":"_xlfn.XLOOKUP($G1302,[1]demo_data!$G$5:$G$2257,[1]demo_data!$I$5:$I$2257)","v":19264}]
[1313,"Côte d'Ivoire","CIV","INDENIE-DJUABLIN","ABENGOUROU",15379,"CSU NIABLE","Non endémique",0,0,0,0,0,0,0,0,{"$f":"_xlfn.XLOOKUP($G1303,[1]demo_data!$G$5:$G$2257,[1]demo_data!$I$5:$I$2257)","v":21959}]
[1314,"Côte d'Ivoire","CIV","INDENIE-DJUABLIN","ABENGOUROU",15379,"CSU SANKADIOKRO","Faible",4907,0,4907,1,4907,0,4907,1,{"$f":"_xlfn.XLOOKUP($G1304,[1]demo_data!$G$5:$G$2257,[1]demo_data!$I$5:$I$2257)","v":17210}]
[1315,"Côte d'Ivoire","CIV","INDENIE-DJUABLIN","ABENGOUROU",15379,"CSU YAKASSE-FEYASSE","Faible",3657,0,3657,1,3657,0,3657,1,{"$f":"_xlfn.XLOOKUP($G1305,[1]demo_data!$G$5:$G$2257,[1]demo_data!$I$5:$I$2257)","v":12824}]
[1316,"Côte d'Ivoire","CIV","INDENIE-DJUABLIN","ABENGOUROU",15379,"CSU ZARANOU","Faible",4807,0,4807,1,4807,0,4807,1,{"$f":"_xlfn.XLOOKUP($G1306,[1]demo_data!$G$5:$G$2257,[1]demo_data!$I$5:$I$2257)","v":16855}]
[1317,"Côte d'Ivoire","CIV","INDENIE-DJUABLIN","ABENGOUROU",15379,"DISPENSAIRE DIOULAKRO","Faible",4544,0,4544,1,4544,0,4544,1,{"$f":"_xlfn.XLOOKUP($G1307,[1]demo_data!$G$5:$G$2257,[1]demo_data!$I$5:$I$2257)","v":15934}]
[1318,"Côte d'Ivoire","CIV","INDENIE-DJUABLIN","ABENGOUROU",15379,"DR ASSAKRO","Modérée",3247,1490,4737,1,3247,1490,4737,2,{"$f":"_xlfn.XLOOKUP($G1308,[1]demo_data!$G$5:$G$2257,[1]demo_data!$I$5:$I$2257)","v":11387}]
[1319,"Côte d'Ivoire","CIV","INDENIE-DJUABLIN","ABENGOUROU",15379,"DR BLEKOUM","Faible",1174,0,1174,1,1174,0,1174,1,{"$f":"_xlfn.XLOOKUP($G1309,[1]demo_data!$G$5:$G$2257,[1]demo_data!$I$5:$I$2257)","v":4116}]
[1320,"Côte d'Ivoire","CIV","INDENIE-DJUABLIN","ABENGOUROU",15379,"DR KODJINAN","Non endémique",0,0,0,0,0,0,0,0,{"$f":"_xlfn.XLOOKUP($G1310,[1]demo_data!$G$5:$G$2257,[1]demo_data!$I$5:$I$2257)","v":5767}]
[1321,"Côte d'Ivoire","CIV","INDENIE-DJUABLIN","ABENGOUROU",15379,"DR KOUASSIBENIEKRO","Faible",1092,0,1092,1,1092,0,1092,1,{"$f":"_xlfn.XLOOKUP($G1311,[1]demo_data!$G$5:$G$2257,[1]demo_data!$I$5:$I$2257)","v":3829}]
[1322,"Côte d'Ivoire","CIV","INDENIE-DJUABLIN","ABENGOUROU",15379,"DR PADIEGNAN","Faible",1104,0,1104,1,1104,0,1104,1,{"$f":"_xlfn.XLOOKUP($G1312,[1]demo_data!$G$5:$G$2257,[1]demo_data!$I$5:$I$2257)","v":3872}]
[1323,"Côte d'Ivoire","CIV","INDENIE-DJUABLIN","ABENGOUROU",15379,"DR ZOUHOUNOU","Non endémique",0,0,0,0,0,0,0,0,{"$f":"_xlfn.XLOOKUP($G1313,[1]demo_data!$G$5:$G$2257,[1]demo_data!$I$5:$I$2257)","v":7382}]
[1324,"Côte d'Ivoire","CIV","INDENIE-DJUABLIN","ABENGOUROU",15379,"HKB","Faible",2199,0,2199,1,2199,0,2199,1,{"$f":"_xlfn.XLOOKUP($G1314,[1]demo_data!$G$5:$G$2257,[1]demo_data!$I$5:$I$2257)","v":36811}]
[1325,"Côte d'Ivoire","CIV","INDENIE-DJUABLIN","ABENGOUROU",15379,"MATERNITE CAFETOU","Faible",3752,0,3752,1,3752,0,3752,1,{"$f":"_xlfn.XLOOKUP($G1315,[1]demo_data!$G$5:$G$2257,[1]demo_data!$I$5:$I$2257)","v":13157}]
[1326,"Côte d'Ivoire","CIV","INDENIE-DJUABLIN","ABENGOUROU",15379,"PIM (PLATEAU)","Faible",4332,0,4332,1,4332,0,4332,1,{"$f":"_xlfn.XLOOKUP($G1316,[1]demo_data!$G$5:$G$2257,[1]demo_data!$I$5:$I$2257)","v":15192}]
[1327,"Côte d'Ivoire","CIV","INDENIE-DJUABLIN","ABENGOUROU",15379,"PMI ABENGOUROU","Faible",5148,0,5148,1,5148,0,5148,1,{"$f":"_xlfn.XLOOKUP($G1317,[1]demo_data!$G$5:$G$2257,[1]demo_data!$I$5:$I$2257)","v":{"$error":"#N/A"}}]
[1328,"Côte d'Ivoire","CIV","INDENIE-DJUABLIN","AGNIBILEKROU",15380,"Centre Confessionnel Palazzolo","Faible",1144,0,1144,1,1144,0,1144,1,{"$f":"_xlfn.XLOOKUP($G1318,[1]demo_data!$G$5:$G$2257,[1]demo_data!$I$5:$I$2257)","v":4149}]
[1329,"Côte d'Ivoire","CIV","INDENIE-DJUABLIN","AGNIBILEKROU",15380,"CENTRE SOCIAL","Faible",2770,0,2770,1,2770,0,2770,1,{"$f":"_xlfn.XLOOKUP($G1319,[1]demo_data!$G$5:$G$2257,[1]demo_data!$I$5:$I$2257)","v":9877}]
[1330,"Côte d'Ivoire","CIV","INDENIE-DJUABLIN","AGNIBILEKROU",15380,"CSR Agnanfoutou","Non endémique",0,0,0,0,0,0,0,0,{"$f":"_xlfn.XLOOKUP($G1320,[1]demo_data!$G$5:$G$2257,[1]demo_data!$I$5:$I$2257)","v":2917}]
[1331,"Côte d'Ivoire","CIV","INDENIE-DJUABLIN","AGNIBILEKROU",15380,"CSR Amoriakro","Faible",3371,0,3371,1,3371,0,3371,1,{"$f":"_xlfn.XLOOKUP($G1321,[1]demo_data!$G$5:$G$2257,[1]demo_data!$I$5:$I$2257)","v":12231}]
[1332,"Côte d'Ivoire","CIV","INDENIE-DJUABLIN","AGNIBILEKROU",15380,"CSR Assuamé","Non endémique",0,0,0,0,0,0,0,0,{"$f":"_xlfn.XLOOKUP($G1322,[1]demo_data!$G$5:$G$2257,[1]demo_data!$I$5:$I$2257)","v":6954}]
[1333,"Côte d'Ivoire","CIV","INDENIE-DJUABLIN","AGNIBILEKROU",15380,"CSR Bangoua","Faible",2335,0,2335,1,2335,0,2335,1,{"$f":"_xlfn.XLOOKUP($G1323,[1]demo_data!$G$5:$G$2257,[1]demo_data!$I$5:$I$2257)","v":8470}]
[1334,"Côte d'Ivoire","CIV","INDENIE-DJUABLIN","AGNIBILEKROU",15380,"CSR Manzanouan","Faible",4148,0,4148,1,4148,0,4148,1,{"$f":"_xlfn.XLOOKUP($G1324,[1]demo_data!$G$5:$G$2257,[1]demo_data!$I$5:$I$2257)","v":15048}]
[1335,"Côte d'Ivoire","CIV","INDENIE-DJUABLIN","AGNIBILEKROU",15380,"CSR N'GUESSANKRO","Faible",904,0,904,1,904,0,904,1,{"$f":"_xlfn.XLOOKUP($G1325,[1]demo_data!$G$5:$G$2257,[1]demo_data!$I$5:$I$2257)","v":5763}]
[1336,"Côte d'Ivoire","CIV","INDENIE-DJUABLIN","AGNIBILEKROU",15380,"CSR Nianda","Faible",1248,0,1248,1,1248,0,1248,1,{"$f":"_xlfn.XLOOKUP($G1326,[1]demo_data!$G$5:$G$2257,[1]demo_data!$I$5:$I$2257)","v":4527}]
[1337,"Côte d'Ivoire","CIV","INDENIE-DJUABLIN","AGNIBILEKROU",15380,"CSR Siakakro","Faible",2662,0,2662,1,2662,0,2662,1,{"$f":"_xlfn.XLOOKUP($G1327,[1]demo_data!$G$5:$G$2257,[1]demo_data!$I$5:$I$2257)","v":9656}]
[1338,"Côte d'Ivoire","CIV","INDENIE-DJUABLIN","AGNIBILEKROU",15380,"CSR Yobouakro","Modérée",2848,1307,4155,1,2848,1307,4155,2,{"$f":"_xlfn.XLOOKUP($G1328,[1]demo_data!$G$5:$G$2257,[1]demo_data!$I$5:$I$2257)","v":10332}]
[1339,"Côte d'Ivoire","CIV","INDENIE-DJUABLIN","AGNIBILEKROU",15380,"CSU Akoboissué","Faible",2469,0,2469,1,2469,0,2469,1,{"$f":"_xlfn.XLOOKUP($G1329,[1]demo_data!$G$5:$G$2257,[1]demo_data!$I$5:$I$2257)","v":8953}]
[1340,"Côte d'Ivoire","CIV","INDENIE-DJUABLIN","AGNIBILEKROU",15380,"CSU Damé","Non endémique",0,0,0,0,0,0,0,0,{"$f":"_xlfn.XLOOKUP($G1330,[1]demo_data!$G$5:$G$2257,[1]demo_data!$I$5:$I$2257)","v":17321}]
[1341,"Côte d'Ivoire","CIV","INDENIE-DJUABLIN","AGNIBILEKROU",15380,"CSU Duffrèbo","Non endémique",0,0,0,0,0,0,0,0,{"$f":"_xlfn.XLOOKUP($G1331,[1]demo_data!$G$5:$G$2257,[1]demo_data!$I$5:$I$2257)","v":12152}]
[1342,"Côte d'Ivoire","CIV","INDENIE-DJUABLIN","AGNIBILEKROU",15380,"CSU Tanguelan","Faible",2361,0,2361,1,2361,0,2361,1,{"$f":"_xlfn.XLOOKUP($G1332,[1]demo_data!$G$5:$G$2257,[1]demo_data!$I$5:$I$2257)","v":8564}]
[1343,"Côte d'Ivoire","CIV","INDENIE-DJUABLIN","AGNIBILEKROU",15380,"DR Ayénou","Faible",505,0,505,1,505,0,505,1,{"$f":"_xlfn.XLOOKUP($G1333,[1]demo_data!$G$5:$G$2257,[1]demo_data!$I$5:$I$2257)","v":1830}]
[1344,"Côte d'Ivoire","CIV","INDENIE-DJUABLIN","AGNIBILEKROU",15380,"DR Comoé-N'Danou","Faible",1547,0,1547,1,1547,0,1547,1,{"$f":"_xlfn.XLOOKUP($G1334,[1]demo_data!$G$5:$G$2257,[1]demo_data!$I$5:$I$2257)","v":5612}]
[1345,"Côte d'Ivoire","CIV","INDENIE-DJUABLIN","AGNIBILEKROU",15380,"DR Kokonou","Faible",1169,0,1169,1,1169,0,1169,1,{"$f":"_xlfn.XLOOKUP($G1335,[1]demo_data!$G$5:$G$2257,[1]demo_data!$I$5:$I$2257)","v":4240}]
[1346,"Côte d'Ivoire","CIV","INDENIE-DJUABLIN","AGNIBILEKROU",15380,"DR Kongodia","Faible",1497,0,1497,1,1497,0,1497,1,{"$f":"_xlfn.XLOOKUP($G1336,[1]demo_data!$G$5:$G$2257,[1]demo_data!$I$5:$I$2257)","v":5432}]
[1347,"Côte d'Ivoire","CIV","INDENIE-DJUABLIN","AGNIBILEKROU",15380,"DR Kotokosso","Faible",1636,0,1636,1,1636,0,1636,1,{"$f":"_xlfn.XLOOKUP($G1337,[1]demo_data!$G$5:$G$2257,[1]demo_data!$I$5:$I$2257)","v":5934}]
[1348,"Côte d'Ivoire","CIV","INDENIE-DJUABLIN","AGNIBILEKROU",15380,"DR N'Gra","Faible",718,0,718,1,718,0,718,1,{"$f":"_xlfn.XLOOKUP($G1338,[1]demo_data!$G$5:$G$2257,[1]demo_data!$I$5:$I$2257)","v":2606}]
[1349,"Côte d'Ivoire","CIV","INDENIE-DJUABLIN","AGNIBILEKROU",15380,"HG AGNIBILEKROU","Modérée",3497,1604,5101,1,3497,1604,5101,2,{"$f":"_xlfn.XLOOKUP($G1339,[1]demo_data!$G$5:$G$2257,[1]demo_data!$I$5:$I$2257)","v":12683}]
[1350,"Côte d'Ivoire","CIV","INDENIE-DJUABLIN","AGNIBILEKROU",15380,"PMI","Faible",6289,0,6289,1,6289,0,6289,1,{"$f":"_xlfn.XLOOKUP($G1340,[1]demo_data!$G$5:$G$2257,[1]demo_data!$I$5:$I$2257)","v":34689}]
[1351,"Côte d'Ivoire","CIV","INDENIE-DJUABLIN","BETTIE",15381,"Abradinou","Non endémique",0,0,0,0,0,0,0,0,{"$f":"_xlfn.XLOOKUP($G1341,[1]demo_data!$G$5:$G$2257,[1]demo_data!$I$5:$I$2257)","v":8164}]
[1352,"Côte d'Ivoire","CIV","INDENIE-DJUABLIN","BETTIE",15381,"Akacomoékro","Non endémique",0,0,0,0,0,0,0,0,{"$f":"_xlfn.XLOOKUP($G1342,[1]demo_data!$G$5:$G$2257,[1]demo_data!$I$5:$I$2257)","v":5949}]
[1354,"Côte d'Ivoire","CIV","INDENIE-DJUABLIN","BETTIE",15381,"Attiékro","Faible",2577,0,2577,1,2577,0,2577,1,{"$f":"_xlfn.XLOOKUP($G1343,[1]demo_data!$G$5:$G$2257,[1]demo_data!$I$5:$I$2257)","v":9350}]
[1355,"Côte d'Ivoire","CIV","INDENIE-DJUABLIN","BETTIE",15381,"Bettié","Faible",3614,0,3614,1,3614,0,3614,1,{"$f":"_xlfn.XLOOKUP($G1344,[1]demo_data!$G$5:$G$2257,[1]demo_data!$I$5:$I$2257)","v":13109}]
[1356,"Côte d'Ivoire","CIV","INDENIE-DJUABLIN","BETTIE",15381,"Borobo","Faible",1000,0,1000,1,1000,0,1000,1,{"$f":"_xlfn.XLOOKUP($G1345,[1]demo_data!$G$5:$G$2257,[1]demo_data!$I$5:$I$2257)","v":3631}]
[1353,"Côte d'Ivoire","CIV","INDENIE-DJUABLIN","BETTIE",15381,"CSR Apprompron Afewa","Modérée",2694,1236,3930,1,2694,1236,3930,2,{"$f":"_xlfn.XLOOKUP($G1346,[1]demo_data!$G$5:$G$2257,[1]demo_data!$I$5:$I$2257)","v":9772}]
[1357,"Côte d'Ivoire","CIV","INDENIE-DJUABLIN","BETTIE",15381,"Diamarakro","Non endémique",0,0,0,0,0,0,0,0,{"$f":"_xlfn.XLOOKUP($G1347,[1]demo_data!$G$5:$G$2257,[1]demo_data!$I$5:$I$2257)","v":6309}]
[1358,"Côte d'Ivoire","CIV","INDENIE-DJUABLIN","BETTIE",15381,"SAPH","Non endémique",0,0,0,0,0,0,0,0,{"$f":"_xlfn.XLOOKUP($G1348,[1]demo_data!$G$5:$G$2257,[1]demo_data!$I$5:$I$2257)","v":11125}]
[1359,"Côte d'Ivoire","CIV","INDENIE-DJUABLIN","BETTIE",15381,"SSSU-SAJ","Faible",1495,0,1495,1,1495,0,1495,1,{"$f":"_xlfn.XLOOKUP($G1349,[1]demo_data!$G$5:$G$2257,[1]demo_data!$I$5:$I$2257)","v":5423}]
[1385,"Côte d'Ivoire","CIV","KABADOUGOU","ODIENNE",15439,"CHR ODIENNE","Faible",1089,0,1089,1,1089,0,1089,1,{"$f":"_xlfn.XLOOKUP($G1350,[1]demo_data!$G$5:$G$2257,[1]demo_data!$I$5:$I$2257)","v":5182}]
[1386,"Côte d'Ivoire","CIV","KABADOUGOU","ODIENNE",15439,"CS PIETRO BONILI","Faible",3930,0,3930,1,3930,0,3930,1,{"$f":"_xlfn.XLOOKUP($G1351,[1]demo_data!$G$5:$G$2257,[1]demo_data!$I$5:$I$2257)","v":18696}]
[1387,"Côte d'Ivoire","CIV","KABADOUGOU","ODIENNE",15439,"CSR GBONGAHA","Faible",795,0,795,1,795,0,795,1,{"$f":"_xlfn.XLOOKUP($G1352,[1]demo_data!$G$5:$G$2257,[1]demo_data!$I$5:$I$2257)","v":3784}]
[1388,"Côte d'Ivoire","CIV","KABADOUGOU","ODIENNE",15439,"CSR KAHANSO","Non endémique",0,0,0,0,0,0,0,0,{"$f":"_xlfn.XLOOKUP($G1353,[1]demo_data!$G$5:$G$2257,[1]demo_data!$I$5:$I$2257)","v":5651}]
[1389,"Côte d'Ivoire","CIV","KABADOUGOU","ODIENNE",15439,"CSR KIMBIRILA SUD","Faible",1403,0,1403,1,1403,0,1403,1,{"$f":"_xlfn.XLOOKUP($G1354,[1]demo_data!$G$5:$G$2257,[1]demo_data!$I$5:$I$2257)","v":6673}]
[1390,"Côte d'Ivoire","CIV","KABADOUGOU","ODIENNE",15439,"CSR KOKOUN","Faible",1783,0,1783,1,1783,0,1783,1,{"$f":"_xlfn.XLOOKUP($G1355,[1]demo_data!$G$5:$G$2257,[1]demo_data!$I$5:$I$2257)","v":8485}]
[1391,"Côte d'Ivoire","CIV","KABADOUGOU","ODIENNE",15439,"CSR LINGOHO","Faible",488,0,488,1,488,0,488,1,{"$f":"_xlfn.XLOOKUP($G1356,[1]demo_data!$G$5:$G$2257,[1]demo_data!$I$5:$I$2257)","v":2325}]
[1392,"Côte d'Ivoire","CIV","KABADOUGOU","ODIENNE",15439,"CSR N'GOLOBLASSO","Faible",811,0,811,1,811,0,811,1,{"$f":"_xlfn.XLOOKUP($G1357,[1]demo_data!$G$5:$G$2257,[1]demo_data!$I$5:$I$2257)","v":3858}]
[1393,"Côte d'Ivoire","CIV","KABADOUGOU","ODIENNE",15439,"CSR SALONKOURANI","Faible",201,0,201,1,201,0,201,1,{"$f":"_xlfn.XLOOKUP($G1358,[1]demo_data!$G$5:$G$2257,[1]demo_data!$I$5:$I$2257)","v":957}]
[1394,"Côte d'Ivoire","CIV","KABADOUGOU","ODIENNE",15439,"CSR SAMANGO","Faible",480,0,480,1,480,0,480,1,{"$f":"_xlfn.XLOOKUP($G1359,[1]demo_data!$G$5:$G$2257,[1]demo_data!$I$5:$I$2257)","v":2283}]
[1395,"Côte d'Ivoire","CIV","KABADOUGOU","ODIENNE",15439,"CSR SOKORODOUGOU","Faible",1022,0,1022,1,1022,0,1022,1,{"$f":"_xlfn.XLOOKUP($G1360,[1]demo_data!$G$5:$G$2257,[1]demo_data!$I$5:$I$2257)","v":4861}]
[1396,"Côte d'Ivoire","CIV","KABADOUGOU","ODIENNE",15439,"CSU BAKO","Faible",1687,0,1687,1,1687,0,1687,1,{"$f":"_xlfn.XLOOKUP($G1361,[1]demo_data!$G$5:$G$2257,[1]demo_data!$I$5:$I$2257)","v":8027}]
[1397,"Côte d'Ivoire","CIV","KABADOUGOU","ODIENNE",15439,"CSU DIOULATIEDOUGOU","Faible",1431,0,1431,1,1431,0,1431,1,{"$f":"_xlfn.XLOOKUP($G1362,[1]demo_data!$G$5:$G$2257,[1]demo_data!$I$5:$I$2257)","v":6810}]
[1398,"Côte d'Ivoire","CIV","KABADOUGOU","ODIENNE",15439,"CSU GBELEBAN","Non endémique",0,0,0,0,0,0,0,0,{"$f":"_xlfn.XLOOKUP($G1363,[1]demo_data!$G$5:$G$2257,[1]demo_data!$I$5:$I$2257)","v":3397}]
[1399,"Côte d'Ivoire","CIV","KABADOUGOU","ODIENNE",15439,"CSU SEGUELON","Modérée",1293,593,1886,1,1293,593,1886,2,{"$f":"_xlfn.XLOOKUP($G1364,[1]demo_data!$G$5:$G$2257,[1]demo_data!$I$5:$I$2257)","v":6151}]
[1400,"Côte d'Ivoire","CIV","KABADOUGOU","ODIENNE",15439,"CSU SEYDOUGOU","Faible",994,0,994,1,994,0,994,1,{"$f":"_xlfn.XLOOKUP($G1365,[1]demo_data!$G$5:$G$2257,[1]demo_data!$I$5:$I$2257)","v":4732}]
[1401,"Côte d'Ivoire","CIV","KABADOUGOU","ODIENNE",15439,"CSU TIEME","Faible",1783,0,1783,1,1783,0,1783,1,{"$f":"_xlfn.XLOOKUP($G1366,[1]demo_data!$G$5:$G$2257,[1]demo_data!$I$5:$I$2257)","v":8482}]
[1402,"Côte d'Ivoire","CIV","KABADOUGOU","ODIENNE",15439,"DISTRICT","Faible",1548,0,1548,1,1548,0,1548,1,{"$f":"_xlfn.XLOOKUP($G1367,[1]demo_data!$G$5:$G$2257,[1]demo_data!$I$5:$I$2257)","v":7367}]
[1403,"Côte d'Ivoire","CIV","KABADOUGOU","ODIENNE",15439,"DR BOUGOUSSO","Non endémique",0,0,0,0,0,0,0,0,{"$f":"_xlfn.XLOOKUP($G1368,[1]demo_data!$G$5:$G$2257,[1]demo_data!$I$5:$I$2257)","v":7078}]
[1404,"Côte d'Ivoire","CIV","KABADOUGOU","ODIENNE",15439,"DR DABADOUGOU MAFELE","Faible",639,0,639,1,639,0,639,1,{"$f":"_xlfn.XLOOKUP($G1369,[1]demo_data!$G$5:$G$2257,[1]demo_data!$I$5:$I$2257)","v":3043}]
[1405,"Côte d'Ivoire","CIV","KABADOUGOU","ODIENNE",15439,"DR DABADOUGOU NONHOLLO","Faible",490,0,490,1,490,0,490,1,{"$f":"_xlfn.XLOOKUP($G1370,[1]demo_data!$G$5:$G$2257,[1]demo_data!$I$5:$I$2257)","v":2335}]
[1406,"Côte d'Ivoire","CIV","KABADOUGOU","ODIENNE",15439,"DR FARAKORO","Faible",455,0,455,1,455,0,455,1,{"$f":"_xlfn.XLOOKUP($G1371,[1]demo_data!$G$5:$G$2257,[1]demo_data!$I$5:$I$2257)","v":2161}]
[1407,"Côte d'Ivoire","CIV","KABADOUGOU","ODIENNE",15439,"DR FENGOLO","Non endémique",0,0,0,0,0,0,0,0,{"$f":"_xlfn.XLOOKUP($G1372,[1]demo_data!$G$5:$G$2257,[1]demo_data!$I$5:$I$2257)","v":6325}]
[1408,"Côte d'Ivoire","CIV","KABADOUGOU","ODIENNE",15439,"DR FEREMANDOUGOU","Non endémique",0,0,0,0,0,0,0,0,{"$f":"_xlfn.XLOOKUP($G1373,[1]demo_data!$G$5:$G$2257,[1]demo_data!$I$5:$I$2257)","v":2823}]
[1409,"Côte d'Ivoire","CIV","KABADOUGOU","ODIENNE",15439,"DR FOULA","Faible",406,0,406,1,406,0,406,1,{"$f":"_xlfn.XLOOKUP($G1374,[1]demo_data!$G$5:$G$2257,[1]demo_data!$I$5:$I$2257)","v":1934}]
[1410,"Côte d'Ivoire","CIV","KABADOUGOU","ODIENNE",15439,"DR IRADOUGOU","Faible",145,0,145,1,145,0,145,1,{"$f":"_xlfn.XLOOKUP($G1375,[1]demo_data!$G$5:$G$2257,[1]demo_data!$I$5:$I$2257)","v":688}]
[1411,"Côte d'Ivoire","CIV","KABADOUGOU","ODIENNE",15439,"DR KABALA","Faible",814,0,814,1,814,0,814,1,{"$f":"_xlfn.XLOOKUP($G1376,[1]demo_data!$G$5:$G$2257,[1]demo_data!$I$5:$I$2257)","v":3873}]
[1412,"Côte d'Ivoire","CIV","KABADOUGOU","ODIENNE",15439,"DR KARABIRI","Faible",353,0,353,1,353,0,353,1,{"$f":"_xlfn.XLOOKUP($G1377,[1]demo_data!$G$5:$G$2257,[1]demo_data!$I$5:$I$2257)","v":1678}]
[1413,"Côte d'Ivoire","CIV","KABADOUGOU","ODIENNE",15439,"DR KONA","Faible",413,0,413,1,413,0,413,1,{"$f":"_xlfn.XLOOKUP($G1378,[1]demo_data!$G$5:$G$2257,[1]demo_data!$I$5:$I$2257)","v":1970}]
[1414,"Côte d'Ivoire","CIV","KABADOUGOU","ODIENNE",15439,"DR KOROUMBA","Faible",597,0,597,1,597,0,597,1,{"$f":"_xlfn.XLOOKUP($G1379,[1]demo_data!$G$5:$G$2257,[1]demo_data!$I$5:$I$2257)","v":2840}]
[1415,"Côte d'Ivoire","CIV","KABADOUGOU","ODIENNE",15439,"DR KROUKRO MAFELE","Faible",503,0,503,1,503,0,503,1,{"$f":"_xlfn.XLOOKUP($G1380,[1]demo_data!$G$5:$G$2257,[1]demo_data!$I$5:$I$2257)","v":2391}]
[1416,"Côte d'Ivoire","CIV","KABADOUGOU","ODIENNE",15439,"DR MAMOUGOULA","Faible",289,0,289,1,289,0,289,1,{"$f":"_xlfn.XLOOKUP($G1381,[1]demo_data!$G$5:$G$2257,[1]demo_data!$I$5:$I$2257)","v":1375}]
[1417,"Côte d'Ivoire","CIV","KABADOUGOU","ODIENNE",15439,"DR NAFANA SIENSO","Faible",727,0,727,1,727,0,727,1,{"$f":"_xlfn.XLOOKUP($G1382,[1]demo_data!$G$5:$G$2257,[1]demo_data!$I$5:$I$2257)","v":3460}]
[1418,"Côte d'Ivoire","CIV","KABADOUGOU","ODIENNE",15439,"DR NINGOUN","Faible",154,0,154,1,154,0,154,1,{"$f":"_xlfn.XLOOKUP($G1383,[1]demo_data!$G$5:$G$2257,[1]demo_data!$I$5:$I$2257)","v":733}]
[1419,"Côte d'Ivoire","CIV","KABADOUGOU","ODIENNE",15439,"DR SANOGOBRA MAFELE","Faible",225,0,225,1,225,0,225,1,{"$f":"_xlfn.XLOOKUP($G1384,[1]demo_data!$G$5:$G$2257,[1]demo_data!$I$5:$I$2257)","v":1071}]
[1420,"Côte d'Ivoire","CIV","KABADOUGOU","ODIENNE",15439,"DR SIRANA","Faible",512,0,512,1,512,0,512,1,{"$f":"_xlfn.XLOOKUP($G1385,[1]demo_data!$G$5:$G$2257,[1]demo_data!$I$5:$I$2257)","v":2439}]
[1421,"Côte d'Ivoire","CIV","KABADOUGOU","ODIENNE",15439,"DR SIREBA","Faible",300,0,300,1,300,0,300,1,{"$f":"_xlfn.XLOOKUP($G1386,[1]demo_data!$G$5:$G$2257,[1]demo_data!$I$5:$I$2257)","v":1424}]
[1422,"Côte d'Ivoire","CIV","KABADOUGOU","ODIENNE",15439,"DR TAHANSO","Faible",239,0,239,1,239,0,239,1,{"$f":"_xlfn.XLOOKUP($G1387,[1]demo_data!$G$5:$G$2257,[1]demo_data!$I$5:$I$2257)","v":1138}]
[1423,"Côte d'Ivoire","CIV","KABADOUGOU","ODIENNE",15439,"DR ZANGOHOBA","Modérée",232,107,339,1,232,107,339,2,{"$f":"_xlfn.XLOOKUP($G1388,[1]demo_data!$G$5:$G$2257,[1]demo_data!$I$5:$I$2257)","v":1104}]
[1424,"Côte d'Ivoire","CIV","KABADOUGOU","ODIENNE",15439,"DR ZEBENIN","Faible",288,0,288,1,288,0,288,1,{"$f":"_xlfn.XLOOKUP($G1389,[1]demo_data!$G$5:$G$2257,[1]demo_data!$I$5:$I$2257)","v":1370}]
[1425,"Côte d'Ivoire","CIV","KABADOUGOU","ODIENNE",15439,"DR ZEBGAO","Faible",283,0,283,1,283,0,283,1,{"$f":"_xlfn.XLOOKUP($G1390,[1]demo_data!$G$5:$G$2257,[1]demo_data!$I$5:$I$2257)","v":1348}]
[1426,"Côte d'Ivoire","CIV","KABADOUGOU","ODIENNE",15439,"DR ZIGUITIELA","Faible",711,0,711,1,711,0,711,1,{"$f":"_xlfn.XLOOKUP($G1391,[1]demo_data!$G$5:$G$2257,[1]demo_data!$I$5:$I$2257)","v":3386}]
[1427,"Côte d'Ivoire","CIV","KABADOUGOU","ODIENNE",15439,"HG MADINANI","Modérée",2830,1298,4128,1,2830,1298,4128,2,{"$f":"_xlfn.XLOOKUP($G1392,[1]demo_data!$G$5:$G$2257,[1]demo_data!$I$5:$I$2257)","v":13466}]
[1428,"Côte d'Ivoire","CIV","KABADOUGOU","ODIENNE",15439,"HG SAMATIGUILA","Faible",1719,0,1719,1,1719,0,1719,1,{"$f":"_xlfn.XLOOKUP($G1393,[1]demo_data!$G$5:$G$2257,[1]demo_data!$I$5:$I$2257)","v":8175}]
[1429,"Côte d'Ivoire","CIV","KABADOUGOU","ODIENNE",15439,"PMI/MATERNITE URBAINE","Non endémique",0,0,0,0,0,0,0,0,{"$f":"_xlfn.XLOOKUP($G1394,[1]demo_data!$G$5:$G$2257,[1]demo_data!$I$5:$I$2257)","v":28380}]
[1430,"Côte d'Ivoire","CIV","KABADOUGOU","ODIENNE",15439,"SSSU-SAJ","Faible",1545,0,1545,1,1545,0,1545,1,{"$f":"_xlfn.XLOOKUP($G1395,[1]demo_data!$G$5:$G$2257,[1]demo_data!$I$5:$I$2257)","v":5423}]
[1431,"Côte d'Ivoire","CIV","KABADOUGOU","ODIENNE",15439,"YANKAFISSA","Faible",413,0,413,1,413,0,413,1,{"$f":"_xlfn.XLOOKUP($G1396,[1]demo_data!$G$5:$G$2257,[1]demo_data!$I$5:$I$2257)","v":1970}]
[1464,"Côte d'Ivoire","CIV","LOH-DJIBOUA","DIVO",15385,"AGBAHOU","Modérée",656,301,957,0,0,0,0,2,{"$f":"_xlfn.XLOOKUP($G1397,[1]demo_data!$G$5:$G$2257,[1]demo_data!$I$5:$I$2257)","v":2548}]
[1465,"Côte d'Ivoire","CIV","LOH-DJIBOUA","DIVO",15385,"AKABIA","Modérée",1543,708,2251,0,0,0,0,2,{"$f":"_xlfn.XLOOKUP($G1398,[1]demo_data!$G$5:$G$2257,[1]demo_data!$I$5:$I$2257)","v":5995}]
[1466,"Côte d'Ivoire","CIV","LOH-DJIBOUA","DIVO",15385,"BRABODOUGOU","Modérée",435,199,634,0,0,0,0,2,{"$f":"_xlfn.XLOOKUP($G1399,[1]demo_data!$G$5:$G$2257,[1]demo_data!$I$5:$I$2257)","v":1688}]
[1467,"Côte d'Ivoire","CIV","LOH-DJIBOUA","DIVO",15385,"CHIEPO","Modérée",6253,2869,9122,0,0,0,0,2,{"$f":"_xlfn.XLOOKUP($G1400,[1]demo_data!$G$5:$G$2257,[1]demo_data!$I$5:$I$2257)","v":24298}]
[1468,"Côte d'Ivoire","CIV","LOH-DJIBOUA","DIVO",15385,"CNRA","Modérée",1396,640,2036,0,0,0,0,2,{"$f":"_xlfn.XLOOKUP($G1401,[1]demo_data!$G$5:$G$2257,[1]demo_data!$I$5:$I$2257)","v":5423}]
[1469,"Côte d'Ivoire","CIV","LOH-DJIBOUA","DIVO",15385,"DAAKO","Modérée",1838,843,2681,0,0,0,0,2,{"$f":"_xlfn.XLOOKUP($G1402,[1]demo_data!$G$5:$G$2257,[1]demo_data!$I$5:$I$2257)","v":7139}]
[1470,"Côte d'Ivoire","CIV","LOH-DJIBOUA","DIVO",15385,"DAGROM","Modérée",847,389,1236,0,0,0,0,2,{"$f":"_xlfn.XLOOKUP($G1403,[1]demo_data!$G$5:$G$2257,[1]demo_data!$I$5:$I$2257)","v":3292}]
[1471,"Côte d'Ivoire","CIV","LOH-DJIBOUA","DIVO",15385,"DATTA","Forte",2065,4737,6802,1,2065,4737,6802,3,{"$f":"_xlfn.XLOOKUP($G1404,[1]demo_data!$G$5:$G$2257,[1]demo_data!$I$5:$I$2257)","v":8022}]
[1472,"Côte d'Ivoire","CIV","LOH-DJIBOUA","DIVO",15385,"DIDOKO","Forte",4794,10999,15793,1,4794,10999,15793,3,{"$f":"_xlfn.XLOOKUP($G1405,[1]demo_data!$G$5:$G$2257,[1]demo_data!$I$5:$I$2257)","v":18628}]
[1473,"Côte d'Ivoire","CIV","LOH-DJIBOUA","DIVO",15385,"DIVO AMDSP","Modérée",4386,2012,6398,0,0,0,0,2,{"$f":"_xlfn.XLOOKUP($G1406,[1]demo_data!$G$5:$G$2257,[1]demo_data!$I$5:$I$2257)","v":17042}]
[1474,"Côte d'Ivoire","CIV","LOH-DJIBOUA","DIVO",15385,"DIVO Centre Social","Modérée",5930,2721,8651,0,0,0,0,2,{"$f":"_xlfn.XLOOKUP($G1407,[1]demo_data!$G$5:$G$2257,[1]demo_data!$I$5:$I$2257)","v":23040}]
[1475,"Côte d'Ivoire","CIV","LOH-DJIBOUA","DIVO",15385,"DIVO CNPS","Modérée",2587,1187,3774,0,0,0,0,2,{"$f":"_xlfn.XLOOKUP($G1408,[1]demo_data!$G$5:$G$2257,[1]demo_data!$I$5:$I$2257)","v":10049}]
[1476,"Côte d'Ivoire","CIV","LOH-DJIBOUA","DIVO",15385,"DIVO Disp Urbain","Modérée",5006,2297,7303,0,0,0,0,2,{"$f":"_xlfn.XLOOKUP($G1409,[1]demo_data!$G$5:$G$2257,[1]demo_data!$I$5:$I$2257)","v":19450}]
[1477,"Côte d'Ivoire","CIV","LOH-DJIBOUA","DIVO",15385,"DIVO Mté El RAPHA","Modérée",1183,543,1726,0,0,0,0,2,{"$f":"_xlfn.XLOOKUP($G1410,[1]demo_data!$G$5:$G$2257,[1]demo_data!$I$5:$I$2257)","v":4598}]
[1478,"Côte d'Ivoire","CIV","LOH-DJIBOUA","DIVO",15385,"DIVO NDA","Modérée",3419,1569,4988,0,0,0,0,2,{"$f":"_xlfn.XLOOKUP($G1411,[1]demo_data!$G$5:$G$2257,[1]demo_data!$I$5:$I$2257)","v":13282}]
[1479,"Côte d'Ivoire","CIV","LOH-DJIBOUA","DIVO",15385,"DIVO PMI","Modérée",9317,4274,13591,0,0,0,0,2,{"$f":"_xlfn.XLOOKUP($G1412,[1]demo_data!$G$5:$G$2257,[1]demo_data!$I$5:$I$2257)","v":36201}]
[1480,"Côte d'Ivoire","CIV","LOH-DJIBOUA","DIVO",15385,"DJIDJIDOU","Modérée",4061,1863,5924,0,0,0,0,2,{"$f":"_xlfn.XLOOKUP($G1413,[1]demo_data!$G$5:$G$2257,[1]demo_data!$I$5:$I$2257)","v":15778}]
[1481,"Côte d'Ivoire","CIV","LOH-DJIBOUA","DIVO",15385,"DOUAVILLE","Modérée",779,357,1136,0,0,0,0,2,{"$f":"_xlfn.XLOOKUP($G1414,[1]demo_data!$G$5:$G$2257,[1]demo_data!$I$5:$I$2257)","v":3025}]
[1482,"Côte d'Ivoire","CIV","LOH-DJIBOUA","DIVO",15385,"GBAGROUBE","Modérée",507,233,740,0,0,0,0,2,{"$f":"_xlfn.XLOOKUP($G1415,[1]demo_data!$G$5:$G$2257,[1]demo_data!$I$5:$I$2257)","v":1969}]
[1483,"Côte d'Ivoire","CIV","LOH-DJIBOUA","DIVO",15385,"GNAMA","Modérée",1377,632,2009,0,0,0,0,2,{"$f":"_xlfn.XLOOKUP($G1416,[1]demo_data!$G$5:$G$2257,[1]demo_data!$I$5:$I$2257)","v":5348}]
[1484,"Côte d'Ivoire","CIV","LOH-DJIBOUA","DIVO",15385,"GNEHIRI","Modérée",1981,909,2890,0,0,0,0,2,{"$f":"_xlfn.XLOOKUP($G1417,[1]demo_data!$G$5:$G$2257,[1]demo_data!$I$5:$I$2257)","v":7699}]
[1485,"Côte d'Ivoire","CIV","LOH-DJIBOUA","DIVO",15385,"GNIGUEDOUGOU","Modérée",1028,472,1500,0,0,0,0,2,{"$f":"_xlfn.XLOOKUP($G1418,[1]demo_data!$G$5:$G$2257,[1]demo_data!$I$5:$I$2257)","v":3996}]
[1486,"Côte d'Ivoire","CIV","LOH-DJIBOUA","DIVO",15385,"GODILEHIRI","Modérée",1255,576,1831,0,0,0,0,2,{"$f":"_xlfn.XLOOKUP($G1419,[1]demo_data!$G$5:$G$2257,[1]demo_data!$I$5:$I$2257)","v":4876}]
[1487,"Côte d'Ivoire","CIV","LOH-DJIBOUA","DIVO",15385,"GOGOBRO","Modérée",1327,608,1935,0,0,0,0,2,{"$f":"_xlfn.XLOOKUP($G1420,[1]demo_data!$G$5:$G$2257,[1]demo_data!$I$5:$I$2257)","v":5153}]
[1488,"Côte d'Ivoire","CIV","LOH-DJIBOUA","DIVO",15385,"GOUDI","Modérée",3047,1398,4445,0,0,0,0,2,{"$f":"_xlfn.XLOOKUP($G1421,[1]demo_data!$G$5:$G$2257,[1]demo_data!$I$5:$I$2257)","v":11841}]
[1489,"Côte d'Ivoire","CIV","LOH-DJIBOUA","DIVO",15385,"GROBIAKOKO","Modérée",1362,625,1987,0,0,0,0,2,{"$f":"_xlfn.XLOOKUP($G1422,[1]demo_data!$G$5:$G$2257,[1]demo_data!$I$5:$I$2257)","v":5289}]
[1490,"Côte d'Ivoire","CIV","LOH-DJIBOUA","DIVO",15385,"GROBIASSOUME","Modérée",1051,482,1533,0,0,0,0,2,{"$f":"_xlfn.XLOOKUP($G1423,[1]demo_data!$G$5:$G$2257,[1]demo_data!$I$5:$I$2257)","v":4083}]
[1491,"Côte d'Ivoire","CIV","LOH-DJIBOUA","DIVO",15385,"HERMANKONO GARO","Modérée",8901,4083,12984,0,0,0,0,2,{"$f":"_xlfn.XLOOKUP($G1424,[1]demo_data!$G$5:$G$2257,[1]demo_data!$I$5:$I$2257)","v":34582}]
[1492,"Côte d'Ivoire","CIV","LOH-DJIBOUA","DIVO",15385,"HIRE","Modérée",5394,2475,7869,0,0,0,0,2,{"$f":"_xlfn.XLOOKUP($G1425,[1]demo_data!$G$5:$G$2257,[1]demo_data!$I$5:$I$2257)","v":20958}]
[1493,"Côte d'Ivoire","CIV","LOH-DJIBOUA","DIVO",15385,"HIRE GRACE DIVINE","Modérée",1389,637,2026,0,0,0,0,2,{"$f":"_xlfn.XLOOKUP($G1426,[1]demo_data!$G$5:$G$2257,[1]demo_data!$I$5:$I$2257)","v":5397}]
[1494,"Côte d'Ivoire","CIV","LOH-DJIBOUA","DIVO",15385,"IROPORIA","Modérée",1929,884,2813,0,0,0,0,2,{"$f":"_xlfn.XLOOKUP($G1427,[1]demo_data!$G$5:$G$2257,[1]demo_data!$I$5:$I$2257)","v":7492}]
[1495,"Côte d'Ivoire","CIV","LOH-DJIBOUA","DIVO",15385,"KAGBE","Modérée",3003,1378,4381,0,0,0,0,2,{"$f":"_xlfn.XLOOKUP($G1428,[1]demo_data!$G$5:$G$2257,[1]demo_data!$I$5:$I$2257)","v":11666}]
[1496,"Côte d'Ivoire","CIV","LOH-DJIBOUA","DIVO",15385,"KPEREDI","Modérée",652,299,951,0,0,0,0,2,{"$f":"_xlfn.XLOOKUP($G1429,[1]demo_data!$G$5:$G$2257,[1]demo_data!$I$5:$I$2257)","v":2532}]
[1497,"Côte d'Ivoire","CIV","LOH-DJIBOUA","DIVO",15385,"KREZOUKOUE","Modérée",2753,1263,4016,0,0,0,0,2,{"$f":"_xlfn.XLOOKUP($G1430,[1]demo_data!$G$5:$G$2257,[1]demo_data!$I$5:$I$2257)","v":10695}]
[1498,"Côte d'Ivoire","CIV","LOH-DJIBOUA","DIVO",15385,"LABODOUGOU","Modérée",1429,656,2085,0,0,0,0,2,{"$f":"_xlfn.XLOOKUP($G1431,[1]demo_data!$G$5:$G$2257,[1]demo_data!$I$5:$I$2257)","v":5554}]
[1499,"Côte d'Ivoire","CIV","LOH-DJIBOUA","DIVO",15385,"LAGAZE","Modérée",778,357,1135,0,0,0,0,2,{"$f":"_xlfn.XLOOKUP($G1432,[1]demo_data!$G$5:$G$2257,[1]demo_data!$I$5:$I$2257)","v":3021}]
[1500,"Côte d'Ivoire","CIV","LOH-DJIBOUA","DIVO",15385,"NEBO","Modérée",1278,586,1864,0,0,0,0,2,{"$f":"_xlfn.XLOOKUP($G1433,[1]demo_data!$G$5:$G$2257,[1]demo_data!$I$5:$I$2257)","v":4965}]
[1501,"Côte d'Ivoire","CIV","LOH-DJIBOUA","DIVO",15385,"OGOUDOU","Modérée",5430,2491,7921,0,0,0,0,2,{"$f":"_xlfn.XLOOKUP($G1434,[1]demo_data!$G$5:$G$2257,[1]demo_data!$I$5:$I$2257)","v":21097}]
[1502,"Côte d'Ivoire","CIV","LOH-DJIBOUA","DIVO",15385,"PALMCI","Modérée",3093,1419,4512,0,0,0,0,2,{"$f":"_xlfn.XLOOKUP($G1435,[1]demo_data!$G$5:$G$2257,[1]demo_data!$I$5:$I$2257)","v":12018}]
[1503,"Côte d'Ivoire","CIV","LOH-DJIBOUA","DIVO",15385,"SAKOTA","Modérée",3085,1416,4501,0,0,0,0,2,{"$f":"_xlfn.XLOOKUP($G1436,[1]demo_data!$G$5:$G$2257,[1]demo_data!$I$5:$I$2257)","v":11988}]
[1504,"Côte d'Ivoire","CIV","LOH-DJIBOUA","DIVO",15385,"TABLEGUIKOU","Modérée",5618,2577,8195,0,0,0,0,2,{"$f":"_xlfn.XLOOKUP($G1437,[1]demo_data!$G$5:$G$2257,[1]demo_data!$I$5:$I$2257)","v":21829}]
[1505,"Côte d'Ivoire","CIV","LOH-DJIBOUA","DIVO",15385,"ZAROKO/BOAKAKO","Modérée",898,411,1309,0,0,0,0,2,{"$f":"_xlfn.XLOOKUP($G1438,[1]demo_data!$G$5:$G$2257,[1]demo_data!$I$5:$I$2257)","v":3487}]
[1506,"Côte d'Ivoire","CIV","LOH-DJIBOUA","DIVO",15385,"ZEGO","Modérée",2661,1221,3882,0,0,0,0,2,{"$f":"_xlfn.XLOOKUP($G1439,[1]demo_data!$G$5:$G$2257,[1]demo_data!$I$5:$I$2257)","v":10342}]
[1507,"Côte d'Ivoire","CIV","LOH-DJIBOUA","DIVO",15385,"ZEHIRI","Modérée",1008,463,1471,0,0,0,0,2,{"$f":"_xlfn.XLOOKUP($G1440,[1]demo_data!$G$5:$G$2257,[1]demo_data!$I$5:$I$2257)","v":3916}]
[1508,"Côte d'Ivoire","CIV","LOH-DJIBOUA","DIVO",15385,"ZIKI DIES","Modérée",1754,804,2558,0,0,0,0,2,{"$f":"_xlfn.XLOOKUP($G1441,[1]demo_data!$G$5:$G$2257,[1]demo_data!$I$5:$I$2257)","v":6816}]
[1524,"Côte d'Ivoire","CIV","LOH-DJIBOUA","GUITRY",15411,"CSR ADAHIDOUKOU","Modérée",3142,1442,4584,0,0,0,0,2,{"$f":"_xlfn.XLOOKUP($G1442,[1]demo_data!$G$5:$G$2257,[1]demo_data!$I$5:$I$2257)","v":8974}]
[1525,"Côte d'Ivoire","CIV","LOH-DJIBOUA","GUITRY",15411,"CSR GNAMBOUASSO","Modérée",2347,1077,3424,0,0,0,0,2,{"$f":"_xlfn.XLOOKUP($G1443,[1]demo_data!$G$5:$G$2257,[1]demo_data!$I$5:$I$2257)","v":6707}]
[1526,"Côte d'Ivoire","CIV","LOH-DJIBOUA","GUITRY",15411,"CSR KOUTA","Modérée",1082,497,1579,0,0,0,0,2,{"$f":"_xlfn.XLOOKUP($G1444,[1]demo_data!$G$5:$G$2257,[1]demo_data!$I$5:$I$2257)","v":3093}]
[1527,"Côte d'Ivoire","CIV","LOH-DJIBOUA","GUITRY",15411,"CSR TIOKO","Modérée",1161,532,1693,0,0,0,0,2,{"$f":"_xlfn.XLOOKUP($G1445,[1]demo_data!$G$5:$G$2257,[1]demo_data!$I$5:$I$2257)","v":3317}]
[1528,"Côte d'Ivoire","CIV","LOH-DJIBOUA","GUITRY",15411,"CSU DAIRO DIDIZO","Modérée",4641,2129,6770,0,0,0,0,2,{"$f":"_xlfn.XLOOKUP($G1446,[1]demo_data!$G$5:$G$2257,[1]demo_data!$I$5:$I$2257)","v":13256}]
[1529,"Côte d'Ivoire","CIV","LOH-DJIBOUA","GUITRY",15411,"CSU LAUZOUA","Modérée",6012,2759,8771,0,0,0,0,2,{"$f":"_xlfn.XLOOKUP($G1447,[1]demo_data!$G$5:$G$2257,[1]demo_data!$I$5:$I$2257)","v":17175}]
[1530,"Côte d'Ivoire","CIV","LOH-DJIBOUA","GUITRY",15411,"CSU TIEGBA","Modérée",8865,4067,12932,0,0,0,0,2,{"$f":"_xlfn.XLOOKUP($G1448,[1]demo_data!$G$5:$G$2257,[1]demo_data!$I$5:$I$2257)","v":25324}]
[1531,"Côte d'Ivoire","CIV","LOH-DJIBOUA","GUITRY",15411,"CSU YOCOBOUE","Modérée",8174,3750,11924,0,0,0,0,2,{"$f":"_xlfn.XLOOKUP($G1449,[1]demo_data!$G$5:$G$2257,[1]demo_data!$I$5:$I$2257)","v":23349}]
[1532,"Côte d'Ivoire","CIV","LOH-DJIBOUA","GUITRY",15411,"DR BABOKON APOLLO","Modérée",3020,1385,4405,0,0,0,0,2,{"$f":"_xlfn.XLOOKUP($G1450,[1]demo_data!$G$5:$G$2257,[1]demo_data!$I$5:$I$2257)","v":8625}]
[1533,"Côte d'Ivoire","CIV","LOH-DJIBOUA","GUITRY",15411,"DR TEHIRI","Modérée",972,445,1417,0,0,0,0,2,{"$f":"_xlfn.XLOOKUP($G1451,[1]demo_data!$G$5:$G$2257,[1]demo_data!$I$5:$I$2257)","v":2775}]
[1534,"Côte d'Ivoire","CIV","LOH-DJIBOUA","GUITRY",15411,"HOPITAL GENERAL GUITRY","Modérée",3494,1603,5097,0,0,0,0,2,{"$f":"_xlfn.XLOOKUP($G1452,[1]demo_data!$G$5:$G$2257,[1]demo_data!$I$5:$I$2257)","v":9980}]
[1535,"Côte d'Ivoire","CIV","LOH-DJIBOUA","GUITRY",15411,"PMI GUITRY","Modérée",3591,1648,5239,0,0,0,0,2,{"$f":"_xlfn.XLOOKUP($G1453,[1]demo_data!$G$5:$G$2257,[1]demo_data!$I$5:$I$2257)","v":10257}]
[1536,"Côte d'Ivoire","CIV","LOH-DJIBOUA","LAKOTA",15387," CSR NASSALILIE","Modérée",546,250,796,0,0,0,0,2,{"$f":"_xlfn.XLOOKUP($G1454,[1]demo_data!$G$5:$G$2257,[1]demo_data!$I$5:$I$2257)","v":2004}]
[1537,"Côte d'Ivoire","CIV","LOH-DJIBOUA","LAKOTA",15387,"CSR AKRIDOULADDE","Modérée",3697,1696,5393,0,0,0,0,2,{"$f":"_xlfn.XLOOKUP($G1455,[1]demo_data!$G$5:$G$2257,[1]demo_data!$I$5:$I$2257)","v":13579}]
[1538,"Côte d'Ivoire","CIV","LOH-DJIBOUA","LAKOTA",15387,"CSR BRIHIRI","Modérée",3945,1810,5755,0,0,0,0,2,{"$f":"_xlfn.XLOOKUP($G1456,[1]demo_data!$G$5:$G$2257,[1]demo_data!$I$5:$I$2257)","v":14491}]
[1539,"Côte d'Ivoire","CIV","LOH-DJIBOUA","LAKOTA",15387,"CSR DIEKOLILIE","Faible",1235,0,1235,0,0,0,0,1,{"$f":"_xlfn.XLOOKUP($G1457,[1]demo_data!$G$5:$G$2257,[1]demo_data!$I$5:$I$2257)","v":4537}]
[1540,"Côte d'Ivoire","CIV","LOH-DJIBOUA","LAKOTA",15387,"CSR DJIDJI","Faible",2015,0,2015,0,0,0,0,1,{"$f":"_xlfn.XLOOKUP($G1458,[1]demo_data!$G$5:$G$2257,[1]demo_data!$I$5:$I$2257)","v":7400}]
[1541,"Côte d'Ivoire","CIV","LOH-DJIBOUA","LAKOTA",15387,"CSR GAGORE","Modérée",1820,835,2655,0,0,0,0,2,{"$f":"_xlfn.XLOOKUP($G1459,[1]demo_data!$G$5:$G$2257,[1]demo_data!$I$5:$I$2257)","v":6685}]
[1542,"Côte d'Ivoire","CIV","LOH-DJIBOUA","LAKOTA",15387,"CSR GNAKOUBOUE","Faible",1417,0,1417,0,0,0,0,1,{"$f":"_xlfn.XLOOKUP($G1460,[1]demo_data!$G$5:$G$2257,[1]demo_data!$I$5:$I$2257)","v":5204}]
[1543,"Côte d'Ivoire","CIV","LOH-DJIBOUA","LAKOTA",15387,"CSR GODOU","Non endémique",0,0,0,0,0,0,0,0,{"$f":"_xlfn.XLOOKUP($G1461,[1]demo_data!$G$5:$G$2257,[1]demo_data!$I$5:$I$2257)","v":6081}]
[1544,"Côte d'Ivoire","CIV","LOH-DJIBOUA","LAKOTA",15387,"CSR GRAGBADAGOLILIE","Non endémique",0,0,0,0,0,0,0,0,{"$f":"_xlfn.XLOOKUP($G1462,[1]demo_data!$G$5:$G$2257,[1]demo_data!$I$5:$I$2257)","v":5593}]
[1545,"Côte d'Ivoire","CIV","LOH-DJIBOUA","LAKOTA",15387,"CSR GROGOUYA","Modérée",1926,883,2809,0,0,0,0,2,{"$f":"_xlfn.XLOOKUP($G1463,[1]demo_data!$G$5:$G$2257,[1]demo_data!$I$5:$I$2257)","v":7073}]
[1546,"Côte d'Ivoire","CIV","LOH-DJIBOUA","LAKOTA",15387,"CSR GUIGUEDOU","Modérée",1387,636,2023,0,0,0,0,2,{"$f":"_xlfn.XLOOKUP($G1464,[1]demo_data!$G$5:$G$2257,[1]demo_data!$I$5:$I$2257)","v":5095}]
[1547,"Côte d'Ivoire","CIV","LOH-DJIBOUA","LAKOTA",15387,"CSR KOISSILILIE","Modérée",966,443,1409,0,0,0,0,2,{"$f":"_xlfn.XLOOKUP($G1465,[1]demo_data!$G$5:$G$2257,[1]demo_data!$I$5:$I$2257)","v":3549}]
[1548,"Côte d'Ivoire","CIV","LOH-DJIBOUA","LAKOTA",15387,"CSR KOKOLILIE","Modérée",855,392,1247,0,0,0,0,2,{"$f":"_xlfn.XLOOKUP($G1466,[1]demo_data!$G$5:$G$2257,[1]demo_data!$I$5:$I$2257)","v":3140}]
[1549,"Côte d'Ivoire","CIV","LOH-DJIBOUA","LAKOTA",15387,"CSR MAHOUREBOUA","Modérée",429,197,626,0,0,0,0,2,{"$f":"_xlfn.XLOOKUP($G1467,[1]demo_data!$G$5:$G$2257,[1]demo_data!$I$5:$I$2257)","v":1577}]
[1550,"Côte d'Ivoire","CIV","LOH-DJIBOUA","LAKOTA",15387,"CSR NEKO","Modérée",1814,832,2646,0,0,0,0,2,{"$f":"_xlfn.XLOOKUP($G1468,[1]demo_data!$G$5:$G$2257,[1]demo_data!$I$5:$I$2257)","v":6661}]
[1551,"Côte d'Ivoire","CIV","LOH-DJIBOUA","LAKOTA",15387,"CSR NIAKOBLOGNOA","Modérée",6640,3047,9687,0,0,0,0,2,{"$f":"_xlfn.XLOOKUP($G1469,[1]demo_data!$G$5:$G$2257,[1]demo_data!$I$5:$I$2257)","v":24392}]
[1552,"Côte d'Ivoire","CIV","LOH-DJIBOUA","LAKOTA",15387,"CSR TAGOLILIE","Non endémique",0,0,0,0,0,0,0,0,{"$f":"_xlfn.XLOOKUP($G1470,[1]demo_data!$G$5:$G$2257,[1]demo_data!$I$5:$I$2257)","v":3217}]
[1553,"Côte d'Ivoire","CIV","LOH-DJIBOUA","LAKOTA",15387,"CSR ZOKOLILIE","Modérée",1123,515,1638,0,0,0,0,2,{"$f":"_xlfn.XLOOKUP($G1471,[1]demo_data!$G$5:$G$2257,[1]demo_data!$I$5:$I$2257)","v":4127}]
[1554,"Côte d'Ivoire","CIV","LOH-DJIBOUA","LAKOTA",15387,"CSU AKABREBOUA","Modérée",1218,559,1777,0,0,0,0,2,{"$f":"_xlfn.XLOOKUP($G1472,[1]demo_data!$G$5:$G$2257,[1]demo_data!$I$5:$I$2257)","v":4474}]
[1555,"Côte d'Ivoire","CIV","LOH-DJIBOUA","LAKOTA",15387,"CSU GOUDOUKO","Forte",2519,5777,8296,1,2519,5777,8296,3,{"$f":"_xlfn.XLOOKUP($G1473,[1]demo_data!$G$5:$G$2257,[1]demo_data!$I$5:$I$2257)","v":9251}]
[1556,"Côte d'Ivoire","CIV","LOH-DJIBOUA","LAKOTA",15387,"CSU KOUDOULILIE","Modérée",3418,1568,4986,0,0,0,0,2,{"$f":"_xlfn.XLOOKUP($G1474,[1]demo_data!$G$5:$G$2257,[1]demo_data!$I$5:$I$2257)","v":12552}]
[1557,"Côte d'Ivoire","CIV","LOH-DJIBOUA","LAKOTA",15387,"CSU NIAMBEZARIA","Modérée",3688,1692,5380,0,0,0,0,2,{"$f":"_xlfn.XLOOKUP($G1475,[1]demo_data!$G$5:$G$2257,[1]demo_data!$I$5:$I$2257)","v":13548}]
[1558,"Côte d'Ivoire","CIV","LOH-DJIBOUA","LAKOTA",15387,"CSU ZIKISSO","Non endémique",0,0,0,0,0,0,0,0,{"$f":"_xlfn.XLOOKUP($G1476,[1]demo_data!$G$5:$G$2257,[1]demo_data!$I$5:$I$2257)","v":9188}]
[1559,"Côte d'Ivoire","CIV","LOH-DJIBOUA","LAKOTA",15387,"DR BEYO","Forte",2277,5223,7500,1,2277,5223,7500,3,{"$f":"_xlfn.XLOOKUP($G1477,[1]demo_data!$G$5:$G$2257,[1]demo_data!$I$5:$I$2257)","v":8364}]
[1560,"Côte d'Ivoire","CIV","LOH-DJIBOUA","LAKOTA",15387,"DR DJIMON","Modérée",1038,476,1514,0,0,0,0,2,{"$f":"_xlfn.XLOOKUP($G1478,[1]demo_data!$G$5:$G$2257,[1]demo_data!$I$5:$I$2257)","v":3815}]
[1561,"Côte d'Ivoire","CIV","LOH-DJIBOUA","LAKOTA",15387,"DR GBAGELILIE","Modérée",986,452,1438,0,0,0,0,2,{"$f":"_xlfn.XLOOKUP($G1479,[1]demo_data!$G$5:$G$2257,[1]demo_data!$I$5:$I$2257)","v":3621}]
[1562,"Côte d'Ivoire","CIV","LOH-DJIBOUA","LAKOTA",15387,"DR GBAHIRI","Modérée",708,324,1032,0,0,0,0,2,{"$f":"_xlfn.XLOOKUP($G1480,[1]demo_data!$G$5:$G$2257,[1]demo_data!$I$5:$I$2257)","v":2599}]
[1563,"Côte d'Ivoire","CIV","LOH-DJIBOUA","LAKOTA",15387,"DR NIABLE","Modérée",815,373,1188,0,0,0,0,2,{"$f":"_xlfn.XLOOKUP($G1481,[1]demo_data!$G$5:$G$2257,[1]demo_data!$I$5:$I$2257)","v":2993}]
[1564,"Côte d'Ivoire","CIV","LOH-DJIBOUA","LAKOTA",15387,"DR SATROKO","Modérée",398,183,581,0,0,0,0,2,{"$f":"_xlfn.XLOOKUP($G1482,[1]demo_data!$G$5:$G$2257,[1]demo_data!$I$5:$I$2257)","v":1463}]
[1565,"Côte d'Ivoire","CIV","LOH-DJIBOUA","LAKOTA",15387,"DR SELIBOUA","Modérée",219,101,320,0,0,0,0,2,{"$f":"_xlfn.XLOOKUP($G1483,[1]demo_data!$G$5:$G$2257,[1]demo_data!$I$5:$I$2257)","v":805}]
[1566,"Côte d'Ivoire","CIV","LOH-DJIBOUA","LAKOTA",15387,"DR ZATOBOUA","Modérée",308,142,450,0,0,0,0,2,{"$f":"_xlfn.XLOOKUP($G1484,[1]demo_data!$G$5:$G$2257,[1]demo_data!$I$5:$I$2257)","v":1130}]
[1567,"Côte d'Ivoire","CIV","LOH-DJIBOUA","LAKOTA",15387,"DR ZOZO","Modérée",792,363,1155,0,0,0,0,2,{"$f":"_xlfn.XLOOKUP($G1485,[1]demo_data!$G$5:$G$2257,[1]demo_data!$I$5:$I$2257)","v":2911}]
[1568,"Côte d'Ivoire","CIV","LOH-DJIBOUA","LAKOTA",15387,"HG LAKOTA","Faible",9317,0,9317,0,0,0,0,1,{"$f":"_xlfn.XLOOKUP($G1486,[1]demo_data!$G$5:$G$2257,[1]demo_data!$I$5:$I$2257)","v":{"$error":"#N/A"}}]
[1569,"Côte d'Ivoire","CIV","MARAHOUE","BOUAFLE",15388,"AKA N'GUESSANKRO","Faible",2017,0,2017,0,0,0,0,1,{"$f":"_xlfn.XLOOKUP($G1487,[1]demo_data!$G$5:$G$2257,[1]demo_data!$I$5:$I$2257)","v":7331}]
[1570,"Côte d'Ivoire","CIV","MARAHOUE","BOUAFLE",15388,"ANGOVIA","Faible",1690,0,1690,0,0,0,0,1,{"$f":"_xlfn.XLOOKUP($G1488,[1]demo_data!$G$5:$G$2257,[1]demo_data!$I$5:$I$2257)","v":6140}]
[1571,"Côte d'Ivoire","CIV","MARAHOUE","BOUAFLE",15388,"BANNONFLA","Faible",7915,0,7915,0,0,0,0,1,{"$f":"_xlfn.XLOOKUP($G1489,[1]demo_data!$G$5:$G$2257,[1]demo_data!$I$5:$I$2257)","v":28760}]
[1572,"Côte d'Ivoire","CIV","MARAHOUE","BOUAFLE",15388,"BLANFLA","Modérée",1477,678,2155,0,0,0,0,2,{"$f":"_xlfn.XLOOKUP($G1490,[1]demo_data!$G$5:$G$2257,[1]demo_data!$I$5:$I$2257)","v":5370}]
[1573,"Côte d'Ivoire","CIV","MARAHOUE","BOUAFLE",15388,"BLANOUFLA","Modérée",7740,3551,11291,0,0,0,0,2,{"$f":"_xlfn.XLOOKUP($G1491,[1]demo_data!$G$5:$G$2257,[1]demo_data!$I$5:$I$2257)","v":28124}]
[1575,"Côte d'Ivoire","CIV","MARAHOUE","BOUAFLE",15388,"BOUAFLA","Faible",2411,0,2411,0,0,0,0,1,{"$f":"_xlfn.XLOOKUP($G1492,[1]demo_data!$G$5:$G$2257,[1]demo_data!$I$5:$I$2257)","v":8762}]
[1576,"Côte d'Ivoire","CIV","MARAHOUE","BOUAFLE",15388,"BOUNANTINFLA","Faible",4740,0,4740,0,0,0,0,1,{"$f":"_xlfn.XLOOKUP($G1493,[1]demo_data!$G$5:$G$2257,[1]demo_data!$I$5:$I$2257)","v":17223}]
[1577,"Côte d'Ivoire","CIV","MARAHOUE","BOUAFLE",15388,"BOZI","Faible",1424,0,1424,0,0,0,0,1,{"$f":"_xlfn.XLOOKUP($G1494,[1]demo_data!$G$5:$G$2257,[1]demo_data!$I$5:$I$2257)","v":5175}]
[1578,"Côte d'Ivoire","CIV","MARAHOUE","BOUAFLE",15388,"BOZI SATMACI","Faible",2741,0,2741,0,0,0,0,1,{"$f":"_xlfn.XLOOKUP($G1495,[1]demo_data!$G$5:$G$2257,[1]demo_data!$I$5:$I$2257)","v":9961}]
[1579,"Côte d'Ivoire","CIV","MARAHOUE","BOUAFLE",15388,"CHR","Faible",5438,0,5438,0,0,0,0,1,{"$f":"_xlfn.XLOOKUP($G1496,[1]demo_data!$G$5:$G$2257,[1]demo_data!$I$5:$I$2257)","v":30680}]
[1580,"Côte d'Ivoire","CIV","MARAHOUE","BOUAFLE",15388,"DANANGORO","Faible",1838,0,1838,0,0,0,0,1,{"$f":"_xlfn.XLOOKUP($G1497,[1]demo_data!$G$5:$G$2257,[1]demo_data!$I$5:$I$2257)","v":6678}]
[1581,"Côte d'Ivoire","CIV","MARAHOUE","BOUAFLE",15388,"DEHITA","Faible",4983,0,4983,0,0,0,0,1,{"$f":"_xlfn.XLOOKUP($G1498,[1]demo_data!$G$5:$G$2257,[1]demo_data!$I$5:$I$2257)","v":18108}]
[1582,"Côte d'Ivoire","CIV","MARAHOUE","BOUAFLE",15388,"DIACOHOU NORD","Faible",1099,0,1099,0,0,0,0,1,{"$f":"_xlfn.XLOOKUP($G1499,[1]demo_data!$G$5:$G$2257,[1]demo_data!$I$5:$I$2257)","v":3994}]
[1583,"Côte d'Ivoire","CIV","MARAHOUE","BOUAFLE",15388,"DIACOHOU SUD","Faible",3121,0,3121,0,0,0,0,1,{"$f":"_xlfn.XLOOKUP($G1500,[1]demo_data!$G$5:$G$2257,[1]demo_data!$I$5:$I$2257)","v":11340}]
[1584,"Côte d'Ivoire","CIV","MARAHOUE","BOUAFLE",15388,"DUONFLA","Non endémique",0,0,0,0,0,0,0,0,{"$f":"_xlfn.XLOOKUP($G1501,[1]demo_data!$G$5:$G$2257,[1]demo_data!$I$5:$I$2257)","v":17961}]
[1585,"Côte d'Ivoire","CIV","MARAHOUE","BOUAFLE",15388,"EFAP","Faible",754,0,754,0,0,0,0,1,{"$f":"_xlfn.XLOOKUP($G1502,[1]demo_data!$G$5:$G$2257,[1]demo_data!$I$5:$I$2257)","v":2740}]
[1586,"Côte d'Ivoire","CIV","MARAHOUE","BOUAFLE",15388,"FAITEKRO","Faible",1513,0,1513,0,0,0,0,1,{"$f":"_xlfn.XLOOKUP($G1503,[1]demo_data!$G$5:$G$2257,[1]demo_data!$I$5:$I$2257)","v":5497}]
[1587,"Côte d'Ivoire","CIV","MARAHOUE","BOUAFLE",15388,"GARANGO","Modérée",4380,2010,6390,0,0,0,0,2,{"$f":"_xlfn.XLOOKUP($G1504,[1]demo_data!$G$5:$G$2257,[1]demo_data!$I$5:$I$2257)","v":15915}]
[1588,"Côte d'Ivoire","CIV","MARAHOUE","BOUAFLE",15388,"GBEGBESSOU","Faible",1344,0,1344,0,0,0,0,1,{"$f":"_xlfn.XLOOKUP($G1505,[1]demo_data!$G$5:$G$2257,[1]demo_data!$I$5:$I$2257)","v":4886}]
[1589,"Côte d'Ivoire","CIV","MARAHOUE","BOUAFLE",15388,"GOBAZRA","Faible",5362,0,5362,0,0,0,0,1,{"$f":"_xlfn.XLOOKUP($G1506,[1]demo_data!$G$5:$G$2257,[1]demo_data!$I$5:$I$2257)","v":19482}]
[1574,"Côte d'Ivoire","CIV","MARAHOUE","BOUAFLE",15388,"HG BONON","Faible",16583,0,16583,0,0,0,0,1,{"$f":"_xlfn.XLOOKUP($G1507,[1]demo_data!$G$5:$G$2257,[1]demo_data!$I$5:$I$2257)","v":60259}]
[1590,"Côte d'Ivoire","CIV","MARAHOUE","BOUAFLE",15388,"KLAN","Non endémique",0,0,0,0,0,0,0,0,{"$f":"_xlfn.XLOOKUP($G1508,[1]demo_data!$G$5:$G$2257,[1]demo_data!$I$5:$I$2257)","v":11778}]
[1591,"Côte d'Ivoire","CIV","MARAHOUE","BOUAFLE",15388,"KONEFLA","Faible",1742,0,1742,0,0,0,0,1,{"$f":"_xlfn.XLOOKUP($G1509,[1]demo_data!$G$5:$G$2257,[1]demo_data!$I$5:$I$2257)","v":6329}]
[1592,"Côte d'Ivoire","CIV","MARAHOUE","BOUAFLE",15388,"KOUAKOUGNANOU","Modérée",365,167,532,0,0,0,0,2,{"$f":"_xlfn.XLOOKUP($G1510,[1]demo_data!$G$5:$G$2257,[1]demo_data!$I$5:$I$2257)","v":1326}]
[1593,"Côte d'Ivoire","CIV","MARAHOUE","BOUAFLE",15388,"KPANGBAKOUAMEKRO","Faible",1336,0,1336,0,0,0,0,1,{"$f":"_xlfn.XLOOKUP($G1511,[1]demo_data!$G$5:$G$2257,[1]demo_data!$I$5:$I$2257)","v":4852}]
[1594,"Côte d'Ivoire","CIV","MARAHOUE","BOUAFLE",15388,"MATERNITE URB DIOULABOUGOU","Faible",5216,0,5216,0,0,0,0,1,{"$f":"_xlfn.XLOOKUP($G1512,[1]demo_data!$G$5:$G$2257,[1]demo_data!$I$5:$I$2257)","v":18954}]
[1595,"Côte d'Ivoire","CIV","MARAHOUE","BOUAFLE",15388,"NANGREKRO","Faible",1288,0,1288,0,0,0,0,1,{"$f":"_xlfn.XLOOKUP($G1513,[1]demo_data!$G$5:$G$2257,[1]demo_data!$I$5:$I$2257)","v":4679}]
[1596,"Côte d'Ivoire","CIV","MARAHOUE","BOUAFLE",15388,"N'DENOUKRO","Faible",1270,0,1270,0,0,0,0,1,{"$f":"_xlfn.XLOOKUP($G1514,[1]demo_data!$G$5:$G$2257,[1]demo_data!$I$5:$I$2257)","v":4614}]
[1597,"Côte d'Ivoire","CIV","MARAHOUE","BOUAFLE",15388,"N'DOUFFOUKANKRO","Faible",2947,0,2947,0,0,0,0,1,{"$f":"_xlfn.XLOOKUP($G1515,[1]demo_data!$G$5:$G$2257,[1]demo_data!$I$5:$I$2257)","v":10707}]
[1598,"Côte d'Ivoire","CIV","MARAHOUE","BOUAFLE",15388,"OUANZANOU","Faible",1403,0,1403,0,0,0,0,1,{"$f":"_xlfn.XLOOKUP($G1516,[1]demo_data!$G$5:$G$2257,[1]demo_data!$I$5:$I$2257)","v":5095}]
[1599,"Côte d'Ivoire","CIV","MARAHOUE","BOUAFLE",15388,"PAKOUABO","Modérée",1684,773,2457,0,0,0,0,2,{"$f":"_xlfn.XLOOKUP($G1517,[1]demo_data!$G$5:$G$2257,[1]demo_data!$I$5:$I$2257)","v":6120}]
[1600,"Côte d'Ivoire","CIV","MARAHOUE","BOUAFLE",15388,"PMI","Faible",6055,0,6055,0,0,0,0,1,{"$f":"_xlfn.XLOOKUP($G1518,[1]demo_data!$G$5:$G$2257,[1]demo_data!$I$5:$I$2257)","v":34689}]
[1601,"Côte d'Ivoire","CIV","MARAHOUE","BOUAFLE",15388,"SIETINFLA","Faible",7295,0,7295,0,0,0,0,1,{"$f":"_xlfn.XLOOKUP($G1519,[1]demo_data!$G$5:$G$2257,[1]demo_data!$I$5:$I$2257)","v":26506}]
[1602,"Côte d'Ivoire","CIV","MARAHOUE","BOUAFLE",15388,"SSSU-SAJ","Faible",4971,0,4971,0,0,0,0,1,{"$f":"_xlfn.XLOOKUP($G1520,[1]demo_data!$G$5:$G$2257,[1]demo_data!$I$5:$I$2257)","v":5423}]
[1603,"Côte d'Ivoire","CIV","MARAHOUE","BOUAFLE",15388,"TIBEITA","Faible",1115,0,1115,0,0,0,0,1,{"$f":"_xlfn.XLOOKUP($G1521,[1]demo_data!$G$5:$G$2257,[1]demo_data!$I$5:$I$2257)","v":4051}]
[1604,"Côte d'Ivoire","CIV","MARAHOUE","BOUAFLE",15388,"YOHO","Faible",2330,0,2330,0,0,0,0,1,{"$f":"_xlfn.XLOOKUP($G1522,[1]demo_data!$G$5:$G$2257,[1]demo_data!$I$5:$I$2257)","v":8466}]
[1605,"Côte d'Ivoire","CIV","MARAHOUE","BOUAFLE",15388,"ZAGUIETA","Faible",5413,0,5413,0,0,0,0,1,{"$f":"_xlfn.XLOOKUP($G1523,[1]demo_data!$G$5:$G$2257,[1]demo_data!$I$5:$I$2257)","v":19670}]
[1606,"Côte d'Ivoire","CIV","MARAHOUE","SINFRA",15389,"BAZRE","Faible",8692,0,8692,0,0,0,0,1,{"$f":"_xlfn.XLOOKUP($G1524,[1]demo_data!$G$5:$G$2257,[1]demo_data!$I$5:$I$2257)","v":31593}]
[1607,"Côte d'Ivoire","CIV","MARAHOUE","SINFRA",15389,"BINOUFLA","Faible",4818,0,4818,0,0,0,0,1,{"$f":"_xlfn.XLOOKUP($G1525,[1]demo_data!$G$5:$G$2257,[1]demo_data!$I$5:$I$2257)","v":17514}]
[1608,"Côte d'Ivoire","CIV","MARAHOUE","SINFRA",15389,"DJENEDOUFLA","Faible",6251,0,6251,0,0,0,0,1,{"$f":"_xlfn.XLOOKUP($G1526,[1]demo_data!$G$5:$G$2257,[1]demo_data!$I$5:$I$2257)","v":22724}]
[1609,"Côte d'Ivoire","CIV","MARAHOUE","SINFRA",15389,"DMCR","Faible",6029,0,6029,0,0,0,0,1,{"$f":"_xlfn.XLOOKUP($G1527,[1]demo_data!$G$5:$G$2257,[1]demo_data!$I$5:$I$2257)","v":21912}]
[1610,"Côte d'Ivoire","CIV","MARAHOUE","SINFRA",15389,"HG SINFRA","Non endémique",0,0,0,0,0,0,0,0,{"$f":"_xlfn.XLOOKUP($G1528,[1]demo_data!$G$5:$G$2257,[1]demo_data!$I$5:$I$2257)","v":{"$error":"#N/A"}}]
[1611,"Côte d'Ivoire","CIV","MARAHOUE","SINFRA",15389,"HUAFLA","Modérée",5642,2589,8231,0,0,0,0,2,{"$f":"_xlfn.XLOOKUP($G1529,[1]demo_data!$G$5:$G$2257,[1]demo_data!$I$5:$I$2257)","v":20507}]
[1612,"Côte d'Ivoire","CIV","MARAHOUE","SINFRA",15389,"KAYETA","Modérée",4125,1892,6017,0,0,0,0,2,{"$f":"_xlfn.XLOOKUP($G1530,[1]demo_data!$G$5:$G$2257,[1]demo_data!$I$5:$I$2257)","v":14992}]
[1613,"Côte d'Ivoire","CIV","MARAHOUE","SINFRA",15389,"KONONFLA","Faible",9789,0,9789,0,0,0,0,1,{"$f":"_xlfn.XLOOKUP($G1531,[1]demo_data!$G$5:$G$2257,[1]demo_data!$I$5:$I$2257)","v":35582}]
[1614,"Côte d'Ivoire","CIV","MARAHOUE","SINFRA",15389,"KOUETINFLA","Faible",9202,0,9202,0,0,0,0,1,{"$f":"_xlfn.XLOOKUP($G1532,[1]demo_data!$G$5:$G$2257,[1]demo_data!$I$5:$I$2257)","v":33448}]
[1615,"Côte d'Ivoire","CIV","MARAHOUE","SINFRA",15389,"MANOUFLA","Faible",4087,0,4087,0,0,0,0,1,{"$f":"_xlfn.XLOOKUP($G1533,[1]demo_data!$G$5:$G$2257,[1]demo_data!$I$5:$I$2257)","v":14853}]
[1616,"Côte d'Ivoire","CIV","MARAHOUE","SINFRA",15389,"PMI","Faible",4063,0,4063,0,0,0,0,1,{"$f":"_xlfn.XLOOKUP($G1534,[1]demo_data!$G$5:$G$2257,[1]demo_data!$I$5:$I$2257)","v":34689}]
[1617,"Côte d'Ivoire","CIV","MARAHOUE","SINFRA",15389,"SSSU","Modérée",7392,3392,10784,0,0,0,0,2,{"$f":"_xlfn.XLOOKUP($G1535,[1]demo_data!$G$5:$G$2257,[1]demo_data!$I$5:$I$2257)","v":26871}]
[1618,"Côte d'Ivoire","CIV","MARAHOUE","ZUENOULA",15390,"CMS SUCRIVOIRE","Non endémique",0,0,0,0,0,0,0,0,{"$f":"_xlfn.XLOOKUP($G1536,[1]demo_data!$G$5:$G$2257,[1]demo_data!$I$5:$I$2257)","v":11288}]
[1619,"Côte d'Ivoire","CIV","MARAHOUE","ZUENOULA",15390,"CSR BEZIAKA","Non endémique",0,0,0,0,0,0,0,0,{"$f":"_xlfn.XLOOKUP($G1537,[1]demo_data!$G$5:$G$2257,[1]demo_data!$I$5:$I$2257)","v":3612}]
[1620,"Côte d'Ivoire","CIV","MARAHOUE","ZUENOULA",15390,"CSR BINZRA","Faible",3870,0,3870,0,0,0,0,1,{"$f":"_xlfn.XLOOKUP($G1538,[1]demo_data!$G$5:$G$2257,[1]demo_data!$I$5:$I$2257)","v":14069}]
[1621,"Côte d'Ivoire","CIV","MARAHOUE","ZUENOULA",15390,"CSR BOHIZRA","Faible",2197,0,2197,0,0,0,0,1,{"$f":"_xlfn.XLOOKUP($G1539,[1]demo_data!$G$5:$G$2257,[1]demo_data!$I$5:$I$2257)","v":7985}]
[1622,"Côte d'Ivoire","CIV","MARAHOUE","ZUENOULA",15390,"CSR DHEZRA/VREHENFLA","Modérée",1310,601,1911,0,0,0,0,2,{"$f":"_xlfn.XLOOKUP($G1540,[1]demo_data!$G$5:$G$2257,[1]demo_data!$I$5:$I$2257)","v":4761}]
[1623,"Côte d'Ivoire","CIV","MARAHOUE","ZUENOULA",15390,"CSR GLOAZRA","Faible",961,0,961,0,0,0,0,1,{"$f":"_xlfn.XLOOKUP($G1541,[1]demo_data!$G$5:$G$2257,[1]demo_data!$I$5:$I$2257)","v":3494}]
[1624,"Côte d'Ivoire","CIV","MARAHOUE","ZUENOULA",15390,"CSR GOUNGA","Faible",1344,0,1344,0,0,0,0,1,{"$f":"_xlfn.XLOOKUP($G1542,[1]demo_data!$G$5:$G$2257,[1]demo_data!$I$5:$I$2257)","v":4885}]
[1625,"Côte d'Ivoire","CIV","MARAHOUE","ZUENOULA",15390,"CSR IRIEFLA","Faible",1840,0,1840,0,0,0,0,1,{"$f":"_xlfn.XLOOKUP($G1543,[1]demo_data!$G$5:$G$2257,[1]demo_data!$I$5:$I$2257)","v":6687}]
[1626,"Côte d'Ivoire","CIV","MARAHOUE","ZUENOULA",15390,"CSR MANFLA","Faible",3699,0,3699,0,0,0,0,1,{"$f":"_xlfn.XLOOKUP($G1544,[1]demo_data!$G$5:$G$2257,[1]demo_data!$I$5:$I$2257)","v":13445}]
[1627,"Côte d'Ivoire","CIV","MARAHOUE","ZUENOULA",15390,"CSR MINFLA","Faible",2317,0,2317,0,0,0,0,1,{"$f":"_xlfn.XLOOKUP($G1545,[1]demo_data!$G$5:$G$2257,[1]demo_data!$I$5:$I$2257)","v":8420}]
[1628,"Côte d'Ivoire","CIV","MARAHOUE","ZUENOULA",15390,"CSR PAOUFLA","Faible",2092,0,2092,0,0,0,0,1,{"$f":"_xlfn.XLOOKUP($G1546,[1]demo_data!$G$5:$G$2257,[1]demo_data!$I$5:$I$2257)","v":7603}]
[1629,"Côte d'Ivoire","CIV","MARAHOUE","ZUENOULA",15390,"CSR ZANZRA","Non endémique",0,0,0,0,0,0,0,0,{"$f":"_xlfn.XLOOKUP($G1547,[1]demo_data!$G$5:$G$2257,[1]demo_data!$I$5:$I$2257)","v":11750}]
[1630,"Côte d'Ivoire","CIV","MARAHOUE","ZUENOULA",15390,"CSR ZIRIFLA","Faible",879,0,879,0,0,0,0,1,{"$f":"_xlfn.XLOOKUP($G1548,[1]demo_data!$G$5:$G$2257,[1]demo_data!$I$5:$I$2257)","v":3196}]
[1631,"Côte d'Ivoire","CIV","MARAHOUE","ZUENOULA",15390,"CSR ZOROFLA","Faible",2347,0,2347,0,0,0,0,1,{"$f":"_xlfn.XLOOKUP($G1549,[1]demo_data!$G$5:$G$2257,[1]demo_data!$I$5:$I$2257)","v":8533}]
[1632,"Côte d'Ivoire","CIV","MARAHOUE","ZUENOULA",15390,"CSR ZOUGOUNEFLA","Faible",2033,0,2033,0,0,0,0,1,{"$f":"_xlfn.XLOOKUP($G1550,[1]demo_data!$G$5:$G$2257,[1]demo_data!$I$5:$I$2257)","v":7389}]
[1633,"Côte d'Ivoire","CIV","MARAHOUE","ZUENOULA",15390,"CSR ZRALUO","Faible",3421,0,3421,0,0,0,0,1,{"$f":"_xlfn.XLOOKUP($G1551,[1]demo_data!$G$5:$G$2257,[1]demo_data!$I$5:$I$2257)","v":12434}]
[1634,"Côte d'Ivoire","CIV","MARAHOUE","ZUENOULA",15390,"CSU GOHITAFLA","Faible",5401,0,5401,0,0,0,0,1,{"$f":"_xlfn.XLOOKUP($G1552,[1]demo_data!$G$5:$G$2257,[1]demo_data!$I$5:$I$2257)","v":19629}]
[1635,"Côte d'Ivoire","CIV","MARAHOUE","ZUENOULA",15390,"CSU KANZRA","Faible",5432,0,5432,0,0,0,0,1,{"$f":"_xlfn.XLOOKUP($G1553,[1]demo_data!$G$5:$G$2257,[1]demo_data!$I$5:$I$2257)","v":19741}]
[1636,"Côte d'Ivoire","CIV","MARAHOUE","ZUENOULA",15390,"CSU MAMINIGUI","Faible",2152,0,2152,0,0,0,0,1,{"$f":"_xlfn.XLOOKUP($G1554,[1]demo_data!$G$5:$G$2257,[1]demo_data!$I$5:$I$2257)","v":7820}]
[1637,"Côte d'Ivoire","CIV","MARAHOUE","ZUENOULA",15390,"CSU VOUEBOUFLA","Faible",2496,0,2496,0,0,0,0,1,{"$f":"_xlfn.XLOOKUP($G1555,[1]demo_data!$G$5:$G$2257,[1]demo_data!$I$5:$I$2257)","v":9073}]
[1638,"Côte d'Ivoire","CIV","MARAHOUE","ZUENOULA",15390,"DR FLAYA","Faible",2997,0,2997,0,0,0,0,1,{"$f":"_xlfn.XLOOKUP($G1556,[1]demo_data!$G$5:$G$2257,[1]demo_data!$I$5:$I$2257)","v":10893}]
[1639,"Côte d'Ivoire","CIV","MARAHOUE","ZUENOULA",15390,"DR GROHOUNFLA","Faible",1024,0,1024,0,0,0,0,1,{"$f":"_xlfn.XLOOKUP($G1557,[1]demo_data!$G$5:$G$2257,[1]demo_data!$I$5:$I$2257)","v":3721}]
[1640,"Côte d'Ivoire","CIV","MARAHOUE","ZUENOULA",15390,"DR ZIDUHO-BOUENOU","Faible",524,0,524,0,0,0,0,1,{"$f":"_xlfn.XLOOKUP($G1558,[1]demo_data!$G$5:$G$2257,[1]demo_data!$I$5:$I$2257)","v":1907}]
[1641,"Côte d'Ivoire","CIV","MARAHOUE","ZUENOULA",15390,"PMI ZUENOULA","Faible",13066,0,13066,0,0,0,0,1,{"$f":"_xlfn.XLOOKUP($G1559,[1]demo_data!$G$5:$G$2257,[1]demo_data!$I$5:$I$2257)","v":47493}]
[190,"Côte d'Ivoire","CIV","ME","ADZOPE",15419,"ADZOPE COMMUNE","Modérée",18450,8465,26915,0,0,0,0,2,{"$f":"_xlfn.XLOOKUP($G1560,[1]demo_data!$G$5:$G$2257,[1]demo_data!$I$5:$I$2257)","v":71030}]
[191,"Côte d'Ivoire","CIV","ME","ADZOPE",15419,"CSR  ABIE","Modérée",1759,806,2565,0,0,0,0,2,{"$f":"_xlfn.XLOOKUP($G1561,[1]demo_data!$G$5:$G$2257,[1]demo_data!$I$5:$I$2257)","v":6770}]
[187,"Côte d'Ivoire","CIV","ME","ADZOPE",15419,"CSR ANANGUIE","Modérée",6758,3101,9859,0,0,0,0,2,{"$f":"_xlfn.XLOOKUP($G1562,[1]demo_data!$G$5:$G$2257,[1]demo_data!$I$5:$I$2257)","v":26019}]
[192,"Côte d'Ivoire","CIV","ME","ADZOPE",15419,"CSR ANDE","Modérée",995,457,1452,0,0,0,0,2,{"$f":"_xlfn.XLOOKUP($G1563,[1]demo_data!$G$5:$G$2257,[1]demo_data!$I$5:$I$2257)","v":3830}]
[193,"Côte d'Ivoire","CIV","ME","ADZOPE",15419,"CSR BOUDEPE","Modérée",1421,652,2073,0,0,0,0,2,{"$f":"_xlfn.XLOOKUP($G1564,[1]demo_data!$G$5:$G$2257,[1]demo_data!$I$5:$I$2257)","v":5471}]
[194,"Côte d'Ivoire","CIV","ME","ADZOPE",15419,"CSR DIAPE","Modérée",1705,783,2488,0,0,0,0,2,{"$f":"_xlfn.XLOOKUP($G1565,[1]demo_data!$G$5:$G$2257,[1]demo_data!$I$5:$I$2257)","v":6566}]
[188,"Côte d'Ivoire","CIV","ME","ADZOPE",15419,"CSR DIASSON","Modérée",1714,787,2501,0,0,0,0,2,{"$f":"_xlfn.XLOOKUP($G1566,[1]demo_data!$G$5:$G$2257,[1]demo_data!$I$5:$I$2257)","v":6600}]
[195,"Côte d'Ivoire","CIV","ME","ADZOPE",15419,"CSR GRAND-AKOUDZIN","Modérée",1494,685,2179,0,0,0,0,2,{"$f":"_xlfn.XLOOKUP($G1567,[1]demo_data!$G$5:$G$2257,[1]demo_data!$I$5:$I$2257)","v":5750}]
[196,"Côte d'Ivoire","CIV","ME","ADZOPE",15419,"CSR LOBO-AKOUDZIN","Modérée",1375,631,2006,0,0,0,0,2,{"$f":"_xlfn.XLOOKUP($G1568,[1]demo_data!$G$5:$G$2257,[1]demo_data!$I$5:$I$2257)","v":5292}]
[197,"Côte d'Ivoire","CIV","ME","ADZOPE",15419,"CSR MIADZIN","Modérée",1104,507,1611,0,0,0,0,2,{"$f":"_xlfn.XLOOKUP($G1569,[1]demo_data!$G$5:$G$2257,[1]demo_data!$I$5:$I$2257)","v":4250}]
[198,"Côte d'Ivoire","CIV","ME","ADZOPE",15419,"CSR MOAPE","Modérée",2528,1160,3688,0,0,0,0,2,{"$f":"_xlfn.XLOOKUP($G1570,[1]demo_data!$G$5:$G$2257,[1]demo_data!$I$5:$I$2257)","v":9733}]
[200,"Côte d'Ivoire","CIV","ME","ADZOPE",15419,"CSU AGOU","Modérée",2173,997,3170,0,0,0,0,2,{"$f":"_xlfn.XLOOKUP($G1571,[1]demo_data!$G$5:$G$2257,[1]demo_data!$I$5:$I$2257)","v":8367}]
[189,"Côte d'Ivoire","CIV","ME","ADZOPE",15419,"CSU ANNEPE","Modérée",1178,541,1719,0,0,0,0,2,{"$f":"_xlfn.XLOOKUP($G1572,[1]demo_data!$G$5:$G$2257,[1]demo_data!$I$5:$I$2257)","v":4536}]
[201,"Côte d'Ivoire","CIV","ME","ADZOPE",15419,"CSU ASSIKOI ","Modérée",2673,1226,3899,0,0,0,0,2,{"$f":"_xlfn.XLOOKUP($G1573,[1]demo_data!$G$5:$G$2257,[1]demo_data!$I$5:$I$2257)","v":10291}]
[202,"Côte d'Ivoire","CIV","ME","ADZOPE",15419,"CSU BECEDI BRIGNAN","Modérée",3768,1729,5497,0,0,0,0,2,{"$f":"_xlfn.XLOOKUP($G1574,[1]demo_data!$G$5:$G$2257,[1]demo_data!$I$5:$I$2257)","v":14509}]
[199,"Côte d'Ivoire","CIV","ME","ADZOPE",15419,"CSU YAKASSE ME","Modérée",3656,1678,5334,0,0,0,0,2,{"$f":"_xlfn.XLOOKUP($G1575,[1]demo_data!$G$5:$G$2257,[1]demo_data!$I$5:$I$2257)","v":14076}]
[203,"Côte d'Ivoire","CIV","ME","ADZOPE",15419,"DR Ahokoi","Modérée",552,253,805,0,0,0,0,2,{"$f":"_xlfn.XLOOKUP($G1576,[1]demo_data!$G$5:$G$2257,[1]demo_data!$I$5:$I$2257)","v":2126}]
[204,"Côte d'Ivoire","CIV","ME","ADZOPE",15419,"DR BASSADZIN","Modérée",965,443,1408,0,0,0,0,2,{"$f":"_xlfn.XLOOKUP($G1577,[1]demo_data!$G$5:$G$2257,[1]demo_data!$I$5:$I$2257)","v":3718}]
[205,"Côte d'Ivoire","CIV","ME","ADZOPE",15419,"DR BECEDI ANON","Modérée",979,449,1428,0,0,0,0,2,{"$f":"_xlfn.XLOOKUP($G1578,[1]demo_data!$G$5:$G$2257,[1]demo_data!$I$5:$I$2257)","v":3768}]
[206,"Côte d'Ivoire","CIV","ME","ADZOPE",15419,"DR BIASSO","Modérée",1658,761,2419,0,0,0,0,2,{"$f":"_xlfn.XLOOKUP($G1579,[1]demo_data!$G$5:$G$2257,[1]demo_data!$I$5:$I$2257)","v":6384}]
[207,"Côte d'Ivoire","CIV","ME","ADZOPE",15419,"DR DUQUESNE CREMONE","Modérée",439,201,640,0,0,0,0,2,{"$f":"_xlfn.XLOOKUP($G1580,[1]demo_data!$G$5:$G$2257,[1]demo_data!$I$5:$I$2257)","v":1691}]
[208,"Côte d'Ivoire","CIV","ME","ADZOPE",15419,"DR N'KOUPE","Modérée",1157,531,1688,0,0,0,0,2,{"$f":"_xlfn.XLOOKUP($G1581,[1]demo_data!$G$5:$G$2257,[1]demo_data!$I$5:$I$2257)","v":4456}]
[245,"Côte d'Ivoire","CIV","ME","AKOUPE",15343,"CM CSU BANACOMOE","Modérée",1481,679,2160,0,0,0,0,2,{"$f":"_xlfn.XLOOKUP($G1582,[1]demo_data!$G$5:$G$2257,[1]demo_data!$I$5:$I$2257)","v":6715}]
[246,"Côte d'Ivoire","CIV","ME","AKOUPE",15343,"CSR ASSANGBADJI","Modérée",2121,973,3094,0,0,0,0,2,{"$f":"_xlfn.XLOOKUP($G1583,[1]demo_data!$G$5:$G$2257,[1]demo_data!$I$5:$I$2257)","v":9617}]
[247,"Côte d'Ivoire","CIV","ME","AKOUPE",15343,"CSR BACON","Modérée",3018,1385,4403,0,0,0,0,2,{"$f":"_xlfn.XLOOKUP($G1584,[1]demo_data!$G$5:$G$2257,[1]demo_data!$I$5:$I$2257)","v":13691}]
[248,"Côte d'Ivoire","CIV","ME","AKOUPE",15343,"CSR BONAHOUIN","Modérée",1812,831,2643,0,0,0,0,2,{"$f":"_xlfn.XLOOKUP($G1585,[1]demo_data!$G$5:$G$2257,[1]demo_data!$I$5:$I$2257)","v":8217}]
[249,"Côte d'Ivoire","CIV","ME","YAKASSE ATTOBROU",15343,"CSR DJANGOBO-FIASSE","Modérée",4660,2138,6798,0,0,0,0,2,{"$f":"_xlfn.XLOOKUP($G1586,[1]demo_data!$G$5:$G$2257,[1]demo_data!$I$5:$I$2257)","v":12956}]
[250,"Côte d'Ivoire","CIV","ME","YAKASSE ATTOBROU",15343,"CSR KONG","Modérée",1325,607,1932,0,0,0,0,2,{"$f":"_xlfn.XLOOKUP($G1587,[1]demo_data!$G$5:$G$2257,[1]demo_data!$I$5:$I$2257)","v":3681}]
[251,"Côte d'Ivoire","CIV","ME","YAKASSE ATTOBROU",15343,"CSU ABONGOUA","Modérée",4051,1858,5909,0,0,0,0,2,{"$f":"_xlfn.XLOOKUP($G1588,[1]demo_data!$G$5:$G$2257,[1]demo_data!$I$5:$I$2257)","v":11261}]
[252,"Côte d'Ivoire","CIV","ME","AKOUPE",15343,"CSU BECOUEFIN","Modérée",2645,1214,3859,0,0,0,0,2,{"$f":"_xlfn.XLOOKUP($G1589,[1]demo_data!$G$5:$G$2257,[1]demo_data!$I$5:$I$2257)","v":11996}]
[253,"Côte d'Ivoire","CIV","ME","YAKASSE ATTOBROU",15343,"CSU BIEBY","Modérée",3868,1775,5643,0,0,0,0,2,{"$f":"_xlfn.XLOOKUP($G1590,[1]demo_data!$G$5:$G$2257,[1]demo_data!$I$5:$I$2257)","v":10754}]
[254,"Côte d'Ivoire","CIV","ME","AKOUPE",15343,"DR AGBAOU","Modérée",3655,1676,5331,0,0,0,0,2,{"$f":"_xlfn.XLOOKUP($G1591,[1]demo_data!$G$5:$G$2257,[1]demo_data!$I$5:$I$2257)","v":16577}]
[255,"Côte d'Ivoire","CIV","ME","YAKASSE ATTOBROU",15343,"DR AHUIKOI","Modérée",1041,477,1518,0,0,0,0,2,{"$f":"_xlfn.XLOOKUP($G1592,[1]demo_data!$G$5:$G$2257,[1]demo_data!$I$5:$I$2257)","v":2894}]
[256,"Côte d'Ivoire","CIV","ME","AKOUPE",15343,"DR ASSEUDJI","Modérée",879,403,1282,0,0,0,0,2,{"$f":"_xlfn.XLOOKUP($G1593,[1]demo_data!$G$5:$G$2257,[1]demo_data!$I$5:$I$2257)","v":3986}]
[257,"Côte d'Ivoire","CIV","ME","AKOUPE",15343,"DR ASSIKOUN","Modérée",1348,619,1967,0,0,0,0,2,{"$f":"_xlfn.XLOOKUP($G1594,[1]demo_data!$G$5:$G$2257,[1]demo_data!$I$5:$I$2257)","v":6114}]
[258,"Côte d'Ivoire","CIV","ME","YAKASSE ATTOBROU",15343,"DR MEBIFON","Modérée",1618,743,2361,0,0,0,0,2,{"$f":"_xlfn.XLOOKUP($G1595,[1]demo_data!$G$5:$G$2257,[1]demo_data!$I$5:$I$2257)","v":4499}]
[259,"Côte d'Ivoire","CIV","ME","AKOUPE",15343,"DR SORRIBADOUGOU","Modérée",936,430,1366,0,0,0,0,2,{"$f":"_xlfn.XLOOKUP($G1596,[1]demo_data!$G$5:$G$2257,[1]demo_data!$I$5:$I$2257)","v":4245}]
[260,"Côte d'Ivoire","CIV","ME","AKOUPE",15343,"DR YADIO","Modérée",700,321,1021,0,0,0,0,2,{"$f":"_xlfn.XLOOKUP($G1597,[1]demo_data!$G$5:$G$2257,[1]demo_data!$I$5:$I$2257)","v":3171}]
[261,"Côte d'Ivoire","CIV","ME","AKOUPE",15343,"FSU AFFERY","Modérée",8666,3976,12642,0,0,0,0,2,{"$f":"_xlfn.XLOOKUP($G1598,[1]demo_data!$G$5:$G$2257,[1]demo_data!$I$5:$I$2257)","v":39300}]
[262,"Côte d'Ivoire","CIV","ME","AKOUPE",15343,"HG AKOUPE","Modérée",8726,4003,12729,0,0,0,0,2,{"$f":"_xlfn.XLOOKUP($G1599,[1]demo_data!$G$5:$G$2257,[1]demo_data!$I$5:$I$2257)","v":39576}]
[263,"Côte d'Ivoire","CIV","ME","YAKASSE ATTOBROU",15343,"HG YAKASSE-ATTOBROU","Modérée",6498,2982,9480,0,0,0,0,2,{"$f":"_xlfn.XLOOKUP($G1600,[1]demo_data!$G$5:$G$2257,[1]demo_data!$I$5:$I$2257)","v":18065}]
[264,"Côte d'Ivoire","CIV","ME","ALEPE",15344,"CMS SAN BONIFACIO DE DOMOLON","Faible",869,0,869,0,0,0,0,1,{"$f":"_xlfn.XLOOKUP($G1601,[1]demo_data!$G$5:$G$2257,[1]demo_data!$I$5:$I$2257)","v":3345}]
[265,"Côte d'Ivoire","CIV","ME","ALEPE",15344,"CSR AHOUTOUE","Faible",1007,0,1007,0,0,0,0,1,{"$f":"_xlfn.XLOOKUP($G1602,[1]demo_data!$G$5:$G$2257,[1]demo_data!$I$5:$I$2257)","v":3877}]
[266,"Côte d'Ivoire","CIV","ME","ALEPE",15344,"CSR AKOURE","Faible",1289,0,1289,0,0,0,0,1,{"$f":"_xlfn.XLOOKUP($G1603,[1]demo_data!$G$5:$G$2257,[1]demo_data!$I$5:$I$2257)","v":4964}]
[267,"Côte d'Ivoire","CIV","ME","ALEPE",15344,"CSR ANDOU-M'BATTO","Faible",1696,0,1696,0,0,0,0,1,{"$f":"_xlfn.XLOOKUP($G1604,[1]demo_data!$G$5:$G$2257,[1]demo_data!$I$5:$I$2257)","v":6529}]
[268,"Côte d'Ivoire","CIV","ME","ALEPE",15344,"CSR DZEUDJI","Faible",2757,0,2757,0,0,0,0,1,{"$f":"_xlfn.XLOOKUP($G1605,[1]demo_data!$G$5:$G$2257,[1]demo_data!$I$5:$I$2257)","v":10614}]
[269,"Côte d'Ivoire","CIV","ME","ALEPE",15344,"CSR GRAND-ALEPE","Faible",1420,0,1420,0,0,0,0,1,{"$f":"_xlfn.XLOOKUP($G1606,[1]demo_data!$G$5:$G$2257,[1]demo_data!$I$5:$I$2257)","v":5467}]
[270,"Côte d'Ivoire","CIV","ME","ALEPE",15344,"CSR KODIOUSSOU","Faible",1719,0,1719,0,0,0,0,1,{"$f":"_xlfn.XLOOKUP($G1607,[1]demo_data!$G$5:$G$2257,[1]demo_data!$I$5:$I$2257)","v":6618}]
[271,"Côte d'Ivoire","CIV","ME","ALEPE",15344,"CSR MONGA","Faible",1854,0,1854,0,0,0,0,1,{"$f":"_xlfn.XLOOKUP($G1608,[1]demo_data!$G$5:$G$2257,[1]demo_data!$I$5:$I$2257)","v":7138}]
[272,"Côte d'Ivoire","CIV","ME","ALEPE",15344,"CSR MONTEZO","Faible",2206,0,2206,0,0,0,0,1,{"$f":"_xlfn.XLOOKUP($G1609,[1]demo_data!$G$5:$G$2257,[1]demo_data!$I$5:$I$2257)","v":8493}]
[273,"Côte d'Ivoire","CIV","ME","ALEPE",15344,"CSR MOTOBE","Faible",793,0,793,0,0,0,0,1,{"$f":"_xlfn.XLOOKUP($G1610,[1]demo_data!$G$5:$G$2257,[1]demo_data!$I$5:$I$2257)","v":3052}]
[274,"Côte d'Ivoire","CIV","ME","ALEPE",15344,"CSU ABOISSO-COMOE","Faible",4432,0,4432,0,0,0,0,1,{"$f":"_xlfn.XLOOKUP($G1611,[1]demo_data!$G$5:$G$2257,[1]demo_data!$I$5:$I$2257)","v":17064}]
[275,"Côte d'Ivoire","CIV","ME","ALEPE",15344,"CSU ALLOSSO","Faible",3598,0,3598,0,0,0,0,1,{"$f":"_xlfn.XLOOKUP($G1612,[1]demo_data!$G$5:$G$2257,[1]demo_data!$I$5:$I$2257)","v":13851}]
[276,"Côte d'Ivoire","CIV","ME","ALEPE",15344,"CSU DANGUIRA","Faible",2991,0,2991,0,0,0,0,1,{"$f":"_xlfn.XLOOKUP($G1613,[1]demo_data!$G$5:$G$2257,[1]demo_data!$I$5:$I$2257)","v":11516}]
[277,"Côte d'Ivoire","CIV","ME","ALEPE",15344,"CSU MEMNI","Faible",2897,0,2897,0,0,0,0,1,{"$f":"_xlfn.XLOOKUP($G1614,[1]demo_data!$G$5:$G$2257,[1]demo_data!$I$5:$I$2257)","v":11155}]
[278,"Côte d'Ivoire","CIV","ME","ALEPE",15344,"CSU OGHLWAPO","Faible",537,0,537,0,0,0,0,1,{"$f":"_xlfn.XLOOKUP($G1615,[1]demo_data!$G$5:$G$2257,[1]demo_data!$I$5:$I$2257)","v":2065}]
[279,"Côte d'Ivoire","CIV","ME","ALEPE",15344,"DR KOSSANDJI","Faible",1718,0,1718,0,0,0,0,1,{"$f":"_xlfn.XLOOKUP($G1616,[1]demo_data!$G$5:$G$2257,[1]demo_data!$I$5:$I$2257)","v":6615}]
[280,"Côte d'Ivoire","CIV","ME","ALEPE",15344,"DR MOPODJI","Faible",1135,0,1135,0,0,0,0,1,{"$f":"_xlfn.XLOOKUP($G1617,[1]demo_data!$G$5:$G$2257,[1]demo_data!$I$5:$I$2257)","v":4369}]
[281,"Côte d'Ivoire","CIV","ME","ALEPE",15344,"DR YAKASSE-COMOE","Faible",1588,0,1588,0,0,0,0,1,{"$f":"_xlfn.XLOOKUP($G1618,[1]demo_data!$G$5:$G$2257,[1]demo_data!$I$5:$I$2257)","v":6115}]
[282,"Côte d'Ivoire","CIV","ME","ALEPE",15344,"HG ALEPE","Faible",3548,0,3548,0,0,0,0,1,{"$f":"_xlfn.XLOOKUP($G1619,[1]demo_data!$G$5:$G$2257,[1]demo_data!$I$5:$I$2257)","v":13659}]
[1673,"Côte d'Ivoire","CIV","MORONOU","ARRAH",15447,"ANDE","Non endémique",0,0,0,0,0,0,0,0,{"$f":"_xlfn.XLOOKUP($G1620,[1]demo_data!$G$5:$G$2257,[1]demo_data!$I$5:$I$2257)","v":18901}]
[1676,"Côte d'Ivoire","CIV","MORONOU","ARRAH",15447,"ARRAH","Non endémique",0,0,0,0,0,0,0,0,{"$f":"_xlfn.XLOOKUP($G1621,[1]demo_data!$G$5:$G$2257,[1]demo_data!$I$5:$I$2257)","v":40517}]
[1678,"Côte d'Ivoire","CIV","MORONOU","ARRAH",15447,"ASSALE-KOUASSIKRO","Faible",1981,0,1981,1,1981,0,1981,1,{"$f":"_xlfn.XLOOKUP($G1622,[1]demo_data!$G$5:$G$2257,[1]demo_data!$I$5:$I$2257)","v":8493}]
[1685,"Côte d'Ivoire","CIV","MORONOU","ARRAH",15447,"BOUADIKRO","Faible",898,0,898,1,898,0,898,1,{"$f":"_xlfn.XLOOKUP($G1623,[1]demo_data!$G$5:$G$2257,[1]demo_data!$I$5:$I$2257)","v":3848}]
[1686,"Côte d'Ivoire","CIV","MORONOU","ARRAH",15447,"BROU-AKPAOUSSOU","Non endémique",0,0,0,0,0,0,0,0,{"$f":"_xlfn.XLOOKUP($G1624,[1]demo_data!$G$5:$G$2257,[1]demo_data!$I$5:$I$2257)","v":16812}]
[1687,"Côte d'Ivoire","CIV","MORONOU","ARRAH",15447,"BROU-ATTAKRO","Faible",1100,0,1100,1,1100,0,1100,1,{"$f":"_xlfn.XLOOKUP($G1625,[1]demo_data!$G$5:$G$2257,[1]demo_data!$I$5:$I$2257)","v":4714}]
[1690,"Côte d'Ivoire","CIV","MORONOU","ARRAH",15447,"ERROBO","Faible",1249,0,1249,1,1249,0,1249,1,{"$f":"_xlfn.XLOOKUP($G1626,[1]demo_data!$G$5:$G$2257,[1]demo_data!$I$5:$I$2257)","v":5349}]
[1693,"Côte d'Ivoire","CIV","MORONOU","ARRAH",15447,"KOTOBI","Faible",2033,0,2033,1,2033,0,2033,1,{"$f":"_xlfn.XLOOKUP($G1627,[1]demo_data!$G$5:$G$2257,[1]demo_data!$I$5:$I$2257)","v":8710}]
[1694,"Côte d'Ivoire","CIV","MORONOU","ARRAH",15447,"KOUADIOKRO","Faible",719,0,719,1,719,0,719,1,{"$f":"_xlfn.XLOOKUP($G1628,[1]demo_data!$G$5:$G$2257,[1]demo_data!$I$5:$I$2257)","v":3083}]
[1702,"Côte d'Ivoire","CIV","MORONOU","ARRAH",15447,"N'ZANFOUENOU","Non endémique",0,0,0,0,0,0,0,0,{"$f":"_xlfn.XLOOKUP($G1629,[1]demo_data!$G$5:$G$2257,[1]demo_data!$I$5:$I$2257)","v":5608}]
[1666,"Côte d'Ivoire","CIV","MORONOU","BONGOUANOU",15446,"ABONGOUA","Faible",5221,0,5221,1,5221,0,5221,1,{"$f":"_xlfn.XLOOKUP($G1630,[1]demo_data!$G$5:$G$2257,[1]demo_data!$I$5:$I$2257)","v":13808}]
[1668,"Côte d'Ivoire","CIV","MORONOU","BONGOUANOU",15446,"AGBOSSOU","Faible",4014,0,4014,1,4014,0,4014,1,{"$f":"_xlfn.XLOOKUP($G1631,[1]demo_data!$G$5:$G$2257,[1]demo_data!$I$5:$I$2257)","v":10613}]
[1670,"Côte d'Ivoire","CIV","MORONOU","BONGOUANOU",15446,"AGOUA","Faible",930,0,930,1,930,0,930,1,{"$f":"_xlfn.XLOOKUP($G1632,[1]demo_data!$G$5:$G$2257,[1]demo_data!$I$5:$I$2257)","v":2459}]
[1671,"Côte d'Ivoire","CIV","MORONOU","BONGOUANOU",15446,"AHOUNIENFOUTOU","Non endémique",0,0,0,0,0,0,0,0,{"$f":"_xlfn.XLOOKUP($G1633,[1]demo_data!$G$5:$G$2257,[1]demo_data!$I$5:$I$2257)","v":2159}]
[1672,"Côte d'Ivoire","CIV","MORONOU","BONGOUANOU",15446,"AKAKRO","Faible",1018,0,1018,1,1018,0,1018,1,{"$f":"_xlfn.XLOOKUP($G1634,[1]demo_data!$G$5:$G$2257,[1]demo_data!$I$5:$I$2257)","v":2690}]
[1679,"Côte d'Ivoire","CIV","MORONOU","BONGOUANOU",15446,"ASSAOUFOUE","Faible",2173,0,2173,1,2173,0,2173,1,{"$f":"_xlfn.XLOOKUP($G1635,[1]demo_data!$G$5:$G$2257,[1]demo_data!$I$5:$I$2257)","v":5745}]
[1681,"Côte d'Ivoire","CIV","MORONOU","BONGOUANOU",15446,"ASSIE-KOUMASSI","Faible",5315,0,5315,1,5315,0,5315,1,{"$f":"_xlfn.XLOOKUP($G1636,[1]demo_data!$G$5:$G$2257,[1]demo_data!$I$5:$I$2257)","v":14054}]
[1683,"Côte d'Ivoire","CIV","MORONOU","BONGOUANOU",15446,"BOCASSI","Faible",1147,0,1147,1,1147,0,1147,1,{"$f":"_xlfn.XLOOKUP($G1637,[1]demo_data!$G$5:$G$2257,[1]demo_data!$I$5:$I$2257)","v":3034}]
[1684,"Côte d'Ivoire","CIV","MORONOU","BONGOUANOU",15446,"BONGOUANOU","Faible",15262,0,15262,1,15262,0,15262,1,{"$f":"_xlfn.XLOOKUP($G1638,[1]demo_data!$G$5:$G$2257,[1]demo_data!$I$5:$I$2257)","v":40358}]
[1691,"Côte d'Ivoire","CIV","MORONOU","BONGOUANOU",15446,"FRONOBO","Faible",1087,0,1087,1,1087,0,1087,1,{"$f":"_xlfn.XLOOKUP($G1639,[1]demo_data!$G$5:$G$2257,[1]demo_data!$I$5:$I$2257)","v":2872}]
[1692,"Côte d'Ivoire","CIV","MORONOU","BONGOUANOU",15446,"KANGANDI","Faible",3161,0,3161,1,3161,0,3161,1,{"$f":"_xlfn.XLOOKUP($G1640,[1]demo_data!$G$5:$G$2257,[1]demo_data!$I$5:$I$2257)","v":8359}]
[1697,"Côte d'Ivoire","CIV","MORONOU","BONGOUANOU",15446,"KREGBE","Faible",4288,0,4288,1,4288,0,4288,1,{"$f":"_xlfn.XLOOKUP($G1641,[1]demo_data!$G$5:$G$2257,[1]demo_data!$I$5:$I$2257)","v":11337}]
[1700,"Côte d'Ivoire","CIV","MORONOU","BONGOUANOU",15446,"N'GUESSANKRO","Faible",4811,0,4811,1,4811,0,4811,1,{"$f":"_xlfn.XLOOKUP($G1642,[1]demo_data!$G$5:$G$2257,[1]demo_data!$I$5:$I$2257)","v":12721}]
[1701,"Côte d'Ivoire","CIV","MORONOU","BONGOUANOU",15446,"N'GUINOU","Faible",2746,0,2746,1,2746,0,2746,1,{"$f":"_xlfn.XLOOKUP($G1643,[1]demo_data!$G$5:$G$2257,[1]demo_data!$I$5:$I$2257)","v":7261}]
[1703,"Côte d'Ivoire","CIV","MORONOU","BONGOUANOU",15446,"N'ZUEKOKORE","Faible",3717,0,3717,1,3717,0,3717,1,{"$f":"_xlfn.XLOOKUP($G1644,[1]demo_data!$G$5:$G$2257,[1]demo_data!$I$5:$I$2257)","v":9831}]
[1667,"Côte d'Ivoire","CIV","MORONOU","M'BATTO",15448,"ADOUAKOUAKRO","Modérée",2404,1103,3507,1,2404,1103,3507,2,{"$f":"_xlfn.XLOOKUP($G1645,[1]demo_data!$G$5:$G$2257,[1]demo_data!$I$5:$I$2257)","v":9807}]
[1669,"Côte d'Ivoire","CIV","MORONOU","M'BATTO",15448,"AGNIA","Modérée",1479,679,2158,1,1479,679,2158,2,{"$f":"_xlfn.XLOOKUP($G1646,[1]demo_data!$G$5:$G$2257,[1]demo_data!$I$5:$I$2257)","v":6038}]
[1674,"Côte d'Ivoire","CIV","MORONOU","M'BATTO",15448,"ANGBANOU","Modérée",569,261,830,1,569,261,830,2,{"$f":"_xlfn.XLOOKUP($G1647,[1]demo_data!$G$5:$G$2257,[1]demo_data!$I$5:$I$2257)","v":2322}]
[1675,"Côte d'Ivoire","CIV","MORONOU","M'BATTO",15448,"ANOUMABA","Modérée",4233,1942,6175,1,4233,1942,6175,2,{"$f":"_xlfn.XLOOKUP($G1648,[1]demo_data!$G$5:$G$2257,[1]demo_data!$I$5:$I$2257)","v":17275}]
[1677,"Côte d'Ivoire","CIV","MORONOU","M'BATTO",15448,"ASSAHARA","Modérée",1268,582,1850,1,1268,582,1850,2,{"$f":"_xlfn.XLOOKUP($G1649,[1]demo_data!$G$5:$G$2257,[1]demo_data!$I$5:$I$2257)","v":5176}]
[1680,"Côte d'Ivoire","CIV","MORONOU","M'BATTO",15448,"ASSIE-AKPESSE","Modérée",2002,918,2920,1,2002,918,2920,2,{"$f":"_xlfn.XLOOKUP($G1650,[1]demo_data!$G$5:$G$2257,[1]demo_data!$I$5:$I$2257)","v":8169}]
[1682,"Côte d'Ivoire","CIV","MORONOU","M'BATTO",15448,"ASSOUMOUKRO","Modérée",2306,1058,3364,1,2306,1058,3364,2,{"$f":"_xlfn.XLOOKUP($G1651,[1]demo_data!$G$5:$G$2257,[1]demo_data!$I$5:$I$2257)","v":9411}]
[1688,"Côte d'Ivoire","CIV","MORONOU","M'BATTO",15448,"DAMOIKRO","Modérée",315,145,460,1,315,145,460,2,{"$f":"_xlfn.XLOOKUP($G1652,[1]demo_data!$G$5:$G$2257,[1]demo_data!$I$5:$I$2257)","v":1286}]
[1689,"Côte d'Ivoire","CIV","MORONOU","M'BATTO",15448,"DIANGOBO","Modérée",929,426,1355,1,929,426,1355,2,{"$f":"_xlfn.XLOOKUP($G1653,[1]demo_data!$G$5:$G$2257,[1]demo_data!$I$5:$I$2257)","v":3790}]
[1695,"Côte d'Ivoire","CIV","MORONOU","M'BATTO",15448,"KOUADIOTEKRO","Modérée",277,127,404,1,277,127,404,2,{"$f":"_xlfn.XLOOKUP($G1654,[1]demo_data!$G$5:$G$2257,[1]demo_data!$I$5:$I$2257)","v":1130}]
[1696,"Côte d'Ivoire","CIV","MORONOU","M'BATTO",15448,"KOUBEBO","Modérée",432,198,630,1,432,198,630,2,{"$f":"_xlfn.XLOOKUP($G1655,[1]demo_data!$G$5:$G$2257,[1]demo_data!$I$5:$I$2257)","v":1760}]
[1698,"Côte d'Ivoire","CIV","MORONOU","M'BATTO",15448,"M'BATTO","Modérée",8511,3905,12416,1,8511,3905,12416,2,{"$f":"_xlfn.XLOOKUP($G1656,[1]demo_data!$G$5:$G$2257,[1]demo_data!$I$5:$I$2257)","v":34728}]
[1699,"Côte d'Ivoire","CIV","MORONOU","M'BATTO",15448,"N'GOHINOU","Modérée",1134,520,1654,1,1134,520,1654,2,{"$f":"_xlfn.XLOOKUP($G1657,[1]demo_data!$G$5:$G$2257,[1]demo_data!$I$5:$I$2257)","v":4624}]
[1704,"Côte d'Ivoire","CIV","MORONOU","M'BATTO",15448,"SEREBISSOU","Modérée",2476,1136,3612,1,2476,1136,3612,2,{"$f":"_xlfn.XLOOKUP($G1658,[1]demo_data!$G$5:$G$2257,[1]demo_data!$I$5:$I$2257)","v":10105}]
[1705,"Côte d'Ivoire","CIV","MORONOU","M'BATTO",15448,"TAKIKRO","Modérée",864,396,1260,1,864,396,1260,2,{"$f":"_xlfn.XLOOKUP($G1659,[1]demo_data!$G$5:$G$2257,[1]demo_data!$I$5:$I$2257)","v":3526}]
[1706,"Côte d'Ivoire","CIV","MORONOU","M'BATTO",15448,"TCHEKOU CARREFOUR","Modérée",1430,657,2087,1,1430,657,2087,2,{"$f":"_xlfn.XLOOKUP($G1660,[1]demo_data!$G$5:$G$2257,[1]demo_data!$I$5:$I$2257)","v":5836}]
[1707,"Côte d'Ivoire","CIV","MORONOU","M'BATTO",15448,"TIEMELEKRO","Modérée",5413,2484,7897,1,5413,2484,7897,2,{"$f":"_xlfn.XLOOKUP($G1661,[1]demo_data!$G$5:$G$2257,[1]demo_data!$I$5:$I$2257)","v":22090}]
[832,"Côte d'Ivoire","CIV","NAWA","BUYO",15414,"AMANIKRO","Modérée",2648,1215,3863,0,0,0,0,2,{"$f":"_xlfn.XLOOKUP($G1662,[1]demo_data!$G$5:$G$2257,[1]demo_data!$I$5:$I$2257)","v":13154}]
[833,"Côte d'Ivoire","CIV","NAWA","BUYO",15414,"AMOINKRO","Modérée",2292,1052,3344,0,0,0,0,2,{"$f":"_xlfn.XLOOKUP($G1663,[1]demo_data!$G$5:$G$2257,[1]demo_data!$I$5:$I$2257)","v":11383}]
[834,"Côte d'Ivoire","CIV","NAWA","BUYO",15414,"BAGLO 2","Modérée",1659,761,2420,0,0,0,0,2,{"$f":"_xlfn.XLOOKUP($G1664,[1]demo_data!$G$5:$G$2257,[1]demo_data!$I$5:$I$2257)","v":8244}]
[835,"Côte d'Ivoire","CIV","NAWA","BUYO",15414,"BUYO CITE","Modérée",3180,1459,4639,0,0,0,0,2,{"$f":"_xlfn.XLOOKUP($G1665,[1]demo_data!$G$5:$G$2257,[1]demo_data!$I$5:$I$2257)","v":15794}]
[836,"Côte d'Ivoire","CIV","NAWA","BUYO",15414,"BUYO PLATEAU","Modérée",2906,1334,4240,0,0,0,0,2,{"$f":"_xlfn.XLOOKUP($G1666,[1]demo_data!$G$5:$G$2257,[1]demo_data!$I$5:$I$2257)","v":14436}]
[837,"Côte d'Ivoire","CIV","NAWA","BUYO",15414,"DAPEOUA","Modérée",6882,3158,10040,0,0,0,0,2,{"$f":"_xlfn.XLOOKUP($G1667,[1]demo_data!$G$5:$G$2257,[1]demo_data!$I$5:$I$2257)","v":34187}]
[838,"Côte d'Ivoire","CIV","NAWA","BUYO",15414,"GBLIGLO","Modérée",3265,1498,4763,0,0,0,0,2,{"$f":"_xlfn.XLOOKUP($G1668,[1]demo_data!$G$5:$G$2257,[1]demo_data!$I$5:$I$2257)","v":16215}]
[839,"Côte d'Ivoire","CIV","NAWA","BUYO",15414,"GNAGBOYA","Modérée",2559,1174,3733,0,0,0,0,2,{"$f":"_xlfn.XLOOKUP($G1669,[1]demo_data!$G$5:$G$2257,[1]demo_data!$I$5:$I$2257)","v":12712}]
[840,"Côte d'Ivoire","CIV","NAWA","BUYO",15414,"KODAYA","Modérée",2235,1025,3260,0,0,0,0,2,{"$f":"_xlfn.XLOOKUP($G1670,[1]demo_data!$G$5:$G$2257,[1]demo_data!$I$5:$I$2257)","v":11102}]
[841,"Côte d'Ivoire","CIV","NAWA","BUYO",15414,"KOREAHINOU","Modérée",4772,2189,6961,0,0,0,0,2,{"$f":"_xlfn.XLOOKUP($G1671,[1]demo_data!$G$5:$G$2257,[1]demo_data!$I$5:$I$2257)","v":23702}]
[842,"Côte d'Ivoire","CIV","NAWA","BUYO",15414,"LOGBO 2","Modérée",1583,726,2309,0,0,0,0,2,{"$f":"_xlfn.XLOOKUP($G1672,[1]demo_data!$G$5:$G$2257,[1]demo_data!$I$5:$I$2257)","v":7866}]
[843,"Côte d'Ivoire","CIV","NAWA","BUYO",15414,"LOGBOGBA","Modérée",3592,1648,5240,0,0,0,0,2,{"$f":"_xlfn.XLOOKUP($G1673,[1]demo_data!$G$5:$G$2257,[1]demo_data!$I$5:$I$2257)","v":17840}]
[844,"Côte d'Ivoire","CIV","NAWA","BUYO",15414,"LOGBOZOA","Modérée",3686,1692,5378,0,0,0,0,2,{"$f":"_xlfn.XLOOKUP($G1674,[1]demo_data!$G$5:$G$2257,[1]demo_data!$I$5:$I$2257)","v":18313}]
[845,"Côte d'Ivoire","CIV","NAWA","BUYO",15414,"MAYAKOFFIKRO","Modérée",1605,737,2342,0,0,0,0,2,{"$f":"_xlfn.XLOOKUP($G1675,[1]demo_data!$G$5:$G$2257,[1]demo_data!$I$5:$I$2257)","v":7972}]
[846,"Côte d'Ivoire","CIV","NAWA","BUYO",15414,"NOUKOUPUDOU","Modérée",3060,1404,4464,0,0,0,0,2,{"$f":"_xlfn.XLOOKUP($G1676,[1]demo_data!$G$5:$G$2257,[1]demo_data!$I$5:$I$2257)","v":15198}]
[847,"Côte d'Ivoire","CIV","NAWA","BUYO",15414,"SAGBOYA","Modérée",2251,1033,3284,0,0,0,0,2,{"$f":"_xlfn.XLOOKUP($G1677,[1]demo_data!$G$5:$G$2257,[1]demo_data!$I$5:$I$2257)","v":11184}]
[848,"Côte d'Ivoire","CIV","NAWA","BUYO",15414,"TRAWLINKRO","Modérée",2309,1059,3368,0,0,0,0,2,{"$f":"_xlfn.XLOOKUP($G1678,[1]demo_data!$G$5:$G$2257,[1]demo_data!$I$5:$I$2257)","v":11467}]
[849,"Côte d'Ivoire","CIV","NAWA","BUYO",15414,"WONSEALY","Modérée",3949,1812,5761,0,0,0,0,2,{"$f":"_xlfn.XLOOKUP($G1679,[1]demo_data!$G$5:$G$2257,[1]demo_data!$I$5:$I$2257)","v":19617}]
[850,"Côte d'Ivoire","CIV","NAWA","GUEYO",15366,"CSR ALIKRO","Faible",892,0,892,0,0,0,0,1,{"$f":"_xlfn.XLOOKUP($G1680,[1]demo_data!$G$5:$G$2257,[1]demo_data!$I$5:$I$2257)","v":3503}]
[851,"Côte d'Ivoire","CIV","NAWA","GUEYO",15366,"CSR BALEKO","Modérée",2007,920,2927,0,0,0,0,2,{"$f":"_xlfn.XLOOKUP($G1681,[1]demo_data!$G$5:$G$2257,[1]demo_data!$I$5:$I$2257)","v":7890}]
[852,"Côte d'Ivoire","CIV","NAWA","GUEYO",15366,"CSR LAHOURIDOU","Non endémique",0,0,0,0,0,0,0,0,{"$f":"_xlfn.XLOOKUP($G1682,[1]demo_data!$G$5:$G$2257,[1]demo_data!$I$5:$I$2257)","v":3103}]
[853,"Côte d'Ivoire","CIV","NAWA","GUEYO",15366,"CSR LAZAREKRO","Faible",1183,0,1183,0,0,0,0,1,{"$f":"_xlfn.XLOOKUP($G1683,[1]demo_data!$G$5:$G$2257,[1]demo_data!$I$5:$I$2257)","v":4653}]
[854,"Côte d'Ivoire","CIV","NAWA","GUEYO",15366,"CSR NIOROUHIO","Modérée",2767,1269,4036,0,0,0,0,2,{"$f":"_xlfn.XLOOKUP($G1684,[1]demo_data!$G$5:$G$2257,[1]demo_data!$I$5:$I$2257)","v":10879}]
[855,"Côte d'Ivoire","CIV","NAWA","GUEYO",15366,"CSR TAGBAYO","Faible",1403,0,1403,0,0,0,0,1,{"$f":"_xlfn.XLOOKUP($G1685,[1]demo_data!$G$5:$G$2257,[1]demo_data!$I$5:$I$2257)","v":5514}]
[856,"Côte d'Ivoire","CIV","NAWA","GUEYO",15366,"CSR ZIWAYO","Modérée",1705,783,2488,0,0,0,0,2,{"$f":"_xlfn.XLOOKUP($G1686,[1]demo_data!$G$5:$G$2257,[1]demo_data!$I$5:$I$2257)","v":6705}]
[857,"Côte d'Ivoire","CIV","NAWA","GUEYO",15366,"CSR ZOHOURAYO","Modérée",2700,1239,3939,0,0,0,0,2,{"$f":"_xlfn.XLOOKUP($G1687,[1]demo_data!$G$5:$G$2257,[1]demo_data!$I$5:$I$2257)","v":10619}]
[858,"Côte d'Ivoire","CIV","NAWA","GUEYO",15366,"CSU DABOUYO","Forte",5428,12452,17880,1,5428,12452,17880,3,{"$f":"_xlfn.XLOOKUP($G1688,[1]demo_data!$G$5:$G$2257,[1]demo_data!$I$5:$I$2257)","v":21340}]
[859,"Côte d'Ivoire","CIV","NAWA","GUEYO",15366,"DR BRETIHIO","Faible",933,0,933,0,0,0,0,1,{"$f":"_xlfn.XLOOKUP($G1689,[1]demo_data!$G$5:$G$2257,[1]demo_data!$I$5:$I$2257)","v":3667}]
[860,"Côte d'Ivoire","CIV","NAWA","GUEYO",15366,"DR KOSSOYO","Faible",766,0,766,0,0,0,0,1,{"$f":"_xlfn.XLOOKUP($G1690,[1]demo_data!$G$5:$G$2257,[1]demo_data!$I$5:$I$2257)","v":3012}]
[861,"Côte d'Ivoire","CIV","NAWA","GUEYO",15366,"HG GUEYO","Modérée",4199,1927,6126,0,0,0,0,2,{"$f":"_xlfn.XLOOKUP($G1691,[1]demo_data!$G$5:$G$2257,[1]demo_data!$I$5:$I$2257)","v":16510}]
[862,"Côte d'Ivoire","CIV","NAWA","MEAGUI",15413,"ADAMAGUI","Modérée",4105,1884,5989,0,0,0,0,2,{"$f":"_xlfn.XLOOKUP($G1692,[1]demo_data!$G$5:$G$2257,[1]demo_data!$I$5:$I$2257)","v":13930}]
[863,"Côte d'Ivoire","CIV","NAWA","MEAGUI",15413,"AMARAGUI","Modérée",3449,1583,5032,0,0,0,0,2,{"$f":"_xlfn.XLOOKUP($G1693,[1]demo_data!$G$5:$G$2257,[1]demo_data!$I$5:$I$2257)","v":11708}]
[864,"Côte d'Ivoire","CIV","NAWA","MEAGUI",15413,"ANGAGUI","Modérée",4044,1856,5900,0,0,0,0,2,{"$f":"_xlfn.XLOOKUP($G1694,[1]demo_data!$G$5:$G$2257,[1]demo_data!$I$5:$I$2257)","v":13726}]
[865,"Côte d'Ivoire","CIV","NAWA","MEAGUI",15413,"ASSAWLEKRO","Modérée",2030,932,2962,0,0,0,0,2,{"$f":"_xlfn.XLOOKUP($G1695,[1]demo_data!$G$5:$G$2257,[1]demo_data!$I$5:$I$2257)","v":6893}]
[866,"Côte d'Ivoire","CIV","NAWA","MEAGUI",15413,"BLAGBANIE","Modérée",968,443,1411,0,0,0,0,2,{"$f":"_xlfn.XLOOKUP($G1696,[1]demo_data!$G$5:$G$2257,[1]demo_data!$I$5:$I$2257)","v":3282}]
[867,"Côte d'Ivoire","CIV","NAWA","MEAGUI",15413,"BROUAGUI","Modérée",3539,1623,5162,0,0,0,0,2,{"$f":"_xlfn.XLOOKUP($G1697,[1]demo_data!$G$5:$G$2257,[1]demo_data!$I$5:$I$2257)","v":12009}]
[868,"Côte d'Ivoire","CIV","NAWA","MEAGUI",15413,"DAHILI","Modérée",8243,3782,12025,0,0,0,0,2,{"$f":"_xlfn.XLOOKUP($G1698,[1]demo_data!$G$5:$G$2257,[1]demo_data!$I$5:$I$2257)","v":27973}]
[869,"Côte d'Ivoire","CIV","NAWA","MEAGUI",15413,"DJIGBADJI","Modérée",3025,1388,4413,0,0,0,0,2,{"$f":"_xlfn.XLOOKUP($G1699,[1]demo_data!$G$5:$G$2257,[1]demo_data!$I$5:$I$2257)","v":10266}]
[870,"Côte d'Ivoire","CIV","NAWA","MEAGUI",15413,"GNAKOREAGUI","Modérée",2259,1036,3295,0,0,0,0,2,{"$f":"_xlfn.XLOOKUP($G1700,[1]demo_data!$G$5:$G$2257,[1]demo_data!$I$5:$I$2257)","v":7668}]
[871,"Côte d'Ivoire","CIV","NAWA","MEAGUI",15413,"GNAMANGUI","Modérée",1975,906,2881,0,0,0,0,2,{"$f":"_xlfn.XLOOKUP($G1701,[1]demo_data!$G$5:$G$2257,[1]demo_data!$I$5:$I$2257)","v":6702}]
[872,"Côte d'Ivoire","CIV","NAWA","MEAGUI",15413,"GNIPI 2","Modérée",2834,1300,4134,0,0,0,0,2,{"$f":"_xlfn.XLOOKUP($G1702,[1]demo_data!$G$5:$G$2257,[1]demo_data!$I$5:$I$2257)","v":9618}]
[873,"Côte d'Ivoire","CIV","NAWA","MEAGUI",15413,"GNITITOUAGUI","Modérée",3899,1788,5687,0,0,0,0,2,{"$f":"_xlfn.XLOOKUP($G1703,[1]demo_data!$G$5:$G$2257,[1]demo_data!$I$5:$I$2257)","v":13231}]
[874,"Côte d'Ivoire","CIV","NAWA","MEAGUI",15413,"IPOU-N'DRIKRO","Modérée",2574,1181,3755,0,0,0,0,2,{"$f":"_xlfn.XLOOKUP($G1704,[1]demo_data!$G$5:$G$2257,[1]demo_data!$I$5:$I$2257)","v":8736}]
[876,"Côte d'Ivoire","CIV","NAWA","MEAGUI",15413,"KANGAGUI","Modérée",4111,1886,5997,0,0,0,0,2,{"$f":"_xlfn.XLOOKUP($G1705,[1]demo_data!$G$5:$G$2257,[1]demo_data!$I$5:$I$2257)","v":13952}]
[877,"Côte d'Ivoire","CIV","NAWA","MEAGUI",15413,"KOREAGUI 2","Modérée",898,412,1310,0,0,0,0,2,{"$f":"_xlfn.XLOOKUP($G1706,[1]demo_data!$G$5:$G$2257,[1]demo_data!$I$5:$I$2257)","v":3047}]
[878,"Côte d'Ivoire","CIV","NAWA","MEAGUI",15413,"KRAGUI","Modérée",1680,771,2451,0,0,0,0,2,{"$f":"_xlfn.XLOOKUP($G1707,[1]demo_data!$G$5:$G$2257,[1]demo_data!$I$5:$I$2257)","v":5699}]
[879,"Côte d'Ivoire","CIV","NAWA","MEAGUI",15413,"MEAGUI","Modérée",11327,5197,16524,0,0,0,0,2,{"$f":"_xlfn.XLOOKUP($G1708,[1]demo_data!$G$5:$G$2257,[1]demo_data!$I$5:$I$2257)","v":38441}]
[880,"Côte d'Ivoire","CIV","NAWA","MEAGUI",15413,"N'DRIAGUI","Modérée",1579,724,2303,0,0,0,0,2,{"$f":"_xlfn.XLOOKUP($G1709,[1]demo_data!$G$5:$G$2257,[1]demo_data!$I$5:$I$2257)","v":5359}]
[881,"Côte d'Ivoire","CIV","NAWA","MEAGUI",15413,"NEGREAGUI","Modérée",4032,1850,5882,0,0,0,0,2,{"$f":"_xlfn.XLOOKUP($G1710,[1]demo_data!$G$5:$G$2257,[1]demo_data!$I$5:$I$2257)","v":13686}]
[883,"Côte d'Ivoire","CIV","NAWA","MEAGUI",15413,"PASKALKRO","Modérée",3638,1669,5307,0,0,0,0,2,{"$f":"_xlfn.XLOOKUP($G1711,[1]demo_data!$G$5:$G$2257,[1]demo_data!$I$5:$I$2257)","v":12347}]
[885,"Côte d'Ivoire","CIV","NAWA","MEAGUI",15413,"POGREAGUI","Modérée",5436,2494,7930,0,0,0,0,2,{"$f":"_xlfn.XLOOKUP($G1712,[1]demo_data!$G$5:$G$2257,[1]demo_data!$I$5:$I$2257)","v":18449}]
[887,"Côte d'Ivoire","CIV","NAWA","MEAGUI",15413,"TAKOREAGUI","Modérée",4401,2019,6420,0,0,0,0,2,{"$f":"_xlfn.XLOOKUP($G1713,[1]demo_data!$G$5:$G$2257,[1]demo_data!$I$5:$I$2257)","v":14935}]
[888,"Côte d'Ivoire","CIV","NAWA","MEAGUI",15413,"TOUAGUI 1","Modérée",3603,1653,5256,0,0,0,0,2,{"$f":"_xlfn.XLOOKUP($G1714,[1]demo_data!$G$5:$G$2257,[1]demo_data!$I$5:$I$2257)","v":12228}]
[889,"Côte d'Ivoire","CIV","NAWA","MEAGUI",15413,"TOUAGUI 2","Modérée",4543,2084,6627,0,0,0,0,2,{"$f":"_xlfn.XLOOKUP($G1715,[1]demo_data!$G$5:$G$2257,[1]demo_data!$I$5:$I$2257)","v":15417}]
[890,"Côte d'Ivoire","CIV","NAWA","MEAGUI",15413,"WALEBO","Modérée",6828,3133,9961,0,0,0,0,2,{"$f":"_xlfn.XLOOKUP($G1716,[1]demo_data!$G$5:$G$2257,[1]demo_data!$I$5:$I$2257)","v":23174}]
[962,"Côte d'Ivoire","CIV","NAWA","SOUBRE",15412,"BAGOLIEOUA","Modérée",794,364,1158,0,0,0,0,2,{"$f":"_xlfn.XLOOKUP($G1717,[1]demo_data!$G$5:$G$2257,[1]demo_data!$I$5:$I$2257)","v":3674}]
[963,"Côte d'Ivoire","CIV","NAWA","SOUBRE",15412,"BAKAYO","Modérée",2704,1240,3944,0,0,0,0,2,{"$f":"_xlfn.XLOOKUP($G1718,[1]demo_data!$G$5:$G$2257,[1]demo_data!$I$5:$I$2257)","v":12509}]
[964,"Côte d'Ivoire","CIV","NAWA","SOUBRE",15412,"BALEYO","Modérée",643,295,938,0,0,0,0,2,{"$f":"_xlfn.XLOOKUP($G1719,[1]demo_data!$G$5:$G$2257,[1]demo_data!$I$5:$I$2257)","v":2976}]
[965,"Côte d'Ivoire","CIV","NAWA","SOUBRE",15412,"BLESSEOUA","Modérée",952,437,1389,0,0,0,0,2,{"$f":"_xlfn.XLOOKUP($G1720,[1]demo_data!$G$5:$G$2257,[1]demo_data!$I$5:$I$2257)","v":4404}]
[966,"Côte d'Ivoire","CIV","NAWA","SOUBRE",15412,"BOGREKO","Modérée",929,426,1355,0,0,0,0,2,{"$f":"_xlfn.XLOOKUP($G1721,[1]demo_data!$G$5:$G$2257,[1]demo_data!$I$5:$I$2257)","v":4296}]
[894,"Côte d'Ivoire","CIV","NAWA","SOUBRE",15412,"CITE","Modérée",2721,1249,3970,0,0,0,0,2,{"$f":"_xlfn.XLOOKUP($G1722,[1]demo_data!$G$5:$G$2257,[1]demo_data!$I$5:$I$2257)","v":12592}]
[967,"Côte d'Ivoire","CIV","NAWA","SOUBRE",15412,"DOBRE ","Modérée",3276,1503,4779,0,0,0,0,2,{"$f":"_xlfn.XLOOKUP($G1723,[1]demo_data!$G$5:$G$2257,[1]demo_data!$I$5:$I$2257)","v":15161}]
[968,"Côte d'Ivoire","CIV","NAWA","SOUBRE",15412,"GABAGUHE","Modérée",874,401,1275,0,0,0,0,2,{"$f":"_xlfn.XLOOKUP($G1724,[1]demo_data!$G$5:$G$2257,[1]demo_data!$I$5:$I$2257)","v":4047}]
[969,"Côte d'Ivoire","CIV","NAWA","SOUBRE",15412,"GADAGO","Modérée",2062,946,3008,0,0,0,0,2,{"$f":"_xlfn.XLOOKUP($G1725,[1]demo_data!$G$5:$G$2257,[1]demo_data!$I$5:$I$2257)","v":9542}]
[970,"Côte d'Ivoire","CIV","NAWA","SOUBRE",15412,"GBADAKOUAMEKRO","Modérée",2440,1119,3559,0,0,0,0,2,{"$f":"_xlfn.XLOOKUP($G1726,[1]demo_data!$G$5:$G$2257,[1]demo_data!$I$5:$I$2257)","v":11292}]
[971,"Côte d'Ivoire","CIV","NAWA","SOUBRE",15412,"GBALEBOUO","Modérée",3427,1572,4999,0,0,0,0,2,{"$f":"_xlfn.XLOOKUP($G1727,[1]demo_data!$G$5:$G$2257,[1]demo_data!$I$5:$I$2257)","v":15859}]
[972,"Côte d'Ivoire","CIV","NAWA","SOUBRE",15412,"GBAZOA","Modérée",2775,1273,4048,0,0,0,0,2,{"$f":"_xlfn.XLOOKUP($G1728,[1]demo_data!$G$5:$G$2257,[1]demo_data!$I$5:$I$2257)","v":12844}]
[973,"Côte d'Ivoire","CIV","NAWA","SOUBRE",15412,"GNOGBOYO","Modérée",3860,1771,5631,0,0,0,0,2,{"$f":"_xlfn.XLOOKUP($G1729,[1]demo_data!$G$5:$G$2257,[1]demo_data!$I$5:$I$2257)","v":17862}]
[974,"Côte d'Ivoire","CIV","NAWA","SOUBRE",15412,"GRAN ZATTRY","Modérée",6997,3210,10207,0,0,0,0,2,{"$f":"_xlfn.XLOOKUP($G1730,[1]demo_data!$G$5:$G$2257,[1]demo_data!$I$5:$I$2257)","v":32382}]
[975,"Côte d'Ivoire","CIV","NAWA","SOUBRE",15412,"GRIPAZO","Modérée",575,264,839,0,0,0,0,2,{"$f":"_xlfn.XLOOKUP($G1731,[1]demo_data!$G$5:$G$2257,[1]demo_data!$I$5:$I$2257)","v":2660}]
[976,"Côte d'Ivoire","CIV","NAWA","SOUBRE",15412,"GUIMEYO","Modérée",2644,1213,3857,0,0,0,0,2,{"$f":"_xlfn.XLOOKUP($G1732,[1]demo_data!$G$5:$G$2257,[1]demo_data!$I$5:$I$2257)","v":12234}]
[875,"Côte d'Ivoire","CIV","NAWA","SOUBRE",15412,"JOHIN","Modérée",1441,661,2102,0,0,0,0,2,{"$f":"_xlfn.XLOOKUP($G1733,[1]demo_data!$G$5:$G$2257,[1]demo_data!$I$5:$I$2257)","v":6668}]
[977,"Côte d'Ivoire","CIV","NAWA","SOUBRE",15412,"KAGNANAKO","Modérée",1556,714,2270,0,0,0,0,2,{"$f":"_xlfn.XLOOKUP($G1734,[1]demo_data!$G$5:$G$2257,[1]demo_data!$I$5:$I$2257)","v":7203}]
[978,"Côte d'Ivoire","CIV","NAWA","SOUBRE",15412,"KIPIRI","Modérée",861,395,1256,0,0,0,0,2,{"$f":"_xlfn.XLOOKUP($G1735,[1]demo_data!$G$5:$G$2257,[1]demo_data!$I$5:$I$2257)","v":3983}]
[979,"Côte d'Ivoire","CIV","NAWA","SOUBRE",15412,"KODA TCHAD","Modérée",795,365,1160,0,0,0,0,2,{"$f":"_xlfn.XLOOKUP($G1736,[1]demo_data!$G$5:$G$2257,[1]demo_data!$I$5:$I$2257)","v":3681}]
[980,"Côte d'Ivoire","CIV","NAWA","SOUBRE",15412,"KOMEAYO","Modérée",383,175,558,0,0,0,0,2,{"$f":"_xlfn.XLOOKUP($G1737,[1]demo_data!$G$5:$G$2257,[1]demo_data!$I$5:$I$2257)","v":1772}]
[981,"Côte d'Ivoire","CIV","NAWA","SOUBRE",15412,"KONEDOUGOU","Forte",2670,6125,8795,1,2670,6125,8795,3,{"$f":"_xlfn.XLOOKUP($G1738,[1]demo_data!$G$5:$G$2257,[1]demo_data!$I$5:$I$2257)","v":12355}]
[982,"Côte d'Ivoire","CIV","NAWA","SOUBRE",15412,"KOREGUHE","Modérée",1789,821,2610,0,0,0,0,2,{"$f":"_xlfn.XLOOKUP($G1739,[1]demo_data!$G$5:$G$2257,[1]demo_data!$I$5:$I$2257)","v":8282}]
[983,"Côte d'Ivoire","CIV","NAWA","SOUBRE",15412,"KOTABLIEOUA","Modérée",1668,765,2433,0,0,0,0,2,{"$f":"_xlfn.XLOOKUP($G1740,[1]demo_data!$G$5:$G$2257,[1]demo_data!$I$5:$I$2257)","v":7720}]
[984,"Côte d'Ivoire","CIV","NAWA","SOUBRE",15412,"KOZIAYO 2","Modérée",1818,834,2652,0,0,0,0,2,{"$f":"_xlfn.XLOOKUP($G1741,[1]demo_data!$G$5:$G$2257,[1]demo_data!$I$5:$I$2257)","v":8415}]
[985,"Côte d'Ivoire","CIV","NAWA","SOUBRE",15412,"KPADA","Modérée",3840,1762,5602,0,0,0,0,2,{"$f":"_xlfn.XLOOKUP($G1742,[1]demo_data!$G$5:$G$2257,[1]demo_data!$I$5:$I$2257)","v":17771}]
[986,"Côte d'Ivoire","CIV","NAWA","SOUBRE",15412,"LESSIRI","Modérée",2864,1314,4178,0,0,0,0,2,{"$f":"_xlfn.XLOOKUP($G1743,[1]demo_data!$G$5:$G$2257,[1]demo_data!$I$5:$I$2257)","v":13252}]
[987,"Côte d'Ivoire","CIV","NAWA","SOUBRE",15412,"LILIYO","Modérée",3259,1495,4754,0,0,0,0,2,{"$f":"_xlfn.XLOOKUP($G1744,[1]demo_data!$G$5:$G$2257,[1]demo_data!$I$5:$I$2257)","v":15080}]
[988,"Côte d'Ivoire","CIV","NAWA","SOUBRE",15412,"MAHIEOUA","Modérée",794,364,1158,0,0,0,0,2,{"$f":"_xlfn.XLOOKUP($G1745,[1]demo_data!$G$5:$G$2257,[1]demo_data!$I$5:$I$2257)","v":3674}]
[989,"Côte d'Ivoire","CIV","NAWA","SOUBRE",15412,"MAYO","Modérée",3241,1487,4728,0,0,0,0,2,{"$f":"_xlfn.XLOOKUP($G1746,[1]demo_data!$G$5:$G$2257,[1]demo_data!$I$5:$I$2257)","v":14998}]
[990,"Côte d'Ivoire","CIV","NAWA","SOUBRE",15412,"MAYO 2","Faible",785,0,785,0,0,0,0,1,{"$f":"_xlfn.XLOOKUP($G1747,[1]demo_data!$G$5:$G$2257,[1]demo_data!$I$5:$I$2257)","v":3631}]
[991,"Côte d'Ivoire","CIV","NAWA","SOUBRE",15412,"MEMBERI 1","Modérée",3828,1757,5585,0,0,0,0,2,{"$f":"_xlfn.XLOOKUP($G1748,[1]demo_data!$G$5:$G$2257,[1]demo_data!$I$5:$I$2257)","v":17714}]
[992,"Côte d'Ivoire","CIV","NAWA","SOUBRE",15412,"MEMBERI 2","Modérée",1765,810,2575,0,0,0,0,2,{"$f":"_xlfn.XLOOKUP($G1749,[1]demo_data!$G$5:$G$2257,[1]demo_data!$I$5:$I$2257)","v":8167}]
[993,"Côte d'Ivoire","CIV","NAWA","SOUBRE",15412,"NENEFEROUA","Modérée",681,313,994,0,0,0,0,2,{"$f":"_xlfn.XLOOKUP($G1750,[1]demo_data!$G$5:$G$2257,[1]demo_data!$I$5:$I$2257)","v":3152}]
[994,"Côte d'Ivoire","CIV","NAWA","SOUBRE",15412,"OBROUAYO","Modérée",2353,1079,3432,0,0,0,0,2,{"$f":"_xlfn.XLOOKUP($G1751,[1]demo_data!$G$5:$G$2257,[1]demo_data!$I$5:$I$2257)","v":10889}]
[995,"Côte d'Ivoire","CIV","NAWA","SOUBRE",15412,"OKROUYO","Modérée",2712,1245,3957,0,0,0,0,2,{"$f":"_xlfn.XLOOKUP($G1752,[1]demo_data!$G$5:$G$2257,[1]demo_data!$I$5:$I$2257)","v":12549}]
[996,"Côte d'Ivoire","CIV","NAWA","SOUBRE",15412,"OTTAWA","Modérée",3420,1569,4989,0,0,0,0,2,{"$f":"_xlfn.XLOOKUP($G1753,[1]demo_data!$G$5:$G$2257,[1]demo_data!$I$5:$I$2257)","v":15824}]
[882,"Côte d'Ivoire","CIV","NAWA","SOUBRE",15412,"OUPOYO","Modérée",7236,3320,10556,0,0,0,0,2,{"$f":"_xlfn.XLOOKUP($G1754,[1]demo_data!$G$5:$G$2257,[1]demo_data!$I$5:$I$2257)","v":33489}]
[997,"Côte d'Ivoire","CIV","NAWA","SOUBRE",15412,"OUREYO","Modérée",2045,938,2983,0,0,0,0,2,{"$f":"_xlfn.XLOOKUP($G1755,[1]demo_data!$G$5:$G$2257,[1]demo_data!$I$5:$I$2257)","v":9463}]
[998,"Côte d'Ivoire","CIV","NAWA","SOUBRE",15412,"PARCSOU","Modérée",1645,755,2400,0,0,0,0,2,{"$f":"_xlfn.XLOOKUP($G1756,[1]demo_data!$G$5:$G$2257,[1]demo_data!$I$5:$I$2257)","v":7613}]
[884,"Côte d'Ivoire","CIV","NAWA","SOUBRE",15412,"PETIT BONDOUKOU","Modérée",2140,982,3122,0,0,0,0,2,{"$f":"_xlfn.XLOOKUP($G1757,[1]demo_data!$G$5:$G$2257,[1]demo_data!$I$5:$I$2257)","v":9902}]
[999,"Côte d'Ivoire","CIV","NAWA","SOUBRE",15412,"PETITGOA 1","Modérée",1344,617,1961,0,0,0,0,2,{"$f":"_xlfn.XLOOKUP($G1758,[1]demo_data!$G$5:$G$2257,[1]demo_data!$I$5:$I$2257)","v":6218}]
[1000,"Côte d'Ivoire","CIV","NAWA","SOUBRE",15412,"PETITGOA 2","Modérée",2786,1278,4064,0,0,0,0,2,{"$f":"_xlfn.XLOOKUP($G1759,[1]demo_data!$G$5:$G$2257,[1]demo_data!$I$5:$I$2257)","v":12892}]
[1001,"Côte d'Ivoire","CIV","NAWA","SOUBRE",15412,"ROA","Modérée",1543,708,2251,0,0,0,0,2,{"$f":"_xlfn.XLOOKUP($G1760,[1]demo_data!$G$5:$G$2257,[1]demo_data!$I$5:$I$2257)","v":7140}]
[886,"Côte d'Ivoire","CIV","NAWA","SOUBRE",15412,"SARAKAGUI","Faible",3707,0,3707,0,0,0,0,1,{"$f":"_xlfn.XLOOKUP($G1761,[1]demo_data!$G$5:$G$2257,[1]demo_data!$I$5:$I$2257)","v":17153}]
[1002,"Côte d'Ivoire","CIV","NAWA","SOUBRE",15412,"SIPEF-CI OKROUYO","Modérée",601,276,877,0,0,0,0,2,{"$f":"_xlfn.XLOOKUP($G1762,[1]demo_data!$G$5:$G$2257,[1]demo_data!$I$5:$I$2257)","v":2783}]
[1003,"Côte d'Ivoire","CIV","NAWA","SOUBRE",15412,"SIPEF-CI OTTAWA","Modérée",2133,979,3112,0,0,0,0,2,{"$f":"_xlfn.XLOOKUP($G1763,[1]demo_data!$G$5:$G$2257,[1]demo_data!$I$5:$I$2257)","v":9873}]
[1004,"Côte d'Ivoire","CIV","NAWA","SOUBRE",15412,"SOUBRE","Faible",17900,0,17900,0,0,0,0,1,{"$f":"_xlfn.XLOOKUP($G1764,[1]demo_data!$G$5:$G$2257,[1]demo_data!$I$5:$I$2257)","v":82836}]
[1005,"Côte d'Ivoire","CIV","NAWA","SOUBRE",15412,"TOLLAKRO","Modérée",2691,1234,3925,0,0,0,0,2,{"$f":"_xlfn.XLOOKUP($G1765,[1]demo_data!$G$5:$G$2257,[1]demo_data!$I$5:$I$2257)","v":12453}]
[1006,"Côte d'Ivoire","CIV","NAWA","SOUBRE",15412,"YABAYO","Modérée",5774,2649,8423,0,0,0,0,2,{"$f":"_xlfn.XLOOKUP($G1766,[1]demo_data!$G$5:$G$2257,[1]demo_data!$I$5:$I$2257)","v":26722}]
[1007,"Côte d'Ivoire","CIV","NAWA","SOUBRE",15412,"YACOLIDABOUO","Modérée",4247,1948,6195,0,0,0,0,2,{"$f":"_xlfn.XLOOKUP($G1767,[1]demo_data!$G$5:$G$2257,[1]demo_data!$I$5:$I$2257)","v":19654}]
[1008,"Côte d'Ivoire","CIV","NAWA","SOUBRE",15412,"ZAKOEOUA","Modérée",1537,705,2242,0,0,0,0,2,{"$f":"_xlfn.XLOOKUP($G1768,[1]demo_data!$G$5:$G$2257,[1]demo_data!$I$5:$I$2257)","v":7113}]
[1657,"Côte d'Ivoire","CIV","N'ZI","BOCANDA",15444,"CSR GBONOU CARREFOUR","Faible",3324,0,3324,1,3324,0,3324,1,{"$f":"_xlfn.XLOOKUP($G1769,[1]demo_data!$G$5:$G$2257,[1]demo_data!$I$5:$I$2257)","v":11599}]
[1642,"Côte d'Ivoire","CIV","N'ZI","BOCANDA",15444,"CSR-D AMOROKI","Faible",1363,0,1363,1,1363,0,1363,1,{"$f":"_xlfn.XLOOKUP($G1770,[1]demo_data!$G$5:$G$2257,[1]demo_data!$I$5:$I$2257)","v":4754}]
[1643,"Côte d'Ivoire","CIV","N'ZI","BOCANDA",15444,"CSR-D ASSIKA KAYABO","Faible",1980,0,1980,1,1980,0,1980,1,{"$f":"_xlfn.XLOOKUP($G1771,[1]demo_data!$G$5:$G$2257,[1]demo_data!$I$5:$I$2257)","v":6911}]
[1644,"Côte d'Ivoire","CIV","N'ZI","BOCANDA",15444,"CSR-D BONZO MALEKRO","Faible",921,0,921,1,921,0,921,1,{"$f":"_xlfn.XLOOKUP($G1772,[1]demo_data!$G$5:$G$2257,[1]demo_data!$I$5:$I$2257)","v":3217}]
[1646,"Côte d'Ivoire","CIV","N'ZI","BOCANDA",15444,"CSR-D BROU AHOUSSOUKRO","Non endémique",0,0,0,0,0,0,0,0,{"$f":"_xlfn.XLOOKUP($G1773,[1]demo_data!$G$5:$G$2257,[1]demo_data!$I$5:$I$2257)","v":8394}]
[1647,"Côte d'Ivoire","CIV","N'ZI","BOCANDA",15444,"CSR-D KOFFI ADOUKRO","Non endémique",0,0,0,0,0,0,0,0,{"$f":"_xlfn.XLOOKUP($G1774,[1]demo_data!$G$5:$G$2257,[1]demo_data!$I$5:$I$2257)","v":4100}]
[1648,"Côte d'Ivoire","CIV","N'ZI","BOCANDA",15444,"CSR-D KONAN LEKIKIKRO","Faible",1587,0,1587,1,1587,0,1587,1,{"$f":"_xlfn.XLOOKUP($G1775,[1]demo_data!$G$5:$G$2257,[1]demo_data!$I$5:$I$2257)","v":5540}]
[1650,"Côte d'Ivoire","CIV","N'ZI","BOCANDA",15444,"CSR-D N'DO KOUASSIKRO","Faible",1712,0,1712,1,1712,0,1712,1,{"$f":"_xlfn.XLOOKUP($G1776,[1]demo_data!$G$5:$G$2257,[1]demo_data!$I$5:$I$2257)","v":5976}]
[1653,"Côte d'Ivoire","CIV","N'ZI","BOCANDA",15444,"CSR-DM DIDA KAYABO","Faible",1304,0,1304,1,1304,0,1304,1,{"$f":"_xlfn.XLOOKUP($G1777,[1]demo_data!$G$5:$G$2257,[1]demo_data!$I$5:$I$2257)","v":4551}]
[1654,"Côte d'Ivoire","CIV","N'ZI","BOCANDA",15444,"CSR-DM DIDA MOUESSOU","Faible",1018,0,1018,1,1018,0,1018,1,{"$f":"_xlfn.XLOOKUP($G1778,[1]demo_data!$G$5:$G$2257,[1]demo_data!$I$5:$I$2257)","v":3553}]
[1655,"Côte d'Ivoire","CIV","N'ZI","BOCANDA",15444,"CSR-DM SOUSSOUYAKRO","Faible",1313,0,1313,1,1313,0,1313,1,{"$f":"_xlfn.XLOOKUP($G1779,[1]demo_data!$G$5:$G$2257,[1]demo_data!$I$5:$I$2257)","v":4583}]
[1656,"Côte d'Ivoire","CIV","N'ZI","BOCANDA",15444,"CSR-DM TAGNAKRO","Faible",1001,0,1001,1,1001,0,1001,1,{"$f":"_xlfn.XLOOKUP($G1780,[1]demo_data!$G$5:$G$2257,[1]demo_data!$I$5:$I$2257)","v":3495}]
[1659,"Côte d'Ivoire","CIV","N'ZI","BOCANDA",15444,"CSU DC SAINTE ANNE","Faible",1777,0,1777,1,1777,0,1777,1,{"$f":"_xlfn.XLOOKUP($G1781,[1]demo_data!$G$5:$G$2257,[1]demo_data!$I$5:$I$2257)","v":6203}]
[1658,"Côte d'Ivoire","CIV","N'ZI","BOCANDA",15444,"CSU DM ABEANOU","Faible",3220,0,3220,1,3220,0,3220,1,{"$f":"_xlfn.XLOOKUP($G1782,[1]demo_data!$G$5:$G$2257,[1]demo_data!$I$5:$I$2257)","v":11233}]
[1663,"Côte d'Ivoire","CIV","N'ZI","BOCANDA",15444,"CSU DM N'ZECREZESSOU","Faible",5455,0,5455,1,5455,0,5455,1,{"$f":"_xlfn.XLOOKUP($G1783,[1]demo_data!$G$5:$G$2257,[1]demo_data!$I$5:$I$2257)","v":19039}]
[1660,"Côte d'Ivoire","CIV","N'ZI","BOCANDA",15444,"CSU-DM BENGASSOU","Non endémique",0,0,0,0,0,0,0,0,{"$f":"_xlfn.XLOOKUP($G1784,[1]demo_data!$G$5:$G$2257,[1]demo_data!$I$5:$I$2257)","v":8056}]
[1661,"Côte d'Ivoire","CIV","N'ZI","BOCANDA",15444,"CSU-DM KOUADIOBLEKRO","Modérée",4555,2090,6645,1,4555,2090,6645,2,{"$f":"_xlfn.XLOOKUP($G1785,[1]demo_data!$G$5:$G$2257,[1]demo_data!$I$5:$I$2257)","v":15897}]
[1664,"Côte d'Ivoire","CIV","N'ZI","BOCANDA",15444,"HOPITAL GENERAL BOCANDA","Non endémique",0,0,0,0,0,0,0,0,{"$f":"_xlfn.XLOOKUP($G1786,[1]demo_data!$G$5:$G$2257,[1]demo_data!$I$5:$I$2257)","v":19801}]
[1665,"Côte d'Ivoire","CIV","N'ZI","BOCANDA",15444,"MOBILE DISTRICT","Faible",1583,0,1583,1,1583,0,1583,1,{"$f":"_xlfn.XLOOKUP($G1787,[1]demo_data!$G$5:$G$2257,[1]demo_data!$I$5:$I$2257)","v":5525}]
[1728,"Côte d'Ivoire","CIV","N'ZI","DIMBOKRO",15394,"CHR PUBLIC DE DIMBOKRO","Faible",6090,0,6090,1,6090,0,6090,1,{"$f":"_xlfn.XLOOKUP($G1788,[1]demo_data!$G$5:$G$2257,[1]demo_data!$I$5:$I$2257)","v":20805}]
[1729,"Côte d'Ivoire","CIV","N'ZI","DIMBOKRO",15394,"CSR D PUBLIC DE ANGANKONANKRO","Faible",1004,0,1004,1,1004,0,1004,1,{"$f":"_xlfn.XLOOKUP($G1789,[1]demo_data!$G$5:$G$2257,[1]demo_data!$I$5:$I$2257)","v":3431}]
[1730,"Côte d'Ivoire","CIV","N'ZI","DIMBOKRO",15394,"CSR D PUBLIC DE BENDEKRO","Non endémique",0,0,0,0,0,0,0,0,{"$f":"_xlfn.XLOOKUP($G1790,[1]demo_data!$G$5:$G$2257,[1]demo_data!$I$5:$I$2257)","v":1661}]
[1731,"Côte d'Ivoire","CIV","N'ZI","DIMBOKRO",15394,"CSR D PUBLIC DE BOCABO","Faible",854,0,854,1,854,0,854,1,{"$f":"_xlfn.XLOOKUP($G1791,[1]demo_data!$G$5:$G$2257,[1]demo_data!$I$5:$I$2257)","v":2917}]
[1732,"Côte d'Ivoire","CIV","N'ZI","DIMBOKRO",15394,"CSR D PUBLIC DE LANGBA","Faible",667,0,667,1,667,0,667,1,{"$f":"_xlfn.XLOOKUP($G1792,[1]demo_data!$G$5:$G$2257,[1]demo_data!$I$5:$I$2257)","v":2277}]
[1733,"Côte d'Ivoire","CIV","N'ZI","DIMBOKRO",15394,"CSR D PUBLIC DE N'DAYAKRO","Faible",899,0,899,1,899,0,899,1,{"$f":"_xlfn.XLOOKUP($G1793,[1]demo_data!$G$5:$G$2257,[1]demo_data!$I$5:$I$2257)","v":3071}]
[1734,"Côte d'Ivoire","CIV","N'ZI","DIMBOKRO",15394,"CSR D PUBLIC DE TANGOUMANSSOU","Non endémique",0,0,0,0,0,0,0,0,{"$f":"_xlfn.XLOOKUP($G1794,[1]demo_data!$G$5:$G$2257,[1]demo_data!$I$5:$I$2257)","v":4085}]
[1735,"Côte d'Ivoire","CIV","N'ZI","DIMBOKRO",15394,"CSR D PUBLIC DE TRIANIKRO","Faible",584,0,584,1,584,0,584,1,{"$f":"_xlfn.XLOOKUP($G1795,[1]demo_data!$G$5:$G$2257,[1]demo_data!$I$5:$I$2257)","v":1994}]
[1736,"Côte d'Ivoire","CIV","N'ZI","DIMBOKRO",15394,"CSR DM PUBLIC DE DJANGOKRO","Faible",1448,0,1448,1,1448,0,1448,1,{"$f":"_xlfn.XLOOKUP($G1796,[1]demo_data!$G$5:$G$2257,[1]demo_data!$I$5:$I$2257)","v":4945}]
[1737,"Côte d'Ivoire","CIV","N'ZI","DIMBOKRO",15394,"CSR DM PUBLIC DE NOFOU","Faible",1495,0,1495,1,1495,0,1495,1,{"$f":"_xlfn.XLOOKUP($G1797,[1]demo_data!$G$5:$G$2257,[1]demo_data!$I$5:$I$2257)","v":5109}]
[1738,"Côte d'Ivoire","CIV","N'ZI","DIMBOKRO",15394,"CSU D CONFESSIONNEL NDA DE DIMBOKRO","Faible",3272,0,3272,1,3272,0,3272,1,{"$f":"_xlfn.XLOOKUP($G1798,[1]demo_data!$G$5:$G$2257,[1]demo_data!$I$5:$I$2257)","v":11179}]
[1739,"Côte d'Ivoire","CIV","N'ZI","DIMBOKRO",15394,"CSU D PUBLIC DE DIMBOKRO","Faible",971,0,971,1,971,0,971,1,{"$f":"_xlfn.XLOOKUP($G1799,[1]demo_data!$G$5:$G$2257,[1]demo_data!$I$5:$I$2257)","v":3316}]
[1740,"Côte d'Ivoire","CIV","N'ZI","DIMBOKRO",15394,"CSU DM PUBLIC DE ABIGUI","Faible",1484,0,1484,1,1484,0,1484,1,{"$f":"_xlfn.XLOOKUP($G1800,[1]demo_data!$G$5:$G$2257,[1]demo_data!$I$5:$I$2257)","v":5067}]
[1741,"Côte d'Ivoire","CIV","N'ZI","DIMBOKRO",15394,"CSU DM PUBLIC DE SOUNGASSOU","Modérée",1690,776,2466,1,1690,776,2466,2,{"$f":"_xlfn.XLOOKUP($G1801,[1]demo_data!$G$5:$G$2257,[1]demo_data!$I$5:$I$2257)","v":5772}]
[1742,"Côte d'Ivoire","CIV","N'ZI","DIMBOKRO",15394,"CSU DM SOGEFIA KOLIBO DE DIMBOKRO","Non endémique",0,0,0,0,0,0,0,0,{"$f":"_xlfn.XLOOKUP($G1802,[1]demo_data!$G$5:$G$2257,[1]demo_data!$I$5:$I$2257)","v":10576}]
[1743,"Côte d'Ivoire","CIV","N'ZI","DIMBOKRO",15394,"CSUS PMI PUBLIC DE DIMBOKRO","Modérée",4245,1947,6192,1,4245,1947,6192,2,{"$f":"_xlfn.XLOOKUP($G1803,[1]demo_data!$G$5:$G$2257,[1]demo_data!$I$5:$I$2257)","v":14500}]
[1744,"Côte d'Ivoire","CIV","N'ZI","DIMBOKRO",15394,"CSUS SSSU PUBLIC DE DIMBOKRO","Faible",1544,0,1544,1,1544,0,1544,1,{"$f":"_xlfn.XLOOKUP($G1804,[1]demo_data!$G$5:$G$2257,[1]demo_data!$I$5:$I$2257)","v":5274}]
[1645,"Côte d'Ivoire","CIV","N'ZI","KOUASSI KOUASSIKRO",15445,"CSR-D BOUNDA","Non endémique",0,0,0,0,0,0,0,0,{"$f":"_xlfn.XLOOKUP($G1805,[1]demo_data!$G$5:$G$2257,[1]demo_data!$I$5:$I$2257)","v":4765}]
[1649,"Côte d'Ivoire","CIV","N'ZI","KOUASSI KOUASSIKRO",15445,"CSR-D MEKRO","Faible",990,0,990,1,990,0,990,1,{"$f":"_xlfn.XLOOKUP($G1806,[1]demo_data!$G$5:$G$2257,[1]demo_data!$I$5:$I$2257)","v":3053}]
[1651,"Côte d'Ivoire","CIV","N'ZI","KOUASSI KOUASSIKRO",15445,"CSR-D SAHAGUIKRO","Non endémique",0,0,0,0,0,0,0,0,{"$f":"_xlfn.XLOOKUP($G1807,[1]demo_data!$G$5:$G$2257,[1]demo_data!$I$5:$I$2257)","v":4806}]
[1652,"Côte d'Ivoire","CIV","N'ZI","KOUASSI KOUASSIKRO",15445,"CSR-D SASSAOKRO","Faible",793,0,793,1,793,0,793,1,{"$f":"_xlfn.XLOOKUP($G1808,[1]demo_data!$G$5:$G$2257,[1]demo_data!$I$5:$I$2257)","v":2444}]
[1662,"Côte d'Ivoire","CIV","N'ZI","KOUASSI KOUASSIKRO",15445,"CSU-DM KOUASSI KOUASSIKRO","Non endémique",0,0,0,0,0,0,0,0,{"$f":"_xlfn.XLOOKUP($G1809,[1]demo_data!$G$5:$G$2257,[1]demo_data!$I$5:$I$2257)","v":14680}]
[1839,"Côte d'Ivoire","CIV","PORO","DIKODOUGOU",15455,"CSR BORON","Faible",2939,0,2939,1,2939,0,2939,1,{"$f":"_xlfn.XLOOKUP($G1810,[1]demo_data!$G$5:$G$2257,[1]demo_data!$I$5:$I$2257)","v":10660}]
[1842,"Côte d'Ivoire","CIV","PORO","DIKODOUGOU",15455,"CSR FARAKORO","Faible",1517,0,1517,1,1517,0,1517,1,{"$f":"_xlfn.XLOOKUP($G1811,[1]demo_data!$G$5:$G$2257,[1]demo_data!$I$5:$I$2257)","v":5501}]
[1857,"Côte d'Ivoire","CIV","PORO","DIKODOUGOU",15455,"CSR OUAMESSIONKAHA","Faible",1895,0,1895,1,1895,0,1895,1,{"$f":"_xlfn.XLOOKUP($G1812,[1]demo_data!$G$5:$G$2257,[1]demo_data!$I$5:$I$2257)","v":6871}]
[1858,"Côte d'Ivoire","CIV","PORO","DIKODOUGOU",15455,"CSR OUATTARADOUGOU","Faible",3613,0,3613,1,3613,0,3613,1,{"$f":"_xlfn.XLOOKUP($G1813,[1]demo_data!$G$5:$G$2257,[1]demo_data!$I$5:$I$2257)","v":16418}]
[1867,"Côte d'Ivoire","CIV","PORO","DIKODOUGOU",15455,"CSU DIKODOUGOU","Faible",6744,0,6744,1,6744,0,6744,1,{"$f":"_xlfn.XLOOKUP($G1814,[1]demo_data!$G$5:$G$2257,[1]demo_data!$I$5:$I$2257)","v":24457}]
[1868,"Côte d'Ivoire","CIV","PORO","DIKODOUGOU",15455,"CSU GUIEMBE","Faible",4237,0,4237,1,4237,0,4237,1,{"$f":"_xlfn.XLOOKUP($G1815,[1]demo_data!$G$5:$G$2257,[1]demo_data!$I$5:$I$2257)","v":15366}]
[1884,"Côte d'Ivoire","CIV","PORO","DIKODOUGOU",15455,"DR KADIOHA","Faible",2751,0,2751,1,2751,0,2751,1,{"$f":"_xlfn.XLOOKUP($G1816,[1]demo_data!$G$5:$G$2257,[1]demo_data!$I$5:$I$2257)","v":9975}]
[1885,"Côte d'Ivoire","CIV","PORO","DIKODOUGOU",15455,"DR KALAHA","Faible",2194,0,2194,1,2194,0,2194,1,{"$f":"_xlfn.XLOOKUP($G1817,[1]demo_data!$G$5:$G$2257,[1]demo_data!$I$5:$I$2257)","v":7956}]
[1897,"Côte d'Ivoire","CIV","PORO","DIKODOUGOU",15455,"DR NERKENE","Faible",806,0,806,1,806,0,806,1,{"$f":"_xlfn.XLOOKUP($G1818,[1]demo_data!$G$5:$G$2257,[1]demo_data!$I$5:$I$2257)","v":2926}]
[1898,"Côte d'Ivoire","CIV","PORO","DIKODOUGOU",15455,"DR NOGOTAHA","Faible",1162,0,1162,1,1162,0,1162,1,{"$f":"_xlfn.XLOOKUP($G1819,[1]demo_data!$G$5:$G$2257,[1]demo_data!$I$5:$I$2257)","v":4217}]
[1837,"Côte d'Ivoire","CIV","PORO","KORHOGO 1",15453,"CENTRE MEDICAL BAPTISTE TORGOKAHA","Faible",2253,0,2253,1,2253,0,2253,1,{"$f":"_xlfn.XLOOKUP($G1820,[1]demo_data!$G$5:$G$2257,[1]demo_data!$I$5:$I$2257)","v":8596}]
[1838,"Côte d'Ivoire","CIV","PORO","KORHOGO 1",15453,"CSR BODONON","Faible",649,0,649,1,649,0,649,1,{"$f":"_xlfn.XLOOKUP($G1821,[1]demo_data!$G$5:$G$2257,[1]demo_data!$I$5:$I$2257)","v":2476}]
[1841,"Côte d'Ivoire","CIV","PORO","KORHOGO 1",15453,"CSR DASSOUNGBO","Faible",3190,0,3190,1,3190,0,3190,1,{"$f":"_xlfn.XLOOKUP($G1822,[1]demo_data!$G$5:$G$2257,[1]demo_data!$I$5:$I$2257)","v":12166}]
[1843,"Côte d'Ivoire","CIV","PORO","KORHOGO 1",15453,"CSR GBONZORO","Faible",501,0,501,1,501,0,501,1,{"$f":"_xlfn.XLOOKUP($G1823,[1]demo_data!$G$5:$G$2257,[1]demo_data!$I$5:$I$2257)","v":1908}]
[1844,"Côte d'Ivoire","CIV","PORO","KORHOGO 1",15453,"CSR KAFIOKAHA 2","Faible",2657,0,2657,1,2657,0,2657,1,{"$f":"_xlfn.XLOOKUP($G1824,[1]demo_data!$G$5:$G$2257,[1]demo_data!$I$5:$I$2257)","v":10136}]
[1845,"Côte d'Ivoire","CIV","PORO","KORHOGO 1",15453,"CSR KASSIRIME","Faible",4498,0,4498,1,4498,0,4498,1,{"$f":"_xlfn.XLOOKUP($G1825,[1]demo_data!$G$5:$G$2257,[1]demo_data!$I$5:$I$2257)","v":17157}]
[1846,"Côte d'Ivoire","CIV","PORO","KORHOGO 1",15453,"CSR KIEMOU","Faible",1731,0,1731,1,1731,0,1731,1,{"$f":"_xlfn.XLOOKUP($G1826,[1]demo_data!$G$5:$G$2257,[1]demo_data!$I$5:$I$2257)","v":6604}]
[1847,"Côte d'Ivoire","CIV","PORO","KORHOGO 1",15453,"CSR KOKO","Faible",1116,0,1116,1,1116,0,1116,1,{"$f":"_xlfn.XLOOKUP($G1827,[1]demo_data!$G$5:$G$2257,[1]demo_data!$I$5:$I$2257)","v":4259}]
[1848,"Côte d'Ivoire","CIV","PORO","KORHOGO 1",15453,"CSR KOMBOLOKORO","Faible",970,0,970,1,970,0,970,1,{"$f":"_xlfn.XLOOKUP($G1828,[1]demo_data!$G$5:$G$2257,[1]demo_data!$I$5:$I$2257)","v":3700}]
[1849,"Côte d'Ivoire","CIV","PORO","KORHOGO 1",15453,"CSR KONI","Faible",1392,0,1392,1,1392,0,1392,1,{"$f":"_xlfn.XLOOKUP($G1829,[1]demo_data!$G$5:$G$2257,[1]demo_data!$I$5:$I$2257)","v":5310}]
[1850,"Côte d'Ivoire","CIV","PORO","KORHOGO 1",15453,"CSR LATAHA","Faible",2321,0,2321,1,2321,0,2321,1,{"$f":"_xlfn.XLOOKUP($G1830,[1]demo_data!$G$5:$G$2257,[1]demo_data!$I$5:$I$2257)","v":8854}]
[1852,"Côte d'Ivoire","CIV","PORO","KORHOGO 1",15453,"CSR NAGNENEFOUN","Faible",5107,0,5107,1,5107,0,5107,1,{"$f":"_xlfn.XLOOKUP($G1831,[1]demo_data!$G$5:$G$2257,[1]demo_data!$I$5:$I$2257)","v":19480}]
[1853,"Côte d'Ivoire","CIV","PORO","KORHOGO 1",15453,"CSR NAHOUOKAHA","Faible",2323,0,2323,1,2323,0,2323,1,{"$f":"_xlfn.XLOOKUP($G1832,[1]demo_data!$G$5:$G$2257,[1]demo_data!$I$5:$I$2257)","v":8858}]
[1854,"Côte d'Ivoire","CIV","PORO","KORHOGO 1",15453,"CSR NANGASSEREGUE","Faible",2878,0,2878,1,2878,0,2878,1,{"$f":"_xlfn.XLOOKUP($G1833,[1]demo_data!$G$5:$G$2257,[1]demo_data!$I$5:$I$2257)","v":10976}]
[1855,"Côte d'Ivoire","CIV","PORO","KORHOGO 1",15453,"CSR NATIO-KOBADARA","Faible",6510,0,6510,1,6510,0,6510,1,{"$f":"_xlfn.XLOOKUP($G1834,[1]demo_data!$G$5:$G$2257,[1]demo_data!$I$5:$I$2257)","v":24831}]
[1860,"Côte d'Ivoire","CIV","PORO","KORHOGO 1",15453,"CSR SEKONKAHA","Faible",792,0,792,1,792,0,792,1,{"$f":"_xlfn.XLOOKUP($G1835,[1]demo_data!$G$5:$G$2257,[1]demo_data!$I$5:$I$2257)","v":3020}]
[1861,"Côte d'Ivoire","CIV","PORO","KORHOGO 1",15453,"CSR SIOLOKAHA","Faible",1378,0,1378,1,1378,0,1378,1,{"$f":"_xlfn.XLOOKUP($G1836,[1]demo_data!$G$5:$G$2257,[1]demo_data!$I$5:$I$2257)","v":5257}]
[1862,"Côte d'Ivoire","CIV","PORO","KORHOGO 1",15453,"CSR SOHOUO","Faible",1608,0,1608,1,1608,0,1608,1,{"$f":"_xlfn.XLOOKUP($G1837,[1]demo_data!$G$5:$G$2257,[1]demo_data!$I$5:$I$2257)","v":6133}]
[1863,"Côte d'Ivoire","CIV","PORO","KORHOGO 1",15453,"CSR TAHOUARA","Faible",1541,0,1541,1,1541,0,1541,1,{"$f":"_xlfn.XLOOKUP($G1838,[1]demo_data!$G$5:$G$2257,[1]demo_data!$I$5:$I$2257)","v":5876}]
[1865,"Côte d'Ivoire","CIV","PORO","KORHOGO 1",15453,"CSR WARANIENE","Faible",2632,0,2632,1,2632,0,2632,1,{"$f":"_xlfn.XLOOKUP($G1839,[1]demo_data!$G$5:$G$2257,[1]demo_data!$I$5:$I$2257)","v":10038}]
[1866,"Côte d'Ivoire","CIV","PORO","KORHOGO 1",15453,"CSU DELAFOSSE","Faible",8815,0,8815,1,8815,0,8815,1,{"$f":"_xlfn.XLOOKUP($G1840,[1]demo_data!$G$5:$G$2257,[1]demo_data!$I$5:$I$2257)","v":33624}]
[1870,"Côte d'Ivoire","CIV","PORO","KORHOGO 1",15453,"CSU KARAKORO","Non endémique",0,0,0,0,0,0,0,0,{"$f":"_xlfn.XLOOKUP($G1841,[1]demo_data!$G$5:$G$2257,[1]demo_data!$I$5:$I$2257)","v":20586}]
[1871,"Côte d'Ivoire","CIV","PORO","KORHOGO 1",15453,"CSU KOKOTON","Faible",14008,0,14008,1,14008,0,14008,1,{"$f":"_xlfn.XLOOKUP($G1842,[1]demo_data!$G$5:$G$2257,[1]demo_data!$I$5:$I$2257)","v":53430}]
[1872,"Côte d'Ivoire","CIV","PORO","KORHOGO 1",15453,"CSU KOMBOLOKOURA","Faible",1604,0,1604,1,1604,0,1604,1,{"$f":"_xlfn.XLOOKUP($G1843,[1]demo_data!$G$5:$G$2257,[1]demo_data!$I$5:$I$2257)","v":6117}]
[1873,"Côte d'Ivoire","CIV","PORO","KORHOGO 1",15453,"CSU KOMBORODOUGOU","Faible",4582,0,4582,1,4582,0,4582,1,{"$f":"_xlfn.XLOOKUP($G1844,[1]demo_data!$G$5:$G$2257,[1]demo_data!$I$5:$I$2257)","v":17477}]
[1874,"Côte d'Ivoire","CIV","PORO","KORHOGO 1",15453,"CSU NAPIE","Faible",6691,0,6691,1,6691,0,6691,1,{"$f":"_xlfn.XLOOKUP($G1845,[1]demo_data!$G$5:$G$2257,[1]demo_data!$I$5:$I$2257)","v":25519}]
[1876,"Côte d'Ivoire","CIV","PORO","KORHOGO 1",15453,"CSU PETIT PARIS","Faible",12635,0,12635,1,12635,0,12635,1,{"$f":"_xlfn.XLOOKUP($G1846,[1]demo_data!$G$5:$G$2257,[1]demo_data!$I$5:$I$2257)","v":48193}]
[1878,"Côte d'Ivoire","CIV","PORO","KORHOGO 1",15453,"CSU TCHEKELEZO","Faible",3934,0,3934,1,3934,0,3934,1,{"$f":"_xlfn.XLOOKUP($G1847,[1]demo_data!$G$5:$G$2257,[1]demo_data!$I$5:$I$2257)","v":15006}]
[1879,"Côte d'Ivoire","CIV","PORO","KORHOGO 1",15453,"CSU TIORONIARADOUGOU","Faible",3733,0,3733,1,3733,0,3733,1,{"$f":"_xlfn.XLOOKUP($G1848,[1]demo_data!$G$5:$G$2257,[1]demo_data!$I$5:$I$2257)","v":14238}]
[1880,"Côte d'Ivoire","CIV","PORO","KORHOGO 1",15453,"DISP URBAIN","Faible",7970,0,7970,1,7970,0,7970,1,{"$f":"_xlfn.XLOOKUP($G1849,[1]demo_data!$G$5:$G$2257,[1]demo_data!$I$5:$I$2257)","v":{"$error":"#N/A"}}]
[1881,"Côte d'Ivoire","CIV","PORO","KORHOGO 1",15453,"DR BINGUEBOUGOU","Faible",1994,0,1994,1,1994,0,1994,1,{"$f":"_xlfn.XLOOKUP($G1850,[1]demo_data!$G$5:$G$2257,[1]demo_data!$I$5:$I$2257)","v":7605}]
[1882,"Côte d'Ivoire","CIV","PORO","KORHOGO 1",15453,"DR BLAGBOKAHA","Faible",202,0,202,1,202,0,202,1,{"$f":"_xlfn.XLOOKUP($G1851,[1]demo_data!$G$5:$G$2257,[1]demo_data!$I$5:$I$2257)","v":770}]
[1883,"Côte d'Ivoire","CIV","PORO","KORHOGO 1",15453,"DR FONONVOGO ","Faible",1863,0,1863,1,1863,0,1863,1,{"$f":"_xlfn.XLOOKUP($G1852,[1]demo_data!$G$5:$G$2257,[1]demo_data!$I$5:$I$2257)","v":7107}]
[1887,"Côte d'Ivoire","CIV","PORO","KORHOGO 1",15453,"DR KOHOTIERI","Faible",2443,0,2443,1,2443,0,2443,1,{"$f":"_xlfn.XLOOKUP($G1853,[1]demo_data!$G$5:$G$2257,[1]demo_data!$I$5:$I$2257)","v":9316}]
[1888,"Côte d'Ivoire","CIV","PORO","KORHOGO 1",15453,"DR KOKAHA","Faible",1506,0,1506,1,1506,0,1506,1,{"$f":"_xlfn.XLOOKUP($G1854,[1]demo_data!$G$5:$G$2257,[1]demo_data!$I$5:$I$2257)","v":5745}]
[1889,"Côte d'Ivoire","CIV","PORO","KORHOGO 1",15453,"DR KOLEKAHA /LAVONONKAHA","Faible",945,0,945,1,945,0,945,1,{"$f":"_xlfn.XLOOKUP($G1855,[1]demo_data!$G$5:$G$2257,[1]demo_data!$I$5:$I$2257)","v":3605}]
[1890,"Côte d'Ivoire","CIV","PORO","KORHOGO 1",15453,"DR KPONGBOVOGO","Faible",201,0,201,1,201,0,201,1,{"$f":"_xlfn.XLOOKUP($G1856,[1]demo_data!$G$5:$G$2257,[1]demo_data!$I$5:$I$2257)","v":766}]
[1891,"Côte d'Ivoire","CIV","PORO","KORHOGO 1",15453,"DR LAKPOLO","Faible",1533,0,1533,1,1533,0,1533,1,{"$f":"_xlfn.XLOOKUP($G1857,[1]demo_data!$G$5:$G$2257,[1]demo_data!$I$5:$I$2257)","v":5847}]
[1892,"Côte d'Ivoire","CIV","PORO","KORHOGO 1",15453,"DR LAMEKAHA","Faible",1369,0,1369,1,1369,0,1369,1,{"$f":"_xlfn.XLOOKUP($G1858,[1]demo_data!$G$5:$G$2257,[1]demo_data!$I$5:$I$2257)","v":5221}]
[1893,"Côte d'Ivoire","CIV","PORO","KORHOGO 1",15453,"DR LELOUROUKAHA","Faible",686,0,686,1,686,0,686,1,{"$f":"_xlfn.XLOOKUP($G1859,[1]demo_data!$G$5:$G$2257,[1]demo_data!$I$5:$I$2257)","v":2619}]
[1895,"Côte d'Ivoire","CIV","PORO","KORHOGO 1",15453,"DR NAKAHA","Faible",1056,0,1056,1,1056,0,1056,1,{"$f":"_xlfn.XLOOKUP($G1860,[1]demo_data!$G$5:$G$2257,[1]demo_data!$I$5:$I$2257)","v":4027}]
[1896,"Côte d'Ivoire","CIV","PORO","KORHOGO 1",15453,"DR NANGAKAHA","Faible",664,0,664,1,664,0,664,1,{"$f":"_xlfn.XLOOKUP($G1861,[1]demo_data!$G$5:$G$2257,[1]demo_data!$I$5:$I$2257)","v":2531}]
[1901,"Côte d'Ivoire","CIV","PORO","KORHOGO 1",15453,"DR OUMBOLO","Faible",672,0,672,1,672,0,672,1,{"$f":"_xlfn.XLOOKUP($G1862,[1]demo_data!$G$5:$G$2257,[1]demo_data!$I$5:$I$2257)","v":2564}]
[1902,"Côte d'Ivoire","CIV","PORO","KORHOGO 1",15453,"DR PIGNON","Faible",790,0,790,1,790,0,790,1,{"$f":"_xlfn.XLOOKUP($G1863,[1]demo_data!$G$5:$G$2257,[1]demo_data!$I$5:$I$2257)","v":3012}]
[1904,"Côte d'Ivoire","CIV","PORO","KORHOGO 1",15453,"DR PONVOGO","Faible",1187,0,1187,1,1187,0,1187,1,{"$f":"_xlfn.XLOOKUP($G1864,[1]demo_data!$G$5:$G$2257,[1]demo_data!$I$5:$I$2257)","v":4526}]
[1905,"Côte d'Ivoire","CIV","PORO","KORHOGO 1",15453,"DR SIELEKAHA","Faible",1012,0,1012,1,1012,0,1012,1,{"$f":"_xlfn.XLOOKUP($G1865,[1]demo_data!$G$5:$G$2257,[1]demo_data!$I$5:$I$2257)","v":3858}]
[1907,"Côte d'Ivoire","CIV","PORO","KORHOGO 1",15453,"PMI KORHOGO 1","Modérée",17871,8200,26071,1,17871,8200,26071,2,{"$f":"_xlfn.XLOOKUP($G1866,[1]demo_data!$G$5:$G$2257,[1]demo_data!$I$5:$I$2257)","v":30399}]
[1840,"Côte d'Ivoire","CIV","PORO","KORHOGO 2",15454,"CSR DAGBA","Faible",3745,0,3745,1,3745,0,3745,1,{"$f":"_xlfn.XLOOKUP($G1867,[1]demo_data!$G$5:$G$2257,[1]demo_data!$I$5:$I$2257)","v":11614}]
[1913,"Côte d'Ivoire","CIV","PORO","KORHOGO 2",15454,"CSR KALOA","Faible",2276,0,2276,1,2276,0,2276,1,{"$f":"_xlfn.XLOOKUP($G1868,[1]demo_data!$G$5:$G$2257,[1]demo_data!$I$5:$I$2257)","v":7058}]
[1851,"Côte d'Ivoire","CIV","PORO","KORHOGO 2",15454,"CSR NAFOUN","Faible",2444,0,2444,1,2444,0,2444,1,{"$f":"_xlfn.XLOOKUP($G1869,[1]demo_data!$G$5:$G$2257,[1]demo_data!$I$5:$I$2257)","v":7580}]
[1856,"Côte d'Ivoire","CIV","PORO","KORHOGO 2",15454,"CSR N'GANON","Faible",2147,0,2147,1,2147,0,2147,1,{"$f":"_xlfn.XLOOKUP($G1870,[1]demo_data!$G$5:$G$2257,[1]demo_data!$I$5:$I$2257)","v":6658}]
[1859,"Côte d'Ivoire","CIV","PORO","KORHOGO 2",15454,"CSR SEGUETIELE","Faible",2257,0,2257,1,2257,0,2257,1,{"$f":"_xlfn.XLOOKUP($G1871,[1]demo_data!$G$5:$G$2257,[1]demo_data!$I$5:$I$2257)","v":7000}]
[1864,"Côte d'Ivoire","CIV","PORO","KORHOGO 2",15454,"CSR TARATO","Faible",1611,0,1611,1,1611,0,1611,1,{"$f":"_xlfn.XLOOKUP($G1872,[1]demo_data!$G$5:$G$2257,[1]demo_data!$I$5:$I$2257)","v":4994}]
[1869,"Côte d'Ivoire","CIV","PORO","KORHOGO 2",15454,"CSU KANOROBA","Faible",3866,0,3866,1,3866,0,3866,1,{"$f":"_xlfn.XLOOKUP($G1873,[1]demo_data!$G$5:$G$2257,[1]demo_data!$I$5:$I$2257)","v":11989}]
[1875,"Côte d'Ivoire","CIV","PORO","KORHOGO 2",15454,"CSU NIOFOIN","Faible",4601,0,4601,1,4601,0,4601,1,{"$f":"_xlfn.XLOOKUP($G1874,[1]demo_data!$G$5:$G$2257,[1]demo_data!$I$5:$I$2257)","v":14267}]
[1877,"Côte d'Ivoire","CIV","PORO","KORHOGO 2",15454,"CSU SIRASSO","Faible",6333,0,6333,1,6333,0,6333,1,{"$f":"_xlfn.XLOOKUP($G1875,[1]demo_data!$G$5:$G$2257,[1]demo_data!$I$5:$I$2257)","v":19639}]
[1886,"Côte d'Ivoire","CIV","PORO","KORHOGO 2",15454,"DR KIERE","Faible",1576,0,1576,1,1576,0,1576,1,{"$f":"_xlfn.XLOOKUP($G1876,[1]demo_data!$G$5:$G$2257,[1]demo_data!$I$5:$I$2257)","v":4887}]
[1894,"Côte d'Ivoire","CIV","PORO","KORHOGO 2",15454,"DR MARAH","Faible",879,0,879,1,879,0,879,1,{"$f":"_xlfn.XLOOKUP($G1877,[1]demo_data!$G$5:$G$2257,[1]demo_data!$I$5:$I$2257)","v":2726}]
[1899,"Côte d'Ivoire","CIV","PORO","KORHOGO 2",15454,"DR NOUFRE","Faible",1134,0,1134,1,1134,0,1134,1,{"$f":"_xlfn.XLOOKUP($G1878,[1]demo_data!$G$5:$G$2257,[1]demo_data!$I$5:$I$2257)","v":3517}]
[1900,"Côte d'Ivoire","CIV","PORO","KORHOGO 2",15454,"DR ODIA","Faible",1426,0,1426,1,1426,0,1426,1,{"$f":"_xlfn.XLOOKUP($G1879,[1]demo_data!$G$5:$G$2257,[1]demo_data!$I$5:$I$2257)","v":4421}]
[1903,"Côte d'Ivoire","CIV","PORO","KORHOGO 2",15454,"DR PITIENGOMON","Faible",1980,0,1980,1,1980,0,1980,1,{"$f":"_xlfn.XLOOKUP($G1880,[1]demo_data!$G$5:$G$2257,[1]demo_data!$I$5:$I$2257)","v":6141}]
[1906,"Côte d'Ivoire","CIV","PORO","KORHOGO 2",15454,"DR TALLERE","Faible",1415,0,1415,1,1415,0,1415,1,{"$f":"_xlfn.XLOOKUP($G1881,[1]demo_data!$G$5:$G$2257,[1]demo_data!$I$5:$I$2257)","v":4389}]
[1915,"Côte d'Ivoire","CIV","PORO","M'BENGUE",15463,"CSR LOULO","Faible",489,0,489,1,489,0,489,1,{"$f":"_xlfn.XLOOKUP($G1882,[1]demo_data!$G$5:$G$2257,[1]demo_data!$I$5:$I$2257)","v":1450}]
[1916,"Côte d'Ivoire","CIV","PORO","M'BENGUE",15463,"CSR MASSEGUERE","Faible",1602,0,1602,1,1602,0,1602,1,{"$f":"_xlfn.XLOOKUP($G1883,[1]demo_data!$G$5:$G$2257,[1]demo_data!$I$5:$I$2257)","v":4741}]
[1917,"Côte d'Ivoire","CIV","PORO","M'BENGUE",15463,"CSR MIBRIGUE","Faible",1270,0,1270,1,1270,0,1270,1,{"$f":"_xlfn.XLOOKUP($G1884,[1]demo_data!$G$5:$G$2257,[1]demo_data!$I$5:$I$2257)","v":3759}]
[1918,"Côte d'Ivoire","CIV","PORO","M'BENGUE",15463,"CSR NAFOUN","Faible",1075,0,1075,1,1075,0,1075,1,{"$f":"_xlfn.XLOOKUP($G1885,[1]demo_data!$G$5:$G$2257,[1]demo_data!$I$5:$I$2257)","v":7580}]
[1921,"Côte d'Ivoire","CIV","PORO","M'BENGUE",15463,"CSR POUNGBE","Faible",726,0,726,1,726,0,726,1,{"$f":"_xlfn.XLOOKUP($G1886,[1]demo_data!$G$5:$G$2257,[1]demo_data!$I$5:$I$2257)","v":2150}]
[1922,"Côte d'Ivoire","CIV","PORO","M'BENGUE",15463,"CSR SOLOGNOUGO","Faible",2208,0,2208,1,2208,0,2208,1,{"$f":"_xlfn.XLOOKUP($G1887,[1]demo_data!$G$5:$G$2257,[1]demo_data!$I$5:$I$2257)","v":6538}]
[1923,"Côte d'Ivoire","CIV","PORO","M'BENGUE",15463,"CSR TIOROTIERI","Faible",1170,0,1170,1,1170,0,1170,1,{"$f":"_xlfn.XLOOKUP($G1888,[1]demo_data!$G$5:$G$2257,[1]demo_data!$I$5:$I$2257)","v":3462}]
[1924,"Côte d'Ivoire","CIV","PORO","M'BENGUE",15463,"CSR TONGON","Faible",1530,0,1530,1,1530,0,1530,1,{"$f":"_xlfn.XLOOKUP($G1889,[1]demo_data!$G$5:$G$2257,[1]demo_data!$I$5:$I$2257)","v":4528}]
[1925,"Côte d'Ivoire","CIV","PORO","M'BENGUE",15463,"CSU BOUGOU","Faible",3589,0,3589,1,3589,0,3589,1,{"$f":"_xlfn.XLOOKUP($G1890,[1]demo_data!$G$5:$G$2257,[1]demo_data!$I$5:$I$2257)","v":10624}]
[1926,"Côte d'Ivoire","CIV","PORO","M'BENGUE",15463,"CSU KATIALI","Faible",2549,0,2549,1,2549,0,2549,1,{"$f":"_xlfn.XLOOKUP($G1891,[1]demo_data!$G$5:$G$2257,[1]demo_data!$I$5:$I$2257)","v":7544}]
[1927,"Côte d'Ivoire","CIV","PORO","M'BENGUE",15463,"CSU KATOGO","Faible",2944,0,2944,1,2944,0,2944,1,{"$f":"_xlfn.XLOOKUP($G1892,[1]demo_data!$G$5:$G$2257,[1]demo_data!$I$5:$I$2257)","v":8715}]
[1928,"Côte d'Ivoire","CIV","PORO","M'BENGUE",15463,"CSU M'BENGUE","Faible",8065,0,8065,1,8065,0,8065,1,{"$f":"_xlfn.XLOOKUP($G1893,[1]demo_data!$G$5:$G$2257,[1]demo_data!$I$5:$I$2257)","v":23877}]
[1908,"Côte d'Ivoire","CIV","PORO","SINEMENTILAI",15464,"CSC BEVOGO","Faible",1233,0,1233,1,1233,0,1233,1,{"$f":"_xlfn.XLOOKUP($G1894,[1]demo_data!$G$5:$G$2257,[1]demo_data!$I$5:$I$2257)","v":4209}]
[1909,"Côte d'Ivoire","CIV","PORO","SINEMENTILAI",15464,"CSR BAHOUAKAHA","Faible",1474,0,1474,1,1474,0,1474,1,{"$f":"_xlfn.XLOOKUP($G1895,[1]demo_data!$G$5:$G$2257,[1]demo_data!$I$5:$I$2257)","v":5032}]
[1910,"Côte d'Ivoire","CIV","PORO","SINEMENTILAI",15464,"CSR DOHIREGUEKAHA","Faible",1502,0,1502,1,1502,0,1502,1,{"$f":"_xlfn.XLOOKUP($G1896,[1]demo_data!$G$5:$G$2257,[1]demo_data!$I$5:$I$2257)","v":5127}]
[1911,"Côte d'Ivoire","CIV","PORO","SINEMENTILAI",15464,"CSR FODIOLOKAHA","Faible",1088,0,1088,1,1088,0,1088,1,{"$f":"_xlfn.XLOOKUP($G1897,[1]demo_data!$G$5:$G$2257,[1]demo_data!$I$5:$I$2257)","v":3713}]
[1912,"Côte d'Ivoire","CIV","PORO","SINEMENTILAI",15464,"CSR KAGBOLODOUGOU","Faible",1304,0,1304,1,1304,0,1304,1,{"$f":"_xlfn.XLOOKUP($G1898,[1]demo_data!$G$5:$G$2257,[1]demo_data!$I$5:$I$2257)","v":4453}]
[1914,"Côte d'Ivoire","CIV","PORO","SINEMENTILAI",15464,"CSR LOKAHA 2","Faible",749,0,749,1,749,0,749,1,{"$f":"_xlfn.XLOOKUP($G1899,[1]demo_data!$G$5:$G$2257,[1]demo_data!$I$5:$I$2257)","v":2556}]
[1919,"Côte d'Ivoire","CIV","PORO","SINEMENTILAI",15464,"CSR NAKOUROUBELEKAHA","Faible",500,0,500,1,500,0,500,1,{"$f":"_xlfn.XLOOKUP($G1900,[1]demo_data!$G$5:$G$2257,[1]demo_data!$I$5:$I$2257)","v":1706}]
[1920,"Côte d'Ivoire","CIV","PORO","SINEMENTILAI",15464,"CSR PEGUEKAHA","Faible",959,0,959,1,959,0,959,1,{"$f":"_xlfn.XLOOKUP($G1901,[1]demo_data!$G$5:$G$2257,[1]demo_data!$I$5:$I$2257)","v":3275}]
[1929,"Côte d'Ivoire","CIV","PORO","SINEMENTILAI",15464,"CSU SINEMATIALI","Faible",5749,0,5749,1,5749,0,5749,1,{"$f":"_xlfn.XLOOKUP($G1902,[1]demo_data!$G$5:$G$2257,[1]demo_data!$I$5:$I$2257)","v":19627}]
[1930,"Côte d'Ivoire","CIV","PORO","SINEMENTILAI",15464,"DR BALLEKAHA","Faible",1766,0,1766,1,1766,0,1766,1,{"$f":"_xlfn.XLOOKUP($G1903,[1]demo_data!$G$5:$G$2257,[1]demo_data!$I$5:$I$2257)","v":6028}]
[1931,"Côte d'Ivoire","CIV","PORO","SINEMENTILAI",15464,"DR KATIONRON","Faible",331,0,331,1,331,0,331,1,{"$f":"_xlfn.XLOOKUP($G1904,[1]demo_data!$G$5:$G$2257,[1]demo_data!$I$5:$I$2257)","v":1131}]
[1932,"Côte d'Ivoire","CIV","PORO","SINEMENTILAI",15464,"DR MITEGUEKAHA","Faible",610,0,610,1,610,0,610,1,{"$f":"_xlfn.XLOOKUP($G1905,[1]demo_data!$G$5:$G$2257,[1]demo_data!$I$5:$I$2257)","v":2083}]
[1933,"Côte d'Ivoire","CIV","PORO","SINEMENTILAI",15464,"DR NONGOFIGUEKAHA","Faible",1362,0,1362,1,1362,0,1362,1,{"$f":"_xlfn.XLOOKUP($G1906,[1]demo_data!$G$5:$G$2257,[1]demo_data!$I$5:$I$2257)","v":4650}]
[1934,"Côte d'Ivoire","CIV","PORO","SINEMENTILAI",15464,"DR OUOLLOH","Faible",3199,0,3199,1,3199,0,3199,1,{"$f":"_xlfn.XLOOKUP($G1907,[1]demo_data!$G$5:$G$2257,[1]demo_data!$I$5:$I$2257)","v":10921}]
[1935,"Côte d'Ivoire","CIV","PORO","SINEMENTILAI",15464,"DR SEKONKAHA","Faible",368,0,368,1,368,0,368,1,{"$f":"_xlfn.XLOOKUP($G1908,[1]demo_data!$G$5:$G$2257,[1]demo_data!$I$5:$I$2257)","v":1257}]
[1936,"Côte d'Ivoire","CIV","PORO","SINEMENTILAI",15464,"DR TIONGOFOLOKAHA","Faible",2045,0,2045,1,2045,0,2045,1,{"$f":"_xlfn.XLOOKUP($G1909,[1]demo_data!$G$5:$G$2257,[1]demo_data!$I$5:$I$2257)","v":6980}]
[891,"Côte d'Ivoire","CIV","SAN-PEDRO","SAN PEDRO",15367,"ADJAMENE","Faible",4576,0,4576,0,0,0,0,1,{"$f":"_xlfn.XLOOKUP($G1910,[1]demo_data!$G$5:$G$2257,[1]demo_data!$I$5:$I$2257)","v":17682}]
[892,"Côte d'Ivoire","CIV","SAN-PEDRO","SAN PEDRO",15367,"BLAHOU","Modérée",4371,2005,6376,0,0,0,0,2,{"$f":"_xlfn.XLOOKUP($G1911,[1]demo_data!$G$5:$G$2257,[1]demo_data!$I$5:$I$2257)","v":16888}]
[893,"Côte d'Ivoire","CIV","SAN-PEDRO","SAN PEDRO",15367,"BRAHIMAKRO","Faible",4044,0,4044,0,0,0,0,1,{"$f":"_xlfn.XLOOKUP($G1912,[1]demo_data!$G$5:$G$2257,[1]demo_data!$I$5:$I$2257)","v":15631}]
[895,"Côte d'Ivoire","CIV","SAN-PEDRO","SAN PEDRO",15367,"COOPAGA","Faible",5009,0,5009,0,0,0,0,1,{"$f":"_xlfn.XLOOKUP($G1913,[1]demo_data!$G$5:$G$2257,[1]demo_data!$I$5:$I$2257)","v":19355}]
[896,"Côte d'Ivoire","CIV","SAN-PEDRO","SAN PEDRO",15367,"CSU DAFCI","Faible",4047,0,4047,0,0,0,0,1,{"$f":"_xlfn.XLOOKUP($G1914,[1]demo_data!$G$5:$G$2257,[1]demo_data!$I$5:$I$2257)","v":15637}]
[897,"Côte d'Ivoire","CIV","SAN-PEDRO","SAN PEDRO",15367,"DAGADJI","Faible",5907,0,5907,0,0,0,0,1,{"$f":"_xlfn.XLOOKUP($G1915,[1]demo_data!$G$5:$G$2257,[1]demo_data!$I$5:$I$2257)","v":22825}]
[898,"Côte d'Ivoire","CIV","SAN-PEDRO","SAN PEDRO",15367,"DJAPADJI","Faible",6169,0,6169,0,0,0,0,1,{"$f":"_xlfn.XLOOKUP($G1916,[1]demo_data!$G$5:$G$2257,[1]demo_data!$I$5:$I$2257)","v":23841}]
[899,"Côte d'Ivoire","CIV","SAN-PEDRO","SAN PEDRO",15367,"DOBA","Faible",4465,0,4465,0,0,0,0,1,{"$f":"_xlfn.XLOOKUP($G1917,[1]demo_data!$G$5:$G$2257,[1]demo_data!$I$5:$I$2257)","v":17252}]
[900,"Côte d'Ivoire","CIV","SAN-PEDRO","SAN PEDRO",15367,"DOGBO","Faible",9107,0,9107,0,0,0,0,1,{"$f":"_xlfn.XLOOKUP($G1918,[1]demo_data!$G$5:$G$2257,[1]demo_data!$I$5:$I$2257)","v":35188}]
[901,"Côte d'Ivoire","CIV","SAN-PEDRO","SAN PEDRO",15367,"FAHE","Faible",1656,0,1656,0,0,0,0,1,{"$f":"_xlfn.XLOOKUP($G1919,[1]demo_data!$G$5:$G$2257,[1]demo_data!$I$5:$I$2257)","v":6398}]
[902,"Côte d'Ivoire","CIV","SAN-PEDRO","SAN PEDRO",15367,"FSU TERRE ROUGE","Faible",11774,0,11774,0,0,0,0,1,{"$f":"_xlfn.XLOOKUP($G1920,[1]demo_data!$G$5:$G$2257,[1]demo_data!$I$5:$I$2257)","v":45498}]
[903,"Côte d'Ivoire","CIV","SAN-PEDRO","SAN PEDRO",15367,"GABIADJI","Faible",5997,0,5997,0,0,0,0,1,{"$f":"_xlfn.XLOOKUP($G1921,[1]demo_data!$G$5:$G$2257,[1]demo_data!$I$5:$I$2257)","v":23175}]
[904,"Côte d'Ivoire","CIV","SAN-PEDRO","SAN PEDRO",15367,"GAGNY","Faible",2832,0,2832,0,0,0,0,1,{"$f":"_xlfn.XLOOKUP($G1922,[1]demo_data!$G$5:$G$2257,[1]demo_data!$I$5:$I$2257)","v":10942}]
[905,"Côte d'Ivoire","CIV","SAN-PEDRO","SAN PEDRO",15367,"GLIGBEUADJI","Faible",5480,0,5480,0,0,0,0,1,{"$f":"_xlfn.XLOOKUP($G1923,[1]demo_data!$G$5:$G$2257,[1]demo_data!$I$5:$I$2257)","v":21175}]
[906,"Côte d'Ivoire","CIV","SAN-PEDRO","SAN PEDRO",15367,"GNITY ECOLE","Faible",2458,0,2458,0,0,0,0,1,{"$f":"_xlfn.XLOOKUP($G1924,[1]demo_data!$G$5:$G$2257,[1]demo_data!$I$5:$I$2257)","v":9500}]
[907,"Côte d'Ivoire","CIV","SAN-PEDRO","SAN PEDRO",15367,"GOH","Faible",4183,0,4183,0,0,0,0,1,{"$f":"_xlfn.XLOOKUP($G1925,[1]demo_data!$G$5:$G$2257,[1]demo_data!$I$5:$I$2257)","v":16164}]
[908,"Côte d'Ivoire","CIV","SAN-PEDRO","SAN PEDRO",15367,"GRAND BEREBY","Faible",3257,0,3257,0,0,0,0,1,{"$f":"_xlfn.XLOOKUP($G1926,[1]demo_data!$G$5:$G$2257,[1]demo_data!$I$5:$I$2257)","v":12586}]
[909,"Côte d'Ivoire","CIV","SAN-PEDRO","SAN PEDRO",15367,"HEKE VILLAGE","Faible",2775,0,2775,0,0,0,0,1,{"$f":"_xlfn.XLOOKUP($G1927,[1]demo_data!$G$5:$G$2257,[1]demo_data!$I$5:$I$2257)","v":10723}]
[910,"Côte d'Ivoire","CIV","SAN-PEDRO","SAN PEDRO",15367,"HKB","Faible",9526,0,9526,0,0,0,0,1,{"$f":"_xlfn.XLOOKUP($G1928,[1]demo_data!$G$5:$G$2257,[1]demo_data!$I$5:$I$2257)","v":36811}]
[911,"Côte d'Ivoire","CIV","SAN-PEDRO","SAN PEDRO",15367,"KAKO","Faible",3777,0,3777,0,0,0,0,1,{"$f":"_xlfn.XLOOKUP($G1929,[1]demo_data!$G$5:$G$2257,[1]demo_data!$I$5:$I$2257)","v":14594}]
[912,"Côte d'Ivoire","CIV","SAN-PEDRO","SAN PEDRO",15367,"KEMONDE","Faible",1883,0,1883,0,0,0,0,1,{"$f":"_xlfn.XLOOKUP($G1930,[1]demo_data!$G$5:$G$2257,[1]demo_data!$I$5:$I$2257)","v":7275}]
[913,"Côte d'Ivoire","CIV","SAN-PEDRO","SAN PEDRO",15367,"KLOTOU","Faible",1287,0,1287,0,0,0,0,1,{"$f":"_xlfn.XLOOKUP($G1931,[1]demo_data!$G$5:$G$2257,[1]demo_data!$I$5:$I$2257)","v":4972}]
[914,"Côte d'Ivoire","CIV","SAN-PEDRO","SAN PEDRO",15367,"LAC","Faible",4575,0,4575,0,0,0,0,1,{"$f":"_xlfn.XLOOKUP($G1932,[1]demo_data!$G$5:$G$2257,[1]demo_data!$I$5:$I$2257)","v":17679}]
[915,"Côte d'Ivoire","CIV","SAN-PEDRO","SAN PEDRO",15367,"MATERNITE CONSOLATA","Faible",3435,0,3435,0,0,0,0,1,{"$f":"_xlfn.XLOOKUP($G1933,[1]demo_data!$G$5:$G$2257,[1]demo_data!$I$5:$I$2257)","v":13276}]
[916,"Côte d'Ivoire","CIV","SAN-PEDRO","SAN PEDRO",15367,"MENEE CENTRE","Faible",4914,0,4914,0,0,0,0,1,{"$f":"_xlfn.XLOOKUP($G1934,[1]demo_data!$G$5:$G$2257,[1]demo_data!$I$5:$I$2257)","v":18988}]
[917,"Côte d'Ivoire","CIV","SAN-PEDRO","SAN PEDRO",15367,"MOUSSADOUGOU","Modérée",6527,2995,9522,0,0,0,0,2,{"$f":"_xlfn.XLOOKUP($G1935,[1]demo_data!$G$5:$G$2257,[1]demo_data!$I$5:$I$2257)","v":25221}]
[918,"Côte d'Ivoire","CIV","SAN-PEDRO","SAN PEDRO",15367,"NABOVILLE","Faible",1601,0,1601,0,0,0,0,1,{"$f":"_xlfn.XLOOKUP($G1936,[1]demo_data!$G$5:$G$2257,[1]demo_data!$I$5:$I$2257)","v":6185}]
[919,"Côte d'Ivoire","CIV","SAN-PEDRO","SAN PEDRO",15367,"NERO BROUSSE ","Faible",5900,0,5900,0,0,0,0,1,{"$f":"_xlfn.XLOOKUP($G1937,[1]demo_data!$G$5:$G$2257,[1]demo_data!$I$5:$I$2257)","v":22799}]
[920,"Côte d'Ivoire","CIV","SAN-PEDRO","SAN PEDRO",15367,"NONOUA","Faible",1808,0,1808,0,0,0,0,1,{"$f":"_xlfn.XLOOKUP($G1938,[1]demo_data!$G$5:$G$2257,[1]demo_data!$I$5:$I$2257)","v":6985}]
[921,"Côte d'Ivoire","CIV","SAN-PEDRO","SAN PEDRO",15367,"OUEOULO","Faible",2536,0,2536,0,0,0,0,1,{"$f":"_xlfn.XLOOKUP($G1939,[1]demo_data!$G$5:$G$2257,[1]demo_data!$I$5:$I$2257)","v":9801}]
[922,"Côte d'Ivoire","CIV","SAN-PEDRO","SAN PEDRO",15367,"PMI BARDOT","Faible",7094,0,7094,0,0,0,0,1,{"$f":"_xlfn.XLOOKUP($G1940,[1]demo_data!$G$5:$G$2257,[1]demo_data!$I$5:$I$2257)","v":27410}]
[923,"Côte d'Ivoire","CIV","SAN-PEDRO","SAN PEDRO",15367,"ROC","Faible",871,0,871,0,0,0,0,1,{"$f":"_xlfn.XLOOKUP($G1941,[1]demo_data!$G$5:$G$2257,[1]demo_data!$I$5:$I$2257)","v":3365}]
[924,"Côte d'Ivoire","CIV","SAN-PEDRO","SAN PEDRO",15367,"SAPH","Faible",2879,0,2879,0,0,0,0,1,{"$f":"_xlfn.XLOOKUP($G1942,[1]demo_data!$G$5:$G$2257,[1]demo_data!$I$5:$I$2257)","v":11125}]
[925,"Côte d'Ivoire","CIV","SAN-PEDRO","SAN PEDRO",15367,"SCASO","Faible",531,0,531,0,0,0,0,1,{"$f":"_xlfn.XLOOKUP($G1943,[1]demo_data!$G$5:$G$2257,[1]demo_data!$I$5:$I$2257)","v":2053}]
[926,"Côte d'Ivoire","CIV","SAN-PEDRO","SAN PEDRO",15367,"SEWEKE","Faible",3592,0,3592,0,0,0,0,1,{"$f":"_xlfn.XLOOKUP($G1944,[1]demo_data!$G$5:$G$2257,[1]demo_data!$I$5:$I$2257)","v":13880}]
[927,"Côte d'Ivoire","CIV","SAN-PEDRO","SAN PEDRO",15367,"SOGB","Faible",4854,0,4854,0,0,0,0,1,{"$f":"_xlfn.XLOOKUP($G1945,[1]demo_data!$G$5:$G$2257,[1]demo_data!$I$5:$I$2257)","v":18756}]
[928,"Côte d'Ivoire","CIV","SAN-PEDRO","SAN PEDRO",15367,"TOUIH","Faible",8728,0,8728,0,0,0,0,1,{"$f":"_xlfn.XLOOKUP($G1946,[1]demo_data!$G$5:$G$2257,[1]demo_data!$I$5:$I$2257)","v":33727}]
[929,"Côte d'Ivoire","CIV","SAN-PEDRO","SAN PEDRO",15367,"VILLAGES COM NORD EST","Faible",4872,0,4872,0,0,0,0,1,{"$f":"_xlfn.XLOOKUP($G1947,[1]demo_data!$G$5:$G$2257,[1]demo_data!$I$5:$I$2257)","v":18830}]
[930,"Côte d'Ivoire","CIV","SAN-PEDRO","SAN PEDRO",15367,"VILLAGES COM SUD","Modérée",5389,2473,7862,0,0,0,0,2,{"$f":"_xlfn.XLOOKUP($G1948,[1]demo_data!$G$5:$G$2257,[1]demo_data!$I$5:$I$2257)","v":20822}]
[931,"Côte d'Ivoire","CIV","SAN-PEDRO","SAN PEDRO",15367,"WATTE","Modérée",6044,2773,8817,0,0,0,0,2,{"$f":"_xlfn.XLOOKUP($G1949,[1]demo_data!$G$5:$G$2257,[1]demo_data!$I$5:$I$2257)","v":23356}]
[932,"Côte d'Ivoire","CIV","SAN-PEDRO","SAN PEDRO",15367,"ZIMBABWE","Faible",6116,0,6116,0,0,0,0,1,{"$f":"_xlfn.XLOOKUP($G1950,[1]demo_data!$G$5:$G$2257,[1]demo_data!$I$5:$I$2257)","v":23634}]
[1009,"Côte d'Ivoire","CIV","SAN-PEDRO","TABOU",15370,"CMS BLIDOUBA","Faible",981,0,981,0,0,0,0,1,{"$f":"_xlfn.XLOOKUP($G1951,[1]demo_data!$G$5:$G$2257,[1]demo_data!$I$5:$I$2257)","v":3858}]
[1010,"Côte d'Ivoire","CIV","SAN-PEDRO","TABOU",15370,"CMS GBAPET","Faible",1029,0,1029,0,0,0,0,1,{"$f":"_xlfn.XLOOKUP($G1952,[1]demo_data!$G$5:$G$2257,[1]demo_data!$I$5:$I$2257)","v":4046}]
[1011,"Côte d'Ivoire","CIV","SAN-PEDRO","TABOU",15370,"CMS IBOKE","Faible",1416,0,1416,0,0,0,0,1,{"$f":"_xlfn.XLOOKUP($G1953,[1]demo_data!$G$5:$G$2257,[1]demo_data!$I$5:$I$2257)","v":5568}]
[1012,"Côte d'Ivoire","CIV","SAN-PEDRO","TABOU",15370,"CMS NEKA","Faible",1546,0,1546,0,0,0,0,1,{"$f":"_xlfn.XLOOKUP($G1954,[1]demo_data!$G$5:$G$2257,[1]demo_data!$I$5:$I$2257)","v":6077}]
[1013,"Côte d'Ivoire","CIV","SAN-PEDRO","TABOU",15370,"CSR DJAMADIOKE","Faible",945,0,945,0,0,0,0,1,{"$f":"_xlfn.XLOOKUP($G1955,[1]demo_data!$G$5:$G$2257,[1]demo_data!$I$5:$I$2257)","v":3715}]
[1014,"Côte d'Ivoire","CIV","SAN-PEDRO","TABOU",15370,"CSR KARIE","Faible",1670,0,1670,0,0,0,0,1,{"$f":"_xlfn.XLOOKUP($G1956,[1]demo_data!$G$5:$G$2257,[1]demo_data!$I$5:$I$2257)","v":6569}]
[1015,"Côte d'Ivoire","CIV","SAN-PEDRO","TABOU",15370,"CSR MAHINO","Modérée",6296,2888,9184,0,0,0,0,2,{"$f":"_xlfn.XLOOKUP($G1957,[1]demo_data!$G$5:$G$2257,[1]demo_data!$I$5:$I$2257)","v":24750}]
[1016,"Côte d'Ivoire","CIV","SAN-PEDRO","TABOU",15370,"CSR MENEKE","Non endémique",0,0,0,0,0,0,0,0,{"$f":"_xlfn.XLOOKUP($G1958,[1]demo_data!$G$5:$G$2257,[1]demo_data!$I$5:$I$2257)","v":11519}]
[1017,"Côte d'Ivoire","CIV","SAN-PEDRO","TABOU",15370,"CSR SEKREKE","Modérée",1360,624,1984,0,0,0,0,2,{"$f":"_xlfn.XLOOKUP($G1959,[1]demo_data!$G$5:$G$2257,[1]demo_data!$I$5:$I$2257)","v":5349}]
[1018,"Côte d'Ivoire","CIV","SAN-PEDRO","TABOU",15370,"CSR YOUKOU","Modérée",2893,1328,4221,0,0,0,0,2,{"$f":"_xlfn.XLOOKUP($G1960,[1]demo_data!$G$5:$G$2257,[1]demo_data!$I$5:$I$2257)","v":11376}]
[1019,"Côte d'Ivoire","CIV","SAN-PEDRO","TABOU",15370,"CSU DJOUROUTOU","Faible",4699,0,4699,0,0,0,0,1,{"$f":"_xlfn.XLOOKUP($G1961,[1]demo_data!$G$5:$G$2257,[1]demo_data!$I$5:$I$2257)","v":18474}]
[1020,"Côte d'Ivoire","CIV","SAN-PEDRO","TABOU",15370,"CSU GRABO","Faible",3892,0,3892,0,0,0,0,1,{"$f":"_xlfn.XLOOKUP($G1962,[1]demo_data!$G$5:$G$2257,[1]demo_data!$I$5:$I$2257)","v":15301}]
[1021,"Côte d'Ivoire","CIV","SAN-PEDRO","TABOU",15370,"CSU I GRABO","Faible",2443,0,2443,0,0,0,0,1,{"$f":"_xlfn.XLOOKUP($G1963,[1]demo_data!$G$5:$G$2257,[1]demo_data!$I$5:$I$2257)","v":9605}]
[1022,"Côte d'Ivoire","CIV","SAN-PEDRO","TABOU",15370,"CSU I TABOU","Faible",1072,0,1072,0,0,0,0,1,{"$f":"_xlfn.XLOOKUP($G1964,[1]demo_data!$G$5:$G$2257,[1]demo_data!$I$5:$I$2257)","v":4216}]
[1023,"Côte d'Ivoire","CIV","SAN-PEDRO","TABOU",15370,"CSU OLODIO","Faible",2825,0,2825,0,0,0,0,1,{"$f":"_xlfn.XLOOKUP($G1965,[1]demo_data!$G$5:$G$2257,[1]demo_data!$I$5:$I$2257)","v":11104}]
[1024,"Côte d'Ivoire","CIV","SAN-PEDRO","TABOU",15370,"CSU PARA","Faible",6843,0,6843,0,0,0,0,1,{"$f":"_xlfn.XLOOKUP($G1966,[1]demo_data!$G$5:$G$2257,[1]demo_data!$I$5:$I$2257)","v":26906}]
[1025,"Côte d'Ivoire","CIV","SAN-PEDRO","TABOU",15370,"DR GNENAHOUELEKE","Non endémique",0,0,0,0,0,0,0,0,{"$f":"_xlfn.XLOOKUP($G1967,[1]demo_data!$G$5:$G$2257,[1]demo_data!$I$5:$I$2257)","v":3765}]
[1026,"Côte d'Ivoire","CIV","SAN-PEDRO","TABOU",15370,"DR GOZON","Faible",2016,0,2016,0,0,0,0,1,{"$f":"_xlfn.XLOOKUP($G1968,[1]demo_data!$G$5:$G$2257,[1]demo_data!$I$5:$I$2257)","v":10408}]
[1027,"Côte d'Ivoire","CIV","SAN-PEDRO","TABOU",15370,"DR NEKA","Modérée",2148,986,3134,0,0,0,0,2,{"$f":"_xlfn.XLOOKUP($G1969,[1]demo_data!$G$5:$G$2257,[1]demo_data!$I$5:$I$2257)","v":8447}]
[1028,"Côte d'Ivoire","CIV","SAN-PEDRO","TABOU",15370,"DR NIPLOU","Faible",1289,0,1289,0,0,0,0,1,{"$f":"_xlfn.XLOOKUP($G1970,[1]demo_data!$G$5:$G$2257,[1]demo_data!$I$5:$I$2257)","v":5068}]
[1029,"Côte d'Ivoire","CIV","SAN-PEDRO","TABOU",15370,"DR SOUBLAKE","Non endémique",0,0,0,0,0,0,0,0,{"$f":"_xlfn.XLOOKUP($G1971,[1]demo_data!$G$5:$G$2257,[1]demo_data!$I$5:$I$2257)","v":2844}]
[1030,"Côte d'Ivoire","CIV","SAN-PEDRO","TABOU",15370,"DR SOUKE","Faible",671,0,671,0,0,0,0,1,{"$f":"_xlfn.XLOOKUP($G1972,[1]demo_data!$G$5:$G$2257,[1]demo_data!$I$5:$I$2257)","v":2636}]
[1031,"Côte d'Ivoire","CIV","SAN-PEDRO","TABOU",15370,"HYRRE","Faible",1397,0,1397,0,0,0,0,1,{"$f":"_xlfn.XLOOKUP($G1973,[1]demo_data!$G$5:$G$2257,[1]demo_data!$I$5:$I$2257)","v":5493}]
[1032,"Côte d'Ivoire","CIV","SAN-PEDRO","TABOU",15370,"TABOU VILLE","Faible",5834,0,5834,0,0,0,0,1,{"$f":"_xlfn.XLOOKUP($G1974,[1]demo_data!$G$5:$G$2257,[1]demo_data!$I$5:$I$2257)","v":22938}]
[1964,"Côte d'Ivoire","CIV","SUD-COMOE","ABOISSO",15402,"ABOULIE","Forte",645,1481,2126,1,645,1481,2126,3,{"$f":"_xlfn.XLOOKUP($G1975,[1]demo_data!$G$5:$G$2257,[1]demo_data!$I$5:$I$2257)","v":2524}]
[1965,"Côte d'Ivoire","CIV","SUD-COMOE","ABOISSO",15402,"ABY","Non endémique",0,0,0,0,0,0,0,0,{"$f":"_xlfn.XLOOKUP($G1976,[1]demo_data!$G$5:$G$2257,[1]demo_data!$I$5:$I$2257)","v":5369}]
[1966,"Côte d'Ivoire","CIV","SUD-COMOE","ABOISSO",15402,"ADAOU","Forte",966,2216,3182,1,966,2216,3182,3,{"$f":"_xlfn.XLOOKUP($G1977,[1]demo_data!$G$5:$G$2257,[1]demo_data!$I$5:$I$2257)","v":8869}]
[1967,"Côte d'Ivoire","CIV","SUD-COMOE","ABOISSO",15402,"ADJOUAN","Forte",944,2166,3110,1,944,2166,3110,3,{"$f":"_xlfn.XLOOKUP($G1978,[1]demo_data!$G$5:$G$2257,[1]demo_data!$I$5:$I$2257)","v":3692}]
[1968,"Côte d'Ivoire","CIV","SUD-COMOE","ABOISSO",15402,"AFFIENOU","Forte",2267,5202,7469,1,2267,5202,7469,3,{"$f":"_xlfn.XLOOKUP($G1979,[1]demo_data!$G$5:$G$2257,[1]demo_data!$I$5:$I$2257)","v":8866}]
[1969,"Côte d'Ivoire","CIV","SUD-COMOE","ABOISSO",15402,"AHIGBE-KOFFIKRO","Forte",3002,6885,9887,1,3002,6885,9887,3,{"$f":"_xlfn.XLOOKUP($G1980,[1]demo_data!$G$5:$G$2257,[1]demo_data!$I$5:$I$2257)","v":11737}]
[1970,"Côte d'Ivoire","CIV","SUD-COMOE","ABOISSO",15402,"AKRESSI","Forte",789,1811,2600,1,789,1811,2600,3,{"$f":"_xlfn.XLOOKUP($G1981,[1]demo_data!$G$5:$G$2257,[1]demo_data!$I$5:$I$2257)","v":3086}]
[1971,"Côte d'Ivoire","CIV","SUD-COMOE","ABOISSO",15402,"APPOUASSO","Forte",3084,7076,10160,1,3084,7076,10160,3,{"$f":"_xlfn.XLOOKUP($G1982,[1]demo_data!$G$5:$G$2257,[1]demo_data!$I$5:$I$2257)","v":12062}]
[1972,"Côte d'Ivoire","CIV","SUD-COMOE","ABOISSO",15402,"ASSOUBA","Forte",1655,3797,5452,1,1655,3797,5452,3,{"$f":"_xlfn.XLOOKUP($G1983,[1]demo_data!$G$5:$G$2257,[1]demo_data!$I$5:$I$2257)","v":6472}]
[1973,"Côte d'Ivoire","CIV","SUD-COMOE","ABOISSO",15402,"AYAME","Forte",4409,10114,14523,1,4409,10114,14523,3,{"$f":"_xlfn.XLOOKUP($G1984,[1]demo_data!$G$5:$G$2257,[1]demo_data!$I$5:$I$2257)","v":17240}]
[1974,"Côte d'Ivoire","CIV","SUD-COMOE","ABOISSO",15402,"AYEBO","Forte",617,1414,2031,1,617,1414,2031,3,{"$f":"_xlfn.XLOOKUP($G1985,[1]demo_data!$G$5:$G$2257,[1]demo_data!$I$5:$I$2257)","v":2409}]
[1975,"Côte d'Ivoire","CIV","SUD-COMOE","ABOISSO",15402,"AYENOUAN","Faible",1567,0,1567,1,1567,0,1567,1,{"$f":"_xlfn.XLOOKUP($G1986,[1]demo_data!$G$5:$G$2257,[1]demo_data!$I$5:$I$2257)","v":6125}]
[1976,"Côte d'Ivoire","CIV","SUD-COMOE","ABOISSO",15402,"BABADOUGOU","Faible",2926,0,2926,1,2926,0,2926,1,{"$f":"_xlfn.XLOOKUP($G1987,[1]demo_data!$G$5:$G$2257,[1]demo_data!$I$5:$I$2257)","v":11441}]
[1977,"Côte d'Ivoire","CIV","SUD-COMOE","ABOISSO",15402,"BAFFIA","Forte",1647,3777,5424,1,1647,3777,5424,3,{"$f":"_xlfn.XLOOKUP($G1988,[1]demo_data!$G$5:$G$2257,[1]demo_data!$I$5:$I$2257)","v":6437}]
[1978,"Côte d'Ivoire","CIV","SUD-COMOE","ABOISSO",15402,"BAKRO","Forte",2619,6008,8627,1,2619,6008,8627,3,{"$f":"_xlfn.XLOOKUP($G1989,[1]demo_data!$G$5:$G$2257,[1]demo_data!$I$5:$I$2257)","v":10241}]
[1979,"Côte d'Ivoire","CIV","SUD-COMOE","ABOISSO",15402,"BIANOUAN","Forte",4850,11126,15976,1,4850,11126,15976,3,{"$f":"_xlfn.XLOOKUP($G1990,[1]demo_data!$G$5:$G$2257,[1]demo_data!$I$5:$I$2257)","v":18965}]
[1980,"Côte d'Ivoire","CIV","SUD-COMOE","ABOISSO",15402,"BILEKRO-KALASO","Forte",1270,2913,4183,1,1270,2913,4183,3,{"$f":"_xlfn.XLOOKUP($G1991,[1]demo_data!$G$5:$G$2257,[1]demo_data!$I$5:$I$2257)","v":4965}]
[1981,"Côte d'Ivoire","CIV","SUD-COMOE","ABOISSO",15402,"CHR ABOISSO","Modérée",2235,1025,3260,1,2235,1025,3260,2,{"$f":"_xlfn.XLOOKUP($G1992,[1]demo_data!$G$5:$G$2257,[1]demo_data!$I$5:$I$2257)","v":{"$error":"#N/A"}}]
[1982,"Côte d'Ivoire","CIV","SUD-COMOE","ABOISSO",15402,"DIBY","Forte",2223,5100,7323,1,2223,5100,7323,3,{"$f":"_xlfn.XLOOKUP($G1993,[1]demo_data!$G$5:$G$2257,[1]demo_data!$I$5:$I$2257)","v":8693}]
[1983,"Côte d'Ivoire","CIV","SUD-COMOE","ABOISSO",15402,"DISPENSAIRE URBAIN","Forte",2737,6279,9016,1,2737,6279,9016,3,{"$f":"_xlfn.XLOOKUP($G1994,[1]demo_data!$G$5:$G$2257,[1]demo_data!$I$5:$I$2257)","v":34363}]
[1984,"Côte d'Ivoire","CIV","SUD-COMOE","ABOISSO",15402,"DJEMISSIKRO","Non endémique",0,0,0,0,0,0,0,0,{"$f":"_xlfn.XLOOKUP($G1995,[1]demo_data!$G$5:$G$2257,[1]demo_data!$I$5:$I$2257)","v":3898}]
[1985,"Côte d'Ivoire","CIV","SUD-COMOE","ABOISSO",15402,"EBIKRO-N'DAKRO","Forte",2280,5231,7511,1,2280,5231,7511,3,{"$f":"_xlfn.XLOOKUP($G1996,[1]demo_data!$G$5:$G$2257,[1]demo_data!$I$5:$I$2257)","v":8916}]
[1986,"Côte d'Ivoire","CIV","SUD-COMOE","ABOISSO",15402,"EBOUE","Non endémique",0,0,0,0,0,0,0,0,{"$f":"_xlfn.XLOOKUP($G1997,[1]demo_data!$G$5:$G$2257,[1]demo_data!$I$5:$I$2257)","v":7206}]
[1987,"Côte d'Ivoire","CIV","SUD-COMOE","ABOISSO",15402,"EHANIA","Forte",3370,7731,11101,1,3370,7731,11101,3,{"$f":"_xlfn.XLOOKUP($G1998,[1]demo_data!$G$5:$G$2257,[1]demo_data!$I$5:$I$2257)","v":13178}]
[1988,"Côte d'Ivoire","CIV","SUD-COMOE","ABOISSO",15402,"KAKOUKRO LIMITE","Forte",819,1878,2697,1,819,1878,2697,3,{"$f":"_xlfn.XLOOKUP($G1999,[1]demo_data!$G$5:$G$2257,[1]demo_data!$I$5:$I$2257)","v":3199}]
[1989,"Côte d'Ivoire","CIV","SUD-COMOE","ABOISSO",15402,"KETESSO","Forte",3006,6896,9902,1,3006,6896,9902,3,{"$f":"_xlfn.XLOOKUP($G2000,[1]demo_data!$G$5:$G$2257,[1]demo_data!$I$5:$I$2257)","v":11753}]
[1990,"Côte d'Ivoire","CIV","SUD-COMOE","ABOISSO",15402,"KOFFIKRO-AFFEMA","Forte",1508,3459,4967,1,1508,3459,4967,3,{"$f":"_xlfn.XLOOKUP($G2001,[1]demo_data!$G$5:$G$2257,[1]demo_data!$I$5:$I$2257)","v":5895}]
[1991,"Côte d'Ivoire","CIV","SUD-COMOE","ABOISSO",15402,"KOHOUROU","Forte",1744,4001,5745,1,1744,4001,5745,3,{"$f":"_xlfn.XLOOKUP($G2002,[1]demo_data!$G$5:$G$2257,[1]demo_data!$I$5:$I$2257)","v":6820}]
[1992,"Côte d'Ivoire","CIV","SUD-COMOE","ABOISSO",15402,"KOTOKA","Forte",1162,2666,3828,1,1162,2666,3828,3,{"$f":"_xlfn.XLOOKUP($G2003,[1]demo_data!$G$5:$G$2257,[1]demo_data!$I$5:$I$2257)","v":4544}]
[1993,"Côte d'Ivoire","CIV","SUD-COMOE","ABOISSO",15402,"KOUAKRO","Forte",1228,2816,4044,1,1228,2816,4044,3,{"$f":"_xlfn.XLOOKUP($G2004,[1]demo_data!$G$5:$G$2257,[1]demo_data!$I$5:$I$2257)","v":4801}]
[1994,"Côte d'Ivoire","CIV","SUD-COMOE","ABOISSO",15402,"KOUKOURANDOUMI","Forte",1106,2538,3644,1,1106,2538,3644,3,{"$f":"_xlfn.XLOOKUP($G2005,[1]demo_data!$G$5:$G$2257,[1]demo_data!$I$5:$I$2257)","v":4326}]
[1995,"Côte d'Ivoire","CIV","SUD-COMOE","ABOISSO",15402,"KRINDJABO","Forte",2932,6726,9658,1,2932,6726,9658,3,{"$f":"_xlfn.XLOOKUP($G2006,[1]demo_data!$G$5:$G$2257,[1]demo_data!$I$5:$I$2257)","v":11465}]
[1996,"Côte d'Ivoire","CIV","SUD-COMOE","ABOISSO",15402,"MAFERE","Forte",3439,7889,11328,1,3439,7889,11328,3,{"$f":"_xlfn.XLOOKUP($G2007,[1]demo_data!$G$5:$G$2257,[1]demo_data!$I$5:$I$2257)","v":13447}]
[1997,"Côte d'Ivoire","CIV","SUD-COMOE","ABOISSO",15402,"MIGRONS","Forte",2831,6494,9325,1,2831,6494,9325,3,{"$f":"_xlfn.XLOOKUP($G2008,[1]demo_data!$G$5:$G$2257,[1]demo_data!$I$5:$I$2257)","v":11068}]
[1998,"Côte d'Ivoire","CIV","SUD-COMOE","ABOISSO",15402,"MOUYASSUE","Non endémique",0,0,0,0,0,0,0,0,{"$f":"_xlfn.XLOOKUP($G2009,[1]demo_data!$G$5:$G$2257,[1]demo_data!$I$5:$I$2257)","v":6638}]
[1999,"Côte d'Ivoire","CIV","SUD-COMOE","ABOISSO",15402,"M'POSSA","Forte",1476,3387,4863,1,1476,3387,4863,3,{"$f":"_xlfn.XLOOKUP($G2010,[1]demo_data!$G$5:$G$2257,[1]demo_data!$I$5:$I$2257)","v":5774}]
[2000,"Côte d'Ivoire","CIV","SUD-COMOE","ABOISSO",15402,"NIAMIENLESSA","Forte",1465,3362,4827,1,1465,3362,4827,3,{"$f":"_xlfn.XLOOKUP($G2011,[1]demo_data!$G$5:$G$2257,[1]demo_data!$I$5:$I$2257)","v":5730}]
[2001,"Côte d'Ivoire","CIV","SUD-COMOE","ABOISSO",15402,"N'ZIKRO","Non endémique",0,0,0,0,0,0,0,0,{"$f":"_xlfn.XLOOKUP($G2012,[1]demo_data!$G$5:$G$2257,[1]demo_data!$I$5:$I$2257)","v":9811}]
[2002,"Côte d'Ivoire","CIV","SUD-COMOE","ABOISSO",15402,"PMI","Forte",2361,5414,7775,1,2361,5414,7775,3,{"$f":"_xlfn.XLOOKUP($G2013,[1]demo_data!$G$5:$G$2257,[1]demo_data!$I$5:$I$2257)","v":34689}]
[2003,"Côte d'Ivoire","CIV","SUD-COMOE","ABOISSO",15402,"SANHOUNKRO","Forte",1066,2447,3513,1,1066,2447,3513,3,{"$f":"_xlfn.XLOOKUP($G2014,[1]demo_data!$G$5:$G$2257,[1]demo_data!$I$5:$I$2257)","v":4170}]
[2004,"Côte d'Ivoire","CIV","SUD-COMOE","ABOISSO",15402,"SONGAN","Forte",3844,8818,12662,1,3844,8818,12662,3,{"$f":"_xlfn.XLOOKUP($G2015,[1]demo_data!$G$5:$G$2257,[1]demo_data!$I$5:$I$2257)","v":15030}]
[2005,"Côte d'Ivoire","CIV","SUD-COMOE","ABOISSO",15402,"TOLIESSO","Forte",960,2203,3163,1,960,2203,3163,3,{"$f":"_xlfn.XLOOKUP($G2016,[1]demo_data!$G$5:$G$2257,[1]demo_data!$I$5:$I$2257)","v":3754}]
[2006,"Côte d'Ivoire","CIV","SUD-COMOE","ABOISSO",15402,"TOUMANGUIE PALMCI","Forte",1676,3845,5521,1,1676,3845,5521,3,{"$f":"_xlfn.XLOOKUP($G2017,[1]demo_data!$G$5:$G$2257,[1]demo_data!$I$5:$I$2257)","v":6556}]
[2007,"Côte d'Ivoire","CIV","SUD-COMOE","ABOISSO",15402,"TOUMANGUIE VILLAGE","Non endémique",0,0,0,0,0,0,0,0,{"$f":"_xlfn.XLOOKUP($G2018,[1]demo_data!$G$5:$G$2257,[1]demo_data!$I$5:$I$2257)","v":2471}]
[2008,"Côte d'Ivoire","CIV","SUD-COMOE","ABOISSO",15402,"YAOU","Forte",3859,8851,12710,1,3859,8851,12710,3,{"$f":"_xlfn.XLOOKUP($G2019,[1]demo_data!$G$5:$G$2257,[1]demo_data!$I$5:$I$2257)","v":15087}]
[2009,"Côte d'Ivoire","CIV","SUD-COMOE","ADIAKE",15456,"ABIATY","Faible",594,0,594,0,0,0,0,1,{"$f":"_xlfn.XLOOKUP($G2020,[1]demo_data!$G$5:$G$2257,[1]demo_data!$I$5:$I$2257)","v":2367}]
[2010,"Côte d'Ivoire","CIV","SUD-COMOE","ADIAKE",15456,"ADIAKE","Faible",6780,0,6780,0,0,0,0,1,{"$f":"_xlfn.XLOOKUP($G2021,[1]demo_data!$G$5:$G$2257,[1]demo_data!$I$5:$I$2257)","v":27012}]
[2011,"Côte d'Ivoire","CIV","SUD-COMOE","ADIAKE",15456,"AKOUNOUGBE","Non endémique",0,0,0,0,0,0,0,0,{"$f":"_xlfn.XLOOKUP($G2022,[1]demo_data!$G$5:$G$2257,[1]demo_data!$I$5:$I$2257)","v":4799}]
[2012,"Côte d'Ivoire","CIV","SUD-COMOE","ADIAKE",15456,"ASSINIE -MAFIA","Faible",1709,0,1709,0,0,0,0,1,{"$f":"_xlfn.XLOOKUP($G2023,[1]demo_data!$G$5:$G$2257,[1]demo_data!$I$5:$I$2257)","v":6809}]
[2013,"Côte d'Ivoire","CIV","SUD-COMOE","ADIAKE",15456,"ASSINI-France","Faible",2018,0,2018,0,0,0,0,1,{"$f":"_xlfn.XLOOKUP($G2024,[1]demo_data!$G$5:$G$2257,[1]demo_data!$I$5:$I$2257)","v":8041}]
[2014,"Côte d'Ivoire","CIV","SUD-COMOE","ADIAKE",15456,"ASSOMLAN","Non endémique",0,0,0,0,0,0,0,0,{"$f":"_xlfn.XLOOKUP($G2025,[1]demo_data!$G$5:$G$2257,[1]demo_data!$I$5:$I$2257)","v":3210}]
[2015,"Côte d'Ivoire","CIV","SUD-COMOE","ADIAKE",15456,"ASSOUINDE","Faible",2002,0,2002,0,0,0,0,1,{"$f":"_xlfn.XLOOKUP($G2026,[1]demo_data!$G$5:$G$2257,[1]demo_data!$I$5:$I$2257)","v":7977}]
[2016,"Côte d'Ivoire","CIV","SUD-COMOE","ADIAKE",15456,"BONDOUKOU","Faible",464,0,464,0,0,0,0,1,{"$f":"_xlfn.XLOOKUP($G2027,[1]demo_data!$G$5:$G$2257,[1]demo_data!$I$5:$I$2257)","v":1848}]
[2017,"Côte d'Ivoire","CIV","SUD-COMOE","ADIAKE",15456,"DJIMINIKOFFIKRO","Non endémique",0,0,0,0,0,0,0,0,{"$f":"_xlfn.XLOOKUP($G2028,[1]demo_data!$G$5:$G$2257,[1]demo_data!$I$5:$I$2257)","v":4831}]
[2022,"Côte d'Ivoire","CIV","SUD-COMOE","ADIAKE",15456,"EPLEMLAN","Non endémique",0,0,0,0,0,0,0,0,{"$f":"_xlfn.XLOOKUP($G2029,[1]demo_data!$G$5:$G$2257,[1]demo_data!$I$5:$I$2257)","v":1750}]
[2023,"Côte d'Ivoire","CIV","SUD-COMOE","ADIAKE",15456,"ETUEBOUE","Non endémique",0,0,0,0,0,0,0,0,{"$f":"_xlfn.XLOOKUP($G2030,[1]demo_data!$G$5:$G$2257,[1]demo_data!$I$5:$I$2257)","v":4831}]
[2024,"Côte d'Ivoire","CIV","SUD-COMOE","ADIAKE",15456,"ETUESSIKA","Faible",220,0,220,0,0,0,0,1,{"$f":"_xlfn.XLOOKUP($G2031,[1]demo_data!$G$5:$G$2257,[1]demo_data!$I$5:$I$2257)","v":875}]
[2026,"Côte d'Ivoire","CIV","SUD-COMOE","ADIAKE",15456,"KAKOUKRO","Non endémique",0,0,0,0,0,0,0,0,{"$f":"_xlfn.XLOOKUP($G2032,[1]demo_data!$G$5:$G$2257,[1]demo_data!$I$5:$I$2257)","v":10538}]
[2027,"Côte d'Ivoire","CIV","SUD-COMOE","ADIAKE",15456,"MABIANEHA","Faible",594,0,594,0,0,0,0,1,{"$f":"_xlfn.XLOOKUP($G2033,[1]demo_data!$G$5:$G$2257,[1]demo_data!$I$5:$I$2257)","v":2367}]
[2029,"Côte d'Ivoire","CIV","SUD-COMOE","ADIAKE",15456,"MELEKOUKRO","Faible",619,0,619,0,0,0,0,1,{"$f":"_xlfn.XLOOKUP($G2034,[1]demo_data!$G$5:$G$2257,[1]demo_data!$I$5:$I$2257)","v":2464}]
[2030,"Côte d'Ivoire","CIV","SUD-COMOE","ADIAKE",15456,"MOHOUA","Faible",2352,0,2352,0,0,0,0,1,{"$f":"_xlfn.XLOOKUP($G2035,[1]demo_data!$G$5:$G$2257,[1]demo_data!$I$5:$I$2257)","v":9370}]
[2036,"Côte d'Ivoire","CIV","SUD-COMOE","GRAND-BASSAM",15404,"CMS SAPH","Faible",1010,0,1010,0,0,0,0,1,{"$f":"_xlfn.XLOOKUP($G2036,[1]demo_data!$G$5:$G$2257,[1]demo_data!$I$5:$I$2257)","v":3946}]
[2037,"Côte d'Ivoire","CIV","SUD-COMOE","GRAND-BASSAM",15404,"CSR Akroaba","Faible",2294,0,2294,0,0,0,0,1,{"$f":"_xlfn.XLOOKUP($G2037,[1]demo_data!$G$5:$G$2257,[1]demo_data!$I$5:$I$2257)","v":8969}]
[2038,"Côte d'Ivoire","CIV","SUD-COMOE","GRAND-BASSAM",15404,"CSR Ebrah","Faible",357,0,357,0,0,0,0,1,{"$f":"_xlfn.XLOOKUP($G2038,[1]demo_data!$G$5:$G$2257,[1]demo_data!$I$5:$I$2257)","v":1395}]
[2039,"Côte d'Ivoire","CIV","SUD-COMOE","GRAND-BASSAM",15404,"CSR Larabia","Faible",2202,0,2202,0,0,0,0,1,{"$f":"_xlfn.XLOOKUP($G2039,[1]demo_data!$G$5:$G$2257,[1]demo_data!$I$5:$I$2257)","v":8610}]
[2040,"Côte d'Ivoire","CIV","SUD-COMOE","GRAND-BASSAM",15404,"CSR Mohamé","Faible",1748,0,1748,0,0,0,0,1,{"$f":"_xlfn.XLOOKUP($G2040,[1]demo_data!$G$5:$G$2257,[1]demo_data!$I$5:$I$2257)","v":6836}]
[2041,"Côte d'Ivoire","CIV","SUD-COMOE","GRAND-BASSAM",15404,"CSR Samo","Non endémique",0,0,0,0,0,0,0,0,{"$f":"_xlfn.XLOOKUP($G2041,[1]demo_data!$G$5:$G$2257,[1]demo_data!$I$5:$I$2257)","v":12825}]
[2042,"Côte d'Ivoire","CIV","SUD-COMOE","GRAND-BASSAM",15404,"CSR Vitré 1","Non endémique",0,0,0,0,0,0,0,0,{"$f":"_xlfn.XLOOKUP($G2042,[1]demo_data!$G$5:$G$2257,[1]demo_data!$I$5:$I$2257)","v":1931}]
[2043,"Côte d'Ivoire","CIV","SUD-COMOE","GRAND-BASSAM",15404,"CSR Yaou","Non endémique",0,0,0,0,0,0,0,0,{"$f":"_xlfn.XLOOKUP($G2043,[1]demo_data!$G$5:$G$2257,[1]demo_data!$I$5:$I$2257)","v":15684}]
[2044,"Côte d'Ivoire","CIV","SUD-COMOE","GRAND-BASSAM",15404,"CSU Bongo","Faible",1627,0,1627,0,0,0,0,1,{"$f":"_xlfn.XLOOKUP($G2044,[1]demo_data!$G$5:$G$2257,[1]demo_data!$I$5:$I$2257)","v":6363}]
[2045,"Côte d'Ivoire","CIV","SUD-COMOE","GRAND-BASSAM",15404,"Dispensaire Rural Adiaho","Non endémique",0,0,0,0,0,0,0,0,{"$f":"_xlfn.XLOOKUP($G2045,[1]demo_data!$G$5:$G$2257,[1]demo_data!$I$5:$I$2257)","v":3487}]
[2046,"Côte d'Ivoire","CIV","SUD-COMOE","GRAND-BASSAM",15404,"Dispensaire Urbain ","Faible",1170,0,1170,0,0,0,0,1,{"$f":"_xlfn.XLOOKUP($G2046,[1]demo_data!$G$5:$G$2257,[1]demo_data!$I$5:$I$2257)","v":4574}]
[2047,"Côte d'Ivoire","CIV","SUD-COMOE","GRAND-BASSAM",15404,"Dispensaire Wéhou","Faible",1315,0,1315,0,0,0,0,1,{"$f":"_xlfn.XLOOKUP($G2047,[1]demo_data!$G$5:$G$2257,[1]demo_data!$I$5:$I$2257)","v":5141}]
[2048,"Côte d'Ivoire","CIV","SUD-COMOE","GRAND-BASSAM",15404,"DR Moossou","Faible",2452,0,2452,0,0,0,0,1,{"$f":"_xlfn.XLOOKUP($G2048,[1]demo_data!$G$5:$G$2257,[1]demo_data!$I$5:$I$2257)","v":9586}]
[2049,"Côte d'Ivoire","CIV","SUD-COMOE","GRAND-BASSAM",15404,"HG Bonoua","Faible",11356,0,11356,0,0,0,0,1,{"$f":"_xlfn.XLOOKUP($G2049,[1]demo_data!$G$5:$G$2257,[1]demo_data!$I$5:$I$2257)","v":44403}]
[2050,"Côte d'Ivoire","CIV","SUD-COMOE","GRAND-BASSAM",15404,"Hôpital de Grand Bassam","Faible",6961,0,6961,0,0,0,0,1,{"$f":"_xlfn.XLOOKUP($G2050,[1]demo_data!$G$5:$G$2257,[1]demo_data!$I$5:$I$2257)","v":27221}]
[2051,"Côte d'Ivoire","CIV","SUD-COMOE","GRAND-BASSAM",15404,"Ono Salci","Modérée",2542,1167,3709,0,0,0,0,2,{"$f":"_xlfn.XLOOKUP($G2051,[1]demo_data!$G$5:$G$2257,[1]demo_data!$I$5:$I$2257)","v":9939}]
[2052,"Côte d'Ivoire","CIV","SUD-COMOE","GRAND-BASSAM",15404,"PMI Bassam","Faible",9119,0,9119,0,0,0,0,1,{"$f":"_xlfn.XLOOKUP($G2052,[1]demo_data!$G$5:$G$2257,[1]demo_data!$I$5:$I$2257)","v":35658}]
[2053,"Côte d'Ivoire","CIV","SUD-COMOE","GRAND-BASSAM",15404,"Vitré 2","Non endémique",0,0,0,0,0,0,0,0,{"$f":"_xlfn.XLOOKUP($G2053,[1]demo_data!$G$5:$G$2257,[1]demo_data!$I$5:$I$2257)","v":1844}]
[2018,"Côte d'Ivoire","CIV","SUD-COMOE","TIAPOUM",15457,"EBOINDA","Faible",1187,0,1187,0,0,0,0,1,{"$f":"_xlfn.XLOOKUP($G2054,[1]demo_data!$G$5:$G$2257,[1]demo_data!$I$5:$I$2257)","v":4540}]
[2019,"Côte d'Ivoire","CIV","SUD-COMOE","TIAPOUM",15457,"EBOKO","Non endémique",0,0,0,0,0,0,0,0,{"$f":"_xlfn.XLOOKUP($G2055,[1]demo_data!$G$5:$G$2257,[1]demo_data!$I$5:$I$2257)","v":3664}]
[2020,"Côte d'Ivoire","CIV","SUD-COMOE","TIAPOUM",15457,"EDJAMBO","Faible",1653,0,1653,0,0,0,0,1,{"$f":"_xlfn.XLOOKUP($G2056,[1]demo_data!$G$5:$G$2257,[1]demo_data!$I$5:$I$2257)","v":6322}]
[2021,"Côte d'Ivoire","CIV","SUD-COMOE","TIAPOUM",15457,"ELEHOBABO","Faible",1213,0,1213,0,0,0,0,1,{"$f":"_xlfn.XLOOKUP($G2057,[1]demo_data!$G$5:$G$2257,[1]demo_data!$I$5:$I$2257)","v":4638}]
[2025,"Côte d'Ivoire","CIV","SUD-COMOE","TIAPOUM",15457,"FRAMBO","Faible",1331,0,1331,0,0,0,0,1,{"$f":"_xlfn.XLOOKUP($G2058,[1]demo_data!$G$5:$G$2257,[1]demo_data!$I$5:$I$2257)","v":5090}]
[2028,"Côte d'Ivoire","CIV","SUD-COMOE","TIAPOUM",15457,"MALAMALAKRO","Non endémique",0,0,0,0,0,0,0,0,{"$f":"_xlfn.XLOOKUP($G2059,[1]demo_data!$G$5:$G$2257,[1]demo_data!$I$5:$I$2257)","v":9890}]
[2031,"Côte d'Ivoire","CIV","SUD-COMOE","TIAPOUM",15457,"N'GUIEME","Non endémique",0,0,0,0,0,0,0,0,{"$f":"_xlfn.XLOOKUP($G2060,[1]demo_data!$G$5:$G$2257,[1]demo_data!$I$5:$I$2257)","v":7554}]
[2032,"Côte d'Ivoire","CIV","SUD-COMOE","TIAPOUM",15457,"NOE","Faible",3273,0,3273,0,0,0,0,1,{"$f":"_xlfn.XLOOKUP($G2061,[1]demo_data!$G$5:$G$2257,[1]demo_data!$I$5:$I$2257)","v":12515}]
[2033,"Côte d'Ivoire","CIV","SUD-COMOE","TIAPOUM",15457,"NOUAMOU","Faible",2171,0,2171,0,0,0,0,1,{"$f":"_xlfn.XLOOKUP($G2062,[1]demo_data!$G$5:$G$2257,[1]demo_data!$I$5:$I$2257)","v":8300}]
[2034,"Côte d'Ivoire","CIV","SUD-COMOE","TIAPOUM",15457,"SAYKRO","Faible",1832,0,1832,0,0,0,0,1,{"$f":"_xlfn.XLOOKUP($G2063,[1]demo_data!$G$5:$G$2257,[1]demo_data!$I$5:$I$2257)","v":7005}]
[2035,"Côte d'Ivoire","CIV","SUD-COMOE","TIAPOUM",15457,"TIAPOUM","Faible",3299,0,3299,0,0,0,0,1,{"$f":"_xlfn.XLOOKUP($G2064,[1]demo_data!$G$5:$G$2257,[1]demo_data!$I$5:$I$2257)","v":12613}]
[1814,"Côte d'Ivoire","CIV","TCHOLOGO","FERKESSEDOUGOU",15451,"BAPTISTE","Faible",3398,0,3398,0,0,0,0,1,{"$f":"_xlfn.XLOOKUP($G2065,[1]demo_data!$G$5:$G$2257,[1]demo_data!$I$5:$I$2257)","v":10761}]
[1817,"Côte d'Ivoire","CIV","TCHOLOGO","FERKESSEDOUGOU",15451,"FERKE COMMUNE","Faible",14835,0,14835,0,0,0,0,1,{"$f":"_xlfn.XLOOKUP($G2066,[1]demo_data!$G$5:$G$2257,[1]demo_data!$I$5:$I$2257)","v":46973}]
[1819,"Côte d'Ivoire","CIV","TCHOLOGO","FERKESSEDOUGOU",15451,"KALAKALA","Faible",2539,0,2539,0,0,0,0,1,{"$f":"_xlfn.XLOOKUP($G2067,[1]demo_data!$G$5:$G$2257,[1]demo_data!$I$5:$I$2257)","v":8041}]
[1822,"Côte d'Ivoire","CIV","TCHOLOGO","FERKESSEDOUGOU",15451,"KOUMBALA","Faible",3491,0,3491,0,0,0,0,1,{"$f":"_xlfn.XLOOKUP($G2068,[1]demo_data!$G$5:$G$2257,[1]demo_data!$I$5:$I$2257)","v":11057}]
[1823,"Côte d'Ivoire","CIV","TCHOLOGO","FERKESSEDOUGOU",15451,"LAFOKPOKAHA","Faible",4215,0,4215,0,0,0,0,1,{"$f":"_xlfn.XLOOKUP($G2069,[1]demo_data!$G$5:$G$2257,[1]demo_data!$I$5:$I$2257)","v":13345}]
[1824,"Côte d'Ivoire","CIV","TCHOLOGO","FERKESSEDOUGOU",15451,"LAMEKAHA2","Faible",2058,0,2058,0,0,0,0,1,{"$f":"_xlfn.XLOOKUP($G2070,[1]demo_data!$G$5:$G$2257,[1]demo_data!$I$5:$I$2257)","v":6519}]
[1828,"Côte d'Ivoire","CIV","TCHOLOGO","FERKESSEDOUGOU",15451,"NAMBONKAHA","Non endémique",0,0,0,0,0,0,0,0,{"$f":"_xlfn.XLOOKUP($G2071,[1]demo_data!$G$5:$G$2257,[1]demo_data!$I$5:$I$2257)","v":18657}]
[1830,"Côte d'Ivoire","CIV","TCHOLOGO","FERKESSEDOUGOU",15451,"SEFOGNEKAHA","Faible",2374,0,2374,0,0,0,0,1,{"$f":"_xlfn.XLOOKUP($G2072,[1]demo_data!$G$5:$G$2257,[1]demo_data!$I$5:$I$2257)","v":7519}]
[1833,"Côte d'Ivoire","CIV","TCHOLOGO","FERKESSEDOUGOU",15451,"SUCAF 1","Faible",2553,0,2553,0,0,0,0,1,{"$f":"_xlfn.XLOOKUP($G2073,[1]demo_data!$G$5:$G$2257,[1]demo_data!$I$5:$I$2257)","v":8084}]
[1834,"Côte d'Ivoire","CIV","TCHOLOGO","FERKESSEDOUGOU",15451,"TIEKPE","Non endémique",0,0,0,0,0,0,0,0,{"$f":"_xlfn.XLOOKUP($G2074,[1]demo_data!$G$5:$G$2257,[1]demo_data!$I$5:$I$2257)","v":16151}]
[1835,"Côte d'Ivoire","CIV","TCHOLOGO","FERKESSEDOUGOU",15451,"TOGONIERE","Faible",2888,0,2888,0,0,0,0,1,{"$f":"_xlfn.XLOOKUP($G2075,[1]demo_data!$G$5:$G$2257,[1]demo_data!$I$5:$I$2257)","v":9147}]
[1836,"Côte d'Ivoire","CIV","TCHOLOGO","FERKESSEDOUGOU",15451,"YEDIANDEKAHA","Non endémique",0,0,0,0,0,0,0,0,{"$f":"_xlfn.XLOOKUP($G2076,[1]demo_data!$G$5:$G$2257,[1]demo_data!$I$5:$I$2257)","v":6547}]
[1815,"Côte d'Ivoire","CIV","TCHOLOGO","KONG",15452,"BILIMONO","Non endémique",0,0,0,0,0,0,0,0,{"$f":"_xlfn.XLOOKUP($G2077,[1]demo_data!$G$5:$G$2257,[1]demo_data!$I$5:$I$2257)","v":10790}]
[1816,"Côte d'Ivoire","CIV","TCHOLOGO","KONG",15452,"BOUGOU","Faible",2975,0,2975,0,0,0,0,1,{"$f":"_xlfn.XLOOKUP($G2078,[1]demo_data!$G$5:$G$2257,[1]demo_data!$I$5:$I$2257)","v":10021}]
[1818,"Côte d'Ivoire","CIV","TCHOLOGO","KONG",15452,"KAFOLO BAC","Faible",2933,0,2933,0,0,0,0,1,{"$f":"_xlfn.XLOOKUP($G2079,[1]demo_data!$G$5:$G$2257,[1]demo_data!$I$5:$I$2257)","v":9880}]
[1820,"Côte d'Ivoire","CIV","TCHOLOGO","KONG",15452,"KOLON","Faible",2047,0,2047,0,0,0,0,1,{"$f":"_xlfn.XLOOKUP($G2080,[1]demo_data!$G$5:$G$2257,[1]demo_data!$I$5:$I$2257)","v":6894}]
[1821,"Côte d'Ivoire","CIV","TCHOLOGO","KONG",15452,"KONG","Faible",4718,0,4718,0,0,0,0,1,{"$f":"_xlfn.XLOOKUP($G2081,[1]demo_data!$G$5:$G$2257,[1]demo_data!$I$5:$I$2257)","v":15889}]
[1825,"Côte d'Ivoire","CIV","TCHOLOGO","KONG",15452,"LINGUEKORO","Faible",1982,0,1982,0,0,0,0,1,{"$f":"_xlfn.XLOOKUP($G2082,[1]demo_data!$G$5:$G$2257,[1]demo_data!$I$5:$I$2257)","v":6675}]
[1826,"Côte d'Ivoire","CIV","TCHOLOGO","KONG",15452,"MANOGOTA","Faible",1899,0,1899,0,0,0,0,1,{"$f":"_xlfn.XLOOKUP($G2083,[1]demo_data!$G$5:$G$2257,[1]demo_data!$I$5:$I$2257)","v":6397}]
[1827,"Côte d'Ivoire","CIV","TCHOLOGO","KONG",15452,"NAFANA","Non endémique",0,0,0,0,0,0,0,0,{"$f":"_xlfn.XLOOKUP($G2084,[1]demo_data!$G$5:$G$2257,[1]demo_data!$I$5:$I$2257)","v":13888}]
[1829,"Côte d'Ivoire","CIV","TCHOLOGO","KONG",15452,"NASSIAN","Faible",2766,0,2766,0,0,0,0,1,{"$f":"_xlfn.XLOOKUP($G2085,[1]demo_data!$G$5:$G$2257,[1]demo_data!$I$5:$I$2257)","v":9206}]
[1831,"Côte d'Ivoire","CIV","TCHOLOGO","KONG",15452,"SERIKOROLA","Faible",1546,0,1546,0,0,0,0,1,{"$f":"_xlfn.XLOOKUP($G2086,[1]demo_data!$G$5:$G$2257,[1]demo_data!$I$5:$I$2257)","v":5208}]
[1832,"Côte d'Ivoire","CIV","TCHOLOGO","KONG",15452,"SIKOLO","Faible",3362,0,3362,0,0,0,0,1,{"$f":"_xlfn.XLOOKUP($G2087,[1]demo_data!$G$5:$G$2257,[1]demo_data!$I$5:$I$2257)","v":11324}]
[1937,"Côte d'Ivoire","CIV","TCHOLOGO","OUANGOLODOUGOU",15400,"DIAWALA","Faible",11901,0,11901,0,0,0,0,1,{"$f":"_xlfn.XLOOKUP($G2088,[1]demo_data!$G$5:$G$2257,[1]demo_data!$I$5:$I$2257)","v":38594}]
[1938,"Côte d'Ivoire","CIV","TCHOLOGO","OUANGOLODOUGOU",15400,"HG OUANGOLO","Faible",10231,0,10231,0,0,0,0,1,{"$f":"_xlfn.XLOOKUP($G2089,[1]demo_data!$G$5:$G$2257,[1]demo_data!$I$5:$I$2257)","v":33182}]
[1939,"Côte d'Ivoire","CIV","TCHOLOGO","OUANGOLODOUGOU",15400,"KAOUARA","Modérée",9723,4461,14184,0,0,0,0,2,{"$f":"_xlfn.XLOOKUP($G2090,[1]demo_data!$G$5:$G$2257,[1]demo_data!$I$5:$I$2257)","v":31535}]
[1940,"Côte d'Ivoire","CIV","TCHOLOGO","OUANGOLODOUGOU",15400,"KATONON","Non endémique",0,0,0,0,0,0,0,0,{"$f":"_xlfn.XLOOKUP($G2091,[1]demo_data!$G$5:$G$2257,[1]demo_data!$I$5:$I$2257)","v":4039}]
[1941,"Côte d'Ivoire","CIV","TCHOLOGO","OUANGOLODOUGOU",15400,"KOFFIPLE","Faible",5059,0,5059,0,0,0,0,1,{"$f":"_xlfn.XLOOKUP($G2092,[1]demo_data!$G$5:$G$2257,[1]demo_data!$I$5:$I$2257)","v":16407}]
[1942,"Côte d'Ivoire","CIV","TCHOLOGO","OUANGOLODOUGOU",15400,"KOROKARA","Faible",5730,0,5730,0,0,0,0,1,{"$f":"_xlfn.XLOOKUP($G2093,[1]demo_data!$G$5:$G$2257,[1]demo_data!$I$5:$I$2257)","v":18585}]
[1943,"Côte d'Ivoire","CIV","TCHOLOGO","OUANGOLODOUGOU",15400,"KORONANI","Non endémique",0,0,0,0,0,0,0,0,{"$f":"_xlfn.XLOOKUP($G2094,[1]demo_data!$G$5:$G$2257,[1]demo_data!$I$5:$I$2257)","v":18052}]
[1944,"Côte d'Ivoire","CIV","TCHOLOGO","OUANGOLODOUGOU",15400,"NAFOUNGOLO","Faible",2471,0,2471,0,0,0,0,1,{"$f":"_xlfn.XLOOKUP($G2095,[1]demo_data!$G$5:$G$2257,[1]demo_data!$I$5:$I$2257)","v":8012}]
[1945,"Côte d'Ivoire","CIV","TCHOLOGO","OUANGOLODOUGOU",15400,"NALOGO","Faible",2179,0,2179,0,0,0,0,1,{"$f":"_xlfn.XLOOKUP($G2096,[1]demo_data!$G$5:$G$2257,[1]demo_data!$I$5:$I$2257)","v":7068}]
[1946,"Côte d'Ivoire","CIV","TCHOLOGO","OUANGOLODOUGOU",15400,"NAMBINGUE","Faible",6928,0,6928,0,0,0,0,1,{"$f":"_xlfn.XLOOKUP($G2097,[1]demo_data!$G$5:$G$2257,[1]demo_data!$I$5:$I$2257)","v":22468}]
[1947,"Côte d'Ivoire","CIV","TCHOLOGO","OUANGOLODOUGOU",15400,"NIELLE","Faible",8904,0,8904,0,0,0,0,1,{"$f":"_xlfn.XLOOKUP($G2098,[1]demo_data!$G$5:$G$2257,[1]demo_data!$I$5:$I$2257)","v":28877}]
[1948,"Côte d'Ivoire","CIV","TCHOLOGO","OUANGOLODOUGOU",15400,"OUAMELHORO","Non endémique",0,0,0,0,0,0,0,0,{"$f":"_xlfn.XLOOKUP($G2099,[1]demo_data!$G$5:$G$2257,[1]demo_data!$I$5:$I$2257)","v":15161}]
[1949,"Côte d'Ivoire","CIV","TCHOLOGO","OUANGOLODOUGOU",15400,"PMI OUANGOLO","Modérée",5548,2546,8094,0,0,0,0,2,{"$f":"_xlfn.XLOOKUP($G2100,[1]demo_data!$G$5:$G$2257,[1]demo_data!$I$5:$I$2257)","v":17990}]
[1950,"Côte d'Ivoire","CIV","TCHOLOGO","OUANGOLODOUGOU",15400,"TOUMOUKORO","Non endémique",0,0,0,0,0,0,0,0,{"$f":"_xlfn.XLOOKUP($G2101,[1]demo_data!$G$5:$G$2257,[1]demo_data!$I$5:$I$2257)","v":15599}]
[2054,"Côte d'Ivoire","CIV","TONKPI","BIANKOUMA",15405,"CSR DIO ","Modérée",912,419,1331,0,0,0,0,2,{"$f":"_xlfn.XLOOKUP($G2102,[1]demo_data!$G$5:$G$2257,[1]demo_data!$I$5:$I$2257)","v":3325}]
[2055,"Côte d'Ivoire","CIV","TONKPI","BIANKOUMA",15405,"CSR GBOMBELO","Modérée",1313,602,1915,0,0,0,0,2,{"$f":"_xlfn.XLOOKUP($G2103,[1]demo_data!$G$5:$G$2257,[1]demo_data!$I$5:$I$2257)","v":4787}]
[2056,"Côte d'Ivoire","CIV","TONKPI","BIANKOUMA",15405,"CSR GOUESSESSO","Modérée",1187,545,1732,0,0,0,0,2,{"$f":"_xlfn.XLOOKUP($G2104,[1]demo_data!$G$5:$G$2257,[1]demo_data!$I$5:$I$2257)","v":4326}]
[2057,"Côte d'Ivoire","CIV","TONKPI","BIANKOUMA",15405,"CSR KABACOUMA","Modérée",1157,530,1687,0,0,0,0,2,{"$f":"_xlfn.XLOOKUP($G2105,[1]demo_data!$G$5:$G$2257,[1]demo_data!$I$5:$I$2257)","v":4219}]
[2058,"Côte d'Ivoire","CIV","TONKPI","BIANKOUMA",15405,"CSR KANDOPLEU","Modérée",489,225,714,0,0,0,0,2,{"$f":"_xlfn.XLOOKUP($G2106,[1]demo_data!$G$5:$G$2257,[1]demo_data!$I$5:$I$2257)","v":1783}]
[2059,"Côte d'Ivoire","CIV","TONKPI","BIANKOUMA",15405,"CSR MANGOUIN-YRONGOUIN","Modérée",1484,680,2164,0,0,0,0,2,{"$f":"_xlfn.XLOOKUP($G2107,[1]demo_data!$G$5:$G$2257,[1]demo_data!$I$5:$I$2257)","v":5407}]
[2060,"Côte d'Ivoire","CIV","TONKPI","BIANKOUMA",15405,"CSR YALLOBA","Modérée",663,305,968,0,0,0,0,2,{"$f":"_xlfn.XLOOKUP($G2108,[1]demo_data!$G$5:$G$2257,[1]demo_data!$I$5:$I$2257)","v":2418}]
[2061,"Côte d'Ivoire","CIV","TONKPI","BIANKOUMA",15405,"CSU BLAPLEU","Modérée",2899,1331,4230,0,0,0,0,2,{"$f":"_xlfn.XLOOKUP($G2109,[1]demo_data!$G$5:$G$2257,[1]demo_data!$I$5:$I$2257)","v":10570}]
[2062,"Côte d'Ivoire","CIV","TONKPI","BIANKOUMA",15405,"CSU GBANGBEGOUINE","Modérée",1068,490,1558,0,0,0,0,2,{"$f":"_xlfn.XLOOKUP($G2110,[1]demo_data!$G$5:$G$2257,[1]demo_data!$I$5:$I$2257)","v":3893}]
[2063,"Côte d'Ivoire","CIV","TONKPI","BIANKOUMA",15405,"CSU GBONNE","Modérée",4532,2079,6611,0,0,0,0,2,{"$f":"_xlfn.XLOOKUP($G2111,[1]demo_data!$G$5:$G$2257,[1]demo_data!$I$5:$I$2257)","v":16521}]
[2064,"Côte d'Ivoire","CIV","TONKPI","BIANKOUMA",15405,"CSU KPATA","Modérée",681,313,994,0,0,0,0,2,{"$f":"_xlfn.XLOOKUP($G2112,[1]demo_data!$G$5:$G$2257,[1]demo_data!$I$5:$I$2257)","v":2482}]
[2065,"Côte d'Ivoire","CIV","TONKPI","BIANKOUMA",15405,"CSU SANTA","Modérée",3375,1548,4923,0,0,0,0,2,{"$f":"_xlfn.XLOOKUP($G2113,[1]demo_data!$G$5:$G$2257,[1]demo_data!$I$5:$I$2257)","v":12301}]
[2066,"Côte d'Ivoire","CIV","TONKPI","BIANKOUMA",15405,"CSU SIPILOU","Modérée",2967,1362,4329,0,0,0,0,2,{"$f":"_xlfn.XLOOKUP($G2114,[1]demo_data!$G$5:$G$2257,[1]demo_data!$I$5:$I$2257)","v":10815}]
[2067,"Côte d'Ivoire","CIV","TONKPI","BIANKOUMA",15405,"CSU YORODOUGOU","Modérée",4621,2120,6741,0,0,0,0,2,{"$f":"_xlfn.XLOOKUP($G2115,[1]demo_data!$G$5:$G$2257,[1]demo_data!$I$5:$I$2257)","v":16846}]
[2068,"Côte d'Ivoire","CIV","TONKPI","BIANKOUMA",15405,"DR BLAGOUIN","Modérée",549,251,800,0,0,0,0,2,{"$f":"_xlfn.XLOOKUP($G2116,[1]demo_data!$G$5:$G$2257,[1]demo_data!$I$5:$I$2257)","v":2001}]
[2069,"Côte d'Ivoire","CIV","TONKPI","BIANKOUMA",15405,"DR BLITA","Modérée",1543,708,2251,0,0,0,0,2,{"$f":"_xlfn.XLOOKUP($G2117,[1]demo_data!$G$5:$G$2257,[1]demo_data!$I$5:$I$2257)","v":5624}]
[2070,"Côte d'Ivoire","CIV","TONKPI","BIANKOUMA",15405,"DR GAN 1","Modérée",1929,884,2813,0,0,0,0,2,{"$f":"_xlfn.XLOOKUP($G2118,[1]demo_data!$G$5:$G$2257,[1]demo_data!$I$5:$I$2257)","v":7031}]
[2071,"Côte d'Ivoire","CIV","TONKPI","BIANKOUMA",15405,"DR GAOTE","Modérée",1068,490,1558,0,0,0,0,2,{"$f":"_xlfn.XLOOKUP($G2119,[1]demo_data!$G$5:$G$2257,[1]demo_data!$I$5:$I$2257)","v":3894}]
[2072,"Côte d'Ivoire","CIV","TONKPI","BIANKOUMA",15405,"DR GBABLASSO","Modérée",1750,803,2553,0,0,0,0,2,{"$f":"_xlfn.XLOOKUP($G2120,[1]demo_data!$G$5:$G$2257,[1]demo_data!$I$5:$I$2257)","v":6382}]
[2073,"Côte d'Ivoire","CIV","TONKPI","BIANKOUMA",15405,"DR GLANGOUALE","Modérée",1492,684,2176,0,0,0,0,2,{"$f":"_xlfn.XLOOKUP($G2121,[1]demo_data!$G$5:$G$2257,[1]demo_data!$I$5:$I$2257)","v":5440}]
[2074,"Côte d'Ivoire","CIV","TONKPI","BIANKOUMA",15405,"DR GLANLE","Modérée",2373,1089,3462,0,0,0,0,2,{"$f":"_xlfn.XLOOKUP($G2122,[1]demo_data!$G$5:$G$2257,[1]demo_data!$I$5:$I$2257)","v":8651}]
[2075,"Côte d'Ivoire","CIV","TONKPI","BIANKOUMA",15405,"DR GOUANE ","Modérée",2499,1147,3646,0,0,0,0,2,{"$f":"_xlfn.XLOOKUP($G2123,[1]demo_data!$G$5:$G$2257,[1]demo_data!$I$5:$I$2257)","v":9112}]
[2076,"Côte d'Ivoire","CIV","TONKPI","BIANKOUMA",15405,"DR GOUINE","Modérée",1513,695,2208,0,0,0,0,2,{"$f":"_xlfn.XLOOKUP($G2124,[1]demo_data!$G$5:$G$2257,[1]demo_data!$I$5:$I$2257)","v":5516}]
[2077,"Côte d'Ivoire","CIV","TONKPI","BIANKOUMA",15405,"DR GOURANE","Modérée",3546,1627,5173,0,0,0,0,2,{"$f":"_xlfn.XLOOKUP($G2125,[1]demo_data!$G$5:$G$2257,[1]demo_data!$I$5:$I$2257)","v":12926}]
[2078,"Côte d'Ivoire","CIV","TONKPI","BIANKOUMA",15405,"DR GUELEMOU","Modérée",1335,613,1948,0,0,0,0,2,{"$f":"_xlfn.XLOOKUP($G2126,[1]demo_data!$G$5:$G$2257,[1]demo_data!$I$5:$I$2257)","v":4868}]
[2079,"Côte d'Ivoire","CIV","TONKPI","BIANKOUMA",15405,"DR KLAPLEU","Modérée",1922,881,2803,0,0,0,0,2,{"$f":"_xlfn.XLOOKUP($G2127,[1]demo_data!$G$5:$G$2257,[1]demo_data!$I$5:$I$2257)","v":7006}]
[2080,"Côte d'Ivoire","CIV","TONKPI","BIANKOUMA",15405,"DR KOKIALO","Modérée",1854,851,2705,0,0,0,0,2,{"$f":"_xlfn.XLOOKUP($G2128,[1]demo_data!$G$5:$G$2257,[1]demo_data!$I$5:$I$2257)","v":6759}]
[2081,"Côte d'Ivoire","CIV","TONKPI","BIANKOUMA",15405,"DR KOULALE","Modérée",999,459,1458,0,0,0,0,2,{"$f":"_xlfn.XLOOKUP($G2129,[1]demo_data!$G$5:$G$2257,[1]demo_data!$I$5:$I$2257)","v":3644}]
[2082,"Côte d'Ivoire","CIV","TONKPI","BIANKOUMA",15405,"DR KOULIKORO","Modérée",2396,1099,3495,0,0,0,0,2,{"$f":"_xlfn.XLOOKUP($G2130,[1]demo_data!$G$5:$G$2257,[1]demo_data!$I$5:$I$2257)","v":8735}]
[2083,"Côte d'Ivoire","CIV","TONKPI","BIANKOUMA",15405,"DR OURENE","Modérée",2299,1055,3354,0,0,0,0,2,{"$f":"_xlfn.XLOOKUP($G2131,[1]demo_data!$G$5:$G$2257,[1]demo_data!$I$5:$I$2257)","v":8381}]
[2084,"Côte d'Ivoire","CIV","TONKPI","BIANKOUMA",15405,"PMI BIANKOUMA","Modérée",6216,2851,9067,0,0,0,0,2,{"$f":"_xlfn.XLOOKUP($G2132,[1]demo_data!$G$5:$G$2257,[1]demo_data!$I$5:$I$2257)","v":22659}]
[2085,"Côte d'Ivoire","CIV","TONKPI","DANANE",15406,"CSR D-SOHOUPLEU","Modérée",2991,1373,4364,0,0,0,0,2,{"$f":"_xlfn.XLOOKUP($G2133,[1]demo_data!$G$5:$G$2257,[1]demo_data!$I$5:$I$2257)","v":10906}]
[2086,"Côte d'Ivoire","CIV","TONKPI","DANANE",15406,"CSR D-YOLEU","Modérée",1860,854,2714,0,0,0,0,2,{"$f":"_xlfn.XLOOKUP($G2134,[1]demo_data!$G$5:$G$2257,[1]demo_data!$I$5:$I$2257)","v":6782}]
[2087,"Côte d'Ivoire","CIV","TONKPI","DANANE",15406,"CSR D-ZAGOUINE","Modérée",3761,1726,5487,0,0,0,0,2,{"$f":"_xlfn.XLOOKUP($G2135,[1]demo_data!$G$5:$G$2257,[1]demo_data!$I$5:$I$2257)","v":13712}]
[2088,"Côte d'Ivoire","CIV","TONKPI","DANANE",15406,"CSR-D BANTEAPLEU","Modérée",3224,1479,4703,0,0,0,0,2,{"$f":"_xlfn.XLOOKUP($G2136,[1]demo_data!$G$5:$G$2257,[1]demo_data!$I$5:$I$2257)","v":11753}]
[2089,"Côte d'Ivoire","CIV","TONKPI","DANANE",15406,"CSR-D DOUELEU","Modérée",3104,1424,4528,0,0,0,0,2,{"$f":"_xlfn.XLOOKUP($G2137,[1]demo_data!$G$5:$G$2257,[1]demo_data!$I$5:$I$2257)","v":11313}]
[2090,"Côte d'Ivoire","CIV","TONKPI","DANANE",15406,"CSR-D DRONGOUINE","Modérée",1644,754,2398,0,0,0,0,2,{"$f":"_xlfn.XLOOKUP($G2138,[1]demo_data!$G$5:$G$2257,[1]demo_data!$I$5:$I$2257)","v":5992}]
[2091,"Côte d'Ivoire","CIV","TONKPI","DANANE",15406,"CSR-D FIEMPLEU","Modérée",2598,1192,3790,0,0,0,0,2,{"$f":"_xlfn.XLOOKUP($G2139,[1]demo_data!$G$5:$G$2257,[1]demo_data!$I$5:$I$2257)","v":9471}]
[2092,"Côte d'Ivoire","CIV","TONKPI","DANANE",15406,"CSR-D FLAMPLEU-MONLEU","Modérée",2542,1167,3709,0,0,0,0,2,{"$f":"_xlfn.XLOOKUP($G2140,[1]demo_data!$G$5:$G$2257,[1]demo_data!$I$5:$I$2257)","v":9271}]
[2093,"Côte d'Ivoire","CIV","TONKPI","DANANE",15406,"CSR-D GBETA","Modérée",429,197,626,0,0,0,0,2,{"$f":"_xlfn.XLOOKUP($G2141,[1]demo_data!$G$5:$G$2257,[1]demo_data!$I$5:$I$2257)","v":1565}]
[2094,"Côte d'Ivoire","CIV","TONKPI","DANANE",15406,"CSR-D GBEUNTA","Modérée",4216,1934,6150,0,0,0,0,2,{"$f":"_xlfn.XLOOKUP($G2142,[1]demo_data!$G$5:$G$2257,[1]demo_data!$I$5:$I$2257)","v":15368}]
[2095,"Côte d'Ivoire","CIV","TONKPI","DANANE",15406,"CSR-D GLAN HOUYE","Modérée",3100,1422,4522,0,0,0,0,2,{"$f":"_xlfn.XLOOKUP($G2143,[1]demo_data!$G$5:$G$2257,[1]demo_data!$I$5:$I$2257)","v":11299}]
[2096,"Côte d'Ivoire","CIV","TONKPI","DANANE",15406,"CSR-D SINGOUINE","Modérée",1886,865,2751,0,0,0,0,2,{"$f":"_xlfn.XLOOKUP($G2144,[1]demo_data!$G$5:$G$2257,[1]demo_data!$I$5:$I$2257)","v":6876}]
[2097,"Côte d'Ivoire","CIV","TONKPI","DANANE",15406,"CSR-D ZONNEU","Modérée",2922,1341,4263,0,0,0,0,2,{"$f":"_xlfn.XLOOKUP($G2145,[1]demo_data!$G$5:$G$2257,[1]demo_data!$I$5:$I$2257)","v":10654}]
[2098,"Côte d'Ivoire","CIV","TONKPI","DANANE",15406,"CSR-DM GOPOUPLEU","Modérée",3015,1383,4398,0,0,0,0,2,{"$f":"_xlfn.XLOOKUP($G2146,[1]demo_data!$G$5:$G$2257,[1]demo_data!$I$5:$I$2257)","v":10993}]
[2099,"Côte d'Ivoire","CIV","TONKPI","DANANE",15406,"CSR-DM GUIAN HOUYE","Modérée",2665,1223,3888,0,0,0,0,2,{"$f":"_xlfn.XLOOKUP($G2147,[1]demo_data!$G$5:$G$2257,[1]demo_data!$I$5:$I$2257)","v":9715}]
[2100,"Côte d'Ivoire","CIV","TONKPI","DANANE",15406,"CSR-DM SEILEU","Modérée",1094,502,1596,0,0,0,0,2,{"$f":"_xlfn.XLOOKUP($G2148,[1]demo_data!$G$5:$G$2257,[1]demo_data!$I$5:$I$2257)","v":3989}]
[2101,"Côte d'Ivoire","CIV","TONKPI","DANANE",15406,"CSR-DM ZOUPLEU","Modérée",5348,2453,7801,0,0,0,0,2,{"$f":"_xlfn.XLOOKUP($G2149,[1]demo_data!$G$5:$G$2257,[1]demo_data!$I$5:$I$2257)","v":19497}]
[2102,"Côte d'Ivoire","CIV","TONKPI","DANANE",15406,"CSU DANANE","Modérée",10647,4885,15532,0,0,0,0,2,{"$f":"_xlfn.XLOOKUP($G2150,[1]demo_data!$G$5:$G$2257,[1]demo_data!$I$5:$I$2257)","v":38815}]
[2103,"Côte d'Ivoire","CIV","TONKPI","DANANE",15406,"CSU-DM DALEU","Modérée",4945,2268,7213,0,0,0,0,2,{"$f":"_xlfn.XLOOKUP($G2151,[1]demo_data!$G$5:$G$2257,[1]demo_data!$I$5:$I$2257)","v":18027}]
[2104,"Côte d'Ivoire","CIV","TONKPI","DANANE",15406,"CSU-DM KOUAN HOULE","Modérée",3012,1382,4394,0,0,0,0,2,{"$f":"_xlfn.XLOOKUP($G2152,[1]demo_data!$G$5:$G$2257,[1]demo_data!$I$5:$I$2257)","v":10982}]
[2105,"Côte d'Ivoire","CIV","TONKPI","DANANE",15406,"CSU-DM MAHAPLEU","Modérée",8115,3723,11838,0,0,0,0,2,{"$f":"_xlfn.XLOOKUP($G2153,[1]demo_data!$G$5:$G$2257,[1]demo_data!$I$5:$I$2257)","v":29584}]
[2106,"Côte d'Ivoire","CIV","TONKPI","DANANE",15406,"HOPITAL GENERAL DE DANANE","Modérée",12170,5583,17753,0,0,0,0,2,{"$f":"_xlfn.XLOOKUP($G2154,[1]demo_data!$G$5:$G$2257,[1]demo_data!$I$5:$I$2257)","v":44369}]
[2107,"Côte d'Ivoire","CIV","TONKPI","MAN",15407,"CHR MAN","Modérée",5484,2516,8000,0,0,0,0,2,{"$f":"_xlfn.XLOOKUP($G2155,[1]demo_data!$G$5:$G$2257,[1]demo_data!$I$5:$I$2257)","v":{"$error":"#N/A"}}]
[2108,"Côte d'Ivoire","CIV","TONKPI","MAN",15407,"CSR BLOLE","Modérée",2688,1233,3921,0,0,0,0,2,{"$f":"_xlfn.XLOOKUP($G2156,[1]demo_data!$G$5:$G$2257,[1]demo_data!$I$5:$I$2257)","v":9801}]
[2109,"Côte d'Ivoire","CIV","TONKPI","MAN",15407,"CSR DAINE 1","Modérée",3851,1767,5618,0,0,0,0,2,{"$f":"_xlfn.XLOOKUP($G2157,[1]demo_data!$G$5:$G$2257,[1]demo_data!$I$5:$I$2257)","v":14038}]
[2110,"Côte d'Ivoire","CIV","TONKPI","MAN",15407,"CSR FAGNAMPLEU","Modérée",1040,477,1517,0,0,0,0,2,{"$f":"_xlfn.XLOOKUP($G2158,[1]demo_data!$G$5:$G$2257,[1]demo_data!$I$5:$I$2257)","v":3794}]
[2111,"Côte d'Ivoire","CIV","TONKPI","MAN",15407,"CSR GBANGBEGOUINE YATI","Modérée",3883,1782,5665,0,0,0,0,2,{"$f":"_xlfn.XLOOKUP($G2159,[1]demo_data!$G$5:$G$2257,[1]demo_data!$I$5:$I$2257)","v":14159}]
[2112,"Côte d'Ivoire","CIV","TONKPI","MAN",15407,"CSR GBATONGOUIN","Modérée",2848,1307,4155,0,0,0,0,2,{"$f":"_xlfn.XLOOKUP($G2160,[1]demo_data!$G$5:$G$2257,[1]demo_data!$I$5:$I$2257)","v":10384}]
[2113,"Côte d'Ivoire","CIV","TONKPI","MAN",15407,"CSR GOTONGOUINE 1","Modérée",4075,1870,5945,0,0,0,0,2,{"$f":"_xlfn.XLOOKUP($G2161,[1]demo_data!$G$5:$G$2257,[1]demo_data!$I$5:$I$2257)","v":14859}]
[2114,"Côte d'Ivoire","CIV","TONKPI","MAN",15407,"CSR GOUEKANGOUINE","Modérée",2781,1276,4057,0,0,0,0,2,{"$f":"_xlfn.XLOOKUP($G2162,[1]demo_data!$G$5:$G$2257,[1]demo_data!$I$5:$I$2257)","v":10142}]
[2115,"Côte d'Ivoire","CIV","TONKPI","MAN",15407,"CSR TRINLE DIAPLEU","Modérée",1433,658,2091,0,0,0,0,2,{"$f":"_xlfn.XLOOKUP($G2163,[1]demo_data!$G$5:$G$2257,[1]demo_data!$I$5:$I$2257)","v":5224}]
[2116,"Côte d'Ivoire","CIV","TONKPI","MAN",15407,"CSR YADOULE","Modérée",1535,704,2239,0,0,0,0,2,{"$f":"_xlfn.XLOOKUP($G2164,[1]demo_data!$G$5:$G$2257,[1]demo_data!$I$5:$I$2257)","v":5594}]
[2117,"Côte d'Ivoire","CIV","TONKPI","MAN",15407,"CSR YAPLEU","Modérée",4729,2169,6898,0,0,0,0,2,{"$f":"_xlfn.XLOOKUP($G2165,[1]demo_data!$G$5:$G$2257,[1]demo_data!$I$5:$I$2257)","v":17239}]
[2118,"Côte d'Ivoire","CIV","TONKPI","MAN",15407,"CSR ZAGOUE","Modérée",1247,571,1818,0,0,0,0,2,{"$f":"_xlfn.XLOOKUP($G2166,[1]demo_data!$G$5:$G$2257,[1]demo_data!$I$5:$I$2257)","v":4545}]
[2119,"Côte d'Ivoire","CIV","TONKPI","MAN",15407,"CSU GRAND GBAPLEU","Modérée",11369,5216,16585,0,0,0,0,2,{"$f":"_xlfn.XLOOKUP($G2167,[1]demo_data!$G$5:$G$2257,[1]demo_data!$I$5:$I$2257)","v":41450}]
[2120,"Côte d'Ivoire","CIV","TONKPI","MAN",15407,"CSU HKB","Modérée",9972,4575,14547,0,0,0,0,2,{"$f":"_xlfn.XLOOKUP($G2168,[1]demo_data!$G$5:$G$2257,[1]demo_data!$I$5:$I$2257)","v":36355}]
[2121,"Côte d'Ivoire","CIV","TONKPI","MAN",15407,"CSU LIBREVILLE","Modérée",9761,4478,14239,0,0,0,0,2,{"$f":"_xlfn.XLOOKUP($G2169,[1]demo_data!$G$5:$G$2257,[1]demo_data!$I$5:$I$2257)","v":35586}]
[2122,"Côte d'Ivoire","CIV","TONKPI","MAN",15407,"CSU LOGOUALE","Modérée",3591,1648,5239,0,0,0,0,2,{"$f":"_xlfn.XLOOKUP($G2170,[1]demo_data!$G$5:$G$2257,[1]demo_data!$I$5:$I$2257)","v":13090}]
[2123,"Côte d'Ivoire","CIV","TONKPI","MAN",15407,"CSU SANGOUINE","Modérée",4290,1968,6258,0,0,0,0,2,{"$f":"_xlfn.XLOOKUP($G2171,[1]demo_data!$G$5:$G$2257,[1]demo_data!$I$5:$I$2257)","v":15637}]
[2124,"Côte d'Ivoire","CIV","TONKPI","MAN",15407,"DR BOFESSO","Modérée",1296,594,1890,0,0,0,0,2,{"$f":"_xlfn.XLOOKUP($G2172,[1]demo_data!$G$5:$G$2257,[1]demo_data!$I$5:$I$2257)","v":4722}]
[2125,"Côte d'Ivoire","CIV","TONKPI","MAN",15407,"DR BOGOUINE","Modérée",1063,487,1550,0,0,0,0,2,{"$f":"_xlfn.XLOOKUP($G2173,[1]demo_data!$G$5:$G$2257,[1]demo_data!$I$5:$I$2257)","v":3874}]
[2126,"Côte d'Ivoire","CIV","TONKPI","MAN",15407,"DR DAINE 2","Modérée",429,197,626,0,0,0,0,2,{"$f":"_xlfn.XLOOKUP($G2174,[1]demo_data!$G$5:$G$2257,[1]demo_data!$I$5:$I$2257)","v":1564}]
[2127,"Côte d'Ivoire","CIV","TONKPI","MAN",15407,"DR DEOULE","Modérée",1116,512,1628,0,0,0,0,2,{"$f":"_xlfn.XLOOKUP($G2175,[1]demo_data!$G$5:$G$2257,[1]demo_data!$I$5:$I$2257)","v":4069}]
[2128,"Côte d'Ivoire","CIV","TONKPI","MAN",15407,"DR GBLOALE","Modérée",1957,898,2855,0,0,0,0,2,{"$f":"_xlfn.XLOOKUP($G2176,[1]demo_data!$G$5:$G$2257,[1]demo_data!$I$5:$I$2257)","v":7134}]
[2129,"Côte d'Ivoire","CIV","TONKPI","MAN",15407,"DR GLEGOUINE","Modérée",1339,615,1954,0,0,0,0,2,{"$f":"_xlfn.XLOOKUP($G2177,[1]demo_data!$G$5:$G$2257,[1]demo_data!$I$5:$I$2257)","v":4883}]
[2130,"Côte d'Ivoire","CIV","TONKPI","MAN",15407,"DR GONGOUINE 1","Modérée",1354,621,1975,0,0,0,0,2,{"$f":"_xlfn.XLOOKUP($G2178,[1]demo_data!$G$5:$G$2257,[1]demo_data!$I$5:$I$2257)","v":4936}]
[2131,"Côte d'Ivoire","CIV","TONKPI","MAN",15407,"DR GOTONGOUINE 2","Modérée",800,367,1167,0,0,0,0,2,{"$f":"_xlfn.XLOOKUP($G2179,[1]demo_data!$G$5:$G$2257,[1]demo_data!$I$5:$I$2257)","v":2918}]
[2132,"Côte d'Ivoire","CIV","TONKPI","MAN",15407,"DR KIELE","Modérée",2078,953,3031,0,0,0,0,2,{"$f":"_xlfn.XLOOKUP($G2180,[1]demo_data!$G$5:$G$2257,[1]demo_data!$I$5:$I$2257)","v":7573}]
[2133,"Côte d'Ivoire","CIV","TONKPI","MAN",15407,"DR PODIAGOUINE","Modérée",1844,846,2690,0,0,0,0,2,{"$f":"_xlfn.XLOOKUP($G2181,[1]demo_data!$G$5:$G$2257,[1]demo_data!$I$5:$I$2257)","v":6722}]
[2134,"Côte d'Ivoire","CIV","TONKPI","MAN",15407,"DR SAGUIPLEU","Modérée",1577,723,2300,0,0,0,0,2,{"$f":"_xlfn.XLOOKUP($G2182,[1]demo_data!$G$5:$G$2257,[1]demo_data!$I$5:$I$2257)","v":5748}]
[2135,"Côte d'Ivoire","CIV","TONKPI","MAN",15407,"DR SANDOUGOU SOBA","Modérée",1927,884,2811,0,0,0,0,2,{"$f":"_xlfn.XLOOKUP($G2183,[1]demo_data!$G$5:$G$2257,[1]demo_data!$I$5:$I$2257)","v":7026}]
[2136,"Côte d'Ivoire","CIV","TONKPI","MAN",15407,"DR SINGOUIN","Modérée",829,381,1210,0,0,0,0,2,{"$f":"_xlfn.XLOOKUP($G2184,[1]demo_data!$G$5:$G$2257,[1]demo_data!$I$5:$I$2257)","v":3023}]
[2137,"Côte d'Ivoire","CIV","TONKPI","MAN",15407,"DR SOAPLEU DAZERE","Modérée",1458,669,2127,0,0,0,0,2,{"$f":"_xlfn.XLOOKUP($G2185,[1]demo_data!$G$5:$G$2257,[1]demo_data!$I$5:$I$2257)","v":5317}]
[2138,"Côte d'Ivoire","CIV","TONKPI","MAN",15407,"DR VOUNGOUE","Modérée",1356,622,1978,0,0,0,0,2,{"$f":"_xlfn.XLOOKUP($G2186,[1]demo_data!$G$5:$G$2257,[1]demo_data!$I$5:$I$2257)","v":4944}]
[2139,"Côte d'Ivoire","CIV","TONKPI","MAN",15407,"DR ZIOGOUINE","Modérée",1550,711,2261,0,0,0,0,2,{"$f":"_xlfn.XLOOKUP($G2187,[1]demo_data!$G$5:$G$2257,[1]demo_data!$I$5:$I$2257)","v":5653}]
[2140,"Côte d'Ivoire","CIV","TONKPI","MAN",15407,"PMI","Modérée",7020,3221,10241,0,0,0,0,2,{"$f":"_xlfn.XLOOKUP($G2188,[1]demo_data!$G$5:$G$2257,[1]demo_data!$I$5:$I$2257)","v":34689}]
[2141,"Côte d'Ivoire","CIV","TONKPI","MAN",15407,"SSSU","Modérée",3113,1428,4541,0,0,0,0,2,{"$f":"_xlfn.XLOOKUP($G2189,[1]demo_data!$G$5:$G$2257,[1]demo_data!$I$5:$I$2257)","v":26871}]
[2142,"Côte d'Ivoire","CIV","TONKPI","ZOUAN-HOUNIEN",15408,"CSR DE FLOLEU","Forte",3121,7160,10281,1,3121,7160,10281,3,{"$f":"_xlfn.XLOOKUP($G2190,[1]demo_data!$G$5:$G$2257,[1]demo_data!$I$5:$I$2257)","v":11380}]
[2143,"Côte d'Ivoire","CIV","TONKPI","ZOUAN-HOUNIEN",15408,"CSR SEIPLEU","Forte",936,2146,3082,1,936,2146,3082,3,{"$f":"_xlfn.XLOOKUP($G2191,[1]demo_data!$G$5:$G$2257,[1]demo_data!$I$5:$I$2257)","v":3411}]
[2144,"Côte d'Ivoire","CIV","TONKPI","ZOUAN-HOUNIEN",15408,"CSR YELLEU","Forte",2872,6589,9461,1,2872,6589,9461,3,{"$f":"_xlfn.XLOOKUP($G2192,[1]demo_data!$G$5:$G$2257,[1]demo_data!$I$5:$I$2257)","v":10471}]
[2145,"Côte d'Ivoire","CIV","TONKPI","ZOUAN-HOUNIEN",15408,"CSR ZEALE","Forte",2485,5701,8186,1,2485,5701,8186,3,{"$f":"_xlfn.XLOOKUP($G2193,[1]demo_data!$G$5:$G$2257,[1]demo_data!$I$5:$I$2257)","v":9061}]
[2146,"Côte d'Ivoire","CIV","TONKPI","ZOUAN-HOUNIEN",15408,"CSU DE BANNEU","Forte",2807,6440,9247,1,2807,6440,9247,3,{"$f":"_xlfn.XLOOKUP($G2194,[1]demo_data!$G$5:$G$2257,[1]demo_data!$I$5:$I$2257)","v":10235}]
[2147,"Côte d'Ivoire","CIV","TONKPI","ZOUAN-HOUNIEN",15408,"CSU DE BIN-HOUYE","Forte",6029,13832,19861,1,6029,13832,19861,3,{"$f":"_xlfn.XLOOKUP($G2195,[1]demo_data!$G$5:$G$2257,[1]demo_data!$I$5:$I$2257)","v":21980}]
[2148,"Côte d'Ivoire","CIV","TONKPI","ZOUAN-HOUNIEN",15408,"CSU GOULALEU","Forte",2293,5261,7554,1,2293,5261,7554,3,{"$f":"_xlfn.XLOOKUP($G2196,[1]demo_data!$G$5:$G$2257,[1]demo_data!$I$5:$I$2257)","v":8361}]
[2149,"Côte d'Ivoire","CIV","TONKPI","ZOUAN-HOUNIEN",15408,"CSU QUARTIER YACOUBA","Forte",2805,6434,9239,1,2805,6434,9239,3,{"$f":"_xlfn.XLOOKUP($G2197,[1]demo_data!$G$5:$G$2257,[1]demo_data!$I$5:$I$2257)","v":10225}]
[2150,"Côte d'Ivoire","CIV","TONKPI","ZOUAN-HOUNIEN",15408,"CSU TEAPLEU","Forte",6421,14728,21149,1,6421,14728,21149,3,{"$f":"_xlfn.XLOOKUP($G2198,[1]demo_data!$G$5:$G$2257,[1]demo_data!$I$5:$I$2257)","v":23407}]
[2151,"Côte d'Ivoire","CIV","TONKPI","ZOUAN-HOUNIEN",15408,"DR BIANTOUO2","Forte",1797,4120,5917,1,1797,4120,5917,3,{"$f":"_xlfn.XLOOKUP($G2199,[1]demo_data!$G$5:$G$2257,[1]demo_data!$I$5:$I$2257)","v":6549}]
[2152,"Côte d'Ivoire","CIV","TONKPI","ZOUAN-HOUNIEN",15408,"DR BOUENEU","Forte",1069,2452,3521,1,1069,2452,3521,3,{"$f":"_xlfn.XLOOKUP($G2200,[1]demo_data!$G$5:$G$2257,[1]demo_data!$I$5:$I$2257)","v":3897}]
[2153,"Côte d'Ivoire","CIV","TONKPI","ZOUAN-HOUNIEN",15408,"DR BOUTOUO1","Forte",1680,3854,5534,1,1680,3854,5534,3,{"$f":"_xlfn.XLOOKUP($G2201,[1]demo_data!$G$5:$G$2257,[1]demo_data!$I$5:$I$2257)","v":6124}]
[2154,"Côte d'Ivoire","CIV","TONKPI","ZOUAN-HOUNIEN",15408,"DR DEINNEU","Forte",2513,5765,8278,1,2513,5765,8278,3,{"$f":"_xlfn.XLOOKUP($G2202,[1]demo_data!$G$5:$G$2257,[1]demo_data!$I$5:$I$2257)","v":9161}]
[2155,"Côte d'Ivoire","CIV","TONKPI","ZOUAN-HOUNIEN",15408,"DR GLANGLEU","Forte",1750,4015,5765,1,1750,4015,5765,3,{"$f":"_xlfn.XLOOKUP($G2203,[1]demo_data!$G$5:$G$2257,[1]demo_data!$I$5:$I$2257)","v":6380}]
[2156,"Côte d'Ivoire","CIV","TONKPI","ZOUAN-HOUNIEN",15408,"DR GLEPLEU","Forte",2127,4880,7007,1,2127,4880,7007,3,{"$f":"_xlfn.XLOOKUP($G2204,[1]demo_data!$G$5:$G$2257,[1]demo_data!$I$5:$I$2257)","v":7755}]
[2157,"Côte d'Ivoire","CIV","TONKPI","ZOUAN-HOUNIEN",15408,"DR GNALEU","Forte",1484,3403,4887,1,1484,3403,4887,3,{"$f":"_xlfn.XLOOKUP($G2205,[1]demo_data!$G$5:$G$2257,[1]demo_data!$I$5:$I$2257)","v":5408}]
[2158,"Côte d'Ivoire","CIV","TONKPI","ZOUAN-HOUNIEN",15408,"DR GUETOUO","Forte",432,991,1423,1,432,991,1423,3,{"$f":"_xlfn.XLOOKUP($G2206,[1]demo_data!$G$5:$G$2257,[1]demo_data!$I$5:$I$2257)","v":1575}]
[2159,"Côte d'Ivoire","CIV","TONKPI","ZOUAN-HOUNIEN",15408,"DR GUIMAPLEU","Forte",1634,3749,5383,1,1634,3749,5383,3,{"$f":"_xlfn.XLOOKUP($G2207,[1]demo_data!$G$5:$G$2257,[1]demo_data!$I$5:$I$2257)","v":5958}]
[2160,"Côte d'Ivoire","CIV","TONKPI","ZOUAN-HOUNIEN",15408,"DR KOUEPLEU","Forte",1391,3193,4584,1,1391,3193,4584,3,{"$f":"_xlfn.XLOOKUP($G2208,[1]demo_data!$G$5:$G$2257,[1]demo_data!$I$5:$I$2257)","v":5074}]
[2161,"Côte d'Ivoire","CIV","TONKPI","ZOUAN-HOUNIEN",15408,"DR KPANTOUOPLEU","Forte",1288,2953,4241,1,1288,2953,4241,3,{"$f":"_xlfn.XLOOKUP($G2209,[1]demo_data!$G$5:$G$2257,[1]demo_data!$I$5:$I$2257)","v":4693}]
[2162,"Côte d'Ivoire","CIV","TONKPI","ZOUAN-HOUNIEN",15408,"DR KROZIALE","Forte",1367,3135,4502,1,1367,3135,4502,3,{"$f":"_xlfn.XLOOKUP($G2210,[1]demo_data!$G$5:$G$2257,[1]demo_data!$I$5:$I$2257)","v":4983}]
[2163,"Côte d'Ivoire","CIV","TONKPI","ZOUAN-HOUNIEN",15408,"DR LIGALEU1","Forte",1625,3727,5352,1,1625,3727,5352,3,{"$f":"_xlfn.XLOOKUP($G2211,[1]demo_data!$G$5:$G$2257,[1]demo_data!$I$5:$I$2257)","v":5924}]
[2164,"Côte d'Ivoire","CIV","TONKPI","ZOUAN-HOUNIEN",15408,"DR MAMPLEU","Forte",1104,2532,3636,1,1104,2532,3636,3,{"$f":"_xlfn.XLOOKUP($G2212,[1]demo_data!$G$5:$G$2257,[1]demo_data!$I$5:$I$2257)","v":4024}]
[2165,"Côte d'Ivoire","CIV","TONKPI","ZOUAN-HOUNIEN",15408,"DR NATTA-NORD","Forte",1802,4132,5934,1,1802,4132,5934,3,{"$f":"_xlfn.XLOOKUP($G2213,[1]demo_data!$G$5:$G$2257,[1]demo_data!$I$5:$I$2257)","v":6567}]
[2166,"Côte d'Ivoire","CIV","TONKPI","ZOUAN-HOUNIEN",15408,"DR OUYATOUO","Forte",1365,3131,4496,1,1365,3131,4496,3,{"$f":"_xlfn.XLOOKUP($G2214,[1]demo_data!$G$5:$G$2257,[1]demo_data!$I$5:$I$2257)","v":4976}]
[2167,"Côte d'Ivoire","CIV","TONKPI","ZOUAN-HOUNIEN",15408,"DR TIEVOPLEU","Forte",1928,4422,6350,1,1928,4422,6350,3,{"$f":"_xlfn.XLOOKUP($G2215,[1]demo_data!$G$5:$G$2257,[1]demo_data!$I$5:$I$2257)","v":7028}]
[2168,"Côte d'Ivoire","CIV","TONKPI","ZOUAN-HOUNIEN",15408,"DR ZOUTOUO-DARRA","Forte",1226,2812,4038,1,1226,2812,4038,3,{"$f":"_xlfn.XLOOKUP($G2216,[1]demo_data!$G$5:$G$2257,[1]demo_data!$I$5:$I$2257)","v":4470}]
[2169,"Côte d'Ivoire","CIV","TONKPI","ZOUAN-HOUNIEN",15408,"DU TEAPLEU","Forte",1434,3289,4723,1,1434,3289,4723,3,{"$f":"_xlfn.XLOOKUP($G2217,[1]demo_data!$G$5:$G$2257,[1]demo_data!$I$5:$I$2257)","v":5228}]
[2170,"Côte d'Ivoire","CIV","TONKPI","ZOUAN-HOUNIEN",15408,"HG DE ZOUAN-HOUNIEN","Forte",3497,8022,11519,1,3497,8022,11519,3,{"$f":"_xlfn.XLOOKUP($G2218,[1]demo_data!$G$5:$G$2257,[1]demo_data!$I$5:$I$2257)","v":12749}]
[2219,"Côte d'Ivoire","CIV","WORODOUGOU","KANI",15461,"CSR FADJADOUGOU","Faible",3511,0,3511,1,3511,0,3511,1,{"$f":"_xlfn.XLOOKUP($G2219,[1]demo_data!$G$5:$G$2257,[1]demo_data!$I$5:$I$2257)","v":14999}]
[2223,"Côte d'Ivoire","CIV","WORODOUGOU","KANI",15461,"CSR MANABRI","Faible",2484,0,2484,1,2484,0,2484,1,{"$f":"_xlfn.XLOOKUP($G2220,[1]demo_data!$G$5:$G$2257,[1]demo_data!$I$5:$I$2257)","v":10609}]
[2230,"Côte d'Ivoire","CIV","WORODOUGOU","KANI",15461,"CSU DJIBROSSO","Faible",2048,0,2048,1,2048,0,2048,1,{"$f":"_xlfn.XLOOKUP($G2221,[1]demo_data!$G$5:$G$2257,[1]demo_data!$I$5:$I$2257)","v":8748}]
[2233,"Côte d'Ivoire","CIV","WORODOUGOU","KANI",15461,"CSU MORONDO","Faible",2868,0,2868,1,2868,0,2868,1,{"$f":"_xlfn.XLOOKUP($G2222,[1]demo_data!$G$5:$G$2257,[1]demo_data!$I$5:$I$2257)","v":12249}]
[2237,"Côte d'Ivoire","CIV","WORODOUGOU","KANI",15461,"DR BANADJE","Faible",1910,0,1910,1,1910,0,1910,1,{"$f":"_xlfn.XLOOKUP($G2223,[1]demo_data!$G$5:$G$2257,[1]demo_data!$I$5:$I$2257)","v":8162}]
[2245,"Côte d'Ivoire","CIV","WORODOUGOU","KANI",15461,"DR MADJI","Faible",643,0,643,1,643,0,643,1,{"$f":"_xlfn.XLOOKUP($G2224,[1]demo_data!$G$5:$G$2257,[1]demo_data!$I$5:$I$2257)","v":2749}]
[2249,"Côte d'Ivoire","CIV","WORODOUGOU","KANI",15461,"DR WONGUE","Faible",1404,0,1404,1,1404,0,1404,1,{"$f":"_xlfn.XLOOKUP($G2225,[1]demo_data!$G$5:$G$2257,[1]demo_data!$I$5:$I$2257)","v":5994}]
[2252,"Côte d'Ivoire","CIV","WORODOUGOU","KANI",15461,"HG KANI","Faible",7491,0,7491,1,7491,0,7491,1,{"$f":"_xlfn.XLOOKUP($G2226,[1]demo_data!$G$5:$G$2257,[1]demo_data!$I$5:$I$2257)","v":31996}]
[2217,"Côte d'Ivoire","CIV","WORODOUGOU","SEGUELA",15462,"CHR SEGUELA","Faible",2197,0,2197,1,2197,0,2197,1,{"$f":"_xlfn.XLOOKUP($G2227,[1]demo_data!$G$5:$G$2257,[1]demo_data!$I$5:$I$2257)","v":{"$error":"#N/A"}}]
[2218,"Côte d'Ivoire","CIV","WORODOUGOU","SEGUELA",15462,"CSR BABIEN","Faible",2393,0,2393,1,2393,0,2393,1,{"$f":"_xlfn.XLOOKUP($G2228,[1]demo_data!$G$5:$G$2257,[1]demo_data!$I$5:$I$2257)","v":8043}]
[2220,"Côte d'Ivoire","CIV","WORODOUGOU","SEGUELA",15462,"CSR GBETOGO","Non endémique",0,0,0,0,0,0,0,0,{"$f":"_xlfn.XLOOKUP($G2229,[1]demo_data!$G$5:$G$2257,[1]demo_data!$I$5:$I$2257)","v":6682}]
[2221,"Côte d'Ivoire","CIV","WORODOUGOU","SEGUELA",15462,"CSR GBOGOLO","Faible",2105,0,2105,1,2105,0,2105,1,{"$f":"_xlfn.XLOOKUP($G2230,[1]demo_data!$G$5:$G$2257,[1]demo_data!$I$5:$I$2257)","v":7076}]
[2222,"Côte d'Ivoire","CIV","WORODOUGOU","SEGUELA",15462,"CSR KAMALO","Faible",2284,0,2284,1,2284,0,2284,1,{"$f":"_xlfn.XLOOKUP($G2231,[1]demo_data!$G$5:$G$2257,[1]demo_data!$I$5:$I$2257)","v":7677}]
[2224,"Côte d'Ivoire","CIV","WORODOUGOU","SEGUELA",15462,"CSR RANCH","Faible",373,0,373,1,373,0,373,1,{"$f":"_xlfn.XLOOKUP($G2232,[1]demo_data!$G$5:$G$2257,[1]demo_data!$I$5:$I$2257)","v":1254}]
[2225,"Côte d'Ivoire","CIV","WORODOUGOU","SEGUELA",15462,"CSR SOBA BANADJE","Faible",2837,0,2837,1,2837,0,2837,1,{"$f":"_xlfn.XLOOKUP($G2233,[1]demo_data!$G$5:$G$2257,[1]demo_data!$I$5:$I$2257)","v":9537}]
[2226,"Côte d'Ivoire","CIV","WORODOUGOU","SEGUELA",15462,"CSR TEGUELA","Faible",2007,0,2007,1,2007,0,2007,1,{"$f":"_xlfn.XLOOKUP($G2234,[1]demo_data!$G$5:$G$2257,[1]demo_data!$I$5:$I$2257)","v":6745}]
[2227,"Côte d'Ivoire","CIV","WORODOUGOU","SEGUELA",15462,"CSR TIEMASSOBA","Faible",1367,0,1367,1,1367,0,1367,1,{"$f":"_xlfn.XLOOKUP($G2235,[1]demo_data!$G$5:$G$2257,[1]demo_data!$I$5:$I$2257)","v":4593}]
[2228,"Côte d'Ivoire","CIV","WORODOUGOU","SEGUELA",15462,"CSU BOBI","Faible",2253,0,2253,1,2253,0,2253,1,{"$f":"_xlfn.XLOOKUP($G2236,[1]demo_data!$G$5:$G$2257,[1]demo_data!$I$5:$I$2257)","v":7572}]
[2229,"Côte d'Ivoire","CIV","WORODOUGOU","SEGUELA",15462,"CSU DIARABANA","Faible",5225,0,5225,1,5225,0,5225,1,{"$f":"_xlfn.XLOOKUP($G2237,[1]demo_data!$G$5:$G$2257,[1]demo_data!$I$5:$I$2257)","v":17562}]
[2231,"Côte d'Ivoire","CIV","WORODOUGOU","SEGUELA",15462,"CSU DUALLA","Modérée",1930,885,2815,1,1930,885,2815,2,{"$f":"_xlfn.XLOOKUP($G2238,[1]demo_data!$G$5:$G$2257,[1]demo_data!$I$5:$I$2257)","v":6486}]
[2232,"Côte d'Ivoire","CIV","WORODOUGOU","SEGUELA",15462,"CSU MASSALA","Faible",5660,0,5660,1,5660,0,5660,1,{"$f":"_xlfn.XLOOKUP($G2239,[1]demo_data!$G$5:$G$2257,[1]demo_data!$I$5:$I$2257)","v":19025}]
[2234,"Côte d'Ivoire","CIV","WORODOUGOU","SEGUELA",15462,"CSU SEGUELA","Faible",3318,0,3318,1,3318,0,3318,1,{"$f":"_xlfn.XLOOKUP($G2240,[1]demo_data!$G$5:$G$2257,[1]demo_data!$I$5:$I$2257)","v":11153}]
[2235,"Côte d'Ivoire","CIV","WORODOUGOU","SEGUELA",15462,"CSU SIFIE","Faible",3823,0,3823,1,3823,0,3823,1,{"$f":"_xlfn.XLOOKUP($G2241,[1]demo_data!$G$5:$G$2257,[1]demo_data!$I$5:$I$2257)","v":12851}]
[2236,"Côte d'Ivoire","CIV","WORODOUGOU","SEGUELA",15462,"CSU WOROFLA","Non endémique",0,0,0,0,0,0,0,0,{"$f":"_xlfn.XLOOKUP($G2242,[1]demo_data!$G$5:$G$2257,[1]demo_data!$I$5:$I$2257)","v":11744}]
[2238,"Côte d'Ivoire","CIV","WORODOUGOU","SEGUELA",15462,"DR BERENI DIALLA","Faible",2393,0,2393,1,2393,0,2393,1,{"$f":"_xlfn.XLOOKUP($G2243,[1]demo_data!$G$5:$G$2257,[1]demo_data!$I$5:$I$2257)","v":8043}]
[2239,"Côte d'Ivoire","CIV","WORODOUGOU","SEGUELA",15462,"DR GBALO KANDJI","Non endémique",0,0,0,0,0,0,0,0,{"$f":"_xlfn.XLOOKUP($G2244,[1]demo_data!$G$5:$G$2257,[1]demo_data!$I$5:$I$2257)","v":5441}]
[2240,"Côte d'Ivoire","CIV","WORODOUGOU","SEGUELA",15462,"DR GBELO","Faible",845,0,845,1,845,0,845,1,{"$f":"_xlfn.XLOOKUP($G2245,[1]demo_data!$G$5:$G$2257,[1]demo_data!$I$5:$I$2257)","v":2841}]
[2241,"Côte d'Ivoire","CIV","WORODOUGOU","SEGUELA",15462,"DR GBEMAZO","Faible",1003,0,1003,1,1003,0,1003,1,{"$f":"_xlfn.XLOOKUP($G2246,[1]demo_data!$G$5:$G$2257,[1]demo_data!$I$5:$I$2257)","v":3371}]
[2242,"Côte d'Ivoire","CIV","WORODOUGOU","SEGUELA",15462,"DR KATO","Faible",1639,0,1639,1,1639,0,1639,1,{"$f":"_xlfn.XLOOKUP($G2247,[1]demo_data!$G$5:$G$2257,[1]demo_data!$I$5:$I$2257)","v":5507}]
[2243,"Côte d'Ivoire","CIV","WORODOUGOU","SEGUELA",15462,"DR KENEGBE","Faible",474,0,474,1,474,0,474,1,{"$f":"_xlfn.XLOOKUP($G2248,[1]demo_data!$G$5:$G$2257,[1]demo_data!$I$5:$I$2257)","v":1592}]
[2244,"Côte d'Ivoire","CIV","WORODOUGOU","SEGUELA",15462,"DR KOHIMON","Faible",484,0,484,1,484,0,484,1,{"$f":"_xlfn.XLOOKUP($G2249,[1]demo_data!$G$5:$G$2257,[1]demo_data!$I$5:$I$2257)","v":1627}]
[2246,"Côte d'Ivoire","CIV","WORODOUGOU","SEGUELA",15462,"DR MASSALA GOURAN","Faible",928,0,928,1,928,0,928,1,{"$f":"_xlfn.XLOOKUP($G2250,[1]demo_data!$G$5:$G$2257,[1]demo_data!$I$5:$I$2257)","v":3119}]
[2247,"Côte d'Ivoire","CIV","WORODOUGOU","SEGUELA",15462,"DR SIANA","Faible",881,0,881,1,881,0,881,1,{"$f":"_xlfn.XLOOKUP($G2251,[1]demo_data!$G$5:$G$2257,[1]demo_data!$I$5:$I$2257)","v":2962}]
[2248,"Côte d'Ivoire","CIV","WORODOUGOU","SEGUELA",15462,"DR TIEMA","Faible",1938,0,1938,1,1938,0,1938,1,{"$f":"_xlfn.XLOOKUP($G2252,[1]demo_data!$G$5:$G$2257,[1]demo_data!$I$5:$I$2257)","v":6515}]
[2250,"Côte d'Ivoire","CIV","WORODOUGOU","SEGUELA",15462,"DR YANFISSA","Faible",1665,0,1665,1,1665,0,1665,1,{"$f":"_xlfn.XLOOKUP($G2253,[1]demo_data!$G$5:$G$2257,[1]demo_data!$I$5:$I$2257)","v":5597}]
[2251,"Côte d'Ivoire","CIV","WORODOUGOU","SEGUELA",15462,"FORONA","Faible",873,0,873,1,873,0,873,1,{"$f":"_xlfn.XLOOKUP($G2254,[1]demo_data!$G$5:$G$2257,[1]demo_data!$I$5:$I$2257)","v":2934}]
[2253,"Côte d'Ivoire","CIV","WORODOUGOU","SEGUELA",15462,"PMI","Faible",2057,0,2057,1,2057,0,2057,1,{"$f":"_xlfn.XLOOKUP($G2255,[1]demo_data!$G$5:$G$2257,[1]demo_data!$I$5:$I$2257)","v":34689}]

{"sheet":"PZQ","index":5,"n_rows":122,"n_cols":18,"rows_kept":122,"cut":false,"hidden":false,"merged":[[3,0,3,2],[5,0,5,2],[5,4,5,7],[5,8,5,9],[6,17,7,17],[6,6,7,6],[6,7,7,7],[6,9,7,9],[6,0,7,0],[6,1,7,1],[6,2,7,2],[6,4,7,4],[5,3,7,3],[6,5,7,5],[6,8,7,8],[6,12,7,12],[5,12,5,17],[5,10,5,11],[6,10,7,10],[6,14,7,14],[6,15,7,15],[6,16,7,16],[6,13,7,13],[6,11,7,11]]}
["Praziquantel (PZQ)"]
["Structure administrative, population ciblée par groupe d'âge, plan de traitement et information sur les comprimés"]
[]
["TOTAL",null,null,null,{"$f":"SUBTOTAL(9,E$10:E$1010)","v":840095},2777681,5151329,8769105,null,0,null,null,{"$f":"SUBTOTAL(9,M$10:M$1010)","v":0},5555362,15453987,21009349,0,21009349]
[]
["Structure administrative du pays",null,null,"Plan de traitement\nSCH","Population cible pour SCH",null,null,null,"Hotspots",null,"Année précédent l’AMM",null,"Praziquantel (PZQ)"]
["Pays","Région/Département","District",null,"EAPréS","EAS","Adultes","Total","Prévue","Population","Tournées","Groupes d'âge","EAPréS","EAS","Adultes","Total requis","Reste en stock","Comprimés devant être fournis"]
[]
[]
[{"$f":"IF(INTRO!$E$43=\"Non endémique\",\" \", IF(COUNTRY_INFO!A10=0,\" \",COUNTRY_INFO!A10))","v":"Côte d'Ivoire"},{"$f":"IF(INTRO!$E$43=\"Non endémique\",\" \", IF(COUNTRY_INFO!B10=0,\" \",COUNTRY_INFO!B10))","v":"ABIDJAN 1 "},{"$f":"IF(INTRO!$E$43=\"Non endémique\",\" \", IF(COUNTRY_INFO!C10=0,\" \",COUNTRY_INFO!C10))","v":"ABOBO EST"},{"$f":"IF(INTRO!$E$43=\"Non endémique\", \"Non requis\", COUNTRY_INFO!Y10)","v":1},{"$f":"IF(OR(COUNTRY_INFO!R10=\"Inconnu\",COUNTRY_INFO!R10=\"Surveillance\",COUNTRY_INFO!R10=\"Non requis\",COUNTRY_INFO!R10=0),0,IF($D10<>0, COUNTRY_INFO!R10,0))","v":0},{"$f":"IF(OR(COUNTRY_INFO!S10=\"Inconnu\",COUNTRY_INFO!S10=\"Surveillance\",COUNTRY_INFO!S10=\"Non requis\",COUNTRY_INFO!S10=0),0,IF($D10<>0, COUNTRY_INFO!S10,0))","v":233652},{"$f":"IF(OR(COUNTRY_INFO!T10=\"Inconnu\",COUNTRY_INFO!T10=\"Surveillance\",COUNTRY_INFO!T10=\"Non requis\",COUNTRY_INFO!T10=0),0,IF($D10<>0, COUNTRY_INFO!T10,0))","v":0},{"$f":"SUM(E10:G10)","v":233652},null,null,null,null,null,{"$f":"IF($I10<>\"Oui\",$F10*2,($F10+ROUND(J10*$F10/SUM(COUNTRY_INFO!$E10:$G10),0))*2)","v":467304},{"$f":"IF($I10<>\"Oui\",$G10*3,($G10+ROUND(J10*$G10/SUM(COUNTRY_INFO!$E10:$G10),0))*3)","v":0},{"$f":"SUM(M10:O10)","v":467304},null,{"$f":"IF($P10>$Q10,P10-Q10,0)","v":467304}]
[{"$f":"IF(INTRO!$E$43=\"Non endémique\",\" \", IF(COUNTRY_INFO!A11=0,\" \",COUNTRY_INFO!A11))","v":"Côte d'Ivoire"},{"$f":"IF(INTRO!$E$43=\"Non endémique\",\" \", IF(COUNTRY_INFO!B11=0,\" \",COUNTRY_INFO!B11))","v":"ABIDJAN 1 "},{"$f":"IF(INTRO!$E$43=\"Non endémique\",\" \", IF(COUNTRY_INFO!C11=0,\" \",COUNTRY_INFO!C11))","v":"ABOBO OUEST"},{"$f":"IF(INTRO!$E$43=\"Non endémique\", \"Non requis\", COUNTRY_INFO!Y11)","v":1},{"$f":"IF(OR(COUNTRY_INFO!R11=\"Inconnu\",COUNTRY_INFO!R11=\"Surveillance\",COUNTRY_INFO!R11=\"Non requis\",COUNTRY_INFO!R11=0),0,IF($D11<>0, COUNTRY_INFO!R11,0))","v":0},{"$f":"IF(OR(COUNTRY_INFO!S11=\"Inconnu\",COUNTRY_INFO!S11=\"Surveillance\",COUNTRY_INFO!S11=\"Non requis\",COUNTRY_INFO!S11=0),0,IF($D11<>0, COUNTRY_INFO!S11,0))","v":77041},{"$f":"IF(OR(COUNTRY_INFO!T11=\"Inconnu\",COUNTRY_INFO!T11=\"Surveillance\",COUNTRY_INFO!T11=\"Non requis\",COUNTRY_INFO!T11=0),0,IF($D11<>0, COUNTRY_INFO!T11,0))","v":0},{"$f":"SUM(E11:G11)","v":77041},null,null,null,null,null,{"$f":"IF($I11<>\"Oui\",$F11*2,($F11+ROUND(J11*$F11/SUM(COUNTRY_INFO!$E11:$G11),0))*2)","v":154082},{"$f":"IF($I11<>\"Oui\",$G11*3,($G11+ROUND(J11*$G11/SUM(COUNTRY_INFO!$E11:$G11),0))*3)","v":0},{"$f":"SUM(M11:O11)","v":154082},null,{"$f":"IF($P11>$Q11,P11-Q11,0)","v":154082}]
[{"$f":"IF(INTRO!$E$43=\"Non endémique\",\" \", IF(COUNTRY_INFO!A12=0,\" \",COUNTRY_INFO!A12))","v":"Côte d'Ivoire"},{"$f":"IF(INTRO!$E$43=\"Non endémique\",\" \", IF(COUNTRY_INFO!B12=0,\" \",COUNTRY_INFO!B12))","v":"ABIDJAN 1 "},{"$f":"IF(INTRO!$E$43=\"Non endémique\",\" \", IF(COUNTRY_INFO!C12=0,\" \",COUNTRY_INFO!C12))","v":"ANYAMA"},{"$f":"IF(INTRO!$E$43=\"Non endémique\", \"Non requis\", COUNTRY_INFO!Y12)","v":0},{"$f":"IF(OR(COUNTRY_INFO!R12=\"Inconnu\",COUNTRY_INFO!R12=\"Surveillance\",COUNTRY_INFO!R12=\"Non requis\",COUNTRY_INFO!R12=0),0,IF($D12<>0, COUNTRY_INFO!R12,0))","v":0},{"$f":"IF(OR(COUNTRY_INFO!S12=\"Inconnu\",COUNTRY_INFO!S12=\"Surveillance\",COUNTRY_INFO!S12=\"Non requis\",COUNTRY_INFO!S12=0),0,IF($D12<>0, COUNTRY_INFO!S12,0))","v":0},{"$f":"IF(OR(COUNTRY_INFO!T12=\"Inconnu\",COUNTRY_INFO!T12=\"Surveillance\",COUNTRY_INFO!T12=\"Non requis\",COUNTRY_INFO!T12=0),0,IF($D12<>0, COUNTRY_INFO!T12,0))","v":0},0,null,null,null,null,null,{"$f":"IF($I12<>\"Oui\",$F12*2,($F12+ROUND(J12*$F12/SUM(COUNTRY_INFO!$E12:$G12),0))*2)","v":0},{"$f":"IF($I12<>\"Oui\",$G12*3,($G12+ROUND(J12*$G12/SUM(COUNTRY_INFO!$E12:$G12),0))*3)","v":0},0,null,0]
[{"$f":"IF(INTRO!$E$43=\"Non endémique\",\" \", IF(COUNTRY_INFO!A13=0,\" \",COUNTRY_INFO!A13))","v":"Côte d'Ivoire"},{"$f":"IF(INTRO!$E$43=\"Non endémique\",\" \", IF(COUNTRY_INFO!B13=0,\" \",COUNTRY_INFO!B13))","v":"ABIDJAN 1 "},{"$f":"IF(INTRO!$E$43=\"Non endémique\",\" \", IF(COUNTRY_INFO!C13=0,\" \",COUNTRY_INFO!C13))","v":"YOPOUGON EST"},{"$f":"IF(INTRO!$E$43=\"Non endémique\", \"Non requis\", COUNTRY_INFO!Y13)","v":1},{"$f":"IF(OR(COUNTRY_INFO!R13=\"Inconnu\",COUNTRY_INFO!R13=\"Surveillance\",COUNTRY_INFO!R13=\"Non requis\",COUNTRY_INFO!R13=0),0,IF($D13<>0, COUNTRY_INFO!R13,0))","v":90976},{"$f":"IF(OR(COUNTRY_INFO!S13=\"Inconnu\",COUNTRY_INFO!S13=\"Surveillance\",COUNTRY_INFO!S13=\"Non requis\",COUNTRY_INFO!S13=0),0,IF($D13<>0, COUNTRY_INFO!S13,0))","v":195983},{"$f":"IF(OR(COUNTRY_INFO!T13=\"Inconnu\",COUNTRY_INFO!T13=\"Surveillance\",COUNTRY_INFO!T13=\"Non requis\",COUNTRY_INFO!T13=0),0,IF($D13<>0, COUNTRY_INFO!T13,0))","v":557849},844808,null,null,null,null,null,{"$f":"IF($I13<>\"Oui\",$F13*2,($F13+ROUND(J13*$F13/SUM(COUNTRY_INFO!$E13:$G13),0))*2)","v":391966},{"$f":"IF($I13<>\"Oui\",$G13*3,($G13+ROUND(J13*$G13/SUM(COUNTRY_INFO!$E13:$G13),0))*3)","v":1673547},2065513,null,2065513]
[{"$f":"IF(INTRO!$E$43=\"Non endémique\",\" \", IF(COUNTRY_INFO!A14=0,\" \",COUNTRY_INFO!A14))","v":"Côte d'Ivoire"},{"$f":"IF(INTRO!$E$43=\"Non endémique\",\" \", IF(COUNTRY_INFO!B14=0,\" \",COUNTRY_INFO!B14))","v":"ABIDJAN 1 "},{"$f":"IF(INTRO!$E$43=\"Non endémique\",\" \", IF(COUNTRY_INFO!C14=0,\" \",COUNTRY_INFO!C14))","v":"YOPOUGON OUEST"},{"$f":"IF(INTRO!$E$43=\"Non endémique\", \"Non requis\", COUNTRY_INFO!Y14)","v":1},{"$f":"IF(OR(COUNTRY_INFO!R14=\"Inconnu\",COUNTRY_INFO!R14=\"Surveillance\",COUNTRY_INFO!R14=\"Non requis\",COUNTRY_INFO!R14=0),0,IF($D14<>0, COUNTRY_INFO!R14,0))","v":0},{"$f":"IF(OR(COUNTRY_INFO!S14=\"Inconnu\",COUNTRY_INFO!S14=\"Surveillance\",COUNTRY_INFO!S14=\"Non requis\",COUNTRY_INFO!S14=0),0,IF($D14<>0, COUNTRY_INFO!S14,0))","v":118331},{"$f":"IF(OR(COUNTRY_INFO!T14=\"Inconnu\",COUNTRY_INFO!T14=\"Surveillance\",COUNTRY_INFO!T14=\"Non requis\",COUNTRY_INFO!T14=0),0,IF($D14<>0, COUNTRY_INFO!T14,0))","v":0},118331,null,null,null,null,null,{"$f":"IF($I14<>\"Oui\",$F14*2,($F14+ROUND(J14*$F14/SUM(COUNTRY_INFO!$E14:$G14),0))*2)","v":236662},{"$f":"IF($I14<>\"Oui\",$G14*3,($G14+ROUND(J14*$G14/SUM(COUNTRY_INFO!$E14:$G14),0))*3)","v":0},236662,null,236662]
[{"$f":"IF(INTRO!$E$43=\"Non endémique\",\" \", IF(COUNTRY_INFO!A15=0,\" \",COUNTRY_INFO!A15))","v":"Côte d'Ivoire"},{"$f":"IF(INTRO!$E$43=\"Non endémique\",\" \", IF(COUNTRY_INFO!B15=0,\" \",COUNTRY_INFO!B15))","v":"ABIDJAN 2"},{"$f":"IF(INTRO!$E$43=\"Non endémique\",\" \", IF(COUNTRY_INFO!C15=0,\" \",COUNTRY_INFO!C15))","v":"ADJAME-PLATEAU-ATTECOUBE"},{"$f":"IF(INTRO!$E$43=\"Non endémique\", \"Non requis\", COUNTRY_INFO!Y15)","v":0},{"$f":"IF(OR(COUNTRY_INFO!R15=\"Inconnu\",COUNTRY_INFO!R15=\"Surveillance\",COUNTRY_INFO!R15=\"Non requis\",COUNTRY_INFO!R15=0),0,IF($D15<>0, COUNTRY_INFO!R15,0))","v":0},{"$f":"IF(OR(COUNTRY_INFO!S15=\"Inconnu\",COUNTRY_INFO!S15=\"Surveillance\",COUNTRY_INFO!S15=\"Non requis\",COUNTRY_INFO!S15=0),0,IF($D15<>0, COUNTRY_INFO!S15,0))","v":0},{"$f":"IF(OR(COUNTRY_INFO!T15=\"Inconnu\",COUNTRY_INFO!T15=\"Surveillance\",COUNTRY_INFO!T15=\"Non requis\",COUNTRY_INFO!T15=0),0,IF($D15<>0, COUNTRY_INFO!T15,0))","v":0},0,null,null,null,null,null,{"$f":"IF($I15<>\"Oui\",$F15*2,($F15+ROUND(J15*$F15/SUM(COUNTRY_INFO!$E15:$G15),0))*2)","v":0},{"$f":"IF($I15<>\"Oui\",$G15*3,($G15+ROUND(J15*$G15/SUM(COUNTRY_INFO!$E15:$G15),0))*3)","v":0},0,null,0]
[{"$f":"IF(INTRO!$E$43=\"Non endémique\",\" \", IF(COUNTRY_INFO!A16=0,\" \",COUNTRY_INFO!A16))","v":"Côte d'Ivoire"},{"$f":"IF(INTRO!$E$43=\"Non endémique\",\" \", IF(COUNTRY_INFO!B16=0,\" \",COUNTRY_INFO!B16))","v":"ABIDJAN 2"},{"$f":"IF(INTRO!$E$43=\"Non endémique\",\" \", IF(COUNTRY_INFO!C16=0,\" \",COUNTRY_INFO!C16))","v":"COCODY-BINGERVILLE"},{"$f":"IF(INTRO!$E$43=\"Non endémique\", \"Non requis\", COUNTRY_INFO!Y16)","v":0},{"$f":"IF(OR(COUNTRY_INFO!R16=\"Inconnu\",COUNTRY_INFO!R16=\"Surveillance\",COUNTRY_INFO!R16=\"Non requis\",COUNTRY_INFO!R16=0),0,IF($D16<>0, COUNTRY_INFO!R16,0))","v":0},{"$f":"IF(OR(COUNTRY_INFO!S16=\"Inconnu\",COUNTRY_INFO!S16=\"Surveillance\",COUNTRY_INFO!S16=\"Non requis\",COUNTRY_INFO!S16=0),0,IF($D16<>0, COUNTRY_INFO!S16,0))","v":0},{"$f":"IF(OR(COUNTRY_INFO!T16=\"Inconnu\",COUNTRY_INFO!T16=\"Surveillance\",COUNTRY_INFO!T16=\"Non requis\",COUNTRY_INFO!T16=0),0,IF($D16<>0, COUNTRY_INFO!T16,0))","v":0},0,null,null,null,null,null,{"$f":"IF($I16<>\"Oui\",$F16*2,($F16+ROUND(J16*$F16/SUM(COUNTRY_INFO!$E16:$G16),0))*2)","v":0},{"$f":"IF($I16<>\"Oui\",$G16*3,($G16+ROUND(J16*$G16/SUM(COUNTRY_INFO!$E16:$G16),0))*3)","v":0},0,null,0]
[{"$f":"IF(INTRO!$E$43=\"Non endémique\",\" \", IF(COUNTRY_INFO!A17=0,\" \",COUNTRY_INFO!A17))","v":"Côte d'Ivoire"},{"$f":"IF(INTRO!$E$43=\"Non endémique\",\" \", IF(COUNTRY_INFO!B17=0,\" \",COUNTRY_INFO!B17))","v":"ABIDJAN 2"},{"$f":"IF(INTRO!$E$43=\"Non endémique\",\" \", IF(COUNTRY_INFO!C17=0,\" \",COUNTRY_INFO!C17))","v":"KOUMASSI"},{"$f":"IF(INTRO!$E$43=\"Non endémique\", \"Non requis\", COUNTRY_INFO!Y17)","v":0},{"$f":"IF(OR(COUNTRY_INFO!R17=\"Inconnu\",COUNTRY_INFO!R17=\"Surveillance\",COUNTRY_INFO!R17=\"Non requis\",COUNTRY_INFO!R17=0),0,IF($D17<>0, COUNTRY_INFO!R17,0))","v":0},{"$f":"IF(OR(COUNTRY_INFO!S17=\"Inconnu\",COUNTRY_INFO!S17=\"Surveillance\",COUNTRY_INFO!S17=\"Non requis\",COUNTRY_INFO!S17=0),0,IF($D17<>0, COUNTRY_INFO!S17,0))","v":0},{"$f":"IF(OR(COUNTRY_INFO!T17=\"Inconnu\",COUNTRY_INFO!T17=\"Surveillance\",COUNTRY_INFO!T17=\"Non requis\",COUNTRY_INFO!T17=0),0,IF($D17<>0, COUNTRY_INFO!T17,0))","v":0},0,null,null,null,null,null,{"$f":"IF($I17<>\"Oui\",$F17*2,($F17+ROUND(J17*$F17/SUM(COUNTRY_INFO!$E17:$G17),0))*2)","v":0},{"$f":"IF($I17<>\"Oui\",$G17*3,($G17+ROUND(J17*$G17/SUM(COUNTRY_INFO!$E17:$G17),0))*3)","v":0},0,null,0]
[{"$f":"IF(INTRO!$E$43=\"Non endémique\",\" \", IF(COUNTRY_INFO!A18=0,\" \",COUNTRY_INFO!A18))","v":"Côte d'Ivoire"},{"$f":"IF(INTRO!$E$43=\"Non endémique\",\" \", IF(COUNTRY_INFO!B18=0,\" \",COUNTRY_INFO!B18))","v":"ABIDJAN 2"},{"$f":"IF(INTRO!$E$43=\"Non endémique\",\" \", IF(COUNTRY_INFO!C18=0,\" \",COUNTRY_INFO!C18))","v":"PORT BOUET-VRIDI"},{"$f":"IF(INTRO!$E$43=\"Non endémique\", \"Non requis\", COUNTRY_INFO!Y18)","v":0},{"$f":"IF(OR(COUNTRY_INFO!R18=\"Inconnu\",COUNTRY_INFO!R18=\"Surveillance\",COUNTRY_INFO!R18=\"Non requis\",COUNTRY_INFO!R18=0),0,IF($D18<>0, COUNTRY_INFO!R18,0))","v":0},{"$f":"IF(OR(COUNTRY_INFO!S18=\"Inconnu\",COUNTRY_INFO!S18=\"Surveillance\",COUNTRY_INFO!S18=\"Non requis\",COUNTRY_INFO!S18=0),0,IF($D18<>0, COUNTRY_INFO!S18,0))","v":0},{"$f":"IF(OR(COUNTRY_INFO!T18=\"Inconnu\",COUNTRY_INFO!T18=\"Surveillance\",COUNTRY_INFO!T18=\"Non requis\",COUNTRY_INFO!T18=0),0,IF($D18<>0, COUNTRY_INFO!T18,0))","v":0},0,null,null,null,null,null,{"$f":"IF($I18<>\"Oui\",$F18*2,($F18+ROUND(J18*$F18/SUM(COUNTRY_INFO!$E18:$G18),0))*2)","v":0},{"$f":"IF($I18<>\"Oui\",$G18*3,($G18+ROUND(J18*$G18/SUM(COUNTRY_INFO!$E18:$G18),0))*3)","v":0},0,null,0]
[{"$f":"IF(INTRO!$E$43=\"Non endémique\",\" \", IF(COUNTRY_INFO!A19=0,\" \",COUNTRY_INFO!A19))","v":"Côte d'Ivoire"},{"$f":"IF(INTRO!$E$43=\"Non endémique\",\" \", IF(COUNTRY_INFO!B19=0,\" \",COUNTRY_INFO!B19))","v":"ABIDJAN 2"},{"$f":"IF(INTRO!$E$43=\"Non endémique\",\" \", IF(COUNTRY_INFO!C19=0,\" \",COUNTRY_INFO!C19))","v":"TREICHVILLE-MARCORY"},{"$f":"IF(INTRO!$E$43=\"Non endémique\", \"Non requis\", COUNTRY_INFO!Y19)","v":0},{"$f":"IF(OR(COUNTRY_INFO!R19=\"Inconnu\",COUNTRY_INFO!R19=\"Surveillance\",COUNTRY_INFO!R19=\"Non requis\",COUNTRY_INFO!R19=0),0,IF($D19<>0, COUNTRY_INFO!R19,0))","v":0},{"$f":"IF(OR(COUNTRY_INFO!S19=\"Inconnu\",COUNTRY_INFO!S19=\"Surveillance\",COUNTRY_INFO!S19=\"Non requis\",COUNTRY_INFO!S19=0),0,IF($D19<>0, COUNTRY_INFO!S19,0))","v":0},{"$f":"IF(OR(COUNTRY_INFO!T19=\"Inconnu\",COUNTRY_INFO!T19=\"Surveillance\",COUNTRY_INFO!T19=\"Non requis\",COUNTRY_INFO!T19=0),0,IF($D19<>0, COUNTRY_INFO!T19,0))","v":0},0,null,null,null,null,null,{"$f":"IF($I19<>\"Oui\",$F19*2,($F19+ROUND(J19*$F19/SUM(COUNTRY_INFO!$E19:$G19),0))*2)","v":0},{"$f":"IF($I19<>\"Oui\",$G19*3,($G19+ROUND(J19*$G19/SUM(COUNTRY_INFO!$E19:$G19),0))*3)","v":0},0,null,0]
[{"$f":"IF(INTRO!$E$43=\"Non endémique\",\" \", IF(COUNTRY_INFO!A20=0,\" \",COUNTRY_INFO!A20))","v":"Côte d'Ivoire"},{"$f":"IF(INTRO!$E$43=\"Non endémique\",\" \", IF(COUNTRY_INFO!B20=0,\" \",COUNTRY_INFO!B20))","v":"AGNEBY-TIASSA"},{"$f":"IF(INTRO!$E$43=\"Non endémique\",\" \", IF(COUNTRY_INFO!C20=0,\" \",COUNTRY_INFO!C20))","v":"AGBOVILLE"},{"$f":"IF(INTRO!$E$43=\"Non endémique\", \"Non requis\", COUNTRY_INFO!Y20)","v":0},{"$f":"IF(OR(COUNTRY_INFO!R20=\"Inconnu\",COUNTRY_INFO!R20=\"Surveillance\",COUNTRY_INFO!R20=\"Non requis\",COUNTRY_INFO!R20=0),0,IF($D20<>0, COUNTRY_INFO!R20,0))","v":0},{"$f":"IF(OR(COUNTRY_INFO!S20=\"Inconnu\",COUNTRY_INFO!S20=\"Surveillance\",COUNTRY_INFO!S20=\"Non requis\",COUNTRY_INFO!S20=0),0,IF($D20<>0, COUNTRY_INFO!S20,0))","v":0},{"$f":"IF(OR(COUNTRY_INFO!T20=\"Inconnu\",COUNTRY_INFO!T20=\"Surveillance\",COUNTRY_INFO!T20=\"Non requis\",COUNTRY_INFO!T20=0),0,IF($D20<>0, COUNTRY_INFO!T20,0))","v":0},0,null,null,null,null,null,{"$f":"IF($I20<>\"Oui\",$F20*2,($F20+ROUND(J20*$F20/SUM(COUNTRY_INFO!$E20:$G20),0))*2)","v":0},{"$f":"IF($I20<>\"Oui\",$G20*3,($G20+ROUND(J20*$G20/SUM(COUNTRY_INFO!$E20:$G20),0))*3)","v":0},0,null,0]
[{"$f":"IF(INTRO!$E$43=\"Non endémique\",\" \", IF(COUNTRY_INFO!A21=0,\" \",COUNTRY_INFO!A21))","v":"Côte d'Ivoire"},{"$f":"IF(INTRO!$E$43=\"Non endémique\",\" \", IF(COUNTRY_INFO!B21=0,\" \",COUNTRY_INFO!B21))","v":"AGNEBY-TIASSA"},{"$f":"IF(INTRO!$E$43=\"Non endémique\",\" \", IF(COUNTRY_INFO!C21=0,\" \",COUNTRY_INFO!C21))","v":"SIKENSI"},{"$f":"IF(INTRO!$E$43=\"Non endémique\", \"Non requis\", COUNTRY_INFO!Y21)","v":1},{"$f":"IF(OR(COUNTRY_INFO!R21=\"Inconnu\",COUNTRY_INFO!R21=\"Surveillance\",COUNTRY_INFO!R21=\"Non requis\",COUNTRY_INFO!R21=0),0,IF($D21<>0, COUNTRY_INFO!R21,0))","v":9335},{"$f":"IF(OR(COUNTRY_INFO!S21=\"Inconnu\",COUNTRY_INFO!S21=\"Surveillance\",COUNTRY_INFO!S21=\"Non requis\",COUNTRY_INFO!S21=0),0,IF($D21<>0, COUNTRY_INFO!S21,0))","v":2423},{"$f":"IF(OR(COUNTRY_INFO!T21=\"Inconnu\",COUNTRY_INFO!T21=\"Surveillance\",COUNTRY_INFO!T21=\"Non requis\",COUNTRY_INFO!T21=0),0,IF($D21<>0, COUNTRY_INFO!T21,0))","v":57237},68995,null,null,null,null,null,{"$f":"IF($I21<>\"Oui\",$F21*2,($F21+ROUND(J21*$F21/SUM(COUNTRY_INFO!$E21:$G21),0))*2)","v":4846},{"$f":"IF($I21<>\"Oui\",$G21*3,($G21+ROUND(J21*$G21/SUM(COUNTRY_INFO!$E21:$G21),0))*3)","v":171711},176557,null,176557]
[{"$f":"IF(INTRO!$E$43=\"Non endémique\",\" \", IF(COUNTRY_INFO!A22=0,\" \",COUNTRY_INFO!A22))","v":"Côte d'Ivoire"},{"$f":"IF(INTRO!$E$43=\"Non endémique\",\" \", IF(COUNTRY_INFO!B22=0,\" \",COUNTRY_INFO!B22))","v":"AGNEBY-TIASSA"},{"$f":"IF(INTRO!$E$43=\"Non endémique\",\" \", IF(COUNTRY_INFO!C22=0,\" \",COUNTRY_INFO!C22))","v":"TIASSALE"},{"$f":"IF(INTRO!$E$43=\"Non endémique\", \"Non requis\", COUNTRY_INFO!Y22)","v":1},{"$f":"IF(OR(COUNTRY_INFO!R22=\"Inconnu\",COUNTRY_INFO!R22=\"Surveillance\",COUNTRY_INFO!R22=\"Non requis\",COUNTRY_INFO!R22=0),0,IF($D22<>0, COUNTRY_INFO!R22,0))","v":28121},{"$f":"IF(OR(COUNTRY_INFO!S22=\"Inconnu\",COUNTRY_INFO!S22=\"Surveillance\",COUNTRY_INFO!S22=\"Non requis\",COUNTRY_INFO!S22=0),0,IF($D22<>0, COUNTRY_INFO!S22,0))","v":75592},{"$f":"IF(OR(COUNTRY_INFO!T22=\"Inconnu\",COUNTRY_INFO!T22=\"Surveillance\",COUNTRY_INFO!T22=\"Non requis\",COUNTRY_INFO!T22=0),0,IF($D22<>0, COUNTRY_INFO!T22,0))","v":172431},276144,null,null,null,null,null,{"$f":"IF($I22<>\"Oui\",$F22*2,($F22+ROUND(J22*$F22/SUM(COUNTRY_INFO!$E22:$G22),0))*2)","v":151184},{"$f":"IF($I22<>\"Oui\",$G22*3,($G22+ROUND(J22*$G22/SUM(COUNTRY_INFO!$E22:$G22),0))*3)","v":517293},668477,null,668477]
[{"$f":"IF(INTRO!$E$43=\"Non endémique\",\" \", IF(COUNTRY_INFO!A23=0,\" \",COUNTRY_INFO!A23))","v":"Côte d'Ivoire"},{"$f":"IF(INTRO!$E$43=\"Non endémique\",\" \", IF(COUNTRY_INFO!B23=0,\" \",COUNTRY_INFO!B23))","v":"BAFING"},{"$f":"IF(INTRO!$E$43=\"Non endémique\",\" \", IF(COUNTRY_INFO!C23=0,\" \",COUNTRY_INFO!C23))","v":"KORO"},{"$f":"IF(INTRO!$E$43=\"Non endémique\", \"Non requis\", COUNTRY_INFO!Y23)","v":1},{"$f":"IF(OR(COUNTRY_INFO!R23=\"Inconnu\",COUNTRY_INFO!R23=\"Surveillance\",COUNTRY_INFO!R23=\"Non requis\",COUNTRY_INFO!R23=0),0,IF($D23<>0, COUNTRY_INFO!R23,0))","v":7326},{"$f":"IF(OR(COUNTRY_INFO!S23=\"Inconnu\",COUNTRY_INFO!S23=\"Surveillance\",COUNTRY_INFO!S23=\"Non requis\",COUNTRY_INFO!S23=0),0,IF($D23<>0, COUNTRY_INFO!S23,0))","v":19694},{"$f":"IF(OR(COUNTRY_INFO!T23=\"Inconnu\",COUNTRY_INFO!T23=\"Surveillance\",COUNTRY_INFO!T23=\"Non requis\",COUNTRY_INFO!T23=0),0,IF($D23<>0, COUNTRY_INFO!T23,0))","v":44923},71943,null,null,null,null,null,{"$f":"IF($I23<>\"Oui\",$F23*2,($F23+ROUND(J23*$F23/SUM(COUNTRY_INFO!$E23:$G23),0))*2)","v":39388},{"$f":"IF($I23<>\"Oui\",$G23*3,($G23+ROUND(J23*$G23/SUM(COUNTRY_INFO!$E23:$G23),0))*3)","v":134769},174157,null,174157]
[{"$f":"IF(INTRO!$E$43=\"Non endémique\",\" \", IF(COUNTRY_INFO!A24=0,\" \",COUNTRY_INFO!A24))","v":"Côte d'Ivoire"},{"$f":"IF(INTRO!$E$43=\"Non endémique\",\" \", IF(COUNTRY_INFO!B24=0,\" \",COUNTRY_INFO!B24))","v":"BAFING"},{"$f":"IF(INTRO!$E$43=\"Non endémique\",\" \", IF(COUNTRY_INFO!C24=0,\" \",COUNTRY_INFO!C24))","v":"OUANINOU"},{"$f":"IF(INTRO!$E$43=\"Non endémique\", \"Non requis\", COUNTRY_INFO!Y24)","v":1},{"$f":"IF(OR(COUNTRY_INFO!R24=\"Inconnu\",COUNTRY_INFO!R24=\"Surveillance\",COUNTRY_INFO!R24=\"Non requis\",COUNTRY_INFO!R24=0),0,IF($D24<>0, COUNTRY_INFO!R24,0))","v":6039},{"$f":"IF(OR(COUNTRY_INFO!S24=\"Inconnu\",COUNTRY_INFO!S24=\"Surveillance\",COUNTRY_INFO!S24=\"Non requis\",COUNTRY_INFO!S24=0),0,IF($D24<>0, COUNTRY_INFO!S24,0))","v":15101},{"$f":"IF(OR(COUNTRY_INFO!T24=\"Inconnu\",COUNTRY_INFO!T24=\"Surveillance\",COUNTRY_INFO!T24=\"Non requis\",COUNTRY_INFO!T24=0),0,IF($D24<>0, COUNTRY_INFO!T24,0))","v":37029},58169,null,null,null,null,null,{"$f":"IF($I24<>\"Oui\",$F24*2,($F24+ROUND(J24*$F24/SUM(COUNTRY_INFO!$E24:$G24),0))*2)","v":30202},{"$f":"IF($I24<>\"Oui\",$G24*3,($G24+ROUND(J24*$G24/SUM(COUNTRY_INFO!$E24:$G24),0))*3)","v":111087},141289,null,141289]
[{"$f":"IF(INTRO!$E$43=\"Non endémique\",\" \", IF(COUNTRY_INFO!A25=0,\" \",COUNTRY_INFO!A25))","v":"Côte d'Ivoire"},{"$f":"IF(INTRO!$E$43=\"Non endémique\",\" \", IF(COUNTRY_INFO!B25=0,\" \",COUNTRY_INFO!B25))","v":"BAFING"},{"$f":"IF(INTRO!$E$43=\"Non endémique\",\" \", IF(COUNTRY_INFO!C25=0,\" \",COUNTRY_INFO!C25))","v":"TOUBA"},{"$f":"IF(INTRO!$E$43=\"Non endémique\", \"Non requis\", COUNTRY_INFO!Y25)","v":1},{"$f":"IF(OR(COUNTRY_INFO!R25=\"Inconnu\",COUNTRY_INFO!R25=\"Surveillance\",COUNTRY_INFO!R25=\"Non requis\",COUNTRY_INFO!R25=0),0,IF($D25<>0, COUNTRY_INFO!R25,0))","v":9284},{"$f":"IF(OR(COUNTRY_INFO!S25=\"Inconnu\",COUNTRY_INFO!S25=\"Surveillance\",COUNTRY_INFO!S25=\"Non requis\",COUNTRY_INFO!S25=0),0,IF($D25<>0, COUNTRY_INFO!S25,0))","v":26086},{"$f":"IF(OR(COUNTRY_INFO!T25=\"Inconnu\",COUNTRY_INFO!T25=\"Surveillance\",COUNTRY_INFO!T25=\"Non requis\",COUNTRY_INFO!T25=0),0,IF($D25<>0, COUNTRY_INFO!T25,0))","v":56928},92298,null,null,null,null,null,{"$f":"IF($I25<>\"Oui\",$F25*2,($F25+ROUND(J25*$F25/SUM(COUNTRY_INFO!$E25:$G25),0))*2)","v":52172},{"$f":"IF($I25<>\"Oui\",$G25*3,($G25+ROUND(J25*$G25/SUM(COUNTRY_INFO!$E25:$G25),0))*3)","v":170784},222956,null,222956]
[{"$f":"IF(INTRO!$E$43=\"Non endémique\",\" \", IF(COUNTRY_INFO!A26=0,\" \",COUNTRY_INFO!A26))","v":"Côte d'Ivoire"},{"$f":"IF(INTRO!$E$43=\"Non endémique\",\" \", IF(COUNTRY_INFO!B26=0,\" \",COUNTRY_INFO!B26))","v":"BAGOUE"},{"$f":"IF(INTRO!$E$43=\"Non endémique\",\" \", IF(COUNTRY_INFO!C26=0,\" \",COUNTRY_INFO!C26))","v":"BOUNDIALI"},{"$f":"IF(INTRO!$E$43=\"Non endémique\", \"Non requis\", COUNTRY_INFO!Y26)","v":1},{"$f":"IF(OR(COUNTRY_INFO!R26=\"Inconnu\",COUNTRY_INFO!R26=\"Surveillance\",COUNTRY_INFO!R26=\"Non requis\",COUNTRY_INFO!R26=0),0,IF($D26<>0, COUNTRY_INFO!R26,0))","v":0},{"$f":"IF(OR(COUNTRY_INFO!S26=\"Inconnu\",COUNTRY_INFO!S26=\"Surveillance\",COUNTRY_INFO!S26=\"Non requis\",COUNTRY_INFO!S26=0),0,IF($D26<>0, COUNTRY_INFO!S26,0))","v":34409},{"$f":"IF(OR(COUNTRY_INFO!T26=\"Inconnu\",COUNTRY_INFO!T26=\"Surveillance\",COUNTRY_INFO!T26=\"Non requis\",COUNTRY_INFO!T26=0),0,IF($D26<>0, COUNTRY_INFO!T26,0))","v":0},34409,null,null,null,null,null,{"$f":"IF($I26<>\"Oui\",$F26*2,($F26+ROUND(J26*$F26/SUM(COUNTRY_INFO!$E26:$G26),0))*2)","v":68818},{"$f":"IF($I26<>\"Oui\",$G26*3,($G26+ROUND(J26*$G26/SUM(COUNTRY_INFO!$E26:$G26),0))*3)","v":0},68818,null,68818]
[{"$f":"IF(INTRO!$E$43=\"Non endémique\",\" \", IF(COUNTRY_INFO!A27=0,\" \",COUNTRY_INFO!A27))","v":"Côte d'Ivoire"},{"$f":"IF(INTRO!$E$43=\"Non endémique\",\" \", IF(COUNTRY_INFO!B27=0,\" \",COUNTRY_INFO!B27))","v":"BAGOUE"},{"$f":"IF(INTRO!$E$43=\"Non endémique\",\" \", IF(COUNTRY_INFO!C27=0,\" \",COUNTRY_INFO!C27))","v":"KOUTO"},{"$f":"IF(INTRO!$E$43=\"Non endémique\", \"Non requis\", COUNTRY_INFO!Y27)","v":1},{"$f":"IF(OR(COUNTRY_INFO!R27=\"Inconnu\",COUNTRY_INFO!R27=\"Surveillance\",COUNTRY_INFO!R27=\"Non requis\",COUNTRY_INFO!R27=0),0,IF($D27<>0, COUNTRY_INFO!R27,0))","v":0},{"$f":"IF(OR(COUNTRY_INFO!S27=\"Inconnu\",COUNTRY_INFO!S27=\"Surveillance\",COUNTRY_INFO!S27=\"Non requis\",COUNTRY_INFO!S27=0),0,IF($D27<>0, COUNTRY_INFO!S27,0))","v":35289},{"$f":"IF(OR(COUNTRY_INFO!T27=\"Inconnu\",COUNTRY_INFO!T27=\"Surveillance\",COUNTRY_INFO!T27=\"Non requis\",COUNTRY_INFO!T27=0),0,IF($D27<>0, COUNTRY_INFO!T27,0))","v":0},35289,null,null,null,null,null,{"$f":"IF($I27<>\"Oui\",$F27*2,($F27+ROUND(J27*$F27/SUM(COUNTRY_INFO!$E27:$G27),0))*2)","v":70578},{"$f":"IF($I27<>\"Oui\",$G27*3,($G27+ROUND(J27*$G27/SUM(COUNTRY_INFO!$E27:$G27),0))*3)","v":0},70578,null,70578]
[{"$f":"IF(INTRO!$E$43=\"Non endémique\",\" \", IF(COUNTRY_INFO!A28=0,\" \",COUNTRY_INFO!A28))","v":"Côte d'Ivoire"},{"$f":"IF(INTRO!$E$43=\"Non endémique\",\" \", IF(COUNTRY_INFO!B28=0,\" \",COUNTRY_INFO!B28))","v":"BAGOUE"},{"$f":"IF(INTRO!$E$43=\"Non endémique\",\" \", IF(COUNTRY_INFO!C28=0,\" \",COUNTRY_INFO!C28))","v":"TENGRELA"},{"$f":"IF(INTRO!$E$43=\"Non endémique\", \"Non requis\", COUNTRY_INFO!Y28)","v":1},{"$f":"IF(OR(COUNTRY_INFO!R28=\"Inconnu\",COUNTRY_INFO!R28=\"Surveillance\",COUNTRY_INFO!R28=\"Non requis\",COUNTRY_INFO!R28=0),0,IF($D28<>0, COUNTRY_INFO!R28,0))","v":0},{"$f":"IF(OR(COUNTRY_INFO!S28=\"Inconnu\",COUNTRY_INFO!S28=\"Surveillance\",COUNTRY_INFO!S28=\"Non requis\",COUNTRY_INFO!S28=0),0,IF($D28<>0, COUNTRY_INFO!S28,0))","v":31205},{"$f":"IF(OR(COUNTRY_INFO!T28=\"Inconnu\",COUNTRY_INFO!T28=\"Surveillance\",COUNTRY_INFO!T28=\"Non requis\",COUNTRY_INFO!T28=0),0,IF($D28<>0, COUNTRY_INFO!T28,0))","v":0},31205,null,null,null,null,null,{"$f":"IF($I28<>\"Oui\",$F28*2,($F28+ROUND(J28*$F28/SUM(COUNTRY_INFO!$E28:$G28),0))*2)","v":62410},{"$f":"IF($I28<>\"Oui\",$G28*3,($G28+ROUND(J28*$G28/SUM(COUNTRY_INFO!$E28:$G28),0))*3)","v":0},62410,null,62410]
[{"$f":"IF(INTRO!$E$43=\"Non endémique\",\" \", IF(COUNTRY_INFO!A29=0,\" \",COUNTRY_INFO!A29))","v":"Côte d'Ivoire"},{"$f":"IF(INTRO!$E$43=\"Non endémique\",\" \", IF(COUNTRY_INFO!B29=0,\" \",COUNTRY_INFO!B29))","v":"BELIER"},{"$f":"IF(INTRO!$E$43=\"Non endémique\",\" \", IF(COUNTRY_INFO!C29=0,\" \",COUNTRY_INFO!C29))","v":"DIDIEVI"},{"$f":"IF(INTRO!$E$43=\"Non endémique\", \"Non requis\", COUNTRY_INFO!Y29)","v":0},{"$f":"IF(OR(COUNTRY_INFO!R29=\"Inconnu\",COUNTRY_INFO!R29=\"Surveillance\",COUNTRY_INFO!R29=\"Non requis\",COUNTRY_INFO!R29=0),0,IF($D29<>0, COUNTRY_INFO!R29,0))","v":0},{"$f":"IF(OR(COUNTRY_INFO!S29=\"Inconnu\",COUNTRY_INFO!S29=\"Surveillance\",COUNTRY_INFO!S29=\"Non requis\",COUNTRY_INFO!S29=0),0,IF($D29<>0, COUNTRY_INFO!S29,0))","v":0},{"$f":"IF(OR(COUNTRY_INFO!T29=\"Inconnu\",COUNTRY_INFO!T29=\"Surveillance\",COUNTRY_INFO!T29=\"Non requis\",COUNTRY_INFO!T29=0),0,IF($D29<>0, COUNTRY_INFO!T29,0))","v":0},0,null,null,null,null,null,{"$f":"IF($I29<>\"Oui\",$F29*2,($F29+ROUND(J29*$F29/SUM(COUNTRY_INFO!$E29:$G29),0))*2)","v":0},{"$f":"IF($I29<>\"Oui\",$G29*3,($G29+ROUND(J29*$G29/SUM(COUNTRY_INFO!$E29:$G29),0))*3)","v":0},0,null,0]
[{"$f":"IF(INTRO!$E$43=\"Non endémique\",\" \", IF(COUNTRY_INFO!A30=0,\" \",COUNTRY_INFO!A30))","v":"Côte d'Ivoire"},{"$f":"IF(INTRO!$E$43=\"Non endémique\",\" \", IF(COUNTRY_INFO!B30=0,\" \",COUNTRY_INFO!B30))","v":"BELIER"},{"$f":"IF(INTRO!$E$43=\"Non endémique\",\" \", IF(COUNTRY_INFO!C30=0,\" \",COUNTRY_INFO!C30))","v":"TIEBISSOU"},{"$f":"IF(INTRO!$E$43=\"Non endémique\", \"Non requis\", COUNTRY_INFO!Y30)","v":1},{"$f":"IF(OR(COUNTRY_INFO!R30=\"Inconnu\",COUNTRY_INFO!R30=\"Surveillance\",COUNTRY_INFO!R30=\"Non requis\",COUNTRY_INFO!R30=0),0,IF($D30<>0, COUNTRY_INFO!R30,0))","v":11873},{"$f":"IF(OR(COUNTRY_INFO!S30=\"Inconnu\",COUNTRY_INFO!S30=\"Surveillance\",COUNTRY_INFO!S30=\"Non requis\",COUNTRY_INFO!S30=0),0,IF($D30<>0, COUNTRY_INFO!S30,0))","v":31149},{"$f":"IF(OR(COUNTRY_INFO!T30=\"Inconnu\",COUNTRY_INFO!T30=\"Surveillance\",COUNTRY_INFO!T30=\"Non requis\",COUNTRY_INFO!T30=0),0,IF($D30<>0, COUNTRY_INFO!T30,0))","v":72806},115828,null,null,null,null,null,{"$f":"IF($I30<>\"Oui\",$F30*2,($F30+ROUND(J30*$F30/SUM(COUNTRY_INFO!$E30:$G30),0))*2)","v":62298},{"$f":"IF($I30<>\"Oui\",$G30*3,($G30+ROUND(J30*$G30/SUM(COUNTRY_INFO!$E30:$G30),0))*3)","v":218418},280716,null,280716]
[{"$f":"IF(INTRO!$E$43=\"Non endémique\",\" \", IF(COUNTRY_INFO!A31=0,\" \",COUNTRY_INFO!A31))","v":"Côte d'Ivoire"},{"$f":"IF(INTRO!$E$43=\"Non endémique\",\" \", IF(COUNTRY_INFO!B31=0,\" \",COUNTRY_INFO!B31))","v":"BELIER"},{"$f":"IF(INTRO!$E$43=\"Non endémique\",\" \", IF(COUNTRY_INFO!C31=0,\" \",COUNTRY_INFO!C31))","v":"TOUMODI"},{"$f":"IF(INTRO!$E$43=\"Non endémique\", \"Non requis\", COUNTRY_INFO!Y31)","v":1},{"$f":"IF(OR(COUNTRY_INFO!R31=\"Inconnu\",COUNTRY_INFO!R31=\"Surveillance\",COUNTRY_INFO!R31=\"Non requis\",COUNTRY_INFO!R31=0),0,IF($D31<>0, COUNTRY_INFO!R31,0))","v":18560},{"$f":"IF(OR(COUNTRY_INFO!S31=\"Inconnu\",COUNTRY_INFO!S31=\"Surveillance\",COUNTRY_INFO!S31=\"Non requis\",COUNTRY_INFO!S31=0),0,IF($D31<>0, COUNTRY_INFO!S31,0))","v":2830},{"$f":"IF(OR(COUNTRY_INFO!T31=\"Inconnu\",COUNTRY_INFO!T31=\"Surveillance\",COUNTRY_INFO!T31=\"Non requis\",COUNTRY_INFO!T31=0),0,IF($D31<>0, COUNTRY_INFO!T31,0))","v":113806},135196,null,null,null,null,null,{"$f":"IF($I31<>\"Oui\",$F31*2,($F31+ROUND(J31*$F31/SUM(COUNTRY_INFO!$E31:$G31),0))*2)","v":5660},{"$f":"IF($I31<>\"Oui\",$G31*3,($G31+ROUND(J31*$G31/SUM(COUNTRY_INFO!$E31:$G31),0))*3)","v":341418},347078,null,347078]
[{"$f":"IF(INTRO!$E$43=\"Non endémique\",\" \", IF(COUNTRY_INFO!A32=0,\" \",COUNTRY_INFO!A32))","v":"Côte d'Ivoire"},{"$f":"IF(INTRO!$E$43=\"Non endémique\",\" \", IF(COUNTRY_INFO!B32=0,\" \",COUNTRY_INFO!B32))","v":"BELIER"},{"$f":"IF(INTRO!$E$43=\"Non endémique\",\" \", IF(COUNTRY_INFO!C32=0,\" \",COUNTRY_INFO!C32))","v":"YAMOUSSOUKRO"},{"$f":"IF(INTRO!$E$43=\"Non endémique\", \"Non requis\", COUNTRY_INFO!Y32)","v":1},{"$f":"IF(OR(COUNTRY_INFO!R32=\"Inconnu\",COUNTRY_INFO!R32=\"Surveillance\",COUNTRY_INFO!R32=\"Non requis\",COUNTRY_INFO!R32=0),0,IF($D32<>0, COUNTRY_INFO!R32,0))","v":42462},{"$f":"IF(OR(COUNTRY_INFO!S32=\"Inconnu\",COUNTRY_INFO!S32=\"Surveillance\",COUNTRY_INFO!S32=\"Non requis\",COUNTRY_INFO!S32=0),0,IF($D32<>0, COUNTRY_INFO!S32,0))","v":95461},{"$f":"IF(OR(COUNTRY_INFO!T32=\"Inconnu\",COUNTRY_INFO!T32=\"Surveillance\",COUNTRY_INFO!T32=\"Non requis\",COUNTRY_INFO!T32=0),0,IF($D32<>0, COUNTRY_INFO!T32,0))","v":260370},398293,null,null,null,null,null,{"$f":"IF($I32<>\"Oui\",$F32*2,($F32+ROUND(J32*$F32/SUM(COUNTRY_INFO!$E32:$G32),0))*2)","v":190922},{"$f":"IF($I32<>\"Oui\",$G32*3,($G32+ROUND(J32*$G32/SUM(COUNTRY_INFO!$E32:$G32),0))*3)","v":781110},972032,null,972032]
[{"$f":"IF(INTRO!$E$43=\"Non endémique\",\" \", IF(COUNTRY_INFO!A33=0,\" \",COUNTRY_INFO!A33))","v":"Côte d'Ivoire"},{"$f":"IF(INTRO!$E$43=\"Non endémique\",\" \", IF(COUNTRY_INFO!B33=0,\" \",COUNTRY_INFO!B33))","v":"BERE"},{"$f":"IF(INTRO!$E$43=\"Non endémique\",\" \", IF(COUNTRY_INFO!C33=0,\" \",COUNTRY_INFO!C33))","v":"DIANRA"},{"$f":"IF(INTRO!$E$43=\"Non endémique\", \"Non requis\", COUNTRY_INFO!Y33)","v":1},{"$f":"IF(OR(COUNTRY_INFO!R33=\"Inconnu\",COUNTRY_INFO!R33=\"Surveillance\",COUNTRY_INFO!R33=\"Non requis\",COUNTRY_INFO!R33=0),0,IF($D33<>0, COUNTRY_INFO!R33,0))","v":0},{"$f":"IF(OR(COUNTRY_INFO!S33=\"Inconnu\",COUNTRY_INFO!S33=\"Surveillance\",COUNTRY_INFO!S33=\"Non requis\",COUNTRY_INFO!S33=0),0,IF($D33<>0, COUNTRY_INFO!S33,0))","v":25655},{"$f":"IF(OR(COUNTRY_INFO!T33=\"Inconnu\",COUNTRY_INFO!T33=\"Surveillance\",COUNTRY_INFO!T33=\"Non requis\",COUNTRY_INFO!T33=0),0,IF($D33<>0, COUNTRY_INFO!T33,0))","v":0},25655,null,null,null,null,null,{"$f":"IF($I33<>\"Oui\",$F33*2,($F33+ROUND(J33*$F33/SUM(COUNTRY_INFO!$E33:$G33),0))*2)","v":51310},{"$f":"IF($I33<>\"Oui\",$G33*3,($G33+ROUND(J33*$G33/SUM(COUNTRY_INFO!$E33:$G33),0))*3)","v":0},51310,null,51310]
[{"$f":"IF(INTRO!$E$43=\"Non endémique\",\" \", IF(COUNTRY_INFO!A34=0,\" \",COUNTRY_INFO!A34))","v":"Côte d'Ivoire"},{"$f":"IF(INTRO!$E$43=\"Non endémique\",\" \", IF(COUNTRY_INFO!B34=0,\" \",COUNTRY_INFO!B34))","v":"BERE"},{"$f":"IF(INTRO!$E$43=\"Non endémique\",\" \", IF(COUNTRY_INFO!C34=0,\" \",COUNTRY_INFO!C34))","v":"KOUNAHIRI"},{"$f":"IF(INTRO!$E$43=\"Non endémique\", \"Non requis\", COUNTRY_INFO!Y34)","v":1},{"$f":"IF(OR(COUNTRY_INFO!R34=\"Inconnu\",COUNTRY_INFO!R34=\"Surveillance\",COUNTRY_INFO!R34=\"Non requis\",COUNTRY_INFO!R34=0),0,IF($D34<>0, COUNTRY_INFO!R34,0))","v":9403},{"$f":"IF(OR(COUNTRY_INFO!S34=\"Inconnu\",COUNTRY_INFO!S34=\"Surveillance\",COUNTRY_INFO!S34=\"Non requis\",COUNTRY_INFO!S34=0),0,IF($D34<>0, COUNTRY_INFO!S34,0))","v":20985},{"$f":"IF(OR(COUNTRY_INFO!T34=\"Inconnu\",COUNTRY_INFO!T34=\"Surveillance\",COUNTRY_INFO!T34=\"Non requis\",COUNTRY_INFO!T34=0),0,IF($D34<>0, COUNTRY_INFO!T34,0))","v":57654},88042,null,null,null,null,null,{"$f":"IF($I34<>\"Oui\",$F34*2,($F34+ROUND(J34*$F34/SUM(COUNTRY_INFO!$E34:$G34),0))*2)","v":41970},{"$f":"IF($I34<>\"Oui\",$G34*3,($G34+ROUND(J34*$G34/SUM(COUNTRY_INFO!$E34:$G34),0))*3)","v":172962},214932,null,214932]
[{"$f":"IF(INTRO!$E$43=\"Non endémique\",\" \", IF(COUNTRY_INFO!A35=0,\" \",COUNTRY_INFO!A35))","v":"Côte d'Ivoire"},{"$f":"IF(INTRO!$E$43=\"Non endémique\",\" \", IF(COUNTRY_INFO!B35=0,\" \",COUNTRY_INFO!B35))","v":"BERE"},{"$f":"IF(INTRO!$E$43=\"Non endémique\",\" \", IF(COUNTRY_INFO!C35=0,\" \",COUNTRY_INFO!C35))","v":"MANKONO"},{"$f":"IF(INTRO!$E$43=\"Non endémique\", \"Non requis\", COUNTRY_INFO!Y35)","v":1},{"$f":"IF(OR(COUNTRY_INFO!R35=\"Inconnu\",COUNTRY_INFO!R35=\"Surveillance\",COUNTRY_INFO!R35=\"Non requis\",COUNTRY_INFO!R35=0),0,IF($D35<>0, COUNTRY_INFO!R35,0))","v":0},{"$f":"IF(OR(COUNTRY_INFO!S35=\"Inconnu\",COUNTRY_INFO!S35=\"Surveillance\",COUNTRY_INFO!S35=\"Non requis\",COUNTRY_INFO!S35=0),0,IF($D35<>0, COUNTRY_INFO!S35,0))","v":59856},{"$f":"IF(OR(COUNTRY_INFO!T35=\"Inconnu\",COUNTRY_INFO!T35=\"Surveillance\",COUNTRY_INFO!T35=\"Non requis\",COUNTRY_INFO!T35=0),0,IF($D35<>0, COUNTRY_INFO!T35,0))","v":0},59856,null,null,null,null,null,{"$f":"IF($I35<>\"Oui\",$F35*2,($F35+ROUND(J35*$F35/SUM(COUNTRY_INFO!$E35:$G35),0))*2)","v":119712},{"$f":"IF($I35<>\"Oui\",$G35*3,($G35+ROUND(J35*$G35/SUM(COUNTRY_INFO!$E35:$G35),0))*3)","v":0},119712,null,119712]
[{"$f":"IF(INTRO!$E$43=\"Non endémique\",\" \", IF(COUNTRY_INFO!A36=0,\" \",COUNTRY_INFO!A36))","v":"Côte d'Ivoire"},{"$f":"IF(INTRO!$E$43=\"Non endémique\",\" \", IF(COUNTRY_INFO!B36=0,\" \",COUNTRY_INFO!B36))","v":"BOUKANI"},{"$f":"IF(INTRO!$E$43=\"Non endémique\",\" \", IF(COUNTRY_INFO!C36=0,\" \",COUNTRY_INFO!C36))","v":"BOUNA"},{"$f":"IF(INTRO!$E$43=\"Non endémique\", \"Non requis\", COUNTRY_INFO!Y36)","v":1},{"$f":"IF(OR(COUNTRY_INFO!R36=\"Inconnu\",COUNTRY_INFO!R36=\"Surveillance\",COUNTRY_INFO!R36=\"Non requis\",COUNTRY_INFO!R36=0),0,IF($D36<>0, COUNTRY_INFO!R36,0))","v":13764},{"$f":"IF(OR(COUNTRY_INFO!S36=\"Inconnu\",COUNTRY_INFO!S36=\"Surveillance\",COUNTRY_INFO!S36=\"Non requis\",COUNTRY_INFO!S36=0),0,IF($D36<>0, COUNTRY_INFO!S36,0))","v":34760},{"$f":"IF(OR(COUNTRY_INFO!T36=\"Inconnu\",COUNTRY_INFO!T36=\"Surveillance\",COUNTRY_INFO!T36=\"Non requis\",COUNTRY_INFO!T36=0),0,IF($D36<>0, COUNTRY_INFO!T36,0))","v":84397},132921,null,null,null,null,null,{"$f":"IF($I36<>\"Oui\",$F36*2,($F36+ROUND(J36*$F36/SUM(COUNTRY_INFO!$E36:$G36),0))*2)","v":69520},{"$f":"IF($I36<>\"Oui\",$G36*3,($G36+ROUND(J36*$G36/SUM(COUNTRY_INFO!$E36:$G36),0))*3)","v":253191},322711,null,322711]
[{"$f":"IF(INTRO!$E$43=\"Non endémique\",\" \", IF(COUNTRY_INFO!A37=0,\" \",COUNTRY_INFO!A37))","v":"Côte d'Ivoire"},{"$f":"IF(INTRO!$E$43=\"Non endémique\",\" \", IF(COUNTRY_INFO!B37=0,\" \",COUNTRY_INFO!B37))","v":"BOUKANI"},{"$f":"IF(INTRO!$E$43=\"Non endémique\",\" \", IF(COUNTRY_INFO!C37=0,\" \",COUNTRY_INFO!C37))","v":"DOROPO"},{"$f":"IF(INTRO!$E$43=\"Non endémique\", \"Non requis\", COUNTRY_INFO!Y37)","v":1},{"$f":"IF(OR(COUNTRY_INFO!R37=\"Inconnu\",COUNTRY_INFO!R37=\"Surveillance\",COUNTRY_INFO!R37=\"Non requis\",COUNTRY_INFO!R37=0),0,IF($D37<>0, COUNTRY_INFO!R37,0))","v":8005},{"$f":"IF(OR(COUNTRY_INFO!S37=\"Inconnu\",COUNTRY_INFO!S37=\"Surveillance\",COUNTRY_INFO!S37=\"Non requis\",COUNTRY_INFO!S37=0),0,IF($D37<>0, COUNTRY_INFO!S37,0))","v":20904},{"$f":"IF(OR(COUNTRY_INFO!T37=\"Inconnu\",COUNTRY_INFO!T37=\"Surveillance\",COUNTRY_INFO!T37=\"Non requis\",COUNTRY_INFO!T37=0),0,IF($D37<>0, COUNTRY_INFO!T37,0))","v":49084},77993,null,null,null,null,null,{"$f":"IF($I37<>\"Oui\",$F37*2,($F37+ROUND(J37*$F37/SUM(COUNTRY_INFO!$E37:$G37),0))*2)","v":41808},{"$f":"IF($I37<>\"Oui\",$G37*3,($G37+ROUND(J37*$G37/SUM(COUNTRY_INFO!$E37:$G37),0))*3)","v":147252},189060,null,189060]
[{"$f":"IF(INTRO!$E$43=\"Non endémique\",\" \", IF(COUNTRY_INFO!A38=0,\" \",COUNTRY_INFO!A38))","v":"Côte d'Ivoire"},{"$f":"IF(INTRO!$E$43=\"Non endémique\",\" \", IF(COUNTRY_INFO!B38=0,\" \",COUNTRY_INFO!B38))","v":"BOUKANI"},{"$f":"IF(INTRO!$E$43=\"Non endémique\",\" \", IF(COUNTRY_INFO!C38=0,\" \",COUNTRY_INFO!C38))","v":"NASSIAN"},{"$f":"IF(INTRO!$E$43=\"Non endémique\", \"Non requis\", COUNTRY_INFO!Y38)","v":0},{"$f":"IF(OR(COUNTRY_INFO!R38=\"Inconnu\",COUNTRY_INFO!R38=\"Surveillance\",COUNTRY_INFO!R38=\"Non requis\",COUNTRY_INFO!R38=0),0,IF($D38<>0, COUNTRY_INFO!R38,0))","v":0},{"$f":"IF(OR(COUNTRY_INFO!S38=\"Inconnu\",COUNTRY_INFO!S38=\"Surveillance\",COUNTRY_INFO!S38=\"Non requis\",COUNTRY_INFO!S38=0),0,IF($D38<>0, COUNTRY_INFO!S38,0))","v":0},{"$f":"IF(OR(COUNTRY_INFO!T38=\"Inconnu\",COUNTRY_INFO!T38=\"Surveillance\",COUNTRY_INFO!T38=\"Non requis\",COUNTRY_INFO!T38=0),0,IF($D38<>0, COUNTRY_INFO!T38,0))","v":0},0,null,null,null,null,null,{"$f":"IF($I38<>\"Oui\",$F38*2,($F38+ROUND(J38*$F38/SUM(COUNTRY_INFO!$E38:$G38),0))*2)","v":0},{"$f":"IF($I38<>\"Oui\",$G38*3,($G38+ROUND(J38*$G38/SUM(COUNTRY_INFO!$E38:$G38),0))*3)","v":0},0,null,0]
[{"$f":"IF(INTRO!$E$43=\"Non endémique\",\" \", IF(COUNTRY_INFO!A39=0,\" \",COUNTRY_INFO!A39))","v":"Côte d'Ivoire"},{"$f":"IF(INTRO!$E$43=\"Non endémique\",\" \", IF(COUNTRY_INFO!B39=0,\" \",COUNTRY_INFO!B39))","v":"BOUKANI"},{"$f":"IF(INTRO!$E$43=\"Non endémique\",\" \", IF(COUNTRY_INFO!C39=0,\" \",COUNTRY_INFO!C39))","v":"TEHINI"},{"$f":"IF(INTRO!$E$43=\"Non endémique\", \"Non requis\", COUNTRY_INFO!Y39)","v":1},{"$f":"IF(OR(COUNTRY_INFO!R39=\"Inconnu\",COUNTRY_INFO!R39=\"Surveillance\",COUNTRY_INFO!R39=\"Non requis\",COUNTRY_INFO!R39=0),0,IF($D39<>0, COUNTRY_INFO!R39,0))","v":4965},{"$f":"IF(OR(COUNTRY_INFO!S39=\"Inconnu\",COUNTRY_INFO!S39=\"Surveillance\",COUNTRY_INFO!S39=\"Non requis\",COUNTRY_INFO!S39=0),0,IF($D39<>0, COUNTRY_INFO!S39,0))","v":13733},{"$f":"IF(OR(COUNTRY_INFO!T39=\"Inconnu\",COUNTRY_INFO!T39=\"Surveillance\",COUNTRY_INFO!T39=\"Non requis\",COUNTRY_INFO!T39=0),0,IF($D39<>0, COUNTRY_INFO!T39,0))","v":30446},49144,null,null,null,null,null,{"$f":"IF($I39<>\"Oui\",$F39*2,($F39+ROUND(J39*$F39/SUM(COUNTRY_INFO!$E39:$G39),0))*2)","v":27466},{"$f":"IF($I39<>\"Oui\",$G39*3,($G39+ROUND(J39*$G39/SUM(COUNTRY_INFO!$E39:$G39),0))*3)","v":91338},118804,null,118804]
[{"$f":"IF(INTRO!$E$43=\"Non endémique\",\" \", IF(COUNTRY_INFO!A40=0,\" \",COUNTRY_INFO!A40))","v":"Côte d'Ivoire"},{"$f":"IF(INTRO!$E$43=\"Non endémique\",\" \", IF(COUNTRY_INFO!B40=0,\" \",COUNTRY_INFO!B40))","v":"CAVALLY"},{"$f":"IF(INTRO!$E$43=\"Non endémique\",\" \", IF(COUNTRY_INFO!C40=0,\" \",COUNTRY_INFO!C40))","v":"BLOLEQUIN"},{"$f":"IF(INTRO!$E$43=\"Non endémique\", \"Non requis\", COUNTRY_INFO!Y40)","v":1},{"$f":"IF(OR(COUNTRY_INFO!R40=\"Inconnu\",COUNTRY_INFO!R40=\"Surveillance\",COUNTRY_INFO!R40=\"Non requis\",COUNTRY_INFO!R40=0),0,IF($D40<>0, COUNTRY_INFO!R40,0))","v":13583},{"$f":"IF(OR(COUNTRY_INFO!S40=\"Inconnu\",COUNTRY_INFO!S40=\"Surveillance\",COUNTRY_INFO!S40=\"Non requis\",COUNTRY_INFO!S40=0),0,IF($D40<>0, COUNTRY_INFO!S40,0))","v":36512},{"$f":"IF(OR(COUNTRY_INFO!T40=\"Inconnu\",COUNTRY_INFO!T40=\"Surveillance\",COUNTRY_INFO!T40=\"Non requis\",COUNTRY_INFO!T40=0),0,IF($D40<>0, COUNTRY_INFO!T40,0))","v":83286},133381,null,null,null,null,null,{"$f":"IF($I40<>\"Oui\",$F40*2,($F40+ROUND(J40*$F40/SUM(COUNTRY_INFO!$E40:$G40),0))*2)","v":73024},{"$f":"IF($I40<>\"Oui\",$G40*3,($G40+ROUND(J40*$G40/SUM(COUNTRY_INFO!$E40:$G40),0))*3)","v":249858},322882,null,322882]
[{"$f":"IF(INTRO!$E$43=\"Non endémique\",\" \", IF(COUNTRY_INFO!A41=0,\" \",COUNTRY_INFO!A41))","v":"Côte d'Ivoire"},{"$f":"IF(INTRO!$E$43=\"Non endémique\",\" \", IF(COUNTRY_INFO!B41=0,\" \",COUNTRY_INFO!B41))","v":"CAVALLY"},{"$f":"IF(INTRO!$E$43=\"Non endémique\",\" \", IF(COUNTRY_INFO!C41=0,\" \",COUNTRY_INFO!C41))","v":"GUIGLO"},{"$f":"IF(INTRO!$E$43=\"Non endémique\", \"Non requis\", COUNTRY_INFO!Y41)","v":0},{"$f":"IF(OR(COUNTRY_INFO!R41=\"Inconnu\",COUNTRY_INFO!R41=\"Surveillance\",COUNTRY_INFO!R41=\"Non requis\",COUNTRY_INFO!R41=0),0,IF($D41<>0, COUNTRY_INFO!R41,0))","v":0},{"$f":"IF(OR(COUNTRY_INFO!S41=\"Inconnu\",COUNTRY_INFO!S41=\"Surveillance\",COUNTRY_INFO!S41=\"Non requis\",COUNTRY_INFO!S41=0),0,IF($D41<>0, COUNTRY_INFO!S41,0))","v":0},{"$f":"IF(OR(COUNTRY_INFO!T41=\"Inconnu\",COUNTRY_INFO!T41=\"Surveillance\",COUNTRY_INFO!T41=\"Non requis\",COUNTRY_INFO!T41=0),0,IF($D41<>0, COUNTRY_INFO!T41,0))","v":0},0,null,null,null,null,null,{"$f":"IF($I41<>\"Oui\",$F41*2,($F41+ROUND(J41*$F41/SUM(COUNTRY_INFO!$E41:$G41),0))*2)","v":0},{"$f":"IF($I41<>\"Oui\",$G41*3,($G41+ROUND(J41*$G41/SUM(COUNTRY_INFO!$E41:$G41),0))*3)","v":0},0,null,0]
[{"$f":"IF(INTRO!$E$43=\"Non endémique\",\" \", IF(COUNTRY_INFO!A42=0,\" \",COUNTRY_INFO!A42))","v":"Côte d'Ivoire"},{"$f":"IF(INTRO!$E$43=\"Non endémique\",\" \", IF(COUNTRY_INFO!B42=0,\" \",COUNTRY_INFO!B42))","v":"CAVALLY"},{"$f":"IF(INTRO!$E$43=\"Non endémique\",\" \", IF(COUNTRY_INFO!C42=0,\" \",COUNTRY_INFO!C42))","v":"TAI"},{"$f":"IF(INTRO!$E$43=\"Non endémique\", \"Non requis\", COUNTRY_INFO!Y42)","v":0},{"$f":"IF(OR(COUNTRY_INFO!R42=\"Inconnu\",COUNTRY_INFO!R42=\"Surveillance\",COUNTRY_INFO!R42=\"Non requis\",COUNTRY_INFO!R42=0),0,IF($D42<>0, COUNTRY_INFO!R42,0))","v":0},{"$f":"IF(OR(COUNTRY_INFO!S42=\"Inconnu\",COUNTRY_INFO!S42=\"Surveillance\",COUNTRY_INFO!S42=\"Non requis\",COUNTRY_INFO!S42=0),0,IF($D42<>0, COUNTRY_INFO!S42,0))","v":0},{"$f":"IF(OR(COUNTRY_INFO!T42=\"Inconnu\",COUNTRY_INFO!T42=\"Surveillance\",COUNTRY_INFO!T42=\"Non requis\",COUNTRY_INFO!T42=0),0,IF($D42<>0, COUNTRY_INFO!T42,0))","v":0},0,null,null,null,null,null,{"$f":"IF($I42<>\"Oui\",$F42*2,($F42+ROUND(J42*$F42/SUM(COUNTRY_INFO!$E42:$G42),0))*2)","v":0},{"$f":"IF($I42<>\"Oui\",$G42*3,($G42+ROUND(J42*$G42/SUM(COUNTRY_INFO!$E42:$G42),0))*3)","v":0},0,null,0]
[{"$f":"IF(INTRO!$E$43=\"Non endémique\",\" \", IF(COUNTRY_INFO!A43=0,\" \",COUNTRY_INFO!A43))","v":"Côte d'Ivoire"},{"$f":"IF(INTRO!$E$43=\"Non endémique\",\" \", IF(COUNTRY_INFO!B43=0,\" \",COUNTRY_INFO!B43))","v":"CAVALLY"},{"$f":"IF(INTRO!$E$43=\"Non endémique\",\" \", IF(COUNTRY_INFO!C43=0,\" \",COUNTRY_INFO!C43))","v":"TOULEPLEU"},{"$f":"IF(INTRO!$E$43=\"Non endémique\", \"Non requis\", COUNTRY_INFO!Y43)","v":1},{"$f":"IF(OR(COUNTRY_INFO!R43=\"Inconnu\",COUNTRY_INFO!R43=\"Surveillance\",COUNTRY_INFO!R43=\"Non requis\",COUNTRY_INFO!R43=0),0,IF($D43<>0, COUNTRY_INFO!R43,0))","v":6277},{"$f":"IF(OR(COUNTRY_INFO!S43=\"Inconnu\",COUNTRY_INFO!S43=\"Surveillance\",COUNTRY_INFO!S43=\"Non requis\",COUNTRY_INFO!S43=0),0,IF($D43<>0, COUNTRY_INFO!S43,0))","v":873},{"$f":"IF(OR(COUNTRY_INFO!T43=\"Inconnu\",COUNTRY_INFO!T43=\"Surveillance\",COUNTRY_INFO!T43=\"Non requis\",COUNTRY_INFO!T43=0),0,IF($D43<>0, COUNTRY_INFO!T43,0))","v":38487},45637,null,null,null,null,null,{"$f":"IF($I43<>\"Oui\",$F43*2,($F43+ROUND(J43*$F43/SUM(COUNTRY_INFO!$E43:$G43),0))*2)","v":1746},{"$f":"IF($I43<>\"Oui\",$G43*3,($G43+ROUND(J43*$G43/SUM(COUNTRY_INFO!$E43:$G43),0))*3)","v":115461},117207,null,117207]
[{"$f":"IF(INTRO!$E$43=\"Non endémique\",\" \", IF(COUNTRY_INFO!A44=0,\" \",COUNTRY_INFO!A44))","v":"Côte d'Ivoire"},{"$f":"IF(INTRO!$E$43=\"Non endémique\",\" \", IF(COUNTRY_INFO!B44=0,\" \",COUNTRY_INFO!B44))","v":"FOLON"},{"$f":"IF(INTRO!$E$43=\"Non endémique\",\" \", IF(COUNTRY_INFO!C44=0,\" \",COUNTRY_INFO!C44))","v":"KANIASSO"},{"$f":"IF(INTRO!$E$43=\"Non endémique\", \"Non requis\", COUNTRY_INFO!Y44)","v":0},{"$f":"IF(OR(COUNTRY_INFO!R44=\"Inconnu\",COUNTRY_INFO!R44=\"Surveillance\",COUNTRY_INFO!R44=\"Non requis\",COUNTRY_INFO!R44=0),0,IF($D44<>0, COUNTRY_INFO!R44,0))","v":0},{"$f":"IF(OR(COUNTRY_INFO!S44=\"Inconnu\",COUNTRY_INFO!S44=\"Surveillance\",COUNTRY_INFO!S44=\"Non requis\",COUNTRY_INFO!S44=0),0,IF($D44<>0, COUNTRY_INFO!S44,0))","v":0},{"$f":"IF(OR(COUNTRY_INFO!T44=\"Inconnu\",COUNTRY_INFO!T44=\"Surveillance\",COUNTRY_INFO!T44=\"Non requis\",COUNTRY_INFO!T44=0),0,IF($D44<>0, COUNTRY_INFO!T44,0))","v":0},0,null,null,null,null,null,{"$f":"IF($I44<>\"Oui\",$F44*2,($F44+ROUND(J44*$F44/SUM(COUNTRY_INFO!$E44:$G44),0))*2)","v":0},{"$f":"IF($I44<>\"Oui\",$G44*3,($G44+ROUND(J44*$G44/SUM(COUNTRY_INFO!$E44:$G44),0))*3)","v":0},0,null,0]
[{"$f":"IF(INTRO!$E$43=\"Non endémique\",\" \", IF(COUNTRY_INFO!A45=0,\" \",COUNTRY_INFO!A45))","v":"Côte d'Ivoire"},{"$f":"IF(INTRO!$E$43=\"Non endémique\",\" \", IF(COUNTRY_INFO!B45=0,\" \",COUNTRY_INFO!B45))","v":"FOLON"},{"$f":"IF(INTRO!$E$43=\"Non endémique\",\" \", IF(COUNTRY_INFO!C45=0,\" \",COUNTRY_INFO!C45))","v":"MINIGNAN"},{"$f":"IF(INTRO!$E$43=\"Non endémique\", \"Non requis\", COUNTRY_INFO!Y45)","v":1},{"$f":"IF(OR(COUNTRY_INFO!R45=\"Inconnu\",COUNTRY_INFO!R45=\"Surveillance\",COUNTRY_INFO!R45=\"Non requis\",COUNTRY_INFO!R45=0),0,IF($D45<>0, COUNTRY_INFO!R45,0))","v":4580},{"$f":"IF(OR(COUNTRY_INFO!S45=\"Inconnu\",COUNTRY_INFO!S45=\"Surveillance\",COUNTRY_INFO!S45=\"Non requis\",COUNTRY_INFO!S45=0),0,IF($D45<>0, COUNTRY_INFO!S45,0))","v":10191},{"$f":"IF(OR(COUNTRY_INFO!T45=\"Inconnu\",COUNTRY_INFO!T45=\"Surveillance\",COUNTRY_INFO!T45=\"Non requis\",COUNTRY_INFO!T45=0),0,IF($D45<>0, COUNTRY_INFO!T45,0))","v":28083},42854,null,null,null,null,null,{"$f":"IF($I45<>\"Oui\",$F45*2,($F45+ROUND(J45*$F45/SUM(COUNTRY_INFO!$E45:$G45),0))*2)","v":20382},{"$f":"IF($I45<>\"Oui\",$G45*3,($G45+ROUND(J45*$G45/SUM(COUNTRY_INFO!$E45:$G45),0))*3)","v":84249},104631,null,104631]
[{"$f":"IF(INTRO!$E$43=\"Non endémique\",\" \", IF(COUNTRY_INFO!A46=0,\" \",COUNTRY_INFO!A46))","v":"Côte d'Ivoire"},{"$f":"IF(INTRO!$E$43=\"Non endémique\",\" \", IF(COUNTRY_INFO!B46=0,\" \",COUNTRY_INFO!B46))","v":"GBEKE"},{"$f":"IF(INTRO!$E$43=\"Non endémique\",\" \", IF(COUNTRY_INFO!C46=0,\" \",COUNTRY_INFO!C46))","v":"BEOUMI"},{"$f":"IF(INTRO!$E$43=\"Non endémique\", \"Non requis\", COUNTRY_INFO!Y46)","v":0},{"$f":"IF(OR(COUNTRY_INFO!R46=\"Inconnu\",COUNTRY_INFO!R46=\"Surveillance\",COUNTRY_INFO!R46=\"Non requis\",COUNTRY_INFO!R46=0),0,IF($D46<>0, COUNTRY_INFO!R46,0))","v":0},{"$f":"IF(OR(COUNTRY_INFO!S46=\"Inconnu\",COUNTRY_INFO!S46=\"Surveillance\",COUNTRY_INFO!S46=\"Non requis\",COUNTRY_INFO!S46=0),0,IF($D46<>0, COUNTRY_INFO!S46,0))","v":0},{"$f":"IF(OR(COUNTRY_INFO!T46=\"Inconnu\",COUNTRY_INFO!T46=\"Surveillance\",COUNTRY_INFO!T46=\"Non requis\",COUNTRY_INFO!T46=0),0,IF($D46<>0, COUNTRY_INFO!T46,0))","v":0},0,null,null,null,null,null,{"$f":"IF($I46<>\"Oui\",$F46*2,($F46+ROUND(J46*$F46/SUM(COUNTRY_INFO!$E46:$G46),0))*2)","v":0},{"$f":"IF($I46<>\"Oui\",$G46*3,($G46+ROUND(J46*$G46/SUM(COUNTRY_INFO!$E46:$G46),0))*3)","v":0},0,null,0]
[{"$f":"IF(INTRO!$E$43=\"Non endémique\",\" \", IF(COUNTRY_INFO!A47=0,\" \",COUNTRY_INFO!A47))","v":"Côte d'Ivoire"},{"$f":"IF(INTRO!$E$43=\"Non endémique\",\" \", IF(COUNTRY_INFO!B47=0,\" \",COUNTRY_INFO!B47))","v":"GBEKE"},{"$f":"IF(INTRO!$E$43=\"Non endémique\",\" \", IF(COUNTRY_INFO!C47=0,\" \",COUNTRY_INFO!C47))","v":"BOTRO"},{"$f":"IF(INTRO!$E$43=\"Non endémique\", \"Non requis\", COUNTRY_INFO!Y47)","v":0},{"$f":"IF(OR(COUNTRY_INFO!R47=\"Inconnu\",COUNTRY_INFO!R47=\"Surveillance\",COUNTRY_INFO!R47=\"Non requis\",COUNTRY_INFO!R47=0),0,IF($D47<>0, COUNTRY_INFO!R47,0))","v":0},{"$f":"IF(OR(COUNTRY_INFO!S47=\"Inconnu\",COUNTRY_INFO!S47=\"Surveillance\",COUNTRY_INFO!S47=\"Non requis\",COUNTRY_INFO!S47=0),0,IF($D47<>0, COUNTRY_INFO!S47,0))","v":0},{"$f":"IF(OR(COUNTRY_INFO!T47=\"Inconnu\",COUNTRY_INFO!T47=\"Surveillance\",COUNTRY_INFO!T47=\"Non requis\",COUNTRY_INFO!T47=0),0,IF($D47<>0, COUNTRY_INFO!T47,0))","v":0},0,null,null,null,null,null,{"$f":"IF($I47<>\"Oui\",$F47*2,($F47+ROUND(J47*$F47/SUM(COUNTRY_INFO!$E47:$G47),0))*2)","v":0},{"$f":"IF($I47<>\"Oui\",$G47*3,($G47+ROUND(J47*$G47/SUM(COUNTRY_INFO!$E47:$G47),0))*3)","v":0},0,null,0]
[{"$f":"IF(INTRO!$E$43=\"Non endémique\",\" \", IF(COUNTRY_INFO!A48=0,\" \",COUNTRY_INFO!A48))","v":"Côte d'Ivoire"},{"$f":"IF(INTRO!$E$43=\"Non endémique\",\" \", IF(COUNTRY_INFO!B48=0,\" \",COUNTRY_INFO!B48))","v":"GBEKE"},{"$f":"IF(INTRO!$E$43=\"Non endémique\",\" \", IF(COUNTRY_INFO!C48=0,\" \",COUNTRY_INFO!C48))","v":"BOUAKE NORD-EST"},{"$f":"IF(INTRO!$E$43=\"Non endémique\", \"Non requis\", COUNTRY_INFO!Y48)","v":0},{"$f":"IF(OR(COUNTRY_INFO!R48=\"Inconnu\",COUNTRY_INFO!R48=\"Surveillance\",COUNTRY_INFO!R48=\"Non requis\",COUNTRY_INFO!R48=0),0,IF($D48<>0, COUNTRY_INFO!R48,0))","v":0},{"$f":"IF(OR(COUNTRY_INFO!S48=\"Inconnu\",COUNTRY_INFO!S48=\"Surveillance\",COUNTRY_INFO!S48=\"Non requis\",COUNTRY_INFO!S48=0),0,IF($D48<>0, COUNTRY_INFO!S48,0))","v":0},{"$f":"IF(OR(COUNTRY_INFO!T48=\"Inconnu\",COUNTRY_INFO!T48=\"Surveillance\",COUNTRY_INFO!T48=\"Non requis\",COUNTRY_INFO!T48=0),0,IF($D48<>0, COUNTRY_INFO!T48,0))","v":0},0,null,null,null,null,null,{"$f":"IF($I48<>\"Oui\",$F48*2,($F48+ROUND(J48*$F48/SUM(COUNTRY_INFO!$E48:$G48),0))*2)","v":0},{"$f":"IF($I48<>\"Oui\",$G48*3,($G48+ROUND(J48*$G48/SUM(COUNTRY_INFO!$E48:$G48),0))*3)","v":0},0,null,0]
[{"$f":"IF(INTRO!$E$43=\"Non endémique\",\" \", IF(COUNTRY_INFO!A49=0,\" \",COUNTRY_INFO!A49))","v":"Côte d'Ivoire"},{"$f":"IF(INTRO!$E$43=\"Non endémique\",\" \", IF(COUNTRY_INFO!B49=0,\" \",COUNTRY_INFO!B49))","v":"GBEKE"},{"$f":"IF(INTRO!$E$43=\"Non endémique\",\" \", IF(COUNTRY_INFO!C49=0,\" \",COUNTRY_INFO!C49))","v":"BOUAKE NORD-OUEST"},{"$f":"IF(INTRO!$E$43=\"Non endémique\", \"Non requis\", COUNTRY_INFO!Y49)","v":1},{"$f":"IF(OR(COUNTRY_INFO!R49=\"Inconnu\",COUNTRY_INFO!R49=\"Surveillance\",COUNTRY_INFO!R49=\"Non requis\",COUNTRY_INFO!R49=0),0,IF($D49<>0, COUNTRY_INFO!R49,0))","v":32501},{"$f":"IF(OR(COUNTRY_INFO!S49=\"Inconnu\",COUNTRY_INFO!S49=\"Surveillance\",COUNTRY_INFO!S49=\"Non requis\",COUNTRY_INFO!S49=0),0,IF($D49<>0, COUNTRY_INFO!S49,0))","v":105278},{"$f":"IF(OR(COUNTRY_INFO!T49=\"Inconnu\",COUNTRY_INFO!T49=\"Surveillance\",COUNTRY_INFO!T49=\"Non requis\",COUNTRY_INFO!T49=0),0,IF($D49<>0, COUNTRY_INFO!T49,0))","v":199288},337067,null,null,null,null,null,{"$f":"IF($I49<>\"Oui\",$F49*2,($F49+ROUND(J49*$F49/SUM(COUNTRY_INFO!$E49:$G49),0))*2)","v":210556},{"$f":"IF($I49<>\"Oui\",$G49*3,($G49+ROUND(J49*$G49/SUM(COUNTRY_INFO!$E49:$G49),0))*3)","v":597864},808420,null,808420]
[{"$f":"IF(INTRO!$E$43=\"Non endémique\",\" \", IF(COUNTRY_INFO!A50=0,\" \",COUNTRY_INFO!A50))","v":"Côte d'Ivoire"},{"$f":"IF(INTRO!$E$43=\"Non endémique\",\" \", IF(COUNTRY_INFO!B50=0,\" \",COUNTRY_INFO!B50))","v":"GBEKE"},{"$f":"IF(INTRO!$E$43=\"Non endémique\",\" \", IF(COUNTRY_INFO!C50=0,\" \",COUNTRY_INFO!C50))","v":"BOUAKE SUD"},{"$f":"IF(INTRO!$E$43=\"Non endémique\", \"Non requis\", COUNTRY_INFO!Y50)","v":0},{"$f":"IF(OR(COUNTRY_INFO!R50=\"Inconnu\",COUNTRY_INFO!R50=\"Surveillance\",COUNTRY_INFO!R50=\"Non requis\",COUNTRY_INFO!R50=0),0,IF($D50<>0, COUNTRY_INFO!R50,0))","v":0},{"$f":"IF(OR(COUNTRY_INFO!S50=\"Inconnu\",COUNTRY_INFO!S50=\"Surveillance\",COUNTRY_INFO!S50=\"Non requis\",COUNTRY_INFO!S50=0),0,IF($D50<>0, COUNTRY_INFO!S50,0))","v":0},{"$f":"IF(OR(COUNTRY_INFO!T50=\"Inconnu\",COUNTRY_INFO!T50=\"Surveillance\",COUNTRY_INFO!T50=\"Non requis\",COUNTRY_INFO!T50=0),0,IF($D50<>0, COUNTRY_INFO!T50,0))","v":0},0,null,null,null,null,null,{"$f":"IF($I50<>\"Oui\",$F50*2,($F50+ROUND(J50*$F50/SUM(COUNTRY_INFO!$E50:$G50),0))*2)","v":0},{"$f":"IF($I50<>\"Oui\",$G50*3,($G50+ROUND(J50*$G50/SUM(COUNTRY_INFO!$E50:$G50),0))*3)","v":0},0,null,0]
[{"$f":"IF(INTRO!$E$43=\"Non endémique\",\" \", IF(COUNTRY_INFO!A51=0,\" \",COUNTRY_INFO!A51))","v":"Côte d'Ivoire"},{"$f":"IF(INTRO!$E$43=\"Non endémique\",\" \", IF(COUNTRY_INFO!B51=0,\" \",COUNTRY_INFO!B51))","v":"GBEKE"},{"$f":"IF(INTRO!$E$43=\"Non endémique\",\" \", IF(COUNTRY_INFO!C51=0,\" \",COUNTRY_INFO!C51))","v":"SAKASSOU"},{"$f":"IF(INTRO!$E$43=\"Non endémique\", \"Non requis\", COUNTRY_INFO!Y51)","v":1},{"$f":"IF(OR(COUNTRY_INFO!R51=\"Inconnu\",COUNTRY_INFO!R51=\"Surveillance\",COUNTRY_INFO!R51=\"Non requis\",COUNTRY_INFO!R51=0),0,IF($D51<>0, COUNTRY_INFO!R51,0))","v":10748},{"$f":"IF(OR(COUNTRY_INFO!S51=\"Inconnu\",COUNTRY_INFO!S51=\"Surveillance\",COUNTRY_INFO!S51=\"Non requis\",COUNTRY_INFO!S51=0),0,IF($D51<>0, COUNTRY_INFO!S51,0))","v":23025},{"$f":"IF(OR(COUNTRY_INFO!T51=\"Inconnu\",COUNTRY_INFO!T51=\"Surveillance\",COUNTRY_INFO!T51=\"Non requis\",COUNTRY_INFO!T51=0),0,IF($D51<>0, COUNTRY_INFO!T51,0))","v":65907},99680,null,null,null,null,null,{"$f":"IF($I51<>\"Oui\",$F51*2,($F51+ROUND(J51*$F51/SUM(COUNTRY_INFO!$E51:$G51),0))*2)","v":46050},{"$f":"IF($I51<>\"Oui\",$G51*3,($G51+ROUND(J51*$G51/SUM(COUNTRY_INFO!$E51:$G51),0))*3)","v":197721},243771,null,243771]
[{"$f":"IF(INTRO!$E$43=\"Non endémique\",\" \", IF(COUNTRY_INFO!A52=0,\" \",COUNTRY_INFO!A52))","v":"Côte d'Ivoire"},{"$f":"IF(INTRO!$E$43=\"Non endémique\",\" \", IF(COUNTRY_INFO!B52=0,\" \",COUNTRY_INFO!B52))","v":"GBOKLE"},{"$f":"IF(INTRO!$E$43=\"Non endémique\",\" \", IF(COUNTRY_INFO!C52=0,\" \",COUNTRY_INFO!C52))","v":"FRESCO"},{"$f":"IF(INTRO!$E$43=\"Non endémique\", \"Non requis\", COUNTRY_INFO!Y52)","v":0},{"$f":"IF(OR(COUNTRY_INFO!R52=\"Inconnu\",COUNTRY_INFO!R52=\"Surveillance\",COUNTRY_INFO!R52=\"Non requis\",COUNTRY_INFO!R52=0),0,IF($D52<>0, COUNTRY_INFO!R52,0))","v":0},{"$f":"IF(OR(COUNTRY_INFO!S52=\"Inconnu\",COUNTRY_INFO!S52=\"Surveillance\",COUNTRY_INFO!S52=\"Non requis\",COUNTRY_INFO!S52=0),0,IF($D52<>0, COUNTRY_INFO!S52,0))","v":0},{"$f":"IF(OR(COUNTRY_INFO!T52=\"Inconnu\",COUNTRY_INFO!T52=\"Surveillance\",COUNTRY_INFO!T52=\"Non requis\",COUNTRY_INFO!T52=0),0,IF($D52<>0, COUNTRY_INFO!T52,0))","v":0},0,null,null,null,null,null,{"$f":"IF($I52<>\"Oui\",$F52*2,($F52+ROUND(J52*$F52/SUM(COUNTRY_INFO!$E52:$G52),0))*2)","v":0},{"$f":"IF($I52<>\"Oui\",$G52*3,($G52+ROUND(J52*$G52/SUM(COUNTRY_INFO!$E52:$G52),0))*3)","v":0},0,null,0]
[{"$f":"IF(INTRO!$E$43=\"Non endémique\",\" \", IF(COUNTRY_INFO!A53=0,\" \",COUNTRY_INFO!A53))","v":"Côte d'Ivoire"},{"$f":"IF(INTRO!$E$43=\"Non endémique\",\" \", IF(COUNTRY_INFO!B53=0,\" \",COUNTRY_INFO!B53))","v":"GBOKLE"},{"$f":"IF(INTRO!$E$43=\"Non endémique\",\" \", IF(COUNTRY_INFO!C53=0,\" \",COUNTRY_INFO!C53))","v":"SASSANDRA "},{"$f":"IF(INTRO!$E$43=\"Non endémique\", \"Non requis\", COUNTRY_INFO!Y53)","v":1},{"$f":"IF(OR(COUNTRY_INFO!R53=\"Inconnu\",COUNTRY_INFO!R53=\"Surveillance\",COUNTRY_INFO!R53=\"Non requis\",COUNTRY_INFO!R53=0),0,IF($D53<>0, COUNTRY_INFO!R53,0))","v":32983},{"$f":"IF(OR(COUNTRY_INFO!S53=\"Inconnu\",COUNTRY_INFO!S53=\"Surveillance\",COUNTRY_INFO!S53=\"Non requis\",COUNTRY_INFO!S53=0),0,IF($D53<>0, COUNTRY_INFO!S53,0))","v":1647},{"$f":"IF(OR(COUNTRY_INFO!T53=\"Inconnu\",COUNTRY_INFO!T53=\"Surveillance\",COUNTRY_INFO!T53=\"Non requis\",COUNTRY_INFO!T53=0),0,IF($D53<>0, COUNTRY_INFO!T53,0))","v":202247},236877,null,null,null,null,null,{"$f":"IF($I53<>\"Oui\",$F53*2,($F53+ROUND(J53*$F53/SUM(COUNTRY_INFO!$E53:$G53),0))*2)","v":3294},{"$f":"IF($I53<>\"Oui\",$G53*3,($G53+ROUND(J53*$G53/SUM(COUNTRY_INFO!$E53:$G53),0))*3)","v":606741},610035,null,610035]
[{"$f":"IF(INTRO!$E$43=\"Non endémique\",\" \", IF(COUNTRY_INFO!A54=0,\" \",COUNTRY_INFO!A54))","v":"Côte d'Ivoire"},{"$f":"IF(INTRO!$E$43=\"Non endémique\",\" \", IF(COUNTRY_INFO!B54=0,\" \",COUNTRY_INFO!B54))","v":"GOH"},{"$f":"IF(INTRO!$E$43=\"Non endémique\",\" \", IF(COUNTRY_INFO!C54=0,\" \",COUNTRY_INFO!C54))","v":"GAGNOA 1"},{"$f":"IF(INTRO!$E$43=\"Non endémique\", \"Non requis\", COUNTRY_INFO!Y54)","v":0},{"$f":"IF(OR(COUNTRY_INFO!R54=\"Inconnu\",COUNTRY_INFO!R54=\"Surveillance\",COUNTRY_INFO!R54=\"Non requis\",COUNTRY_INFO!R54=0),0,IF($D54<>0, COUNTRY_INFO!R54,0))","v":0},{"$f":"IF(OR(COUNTRY_INFO!S54=\"Inconnu\",COUNTRY_INFO!S54=\"Surveillance\",COUNTRY_INFO!S54=\"Non requis\",COUNTRY_INFO!S54=0),0,IF($D54<>0, COUNTRY_INFO!S54,0))","v":0},{"$f":"IF(OR(COUNTRY_INFO!T54=\"Inconnu\",COUNTRY_INFO!T54=\"Surveillance\",COUNTRY_INFO!T54=\"Non requis\",COUNTRY_INFO!T54=0),0,IF($D54<>0, COUNTRY_INFO!T54,0))","v":0},0,null,null,null,null,null,{"$f":"IF($I54<>\"Oui\",$F54*2,($F54+ROUND(J54*$F54/SUM(COUNTRY_INFO!$E54:$G54),0))*2)","v":0},{"$f":"IF($I54<>\"Oui\",$G54*3,($G54+ROUND(J54*$G54/SUM(COUNTRY_INFO!$E54:$G54),0))*3)","v":0},0,null,0]
[{"$f":"IF(INTRO!$E$43=\"Non endémique\",\" \", IF(COUNTRY_INFO!A55=0,\" \",COUNTRY_INFO!A55))","v":"Côte d'Ivoire"},{"$f":"IF(INTRO!$E$43=\"Non endémique\",\" \", IF(COUNTRY_INFO!B55=0,\" \",COUNTRY_INFO!B55))","v":"GOH"},{"$f":"IF(INTRO!$E$43=\"Non endémique\",\" \", IF(COUNTRY_INFO!C55=0,\" \",COUNTRY_INFO!C55))","v":"GAGNOA 2"},{"$f":"IF(INTRO!$E$43=\"Non endémique\", \"Non requis\", COUNTRY_INFO!Y55)","v":0},{"$f":"IF(OR(COUNTRY_INFO!R55=\"Inconnu\",COUNTRY_INFO!R55=\"Surveillance\",COUNTRY_INFO!R55=\"Non requis\",COUNTRY_INFO!R55=0),0,IF($D55<>0, COUNTRY_INFO!R55,0))","v":0},{"$f":"IF(OR(COUNTRY_INFO!S55=\"Inconnu\",COUNTRY_INFO!S55=\"Surveillance\",COUNTRY_INFO!S55=\"Non requis\",COUNTRY_INFO!S55=0),0,IF($D55<>0, COUNTRY_INFO!S55,0))","v":0},{"$f":"IF(OR(COUNTRY_INFO!T55=\"Inconnu\",COUNTRY_INFO!T55=\"Surveillance\",COUNTRY_INFO!T55=\"Non requis\",COUNTRY_INFO!T55=0),0,IF($D55<>0, COUNTRY_INFO!T55,0))","v":0},0,null,null,null,null,null,{"$f":"IF($I55<>\"Oui\",$F55*2,($F55+ROUND(J55*$F55/SUM(COUNTRY_INFO!$E55:$G55),0))*2)","v":0},{"$f":"IF($I55<>\"Oui\",$G55*3,($G55+ROUND(J55*$G55/SUM(COUNTRY_INFO!$E55:$G55),0))*3)","v":0},0,null,0]
[{"$f":"IF(INTRO!$E$43=\"Non endémique\",\" \", IF(COUNTRY_INFO!A56=0,\" \",COUNTRY_INFO!A56))","v":"Côte d'Ivoire"},{"$f":"IF(INTRO!$E$43=\"Non endémique\",\" \", IF(COUNTRY_INFO!B56=0,\" \",COUNTRY_INFO!B56))","v":"GOH"},{"$f":"IF(INTRO!$E$43=\"Non endémique\",\" \", IF(COUNTRY_INFO!C56=0,\" \",COUNTRY_INFO!C56))","v":"OUME"},{"$f":"IF(INTRO!$E$43=\"Non endémique\", \"Non requis\", COUNTRY_INFO!Y56)","v":0},{"$f":"IF(OR(COUNTRY_INFO!R56=\"Inconnu\",COUNTRY_INFO!R56=\"Surveillance\",COUNTRY_INFO!R56=\"Non requis\",COUNTRY_INFO!R56=0),0,IF($D56<>0, COUNTRY_INFO!R56,0))","v":0},{"$f":"IF(OR(COUNTRY_INFO!S56=\"Inconnu\",COUNTRY_INFO!S56=\"Surveillance\",COUNTRY_INFO!S56=\"Non requis\",COUNTRY_INFO!S56=0),0,IF($D56<>0, COUNTRY_INFO!S56,0))","v":0},{"$f":"IF(OR(COUNTRY_INFO!T56=\"Inconnu\",COUNTRY_INFO!T56=\"Surveillance\",COUNTRY_INFO!T56=\"Non requis\",COUNTRY_INFO!T56=0),0,IF($D56<>0, COUNTRY_INFO!T56,0))","v":0},0,null,null,null,null,null,{"$f":"IF($I56<>\"Oui\",$F56*2,($F56+ROUND(J56*$F56/SUM(COUNTRY_INFO!$E56:$G56),0))*2)","v":0},{"$f":"IF($I56<>\"Oui\",$G56*3,($G56+ROUND(J56*$G56/SUM(COUNTRY_INFO!$E56:$G56),0))*3)","v":0},0,null,0]
[{"$f":"IF(INTRO!$E$43=\"Non endémique\",\" \", IF(COUNTRY_INFO!A57=0,\" \",COUNTRY_INFO!A57))","v":"Côte d'Ivoire"},{"$f":"IF(INTRO!$E$43=\"Non endémique\",\" \", IF(COUNTRY_INFO!B57=0,\" \",COUNTRY_INFO!B57))","v":"GONTOUGO"},{"$f":"IF(INTRO!$E$43=\"Non endémique\",\" \", IF(COUNTRY_INFO!C57=0,\" \",COUNTRY_INFO!C57))","v":"BONDOUKOU"},{"$f":"IF(INTRO!$E$43=\"Non endémique\", \"Non requis\", COUNTRY_INFO!Y57)","v":0},{"$f":"IF(OR(COUNTRY_INFO!R57=\"Inconnu\",COUNTRY_INFO!R57=\"Surveillance\",COUNTRY_INFO!R57=\"Non requis\",COUNTRY_INFO!R57=0),0,IF($D57<>0, COUNTRY_INFO!R57,0))","v":0},{"$f":"IF(OR(COUNTRY_INFO!S57=\"Inconnu\",COUNTRY_INFO!S57=\"Surveillance\",COUNTRY_INFO!S57=\"Non requis\",COUNTRY_INFO!S57=0),0,IF($D57<>0, COUNTRY_INFO!S57,0))","v":0},{"$f":"IF(OR(COUNTRY_INFO!T57=\"Inconnu\",COUNTRY_INFO!T57=\"Surveillance\",COUNTRY_INFO!T57=\"Non requis\",COUNTRY_INFO!T57=0),0,IF($D57<>0, COUNTRY_INFO!T57,0))","v":0},0,null,null,null,null,null,{"$f":"IF($I57<>\"Oui\",$F57*2,($F57+ROUND(J57*$F57/SUM(COUNTRY_INFO!$E57:$G57),0))*2)","v":0},{"$f":"IF($I57<>\"Oui\",$G57*3,($G57+ROUND(J57*$G57/SUM(COUNTRY_INFO!$E57:$G57),0))*3)","v":0},0,null,0]
[{"$f":"IF(INTRO!$E$43=\"Non endémique\",\" \", IF(COUNTRY_INFO!A58=0,\" \",COUNTRY_INFO!A58))","v":"Côte d'Ivoire"},{"$f":"IF(INTRO!$E$43=\"Non endémique\",\" \", IF(COUNTRY_INFO!B58=0,\" \",COUNTRY_INFO!B58))","v":"GONTOUGO"},{"$f":"IF(INTRO!$E$43=\"Non endémique\",\" \", IF(COUNTRY_INFO!C58=0,\" \",COUNTRY_INFO!C58))","v":"KOUNFAO"},{"$f":"IF(INTRO!$E$43=\"Non endémique\", \"Non requis\", COUNTRY_INFO!Y58)","v":0},{"$f":"IF(OR(COUNTRY_INFO!R58=\"Inconnu\",COUNTRY_INFO!R58=\"Surveillance\",COUNTRY_INFO!R58=\"Non requis\",COUNTRY_INFO!R58=0),0,IF($D58<>0, COUNTRY_INFO!R58,0))","v":0},{"$f":"IF(OR(COUNTRY_INFO!S58=\"Inconnu\",COUNTRY_INFO!S58=\"Surveillance\",COUNTRY_INFO!S58=\"Non requis\",COUNTRY_INFO!S58=0),0,IF($D58<>0, COUNTRY_INFO!S58,0))","v":0},{"$f":"IF(OR(COUNTRY_INFO!T58=\"Inconnu\",COUNTRY_INFO!T58=\"Surveillance\",COUNTRY_INFO!T58=\"Non requis\",COUNTRY_INFO!T58=0),0,IF($D58<>0, COUNTRY_INFO!T58,0))","v":0},0,null,null,null,null,null,{"$f":"IF($I58<>\"Oui\",$F58*2,($F58+ROUND(J58*$F58/SUM(COUNTRY_INFO!$E58:$G58),0))*2)","v":0},{"$f":"IF($I58<>\"Oui\",$G58*3,($G58+ROUND(J58*$G58/SUM(COUNTRY_INFO!$E58:$G58),0))*3)","v":0},0,null,0]
[{"$f":"IF(INTRO!$E$43=\"Non endémique\",\" \", IF(COUNTRY_INFO!A59=0,\" \",COUNTRY_INFO!A59))","v":"Côte d'Ivoire"},{"$f":"IF(INTRO!$E$43=\"Non endémique\",\" \", IF(COUNTRY_INFO!B59=0,\" \",COUNTRY_INFO!B59))","v":"GONTOUGO"},{"$f":"IF(INTRO!$E$43=\"Non endémique\",\" \", IF(COUNTRY_INFO!C59=0,\" \",COUNTRY_INFO!C59))","v":"SANDEGUE"},{"$f":"IF(INTRO!$E$43=\"Non endémique\", \"Non requis\", COUNTRY_INFO!Y59)","v":0},{"$f":"IF(OR(COUNTRY_INFO!R59=\"Inconnu\",COUNTRY_INFO!R59=\"Surveillance\",COUNTRY_INFO!R59=\"Non requis\",COUNTRY_INFO!R59=0),0,IF($D59<>0, COUNTRY_INFO!R59,0))","v":0},{"$f":"IF(OR(COUNTRY_INFO!S59=\"Inconnu\",COUNTRY_INFO!S59=\"Surveillance\",COUNTRY_INFO!S59=\"Non requis\",COUNTRY_INFO!S59=0),0,IF($D59<>0, COUNTRY_INFO!S59,0))","v":0},{"$f":"IF(OR(COUNTRY_INFO!T59=\"Inconnu\",COUNTRY_INFO!T59=\"Surveillance\",COUNTRY_INFO!T59=\"Non requis\",COUNTRY_INFO!T59=0),0,IF($D59<>0, COUNTRY_INFO!T59,0))","v":0},0,null,null,null,null,null,{"$f":"IF($I59<>\"Oui\",$F59*2,($F59+ROUND(J59*$F59/SUM(COUNTRY_INFO!$E59:$G59),0))*2)","v":0},{"$f":"IF($I59<>\"Oui\",$G59*3,($G59+ROUND(J59*$G59/SUM(COUNTRY_INFO!$E59:$G59),0))*3)","v":0},0,null,0]
[{"$f":"IF(INTRO!$E$43=\"Non endémique\",\" \", IF(COUNTRY_INFO!A60=0,\" \",COUNTRY_INFO!A60))","v":"Côte d'Ivoire"},{"$f":"IF(INTRO!$E$43=\"Non endémique\",\" \", IF(COUNTRY_INFO!B60=0,\" \",COUNTRY_INFO!B60))","v":"GONTOUGO"},{"$f":"IF(INTRO!$E$43=\"Non endémique\",\" \", IF(COUNTRY_INFO!C60=0,\" \",COUNTRY_INFO!C60))","v":"TANDA"},{"$f":"IF(INTRO!$E$43=\"Non endémique\", \"Non requis\", COUNTRY_INFO!Y60)","v":0},{"$f":"IF(OR(COUNTRY_INFO!R60=\"Inconnu\",COUNTRY_INFO!R60=\"Surveillance\",COUNTRY_INFO!R60=\"Non requis\",COUNTRY_INFO!R60=0),0,IF($D60<>0, COUNTRY_INFO!R60,0))","v":0},{"$f":"IF(OR(COUNTRY_INFO!S60=\"Inconnu\",COUNTRY_INFO!S60=\"Surveillance\",COUNTRY_INFO!S60=\"Non requis\",COUNTRY_INFO!S60=0),0,IF($D60<>0, COUNTRY_INFO!S60,0))","v":0},{"$f":"IF(OR(COUNTRY_INFO!T60=\"Inconnu\",COUNTRY_INFO!T60=\"Surveillance\",COUNTRY_INFO!T60=\"Non requis\",COUNTRY_INFO!T60=0),0,IF($D60<>0, COUNTRY_INFO!T60,0))","v":0},0,null,null,null,null,null,{"$f":"IF($I60<>\"Oui\",$F60*2,($F60+ROUND(J60*$F60/SUM(COUNTRY_INFO!$E60:$G60),0))*2)","v":0},{"$f":"IF($I60<>\"Oui\",$G60*3,($G60+ROUND(J60*$G60/SUM(COUNTRY_INFO!$E60:$G60),0))*3)","v":0},0,null,0]
[{"$f":"IF(INTRO!$E$43=\"Non endémique\",\" \", IF(COUNTRY_INFO!A61=0,\" \",COUNTRY_INFO!A61))","v":"Côte d'Ivoire"},{"$f":"IF(INTRO!$E$43=\"Non endémique\",\" \", IF(COUNTRY_INFO!B61=0,\" \",COUNTRY_INFO!B61))","v":"GONTOUGO"},{"$f":"IF(INTRO!$E$43=\"Non endémique\",\" \", IF(COUNTRY_INFO!C61=0,\" \",COUNTRY_INFO!C61))","v":"TRANSUA"},{"$f":"IF(INTRO!$E$43=\"Non endémique\", \"Non requis\", COUNTRY_INFO!Y61)","v":0},{"$f":"IF(OR(COUNTRY_INFO!R61=\"Inconnu\",COUNTRY_INFO!R61=\"Surveillance\",COUNTRY_INFO!R61=\"Non requis\",COUNTRY_INFO!R61=0),0,IF($D61<>0, COUNTRY_INFO!R61,0))","v":0},{"$f":"IF(OR(COUNTRY_INFO!S61=\"Inconnu\",COUNTRY_INFO!S61=\"Surveillance\",COUNTRY_INFO!S61=\"Non requis\",COUNTRY_INFO!S61=0),0,IF($D61<>0, COUNTRY_INFO!S61,0))","v":0},{"$f":"IF(OR(COUNTRY_INFO!T61=\"Inconnu\",COUNTRY_INFO!T61=\"Surveillance\",COUNTRY_INFO!T61=\"Non requis\",COUNTRY_INFO!T61=0),0,IF($D61<>0, COUNTRY_INFO!T61,0))","v":0},0,null,null,null,null,null,{"$f":"IF($I61<>\"Oui\",$F61*2,($F61+ROUND(J61*$F61/SUM(COUNTRY_INFO!$E61:$G61),0))*2)","v":0},{"$f":"IF($I61<>\"Oui\",$G61*3,($G61+ROUND(J61*$G61/SUM(COUNTRY_INFO!$E61:$G61),0))*3)","v":0},0,null,0]
[{"$f":"IF(INTRO!$E$43=\"Non endémique\",\" \", IF(COUNTRY_INFO!A62=0,\" \",COUNTRY_INFO!A62))","v":"Côte d'Ivoire"},{"$f":"IF(INTRO!$E$43=\"Non endémique\",\" \", IF(COUNTRY_INFO!B62=0,\" \",COUNTRY_INFO!B62))","v":"GRANDS PONTS"},{"$f":"IF(INTRO!$E$43=\"Non endémique\",\" \", IF(COUNTRY_INFO!C62=0,\" \",COUNTRY_INFO!C62))","v":"DABOU"},{"$f":"IF(INTRO!$E$43=\"Non endémique\", \"Non requis\", COUNTRY_INFO!Y62)","v":1},{"$f":"IF(OR(COUNTRY_INFO!R62=\"Inconnu\",COUNTRY_INFO!R62=\"Surveillance\",COUNTRY_INFO!R62=\"Non requis\",COUNTRY_INFO!R62=0),0,IF($D62<>0, COUNTRY_INFO!R62,0))","v":0},{"$f":"IF(OR(COUNTRY_INFO!S62=\"Inconnu\",COUNTRY_INFO!S62=\"Surveillance\",COUNTRY_INFO!S62=\"Non requis\",COUNTRY_INFO!S62=0),0,IF($D62<>0, COUNTRY_INFO!S62,0))","v":41445},{"$f":"IF(OR(COUNTRY_INFO!T62=\"Inconnu\",COUNTRY_INFO!T62=\"Surveillance\",COUNTRY_INFO!T62=\"Non requis\",COUNTRY_INFO!T62=0),0,IF($D62<>0, COUNTRY_INFO!T62,0))","v":0},41445,null,null,null,null,null,{"$f":"IF($I62<>\"Oui\",$F62*2,($F62+ROUND(J62*$F62/SUM(COUNTRY_INFO!$E62:$G62),0))*2)","v":82890},{"$f":"IF($I62<>\"Oui\",$G62*3,($G62+ROUND(J62*$G62/SUM(COUNTRY_INFO!$E62:$G62),0))*3)","v":0},82890,null,82890]
[{"$f":"IF(INTRO!$E$43=\"Non endémique\",\" \", IF(COUNTRY_INFO!A63=0,\" \",COUNTRY_INFO!A63))","v":"Côte d'Ivoire"},{"$f":"IF(INTRO!$E$43=\"Non endémique\",\" \", IF(COUNTRY_INFO!B63=0,\" \",COUNTRY_INFO!B63))","v":"GRANDS PONTS"},{"$f":"IF(INTRO!$E$43=\"Non endémique\",\" \", IF(COUNTRY_INFO!C63=0,\" \",COUNTRY_INFO!C63))","v":"GRAND-LAHOU"},{"$f":"IF(INTRO!$E$43=\"Non endémique\", \"Non requis\", COUNTRY_INFO!Y63)","v":1},{"$f":"IF(OR(COUNTRY_INFO!R63=\"Inconnu\",COUNTRY_INFO!R63=\"Surveillance\",COUNTRY_INFO!R63=\"Non requis\",COUNTRY_INFO!R63=0),0,IF($D63<>0, COUNTRY_INFO!R63,0))","v":0},{"$f":"IF(OR(COUNTRY_INFO!S63=\"Inconnu\",COUNTRY_INFO!S63=\"Surveillance\",COUNTRY_INFO!S63=\"Non requis\",COUNTRY_INFO!S63=0),0,IF($D63<>0, COUNTRY_INFO!S63,0))","v":37184},{"$f":"IF(OR(COUNTRY_INFO!T63=\"Inconnu\",COUNTRY_INFO!T63=\"Surveillance\",COUNTRY_INFO!T63=\"Non requis\",COUNTRY_INFO!T63=0),0,IF($D63<>0, COUNTRY_INFO!T63,0))","v":0},37184,null,null,null,null,null,{"$f":"IF($I63<>\"Oui\",$F63*2,($F63+ROUND(J63*$F63/SUM(COUNTRY_INFO!$E63:$G63),0))*2)","v":74368},{"$f":"IF($I63<>\"Oui\",$G63*3,($G63+ROUND(J63*$G63/SUM(COUNTRY_INFO!$E63:$G63),0))*3)","v":0},74368,null,74368]
[{"$f":"IF(INTRO!$E$43=\"Non endémique\",\" \", IF(COUNTRY_INFO!A64=0,\" \",COUNTRY_INFO!A64))","v":"Côte d'Ivoire"},{"$f":"IF(INTRO!$E$43=\"Non endémique\",\" \", IF(COUNTRY_INFO!B64=0,\" \",COUNTRY_INFO!B64))","v":"GRANDS PONTS"},{"$f":"IF(INTRO!$E$43=\"Non endémique\",\" \", IF(COUNTRY_INFO!C64=0,\" \",COUNTRY_INFO!C64))","v":"JACQUEVILLE"},{"$f":"IF(INTRO!$E$43=\"Non endémique\", \"Non requis\", COUNTRY_INFO!Y64)","v":1},{"$f":"IF(OR(COUNTRY_INFO!R64=\"Inconnu\",COUNTRY_INFO!R64=\"Surveillance\",COUNTRY_INFO!R64=\"Non requis\",COUNTRY_INFO!R64=0),0,IF($D64<>0, COUNTRY_INFO!R64,0))","v":0},{"$f":"IF(OR(COUNTRY_INFO!S64=\"Inconnu\",COUNTRY_INFO!S64=\"Surveillance\",COUNTRY_INFO!S64=\"Non requis\",COUNTRY_INFO!S64=0),0,IF($D64<>0, COUNTRY_INFO!S64,0))","v":12757},{"$f":"IF(OR(COUNTRY_INFO!T64=\"Inconnu\",COUNTRY_INFO!T64=\"Surveillance\",COUNTRY_INFO!T64=\"Non requis\",COUNTRY_INFO!T64=0),0,IF($D64<>0, COUNTRY_INFO!T64,0))","v":0},12757,null,null,null,null,null,{"$f":"IF($I64<>\"Oui\",$F64*2,($F64+ROUND(J64*$F64/SUM(COUNTRY_INFO!$E64:$G64),0))*2)","v":25514},{"$f":"IF($I64<>\"Oui\",$G64*3,($G64+ROUND(J64*$G64/SUM(COUNTRY_INFO!$E64:$G64),0))*3)","v":0},25514,null,25514]
[{"$f":"IF(INTRO!$E$43=\"Non endémique\",\" \", IF(COUNTRY_INFO!A65=0,\" \",COUNTRY_INFO!A65))","v":"Côte d'Ivoire"},{"$f":"IF(INTRO!$E$43=\"Non endémique\",\" \", IF(COUNTRY_INFO!B65=0,\" \",COUNTRY_INFO!B65))","v":"GUEMON"},{"$f":"IF(INTRO!$E$43=\"Non endémique\",\" \", IF(COUNTRY_INFO!C65=0,\" \",COUNTRY_INFO!C65))","v":"BANGOLO"},{"$f":"IF(INTRO!$E$43=\"Non endémique\", \"Non requis\", COUNTRY_INFO!Y65)","v":1},{"$f":"IF(OR(COUNTRY_INFO!R65=\"Inconnu\",COUNTRY_INFO!R65=\"Surveillance\",COUNTRY_INFO!R65=\"Non requis\",COUNTRY_INFO!R65=0),0,IF($D65<>0, COUNTRY_INFO!R65,0))","v":39501},{"$f":"IF(OR(COUNTRY_INFO!S65=\"Inconnu\",COUNTRY_INFO!S65=\"Surveillance\",COUNTRY_INFO!S65=\"Non requis\",COUNTRY_INFO!S65=0),0,IF($D65<>0, COUNTRY_INFO!S65,0))","v":106185},{"$f":"IF(OR(COUNTRY_INFO!T65=\"Inconnu\",COUNTRY_INFO!T65=\"Surveillance\",COUNTRY_INFO!T65=\"Non requis\",COUNTRY_INFO!T65=0),0,IF($D65<>0, COUNTRY_INFO!T65,0))","v":242216},387902,null,null,null,null,null,{"$f":"IF($I65<>\"Oui\",$F65*2,($F65+ROUND(J65*$F65/SUM(COUNTRY_INFO!$E65:$G65),0))*2)","v":212370},{"$f":"IF($I65<>\"Oui\",$G65*3,($G65+ROUND(J65*$G65/SUM(COUNTRY_INFO!$E65:$G65),0))*3)","v":726648},939018,null,939018]
[{"$f":"IF(INTRO!$E$43=\"Non endémique\",\" \", IF(COUNTRY_INFO!A66=0,\" \",COUNTRY_INFO!A66))","v":"Côte d'Ivoire"},{"$f":"IF(INTRO!$E$43=\"Non endémique\",\" \", IF(COUNTRY_INFO!B66=0,\" \",COUNTRY_INFO!B66))","v":"GUEMON"},{"$f":"IF(INTRO!$E$43=\"Non endémique\",\" \", IF(COUNTRY_INFO!C66=0,\" \",COUNTRY_INFO!C66))","v":"DUEKOUE"},{"$f":"IF(INTRO!$E$43=\"Non endémique\", \"Non requis\", COUNTRY_INFO!Y66)","v":0},{"$f":"IF(OR(COUNTRY_INFO!R66=\"Inconnu\",COUNTRY_INFO!R66=\"Surveillance\",COUNTRY_INFO!R66=\"Non requis\",COUNTRY_INFO!R66=0),0,IF($D66<>0, COUNTRY_INFO!R66,0))","v":0},{"$f":"IF(OR(COUNTRY_INFO!S66=\"Inconnu\",COUNTRY_INFO!S66=\"Surveillance\",COUNTRY_INFO!S66=\"Non requis\",COUNTRY_INFO!S66=0),0,IF($D66<>0, COUNTRY_INFO!S66,0))","v":0},{"$f":"IF(OR(COUNTRY_INFO!T66=\"Inconnu\",COUNTRY_INFO!T66=\"Surveillance\",COUNTRY_INFO!T66=\"Non requis\",COUNTRY_INFO!T66=0),0,IF($D66<>0, COUNTRY_INFO!T66,0))","v":0},0,null,null,null,null,null,{"$f":"IF($I66<>\"Oui\",$F66*2,($F66+ROUND(J66*$F66/SUM(COUNTRY_INFO!$E66:$G66),0))*2)","v":0},{"$f":"IF($I66<>\"Oui\",$G66*3,($G66+ROUND(J66*$G66/SUM(COUNTRY_INFO!$E66:$G66),0))*3)","v":0},0,null,0]
[{"$f":"IF(INTRO!$E$43=\"Non endémique\",\" \", IF(COUNTRY_INFO!A67=0,\" \",COUNTRY_INFO!A67))","v":"Côte d'Ivoire"},{"$f":"IF(INTRO!$E$43=\"Non endémique\",\" \", IF(COUNTRY_INFO!B67=0,\" \",COUNTRY_INFO!B67))","v":"GUEMON"},{"$f":"IF(INTRO!$E$43=\"Non endémique\",\" \", IF(COUNTRY_INFO!C67=0,\" \",COUNTRY_INFO!C67))","v":"KOUIBLY"},{"$f":"IF(INTRO!$E$43=\"Non endémique\", \"Non requis\", COUNTRY_INFO!Y67)","v":0},{"$f":"IF(OR(COUNTRY_INFO!R67=\"Inconnu\",COUNTRY_INFO!R67=\"Surveillance\",COUNTRY_INFO!R67=\"Non requis\",COUNTRY_INFO!R67=0),0,IF($D67<>0, COUNTRY_INFO!R67,0))","v":0},{"$f":"IF(OR(COUNTRY_INFO!S67=\"Inconnu\",COUNTRY_INFO!S67=\"Surveillance\",COUNTRY_INFO!S67=\"Non requis\",COUNTRY_INFO!S67=0),0,IF($D67<>0, COUNTRY_INFO!S67,0))","v":0},{"$f":"IF(OR(COUNTRY_INFO!T67=\"Inconnu\",COUNTRY_INFO!T67=\"Surveillance\",COUNTRY_INFO!T67=\"Non requis\",COUNTRY_INFO!T67=0),0,IF($D67<>0, COUNTRY_INFO!T67,0))","v":0},0,null,null,null,null,null,{"$f":"IF($I67<>\"Oui\",$F67*2,($F67+ROUND(J67*$F67/SUM(COUNTRY_INFO!$E67:$G67),0))*2)","v":0},{"$f":"IF($I67<>\"Oui\",$G67*3,($G67+ROUND(J67*$G67/SUM(COUNTRY_INFO!$E67:$G67),0))*3)","v":0},0,null,0]
[{"$f":"IF(INTRO!$E$43=\"Non endémique\",\" \", IF(COUNTRY_INFO!A68=0,\" \",COUNTRY_INFO!A68))","v":"Côte d'Ivoire"},{"$f":"IF(INTRO!$E$43=\"Non endémique\",\" \", IF(COUNTRY_INFO!B68=0,\" \",COUNTRY_INFO!B68))","v":"HAMBOL"},{"$f":"IF(INTRO!$E$43=\"Non endémique\",\" \", IF(COUNTRY_INFO!C68=0,\" \",COUNTRY_INFO!C68))","v":"DABAKALA"},{"$f":"IF(INTRO!$E$43=\"Non endémique\", \"Non requis\", COUNTRY_INFO!Y68)","v":0},{"$f":"IF(OR(COUNTRY_INFO!R68=\"Inconnu\",COUNTRY_INFO!R68=\"Surveillance\",COUNTRY_INFO!R68=\"Non requis\",COUNTRY_INFO!R68=0),0,IF($D68<>0, COUNTRY_INFO!R68,0))","v":0},{"$f":"IF(OR(COUNTRY_INFO!S68=\"Inconnu\",COUNTRY_INFO!S68=\"Surveillance\",COUNTRY_INFO!S68=\"Non requis\",COUNTRY_INFO!S68=0),0,IF($D68<>0, COUNTRY_INFO!S68,0))","v":0},{"$f":"IF(OR(COUNTRY_INFO!T68=\"Inconnu\",COUNTRY_INFO!T68=\"Surveillance\",COUNTRY_INFO!T68=\"Non requis\",COUNTRY_INFO!T68=0),0,IF($D68<>0, COUNTRY_INFO!T68,0))","v":0},0,null,null,null,null,null,{"$f":"IF($I68<>\"Oui\",$F68*2,($F68+ROUND(J68*$F68/SUM(COUNTRY_INFO!$E68:$G68),0))*2)","v":0},{"$f":"IF($I68<>\"Oui\",$G68*3,($G68+ROUND(J68*$G68/SUM(COUNTRY_INFO!$E68:$G68),0))*3)","v":0},0,null,0]
[{"$f":"IF(INTRO!$E$43=\"Non endémique\",\" \", IF(COUNTRY_INFO!A69=0,\" \",COUNTRY_INFO!A69))","v":"Côte d'Ivoire"},{"$f":"IF(INTRO!$E$43=\"Non endémique\",\" \", IF(COUNTRY_INFO!B69=0,\" \",COUNTRY_INFO!B69))","v":"HAMBOL"},{"$f":"IF(INTRO!$E$43=\"Non endémique\",\" \", IF(COUNTRY_INFO!C69=0,\" \",COUNTRY_INFO!C69))","v":"KATIOLA"},{"$f":"IF(INTRO!$E$43=\"Non endémique\", \"Non requis\", COUNTRY_INFO!Y69)","v":1},{"$f":"IF(OR(COUNTRY_INFO!R69=\"Inconnu\",COUNTRY_INFO!R69=\"Surveillance\",COUNTRY_INFO!R69=\"Non requis\",COUNTRY_INFO!R69=0),0,IF($D69<>0, COUNTRY_INFO!R69,0))","v":13188},{"$f":"IF(OR(COUNTRY_INFO!S69=\"Inconnu\",COUNTRY_INFO!S69=\"Surveillance\",COUNTRY_INFO!S69=\"Non requis\",COUNTRY_INFO!S69=0),0,IF($D69<>0, COUNTRY_INFO!S69,0))","v":27527},{"$f":"IF(OR(COUNTRY_INFO!T69=\"Inconnu\",COUNTRY_INFO!T69=\"Surveillance\",COUNTRY_INFO!T69=\"Non requis\",COUNTRY_INFO!T69=0),0,IF($D69<>0, COUNTRY_INFO!T69,0))","v":80867},121582,null,null,null,null,null,{"$f":"IF($I69<>\"Oui\",$F69*2,($F69+ROUND(J69*$F69/SUM(COUNTRY_INFO!$E69:$G69),0))*2)","v":55054},{"$f":"IF($I69<>\"Oui\",$G69*3,($G69+ROUND(J69*$G69/SUM(COUNTRY_INFO!$E69:$G69),0))*3)","v":242601},297655,null,297655]
[{"$f":"IF(INTRO!$E$43=\"Non endémique\",\" \", IF(COUNTRY_INFO!A70=0,\" \",COUNTRY_INFO!A70))","v":"Côte d'Ivoire"},{"$f":"IF(INTRO!$E$43=\"Non endémique\",\" \", IF(COUNTRY_INFO!B70=0,\" \",COUNTRY_INFO!B70))","v":"HAMBOL"},{"$f":"IF(INTRO!$E$43=\"Non endémique\",\" \", IF(COUNTRY_INFO!C70=0,\" \",COUNTRY_INFO!C70))","v":"NIAKARA"},{"$f":"IF(INTRO!$E$43=\"Non endémique\", \"Non requis\", COUNTRY_INFO!Y70)","v":0},{"$f":"IF(OR(COUNTRY_INFO!R70=\"Inconnu\",COUNTRY_INFO!R70=\"Surveillance\",COUNTRY_INFO!R70=\"Non requis\",COUNTRY_INFO!R70=0),0,IF($D70<>0, COUNTRY_INFO!R70,0))","v":0},{"$f":"IF(OR(COUNTRY_INFO!S70=\"Inconnu\",COUNTRY_INFO!S70=\"Surveillance\",COUNTRY_INFO!S70=\"Non requis\",COUNTRY_INFO!S70=0),0,IF($D70<>0, COUNTRY_INFO!S70,0))","v":0},{"$f":"IF(OR(COUNTRY_INFO!T70=\"Inconnu\",COUNTRY_INFO!T70=\"Surveillance\",COUNTRY_INFO!T70=\"Non requis\",COUNTRY_INFO!T70=0),0,IF($D70<>0, COUNTRY_INFO!T70,0))","v":0},0,null,null,null,null,null,{"$f":"IF($I70<>\"Oui\",$F70*2,($F70+ROUND(J70*$F70/SUM(COUNTRY_INFO!$E70:$G70),0))*2)","v":0},{"$f":"IF($I70<>\"Oui\",$G70*3,($G70+ROUND(J70*$G70/SUM(COUNTRY_INFO!$E70:$G70),0))*3)","v":0},0,null,0]
[{"$f":"IF(INTRO!$E$43=\"Non endémique\",\" \", IF(COUNTRY_INFO!A71=0,\" \",COUNTRY_INFO!A71))","v":"Côte d'Ivoire"},{"$f":"IF(INTRO!$E$43=\"Non endémique\",\" \", IF(COUNTRY_INFO!B71=0,\" \",COUNTRY_INFO!B71))","v":"HAUT SASSANDRA"},{"$f":"IF(INTRO!$E$43=\"Non endémique\",\" \", IF(COUNTRY_INFO!C71=0,\" \",COUNTRY_INFO!C71))","v":"DALOA"},{"$f":"IF(INTRO!$E$43=\"Non endémique\", \"Non requis\", COUNTRY_INFO!Y71)","v":1},{"$f":"IF(OR(COUNTRY_INFO!R71=\"Inconnu\",COUNTRY_INFO!R71=\"Surveillance\",COUNTRY_INFO!R71=\"Non requis\",COUNTRY_INFO!R71=0),0,IF($D71<>0, COUNTRY_INFO!R71,0))","v":0},{"$f":"IF(OR(COUNTRY_INFO!S71=\"Inconnu\",COUNTRY_INFO!S71=\"Surveillance\",COUNTRY_INFO!S71=\"Non requis\",COUNTRY_INFO!S71=0),0,IF($D71<>0, COUNTRY_INFO!S71,0))","v":175144},{"$f":"IF(OR(COUNTRY_INFO!T71=\"Inconnu\",COUNTRY_INFO!T71=\"Surveillance\",COUNTRY_INFO!T71=\"Non requis\",COUNTRY_INFO!T71=0),0,IF($D71<>0, COUNTRY_INFO!T71,0))","v":0},175144,null,null,null,null,null,{"$f":"IF($I71<>\"Oui\",$F71*2,($F71+ROUND(J71*$F71/SUM(COUNTRY_INFO!$E71:$G71),0))*2)","v":350288},{"$f":"IF($I71<>\"Oui\",$G71*3,($G71+ROUND(J71*$G71/SUM(COUNTRY_INFO!$E71:$G71),0))*3)","v":0},350288,null,350288]
[{"$f":"IF(INTRO!$E$43=\"Non endémique\",\" \", IF(COUNTRY_INFO!A72=0,\" \",COUNTRY_INFO!A72))","v":"Côte d'Ivoire"},{"$f":"IF(INTRO!$E$43=\"Non endémique\",\" \", IF(COUNTRY_INFO!B72=0,\" \",COUNTRY_INFO!B72))","v":"HAUT SASSANDRA"},{"$f":"IF(INTRO!$E$43=\"Non endémique\",\" \", IF(COUNTRY_INFO!C72=0,\" \",COUNTRY_INFO!C72))","v":"ISSIA"},{"$f":"IF(INTRO!$E$43=\"Non endémique\", \"Non requis\", COUNTRY_INFO!Y72)","v":1},{"$f":"IF(OR(COUNTRY_INFO!R72=\"Inconnu\",COUNTRY_INFO!R72=\"Surveillance\",COUNTRY_INFO!R72=\"Non requis\",COUNTRY_INFO!R72=0),0,IF($D72<>0, COUNTRY_INFO!R72,0))","v":36110},{"$f":"IF(OR(COUNTRY_INFO!S72=\"Inconnu\",COUNTRY_INFO!S72=\"Surveillance\",COUNTRY_INFO!S72=\"Non requis\",COUNTRY_INFO!S72=0),0,IF($D72<>0, COUNTRY_INFO!S72,0))","v":89905},{"$f":"IF(OR(COUNTRY_INFO!T72=\"Inconnu\",COUNTRY_INFO!T72=\"Surveillance\",COUNTRY_INFO!T72=\"Non requis\",COUNTRY_INFO!T72=0),0,IF($D72<>0, COUNTRY_INFO!T72,0))","v":221425},347440,null,null,null,null,null,{"$f":"IF($I72<>\"Oui\",$F72*2,($F72+ROUND(J72*$F72/SUM(COUNTRY_INFO!$E72:$G72),0))*2)","v":179810},{"$f":"IF($I72<>\"Oui\",$G72*3,($G72+ROUND(J72*$G72/SUM(COUNTRY_INFO!$E72:$G72),0))*3)","v":664275},844085,null,844085]
[{"$f":"IF(INTRO!$E$43=\"Non endémique\",\" \", IF(COUNTRY_INFO!A73=0,\" \",COUNTRY_INFO!A73))","v":"Côte d'Ivoire"},{"$f":"IF(INTRO!$E$43=\"Non endémique\",\" \", IF(COUNTRY_INFO!B73=0,\" \",COUNTRY_INFO!B73))","v":"HAUT SASSANDRA"},{"$f":"IF(INTRO!$E$43=\"Non endémique\",\" \", IF(COUNTRY_INFO!C73=0,\" \",COUNTRY_INFO!C73))","v":"VAVOUA"},{"$f":"IF(INTRO!$E$43=\"Non endémique\", \"Non requis\", COUNTRY_INFO!Y73)","v":0},{"$f":"IF(OR(COUNTRY_INFO!R73=\"Inconnu\",COUNTRY_INFO!R73=\"Surveillance\",COUNTRY_INFO!R73=\"Non requis\",COUNTRY_INFO!R73=0),0,IF($D73<>0, COUNTRY_INFO!R73,0))","v":0},{"$f":"IF(OR(COUNTRY_INFO!S73=\"Inconnu\",COUNTRY_INFO!S73=\"Surveillance\",COUNTRY_INFO!S73=\"Non requis\",COUNTRY_INFO!S73=0),0,IF($D73<>0, COUNTRY_INFO!S73,0))","v":0},{"$f":"IF(OR(COUNTRY_INFO!T73=\"Inconnu\",COUNTRY_INFO!T73=\"Surveillance\",COUNTRY_INFO!T73=\"Non requis\",COUNTRY_INFO!T73=0),0,IF($D73<>0, COUNTRY_INFO!T73,0))","v":0},0,null,null,null,null,null,{"$f":"IF($I73<>\"Oui\",$F73*2,($F73+ROUND(J73*$F73/SUM(COUNTRY_INFO!$E73:$G73),0))*2)","v":0},{"$f":"IF($I73<>\"Oui\",$G73*3,($G73+ROUND(J73*$G73/SUM(COUNTRY_INFO!$E73:$G73),0))*3)","v":0},0,null,0]
[{"$f":"IF(INTRO!$E$43=\"Non endémique\",\" \", IF(COUNTRY_INFO!A74=0,\" \",COUNTRY_INFO!A74))","v":"Côte d'Ivoire"},{"$f":"IF(INTRO!$E$43=\"Non endémique\",\" \", IF(COUNTRY_INFO!B74=0,\" \",COUNTRY_INFO!B74))","v":"HAUT SASSANDRA"},{"$f":"IF(INTRO!$E$43=\"Non endémique\",\" \", IF(COUNTRY_INFO!C74=0,\" \",COUNTRY_INFO!C74))","v":"ZOUKOUGBEU"},{"$f":"IF(INTRO!$E$43=\"Non endémique\", \"Non requis\", COUNTRY_INFO!Y74)","v":1},{"$f":"IF(OR(COUNTRY_INFO!R74=\"Inconnu\",COUNTRY_INFO!R74=\"Surveillance\",COUNTRY_INFO!R74=\"Non requis\",COUNTRY_INFO!R74=0),0,IF($D74<>0, COUNTRY_INFO!R74,0))","v":0},{"$f":"IF(OR(COUNTRY_INFO!S74=\"Inconnu\",COUNTRY_INFO!S74=\"Surveillance\",COUNTRY_INFO!S74=\"Non requis\",COUNTRY_INFO!S74=0),0,IF($D74<>0, COUNTRY_INFO!S74,0))","v":32716},{"$f":"IF(OR(COUNTRY_INFO!T74=\"Inconnu\",COUNTRY_INFO!T74=\"Surveillance\",COUNTRY_INFO!T74=\"Non requis\",COUNTRY_INFO!T74=0),0,IF($D74<>0, COUNTRY_INFO!T74,0))","v":0},32716,null,null,null,null,null,{"$f":"IF($I74<>\"Oui\",$F74*2,($F74+ROUND(J74*$F74/SUM(COUNTRY_INFO!$E74:$G74),0))*2)","v":65432},{"$f":"IF($I74<>\"Oui\",$G74*3,($G74+ROUND(J74*$G74/SUM(COUNTRY_INFO!$E74:$G74),0))*3)","v":0},65432,null,65432]
[{"$f":"IF(INTRO!$E$43=\"Non endémique\",\" \", IF(COUNTRY_INFO!A75=0,\" \",COUNTRY_INFO!A75))","v":"Côte d'Ivoire"},{"$f":"IF(INTRO!$E$43=\"Non endémique\",\" \", IF(COUNTRY_INFO!B75=0,\" \",COUNTRY_INFO!B75))","v":"IFFOU"},{"$f":"IF(INTRO!$E$43=\"Non endémique\",\" \", IF(COUNTRY_INFO!C75=0,\" \",COUNTRY_INFO!C75))","v":"DAOUKRO"},{"$f":"IF(INTRO!$E$43=\"Non endémique\", \"Non requis\", COUNTRY_INFO!Y75)","v":1},{"$f":"IF(OR(COUNTRY_INFO!R75=\"Inconnu\",COUNTRY_INFO!R75=\"Surveillance\",COUNTRY_INFO!R75=\"Non requis\",COUNTRY_INFO!R75=0),0,IF($D75<>0, COUNTRY_INFO!R75,0))","v":20477},{"$f":"IF(OR(COUNTRY_INFO!S75=\"Inconnu\",COUNTRY_INFO!S75=\"Surveillance\",COUNTRY_INFO!S75=\"Non requis\",COUNTRY_INFO!S75=0),0,IF($D75<>0, COUNTRY_INFO!S75,0))","v":26629},{"$f":"IF(OR(COUNTRY_INFO!T75=\"Inconnu\",COUNTRY_INFO!T75=\"Surveillance\",COUNTRY_INFO!T75=\"Non requis\",COUNTRY_INFO!T75=0),0,IF($D75<>0, COUNTRY_INFO!T75,0))","v":125563},{"$f":"SUM(E75:G75)","v":172669},null,null,null,null,null,{"$f":"IF($I75<>\"Oui\",$F75*2,($F75+ROUND(J75*$F75/SUM(COUNTRY_INFO!$E75:$G75),0))*2)","v":53258},{"$f":"IF($I75<>\"Oui\",$G75*3,($G75+ROUND(J75*$G75/SUM(COUNTRY_INFO!$E75:$G75),0))*3)","v":376689},{"$f":"SUM(M75:O75)","v":429947},null,{"$f":"IF($P75>$Q75,P75-Q75,0)","v":429947}]
[{"$f":"IF(INTRO!$E$43=\"Non endémique\",\" \", IF(COUNTRY_INFO!A76=0,\" \",COUNTRY_INFO!A76))","v":"Côte d'Ivoire"},{"$f":"IF(INTRO!$E$43=\"Non endémique\",\" \", IF(COUNTRY_INFO!B76=0,\" \",COUNTRY_INFO!B76))","v":"IFFOU"},{"$f":"IF(INTRO!$E$43=\"Non endémique\",\" \", IF(COUNTRY_INFO!C76=0,\" \",COUNTRY_INFO!C76))","v":"M'BAHIAKRO"},{"$f":"IF(INTRO!$E$43=\"Non endémique\", \"Non requis\", COUNTRY_INFO!Y76)","v":1},{"$f":"IF(OR(COUNTRY_INFO!R76=\"Inconnu\",COUNTRY_INFO!R76=\"Surveillance\",COUNTRY_INFO!R76=\"Non requis\",COUNTRY_INFO!R76=0),0,IF($D76<>0, COUNTRY_INFO!R76,0))","v":10268},{"$f":"IF(OR(COUNTRY_INFO!S76=\"Inconnu\",COUNTRY_INFO!S76=\"Surveillance\",COUNTRY_INFO!S76=\"Non requis\",COUNTRY_INFO!S76=0),0,IF($D76<>0, COUNTRY_INFO!S76,0))","v":23966},{"$f":"IF(OR(COUNTRY_INFO!T76=\"Inconnu\",COUNTRY_INFO!T76=\"Surveillance\",COUNTRY_INFO!T76=\"Non requis\",COUNTRY_INFO!T76=0),0,IF($D76<>0, COUNTRY_INFO!T76,0))","v":62960},97194,null,null,null,null,null,{"$f":"IF($I76<>\"Oui\",$F76*2,($F76+ROUND(J76*$F76/SUM(COUNTRY_INFO!$E76:$G76),0))*2)","v":47932},{"$f":"IF($I76<>\"Oui\",$G76*3,($G76+ROUND(J76*$G76/SUM(COUNTRY_INFO!$E76:$G76),0))*3)","v":188880},236812,null,236812]
[{"$f":"IF(INTRO!$E$43=\"Non endémique\",\" \", IF(COUNTRY_INFO!A77=0,\" \",COUNTRY_INFO!A77))","v":"Côte d'Ivoire"},{"$f":"IF(INTRO!$E$43=\"Non endémique\",\" \", IF(COUNTRY_INFO!B77=0,\" \",COUNTRY_INFO!B77))","v":"IFFOU"},{"$f":"IF(INTRO!$E$43=\"Non endémique\",\" \", IF(COUNTRY_INFO!C77=0,\" \",COUNTRY_INFO!C77))","v":"PRIKRO"},{"$f":"IF(INTRO!$E$43=\"Non endémique\", \"Non requis\", COUNTRY_INFO!Y77)","v":1},{"$f":"IF(OR(COUNTRY_INFO!R77=\"Inconnu\",COUNTRY_INFO!R77=\"Surveillance\",COUNTRY_INFO!R77=\"Non requis\",COUNTRY_INFO!R77=0),0,IF($D77<>0, COUNTRY_INFO!R77,0))","v":9369},{"$f":"IF(OR(COUNTRY_INFO!S77=\"Inconnu\",COUNTRY_INFO!S77=\"Surveillance\",COUNTRY_INFO!S77=\"Non requis\",COUNTRY_INFO!S77=0),0,IF($D77<>0, COUNTRY_INFO!S77,0))","v":15310},{"$f":"IF(OR(COUNTRY_INFO!T77=\"Inconnu\",COUNTRY_INFO!T77=\"Surveillance\",COUNTRY_INFO!T77=\"Non requis\",COUNTRY_INFO!T77=0),0,IF($D77<>0, COUNTRY_INFO!T77,0))","v":57451},82130,null,null,null,null,null,{"$f":"IF($I77<>\"Oui\",$F77*2,($F77+ROUND(J77*$F77/SUM(COUNTRY_INFO!$E77:$G77),0))*2)","v":30620},{"$f":"IF($I77<>\"Oui\",$G77*3,($G77+ROUND(J77*$G77/SUM(COUNTRY_INFO!$E77:$G77),0))*3)","v":172353},202973,null,202973]
[{"$f":"IF(INTRO!$E$43=\"Non endémique\",\" \", IF(COUNTRY_INFO!A78=0,\" \",COUNTRY_INFO!A78))","v":"Côte d'Ivoire"},{"$f":"IF(INTRO!$E$43=\"Non endémique\",\" \", IF(COUNTRY_INFO!B78=0,\" \",COUNTRY_INFO!B78))","v":"INDENIE-DJUABLIN"},{"$f":"IF(INTRO!$E$43=\"Non endémique\",\" \", IF(COUNTRY_INFO!C78=0,\" \",COUNTRY_INFO!C78))","v":"ABENGOUROU"},{"$f":"IF(INTRO!$E$43=\"Non endémique\", \"Non requis\", COUNTRY_INFO!Y78)","v":1},{"$f":"IF(OR(COUNTRY_INFO!R78=\"Inconnu\",COUNTRY_INFO!R78=\"Surveillance\",COUNTRY_INFO!R78=\"Non requis\",COUNTRY_INFO!R78=0),0,IF($D78<>0, COUNTRY_INFO!R78,0))","v":40122},{"$f":"IF(OR(COUNTRY_INFO!S78=\"Inconnu\",COUNTRY_INFO!S78=\"Surveillance\",COUNTRY_INFO!S78=\"Non requis\",COUNTRY_INFO!S78=0),0,IF($D78<>0, COUNTRY_INFO!S78,0))","v":88728},{"$f":"IF(OR(COUNTRY_INFO!T78=\"Inconnu\",COUNTRY_INFO!T78=\"Surveillance\",COUNTRY_INFO!T78=\"Non requis\",COUNTRY_INFO!T78=0),0,IF($D78<>0, COUNTRY_INFO!T78,0))","v":246024},374874,null,null,null,null,null,{"$f":"IF($I78<>\"Oui\",$F78*2,($F78+ROUND(J78*$F78/SUM(COUNTRY_INFO!$E78:$G78),0))*2)","v":177456},{"$f":"IF($I78<>\"Oui\",$G78*3,($G78+ROUND(J78*$G78/SUM(COUNTRY_INFO!$E78:$G78),0))*3)","v":738072},915528,null,915528]
[{"$f":"IF(INTRO!$E$43=\"Non endémique\",\" \", IF(COUNTRY_INFO!A79=0,\" \",COUNTRY_INFO!A79))","v":"Côte d'Ivoire"},{"$f":"IF(INTRO!$E$43=\"Non endémique\",\" \", IF(COUNTRY_INFO!B79=0,\" \",COUNTRY_INFO!B79))","v":"INDENIE-DJUABLIN"},{"$f":"IF(INTRO!$E$43=\"Non endémique\",\" \", IF(COUNTRY_INFO!C79=0,\" \",COUNTRY_INFO!C79))","v":"AGNIBILEKRO"},{"$f":"IF(INTRO!$E$43=\"Non endémique\", \"Non requis\", COUNTRY_INFO!Y79)","v":1},{"$f":"IF(OR(COUNTRY_INFO!R79=\"Inconnu\",COUNTRY_INFO!R79=\"Surveillance\",COUNTRY_INFO!R79=\"Non requis\",COUNTRY_INFO!R79=0),0,IF($D79<>0, COUNTRY_INFO!R79,0))","v":0},{"$f":"IF(OR(COUNTRY_INFO!S79=\"Inconnu\",COUNTRY_INFO!S79=\"Surveillance\",COUNTRY_INFO!S79=\"Non requis\",COUNTRY_INFO!S79=0),0,IF($D79<>0, COUNTRY_INFO!S79,0))","v":43118},{"$f":"IF(OR(COUNTRY_INFO!T79=\"Inconnu\",COUNTRY_INFO!T79=\"Surveillance\",COUNTRY_INFO!T79=\"Non requis\",COUNTRY_INFO!T79=0),0,IF($D79<>0, COUNTRY_INFO!T79,0))","v":0},43118,null,null,null,null,null,{"$f":"IF($I79<>\"Oui\",$F79*2,($F79+ROUND(J79*$F79/SUM(COUNTRY_INFO!$E79:$G79),0))*2)","v":86236},{"$f":"IF($I79<>\"Oui\",$G79*3,($G79+ROUND(J79*$G79/SUM(COUNTRY_INFO!$E79:$G79),0))*3)","v":0},86236,null,86236]
[{"$f":"IF(INTRO!$E$43=\"Non endémique\",\" \", IF(COUNTRY_INFO!A80=0,\" \",COUNTRY_INFO!A80))","v":"Côte d'Ivoire"},{"$f":"IF(INTRO!$E$43=\"Non endémique\",\" \", IF(COUNTRY_INFO!B80=0,\" \",COUNTRY_INFO!B80))","v":"INDENIE-DJUABLIN"},{"$f":"IF(INTRO!$E$43=\"Non endémique\",\" \", IF(COUNTRY_INFO!C80=0,\" \",COUNTRY_INFO!C80))","v":"BETTIE"},{"$f":"IF(INTRO!$E$43=\"Non endémique\", \"Non requis\", COUNTRY_INFO!Y80)","v":1},{"$f":"IF(OR(COUNTRY_INFO!R80=\"Inconnu\",COUNTRY_INFO!R80=\"Surveillance\",COUNTRY_INFO!R80=\"Non requis\",COUNTRY_INFO!R80=0),0,IF($D80<>0, COUNTRY_INFO!R80,0))","v":6695},{"$f":"IF(OR(COUNTRY_INFO!S80=\"Inconnu\",COUNTRY_INFO!S80=\"Surveillance\",COUNTRY_INFO!S80=\"Non requis\",COUNTRY_INFO!S80=0),0,IF($D80<>0, COUNTRY_INFO!S80,0))","v":11380},{"$f":"IF(OR(COUNTRY_INFO!T80=\"Inconnu\",COUNTRY_INFO!T80=\"Surveillance\",COUNTRY_INFO!T80=\"Non requis\",COUNTRY_INFO!T80=0),0,IF($D80<>0, COUNTRY_INFO!T80,0))","v":41056},59131,null,null,null,null,null,{"$f":"IF($I80<>\"Oui\",$F80*2,($F80+ROUND(J80*$F80/SUM(COUNTRY_INFO!$E80:$G80),0))*2)","v":22760},{"$f":"IF($I80<>\"Oui\",$G80*3,($G80+ROUND(J80*$G80/SUM(COUNTRY_INFO!$E80:$G80),0))*3)","v":123168},145928,null,145928]
[{"$f":"IF(INTRO!$E$43=\"Non endémique\",\" \", IF(COUNTRY_INFO!A81=0,\" \",COUNTRY_INFO!A81))","v":"Côte d'Ivoire"},{"$f":"IF(INTRO!$E$43=\"Non endémique\",\" \", IF(COUNTRY_INFO!B81=0,\" \",COUNTRY_INFO!B81))","v":"KABADOUGOU"},{"$f":"IF(INTRO!$E$43=\"Non endémique\",\" \", IF(COUNTRY_INFO!C81=0,\" \",COUNTRY_INFO!C81))","v":"MADINANI"},{"$f":"IF(INTRO!$E$43=\"Non endémique\", \"Non requis\", COUNTRY_INFO!Y81)","v":0},{"$f":"IF(OR(COUNTRY_INFO!R81=\"Inconnu\",COUNTRY_INFO!R81=\"Surveillance\",COUNTRY_INFO!R81=\"Non requis\",COUNTRY_INFO!R81=0),0,IF($D81<>0, COUNTRY_INFO!R81,0))","v":0},{"$f":"IF(OR(COUNTRY_INFO!S81=\"Inconnu\",COUNTRY_INFO!S81=\"Surveillance\",COUNTRY_INFO!S81=\"Non requis\",COUNTRY_INFO!S81=0),0,IF($D81<>0, COUNTRY_INFO!S81,0))","v":0},{"$f":"IF(OR(COUNTRY_INFO!T81=\"Inconnu\",COUNTRY_INFO!T81=\"Surveillance\",COUNTRY_INFO!T81=\"Non requis\",COUNTRY_INFO!T81=0),0,IF($D81<>0, COUNTRY_INFO!T81,0))","v":0},0,null,null,null,null,null,{"$f":"IF($I81<>\"Oui\",$F81*2,($F81+ROUND(J81*$F81/SUM(COUNTRY_INFO!$E81:$G81),0))*2)","v":0},{"$f":"IF($I81<>\"Oui\",$G81*3,($G81+ROUND(J81*$G81/SUM(COUNTRY_INFO!$E81:$G81),0))*3)","v":0},0,null,0]
[{"$f":"IF(INTRO!$E$43=\"Non endémique\",\" \", IF(COUNTRY_INFO!A82=0,\" \",COUNTRY_INFO!A82))","v":"Côte d'Ivoire"},{"$f":"IF(INTRO!$E$43=\"Non endémique\",\" \", IF(COUNTRY_INFO!B82=0,\" \",COUNTRY_INFO!B82))","v":"KABADOUGOU"},{"$f":"IF(INTRO!$E$43=\"Non endémique\",\" \", IF(COUNTRY_INFO!C82=0,\" \",COUNTRY_INFO!C82))","v":"ODIENNE"},{"$f":"IF(INTRO!$E$43=\"Non endémique\", \"Non requis\", COUNTRY_INFO!Y82)","v":1},{"$f":"IF(OR(COUNTRY_INFO!R82=\"Inconnu\",COUNTRY_INFO!R82=\"Surveillance\",COUNTRY_INFO!R82=\"Non requis\",COUNTRY_INFO!R82=0),0,IF($D82<>0, COUNTRY_INFO!R82,0))","v":14583},{"$f":"IF(OR(COUNTRY_INFO!S82=\"Inconnu\",COUNTRY_INFO!S82=\"Surveillance\",COUNTRY_INFO!S82=\"Non requis\",COUNTRY_INFO!S82=0),0,IF($D82<>0, COUNTRY_INFO!S82,0))","v":36020},{"$f":"IF(OR(COUNTRY_INFO!T82=\"Inconnu\",COUNTRY_INFO!T82=\"Surveillance\",COUNTRY_INFO!T82=\"Non requis\",COUNTRY_INFO!T82=0),0,IF($D82<>0, COUNTRY_INFO!T82,0))","v":89420},140023,null,null,null,null,null,{"$f":"IF($I82<>\"Oui\",$F82*2,($F82+ROUND(J82*$F82/SUM(COUNTRY_INFO!$E82:$G82),0))*2)","v":72040},{"$f":"IF($I82<>\"Oui\",$G82*3,($G82+ROUND(J82*$G82/SUM(COUNTRY_INFO!$E82:$G82),0))*3)","v":268260},340300,null,340300]
[{"$f":"IF(INTRO!$E$43=\"Non endémique\",\" \", IF(COUNTRY_INFO!A83=0,\" \",COUNTRY_INFO!A83))","v":"Côte d'Ivoire"},{"$f":"IF(INTRO!$E$43=\"Non endémique\",\" \", IF(COUNTRY_INFO!B83=0,\" \",COUNTRY_INFO!B83))","v":"LOH-DJIBOUA"},{"$f":"IF(INTRO!$E$43=\"Non endémique\",\" \", IF(COUNTRY_INFO!C83=0,\" \",COUNTRY_INFO!C83))","v":"DIVO"},{"$f":"IF(INTRO!$E$43=\"Non endémique\", \"Non requis\", COUNTRY_INFO!Y83)","v":1},{"$f":"IF(OR(COUNTRY_INFO!R83=\"Inconnu\",COUNTRY_INFO!R83=\"Surveillance\",COUNTRY_INFO!R83=\"Non requis\",COUNTRY_INFO!R83=0),0,IF($D83<>0, COUNTRY_INFO!R83,0))","v":44819},{"$f":"IF(OR(COUNTRY_INFO!S83=\"Inconnu\",COUNTRY_INFO!S83=\"Surveillance\",COUNTRY_INFO!S83=\"Non requis\",COUNTRY_INFO!S83=0),0,IF($D83<>0, COUNTRY_INFO!S83,0))","v":6859},{"$f":"IF(OR(COUNTRY_INFO!T83=\"Inconnu\",COUNTRY_INFO!T83=\"Surveillance\",COUNTRY_INFO!T83=\"Non requis\",COUNTRY_INFO!T83=0),0,IF($D83<>0, COUNTRY_INFO!T83,0))","v":274822},326500,null,null,null,null,null,{"$f":"IF($I83<>\"Oui\",$F83*2,($F83+ROUND(J83*$F83/SUM(COUNTRY_INFO!$E83:$G83),0))*2)","v":13718},{"$f":"IF($I83<>\"Oui\",$G83*3,($G83+ROUND(J83*$G83/SUM(COUNTRY_INFO!$E83:$G83),0))*3)","v":824466},838184,null,838184]
[{"$f":"IF(INTRO!$E$43=\"Non endémique\",\" \", IF(COUNTRY_INFO!A84=0,\" \",COUNTRY_INFO!A84))","v":"Côte d'Ivoire"},{"$f":"IF(INTRO!$E$43=\"Non endémique\",\" \", IF(COUNTRY_INFO!B84=0,\" \",COUNTRY_INFO!B84))","v":"LOH-DJIBOUA"},{"$f":"IF(INTRO!$E$43=\"Non endémique\",\" \", IF(COUNTRY_INFO!C84=0,\" \",COUNTRY_INFO!C84))","v":"GUITRY"},{"$f":"IF(INTRO!$E$43=\"Non endémique\", \"Non requis\", COUNTRY_INFO!Y84)","v":0},{"$f":"IF(OR(COUNTRY_INFO!R84=\"Inconnu\",COUNTRY_INFO!R84=\"Surveillance\",COUNTRY_INFO!R84=\"Non requis\",COUNTRY_INFO!R84=0),0,IF($D84<>0, COUNTRY_INFO!R84,0))","v":0},{"$f":"IF(OR(COUNTRY_INFO!S84=\"Inconnu\",COUNTRY_INFO!S84=\"Surveillance\",COUNTRY_INFO!S84=\"Non requis\",COUNTRY_INFO!S84=0),0,IF($D84<>0, COUNTRY_INFO!S84,0))","v":0},{"$f":"IF(OR(COUNTRY_INFO!T84=\"Inconnu\",COUNTRY_INFO!T84=\"Surveillance\",COUNTRY_INFO!T84=\"Non requis\",COUNTRY_INFO!T84=0),0,IF($D84<>0, COUNTRY_INFO!T84,0))","v":0},0,null,null,null,null,null,{"$f":"IF($I84<>\"Oui\",$F84*2,($F84+ROUND(J84*$F84/SUM(COUNTRY_INFO!$E84:$G84),0))*2)","v":0},{"$f":"IF($I84<>\"Oui\",$G84*3,($G84+ROUND(J84*$G84/SUM(COUNTRY_INFO!$E84:$G84),0))*3)","v":0},0,null,0]
[{"$f":"IF(INTRO!$E$43=\"Non endémique\",\" \", IF(COUNTRY_INFO!A85=0,\" \",COUNTRY_INFO!A85))","v":"Côte d'Ivoire"},{"$f":"IF(INTRO!$E$43=\"Non endémique\",\" \", IF(COUNTRY_INFO!B85=0,\" \",COUNTRY_INFO!B85))","v":"LOH-DJIBOUA"},{"$f":"IF(INTRO!$E$43=\"Non endémique\",\" \", IF(COUNTRY_INFO!C85=0,\" \",COUNTRY_INFO!C85))","v":"LAKOTA"},{"$f":"IF(INTRO!$E$43=\"Non endémique\", \"Non requis\", COUNTRY_INFO!Y85)","v":1},{"$f":"IF(OR(COUNTRY_INFO!R85=\"Inconnu\",COUNTRY_INFO!R85=\"Surveillance\",COUNTRY_INFO!R85=\"Non requis\",COUNTRY_INFO!R85=0),0,IF($D85<>0, COUNTRY_INFO!R85,0))","v":23834},{"$f":"IF(OR(COUNTRY_INFO!S85=\"Inconnu\",COUNTRY_INFO!S85=\"Surveillance\",COUNTRY_INFO!S85=\"Non requis\",COUNTRY_INFO!S85=0),0,IF($D85<>0, COUNTRY_INFO!S85,0))","v":4796},{"$f":"IF(OR(COUNTRY_INFO!T85=\"Inconnu\",COUNTRY_INFO!T85=\"Surveillance\",COUNTRY_INFO!T85=\"Non requis\",COUNTRY_INFO!T85=0),0,IF($D85<>0, COUNTRY_INFO!T85,0))","v":146150},174780,null,null,null,null,null,{"$f":"IF($I85<>\"Oui\",$F85*2,($F85+ROUND(J85*$F85/SUM(COUNTRY_INFO!$E85:$G85),0))*2)","v":9592},{"$f":"IF($I85<>\"Oui\",$G85*3,($G85+ROUND(J85*$G85/SUM(COUNTRY_INFO!$E85:$G85),0))*3)","v":438450},448042,null,448042]
[{"$f":"IF(INTRO!$E$43=\"Non endémique\",\" \", IF(COUNTRY_INFO!A86=0,\" \",COUNTRY_INFO!A86))","v":"Côte d'Ivoire"},{"$f":"IF(INTRO!$E$43=\"Non endémique\",\" \", IF(COUNTRY_INFO!B86=0,\" \",COUNTRY_INFO!B86))","v":"MARAHOUE"},{"$f":"IF(INTRO!$E$43=\"Non endémique\",\" \", IF(COUNTRY_INFO!C86=0,\" \",COUNTRY_INFO!C86))","v":"BOUAFLE"},{"$f":"IF(INTRO!$E$43=\"Non endémique\", \"Non requis\", COUNTRY_INFO!Y86)","v":0},{"$f":"IF(OR(COUNTRY_INFO!R86=\"Inconnu\",COUNTRY_INFO!R86=\"Surveillance\",COUNTRY_INFO!R86=\"Non requis\",COUNTRY_INFO!R86=0),0,IF($D86<>0, COUNTRY_INFO!R86,0))","v":0},{"$f":"IF(OR(COUNTRY_INFO!S86=\"Inconnu\",COUNTRY_INFO!S86=\"Surveillance\",COUNTRY_INFO!S86=\"Non requis\",COUNTRY_INFO!S86=0),0,IF($D86<>0, COUNTRY_INFO!S86,0))","v":0},{"$f":"IF(OR(COUNTRY_INFO!T86=\"Inconnu\",COUNTRY_INFO!T86=\"Surveillance\",COUNTRY_INFO!T86=\"Non requis\",COUNTRY_INFO!T86=0),0,IF($D86<>0, COUNTRY_INFO!T86,0))","v":0},0,null,null,null,null,null,{"$f":"IF($I86<>\"Oui\",$F86*2,($F86+ROUND(J86*$F86/SUM(COUNTRY_INFO!$E86:$G86),0))*2)","v":0},{"$f":"IF($I86<>\"Oui\",$G86*3,($G86+ROUND(J86*$G86/SUM(COUNTRY_INFO!$E86:$G86),0))*3)","v":0},0,null,0]
[{"$f":"IF(INTRO!$E$43=\"Non endémique\",\" \", IF(COUNTRY_INFO!A87=0,\" \",COUNTRY_INFO!A87))","v":"Côte d'Ivoire"},{"$f":"IF(INTRO!$E$43=\"Non endémique\",\" \", IF(COUNTRY_INFO!B87=0,\" \",COUNTRY_INFO!B87))","v":"MARAHOUE"},{"$f":"IF(INTRO!$E$43=\"Non endémique\",\" \", IF(COUNTRY_INFO!C87=0,\" \",COUNTRY_INFO!C87))","v":"SINFRA"},{"$f":"IF(INTRO!$E$43=\"Non endémique\", \"Non requis\", COUNTRY_INFO!Y87)","v":0},{"$f":"IF(OR(COUNTRY_INFO!R87=\"Inconnu\",COUNTRY_INFO!R87=\"Surveillance\",COUNTRY_INFO!R87=\"Non requis\",COUNTRY_INFO!R87=0),0,IF($D87<>0, COUNTRY_INFO!R87,0))","v":0},{"$f":"IF(OR(COUNTRY_INFO!S87=\"Inconnu\",COUNTRY_INFO!S87=\"Surveillance\",COUNTRY_INFO!S87=\"Non requis\",COUNTRY_INFO!S87=0),0,IF($D87<>0, COUNTRY_INFO!S87,0))","v":0},{"$f":"IF(OR(COUNTRY_INFO!T87=\"Inconnu\",COUNTRY_INFO!T87=\"Surveillance\",COUNTRY_INFO!T87=\"Non requis\",COUNTRY_INFO!T87=0),0,IF($D87<>0, COUNTRY_INFO!T87,0))","v":0},0,null,null,null,null,null,{"$f":"IF($I87<>\"Oui\",$F87*2,($F87+ROUND(J87*$F87/SUM(COUNTRY_INFO!$E87:$G87),0))*2)","v":0},{"$f":"IF($I87<>\"Oui\",$G87*3,($G87+ROUND(J87*$G87/SUM(COUNTRY_INFO!$E87:$G87),0))*3)","v":0},0,null,0]
[{"$f":"IF(INTRO!$E$43=\"Non endémique\",\" \", IF(COUNTRY_INFO!A88=0,\" \",COUNTRY_INFO!A88))","v":"Côte d'Ivoire"},{"$f":"IF(INTRO!$E$43=\"Non endémique\",\" \", IF(COUNTRY_INFO!B88=0,\" \",COUNTRY_INFO!B88))","v":"MARAHOUE"},{"$f":"IF(INTRO!$E$43=\"Non endémique\",\" \", IF(COUNTRY_INFO!C88=0,\" \",COUNTRY_INFO!C88))","v":"ZUENOULA"},{"$f":"IF(INTRO!$E$43=\"Non endémique\", \"Non requis\", COUNTRY_INFO!Y88)","v":0},{"$f":"IF(OR(COUNTRY_INFO!R88=\"Inconnu\",COUNTRY_INFO!R88=\"Surveillance\",COUNTRY_INFO!R88=\"Non requis\",COUNTRY_INFO!R88=0),0,IF($D88<>0, COUNTRY_INFO!R88,0))","v":0},{"$f":"IF(OR(COUNTRY_INFO!S88=\"Inconnu\",COUNTRY_INFO!S88=\"Surveillance\",COUNTRY_INFO!S88=\"Non requis\",COUNTRY_INFO!S88=0),0,IF($D88<>0, COUNTRY_INFO!S88,0))","v":0},{"$f":"IF(OR(COUNTRY_INFO!T88=\"Inconnu\",COUNTRY_INFO!T88=\"Surveillance\",COUNTRY_INFO!T88=\"Non requis\",COUNTRY_INFO!T88=0),0,IF($D88<>0, COUNTRY_INFO!T88,0))","v":0},0,null,null,null,null,null,{"$f":"IF($I88<>\"Oui\",$F88*2,($F88+ROUND(J88*$F88/SUM(COUNTRY_INFO!$E88:$G88),0))*2)","v":0},{"$f":"IF($I88<>\"Oui\",$G88*3,($G88+ROUND(J88*$G88/SUM(COUNTRY_INFO!$E88:$G88),0))*3)","v":0},0,null,0]
[{"$f":"IF(INTRO!$E$43=\"Non endémique\",\" \", IF(COUNTRY_INFO!A89=0,\" \",COUNTRY_INFO!A89))","v":"Côte d'Ivoire"},{"$f":"IF(INTRO!$E$43=\"Non endémique\",\" \", IF(COUNTRY_INFO!B89=0,\" \",COUNTRY_INFO!B89))","v":"ME"},{"$f":"IF(INTRO!$E$43=\"Non endémique\",\" \", IF(COUNTRY_INFO!C89=0,\" \",COUNTRY_INFO!C89))","v":"ADZOPE"},{"$f":"IF(INTRO!$E$43=\"Non endémique\", \"Non requis\", COUNTRY_INFO!Y89)","v":0},{"$f":"IF(OR(COUNTRY_INFO!R89=\"Inconnu\",COUNTRY_INFO!R89=\"Surveillance\",COUNTRY_INFO!R89=\"Non requis\",COUNTRY_INFO!R89=0),0,IF($D89<>0, COUNTRY_INFO!R89,0))","v":0},{"$f":"IF(OR(COUNTRY_INFO!S89=\"Inconnu\",COUNTRY_INFO!S89=\"Surveillance\",COUNTRY_INFO!S89=\"Non requis\",COUNTRY_INFO!S89=0),0,IF($D89<>0, COUNTRY_INFO!S89,0))","v":0},{"$f":"IF(OR(COUNTRY_INFO!T89=\"Inconnu\",COUNTRY_INFO!T89=\"Surveillance\",COUNTRY_INFO!T89=\"Non requis\",COUNTRY_INFO!T89=0),0,IF($D89<>0, COUNTRY_INFO!T89,0))","v":0},0,null,null,null,null,null,{"$f":"IF($I89<>\"Oui\",$F89*2,($F89+ROUND(J89*$F89/SUM(COUNTRY_INFO!$E89:$G89),0))*2)","v":0},{"$f":"IF($I89<>\"Oui\",$G89*3,($G89+ROUND(J89*$G89/SUM(COUNTRY_INFO!$E89:$G89),0))*3)","v":0},0,null,0]
[{"$f":"IF(INTRO!$E$43=\"Non endémique\",\" \", IF(COUNTRY_INFO!A90=0,\" \",COUNTRY_INFO!A90))","v":"Côte d'Ivoire"},{"$f":"IF(INTRO!$E$43=\"Non endémique\",\" \", IF(COUNTRY_INFO!B90=0,\" \",COUNTRY_INFO!B90))","v":"ME"},{"$f":"IF(INTRO!$E$43=\"Non endémique\",\" \", IF(COUNTRY_INFO!C90=0,\" \",COUNTRY_INFO!C90))","v":"AKOUPE"},{"$f":"IF(INTRO!$E$43=\"Non endémique\", \"Non requis\", COUNTRY_INFO!Y90)","v":0},{"$f":"IF(OR(COUNTRY_INFO!R90=\"Inconnu\",COUNTRY_INFO!R90=\"Surveillance\",COUNTRY_INFO!R90=\"Non requis\",COUNTRY_INFO!R90=0),0,IF($D90<>0, COUNTRY_INFO!R90,0))","v":0},{"$f":"IF(OR(COUNTRY_INFO!S90=\"Inconnu\",COUNTRY_INFO!S90=\"Surveillance\",COUNTRY_INFO!S90=\"Non requis\",COUNTRY_INFO!S90=0),0,IF($D90<>0, COUNTRY_INFO!S90,0))","v":0},{"$f":"IF(OR(COUNTRY_INFO!T90=\"Inconnu\",COUNTRY_INFO!T90=\"Surveillance\",COUNTRY_INFO!T90=\"Non requis\",COUNTRY_INFO!T90=0),0,IF($D90<>0, COUNTRY_INFO!T90,0))","v":0},0,null,null,null,null,null,{"$f":"IF($I90<>\"Oui\",$F90*2,($F90+ROUND(J90*$F90/SUM(COUNTRY_INFO!$E90:$G90),0))*2)","v":0},{"$f":"IF($I90<>\"Oui\",$G90*3,($G90+ROUND(J90*$G90/SUM(COUNTRY_INFO!$E90:$G90),0))*3)","v":0},0,null,0]
[{"$f":"IF(INTRO!$E$43=\"Non endémique\",\" \", IF(COUNTRY_INFO!A91=0,\" \",COUNTRY_INFO!A91))","v":"Côte d'Ivoire"},{"$f":"IF(INTRO!$E$43=\"Non endémique\",\" \", IF(COUNTRY_INFO!B91=0,\" \",COUNTRY_INFO!B91))","v":"ME"},{"$f":"IF(INTRO!$E$43=\"Non endémique\",\" \", IF(COUNTRY_INFO!C91=0,\" \",COUNTRY_INFO!C91))","v":"ALEPE"},{"$f":"IF(INTRO!$E$43=\"Non endémique\", \"Non requis\", COUNTRY_INFO!Y91)","v":0},{"$f":"IF(OR(COUNTRY_INFO!R91=\"Inconnu\",COUNTRY_INFO!R91=\"Surveillance\",COUNTRY_INFO!R91=\"Non requis\",COUNTRY_INFO!R91=0),0,IF($D91<>0, COUNTRY_INFO!R91,0))","v":0},{"$f":"IF(OR(COUNTRY_INFO!S91=\"Inconnu\",COUNTRY_INFO!S91=\"Surveillance\",COUNTRY_INFO!S91=\"Non requis\",COUNTRY_INFO!S91=0),0,IF($D91<>0, COUNTRY_INFO!S91,0))","v":0},{"$f":"IF(OR(COUNTRY_INFO!T91=\"Inconnu\",COUNTRY_INFO!T91=\"Surveillance\",COUNTRY_INFO!T91=\"Non requis\",COUNTRY_INFO!T91=0),0,IF($D91<>0, COUNTRY_INFO!T91,0))","v":0},0,null,null,null,null,null,{"$f":"IF($I91<>\"Oui\",$F91*2,($F91+ROUND(J91*$F91/SUM(COUNTRY_INFO!$E91:$G91),0))*2)","v":0},{"$f":"IF($I91<>\"Oui\",$G91*3,($G91+ROUND(J91*$G91/SUM(COUNTRY_INFO!$E91:$G91),0))*3)","v":0},0,null,0]
[{"$f":"IF(INTRO!$E$43=\"Non endémique\",\" \", IF(COUNTRY_INFO!A92=0,\" \",COUNTRY_INFO!A92))","v":"Côte d'Ivoire"},{"$f":"IF(INTRO!$E$43=\"Non endémique\",\" \", IF(COUNTRY_INFO!B92=0,\" \",COUNTRY_INFO!B92))","v":"ME"},{"$f":"IF(INTRO!$E$43=\"Non endémique\",\" \", IF(COUNTRY_INFO!C92=0,\" \",COUNTRY_INFO!C92))","v":"YAKASSE ATTOBROU"},{"$f":"IF(INTRO!$E$43=\"Non endémique\", \"Non requis\", COUNTRY_INFO!Y92)","v":0},{"$f":"IF(OR(COUNTRY_INFO!R92=\"Inconnu\",COUNTRY_INFO!R92=\"Surveillance\",COUNTRY_INFO!R92=\"Non requis\",COUNTRY_INFO!R92=0),0,IF($D92<>0, COUNTRY_INFO!R92,0))","v":0},{"$f":"IF(OR(COUNTRY_INFO!S92=\"Inconnu\",COUNTRY_INFO!S92=\"Surveillance\",COUNTRY_INFO!S92=\"Non requis\",COUNTRY_INFO!S92=0),0,IF($D92<>0, COUNTRY_INFO!S92,0))","v":0},{"$f":"IF(OR(COUNTRY_INFO!T92=\"Inconnu\",COUNTRY_INFO!T92=\"Surveillance\",COUNTRY_INFO!T92=\"Non requis\",COUNTRY_INFO!T92=0),0,IF($D92<>0, COUNTRY_INFO!T92,0))","v":0},0,null,null,null,null,null,{"$f":"IF($I92<>\"Oui\",$F92*2,($F92+ROUND(J92*$F92/SUM(COUNTRY_INFO!$E92:$G92),0))*2)","v":0},{"$f":"IF($I92<>\"Oui\",$G92*3,($G92+ROUND(J92*$G92/SUM(COUNTRY_INFO!$E92:$G92),0))*3)","v":0},0,null,0]
[{"$f":"IF(INTRO!$E$43=\"Non endémique\",\" \", IF(COUNTRY_INFO!A93=0,\" \",COUNTRY_INFO!A93))","v":"Côte d'Ivoire"},{"$f":"IF(INTRO!$E$43=\"Non endémique\",\" \", IF(COUNTRY_INFO!B93=0,\" \",COUNTRY_INFO!B93))","v":"MORONOU"},{"$f":"IF(INTRO!$E$43=\"Non endémique\",\" \", IF(COUNTRY_INFO!C93=0,\" \",COUNTRY_INFO!C93))","v":"ARRAH"},{"$f":"IF(INTRO!$E$43=\"Non endémique\", \"Non requis\", COUNTRY_INFO!Y93)","v":1},{"$f":"IF(OR(COUNTRY_INFO!R93=\"Inconnu\",COUNTRY_INFO!R93=\"Surveillance\",COUNTRY_INFO!R93=\"Non requis\",COUNTRY_INFO!R93=0),0,IF($D93<>0, COUNTRY_INFO!R93,0))","v":0},{"$f":"IF(OR(COUNTRY_INFO!S93=\"Inconnu\",COUNTRY_INFO!S93=\"Surveillance\",COUNTRY_INFO!S93=\"Non requis\",COUNTRY_INFO!S93=0),0,IF($D93<>0, COUNTRY_INFO!S93,0))","v":7980},{"$f":"IF(OR(COUNTRY_INFO!T93=\"Inconnu\",COUNTRY_INFO!T93=\"Surveillance\",COUNTRY_INFO!T93=\"Non requis\",COUNTRY_INFO!T93=0),0,IF($D93<>0, COUNTRY_INFO!T93,0))","v":0},7980,null,null,null,null,null,{"$f":"IF($I93<>\"Oui\",$F93*2,($F93+ROUND(J93*$F93/SUM(COUNTRY_INFO!$E93:$G93),0))*2)","v":15960},{"$f":"IF($I93<>\"Oui\",$G93*3,($G93+ROUND(J93*$G93/SUM(COUNTRY_INFO!$E93:$G93),0))*3)","v":0},15960,null,15960]
[{"$f":"IF(INTRO!$E$43=\"Non endémique\",\" \", IF(COUNTRY_INFO!A94=0,\" \",COUNTRY_INFO!A94))","v":"Côte d'Ivoire"},{"$f":"IF(INTRO!$E$43=\"Non endémique\",\" \", IF(COUNTRY_INFO!B94=0,\" \",COUNTRY_INFO!B94))","v":"MORONOU"},{"$f":"IF(INTRO!$E$43=\"Non endémique\",\" \", IF(COUNTRY_INFO!C94=0,\" \",COUNTRY_INFO!C94))","v":"BONGOUANOU"},{"$f":"IF(INTRO!$E$43=\"Non endémique\", \"Non requis\", COUNTRY_INFO!Y94)","v":1},{"$f":"IF(OR(COUNTRY_INFO!R94=\"Inconnu\",COUNTRY_INFO!R94=\"Surveillance\",COUNTRY_INFO!R94=\"Non requis\",COUNTRY_INFO!R94=0),0,IF($D94<>0, COUNTRY_INFO!R94,0))","v":0},{"$f":"IF(OR(COUNTRY_INFO!S94=\"Inconnu\",COUNTRY_INFO!S94=\"Surveillance\",COUNTRY_INFO!S94=\"Non requis\",COUNTRY_INFO!S94=0),0,IF($D94<>0, COUNTRY_INFO!S94,0))","v":54890},{"$f":"IF(OR(COUNTRY_INFO!T94=\"Inconnu\",COUNTRY_INFO!T94=\"Surveillance\",COUNTRY_INFO!T94=\"Non requis\",COUNTRY_INFO!T94=0),0,IF($D94<>0, COUNTRY_INFO!T94,0))","v":0},54890,null,null,null,null,null,{"$f":"IF($I94<>\"Oui\",$F94*2,($F94+ROUND(J94*$F94/SUM(COUNTRY_INFO!$E94:$G94),0))*2)","v":109780},{"$f":"IF($I94<>\"Oui\",$G94*3,($G94+ROUND(J94*$G94/SUM(COUNTRY_INFO!$E94:$G94),0))*3)","v":0},109780,null,109780]
[{"$f":"IF(INTRO!$E$43=\"Non endémique\",\" \", IF(COUNTRY_INFO!A95=0,\" \",COUNTRY_INFO!A95))","v":"Côte d'Ivoire"},{"$f":"IF(INTRO!$E$43=\"Non endémique\",\" \", IF(COUNTRY_INFO!B95=0,\" \",COUNTRY_INFO!B95))","v":"MORONOU"},{"$f":"IF(INTRO!$E$43=\"Non endémique\",\" \", IF(COUNTRY_INFO!C95=0,\" \",COUNTRY_INFO!C95))","v":"M'BATTO"},{"$f":"IF(INTRO!$E$43=\"Non endémique\", \"Non requis\", COUNTRY_INFO!Y95)","v":1},{"$f":"IF(OR(COUNTRY_INFO!R95=\"Inconnu\",COUNTRY_INFO!R95=\"Surveillance\",COUNTRY_INFO!R95=\"Non requis\",COUNTRY_INFO!R95=0),0,IF($D95<>0, COUNTRY_INFO!R95,0))","v":13408},{"$f":"IF(OR(COUNTRY_INFO!S95=\"Inconnu\",COUNTRY_INFO!S95=\"Surveillance\",COUNTRY_INFO!S95=\"Non requis\",COUNTRY_INFO!S95=0),0,IF($D95<>0, COUNTRY_INFO!S95,0))","v":36042},{"$f":"IF(OR(COUNTRY_INFO!T95=\"Inconnu\",COUNTRY_INFO!T95=\"Surveillance\",COUNTRY_INFO!T95=\"Non requis\",COUNTRY_INFO!T95=0),0,IF($D95<>0, COUNTRY_INFO!T95,0))","v":82216},131666,null,null,null,null,null,{"$f":"IF($I95<>\"Oui\",$F95*2,($F95+ROUND(J95*$F95/SUM(COUNTRY_INFO!$E95:$G95),0))*2)","v":72084},{"$f":"IF($I95<>\"Oui\",$G95*3,($G95+ROUND(J95*$G95/SUM(COUNTRY_INFO!$E95:$G95),0))*3)","v":246648},318732,null,318732]
[{"$f":"IF(INTRO!$E$43=\"Non endémique\",\" \", IF(COUNTRY_INFO!A96=0,\" \",COUNTRY_INFO!A96))","v":"Côte d'Ivoire"},{"$f":"IF(INTRO!$E$43=\"Non endémique\",\" \", IF(COUNTRY_INFO!B96=0,\" \",COUNTRY_INFO!B96))","v":"NAWA"},{"$f":"IF(INTRO!$E$43=\"Non endémique\",\" \", IF(COUNTRY_INFO!C96=0,\" \",COUNTRY_INFO!C96))","v":"BUYO"},{"$f":"IF(INTRO!$E$43=\"Non endémique\", \"Non requis\", COUNTRY_INFO!Y96)","v":0},{"$f":"IF(OR(COUNTRY_INFO!R96=\"Inconnu\",COUNTRY_INFO!R96=\"Surveillance\",COUNTRY_INFO!R96=\"Non requis\",COUNTRY_INFO!R96=0),0,IF($D96<>0, COUNTRY_INFO!R96,0))","v":0},{"$f":"IF(OR(COUNTRY_INFO!S96=\"Inconnu\",COUNTRY_INFO!S96=\"Surveillance\",COUNTRY_INFO!S96=\"Non requis\",COUNTRY_INFO!S96=0),0,IF($D96<>0, COUNTRY_INFO!S96,0))","v":0},{"$f":"IF(OR(COUNTRY_INFO!T96=\"Inconnu\",COUNTRY_INFO!T96=\"Surveillance\",COUNTRY_INFO!T96=\"Non requis\",COUNTRY_INFO!T96=0),0,IF($D96<>0, COUNTRY_INFO!T96,0))","v":0},0,null,null,null,null,null,{"$f":"IF($I96<>\"Oui\",$F96*2,($F96+ROUND(J96*$F96/SUM(COUNTRY_INFO!$E96:$G96),0))*2)","v":0},{"$f":"IF($I96<>\"Oui\",$G96*3,($G96+ROUND(J96*$G96/SUM(COUNTRY_INFO!$E96:$G96),0))*3)","v":0},0,null,0]
[{"$f":"IF(INTRO!$E$43=\"Non endémique\",\" \", IF(COUNTRY_INFO!A97=0,\" \",COUNTRY_INFO!A97))","v":"Côte d'Ivoire"},{"$f":"IF(INTRO!$E$43=\"Non endémique\",\" \", IF(COUNTRY_INFO!B97=0,\" \",COUNTRY_INFO!B97))","v":"NAWA"},{"$f":"IF(INTRO!$E$43=\"Non endémique\",\" \", IF(COUNTRY_INFO!C97=0,\" \",COUNTRY_INFO!C97))","v":"GUEYO"},{"$f":"IF(INTRO!$E$43=\"Non endémique\", \"Non requis\", COUNTRY_INFO!Y97)","v":1},{"$f":"IF(OR(COUNTRY_INFO!R97=\"Inconnu\",COUNTRY_INFO!R97=\"Surveillance\",COUNTRY_INFO!R97=\"Non requis\",COUNTRY_INFO!R97=0),0,IF($D97<>0, COUNTRY_INFO!R97,0))","v":9215},{"$f":"IF(OR(COUNTRY_INFO!S97=\"Inconnu\",COUNTRY_INFO!S97=\"Surveillance\",COUNTRY_INFO!S97=\"Non requis\",COUNTRY_INFO!S97=0),0,IF($D97<>0, COUNTRY_INFO!S97,0))","v":5428},{"$f":"IF(OR(COUNTRY_INFO!T97=\"Inconnu\",COUNTRY_INFO!T97=\"Surveillance\",COUNTRY_INFO!T97=\"Non requis\",COUNTRY_INFO!T97=0),0,IF($D97<>0, COUNTRY_INFO!T97,0))","v":56508},71151,null,null,null,null,null,{"$f":"IF($I97<>\"Oui\",$F97*2,($F97+ROUND(J97*$F97/SUM(COUNTRY_INFO!$E97:$G97),0))*2)","v":10856},{"$f":"IF($I97<>\"Oui\",$G97*3,($G97+ROUND(J97*$G97/SUM(COUNTRY_INFO!$E97:$G97),0))*3)","v":169524},180380,null,180380]
[{"$f":"IF(INTRO!$E$43=\"Non endémique\",\" \", IF(COUNTRY_INFO!A98=0,\" \",COUNTRY_INFO!A98))","v":"Côte d'Ivoire"},{"$f":"IF(INTRO!$E$43=\"Non endémique\",\" \", IF(COUNTRY_INFO!B98=0,\" \",COUNTRY_INFO!B98))","v":"NAWA"},{"$f":"IF(INTRO!$E$43=\"Non endémique\",\" \", IF(COUNTRY_INFO!C98=0,\" \",COUNTRY_INFO!C98))","v":"MEAGUI"},{"$f":"IF(INTRO!$E$43=\"Non endémique\", \"Non requis\", COUNTRY_INFO!Y98)","v":0},{"$f":"IF(OR(COUNTRY_INFO!R98=\"Inconnu\",COUNTRY_INFO!R98=\"Surveillance\",COUNTRY_INFO!R98=\"Non requis\",COUNTRY_INFO!R98=0),0,IF($D98<>0, COUNTRY_INFO!R98,0))","v":0},{"$f":"IF(OR(COUNTRY_INFO!S98=\"Inconnu\",COUNTRY_INFO!S98=\"Surveillance\",COUNTRY_INFO!S98=\"Non requis\",COUNTRY_INFO!S98=0),0,IF($D98<>0, COUNTRY_INFO!S98,0))","v":0},{"$f":"IF(OR(COUNTRY_INFO!T98=\"Inconnu\",COUNTRY_INFO!T98=\"Surveillance\",COUNTRY_INFO!T98=\"Non requis\",COUNTRY_INFO!T98=0),0,IF($D98<>0, COUNTRY_INFO!T98,0))","v":0},0,null,null,null,null,null,{"$f":"IF($I98<>\"Oui\",$F98*2,($F98+ROUND(J98*$F98/SUM(COUNTRY_INFO!$E98:$G98),0))*2)","v":0},{"$f":"IF($I98<>\"Oui\",$G98*3,($G98+ROUND(J98*$G98/SUM(COUNTRY_INFO!$E98:$G98),0))*3)","v":0},0,null,0]
[{"$f":"IF(INTRO!$E$43=\"Non endémique\",\" \", IF(COUNTRY_INFO!A99=0,\" \",COUNTRY_INFO!A99))","v":"Côte d'Ivoire"},{"$f":"IF(INTRO!$E$43=\"Non endémique\",\" \", IF(COUNTRY_INFO!B99=0,\" \",COUNTRY_INFO!B99))","v":"NAWA"},{"$f":"IF(INTRO!$E$43=\"Non endémique\",\" \", IF(COUNTRY_INFO!C99=0,\" \",COUNTRY_INFO!C99))","v":"SOUBRE"},{"$f":"IF(INTRO!$E$43=\"Non endémique\", \"Non requis\", COUNTRY_INFO!Y99)","v":1},{"$f":"IF(OR(COUNTRY_INFO!R99=\"Inconnu\",COUNTRY_INFO!R99=\"Surveillance\",COUNTRY_INFO!R99=\"Non requis\",COUNTRY_INFO!R99=0),0,IF($D99<>0, COUNTRY_INFO!R99,0))","v":55352},{"$f":"IF(OR(COUNTRY_INFO!S99=\"Inconnu\",COUNTRY_INFO!S99=\"Surveillance\",COUNTRY_INFO!S99=\"Non requis\",COUNTRY_INFO!S99=0),0,IF($D99<>0, COUNTRY_INFO!S99,0))","v":2670},{"$f":"IF(OR(COUNTRY_INFO!T99=\"Inconnu\",COUNTRY_INFO!T99=\"Surveillance\",COUNTRY_INFO!T99=\"Non requis\",COUNTRY_INFO!T99=0),0,IF($D99<>0, COUNTRY_INFO!T99,0))","v":339406},397428,null,null,null,null,null,{"$f":"IF($I99<>\"Oui\",$F99*2,($F99+ROUND(J99*$F99/SUM(COUNTRY_INFO!$E99:$G99),0))*2)","v":5340},{"$f":"IF($I99<>\"Oui\",$G99*3,($G99+ROUND(J99*$G99/SUM(COUNTRY_INFO!$E99:$G99),0))*3)","v":1018218},1023558,null,1023558]
[{"$f":"IF(INTRO!$E$43=\"Non endémique\",\" \", IF(COUNTRY_INFO!A100=0,\" \",COUNTRY_INFO!A100))","v":"Côte d'Ivoire"},{"$f":"IF(INTRO!$E$43=\"Non endémique\",\" \", IF(COUNTRY_INFO!B100=0,\" \",COUNTRY_INFO!B100))","v":"N'ZI"},{"$f":"IF(INTRO!$E$43=\"Non endémique\",\" \", IF(COUNTRY_INFO!C100=0,\" \",COUNTRY_INFO!C100))","v":"BOCANDA"},{"$f":"IF(INTRO!$E$43=\"Non endémique\", \"Non requis\", COUNTRY_INFO!Y100)","v":1},{"$f":"IF(OR(COUNTRY_INFO!R100=\"Inconnu\",COUNTRY_INFO!R100=\"Surveillance\",COUNTRY_INFO!R100=\"Non requis\",COUNTRY_INFO!R100=0),0,IF($D100<>0, COUNTRY_INFO!R100,0))","v":16085},{"$f":"IF(OR(COUNTRY_INFO!S100=\"Inconnu\",COUNTRY_INFO!S100=\"Surveillance\",COUNTRY_INFO!S100=\"Non requis\",COUNTRY_INFO!S100=0),0,IF($D100<>0, COUNTRY_INFO!S100,0))","v":32113},{"$f":"IF(OR(COUNTRY_INFO!T100=\"Inconnu\",COUNTRY_INFO!T100=\"Surveillance\",COUNTRY_INFO!T100=\"Non requis\",COUNTRY_INFO!T100=0),0,IF($D100<>0, COUNTRY_INFO!T100,0))","v":98628},146826,null,null,null,null,null,{"$f":"IF($I100<>\"Oui\",$F100*2,($F100+ROUND(J100*$F100/SUM(COUNTRY_INFO!$E100:$G100),0))*2)","v":64226},{"$f":"IF($I100<>\"Oui\",$G100*3,($G100+ROUND(J100*$G100/SUM(COUNTRY_INFO!$E100:$G100),0))*3)","v":295884},360110,null,360110]
[{"$f":"IF(INTRO!$E$43=\"Non endémique\",\" \", IF(COUNTRY_INFO!A101=0,\" \",COUNTRY_INFO!A101))","v":"Côte d'Ivoire"},{"$f":"IF(INTRO!$E$43=\"Non endémique\",\" \", IF(COUNTRY_INFO!B101=0,\" \",COUNTRY_INFO!B101))","v":"N'ZI"},{"$f":"IF(INTRO!$E$43=\"Non endémique\",\" \", IF(COUNTRY_INFO!C101=0,\" \",COUNTRY_INFO!C101))","v":"DIMBOKRO"},{"$f":"IF(INTRO!$E$43=\"Non endémique\", \"Non requis\", COUNTRY_INFO!Y101)","v":1},{"$f":"IF(OR(COUNTRY_INFO!R101=\"Inconnu\",COUNTRY_INFO!R101=\"Surveillance\",COUNTRY_INFO!R101=\"Non requis\",COUNTRY_INFO!R101=0),0,IF($D101<>0, COUNTRY_INFO!R101,0))","v":11540},{"$f":"IF(OR(COUNTRY_INFO!S101=\"Inconnu\",COUNTRY_INFO!S101=\"Surveillance\",COUNTRY_INFO!S101=\"Non requis\",COUNTRY_INFO!S101=0),0,IF($D101<>0, COUNTRY_INFO!S101,0))","v":26247},{"$f":"IF(OR(COUNTRY_INFO!T101=\"Inconnu\",COUNTRY_INFO!T101=\"Surveillance\",COUNTRY_INFO!T101=\"Non requis\",COUNTRY_INFO!T101=0),0,IF($D101<>0, COUNTRY_INFO!T101,0))","v":70764},108551,null,null,null,null,null,{"$f":"IF($I101<>\"Oui\",$F101*2,($F101+ROUND(J101*$F101/SUM(COUNTRY_INFO!$E101:$G101),0))*2)","v":52494},{"$f":"IF($I101<>\"Oui\",$G101*3,($G101+ROUND(J101*$G101/SUM(COUNTRY_INFO!$E101:$G101),0))*3)","v":212292},264786,null,264786]
[{"$f":"IF(INTRO!$E$43=\"Non endémique\",\" \", IF(COUNTRY_INFO!A102=0,\" \",COUNTRY_INFO!A102))","v":"Côte d'Ivoire"},{"$f":"IF(INTRO!$E$43=\"Non endémique\",\" \", IF(COUNTRY_INFO!B102=0,\" \",COUNTRY_INFO!B102))","v":"N'ZI"},{"$f":"IF(INTRO!$E$43=\"Non endémique\",\" \", IF(COUNTRY_INFO!C102=0,\" \",COUNTRY_INFO!C102))","v":"KOUASSI-KOUASSIKRO"},{"$f":"IF(INTRO!$E$43=\"Non endémique\", \"Non requis\", COUNTRY_INFO!Y102)","v":1},{"$f":"IF(OR(COUNTRY_INFO!R102=\"Inconnu\",COUNTRY_INFO!R102=\"Surveillance\",COUNTRY_INFO!R102=\"Non requis\",COUNTRY_INFO!R102=0),0,IF($D102<>0, COUNTRY_INFO!R102,0))","v":0},{"$f":"IF(OR(COUNTRY_INFO!S102=\"Inconnu\",COUNTRY_INFO!S102=\"Surveillance\",COUNTRY_INFO!S102=\"Non requis\",COUNTRY_INFO!S102=0),0,IF($D102<>0, COUNTRY_INFO!S102,0))","v":1783},{"$f":"IF(OR(COUNTRY_INFO!T102=\"Inconnu\",COUNTRY_INFO!T102=\"Surveillance\",COUNTRY_INFO!T102=\"Non requis\",COUNTRY_INFO!T102=0),0,IF($D102<>0, COUNTRY_INFO!T102,0))","v":0},1783,null,null,null,null,null,{"$f":"IF($I102<>\"Oui\",$F102*2,($F102+ROUND(J102*$F102/SUM(COUNTRY_INFO!$E102:$G102),0))*2)","v":3566},{"$f":"IF($I102<>\"Oui\",$G102*3,($G102+ROUND(J102*$G102/SUM(COUNTRY_INFO!$E102:$G102),0))*3)","v":0},3566,null,3566]
[{"$f":"IF(INTRO!$E$43=\"Non endémique\",\" \", IF(COUNTRY_INFO!A103=0,\" \",COUNTRY_INFO!A103))","v":"Côte d'Ivoire"},{"$f":"IF(INTRO!$E$43=\"Non endémique\",\" \", IF(COUNTRY_INFO!B103=0,\" \",COUNTRY_INFO!B103))","v":"PORO"},{"$f":"IF(INTRO!$E$43=\"Non endémique\",\" \", IF(COUNTRY_INFO!C103=0,\" \",COUNTRY_INFO!C103))","v":"DIKODOUGOU"},{"$f":"IF(INTRO!$E$43=\"Non endémique\", \"Non requis\", COUNTRY_INFO!Y103)","v":1},{"$f":"IF(OR(COUNTRY_INFO!R103=\"Inconnu\",COUNTRY_INFO!R103=\"Surveillance\",COUNTRY_INFO!R103=\"Non requis\",COUNTRY_INFO!R103=0),0,IF($D103<>0, COUNTRY_INFO!R103,0))","v":0},{"$f":"IF(OR(COUNTRY_INFO!S103=\"Inconnu\",COUNTRY_INFO!S103=\"Surveillance\",COUNTRY_INFO!S103=\"Non requis\",COUNTRY_INFO!S103=0),0,IF($D103<>0, COUNTRY_INFO!S103,0))","v":27858},{"$f":"IF(OR(COUNTRY_INFO!T103=\"Inconnu\",COUNTRY_INFO!T103=\"Surveillance\",COUNTRY_INFO!T103=\"Non requis\",COUNTRY_INFO!T103=0),0,IF($D103<>0, COUNTRY_INFO!T103,0))","v":0},27858,null,null,null,null,null,{"$f":"IF($I103<>\"Oui\",$F103*2,($F103+ROUND(J103*$F103/SUM(COUNTRY_INFO!$E103:$G103),0))*2)","v":55716},{"$f":"IF($I103<>\"Oui\",$G103*3,($G103+ROUND(J103*$G103/SUM(COUNTRY_INFO!$E103:$G103),0))*3)","v":0},55716,null,55716]
[{"$f":"IF(INTRO!$E$43=\"Non endémique\",\" \", IF(COUNTRY_INFO!A104=0,\" \",COUNTRY_INFO!A104))","v":"Côte d'Ivoire"},{"$f":"IF(INTRO!$E$43=\"Non endémique\",\" \", IF(COUNTRY_INFO!B104=0,\" \",COUNTRY_INFO!B104))","v":"PORO"},{"$f":"IF(INTRO!$E$43=\"Non endémique\",\" \", IF(COUNTRY_INFO!C104=0,\" \",COUNTRY_INFO!C104))","v":"KORHOGO 1"},{"$f":"IF(INTRO!$E$43=\"Non endémique\", \"Non requis\", COUNTRY_INFO!Y104)","v":1},{"$f":"IF(OR(COUNTRY_INFO!R104=\"Inconnu\",COUNTRY_INFO!R104=\"Surveillance\",COUNTRY_INFO!R104=\"Non requis\",COUNTRY_INFO!R104=0),0,IF($D104<>0, COUNTRY_INFO!R104,0))","v":57486},{"$f":"IF(OR(COUNTRY_INFO!S104=\"Inconnu\",COUNTRY_INFO!S104=\"Surveillance\",COUNTRY_INFO!S104=\"Non requis\",COUNTRY_INFO!S104=0),0,IF($D104<>0, COUNTRY_INFO!S104,0))","v":146013},{"$f":"IF(OR(COUNTRY_INFO!T104=\"Inconnu\",COUNTRY_INFO!T104=\"Surveillance\",COUNTRY_INFO!T104=\"Non requis\",COUNTRY_INFO!T104=0),0,IF($D104<>0, COUNTRY_INFO!T104,0))","v":352496},555995,null,null,null,null,null,{"$f":"IF($I104<>\"Oui\",$F104*2,($F104+ROUND(J104*$F104/SUM(COUNTRY_INFO!$E104:$G104),0))*2)","v":292026},{"$f":"IF($I104<>\"Oui\",$G104*3,($G104+ROUND(J104*$G104/SUM(COUNTRY_INFO!$E104:$G104),0))*3)","v":1057488},1349514,null,1349514]
[{"$f":"IF(INTRO!$E$43=\"Non endémique\",\" \", IF(COUNTRY_INFO!A105=0,\" \",COUNTRY_INFO!A105))","v":"Côte d'Ivoire"},{"$f":"IF(INTRO!$E$43=\"Non endémique\",\" \", IF(COUNTRY_INFO!B105=0,\" \",COUNTRY_INFO!B105))","v":"PORO"},{"$f":"IF(INTRO!$E$43=\"Non endémique\",\" \", IF(COUNTRY_INFO!C105=0,\" \",COUNTRY_INFO!C105))","v":"KORHOGO 2"},{"$f":"IF(INTRO!$E$43=\"Non endémique\", \"Non requis\", COUNTRY_INFO!Y105)","v":1},{"$f":"IF(OR(COUNTRY_INFO!R105=\"Inconnu\",COUNTRY_INFO!R105=\"Surveillance\",COUNTRY_INFO!R105=\"Non requis\",COUNTRY_INFO!R105=0),0,IF($D105<>0, COUNTRY_INFO!R105,0))","v":0},{"$f":"IF(OR(COUNTRY_INFO!S105=\"Inconnu\",COUNTRY_INFO!S105=\"Surveillance\",COUNTRY_INFO!S105=\"Non requis\",COUNTRY_INFO!S105=0),0,IF($D105<>0, COUNTRY_INFO!S105,0))","v":37690},{"$f":"IF(OR(COUNTRY_INFO!T105=\"Inconnu\",COUNTRY_INFO!T105=\"Surveillance\",COUNTRY_INFO!T105=\"Non requis\",COUNTRY_INFO!T105=0),0,IF($D105<>0, COUNTRY_INFO!T105,0))","v":0},37690,null,null,null,null,null,{"$f":"IF($I105<>\"Oui\",$F105*2,($F105+ROUND(J105*$F105/SUM(COUNTRY_INFO!$E105:$G105),0))*2)","v":75380},{"$f":"IF($I105<>\"Oui\",$G105*3,($G105+ROUND(J105*$G105/SUM(COUNTRY_INFO!$E105:$G105),0))*3)","v":0},75380,null,75380]
[{"$f":"IF(INTRO!$E$43=\"Non endémique\",\" \", IF(COUNTRY_INFO!A106=0,\" \",COUNTRY_INFO!A106))","v":"Côte d'Ivoire"},{"$f":"IF(INTRO!$E$43=\"Non endémique\",\" \", IF(COUNTRY_INFO!B106=0,\" \",COUNTRY_INFO!B106))","v":"PORO"},{"$f":"IF(INTRO!$E$43=\"Non endémique\",\" \", IF(COUNTRY_INFO!C106=0,\" \",COUNTRY_INFO!C106))","v":"M'BENGUE"},{"$f":"IF(INTRO!$E$43=\"Non endémique\", \"Non requis\", COUNTRY_INFO!Y106)","v":1},{"$f":"IF(OR(COUNTRY_INFO!R106=\"Inconnu\",COUNTRY_INFO!R106=\"Surveillance\",COUNTRY_INFO!R106=\"Non requis\",COUNTRY_INFO!R106=0),0,IF($D106<>0, COUNTRY_INFO!R106,0))","v":0},{"$f":"IF(OR(COUNTRY_INFO!S106=\"Inconnu\",COUNTRY_INFO!S106=\"Surveillance\",COUNTRY_INFO!S106=\"Non requis\",COUNTRY_INFO!S106=0),0,IF($D106<>0, COUNTRY_INFO!S106,0))","v":27217},{"$f":"IF(OR(COUNTRY_INFO!T106=\"Inconnu\",COUNTRY_INFO!T106=\"Surveillance\",COUNTRY_INFO!T106=\"Non requis\",COUNTRY_INFO!T106=0),0,IF($D106<>0, COUNTRY_INFO!T106,0))","v":0},27217,null,null,null,null,null,{"$f":"IF($I106<>\"Oui\",$F106*2,($F106+ROUND(J106*$F106/SUM(COUNTRY_INFO!$E106:$G106),0))*2)","v":54434},{"$f":"IF($I106<>\"Oui\",$G106*3,($G106+ROUND(J106*$G106/SUM(COUNTRY_INFO!$E106:$G106),0))*3)","v":0},54434,null,54434]
[{"$f":"IF(INTRO!$E$43=\"Non endémique\",\" \", IF(COUNTRY_INFO!A107=0,\" \",COUNTRY_INFO!A107))","v":"Côte d'Ivoire"},{"$f":"IF(INTRO!$E$43=\"Non endémique\",\" \", IF(COUNTRY_INFO!B107=0,\" \",COUNTRY_INFO!B107))","v":"PORO"},{"$f":"IF(INTRO!$E$43=\"Non endémique\",\" \", IF(COUNTRY_INFO!C107=0,\" \",COUNTRY_INFO!C107))","v":"SINEMENTILAI"},{"$f":"IF(INTRO!$E$43=\"Non endémique\", \"Non requis\", COUNTRY_INFO!Y107)","v":1},{"$f":"IF(OR(COUNTRY_INFO!R107=\"Inconnu\",COUNTRY_INFO!R107=\"Surveillance\",COUNTRY_INFO!R107=\"Non requis\",COUNTRY_INFO!R107=0),0,IF($D107<>0, COUNTRY_INFO!R107,0))","v":0},{"$f":"IF(OR(COUNTRY_INFO!S107=\"Inconnu\",COUNTRY_INFO!S107=\"Surveillance\",COUNTRY_INFO!S107=\"Non requis\",COUNTRY_INFO!S107=0),0,IF($D107<>0, COUNTRY_INFO!S107,0))","v":24239},{"$f":"IF(OR(COUNTRY_INFO!T107=\"Inconnu\",COUNTRY_INFO!T107=\"Surveillance\",COUNTRY_INFO!T107=\"Non requis\",COUNTRY_INFO!T107=0),0,IF($D107<>0, COUNTRY_INFO!T107,0))","v":0},24239,null,null,null,null,null,{"$f":"IF($I107<>\"Oui\",$F107*2,($F107+ROUND(J107*$F107/SUM(COUNTRY_INFO!$E107:$G107),0))*2)","v":48478},{"$f":"IF($I107<>\"Oui\",$G107*3,($G107+ROUND(J107*$G107/SUM(COUNTRY_INFO!$E107:$G107),0))*3)","v":0},48478,null,48478]
[{"$f":"IF(INTRO!$E$43=\"Non endémique\",\" \", IF(COUNTRY_INFO!A108=0,\" \",COUNTRY_INFO!A108))","v":"Côte d'Ivoire"},{"$f":"IF(INTRO!$E$43=\"Non endémique\",\" \", IF(COUNTRY_INFO!B108=0,\" \",COUNTRY_INFO!B108))","v":"SAN-PEDRO"},{"$f":"IF(INTRO!$E$43=\"Non endémique\",\" \", IF(COUNTRY_INFO!C108=0,\" \",COUNTRY_INFO!C108))","v":"SAN PEDRO"},{"$f":"IF(INTRO!$E$43=\"Non endémique\", \"Non requis\", COUNTRY_INFO!Y108)","v":0},{"$f":"IF(OR(COUNTRY_INFO!R108=\"Inconnu\",COUNTRY_INFO!R108=\"Surveillance\",COUNTRY_INFO!R108=\"Non requis\",COUNTRY_INFO!R108=0),0,IF($D108<>0, COUNTRY_INFO!R108,0))","v":0},{"$f":"IF(OR(COUNTRY_INFO!S108=\"Inconnu\",COUNTRY_INFO!S108=\"Surveillance\",COUNTRY_INFO!S108=\"Non requis\",COUNTRY_INFO!S108=0),0,IF($D108<>0, COUNTRY_INFO!S108,0))","v":0},{"$f":"IF(OR(COUNTRY_INFO!T108=\"Inconnu\",COUNTRY_INFO!T108=\"Surveillance\",COUNTRY_INFO!T108=\"Non requis\",COUNTRY_INFO!T108=0),0,IF($D108<>0, COUNTRY_INFO!T108,0))","v":0},0,null,null,null,null,null,{"$f":"IF($I108<>\"Oui\",$F108*2,($F108+ROUND(J108*$F108/SUM(COUNTRY_INFO!$E108:$G108),0))*2)","v":0},{"$f":"IF($I108<>\"Oui\",$G108*3,($G108+ROUND(J108*$G108/SUM(COUNTRY_INFO!$E108:$G108),0))*3)","v":0},0,null,0]
[{"$f":"IF(INTRO!$E$43=\"Non endémique\",\" \", IF(COUNTRY_INFO!A109=0,\" \",COUNTRY_INFO!A109))","v":"Côte d'Ivoire"},{"$f":"IF(INTRO!$E$43=\"Non endémique\",\" \", IF(COUNTRY_INFO!B109=0,\" \",COUNTRY_INFO!B109))","v":"SAN-PEDRO"},{"$f":"IF(INTRO!$E$43=\"Non endémique\",\" \", IF(COUNTRY_INFO!C109=0,\" \",COUNTRY_INFO!C109))","v":"TABOU"},{"$f":"IF(INTRO!$E$43=\"Non endémique\", \"Non requis\", COUNTRY_INFO!Y109)","v":0},{"$f":"IF(OR(COUNTRY_INFO!R109=\"Inconnu\",COUNTRY_INFO!R109=\"Surveillance\",COUNTRY_INFO!R109=\"Non requis\",COUNTRY_INFO!R109=0),0,IF($D109<>0, COUNTRY_INFO!R109,0))","v":0},{"$f":"IF(OR(COUNTRY_INFO!S109=\"Inconnu\",COUNTRY_INFO!S109=\"Surveillance\",COUNTRY_INFO!S109=\"Non requis\",COUNTRY_INFO!S109=0),0,IF($D109<>0, COUNTRY_INFO!S109,0))","v":0},{"$f":"IF(OR(COUNTRY_INFO!T109=\"Inconnu\",COUNTRY_INFO!T109=\"Surveillance\",COUNTRY_INFO!T109=\"Non requis\",COUNTRY_INFO!T109=0),0,IF($D109<>0, COUNTRY_INFO!T109,0))","v":0},0,null,null,null,null,null,{"$f":"IF($I109<>\"Oui\",$F109*2,($F109+ROUND(J109*$F109/SUM(COUNTRY_INFO!$E109:$G109),0))*2)","v":0},{"$f":"IF($I109<>\"Oui\",$G109*3,($G109+ROUND(J109*$G109/SUM(COUNTRY_INFO!$E109:$G109),0))*3)","v":0},0,null,0]
[{"$f":"IF(INTRO!$E$43=\"Non endémique\",\" \", IF(COUNTRY_INFO!A110=0,\" \",COUNTRY_INFO!A110))","v":"Côte d'Ivoire"},{"$f":"IF(INTRO!$E$43=\"Non endémique\",\" \", IF(COUNTRY_INFO!B110=0,\" \",COUNTRY_INFO!B110))","v":"SUD-COMOE"},{"$f":"IF(INTRO!$E$43=\"Non endémique\",\" \", IF(COUNTRY_INFO!C110=0,\" \",COUNTRY_INFO!C110))","v":"ABOISSO"},{"$f":"IF(INTRO!$E$43=\"Non endémique\", \"Non requis\", COUNTRY_INFO!Y110)","v":1},{"$f":"IF(OR(COUNTRY_INFO!R110=\"Inconnu\",COUNTRY_INFO!R110=\"Surveillance\",COUNTRY_INFO!R110=\"Non requis\",COUNTRY_INFO!R110=0),0,IF($D110<>0, COUNTRY_INFO!R110,0))","v":34090},{"$f":"IF(OR(COUNTRY_INFO!S110=\"Inconnu\",COUNTRY_INFO!S110=\"Surveillance\",COUNTRY_INFO!S110=\"Non requis\",COUNTRY_INFO!S110=0),0,IF($D110<>0, COUNTRY_INFO!S110,0))","v":82584},{"$f":"IF(OR(COUNTRY_INFO!T110=\"Inconnu\",COUNTRY_INFO!T110=\"Surveillance\",COUNTRY_INFO!T110=\"Non requis\",COUNTRY_INFO!T110=0),0,IF($D110<>0, COUNTRY_INFO!T110,0))","v":209033},325707,null,null,null,null,null,{"$f":"IF($I110<>\"Oui\",$F110*2,($F110+ROUND(J110*$F110/SUM(COUNTRY_INFO!$E110:$G110),0))*2)","v":165168},{"$f":"IF($I110<>\"Oui\",$G110*3,($G110+ROUND(J110*$G110/SUM(COUNTRY_INFO!$E110:$G110),0))*3)","v":627099},792267,null,792267]
[{"$f":"IF(INTRO!$E$43=\"Non endémique\",\" \", IF(COUNTRY_INFO!A111=0,\" \",COUNTRY_INFO!A111))","v":"Côte d'Ivoire"},{"$f":"IF(INTRO!$E$43=\"Non endémique\",\" \", IF(COUNTRY_INFO!B111=0,\" \",COUNTRY_INFO!B111))","v":"SUD-COMOE"},{"$f":"IF(INTRO!$E$43=\"Non endémique\",\" \", IF(COUNTRY_INFO!C111=0,\" \",COUNTRY_INFO!C111))","v":"ADIAKE"},{"$f":"IF(INTRO!$E$43=\"Non endémique\", \"Non requis\", COUNTRY_INFO!Y111)","v":0},{"$f":"IF(OR(COUNTRY_INFO!R111=\"Inconnu\",COUNTRY_INFO!R111=\"Surveillance\",COUNTRY_INFO!R111=\"Non requis\",COUNTRY_INFO!R111=0),0,IF($D111<>0, COUNTRY_INFO!R111,0))","v":0},{"$f":"IF(OR(COUNTRY_INFO!S111=\"Inconnu\",COUNTRY_INFO!S111=\"Surveillance\",COUNTRY_INFO!S111=\"Non requis\",COUNTRY_INFO!S111=0),0,IF($D111<>0, COUNTRY_INFO!S111,0))","v":0},{"$f":"IF(OR(COUNTRY_INFO!T111=\"Inconnu\",COUNTRY_INFO!T111=\"Surveillance\",COUNTRY_INFO!T111=\"Non requis\",COUNTRY_INFO!T111=0),0,IF($D111<>0, COUNTRY_INFO!T111,0))","v":0},0,null,null,null,null,null,{"$f":"IF($I111<>\"Oui\",$F111*2,($F111+ROUND(J111*$F111/SUM(COUNTRY_INFO!$E111:$G111),0))*2)","v":0},{"$f":"IF($I111<>\"Oui\",$G111*3,($G111+ROUND(J111*$G111/SUM(COUNTRY_INFO!$E111:$G111),0))*3)","v":0},0,null,0]
[{"$f":"IF(INTRO!$E$43=\"Non endémique\",\" \", IF(COUNTRY_INFO!A112=0,\" \",COUNTRY_INFO!A112))","v":"Côte d'Ivoire"},{"$f":"IF(INTRO!$E$43=\"Non endémique\",\" \", IF(COUNTRY_INFO!B112=0,\" \",COUNTRY_INFO!B112))","v":"SUD-COMOE"},{"$f":"IF(INTRO!$E$43=\"Non endémique\",\" \", IF(COUNTRY_INFO!C112=0,\" \",COUNTRY_INFO!C112))","v":"GRAND-BASSAM"},{"$f":"IF(INTRO!$E$43=\"Non endémique\", \"Non requis\", COUNTRY_INFO!Y112)","v":0},{"$f":"IF(OR(COUNTRY_INFO!R112=\"Inconnu\",COUNTRY_INFO!R112=\"Surveillance\",COUNTRY_INFO!R112=\"Non requis\",COUNTRY_INFO!R112=0),0,IF($D112<>0, COUNTRY_INFO!R112,0))","v":0},{"$f":"IF(OR(COUNTRY_INFO!S112=\"Inconnu\",COUNTRY_INFO!S112=\"Surveillance\",COUNTRY_INFO!S112=\"Non requis\",COUNTRY_INFO!S112=0),0,IF($D112<>0, COUNTRY_INFO!S112,0))","v":0},{"$f":"IF(OR(COUNTRY_INFO!T112=\"Inconnu\",COUNTRY_INFO!T112=\"Surveillance\",COUNTRY_INFO!T112=\"Non requis\",COUNTRY_INFO!T112=0),0,IF($D112<>0, COUNTRY_INFO!T112,0))","v":0},0,null,null,null,null,null,{"$f":"IF($I112<>\"Oui\",$F112*2,($F112+ROUND(J112*$F112/SUM(COUNTRY_INFO!$E112:$G112),0))*2)","v":0},{"$f":"IF($I112<>\"Oui\",$G112*3,($G112+ROUND(J112*$G112/SUM(COUNTRY_INFO!$E112:$G112),0))*3)","v":0},0,null,0]
[{"$f":"IF(INTRO!$E$43=\"Non endémique\",\" \", IF(COUNTRY_INFO!A113=0,\" \",COUNTRY_INFO!A113))","v":"Côte d'Ivoire"},{"$f":"IF(INTRO!$E$43=\"Non endémique\",\" \", IF(COUNTRY_INFO!B113=0,\" \",COUNTRY_INFO!B113))","v":"SUD-COMOE"},{"$f":"IF(INTRO!$E$43=\"Non endémique\",\" \", IF(COUNTRY_INFO!C113=0,\" \",COUNTRY_INFO!C113))","v":"TIAPOUM"},{"$f":"IF(INTRO!$E$43=\"Non endémique\", \"Non requis\", COUNTRY_INFO!Y113)","v":0},{"$f":"IF(OR(COUNTRY_INFO!R113=\"Inconnu\",COUNTRY_INFO!R113=\"Surveillance\",COUNTRY_INFO!R113=\"Non requis\",COUNTRY_INFO!R113=0),0,IF($D113<>0, COUNTRY_INFO!R113,0))","v":0},{"$f":"IF(OR(COUNTRY_INFO!S113=\"Inconnu\",COUNTRY_INFO!S113=\"Surveillance\",COUNTRY_INFO!S113=\"Non requis\",COUNTRY_INFO!S113=0),0,IF($D113<>0, COUNTRY_INFO!S113,0))","v":0},{"$f":"IF(OR(COUNTRY_INFO!T113=\"Inconnu\",COUNTRY_INFO!T113=\"Surveillance\",COUNTRY_INFO!T113=\"Non requis\",COUNTRY_INFO!T113=0),0,IF($D113<>0, COUNTRY_INFO!T113,0))","v":0},0,null,null,null,null,null,{"$f":"IF($I113<>\"Oui\",$F113*2,($F113+ROUND(J113*$F113/SUM(COUNTRY_INFO!$E113:$G113),0))*2)","v":0},{"$f":"IF($I113<>\"Oui\",$G113*3,($G113+ROUND(J113*$G113/SUM(COUNTRY_INFO!$E113:$G113),0))*3)","v":0},0,null,0]
[{"$f":"IF(INTRO!$E$43=\"Non endémique\",\" \", IF(COUNTRY_INFO!A114=0,\" \",COUNTRY_INFO!A114))","v":"Côte d'Ivoire"},{"$f":"IF(INTRO!$E$43=\"Non endémique\",\" \", IF(COUNTRY_INFO!B114=0,\" \",COUNTRY_INFO!B114))","v":"TCHOLOGO"},{"$f":"IF(INTRO!$E$43=\"Non endémique\",\" \", IF(COUNTRY_INFO!C114=0,\" \",COUNTRY_INFO!C114))","v":"FERKESSEDOUGOU"},{"$f":"IF(INTRO!$E$43=\"Non endémique\", \"Non requis\", COUNTRY_INFO!Y114)","v":0},{"$f":"IF(OR(COUNTRY_INFO!R114=\"Inconnu\",COUNTRY_INFO!R114=\"Surveillance\",COUNTRY_INFO!R114=\"Non requis\",COUNTRY_INFO!R114=0),0,IF($D114<>0, COUNTRY_INFO!R114,0))","v":0},{"$f":"IF(OR(COUNTRY_INFO!S114=\"Inconnu\",COUNTRY_INFO!S114=\"Surveillance\",COUNTRY_INFO!S114=\"Non requis\",COUNTRY_INFO!S114=0),0,IF($D114<>0, COUNTRY_INFO!S114,0))","v":0},{"$f":"IF(OR(COUNTRY_INFO!T114=\"Inconnu\",COUNTRY_INFO!T114=\"Surveillance\",COUNTRY_INFO!T114=\"Non requis\",COUNTRY_INFO!T114=0),0,IF($D114<>0, COUNTRY_INFO!T114,0))","v":0},0,null,null,null,null,null,{"$f":"IF($I114<>\"Oui\",$F114*2,($F114+ROUND(J114*$F114/SUM(COUNTRY_INFO!$E114:$G114),0))*2)","v":0},{"$f":"IF($I114<>\"Oui\",$G114*3,($G114+ROUND(J114*$G114/SUM(COUNTRY_INFO!$E114:$G114),0))*3)","v":0},0,null,0]
[{"$f":"IF(INTRO!$E$43=\"Non endémique\",\" \", IF(COUNTRY_INFO!A115=0,\" \",COUNTRY_INFO!A115))","v":"Côte d'Ivoire"},{"$f":"IF(INTRO!$E$43=\"Non endémique\",\" \", IF(COUNTRY_INFO!B115=0,\" \",COUNTRY_INFO!B115))","v":"TCHOLOGO"},{"$f":"IF(INTRO!$E$43=\"Non endémique\",\" \", IF(COUNTRY_INFO!C115=0,\" \",COUNTRY_INFO!C115))","v":"KONG"},{"$f":"IF(INTRO!$E$43=\"Non endémique\", \"Non requis\", COUNTRY_INFO!Y115)","v":0},{"$f":"IF(OR(COUNTRY_INFO!R115=\"Inconnu\",COUNTRY_INFO!R115=\"Surveillance\",COUNTRY_INFO!R115=\"Non requis\",COUNTRY_INFO!R115=0),0,IF($D115<>0, COUNTRY_INFO!R115,0))","v":0},{"$f":"IF(OR(COUNTRY_INFO!S115=\"Inconnu\",COUNTRY_INFO!S115=\"Surveillance\",COUNTRY_INFO!S115=\"Non requis\",COUNTRY_INFO!S115=0),0,IF($D115<>0, COUNTRY_INFO!S115,0))","v":0},{"$f":"IF(OR(COUNTRY_INFO!T115=\"Inconnu\",COUNTRY_INFO!T115=\"Surveillance\",COUNTRY_INFO!T115=\"Non requis\",COUNTRY_INFO!T115=0),0,IF($D115<>0, COUNTRY_INFO!T115,0))","v":0},0,null,null,null,null,null,{"$f":"IF($I115<>\"Oui\",$F115*2,($F115+ROUND(J115*$F115/SUM(COUNTRY_INFO!$E115:$G115),0))*2)","v":0},{"$f":"IF($I115<>\"Oui\",$G115*3,($G115+ROUND(J115*$G115/SUM(COUNTRY_INFO!$E115:$G115),0))*3)","v":0},0,null,0]
[{"$f":"IF(INTRO!$E$43=\"Non endémique\",\" \", IF(COUNTRY_INFO!A116=0,\" \",COUNTRY_INFO!A116))","v":"Côte d'Ivoire"},{"$f":"IF(INTRO!$E$43=\"Non endémique\",\" \", IF(COUNTRY_INFO!B116=0,\" \",COUNTRY_INFO!B116))","v":"TCHOLOGO"},{"$f":"IF(INTRO!$E$43=\"Non endémique\",\" \", IF(COUNTRY_INFO!C116=0,\" \",COUNTRY_INFO!C116))","v":"OUANGOLODOUGOU"},{"$f":"IF(INTRO!$E$43=\"Non endémique\", \"Non requis\", COUNTRY_INFO!Y116)","v":0},{"$f":"IF(OR(COUNTRY_INFO!R116=\"Inconnu\",COUNTRY_INFO!R116=\"Surveillance\",COUNTRY_INFO!R116=\"Non requis\",COUNTRY_INFO!R116=0),0,IF($D116<>0, COUNTRY_INFO!R116,0))","v":0},{"$f":"IF(OR(COUNTRY_INFO!S116=\"Inconnu\",COUNTRY_INFO!S116=\"Surveillance\",COUNTRY_INFO!S116=\"Non requis\",COUNTRY_INFO!S116=0),0,IF($D116<>0, COUNTRY_INFO!S116,0))","v":0},{"$f":"IF(OR(COUNTRY_INFO!T116=\"Inconnu\",COUNTRY_INFO!T116=\"Surveillance\",COUNTRY_INFO!T116=\"Non requis\",COUNTRY_INFO!T116=0),0,IF($D116<>0, COUNTRY_INFO!T116,0))","v":0},0,null,null,null,null,null,{"$f":"IF($I116<>\"Oui\",$F116*2,($F116+ROUND(J116*$F116/SUM(COUNTRY_INFO!$E116:$G116),0))*2)","v":0},{"$f":"IF($I116<>\"Oui\",$G116*3,($G116+ROUND(J116*$G116/SUM(COUNTRY_INFO!$E116:$G116),0))*3)","v":0},0,null,0]
[{"$f":"IF(INTRO!$E$43=\"Non endémique\",\" \", IF(COUNTRY_INFO!A117=0,\" \",COUNTRY_INFO!A117))","v":"Côte d'Ivoire"},{"$f":"IF(INTRO!$E$43=\"Non endémique\",\" \", IF(COUNTRY_INFO!B117=0,\" \",COUNTRY_INFO!B117))","v":"TONKPI"},{"$f":"IF(INTRO!$E$43=\"Non endémique\",\" \", IF(COUNTRY_INFO!C117=0,\" \",COUNTRY_INFO!C117))","v":"BIANKOUMA"},{"$f":"IF(INTRO!$E$43=\"Non endémique\", \"Non requis\", COUNTRY_INFO!Y117)","v":0},{"$f":"IF(OR(COUNTRY_INFO!R117=\"Inconnu\",COUNTRY_INFO!R117=\"Surveillance\",COUNTRY_INFO!R117=\"Non requis\",COUNTRY_INFO!R117=0),0,IF($D117<>0, COUNTRY_INFO!R117,0))","v":0},{"$f":"IF(OR(COUNTRY_INFO!S117=\"Inconnu\",COUNTRY_INFO!S117=\"Surveillance\",COUNTRY_INFO!S117=\"Non requis\",COUNTRY_INFO!S117=0),0,IF($D117<>0, COUNTRY_INFO!S117,0))","v":0},{"$f":"IF(OR(COUNTRY_INFO!T117=\"Inconnu\",COUNTRY_INFO!T117=\"Surveillance\",COUNTRY_INFO!T117=\"Non requis\",COUNTRY_INFO!T117=0),0,IF($D117<>0, COUNTRY_INFO!T117,0))","v":0},0,null,null,null,null,null,{"$f":"IF($I117<>\"Oui\",$F117*2,($F117+ROUND(J117*$F117/SUM(COUNTRY_INFO!$E117:$G117),0))*2)","v":0},{"$f":"IF($I117<>\"Oui\",$G117*3,($G117+ROUND(J117*$G117/SUM(COUNTRY_INFO!$E117:$G117),0))*3)","v":0},0,null,0]
[{"$f":"IF(INTRO!$E$43=\"Non endémique\",\" \", IF(COUNTRY_INFO!A118=0,\" \",COUNTRY_INFO!A118))","v":"Côte d'Ivoire"},{"$f":"IF(INTRO!$E$43=\"Non endémique\",\" \", IF(COUNTRY_INFO!B118=0,\" \",COUNTRY_INFO!B118))","v":"TONKPI"},{"$f":"IF(INTRO!$E$43=\"Non endémique\",\" \", IF(COUNTRY_INFO!C118=0,\" \",COUNTRY_INFO!C118))","v":"DANANE"},{"$f":"IF(INTRO!$E$43=\"Non endémique\", \"Non requis\", COUNTRY_INFO!Y118)","v":0},{"$f":"IF(OR(COUNTRY_INFO!R118=\"Inconnu\",COUNTRY_INFO!R118=\"Surveillance\",COUNTRY_INFO!R118=\"Non requis\",COUNTRY_INFO!R118=0),0,IF($D118<>0, COUNTRY_INFO!R118,0))","v":0},{"$f":"IF(OR(COUNTRY_INFO!S118=\"Inconnu\",COUNTRY_INFO!S118=\"Surveillance\",COUNTRY_INFO!S118=\"Non requis\",COUNTRY_INFO!S118=0),0,IF($D118<>0, COUNTRY_INFO!S118,0))","v":0},{"$f":"IF(OR(COUNTRY_INFO!T118=\"Inconnu\",COUNTRY_INFO!T118=\"Surveillance\",COUNTRY_INFO!T118=\"Non requis\",COUNTRY_INFO!T118=0),0,IF($D118<>0, COUNTRY_INFO!T118,0))","v":0},0,null,null,null,null,null,{"$f":"IF($I118<>\"Oui\",$F118*2,($F118+ROUND(J118*$F118/SUM(COUNTRY_INFO!$E118:$G118),0))*2)","v":0},{"$f":"IF($I118<>\"Oui\",$G118*3,($G118+ROUND(J118*$G118/SUM(COUNTRY_INFO!$E118:$G118),0))*3)","v":0},0,null,0]
[{"$f":"IF(INTRO!$E$43=\"Non endémique\",\" \", IF(COUNTRY_INFO!A119=0,\" \",COUNTRY_INFO!A119))","v":"Côte d'Ivoire"},{"$f":"IF(INTRO!$E$43=\"Non endémique\",\" \", IF(COUNTRY_INFO!B119=0,\" \",COUNTRY_INFO!B119))","v":"TONKPI"},{"$f":"IF(INTRO!$E$43=\"Non endémique\",\" \", IF(COUNTRY_INFO!C119=0,\" \",COUNTRY_INFO!C119))","v":"MAN"},{"$f":"IF(INTRO!$E$43=\"Non endémique\", \"Non requis\", COUNTRY_INFO!Y119)","v":0},{"$f":"IF(OR(COUNTRY_INFO!R119=\"Inconnu\",COUNTRY_INFO!R119=\"Surveillance\",COUNTRY_INFO!R119=\"Non requis\",COUNTRY_INFO!R119=0),0,IF($D119<>0, COUNTRY_INFO!R119,0))","v":0},{"$f":"IF(OR(COUNTRY_INFO!S119=\"Inconnu\",COUNTRY_INFO!S119=\"Surveillance\",COUNTRY_INFO!S119=\"Non requis\",COUNTRY_INFO!S119=0),0,IF($D119<>0, COUNTRY_INFO!S119,0))","v":0},{"$f":"IF(OR(COUNTRY_INFO!T119=\"Inconnu\",COUNTRY_INFO!T119=\"Surveillance\",COUNTRY_INFO!T119=\"Non requis\",COUNTRY_INFO!T119=0),0,IF($D119<>0, COUNTRY_INFO!T119,0))","v":0},0,null,null,null,null,null,{"$f":"IF($I119<>\"Oui\",$F119*2,($F119+ROUND(J119*$F119/SUM(COUNTRY_INFO!$E119:$G119),0))*2)","v":0},{"$f":"IF($I119<>\"Oui\",$G119*3,($G119+ROUND(J119*$G119/SUM(COUNTRY_INFO!$E119:$G119),0))*3)","v":0},0,null,0]
[{"$f":"IF(INTRO!$E$43=\"Non endémique\",\" \", IF(COUNTRY_INFO!A120=0,\" \",COUNTRY_INFO!A120))","v":"Côte d'Ivoire"},{"$f":"IF(INTRO!$E$43=\"Non endémique\",\" \", IF(COUNTRY_INFO!B120=0,\" \",COUNTRY_INFO!B120))","v":"TONKPI"},{"$f":"IF(INTRO!$E$43=\"Non endémique\",\" \", IF(COUNTRY_INFO!C120=0,\" \",COUNTRY_INFO!C120))","v":"ZOUAN-HOUNIEN"},{"$f":"IF(INTRO!$E$43=\"Non endémique\", \"Non requis\", COUNTRY_INFO!Y120)","v":1},{"$f":"IF(OR(COUNTRY_INFO!R120=\"Inconnu\",COUNTRY_INFO!R120=\"Surveillance\",COUNTRY_INFO!R120=\"Non requis\",COUNTRY_INFO!R120=0),0,IF($D120<>0, COUNTRY_INFO!R120,0))","v":23168},{"$f":"IF(OR(COUNTRY_INFO!S120=\"Inconnu\",COUNTRY_INFO!S120=\"Surveillance\",COUNTRY_INFO!S120=\"Non requis\",COUNTRY_INFO!S120=0),0,IF($D120<>0, COUNTRY_INFO!S120,0))","v":62282},{"$f":"IF(OR(COUNTRY_INFO!T120=\"Inconnu\",COUNTRY_INFO!T120=\"Surveillance\",COUNTRY_INFO!T120=\"Non requis\",COUNTRY_INFO!T120=0),0,IF($D120<>0, COUNTRY_INFO!T120,0))","v":142066},227516,null,null,null,null,null,{"$f":"IF($I120<>\"Oui\",$F120*2,($F120+ROUND(J120*$F120/SUM(COUNTRY_INFO!$E120:$G120),0))*2)","v":124564},{"$f":"IF($I120<>\"Oui\",$G120*3,($G120+ROUND(J120*$G120/SUM(COUNTRY_INFO!$E120:$G120),0))*3)","v":426198},550762,null,550762]
[{"$f":"IF(INTRO!$E$43=\"Non endémique\",\" \", IF(COUNTRY_INFO!A121=0,\" \",COUNTRY_INFO!A121))","v":"Côte d'Ivoire"},{"$f":"IF(INTRO!$E$43=\"Non endémique\",\" \", IF(COUNTRY_INFO!B121=0,\" \",COUNTRY_INFO!B121))","v":"WORODOUGOU"},{"$f":"IF(INTRO!$E$43=\"Non endémique\",\" \", IF(COUNTRY_INFO!C121=0,\" \",COUNTRY_INFO!C121))","v":"KANI"},{"$f":"IF(INTRO!$E$43=\"Non endémique\", \"Non requis\", COUNTRY_INFO!Y121)","v":1},{"$f":"IF(OR(COUNTRY_INFO!R121=\"Inconnu\",COUNTRY_INFO!R121=\"Surveillance\",COUNTRY_INFO!R121=\"Non requis\",COUNTRY_INFO!R121=0),0,IF($D121<>0, COUNTRY_INFO!R121,0))","v":0},{"$f":"IF(OR(COUNTRY_INFO!S121=\"Inconnu\",COUNTRY_INFO!S121=\"Surveillance\",COUNTRY_INFO!S121=\"Non requis\",COUNTRY_INFO!S121=0),0,IF($D121<>0, COUNTRY_INFO!S121,0))","v":22359},{"$f":"IF(OR(COUNTRY_INFO!T121=\"Inconnu\",COUNTRY_INFO!T121=\"Surveillance\",COUNTRY_INFO!T121=\"Non requis\",COUNTRY_INFO!T121=0),0,IF($D121<>0, COUNTRY_INFO!T121,0))","v":0},22359,null,null,null,null,null,{"$f":"IF($I121<>\"Oui\",$F121*2,($F121+ROUND(J121*$F121/SUM(COUNTRY_INFO!$E121:$G121),0))*2)","v":44718},{"$f":"IF($I121<>\"Oui\",$G121*3,($G121+ROUND(J121*$G121/SUM(COUNTRY_INFO!$E121:$G121),0))*3)","v":0},44718,null,44718]
[{"$f":"IF(INTRO!$E$43=\"Non endémique\",\" \", IF(COUNTRY_INFO!A122=0,\" \",COUNTRY_INFO!A122))","v":"Côte d'Ivoire"},{"$f":"IF(INTRO!$E$43=\"Non endémique\",\" \", IF(COUNTRY_INFO!B122=0,\" \",COUNTRY_INFO!B122))","v":"WORODOUGOU"},{"$f":"IF(INTRO!$E$43=\"Non endémique\",\" \", IF(COUNTRY_INFO!C122=0,\" \",COUNTRY_INFO!C122))","v":"SEGUELA"},{"$f":"IF(INTRO!$E$43=\"Non endémique\", \"Non requis\", COUNTRY_INFO!Y122)","v":1},{"$f":"IF(OR(COUNTRY_INFO!R122=\"Inconnu\",COUNTRY_INFO!R122=\"Surveillance\",COUNTRY_INFO!R122=\"Non requis\",COUNTRY_INFO!R122=0),0,IF($D122<>0, COUNTRY_INFO!R122,0))","v":0},{"$f":"IF(OR(COUNTRY_INFO!S122=\"Inconnu\",COUNTRY_INFO!S122=\"Surveillance\",COUNTRY_INFO!S122=\"Non requis\",COUNTRY_INFO!S122=0),0,IF($D122<>0, COUNTRY_INFO!S122,0))","v":52952},{"$f":"IF(OR(COUNTRY_INFO!T122=\"Inconnu\",COUNTRY_INFO!T122=\"Surveillance\",COUNTRY_INFO!T122=\"Non requis\",COUNTRY_INFO!T122=0),0,IF($D122<>0, COUNTRY_INFO!T122,0))","v":0},52952,null,null,null,null,null,{"$f":"IF($I122<>\"Oui\",$F122*2,($F122+ROUND(J122*$F122/SUM(COUNTRY_INFO!$E122:$G122),0))*2)","v":105904},{"$f":"IF($I122<>\"Oui\",$G122*3,($G122+ROUND(J122*$G122/SUM(COUNTRY_INFO!$E122:$G122),0))*3)","v":0},105904,null,105904]

{"sheet":"IVM","index":6,"n_rows":122,"n_cols":14,"rows_kept":122,"cut":false,"hidden":false,"merged":[[5,3,7,3],[6,13,7,13],[6,8,7,8],[6,6,7,6],[6,7,7,7],[6,9,7,9],[6,10,7,10],[6,11,7,11],[3,0,3,2],[3,4,3,5],[6,4,7,4],[6,5,7,5],[5,8,5,13],[6,0,7,0],[6,1,7,1],[6,2,7,2],[5,0,5,2],[5,4,5,5],[5,6,5,7],[6,12,7,12]]}
["Ivermectine (IVM)"]
["Structure administrative, population ciblée par groupe d'âge, plan de traitement et information sur les comprimés"]
[]
["TOTAL",null,null,{"$f":"SUBTOTAL(9,D$10:D$1010)","v":17236900},null,null,{"$f":"SUBTOTAL(9,G$10:G$1010)","v":1335739},17236900,0,44523250.799999997,3740069.1999999997,48263319.999999993,0,48263319.999999993]
[]
["Structure administrative du pays",null,null,"Population nécessitant un traitement avec IVM","Plan de traitement",null,"Population cible",null,"Ivermectine (IVM)"]
["Pays","Région/Département","District",null,"FL","Oncho","FL","Oncho","FL uniquement","Oncho uniquement","FL+Oncho","Total requis","Reste en stock","Comprimés devant être fournis"]
[]
[]
[{"$f":"IF(INTRO!$E$39=\"Non endémique\",\" \",IF(COUNTRY_INFO!A10=0,\" \",COUNTRY_INFO!A10))","v":"Côte d'Ivoire"},{"$f":"IF(INTRO!$E$39=\"Non endémique\",\" \",IF(COUNTRY_INFO!B10=0,\" \",COUNTRY_INFO!B10))","v":"ABIDJAN 1 "},{"$f":"IF(INTRO!$E$39=\"Non endémique\",\" \",IF(COUNTRY_INFO!C10=0,\" \",COUNTRY_INFO!C10))","v":"ABOBO EST"},{"$f":"IF(INTRO!$E$39=\"Non endémique\",0,IF(INTRO!$E$39=\"Endémique mais pas de CP\",IF(COUNTRY_INFO!$H10=1,COUNTRY_INFO!F10+COUNTRY_INFO!G10,0),IF(COUNTRY_INFO!$H10=1,COUNTRY_INFO!F10+COUNTRY_INFO!G10,IF(COUNTRY_INFO!$I10=1,IF(COUNTRY_INFO!M10>=(COUNTRY_INFO!F10+COUNTRY_INFO!G10),COUNTRY_INFO!F10+COUNTRY_INFO!G10,COUNTRY_INFO!$M10),0))))","v":0},{"$f":"IF(AND(INTRO!$E$39=\"Non endémique\",INTRO!$E$37=\"Non endémique\"),\"Non requis\",IF(INTRO!$E$39=\"Non endémique\",\"Traiter avec DEC\",COUNTRY_INFO!V10))","v":0},{"$f":"IF(INTRO!$E$39<>\"Non endémique\",COUNTRY_INFO!W10,\"Non requis\")","v":0},{"$f":"IF(COUNTRY_INFO!H10=1, IF($E10=1,$D10, 0),0)","v":0},{"$f":"IF(COUNTRY_INFO!I10=1, IF(AND(COUNTRY_INFO!$I10=1,$F10<>0),IF(COUNTRY_INFO!M10>=(COUNTRY_INFO!F10+COUNTRY_INFO!G10),COUNTRY_INFO!F10+COUNTRY_INFO!G10,COUNTRY_INFO!$M10), 0),0)","v":0},{"$f":"IF(G10<H10,0,IF($E10=1, (G10-H10)*2.8, 0))","v":0},{"$f":"IF($E10<$F10, H10*(F10-E10)*2.8, 0)","v":0},{"$f":"IF(AND($E10=1, $F10<>0), H10*2.8, 0)","v":0},{"$f":"SUM(I10:K10)","v":0},null,{"$f":"IF($L10>$M10,$L10-$M10,0)","v":0}]
[{"$f":"IF(INTRO!$E$39=\"Non endémique\",\" \",IF(COUNTRY_INFO!A11=0,\" \",COUNTRY_INFO!A11))","v":"Côte d'Ivoire"},{"$f":"IF(INTRO!$E$39=\"Non endémique\",\" \",IF(COUNTRY_INFO!B11=0,\" \",COUNTRY_INFO!B11))","v":"ABIDJAN 1 "},{"$f":"IF(INTRO!$E$39=\"Non endémique\",\" \",IF(COUNTRY_INFO!C11=0,\" \",COUNTRY_INFO!C11))","v":"ABOBO OUEST"},{"$f":"IF(INTRO!$E$39=\"Non endémique\",0,IF(INTRO!$E$39=\"Endémique mais pas de CP\",IF(COUNTRY_INFO!$H11=1,COUNTRY_INFO!F11+COUNTRY_INFO!G11,0),IF(COUNTRY_INFO!$H11=1,COUNTRY_INFO!F11+COUNTRY_INFO!G11,IF(COUNTRY_INFO!$I11=1,IF(COUNTRY_INFO!M11>=(COUNTRY_INFO!F11+COUNTRY_INFO!G11),COUNTRY_INFO!F11+COUNTRY_INFO!G11,COUNTRY_INFO!$M11),0))))","v":0},{"$f":"IF(AND(INTRO!$E$39=\"Non endémique\",INTRO!$E$37=\"Non endémique\"),\"Non requis\",IF(INTRO!$E$39=\"Non endémique\",\"Traiter avec DEC\",COUNTRY_INFO!V11))","v":0},{"$f":"IF(INTRO!$E$39<>\"Non endémique\",COUNTRY_INFO!W11,\"Non requis\")","v":0},{"$f":"IF(COUNTRY_INFO!H11=1, IF($E11=1,$D11, 0),0)","v":0},{"$f":"IF(COUNTRY_INFO!I11=1, IF(AND(COUNTRY_INFO!$I11=1,$F11<>0),IF(COUNTRY_INFO!M11>=(COUNTRY_INFO!F11+COUNTRY_INFO!G11),COUNTRY_INFO!F11+COUNTRY_INFO!G11,COUNTRY_INFO!$M11), 0),0)","v":0},0,0,{"$f":"IF(AND($E11=1, $F11<>0), H11*2.8, 0)","v":0},{"$f":"SUM(I11:K11)","v":0},null,0]
[{"$f":"IF(INTRO!$E$39=\"Non endémique\",\" \",IF(COUNTRY_INFO!A12=0,\" \",COUNTRY_INFO!A12))","v":"Côte d'Ivoire"},{"$f":"IF(INTRO!$E$39=\"Non endémique\",\" \",IF(COUNTRY_INFO!B12=0,\" \",COUNTRY_INFO!B12))","v":"ABIDJAN 1 "},{"$f":"IF(INTRO!$E$39=\"Non endémique\",\" \",IF(COUNTRY_INFO!C12=0,\" \",COUNTRY_INFO!C12))","v":"ANYAMA"},{"$f":"IF(INTRO!$E$39=\"Non endémique\",0,IF(INTRO!$E$39=\"Endémique mais pas de CP\",IF(COUNTRY_INFO!$H12=1,COUNTRY_INFO!F12+COUNTRY_INFO!G12,0),IF(COUNTRY_INFO!$H12=1,COUNTRY_INFO!F12+COUNTRY_INFO!G12,IF(COUNTRY_INFO!$I12=1,IF(COUNTRY_INFO!M12>=(COUNTRY_INFO!F12+COUNTRY_INFO!G12),COUNTRY_INFO!F12+COUNTRY_INFO!G12,COUNTRY_INFO!$M12),0))))","v":0},{"$f":"IF(AND(INTRO!$E$39=\"Non endémique\",INTRO!$E$37=\"Non endémique\"),\"Non requis\",IF(INTRO!$E$39=\"Non endémique\",\"Traiter avec DEC\",COUNTRY_INFO!V12))","v":0},{"$f":"IF(INTRO!$E$39<>\"Non endémique\",COUNTRY_INFO!W12,\"Non requis\")","v":0},{"$f":"IF(COUNTRY_INFO!H12=1, IF($E12=1,$D12, 0),0)","v":0},{"$f":"IF(COUNTRY_INFO!I12=1, IF(AND(COUNTRY_INFO!$I12=1,$F12<>0),IF(COUNTRY_INFO!M12>=(COUNTRY_INFO!F12+COUNTRY_INFO!G12),COUNTRY_INFO!F12+COUNTRY_INFO!G12,COUNTRY_INFO!$M12), 0),0)","v":0},0,0,0,0,null,0]
[{"$f":"IF(INTRO!$E$39=\"Non endémique\",\" \",IF(COUNTRY_INFO!A13=0,\" \",COUNTRY_INFO!A13))","v":"Côte d'Ivoire"},{"$f":"IF(INTRO!$E$39=\"Non endémique\",\" \",IF(COUNTRY_INFO!B13=0,\" \",COUNTRY_INFO!B13))","v":"ABIDJAN 1 "},{"$f":"IF(INTRO!$E$39=\"Non endémique\",\" \",IF(COUNTRY_INFO!C13=0,\" \",COUNTRY_INFO!C13))","v":"YOPOUGON EST"},{"$f":"IF(INTRO!$E$39=\"Non endémique\",0,IF(INTRO!$E$39=\"Endémique mais pas de CP\",IF(COUNTRY_INFO!$H13=1,COUNTRY_INFO!F13+COUNTRY_INFO!G13,0),IF(COUNTRY_INFO!$H13=1,COUNTRY_INFO!F13+COUNTRY_INFO!G13,IF(COUNTRY_INFO!$I13=1,IF(COUNTRY_INFO!M13>=(COUNTRY_INFO!F13+COUNTRY_INFO!G13),COUNTRY_INFO!F13+COUNTRY_INFO!G13,COUNTRY_INFO!$M13),0))))","v":0},{"$f":"IF(AND(INTRO!$E$39=\"Non endémique\",INTRO!$E$37=\"Non endémique\"),\"Non requis\",IF(INTRO!$E$39=\"Non endémique\",\"Traiter avec DEC\",COUNTRY_INFO!V13))","v":0},{"$f":"IF(INTRO!$E$39<>\"Non endémique\",COUNTRY_INFO!W13,\"Non requis\")","v":0},{"$f":"IF(COUNTRY_INFO!H13=1, IF($E13=1,$D13, 0),0)","v":0},{"$f":"IF(COUNTRY_INFO!I13=1, IF(AND(COUNTRY_INFO!$I13=1,$F13<>0),IF(COUNTRY_INFO!M13>=(COUNTRY_INFO!F13+COUNTRY_INFO!G13),COUNTRY_INFO!F13+COUNTRY_INFO!G13,COUNTRY_INFO!$M13), 0),0)","v":0},0,0,0,0,null,0]
[{"$f":"IF(INTRO!$E$39=\"Non endémique\",\" \",IF(COUNTRY_INFO!A14=0,\" \",COUNTRY_INFO!A14))","v":"Côte d'Ivoire"},{"$f":"IF(INTRO!$E$39=\"Non endémique\",\" \",IF(COUNTRY_INFO!B14=0,\" \",COUNTRY_INFO!B14))","v":"ABIDJAN 1 "},{"$f":"IF(INTRO!$E$39=\"Non endémique\",\" \",IF(COUNTRY_INFO!C14=0,\" \",COUNTRY_INFO!C14))","v":"YOPOUGON OUEST"},{"$f":"IF(INTRO!$E$39=\"Non endémique\",0,IF(INTRO!$E$39=\"Endémique mais pas de CP\",IF(COUNTRY_INFO!$H14=1,COUNTRY_INFO!F14+COUNTRY_INFO!G14,0),IF(COUNTRY_INFO!$H14=1,COUNTRY_INFO!F14+COUNTRY_INFO!G14,IF(COUNTRY_INFO!$I14=1,IF(COUNTRY_INFO!M14>=(COUNTRY_INFO!F14+COUNTRY_INFO!G14),COUNTRY_INFO!F14+COUNTRY_INFO!G14,COUNTRY_INFO!$M14),0))))","v":0},{"$f":"IF(AND(INTRO!$E$39=\"Non endémique\",INTRO!$E$37=\"Non endémique\"),\"Non requis\",IF(INTRO!$E$39=\"Non endémique\",\"Traiter avec DEC\",COUNTRY_INFO!V14))","v":0},{"$f":"IF(INTRO!$E$39<>\"Non endémique\",COUNTRY_INFO!W14,\"Non requis\")","v":0},{"$f":"IF(COUNTRY_INFO!H14=1, IF($E14=1,$D14, 0),0)","v":0},{"$f":"IF(COUNTRY_INFO!I14=1, IF(AND(COUNTRY_INFO!$I14=1,$F14<>0),IF(COUNTRY_INFO!M14>=(COUNTRY_INFO!F14+COUNTRY_INFO!G14),COUNTRY_INFO!F14+COUNTRY_INFO!G14,COUNTRY_INFO!$M14), 0),0)","v":0},0,0,0,0,null,0]
[{"$f":"IF(INTRO!$E$39=\"Non endémique\",\" \",IF(COUNTRY_INFO!A15=0,\" \",COUNTRY_INFO!A15))","v":"Côte d'Ivoire"},{"$f":"IF(INTRO!$E$39=\"Non endémique\",\" \",IF(COUNTRY_INFO!B15=0,\" \",COUNTRY_INFO!B15))","v":"ABIDJAN 2"},{"$f":"IF(INTRO!$E$39=\"Non endémique\",\" \",IF(COUNTRY_INFO!C15=0,\" \",COUNTRY_INFO!C15))","v":"ADJAME-PLATEAU-ATTECOUBE"},{"$f":"IF(INTRO!$E$39=\"Non endémique\",0,IF(INTRO!$E$39=\"Endémique mais pas de CP\",IF(COUNTRY_INFO!$H15=1,COUNTRY_INFO!F15+COUNTRY_INFO!G15,0),IF(COUNTRY_INFO!$H15=1,COUNTRY_INFO!F15+COUNTRY_INFO!G15,IF(COUNTRY_INFO!$I15=1,IF(COUNTRY_INFO!M15>=(COUNTRY_INFO!F15+COUNTRY_INFO!G15),COUNTRY_INFO!F15+COUNTRY_INFO!G15,COUNTRY_INFO!$M15),0))))","v":0},{"$f":"IF(AND(INTRO!$E$39=\"Non endémique\",INTRO!$E$37=\"Non endémique\"),\"Non requis\",IF(INTRO!$E$39=\"Non endémique\",\"Traiter avec DEC\",COUNTRY_INFO!V15))","v":0},{"$f":"IF(INTRO!$E$39<>\"Non endémique\",COUNTRY_INFO!W15,\"Non requis\")","v":0},{"$f":"IF(COUNTRY_INFO!H15=1, IF($E15=1,$D15, 0),0)","v":0},{"$f":"IF(COUNTRY_INFO!I15=1, IF(AND(COUNTRY_INFO!$I15=1,$F15<>0),IF(COUNTRY_INFO!M15>=(COUNTRY_INFO!F15+COUNTRY_INFO!G15),COUNTRY_INFO!F15+COUNTRY_INFO!G15,COUNTRY_INFO!$M15), 0),0)","v":0},0,0,0,0,null,0]
[{"$f":"IF(INTRO!$E$39=\"Non endémique\",\" \",IF(COUNTRY_INFO!A16=0,\" \",COUNTRY_INFO!A16))","v":"Côte d'Ivoire"},{"$f":"IF(INTRO!$E$39=\"Non endémique\",\" \",IF(COUNTRY_INFO!B16=0,\" \",COUNTRY_INFO!B16))","v":"ABIDJAN 2"},{"$f":"IF(INTRO!$E$39=\"Non endémique\",\" \",IF(COUNTRY_INFO!C16=0,\" \",COUNTRY_INFO!C16))","v":"COCODY-BINGERVILLE"},{"$f":"IF(INTRO!$E$39=\"Non endémique\",0,IF(INTRO!$E$39=\"Endémique mais pas de CP\",IF(COUNTRY_INFO!$H16=1,COUNTRY_INFO!F16+COUNTRY_INFO!G16,0),IF(COUNTRY_INFO!$H16=1,COUNTRY_INFO!F16+COUNTRY_INFO!G16,IF(COUNTRY_INFO!$I16=1,IF(COUNTRY_INFO!M16>=(COUNTRY_INFO!F16+COUNTRY_INFO!G16),COUNTRY_INFO!F16+COUNTRY_INFO!G16,COUNTRY_INFO!$M16),0))))","v":0},{"$f":"IF(AND(INTRO!$E$39=\"Non endémique\",INTRO!$E$37=\"Non endémique\"),\"Non requis\",IF(INTRO!$E$39=\"Non endémique\",\"Traiter avec DEC\",COUNTRY_INFO!V16))","v":0},{"$f":"IF(INTRO!$E$39<>\"Non endémique\",COUNTRY_INFO!W16,\"Non requis\")","v":0},{"$f":"IF(COUNTRY_INFO!H16=1, IF($E16=1,$D16, 0),0)","v":0},{"$f":"IF(COUNTRY_INFO!I16=1, IF(AND(COUNTRY_INFO!$I16=1,$F16<>0),IF(COUNTRY_INFO!M16>=(COUNTRY_INFO!F16+COUNTRY_INFO!G16),COUNTRY_INFO!F16+COUNTRY_INFO!G16,COUNTRY_INFO!$M16), 0),0)","v":0},0,0,0,0,null,0]
[{"$f":"IF(INTRO!$E$39=\"Non endémique\",\" \",IF(COUNTRY_INFO!A17=0,\" \",COUNTRY_INFO!A17))","v":"Côte d'Ivoire"},{"$f":"IF(INTRO!$E$39=\"Non endémique\",\" \",IF(COUNTRY_INFO!B17=0,\" \",COUNTRY_INFO!B17))","v":"ABIDJAN 2"},{"$f":"IF(INTRO!$E$39=\"Non endémique\",\" \",IF(COUNTRY_INFO!C17=0,\" \",COUNTRY_INFO!C17))","v":"KOUMASSI"},{"$f":"IF(INTRO!$E$39=\"Non endémique\",0,IF(INTRO!$E$39=\"Endémique mais pas de CP\",IF(COUNTRY_INFO!$H17=1,COUNTRY_INFO!F17+COUNTRY_INFO!G17,0),IF(COUNTRY_INFO!$H17=1,COUNTRY_INFO!F17+COUNTRY_INFO!G17,IF(COUNTRY_INFO!$I17=1,IF(COUNTRY_INFO!M17>=(COUNTRY_INFO!F17+COUNTRY_INFO!G17),COUNTRY_INFO!F17+COUNTRY_INFO!G17,COUNTRY_INFO!$M17),0))))","v":0},{"$f":"IF(AND(INTRO!$E$39=\"Non endémique\",INTRO!$E$37=\"Non endémique\"),\"Non requis\",IF(INTRO!$E$39=\"Non endémique\",\"Traiter avec DEC\",COUNTRY_INFO!V17))","v":0},{"$f":"IF(INTRO!$E$39<>\"Non endémique\",COUNTRY_INFO!W17,\"Non requis\")","v":0},{"$f":"IF(COUNTRY_INFO!H17=1, IF($E17=1,$D17, 0),0)","v":0},{"$f":"IF(COUNTRY_INFO!I17=1, IF(AND(COUNTRY_INFO!$I17=1,$F17<>0),IF(COUNTRY_INFO!M17>=(COUNTRY_INFO!F17+COUNTRY_INFO!G17),COUNTRY_INFO!F17+COUNTRY_INFO!G17,COUNTRY_INFO!$M17), 0),0)","v":0},0,0,0,0,null,0]
[{"$f":"IF(INTRO!$E$39=\"Non endémique\",\" \",IF(COUNTRY_INFO!A18=0,\" \",COUNTRY_INFO!A18))","v":"Côte d'Ivoire"},{"$f":"IF(INTRO!$E$39=\"Non endémique\",\" \",IF(COUNTRY_INFO!B18=0,\" \",COUNTRY_INFO!B18))","v":"ABIDJAN 2"},{"$f":"IF(INTRO!$E$39=\"Non endémique\",\" \",IF(COUNTRY_INFO!C18=0,\" \",COUNTRY_INFO!C18))","v":"PORT BOUET-VRIDI"},{"$f":"IF(INTRO!$E$39=\"Non endémique\",0,IF(INTRO!$E$39=\"Endémique mais pas de CP\",IF(COUNTRY_INFO!$H18=1,COUNTRY_INFO!F18+COUNTRY_INFO!G18,0),IF(COUNTRY_INFO!$H18=1,COUNTRY_INFO!F18+COUNTRY_INFO!G18,IF(COUNTRY_INFO!$I18=1,IF(COUNTRY_INFO!M18>=(COUNTRY_INFO!F18+COUNTRY_INFO!G18),COUNTRY_INFO!F18+COUNTRY_INFO!G18,COUNTRY_INFO!$M18),0))))","v":0},{"$f":"IF(AND(INTRO!$E$39=\"Non endémique\",INTRO!$E$37=\"Non endémique\"),\"Non requis\",IF(INTRO!$E$39=\"Non endémique\",\"Traiter avec DEC\",COUNTRY_INFO!V18))","v":0},{"$f":"IF(INTRO!$E$39<>\"Non endémique\",COUNTRY_INFO!W18,\"Non requis\")","v":0},{"$f":"IF(COUNTRY_INFO!H18=1, IF($E18=1,$D18, 0),0)","v":0},{"$f":"IF(COUNTRY_INFO!I18=1, IF(AND(COUNTRY_INFO!$I18=1,$F18<>0),IF(COUNTRY_INFO!M18>=(COUNTRY_INFO!F18+COUNTRY_INFO!G18),COUNTRY_INFO!F18+COUNTRY_INFO!G18,COUNTRY_INFO!$M18), 0),0)","v":0},0,0,0,0,null,0]
[{"$f":"IF(INTRO!$E$39=\"Non endémique\",\" \",IF(COUNTRY_INFO!A19=0,\" \",COUNTRY_INFO!A19))","v":"Côte d'Ivoire"},{"$f":"IF(INTRO!$E$39=\"Non endémique\",\" \",IF(COUNTRY_INFO!B19=0,\" \",COUNTRY_INFO!B19))","v":"ABIDJAN 2"},{"$f":"IF(INTRO!$E$39=\"Non endémique\",\" \",IF(COUNTRY_INFO!C19=0,\" \",COUNTRY_INFO!C19))","v":"TREICHVILLE-MARCORY"},{"$f":"IF(INTRO!$E$39=\"Non endémique\",0,IF(INTRO!$E$39=\"Endémique mais pas de CP\",IF(COUNTRY_INFO!$H19=1,COUNTRY_INFO!F19+COUNTRY_INFO!G19,0),IF(COUNTRY_INFO!$H19=1,COUNTRY_INFO!F19+COUNTRY_INFO!G19,IF(COUNTRY_INFO!$I19=1,IF(COUNTRY_INFO!M19>=(COUNTRY_INFO!F19+COUNTRY_INFO!G19),COUNTRY_INFO!F19+COUNTRY_INFO!G19,COUNTRY_INFO!$M19),0))))","v":0},{"$f":"IF(AND(INTRO!$E$39=\"Non endémique\",INTRO!$E$37=\"Non endémique\"),\"Non requis\",IF(INTRO!$E$39=\"Non endémique\",\"Traiter avec DEC\",COUNTRY_INFO!V19))","v":0},{"$f":"IF(INTRO!$E$39<>\"Non endémique\",COUNTRY_INFO!W19,\"Non requis\")","v":0},{"$f":"IF(COUNTRY_INFO!H19=1, IF($E19=1,$D19, 0),0)","v":0},{"$f":"IF(COUNTRY_INFO!I19=1, IF(AND(COUNTRY_INFO!$I19=1,$F19<>0),IF(COUNTRY_INFO!M19>=(COUNTRY_INFO!F19+COUNTRY_INFO!G19),COUNTRY_INFO!F19+COUNTRY_INFO!G19,COUNTRY_INFO!$M19), 0),0)","v":0},0,0,0,0,null,0]
[{"$f":"IF(INTRO!$E$39=\"Non endémique\",\" \",IF(COUNTRY_INFO!A20=0,\" \",COUNTRY_INFO!A20))","v":"Côte d'Ivoire"},{"$f":"IF(INTRO!$E$39=\"Non endémique\",\" \",IF(COUNTRY_INFO!B20=0,\" \",COUNTRY_INFO!B20))","v":"AGNEBY-TIASSA"},{"$f":"IF(INTRO!$E$39=\"Non endémique\",\" \",IF(COUNTRY_INFO!C20=0,\" \",COUNTRY_INFO!C20))","v":"AGBOVILLE"},{"$f":"IF(INTRO!$E$39=\"Non endémique\",0,IF(INTRO!$E$39=\"Endémique mais pas de CP\",IF(COUNTRY_INFO!$H20=1,COUNTRY_INFO!F20+COUNTRY_INFO!G20,0),IF(COUNTRY_INFO!$H20=1,COUNTRY_INFO!F20+COUNTRY_INFO!G20,IF(COUNTRY_INFO!$I20=1,IF(COUNTRY_INFO!M20>=(COUNTRY_INFO!F20+COUNTRY_INFO!G20),COUNTRY_INFO!F20+COUNTRY_INFO!G20,COUNTRY_INFO!$M20),0))))","v":306065},{"$f":"IF(AND(INTRO!$E$39=\"Non endémique\",INTRO!$E$37=\"Non endémique\"),\"Non requis\",IF(INTRO!$E$39=\"Non endémique\",\"Traiter avec DEC\",COUNTRY_INFO!V20))","v":0},{"$f":"IF(INTRO!$E$39<>\"Non endémique\",COUNTRY_INFO!W20,\"Non requis\")","v":1},{"$f":"IF(COUNTRY_INFO!H20=1, IF($E20=1,$D20, 0),0)","v":0},{"$f":"IF(COUNTRY_INFO!I20=1, IF(AND(COUNTRY_INFO!$I20=1,$F20<>0),IF(COUNTRY_INFO!M20>=(COUNTRY_INFO!F20+COUNTRY_INFO!G20),COUNTRY_INFO!F20+COUNTRY_INFO!G20,COUNTRY_INFO!$M20), 0),0)","v":306065},0,856982,0,856982,null,856982]
[{"$f":"IF(INTRO!$E$39=\"Non endémique\",\" \",IF(COUNTRY_INFO!A21=0,\" \",COUNTRY_INFO!A21))","v":"Côte d'Ivoire"},{"$f":"IF(INTRO!$E$39=\"Non endémique\",\" \",IF(COUNTRY_INFO!B21=0,\" \",COUNTRY_INFO!B21))","v":"AGNEBY-TIASSA"},{"$f":"IF(INTRO!$E$39=\"Non endémique\",\" \",IF(COUNTRY_INFO!C21=0,\" \",COUNTRY_INFO!C21))","v":"SIKENSI"},{"$f":"IF(INTRO!$E$39=\"Non endémique\",0,IF(INTRO!$E$39=\"Endémique mais pas de CP\",IF(COUNTRY_INFO!$H21=1,COUNTRY_INFO!F21+COUNTRY_INFO!G21,0),IF(COUNTRY_INFO!$H21=1,COUNTRY_INFO!F21+COUNTRY_INFO!G21,IF(COUNTRY_INFO!$I21=1,IF(COUNTRY_INFO!M21>=(COUNTRY_INFO!F21+COUNTRY_INFO!G21),COUNTRY_INFO!F21+COUNTRY_INFO!G21,COUNTRY_INFO!$M21),0))))","v":82188},{"$f":"IF(AND(INTRO!$E$39=\"Non endémique\",INTRO!$E$37=\"Non endémique\"),\"Non requis\",IF(INTRO!$E$39=\"Non endémique\",\"Traiter avec DEC\",COUNTRY_INFO!V21))","v":0},{"$f":"IF(INTRO!$E$39<>\"Non endémique\",COUNTRY_INFO!W21,\"Non requis\")","v":1},{"$f":"IF(COUNTRY_INFO!H21=1, IF($E21=1,$D21, 0),0)","v":0},{"$f":"IF(COUNTRY_INFO!I21=1, IF(AND(COUNTRY_INFO!$I21=1,$F21<>0),IF(COUNTRY_INFO!M21>=(COUNTRY_INFO!F21+COUNTRY_INFO!G21),COUNTRY_INFO!F21+COUNTRY_INFO!G21,COUNTRY_INFO!$M21), 0),0)","v":82188},0,230126.4,0,230126.4,null,230126.4]
[{"$f":"IF(INTRO!$E$39=\"Non endémique\",\" \",IF(COUNTRY_INFO!A22=0,\" \",COUNTRY_INFO!A22))","v":"Côte d'Ivoire"},{"$f":"IF(INTRO!$E$39=\"Non endémique\",\" \",IF(COUNTRY_INFO!B22=0,\" \",COUNTRY_INFO!B22))","v":"AGNEBY-TIASSA"},{"$f":"IF(INTRO!$E$39=\"Non endémique\",\" \",IF(COUNTRY_INFO!C22=0,\" \",COUNTRY_INFO!C22))","v":"TIASSALE"},{"$f":"IF(INTRO!$E$39=\"Non endémique\",0,IF(INTRO!$E$39=\"Endémique mais pas de CP\",IF(COUNTRY_INFO!$H22=1,COUNTRY_INFO!F22+COUNTRY_INFO!G22,0),IF(COUNTRY_INFO!$H22=1,COUNTRY_INFO!F22+COUNTRY_INFO!G22,IF(COUNTRY_INFO!$I22=1,IF(COUNTRY_INFO!M22>=(COUNTRY_INFO!F22+COUNTRY_INFO!G22),COUNTRY_INFO!F22+COUNTRY_INFO!G22,COUNTRY_INFO!$M22),0))))","v":247596},{"$f":"IF(AND(INTRO!$E$39=\"Non endémique\",INTRO!$E$37=\"Non endémique\"),\"Non requis\",IF(INTRO!$E$39=\"Non endémique\",\"Traiter avec DEC\",COUNTRY_INFO!V22))","v":0},{"$f":"IF(INTRO!$E$39<>\"Non endémique\",COUNTRY_INFO!W22,\"Non requis\")","v":1},{"$f":"IF(COUNTRY_INFO!H22=1, IF($E22=1,$D22, 0),0)","v":0},{"$f":"IF(COUNTRY_INFO!I22=1, IF(AND(COUNTRY_INFO!$I22=1,$F22<>0),IF(COUNTRY_INFO!M22>=(COUNTRY_INFO!F22+COUNTRY_INFO!G22),COUNTRY_INFO!F22+COUNTRY_INFO!G22,COUNTRY_INFO!$M22), 0),0)","v":247596},0,693268.79999999993,0,693268.79999999993,null,693268.79999999993]
[{"$f":"IF(INTRO!$E$39=\"Non endémique\",\" \",IF(COUNTRY_INFO!A23=0,\" \",COUNTRY_INFO!A23))","v":"Côte d'Ivoire"},{"$f":"IF(INTRO!$E$39=\"Non endémique\",\" \",IF(COUNTRY_INFO!B23=0,\" \",COUNTRY_INFO!B23))","v":"BAFING"},{"$f":"IF(INTRO!$E$39=\"Non endémique\",\" \",IF(COUNTRY_INFO!C23=0,\" \",COUNTRY_INFO!C23))","v":"KORO"},{"$f":"IF(INTRO!$E$39=\"Non endémique\",0,IF(INTRO!$E$39=\"Endémique mais pas de CP\",IF(COUNTRY_INFO!$H23=1,COUNTRY_INFO!F23+COUNTRY_INFO!G23,0),IF(COUNTRY_INFO!$H23=1,COUNTRY_INFO!F23+COUNTRY_INFO!G23,IF(COUNTRY_INFO!$I23=1,IF(COUNTRY_INFO!M23>=(COUNTRY_INFO!F23+COUNTRY_INFO!G23),COUNTRY_INFO!F23+COUNTRY_INFO!G23,COUNTRY_INFO!$M23),0))))","v":64506},{"$f":"IF(AND(INTRO!$E$39=\"Non endémique\",INTRO!$E$37=\"Non endémique\"),\"Non requis\",IF(INTRO!$E$39=\"Non endémique\",\"Traiter avec DEC\",COUNTRY_INFO!V23))","v":0},{"$f":"IF(INTRO!$E$39<>\"Non endémique\",COUNTRY_INFO!W23,\"Non requis\")","v":1},{"$f":"IF(COUNTRY_INFO!H23=1, IF($E23=1,$D23, 0),0)","v":0},{"$f":"IF(COUNTRY_INFO!I23=1, IF(AND(COUNTRY_INFO!$I23=1,$F23<>0),IF(COUNTRY_INFO!M23>=(COUNTRY_INFO!F23+COUNTRY_INFO!G23),COUNTRY_INFO!F23+COUNTRY_INFO!G23,COUNTRY_INFO!$M23), 0),0)","v":64506},0,180616.8,0,180616.8,null,180616.8]
[{"$f":"IF(INTRO!$E$39=\"Non endémique\",\" \",IF(COUNTRY_INFO!A24=0,\" \",COUNTRY_INFO!A24))","v":"Côte d'Ivoire"},{"$f":"IF(INTRO!$E$39=\"Non endémique\",\" \",IF(COUNTRY_INFO!B24=0,\" \",COUNTRY_INFO!B24))","v":"BAFING"},{"$f":"IF(INTRO!$E$39=\"Non endémique\",\" \",IF(COUNTRY_INFO!C24=0,\" \",COUNTRY_INFO!C24))","v":"OUANINOU"},{"$f":"IF(INTRO!$E$39=\"Non endémique\",0,IF(INTRO!$E$39=\"Endémique mais pas de CP\",IF(COUNTRY_INFO!$H24=1,COUNTRY_INFO!F24+COUNTRY_INFO!G24,0),IF(COUNTRY_INFO!$H24=1,COUNTRY_INFO!F24+COUNTRY_INFO!G24,IF(COUNTRY_INFO!$I24=1,IF(COUNTRY_INFO!M24>=(COUNTRY_INFO!F24+COUNTRY_INFO!G24),COUNTRY_INFO!F24+COUNTRY_INFO!G24,COUNTRY_INFO!$M24),0))))","v":53170},{"$f":"IF(AND(INTRO!$E$39=\"Non endémique\",INTRO!$E$37=\"Non endémique\"),\"Non requis\",IF(INTRO!$E$39=\"Non endémique\",\"Traiter avec DEC\",COUNTRY_INFO!V24))","v":0},{"$f":"IF(INTRO!$E$39<>\"Non endémique\",COUNTRY_INFO!W24,\"Non requis\")","v":1},{"$f":"IF(COUNTRY_INFO!H24=1, IF($E24=1,$D24, 0),0)","v":0},{"$f":"IF(COUNTRY_INFO!I24=1, IF(AND(COUNTRY_INFO!$I24=1,$F24<>0),IF(COUNTRY_INFO!M24>=(COUNTRY_INFO!F24+COUNTRY_INFO!G24),COUNTRY_INFO!F24+COUNTRY_INFO!G24,COUNTRY_INFO!$M24), 0),0)","v":53170},0,148876,0,148876,null,148876]
[{"$f":"IF(INTRO!$E$39=\"Non endémique\",\" \",IF(COUNTRY_INFO!A25=0,\" \",COUNTRY_INFO!A25))","v":"Côte d'Ivoire"},{"$f":"IF(INTRO!$E$39=\"Non endémique\",\" \",IF(COUNTRY_INFO!B25=0,\" \",COUNTRY_INFO!B25))","v":"BAFING"},{"$f":"IF(INTRO!$E$39=\"Non endémique\",\" \",IF(COUNTRY_INFO!C25=0,\" \",COUNTRY_INFO!C25))","v":"TOUBA"},{"$f":"IF(INTRO!$E$39=\"Non endémique\",0,IF(INTRO!$E$39=\"Endémique mais pas de CP\",IF(COUNTRY_INFO!$H25=1,COUNTRY_INFO!F25+COUNTRY_INFO!G25,0),IF(COUNTRY_INFO!$H25=1,COUNTRY_INFO!F25+COUNTRY_INFO!G25,IF(COUNTRY_INFO!$I25=1,IF(COUNTRY_INFO!M25>=(COUNTRY_INFO!F25+COUNTRY_INFO!G25),COUNTRY_INFO!F25+COUNTRY_INFO!G25,COUNTRY_INFO!$M25),0))))","v":81744},{"$f":"IF(AND(INTRO!$E$39=\"Non endémique\",INTRO!$E$37=\"Non endémique\"),\"Non requis\",IF(INTRO!$E$39=\"Non endémique\",\"Traiter avec DEC\",COUNTRY_INFO!V25))","v":0},{"$f":"IF(INTRO!$E$39<>\"Non endémique\",COUNTRY_INFO!W25,\"Non requis\")","v":1},{"$f":"IF(COUNTRY_INFO!H25=1, IF($E25=1,$D25, 0),0)","v":0},{"$f":"IF(COUNTRY_INFO!I25=1, IF(AND(COUNTRY_INFO!$I25=1,$F25<>0),IF(COUNTRY_INFO!M25>=(COUNTRY_INFO!F25+COUNTRY_INFO!G25),COUNTRY_INFO!F25+COUNTRY_INFO!G25,COUNTRY_INFO!$M25), 0),0)","v":81744},0,228883.19999999998,0,228883.19999999998,null,228883.19999999998]
[{"$f":"IF(INTRO!$E$39=\"Non endémique\",\" \",IF(COUNTRY_INFO!A26=0,\" \",COUNTRY_INFO!A26))","v":"Côte d'Ivoire"},{"$f":"IF(INTRO!$E$39=\"Non endémique\",\" \",IF(COUNTRY_INFO!B26=0,\" \",COUNTRY_INFO!B26))","v":"BAGOUE"},{"$f":"IF(INTRO!$E$39=\"Non endémique\",\" \",IF(COUNTRY_INFO!C26=0,\" \",COUNTRY_INFO!C26))","v":"BOUNDIALI"},{"$f":"IF(INTRO!$E$39=\"Non endémique\",0,IF(INTRO!$E$39=\"Endémique mais pas de CP\",IF(COUNTRY_INFO!$H26=1,COUNTRY_INFO!F26+COUNTRY_INFO!G26,0),IF(COUNTRY_INFO!$H26=1,COUNTRY_INFO!F26+COUNTRY_INFO!G26,IF(COUNTRY_INFO!$I26=1,IF(COUNTRY_INFO!M26>=(COUNTRY_INFO!F26+COUNTRY_INFO!G26),COUNTRY_INFO!F26+COUNTRY_INFO!G26,COUNTRY_INFO!$M26),0))))","v":144493},{"$f":"IF(AND(INTRO!$E$39=\"Non endémique\",INTRO!$E$37=\"Non endémique\"),\"Non requis\",IF(INTRO!$E$39=\"Non endémique\",\"Traiter avec DEC\",COUNTRY_INFO!V26))","v":0},{"$f":"IF(INTRO!$E$39<>\"Non endémique\",COUNTRY_INFO!W26,\"Non requis\")","v":1},{"$f":"IF(COUNTRY_INFO!H26=1, IF($E26=1,$D26, 0),0)","v":0},{"$f":"IF(COUNTRY_INFO!I26=1, IF(AND(COUNTRY_INFO!$I26=1,$F26<>0),IF(COUNTRY_INFO!M26>=(COUNTRY_INFO!F26+COUNTRY_INFO!G26),COUNTRY_INFO!F26+COUNTRY_INFO!G26,COUNTRY_INFO!$M26), 0),0)","v":144493},0,404580.39999999997,0,404580.39999999997,null,404580.39999999997]
[{"$f":"IF(INTRO!$E$39=\"Non endémique\",\" \",IF(COUNTRY_INFO!A27=0,\" \",COUNTRY_INFO!A27))","v":"Côte d'Ivoire"},{"$f":"IF(INTRO!$E$39=\"Non endémique\",\" \",IF(COUNTRY_INFO!B27=0,\" \",COUNTRY_INFO!B27))","v":"BAGOUE"},{"$f":"IF(INTRO!$E$39=\"Non endémique\",\" \",IF(COUNTRY_INFO!C27=0,\" \",COUNTRY_INFO!C27))","v":"KOUTO"},{"$f":"IF(INTRO!$E$39=\"Non endémique\",0,IF(INTRO!$E$39=\"Endémique mais pas de CP\",IF(COUNTRY_INFO!$H27=1,COUNTRY_INFO!F27+COUNTRY_INFO!G27,0),IF(COUNTRY_INFO!$H27=1,COUNTRY_INFO!F27+COUNTRY_INFO!G27,IF(COUNTRY_INFO!$I27=1,IF(COUNTRY_INFO!M27>=(COUNTRY_INFO!F27+COUNTRY_INFO!G27),COUNTRY_INFO!F27+COUNTRY_INFO!G27,COUNTRY_INFO!$M27),0))))","v":146660},{"$f":"IF(AND(INTRO!$E$39=\"Non endémique\",INTRO!$E$37=\"Non endémique\"),\"Non requis\",IF(INTRO!$E$39=\"Non endémique\",\"Traiter avec DEC\",COUNTRY_INFO!V27))","v":0},{"$f":"IF(INTRO!$E$39<>\"Non endémique\",COUNTRY_INFO!W27,\"Non requis\")","v":1},{"$f":"IF(COUNTRY_INFO!H27=1, IF($E27=1,$D27, 0),0)","v":0},{"$f":"IF(COUNTRY_INFO!I27=1, IF(AND(COUNTRY_INFO!$I27=1,$F27<>0),IF(COUNTRY_INFO!M27>=(COUNTRY_INFO!F27+COUNTRY_INFO!G27),COUNTRY_INFO!F27+COUNTRY_INFO!G27,COUNTRY_INFO!$M27), 0),0)","v":146660},0,410648,0,410648,null,410648]
[{"$f":"IF(INTRO!$E$39=\"Non endémique\",\" \",IF(COUNTRY_INFO!A28=0,\" \",COUNTRY_INFO!A28))","v":"Côte d'Ivoire"},{"$f":"IF(INTRO!$E$39=\"Non endémique\",\" \",IF(COUNTRY_INFO!B28=0,\" \",COUNTRY_INFO!B28))","v":"BAGOUE"},{"$f":"IF(INTRO!$E$39=\"Non endémique\",\" \",IF(COUNTRY_INFO!C28=0,\" \",COUNTRY_INFO!C28))","v":"TENGRELA"},{"$f":"IF(INTRO!$E$39=\"Non endémique\",0,IF(INTRO!$E$39=\"Endémique mais pas de CP\",IF(COUNTRY_INFO!$H28=1,COUNTRY_INFO!F28+COUNTRY_INFO!G28,0),IF(COUNTRY_INFO!$H28=1,COUNTRY_INFO!F28+COUNTRY_INFO!G28,IF(COUNTRY_INFO!$I28=1,IF(COUNTRY_INFO!M28>=(COUNTRY_INFO!F28+COUNTRY_INFO!G28),COUNTRY_INFO!F28+COUNTRY_INFO!G28,COUNTRY_INFO!$M28),0))))","v":0},{"$f":"IF(AND(INTRO!$E$39=\"Non endémique\",INTRO!$E$37=\"Non endémique\"),\"Non requis\",IF(INTRO!$E$39=\"Non endémique\",\"Traiter avec DEC\",COUNTRY_INFO!V28))","v":0},{"$f":"IF(INTRO!$E$39<>\"Non endémique\",COUNTRY_INFO!W28,\"Non requis\")","v":0},{"$f":"IF(COUNTRY_INFO!H28=1, IF($E28=1,$D28, 0),0)","v":0},{"$f":"IF(COUNTRY_INFO!I28=1, IF(AND(COUNTRY_INFO!$I28=1,$F28<>0),IF(COUNTRY_INFO!M28>=(COUNTRY_INFO!F28+COUNTRY_INFO!G28),COUNTRY_INFO!F28+COUNTRY_INFO!G28,COUNTRY_INFO!$M28), 0),0)","v":0},0,0,0,0,null,0]
[{"$f":"IF(INTRO!$E$39=\"Non endémique\",\" \",IF(COUNTRY_INFO!A29=0,\" \",COUNTRY_INFO!A29))","v":"Côte d'Ivoire"},{"$f":"IF(INTRO!$E$39=\"Non endémique\",\" \",IF(COUNTRY_INFO!B29=0,\" \",COUNTRY_INFO!B29))","v":"BELIER"},{"$f":"IF(INTRO!$E$39=\"Non endémique\",\" \",IF(COUNTRY_INFO!C29=0,\" \",COUNTRY_INFO!C29))","v":"DIDIEVI"},{"$f":"IF(INTRO!$E$39=\"Non endémique\",0,IF(INTRO!$E$39=\"Endémique mais pas de CP\",IF(COUNTRY_INFO!$H29=1,COUNTRY_INFO!F29+COUNTRY_INFO!G29,0),IF(COUNTRY_INFO!$H29=1,COUNTRY_INFO!F29+COUNTRY_INFO!G29,IF(COUNTRY_INFO!$I29=1,IF(COUNTRY_INFO!M29>=(COUNTRY_INFO!F29+COUNTRY_INFO!G29),COUNTRY_INFO!F29+COUNTRY_INFO!G29,COUNTRY_INFO!$M29),0))))","v":99213},{"$f":"IF(AND(INTRO!$E$39=\"Non endémique\",INTRO!$E$37=\"Non endémique\"),\"Non requis\",IF(INTRO!$E$39=\"Non endémique\",\"Traiter avec DEC\",COUNTRY_INFO!V29))","v":0},{"$f":"IF(INTRO!$E$39<>\"Non endémique\",COUNTRY_INFO!W29,\"Non requis\")","v":1},{"$f":"IF(COUNTRY_INFO!H29=1, IF($E29=1,$D29, 0),0)","v":0},{"$f":"IF(COUNTRY_INFO!I29=1, IF(AND(COUNTRY_INFO!$I29=1,$F29<>0),IF(COUNTRY_INFO!M29>=(COUNTRY_INFO!F29+COUNTRY_INFO!G29),COUNTRY_INFO!F29+COUNTRY_INFO!G29,COUNTRY_INFO!$M29), 0),0)","v":99213},0,277796.39999999997,0,277796.39999999997,null,277796.39999999997]
[{"$f":"IF(INTRO!$E$39=\"Non endémique\",\" \",IF(COUNTRY_INFO!A30=0,\" \",COUNTRY_INFO!A30))","v":"Côte d'Ivoire"},{"$f":"IF(INTRO!$E$39=\"Non endémique\",\" \",IF(COUNTRY_INFO!B30=0,\" \",COUNTRY_INFO!B30))","v":"BELIER"},{"$f":"IF(INTRO!$E$39=\"Non endémique\",\" \",IF(COUNTRY_INFO!C30=0,\" \",COUNTRY_INFO!C30))","v":"TIEBISSOU"},{"$f":"IF(INTRO!$E$39=\"Non endémique\",0,IF(INTRO!$E$39=\"Endémique mais pas de CP\",IF(COUNTRY_INFO!$H30=1,COUNTRY_INFO!F30+COUNTRY_INFO!G30,0),IF(COUNTRY_INFO!$H30=1,COUNTRY_INFO!F30+COUNTRY_INFO!G30,IF(COUNTRY_INFO!$I30=1,IF(COUNTRY_INFO!M30>=(COUNTRY_INFO!F30+COUNTRY_INFO!G30),COUNTRY_INFO!F30+COUNTRY_INFO!G30,COUNTRY_INFO!$M30),0))))","v":104543},{"$f":"IF(AND(INTRO!$E$39=\"Non endémique\",INTRO!$E$37=\"Non endémique\"),\"Non requis\",IF(INTRO!$E$39=\"Non endémique\",\"Traiter avec DEC\",COUNTRY_INFO!V30))","v":0},{"$f":"IF(INTRO!$E$39<>\"Non endémique\",COUNTRY_INFO!W30,\"Non requis\")","v":1},{"$f":"IF(COUNTRY_INFO!H30=1, IF($E30=1,$D30, 0),0)","v":0},{"$f":"IF(COUNTRY_INFO!I30=1, IF(AND(COUNTRY_INFO!$I30=1,$F30<>0),IF(COUNTRY_INFO!M30>=(COUNTRY_INFO!F30+COUNTRY_INFO!G30),COUNTRY_INFO!F30+COUNTRY_INFO!G30,COUNTRY_INFO!$M30), 0),0)","v":104543},0,292720.39999999997,0,292720.39999999997,null,292720.39999999997]
[{"$f":"IF(INTRO!$E$39=\"Non endémique\",\" \",IF(COUNTRY_INFO!A31=0,\" \",COUNTRY_INFO!A31))","v":"Côte d'Ivoire"},{"$f":"IF(INTRO!$E$39=\"Non endémique\",\" \",IF(COUNTRY_INFO!B31=0,\" \",COUNTRY_INFO!B31))","v":"BELIER"},{"$f":"IF(INTRO!$E$39=\"Non endémique\",\" \",IF(COUNTRY_INFO!C31=0,\" \",COUNTRY_INFO!C31))","v":"TOUMODI"},{"$f":"IF(INTRO!$E$39=\"Non endémique\",0,IF(INTRO!$E$39=\"Endémique mais pas de CP\",IF(COUNTRY_INFO!$H31=1,COUNTRY_INFO!F31+COUNTRY_INFO!G31,0),IF(COUNTRY_INFO!$H31=1,COUNTRY_INFO!F31+COUNTRY_INFO!G31,IF(COUNTRY_INFO!$I31=1,IF(COUNTRY_INFO!M31>=(COUNTRY_INFO!F31+COUNTRY_INFO!G31),COUNTRY_INFO!F31+COUNTRY_INFO!G31,COUNTRY_INFO!$M31),0))))","v":163416},{"$f":"IF(AND(INTRO!$E$39=\"Non endémique\",INTRO!$E$37=\"Non endémique\"),\"Non requis\",IF(INTRO!$E$39=\"Non endémique\",\"Traiter avec DEC\",COUNTRY_INFO!V31))","v":0},{"$f":"IF(INTRO!$E$39<>\"Non endémique\",COUNTRY_INFO!W31,\"Non requis\")","v":1},{"$f":"IF(COUNTRY_INFO!H31=1, IF($E31=1,$D31, 0),0)","v":0},{"$f":"IF(COUNTRY_INFO!I31=1, IF(AND(COUNTRY_INFO!$I31=1,$F31<>0),IF(COUNTRY_INFO!M31>=(COUNTRY_INFO!F31+COUNTRY_INFO!G31),COUNTRY_INFO!F31+COUNTRY_INFO!G31,COUNTRY_INFO!$M31), 0),0)","v":163416},0,457564.8,0,457564.8,null,457564.8]
[{"$f":"IF(INTRO!$E$39=\"Non endémique\",\" \",IF(COUNTRY_INFO!A32=0,\" \",COUNTRY_INFO!A32))","v":"Côte d'Ivoire"},{"$f":"IF(INTRO!$E$39=\"Non endémique\",\" \",IF(COUNTRY_INFO!B32=0,\" \",COUNTRY_INFO!B32))","v":"BELIER"},{"$f":"IF(INTRO!$E$39=\"Non endémique\",\" \",IF(COUNTRY_INFO!C32=0,\" \",COUNTRY_INFO!C32))","v":"YAMOUSSOUKRO"},{"$f":"IF(INTRO!$E$39=\"Non endémique\",0,IF(INTRO!$E$39=\"Endémique mais pas de CP\",IF(COUNTRY_INFO!$H32=1,COUNTRY_INFO!F32+COUNTRY_INFO!G32,0),IF(COUNTRY_INFO!$H32=1,COUNTRY_INFO!F32+COUNTRY_INFO!G32,IF(COUNTRY_INFO!$I32=1,IF(COUNTRY_INFO!M32>=(COUNTRY_INFO!F32+COUNTRY_INFO!G32),COUNTRY_INFO!F32+COUNTRY_INFO!G32,COUNTRY_INFO!$M32),0))))","v":373869},{"$f":"IF(AND(INTRO!$E$39=\"Non endémique\",INTRO!$E$37=\"Non endémique\"),\"Non requis\",IF(INTRO!$E$39=\"Non endémique\",\"Traiter avec DEC\",COUNTRY_INFO!V32))","v":0},{"$f":"IF(INTRO!$E$39<>\"Non endémique\",COUNTRY_INFO!W32,\"Non requis\")","v":1},{"$f":"IF(COUNTRY_INFO!H32=1, IF($E32=1,$D32, 0),0)","v":0},{"$f":"IF(COUNTRY_INFO!I32=1, IF(AND(COUNTRY_INFO!$I32=1,$F32<>0),IF(COUNTRY_INFO!M32>=(COUNTRY_INFO!F32+COUNTRY_INFO!G32),COUNTRY_INFO!F32+COUNTRY_INFO!G32,COUNTRY_INFO!$M32), 0),0)","v":373869},0,1046833.2,0,1046833.2,null,1046833.2]
[{"$f":"IF(INTRO!$E$39=\"Non endémique\",\" \",IF(COUNTRY_INFO!A33=0,\" \",COUNTRY_INFO!A33))","v":"Côte d'Ivoire"},{"$f":"IF(INTRO!$E$39=\"Non endémique\",\" \",IF(COUNTRY_INFO!B33=0,\" \",COUNTRY_INFO!B33))","v":"BERE"},{"$f":"IF(INTRO!$E$39=\"Non endémique\",\" \",IF(COUNTRY_INFO!C33=0,\" \",COUNTRY_INFO!C33))","v":"DIANRA"},{"$f":"IF(INTRO!$E$39=\"Non endémique\",0,IF(INTRO!$E$39=\"Endémique mais pas de CP\",IF(COUNTRY_INFO!$H33=1,COUNTRY_INFO!F33+COUNTRY_INFO!G33,0),IF(COUNTRY_INFO!$H33=1,COUNTRY_INFO!F33+COUNTRY_INFO!G33,IF(COUNTRY_INFO!$I33=1,IF(COUNTRY_INFO!M33>=(COUNTRY_INFO!F33+COUNTRY_INFO!G33),COUNTRY_INFO!F33+COUNTRY_INFO!G33,COUNTRY_INFO!$M33),0))))","v":102928},{"$f":"IF(AND(INTRO!$E$39=\"Non endémique\",INTRO!$E$37=\"Non endémique\"),\"Non requis\",IF(INTRO!$E$39=\"Non endémique\",\"Traiter avec DEC\",COUNTRY_INFO!V33))","v":0},{"$f":"IF(INTRO!$E$39<>\"Non endémique\",COUNTRY_INFO!W33,\"Non requis\")","v":1},{"$f":"IF(COUNTRY_INFO!H33=1, IF($E33=1,$D33, 0),0)","v":0},{"$f":"IF(COUNTRY_INFO!I33=1, IF(AND(COUNTRY_INFO!$I33=1,$F33<>0),IF(COUNTRY_INFO!M33>=(COUNTRY_INFO!F33+COUNTRY_INFO!G33),COUNTRY_INFO!F33+COUNTRY_INFO!G33,COUNTRY_INFO!$M33), 0),0)","v":102928},0,288198.39999999997,0,288198.39999999997,null,288198.39999999997]
[{"$f":"IF(INTRO!$E$39=\"Non endémique\",\" \",IF(COUNTRY_INFO!A34=0,\" \",COUNTRY_INFO!A34))","v":"Côte d'Ivoire"},{"$f":"IF(INTRO!$E$39=\"Non endémique\",\" \",IF(COUNTRY_INFO!B34=0,\" \",COUNTRY_INFO!B34))","v":"BERE"},{"$f":"IF(INTRO!$E$39=\"Non endémique\",\" \",IF(COUNTRY_INFO!C34=0,\" \",COUNTRY_INFO!C34))","v":"KOUNAHIRI"},{"$f":"IF(INTRO!$E$39=\"Non endémique\",0,IF(INTRO!$E$39=\"Endémique mais pas de CP\",IF(COUNTRY_INFO!$H34=1,COUNTRY_INFO!F34+COUNTRY_INFO!G34,0),IF(COUNTRY_INFO!$H34=1,COUNTRY_INFO!F34+COUNTRY_INFO!G34,IF(COUNTRY_INFO!$I34=1,IF(COUNTRY_INFO!M34>=(COUNTRY_INFO!F34+COUNTRY_INFO!G34),COUNTRY_INFO!F34+COUNTRY_INFO!G34,COUNTRY_INFO!$M34),0))))","v":82786},{"$f":"IF(AND(INTRO!$E$39=\"Non endémique\",INTRO!$E$37=\"Non endémique\"),\"Non requis\",IF(INTRO!$E$39=\"Non endémique\",\"Traiter avec DEC\",COUNTRY_INFO!V34))","v":0},{"$f":"IF(INTRO!$E$39<>\"Non endémique\",COUNTRY_INFO!W34,\"Non requis\")","v":1},{"$f":"IF(COUNTRY_INFO!H34=1, IF($E34=1,$D34, 0),0)","v":0},{"$f":"IF(COUNTRY_INFO!I34=1, IF(AND(COUNTRY_INFO!$I34=1,$F34<>0),IF(COUNTRY_INFO!M34>=(COUNTRY_INFO!F34+COUNTRY_INFO!G34),COUNTRY_INFO!F34+COUNTRY_INFO!G34,COUNTRY_INFO!$M34), 0),0)","v":82786},0,231800.8,0,231800.8,null,231800.8]
[{"$f":"IF(INTRO!$E$39=\"Non endémique\",\" \",IF(COUNTRY_INFO!A35=0,\" \",COUNTRY_INFO!A35))","v":"Côte d'Ivoire"},{"$f":"IF(INTRO!$E$39=\"Non endémique\",\" \",IF(COUNTRY_INFO!B35=0,\" \",COUNTRY_INFO!B35))","v":"BERE"},{"$f":"IF(INTRO!$E$39=\"Non endémique\",\" \",IF(COUNTRY_INFO!C35=0,\" \",COUNTRY_INFO!C35))","v":"MANKONO"},{"$f":"IF(INTRO!$E$39=\"Non endémique\",0,IF(INTRO!$E$39=\"Endémique mais pas de CP\",IF(COUNTRY_INFO!$H35=1,COUNTRY_INFO!F35+COUNTRY_INFO!G35,0),IF(COUNTRY_INFO!$H35=1,COUNTRY_INFO!F35+COUNTRY_INFO!G35,IF(COUNTRY_INFO!$I35=1,IF(COUNTRY_INFO!M35>=(COUNTRY_INFO!F35+COUNTRY_INFO!G35),COUNTRY_INFO!F35+COUNTRY_INFO!G35,COUNTRY_INFO!$M35),0))))","v":229670},{"$f":"IF(AND(INTRO!$E$39=\"Non endémique\",INTRO!$E$37=\"Non endémique\"),\"Non requis\",IF(INTRO!$E$39=\"Non endémique\",\"Traiter avec DEC\",COUNTRY_INFO!V35))","v":0},{"$f":"IF(INTRO!$E$39<>\"Non endémique\",COUNTRY_INFO!W35,\"Non requis\")","v":1},{"$f":"IF(COUNTRY_INFO!H35=1, IF($E35=1,$D35, 0),0)","v":0},{"$f":"IF(COUNTRY_INFO!I35=1, IF(AND(COUNTRY_INFO!$I35=1,$F35<>0),IF(COUNTRY_INFO!M35>=(COUNTRY_INFO!F35+COUNTRY_INFO!G35),COUNTRY_INFO!F35+COUNTRY_INFO!G35,COUNTRY_INFO!$M35), 0),0)","v":229670},0,643076,0,643076,null,643076]
[{"$f":"IF(INTRO!$E$39=\"Non endémique\",\" \",IF(COUNTRY_INFO!A36=0,\" \",COUNTRY_INFO!A36))","v":"Côte d'Ivoire"},{"$f":"IF(INTRO!$E$39=\"Non endémique\",\" \",IF(COUNTRY_INFO!B36=0,\" \",COUNTRY_INFO!B36))","v":"BOUKANI"},{"$f":"IF(INTRO!$E$39=\"Non endémique\",\" \",IF(COUNTRY_INFO!C36=0,\" \",COUNTRY_INFO!C36))","v":"BOUNA"},{"$f":"IF(INTRO!$E$39=\"Non endémique\",0,IF(INTRO!$E$39=\"Endémique mais pas de CP\",IF(COUNTRY_INFO!$H36=1,COUNTRY_INFO!F36+COUNTRY_INFO!G36,0),IF(COUNTRY_INFO!$H36=1,COUNTRY_INFO!F36+COUNTRY_INFO!G36,IF(COUNTRY_INFO!$I36=1,IF(COUNTRY_INFO!M36>=(COUNTRY_INFO!F36+COUNTRY_INFO!G36),COUNTRY_INFO!F36+COUNTRY_INFO!G36,COUNTRY_INFO!$M36),0))))","v":121187},{"$f":"IF(AND(INTRO!$E$39=\"Non endémique\",INTRO!$E$37=\"Non endémique\"),\"Non requis\",IF(INTRO!$E$39=\"Non endémique\",\"Traiter avec DEC\",COUNTRY_INFO!V36))","v":0},{"$f":"IF(INTRO!$E$39<>\"Non endémique\",COUNTRY_INFO!W36,\"Non requis\")","v":1},{"$f":"IF(COUNTRY_INFO!H36=1, IF($E36=1,$D36, 0),0)","v":0},{"$f":"IF(COUNTRY_INFO!I36=1, IF(AND(COUNTRY_INFO!$I36=1,$F36<>0),IF(COUNTRY_INFO!M36>=(COUNTRY_INFO!F36+COUNTRY_INFO!G36),COUNTRY_INFO!F36+COUNTRY_INFO!G36,COUNTRY_INFO!$M36), 0),0)","v":121187},0,339323.6,0,339323.6,null,339323.6]
[{"$f":"IF(INTRO!$E$39=\"Non endémique\",\" \",IF(COUNTRY_INFO!A37=0,\" \",COUNTRY_INFO!A37))","v":"Côte d'Ivoire"},{"$f":"IF(INTRO!$E$39=\"Non endémique\",\" \",IF(COUNTRY_INFO!B37=0,\" \",COUNTRY_INFO!B37))","v":"BOUKANI"},{"$f":"IF(INTRO!$E$39=\"Non endémique\",\" \",IF(COUNTRY_INFO!C37=0,\" \",COUNTRY_INFO!C37))","v":"DOROPO"},{"$f":"IF(INTRO!$E$39=\"Non endémique\",0,IF(INTRO!$E$39=\"Endémique mais pas de CP\",IF(COUNTRY_INFO!$H37=1,COUNTRY_INFO!F37+COUNTRY_INFO!G37,0),IF(COUNTRY_INFO!$H37=1,COUNTRY_INFO!F37+COUNTRY_INFO!G37,IF(COUNTRY_INFO!$I37=1,IF(COUNTRY_INFO!M37>=(COUNTRY_INFO!F37+COUNTRY_INFO!G37),COUNTRY_INFO!F37+COUNTRY_INFO!G37,COUNTRY_INFO!$M37),0))))","v":70481},{"$f":"IF(AND(INTRO!$E$39=\"Non endémique\",INTRO!$E$37=\"Non endémique\"),\"Non requis\",IF(INTRO!$E$39=\"Non endémique\",\"Traiter avec DEC\",COUNTRY_INFO!V37))","v":1},{"$f":"IF(INTRO!$E$39<>\"Non endémique\",COUNTRY_INFO!W37,\"Non requis\")","v":1},{"$f":"IF(COUNTRY_INFO!H37=1, IF($E37=1,$D37, 0),0)","v":70481},{"$f":"IF(COUNTRY_INFO!I37=1, IF(AND(COUNTRY_INFO!$I37=1,$F37<>0),IF(COUNTRY_INFO!M37>=(COUNTRY_INFO!F37+COUNTRY_INFO!G37),COUNTRY_INFO!F37+COUNTRY_INFO!G37,COUNTRY_INFO!$M37), 0),0)","v":70481},0,0,197346.8,197346.8,null,197346.8]
[{"$f":"IF(INTRO!$E$39=\"Non endémique\",\" \",IF(COUNTRY_INFO!A38=0,\" \",COUNTRY_INFO!A38))","v":"Côte d'Ivoire"},{"$f":"IF(INTRO!$E$39=\"Non endémique\",\" \",IF(COUNTRY_INFO!B38=0,\" \",COUNTRY_INFO!B38))","v":"BOUKANI"},{"$f":"IF(INTRO!$E$39=\"Non endémique\",\" \",IF(COUNTRY_INFO!C38=0,\" \",COUNTRY_INFO!C38))","v":"NASSIAN"},{"$f":"IF(INTRO!$E$39=\"Non endémique\",0,IF(INTRO!$E$39=\"Endémique mais pas de CP\",IF(COUNTRY_INFO!$H38=1,COUNTRY_INFO!F38+COUNTRY_INFO!G38,0),IF(COUNTRY_INFO!$H38=1,COUNTRY_INFO!F38+COUNTRY_INFO!G38,IF(COUNTRY_INFO!$I38=1,IF(COUNTRY_INFO!M38>=(COUNTRY_INFO!F38+COUNTRY_INFO!G38),COUNTRY_INFO!F38+COUNTRY_INFO!G38,COUNTRY_INFO!$M38),0))))","v":47077},{"$f":"IF(AND(INTRO!$E$39=\"Non endémique\",INTRO!$E$37=\"Non endémique\"),\"Non requis\",IF(INTRO!$E$39=\"Non endémique\",\"Traiter avec DEC\",COUNTRY_INFO!V38))","v":0},{"$f":"IF(INTRO!$E$39<>\"Non endémique\",COUNTRY_INFO!W38,\"Non requis\")","v":1},{"$f":"IF(COUNTRY_INFO!H38=1, IF($E38=1,$D38, 0),0)","v":0},{"$f":"IF(COUNTRY_INFO!I38=1, IF(AND(COUNTRY_INFO!$I38=1,$F38<>0),IF(COUNTRY_INFO!M38>=(COUNTRY_INFO!F38+COUNTRY_INFO!G38),COUNTRY_INFO!F38+COUNTRY_INFO!G38,COUNTRY_INFO!$M38), 0),0)","v":47077},0,131815.6,0,131815.6,null,131815.6]
[{"$f":"IF(INTRO!$E$39=\"Non endémique\",\" \",IF(COUNTRY_INFO!A39=0,\" \",COUNTRY_INFO!A39))","v":"Côte d'Ivoire"},{"$f":"IF(INTRO!$E$39=\"Non endémique\",\" \",IF(COUNTRY_INFO!B39=0,\" \",COUNTRY_INFO!B39))","v":"BOUKANI"},{"$f":"IF(INTRO!$E$39=\"Non endémique\",\" \",IF(COUNTRY_INFO!C39=0,\" \",COUNTRY_INFO!C39))","v":"TEHINI"},{"$f":"IF(INTRO!$E$39=\"Non endémique\",0,IF(INTRO!$E$39=\"Endémique mais pas de CP\",IF(COUNTRY_INFO!$H39=1,COUNTRY_INFO!F39+COUNTRY_INFO!G39,0),IF(COUNTRY_INFO!$H39=1,COUNTRY_INFO!F39+COUNTRY_INFO!G39,IF(COUNTRY_INFO!$I39=1,IF(COUNTRY_INFO!M39>=(COUNTRY_INFO!F39+COUNTRY_INFO!G39),COUNTRY_INFO!F39+COUNTRY_INFO!G39,COUNTRY_INFO!$M39),0))))","v":43718},{"$f":"IF(AND(INTRO!$E$39=\"Non endémique\",INTRO!$E$37=\"Non endémique\"),\"Non requis\",IF(INTRO!$E$39=\"Non endémique\",\"Traiter avec DEC\",COUNTRY_INFO!V39))","v":1},{"$f":"IF(INTRO!$E$39<>\"Non endémique\",COUNTRY_INFO!W39,\"Non requis\")","v":1},{"$f":"IF(COUNTRY_INFO!H39=1, IF($E39=1,$D39, 0),0)","v":43718},{"$f":"IF(COUNTRY_INFO!I39=1, IF(AND(COUNTRY_INFO!$I39=1,$F39<>0),IF(COUNTRY_INFO!M39>=(COUNTRY_INFO!F39+COUNTRY_INFO!G39),COUNTRY_INFO!F39+COUNTRY_INFO!G39,COUNTRY_INFO!$M39), 0),0)","v":43718},0,0,122410.4,122410.4,null,122410.4]
[{"$f":"IF(INTRO!$E$39=\"Non endémique\",\" \",IF(COUNTRY_INFO!A40=0,\" \",COUNTRY_INFO!A40))","v":"Côte d'Ivoire"},{"$f":"IF(INTRO!$E$39=\"Non endémique\",\" \",IF(COUNTRY_INFO!B40=0,\" \",COUNTRY_INFO!B40))","v":"CAVALLY"},{"$f":"IF(INTRO!$E$39=\"Non endémique\",\" \",IF(COUNTRY_INFO!C40=0,\" \",COUNTRY_INFO!C40))","v":"BLOLEQUIN"},{"$f":"IF(INTRO!$E$39=\"Non endémique\",0,IF(INTRO!$E$39=\"Endémique mais pas de CP\",IF(COUNTRY_INFO!$H40=1,COUNTRY_INFO!F40+COUNTRY_INFO!G40,0),IF(COUNTRY_INFO!$H40=1,COUNTRY_INFO!F40+COUNTRY_INFO!G40,IF(COUNTRY_INFO!$I40=1,IF(COUNTRY_INFO!M40>=(COUNTRY_INFO!F40+COUNTRY_INFO!G40),COUNTRY_INFO!F40+COUNTRY_INFO!G40,COUNTRY_INFO!$M40),0))))","v":119592},{"$f":"IF(AND(INTRO!$E$39=\"Non endémique\",INTRO!$E$37=\"Non endémique\"),\"Non requis\",IF(INTRO!$E$39=\"Non endémique\",\"Traiter avec DEC\",COUNTRY_INFO!V40))","v":0},{"$f":"IF(INTRO!$E$39<>\"Non endémique\",COUNTRY_INFO!W40,\"Non requis\")","v":1},{"$f":"IF(COUNTRY_INFO!H40=1, IF($E40=1,$D40, 0),0)","v":0},{"$f":"IF(COUNTRY_INFO!I40=1, IF(AND(COUNTRY_INFO!$I40=1,$F40<>0),IF(COUNTRY_INFO!M40>=(COUNTRY_INFO!F40+COUNTRY_INFO!G40),COUNTRY_INFO!F40+COUNTRY_INFO!G40,COUNTRY_INFO!$M40), 0),0)","v":119592},0,334857.59999999998,0,334857.59999999998,null,334857.59999999998]
[{"$f":"IF(INTRO!$E$39=\"Non endémique\",\" \",IF(COUNTRY_INFO!A41=0,\" \",COUNTRY_INFO!A41))","v":"Côte d'Ivoire"},{"$f":"IF(INTRO!$E$39=\"Non endémique\",\" \",IF(COUNTRY_INFO!B41=0,\" \",COUNTRY_INFO!B41))","v":"CAVALLY"},{"$f":"IF(INTRO!$E$39=\"Non endémique\",\" \",IF(COUNTRY_INFO!C41=0,\" \",COUNTRY_INFO!C41))","v":"GUIGLO"},{"$f":"IF(INTRO!$E$39=\"Non endémique\",0,IF(INTRO!$E$39=\"Endémique mais pas de CP\",IF(COUNTRY_INFO!$H41=1,COUNTRY_INFO!F41+COUNTRY_INFO!G41,0),IF(COUNTRY_INFO!$H41=1,COUNTRY_INFO!F41+COUNTRY_INFO!G41,IF(COUNTRY_INFO!$I41=1,IF(COUNTRY_INFO!M41>=(COUNTRY_INFO!F41+COUNTRY_INFO!G41),COUNTRY_INFO!F41+COUNTRY_INFO!G41,COUNTRY_INFO!$M41),0))))","v":171325},{"$f":"IF(AND(INTRO!$E$39=\"Non endémique\",INTRO!$E$37=\"Non endémique\"),\"Non requis\",IF(INTRO!$E$39=\"Non endémique\",\"Traiter avec DEC\",COUNTRY_INFO!V41))","v":0},{"$f":"IF(INTRO!$E$39<>\"Non endémique\",COUNTRY_INFO!W41,\"Non requis\")","v":1},{"$f":"IF(COUNTRY_INFO!H41=1, IF($E41=1,$D41, 0),0)","v":0},{"$f":"IF(COUNTRY_INFO!I41=1, IF(AND(COUNTRY_INFO!$I41=1,$F41<>0),IF(COUNTRY_INFO!M41>=(COUNTRY_INFO!F41+COUNTRY_INFO!G41),COUNTRY_INFO!F41+COUNTRY_INFO!G41,COUNTRY_INFO!$M41), 0),0)","v":171325},0,479709.99999999994,0,479709.99999999994,null,479709.99999999994]
[{"$f":"IF(INTRO!$E$39=\"Non endémique\",\" \",IF(COUNTRY_INFO!A42=0,\" \",COUNTRY_INFO!A42))","v":"Côte d'Ivoire"},{"$f":"IF(INTRO!$E$39=\"Non endémique\",\" \",IF(COUNTRY_INFO!B42=0,\" \",COUNTRY_INFO!B42))","v":"CAVALLY"},{"$f":"IF(INTRO!$E$39=\"Non endémique\",\" \",IF(COUNTRY_INFO!C42=0,\" \",COUNTRY_INFO!C42))","v":"TAI"},{"$f":"IF(INTRO!$E$39=\"Non endémique\",0,IF(INTRO!$E$39=\"Endémique mais pas de CP\",IF(COUNTRY_INFO!$H42=1,COUNTRY_INFO!F42+COUNTRY_INFO!G42,0),IF(COUNTRY_INFO!$H42=1,COUNTRY_INFO!F42+COUNTRY_INFO!G42,IF(COUNTRY_INFO!$I42=1,IF(COUNTRY_INFO!M42>=(COUNTRY_INFO!F42+COUNTRY_INFO!G42),COUNTRY_INFO!F42+COUNTRY_INFO!G42,COUNTRY_INFO!$M42),0))))","v":99822},{"$f":"IF(AND(INTRO!$E$39=\"Non endémique\",INTRO!$E$37=\"Non endémique\"),\"Non requis\",IF(INTRO!$E$39=\"Non endémique\",\"Traiter avec DEC\",COUNTRY_INFO!V42))","v":0},{"$f":"IF(INTRO!$E$39<>\"Non endémique\",COUNTRY_INFO!W42,\"Non requis\")","v":1},{"$f":"IF(COUNTRY_INFO!H42=1, IF($E42=1,$D42, 0),0)","v":0},{"$f":"IF(COUNTRY_INFO!I42=1, IF(AND(COUNTRY_INFO!$I42=1,$F42<>0),IF(COUNTRY_INFO!M42>=(COUNTRY_INFO!F42+COUNTRY_INFO!G42),COUNTRY_INFO!F42+COUNTRY_INFO!G42,COUNTRY_INFO!$M42), 0),0)","v":99822},{"$f":"IF(G42<H42,0,IF($E42=1, (G42-H42)*2.8, 0))","v":0},{"$f":"IF($E42<$F42, H42*(F42-E42)*2.8, 0)","v":279501.59999999998},0,279501.59999999998,null,279501.59999999998]
[{"$f":"IF(INTRO!$E$39=\"Non endémique\",\" \",IF(COUNTRY_INFO!A43=0,\" \",COUNTRY_INFO!A43))","v":"Côte d'Ivoire"},{"$f":"IF(INTRO!$E$39=\"Non endémique\",\" \",IF(COUNTRY_INFO!B43=0,\" \",COUNTRY_INFO!B43))","v":"CAVALLY"},{"$f":"IF(INTRO!$E$39=\"Non endémique\",\" \",IF(COUNTRY_INFO!C43=0,\" \",COUNTRY_INFO!C43))","v":"TOULEPLEU"},{"$f":"IF(INTRO!$E$39=\"Non endémique\",0,IF(INTRO!$E$39=\"Endémique mais pas de CP\",IF(COUNTRY_INFO!$H43=1,COUNTRY_INFO!F43+COUNTRY_INFO!G43,0),IF(COUNTRY_INFO!$H43=1,COUNTRY_INFO!F43+COUNTRY_INFO!G43,IF(COUNTRY_INFO!$I43=1,IF(COUNTRY_INFO!M43>=(COUNTRY_INFO!F43+COUNTRY_INFO!G43),COUNTRY_INFO!F43+COUNTRY_INFO!G43,COUNTRY_INFO!$M43),0))))","v":55264},{"$f":"IF(AND(INTRO!$E$39=\"Non endémique\",INTRO!$E$37=\"Non endémique\"),\"Non requis\",IF(INTRO!$E$39=\"Non endémique\",\"Traiter avec DEC\",COUNTRY_INFO!V43))","v":1},{"$f":"IF(INTRO!$E$39<>\"Non endémique\",COUNTRY_INFO!W43,\"Non requis\")","v":1},{"$f":"IF(COUNTRY_INFO!H43=1, IF($E43=1,$D43, 0),0)","v":55264},{"$f":"IF(COUNTRY_INFO!I43=1, IF(AND(COUNTRY_INFO!$I43=1,$F43<>0),IF(COUNTRY_INFO!M43>=(COUNTRY_INFO!F43+COUNTRY_INFO!G43),COUNTRY_INFO!F43+COUNTRY_INFO!G43,COUNTRY_INFO!$M43), 0),0)","v":55264},0,0,154739.19999999998,154739.19999999998,null,154739.19999999998]
[{"$f":"IF(INTRO!$E$39=\"Non endémique\",\" \",IF(COUNTRY_INFO!A44=0,\" \",COUNTRY_INFO!A44))","v":"Côte d'Ivoire"},{"$f":"IF(INTRO!$E$39=\"Non endémique\",\" \",IF(COUNTRY_INFO!B44=0,\" \",COUNTRY_INFO!B44))","v":"FOLON"},{"$f":"IF(INTRO!$E$39=\"Non endémique\",\" \",IF(COUNTRY_INFO!C44=0,\" \",COUNTRY_INFO!C44))","v":"KANIASSO"},{"$f":"IF(INTRO!$E$39=\"Non endémique\",0,IF(INTRO!$E$39=\"Endémique mais pas de CP\",IF(COUNTRY_INFO!$H44=1,COUNTRY_INFO!F44+COUNTRY_INFO!G44,0),IF(COUNTRY_INFO!$H44=1,COUNTRY_INFO!F44+COUNTRY_INFO!G44,IF(COUNTRY_INFO!$I44=1,IF(COUNTRY_INFO!M44>=(COUNTRY_INFO!F44+COUNTRY_INFO!G44),COUNTRY_INFO!F44+COUNTRY_INFO!G44,COUNTRY_INFO!$M44),0))))","v":61457},{"$f":"IF(AND(INTRO!$E$39=\"Non endémique\",INTRO!$E$37=\"Non endémique\"),\"Non requis\",IF(INTRO!$E$39=\"Non endémique\",\"Traiter avec DEC\",COUNTRY_INFO!V44))","v":0},{"$f":"IF(INTRO!$E$39<>\"Non endémique\",COUNTRY_INFO!W44,\"Non requis\")","v":1},{"$f":"IF(COUNTRY_INFO!H44=1, IF($E44=1,$D44, 0),0)","v":0},{"$f":"IF(COUNTRY_INFO!I44=1, IF(AND(COUNTRY_INFO!$I44=1,$F44<>0),IF(COUNTRY_INFO!M44>=(COUNTRY_INFO!F44+COUNTRY_INFO!G44),COUNTRY_INFO!F44+COUNTRY_INFO!G44,COUNTRY_INFO!$M44), 0),0)","v":61457},0,172079.59999999998,0,172079.59999999998,null,172079.59999999998]
[{"$f":"IF(INTRO!$E$39=\"Non endémique\",\" \",IF(COUNTRY_INFO!A45=0,\" \",COUNTRY_INFO!A45))","v":"Côte d'Ivoire"},{"$f":"IF(INTRO!$E$39=\"Non endémique\",\" \",IF(COUNTRY_INFO!B45=0,\" \",COUNTRY_INFO!B45))","v":"FOLON"},{"$f":"IF(INTRO!$E$39=\"Non endémique\",\" \",IF(COUNTRY_INFO!C45=0,\" \",COUNTRY_INFO!C45))","v":"MINIGNAN"},{"$f":"IF(INTRO!$E$39=\"Non endémique\",0,IF(INTRO!$E$39=\"Endémique mais pas de CP\",IF(COUNTRY_INFO!$H45=1,COUNTRY_INFO!F45+COUNTRY_INFO!G45,0),IF(COUNTRY_INFO!$H45=1,COUNTRY_INFO!F45+COUNTRY_INFO!G45,IF(COUNTRY_INFO!$I45=1,IF(COUNTRY_INFO!M45>=(COUNTRY_INFO!F45+COUNTRY_INFO!G45),COUNTRY_INFO!F45+COUNTRY_INFO!G45,COUNTRY_INFO!$M45),0))))","v":40325},{"$f":"IF(AND(INTRO!$E$39=\"Non endémique\",INTRO!$E$37=\"Non endémique\"),\"Non requis\",IF(INTRO!$E$39=\"Non endémique\",\"Traiter avec DEC\",COUNTRY_INFO!V45))","v":0},{"$f":"IF(INTRO!$E$39<>\"Non endémique\",COUNTRY_INFO!W45,\"Non requis\")","v":1},{"$f":"IF(COUNTRY_INFO!H45=1, IF($E45=1,$D45, 0),0)","v":0},{"$f":"IF(COUNTRY_INFO!I45=1, IF(AND(COUNTRY_INFO!$I45=1,$F45<>0),IF(COUNTRY_INFO!M45>=(COUNTRY_INFO!F45+COUNTRY_INFO!G45),COUNTRY_INFO!F45+COUNTRY_INFO!G45,COUNTRY_INFO!$M45), 0),0)","v":40325},0,112910,0,112910,null,112910]
[{"$f":"IF(INTRO!$E$39=\"Non endémique\",\" \",IF(COUNTRY_INFO!A46=0,\" \",COUNTRY_INFO!A46))","v":"Côte d'Ivoire"},{"$f":"IF(INTRO!$E$39=\"Non endémique\",\" \",IF(COUNTRY_INFO!B46=0,\" \",COUNTRY_INFO!B46))","v":"GBEKE"},{"$f":"IF(INTRO!$E$39=\"Non endémique\",\" \",IF(COUNTRY_INFO!C46=0,\" \",COUNTRY_INFO!C46))","v":"BEOUMI"},{"$f":"IF(INTRO!$E$39=\"Non endémique\",0,IF(INTRO!$E$39=\"Endémique mais pas de CP\",IF(COUNTRY_INFO!$H46=1,COUNTRY_INFO!F46+COUNTRY_INFO!G46,0),IF(COUNTRY_INFO!$H46=1,COUNTRY_INFO!F46+COUNTRY_INFO!G46,IF(COUNTRY_INFO!$I46=1,IF(COUNTRY_INFO!M46>=(COUNTRY_INFO!F46+COUNTRY_INFO!G46),COUNTRY_INFO!F46+COUNTRY_INFO!G46,COUNTRY_INFO!$M46),0))))","v":154387},{"$f":"IF(AND(INTRO!$E$39=\"Non endémique\",INTRO!$E$37=\"Non endémique\"),\"Non requis\",IF(INTRO!$E$39=\"Non endémique\",\"Traiter avec DEC\",COUNTRY_INFO!V46))","v":0},{"$f":"IF(INTRO!$E$39<>\"Non endémique\",COUNTRY_INFO!W46,\"Non requis\")","v":1},{"$f":"IF(COUNTRY_INFO!H46=1, IF($E46=1,$D46, 0),0)","v":0},{"$f":"IF(COUNTRY_INFO!I46=1, IF(AND(COUNTRY_INFO!$I46=1,$F46<>0),IF(COUNTRY_INFO!M46>=(COUNTRY_INFO!F46+COUNTRY_INFO!G46),COUNTRY_INFO!F46+COUNTRY_INFO!G46,COUNTRY_INFO!$M46), 0),0)","v":154387},0,432283.6,0,432283.6,null,432283.6]
[{"$f":"IF(INTRO!$E$39=\"Non endémique\",\" \",IF(COUNTRY_INFO!A47=0,\" \",COUNTRY_INFO!A47))","v":"Côte d'Ivoire"},{"$f":"IF(INTRO!$E$39=\"Non endémique\",\" \",IF(COUNTRY_INFO!B47=0,\" \",COUNTRY_INFO!B47))","v":"GBEKE"},{"$f":"IF(INTRO!$E$39=\"Non endémique\",\" \",IF(COUNTRY_INFO!C47=0,\" \",COUNTRY_INFO!C47))","v":"BOTRO"},{"$f":"IF(INTRO!$E$39=\"Non endémique\",0,IF(INTRO!$E$39=\"Endémique mais pas de CP\",IF(COUNTRY_INFO!$H47=1,COUNTRY_INFO!F47+COUNTRY_INFO!G47,0),IF(COUNTRY_INFO!$H47=1,COUNTRY_INFO!F47+COUNTRY_INFO!G47,IF(COUNTRY_INFO!$I47=1,IF(COUNTRY_INFO!M47>=(COUNTRY_INFO!F47+COUNTRY_INFO!G47),COUNTRY_INFO!F47+COUNTRY_INFO!G47,COUNTRY_INFO!$M47),0))))","v":81521},{"$f":"IF(AND(INTRO!$E$39=\"Non endémique\",INTRO!$E$37=\"Non endémique\"),\"Non requis\",IF(INTRO!$E$39=\"Non endémique\",\"Traiter avec DEC\",COUNTRY_INFO!V47))","v":0},{"$f":"IF(INTRO!$E$39<>\"Non endémique\",COUNTRY_INFO!W47,\"Non requis\")","v":1},{"$f":"IF(COUNTRY_INFO!H47=1, IF($E47=1,$D47, 0),0)","v":0},{"$f":"IF(COUNTRY_INFO!I47=1, IF(AND(COUNTRY_INFO!$I47=1,$F47<>0),IF(COUNTRY_INFO!M47>=(COUNTRY_INFO!F47+COUNTRY_INFO!G47),COUNTRY_INFO!F47+COUNTRY_INFO!G47,COUNTRY_INFO!$M47), 0),0)","v":81521},0,228258.8,0,228258.8,null,228258.8]
[{"$f":"IF(INTRO!$E$39=\"Non endémique\",\" \",IF(COUNTRY_INFO!A48=0,\" \",COUNTRY_INFO!A48))","v":"Côte d'Ivoire"},{"$f":"IF(INTRO!$E$39=\"Non endémique\",\" \",IF(COUNTRY_INFO!B48=0,\" \",COUNTRY_INFO!B48))","v":"GBEKE"},{"$f":"IF(INTRO!$E$39=\"Non endémique\",\" \",IF(COUNTRY_INFO!C48=0,\" \",COUNTRY_INFO!C48))","v":"BOUAKE NORD-EST"},{"$f":"IF(INTRO!$E$39=\"Non endémique\",0,IF(INTRO!$E$39=\"Endémique mais pas de CP\",IF(COUNTRY_INFO!$H48=1,COUNTRY_INFO!F48+COUNTRY_INFO!G48,0),IF(COUNTRY_INFO!$H48=1,COUNTRY_INFO!F48+COUNTRY_INFO!G48,IF(COUNTRY_INFO!$I48=1,IF(COUNTRY_INFO!M48>=(COUNTRY_INFO!F48+COUNTRY_INFO!G48),COUNTRY_INFO!F48+COUNTRY_INFO!G48,COUNTRY_INFO!$M48),0))))","v":193997},{"$f":"IF(AND(INTRO!$E$39=\"Non endémique\",INTRO!$E$37=\"Non endémique\"),\"Non requis\",IF(INTRO!$E$39=\"Non endémique\",\"Traiter avec DEC\",COUNTRY_INFO!V48))","v":0},{"$f":"IF(INTRO!$E$39<>\"Non endémique\",COUNTRY_INFO!W48,\"Non requis\")","v":1},{"$f":"IF(COUNTRY_INFO!H48=1, IF($E48=1,$D48, 0),0)","v":0},{"$f":"IF(COUNTRY_INFO!I48=1, IF(AND(COUNTRY_INFO!$I48=1,$F48<>0),IF(COUNTRY_INFO!M48>=(COUNTRY_INFO!F48+COUNTRY_INFO!G48),COUNTRY_INFO!F48+COUNTRY_INFO!G48,COUNTRY_INFO!$M48), 0),0)","v":193997},0,543191.6,0,543191.6,null,543191.6]
[{"$f":"IF(INTRO!$E$39=\"Non endémique\",\" \",IF(COUNTRY_INFO!A49=0,\" \",COUNTRY_INFO!A49))","v":"Côte d'Ivoire"},{"$f":"IF(INTRO!$E$39=\"Non endémique\",\" \",IF(COUNTRY_INFO!B49=0,\" \",COUNTRY_INFO!B49))","v":"GBEKE"},{"$f":"IF(INTRO!$E$39=\"Non endémique\",\" \",IF(COUNTRY_INFO!C49=0,\" \",COUNTRY_INFO!C49))","v":"BOUAKE NORD-OUEST"},{"$f":"IF(INTRO!$E$39=\"Non endémique\",0,IF(INTRO!$E$39=\"Endémique mais pas de CP\",IF(COUNTRY_INFO!$H49=1,COUNTRY_INFO!F49+COUNTRY_INFO!G49,0),IF(COUNTRY_INFO!$H49=1,COUNTRY_INFO!F49+COUNTRY_INFO!G49,IF(COUNTRY_INFO!$I49=1,IF(COUNTRY_INFO!M49>=(COUNTRY_INFO!F49+COUNTRY_INFO!G49),COUNTRY_INFO!F49+COUNTRY_INFO!G49,COUNTRY_INFO!$M49),0))))","v":286161},{"$f":"IF(AND(INTRO!$E$39=\"Non endémique\",INTRO!$E$37=\"Non endémique\"),\"Non requis\",IF(INTRO!$E$39=\"Non endémique\",\"Traiter avec DEC\",COUNTRY_INFO!V49))","v":0},{"$f":"IF(INTRO!$E$39<>\"Non endémique\",COUNTRY_INFO!W49,\"Non requis\")","v":1},{"$f":"IF(COUNTRY_INFO!H49=1, IF($E49=1,$D49, 0),0)","v":0},{"$f":"IF(COUNTRY_INFO!I49=1, IF(AND(COUNTRY_INFO!$I49=1,$F49<>0),IF(COUNTRY_INFO!M49>=(COUNTRY_INFO!F49+COUNTRY_INFO!G49),COUNTRY_INFO!F49+COUNTRY_INFO!G49,COUNTRY_INFO!$M49), 0),0)","v":286161},0,801250.79999999993,0,801250.79999999993,null,801250.79999999993]
[{"$f":"IF(INTRO!$E$39=\"Non endémique\",\" \",IF(COUNTRY_INFO!A50=0,\" \",COUNTRY_INFO!A50))","v":"Côte d'Ivoire"},{"$f":"IF(INTRO!$E$39=\"Non endémique\",\" \",IF(COUNTRY_INFO!B50=0,\" \",COUNTRY_INFO!B50))","v":"GBEKE"},{"$f":"IF(INTRO!$E$39=\"Non endémique\",\" \",IF(COUNTRY_INFO!C50=0,\" \",COUNTRY_INFO!C50))","v":"BOUAKE SUD"},{"$f":"IF(INTRO!$E$39=\"Non endémique\",0,IF(INTRO!$E$39=\"Endémique mais pas de CP\",IF(COUNTRY_INFO!$H50=1,COUNTRY_INFO!F50+COUNTRY_INFO!G50,0),IF(COUNTRY_INFO!$H50=1,COUNTRY_INFO!F50+COUNTRY_INFO!G50,IF(COUNTRY_INFO!$I50=1,IF(COUNTRY_INFO!M50>=(COUNTRY_INFO!F50+COUNTRY_INFO!G50),COUNTRY_INFO!F50+COUNTRY_INFO!G50,COUNTRY_INFO!$M50),0))))","v":0},{"$f":"IF(AND(INTRO!$E$39=\"Non endémique\",INTRO!$E$37=\"Non endémique\"),\"Non requis\",IF(INTRO!$E$39=\"Non endémique\",\"Traiter avec DEC\",COUNTRY_INFO!V50))","v":0},{"$f":"IF(INTRO!$E$39<>\"Non endémique\",COUNTRY_INFO!W50,\"Non requis\")","v":0},{"$f":"IF(COUNTRY_INFO!H50=1, IF($E50=1,$D50, 0),0)","v":0},{"$f":"IF(COUNTRY_INFO!I50=1, IF(AND(COUNTRY_INFO!$I50=1,$F50<>0),IF(COUNTRY_INFO!M50>=(COUNTRY_INFO!F50+COUNTRY_INFO!G50),COUNTRY_INFO!F50+COUNTRY_INFO!G50,COUNTRY_INFO!$M50), 0),0)","v":0},0,0,0,0,null,0]
[{"$f":"IF(INTRO!$E$39=\"Non endémique\",\" \",IF(COUNTRY_INFO!A51=0,\" \",COUNTRY_INFO!A51))","v":"Côte d'Ivoire"},{"$f":"IF(INTRO!$E$39=\"Non endémique\",\" \",IF(COUNTRY_INFO!B51=0,\" \",COUNTRY_INFO!B51))","v":"GBEKE"},{"$f":"IF(INTRO!$E$39=\"Non endémique\",\" \",IF(COUNTRY_INFO!C51=0,\" \",COUNTRY_INFO!C51))","v":"SAKASSOU"},{"$f":"IF(INTRO!$E$39=\"Non endémique\",0,IF(INTRO!$E$39=\"Endémique mais pas de CP\",IF(COUNTRY_INFO!$H51=1,COUNTRY_INFO!F51+COUNTRY_INFO!G51,0),IF(COUNTRY_INFO!$H51=1,COUNTRY_INFO!F51+COUNTRY_INFO!G51,IF(COUNTRY_INFO!$I51=1,IF(COUNTRY_INFO!M51>=(COUNTRY_INFO!F51+COUNTRY_INFO!G51),COUNTRY_INFO!F51+COUNTRY_INFO!G51,COUNTRY_INFO!$M51),0))))","v":94637},{"$f":"IF(AND(INTRO!$E$39=\"Non endémique\",INTRO!$E$37=\"Non endémique\"),\"Non requis\",IF(INTRO!$E$39=\"Non endémique\",\"Traiter avec DEC\",COUNTRY_INFO!V51))","v":0},{"$f":"IF(INTRO!$E$39<>\"Non endémique\",COUNTRY_INFO!W51,\"Non requis\")","v":1},{"$f":"IF(COUNTRY_INFO!H51=1, IF($E51=1,$D51, 0),0)","v":0},{"$f":"IF(COUNTRY_INFO!I51=1, IF(AND(COUNTRY_INFO!$I51=1,$F51<>0),IF(COUNTRY_INFO!M51>=(COUNTRY_INFO!F51+COUNTRY_INFO!G51),COUNTRY_INFO!F51+COUNTRY_INFO!G51,COUNTRY_INFO!$M51), 0),0)","v":94637},0,264983.59999999998,0,264983.59999999998,null,264983.59999999998]
[{"$f":"IF(INTRO!$E$39=\"Non endémique\",\" \",IF(COUNTRY_INFO!A52=0,\" \",COUNTRY_INFO!A52))","v":"Côte d'Ivoire"},{"$f":"IF(INTRO!$E$39=\"Non endémique\",\" \",IF(COUNTRY_INFO!B52=0,\" \",COUNTRY_INFO!B52))","v":"GBOKLE"},{"$f":"IF(INTRO!$E$39=\"Non endémique\",\" \",IF(COUNTRY_INFO!C52=0,\" \",COUNTRY_INFO!C52))","v":"FRESCO"},{"$f":"IF(INTRO!$E$39=\"Non endémique\",0,IF(INTRO!$E$39=\"Endémique mais pas de CP\",IF(COUNTRY_INFO!$H52=1,COUNTRY_INFO!F52+COUNTRY_INFO!G52,0),IF(COUNTRY_INFO!$H52=1,COUNTRY_INFO!F52+COUNTRY_INFO!G52,IF(COUNTRY_INFO!$I52=1,IF(COUNTRY_INFO!M52>=(COUNTRY_INFO!F52+COUNTRY_INFO!G52),COUNTRY_INFO!F52+COUNTRY_INFO!G52,COUNTRY_INFO!$M52),0))))","v":98222},{"$f":"IF(AND(INTRO!$E$39=\"Non endémique\",INTRO!$E$37=\"Non endémique\"),\"Non requis\",IF(INTRO!$E$39=\"Non endémique\",\"Traiter avec DEC\",COUNTRY_INFO!V52))","v":0},{"$f":"IF(INTRO!$E$39<>\"Non endémique\",COUNTRY_INFO!W52,\"Non requis\")","v":1},{"$f":"IF(COUNTRY_INFO!H52=1, IF($E52=1,$D52, 0),0)","v":0},{"$f":"IF(COUNTRY_INFO!I52=1, IF(AND(COUNTRY_INFO!$I52=1,$F52<>0),IF(COUNTRY_INFO!M52>=(COUNTRY_INFO!F52+COUNTRY_INFO!G52),COUNTRY_INFO!F52+COUNTRY_INFO!G52,COUNTRY_INFO!$M52), 0),0)","v":98222},0,275021.59999999998,0,275021.59999999998,null,275021.59999999998]
[{"$f":"IF(INTRO!$E$39=\"Non endémique\",\" \",IF(COUNTRY_INFO!A53=0,\" \",COUNTRY_INFO!A53))","v":"Côte d'Ivoire"},{"$f":"IF(INTRO!$E$39=\"Non endémique\",\" \",IF(COUNTRY_INFO!B53=0,\" \",COUNTRY_INFO!B53))","v":"GBOKLE"},{"$f":"IF(INTRO!$E$39=\"Non endémique\",\" \",IF(COUNTRY_INFO!C53=0,\" \",COUNTRY_INFO!C53))","v":"SASSANDRA "},{"$f":"IF(INTRO!$E$39=\"Non endémique\",0,IF(INTRO!$E$39=\"Endémique mais pas de CP\",IF(COUNTRY_INFO!$H53=1,COUNTRY_INFO!F53+COUNTRY_INFO!G53,0),IF(COUNTRY_INFO!$H53=1,COUNTRY_INFO!F53+COUNTRY_INFO!G53,IF(COUNTRY_INFO!$I53=1,IF(COUNTRY_INFO!M53>=(COUNTRY_INFO!F53+COUNTRY_INFO!G53),COUNTRY_INFO!F53+COUNTRY_INFO!G53,COUNTRY_INFO!$M53),0))))","v":290409},{"$f":"IF(AND(INTRO!$E$39=\"Non endémique\",INTRO!$E$37=\"Non endémique\"),\"Non requis\",IF(INTRO!$E$39=\"Non endémique\",\"Traiter avec DEC\",COUNTRY_INFO!V53))","v":0},{"$f":"IF(INTRO!$E$39<>\"Non endémique\",COUNTRY_INFO!W53,\"Non requis\")","v":1},{"$f":"IF(COUNTRY_INFO!H53=1, IF($E53=1,$D53, 0),0)","v":0},{"$f":"IF(COUNTRY_INFO!I53=1, IF(AND(COUNTRY_INFO!$I53=1,$F53<>0),IF(COUNTRY_INFO!M53>=(COUNTRY_INFO!F53+COUNTRY_INFO!G53),COUNTRY_INFO!F53+COUNTRY_INFO!G53,COUNTRY_INFO!$M53), 0),0)","v":290409},0,813145.2,0,813145.2,null,813145.2]
[{"$f":"IF(INTRO!$E$39=\"Non endémique\",\" \",IF(COUNTRY_INFO!A54=0,\" \",COUNTRY_INFO!A54))","v":"Côte d'Ivoire"},{"$f":"IF(INTRO!$E$39=\"Non endémique\",\" \",IF(COUNTRY_INFO!B54=0,\" \",COUNTRY_INFO!B54))","v":"GOH"},{"$f":"IF(INTRO!$E$39=\"Non endémique\",\" \",IF(COUNTRY_INFO!C54=0,\" \",COUNTRY_INFO!C54))","v":"GAGNOA 1"},{"$f":"IF(INTRO!$E$39=\"Non endémique\",0,IF(INTRO!$E$39=\"Endémique mais pas de CP\",IF(COUNTRY_INFO!$H54=1,COUNTRY_INFO!F54+COUNTRY_INFO!G54,0),IF(COUNTRY_INFO!$H54=1,COUNTRY_INFO!F54+COUNTRY_INFO!G54,IF(COUNTRY_INFO!$I54=1,IF(COUNTRY_INFO!M54>=(COUNTRY_INFO!F54+COUNTRY_INFO!G54),COUNTRY_INFO!F54+COUNTRY_INFO!G54,COUNTRY_INFO!$M54),0))))","v":371472},{"$f":"IF(AND(INTRO!$E$39=\"Non endémique\",INTRO!$E$37=\"Non endémique\"),\"Non requis\",IF(INTRO!$E$39=\"Non endémique\",\"Traiter avec DEC\",COUNTRY_INFO!V54))","v":1},{"$f":"IF(INTRO!$E$39<>\"Non endémique\",COUNTRY_INFO!W54,\"Non requis\")","v":1},{"$f":"IF(COUNTRY_INFO!H54=1, IF($E54=1,$D54, 0),0)","v":371472},{"$f":"IF(COUNTRY_INFO!I54=1, IF(AND(COUNTRY_INFO!$I54=1,$F54<>0),IF(COUNTRY_INFO!M54>=(COUNTRY_INFO!F54+COUNTRY_INFO!G54),COUNTRY_INFO!F54+COUNTRY_INFO!G54,COUNTRY_INFO!$M54), 0),0)","v":371472},0,0,1040121.6,1040121.6,null,1040121.6]
[{"$f":"IF(INTRO!$E$39=\"Non endémique\",\" \",IF(COUNTRY_INFO!A55=0,\" \",COUNTRY_INFO!A55))","v":"Côte d'Ivoire"},{"$f":"IF(INTRO!$E$39=\"Non endémique\",\" \",IF(COUNTRY_INFO!B55=0,\" \",COUNTRY_INFO!B55))","v":"GOH"},{"$f":"IF(INTRO!$E$39=\"Non endémique\",\" \",IF(COUNTRY_INFO!C55=0,\" \",COUNTRY_INFO!C55))","v":"GAGNOA 2"},{"$f":"IF(INTRO!$E$39=\"Non endémique\",0,IF(INTRO!$E$39=\"Endémique mais pas de CP\",IF(COUNTRY_INFO!$H55=1,COUNTRY_INFO!F55+COUNTRY_INFO!G55,0),IF(COUNTRY_INFO!$H55=1,COUNTRY_INFO!F55+COUNTRY_INFO!G55,IF(COUNTRY_INFO!$I55=1,IF(COUNTRY_INFO!M55>=(COUNTRY_INFO!F55+COUNTRY_INFO!G55),COUNTRY_INFO!F55+COUNTRY_INFO!G55,COUNTRY_INFO!$M55),0))))","v":259496},{"$f":"IF(AND(INTRO!$E$39=\"Non endémique\",INTRO!$E$37=\"Non endémique\"),\"Non requis\",IF(INTRO!$E$39=\"Non endémique\",\"Traiter avec DEC\",COUNTRY_INFO!V55))","v":0},{"$f":"IF(INTRO!$E$39<>\"Non endémique\",COUNTRY_INFO!W55,\"Non requis\")","v":1},{"$f":"IF(COUNTRY_INFO!H55=1, IF($E55=1,$D55, 0),0)","v":0},{"$f":"IF(COUNTRY_INFO!I55=1, IF(AND(COUNTRY_INFO!$I55=1,$F55<>0),IF(COUNTRY_INFO!M55>=(COUNTRY_INFO!F55+COUNTRY_INFO!G55),COUNTRY_INFO!F55+COUNTRY_INFO!G55,COUNTRY_INFO!$M55), 0),0)","v":259496},0,726588.79999999993,0,726588.79999999993,null,726588.79999999993]
[{"$f":"IF(INTRO!$E$39=\"Non endémique\",\" \",IF(COUNTRY_INFO!A56=0,\" \",COUNTRY_INFO!A56))","v":"Côte d'Ivoire"},{"$f":"IF(INTRO!$E$39=\"Non endémique\",\" \",IF(COUNTRY_INFO!B56=0,\" \",COUNTRY_INFO!B56))","v":"GOH"},{"$f":"IF(INTRO!$E$39=\"Non endémique\",\" \",IF(COUNTRY_INFO!C56=0,\" \",COUNTRY_INFO!C56))","v":"OUME"},{"$f":"IF(INTRO!$E$39=\"Non endémique\",0,IF(INTRO!$E$39=\"Endémique mais pas de CP\",IF(COUNTRY_INFO!$H56=1,COUNTRY_INFO!F56+COUNTRY_INFO!G56,0),IF(COUNTRY_INFO!$H56=1,COUNTRY_INFO!F56+COUNTRY_INFO!G56,IF(COUNTRY_INFO!$I56=1,IF(COUNTRY_INFO!M56>=(COUNTRY_INFO!F56+COUNTRY_INFO!G56),COUNTRY_INFO!F56+COUNTRY_INFO!G56,COUNTRY_INFO!$M56),0))))","v":303953},{"$f":"IF(AND(INTRO!$E$39=\"Non endémique\",INTRO!$E$37=\"Non endémique\"),\"Non requis\",IF(INTRO!$E$39=\"Non endémique\",\"Traiter avec DEC\",COUNTRY_INFO!V56))","v":0},{"$f":"IF(INTRO!$E$39<>\"Non endémique\",COUNTRY_INFO!W56,\"Non requis\")","v":1},{"$f":"IF(COUNTRY_INFO!H56=1, IF($E56=1,$D56, 0),0)","v":0},{"$f":"IF(COUNTRY_INFO!I56=1, IF(AND(COUNTRY_INFO!$I56=1,$F56<>0),IF(COUNTRY_INFO!M56>=(COUNTRY_INFO!F56+COUNTRY_INFO!G56),COUNTRY_INFO!F56+COUNTRY_INFO!G56,COUNTRY_INFO!$M56), 0),0)","v":303953},0,851068.39999999991,0,851068.39999999991,null,851068.39999999991]
[{"$f":"IF(INTRO!$E$39=\"Non endémique\",\" \",IF(COUNTRY_INFO!A57=0,\" \",COUNTRY_INFO!A57))","v":"Côte d'Ivoire"},{"$f":"IF(INTRO!$E$39=\"Non endémique\",\" \",IF(COUNTRY_INFO!B57=0,\" \",COUNTRY_INFO!B57))","v":"GONTOUGO"},{"$f":"IF(INTRO!$E$39=\"Non endémique\",\" \",IF(COUNTRY_INFO!C57=0,\" \",COUNTRY_INFO!C57))","v":"BONDOUKOU"},{"$f":"IF(INTRO!$E$39=\"Non endémique\",0,IF(INTRO!$E$39=\"Endémique mais pas de CP\",IF(COUNTRY_INFO!$H57=1,COUNTRY_INFO!F57+COUNTRY_INFO!G57,0),IF(COUNTRY_INFO!$H57=1,COUNTRY_INFO!F57+COUNTRY_INFO!G57,IF(COUNTRY_INFO!$I57=1,IF(COUNTRY_INFO!M57>=(COUNTRY_INFO!F57+COUNTRY_INFO!G57),COUNTRY_INFO!F57+COUNTRY_INFO!G57,COUNTRY_INFO!$M57),0))))","v":329785},{"$f":"IF(AND(INTRO!$E$39=\"Non endémique\",INTRO!$E$37=\"Non endémique\"),\"Non requis\",IF(INTRO!$E$39=\"Non endémique\",\"Traiter avec DEC\",COUNTRY_INFO!V57))","v":0},{"$f":"IF(INTRO!$E$39<>\"Non endémique\",COUNTRY_INFO!W57,\"Non requis\")","v":1},{"$f":"IF(COUNTRY_INFO!H57=1, IF($E57=1,$D57, 0),0)","v":0},{"$f":"IF(COUNTRY_INFO!I57=1, IF(AND(COUNTRY_INFO!$I57=1,$F57<>0),IF(COUNTRY_INFO!M57>=(COUNTRY_INFO!F57+COUNTRY_INFO!G57),COUNTRY_INFO!F57+COUNTRY_INFO!G57,COUNTRY_INFO!$M57), 0),0)","v":329785},0,923397.99999999988,0,923397.99999999988,null,923397.99999999988]
[{"$f":"IF(INTRO!$E$39=\"Non endémique\",\" \",IF(COUNTRY_INFO!A58=0,\" \",COUNTRY_INFO!A58))","v":"Côte d'Ivoire"},{"$f":"IF(INTRO!$E$39=\"Non endémique\",\" \",IF(COUNTRY_INFO!B58=0,\" \",COUNTRY_INFO!B58))","v":"GONTOUGO"},{"$f":"IF(INTRO!$E$39=\"Non endémique\",\" \",IF(COUNTRY_INFO!C58=0,\" \",COUNTRY_INFO!C58))","v":"KOUNFAO"},{"$f":"IF(INTRO!$E$39=\"Non endémique\",0,IF(INTRO!$E$39=\"Endémique mais pas de CP\",IF(COUNTRY_INFO!$H58=1,COUNTRY_INFO!F58+COUNTRY_INFO!G58,0),IF(COUNTRY_INFO!$H58=1,COUNTRY_INFO!F58+COUNTRY_INFO!G58,IF(COUNTRY_INFO!$I58=1,IF(COUNTRY_INFO!M58>=(COUNTRY_INFO!F58+COUNTRY_INFO!G58),COUNTRY_INFO!F58+COUNTRY_INFO!G58,COUNTRY_INFO!$M58),0))))","v":114863},{"$f":"IF(AND(INTRO!$E$39=\"Non endémique\",INTRO!$E$37=\"Non endémique\"),\"Non requis\",IF(INTRO!$E$39=\"Non endémique\",\"Traiter avec DEC\",COUNTRY_INFO!V58))","v":0},{"$f":"IF(INTRO!$E$39<>\"Non endémique\",COUNTRY_INFO!W58,\"Non requis\")","v":1},{"$f":"IF(COUNTRY_INFO!H58=1, IF($E58=1,$D58, 0),0)","v":0},{"$f":"IF(COUNTRY_INFO!I58=1, IF(AND(COUNTRY_INFO!$I58=1,$F58<>0),IF(COUNTRY_INFO!M58>=(COUNTRY_INFO!F58+COUNTRY_INFO!G58),COUNTRY_INFO!F58+COUNTRY_INFO!G58,COUNTRY_INFO!$M58), 0),0)","v":114863},0,321616.39999999997,0,321616.39999999997,null,321616.39999999997]
[{"$f":"IF(INTRO!$E$39=\"Non endémique\",\" \",IF(COUNTRY_INFO!A59=0,\" \",COUNTRY_INFO!A59))","v":"Côte d'Ivoire"},{"$f":"IF(INTRO!$E$39=\"Non endémique\",\" \",IF(COUNTRY_INFO!B59=0,\" \",COUNTRY_INFO!B59))","v":"GONTOUGO"},{"$f":"IF(INTRO!$E$39=\"Non endémique\",\" \",IF(COUNTRY_INFO!C59=0,\" \",COUNTRY_INFO!C59))","v":"SANDEGUE"},{"$f":"IF(INTRO!$E$39=\"Non endémique\",0,IF(INTRO!$E$39=\"Endémique mais pas de CP\",IF(COUNTRY_INFO!$H59=1,COUNTRY_INFO!F59+COUNTRY_INFO!G59,0),IF(COUNTRY_INFO!$H59=1,COUNTRY_INFO!F59+COUNTRY_INFO!G59,IF(COUNTRY_INFO!$I59=1,IF(COUNTRY_INFO!M59>=(COUNTRY_INFO!F59+COUNTRY_INFO!G59),COUNTRY_INFO!F59+COUNTRY_INFO!G59,COUNTRY_INFO!$M59),0))))","v":55553},{"$f":"IF(AND(INTRO!$E$39=\"Non endémique\",INTRO!$E$37=\"Non endémique\"),\"Non requis\",IF(INTRO!$E$39=\"Non endémique\",\"Traiter avec DEC\",COUNTRY_INFO!V59))","v":0},{"$f":"IF(INTRO!$E$39<>\"Non endémique\",COUNTRY_INFO!W59,\"Non requis\")","v":1},{"$f":"IF(COUNTRY_INFO!H59=1, IF($E59=1,$D59, 0),0)","v":0},{"$f":"IF(COUNTRY_INFO!I59=1, IF(AND(COUNTRY_INFO!$I59=1,$F59<>0),IF(COUNTRY_INFO!M59>=(COUNTRY_INFO!F59+COUNTRY_INFO!G59),COUNTRY_INFO!F59+COUNTRY_INFO!G59,COUNTRY_INFO!$M59), 0),0)","v":55553},0,155548.4,0,155548.4,null,155548.4]
[{"$f":"IF(INTRO!$E$39=\"Non endémique\",\" \",IF(COUNTRY_INFO!A60=0,\" \",COUNTRY_INFO!A60))","v":"Côte d'Ivoire"},{"$f":"IF(INTRO!$E$39=\"Non endémique\",\" \",IF(COUNTRY_INFO!B60=0,\" \",COUNTRY_INFO!B60))","v":"GONTOUGO"},{"$f":"IF(INTRO!$E$39=\"Non endémique\",\" \",IF(COUNTRY_INFO!C60=0,\" \",COUNTRY_INFO!C60))","v":"TANDA"},{"$f":"IF(INTRO!$E$39=\"Non endémique\",0,IF(INTRO!$E$39=\"Endémique mais pas de CP\",IF(COUNTRY_INFO!$H60=1,COUNTRY_INFO!F60+COUNTRY_INFO!G60,0),IF(COUNTRY_INFO!$H60=1,COUNTRY_INFO!F60+COUNTRY_INFO!G60,IF(COUNTRY_INFO!$I60=1,IF(COUNTRY_INFO!M60>=(COUNTRY_INFO!F60+COUNTRY_INFO!G60),COUNTRY_INFO!F60+COUNTRY_INFO!G60,COUNTRY_INFO!$M60),0))))","v":76643},{"$f":"IF(AND(INTRO!$E$39=\"Non endémique\",INTRO!$E$37=\"Non endémique\"),\"Non requis\",IF(INTRO!$E$39=\"Non endémique\",\"Traiter avec DEC\",COUNTRY_INFO!V60))","v":0},{"$f":"IF(INTRO!$E$39<>\"Non endémique\",COUNTRY_INFO!W60,\"Non requis\")","v":1},{"$f":"IF(COUNTRY_INFO!H60=1, IF($E60=1,$D60, 0),0)","v":0},{"$f":"IF(COUNTRY_INFO!I60=1, IF(AND(COUNTRY_INFO!$I60=1,$F60<>0),IF(COUNTRY_INFO!M60>=(COUNTRY_INFO!F60+COUNTRY_INFO!G60),COUNTRY_INFO!F60+COUNTRY_INFO!G60,COUNTRY_INFO!$M60), 0),0)","v":76643},0,214600.4,0,214600.4,null,214600.4]
[{"$f":"IF(INTRO!$E$39=\"Non endémique\",\" \",IF(COUNTRY_INFO!A61=0,\" \",COUNTRY_INFO!A61))","v":"Côte d'Ivoire"},{"$f":"IF(INTRO!$E$39=\"Non endémique\",\" \",IF(COUNTRY_INFO!B61=0,\" \",COUNTRY_INFO!B61))","v":"GONTOUGO"},{"$f":"IF(INTRO!$E$39=\"Non endémique\",\" \",IF(COUNTRY_INFO!C61=0,\" \",COUNTRY_INFO!C61))","v":"TRANSUA"},{"$f":"IF(INTRO!$E$39=\"Non endémique\",0,IF(INTRO!$E$39=\"Endémique mais pas de CP\",IF(COUNTRY_INFO!$H61=1,COUNTRY_INFO!F61+COUNTRY_INFO!G61,0),IF(COUNTRY_INFO!$H61=1,COUNTRY_INFO!F61+COUNTRY_INFO!G61,IF(COUNTRY_INFO!$I61=1,IF(COUNTRY_INFO!M61>=(COUNTRY_INFO!F61+COUNTRY_INFO!G61),COUNTRY_INFO!F61+COUNTRY_INFO!G61,COUNTRY_INFO!$M61),0))))","v":82496},{"$f":"IF(AND(INTRO!$E$39=\"Non endémique\",INTRO!$E$37=\"Non endémique\"),\"Non requis\",IF(INTRO!$E$39=\"Non endémique\",\"Traiter avec DEC\",COUNTRY_INFO!V61))","v":0},{"$f":"IF(INTRO!$E$39<>\"Non endémique\",COUNTRY_INFO!W61,\"Non requis\")","v":1},{"$f":"IF(COUNTRY_INFO!H61=1, IF($E61=1,$D61, 0),0)","v":0},{"$f":"IF(COUNTRY_INFO!I61=1, IF(AND(COUNTRY_INFO!$I61=1,$F61<>0),IF(COUNTRY_INFO!M61>=(COUNTRY_INFO!F61+COUNTRY_INFO!G61),COUNTRY_INFO!F61+COUNTRY_INFO!G61,COUNTRY_INFO!$M61), 0),0)","v":82496},0,230988.79999999999,0,230988.79999999999,null,230988.79999999999]
[{"$f":"IF(INTRO!$E$39=\"Non endémique\",\" \",IF(COUNTRY_INFO!A62=0,\" \",COUNTRY_INFO!A62))","v":"Côte d'Ivoire"},{"$f":"IF(INTRO!$E$39=\"Non endémique\",\" \",IF(COUNTRY_INFO!B62=0,\" \",COUNTRY_INFO!B62))","v":"GRANDS PONTS"},{"$f":"IF(INTRO!$E$39=\"Non endémique\",\" \",IF(COUNTRY_INFO!C62=0,\" \",COUNTRY_INFO!C62))","v":"DABOU"},{"$f":"IF(INTRO!$E$39=\"Non endémique\",0,IF(INTRO!$E$39=\"Endémique mais pas de CP\",IF(COUNTRY_INFO!$H62=1,COUNTRY_INFO!F62+COUNTRY_INFO!G62,0),IF(COUNTRY_INFO!$H62=1,COUNTRY_INFO!F62+COUNTRY_INFO!G62,IF(COUNTRY_INFO!$I62=1,IF(COUNTRY_INFO!M62>=(COUNTRY_INFO!F62+COUNTRY_INFO!G62),COUNTRY_INFO!F62+COUNTRY_INFO!G62,COUNTRY_INFO!$M62),0))))","v":143634},{"$f":"IF(AND(INTRO!$E$39=\"Non endémique\",INTRO!$E$37=\"Non endémique\"),\"Non requis\",IF(INTRO!$E$39=\"Non endémique\",\"Traiter avec DEC\",COUNTRY_INFO!V62))","v":0},{"$f":"IF(INTRO!$E$39<>\"Non endémique\",COUNTRY_INFO!W62,\"Non requis\")","v":1},{"$f":"IF(COUNTRY_INFO!H62=1, IF($E62=1,$D62, 0),0)","v":0},{"$f":"IF(COUNTRY_INFO!I62=1, IF(AND(COUNTRY_INFO!$I62=1,$F62<>0),IF(COUNTRY_INFO!M62>=(COUNTRY_INFO!F62+COUNTRY_INFO!G62),COUNTRY_INFO!F62+COUNTRY_INFO!G62,COUNTRY_INFO!$M62), 0),0)","v":143634},0,402175.19999999995,0,402175.19999999995,null,402175.19999999995]
[{"$f":"IF(INTRO!$E$39=\"Non endémique\",\" \",IF(COUNTRY_INFO!A63=0,\" \",COUNTRY_INFO!A63))","v":"Côte d'Ivoire"},{"$f":"IF(INTRO!$E$39=\"Non endémique\",\" \",IF(COUNTRY_INFO!B63=0,\" \",COUNTRY_INFO!B63))","v":"GRANDS PONTS"},{"$f":"IF(INTRO!$E$39=\"Non endémique\",\" \",IF(COUNTRY_INFO!C63=0,\" \",COUNTRY_INFO!C63))","v":"GRAND-LAHOU"},{"$f":"IF(INTRO!$E$39=\"Non endémique\",0,IF(INTRO!$E$39=\"Endémique mais pas de CP\",IF(COUNTRY_INFO!$H63=1,COUNTRY_INFO!F63+COUNTRY_INFO!G63,0),IF(COUNTRY_INFO!$H63=1,COUNTRY_INFO!F63+COUNTRY_INFO!G63,IF(COUNTRY_INFO!$I63=1,IF(COUNTRY_INFO!M63>=(COUNTRY_INFO!F63+COUNTRY_INFO!G63),COUNTRY_INFO!F63+COUNTRY_INFO!G63,COUNTRY_INFO!$M63),0))))","v":0},{"$f":"IF(AND(INTRO!$E$39=\"Non endémique\",INTRO!$E$37=\"Non endémique\"),\"Non requis\",IF(INTRO!$E$39=\"Non endémique\",\"Traiter avec DEC\",COUNTRY_INFO!V63))","v":0},{"$f":"IF(INTRO!$E$39<>\"Non endémique\",COUNTRY_INFO!W63,\"Non requis\")","v":0},{"$f":"IF(COUNTRY_INFO!H63=1, IF($E63=1,$D63, 0),0)","v":0},{"$f":"IF(COUNTRY_INFO!I63=1, IF(AND(COUNTRY_INFO!$I63=1,$F63<>0),IF(COUNTRY_INFO!M63>=(COUNTRY_INFO!F63+COUNTRY_INFO!G63),COUNTRY_INFO!F63+COUNTRY_INFO!G63,COUNTRY_INFO!$M63), 0),0)","v":0},0,0,0,0,null,0]
[{"$f":"IF(INTRO!$E$39=\"Non endémique\",\" \",IF(COUNTRY_INFO!A64=0,\" \",COUNTRY_INFO!A64))","v":"Côte d'Ivoire"},{"$f":"IF(INTRO!$E$39=\"Non endémique\",\" \",IF(COUNTRY_INFO!B64=0,\" \",COUNTRY_INFO!B64))","v":"GRANDS PONTS"},{"$f":"IF(INTRO!$E$39=\"Non endémique\",\" \",IF(COUNTRY_INFO!C64=0,\" \",COUNTRY_INFO!C64))","v":"JACQUEVILLE"},{"$f":"IF(INTRO!$E$39=\"Non endémique\",0,IF(INTRO!$E$39=\"Endémique mais pas de CP\",IF(COUNTRY_INFO!$H64=1,COUNTRY_INFO!F64+COUNTRY_INFO!G64,0),IF(COUNTRY_INFO!$H64=1,COUNTRY_INFO!F64+COUNTRY_INFO!G64,IF(COUNTRY_INFO!$I64=1,IF(COUNTRY_INFO!M64>=(COUNTRY_INFO!F64+COUNTRY_INFO!G64),COUNTRY_INFO!F64+COUNTRY_INFO!G64,COUNTRY_INFO!$M64),0))))","v":0},{"$f":"IF(AND(INTRO!$E$39=\"Non endémique\",INTRO!$E$37=\"Non endémique\"),\"Non requis\",IF(INTRO!$E$39=\"Non endémique\",\"Traiter avec DEC\",COUNTRY_INFO!V64))","v":0},{"$f":"IF(INTRO!$E$39<>\"Non endémique\",COUNTRY_INFO!W64,\"Non requis\")","v":0},{"$f":"IF(COUNTRY_INFO!H64=1, IF($E64=1,$D64, 0),0)","v":0},{"$f":"IF(COUNTRY_INFO!I64=1, IF(AND(COUNTRY_INFO!$I64=1,$F64<>0),IF(COUNTRY_INFO!M64>=(COUNTRY_INFO!F64+COUNTRY_INFO!G64),COUNTRY_INFO!F64+COUNTRY_INFO!G64,COUNTRY_INFO!$M64), 0),0)","v":0},0,0,0,0,null,0]
[{"$f":"IF(INTRO!$E$39=\"Non endémique\",\" \",IF(COUNTRY_INFO!A65=0,\" \",COUNTRY_INFO!A65))","v":"Côte d'Ivoire"},{"$f":"IF(INTRO!$E$39=\"Non endémique\",\" \",IF(COUNTRY_INFO!B65=0,\" \",COUNTRY_INFO!B65))","v":"GUEMON"},{"$f":"IF(INTRO!$E$39=\"Non endémique\",\" \",IF(COUNTRY_INFO!C65=0,\" \",COUNTRY_INFO!C65))","v":"BANGOLO"},{"$f":"IF(INTRO!$E$39=\"Non endémique\",0,IF(INTRO!$E$39=\"Endémique mais pas de CP\",IF(COUNTRY_INFO!$H65=1,COUNTRY_INFO!F65+COUNTRY_INFO!G65,0),IF(COUNTRY_INFO!$H65=1,COUNTRY_INFO!F65+COUNTRY_INFO!G65,IF(COUNTRY_INFO!$I65=1,IF(COUNTRY_INFO!M65>=(COUNTRY_INFO!F65+COUNTRY_INFO!G65),COUNTRY_INFO!F65+COUNTRY_INFO!G65,COUNTRY_INFO!$M65),0))))","v":347801},{"$f":"IF(AND(INTRO!$E$39=\"Non endémique\",INTRO!$E$37=\"Non endémique\"),\"Non requis\",IF(INTRO!$E$39=\"Non endémique\",\"Traiter avec DEC\",COUNTRY_INFO!V65))","v":0},{"$f":"IF(INTRO!$E$39<>\"Non endémique\",COUNTRY_INFO!W65,\"Non requis\")","v":1},{"$f":"IF(COUNTRY_INFO!H65=1, IF($E65=1,$D65, 0),0)","v":0},{"$f":"IF(COUNTRY_INFO!I65=1, IF(AND(COUNTRY_INFO!$I65=1,$F65<>0),IF(COUNTRY_INFO!M65>=(COUNTRY_INFO!F65+COUNTRY_INFO!G65),COUNTRY_INFO!F65+COUNTRY_INFO!G65,COUNTRY_INFO!$M65), 0),0)","v":347801},0,973842.79999999993,0,973842.79999999993,null,973842.79999999993]
[{"$f":"IF(INTRO!$E$39=\"Non endémique\",\" \",IF(COUNTRY_INFO!A66=0,\" \",COUNTRY_INFO!A66))","v":"Côte d'Ivoire"},{"$f":"IF(INTRO!$E$39=\"Non endémique\",\" \",IF(COUNTRY_INFO!B66=0,\" \",COUNTRY_INFO!B66))","v":"GUEMON"},{"$f":"IF(INTRO!$E$39=\"Non endémique\",\" \",IF(COUNTRY_INFO!C66=0,\" \",COUNTRY_INFO!C66))","v":"DUEKOUE"},{"$f":"IF(INTRO!$E$39=\"Non endémique\",0,IF(INTRO!$E$39=\"Endémique mais pas de CP\",IF(COUNTRY_INFO!$H66=1,COUNTRY_INFO!F66+COUNTRY_INFO!G66,0),IF(COUNTRY_INFO!$H66=1,COUNTRY_INFO!F66+COUNTRY_INFO!G66,IF(COUNTRY_INFO!$I66=1,IF(COUNTRY_INFO!M66>=(COUNTRY_INFO!F66+COUNTRY_INFO!G66),COUNTRY_INFO!F66+COUNTRY_INFO!G66,COUNTRY_INFO!$M66),0))))","v":446218},{"$f":"IF(AND(INTRO!$E$39=\"Non endémique\",INTRO!$E$37=\"Non endémique\"),\"Non requis\",IF(INTRO!$E$39=\"Non endémique\",\"Traiter avec DEC\",COUNTRY_INFO!V66))","v":0},{"$f":"IF(INTRO!$E$39<>\"Non endémique\",COUNTRY_INFO!W66,\"Non requis\")","v":1},{"$f":"IF(COUNTRY_INFO!H66=1, IF($E66=1,$D66, 0),0)","v":0},{"$f":"IF(COUNTRY_INFO!I66=1, IF(AND(COUNTRY_INFO!$I66=1,$F66<>0),IF(COUNTRY_INFO!M66>=(COUNTRY_INFO!F66+COUNTRY_INFO!G66),COUNTRY_INFO!F66+COUNTRY_INFO!G66,COUNTRY_INFO!$M66), 0),0)","v":446218},0,1249410.3999999999,0,1249410.3999999999,null,1249410.3999999999]
[{"$f":"IF(INTRO!$E$39=\"Non endémique\",\" \",IF(COUNTRY_INFO!A67=0,\" \",COUNTRY_INFO!A67))","v":"Côte d'Ivoire"},{"$f":"IF(INTRO!$E$39=\"Non endémique\",\" \",IF(COUNTRY_INFO!B67=0,\" \",COUNTRY_INFO!B67))","v":"GUEMON"},{"$f":"IF(INTRO!$E$39=\"Non endémique\",\" \",IF(COUNTRY_INFO!C67=0,\" \",COUNTRY_INFO!C67))","v":"KOUIBLY"},{"$f":"IF(INTRO!$E$39=\"Non endémique\",0,IF(INTRO!$E$39=\"Endémique mais pas de CP\",IF(COUNTRY_INFO!$H67=1,COUNTRY_INFO!F67+COUNTRY_INFO!G67,0),IF(COUNTRY_INFO!$H67=1,COUNTRY_INFO!F67+COUNTRY_INFO!G67,IF(COUNTRY_INFO!$I67=1,IF(COUNTRY_INFO!M67>=(COUNTRY_INFO!F67+COUNTRY_INFO!G67),COUNTRY_INFO!F67+COUNTRY_INFO!G67,COUNTRY_INFO!$M67),0))))","v":211128},{"$f":"IF(AND(INTRO!$E$39=\"Non endémique\",INTRO!$E$37=\"Non endémique\"),\"Non requis\",IF(INTRO!$E$39=\"Non endémique\",\"Traiter avec DEC\",COUNTRY_INFO!V67))","v":0},{"$f":"IF(INTRO!$E$39<>\"Non endémique\",COUNTRY_INFO!W67,\"Non requis\")","v":1},{"$f":"IF(COUNTRY_INFO!H67=1, IF($E67=1,$D67, 0),0)","v":0},{"$f":"IF(COUNTRY_INFO!I67=1, IF(AND(COUNTRY_INFO!$I67=1,$F67<>0),IF(COUNTRY_INFO!M67>=(COUNTRY_INFO!F67+COUNTRY_INFO!G67),COUNTRY_INFO!F67+COUNTRY_INFO!G67,COUNTRY_INFO!$M67), 0),0)","v":211128},0,591158.39999999991,0,591158.39999999991,null,591158.39999999991]
[{"$f":"IF(INTRO!$E$39=\"Non endémique\",\" \",IF(COUNTRY_INFO!A68=0,\" \",COUNTRY_INFO!A68))","v":"Côte d'Ivoire"},{"$f":"IF(INTRO!$E$39=\"Non endémique\",\" \",IF(COUNTRY_INFO!B68=0,\" \",COUNTRY_INFO!B68))","v":"HAMBOL"},{"$f":"IF(INTRO!$E$39=\"Non endémique\",\" \",IF(COUNTRY_INFO!C68=0,\" \",COUNTRY_INFO!C68))","v":"DABAKALA"},{"$f":"IF(INTRO!$E$39=\"Non endémique\",0,IF(INTRO!$E$39=\"Endémique mais pas de CP\",IF(COUNTRY_INFO!$H68=1,COUNTRY_INFO!F68+COUNTRY_INFO!G68,0),IF(COUNTRY_INFO!$H68=1,COUNTRY_INFO!F68+COUNTRY_INFO!G68,IF(COUNTRY_INFO!$I68=1,IF(COUNTRY_INFO!M68>=(COUNTRY_INFO!F68+COUNTRY_INFO!G68),COUNTRY_INFO!F68+COUNTRY_INFO!G68,COUNTRY_INFO!$M68),0))))","v":205567},{"$f":"IF(AND(INTRO!$E$39=\"Non endémique\",INTRO!$E$37=\"Non endémique\"),\"Non requis\",IF(INTRO!$E$39=\"Non endémique\",\"Traiter avec DEC\",COUNTRY_INFO!V68))","v":0},{"$f":"IF(INTRO!$E$39<>\"Non endémique\",COUNTRY_INFO!W68,\"Non requis\")","v":1},{"$f":"IF(COUNTRY_INFO!H68=1, IF($E68=1,$D68, 0),0)","v":0},{"$f":"IF(COUNTRY_INFO!I68=1, IF(AND(COUNTRY_INFO!$I68=1,$F68<>0),IF(COUNTRY_INFO!M68>=(COUNTRY_INFO!F68+COUNTRY_INFO!G68),COUNTRY_INFO!F68+COUNTRY_INFO!G68,COUNTRY_INFO!$M68), 0),0)","v":205567},0,575587.6,0,575587.6,null,575587.6]
[{"$f":"IF(INTRO!$E$39=\"Non endémique\",\" \",IF(COUNTRY_INFO!A69=0,\" \",COUNTRY_INFO!A69))","v":"Côte d'Ivoire"},{"$f":"IF(INTRO!$E$39=\"Non endémique\",\" \",IF(COUNTRY_INFO!B69=0,\" \",COUNTRY_INFO!B69))","v":"HAMBOL"},{"$f":"IF(INTRO!$E$39=\"Non endémique\",\" \",IF(COUNTRY_INFO!C69=0,\" \",COUNTRY_INFO!C69))","v":"KATIOLA"},{"$f":"IF(INTRO!$E$39=\"Non endémique\",0,IF(INTRO!$E$39=\"Endémique mais pas de CP\",IF(COUNTRY_INFO!$H69=1,COUNTRY_INFO!F69+COUNTRY_INFO!G69,0),IF(COUNTRY_INFO!$H69=1,COUNTRY_INFO!F69+COUNTRY_INFO!G69,IF(COUNTRY_INFO!$I69=1,IF(COUNTRY_INFO!M69>=(COUNTRY_INFO!F69+COUNTRY_INFO!G69),COUNTRY_INFO!F69+COUNTRY_INFO!G69,COUNTRY_INFO!$M69),0))))","v":116118},{"$f":"IF(AND(INTRO!$E$39=\"Non endémique\",INTRO!$E$37=\"Non endémique\"),\"Non requis\",IF(INTRO!$E$39=\"Non endémique\",\"Traiter avec DEC\",COUNTRY_INFO!V69))","v":0},{"$f":"IF(INTRO!$E$39<>\"Non endémique\",COUNTRY_INFO!W69,\"Non requis\")","v":1},{"$f":"IF(COUNTRY_INFO!H69=1, IF($E69=1,$D69, 0),0)","v":0},{"$f":"IF(COUNTRY_INFO!I69=1, IF(AND(COUNTRY_INFO!$I69=1,$F69<>0),IF(COUNTRY_INFO!M69>=(COUNTRY_INFO!F69+COUNTRY_INFO!G69),COUNTRY_INFO!F69+COUNTRY_INFO!G69,COUNTRY_INFO!$M69), 0),0)","v":116118},0,325130.39999999997,0,325130.39999999997,null,325130.39999999997]
[{"$f":"IF(INTRO!$E$39=\"Non endémique\",\" \",IF(COUNTRY_INFO!A70=0,\" \",COUNTRY_INFO!A70))","v":"Côte d'Ivoire"},{"$f":"IF(INTRO!$E$39=\"Non endémique\",\" \",IF(COUNTRY_INFO!B70=0,\" \",COUNTRY_INFO!B70))","v":"HAMBOL"},{"$f":"IF(INTRO!$E$39=\"Non endémique\",\" \",IF(COUNTRY_INFO!C70=0,\" \",COUNTRY_INFO!C70))","v":"NIAKARA"},{"$f":"IF(INTRO!$E$39=\"Non endémique\",0,IF(INTRO!$E$39=\"Endémique mais pas de CP\",IF(COUNTRY_INFO!$H70=1,COUNTRY_INFO!F70+COUNTRY_INFO!G70,0),IF(COUNTRY_INFO!$H70=1,COUNTRY_INFO!F70+COUNTRY_INFO!G70,IF(COUNTRY_INFO!$I70=1,IF(COUNTRY_INFO!M70>=(COUNTRY_INFO!F70+COUNTRY_INFO!G70),COUNTRY_INFO!F70+COUNTRY_INFO!G70,COUNTRY_INFO!$M70),0))))","v":145352},{"$f":"IF(AND(INTRO!$E$39=\"Non endémique\",INTRO!$E$37=\"Non endémique\"),\"Non requis\",IF(INTRO!$E$39=\"Non endémique\",\"Traiter avec DEC\",COUNTRY_INFO!V70))","v":0},{"$f":"IF(INTRO!$E$39<>\"Non endémique\",COUNTRY_INFO!W70,\"Non requis\")","v":1},{"$f":"IF(COUNTRY_INFO!H70=1, IF($E70=1,$D70, 0),0)","v":0},{"$f":"IF(COUNTRY_INFO!I70=1, IF(AND(COUNTRY_INFO!$I70=1,$F70<>0),IF(COUNTRY_INFO!M70>=(COUNTRY_INFO!F70+COUNTRY_INFO!G70),COUNTRY_INFO!F70+COUNTRY_INFO!G70,COUNTRY_INFO!$M70), 0),0)","v":145352},0,406985.6,0,406985.6,null,406985.6]
[{"$f":"IF(INTRO!$E$39=\"Non endémique\",\" \",IF(COUNTRY_INFO!A71=0,\" \",COUNTRY_INFO!A71))","v":"Côte d'Ivoire"},{"$f":"IF(INTRO!$E$39=\"Non endémique\",\" \",IF(COUNTRY_INFO!B71=0,\" \",COUNTRY_INFO!B71))","v":"HAUT SASSANDRA"},{"$f":"IF(INTRO!$E$39=\"Non endémique\",\" \",IF(COUNTRY_INFO!C71=0,\" \",COUNTRY_INFO!C71))","v":"DALOA"},{"$f":"IF(INTRO!$E$39=\"Non endémique\",0,IF(INTRO!$E$39=\"Endémique mais pas de CP\",IF(COUNTRY_INFO!$H71=1,COUNTRY_INFO!F71+COUNTRY_INFO!G71,0),IF(COUNTRY_INFO!$H71=1,COUNTRY_INFO!F71+COUNTRY_INFO!G71,IF(COUNTRY_INFO!$I71=1,IF(COUNTRY_INFO!M71>=(COUNTRY_INFO!F71+COUNTRY_INFO!G71),COUNTRY_INFO!F71+COUNTRY_INFO!G71,COUNTRY_INFO!$M71),0))))","v":573675},{"$f":"IF(AND(INTRO!$E$39=\"Non endémique\",INTRO!$E$37=\"Non endémique\"),\"Non requis\",IF(INTRO!$E$39=\"Non endémique\",\"Traiter avec DEC\",COUNTRY_INFO!V71))","v":0},{"$f":"IF(INTRO!$E$39<>\"Non endémique\",COUNTRY_INFO!W71,\"Non requis\")","v":1},{"$f":"IF(COUNTRY_INFO!H71=1, IF($E71=1,$D71, 0),0)","v":0},{"$f":"IF(COUNTRY_INFO!I71=1, IF(AND(COUNTRY_INFO!$I71=1,$F71<>0),IF(COUNTRY_INFO!M71>=(COUNTRY_INFO!F71+COUNTRY_INFO!G71),COUNTRY_INFO!F71+COUNTRY_INFO!G71,COUNTRY_INFO!$M71), 0),0)","v":573675},0,1606290,0,1606290,null,1606290]
[{"$f":"IF(INTRO!$E$39=\"Non endémique\",\" \",IF(COUNTRY_INFO!A72=0,\" \",COUNTRY_INFO!A72))","v":"Côte d'Ivoire"},{"$f":"IF(INTRO!$E$39=\"Non endémique\",\" \",IF(COUNTRY_INFO!B72=0,\" \",COUNTRY_INFO!B72))","v":"HAUT SASSANDRA"},{"$f":"IF(INTRO!$E$39=\"Non endémique\",\" \",IF(COUNTRY_INFO!C72=0,\" \",COUNTRY_INFO!C72))","v":"ISSIA"},{"$f":"IF(INTRO!$E$39=\"Non endémique\",0,IF(INTRO!$E$39=\"Endémique mais pas de CP\",IF(COUNTRY_INFO!$H72=1,COUNTRY_INFO!F72+COUNTRY_INFO!G72,0),IF(COUNTRY_INFO!$H72=1,COUNTRY_INFO!F72+COUNTRY_INFO!G72,IF(COUNTRY_INFO!$I72=1,IF(COUNTRY_INFO!M72>=(COUNTRY_INFO!F72+COUNTRY_INFO!G72),COUNTRY_INFO!F72+COUNTRY_INFO!G72,COUNTRY_INFO!$M72),0))))","v":317947},{"$f":"IF(AND(INTRO!$E$39=\"Non endémique\",INTRO!$E$37=\"Non endémique\"),\"Non requis\",IF(INTRO!$E$39=\"Non endémique\",\"Traiter avec DEC\",COUNTRY_INFO!V72))","v":0},{"$f":"IF(INTRO!$E$39<>\"Non endémique\",COUNTRY_INFO!W72,\"Non requis\")","v":1},{"$f":"IF(COUNTRY_INFO!H72=1, IF($E72=1,$D72, 0),0)","v":0},{"$f":"IF(COUNTRY_INFO!I72=1, IF(AND(COUNTRY_INFO!$I72=1,$F72<>0),IF(COUNTRY_INFO!M72>=(COUNTRY_INFO!F72+COUNTRY_INFO!G72),COUNTRY_INFO!F72+COUNTRY_INFO!G72,COUNTRY_INFO!$M72), 0),0)","v":317947},0,890251.6,0,890251.6,null,890251.6]
[{"$f":"IF(INTRO!$E$39=\"Non endémique\",\" \",IF(COUNTRY_INFO!A73=0,\" \",COUNTRY_INFO!A73))","v":"Côte d'Ivoire"},{"$f":"IF(INTRO!$E$39=\"Non endémique\",\" \",IF(COUNTRY_INFO!B73=0,\" \",COUNTRY_INFO!B73))","v":"HAUT SASSANDRA"},{"$f":"IF(INTRO!$E$39=\"Non endémique\",\" \",IF(COUNTRY_INFO!C73=0,\" \",COUNTRY_INFO!C73))","v":"VAVOUA"},{"$f":"IF(INTRO!$E$39=\"Non endémique\",0,IF(INTRO!$E$39=\"Endémique mais pas de CP\",IF(COUNTRY_INFO!$H73=1,COUNTRY_INFO!F73+COUNTRY_INFO!G73,0),IF(COUNTRY_INFO!$H73=1,COUNTRY_INFO!F73+COUNTRY_INFO!G73,IF(COUNTRY_INFO!$I73=1,IF(COUNTRY_INFO!M73>=(COUNTRY_INFO!F73+COUNTRY_INFO!G73),COUNTRY_INFO!F73+COUNTRY_INFO!G73,COUNTRY_INFO!$M73),0))))","v":388744},{"$f":"IF(AND(INTRO!$E$39=\"Non endémique\",INTRO!$E$37=\"Non endémique\"),\"Non requis\",IF(INTRO!$E$39=\"Non endémique\",\"Traiter avec DEC\",COUNTRY_INFO!V73))","v":0},{"$f":"IF(INTRO!$E$39<>\"Non endémique\",COUNTRY_INFO!W73,\"Non requis\")","v":1},{"$f":"IF(COUNTRY_INFO!H73=1, IF($E73=1,$D73, 0),0)","v":0},{"$f":"IF(COUNTRY_INFO!I73=1, IF(AND(COUNTRY_INFO!$I73=1,$F73<>0),IF(COUNTRY_INFO!M73>=(COUNTRY_INFO!F73+COUNTRY_INFO!G73),COUNTRY_INFO!F73+COUNTRY_INFO!G73,COUNTRY_INFO!$M73), 0),0)","v":388744},0,1088483.2,0,1088483.2,null,1088483.2]
[{"$f":"IF(INTRO!$E$39=\"Non endémique\",\" \",IF(COUNTRY_INFO!A74=0,\" \",COUNTRY_INFO!A74))","v":"Côte d'Ivoire"},{"$f":"IF(INTRO!$E$39=\"Non endémique\",\" \",IF(COUNTRY_INFO!B74=0,\" \",COUNTRY_INFO!B74))","v":"HAUT SASSANDRA"},{"$f":"IF(INTRO!$E$39=\"Non endémique\",\" \",IF(COUNTRY_INFO!C74=0,\" \",COUNTRY_INFO!C74))","v":"ZOUKOUGBEU"},{"$f":"IF(INTRO!$E$39=\"Non endémique\",0,IF(INTRO!$E$39=\"Endémique mais pas de CP\",IF(COUNTRY_INFO!$H74=1,COUNTRY_INFO!F74+COUNTRY_INFO!G74,0),IF(COUNTRY_INFO!$H74=1,COUNTRY_INFO!F74+COUNTRY_INFO!G74,IF(COUNTRY_INFO!$I74=1,IF(COUNTRY_INFO!M74>=(COUNTRY_INFO!F74+COUNTRY_INFO!G74),COUNTRY_INFO!F74+COUNTRY_INFO!G74,COUNTRY_INFO!$M74),0))))","v":107160},{"$f":"IF(AND(INTRO!$E$39=\"Non endémique\",INTRO!$E$37=\"Non endémique\"),\"Non requis\",IF(INTRO!$E$39=\"Non endémique\",\"Traiter avec DEC\",COUNTRY_INFO!V74))","v":0},{"$f":"IF(INTRO!$E$39<>\"Non endémique\",COUNTRY_INFO!W74,\"Non requis\")","v":1},{"$f":"IF(COUNTRY_INFO!H74=1, IF($E74=1,$D74, 0),0)","v":0},{"$f":"IF(COUNTRY_INFO!I74=1, IF(AND(COUNTRY_INFO!$I74=1,$F74<>0),IF(COUNTRY_INFO!M74>=(COUNTRY_INFO!F74+COUNTRY_INFO!G74),COUNTRY_INFO!F74+COUNTRY_INFO!G74,COUNTRY_INFO!$M74), 0),0)","v":107160},{"$f":"IF(G74<H74,0,IF($E74=1, (G74-H74)*2.8, 0))","v":0},{"$f":"IF($E74<$F74, H74*(F74-E74)*2.8, 0)","v":300048},0,300048,null,300048]
[{"$f":"IF(INTRO!$E$39=\"Non endémique\",\" \",IF(COUNTRY_INFO!A75=0,\" \",COUNTRY_INFO!A75))","v":"Côte d'Ivoire"},{"$f":"IF(INTRO!$E$39=\"Non endémique\",\" \",IF(COUNTRY_INFO!B75=0,\" \",COUNTRY_INFO!B75))","v":"IFFOU"},{"$f":"IF(INTRO!$E$39=\"Non endémique\",\" \",IF(COUNTRY_INFO!C75=0,\" \",COUNTRY_INFO!C75))","v":"DAOUKRO"},{"$f":"IF(INTRO!$E$39=\"Non endémique\",0,IF(INTRO!$E$39=\"Endémique mais pas de CP\",IF(COUNTRY_INFO!$H75=1,COUNTRY_INFO!F75+COUNTRY_INFO!G75,0),IF(COUNTRY_INFO!$H75=1,COUNTRY_INFO!F75+COUNTRY_INFO!G75,IF(COUNTRY_INFO!$I75=1,IF(COUNTRY_INFO!M75>=(COUNTRY_INFO!F75+COUNTRY_INFO!G75),COUNTRY_INFO!F75+COUNTRY_INFO!G75,COUNTRY_INFO!$M75),0))))","v":180298},{"$f":"IF(AND(INTRO!$E$39=\"Non endémique\",INTRO!$E$37=\"Non endémique\"),\"Non requis\",IF(INTRO!$E$39=\"Non endémique\",\"Traiter avec DEC\",COUNTRY_INFO!V75))","v":0},{"$f":"IF(INTRO!$E$39<>\"Non endémique\",COUNTRY_INFO!W75,\"Non requis\")","v":1},{"$f":"IF(COUNTRY_INFO!H75=1, IF($E75=1,$D75, 0),0)","v":0},{"$f":"IF(COUNTRY_INFO!I75=1, IF(AND(COUNTRY_INFO!$I75=1,$F75<>0),IF(COUNTRY_INFO!M75>=(COUNTRY_INFO!F75+COUNTRY_INFO!G75),COUNTRY_INFO!F75+COUNTRY_INFO!G75,COUNTRY_INFO!$M75), 0),0)","v":180298},0,504834.39999999997,{"$f":"IF(AND($E75=1, $F75<>0), H75*2.8, 0)","v":0},{"$f":"SUM(I75:K75)","v":504834.39999999997},null,504834.39999999997]
[{"$f":"IF(INTRO!$E$39=\"Non endémique\",\" \",IF(COUNTRY_INFO!A76=0,\" \",COUNTRY_INFO!A76))","v":"Côte d'Ivoire"},{"$f":"IF(INTRO!$E$39=\"Non endémique\",\" \",IF(COUNTRY_INFO!B76=0,\" \",COUNTRY_INFO!B76))","v":"IFFOU"},{"$f":"IF(INTRO!$E$39=\"Non endémique\",\" \",IF(COUNTRY_INFO!C76=0,\" \",COUNTRY_INFO!C76))","v":"M'BAHIAKRO"},{"$f":"IF(INTRO!$E$39=\"Non endémique\",0,IF(INTRO!$E$39=\"Endémique mais pas de CP\",IF(COUNTRY_INFO!$H76=1,COUNTRY_INFO!F76+COUNTRY_INFO!G76,0),IF(COUNTRY_INFO!$H76=1,COUNTRY_INFO!F76+COUNTRY_INFO!G76,IF(COUNTRY_INFO!$I76=1,IF(COUNTRY_INFO!M76>=(COUNTRY_INFO!F76+COUNTRY_INFO!G76),COUNTRY_INFO!F76+COUNTRY_INFO!G76,COUNTRY_INFO!$M76),0))))","v":90405},{"$f":"IF(AND(INTRO!$E$39=\"Non endémique\",INTRO!$E$37=\"Non endémique\"),\"Non requis\",IF(INTRO!$E$39=\"Non endémique\",\"Traiter avec DEC\",COUNTRY_INFO!V76))","v":0},{"$f":"IF(INTRO!$E$39<>\"Non endémique\",COUNTRY_INFO!W76,\"Non requis\")","v":1},{"$f":"IF(COUNTRY_INFO!H76=1, IF($E76=1,$D76, 0),0)","v":0},{"$f":"IF(COUNTRY_INFO!I76=1, IF(AND(COUNTRY_INFO!$I76=1,$F76<>0),IF(COUNTRY_INFO!M76>=(COUNTRY_INFO!F76+COUNTRY_INFO!G76),COUNTRY_INFO!F76+COUNTRY_INFO!G76,COUNTRY_INFO!$M76), 0),0)","v":90405},0,253133.99999999997,0,253133.99999999997,null,253133.99999999997]
[{"$f":"IF(INTRO!$E$39=\"Non endémique\",\" \",IF(COUNTRY_INFO!A77=0,\" \",COUNTRY_INFO!A77))","v":"Côte d'Ivoire"},{"$f":"IF(INTRO!$E$39=\"Non endémique\",\" \",IF(COUNTRY_INFO!B77=0,\" \",COUNTRY_INFO!B77))","v":"IFFOU"},{"$f":"IF(INTRO!$E$39=\"Non endémique\",\" \",IF(COUNTRY_INFO!C77=0,\" \",COUNTRY_INFO!C77))","v":"PRIKRO"},{"$f":"IF(INTRO!$E$39=\"Non endémique\",0,IF(INTRO!$E$39=\"Endémique mais pas de CP\",IF(COUNTRY_INFO!$H77=1,COUNTRY_INFO!F77+COUNTRY_INFO!G77,0),IF(COUNTRY_INFO!$H77=1,COUNTRY_INFO!F77+COUNTRY_INFO!G77,IF(COUNTRY_INFO!$I77=1,IF(COUNTRY_INFO!M77>=(COUNTRY_INFO!F77+COUNTRY_INFO!G77),COUNTRY_INFO!F77+COUNTRY_INFO!G77,COUNTRY_INFO!$M77),0))))","v":82495},{"$f":"IF(AND(INTRO!$E$39=\"Non endémique\",INTRO!$E$37=\"Non endémique\"),\"Non requis\",IF(INTRO!$E$39=\"Non endémique\",\"Traiter avec DEC\",COUNTRY_INFO!V77))","v":0},{"$f":"IF(INTRO!$E$39<>\"Non endémique\",COUNTRY_INFO!W77,\"Non requis\")","v":1},{"$f":"IF(COUNTRY_INFO!H77=1, IF($E77=1,$D77, 0),0)","v":0},{"$f":"IF(COUNTRY_INFO!I77=1, IF(AND(COUNTRY_INFO!$I77=1,$F77<>0),IF(COUNTRY_INFO!M77>=(COUNTRY_INFO!F77+COUNTRY_INFO!G77),COUNTRY_INFO!F77+COUNTRY_INFO!G77,COUNTRY_INFO!$M77), 0),0)","v":82495},0,230985.99999999997,0,230985.99999999997,null,230985.99999999997]
[{"$f":"IF(INTRO!$E$39=\"Non endémique\",\" \",IF(COUNTRY_INFO!A78=0,\" \",COUNTRY_INFO!A78))","v":"Côte d'Ivoire"},{"$f":"IF(INTRO!$E$39=\"Non endémique\",\" \",IF(COUNTRY_INFO!B78=0,\" \",COUNTRY_INFO!B78))","v":"INDENIE-DJUABLIN"},{"$f":"IF(INTRO!$E$39=\"Non endémique\",\" \",IF(COUNTRY_INFO!C78=0,\" \",COUNTRY_INFO!C78))","v":"ABENGOUROU"},{"$f":"IF(INTRO!$E$39=\"Non endémique\",0,IF(INTRO!$E$39=\"Endémique mais pas de CP\",IF(COUNTRY_INFO!$H78=1,COUNTRY_INFO!F78+COUNTRY_INFO!G78,0),IF(COUNTRY_INFO!$H78=1,COUNTRY_INFO!F78+COUNTRY_INFO!G78,IF(COUNTRY_INFO!$I78=1,IF(COUNTRY_INFO!M78>=(COUNTRY_INFO!F78+COUNTRY_INFO!G78),COUNTRY_INFO!F78+COUNTRY_INFO!G78,COUNTRY_INFO!$M78),0))))","v":353269},{"$f":"IF(AND(INTRO!$E$39=\"Non endémique\",INTRO!$E$37=\"Non endémique\"),\"Non requis\",IF(INTRO!$E$39=\"Non endémique\",\"Traiter avec DEC\",COUNTRY_INFO!V78))","v":0},{"$f":"IF(INTRO!$E$39<>\"Non endémique\",COUNTRY_INFO!W78,\"Non requis\")","v":1},{"$f":"IF(COUNTRY_INFO!H78=1, IF($E78=1,$D78, 0),0)","v":0},{"$f":"IF(COUNTRY_INFO!I78=1, IF(AND(COUNTRY_INFO!$I78=1,$F78<>0),IF(COUNTRY_INFO!M78>=(COUNTRY_INFO!F78+COUNTRY_INFO!G78),COUNTRY_INFO!F78+COUNTRY_INFO!G78,COUNTRY_INFO!$M78), 0),0)","v":353269},0,989153.2,0,989153.2,null,989153.2]
[{"$f":"IF(INTRO!$E$39=\"Non endémique\",\" \",IF(COUNTRY_INFO!A79=0,\" \",COUNTRY_INFO!A79))","v":"Côte d'Ivoire"},{"$f":"IF(INTRO!$E$39=\"Non endémique\",\" \",IF(COUNTRY_INFO!B79=0,\" \",COUNTRY_INFO!B79))","v":"INDENIE-DJUABLIN"},{"$f":"IF(INTRO!$E$39=\"Non endémique\",\" \",IF(COUNTRY_INFO!C79=0,\" \",COUNTRY_INFO!C79))","v":"AGNIBILEKRO"},{"$f":"IF(INTRO!$E$39=\"Non endémique\",0,IF(INTRO!$E$39=\"Endémique mais pas de CP\",IF(COUNTRY_INFO!$H79=1,COUNTRY_INFO!F79+COUNTRY_INFO!G79,0),IF(COUNTRY_INFO!$H79=1,COUNTRY_INFO!F79+COUNTRY_INFO!G79,IF(COUNTRY_INFO!$I79=1,IF(COUNTRY_INFO!M79>=(COUNTRY_INFO!F79+COUNTRY_INFO!G79),COUNTRY_INFO!F79+COUNTRY_INFO!G79,COUNTRY_INFO!$M79),0))))","v":176754},{"$f":"IF(AND(INTRO!$E$39=\"Non endémique\",INTRO!$E$37=\"Non endémique\"),\"Non requis\",IF(INTRO!$E$39=\"Non endémique\",\"Traiter avec DEC\",COUNTRY_INFO!V79))","v":0},{"$f":"IF(INTRO!$E$39<>\"Non endémique\",COUNTRY_INFO!W79,\"Non requis\")","v":1},{"$f":"IF(COUNTRY_INFO!H79=1, IF($E79=1,$D79, 0),0)","v":0},{"$f":"IF(COUNTRY_INFO!I79=1, IF(AND(COUNTRY_INFO!$I79=1,$F79<>0),IF(COUNTRY_INFO!M79>=(COUNTRY_INFO!F79+COUNTRY_INFO!G79),COUNTRY_INFO!F79+COUNTRY_INFO!G79,COUNTRY_INFO!$M79), 0),0)","v":176754},0,494911.19999999995,0,494911.19999999995,null,494911.19999999995]
[{"$f":"IF(INTRO!$E$39=\"Non endémique\",\" \",IF(COUNTRY_INFO!A80=0,\" \",COUNTRY_INFO!A80))","v":"Côte d'Ivoire"},{"$f":"IF(INTRO!$E$39=\"Non endémique\",\" \",IF(COUNTRY_INFO!B80=0,\" \",COUNTRY_INFO!B80))","v":"INDENIE-DJUABLIN"},{"$f":"IF(INTRO!$E$39=\"Non endémique\",\" \",IF(COUNTRY_INFO!C80=0,\" \",COUNTRY_INFO!C80))","v":"BETTIE"},{"$f":"IF(INTRO!$E$39=\"Non endémique\",0,IF(INTRO!$E$39=\"Endémique mais pas de CP\",IF(COUNTRY_INFO!$H80=1,COUNTRY_INFO!F80+COUNTRY_INFO!G80,0),IF(COUNTRY_INFO!$H80=1,COUNTRY_INFO!F80+COUNTRY_INFO!G80,IF(COUNTRY_INFO!$I80=1,IF(COUNTRY_INFO!M80>=(COUNTRY_INFO!F80+COUNTRY_INFO!G80),COUNTRY_INFO!F80+COUNTRY_INFO!G80,COUNTRY_INFO!$M80),0))))","v":58953},{"$f":"IF(AND(INTRO!$E$39=\"Non endémique\",INTRO!$E$37=\"Non endémique\"),\"Non requis\",IF(INTRO!$E$39=\"Non endémique\",\"Traiter avec DEC\",COUNTRY_INFO!V80))","v":0},{"$f":"IF(INTRO!$E$39<>\"Non endémique\",COUNTRY_INFO!W80,\"Non requis\")","v":1},{"$f":"IF(COUNTRY_INFO!H80=1, IF($E80=1,$D80, 0),0)","v":0},{"$f":"IF(COUNTRY_INFO!I80=1, IF(AND(COUNTRY_INFO!$I80=1,$F80<>0),IF(COUNTRY_INFO!M80>=(COUNTRY_INFO!F80+COUNTRY_INFO!G80),COUNTRY_INFO!F80+COUNTRY_INFO!G80,COUNTRY_INFO!$M80), 0),0)","v":58953},0,165068.4,0,165068.4,null,165068.4]
[{"$f":"IF(INTRO!$E$39=\"Non endémique\",\" \",IF(COUNTRY_INFO!A81=0,\" \",COUNTRY_INFO!A81))","v":"Côte d'Ivoire"},{"$f":"IF(INTRO!$E$39=\"Non endémique\",\" \",IF(COUNTRY_INFO!B81=0,\" \",COUNTRY_INFO!B81))","v":"KABADOUGOU"},{"$f":"IF(INTRO!$E$39=\"Non endémique\",\" \",IF(COUNTRY_INFO!C81=0,\" \",COUNTRY_INFO!C81))","v":"MADINANI"},{"$f":"IF(INTRO!$E$39=\"Non endémique\",0,IF(INTRO!$E$39=\"Endémique mais pas de CP\",IF(COUNTRY_INFO!$H81=1,COUNTRY_INFO!F81+COUNTRY_INFO!G81,0),IF(COUNTRY_INFO!$H81=1,COUNTRY_INFO!F81+COUNTRY_INFO!G81,IF(COUNTRY_INFO!$I81=1,IF(COUNTRY_INFO!M81>=(COUNTRY_INFO!F81+COUNTRY_INFO!G81),COUNTRY_INFO!F81+COUNTRY_INFO!G81,COUNTRY_INFO!$M81),0))))","v":66552},{"$f":"IF(AND(INTRO!$E$39=\"Non endémique\",INTRO!$E$37=\"Non endémique\"),\"Non requis\",IF(INTRO!$E$39=\"Non endémique\",\"Traiter avec DEC\",COUNTRY_INFO!V81))","v":0},{"$f":"IF(INTRO!$E$39<>\"Non endémique\",COUNTRY_INFO!W81,\"Non requis\")","v":1},{"$f":"IF(COUNTRY_INFO!H81=1, IF($E81=1,$D81, 0),0)","v":0},{"$f":"IF(COUNTRY_INFO!I81=1, IF(AND(COUNTRY_INFO!$I81=1,$F81<>0),IF(COUNTRY_INFO!M81>=(COUNTRY_INFO!F81+COUNTRY_INFO!G81),COUNTRY_INFO!F81+COUNTRY_INFO!G81,COUNTRY_INFO!$M81), 0),0)","v":66552},0,186345.59999999998,0,186345.59999999998,null,186345.59999999998]
[{"$f":"IF(INTRO!$E$39=\"Non endémique\",\" \",IF(COUNTRY_INFO!A82=0,\" \",COUNTRY_INFO!A82))","v":"Côte d'Ivoire"},{"$f":"IF(INTRO!$E$39=\"Non endémique\",\" \",IF(COUNTRY_INFO!B82=0,\" \",COUNTRY_INFO!B82))","v":"KABADOUGOU"},{"$f":"IF(INTRO!$E$39=\"Non endémique\",\" \",IF(COUNTRY_INFO!C82=0,\" \",COUNTRY_INFO!C82))","v":"ODIENNE"},{"$f":"IF(INTRO!$E$39=\"Non endémique\",0,IF(INTRO!$E$39=\"Endémique mais pas de CP\",IF(COUNTRY_INFO!$H82=1,COUNTRY_INFO!F82+COUNTRY_INFO!G82,0),IF(COUNTRY_INFO!$H82=1,COUNTRY_INFO!F82+COUNTRY_INFO!G82,IF(COUNTRY_INFO!$I82=1,IF(COUNTRY_INFO!M82>=(COUNTRY_INFO!F82+COUNTRY_INFO!G82),COUNTRY_INFO!F82+COUNTRY_INFO!G82,COUNTRY_INFO!$M82),0))))","v":128400},{"$f":"IF(AND(INTRO!$E$39=\"Non endémique\",INTRO!$E$37=\"Non endémique\"),\"Non requis\",IF(INTRO!$E$39=\"Non endémique\",\"Traiter avec DEC\",COUNTRY_INFO!V82))","v":0},{"$f":"IF(INTRO!$E$39<>\"Non endémique\",COUNTRY_INFO!W82,\"Non requis\")","v":1},{"$f":"IF(COUNTRY_INFO!H82=1, IF($E82=1,$D82, 0),0)","v":0},{"$f":"IF(COUNTRY_INFO!I82=1, IF(AND(COUNTRY_INFO!$I82=1,$F82<>0),IF(COUNTRY_INFO!M82>=(COUNTRY_INFO!F82+COUNTRY_INFO!G82),COUNTRY_INFO!F82+COUNTRY_INFO!G82,COUNTRY_INFO!$M82), 0),0)","v":128400},0,359520,0,359520,null,359520]
[{"$f":"IF(INTRO!$E$39=\"Non endémique\",\" \",IF(COUNTRY_INFO!A83=0,\" \",COUNTRY_INFO!A83))","v":"Côte d'Ivoire"},{"$f":"IF(INTRO!$E$39=\"Non endémique\",\" \",IF(COUNTRY_INFO!B83=0,\" \",COUNTRY_INFO!B83))","v":"LOH-DJIBOUA"},{"$f":"IF(INTRO!$E$39=\"Non endémique\",\" \",IF(COUNTRY_INFO!C83=0,\" \",COUNTRY_INFO!C83))","v":"DIVO"},{"$f":"IF(INTRO!$E$39=\"Non endémique\",0,IF(INTRO!$E$39=\"Endémique mais pas de CP\",IF(COUNTRY_INFO!$H83=1,COUNTRY_INFO!F83+COUNTRY_INFO!G83,0),IF(COUNTRY_INFO!$H83=1,COUNTRY_INFO!F83+COUNTRY_INFO!G83,IF(COUNTRY_INFO!$I83=1,IF(COUNTRY_INFO!M83>=(COUNTRY_INFO!F83+COUNTRY_INFO!G83),COUNTRY_INFO!F83+COUNTRY_INFO!G83,COUNTRY_INFO!$M83),0))))","v":394621},{"$f":"IF(AND(INTRO!$E$39=\"Non endémique\",INTRO!$E$37=\"Non endémique\"),\"Non requis\",IF(INTRO!$E$39=\"Non endémique\",\"Traiter avec DEC\",COUNTRY_INFO!V83))","v":0},{"$f":"IF(INTRO!$E$39<>\"Non endémique\",COUNTRY_INFO!W83,\"Non requis\")","v":1},{"$f":"IF(COUNTRY_INFO!H83=1, IF($E83=1,$D83, 0),0)","v":0},{"$f":"IF(COUNTRY_INFO!I83=1, IF(AND(COUNTRY_INFO!$I83=1,$F83<>0),IF(COUNTRY_INFO!M83>=(COUNTRY_INFO!F83+COUNTRY_INFO!G83),COUNTRY_INFO!F83+COUNTRY_INFO!G83,COUNTRY_INFO!$M83), 0),0)","v":394621},0,1104938.7999999998,0,1104938.7999999998,null,1104938.7999999998]
[{"$f":"IF(INTRO!$E$39=\"Non endémique\",\" \",IF(COUNTRY_INFO!A84=0,\" \",COUNTRY_INFO!A84))","v":"Côte d'Ivoire"},{"$f":"IF(INTRO!$E$39=\"Non endémique\",\" \",IF(COUNTRY_INFO!B84=0,\" \",COUNTRY_INFO!B84))","v":"LOH-DJIBOUA"},{"$f":"IF(INTRO!$E$39=\"Non endémique\",\" \",IF(COUNTRY_INFO!C84=0,\" \",COUNTRY_INFO!C84))","v":"GUITRY"},{"$f":"IF(INTRO!$E$39=\"Non endémique\",0,IF(INTRO!$E$39=\"Endémique mais pas de CP\",IF(COUNTRY_INFO!$H84=1,COUNTRY_INFO!F84+COUNTRY_INFO!G84,0),IF(COUNTRY_INFO!$H84=1,COUNTRY_INFO!F84+COUNTRY_INFO!G84,IF(COUNTRY_INFO!$I84=1,IF(COUNTRY_INFO!M84>=(COUNTRY_INFO!F84+COUNTRY_INFO!G84),COUNTRY_INFO!F84+COUNTRY_INFO!G84,COUNTRY_INFO!$M84),0))))","v":152307},{"$f":"IF(AND(INTRO!$E$39=\"Non endémique\",INTRO!$E$37=\"Non endémique\"),\"Non requis\",IF(INTRO!$E$39=\"Non endémique\",\"Traiter avec DEC\",COUNTRY_INFO!V84))","v":0},{"$f":"IF(INTRO!$E$39<>\"Non endémique\",COUNTRY_INFO!W84,\"Non requis\")","v":1},{"$f":"IF(COUNTRY_INFO!H84=1, IF($E84=1,$D84, 0),0)","v":0},{"$f":"IF(COUNTRY_INFO!I84=1, IF(AND(COUNTRY_INFO!$I84=1,$F84<>0),IF(COUNTRY_INFO!M84>=(COUNTRY_INFO!F84+COUNTRY_INFO!G84),COUNTRY_INFO!F84+COUNTRY_INFO!G84,COUNTRY_INFO!$M84), 0),0)","v":152307},0,426459.6,0,426459.6,null,426459.6]
[{"$f":"IF(INTRO!$E$39=\"Non endémique\",\" \",IF(COUNTRY_INFO!A85=0,\" \",COUNTRY_INFO!A85))","v":"Côte d'Ivoire"},{"$f":"IF(INTRO!$E$39=\"Non endémique\",\" \",IF(COUNTRY_INFO!B85=0,\" \",COUNTRY_INFO!B85))","v":"LOH-DJIBOUA"},{"$f":"IF(INTRO!$E$39=\"Non endémique\",\" \",IF(COUNTRY_INFO!C85=0,\" \",COUNTRY_INFO!C85))","v":"LAKOTA"},{"$f":"IF(INTRO!$E$39=\"Non endémique\",0,IF(INTRO!$E$39=\"Endémique mais pas de CP\",IF(COUNTRY_INFO!$H85=1,COUNTRY_INFO!F85+COUNTRY_INFO!G85,0),IF(COUNTRY_INFO!$H85=1,COUNTRY_INFO!F85+COUNTRY_INFO!G85,IF(COUNTRY_INFO!$I85=1,IF(COUNTRY_INFO!M85>=(COUNTRY_INFO!F85+COUNTRY_INFO!G85),COUNTRY_INFO!F85+COUNTRY_INFO!G85,COUNTRY_INFO!$M85),0))))","v":209859},{"$f":"IF(AND(INTRO!$E$39=\"Non endémique\",INTRO!$E$37=\"Non endémique\"),\"Non requis\",IF(INTRO!$E$39=\"Non endémique\",\"Traiter avec DEC\",COUNTRY_INFO!V85))","v":0},{"$f":"IF(INTRO!$E$39<>\"Non endémique\",COUNTRY_INFO!W85,\"Non requis\")","v":1},{"$f":"IF(COUNTRY_INFO!H85=1, IF($E85=1,$D85, 0),0)","v":0},{"$f":"IF(COUNTRY_INFO!I85=1, IF(AND(COUNTRY_INFO!$I85=1,$F85<>0),IF(COUNTRY_INFO!M85>=(COUNTRY_INFO!F85+COUNTRY_INFO!G85),COUNTRY_INFO!F85+COUNTRY_INFO!G85,COUNTRY_INFO!$M85), 0),0)","v":209859},0,587605.19999999995,0,587605.19999999995,null,587605.19999999995]
[{"$f":"IF(INTRO!$E$39=\"Non endémique\",\" \",IF(COUNTRY_INFO!A86=0,\" \",COUNTRY_INFO!A86))","v":"Côte d'Ivoire"},{"$f":"IF(INTRO!$E$39=\"Non endémique\",\" \",IF(COUNTRY_INFO!B86=0,\" \",COUNTRY_INFO!B86))","v":"MARAHOUE"},{"$f":"IF(INTRO!$E$39=\"Non endémique\",\" \",IF(COUNTRY_INFO!C86=0,\" \",COUNTRY_INFO!C86))","v":"BOUAFLE"},{"$f":"IF(INTRO!$E$39=\"Non endémique\",0,IF(INTRO!$E$39=\"Endémique mais pas de CP\",IF(COUNTRY_INFO!$H86=1,COUNTRY_INFO!F86+COUNTRY_INFO!G86,0),IF(COUNTRY_INFO!$H86=1,COUNTRY_INFO!F86+COUNTRY_INFO!G86,IF(COUNTRY_INFO!$I86=1,IF(COUNTRY_INFO!M86>=(COUNTRY_INFO!F86+COUNTRY_INFO!G86),COUNTRY_INFO!F86+COUNTRY_INFO!G86,COUNTRY_INFO!$M86),0))))","v":429689},{"$f":"IF(AND(INTRO!$E$39=\"Non endémique\",INTRO!$E$37=\"Non endémique\"),\"Non requis\",IF(INTRO!$E$39=\"Non endémique\",\"Traiter avec DEC\",COUNTRY_INFO!V86))","v":0},{"$f":"IF(INTRO!$E$39<>\"Non endémique\",COUNTRY_INFO!W86,\"Non requis\")","v":1},{"$f":"IF(COUNTRY_INFO!H86=1, IF($E86=1,$D86, 0),0)","v":0},{"$f":"IF(COUNTRY_INFO!I86=1, IF(AND(COUNTRY_INFO!$I86=1,$F86<>0),IF(COUNTRY_INFO!M86>=(COUNTRY_INFO!F86+COUNTRY_INFO!G86),COUNTRY_INFO!F86+COUNTRY_INFO!G86,COUNTRY_INFO!$M86), 0),0)","v":429689},0,1203129.2,0,1203129.2,null,1203129.2]
[{"$f":"IF(INTRO!$E$39=\"Non endémique\",\" \",IF(COUNTRY_INFO!A87=0,\" \",COUNTRY_INFO!A87))","v":"Côte d'Ivoire"},{"$f":"IF(INTRO!$E$39=\"Non endémique\",\" \",IF(COUNTRY_INFO!B87=0,\" \",COUNTRY_INFO!B87))","v":"MARAHOUE"},{"$f":"IF(INTRO!$E$39=\"Non endémique\",\" \",IF(COUNTRY_INFO!C87=0,\" \",COUNTRY_INFO!C87))","v":"SINFRA"},{"$f":"IF(INTRO!$E$39=\"Non endémique\",0,IF(INTRO!$E$39=\"Endémique mais pas de CP\",IF(COUNTRY_INFO!$H87=1,COUNTRY_INFO!F87+COUNTRY_INFO!G87,0),IF(COUNTRY_INFO!$H87=1,COUNTRY_INFO!F87+COUNTRY_INFO!G87,IF(COUNTRY_INFO!$I87=1,IF(COUNTRY_INFO!M87>=(COUNTRY_INFO!F87+COUNTRY_INFO!G87),COUNTRY_INFO!F87+COUNTRY_INFO!G87,COUNTRY_INFO!$M87),0))))","v":0},{"$f":"IF(AND(INTRO!$E$39=\"Non endémique\",INTRO!$E$37=\"Non endémique\"),\"Non requis\",IF(INTRO!$E$39=\"Non endémique\",\"Traiter avec DEC\",COUNTRY_INFO!V87))","v":0},{"$f":"IF(INTRO!$E$39<>\"Non endémique\",COUNTRY_INFO!W87,\"Non requis\")","v":0},{"$f":"IF(COUNTRY_INFO!H87=1, IF($E87=1,$D87, 0),0)","v":0},{"$f":"IF(COUNTRY_INFO!I87=1, IF(AND(COUNTRY_INFO!$I87=1,$F87<>0),IF(COUNTRY_INFO!M87>=(COUNTRY_INFO!F87+COUNTRY_INFO!G87),COUNTRY_INFO!F87+COUNTRY_INFO!G87,COUNTRY_INFO!$M87), 0),0)","v":0},0,0,0,0,null,0]
[{"$f":"IF(INTRO!$E$39=\"Non endémique\",\" \",IF(COUNTRY_INFO!A88=0,\" \",COUNTRY_INFO!A88))","v":"Côte d'Ivoire"},{"$f":"IF(INTRO!$E$39=\"Non endémique\",\" \",IF(COUNTRY_INFO!B88=0,\" \",COUNTRY_INFO!B88))","v":"MARAHOUE"},{"$f":"IF(INTRO!$E$39=\"Non endémique\",\" \",IF(COUNTRY_INFO!C88=0,\" \",COUNTRY_INFO!C88))","v":"ZUENOULA"},{"$f":"IF(INTRO!$E$39=\"Non endémique\",0,IF(INTRO!$E$39=\"Endémique mais pas de CP\",IF(COUNTRY_INFO!$H88=1,COUNTRY_INFO!F88+COUNTRY_INFO!G88,0),IF(COUNTRY_INFO!$H88=1,COUNTRY_INFO!F88+COUNTRY_INFO!G88,IF(COUNTRY_INFO!$I88=1,IF(COUNTRY_INFO!M88>=(COUNTRY_INFO!F88+COUNTRY_INFO!G88),COUNTRY_INFO!F88+COUNTRY_INFO!G88,COUNTRY_INFO!$M88),0))))","v":225126},{"$f":"IF(AND(INTRO!$E$39=\"Non endémique\",INTRO!$E$37=\"Non endémique\"),\"Non requis\",IF(INTRO!$E$39=\"Non endémique\",\"Traiter avec DEC\",COUNTRY_INFO!V88))","v":0},{"$f":"IF(INTRO!$E$39<>\"Non endémique\",COUNTRY_INFO!W88,\"Non requis\")","v":1},{"$f":"IF(COUNTRY_INFO!H88=1, IF($E88=1,$D88, 0),0)","v":0},{"$f":"IF(COUNTRY_INFO!I88=1, IF(AND(COUNTRY_INFO!$I88=1,$F88<>0),IF(COUNTRY_INFO!M88>=(COUNTRY_INFO!F88+COUNTRY_INFO!G88),COUNTRY_INFO!F88+COUNTRY_INFO!G88,COUNTRY_INFO!$M88), 0),0)","v":225126},0,630352.79999999993,0,630352.79999999993,null,630352.79999999993]
[{"$f":"IF(INTRO!$E$39=\"Non endémique\",\" \",IF(COUNTRY_INFO!A89=0,\" \",COUNTRY_INFO!A89))","v":"Côte d'Ivoire"},{"$f":"IF(INTRO!$E$39=\"Non endémique\",\" \",IF(COUNTRY_INFO!B89=0,\" \",COUNTRY_INFO!B89))","v":"ME"},{"$f":"IF(INTRO!$E$39=\"Non endémique\",\" \",IF(COUNTRY_INFO!C89=0,\" \",COUNTRY_INFO!C89))","v":"ADZOPE"},{"$f":"IF(INTRO!$E$39=\"Non endémique\",0,IF(INTRO!$E$39=\"Endémique mais pas de CP\",IF(COUNTRY_INFO!$H89=1,COUNTRY_INFO!F89+COUNTRY_INFO!G89,0),IF(COUNTRY_INFO!$H89=1,COUNTRY_INFO!F89+COUNTRY_INFO!G89,IF(COUNTRY_INFO!$I89=1,IF(COUNTRY_INFO!M89>=(COUNTRY_INFO!F89+COUNTRY_INFO!G89),COUNTRY_INFO!F89+COUNTRY_INFO!G89,COUNTRY_INFO!$M89),0))))","v":191626},{"$f":"IF(AND(INTRO!$E$39=\"Non endémique\",INTRO!$E$37=\"Non endémique\"),\"Non requis\",IF(INTRO!$E$39=\"Non endémique\",\"Traiter avec DEC\",COUNTRY_INFO!V89))","v":1},{"$f":"IF(INTRO!$E$39<>\"Non endémique\",COUNTRY_INFO!W89,\"Non requis\")","v":1},{"$f":"IF(COUNTRY_INFO!H89=1, IF($E89=1,$D89, 0),0)","v":191626},{"$f":"IF(COUNTRY_INFO!I89=1, IF(AND(COUNTRY_INFO!$I89=1,$F89<>0),IF(COUNTRY_INFO!M89>=(COUNTRY_INFO!F89+COUNTRY_INFO!G89),COUNTRY_INFO!F89+COUNTRY_INFO!G89,COUNTRY_INFO!$M89), 0),0)","v":191626},0,0,536552.79999999993,536552.79999999993,null,536552.79999999993]
[{"$f":"IF(INTRO!$E$39=\"Non endémique\",\" \",IF(COUNTRY_INFO!A90=0,\" \",COUNTRY_INFO!A90))","v":"Côte d'Ivoire"},{"$f":"IF(INTRO!$E$39=\"Non endémique\",\" \",IF(COUNTRY_INFO!B90=0,\" \",COUNTRY_INFO!B90))","v":"ME"},{"$f":"IF(INTRO!$E$39=\"Non endémique\",\" \",IF(COUNTRY_INFO!C90=0,\" \",COUNTRY_INFO!C90))","v":"AKOUPE"},{"$f":"IF(INTRO!$E$39=\"Non endémique\",0,IF(INTRO!$E$39=\"Endémique mais pas de CP\",IF(COUNTRY_INFO!$H90=1,COUNTRY_INFO!F90+COUNTRY_INFO!G90,0),IF(COUNTRY_INFO!$H90=1,COUNTRY_INFO!F90+COUNTRY_INFO!G90,IF(COUNTRY_INFO!$I90=1,IF(COUNTRY_INFO!M90>=(COUNTRY_INFO!F90+COUNTRY_INFO!G90),COUNTRY_INFO!F90+COUNTRY_INFO!G90,COUNTRY_INFO!$M90),0))))","v":117864},{"$f":"IF(AND(INTRO!$E$39=\"Non endémique\",INTRO!$E$37=\"Non endémique\"),\"Non requis\",IF(INTRO!$E$39=\"Non endémique\",\"Traiter avec DEC\",COUNTRY_INFO!V90))","v":1},{"$f":"IF(INTRO!$E$39<>\"Non endémique\",COUNTRY_INFO!W90,\"Non requis\")","v":1},{"$f":"IF(COUNTRY_INFO!H90=1, IF($E90=1,$D90, 0),0)","v":117864},{"$f":"IF(COUNTRY_INFO!I90=1, IF(AND(COUNTRY_INFO!$I90=1,$F90<>0),IF(COUNTRY_INFO!M90>=(COUNTRY_INFO!F90+COUNTRY_INFO!G90),COUNTRY_INFO!F90+COUNTRY_INFO!G90,COUNTRY_INFO!$M90), 0),0)","v":117864},0,0,330019.19999999995,330019.19999999995,null,330019.19999999995]
[{"$f":"IF(INTRO!$E$39=\"Non endémique\",\" \",IF(COUNTRY_INFO!A91=0,\" \",COUNTRY_INFO!A91))","v":"Côte d'Ivoire"},{"$f":"IF(INTRO!$E$39=\"Non endémique\",\" \",IF(COUNTRY_INFO!B91=0,\" \",COUNTRY_INFO!B91))","v":"ME"},{"$f":"IF(INTRO!$E$39=\"Non endémique\",\" \",IF(COUNTRY_INFO!C91=0,\" \",COUNTRY_INFO!C91))","v":"ALEPE"},{"$f":"IF(INTRO!$E$39=\"Non endémique\",0,IF(INTRO!$E$39=\"Endémique mais pas de CP\",IF(COUNTRY_INFO!$H91=1,COUNTRY_INFO!F91+COUNTRY_INFO!G91,0),IF(COUNTRY_INFO!$H91=1,COUNTRY_INFO!F91+COUNTRY_INFO!G91,IF(COUNTRY_INFO!$I91=1,IF(COUNTRY_INFO!M91>=(COUNTRY_INFO!F91+COUNTRY_INFO!G91),COUNTRY_INFO!F91+COUNTRY_INFO!G91,COUNTRY_INFO!$M91),0))))","v":124646},{"$f":"IF(AND(INTRO!$E$39=\"Non endémique\",INTRO!$E$37=\"Non endémique\"),\"Non requis\",IF(INTRO!$E$39=\"Non endémique\",\"Traiter avec DEC\",COUNTRY_INFO!V91))","v":1},{"$f":"IF(INTRO!$E$39<>\"Non endémique\",COUNTRY_INFO!W91,\"Non requis\")","v":1},{"$f":"IF(COUNTRY_INFO!H91=1, IF($E91=1,$D91, 0),0)","v":124646},{"$f":"IF(COUNTRY_INFO!I91=1, IF(AND(COUNTRY_INFO!$I91=1,$F91<>0),IF(COUNTRY_INFO!M91>=(COUNTRY_INFO!F91+COUNTRY_INFO!G91),COUNTRY_INFO!F91+COUNTRY_INFO!G91,COUNTRY_INFO!$M91), 0),0)","v":124646},0,0,349008.8,349008.8,null,349008.8]
[{"$f":"IF(INTRO!$E$39=\"Non endémique\",\" \",IF(COUNTRY_INFO!A92=0,\" \",COUNTRY_INFO!A92))","v":"Côte d'Ivoire"},{"$f":"IF(INTRO!$E$39=\"Non endémique\",\" \",IF(COUNTRY_INFO!B92=0,\" \",COUNTRY_INFO!B92))","v":"ME"},{"$f":"IF(INTRO!$E$39=\"Non endémique\",\" \",IF(COUNTRY_INFO!C92=0,\" \",COUNTRY_INFO!C92))","v":"YAKASSE ATTOBROU"},{"$f":"IF(INTRO!$E$39=\"Non endémique\",0,IF(INTRO!$E$39=\"Endémique mais pas de CP\",IF(COUNTRY_INFO!$H92=1,COUNTRY_INFO!F92+COUNTRY_INFO!G92,0),IF(COUNTRY_INFO!$H92=1,COUNTRY_INFO!F92+COUNTRY_INFO!G92,IF(COUNTRY_INFO!$I92=1,IF(COUNTRY_INFO!M92>=(COUNTRY_INFO!F92+COUNTRY_INFO!G92),COUNTRY_INFO!F92+COUNTRY_INFO!G92,COUNTRY_INFO!$M92),0))))","v":75532},{"$f":"IF(AND(INTRO!$E$39=\"Non endémique\",INTRO!$E$37=\"Non endémique\"),\"Non requis\",IF(INTRO!$E$39=\"Non endémique\",\"Traiter avec DEC\",COUNTRY_INFO!V92))","v":1},{"$f":"IF(INTRO!$E$39<>\"Non endémique\",COUNTRY_INFO!W92,\"Non requis\")","v":1},{"$f":"IF(COUNTRY_INFO!H92=1, IF($E92=1,$D92, 0),0)","v":75532},{"$f":"IF(COUNTRY_INFO!I92=1, IF(AND(COUNTRY_INFO!$I92=1,$F92<>0),IF(COUNTRY_INFO!M92>=(COUNTRY_INFO!F92+COUNTRY_INFO!G92),COUNTRY_INFO!F92+COUNTRY_INFO!G92,COUNTRY_INFO!$M92), 0),0)","v":75532},0,0,211489.59999999998,211489.59999999998,null,211489.59999999998]
[{"$f":"IF(INTRO!$E$39=\"Non endémique\",\" \",IF(COUNTRY_INFO!A93=0,\" \",COUNTRY_INFO!A93))","v":"Côte d'Ivoire"},{"$f":"IF(INTRO!$E$39=\"Non endémique\",\" \",IF(COUNTRY_INFO!B93=0,\" \",COUNTRY_INFO!B93))","v":"MORONOU"},{"$f":"IF(INTRO!$E$39=\"Non endémique\",\" \",IF(COUNTRY_INFO!C93=0,\" \",COUNTRY_INFO!C93))","v":"ARRAH"},{"$f":"IF(INTRO!$E$39=\"Non endémique\",0,IF(INTRO!$E$39=\"Endémique mais pas de CP\",IF(COUNTRY_INFO!$H93=1,COUNTRY_INFO!F93+COUNTRY_INFO!G93,0),IF(COUNTRY_INFO!$H93=1,COUNTRY_INFO!F93+COUNTRY_INFO!G93,IF(COUNTRY_INFO!$I93=1,IF(COUNTRY_INFO!M93>=(COUNTRY_INFO!F93+COUNTRY_INFO!G93),COUNTRY_INFO!F93+COUNTRY_INFO!G93,COUNTRY_INFO!$M93),0))))","v":88678},{"$f":"IF(AND(INTRO!$E$39=\"Non endémique\",INTRO!$E$37=\"Non endémique\"),\"Non requis\",IF(INTRO!$E$39=\"Non endémique\",\"Traiter avec DEC\",COUNTRY_INFO!V93))","v":0},{"$f":"IF(INTRO!$E$39<>\"Non endémique\",COUNTRY_INFO!W93,\"Non requis\")","v":1},{"$f":"IF(COUNTRY_INFO!H93=1, IF($E93=1,$D93, 0),0)","v":0},{"$f":"IF(COUNTRY_INFO!I93=1, IF(AND(COUNTRY_INFO!$I93=1,$F93<>0),IF(COUNTRY_INFO!M93>=(COUNTRY_INFO!F93+COUNTRY_INFO!G93),COUNTRY_INFO!F93+COUNTRY_INFO!G93,COUNTRY_INFO!$M93), 0),0)","v":88678},0,248298.4,0,248298.4,null,248298.4]
[{"$f":"IF(INTRO!$E$39=\"Non endémique\",\" \",IF(COUNTRY_INFO!A94=0,\" \",COUNTRY_INFO!A94))","v":"Côte d'Ivoire"},{"$f":"IF(INTRO!$E$39=\"Non endémique\",\" \",IF(COUNTRY_INFO!B94=0,\" \",COUNTRY_INFO!B94))","v":"MORONOU"},{"$f":"IF(INTRO!$E$39=\"Non endémique\",\" \",IF(COUNTRY_INFO!C94=0,\" \",COUNTRY_INFO!C94))","v":"BONGOUANOU"},{"$f":"IF(INTRO!$E$39=\"Non endémique\",0,IF(INTRO!$E$39=\"Endémique mais pas de CP\",IF(COUNTRY_INFO!$H94=1,COUNTRY_INFO!F94+COUNTRY_INFO!G94,0),IF(COUNTRY_INFO!$H94=1,COUNTRY_INFO!F94+COUNTRY_INFO!G94,IF(COUNTRY_INFO!$I94=1,IF(COUNTRY_INFO!M94>=(COUNTRY_INFO!F94+COUNTRY_INFO!G94),COUNTRY_INFO!F94+COUNTRY_INFO!G94,COUNTRY_INFO!$M94),0))))","v":182453},{"$f":"IF(AND(INTRO!$E$39=\"Non endémique\",INTRO!$E$37=\"Non endémique\"),\"Non requis\",IF(INTRO!$E$39=\"Non endémique\",\"Traiter avec DEC\",COUNTRY_INFO!V94))","v":0},{"$f":"IF(INTRO!$E$39<>\"Non endémique\",COUNTRY_INFO!W94,\"Non requis\")","v":1},{"$f":"IF(COUNTRY_INFO!H94=1, IF($E94=1,$D94, 0),0)","v":0},{"$f":"IF(COUNTRY_INFO!I94=1, IF(AND(COUNTRY_INFO!$I94=1,$F94<>0),IF(COUNTRY_INFO!M94>=(COUNTRY_INFO!F94+COUNTRY_INFO!G94),COUNTRY_INFO!F94+COUNTRY_INFO!G94,COUNTRY_INFO!$M94), 0),0)","v":182453},0,510868.39999999997,0,510868.39999999997,null,510868.39999999997]
[{"$f":"IF(INTRO!$E$39=\"Non endémique\",\" \",IF(COUNTRY_INFO!A95=0,\" \",COUNTRY_INFO!A95))","v":"Côte d'Ivoire"},{"$f":"IF(INTRO!$E$39=\"Non endémique\",\" \",IF(COUNTRY_INFO!B95=0,\" \",COUNTRY_INFO!B95))","v":"MORONOU"},{"$f":"IF(INTRO!$E$39=\"Non endémique\",\" \",IF(COUNTRY_INFO!C95=0,\" \",COUNTRY_INFO!C95))","v":"M'BATTO"},{"$f":"IF(INTRO!$E$39=\"Non endémique\",0,IF(INTRO!$E$39=\"Endémique mais pas de CP\",IF(COUNTRY_INFO!$H95=1,COUNTRY_INFO!F95+COUNTRY_INFO!G95,0),IF(COUNTRY_INFO!$H95=1,COUNTRY_INFO!F95+COUNTRY_INFO!G95,IF(COUNTRY_INFO!$I95=1,IF(COUNTRY_INFO!M95>=(COUNTRY_INFO!F95+COUNTRY_INFO!G95),COUNTRY_INFO!F95+COUNTRY_INFO!G95,COUNTRY_INFO!$M95),0))))","v":118055},{"$f":"IF(AND(INTRO!$E$39=\"Non endémique\",INTRO!$E$37=\"Non endémique\"),\"Non requis\",IF(INTRO!$E$39=\"Non endémique\",\"Traiter avec DEC\",COUNTRY_INFO!V95))","v":0},{"$f":"IF(INTRO!$E$39<>\"Non endémique\",COUNTRY_INFO!W95,\"Non requis\")","v":1},{"$f":"IF(COUNTRY_INFO!H95=1, IF($E95=1,$D95, 0),0)","v":0},{"$f":"IF(COUNTRY_INFO!I95=1, IF(AND(COUNTRY_INFO!$I95=1,$F95<>0),IF(COUNTRY_INFO!M95>=(COUNTRY_INFO!F95+COUNTRY_INFO!G95),COUNTRY_INFO!F95+COUNTRY_INFO!G95,COUNTRY_INFO!$M95), 0),0)","v":118055},0,330554,0,330554,null,330554]
[{"$f":"IF(INTRO!$E$39=\"Non endémique\",\" \",IF(COUNTRY_INFO!A96=0,\" \",COUNTRY_INFO!A96))","v":"Côte d'Ivoire"},{"$f":"IF(INTRO!$E$39=\"Non endémique\",\" \",IF(COUNTRY_INFO!B96=0,\" \",COUNTRY_INFO!B96))","v":"NAWA"},{"$f":"IF(INTRO!$E$39=\"Non endémique\",\" \",IF(COUNTRY_INFO!C96=0,\" \",COUNTRY_INFO!C96))","v":"BUYO"},{"$f":"IF(INTRO!$E$39=\"Non endémique\",0,IF(INTRO!$E$39=\"Endémique mais pas de CP\",IF(COUNTRY_INFO!$H96=1,COUNTRY_INFO!F96+COUNTRY_INFO!G96,0),IF(COUNTRY_INFO!$H96=1,COUNTRY_INFO!F96+COUNTRY_INFO!G96,IF(COUNTRY_INFO!$I96=1,IF(COUNTRY_INFO!M96>=(COUNTRY_INFO!F96+COUNTRY_INFO!G96),COUNTRY_INFO!F96+COUNTRY_INFO!G96,COUNTRY_INFO!$M96),0))))","v":178293},{"$f":"IF(AND(INTRO!$E$39=\"Non endémique\",INTRO!$E$37=\"Non endémique\"),\"Non requis\",IF(INTRO!$E$39=\"Non endémique\",\"Traiter avec DEC\",COUNTRY_INFO!V96))","v":0},{"$f":"IF(INTRO!$E$39<>\"Non endémique\",COUNTRY_INFO!W96,\"Non requis\")","v":1},{"$f":"IF(COUNTRY_INFO!H96=1, IF($E96=1,$D96, 0),0)","v":0},{"$f":"IF(COUNTRY_INFO!I96=1, IF(AND(COUNTRY_INFO!$I96=1,$F96<>0),IF(COUNTRY_INFO!M96>=(COUNTRY_INFO!F96+COUNTRY_INFO!G96),COUNTRY_INFO!F96+COUNTRY_INFO!G96,COUNTRY_INFO!$M96), 0),0)","v":178293},0,499220.39999999997,0,499220.39999999997,null,499220.39999999997]
[{"$f":"IF(INTRO!$E$39=\"Non endémique\",\" \",IF(COUNTRY_INFO!A97=0,\" \",COUNTRY_INFO!A97))","v":"Côte d'Ivoire"},{"$f":"IF(INTRO!$E$39=\"Non endémique\",\" \",IF(COUNTRY_INFO!B97=0,\" \",COUNTRY_INFO!B97))","v":"NAWA"},{"$f":"IF(INTRO!$E$39=\"Non endémique\",\" \",IF(COUNTRY_INFO!C97=0,\" \",COUNTRY_INFO!C97))","v":"GUEYO"},{"$f":"IF(INTRO!$E$39=\"Non endémique\",0,IF(INTRO!$E$39=\"Endémique mais pas de CP\",IF(COUNTRY_INFO!$H97=1,COUNTRY_INFO!F97+COUNTRY_INFO!G97,0),IF(COUNTRY_INFO!$H97=1,COUNTRY_INFO!F97+COUNTRY_INFO!G97,IF(COUNTRY_INFO!$I97=1,IF(COUNTRY_INFO!M97>=(COUNTRY_INFO!F97+COUNTRY_INFO!G97),COUNTRY_INFO!F97+COUNTRY_INFO!G97,COUNTRY_INFO!$M97),0))))","v":81141},{"$f":"IF(AND(INTRO!$E$39=\"Non endémique\",INTRO!$E$37=\"Non endémique\"),\"Non requis\",IF(INTRO!$E$39=\"Non endémique\",\"Traiter avec DEC\",COUNTRY_INFO!V97))","v":1},{"$f":"IF(INTRO!$E$39<>\"Non endémique\",COUNTRY_INFO!W97,\"Non requis\")","v":1},{"$f":"IF(COUNTRY_INFO!H97=1, IF($E97=1,$D97, 0),0)","v":81141},{"$f":"IF(COUNTRY_INFO!I97=1, IF(AND(COUNTRY_INFO!$I97=1,$F97<>0),IF(COUNTRY_INFO!M97>=(COUNTRY_INFO!F97+COUNTRY_INFO!G97),COUNTRY_INFO!F97+COUNTRY_INFO!G97,COUNTRY_INFO!$M97), 0),0)","v":81141},0,0,227194.8,227194.8,null,227194.8]
[{"$f":"IF(INTRO!$E$39=\"Non endémique\",\" \",IF(COUNTRY_INFO!A98=0,\" \",COUNTRY_INFO!A98))","v":"Côte d'Ivoire"},{"$f":"IF(INTRO!$E$39=\"Non endémique\",\" \",IF(COUNTRY_INFO!B98=0,\" \",COUNTRY_INFO!B98))","v":"NAWA"},{"$f":"IF(INTRO!$E$39=\"Non endémique\",\" \",IF(COUNTRY_INFO!C98=0,\" \",COUNTRY_INFO!C98))","v":"MEAGUI"},{"$f":"IF(INTRO!$E$39=\"Non endémique\",0,IF(INTRO!$E$39=\"Endémique mais pas de CP\",IF(COUNTRY_INFO!$H98=1,COUNTRY_INFO!F98+COUNTRY_INFO!G98,0),IF(COUNTRY_INFO!$H98=1,COUNTRY_INFO!F98+COUNTRY_INFO!G98,IF(COUNTRY_INFO!$I98=1,IF(COUNTRY_INFO!M98>=(COUNTRY_INFO!F98+COUNTRY_INFO!G98),COUNTRY_INFO!F98+COUNTRY_INFO!G98,COUNTRY_INFO!$M98),0))))","v":311233},{"$f":"IF(AND(INTRO!$E$39=\"Non endémique\",INTRO!$E$37=\"Non endémique\"),\"Non requis\",IF(INTRO!$E$39=\"Non endémique\",\"Traiter avec DEC\",COUNTRY_INFO!V98))","v":0},{"$f":"IF(INTRO!$E$39<>\"Non endémique\",COUNTRY_INFO!W98,\"Non requis\")","v":1},{"$f":"IF(COUNTRY_INFO!H98=1, IF($E98=1,$D98, 0),0)","v":0},{"$f":"IF(COUNTRY_INFO!I98=1, IF(AND(COUNTRY_INFO!$I98=1,$F98<>0),IF(COUNTRY_INFO!M98>=(COUNTRY_INFO!F98+COUNTRY_INFO!G98),COUNTRY_INFO!F98+COUNTRY_INFO!G98,COUNTRY_INFO!$M98), 0),0)","v":311233},0,871452.39999999991,0,871452.39999999991,null,871452.39999999991]
[{"$f":"IF(INTRO!$E$39=\"Non endémique\",\" \",IF(COUNTRY_INFO!A99=0,\" \",COUNTRY_INFO!A99))","v":"Côte d'Ivoire"},{"$f":"IF(INTRO!$E$39=\"Non endémique\",\" \",IF(COUNTRY_INFO!B99=0,\" \",COUNTRY_INFO!B99))","v":"NAWA"},{"$f":"IF(INTRO!$E$39=\"Non endémique\",\" \",IF(COUNTRY_INFO!C99=0,\" \",COUNTRY_INFO!C99))","v":"SOUBRE"},{"$f":"IF(INTRO!$E$39=\"Non endémique\",0,IF(INTRO!$E$39=\"Endémique mais pas de CP\",IF(COUNTRY_INFO!$H99=1,COUNTRY_INFO!F99+COUNTRY_INFO!G99,0),IF(COUNTRY_INFO!$H99=1,COUNTRY_INFO!F99+COUNTRY_INFO!G99,IF(COUNTRY_INFO!$I99=1,IF(COUNTRY_INFO!M99>=(COUNTRY_INFO!F99+COUNTRY_INFO!G99),COUNTRY_INFO!F99+COUNTRY_INFO!G99,COUNTRY_INFO!$M99),0))))","v":487358},{"$f":"IF(AND(INTRO!$E$39=\"Non endémique\",INTRO!$E$37=\"Non endémique\"),\"Non requis\",IF(INTRO!$E$39=\"Non endémique\",\"Traiter avec DEC\",COUNTRY_INFO!V99))","v":0},{"$f":"IF(INTRO!$E$39<>\"Non endémique\",COUNTRY_INFO!W99,\"Non requis\")","v":1},{"$f":"IF(COUNTRY_INFO!H99=1, IF($E99=1,$D99, 0),0)","v":0},{"$f":"IF(COUNTRY_INFO!I99=1, IF(AND(COUNTRY_INFO!$I99=1,$F99<>0),IF(COUNTRY_INFO!M99>=(COUNTRY_INFO!F99+COUNTRY_INFO!G99),COUNTRY_INFO!F99+COUNTRY_INFO!G99,COUNTRY_INFO!$M99), 0),0)","v":487358},0,1364602.4,0,1364602.4,null,1364602.4]
[{"$f":"IF(INTRO!$E$39=\"Non endémique\",\" \",IF(COUNTRY_INFO!A100=0,\" \",COUNTRY_INFO!A100))","v":"Côte d'Ivoire"},{"$f":"IF(INTRO!$E$39=\"Non endémique\",\" \",IF(COUNTRY_INFO!B100=0,\" \",COUNTRY_INFO!B100))","v":"N'ZI"},{"$f":"IF(INTRO!$E$39=\"Non endémique\",\" \",IF(COUNTRY_INFO!C100=0,\" \",COUNTRY_INFO!C100))","v":"BOCANDA"},{"$f":"IF(INTRO!$E$39=\"Non endémique\",0,IF(INTRO!$E$39=\"Endémique mais pas de CP\",IF(COUNTRY_INFO!$H100=1,COUNTRY_INFO!F100+COUNTRY_INFO!G100,0),IF(COUNTRY_INFO!$H100=1,COUNTRY_INFO!F100+COUNTRY_INFO!G100,IF(COUNTRY_INFO!$I100=1,IF(COUNTRY_INFO!M100>=(COUNTRY_INFO!F100+COUNTRY_INFO!G100),COUNTRY_INFO!F100+COUNTRY_INFO!G100,COUNTRY_INFO!$M100),0))))","v":141621},{"$f":"IF(AND(INTRO!$E$39=\"Non endémique\",INTRO!$E$37=\"Non endémique\"),\"Non requis\",IF(INTRO!$E$39=\"Non endémique\",\"Traiter avec DEC\",COUNTRY_INFO!V100))","v":0},{"$f":"IF(INTRO!$E$39<>\"Non endémique\",COUNTRY_INFO!W100,\"Non requis\")","v":1},{"$f":"IF(COUNTRY_INFO!H100=1, IF($E100=1,$D100, 0),0)","v":0},{"$f":"IF(COUNTRY_INFO!I100=1, IF(AND(COUNTRY_INFO!$I100=1,$F100<>0),IF(COUNTRY_INFO!M100>=(COUNTRY_INFO!F100+COUNTRY_INFO!G100),COUNTRY_INFO!F100+COUNTRY_INFO!G100,COUNTRY_INFO!$M100), 0),0)","v":141621},0,396538.8,0,396538.8,null,396538.8]
[{"$f":"IF(INTRO!$E$39=\"Non endémique\",\" \",IF(COUNTRY_INFO!A101=0,\" \",COUNTRY_INFO!A101))","v":"Côte d'Ivoire"},{"$f":"IF(INTRO!$E$39=\"Non endémique\",\" \",IF(COUNTRY_INFO!B101=0,\" \",COUNTRY_INFO!B101))","v":"N'ZI"},{"$f":"IF(INTRO!$E$39=\"Non endémique\",\" \",IF(COUNTRY_INFO!C101=0,\" \",COUNTRY_INFO!C101))","v":"DIMBOKRO"},{"$f":"IF(INTRO!$E$39=\"Non endémique\",0,IF(INTRO!$E$39=\"Endémique mais pas de CP\",IF(COUNTRY_INFO!$H101=1,COUNTRY_INFO!F101+COUNTRY_INFO!G101,0),IF(COUNTRY_INFO!$H101=1,COUNTRY_INFO!F101+COUNTRY_INFO!G101,IF(COUNTRY_INFO!$I101=1,IF(COUNTRY_INFO!M101>=(COUNTRY_INFO!F101+COUNTRY_INFO!G101),COUNTRY_INFO!F101+COUNTRY_INFO!G101,COUNTRY_INFO!$M101),0))))","v":101611},{"$f":"IF(AND(INTRO!$E$39=\"Non endémique\",INTRO!$E$37=\"Non endémique\"),\"Non requis\",IF(INTRO!$E$39=\"Non endémique\",\"Traiter avec DEC\",COUNTRY_INFO!V101))","v":0},{"$f":"IF(INTRO!$E$39<>\"Non endémique\",COUNTRY_INFO!W101,\"Non requis\")","v":1},{"$f":"IF(COUNTRY_INFO!H101=1, IF($E101=1,$D101, 0),0)","v":0},{"$f":"IF(COUNTRY_INFO!I101=1, IF(AND(COUNTRY_INFO!$I101=1,$F101<>0),IF(COUNTRY_INFO!M101>=(COUNTRY_INFO!F101+COUNTRY_INFO!G101),COUNTRY_INFO!F101+COUNTRY_INFO!G101,COUNTRY_INFO!$M101), 0),0)","v":101611},0,284510.8,0,284510.8,null,284510.8]
[{"$f":"IF(INTRO!$E$39=\"Non endémique\",\" \",IF(COUNTRY_INFO!A102=0,\" \",COUNTRY_INFO!A102))","v":"Côte d'Ivoire"},{"$f":"IF(INTRO!$E$39=\"Non endémique\",\" \",IF(COUNTRY_INFO!B102=0,\" \",COUNTRY_INFO!B102))","v":"N'ZI"},{"$f":"IF(INTRO!$E$39=\"Non endémique\",\" \",IF(COUNTRY_INFO!C102=0,\" \",COUNTRY_INFO!C102))","v":"KOUASSI-KOUASSIKRO"},{"$f":"IF(INTRO!$E$39=\"Non endémique\",0,IF(INTRO!$E$39=\"Endémique mais pas de CP\",IF(COUNTRY_INFO!$H102=1,COUNTRY_INFO!F102+COUNTRY_INFO!G102,0),IF(COUNTRY_INFO!$H102=1,COUNTRY_INFO!F102+COUNTRY_INFO!G102,IF(COUNTRY_INFO!$I102=1,IF(COUNTRY_INFO!M102>=(COUNTRY_INFO!F102+COUNTRY_INFO!G102),COUNTRY_INFO!F102+COUNTRY_INFO!G102,COUNTRY_INFO!$M102),0))))","v":33045},{"$f":"IF(AND(INTRO!$E$39=\"Non endémique\",INTRO!$E$37=\"Non endémique\"),\"Non requis\",IF(INTRO!$E$39=\"Non endémique\",\"Traiter avec DEC\",COUNTRY_INFO!V102))","v":0},{"$f":"IF(INTRO!$E$39<>\"Non endémique\",COUNTRY_INFO!W102,\"Non requis\")","v":1},{"$f":"IF(COUNTRY_INFO!H102=1, IF($E102=1,$D102, 0),0)","v":0},{"$f":"IF(COUNTRY_INFO!I102=1, IF(AND(COUNTRY_INFO!$I102=1,$F102<>0),IF(COUNTRY_INFO!M102>=(COUNTRY_INFO!F102+COUNTRY_INFO!G102),COUNTRY_INFO!F102+COUNTRY_INFO!G102,COUNTRY_INFO!$M102), 0),0)","v":33045},0,92526,0,92526,null,92526]
[{"$f":"IF(INTRO!$E$39=\"Non endémique\",\" \",IF(COUNTRY_INFO!A103=0,\" \",COUNTRY_INFO!A103))","v":"Côte d'Ivoire"},{"$f":"IF(INTRO!$E$39=\"Non endémique\",\" \",IF(COUNTRY_INFO!B103=0,\" \",COUNTRY_INFO!B103))","v":"PORO"},{"$f":"IF(INTRO!$E$39=\"Non endémique\",\" \",IF(COUNTRY_INFO!C103=0,\" \",COUNTRY_INFO!C103))","v":"DIKODOUGOU"},{"$f":"IF(INTRO!$E$39=\"Non endémique\",0,IF(INTRO!$E$39=\"Endémique mais pas de CP\",IF(COUNTRY_INFO!$H103=1,COUNTRY_INFO!F103+COUNTRY_INFO!G103,0),IF(COUNTRY_INFO!$H103=1,COUNTRY_INFO!F103+COUNTRY_INFO!G103,IF(COUNTRY_INFO!$I103=1,IF(COUNTRY_INFO!M103>=(COUNTRY_INFO!F103+COUNTRY_INFO!G103),COUNTRY_INFO!F103+COUNTRY_INFO!G103,COUNTRY_INFO!$M103),0))))","v":91871},{"$f":"IF(AND(INTRO!$E$39=\"Non endémique\",INTRO!$E$37=\"Non endémique\"),\"Non requis\",IF(INTRO!$E$39=\"Non endémique\",\"Traiter avec DEC\",COUNTRY_INFO!V103))","v":0},{"$f":"IF(INTRO!$E$39<>\"Non endémique\",COUNTRY_INFO!W103,\"Non requis\")","v":1},{"$f":"IF(COUNTRY_INFO!H103=1, IF($E103=1,$D103, 0),0)","v":0},{"$f":"IF(COUNTRY_INFO!I103=1, IF(AND(COUNTRY_INFO!$I103=1,$F103<>0),IF(COUNTRY_INFO!M103>=(COUNTRY_INFO!F103+COUNTRY_INFO!G103),COUNTRY_INFO!F103+COUNTRY_INFO!G103,COUNTRY_INFO!$M103), 0),0)","v":91871},0,257238.8,0,257238.8,null,257238.8]
[{"$f":"IF(INTRO!$E$39=\"Non endémique\",\" \",IF(COUNTRY_INFO!A104=0,\" \",COUNTRY_INFO!A104))","v":"Côte d'Ivoire"},{"$f":"IF(INTRO!$E$39=\"Non endémique\",\" \",IF(COUNTRY_INFO!B104=0,\" \",COUNTRY_INFO!B104))","v":"PORO"},{"$f":"IF(INTRO!$E$39=\"Non endémique\",\" \",IF(COUNTRY_INFO!C104=0,\" \",COUNTRY_INFO!C104))","v":"KORHOGO 1"},{"$f":"IF(INTRO!$E$39=\"Non endémique\",0,IF(INTRO!$E$39=\"Endémique mais pas de CP\",IF(COUNTRY_INFO!$H104=1,COUNTRY_INFO!F104+COUNTRY_INFO!G104,0),IF(COUNTRY_INFO!$H104=1,COUNTRY_INFO!F104+COUNTRY_INFO!G104,IF(COUNTRY_INFO!$I104=1,IF(COUNTRY_INFO!M104>=(COUNTRY_INFO!F104+COUNTRY_INFO!G104),COUNTRY_INFO!F104+COUNTRY_INFO!G104,COUNTRY_INFO!$M104),0))))","v":506154},{"$f":"IF(AND(INTRO!$E$39=\"Non endémique\",INTRO!$E$37=\"Non endémique\"),\"Non requis\",IF(INTRO!$E$39=\"Non endémique\",\"Traiter avec DEC\",COUNTRY_INFO!V104))","v":0},{"$f":"IF(INTRO!$E$39<>\"Non endémique\",COUNTRY_INFO!W104,\"Non requis\")","v":1},{"$f":"IF(COUNTRY_INFO!H104=1, IF($E104=1,$D104, 0),0)","v":0},{"$f":"IF(COUNTRY_INFO!I104=1, IF(AND(COUNTRY_INFO!$I104=1,$F104<>0),IF(COUNTRY_INFO!M104>=(COUNTRY_INFO!F104+COUNTRY_INFO!G104),COUNTRY_INFO!F104+COUNTRY_INFO!G104,COUNTRY_INFO!$M104), 0),0)","v":506154},0,1417231.2,0,1417231.2,null,1417231.2]
[{"$f":"IF(INTRO!$E$39=\"Non endémique\",\" \",IF(COUNTRY_INFO!A105=0,\" \",COUNTRY_INFO!A105))","v":"Côte d'Ivoire"},{"$f":"IF(INTRO!$E$39=\"Non endémique\",\" \",IF(COUNTRY_INFO!B105=0,\" \",COUNTRY_INFO!B105))","v":"PORO"},{"$f":"IF(INTRO!$E$39=\"Non endémique\",\" \",IF(COUNTRY_INFO!C105=0,\" \",COUNTRY_INFO!C105))","v":"KORHOGO 2"},{"$f":"IF(INTRO!$E$39=\"Non endémique\",0,IF(INTRO!$E$39=\"Endémique mais pas de CP\",IF(COUNTRY_INFO!$H105=1,COUNTRY_INFO!F105+COUNTRY_INFO!G105,0),IF(COUNTRY_INFO!$H105=1,COUNTRY_INFO!F105+COUNTRY_INFO!G105,IF(COUNTRY_INFO!$I105=1,IF(COUNTRY_INFO!M105>=(COUNTRY_INFO!F105+COUNTRY_INFO!G105),COUNTRY_INFO!F105+COUNTRY_INFO!G105,COUNTRY_INFO!$M105),0))))","v":105951},{"$f":"IF(AND(INTRO!$E$39=\"Non endémique\",INTRO!$E$37=\"Non endémique\"),\"Non requis\",IF(INTRO!$E$39=\"Non endémique\",\"Traiter avec DEC\",COUNTRY_INFO!V105))","v":0},{"$f":"IF(INTRO!$E$39<>\"Non endémique\",COUNTRY_INFO!W105,\"Non requis\")","v":1},{"$f":"IF(COUNTRY_INFO!H105=1, IF($E105=1,$D105, 0),0)","v":0},{"$f":"IF(COUNTRY_INFO!I105=1, IF(AND(COUNTRY_INFO!$I105=1,$F105<>0),IF(COUNTRY_INFO!M105>=(COUNTRY_INFO!F105+COUNTRY_INFO!G105),COUNTRY_INFO!F105+COUNTRY_INFO!G105,COUNTRY_INFO!$M105), 0),0)","v":105951},0,296662.8,0,296662.8,null,296662.8]
[{"$f":"IF(INTRO!$E$39=\"Non endémique\",\" \",IF(COUNTRY_INFO!A106=0,\" \",COUNTRY_INFO!A106))","v":"Côte d'Ivoire"},{"$f":"IF(INTRO!$E$39=\"Non endémique\",\" \",IF(COUNTRY_INFO!B106=0,\" \",COUNTRY_INFO!B106))","v":"PORO"},{"$f":"IF(INTRO!$E$39=\"Non endémique\",\" \",IF(COUNTRY_INFO!C106=0,\" \",COUNTRY_INFO!C106))","v":"M'BENGUE"},{"$f":"IF(INTRO!$E$39=\"Non endémique\",0,IF(INTRO!$E$39=\"Endémique mais pas de CP\",IF(COUNTRY_INFO!$H106=1,COUNTRY_INFO!F106+COUNTRY_INFO!G106,0),IF(COUNTRY_INFO!$H106=1,COUNTRY_INFO!F106+COUNTRY_INFO!G106,IF(COUNTRY_INFO!$I106=1,IF(COUNTRY_INFO!M106>=(COUNTRY_INFO!F106+COUNTRY_INFO!G106),COUNTRY_INFO!F106+COUNTRY_INFO!G106,COUNTRY_INFO!$M106),0))))","v":100119},{"$f":"IF(AND(INTRO!$E$39=\"Non endémique\",INTRO!$E$37=\"Non endémique\"),\"Non requis\",IF(INTRO!$E$39=\"Non endémique\",\"Traiter avec DEC\",COUNTRY_INFO!V106))","v":0},{"$f":"IF(INTRO!$E$39<>\"Non endémique\",COUNTRY_INFO!W106,\"Non requis\")","v":1},{"$f":"IF(COUNTRY_INFO!H106=1, IF($E106=1,$D106, 0),0)","v":0},{"$f":"IF(COUNTRY_INFO!I106=1, IF(AND(COUNTRY_INFO!$I106=1,$F106<>0),IF(COUNTRY_INFO!M106>=(COUNTRY_INFO!F106+COUNTRY_INFO!G106),COUNTRY_INFO!F106+COUNTRY_INFO!G106,COUNTRY_INFO!$M106), 0),0)","v":100119},{"$f":"IF(G106<H106,0,IF($E106=1, (G106-H106)*2.8, 0))","v":0},{"$f":"IF($E106<$F106, H106*(F106-E106)*2.8, 0)","v":280333.19999999995},0,280333.19999999995,null,280333.19999999995]
[{"$f":"IF(INTRO!$E$39=\"Non endémique\",\" \",IF(COUNTRY_INFO!A107=0,\" \",COUNTRY_INFO!A107))","v":"Côte d'Ivoire"},{"$f":"IF(INTRO!$E$39=\"Non endémique\",\" \",IF(COUNTRY_INFO!B107=0,\" \",COUNTRY_INFO!B107))","v":"PORO"},{"$f":"IF(INTRO!$E$39=\"Non endémique\",\" \",IF(COUNTRY_INFO!C107=0,\" \",COUNTRY_INFO!C107))","v":"SINEMENTILAI"},{"$f":"IF(INTRO!$E$39=\"Non endémique\",0,IF(INTRO!$E$39=\"Endémique mais pas de CP\",IF(COUNTRY_INFO!$H107=1,COUNTRY_INFO!F107+COUNTRY_INFO!G107,0),IF(COUNTRY_INFO!$H107=1,COUNTRY_INFO!F107+COUNTRY_INFO!G107,IF(COUNTRY_INFO!$I107=1,IF(COUNTRY_INFO!M107>=(COUNTRY_INFO!F107+COUNTRY_INFO!G107),COUNTRY_INFO!F107+COUNTRY_INFO!G107,COUNTRY_INFO!$M107),0))))","v":66827},{"$f":"IF(AND(INTRO!$E$39=\"Non endémique\",INTRO!$E$37=\"Non endémique\"),\"Non requis\",IF(INTRO!$E$39=\"Non endémique\",\"Traiter avec DEC\",COUNTRY_INFO!V107))","v":0},{"$f":"IF(INTRO!$E$39<>\"Non endémique\",COUNTRY_INFO!W107,\"Non requis\")","v":1},{"$f":"IF(COUNTRY_INFO!H107=1, IF($E107=1,$D107, 0),0)","v":0},{"$f":"IF(COUNTRY_INFO!I107=1, IF(AND(COUNTRY_INFO!$I107=1,$F107<>0),IF(COUNTRY_INFO!M107>=(COUNTRY_INFO!F107+COUNTRY_INFO!G107),COUNTRY_INFO!F107+COUNTRY_INFO!G107,COUNTRY_INFO!$M107), 0),0)","v":66827},0,187115.59999999998,0,187115.59999999998,null,187115.59999999998]
[{"$f":"IF(INTRO!$E$39=\"Non endémique\",\" \",IF(COUNTRY_INFO!A108=0,\" \",COUNTRY_INFO!A108))","v":"Côte d'Ivoire"},{"$f":"IF(INTRO!$E$39=\"Non endémique\",\" \",IF(COUNTRY_INFO!B108=0,\" \",COUNTRY_INFO!B108))","v":"SAN-PEDRO"},{"$f":"IF(INTRO!$E$39=\"Non endémique\",\" \",IF(COUNTRY_INFO!C108=0,\" \",COUNTRY_INFO!C108))","v":"SAN PEDRO"},{"$f":"IF(INTRO!$E$39=\"Non endémique\",0,IF(INTRO!$E$39=\"Endémique mais pas de CP\",IF(COUNTRY_INFO!$H108=1,COUNTRY_INFO!F108+COUNTRY_INFO!G108,0),IF(COUNTRY_INFO!$H108=1,COUNTRY_INFO!F108+COUNTRY_INFO!G108,IF(COUNTRY_INFO!$I108=1,IF(COUNTRY_INFO!M108>=(COUNTRY_INFO!F108+COUNTRY_INFO!G108),COUNTRY_INFO!F108+COUNTRY_INFO!G108,COUNTRY_INFO!$M108),0))))","v":0},{"$f":"IF(AND(INTRO!$E$39=\"Non endémique\",INTRO!$E$37=\"Non endémique\"),\"Non requis\",IF(INTRO!$E$39=\"Non endémique\",\"Traiter avec DEC\",COUNTRY_INFO!V108))","v":0},{"$f":"IF(INTRO!$E$39<>\"Non endémique\",COUNTRY_INFO!W108,\"Non requis\")","v":0},{"$f":"IF(COUNTRY_INFO!H108=1, IF($E108=1,$D108, 0),0)","v":0},{"$f":"IF(COUNTRY_INFO!I108=1, IF(AND(COUNTRY_INFO!$I108=1,$F108<>0),IF(COUNTRY_INFO!M108>=(COUNTRY_INFO!F108+COUNTRY_INFO!G108),COUNTRY_INFO!F108+COUNTRY_INFO!G108,COUNTRY_INFO!$M108), 0),0)","v":0},0,0,0,0,null,0]
[{"$f":"IF(INTRO!$E$39=\"Non endémique\",\" \",IF(COUNTRY_INFO!A109=0,\" \",COUNTRY_INFO!A109))","v":"Côte d'Ivoire"},{"$f":"IF(INTRO!$E$39=\"Non endémique\",\" \",IF(COUNTRY_INFO!B109=0,\" \",COUNTRY_INFO!B109))","v":"SAN-PEDRO"},{"$f":"IF(INTRO!$E$39=\"Non endémique\",\" \",IF(COUNTRY_INFO!C109=0,\" \",COUNTRY_INFO!C109))","v":"TABOU"},{"$f":"IF(INTRO!$E$39=\"Non endémique\",0,IF(INTRO!$E$39=\"Endémique mais pas de CP\",IF(COUNTRY_INFO!$H109=1,COUNTRY_INFO!F109+COUNTRY_INFO!G109,0),IF(COUNTRY_INFO!$H109=1,COUNTRY_INFO!F109+COUNTRY_INFO!G109,IF(COUNTRY_INFO!$I109=1,IF(COUNTRY_INFO!M109>=(COUNTRY_INFO!F109+COUNTRY_INFO!G109),COUNTRY_INFO!F109+COUNTRY_INFO!G109,COUNTRY_INFO!$M109),0))))","v":189577},{"$f":"IF(AND(INTRO!$E$39=\"Non endémique\",INTRO!$E$37=\"Non endémique\"),\"Non requis\",IF(INTRO!$E$39=\"Non endémique\",\"Traiter avec DEC\",COUNTRY_INFO!V109))","v":0},{"$f":"IF(INTRO!$E$39<>\"Non endémique\",COUNTRY_INFO!W109,\"Non requis\")","v":1},{"$f":"IF(COUNTRY_INFO!H109=1, IF($E109=1,$D109, 0),0)","v":0},{"$f":"IF(COUNTRY_INFO!I109=1, IF(AND(COUNTRY_INFO!$I109=1,$F109<>0),IF(COUNTRY_INFO!M109>=(COUNTRY_INFO!F109+COUNTRY_INFO!G109),COUNTRY_INFO!F109+COUNTRY_INFO!G109,COUNTRY_INFO!$M109), 0),0)","v":189577},0,530815.6,0,530815.6,null,530815.6]
[{"$f":"IF(INTRO!$E$39=\"Non endémique\",\" \",IF(COUNTRY_INFO!A110=0,\" \",COUNTRY_INFO!A110))","v":"Côte d'Ivoire"},{"$f":"IF(INTRO!$E$39=\"Non endémique\",\" \",IF(COUNTRY_INFO!B110=0,\" \",COUNTRY_INFO!B110))","v":"SUD-COMOE"},{"$f":"IF(INTRO!$E$39=\"Non endémique\",\" \",IF(COUNTRY_INFO!C110=0,\" \",COUNTRY_INFO!C110))","v":"ABOISSO"},{"$f":"IF(INTRO!$E$39=\"Non endémique\",0,IF(INTRO!$E$39=\"Endémique mais pas de CP\",IF(COUNTRY_INFO!$H110=1,COUNTRY_INFO!F110+COUNTRY_INFO!G110,0),IF(COUNTRY_INFO!$H110=1,COUNTRY_INFO!F110+COUNTRY_INFO!G110,IF(COUNTRY_INFO!$I110=1,IF(COUNTRY_INFO!M110>=(COUNTRY_INFO!F110+COUNTRY_INFO!G110),COUNTRY_INFO!F110+COUNTRY_INFO!G110,COUNTRY_INFO!$M110),0))))","v":300154},{"$f":"IF(AND(INTRO!$E$39=\"Non endémique\",INTRO!$E$37=\"Non endémique\"),\"Non requis\",IF(INTRO!$E$39=\"Non endémique\",\"Traiter avec DEC\",COUNTRY_INFO!V110))","v":0},{"$f":"IF(INTRO!$E$39<>\"Non endémique\",COUNTRY_INFO!W110,\"Non requis\")","v":1},{"$f":"IF(COUNTRY_INFO!H110=1, IF($E110=1,$D110, 0),0)","v":0},{"$f":"IF(COUNTRY_INFO!I110=1, IF(AND(COUNTRY_INFO!$I110=1,$F110<>0),IF(COUNTRY_INFO!M110>=(COUNTRY_INFO!F110+COUNTRY_INFO!G110),COUNTRY_INFO!F110+COUNTRY_INFO!G110,COUNTRY_INFO!$M110), 0),0)","v":300154},0,840431.2,0,840431.2,null,840431.2]
[{"$f":"IF(INTRO!$E$39=\"Non endémique\",\" \",IF(COUNTRY_INFO!A111=0,\" \",COUNTRY_INFO!A111))","v":"Côte d'Ivoire"},{"$f":"IF(INTRO!$E$39=\"Non endémique\",\" \",IF(COUNTRY_INFO!B111=0,\" \",COUNTRY_INFO!B111))","v":"SUD-COMOE"},{"$f":"IF(INTRO!$E$39=\"Non endémique\",\" \",IF(COUNTRY_INFO!C111=0,\" \",COUNTRY_INFO!C111))","v":"ADIAKE"},{"$f":"IF(INTRO!$E$39=\"Non endémique\",0,IF(INTRO!$E$39=\"Endémique mais pas de CP\",IF(COUNTRY_INFO!$H111=1,COUNTRY_INFO!F111+COUNTRY_INFO!G111,0),IF(COUNTRY_INFO!$H111=1,COUNTRY_INFO!F111+COUNTRY_INFO!G111,IF(COUNTRY_INFO!$I111=1,IF(COUNTRY_INFO!M111>=(COUNTRY_INFO!F111+COUNTRY_INFO!G111),COUNTRY_INFO!F111+COUNTRY_INFO!G111,COUNTRY_INFO!$M111),0))))","v":81457},{"$f":"IF(AND(INTRO!$E$39=\"Non endémique\",INTRO!$E$37=\"Non endémique\"),\"Non requis\",IF(INTRO!$E$39=\"Non endémique\",\"Traiter avec DEC\",COUNTRY_INFO!V111))","v":0},{"$f":"IF(INTRO!$E$39<>\"Non endémique\",COUNTRY_INFO!W111,\"Non requis\")","v":1},{"$f":"IF(COUNTRY_INFO!H111=1, IF($E111=1,$D111, 0),0)","v":0},{"$f":"IF(COUNTRY_INFO!I111=1, IF(AND(COUNTRY_INFO!$I111=1,$F111<>0),IF(COUNTRY_INFO!M111>=(COUNTRY_INFO!F111+COUNTRY_INFO!G111),COUNTRY_INFO!F111+COUNTRY_INFO!G111,COUNTRY_INFO!$M111), 0),0)","v":81457},0,228079.59999999998,0,228079.59999999998,null,228079.59999999998]
[{"$f":"IF(INTRO!$E$39=\"Non endémique\",\" \",IF(COUNTRY_INFO!A112=0,\" \",COUNTRY_INFO!A112))","v":"Côte d'Ivoire"},{"$f":"IF(INTRO!$E$39=\"Non endémique\",\" \",IF(COUNTRY_INFO!B112=0,\" \",COUNTRY_INFO!B112))","v":"SUD-COMOE"},{"$f":"IF(INTRO!$E$39=\"Non endémique\",\" \",IF(COUNTRY_INFO!C112=0,\" \",COUNTRY_INFO!C112))","v":"GRAND-BASSAM"},{"$f":"IF(INTRO!$E$39=\"Non endémique\",0,IF(INTRO!$E$39=\"Endémique mais pas de CP\",IF(COUNTRY_INFO!$H112=1,COUNTRY_INFO!F112+COUNTRY_INFO!G112,0),IF(COUNTRY_INFO!$H112=1,COUNTRY_INFO!F112+COUNTRY_INFO!G112,IF(COUNTRY_INFO!$I112=1,IF(COUNTRY_INFO!M112>=(COUNTRY_INFO!F112+COUNTRY_INFO!G112),COUNTRY_INFO!F112+COUNTRY_INFO!G112,COUNTRY_INFO!$M112),0))))","v":174587},{"$f":"IF(AND(INTRO!$E$39=\"Non endémique\",INTRO!$E$37=\"Non endémique\"),\"Non requis\",IF(INTRO!$E$39=\"Non endémique\",\"Traiter avec DEC\",COUNTRY_INFO!V112))","v":0},{"$f":"IF(INTRO!$E$39<>\"Non endémique\",COUNTRY_INFO!W112,\"Non requis\")","v":1},{"$f":"IF(COUNTRY_INFO!H112=1, IF($E112=1,$D112, 0),0)","v":0},{"$f":"IF(COUNTRY_INFO!I112=1, IF(AND(COUNTRY_INFO!$I112=1,$F112<>0),IF(COUNTRY_INFO!M112>=(COUNTRY_INFO!F112+COUNTRY_INFO!G112),COUNTRY_INFO!F112+COUNTRY_INFO!G112,COUNTRY_INFO!$M112), 0),0)","v":174587},0,488843.6,0,488843.6,null,488843.6]
[{"$f":"IF(INTRO!$E$39=\"Non endémique\",\" \",IF(COUNTRY_INFO!A113=0,\" \",COUNTRY_INFO!A113))","v":"Côte d'Ivoire"},{"$f":"IF(INTRO!$E$39=\"Non endémique\",\" \",IF(COUNTRY_INFO!B113=0,\" \",COUNTRY_INFO!B113))","v":"SUD-COMOE"},{"$f":"IF(INTRO!$E$39=\"Non endémique\",\" \",IF(COUNTRY_INFO!C113=0,\" \",COUNTRY_INFO!C113))","v":"TIAPOUM"},{"$f":"IF(INTRO!$E$39=\"Non endémique\",0,IF(INTRO!$E$39=\"Endémique mais pas de CP\",IF(COUNTRY_INFO!$H113=1,COUNTRY_INFO!F113+COUNTRY_INFO!G113,0),IF(COUNTRY_INFO!$H113=1,COUNTRY_INFO!F113+COUNTRY_INFO!G113,IF(COUNTRY_INFO!$I113=1,IF(COUNTRY_INFO!M113>=(COUNTRY_INFO!F113+COUNTRY_INFO!G113),COUNTRY_INFO!F113+COUNTRY_INFO!G113,COUNTRY_INFO!$M113),0))))","v":70354},{"$f":"IF(AND(INTRO!$E$39=\"Non endémique\",INTRO!$E$37=\"Non endémique\"),\"Non requis\",IF(INTRO!$E$39=\"Non endémique\",\"Traiter avec DEC\",COUNTRY_INFO!V113))","v":0},{"$f":"IF(INTRO!$E$39<>\"Non endémique\",COUNTRY_INFO!W113,\"Non requis\")","v":1},{"$f":"IF(COUNTRY_INFO!H113=1, IF($E113=1,$D113, 0),0)","v":0},{"$f":"IF(COUNTRY_INFO!I113=1, IF(AND(COUNTRY_INFO!$I113=1,$F113<>0),IF(COUNTRY_INFO!M113>=(COUNTRY_INFO!F113+COUNTRY_INFO!G113),COUNTRY_INFO!F113+COUNTRY_INFO!G113,COUNTRY_INFO!$M113), 0),0)","v":70354},0,196991.19999999998,0,196991.19999999998,null,196991.19999999998]
[{"$f":"IF(INTRO!$E$39=\"Non endémique\",\" \",IF(COUNTRY_INFO!A114=0,\" \",COUNTRY_INFO!A114))","v":"Côte d'Ivoire"},{"$f":"IF(INTRO!$E$39=\"Non endémique\",\" \",IF(COUNTRY_INFO!B114=0,\" \",COUNTRY_INFO!B114))","v":"TCHOLOGO"},{"$f":"IF(INTRO!$E$39=\"Non endémique\",\" \",IF(COUNTRY_INFO!C114=0,\" \",COUNTRY_INFO!C114))","v":"FERKESSEDOUGOU"},{"$f":"IF(INTRO!$E$39=\"Non endémique\",0,IF(INTRO!$E$39=\"Endémique mais pas de CP\",IF(COUNTRY_INFO!$H114=1,COUNTRY_INFO!F114+COUNTRY_INFO!G114,0),IF(COUNTRY_INFO!$H114=1,COUNTRY_INFO!F114+COUNTRY_INFO!G114,IF(COUNTRY_INFO!$I114=1,IF(COUNTRY_INFO!M114>=(COUNTRY_INFO!F114+COUNTRY_INFO!G114),COUNTRY_INFO!F114+COUNTRY_INFO!G114,COUNTRY_INFO!$M114),0))))","v":168402},{"$f":"IF(AND(INTRO!$E$39=\"Non endémique\",INTRO!$E$37=\"Non endémique\"),\"Non requis\",IF(INTRO!$E$39=\"Non endémique\",\"Traiter avec DEC\",COUNTRY_INFO!V114))","v":0},{"$f":"IF(INTRO!$E$39<>\"Non endémique\",COUNTRY_INFO!W114,\"Non requis\")","v":1},{"$f":"IF(COUNTRY_INFO!H114=1, IF($E114=1,$D114, 0),0)","v":0},{"$f":"IF(COUNTRY_INFO!I114=1, IF(AND(COUNTRY_INFO!$I114=1,$F114<>0),IF(COUNTRY_INFO!M114>=(COUNTRY_INFO!F114+COUNTRY_INFO!G114),COUNTRY_INFO!F114+COUNTRY_INFO!G114,COUNTRY_INFO!$M114), 0),0)","v":168402},0,471525.6,0,471525.6,null,471525.6]
[{"$f":"IF(INTRO!$E$39=\"Non endémique\",\" \",IF(COUNTRY_INFO!A115=0,\" \",COUNTRY_INFO!A115))","v":"Côte d'Ivoire"},{"$f":"IF(INTRO!$E$39=\"Non endémique\",\" \",IF(COUNTRY_INFO!B115=0,\" \",COUNTRY_INFO!B115))","v":"TCHOLOGO"},{"$f":"IF(INTRO!$E$39=\"Non endémique\",\" \",IF(COUNTRY_INFO!C115=0,\" \",COUNTRY_INFO!C115))","v":"KONG"},{"$f":"IF(INTRO!$E$39=\"Non endémique\",0,IF(INTRO!$E$39=\"Endémique mais pas de CP\",IF(COUNTRY_INFO!$H115=1,COUNTRY_INFO!F115+COUNTRY_INFO!G115,0),IF(COUNTRY_INFO!$H115=1,COUNTRY_INFO!F115+COUNTRY_INFO!G115,IF(COUNTRY_INFO!$I115=1,IF(COUNTRY_INFO!M115>=(COUNTRY_INFO!F115+COUNTRY_INFO!G115),COUNTRY_INFO!F115+COUNTRY_INFO!G115,COUNTRY_INFO!$M115),0))))","v":103360},{"$f":"IF(AND(INTRO!$E$39=\"Non endémique\",INTRO!$E$37=\"Non endémique\"),\"Non requis\",IF(INTRO!$E$39=\"Non endémique\",\"Traiter avec DEC\",COUNTRY_INFO!V115))","v":0},{"$f":"IF(INTRO!$E$39<>\"Non endémique\",COUNTRY_INFO!W115,\"Non requis\")","v":1},{"$f":"IF(COUNTRY_INFO!H115=1, IF($E115=1,$D115, 0),0)","v":0},{"$f":"IF(COUNTRY_INFO!I115=1, IF(AND(COUNTRY_INFO!$I115=1,$F115<>0),IF(COUNTRY_INFO!M115>=(COUNTRY_INFO!F115+COUNTRY_INFO!G115),COUNTRY_INFO!F115+COUNTRY_INFO!G115,COUNTRY_INFO!$M115), 0),0)","v":103360},0,289408,0,289408,null,289408]
[{"$f":"IF(INTRO!$E$39=\"Non endémique\",\" \",IF(COUNTRY_INFO!A116=0,\" \",COUNTRY_INFO!A116))","v":"Côte d'Ivoire"},{"$f":"IF(INTRO!$E$39=\"Non endémique\",\" \",IF(COUNTRY_INFO!B116=0,\" \",COUNTRY_INFO!B116))","v":"TCHOLOGO"},{"$f":"IF(INTRO!$E$39=\"Non endémique\",\" \",IF(COUNTRY_INFO!C116=0,\" \",COUNTRY_INFO!C116))","v":"OUANGOLODOUGOU"},{"$f":"IF(INTRO!$E$39=\"Non endémique\",0,IF(INTRO!$E$39=\"Endémique mais pas de CP\",IF(COUNTRY_INFO!$H116=1,COUNTRY_INFO!F116+COUNTRY_INFO!G116,0),IF(COUNTRY_INFO!$H116=1,COUNTRY_INFO!F116+COUNTRY_INFO!G116,IF(COUNTRY_INFO!$I116=1,IF(COUNTRY_INFO!M116>=(COUNTRY_INFO!F116+COUNTRY_INFO!G116),COUNTRY_INFO!F116+COUNTRY_INFO!G116,COUNTRY_INFO!$M116),0))))","v":278313},{"$f":"IF(AND(INTRO!$E$39=\"Non endémique\",INTRO!$E$37=\"Non endémique\"),\"Non requis\",IF(INTRO!$E$39=\"Non endémique\",\"Traiter avec DEC\",COUNTRY_INFO!V116))","v":0},{"$f":"IF(INTRO!$E$39<>\"Non endémique\",COUNTRY_INFO!W116,\"Non requis\")","v":1},{"$f":"IF(COUNTRY_INFO!H116=1, IF($E116=1,$D116, 0),0)","v":0},{"$f":"IF(COUNTRY_INFO!I116=1, IF(AND(COUNTRY_INFO!$I116=1,$F116<>0),IF(COUNTRY_INFO!M116>=(COUNTRY_INFO!F116+COUNTRY_INFO!G116),COUNTRY_INFO!F116+COUNTRY_INFO!G116,COUNTRY_INFO!$M116), 0),0)","v":278313},0,779276.39999999991,0,779276.39999999991,null,779276.39999999991]
[{"$f":"IF(INTRO!$E$39=\"Non endémique\",\" \",IF(COUNTRY_INFO!A117=0,\" \",COUNTRY_INFO!A117))","v":"Côte d'Ivoire"},{"$f":"IF(INTRO!$E$39=\"Non endémique\",\" \",IF(COUNTRY_INFO!B117=0,\" \",COUNTRY_INFO!B117))","v":"TONKPI"},{"$f":"IF(INTRO!$E$39=\"Non endémique\",\" \",IF(COUNTRY_INFO!C117=0,\" \",COUNTRY_INFO!C117))","v":"BIANKOUMA"},{"$f":"IF(INTRO!$E$39=\"Non endémique\",0,IF(INTRO!$E$39=\"Endémique mais pas de CP\",IF(COUNTRY_INFO!$H117=1,COUNTRY_INFO!F117+COUNTRY_INFO!G117,0),IF(COUNTRY_INFO!$H117=1,COUNTRY_INFO!F117+COUNTRY_INFO!G117,IF(COUNTRY_INFO!$I117=1,IF(COUNTRY_INFO!M117>=(COUNTRY_INFO!F117+COUNTRY_INFO!G117),COUNTRY_INFO!F117+COUNTRY_INFO!G117,COUNTRY_INFO!$M117),0))))","v":205130},{"$f":"IF(AND(INTRO!$E$39=\"Non endémique\",INTRO!$E$37=\"Non endémique\"),\"Non requis\",IF(INTRO!$E$39=\"Non endémique\",\"Traiter avec DEC\",COUNTRY_INFO!V117))","v":0},{"$f":"IF(INTRO!$E$39<>\"Non endémique\",COUNTRY_INFO!W117,\"Non requis\")","v":1},{"$f":"IF(COUNTRY_INFO!H117=1, IF($E117=1,$D117, 0),0)","v":0},{"$f":"IF(COUNTRY_INFO!I117=1, IF(AND(COUNTRY_INFO!$I117=1,$F117<>0),IF(COUNTRY_INFO!M117>=(COUNTRY_INFO!F117+COUNTRY_INFO!G117),COUNTRY_INFO!F117+COUNTRY_INFO!G117,COUNTRY_INFO!$M117), 0),0)","v":205130},0,574364,0,574364,null,574364]
[{"$f":"IF(INTRO!$E$39=\"Non endémique\",\" \",IF(COUNTRY_INFO!A118=0,\" \",COUNTRY_INFO!A118))","v":"Côte d'Ivoire"},{"$f":"IF(INTRO!$E$39=\"Non endémique\",\" \",IF(COUNTRY_INFO!B118=0,\" \",COUNTRY_INFO!B118))","v":"TONKPI"},{"$f":"IF(INTRO!$E$39=\"Non endémique\",\" \",IF(COUNTRY_INFO!C118=0,\" \",COUNTRY_INFO!C118))","v":"DANANE"},{"$f":"IF(INTRO!$E$39=\"Non endémique\",0,IF(INTRO!$E$39=\"Endémique mais pas de CP\",IF(COUNTRY_INFO!$H118=1,COUNTRY_INFO!F118+COUNTRY_INFO!G118,0),IF(COUNTRY_INFO!$H118=1,COUNTRY_INFO!F118+COUNTRY_INFO!G118,IF(COUNTRY_INFO!$I118=1,IF(COUNTRY_INFO!M118>=(COUNTRY_INFO!F118+COUNTRY_INFO!G118),COUNTRY_INFO!F118+COUNTRY_INFO!G118,COUNTRY_INFO!$M118),0))))","v":279353},{"$f":"IF(AND(INTRO!$E$39=\"Non endémique\",INTRO!$E$37=\"Non endémique\"),\"Non requis\",IF(INTRO!$E$39=\"Non endémique\",\"Traiter avec DEC\",COUNTRY_INFO!V118))","v":0},{"$f":"IF(INTRO!$E$39<>\"Non endémique\",COUNTRY_INFO!W118,\"Non requis\")","v":1},{"$f":"IF(COUNTRY_INFO!H118=1, IF($E118=1,$D118, 0),0)","v":0},{"$f":"IF(COUNTRY_INFO!I118=1, IF(AND(COUNTRY_INFO!$I118=1,$F118<>0),IF(COUNTRY_INFO!M118>=(COUNTRY_INFO!F118+COUNTRY_INFO!G118),COUNTRY_INFO!F118+COUNTRY_INFO!G118,COUNTRY_INFO!$M118), 0),0)","v":279353},0,782188.39999999991,0,782188.39999999991,null,782188.39999999991]
[{"$f":"IF(INTRO!$E$39=\"Non endémique\",\" \",IF(COUNTRY_INFO!A119=0,\" \",COUNTRY_INFO!A119))","v":"Côte d'Ivoire"},{"$f":"IF(INTRO!$E$39=\"Non endémique\",\" \",IF(COUNTRY_INFO!B119=0,\" \",COUNTRY_INFO!B119))","v":"TONKPI"},{"$f":"IF(INTRO!$E$39=\"Non endémique\",\" \",IF(COUNTRY_INFO!C119=0,\" \",COUNTRY_INFO!C119))","v":"MAN"},{"$f":"IF(INTRO!$E$39=\"Non endémique\",0,IF(INTRO!$E$39=\"Endémique mais pas de CP\",IF(COUNTRY_INFO!$H119=1,COUNTRY_INFO!F119+COUNTRY_INFO!G119,0),IF(COUNTRY_INFO!$H119=1,COUNTRY_INFO!F119+COUNTRY_INFO!G119,IF(COUNTRY_INFO!$I119=1,IF(COUNTRY_INFO!M119>=(COUNTRY_INFO!F119+COUNTRY_INFO!G119),COUNTRY_INFO!F119+COUNTRY_INFO!G119,COUNTRY_INFO!$M119),0))))","v":349436},{"$f":"IF(AND(INTRO!$E$39=\"Non endémique\",INTRO!$E$37=\"Non endémique\"),\"Non requis\",IF(INTRO!$E$39=\"Non endémique\",\"Traiter avec DEC\",COUNTRY_INFO!V119))","v":0},{"$f":"IF(INTRO!$E$39<>\"Non endémique\",COUNTRY_INFO!W119,\"Non requis\")","v":1},{"$f":"IF(COUNTRY_INFO!H119=1, IF($E119=1,$D119, 0),0)","v":0},{"$f":"IF(COUNTRY_INFO!I119=1, IF(AND(COUNTRY_INFO!$I119=1,$F119<>0),IF(COUNTRY_INFO!M119>=(COUNTRY_INFO!F119+COUNTRY_INFO!G119),COUNTRY_INFO!F119+COUNTRY_INFO!G119,COUNTRY_INFO!$M119), 0),0)","v":349436},0,978420.79999999993,0,978420.79999999993,null,978420.79999999993]
[{"$f":"IF(INTRO!$E$39=\"Non endémique\",\" \",IF(COUNTRY_INFO!A120=0,\" \",COUNTRY_INFO!A120))","v":"Côte d'Ivoire"},{"$f":"IF(INTRO!$E$39=\"Non endémique\",\" \",IF(COUNTRY_INFO!B120=0,\" \",COUNTRY_INFO!B120))","v":"TONKPI"},{"$f":"IF(INTRO!$E$39=\"Non endémique\",\" \",IF(COUNTRY_INFO!C120=0,\" \",COUNTRY_INFO!C120))","v":"ZOUAN-HOUNIEN"},{"$f":"IF(INTRO!$E$39=\"Non endémique\",0,IF(INTRO!$E$39=\"Endémique mais pas de CP\",IF(COUNTRY_INFO!$H120=1,COUNTRY_INFO!F120+COUNTRY_INFO!G120,0),IF(COUNTRY_INFO!$H120=1,COUNTRY_INFO!F120+COUNTRY_INFO!G120,IF(COUNTRY_INFO!$I120=1,IF(COUNTRY_INFO!M120>=(COUNTRY_INFO!F120+COUNTRY_INFO!G120),COUNTRY_INFO!F120+COUNTRY_INFO!G120,COUNTRY_INFO!$M120),0))))","v":203995},{"$f":"IF(AND(INTRO!$E$39=\"Non endémique\",INTRO!$E$37=\"Non endémique\"),\"Non requis\",IF(INTRO!$E$39=\"Non endémique\",\"Traiter avec DEC\",COUNTRY_INFO!V120))","v":1},{"$f":"IF(INTRO!$E$39<>\"Non endémique\",COUNTRY_INFO!W120,\"Non requis\")","v":1},{"$f":"IF(COUNTRY_INFO!H120=1, IF($E120=1,$D120, 0),0)","v":203995},{"$f":"IF(COUNTRY_INFO!I120=1, IF(AND(COUNTRY_INFO!$I120=1,$F120<>0),IF(COUNTRY_INFO!M120>=(COUNTRY_INFO!F120+COUNTRY_INFO!G120),COUNTRY_INFO!F120+COUNTRY_INFO!G120,COUNTRY_INFO!$M120), 0),0)","v":203995},0,0,571186,571186,null,571186]
[{"$f":"IF(INTRO!$E$39=\"Non endémique\",\" \",IF(COUNTRY_INFO!A121=0,\" \",COUNTRY_INFO!A121))","v":"Côte d'Ivoire"},{"$f":"IF(INTRO!$E$39=\"Non endémique\",\" \",IF(COUNTRY_INFO!B121=0,\" \",COUNTRY_INFO!B121))","v":"WORODOUGOU"},{"$f":"IF(INTRO!$E$39=\"Non endémique\",\" \",IF(COUNTRY_INFO!C121=0,\" \",COUNTRY_INFO!C121))","v":"KANI"},{"$f":"IF(INTRO!$E$39=\"Non endémique\",0,IF(INTRO!$E$39=\"Endémique mais pas de CP\",IF(COUNTRY_INFO!$H121=1,COUNTRY_INFO!F121+COUNTRY_INFO!G121,0),IF(COUNTRY_INFO!$H121=1,COUNTRY_INFO!F121+COUNTRY_INFO!G121,IF(COUNTRY_INFO!$I121=1,IF(COUNTRY_INFO!M121>=(COUNTRY_INFO!F121+COUNTRY_INFO!G121),COUNTRY_INFO!F121+COUNTRY_INFO!G121,COUNTRY_INFO!$M121),0))))","v":73239},{"$f":"IF(AND(INTRO!$E$39=\"Non endémique\",INTRO!$E$37=\"Non endémique\"),\"Non requis\",IF(INTRO!$E$39=\"Non endémique\",\"Traiter avec DEC\",COUNTRY_INFO!V121))","v":0},{"$f":"IF(INTRO!$E$39<>\"Non endémique\",COUNTRY_INFO!W121,\"Non requis\")","v":1},{"$f":"IF(COUNTRY_INFO!H121=1, IF($E121=1,$D121, 0),0)","v":0},{"$f":"IF(COUNTRY_INFO!I121=1, IF(AND(COUNTRY_INFO!$I121=1,$F121<>0),IF(COUNTRY_INFO!M121>=(COUNTRY_INFO!F121+COUNTRY_INFO!G121),COUNTRY_INFO!F121+COUNTRY_INFO!G121,COUNTRY_INFO!$M121), 0),0)","v":73239},0,205069.19999999998,0,205069.19999999998,null,205069.19999999998]
[{"$f":"IF(INTRO!$E$39=\"Non endémique\",\" \",IF(COUNTRY_INFO!A122=0,\" \",COUNTRY_INFO!A122))","v":"Côte d'Ivoire"},{"$f":"IF(INTRO!$E$39=\"Non endémique\",\" \",IF(COUNTRY_INFO!B122=0,\" \",COUNTRY_INFO!B122))","v":"WORODOUGOU"},{"$f":"IF(INTRO!$E$39=\"Non endémique\",\" \",IF(COUNTRY_INFO!C122=0,\" \",COUNTRY_INFO!C122))","v":"SEGUELA"},{"$f":"IF(INTRO!$E$39=\"Non endémique\",0,IF(INTRO!$E$39=\"Endémique mais pas de CP\",IF(COUNTRY_INFO!$H122=1,COUNTRY_INFO!F122+COUNTRY_INFO!G122,0),IF(COUNTRY_INFO!$H122=1,COUNTRY_INFO!F122+COUNTRY_INFO!G122,IF(COUNTRY_INFO!$I122=1,IF(COUNTRY_INFO!M122>=(COUNTRY_INFO!F122+COUNTRY_INFO!G122),COUNTRY_INFO!F122+COUNTRY_INFO!G122,COUNTRY_INFO!$M122),0))))","v":196703},{"$f":"IF(AND(INTRO!$E$39=\"Non endémique\",INTRO!$E$37=\"Non endémique\"),\"Non requis\",IF(INTRO!$E$39=\"Non endémique\",\"Traiter avec DEC\",COUNTRY_INFO!V122))","v":0},{"$f":"IF(INTRO!$E$39<>\"Non endémique\",COUNTRY_INFO!W122,\"Non requis\")","v":1},{"$f":"IF(COUNTRY_INFO!H122=1, IF($E122=1,$D122, 0),0)","v":0},{"$f":"IF(COUNTRY_INFO!I122=1, IF(AND(COUNTRY_INFO!$I122=1,$F122<>0),IF(COUNTRY_INFO!M122>=(COUNTRY_INFO!F122+COUNTRY_INFO!G122),COUNTRY_INFO!F122+COUNTRY_INFO!G122,COUNTRY_INFO!$M122), 0),0)","v":196703},0,550768.39999999991,0,550768.39999999991,null,550768.39999999991]

{"sheet":"IVM+","index":7,"n_rows":122,"n_cols":8,"rows_kept":122,"cut":false,"hidden":true,"merged":[[6,0,7,0],[6,1,7,1],[6,2,7,2],[6,3,7,3],[3,0,3,2],[5,0,5,2],[6,5,7,5],[6,6,7,6],[6,7,7,7],[5,4,7,4],[5,5,5,7]]}
["Ivermectine (IVM) pour IDA thérapie"]
["Structure administrative, population ciblée par groupe d'âge, plan de traitement et information sur les comprimés"]
[]
["TOTAL",null,null,null,{"$f":"SUBTOTAL(9,E$10:E$1010)","v":0},0,0,0]
[]
["Structure administrative du pays",null,null,"Plan de traitement","Population nécessitant un traitement avec IVM\n(IDA thérapie)","Ivermectine (IVM)"]
["Pays","Région/Département","District","FL",null,"Total requis","Reste en stock","Comprimés devant être fournis"]
[]
[]
[{"$f":"IF(AND(INTRO!$E$37=\"Endémique\",INTRO!$E$39=\"Non endémique\"),IF(COUNTRY_INFO!A10=0,\" \",COUNTRY_INFO!A10),\" \")","v":" "},{"$f":"IF(AND(INTRO!$E$37=\"Endémique\",INTRO!$E$39=\"Non endémique\"),IF(COUNTRY_INFO!B10=0,\" \",COUNTRY_INFO!B10),\" \")","v":" "},{"$f":"IF(AND(INTRO!$E$37=\"Endémique\",INTRO!$E$39=\"Non endémique\"),IF(COUNTRY_INFO!C10=0,\" \",COUNTRY_INFO!C10),\" \")","v":" "},{"$f":"IF(COUNTRY_INFO!Z10<>\"\",COUNTRY_INFO!V10,0)","v":0},{"$f":"IF(AND(COUNTRY_INFO!Z10<>\"\",COUNTRY_INFO!$H10=1),COUNTRY_INFO!F10+COUNTRY_INFO!G10,0)","v":0},{"$f":"E10*2.8","v":0},null,{"$f":"IF($F10>$G10,$F10-$G10,0)","v":0}]
[{"$f":"IF(AND(INTRO!$E$37=\"Endémique\",INTRO!$E$39=\"Non endémique\"),IF(COUNTRY_INFO!A11=0,\" \",COUNTRY_INFO!A11),\" \")","v":" "},{"$f":"IF(AND(INTRO!$E$37=\"Endémique\",INTRO!$E$39=\"Non endémique\"),IF(COUNTRY_INFO!B11=0,\" \",COUNTRY_INFO!B11),\" \")","v":" "},{"$f":"IF(AND(INTRO!$E$37=\"Endémique\",INTRO!$E$39=\"Non endémique\"),IF(COUNTRY_INFO!C11=0,\" \",COUNTRY_INFO!C11),\" \")","v":" "},{"$f":"IF(COUNTRY_INFO!Z11<>\"\",COUNTRY_INFO!V11,0)","v":0},{"$f":"IF(AND(COUNTRY_INFO!Z11<>\"\",COUNTRY_INFO!$H11=1),COUNTRY_INFO!F11+COUNTRY_INFO!G11,0)","v":0},{"$f":"E11*2.8","v":0},null,0]
[{"$f":"IF(AND(INTRO!$E$37=\"Endémique\",INTRO!$E$39=\"Non endémique\"),IF(COUNTRY_INFO!A12=0,\" \",COUNTRY_INFO!A12),\" \")","v":" "},{"$f":"IF(AND(INTRO!$E$37=\"Endémique\",INTRO!$E$39=\"Non endémique\"),IF(COUNTRY_INFO!B12=0,\" \",COUNTRY_INFO!B12),\" \")","v":" "},{"$f":"IF(AND(INTRO!$E$37=\"Endémique\",INTRO!$E$39=\"Non endémique\"),IF(COUNTRY_INFO!C12=0,\" \",COUNTRY_INFO!C12),\" \")","v":" "},{"$f":"IF(COUNTRY_INFO!Z12<>\"\",COUNTRY_INFO!V12,0)","v":0},{"$f":"IF(AND(COUNTRY_INFO!Z12<>\"\",COUNTRY_INFO!$H12=1),COUNTRY_INFO!F12+COUNTRY_INFO!G12,0)","v":0},0,null,0]
[{"$f":"IF(AND(INTRO!$E$37=\"Endémique\",INTRO!$E$39=\"Non endémique\"),IF(COUNTRY_INFO!A13=0,\" \",COUNTRY_INFO!A13),\" \")","v":" "},{"$f":"IF(AND(INTRO!$E$37=\"Endémique\",INTRO!$E$39=\"Non endémique\"),IF(COUNTRY_INFO!B13=0,\" \",COUNTRY_INFO!B13),\" \")","v":" "},{"$f":"IF(AND(INTRO!$E$37=\"Endémique\",INTRO!$E$39=\"Non endémique\"),IF(COUNTRY_INFO!C13=0,\" \",COUNTRY_INFO!C13),\" \")","v":" "},{"$f":"IF(COUNTRY_INFO!Z13<>\"\",COUNTRY_INFO!V13,0)","v":0},{"$f":"IF(AND(COUNTRY_INFO!Z13<>\"\",COUNTRY_INFO!$H13=1),COUNTRY_INFO!F13+COUNTRY_INFO!G13,0)","v":0},0,null,0]
[{"$f":"IF(AND(INTRO!$E$37=\"Endémique\",INTRO!$E$39=\"Non endémique\"),IF(COUNTRY_INFO!A14=0,\" \",COUNTRY_INFO!A14),\" \")","v":" "},{"$f":"IF(AND(INTRO!$E$37=\"Endémique\",INTRO!$E$39=\"Non endémique\"),IF(COUNTRY_INFO!B14=0,\" \",COUNTRY_INFO!B14),\" \")","v":" "},{"$f":"IF(AND(INTRO!$E$37=\"Endémique\",INTRO!$E$39=\"Non endémique\"),IF(COUNTRY_INFO!C14=0,\" \",COUNTRY_INFO!C14),\" \")","v":" "},{"$f":"IF(COUNTRY_INFO!Z14<>\"\",COUNTRY_INFO!V14,0)","v":0},{"$f":"IF(AND(COUNTRY_INFO!Z14<>\"\",COUNTRY_INFO!$H14=1),COUNTRY_INFO!F14+COUNTRY_INFO!G14,0)","v":0},0,null,0]
[{"$f":"IF(AND(INTRO!$E$37=\"Endémique\",INTRO!$E$39=\"Non endémique\"),IF(COUNTRY_INFO!A15=0,\" \",COUNTRY_INFO!A15),\" \")","v":" "},{"$f":"IF(AND(INTRO!$E$37=\"Endémique\",INTRO!$E$39=\"Non endémique\"),IF(COUNTRY_INFO!B15=0,\" \",COUNTRY_INFO!B15),\" \")","v":" "},{"$f":"IF(AND(INTRO!$E$37=\"Endémique\",INTRO!$E$39=\"Non endémique\"),IF(COUNTRY_INFO!C15=0,\" \",COUNTRY_INFO!C15),\" \")","v":" "},{"$f":"IF(COUNTRY_INFO!Z15<>\"\",COUNTRY_INFO!V15,0)","v":0},{"$f":"IF(AND(COUNTRY_INFO!Z15<>\"\",COUNTRY_INFO!$H15=1),COUNTRY_INFO!F15+COUNTRY_INFO!G15,0)","v":0},0,null,0]
[{"$f":"IF(AND(INTRO!$E$37=\"Endémique\",INTRO!$E$39=\"Non endémique\"),IF(COUNTRY_INFO!A16=0,\" \",COUNTRY_INFO!A16),\" \")","v":" "},{"$f":"IF(AND(INTRO!$E$37=\"Endémique\",INTRO!$E$39=\"Non endémique\"),IF(COUNTRY_INFO!B16=0,\" \",COUNTRY_INFO!B16),\" \")","v":" "},{"$f":"IF(AND(INTRO!$E$37=\"Endémique\",INTRO!$E$39=\"Non endémique\"),IF(COUNTRY_INFO!C16=0,\" \",COUNTRY_INFO!C16),\" \")","v":" "},{"$f":"IF(COUNTRY_INFO!Z16<>\"\",COUNTRY_INFO!V16,0)","v":0},{"$f":"IF(AND(COUNTRY_INFO!Z16<>\"\",COUNTRY_INFO!$H16=1),COUNTRY_INFO!F16+COUNTRY_INFO!G16,0)","v":0},0,null,0]
[{"$f":"IF(AND(INTRO!$E$37=\"Endémique\",INTRO!$E$39=\"Non endémique\"),IF(COUNTRY_INFO!A17=0,\" \",COUNTRY_INFO!A17),\" \")","v":" "},{"$f":"IF(AND(INTRO!$E$37=\"Endémique\",INTRO!$E$39=\"Non endémique\"),IF(COUNTRY_INFO!B17=0,\" \",COUNTRY_INFO!B17),\" \")","v":" "},{"$f":"IF(AND(INTRO!$E$37=\"Endémique\",INTRO!$E$39=\"Non endémique\"),IF(COUNTRY_INFO!C17=0,\" \",COUNTRY_INFO!C17),\" \")","v":" "},{"$f":"IF(COUNTRY_INFO!Z17<>\"\",COUNTRY_INFO!V17,0)","v":0},{"$f":"IF(AND(COUNTRY_INFO!Z17<>\"\",COUNTRY_INFO!$H17=1),COUNTRY_INFO!F17+COUNTRY_INFO!G17,0)","v":0},0,null,0]
[{"$f":"IF(AND(INTRO!$E$37=\"Endémique\",INTRO!$E$39=\"Non endémique\"),IF(COUNTRY_INFO!A18=0,\" \",COUNTRY_INFO!A18),\" \")","v":" "},{"$f":"IF(AND(INTRO!$E$37=\"Endémique\",INTRO!$E$39=\"Non endémique\"),IF(COUNTRY_INFO!B18=0,\" \",COUNTRY_INFO!B18),\" \")","v":" "},{"$f":"IF(AND(INTRO!$E$37=\"Endémique\",INTRO!$E$39=\"Non endémique\"),IF(COUNTRY_INFO!C18=0,\" \",COUNTRY_INFO!C18),\" \")","v":" "},{"$f":"IF(COUNTRY_INFO!Z18<>\"\",COUNTRY_INFO!V18,0)","v":0},{"$f":"IF(AND(COUNTRY_INFO!Z18<>\"\",COUNTRY_INFO!$H18=1),COUNTRY_INFO!F18+COUNTRY_INFO!G18,0)","v":0},0,null,0]
[{"$f":"IF(AND(INTRO!$E$37=\"Endémique\",INTRO!$E$39=\"Non endémique\"),IF(COUNTRY_INFO!A19=0,\" \",COUNTRY_INFO!A19),\" \")","v":" "},{"$f":"IF(AND(INTRO!$E$37=\"Endémique\",INTRO!$E$39=\"Non endémique\"),IF(COUNTRY_INFO!B19=0,\" \",COUNTRY_INFO!B19),\" \")","v":" "},{"$f":"IF(AND(INTRO!$E$37=\"Endémique\",INTRO!$E$39=\"Non endémique\"),IF(COUNTRY_INFO!C19=0,\" \",COUNTRY_INFO!C19),\" \")","v":" "},{"$f":"IF(COUNTRY_INFO!Z19<>\"\",COUNTRY_INFO!V19,0)","v":0},{"$f":"IF(AND(COUNTRY_INFO!Z19<>\"\",COUNTRY_INFO!$H19=1),COUNTRY_INFO!F19+COUNTRY_INFO!G19,0)","v":0},0,null,0]
[{"$f":"IF(AND(INTRO!$E$37=\"Endémique\",INTRO!$E$39=\"Non endémique\"),IF(COUNTRY_INFO!A20=0,\" \",COUNTRY_INFO!A20),\" \")","v":" "},{"$f":"IF(AND(INTRO!$E$37=\"Endémique\",INTRO!$E$39=\"Non endémique\"),IF(COUNTRY_INFO!B20=0,\" \",COUNTRY_INFO!B20),\" \")","v":" "},{"$f":"IF(AND(INTRO!$E$37=\"Endémique\",INTRO!$E$39=\"Non endémique\"),IF(COUNTRY_INFO!C20=0,\" \",COUNTRY_INFO!C20),\" \")","v":" "},{"$f":"IF(COUNTRY_INFO!Z20<>\"\",COUNTRY_INFO!V20,0)","v":0},{"$f":"IF(AND(COUNTRY_INFO!Z20<>\"\",COUNTRY_INFO!$H20=1),COUNTRY_INFO!F20+COUNTRY_INFO!G20,0)","v":0},0,null,0]
[{"$f":"IF(AND(INTRO!$E$37=\"Endémique\",INTRO!$E$39=\"Non endémique\"),IF(COUNTRY_INFO!A21=0,\" \",COUNTRY_INFO!A21),\" \")","v":" "},{"$f":"IF(AND(INTRO!$E$37=\"Endémique\",INTRO!$E$39=\"Non endémique\"),IF(COUNTRY_INFO!B21=0,\" \",COUNTRY_INFO!B21),\" \")","v":" "},{"$f":"IF(AND(INTRO!$E$37=\"Endémique\",INTRO!$E$39=\"Non endémique\"),IF(COUNTRY_INFO!C21=0,\" \",COUNTRY_INFO!C21),\" \")","v":" "},{"$f":"IF(COUNTRY_INFO!Z21<>\"\",COUNTRY_INFO!V21,0)","v":0},{"$f":"IF(AND(COUNTRY_INFO!Z21<>\"\",COUNTRY_INFO!$H21=1),COUNTRY_INFO!F21+COUNTRY_INFO!G21,0)","v":0},0,null,0]
[{"$f":"IF(AND(INTRO!$E$37=\"Endémique\",INTRO!$E$39=\"Non endémique\"),IF(COUNTRY_INFO!A22=0,\" \",COUNTRY_INFO!A22),\" \")","v":" "},{"$f":"IF(AND(INTRO!$E$37=\"Endémique\",INTRO!$E$39=\"Non endémique\"),IF(COUNTRY_INFO!B22=0,\" \",COUNTRY_INFO!B22),\" \")","v":" "},{"$f":"IF(AND(INTRO!$E$37=\"Endémique\",INTRO!$E$39=\"Non endémique\"),IF(COUNTRY_INFO!C22=0,\" \",COUNTRY_INFO!C22),\" \")","v":" "},{"$f":"IF(COUNTRY_INFO!Z22<>\"\",COUNTRY_INFO!V22,0)","v":0},{"$f":"IF(AND(COUNTRY_INFO!Z22<>\"\",COUNTRY_INFO!$H22=1),COUNTRY_INFO!F22+COUNTRY_INFO!G22,0)","v":0},0,null,0]
[{"$f":"IF(AND(INTRO!$E$37=\"Endémique\",INTRO!$E$39=\"Non endémique\"),IF(COUNTRY_INFO!A23=0,\" \",COUNTRY_INFO!A23),\" \")","v":" "},{"$f":"IF(AND(INTRO!$E$37=\"Endémique\",INTRO!$E$39=\"Non endémique\"),IF(COUNTRY_INFO!B23=0,\" \",COUNTRY_INFO!B23),\" \")","v":" "},{"$f":"IF(AND(INTRO!$E$37=\"Endémique\",INTRO!$E$39=\"Non endémique\"),IF(COUNTRY_INFO!C23=0,\" \",COUNTRY_INFO!C23),\" \")","v":" "},{"$f":"IF(COUNTRY_INFO!Z23<>\"\",COUNTRY_INFO!V23,0)","v":0},{"$f":"IF(AND(COUNTRY_INFO!Z23<>\"\",COUNTRY_INFO!$H23=1),COUNTRY_INFO!F23+COUNTRY_INFO!G23,0)","v":0},0,null,0]
[{"$f":"IF(AND(INTRO!$E$37=\"Endémique\",INTRO!$E$39=\"Non endémique\"),IF(COUNTRY_INFO!A24=0,\" \",COUNTRY_INFO!A24),\" \")","v":" "},{"$f":"IF(AND(INTRO!$E$37=\"Endémique\",INTRO!$E$39=\"Non endémique\"),IF(COUNTRY_INFO!B24=0,\" \",COUNTRY_INFO!B24),\" \")","v":" "},{"$f":"IF(AND(INTRO!$E$37=\"Endémique\",INTRO!$E$39=\"Non endémique\"),IF(COUNTRY_INFO!C24=0,\" \",COUNTRY_INFO!C24),\" \")","v":" "},{"$f":"IF(COUNTRY_INFO!Z24<>\"\",COUNTRY_INFO!V24,0)","v":0},{"$f":"IF(AND(COUNTRY_INFO!Z24<>\"\",COUNTRY_INFO!$H24=1),COUNTRY_INFO!F24+COUNTRY_INFO!G24,0)","v":0},0,null,0]
[{"$f":"IF(AND(INTRO!$E$37=\"Endémique\",INTRO!$E$39=\"Non endémique\"),IF(COUNTRY_INFO!A25=0,\" \",COUNTRY_INFO!A25),\" \")","v":" "},{"$f":"IF(AND(INTRO!$E$37=\"Endémique\",INTRO!$E$39=\"Non endémique\"),IF(COUNTRY_INFO!B25=0,\" \",COUNTRY_INFO!B25),\" \")","v":" "},{"$f":"IF(AND(INTRO!$E$37=\"Endémique\",INTRO!$E$39=\"Non endémique\"),IF(COUNTRY_INFO!C25=0,\" \",COUNTRY_INFO!C25),\" \")","v":" "},{"$f":"IF(COUNTRY_INFO!Z25<>\"\",COUNTRY_INFO!V25,0)","v":0},{"$f":"IF(AND(COUNTRY_INFO!Z25<>\"\",COUNTRY_INFO!$H25=1),COUNTRY_INFO!F25+COUNTRY_INFO!G25,0)","v":0},0,null,0]
[{"$f":"IF(AND(INTRO!$E$37=\"Endémique\",INTRO!$E$39=\"Non endémique\"),IF(COUNTRY_INFO!A26=0,\" \",COUNTRY_INFO!A26),\" \")","v":" "},{"$f":"IF(AND(INTRO!$E$37=\"Endémique\",INTRO!$E$39=\"Non endémique\"),IF(COUNTRY_INFO!B26=0,\" \",COUNTRY_INFO!B26),\" \")","v":" "},{"$f":"IF(AND(INTRO!$E$37=\"Endémique\",INTRO!$E$39=\"Non endémique\"),IF(COUNTRY_INFO!C26=0,\" \",COUNTRY_INFO!C26),\" \")","v":" "},{"$f":"IF(COUNTRY_INFO!Z26<>\"\",COUNTRY_INFO!V26,0)","v":0},{"$f":"IF(AND(COUNTRY_INFO!Z26<>\"\",COUNTRY_INFO!$H26=1),COUNTRY_INFO!F26+COUNTRY_INFO!G26,0)","v":0},0,null,0]
[{"$f":"IF(AND(INTRO!$E$37=\"Endémique\",INTRO!$E$39=\"Non endémique\"),IF(COUNTRY_INFO!A27=0,\" \",COUNTRY_INFO!A27),\" \")","v":" "},{"$f":"IF(AND(INTRO!$E$37=\"Endémique\",INTRO!$E$39=\"Non endémique\"),IF(COUNTRY_INFO!B27=0,\" \",COUNTRY_INFO!B27),\" \")","v":" "},{"$f":"IF(AND(INTRO!$E$37=\"Endémique\",INTRO!$E$39=\"Non endémique\"),IF(COUNTRY_INFO!C27=0,\" \",COUNTRY_INFO!C27),\" \")","v":" "},{"$f":"IF(COUNTRY_INFO!Z27<>\"\",COUNTRY_INFO!V27,0)","v":0},{"$f":"IF(AND(COUNTRY_INFO!Z27<>\"\",COUNTRY_INFO!$H27=1),COUNTRY_INFO!F27+COUNTRY_INFO!G27,0)","v":0},0,null,0]
[{"$f":"IF(AND(INTRO!$E$37=\"Endémique\",INTRO!$E$39=\"Non endémique\"),IF(COUNTRY_INFO!A28=0,\" \",COUNTRY_INFO!A28),\" \")","v":" "},{"$f":"IF(AND(INTRO!$E$37=\"Endémique\",INTRO!$E$39=\"Non endémique\"),IF(COUNTRY_INFO!B28=0,\" \",COUNTRY_INFO!B28),\" \")","v":" "},{"$f":"IF(AND(INTRO!$E$37=\"Endémique\",INTRO!$E$39=\"Non endémique\"),IF(COUNTRY_INFO!C28=0,\" \",COUNTRY_INFO!C28),\" \")","v":" "},{"$f":"IF(COUNTRY_INFO!Z28<>\"\",COUNTRY_INFO!V28,0)","v":0},{"$f":"IF(AND(COUNTRY_INFO!Z28<>\"\",COUNTRY_INFO!$H28=1),COUNTRY_INFO!F28+COUNTRY_INFO!G28,0)","v":0},0,null,0]
[{"$f":"IF(AND(INTRO!$E$37=\"Endémique\",INTRO!$E$39=\"Non endémique\"),IF(COUNTRY_INFO!A29=0,\" \",COUNTRY_INFO!A29),\" \")","v":" "},{"$f":"IF(AND(INTRO!$E$37=\"Endémique\",INTRO!$E$39=\"Non endémique\"),IF(COUNTRY_INFO!B29=0,\" \",COUNTRY_INFO!B29),\" \")","v":" "},{"$f":"IF(AND(INTRO!$E$37=\"Endémique\",INTRO!$E$39=\"Non endémique\"),IF(COUNTRY_INFO!C29=0,\" \",COUNTRY_INFO!C29),\" \")","v":" "},{"$f":"IF(COUNTRY_INFO!Z29<>\"\",COUNTRY_INFO!V29,0)","v":0},{"$f":"IF(AND(COUNTRY_INFO!Z29<>\"\",COUNTRY_INFO!$H29=1),COUNTRY_INFO!F29+COUNTRY_INFO!G29,0)","v":0},0,null,0]
[{"$f":"IF(AND(INTRO!$E$37=\"Endémique\",INTRO!$E$39=\"Non endémique\"),IF(COUNTRY_INFO!A30=0,\" \",COUNTRY_INFO!A30),\" \")","v":" "},{"$f":"IF(AND(INTRO!$E$37=\"Endémique\",INTRO!$E$39=\"Non endémique\"),IF(COUNTRY_INFO!B30=0,\" \",COUNTRY_INFO!B30),\" \")","v":" "},{"$f":"IF(AND(INTRO!$E$37=\"Endémique\",INTRO!$E$39=\"Non endémique\"),IF(COUNTRY_INFO!C30=0,\" \",COUNTRY_INFO!C30),\" \")","v":" "},{"$f":"IF(COUNTRY_INFO!Z30<>\"\",COUNTRY_INFO!V30,0)","v":0},{"$f":"IF(AND(COUNTRY_INFO!Z30<>\"\",COUNTRY_INFO!$H30=1),COUNTRY_INFO!F30+COUNTRY_INFO!G30,0)","v":0},0,null,0]
[{"$f":"IF(AND(INTRO!$E$37=\"Endémique\",INTRO!$E$39=\"Non endémique\"),IF(COUNTRY_INFO!A31=0,\" \",COUNTRY_INFO!A31),\" \")","v":" "},{"$f":"IF(AND(INTRO!$E$37=\"Endémique\",INTRO!$E$39=\"Non endémique\"),IF(COUNTRY_INFO!B31=0,\" \",COUNTRY_INFO!B31),\" \")","v":" "},{"$f":"IF(AND(INTRO!$E$37=\"Endémique\",INTRO!$E$39=\"Non endémique\"),IF(COUNTRY_INFO!C31=0,\" \",COUNTRY_INFO!C31),\" \")","v":" "},{"$f":"IF(COUNTRY_INFO!Z31<>\"\",COUNTRY_INFO!V31,0)","v":0},{"$f":"IF(AND(COUNTRY_INFO!Z31<>\"\",COUNTRY_INFO!$H31=1),COUNTRY_INFO!F31+COUNTRY_INFO!G31,0)","v":0},0,null,0]
[{"$f":"IF(AND(INTRO!$E$37=\"Endémique\",INTRO!$E$39=\"Non endémique\"),IF(COUNTRY_INFO!A32=0,\" \",COUNTRY_INFO!A32),\" \")","v":" "},{"$f":"IF(AND(INTRO!$E$37=\"Endémique\",INTRO!$E$39=\"Non endémique\"),IF(COUNTRY_INFO!B32=0,\" \",COUNTRY_INFO!B32),\" \")","v":" "},{"$f":"IF(AND(INTRO!$E$37=\"Endémique\",INTRO!$E$39=\"Non endémique\"),IF(COUNTRY_INFO!C32=0,\" \",COUNTRY_INFO!C32),\" \")","v":" "},{"$f":"IF(COUNTRY_INFO!Z32<>\"\",COUNTRY_INFO!V32,0)","v":0},{"$f":"IF(AND(COUNTRY_INFO!Z32<>\"\",COUNTRY_INFO!$H32=1),COUNTRY_INFO!F32+COUNTRY_INFO!G32,0)","v":0},0,null,0]
[{"$f":"IF(AND(INTRO!$E$37=\"Endémique\",INTRO!$E$39=\"Non endémique\"),IF(COUNTRY_INFO!A33=0,\" \",COUNTRY_INFO!A33),\" \")","v":" "},{"$f":"IF(AND(INTRO!$E$37=\"Endémique\",INTRO!$E$39=\"Non endémique\"),IF(COUNTRY_INFO!B33=0,\" \",COUNTRY_INFO!B33),\" \")","v":" "},{"$f":"IF(AND(INTRO!$E$37=\"Endémique\",INTRO!$E$39=\"Non endémique\"),IF(COUNTRY_INFO!C33=0,\" \",COUNTRY_INFO!C33),\" \")","v":" "},{"$f":"IF(COUNTRY_INFO!Z33<>\"\",COUNTRY_INFO!V33,0)","v":0},{"$f":"IF(AND(COUNTRY_INFO!Z33<>\"\",COUNTRY_INFO!$H33=1),COUNTRY_INFO!F33+COUNTRY_INFO!G33,0)","v":0},0,null,0]
[{"$f":"IF(AND(INTRO!$E$37=\"Endémique\",INTRO!$E$39=\"Non endémique\"),IF(COUNTRY_INFO!A34=0,\" \",COUNTRY_INFO!A34),\" \")","v":" "},{"$f":"IF(AND(INTRO!$E$37=\"Endémique\",INTRO!$E$39=\"Non endémique\"),IF(COUNTRY_INFO!B34=0,\" \",COUNTRY_INFO!B34),\" \")","v":" "},{"$f":"IF(AND(INTRO!$E$37=\"Endémique\",INTRO!$E$39=\"Non endémique\"),IF(COUNTRY_INFO!C34=0,\" \",COUNTRY_INFO!C34),\" \")","v":" "},{"$f":"IF(COUNTRY_INFO!Z34<>\"\",COUNTRY_INFO!V34,0)","v":0},{"$f":"IF(AND(COUNTRY_INFO!Z34<>\"\",COUNTRY_INFO!$H34=1),COUNTRY_INFO!F34+COUNTRY_INFO!G34,0)","v":0},0,null,0]
[{"$f":"IF(AND(INTRO!$E$37=\"Endémique\",INTRO!$E$39=\"Non endémique\"),IF(COUNTRY_INFO!A35=0,\" \",COUNTRY_INFO!A35),\" \")","v":" "},{"$f":"IF(AND(INTRO!$E$37=\"Endémique\",INTRO!$E$39=\"Non endémique\"),IF(COUNTRY_INFO!B35=0,\" \",COUNTRY_INFO!B35),\" \")","v":" "},{"$f":"IF(AND(INTRO!$E$37=\"Endémique\",INTRO!$E$39=\"Non endémique\"),IF(COUNTRY_INFO!C35=0,\" \",COUNTRY_INFO!C35),\" \")","v":" "},{"$f":"IF(COUNTRY_INFO!Z35<>\"\",COUNTRY_INFO!V35,0)","v":0},{"$f":"IF(AND(COUNTRY_INFO!Z35<>\"\",COUNTRY_INFO!$H35=1),COUNTRY_INFO!F35+COUNTRY_INFO!G35,0)","v":0},0,null,0]
[{"$f":"IF(AND(INTRO!$E$37=\"Endémique\",INTRO!$E$39=\"Non endémique\"),IF(COUNTRY_INFO!A36=0,\" \",COUNTRY_INFO!A36),\" \")","v":" "},{"$f":"IF(AND(INTRO!$E$37=\"Endémique\",INTRO!$E$39=\"Non endémique\"),IF(COUNTRY_INFO!B36=0,\" \",COUNTRY_INFO!B36),\" \")","v":" "},{"$f":"IF(AND(INTRO!$E$37=\"Endémique\",INTRO!$E$39=\"Non endémique\"),IF(COUNTRY_INFO!C36=0,\" \",COUNTRY_INFO!C36),\" \")","v":" "},{"$f":"IF(COUNTRY_INFO!Z36<>\"\",COUNTRY_INFO!V36,0)","v":0},{"$f":"IF(AND(COUNTRY_INFO!Z36<>\"\",COUNTRY_INFO!$H36=1),COUNTRY_INFO!F36+COUNTRY_INFO!G36,0)","v":0},0,null,0]
[{"$f":"IF(AND(INTRO!$E$37=\"Endémique\",INTRO!$E$39=\"Non endémique\"),IF(COUNTRY_INFO!A37=0,\" \",COUNTRY_INFO!A37),\" \")","v":" "},{"$f":"IF(AND(INTRO!$E$37=\"Endémique\",INTRO!$E$39=\"Non endémique\"),IF(COUNTRY_INFO!B37=0,\" \",COUNTRY_INFO!B37),\" \")","v":" "},{"$f":"IF(AND(INTRO!$E$37=\"Endémique\",INTRO!$E$39=\"Non endémique\"),IF(COUNTRY_INFO!C37=0,\" \",COUNTRY_INFO!C37),\" \")","v":" "},{"$f":"IF(COUNTRY_INFO!Z37<>\"\",COUNTRY_INFO!V37,0)","v":0},{"$f":"IF(AND(COUNTRY_INFO!Z37<>\"\",COUNTRY_INFO!$H37=1),COUNTRY_INFO!F37+COUNTRY_INFO!G37,0)","v":0},0,null,0]
[{"$f":"IF(AND(INTRO!$E$37=\"Endémique\",INTRO!$E$39=\"Non endémique\"),IF(COUNTRY_INFO!A38=0,\" \",COUNTRY_INFO!A38),\" \")","v":" "},{"$f":"IF(AND(INTRO!$E$37=\"Endémique\",INTRO!$E$39=\"Non endémique\"),IF(COUNTRY_INFO!B38=0,\" \",COUNTRY_INFO!B38),\" \")","v":" "},{"$f":"IF(AND(INTRO!$E$37=\"Endémique\",INTRO!$E$39=\"Non endémique\"),IF(COUNTRY_INFO!C38=0,\" \",COUNTRY_INFO!C38),\" \")","v":" "},{"$f":"IF(COUNTRY_INFO!Z38<>\"\",COUNTRY_INFO!V38,0)","v":0},{"$f":"IF(AND(COUNTRY_INFO!Z38<>\"\",COUNTRY_INFO!$H38=1),COUNTRY_INFO!F38+COUNTRY_INFO!G38,0)","v":0},0,null,0]
[{"$f":"IF(AND(INTRO!$E$37=\"Endémique\",INTRO!$E$39=\"Non endémique\"),IF(COUNTRY_INFO!A39=0,\" \",COUNTRY_INFO!A39),\" \")","v":" "},{"$f":"IF(AND(INTRO!$E$37=\"Endémique\",INTRO!$E$39=\"Non endémique\"),IF(COUNTRY_INFO!B39=0,\" \",COUNTRY_INFO!B39),\" \")","v":" "},{"$f":"IF(AND(INTRO!$E$37=\"Endémique\",INTRO!$E$39=\"Non endémique\"),IF(COUNTRY_INFO!C39=0,\" \",COUNTRY_INFO!C39),\" \")","v":" "},{"$f":"IF(COUNTRY_INFO!Z39<>\"\",COUNTRY_INFO!V39,0)","v":0},{"$f":"IF(AND(COUNTRY_INFO!Z39<>\"\",COUNTRY_INFO!$H39=1),COUNTRY_INFO!F39+COUNTRY_INFO!G39,0)","v":0},0,null,0]
[{"$f":"IF(AND(INTRO!$E$37=\"Endémique\",INTRO!$E$39=\"Non endémique\"),IF(COUNTRY_INFO!A40=0,\" \",COUNTRY_INFO!A40),\" \")","v":" "},{"$f":"IF(AND(INTRO!$E$37=\"Endémique\",INTRO!$E$39=\"Non endémique\"),IF(COUNTRY_INFO!B40=0,\" \",COUNTRY_INFO!B40),\" \")","v":" "},{"$f":"IF(AND(INTRO!$E$37=\"Endémique\",INTRO!$E$39=\"Non endémique\"),IF(COUNTRY_INFO!C40=0,\" \",COUNTRY_INFO!C40),\" \")","v":" "},{"$f":"IF(COUNTRY_INFO!Z40<>\"\",COUNTRY_INFO!V40,0)","v":0},{"$f":"IF(AND(COUNTRY_INFO!Z40<>\"\",COUNTRY_INFO!$H40=1),COUNTRY_INFO!F40+COUNTRY_INFO!G40,0)","v":0},0,null,0]
[{"$f":"IF(AND(INTRO!$E$37=\"Endémique\",INTRO!$E$39=\"Non endémique\"),IF(COUNTRY_INFO!A41=0,\" \",COUNTRY_INFO!A41),\" \")","v":" "},{"$f":"IF(AND(INTRO!$E$37=\"Endémique\",INTRO!$E$39=\"Non endémique\"),IF(COUNTRY_INFO!B41=0,\" \",COUNTRY_INFO!B41),\" \")","v":" "},{"$f":"IF(AND(INTRO!$E$37=\"Endémique\",INTRO!$E$39=\"Non endémique\"),IF(COUNTRY_INFO!C41=0,\" \",COUNTRY_INFO!C41),\" \")","v":" "},{"$f":"IF(COUNTRY_INFO!Z41<>\"\",COUNTRY_INFO!V41,0)","v":0},{"$f":"IF(AND(COUNTRY_INFO!Z41<>\"\",COUNTRY_INFO!$H41=1),COUNTRY_INFO!F41+COUNTRY_INFO!G41,0)","v":0},0,null,0]
[{"$f":"IF(AND(INTRO!$E$37=\"Endémique\",INTRO!$E$39=\"Non endémique\"),IF(COUNTRY_INFO!A42=0,\" \",COUNTRY_INFO!A42),\" \")","v":" "},{"$f":"IF(AND(INTRO!$E$37=\"Endémique\",INTRO!$E$39=\"Non endémique\"),IF(COUNTRY_INFO!B42=0,\" \",COUNTRY_INFO!B42),\" \")","v":" "},{"$f":"IF(AND(INTRO!$E$37=\"Endémique\",INTRO!$E$39=\"Non endémique\"),IF(COUNTRY_INFO!C42=0,\" \",COUNTRY_INFO!C42),\" \")","v":" "},{"$f":"IF(COUNTRY_INFO!Z42<>\"\",COUNTRY_INFO!V42,0)","v":0},{"$f":"IF(AND(COUNTRY_INFO!Z42<>\"\",COUNTRY_INFO!$H42=1),COUNTRY_INFO!F42+COUNTRY_INFO!G42,0)","v":0},0,null,0]
[{"$f":"IF(AND(INTRO!$E$37=\"Endémique\",INTRO!$E$39=\"Non endémique\"),IF(COUNTRY_INFO!A43=0,\" \",COUNTRY_INFO!A43),\" \")","v":" "},{"$f":"IF(AND(INTRO!$E$37=\"Endémique\",INTRO!$E$39=\"Non endémique\"),IF(COUNTRY_INFO!B43=0,\" \",COUNTRY_INFO!B43),\" \")","v":" "},{"$f":"IF(AND(INTRO!$E$37=\"Endémique\",INTRO!$E$39=\"Non endémique\"),IF(COUNTRY_INFO!C43=0,\" \",COUNTRY_INFO!C43),\" \")","v":" "},{"$f":"IF(COUNTRY_INFO!Z43<>\"\",COUNTRY_INFO!V43,0)","v":0},{"$f":"IF(AND(COUNTRY_INFO!Z43<>\"\",COUNTRY_INFO!$H43=1),COUNTRY_INFO!F43+COUNTRY_INFO!G43,0)","v":0},0,null,0]
[{"$f":"IF(AND(INTRO!$E$37=\"Endémique\",INTRO!$E$39=\"Non endémique\"),IF(COUNTRY_INFO!A44=0,\" \",COUNTRY_INFO!A44),\" \")","v":" "},{"$f":"IF(AND(INTRO!$E$37=\"Endémique\",INTRO!$E$39=\"Non endémique\"),IF(COUNTRY_INFO!B44=0,\" \",COUNTRY_INFO!B44),\" \")","v":" "},{"$f":"IF(AND(INTRO!$E$37=\"Endémique\",INTRO!$E$39=\"Non endémique\"),IF(COUNTRY_INFO!C44=0,\" \",COUNTRY_INFO!C44),\" \")","v":" "},{"$f":"IF(COUNTRY_INFO!Z44<>\"\",COUNTRY_INFO!V44,0)","v":0},{"$f":"IF(AND(COUNTRY_INFO!Z44<>\"\",COUNTRY_INFO!$H44=1),COUNTRY_INFO!F44+COUNTRY_INFO!G44,0)","v":0},0,null,0]
[{"$f":"IF(AND(INTRO!$E$37=\"Endémique\",INTRO!$E$39=\"Non endémique\"),IF(COUNTRY_INFO!A45=0,\" \",COUNTRY_INFO!A45),\" \")","v":" "},{"$f":"IF(AND(INTRO!$E$37=\"Endémique\",INTRO!$E$39=\"Non endémique\"),IF(COUNTRY_INFO!B45=0,\" \",COUNTRY_INFO!B45),\" \")","v":" "},{"$f":"IF(AND(INTRO!$E$37=\"Endémique\",INTRO!$E$39=\"Non endémique\"),IF(COUNTRY_INFO!C45=0,\" \",COUNTRY_INFO!C45),\" \")","v":" "},{"$f":"IF(COUNTRY_INFO!Z45<>\"\",COUNTRY_INFO!V45,0)","v":0},{"$f":"IF(AND(COUNTRY_INFO!Z45<>\"\",COUNTRY_INFO!$H45=1),COUNTRY_INFO!F45+COUNTRY_INFO!G45,0)","v":0},0,null,0]
[{"$f":"IF(AND(INTRO!$E$37=\"Endémique\",INTRO!$E$39=\"Non endémique\"),IF(COUNTRY_INFO!A46=0,\" \",COUNTRY_INFO!A46),\" \")","v":" "},{"$f":"IF(AND(INTRO!$E$37=\"Endémique\",INTRO!$E$39=\"Non endémique\"),IF(COUNTRY_INFO!B46=0,\" \",COUNTRY_INFO!B46),\" \")","v":" "},{"$f":"IF(AND(INTRO!$E$37=\"Endémique\",INTRO!$E$39=\"Non endémique\"),IF(COUNTRY_INFO!C46=0,\" \",COUNTRY_INFO!C46),\" \")","v":" "},{"$f":"IF(COUNTRY_INFO!Z46<>\"\",COUNTRY_INFO!V46,0)","v":0},{"$f":"IF(AND(COUNTRY_INFO!Z46<>\"\",COUNTRY_INFO!$H46=1),COUNTRY_INFO!F46+COUNTRY_INFO!G46,0)","v":0},0,null,0]
[{"$f":"IF(AND(INTRO!$E$37=\"Endémique\",INTRO!$E$39=\"Non endémique\"),IF(COUNTRY_INFO!A47=0,\" \",COUNTRY_INFO!A47),\" \")","v":" "},{"$f":"IF(AND(INTRO!$E$37=\"Endémique\",INTRO!$E$39=\"Non endémique\"),IF(COUNTRY_INFO!B47=0,\" \",COUNTRY_INFO!B47),\" \")","v":" "},{"$f":"IF(AND(INTRO!$E$37=\"Endémique\",INTRO!$E$39=\"Non endémique\"),IF(COUNTRY_INFO!C47=0,\" \",COUNTRY_INFO!C47),\" \")","v":" "},{"$f":"IF(COUNTRY_INFO!Z47<>\"\",COUNTRY_INFO!V47,0)","v":0},{"$f":"IF(AND(COUNTRY_INFO!Z47<>\"\",COUNTRY_INFO!$H47=1),COUNTRY_INFO!F47+COUNTRY_INFO!G47,0)","v":0},0,null,0]
[{"$f":"IF(AND(INTRO!$E$37=\"Endémique\",INTRO!$E$39=\"Non endémique\"),IF(COUNTRY_INFO!A48=0,\" \",COUNTRY_INFO!A48),\" \")","v":" "},{"$f":"IF(AND(INTRO!$E$37=\"Endémique\",INTRO!$E$39=\"Non endémique\"),IF(COUNTRY_INFO!B48=0,\" \",COUNTRY_INFO!B48),\" \")","v":" "},{"$f":"IF(AND(INTRO!$E$37=\"Endémique\",INTRO!$E$39=\"Non endémique\"),IF(COUNTRY_INFO!C48=0,\" \",COUNTRY_INFO!C48),\" \")","v":" "},{"$f":"IF(COUNTRY_INFO!Z48<>\"\",COUNTRY_INFO!V48,0)","v":0},{"$f":"IF(AND(COUNTRY_INFO!Z48<>\"\",COUNTRY_INFO!$H48=1),COUNTRY_INFO!F48+COUNTRY_INFO!G48,0)","v":0},0,null,0]
[{"$f":"IF(AND(INTRO!$E$37=\"Endémique\",INTRO!$E$39=\"Non endémique\"),IF(COUNTRY_INFO!A49=0,\" \",COUNTRY_INFO!A49),\" \")","v":" "},{"$f":"IF(AND(INTRO!$E$37=\"Endémique\",INTRO!$E$39=\"Non endémique\"),IF(COUNTRY_INFO!B49=0,\" \",COUNTRY_INFO!B49),\" \")","v":" "},{"$f":"IF(AND(INTRO!$E$37=\"Endémique\",INTRO!$E$39=\"Non endémique\"),IF(COUNTRY_INFO!C49=0,\" \",COUNTRY_INFO!C49),\" \")","v":" "},{"$f":"IF(COUNTRY_INFO!Z49<>\"\",COUNTRY_INFO!V49,0)","v":0},{"$f":"IF(AND(COUNTRY_INFO!Z49<>\"\",COUNTRY_INFO!$H49=1),COUNTRY_INFO!F49+COUNTRY_INFO!G49,0)","v":0},0,null,0]
[{"$f":"IF(AND(INTRO!$E$37=\"Endémique\",INTRO!$E$39=\"Non endémique\"),IF(COUNTRY_INFO!A50=0,\" \",COUNTRY_INFO!A50),\" \")","v":" "},{"$f":"IF(AND(INTRO!$E$37=\"Endémique\",INTRO!$E$39=\"Non endémique\"),IF(COUNTRY_INFO!B50=0,\" \",COUNTRY_INFO!B50),\" \")","v":" "},{"$f":"IF(AND(INTRO!$E$37=\"Endémique\",INTRO!$E$39=\"Non endémique\"),IF(COUNTRY_INFO!C50=0,\" \",COUNTRY_INFO!C50),\" \")","v":" "},{"$f":"IF(COUNTRY_INFO!Z50<>\"\",COUNTRY_INFO!V50,0)","v":0},{"$f":"IF(AND(COUNTRY_INFO!Z50<>\"\",COUNTRY_INFO!$H50=1),COUNTRY_INFO!F50+COUNTRY_INFO!G50,0)","v":0},0,null,0]
[{"$f":"IF(AND(INTRO!$E$37=\"Endémique\",INTRO!$E$39=\"Non endémique\"),IF(COUNTRY_INFO!A51=0,\" \",COUNTRY_INFO!A51),\" \")","v":" "},{"$f":"IF(AND(INTRO!$E$37=\"Endémique\",INTRO!$E$39=\"Non endémique\"),IF(COUNTRY_INFO!B51=0,\" \",COUNTRY_INFO!B51),\" \")","v":" "},{"$f":"IF(AND(INTRO!$E$37=\"Endémique\",INTRO!$E$39=\"Non endémique\"),IF(COUNTRY_INFO!C51=0,\" \",COUNTRY_INFO!C51),\" \")","v":" "},{"$f":"IF(COUNTRY_INFO!Z51<>\"\",COUNTRY_INFO!V51,0)","v":0},{"$f":"IF(AND(COUNTRY_INFO!Z51<>\"\",COUNTRY_INFO!$H51=1),COUNTRY_INFO!F51+COUNTRY_INFO!G51,0)","v":0},0,null,0]
[{"$f":"IF(AND(INTRO!$E$37=\"Endémique\",INTRO!$E$39=\"Non endémique\"),IF(COUNTRY_INFO!A52=0,\" \",COUNTRY_INFO!A52),\" \")","v":" "},{"$f":"IF(AND(INTRO!$E$37=\"Endémique\",INTRO!$E$39=\"Non endémique\"),IF(COUNTRY_INFO!B52=0,\" \",COUNTRY_INFO!B52),\" \")","v":" "},{"$f":"IF(AND(INTRO!$E$37=\"Endémique\",INTRO!$E$39=\"Non endémique\"),IF(COUNTRY_INFO!C52=0,\" \",COUNTRY_INFO!C52),\" \")","v":" "},{"$f":"IF(COUNTRY_INFO!Z52<>\"\",COUNTRY_INFO!V52,0)","v":0},{"$f":"IF(AND(COUNTRY_INFO!Z52<>\"\",COUNTRY_INFO!$H52=1),COUNTRY_INFO!F52+COUNTRY_INFO!G52,0)","v":0},0,null,0]
[{"$f":"IF(AND(INTRO!$E$37=\"Endémique\",INTRO!$E$39=\"Non endémique\"),IF(COUNTRY_INFO!A53=0,\" \",COUNTRY_INFO!A53),\" \")","v":" "},{"$f":"IF(AND(INTRO!$E$37=\"Endémique\",INTRO!$E$39=\"Non endémique\"),IF(COUNTRY_INFO!B53=0,\" \",COUNTRY_INFO!B53),\" \")","v":" "},{"$f":"IF(AND(INTRO!$E$37=\"Endémique\",INTRO!$E$39=\"Non endémique\"),IF(COUNTRY_INFO!C53=0,\" \",COUNTRY_INFO!C53),\" \")","v":" "},{"$f":"IF(COUNTRY_INFO!Z53<>\"\",COUNTRY_INFO!V53,0)","v":0},{"$f":"IF(AND(COUNTRY_INFO!Z53<>\"\",COUNTRY_INFO!$H53=1),COUNTRY_INFO!F53+COUNTRY_INFO!G53,0)","v":0},0,null,0]
[{"$f":"IF(AND(INTRO!$E$37=\"Endémique\",INTRO!$E$39=\"Non endémique\"),IF(COUNTRY_INFO!A54=0,\" \",COUNTRY_INFO!A54),\" \")","v":" "},{"$f":"IF(AND(INTRO!$E$37=\"Endémique\",INTRO!$E$39=\"Non endémique\"),IF(COUNTRY_INFO!B54=0,\" \",COUNTRY_INFO!B54),\" \")","v":" "},{"$f":"IF(AND(INTRO!$E$37=\"Endémique\",INTRO!$E$39=\"Non endémique\"),IF(COUNTRY_INFO!C54=0,\" \",COUNTRY_INFO!C54),\" \")","v":" "},{"$f":"IF(COUNTRY_INFO!Z54<>\"\",COUNTRY_INFO!V54,0)","v":0},{"$f":"IF(AND(COUNTRY_INFO!Z54<>\"\",COUNTRY_INFO!$H54=1),COUNTRY_INFO!F54+COUNTRY_INFO!G54,0)","v":0},0,null,0]
[{"$f":"IF(AND(INTRO!$E$37=\"Endémique\",INTRO!$E$39=\"Non endémique\"),IF(COUNTRY_INFO!A55=0,\" \",COUNTRY_INFO!A55),\" \")","v":" "},{"$f":"IF(AND(INTRO!$E$37=\"Endémique\",INTRO!$E$39=\"Non endémique\"),IF(COUNTRY_INFO!B55=0,\" \",COUNTRY_INFO!B55),\" \")","v":" "},{"$f":"IF(AND(INTRO!$E$37=\"Endémique\",INTRO!$E$39=\"Non endémique\"),IF(COUNTRY_INFO!C55=0,\" \",COUNTRY_INFO!C55),\" \")","v":" "},{"$f":"IF(COUNTRY_INFO!Z55<>\"\",COUNTRY_INFO!V55,0)","v":0},{"$f":"IF(AND(COUNTRY_INFO!Z55<>\"\",COUNTRY_INFO!$H55=1),COUNTRY_INFO!F55+COUNTRY_INFO!G55,0)","v":0},0,null,0]
[{"$f":"IF(AND(INTRO!$E$37=\"Endémique\",INTRO!$E$39=\"Non endémique\"),IF(COUNTRY_INFO!A56=0,\" \",COUNTRY_INFO!A56),\" \")","v":" "},{"$f":"IF(AND(INTRO!$E$37=\"Endémique\",INTRO!$E$39=\"Non endémique\"),IF(COUNTRY_INFO!B56=0,\" \",COUNTRY_INFO!B56),\" \")","v":" "},{"$f":"IF(AND(INTRO!$E$37=\"Endémique\",INTRO!$E$39=\"Non endémique\"),IF(COUNTRY_INFO!C56=0,\" \",COUNTRY_INFO!C56),\" \")","v":" "},{"$f":"IF(COUNTRY_INFO!Z56<>\"\",COUNTRY_INFO!V56,0)","v":0},{"$f":"IF(AND(COUNTRY_INFO!Z56<>\"\",COUNTRY_INFO!$H56=1),COUNTRY_INFO!F56+COUNTRY_INFO!G56,0)","v":0},0,null,0]
[{"$f":"IF(AND(INTRO!$E$37=\"Endémique\",INTRO!$E$39=\"Non endémique\"),IF(COUNTRY_INFO!A57=0,\" \",COUNTRY_INFO!A57),\" \")","v":" "},{"$f":"IF(AND(INTRO!$E$37=\"Endémique\",INTRO!$E$39=\"Non endémique\"),IF(COUNTRY_INFO!B57=0,\" \",COUNTRY_INFO!B57),\" \")","v":" "},{"$f":"IF(AND(INTRO!$E$37=\"Endémique\",INTRO!$E$39=\"Non endémique\"),IF(COUNTRY_INFO!C57=0,\" \",COUNTRY_INFO!C57),\" \")","v":" "},{"$f":"IF(COUNTRY_INFO!Z57<>\"\",COUNTRY_INFO!V57,0)","v":0},{"$f":"IF(AND(COUNTRY_INFO!Z57<>\"\",COUNTRY_INFO!$H57=1),COUNTRY_INFO!F57+COUNTRY_INFO!G57,0)","v":0},0,null,0]
[{"$f":"IF(AND(INTRO!$E$37=\"Endémique\",INTRO!$E$39=\"Non endémique\"),IF(COUNTRY_INFO!A58=0,\" \",COUNTRY_INFO!A58),\" \")","v":" "},{"$f":"IF(AND(INTRO!$E$37=\"Endémique\",INTRO!$E$39=\"Non endémique\"),IF(COUNTRY_INFO!B58=0,\" \",COUNTRY_INFO!B58),\" \")","v":" "},{"$f":"IF(AND(INTRO!$E$37=\"Endémique\",INTRO!$E$39=\"Non endémique\"),IF(COUNTRY_INFO!C58=0,\" \",COUNTRY_INFO!C58),\" \")","v":" "},{"$f":"IF(COUNTRY_INFO!Z58<>\"\",COUNTRY_INFO!V58,0)","v":0},{"$f":"IF(AND(COUNTRY_INFO!Z58<>\"\",COUNTRY_INFO!$H58=1),COUNTRY_INFO!F58+COUNTRY_INFO!G58,0)","v":0},0,null,0]
[{"$f":"IF(AND(INTRO!$E$37=\"Endémique\",INTRO!$E$39=\"Non endémique\"),IF(COUNTRY_INFO!A59=0,\" \",COUNTRY_INFO!A59),\" \")","v":" "},{"$f":"IF(AND(INTRO!$E$37=\"Endémique\",INTRO!$E$39=\"Non endémique\"),IF(COUNTRY_INFO!B59=0,\" \",COUNTRY_INFO!B59),\" \")","v":" "},{"$f":"IF(AND(INTRO!$E$37=\"Endémique\",INTRO!$E$39=\"Non endémique\"),IF(COUNTRY_INFO!C59=0,\" \",COUNTRY_INFO!C59),\" \")","v":" "},{"$f":"IF(COUNTRY_INFO!Z59<>\"\",COUNTRY_INFO!V59,0)","v":0},{"$f":"IF(AND(COUNTRY_INFO!Z59<>\"\",COUNTRY_INFO!$H59=1),COUNTRY_INFO!F59+COUNTRY_INFO!G59,0)","v":0},0,null,0]
[{"$f":"IF(AND(INTRO!$E$37=\"Endémique\",INTRO!$E$39=\"Non endémique\"),IF(COUNTRY_INFO!A60=0,\" \",COUNTRY_INFO!A60),\" \")","v":" "},{"$f":"IF(AND(INTRO!$E$37=\"Endémique\",INTRO!$E$39=\"Non endémique\"),IF(COUNTRY_INFO!B60=0,\" \",COUNTRY_INFO!B60),\" \")","v":" "},{"$f":"IF(AND(INTRO!$E$37=\"Endémique\",INTRO!$E$39=\"Non endémique\"),IF(COUNTRY_INFO!C60=0,\" \",COUNTRY_INFO!C60),\" \")","v":" "},{"$f":"IF(COUNTRY_INFO!Z60<>\"\",COUNTRY_INFO!V60,0)","v":0},{"$f":"IF(AND(COUNTRY_INFO!Z60<>\"\",COUNTRY_INFO!$H60=1),COUNTRY_INFO!F60+COUNTRY_INFO!G60,0)","v":0},0,null,0]
[{"$f":"IF(AND(INTRO!$E$37=\"Endémique\",INTRO!$E$39=\"Non endémique\"),IF(COUNTRY_INFO!A61=0,\" \",COUNTRY_INFO!A61),\" \")","v":" "},{"$f":"IF(AND(INTRO!$E$37=\"Endémique\",INTRO!$E$39=\"Non endémique\"),IF(COUNTRY_INFO!B61=0,\" \",COUNTRY_INFO!B61),\" \")","v":" "},{"$f":"IF(AND(INTRO!$E$37=\"Endémique\",INTRO!$E$39=\"Non endémique\"),IF(COUNTRY_INFO!C61=0,\" \",COUNTRY_INFO!C61),\" \")","v":" "},{"$f":"IF(COUNTRY_INFO!Z61<>\"\",COUNTRY_INFO!V61,0)","v":0},{"$f":"IF(AND(COUNTRY_INFO!Z61<>\"\",COUNTRY_INFO!$H61=1),COUNTRY_INFO!F61+COUNTRY_INFO!G61,0)","v":0},0,null,0]
[{"$f":"IF(AND(INTRO!$E$37=\"Endémique\",INTRO!$E$39=\"Non endémique\"),IF(COUNTRY_INFO!A62=0,\" \",COUNTRY_INFO!A62),\" \")","v":" "},{"$f":"IF(AND(INTRO!$E$37=\"Endémique\",INTRO!$E$39=\"Non endémique\"),IF(COUNTRY_INFO!B62=0,\" \",COUNTRY_INFO!B62),\" \")","v":" "},{"$f":"IF(AND(INTRO!$E$37=\"Endémique\",INTRO!$E$39=\"Non endémique\"),IF(COUNTRY_INFO!C62=0,\" \",COUNTRY_INFO!C62),\" \")","v":" "},{"$f":"IF(COUNTRY_INFO!Z62<>\"\",COUNTRY_INFO!V62,0)","v":0},{"$f":"IF(AND(COUNTRY_INFO!Z62<>\"\",COUNTRY_INFO!$H62=1),COUNTRY_INFO!F62+COUNTRY_INFO!G62,0)","v":0},0,null,0]
[{"$f":"IF(AND(INTRO!$E$37=\"Endémique\",INTRO!$E$39=\"Non endémique\"),IF(COUNTRY_INFO!A63=0,\" \",COUNTRY_INFO!A63),\" \")","v":" "},{"$f":"IF(AND(INTRO!$E$37=\"Endémique\",INTRO!$E$39=\"Non endémique\"),IF(COUNTRY_INFO!B63=0,\" \",COUNTRY_INFO!B63),\" \")","v":" "},{"$f":"IF(AND(INTRO!$E$37=\"Endémique\",INTRO!$E$39=\"Non endémique\"),IF(COUNTRY_INFO!C63=0,\" \",COUNTRY_INFO!C63),\" \")","v":" "},{"$f":"IF(COUNTRY_INFO!Z63<>\"\",COUNTRY_INFO!V63,0)","v":0},{"$f":"IF(AND(COUNTRY_INFO!Z63<>\"\",COUNTRY_INFO!$H63=1),COUNTRY_INFO!F63+COUNTRY_INFO!G63,0)","v":0},0,null,0]
[{"$f":"IF(AND(INTRO!$E$37=\"Endémique\",INTRO!$E$39=\"Non endémique\"),IF(COUNTRY_INFO!A64=0,\" \",COUNTRY_INFO!A64),\" \")","v":" "},{"$f":"IF(AND(INTRO!$E$37=\"Endémique\",INTRO!$E$39=\"Non endémique\"),IF(COUNTRY_INFO!B64=0,\" \",COUNTRY_INFO!B64),\" \")","v":" "},{"$f":"IF(AND(INTRO!$E$37=\"Endémique\",INTRO!$E$39=\"Non endémique\"),IF(COUNTRY_INFO!C64=0,\" \",COUNTRY_INFO!C64),\" \")","v":" "},{"$f":"IF(COUNTRY_INFO!Z64<>\"\",COUNTRY_INFO!V64,0)","v":0},{"$f":"IF(AND(COUNTRY_INFO!Z64<>\"\",COUNTRY_INFO!$H64=1),COUNTRY_INFO!F64+COUNTRY_INFO!G64,0)","v":0},0,null,0]
[{"$f":"IF(AND(INTRO!$E$37=\"Endémique\",INTRO!$E$39=\"Non endémique\"),IF(COUNTRY_INFO!A65=0,\" \",COUNTRY_INFO!A65),\" \")","v":" "},{"$f":"IF(AND(INTRO!$E$37=\"Endémique\",INTRO!$E$39=\"Non endémique\"),IF(COUNTRY_INFO!B65=0,\" \",COUNTRY_INFO!B65),\" \")","v":" "},{"$f":"IF(AND(INTRO!$E$37=\"Endémique\",INTRO!$E$39=\"Non endémique\"),IF(COUNTRY_INFO!C65=0,\" \",COUNTRY_INFO!C65),\" \")","v":" "},{"$f":"IF(COUNTRY_INFO!Z65<>\"\",COUNTRY_INFO!V65,0)","v":0},{"$f":"IF(AND(COUNTRY_INFO!Z65<>\"\",COUNTRY_INFO!$H65=1),COUNTRY_INFO!F65+COUNTRY_INFO!G65,0)","v":0},0,null,0]
[{"$f":"IF(AND(INTRO!$E$37=\"Endémique\",INTRO!$E$39=\"Non endémique\"),IF(COUNTRY_INFO!A66=0,\" \",COUNTRY_INFO!A66),\" \")","v":" "},{"$f":"IF(AND(INTRO!$E$37=\"Endémique\",INTRO!$E$39=\"Non endémique\"),IF(COUNTRY_INFO!B66=0,\" \",COUNTRY_INFO!B66),\" \")","v":" "},{"$f":"IF(AND(INTRO!$E$37=\"Endémique\",INTRO!$E$39=\"Non endémique\"),IF(COUNTRY_INFO!C66=0,\" \",COUNTRY_INFO!C66),\" \")","v":" "},{"$f":"IF(COUNTRY_INFO!Z66<>\"\",COUNTRY_INFO!V66,0)","v":0},{"$f":"IF(AND(COUNTRY_INFO!Z66<>\"\",COUNTRY_INFO!$H66=1),COUNTRY_INFO!F66+COUNTRY_INFO!G66,0)","v":0},0,null,0]
[{"$f":"IF(AND(INTRO!$E$37=\"Endémique\",INTRO!$E$39=\"Non endémique\"),IF(COUNTRY_INFO!A67=0,\" \",COUNTRY_INFO!A67),\" \")","v":" "},{"$f":"IF(AND(INTRO!$E$37=\"Endémique\",INTRO!$E$39=\"Non endémique\"),IF(COUNTRY_INFO!B67=0,\" \",COUNTRY_INFO!B67),\" \")","v":" "},{"$f":"IF(AND(INTRO!$E$37=\"Endémique\",INTRO!$E$39=\"Non endémique\"),IF(COUNTRY_INFO!C67=0,\" \",COUNTRY_INFO!C67),\" \")","v":" "},{"$f":"IF(COUNTRY_INFO!Z67<>\"\",COUNTRY_INFO!V67,0)","v":0},{"$f":"IF(AND(COUNTRY_INFO!Z67<>\"\",COUNTRY_INFO!$H67=1),COUNTRY_INFO!F67+COUNTRY_INFO!G67,0)","v":0},0,null,0]
[{"$f":"IF(AND(INTRO!$E$37=\"Endémique\",INTRO!$E$39=\"Non endémique\"),IF(COUNTRY_INFO!A68=0,\" \",COUNTRY_INFO!A68),\" \")","v":" "},{"$f":"IF(AND(INTRO!$E$37=\"Endémique\",INTRO!$E$39=\"Non endémique\"),IF(COUNTRY_INFO!B68=0,\" \",COUNTRY_INFO!B68),\" \")","v":" "},{"$f":"IF(AND(INTRO!$E$37=\"Endémique\",INTRO!$E$39=\"Non endémique\"),IF(COUNTRY_INFO!C68=0,\" \",COUNTRY_INFO!C68),\" \")","v":" "},{"$f":"IF(COUNTRY_INFO!Z68<>\"\",COUNTRY_INFO!V68,0)","v":0},{"$f":"IF(AND(COUNTRY_INFO!Z68<>\"\",COUNTRY_INFO!$H68=1),COUNTRY_INFO!F68+COUNTRY_INFO!G68,0)","v":0},0,null,0]
[{"$f":"IF(AND(INTRO!$E$37=\"Endémique\",INTRO!$E$39=\"Non endémique\"),IF(COUNTRY_INFO!A69=0,\" \",COUNTRY_INFO!A69),\" \")","v":" "},{"$f":"IF(AND(INTRO!$E$37=\"Endémique\",INTRO!$E$39=\"Non endémique\"),IF(COUNTRY_INFO!B69=0,\" \",COUNTRY_INFO!B69),\" \")","v":" "},{"$f":"IF(AND(INTRO!$E$37=\"Endémique\",INTRO!$E$39=\"Non endémique\"),IF(COUNTRY_INFO!C69=0,\" \",COUNTRY_INFO!C69),\" \")","v":" "},{"$f":"IF(COUNTRY_INFO!Z69<>\"\",COUNTRY_INFO!V69,0)","v":0},{"$f":"IF(AND(COUNTRY_INFO!Z69<>\"\",COUNTRY_INFO!$H69=1),COUNTRY_INFO!F69+COUNTRY_INFO!G69,0)","v":0},0,null,0]
[{"$f":"IF(AND(INTRO!$E$37=\"Endémique\",INTRO!$E$39=\"Non endémique\"),IF(COUNTRY_INFO!A70=0,\" \",COUNTRY_INFO!A70),\" \")","v":" "},{"$f":"IF(AND(INTRO!$E$37=\"Endémique\",INTRO!$E$39=\"Non endémique\"),IF(COUNTRY_INFO!B70=0,\" \",COUNTRY_INFO!B70),\" \")","v":" "},{"$f":"IF(AND(INTRO!$E$37=\"Endémique\",INTRO!$E$39=\"Non endémique\"),IF(COUNTRY_INFO!C70=0,\" \",COUNTRY_INFO!C70),\" \")","v":" "},{"$f":"IF(COUNTRY_INFO!Z70<>\"\",COUNTRY_INFO!V70,0)","v":0},{"$f":"IF(AND(COUNTRY_INFO!Z70<>\"\",COUNTRY_INFO!$H70=1),COUNTRY_INFO!F70+COUNTRY_INFO!G70,0)","v":0},0,null,0]
[{"$f":"IF(AND(INTRO!$E$37=\"Endémique\",INTRO!$E$39=\"Non endémique\"),IF(COUNTRY_INFO!A71=0,\" \",COUNTRY_INFO!A71),\" \")","v":" "},{"$f":"IF(AND(INTRO!$E$37=\"Endémique\",INTRO!$E$39=\"Non endémique\"),IF(COUNTRY_INFO!B71=0,\" \",COUNTRY_INFO!B71),\" \")","v":" "},{"$f":"IF(AND(INTRO!$E$37=\"Endémique\",INTRO!$E$39=\"Non endémique\"),IF(COUNTRY_INFO!C71=0,\" \",COUNTRY_INFO!C71),\" \")","v":" "},{"$f":"IF(COUNTRY_INFO!Z71<>\"\",COUNTRY_INFO!V71,0)","v":0},{"$f":"IF(AND(COUNTRY_INFO!Z71<>\"\",COUNTRY_INFO!$H71=1),COUNTRY_INFO!F71+COUNTRY_INFO!G71,0)","v":0},0,null,0]
[{"$f":"IF(AND(INTRO!$E$37=\"Endémique\",INTRO!$E$39=\"Non endémique\"),IF(COUNTRY_INFO!A72=0,\" \",COUNTRY_INFO!A72),\" \")","v":" "},{"$f":"IF(AND(INTRO!$E$37=\"Endémique\",INTRO!$E$39=\"Non endémique\"),IF(COUNTRY_INFO!B72=0,\" \",COUNTRY_INFO!B72),\" \")","v":" "},{"$f":"IF(AND(INTRO!$E$37=\"Endémique\",INTRO!$E$39=\"Non endémique\"),IF(COUNTRY_INFO!C72=0,\" \",COUNTRY_INFO!C72),\" \")","v":" "},{"$f":"IF(COUNTRY_INFO!Z72<>\"\",COUNTRY_INFO!V72,0)","v":0},{"$f":"IF(AND(COUNTRY_INFO!Z72<>\"\",COUNTRY_INFO!$H72=1),COUNTRY_INFO!F72+COUNTRY_INFO!G72,0)","v":0},0,null,0]
[{"$f":"IF(AND(INTRO!$E$37=\"Endémique\",INTRO!$E$39=\"Non endémique\"),IF(COUNTRY_INFO!A73=0,\" \",COUNTRY_INFO!A73),\" \")","v":" "},{"$f":"IF(AND(INTRO!$E$37=\"Endémique\",INTRO!$E$39=\"Non endémique\"),IF(COUNTRY_INFO!B73=0,\" \",COUNTRY_INFO!B73),\" \")","v":" "},{"$f":"IF(AND(INTRO!$E$37=\"Endémique\",INTRO!$E$39=\"Non endémique\"),IF(COUNTRY_INFO!C73=0,\" \",COUNTRY_INFO!C73),\" \")","v":" "},{"$f":"IF(COUNTRY_INFO!Z73<>\"\",COUNTRY_INFO!V73,0)","v":0},{"$f":"IF(AND(COUNTRY_INFO!Z73<>\"\",COUNTRY_INFO!$H73=1),COUNTRY_INFO!F73+COUNTRY_INFO!G73,0)","v":0},0,null,0]
[{"$f":"IF(AND(INTRO!$E$37=\"Endémique\",INTRO!$E$39=\"Non endémique\"),IF(COUNTRY_INFO!A74=0,\" \",COUNTRY_INFO!A74),\" \")","v":" "},{"$f":"IF(AND(INTRO!$E$37=\"Endémique\",INTRO!$E$39=\"Non endémique\"),IF(COUNTRY_INFO!B74=0,\" \",COUNTRY_INFO!B74),\" \")","v":" "},{"$f":"IF(AND(INTRO!$E$37=\"Endémique\",INTRO!$E$39=\"Non endémique\"),IF(COUNTRY_INFO!C74=0,\" \",COUNTRY_INFO!C74),\" \")","v":" "},{"$f":"IF(COUNTRY_INFO!Z74<>\"\",COUNTRY_INFO!V74,0)","v":0},{"$f":"IF(AND(COUNTRY_INFO!Z74<>\"\",COUNTRY_INFO!$H74=1),COUNTRY_INFO!F74+COUNTRY_INFO!G74,0)","v":0},0,null,0]
[{"$f":"IF(AND(INTRO!$E$37=\"Endémique\",INTRO!$E$39=\"Non endémique\"),IF(COUNTRY_INFO!A75=0,\" \",COUNTRY_INFO!A75),\" \")","v":" "},{"$f":"IF(AND(INTRO!$E$37=\"Endémique\",INTRO!$E$39=\"Non endémique\"),IF(COUNTRY_INFO!B75=0,\" \",COUNTRY_INFO!B75),\" \")","v":" "},{"$f":"IF(AND(INTRO!$E$37=\"Endémique\",INTRO!$E$39=\"Non endémique\"),IF(COUNTRY_INFO!C75=0,\" \",COUNTRY_INFO!C75),\" \")","v":" "},{"$f":"IF(COUNTRY_INFO!Z75<>\"\",COUNTRY_INFO!V75,0)","v":0},{"$f":"IF(AND(COUNTRY_INFO!Z75<>\"\",COUNTRY_INFO!$H75=1),COUNTRY_INFO!F75+COUNTRY_INFO!G75,0)","v":0},{"$f":"E75*2.8","v":0},null,0]
[{"$f":"IF(AND(INTRO!$E$37=\"Endémique\",INTRO!$E$39=\"Non endémique\"),IF(COUNTRY_INFO!A76=0,\" \",COUNTRY_INFO!A76),\" \")","v":" "},{"$f":"IF(AND(INTRO!$E$37=\"Endémique\",INTRO!$E$39=\"Non endémique\"),IF(COUNTRY_INFO!B76=0,\" \",COUNTRY_INFO!B76),\" \")","v":" "},{"$f":"IF(AND(INTRO!$E$37=\"Endémique\",INTRO!$E$39=\"Non endémique\"),IF(COUNTRY_INFO!C76=0,\" \",COUNTRY_INFO!C76),\" \")","v":" "},{"$f":"IF(COUNTRY_INFO!Z76<>\"\",COUNTRY_INFO!V76,0)","v":0},{"$f":"IF(AND(COUNTRY_INFO!Z76<>\"\",COUNTRY_INFO!$H76=1),COUNTRY_INFO!F76+COUNTRY_INFO!G76,0)","v":0},0,null,0]
[{"$f":"IF(AND(INTRO!$E$37=\"Endémique\",INTRO!$E$39=\"Non endémique\"),IF(COUNTRY_INFO!A77=0,\" \",COUNTRY_INFO!A77),\" \")","v":" "},{"$f":"IF(AND(INTRO!$E$37=\"Endémique\",INTRO!$E$39=\"Non endémique\"),IF(COUNTRY_INFO!B77=0,\" \",COUNTRY_INFO!B77),\" \")","v":" "},{"$f":"IF(AND(INTRO!$E$37=\"Endémique\",INTRO!$E$39=\"Non endémique\"),IF(COUNTRY_INFO!C77=0,\" \",COUNTRY_INFO!C77),\" \")","v":" "},{"$f":"IF(COUNTRY_INFO!Z77<>\"\",COUNTRY_INFO!V77,0)","v":0},{"$f":"IF(AND(COUNTRY_INFO!Z77<>\"\",COUNTRY_INFO!$H77=1),COUNTRY_INFO!F77+COUNTRY_INFO!G77,0)","v":0},0,null,0]
[{"$f":"IF(AND(INTRO!$E$37=\"Endémique\",INTRO!$E$39=\"Non endémique\"),IF(COUNTRY_INFO!A78=0,\" \",COUNTRY_INFO!A78),\" \")","v":" "},{"$f":"IF(AND(INTRO!$E$37=\"Endémique\",INTRO!$E$39=\"Non endémique\"),IF(COUNTRY_INFO!B78=0,\" \",COUNTRY_INFO!B78),\" \")","v":" "},{"$f":"IF(AND(INTRO!$E$37=\"Endémique\",INTRO!$E$39=\"Non endémique\"),IF(COUNTRY_INFO!C78=0,\" \",COUNTRY_INFO!C78),\" \")","v":" "},{"$f":"IF(COUNTRY_INFO!Z78<>\"\",COUNTRY_INFO!V78,0)","v":0},{"$f":"IF(AND(COUNTRY_INFO!Z78<>\"\",COUNTRY_INFO!$H78=1),COUNTRY_INFO!F78+COUNTRY_INFO!G78,0)","v":0},0,null,0]
[{"$f":"IF(AND(INTRO!$E$37=\"Endémique\",INTRO!$E$39=\"Non endémique\"),IF(COUNTRY_INFO!A79=0,\" \",COUNTRY_INFO!A79),\" \")","v":" "},{"$f":"IF(AND(INTRO!$E$37=\"Endémique\",INTRO!$E$39=\"Non endémique\"),IF(COUNTRY_INFO!B79=0,\" \",COUNTRY_INFO!B79),\" \")","v":" "},{"$f":"IF(AND(INTRO!$E$37=\"Endémique\",INTRO!$E$39=\"Non endémique\"),IF(COUNTRY_INFO!C79=0,\" \",COUNTRY_INFO!C79),\" \")","v":" "},{"$f":"IF(COUNTRY_INFO!Z79<>\"\",COUNTRY_INFO!V79,0)","v":0},{"$f":"IF(AND(COUNTRY_INFO!Z79<>\"\",COUNTRY_INFO!$H79=1),COUNTRY_INFO!F79+COUNTRY_INFO!G79,0)","v":0},0,null,0]
[{"$f":"IF(AND(INTRO!$E$37=\"Endémique\",INTRO!$E$39=\"Non endémique\"),IF(COUNTRY_INFO!A80=0,\" \",COUNTRY_INFO!A80),\" \")","v":" "},{"$f":"IF(AND(INTRO!$E$37=\"Endémique\",INTRO!$E$39=\"Non endémique\"),IF(COUNTRY_INFO!B80=0,\" \",COUNTRY_INFO!B80),\" \")","v":" "},{"$f":"IF(AND(INTRO!$E$37=\"Endémique\",INTRO!$E$39=\"Non endémique\"),IF(COUNTRY_INFO!C80=0,\" \",COUNTRY_INFO!C80),\" \")","v":" "},{"$f":"IF(COUNTRY_INFO!Z80<>\"\",COUNTRY_INFO!V80,0)","v":0},{"$f":"IF(AND(COUNTRY_INFO!Z80<>\"\",COUNTRY_INFO!$H80=1),COUNTRY_INFO!F80+COUNTRY_INFO!G80,0)","v":0},0,null,0]
[{"$f":"IF(AND(INTRO!$E$37=\"Endémique\",INTRO!$E$39=\"Non endémique\"),IF(COUNTRY_INFO!A81=0,\" \",COUNTRY_INFO!A81),\" \")","v":" "},{"$f":"IF(AND(INTRO!$E$37=\"Endémique\",INTRO!$E$39=\"Non endémique\"),IF(COUNTRY_INFO!B81=0,\" \",COUNTRY_INFO!B81),\" \")","v":" "},{"$f":"IF(AND(INTRO!$E$37=\"Endémique\",INTRO!$E$39=\"Non endémique\"),IF(COUNTRY_INFO!C81=0,\" \",COUNTRY_INFO!C81),\" \")","v":" "},{"$f":"IF(COUNTRY_INFO!Z81<>\"\",COUNTRY_INFO!V81,0)","v":0},{"$f":"IF(AND(COUNTRY_INFO!Z81<>\"\",COUNTRY_INFO!$H81=1),COUNTRY_INFO!F81+COUNTRY_INFO!G81,0)","v":0},0,null,0]
[{"$f":"IF(AND(INTRO!$E$37=\"Endémique\",INTRO!$E$39=\"Non endémique\"),IF(COUNTRY_INFO!A82=0,\" \",COUNTRY_INFO!A82),\" \")","v":" "},{"$f":"IF(AND(INTRO!$E$37=\"Endémique\",INTRO!$E$39=\"Non endémique\"),IF(COUNTRY_INFO!B82=0,\" \",COUNTRY_INFO!B82),\" \")","v":" "},{"$f":"IF(AND(INTRO!$E$37=\"Endémique\",INTRO!$E$39=\"Non endémique\"),IF(COUNTRY_INFO!C82=0,\" \",COUNTRY_INFO!C82),\" \")","v":" "},{"$f":"IF(COUNTRY_INFO!Z82<>\"\",COUNTRY_INFO!V82,0)","v":0},{"$f":"IF(AND(COUNTRY_INFO!Z82<>\"\",COUNTRY_INFO!$H82=1),COUNTRY_INFO!F82+COUNTRY_INFO!G82,0)","v":0},0,null,0]
[{"$f":"IF(AND(INTRO!$E$37=\"Endémique\",INTRO!$E$39=\"Non endémique\"),IF(COUNTRY_INFO!A83=0,\" \",COUNTRY_INFO!A83),\" \")","v":" "},{"$f":"IF(AND(INTRO!$E$37=\"Endémique\",INTRO!$E$39=\"Non endémique\"),IF(COUNTRY_INFO!B83=0,\" \",COUNTRY_INFO!B83),\" \")","v":" "},{"$f":"IF(AND(INTRO!$E$37=\"Endémique\",INTRO!$E$39=\"Non endémique\"),IF(COUNTRY_INFO!C83=0,\" \",COUNTRY_INFO!C83),\" \")","v":" "},{"$f":"IF(COUNTRY_INFO!Z83<>\"\",COUNTRY_INFO!V83,0)","v":0},{"$f":"IF(AND(COUNTRY_INFO!Z83<>\"\",COUNTRY_INFO!$H83=1),COUNTRY_INFO!F83+COUNTRY_INFO!G83,0)","v":0},0,null,0]
[{"$f":"IF(AND(INTRO!$E$37=\"Endémique\",INTRO!$E$39=\"Non endémique\"),IF(COUNTRY_INFO!A84=0,\" \",COUNTRY_INFO!A84),\" \")","v":" "},{"$f":"IF(AND(INTRO!$E$37=\"Endémique\",INTRO!$E$39=\"Non endémique\"),IF(COUNTRY_INFO!B84=0,\" \",COUNTRY_INFO!B84),\" \")","v":" "},{"$f":"IF(AND(INTRO!$E$37=\"Endémique\",INTRO!$E$39=\"Non endémique\"),IF(COUNTRY_INFO!C84=0,\" \",COUNTRY_INFO!C84),\" \")","v":" "},{"$f":"IF(COUNTRY_INFO!Z84<>\"\",COUNTRY_INFO!V84,0)","v":0},{"$f":"IF(AND(COUNTRY_INFO!Z84<>\"\",COUNTRY_INFO!$H84=1),COUNTRY_INFO!F84+COUNTRY_INFO!G84,0)","v":0},0,null,0]
[{"$f":"IF(AND(INTRO!$E$37=\"Endémique\",INTRO!$E$39=\"Non endémique\"),IF(COUNTRY_INFO!A85=0,\" \",COUNTRY_INFO!A85),\" \")","v":" "},{"$f":"IF(AND(INTRO!$E$37=\"Endémique\",INTRO!$E$39=\"Non endémique\"),IF(COUNTRY_INFO!B85=0,\" \",COUNTRY_INFO!B85),\" \")","v":" "},{"$f":"IF(AND(INTRO!$E$37=\"Endémique\",INTRO!$E$39=\"Non endémique\"),IF(COUNTRY_INFO!C85=0,\" \",COUNTRY_INFO!C85),\" \")","v":" "},{"$f":"IF(COUNTRY_INFO!Z85<>\"\",COUNTRY_INFO!V85,0)","v":0},{"$f":"IF(AND(COUNTRY_INFO!Z85<>\"\",COUNTRY_INFO!$H85=1),COUNTRY_INFO!F85+COUNTRY_INFO!G85,0)","v":0},0,null,0]
[{"$f":"IF(AND(INTRO!$E$37=\"Endémique\",INTRO!$E$39=\"Non endémique\"),IF(COUNTRY_INFO!A86=0,\" \",COUNTRY_INFO!A86),\" \")","v":" "},{"$f":"IF(AND(INTRO!$E$37=\"Endémique\",INTRO!$E$39=\"Non endémique\"),IF(COUNTRY_INFO!B86=0,\" \",COUNTRY_INFO!B86),\" \")","v":" "},{"$f":"IF(AND(INTRO!$E$37=\"Endémique\",INTRO!$E$39=\"Non endémique\"),IF(COUNTRY_INFO!C86=0,\" \",COUNTRY_INFO!C86),\" \")","v":" "},{"$f":"IF(COUNTRY_INFO!Z86<>\"\",COUNTRY_INFO!V86,0)","v":0},{"$f":"IF(AND(COUNTRY_INFO!Z86<>\"\",COUNTRY_INFO!$H86=1),COUNTRY_INFO!F86+COUNTRY_INFO!G86,0)","v":0},0,null,0]
[{"$f":"IF(AND(INTRO!$E$37=\"Endémique\",INTRO!$E$39=\"Non endémique\"),IF(COUNTRY_INFO!A87=0,\" \",COUNTRY_INFO!A87),\" \")","v":" "},{"$f":"IF(AND(INTRO!$E$37=\"Endémique\",INTRO!$E$39=\"Non endémique\"),IF(COUNTRY_INFO!B87=0,\" \",COUNTRY_INFO!B87),\" \")","v":" "},{"$f":"IF(AND(INTRO!$E$37=\"Endémique\",INTRO!$E$39=\"Non endémique\"),IF(COUNTRY_INFO!C87=0,\" \",COUNTRY_INFO!C87),\" \")","v":" "},{"$f":"IF(COUNTRY_INFO!Z87<>\"\",COUNTRY_INFO!V87,0)","v":0},{"$f":"IF(AND(COUNTRY_INFO!Z87<>\"\",COUNTRY_INFO!$H87=1),COUNTRY_INFO!F87+COUNTRY_INFO!G87,0)","v":0},0,null,0]
[{"$f":"IF(AND(INTRO!$E$37=\"Endémique\",INTRO!$E$39=\"Non endémique\"),IF(COUNTRY_INFO!A88=0,\" \",COUNTRY_INFO!A88),\" \")","v":" "},{"$f":"IF(AND(INTRO!$E$37=\"Endémique\",INTRO!$E$39=\"Non endémique\"),IF(COUNTRY_INFO!B88=0,\" \",COUNTRY_INFO!B88),\" \")","v":" "},{"$f":"IF(AND(INTRO!$E$37=\"Endémique\",INTRO!$E$39=\"Non endémique\"),IF(COUNTRY_INFO!C88=0,\" \",COUNTRY_INFO!C88),\" \")","v":" "},{"$f":"IF(COUNTRY_INFO!Z88<>\"\",COUNTRY_INFO!V88,0)","v":0},{"$f":"IF(AND(COUNTRY_INFO!Z88<>\"\",COUNTRY_INFO!$H88=1),COUNTRY_INFO!F88+COUNTRY_INFO!G88,0)","v":0},0,null,0]
[{"$f":"IF(AND(INTRO!$E$37=\"Endémique\",INTRO!$E$39=\"Non endémique\"),IF(COUNTRY_INFO!A89=0,\" \",COUNTRY_INFO!A89),\" \")","v":" "},{"$f":"IF(AND(INTRO!$E$37=\"Endémique\",INTRO!$E$39=\"Non endémique\"),IF(COUNTRY_INFO!B89=0,\" \",COUNTRY_INFO!B89),\" \")","v":" "},{"$f":"IF(AND(INTRO!$E$37=\"Endémique\",INTRO!$E$39=\"Non endémique\"),IF(COUNTRY_INFO!C89=0,\" \",COUNTRY_INFO!C89),\" \")","v":" "},{"$f":"IF(COUNTRY_INFO!Z89<>\"\",COUNTRY_INFO!V89,0)","v":0},{"$f":"IF(AND(COUNTRY_INFO!Z89<>\"\",COUNTRY_INFO!$H89=1),COUNTRY_INFO!F89+COUNTRY_INFO!G89,0)","v":0},0,null,0]
[{"$f":"IF(AND(INTRO!$E$37=\"Endémique\",INTRO!$E$39=\"Non endémique\"),IF(COUNTRY_INFO!A90=0,\" \",COUNTRY_INFO!A90),\" \")","v":" "},{"$f":"IF(AND(INTRO!$E$37=\"Endémique\",INTRO!$E$39=\"Non endémique\"),IF(COUNTRY_INFO!B90=0,\" \",COUNTRY_INFO!B90),\" \")","v":" "},{"$f":"IF(AND(INTRO!$E$37=\"Endémique\",INTRO!$E$39=\"Non endémique\"),IF(COUNTRY_INFO!C90=0,\" \",COUNTRY_INFO!C90),\" \")","v":" "},{"$f":"IF(COUNTRY_INFO!Z90<>\"\",COUNTRY_INFO!V90,0)","v":0},{"$f":"IF(AND(COUNTRY_INFO!Z90<>\"\",COUNTRY_INFO!$H90=1),COUNTRY_INFO!F90+COUNTRY_INFO!G90,0)","v":0},0,null,0]
[{"$f":"IF(AND(INTRO!$E$37=\"Endémique\",INTRO!$E$39=\"Non endémique\"),IF(COUNTRY_INFO!A91=0,\" \",COUNTRY_INFO!A91),\" \")","v":" "},{"$f":"IF(AND(INTRO!$E$37=\"Endémique\",INTRO!$E$39=\"Non endémique\"),IF(COUNTRY_INFO!B91=0,\" \",COUNTRY_INFO!B91),\" \")","v":" "},{"$f":"IF(AND(INTRO!$E$37=\"Endémique\",INTRO!$E$39=\"Non endémique\"),IF(COUNTRY_INFO!C91=0,\" \",COUNTRY_INFO!C91),\" \")","v":" "},{"$f":"IF(COUNTRY_INFO!Z91<>\"\",COUNTRY_INFO!V91,0)","v":0},{"$f":"IF(AND(COUNTRY_INFO!Z91<>\"\",COUNTRY_INFO!$H91=1),COUNTRY_INFO!F91+COUNTRY_INFO!G91,0)","v":0},0,null,0]
[{"$f":"IF(AND(INTRO!$E$37=\"Endémique\",INTRO!$E$39=\"Non endémique\"),IF(COUNTRY_INFO!A92=0,\" \",COUNTRY_INFO!A92),\" \")","v":" "},{"$f":"IF(AND(INTRO!$E$37=\"Endémique\",INTRO!$E$39=\"Non endémique\"),IF(COUNTRY_INFO!B92=0,\" \",COUNTRY_INFO!B92),\" \")","v":" "},{"$f":"IF(AND(INTRO!$E$37=\"Endémique\",INTRO!$E$39=\"Non endémique\"),IF(COUNTRY_INFO!C92=0,\" \",COUNTRY_INFO!C92),\" \")","v":" "},{"$f":"IF(COUNTRY_INFO!Z92<>\"\",COUNTRY_INFO!V92,0)","v":0},{"$f":"IF(AND(COUNTRY_INFO!Z92<>\"\",COUNTRY_INFO!$H92=1),COUNTRY_INFO!F92+COUNTRY_INFO!G92,0)","v":0},0,null,0]
[{"$f":"IF(AND(INTRO!$E$37=\"Endémique\",INTRO!$E$39=\"Non endémique\"),IF(COUNTRY_INFO!A93=0,\" \",COUNTRY_INFO!A93),\" \")","v":" "},{"$f":"IF(AND(INTRO!$E$37=\"Endémique\",INTRO!$E$39=\"Non endémique\"),IF(COUNTRY_INFO!B93=0,\" \",COUNTRY_INFO!B93),\" \")","v":" "},{"$f":"IF(AND(INTRO!$E$37=\"Endémique\",INTRO!$E$39=\"Non endémique\"),IF(COUNTRY_INFO!C93=0,\" \",COUNTRY_INFO!C93),\" \")","v":" "},{"$f":"IF(COUNTRY_INFO!Z93<>\"\",COUNTRY_INFO!V93,0)","v":0},{"$f":"IF(AND(COUNTRY_INFO!Z93<>\"\",COUNTRY_INFO!$H93=1),COUNTRY_INFO!F93+COUNTRY_INFO!G93,0)","v":0},0,null,0]
[{"$f":"IF(AND(INTRO!$E$37=\"Endémique\",INTRO!$E$39=\"Non endémique\"),IF(COUNTRY_INFO!A94=0,\" \",COUNTRY_INFO!A94),\" \")","v":" "},{"$f":"IF(AND(INTRO!$E$37=\"Endémique\",INTRO!$E$39=\"Non endémique\"),IF(COUNTRY_INFO!B94=0,\" \",COUNTRY_INFO!B94),\" \")","v":" "},{"$f":"IF(AND(INTRO!$E$37=\"Endémique\",INTRO!$E$39=\"Non endémique\"),IF(COUNTRY_INFO!C94=0,\" \",COUNTRY_INFO!C94),\" \")","v":" "},{"$f":"IF(COUNTRY_INFO!Z94<>\"\",COUNTRY_INFO!V94,0)","v":0},{"$f":"IF(AND(COUNTRY_INFO!Z94<>\"\",COUNTRY_INFO!$H94=1),COUNTRY_INFO!F94+COUNTRY_INFO!G94,0)","v":0},0,null,0]
[{"$f":"IF(AND(INTRO!$E$37=\"Endémique\",INTRO!$E$39=\"Non endémique\"),IF(COUNTRY_INFO!A95=0,\" \",COUNTRY_INFO!A95),\" \")","v":" "},{"$f":"IF(AND(INTRO!$E$37=\"Endémique\",INTRO!$E$39=\"Non endémique\"),IF(COUNTRY_INFO!B95=0,\" \",COUNTRY_INFO!B95),\" \")","v":" "},{"$f":"IF(AND(INTRO!$E$37=\"Endémique\",INTRO!$E$39=\"Non endémique\"),IF(COUNTRY_INFO!C95=0,\" \",COUNTRY_INFO!C95),\" \")","v":" "},{"$f":"IF(COUNTRY_INFO!Z95<>\"\",COUNTRY_INFO!V95,0)","v":0},{"$f":"IF(AND(COUNTRY_INFO!Z95<>\"\",COUNTRY_INFO!$H95=1),COUNTRY_INFO!F95+COUNTRY_INFO!G95,0)","v":0},0,null,0]
[{"$f":"IF(AND(INTRO!$E$37=\"Endémique\",INTRO!$E$39=\"Non endémique\"),IF(COUNTRY_INFO!A96=0,\" \",COUNTRY_INFO!A96),\" \")","v":" "},{"$f":"IF(AND(INTRO!$E$37=\"Endémique\",INTRO!$E$39=\"Non endémique\"),IF(COUNTRY_INFO!B96=0,\" \",COUNTRY_INFO!B96),\" \")","v":" "},{"$f":"IF(AND(INTRO!$E$37=\"Endémique\",INTRO!$E$39=\"Non endémique\"),IF(COUNTRY_INFO!C96=0,\" \",COUNTRY_INFO!C96),\" \")","v":" "},{"$f":"IF(COUNTRY_INFO!Z96<>\"\",COUNTRY_INFO!V96,0)","v":0},{"$f":"IF(AND(COUNTRY_INFO!Z96<>\"\",COUNTRY_INFO!$H96=1),COUNTRY_INFO!F96+COUNTRY_INFO!G96,0)","v":0},0,null,0]
[{"$f":"IF(AND(INTRO!$E$37=\"Endémique\",INTRO!$E$39=\"Non endémique\"),IF(COUNTRY_INFO!A97=0,\" \",COUNTRY_INFO!A97),\" \")","v":" "},{"$f":"IF(AND(INTRO!$E$37=\"Endémique\",INTRO!$E$39=\"Non endémique\"),IF(COUNTRY_INFO!B97=0,\" \",COUNTRY_INFO!B97),\" \")","v":" "},{"$f":"IF(AND(INTRO!$E$37=\"Endémique\",INTRO!$E$39=\"Non endémique\"),IF(COUNTRY_INFO!C97=0,\" \",COUNTRY_INFO!C97),\" \")","v":" "},{"$f":"IF(COUNTRY_INFO!Z97<>\"\",COUNTRY_INFO!V97,0)","v":0},{"$f":"IF(AND(COUNTRY_INFO!Z97<>\"\",COUNTRY_INFO!$H97=1),COUNTRY_INFO!F97+COUNTRY_INFO!G97,0)","v":0},0,null,0]
[{"$f":"IF(AND(INTRO!$E$37=\"Endémique\",INTRO!$E$39=\"Non endémique\"),IF(COUNTRY_INFO!A98=0,\" \",COUNTRY_INFO!A98),\" \")","v":" "},{"$f":"IF(AND(INTRO!$E$37=\"Endémique\",INTRO!$E$39=\"Non endémique\"),IF(COUNTRY_INFO!B98=0,\" \",COUNTRY_INFO!B98),\" \")","v":" "},{"$f":"IF(AND(INTRO!$E$37=\"Endémique\",INTRO!$E$39=\"Non endémique\"),IF(COUNTRY_INFO!C98=0,\" \",COUNTRY_INFO!C98),\" \")","v":" "},{"$f":"IF(COUNTRY_INFO!Z98<>\"\",COUNTRY_INFO!V98,0)","v":0},{"$f":"IF(AND(COUNTRY_INFO!Z98<>\"\",COUNTRY_INFO!$H98=1),COUNTRY_INFO!F98+COUNTRY_INFO!G98,0)","v":0},0,null,0]
[{"$f":"IF(AND(INTRO!$E$37=\"Endémique\",INTRO!$E$39=\"Non endémique\"),IF(COUNTRY_INFO!A99=0,\" \",COUNTRY_INFO!A99),\" \")","v":" "},{"$f":"IF(AND(INTRO!$E$37=\"Endémique\",INTRO!$E$39=\"Non endémique\"),IF(COUNTRY_INFO!B99=0,\" \",COUNTRY_INFO!B99),\" \")","v":" "},{"$f":"IF(AND(INTRO!$E$37=\"Endémique\",INTRO!$E$39=\"Non endémique\"),IF(COUNTRY_INFO!C99=0,\" \",COUNTRY_INFO!C99),\" \")","v":" "},{"$f":"IF(COUNTRY_INFO!Z99<>\"\",COUNTRY_INFO!V99,0)","v":0},{"$f":"IF(AND(COUNTRY_INFO!Z99<>\"\",COUNTRY_INFO!$H99=1),COUNTRY_INFO!F99+COUNTRY_INFO!G99,0)","v":0},0,null,0]
[{"$f":"IF(AND(INTRO!$E$37=\"Endémique\",INTRO!$E$39=\"Non endémique\"),IF(COUNTRY_INFO!A100=0,\" \",COUNTRY_INFO!A100),\" \")","v":" "},{"$f":"IF(AND(INTRO!$E$37=\"Endémique\",INTRO!$E$39=\"Non endémique\"),IF(COUNTRY_INFO!B100=0,\" \",COUNTRY_INFO!B100),\" \")","v":" "},{"$f":"IF(AND(INTRO!$E$37=\"Endémique\",INTRO!$E$39=\"Non endémique\"),IF(COUNTRY_INFO!C100=0,\" \",COUNTRY_INFO!C100),\" \")","v":" "},{"$f":"IF(COUNTRY_INFO!Z100<>\"\",COUNTRY_INFO!V100,0)","v":0},{"$f":"IF(AND(COUNTRY_INFO!Z100<>\"\",COUNTRY_INFO!$H100=1),COUNTRY_INFO!F100+COUNTRY_INFO!G100,0)","v":0},0,null,0]
[{"$f":"IF(AND(INTRO!$E$37=\"Endémique\",INTRO!$E$39=\"Non endémique\"),IF(COUNTRY_INFO!A101=0,\" \",COUNTRY_INFO!A101),\" \")","v":" "},{"$f":"IF(AND(INTRO!$E$37=\"Endémique\",INTRO!$E$39=\"Non endémique\"),IF(COUNTRY_INFO!B101=0,\" \",COUNTRY_INFO!B101),\" \")","v":" "},{"$f":"IF(AND(INTRO!$E$37=\"Endémique\",INTRO!$E$39=\"Non endémique\"),IF(COUNTRY_INFO!C101=0,\" \",COUNTRY_INFO!C101),\" \")","v":" "},{"$f":"IF(COUNTRY_INFO!Z101<>\"\",COUNTRY_INFO!V101,0)","v":0},{"$f":"IF(AND(COUNTRY_INFO!Z101<>\"\",COUNTRY_INFO!$H101=1),COUNTRY_INFO!F101+COUNTRY_INFO!G101,0)","v":0},0,null,0]
[{"$f":"IF(AND(INTRO!$E$37=\"Endémique\",INTRO!$E$39=\"Non endémique\"),IF(COUNTRY_INFO!A102=0,\" \",COUNTRY_INFO!A102),\" \")","v":" "},{"$f":"IF(AND(INTRO!$E$37=\"Endémique\",INTRO!$E$39=\"Non endémique\"),IF(COUNTRY_INFO!B102=0,\" \",COUNTRY_INFO!B102),\" \")","v":" "},{"$f":"IF(AND(INTRO!$E$37=\"Endémique\",INTRO!$E$39=\"Non endémique\"),IF(COUNTRY_INFO!C102=0,\" \",COUNTRY_INFO!C102),\" \")","v":" "},{"$f":"IF(COUNTRY_INFO!Z102<>\"\",COUNTRY_INFO!V102,0)","v":0},{"$f":"IF(AND(COUNTRY_INFO!Z102<>\"\",COUNTRY_INFO!$H102=1),COUNTRY_INFO!F102+COUNTRY_INFO!G102,0)","v":0},0,null,0]
[{"$f":"IF(AND(INTRO!$E$37=\"Endémique\",INTRO!$E$39=\"Non endémique\"),IF(COUNTRY_INFO!A103=0,\" \",COUNTRY_INFO!A103),\" \")","v":" "},{"$f":"IF(AND(INTRO!$E$37=\"Endémique\",INTRO!$E$39=\"Non endémique\"),IF(COUNTRY_INFO!B103=0,\" \",COUNTRY_INFO!B103),\" \")","v":" "},{"$f":"IF(AND(INTRO!$E$37=\"Endémique\",INTRO!$E$39=\"Non endémique\"),IF(COUNTRY_INFO!C103=0,\" \",COUNTRY_INFO!C103),\" \")","v":" "},{"$f":"IF(COUNTRY_INFO!Z103<>\"\",COUNTRY_INFO!V103,0)","v":0},{"$f":"IF(AND(COUNTRY_INFO!Z103<>\"\",COUNTRY_INFO!$H103=1),COUNTRY_INFO!F103+COUNTRY_INFO!G103,0)","v":0},0,null,0]
[{"$f":"IF(AND(INTRO!$E$37=\"Endémique\",INTRO!$E$39=\"Non endémique\"),IF(COUNTRY_INFO!A104=0,\" \",COUNTRY_INFO!A104),\" \")","v":" "},{"$f":"IF(AND(INTRO!$E$37=\"Endémique\",INTRO!$E$39=\"Non endémique\"),IF(COUNTRY_INFO!B104=0,\" \",COUNTRY_INFO!B104),\" \")","v":" "},{"$f":"IF(AND(INTRO!$E$37=\"Endémique\",INTRO!$E$39=\"Non endémique\"),IF(COUNTRY_INFO!C104=0,\" \",COUNTRY_INFO!C104),\" \")","v":" "},{"$f":"IF(COUNTRY_INFO!Z104<>\"\",COUNTRY_INFO!V104,0)","v":0},{"$f":"IF(AND(COUNTRY_INFO!Z104<>\"\",COUNTRY_INFO!$H104=1),COUNTRY_INFO!F104+COUNTRY_INFO!G104,0)","v":0},0,null,0]
[{"$f":"IF(AND(INTRO!$E$37=\"Endémique\",INTRO!$E$39=\"Non endémique\"),IF(COUNTRY_INFO!A105=0,\" \",COUNTRY_INFO!A105),\" \")","v":" "},{"$f":"IF(AND(INTRO!$E$37=\"Endémique\",INTRO!$E$39=\"Non endémique\"),IF(COUNTRY_INFO!B105=0,\" \",COUNTRY_INFO!B105),\" \")","v":" "},{"$f":"IF(AND(INTRO!$E$37=\"Endémique\",INTRO!$E$39=\"Non endémique\"),IF(COUNTRY_INFO!C105=0,\" \",COUNTRY_INFO!C105),\" \")","v":" "},{"$f":"IF(COUNTRY_INFO!Z105<>\"\",COUNTRY_INFO!V105,0)","v":0},{"$f":"IF(AND(COUNTRY_INFO!Z105<>\"\",COUNTRY_INFO!$H105=1),COUNTRY_INFO!F105+COUNTRY_INFO!G105,0)","v":0},0,null,0]
[{"$f":"IF(AND(INTRO!$E$37=\"Endémique\",INTRO!$E$39=\"Non endémique\"),IF(COUNTRY_INFO!A106=0,\" \",COUNTRY_INFO!A106),\" \")","v":" "},{"$f":"IF(AND(INTRO!$E$37=\"Endémique\",INTRO!$E$39=\"Non endémique\"),IF(COUNTRY_INFO!B106=0,\" \",COUNTRY_INFO!B106),\" \")","v":" "},{"$f":"IF(AND(INTRO!$E$37=\"Endémique\",INTRO!$E$39=\"Non endémique\"),IF(COUNTRY_INFO!C106=0,\" \",COUNTRY_INFO!C106),\" \")","v":" "},{"$f":"IF(COUNTRY_INFO!Z106<>\"\",COUNTRY_INFO!V106,0)","v":0},{"$f":"IF(AND(COUNTRY_INFO!Z106<>\"\",COUNTRY_INFO!$H106=1),COUNTRY_INFO!F106+COUNTRY_INFO!G106,0)","v":0},0,null,0]
[{"$f":"IF(AND(INTRO!$E$37=\"Endémique\",INTRO!$E$39=\"Non endémique\"),IF(COUNTRY_INFO!A107=0,\" \",COUNTRY_INFO!A107),\" \")","v":" "},{"$f":"IF(AND(INTRO!$E$37=\"Endémique\",INTRO!$E$39=\"Non endémique\"),IF(COUNTRY_INFO!B107=0,\" \",COUNTRY_INFO!B107),\" \")","v":" "},{"$f":"IF(AND(INTRO!$E$37=\"Endémique\",INTRO!$E$39=\"Non endémique\"),IF(COUNTRY_INFO!C107=0,\" \",COUNTRY_INFO!C107),\" \")","v":" "},{"$f":"IF(COUNTRY_INFO!Z107<>\"\",COUNTRY_INFO!V107,0)","v":0},{"$f":"IF(AND(COUNTRY_INFO!Z107<>\"\",COUNTRY_INFO!$H107=1),COUNTRY_INFO!F107+COUNTRY_INFO!G107,0)","v":0},0,null,0]
[{"$f":"IF(AND(INTRO!$E$37=\"Endémique\",INTRO!$E$39=\"Non endémique\"),IF(COUNTRY_INFO!A108=0,\" \",COUNTRY_INFO!A108),\" \")","v":" "},{"$f":"IF(AND(INTRO!$E$37=\"Endémique\",INTRO!$E$39=\"Non endémique\"),IF(COUNTRY_INFO!B108=0,\" \",COUNTRY_INFO!B108),\" \")","v":" "},{"$f":"IF(AND(INTRO!$E$37=\"Endémique\",INTRO!$E$39=\"Non endémique\"),IF(COUNTRY_INFO!C108=0,\" \",COUNTRY_INFO!C108),\" \")","v":" "},{"$f":"IF(COUNTRY_INFO!Z108<>\"\",COUNTRY_INFO!V108,0)","v":0},{"$f":"IF(AND(COUNTRY_INFO!Z108<>\"\",COUNTRY_INFO!$H108=1),COUNTRY_INFO!F108+COUNTRY_INFO!G108,0)","v":0},0,null,0]
[{"$f":"IF(AND(INTRO!$E$37=\"Endémique\",INTRO!$E$39=\"Non endémique\"),IF(COUNTRY_INFO!A109=0,\" \",COUNTRY_INFO!A109),\" \")","v":" "},{"$f":"IF(AND(INTRO!$E$37=\"Endémique\",INTRO!$E$39=\"Non endémique\"),IF(COUNTRY_INFO!B109=0,\" \",COUNTRY_INFO!B109),\" \")","v":" "},{"$f":"IF(AND(INTRO!$E$37=\"Endémique\",INTRO!$E$39=\"Non endémique\"),IF(COUNTRY_INFO!C109=0,\" \",COUNTRY_INFO!C109),\" \")","v":" "},{"$f":"IF(COUNTRY_INFO!Z109<>\"\",COUNTRY_INFO!V109,0)","v":0},{"$f":"IF(AND(COUNTRY_INFO!Z109<>\"\",COUNTRY_INFO!$H109=1),COUNTRY_INFO!F109+COUNTRY_INFO!G109,0)","v":0},0,null,0]
[{"$f":"IF(AND(INTRO!$E$37=\"Endémique\",INTRO!$E$39=\"Non endémique\"),IF(COUNTRY_INFO!A110=0,\" \",COUNTRY_INFO!A110),\" \")","v":" "},{"$f":"IF(AND(INTRO!$E$37=\"Endémique\",INTRO!$E$39=\"Non endémique\"),IF(COUNTRY_INFO!B110=0,\" \",COUNTRY_INFO!B110),\" \")","v":" "},{"$f":"IF(AND(INTRO!$E$37=\"Endémique\",INTRO!$E$39=\"Non endémique\"),IF(COUNTRY_INFO!C110=0,\" \",COUNTRY_INFO!C110),\" \")","v":" "},{"$f":"IF(COUNTRY_INFO!Z110<>\"\",COUNTRY_INFO!V110,0)","v":0},{"$f":"IF(AND(COUNTRY_INFO!Z110<>\"\",COUNTRY_INFO!$H110=1),COUNTRY_INFO!F110+COUNTRY_INFO!G110,0)","v":0},0,null,0]
[{"$f":"IF(AND(INTRO!$E$37=\"Endémique\",INTRO!$E$39=\"Non endémique\"),IF(COUNTRY_INFO!A111=0,\" \",COUNTRY_INFO!A111),\" \")","v":" "},{"$f":"IF(AND(INTRO!$E$37=\"Endémique\",INTRO!$E$39=\"Non endémique\"),IF(COUNTRY_INFO!B111=0,\" \",COUNTRY_INFO!B111),\" \")","v":" "},{"$f":"IF(AND(INTRO!$E$37=\"Endémique\",INTRO!$E$39=\"Non endémique\"),IF(COUNTRY_INFO!C111=0,\" \",COUNTRY_INFO!C111),\" \")","v":" "},{"$f":"IF(COUNTRY_INFO!Z111<>\"\",COUNTRY_INFO!V111,0)","v":0},{"$f":"IF(AND(COUNTRY_INFO!Z111<>\"\",COUNTRY_INFO!$H111=1),COUNTRY_INFO!F111+COUNTRY_INFO!G111,0)","v":0},0,null,0]
[{"$f":"IF(AND(INTRO!$E$37=\"Endémique\",INTRO!$E$39=\"Non endémique\"),IF(COUNTRY_INFO!A112=0,\" \",COUNTRY_INFO!A112),\" \")","v":" "},{"$f":"IF(AND(INTRO!$E$37=\"Endémique\",INTRO!$E$39=\"Non endémique\"),IF(COUNTRY_INFO!B112=0,\" \",COUNTRY_INFO!B112),\" \")","v":" "},{"$f":"IF(AND(INTRO!$E$37=\"Endémique\",INTRO!$E$39=\"Non endémique\"),IF(COUNTRY_INFO!C112=0,\" \",COUNTRY_INFO!C112),\" \")","v":" "},{"$f":"IF(COUNTRY_INFO!Z112<>\"\",COUNTRY_INFO!V112,0)","v":0},{"$f":"IF(AND(COUNTRY_INFO!Z112<>\"\",COUNTRY_INFO!$H112=1),COUNTRY_INFO!F112+COUNTRY_INFO!G112,0)","v":0},0,null,0]
[{"$f":"IF(AND(INTRO!$E$37=\"Endémique\",INTRO!$E$39=\"Non endémique\"),IF(COUNTRY_INFO!A113=0,\" \",COUNTRY_INFO!A113),\" \")","v":" "},{"$f":"IF(AND(INTRO!$E$37=\"Endémique\",INTRO!$E$39=\"Non endémique\"),IF(COUNTRY_INFO!B113=0,\" \",COUNTRY_INFO!B113),\" \")","v":" "},{"$f":"IF(AND(INTRO!$E$37=\"Endémique\",INTRO!$E$39=\"Non endémique\"),IF(COUNTRY_INFO!C113=0,\" \",COUNTRY_INFO!C113),\" \")","v":" "},{"$f":"IF(COUNTRY_INFO!Z113<>\"\",COUNTRY_INFO!V113,0)","v":0},{"$f":"IF(AND(COUNTRY_INFO!Z113<>\"\",COUNTRY_INFO!$H113=1),COUNTRY_INFO!F113+COUNTRY_INFO!G113,0)","v":0},0,null,0]
[{"$f":"IF(AND(INTRO!$E$37=\"Endémique\",INTRO!$E$39=\"Non endémique\"),IF(COUNTRY_INFO!A114=0,\" \",COUNTRY_INFO!A114),\" \")","v":" "},{"$f":"IF(AND(INTRO!$E$37=\"Endémique\",INTRO!$E$39=\"Non endémique\"),IF(COUNTRY_INFO!B114=0,\" \",COUNTRY_INFO!B114),\" \")","v":" "},{"$f":"IF(AND(INTRO!$E$37=\"Endémique\",INTRO!$E$39=\"Non endémique\"),IF(COUNTRY_INFO!C114=0,\" \",COUNTRY_INFO!C114),\" \")","v":" "},{"$f":"IF(COUNTRY_INFO!Z114<>\"\",COUNTRY_INFO!V114,0)","v":0},{"$f":"IF(AND(COUNTRY_INFO!Z114<>\"\",COUNTRY_INFO!$H114=1),COUNTRY_INFO!F114+COUNTRY_INFO!G114,0)","v":0},0,null,0]
[{"$f":"IF(AND(INTRO!$E$37=\"Endémique\",INTRO!$E$39=\"Non endémique\"),IF(COUNTRY_INFO!A115=0,\" \",COUNTRY_INFO!A115),\" \")","v":" "},{"$f":"IF(AND(INTRO!$E$37=\"Endémique\",INTRO!$E$39=\"Non endémique\"),IF(COUNTRY_INFO!B115=0,\" \",COUNTRY_INFO!B115),\" \")","v":" "},{"$f":"IF(AND(INTRO!$E$37=\"Endémique\",INTRO!$E$39=\"Non endémique\"),IF(COUNTRY_INFO!C115=0,\" \",COUNTRY_INFO!C115),\" \")","v":" "},{"$f":"IF(COUNTRY_INFO!Z115<>\"\",COUNTRY_INFO!V115,0)","v":0},{"$f":"IF(AND(COUNTRY_INFO!Z115<>\"\",COUNTRY_INFO!$H115=1),COUNTRY_INFO!F115+COUNTRY_INFO!G115,0)","v":0},0,null,0]
[{"$f":"IF(AND(INTRO!$E$37=\"Endémique\",INTRO!$E$39=\"Non endémique\"),IF(COUNTRY_INFO!A116=0,\" \",COUNTRY_INFO!A116),\" \")","v":" "},{"$f":"IF(AND(INTRO!$E$37=\"Endémique\",INTRO!$E$39=\"Non endémique\"),IF(COUNTRY_INFO!B116=0,\" \",COUNTRY_INFO!B116),\" \")","v":" "},{"$f":"IF(AND(INTRO!$E$37=\"Endémique\",INTRO!$E$39=\"Non endémique\"),IF(COUNTRY_INFO!C116=0,\" \",COUNTRY_INFO!C116),\" \")","v":" "},{"$f":"IF(COUNTRY_INFO!Z116<>\"\",COUNTRY_INFO!V116,0)","v":0},{"$f":"IF(AND(COUNTRY_INFO!Z116<>\"\",COUNTRY_INFO!$H116=1),COUNTRY_INFO!F116+COUNTRY_INFO!G116,0)","v":0},0,null,0]
[{"$f":"IF(AND(INTRO!$E$37=\"Endémique\",INTRO!$E$39=\"Non endémique\"),IF(COUNTRY_INFO!A117=0,\" \",COUNTRY_INFO!A117),\" \")","v":" "},{"$f":"IF(AND(INTRO!$E$37=\"Endémique\",INTRO!$E$39=\"Non endémique\"),IF(COUNTRY_INFO!B117=0,\" \",COUNTRY_INFO!B117),\" \")","v":" "},{"$f":"IF(AND(INTRO!$E$37=\"Endémique\",INTRO!$E$39=\"Non endémique\"),IF(COUNTRY_INFO!C117=0,\" \",COUNTRY_INFO!C117),\" \")","v":" "},{"$f":"IF(COUNTRY_INFO!Z117<>\"\",COUNTRY_INFO!V117,0)","v":0},{"$f":"IF(AND(COUNTRY_INFO!Z117<>\"\",COUNTRY_INFO!$H117=1),COUNTRY_INFO!F117+COUNTRY_INFO!G117,0)","v":0},0,null,0]
[{"$f":"IF(AND(INTRO!$E$37=\"Endémique\",INTRO!$E$39=\"Non endémique\"),IF(COUNTRY_INFO!A118=0,\" \",COUNTRY_INFO!A118),\" \")","v":" "},{"$f":"IF(AND(INTRO!$E$37=\"Endémique\",INTRO!$E$39=\"Non endémique\"),IF(COUNTRY_INFO!B118=0,\" \",COUNTRY_INFO!B118),\" \")","v":" "},{"$f":"IF(AND(INTRO!$E$37=\"Endémique\",INTRO!$E$39=\"Non endémique\"),IF(COUNTRY_INFO!C118=0,\" \",COUNTRY_INFO!C118),\" \")","v":" "},{"$f":"IF(COUNTRY_INFO!Z118<>\"\",COUNTRY_INFO!V118,0)","v":0},{"$f":"IF(AND(COUNTRY_INFO!Z118<>\"\",COUNTRY_INFO!$H118=1),COUNTRY_INFO!F118+COUNTRY_INFO!G118,0)","v":0},0,null,0]
[{"$f":"IF(AND(INTRO!$E$37=\"Endémique\",INTRO!$E$39=\"Non endémique\"),IF(COUNTRY_INFO!A119=0,\" \",COUNTRY_INFO!A119),\" \")","v":" "},{"$f":"IF(AND(INTRO!$E$37=\"Endémique\",INTRO!$E$39=\"Non endémique\"),IF(COUNTRY_INFO!B119=0,\" \",COUNTRY_INFO!B119),\" \")","v":" "},{"$f":"IF(AND(INTRO!$E$37=\"Endémique\",INTRO!$E$39=\"Non endémique\"),IF(COUNTRY_INFO!C119=0,\" \",COUNTRY_INFO!C119),\" \")","v":" "},{"$f":"IF(COUNTRY_INFO!Z119<>\"\",COUNTRY_INFO!V119,0)","v":0},{"$f":"IF(AND(COUNTRY_INFO!Z119<>\"\",COUNTRY_INFO!$H119=1),COUNTRY_INFO!F119+COUNTRY_INFO!G119,0)","v":0},0,null,0]
[{"$f":"IF(AND(INTRO!$E$37=\"Endémique\",INTRO!$E$39=\"Non endémique\"),IF(COUNTRY_INFO!A120=0,\" \",COUNTRY_INFO!A120),\" \")","v":" "},{"$f":"IF(AND(INTRO!$E$37=\"Endémique\",INTRO!$E$39=\"Non endémique\"),IF(COUNTRY_INFO!B120=0,\" \",COUNTRY_INFO!B120),\" \")","v":" "},{"$f":"IF(AND(INTRO!$E$37=\"Endémique\",INTRO!$E$39=\"Non endémique\"),IF(COUNTRY_INFO!C120=0,\" \",COUNTRY_INFO!C120),\" \")","v":" "},{"$f":"IF(COUNTRY_INFO!Z120<>\"\",COUNTRY_INFO!V120,0)","v":0},{"$f":"IF(AND(COUNTRY_INFO!Z120<>\"\",COUNTRY_INFO!$H120=1),COUNTRY_INFO!F120+COUNTRY_INFO!G120,0)","v":0},0,null,0]
[{"$f":"IF(AND(INTRO!$E$37=\"Endémique\",INTRO!$E$39=\"Non endémique\"),IF(COUNTRY_INFO!A121=0,\" \",COUNTRY_INFO!A121),\" \")","v":" "},{"$f":"IF(AND(INTRO!$E$37=\"Endémique\",INTRO!$E$39=\"Non endémique\"),IF(COUNTRY_INFO!B121=0,\" \",COUNTRY_INFO!B121),\" \")","v":" "},{"$f":"IF(AND(INTRO!$E$37=\"Endémique\",INTRO!$E$39=\"Non endémique\"),IF(COUNTRY_INFO!C121=0,\" \",COUNTRY_INFO!C121),\" \")","v":" "},{"$f":"IF(COUNTRY_INFO!Z121<>\"\",COUNTRY_INFO!V121,0)","v":0},{"$f":"IF(AND(COUNTRY_INFO!Z121<>\"\",COUNTRY_INFO!$H121=1),COUNTRY_INFO!F121+COUNTRY_INFO!G121,0)","v":0},0,null,0]
[{"$f":"IF(AND(INTRO!$E$37=\"Endémique\",INTRO!$E$39=\"Non endémique\"),IF(COUNTRY_INFO!A122=0,\" \",COUNTRY_INFO!A122),\" \")","v":" "},{"$f":"IF(AND(INTRO!$E$37=\"Endémique\",INTRO!$E$39=\"Non endémique\"),IF(COUNTRY_INFO!B122=0,\" \",COUNTRY_INFO!B122),\" \")","v":" "},{"$f":"IF(AND(INTRO!$E$37=\"Endémique\",INTRO!$E$39=\"Non endémique\"),IF(COUNTRY_INFO!C122=0,\" \",COUNTRY_INFO!C122),\" \")","v":" "},{"$f":"IF(COUNTRY_INFO!Z122<>\"\",COUNTRY_INFO!V122,0)","v":0},{"$f":"IF(AND(COUNTRY_INFO!Z122<>\"\",COUNTRY_INFO!$H122=1),COUNTRY_INFO!F122+COUNTRY_INFO!G122,0)","v":0},0,null,0]

{"sheet":"SUMMARY","index":8,"n_rows":93,"n_cols":8,"rows_kept":93,"cut":false,"hidden":false,"merged":[[83,3,83,7],[59,4,59,6],[60,4,60,6],[61,4,61,6],[62,4,62,6],[71,4,71,5],[72,2,72,3],[72,4,72,5],[71,2,71,3],[58,1,58,7],[78,1,78,7],[79,1,79,7],[66,1,66,7],[76,2,76,3],[74,2,74,3],[74,4,74,5],[73,4,73,5],[73,2,73,3],[9,2,10,2],[17,1,19,1],[21,1,23,1],[50,1,50,7],[56,1,56,7],[51,1,51,7],[52,1,52,7],[55,1,55,7],[0,1,0,7],[1,1,1,7],[2,1,2,5],[3,1,3,7],[4,1,4,7],[6,1,6,7],[5,2,5,5],[65,1,65,7],[54,1,54,7],[53,1,53,7],[36,1,36,7],[41,2,41,3],[41,4,41,5],[41,6,41,7],[57,1,57,7],[63,4,63,6],[25,1,27,1],[9,7,10,7],[32,2,35,4],[9,1,10,1],[9,3,9,6],[97,1,97,7],[75,4,75,5],[70,4,70,5],[70,2,70,3],[92,1,92,7],[76,4,76,5],[87,1,87,7],[91,1,91,7],[86,1,86,7],[84,1,84,2],[84,3,84,7],[83,1,83,2],[82,2,82,6],[75,2,75,3],[80,1,80,7],[81,2,81,7]]}
[]
[null,"Formulaire de demande commune de médicaments pour CP v.4.1"]
[]
[null,"Ce formulaire constitue une demande officielle du Gouvernement à l'OMS pour l'approvisionnement des médicaments mentionnés ci-dessus. Pour garantir la livraison des médicaments à temps, la demande de médicaments CP doit être soumise au moins 9 mois avant la première date d'administration massive de médicaments prévue dans l'année civile de la demande."]
[]
[null,"Pays",{"$f":"IF(INTRO!$E$33<>0,INTRO!$E$33,\" \")","v":"Côte d'Ivoire"},null,null,null,"Année",{"$f":"IF(INTRO!$E$35<>0,INTRO!$E$35,\" \")","v":2023}]
[]
[null,"Information on PC medicines requested to WHO"]
[]
[null,"Le médicament","Groupe ciblé","Nombre de comprimés",null,null,null,"Préciser l’origine"]
[null,null,null,"Requis","En stock","En cours de demande","Demandés"]
[null,"Diethylcarbamazine","TOUTE",0,0,null,{"$f":"IF(D12>(E12+F12),D12-E12-F12, 0)","v":0}]
[null,null,null,null,null,null,0]
[null,"Ivermectine","TOUTE",48263319.999999993,15900000,null,32363319.999999993]
[]
[null,"Albendazole pour FL","TOUTE",1335739,11759549,null,0]
[null,null,null,null,null,null,0]
[null,"Albendazole pour STH","EAPréS",null,null,null,0]
[null,null,"EAS",1740451,1740451,null,0]
[null,null,"Adultes",null,null,null,0]
[]
[null,"Mebendazole","EAPréS",null,null,null,0]
[null,null,"EAS",null,null,null,0]
[null,null,"Adultes",null,null,null,0]
[]
[null,"Praziquantel","EAPréS",0,null,null,0]
[null,null,"EAS",5555362,null,null,5555362]
[null,null,"Adultes",15453987,null,null,{"$f":"IF(D28>(E28+F28),D28-E28-F28, 0)","v":15453987}]
[]
[null,"Nombre de personnes devant être traitées avec le médicament donné"]
[]
[null,"La maladie",null,null,null,"1er tour","2ème tour","3ème tour"]
[null,"Filariose lymphatique","Ces chiffres sont estimés uniquement pour les goupes d'âge ciblés pour le traitement avec les médicaments donnés, dans les régions où le traitement de maladies spécifiques est requis",null,null,1335739]
[null,"Onchocercose",null,null,null,17236900,0]
[null,"Schistosomiase",null,null,null,7929010,0]
[null,"Géohelminthiases",null,null,null,4259454,0,0]
[]
[]
[]
[null,"Informations sur les interventions CP planifiées "]
[]
[null,"Le médicament","Veuillez sélectionner une date (mois et année) pour la 1ère tournée de CP",null,"Veuillez sélectionner une date (mois et année) pour la 2ème tournée de CP",null,"Date à laquelle les médicaments devraient atteindre l’entrepôt national"]
[null,"Diethylcarbamazine"]
[null,"Ivermectine","January",2023,null,null,"January",2023]
[null,"Albendazole pour FL"]
[null,"Albendazole pour STH"]
[null,"Mebendazole"]
[null,"Praziquantel","February",2023,null,null,"January",2023]
[]
[null,"Récapitulatif - Checklist"]
[null,"Submission"]
[null,"Que faut-il soumettre ?"]
[null,"L'approvisionnement des médicaments demandés doit être basé sur des données épidémiologiques à jour, des plans d'utilisation des médicaments spécifiques et sur la capacité de mise en oeuvre. La liste suivante permet d'assurer que tous les formulaires et toutes les informations sont fournis à l'OMS (en format électronique)."]
[null,"Formulaire de demande commune de médicaments pour chimioprévention"]
[null,"Formulaire de rapport commun"]
[null,"Déclaration des données épidémiologiques pour la CP"]
[]
[null,"Disponibilité de financement pour la mise en oeuvre de tournées pendant l’année pour laquelle les medicaments ont été demandés"]
[]
[null,"Maladies ciblées pour la mise en oeuvre","# de traitements ","Financement assuré pour","Origine",null,null,"Montant"]
[null,"Filariose lymphatique",{"$f":"SUM(F33:H33)","v":1335739},"YES ","USAID/FHI360"]
[null,"Onchocercose",{"$f":"SUM(F34:H34)","v":17236900},"YES ","USAID/FHI360"]
[null,"Schistosomiase",{"$f":"SUM(F35:H35)","v":7929010},"YES ","SCIF"]
[null,"Géohelminthiases",{"$f":"SUM(F36:H36)","v":4259454},"YES ","SCIF"]
[]
[null,"Qui doit remplir le formulaire ?"]
[null,"Le Coordonnateur national MTN doit compiler toutes les informations nécessaires pour compléter le formulaire de demande.  En l'absence d'un coordonnateur, les gestionnaires de programmes spécifiques devraient coordonner leurs sections respectives. Une fois finalisée, chaque demande individuelle doit être approuvée par le Ministère de la Santé."]
[]
[null,"Informations concernant la (les) personne(s) ayant rempli le formulaire"]
[]
[null,"Titre/fonction ","Nom",null,"Téléphone",null,"Email","Date"]
[null,"NTD/PC Coordinator","MEITE ABOULAYE",null,"00225 07 57 68 68 14",null,"aboulaye_meite77@yahoo.fr","2021-07-17"]
[null,"Data Manager","MAMA DJIMA ADAM",null,"00225 05 05 03 94 29",null,"docmda@yahoo.fr","2021-07-17"]
[null,"MandE Focal Point","TCHETCHE TAHUIE CELESTIN",null,"00225 07 48 96 23 73",null,"tchetche.celestin@yahoo.fr","2021-07-17"]
[]
[]
[]
[]
[null,"L’OMS recommende que tous les effets secondaires graves suspectés d’être associés à l’ingestion de médicaments de CP soient rapportés en suivant les lignes directrices nationales de pharmacovigilance.  En l’absence d’un système de pharmacovigilance national, contactez le département de Contrôle des Maladies Tropicales Négligées pour être conseillé."]
[null,"L’OMS s’est engagée à rendre possible la donation de médicaments en fournissant gratuitement: a) albendazole, mebendazole et praziquantel à l’entrepôt national du Ministère de la Santé et b) diethylcarbamazine au port d’entrée du pays receveur."]
[null,"L’institution soumettant la présente requête est responsable de: a) l’organisation du déchargement des médicaments du camion, du stockage dans l’entrepôt national et de l’expédition vers les centres où aura lieu la distribution finale; b) de l’enregistrement, si nécessaire, des médicaments donnés, auprès des autorités nationales en charge; et de c) de l’information de n’importe quels changements ayant trait à leurs campagnes de traitement (par exemple le report d’une date planifiée de distribution en masse de médicaments, le remplacement d’un coordonateur MTN, etc.)."]
[null,null,"J’ai pris connaissance et accepté la politique de la communication \nde données de l’OMS"]
[null,null,"Je confirme que toutes les informations fournies dans ce formulaire sont complètes et correctes"]
[null,"Nom et signature \ndu Coordonnateur MTN ou du \nReprésentant du Ministère de la Santé",null,"MEITE ABOULAYE"]
[null,"Date",null,"2023-05-14"]
[]
[null,"Si vous avez plus d'un destinataire final pour les médicaments de chimioprévention demandés, veuillez compléter les informations de la rubrique \"Informations concernant l'envoi et le destinataire\" dans la feuille de travail SHIPMENT."]
[null,"Veuillez envoyer le rapport national (signé et sous format électronique) au représentant de I'OMS du pays en mettant en copie:"]
[null,"Siège de l'OMS ","PC_JointForms@who.int"]
[null,"Bureau régional de l'OMS","Conseiller régional MTN"]
[null,"Mectizan donation programme","Dr Yao Sodahlon, email: ysodahlon@taskforce.org"]
[]
[null,"Veuillez noter que votre demande sera examinée par un panel d'experts indépendants (Comité ad hoc d’évaluation conjointe). Les informations contenues dans ce formulaire, le rapport commun d'activités (ou rapport national d'activités) et le plan d'action annuel sont essentiels à l'OMS pour assurer un usage optimal des médicaments. Dans le cadre de ses activités courantes de suivi et d'évaluation, et afin d'honorer ses obligations contractuelles envers les bailleurs de fonds  et autres partenaires, l'OMS et ses agents affiliés se réservent le droit d'inspecter, périodiquement, les stocks de médicaments au niveau national. "]

{"sheet":"SHIPMENT","index":9,"n_rows":46,"n_cols":8,"rows_kept":46,"cut":false,"hidden":false,"merged":[[17,5,17,7],[31,5,31,7],[30,2,30,4],[30,5,30,7],[31,2,31,4],[29,5,29,7],[29,2,29,4],[27,2,27,4],[26,2,26,4],[27,5,27,7],[28,2,28,4],[28,5,28,7],[26,5,26,7],[34,1,34,7],[36,1,36,7],[0,1,0,7],[1,1,1,7],[2,1,2,5],[3,2,3,5],[4,1,4,7],[15,2,15,4],[15,5,15,7],[16,2,16,4],[25,2,25,4],[25,5,25,7],[24,1,24,7],[6,1,6,7],[7,2,7,4],[7,5,7,7],[47,1,54,7],[45,1,45,7],[37,1,37,6],[38,1,38,5],[40,1,40,7],[41,1,41,6],[39,1,39,6],[42,1,42,6],[43,1,43,7],[8,2,8,4],[8,5,8,7],[11,5,11,7],[11,2,11,4],[9,2,9,4],[9,5,9,7],[10,2,10,4],[10,5,10,7],[13,5,13,7],[12,2,12,4],[14,2,14,4],[14,5,14,7],[12,5,12,7],[13,2,13,4],[32,2,32,4],[32,5,32,7],[16,5,16,7],[22,5,22,7],[21,2,21,4],[23,2,23,4],[23,5,23,7],[21,5,21,7],[22,2,22,4],[20,5,20,7],[20,2,20,4],[18,2,18,4],[17,2,17,4],[18,5,18,7],[19,2,19,4],[19,5,19,7]]}
[]
[null,"Formulaire de demande commune de médicaments pour CP v.4.1"]
[]
[null,"Pays",{"$f":"IF(INTRO!$E$33<>0,INTRO!$E$33,\" \")","v":"Côte d'Ivoire"},null,null,null,"Année",{"$f":"IF(INTRO!$E$35<>0,INTRO!$E$35,\" \")","v":2023}]
[]
[null,"Information on shipment and consignee "]
[]
[null,"IVM","Destinataire",null,null,"Destinataire final\nsi différent du destinaire précédent"]
[null,"Nom","YAMEOGO JEAN MARIE V,",null,null,"ABOULAYE MEITE"]
[null,"Département/Unité","REPRESENTANT PAYS",null,null,"PROGRAMME NATIONAL DE LUTTE CONTRE LA SCHISTOSOMIASE, LES GEOHELMINTHIASES ET LA FILARIOSE LYMPHATIQUE"]
[null,"Organisation","OMS COTE D'IVOIRE",null,null,"MINISTERE DE LA SANTE ET DE L'HYGIENE PUBLIQUE"]
[null,"Téléphone","225 22 51 72 00",null,null,"225 57 68 68 14"]
[null,"Fax",null,null,null,"225 22 52 38 36/35"]
[null,"E-mail",null,null,null,"aboulaye_meite77@yahoo.fr"]
[null,"Adresse postale","01BP 2494 ABJ 01",null,null,"06 bp 6394 abidjan 06"]
[]
[null,"PZQ","Destinataire",null,null,"Destinataire final\nsi différent du destinaire précédent"]
[null,"Nom","YAMEOGO JEAN MARIE V,",null,null,"ABOULAYE MEITE"]
[null,"Département/Unité","REPRESENTANT PAYS",null,null,"PROGRAMME NATIONAL DE LUTTE CONTRE LA SCHISTOSOMIASE, LES GEOHELMINTHIASES ET LA FILARIOSE LYMPHATIQUE"]
[null,"Organisation","OMS COTE D'IVOIRE",null,null,"MINISTERE DE LA SANTE ET DE L'HYGIENE PUBLIQUE"]
[null,"Téléphone","225 22 51 72 00",null,null,"225 57 68 68 14"]
[null,"Fax",null,null,null,"225 22 52 38 36/35"]
[null,"E-mail",null,null,null,"aboulaye_meite77@yahoo.fr"]
[null,"Adresse postale","01BP 2494 ABJ 01",null,null,"06 bp 6394 abidjan 06"]
[]
[null,null,"Destinataire",null,null,"Destinataire final\nsi différent du destinaire précédent"]
[null,"Nom"]
[null,"Département/Unité"]
[null,"Organisation"]
[null,"Téléphone"]
[null,"Fax"]
[null,"E-mail"]
[null,"Adresse postale"]
[]
[]
[null,"Information concernant les obligations légales d’importation"]
[]
[null,"Est le permis d'importation nécessaire?"]
[null,"Combien de temps cela prend-il pour obtenir le permis d’importation?"]
[null,"Avez vous besoin que certains documents soient remis en même temps que la demande de permis d’importation?"]
[]
[null,"Est-ce que le destinataire doit procéder au dédouanement avant que l’expédition puisse avoir lieu?"]
[null,"Y a-t-il des informations supplémentaires qui pourraient être utiles afin d’assurer un dédouanement et une livraison rapide des médicaments dans votre pays?"]
[]
[]
[null,"Remarques supplémentaires éventuelles liées à cette requête"]

{"sheet":"DATA_POLICY","index":10,"n_rows":39,"n_cols":8,"rows_kept":39,"cut":false,"hidden":true,"merged":[[55,1,55,2],[0,1,0,5],[1,1,1,7],[3,3,3,5],[6,1,6,7],[8,1,12,7],[13,1,16,7],[17,1,21,7],[22,1,25,7],[26,2,36,7],[38,1,45,7]]}
[]
[null,"Formulaire de demande commune de médicaments pour CP v.4.1"]
[]
[null,"Pays",null,{"$f":"IF(INTRO!$E$33<>0,INTRO!$E$33,\" \")","v":"Côte d'Ivoire"},null,null,"Année",{"$f":"IF(INTRO!$E$35<>0,INTRO!$E$35,\" \")","v":2023}]
[]
[]
[null,"Déclaration de principe sur la communication de données par l’OMS"]
[]
[null,"Les données sont le fondement de toutes les mesures rationnelles de santé publique et les avantages de la communication de données, y compris pour la science et la santé publique, sont largement reconnus. L’OMS souhaite promouvoir autant que possible la communication de données sanitaires, y compris, mais pas uniquement, de données épidémiologiques et de surveillance."]
[]
[]
[]
[]
[null,{"$f":"\"À cet égard, et sans préjudice des instruments juridiquement contraignants régissant la communication et la publication d’informations, le Ministère de la santé de \" & D4 & \", en fournissant des données à l’OMS :\"","v":"À cet égard, et sans préjudice des instruments juridiquement contraignants régissant la communication et la publication d’informations, le Ministère de la santé de Côte d'Ivoire, en fournissant des données à l’OMS :"}]
[]
[]
[]
[null,"confirme que toutes les données à fournir à l’OMS, ont été collectées conformément à la législation nationale applicable, y compris aux lois de protection des données visant à préserver l’anonymat des personnes identifiables ;"]
[]
[]
[]
[]
[null,{"$f":"\"convient que l’OMS aura le droit, toujours sous réserve des mesures visant à garantir l’utilisation éthique et sécurisée des données et toujours sous réserve d’une reconnaissance appropriée de la part de \"&D4&\":\"","v":"convient que l’OMS aura le droit, toujours sous réserve des mesures visant à garantir l’utilisation éthique et sécurisée des données et toujours sous réserve d’une reconnaissance appropriée de la part de Côte d'Ivoire:"}]
[]
[]
[]
[null,null,"de publier les données, dépourvues de tout élément d’identification personnelle (ci-après dénommées « les données ») et de les mettre à la disposition de toute partie intéressée, sur demande (dans la mesure où elles n’ont pas, ou pas encore, été publiées par l’OMS), selon des modalités autorisant leur utilisation non commerciale et sans but lucratif à des fins de santé publique (pour autant que l’OMS garde la maîtrise de la publication des données) ;\nd’utiliser, de compiler, d’agréger, d’évaluer et d’analyser les données et de publier et de diffuser les résultats obtenus grâce à ces données en rapport avec des travaux de l’OMS et conformément aux politiques et pratiques de l’Organisation."]
[]
[]
[]
[]
[]
[]
[]
[]
[]
[]
[]
[null,{"$f":"CONCATENATE(\"Sauf lorsque des instruments juridiquement contraignants (RSI, Règlement de Nomenclature de l’OMS, de 1967, etc.) disposent que les données doivent être communiquées et publiées, le Ministère de la santé de \", D4,\" peut, pour certaines données, décider de ne pas appliquer (tout ou partie des) (les) dispositions qui précèdent,\" & \" en informant l’OMS par écrit à l’adresse suivante, à condition que cette notification précise clairement les données, \" & \"dont il s’agit et indique clairement lesquelles des dispositions qui précèdent ne seront pas appliquées, et pour quels motifs.\")","v":"Sauf lorsque des instruments juridiquement contraignants (RSI, Règlement de Nomenclature de l’OMS, de 1967, etc.) disposent que les données doivent être communiquées et publiées, le Ministère de la santé de Côte d'Ivoire peut, pour certaines données, décider de ne pas appliquer (tout ou partie des) (les) dispositions qui précèdent, en informant l’OMS par écrit à l’adresse suivante, à condition que cette notification précise clairement les données, dont il s’agit et indique clairement lesquelles des dispositions qui précèdent ne seront pas appliquées, et pour quels motifs."}]