{"text_format":"1","workbook":"xlsx","n_sheets":8,"sheets":["INTRO","COUNTRY_INFO","ALB_MBD","PZQ","IVM","SUMMARY","SHIPMENT","DATA_POLICY"],"not_rendered":{"charts":0,"images":3,"macros":1,"external_links":0,"defined_names":8,"comments":7,"pivot_tables":0},"unopened":[],"bounds":{"document_bytes":16777216,"sheet_cells":100000,"rows_first":2000,"rows_last":500,"rows_between":2000,"halvings":0,"cell_chars":16384,"cell_head_chars":4096},"cells_cut":0,"cells_raw":0,"read":"whole","date_system":"1900"}

{"sheet":"INTRO","index":0,"n_rows":51,"n_cols":8,"rows_kept":51,"cut":false,"hidden":false,"merged":[[21,1,21,4],[46,1,46,4],[38,1,38,2],[40,1,40,2],[42,1,42,2],[44,1,44,2],[36,1,36,2],[22,2,23,4],[25,2,26,4],[27,1,27,4],[32,1,32,2],[29,1,29,4],[30,1,30,4],[28,2,28,4],[24,1,24,4],[34,1,34,2],[0,1,0,4],[2,1,2,4],[1,1,1,4],[5,1,5,4],[3,1,3,4],[7,2,7,4],[11,1,11,4],[4,1,4,4],[10,2,10,4],[20,2,20,4],[17,1,17,4],[13,1,13,4],[18,2,18,4],[8,2,8,4],[9,2,9,4],[19,1,19,4],[12,1,12,4],[16,1,16,4],[14,1,14,4],[15,1,15,4]]}
[]
[null,"Joint request for selected PC medicines v.4.2 (Loa)"]
[]
[null,"As part of global efforts to accelerate expansion of preventive chemotherapy (PC) for control and elimination of lymphatic filariasis, schistosomiasis and soil-transmitted helminthiases, the World Health Organization (WHO) facilitates the supply of albendazole 400 mg tablets (GSK) to national lymphatic filariasis elimination programmes and national soil-transmitted helminth control programmes; diethylcarbamazine citrate 100 mg tablets (Eisai) to national lymphatic filariasis elimination programmes; mebendazole 500 mg tablets (J&J) for national soil-transmitted helminth control programmes; and praziquantel 600 mg tablets (Merck KGaA)  for school-age children to national schistosomiasis control programmes. WHO also collaborates to supply ivermectin 3 mg tablets (Merck) for onchocerciasis and lymphatic filariasis donation programmes.  \nThis Excel-based tool is designed to assist countries in quantifying the number of tablets of relevant PC medicines required to reach the planned target population and districts for the year of request. Output of the tool is a joint request for PC medicines, which can be printed, signed and submitted to WHO to request these medicines."]
[]
[null,"Structure of the application (worksheets):"]
[]
[null,"INTRO","This worksheet includes guides on how to complete the joint request for selected PC medicines and information about the status of PC for endemic diseases in the country."]
[null,"COUNTRY_INFO","This worksheet includes information about administrative structure of the country, population by age group, status of endemicity for each disease, population requiring PC and planned interventions."]
[null,"DEC, ALB_MBD, PZQ and IVM","These worksheets include information about endemic districts targeted for treatment with specified PC medicines, treatment plan, and number of tablets required and requested. "]
[null,"SUMMARY","This worksheet includes summary of number of tablets requested, information about stock, and date for submission of requested medicines. Before generating the report (run macros) please select the medicine for which the report is needed. Follow the same rule to see the number of people to be treated for the specific disease. \nThis worksheet should be printed and submitted as a joint request for selected PC medicines (see the instruction for submission in the SUMMARY worksheet)."]
[]
[null,"Instruction for data entry"]
[]
[null,"Most of the cells in the above-mentioned worksheets include formula that are calculated automatically according to the treatment policy recommended by WHO for each disease.\nSee the link https://www.who.int/publications/i/item/9789241599993."]
[]
[null,"Please enter your data into the cells according to their colour code:"]
[]
[null,null,"White - cell is not protected. Please enter the value of the requested indicator."]
[]
[null,null,"Yellow - cell is protected and includes name of indicator. No data entry required."]
[]
[null,null,"Orange - cell is not protected and includes a drop-down menu. Please select the value from the drop-down list."]
[]
[]
[null,null,"Green - cell is not protected and includes formula. Please change the value only if your data are different from those that are calculated automatically."]
[]
[]
[null,null,"Blue - cell is protected and includes formula. No data entry required."]
[]
[null,"Country data"]
[]
[null,"COUNTRY",null,null,"Tchad",null,"TD","TCD"]
[null,null,null,null,5]
[null,"Year for request of the medicine",null,null,2024]
[]
[null,"Is country endemic for lymphatic filariasis (LF)?",null,null,"Endemic"]
[]
[null,"Is country endemic for onchocerciasis (ONCHO)?",null,null,"Endemic"]
[]
[null,"Is country endemic for soil-transmitted helminthiases (STH)?",null,null,"Endemic"]
[]
[null,"Is country endemic for schistosomiasis (SCH)?",null,null,"Endemic"]
[]
[null,"How many administrative units in the country?",null,null,130]
[]
[null,"If demographical data at the second administrative level are not available by age group, please enter the proportion (%) of population by age group in the country. If data are available, please leave these cells blank."]
[null,"1-4 years age","Preschool-age children (PreSAC)",null,0.14660000000000001]
[null,"5-14 years age","School-age children (SAC)",null,0.2893]
[null,"15 years +","Adults",null,0.52339999999999998]
[null,"15-49 years","Women of reproductive age (WRA)",null,0.22188473166648601]

{"sheet":"COUNTRY_INFO","index":1,"n_rows":139,"n_cols":38,"rows_kept":139,"cut":false,"hidden":false,"merged":[[3,0,3,2],[3,7,3,11],[3,22,3,25],[5,0,5,2],[3,26,3,29],[5,26,5,29],[5,3,5,6],[5,7,5,11],[5,12,5,21],[5,22,5,25],[6,3,7,3],[6,2,7,2],[6,1,7,1],[6,0,7,0],[6,22,7,22],[6,14,6,17],[6,12,7,12],[6,13,7,13],[6,7,7,7],[6,8,7,8],[6,9,7,9],[6,11,7,11],[6,6,7,6],[6,5,7,5],[6,4,7,4],[6,10,7,10],[6,28,7,28],[6,29,7,29],[6,18,6,21],[6,23,7,23],[6,24,7,24],[6,25,7,25],[6,26,7,26],[6,27,7,27]]}
["COUNTRY INFORMATION"]
["Administrative structure, population by age group, status of endemicity and planned interventions"]
[]
["TOTAL",null,null,{"$f":"SUBTOTAL(9,D$10:D$1010)","v":19060615},{"$f":"SUBTOTAL(9,E$10:E$1010)","v":2794289},5514232,9976324,null,null,null,null,null,{"$f":"SUBTOTAL(9,M$10:M$1010)","v":5209888},6375978,192350,379584,291130,863064,232356,623821,1128642,1984819]
[]
["Country administrative structure",null,null,"Population",null,null,null,"Endemicity",null,null,null,null,"Population requiring PC",null,null,null,null,null,null,null,null,null,"Number of treatment rounds planned for the year",null,null,null,"Epidemiological surveys planned for the year"]
["Country","Province/State","District","Total","PreSAC","SAC","Adults","LF","Oncho","STH","SCH","Loa","LF","ONCHO","STH",null,null,null,"SCH",null,null,null,"LF","Oncho","STH","SCH","LF","Oncho","STH","SCH"]
[null,null,null,null,null,null,null,null,null,null,null,null,null,null,"PreSAC","SAC","WRA","TOTAL","PreSAC","SAC","Adults","TOTAL",null,null,null,null,null,null,null,null,null,null,null,"IU_ID","IU_Name","End","EndJRF2022","PlanMDA23"]
[]
[{"$f":"IF(INTRO!$E$33<>0,INTRO!$E$33, \" \")","v":"Tchad"},"Bahr El Gazel","Chadra",107912,{"$f":"IF(INTRO!$E$48=\"\",\"\",ROUND($D10*INTRO!$E$48,0))","v":15820},{"$f":"IF(INTRO!$E$49=\"\",\"\",ROUND($D10*INTRO!$E$49,0))","v":31219},{"$f":"IF(INTRO!$E$50=\"\",\"\",ROUND($D10*INTRO!$E$50,0))","v":56481},0,0,2,3,0,{"$f":"IF(INTRO!$E$37=\"Endemic\",IF($H10>0,IF($H10=4,\"Unknown\",IF($H10=99,\"Stopped\",$D10)),0),\"Not required\")","v":0},{"$f":"IF(INTRO!$E$39=\"Endemic\", IF($I10>0, IF($I10=4,\"Unknown\",IF($I10=99,\"Stopped\",$D10)), 0),\"Not required\")","v":0},{"$f":"IF(INTRO!$E$41=\"Endemic\", IF($J10>1, IF($J10=4, \"Unknown\", IF($J10=99, \"Surveillance\", E10)), 0),\"Not required\")","v":15820},{"$f":"IF(INTRO!$E$41=\"Endemic\", IF($J10>1, IF($J10=4, \"Unknown\", IF($J10=99, \"Surveillance\", F10)), 0),\"Not required\")","v":31219},{"$f":"IF(INTRO!$E$41=\"Endemic\", IF($J10>1, IF($J10=4, \"Unknown\", IF($J10=99, \"Surveillance\", ROUND(D10*INTRO!$E$51,0))), 0),\"Not required\")","v":23944},{"$f":"IF(INTRO!$E$41=\"Endemic\", IF($J10>1, IF($J10=4, \"Unknown\", IF($J10=99, \"Surveillance\", SUM($O10:$Q10))), 0),\"Not required\")","v":70983},4468,11995,21702,{"$f":"IF(INTRO!$E$43=\"Endemic\", IF($K10>1, IF($K10=4, \"Unknown\", IF($K10=99, \"Surveillance\", SUM($S10:$U10))), 0),\"Not required\")","v":38165},0,0,1,1,null,null,null,null,null,null,null,10660,"Chadra",3,2,1]
[{"$f":"IF(INTRO!$E$33<>0,INTRO!$E$33, \" \")","v":"Tchad"},"Bahr El Gazel","Michemire",54713,{"$f":"IF(INTRO!$E$48=\"\",\"\",ROUND($D11*INTRO!$E$48,0))","v":8021},{"$f":"IF(INTRO!$E$49=\"\",\"\",ROUND($D11*INTRO!$E$49,0))","v":15828},{"$f":"IF(INTRO!$E$50=\"\",\"\",ROUND($D11*INTRO!$E$50,0))","v":28637},0,0,1,1,0,{"$f":"IF(INTRO!$E$37=\"Endemic\",IF($H11>0,IF($H11=4,\"Unknown\",IF($H11=99,\"Stopped\",$D11)),0),\"Not required\")","v":0},{"$f":"IF(INTRO!$E$39=\"Endemic\", IF($I11>0, IF($I11=4,\"Unknown\",IF($I11=99,\"Stopped\",$D11)), 0),\"Not required\")","v":0},{"$f":"IF(INTRO!$E$41=\"Endemic\", IF($J11>1, IF($J11=4, \"Unknown\", IF($J11=99, \"Surveillance\", E11)), 0),\"Not required\")","v":0},{"$f":"IF(INTRO!$E$41=\"Endemic\", IF($J11>1, IF($J11=4, \"Unknown\", IF($J11=99, \"Surveillance\", F11)), 0),\"Not required\")","v":0},{"$f":"IF(INTRO!$E$41=\"Endemic\", IF($J11>1, IF($J11=4, \"Unknown\", IF($J11=99, \"Surveillance\", ROUND(D11*INTRO!$E$51,0))), 0),\"Not required\")","v":0},{"$f":"IF(INTRO!$E$41=\"Endemic\", IF($J11>1, IF($J11=4, \"Unknown\", IF($J11=99, \"Surveillance\", SUM($O11:$Q11))), 0),\"Not required\")","v":0},0,0,0,{"$f":"IF(INTRO!$E$43=\"Endemic\", IF($K11>1, IF($K11=4, \"Unknown\", IF($K11=99, \"Surveillance\", SUM($S11:$U11))), 0),\"Not required\")","v":0},0,0,0,0,null,null,null,null,null,null,null,10670,"Michemire",1,2,1]
[{"$f":"IF(INTRO!$E$33<>0,INTRO!$E$33, \" \")","v":"Tchad"},"Bahr El Gazel","Moussoro",206416,{"$f":"IF(INTRO!$E$48=\"\",\"\",ROUND($D12*INTRO!$E$48,0))","v":30261},{"$f":"IF(INTRO!$E$49=\"\",\"\",ROUND($D12*INTRO!$E$49,0))","v":59716},{"$f":"IF(INTRO!$E$50=\"\",\"\",ROUND($D12*INTRO!$E$50,0))","v":108038},0,0,1,2,0,{"$f":"IF(INTRO!$E$37=\"Endemic\",IF($H12>0,IF($H12=4,\"Unknown\",IF($H12=99,\"Stopped\",$D12)),0),\"Not required\")","v":0},{"$f":"IF(INTRO!$E$39=\"Endemic\", IF($I12>0, IF($I12=4,\"Unknown\",IF($I12=99,\"Stopped\",$D12)), 0),\"Not required\")","v":0},{"$f":"IF(INTRO!$E$41=\"Endemic\", IF($J12>1, IF($J12=4, \"Unknown\", IF($J12=99, \"Surveillance\", E12)), 0),\"Not required\")","v":0},{"$f":"IF(INTRO!$E$41=\"Endemic\", IF($J12>1, IF($J12=4, \"Unknown\", IF($J12=99, \"Surveillance\", F12)), 0),\"Not required\")","v":0},{"$f":"IF(INTRO!$E$41=\"Endemic\", IF($J12>1, IF($J12=4, \"Unknown\", IF($J12=99, \"Surveillance\", ROUND(D12*INTRO!$E$51,0))), 0),\"Not required\")","v":0},{"$f":"IF(INTRO!$E$41=\"Endemic\", IF($J12>1, IF($J12=4, \"Unknown\", IF($J12=99, \"Surveillance\", SUM($O12:$Q12))), 0),\"Not required\")","v":0},2823,7579,13713,{"$f":"IF(INTRO!$E$43=\"Endemic\", IF($K12>1, IF($K12=4, \"Unknown\", IF($K12=99, \"Surveillance\", SUM($S12:$U12))), 0),\"Not required\")","v":24115},0,0,0,1,null,null,null,null,null,null,null,10661,"Moussoro",2,2,0]
[{"$f":"IF(INTRO!$E$33<>0,INTRO!$E$33, \" \")","v":"Tchad"},"Bahr El Gazel","Salal",56105,{"$f":"IF(INTRO!$E$48=\"\",\"\",ROUND($D13*INTRO!$E$48,0))","v":8225},{"$f":"IF(INTRO!$E$49=\"\",\"\",ROUND($D13*INTRO!$E$49,0))","v":16231},{"$f":"IF(INTRO!$E$50=\"\",\"\",ROUND($D13*INTRO!$E$50,0))","v":29365},0,0,1,1,0,{"$f":"IF(INTRO!$E$37=\"Endemic\",IF($H13>0,IF($H13=4,\"Unknown\",IF($H13=99,\"Stopped\",$D13)),0),\"Not required\")","v":0},{"$f":"IF(INTRO!$E$39=\"Endemic\", IF($I13>0, IF($I13=4,\"Unknown\",IF($I13=99,\"Stopped\",$D13)), 0),\"Not required\")","v":0},{"$f":"IF(INTRO!$E$41=\"Endemic\", IF($J13>1, IF($J13=4, \"Unknown\", IF($J13=99, \"Surveillance\", E13)), 0),\"Not required\")","v":0},{"$f":"IF(INTRO!$E$41=\"Endemic\", IF($J13>1, IF($J13=4, \"Unknown\", IF($J13=99, \"Surveillance\", F13)), 0),\"Not required\")","v":0},{"$f":"IF(INTRO!$E$41=\"Endemic\", IF($J13>1, IF($J13=4, \"Unknown\", IF($J13=99, \"Surveillance\", ROUND(D13*INTRO!$E$51,0))), 0),\"Not required\")","v":0},{"$f":"IF(INTRO!$E$41=\"Endemic\", IF($J13>1, IF($J13=4, \"Unknown\", IF($J13=99, \"Surveillance\", SUM($O13:$Q13))), 0),\"Not required\")","v":0},0,0,0,{"$f":"IF(INTRO!$E$43=\"Endemic\", IF($K13>1, IF($K13=4, \"Unknown\", IF($K13=99, \"Surveillance\", SUM($S13:$U13))), 0),\"Not required\")","v":0},0,0,0,0,null,null,null,null,null,null,null,10711,"Salal",1,2,0]
[{"$f":"IF(INTRO!$E$33<>0,INTRO!$E$33, \" \")","v":"Tchad"},"Batha","Alifa",131639,{"$f":"IF(INTRO!$E$48=\"\",\"\",ROUND($D14*INTRO!$E$48,0))","v":19298},{"$f":"IF(INTRO!$E$49=\"\",\"\",ROUND($D14*INTRO!$E$49,0))","v":38083},{"$f":"IF(INTRO!$E$50=\"\",\"\",ROUND($D14*INTRO!$E$50,0))","v":68900},0,0,0,1,0,{"$f":"IF(INTRO!$E$37=\"Endemic\",IF($H14>0,IF($H14=4,\"Unknown\",IF($H14=99,\"Stopped\",$D14)),0),\"Not required\")","v":0},{"$f":"IF(INTRO!$E$39=\"Endemic\", IF($I14>0, IF($I14=4,\"Unknown\",IF($I14=99,\"Stopped\",$D14)), 0),\"Not required\")","v":0},{"$f":"IF(INTRO!$E$41=\"Endemic\", IF($J14>1, IF($J14=4, \"Unknown\", IF($J14=99, \"Surveillance\", E14)), 0),\"Not required\")","v":0},{"$f":"IF(INTRO!$E$41=\"Endemic\", IF($J14>1, IF($J14=4, \"Unknown\", IF($J14=99, \"Surveillance\", F14)), 0),\"Not required\")","v":0},{"$f":"IF(INTRO!$E$41=\"Endemic\", IF($J14>1, IF($J14=4, \"Unknown\", IF($J14=99, \"Surveillance\", ROUND(D14*INTRO!$E$51,0))), 0),\"Not required\")","v":0},{"$f":"IF(INTRO!$E$41=\"Endemic\", IF($J14>1, IF($J14=4, \"Unknown\", IF($J14=99, \"Surveillance\", SUM($O14:$Q14))), 0),\"Not required\")","v":0},0,0,0,{"$f":"IF(INTRO!$E$43=\"Endemic\", IF($K14>1, IF($K14=4, \"Unknown\", IF($K14=99, \"Surveillance\", SUM($S14:$U14))), 0),\"Not required\")","v":0},0,0,0,0,null,null,null,null,null,null,null,10739,"Alifa",1,2,0]
[{"$f":"IF(INTRO!$E$33<>0,INTRO!$E$33, \" \")","v":"Tchad"},"Batha","Assinet",110766,{"$f":"IF(INTRO!$E$48=\"\",\"\",ROUND($D15*INTRO!$E$48,0))","v":16238},{"$f":"IF(INTRO!$E$49=\"\",\"\",ROUND($D15*INTRO!$E$49,0))","v":32045},{"$f":"IF(INTRO!$E$50=\"\",\"\",ROUND($D15*INTRO!$E$50,0))","v":57975},0,0,0,1,0,{"$f":"IF(INTRO!$E$37=\"Endemic\",IF($H15>0,IF($H15=4,\"Unknown\",IF($H15=99,\"Stopped\",$D15)),0),\"Not required\")","v":0},{"$f":"IF(INTRO!$E$39=\"Endemic\", IF($I15>0, IF($I15=4,\"Unknown\",IF($I15=99,\"Stopped\",$D15)), 0),\"Not required\")","v":0},{"$f":"IF(INTRO!$E$41=\"Endemic\", IF($J15>1, IF($J15=4, \"Unknown\", IF($J15=99, \"Surveillance\", E15)), 0),\"Not required\")","v":0},{"$f":"IF(INTRO!$E$41=\"Endemic\", IF($J15>1, IF($J15=4, \"Unknown\", IF($J15=99, \"Surveillance\", F15)), 0),\"Not required\")","v":0},{"$f":"IF(INTRO!$E$41=\"Endemic\", IF($J15>1, IF($J15=4, \"Unknown\", IF($J15=99, \"Surveillance\", ROUND(D15*INTRO!$E$51,0))), 0),\"Not required\")","v":0},{"$f":"IF(INTRO!$E$41=\"Endemic\", IF($J15>1, IF($J15=4, \"Unknown\", IF($J15=99, \"Surveillance\", SUM($O15:$Q15))), 0),\"Not required\")","v":0},0,0,0,{"$f":"IF(INTRO!$E$43=\"Endemic\", IF($K15>1, IF($K15=4, \"Unknown\", IF($K15=99, \"Surveillance\", SUM($S15:$U15))), 0),\"Not required\")","v":0},0,0,0,0,null,null,null,null,null,null,null,10745,"Assinet",1,2,0]
[{"$f":"IF(INTRO!$E$33<>0,INTRO!$E$33, \" \")","v":"Tchad"},"Batha","Ati",71312,{"$f":"IF(INTRO!$E$48=\"\",\"\",ROUND($D16*INTRO!$E$48,0))","v":10454},{"$f":"IF(INTRO!$E$49=\"\",\"\",ROUND($D16*INTRO!$E$49,0))","v":20631},{"$f":"IF(INTRO!$E$50=\"\",\"\",ROUND($D16*INTRO!$E$50,0))","v":37325},0,0,0,2,0,{"$f":"IF(INTRO!$E$37=\"Endemic\",IF($H16>0,IF($H16=4,\"Unknown\",IF($H16=99,\"Stopped\",$D16)),0),\"Not required\")","v":0},{"$f":"IF(INTRO!$E$39=\"Endemic\", IF($I16>0, IF($I16=4,\"Unknown\",IF($I16=99,\"Stopped\",$D16)), 0),\"Not required\")","v":0},{"$f":"IF(INTRO!$E$41=\"Endemic\", IF($J16>1, IF($J16=4, \"Unknown\", IF($J16=99, \"Surveillance\", E16)), 0),\"Not required\")","v":0},{"$f":"IF(INTRO!$E$41=\"Endemic\", IF($J16>1, IF($J16=4, \"Unknown\", IF($J16=99, \"Surveillance\", F16)), 0),\"Not required\")","v":0},{"$f":"IF(INTRO!$E$41=\"Endemic\", IF($J16>1, IF($J16=4, \"Unknown\", IF($J16=99, \"Surveillance\", ROUND(D16*INTRO!$E$51,0))), 0),\"Not required\")","v":0},{"$f":"IF(INTRO!$E$41=\"Endemic\", IF($J16>1, IF($J16=4, \"Unknown\", IF($J16=99, \"Surveillance\", SUM($O16:$Q16))), 0),\"Not required\")","v":0},3580,9611,17388,{"$f":"IF(INTRO!$E$43=\"Endemic\", IF($K16>1, IF($K16=4, \"Unknown\", IF($K16=99, \"Surveillance\", SUM($S16:$U16))), 0),\"Not required\")","v":30579},0,0,0,1,null,null,null,null,null,null,null,10662,"Ati",2,2,0]
[{"$f":"IF(INTRO!$E$33<>0,INTRO!$E$33, \" \")","v":"Tchad"},"Batha","Djedda",63150,{"$f":"IF(INTRO!$E$48=\"\",\"\",ROUND($D17*INTRO!$E$48,0))","v":9258},{"$f":"IF(INTRO!$E$49=\"\",\"\",ROUND($D17*INTRO!$E$49,0))","v":18269},{"$f":"IF(INTRO!$E$50=\"\",\"\",ROUND($D17*INTRO!$E$50,0))","v":33053},0,0,0,1,0,{"$f":"IF(INTRO!$E$37=\"Endemic\",IF($H17>0,IF($H17=4,\"Unknown\",IF($H17=99,\"Stopped\",$D17)),0),\"Not required\")","v":0},{"$f":"IF(INTRO!$E$39=\"Endemic\", IF($I17>0, IF($I17=4,\"Unknown\",IF($I17=99,\"Stopped\",$D17)), 0),\"Not required\")","v":0},{"$f":"IF(INTRO!$E$41=\"Endemic\", IF($J17>1, IF($J17=4, \"Unknown\", IF($J17=99, \"Surveillance\", E17)), 0),\"Not required\")","v":0},{"$f":"IF(INTRO!$E$41=\"Endemic\", IF($J17>1, IF($J17=4, \"Unknown\", IF($J17=99, \"Surveillance\", F17)), 0),\"Not required\")","v":0},{"$f":"IF(INTRO!$E$41=\"Endemic\", IF($J17>1, IF($J17=4, \"Unknown\", IF($J17=99, \"Surveillance\", ROUND(D17*INTRO!$E$51,0))), 0),\"Not required\")","v":0},{"$f":"IF(INTRO!$E$41=\"Endemic\", IF($J17>1, IF($J17=4, \"Unknown\", IF($J17=99, \"Surveillance\", SUM($O17:$Q17))), 0),\"Not required\")","v":0},0,0,0,{"$f":"IF(INTRO!$E$43=\"Endemic\", IF($K17>1, IF($K17=4, \"Unknown\", IF($K17=99, \"Surveillance\", SUM($S17:$U17))), 0),\"Not required\")","v":0},0,0,0,0,null,null,null,null,null,null,null,10761,"Djedda",1,2,0]
[{"$f":"IF(INTRO!$E$33<>0,INTRO!$E$33, \" \")","v":"Tchad"},"Batha","Koundjourou",99475,{"$f":"IF(INTRO!$E$48=\"\",\"\",ROUND($D18*INTRO!$E$48,0))","v":14583},{"$f":"IF(INTRO!$E$49=\"\",\"\",ROUND($D18*INTRO!$E$49,0))","v":28778},{"$f":"IF(INTRO!$E$50=\"\",\"\",ROUND($D18*INTRO!$E$50,0))","v":52065},0,0,0,1,0,{"$f":"IF(INTRO!$E$37=\"Endemic\",IF($H18>0,IF($H18=4,\"Unknown\",IF($H18=99,\"Stopped\",$D18)),0),\"Not required\")","v":0},{"$f":"IF(INTRO!$E$39=\"Endemic\", IF($I18>0, IF($I18=4,\"Unknown\",IF($I18=99,\"Stopped\",$D18)), 0),\"Not required\")","v":0},{"$f":"IF(INTRO!$E$41=\"Endemic\", IF($J18>1, IF($J18=4, \"Unknown\", IF($J18=99, \"Surveillance\", E18)), 0),\"Not required\")","v":0},{"$f":"IF(INTRO!$E$41=\"Endemic\", IF($J18>1, IF($J18=4, \"Unknown\", IF($J18=99, \"Surveillance\", F18)), 0),\"Not required\")","v":0},{"$f":"IF(INTRO!$E$41=\"Endemic\", IF($J18>1, IF($J18=4, \"Unknown\", IF($J18=99, \"Surveillance\", ROUND(D18*INTRO!$E$51,0))), 0),\"Not required\")","v":0},{"$f":"IF(INTRO!$E$41=\"Endemic\", IF($J18>1, IF($J18=4, \"Unknown\", IF($J18=99, \"Surveillance\", SUM($O18:$Q18))), 0),\"Not required\")","v":0},0,0,0,{"$f":"IF(INTRO!$E$43=\"Endemic\", IF($K18>1, IF($K18=4, \"Unknown\", IF($K18=99, \"Surveillance\", SUM($S18:$U18))), 0),\"Not required\")","v":0},0,0,0,0,null,null,null,null,null,null,null,10762,"Koundjourou",1,2,0]
[{"$f":"IF(INTRO!$E$33<>0,INTRO!$E$33, \" \")","v":"Tchad"},"Batha","Oum-Hadjer",178468,{"$f":"IF(INTRO!$E$48=\"\",\"\",ROUND($D19*INTRO!$E$48,0))","v":26163},{"$f":"IF(INTRO!$E$49=\"\",\"\",ROUND($D19*INTRO!$E$49,0))","v":51631},{"$f":"IF(INTRO!$E$50=\"\",\"\",ROUND($D19*INTRO!$E$50,0))","v":93410},0,0,0,2,0,{"$f":"IF(INTRO!$E$37=\"Endemic\",IF($H19>0,IF($H19=4,\"Unknown\",IF($H19=99,\"Stopped\",$D19)),0),\"Not required\")","v":0},{"$f":"IF(INTRO!$E$39=\"Endemic\", IF($I19>0, IF($I19=4,\"Unknown\",IF($I19=99,\"Stopped\",$D19)), 0),\"Not required\")","v":0},{"$f":"IF(INTRO!$E$41=\"Endemic\", IF($J19>1, IF($J19=4, \"Unknown\", IF($J19=99, \"Surveillance\", E19)), 0),\"Not required\")","v":0},{"$f":"IF(INTRO!$E$41=\"Endemic\", IF($J19>1, IF($J19=4, \"Unknown\", IF($J19=99, \"Surveillance\", F19)), 0),\"Not required\")","v":0},{"$f":"IF(INTRO!$E$41=\"Endemic\", IF($J19>1, IF($J19=4, \"Unknown\", IF($J19=99, \"Surveillance\", ROUND(D19*INTRO!$E$51,0))), 0),\"Not required\")","v":0},{"$f":"IF(INTRO!$E$41=\"Endemic\", IF($J19>1, IF($J19=4, \"Unknown\", IF($J19=99, \"Surveillance\", SUM($O19:$Q19))), 0),\"Not required\")","v":0},8159,21904,39631,{"$f":"IF(INTRO!$E$43=\"Endemic\", IF($K19>1, IF($K19=4, \"Unknown\", IF($K19=99, \"Surveillance\", SUM($S19:$U19))), 0),\"Not required\")","v":69694},0,0,0,1,null,null,null,null,null,null,null,10663,"Oum-Hadjer",2,2,0]
[{"$f":"IF(INTRO!$E$33<>0,INTRO!$E$33, \" \")","v":"Tchad"},"Batha","Yao",129681,{"$f":"IF(INTRO!$E$48=\"\",\"\",ROUND($D20*INTRO!$E$48,0))","v":19011},{"$f":"IF(INTRO!$E$49=\"\",\"\",ROUND($D20*INTRO!$E$49,0))","v":37517},{"$f":"IF(INTRO!$E$50=\"\",\"\",ROUND($D20*INTRO!$E$50,0))","v":67875},0,0,1,3,0,{"$f":"IF(INTRO!$E$37=\"Endemic\",IF($H20>0,IF($H20=4,\"Unknown\",IF($H20=99,\"Stopped\",$D20)),0),\"Not required\")","v":0},{"$f":"IF(INTRO!$E$39=\"Endemic\", IF($I20>0, IF($I20=4,\"Unknown\",IF($I20=99,\"Stopped\",$D20)), 0),\"Not required\")","v":0},{"$f":"IF(INTRO!$E$41=\"Endemic\", IF($J20>1, IF($J20=4, \"Unknown\", IF($J20=99, \"Surveillance\", E20)), 0),\"Not required\")","v":0},{"$f":"IF(INTRO!$E$41=\"Endemic\", IF($J20>1, IF($J20=4, \"Unknown\", IF($J20=99, \"Surveillance\", F20)), 0),\"Not required\")","v":0},{"$f":"IF(INTRO!$E$41=\"Endemic\", IF($J20>1, IF($J20=4, \"Unknown\", IF($J20=99, \"Surveillance\", ROUND(D20*INTRO!$E$51,0))), 0),\"Not required\")","v":0},{"$f":"IF(INTRO!$E$41=\"Endemic\", IF($J20>1, IF($J20=4, \"Unknown\", IF($J20=99, \"Surveillance\", SUM($O20:$Q20))), 0),\"Not required\")","v":0},4367,11726,21215,{"$f":"IF(INTRO!$E$43=\"Endemic\", IF($K20>1, IF($K20=4, \"Unknown\", IF($K20=99, \"Surveillance\", SUM($S20:$U20))), 0),\"Not required\")","v":37308},0,0,0,1,null,null,null,null,null,null,null,10664,"Yao",3,2,0]
[{"$f":"IF(INTRO!$E$33<>0,INTRO!$E$33, \" \")","v":"Tchad"},"Borkou","Faya",51096,{"$f":"IF(INTRO!$E$48=\"\",\"\",ROUND($D21*INTRO!$E$48,0))","v":7491},{"$f":"IF(INTRO!$E$49=\"\",\"\",ROUND($D21*INTRO!$E$49,0))","v":14782},{"$f":"IF(INTRO!$E$50=\"\",\"\",ROUND($D21*INTRO!$E$50,0))","v":26744},0,0,1,1,0,{"$f":"IF(INTRO!$E$37=\"Endemic\",IF($H21>0,IF($H21=4,\"Unknown\",IF($H21=99,\"Stopped\",$D21)),0),\"Not required\")","v":0},{"$f":"IF(INTRO!$E$39=\"Endemic\", IF($I21>0, IF($I21=4,\"Unknown\",IF($I21=99,\"Stopped\",$D21)), 0),\"Not required\")","v":0},{"$f":"IF(INTRO!$E$41=\"Endemic\", IF($J21>1, IF($J21=4, \"Unknown\", IF($J21=99, \"Surveillance\", E21)), 0),\"Not required\")","v":0},{"$f":"IF(INTRO!$E$41=\"Endemic\", IF($J21>1, IF($J21=4, \"Unknown\", IF($J21=99, \"Surveillance\", F21)), 0),\"Not required\")","v":0},{"$f":"IF(INTRO!$E$41=\"Endemic\", IF($J21>1, IF($J21=4, \"Unknown\", IF($J21=99, \"Surveillance\", ROUND(D21*INTRO!$E$51,0))), 0),\"Not required\")","v":0},{"$f":"IF(INTRO!$E$41=\"Endemic\", IF($J21>1, IF($J21=4, \"Unknown\", IF($J21=99, \"Surveillance\", SUM($O21:$Q21))), 0),\"Not required\")","v":0},0,0,0,{"$f":"IF(INTRO!$E$43=\"Endemic\", IF($K21>1, IF($K21=4, \"Unknown\", IF($K21=99, \"Surveillance\", SUM($S21:$U21))), 0),\"Not required\")","v":0},0,0,0,0,null,null,null,null,null,null,null,10666,"Faya",1,1,0]
[{"$f":"IF(INTRO!$E$33<>0,INTRO!$E$33, \" \")","v":"Tchad"},"Borkou","Kirdimi",42452,{"$f":"IF(INTRO!$E$48=\"\",\"\",ROUND($D22*INTRO!$E$48,0))","v":6223},{"$f":"IF(INTRO!$E$49=\"\",\"\",ROUND($D22*INTRO!$E$49,0))","v":12281},{"$f":"IF(INTRO!$E$50=\"\",\"\",ROUND($D22*INTRO!$E$50,0))","v":22219},0,0,1,1,0,{"$f":"IF(INTRO!$E$37=\"Endemic\",IF($H22>0,IF($H22=4,\"Unknown\",IF($H22=99,\"Stopped\",$D22)),0),\"Not required\")","v":0},{"$f":"IF(INTRO!$E$39=\"Endemic\", IF($I22>0, IF($I22=4,\"Unknown\",IF($I22=99,\"Stopped\",$D22)), 0),\"Not required\")","v":0},{"$f":"IF(INTRO!$E$41=\"Endemic\", IF($J22>1, IF($J22=4, \"Unknown\", IF($J22=99, \"Surveillance\", E22)), 0),\"Not required\")","v":0},{"$f":"IF(INTRO!$E$41=\"Endemic\", IF($J22>1, IF($J22=4, \"Unknown\", IF($J22=99, \"Surveillance\", F22)), 0),\"Not required\")","v":0},{"$f":"IF(INTRO!$E$41=\"Endemic\", IF($J22>1, IF($J22=4, \"Unknown\", IF($J22=99, \"Surveillance\", ROUND(D22*INTRO!$E$51,0))), 0),\"Not required\")","v":0},{"$f":"IF(INTRO!$E$41=\"Endemic\", IF($J22>1, IF($J22=4, \"Unknown\", IF($J22=99, \"Surveillance\", SUM($O22:$Q22))), 0),\"Not required\")","v":0},0,0,0,{"$f":"IF(INTRO!$E$43=\"Endemic\", IF($K22>1, IF($K22=4, \"Unknown\", IF($K22=99, \"Surveillance\", SUM($S22:$U22))), 0),\"Not required\")","v":0},0,0,0,0,null,null,null,null,null,null,null,10746,"Kirdimi",1,1,0]
[{"$f":"IF(INTRO!$E$33<>0,INTRO!$E$33, \" \")","v":"Tchad"},"Borkou","Kouba Olanga",63674,{"$f":"IF(INTRO!$E$48=\"\",\"\",ROUND($D23*INTRO!$E$48,0))","v":9335},{"$f":"IF(INTRO!$E$49=\"\",\"\",ROUND($D23*INTRO!$E$49,0))","v":18421},{"$f":"IF(INTRO!$E$50=\"\",\"\",ROUND($D23*INTRO!$E$50,0))","v":33327},0,0,1,1,0,{"$f":"IF(INTRO!$E$37=\"Endemic\",IF($H23>0,IF($H23=4,\"Unknown\",IF($H23=99,\"Stopped\",$D23)),0),\"Not required\")","v":0},{"$f":"IF(INTRO!$E$39=\"Endemic\", IF($I23>0, IF($I23=4,\"Unknown\",IF($I23=99,\"Stopped\",$D23)), 0),\"Not required\")","v":0},{"$f":"IF(INTRO!$E$41=\"Endemic\", IF($J23>1, IF($J23=4, \"Unknown\", IF($J23=99, \"Surveillance\", E23)), 0),\"Not required\")","v":0},{"$f":"IF(INTRO!$E$41=\"Endemic\", IF($J23>1, IF($J23=4, \"Unknown\", IF($J23=99, \"Surveillance\", F23)), 0),\"Not required\")","v":0},{"$f":"IF(INTRO!$E$41=\"Endemic\", IF($J23>1, IF($J23=4, \"Unknown\", IF($J23=99, \"Surveillance\", ROUND(D23*INTRO!$E$51,0))), 0),\"Not required\")","v":0},{"$f":"IF(INTRO!$E$41=\"Endemic\", IF($J23>1, IF($J23=4, \"Unknown\", IF($J23=99, \"Surveillance\", SUM($O23:$Q23))), 0),\"Not required\")","v":0},0,0,0,{"$f":"IF(INTRO!$E$43=\"Endemic\", IF($K23>1, IF($K23=4, \"Unknown\", IF($K23=99, \"Surveillance\", SUM($S23:$U23))), 0),\"Not required\")","v":0},0,0,0,0,null,null,null,null,null,null,null,10783,"Kouba Olanga",1,1,0]
[{"$f":"IF(INTRO!$E$33<>0,INTRO!$E$33, \" \")","v":"Tchad"},"Chari  Baguirmi","Ba-Illi",152018,{"$f":"IF(INTRO!$E$48=\"\",\"\",ROUND($D24*INTRO!$E$48,0))","v":22286},{"$f":"IF(INTRO!$E$49=\"\",\"\",ROUND($D24*INTRO!$E$49,0))","v":43979},{"$f":"IF(INTRO!$E$50=\"\",\"\",ROUND($D24*INTRO!$E$50,0))","v":79566},0,4,1,2,0,{"$f":"IF(INTRO!$E$37=\"Endemic\",IF($H24>0,IF($H24=4,\"Unknown\",IF($H24=99,\"Stopped\",$D24)),0),\"Not required\")","v":0},{"$f":"IF(INTRO!$E$39=\"Endemic\", IF($I24>0, IF($I24=4,\"Unknown\",IF($I24=99,\"Stopped\",$D24)), 0),\"Not required\")","v":"Unknown"},{"$f":"IF(INTRO!$E$41=\"Endemic\", IF($J24>1, IF($J24=4, \"Unknown\", IF($J24=99, \"Surveillance\", E24)), 0),\"Not required\")","v":0},{"$f":"IF(INTRO!$E$41=\"Endemic\", IF($J24>1, IF($J24=4, \"Unknown\", IF($J24=99, \"Surveillance\", F24)), 0),\"Not required\")","v":0},{"$f":"IF(INTRO!$E$41=\"Endemic\", IF($J24>1, IF($J24=4, \"Unknown\", IF($J24=99, \"Surveillance\", ROUND(D24*INTRO!$E$51,0))), 0),\"Not required\")","v":0},{"$f":"IF(INTRO!$E$41=\"Endemic\", IF($J24>1, IF($J24=4, \"Unknown\", IF($J24=99, \"Surveillance\", SUM($O24:$Q24))), 0),\"Not required\")","v":0},3132,8410,15216,{"$f":"IF(INTRO!$E$43=\"Endemic\", IF($K24>1, IF($K24=4, \"Unknown\", IF($K24=99, \"Surveillance\", SUM($S24:$U24))), 0),\"Not required\")","v":26758},0,0,0,1,null,null,null,null,null,null,null,10667,"Ba-Illi",2,2,1]
[{"$f":"IF(INTRO!$E$33<>0,INTRO!$E$33, \" \")","v":"Tchad"},"Chari  Baguirmi","Bousso",137882,{"$f":"IF(INTRO!$E$48=\"\",\"\",ROUND($D25*INTRO!$E$48,0))","v":20214},{"$f":"IF(INTRO!$E$49=\"\",\"\",ROUND($D25*INTRO!$E$49,0))","v":39889},{"$f":"IF(INTRO!$E$50=\"\",\"\",ROUND($D25*INTRO!$E$50,0))","v":72167},0,4,1,3,0,{"$f":"IF(INTRO!$E$37=\"Endemic\",IF($H25>0,IF($H25=4,\"Unknown\",IF($H25=99,\"Stopped\",$D25)),0),\"Not required\")","v":0},{"$f":"IF(INTRO!$E$39=\"Endemic\", IF($I25>0, IF($I25=4,\"Unknown\",IF($I25=99,\"Stopped\",$D25)), 0),\"Not required\")","v":"Unknown"},{"$f":"IF(INTRO!$E$41=\"Endemic\", IF($J25>1, IF($J25=4, \"Unknown\", IF($J25=99, \"Surveillance\", E25)), 0),\"Not required\")","v":0},{"$f":"IF(INTRO!$E$41=\"Endemic\", IF($J25>1, IF($J25=4, \"Unknown\", IF($J25=99, \"Surveillance\", F25)), 0),\"Not required\")","v":0},{"$f":"IF(INTRO!$E$41=\"Endemic\", IF($J25>1, IF($J25=4, \"Unknown\", IF($J25=99, \"Surveillance\", ROUND(D25*INTRO!$E$51,0))), 0),\"Not required\")","v":0},{"$f":"IF(INTRO!$E$41=\"Endemic\", IF($J25>1, IF($J25=4, \"Unknown\", IF($J25=99, \"Surveillance\", SUM($O25:$Q25))), 0),\"Not required\")","v":0},6271,16834,30457,{"$f":"IF(INTRO!$E$43=\"Endemic\", IF($K25>1, IF($K25=4, \"Unknown\", IF($K25=99, \"Surveillance\", SUM($S25:$U25))), 0),\"Not required\")","v":53562},0,0,0,1,null,null,null,null,null,null,null,10668,"Bousso",3,2,1]
[{"$f":"IF(INTRO!$E$33<>0,INTRO!$E$33, \" \")","v":"Tchad"},"Chari  Baguirmi","Dourbali",213596,{"$f":"IF(INTRO!$E$48=\"\",\"\",ROUND($D26*INTRO!$E$48,0))","v":31313},{"$f":"IF(INTRO!$E$49=\"\",\"\",ROUND($D26*INTRO!$E$49,0))","v":61793},{"$f":"IF(INTRO!$E$50=\"\",\"\",ROUND($D26*INTRO!$E$50,0))","v":111796},0,4,1,2,0,{"$f":"IF(INTRO!$E$37=\"Endemic\",IF($H26>0,IF($H26=4,\"Unknown\",IF($H26=99,\"Stopped\",$D26)),0),\"Not required\")","v":0},{"$f":"IF(INTRO!$E$39=\"Endemic\", IF($I26>0, IF($I26=4,\"Unknown\",IF($I26=99,\"Stopped\",$D26)), 0),\"Not required\")","v":"Unknown"},{"$f":"IF(INTRO!$E$41=\"Endemic\", IF($J26>1, IF($J26=4, \"Unknown\", IF($J26=99, \"Surveillance\", E26)), 0),\"Not required\")","v":0},{"$f":"IF(INTRO!$E$41=\"Endemic\", IF($J26>1, IF($J26=4, \"Unknown\", IF($J26=99, \"Surveillance\", F26)), 0),\"Not required\")","v":0},{"$f":"IF(INTRO!$E$41=\"Endemic\", IF($J26>1, IF($J26=4, \"Unknown\", IF($J26=99, \"Surveillance\", ROUND(D26*INTRO!$E$51,0))), 0),\"Not required\")","v":0},{"$f":"IF(INTRO!$E$41=\"Endemic\", IF($J26>1, IF($J26=4, \"Unknown\", IF($J26=99, \"Surveillance\", SUM($O26:$Q26))), 0),\"Not required\")","v":0},4364,11716,21196,{"$f":"IF(INTRO!$E$43=\"Endemic\", IF($K26>1, IF($K26=4, \"Unknown\", IF($K26=99, \"Surveillance\", SUM($S26:$U26))), 0),\"Not required\")","v":37276},0,0,0,1,null,null,null,null,null,null,null,10669,"Dourbali",2,2,1]
[{"$f":"IF(INTRO!$E$33<>0,INTRO!$E$33, \" \")","v":"Tchad"},"Chari  Baguirmi","Koulno",50611,{"$f":"IF(INTRO!$E$48=\"\",\"\",ROUND($D27*INTRO!$E$48,0))","v":7420},{"$f":"IF(INTRO!$E$49=\"\",\"\",ROUND($D27*INTRO!$E$49,0))","v":14642},{"$f":"IF(INTRO!$E$50=\"\",\"\",ROUND($D27*INTRO!$E$50,0))","v":26490},0,4,1,1,0,{"$f":"IF(INTRO!$E$37=\"Endemic\",IF($H27>0,IF($H27=4,\"Unknown\",IF($H27=99,\"Stopped\",$D27)),0),\"Not required\")","v":0},{"$f":"IF(INTRO!$E$39=\"Endemic\", IF($I27>0, IF($I27=4,\"Unknown\",IF($I27=99,\"Stopped\",$D27)), 0),\"Not required\")","v":"Unknown"},{"$f":"IF(INTRO!$E$41=\"Endemic\", IF($J27>1, IF($J27=4, \"Unknown\", IF($J27=99, \"Surveillance\", E27)), 0),\"Not required\")","v":0},{"$f":"IF(INTRO!$E$41=\"Endemic\", IF($J27>1, IF($J27=4, \"Unknown\", IF($J27=99, \"Surveillance\", F27)), 0),\"Not required\")","v":0},{"$f":"IF(INTRO!$E$41=\"Endemic\", IF($J27>1, IF($J27=4, \"Unknown\", IF($J27=99, \"Surveillance\", ROUND(D27*INTRO!$E$51,0))), 0),\"Not required\")","v":0},{"$f":"IF(INTRO!$E$41=\"Endemic\", IF($J27>1, IF($J27=4, \"Unknown\", IF($J27=99, \"Surveillance\", SUM($O27:$Q27))), 0),\"Not required\")","v":0},0,0,0,{"$f":"IF(INTRO!$E$43=\"Endemic\", IF($K27>1, IF($K27=4, \"Unknown\", IF($K27=99, \"Surveillance\", SUM($S27:$U27))), 0),\"Not required\")","v":0},0,0,0,0,null,null,null,null,null,null,null,10747,"Koulno",1,2,0]
[{"$f":"IF(INTRO!$E$33<>0,INTRO!$E$33, \" \")","v":"Tchad"},"Chari  Baguirmi","Mandélia",207154,{"$f":"IF(INTRO!$E$48=\"\",\"\",ROUND($D28*INTRO!$E$48,0))","v":30369},{"$f":"IF(INTRO!$E$49=\"\",\"\",ROUND($D28*INTRO!$E$49,0))","v":59930},{"$f":"IF(INTRO!$E$50=\"\",\"\",ROUND($D28*INTRO!$E$50,0))","v":108424},0,4,1,2,0,{"$f":"IF(INTRO!$E$37=\"Endemic\",IF($H28>0,IF($H28=4,\"Unknown\",IF($H28=99,\"Stopped\",$D28)),0),\"Not required\")","v":0},{"$f":"IF(INTRO!$E$39=\"Endemic\", IF($I28>0, IF($I28=4,\"Unknown\",IF($I28=99,\"Stopped\",$D28)), 0),\"Not required\")","v":"Unknown"},{"$f":"IF(INTRO!$E$41=\"Endemic\", IF($J28>1, IF($J28=4, \"Unknown\", IF($J28=99, \"Surveillance\", E28)), 0),\"Not required\")","v":0},{"$f":"IF(INTRO!$E$41=\"Endemic\", IF($J28>1, IF($J28=4, \"Unknown\", IF($J28=99, \"Surveillance\", F28)), 0),\"Not required\")","v":0},{"$f":"IF(INTRO!$E$41=\"Endemic\", IF($J28>1, IF($J28=4, \"Unknown\", IF($J28=99, \"Surveillance\", ROUND(D28*INTRO!$E$51,0))), 0),\"Not required\")","v":0},{"$f":"IF(INTRO!$E$41=\"Endemic\", IF($J28>1, IF($J28=4, \"Unknown\", IF($J28=99, \"Surveillance\", SUM($O28:$Q28))), 0),\"Not required\")","v":0},5204,13971,25277,{"$f":"IF(INTRO!$E$43=\"Endemic\", IF($K28>1, IF($K28=4, \"Unknown\", IF($K28=99, \"Surveillance\", SUM($S28:$U28))), 0),\"Not required\")","v":44452},0,0,0,1,null,null,null,null,null,null,null,10671,"Mandélia",2,2,0]
[{"$f":"IF(INTRO!$E$33<>0,INTRO!$E$33, \" \")","v":"Tchad"},"Chari  Baguirmi","Massenya",200898,{"$f":"IF(INTRO!$E$48=\"\",\"\",ROUND($D29*INTRO!$E$48,0))","v":29452},{"$f":"IF(INTRO!$E$49=\"\",\"\",ROUND($D29*INTRO!$E$49,0))","v":58120},{"$f":"IF(INTRO!$E$50=\"\",\"\",ROUND($D29*INTRO!$E$50,0))","v":105150},0,4,1,3,0,{"$f":"IF(INTRO!$E$37=\"Endemic\",IF($H29>0,IF($H29=4,\"Unknown\",IF($H29=99,\"Stopped\",$D29)),0),\"Not required\")","v":0},{"$f":"IF(INTRO!$E$39=\"Endemic\", IF($I29>0, IF($I29=4,\"Unknown\",IF($I29=99,\"Stopped\",$D29)), 0),\"Not required\")","v":"Unknown"},{"$f":"IF(INTRO!$E$41=\"Endemic\", IF($J29>1, IF($J29=4, \"Unknown\", IF($J29=99, \"Surveillance\", E29)), 0),\"Not required\")","v":0},{"$f":"IF(INTRO!$E$41=\"Endemic\", IF($J29>1, IF($J29=4, \"Unknown\", IF($J29=99, \"Surveillance\", F29)), 0),\"Not required\")","v":0},{"$f":"IF(INTRO!$E$41=\"Endemic\", IF($J29>1, IF($J29=4, \"Unknown\", IF($J29=99, \"Surveillance\", ROUND(D29*INTRO!$E$51,0))), 0),\"Not required\")","v":0},{"$f":"IF(INTRO!$E$41=\"Endemic\", IF($J29>1, IF($J29=4, \"Unknown\", IF($J29=99, \"Surveillance\", SUM($O29:$Q29))), 0),\"Not required\")","v":0},4241,11388,20602,{"$f":"IF(INTRO!$E$43=\"Endemic\", IF($K29>1, IF($K29=4, \"Unknown\", IF($K29=99, \"Surveillance\", SUM($S29:$U29))), 0),\"Not required\")","v":36231},0,0,0,1,null,null,null,null,null,null,null,10672,"Massenya",3,2,1]
[{"$f":"IF(INTRO!$E$33<>0,INTRO!$E$33, \" \")","v":"Tchad"},"Ennedi Est","Amdjarass",54392,{"$f":"IF(INTRO!$E$48=\"\",\"\",ROUND($D30*INTRO!$E$48,0))","v":7974},{"$f":"IF(INTRO!$E$49=\"\",\"\",ROUND($D30*INTRO!$E$49,0))","v":15736},{"$f":"IF(INTRO!$E$50=\"\",\"\",ROUND($D30*INTRO!$E$50,0))","v":28469},0,0,1,0,0,{"$f":"IF(INTRO!$E$37=\"Endemic\",IF($H30>0,IF($H30=4,\"Unknown\",IF($H30=99,\"Stopped\",$D30)),0),\"Not required\")","v":0},{"$f":"IF(INTRO!$E$39=\"Endemic\", IF($I30>0, IF($I30=4,\"Unknown\",IF($I30=99,\"Stopped\",$D30)), 0),\"Not required\")","v":0},{"$f":"IF(INTRO!$E$41=\"Endemic\", IF($J30>1, IF($J30=4, \"Unknown\", IF($J30=99, \"Surveillance\", E30)), 0),\"Not required\")","v":0},{"$f":"IF(INTRO!$E$41=\"Endemic\", IF($J30>1, IF($J30=4, \"Unknown\", IF($J30=99, \"Surveillance\", F30)), 0),\"Not required\")","v":0},{"$f":"IF(INTRO!$E$41=\"Endemic\", IF($J30>1, IF($J30=4, \"Unknown\", IF($J30=99, \"Surveillance\", ROUND(D30*INTRO!$E$51,0))), 0),\"Not required\")","v":0},{"$f":"IF(INTRO!$E$41=\"Endemic\", IF($J30>1, IF($J30=4, \"Unknown\", IF($J30=99, \"Surveillance\", SUM($O30:$Q30))), 0),\"Not required\")","v":0},0,0,0,{"$f":"IF(INTRO!$E$43=\"Endemic\", IF($K30>1, IF($K30=4, \"Unknown\", IF($K30=99, \"Surveillance\", SUM($S30:$U30))), 0),\"Not required\")","v":0},0,0,0,0,null,null,null,null,null,null,null,10675,"Amdjarass",0,0,0]
[{"$f":"IF(INTRO!$E$33<>0,INTRO!$E$33, \" \")","v":"Tchad"},"Ennedi Est","Bahaï",72627,{"$f":"IF(INTRO!$E$48=\"\",\"\",ROUND($D31*INTRO!$E$48,0))","v":10647},{"$f":"IF(INTRO!$E$49=\"\",\"\",ROUND($D31*INTRO!$E$49,0))","v":21011},{"$f":"IF(INTRO!$E$50=\"\",\"\",ROUND($D31*INTRO!$E$50,0))","v":38013},0,0,1,0,0,{"$f":"IF(INTRO!$E$37=\"Endemic\",IF($H31>0,IF($H31=4,\"Unknown\",IF($H31=99,\"Stopped\",$D31)),0),\"Not required\")","v":0},{"$f":"IF(INTRO!$E$39=\"Endemic\", IF($I31>0, IF($I31=4,\"Unknown\",IF($I31=99,\"Stopped\",$D31)), 0),\"Not required\")","v":0},{"$f":"IF(INTRO!$E$41=\"Endemic\", IF($J31>1, IF($J31=4, \"Unknown\", IF($J31=99, \"Surveillance\", E31)), 0),\"Not required\")","v":0},{"$f":"IF(INTRO!$E$41=\"Endemic\", IF($J31>1, IF($J31=4, \"Unknown\", IF($J31=99, \"Surveillance\", F31)), 0),\"Not required\")","v":0},{"$f":"IF(INTRO!$E$41=\"Endemic\", IF($J31>1, IF($J31=4, \"Unknown\", IF($J31=99, \"Surveillance\", ROUND(D31*INTRO!$E$51,0))), 0),\"Not required\")","v":0},{"$f":"IF(INTRO!$E$41=\"Endemic\", IF($J31>1, IF($J31=4, \"Unknown\", IF($J31=99, \"Surveillance\", SUM($O31:$Q31))), 0),\"Not required\")","v":0},0,0,0,{"$f":"IF(INTRO!$E$43=\"Endemic\", IF($K31>1, IF($K31=4, \"Unknown\", IF($K31=99, \"Surveillance\", SUM($S31:$U31))), 0),\"Not required\")","v":0},0,0,0,0,null,null,null,null,null,null,null,10676,"Bahaï",0,0,0]
[{"$f":"IF(INTRO!$E$33<>0,INTRO!$E$33, \" \")","v":"Tchad"},"Ennedi Est","Kaoura",40763,{"$f":"IF(INTRO!$E$48=\"\",\"\",ROUND($D32*INTRO!$E$48,0))","v":5976},{"$f":"IF(INTRO!$E$49=\"\",\"\",ROUND($D32*INTRO!$E$49,0))","v":11793},{"$f":"IF(INTRO!$E$50=\"\",\"\",ROUND($D32*INTRO!$E$50,0))","v":21335},0,0,1,0,0,{"$f":"IF(INTRO!$E$37=\"Endemic\",IF($H32>0,IF($H32=4,\"Unknown\",IF($H32=99,\"Stopped\",$D32)),0),\"Not required\")","v":0},{"$f":"IF(INTRO!$E$39=\"Endemic\", IF($I32>0, IF($I32=4,\"Unknown\",IF($I32=99,\"Stopped\",$D32)), 0),\"Not required\")","v":0},{"$f":"IF(INTRO!$E$41=\"Endemic\", IF($J32>1, IF($J32=4, \"Unknown\", IF($J32=99, \"Surveillance\", E32)), 0),\"Not required\")","v":0},{"$f":"IF(INTRO!$E$41=\"Endemic\", IF($J32>1, IF($J32=4, \"Unknown\", IF($J32=99, \"Surveillance\", F32)), 0),\"Not required\")","v":0},{"$f":"IF(INTRO!$E$41=\"Endemic\", IF($J32>1, IF($J32=4, \"Unknown\", IF($J32=99, \"Surveillance\", ROUND(D32*INTRO!$E$51,0))), 0),\"Not required\")","v":0},{"$f":"IF(INTRO!$E$41=\"Endemic\", IF($J32>1, IF($J32=4, \"Unknown\", IF($J32=99, \"Surveillance\", SUM($O32:$Q32))), 0),\"Not required\")","v":0},0,0,0,{"$f":"IF(INTRO!$E$43=\"Endemic\", IF($K32>1, IF($K32=4, \"Unknown\", IF($K32=99, \"Surveillance\", SUM($S32:$U32))), 0),\"Not required\")","v":0},0,0,0,0,null,null,null,null,null,null,null,10678,"Kaoura",0,1,0]
[{"$f":"IF(INTRO!$E$33<>0,INTRO!$E$33, \" \")","v":"Tchad"},"Ennedi Est","Mourdi",14814,{"$f":"IF(INTRO!$E$48=\"\",\"\",ROUND($D33*INTRO!$E$48,0))","v":2172},{"$f":"IF(INTRO!$E$49=\"\",\"\",ROUND($D33*INTRO!$E$49,0))","v":4286},{"$f":"IF(INTRO!$E$50=\"\",\"\",ROUND($D33*INTRO!$E$50,0))","v":7754},0,0,1,1,0,{"$f":"IF(INTRO!$E$37=\"Endemic\",IF($H33>0,IF($H33=4,\"Unknown\",IF($H33=99,\"Stopped\",$D33)),0),\"Not required\")","v":0},{"$f":"IF(INTRO!$E$39=\"Endemic\", IF($I33>0, IF($I33=4,\"Unknown\",IF($I33=99,\"Stopped\",$D33)), 0),\"Not required\")","v":0},{"$f":"IF(INTRO!$E$41=\"Endemic\", IF($J33>1, IF($J33=4, \"Unknown\", IF($J33=99, \"Surveillance\", E33)), 0),\"Not required\")","v":0},{"$f":"IF(INTRO!$E$41=\"Endemic\", IF($J33>1, IF($J33=4, \"Unknown\", IF($J33=99, \"Surveillance\", F33)), 0),\"Not required\")","v":0},{"$f":"IF(INTRO!$E$41=\"Endemic\", IF($J33>1, IF($J33=4, \"Unknown\", IF($J33=99, \"Surveillance\", ROUND(D33*INTRO!$E$51,0))), 0),\"Not required\")","v":0},{"$f":"IF(INTRO!$E$41=\"Endemic\", IF($J33>1, IF($J33=4, \"Unknown\", IF($J33=99, \"Surveillance\", SUM($O33:$Q33))), 0),\"Not required\")","v":0},0,0,0,{"$f":"IF(INTRO!$E$43=\"Endemic\", IF($K33>1, IF($K33=4, \"Unknown\", IF($K33=99, \"Surveillance\", SUM($S33:$U33))), 0),\"Not required\")","v":0},0,0,0,0,null,null,null,null,null,null,null,10784,"Mourdi",1,1,0]
[{"$f":"IF(INTRO!$E$33<>0,INTRO!$E$33, \" \")","v":"Tchad"},"Ennedi Ouest","Fada",29045,{"$f":"IF(INTRO!$E$48=\"\",\"\",ROUND($D34*INTRO!$E$48,0))","v":4258},{"$f":"IF(INTRO!$E$49=\"\",\"\",ROUND($D34*INTRO!$E$49,0))","v":8403},{"$f":"IF(INTRO!$E$50=\"\",\"\",ROUND($D34*INTRO!$E$50,0))","v":15202},0,0,1,1,0,{"$f":"IF(INTRO!$E$37=\"Endemic\",IF($H34>0,IF($H34=4,\"Unknown\",IF($H34=99,\"Stopped\",$D34)),0),\"Not required\")","v":0},{"$f":"IF(INTRO!$E$39=\"Endemic\", IF($I34>0, IF($I34=4,\"Unknown\",IF($I34=99,\"Stopped\",$D34)), 0),\"Not required\")","v":0},{"$f":"IF(INTRO!$E$41=\"Endemic\", IF($J34>1, IF($J34=4, \"Unknown\", IF($J34=99, \"Surveillance\", E34)), 0),\"Not required\")","v":0},{"$f":"IF(INTRO!$E$41=\"Endemic\", IF($J34>1, IF($J34=4, \"Unknown\", IF($J34=99, \"Surveillance\", F34)), 0),\"Not required\")","v":0},{"$f":"IF(INTRO!$E$41=\"Endemic\", IF($J34>1, IF($J34=4, \"Unknown\", IF($J34=99, \"Surveillance\", ROUND(D34*INTRO!$E$51,0))), 0),\"Not required\")","v":0},{"$f":"IF(INTRO!$E$41=\"Endemic\", IF($J34>1, IF($J34=4, \"Unknown\", IF($J34=99, \"Surveillance\", SUM($O34:$Q34))), 0),\"Not required\")","v":0},0,0,0,{"$f":"IF(INTRO!$E$43=\"Endemic\", IF($K34>1, IF($K34=4, \"Unknown\", IF($K34=99, \"Surveillance\", SUM($S34:$U34))), 0),\"Not required\")","v":0},0,0,0,0,null,null,null,null,null,null,null,10665,"Fada",1,1,0]
[{"$f":"IF(INTRO!$E$33<>0,INTRO!$E$33, \" \")","v":"Tchad"},"Ennedi Ouest","Kalaït",34998,{"$f":"IF(INTRO!$E$48=\"\",\"\",ROUND($D35*INTRO!$E$48,0))","v":5131},{"$f":"IF(INTRO!$E$49=\"\",\"\",ROUND($D35*INTRO!$E$49,0))","v":10125},{"$f":"IF(INTRO!$E$50=\"\",\"\",ROUND($D35*INTRO!$E$50,0))","v":18318},0,0,1,1,0,{"$f":"IF(INTRO!$E$37=\"Endemic\",IF($H35>0,IF($H35=4,\"Unknown\",IF($H35=99,\"Stopped\",$D35)),0),\"Not required\")","v":0},{"$f":"IF(INTRO!$E$39=\"Endemic\", IF($I35>0, IF($I35=4,\"Unknown\",IF($I35=99,\"Stopped\",$D35)), 0),\"Not required\")","v":0},{"$f":"IF(INTRO!$E$41=\"Endemic\", IF($J35>1, IF($J35=4, \"Unknown\", IF($J35=99, \"Surveillance\", E35)), 0),\"Not required\")","v":0},{"$f":"IF(INTRO!$E$41=\"Endemic\", IF($J35>1, IF($J35=4, \"Unknown\", IF($J35=99, \"Surveillance\", F35)), 0),\"Not required\")","v":0},{"$f":"IF(INTRO!$E$41=\"Endemic\", IF($J35>1, IF($J35=4, \"Unknown\", IF($J35=99, \"Surveillance\", ROUND(D35*INTRO!$E$51,0))), 0),\"Not required\")","v":0},{"$f":"IF(INTRO!$E$41=\"Endemic\", IF($J35>1, IF($J35=4, \"Unknown\", IF($J35=99, \"Surveillance\", SUM($O35:$Q35))), 0),\"Not required\")","v":0},0,0,0,{"$f":"IF(INTRO!$E$43=\"Endemic\", IF($K35>1, IF($K35=4, \"Unknown\", IF($K35=99, \"Surveillance\", SUM($S35:$U35))), 0),\"Not required\")","v":0},0,0,0,0,null,null,null,null,null,null,null,10677,"Kalaït",1,1,0]
[{"$f":"IF(INTRO!$E$33<>0,INTRO!$E$33, \" \")","v":"Tchad"},"Ennedi Ouest","Ounianga Kebbir",35495,{"$f":"IF(INTRO!$E$48=\"\",\"\",ROUND($D36*INTRO!$E$48,0))","v":5204},{"$f":"IF(INTRO!$E$49=\"\",\"\",ROUND($D36*INTRO!$E$49,0))","v":10269},{"$f":"IF(INTRO!$E$50=\"\",\"\",ROUND($D36*INTRO!$E$50,0))","v":18578},0,0,1,2,0,{"$f":"IF(INTRO!$E$37=\"Endemic\",IF($H36>0,IF($H36=4,\"Unknown\",IF($H36=99,\"Stopped\",$D36)),0),\"Not required\")","v":0},{"$f":"IF(INTRO!$E$39=\"Endemic\", IF($I36>0, IF($I36=4,\"Unknown\",IF($I36=99,\"Stopped\",$D36)), 0),\"Not required\")","v":0},{"$f":"IF(INTRO!$E$41=\"Endemic\", IF($J36>1, IF($J36=4, \"Unknown\", IF($J36=99, \"Surveillance\", E36)), 0),\"Not required\")","v":0},{"$f":"IF(INTRO!$E$41=\"Endemic\", IF($J36>1, IF($J36=4, \"Unknown\", IF($J36=99, \"Surveillance\", F36)), 0),\"Not required\")","v":0},{"$f":"IF(INTRO!$E$41=\"Endemic\", IF($J36>1, IF($J36=4, \"Unknown\", IF($J36=99, \"Surveillance\", ROUND(D36*INTRO!$E$51,0))), 0),\"Not required\")","v":0},{"$f":"IF(INTRO!$E$41=\"Endemic\", IF($J36>1, IF($J36=4, \"Unknown\", IF($J36=99, \"Surveillance\", SUM($O36:$Q36))), 0),\"Not required\")","v":0},1281,3439,6221,{"$f":"IF(INTRO!$E$43=\"Endemic\", IF($K36>1, IF($K36=4, \"Unknown\", IF($K36=99, \"Surveillance\", SUM($S36:$U36))), 0),\"Not required\")","v":10941},0,0,0,1,null,null,null,null,null,null,null,10785,"Ounianga Kebbir",2,1,0]
[{"$f":"IF(INTRO!$E$33<>0,INTRO!$E$33, \" \")","v":"Tchad"},"Guéra","Barou",67769,{"$f":"IF(INTRO!$E$48=\"\",\"\",ROUND($D37*INTRO!$E$48,0))","v":9935},{"$f":"IF(INTRO!$E$49=\"\",\"\",ROUND($D37*INTRO!$E$49,0))","v":19606},{"$f":"IF(INTRO!$E$50=\"\",\"\",ROUND($D37*INTRO!$E$50,0))","v":35470},0,4,0,1,0,{"$f":"IF(INTRO!$E$37=\"Endemic\",IF($H37>0,IF($H37=4,\"Unknown\",IF($H37=99,\"Stopped\",$D37)),0),\"Not required\")","v":0},{"$f":"IF(INTRO!$E$39=\"Endemic\", IF($I37>0, IF($I37=4,\"Unknown\",IF($I37=99,\"Stopped\",$D37)), 0),\"Not required\")","v":"Unknown"},{"$f":"IF(INTRO!$E$41=\"Endemic\", IF($J37>1, IF($J37=4, \"Unknown\", IF($J37=99, \"Surveillance\", E37)), 0),\"Not required\")","v":0},{"$f":"IF(INTRO!$E$41=\"Endemic\", IF($J37>1, IF($J37=4, \"Unknown\", IF($J37=99, \"Surveillance\", F37)), 0),\"Not required\")","v":0},{"$f":"IF(INTRO!$E$41=\"Endemic\", IF($J37>1, IF($J37=4, \"Unknown\", IF($J37=99, \"Surveillance\", ROUND(D37*INTRO!$E$51,0))), 0),\"Not required\")","v":0},{"$f":"IF(INTRO!$E$41=\"Endemic\", IF($J37>1, IF($J37=4, \"Unknown\", IF($J37=99, \"Surveillance\", SUM($O37:$Q37))), 0),\"Not required\")","v":0},0,0,0,{"$f":"IF(INTRO!$E$43=\"Endemic\", IF($K37>1, IF($K37=4, \"Unknown\", IF($K37=99, \"Surveillance\", SUM($S37:$U37))), 0),\"Not required\")","v":0},0,0,0,0,null,null,null,null,null,null,null,10763,"Barou",1,2,1]
[{"$f":"IF(INTRO!$E$33<>0,INTRO!$E$33, \" \")","v":"Tchad"},"Guéra","Bitkine",253019,{"$f":"IF(INTRO!$E$48=\"\",\"\",ROUND($D38*INTRO!$E$48,0))","v":37093},{"$f":"IF(INTRO!$E$49=\"\",\"\",ROUND($D38*INTRO!$E$49,0))","v":73198},{"$f":"IF(INTRO!$E$50=\"\",\"\",ROUND($D38*INTRO!$E$50,0))","v":132430},0,4,1,3,0,{"$f":"IF(INTRO!$E$37=\"Endemic\",IF($H38>0,IF($H38=4,\"Unknown\",IF($H38=99,\"Stopped\",$D38)),0),\"Not required\")","v":0},{"$f":"IF(INTRO!$E$39=\"Endemic\", IF($I38>0, IF($I38=4,\"Unknown\",IF($I38=99,\"Stopped\",$D38)), 0),\"Not required\")","v":"Unknown"},{"$f":"IF(INTRO!$E$41=\"Endemic\", IF($J38>1, IF($J38=4, \"Unknown\", IF($J38=99, \"Surveillance\", E38)), 0),\"Not required\")","v":0},{"$f":"IF(INTRO!$E$41=\"Endemic\", IF($J38>1, IF($J38=4, \"Unknown\", IF($J38=99, \"Surveillance\", F38)), 0),\"Not required\")","v":0},{"$f":"IF(INTRO!$E$41=\"Endemic\", IF($J38>1, IF($J38=4, \"Unknown\", IF($J38=99, \"Surveillance\", ROUND(D38*INTRO!$E$51,0))), 0),\"Not required\")","v":0},{"$f":"IF(INTRO!$E$41=\"Endemic\", IF($J38>1, IF($J38=4, \"Unknown\", IF($J38=99, \"Surveillance\", SUM($O38:$Q38))), 0),\"Not required\")","v":0},8110,21775,39396,{"$f":"IF(INTRO!$E$43=\"Endemic\", IF($K38>1, IF($K38=4, \"Unknown\", IF($K38=99, \"Surveillance\", SUM($S38:$U38))), 0),\"Not required\")","v":69281},0,0,0,1,null,null,null,null,null,null,null,10679,"Bitkine",3,2,1]
[{"$f":"IF(INTRO!$E$33<>0,INTRO!$E$33, \" \")","v":"Tchad"},"Guéra","Mangalmé",142250,{"$f":"IF(INTRO!$E$48=\"\",\"\",ROUND($D39*INTRO!$E$48,0))","v":20854},{"$f":"IF(INTRO!$E$49=\"\",\"\",ROUND($D39*INTRO!$E$49,0))","v":41153},{"$f":"IF(INTRO!$E$50=\"\",\"\",ROUND($D39*INTRO!$E$50,0))","v":74454},0,4,0,3,0,{"$f":"IF(INTRO!$E$37=\"Endemic\",IF($H39>0,IF($H39=4,\"Unknown\",IF($H39=99,\"Stopped\",$D39)),0),\"Not required\")","v":0},{"$f":"IF(INTRO!$E$39=\"Endemic\", IF($I39>0, IF($I39=4,\"Unknown\",IF($I39=99,\"Stopped\",$D39)), 0),\"Not required\")","v":"Unknown"},{"$f":"IF(INTRO!$E$41=\"Endemic\", IF($J39>1, IF($J39=4, \"Unknown\", IF($J39=99, \"Surveillance\", E39)), 0),\"Not required\")","v":0},{"$f":"IF(INTRO!$E$41=\"Endemic\", IF($J39>1, IF($J39=4, \"Unknown\", IF($J39=99, \"Surveillance\", F39)), 0),\"Not required\")","v":0},{"$f":"IF(INTRO!$E$41=\"Endemic\", IF($J39>1, IF($J39=4, \"Unknown\", IF($J39=99, \"Surveillance\", ROUND(D39*INTRO!$E$51,0))), 0),\"Not required\")","v":0},{"$f":"IF(INTRO!$E$41=\"Endemic\", IF($J39>1, IF($J39=4, \"Unknown\", IF($J39=99, \"Surveillance\", SUM($O39:$Q39))), 0),\"Not required\")","v":0},6820,18312,33131,{"$f":"IF(INTRO!$E$43=\"Endemic\", IF($K39>1, IF($K39=4, \"Unknown\", IF($K39=99, \"Surveillance\", SUM($S39:$U39))), 0),\"Not required\")","v":58263},0,0,0,1,null,null,null,null,null,null,null,10680,"Mangalmé",3,2,1]
[{"$f":"IF(INTRO!$E$33<>0,INTRO!$E$33, \" \")","v":"Tchad"},"Guéra","Melfi",144807,{"$f":"IF(INTRO!$E$48=\"\",\"\",ROUND($D40*INTRO!$E$48,0))","v":21229},{"$f":"IF(INTRO!$E$49=\"\",\"\",ROUND($D40*INTRO!$E$49,0))","v":41893},{"$f":"IF(INTRO!$E$50=\"\",\"\",ROUND($D40*INTRO!$E$50,0))","v":75792},0,4,1,3,0,{"$f":"IF(INTRO!$E$37=\"Endemic\",IF($H40>0,IF($H40=4,\"Unknown\",IF($H40=99,\"Stopped\",$D40)),0),\"Not required\")","v":0},{"$f":"IF(INTRO!$E$39=\"Endemic\", IF($I40>0, IF($I40=4,\"Unknown\",IF($I40=99,\"Stopped\",$D40)), 0),\"Not required\")","v":"Unknown"},{"$f":"IF(INTRO!$E$41=\"Endemic\", IF($J40>1, IF($J40=4, \"Unknown\", IF($J40=99, \"Surveillance\", E40)), 0),\"Not required\")","v":0},{"$f":"IF(INTRO!$E$41=\"Endemic\", IF($J40>1, IF($J40=4, \"Unknown\", IF($J40=99, \"Surveillance\", F40)), 0),\"Not required\")","v":0},{"$f":"IF(INTRO!$E$41=\"Endemic\", IF($J40>1, IF($J40=4, \"Unknown\", IF($J40=99, \"Surveillance\", ROUND(D40*INTRO!$E$51,0))), 0),\"Not required\")","v":0},{"$f":"IF(INTRO!$E$41=\"Endemic\", IF($J40>1, IF($J40=4, \"Unknown\", IF($J40=99, \"Surveillance\", SUM($O40:$Q40))), 0),\"Not required\")","v":0},2171,5829,10546,{"$f":"IF(INTRO!$E$43=\"Endemic\", IF($K40>1, IF($K40=4, \"Unknown\", IF($K40=99, \"Surveillance\", SUM($S40:$U40))), 0),\"Not required\")","v":18546},0,0,0,1,null,null,null,null,null,null,null,10681,"Melfi",3,2,1]
[{"$f":"IF(INTRO!$E$33<>0,INTRO!$E$33, \" \")","v":"Tchad"},"Guéra","Mongo",191318,{"$f":"IF(INTRO!$E$48=\"\",\"\",ROUND($D41*INTRO!$E$48,0))","v":28047},{"$f":"IF(INTRO!$E$49=\"\",\"\",ROUND($D41*INTRO!$E$49,0))","v":55348},{"$f":"IF(INTRO!$E$50=\"\",\"\",ROUND($D41*INTRO!$E$50,0))","v":100136},0,4,0,2,0,{"$f":"IF(INTRO!$E$37=\"Endemic\",IF($H41>0,IF($H41=4,\"Unknown\",IF($H41=99,\"Stopped\",$D41)),0),\"Not required\")","v":0},{"$f":"IF(INTRO!$E$39=\"Endemic\", IF($I41>0, IF($I41=4,\"Unknown\",IF($I41=99,\"Stopped\",$D41)), 0),\"Not required\")","v":"Unknown"},{"$f":"IF(INTRO!$E$41=\"Endemic\", IF($J41>1, IF($J41=4, \"Unknown\", IF($J41=99, \"Surveillance\", E41)), 0),\"Not required\")","v":0},{"$f":"IF(INTRO!$E$41=\"Endemic\", IF($J41>1, IF($J41=4, \"Unknown\", IF($J41=99, \"Surveillance\", F41)), 0),\"Not required\")","v":0},{"$f":"IF(INTRO!$E$41=\"Endemic\", IF($J41>1, IF($J41=4, \"Unknown\", IF($J41=99, \"Surveillance\", ROUND(D41*INTRO!$E$51,0))), 0),\"Not required\")","v":0},{"$f":"IF(INTRO!$E$41=\"Endemic\", IF($J41>1, IF($J41=4, \"Unknown\", IF($J41=99, \"Surveillance\", SUM($O41:$Q41))), 0),\"Not required\")","v":0},3237,8690,15722,{"$f":"IF(INTRO!$E$43=\"Endemic\", IF($K41>1, IF($K41=4, \"Unknown\", IF($K41=99, \"Surveillance\", SUM($S41:$U41))), 0),\"Not required\")","v":27649},0,0,0,1,null,null,null,null,null,null,null,10682,"Mongo",2,2,0]
[{"$f":"IF(INTRO!$E$33<>0,INTRO!$E$33, \" \")","v":"Tchad"},"Hadjer Lamis","Bokoro",278109,{"$f":"IF(INTRO!$E$48=\"\",\"\",ROUND($D42*INTRO!$E$48,0))","v":40771},{"$f":"IF(INTRO!$E$49=\"\",\"\",ROUND($D42*INTRO!$E$49,0))","v":80457},{"$f":"IF(INTRO!$E$50=\"\",\"\",ROUND($D42*INTRO!$E$50,0))","v":145562},0,0,1,3,0,{"$f":"IF(INTRO!$E$37=\"Endemic\",IF($H42>0,IF($H42=4,\"Unknown\",IF($H42=99,\"Stopped\",$D42)),0),\"Not required\")","v":0},{"$f":"IF(INTRO!$E$39=\"Endemic\", IF($I42>0, IF($I42=4,\"Unknown\",IF($I42=99,\"Stopped\",$D42)), 0),\"Not required\")","v":0},{"$f":"IF(INTRO!$E$41=\"Endemic\", IF($J42>1, IF($J42=4, \"Unknown\", IF($J42=99, \"Surveillance\", E42)), 0),\"Not required\")","v":0},{"$f":"IF(INTRO!$E$41=\"Endemic\", IF($J42>1, IF($J42=4, \"Unknown\", IF($J42=99, \"Surveillance\", F42)), 0),\"Not required\")","v":0},{"$f":"IF(INTRO!$E$41=\"Endemic\", IF($J42>1, IF($J42=4, \"Unknown\", IF($J42=99, \"Surveillance\", ROUND(D42*INTRO!$E$51,0))), 0),\"Not required\")","v":0},{"$f":"IF(INTRO!$E$41=\"Endemic\", IF($J42>1, IF($J42=4, \"Unknown\", IF($J42=99, \"Surveillance\", SUM($O42:$Q42))), 0),\"Not required\")","v":0},8750,23493,42507,{"$f":"IF(INTRO!$E$43=\"Endemic\", IF($K42>1, IF($K42=4, \"Unknown\", IF($K42=99, \"Surveillance\", SUM($S42:$U42))), 0),\"Not required\")","v":74750},0,0,0,1,null,null,null,null,null,null,null,10683,"Bokoro",3,3,1]
[{"$f":"IF(INTRO!$E$33<>0,INTRO!$E$33, \" \")","v":"Tchad"},"Hadjer Lamis","Gama",95327,{"$f":"IF(INTRO!$E$48=\"\",\"\",ROUND($D43*INTRO!$E$48,0))","v":13975},{"$f":"IF(INTRO!$E$49=\"\",\"\",ROUND($D43*INTRO!$E$49,0))","v":27578},{"$f":"IF(INTRO!$E$50=\"\",\"\",ROUND($D43*INTRO!$E$50,0))","v":49894},0,0,1,1,0,{"$f":"IF(INTRO!$E$37=\"Endemic\",IF($H43>0,IF($H43=4,\"Unknown\",IF($H43=99,\"Stopped\",$D43)),0),\"Not required\")","v":0},{"$f":"IF(INTRO!$E$39=\"Endemic\", IF($I43>0, IF($I43=4,\"Unknown\",IF($I43=99,\"Stopped\",$D43)), 0),\"Not required\")","v":0},{"$f":"IF(INTRO!$E$41=\"Endemic\", IF($J43>1, IF($J43=4, \"Unknown\", IF($J43=99, \"Surveillance\", E43)), 0),\"Not required\")","v":0},{"$f":"IF(INTRO!$E$41=\"Endemic\", IF($J43>1, IF($J43=4, \"Unknown\", IF($J43=99, \"Surveillance\", F43)), 0),\"Not required\")","v":0},{"$f":"IF(INTRO!$E$41=\"Endemic\", IF($J43>1, IF($J43=4, \"Unknown\", IF($J43=99, \"Surveillance\", ROUND(D43*INTRO!$E$51,0))), 0),\"Not required\")","v":0},{"$f":"IF(INTRO!$E$41=\"Endemic\", IF($J43>1, IF($J43=4, \"Unknown\", IF($J43=99, \"Surveillance\", SUM($O43:$Q43))), 0),\"Not required\")","v":0},0,0,0,{"$f":"IF(INTRO!$E$43=\"Endemic\", IF($K43>1, IF($K43=4, \"Unknown\", IF($K43=99, \"Surveillance\", SUM($S43:$U43))), 0),\"Not required\")","v":0},0,0,0,0,null,null,null,null,null,null,null,10748,"Gama",1,3,1]
[{"$f":"IF(INTRO!$E$33<>0,INTRO!$E$33, \" \")","v":"Tchad"},"Hadjar Lamis","Karal",116645,{"$f":"IF(INTRO!$E$48=\"\",\"\",ROUND($D44*INTRO!$E$48,0))","v":17100},{"$f":"IF(INTRO!$E$49=\"\",\"\",ROUND($D44*INTRO!$E$49,0))","v":33745},{"$f":"IF(INTRO!$E$50=\"\",\"\",ROUND($D44*INTRO!$E$50,0))","v":61052},0,0,1,1,0,{"$f":"IF(INTRO!$E$37=\"Endemic\",IF($H44>0,IF($H44=4,\"Unknown\",IF($H44=99,\"Stopped\",$D44)),0),\"Not required\")","v":0},{"$f":"IF(INTRO!$E$39=\"Endemic\", IF($I44>0, IF($I44=4,\"Unknown\",IF($I44=99,\"Stopped\",$D44)), 0),\"Not required\")","v":0},{"$f":"IF(INTRO!$E$41=\"Endemic\", IF($J44>1, IF($J44=4, \"Unknown\", IF($J44=99, \"Surveillance\", E44)), 0),\"Not required\")","v":0},{"$f":"IF(INTRO!$E$41=\"Endemic\", IF($J44>1, IF($J44=4, \"Unknown\", IF($J44=99, \"Surveillance\", F44)), 0),\"Not required\")","v":0},{"$f":"IF(INTRO!$E$41=\"Endemic\", IF($J44>1, IF($J44=4, \"Unknown\", IF($J44=99, \"Surveillance\", ROUND(D44*INTRO!$E$51,0))), 0),\"Not required\")","v":0},{"$f":"IF(INTRO!$E$41=\"Endemic\", IF($J44>1, IF($J44=4, \"Unknown\", IF($J44=99, \"Surveillance\", SUM($O44:$Q44))), 0),\"Not required\")","v":0},0,0,0,{"$f":"IF(INTRO!$E$43=\"Endemic\", IF($K44>1, IF($K44=4, \"Unknown\", IF($K44=99, \"Surveillance\", SUM($S44:$U44))), 0),\"Not required\")","v":0},0,0,0,0,null,null,null,null,null,null,null,10786,"Karal",1,2,1]
[{"$f":"IF(INTRO!$E$33<>0,INTRO!$E$33, \" \")","v":"Tchad"},"Hadjer Lamis","Mani",113527,{"$f":"IF(INTRO!$E$48=\"\",\"\",ROUND($D45*INTRO!$E$48,0))","v":16643},{"$f":"IF(INTRO!$E$49=\"\",\"\",ROUND($D45*INTRO!$E$49,0))","v":32843},{"$f":"IF(INTRO!$E$50=\"\",\"\",ROUND($D45*INTRO!$E$50,0))","v":59420},0,0,1,3,0,{"$f":"IF(INTRO!$E$37=\"Endemic\",IF($H45>0,IF($H45=4,\"Unknown\",IF($H45=99,\"Stopped\",$D45)),0),\"Not required\")","v":0},{"$f":"IF(INTRO!$E$39=\"Endemic\", IF($I45>0, IF($I45=4,\"Unknown\",IF($I45=99,\"Stopped\",$D45)), 0),\"Not required\")","v":0},{"$f":"IF(INTRO!$E$41=\"Endemic\", IF($J45>1, IF($J45=4, \"Unknown\", IF($J45=99, \"Surveillance\", E45)), 0),\"Not required\")","v":0},{"$f":"IF(INTRO!$E$41=\"Endemic\", IF($J45>1, IF($J45=4, \"Unknown\", IF($J45=99, \"Surveillance\", F45)), 0),\"Not required\")","v":0},{"$f":"IF(INTRO!$E$41=\"Endemic\", IF($J45>1, IF($J45=4, \"Unknown\", IF($J45=99, \"Surveillance\", ROUND(D45*INTRO!$E$51,0))), 0),\"Not required\")","v":0},{"$f":"IF(INTRO!$E$41=\"Endemic\", IF($J45>1, IF($J45=4, \"Unknown\", IF($J45=99, \"Surveillance\", SUM($O45:$Q45))), 0),\"Not required\")","v":0},4394,11797,21343,{"$f":"IF(INTRO!$E$43=\"Endemic\", IF($K45>1, IF($K45=4, \"Unknown\", IF($K45=99, \"Surveillance\", SUM($S45:$U45))), 0),\"Not required\")","v":37534},0,0,0,1,null,null,null,null,null,null,null,10684,"Mani",3,2,1]
[{"$f":"IF(INTRO!$E$33<>0,INTRO!$E$33, \" \")","v":"Tchad"},"Hadjer Lamis","Massaguet",163054,{"$f":"IF(INTRO!$E$48=\"\",\"\",ROUND($D46*INTRO!$E$48,0))","v":23904},{"$f":"IF(INTRO!$E$49=\"\",\"\",ROUND($D46*INTRO!$E$49,0))","v":47172},{"$f":"IF(INTRO!$E$50=\"\",\"\",ROUND($D46*INTRO!$E$50,0))","v":85342},0,0,1,3,0,{"$f":"IF(INTRO!$E$37=\"Endemic\",IF($H46>0,IF($H46=4,\"Unknown\",IF($H46=99,\"Stopped\",$D46)),0),\"Not required\")","v":0},{"$f":"IF(INTRO!$E$39=\"Endemic\", IF($I46>0, IF($I46=4,\"Unknown\",IF($I46=99,\"Stopped\",$D46)), 0),\"Not required\")","v":0},{"$f":"IF(INTRO!$E$41=\"Endemic\", IF($J46>1, IF($J46=4, \"Unknown\", IF($J46=99, \"Surveillance\", E46)), 0),\"Not required\")","v":0},{"$f":"IF(INTRO!$E$41=\"Endemic\", IF($J46>1, IF($J46=4, \"Unknown\", IF($J46=99, \"Surveillance\", F46)), 0),\"Not required\")","v":0},{"$f":"IF(INTRO!$E$41=\"Endemic\", IF($J46>1, IF($J46=4, \"Unknown\", IF($J46=99, \"Surveillance\", ROUND(D46*INTRO!$E$51,0))), 0),\"Not required\")","v":0},{"$f":"IF(INTRO!$E$41=\"Endemic\", IF($J46>1, IF($J46=4, \"Unknown\", IF($J46=99, \"Surveillance\", SUM($O46:$Q46))), 0),\"Not required\")","v":0},7508,20159,36472,{"$f":"IF(INTRO!$E$43=\"Endemic\", IF($K46>1, IF($K46=4, \"Unknown\", IF($K46=99, \"Surveillance\", SUM($S46:$U46))), 0),\"Not required\")","v":64139},0,0,0,1,null,null,null,null,null,null,null,10685,"Massaguet",3,2,1]
[{"$f":"IF(INTRO!$E$33<>0,INTRO!$E$33, \" \")","v":"Tchad"},"Hadjer Lamis","Massakory",170939,{"$f":"IF(INTRO!$E$48=\"\",\"\",ROUND($D47*INTRO!$E$48,0))","v":25060},{"$f":"IF(INTRO!$E$49=\"\",\"\",ROUND($D47*INTRO!$E$49,0))","v":49453},{"$f":"IF(INTRO!$E$50=\"\",\"\",ROUND($D47*INTRO!$E$50,0))","v":89469},0,0,1,2,0,{"$f":"IF(INTRO!$E$37=\"Endemic\",IF($H47>0,IF($H47=4,\"Unknown\",IF($H47=99,\"Stopped\",$D47)),0),\"Not required\")","v":0},{"$f":"IF(INTRO!$E$39=\"Endemic\", IF($I47>0, IF($I47=4,\"Unknown\",IF($I47=99,\"Stopped\",$D47)), 0),\"Not required\")","v":0},{"$f":"IF(INTRO!$E$41=\"Endemic\", IF($J47>1, IF($J47=4, \"Unknown\", IF($J47=99, \"Surveillance\", E47)), 0),\"Not required\")","v":0},{"$f":"IF(INTRO!$E$41=\"Endemic\", IF($J47>1, IF($J47=4, \"Unknown\", IF($J47=99, \"Surveillance\", F47)), 0),\"Not required\")","v":0},{"$f":"IF(INTRO!$E$41=\"Endemic\", IF($J47>1, IF($J47=4, \"Unknown\", IF($J47=99, \"Surveillance\", ROUND(D47*INTRO!$E$51,0))), 0),\"Not required\")","v":0},{"$f":"IF(INTRO!$E$41=\"Endemic\", IF($J47>1, IF($J47=4, \"Unknown\", IF($J47=99, \"Surveillance\", SUM($O47:$Q47))), 0),\"Not required\")","v":0},3287,8825,15966,{"$f":"IF(INTRO!$E$43=\"Endemic\", IF($K47>1, IF($K47=4, \"Unknown\", IF($K47=99, \"Surveillance\", SUM($S47:$U47))), 0),\"Not required\")","v":28078},0,0,0,1,null,null,null,null,null,null,null,10686,"Massakory",2,2,1]
[{"$f":"IF(INTRO!$E$33<>0,INTRO!$E$33, \" \")","v":"Tchad"},"Kanem","Amdoback",29088,{"$f":"IF(INTRO!$E$48=\"\",\"\",ROUND($D48*INTRO!$E$48,0))","v":4264},{"$f":"IF(INTRO!$E$49=\"\",\"\",ROUND($D48*INTRO!$E$49,0))","v":8415},{"$f":"IF(INTRO!$E$50=\"\",\"\",ROUND($D48*INTRO!$E$50,0))","v":15225},0,0,0,1,0,{"$f":"IF(INTRO!$E$37=\"Endemic\",IF($H48>0,IF($H48=4,\"Unknown\",IF($H48=99,\"Stopped\",$D48)),0),\"Not required\")","v":0},{"$f":"IF(INTRO!$E$39=\"Endemic\", IF($I48>0, IF($I48=4,\"Unknown\",IF($I48=99,\"Stopped\",$D48)), 0),\"Not required\")","v":0},{"$f":"IF(INTRO!$E$41=\"Endemic\", IF($J48>1, IF($J48=4, \"Unknown\", IF($J48=99, \"Surveillance\", E48)), 0),\"Not required\")","v":0},{"$f":"IF(INTRO!$E$41=\"Endemic\", IF($J48>1, IF($J48=4, \"Unknown\", IF($J48=99, \"Surveillance\", F48)), 0),\"Not required\")","v":0},{"$f":"IF(INTRO!$E$41=\"Endemic\", IF($J48>1, IF($J48=4, \"Unknown\", IF($J48=99, \"Surveillance\", ROUND(D48*INTRO!$E$51,0))), 0),\"Not required\")","v":0},{"$f":"IF(INTRO!$E$41=\"Endemic\", IF($J48>1, IF($J48=4, \"Unknown\", IF($J48=99, \"Surveillance\", SUM($O48:$Q48))), 0),\"Not required\")","v":0},0,0,0,{"$f":"IF(INTRO!$E$43=\"Endemic\", IF($K48>1, IF($K48=4, \"Unknown\", IF($K48=99, \"Surveillance\", SUM($S48:$U48))), 0),\"Not required\")","v":0},0,0,0,0,null,null,null,null,null,null,null,10787,"Amdoback",1,0,0]
[{"$f":"IF(INTRO!$E$33<>0,INTRO!$E$33, \" \")","v":"Tchad"},"Kanem","Kekedina",28594,{"$f":"IF(INTRO!$E$48=\"\",\"\",ROUND($D49*INTRO!$E$48,0))","v":4192},{"$f":"IF(INTRO!$E$49=\"\",\"\",ROUND($D49*INTRO!$E$49,0))","v":8272},{"$f":"IF(INTRO!$E$50=\"\",\"\",ROUND($D49*INTRO!$E$50,0))","v":14966},0,0,1,1,0,{"$f":"IF(INTRO!$E$37=\"Endemic\",IF($H49>0,IF($H49=4,\"Unknown\",IF($H49=99,\"Stopped\",$D49)),0),\"Not required\")","v":0},{"$f":"IF(INTRO!$E$39=\"Endemic\", IF($I49>0, IF($I49=4,\"Unknown\",IF($I49=99,\"Stopped\",$D49)), 0),\"Not required\")","v":0},{"$f":"IF(INTRO!$E$41=\"Endemic\", IF($J49>1, IF($J49=4, \"Unknown\", IF($J49=99, \"Surveillance\", E49)), 0),\"Not required\")","v":0},{"$f":"IF(INTRO!$E$41=\"Endemic\", IF($J49>1, IF($J49=4, \"Unknown\", IF($J49=99, \"Surveillance\", F49)), 0),\"Not required\")","v":0},{"$f":"IF(INTRO!$E$41=\"Endemic\", IF($J49>1, IF($J49=4, \"Unknown\", IF($J49=99, \"Surveillance\", ROUND(D49*INTRO!$E$51,0))), 0),\"Not required\")","v":0},{"$f":"IF(INTRO!$E$41=\"Endemic\", IF($J49>1, IF($J49=4, \"Unknown\", IF($J49=99, \"Surveillance\", SUM($O49:$Q49))), 0),\"Not required\")","v":0},0,0,0,{"$f":"IF(INTRO!$E$43=\"Endemic\", IF($K49>1, IF($K49=4, \"Unknown\", IF($K49=99, \"Surveillance\", SUM($S49:$U49))), 0),\"Not required\")","v":0},0,0,0,0,null,null,null,null,null,null,null,10788,"Kekedina",1,1,0]
[{"$f":"IF(INTRO!$E$33<>0,INTRO!$E$33, \" \")","v":"Tchad"},"Kanem","Mao",222958,{"$f":"IF(INTRO!$E$48=\"\",\"\",ROUND($D50*INTRO!$E$48,0))","v":32686},{"$f":"IF(INTRO!$E$49=\"\",\"\",ROUND($D50*INTRO!$E$49,0))","v":64502},{"$f":"IF(INTRO!$E$50=\"\",\"\",ROUND($D50*INTRO!$E$50,0))","v":116696},0,0,1,1,0,{"$f":"IF(INTRO!$E$37=\"Endemic\",IF($H50>0,IF($H50=4,\"Unknown\",IF($H50=99,\"Stopped\",$D50)),0),\"Not required\")","v":0},{"$f":"IF(INTRO!$E$39=\"Endemic\", IF($I50>0, IF($I50=4,\"Unknown\",IF($I50=99,\"Stopped\",$D50)), 0),\"Not required\")","v":0},{"$f":"IF(INTRO!$E$41=\"Endemic\", IF($J50>1, IF($J50=4, \"Unknown\", IF($J50=99, \"Surveillance\", E50)), 0),\"Not required\")","v":0},{"$f":"IF(INTRO!$E$41=\"Endemic\", IF($J50>1, IF($J50=4, \"Unknown\", IF($J50=99, \"Surveillance\", F50)), 0),\"Not required\")","v":0},{"$f":"IF(INTRO!$E$41=\"Endemic\", IF($J50>1, IF($J50=4, \"Unknown\", IF($J50=99, \"Surveillance\", ROUND(D50*INTRO!$E$51,0))), 0),\"Not required\")","v":0},{"$f":"IF(INTRO!$E$41=\"Endemic\", IF($J50>1, IF($J50=4, \"Unknown\", IF($J50=99, \"Surveillance\", SUM($O50:$Q50))), 0),\"Not required\")","v":0},0,0,0,{"$f":"IF(INTRO!$E$43=\"Endemic\", IF($K50>1, IF($K50=4, \"Unknown\", IF($K50=99, \"Surveillance\", SUM($S50:$U50))), 0),\"Not required\")","v":0},0,0,0,0,null,null,null,null,null,null,null,10687,"Mao",1,1,0]
[{"$f":"IF(INTRO!$E$33<>0,INTRO!$E$33, \" \")","v":"Tchad"},"Kanem","Mondo",116600,{"$f":"IF(INTRO!$E$48=\"\",\"\",ROUND($D51*INTRO!$E$48,0))","v":17094},{"$f":"IF(INTRO!$E$49=\"\",\"\",ROUND($D51*INTRO!$E$49,0))","v":33732},{"$f":"IF(INTRO!$E$50=\"\",\"\",ROUND($D51*INTRO!$E$50,0))","v":61028},0,0,0,1,0,{"$f":"IF(INTRO!$E$37=\"Endemic\",IF($H51>0,IF($H51=4,\"Unknown\",IF($H51=99,\"Stopped\",$D51)),0),\"Not required\")","v":0},{"$f":"IF(INTRO!$E$39=\"Endemic\", IF($I51>0, IF($I51=4,\"Unknown\",IF($I51=99,\"Stopped\",$D51)), 0),\"Not required\")","v":0},{"$f":"IF(INTRO!$E$41=\"Endemic\", IF($J51>1, IF($J51=4, \"Unknown\", IF($J51=99, \"Surveillance\", E51)), 0),\"Not required\")","v":0},{"$f":"IF(INTRO!$E$41=\"Endemic\", IF($J51>1, IF($J51=4, \"Unknown\", IF($J51=99, \"Surveillance\", F51)), 0),\"Not required\")","v":0},{"$f":"IF(INTRO!$E$41=\"Endemic\", IF($J51>1, IF($J51=4, \"Unknown\", IF($J51=99, \"Surveillance\", ROUND(D51*INTRO!$E$51,0))), 0),\"Not required\")","v":0},{"$f":"IF(INTRO!$E$41=\"Endemic\", IF($J51>1, IF($J51=4, \"Unknown\", IF($J51=99, \"Surveillance\", SUM($O51:$Q51))), 0),\"Not required\")","v":0},0,0,0,{"$f":"IF(INTRO!$E$43=\"Endemic\", IF($K51>1, IF($K51=4, \"Unknown\", IF($K51=99, \"Surveillance\", SUM($S51:$U51))), 0),\"Not required\")","v":0},0,0,0,0,null,null,null,null,null,null,null,10688,"Mondo",1,1,0]
[{"$f":"IF(INTRO!$E$33<>0,INTRO!$E$33, \" \")","v":"Tchad"},"Kanem","Nokou",72669,{"$f":"IF(INTRO!$E$48=\"\",\"\",ROUND($D52*INTRO!$E$48,0))","v":10653},{"$f":"IF(INTRO!$E$49=\"\",\"\",ROUND($D52*INTRO!$E$49,0))","v":21023},{"$f":"IF(INTRO!$E$50=\"\",\"\",ROUND($D52*INTRO!$E$50,0))","v":38035},0,0,0,1,0,{"$f":"IF(INTRO!$E$37=\"Endemic\",IF($H52>0,IF($H52=4,\"Unknown\",IF($H52=99,\"Stopped\",$D52)),0),\"Not required\")","v":0},{"$f":"IF(INTRO!$E$39=\"Endemic\", IF($I52>0, IF($I52=4,\"Unknown\",IF($I52=99,\"Stopped\",$D52)), 0),\"Not required\")","v":0},{"$f":"IF(INTRO!$E$41=\"Endemic\", IF($J52>1, IF($J52=4, \"Unknown\", IF($J52=99, \"Surveillance\", E52)), 0),\"Not required\")","v":0},{"$f":"IF(INTRO!$E$41=\"Endemic\", IF($J52>1, IF($J52=4, \"Unknown\", IF($J52=99, \"Surveillance\", F52)), 0),\"Not required\")","v":0},{"$f":"IF(INTRO!$E$41=\"Endemic\", IF($J52>1, IF($J52=4, \"Unknown\", IF($J52=99, \"Surveillance\", ROUND(D52*INTRO!$E$51,0))), 0),\"Not required\")","v":0},{"$f":"IF(INTRO!$E$41=\"Endemic\", IF($J52>1, IF($J52=4, \"Unknown\", IF($J52=99, \"Surveillance\", SUM($O52:$Q52))), 0),\"Not required\")","v":0},0,0,0,{"$f":"IF(INTRO!$E$43=\"Endemic\", IF($K52>1, IF($K52=4, \"Unknown\", IF($K52=99, \"Surveillance\", SUM($S52:$U52))), 0),\"Not required\")","v":0},0,0,0,0,null,null,null,null,null,null,null,10689,"Nokou",1,0,0]
[{"$f":"IF(INTRO!$E$33<>0,INTRO!$E$33, \" \")","v":"Tchad"},"Kanem","Ntiona",21578,{"$f":"IF(INTRO!$E$48=\"\",\"\",ROUND($D53*INTRO!$E$48,0))","v":3163},{"$f":"IF(INTRO!$E$49=\"\",\"\",ROUND($D53*INTRO!$E$49,0))","v":6243},{"$f":"IF(INTRO!$E$50=\"\",\"\",ROUND($D53*INTRO!$E$50,0))","v":11294},0,0,1,1,0,{"$f":"IF(INTRO!$E$37=\"Endemic\",IF($H53>0,IF($H53=4,\"Unknown\",IF($H53=99,\"Stopped\",$D53)),0),\"Not required\")","v":0},{"$f":"IF(INTRO!$E$39=\"Endemic\", IF($I53>0, IF($I53=4,\"Unknown\",IF($I53=99,\"Stopped\",$D53)), 0),\"Not required\")","v":0},{"$f":"IF(INTRO!$E$41=\"Endemic\", IF($J53>1, IF($J53=4, \"Unknown\", IF($J53=99, \"Surveillance\", E53)), 0),\"Not required\")","v":0},{"$f":"IF(INTRO!$E$41=\"Endemic\", IF($J53>1, IF($J53=4, \"Unknown\", IF($J53=99, \"Surveillance\", F53)), 0),\"Not required\")","v":0},{"$f":"IF(INTRO!$E$41=\"Endemic\", IF($J53>1, IF($J53=4, \"Unknown\", IF($J53=99, \"Surveillance\", ROUND(D53*INTRO!$E$51,0))), 0),\"Not required\")","v":0},{"$f":"IF(INTRO!$E$41=\"Endemic\", IF($J53>1, IF($J53=4, \"Unknown\", IF($J53=99, \"Surveillance\", SUM($O53:$Q53))), 0),\"Not required\")","v":0},0,0,0,{"$f":"IF(INTRO!$E$43=\"Endemic\", IF($K53>1, IF($K53=4, \"Unknown\", IF($K53=99, \"Surveillance\", SUM($S53:$U53))), 0),\"Not required\")","v":0},0,0,0,0,null,null,null,null,null,null,null,10764,"Ntiona",1,1,0]
[{"$f":"IF(INTRO!$E$33<>0,INTRO!$E$33, \" \")","v":"Tchad"},"Kanem","Rig-Rig",75886,{"$f":"IF(INTRO!$E$48=\"\",\"\",ROUND($D54*INTRO!$E$48,0))","v":11125},{"$f":"IF(INTRO!$E$49=\"\",\"\",ROUND($D54*INTRO!$E$49,0))","v":21954},{"$f":"IF(INTRO!$E$50=\"\",\"\",ROUND($D54*INTRO!$E$50,0))","v":39719},0,0,0,0,0,{"$f":"IF(INTRO!$E$37=\"Endemic\",IF($H54>0,IF($H54=4,\"Unknown\",IF($H54=99,\"Stopped\",$D54)),0),\"Not required\")","v":0},{"$f":"IF(INTRO!$E$39=\"Endemic\", IF($I54>0, IF($I54=4,\"Unknown\",IF($I54=99,\"Stopped\",$D54)), 0),\"Not required\")","v":0},{"$f":"IF(INTRO!$E$41=\"Endemic\", IF($J54>1, IF($J54=4, \"Unknown\", IF($J54=99, \"Surveillance\", E54)), 0),\"Not required\")","v":0},{"$f":"IF(INTRO!$E$41=\"Endemic\", IF($J54>1, IF($J54=4, \"Unknown\", IF($J54=99, \"Surveillance\", F54)), 0),\"Not required\")","v":0},{"$f":"IF(INTRO!$E$41=\"Endemic\", IF($J54>1, IF($J54=4, \"Unknown\", IF($J54=99, \"Surveillance\", ROUND(D54*INTRO!$E$51,0))), 0),\"Not required\")","v":0},{"$f":"IF(INTRO!$E$41=\"Endemic\", IF($J54>1, IF($J54=4, \"Unknown\", IF($J54=99, \"Surveillance\", SUM($O54:$Q54))), 0),\"Not required\")","v":0},0,0,0,{"$f":"IF(INTRO!$E$43=\"Endemic\", IF($K54>1, IF($K54=4, \"Unknown\", IF($K54=99, \"Surveillance\", SUM($S54:$U54))), 0),\"Not required\")","v":0},0,0,0,0,null,null,null,null,null,null,null,10690,"Rig-Rig",0,0,0]
[{"$f":"IF(INTRO!$E$33<>0,INTRO!$E$33, \" \")","v":"Tchad"},"Lac","Bagassola",185185,{"$f":"IF(INTRO!$E$48=\"\",\"\",ROUND($D55*INTRO!$E$48,0))","v":27148},{"$f":"IF(INTRO!$E$49=\"\",\"\",ROUND($D55*INTRO!$E$49,0))","v":53574},{"$f":"IF(INTRO!$E$50=\"\",\"\",ROUND($D55*INTRO!$E$50,0))","v":96926},0,0,1,1,0,{"$f":"IF(INTRO!$E$37=\"Endemic\",IF($H55>0,IF($H55=4,\"Unknown\",IF($H55=99,\"Stopped\",$D55)),0),\"Not required\")","v":0},{"$f":"IF(INTRO!$E$39=\"Endemic\", IF($I55>0, IF($I55=4,\"Unknown\",IF($I55=99,\"Stopped\",$D55)), 0),\"Not required\")","v":0},{"$f":"IF(INTRO!$E$41=\"Endemic\", IF($J55>1, IF($J55=4, \"Unknown\", IF($J55=99, \"Surveillance\", E55)), 0),\"Not required\")","v":0},{"$f":"IF(INTRO!$E$41=\"Endemic\", IF($J55>1, IF($J55=4, \"Unknown\", IF($J55=99, \"Surveillance\", F55)), 0),\"Not required\")","v":0},{"$f":"IF(INTRO!$E$41=\"Endemic\", IF($J55>1, IF($J55=4, \"Unknown\", IF($J55=99, \"Surveillance\", ROUND(D55*INTRO!$E$51,0))), 0),\"Not required\")","v":0},{"$f":"IF(INTRO!$E$41=\"Endemic\", IF($J55>1, IF($J55=4, \"Unknown\", IF($J55=99, \"Surveillance\", SUM($O55:$Q55))), 0),\"Not required\")","v":0},0,0,0,{"$f":"IF(INTRO!$E$43=\"Endemic\", IF($K55>1, IF($K55=4, \"Unknown\", IF($K55=99, \"Surveillance\", SUM($S55:$U55))), 0),\"Not required\")","v":0},0,0,0,0,null,null,null,null,null,null,null,10691,"Bagassola",1,2,0]
[{"$f":"IF(INTRO!$E$33<>0,INTRO!$E$33, \" \")","v":"Tchad"},"Lac","Bol",181230,{"$f":"IF(INTRO!$E$48=\"\",\"\",ROUND($D56*INTRO!$E$48,0))","v":26568},{"$f":"IF(INTRO!$E$49=\"\",\"\",ROUND($D56*INTRO!$E$49,0))","v":52430},{"$f":"IF(INTRO!$E$50=\"\",\"\",ROUND($D56*INTRO!$E$50,0))","v":94856},0,0,1,3,0,{"$f":"IF(INTRO!$E$37=\"Endemic\",IF($H56>0,IF($H56=4,\"Unknown\",IF($H56=99,\"Stopped\",$D56)),0),\"Not required\")","v":0},{"$f":"IF(INTRO!$E$39=\"Endemic\", IF($I56>0, IF($I56=4,\"Unknown\",IF($I56=99,\"Stopped\",$D56)), 0),\"Not required\")","v":0},{"$f":"IF(INTRO!$E$41=\"Endemic\", IF($J56>1, IF($J56=4, \"Unknown\", IF($J56=99, \"Surveillance\", E56)), 0),\"Not required\")","v":0},{"$f":"IF(INTRO!$E$41=\"Endemic\", IF($J56>1, IF($J56=4, \"Unknown\", IF($J56=99, \"Surveillance\", F56)), 0),\"Not required\")","v":0},{"$f":"IF(INTRO!$E$41=\"Endemic\", IF($J56>1, IF($J56=4, \"Unknown\", IF($J56=99, \"Surveillance\", ROUND(D56*INTRO!$E$51,0))), 0),\"Not required\")","v":0},{"$f":"IF(INTRO!$E$41=\"Endemic\", IF($J56>1, IF($J56=4, \"Unknown\", IF($J56=99, \"Surveillance\", SUM($O56:$Q56))), 0),\"Not required\")","v":0},5098,13687,24762,{"$f":"IF(INTRO!$E$43=\"Endemic\", IF($K56>1, IF($K56=4, \"Unknown\", IF($K56=99, \"Surveillance\", SUM($S56:$U56))), 0),\"Not required\")","v":43547},0,0,0,1,null,null,null,null,null,null,null,10692,"Bol",3,2,1]
[{"$f":"IF(INTRO!$E$33<>0,INTRO!$E$33, \" \")","v":"Tchad"},"Lac","Isserom",108149,{"$f":"IF(INTRO!$E$48=\"\",\"\",ROUND($D57*INTRO!$E$48,0))","v":15855},{"$f":"IF(INTRO!$E$49=\"\",\"\",ROUND($D57*INTRO!$E$49,0))","v":31288},{"$f":"IF(INTRO!$E$50=\"\",\"\",ROUND($D57*INTRO!$E$50,0))","v":56605},0,0,1,1,0,{"$f":"IF(INTRO!$E$37=\"Endemic\",IF($H57>0,IF($H57=4,\"Unknown\",IF($H57=99,\"Stopped\",$D57)),0),\"Not required\")","v":0},{"$f":"IF(INTRO!$E$39=\"Endemic\", IF($I57>0, IF($I57=4,\"Unknown\",IF($I57=99,\"Stopped\",$D57)), 0),\"Not required\")","v":0},{"$f":"IF(INTRO!$E$41=\"Endemic\", IF($J57>1, IF($J57=4, \"Unknown\", IF($J57=99, \"Surveillance\", E57)), 0),\"Not required\")","v":0},{"$f":"IF(INTRO!$E$41=\"Endemic\", IF($J57>1, IF($J57=4, \"Unknown\", IF($J57=99, \"Surveillance\", F57)), 0),\"Not required\")","v":0},{"$f":"IF(INTRO!$E$41=\"Endemic\", IF($J57>1, IF($J57=4, \"Unknown\", IF($J57=99, \"Surveillance\", ROUND(D57*INTRO!$E$51,0))), 0),\"Not required\")","v":0},{"$f":"IF(INTRO!$E$41=\"Endemic\", IF($J57>1, IF($J57=4, \"Unknown\", IF($J57=99, \"Surveillance\", SUM($O57:$Q57))), 0),\"Not required\")","v":0},0,0,0,{"$f":"IF(INTRO!$E$43=\"Endemic\", IF($K57>1, IF($K57=4, \"Unknown\", IF($K57=99, \"Surveillance\", SUM($S57:$U57))), 0),\"Not required\")","v":0},0,0,0,0,null,null,null,null,null,null,null,10749,"Isserom",1,1,0]
[{"$f":"IF(INTRO!$E$33<>0,INTRO!$E$33, \" \")","v":"Tchad"},"Lac","Kouloudia",87326,{"$f":"IF(INTRO!$E$48=\"\",\"\",ROUND($D58*INTRO!$E$48,0))","v":12802},{"$f":"IF(INTRO!$E$49=\"\",\"\",ROUND($D58*INTRO!$E$49,0))","v":25263},{"$f":"IF(INTRO!$E$50=\"\",\"\",ROUND($D58*INTRO!$E$50,0))","v":45706},0,0,1,3,0,{"$f":"IF(INTRO!$E$37=\"Endemic\",IF($H58>0,IF($H58=4,\"Unknown\",IF($H58=99,\"Stopped\",$D58)),0),\"Not required\")","v":0},{"$f":"IF(INTRO!$E$39=\"Endemic\", IF($I58>0, IF($I58=4,\"Unknown\",IF($I58=99,\"Stopped\",$D58)), 0),\"Not required\")","v":0},{"$f":"IF(INTRO!$E$41=\"Endemic\", IF($J58>1, IF($J58=4, \"Unknown\", IF($J58=99, \"Surveillance\", E58)), 0),\"Not required\")","v":0},{"$f":"IF(INTRO!$E$41=\"Endemic\", IF($J58>1, IF($J58=4, \"Unknown\", IF($J58=99, \"Surveillance\", F58)), 0),\"Not required\")","v":0},{"$f":"IF(INTRO!$E$41=\"Endemic\", IF($J58>1, IF($J58=4, \"Unknown\", IF($J58=99, \"Surveillance\", ROUND(D58*INTRO!$E$51,0))), 0),\"Not required\")","v":0},{"$f":"IF(INTRO!$E$41=\"Endemic\", IF($J58>1, IF($J58=4, \"Unknown\", IF($J58=99, \"Surveillance\", SUM($O58:$Q58))), 0),\"Not required\")","v":0},1179,3165,5726,{"$f":"IF(INTRO!$E$43=\"Endemic\", IF($K58>1, IF($K58=4, \"Unknown\", IF($K58=99, \"Surveillance\", SUM($S58:$U58))), 0),\"Not required\")","v":10070},0,0,0,1,null,null,null,null,null,null,null,10693,"Kouloudia",3,2,1]
[{"$f":"IF(INTRO!$E$33<>0,INTRO!$E$33, \" \")","v":"Tchad"},"Lac","Liwa",92013,{"$f":"IF(INTRO!$E$48=\"\",\"\",ROUND($D59*INTRO!$E$48,0))","v":13489},{"$f":"IF(INTRO!$E$49=\"\",\"\",ROUND($D59*INTRO!$E$49,0))","v":26619},{"$f":"IF(INTRO!$E$50=\"\",\"\",ROUND($D59*INTRO!$E$50,0))","v":48160},0,0,1,2,0,{"$f":"IF(INTRO!$E$37=\"Endemic\",IF($H59>0,IF($H59=4,\"Unknown\",IF($H59=99,\"Stopped\",$D59)),0),\"Not required\")","v":0},{"$f":"IF(INTRO!$E$39=\"Endemic\", IF($I59>0, IF($I59=4,\"Unknown\",IF($I59=99,\"Stopped\",$D59)), 0),\"Not required\")","v":0},{"$f":"IF(INTRO!$E$41=\"Endemic\", IF($J59>1, IF($J59=4, \"Unknown\", IF($J59=99, \"Surveillance\", E59)), 0),\"Not required\")","v":0},{"$f":"IF(INTRO!$E$41=\"Endemic\", IF($J59>1, IF($J59=4, \"Unknown\", IF($J59=99, \"Surveillance\", F59)), 0),\"Not required\")","v":0},{"$f":"IF(INTRO!$E$41=\"Endemic\", IF($J59>1, IF($J59=4, \"Unknown\", IF($J59=99, \"Surveillance\", ROUND(D59*INTRO!$E$51,0))), 0),\"Not required\")","v":0},{"$f":"IF(INTRO!$E$41=\"Endemic\", IF($J59>1, IF($J59=4, \"Unknown\", IF($J59=99, \"Surveillance\", SUM($O59:$Q59))), 0),\"Not required\")","v":0},899,2414,4367,{"$f":"IF(INTRO!$E$43=\"Endemic\", IF($K59>1, IF($K59=4, \"Unknown\", IF($K59=99, \"Surveillance\", SUM($S59:$U59))), 0),\"Not required\")","v":7680},0,0,0,1,null,null,null,null,null,null,null,10694,"Liwa",2,1,0]
[{"$f":"IF(INTRO!$E$33<>0,INTRO!$E$33, \" \")","v":"Tchad"},"Lac","Ngouri",169137,{"$f":"IF(INTRO!$E$48=\"\",\"\",ROUND($D60*INTRO!$E$48,0))","v":24795},{"$f":"IF(INTRO!$E$49=\"\",\"\",ROUND($D60*INTRO!$E$49,0))","v":48931},{"$f":"IF(INTRO!$E$50=\"\",\"\",ROUND($D60*INTRO!$E$50,0))","v":88526},0,0,1,2,0,{"$f":"IF(INTRO!$E$37=\"Endemic\",IF($H60>0,IF($H60=4,\"Unknown\",IF($H60=99,\"Stopped\",$D60)),0),\"Not required\")","v":0},{"$f":"IF(INTRO!$E$39=\"Endemic\", IF($I60>0, IF($I60=4,\"Unknown\",IF($I60=99,\"Stopped\",$D60)), 0),\"Not required\")","v":0},{"$f":"IF(INTRO!$E$41=\"Endemic\", IF($J60>1, IF($J60=4, \"Unknown\", IF($J60=99, \"Surveillance\", E60)), 0),\"Not required\")","v":0},{"$f":"IF(INTRO!$E$41=\"Endemic\", IF($J60>1, IF($J60=4, \"Unknown\", IF($J60=99, \"Surveillance\", F60)), 0),\"Not required\")","v":0},{"$f":"IF(INTRO!$E$41=\"Endemic\", IF($J60>1, IF($J60=4, \"Unknown\", IF($J60=99, \"Surveillance\", ROUND(D60*INTRO!$E$51,0))), 0),\"Not required\")","v":0},{"$f":"IF(INTRO!$E$41=\"Endemic\", IF($J60>1, IF($J60=4, \"Unknown\", IF($J60=99, \"Surveillance\", SUM($O60:$Q60))), 0),\"Not required\")","v":0},582,1563,2828,{"$f":"IF(INTRO!$E$43=\"Endemic\", IF($K60>1, IF($K60=4, \"Unknown\", IF($K60=99, \"Surveillance\", SUM($S60:$U60))), 0),\"Not required\")","v":4973},0,0,0,1,null,null,null,null,null,null,null,10695,"Ngouri",2,1,0]
[{"$f":"IF(INTRO!$E$33<>0,INTRO!$E$33, \" \")","v":"Tchad"},"Logone Occidental","Benamar",109572,{"$f":"IF(INTRO!$E$48=\"\",\"\",ROUND($D61*INTRO!$E$48,0))","v":16063},{"$f":"IF(INTRO!$E$49=\"\",\"\",ROUND($D61*INTRO!$E$49,0))","v":31699},{"$f":"IF(INTRO!$E$50=\"\",\"\",ROUND($D61*INTRO!$E$50,0))","v":57350},1,1,1,1,0,{"$f":"IF(INTRO!$E$37=\"Endemic\",IF($H61>0,IF($H61=4,\"Unknown\",IF($H61=99,\"Stopped\",$D61)),0),\"Not required\")","v":109572},{"$f":"IF(INTRO!$E$39=\"Endemic\", IF($I61>0, IF($I61=4,\"Unknown\",IF($I61=99,\"Stopped\",$D61)), 0),\"Not required\")","v":109572},{"$f":"IF(INTRO!$E$41=\"Endemic\", IF($J61>1, IF($J61=4, \"Unknown\", IF($J61=99, \"Surveillance\", E61)), 0),\"Not required\")","v":0},{"$f":"IF(INTRO!$E$41=\"Endemic\", IF($J61>1, IF($J61=4, \"Unknown\", IF($J61=99, \"Surveillance\", F61)), 0),\"Not required\")","v":0},{"$f":"IF(INTRO!$E$41=\"Endemic\", IF($J61>1, IF($J61=4, \"Unknown\", IF($J61=99, \"Surveillance\", ROUND(D61*INTRO!$E$51,0))), 0),\"Not required\")","v":0},{"$f":"IF(INTRO!$E$41=\"Endemic\", IF($J61>1, IF($J61=4, \"Unknown\", IF($J61=99, \"Surveillance\", SUM($O61:$Q61))), 0),\"Not required\")","v":0},0,0,0,{"$f":"IF(INTRO!$E$43=\"Endemic\", IF($K61>1, IF($K61=4, \"Unknown\", IF($K61=99, \"Surveillance\", SUM($S61:$U61))), 0),\"Not required\")","v":0},1,1,0,0,null,null,null,null,null,null,null,10765,"Benamar",1,2,1]
[{"$f":"IF(INTRO!$E$33<>0,INTRO!$E$33, \" \")","v":"Tchad"},"Logone Occidental","Benoye",326604,{"$f":"IF(INTRO!$E$48=\"\",\"\",ROUND($D62*INTRO!$E$48,0))","v":47880},{"$f":"IF(INTRO!$E$49=\"\",\"\",ROUND($D62*INTRO!$E$49,0))","v":94487},{"$f":"IF(INTRO!$E$50=\"\",\"\",ROUND($D62*INTRO!$E$50,0))","v":170945},19,0,1,2,0,{"$f":"IF(INTRO!$E$37=\"Endemic\",IF($H62>0,IF($H62=4,\"Unknown\",IF($H62=99,\"Stopped\",$D62)),0),\"Not required\")","v":326604},{"$f":"IF(INTRO!$E$39=\"Endemic\", IF($I62>0, IF($I62=4,\"Unknown\",IF($I62=99,\"Stopped\",$D62)), 0),\"Not required\")","v":0},{"$f":"IF(INTRO!$E$41=\"Endemic\", IF($J62>1, IF($J62=4, \"Unknown\", IF($J62=99, \"Surveillance\", E62)), 0),\"Not required\")","v":0},{"$f":"IF(INTRO!$E$41=\"Endemic\", IF($J62>1, IF($J62=4, \"Unknown\", IF($J62=99, \"Surveillance\", F62)), 0),\"Not required\")","v":0},{"$f":"IF(INTRO!$E$41=\"Endemic\", IF($J62>1, IF($J62=4, \"Unknown\", IF($J62=99, \"Surveillance\", ROUND(D62*INTRO!$E$51,0))), 0),\"Not required\")","v":0},{"$f":"IF(INTRO!$E$41=\"Endemic\", IF($J62>1, IF($J62=4, \"Unknown\", IF($J62=99, \"Surveillance\", SUM($O62:$Q62))), 0),\"Not required\")","v":0},7663,20571,37216,{"$f":"IF(INTRO!$E$43=\"Endemic\", IF($K62>1, IF($K62=4, \"Unknown\", IF($K62=99, \"Surveillance\", SUM($S62:$U62))), 0),\"Not required\")","v":65450},0,0,0,1,"TAS",null,null,null,null,null,null,10696,"Benoye",2,2,0]
[{"$f":"IF(INTRO!$E$33<>0,INTRO!$E$33, \" \")","v":"Tchad"},"Logone Occidental","Laokassy",210560,{"$f":"IF(INTRO!$E$48=\"\",\"\",ROUND($D63*INTRO!$E$48,0))","v":30868},{"$f":"IF(INTRO!$E$49=\"\",\"\",ROUND($D63*INTRO!$E$49,0))","v":60915},{"$f":"IF(INTRO!$E$50=\"\",\"\",ROUND($D63*INTRO!$E$50,0))","v":110207},19,1,1,2,0,{"$f":"IF(INTRO!$E$37=\"Endemic\",IF($H63>0,IF($H63=4,\"Unknown\",IF($H63=99,\"Stopped\",$D63)),0),\"Not required\")","v":210560},{"$f":"IF(INTRO!$E$39=\"Endemic\", IF($I63>0, IF($I63=4,\"Unknown\",IF($I63=99,\"Stopped\",$D63)), 0),\"Not required\")","v":210560},{"$f":"IF(INTRO!$E$41=\"Endemic\", IF($J63>1, IF($J63=4, \"Unknown\", IF($J63=99, \"Surveillance\", E63)), 0),\"Not required\")","v":0},{"$f":"IF(INTRO!$E$41=\"Endemic\", IF($J63>1, IF($J63=4, \"Unknown\", IF($J63=99, \"Surveillance\", F63)), 0),\"Not required\")","v":0},{"$f":"IF(INTRO!$E$41=\"Endemic\", IF($J63>1, IF($J63=4, \"Unknown\", IF($J63=99, \"Surveillance\", ROUND(D63*INTRO!$E$51,0))), 0),\"Not required\")","v":0},{"$f":"IF(INTRO!$E$41=\"Endemic\", IF($J63>1, IF($J63=4, \"Unknown\", IF($J63=99, \"Surveillance\", SUM($O63:$Q63))), 0),\"Not required\")","v":0},7746,20795,37624,{"$f":"IF(INTRO!$E$43=\"Endemic\", IF($K63>1, IF($K63=4, \"Unknown\", IF($K63=99, \"Surveillance\", SUM($S63:$U63))), 0),\"Not required\")","v":66165},0,1,0,1,"TAS",null,null,null,null,null,null,10697,"Laokassy",2,2,0]
[{"$f":"IF(INTRO!$E$33<>0,INTRO!$E$33, \" \")","v":"Tchad"},"Logone Occidental","Moundou",528934,{"$f":"IF(INTRO!$E$48=\"\",\"\",ROUND($D64*INTRO!$E$48,0))","v":77542},{"$f":"IF(INTRO!$E$49=\"\",\"\",ROUND($D64*INTRO!$E$49,0))","v":153021},{"$f":"IF(INTRO!$E$50=\"\",\"\",ROUND($D64*INTRO!$E$50,0))","v":276844},1,1,1,1,0,{"$f":"IF(INTRO!$E$37=\"Endemic\",IF($H64>0,IF($H64=4,\"Unknown\",IF($H64=99,\"Stopped\",$D64)),0),\"Not required\")","v":528934},{"$f":"IF(INTRO!$E$39=\"Endemic\", IF($I64>0, IF($I64=4,\"Unknown\",IF($I64=99,\"Stopped\",$D64)), 0),\"Not required\")","v":528934},{"$f":"IF(INTRO!$E$41=\"Endemic\", IF($J64>1, IF($J64=4, \"Unknown\", IF($J64=99, \"Surveillance\", E64)), 0),\"Not required\")","v":0},{"$f":"IF(INTRO!$E$41=\"Endemic\", IF($J64>1, IF($J64=4, \"Unknown\", IF($J64=99, \"Surveillance\", F64)), 0),\"Not required\")","v":0},{"$f":"IF(INTRO!$E$41=\"Endemic\", IF($J64>1, IF($J64=4, \"Unknown\", IF($J64=99, \"Surveillance\", ROUND(D64*INTRO!$E$51,0))), 0),\"Not required\")","v":0},{"$f":"IF(INTRO!$E$41=\"Endemic\", IF($J64>1, IF($J64=4, \"Unknown\", IF($J64=99, \"Surveillance\", SUM($O64:$Q64))), 0),\"Not required\")","v":0},0,0,0,{"$f":"IF(INTRO!$E$43=\"Endemic\", IF($K64>1, IF($K64=4, \"Unknown\", IF($K64=99, \"Surveillance\", SUM($S64:$U64))), 0),\"Not required\")","v":0},1,1,0,0,null,null,null,null,null,null,null,10698,"Moundou",1,1,0]
[{"$f":"IF(INTRO!$E$33<>0,INTRO!$E$33, \" \")","v":"Tchad"},"Logone Orientlal","Baibokoum",83699,{"$f":"IF(INTRO!$E$48=\"\",\"\",ROUND($D65*INTRO!$E$48,0))","v":12270},{"$f":"IF(INTRO!$E$49=\"\",\"\",ROUND($D65*INTRO!$E$49,0))","v":24214},{"$f":"IF(INTRO!$E$50=\"\",\"\",ROUND($D65*INTRO!$E$50,0))","v":43808},1,1,1,1,0,{"$f":"IF(INTRO!$E$37=\"Endemic\",IF($H65>0,IF($H65=4,\"Unknown\",IF($H65=99,\"Stopped\",$D65)),0),\"Not required\")","v":83699},{"$f":"IF(INTRO!$E$39=\"Endemic\", IF($I65>0, IF($I65=4,\"Unknown\",IF($I65=99,\"Stopped\",$D65)), 0),\"Not required\")","v":83699},{"$f":"IF(INTRO!$E$41=\"Endemic\", IF($J65>1, IF($J65=4, \"Unknown\", IF($J65=99, \"Surveillance\", E65)), 0),\"Not required\")","v":0},{"$f":"IF(INTRO!$E$41=\"Endemic\", IF($J65>1, IF($J65=4, \"Unknown\", IF($J65=99, \"Surveillance\", F65)), 0),\"Not required\")","v":0},{"$f":"IF(INTRO!$E$41=\"Endemic\", IF($J65>1, IF($J65=4, \"Unknown\", IF($J65=99, \"Surveillance\", ROUND(D65*INTRO!$E$51,0))), 0),\"Not required\")","v":0},{"$f":"IF(INTRO!$E$41=\"Endemic\", IF($J65>1, IF($J65=4, \"Unknown\", IF($J65=99, \"Surveillance\", SUM($O65:$Q65))), 0),\"Not required\")","v":0},0,0,0,{"$f":"IF(INTRO!$E$43=\"Endemic\", IF($K65>1, IF($K65=4, \"Unknown\", IF($K65=99, \"Surveillance\", SUM($S65:$U65))), 0),\"Not required\")","v":0},1,1,0,0,null,null,null,null,null,null,null,10766,"Baibokoum",1,2,1]
[{"$f":"IF(INTRO!$E$33<>0,INTRO!$E$33, \" \")","v":"Tchad"},"Logone Orientlal","Bebedja",208917,{"$f":"IF(INTRO!$E$48=\"\",\"\",ROUND($D66*INTRO!$E$48,0))","v":30627},{"$f":"IF(INTRO!$E$49=\"\",\"\",ROUND($D66*INTRO!$E$49,0))","v":60440},{"$f":"IF(INTRO!$E$50=\"\",\"\",ROUND($D66*INTRO!$E$50,0))","v":109347},1,1,1,2,0,{"$f":"IF(INTRO!$E$37=\"Endemic\",IF($H66>0,IF($H66=4,\"Unknown\",IF($H66=99,\"Stopped\",$D66)),0),\"Not required\")","v":208917},{"$f":"IF(INTRO!$E$39=\"Endemic\", IF($I66>0, IF($I66=4,\"Unknown\",IF($I66=99,\"Stopped\",$D66)), 0),\"Not required\")","v":208917},{"$f":"IF(INTRO!$E$41=\"Endemic\", IF($J66>1, IF($J66=4, \"Unknown\", IF($J66=99, \"Surveillance\", E66)), 0),\"Not required\")","v":0},{"$f":"IF(INTRO!$E$41=\"Endemic\", IF($J66>1, IF($J66=4, \"Unknown\", IF($J66=99, \"Surveillance\", F66)), 0),\"Not required\")","v":0},{"$f":"IF(INTRO!$E$41=\"Endemic\", IF($J66>1, IF($J66=4, \"Unknown\", IF($J66=99, \"Surveillance\", ROUND(D66*INTRO!$E$51,0))), 0),\"Not required\")","v":0},{"$f":"IF(INTRO!$E$41=\"Endemic\", IF($J66>1, IF($J66=4, \"Unknown\", IF($J66=99, \"Surveillance\", SUM($O66:$Q66))), 0),\"Not required\")","v":0},4296,11533,20866,{"$f":"IF(INTRO!$E$43=\"Endemic\", IF($K66>1, IF($K66=4, \"Unknown\", IF($K66=99, \"Surveillance\", SUM($S66:$U66))), 0),\"Not required\")","v":36695},1,1,0,1,null,null,null,null,null,null,null,10699,"Bebedja",2,2,0]
[{"$f":"IF(INTRO!$E$33<>0,INTRO!$E$33, \" \")","v":"Tchad"},"Logone Orientlal","Beboto",77751,{"$f":"IF(INTRO!$E$48=\"\",\"\",ROUND($D67*INTRO!$E$48,0))","v":11398},{"$f":"IF(INTRO!$E$49=\"\",\"\",ROUND($D67*INTRO!$E$49,0))","v":22493},{"$f":"IF(INTRO!$E$50=\"\",\"\",ROUND($D67*INTRO!$E$50,0))","v":40695},19,1,1,2,0,{"$f":"IF(INTRO!$E$37=\"Endemic\",IF($H67>0,IF($H67=4,\"Unknown\",IF($H67=99,\"Stopped\",$D67)),0),\"Not required\")","v":77751},{"$f":"IF(INTRO!$E$39=\"Endemic\", IF($I67>0, IF($I67=4,\"Unknown\",IF($I67=99,\"Stopped\",$D67)), 0),\"Not required\")","v":77751},{"$f":"IF(INTRO!$E$41=\"Endemic\", IF($J67>1, IF($J67=4, \"Unknown\", IF($J67=99, \"Surveillance\", E67)), 0),\"Not required\")","v":0},{"$f":"IF(INTRO!$E$41=\"Endemic\", IF($J67>1, IF($J67=4, \"Unknown\", IF($J67=99, \"Surveillance\", F67)), 0),\"Not required\")","v":0},{"$f":"IF(INTRO!$E$41=\"Endemic\", IF($J67>1, IF($J67=4, \"Unknown\", IF($J67=99, \"Surveillance\", ROUND(D67*INTRO!$E$51,0))), 0),\"Not required\")","v":0},{"$f":"IF(INTRO!$E$41=\"Endemic\", IF($J67>1, IF($J67=4, \"Unknown\", IF($J67=99, \"Surveillance\", SUM($O67:$Q67))), 0),\"Not required\")","v":0},833,2237,4049,{"$f":"IF(INTRO!$E$43=\"Endemic\", IF($K67>1, IF($K67=4, \"Unknown\", IF($K67=99, \"Surveillance\", SUM($S67:$U67))), 0),\"Not required\")","v":7119},0,1,0,1,"TAS",null,null,null,null,null,null,10700,"Beboto",2,2,0]
[{"$f":"IF(INTRO!$E$33<>0,INTRO!$E$33, \" \")","v":"Tchad"},"Logone Orientlal","Bessao",204049,{"$f":"IF(INTRO!$E$48=\"\",\"\",ROUND($D68*INTRO!$E$48,0))","v":29914},{"$f":"IF(INTRO!$E$49=\"\",\"\",ROUND($D68*INTRO!$E$49,0))","v":59031},{"$f":"IF(INTRO!$E$50=\"\",\"\",ROUND($D68*INTRO!$E$50,0))","v":106799},19,1,1,3,0,{"$f":"IF(INTRO!$E$37=\"Endemic\",IF($H68>0,IF($H68=4,\"Unknown\",IF($H68=99,\"Stopped\",$D68)),0),\"Not required\")","v":204049},{"$f":"IF(INTRO!$E$39=\"Endemic\", IF($I68>0, IF($I68=4,\"Unknown\",IF($I68=99,\"Stopped\",$D68)), 0),\"Not required\")","v":204049},{"$f":"IF(INTRO!$E$41=\"Endemic\", IF($J68>1, IF($J68=4, \"Unknown\", IF($J68=99, \"Surveillance\", E68)), 0),\"Not required\")","v":0},{"$f":"IF(INTRO!$E$41=\"Endemic\", IF($J68>1, IF($J68=4, \"Unknown\", IF($J68=99, \"Surveillance\", F68)), 0),\"Not required\")","v":0},{"$f":"IF(INTRO!$E$41=\"Endemic\", IF($J68>1, IF($J68=4, \"Unknown\", IF($J68=99, \"Surveillance\", ROUND(D68*INTRO!$E$51,0))), 0),\"Not required\")","v":0},{"$f":"IF(INTRO!$E$41=\"Endemic\", IF($J68>1, IF($J68=4, \"Unknown\", IF($J68=99, \"Surveillance\", SUM($O68:$Q68))), 0),\"Not required\")","v":0},5387,14461,26164,{"$f":"IF(INTRO!$E$43=\"Endemic\", IF($K68>1, IF($K68=4, \"Unknown\", IF($K68=99, \"Surveillance\", SUM($S68:$U68))), 0),\"Not required\")","v":46012},0,1,0,1,"TAS",null,null,null,null,null,null,10701,"Bessao",3,2,1]
[{"$f":"IF(INTRO!$E$33<>0,INTRO!$E$33, \" \")","v":"Tchad"},"Logone Orientlal","Bodo",160236,{"$f":"IF(INTRO!$E$48=\"\",\"\",ROUND($D69*INTRO!$E$48,0))","v":23491},{"$f":"IF(INTRO!$E$49=\"\",\"\",ROUND($D69*INTRO!$E$49,0))","v":46356},{"$f":"IF(INTRO!$E$50=\"\",\"\",ROUND($D69*INTRO!$E$50,0))","v":83868},1,0,1,2,0,{"$f":"IF(INTRO!$E$37=\"Endemic\",IF($H69>0,IF($H69=4,\"Unknown\",IF($H69=99,\"Stopped\",$D69)),0),\"Not required\")","v":160236},{"$f":"IF(INTRO!$E$39=\"Endemic\", IF($I69>0, IF($I69=4,\"Unknown\",IF($I69=99,\"Stopped\",$D69)), 0),\"Not required\")","v":0},{"$f":"IF(INTRO!$E$41=\"Endemic\", IF($J69>1, IF($J69=4, \"Unknown\", IF($J69=99, \"Surveillance\", E69)), 0),\"Not required\")","v":0},{"$f":"IF(INTRO!$E$41=\"Endemic\", IF($J69>1, IF($J69=4, \"Unknown\", IF($J69=99, \"Surveillance\", F69)), 0),\"Not required\")","v":0},{"$f":"IF(INTRO!$E$41=\"Endemic\", IF($J69>1, IF($J69=4, \"Unknown\", IF($J69=99, \"Surveillance\", ROUND(D69*INTRO!$E$51,0))), 0),\"Not required\")","v":0},{"$f":"IF(INTRO!$E$41=\"Endemic\", IF($J69>1, IF($J69=4, \"Unknown\", IF($J69=99, \"Surveillance\", SUM($O69:$Q69))), 0),\"Not required\")","v":0},1315,3528,6384,{"$f":"IF(INTRO!$E$43=\"Endemic\", IF($K69>1, IF($K69=4, \"Unknown\", IF($K69=99, \"Surveillance\", SUM($S69:$U69))), 0),\"Not required\")","v":11227},1,0,0,1,null,null,null,null,null,null,null,10702,"Bodo",2,2,1]
[{"$f":"IF(INTRO!$E$33<>0,INTRO!$E$33, \" \")","v":"Tchad"},"Logone Orientlal","Doba",189849,{"$f":"IF(INTRO!$E$48=\"\",\"\",ROUND($D70*INTRO!$E$48,0))","v":27832},{"$f":"IF(INTRO!$E$49=\"\",\"\",ROUND($D70*INTRO!$E$49,0))","v":54923},{"$f":"IF(INTRO!$E$50=\"\",\"\",ROUND($D70*INTRO!$E$50,0))","v":99367},19,1,1,2,0,{"$f":"IF(INTRO!$E$37=\"Endemic\",IF($H70>0,IF($H70=4,\"Unknown\",IF($H70=99,\"Stopped\",$D70)),0),\"Not required\")","v":189849},{"$f":"IF(INTRO!$E$39=\"Endemic\", IF($I70>0, IF($I70=4,\"Unknown\",IF($I70=99,\"Stopped\",$D70)), 0),\"Not required\")","v":189849},{"$f":"IF(INTRO!$E$41=\"Endemic\", IF($J70>1, IF($J70=4, \"Unknown\", IF($J70=99, \"Surveillance\", E70)), 0),\"Not required\")","v":0},{"$f":"IF(INTRO!$E$41=\"Endemic\", IF($J70>1, IF($J70=4, \"Unknown\", IF($J70=99, \"Surveillance\", F70)), 0),\"Not required\")","v":0},{"$f":"IF(INTRO!$E$41=\"Endemic\", IF($J70>1, IF($J70=4, \"Unknown\", IF($J70=99, \"Surveillance\", ROUND(D70*INTRO!$E$51,0))), 0),\"Not required\")","v":0},{"$f":"IF(INTRO!$E$41=\"Endemic\", IF($J70>1, IF($J70=4, \"Unknown\", IF($J70=99, \"Surveillance\", SUM($O70:$Q70))), 0),\"Not required\")","v":0},1893,5082,9194,{"$f":"IF(INTRO!$E$43=\"Endemic\", IF($K70>1, IF($K70=4, \"Unknown\", IF($K70=99, \"Surveillance\", SUM($S70:$U70))), 0),\"Not required\")","v":16169},0,1,0,1,"TAS",null,null,null,null,null,null,10703,"Doba",2,1,0]
[{"$f":"IF(INTRO!$E$33<>0,INTRO!$E$33, \" \")","v":"Tchad"},"Logone Orientlal","DONIA",98438,{"$f":"IF(INTRO!$E$48=\"\",\"\",ROUND($D71*INTRO!$E$48,0))","v":14431},{"$f":"IF(INTRO!$E$49=\"\",\"\",ROUND($D71*INTRO!$E$49,0))","v":28478},{"$f":"IF(INTRO!$E$50=\"\",\"\",ROUND($D71*INTRO!$E$50,0))","v":51522},1,1,1,1,0,{"$f":"IF(INTRO!$E$37=\"Endemic\",IF($H71>0,IF($H71=4,\"Unknown\",IF($H71=99,\"Stopped\",$D71)),0),\"Not required\")","v":98438},{"$f":"IF(INTRO!$E$39=\"Endemic\", IF($I71>0, IF($I71=4,\"Unknown\",IF($I71=99,\"Stopped\",$D71)), 0),\"Not required\")","v":98438},{"$f":"IF(INTRO!$E$41=\"Endemic\", IF($J71>1, IF($J71=4, \"Unknown\", IF($J71=99, \"Surveillance\", E71)), 0),\"Not required\")","v":0},{"$f":"IF(INTRO!$E$41=\"Endemic\", IF($J71>1, IF($J71=4, \"Unknown\", IF($J71=99, \"Surveillance\", F71)), 0),\"Not required\")","v":0},{"$f":"IF(INTRO!$E$41=\"Endemic\", IF($J71>1, IF($J71=4, \"Unknown\", IF($J71=99, \"Surveillance\", ROUND(D71*INTRO!$E$51,0))), 0),\"Not required\")","v":0},{"$f":"IF(INTRO!$E$41=\"Endemic\", IF($J71>1, IF($J71=4, \"Unknown\", IF($J71=99, \"Surveillance\", SUM($O71:$Q71))), 0),\"Not required\")","v":0},0,0,0,{"$f":"IF(INTRO!$E$43=\"Endemic\", IF($K71>1, IF($K71=4, \"Unknown\", IF($K71=99, \"Surveillance\", SUM($S71:$U71))), 0),\"Not required\")","v":0},1,1,0,0,null,null,null,null,null,null,null,10767,"DONIA",1,2,1]
[{"$f":"IF(INTRO!$E$33<>0,INTRO!$E$33, \" \")","v":"Tchad"},"Logone Orientlal","Goré",180113,{"$f":"IF(INTRO!$E$48=\"\",\"\",ROUND($D72*INTRO!$E$48,0))","v":26405},{"$f":"IF(INTRO!$E$49=\"\",\"\",ROUND($D72*INTRO!$E$49,0))","v":52107},{"$f":"IF(INTRO!$E$50=\"\",\"\",ROUND($D72*INTRO!$E$50,0))","v":94271},19,1,1,2,0,{"$f":"IF(INTRO!$E$37=\"Endemic\",IF($H72>0,IF($H72=4,\"Unknown\",IF($H72=99,\"Stopped\",$D72)),0),\"Not required\")","v":180113},{"$f":"IF(INTRO!$E$39=\"Endemic\", IF($I72>0, IF($I72=4,\"Unknown\",IF($I72=99,\"Stopped\",$D72)), 0),\"Not required\")","v":180113},{"$f":"IF(INTRO!$E$41=\"Endemic\", IF($J72>1, IF($J72=4, \"Unknown\", IF($J72=99, \"Surveillance\", E72)), 0),\"Not required\")","v":0},{"$f":"IF(INTRO!$E$41=\"Endemic\", IF($J72>1, IF($J72=4, \"Unknown\", IF($J72=99, \"Surveillance\", F72)), 0),\"Not required\")","v":0},{"$f":"IF(INTRO!$E$41=\"Endemic\", IF($J72>1, IF($J72=4, \"Unknown\", IF($J72=99, \"Surveillance\", ROUND(D72*INTRO!$E$51,0))), 0),\"Not required\")","v":0},{"$f":"IF(INTRO!$E$41=\"Endemic\", IF($J72>1, IF($J72=4, \"Unknown\", IF($J72=99, \"Surveillance\", SUM($O72:$Q72))), 0),\"Not required\")","v":0},3147,8447,15284,{"$f":"IF(INTRO!$E$43=\"Endemic\", IF($K72>1, IF($K72=4, \"Unknown\", IF($K72=99, \"Surveillance\", SUM($S72:$U72))), 0),\"Not required\")","v":26878},0,1,0,1,"TAS",null,null,null,null,null,null,10704,"Goré",2,2,1]
[{"$f":"IF(INTRO!$E$33<>0,INTRO!$E$33, \" \")","v":"Tchad"},"Logone Orientlal","Kara",73829,{"$f":"IF(INTRO!$E$48=\"\",\"\",ROUND($D73*INTRO!$E$48,0))","v":10823},{"$f":"IF(INTRO!$E$49=\"\",\"\",ROUND($D73*INTRO!$E$49,0))","v":21359},{"$f":"IF(INTRO!$E$50=\"\",\"\",ROUND($D73*INTRO!$E$50,0))","v":38642},1,1,1,1,0,{"$f":"IF(INTRO!$E$37=\"Endemic\",IF($H73>0,IF($H73=4,\"Unknown\",IF($H73=99,\"Stopped\",$D73)),0),\"Not required\")","v":73829},{"$f":"IF(INTRO!$E$39=\"Endemic\", IF($I73>0, IF($I73=4,\"Unknown\",IF($I73=99,\"Stopped\",$D73)), 0),\"Not required\")","v":73829},{"$f":"IF(INTRO!$E$41=\"Endemic\", IF($J73>1, IF($J73=4, \"Unknown\", IF($J73=99, \"Surveillance\", E73)), 0),\"Not required\")","v":0},{"$f":"IF(INTRO!$E$41=\"Endemic\", IF($J73>1, IF($J73=4, \"Unknown\", IF($J73=99, \"Surveillance\", F73)), 0),\"Not required\")","v":0},{"$f":"IF(INTRO!$E$41=\"Endemic\", IF($J73>1, IF($J73=4, \"Unknown\", IF($J73=99, \"Surveillance\", ROUND(D73*INTRO!$E$51,0))), 0),\"Not required\")","v":0},{"$f":"IF(INTRO!$E$41=\"Endemic\", IF($J73>1, IF($J73=4, \"Unknown\", IF($J73=99, \"Surveillance\", SUM($O73:$Q73))), 0),\"Not required\")","v":0},0,0,0,{"$f":"IF(INTRO!$E$43=\"Endemic\", IF($K73>1, IF($K73=4, \"Unknown\", IF($K73=99, \"Surveillance\", SUM($S73:$U73))), 0),\"Not required\")","v":0},1,1,0,0,null,null,null,null,null,null,null,10768,"Kara",1,1,0]
[{"$f":"IF(INTRO!$E$33<>0,INTRO!$E$33, \" \")","v":"Tchad"},"Logone Orientlal","Larmanaye",75317,{"$f":"IF(INTRO!$E$48=\"\",\"\",ROUND($D74*INTRO!$E$48,0))","v":11041},{"$f":"IF(INTRO!$E$49=\"\",\"\",ROUND($D74*INTRO!$E$49,0))","v":21789},{"$f":"IF(INTRO!$E$50=\"\",\"\",ROUND($D74*INTRO!$E$50,0))","v":39421},19,1,2,2,0,{"$f":"IF(INTRO!$E$37=\"Endemic\",IF($H74>0,IF($H74=4,\"Unknown\",IF($H74=99,\"Stopped\",$D74)),0),\"Not required\")","v":75317},{"$f":"IF(INTRO!$E$39=\"Endemic\", IF($I74>0, IF($I74=4,\"Unknown\",IF($I74=99,\"Stopped\",$D74)), 0),\"Not required\")","v":75317},{"$f":"IF(INTRO!$E$41=\"Endemic\", IF($J74>1, IF($J74=4, \"Unknown\", IF($J74=99, \"Surveillance\", E74)), 0),\"Not required\")","v":11041},{"$f":"IF(INTRO!$E$41=\"Endemic\", IF($J74>1, IF($J74=4, \"Unknown\", IF($J74=99, \"Surveillance\", F74)), 0),\"Not required\")","v":21789},{"$f":"IF(INTRO!$E$41=\"Endemic\", IF($J74>1, IF($J74=4, \"Unknown\", IF($J74=99, \"Surveillance\", ROUND(D74*INTRO!$E$51,0))), 0),\"Not required\")","v":16712},{"$f":"IF(INTRO!$E$41=\"Endemic\", IF($J74>1, IF($J74=4, \"Unknown\", IF($J74=99, \"Surveillance\", SUM($O74:$Q74))), 0),\"Not required\")","v":49542},5292,14206,25703,{"$f":"IF(INTRO!$E$43=\"Endemic\", IF($K74>1, IF($K74=4, \"Unknown\", IF($K74=99, \"Surveillance\", SUM($S74:$U74))), 0),\"Not required\")","v":45201},0,1,1,1,"TAS",null,null,null,null,null,null,10705,"Larmanaye",2,2,0]
[{"$f":"IF(INTRO!$E$33<>0,INTRO!$E$33, \" \")","v":"Tchad"},"Mandoul","Bedaya",80226,{"$f":"IF(INTRO!$E$48=\"\",\"\",ROUND($D75*INTRO!$E$48,0))","v":11761},{"$f":"IF(INTRO!$E$49=\"\",\"\",ROUND($D75*INTRO!$E$49,0))","v":23209},{"$f":"IF(INTRO!$E$50=\"\",\"\",ROUND($D75*INTRO!$E$50,0))","v":41990},1,1,1,1,0,{"$f":"IF(INTRO!$E$37=\"Endemic\",IF($H75>0,IF($H75=4,\"Unknown\",IF($H75=99,\"Stopped\",$D75)),0),\"Not required\")","v":80226},{"$f":"IF(INTRO!$E$39=\"Endemic\", IF($I75>0, IF($I75=4,\"Unknown\",IF($I75=99,\"Stopped\",$D75)), 0),\"Not required\")","v":80226},{"$f":"IF(INTRO!$E$41=\"Endemic\", IF($J75>1, IF($J75=4, \"Unknown\", IF($J75=99, \"Surveillance\", E75)), 0),\"Not required\")","v":0},{"$f":"IF(INTRO!$E$41=\"Endemic\", IF($J75>1, IF($J75=4, \"Unknown\", IF($J75=99, \"Surveillance\", F75)), 0),\"Not required\")","v":0},{"$f":"IF(INTRO!$E$41=\"Endemic\", IF($J75>1, IF($J75=4, \"Unknown\", IF($J75=99, \"Surveillance\", ROUND(D75*INTRO!$E$51,0))), 0),\"Not required\")","v":0},{"$f":"IF(INTRO!$E$41=\"Endemic\", IF($J75>1, IF($J75=4, \"Unknown\", IF($J75=99, \"Surveillance\", SUM($O75:$Q75))), 0),\"Not required\")","v":0},0,0,0,{"$f":"IF(INTRO!$E$43=\"Endemic\", IF($K75>1, IF($K75=4, \"Unknown\", IF($K75=99, \"Surveillance\", SUM($S75:$U75))), 0),\"Not required\")","v":0},1,1,0,0,null,null,null,null,null,null,null,10769,"Bedaya",1,1,0]
[{"$f":"IF(INTRO!$E$33<>0,INTRO!$E$33, \" \")","v":"Tchad"},"Mandoul","Bedjondo",276284,{"$f":"IF(INTRO!$E$48=\"\",\"\",ROUND($D76*INTRO!$E$48,0))","v":40503},{"$f":"IF(INTRO!$E$49=\"\",\"\",ROUND($D76*INTRO!$E$49,0))","v":79929},{"$f":"IF(INTRO!$E$50=\"\",\"\",ROUND($D76*INTRO!$E$50,0))","v":144607},0,1,0,2,0,{"$f":"IF(INTRO!$E$37=\"Endemic\",IF($H76>0,IF($H76=4,\"Unknown\",IF($H76=99,\"Stopped\",$D76)),0),\"Not required\")","v":0},{"$f":"IF(INTRO!$E$39=\"Endemic\", IF($I76>0, IF($I76=4,\"Unknown\",IF($I76=99,\"Stopped\",$D76)), 0),\"Not required\")","v":276284},{"$f":"IF(INTRO!$E$41=\"Endemic\", IF($J76>1, IF($J76=4, \"Unknown\", IF($J76=99, \"Surveillance\", E76)), 0),\"Not required\")","v":0},{"$f":"IF(INTRO!$E$41=\"Endemic\", IF($J76>1, IF($J76=4, \"Unknown\", IF($J76=99, \"Surveillance\", F76)), 0),\"Not required\")","v":0},{"$f":"IF(INTRO!$E$41=\"Endemic\", IF($J76>1, IF($J76=4, \"Unknown\", IF($J76=99, \"Surveillance\", ROUND(D76*INTRO!$E$51,0))), 0),\"Not required\")","v":0},{"$f":"IF(INTRO!$E$41=\"Endemic\", IF($J76>1, IF($J76=4, \"Unknown\", IF($J76=99, \"Surveillance\", SUM($O76:$Q76))), 0),\"Not required\")","v":0},2580,6926,12531,{"$f":"IF(INTRO!$E$43=\"Endemic\", IF($K76>1, IF($K76=4, \"Unknown\", IF($K76=99, \"Surveillance\", SUM($S76:$U76))), 0),\"Not required\")","v":22037},0,1,0,1,null,null,null,null,null,null,null,10706,"Bedjondo",2,1,0]
[{"$f":"IF(INTRO!$E$33<>0,INTRO!$E$33, \" \")","v":"Tchad"},"Mandoul","Bekourou",60285,{"$f":"IF(INTRO!$E$48=\"\",\"\",ROUND($D77*INTRO!$E$48,0))","v":8838},{"$f":"IF(INTRO!$E$49=\"\",\"\",ROUND($D77*INTRO!$E$49,0))","v":17440},{"$f":"IF(INTRO!$E$50=\"\",\"\",ROUND($D77*INTRO!$E$50,0))","v":31553},0,1,0,1,0,{"$f":"IF(INTRO!$E$37=\"Endemic\",IF($H77>0,IF($H77=4,\"Unknown\",IF($H77=99,\"Stopped\",$D77)),0),\"Not required\")","v":0},{"$f":"IF(INTRO!$E$39=\"Endemic\", IF($I77>0, IF($I77=4,\"Unknown\",IF($I77=99,\"Stopped\",$D77)), 0),\"Not required\")","v":60285},{"$f":"IF(INTRO!$E$41=\"Endemic\", IF($J77>1, IF($J77=4, \"Unknown\", IF($J77=99, \"Surveillance\", E77)), 0),\"Not required\")","v":0},{"$f":"IF(INTRO!$E$41=\"Endemic\", IF($J77>1, IF($J77=4, \"Unknown\", IF($J77=99, \"Surveillance\", F77)), 0),\"Not required\")","v":0},{"$f":"IF(INTRO!$E$41=\"Endemic\", IF($J77>1, IF($J77=4, \"Unknown\", IF($J77=99, \"Surveillance\", ROUND(D77*INTRO!$E$51,0))), 0),\"Not required\")","v":0},{"$f":"IF(INTRO!$E$41=\"Endemic\", IF($J77>1, IF($J77=4, \"Unknown\", IF($J77=99, \"Surveillance\", SUM($O77:$Q77))), 0),\"Not required\")","v":0},0,0,0,{"$f":"IF(INTRO!$E$43=\"Endemic\", IF($K77>1, IF($K77=4, \"Unknown\", IF($K77=99, \"Surveillance\", SUM($S77:$U77))), 0),\"Not required\")","v":0},0,1,0,0,null,null,null,null,null,null,null,10770,"Bekourou",1,0,0]
[{"$f":"IF(INTRO!$E$33<>0,INTRO!$E$33, \" \")","v":"Tchad"},"Mandoul","Bouna",119296,{"$f":"IF(INTRO!$E$48=\"\",\"\",ROUND($D78*INTRO!$E$48,0))","v":17489},{"$f":"IF(INTRO!$E$49=\"\",\"\",ROUND($D78*INTRO!$E$49,0))","v":34512},{"$f":"IF(INTRO!$E$50=\"\",\"\",ROUND($D78*INTRO!$E$50,0))","v":62440},0,1,1,1,0,{"$f":"IF(INTRO!$E$37=\"Endemic\",IF($H78>0,IF($H78=4,\"Unknown\",IF($H78=99,\"Stopped\",$D78)),0),\"Not required\")","v":0},{"$f":"IF(INTRO!$E$39=\"Endemic\", IF($I78>0, IF($I78=4,\"Unknown\",IF($I78=99,\"Stopped\",$D78)), 0),\"Not required\")","v":119296},{"$f":"IF(INTRO!$E$41=\"Endemic\", IF($J78>1, IF($J78=4, \"Unknown\", IF($J78=99, \"Surveillance\", E78)), 0),\"Not required\")","v":0},{"$f":"IF(INTRO!$E$41=\"Endemic\", IF($J78>1, IF($J78=4, \"Unknown\", IF($J78=99, \"Surveillance\", F78)), 0),\"Not required\")","v":0},{"$f":"IF(INTRO!$E$41=\"Endemic\", IF($J78>1, IF($J78=4, \"Unknown\", IF($J78=99, \"Surveillance\", ROUND(D78*INTRO!$E$51,0))), 0),\"Not required\")","v":0},{"$f":"IF(INTRO!$E$41=\"Endemic\", IF($J78>1, IF($J78=4, \"Unknown\", IF($J78=99, \"Surveillance\", SUM($O78:$Q78))), 0),\"Not required\")","v":0},0,0,0,{"$f":"IF(INTRO!$E$43=\"Endemic\", IF($K78>1, IF($K78=4, \"Unknown\", IF($K78=99, \"Surveillance\", SUM($S78:$U78))), 0),\"Not required\")","v":0},0,1,0,0,null,null,null,null,null,null,null,10707,"Bouna",1,0,1]
[{"$f":"IF(INTRO!$E$33<>0,INTRO!$E$33, \" \")","v":"Tchad"},"Mandoul","Goundi",230025,{"$f":"IF(INTRO!$E$48=\"\",\"\",ROUND($D79*INTRO!$E$48,0))","v":33722},{"$f":"IF(INTRO!$E$49=\"\",\"\",ROUND($D79*INTRO!$E$49,0))","v":66546},{"$f":"IF(INTRO!$E$50=\"\",\"\",ROUND($D79*INTRO!$E$50,0))","v":120395},0,0,1,1,0,{"$f":"IF(INTRO!$E$37=\"Endemic\",IF($H79>0,IF($H79=4,\"Unknown\",IF($H79=99,\"Stopped\",$D79)),0),\"Not required\")","v":0},{"$f":"IF(INTRO!$E$39=\"Endemic\", IF($I79>0, IF($I79=4,\"Unknown\",IF($I79=99,\"Stopped\",$D79)), 0),\"Not required\")","v":0},{"$f":"IF(INTRO!$E$41=\"Endemic\", IF($J79>1, IF($J79=4, \"Unknown\", IF($J79=99, \"Surveillance\", E79)), 0),\"Not required\")","v":0},{"$f":"IF(INTRO!$E$41=\"Endemic\", IF($J79>1, IF($J79=4, \"Unknown\", IF($J79=99, \"Surveillance\", F79)), 0),\"Not required\")","v":0},{"$f":"IF(INTRO!$E$41=\"Endemic\", IF($J79>1, IF($J79=4, \"Unknown\", IF($J79=99, \"Surveillance\", ROUND(D79*INTRO!$E$51,0))), 0),\"Not required\")","v":0},{"$f":"IF(INTRO!$E$41=\"Endemic\", IF($J79>1, IF($J79=4, \"Unknown\", IF($J79=99, \"Surveillance\", SUM($O79:$Q79))), 0),\"Not required\")","v":0},0,0,0,{"$f":"IF(INTRO!$E$43=\"Endemic\", IF($K79>1, IF($K79=4, \"Unknown\", IF($K79=99, \"Surveillance\", SUM($S79:$U79))), 0),\"Not required\")","v":0},0,0,0,0,null,null,null,null,null,null,null,10708,"Goundi",1,1,1]
[{"$f":"IF(INTRO!$E$33<>0,INTRO!$E$33, \" \")","v":"Tchad"},"Mandoul","Koumra",190708,{"$f":"IF(INTRO!$E$48=\"\",\"\",ROUND($D80*INTRO!$E$48,0))","v":27958},{"$f":"IF(INTRO!$E$49=\"\",\"\",ROUND($D80*INTRO!$E$49,0))","v":55172},{"$f":"IF(INTRO!$E$50=\"\",\"\",ROUND($D80*INTRO!$E$50,0))","v":99817},1,1,1,1,0,{"$f":"IF(INTRO!$E$37=\"Endemic\",IF($H80>0,IF($H80=4,\"Unknown\",IF($H80=99,\"Stopped\",$D80)),0),\"Not required\")","v":190708},{"$f":"IF(INTRO!$E$39=\"Endemic\", IF($I80>0, IF($I80=4,\"Unknown\",IF($I80=99,\"Stopped\",$D80)), 0),\"Not required\")","v":190708},{"$f":"IF(INTRO!$E$41=\"Endemic\", IF($J80>1, IF($J80=4, \"Unknown\", IF($J80=99, \"Surveillance\", E80)), 0),\"Not required\")","v":0},{"$f":"IF(INTRO!$E$41=\"Endemic\", IF($J80>1, IF($J80=4, \"Unknown\", IF($J80=99, \"Surveillance\", F80)), 0),\"Not required\")","v":0},{"$f":"IF(INTRO!$E$41=\"Endemic\", IF($J80>1, IF($J80=4, \"Unknown\", IF($J80=99, \"Surveillance\", ROUND(D80*INTRO!$E$51,0))), 0),\"Not required\")","v":0},{"$f":"IF(INTRO!$E$41=\"Endemic\", IF($J80>1, IF($J80=4, \"Unknown\", IF($J80=99, \"Surveillance\", SUM($O80:$Q80))), 0),\"Not required\")","v":0},0,0,0,{"$f":"IF(INTRO!$E$43=\"Endemic\", IF($K80>1, IF($K80=4, \"Unknown\", IF($K80=99, \"Surveillance\", SUM($S80:$U80))), 0),\"Not required\")","v":0},1,1,0,0,null,null,null,null,null,null,null,10709,"Koumra",1,1,1]
[{"$f":"IF(INTRO!$E$33<>0,INTRO!$E$33, \" \")","v":"Tchad"},"Mandoul","Moissala",202557,{"$f":"IF(INTRO!$E$48=\"\",\"\",ROUND($D81*INTRO!$E$48,0))","v":29695},{"$f":"IF(INTRO!$E$49=\"\",\"\",ROUND($D81*INTRO!$E$49,0))","v":58600},{"$f":"IF(INTRO!$E$50=\"\",\"\",ROUND($D81*INTRO!$E$50,0))","v":106018},0,1,0,1,0,{"$f":"IF(INTRO!$E$37=\"Endemic\",IF($H81>0,IF($H81=4,\"Unknown\",IF($H81=99,\"Stopped\",$D81)),0),\"Not required\")","v":0},{"$f":"IF(INTRO!$E$39=\"Endemic\", IF($I81>0, IF($I81=4,\"Unknown\",IF($I81=99,\"Stopped\",$D81)), 0),\"Not required\")","v":202557},{"$f":"IF(INTRO!$E$41=\"Endemic\", IF($J81>1, IF($J81=4, \"Unknown\", IF($J81=99, \"Surveillance\", E81)), 0),\"Not required\")","v":0},{"$f":"IF(INTRO!$E$41=\"Endemic\", IF($J81>1, IF($J81=4, \"Unknown\", IF($J81=99, \"Surveillance\", F81)), 0),\"Not required\")","v":0},{"$f":"IF(INTRO!$E$41=\"Endemic\", IF($J81>1, IF($J81=4, \"Unknown\", IF($J81=99, \"Surveillance\", ROUND(D81*INTRO!$E$51,0))), 0),\"Not required\")","v":0},{"$f":"IF(INTRO!$E$41=\"Endemic\", IF($J81>1, IF($J81=4, \"Unknown\", IF($J81=99, \"Surveillance\", SUM($O81:$Q81))), 0),\"Not required\")","v":0},0,0,0,{"$f":"IF(INTRO!$E$43=\"Endemic\", IF($K81>1, IF($K81=4, \"Unknown\", IF($K81=99, \"Surveillance\", SUM($S81:$U81))), 0),\"Not required\")","v":0},0,1,0,0,null,null,null,null,null,null,null,10710,"Moissala",1,0,1]
[{"$f":"IF(INTRO!$E$33<>0,INTRO!$E$33, \" \")","v":"Tchad"},"Mayo Kebbi Est","Bongor",292635,{"$f":"IF(INTRO!$E$48=\"\",\"\",ROUND($D82*INTRO!$E$48,0))","v":42900},{"$f":"IF(INTRO!$E$49=\"\",\"\",ROUND($D82*INTRO!$E$49,0))","v":84659},{"$f":"IF(INTRO!$E$50=\"\",\"\",ROUND($D82*INTRO!$E$50,0))","v":153165},0,0,1,3,0,{"$f":"IF(INTRO!$E$37=\"Endemic\",IF($H82>0,IF($H82=4,\"Unknown\",IF($H82=99,\"Stopped\",$D82)),0),\"Not required\")","v":0},{"$f":"IF(INTRO!$E$39=\"Endemic\", IF($I82>0, IF($I82=4,\"Unknown\",IF($I82=99,\"Stopped\",$D82)), 0),\"Not required\")","v":0},{"$f":"IF(INTRO!$E$41=\"Endemic\", IF($J82>1, IF($J82=4, \"Unknown\", IF($J82=99, \"Surveillance\", E82)), 0),\"Not required\")","v":0},{"$f":"IF(INTRO!$E$41=\"Endemic\", IF($J82>1, IF($J82=4, \"Unknown\", IF($J82=99, \"Surveillance\", F82)), 0),\"Not required\")","v":0},{"$f":"IF(INTRO!$E$41=\"Endemic\", IF($J82>1, IF($J82=4, \"Unknown\", IF($J82=99, \"Surveillance\", ROUND(D82*INTRO!$E$51,0))), 0),\"Not required\")","v":0},{"$f":"IF(INTRO!$E$41=\"Endemic\", IF($J82>1, IF($J82=4, \"Unknown\", IF($J82=99, \"Surveillance\", SUM($O82:$Q82))), 0),\"Not required\")","v":0},7114,19097,34554,{"$f":"IF(INTRO!$E$43=\"Endemic\", IF($K82>1, IF($K82=4, \"Unknown\", IF($K82=99, \"Surveillance\", SUM($S82:$U82))), 0),\"Not required\")","v":60765},0,0,0,1,null,null,null,null,null,null,null,10753,"Bongor",3,2,1]
[{"$f":"IF(INTRO!$E$33<>0,INTRO!$E$33, \" \")","v":"Tchad"},"Mayo Kebbi Est","Fianga",245949,{"$f":"IF(INTRO!$E$48=\"\",\"\",ROUND($D83*INTRO!$E$48,0))","v":36056},{"$f":"IF(INTRO!$E$49=\"\",\"\",ROUND($D83*INTRO!$E$49,0))","v":71153},{"$f":"IF(INTRO!$E$50=\"\",\"\",ROUND($D83*INTRO!$E$50,0))","v":128730},0,1,1,3,0,{"$f":"IF(INTRO!$E$37=\"Endemic\",IF($H83>0,IF($H83=4,\"Unknown\",IF($H83=99,\"Stopped\",$D83)),0),\"Not required\")","v":0},{"$f":"IF(INTRO!$E$39=\"Endemic\", IF($I83>0, IF($I83=4,\"Unknown\",IF($I83=99,\"Stopped\",$D83)), 0),\"Not required\")","v":245949},{"$f":"IF(INTRO!$E$41=\"Endemic\", IF($J83>1, IF($J83=4, \"Unknown\", IF($J83=99, \"Surveillance\", E83)), 0),\"Not required\")","v":0},{"$f":"IF(INTRO!$E$41=\"Endemic\", IF($J83>1, IF($J83=4, \"Unknown\", IF($J83=99, \"Surveillance\", F83)), 0),\"Not required\")","v":0},{"$f":"IF(INTRO!$E$41=\"Endemic\", IF($J83>1, IF($J83=4, \"Unknown\", IF($J83=99, \"Surveillance\", ROUND(D83*INTRO!$E$51,0))), 0),\"Not required\")","v":0},{"$f":"IF(INTRO!$E$41=\"Endemic\", IF($J83>1, IF($J83=4, \"Unknown\", IF($J83=99, \"Surveillance\", SUM($O83:$Q83))), 0),\"Not required\")","v":0},7131,19148,34643,{"$f":"IF(INTRO!$E$43=\"Endemic\", IF($K83>1, IF($K83=4, \"Unknown\", IF($K83=99, \"Surveillance\", SUM($S83:$U83))), 0),\"Not required\")","v":60922},0,1,0,1,null,null,null,null,null,null,null,10712,"Fianga",3,3,1]
[{"$f":"IF(INTRO!$E$33<>0,INTRO!$E$33, \" \")","v":"Tchad"},"Mayo Kebbi Est","Gounou Gaya",252776,{"$f":"IF(INTRO!$E$48=\"\",\"\",ROUND($D84*INTRO!$E$48,0))","v":37057},{"$f":"IF(INTRO!$E$49=\"\",\"\",ROUND($D84*INTRO!$E$49,0))","v":73128},{"$f":"IF(INTRO!$E$50=\"\",\"\",ROUND($D84*INTRO!$E$50,0))","v":132303},0,1,2,2,0,{"$f":"IF(INTRO!$E$37=\"Endemic\",IF($H84>0,IF($H84=4,\"Unknown\",IF($H84=99,\"Stopped\",$D84)),0),\"Not required\")","v":0},{"$f":"IF(INTRO!$E$39=\"Endemic\", IF($I84>0, IF($I84=4,\"Unknown\",IF($I84=99,\"Stopped\",$D84)), 0),\"Not required\")","v":252776},{"$f":"IF(INTRO!$E$41=\"Endemic\", IF($J84>1, IF($J84=4, \"Unknown\", IF($J84=99, \"Surveillance\", E84)), 0),\"Not required\")","v":37057},{"$f":"IF(INTRO!$E$41=\"Endemic\", IF($J84>1, IF($J84=4, \"Unknown\", IF($J84=99, \"Surveillance\", F84)), 0),\"Not required\")","v":73128},{"$f":"IF(INTRO!$E$41=\"Endemic\", IF($J84>1, IF($J84=4, \"Unknown\", IF($J84=99, \"Surveillance\", ROUND(D84*INTRO!$E$51,0))), 0),\"Not required\")","v":56087},{"$f":"IF(INTRO!$E$41=\"Endemic\", IF($J84>1, IF($J84=4, \"Unknown\", IF($J84=99, \"Surveillance\", SUM($O84:$Q84))), 0),\"Not required\")","v":166272},4840,12996,23512,{"$f":"IF(INTRO!$E$43=\"Endemic\", IF($K84>1, IF($K84=4, \"Unknown\", IF($K84=99, \"Surveillance\", SUM($S84:$U84))), 0),\"Not required\")","v":41348},0,1,1,1,null,null,null,null,null,null,null,10713,"Gounou Gaya",2,2,0]
[{"$f":"IF(INTRO!$E$33<>0,INTRO!$E$33, \" \")","v":"Tchad"},"Mayo Kebbi Est","Guelinding",132087,{"$f":"IF(INTRO!$E$48=\"\",\"\",ROUND($D85*INTRO!$E$48,0))","v":19364},{"$f":"IF(INTRO!$E$49=\"\",\"\",ROUND($D85*INTRO!$E$49,0))","v":38213},{"$f":"IF(INTRO!$E$50=\"\",\"\",ROUND($D85*INTRO!$E$50,0))","v":69134},1,0,1,2,0,{"$f":"IF(INTRO!$E$37=\"Endemic\",IF($H85>0,IF($H85=4,\"Unknown\",IF($H85=99,\"Stopped\",$D85)),0),\"Not required\")","v":132087},{"$f":"IF(INTRO!$E$39=\"Endemic\", IF($I85>0, IF($I85=4,\"Unknown\",IF($I85=99,\"Stopped\",$D85)), 0),\"Not required\")","v":0},{"$f":"IF(INTRO!$E$41=\"Endemic\", IF($J85>1, IF($J85=4, \"Unknown\", IF($J85=99, \"Surveillance\", E85)), 0),\"Not required\")","v":0},{"$f":"IF(INTRO!$E$41=\"Endemic\", IF($J85>1, IF($J85=4, \"Unknown\", IF($J85=99, \"Surveillance\", F85)), 0),\"Not required\")","v":0},{"$f":"IF(INTRO!$E$41=\"Endemic\", IF($J85>1, IF($J85=4, \"Unknown\", IF($J85=99, \"Surveillance\", ROUND(D85*INTRO!$E$51,0))), 0),\"Not required\")","v":0},{"$f":"IF(INTRO!$E$41=\"Endemic\", IF($J85>1, IF($J85=4, \"Unknown\", IF($J85=99, \"Surveillance\", SUM($O85:$Q85))), 0),\"Not required\")","v":0},1435,3853,6971,{"$f":"IF(INTRO!$E$43=\"Endemic\", IF($K85>1, IF($K85=4, \"Unknown\", IF($K85=99, \"Surveillance\", SUM($S85:$U85))), 0),\"Not required\")","v":12259},1,0,0,1,null,null,null,null,null,null,null,10714,"Guelinding",2,1,1]
[{"$f":"IF(INTRO!$E$33<>0,INTRO!$E$33, \" \")","v":"Tchad"},"Mayo Kebbi Est","Moulkou",145207,{"$f":"IF(INTRO!$E$48=\"\",\"\",ROUND($D86*INTRO!$E$48,0))","v":21287},{"$f":"IF(INTRO!$E$49=\"\",\"\",ROUND($D86*INTRO!$E$49,0))","v":42008},{"$f":"IF(INTRO!$E$50=\"\",\"\",ROUND($D86*INTRO!$E$50,0))","v":76001},1,0,1,1,0,{"$f":"IF(INTRO!$E$37=\"Endemic\",IF($H86>0,IF($H86=4,\"Unknown\",IF($H86=99,\"Stopped\",$D86)),0),\"Not required\")","v":145207},{"$f":"IF(INTRO!$E$39=\"Endemic\", IF($I86>0, IF($I86=4,\"Unknown\",IF($I86=99,\"Stopped\",$D86)), 0),\"Not required\")","v":0},{"$f":"IF(INTRO!$E$41=\"Endemic\", IF($J86>1, IF($J86=4, \"Unknown\", IF($J86=99, \"Surveillance\", E86)), 0),\"Not required\")","v":0},{"$f":"IF(INTRO!$E$41=\"Endemic\", IF($J86>1, IF($J86=4, \"Unknown\", IF($J86=99, \"Surveillance\", F86)), 0),\"Not required\")","v":0},{"$f":"IF(INTRO!$E$41=\"Endemic\", IF($J86>1, IF($J86=4, \"Unknown\", IF($J86=99, \"Surveillance\", ROUND(D86*INTRO!$E$51,0))), 0),\"Not required\")","v":0},{"$f":"IF(INTRO!$E$41=\"Endemic\", IF($J86>1, IF($J86=4, \"Unknown\", IF($J86=99, \"Surveillance\", SUM($O86:$Q86))), 0),\"Not required\")","v":0},0,0,0,{"$f":"IF(INTRO!$E$43=\"Endemic\", IF($K86>1, IF($K86=4, \"Unknown\", IF($K86=99, \"Surveillance\", SUM($S86:$U86))), 0),\"Not required\")","v":0},1,0,0,0,null,null,null,null,null,null,null,10750,"Moulkou",1,1,1]
[{"$f":"IF(INTRO!$E$33<>0,INTRO!$E$33, \" \")","v":"Tchad"},"Mayo Kebbi Est","Pont Carol",115827,{"$f":"IF(INTRO!$E$48=\"\",\"\",ROUND($D87*INTRO!$E$48,0))","v":16980},{"$f":"IF(INTRO!$E$49=\"\",\"\",ROUND($D87*INTRO!$E$49,0))","v":33509},{"$f":"IF(INTRO!$E$50=\"\",\"\",ROUND($D87*INTRO!$E$50,0))","v":60624},0,1,2,1,0,{"$f":"IF(INTRO!$E$37=\"Endemic\",IF($H87>0,IF($H87=4,\"Unknown\",IF($H87=99,\"Stopped\",$D87)),0),\"Not required\")","v":0},{"$f":"IF(INTRO!$E$39=\"Endemic\", IF($I87>0, IF($I87=4,\"Unknown\",IF($I87=99,\"Stopped\",$D87)), 0),\"Not required\")","v":115827},{"$f":"IF(INTRO!$E$41=\"Endemic\", IF($J87>1, IF($J87=4, \"Unknown\", IF($J87=99, \"Surveillance\", E87)), 0),\"Not required\")","v":16980},{"$f":"IF(INTRO!$E$41=\"Endemic\", IF($J87>1, IF($J87=4, \"Unknown\", IF($J87=99, \"Surveillance\", F87)), 0),\"Not required\")","v":33509},{"$f":"IF(INTRO!$E$41=\"Endemic\", IF($J87>1, IF($J87=4, \"Unknown\", IF($J87=99, \"Surveillance\", ROUND(D87*INTRO!$E$51,0))), 0),\"Not required\")","v":25700},{"$f":"IF(INTRO!$E$41=\"Endemic\", IF($J87>1, IF($J87=4, \"Unknown\", IF($J87=99, \"Surveillance\", SUM($O87:$Q87))), 0),\"Not required\")","v":76189},0,0,0,{"$f":"IF(INTRO!$E$43=\"Endemic\", IF($K87>1, IF($K87=4, \"Unknown\", IF($K87=99, \"Surveillance\", SUM($S87:$U87))), 0),\"Not required\")","v":0},0,1,1,0,null,null,null,null,null,null,null,10751,"Pont Carol",1,2,0]
[{"$f":"IF(INTRO!$E$33<>0,INTRO!$E$33, \" \")","v":"Tchad"},"Mayo Kebbi Est","Youé",121203,{"$f":"IF(INTRO!$E$48=\"\",\"\",ROUND($D88*INTRO!$E$48,0))","v":17768},{"$f":"IF(INTRO!$E$49=\"\",\"\",ROUND($D88*INTRO!$E$49,0))","v":35064},{"$f":"IF(INTRO!$E$50=\"\",\"\",ROUND($D88*INTRO!$E$50,0))","v":63438},0,1,1,1,0,{"$f":"IF(INTRO!$E$37=\"Endemic\",IF($H88>0,IF($H88=4,\"Unknown\",IF($H88=99,\"Stopped\",$D88)),0),\"Not required\")","v":0},{"$f":"IF(INTRO!$E$39=\"Endemic\", IF($I88>0, IF($I88=4,\"Unknown\",IF($I88=99,\"Stopped\",$D88)), 0),\"Not required\")","v":121203},{"$f":"IF(INTRO!$E$41=\"Endemic\", IF($J88>1, IF($J88=4, \"Unknown\", IF($J88=99, \"Surveillance\", E88)), 0),\"Not required\")","v":0},{"$f":"IF(INTRO!$E$41=\"Endemic\", IF($J88>1, IF($J88=4, \"Unknown\", IF($J88=99, \"Surveillance\", F88)), 0),\"Not required\")","v":0},{"$f":"IF(INTRO!$E$41=\"Endemic\", IF($J88>1, IF($J88=4, \"Unknown\", IF($J88=99, \"Surveillance\", ROUND(D88*INTRO!$E$51,0))), 0),\"Not required\")","v":0},{"$f":"IF(INTRO!$E$41=\"Endemic\", IF($J88>1, IF($J88=4, \"Unknown\", IF($J88=99, \"Surveillance\", SUM($O88:$Q88))), 0),\"Not required\")","v":0},0,0,0,{"$f":"IF(INTRO!$E$43=\"Endemic\", IF($K88>1, IF($K88=4, \"Unknown\", IF($K88=99, \"Surveillance\", SUM($S88:$U88))), 0),\"Not required\")","v":0},0,1,0,0,null,null,null,null,null,null,null,10752,"Youé",1,3,1]
[{"$f":"IF(INTRO!$E$33<>0,INTRO!$E$33, \" \")","v":"Tchad"},"Mayo Kebbi Ouest","Binder",92051,{"$f":"IF(INTRO!$E$48=\"\",\"\",ROUND($D89*INTRO!$E$48,0))","v":13495},{"$f":"IF(INTRO!$E$49=\"\",\"\",ROUND($D89*INTRO!$E$49,0))","v":26630},{"$f":"IF(INTRO!$E$50=\"\",\"\",ROUND($D89*INTRO!$E$50,0))","v":48179},0,1,1,1,0,{"$f":"IF(INTRO!$E$37=\"Endemic\",IF($H89>0,IF($H89=4,\"Unknown\",IF($H89=99,\"Stopped\",$D89)),0),\"Not required\")","v":0},{"$f":"IF(INTRO!$E$39=\"Endemic\", IF($I89>0, IF($I89=4,\"Unknown\",IF($I89=99,\"Stopped\",$D89)), 0),\"Not required\")","v":92051},{"$f":"IF(INTRO!$E$41=\"Endemic\", IF($J89>1, IF($J89=4, \"Unknown\", IF($J89=99, \"Surveillance\", E89)), 0),\"Not required\")","v":0},{"$f":"IF(INTRO!$E$41=\"Endemic\", IF($J89>1, IF($J89=4, \"Unknown\", IF($J89=99, \"Surveillance\", F89)), 0),\"Not required\")","v":0},{"$f":"IF(INTRO!$E$41=\"Endemic\", IF($J89>1, IF($J89=4, \"Unknown\", IF($J89=99, \"Surveillance\", ROUND(D89*INTRO!$E$51,0))), 0),\"Not required\")","v":0},{"$f":"IF(INTRO!$E$41=\"Endemic\", IF($J89>1, IF($J89=4, \"Unknown\", IF($J89=99, \"Surveillance\", SUM($O89:$Q89))), 0),\"Not required\")","v":0},0,0,0,{"$f":"IF(INTRO!$E$43=\"Endemic\", IF($K89>1, IF($K89=4, \"Unknown\", IF($K89=99, \"Surveillance\", SUM($S89:$U89))), 0),\"Not required\")","v":0},0,1,0,0,null,null,null,null,null,null,null,10754,"Binder",1,3,1]
[{"$f":"IF(INTRO!$E$33<>0,INTRO!$E$33, \" \")","v":"Tchad"},"Mayo Kebbi Ouest","Gagal",157976,{"$f":"IF(INTRO!$E$48=\"\",\"\",ROUND($D90*INTRO!$E$48,0))","v":23159},{"$f":"IF(INTRO!$E$49=\"\",\"\",ROUND($D90*INTRO!$E$49,0))","v":45702},{"$f":"IF(INTRO!$E$50=\"\",\"\",ROUND($D90*INTRO!$E$50,0))","v":82685},0,1,1,1,0,{"$f":"IF(INTRO!$E$37=\"Endemic\",IF($H90>0,IF($H90=4,\"Unknown\",IF($H90=99,\"Stopped\",$D90)),0),\"Not required\")","v":0},{"$f":"IF(INTRO!$E$39=\"Endemic\", IF($I90>0, IF($I90=4,\"Unknown\",IF($I90=99,\"Stopped\",$D90)), 0),\"Not required\")","v":157976},{"$f":"IF(INTRO!$E$41=\"Endemic\", IF($J90>1, IF($J90=4, \"Unknown\", IF($J90=99, \"Surveillance\", E90)), 0),\"Not required\")","v":0},{"$f":"IF(INTRO!$E$41=\"Endemic\", IF($J90>1, IF($J90=4, \"Unknown\", IF($J90=99, \"Surveillance\", F90)), 0),\"Not required\")","v":0},{"$f":"IF(INTRO!$E$41=\"Endemic\", IF($J90>1, IF($J90=4, \"Unknown\", IF($J90=99, \"Surveillance\", ROUND(D90*INTRO!$E$51,0))), 0),\"Not required\")","v":0},{"$f":"IF(INTRO!$E$41=\"Endemic\", IF($J90>1, IF($J90=4, \"Unknown\", IF($J90=99, \"Surveillance\", SUM($O90:$Q90))), 0),\"Not required\")","v":0},0,0,0,{"$f":"IF(INTRO!$E$43=\"Endemic\", IF($K90>1, IF($K90=4, \"Unknown\", IF($K90=99, \"Surveillance\", SUM($S90:$U90))), 0),\"Not required\")","v":0},0,1,0,0,null,null,null,null,null,null,null,10755,"Gagal",1,2,0]
[{"$f":"IF(INTRO!$E$33<>0,INTRO!$E$33, \" \")","v":"Tchad"},"Mayo Kebbi Ouest","Guegou",46144,{"$f":"IF(INTRO!$E$48=\"\",\"\",ROUND($D91*INTRO!$E$48,0))","v":6765},{"$f":"IF(INTRO!$E$49=\"\",\"\",ROUND($D91*INTRO!$E$49,0))","v":13349},{"$f":"IF(INTRO!$E$50=\"\",\"\",ROUND($D91*INTRO!$E$50,0))","v":24152},0,1,1,1,0,{"$f":"IF(INTRO!$E$37=\"Endemic\",IF($H91>0,IF($H91=4,\"Unknown\",IF($H91=99,\"Stopped\",$D91)),0),\"Not required\")","v":0},{"$f":"IF(INTRO!$E$39=\"Endemic\", IF($I91>0, IF($I91=4,\"Unknown\",IF($I91=99,\"Stopped\",$D91)), 0),\"Not required\")","v":46144},{"$f":"IF(INTRO!$E$41=\"Endemic\", IF($J91>1, IF($J91=4, \"Unknown\", IF($J91=99, \"Surveillance\", E91)), 0),\"Not required\")","v":0},{"$f":"IF(INTRO!$E$41=\"Endemic\", IF($J91>1, IF($J91=4, \"Unknown\", IF($J91=99, \"Surveillance\", F91)), 0),\"Not required\")","v":0},{"$f":"IF(INTRO!$E$41=\"Endemic\", IF($J91>1, IF($J91=4, \"Unknown\", IF($J91=99, \"Surveillance\", ROUND(D91*INTRO!$E$51,0))), 0),\"Not required\")","v":0},{"$f":"IF(INTRO!$E$41=\"Endemic\", IF($J91>1, IF($J91=4, \"Unknown\", IF($J91=99, \"Surveillance\", SUM($O91:$Q91))), 0),\"Not required\")","v":0},0,0,0,{"$f":"IF(INTRO!$E$43=\"Endemic\", IF($K91>1, IF($K91=4, \"Unknown\", IF($K91=99, \"Surveillance\", SUM($S91:$U91))), 0),\"Not required\")","v":0},0,1,0,0,null,null,null,null,null,null,null,10771,"Guegou",1,3,1]
[{"$f":"IF(INTRO!$E$33<>0,INTRO!$E$33, \" \")","v":"Tchad"},"Mayo Kebbi Ouest","GUELO",58275,{"$f":"IF(INTRO!$E$48=\"\",\"\",ROUND($D92*INTRO!$E$48,0))","v":8543},{"$f":"IF(INTRO!$E$49=\"\",\"\",ROUND($D92*INTRO!$E$49,0))","v":16859},{"$f":"IF(INTRO!$E$50=\"\",\"\",ROUND($D92*INTRO!$E$50,0))","v":30501},0,1,1,1,0,{"$f":"IF(INTRO!$E$37=\"Endemic\",IF($H92>0,IF($H92=4,\"Unknown\",IF($H92=99,\"Stopped\",$D92)),0),\"Not required\")","v":0},{"$f":"IF(INTRO!$E$39=\"Endemic\", IF($I92>0, IF($I92=4,\"Unknown\",IF($I92=99,\"Stopped\",$D92)), 0),\"Not required\")","v":58275},{"$f":"IF(INTRO!$E$41=\"Endemic\", IF($J92>1, IF($J92=4, \"Unknown\", IF($J92=99, \"Surveillance\", E92)), 0),\"Not required\")","v":0},{"$f":"IF(INTRO!$E$41=\"Endemic\", IF($J92>1, IF($J92=4, \"Unknown\", IF($J92=99, \"Surveillance\", F92)), 0),\"Not required\")","v":0},{"$f":"IF(INTRO!$E$41=\"Endemic\", IF($J92>1, IF($J92=4, \"Unknown\", IF($J92=99, \"Surveillance\", ROUND(D92*INTRO!$E$51,0))), 0),\"Not required\")","v":0},{"$f":"IF(INTRO!$E$41=\"Endemic\", IF($J92>1, IF($J92=4, \"Unknown\", IF($J92=99, \"Surveillance\", SUM($O92:$Q92))), 0),\"Not required\")","v":0},0,0,0,{"$f":"IF(INTRO!$E$43=\"Endemic\", IF($K92>1, IF($K92=4, \"Unknown\", IF($K92=99, \"Surveillance\", SUM($S92:$U92))), 0),\"Not required\")","v":0},0,1,0,0,null,null,null,null,null,null,null,10772,"GUELO",1,3,1]
[{"$f":"IF(INTRO!$E$33<>0,INTRO!$E$33, \" \")","v":"Tchad"},"Mayo Kebbi Ouest","Lagon",107465,{"$f":"IF(INTRO!$E$48=\"\",\"\",ROUND($D93*INTRO!$E$48,0))","v":15754},{"$f":"IF(INTRO!$E$49=\"\",\"\",ROUND($D93*INTRO!$E$49,0))","v":31090},{"$f":"IF(INTRO!$E$50=\"\",\"\",ROUND($D93*INTRO!$E$50,0))","v":56247},0,1,1,1,0,{"$f":"IF(INTRO!$E$37=\"Endemic\",IF($H93>0,IF($H93=4,\"Unknown\",IF($H93=99,\"Stopped\",$D93)),0),\"Not required\")","v":0},{"$f":"IF(INTRO!$E$39=\"Endemic\", IF($I93>0, IF($I93=4,\"Unknown\",IF($I93=99,\"Stopped\",$D93)), 0),\"Not required\")","v":107465},{"$f":"IF(INTRO!$E$41=\"Endemic\", IF($J93>1, IF($J93=4, \"Unknown\", IF($J93=99, \"Surveillance\", E93)), 0),\"Not required\")","v":0},{"$f":"IF(INTRO!$E$41=\"Endemic\", IF($J93>1, IF($J93=4, \"Unknown\", IF($J93=99, \"Surveillance\", F93)), 0),\"Not required\")","v":0},{"$f":"IF(INTRO!$E$41=\"Endemic\", IF($J93>1, IF($J93=4, \"Unknown\", IF($J93=99, \"Surveillance\", ROUND(D93*INTRO!$E$51,0))), 0),\"Not required\")","v":0},{"$f":"IF(INTRO!$E$41=\"Endemic\", IF($J93>1, IF($J93=4, \"Unknown\", IF($J93=99, \"Surveillance\", SUM($O93:$Q93))), 0),\"Not required\")","v":0},0,0,0,{"$f":"IF(INTRO!$E$43=\"Endemic\", IF($K93>1, IF($K93=4, \"Unknown\", IF($K93=99, \"Surveillance\", SUM($S93:$U93))), 0),\"Not required\")","v":0},0,1,0,0,null,null,null,null,null,null,null,10756,"Lagon",1,3,1]
[{"$f":"IF(INTRO!$E$33<>0,INTRO!$E$33, \" \")","v":"Tchad"},"Mayo Kebbi Ouest","Lamé",112581,{"$f":"IF(INTRO!$E$48=\"\",\"\",ROUND($D94*INTRO!$E$48,0))","v":16504},{"$f":"IF(INTRO!$E$49=\"\",\"\",ROUND($D94*INTRO!$E$49,0))","v":32570},{"$f":"IF(INTRO!$E$50=\"\",\"\",ROUND($D94*INTRO!$E$50,0))","v":58925},0,1,1,1,0,{"$f":"IF(INTRO!$E$37=\"Endemic\",IF($H94>0,IF($H94=4,\"Unknown\",IF($H94=99,\"Stopped\",$D94)),0),\"Not required\")","v":0},{"$f":"IF(INTRO!$E$39=\"Endemic\", IF($I94>0, IF($I94=4,\"Unknown\",IF($I94=99,\"Stopped\",$D94)), 0),\"Not required\")","v":112581},{"$f":"IF(INTRO!$E$41=\"Endemic\", IF($J94>1, IF($J94=4, \"Unknown\", IF($J94=99, \"Surveillance\", E94)), 0),\"Not required\")","v":0},{"$f":"IF(INTRO!$E$41=\"Endemic\", IF($J94>1, IF($J94=4, \"Unknown\", IF($J94=99, \"Surveillance\", F94)), 0),\"Not required\")","v":0},{"$f":"IF(INTRO!$E$41=\"Endemic\", IF($J94>1, IF($J94=4, \"Unknown\", IF($J94=99, \"Surveillance\", ROUND(D94*INTRO!$E$51,0))), 0),\"Not required\")","v":0},{"$f":"IF(INTRO!$E$41=\"Endemic\", IF($J94>1, IF($J94=4, \"Unknown\", IF($J94=99, \"Surveillance\", SUM($O94:$Q94))), 0),\"Not required\")","v":0},0,0,0,{"$f":"IF(INTRO!$E$43=\"Endemic\", IF($K94>1, IF($K94=4, \"Unknown\", IF($K94=99, \"Surveillance\", SUM($S94:$U94))), 0),\"Not required\")","v":0},0,1,0,0,null,null,null,null,null,null,null,10757,"Lamé",1,2,0]
[{"$f":"IF(INTRO!$E$33<>0,INTRO!$E$33, \" \")","v":"Tchad"},"Mayo Kebbi Ouest","Lere",118906,{"$f":"IF(INTRO!$E$48=\"\",\"\",ROUND($D95*INTRO!$E$48,0))","v":17432},{"$f":"IF(INTRO!$E$49=\"\",\"\",ROUND($D95*INTRO!$E$49,0))","v":34400},{"$f":"IF(INTRO!$E$50=\"\",\"\",ROUND($D95*INTRO!$E$50,0))","v":62235},0,1,1,3,0,{"$f":"IF(INTRO!$E$37=\"Endemic\",IF($H95>0,IF($H95=4,\"Unknown\",IF($H95=99,\"Stopped\",$D95)),0),\"Not required\")","v":0},{"$f":"IF(INTRO!$E$39=\"Endemic\", IF($I95>0, IF($I95=4,\"Unknown\",IF($I95=99,\"Stopped\",$D95)), 0),\"Not required\")","v":118906},{"$f":"IF(INTRO!$E$41=\"Endemic\", IF($J95>1, IF($J95=4, \"Unknown\", IF($J95=99, \"Surveillance\", E95)), 0),\"Not required\")","v":0},{"$f":"IF(INTRO!$E$41=\"Endemic\", IF($J95>1, IF($J95=4, \"Unknown\", IF($J95=99, \"Surveillance\", F95)), 0),\"Not required\")","v":0},{"$f":"IF(INTRO!$E$41=\"Endemic\", IF($J95>1, IF($J95=4, \"Unknown\", IF($J95=99, \"Surveillance\", ROUND(D95*INTRO!$E$51,0))), 0),\"Not required\")","v":0},{"$f":"IF(INTRO!$E$41=\"Endemic\", IF($J95>1, IF($J95=4, \"Unknown\", IF($J95=99, \"Surveillance\", SUM($O95:$Q95))), 0),\"Not required\")","v":0},4368,11729,21220,{"$f":"IF(INTRO!$E$43=\"Endemic\", IF($K95>1, IF($K95=4, \"Unknown\", IF($K95=99, \"Surveillance\", SUM($S95:$U95))), 0),\"Not required\")","v":37317},0,1,0,1,null,null,null,null,null,null,null,10715,"Lere",3,3,1]
[{"$f":"IF(INTRO!$E$33<>0,INTRO!$E$33, \" \")","v":"Tchad"},"Mayo Kebbi Ouest","Pala",181886,{"$f":"IF(INTRO!$E$48=\"\",\"\",ROUND($D96*INTRO!$E$48,0))","v":26664},{"$f":"IF(INTRO!$E$49=\"\",\"\",ROUND($D96*INTRO!$E$49,0))","v":52620},{"$f":"IF(INTRO!$E$50=\"\",\"\",ROUND($D96*INTRO!$E$50,0))","v":95199},0,1,1,2,0,{"$f":"IF(INTRO!$E$37=\"Endemic\",IF($H96>0,IF($H96=4,\"Unknown\",IF($H96=99,\"Stopped\",$D96)),0),\"Not required\")","v":0},{"$f":"IF(INTRO!$E$39=\"Endemic\", IF($I96>0, IF($I96=4,\"Unknown\",IF($I96=99,\"Stopped\",$D96)), 0),\"Not required\")","v":181886},{"$f":"IF(INTRO!$E$41=\"Endemic\", IF($J96>1, IF($J96=4, \"Unknown\", IF($J96=99, \"Surveillance\", E96)), 0),\"Not required\")","v":0},{"$f":"IF(INTRO!$E$41=\"Endemic\", IF($J96>1, IF($J96=4, \"Unknown\", IF($J96=99, \"Surveillance\", F96)), 0),\"Not required\")","v":0},{"$f":"IF(INTRO!$E$41=\"Endemic\", IF($J96>1, IF($J96=4, \"Unknown\", IF($J96=99, \"Surveillance\", ROUND(D96*INTRO!$E$51,0))), 0),\"Not required\")","v":0},{"$f":"IF(INTRO!$E$41=\"Endemic\", IF($J96>1, IF($J96=4, \"Unknown\", IF($J96=99, \"Surveillance\", SUM($O96:$Q96))), 0),\"Not required\")","v":0},5786,15535,28106,{"$f":"IF(INTRO!$E$43=\"Endemic\", IF($K96>1, IF($K96=4, \"Unknown\", IF($K96=99, \"Surveillance\", SUM($S96:$U96))), 0),\"Not required\")","v":49427},0,1,0,1,null,null,null,null,null,null,null,10716,"Pala",2,2,1]
[{"$f":"IF(INTRO!$E$33<>0,INTRO!$E$33, \" \")","v":"Tchad"},"Mayo Kebbi Ouest","Torrock",85766,{"$f":"IF(INTRO!$E$48=\"\",\"\",ROUND($D97*INTRO!$E$48,0))","v":12573},{"$f":"IF(INTRO!$E$49=\"\",\"\",ROUND($D97*INTRO!$E$49,0))","v":24812},{"$f":"IF(INTRO!$E$50=\"\",\"\",ROUND($D97*INTRO!$E$50,0))","v":44890},0,1,1,1,0,{"$f":"IF(INTRO!$E$37=\"Endemic\",IF($H97>0,IF($H97=4,\"Unknown\",IF($H97=99,\"Stopped\",$D97)),0),\"Not required\")","v":0},{"$f":"IF(INTRO!$E$39=\"Endemic\", IF($I97>0, IF($I97=4,\"Unknown\",IF($I97=99,\"Stopped\",$D97)), 0),\"Not required\")","v":85766},{"$f":"IF(INTRO!$E$41=\"Endemic\", IF($J97>1, IF($J97=4, \"Unknown\", IF($J97=99, \"Surveillance\", E97)), 0),\"Not required\")","v":0},{"$f":"IF(INTRO!$E$41=\"Endemic\", IF($J97>1, IF($J97=4, \"Unknown\", IF($J97=99, \"Surveillance\", F97)), 0),\"Not required\")","v":0},{"$f":"IF(INTRO!$E$41=\"Endemic\", IF($J97>1, IF($J97=4, \"Unknown\", IF($J97=99, \"Surveillance\", ROUND(D97*INTRO!$E$51,0))), 0),\"Not required\")","v":0},{"$f":"IF(INTRO!$E$41=\"Endemic\", IF($J97>1, IF($J97=4, \"Unknown\", IF($J97=99, \"Surveillance\", SUM($O97:$Q97))), 0),\"Not required\")","v":0},0,0,0,{"$f":"IF(INTRO!$E$43=\"Endemic\", IF($K97>1, IF($K97=4, \"Unknown\", IF($K97=99, \"Surveillance\", SUM($S97:$U97))), 0),\"Not required\")","v":0},0,1,0,0,null,null,null,null,null,null,null,10758,"Torrock",1,2,0]
[{"$f":"IF(INTRO!$E$33<>0,INTRO!$E$33, \" \")","v":"Tchad"},"Moyen Chari","Balimba",68763,{"$f":"IF(INTRO!$E$48=\"\",\"\",ROUND($D98*INTRO!$E$48,0))","v":10081},{"$f":"IF(INTRO!$E$49=\"\",\"\",ROUND($D98*INTRO!$E$49,0))","v":19893},{"$f":"IF(INTRO!$E$50=\"\",\"\",ROUND($D98*INTRO!$E$50,0))","v":35991},1,1,2,1,0,{"$f":"IF(INTRO!$E$37=\"Endemic\",IF($H98>0,IF($H98=4,\"Unknown\",IF($H98=99,\"Stopped\",$D98)),0),\"Not required\")","v":68763},{"$f":"IF(INTRO!$E$39=\"Endemic\", IF($I98>0, IF($I98=4,\"Unknown\",IF($I98=99,\"Stopped\",$D98)), 0),\"Not required\")","v":68763},{"$f":"IF(INTRO!$E$41=\"Endemic\", IF($J98>1, IF($J98=4, \"Unknown\", IF($J98=99, \"Surveillance\", E98)), 0),\"Not required\")","v":10081},{"$f":"IF(INTRO!$E$41=\"Endemic\", IF($J98>1, IF($J98=4, \"Unknown\", IF($J98=99, \"Surveillance\", F98)), 0),\"Not required\")","v":19893},{"$f":"IF(INTRO!$E$41=\"Endemic\", IF($J98>1, IF($J98=4, \"Unknown\", IF($J98=99, \"Surveillance\", ROUND(D98*INTRO!$E$51,0))), 0),\"Not required\")","v":15257},{"$f":"IF(INTRO!$E$41=\"Endemic\", IF($J98>1, IF($J98=4, \"Unknown\", IF($J98=99, \"Surveillance\", SUM($O98:$Q98))), 0),\"Not required\")","v":45231},0,0,0,{"$f":"IF(INTRO!$E$43=\"Endemic\", IF($K98>1, IF($K98=4, \"Unknown\", IF($K98=99, \"Surveillance\", SUM($S98:$U98))), 0),\"Not required\")","v":0},1,1,1,0,null,null,null,null,null,null,null,10780,"Balimba",1,2,1]
[{"$f":"IF(INTRO!$E$33<>0,INTRO!$E$33, \" \")","v":"Tchad"},"Moyen Chari","Biobe Singako",109356,{"$f":"IF(INTRO!$E$48=\"\",\"\",ROUND($D99*INTRO!$E$48,0))","v":16032},{"$f":"IF(INTRO!$E$49=\"\",\"\",ROUND($D99*INTRO!$E$49,0))","v":31637},{"$f":"IF(INTRO!$E$50=\"\",\"\",ROUND($D99*INTRO!$E$50,0))","v":57237},19,1,1,3,0,{"$f":"IF(INTRO!$E$37=\"Endemic\",IF($H99>0,IF($H99=4,\"Unknown\",IF($H99=99,\"Stopped\",$D99)),0),\"Not required\")","v":109356},{"$f":"IF(INTRO!$E$39=\"Endemic\", IF($I99>0, IF($I99=4,\"Unknown\",IF($I99=99,\"Stopped\",$D99)), 0),\"Not required\")","v":109356},{"$f":"IF(INTRO!$E$41=\"Endemic\", IF($J99>1, IF($J99=4, \"Unknown\", IF($J99=99, \"Surveillance\", E99)), 0),\"Not required\")","v":0},{"$f":"IF(INTRO!$E$41=\"Endemic\", IF($J99>1, IF($J99=4, \"Unknown\", IF($J99=99, \"Surveillance\", F99)), 0),\"Not required\")","v":0},{"$f":"IF(INTRO!$E$41=\"Endemic\", IF($J99>1, IF($J99=4, \"Unknown\", IF($J99=99, \"Surveillance\", ROUND(D99*INTRO!$E$51,0))), 0),\"Not required\")","v":0},{"$f":"IF(INTRO!$E$41=\"Endemic\", IF($J99>1, IF($J99=4, \"Unknown\", IF($J99=99, \"Surveillance\", SUM($O99:$Q99))), 0),\"Not required\")","v":0},1940,5207,9422,{"$f":"IF(INTRO!$E$43=\"Endemic\", IF($K99>1, IF($K99=4, \"Unknown\", IF($K99=99, \"Surveillance\", SUM($S99:$U99))), 0),\"Not required\")","v":16569},0,1,0,1,"TAS",null,null,null,null,null,null,10717,"Biobe Singako",3,2,1]
[{"$f":"IF(INTRO!$E$33<>0,INTRO!$E$33, \" \")","v":"Tchad"},"Moyen Chari","Danamadji",133741,{"$f":"IF(INTRO!$E$48=\"\",\"\",ROUND($D100*INTRO!$E$48,0))","v":19606},{"$f":"IF(INTRO!$E$49=\"\",\"\",ROUND($D100*INTRO!$E$49,0))","v":38691},{"$f":"IF(INTRO!$E$50=\"\",\"\",ROUND($D100*INTRO!$E$50,0))","v":70000},1,1,1,2,0,{"$f":"IF(INTRO!$E$37=\"Endemic\",IF($H100>0,IF($H100=4,\"Unknown\",IF($H100=99,\"Stopped\",$D100)),0),\"Not required\")","v":133741},{"$f":"IF(INTRO!$E$39=\"Endemic\", IF($I100>0, IF($I100=4,\"Unknown\",IF($I100=99,\"Stopped\",$D100)), 0),\"Not required\")","v":133741},{"$f":"IF(INTRO!$E$41=\"Endemic\", IF($J100>1, IF($J100=4, \"Unknown\", IF($J100=99, \"Surveillance\", E100)), 0),\"Not required\")","v":0},{"$f":"IF(INTRO!$E$41=\"Endemic\", IF($J100>1, IF($J100=4, \"Unknown\", IF($J100=99, \"Surveillance\", F100)), 0),\"Not required\")","v":0},{"$f":"IF(INTRO!$E$41=\"Endemic\", IF($J100>1, IF($J100=4, \"Unknown\", IF($J100=99, \"Surveillance\", ROUND(D100*INTRO!$E$51,0))), 0),\"Not required\")","v":0},{"$f":"IF(INTRO!$E$41=\"Endemic\", IF($J100>1, IF($J100=4, \"Unknown\", IF($J100=99, \"Surveillance\", SUM($O100:$Q100))), 0),\"Not required\")","v":0},3012,8086,14630,{"$f":"IF(INTRO!$E$43=\"Endemic\", IF($K100>1, IF($K100=4, \"Unknown\", IF($K100=99, \"Surveillance\", SUM($S100:$U100))), 0),\"Not required\")","v":25728},1,1,0,1,null,null,null,null,null,null,null,10718,"Danamadji",2,1,1]
[{"$f":"IF(INTRO!$E$33<>0,INTRO!$E$33, \" \")","v":"Tchad"},"Moyen Chari","Korbol",55289,{"$f":"IF(INTRO!$E$48=\"\",\"\",ROUND($D101*INTRO!$E$48,0))","v":8105},{"$f":"IF(INTRO!$E$49=\"\",\"\",ROUND($D101*INTRO!$E$49,0))","v":15995},{"$f":"IF(INTRO!$E$50=\"\",\"\",ROUND($D101*INTRO!$E$50,0))","v":28938},1,1,2,1,0,{"$f":"IF(INTRO!$E$37=\"Endemic\",IF($H101>0,IF($H101=4,\"Unknown\",IF($H101=99,\"Stopped\",$D101)),0),\"Not required\")","v":55289},{"$f":"IF(INTRO!$E$39=\"Endemic\", IF($I101>0, IF($I101=4,\"Unknown\",IF($I101=99,\"Stopped\",$D101)), 0),\"Not required\")","v":55289},{"$f":"IF(INTRO!$E$41=\"Endemic\", IF($J101>1, IF($J101=4, \"Unknown\", IF($J101=99, \"Surveillance\", E101)), 0),\"Not required\")","v":8105},{"$f":"IF(INTRO!$E$41=\"Endemic\", IF($J101>1, IF($J101=4, \"Unknown\", IF($J101=99, \"Surveillance\", F101)), 0),\"Not required\")","v":15995},{"$f":"IF(INTRO!$E$41=\"Endemic\", IF($J101>1, IF($J101=4, \"Unknown\", IF($J101=99, \"Surveillance\", ROUND(D101*INTRO!$E$51,0))), 0),\"Not required\")","v":12268},{"$f":"IF(INTRO!$E$41=\"Endemic\", IF($J101>1, IF($J101=4, \"Unknown\", IF($J101=99, \"Surveillance\", SUM($O101:$Q101))), 0),\"Not required\")","v":36368},0,0,0,{"$f":"IF(INTRO!$E$43=\"Endemic\", IF($K101>1, IF($K101=4, \"Unknown\", IF($K101=99, \"Surveillance\", SUM($S101:$U101))), 0),\"Not required\")","v":0},1,1,1,0,null,null,null,null,null,null,null,10773,"Korbol",1,2,1]
[{"$f":"IF(INTRO!$E$33<>0,INTRO!$E$33, \" \")","v":"Tchad"},"Moyen Chari","Koumogo",97461,{"$f":"IF(INTRO!$E$48=\"\",\"\",ROUND($D102*INTRO!$E$48,0))","v":14288},{"$f":"IF(INTRO!$E$49=\"\",\"\",ROUND($D102*INTRO!$E$49,0))","v":28195},{"$f":"IF(INTRO!$E$50=\"\",\"\",ROUND($D102*INTRO!$E$50,0))","v":51011},1,1,1,1,0,{"$f":"IF(INTRO!$E$37=\"Endemic\",IF($H102>0,IF($H102=4,\"Unknown\",IF($H102=99,\"Stopped\",$D102)),0),\"Not required\")","v":97461},{"$f":"IF(INTRO!$E$39=\"Endemic\", IF($I102>0, IF($I102=4,\"Unknown\",IF($I102=99,\"Stopped\",$D102)), 0),\"Not required\")","v":97461},{"$f":"IF(INTRO!$E$41=\"Endemic\", IF($J102>1, IF($J102=4, \"Unknown\", IF($J102=99, \"Surveillance\", E102)), 0),\"Not required\")","v":0},{"$f":"IF(INTRO!$E$41=\"Endemic\", IF($J102>1, IF($J102=4, \"Unknown\", IF($J102=99, \"Surveillance\", F102)), 0),\"Not required\")","v":0},{"$f":"IF(INTRO!$E$41=\"Endemic\", IF($J102>1, IF($J102=4, \"Unknown\", IF($J102=99, \"Surveillance\", ROUND(D102*INTRO!$E$51,0))), 0),\"Not required\")","v":0},{"$f":"IF(INTRO!$E$41=\"Endemic\", IF($J102>1, IF($J102=4, \"Unknown\", IF($J102=99, \"Surveillance\", SUM($O102:$Q102))), 0),\"Not required\")","v":0},0,0,0,{"$f":"IF(INTRO!$E$43=\"Endemic\", IF($K102>1, IF($K102=4, \"Unknown\", IF($K102=99, \"Surveillance\", SUM($S102:$U102))), 0),\"Not required\")","v":0},1,1,0,0,null,null,null,null,null,null,null,10781,"Koumogo",1,2,1]
[{"$f":"IF(INTRO!$E$33<>0,INTRO!$E$33, \" \")","v":"Tchad"},"Moyen Chari","Kyabe",177262,{"$f":"IF(INTRO!$E$48=\"\",\"\",ROUND($D103*INTRO!$E$48,0))","v":25987},{"$f":"IF(INTRO!$E$49=\"\",\"\",ROUND($D103*INTRO!$E$49,0))","v":51282},{"$f":"IF(INTRO!$E$50=\"\",\"\",ROUND($D103*INTRO!$E$50,0))","v":92779},19,1,1,2,0,{"$f":"IF(INTRO!$E$37=\"Endemic\",IF($H103>0,IF($H103=4,\"Unknown\",IF($H103=99,\"Stopped\",$D103)),0),\"Not required\")","v":177262},{"$f":"IF(INTRO!$E$39=\"Endemic\", IF($I103>0, IF($I103=4,\"Unknown\",IF($I103=99,\"Stopped\",$D103)), 0),\"Not required\")","v":177262},{"$f":"IF(INTRO!$E$41=\"Endemic\", IF($J103>1, IF($J103=4, \"Unknown\", IF($J103=99, \"Surveillance\", E103)), 0),\"Not required\")","v":0},{"$f":"IF(INTRO!$E$41=\"Endemic\", IF($J103>1, IF($J103=4, \"Unknown\", IF($J103=99, \"Surveillance\", F103)), 0),\"Not required\")","v":0},{"$f":"IF(INTRO!$E$41=\"Endemic\", IF($J103>1, IF($J103=4, \"Unknown\", IF($J103=99, \"Surveillance\", ROUND(D103*INTRO!$E$51,0))), 0),\"Not required\")","v":0},{"$f":"IF(INTRO!$E$41=\"Endemic\", IF($J103>1, IF($J103=4, \"Unknown\", IF($J103=99, \"Surveillance\", SUM($O103:$Q103))), 0),\"Not required\")","v":0},1806,4848,8771,{"$f":"IF(INTRO!$E$43=\"Endemic\", IF($K103>1, IF($K103=4, \"Unknown\", IF($K103=99, \"Surveillance\", SUM($S103:$U103))), 0),\"Not required\")","v":15425},0,1,0,1,"TAS",null,null,null,null,null,null,10719,"Kyabe",2,2,0]
[{"$f":"IF(INTRO!$E$33<>0,INTRO!$E$33, \" \")","v":"Tchad"},"Moyen Chari","Maro",130242,{"$f":"IF(INTRO!$E$48=\"\",\"\",ROUND($D104*INTRO!$E$48,0))","v":19093},{"$f":"IF(INTRO!$E$49=\"\",\"\",ROUND($D104*INTRO!$E$49,0))","v":37679},{"$f":"IF(INTRO!$E$50=\"\",\"\",ROUND($D104*INTRO!$E$50,0))","v":68169},1,1,1,1,0,{"$f":"IF(INTRO!$E$37=\"Endemic\",IF($H104>0,IF($H104=4,\"Unknown\",IF($H104=99,\"Stopped\",$D104)),0),\"Not required\")","v":130242},{"$f":"IF(INTRO!$E$39=\"Endemic\", IF($I104>0, IF($I104=4,\"Unknown\",IF($I104=99,\"Stopped\",$D104)), 0),\"Not required\")","v":130242},{"$f":"IF(INTRO!$E$41=\"Endemic\", IF($J104>1, IF($J104=4, \"Unknown\", IF($J104=99, \"Surveillance\", E104)), 0),\"Not required\")","v":0},{"$f":"IF(INTRO!$E$41=\"Endemic\", IF($J104>1, IF($J104=4, \"Unknown\", IF($J104=99, \"Surveillance\", F104)), 0),\"Not required\")","v":0},{"$f":"IF(INTRO!$E$41=\"Endemic\", IF($J104>1, IF($J104=4, \"Unknown\", IF($J104=99, \"Surveillance\", ROUND(D104*INTRO!$E$51,0))), 0),\"Not required\")","v":0},{"$f":"IF(INTRO!$E$41=\"Endemic\", IF($J104>1, IF($J104=4, \"Unknown\", IF($J104=99, \"Surveillance\", SUM($O104:$Q104))), 0),\"Not required\")","v":0},0,0,0,{"$f":"IF(INTRO!$E$43=\"Endemic\", IF($K104>1, IF($K104=4, \"Unknown\", IF($K104=99, \"Surveillance\", SUM($S104:$U104))), 0),\"Not required\")","v":0},1,1,0,0,null,null,null,null,null,null,null,10774,"Maro",1,1,1]
[{"$f":"IF(INTRO!$E$33<>0,INTRO!$E$33, \" \")","v":"Tchad"},"Moyen Chari","Sarh",227309,{"$f":"IF(INTRO!$E$48=\"\",\"\",ROUND($D105*INTRO!$E$48,0))","v":33323},{"$f":"IF(INTRO!$E$49=\"\",\"\",ROUND($D105*INTRO!$E$49,0))","v":65760},{"$f":"IF(INTRO!$E$50=\"\",\"\",ROUND($D105*INTRO!$E$50,0))","v":118974},19,1,2,2,0,{"$f":"IF(INTRO!$E$37=\"Endemic\",IF($H105>0,IF($H105=4,\"Unknown\",IF($H105=99,\"Stopped\",$D105)),0),\"Not required\")","v":227309},{"$f":"IF(INTRO!$E$39=\"Endemic\", IF($I105>0, IF($I105=4,\"Unknown\",IF($I105=99,\"Stopped\",$D105)), 0),\"Not required\")","v":227309},{"$f":"IF(INTRO!$E$41=\"Endemic\", IF($J105>1, IF($J105=4, \"Unknown\", IF($J105=99, \"Surveillance\", E105)), 0),\"Not required\")","v":33323},{"$f":"IF(INTRO!$E$41=\"Endemic\", IF($J105>1, IF($J105=4, \"Unknown\", IF($J105=99, \"Surveillance\", F105)), 0),\"Not required\")","v":65760},{"$f":"IF(INTRO!$E$41=\"Endemic\", IF($J105>1, IF($J105=4, \"Unknown\", IF($J105=99, \"Surveillance\", ROUND(D105*INTRO!$E$51,0))), 0),\"Not required\")","v":50436},{"$f":"IF(INTRO!$E$41=\"Endemic\", IF($J105>1, IF($J105=4, \"Unknown\", IF($J105=99, \"Surveillance\", SUM($O105:$Q105))), 0),\"Not required\")","v":149519},4311,11572,20937,{"$f":"IF(INTRO!$E$43=\"Endemic\", IF($K105>1, IF($K105=4, \"Unknown\", IF($K105=99, \"Surveillance\", SUM($S105:$U105))), 0),\"Not required\")","v":36820},0,1,1,1,"TAS",null,null,null,null,null,null,10720,"Sarh",2,2,1]
[{"$f":"IF(INTRO!$E$33<>0,INTRO!$E$33, \" \")","v":"Tchad"},"N'Djaména","N'Djaména Centre",479851,{"$f":"IF(INTRO!$E$48=\"\",\"\",ROUND($D106*INTRO!$E$48,0))","v":70346},{"$f":"IF(INTRO!$E$49=\"\",\"\",ROUND($D106*INTRO!$E$49,0))","v":138821},{"$f":"IF(INTRO!$E$50=\"\",\"\",ROUND($D106*INTRO!$E$50,0))","v":251154},0,0,1,1,0,{"$f":"IF(INTRO!$E$37=\"Endemic\",IF($H106>0,IF($H106=4,\"Unknown\",IF($H106=99,\"Stopped\",$D106)),0),\"Not required\")","v":0},{"$f":"IF(INTRO!$E$39=\"Endemic\", IF($I106>0, IF($I106=4,\"Unknown\",IF($I106=99,\"Stopped\",$D106)), 0),\"Not required\")","v":0},{"$f":"IF(INTRO!$E$41=\"Endemic\", IF($J106>1, IF($J106=4, \"Unknown\", IF($J106=99, \"Surveillance\", E106)), 0),\"Not required\")","v":0},{"$f":"IF(INTRO!$E$41=\"Endemic\", IF($J106>1, IF($J106=4, \"Unknown\", IF($J106=99, \"Surveillance\", F106)), 0),\"Not required\")","v":0},{"$f":"IF(INTRO!$E$41=\"Endemic\", IF($J106>1, IF($J106=4, \"Unknown\", IF($J106=99, \"Surveillance\", ROUND(D106*INTRO!$E$51,0))), 0),\"Not required\")","v":0},{"$f":"IF(INTRO!$E$41=\"Endemic\", IF($J106>1, IF($J106=4, \"Unknown\", IF($J106=99, \"Surveillance\", SUM($O106:$Q106))), 0),\"Not required\")","v":0},0,0,0,{"$f":"IF(INTRO!$E$43=\"Endemic\", IF($K106>1, IF($K106=4, \"Unknown\", IF($K106=99, \"Surveillance\", SUM($S106:$U106))), 0),\"Not required\")","v":0},0,0,0,0,null,null,null,null,null,null,null,10721,"N'Djaména Centre",1,1,0]
[{"$f":"IF(INTRO!$E$33<>0,INTRO!$E$33, \" \")","v":"Tchad"},"N'Djaména","N'Djaména Est",468974,{"$f":"IF(INTRO!$E$48=\"\",\"\",ROUND($D107*INTRO!$E$48,0))","v":68752},{"$f":"IF(INTRO!$E$49=\"\",\"\",ROUND($D107*INTRO!$E$49,0))","v":135674},{"$f":"IF(INTRO!$E$50=\"\",\"\",ROUND($D107*INTRO!$E$50,0))","v":245461},0,0,0,2,0,{"$f":"IF(INTRO!$E$37=\"Endemic\",IF($H107>0,IF($H107=4,\"Unknown\",IF($H107=99,\"Stopped\",$D107)),0),\"Not required\")","v":0},{"$f":"IF(INTRO!$E$39=\"Endemic\", IF($I107>0, IF($I107=4,\"Unknown\",IF($I107=99,\"Stopped\",$D107)), 0),\"Not required\")","v":0},{"$f":"IF(INTRO!$E$41=\"Endemic\", IF($J107>1, IF($J107=4, \"Unknown\", IF($J107=99, \"Surveillance\", E107)), 0),\"Not required\")","v":0},{"$f":"IF(INTRO!$E$41=\"Endemic\", IF($J107>1, IF($J107=4, \"Unknown\", IF($J107=99, \"Surveillance\", F107)), 0),\"Not required\")","v":0},{"$f":"IF(INTRO!$E$41=\"Endemic\", IF($J107>1, IF($J107=4, \"Unknown\", IF($J107=99, \"Surveillance\", ROUND(D107*INTRO!$E$51,0))), 0),\"Not required\")","v":0},{"$f":"IF(INTRO!$E$41=\"Endemic\", IF($J107>1, IF($J107=4, \"Unknown\", IF($J107=99, \"Surveillance\", SUM($O107:$Q107))), 0),\"Not required\")","v":0},3049,8185,14809,{"$f":"IF(INTRO!$E$43=\"Endemic\", IF($K107>1, IF($K107=4, \"Unknown\", IF($K107=99, \"Surveillance\", SUM($S107:$U107))), 0),\"Not required\")","v":26043},0,0,0,1,null,null,null,null,null,null,null,10722,"N'Djaména Est",2,1,0]
[{"$f":"IF(INTRO!$E$33<>0,INTRO!$E$33, \" \")","v":"Tchad"},"N'Djaména","N'Djaména Nord",210136,{"$f":"IF(INTRO!$E$48=\"\",\"\",ROUND($D108*INTRO!$E$48,0))","v":30806},{"$f":"IF(INTRO!$E$49=\"\",\"\",ROUND($D108*INTRO!$E$49,0))","v":60792},{"$f":"IF(INTRO!$E$50=\"\",\"\",ROUND($D108*INTRO!$E$50,0))","v":109985},0,0,0,1,0,{"$f":"IF(INTRO!$E$37=\"Endemic\",IF($H108>0,IF($H108=4,\"Unknown\",IF($H108=99,\"Stopped\",$D108)),0),\"Not required\")","v":0},{"$f":"IF(INTRO!$E$39=\"Endemic\", IF($I108>0, IF($I108=4,\"Unknown\",IF($I108=99,\"Stopped\",$D108)), 0),\"Not required\")","v":0},{"$f":"IF(INTRO!$E$41=\"Endemic\", IF($J108>1, IF($J108=4, \"Unknown\", IF($J108=99, \"Surveillance\", E108)), 0),\"Not required\")","v":0},{"$f":"IF(INTRO!$E$41=\"Endemic\", IF($J108>1, IF($J108=4, \"Unknown\", IF($J108=99, \"Surveillance\", F108)), 0),\"Not required\")","v":0},{"$f":"IF(INTRO!$E$41=\"Endemic\", IF($J108>1, IF($J108=4, \"Unknown\", IF($J108=99, \"Surveillance\", ROUND(D108*INTRO!$E$51,0))), 0),\"Not required\")","v":0},{"$f":"IF(INTRO!$E$41=\"Endemic\", IF($J108>1, IF($J108=4, \"Unknown\", IF($J108=99, \"Surveillance\", SUM($O108:$Q108))), 0),\"Not required\")","v":0},0,0,0,{"$f":"IF(INTRO!$E$43=\"Endemic\", IF($K108>1, IF($K108=4, \"Unknown\", IF($K108=99, \"Surveillance\", SUM($S108:$U108))), 0),\"Not required\")","v":0},0,0,0,0,null,null,null,null,null,null,null,10723,"N'Djaména Nord",1,1,0]
[{"$f":"IF(INTRO!$E$33<>0,INTRO!$E$33, \" \")","v":"Tchad"},"N'Djaména","N'Djaména Sud",505687,{"$f":"IF(INTRO!$E$48=\"\",\"\",ROUND($D109*INTRO!$E$48,0))","v":74134},{"$f":"IF(INTRO!$E$49=\"\",\"\",ROUND($D109*INTRO!$E$49,0))","v":146295},{"$f":"IF(INTRO!$E$50=\"\",\"\",ROUND($D109*INTRO!$E$50,0))","v":264677},0,0,1,1,0,{"$f":"IF(INTRO!$E$37=\"Endemic\",IF($H109>0,IF($H109=4,\"Unknown\",IF($H109=99,\"Stopped\",$D109)),0),\"Not required\")","v":0},{"$f":"IF(INTRO!$E$39=\"Endemic\", IF($I109>0, IF($I109=4,\"Unknown\",IF($I109=99,\"Stopped\",$D109)), 0),\"Not required\")","v":0},{"$f":"IF(INTRO!$E$41=\"Endemic\", IF($J109>1, IF($J109=4, \"Unknown\", IF($J109=99, \"Surveillance\", E109)), 0),\"Not required\")","v":0},{"$f":"IF(INTRO!$E$41=\"Endemic\", IF($J109>1, IF($J109=4, \"Unknown\", IF($J109=99, \"Surveillance\", F109)), 0),\"Not required\")","v":0},{"$f":"IF(INTRO!$E$41=\"Endemic\", IF($J109>1, IF($J109=4, \"Unknown\", IF($J109=99, \"Surveillance\", ROUND(D109*INTRO!$E$51,0))), 0),\"Not required\")","v":0},{"$f":"IF(INTRO!$E$41=\"Endemic\", IF($J109>1, IF($J109=4, \"Unknown\", IF($J109=99, \"Surveillance\", SUM($O109:$Q109))), 0),\"Not required\")","v":0},0,0,0,{"$f":"IF(INTRO!$E$43=\"Endemic\", IF($K109>1, IF($K109=4, \"Unknown\", IF($K109=99, \"Surveillance\", SUM($S109:$U109))), 0),\"Not required\")","v":0},0,0,0,0,null,null,null,null,null,null,null,10724,"N'Djaména Sud",1,1,0]
[{"$f":"IF(INTRO!$E$33<>0,INTRO!$E$33, \" \")","v":"Tchad"},"N'Djamena","9eme Arrondissement",180248,{"$f":"IF(INTRO!$E$48=\"\",\"\",ROUND($D110*INTRO!$E$48,0))","v":26424},{"$f":"IF(INTRO!$E$49=\"\",\"\",ROUND($D110*INTRO!$E$49,0))","v":52146},{"$f":"IF(INTRO!$E$50=\"\",\"\",ROUND($D110*INTRO!$E$50,0))","v":94342},0,0,1,1,0,{"$f":"IF(INTRO!$E$37=\"Endemic\",IF($H110>0,IF($H110=4,\"Unknown\",IF($H110=99,\"Stopped\",$D110)),0),\"Not required\")","v":0},{"$f":"IF(INTRO!$E$39=\"Endemic\", IF($I110>0, IF($I110=4,\"Unknown\",IF($I110=99,\"Stopped\",$D110)), 0),\"Not required\")","v":0},{"$f":"IF(INTRO!$E$41=\"Endemic\", IF($J110>1, IF($J110=4, \"Unknown\", IF($J110=99, \"Surveillance\", E110)), 0),\"Not required\")","v":0},{"$f":"IF(INTRO!$E$41=\"Endemic\", IF($J110>1, IF($J110=4, \"Unknown\", IF($J110=99, \"Surveillance\", F110)), 0),\"Not required\")","v":0},{"$f":"IF(INTRO!$E$41=\"Endemic\", IF($J110>1, IF($J110=4, \"Unknown\", IF($J110=99, \"Surveillance\", ROUND(D110*INTRO!$E$51,0))), 0),\"Not required\")","v":0},{"$f":"IF(INTRO!$E$41=\"Endemic\", IF($J110>1, IF($J110=4, \"Unknown\", IF($J110=99, \"Surveillance\", SUM($O110:$Q110))), 0),\"Not required\")","v":0},0,0,0,{"$f":"IF(INTRO!$E$43=\"Endemic\", IF($K110>1, IF($K110=4, \"Unknown\", IF($K110=99, \"Surveillance\", SUM($S110:$U110))), 0),\"Not required\")","v":0},0,0,0,0,null,null,null,null,null,null,null,10789,"9eme Arrondissement",1,1,0]
[{"$f":"IF(INTRO!$E$33<>0,INTRO!$E$33, \" \")","v":"Tchad"},"Ouaddai","Abdi",490727,{"$f":"IF(INTRO!$E$48=\"\",\"\",ROUND($D111*INTRO!$E$48,0))","v":71941},{"$f":"IF(INTRO!$E$49=\"\",\"\",ROUND($D111*INTRO!$E$49,0))","v":141967},{"$f":"IF(INTRO!$E$50=\"\",\"\",ROUND($D111*INTRO!$E$50,0))","v":256847},0,0,1,2,0,{"$f":"IF(INTRO!$E$37=\"Endemic\",IF($H111>0,IF($H111=4,\"Unknown\",IF($H111=99,\"Stopped\",$D111)),0),\"Not required\")","v":0},{"$f":"IF(INTRO!$E$39=\"Endemic\", IF($I111>0, IF($I111=4,\"Unknown\",IF($I111=99,\"Stopped\",$D111)), 0),\"Not required\")","v":0},{"$f":"IF(INTRO!$E$41=\"Endemic\", IF($J111>1, IF($J111=4, \"Unknown\", IF($J111=99, \"Surveillance\", E111)), 0),\"Not required\")","v":0},{"$f":"IF(INTRO!$E$41=\"Endemic\", IF($J111>1, IF($J111=4, \"Unknown\", IF($J111=99, \"Surveillance\", F111)), 0),\"Not required\")","v":0},{"$f":"IF(INTRO!$E$41=\"Endemic\", IF($J111>1, IF($J111=4, \"Unknown\", IF($J111=99, \"Surveillance\", ROUND(D111*INTRO!$E$51,0))), 0),\"Not required\")","v":0},{"$f":"IF(INTRO!$E$41=\"Endemic\", IF($J111>1, IF($J111=4, \"Unknown\", IF($J111=99, \"Surveillance\", SUM($O111:$Q111))), 0),\"Not required\")","v":0},3204,8603,15564,{"$f":"IF(INTRO!$E$43=\"Endemic\", IF($K111>1, IF($K111=4, \"Unknown\", IF($K111=99, \"Surveillance\", SUM($S111:$U111))), 0),\"Not required\")","v":27371},0,0,0,1,null,null,null,null,null,null,null,10727,"Abdi",2,2,1]
[{"$f":"IF(INTRO!$E$33<>0,INTRO!$E$33, \" \")","v":"Tchad"},"Ouaddai","Abeche",126657,{"$f":"IF(INTRO!$E$48=\"\",\"\",ROUND($D112*INTRO!$E$48,0))","v":18568},{"$f":"IF(INTRO!$E$49=\"\",\"\",ROUND($D112*INTRO!$E$49,0))","v":36642},{"$f":"IF(INTRO!$E$50=\"\",\"\",ROUND($D112*INTRO!$E$50,0))","v":66292},0,0,1,3,0,{"$f":"IF(INTRO!$E$37=\"Endemic\",IF($H112>0,IF($H112=4,\"Unknown\",IF($H112=99,\"Stopped\",$D112)),0),\"Not required\")","v":0},{"$f":"IF(INTRO!$E$39=\"Endemic\", IF($I112>0, IF($I112=4,\"Unknown\",IF($I112=99,\"Stopped\",$D112)), 0),\"Not required\")","v":0},{"$f":"IF(INTRO!$E$41=\"Endemic\", IF($J112>1, IF($J112=4, \"Unknown\", IF($J112=99, \"Surveillance\", E112)), 0),\"Not required\")","v":0},{"$f":"IF(INTRO!$E$41=\"Endemic\", IF($J112>1, IF($J112=4, \"Unknown\", IF($J112=99, \"Surveillance\", F112)), 0),\"Not required\")","v":0},{"$f":"IF(INTRO!$E$41=\"Endemic\", IF($J112>1, IF($J112=4, \"Unknown\", IF($J112=99, \"Surveillance\", ROUND(D112*INTRO!$E$51,0))), 0),\"Not required\")","v":0},{"$f":"IF(INTRO!$E$41=\"Endemic\", IF($J112>1, IF($J112=4, \"Unknown\", IF($J112=99, \"Surveillance\", SUM($O112:$Q112))), 0),\"Not required\")","v":0},5325,14298,25867,{"$f":"IF(INTRO!$E$43=\"Endemic\", IF($K112>1, IF($K112=4, \"Unknown\", IF($K112=99, \"Surveillance\", SUM($S112:$U112))), 0),\"Not required\")","v":45490},0,0,0,1,null,null,null,null,null,null,null,10728,"Abeche",3,2,1]
[{"$f":"IF(INTRO!$E$33<>0,INTRO!$E$33, \" \")","v":"Tchad"},"Ouaddai","Abougoudam",492708,{"$f":"IF(INTRO!$E$48=\"\",\"\",ROUND($D113*INTRO!$E$48,0))","v":72231},{"$f":"IF(INTRO!$E$49=\"\",\"\",ROUND($D113*INTRO!$E$49,0))","v":142540},{"$f":"IF(INTRO!$E$50=\"\",\"\",ROUND($D113*INTRO!$E$50,0))","v":257883},0,0,0,1,0,{"$f":"IF(INTRO!$E$37=\"Endemic\",IF($H113>0,IF($H113=4,\"Unknown\",IF($H113=99,\"Stopped\",$D113)),0),\"Not required\")","v":0},{"$f":"IF(INTRO!$E$39=\"Endemic\", IF($I113>0, IF($I113=4,\"Unknown\",IF($I113=99,\"Stopped\",$D113)), 0),\"Not required\")","v":0},{"$f":"IF(INTRO!$E$41=\"Endemic\", IF($J113>1, IF($J113=4, \"Unknown\", IF($J113=99, \"Surveillance\", E113)), 0),\"Not required\")","v":0},{"$f":"IF(INTRO!$E$41=\"Endemic\", IF($J113>1, IF($J113=4, \"Unknown\", IF($J113=99, \"Surveillance\", F113)), 0),\"Not required\")","v":0},{"$f":"IF(INTRO!$E$41=\"Endemic\", IF($J113>1, IF($J113=4, \"Unknown\", IF($J113=99, \"Surveillance\", ROUND(D113*INTRO!$E$51,0))), 0),\"Not required\")","v":0},{"$f":"IF(INTRO!$E$41=\"Endemic\", IF($J113>1, IF($J113=4, \"Unknown\", IF($J113=99, \"Surveillance\", SUM($O113:$Q113))), 0),\"Not required\")","v":0},0,0,0,{"$f":"IF(INTRO!$E$43=\"Endemic\", IF($K113>1, IF($K113=4, \"Unknown\", IF($K113=99, \"Surveillance\", SUM($S113:$U113))), 0),\"Not required\")","v":0},0,0,0,0,null,null,null,null,null,null,null,10729,"Abougoudam",1,2,1]
[{"$f":"IF(INTRO!$E$33<>0,INTRO!$E$33, \" \")","v":"Tchad"},"Ouaddai","Adré",135346,{"$f":"IF(INTRO!$E$48=\"\",\"\",ROUND($D114*INTRO!$E$48,0))","v":19842},{"$f":"IF(INTRO!$E$49=\"\",\"\",ROUND($D114*INTRO!$E$49,0))","v":39156},{"$f":"IF(INTRO!$E$50=\"\",\"\",ROUND($D114*INTRO!$E$50,0))","v":70840},0,0,1,2,0,{"$f":"IF(INTRO!$E$37=\"Endemic\",IF($H114>0,IF($H114=4,\"Unknown\",IF($H114=99,\"Stopped\",$D114)),0),\"Not required\")","v":0},{"$f":"IF(INTRO!$E$39=\"Endemic\", IF($I114>0, IF($I114=4,\"Unknown\",IF($I114=99,\"Stopped\",$D114)), 0),\"Not required\")","v":0},{"$f":"IF(INTRO!$E$41=\"Endemic\", IF($J114>1, IF($J114=4, \"Unknown\", IF($J114=99, \"Surveillance\", E114)), 0),\"Not required\")","v":0},{"$f":"IF(INTRO!$E$41=\"Endemic\", IF($J114>1, IF($J114=4, \"Unknown\", IF($J114=99, \"Surveillance\", F114)), 0),\"Not required\")","v":0},{"$f":"IF(INTRO!$E$41=\"Endemic\", IF($J114>1, IF($J114=4, \"Unknown\", IF($J114=99, \"Surveillance\", ROUND(D114*INTRO!$E$51,0))), 0),\"Not required\")","v":0},{"$f":"IF(INTRO!$E$41=\"Endemic\", IF($J114>1, IF($J114=4, \"Unknown\", IF($J114=99, \"Surveillance\", SUM($O114:$Q114))), 0),\"Not required\")","v":0},4631,12433,22493,{"$f":"IF(INTRO!$E$43=\"Endemic\", IF($K114>1, IF($K114=4, \"Unknown\", IF($K114=99, \"Surveillance\", SUM($S114:$U114))), 0),\"Not required\")","v":39557},0,0,0,1,null,null,null,null,null,null,null,10730,"Adré",2,2,1]
[{"$f":"IF(INTRO!$E$33<>0,INTRO!$E$33, \" \")","v":"Tchad"},"Salamat","Aboudeia",113930,{"$f":"IF(INTRO!$E$48=\"\",\"\",ROUND($D115*INTRO!$E$48,0))","v":16702},{"$f":"IF(INTRO!$E$49=\"\",\"\",ROUND($D115*INTRO!$E$49,0))","v":32960},{"$f":"IF(INTRO!$E$50=\"\",\"\",ROUND($D115*INTRO!$E$50,0))","v":59631},0,4,2,3,0,{"$f":"IF(INTRO!$E$37=\"Endemic\",IF($H115>0,IF($H115=4,\"Unknown\",IF($H115=99,\"Stopped\",$D115)),0),\"Not required\")","v":0},{"$f":"IF(INTRO!$E$39=\"Endemic\", IF($I115>0, IF($I115=4,\"Unknown\",IF($I115=99,\"Stopped\",$D115)), 0),\"Not required\")","v":"Unknown"},{"$f":"IF(INTRO!$E$41=\"Endemic\", IF($J115>1, IF($J115=4, \"Unknown\", IF($J115=99, \"Surveillance\", E115)), 0),\"Not required\")","v":16702},{"$f":"IF(INTRO!$E$41=\"Endemic\", IF($J115>1, IF($J115=4, \"Unknown\", IF($J115=99, \"Surveillance\", F115)), 0),\"Not required\")","v":32960},{"$f":"IF(INTRO!$E$41=\"Endemic\", IF($J115>1, IF($J115=4, \"Unknown\", IF($J115=99, \"Surveillance\", ROUND(D115*INTRO!$E$51,0))), 0),\"Not required\")","v":25279},{"$f":"IF(INTRO!$E$41=\"Endemic\", IF($J115>1, IF($J115=4, \"Unknown\", IF($J115=99, \"Surveillance\", SUM($O115:$Q115))), 0),\"Not required\")","v":74941},4259,11434,20685,{"$f":"IF(INTRO!$E$43=\"Endemic\", IF($K115>1, IF($K115=4, \"Unknown\", IF($K115=99, \"Surveillance\", SUM($S115:$U115))), 0),\"Not required\")","v":36378},0,0,1,1,null,null,null,null,null,null,null,10731,"Aboudeia",3,3,1]
[{"$f":"IF(INTRO!$E$33<>0,INTRO!$E$33, \" \")","v":"Tchad"},"Salamat","Am-Timan",294958,{"$f":"IF(INTRO!$E$48=\"\",\"\",ROUND($D116*INTRO!$E$48,0))","v":43241},{"$f":"IF(INTRO!$E$49=\"\",\"\",ROUND($D116*INTRO!$E$49,0))","v":85331},{"$f":"IF(INTRO!$E$50=\"\",\"\",ROUND($D116*INTRO!$E$50,0))","v":154381},0,4,2,2,0,{"$f":"IF(INTRO!$E$37=\"Endemic\",IF($H116>0,IF($H116=4,\"Unknown\",IF($H116=99,\"Stopped\",$D116)),0),\"Not required\")","v":0},{"$f":"IF(INTRO!$E$39=\"Endemic\", IF($I116>0, IF($I116=4,\"Unknown\",IF($I116=99,\"Stopped\",$D116)), 0),\"Not required\")","v":"Unknown"},{"$f":"IF(INTRO!$E$41=\"Endemic\", IF($J116>1, IF($J116=4, \"Unknown\", IF($J116=99, \"Surveillance\", E116)), 0),\"Not required\")","v":43241},{"$f":"IF(INTRO!$E$41=\"Endemic\", IF($J116>1, IF($J116=4, \"Unknown\", IF($J116=99, \"Surveillance\", F116)), 0),\"Not required\")","v":85331},{"$f":"IF(INTRO!$E$41=\"Endemic\", IF($J116>1, IF($J116=4, \"Unknown\", IF($J116=99, \"Surveillance\", ROUND(D116*INTRO!$E$51,0))), 0),\"Not required\")","v":65447},{"$f":"IF(INTRO!$E$41=\"Endemic\", IF($J116>1, IF($J116=4, \"Unknown\", IF($J116=99, \"Surveillance\", SUM($O116:$Q116))), 0),\"Not required\")","v":194019},1855,4980,9009,{"$f":"IF(INTRO!$E$43=\"Endemic\", IF($K116>1, IF($K116=4, \"Unknown\", IF($K116=99, \"Surveillance\", SUM($S116:$U116))), 0),\"Not required\")","v":15844},0,0,1,1,null,null,null,null,null,null,null,10732,"Am-Timan",2,1,1]
[{"$f":"IF(INTRO!$E$33<>0,INTRO!$E$33, \" \")","v":"Tchad"},"Salamat","Haraze",104081,{"$f":"IF(INTRO!$E$48=\"\",\"\",ROUND($D117*INTRO!$E$48,0))","v":15258},{"$f":"IF(INTRO!$E$49=\"\",\"\",ROUND($D117*INTRO!$E$49,0))","v":30111},{"$f":"IF(INTRO!$E$50=\"\",\"\",ROUND($D117*INTRO!$E$50,0))","v":54476},0,4,1,2,0,{"$f":"IF(INTRO!$E$37=\"Endemic\",IF($H117>0,IF($H117=4,\"Unknown\",IF($H117=99,\"Stopped\",$D117)),0),\"Not required\")","v":0},{"$f":"IF(INTRO!$E$39=\"Endemic\", IF($I117>0, IF($I117=4,\"Unknown\",IF($I117=99,\"Stopped\",$D117)), 0),\"Not required\")","v":"Unknown"},{"$f":"IF(INTRO!$E$41=\"Endemic\", IF($J117>1, IF($J117=4, \"Unknown\", IF($J117=99, \"Surveillance\", E117)), 0),\"Not required\")","v":0},{"$f":"IF(INTRO!$E$41=\"Endemic\", IF($J117>1, IF($J117=4, \"Unknown\", IF($J117=99, \"Surveillance\", F117)), 0),\"Not required\")","v":0},{"$f":"IF(INTRO!$E$41=\"Endemic\", IF($J117>1, IF($J117=4, \"Unknown\", IF($J117=99, \"Surveillance\", ROUND(D117*INTRO!$E$51,0))), 0),\"Not required\")","v":0},{"$f":"IF(INTRO!$E$41=\"Endemic\", IF($J117>1, IF($J117=4, \"Unknown\", IF($J117=99, \"Surveillance\", SUM($O117:$Q117))), 0),\"Not required\")","v":0},3954,10614,19204,{"$f":"IF(INTRO!$E$43=\"Endemic\", IF($K117>1, IF($K117=4, \"Unknown\", IF($K117=99, \"Surveillance\", SUM($S117:$U117))), 0),\"Not required\")","v":33772},0,0,0,1,null,null,null,null,null,null,null,10733,"Haraze",2,2,0]
[{"$f":"IF(INTRO!$E$33<>0,INTRO!$E$33, \" \")","v":"Tchad"},"Sila","Am-dam",155900,{"$f":"IF(INTRO!$E$48=\"\",\"\",ROUND($D118*INTRO!$E$48,0))","v":22855},{"$f":"IF(INTRO!$E$49=\"\",\"\",ROUND($D118*INTRO!$E$49,0))","v":45102},{"$f":"IF(INTRO!$E$50=\"\",\"\",ROUND($D118*INTRO!$E$50,0))","v":81598},0,4,0,2,0,{"$f":"IF(INTRO!$E$37=\"Endemic\",IF($H118>0,IF($H118=4,\"Unknown\",IF($H118=99,\"Stopped\",$D118)),0),\"Not required\")","v":0},{"$f":"IF(INTRO!$E$39=\"Endemic\", IF($I118>0, IF($I118=4,\"Unknown\",IF($I118=99,\"Stopped\",$D118)), 0),\"Not required\")","v":"Unknown"},{"$f":"IF(INTRO!$E$41=\"Endemic\", IF($J118>1, IF($J118=4, \"Unknown\", IF($J118=99, \"Surveillance\", E118)), 0),\"Not required\")","v":0},{"$f":"IF(INTRO!$E$41=\"Endemic\", IF($J118>1, IF($J118=4, \"Unknown\", IF($J118=99, \"Surveillance\", F118)), 0),\"Not required\")","v":0},{"$f":"IF(INTRO!$E$41=\"Endemic\", IF($J118>1, IF($J118=4, \"Unknown\", IF($J118=99, \"Surveillance\", ROUND(D118*INTRO!$E$51,0))), 0),\"Not required\")","v":0},{"$f":"IF(INTRO!$E$41=\"Endemic\", IF($J118>1, IF($J118=4, \"Unknown\", IF($J118=99, \"Surveillance\", SUM($O118:$Q118))), 0),\"Not required\")","v":0},1947,5227,9459,{"$f":"IF(INTRO!$E$43=\"Endemic\", IF($K118>1, IF($K118=4, \"Unknown\", IF($K118=99, \"Surveillance\", SUM($S118:$U118))), 0),\"Not required\")","v":16633},0,0,0,1,null,null,null,null,null,null,null,10725,"Am-dam",2,2,1]
[{"$f":"IF(INTRO!$E$33<>0,INTRO!$E$33, \" \")","v":"Tchad"},"Sila","Goz-beida",295088,{"$f":"IF(INTRO!$E$48=\"\",\"\",ROUND($D119*INTRO!$E$48,0))","v":43260},{"$f":"IF(INTRO!$E$49=\"\",\"\",ROUND($D119*INTRO!$E$49,0))","v":85369},{"$f":"IF(INTRO!$E$50=\"\",\"\",ROUND($D119*INTRO!$E$50,0))","v":154449},0,4,1,2,0,{"$f":"IF(INTRO!$E$37=\"Endemic\",IF($H119>0,IF($H119=4,\"Unknown\",IF($H119=99,\"Stopped\",$D119)),0),\"Not required\")","v":0},{"$f":"IF(INTRO!$E$39=\"Endemic\", IF($I119>0, IF($I119=4,\"Unknown\",IF($I119=99,\"Stopped\",$D119)), 0),\"Not required\")","v":"Unknown"},{"$f":"IF(INTRO!$E$41=\"Endemic\", IF($J119>1, IF($J119=4, \"Unknown\", IF($J119=99, \"Surveillance\", E119)), 0),\"Not required\")","v":0},{"$f":"IF(INTRO!$E$41=\"Endemic\", IF($J119>1, IF($J119=4, \"Unknown\", IF($J119=99, \"Surveillance\", F119)), 0),\"Not required\")","v":0},{"$f":"IF(INTRO!$E$41=\"Endemic\", IF($J119>1, IF($J119=4, \"Unknown\", IF($J119=99, \"Surveillance\", ROUND(D119*INTRO!$E$51,0))), 0),\"Not required\")","v":0},{"$f":"IF(INTRO!$E$41=\"Endemic\", IF($J119>1, IF($J119=4, \"Unknown\", IF($J119=99, \"Surveillance\", SUM($O119:$Q119))), 0),\"Not required\")","v":0},1851,4969,8991,{"$f":"IF(INTRO!$E$43=\"Endemic\", IF($K119>1, IF($K119=4, \"Unknown\", IF($K119=99, \"Surveillance\", SUM($S119:$U119))), 0),\"Not required\")","v":15811},0,0,0,1,null,null,null,null,null,null,null,10726,"Goz-beida",2,2,0]
[{"$f":"IF(INTRO!$E$33<>0,INTRO!$E$33, \" \")","v":"Tchad"},"Sila","Koukou",175530,{"$f":"IF(INTRO!$E$48=\"\",\"\",ROUND($D120*INTRO!$E$48,0))","v":25733},{"$f":"IF(INTRO!$E$49=\"\",\"\",ROUND($D120*INTRO!$E$49,0))","v":50781},{"$f":"IF(INTRO!$E$50=\"\",\"\",ROUND($D120*INTRO!$E$50,0))","v":91872},0,4,1,2,0,{"$f":"IF(INTRO!$E$37=\"Endemic\",IF($H120>0,IF($H120=4,\"Unknown\",IF($H120=99,\"Stopped\",$D120)),0),\"Not required\")","v":0},{"$f":"IF(INTRO!$E$39=\"Endemic\", IF($I120>0, IF($I120=4,\"Unknown\",IF($I120=99,\"Stopped\",$D120)), 0),\"Not required\")","v":"Unknown"},{"$f":"IF(INTRO!$E$41=\"Endemic\", IF($J120>1, IF($J120=4, \"Unknown\", IF($J120=99, \"Surveillance\", E120)), 0),\"Not required\")","v":0},{"$f":"IF(INTRO!$E$41=\"Endemic\", IF($J120>1, IF($J120=4, \"Unknown\", IF($J120=99, \"Surveillance\", F120)), 0),\"Not required\")","v":0},{"$f":"IF(INTRO!$E$41=\"Endemic\", IF($J120>1, IF($J120=4, \"Unknown\", IF($J120=99, \"Surveillance\", ROUND(D120*INTRO!$E$51,0))), 0),\"Not required\")","v":0},{"$f":"IF(INTRO!$E$41=\"Endemic\", IF($J120>1, IF($J120=4, \"Unknown\", IF($J120=99, \"Surveillance\", SUM($O120:$Q120))), 0),\"Not required\")","v":0},5429,14576,26370,{"$f":"IF(INTRO!$E$43=\"Endemic\", IF($K120>1, IF($K120=4, \"Unknown\", IF($K120=99, \"Surveillance\", SUM($S120:$U120))), 0),\"Not required\")","v":46375},0,0,0,1,null,null,null,null,null,null,null,10673,"Koukou",2,2,0]
[{"$f":"IF(INTRO!$E$33<>0,INTRO!$E$33, \" \")","v":"Tchad"},"Sila","Tissi",102238,{"$f":"IF(INTRO!$E$48=\"\",\"\",ROUND($D121*INTRO!$E$48,0))","v":14988},{"$f":"IF(INTRO!$E$49=\"\",\"\",ROUND($D121*INTRO!$E$49,0))","v":29577},{"$f":"IF(INTRO!$E$50=\"\",\"\",ROUND($D121*INTRO!$E$50,0))","v":53511},0,4,4,4,0,{"$f":"IF(INTRO!$E$37=\"Endemic\",IF($H121>0,IF($H121=4,\"Unknown\",IF($H121=99,\"Stopped\",$D121)),0),\"Not required\")","v":0},{"$f":"IF(INTRO!$E$39=\"Endemic\", IF($I121>0, IF($I121=4,\"Unknown\",IF($I121=99,\"Stopped\",$D121)), 0),\"Not required\")","v":"Unknown"},{"$f":"IF(INTRO!$E$41=\"Endemic\", IF($J121>1, IF($J121=4, \"Unknown\", IF($J121=99, \"Surveillance\", E121)), 0),\"Not required\")","v":"Unknown"},{"$f":"IF(INTRO!$E$41=\"Endemic\", IF($J121>1, IF($J121=4, \"Unknown\", IF($J121=99, \"Surveillance\", F121)), 0),\"Not required\")","v":"Unknown"},{"$f":"IF(INTRO!$E$41=\"Endemic\", IF($J121>1, IF($J121=4, \"Unknown\", IF($J121=99, \"Surveillance\", ROUND(D121*INTRO!$E$51,0))), 0),\"Not required\")","v":"Unknown"},{"$f":"IF(INTRO!$E$41=\"Endemic\", IF($J121>1, IF($J121=4, \"Unknown\", IF($J121=99, \"Surveillance\", SUM($O121:$Q121))), 0),\"Not required\")","v":"Unknown"},0,0,0,0,0,0,0,0,null,null,null,null,null,null,null,10674,"Tissi",4,4,0]
[{"$f":"IF(INTRO!$E$33<>0,INTRO!$E$33, \" \")","v":"Tchad"},"Tandjile","Batchoro",111936,{"$f":"IF(INTRO!$E$48=\"\",\"\",ROUND($D122*INTRO!$E$48,0))","v":16410},{"$f":"IF(INTRO!$E$49=\"\",\"\",ROUND($D122*INTRO!$E$49,0))","v":32383},{"$f":"IF(INTRO!$E$50=\"\",\"\",ROUND($D122*INTRO!$E$50,0))","v":58587},1,1,1,1,0,{"$f":"IF(INTRO!$E$37=\"Endemic\",IF($H122>0,IF($H122=4,\"Unknown\",IF($H122=99,\"Stopped\",$D122)),0),\"Not required\")","v":111936},{"$f":"IF(INTRO!$E$39=\"Endemic\", IF($I122>0, IF($I122=4,\"Unknown\",IF($I122=99,\"Stopped\",$D122)), 0),\"Not required\")","v":111936},{"$f":"IF(INTRO!$E$41=\"Endemic\", IF($J122>1, IF($J122=4, \"Unknown\", IF($J122=99, \"Surveillance\", E122)), 0),\"Not required\")","v":0},{"$f":"IF(INTRO!$E$41=\"Endemic\", IF($J122>1, IF($J122=4, \"Unknown\", IF($J122=99, \"Surveillance\", F122)), 0),\"Not required\")","v":0},{"$f":"IF(INTRO!$E$41=\"Endemic\", IF($J122>1, IF($J122=4, \"Unknown\", IF($J122=99, \"Surveillance\", ROUND(D122*INTRO!$E$51,0))), 0),\"Not required\")","v":0},{"$f":"IF(INTRO!$E$41=\"Endemic\", IF($J122>1, IF($J122=4, \"Unknown\", IF($J122=99, \"Surveillance\", SUM($O122:$Q122))), 0),\"Not required\")","v":0},0,0,0,{"$f":"IF(INTRO!$E$43=\"Endemic\", IF($K122>1, IF($K122=4, \"Unknown\", IF($K122=99, \"Surveillance\", SUM($S122:$U122))), 0),\"Not required\")","v":0},1,1,0,0,null,null,null,null,null,null,null,10775,"Batchoro",1,2,1]
[{"$f":"IF(INTRO!$E$33<>0,INTRO!$E$33, \" \")","v":"Tchad"},"Tandjile","Bere",132797,{"$f":"IF(INTRO!$E$48=\"\",\"\",ROUND($D123*INTRO!$E$48,0))","v":19468},{"$f":"IF(INTRO!$E$49=\"\",\"\",ROUND($D123*INTRO!$E$49,0))","v":38418},{"$f":"IF(INTRO!$E$50=\"\",\"\",ROUND($D123*INTRO!$E$50,0))","v":69506},1,1,1,3,0,{"$f":"IF(INTRO!$E$37=\"Endemic\",IF($H123>0,IF($H123=4,\"Unknown\",IF($H123=99,\"Stopped\",$D123)),0),\"Not required\")","v":132797},{"$f":"IF(INTRO!$E$39=\"Endemic\", IF($I123>0, IF($I123=4,\"Unknown\",IF($I123=99,\"Stopped\",$D123)), 0),\"Not required\")","v":132797},{"$f":"IF(INTRO!$E$41=\"Endemic\", IF($J123>1, IF($J123=4, \"Unknown\", IF($J123=99, \"Surveillance\", E123)), 0),\"Not required\")","v":0},{"$f":"IF(INTRO!$E$41=\"Endemic\", IF($J123>1, IF($J123=4, \"Unknown\", IF($J123=99, \"Surveillance\", F123)), 0),\"Not required\")","v":0},{"$f":"IF(INTRO!$E$41=\"Endemic\", IF($J123>1, IF($J123=4, \"Unknown\", IF($J123=99, \"Surveillance\", ROUND(D123*INTRO!$E$51,0))), 0),\"Not required\")","v":0},{"$f":"IF(INTRO!$E$41=\"Endemic\", IF($J123>1, IF($J123=4, \"Unknown\", IF($J123=99, \"Surveillance\", SUM($O123:$Q123))), 0),\"Not required\")","v":0},2234,6001,10858,{"$f":"IF(INTRO!$E$43=\"Endemic\", IF($K123>1, IF($K123=4, \"Unknown\", IF($K123=99, \"Surveillance\", SUM($S123:$U123))), 0),\"Not required\")","v":19093},1,1,0,1,null,null,null,null,null,null,null,10734,"Bere",3,3,1]
[{"$f":"IF(INTRO!$E$33<>0,INTRO!$E$33, \" \")","v":"Tchad"},"Tandjile","Bologo",78092,{"$f":"IF(INTRO!$E$48=\"\",\"\",ROUND($D124*INTRO!$E$48,0))","v":11448},{"$f":"IF(INTRO!$E$49=\"\",\"\",ROUND($D124*INTRO!$E$49,0))","v":22592},{"$f":"IF(INTRO!$E$50=\"\",\"\",ROUND($D124*INTRO!$E$50,0))","v":40873},1,1,1,2,0,{"$f":"IF(INTRO!$E$37=\"Endemic\",IF($H124>0,IF($H124=4,\"Unknown\",IF($H124=99,\"Stopped\",$D124)),0),\"Not required\")","v":78092},{"$f":"IF(INTRO!$E$39=\"Endemic\", IF($I124>0, IF($I124=4,\"Unknown\",IF($I124=99,\"Stopped\",$D124)), 0),\"Not required\")","v":78092},{"$f":"IF(INTRO!$E$41=\"Endemic\", IF($J124>1, IF($J124=4, \"Unknown\", IF($J124=99, \"Surveillance\", E124)), 0),\"Not required\")","v":0},{"$f":"IF(INTRO!$E$41=\"Endemic\", IF($J124>1, IF($J124=4, \"Unknown\", IF($J124=99, \"Surveillance\", F124)), 0),\"Not required\")","v":0},{"$f":"IF(INTRO!$E$41=\"Endemic\", IF($J124>1, IF($J124=4, \"Unknown\", IF($J124=99, \"Surveillance\", ROUND(D124*INTRO!$E$51,0))), 0),\"Not required\")","v":0},{"$f":"IF(INTRO!$E$41=\"Endemic\", IF($J124>1, IF($J124=4, \"Unknown\", IF($J124=99, \"Surveillance\", SUM($O124:$Q124))), 0),\"Not required\")","v":0},3283,8816,15950,{"$f":"IF(INTRO!$E$43=\"Endemic\", IF($K124>1, IF($K124=4, \"Unknown\", IF($K124=99, \"Surveillance\", SUM($S124:$U124))), 0),\"Not required\")","v":28049},1,1,0,1,null,null,null,null,null,null,null,10790,"Bologo",1,2,1]
[{"$f":"IF(INTRO!$E$33<>0,INTRO!$E$33, \" \")","v":"Tchad"},"Tandjile","Dafra",70285,{"$f":"IF(INTRO!$E$48=\"\",\"\",ROUND($D125*INTRO!$E$48,0))","v":10304},{"$f":"IF(INTRO!$E$49=\"\",\"\",ROUND($D125*INTRO!$E$49,0))","v":20333},{"$f":"IF(INTRO!$E$50=\"\",\"\",ROUND($D125*INTRO!$E$50,0))","v":36787},1,1,1,1,0,{"$f":"IF(INTRO!$E$37=\"Endemic\",IF($H125>0,IF($H125=4,\"Unknown\",IF($H125=99,\"Stopped\",$D125)),0),\"Not required\")","v":70285},{"$f":"IF(INTRO!$E$39=\"Endemic\", IF($I125>0, IF($I125=4,\"Unknown\",IF($I125=99,\"Stopped\",$D125)), 0),\"Not required\")","v":70285},{"$f":"IF(INTRO!$E$41=\"Endemic\", IF($J125>1, IF($J125=4, \"Unknown\", IF($J125=99, \"Surveillance\", E125)), 0),\"Not required\")","v":0},{"$f":"IF(INTRO!$E$41=\"Endemic\", IF($J125>1, IF($J125=4, \"Unknown\", IF($J125=99, \"Surveillance\", F125)), 0),\"Not required\")","v":0},{"$f":"IF(INTRO!$E$41=\"Endemic\", IF($J125>1, IF($J125=4, \"Unknown\", IF($J125=99, \"Surveillance\", ROUND(D125*INTRO!$E$51,0))), 0),\"Not required\")","v":0},{"$f":"IF(INTRO!$E$41=\"Endemic\", IF($J125>1, IF($J125=4, \"Unknown\", IF($J125=99, \"Surveillance\", SUM($O125:$Q125))), 0),\"Not required\")","v":0},0,0,0,{"$f":"IF(INTRO!$E$43=\"Endemic\", IF($K125>1, IF($K125=4, \"Unknown\", IF($K125=99, \"Surveillance\", SUM($S125:$U125))), 0),\"Not required\")","v":0},1,1,0,0,null,null,null,null,null,null,null,10759,"Dafra",1,2,0]
[{"$f":"IF(INTRO!$E$33<>0,INTRO!$E$33, \" \")","v":"Tchad"},"Tandjile","Deressia",85034,{"$f":"IF(INTRO!$E$48=\"\",\"\",ROUND($D126*INTRO!$E$48,0))","v":12466},{"$f":"IF(INTRO!$E$49=\"\",\"\",ROUND($D126*INTRO!$E$49,0))","v":24600},{"$f":"IF(INTRO!$E$50=\"\",\"\",ROUND($D126*INTRO!$E$50,0))","v":44507},1,0,1,1,0,{"$f":"IF(INTRO!$E$37=\"Endemic\",IF($H126>0,IF($H126=4,\"Unknown\",IF($H126=99,\"Stopped\",$D126)),0),\"Not required\")","v":85034},{"$f":"IF(INTRO!$E$39=\"Endemic\", IF($I126>0, IF($I126=4,\"Unknown\",IF($I126=99,\"Stopped\",$D126)), 0),\"Not required\")","v":0},{"$f":"IF(INTRO!$E$41=\"Endemic\", IF($J126>1, IF($J126=4, \"Unknown\", IF($J126=99, \"Surveillance\", E126)), 0),\"Not required\")","v":0},{"$f":"IF(INTRO!$E$41=\"Endemic\", IF($J126>1, IF($J126=4, \"Unknown\", IF($J126=99, \"Surveillance\", F126)), 0),\"Not required\")","v":0},{"$f":"IF(INTRO!$E$41=\"Endemic\", IF($J126>1, IF($J126=4, \"Unknown\", IF($J126=99, \"Surveillance\", ROUND(D126*INTRO!$E$51,0))), 0),\"Not required\")","v":0},{"$f":"IF(INTRO!$E$41=\"Endemic\", IF($J126>1, IF($J126=4, \"Unknown\", IF($J126=99, \"Surveillance\", SUM($O126:$Q126))), 0),\"Not required\")","v":0},0,0,0,{"$f":"IF(INTRO!$E$43=\"Endemic\", IF($K126>1, IF($K126=4, \"Unknown\", IF($K126=99, \"Surveillance\", SUM($S126:$U126))), 0),\"Not required\")","v":0},1,0,0,0,null,null,null,null,null,null,null,10782,"Deressia",1,3,1]
[{"$f":"IF(INTRO!$E$33<>0,INTRO!$E$33, \" \")","v":"Tchad"},"Tandjile","Donamanga",118555,{"$f":"IF(INTRO!$E$48=\"\",\"\",ROUND($D127*INTRO!$E$48,0))","v":17380},{"$f":"IF(INTRO!$E$49=\"\",\"\",ROUND($D127*INTRO!$E$49,0))","v":34298},{"$f":"IF(INTRO!$E$50=\"\",\"\",ROUND($D127*INTRO!$E$50,0))","v":62052},1,0,1,3,0,{"$f":"IF(INTRO!$E$37=\"Endemic\",IF($H127>0,IF($H127=4,\"Unknown\",IF($H127=99,\"Stopped\",$D127)),0),\"Not required\")","v":118555},{"$f":"IF(INTRO!$E$39=\"Endemic\", IF($I127>0, IF($I127=4,\"Unknown\",IF($I127=99,\"Stopped\",$D127)), 0),\"Not required\")","v":0},{"$f":"IF(INTRO!$E$41=\"Endemic\", IF($J127>1, IF($J127=4, \"Unknown\", IF($J127=99, \"Surveillance\", E127)), 0),\"Not required\")","v":0},{"$f":"IF(INTRO!$E$41=\"Endemic\", IF($J127>1, IF($J127=4, \"Unknown\", IF($J127=99, \"Surveillance\", F127)), 0),\"Not required\")","v":0},{"$f":"IF(INTRO!$E$41=\"Endemic\", IF($J127>1, IF($J127=4, \"Unknown\", IF($J127=99, \"Surveillance\", ROUND(D127*INTRO!$E$51,0))), 0),\"Not required\")","v":0},{"$f":"IF(INTRO!$E$41=\"Endemic\", IF($J127>1, IF($J127=4, \"Unknown\", IF($J127=99, \"Surveillance\", SUM($O127:$Q127))), 0),\"Not required\")","v":0},3432,9214,16669,{"$f":"IF(INTRO!$E$43=\"Endemic\", IF($K127>1, IF($K127=4, \"Unknown\", IF($K127=99, \"Surveillance\", SUM($S127:$U127))), 0),\"Not required\")","v":29315},1,0,0,1,null,null,null,null,null,null,null,10735,"Donamanga",3,2,1]
[{"$f":"IF(INTRO!$E$33<>0,INTRO!$E$33, \" \")","v":"Tchad"},"Tandjile","Guidari",55748,{"$f":"IF(INTRO!$E$48=\"\",\"\",ROUND($D128*INTRO!$E$48,0))","v":8173},{"$f":"IF(INTRO!$E$49=\"\",\"\",ROUND($D128*INTRO!$E$49,0))","v":16128},{"$f":"IF(INTRO!$E$50=\"\",\"\",ROUND($D128*INTRO!$E$50,0))","v":29179},1,0,1,1,0,{"$f":"IF(INTRO!$E$37=\"Endemic\",IF($H128>0,IF($H128=4,\"Unknown\",IF($H128=99,\"Stopped\",$D128)),0),\"Not required\")","v":55748},{"$f":"IF(INTRO!$E$39=\"Endemic\", IF($I128>0, IF($I128=4,\"Unknown\",IF($I128=99,\"Stopped\",$D128)), 0),\"Not required\")","v":0},{"$f":"IF(INTRO!$E$41=\"Endemic\", IF($J128>1, IF($J128=4, \"Unknown\", IF($J128=99, \"Surveillance\", E128)), 0),\"Not required\")","v":0},{"$f":"IF(INTRO!$E$41=\"Endemic\", IF($J128>1, IF($J128=4, \"Unknown\", IF($J128=99, \"Surveillance\", F128)), 0),\"Not required\")","v":0},{"$f":"IF(INTRO!$E$41=\"Endemic\", IF($J128>1, IF($J128=4, \"Unknown\", IF($J128=99, \"Surveillance\", ROUND(D128*INTRO!$E$51,0))), 0),\"Not required\")","v":0},{"$f":"IF(INTRO!$E$41=\"Endemic\", IF($J128>1, IF($J128=4, \"Unknown\", IF($J128=99, \"Surveillance\", SUM($O128:$Q128))), 0),\"Not required\")","v":0},0,0,0,{"$f":"IF(INTRO!$E$43=\"Endemic\", IF($K128>1, IF($K128=4, \"Unknown\", IF($K128=99, \"Surveillance\", SUM($S128:$U128))), 0),\"Not required\")","v":0},1,0,0,0,null,null,null,null,null,null,null,10776,"Guidari",1,2,0]
[{"$f":"IF(INTRO!$E$33<>0,INTRO!$E$33, \" \")","v":"Tchad"},"Tandjile","Kelo",228288,{"$f":"IF(INTRO!$E$48=\"\",\"\",ROUND($D129*INTRO!$E$48,0))","v":33467},{"$f":"IF(INTRO!$E$49=\"\",\"\",ROUND($D129*INTRO!$E$49,0))","v":66044},{"$f":"IF(INTRO!$E$50=\"\",\"\",ROUND($D129*INTRO!$E$50,0))","v":119486},1,1,1,3,0,{"$f":"IF(INTRO!$E$37=\"Endemic\",IF($H129>0,IF($H129=4,\"Unknown\",IF($H129=99,\"Stopped\",$D129)),0),\"Not required\")","v":228288},{"$f":"IF(INTRO!$E$39=\"Endemic\", IF($I129>0, IF($I129=4,\"Unknown\",IF($I129=99,\"Stopped\",$D129)), 0),\"Not required\")","v":228288},{"$f":"IF(INTRO!$E$41=\"Endemic\", IF($J129>1, IF($J129=4, \"Unknown\", IF($J129=99, \"Surveillance\", E129)), 0),\"Not required\")","v":0},{"$f":"IF(INTRO!$E$41=\"Endemic\", IF($J129>1, IF($J129=4, \"Unknown\", IF($J129=99, \"Surveillance\", F129)), 0),\"Not required\")","v":0},{"$f":"IF(INTRO!$E$41=\"Endemic\", IF($J129>1, IF($J129=4, \"Unknown\", IF($J129=99, \"Surveillance\", ROUND(D129*INTRO!$E$51,0))), 0),\"Not required\")","v":0},{"$f":"IF(INTRO!$E$41=\"Endemic\", IF($J129>1, IF($J129=4, \"Unknown\", IF($J129=99, \"Surveillance\", SUM($O129:$Q129))), 0),\"Not required\")","v":0},1705,4577,8282,{"$f":"IF(INTRO!$E$43=\"Endemic\", IF($K129>1, IF($K129=4, \"Unknown\", IF($K129=99, \"Surveillance\", SUM($S129:$U129))), 0),\"Not required\")","v":14564},1,1,0,1,null,null,null,null,null,null,null,10736,"Kelo",3,2,1]
[{"$f":"IF(INTRO!$E$33<>0,INTRO!$E$33, \" \")","v":"Tchad"},"Tandjile","Kolon",87968,{"$f":"IF(INTRO!$E$48=\"\",\"\",ROUND($D130*INTRO!$E$48,0))","v":12896},{"$f":"IF(INTRO!$E$49=\"\",\"\",ROUND($D130*INTRO!$E$49,0))","v":25449},{"$f":"IF(INTRO!$E$50=\"\",\"\",ROUND($D130*INTRO!$E$50,0))","v":46042},1,1,1,1,0,{"$f":"IF(INTRO!$E$37=\"Endemic\",IF($H130>0,IF($H130=4,\"Unknown\",IF($H130=99,\"Stopped\",$D130)),0),\"Not required\")","v":87968},{"$f":"IF(INTRO!$E$39=\"Endemic\", IF($I130>0, IF($I130=4,\"Unknown\",IF($I130=99,\"Stopped\",$D130)), 0),\"Not required\")","v":87968},{"$f":"IF(INTRO!$E$41=\"Endemic\", IF($J130>1, IF($J130=4, \"Unknown\", IF($J130=99, \"Surveillance\", E130)), 0),\"Not required\")","v":0},{"$f":"IF(INTRO!$E$41=\"Endemic\", IF($J130>1, IF($J130=4, \"Unknown\", IF($J130=99, \"Surveillance\", F130)), 0),\"Not required\")","v":0},{"$f":"IF(INTRO!$E$41=\"Endemic\", IF($J130>1, IF($J130=4, \"Unknown\", IF($J130=99, \"Surveillance\", ROUND(D130*INTRO!$E$51,0))), 0),\"Not required\")","v":0},{"$f":"IF(INTRO!$E$41=\"Endemic\", IF($J130>1, IF($J130=4, \"Unknown\", IF($J130=99, \"Surveillance\", SUM($O130:$Q130))), 0),\"Not required\")","v":0},0,0,0,{"$f":"IF(INTRO!$E$43=\"Endemic\", IF($K130>1, IF($K130=4, \"Unknown\", IF($K130=99, \"Surveillance\", SUM($S130:$U130))), 0),\"Not required\")","v":0},1,1,0,0,null,null,null,null,null,null,null,10777,"Kolon",1,3,1]
[{"$f":"IF(INTRO!$E$33<>0,INTRO!$E$33, \" \")","v":"Tchad"},"Tandjile","Lai",165666,{"$f":"IF(INTRO!$E$48=\"\",\"\",ROUND($D131*INTRO!$E$48,0))","v":24287},{"$f":"IF(INTRO!$E$49=\"\",\"\",ROUND($D131*INTRO!$E$49,0))","v":47927},{"$f":"IF(INTRO!$E$50=\"\",\"\",ROUND($D131*INTRO!$E$50,0))","v":86710},19,0,1,3,0,{"$f":"IF(INTRO!$E$37=\"Endemic\",IF($H131>0,IF($H131=4,\"Unknown\",IF($H131=99,\"Stopped\",$D131)),0),\"Not required\")","v":165666},{"$f":"IF(INTRO!$E$39=\"Endemic\", IF($I131>0, IF($I131=4,\"Unknown\",IF($I131=99,\"Stopped\",$D131)), 0),\"Not required\")","v":0},{"$f":"IF(INTRO!$E$41=\"Endemic\", IF($J131>1, IF($J131=4, \"Unknown\", IF($J131=99, \"Surveillance\", E131)), 0),\"Not required\")","v":0},{"$f":"IF(INTRO!$E$41=\"Endemic\", IF($J131>1, IF($J131=4, \"Unknown\", IF($J131=99, \"Surveillance\", F131)), 0),\"Not required\")","v":0},{"$f":"IF(INTRO!$E$41=\"Endemic\", IF($J131>1, IF($J131=4, \"Unknown\", IF($J131=99, \"Surveillance\", ROUND(D131*INTRO!$E$51,0))), 0),\"Not required\")","v":0},{"$f":"IF(INTRO!$E$41=\"Endemic\", IF($J131>1, IF($J131=4, \"Unknown\", IF($J131=99, \"Surveillance\", SUM($O131:$Q131))), 0),\"Not required\")","v":0},4378,11755,21267,{"$f":"IF(INTRO!$E$43=\"Endemic\", IF($K131>1, IF($K131=4, \"Unknown\", IF($K131=99, \"Surveillance\", SUM($S131:$U131))), 0),\"Not required\")","v":37400},0,0,0,1,"TAS",null,null,null,null,null,null,10737,"Lai",3,2,1]
[{"$f":"IF(INTRO!$E$33<>0,INTRO!$E$33, \" \")","v":"Tchad"},"Tibesti","Bardaï",30088,{"$f":"IF(INTRO!$E$48=\"\",\"\",ROUND($D132*INTRO!$E$48,0))","v":4411},{"$f":"IF(INTRO!$E$49=\"\",\"\",ROUND($D132*INTRO!$E$49,0))","v":8704},{"$f":"IF(INTRO!$E$50=\"\",\"\",ROUND($D132*INTRO!$E$50,0))","v":15748},0,0,0,0,0,{"$f":"IF(INTRO!$E$37=\"Endemic\",IF($H132>0,IF($H132=4,\"Unknown\",IF($H132=99,\"Stopped\",$D132)),0),\"Not required\")","v":0},{"$f":"IF(INTRO!$E$39=\"Endemic\", IF($I132>0, IF($I132=4,\"Unknown\",IF($I132=99,\"Stopped\",$D132)), 0),\"Not required\")","v":0},{"$f":"IF(INTRO!$E$41=\"Endemic\", IF($J132>1, IF($J132=4, \"Unknown\", IF($J132=99, \"Surveillance\", E132)), 0),\"Not required\")","v":0},{"$f":"IF(INTRO!$E$41=\"Endemic\", IF($J132>1, IF($J132=4, \"Unknown\", IF($J132=99, \"Surveillance\", F132)), 0),\"Not required\")","v":0},{"$f":"IF(INTRO!$E$41=\"Endemic\", IF($J132>1, IF($J132=4, \"Unknown\", IF($J132=99, \"Surveillance\", ROUND(D132*INTRO!$E$51,0))), 0),\"Not required\")","v":0},{"$f":"IF(INTRO!$E$41=\"Endemic\", IF($J132>1, IF($J132=4, \"Unknown\", IF($J132=99, \"Surveillance\", SUM($O132:$Q132))), 0),\"Not required\")","v":0},0,0,0,{"$f":"IF(INTRO!$E$43=\"Endemic\", IF($K132>1, IF($K132=4, \"Unknown\", IF($K132=99, \"Surveillance\", SUM($S132:$U132))), 0),\"Not required\")","v":0},0,0,0,0,null,null,null,null,null,null,null,10738,"Bardaï",0,0,0]
[{"$f":"IF(INTRO!$E$33<>0,INTRO!$E$33, \" \")","v":"Tchad"},"Tibesti","Zouar",12933,{"$f":"IF(INTRO!$E$48=\"\",\"\",ROUND($D133*INTRO!$E$48,0))","v":1896},{"$f":"IF(INTRO!$E$49=\"\",\"\",ROUND($D133*INTRO!$E$49,0))","v":3742},{"$f":"IF(INTRO!$E$50=\"\",\"\",ROUND($D133*INTRO!$E$50,0))","v":6769},0,0,0,1,0,{"$f":"IF(INTRO!$E$37=\"Endemic\",IF($H133>0,IF($H133=4,\"Unknown\",IF($H133=99,\"Stopped\",$D133)),0),\"Not required\")","v":0},{"$f":"IF(INTRO!$E$39=\"Endemic\", IF($I133>0, IF($I133=4,\"Unknown\",IF($I133=99,\"Stopped\",$D133)), 0),\"Not required\")","v":0},{"$f":"IF(INTRO!$E$41=\"Endemic\", IF($J133>1, IF($J133=4, \"Unknown\", IF($J133=99, \"Surveillance\", E133)), 0),\"Not required\")","v":0},{"$f":"IF(INTRO!$E$41=\"Endemic\", IF($J133>1, IF($J133=4, \"Unknown\", IF($J133=99, \"Surveillance\", F133)), 0),\"Not required\")","v":0},{"$f":"IF(INTRO!$E$41=\"Endemic\", IF($J133>1, IF($J133=4, \"Unknown\", IF($J133=99, \"Surveillance\", ROUND(D133*INTRO!$E$51,0))), 0),\"Not required\")","v":0},{"$f":"IF(INTRO!$E$41=\"Endemic\", IF($J133>1, IF($J133=4, \"Unknown\", IF($J133=99, \"Surveillance\", SUM($O133:$Q133))), 0),\"Not required\")","v":0},0,0,0,{"$f":"IF(INTRO!$E$43=\"Endemic\", IF($K133>1, IF($K133=4, \"Unknown\", IF($K133=99, \"Surveillance\", SUM($S133:$U133))), 0),\"Not required\")","v":0},0,0,0,0,null,null,null,null,null,null,null,10760,"Zouar",1,0,0]
[{"$f":"IF(INTRO!$E$33<>0,INTRO!$E$33, \" \")","v":"Tchad"},"Wadi Fira","amzoer",73211,{"$f":"IF(INTRO!$E$48=\"\",\"\",ROUND($D134*INTRO!$E$48,0))","v":10733},{"$f":"IF(INTRO!$E$49=\"\",\"\",ROUND($D134*INTRO!$E$49,0))","v":21180},{"$f":"IF(INTRO!$E$50=\"\",\"\",ROUND($D134*INTRO!$E$50,0))","v":38319},0,0,1,1,0,{"$f":"IF(INTRO!$E$37=\"Endemic\",IF($H134>0,IF($H134=4,\"Unknown\",IF($H134=99,\"Stopped\",$D134)),0),\"Not required\")","v":0},{"$f":"IF(INTRO!$E$39=\"Endemic\", IF($I134>0, IF($I134=4,\"Unknown\",IF($I134=99,\"Stopped\",$D134)), 0),\"Not required\")","v":0},{"$f":"IF(INTRO!$E$41=\"Endemic\", IF($J134>1, IF($J134=4, \"Unknown\", IF($J134=99, \"Surveillance\", E134)), 0),\"Not required\")","v":0},{"$f":"IF(INTRO!$E$41=\"Endemic\", IF($J134>1, IF($J134=4, \"Unknown\", IF($J134=99, \"Surveillance\", F134)), 0),\"Not required\")","v":0},{"$f":"IF(INTRO!$E$41=\"Endemic\", IF($J134>1, IF($J134=4, \"Unknown\", IF($J134=99, \"Surveillance\", ROUND(D134*INTRO!$E$51,0))), 0),\"Not required\")","v":0},{"$f":"IF(INTRO!$E$41=\"Endemic\", IF($J134>1, IF($J134=4, \"Unknown\", IF($J134=99, \"Surveillance\", SUM($O134:$Q134))), 0),\"Not required\")","v":0},0,0,0,{"$f":"IF(INTRO!$E$43=\"Endemic\", IF($K134>1, IF($K134=4, \"Unknown\", IF($K134=99, \"Surveillance\", SUM($S134:$U134))), 0),\"Not required\")","v":0},0,0,0,0,null,null,null,null,null,null,null,10778,"amzoer",1,1,0]
[{"$f":"IF(INTRO!$E$33<>0,INTRO!$E$33, \" \")","v":"Tchad"},"Wadi Fira","Arada",53077,{"$f":"IF(INTRO!$E$48=\"\",\"\",ROUND($D135*INTRO!$E$48,0))","v":7781},{"$f":"IF(INTRO!$E$49=\"\",\"\",ROUND($D135*INTRO!$E$49,0))","v":15355},{"$f":"IF(INTRO!$E$50=\"\",\"\",ROUND($D135*INTRO!$E$50,0))","v":27781},0,0,1,1,0,{"$f":"IF(INTRO!$E$37=\"Endemic\",IF($H135>0,IF($H135=4,\"Unknown\",IF($H135=99,\"Stopped\",$D135)),0),\"Not required\")","v":0},{"$f":"IF(INTRO!$E$39=\"Endemic\", IF($I135>0, IF($I135=4,\"Unknown\",IF($I135=99,\"Stopped\",$D135)), 0),\"Not required\")","v":0},{"$f":"IF(INTRO!$E$41=\"Endemic\", IF($J135>1, IF($J135=4, \"Unknown\", IF($J135=99, \"Surveillance\", E135)), 0),\"Not required\")","v":0},{"$f":"IF(INTRO!$E$41=\"Endemic\", IF($J135>1, IF($J135=4, \"Unknown\", IF($J135=99, \"Surveillance\", F135)), 0),\"Not required\")","v":0},{"$f":"IF(INTRO!$E$41=\"Endemic\", IF($J135>1, IF($J135=4, \"Unknown\", IF($J135=99, \"Surveillance\", ROUND(D135*INTRO!$E$51,0))), 0),\"Not required\")","v":0},{"$f":"IF(INTRO!$E$41=\"Endemic\", IF($J135>1, IF($J135=4, \"Unknown\", IF($J135=99, \"Surveillance\", SUM($O135:$Q135))), 0),\"Not required\")","v":0},0,0,0,{"$f":"IF(INTRO!$E$43=\"Endemic\", IF($K135>1, IF($K135=4, \"Unknown\", IF($K135=99, \"Surveillance\", SUM($S135:$U135))), 0),\"Not required\")","v":0},0,0,0,0,null,null,null,null,null,null,null,10779,"Arada",1,1,0]
[{"$f":"IF(INTRO!$E$33<>0,INTRO!$E$33, \" \")","v":"Tchad"},"Wadi Fira","Biltine",180648,{"$f":"IF(INTRO!$E$48=\"\",\"\",ROUND($D136*INTRO!$E$48,0))","v":26483},{"$f":"IF(INTRO!$E$49=\"\",\"\",ROUND($D136*INTRO!$E$49,0))","v":52261},{"$f":"IF(INTRO!$E$50=\"\",\"\",ROUND($D136*INTRO!$E$50,0))","v":94551},0,0,1,1,0,{"$f":"IF(INTRO!$E$37=\"Endemic\",IF($H136>0,IF($H136=4,\"Unknown\",IF($H136=99,\"Stopped\",$D136)),0),\"Not required\")","v":0},{"$f":"IF(INTRO!$E$39=\"Endemic\", IF($I136>0, IF($I136=4,\"Unknown\",IF($I136=99,\"Stopped\",$D136)), 0),\"Not required\")","v":0},{"$f":"IF(INTRO!$E$41=\"Endemic\", IF($J136>1, IF($J136=4, \"Unknown\", IF($J136=99, \"Surveillance\", E136)), 0),\"Not required\")","v":0},{"$f":"IF(INTRO!$E$41=\"Endemic\", IF($J136>1, IF($J136=4, \"Unknown\", IF($J136=99, \"Surveillance\", F136)), 0),\"Not required\")","v":0},{"$f":"IF(INTRO!$E$41=\"Endemic\", IF($J136>1, IF($J136=4, \"Unknown\", IF($J136=99, \"Surveillance\", ROUND(D136*INTRO!$E$51,0))), 0),\"Not required\")","v":0},{"$f":"IF(INTRO!$E$41=\"Endemic\", IF($J136>1, IF($J136=4, \"Unknown\", IF($J136=99, \"Surveillance\", SUM($O136:$Q136))), 0),\"Not required\")","v":0},0,0,0,{"$f":"IF(INTRO!$E$43=\"Endemic\", IF($K136>1, IF($K136=4, \"Unknown\", IF($K136=99, \"Surveillance\", SUM($S136:$U136))), 0),\"Not required\")","v":0},0,0,0,0,null,null,null,null,null,null,null,10740,"Biltine",1,1,0]
[{"$f":"IF(INTRO!$E$33<>0,INTRO!$E$33, \" \")","v":"Tchad"},"Wadi Fira","Guéréda",313088,{"$f":"IF(INTRO!$E$48=\"\",\"\",ROUND($D137*INTRO!$E$48,0))","v":45899},{"$f":"IF(INTRO!$E$49=\"\",\"\",ROUND($D137*INTRO!$E$49,0))","v":90576},{"$f":"IF(INTRO!$E$50=\"\",\"\",ROUND($D137*INTRO!$E$50,0))","v":163870},0,0,1,1,0,{"$f":"IF(INTRO!$E$37=\"Endemic\",IF($H137>0,IF($H137=4,\"Unknown\",IF($H137=99,\"Stopped\",$D137)),0),\"Not required\")","v":0},{"$f":"IF(INTRO!$E$39=\"Endemic\", IF($I137>0, IF($I137=4,\"Unknown\",IF($I137=99,\"Stopped\",$D137)), 0),\"Not required\")","v":0},{"$f":"IF(INTRO!$E$41=\"Endemic\", IF($J137>1, IF($J137=4, \"Unknown\", IF($J137=99, \"Surveillance\", E137)), 0),\"Not required\")","v":0},{"$f":"IF(INTRO!$E$41=\"Endemic\", IF($J137>1, IF($J137=4, \"Unknown\", IF($J137=99, \"Surveillance\", F137)), 0),\"Not required\")","v":0},{"$f":"IF(INTRO!$E$41=\"Endemic\", IF($J137>1, IF($J137=4, \"Unknown\", IF($J137=99, \"Surveillance\", ROUND(D137*INTRO!$E$51,0))), 0),\"Not required\")","v":0},{"$f":"IF(INTRO!$E$41=\"Endemic\", IF($J137>1, IF($J137=4, \"Unknown\", IF($J137=99, \"Surveillance\", SUM($O137:$Q137))), 0),\"Not required\")","v":0},0,0,0,{"$f":"IF(INTRO!$E$43=\"Endemic\", IF($K137>1, IF($K137=4, \"Unknown\", IF($K137=99, \"Surveillance\", SUM($S137:$U137))), 0),\"Not required\")","v":0},0,0,0,0,null,null,null,null,null,null,null,10741,"Guéréda",1,1,0]
[{"$f":"IF(INTRO!$E$33<>0,INTRO!$E$33, \" \")","v":"Tchad"},"Wadi Fira","Iriba",204170,{"$f":"IF(INTRO!$E$48=\"\",\"\",ROUND($D138*INTRO!$E$48,0))","v":29931},{"$f":"IF(INTRO!$E$49=\"\",\"\",ROUND($D138*INTRO!$E$49,0))","v":59066},{"$f":"IF(INTRO!$E$50=\"\",\"\",ROUND($D138*INTRO!$E$50,0))","v":106863},0,0,1,1,0,{"$f":"IF(INTRO!$E$37=\"Endemic\",IF($H138>0,IF($H138=4,\"Unknown\",IF($H138=99,\"Stopped\",$D138)),0),\"Not required\")","v":0},{"$f":"IF(INTRO!$E$39=\"Endemic\", IF($I138>0, IF($I138=4,\"Unknown\",IF($I138=99,\"Stopped\",$D138)), 0),\"Not required\")","v":0},{"$f":"IF(INTRO!$E$41=\"Endemic\", IF($J138>1, IF($J138=4, \"Unknown\", IF($J138=99, \"Surveillance\", E138)), 0),\"Not required\")","v":0},{"$f":"IF(INTRO!$E$41=\"Endemic\", IF($J138>1, IF($J138=4, \"Unknown\", IF($J138=99, \"Surveillance\", F138)), 0),\"Not required\")","v":0},{"$f":"IF(INTRO!$E$41=\"Endemic\", IF($J138>1, IF($J138=4, \"Unknown\", IF($J138=99, \"Surveillance\", ROUND(D138*INTRO!$E$51,0))), 0),\"Not required\")","v":0},{"$f":"IF(INTRO!$E$41=\"Endemic\", IF($J138>1, IF($J138=4, \"Unknown\", IF($J138=99, \"Surveillance\", SUM($O138:$Q138))), 0),\"Not required\")","v":0},0,0,0,{"$f":"IF(INTRO!$E$43=\"Endemic\", IF($K138>1, IF($K138=4, \"Unknown\", IF($K138=99, \"Surveillance\", SUM($S138:$U138))), 0),\"Not required\")","v":0},0,0,0,0,null,null,null,null,null,null,null,10742,"Iriba",1,0,0]
[{"$f":"IF(INTRO!$E$33<>0,INTRO!$E$33, \" \")","v":"Tchad"},"Wadi Fira","Matadjana",35237,{"$f":"IF(INTRO!$E$48=\"\",\"\",ROUND($D139*INTRO!$E$48,0))","v":5166},{"$f":"IF(INTRO!$E$49=\"\",\"\",ROUND($D139*INTRO!$E$49,0))","v":10194},{"$f":"IF(INTRO!$E$50=\"\",\"\",ROUND($D139*INTRO!$E$50,0))","v":18443},0,0,1,1,0,{"$f":"IF(INTRO!$E$37=\"Endemic\",IF($H139>0,IF($H139=4,\"Unknown\",IF($H139=99,\"Stopped\",$D139)),0),\"Not required\")","v":0},{"$f":"IF(INTRO!$E$39=\"Endemic\", IF($I139>0, IF($I139=4,\"Unknown\",IF($I139=99,\"Stopped\",$D139)), 0),\"Not required\")","v":0},{"$f":"IF(INTRO!$E$41=\"Endemic\", IF($J139>1, IF($J139=4, \"Unknown\", IF($J139=99, \"Surveillance\", E139)), 0),\"Not required\")","v":0},{"$f":"IF(INTRO!$E$41=\"Endemic\", IF($J139>1, IF($J139=4, \"Unknown\", IF($J139=99, \"Surveillance\", F139)), 0),\"Not required\")","v":0},{"$f":"IF(INTRO!$E$41=\"Endemic\", IF($J139>1, IF($J139=4, \"Unknown\", IF($J139=99, \"Surveillance\", ROUND(D139*INTRO!$E$51,0))), 0),\"Not required\")","v":0},{"$f":"IF(INTRO!$E$41=\"Endemic\", IF($J139>1, IF($J139=4, \"Unknown\", IF($J139=99, \"Surveillance\", SUM($O139:$Q139))), 0),\"Not required\")","v":0},0,0,0,{"$f":"IF(INTRO!$E$43=\"Endemic\", IF($K139>1, IF($K139=4, \"Unknown\", IF($K139=99, \"Surveillance\", SUM($S139:$U139))), 0),\"Not required\")","v":0},0,0,0,0,null,null,null,null,null,null,null,10743,"Matadjana",1,1,0]

{"sheet":"ALB_MBD","index":2,"n_rows":139,"n_cols":23,"rows_kept":139,"cut":false,"hidden":false,"merged":[[0,8,0,12],[1,8,1,9],[1,11,1,12],[5,8,5,13],[6,8,6,9],[3,0,3,2],[3,3,3,4],[5,0,5,2],[5,3,5,4],[5,5,7,5],[6,0,7,0],[6,1,7,1],[6,2,7,2],[6,3,7,3],[6,4,7,4],[5,6,5,7],[6,6,7,6],[6,7,7,7],[5,14,5,19],[6,22,7,22],[5,20,5,22],[6,20,7,20],[6,21,7,21],[6,18,7,18],[6,19,7,19],[6,17,7,17],[6,14,7,14],[6,15,7,15],[6,16,7,16],[6,11,6,12],[6,13,7,13]]}
["Albendazole (ALB) and Mebendazole (MBD)",null,null,null,null,null,null,null,"Select medicine for treatment of STH for each age group"]
["Administrative structure, eligible population by age group, treatment plan and information about tablets",null,null,null,null,null,null,null,"MBD",null,"ALB","ALB"]
[]
["TOTAL",null,null,null,null,{"$f":"SUBTOTAL(9,F$10:F$1010)","v":2654318},{"$f":"SUBTOTAL(9,G$10:G$1010)","v":0},null,null,{"$f":"SUBTOTAL(9,J$10:J$1010)","v":192350},343696,null,263605,799651,2654318,0,2654318,607301,0,607301,192350,0,192350]
[]
["Country administrative structure",null,null,"Treatment plan",null,"People targeted by PELF with ALB","Loa endemic areas",null,"Target population for STH",null,null,null,null,null,"Albendazole (ALB)",null,null,null,null,null,"Mebendazole (MBD)"]
["Country","Province/State","District","LF","STH",null,"Population","Rounds planned","PreSAC",null,"SAC","WRA",null,"Total","Total required","Remaining in stock (LF)","Tablets to be procured (LF)","Total required","Remaining in stock (STH)","Tablets to be procured (STH)","Total required","Remaining in stock","Tablets to be procured"]
[null,null,null,null,null,null,null,null,"Rounds","People","People","Rounds","People"]
[]
[{"$f":"IF(AND(INTRO!$E$37=\"Non-endemic\",INTRO!$E$41=\"Non-endemic\"),\" \",IF(COUNTRY_INFO!A10=0,\" \",COUNTRY_INFO!A10))","v":"Tchad"},{"$f":"IF(AND(INTRO!$E$37=\"Non-endemic\",INTRO!$E$41=\"Non-endemic\"),\" \",IF(COUNTRY_INFO!B10=0,\" \",COUNTRY_INFO!B10))","v":"Bahr El Gazel"},{"$f":"IF(AND(INTRO!$E$37=\"Non-endemic\",INTRO!$E$41=\"Non-endemic\"),\" \",IF(COUNTRY_INFO!C10=0,\" \",COUNTRY_INFO!C10))","v":"Chadra"},{"$f":"IF(AND(INTRO!$E$37=\"Non-endemic\",INTRO!$E$41=\"Non-endemic\"),0,COUNTRY_INFO!W10)","v":0},{"$f":"IF(AND(INTRO!$E$37=\"Non-endemic\",INTRO!$E$41=\"Non-endemic\"),0,COUNTRY_INFO!Y10)","v":1},{"$f":"IF($D10=1,IVM!G10,0)","v":0},{"$f":"IF($D10=0, \" \", IF(COUNTRY_INFO!$H10=1, IF(COUNTRY_INFO!$L10=1, 0,\" \"),\" \"))","v":" "},null,null,{"$f":"IF(OR(COUNTRY_INFO!O10=\"Unknown\",COUNTRY_INFO!O10=\"Surveillance\",COUNTRY_INFO!O10=\"Not required\",COUNTRY_INFO!O10=0),0,IF(INTRO!$E$39=\"Non-endemic\",IF(AND($E10<>0,$I10=\"\"),IF($F10=0,COUNTRY_INFO!O10*$E10,COUNTRY_INFO!O10*($E10-$D10)),IF(AND($E10<>0,$I10<>0),IF($F10=0,COUNTRY_INFO!O10*$I10,COUNTRY_INFO!O10*($I10-$D10)),0)),IF($I10=\"\",COUNTRY_INFO!O10*$E10,COUNTRY_INFO!O10*$I10)))","v":15820},{"$f":"MAX(0,IF(OR(COUNTRY_INFO!P10=\"Unknown\",COUNTRY_INFO!P10=\"Surveillance\",COUNTRY_INFO!P10=\"Not required\",COUNTRY_INFO!P10=0),0,IF($E10<>0,IF($D10=0,COUNTRY_INFO!P10*$E10,COUNTRY_INFO!P10*$E10-($F10*COUNTRY_INFO!$P10/(COUNTRY_INFO!$F10+COUNTRY_INFO!$G10)+IF($G10=\" \",0,COUNTRY_INFO!$P10/(COUNTRY_INFO!$F10+COUNTRY_INFO!$G10)*$G10*$H10))),0)))","v":31219},null,{"$f":"MAX(0,IF(OR(COUNTRY_INFO!Q10=\"Unknown\",COUNTRY_INFO!Q10=\"Surveillance\",COUNTRY_INFO!Q10=\"Not required\",COUNTRY_INFO!Q10=0),0,IF($E10<>0,IF($D10=0,COUNTRY_INFO!Q10*MIN($E10,$L10),COUNTRY_INFO!Q10*MIN($E10,$L10)-($F10*COUNTRY_INFO!$Q10/(COUNTRY_INFO!$F10+COUNTRY_INFO!$G10)+IF($G10=\" \",0,COUNTRY_INFO!$Q10/(COUNTRY_INFO!$F10+COUNTRY_INFO!$G10)*$G10*$H10))),0)))","v":23944},{"$f":"ROUND($J10,0)+ROUND($K10,0)+ROUND($M10,0)","v":70983},{"$f":"$F10+IF(OR(G10=0,G10=\" \"),0,G10*H10)","v":0},null,{"$f":"IF($O10>$P10, $O10-$P10,0)","v":0},{"$f":"ROUND((IF($I$2=\"ALB\",$J10,0)+IF($K$2=\"ALB\",$K10,0)+IF($L$2=\"ALB\",$M10,0)),0)","v":55163},null,{"$f":"IF($R10>$S10,$R10-$S10,0)","v":55163},{"$f":"ROUND((IF($I$2=\"MBD\",$J10,0)+IF($K$2=\"MBD\",$K10,0)+IF($L$2=\"MBD\",$M10,0)),0)","v":15820},null,{"$f":"IF($U10>$V10,$U10-$V10,0)","v":15820}]
[{"$f":"IF(AND(INTRO!$E$37=\"Non-endemic\",INTRO!$E$41=\"Non-endemic\"),\" \",IF(COUNTRY_INFO!A11=0,\" \",COUNTRY_INFO!A11))","v":"Tchad"},{"$f":"IF(AND(INTRO!$E$37=\"Non-endemic\",INTRO!$E$41=\"Non-endemic\"),\" \",IF(COUNTRY_INFO!B11=0,\" \",COUNTRY_INFO!B11))","v":"Bahr El Gazel"},{"$f":"IF(AND(INTRO!$E$37=\"Non-endemic\",INTRO!$E$41=\"Non-endemic\"),\" \",IF(COUNTRY_INFO!C11=0,\" \",COUNTRY_INFO!C11))","v":"Michemire"},{"$f":"IF(AND(INTRO!$E$37=\"Non-endemic\",INTRO!$E$41=\"Non-endemic\"),0,COUNTRY_INFO!W11)","v":0},{"$f":"IF(AND(INTRO!$E$37=\"Non-endemic\",INTRO!$E$41=\"Non-endemic\"),0,COUNTRY_INFO!Y11)","v":0},{"$f":"IF($D11=1,IVM!G11,0)","v":0},{"$f":"IF($D11=0, \" \", IF(COUNTRY_INFO!$H11=1, IF(COUNTRY_INFO!$L11=1, 0,\" \"),\" \"))","v":" "},null,null,{"$f":"IF(OR(COUNTRY_INFO!O11=\"Unknown\",COUNTRY_INFO!O11=\"Surveillance\",COUNTRY_INFO!O11=\"Not required\",COUNTRY_INFO!O11=0),0,IF(INTRO!$E$39=\"Non-endemic\",IF(AND($E11<>0,$I11=\"\"),IF($F11=0,COUNTRY_INFO!O11*$E11,COUNTRY_INFO!O11*($E11-$D11)),IF(AND($E11<>0,$I11<>0),IF($F11=0,COUNTRY_INFO!O11*$I11,COUNTRY_INFO!O11*($I11-$D11)),0)),IF($I11=\"\",COUNTRY_INFO!O11*$E11,COUNTRY_INFO!O11*$I11)))","v":0},{"$f":"MAX(0,IF(OR(COUNTRY_INFO!P11=\"Unknown\",COUNTRY_INFO!P11=\"Surveillance\",COUNTRY_INFO!P11=\"Not required\",COUNTRY_INFO!P11=0),0,IF($E11<>0,IF($D11=0,COUNTRY_INFO!P11*$E11,COUNTRY_INFO!P11*$E11-($F11*COUNTRY_INFO!$P11/(COUNTRY_INFO!$F11+COUNTRY_INFO!$G11)+IF($G11=\" \",0,COUNTRY_INFO!$P11/(COUNTRY_INFO!$F11+COUNTRY_INFO!$G11)*$G11*$H11))),0)))","v":0},null,{"$f":"MAX(0,IF(OR(COUNTRY_INFO!Q11=\"Unknown\",COUNTRY_INFO!Q11=\"Surveillance\",COUNTRY_INFO!Q11=\"Not required\",COUNTRY_INFO!Q11=0),0,IF($E11<>0,IF($D11=0,COUNTRY_INFO!Q11*MIN($E11,$L11),COUNTRY_INFO!Q11*MIN($E11,$L11)-($F11*COUNTRY_INFO!$Q11/(COUNTRY_INFO!$F11+COUNTRY_INFO!$G11)+IF($G11=\" \",0,COUNTRY_INFO!$Q11/(COUNTRY_INFO!$F11+COUNTRY_INFO!$G11)*$G11*$H11))),0)))","v":0},0,{"$f":"$F11+IF(OR(G11=0,G11=\" \"),0,G11*H11)","v":0},null,0,0,null,0,0,null,0]
[{"$f":"IF(AND(INTRO!$E$37=\"Non-endemic\",INTRO!$E$41=\"Non-endemic\"),\" \",IF(COUNTRY_INFO!A12=0,\" \",COUNTRY_INFO!A12))","v":"Tchad"},{"$f":"IF(AND(INTRO!$E$37=\"Non-endemic\",INTRO!$E$41=\"Non-endemic\"),\" \",IF(COUNTRY_INFO!B12=0,\" \",COUNTRY_INFO!B12))","v":"Bahr El Gazel"},{"$f":"IF(AND(INTRO!$E$37=\"Non-endemic\",INTRO!$E$41=\"Non-endemic\"),\" \",IF(COUNTRY_INFO!C12=0,\" \",COUNTRY_INFO!C12))","v":"Moussoro"},{"$f":"IF(AND(INTRO!$E$37=\"Non-endemic\",INTRO!$E$41=\"Non-endemic\"),0,COUNTRY_INFO!W12)","v":0},{"$f":"IF(AND(INTRO!$E$37=\"Non-endemic\",INTRO!$E$41=\"Non-endemic\"),0,COUNTRY_INFO!Y12)","v":0},{"$f":"IF($D12=1,IVM!G12,0)","v":0},{"$f":"IF($D12=0, \" \", IF(COUNTRY_INFO!$H12=1, IF(COUNTRY_INFO!$L12=1, 0,\" \"),\" \"))","v":" "},null,null,{"$f":"IF(OR(COUNTRY_INFO!O12=\"Unknown\",COUNTRY_INFO!O12=\"Surveillance\",COUNTRY_INFO!O12=\"Not required\",COUNTRY_INFO!O12=0),0,IF(INTRO!$E$39=\"Non-endemic\",IF(AND($E12<>0,$I12=\"\"),IF($F12=0,COUNTRY_INFO!O12*$E12,COUNTRY_INFO!O12*($E12-$D12)),IF(AND($E12<>0,$I12<>0),IF($F12=0,COUNTRY_INFO!O12*$I12,COUNTRY_INFO!O12*($I12-$D12)),0)),IF($I12=\"\",COUNTRY_INFO!O12*$E12,COUNTRY_INFO!O12*$I12)))","v":0},{"$f":"MAX(0,IF(OR(COUNTRY_INFO!P12=\"Unknown\",COUNTRY_INFO!P12=\"Surveillance\",COUNTRY_INFO!P12=\"Not required\",COUNTRY_INFO!P12=0),0,IF($E12<>0,IF($D12=0,COUNTRY_INFO!P12*$E12,COUNTRY_INFO!P12*$E12-($F12*COUNTRY_INFO!$P12/(COUNTRY_INFO!$F12+COUNTRY_INFO!$G12)+IF($G12=\" \",0,COUNTRY_INFO!$P12/(COUNTRY_INFO!$F12+COUNTRY_INFO!$G12)*$G12*$H12))),0)))","v":0},null,{"$f":"MAX(0,IF(OR(COUNTRY_INFO!Q12=\"Unknown\",COUNTRY_INFO!Q12=\"Surveillance\",COUNTRY_INFO!Q12=\"Not required\",COUNTRY_INFO!Q12=0),0,IF($E12<>0,IF($D12=0,COUNTRY_INFO!Q12*MIN($E12,$L12),COUNTRY_INFO!Q12*MIN($E12,$L12)-($F12*COUNTRY_INFO!$Q12/(COUNTRY_INFO!$F12+COUNTRY_INFO!$G12)+IF($G12=\" \",0,COUNTRY_INFO!$Q12/(COUNTRY_INFO!$F12+COUNTRY_INFO!$G12)*$G12*$H12))),0)))","v":0},0,0,null,0,0,null,0,0,null,0]
[{"$f":"IF(AND(INTRO!$E$37=\"Non-endemic\",INTRO!$E$41=\"Non-endemic\"),\" \",IF(COUNTRY_INFO!A13=0,\" \",COUNTRY_INFO!A13))","v":"Tchad"},{"$f":"IF(AND(INTRO!$E$37=\"Non-endemic\",INTRO!$E$41=\"Non-endemic\"),\" \",IF(COUNTRY_INFO!B13=0,\" \",COUNTRY_INFO!B13))","v":"Bahr El Gazel"},{"$f":"IF(AND(INTRO!$E$37=\"Non-endemic\",INTRO!$E$41=\"Non-endemic\"),\" \",IF(COUNTRY_INFO!C13=0,\" \",COUNTRY_INFO!C13))","v":"Salal"},{"$f":"IF(AND(INTRO!$E$37=\"Non-endemic\",INTRO!$E$41=\"Non-endemic\"),0,COUNTRY_INFO!W13)","v":0},{"$f":"IF(AND(INTRO!$E$37=\"Non-endemic\",INTRO!$E$41=\"Non-endemic\"),0,COUNTRY_INFO!Y13)","v":0},{"$f":"IF($D13=1,IVM!G13,0)","v":0},{"$f":"IF($D13=0, \" \", IF(COUNTRY_INFO!$H13=1, IF(COUNTRY_INFO!$L13=1, 0,\" \"),\" \"))","v":" "},null,null,{"$f":"IF(OR(COUNTRY_INFO!O13=\"Unknown\",COUNTRY_INFO!O13=\"Surveillance\",COUNTRY_INFO!O13=\"Not required\",COUNTRY_INFO!O13=0),0,IF(INTRO!$E$39=\"Non-endemic\",IF(AND($E13<>0,$I13=\"\"),IF($F13=0,COUNTRY_INFO!O13*$E13,COUNTRY_INFO!O13*($E13-$D13)),IF(AND($E13<>0,$I13<>0),IF($F13=0,COUNTRY_INFO!O13*$I13,COUNTRY_INFO!O13*($I13-$D13)),0)),IF($I13=\"\",COUNTRY_INFO!O13*$E13,COUNTRY_INFO!O13*$I13)))","v":0},{"$f":"MAX(0,IF(OR(COUNTRY_INFO!P13=\"Unknown\",COUNTRY_INFO!P13=\"Surveillance\",COUNTRY_INFO!P13=\"Not required\",COUNTRY_INFO!P13=0),0,IF($E13<>0,IF($D13=0,COUNTRY_INFO!P13*$E13,COUNTRY_INFO!P13*$E13-($F13*COUNTRY_INFO!$P13/(COUNTRY_INFO!$F13+COUNTRY_INFO!$G13)+IF($G13=\" \",0,COUNTRY_INFO!$P13/(COUNTRY_INFO!$F13+COUNTRY_INFO!$G13)*$G13*$H13))),0)))","v":0},null,{"$f":"MAX(0,IF(OR(COUNTRY_INFO!Q13=\"Unknown\",COUNTRY_INFO!Q13=\"Surveillance\",COUNTRY_INFO!Q13=\"Not required\",COUNTRY_INFO!Q13=0),0,IF($E13<>0,IF($D13=0,COUNTRY_INFO!Q13*MIN($E13,$L13),COUNTRY_INFO!Q13*MIN($E13,$L13)-($F13*COUNTRY_INFO!$Q13/(COUNTRY_INFO!$F13+COUNTRY_INFO!$G13)+IF($G13=\" \",0,COUNTRY_INFO!$Q13/(COUNTRY_INFO!$F13+COUNTRY_INFO!$G13)*$G13*$H13))),0)))","v":0},0,0,null,0,0,null,0,0,null,0]
[{"$f":"IF(AND(INTRO!$E$37=\"Non-endemic\",INTRO!$E$41=\"Non-endemic\"),\" \",IF(COUNTRY_INFO!A14=0,\" \",COUNTRY_INFO!A14))","v":"Tchad"},{"$f":"IF(AND(INTRO!$E$37=\"Non-endemic\",INTRO!$E$41=\"Non-endemic\"),\" \",IF(COUNTRY_INFO!B14=0,\" \",COUNTRY_INFO!B14))","v":"Batha"},{"$f":"IF(AND(INTRO!$E$37=\"Non-endemic\",INTRO!$E$41=\"Non-endemic\"),\" \",IF(COUNTRY_INFO!C14=0,\" \",COUNTRY_INFO!C14))","v":"Alifa"},{"$f":"IF(AND(INTRO!$E$37=\"Non-endemic\",INTRO!$E$41=\"Non-endemic\"),0,COUNTRY_INFO!W14)","v":0},{"$f":"IF(AND(INTRO!$E$37=\"Non-endemic\",INTRO!$E$41=\"Non-endemic\"),0,COUNTRY_INFO!Y14)","v":0},{"$f":"IF($D14=1,IVM!G14,0)","v":0},{"$f":"IF($D14=0, \" \", IF(COUNTRY_INFO!$H14=1, IF(COUNTRY_INFO!$L14=1, 0,\" \"),\" \"))","v":" "},null,null,{"$f":"IF(OR(COUNTRY_INFO!O14=\"Unknown\",COUNTRY_INFO!O14=\"Surveillance\",COUNTRY_INFO!O14=\"Not required\",COUNTRY_INFO!O14=0),0,IF(INTRO!$E$39=\"Non-endemic\",IF(AND($E14<>0,$I14=\"\"),IF($F14=0,COUNTRY_INFO!O14*$E14,COUNTRY_INFO!O14*($E14-$D14)),IF(AND($E14<>0,$I14<>0),IF($F14=0,COUNTRY_INFO!O14*$I14,COUNTRY_INFO!O14*($I14-$D14)),0)),IF($I14=\"\",COUNTRY_INFO!O14*$E14,COUNTRY_INFO!O14*$I14)))","v":0},{"$f":"MAX(0,IF(OR(COUNTRY_INFO!P14=\"Unknown\",COUNTRY_INFO!P14=\"Surveillance\",COUNTRY_INFO!P14=\"Not required\",COUNTRY_INFO!P14=0),0,IF($E14<>0,IF($D14=0,COUNTRY_INFO!P14*$E14,COUNTRY_INFO!P14*$E14-($F14*COUNTRY_INFO!$P14/(COUNTRY_INFO!$F14+COUNTRY_INFO!$G14)+IF($G14=\" \",0,COUNTRY_INFO!$P14/(COUNTRY_INFO!$F14+COUNTRY_INFO!$G14)*$G14*$H14))),0)))","v":0},null,{"$f":"MAX(0,IF(OR(COUNTRY_INFO!Q14=\"Unknown\",COUNTRY_INFO!Q14=\"Surveillance\",COUNTRY_INFO!Q14=\"Not required\",COUNTRY_INFO!Q14=0),0,IF($E14<>0,IF($D14=0,COUNTRY_INFO!Q14*MIN($E14,$L14),COUNTRY_INFO!Q14*MIN($E14,$L14)-($F14*COUNTRY_INFO!$Q14/(COUNTRY_INFO!$F14+COUNTRY_INFO!$G14)+IF($G14=\" \",0,COUNTRY_INFO!$Q14/(COUNTRY_INFO!$F14+COUNTRY_INFO!$G14)*$G14*$H14))),0)))","v":0},0,0,null,0,0,null,0,0,null,0]
[{"$f":"IF(AND(INTRO!$E$37=\"Non-endemic\",INTRO!$E$41=\"Non-endemic\"),\" \",IF(COUNTRY_INFO!A15=0,\" \",COUNTRY_INFO!A15))","v":"Tchad"},{"$f":"IF(AND(INTRO!$E$37=\"Non-endemic\",INTRO!$E$41=\"Non-endemic\"),\" \",IF(COUNTRY_INFO!B15=0,\" \",COUNTRY_INFO!B15))","v":"Batha"},{"$f":"IF(AND(INTRO!$E$37=\"Non-endemic\",INTRO!$E$41=\"Non-endemic\"),\" \",IF(COUNTRY_INFO!C15=0,\" \",COUNTRY_INFO!C15))","v":"Assinet"},{"$f":"IF(AND(INTRO!$E$37=\"Non-endemic\",INTRO!$E$41=\"Non-endemic\"),0,COUNTRY_INFO!W15)","v":0},{"$f":"IF(AND(INTRO!$E$37=\"Non-endemic\",INTRO!$E$41=\"Non-endemic\"),0,COUNTRY_INFO!Y15)","v":0},{"$f":"IF($D15=1,IVM!G15,0)","v":0},{"$f":"IF($D15=0, \" \", IF(COUNTRY_INFO!$H15=1, IF(COUNTRY_INFO!$L15=1, 0,\" \"),\" \"))","v":" "},null,null,{"$f":"IF(OR(COUNTRY_INFO!O15=\"Unknown\",COUNTRY_INFO!O15=\"Surveillance\",COUNTRY_INFO!O15=\"Not required\",COUNTRY_INFO!O15=0),0,IF(INTRO!$E$39=\"Non-endemic\",IF(AND($E15<>0,$I15=\"\"),IF($F15=0,COUNTRY_INFO!O15*$E15,COUNTRY_INFO!O15*($E15-$D15)),IF(AND($E15<>0,$I15<>0),IF($F15=0,COUNTRY_INFO!O15*$I15,COUNTRY_INFO!O15*($I15-$D15)),0)),IF($I15=\"\",COUNTRY_INFO!O15*$E15,COUNTRY_INFO!O15*$I15)))","v":0},{"$f":"MAX(0,IF(OR(COUNTRY_INFO!P15=\"Unknown\",COUNTRY_INFO!P15=\"Surveillance\",COUNTRY_INFO!P15=\"Not required\",COUNTRY_INFO!P15=0),0,IF($E15<>0,IF($D15=0,COUNTRY_INFO!P15*$E15,COUNTRY_INFO!P15*$E15-($F15*COUNTRY_INFO!$P15/(COUNTRY_INFO!$F15+COUNTRY_INFO!$G15)+IF($G15=\" \",0,COUNTRY_INFO!$P15/(COUNTRY_INFO!$F15+COUNTRY_INFO!$G15)*$G15*$H15))),0)))","v":0},null,{"$f":"MAX(0,IF(OR(COUNTRY_INFO!Q15=\"Unknown\",COUNTRY_INFO!Q15=\"Surveillance\",COUNTRY_INFO!Q15=\"Not required\",COUNTRY_INFO!Q15=0),0,IF($E15<>0,IF($D15=0,COUNTRY_INFO!Q15*MIN($E15,$L15),COUNTRY_INFO!Q15*MIN($E15,$L15)-($F15*COUNTRY_INFO!$Q15/(COUNTRY_INFO!$F15+COUNTRY_INFO!$G15)+IF($G15=\" \",0,COUNTRY_INFO!$Q15/(COUNTRY_INFO!$F15+COUNTRY_INFO!$G15)*$G15*$H15))),0)))","v":0},0,0,null,0,0,null,0,0,null,0]
[{"$f":"IF(AND(INTRO!$E$37=\"Non-endemic\",INTRO!$E$41=\"Non-endemic\"),\" \",IF(COUNTRY_INFO!A16=0,\" \",COUNTRY_INFO!A16))","v":"Tchad"},{"$f":"IF(AND(INTRO!$E$37=\"Non-endemic\",INTRO!$E$41=\"Non-endemic\"),\" \",IF(COUNTRY_INFO!B16=0,\" \",COUNTRY_INFO!B16))","v":"Batha"},{"$f":"IF(AND(INTRO!$E$37=\"Non-endemic\",INTRO!$E$41=\"Non-endemic\"),\" \",IF(COUNTRY_INFO!C16=0,\" \",COUNTRY_INFO!C16))","v":"Ati"},{"$f":"IF(AND(INTRO!$E$37=\"Non-endemic\",INTRO!$E$41=\"Non-endemic\"),0,COUNTRY_INFO!W16)","v":0},{"$f":"IF(AND(INTRO!$E$37=\"Non-endemic\",INTRO!$E$41=\"Non-endemic\"),0,COUNTRY_INFO!Y16)","v":0},{"$f":"IF($D16=1,IVM!G16,0)","v":0},{"$f":"IF($D16=0, \" \", IF(COUNTRY_INFO!$H16=1, IF(COUNTRY_INFO!$L16=1, 0,\" \"),\" \"))","v":" "},null,null,{"$f":"IF(OR(COUNTRY_INFO!O16=\"Unknown\",COUNTRY_INFO!O16=\"Surveillance\",COUNTRY_INFO!O16=\"Not required\",COUNTRY_INFO!O16=0),0,IF(INTRO!$E$39=\"Non-endemic\",IF(AND($E16<>0,$I16=\"\"),IF($F16=0,COUNTRY_INFO!O16*$E16,COUNTRY_INFO!O16*($E16-$D16)),IF(AND($E16<>0,$I16<>0),IF($F16=0,COUNTRY_INFO!O16*$I16,COUNTRY_INFO!O16*($I16-$D16)),0)),IF($I16=\"\",COUNTRY_INFO!O16*$E16,COUNTRY_INFO!O16*$I16)))","v":0},{"$f":"MAX(0,IF(OR(COUNTRY_INFO!P16=\"Unknown\",COUNTRY_INFO!P16=\"Surveillance\",COUNTRY_INFO!P16=\"Not required\",COUNTRY_INFO!P16=0),0,IF($E16<>0,IF($D16=0,COUNTRY_INFO!P16*$E16,COUNTRY_INFO!P16*$E16-($F16*COUNTRY_INFO!$P16/(COUNTRY_INFO!$F16+COUNTRY_INFO!$G16)+IF($G16=\" \",0,COUNTRY_INFO!$P16/(COUNTRY_INFO!$F16+COUNTRY_INFO!$G16)*$G16*$H16))),0)))","v":0},null,{"$f":"MAX(0,IF(OR(COUNTRY_INFO!Q16=\"Unknown\",COUNTRY_INFO!Q16=\"Surveillance\",COUNTRY_INFO!Q16=\"Not required\",COUNTRY_INFO!Q16=0),0,IF($E16<>0,IF($D16=0,COUNTRY_INFO!Q16*MIN($E16,$L16),COUNTRY_INFO!Q16*MIN($E16,$L16)-($F16*COUNTRY_INFO!$Q16/(COUNTRY_INFO!$F16+COUNTRY_INFO!$G16)+IF($G16=\" \",0,COUNTRY_INFO!$Q16/(COUNTRY_INFO!$F16+COUNTRY_INFO!$G16)*$G16*$H16))),0)))","v":0},0,0,null,0,0,null,0,0,null,0]
[{"$f":"IF(AND(INTRO!$E$37=\"Non-endemic\",INTRO!$E$41=\"Non-endemic\"),\" \",IF(COUNTRY_INFO!A17=0,\" \",COUNTRY_INFO!A17))","v":"Tchad"},{"$f":"IF(AND(INTRO!$E$37=\"Non-endemic\",INTRO!$E$41=\"Non-endemic\"),\" \",IF(COUNTRY_INFO!B17=0,\" \",COUNTRY_INFO!B17))","v":"Batha"},{"$f":"IF(AND(INTRO!$E$37=\"Non-endemic\",INTRO!$E$41=\"Non-endemic\"),\" \",IF(COUNTRY_INFO!C17=0,\" \",COUNTRY_INFO!C17))","v":"Djedda"},{"$f":"IF(AND(INTRO!$E$37=\"Non-endemic\",INTRO!$E$41=\"Non-endemic\"),0,COUNTRY_INFO!W17)","v":0},{"$f":"IF(AND(INTRO!$E$37=\"Non-endemic\",INTRO!$E$41=\"Non-endemic\"),0,COUNTRY_INFO!Y17)","v":0},{"$f":"IF($D17=1,IVM!G17,0)","v":0},{"$f":"IF($D17=0, \" \", IF(COUNTRY_INFO!$H17=1, IF(COUNTRY_INFO!$L17=1, 0,\" \"),\" \"))","v":" "},null,null,{"$f":"IF(OR(COUNTRY_INFO!O17=\"Unknown\",COUNTRY_INFO!O17=\"Surveillance\",COUNTRY_INFO!O17=\"Not required\",COUNTRY_INFO!O17=0),0,IF(INTRO!$E$39=\"Non-endemic\",IF(AND($E17<>0,$I17=\"\"),IF($F17=0,COUNTRY_INFO!O17*$E17,COUNTRY_INFO!O17*($E17-$D17)),IF(AND($E17<>0,$I17<>0),IF($F17=0,COUNTRY_INFO!O17*$I17,COUNTRY_INFO!O17*($I17-$D17)),0)),IF($I17=\"\",COUNTRY_INFO!O17*$E17,COUNTRY_INFO!O17*$I17)))","v":0},{"$f":"MAX(0,IF(OR(COUNTRY_INFO!P17=\"Unknown\",COUNTRY_INFO!P17=\"Surveillance\",COUNTRY_INFO!P17=\"Not required\",COUNTRY_INFO!P17=0),0,IF($E17<>0,IF($D17=0,COUNTRY_INFO!P17*$E17,COUNTRY_INFO!P17*$E17-($F17*COUNTRY_INFO!$P17/(COUNTRY_INFO!$F17+COUNTRY_INFO!$G17)+IF($G17=\" \",0,COUNTRY_INFO!$P17/(COUNTRY_INFO!$F17+COUNTRY_INFO!$G17)*$G17*$H17))),0)))","v":0},null,{"$f":"MAX(0,IF(OR(COUNTRY_INFO!Q17=\"Unknown\",COUNTRY_INFO!Q17=\"Surveillance\",COUNTRY_INFO!Q17=\"Not required\",COUNTRY_INFO!Q17=0),0,IF($E17<>0,IF($D17=0,COUNTRY_INFO!Q17*MIN($E17,$L17),COUNTRY_INFO!Q17*MIN($E17,$L17)-($F17*COUNTRY_INFO!$Q17/(COUNTRY_INFO!$F17+COUNTRY_INFO!$G17)+IF($G17=\" \",0,COUNTRY_INFO!$Q17/(COUNTRY_INFO!$F17+COUNTRY_INFO!$G17)*$G17*$H17))),0)))","v":0},0,0,null,0,0,null,0,0,null,0]
[{"$f":"IF(AND(INTRO!$E$37=\"Non-endemic\",INTRO!$E$41=\"Non-endemic\"),\" \",IF(COUNTRY_INFO!A18=0,\" \",COUNTRY_INFO!A18))","v":"Tchad"},{"$f":"IF(AND(INTRO!$E$37=\"Non-endemic\",INTRO!$E$41=\"Non-endemic\"),\" \",IF(COUNTRY_INFO!B18=0,\" \",COUNTRY_INFO!B18))","v":"Batha"},{"$f":"IF(AND(INTRO!$E$37=\"Non-endemic\",INTRO!$E$41=\"Non-endemic\"),\" \",IF(COUNTRY_INFO!C18=0,\" \",COUNTRY_INFO!C18))","v":"Koundjourou"},{"$f":"IF(AND(INTRO!$E$37=\"Non-endemic\",INTRO!$E$41=\"Non-endemic\"),0,COUNTRY_INFO!W18)","v":0},{"$f":"IF(AND(INTRO!$E$37=\"Non-endemic\",INTRO!$E$41=\"Non-endemic\"),0,COUNTRY_INFO!Y18)","v":0},{"$f":"IF($D18=1,IVM!G18,0)","v":0},{"$f":"IF($D18=0, \" \", IF(COUNTRY_INFO!$H18=1, IF(COUNTRY_INFO!$L18=1, 0,\" \"),\" \"))","v":" "},null,null,{"$f":"IF(OR(COUNTRY_INFO!O18=\"Unknown\",COUNTRY_INFO!O18=\"Surveillance\",COUNTRY_INFO!O18=\"Not required\",COUNTRY_INFO!O18=0),0,IF(INTRO!$E$39=\"Non-endemic\",IF(AND($E18<>0,$I18=\"\"),IF($F18=0,COUNTRY_INFO!O18*$E18,COUNTRY_INFO!O18*($E18-$D18)),IF(AND($E18<>0,$I18<>0),IF($F18=0,COUNTRY_INFO!O18*$I18,COUNTRY_INFO!O18*($I18-$D18)),0)),IF($I18=\"\",COUNTRY_INFO!O18*$E18,COUNTRY_INFO!O18*$I18)))","v":0},{"$f":"MAX(0,IF(OR(COUNTRY_INFO!P18=\"Unknown\",COUNTRY_INFO!P18=\"Surveillance\",COUNTRY_INFO!P18=\"Not required\",COUNTRY_INFO!P18=0),0,IF($E18<>0,IF($D18=0,COUNTRY_INFO!P18*$E18,COUNTRY_INFO!P18*$E18-($F18*COUNTRY_INFO!$P18/(COUNTRY_INFO!$F18+COUNTRY_INFO!$G18)+IF($G18=\" \",0,COUNTRY_INFO!$P18/(COUNTRY_INFO!$F18+COUNTRY_INFO!$G18)*$G18*$H18))),0)))","v":0},null,{"$f":"MAX(0,IF(OR(COUNTRY_INFO!Q18=\"Unknown\",COUNTRY_INFO!Q18=\"Surveillance\",COUNTRY_INFO!Q18=\"Not required\",COUNTRY_INFO!Q18=0),0,IF($E18<>0,IF($D18=0,COUNTRY_INFO!Q18*MIN($E18,$L18),COUNTRY_INFO!Q18*MIN($E18,$L18)-($F18*COUNTRY_INFO!$Q18/(COUNTRY_INFO!$F18+COUNTRY_INFO!$G18)+IF($G18=\" \",0,COUNTRY_INFO!$Q18/(COUNTRY_INFO!$F18+COUNTRY_INFO!$G18)*$G18*$H18))),0)))","v":0},0,0,null,0,0,null,0,0,null,0]
[{"$f":"IF(AND(INTRO!$E$37=\"Non-endemic\",INTRO!$E$41=\"Non-endemic\"),\" \",IF(COUNTRY_INFO!A19=0,\" \",COUNTRY_INFO!A19))","v":"Tchad"},{"$f":"IF(AND(INTRO!$E$37=\"Non-endemic\",INTRO!$E$41=\"Non-endemic\"),\" \",IF(COUNTRY_INFO!B19=0,\" \",COUNTRY_INFO!B19))","v":"Batha"},{"$f":"IF(AND(INTRO!$E$37=\"Non-endemic\",INTRO!$E$41=\"Non-endemic\"),\" \",IF(COUNTRY_INFO!C19=0,\" \",COUNTRY_INFO!C19))","v":"Oum-Hadjer"},{"$f":"IF(AND(INTRO!$E$37=\"Non-endemic\",INTRO!$E$41=\"Non-endemic\"),0,COUNTRY_INFO!W19)","v":0},{"$f":"IF(AND(INTRO!$E$37=\"Non-endemic\",INTRO!$E$41=\"Non-endemic\"),0,COUNTRY_INFO!Y19)","v":0},{"$f":"IF($D19=1,IVM!G19,0)","v":0},{"$f":"IF($D19=0, \" \", IF(COUNTRY_INFO!$H19=1, IF(COUNTRY_INFO!$L19=1, 0,\" \"),\" \"))","v":" "},null,null,{"$f":"IF(OR(COUNTRY_INFO!O19=\"Unknown\",COUNTRY_INFO!O19=\"Surveillance\",COUNTRY_INFO!O19=\"Not required\",COUNTRY_INFO!O19=0),0,IF(INTRO!$E$39=\"Non-endemic\",IF(AND($E19<>0,$I19=\"\"),IF($F19=0,COUNTRY_INFO!O19*$E19,COUNTRY_INFO!O19*($E19-$D19)),IF(AND($E19<>0,$I19<>0),IF($F19=0,COUNTRY_INFO!O19*$I19,COUNTRY_INFO!O19*($I19-$D19)),0)),IF($I19=\"\",COUNTRY_INFO!O19*$E19,COUNTRY_INFO!O19*$I19)))","v":0},{"$f":"MAX(0,IF(OR(COUNTRY_INFO!P19=\"Unknown\",COUNTRY_INFO!P19=\"Surveillance\",COUNTRY_INFO!P19=\"Not required\",COUNTRY_INFO!P19=0),0,IF($E19<>0,IF($D19=0,COUNTRY_INFO!P19*$E19,COUNTRY_INFO!P19*$E19-($F19*COUNTRY_INFO!$P19/(COUNTRY_INFO!$F19+COUNTRY_INFO!$G19)+IF($G19=\" \",0,COUNTRY_INFO!$P19/(COUNTRY_INFO!$F19+COUNTRY_INFO!$G19)*$G19*$H19))),0)))","v":0},null,{"$f":"MAX(0,IF(OR(COUNTRY_INFO!Q19=\"Unknown\",COUNTRY_INFO!Q19=\"Surveillance\",COUNTRY_INFO!Q19=\"Not required\",COUNTRY_INFO!Q19=0),0,IF($E19<>0,IF($D19=0,COUNTRY_INFO!Q19*MIN($E19,$L19),COUNTRY_INFO!Q19*MIN($E19,$L19)-($F19*COUNTRY_INFO!$Q19/(COUNTRY_INFO!$F19+COUNTRY_INFO!$G19)+IF($G19=\" \",0,COUNTRY_INFO!$Q19/(COUNTRY_INFO!$F19+COUNTRY_INFO!$G19)*$G19*$H19))),0)))","v":0},0,0,null,0,0,null,0,0,null,0]
[{"$f":"IF(AND(INTRO!$E$37=\"Non-endemic\",INTRO!$E$41=\"Non-endemic\"),\" \",IF(COUNTRY_INFO!A20=0,\" \",COUNTRY_INFO!A20))","v":"Tchad"},{"$f":"IF(AND(INTRO!$E$37=\"Non-endemic\",INTRO!$E$41=\"Non-endemic\"),\" \",IF(COUNTRY_INFO!B20=0,\" \",COUNTRY_INFO!B20))","v":"Batha"},{"$f":"IF(AND(INTRO!$E$37=\"Non-endemic\",INTRO!$E$41=\"Non-endemic\"),\" \",IF(COUNTRY_INFO!C20=0,\" \",COUNTRY_INFO!C20))","v":"Yao"},{"$f":"IF(AND(INTRO!$E$37=\"Non-endemic\",INTRO!$E$41=\"Non-endemic\"),0,COUNTRY_INFO!W20)","v":0},{"$f":"IF(AND(INTRO!$E$37=\"Non-endemic\",INTRO!$E$41=\"Non-endemic\"),0,COUNTRY_INFO!Y20)","v":0},{"$f":"IF($D20=1,IVM!G20,0)","v":0},{"$f":"IF($D20=0, \" \", IF(COUNTRY_INFO!$H20=1, IF(COUNTRY_INFO!$L20=1, 0,\" \"),\" \"))","v":" "},null,null,{"$f":"IF(OR(COUNTRY_INFO!O20=\"Unknown\",COUNTRY_INFO!O20=\"Surveillance\",COUNTRY_INFO!O20=\"Not required\",COUNTRY_INFO!O20=0),0,IF(INTRO!$E$39=\"Non-endemic\",IF(AND($E20<>0,$I20=\"\"),IF($F20=0,COUNTRY_INFO!O20*$E20,COUNTRY_INFO!O20*($E20-$D20)),IF(AND($E20<>0,$I20<>0),IF($F20=0,COUNTRY_INFO!O20*$I20,COUNTRY_INFO!O20*($I20-$D20)),0)),IF($I20=\"\",COUNTRY_INFO!O20*$E20,COUNTRY_INFO!O20*$I20)))","v":0},{"$f":"MAX(0,IF(OR(COUNTRY_INFO!P20=\"Unknown\",COUNTRY_INFO!P20=\"Surveillance\",COUNTRY_INFO!P20=\"Not required\",COUNTRY_INFO!P20=0),0,IF($E20<>0,IF($D20=0,COUNTRY_INFO!P20*$E20,COUNTRY_INFO!P20*$E20-($F20*COUNTRY_INFO!$P20/(COUNTRY_INFO!$F20+COUNTRY_INFO!$G20)+IF($G20=\" \",0,COUNTRY_INFO!$P20/(COUNTRY_INFO!$F20+COUNTRY_INFO!$G20)*$G20*$H20))),0)))","v":0},null,{"$f":"MAX(0,IF(OR(COUNTRY_INFO!Q20=\"Unknown\",COUNTRY_INFO!Q20=\"Surveillance\",COUNTRY_INFO!Q20=\"Not required\",COUNTRY_INFO!Q20=0),0,IF($E20<>0,IF($D20=0,COUNTRY_INFO!Q20*MIN($E20,$L20),COUNTRY_INFO!Q20*MIN($E20,$L20)-($F20*COUNTRY_INFO!$Q20/(COUNTRY_INFO!$F20+COUNTRY_INFO!$G20)+IF($G20=\" \",0,COUNTRY_INFO!$Q20/(COUNTRY_INFO!$F20+COUNTRY_INFO!$G20)*$G20*$H20))),0)))","v":0},0,0,null,0,0,null,0,0,null,0]
[{"$f":"IF(AND(INTRO!$E$37=\"Non-endemic\",INTRO!$E$41=\"Non-endemic\"),\" \",IF(COUNTRY_INFO!A21=0,\" \",COUNTRY_INFO!A21))","v":"Tchad"},{"$f":"IF(AND(INTRO!$E$37=\"Non-endemic\",INTRO!$E$41=\"Non-endemic\"),\" \",IF(COUNTRY_INFO!B21=0,\" \",COUNTRY_INFO!B21))","v":"Borkou"},{"$f":"IF(AND(INTRO!$E$37=\"Non-endemic\",INTRO!$E$41=\"Non-endemic\"),\" \",IF(COUNTRY_INFO!C21=0,\" \",COUNTRY_INFO!C21))","v":"Faya"},{"$f":"IF(AND(INTRO!$E$37=\"Non-endemic\",INTRO!$E$41=\"Non-endemic\"),0,COUNTRY_INFO!W21)","v":0},{"$f":"IF(AND(INTRO!$E$37=\"Non-endemic\",INTRO!$E$41=\"Non-endemic\"),0,COUNTRY_INFO!Y21)","v":0},{"$f":"IF($D21=1,IVM!G21,0)","v":0},{"$f":"IF($D21=0, \" \", IF(COUNTRY_INFO!$H21=1, IF(COUNTRY_INFO!$L21=1, 0,\" \"),\" \"))","v":" "},null,null,{"$f":"IF(OR(COUNTRY_INFO!O21=\"Unknown\",COUNTRY_INFO!O21=\"Surveillance\",COUNTRY_INFO!O21=\"Not required\",COUNTRY_INFO!O21=0),0,IF(INTRO!$E$39=\"Non-endemic\",IF(AND($E21<>0,$I21=\"\"),IF($F21=0,COUNTRY_INFO!O21*$E21,COUNTRY_INFO!O21*($E21-$D21)),IF(AND($E21<>0,$I21<>0),IF($F21=0,COUNTRY_INFO!O21*$I21,COUNTRY_INFO!O21*($I21-$D21)),0)),IF($I21=\"\",COUNTRY_INFO!O21*$E21,COUNTRY_INFO!O21*$I21)))","v":0},{"$f":"MAX(0,IF(OR(COUNTRY_INFO!P21=\"Unknown\",COUNTRY_INFO!P21=\"Surveillance\",COUNTRY_INFO!P21=\"Not required\",COUNTRY_INFO!P21=0),0,IF($E21<>0,IF($D21=0,COUNTRY_INFO!P21*$E21,COUNTRY_INFO!P21*$E21-($F21*COUNTRY_INFO!$P21/(COUNTRY_INFO!$F21+COUNTRY_INFO!$G21)+IF($G21=\" \",0,COUNTRY_INFO!$P21/(COUNTRY_INFO!$F21+COUNTRY_INFO!$G21)*$G21*$H21))),0)))","v":0},null,{"$f":"MAX(0,IF(OR(COUNTRY_INFO!Q21=\"Unknown\",COUNTRY_INFO!Q21=\"Surveillance\",COUNTRY_INFO!Q21=\"Not required\",COUNTRY_INFO!Q21=0),0,IF($E21<>0,IF($D21=0,COUNTRY_INFO!Q21*MIN($E21,$L21),COUNTRY_INFO!Q21*MIN($E21,$L21)-($F21*COUNTRY_INFO!$Q21/(COUNTRY_INFO!$F21+COUNTRY_INFO!$G21)+IF($G21=\" \",0,COUNTRY_INFO!$Q21/(COUNTRY_INFO!$F21+COUNTRY_INFO!$G21)*$G21*$H21))),0)))","v":0},0,0,null,0,0,null,0,0,null,0]
[{"$f":"IF(AND(INTRO!$E$37=\"Non-endemic\",INTRO!$E$41=\"Non-endemic\"),\" \",IF(COUNTRY_INFO!A22=0,\" \",COUNTRY_INFO!A22))","v":"Tchad"},{"$f":"IF(AND(INTRO!$E$37=\"Non-endemic\",INTRO!$E$41=\"Non-endemic\"),\" \",IF(COUNTRY_INFO!B22=0,\" \",COUNTRY_INFO!B22))","v":"Borkou"},{"$f":"IF(AND(INTRO!$E$37=\"Non-endemic\",INTRO!$E$41=\"Non-endemic\"),\" \",IF(COUNTRY_INFO!C22=0,\" \",COUNTRY_INFO!C22))","v":"Kirdimi"},{"$f":"IF(AND(INTRO!$E$37=\"Non-endemic\",INTRO!$E$41=\"Non-endemic\"),0,COUNTRY_INFO!W22)","v":0},{"$f":"IF(AND(INTRO!$E$37=\"Non-endemic\",INTRO!$E$41=\"Non-endemic\"),0,COUNTRY_INFO!Y22)","v":0},{"$f":"IF($D22=1,IVM!G22,0)","v":0},{"$f":"IF($D22=0, \" \", IF(COUNTRY_INFO!$H22=1, IF(COUNTRY_INFO!$L22=1, 0,\" \"),\" \"))","v":" "},null,null,{"$f":"IF(OR(COUNTRY_INFO!O22=\"Unknown\",COUNTRY_INFO!O22=\"Surveillance\",COUNTRY_INFO!O22=\"Not required\",COUNTRY_INFO!O22=0),0,IF(INTRO!$E$39=\"Non-endemic\",IF(AND($E22<>0,$I22=\"\"),IF($F22=0,COUNTRY_INFO!O22*$E22,COUNTRY_INFO!O22*($E22-$D22)),IF(AND($E22<>0,$I22<>0),IF($F22=0,COUNTRY_INFO!O22*$I22,COUNTRY_INFO!O22*($I22-$D22)),0)),IF($I22=\"\",COUNTRY_INFO!O22*$E22,COUNTRY_INFO!O22*$I22)))","v":0},{"$f":"MAX(0,IF(OR(COUNTRY_INFO!P22=\"Unknown\",COUNTRY_INFO!P22=\"Surveillance\",COUNTRY_INFO!P22=\"Not required\",COUNTRY_INFO!P22=0),0,IF($E22<>0,IF($D22=0,COUNTRY_INFO!P22*$E22,COUNTRY_INFO!P22*$E22-($F22*COUNTRY_INFO!$P22/(COUNTRY_INFO!$F22+COUNTRY_INFO!$G22)+IF($G22=\" \",0,COUNTRY_INFO!$P22/(COUNTRY_INFO!$F22+COUNTRY_INFO!$G22)*$G22*$H22))),0)))","v":0},null,{"$f":"MAX(0,IF(OR(COUNTRY_INFO!Q22=\"Unknown\",COUNTRY_INFO!Q22=\"Surveillance\",COUNTRY_INFO!Q22=\"Not required\",COUNTRY_INFO!Q22=0),0,IF($E22<>0,IF($D22=0,COUNTRY_INFO!Q22*MIN($E22,$L22),COUNTRY_INFO!Q22*MIN($E22,$L22)-($F22*COUNTRY_INFO!$Q22/(COUNTRY_INFO!$F22+COUNTRY_INFO!$G22)+IF($G22=\" \",0,COUNTRY_INFO!$Q22/(COUNTRY_INFO!$F22+COUNTRY_INFO!$G22)*$G22*$H22))),0)))","v":0},0,0,null,0,0,null,0,0,null,0]
[{"$f":"IF(AND(INTRO!$E$37=\"Non-endemic\",INTRO!$E$41=\"Non-endemic\"),\" \",IF(COUNTRY_INFO!A23=0,\" \",COUNTRY_INFO!A23))","v":"Tchad"},{"$f":"IF(AND(INTRO!$E$37=\"Non-endemic\",INTRO!$E$41=\"Non-endemic\"),\" \",IF(COUNTRY_INFO!B23=0,\" \",COUNTRY_INFO!B23))","v":"Borkou"},{"$f":"IF(AND(INTRO!$E$37=\"Non-endemic\",INTRO!$E$41=\"Non-endemic\"),\" \",IF(COUNTRY_INFO!C23=0,\" \",COUNTRY_INFO!C23))","v":"Kouba Olanga"},{"$f":"IF(AND(INTRO!$E$37=\"Non-endemic\",INTRO!$E$41=\"Non-endemic\"),0,COUNTRY_INFO!W23)","v":0},{"$f":"IF(AND(INTRO!$E$37=\"Non-endemic\",INTRO!$E$41=\"Non-endemic\"),0,COUNTRY_INFO!Y23)","v":0},{"$f":"IF($D23=1,IVM!G23,0)","v":0},{"$f":"IF($D23=0, \" \", IF(COUNTRY_INFO!$H23=1, IF(COUNTRY_INFO!$L23=1, 0,\" \"),\" \"))","v":" "},null,null,{"$f":"IF(OR(COUNTRY_INFO!O23=\"Unknown\",COUNTRY_INFO!O23=\"Surveillance\",COUNTRY_INFO!O23=\"Not required\",COUNTRY_INFO!O23=0),0,IF(INTRO!$E$39=\"Non-endemic\",IF(AND($E23<>0,$I23=\"\"),IF($F23=0,COUNTRY_INFO!O23*$E23,COUNTRY_INFO!O23*($E23-$D23)),IF(AND($E23<>0,$I23<>0),IF($F23=0,COUNTRY_INFO!O23*$I23,COUNTRY_INFO!O23*($I23-$D23)),0)),IF($I23=\"\",COUNTRY_INFO!O23*$E23,COUNTRY_INFO!O23*$I23)))","v":0},{"$f":"MAX(0,IF(OR(COUNTRY_INFO!P23=\"Unknown\",COUNTRY_INFO!P23=\"Surveillance\",COUNTRY_INFO!P23=\"Not required\",COUNTRY_INFO!P23=0),0,IF($E23<>0,IF($D23=0,COUNTRY_INFO!P23*$E23,COUNTRY_INFO!P23*$E23-($F23*COUNTRY_INFO!$P23/(COUNTRY_INFO!$F23+COUNTRY_INFO!$G23)+IF($G23=\" \",0,COUNTRY_INFO!$P23/(COUNTRY_INFO!$F23+COUNTRY_INFO!$G23)*$G23*$H23))),0)))","v":0},null,{"$f":"MAX(0,IF(OR(COUNTRY_INFO!Q23=\"Unknown\",COUNTRY_INFO!Q23=\"Surveillance\",COUNTRY_INFO!Q23=\"Not required\",COUNTRY_INFO!Q23=0),0,IF($E23<>0,IF($D23=0,COUNTRY_INFO!Q23*MIN($E23,$L23),COUNTRY_INFO!Q23*MIN($E23,$L23)-($F23*COUNTRY_INFO!$Q23/(COUNTRY_INFO!$F23+COUNTRY_INFO!$G23)+IF($G23=\" \",0,COUNTRY_INFO!$Q23/(COUNTRY_INFO!$F23+COUNTRY_INFO!$G23)*$G23*$H23))),0)))","v":0},0,0,null,0,0,null,0,0,null,0]
[{"$f":"IF(AND(INTRO!$E$37=\"Non-endemic\",INTRO!$E$41=\"Non-endemic\"),\" \",IF(COUNTRY_INFO!A24=0,\" \",COUNTRY_INFO!A24))","v":"Tchad"},{"$f":"IF(AND(INTRO!$E$37=\"Non-endemic\",INTRO!$E$41=\"Non-endemic\"),\" \",IF(COUNTRY_INFO!B24=0,\" \",COUNTRY_INFO!B24))","v":"Chari  Baguirmi"},{"$f":"IF(AND(INTRO!$E$37=\"Non-endemic\",INTRO!$E$41=\"Non-endemic\"),\" \",IF(COUNTRY_INFO!C24=0,\" \",COUNTRY_INFO!C24))","v":"Ba-Illi"},{"$f":"IF(AND(INTRO!$E$37=\"Non-endemic\",INTRO!$E$41=\"Non-endemic\"),0,COUNTRY_INFO!W24)","v":0},{"$f":"IF(AND(INTRO!$E$37=\"Non-endemic\",INTRO!$E$41=\"Non-endemic\"),0,COUNTRY_INFO!Y24)","v":0},{"$f":"IF($D24=1,IVM!G24,0)","v":0},{"$f":"IF($D24=0, \" \", IF(COUNTRY_INFO!$H24=1, IF(COUNTRY_INFO!$L24=1, 0,\" \"),\" \"))","v":" "},null,null,{"$f":"IF(OR(COUNTRY_INFO!O24=\"Unknown\",COUNTRY_INFO!O24=\"Surveillance\",COUNTRY_INFO!O24=\"Not required\",COUNTRY_INFO!O24=0),0,IF(INTRO!$E$39=\"Non-endemic\",IF(AND($E24<>0,$I24=\"\"),IF($F24=0,COUNTRY_INFO!O24*$E24,COUNTRY_INFO!O24*($E24-$D24)),IF(AND($E24<>0,$I24<>0),IF($F24=0,COUNTRY_INFO!O24*$I24,COUNTRY_INFO!O24*($I24-$D24)),0)),IF($I24=\"\",COUNTRY_INFO!O24*$E24,COUNTRY_INFO!O24*$I24)))","v":0},{"$f":"MAX(0,IF(OR(COUNTRY_INFO!P24=\"Unknown\",COUNTRY_INFO!P24=\"Surveillance\",COUNTRY_INFO!P24=\"Not required\",COUNTRY_INFO!P24=0),0,IF($E24<>0,IF($D24=0,COUNTRY_INFO!P24*$E24,COUNTRY_INFO!P24*$E24-($F24*COUNTRY_INFO!$P24/(COUNTRY_INFO!$F24+COUNTRY_INFO!$G24)+IF($G24=\" \",0,COUNTRY_INFO!$P24/(COUNTRY_INFO!$F24+COUNTRY_INFO!$G24)*$G24*$H24))),0)))","v":0},null,{"$f":"MAX(0,IF(OR(COUNTRY_INFO!Q24=\"Unknown\",COUNTRY_INFO!Q24=\"Surveillance\",COUNTRY_INFO!Q24=\"Not required\",COUNTRY_INFO!Q24=0),0,IF($E24<>0,IF($D24=0,COUNTRY_INFO!Q24*MIN($E24,$L24),COUNTRY_INFO!Q24*MIN($E24,$L24)-($F24*COUNTRY_INFO!$Q24/(COUNTRY_INFO!$F24+COUNTRY_INFO!$G24)+IF($G24=\" \",0,COUNTRY_INFO!$Q24/(COUNTRY_INFO!$F24+COUNTRY_INFO!$G24)*$G24*$H24))),0)))","v":0},0,0,null,0,0,null,0,0,null,0]
[{"$f":"IF(AND(INTRO!$E$37=\"Non-endemic\",INTRO!$E$41=\"Non-endemic\"),\" \",IF(COUNTRY_INFO!A25=0,\" \",COUNTRY_INFO!A25))","v":"Tchad"},{"$f":"IF(AND(INTRO!$E$37=\"Non-endemic\",INTRO!$E$41=\"Non-endemic\"),\" \",IF(COUNTRY_INFO!B25=0,\" \",COUNTRY_INFO!B25))","v":"Chari  Baguirmi"},{"$f":"IF(AND(INTRO!$E$37=\"Non-endemic\",INTRO!$E$41=\"Non-endemic\"),\" \",IF(COUNTRY_INFO!C25=0,\" \",COUNTRY_INFO!C25))","v":"Bousso"},{"$f":"IF(AND(INTRO!$E$37=\"Non-endemic\",INTRO!$E$41=\"Non-endemic\"),0,COUNTRY_INFO!W25)","v":0},{"$f":"IF(AND(INTRO!$E$37=\"Non-endemic\",INTRO!$E$41=\"Non-endemic\"),0,COUNTRY_INFO!Y25)","v":0},{"$f":"IF($D25=1,IVM!G25,0)","v":0},{"$f":"IF($D25=0, \" \", IF(COUNTRY_INFO!$H25=1, IF(COUNTRY_INFO!$L25=1, 0,\" \"),\" \"))","v":" "},null,null,{"$f":"IF(OR(COUNTRY_INFO!O25=\"Unknown\",COUNTRY_INFO!O25=\"Surveillance\",COUNTRY_INFO!O25=\"Not required\",COUNTRY_INFO!O25=0),0,IF(INTRO!$E$39=\"Non-endemic\",IF(AND($E25<>0,$I25=\"\"),IF($F25=0,COUNTRY_INFO!O25*$E25,COUNTRY_INFO!O25*($E25-$D25)),IF(AND($E25<>0,$I25<>0),IF($F25=0,COUNTRY_INFO!O25*$I25,COUNTRY_INFO!O25*($I25-$D25)),0)),IF($I25=\"\",COUNTRY_INFO!O25*$E25,COUNTRY_INFO!O25*$I25)))","v":0},{"$f":"MAX(0,IF(OR(COUNTRY_INFO!P25=\"Unknown\",COUNTRY_INFO!P25=\"Surveillance\",COUNTRY_INFO!P25=\"Not required\",COUNTRY_INFO!P25=0),0,IF($E25<>0,IF($D25=0,COUNTRY_INFO!P25*$E25,COUNTRY_INFO!P25*$E25-($F25*COUNTRY_INFO!$P25/(COUNTRY_INFO!$F25+COUNTRY_INFO!$G25)+IF($G25=\" \",0,COUNTRY_INFO!$P25/(COUNTRY_INFO!$F25+COUNTRY_INFO!$G25)*$G25*$H25))),0)))","v":0},null,{"$f":"MAX(0,IF(OR(COUNTRY_INFO!Q25=\"Unknown\",COUNTRY_INFO!Q25=\"Surveillance\",COUNTRY_INFO!Q25=\"Not required\",COUNTRY_INFO!Q25=0),0,IF($E25<>0,IF($D25=0,COUNTRY_INFO!Q25*MIN($E25,$L25),COUNTRY_INFO!Q25*MIN($E25,$L25)-($F25*COUNTRY_INFO!$Q25/(COUNTRY_INFO!$F25+COUNTRY_INFO!$G25)+IF($G25=\" \",0,COUNTRY_INFO!$Q25/(COUNTRY_INFO!$F25+COUNTRY_INFO!$G25)*$G25*$H25))),0)))","v":0},0,0,null,0,0,null,0,0,null,0]
[{"$f":"IF(AND(INTRO!$E$37=\"Non-endemic\",INTRO!$E$41=\"Non-endemic\"),\" \",IF(COUNTRY_INFO!A26=0,\" \",COUNTRY_INFO!A26))","v":"Tchad"},{"$f":"IF(AND(INTRO!$E$37=\"Non-endemic\",INTRO!$E$41=\"Non-endemic\"),\" \",IF(COUNTRY_INFO!B26=0,\" \",COUNTRY_INFO!B26))","v":"Chari  Baguirmi"},{"$f":"IF(AND(INTRO!$E$37=\"Non-endemic\",INTRO!$E$41=\"Non-endemic\"),\" \",IF(COUNTRY_INFO!C26=0,\" \",COUNTRY_INFO!C26))","v":"Dourbali"},{"$f":"IF(AND(INTRO!$E$37=\"Non-endemic\",INTRO!$E$41=\"Non-endemic\"),0,COUNTRY_INFO!W26)","v":0},{"$f":"IF(AND(INTRO!$E$37=\"Non-endemic\",INTRO!$E$41=\"Non-endemic\"),0,COUNTRY_INFO!Y26)","v":0},{"$f":"IF($D26=1,IVM!G26,0)","v":0},{"$f":"IF($D26=0, \" \", IF(COUNTRY_INFO!$H26=1, IF(COUNTRY_INFO!$L26=1, 0,\" \"),\" \"))","v":" "},null,null,{"$f":"IF(OR(COUNTRY_INFO!O26=\"Unknown\",COUNTRY_INFO!O26=\"Surveillance\",COUNTRY_INFO!O26=\"Not required\",COUNTRY_INFO!O26=0),0,IF(INTRO!$E$39=\"Non-endemic\",IF(AND($E26<>0,$I26=\"\"),IF($F26=0,COUNTRY_INFO!O26*$E26,COUNTRY_INFO!O26*($E26-$D26)),IF(AND($E26<>0,$I26<>0),IF($F26=0,COUNTRY_INFO!O26*$I26,COUNTRY_INFO!O26*($I26-$D26)),0)),IF($I26=\"\",COUNTRY_INFO!O26*$E26,COUNTRY_INFO!O26*$I26)))","v":0},{"$f":"MAX(0,IF(OR(COUNTRY_INFO!P26=\"Unknown\",COUNTRY_INFO!P26=\"Surveillance\",COUNTRY_INFO!P26=\"Not required\",COUNTRY_INFO!P26=0),0,IF($E26<>0,IF($D26=0,COUNTRY_INFO!P26*$E26,COUNTRY_INFO!P26*$E26-($F26*COUNTRY_INFO!$P26/(COUNTRY_INFO!$F26+COUNTRY_INFO!$G26)+IF($G26=\" \",0,COUNTRY_INFO!$P26/(COUNTRY_INFO!$F26+COUNTRY_INFO!$G26)*$G26*$H26))),0)))","v":0},null,{"$f":"MAX(0,IF(OR(COUNTRY_INFO!Q26=\"Unknown\",COUNTRY_INFO!Q26=\"Surveillance\",COUNTRY_INFO!Q26=\"Not required\",COUNTRY_INFO!Q26=0),0,IF($E26<>0,IF($D26=0,COUNTRY_INFO!Q26*MIN($E26,$L26),COUNTRY_INFO!Q26*MIN($E26,$L26)-($F26*COUNTRY_INFO!$Q26/(COUNTRY_INFO!$F26+COUNTRY_INFO!$G26)+IF($G26=\" \",0,COUNTRY_INFO!$Q26/(COUNTRY_INFO!$F26+COUNTRY_INFO!$G26)*$G26*$H26))),0)))","v":0},0,0,null,0,0,null,0,0,null,0]
[{"$f":"IF(AND(INTRO!$E$37=\"Non-endemic\",INTRO!$E$41=\"Non-endemic\"),\" \",IF(COUNTRY_INFO!A27=0,\" \",COUNTRY_INFO!A27))","v":"Tchad"},{"$f":"IF(AND(INTRO!$E$37=\"Non-endemic\",INTRO!$E$41=\"Non-endemic\"),\" \",IF(COUNTRY_INFO!B27=0,\" \",COUNTRY_INFO!B27))","v":"Chari  Baguirmi"},{"$f":"IF(AND(INTRO!$E$37=\"Non-endemic\",INTRO!$E$41=\"Non-endemic\"),\" \",IF(COUNTRY_INFO!C27=0,\" \",COUNTRY_INFO!C27))","v":"Koulno"},{"$f":"IF(AND(INTRO!$E$37=\"Non-endemic\",INTRO!$E$41=\"Non-endemic\"),0,COUNTRY_INFO!W27)","v":0},{"$f":"IF(AND(INTRO!$E$37=\"Non-endemic\",INTRO!$E$41=\"Non-endemic\"),0,COUNTRY_INFO!Y27)","v":0},{"$f":"IF($D27=1,IVM!G27,0)","v":0},{"$f":"IF($D27=0, \" \", IF(COUNTRY_INFO!$H27=1, IF(COUNTRY_INFO!$L27=1, 0,\" \"),\" \"))","v":" "},null,null,{"$f":"IF(OR(COUNTRY_INFO!O27=\"Unknown\",COUNTRY_INFO!O27=\"Surveillance\",COUNTRY_INFO!O27=\"Not required\",COUNTRY_INFO!O27=0),0,IF(INTRO!$E$39=\"Non-endemic\",IF(AND($E27<>0,$I27=\"\"),IF($F27=0,COUNTRY_INFO!O27*$E27,COUNTRY_INFO!O27*($E27-$D27)),IF(AND($E27<>0,$I27<>0),IF($F27=0,COUNTRY_INFO!O27*$I27,COUNTRY_INFO!O27*($I27-$D27)),0)),IF($I27=\"\",COUNTRY_INFO!O27*$E27,COUNTRY_INFO!O27*$I27)))","v":0},{"$f":"MAX(0,IF(OR(COUNTRY_INFO!P27=\"Unknown\",COUNTRY_INFO!P27=\"Surveillance\",COUNTRY_INFO!P27=\"Not required\",COUNTRY_INFO!P27=0),0,IF($E27<>0,IF($D27=0,COUNTRY_INFO!P27*$E27,COUNTRY_INFO!P27*$E27-($F27*COUNTRY_INFO!$P27/(COUNTRY_INFO!$F27+COUNTRY_INFO!$G27)+IF($G27=\" \",0,COUNTRY_INFO!$P27/(COUNTRY_INFO!$F27+COUNTRY_INFO!$G27)*$G27*$H27))),0)))","v":0},null,{"$f":"MAX(0,IF(OR(COUNTRY_INFO!Q27=\"Unknown\",COUNTRY_INFO!Q27=\"Surveillance\",COUNTRY_INFO!Q27=\"Not required\",COUNTRY_INFO!Q27=0),0,IF($E27<>0,IF($D27=0,COUNTRY_INFO!Q27*MIN($E27,$L27),COUNTRY_INFO!Q27*MIN($E27,$L27)-($F27*COUNTRY_INFO!$Q27/(COUNTRY_INFO!$F27+COUNTRY_INFO!$G27)+IF($G27=\" \",0,COUNTRY_INFO!$Q27/(COUNTRY_INFO!$F27+COUNTRY_INFO!$G27)*$G27*$H27))),0)))","v":0},0,0,null,0,0,null,0,0,null,0]
[{"$f":"IF(AND(INTRO!$E$37=\"Non-endemic\",INTRO!$E$41=\"Non-endemic\"),\" \",IF(COUNTRY_INFO!A28=0,\" \",COUNTRY_INFO!A28))","v":"Tchad"},{"$f":"IF(AND(INTRO!$E$37=\"Non-endemic\",INTRO!$E$41=\"Non-endemic\"),\" \",IF(COUNTRY_INFO!B28=0,\" \",COUNTRY_INFO!B28))","v":"Chari  Baguirmi"},{"$f":"IF(AND(INTRO!$E$37=\"Non-endemic\",INTRO!$E$41=\"Non-endemic\"),\" \",IF(COUNTRY_INFO!C28=0,\" \",COUNTRY_INFO!C28))","v":"Mandélia"},{"$f":"IF(AND(INTRO!$E$37=\"Non-endemic\",INTRO!$E$41=\"Non-endemic\"),0,COUNTRY_INFO!W28)","v":0},{"$f":"IF(AND(INTRO!$E$37=\"Non-endemic\",INTRO!$E$41=\"Non-endemic\"),0,COUNTRY_INFO!Y28)","v":0},{"$f":"IF($D28=1,IVM!G28,0)","v":0},{"$f":"IF($D28=0, \" \", IF(COUNTRY_INFO!$H28=1, IF(COUNTRY_INFO!$L28=1, 0,\" \"),\" \"))","v":" "},null,null,{"$f":"IF(OR(COUNTRY_INFO!O28=\"Unknown\",COUNTRY_INFO!O28=\"Surveillance\",COUNTRY_INFO!O28=\"Not required\",COUNTRY_INFO!O28=0),0,IF(INTRO!$E$39=\"Non-endemic\",IF(AND($E28<>0,$I28=\"\"),IF($F28=0,COUNTRY_INFO!O28*$E28,COUNTRY_INFO!O28*($E28-$D28)),IF(AND($E28<>0,$I28<>0),IF($F28=0,COUNTRY_INFO!O28*$I28,COUNTRY_INFO!O28*($I28-$D28)),0)),IF($I28=\"\",COUNTRY_INFO!O28*$E28,COUNTRY_INFO!O28*$I28)))","v":0},{"$f":"MAX(0,IF(OR(COUNTRY_INFO!P28=\"Unknown\",COUNTRY_INFO!P28=\"Surveillance\",COUNTRY_INFO!P28=\"Not required\",COUNTRY_INFO!P28=0),0,IF($E28<>0,IF($D28=0,COUNTRY_INFO!P28*$E28,COUNTRY_INFO!P28*$E28-($F28*COUNTRY_INFO!$P28/(COUNTRY_INFO!$F28+COUNTRY_INFO!$G28)+IF($G28=\" \",0,COUNTRY_INFO!$P28/(COUNTRY_INFO!$F28+COUNTRY_INFO!$G28)*$G28*$H28))),0)))","v":0},null,{"$f":"MAX(0,IF(OR(COUNTRY_INFO!Q28=\"Unknown\",COUNTRY_INFO!Q28=\"Surveillance\",COUNTRY_INFO!Q28=\"Not required\",COUNTRY_INFO!Q28=0),0,IF($E28<>0,IF($D28=0,COUNTRY_INFO!Q28*MIN($E28,$L28),COUNTRY_INFO!Q28*MIN($E28,$L28)-($F28*COUNTRY_INFO!$Q28/(COUNTRY_INFO!$F28+COUNTRY_INFO!$G28)+IF($G28=\" \",0,COUNTRY_INFO!$Q28/(COUNTRY_INFO!$F28+COUNTRY_INFO!$G28)*$G28*$H28))),0)))","v":0},0,0,null,0,0,null,0,0,null,0]
[{"$f":"IF(AND(INTRO!$E$37=\"Non-endemic\",INTRO!$E$41=\"Non-endemic\"),\" \",IF(COUNTRY_INFO!A29=0,\" \",COUNTRY_INFO!A29))","v":"Tchad"},{"$f":"IF(AND(INTRO!$E$37=\"Non-endemic\",INTRO!$E$41=\"Non-endemic\"),\" \",IF(COUNTRY_INFO!B29=0,\" \",COUNTRY_INFO!B29))","v":"Chari  Baguirmi"},{"$f":"IF(AND(INTRO!$E$37=\"Non-endemic\",INTRO!$E$41=\"Non-endemic\"),\" \",IF(COUNTRY_INFO!C29=0,\" \",COUNTRY_INFO!C29))","v":"Massenya"},{"$f":"IF(AND(INTRO!$E$37=\"Non-endemic\",INTRO!$E$41=\"Non-endemic\"),0,COUNTRY_INFO!W29)","v":0},{"$f":"IF(AND(INTRO!$E$37=\"Non-endemic\",INTRO!$E$41=\"Non-endemic\"),0,COUNTRY_INFO!Y29)","v":0},{"$f":"IF($D29=1,IVM!G29,0)","v":0},{"$f":"IF($D29=0, \" \", IF(COUNTRY_INFO!$H29=1, IF(COUNTRY_INFO!$L29=1, 0,\" \"),\" \"))","v":" "},null,null,{"$f":"IF(OR(COUNTRY_INFO!O29=\"Unknown\",COUNTRY_INFO!O29=\"Surveillance\",COUNTRY_INFO!O29=\"Not required\",COUNTRY_INFO!O29=0),0,IF(INTRO!$E$39=\"Non-endemic\",IF(AND($E29<>0,$I29=\"\"),IF($F29=0,COUNTRY_INFO!O29*$E29,COUNTRY_INFO!O29*($E29-$D29)),IF(AND($E29<>0,$I29<>0),IF($F29=0,COUNTRY_INFO!O29*$I29,COUNTRY_INFO!O29*($I29-$D29)),0)),IF($I29=\"\",COUNTRY_INFO!O29*$E29,COUNTRY_INFO!O29*$I29)))","v":0},{"$f":"MAX(0,IF(OR(COUNTRY_INFO!P29=\"Unknown\",COUNTRY_INFO!P29=\"Surveillance\",COUNTRY_INFO!P29=\"Not required\",COUNTRY_INFO!P29=0),0,IF($E29<>0,IF($D29=0,COUNTRY_INFO!P29*$E29,COUNTRY_INFO!P29*$E29-($F29*COUNTRY_INFO!$P29/(COUNTRY_INFO!$F29+COUNTRY_INFO!$G29)+IF($G29=\" \",0,COUNTRY_INFO!$P29/(COUNTRY_INFO!$F29+COUNTRY_INFO!$G29)*$G29*$H29))),0)))","v":0},null,{"$f":"MAX(0,IF(OR(COUNTRY_INFO!Q29=\"Unknown\",COUNTRY_INFO!Q29=\"Surveillance\",COUNTRY_INFO!Q29=\"Not required\",COUNTRY_INFO!Q29=0),0,IF($E29<>0,IF($D29=0,COUNTRY_INFO!Q29*MIN($E29,$L29),COUNTRY_INFO!Q29*MIN($E29,$L29)-($F29*COUNTRY_INFO!$Q29/(COUNTRY_INFO!$F29+COUNTRY_INFO!$G29)+IF($G29=\" \",0,COUNTRY_INFO!$Q29/(COUNTRY_INFO!$F29+COUNTRY_INFO!$G29)*$G29*$H29))),0)))","v":0},0,0,null,0,0,null,0,0,null,0]
[{"$f":"IF(AND(INTRO!$E$37=\"Non-endemic\",INTRO!$E$41=\"Non-endemic\"),\" \",IF(COUNTRY_INFO!A30=0,\" \",COUNTRY_INFO!A30))","v":"Tchad"},{"$f":"IF(AND(INTRO!$E$37=\"Non-endemic\",INTRO!$E$41=\"Non-endemic\"),\" \",IF(COUNTRY_INFO!B30=0,\" \",COUNTRY_INFO!B30))","v":"Ennedi Est"},{"$f":"IF(AND(INTRO!$E$37=\"Non-endemic\",INTRO!$E$41=\"Non-endemic\"),\" \",IF(COUNTRY_INFO!C30=0,\" \",COUNTRY_INFO!C30))","v":"Amdjarass"},{"$f":"IF(AND(INTRO!$E$37=\"Non-endemic\",INTRO!$E$41=\"Non-endemic\"),0,COUNTRY_INFO!W30)","v":0},{"$f":"IF(AND(INTRO!$E$37=\"Non-endemic\",INTRO!$E$41=\"Non-endemic\"),0,COUNTRY_INFO!Y30)","v":0},{"$f":"IF($D30=1,IVM!G30,0)","v":0},{"$f":"IF($D30=0, \" \", IF(COUNTRY_INFO!$H30=1, IF(COUNTRY_INFO!$L30=1, 0,\" \"),\" \"))","v":" "},null,null,{"$f":"IF(OR(COUNTRY_INFO!O30=\"Unknown\",COUNTRY_INFO!O30=\"Surveillance\",COUNTRY_INFO!O30=\"Not required\",COUNTRY_INFO!O30=0),0,IF(INTRO!$E$39=\"Non-endemic\",IF(AND($E30<>0,$I30=\"\"),IF($F30=0,COUNTRY_INFO!O30*$E30,COUNTRY_INFO!O30*($E30-$D30)),IF(AND($E30<>0,$I30<>0),IF($F30=0,COUNTRY_INFO!O30*$I30,COUNTRY_INFO!O30*($I30-$D30)),0)),IF($I30=\"\",COUNTRY_INFO!O30*$E30,COUNTRY_INFO!O30*$I30)))","v":0},{"$f":"MAX(0,IF(OR(COUNTRY_INFO!P30=\"Unknown\",COUNTRY_INFO!P30=\"Surveillance\",COUNTRY_INFO!P30=\"Not required\",COUNTRY_INFO!P30=0),0,IF($E30<>0,IF($D30=0,COUNTRY_INFO!P30*$E30,COUNTRY_INFO!P30*$E30-($F30*COUNTRY_INFO!$P30/(COUNTRY_INFO!$F30+COUNTRY_INFO!$G30)+IF($G30=\" \",0,COUNTRY_INFO!$P30/(COUNTRY_INFO!$F30+COUNTRY_INFO!$G30)*$G30*$H30))),0)))","v":0},null,{"$f":"MAX(0,IF(OR(COUNTRY_INFO!Q30=\"Unknown\",COUNTRY_INFO!Q30=\"Surveillance\",COUNTRY_INFO!Q30=\"Not required\",COUNTRY_INFO!Q30=0),0,IF($E30<>0,IF($D30=0,COUNTRY_INFO!Q30*MIN($E30,$L30),COUNTRY_INFO!Q30*MIN($E30,$L30)-($F30*COUNTRY_INFO!$Q30/(COUNTRY_INFO!$F30+COUNTRY_INFO!$G30)+IF($G30=\" \",0,COUNTRY_INFO!$Q30/(COUNTRY_INFO!$F30+COUNTRY_INFO!$G30)*$G30*$H30))),0)))","v":0},0,0,null,0,0,null,0,0,null,0]
[{"$f":"IF(AND(INTRO!$E$37=\"Non-endemic\",INTRO!$E$41=\"Non-endemic\"),\" \",IF(COUNTRY_INFO!A31=0,\" \",COUNTRY_INFO!A31))","v":"Tchad"},{"$f":"IF(AND(INTRO!$E$37=\"Non-endemic\",INTRO!$E$41=\"Non-endemic\"),\" \",IF(COUNTRY_INFO!B31=0,\" \",COUNTRY_INFO!B31))","v":"Ennedi Est"},{"$f":"IF(AND(INTRO!$E$37=\"Non-endemic\",INTRO!$E$41=\"Non-endemic\"),\" \",IF(COUNTRY_INFO!C31=0,\" \",COUNTRY_INFO!C31))","v":"Bahaï"},{"$f":"IF(AND(INTRO!$E$37=\"Non-endemic\",INTRO!$E$41=\"Non-endemic\"),0,COUNTRY_INFO!W31)","v":0},{"$f":"IF(AND(INTRO!$E$37=\"Non-endemic\",INTRO!$E$41=\"Non-endemic\"),0,COUNTRY_INFO!Y31)","v":0},{"$f":"IF($D31=1,IVM!G31,0)","v":0},{"$f":"IF($D31=0, \" \", IF(COUNTRY_INFO!$H31=1, IF(COUNTRY_INFO!$L31=1, 0,\" \"),\" \"))","v":" "},null,null,{"$f":"IF(OR(COUNTRY_INFO!O31=\"Unknown\",COUNTRY_INFO!O31=\"Surveillance\",COUNTRY_INFO!O31=\"Not required\",COUNTRY_INFO!O31=0),0,IF(INTRO!$E$39=\"Non-endemic\",IF(AND($E31<>0,$I31=\"\"),IF($F31=0,COUNTRY_INFO!O31*$E31,COUNTRY_INFO!O31*($E31-$D31)),IF(AND($E31<>0,$I31<>0),IF($F31=0,COUNTRY_INFO!O31*$I31,COUNTRY_INFO!O31*($I31-$D31)),0)),IF($I31=\"\",COUNTRY_INFO!O31*$E31,COUNTRY_INFO!O31*$I31)))","v":0},{"$f":"MAX(0,IF(OR(COUNTRY_INFO!P31=\"Unknown\",COUNTRY_INFO!P31=\"Surveillance\",COUNTRY_INFO!P31=\"Not required\",COUNTRY_INFO!P31=0),0,IF($E31<>0,IF($D31=0,COUNTRY_INFO!P31*$E31,COUNTRY_INFO!P31*$E31-($F31*COUNTRY_INFO!$P31/(COUNTRY_INFO!$F31+COUNTRY_INFO!$G31)+IF($G31=\" \",0,COUNTRY_INFO!$P31/(COUNTRY_INFO!$F31+COUNTRY_INFO!$G31)*$G31*$H31))),0)))","v":0},null,{"$f":"MAX(0,IF(OR(COUNTRY_INFO!Q31=\"Unknown\",COUNTRY_INFO!Q31=\"Surveillance\",COUNTRY_INFO!Q31=\"Not required\",COUNTRY_INFO!Q31=0),0,IF($E31<>0,IF($D31=0,COUNTRY_INFO!Q31*MIN($E31,$L31),COUNTRY_INFO!Q31*MIN($E31,$L31)-($F31*COUNTRY_INFO!$Q31/(COUNTRY_INFO!$F31+COUNTRY_INFO!$G31)+IF($G31=\" \",0,COUNTRY_INFO!$Q31/(COUNTRY_INFO!$F31+COUNTRY_INFO!$G31)*$G31*$H31))),0)))","v":0},0,0,null,0,0,null,0,0,null,0]
[{"$f":"IF(AND(INTRO!$E$37=\"Non-endemic\",INTRO!$E$41=\"Non-endemic\"),\" \",IF(COUNTRY_INFO!A32=0,\" \",COUNTRY_INFO!A32))","v":"Tchad"},{"$f":"IF(AND(INTRO!$E$37=\"Non-endemic\",INTRO!$E$41=\"Non-endemic\"),\" \",IF(COUNTRY_INFO!B32=0,\" \",COUNTRY_INFO!B32))","v":"Ennedi Est"},{"$f":"IF(AND(INTRO!$E$37=\"Non-endemic\",INTRO!$E$41=\"Non-endemic\"),\" \",IF(COUNTRY_INFO!C32=0,\" \",COUNTRY_INFO!C32))","v":"Kaoura"},{"$f":"IF(AND(INTRO!$E$37=\"Non-endemic\",INTRO!$E$41=\"Non-endemic\"),0,COUNTRY_INFO!W32)","v":0},{"$f":"IF(AND(INTRO!$E$37=\"Non-endemic\",INTRO!$E$41=\"Non-endemic\"),0,COUNTRY_INFO!Y32)","v":0},{"$f":"IF($D32=1,IVM!G32,0)","v":0},{"$f":"IF($D32=0, \" \", IF(COUNTRY_INFO!$H32=1, IF(COUNTRY_INFO!$L32=1, 0,\" \"),\" \"))","v":" "},null,null,{"$f":"IF(OR(COUNTRY_INFO!O32=\"Unknown\",COUNTRY_INFO!O32=\"Surveillance\",COUNTRY_INFO!O32=\"Not required\",COUNTRY_INFO!O32=0),0,IF(INTRO!$E$39=\"Non-endemic\",IF(AND($E32<>0,$I32=\"\"),IF($F32=0,COUNTRY_INFO!O32*$E32,COUNTRY_INFO!O32*($E32-$D32)),IF(AND($E32<>0,$I32<>0),IF($F32=0,COUNTRY_INFO!O32*$I32,COUNTRY_INFO!O32*($I32-$D32)),0)),IF($I32=\"\",COUNTRY_INFO!O32*$E32,COUNTRY_INFO!O32*$I32)))","v":0},{"$f":"MAX(0,IF(OR(COUNTRY_INFO!P32=\"Unknown\",COUNTRY_INFO!P32=\"Surveillance\",COUNTRY_INFO!P32=\"Not required\",COUNTRY_INFO!P32=0),0,IF($E32<>0,IF($D32=0,COUNTRY_INFO!P32*$E32,COUNTRY_INFO!P32*$E32-($F32*COUNTRY_INFO!$P32/(COUNTRY_INFO!$F32+COUNTRY_INFO!$G32)+IF($G32=\" \",0,COUNTRY_INFO!$P32/(COUNTRY_INFO!$F32+COUNTRY_INFO!$G32)*$G32*$H32))),0)))","v":0},null,{"$f":"MAX(0,IF(OR(COUNTRY_INFO!Q32=\"Unknown\",COUNTRY_INFO!Q32=\"Surveillance\",COUNTRY_INFO!Q32=\"Not required\",COUNTRY_INFO!Q32=0),0,IF($E32<>0,IF($D32=0,COUNTRY_INFO!Q32*MIN($E32,$L32),COUNTRY_INFO!Q32*MIN($E32,$L32)-($F32*COUNTRY_INFO!$Q32/(COUNTRY_INFO!$F32+COUNTRY_INFO!$G32)+IF($G32=\" \",0,COUNTRY_INFO!$Q32/(COUNTRY_INFO!$F32+COUNTRY_INFO!$G32)*$G32*$H32))),0)))","v":0},0,0,null,0,0,null,0,0,null,0]
[{"$f":"IF(AND(INTRO!$E$37=\"Non-endemic\",INTRO!$E$41=\"Non-endemic\"),\" \",IF(COUNTRY_INFO!A33=0,\" \",COUNTRY_INFO!A33))","v":"Tchad"},{"$f":"IF(AND(INTRO!$E$37=\"Non-endemic\",INTRO!$E$41=\"Non-endemic\"),\" \",IF(COUNTRY_INFO!B33=0,\" \",COUNTRY_INFO!B33))","v":"Ennedi Est"},{"$f":"IF(AND(INTRO!$E$37=\"Non-endemic\",INTRO!$E$41=\"Non-endemic\"),\" \",IF(COUNTRY_INFO!C33=0,\" \",COUNTRY_INFO!C33))","v":"Mourdi"},{"$f":"IF(AND(INTRO!$E$37=\"Non-endemic\",INTRO!$E$41=\"Non-endemic\"),0,COUNTRY_INFO!W33)","v":0},{"$f":"IF(AND(INTRO!$E$37=\"Non-endemic\",INTRO!$E$41=\"Non-endemic\"),0,COUNTRY_INFO!Y33)","v":0},{"$f":"IF($D33=1,IVM!G33,0)","v":0},{"$f":"IF($D33=0, \" \", IF(COUNTRY_INFO!$H33=1, IF(COUNTRY_INFO!$L33=1, 0,\" \"),\" \"))","v":" "},null,null,{"$f":"IF(OR(COUNTRY_INFO!O33=\"Unknown\",COUNTRY_INFO!O33=\"Surveillance\",COUNTRY_INFO!O33=\"Not required\",COUNTRY_INFO!O33=0),0,IF(INTRO!$E$39=\"Non-endemic\",IF(AND($E33<>0,$I33=\"\"),IF($F33=0,COUNTRY_INFO!O33*$E33,COUNTRY_INFO!O33*($E33-$D33)),IF(AND($E33<>0,$I33<>0),IF($F33=0,COUNTRY_INFO!O33*$I33,COUNTRY_INFO!O33*($I33-$D33)),0)),IF($I33=\"\",COUNTRY_INFO!O33*$E33,COUNTRY_INFO!O33*$I33)))","v":0},{"$f":"MAX(0,IF(OR(COUNTRY_INFO!P33=\"Unknown\",COUNTRY_INFO!P33=\"Surveillance\",COUNTRY_INFO!P33=\"Not required\",COUNTRY_INFO!P33=0),0,IF($E33<>0,IF($D33=0,COUNTRY_INFO!P33*$E33,COUNTRY_INFO!P33*$E33-($F33*COUNTRY_INFO!$P33/(COUNTRY_INFO!$F33+COUNTRY_INFO!$G33)+IF($G33=\" \",0,COUNTRY_INFO!$P33/(COUNTRY_INFO!$F33+COUNTRY_INFO!$G33)*$G33*$H33))),0)))","v":0},null,{"$f":"MAX(0,IF(OR(COUNTRY_INFO!Q33=\"Unknown\",COUNTRY_INFO!Q33=\"Surveillance\",COUNTRY_INFO!Q33=\"Not required\",COUNTRY_INFO!Q33=0),0,IF($E33<>0,IF($D33=0,COUNTRY_INFO!Q33*MIN($E33,$L33),COUNTRY_INFO!Q33*MIN($E33,$L33)-($F33*COUNTRY_INFO!$Q33/(COUNTRY_INFO!$F33+COUNTRY_INFO!$G33)+IF($G33=\" \",0,COUNTRY_INFO!$Q33/(COUNTRY_INFO!$F33+COUNTRY_INFO!$G33)*$G33*$H33))),0)))","v":0},0,0,null,0,0,null,0,0,null,0]
[{"$f":"IF(AND(INTRO!$E$37=\"Non-endemic\",INTRO!$E$41=\"Non-endemic\"),\" \",IF(COUNTRY_INFO!A34=0,\" \",COUNTRY_INFO!A34))","v":"Tchad"},{"$f":"IF(AND(INTRO!$E$37=\"Non-endemic\",INTRO!$E$41=\"Non-endemic\"),\" \",IF(COUNTRY_INFO!B34=0,\" \",COUNTRY_INFO!B34))","v":"Ennedi Ouest"},{"$f":"IF(AND(INTRO!$E$37=\"Non-endemic\",INTRO!$E$41=\"Non-endemic\"),\" \",IF(COUNTRY_INFO!C34=0,\" \",COUNTRY_INFO!C34))","v":"Fada"},{"$f":"IF(AND(INTRO!$E$37=\"Non-endemic\",INTRO!$E$41=\"Non-endemic\"),0,COUNTRY_INFO!W34)","v":0},{"$f":"IF(AND(INTRO!$E$37=\"Non-endemic\",INTRO!$E$41=\"Non-endemic\"),0,COUNTRY_INFO!Y34)","v":0},{"$f":"IF($D34=1,IVM!G34,0)","v":0},{"$f":"IF($D34=0, \" \", IF(COUNTRY_INFO!$H34=1, IF(COUNTRY_INFO!$L34=1, 0,\" \"),\" \"))","v":" "},null,null,{"$f":"IF(OR(COUNTRY_INFO!O34=\"Unknown\",COUNTRY_INFO!O34=\"Surveillance\",COUNTRY_INFO!O34=\"Not required\",COUNTRY_INFO!O34=0),0,IF(INTRO!$E$39=\"Non-endemic\",IF(AND($E34<>0,$I34=\"\"),IF($F34=0,COUNTRY_INFO!O34*$E34,COUNTRY_INFO!O34*($E34-$D34)),IF(AND($E34<>0,$I34<>0),IF($F34=0,COUNTRY_INFO!O34*$I34,COUNTRY_INFO!O34*($I34-$D34)),0)),IF($I34=\"\",COUNTRY_INFO!O34*$E34,COUNTRY_INFO!O34*$I34)))","v":0},{"$f":"MAX(0,IF(OR(COUNTRY_INFO!P34=\"Unknown\",COUNTRY_INFO!P34=\"Surveillance\",COUNTRY_INFO!P34=\"Not required\",COUNTRY_INFO!P34=0),0,IF($E34<>0,IF($D34=0,COUNTRY_INFO!P34*$E34,COUNTRY_INFO!P34*$E34-($F34*COUNTRY_INFO!$P34/(COUNTRY_INFO!$F34+COUNTRY_INFO!$G34)+IF($G34=\" \",0,COUNTRY_INFO!$P34/(COUNTRY_INFO!$F34+COUNTRY_INFO!$G34)*$G34*$H34))),0)))","v":0},null,{"$f":"MAX(0,IF(OR(COUNTRY_INFO!Q34=\"Unknown\",COUNTRY_INFO!Q34=\"Surveillance\",COUNTRY_INFO!Q34=\"Not required\",COUNTRY_INFO!Q34=0),0,IF($E34<>0,IF($D34=0,COUNTRY_INFO!Q34*MIN($E34,$L34),COUNTRY_INFO!Q34*MIN($E34,$L34)-($F34*COUNTRY_INFO!$Q34/(COUNTRY_INFO!$F34+COUNTRY_INFO!$G34)+IF($G34=\" \",0,COUNTRY_INFO!$Q34/(COUNTRY_INFO!$F34+COUNTRY_INFO!$G34)*$G34*$H34))),0)))","v":0},0,0,null,0,0,null,0,0,null,0]
[{"$f":"IF(AND(INTRO!$E$37=\"Non-endemic\",INTRO!$E$41=\"Non-endemic\"),\" \",IF(COUNTRY_INFO!A35=0,\" \",COUNTRY_INFO!A35))","v":"Tchad"},{"$f":"IF(AND(INTRO!$E$37=\"Non-endemic\",INTRO!$E$41=\"Non-endemic\"),\" \",IF(COUNTRY_INFO!B35=0,\" \",COUNTRY_INFO!B35))","v":"Ennedi Ouest"},{"$f":"IF(AND(INTRO!$E$37=\"Non-endemic\",INTRO!$E$41=\"Non-endemic\"),\" \",IF(COUNTRY_INFO!C35=0,\" \",COUNTRY_INFO!C35))","v":"Kalaït"},{"$f":"IF(AND(INTRO!$E$37=\"Non-endemic\",INTRO!$E$41=\"Non-endemic\"),0,COUNTRY_INFO!W35)","v":0},{"$f":"IF(AND(INTRO!$E$37=\"Non-endemic\",INTRO!$E$41=\"Non-endemic\"),0,COUNTRY_INFO!Y35)","v":0},{"$f":"IF($D35=1,IVM!G35,0)","v":0},{"$f":"IF($D35=0, \" \", IF(COUNTRY_INFO!$H35=1, IF(COUNTRY_INFO!$L35=1, 0,\" \"),\" \"))","v":" "},null,null,{"$f":"IF(OR(COUNTRY_INFO!O35=\"Unknown\",COUNTRY_INFO!O35=\"Surveillance\",COUNTRY_INFO!O35=\"Not required\",COUNTRY_INFO!O35=0),0,IF(INTRO!$E$39=\"Non-endemic\",IF(AND($E35<>0,$I35=\"\"),IF($F35=0,COUNTRY_INFO!O35*$E35,COUNTRY_INFO!O35*($E35-$D35)),IF(AND($E35<>0,$I35<>0),IF($F35=0,COUNTRY_INFO!O35*$I35,COUNTRY_INFO!O35*($I35-$D35)),0)),IF($I35=\"\",COUNTRY_INFO!O35*$E35,COUNTRY_INFO!O35*$I35)))","v":0},{"$f":"MAX(0,IF(OR(COUNTRY_INFO!P35=\"Unknown\",COUNTRY_INFO!P35=\"Surveillance\",COUNTRY_INFO!P35=\"Not required\",COUNTRY_INFO!P35=0),0,IF($E35<>0,IF($D35=0,COUNTRY_INFO!P35*$E35,COUNTRY_INFO!P35*$E35-($F35*COUNTRY_INFO!$P35/(COUNTRY_INFO!$F35+COUNTRY_INFO!$G35)+IF($G35=\" \",0,COUNTRY_INFO!$P35/(COUNTRY_INFO!$F35+COUNTRY_INFO!$G35)*$G35*$H35))),0)))","v":0},null,{"$f":"MAX(0,IF(OR(COUNTRY_INFO!Q35=\"Unknown\",COUNTRY_INFO!Q35=\"Surveillance\",COUNTRY_INFO!Q35=\"Not required\",COUNTRY_INFO!Q35=0),0,IF($E35<>0,IF($D35=0,COUNTRY_INFO!Q35*MIN($E35,$L35),COUNTRY_INFO!Q35*MIN($E35,$L35)-($F35*COUNTRY_INFO!$Q35/(COUNTRY_INFO!$F35+COUNTRY_INFO!$G35)+IF($G35=\" \",0,COUNTRY_INFO!$Q35/(COUNTRY_INFO!$F35+COUNTRY_INFO!$G35)*$G35*$H35))),0)))","v":0},0,0,null,0,0,null,0,0,null,0]
[{"$f":"IF(AND(INTRO!$E$37=\"Non-endemic\",INTRO!$E$41=\"Non-endemic\"),\" \",IF(COUNTRY_INFO!A36=0,\" \",COUNTRY_INFO!A36))","v":"Tchad"},{"$f":"IF(AND(INTRO!$E$37=\"Non-endemic\",INTRO!$E$41=\"Non-endemic\"),\" \",IF(COUNTRY_INFO!B36=0,\" \",COUNTRY_INFO!B36))","v":"Ennedi Ouest"},{"$f":"IF(AND(INTRO!$E$37=\"Non-endemic\",INTRO!$E$41=\"Non-endemic\"),\" \",IF(COUNTRY_INFO!C36=0,\" \",COUNTRY_INFO!C36))","v":"Ounianga Kebbir"},{"$f":"IF(AND(INTRO!$E$37=\"Non-endemic\",INTRO!$E$41=\"Non-endemic\"),0,COUNTRY_INFO!W36)","v":0},{"$f":"IF(AND(INTRO!$E$37=\"Non-endemic\",INTRO!$E$41=\"Non-endemic\"),0,COUNTRY_INFO!Y36)","v":0},{"$f":"IF($D36=1,IVM!G36,0)","v":0},{"$f":"IF($D36=0, \" \", IF(COUNTRY_INFO!$H36=1, IF(COUNTRY_INFO!$L36=1, 0,\" \"),\" \"))","v":" "},null,null,{"$f":"IF(OR(COUNTRY_INFO!O36=\"Unknown\",COUNTRY_INFO!O36=\"Surveillance\",COUNTRY_INFO!O36=\"Not required\",COUNTRY_INFO!O36=0),0,IF(INTRO!$E$39=\"Non-endemic\",IF(AND($E36<>0,$I36=\"\"),IF($F36=0,COUNTRY_INFO!O36*$E36,COUNTRY_INFO!O36*($E36-$D36)),IF(AND($E36<>0,$I36<>0),IF($F36=0,COUNTRY_INFO!O36*$I36,COUNTRY_INFO!O36*($I36-$D36)),0)),IF($I36=\"\",COUNTRY_INFO!O36*$E36,COUNTRY_INFO!O36*$I36)))","v":0},{"$f":"MAX(0,IF(OR(COUNTRY_INFO!P36=\"Unknown\",COUNTRY_INFO!P36=\"Surveillance\",COUNTRY_INFO!P36=\"Not required\",COUNTRY_INFO!P36=0),0,IF($E36<>0,IF($D36=0,COUNTRY_INFO!P36*$E36,COUNTRY_INFO!P36*$E36-($F36*COUNTRY_INFO!$P36/(COUNTRY_INFO!$F36+COUNTRY_INFO!$G36)+IF($G36=\" \",0,COUNTRY_INFO!$P36/(COUNTRY_INFO!$F36+COUNTRY_INFO!$G36)*$G36*$H36))),0)))","v":0},null,{"$f":"MAX(0,IF(OR(COUNTRY_INFO!Q36=\"Unknown\",COUNTRY_INFO!Q36=\"Surveillance\",COUNTRY_INFO!Q36=\"Not required\",COUNTRY_INFO!Q36=0),0,IF($E36<>0,IF($D36=0,COUNTRY_INFO!Q36*MIN($E36,$L36),COUNTRY_INFO!Q36*MIN($E36,$L36)-($F36*COUNTRY_INFO!$Q36/(COUNTRY_INFO!$F36+COUNTRY_INFO!$G36)+IF($G36=\" \",0,COUNTRY_INFO!$Q36/(COUNTRY_INFO!$F36+COUNTRY_INFO!$G36)*$G36*$H36))),0)))","v":0},0,0,null,0,0,null,0,0,null,0]
[{"$f":"IF(AND(INTRO!$E$37=\"Non-endemic\",INTRO!$E$41=\"Non-endemic\"),\" \",IF(COUNTRY_INFO!A37=0,\" \",COUNTRY_INFO!A37))","v":"Tchad"},{"$f":"IF(AND(INTRO!$E$37=\"Non-endemic\",INTRO!$E$41=\"Non-endemic\"),\" \",IF(COUNTRY_INFO!B37=0,\" \",COUNTRY_INFO!B37))","v":"Guéra"},{"$f":"IF(AND(INTRO!$E$37=\"Non-endemic\",INTRO!$E$41=\"Non-endemic\"),\" \",IF(COUNTRY_INFO!C37=0,\" \",COUNTRY_INFO!C37))","v":"Barou"},{"$f":"IF(AND(INTRO!$E$37=\"Non-endemic\",INTRO!$E$41=\"Non-endemic\"),0,COUNTRY_INFO!W37)","v":0},{"$f":"IF(AND(INTRO!$E$37=\"Non-endemic\",INTRO!$E$41=\"Non-endemic\"),0,COUNTRY_INFO!Y37)","v":0},{"$f":"IF($D37=1,IVM!G37,0)","v":0},{"$f":"IF($D37=0, \" \", IF(COUNTRY_INFO!$H37=1, IF(COUNTRY_INFO!$L37=1, 0,\" \"),\" \"))","v":" "},null,null,{"$f":"IF(OR(COUNTRY_INFO!O37=\"Unknown\",COUNTRY_INFO!O37=\"Surveillance\",COUNTRY_INFO!O37=\"Not required\",COUNTRY_INFO!O37=0),0,IF(INTRO!$E$39=\"Non-endemic\",IF(AND($E37<>0,$I37=\"\"),IF($F37=0,COUNTRY_INFO!O37*$E37,COUNTRY_INFO!O37*($E37-$D37)),IF(AND($E37<>0,$I37<>0),IF($F37=0,COUNTRY_INFO!O37*$I37,COUNTRY_INFO!O37*($I37-$D37)),0)),IF($I37=\"\",COUNTRY_INFO!O37*$E37,COUNTRY_INFO!O37*$I37)))","v":0},{"$f":"MAX(0,IF(OR(COUNTRY_INFO!P37=\"Unknown\",COUNTRY_INFO!P37=\"Surveillance\",COUNTRY_INFO!P37=\"Not required\",COUNTRY_INFO!P37=0),0,IF($E37<>0,IF($D37=0,COUNTRY_INFO!P37*$E37,COUNTRY_INFO!P37*$E37-($F37*COUNTRY_INFO!$P37/(COUNTRY_INFO!$F37+COUNTRY_INFO!$G37)+IF($G37=\" \",0,COUNTRY_INFO!$P37/(COUNTRY_INFO!$F37+COUNTRY_INFO!$G37)*$G37*$H37))),0)))","v":0},null,{"$f":"MAX(0,IF(OR(COUNTRY_INFO!Q37=\"Unknown\",COUNTRY_INFO!Q37=\"Surveillance\",COUNTRY_INFO!Q37=\"Not required\",COUNTRY_INFO!Q37=0),0,IF($E37<>0,IF($D37=0,COUNTRY_INFO!Q37*MIN($E37,$L37),COUNTRY_INFO!Q37*MIN($E37,$L37)-($F37*COUNTRY_INFO!$Q37/(COUNTRY_INFO!$F37+COUNTRY_INFO!$G37)+IF($G37=\" \",0,COUNTRY_INFO!$Q37/(COUNTRY_INFO!$F37+COUNTRY_INFO!$G37)*$G37*$H37))),0)))","v":0},0,0,null,0,0,null,0,0,null,0]
[{"$f":"IF(AND(INTRO!$E$37=\"Non-endemic\",INTRO!$E$41=\"Non-endemic\"),\" \",IF(COUNTRY_INFO!A38=0,\" \",COUNTRY_INFO!A38))","v":"Tchad"},{"$f":"IF(AND(INTRO!$E$37=\"Non-endemic\",INTRO!$E$41=\"Non-endemic\"),\" \",IF(COUNTRY_INFO!B38=0,\" \",COUNTRY_INFO!B38))","v":"Guéra"},{"$f":"IF(AND(INTRO!$E$37=\"Non-endemic\",INTRO!$E$41=\"Non-endemic\"),\" \",IF(COUNTRY_INFO!C38=0,\" \",COUNTRY_INFO!C38))","v":"Bitkine"},{"$f":"IF(AND(INTRO!$E$37=\"Non-endemic\",INTRO!$E$41=\"Non-endemic\"),0,COUNTRY_INFO!W38)","v":0},{"$f":"IF(AND(INTRO!$E$37=\"Non-endemic\",INTRO!$E$41=\"Non-endemic\"),0,COUNTRY_INFO!Y38)","v":0},{"$f":"IF($D38=1,IVM!G38,0)","v":0},{"$f":"IF($D38=0, \" \", IF(COUNTRY_INFO!$H38=1, IF(COUNTRY_INFO!$L38=1, 0,\" \"),\" \"))","v":" "},null,null,{"$f":"IF(OR(COUNTRY_INFO!O38=\"Unknown\",COUNTRY_INFO!O38=\"Surveillance\",COUNTRY_INFO!O38=\"Not required\",COUNTRY_INFO!O38=0),0,IF(INTRO!$E$39=\"Non-endemic\",IF(AND($E38<>0,$I38=\"\"),IF($F38=0,COUNTRY_INFO!O38*$E38,COUNTRY_INFO!O38*($E38-$D38)),IF(AND($E38<>0,$I38<>0),IF($F38=0,COUNTRY_INFO!O38*$I38,COUNTRY_INFO!O38*($I38-$D38)),0)),IF($I38=\"\",COUNTRY_INFO!O38*$E38,COUNTRY_INFO!O38*$I38)))","v":0},{"$f":"MAX(0,IF(OR(COUNTRY_INFO!P38=\"Unknown\",COUNTRY_INFO!P38=\"Surveillance\",COUNTRY_INFO!P38=\"Not required\",COUNTRY_INFO!P38=0),0,IF($E38<>0,IF($D38=0,COUNTRY_INFO!P38*$E38,COUNTRY_INFO!P38*$E38-($F38*COUNTRY_INFO!$P38/(COUNTRY_INFO!$F38+COUNTRY_INFO!$G38)+IF($G38=\" \",0,COUNTRY_INFO!$P38/(COUNTRY_INFO!$F38+COUNTRY_INFO!$G38)*$G38*$H38))),0)))","v":0},null,{"$f":"MAX(0,IF(OR(COUNTRY_INFO!Q38=\"Unknown\",COUNTRY_INFO!Q38=\"Surveillance\",COUNTRY_INFO!Q38=\"Not required\",COUNTRY_INFO!Q38=0),0,IF($E38<>0,IF($D38=0,COUNTRY_INFO!Q38*MIN($E38,$L38),COUNTRY_INFO!Q38*MIN($E38,$L38)-($F38*COUNTRY_INFO!$Q38/(COUNTRY_INFO!$F38+COUNTRY_INFO!$G38)+IF($G38=\" \",0,COUNTRY_INFO!$Q38/(COUNTRY_INFO!$F38+COUNTRY_INFO!$G38)*$G38*$H38))),0)))","v":0},0,0,null,0,0,null,0,0,null,0]
[{"$f":"IF(AND(INTRO!$E$37=\"Non-endemic\",INTRO!$E$41=\"Non-endemic\"),\" \",IF(COUNTRY_INFO!A39=0,\" \",COUNTRY_INFO!A39))","v":"Tchad"},{"$f":"IF(AND(INTRO!$E$37=\"Non-endemic\",INTRO!$E$41=\"Non-endemic\"),\" \",IF(COUNTRY_INFO!B39=0,\" \",COUNTRY_INFO!B39))","v":"Guéra"},{"$f":"IF(AND(INTRO!$E$37=\"Non-endemic\",INTRO!$E$41=\"Non-endemic\"),\" \",IF(COUNTRY_INFO!C39=0,\" \",COUNTRY_INFO!C39))","v":"Mangalmé"},{"$f":"IF(AND(INTRO!$E$37=\"Non-endemic\",INTRO!$E$41=\"Non-endemic\"),0,COUNTRY_INFO!W39)","v":0},{"$f":"IF(AND(INTRO!$E$37=\"Non-endemic\",INTRO!$E$41=\"Non-endemic\"),0,COUNTRY_INFO!Y39)","v":0},{"$f":"IF($D39=1,IVM!G39,0)","v":0},{"$f":"IF($D39=0, \" \", IF(COUNTRY_INFO!$H39=1, IF(COUNTRY_INFO!$L39=1, 0,\" \"),\" \"))","v":" "},null,null,{"$f":"IF(OR(COUNTRY_INFO!O39=\"Unknown\",COUNTRY_INFO!O39=\"Surveillance\",COUNTRY_INFO!O39=\"Not required\",COUNTRY_INFO!O39=0),0,IF(INTRO!$E$39=\"Non-endemic\",IF(AND($E39<>0,$I39=\"\"),IF($F39=0,COUNTRY_INFO!O39*$E39,COUNTRY_INFO!O39*($E39-$D39)),IF(AND($E39<>0,$I39<>0),IF($F39=0,COUNTRY_INFO!O39*$I39,COUNTRY_INFO!O39*($I39-$D39)),0)),IF($I39=\"\",COUNTRY_INFO!O39*$E39,COUNTRY_INFO!O39*$I39)))","v":0},{"$f":"MAX(0,IF(OR(COUNTRY_INFO!P39=\"Unknown\",COUNTRY_INFO!P39=\"Surveillance\",COUNTRY_INFO!P39=\"Not required\",COUNTRY_INFO!P39=0),0,IF($E39<>0,IF($D39=0,COUNTRY_INFO!P39*$E39,COUNTRY_INFO!P39*$E39-($F39*COUNTRY_INFO!$P39/(COUNTRY_INFO!$F39+COUNTRY_INFO!$G39)+IF($G39=\" \",0,COUNTRY_INFO!$P39/(COUNTRY_INFO!$F39+COUNTRY_INFO!$G39)*$G39*$H39))),0)))","v":0},null,{"$f":"MAX(0,IF(OR(COUNTRY_INFO!Q39=\"Unknown\",COUNTRY_INFO!Q39=\"Surveillance\",COUNTRY_INFO!Q39=\"Not required\",COUNTRY_INFO!Q39=0),0,IF($E39<>0,IF($D39=0,COUNTRY_INFO!Q39*MIN($E39,$L39),COUNTRY_INFO!Q39*MIN($E39,$L39)-($F39*COUNTRY_INFO!$Q39/(COUNTRY_INFO!$F39+COUNTRY_INFO!$G39)+IF($G39=\" \",0,COUNTRY_INFO!$Q39/(COUNTRY_INFO!$F39+COUNTRY_INFO!$G39)*$G39*$H39))),0)))","v":0},0,0,null,0,0,null,0,0,null,0]
[{"$f":"IF(AND(INTRO!$E$37=\"Non-endemic\",INTRO!$E$41=\"Non-endemic\"),\" \",IF(COUNTRY_INFO!A40=0,\" \",COUNTRY_INFO!A40))","v":"Tchad"},{"$f":"IF(AND(INTRO!$E$37=\"Non-endemic\",INTRO!$E$41=\"Non-endemic\"),\" \",IF(COUNTRY_INFO!B40=0,\" \",COUNTRY_INFO!B40))","v":"Guéra"},{"$f":"IF(AND(INTRO!$E$37=\"Non-endemic\",INTRO!$E$41=\"Non-endemic\"),\" \",IF(COUNTRY_INFO!C40=0,\" \",COUNTRY_INFO!C40))","v":"Melfi"},{"$f":"IF(AND(INTRO!$E$37=\"Non-endemic\",INTRO!$E$41=\"Non-endemic\"),0,COUNTRY_INFO!W40)","v":0},{"$f":"IF(AND(INTRO!$E$37=\"Non-endemic\",INTRO!$E$41=\"Non-endemic\"),0,COUNTRY_INFO!Y40)","v":0},{"$f":"IF($D40=1,IVM!G40,0)","v":0},{"$f":"IF($D40=0, \" \", IF(COUNTRY_INFO!$H40=1, IF(COUNTRY_INFO!$L40=1, 0,\" \"),\" \"))","v":" "},null,null,{"$f":"IF(OR(COUNTRY_INFO!O40=\"Unknown\",COUNTRY_INFO!O40=\"Surveillance\",COUNTRY_INFO!O40=\"Not required\",COUNTRY_INFO!O40=0),0,IF(INTRO!$E$39=\"Non-endemic\",IF(AND($E40<>0,$I40=\"\"),IF($F40=0,COUNTRY_INFO!O40*$E40,COUNTRY_INFO!O40*($E40-$D40)),IF(AND($E40<>0,$I40<>0),IF($F40=0,COUNTRY_INFO!O40*$I40,COUNTRY_INFO!O40*($I40-$D40)),0)),IF($I40=\"\",COUNTRY_INFO!O40*$E40,COUNTRY_INFO!O40*$I40)))","v":0},{"$f":"MAX(0,IF(OR(COUNTRY_INFO!P40=\"Unknown\",COUNTRY_INFO!P40=\"Surveillance\",COUNTRY_INFO!P40=\"Not required\",COUNTRY_INFO!P40=0),0,IF($E40<>0,IF($D40=0,COUNTRY_INFO!P40*$E40,COUNTRY_INFO!P40*$E40-($F40*COUNTRY_INFO!$P40/(COUNTRY_INFO!$F40+COUNTRY_INFO!$G40)+IF($G40=\" \",0,COUNTRY_INFO!$P40/(COUNTRY_INFO!$F40+COUNTRY_INFO!$G40)*$G40*$H40))),0)))","v":0},null,{"$f":"MAX(0,IF(OR(COUNTRY_INFO!Q40=\"Unknown\",COUNTRY_INFO!Q40=\"Surveillance\",COUNTRY_INFO!Q40=\"Not required\",COUNTRY_INFO!Q40=0),0,IF($E40<>0,IF($D40=0,COUNTRY_INFO!Q40*MIN($E40,$L40),COUNTRY_INFO!Q40*MIN($E40,$L40)-($F40*COUNTRY_INFO!$Q40/(COUNTRY_INFO!$F40+COUNTRY_INFO!$G40)+IF($G40=\" \",0,COUNTRY_INFO!$Q40/(COUNTRY_INFO!$F40+COUNTRY_INFO!$G40)*$G40*$H40))),0)))","v":0},0,0,null,0,0,null,0,0,null,0]
[{"$f":"IF(AND(INTRO!$E$37=\"Non-endemic\",INTRO!$E$41=\"Non-endemic\"),\" \",IF(COUNTRY_INFO!A41=0,\" \",COUNTRY_INFO!A41))","v":"Tchad"},{"$f":"IF(AND(INTRO!$E$37=\"Non-endemic\",INTRO!$E$41=\"Non-endemic\"),\" \",IF(COUNTRY_INFO!B41=0,\" \",COUNTRY_INFO!B41))","v":"Guéra"},{"$f":"IF(AND(INTRO!$E$37=\"Non-endemic\",INTRO!$E$41=\"Non-endemic\"),\" \",IF(COUNTRY_INFO!C41=0,\" \",COUNTRY_INFO!C41))","v":"Mongo"},{"$f":"IF(AND(INTRO!$E$37=\"Non-endemic\",INTRO!$E$41=\"Non-endemic\"),0,COUNTRY_INFO!W41)","v":0},{"$f":"IF(AND(INTRO!$E$37=\"Non-endemic\",INTRO!$E$41=\"Non-endemic\"),0,COUNTRY_INFO!Y41)","v":0},{"$f":"IF($D41=1,IVM!G41,0)","v":0},{"$f":"IF($D41=0, \" \", IF(COUNTRY_INFO!$H41=1, IF(COUNTRY_INFO!$L41=1, 0,\" \"),\" \"))","v":" "},null,null,{"$f":"IF(OR(COUNTRY_INFO!O41=\"Unknown\",COUNTRY_INFO!O41=\"Surveillance\",COUNTRY_INFO!O41=\"Not required\",COUNTRY_INFO!O41=0),0,IF(INTRO!$E$39=\"Non-endemic\",IF(AND($E41<>0,$I41=\"\"),IF($F41=0,COUNTRY_INFO!O41*$E41,COUNTRY_INFO!O41*($E41-$D41)),IF(AND($E41<>0,$I41<>0),IF($F41=0,COUNTRY_INFO!O41*$I41,COUNTRY_INFO!O41*($I41-$D41)),0)),IF($I41=\"\",COUNTRY_INFO!O41*$E41,COUNTRY_INFO!O41*$I41)))","v":0},{"$f":"MAX(0,IF(OR(COUNTRY_INFO!P41=\"Unknown\",COUNTRY_INFO!P41=\"Surveillance\",COUNTRY_INFO!P41=\"Not required\",COUNTRY_INFO!P41=0),0,IF($E41<>0,IF($D41=0,COUNTRY_INFO!P41*$E41,COUNTRY_INFO!P41*$E41-($F41*COUNTRY_INFO!$P41/(COUNTRY_INFO!$F41+COUNTRY_INFO!$G41)+IF($G41=\" \",0,COUNTRY_INFO!$P41/(COUNTRY_INFO!$F41+COUNTRY_INFO!$G41)*$G41*$H41))),0)))","v":0},null,{"$f":"MAX(0,IF(OR(COUNTRY_INFO!Q41=\"Unknown\",COUNTRY_INFO!Q41=\"Surveillance\",COUNTRY_INFO!Q41=\"Not required\",COUNTRY_INFO!Q41=0),0,IF($E41<>0,IF($D41=0,COUNTRY_INFO!Q41*MIN($E41,$L41),COUNTRY_INFO!Q41*MIN($E41,$L41)-($F41*COUNTRY_INFO!$Q41/(COUNTRY_INFO!$F41+COUNTRY_INFO!$G41)+IF($G41=\" \",0,COUNTRY_INFO!$Q41/(COUNTRY_INFO!$F41+COUNTRY_INFO!$G41)*$G41*$H41))),0)))","v":0},0,0,null,0,0,null,0,0,null,0]
[{"$f":"IF(AND(INTRO!$E$37=\"Non-endemic\",INTRO!$E$41=\"Non-endemic\"),\" \",IF(COUNTRY_INFO!A42=0,\" \",COUNTRY_INFO!A42))","v":"Tchad"},{"$f":"IF(AND(INTRO!$E$37=\"Non-endemic\",INTRO!$E$41=\"Non-endemic\"),\" \",IF(COUNTRY_INFO!B42=0,\" \",COUNTRY_INFO!B42))","v":"Hadjer Lamis"},{"$f":"IF(AND(INTRO!$E$37=\"Non-endemic\",INTRO!$E$41=\"Non-endemic\"),\" \",IF(COUNTRY_INFO!C42=0,\" \",COUNTRY_INFO!C42))","v":"Bokoro"},{"$f":"IF(AND(INTRO!$E$37=\"Non-endemic\",INTRO!$E$41=\"Non-endemic\"),0,COUNTRY_INFO!W42)","v":0},{"$f":"IF(AND(INTRO!$E$37=\"Non-endemic\",INTRO!$E$41=\"Non-endemic\"),0,COUNTRY_INFO!Y42)","v":0},{"$f":"IF($D42=1,IVM!G42,0)","v":0},{"$f":"IF($D42=0, \" \", IF(COUNTRY_INFO!$H42=1, IF(COUNTRY_INFO!$L42=1, 0,\" \"),\" \"))","v":" "},null,null,{"$f":"IF(OR(COUNTRY_INFO!O42=\"Unknown\",COUNTRY_INFO!O42=\"Surveillance\",COUNTRY_INFO!O42=\"Not required\",COUNTRY_INFO!O42=0),0,IF(INTRO!$E$39=\"Non-endemic\",IF(AND($E42<>0,$I42=\"\"),IF($F42=0,COUNTRY_INFO!O42*$E42,COUNTRY_INFO!O42*($E42-$D42)),IF(AND($E42<>0,$I42<>0),IF($F42=0,COUNTRY_INFO!O42*$I42,COUNTRY_INFO!O42*($I42-$D42)),0)),IF($I42=\"\",COUNTRY_INFO!O42*$E42,COUNTRY_INFO!O42*$I42)))","v":0},{"$f":"MAX(0,IF(OR(COUNTRY_INFO!P42=\"Unknown\",COUNTRY_INFO!P42=\"Surveillance\",COUNTRY_INFO!P42=\"Not required\",COUNTRY_INFO!P42=0),0,IF($E42<>0,IF($D42=0,COUNTRY_INFO!P42*$E42,COUNTRY_INFO!P42*$E42-($F42*COUNTRY_INFO!$P42/(COUNTRY_INFO!$F42+COUNTRY_INFO!$G42)+IF($G42=\" \",0,COUNTRY_INFO!$P42/(COUNTRY_INFO!$F42+COUNTRY_INFO!$G42)*$G42*$H42))),0)))","v":0},null,{"$f":"MAX(0,IF(OR(COUNTRY_INFO!Q42=\"Unknown\",COUNTRY_INFO!Q42=\"Surveillance\",COUNTRY_INFO!Q42=\"Not required\",COUNTRY_INFO!Q42=0),0,IF($E42<>0,IF($D42=0,COUNTRY_INFO!Q42*MIN($E42,$L42),COUNTRY_INFO!Q42*MIN($E42,$L42)-($F42*COUNTRY_INFO!$Q42/(COUNTRY_INFO!$F42+COUNTRY_INFO!$G42)+IF($G42=\" \",0,COUNTRY_INFO!$Q42/(COUNTRY_INFO!$F42+COUNTRY_INFO!$G42)*$G42*$H42))),0)))","v":0},0,0,null,0,0,null,0,0,null,0]
[{"$f":"IF(AND(INTRO!$E$37=\"Non-endemic\",INTRO!$E$41=\"Non-endemic\"),\" \",IF(COUNTRY_INFO!A43=0,\" \",COUNTRY_INFO!A43))","v":"Tchad"},{"$f":"IF(AND(INTRO!$E$37=\"Non-endemic\",INTRO!$E$41=\"Non-endemic\"),\" \",IF(COUNTRY_INFO!B43=0,\" \",COUNTRY_INFO!B43))","v":"Hadjer Lamis"},{"$f":"IF(AND(INTRO!$E$37=\"Non-endemic\",INTRO!$E$41=\"Non-endemic\"),\" \",IF(COUNTRY_INFO!C43=0,\" \",COUNTRY_INFO!C43))","v":"Gama"},{"$f":"IF(AND(INTRO!$E$37=\"Non-endemic\",INTRO!$E$41=\"Non-endemic\"),0,COUNTRY_INFO!W43)","v":0},{"$f":"IF(AND(INTRO!$E$37=\"Non-endemic\",INTRO!$E$41=\"Non-endemic\"),0,COUNTRY_INFO!Y43)","v":0},{"$f":"IF($D43=1,IVM!G43,0)","v":0},{"$f":"IF($D43=0, \" \", IF(COUNTRY_INFO!$H43=1, IF(COUNTRY_INFO!$L43=1, 0,\" \"),\" \"))","v":" "},null,null,{"$f":"IF(OR(COUNTRY_INFO!O43=\"Unknown\",COUNTRY_INFO!O43=\"Surveillance\",COUNTRY_INFO!O43=\"Not required\",COUNTRY_INFO!O43=0),0,IF(INTRO!$E$39=\"Non-endemic\",IF(AND($E43<>0,$I43=\"\"),IF($F43=0,COUNTRY_INFO!O43*$E43,COUNTRY_INFO!O43*($E43-$D43)),IF(AND($E43<>0,$I43<>0),IF($F43=0,COUNTRY_INFO!O43*$I43,COUNTRY_INFO!O43*($I43-$D43)),0)),IF($I43=\"\",COUNTRY_INFO!O43*$E43,COUNTRY_INFO!O43*$I43)))","v":0},{"$f":"MAX(0,IF(OR(COUNTRY_INFO!P43=\"Unknown\",COUNTRY_INFO!P43=\"Surveillance\",COUNTRY_INFO!P43=\"Not required\",COUNTRY_INFO!P43=0),0,IF($E43<>0,IF($D43=0,COUNTRY_INFO!P43*$E43,COUNTRY_INFO!P43*$E43-($F43*COUNTRY_INFO!$P43/(COUNTRY_INFO!$F43+COUNTRY_INFO!$G43)+IF($G43=\" \",0,COUNTRY_INFO!$P43/(COUNTRY_INFO!$F43+COUNTRY_INFO!$G43)*$G43*$H43))),0)))","v":0},null,{"$f":"MAX(0,IF(OR(COUNTRY_INFO!Q43=\"Unknown\",COUNTRY_INFO!Q43=\"Surveillance\",COUNTRY_INFO!Q43=\"Not required\",COUNTRY_INFO!Q43=0),0,IF($E43<>0,IF($D43=0,COUNTRY_INFO!Q43*MIN($E43,$L43),COUNTRY_INFO!Q43*MIN($E43,$L43)-($F43*COUNTRY_INFO!$Q43/(COUNTRY_INFO!$F43+COUNTRY_INFO!$G43)+IF($G43=\" \",0,COUNTRY_INFO!$Q43/(COUNTRY_INFO!$F43+COUNTRY_INFO!$G43)*$G43*$H43))),0)))","v":0},0,0,null,0,0,null,0,0,null,0]
[{"$f":"IF(AND(INTRO!$E$37=\"Non-endemic\",INTRO!$E$41=\"Non-endemic\"),\" \",IF(COUNTRY_INFO!A44=0,\" \",COUNTRY_INFO!A44))","v":"Tchad"},{"$f":"IF(AND(INTRO!$E$37=\"Non-endemic\",INTRO!$E$41=\"Non-endemic\"),\" \",IF(COUNTRY_INFO!B44=0,\" \",COUNTRY_INFO!B44))","v":"Hadjar Lamis"},{"$f":"IF(AND(INTRO!$E$37=\"Non-endemic\",INTRO!$E$41=\"Non-endemic\"),\" \",IF(COUNTRY_INFO!C44=0,\" \",COUNTRY_INFO!C44))","v":"Karal"},{"$f":"IF(AND(INTRO!$E$37=\"Non-endemic\",INTRO!$E$41=\"Non-endemic\"),0,COUNTRY_INFO!W44)","v":0},{"$f":"IF(AND(INTRO!$E$37=\"Non-endemic\",INTRO!$E$41=\"Non-endemic\"),0,COUNTRY_INFO!Y44)","v":0},{"$f":"IF($D44=1,IVM!G44,0)","v":0},{"$f":"IF($D44=0, \" \", IF(COUNTRY_INFO!$H44=1, IF(COUNTRY_INFO!$L44=1, 0,\" \"),\" \"))","v":" "},null,null,{"$f":"IF(OR(COUNTRY_INFO!O44=\"Unknown\",COUNTRY_INFO!O44=\"Surveillance\",COUNTRY_INFO!O44=\"Not required\",COUNTRY_INFO!O44=0),0,IF(INTRO!$E$39=\"Non-endemic\",IF(AND($E44<>0,$I44=\"\"),IF($F44=0,COUNTRY_INFO!O44*$E44,COUNTRY_INFO!O44*($E44-$D44)),IF(AND($E44<>0,$I44<>0),IF($F44=0,COUNTRY_INFO!O44*$I44,COUNTRY_INFO!O44*($I44-$D44)),0)),IF($I44=\"\",COUNTRY_INFO!O44*$E44,COUNTRY_INFO!O44*$I44)))","v":0},{"$f":"MAX(0,IF(OR(COUNTRY_INFO!P44=\"Unknown\",COUNTRY_INFO!P44=\"Surveillance\",COUNTRY_INFO!P44=\"Not required\",COUNTRY_INFO!P44=0),0,IF($E44<>0,IF($D44=0,COUNTRY_INFO!P44*$E44,COUNTRY_INFO!P44*$E44-($F44*COUNTRY_INFO!$P44/(COUNTRY_INFO!$F44+COUNTRY_INFO!$G44)+IF($G44=\" \",0,COUNTRY_INFO!$P44/(COUNTRY_INFO!$F44+COUNTRY_INFO!$G44)*$G44*$H44))),0)))","v":0},null,{"$f":"MAX(0,IF(OR(COUNTRY_INFO!Q44=\"Unknown\",COUNTRY_INFO!Q44=\"Surveillance\",COUNTRY_INFO!Q44=\"Not required\",COUNTRY_INFO!Q44=0),0,IF($E44<>0,IF($D44=0,COUNTRY_INFO!Q44*MIN($E44,$L44),COUNTRY_INFO!Q44*MIN($E44,$L44)-($F44*COUNTRY_INFO!$Q44/(COUNTRY_INFO!$F44+COUNTRY_INFO!$G44)+IF($G44=\" \",0,COUNTRY_INFO!$Q44/(COUNTRY_INFO!$F44+COUNTRY_INFO!$G44)*$G44*$H44))),0)))","v":0},0,0,null,0,0,null,0,0,null,0]
[{"$f":"IF(AND(INTRO!$E$37=\"Non-endemic\",INTRO!$E$41=\"Non-endemic\"),\" \",IF(COUNTRY_INFO!A45=0,\" \",COUNTRY_INFO!A45))","v":"Tchad"},{"$f":"IF(AND(INTRO!$E$37=\"Non-endemic\",INTRO!$E$41=\"Non-endemic\"),\" \",IF(COUNTRY_INFO!B45=0,\" \",COUNTRY_INFO!B45))","v":"Hadjer Lamis"},{"$f":"IF(AND(INTRO!$E$37=\"Non-endemic\",INTRO!$E$41=\"Non-endemic\"),\" \",IF(COUNTRY_INFO!C45=0,\" \",COUNTRY_INFO!C45))","v":"Mani"},{"$f":"IF(AND(INTRO!$E$37=\"Non-endemic\",INTRO!$E$41=\"Non-endemic\"),0,COUNTRY_INFO!W45)","v":0},{"$f":"IF(AND(INTRO!$E$37=\"Non-endemic\",INTRO!$E$41=\"Non-endemic\"),0,COUNTRY_INFO!Y45)","v":0},{"$f":"IF($D45=1,IVM!G45,0)","v":0},{"$f":"IF($D45=0, \" \", IF(COUNTRY_INFO!$H45=1, IF(COUNTRY_INFO!$L45=1, 0,\" \"),\" \"))","v":" "},null,null,{"$f":"IF(OR(COUNTRY_INFO!O45=\"Unknown\",COUNTRY_INFO!O45=\"Surveillance\",COUNTRY_INFO!O45=\"Not required\",COUNTRY_INFO!O45=0),0,IF(INTRO!$E$39=\"Non-endemic\",IF(AND($E45<>0,$I45=\"\"),IF($F45=0,COUNTRY_INFO!O45*$E45,COUNTRY_INFO!O45*($E45-$D45)),IF(AND($E45<>0,$I45<>0),IF($F45=0,COUNTRY_INFO!O45*$I45,COUNTRY_INFO!O45*($I45-$D45)),0)),IF($I45=\"\",COUNTRY_INFO!O45*$E45,COUNTRY_INFO!O45*$I45)))","v":0},{"$f":"MAX(0,IF(OR(COUNTRY_INFO!P45=\"Unknown\",COUNTRY_INFO!P45=\"Surveillance\",COUNTRY_INFO!P45=\"Not required\",COUNTRY_INFO!P45=0),0,IF($E45<>0,IF($D45=0,COUNTRY_INFO!P45*$E45,COUNTRY_INFO!P45*$E45-($F45*COUNTRY_INFO!$P45/(COUNTRY_INFO!$F45+COUNTRY_INFO!$G45)+IF($G45=\" \",0,COUNTRY_INFO!$P45/(COUNTRY_INFO!$F45+COUNTRY_INFO!$G45)*$G45*$H45))),0)))","v":0},null,{"$f":"MAX(0,IF(OR(COUNTRY_INFO!Q45=\"Unknown\",COUNTRY_INFO!Q45=\"Surveillance\",COUNTRY_INFO!Q45=\"Not required\",COUNTRY_INFO!Q45=0),0,IF($E45<>0,IF($D45=0,COUNTRY_INFO!Q45*MIN($E45,$L45),COUNTRY_INFO!Q45*MIN($E45,$L45)-($F45*COUNTRY_INFO!$Q45/(COUNTRY_INFO!$F45+COUNTRY_INFO!$G45)+IF($G45=\" \",0,COUNTRY_INFO!$Q45/(COUNTRY_INFO!$F45+COUNTRY_INFO!$G45)*$G45*$H45))),0)))","v":0},0,0,null,0,0,null,0,0,null,0]
[{"$f":"IF(AND(INTRO!$E$37=\"Non-endemic\",INTRO!$E$41=\"Non-endemic\"),\" \",IF(COUNTRY_INFO!A46=0,\" \",COUNTRY_INFO!A46))","v":"Tchad"},{"$f":"IF(AND(INTRO!$E$37=\"Non-endemic\",INTRO!$E$41=\"Non-endemic\"),\" \",IF(COUNTRY_INFO!B46=0,\" \",COUNTRY_INFO!B46))","v":"Hadjer Lamis"},{"$f":"IF(AND(INTRO!$E$37=\"Non-endemic\",INTRO!$E$41=\"Non-endemic\"),\" \",IF(COUNTRY_INFO!C46=0,\" \",COUNTRY_INFO!C46))","v":"Massaguet"},{"$f":"IF(AND(INTRO!$E$37=\"Non-endemic\",INTRO!$E$41=\"Non-endemic\"),0,COUNTRY_INFO!W46)","v":0},{"$f":"IF(AND(INTRO!$E$37=\"Non-endemic\",INTRO!$E$41=\"Non-endemic\"),0,COUNTRY_INFO!Y46)","v":0},{"$f":"IF($D46=1,IVM!G46,0)","v":0},{"$f":"IF($D46=0, \" \", IF(COUNTRY_INFO!$H46=1, IF(COUNTRY_INFO!$L46=1, 0,\" \"),\" \"))","v":" "},null,null,{"$f":"IF(OR(COUNTRY_INFO!O46=\"Unknown\",COUNTRY_INFO!O46=\"Surveillance\",COUNTRY_INFO!O46=\"Not required\",COUNTRY_INFO!O46=0),0,IF(INTRO!$E$39=\"Non-endemic\",IF(AND($E46<>0,$I46=\"\"),IF($F46=0,COUNTRY_INFO!O46*$E46,COUNTRY_INFO!O46*($E46-$D46)),IF(AND($E46<>0,$I46<>0),IF($F46=0,COUNTRY_INFO!O46*$I46,COUNTRY_INFO!O46*($I46-$D46)),0)),IF($I46=\"\",COUNTRY_INFO!O46*$E46,COUNTRY_INFO!O46*$I46)))","v":0},{"$f":"MAX(0,IF(OR(COUNTRY_INFO!P46=\"Unknown\",COUNTRY_INFO!P46=\"Surveillance\",COUNTRY_INFO!P46=\"Not required\",COUNTRY_INFO!P46=0),0,IF($E46<>0,IF($D46=0,COUNTRY_INFO!P46*$E46,COUNTRY_INFO!P46*$E46-($F46*COUNTRY_INFO!$P46/(COUNTRY_INFO!$F46+COUNTRY_INFO!$G46)+IF($G46=\" \",0,COUNTRY_INFO!$P46/(COUNTRY_INFO!$F46+COUNTRY_INFO!$G46)*$G46*$H46))),0)))","v":0},null,{"$f":"MAX(0,IF(OR(COUNTRY_INFO!Q46=\"Unknown\",COUNTRY_INFO!Q46=\"Surveillance\",COUNTRY_INFO!Q46=\"Not required\",COUNTRY_INFO!Q46=0),0,IF($E46<>0,IF($D46=0,COUNTRY_INFO!Q46*MIN($E46,$L46),COUNTRY_INFO!Q46*MIN($E46,$L46)-($F46*COUNTRY_INFO!$Q46/(COUNTRY_INFO!$F46+COUNTRY_INFO!$G46)+IF($G46=\" \",0,COUNTRY_INFO!$Q46/(COUNTRY_INFO!$F46+COUNTRY_INFO!$G46)*$G46*$H46))),0)))","v":0},0,0,null,0,0,null,0,0,null,0]
[{"$f":"IF(AND(INTRO!$E$37=\"Non-endemic\",INTRO!$E$41=\"Non-endemic\"),\" \",IF(COUNTRY_INFO!A47=0,\" \",COUNTRY_INFO!A47))","v":"Tchad"},{"$f":"IF(AND(INTRO!$E$37=\"Non-endemic\",INTRO!$E$41=\"Non-endemic\"),\" \",IF(COUNTRY_INFO!B47=0,\" \",COUNTRY_INFO!B47))","v":"Hadjer Lamis"},{"$f":"IF(AND(INTRO!$E$37=\"Non-endemic\",INTRO!$E$41=\"Non-endemic\"),\" \",IF(COUNTRY_INFO!C47=0,\" \",COUNTRY_INFO!C47))","v":"Massakory"},{"$f":"IF(AND(INTRO!$E$37=\"Non-endemic\",INTRO!$E$41=\"Non-endemic\"),0,COUNTRY_INFO!W47)","v":0},{"$f":"IF(AND(INTRO!$E$37=\"Non-endemic\",INTRO!$E$41=\"Non-endemic\"),0,COUNTRY_INFO!Y47)","v":0},{"$f":"IF($D47=1,IVM!G47,0)","v":0},{"$f":"IF($D47=0, \" \", IF(COUNTRY_INFO!$H47=1, IF(COUNTRY_INFO!$L47=1, 0,\" \"),\" \"))","v":" "},null,null,{"$f":"IF(OR(COUNTRY_INFO!O47=\"Unknown\",COUNTRY_INFO!O47=\"Surveillance\",COUNTRY_INFO!O47=\"Not required\",COUNTRY_INFO!O47=0),0,IF(INTRO!$E$39=\"Non-endemic\",IF(AND($E47<>0,$I47=\"\"),IF($F47=0,COUNTRY_INFO!O47*$E47,COUNTRY_INFO!O47*($E47-$D47)),IF(AND($E47<>0,$I47<>0),IF($F47=0,COUNTRY_INFO!O47*$I47,COUNTRY_INFO!O47*($I47-$D47)),0)),IF($I47=\"\",COUNTRY_INFO!O47*$E47,COUNTRY_INFO!O47*$I47)))","v":0},{"$f":"MAX(0,IF(OR(COUNTRY_INFO!P47=\"Unknown\",COUNTRY_INFO!P47=\"Surveillance\",COUNTRY_INFO!P47=\"Not required\",COUNTRY_INFO!P47=0),0,IF($E47<>0,IF($D47=0,COUNTRY_INFO!P47*$E47,COUNTRY_INFO!P47*$E47-($F47*COUNTRY_INFO!$P47/(COUNTRY_INFO!$F47+COUNTRY_INFO!$G47)+IF($G47=\" \",0,COUNTRY_INFO!$P47/(COUNTRY_INFO!$F47+COUNTRY_INFO!$G47)*$G47*$H47))),0)))","v":0},null,{"$f":"MAX(0,IF(OR(COUNTRY_INFO!Q47=\"Unknown\",COUNTRY_INFO!Q47=\"Surveillance\",COUNTRY_INFO!Q47=\"Not required\",COUNTRY_INFO!Q47=0),0,IF($E47<>0,IF($D47=0,COUNTRY_INFO!Q47*MIN($E47,$L47),COUNTRY_INFO!Q47*MIN($E47,$L47)-($F47*COUNTRY_INFO!$Q47/(COUNTRY_INFO!$F47+COUNTRY_INFO!$G47)+IF($G47=\" \",0,COUNTRY_INFO!$Q47/(COUNTRY_INFO!$F47+COUNTRY_INFO!$G47)*$G47*$H47))),0)))","v":0},0,0,null,0,0,null,0,0,null,0]
[{"$f":"IF(AND(INTRO!$E$37=\"Non-endemic\",INTRO!$E$41=\"Non-endemic\"),\" \",IF(COUNTRY_INFO!A48=0,\" \",COUNTRY_INFO!A48))","v":"Tchad"},{"$f":"IF(AND(INTRO!$E$37=\"Non-endemic\",INTRO!$E$41=\"Non-endemic\"),\" \",IF(COUNTRY_INFO!B48=0,\" \",COUNTRY_INFO!B48))","v":"Kanem"},{"$f":"IF(AND(INTRO!$E$37=\"Non-endemic\",INTRO!$E$41=\"Non-endemic\"),\" \",IF(COUNTRY_INFO!C48=0,\" \",COUNTRY_INFO!C48))","v":"Amdoback"},{"$f":"IF(AND(INTRO!$E$37=\"Non-endemic\",INTRO!$E$41=\"Non-endemic\"),0,COUNTRY_INFO!W48)","v":0},{"$f":"IF(AND(INTRO!$E$37=\"Non-endemic\",INTRO!$E$41=\"Non-endemic\"),0,COUNTRY_INFO!Y48)","v":0},{"$f":"IF($D48=1,IVM!G48,0)","v":0},{"$f":"IF($D48=0, \" \", IF(COUNTRY_INFO!$H48=1, IF(COUNTRY_INFO!$L48=1, 0,\" \"),\" \"))","v":" "},null,null,{"$f":"IF(OR(COUNTRY_INFO!O48=\"Unknown\",COUNTRY_INFO!O48=\"Surveillance\",COUNTRY_INFO!O48=\"Not required\",COUNTRY_INFO!O48=0),0,IF(INTRO!$E$39=\"Non-endemic\",IF(AND($E48<>0,$I48=\"\"),IF($F48=0,COUNTRY_INFO!O48*$E48,COUNTRY_INFO!O48*($E48-$D48)),IF(AND($E48<>0,$I48<>0),IF($F48=0,COUNTRY_INFO!O48*$I48,COUNTRY_INFO!O48*($I48-$D48)),0)),IF($I48=\"\",COUNTRY_INFO!O48*$E48,COUNTRY_INFO!O48*$I48)))","v":0},{"$f":"MAX(0,IF(OR(COUNTRY_INFO!P48=\"Unknown\",COUNTRY_INFO!P48=\"Surveillance\",COUNTRY_INFO!P48=\"Not required\",COUNTRY_INFO!P48=0),0,IF($E48<>0,IF($D48=0,COUNTRY_INFO!P48*$E48,COUNTRY_INFO!P48*$E48-($F48*COUNTRY_INFO!$P48/(COUNTRY_INFO!$F48+COUNTRY_INFO!$G48)+IF($G48=\" \",0,COUNTRY_INFO!$P48/(COUNTRY_INFO!$F48+COUNTRY_INFO!$G48)*$G48*$H48))),0)))","v":0},null,{"$f":"MAX(0,IF(OR(COUNTRY_INFO!Q48=\"Unknown\",COUNTRY_INFO!Q48=\"Surveillance\",COUNTRY_INFO!Q48=\"Not required\",COUNTRY_INFO!Q48=0),0,IF($E48<>0,IF($D48=0,COUNTRY_INFO!Q48*MIN($E48,$L48),COUNTRY_INFO!Q48*MIN($E48,$L48)-($F48*COUNTRY_INFO!$Q48/(COUNTRY_INFO!$F48+COUNTRY_INFO!$G48)+IF($G48=\" \",0,COUNTRY_INFO!$Q48/(COUNTRY_INFO!$F48+COUNTRY_INFO!$G48)*$G48*$H48))),0)))","v":0},0,0,null,0,0,null,0,0,null,0]
[{"$f":"IF(AND(INTRO!$E$37=\"Non-endemic\",INTRO!$E$41=\"Non-endemic\"),\" \",IF(COUNTRY_INFO!A49=0,\" \",COUNTRY_INFO!A49))","v":"Tchad"},{"$f":"IF(AND(INTRO!$E$37=\"Non-endemic\",INTRO!$E$41=\"Non-endemic\"),\" \",IF(COUNTRY_INFO!B49=0,\" \",COUNTRY_INFO!B49))","v":"Kanem"},{"$f":"IF(AND(INTRO!$E$37=\"Non-endemic\",INTRO!$E$41=\"Non-endemic\"),\" \",IF(COUNTRY_INFO!C49=0,\" \",COUNTRY_INFO!C49))","v":"Kekedina"},{"$f":"IF(AND(INTRO!$E$37=\"Non-endemic\",INTRO!$E$41=\"Non-endemic\"),0,COUNTRY_INFO!W49)","v":0},{"$f":"IF(AND(INTRO!$E$37=\"Non-endemic\",INTRO!$E$41=\"Non-endemic\"),0,COUNTRY_INFO!Y49)","v":0},{"$f":"IF($D49=1,IVM!G49,0)","v":0},{"$f":"IF($D49=0, \" \", IF(COUNTRY_INFO!$H49=1, IF(COUNTRY_INFO!$L49=1, 0,\" \"),\" \"))","v":" "},null,null,{"$f":"IF(OR(COUNTRY_INFO!O49=\"Unknown\",COUNTRY_INFO!O49=\"Surveillance\",COUNTRY_INFO!O49=\"Not required\",COUNTRY_INFO!O49=0),0,IF(INTRO!$E$39=\"Non-endemic\",IF(AND($E49<>0,$I49=\"\"),IF($F49=0,COUNTRY_INFO!O49*$E49,COUNTRY_INFO!O49*($E49-$D49)),IF(AND($E49<>0,$I49<>0),IF($F49=0,COUNTRY_INFO!O49*$I49,COUNTRY_INFO!O49*($I49-$D49)),0)),IF($I49=\"\",COUNTRY_INFO!O49*$E49,COUNTRY_INFO!O49*$I49)))","v":0},{"$f":"MAX(0,IF(OR(COUNTRY_INFO!P49=\"Unknown\",COUNTRY_INFO!P49=\"Surveillance\",COUNTRY_INFO!P49=\"Not required\",COUNTRY_INFO!P49=0),0,IF($E49<>0,IF($D49=0,COUNTRY_INFO!P49*$E49,COUNTRY_INFO!P49*$E49-($F49*COUNTRY_INFO!$P49/(COUNTRY_INFO!$F49+COUNTRY_INFO!$G49)+IF($G49=\" \",0,COUNTRY_INFO!$P49/(COUNTRY_INFO!$F49+COUNTRY_INFO!$G49)*$G49*$H49))),0)))","v":0},null,{"$f":"MAX(0,IF(OR(COUNTRY_INFO!Q49=\"Unknown\",COUNTRY_INFO!Q49=\"Surveillance\",COUNTRY_INFO!Q49=\"Not required\",COUNTRY_INFO!Q49=0),0,IF($E49<>0,IF($D49=0,COUNTRY_INFO!Q49*MIN($E49,$L49),COUNTRY_INFO!Q49*MIN($E49,$L49)-($F49*COUNTRY_INFO!$Q49/(COUNTRY_INFO!$F49+COUNTRY_INFO!$G49)+IF($G49=\" \",0,COUNTRY_INFO!$Q49/(COUNTRY_INFO!$F49+COUNTRY_INFO!$G49)*$G49*$H49))),0)))","v":0},0,0,null,0,0,null,0,0,null,0]
[{"$f":"IF(AND(INTRO!$E$37=\"Non-endemic\",INTRO!$E$41=\"Non-endemic\"),\" \",IF(COUNTRY_INFO!A50=0,\" \",COUNTRY_INFO!A50))","v":"Tchad"},{"$f":"IF(AND(INTRO!$E$37=\"Non-endemic\",INTRO!$E$41=\"Non-endemic\"),\" \",IF(COUNTRY_INFO!B50=0,\" \",COUNTRY_INFO!B50))","v":"Kanem"},{"$f":"IF(AND(INTRO!$E$37=\"Non-endemic\",INTRO!$E$41=\"Non-endemic\"),\" \",IF(COUNTRY_INFO!C50=0,\" \",COUNTRY_INFO!C50))","v":"Mao"},{"$f":"IF(AND(INTRO!$E$37=\"Non-endemic\",INTRO!$E$41=\"Non-endemic\"),0,COUNTRY_INFO!W50)","v":0},{"$f":"IF(AND(INTRO!$E$37=\"Non-endemic\",INTRO!$E$41=\"Non-endemic\"),0,COUNTRY_INFO!Y50)","v":0},{"$f":"IF($D50=1,IVM!G50,0)","v":0},{"$f":"IF($D50=0, \" \", IF(COUNTRY_INFO!$H50=1, IF(COUNTRY_INFO!$L50=1, 0,\" \"),\" \"))","v":" "},null,null,{"$f":"IF(OR(COUNTRY_INFO!O50=\"Unknown\",COUNTRY_INFO!O50=\"Surveillance\",COUNTRY_INFO!O50=\"Not required\",COUNTRY_INFO!O50=0),0,IF(INTRO!$E$39=\"Non-endemic\",IF(AND($E50<>0,$I50=\"\"),IF($F50=0,COUNTRY_INFO!O50*$E50,COUNTRY_INFO!O50*($E50-$D50)),IF(AND($E50<>0,$I50<>0),IF($F50=0,COUNTRY_INFO!O50*$I50,COUNTRY_INFO!O50*($I50-$D50)),0)),IF($I50=\"\",COUNTRY_INFO!O50*$E50,COUNTRY_INFO!O50*$I50)))","v":0},{"$f":"MAX(0,IF(OR(COUNTRY_INFO!P50=\"Unknown\",COUNTRY_INFO!P50=\"Surveillance\",COUNTRY_INFO!P50=\"Not required\",COUNTRY_INFO!P50=0),0,IF($E50<>0,IF($D50=0,COUNTRY_INFO!P50*$E50,COUNTRY_INFO!P50*$E50-($F50*COUNTRY_INFO!$P50/(COUNTRY_INFO!$F50+COUNTRY_INFO!$G50)+IF($G50=\" \",0,COUNTRY_INFO!$P50/(COUNTRY_INFO!$F50+COUNTRY_INFO!$G50)*$G50*$H50))),0)))","v":0},null,{"$f":"MAX(0,IF(OR(COUNTRY_INFO!Q50=\"Unknown\",COUNTRY_INFO!Q50=\"Surveillance\",COUNTRY_INFO!Q50=\"Not required\",COUNTRY_INFO!Q50=0),0,IF($E50<>0,IF($D50=0,COUNTRY_INFO!Q50*MIN($E50,$L50),COUNTRY_INFO!Q50*MIN($E50,$L50)-($F50*COUNTRY_INFO!$Q50/(COUNTRY_INFO!$F50+COUNTRY_INFO!$G50)+IF($G50=\" \",0,COUNTRY_INFO!$Q50/(COUNTRY_INFO!$F50+COUNTRY_INFO!$G50)*$G50*$H50))),0)))","v":0},0,0,null,0,0,null,0,0,null,0]
[{"$f":"IF(AND(INTRO!$E$37=\"Non-endemic\",INTRO!$E$41=\"Non-endemic\"),\" \",IF(COUNTRY_INFO!A51=0,\" \",COUNTRY_INFO!A51))","v":"Tchad"},{"$f":"IF(AND(INTRO!$E$37=\"Non-endemic\",INTRO!$E$41=\"Non-endemic\"),\" \",IF(COUNTRY_INFO!B51=0,\" \",COUNTRY_INFO!B51))","v":"Kanem"},{"$f":"IF(AND(INTRO!$E$37=\"Non-endemic\",INTRO!$E$41=\"Non-endemic\"),\" \",IF(COUNTRY_INFO!C51=0,\" \",COUNTRY_INFO!C51))","v":"Mondo"},{"$f":"IF(AND(INTRO!$E$37=\"Non-endemic\",INTRO!$E$41=\"Non-endemic\"),0,COUNTRY_INFO!W51)","v":0},{"$f":"IF(AND(INTRO!$E$37=\"Non-endemic\",INTRO!$E$41=\"Non-endemic\"),0,COUNTRY_INFO!Y51)","v":0},{"$f":"IF($D51=1,IVM!G51,0)","v":0},{"$f":"IF($D51=0, \" \", IF(COUNTRY_INFO!$H51=1, IF(COUNTRY_INFO!$L51=1, 0,\" \"),\" \"))","v":" "},null,null,{"$f":"IF(OR(COUNTRY_INFO!O51=\"Unknown\",COUNTRY_INFO!O51=\"Surveillance\",COUNTRY_INFO!O51=\"Not required\",COUNTRY_INFO!O51=0),0,IF(INTRO!$E$39=\"Non-endemic\",IF(AND($E51<>0,$I51=\"\"),IF($F51=0,COUNTRY_INFO!O51*$E51,COUNTRY_INFO!O51*($E51-$D51)),IF(AND($E51<>0,$I51<>0),IF($F51=0,COUNTRY_INFO!O51*$I51,COUNTRY_INFO!O51*($I51-$D51)),0)),IF($I51=\"\",COUNTRY_INFO!O51*$E51,COUNTRY_INFO!O51*$I51)))","v":0},{"$f":"MAX(0,IF(OR(COUNTRY_INFO!P51=\"Unknown\",COUNTRY_INFO!P51=\"Surveillance\",COUNTRY_INFO!P51=\"Not required\",COUNTRY_INFO!P51=0),0,IF($E51<>0,IF($D51=0,COUNTRY_INFO!P51*$E51,COUNTRY_INFO!P51*$E51-($F51*COUNTRY_INFO!$P51/(COUNTRY_INFO!$F51+COUNTRY_INFO!$G51)+IF($G51=\" \",0,COUNTRY_INFO!$P51/(COUNTRY_INFO!$F51+COUNTRY_INFO!$G51)*$G51*$H51))),0)))","v":0},null,{"$f":"MAX(0,IF(OR(COUNTRY_INFO!Q51=\"Unknown\",COUNTRY_INFO!Q51=\"Surveillance\",COUNTRY_INFO!Q51=\"Not required\",COUNTRY_INFO!Q51=0),0,IF($E51<>0,IF($D51=0,COUNTRY_INFO!Q51*MIN($E51,$L51),COUNTRY_INFO!Q51*MIN($E51,$L51)-($F51*COUNTRY_INFO!$Q51/(COUNTRY_INFO!$F51+COUNTRY_INFO!$G51)+IF($G51=\" \",0,COUNTRY_INFO!$Q51/(COUNTRY_INFO!$F51+COUNTRY_INFO!$G51)*$G51*$H51))),0)))","v":0},0,0,null,0,0,null,0,0,null,0]
[{"$f":"IF(AND(INTRO!$E$37=\"Non-endemic\",INTRO!$E$41=\"Non-endemic\"),\" \",IF(COUNTRY_INFO!A52=0,\" \",COUNTRY_INFO!A52))","v":"Tchad"},{"$f":"IF(AND(INTRO!$E$37=\"Non-endemic\",INTRO!$E$41=\"Non-endemic\"),\" \",IF(COUNTRY_INFO!B52=0,\" \",COUNTRY_INFO!B52))","v":"Kanem"},{"$f":"IF(AND(INTRO!$E$37=\"Non-endemic\",INTRO!$E$41=\"Non-endemic\"),\" \",IF(COUNTRY_INFO!C52=0,\" \",COUNTRY_INFO!C52))","v":"Nokou"},{"$f":"IF(AND(INTRO!$E$37=\"Non-endemic\",INTRO!$E$41=\"Non-endemic\"),0,COUNTRY_INFO!W52)","v":0},{"$f":"IF(AND(INTRO!$E$37=\"Non-endemic\",INTRO!$E$41=\"Non-endemic\"),0,COUNTRY_INFO!Y52)","v":0},{"$f":"IF($D52=1,IVM!G52,0)","v":0},{"$f":"IF($D52=0, \" \", IF(COUNTRY_INFO!$H52=1, IF(COUNTRY_INFO!$L52=1, 0,\" \"),\" \"))","v":" "},null,null,{"$f":"IF(OR(COUNTRY_INFO!O52=\"Unknown\",COUNTRY_INFO!O52=\"Surveillance\",COUNTRY_INFO!O52=\"Not required\",COUNTRY_INFO!O52=0),0,IF(INTRO!$E$39=\"Non-endemic\",IF(AND($E52<>0,$I52=\"\"),IF($F52=0,COUNTRY_INFO!O52*$E52,COUNTRY_INFO!O52*($E52-$D52)),IF(AND($E52<>0,$I52<>0),IF($F52=0,COUNTRY_INFO!O52*$I52,COUNTRY_INFO!O52*($I52-$D52)),0)),IF($I52=\"\",COUNTRY_INFO!O52*$E52,COUNTRY_INFO!O52*$I52)))","v":0},{"$f":"MAX(0,IF(OR(COUNTRY_INFO!P52=\"Unknown\",COUNTRY_INFO!P52=\"Surveillance\",COUNTRY_INFO!P52=\"Not required\",COUNTRY_INFO!P52=0),0,IF($E52<>0,IF($D52=0,COUNTRY_INFO!P52*$E52,COUNTRY_INFO!P52*$E52-($F52*COUNTRY_INFO!$P52/(COUNTRY_INFO!$F52+COUNTRY_INFO!$G52)+IF($G52=\" \",0,COUNTRY_INFO!$P52/(COUNTRY_INFO!$F52+COUNTRY_INFO!$G52)*$G52*$H52))),0)))","v":0},null,{"$f":"MAX(0,IF(OR(COUNTRY_INFO!Q52=\"Unknown\",COUNTRY_INFO!Q52=\"Surveillance\",COUNTRY_INFO!Q52=\"Not required\",COUNTRY_INFO!Q52=0),0,IF($E52<>0,IF($D52=0,COUNTRY_INFO!Q52*MIN($E52,$L52),COUNTRY_INFO!Q52*MIN($E52,$L52)-($F52*COUNTRY_INFO!$Q52/(COUNTRY_INFO!$F52+COUNTRY_INFO!$G52)+IF($G52=\" \",0,COUNTRY_INFO!$Q52/(COUNTRY_INFO!$F52+COUNTRY_INFO!$G52)*$G52*$H52))),0)))","v":0},0,0,null,0,0,null,0,0,null,0]
[{"$f":"IF(AND(INTRO!$E$37=\"Non-endemic\",INTRO!$E$41=\"Non-endemic\"),\" \",IF(COUNTRY_INFO!A53=0,\" \",COUNTRY_INFO!A53))","v":"Tchad"},{"$f":"IF(AND(INTRO!$E$37=\"Non-endemic\",INTRO!$E$41=\"Non-endemic\"),\" \",IF(COUNTRY_INFO!B53=0,\" \",COUNTRY_INFO!B53))","v":"Kanem"},{"$f":"IF(AND(INTRO!$E$37=\"Non-endemic\",INTRO!$E$41=\"Non-endemic\"),\" \",IF(COUNTRY_INFO!C53=0,\" \",COUNTRY_INFO!C53))","v":"Ntiona"},{"$f":"IF(AND(INTRO!$E$37=\"Non-endemic\",INTRO!$E$41=\"Non-endemic\"),0,COUNTRY_INFO!W53)","v":0},{"$f":"IF(AND(INTRO!$E$37=\"Non-endemic\",INTRO!$E$41=\"Non-endemic\"),0,COUNTRY_INFO!Y53)","v":0},{"$f":"IF($D53=1,IVM!G53,0)","v":0},{"$f":"IF($D53=0, \" \", IF(COUNTRY_INFO!$H53=1, IF(COUNTRY_INFO!$L53=1, 0,\" \"),\" \"))","v":" "},null,null,{"$f":"IF(OR(COUNTRY_INFO!O53=\"Unknown\",COUNTRY_INFO!O53=\"Surveillance\",COUNTRY_INFO!O53=\"Not required\",COUNTRY_INFO!O53=0),0,IF(INTRO!$E$39=\"Non-endemic\",IF(AND($E53<>0,$I53=\"\"),IF($F53=0,COUNTRY_INFO!O53*$E53,COUNTRY_INFO!O53*($E53-$D53)),IF(AND($E53<>0,$I53<>0),IF($F53=0,COUNTRY_INFO!O53*$I53,COUNTRY_INFO!O53*($I53-$D53)),0)),IF($I53=\"\",COUNTRY_INFO!O53*$E53,COUNTRY_INFO!O53*$I53)))","v":0},{"$f":"MAX(0,IF(OR(COUNTRY_INFO!P53=\"Unknown\",COUNTRY_INFO!P53=\"Surveillance\",COUNTRY_INFO!P53=\"Not required\",COUNTRY_INFO!P53=0),0,IF($E53<>0,IF($D53=0,COUNTRY_INFO!P53*$E53,COUNTRY_INFO!P53*$E53-($F53*COUNTRY_INFO!$P53/(COUNTRY_INFO!$F53+COUNTRY_INFO!$G53)+IF($G53=\" \",0,COUNTRY_INFO!$P53/(COUNTRY_INFO!$F53+COUNTRY_INFO!$G53)*$G53*$H53))),0)))","v":0},null,{"$f":"MAX(0,IF(OR(COUNTRY_INFO!Q53=\"Unknown\",COUNTRY_INFO!Q53=\"Surveillance\",COUNTRY_INFO!Q53=\"Not required\",COUNTRY_INFO!Q53=0),0,IF($E53<>0,IF($D53=0,COUNTRY_INFO!Q53*MIN($E53,$L53),COUNTRY_INFO!Q53*MIN($E53,$L53)-($F53*COUNTRY_INFO!$Q53/(COUNTRY_INFO!$F53+COUNTRY_INFO!$G53)+IF($G53=\" \",0,COUNTRY_INFO!$Q53/(COUNTRY_INFO!$F53+COUNTRY_INFO!$G53)*$G53*$H53))),0)))","v":0},0,0,null,0,0,null,0,0,null,0]
[{"$f":"IF(AND(INTRO!$E$37=\"Non-endemic\",INTRO!$E$41=\"Non-endemic\"),\" \",IF(COUNTRY_INFO!A54=0,\" \",COUNTRY_INFO!A54))","v":"Tchad"},{"$f":"IF(AND(INTRO!$E$37=\"Non-endemic\",INTRO!$E$41=\"Non-endemic\"),\" \",IF(COUNTRY_INFO!B54=0,\" \",COUNTRY_INFO!B54))","v":"Kanem"},{"$f":"IF(AND(INTRO!$E$37=\"Non-endemic\",INTRO!$E$41=\"Non-endemic\"),\" \",IF(COUNTRY_INFO!C54=0,\" \",COUNTRY_INFO!C54))","v":"Rig-Rig"},{"$f":"IF(AND(INTRO!$E$37=\"Non-endemic\",INTRO!$E$41=\"Non-endemic\"),0,COUNTRY_INFO!W54)","v":0},{"$f":"IF(AND(INTRO!$E$37=\"Non-endemic\",INTRO!$E$41=\"Non-endemic\"),0,COUNTRY_INFO!Y54)","v":0},{"$f":"IF($D54=1,IVM!G54,0)","v":0},{"$f":"IF($D54=0, \" \", IF(COUNTRY_INFO!$H54=1, IF(COUNTRY_INFO!$L54=1, 0,\" \"),\" \"))","v":" "},null,null,{"$f":"IF(OR(COUNTRY_INFO!O54=\"Unknown\",COUNTRY_INFO!O54=\"Surveillance\",COUNTRY_INFO!O54=\"Not required\",COUNTRY_INFO!O54=0),0,IF(INTRO!$E$39=\"Non-endemic\",IF(AND($E54<>0,$I54=\"\"),IF($F54=0,COUNTRY_INFO!O54*$E54,COUNTRY_INFO!O54*($E54-$D54)),IF(AND($E54<>0,$I54<>0),IF($F54=0,COUNTRY_INFO!O54*$I54,COUNTRY_INFO!O54*($I54-$D54)),0)),IF($I54=\"\",COUNTRY_INFO!O54*$E54,COUNTRY_INFO!O54*$I54)))","v":0},{"$f":"MAX(0,IF(OR(COUNTRY_INFO!P54=\"Unknown\",COUNTRY_INFO!P54=\"Surveillance\",COUNTRY_INFO!P54=\"Not required\",COUNTRY_INFO!P54=0),0,IF($E54<>0,IF($D54=0,COUNTRY_INFO!P54*$E54,COUNTRY_INFO!P54*$E54-($F54*COUNTRY_INFO!$P54/(COUNTRY_INFO!$F54+COUNTRY_INFO!$G54)+IF($G54=\" \",0,COUNTRY_INFO!$P54/(COUNTRY_INFO!$F54+COUNTRY_INFO!$G54)*$G54*$H54))),0)))","v":0},null,{"$f":"MAX(0,IF(OR(COUNTRY_INFO!Q54=\"Unknown\",COUNTRY_INFO!Q54=\"Surveillance\",COUNTRY_INFO!Q54=\"Not required\",COUNTRY_INFO!Q54=0),0,IF($E54<>0,IF($D54=0,COUNTRY_INFO!Q54*MIN($E54,$L54),COUNTRY_INFO!Q54*MIN($E54,$L54)-($F54*COUNTRY_INFO!$Q54/(COUNTRY_INFO!$F54+COUNTRY_INFO!$G54)+IF($G54=\" \",0,COUNTRY_INFO!$Q54/(COUNTRY_INFO!$F54+COUNTRY_INFO!$G54)*$G54*$H54))),0)))","v":0},0,0,null,0,0,null,0,0,null,0]
[{"$f":"IF(AND(INTRO!$E$37=\"Non-endemic\",INTRO!$E$41=\"Non-endemic\"),\" \",IF(COUNTRY_INFO!A55=0,\" \",COUNTRY_INFO!A55))","v":"Tchad"},{"$f":"IF(AND(INTRO!$E$37=\"Non-endemic\",INTRO!$E$41=\"Non-endemic\"),\" \",IF(COUNTRY_INFO!B55=0,\" \",COUNTRY_INFO!B55))","v":"Lac"},{"$f":"IF(AND(INTRO!$E$37=\"Non-endemic\",INTRO!$E$41=\"Non-endemic\"),\" \",IF(COUNTRY_INFO!C55=0,\" \",COUNTRY_INFO!C55))","v":"Bagassola"},{"$f":"IF(AND(INTRO!$E$37=\"Non-endemic\",INTRO!$E$41=\"Non-endemic\"),0,COUNTRY_INFO!W55)","v":0},{"$f":"IF(AND(INTRO!$E$37=\"Non-endemic\",INTRO!$E$41=\"Non-endemic\"),0,COUNTRY_INFO!Y55)","v":0},{"$f":"IF($D55=1,IVM!G55,0)","v":0},{"$f":"IF($D55=0, \" \", IF(COUNTRY_INFO!$H55=1, IF(COUNTRY_INFO!$L55=1, 0,\" \"),\" \"))","v":" "},null,null,{"$f":"IF(OR(COUNTRY_INFO!O55=\"Unknown\",COUNTRY_INFO!O55=\"Surveillance\",COUNTRY_INFO!O55=\"Not required\",COUNTRY_INFO!O55=0),0,IF(INTRO!$E$39=\"Non-endemic\",IF(AND($E55<>0,$I55=\"\"),IF($F55=0,COUNTRY_INFO!O55*$E55,COUNTRY_INFO!O55*($E55-$D55)),IF(AND($E55<>0,$I55<>0),IF($F55=0,COUNTRY_INFO!O55*$I55,COUNTRY_INFO!O55*($I55-$D55)),0)),IF($I55=\"\",COUNTRY_INFO!O55*$E55,COUNTRY_INFO!O55*$I55)))","v":0},{"$f":"MAX(0,IF(OR(COUNTRY_INFO!P55=\"Unknown\",COUNTRY_INFO!P55=\"Surveillance\",COUNTRY_INFO!P55=\"Not required\",COUNTRY_INFO!P55=0),0,IF($E55<>0,IF($D55=0,COUNTRY_INFO!P55*$E55,COUNTRY_INFO!P55*$E55-($F55*COUNTRY_INFO!$P55/(COUNTRY_INFO!$F55+COUNTRY_INFO!$G55)+IF($G55=\" \",0,COUNTRY_INFO!$P55/(COUNTRY_INFO!$F55+COUNTRY_INFO!$G55)*$G55*$H55))),0)))","v":0},null,{"$f":"MAX(0,IF(OR(COUNTRY_INFO!Q55=\"Unknown\",COUNTRY_INFO!Q55=\"Surveillance\",COUNTRY_INFO!Q55=\"Not required\",COUNTRY_INFO!Q55=0),0,IF($E55<>0,IF($D55=0,COUNTRY_INFO!Q55*MIN($E55,$L55),COUNTRY_INFO!Q55*MIN($E55,$L55)-($F55*COUNTRY_INFO!$Q55/(COUNTRY_INFO!$F55+COUNTRY_INFO!$G55)+IF($G55=\" \",0,COUNTRY_INFO!$Q55/(COUNTRY_INFO!$F55+COUNTRY_INFO!$G55)*$G55*$H55))),0)))","v":0},0,0,null,0,0,null,0,0,null,0]
[{"$f":"IF(AND(INTRO!$E$37=\"Non-endemic\",INTRO!$E$41=\"Non-endemic\"),\" \",IF(COUNTRY_INFO!A56=0,\" \",COUNTRY_INFO!A56))","v":"Tchad"},{"$f":"IF(AND(INTRO!$E$37=\"Non-endemic\",INTRO!$E$41=\"Non-endemic\"),\" \",IF(COUNTRY_INFO!B56=0,\" \",COUNTRY_INFO!B56))","v":"Lac"},{"$f":"IF(AND(INTRO!$E$37=\"Non-endemic\",INTRO!$E$41=\"Non-endemic\"),\" \",IF(COUNTRY_INFO!C56=0,\" \",COUNTRY_INFO!C56))","v":"Bol"},{"$f":"IF(AND(INTRO!$E$37=\"Non-endemic\",INTRO!$E$41=\"Non-endemic\"),0,COUNTRY_INFO!W56)","v":0},{"$f":"IF(AND(INTRO!$E$37=\"Non-endemic\",INTRO!$E$41=\"Non-endemic\"),0,COUNTRY_INFO!Y56)","v":0},{"$f":"IF($D56=1,IVM!G56,0)","v":0},{"$f":"IF($D56=0, \" \", IF(COUNTRY_INFO!$H56=1, IF(COUNTRY_INFO!$L56=1, 0,\" \"),\" \"))","v":" "},null,null,{"$f":"IF(OR(COUNTRY_INFO!O56=\"Unknown\",COUNTRY_INFO!O56=\"Surveillance\",COUNTRY_INFO!O56=\"Not required\",COUNTRY_INFO!O56=0),0,IF(INTRO!$E$39=\"Non-endemic\",IF(AND($E56<>0,$I56=\"\"),IF($F56=0,COUNTRY_INFO!O56*$E56,COUNTRY_INFO!O56*($E56-$D56)),IF(AND($E56<>0,$I56<>0),IF($F56=0,COUNTRY_INFO!O56*$I56,COUNTRY_INFO!O56*($I56-$D56)),0)),IF($I56=\"\",COUNTRY_INFO!O56*$E56,COUNTRY_INFO!O56*$I56)))","v":0},{"$f":"MAX(0,IF(OR(COUNTRY_INFO!P56=\"Unknown\",COUNTRY_INFO!P56=\"Surveillance\",COUNTRY_INFO!P56=\"Not required\",COUNTRY_INFO!P56=0),0,IF($E56<>0,IF($D56=0,COUNTRY_INFO!P56*$E56,COUNTRY_INFO!P56*$E56-($F56*COUNTRY_INFO!$P56/(COUNTRY_INFO!$F56+COUNTRY_INFO!$G56)+IF($G56=\" \",0,COUNTRY_INFO!$P56/(COUNTRY_INFO!$F56+COUNTRY_INFO!$G56)*$G56*$H56))),0)))","v":0},null,{"$f":"MAX(0,IF(OR(COUNTRY_INFO!Q56=\"Unknown\",COUNTRY_INFO!Q56=\"Surveillance\",COUNTRY_INFO!Q56=\"Not required\",COUNTRY_INFO!Q56=0),0,IF($E56<>0,IF($D56=0,COUNTRY_INFO!Q56*MIN($E56,$L56),COUNTRY_INFO!Q56*MIN($E56,$L56)-($F56*COUNTRY_INFO!$Q56/(COUNTRY_INFO!$F56+COUNTRY_INFO!$G56)+IF($G56=\" \",0,COUNTRY_INFO!$Q56/(COUNTRY_INFO!$F56+COUNTRY_INFO!$G56)*$G56*$H56))),0)))","v":0},0,0,null,0,0,null,0,0,null,0]
[{"$f":"IF(AND(INTRO!$E$37=\"Non-endemic\",INTRO!$E$41=\"Non-endemic\"),\" \",IF(COUNTRY_INFO!A57=0,\" \",COUNTRY_INFO!A57))","v":"Tchad"},{"$f":"IF(AND(INTRO!$E$37=\"Non-endemic\",INTRO!$E$41=\"Non-endemic\"),\" \",IF(COUNTRY_INFO!B57=0,\" \",COUNTRY_INFO!B57))","v":"Lac"},{"$f":"IF(AND(INTRO!$E$37=\"Non-endemic\",INTRO!$E$41=\"Non-endemic\"),\" \",IF(COUNTRY_INFO!C57=0,\" \",COUNTRY_INFO!C57))","v":"Isserom"},{"$f":"IF(AND(INTRO!$E$37=\"Non-endemic\",INTRO!$E$41=\"Non-endemic\"),0,COUNTRY_INFO!W57)","v":0},{"$f":"IF(AND(INTRO!$E$37=\"Non-endemic\",INTRO!$E$41=\"Non-endemic\"),0,COUNTRY_INFO!Y57)","v":0},{"$f":"IF($D57=1,IVM!G57,0)","v":0},{"$f":"IF($D57=0, \" \", IF(COUNTRY_INFO!$H57=1, IF(COUNTRY_INFO!$L57=1, 0,\" \"),\" \"))","v":" "},null,null,{"$f":"IF(OR(COUNTRY_INFO!O57=\"Unknown\",COUNTRY_INFO!O57=\"Surveillance\",COUNTRY_INFO!O57=\"Not required\",COUNTRY_INFO!O57=0),0,IF(INTRO!$E$39=\"Non-endemic\",IF(AND($E57<>0,$I57=\"\"),IF($F57=0,COUNTRY_INFO!O57*$E57,COUNTRY_INFO!O57*($E57-$D57)),IF(AND($E57<>0,$I57<>0),IF($F57=0,COUNTRY_INFO!O57*$I57,COUNTRY_INFO!O57*($I57-$D57)),0)),IF($I57=\"\",COUNTRY_INFO!O57*$E57,COUNTRY_INFO!O57*$I57)))","v":0},{"$f":"MAX(0,IF(OR(COUNTRY_INFO!P57=\"Unknown\",COUNTRY_INFO!P57=\"Surveillance\",COUNTRY_INFO!P57=\"Not required\",COUNTRY_INFO!P57=0),0,IF($E57<>0,IF($D57=0,COUNTRY_INFO!P57*$E57,COUNTRY_INFO!P57*$E57-($F57*COUNTRY_INFO!$P57/(COUNTRY_INFO!$F57+COUNTRY_INFO!$G57)+IF($G57=\" \",0,COUNTRY_INFO!$P57/(COUNTRY_INFO!$F57+COUNTRY_INFO!$G57)*$G57*$H57))),0)))","v":0},null,{"$f":"MAX(0,IF(OR(COUNTRY_INFO!Q57=\"Unknown\",COUNTRY_INFO!Q57=\"Surveillance\",COUNTRY_INFO!Q57=\"Not required\",COUNTRY_INFO!Q57=0),0,IF($E57<>0,IF($D57=0,COUNTRY_INFO!Q57*MIN($E57,$L57),COUNTRY_INFO!Q57*MIN($E57,$L57)-($F57*COUNTRY_INFO!$Q57/(COUNTRY_INFO!$F57+COUNTRY_INFO!$G57)+IF($G57=\" \",0,COUNTRY_INFO!$Q57/(COUNTRY_INFO!$F57+COUNTRY_INFO!$G57)*$G57*$H57))),0)))","v":0},0,0,null,0,0,null,0,0,null,0]
[{"$f":"IF(AND(INTRO!$E$37=\"Non-endemic\",INTRO!$E$41=\"Non-endemic\"),\" \",IF(COUNTRY_INFO!A58=0,\" \",COUNTRY_INFO!A58))","v":"Tchad"},{"$f":"IF(AND(INTRO!$E$37=\"Non-endemic\",INTRO!$E$41=\"Non-endemic\"),\" \",IF(COUNTRY_INFO!B58=0,\" \",COUNTRY_INFO!B58))","v":"Lac"},{"$f":"IF(AND(INTRO!$E$37=\"Non-endemic\",INTRO!$E$41=\"Non-endemic\"),\" \",IF(COUNTRY_INFO!C58=0,\" \",COUNTRY_INFO!C58))","v":"Kouloudia"},{"$f":"IF(AND(INTRO!$E$37=\"Non-endemic\",INTRO!$E$41=\"Non-endemic\"),0,COUNTRY_INFO!W58)","v":0},{"$f":"IF(AND(INTRO!$E$37=\"Non-endemic\",INTRO!$E$41=\"Non-endemic\"),0,COUNTRY_INFO!Y58)","v":0},{"$f":"IF($D58=1,IVM!G58,0)","v":0},{"$f":"IF($D58=0, \" \", IF(COUNTRY_INFO!$H58=1, IF(COUNTRY_INFO!$L58=1, 0,\" \"),\" \"))","v":" "},null,null,{"$f":"IF(OR(COUNTRY_INFO!O58=\"Unknown\",COUNTRY_INFO!O58=\"Surveillance\",COUNTRY_INFO!O58=\"Not required\",COUNTRY_INFO!O58=0),0,IF(INTRO!$E$39=\"Non-endemic\",IF(AND($E58<>0,$I58=\"\"),IF($F58=0,COUNTRY_INFO!O58*$E58,COUNTRY_INFO!O58*($E58-$D58)),IF(AND($E58<>0,$I58<>0),IF($F58=0,COUNTRY_INFO!O58*$I58,COUNTRY_INFO!O58*($I58-$D58)),0)),IF($I58=\"\",COUNTRY_INFO!O58*$E58,COUNTRY_INFO!O58*$I58)))","v":0},{"$f":"MAX(0,IF(OR(COUNTRY_INFO!P58=\"Unknown\",COUNTRY_INFO!P58=\"Surveillance\",COUNTRY_INFO!P58=\"Not required\",COUNTRY_INFO!P58=0),0,IF($E58<>0,IF($D58=0,COUNTRY_INFO!P58*$E58,COUNTRY_INFO!P58*$E58-($F58*COUNTRY_INFO!$P58/(COUNTRY_INFO!$F58+COUNTRY_INFO!$G58)+IF($G58=\" \",0,COUNTRY_INFO!$P58/(COUNTRY_INFO!$F58+COUNTRY_INFO!$G58)*$G58*$H58))),0)))","v":0},null,{"$f":"MAX(0,IF(OR(COUNTRY_INFO!Q58=\"Unknown\",COUNTRY_INFO!Q58=\"Surveillance\",COUNTRY_INFO!Q58=\"Not required\",COUNTRY_INFO!Q58=0),0,IF($E58<>0,IF($D58=0,COUNTRY_INFO!Q58*MIN($E58,$L58),COUNTRY_INFO!Q58*MIN($E58,$L58)-($F58*COUNTRY_INFO!$Q58/(COUNTRY_INFO!$F58+COUNTRY_INFO!$G58)+IF($G58=\" \",0,COUNTRY_INFO!$Q58/(COUNTRY_INFO!$F58+COUNTRY_INFO!$G58)*$G58*$H58))),0)))","v":0},0,0,null,0,0,null,0,0,null,0]
[{"$f":"IF(AND(INTRO!$E$37=\"Non-endemic\",INTRO!$E$41=\"Non-endemic\"),\" \",IF(COUNTRY_INFO!A59=0,\" \",COUNTRY_INFO!A59))","v":"Tchad"},{"$f":"IF(AND(INTRO!$E$37=\"Non-endemic\",INTRO!$E$41=\"Non-endemic\"),\" \",IF(COUNTRY_INFO!B59=0,\" \",COUNTRY_INFO!B59))","v":"Lac"},{"$f":"IF(AND(INTRO!$E$37=\"Non-endemic\",INTRO!$E$41=\"Non-endemic\"),\" \",IF(COUNTRY_INFO!C59=0,\" \",COUNTRY_INFO!C59))","v":"Liwa"},{"$f":"IF(AND(INTRO!$E$37=\"Non-endemic\",INTRO!$E$41=\"Non-endemic\"),0,COUNTRY_INFO!W59)","v":0},{"$f":"IF(AND(INTRO!$E$37=\"Non-endemic\",INTRO!$E$41=\"Non-endemic\"),0,COUNTRY_INFO!Y59)","v":0},{"$f":"IF($D59=1,IVM!G59,0)","v":0},{"$f":"IF($D59=0, \" \", IF(COUNTRY_INFO!$H59=1, IF(COUNTRY_INFO!$L59=1, 0,\" \"),\" \"))","v":" "},null,null,{"$f":"IF(OR(COUNTRY_INFO!O59=\"Unknown\",COUNTRY_INFO!O59=\"Surveillance\",COUNTRY_INFO!O59=\"Not required\",COUNTRY_INFO!O59=0),0,IF(INTRO!$E$39=\"Non-endemic\",IF(AND($E59<>0,$I59=\"\"),IF($F59=0,COUNTRY_INFO!O59*$E59,COUNTRY_INFO!O59*($E59-$D59)),IF(AND($E59<>0,$I59<>0),IF($F59=0,COUNTRY_INFO!O59*$I59,COUNTRY_INFO!O59*($I59-$D59)),0)),IF($I59=\"\",COUNTRY_INFO!O59*$E59,COUNTRY_INFO!O59*$I59)))","v":0},{"$f":"MAX(0,IF(OR(COUNTRY_INFO!P59=\"Unknown\",COUNTRY_INFO!P59=\"Surveillance\",COUNTRY_INFO!P59=\"Not required\",COUNTRY_INFO!P59=0),0,IF($E59<>0,IF($D59=0,COUNTRY_INFO!P59*$E59,COUNTRY_INFO!P59*$E59-($F59*COUNTRY_INFO!$P59/(COUNTRY_INFO!$F59+COUNTRY_INFO!$G59)+IF($G59=\" \",0,COUNTRY_INFO!$P59/(COUNTRY_INFO!$F59+COUNTRY_INFO!$G59)*$G59*$H59))),0)))","v":0},null,{"$f":"MAX(0,IF(OR(COUNTRY_INFO!Q59=\"Unknown\",COUNTRY_INFO!Q59=\"Surveillance\",COUNTRY_INFO!Q59=\"Not required\",COUNTRY_INFO!Q59=0),0,IF($E59<>0,IF($D59=0,COUNTRY_INFO!Q59*MIN($E59,$L59),COUNTRY_INFO!Q59*MIN($E59,$L59)-($F59*COUNTRY_INFO!$Q59/(COUNTRY_INFO!$F59+COUNTRY_INFO!$G59)+IF($G59=\" \",0,COUNTRY_INFO!$Q59/(COUNTRY_INFO!$F59+COUNTRY_INFO!$G59)*$G59*$H59))),0)))","v":0},0,0,null,0,0,null,0,0,null,0]
[{"$f":"IF(AND(INTRO!$E$37=\"Non-endemic\",INTRO!$E$41=\"Non-endemic\"),\" \",IF(COUNTRY_INFO!A60=0,\" \",COUNTRY_INFO!A60))","v":"Tchad"},{"$f":"IF(AND(INTRO!$E$37=\"Non-endemic\",INTRO!$E$41=\"Non-endemic\"),\" \",IF(COUNTRY_INFO!B60=0,\" \",COUNTRY_INFO!B60))","v":"Lac"},{"$f":"IF(AND(INTRO!$E$37=\"Non-endemic\",INTRO!$E$41=\"Non-endemic\"),\" \",IF(COUNTRY_INFO!C60=0,\" \",COUNTRY_INFO!C60))","v":"Ngouri"},{"$f":"IF(AND(INTRO!$E$37=\"Non-endemic\",INTRO!$E$41=\"Non-endemic\"),0,COUNTRY_INFO!W60)","v":0},{"$f":"IF(AND(INTRO!$E$37=\"Non-endemic\",INTRO!$E$41=\"Non-endemic\"),0,COUNTRY_INFO!Y60)","v":0},{"$f":"IF($D60=1,IVM!G60,0)","v":0},{"$f":"IF($D60=0, \" \", IF(COUNTRY_INFO!$H60=1, IF(COUNTRY_INFO!$L60=1, 0,\" \"),\" \"))","v":" "},null,null,{"$f":"IF(OR(COUNTRY_INFO!O60=\"Unknown\",COUNTRY_INFO!O60=\"Surveillance\",COUNTRY_INFO!O60=\"Not required\",COUNTRY_INFO!O60=0),0,IF(INTRO!$E$39=\"Non-endemic\",IF(AND($E60<>0,$I60=\"\"),IF($F60=0,COUNTRY_INFO!O60*$E60,COUNTRY_INFO!O60*($E60-$D60)),IF(AND($E60<>0,$I60<>0),IF($F60=0,COUNTRY_INFO!O60*$I60,COUNTRY_INFO!O60*($I60-$D60)),0)),IF($I60=\"\",COUNTRY_INFO!O60*$E60,COUNTRY_INFO!O60*$I60)))","v":0},{"$f":"MAX(0,IF(OR(COUNTRY_INFO!P60=\"Unknown\",COUNTRY_INFO!P60=\"Surveillance\",COUNTRY_INFO!P60=\"Not required\",COUNTRY_INFO!P60=0),0,IF($E60<>0,IF($D60=0,COUNTRY_INFO!P60*$E60,COUNTRY_INFO!P60*$E60-($F60*COUNTRY_INFO!$P60/(COUNTRY_INFO!$F60+COUNTRY_INFO!$G60)+IF($G60=\" \",0,COUNTRY_INFO!$P60/(COUNTRY_INFO!$F60+COUNTRY_INFO!$G60)*$G60*$H60))),0)))","v":0},null,{"$f":"MAX(0,IF(OR(COUNTRY_INFO!Q60=\"Unknown\",COUNTRY_INFO!Q60=\"Surveillance\",COUNTRY_INFO!Q60=\"Not required\",COUNTRY_INFO!Q60=0),0,IF($E60<>0,IF($D60=0,COUNTRY_INFO!Q60*MIN($E60,$L60),COUNTRY_INFO!Q60*MIN($E60,$L60)-($F60*COUNTRY_INFO!$Q60/(COUNTRY_INFO!$F60+COUNTRY_INFO!$G60)+IF($G60=\" \",0,COUNTRY_INFO!$Q60/(COUNTRY_INFO!$F60+COUNTRY_INFO!$G60)*$G60*$H60))),0)))","v":0},0,0,null,0,0,null,0,0,null,0]
[{"$f":"IF(AND(INTRO!$E$37=\"Non-endemic\",INTRO!$E$41=\"Non-endemic\"),\" \",IF(COUNTRY_INFO!A61=0,\" \",COUNTRY_INFO!A61))","v":"Tchad"},{"$f":"IF(AND(INTRO!$E$37=\"Non-endemic\",INTRO!$E$41=\"Non-endemic\"),\" \",IF(COUNTRY_INFO!B61=0,\" \",COUNTRY_INFO!B61))","v":"Logone Occidental"},{"$f":"IF(AND(INTRO!$E$37=\"Non-endemic\",INTRO!$E$41=\"Non-endemic\"),\" \",IF(COUNTRY_INFO!C61=0,\" \",COUNTRY_INFO!C61))","v":"Benamar"},{"$f":"IF(AND(INTRO!$E$37=\"Non-endemic\",INTRO!$E$41=\"Non-endemic\"),0,COUNTRY_INFO!W61)","v":1},{"$f":"IF(AND(INTRO!$E$37=\"Non-endemic\",INTRO!$E$41=\"Non-endemic\"),0,COUNTRY_INFO!Y61)","v":0},{"$f":"IF($D61=1,IVM!G61,0)","v":89049},{"$f":"IF($D61=0, \" \", IF(COUNTRY_INFO!$H61=1, IF(COUNTRY_INFO!$L61=1, 0,\" \"),\" \"))","v":" "},null,null,{"$f":"IF(OR(COUNTRY_INFO!O61=\"Unknown\",COUNTRY_INFO!O61=\"Surveillance\",COUNTRY_INFO!O61=\"Not required\",COUNTRY_INFO!O61=0),0,IF(INTRO!$E$39=\"Non-endemic\",IF(AND($E61<>0,$I61=\"\"),IF($F61=0,COUNTRY_INFO!O61*$E61,COUNTRY_INFO!O61*($E61-$D61)),IF(AND($E61<>0,$I61<>0),IF($F61=0,COUNTRY_INFO!O61*$I61,COUNTRY_INFO!O61*($I61-$D61)),0)),IF($I61=\"\",COUNTRY_INFO!O61*$E61,COUNTRY_INFO!O61*$I61)))","v":0},{"$f":"MAX(0,IF(OR(COUNTRY_INFO!P61=\"Unknown\",COUNTRY_INFO!P61=\"Surveillance\",COUNTRY_INFO!P61=\"Not required\",COUNTRY_INFO!P61=0),0,IF($E61<>0,IF($D61=0,COUNTRY_INFO!P61*$E61,COUNTRY_INFO!P61*$E61-($F61*COUNTRY_INFO!$P61/(COUNTRY_INFO!$F61+COUNTRY_INFO!$G61)+IF($G61=\" \",0,COUNTRY_INFO!$P61/(COUNTRY_INFO!$F61+COUNTRY_INFO!$G61)*$G61*$H61))),0)))","v":0},null,{"$f":"MAX(0,IF(OR(COUNTRY_INFO!Q61=\"Unknown\",COUNTRY_INFO!Q61=\"Surveillance\",COUNTRY_INFO!Q61=\"Not required\",COUNTRY_INFO!Q61=0),0,IF($E61<>0,IF($D61=0,COUNTRY_INFO!Q61*MIN($E61,$L61),COUNTRY_INFO!Q61*MIN($E61,$L61)-($F61*COUNTRY_INFO!$Q61/(COUNTRY_INFO!$F61+COUNTRY_INFO!$G61)+IF($G61=\" \",0,COUNTRY_INFO!$Q61/(COUNTRY_INFO!$F61+COUNTRY_INFO!$G61)*$G61*$H61))),0)))","v":0},0,89049,null,89049,0,null,0,0,null,0]
[{"$f":"IF(AND(INTRO!$E$37=\"Non-endemic\",INTRO!$E$41=\"Non-endemic\"),\" \",IF(COUNTRY_INFO!A62=0,\" \",COUNTRY_INFO!A62))","v":"Tchad"},{"$f":"IF(AND(INTRO!$E$37=\"Non-endemic\",INTRO!$E$41=\"Non-endemic\"),\" \",IF(COUNTRY_INFO!B62=0,\" \",COUNTRY_INFO!B62))","v":"Logone Occidental"},{"$f":"IF(AND(INTRO!$E$37=\"Non-endemic\",INTRO!$E$41=\"Non-endemic\"),\" \",IF(COUNTRY_INFO!C62=0,\" \",COUNTRY_INFO!C62))","v":"Benoye"},{"$f":"IF(AND(INTRO!$E$37=\"Non-endemic\",INTRO!$E$41=\"Non-endemic\"),0,COUNTRY_INFO!W62)","v":0},{"$f":"IF(AND(INTRO!$E$37=\"Non-endemic\",INTRO!$E$41=\"Non-endemic\"),0,COUNTRY_INFO!Y62)","v":0},{"$f":"IF($D62=1,IVM!G62,0)","v":0},{"$f":"IF($D62=0, \" \", IF(COUNTRY_INFO!$H62=1, IF(COUNTRY_INFO!$L62=1, 0,\" \"),\" \"))","v":" "},null,null,{"$f":"IF(OR(COUNTRY_INFO!O62=\"Unknown\",COUNTRY_INFO!O62=\"Surveillance\",COUNTRY_INFO!O62=\"Not required\",COUNTRY_INFO!O62=0),0,IF(INTRO!$E$39=\"Non-endemic\",IF(AND($E62<>0,$I62=\"\"),IF($F62=0,COUNTRY_INFO!O62*$E62,COUNTRY_INFO!O62*($E62-$D62)),IF(AND($E62<>0,$I62<>0),IF($F62=0,COUNTRY_INFO!O62*$I62,COUNTRY_INFO!O62*($I62-$D62)),0)),IF($I62=\"\",COUNTRY_INFO!O62*$E62,COUNTRY_INFO!O62*$I62)))","v":0},{"$f":"MAX(0,IF(OR(COUNTRY_INFO!P62=\"Unknown\",COUNTRY_INFO!P62=\"Surveillance\",COUNTRY_INFO!P62=\"Not required\",COUNTRY_INFO!P62=0),0,IF($E62<>0,IF($D62=0,COUNTRY_INFO!P62*$E62,COUNTRY_INFO!P62*$E62-($F62*COUNTRY_INFO!$P62/(COUNTRY_INFO!$F62+COUNTRY_INFO!$G62)+IF($G62=\" \",0,COUNTRY_INFO!$P62/(COUNTRY_INFO!$F62+COUNTRY_INFO!$G62)*$G62*$H62))),0)))","v":0},null,{"$f":"MAX(0,IF(OR(COUNTRY_INFO!Q62=\"Unknown\",COUNTRY_INFO!Q62=\"Surveillance\",COUNTRY_INFO!Q62=\"Not required\",COUNTRY_INFO!Q62=0),0,IF($E62<>0,IF($D62=0,COUNTRY_INFO!Q62*MIN($E62,$L62),COUNTRY_INFO!Q62*MIN($E62,$L62)-($F62*COUNTRY_INFO!$Q62/(COUNTRY_INFO!$F62+COUNTRY_INFO!$G62)+IF($G62=\" \",0,COUNTRY_INFO!$Q62/(COUNTRY_INFO!$F62+COUNTRY_INFO!$G62)*$G62*$H62))),0)))","v":0},0,0,null,0,0,null,0,0,null,0]
[{"$f":"IF(AND(INTRO!$E$37=\"Non-endemic\",INTRO!$E$41=\"Non-endemic\"),\" \",IF(COUNTRY_INFO!A63=0,\" \",COUNTRY_INFO!A63))","v":"Tchad"},{"$f":"IF(AND(INTRO!$E$37=\"Non-endemic\",INTRO!$E$41=\"Non-endemic\"),\" \",IF(COUNTRY_INFO!B63=0,\" \",COUNTRY_INFO!B63))","v":"Logone Occidental"},{"$f":"IF(AND(INTRO!$E$37=\"Non-endemic\",INTRO!$E$41=\"Non-endemic\"),\" \",IF(COUNTRY_INFO!C63=0,\" \",COUNTRY_INFO!C63))","v":"Laokassy"},{"$f":"IF(AND(INTRO!$E$37=\"Non-endemic\",INTRO!$E$41=\"Non-endemic\"),0,COUNTRY_INFO!W63)","v":0},{"$f":"IF(AND(INTRO!$E$37=\"Non-endemic\",INTRO!$E$41=\"Non-endemic\"),0,COUNTRY_INFO!Y63)","v":0},{"$f":"IF($D63=1,IVM!G63,0)","v":0},{"$f":"IF($D63=0, \" \", IF(COUNTRY_INFO!$H63=1, IF(COUNTRY_INFO!$L63=1, 0,\" \"),\" \"))","v":" "},null,null,{"$f":"IF(OR(COUNTRY_INFO!O63=\"Unknown\",COUNTRY_INFO!O63=\"Surveillance\",COUNTRY_INFO!O63=\"Not required\",COUNTRY_INFO!O63=0),0,IF(INTRO!$E$39=\"Non-endemic\",IF(AND($E63<>0,$I63=\"\"),IF($F63=0,COUNTRY_INFO!O63*$E63,COUNTRY_INFO!O63*($E63-$D63)),IF(AND($E63<>0,$I63<>0),IF($F63=0,COUNTRY_INFO!O63*$I63,COUNTRY_INFO!O63*($I63-$D63)),0)),IF($I63=\"\",COUNTRY_INFO!O63*$E63,COUNTRY_INFO!O63*$I63)))","v":0},{"$f":"MAX(0,IF(OR(COUNTRY_INFO!P63=\"Unknown\",COUNTRY_INFO!P63=\"Surveillance\",COUNTRY_INFO!P63=\"Not required\",COUNTRY_INFO!P63=0),0,IF($E63<>0,IF($D63=0,COUNTRY_INFO!P63*$E63,COUNTRY_INFO!P63*$E63-($F63*COUNTRY_INFO!$P63/(COUNTRY_INFO!$F63+COUNTRY_INFO!$G63)+IF($G63=\" \",0,COUNTRY_INFO!$P63/(COUNTRY_INFO!$F63+COUNTRY_INFO!$G63)*$G63*$H63))),0)))","v":0},null,{"$f":"MAX(0,IF(OR(COUNTRY_INFO!Q63=\"Unknown\",COUNTRY_INFO!Q63=\"Surveillance\",COUNTRY_INFO!Q63=\"Not required\",COUNTRY_INFO!Q63=0),0,IF($E63<>0,IF($D63=0,COUNTRY_INFO!Q63*MIN($E63,$L63),COUNTRY_INFO!Q63*MIN($E63,$L63)-($F63*COUNTRY_INFO!$Q63/(COUNTRY_INFO!$F63+COUNTRY_INFO!$G63)+IF($G63=\" \",0,COUNTRY_INFO!$Q63/(COUNTRY_INFO!$F63+COUNTRY_INFO!$G63)*$G63*$H63))),0)))","v":0},0,0,null,0,0,null,0,0,null,0]
[{"$f":"IF(AND(INTRO!$E$37=\"Non-endemic\",INTRO!$E$41=\"Non-endemic\"),\" \",IF(COUNTRY_INFO!A64=0,\" \",COUNTRY_INFO!A64))","v":"Tchad"},{"$f":"IF(AND(INTRO!$E$37=\"Non-endemic\",INTRO!$E$41=\"Non-endemic\"),\" \",IF(COUNTRY_INFO!B64=0,\" \",COUNTRY_INFO!B64))","v":"Logone Occidental"},{"$f":"IF(AND(INTRO!$E$37=\"Non-endemic\",INTRO!$E$41=\"Non-endemic\"),\" \",IF(COUNTRY_INFO!C64=0,\" \",COUNTRY_INFO!C64))","v":"Moundou"},{"$f":"IF(AND(INTRO!$E$37=\"Non-endemic\",INTRO!$E$41=\"Non-endemic\"),0,COUNTRY_INFO!W64)","v":1},{"$f":"IF(AND(INTRO!$E$37=\"Non-endemic\",INTRO!$E$41=\"Non-endemic\"),0,COUNTRY_INFO!Y64)","v":0},{"$f":"IF($D64=1,IVM!G64,0)","v":429865},{"$f":"IF($D64=0, \" \", IF(COUNTRY_INFO!$H64=1, IF(COUNTRY_INFO!$L64=1, 0,\" \"),\" \"))","v":" "},null,null,{"$f":"IF(OR(COUNTRY_INFO!O64=\"Unknown\",COUNTRY_INFO!O64=\"Surveillance\",COUNTRY_INFO!O64=\"Not required\",COUNTRY_INFO!O64=0),0,IF(INTRO!$E$39=\"Non-endemic\",IF(AND($E64<>0,$I64=\"\"),IF($F64=0,COUNTRY_INFO!O64*$E64,COUNTRY_INFO!O64*($E64-$D64)),IF(AND($E64<>0,$I64<>0),IF($F64=0,COUNTRY_INFO!O64*$I64,COUNTRY_INFO!O64*($I64-$D64)),0)),IF($I64=\"\",COUNTRY_INFO!O64*$E64,COUNTRY_INFO!O64*$I64)))","v":0},{"$f":"MAX(0,IF(OR(COUNTRY_INFO!P64=\"Unknown\",COUNTRY_INFO!P64=\"Surveillance\",COUNTRY_INFO!P64=\"Not required\",COUNTRY_INFO!P64=0),0,IF($E64<>0,IF($D64=0,COUNTRY_INFO!P64*$E64,COUNTRY_INFO!P64*$E64-($F64*COUNTRY_INFO!$P64/(COUNTRY_INFO!$F64+COUNTRY_INFO!$G64)+IF($G64=\" \",0,COUNTRY_INFO!$P64/(COUNTRY_INFO!$F64+COUNTRY_INFO!$G64)*$G64*$H64))),0)))","v":0},null,{"$f":"MAX(0,IF(OR(COUNTRY_INFO!Q64=\"Unknown\",COUNTRY_INFO!Q64=\"Surveillance\",COUNTRY_INFO!Q64=\"Not required\",COUNTRY_INFO!Q64=0),0,IF($E64<>0,IF($D64=0,COUNTRY_INFO!Q64*MIN($E64,$L64),COUNTRY_INFO!Q64*MIN($E64,$L64)-($F64*COUNTRY_INFO!$Q64/(COUNTRY_INFO!$F64+COUNTRY_INFO!$G64)+IF($G64=\" \",0,COUNTRY_INFO!$Q64/(COUNTRY_INFO!$F64+COUNTRY_INFO!$G64)*$G64*$H64))),0)))","v":0},0,429865,null,429865,0,null,0,0,null,0]
[{"$f":"IF(AND(INTRO!$E$37=\"Non-endemic\",INTRO!$E$41=\"Non-endemic\"),\" \",IF(COUNTRY_INFO!A65=0,\" \",COUNTRY_INFO!A65))","v":"Tchad"},{"$f":"IF(AND(INTRO!$E$37=\"Non-endemic\",INTRO!$E$41=\"Non-endemic\"),\" \",IF(COUNTRY_INFO!B65=0,\" \",COUNTRY_INFO!B65))","v":"Logone Orientlal"},{"$f":"IF(AND(INTRO!$E$37=\"Non-endemic\",INTRO!$E$41=\"Non-endemic\"),\" \",IF(COUNTRY_INFO!C65=0,\" \",COUNTRY_INFO!C65))","v":"Baibokoum"},{"$f":"IF(AND(INTRO!$E$37=\"Non-endemic\",INTRO!$E$41=\"Non-endemic\"),0,COUNTRY_INFO!W65)","v":1},{"$f":"IF(AND(INTRO!$E$37=\"Non-endemic\",INTRO!$E$41=\"Non-endemic\"),0,COUNTRY_INFO!Y65)","v":0},{"$f":"IF($D65=1,IVM!G65,0)","v":68022},{"$f":"IF($D65=0, \" \", IF(COUNTRY_INFO!$H65=1, IF(COUNTRY_INFO!$L65=1, 0,\" \"),\" \"))","v":" "},null,null,{"$f":"IF(OR(COUNTRY_INFO!O65=\"Unknown\",COUNTRY_INFO!O65=\"Surveillance\",COUNTRY_INFO!O65=\"Not required\",COUNTRY_INFO!O65=0),0,IF(INTRO!$E$39=\"Non-endemic\",IF(AND($E65<>0,$I65=\"\"),IF($F65=0,COUNTRY_INFO!O65*$E65,COUNTRY_INFO!O65*($E65-$D65)),IF(AND($E65<>0,$I65<>0),IF($F65=0,COUNTRY_INFO!O65*$I65,COUNTRY_INFO!O65*($I65-$D65)),0)),IF($I65=\"\",COUNTRY_INFO!O65*$E65,COUNTRY_INFO!O65*$I65)))","v":0},{"$f":"MAX(0,IF(OR(COUNTRY_INFO!P65=\"Unknown\",COUNTRY_INFO!P65=\"Surveillance\",COUNTRY_INFO!P65=\"Not required\",COUNTRY_INFO!P65=0),0,IF($E65<>0,IF($D65=0,COUNTRY_INFO!P65*$E65,COUNTRY_INFO!P65*$E65-($F65*COUNTRY_INFO!$P65/(COUNTRY_INFO!$F65+COUNTRY_INFO!$G65)+IF($G65=\" \",0,COUNTRY_INFO!$P65/(COUNTRY_INFO!$F65+COUNTRY_INFO!$G65)*$G65*$H65))),0)))","v":0},null,{"$f":"MAX(0,IF(OR(COUNTRY_INFO!Q65=\"Unknown\",COUNTRY_INFO!Q65=\"Surveillance\",COUNTRY_INFO!Q65=\"Not required\",COUNTRY_INFO!Q65=0),0,IF($E65<>0,IF($D65=0,COUNTRY_INFO!Q65*MIN($E65,$L65),COUNTRY_INFO!Q65*MIN($E65,$L65)-($F65*COUNTRY_INFO!$Q65/(COUNTRY_INFO!$F65+COUNTRY_INFO!$G65)+IF($G65=\" \",0,COUNTRY_INFO!$Q65/(COUNTRY_INFO!$F65+COUNTRY_INFO!$G65)*$G65*$H65))),0)))","v":0},0,68022,null,68022,0,null,0,0,null,0]
[{"$f":"IF(AND(INTRO!$E$37=\"Non-endemic\",INTRO!$E$41=\"Non-endemic\"),\" \",IF(COUNTRY_INFO!A66=0,\" \",COUNTRY_INFO!A66))","v":"Tchad"},{"$f":"IF(AND(INTRO!$E$37=\"Non-endemic\",INTRO!$E$41=\"Non-endemic\"),\" \",IF(COUNTRY_INFO!B66=0,\" \",COUNTRY_INFO!B66))","v":"Logone Orientlal"},{"$f":"IF(AND(INTRO!$E$37=\"Non-endemic\",INTRO!$E$41=\"Non-endemic\"),\" \",IF(COUNTRY_INFO!C66=0,\" \",COUNTRY_INFO!C66))","v":"Bebedja"},{"$f":"IF(AND(INTRO!$E$37=\"Non-endemic\",INTRO!$E$41=\"Non-endemic\"),0,COUNTRY_INFO!W66)","v":1},{"$f":"IF(AND(INTRO!$E$37=\"Non-endemic\",INTRO!$E$41=\"Non-endemic\"),0,COUNTRY_INFO!Y66)","v":0},{"$f":"IF($D66=1,IVM!G66,0)","v":169787},{"$f":"IF($D66=0, \" \", IF(COUNTRY_INFO!$H66=1, IF(COUNTRY_INFO!$L66=1, 0,\" \"),\" \"))","v":" "},null,null,{"$f":"IF(OR(COUNTRY_INFO!O66=\"Unknown\",COUNTRY_INFO!O66=\"Surveillance\",COUNTRY_INFO!O66=\"Not required\",COUNTRY_INFO!O66=0),0,IF(INTRO!$E$39=\"Non-endemic\",IF(AND($E66<>0,$I66=\"\"),IF($F66=0,COUNTRY_INFO!O66*$E66,COUNTRY_INFO!O66*($E66-$D66)),IF(AND($E66<>0,$I66<>0),IF($F66=0,COUNTRY_INFO!O66*$I66,COUNTRY_INFO!O66*($I66-$D66)),0)),IF($I66=\"\",COUNTRY_INFO!O66*$E66,COUNTRY_INFO!O66*$I66)))","v":0},{"$f":"MAX(0,IF(OR(COUNTRY_INFO!P66=\"Unknown\",COUNTRY_INFO!P66=\"Surveillance\",COUNTRY_INFO!P66=\"Not required\",COUNTRY_INFO!P66=0),0,IF($E66<>0,IF($D66=0,COUNTRY_INFO!P66*$E66,COUNTRY_INFO!P66*$E66-($F66*COUNTRY_INFO!$P66/(COUNTRY_INFO!$F66+COUNTRY_INFO!$G66)+IF($G66=\" \",0,COUNTRY_INFO!$P66/(COUNTRY_INFO!$F66+COUNTRY_INFO!$G66)*$G66*$H66))),0)))","v":0},null,{"$f":"MAX(0,IF(OR(COUNTRY_INFO!Q66=\"Unknown\",COUNTRY_INFO!Q66=\"Surveillance\",COUNTRY_INFO!Q66=\"Not required\",COUNTRY_INFO!Q66=0),0,IF($E66<>0,IF($D66=0,COUNTRY_INFO!Q66*MIN($E66,$L66),COUNTRY_INFO!Q66*MIN($E66,$L66)-($F66*COUNTRY_INFO!$Q66/(COUNTRY_INFO!$F66+COUNTRY_INFO!$G66)+IF($G66=\" \",0,COUNTRY_INFO!$Q66/(COUNTRY_INFO!$F66+COUNTRY_INFO!$G66)*$G66*$H66))),0)))","v":0},0,169787,null,169787,0,null,0,0,null,0]
[{"$f":"IF(AND(INTRO!$E$37=\"Non-endemic\",INTRO!$E$41=\"Non-endemic\"),\" \",IF(COUNTRY_INFO!A67=0,\" \",COUNTRY_INFO!A67))","v":"Tchad"},{"$f":"IF(AND(INTRO!$E$37=\"Non-endemic\",INTRO!$E$41=\"Non-endemic\"),\" \",IF(COUNTRY_INFO!B67=0,\" \",COUNTRY_INFO!B67))","v":"Logone Orientlal"},{"$f":"IF(AND(INTRO!$E$37=\"Non-endemic\",INTRO!$E$41=\"Non-endemic\"),\" \",IF(COUNTRY_INFO!C67=0,\" \",COUNTRY_INFO!C67))","v":"Beboto"},{"$f":"IF(AND(INTRO!$E$37=\"Non-endemic\",INTRO!$E$41=\"Non-endemic\"),0,COUNTRY_INFO!W67)","v":0},{"$f":"IF(AND(INTRO!$E$37=\"Non-endemic\",INTRO!$E$41=\"Non-endemic\"),0,COUNTRY_INFO!Y67)","v":0},{"$f":"IF($D67=1,IVM!G67,0)","v":0},{"$f":"IF($D67=0, \" \", IF(COUNTRY_INFO!$H67=1, IF(COUNTRY_INFO!$L67=1, 0,\" \"),\" \"))","v":" "},null,null,{"$f":"IF(OR(COUNTRY_INFO!O67=\"Unknown\",COUNTRY_INFO!O67=\"Surveillance\",COUNTRY_INFO!O67=\"Not required\",COUNTRY_INFO!O67=0),0,IF(INTRO!$E$39=\"Non-endemic\",IF(AND($E67<>0,$I67=\"\"),IF($F67=0,COUNTRY_INFO!O67*$E67,COUNTRY_INFO!O67*($E67-$D67)),IF(AND($E67<>0,$I67<>0),IF($F67=0,COUNTRY_INFO!O67*$I67,COUNTRY_INFO!O67*($I67-$D67)),0)),IF($I67=\"\",COUNTRY_INFO!O67*$E67,COUNTRY_INFO!O67*$I67)))","v":0},{"$f":"MAX(0,IF(OR(COUNTRY_INFO!P67=\"Unknown\",COUNTRY_INFO!P67=\"Surveillance\",COUNTRY_INFO!P67=\"Not required\",COUNTRY_INFO!P67=0),0,IF($E67<>0,IF($D67=0,COUNTRY_INFO!P67*$E67,COUNTRY_INFO!P67*$E67-($F67*COUNTRY_INFO!$P67/(COUNTRY_INFO!$F67+COUNTRY_INFO!$G67)+IF($G67=\" \",0,COUNTRY_INFO!$P67/(COUNTRY_INFO!$F67+COUNTRY_INFO!$G67)*$G67*$H67))),0)))","v":0},null,{"$f":"MAX(0,IF(OR(COUNTRY_INFO!Q67=\"Unknown\",COUNTRY_INFO!Q67=\"Surveillance\",COUNTRY_INFO!Q67=\"Not required\",COUNTRY_INFO!Q67=0),0,IF($E67<>0,IF($D67=0,COUNTRY_INFO!Q67*MIN($E67,$L67),COUNTRY_INFO!Q67*MIN($E67,$L67)-($F67*COUNTRY_INFO!$Q67/(COUNTRY_INFO!$F67+COUNTRY_INFO!$G67)+IF($G67=\" \",0,COUNTRY_INFO!$Q67/(COUNTRY_INFO!$F67+COUNTRY_INFO!$G67)*$G67*$H67))),0)))","v":0},0,0,null,0,0,null,0,0,null,0]
[{"$f":"IF(AND(INTRO!$E$37=\"Non-endemic\",INTRO!$E$41=\"Non-endemic\"),\" \",IF(COUNTRY_INFO!A68=0,\" \",COUNTRY_INFO!A68))","v":"Tchad"},{"$f":"IF(AND(INTRO!$E$37=\"Non-endemic\",INTRO!$E$41=\"Non-endemic\"),\" \",IF(COUNTRY_INFO!B68=0,\" \",COUNTRY_INFO!B68))","v":"Logone Orientlal"},{"$f":"IF(AND(INTRO!$E$37=\"Non-endemic\",INTRO!$E$41=\"Non-endemic\"),\" \",IF(COUNTRY_INFO!C68=0,\" \",COUNTRY_INFO!C68))","v":"Bessao"},{"$f":"IF(AND(INTRO!$E$37=\"Non-endemic\",INTRO!$E$41=\"Non-endemic\"),0,COUNTRY_INFO!W68)","v":0},{"$f":"IF(AND(INTRO!$E$37=\"Non-endemic\",INTRO!$E$41=\"Non-endemic\"),0,COUNTRY_INFO!Y68)","v":0},{"$f":"IF($D68=1,IVM!G68,0)","v":0},{"$f":"IF($D68=0, \" \", IF(COUNTRY_INFO!$H68=1, IF(COUNTRY_INFO!$L68=1, 0,\" \"),\" \"))","v":" "},null,null,{"$f":"IF(OR(COUNTRY_INFO!O68=\"Unknown\",COUNTRY_INFO!O68=\"Surveillance\",COUNTRY_INFO!O68=\"Not required\",COUNTRY_INFO!O68=0),0,IF(INTRO!$E$39=\"Non-endemic\",IF(AND($E68<>0,$I68=\"\"),IF($F68=0,COUNTRY_INFO!O68*$E68,COUNTRY_INFO!O68*($E68-$D68)),IF(AND($E68<>0,$I68<>0),IF($F68=0,COUNTRY_INFO!O68*$I68,COUNTRY_INFO!O68*($I68-$D68)),0)),IF($I68=\"\",COUNTRY_INFO!O68*$E68,COUNTRY_INFO!O68*$I68)))","v":0},{"$f":"MAX(0,IF(OR(COUNTRY_INFO!P68=\"Unknown\",COUNTRY_INFO!P68=\"Surveillance\",COUNTRY_INFO!P68=\"Not required\",COUNTRY_INFO!P68=0),0,IF($E68<>0,IF($D68=0,COUNTRY_INFO!P68*$E68,COUNTRY_INFO!P68*$E68-($F68*COUNTRY_INFO!$P68/(COUNTRY_INFO!$F68+COUNTRY_INFO!$G68)+IF($G68=\" \",0,COUNTRY_INFO!$P68/(COUNTRY_INFO!$F68+COUNTRY_INFO!$G68)*$G68*$H68))),0)))","v":0},null,{"$f":"MAX(0,IF(OR(COUNTRY_INFO!Q68=\"Unknown\",COUNTRY_INFO!Q68=\"Surveillance\",COUNTRY_INFO!Q68=\"Not required\",COUNTRY_INFO!Q68=0),0,IF($E68<>0,IF($D68=0,COUNTRY_INFO!Q68*MIN($E68,$L68),COUNTRY_INFO!Q68*MIN($E68,$L68)-($F68*COUNTRY_INFO!$Q68/(COUNTRY_INFO!$F68+COUNTRY_INFO!$G68)+IF($G68=\" \",0,COUNTRY_INFO!$Q68/(COUNTRY_INFO!$F68+COUNTRY_INFO!$G68)*$G68*$H68))),0)))","v":0},0,0,null,0,0,null,0,0,null,0]
[{"$f":"IF(AND(INTRO!$E$37=\"Non-endemic\",INTRO!$E$41=\"Non-endemic\"),\" \",IF(COUNTRY_INFO!A69=0,\" \",COUNTRY_INFO!A69))","v":"Tchad"},{"$f":"IF(AND(INTRO!$E$37=\"Non-endemic\",INTRO!$E$41=\"Non-endemic\"),\" \",IF(COUNTRY_INFO!B69=0,\" \",COUNTRY_INFO!B69))","v":"Logone Orientlal"},{"$f":"IF(AND(INTRO!$E$37=\"Non-endemic\",INTRO!$E$41=\"Non-endemic\"),\" \",IF(COUNTRY_INFO!C69=0,\" \",COUNTRY_INFO!C69))","v":"Bodo"},{"$f":"IF(AND(INTRO!$E$37=\"Non-endemic\",INTRO!$E$41=\"Non-endemic\"),0,COUNTRY_INFO!W69)","v":1},{"$f":"IF(AND(INTRO!$E$37=\"Non-endemic\",INTRO!$E$41=\"Non-endemic\"),0,COUNTRY_INFO!Y69)","v":0},{"$f":"IF($D69=1,IVM!G69,0)","v":130224},{"$f":"IF($D69=0, \" \", IF(COUNTRY_INFO!$H69=1, IF(COUNTRY_INFO!$L69=1, 0,\" \"),\" \"))","v":" "},null,null,{"$f":"IF(OR(COUNTRY_INFO!O69=\"Unknown\",COUNTRY_INFO!O69=\"Surveillance\",COUNTRY_INFO!O69=\"Not required\",COUNTRY_INFO!O69=0),0,IF(INTRO!$E$39=\"Non-endemic\",IF(AND($E69<>0,$I69=\"\"),IF($F69=0,COUNTRY_INFO!O69*$E69,COUNTRY_INFO!O69*($E69-$D69)),IF(AND($E69<>0,$I69<>0),IF($F69=0,COUNTRY_INFO!O69*$I69,COUNTRY_INFO!O69*($I69-$D69)),0)),IF($I69=\"\",COUNTRY_INFO!O69*$E69,COUNTRY_INFO!O69*$I69)))","v":0},{"$f":"MAX(0,IF(OR(COUNTRY_INFO!P69=\"Unknown\",COUNTRY_INFO!P69=\"Surveillance\",COUNTRY_INFO!P69=\"Not required\",COUNTRY_INFO!P69=0),0,IF($E69<>0,IF($D69=0,COUNTRY_INFO!P69*$E69,COUNTRY_INFO!P69*$E69-($F69*COUNTRY_INFO!$P69/(COUNTRY_INFO!$F69+COUNTRY_INFO!$G69)+IF($G69=\" \",0,COUNTRY_INFO!$P69/(COUNTRY_INFO!$F69+COUNTRY_INFO!$G69)*$G69*$H69))),0)))","v":0},null,{"$f":"MAX(0,IF(OR(COUNTRY_INFO!Q69=\"Unknown\",COUNTRY_INFO!Q69=\"Surveillance\",COUNTRY_INFO!Q69=\"Not required\",COUNTRY_INFO!Q69=0),0,IF($E69<>0,IF($D69=0,COUNTRY_INFO!Q69*MIN($E69,$L69),COUNTRY_INFO!Q69*MIN($E69,$L69)-($F69*COUNTRY_INFO!$Q69/(COUNTRY_INFO!$F69+COUNTRY_INFO!$G69)+IF($G69=\" \",0,COUNTRY_INFO!$Q69/(COUNTRY_INFO!$F69+COUNTRY_INFO!$G69)*$G69*$H69))),0)))","v":0},0,130224,null,130224,0,null,0,0,null,0]
[{"$f":"IF(AND(INTRO!$E$37=\"Non-endemic\",INTRO!$E$41=\"Non-endemic\"),\" \",IF(COUNTRY_INFO!A70=0,\" \",COUNTRY_INFO!A70))","v":"Tchad"},{"$f":"IF(AND(INTRO!$E$37=\"Non-endemic\",INTRO!$E$41=\"Non-endemic\"),\" \",IF(COUNTRY_INFO!B70=0,\" \",COUNTRY_INFO!B70))","v":"Logone Orientlal"},{"$f":"IF(AND(INTRO!$E$37=\"Non-endemic\",INTRO!$E$41=\"Non-endemic\"),\" \",IF(COUNTRY_INFO!C70=0,\" \",COUNTRY_INFO!C70))","v":"Doba"},{"$f":"IF(AND(INTRO!$E$37=\"Non-endemic\",INTRO!$E$41=\"Non-endemic\"),0,COUNTRY_INFO!W70)","v":0},{"$f":"IF(AND(INTRO!$E$37=\"Non-endemic\",INTRO!$E$41=\"Non-endemic\"),0,COUNTRY_INFO!Y70)","v":0},{"$f":"IF($D70=1,IVM!G70,0)","v":0},{"$f":"IF($D70=0, \" \", IF(COUNTRY_INFO!$H70=1, IF(COUNTRY_INFO!$L70=1, 0,\" \"),\" \"))","v":" "},null,null,{"$f":"IF(OR(COUNTRY_INFO!O70=\"Unknown\",COUNTRY_INFO!O70=\"Surveillance\",COUNTRY_INFO!O70=\"Not required\",COUNTRY_INFO!O70=0),0,IF(INTRO!$E$39=\"Non-endemic\",IF(AND($E70<>0,$I70=\"\"),IF($F70=0,COUNTRY_INFO!O70*$E70,COUNTRY_INFO!O70*($E70-$D70)),IF(AND($E70<>0,$I70<>0),IF($F70=0,COUNTRY_INFO!O70*$I70,COUNTRY_INFO!O70*($I70-$D70)),0)),IF($I70=\"\",COUNTRY_INFO!O70*$E70,COUNTRY_INFO!O70*$I70)))","v":0},{"$f":"MAX(0,IF(OR(COUNTRY_INFO!P70=\"Unknown\",COUNTRY_INFO!P70=\"Surveillance\",COUNTRY_INFO!P70=\"Not required\",COUNTRY_INFO!P70=0),0,IF($E70<>0,IF($D70=0,COUNTRY_INFO!P70*$E70,COUNTRY_INFO!P70*$E70-($F70*COUNTRY_INFO!$P70/(COUNTRY_INFO!$F70+COUNTRY_INFO!$G70)+IF($G70=\" \",0,COUNTRY_INFO!$P70/(COUNTRY_INFO!$F70+COUNTRY_INFO!$G70)*$G70*$H70))),0)))","v":0},null,{"$f":"MAX(0,IF(OR(COUNTRY_INFO!Q70=\"Unknown\",COUNTRY_INFO!Q70=\"Surveillance\",COUNTRY_INFO!Q70=\"Not required\",COUNTRY_INFO!Q70=0),0,IF($E70<>0,IF($D70=0,COUNTRY_INFO!Q70*MIN($E70,$L70),COUNTRY_INFO!Q70*MIN($E70,$L70)-($F70*COUNTRY_INFO!$Q70/(COUNTRY_INFO!$F70+COUNTRY_INFO!$G70)+IF($G70=\" \",0,COUNTRY_INFO!$Q70/(COUNTRY_INFO!$F70+COUNTRY_INFO!$G70)*$G70*$H70))),0)))","v":0},0,0,null,0,0,null,0,0,null,0]
[{"$f":"IF(AND(INTRO!$E$37=\"Non-endemic\",INTRO!$E$41=\"Non-endemic\"),\" \",IF(COUNTRY_INFO!A71=0,\" \",COUNTRY_INFO!A71))","v":"Tchad"},{"$f":"IF(AND(INTRO!$E$37=\"Non-endemic\",INTRO!$E$41=\"Non-endemic\"),\" \",IF(COUNTRY_INFO!B71=0,\" \",COUNTRY_INFO!B71))","v":"Logone Orientlal"},{"$f":"IF(AND(INTRO!$E$37=\"Non-endemic\",INTRO!$E$41=\"Non-endemic\"),\" \",IF(COUNTRY_INFO!C71=0,\" \",COUNTRY_INFO!C71))","v":"DONIA"},{"$f":"IF(AND(INTRO!$E$37=\"Non-endemic\",INTRO!$E$41=\"Non-endemic\"),0,COUNTRY_INFO!W71)","v":1},{"$f":"IF(AND(INTRO!$E$37=\"Non-endemic\",INTRO!$E$41=\"Non-endemic\"),0,COUNTRY_INFO!Y71)","v":0},{"$f":"IF($D71=1,IVM!G71,0)","v":80000},{"$f":"IF($D71=0, \" \", IF(COUNTRY_INFO!$H71=1, IF(COUNTRY_INFO!$L71=1, 0,\" \"),\" \"))","v":" "},null,null,{"$f":"IF(OR(COUNTRY_INFO!O71=\"Unknown\",COUNTRY_INFO!O71=\"Surveillance\",COUNTRY_INFO!O71=\"Not required\",COUNTRY_INFO!O71=0),0,IF(INTRO!$E$39=\"Non-endemic\",IF(AND($E71<>0,$I71=\"\"),IF($F71=0,COUNTRY_INFO!O71*$E71,COUNTRY_INFO!O71*($E71-$D71)),IF(AND($E71<>0,$I71<>0),IF($F71=0,COUNTRY_INFO!O71*$I71,COUNTRY_INFO!O71*($I71-$D71)),0)),IF($I71=\"\",COUNTRY_INFO!O71*$E71,COUNTRY_INFO!O71*$I71)))","v":0},{"$f":"MAX(0,IF(OR(COUNTRY_INFO!P71=\"Unknown\",COUNTRY_INFO!P71=\"Surveillance\",COUNTRY_INFO!P71=\"Not required\",COUNTRY_INFO!P71=0),0,IF($E71<>0,IF($D71=0,COUNTRY_INFO!P71*$E71,COUNTRY_INFO!P71*$E71-($F71*COUNTRY_INFO!$P71/(COUNTRY_INFO!$F71+COUNTRY_INFO!$G71)+IF($G71=\" \",0,COUNTRY_INFO!$P71/(COUNTRY_INFO!$F71+COUNTRY_INFO!$G71)*$G71*$H71))),0)))","v":0},null,{"$f":"MAX(0,IF(OR(COUNTRY_INFO!Q71=\"Unknown\",COUNTRY_INFO!Q71=\"Surveillance\",COUNTRY_INFO!Q71=\"Not required\",COUNTRY_INFO!Q71=0),0,IF($E71<>0,IF($D71=0,COUNTRY_INFO!Q71*MIN($E71,$L71),COUNTRY_INFO!Q71*MIN($E71,$L71)-($F71*COUNTRY_INFO!$Q71/(COUNTRY_INFO!$F71+COUNTRY_INFO!$G71)+IF($G71=\" \",0,COUNTRY_INFO!$Q71/(COUNTRY_INFO!$F71+COUNTRY_INFO!$G71)*$G71*$H71))),0)))","v":0},0,80000,null,80000,0,null,0,0,null,0]
[{"$f":"IF(AND(INTRO!$E$37=\"Non-endemic\",INTRO!$E$41=\"Non-endemic\"),\" \",IF(COUNTRY_INFO!A72=0,\" \",COUNTRY_INFO!A72))","v":"Tchad"},{"$f":"IF(AND(INTRO!$E$37=\"Non-endemic\",INTRO!$E$41=\"Non-endemic\"),\" \",IF(COUNTRY_INFO!B72=0,\" \",COUNTRY_INFO!B72))","v":"Logone Orientlal"},{"$f":"IF(AND(INTRO!$E$37=\"Non-endemic\",INTRO!$E$41=\"Non-endemic\"),\" \",IF(COUNTRY_INFO!C72=0,\" \",COUNTRY_INFO!C72))","v":"Goré"},{"$f":"IF(AND(INTRO!$E$37=\"Non-endemic\",INTRO!$E$41=\"Non-endemic\"),0,COUNTRY_INFO!W72)","v":0},{"$f":"IF(AND(INTRO!$E$37=\"Non-endemic\",INTRO!$E$41=\"Non-endemic\"),0,COUNTRY_INFO!Y72)","v":0},{"$f":"IF($D72=1,IVM!G72,0)","v":0},{"$f":"IF($D72=0, \" \", IF(COUNTRY_INFO!$H72=1, IF(COUNTRY_INFO!$L72=1, 0,\" \"),\" \"))","v":" "},null,null,{"$f":"IF(OR(COUNTRY_INFO!O72=\"Unknown\",COUNTRY_INFO!O72=\"Surveillance\",COUNTRY_INFO!O72=\"Not required\",COUNTRY_INFO!O72=0),0,IF(INTRO!$E$39=\"Non-endemic\",IF(AND($E72<>0,$I72=\"\"),IF($F72=0,COUNTRY_INFO!O72*$E72,COUNTRY_INFO!O72*($E72-$D72)),IF(AND($E72<>0,$I72<>0),IF($F72=0,COUNTRY_INFO!O72*$I72,COUNTRY_INFO!O72*($I72-$D72)),0)),IF($I72=\"\",COUNTRY_INFO!O72*$E72,COUNTRY_INFO!O72*$I72)))","v":0},{"$f":"MAX(0,IF(OR(COUNTRY_INFO!P72=\"Unknown\",COUNTRY_INFO!P72=\"Surveillance\",COUNTRY_INFO!P72=\"Not required\",COUNTRY_INFO!P72=0),0,IF($E72<>0,IF($D72=0,COUNTRY_INFO!P72*$E72,COUNTRY_INFO!P72*$E72-($F72*COUNTRY_INFO!$P72/(COUNTRY_INFO!$F72+COUNTRY_INFO!$G72)+IF($G72=\" \",0,COUNTRY_INFO!$P72/(COUNTRY_INFO!$F72+COUNTRY_INFO!$G72)*$G72*$H72))),0)))","v":0},null,{"$f":"MAX(0,IF(OR(COUNTRY_INFO!Q72=\"Unknown\",COUNTRY_INFO!Q72=\"Surveillance\",COUNTRY_INFO!Q72=\"Not required\",COUNTRY_INFO!Q72=0),0,IF($E72<>0,IF($D72=0,COUNTRY_INFO!Q72*MIN($E72,$L72),COUNTRY_INFO!Q72*MIN($E72,$L72)-($F72*COUNTRY_INFO!$Q72/(COUNTRY_INFO!$F72+COUNTRY_INFO!$G72)+IF($G72=\" \",0,COUNTRY_INFO!$Q72/(COUNTRY_INFO!$F72+COUNTRY_INFO!$G72)*$G72*$H72))),0)))","v":0},0,0,null,0,0,null,0,0,null,0]
[{"$f":"IF(AND(INTRO!$E$37=\"Non-endemic\",INTRO!$E$41=\"Non-endemic\"),\" \",IF(COUNTRY_INFO!A73=0,\" \",COUNTRY_INFO!A73))","v":"Tchad"},{"$f":"IF(AND(INTRO!$E$37=\"Non-endemic\",INTRO!$E$41=\"Non-endemic\"),\" \",IF(COUNTRY_INFO!B73=0,\" \",COUNTRY_INFO!B73))","v":"Logone Orientlal"},{"$f":"IF(AND(INTRO!$E$37=\"Non-endemic\",INTRO!$E$41=\"Non-endemic\"),\" \",IF(COUNTRY_INFO!C73=0,\" \",COUNTRY_INFO!C73))","v":"Kara"},{"$f":"IF(AND(INTRO!$E$37=\"Non-endemic\",INTRO!$E$41=\"Non-endemic\"),0,COUNTRY_INFO!W73)","v":1},{"$f":"IF(AND(INTRO!$E$37=\"Non-endemic\",INTRO!$E$41=\"Non-endemic\"),0,COUNTRY_INFO!Y73)","v":0},{"$f":"IF($D73=1,IVM!G73,0)","v":60001},{"$f":"IF($D73=0, \" \", IF(COUNTRY_INFO!$H73=1, IF(COUNTRY_INFO!$L73=1, 0,\" \"),\" \"))","v":" "},null,null,{"$f":"IF(OR(COUNTRY_INFO!O73=\"Unknown\",COUNTRY_INFO!O73=\"Surveillance\",COUNTRY_INFO!O73=\"Not required\",COUNTRY_INFO!O73=0),0,IF(INTRO!$E$39=\"Non-endemic\",IF(AND($E73<>0,$I73=\"\"),IF($F73=0,COUNTRY_INFO!O73*$E73,COUNTRY_INFO!O73*($E73-$D73)),IF(AND($E73<>0,$I73<>0),IF($F73=0,COUNTRY_INFO!O73*$I73,COUNTRY_INFO!O73*($I73-$D73)),0)),IF($I73=\"\",COUNTRY_INFO!O73*$E73,COUNTRY_INFO!O73*$I73)))","v":0},{"$f":"MAX(0,IF(OR(COUNTRY_INFO!P73=\"Unknown\",COUNTRY_INFO!P73=\"Surveillance\",COUNTRY_INFO!P73=\"Not required\",COUNTRY_INFO!P73=0),0,IF($E73<>0,IF($D73=0,COUNTRY_INFO!P73*$E73,COUNTRY_INFO!P73*$E73-($F73*COUNTRY_INFO!$P73/(COUNTRY_INFO!$F73+COUNTRY_INFO!$G73)+IF($G73=\" \",0,COUNTRY_INFO!$P73/(COUNTRY_INFO!$F73+COUNTRY_INFO!$G73)*$G73*$H73))),0)))","v":0},null,{"$f":"MAX(0,IF(OR(COUNTRY_INFO!Q73=\"Unknown\",COUNTRY_INFO!Q73=\"Surveillance\",COUNTRY_INFO!Q73=\"Not required\",COUNTRY_INFO!Q73=0),0,IF($E73<>0,IF($D73=0,COUNTRY_INFO!Q73*MIN($E73,$L73),COUNTRY_INFO!Q73*MIN($E73,$L73)-($F73*COUNTRY_INFO!$Q73/(COUNTRY_INFO!$F73+COUNTRY_INFO!$G73)+IF($G73=\" \",0,COUNTRY_INFO!$Q73/(COUNTRY_INFO!$F73+COUNTRY_INFO!$G73)*$G73*$H73))),0)))","v":0},0,60001,null,60001,0,null,0,0,null,0]
[{"$f":"IF(AND(INTRO!$E$37=\"Non-endemic\",INTRO!$E$41=\"Non-endemic\"),\" \",IF(COUNTRY_INFO!A74=0,\" \",COUNTRY_INFO!A74))","v":"Tchad"},{"$f":"IF(AND(INTRO!$E$37=\"Non-endemic\",INTRO!$E$41=\"Non-endemic\"),\" \",IF(COUNTRY_INFO!B74=0,\" \",COUNTRY_INFO!B74))","v":"Logone Orientlal"},{"$f":"IF(AND(INTRO!$E$37=\"Non-endemic\",INTRO!$E$41=\"Non-endemic\"),\" \",IF(COUNTRY_INFO!C74=0,\" \",COUNTRY_INFO!C74))","v":"Larmanaye"},{"$f":"IF(AND(INTRO!$E$37=\"Non-endemic\",INTRO!$E$41=\"Non-endemic\"),0,COUNTRY_INFO!W74)","v":0},{"$f":"IF(AND(INTRO!$E$37=\"Non-endemic\",INTRO!$E$41=\"Non-endemic\"),0,COUNTRY_INFO!Y74)","v":1},{"$f":"IF($D74=1,IVM!G74,0)","v":0},{"$f":"IF($D74=0, \" \", IF(COUNTRY_INFO!$H74=1, IF(COUNTRY_INFO!$L74=1, 0,\" \"),\" \"))","v":" "},null,null,{"$f":"IF(OR(COUNTRY_INFO!O74=\"Unknown\",COUNTRY_INFO!O74=\"Surveillance\",COUNTRY_INFO!O74=\"Not required\",COUNTRY_INFO!O74=0),0,IF(INTRO!$E$39=\"Non-endemic\",IF(AND($E74<>0,$I74=\"\"),IF($F74=0,COUNTRY_INFO!O74*$E74,COUNTRY_INFO!O74*($E74-$D74)),IF(AND($E74<>0,$I74<>0),IF($F74=0,COUNTRY_INFO!O74*$I74,COUNTRY_INFO!O74*($I74-$D74)),0)),IF($I74=\"\",COUNTRY_INFO!O74*$E74,COUNTRY_INFO!O74*$I74)))","v":11041},{"$f":"MAX(0,IF(OR(COUNTRY_INFO!P74=\"Unknown\",COUNTRY_INFO!P74=\"Surveillance\",COUNTRY_INFO!P74=\"Not required\",COUNTRY_INFO!P74=0),0,IF($E74<>0,IF($D74=0,COUNTRY_INFO!P74*$E74,COUNTRY_INFO!P74*$E74-($F74*COUNTRY_INFO!$P74/(COUNTRY_INFO!$F74+COUNTRY_INFO!$G74)+IF($G74=\" \",0,COUNTRY_INFO!$P74/(COUNTRY_INFO!$F74+COUNTRY_INFO!$G74)*$G74*$H74))),0)))","v":21789},null,{"$f":"MAX(0,IF(OR(COUNTRY_INFO!Q74=\"Unknown\",COUNTRY_INFO!Q74=\"Surveillance\",COUNTRY_INFO!Q74=\"Not required\",COUNTRY_INFO!Q74=0),0,IF($E74<>0,IF($D74=0,COUNTRY_INFO!Q74*MIN($E74,$L74),COUNTRY_INFO!Q74*MIN($E74,$L74)-($F74*COUNTRY_INFO!$Q74/(COUNTRY_INFO!$F74+COUNTRY_INFO!$G74)+IF($G74=\" \",0,COUNTRY_INFO!$Q74/(COUNTRY_INFO!$F74+COUNTRY_INFO!$G74)*$G74*$H74))),0)))","v":16712},49542,0,null,0,38501,null,38501,11041,null,11041]
[{"$f":"IF(AND(INTRO!$E$37=\"Non-endemic\",INTRO!$E$41=\"Non-endemic\"),\" \",IF(COUNTRY_INFO!A75=0,\" \",COUNTRY_INFO!A75))","v":"Tchad"},{"$f":"IF(AND(INTRO!$E$37=\"Non-endemic\",INTRO!$E$41=\"Non-endemic\"),\" \",IF(COUNTRY_INFO!B75=0,\" \",COUNTRY_INFO!B75))","v":"Mandoul"},{"$f":"IF(AND(INTRO!$E$37=\"Non-endemic\",INTRO!$E$41=\"Non-endemic\"),\" \",IF(COUNTRY_INFO!C75=0,\" \",COUNTRY_INFO!C75))","v":"Bedaya"},{"$f":"IF(AND(INTRO!$E$37=\"Non-endemic\",INTRO!$E$41=\"Non-endemic\"),0,COUNTRY_INFO!W75)","v":1},{"$f":"IF(AND(INTRO!$E$37=\"Non-endemic\",INTRO!$E$41=\"Non-endemic\"),0,COUNTRY_INFO!Y75)","v":0},{"$f":"IF($D75=1,IVM!G75,0)","v":65199},{"$f":"IF($D75=0, \" \", IF(COUNTRY_INFO!$H75=1, IF(COUNTRY_INFO!$L75=1, 0,\" \"),\" \"))","v":" "},null,null,{"$f":"IF(OR(COUNTRY_INFO!O75=\"Unknown\",COUNTRY_INFO!O75=\"Surveillance\",COUNTRY_INFO!O75=\"Not required\",COUNTRY_INFO!O75=0),0,IF(INTRO!$E$39=\"Non-endemic\",IF(AND($E75<>0,$I75=\"\"),IF($F75=0,COUNTRY_INFO!O75*$E75,COUNTRY_INFO!O75*($E75-$D75)),IF(AND($E75<>0,$I75<>0),IF($F75=0,COUNTRY_INFO!O75*$I75,COUNTRY_INFO!O75*($I75-$D75)),0)),IF($I75=\"\",COUNTRY_INFO!O75*$E75,COUNTRY_INFO!O75*$I75)))","v":0},{"$f":"MAX(0,IF(OR(COUNTRY_INFO!P75=\"Unknown\",COUNTRY_INFO!P75=\"Surveillance\",COUNTRY_INFO!P75=\"Not required\",COUNTRY_INFO!P75=0),0,IF($E75<>0,IF($D75=0,COUNTRY_INFO!P75*$E75,COUNTRY_INFO!P75*$E75-($F75*COUNTRY_INFO!$P75/(COUNTRY_INFO!$F75+COUNTRY_INFO!$G75)+IF($G75=\" \",0,COUNTRY_INFO!$P75/(COUNTRY_INFO!$F75+COUNTRY_INFO!$G75)*$G75*$H75))),0)))","v":0},null,{"$f":"MAX(0,IF(OR(COUNTRY_INFO!Q75=\"Unknown\",COUNTRY_INFO!Q75=\"Surveillance\",COUNTRY_INFO!Q75=\"Not required\",COUNTRY_INFO!Q75=0),0,IF($E75<>0,IF($D75=0,COUNTRY_INFO!Q75*MIN($E75,$L75),COUNTRY_INFO!Q75*MIN($E75,$L75)-($F75*COUNTRY_INFO!$Q75/(COUNTRY_INFO!$F75+COUNTRY_INFO!$G75)+IF($G75=\" \",0,COUNTRY_INFO!$Q75/(COUNTRY_INFO!$F75+COUNTRY_INFO!$G75)*$G75*$H75))),0)))","v":0},0,{"$f":"$F75+IF(OR(G75=0,G75=\" \"),0,G75*H75)","v":65199},null,65199,0,null,0,0,null,0]
[{"$f":"IF(AND(INTRO!$E$37=\"Non-endemic\",INTRO!$E$41=\"Non-endemic\"),\" \",IF(COUNTRY_INFO!A76=0,\" \",COUNTRY_INFO!A76))","v":"Tchad"},{"$f":"IF(AND(INTRO!$E$37=\"Non-endemic\",INTRO!$E$41=\"Non-endemic\"),\" \",IF(COUNTRY_INFO!B76=0,\" \",COUNTRY_INFO!B76))","v":"Mandoul"},{"$f":"IF(AND(INTRO!$E$37=\"Non-endemic\",INTRO!$E$41=\"Non-endemic\"),\" \",IF(COUNTRY_INFO!C76=0,\" \",COUNTRY_INFO!C76))","v":"Bedjondo"},{"$f":"IF(AND(INTRO!$E$37=\"Non-endemic\",INTRO!$E$41=\"Non-endemic\"),0,COUNTRY_INFO!W76)","v":0},{"$f":"IF(AND(INTRO!$E$37=\"Non-endemic\",INTRO!$E$41=\"Non-endemic\"),0,COUNTRY_INFO!Y76)","v":0},{"$f":"IF($D76=1,IVM!G76,0)","v":0},{"$f":"IF($D76=0, \" \", IF(COUNTRY_INFO!$H76=1, IF(COUNTRY_INFO!$L76=1, 0,\" \"),\" \"))","v":" "},null,null,{"$f":"IF(OR(COUNTRY_INFO!O76=\"Unknown\",COUNTRY_INFO!O76=\"Surveillance\",COUNTRY_INFO!O76=\"Not required\",COUNTRY_INFO!O76=0),0,IF(INTRO!$E$39=\"Non-endemic\",IF(AND($E76<>0,$I76=\"\"),IF($F76=0,COUNTRY_INFO!O76*$E76,COUNTRY_INFO!O76*($E76-$D76)),IF(AND($E76<>0,$I76<>0),IF($F76=0,COUNTRY_INFO!O76*$I76,COUNTRY_INFO!O76*($I76-$D76)),0)),IF($I76=\"\",COUNTRY_INFO!O76*$E76,COUNTRY_INFO!O76*$I76)))","v":0},{"$f":"MAX(0,IF(OR(COUNTRY_INFO!P76=\"Unknown\",COUNTRY_INFO!P76=\"Surveillance\",COUNTRY_INFO!P76=\"Not required\",COUNTRY_INFO!P76=0),0,IF($E76<>0,IF($D76=0,COUNTRY_INFO!P76*$E76,COUNTRY_INFO!P76*$E76-($F76*COUNTRY_INFO!$P76/(COUNTRY_INFO!$F76+COUNTRY_INFO!$G76)+IF($G76=\" \",0,COUNTRY_INFO!$P76/(COUNTRY_INFO!$F76+COUNTRY_INFO!$G76)*$G76*$H76))),0)))","v":0},null,{"$f":"MAX(0,IF(OR(COUNTRY_INFO!Q76=\"Unknown\",COUNTRY_INFO!Q76=\"Surveillance\",COUNTRY_INFO!Q76=\"Not required\",COUNTRY_INFO!Q76=0),0,IF($E76<>0,IF($D76=0,COUNTRY_INFO!Q76*MIN($E76,$L76),COUNTRY_INFO!Q76*MIN($E76,$L76)-($F76*COUNTRY_INFO!$Q76/(COUNTRY_INFO!$F76+COUNTRY_INFO!$G76)+IF($G76=\" \",0,COUNTRY_INFO!$Q76/(COUNTRY_INFO!$F76+COUNTRY_INFO!$G76)*$G76*$H76))),0)))","v":0},0,0,null,0,0,null,0,0,null,0]
[{"$f":"IF(AND(INTRO!$E$37=\"Non-endemic\",INTRO!$E$41=\"Non-endemic\"),\" \",IF(COUNTRY_INFO!A77=0,\" \",COUNTRY_INFO!A77))","v":"Tchad"},{"$f":"IF(AND(INTRO!$E$37=\"Non-endemic\",INTRO!$E$41=\"Non-endemic\"),\" \",IF(COUNTRY_INFO!B77=0,\" \",COUNTRY_INFO!B77))","v":"Mandoul"},{"$f":"IF(AND(INTRO!$E$37=\"Non-endemic\",INTRO!$E$41=\"Non-endemic\"),\" \",IF(COUNTRY_INFO!C77=0,\" \",COUNTRY_INFO!C77))","v":"Bekourou"},{"$f":"IF(AND(INTRO!$E$37=\"Non-endemic\",INTRO!$E$41=\"Non-endemic\"),0,COUNTRY_INFO!W77)","v":0},{"$f":"IF(AND(INTRO!$E$37=\"Non-endemic\",INTRO!$E$41=\"Non-endemic\"),0,COUNTRY_INFO!Y77)","v":0},{"$f":"IF($D77=1,IVM!G77,0)","v":0},{"$f":"IF($D77=0, \" \", IF(COUNTRY_INFO!$H77=1, IF(COUNTRY_INFO!$L77=1, 0,\" \"),\" \"))","v":" "},null,null,{"$f":"IF(OR(COUNTRY_INFO!O77=\"Unknown\",COUNTRY_INFO!O77=\"Surveillance\",COUNTRY_INFO!O77=\"Not required\",COUNTRY_INFO!O77=0),0,IF(INTRO!$E$39=\"Non-endemic\",IF(AND($E77<>0,$I77=\"\"),IF($F77=0,COUNTRY_INFO!O77*$E77,COUNTRY_INFO!O77*($E77-$D77)),IF(AND($E77<>0,$I77<>0),IF($F77=0,COUNTRY_INFO!O77*$I77,COUNTRY_INFO!O77*($I77-$D77)),0)),IF($I77=\"\",COUNTRY_INFO!O77*$E77,COUNTRY_INFO!O77*$I77)))","v":0},{"$f":"MAX(0,IF(OR(COUNTRY_INFO!P77=\"Unknown\",COUNTRY_INFO!P77=\"Surveillance\",COUNTRY_INFO!P77=\"Not required\",COUNTRY_INFO!P77=0),0,IF($E77<>0,IF($D77=0,COUNTRY_INFO!P77*$E77,COUNTRY_INFO!P77*$E77-($F77*COUNTRY_INFO!$P77/(COUNTRY_INFO!$F77+COUNTRY_INFO!$G77)+IF($G77=\" \",0,COUNTRY_INFO!$P77/(COUNTRY_INFO!$F77+COUNTRY_INFO!$G77)*$G77*$H77))),0)))","v":0},null,{"$f":"MAX(0,IF(OR(COUNTRY_INFO!Q77=\"Unknown\",COUNTRY_INFO!Q77=\"Surveillance\",COUNTRY_INFO!Q77=\"Not required\",COUNTRY_INFO!Q77=0),0,IF($E77<>0,IF($D77=0,COUNTRY_INFO!Q77*MIN($E77,$L77),COUNTRY_INFO!Q77*MIN($E77,$L77)-($F77*COUNTRY_INFO!$Q77/(COUNTRY_INFO!$F77+COUNTRY_INFO!$G77)+IF($G77=\" \",0,COUNTRY_INFO!$Q77/(COUNTRY_INFO!$F77+COUNTRY_INFO!$G77)*$G77*$H77))),0)))","v":0},0,0,null,0,0,null,0,0,null,0]
[{"$f":"IF(AND(INTRO!$E$37=\"Non-endemic\",INTRO!$E$41=\"Non-endemic\"),\" \",IF(COUNTRY_INFO!A78=0,\" \",COUNTRY_INFO!A78))","v":"Tchad"},{"$f":"IF(AND(INTRO!$E$37=\"Non-endemic\",INTRO!$E$41=\"Non-endemic\"),\" \",IF(COUNTRY_INFO!B78=0,\" \",COUNTRY_INFO!B78))","v":"Mandoul"},{"$f":"IF(AND(INTRO!$E$37=\"Non-endemic\",INTRO!$E$41=\"Non-endemic\"),\" \",IF(COUNTRY_INFO!C78=0,\" \",COUNTRY_INFO!C78))","v":"Bouna"},{"$f":"IF(AND(INTRO!$E$37=\"Non-endemic\",INTRO!$E$41=\"Non-endemic\"),0,COUNTRY_INFO!W78)","v":0},{"$f":"IF(AND(INTRO!$E$37=\"Non-endemic\",INTRO!$E$41=\"Non-endemic\"),0,COUNTRY_INFO!Y78)","v":0},{"$f":"IF($D78=1,IVM!G78,0)","v":0},{"$f":"IF($D78=0, \" \", IF(COUNTRY_INFO!$H78=1, IF(COUNTRY_INFO!$L78=1, 0,\" \"),\" \"))","v":" "},null,null,{"$f":"IF(OR(COUNTRY_INFO!O78=\"Unknown\",COUNTRY_INFO!O78=\"Surveillance\",COUNTRY_INFO!O78=\"Not required\",COUNTRY_INFO!O78=0),0,IF(INTRO!$E$39=\"Non-endemic\",IF(AND($E78<>0,$I78=\"\"),IF($F78=0,COUNTRY_INFO!O78*$E78,COUNTRY_INFO!O78*($E78-$D78)),IF(AND($E78<>0,$I78<>0),IF($F78=0,COUNTRY_INFO!O78*$I78,COUNTRY_INFO!O78*($I78-$D78)),0)),IF($I78=\"\",COUNTRY_INFO!O78*$E78,COUNTRY_INFO!O78*$I78)))","v":0},{"$f":"MAX(0,IF(OR(COUNTRY_INFO!P78=\"Unknown\",COUNTRY_INFO!P78=\"Surveillance\",COUNTRY_INFO!P78=\"Not required\",COUNTRY_INFO!P78=0),0,IF($E78<>0,IF($D78=0,COUNTRY_INFO!P78*$E78,COUNTRY_INFO!P78*$E78-($F78*COUNTRY_INFO!$P78/(COUNTRY_INFO!$F78+COUNTRY_INFO!$G78)+IF($G78=\" \",0,COUNTRY_INFO!$P78/(COUNTRY_INFO!$F78+COUNTRY_INFO!$G78)*$G78*$H78))),0)))","v":0},null,{"$f":"MAX(0,IF(OR(COUNTRY_INFO!Q78=\"Unknown\",COUNTRY_INFO!Q78=\"Surveillance\",COUNTRY_INFO!Q78=\"Not required\",COUNTRY_INFO!Q78=0),0,IF($E78<>0,IF($D78=0,COUNTRY_INFO!Q78*MIN($E78,$L78),COUNTRY_INFO!Q78*MIN($E78,$L78)-($F78*COUNTRY_INFO!$Q78/(COUNTRY_INFO!$F78+COUNTRY_INFO!$G78)+IF($G78=\" \",0,COUNTRY_INFO!$Q78/(COUNTRY_INFO!$F78+COUNTRY_INFO!$G78)*$G78*$H78))),0)))","v":0},0,0,null,0,0,null,0,0,null,0]
[{"$f":"IF(AND(INTRO!$E$37=\"Non-endemic\",INTRO!$E$41=\"Non-endemic\"),\" \",IF(COUNTRY_INFO!A79=0,\" \",COUNTRY_INFO!A79))","v":"Tchad"},{"$f":"IF(AND(INTRO!$E$37=\"Non-endemic\",INTRO!$E$41=\"Non-endemic\"),\" \",IF(COUNTRY_INFO!B79=0,\" \",COUNTRY_INFO!B79))","v":"Mandoul"},{"$f":"IF(AND(INTRO!$E$37=\"Non-endemic\",INTRO!$E$41=\"Non-endemic\"),\" \",IF(COUNTRY_INFO!C79=0,\" \",COUNTRY_INFO!C79))","v":"Goundi"},{"$f":"IF(AND(INTRO!$E$37=\"Non-endemic\",INTRO!$E$41=\"Non-endemic\"),0,COUNTRY_INFO!W79)","v":0},{"$f":"IF(AND(INTRO!$E$37=\"Non-endemic\",INTRO!$E$41=\"Non-endemic\"),0,COUNTRY_INFO!Y79)","v":0},{"$f":"IF($D79=1,IVM!G79,0)","v":0},{"$f":"IF($D79=0, \" \", IF(COUNTRY_INFO!$H79=1, IF(COUNTRY_INFO!$L79=1, 0,\" \"),\" \"))","v":" "},null,null,{"$f":"IF(OR(COUNTRY_INFO!O79=\"Unknown\",COUNTRY_INFO!O79=\"Surveillance\",COUNTRY_INFO!O79=\"Not required\",COUNTRY_INFO!O79=0),0,IF(INTRO!$E$39=\"Non-endemic\",IF(AND($E79<>0,$I79=\"\"),IF($F79=0,COUNTRY_INFO!O79*$E79,COUNTRY_INFO!O79*($E79-$D79)),IF(AND($E79<>0,$I79<>0),IF($F79=0,COUNTRY_INFO!O79*$I79,COUNTRY_INFO!O79*($I79-$D79)),0)),IF($I79=\"\",COUNTRY_INFO!O79*$E79,COUNTRY_INFO!O79*$I79)))","v":0},{"$f":"MAX(0,IF(OR(COUNTRY_INFO!P79=\"Unknown\",COUNTRY_INFO!P79=\"Surveillance\",COUNTRY_INFO!P79=\"Not required\",COUNTRY_INFO!P79=0),0,IF($E79<>0,IF($D79=0,COUNTRY_INFO!P79*$E79,COUNTRY_INFO!P79*$E79-($F79*COUNTRY_INFO!$P79/(COUNTRY_INFO!$F79+COUNTRY_INFO!$G79)+IF($G79=\" \",0,COUNTRY_INFO!$P79/(COUNTRY_INFO!$F79+COUNTRY_INFO!$G79)*$G79*$H79))),0)))","v":0},null,{"$f":"MAX(0,IF(OR(COUNTRY_INFO!Q79=\"Unknown\",COUNTRY_INFO!Q79=\"Surveillance\",COUNTRY_INFO!Q79=\"Not required\",COUNTRY_INFO!Q79=0),0,IF($E79<>0,IF($D79=0,COUNTRY_INFO!Q79*MIN($E79,$L79),COUNTRY_INFO!Q79*MIN($E79,$L79)-($F79*COUNTRY_INFO!$Q79/(COUNTRY_INFO!$F79+COUNTRY_INFO!$G79)+IF($G79=\" \",0,COUNTRY_INFO!$Q79/(COUNTRY_INFO!$F79+COUNTRY_INFO!$G79)*$G79*$H79))),0)))","v":0},0,0,null,0,0,null,0,0,null,0]
[{"$f":"IF(AND(INTRO!$E$37=\"Non-endemic\",INTRO!$E$41=\"Non-endemic\"),\" \",IF(COUNTRY_INFO!A80=0,\" \",COUNTRY_INFO!A80))","v":"Tchad"},{"$f":"IF(AND(INTRO!$E$37=\"Non-endemic\",INTRO!$E$41=\"Non-endemic\"),\" \",IF(COUNTRY_INFO!B80=0,\" \",COUNTRY_INFO!B80))","v":"Mandoul"},{"$f":"IF(AND(INTRO!$E$37=\"Non-endemic\",INTRO!$E$41=\"Non-endemic\"),\" \",IF(COUNTRY_INFO!C80=0,\" \",COUNTRY_INFO!C80))","v":"Koumra"},{"$f":"IF(AND(INTRO!$E$37=\"Non-endemic\",INTRO!$E$41=\"Non-endemic\"),0,COUNTRY_INFO!W80)","v":1},{"$f":"IF(AND(INTRO!$E$37=\"Non-endemic\",INTRO!$E$41=\"Non-endemic\"),0,COUNTRY_INFO!Y80)","v":0},{"$f":"IF($D80=1,IVM!G80,0)","v":154989},{"$f":"IF($D80=0, \" \", IF(COUNTRY_INFO!$H80=1, IF(COUNTRY_INFO!$L80=1, 0,\" \"),\" \"))","v":" "},null,null,{"$f":"IF(OR(COUNTRY_INFO!O80=\"Unknown\",COUNTRY_INFO!O80=\"Surveillance\",COUNTRY_INFO!O80=\"Not required\",COUNTRY_INFO!O80=0),0,IF(INTRO!$E$39=\"Non-endemic\",IF(AND($E80<>0,$I80=\"\"),IF($F80=0,COUNTRY_INFO!O80*$E80,COUNTRY_INFO!O80*($E80-$D80)),IF(AND($E80<>0,$I80<>0),IF($F80=0,COUNTRY_INFO!O80*$I80,COUNTRY_INFO!O80*($I80-$D80)),0)),IF($I80=\"\",COUNTRY_INFO!O80*$E80,COUNTRY_INFO!O80*$I80)))","v":0},{"$f":"MAX(0,IF(OR(COUNTRY_INFO!P80=\"Unknown\",COUNTRY_INFO!P80=\"Surveillance\",COUNTRY_INFO!P80=\"Not required\",COUNTRY_INFO!P80=0),0,IF($E80<>0,IF($D80=0,COUNTRY_INFO!P80*$E80,COUNTRY_INFO!P80*$E80-($F80*COUNTRY_INFO!$P80/(COUNTRY_INFO!$F80+COUNTRY_INFO!$G80)+IF($G80=\" \",0,COUNTRY_INFO!$P80/(COUNTRY_INFO!$F80+COUNTRY_INFO!$G80)*$G80*$H80))),0)))","v":0},null,{"$f":"MAX(0,IF(OR(COUNTRY_INFO!Q80=\"Unknown\",COUNTRY_INFO!Q80=\"Surveillance\",COUNTRY_INFO!Q80=\"Not required\",COUNTRY_INFO!Q80=0),0,IF($E80<>0,IF($D80=0,COUNTRY_INFO!Q80*MIN($E80,$L80),COUNTRY_INFO!Q80*MIN($E80,$L80)-($F80*COUNTRY_INFO!$Q80/(COUNTRY_INFO!$F80+COUNTRY_INFO!$G80)+IF($G80=\" \",0,COUNTRY_INFO!$Q80/(COUNTRY_INFO!$F80+COUNTRY_INFO!$G80)*$G80*$H80))),0)))","v":0},0,154989,null,154989,0,null,0,0,null,0]
[{"$f":"IF(AND(INTRO!$E$37=\"Non-endemic\",INTRO!$E$41=\"Non-endemic\"),\" \",IF(COUNTRY_INFO!A81=0,\" \",COUNTRY_INFO!A81))","v":"Tchad"},{"$f":"IF(AND(INTRO!$E$37=\"Non-endemic\",INTRO!$E$41=\"Non-endemic\"),\" \",IF(COUNTRY_INFO!B81=0,\" \",COUNTRY_INFO!B81))","v":"Mandoul"},{"$f":"IF(AND(INTRO!$E$37=\"Non-endemic\",INTRO!$E$41=\"Non-endemic\"),\" \",IF(COUNTRY_INFO!C81=0,\" \",COUNTRY_INFO!C81))","v":"Moissala"},{"$f":"IF(AND(INTRO!$E$37=\"Non-endemic\",INTRO!$E$41=\"Non-endemic\"),0,COUNTRY_INFO!W81)","v":0},{"$f":"IF(AND(INTRO!$E$37=\"Non-endemic\",INTRO!$E$41=\"Non-endemic\"),0,COUNTRY_INFO!Y81)","v":0},{"$f":"IF($D81=1,IVM!G81,0)","v":0},{"$f":"IF($D81=0, \" \", IF(COUNTRY_INFO!$H81=1, IF(COUNTRY_INFO!$L81=1, 0,\" \"),\" \"))","v":" "},null,null,{"$f":"IF(OR(COUNTRY_INFO!O81=\"Unknown\",COUNTRY_INFO!O81=\"Surveillance\",COUNTRY_INFO!O81=\"Not required\",COUNTRY_INFO!O81=0),0,IF(INTRO!$E$39=\"Non-endemic\",IF(AND($E81<>0,$I81=\"\"),IF($F81=0,COUNTRY_INFO!O81*$E81,COUNTRY_INFO!O81*($E81-$D81)),IF(AND($E81<>0,$I81<>0),IF($F81=0,COUNTRY_INFO!O81*$I81,COUNTRY_INFO!O81*($I81-$D81)),0)),IF($I81=\"\",COUNTRY_INFO!O81*$E81,COUNTRY_INFO!O81*$I81)))","v":0},{"$f":"MAX(0,IF(OR(COUNTRY_INFO!P81=\"Unknown\",COUNTRY_INFO!P81=\"Surveillance\",COUNTRY_INFO!P81=\"Not required\",COUNTRY_INFO!P81=0),0,IF($E81<>0,IF($D81=0,COUNTRY_INFO!P81*$E81,COUNTRY_INFO!P81*$E81-($F81*COUNTRY_INFO!$P81/(COUNTRY_INFO!$F81+COUNTRY_INFO!$G81)+IF($G81=\" \",0,COUNTRY_INFO!$P81/(COUNTRY_INFO!$F81+COUNTRY_INFO!$G81)*$G81*$H81))),0)))","v":0},null,{"$f":"MAX(0,IF(OR(COUNTRY_INFO!Q81=\"Unknown\",COUNTRY_INFO!Q81=\"Surveillance\",COUNTRY_INFO!Q81=\"Not required\",COUNTRY_INFO!Q81=0),0,IF($E81<>0,IF($D81=0,COUNTRY_INFO!Q81*MIN($E81,$L81),COUNTRY_INFO!Q81*MIN($E81,$L81)-($F81*COUNTRY_INFO!$Q81/(COUNTRY_INFO!$F81+COUNTRY_INFO!$G81)+IF($G81=\" \",0,COUNTRY_INFO!$Q81/(COUNTRY_INFO!$F81+COUNTRY_INFO!$G81)*$G81*$H81))),0)))","v":0},0,0,null,0,0,null,0,0,null,0]
[{"$f":"IF(AND(INTRO!$E$37=\"Non-endemic\",INTRO!$E$41=\"Non-endemic\"),\" \",IF(COUNTRY_INFO!A82=0,\" \",COUNTRY_INFO!A82))","v":"Tchad"},{"$f":"IF(AND(INTRO!$E$37=\"Non-endemic\",INTRO!$E$41=\"Non-endemic\"),\" \",IF(COUNTRY_INFO!B82=0,\" \",COUNTRY_INFO!B82))","v":"Mayo Kebbi Est"},{"$f":"IF(AND(INTRO!$E$37=\"Non-endemic\",INTRO!$E$41=\"Non-endemic\"),\" \",IF(COUNTRY_INFO!C82=0,\" \",COUNTRY_INFO!C82))","v":"Bongor"},{"$f":"IF(AND(INTRO!$E$37=\"Non-endemic\",INTRO!$E$41=\"Non-endemic\"),0,COUNTRY_INFO!W82)","v":0},{"$f":"IF(AND(INTRO!$E$37=\"Non-endemic\",INTRO!$E$41=\"Non-endemic\"),0,COUNTRY_INFO!Y82)","v":0},{"$f":"IF($D82=1,IVM!G82,0)","v":0},{"$f":"IF($D82=0, \" \", IF(COUNTRY_INFO!$H82=1, IF(COUNTRY_INFO!$L82=1, 0,\" \"),\" \"))","v":" "},null,null,{"$f":"IF(OR(COUNTRY_INFO!O82=\"Unknown\",COUNTRY_INFO!O82=\"Surveillance\",COUNTRY_INFO!O82=\"Not required\",COUNTRY_INFO!O82=0),0,IF(INTRO!$E$39=\"Non-endemic\",IF(AND($E82<>0,$I82=\"\"),IF($F82=0,COUNTRY_INFO!O82*$E82,COUNTRY_INFO!O82*($E82-$D82)),IF(AND($E82<>0,$I82<>0),IF($F82=0,COUNTRY_INFO!O82*$I82,COUNTRY_INFO!O82*($I82-$D82)),0)),IF($I82=\"\",COUNTRY_INFO!O82*$E82,COUNTRY_INFO!O82*$I82)))","v":0},{"$f":"MAX(0,IF(OR(COUNTRY_INFO!P82=\"Unknown\",COUNTRY_INFO!P82=\"Surveillance\",COUNTRY_INFO!P82=\"Not required\",COUNTRY_INFO!P82=0),0,IF($E82<>0,IF($D82=0,COUNTRY_INFO!P82*$E82,COUNTRY_INFO!P82*$E82-($F82*COUNTRY_INFO!$P82/(COUNTRY_INFO!$F82+COUNTRY_INFO!$G82)+IF($G82=\" \",0,COUNTRY_INFO!$P82/(COUNTRY_INFO!$F82+COUNTRY_INFO!$G82)*$G82*$H82))),0)))","v":0},null,{"$f":"MAX(0,IF(OR(COUNTRY_INFO!Q82=\"Unknown\",COUNTRY_INFO!Q82=\"Surveillance\",COUNTRY_INFO!Q82=\"Not required\",COUNTRY_INFO!Q82=0),0,IF($E82<>0,IF($D82=0,COUNTRY_INFO!Q82*MIN($E82,$L82),COUNTRY_INFO!Q82*MIN($E82,$L82)-($F82*COUNTRY_INFO!$Q82/(COUNTRY_INFO!$F82+COUNTRY_INFO!$G82)+IF($G82=\" \",0,COUNTRY_INFO!$Q82/(COUNTRY_INFO!$F82+COUNTRY_INFO!$G82)*$G82*$H82))),0)))","v":0},0,0,null,0,0,null,0,0,null,0]
[{"$f":"IF(AND(INTRO!$E$37=\"Non-endemic\",INTRO!$E$41=\"Non-endemic\"),\" \",IF(COUNTRY_INFO!A83=0,\" \",COUNTRY_INFO!A83))","v":"Tchad"},{"$f":"IF(AND(INTRO!$E$37=\"Non-endemic\",INTRO!$E$41=\"Non-endemic\"),\" \",IF(COUNTRY_INFO!B83=0,\" \",COUNTRY_INFO!B83))","v":"Mayo Kebbi Est"},{"$f":"IF(AND(INTRO!$E$37=\"Non-endemic\",INTRO!$E$41=\"Non-endemic\"),\" \",IF(COUNTRY_INFO!C83=0,\" \",COUNTRY_INFO!C83))","v":"Fianga"},{"$f":"IF(AND(INTRO!$E$37=\"Non-endemic\",INTRO!$E$41=\"Non-endemic\"),0,COUNTRY_INFO!W83)","v":0},{"$f":"IF(AND(INTRO!$E$37=\"Non-endemic\",INTRO!$E$41=\"Non-endemic\"),0,COUNTRY_INFO!Y83)","v":0},{"$f":"IF($D83=1,IVM!G83,0)","v":0},{"$f":"IF($D83=0, \" \", IF(COUNTRY_INFO!$H83=1, IF(COUNTRY_INFO!$L83=1, 0,\" \"),\" \"))","v":" "},null,null,{"$f":"IF(OR(COUNTRY_INFO!O83=\"Unknown\",COUNTRY_INFO!O83=\"Surveillance\",COUNTRY_INFO!O83=\"Not required\",COUNTRY_INFO!O83=0),0,IF(INTRO!$E$39=\"Non-endemic\",IF(AND($E83<>0,$I83=\"\"),IF($F83=0,COUNTRY_INFO!O83*$E83,COUNTRY_INFO!O83*($E83-$D83)),IF(AND($E83<>0,$I83<>0),IF($F83=0,COUNTRY_INFO!O83*$I83,COUNTRY_INFO!O83*($I83-$D83)),0)),IF($I83=\"\",COUNTRY_INFO!O83*$E83,COUNTRY_INFO!O83*$I83)))","v":0},{"$f":"MAX(0,IF(OR(COUNTRY_INFO!P83=\"Unknown\",COUNTRY_INFO!P83=\"Surveillance\",COUNTRY_INFO!P83=\"Not required\",COUNTRY_INFO!P83=0),0,IF($E83<>0,IF($D83=0,COUNTRY_INFO!P83*$E83,COUNTRY_INFO!P83*$E83-($F83*COUNTRY_INFO!$P83/(COUNTRY_INFO!$F83+COUNTRY_INFO!$G83)+IF($G83=\" \",0,COUNTRY_INFO!$P83/(COUNTRY_INFO!$F83+COUNTRY_INFO!$G83)*$G83*$H83))),0)))","v":0},null,{"$f":"MAX(0,IF(OR(COUNTRY_INFO!Q83=\"Unknown\",COUNTRY_INFO!Q83=\"Surveillance\",COUNTRY_INFO!Q83=\"Not required\",COUNTRY_INFO!Q83=0),0,IF($E83<>0,IF($D83=0,COUNTRY_INFO!Q83*MIN($E83,$L83),COUNTRY_INFO!Q83*MIN($E83,$L83)-($F83*COUNTRY_INFO!$Q83/(COUNTRY_INFO!$F83+COUNTRY_INFO!$G83)+IF($G83=\" \",0,COUNTRY_INFO!$Q83/(COUNTRY_INFO!$F83+COUNTRY_INFO!$G83)*$G83*$H83))),0)))","v":0},0,0,null,0,0,null,0,0,null,0]
[{"$f":"IF(AND(INTRO!$E$37=\"Non-endemic\",INTRO!$E$41=\"Non-endemic\"),\" \",IF(COUNTRY_INFO!A84=0,\" \",COUNTRY_INFO!A84))","v":"Tchad"},{"$f":"IF(AND(INTRO!$E$37=\"Non-endemic\",INTRO!$E$41=\"Non-endemic\"),\" \",IF(COUNTRY_INFO!B84=0,\" \",COUNTRY_INFO!B84))","v":"Mayo Kebbi Est"},{"$f":"IF(AND(INTRO!$E$37=\"Non-endemic\",INTRO!$E$41=\"Non-endemic\"),\" \",IF(COUNTRY_INFO!C84=0,\" \",COUNTRY_INFO!C84))","v":"Gounou Gaya"},{"$f":"IF(AND(INTRO!$E$37=\"Non-endemic\",INTRO!$E$41=\"Non-endemic\"),0,COUNTRY_INFO!W84)","v":0},{"$f":"IF(AND(INTRO!$E$37=\"Non-endemic\",INTRO!$E$41=\"Non-endemic\"),0,COUNTRY_INFO!Y84)","v":1},{"$f":"IF($D84=1,IVM!G84,0)","v":0},{"$f":"IF($D84=0, \" \", IF(COUNTRY_INFO!$H84=1, IF(COUNTRY_INFO!$L84=1, 0,\" \"),\" \"))","v":" "},null,null,{"$f":"IF(OR(COUNTRY_INFO!O84=\"Unknown\",COUNTRY_INFO!O84=\"Surveillance\",COUNTRY_INFO!O84=\"Not required\",COUNTRY_INFO!O84=0),0,IF(INTRO!$E$39=\"Non-endemic\",IF(AND($E84<>0,$I84=\"\"),IF($F84=0,COUNTRY_INFO!O84*$E84,COUNTRY_INFO!O84*($E84-$D84)),IF(AND($E84<>0,$I84<>0),IF($F84=0,COUNTRY_INFO!O84*$I84,COUNTRY_INFO!O84*($I84-$D84)),0)),IF($I84=\"\",COUNTRY_INFO!O84*$E84,COUNTRY_INFO!O84*$I84)))","v":37057},{"$f":"MAX(0,IF(OR(COUNTRY_INFO!P84=\"Unknown\",COUNTRY_INFO!P84=\"Surveillance\",COUNTRY_INFO!P84=\"Not required\",COUNTRY_INFO!P84=0),0,IF($E84<>0,IF($D84=0,COUNTRY_INFO!P84*$E84,COUNTRY_INFO!P84*$E84-($F84*COUNTRY_INFO!$P84/(COUNTRY_INFO!$F84+COUNTRY_INFO!$G84)+IF($G84=\" \",0,COUNTRY_INFO!$P84/(COUNTRY_INFO!$F84+COUNTRY_INFO!$G84)*$G84*$H84))),0)))","v":73128},null,{"$f":"MAX(0,IF(OR(COUNTRY_INFO!Q84=\"Unknown\",COUNTRY_INFO!Q84=\"Surveillance\",COUNTRY_INFO!Q84=\"Not required\",COUNTRY_INFO!Q84=0),0,IF($E84<>0,IF($D84=0,COUNTRY_INFO!Q84*MIN($E84,$L84),COUNTRY_INFO!Q84*MIN($E84,$L84)-($F84*COUNTRY_INFO!$Q84/(COUNTRY_INFO!$F84+COUNTRY_INFO!$G84)+IF($G84=\" \",0,COUNTRY_INFO!$Q84/(COUNTRY_INFO!$F84+COUNTRY_INFO!$G84)*$G84*$H84))),0)))","v":56087},166272,0,null,0,129215,null,129215,37057,null,37057]
[{"$f":"IF(AND(INTRO!$E$37=\"Non-endemic\",INTRO!$E$41=\"Non-endemic\"),\" \",IF(COUNTRY_INFO!A85=0,\" \",COUNTRY_INFO!A85))","v":"Tchad"},{"$f":"IF(AND(INTRO!$E$37=\"Non-endemic\",INTRO!$E$41=\"Non-endemic\"),\" \",IF(COUNTRY_INFO!B85=0,\" \",COUNTRY_INFO!B85))","v":"Mayo Kebbi Est"},{"$f":"IF(AND(INTRO!$E$37=\"Non-endemic\",INTRO!$E$41=\"Non-endemic\"),\" \",IF(COUNTRY_INFO!C85=0,\" \",COUNTRY_INFO!C85))","v":"Guelinding"},{"$f":"IF(AND(INTRO!$E$37=\"Non-endemic\",INTRO!$E$41=\"Non-endemic\"),0,COUNTRY_INFO!W85)","v":1},{"$f":"IF(AND(INTRO!$E$37=\"Non-endemic\",INTRO!$E$41=\"Non-endemic\"),0,COUNTRY_INFO!Y85)","v":0},{"$f":"IF($D85=1,IVM!G85,0)","v":107347},{"$f":"IF($D85=0, \" \", IF(COUNTRY_INFO!$H85=1, IF(COUNTRY_INFO!$L85=1, 0,\" \"),\" \"))","v":" "},null,null,{"$f":"IF(OR(COUNTRY_INFO!O85=\"Unknown\",COUNTRY_INFO!O85=\"Surveillance\",COUNTRY_INFO!O85=\"Not required\",COUNTRY_INFO!O85=0),0,IF(INTRO!$E$39=\"Non-endemic\",IF(AND($E85<>0,$I85=\"\"),IF($F85=0,COUNTRY_INFO!O85*$E85,COUNTRY_INFO!O85*($E85-$D85)),IF(AND($E85<>0,$I85<>0),IF($F85=0,COUNTRY_INFO!O85*$I85,COUNTRY_INFO!O85*($I85-$D85)),0)),IF($I85=\"\",COUNTRY_INFO!O85*$E85,COUNTRY_INFO!O85*$I85)))","v":0},{"$f":"MAX(0,IF(OR(COUNTRY_INFO!P85=\"Unknown\",COUNTRY_INFO!P85=\"Surveillance\",COUNTRY_INFO!P85=\"Not required\",COUNTRY_INFO!P85=0),0,IF($E85<>0,IF($D85=0,COUNTRY_INFO!P85*$E85,COUNTRY_INFO!P85*$E85-($F85*COUNTRY_INFO!$P85/(COUNTRY_INFO!$F85+COUNTRY_INFO!$G85)+IF($G85=\" \",0,COUNTRY_INFO!$P85/(COUNTRY_INFO!$F85+COUNTRY_INFO!$G85)*$G85*$H85))),0)))","v":0},null,{"$f":"MAX(0,IF(OR(COUNTRY_INFO!Q85=\"Unknown\",COUNTRY_INFO!Q85=\"Surveillance\",COUNTRY_INFO!Q85=\"Not required\",COUNTRY_INFO!Q85=0),0,IF($E85<>0,IF($D85=0,COUNTRY_INFO!Q85*MIN($E85,$L85),COUNTRY_INFO!Q85*MIN($E85,$L85)-($F85*COUNTRY_INFO!$Q85/(COUNTRY_INFO!$F85+COUNTRY_INFO!$G85)+IF($G85=\" \",0,COUNTRY_INFO!$Q85/(COUNTRY_INFO!$F85+COUNTRY_INFO!$G85)*$G85*$H85))),0)))","v":0},0,107347,null,107347,0,null,0,0,null,0]
[{"$f":"IF(AND(INTRO!$E$37=\"Non-endemic\",INTRO!$E$41=\"Non-endemic\"),\" \",IF(COUNTRY_INFO!A86=0,\" \",COUNTRY_INFO!A86))","v":"Tchad"},{"$f":"IF(AND(INTRO!$E$37=\"Non-endemic\",INTRO!$E$41=\"Non-endemic\"),\" \",IF(COUNTRY_INFO!B86=0,\" \",COUNTRY_INFO!B86))","v":"Mayo Kebbi Est"},{"$f":"IF(AND(INTRO!$E$37=\"Non-endemic\",INTRO!$E$41=\"Non-endemic\"),\" \",IF(COUNTRY_INFO!C86=0,\" \",COUNTRY_INFO!C86))","v":"Moulkou"},{"$f":"IF(AND(INTRO!$E$37=\"Non-endemic\",INTRO!$E$41=\"Non-endemic\"),0,COUNTRY_INFO!W86)","v":1},{"$f":"IF(AND(INTRO!$E$37=\"Non-endemic\",INTRO!$E$41=\"Non-endemic\"),0,COUNTRY_INFO!Y86)","v":0},{"$f":"IF($D86=1,IVM!G86,0)","v":118009},{"$f":"IF($D86=0, \" \", IF(COUNTRY_INFO!$H86=1, IF(COUNTRY_INFO!$L86=1, 0,\" \"),\" \"))","v":" "},null,null,{"$f":"IF(OR(COUNTRY_INFO!O86=\"Unknown\",COUNTRY_INFO!O86=\"Surveillance\",COUNTRY_INFO!O86=\"Not required\",COUNTRY_INFO!O86=0),0,IF(INTRO!$E$39=\"Non-endemic\",IF(AND($E86<>0,$I86=\"\"),IF($F86=0,COUNTRY_INFO!O86*$E86,COUNTRY_INFO!O86*($E86-$D86)),IF(AND($E86<>0,$I86<>0),IF($F86=0,COUNTRY_INFO!O86*$I86,COUNTRY_INFO!O86*($I86-$D86)),0)),IF($I86=\"\",COUNTRY_INFO!O86*$E86,COUNTRY_INFO!O86*$I86)))","v":0},{"$f":"MAX(0,IF(OR(COUNTRY_INFO!P86=\"Unknown\",COUNTRY_INFO!P86=\"Surveillance\",COUNTRY_INFO!P86=\"Not required\",COUNTRY_INFO!P86=0),0,IF($E86<>0,IF($D86=0,COUNTRY_INFO!P86*$E86,COUNTRY_INFO!P86*$E86-($F86*COUNTRY_INFO!$P86/(COUNTRY_INFO!$F86+COUNTRY_INFO!$G86)+IF($G86=\" \",0,COUNTRY_INFO!$P86/(COUNTRY_INFO!$F86+COUNTRY_INFO!$G86)*$G86*$H86))),0)))","v":0},null,{"$f":"MAX(0,IF(OR(COUNTRY_INFO!Q86=\"Unknown\",COUNTRY_INFO!Q86=\"Surveillance\",COUNTRY_INFO!Q86=\"Not required\",COUNTRY_INFO!Q86=0),0,IF($E86<>0,IF($D86=0,COUNTRY_INFO!Q86*MIN($E86,$L86),COUNTRY_INFO!Q86*MIN($E86,$L86)-($F86*COUNTRY_INFO!$Q86/(COUNTRY_INFO!$F86+COUNTRY_INFO!$G86)+IF($G86=\" \",0,COUNTRY_INFO!$Q86/(COUNTRY_INFO!$F86+COUNTRY_INFO!$G86)*$G86*$H86))),0)))","v":0},0,118009,null,118009,0,null,0,0,null,0]
[{"$f":"IF(AND(INTRO!$E$37=\"Non-endemic\",INTRO!$E$41=\"Non-endemic\"),\" \",IF(COUNTRY_INFO!A87=0,\" \",COUNTRY_INFO!A87))","v":"Tchad"},{"$f":"IF(AND(INTRO!$E$37=\"Non-endemic\",INTRO!$E$41=\"Non-endemic\"),\" \",IF(COUNTRY_INFO!B87=0,\" \",COUNTRY_INFO!B87))","v":"Mayo Kebbi Est"},{"$f":"IF(AND(INTRO!$E$37=\"Non-endemic\",INTRO!$E$41=\"Non-endemic\"),\" \",IF(COUNTRY_INFO!C87=0,\" \",COUNTRY_INFO!C87))","v":"Pont Carol"},{"$f":"IF(AND(INTRO!$E$37=\"Non-endemic\",INTRO!$E$41=\"Non-endemic\"),0,COUNTRY_INFO!W87)","v":0},{"$f":"IF(AND(INTRO!$E$37=\"Non-endemic\",INTRO!$E$41=\"Non-endemic\"),0,COUNTRY_INFO!Y87)","v":1},{"$f":"IF($D87=1,IVM!G87,0)","v":0},{"$f":"IF($D87=0, \" \", IF(COUNTRY_INFO!$H87=1, IF(COUNTRY_INFO!$L87=1, 0,\" \"),\" \"))","v":" "},null,null,{"$f":"IF(OR(COUNTRY_INFO!O87=\"Unknown\",COUNTRY_INFO!O87=\"Surveillance\",COUNTRY_INFO!O87=\"Not required\",COUNTRY_INFO!O87=0),0,IF(INTRO!$E$39=\"Non-endemic\",IF(AND($E87<>0,$I87=\"\"),IF($F87=0,COUNTRY_INFO!O87*$E87,COUNTRY_INFO!O87*($E87-$D87)),IF(AND($E87<>0,$I87<>0),IF($F87=0,COUNTRY_INFO!O87*$I87,COUNTRY_INFO!O87*($I87-$D87)),0)),IF($I87=\"\",COUNTRY_INFO!O87*$E87,COUNTRY_INFO!O87*$I87)))","v":16980},{"$f":"MAX(0,IF(OR(COUNTRY_INFO!P87=\"Unknown\",COUNTRY_INFO!P87=\"Surveillance\",COUNTRY_INFO!P87=\"Not required\",COUNTRY_INFO!P87=0),0,IF($E87<>0,IF($D87=0,COUNTRY_INFO!P87*$E87,COUNTRY_INFO!P87*$E87-($F87*COUNTRY_INFO!$P87/(COUNTRY_INFO!$F87+COUNTRY_INFO!$G87)+IF($G87=\" \",0,COUNTRY_INFO!$P87/(COUNTRY_INFO!$F87+COUNTRY_INFO!$G87)*$G87*$H87))),0)))","v":33509},null,{"$f":"MAX(0,IF(OR(COUNTRY_INFO!Q87=\"Unknown\",COUNTRY_INFO!Q87=\"Surveillance\",COUNTRY_INFO!Q87=\"Not required\",COUNTRY_INFO!Q87=0),0,IF($E87<>0,IF($D87=0,COUNTRY_INFO!Q87*MIN($E87,$L87),COUNTRY_INFO!Q87*MIN($E87,$L87)-($F87*COUNTRY_INFO!$Q87/(COUNTRY_INFO!$F87+COUNTRY_INFO!$G87)+IF($G87=\" \",0,COUNTRY_INFO!$Q87/(COUNTRY_INFO!$F87+COUNTRY_INFO!$G87)*$G87*$H87))),0)))","v":25700},76189,0,null,0,59209,null,59209,16980,null,16980]
[{"$f":"IF(AND(INTRO!$E$37=\"Non-endemic\",INTRO!$E$41=\"Non-endemic\"),\" \",IF(COUNTRY_INFO!A88=0,\" \",COUNTRY_INFO!A88))","v":"Tchad"},{"$f":"IF(AND(INTRO!$E$37=\"Non-endemic\",INTRO!$E$41=\"Non-endemic\"),\" \",IF(COUNTRY_INFO!B88=0,\" \",COUNTRY_INFO!B88))","v":"Mayo Kebbi Est"},{"$f":"IF(AND(INTRO!$E$37=\"Non-endemic\",INTRO!$E$41=\"Non-endemic\"),\" \",IF(COUNTRY_INFO!C88=0,\" \",COUNTRY_INFO!C88))","v":"Youé"},{"$f":"IF(AND(INTRO!$E$37=\"Non-endemic\",INTRO!$E$41=\"Non-endemic\"),0,COUNTRY_INFO!W88)","v":0},{"$f":"IF(AND(INTRO!$E$37=\"Non-endemic\",INTRO!$E$41=\"Non-endemic\"),0,COUNTRY_INFO!Y88)","v":0},{"$f":"IF($D88=1,IVM!G88,0)","v":0},{"$f":"IF($D88=0, \" \", IF(COUNTRY_INFO!$H88=1, IF(COUNTRY_INFO!$L88=1, 0,\" \"),\" \"))","v":" "},null,null,{"$f":"IF(OR(COUNTRY_INFO!O88=\"Unknown\",COUNTRY_INFO!O88=\"Surveillance\",COUNTRY_INFO!O88=\"Not required\",COUNTRY_INFO!O88=0),0,IF(INTRO!$E$39=\"Non-endemic\",IF(AND($E88<>0,$I88=\"\"),IF($F88=0,COUNTRY_INFO!O88*$E88,COUNTRY_INFO!O88*($E88-$D88)),IF(AND($E88<>0,$I88<>0),IF($F88=0,COUNTRY_INFO!O88*$I88,COUNTRY_INFO!O88*($I88-$D88)),0)),IF($I88=\"\",COUNTRY_INFO!O88*$E88,COUNTRY_INFO!O88*$I88)))","v":0},{"$f":"MAX(0,IF(OR(COUNTRY_INFO!P88=\"Unknown\",COUNTRY_INFO!P88=\"Surveillance\",COUNTRY_INFO!P88=\"Not required\",COUNTRY_INFO!P88=0),0,IF($E88<>0,IF($D88=0,COUNTRY_INFO!P88*$E88,COUNTRY_INFO!P88*$E88-($F88*COUNTRY_INFO!$P88/(COUNTRY_INFO!$F88+COUNTRY_INFO!$G88)+IF($G88=\" \",0,COUNTRY_INFO!$P88/(COUNTRY_INFO!$F88+COUNTRY_INFO!$G88)*$G88*$H88))),0)))","v":0},null,{"$f":"MAX(0,IF(OR(COUNTRY_INFO!Q88=\"Unknown\",COUNTRY_INFO!Q88=\"Surveillance\",COUNTRY_INFO!Q88=\"Not required\",COUNTRY_INFO!Q88=0),0,IF($E88<>0,IF($D88=0,COUNTRY_INFO!Q88*MIN($E88,$L88),COUNTRY_INFO!Q88*MIN($E88,$L88)-($F88*COUNTRY_INFO!$Q88/(COUNTRY_INFO!$F88+COUNTRY_INFO!$G88)+IF($G88=\" \",0,COUNTRY_INFO!$Q88/(COUNTRY_INFO!$F88+COUNTRY_INFO!$G88)*$G88*$H88))),0)))","v":0},0,0,null,0,0,null,0,0,null,0]
[{"$f":"IF(AND(INTRO!$E$37=\"Non-endemic\",INTRO!$E$41=\"Non-endemic\"),\" \",IF(COUNTRY_INFO!A89=0,\" \",COUNTRY_INFO!A89))","v":"Tchad"},{"$f":"IF(AND(INTRO!$E$37=\"Non-endemic\",INTRO!$E$41=\"Non-endemic\"),\" \",IF(COUNTRY_INFO!B89=0,\" \",COUNTRY_INFO!B89))","v":"Mayo Kebbi Ouest"},{"$f":"IF(AND(INTRO!$E$37=\"Non-endemic\",INTRO!$E$41=\"Non-endemic\"),\" \",IF(COUNTRY_INFO!C89=0,\" \",COUNTRY_INFO!C89))","v":"Binder"},{"$f":"IF(AND(INTRO!$E$37=\"Non-endemic\",INTRO!$E$41=\"Non-endemic\"),0,COUNTRY_INFO!W89)","v":0},{"$f":"IF(AND(INTRO!$E$37=\"Non-endemic\",INTRO!$E$41=\"Non-endemic\"),0,COUNTRY_INFO!Y89)","v":0},{"$f":"IF($D89=1,IVM!G89,0)","v":0},{"$f":"IF($D89=0, \" \", IF(COUNTRY_INFO!$H89=1, IF(COUNTRY_INFO!$L89=1, 0,\" \"),\" \"))","v":" "},null,null,{"$f":"IF(OR(COUNTRY_INFO!O89=\"Unknown\",COUNTRY_INFO!O89=\"Surveillance\",COUNTRY_INFO!O89=\"Not required\",COUNTRY_INFO!O89=0),0,IF(INTRO!$E$39=\"Non-endemic\",IF(AND($E89<>0,$I89=\"\"),IF($F89=0,COUNTRY_INFO!O89*$E89,COUNTRY_INFO!O89*($E89-$D89)),IF(AND($E89<>0,$I89<>0),IF($F89=0,COUNTRY_INFO!O89*$I89,COUNTRY_INFO!O89*($I89-$D89)),0)),IF($I89=\"\",COUNTRY_INFO!O89*$E89,COUNTRY_INFO!O89*$I89)))","v":0},{"$f":"MAX(0,IF(OR(COUNTRY_INFO!P89=\"Unknown\",COUNTRY_INFO!P89=\"Surveillance\",COUNTRY_INFO!P89=\"Not required\",COUNTRY_INFO!P89=0),0,IF($E89<>0,IF($D89=0,COUNTRY_INFO!P89*$E89,COUNTRY_INFO!P89*$E89-($F89*COUNTRY_INFO!$P89/(COUNTRY_INFO!$F89+COUNTRY_INFO!$G89)+IF($G89=\" \",0,COUNTRY_INFO!$P89/(COUNTRY_INFO!$F89+COUNTRY_INFO!$G89)*$G89*$H89))),0)))","v":0},null,{"$f":"MAX(0,IF(OR(COUNTRY_INFO!Q89=\"Unknown\",COUNTRY_INFO!Q89=\"Surveillance\",COUNTRY_INFO!Q89=\"Not required\",COUNTRY_INFO!Q89=0),0,IF($E89<>0,IF($D89=0,COUNTRY_INFO!Q89*MIN($E89,$L89),COUNTRY_INFO!Q89*MIN($E89,$L89)-($F89*COUNTRY_INFO!$Q89/(COUNTRY_INFO!$F89+COUNTRY_INFO!$G89)+IF($G89=\" \",0,COUNTRY_INFO!$Q89/(COUNTRY_INFO!$F89+COUNTRY_INFO!$G89)*$G89*$H89))),0)))","v":0},0,0,null,0,0,null,0,0,null,0]
[{"$f":"IF(AND(INTRO!$E$37=\"Non-endemic\",INTRO!$E$41=\"Non-endemic\"),\" \",IF(COUNTRY_INFO!A90=0,\" \",COUNTRY_INFO!A90))","v":"Tchad"},{"$f":"IF(AND(INTRO!$E$37=\"Non-endemic\",INTRO!$E$41=\"Non-endemic\"),\" \",IF(COUNTRY_INFO!B90=0,\" \",COUNTRY_INFO!B90))","v":"Mayo Kebbi Ouest"},{"$f":"IF(AND(INTRO!$E$37=\"Non-endemic\",INTRO!$E$41=\"Non-endemic\"),\" \",IF(COUNTRY_INFO!C90=0,\" \",COUNTRY_INFO!C90))","v":"Gagal"},{"$f":"IF(AND(INTRO!$E$37=\"Non-endemic\",INTRO!$E$41=\"Non-endemic\"),0,COUNTRY_INFO!W90)","v":0},{"$f":"IF(AND(INTRO!$E$37=\"Non-endemic\",INTRO!$E$41=\"Non-endemic\"),0,COUNTRY_INFO!Y90)","v":0},{"$f":"IF($D90=1,IVM!G90,0)","v":0},{"$f":"IF($D90=0, \" \", IF(COUNTRY_INFO!$H90=1, IF(COUNTRY_INFO!$L90=1, 0,\" \"),\" \"))","v":" "},null,null,{"$f":"IF(OR(COUNTRY_INFO!O90=\"Unknown\",COUNTRY_INFO!O90=\"Surveillance\",COUNTRY_INFO!O90=\"Not required\",COUNTRY_INFO!O90=0),0,IF(INTRO!$E$39=\"Non-endemic\",IF(AND($E90<>0,$I90=\"\"),IF($F90=0,COUNTRY_INFO!O90*$E90,COUNTRY_INFO!O90*($E90-$D90)),IF(AND($E90<>0,$I90<>0),IF($F90=0,COUNTRY_INFO!O90*$I90,COUNTRY_INFO!O90*($I90-$D90)),0)),IF($I90=\"\",COUNTRY_INFO!O90*$E90,COUNTRY_INFO!O90*$I90)))","v":0},{"$f":"MAX(0,IF(OR(COUNTRY_INFO!P90=\"Unknown\",COUNTRY_INFO!P90=\"Surveillance\",COUNTRY_INFO!P90=\"Not required\",COUNTRY_INFO!P90=0),0,IF($E90<>0,IF($D90=0,COUNTRY_INFO!P90*$E90,COUNTRY_INFO!P90*$E90-($F90*COUNTRY_INFO!$P90/(COUNTRY_INFO!$F90+COUNTRY_INFO!$G90)+IF($G90=\" \",0,COUNTRY_INFO!$P90/(COUNTRY_INFO!$F90+COUNTRY_INFO!$G90)*$G90*$H90))),0)))","v":0},null,{"$f":"MAX(0,IF(OR(COUNTRY_INFO!Q90=\"Unknown\",COUNTRY_INFO!Q90=\"Surveillance\",COUNTRY_INFO!Q90=\"Not required\",COUNTRY_INFO!Q90=0),0,IF($E90<>0,IF($D90=0,COUNTRY_INFO!Q90*MIN($E90,$L90),COUNTRY_INFO!Q90*MIN($E90,$L90)-($F90*COUNTRY_INFO!$Q90/(COUNTRY_INFO!$F90+COUNTRY_INFO!$G90)+IF($G90=\" \",0,COUNTRY_INFO!$Q90/(COUNTRY_INFO!$F90+COUNTRY_INFO!$G90)*$G90*$H90))),0)))","v":0},0,0,null,0,0,null,0,0,null,0]
[{"$f":"IF(AND(INTRO!$E$37=\"Non-endemic\",INTRO!$E$41=\"Non-endemic\"),\" \",IF(COUNTRY_INFO!A91=0,\" \",COUNTRY_INFO!A91))","v":"Tchad"},{"$f":"IF(AND(INTRO!$E$37=\"Non-endemic\",INTRO!$E$41=\"Non-endemic\"),\" \",IF(COUNTRY_INFO!B91=0,\" \",COUNTRY_INFO!B91))","v":"Mayo Kebbi Ouest"},{"$f":"IF(AND(INTRO!$E$37=\"Non-endemic\",INTRO!$E$41=\"Non-endemic\"),\" \",IF(COUNTRY_INFO!C91=0,\" \",COUNTRY_INFO!C91))","v":"Guegou"},{"$f":"IF(AND(INTRO!$E$37=\"Non-endemic\",INTRO!$E$41=\"Non-endemic\"),0,COUNTRY_INFO!W91)","v":0},{"$f":"IF(AND(INTRO!$E$37=\"Non-endemic\",INTRO!$E$41=\"Non-endemic\"),0,COUNTRY_INFO!Y91)","v":0},{"$f":"IF($D91=1,IVM!G91,0)","v":0},{"$f":"IF($D91=0, \" \", IF(COUNTRY_INFO!$H91=1, IF(COUNTRY_INFO!$L91=1, 0,\" \"),\" \"))","v":" "},null,null,{"$f":"IF(OR(COUNTRY_INFO!O91=\"Unknown\",COUNTRY_INFO!O91=\"Surveillance\",COUNTRY_INFO!O91=\"Not required\",COUNTRY_INFO!O91=0),0,IF(INTRO!$E$39=\"Non-endemic\",IF(AND($E91<>0,$I91=\"\"),IF($F91=0,COUNTRY_INFO!O91*$E91,COUNTRY_INFO!O91*($E91-$D91)),IF(AND($E91<>0,$I91<>0),IF($F91=0,COUNTRY_INFO!O91*$I91,COUNTRY_INFO!O91*($I91-$D91)),0)),IF($I91=\"\",COUNTRY_INFO!O91*$E91,COUNTRY_INFO!O91*$I91)))","v":0},{"$f":"MAX(0,IF(OR(COUNTRY_INFO!P91=\"Unknown\",COUNTRY_INFO!P91=\"Surveillance\",COUNTRY_INFO!P91=\"Not required\",COUNTRY_INFO!P91=0),0,IF($E91<>0,IF($D91=0,COUNTRY_INFO!P91*$E91,COUNTRY_INFO!P91*$E91-($F91*COUNTRY_INFO!$P91/(COUNTRY_INFO!$F91+COUNTRY_INFO!$G91)+IF($G91=\" \",0,COUNTRY_INFO!$P91/(COUNTRY_INFO!$F91+COUNTRY_INFO!$G91)*$G91*$H91))),0)))","v":0},null,{"$f":"MAX(0,IF(OR(COUNTRY_INFO!Q91=\"Unknown\",COUNTRY_INFO!Q91=\"Surveillance\",COUNTRY_INFO!Q91=\"Not required\",COUNTRY_INFO!Q91=0),0,IF($E91<>0,IF($D91=0,COUNTRY_INFO!Q91*MIN($E91,$L91),COUNTRY_INFO!Q91*MIN($E91,$L91)-($F91*COUNTRY_INFO!$Q91/(COUNTRY_INFO!$F91+COUNTRY_INFO!$G91)+IF($G91=\" \",0,COUNTRY_INFO!$Q91/(COUNTRY_INFO!$F91+COUNTRY_INFO!$G91)*$G91*$H91))),0)))","v":0},0,0,null,0,0,null,0,0,null,0]
[{"$f":"IF(AND(INTRO!$E$37=\"Non-endemic\",INTRO!$E$41=\"Non-endemic\"),\" \",IF(COUNTRY_INFO!A92=0,\" \",COUNTRY_INFO!A92))","v":"Tchad"},{"$f":"IF(AND(INTRO!$E$37=\"Non-endemic\",INTRO!$E$41=\"Non-endemic\"),\" \",IF(COUNTRY_INFO!B92=0,\" \",COUNTRY_INFO!B92))","v":"Mayo Kebbi Ouest"},{"$f":"IF(AND(INTRO!$E$37=\"Non-endemic\",INTRO!$E$41=\"Non-endemic\"),\" \",IF(COUNTRY_INFO!C92=0,\" \",COUNTRY_INFO!C92))","v":"GUELO"},{"$f":"IF(AND(INTRO!$E$37=\"Non-endemic\",INTRO!$E$41=\"Non-endemic\"),0,COUNTRY_INFO!W92)","v":0},{"$f":"IF(AND(INTRO!$E$37=\"Non-endemic\",INTRO!$E$41=\"Non-endemic\"),0,COUNTRY_INFO!Y92)","v":0},{"$f":"IF($D92=1,IVM!G92,0)","v":0},{"$f":"IF($D92=0, \" \", IF(COUNTRY_INFO!$H92=1, IF(COUNTRY_INFO!$L92=1, 0,\" \"),\" \"))","v":" "},null,null,{"$f":"IF(OR(COUNTRY_INFO!O92=\"Unknown\",COUNTRY_INFO!O92=\"Surveillance\",COUNTRY_INFO!O92=\"Not required\",COUNTRY_INFO!O92=0),0,IF(INTRO!$E$39=\"Non-endemic\",IF(AND($E92<>0,$I92=\"\"),IF($F92=0,COUNTRY_INFO!O92*$E92,COUNTRY_INFO!O92*($E92-$D92)),IF(AND($E92<>0,$I92<>0),IF($F92=0,COUNTRY_INFO!O92*$I92,COUNTRY_INFO!O92*($I92-$D92)),0)),IF($I92=\"\",COUNTRY_INFO!O92*$E92,COUNTRY_INFO!O92*$I92)))","v":0},{"$f":"MAX(0,IF(OR(COUNTRY_INFO!P92=\"Unknown\",COUNTRY_INFO!P92=\"Surveillance\",COUNTRY_INFO!P92=\"Not required\",COUNTRY_INFO!P92=0),0,IF($E92<>0,IF($D92=0,COUNTRY_INFO!P92*$E92,COUNTRY_INFO!P92*$E92-($F92*COUNTRY_INFO!$P92/(COUNTRY_INFO!$F92+COUNTRY_INFO!$G92)+IF($G92=\" \",0,COUNTRY_INFO!$P92/(COUNTRY_INFO!$F92+COUNTRY_INFO!$G92)*$G92*$H92))),0)))","v":0},null,{"$f":"MAX(0,IF(OR(COUNTRY_INFO!Q92=\"Unknown\",COUNTRY_INFO!Q92=\"Surveillance\",COUNTRY_INFO!Q92=\"Not required\",COUNTRY_INFO!Q92=0),0,IF($E92<>0,IF($D92=0,COUNTRY_INFO!Q92*MIN($E92,$L92),COUNTRY_INFO!Q92*MIN($E92,$L92)-($F92*COUNTRY_INFO!$Q92/(COUNTRY_INFO!$F92+COUNTRY_INFO!$G92)+IF($G92=\" \",0,COUNTRY_INFO!$Q92/(COUNTRY_INFO!$F92+COUNTRY_INFO!$G92)*$G92*$H92))),0)))","v":0},0,0,null,0,0,null,0,0,null,0]
[{"$f":"IF(AND(INTRO!$E$37=\"Non-endemic\",INTRO!$E$41=\"Non-endemic\"),\" \",IF(COUNTRY_INFO!A93=0,\" \",COUNTRY_INFO!A93))","v":"Tchad"},{"$f":"IF(AND(INTRO!$E$37=\"Non-endemic\",INTRO!$E$41=\"Non-endemic\"),\" \",IF(COUNTRY_INFO!B93=0,\" \",COUNTRY_INFO!B93))","v":"Mayo Kebbi Ouest"},{"$f":"IF(AND(INTRO!$E$37=\"Non-endemic\",INTRO!$E$41=\"Non-endemic\"),\" \",IF(COUNTRY_INFO!C93=0,\" \",COUNTRY_INFO!C93))","v":"Lagon"},{"$f":"IF(AND(INTRO!$E$37=\"Non-endemic\",INTRO!$E$41=\"Non-endemic\"),0,COUNTRY_INFO!W93)","v":0},{"$f":"IF(AND(INTRO!$E$37=\"Non-endemic\",INTRO!$E$41=\"Non-endemic\"),0,COUNTRY_INFO!Y93)","v":0},{"$f":"IF($D93=1,IVM!G93,0)","v":0},{"$f":"IF($D93=0, \" \", IF(COUNTRY_INFO!$H93=1, IF(COUNTRY_INFO!$L93=1, 0,\" \"),\" \"))","v":" "},null,null,{"$f":"IF(OR(COUNTRY_INFO!O93=\"Unknown\",COUNTRY_INFO!O93=\"Surveillance\",COUNTRY_INFO!O93=\"Not required\",COUNTRY_INFO!O93=0),0,IF(INTRO!$E$39=\"Non-endemic\",IF(AND($E93<>0,$I93=\"\"),IF($F93=0,COUNTRY_INFO!O93*$E93,COUNTRY_INFO!O93*($E93-$D93)),IF(AND($E93<>0,$I93<>0),IF($F93=0,COUNTRY_INFO!O93*$I93,COUNTRY_INFO!O93*($I93-$D93)),0)),IF($I93=\"\",COUNTRY_INFO!O93*$E93,COUNTRY_INFO!O93*$I93)))","v":0},{"$f":"MAX(0,IF(OR(COUNTRY_INFO!P93=\"Unknown\",COUNTRY_INFO!P93=\"Surveillance\",COUNTRY_INFO!P93=\"Not required\",COUNTRY_INFO!P93=0),0,IF($E93<>0,IF($D93=0,COUNTRY_INFO!P93*$E93,COUNTRY_INFO!P93*$E93-($F93*COUNTRY_INFO!$P93/(COUNTRY_INFO!$F93+COUNTRY_INFO!$G93)+IF($G93=\" \",0,COUNTRY_INFO!$P93/(COUNTRY_INFO!$F93+COUNTRY_INFO!$G93)*$G93*$H93))),0)))","v":0},null,{"$f":"MAX(0,IF(OR(COUNTRY_INFO!Q93=\"Unknown\",COUNTRY_INFO!Q93=\"Surveillance\",COUNTRY_INFO!Q93=\"Not required\",COUNTRY_INFO!Q93=0),0,IF($E93<>0,IF($D93=0,COUNTRY_INFO!Q93*MIN($E93,$L93),COUNTRY_INFO!Q93*MIN($E93,$L93)-($F93*COUNTRY_INFO!$Q93/(COUNTRY_INFO!$F93+COUNTRY_INFO!$G93)+IF($G93=\" \",0,COUNTRY_INFO!$Q93/(COUNTRY_INFO!$F93+COUNTRY_INFO!$G93)*$G93*$H93))),0)))","v":0},0,0,null,0,0,null,0,0,null,0]
[{"$f":"IF(AND(INTRO!$E$37=\"Non-endemic\",INTRO!$E$41=\"Non-endemic\"),\" \",IF(COUNTRY_INFO!A94=0,\" \",COUNTRY_INFO!A94))","v":"Tchad"},{"$f":"IF(AND(INTRO!$E$37=\"Non-endemic\",INTRO!$E$41=\"Non-endemic\"),\" \",IF(COUNTRY_INFO!B94=0,\" \",COUNTRY_INFO!B94))","v":"Mayo Kebbi Ouest"},{"$f":"IF(AND(INTRO!$E$37=\"Non-endemic\",INTRO!$E$41=\"Non-endemic\"),\" \",IF(COUNTRY_INFO!C94=0,\" \",COUNTRY_INFO!C94))","v":"Lamé"},{"$f":"IF(AND(INTRO!$E$37=\"Non-endemic\",INTRO!$E$41=\"Non-endemic\"),0,COUNTRY_INFO!W94)","v":0},{"$f":"IF(AND(INTRO!$E$37=\"Non-endemic\",INTRO!$E$41=\"Non-endemic\"),0,COUNTRY_INFO!Y94)","v":0},{"$f":"IF($D94=1,IVM!G94,0)","v":0},{"$f":"IF($D94=0, \" \", IF(COUNTRY_INFO!$H94=1, IF(COUNTRY_INFO!$L94=1, 0,\" \"),\" \"))","v":" "},null,null,{"$f":"IF(OR(COUNTRY_INFO!O94=\"Unknown\",COUNTRY_INFO!O94=\"Surveillance\",COUNTRY_INFO!O94=\"Not required\",COUNTRY_INFO!O94=0),0,IF(INTRO!$E$39=\"Non-endemic\",IF(AND($E94<>0,$I94=\"\"),IF($F94=0,COUNTRY_INFO!O94*$E94,COUNTRY_INFO!O94*($E94-$D94)),IF(AND($E94<>0,$I94<>0),IF($F94=0,COUNTRY_INFO!O94*$I94,COUNTRY_INFO!O94*($I94-$D94)),0)),IF($I94=\"\",COUNTRY_INFO!O94*$E94,COUNTRY_INFO!O94*$I94)))","v":0},{"$f":"MAX(0,IF(OR(COUNTRY_INFO!P94=\"Unknown\",COUNTRY_INFO!P94=\"Surveillance\",COUNTRY_INFO!P94=\"Not required\",COUNTRY_INFO!P94=0),0,IF($E94<>0,IF($D94=0,COUNTRY_INFO!P94*$E94,COUNTRY_INFO!P94*$E94-($F94*COUNTRY_INFO!$P94/(COUNTRY_INFO!$F94+COUNTRY_INFO!$G94)+IF($G94=\" \",0,COUNTRY_INFO!$P94/(COUNTRY_INFO!$F94+COUNTRY_INFO!$G94)*$G94*$H94))),0)))","v":0},null,{"$f":"MAX(0,IF(OR(COUNTRY_INFO!Q94=\"Unknown\",COUNTRY_INFO!Q94=\"Surveillance\",COUNTRY_INFO!Q94=\"Not required\",COUNTRY_INFO!Q94=0),0,IF($E94<>0,IF($D94=0,COUNTRY_INFO!Q94*MIN($E94,$L94),COUNTRY_INFO!Q94*MIN($E94,$L94)-($F94*COUNTRY_INFO!$Q94/(COUNTRY_INFO!$F94+COUNTRY_INFO!$G94)+IF($G94=\" \",0,COUNTRY_INFO!$Q94/(COUNTRY_INFO!$F94+COUNTRY_INFO!$G94)*$G94*$H94))),0)))","v":0},0,0,null,0,0,null,0,0,null,0]
[{"$f":"IF(AND(INTRO!$E$37=\"Non-endemic\",INTRO!$E$41=\"Non-endemic\"),\" \",IF(COUNTRY_INFO!A95=0,\" \",COUNTRY_INFO!A95))","v":"Tchad"},{"$f":"IF(AND(INTRO!$E$37=\"Non-endemic\",INTRO!$E$41=\"Non-endemic\"),\" \",IF(COUNTRY_INFO!B95=0,\" \",COUNTRY_INFO!B95))","v":"Mayo Kebbi Ouest"},{"$f":"IF(AND(INTRO!$E$37=\"Non-endemic\",INTRO!$E$41=\"Non-endemic\"),\" \",IF(COUNTRY_INFO!C95=0,\" \",COUNTRY_INFO!C95))","v":"Lere"},{"$f":"IF(AND(INTRO!$E$37=\"Non-endemic\",INTRO!$E$41=\"Non-endemic\"),0,COUNTRY_INFO!W95)","v":0},{"$f":"IF(AND(INTRO!$E$37=\"Non-endemic\",INTRO!$E$41=\"Non-endemic\"),0,COUNTRY_INFO!Y95)","v":0},{"$f":"IF($D95=1,IVM!G95,0)","v":0},{"$f":"IF($D95=0, \" \", IF(COUNTRY_INFO!$H95=1, IF(COUNTRY_INFO!$L95=1, 0,\" \"),\" \"))","v":" "},null,null,{"$f":"IF(OR(COUNTRY_INFO!O95=\"Unknown\",COUNTRY_INFO!O95=\"Surveillance\",COUNTRY_INFO!O95=\"Not required\",COUNTRY_INFO!O95=0),0,IF(INTRO!$E$39=\"Non-endemic\",IF(AND($E95<>0,$I95=\"\"),IF($F95=0,COUNTRY_INFO!O95*$E95,COUNTRY_INFO!O95*($E95-$D95)),IF(AND($E95<>0,$I95<>0),IF($F95=0,COUNTRY_INFO!O95*$I95,COUNTRY_INFO!O95*($I95-$D95)),0)),IF($I95=\"\",COUNTRY_INFO!O95*$E95,COUNTRY_INFO!O95*$I95)))","v":0},{"$f":"MAX(0,IF(OR(COUNTRY_INFO!P95=\"Unknown\",COUNTRY_INFO!P95=\"Surveillance\",COUNTRY_INFO!P95=\"Not required\",COUNTRY_INFO!P95=0),0,IF($E95<>0,IF($D95=0,COUNTRY_INFO!P95*$E95,COUNTRY_INFO!P95*$E95-($F95*COUNTRY_INFO!$P95/(COUNTRY_INFO!$F95+COUNTRY_INFO!$G95)+IF($G95=\" \",0,COUNTRY_INFO!$P95/(COUNTRY_INFO!$F95+COUNTRY_INFO!$G95)*$G95*$H95))),0)))","v":0},null,{"$f":"MAX(0,IF(OR(COUNTRY_INFO!Q95=\"Unknown\",COUNTRY_INFO!Q95=\"Surveillance\",COUNTRY_INFO!Q95=\"Not required\",COUNTRY_INFO!Q95=0),0,IF($E95<>0,IF($D95=0,COUNTRY_INFO!Q95*MIN($E95,$L95),COUNTRY_INFO!Q95*MIN($E95,$L95)-($F95*COUNTRY_INFO!$Q95/(COUNTRY_INFO!$F95+COUNTRY_INFO!$G95)+IF($G95=\" \",0,COUNTRY_INFO!$Q95/(COUNTRY_INFO!$F95+COUNTRY_INFO!$G95)*$G95*$H95))),0)))","v":0},0,0,null,0,0,null,0,0,null,0]
[{"$f":"IF(AND(INTRO!$E$37=\"Non-endemic\",INTRO!$E$41=\"Non-endemic\"),\" \",IF(COUNTRY_INFO!A96=0,\" \",COUNTRY_INFO!A96))","v":"Tchad"},{"$f":"IF(AND(INTRO!$E$37=\"Non-endemic\",INTRO!$E$41=\"Non-endemic\"),\" \",IF(COUNTRY_INFO!B96=0,\" \",COUNTRY_INFO!B96))","v":"Mayo Kebbi Ouest"},{"$f":"IF(AND(INTRO!$E$37=\"Non-endemic\",INTRO!$E$41=\"Non-endemic\"),\" \",IF(COUNTRY_INFO!C96=0,\" \",COUNTRY_INFO!C96))","v":"Pala"},{"$f":"IF(AND(INTRO!$E$37=\"Non-endemic\",INTRO!$E$41=\"Non-endemic\"),0,COUNTRY_INFO!W96)","v":0},{"$f":"IF(AND(INTRO!$E$37=\"Non-endemic\",INTRO!$E$41=\"Non-endemic\"),0,COUNTRY_INFO!Y96)","v":0},{"$f":"IF($D96=1,IVM!G96,0)","v":0},{"$f":"IF($D96=0, \" \", IF(COUNTRY_INFO!$H96=1, IF(COUNTRY_INFO!$L96=1, 0,\" \"),\" \"))","v":" "},null,null,{"$f":"IF(OR(COUNTRY_INFO!O96=\"Unknown\",COUNTRY_INFO!O96=\"Surveillance\",COUNTRY_INFO!O96=\"Not required\",COUNTRY_INFO!O96=0),0,IF(INTRO!$E$39=\"Non-endemic\",IF(AND($E96<>0,$I96=\"\"),IF($F96=0,COUNTRY_INFO!O96*$E96,COUNTRY_INFO!O96*($E96-$D96)),IF(AND($E96<>0,$I96<>0),IF($F96=0,COUNTRY_INFO!O96*$I96,COUNTRY_INFO!O96*($I96-$D96)),0)),IF($I96=\"\",COUNTRY_INFO!O96*$E96,COUNTRY_INFO!O96*$I96)))","v":0},{"$f":"MAX(0,IF(OR(COUNTRY_INFO!P96=\"Unknown\",COUNTRY_INFO!P96=\"Surveillance\",COUNTRY_INFO!P96=\"Not required\",COUNTRY_INFO!P96=0),0,IF($E96<>0,IF($D96=0,COUNTRY_INFO!P96*$E96,COUNTRY_INFO!P96*$E96-($F96*COUNTRY_INFO!$P96/(COUNTRY_INFO!$F96+COUNTRY_INFO!$G96)+IF($G96=\" \",0,COUNTRY_INFO!$P96/(COUNTRY_INFO!$F96+COUNTRY_INFO!$G96)*$G96*$H96))),0)))","v":0},null,{"$f":"MAX(0,IF(OR(COUNTRY_INFO!Q96=\"Unknown\",COUNTRY_INFO!Q96=\"Surveillance\",COUNTRY_INFO!Q96=\"Not required\",COUNTRY_INFO!Q96=0),0,IF($E96<>0,IF($D96=0,COUNTRY_INFO!Q96*MIN($E96,$L96),COUNTRY_INFO!Q96*MIN($E96,$L96)-($F96*COUNTRY_INFO!$Q96/(COUNTRY_INFO!$F96+COUNTRY_INFO!$G96)+IF($G96=\" \",0,COUNTRY_INFO!$Q96/(COUNTRY_INFO!$F96+COUNTRY_INFO!$G96)*$G96*$H96))),0)))","v":0},0,0,null,0,0,null,0,0,null,0]
[{"$f":"IF(AND(INTRO!$E$37=\"Non-endemic\",INTRO!$E$41=\"Non-endemic\"),\" \",IF(COUNTRY_INFO!A97=0,\" \",COUNTRY_INFO!A97))","v":"Tchad"},{"$f":"IF(AND(INTRO!$E$37=\"Non-endemic\",INTRO!$E$41=\"Non-endemic\"),\" \",IF(COUNTRY_INFO!B97=0,\" \",COUNTRY_INFO!B97))","v":"Mayo Kebbi Ouest"},{"$f":"IF(AND(INTRO!$E$37=\"Non-endemic\",INTRO!$E$41=\"Non-endemic\"),\" \",IF(COUNTRY_INFO!C97=0,\" \",COUNTRY_INFO!C97))","v":"Torrock"},{"$f":"IF(AND(INTRO!$E$37=\"Non-endemic\",INTRO!$E$41=\"Non-endemic\"),0,COUNTRY_INFO!W97)","v":0},{"$f":"IF(AND(INTRO!$E$37=\"Non-endemic\",INTRO!$E$41=\"Non-endemic\"),0,COUNTRY_INFO!Y97)","v":0},{"$f":"IF($D97=1,IVM!G97,0)","v":0},{"$f":"IF($D97=0, \" \", IF(COUNTRY_INFO!$H97=1, IF(COUNTRY_INFO!$L97=1, 0,\" \"),\" \"))","v":" "},null,null,{"$f":"IF(OR(COUNTRY_INFO!O97=\"Unknown\",COUNTRY_INFO!O97=\"Surveillance\",COUNTRY_INFO!O97=\"Not required\",COUNTRY_INFO!O97=0),0,IF(INTRO!$E$39=\"Non-endemic\",IF(AND($E97<>0,$I97=\"\"),IF($F97=0,COUNTRY_INFO!O97*$E97,COUNTRY_INFO!O97*($E97-$D97)),IF(AND($E97<>0,$I97<>0),IF($F97=0,COUNTRY_INFO!O97*$I97,COUNTRY_INFO!O97*($I97-$D97)),0)),IF($I97=\"\",COUNTRY_INFO!O97*$E97,COUNTRY_INFO!O97*$I97)))","v":0},{"$f":"MAX(0,IF(OR(COUNTRY_INFO!P97=\"Unknown\",COUNTRY_INFO!P97=\"Surveillance\",COUNTRY_INFO!P97=\"Not required\",COUNTRY_INFO!P97=0),0,IF($E97<>0,IF($D97=0,COUNTRY_INFO!P97*$E97,COUNTRY_INFO!P97*$E97-($F97*COUNTRY_INFO!$P97/(COUNTRY_INFO!$F97+COUNTRY_INFO!$G97)+IF($G97=\" \",0,COUNTRY_INFO!$P97/(COUNTRY_INFO!$F97+COUNTRY_INFO!$G97)*$G97*$H97))),0)))","v":0},null,{"$f":"MAX(0,IF(OR(COUNTRY_INFO!Q97=\"Unknown\",COUNTRY_INFO!Q97=\"Surveillance\",COUNTRY_INFO!Q97=\"Not required\",COUNTRY_INFO!Q97=0),0,IF($E97<>0,IF($D97=0,COUNTRY_INFO!Q97*MIN($E97,$L97),COUNTRY_INFO!Q97*MIN($E97,$L97)-($F97*COUNTRY_INFO!$Q97/(COUNTRY_INFO!$F97+COUNTRY_INFO!$G97)+IF($G97=\" \",0,COUNTRY_INFO!$Q97/(COUNTRY_INFO!$F97+COUNTRY_INFO!$G97)*$G97*$H97))),0)))","v":0},0,0,null,0,0,null,0,0,null,0]
[{"$f":"IF(AND(INTRO!$E$37=\"Non-endemic\",INTRO!$E$41=\"Non-endemic\"),\" \",IF(COUNTRY_INFO!A98=0,\" \",COUNTRY_INFO!A98))","v":"Tchad"},{"$f":"IF(AND(INTRO!$E$37=\"Non-endemic\",INTRO!$E$41=\"Non-endemic\"),\" \",IF(COUNTRY_INFO!B98=0,\" \",COUNTRY_INFO!B98))","v":"Moyen Chari"},{"$f":"IF(AND(INTRO!$E$37=\"Non-endemic\",INTRO!$E$41=\"Non-endemic\"),\" \",IF(COUNTRY_INFO!C98=0,\" \",COUNTRY_INFO!C98))","v":"Balimba"},{"$f":"IF(AND(INTRO!$E$37=\"Non-endemic\",INTRO!$E$41=\"Non-endemic\"),0,COUNTRY_INFO!W98)","v":1},{"$f":"IF(AND(INTRO!$E$37=\"Non-endemic\",INTRO!$E$41=\"Non-endemic\"),0,COUNTRY_INFO!Y98)","v":1},{"$f":"IF($D98=1,IVM!G98,0)","v":55884},{"$f":"IF($D98=0, \" \", IF(COUNTRY_INFO!$H98=1, IF(COUNTRY_INFO!$L98=1, 0,\" \"),\" \"))","v":" "},null,null,{"$f":"IF(OR(COUNTRY_INFO!O98=\"Unknown\",COUNTRY_INFO!O98=\"Surveillance\",COUNTRY_INFO!O98=\"Not required\",COUNTRY_INFO!O98=0),0,IF(INTRO!$E$39=\"Non-endemic\",IF(AND($E98<>0,$I98=\"\"),IF($F98=0,COUNTRY_INFO!O98*$E98,COUNTRY_INFO!O98*($E98-$D98)),IF(AND($E98<>0,$I98<>0),IF($F98=0,COUNTRY_INFO!O98*$I98,COUNTRY_INFO!O98*($I98-$D98)),0)),IF($I98=\"\",COUNTRY_INFO!O98*$E98,COUNTRY_INFO!O98*$I98)))","v":10081},{"$f":"MAX(0,IF(OR(COUNTRY_INFO!P98=\"Unknown\",COUNTRY_INFO!P98=\"Surveillance\",COUNTRY_INFO!P98=\"Not required\",COUNTRY_INFO!P98=0),0,IF($E98<>0,IF($D98=0,COUNTRY_INFO!P98*$E98,COUNTRY_INFO!P98*$E98-($F98*COUNTRY_INFO!$P98/(COUNTRY_INFO!$F98+COUNTRY_INFO!$G98)+IF($G98=\" \",0,COUNTRY_INFO!$P98/(COUNTRY_INFO!$F98+COUNTRY_INFO!$G98)*$G98*$H98))),0)))","v":0},null,{"$f":"MAX(0,IF(OR(COUNTRY_INFO!Q98=\"Unknown\",COUNTRY_INFO!Q98=\"Surveillance\",COUNTRY_INFO!Q98=\"Not required\",COUNTRY_INFO!Q98=0),0,IF($E98<>0,IF($D98=0,COUNTRY_INFO!Q98*MIN($E98,$L98),COUNTRY_INFO!Q98*MIN($E98,$L98)-($F98*COUNTRY_INFO!$Q98/(COUNTRY_INFO!$F98+COUNTRY_INFO!$G98)+IF($G98=\" \",0,COUNTRY_INFO!$Q98/(COUNTRY_INFO!$F98+COUNTRY_INFO!$G98)*$G98*$H98))),0)))","v":0},10081,55884,null,55884,0,null,0,10081,null,10081]
[{"$f":"IF(AND(INTRO!$E$37=\"Non-endemic\",INTRO!$E$41=\"Non-endemic\"),\" \",IF(COUNTRY_INFO!A99=0,\" \",COUNTRY_INFO!A99))","v":"Tchad"},{"$f":"IF(AND(INTRO!$E$37=\"Non-endemic\",INTRO!$E$41=\"Non-endemic\"),\" \",IF(COUNTRY_INFO!B99=0,\" \",COUNTRY_INFO!B99))","v":"Moyen Chari"},{"$f":"IF(AND(INTRO!$E$37=\"Non-endemic\",INTRO!$E$41=\"Non-endemic\"),\" \",IF(COUNTRY_INFO!C99=0,\" \",COUNTRY_INFO!C99))","v":"Biobe Singako"},{"$f":"IF(AND(INTRO!$E$37=\"Non-endemic\",INTRO!$E$41=\"Non-endemic\"),0,COUNTRY_INFO!W99)","v":0},{"$f":"IF(AND(INTRO!$E$37=\"Non-endemic\",INTRO!$E$41=\"Non-endemic\"),0,COUNTRY_INFO!Y99)","v":0},{"$f":"IF($D99=1,IVM!G99,0)","v":0},{"$f":"IF($D99=0, \" \", IF(COUNTRY_INFO!$H99=1, IF(COUNTRY_INFO!$L99=1, 0,\" \"),\" \"))","v":" "},null,null,{"$f":"IF(OR(COUNTRY_INFO!O99=\"Unknown\",COUNTRY_INFO!O99=\"Surveillance\",COUNTRY_INFO!O99=\"Not required\",COUNTRY_INFO!O99=0),0,IF(INTRO!$E$39=\"Non-endemic\",IF(AND($E99<>0,$I99=\"\"),IF($F99=0,COUNTRY_INFO!O99*$E99,COUNTRY_INFO!O99*($E99-$D99)),IF(AND($E99<>0,$I99<>0),IF($F99=0,COUNTRY_INFO!O99*$I99,COUNTRY_INFO!O99*($I99-$D99)),0)),IF($I99=\"\",COUNTRY_INFO!O99*$E99,COUNTRY_INFO!O99*$I99)))","v":0},{"$f":"MAX(0,IF(OR(COUNTRY_INFO!P99=\"Unknown\",COUNTRY_INFO!P99=\"Surveillance\",COUNTRY_INFO!P99=\"Not required\",COUNTRY_INFO!P99=0),0,IF($E99<>0,IF($D99=0,COUNTRY_INFO!P99*$E99,COUNTRY_INFO!P99*$E99-($F99*COUNTRY_INFO!$P99/(COUNTRY_INFO!$F99+COUNTRY_INFO!$G99)+IF($G99=\" \",0,COUNTRY_INFO!$P99/(COUNTRY_INFO!$F99+COUNTRY_INFO!$G99)*$G99*$H99))),0)))","v":0},null,{"$f":"MAX(0,IF(OR(COUNTRY_INFO!Q99=\"Unknown\",COUNTRY_INFO!Q99=\"Surveillance\",COUNTRY_INFO!Q99=\"Not required\",COUNTRY_INFO!Q99=0),0,IF($E99<>0,IF($D99=0,COUNTRY_INFO!Q99*MIN($E99,$L99),COUNTRY_INFO!Q99*MIN($E99,$L99)-($F99*COUNTRY_INFO!$Q99/(COUNTRY_INFO!$F99+COUNTRY_INFO!$G99)+IF($G99=\" \",0,COUNTRY_INFO!$Q99/(COUNTRY_INFO!$F99+COUNTRY_INFO!$G99)*$G99*$H99))),0)))","v":0},0,0,null,0,0,null,0,0,null,0]
[{"$f":"IF(AND(INTRO!$E$37=\"Non-endemic\",INTRO!$E$41=\"Non-endemic\"),\" \",IF(COUNTRY_INFO!A100=0,\" \",COUNTRY_INFO!A100))","v":"Tchad"},{"$f":"IF(AND(INTRO!$E$37=\"Non-endemic\",INTRO!$E$41=\"Non-endemic\"),\" \",IF(COUNTRY_INFO!B100=0,\" \",COUNTRY_INFO!B100))","v":"Moyen Chari"},{"$f":"IF(AND(INTRO!$E$37=\"Non-endemic\",INTRO!$E$41=\"Non-endemic\"),\" \",IF(COUNTRY_INFO!C100=0,\" \",COUNTRY_INFO!C100))","v":"Danamadji"},{"$f":"IF(AND(INTRO!$E$37=\"Non-endemic\",INTRO!$E$41=\"Non-endemic\"),0,COUNTRY_INFO!W100)","v":1},{"$f":"IF(AND(INTRO!$E$37=\"Non-endemic\",INTRO!$E$41=\"Non-endemic\"),0,COUNTRY_INFO!Y100)","v":0},{"$f":"IF($D100=1,IVM!G100,0)","v":108691},{"$f":"IF($D100=0, \" \", IF(COUNTRY_INFO!$H100=1, IF(COUNTRY_INFO!$L100=1, 0,\" \"),\" \"))","v":" "},null,null,{"$f":"IF(OR(COUNTRY_INFO!O100=\"Unknown\",COUNTRY_INFO!O100=\"Surveillance\",COUNTRY_INFO!O100=\"Not required\",COUNTRY_INFO!O100=0),0,IF(INTRO!$E$39=\"Non-endemic\",IF(AND($E100<>0,$I100=\"\"),IF($F100=0,COUNTRY_INFO!O100*$E100,COUNTRY_INFO!O100*($E100-$D100)),IF(AND($E100<>0,$I100<>0),IF($F100=0,COUNTRY_INFO!O100*$I100,COUNTRY_INFO!O100*($I100-$D100)),0)),IF($I100=\"\",COUNTRY_INFO!O100*$E100,COUNTRY_INFO!O100*$I100)))","v":0},{"$f":"MAX(0,IF(OR(COUNTRY_INFO!P100=\"Unknown\",COUNTRY_INFO!P100=\"Surveillance\",COUNTRY_INFO!P100=\"Not required\",COUNTRY_INFO!P100=0),0,IF($E100<>0,IF($D100=0,COUNTRY_INFO!P100*$E100,COUNTRY_INFO!P100*$E100-($F100*COUNTRY_INFO!$P100/(COUNTRY_INFO!$F100+COUNTRY_INFO!$G100)+IF($G100=\" \",0,COUNTRY_INFO!$P100/(COUNTRY_INFO!$F100+COUNTRY_INFO!$G100)*$G100*$H100))),0)))","v":0},null,{"$f":"MAX(0,IF(OR(COUNTRY_INFO!Q100=\"Unknown\",COUNTRY_INFO!Q100=\"Surveillance\",COUNTRY_INFO!Q100=\"Not required\",COUNTRY_INFO!Q100=0),0,IF($E100<>0,IF($D100=0,COUNTRY_INFO!Q100*MIN($E100,$L100),COUNTRY_INFO!Q100*MIN($E100,$L100)-($F100*COUNTRY_INFO!$Q100/(COUNTRY_INFO!$F100+COUNTRY_INFO!$G100)+IF($G100=\" \",0,COUNTRY_INFO!$Q100/(COUNTRY_INFO!$F100+COUNTRY_INFO!$G100)*$G100*$H100))),0)))","v":0},0,108691,null,108691,0,null,0,0,null,0]
[{"$f":"IF(AND(INTRO!$E$37=\"Non-endemic\",INTRO!$E$41=\"Non-endemic\"),\" \",IF(COUNTRY_INFO!A101=0,\" \",COUNTRY_INFO!A101))","v":"Tchad"},{"$f":"IF(AND(INTRO!$E$37=\"Non-endemic\",INTRO!$E$41=\"Non-endemic\"),\" \",IF(COUNTRY_INFO!B101=0,\" \",COUNTRY_INFO!B101))","v":"Moyen Chari"},{"$f":"IF(AND(INTRO!$E$37=\"Non-endemic\",INTRO!$E$41=\"Non-endemic\"),\" \",IF(COUNTRY_INFO!C101=0,\" \",COUNTRY_INFO!C101))","v":"Korbol"},{"$f":"IF(AND(INTRO!$E$37=\"Non-endemic\",INTRO!$E$41=\"Non-endemic\"),0,COUNTRY_INFO!W101)","v":1},{"$f":"IF(AND(INTRO!$E$37=\"Non-endemic\",INTRO!$E$41=\"Non-endemic\"),0,COUNTRY_INFO!Y101)","v":1},{"$f":"IF($D101=1,IVM!G101,0)","v":44933},{"$f":"IF($D101=0, \" \", IF(COUNTRY_INFO!$H101=1, IF(COUNTRY_INFO!$L101=1, 0,\" \"),\" \"))","v":" "},null,null,{"$f":"IF(OR(COUNTRY_INFO!O101=\"Unknown\",COUNTRY_INFO!O101=\"Surveillance\",COUNTRY_INFO!O101=\"Not required\",COUNTRY_INFO!O101=0),0,IF(INTRO!$E$39=\"Non-endemic\",IF(AND($E101<>0,$I101=\"\"),IF($F101=0,COUNTRY_INFO!O101*$E101,COUNTRY_INFO!O101*($E101-$D101)),IF(AND($E101<>0,$I101<>0),IF($F101=0,COUNTRY_INFO!O101*$I101,COUNTRY_INFO!O101*($I101-$D101)),0)),IF($I101=\"\",COUNTRY_INFO!O101*$E101,COUNTRY_INFO!O101*$I101)))","v":8105},{"$f":"MAX(0,IF(OR(COUNTRY_INFO!P101=\"Unknown\",COUNTRY_INFO!P101=\"Surveillance\",COUNTRY_INFO!P101=\"Not required\",COUNTRY_INFO!P101=0),0,IF($E101<>0,IF($D101=0,COUNTRY_INFO!P101*$E101,COUNTRY_INFO!P101*$E101-($F101*COUNTRY_INFO!$P101/(COUNTRY_INFO!$F101+COUNTRY_INFO!$G101)+IF($G101=\" \",0,COUNTRY_INFO!$P101/(COUNTRY_INFO!$F101+COUNTRY_INFO!$G101)*$G101*$H101))),0)))","v":0},null,{"$f":"MAX(0,IF(OR(COUNTRY_INFO!Q101=\"Unknown\",COUNTRY_INFO!Q101=\"Surveillance\",COUNTRY_INFO!Q101=\"Not required\",COUNTRY_INFO!Q101=0),0,IF($E101<>0,IF($D101=0,COUNTRY_INFO!Q101*MIN($E101,$L101),COUNTRY_INFO!Q101*MIN($E101,$L101)-($F101*COUNTRY_INFO!$Q101/(COUNTRY_INFO!$F101+COUNTRY_INFO!$G101)+IF($G101=\" \",0,COUNTRY_INFO!$Q101/(COUNTRY_INFO!$F101+COUNTRY_INFO!$G101)*$G101*$H101))),0)))","v":0},8105,44933,null,44933,0,null,0,8105,null,8105]
[{"$f":"IF(AND(INTRO!$E$37=\"Non-endemic\",INTRO!$E$41=\"Non-endemic\"),\" \",IF(COUNTRY_INFO!A102=0,\" \",COUNTRY_INFO!A102))","v":"Tchad"},{"$f":"IF(AND(INTRO!$E$37=\"Non-endemic\",INTRO!$E$41=\"Non-endemic\"),\" \",IF(COUNTRY_INFO!B102=0,\" \",COUNTRY_INFO!B102))","v":"Moyen Chari"},{"$f":"IF(AND(INTRO!$E$37=\"Non-endemic\",INTRO!$E$41=\"Non-endemic\"),\" \",IF(COUNTRY_INFO!C102=0,\" \",COUNTRY_INFO!C102))","v":"Koumogo"},{"$f":"IF(AND(INTRO!$E$37=\"Non-endemic\",INTRO!$E$41=\"Non-endemic\"),0,COUNTRY_INFO!W102)","v":1},{"$f":"IF(AND(INTRO!$E$37=\"Non-endemic\",INTRO!$E$41=\"Non-endemic\"),0,COUNTRY_INFO!Y102)","v":0},{"$f":"IF($D102=1,IVM!G102,0)","v":79206},{"$f":"IF($D102=0, \" \", IF(COUNTRY_INFO!$H102=1, IF(COUNTRY_INFO!$L102=1, 0,\" \"),\" \"))","v":" "},null,null,{"$f":"IF(OR(COUNTRY_INFO!O102=\"Unknown\",COUNTRY_INFO!O102=\"Surveillance\",COUNTRY_INFO!O102=\"Not required\",COUNTRY_INFO!O102=0),0,IF(INTRO!$E$39=\"Non-endemic\",IF(AND($E102<>0,$I102=\"\"),IF($F102=0,COUNTRY_INFO!O102*$E102,COUNTRY_INFO!O102*($E102-$D102)),IF(AND($E102<>0,$I102<>0),IF($F102=0,COUNTRY_INFO!O102*$I102,COUNTRY_INFO!O102*($I102-$D102)),0)),IF($I102=\"\",COUNTRY_INFO!O102*$E102,COUNTRY_INFO!O102*$I102)))","v":0},{"$f":"MAX(0,IF(OR(COUNTRY_INFO!P102=\"Unknown\",COUNTRY_INFO!P102=\"Surveillance\",COUNTRY_INFO!P102=\"Not required\",COUNTRY_INFO!P102=0),0,IF($E102<>0,IF($D102=0,COUNTRY_INFO!P102*$E102,COUNTRY_INFO!P102*$E102-($F102*COUNTRY_INFO!$P102/(COUNTRY_INFO!$F102+COUNTRY_INFO!$G102)+IF($G102=\" \",0,COUNTRY_INFO!$P102/(COUNTRY_INFO!$F102+COUNTRY_INFO!$G102)*$G102*$H102))),0)))","v":0},null,{"$f":"MAX(0,IF(OR(COUNTRY_INFO!Q102=\"Unknown\",COUNTRY_INFO!Q102=\"Surveillance\",COUNTRY_INFO!Q102=\"Not required\",COUNTRY_INFO!Q102=0),0,IF($E102<>0,IF($D102=0,COUNTRY_INFO!Q102*MIN($E102,$L102),COUNTRY_INFO!Q102*MIN($E102,$L102)-($F102*COUNTRY_INFO!$Q102/(COUNTRY_INFO!$F102+COUNTRY_INFO!$G102)+IF($G102=\" \",0,COUNTRY_INFO!$Q102/(COUNTRY_INFO!$F102+COUNTRY_INFO!$G102)*$G102*$H102))),0)))","v":0},0,79206,null,79206,0,null,0,0,null,0]
[{"$f":"IF(AND(INTRO!$E$37=\"Non-endemic\",INTRO!$E$41=\"Non-endemic\"),\" \",IF(COUNTRY_INFO!A103=0,\" \",COUNTRY_INFO!A103))","v":"Tchad"},{"$f":"IF(AND(INTRO!$E$37=\"Non-endemic\",INTRO!$E$41=\"Non-endemic\"),\" \",IF(COUNTRY_INFO!B103=0,\" \",COUNTRY_INFO!B103))","v":"Moyen Chari"},{"$f":"IF(AND(INTRO!$E$37=\"Non-endemic\",INTRO!$E$41=\"Non-endemic\"),\" \",IF(COUNTRY_INFO!C103=0,\" \",COUNTRY_INFO!C103))","v":"Kyabe"},{"$f":"IF(AND(INTRO!$E$37=\"Non-endemic\",INTRO!$E$41=\"Non-endemic\"),0,COUNTRY_INFO!W103)","v":0},{"$f":"IF(AND(INTRO!$E$37=\"Non-endemic\",INTRO!$E$41=\"Non-endemic\"),0,COUNTRY_INFO!Y103)","v":0},{"$f":"IF($D103=1,IVM!G103,0)","v":0},{"$f":"IF($D103=0, \" \", IF(COUNTRY_INFO!$H103=1, IF(COUNTRY_INFO!$L103=1, 0,\" \"),\" \"))","v":" "},null,null,{"$f":"IF(OR(COUNTRY_INFO!O103=\"Unknown\",COUNTRY_INFO!O103=\"Surveillance\",COUNTRY_INFO!O103=\"Not required\",COUNTRY_INFO!O103=0),0,IF(INTRO!$E$39=\"Non-endemic\",IF(AND($E103<>0,$I103=\"\"),IF($F103=0,COUNTRY_INFO!O103*$E103,COUNTRY_INFO!O103*($E103-$D103)),IF(AND($E103<>0,$I103<>0),IF($F103=0,COUNTRY_INFO!O103*$I103,COUNTRY_INFO!O103*($I103-$D103)),0)),IF($I103=\"\",COUNTRY_INFO!O103*$E103,COUNTRY_INFO!O103*$I103)))","v":0},{"$f":"MAX(0,IF(OR(COUNTRY_INFO!P103=\"Unknown\",COUNTRY_INFO!P103=\"Surveillance\",COUNTRY_INFO!P103=\"Not required\",COUNTRY_INFO!P103=0),0,IF($E103<>0,IF($D103=0,COUNTRY_INFO!P103*$E103,COUNTRY_INFO!P103*$E103-($F103*COUNTRY_INFO!$P103/(COUNTRY_INFO!$F103+COUNTRY_INFO!$G103)+IF($G103=\" \",0,COUNTRY_INFO!$P103/(COUNTRY_INFO!$F103+COUNTRY_INFO!$G103)*$G103*$H103))),0)))","v":0},null,{"$f":"MAX(0,IF(OR(COUNTRY_INFO!Q103=\"Unknown\",COUNTRY_INFO!Q103=\"Surveillance\",COUNTRY_INFO!Q103=\"Not required\",COUNTRY_INFO!Q103=0),0,IF($E103<>0,IF($D103=0,COUNTRY_INFO!Q103*MIN($E103,$L103),COUNTRY_INFO!Q103*MIN($E103,$L103)-($F103*COUNTRY_INFO!$Q103/(COUNTRY_INFO!$F103+COUNTRY_INFO!$G103)+IF($G103=\" \",0,COUNTRY_INFO!$Q103/(COUNTRY_INFO!$F103+COUNTRY_INFO!$G103)*$G103*$H103))),0)))","v":0},0,0,null,0,0,null,0,0,null,0]
[{"$f":"IF(AND(INTRO!$E$37=\"Non-endemic\",INTRO!$E$41=\"Non-endemic\"),\" \",IF(COUNTRY_INFO!A104=0,\" \",COUNTRY_INFO!A104))","v":"Tchad"},{"$f":"IF(AND(INTRO!$E$37=\"Non-endemic\",INTRO!$E$41=\"Non-endemic\"),\" \",IF(COUNTRY_INFO!B104=0,\" \",COUNTRY_INFO!B104))","v":"Moyen Chari"},{"$f":"IF(AND(INTRO!$E$37=\"Non-endemic\",INTRO!$E$41=\"Non-endemic\"),\" \",IF(COUNTRY_INFO!C104=0,\" \",COUNTRY_INFO!C104))","v":"Maro"},{"$f":"IF(AND(INTRO!$E$37=\"Non-endemic\",INTRO!$E$41=\"Non-endemic\"),0,COUNTRY_INFO!W104)","v":1},{"$f":"IF(AND(INTRO!$E$37=\"Non-endemic\",INTRO!$E$41=\"Non-endemic\"),0,COUNTRY_INFO!Y104)","v":0},{"$f":"IF($D104=1,IVM!G104,0)","v":105848},{"$f":"IF($D104=0, \" \", IF(COUNTRY_INFO!$H104=1, IF(COUNTRY_INFO!$L104=1, 0,\" \"),\" \"))","v":" "},null,null,{"$f":"IF(OR(COUNTRY_INFO!O104=\"Unknown\",COUNTRY_INFO!O104=\"Surveillance\",COUNTRY_INFO!O104=\"Not required\",COUNTRY_INFO!O104=0),0,IF(INTRO!$E$39=\"Non-endemic\",IF(AND($E104<>0,$I104=\"\"),IF($F104=0,COUNTRY_INFO!O104*$E104,COUNTRY_INFO!O104*($E104-$D104)),IF(AND($E104<>0,$I104<>0),IF($F104=0,COUNTRY_INFO!O104*$I104,COUNTRY_INFO!O104*($I104-$D104)),0)),IF($I104=\"\",COUNTRY_INFO!O104*$E104,COUNTRY_INFO!O104*$I104)))","v":0},{"$f":"MAX(0,IF(OR(COUNTRY_INFO!P104=\"Unknown\",COUNTRY_INFO!P104=\"Surveillance\",COUNTRY_INFO!P104=\"Not required\",COUNTRY_INFO!P104=0),0,IF($E104<>0,IF($D104=0,COUNTRY_INFO!P104*$E104,COUNTRY_INFO!P104*$E104-($F104*COUNTRY_INFO!$P104/(COUNTRY_INFO!$F104+COUNTRY_INFO!$G104)+IF($G104=\" \",0,COUNTRY_INFO!$P104/(COUNTRY_INFO!$F104+COUNTRY_INFO!$G104)*$G104*$H104))),0)))","v":0},null,{"$f":"MAX(0,IF(OR(COUNTRY_INFO!Q104=\"Unknown\",COUNTRY_INFO!Q104=\"Surveillance\",COUNTRY_INFO!Q104=\"Not required\",COUNTRY_INFO!Q104=0),0,IF($E104<>0,IF($D104=0,COUNTRY_INFO!Q104*MIN($E104,$L104),COUNTRY_INFO!Q104*MIN($E104,$L104)-($F104*COUNTRY_INFO!$Q104/(COUNTRY_INFO!$F104+COUNTRY_INFO!$G104)+IF($G104=\" \",0,COUNTRY_INFO!$Q104/(COUNTRY_INFO!$F104+COUNTRY_INFO!$G104)*$G104*$H104))),0)))","v":0},0,105848,null,105848,0,null,0,0,null,0]
[{"$f":"IF(AND(INTRO!$E$37=\"Non-endemic\",INTRO!$E$41=\"Non-endemic\"),\" \",IF(COUNTRY_INFO!A105=0,\" \",COUNTRY_INFO!A105))","v":"Tchad"},{"$f":"IF(AND(INTRO!$E$37=\"Non-endemic\",INTRO!$E$41=\"Non-endemic\"),\" \",IF(COUNTRY_INFO!B105=0,\" \",COUNTRY_INFO!B105))","v":"Moyen Chari"},{"$f":"IF(AND(INTRO!$E$37=\"Non-endemic\",INTRO!$E$41=\"Non-endemic\"),\" \",IF(COUNTRY_INFO!C105=0,\" \",COUNTRY_INFO!C105))","v":"Sarh"},{"$f":"IF(AND(INTRO!$E$37=\"Non-endemic\",INTRO!$E$41=\"Non-endemic\"),0,COUNTRY_INFO!W105)","v":0},{"$f":"IF(AND(INTRO!$E$37=\"Non-endemic\",INTRO!$E$41=\"Non-endemic\"),0,COUNTRY_INFO!Y105)","v":1},{"$f":"IF($D105=1,IVM!G105,0)","v":0},{"$f":"IF($D105=0, \" \", IF(COUNTRY_INFO!$H105=1, IF(COUNTRY_INFO!$L105=1, 0,\" \"),\" \"))","v":" "},null,null,{"$f":"IF(OR(COUNTRY_INFO!O105=\"Unknown\",COUNTRY_INFO!O105=\"Surveillance\",COUNTRY_INFO!O105=\"Not required\",COUNTRY_INFO!O105=0),0,IF(INTRO!$E$39=\"Non-endemic\",IF(AND($E105<>0,$I105=\"\"),IF($F105=0,COUNTRY_INFO!O105*$E105,COUNTRY_INFO!O105*($E105-$D105)),IF(AND($E105<>0,$I105<>0),IF($F105=0,COUNTRY_INFO!O105*$I105,COUNTRY_INFO!O105*($I105-$D105)),0)),IF($I105=\"\",COUNTRY_INFO!O105*$E105,COUNTRY_INFO!O105*$I105)))","v":33323},{"$f":"MAX(0,IF(OR(COUNTRY_INFO!P105=\"Unknown\",COUNTRY_INFO!P105=\"Surveillance\",COUNTRY_INFO!P105=\"Not required\",COUNTRY_INFO!P105=0),0,IF($E105<>0,IF($D105=0,COUNTRY_INFO!P105*$E105,COUNTRY_INFO!P105*$E105-($F105*COUNTRY_INFO!$P105/(COUNTRY_INFO!$F105+COUNTRY_INFO!$G105)+IF($G105=\" \",0,COUNTRY_INFO!$P105/(COUNTRY_INFO!$F105+COUNTRY_INFO!$G105)*$G105*$H105))),0)))","v":65760},null,{"$f":"MAX(0,IF(OR(COUNTRY_INFO!Q105=\"Unknown\",COUNTRY_INFO!Q105=\"Surveillance\",COUNTRY_INFO!Q105=\"Not required\",COUNTRY_INFO!Q105=0),0,IF($E105<>0,IF($D105=0,COUNTRY_INFO!Q105*MIN($E105,$L105),COUNTRY_INFO!Q105*MIN($E105,$L105)-($F105*COUNTRY_INFO!$Q105/(COUNTRY_INFO!$F105+COUNTRY_INFO!$G105)+IF($G105=\" \",0,COUNTRY_INFO!$Q105/(COUNTRY_INFO!$F105+COUNTRY_INFO!$G105)*$G105*$H105))),0)))","v":50436},149519,0,null,0,116196,null,116196,33323,null,33323]
[{"$f":"IF(AND(INTRO!$E$37=\"Non-endemic\",INTRO!$E$41=\"Non-endemic\"),\" \",IF(COUNTRY_INFO!A106=0,\" \",COUNTRY_INFO!A106))","v":"Tchad"},{"$f":"IF(AND(INTRO!$E$37=\"Non-endemic\",INTRO!$E$41=\"Non-endemic\"),\" \",IF(COUNTRY_INFO!B106=0,\" \",COUNTRY_INFO!B106))","v":"N'Djaména"},{"$f":"IF(AND(INTRO!$E$37=\"Non-endemic\",INTRO!$E$41=\"Non-endemic\"),\" \",IF(COUNTRY_INFO!C106=0,\" \",COUNTRY_INFO!C106))","v":"N'Djaména Centre"},{"$f":"IF(AND(INTRO!$E$37=\"Non-endemic\",INTRO!$E$41=\"Non-endemic\"),0,COUNTRY_INFO!W106)","v":0},{"$f":"IF(AND(INTRO!$E$37=\"Non-endemic\",INTRO!$E$41=\"Non-endemic\"),0,COUNTRY_INFO!Y106)","v":0},{"$f":"IF($D106=1,IVM!G106,0)","v":0},{"$f":"IF($D106=0, \" \", IF(COUNTRY_INFO!$H106=1, IF(COUNTRY_INFO!$L106=1, 0,\" \"),\" \"))","v":" "},null,null,{"$f":"IF(OR(COUNTRY_INFO!O106=\"Unknown\",COUNTRY_INFO!O106=\"Surveillance\",COUNTRY_INFO!O106=\"Not required\",COUNTRY_INFO!O106=0),0,IF(INTRO!$E$39=\"Non-endemic\",IF(AND($E106<>0,$I106=\"\"),IF($F106=0,COUNTRY_INFO!O106*$E106,COUNTRY_INFO!O106*($E106-$D106)),IF(AND($E106<>0,$I106<>0),IF($F106=0,COUNTRY_INFO!O106*$I106,COUNTRY_INFO!O106*($I106-$D106)),0)),IF($I106=\"\",COUNTRY_INFO!O106*$E106,COUNTRY_INFO!O106*$I106)))","v":0},{"$f":"MAX(0,IF(OR(COUNTRY_INFO!P106=\"Unknown\",COUNTRY_INFO!P106=\"Surveillance\",COUNTRY_INFO!P106=\"Not required\",COUNTRY_INFO!P106=0),0,IF($E106<>0,IF($D106=0,COUNTRY_INFO!P106*$E106,COUNTRY_INFO!P106*$E106-($F106*COUNTRY_INFO!$P106/(COUNTRY_INFO!$F106+COUNTRY_INFO!$G106)+IF($G106=\" \",0,COUNTRY_INFO!$P106/(COUNTRY_INFO!$F106+COUNTRY_INFO!$G106)*$G106*$H106))),0)))","v":0},null,{"$f":"MAX(0,IF(OR(COUNTRY_INFO!Q106=\"Unknown\",COUNTRY_INFO!Q106=\"Surveillance\",COUNTRY_INFO!Q106=\"Not required\",COUNTRY_INFO!Q106=0),0,IF($E106<>0,IF($D106=0,COUNTRY_INFO!Q106*MIN($E106,$L106),COUNTRY_INFO!Q106*MIN($E106,$L106)-($F106*COUNTRY_INFO!$Q106/(COUNTRY_INFO!$F106+COUNTRY_INFO!$G106)+IF($G106=\" \",0,COUNTRY_INFO!$Q106/(COUNTRY_INFO!$F106+COUNTRY_INFO!$G106)*$G106*$H106))),0)))","v":0},0,0,null,0,0,null,0,0,null,0]
[{"$f":"IF(AND(INTRO!$E$37=\"Non-endemic\",INTRO!$E$41=\"Non-endemic\"),\" \",IF(COUNTRY_INFO!A107=0,\" \",COUNTRY_INFO!A107))","v":"Tchad"},{"$f":"IF(AND(INTRO!$E$37=\"Non-endemic\",INTRO!$E$41=\"Non-endemic\"),\" \",IF(COUNTRY_INFO!B107=0,\" \",COUNTRY_INFO!B107))","v":"N'Djaména"},{"$f":"IF(AND(INTRO!$E$37=\"Non-endemic\",INTRO!$E$41=\"Non-endemic\"),\" \",IF(COUNTRY_INFO!C107=0,\" \",COUNTRY_INFO!C107))","v":"N'Djaména Est"},{"$f":"IF(AND(INTRO!$E$37=\"Non-endemic\",INTRO!$E$41=\"Non-endemic\"),0,COUNTRY_INFO!W107)","v":0},{"$f":"IF(AND(INTRO!$E$37=\"Non-endemic\",INTRO!$E$41=\"Non-endemic\"),0,COUNTRY_INFO!Y107)","v":0},{"$f":"IF($D107=1,IVM!G107,0)","v":0},{"$f":"IF($D107=0, \" \", IF(COUNTRY_INFO!$H107=1, IF(COUNTRY_INFO!$L107=1, 0,\" \"),\" \"))","v":" "},null,null,{"$f":"IF(OR(COUNTRY_INFO!O107=\"Unknown\",COUNTRY_INFO!O107=\"Surveillance\",COUNTRY_INFO!O107=\"Not required\",COUNTRY_INFO!O107=0),0,IF(INTRO!$E$39=\"Non-endemic\",IF(AND($E107<>0,$I107=\"\"),IF($F107=0,COUNTRY_INFO!O107*$E107,COUNTRY_INFO!O107*($E107-$D107)),IF(AND($E107<>0,$I107<>0),IF($F107=0,COUNTRY_INFO!O107*$I107,COUNTRY_INFO!O107*($I107-$D107)),0)),IF($I107=\"\",COUNTRY_INFO!O107*$E107,COUNTRY_INFO!O107*$I107)))","v":0},{"$f":"MAX(0,IF(OR(COUNTRY_INFO!P107=\"Unknown\",COUNTRY_INFO!P107=\"Surveillance\",COUNTRY_INFO!P107=\"Not required\",COUNTRY_INFO!P107=0),0,IF($E107<>0,IF($D107=0,COUNTRY_INFO!P107*$E107,COUNTRY_INFO!P107*$E107-($F107*COUNTRY_INFO!$P107/(COUNTRY_INFO!$F107+COUNTRY_INFO!$G107)+IF($G107=\" \",0,COUNTRY_INFO!$P107/(COUNTRY_INFO!$F107+COUNTRY_INFO!$G107)*$G107*$H107))),0)))","v":0},null,{"$f":"MAX(0,IF(OR(COUNTRY_INFO!Q107=\"Unknown\",COUNTRY_INFO!Q107=\"Surveillance\",COUNTRY_INFO!Q107=\"Not required\",COUNTRY_INFO!Q107=0),0,IF($E107<>0,IF($D107=0,COUNTRY_INFO!Q107*MIN($E107,$L107),COUNTRY_INFO!Q107*MIN($E107,$L107)-($F107*COUNTRY_INFO!$Q107/(COUNTRY_INFO!$F107+COUNTRY_INFO!$G107)+IF($G107=\" \",0,COUNTRY_INFO!$Q107/(COUNTRY_INFO!$F107+COUNTRY_INFO!$G107)*$G107*$H107))),0)))","v":0},0,0,null,0,0,null,0,0,null,0]
[{"$f":"IF(AND(INTRO!$E$37=\"Non-endemic\",INTRO!$E$41=\"Non-endemic\"),\" \",IF(COUNTRY_INFO!A108=0,\" \",COUNTRY_INFO!A108))","v":"Tchad"},{"$f":"IF(AND(INTRO!$E$37=\"Non-endemic\",INTRO!$E$41=\"Non-endemic\"),\" \",IF(COUNTRY_INFO!B108=0,\" \",COUNTRY_INFO!B108))","v":"N'Djaména"},{"$f":"IF(AND(INTRO!$E$37=\"Non-endemic\",INTRO!$E$41=\"Non-endemic\"),\" \",IF(COUNTRY_INFO!C108=0,\" \",COUNTRY_INFO!C108))","v":"N'Djaména Nord"},{"$f":"IF(AND(INTRO!$E$37=\"Non-endemic\",INTRO!$E$41=\"Non-endemic\"),0,COUNTRY_INFO!W108)","v":0},{"$f":"IF(AND(INTRO!$E$37=\"Non-endemic\",INTRO!$E$41=\"Non-endemic\"),0,COUNTRY_INFO!Y108)","v":0},{"$f":"IF($D108=1,IVM!G108,0)","v":0},{"$f":"IF($D108=0, \" \", IF(COUNTRY_INFO!$H108=1, IF(COUNTRY_INFO!$L108=1, 0,\" \"),\" \"))","v":" "},null,null,{"$f":"IF(OR(COUNTRY_INFO!O108=\"Unknown\",COUNTRY_INFO!O108=\"Surveillance\",COUNTRY_INFO!O108=\"Not required\",COUNTRY_INFO!O108=0),0,IF(INTRO!$E$39=\"Non-endemic\",IF(AND($E108<>0,$I108=\"\"),IF($F108=0,COUNTRY_INFO!O108*$E108,COUNTRY_INFO!O108*($E108-$D108)),IF(AND($E108<>0,$I108<>0),IF($F108=0,COUNTRY_INFO!O108*$I108,COUNTRY_INFO!O108*($I108-$D108)),0)),IF($I108=\"\",COUNTRY_INFO!O108*$E108,COUNTRY_INFO!O108*$I108)))","v":0},{"$f":"MAX(0,IF(OR(COUNTRY_INFO!P108=\"Unknown\",COUNTRY_INFO!P108=\"Surveillance\",COUNTRY_INFO!P108=\"Not required\",COUNTRY_INFO!P108=0),0,IF($E108<>0,IF($D108=0,COUNTRY_INFO!P108*$E108,COUNTRY_INFO!P108*$E108-($F108*COUNTRY_INFO!$P108/(COUNTRY_INFO!$F108+COUNTRY_INFO!$G108)+IF($G108=\" \",0,COUNTRY_INFO!$P108/(COUNTRY_INFO!$F108+COUNTRY_INFO!$G108)*$G108*$H108))),0)))","v":0},null,{"$f":"MAX(0,IF(OR(COUNTRY_INFO!Q108=\"Unknown\",COUNTRY_INFO!Q108=\"Surveillance\",COUNTRY_INFO!Q108=\"Not required\",COUNTRY_INFO!Q108=0),0,IF($E108<>0,IF($D108=0,COUNTRY_INFO!Q108*MIN($E108,$L108),COUNTRY_INFO!Q108*MIN($E108,$L108)-($F108*COUNTRY_INFO!$Q108/(COUNTRY_INFO!$F108+COUNTRY_INFO!$G108)+IF($G108=\" \",0,COUNTRY_INFO!$Q108/(COUNTRY_INFO!$F108+COUNTRY_INFO!$G108)*$G108*$H108))),0)))","v":0},0,0,null,0,0,null,0,0,null,0]
[{"$f":"IF(AND(INTRO!$E$37=\"Non-endemic\",INTRO!$E$41=\"Non-endemic\"),\" \",IF(COUNTRY_INFO!A109=0,\" \",COUNTRY_INFO!A109))","v":"Tchad"},{"$f":"IF(AND(INTRO!$E$37=\"Non-endemic\",INTRO!$E$41=\"Non-endemic\"),\" \",IF(COUNTRY_INFO!B109=0,\" \",COUNTRY_INFO!B109))","v":"N'Djaména"},{"$f":"IF(AND(INTRO!$E$37=\"Non-endemic\",INTRO!$E$41=\"Non-endemic\"),\" \",IF(COUNTRY_INFO!C109=0,\" \",COUNTRY_INFO!C109))","v":"N'Djaména Sud"},{"$f":"IF(AND(INTRO!$E$37=\"Non-endemic\",INTRO!$E$41=\"Non-endemic\"),0,COUNTRY_INFO!W109)","v":0},{"$f":"IF(AND(INTRO!$E$37=\"Non-endemic\",INTRO!$E$41=\"Non-endemic\"),0,COUNTRY_INFO!Y109)","v":0},{"$f":"IF($D109=1,IVM!G109,0)","v":0},{"$f":"IF($D109=0, \" \", IF(COUNTRY_INFO!$H109=1, IF(COUNTRY_INFO!$L109=1, 0,\" \"),\" \"))","v":" "},null,null,{"$f":"IF(OR(COUNTRY_INFO!O109=\"Unknown\",COUNTRY_INFO!O109=\"Surveillance\",COUNTRY_INFO!O109=\"Not required\",COUNTRY_INFO!O109=0),0,IF(INTRO!$E$39=\"Non-endemic\",IF(AND($E109<>0,$I109=\"\"),IF($F109=0,COUNTRY_INFO!O109*$E109,COUNTRY_INFO!O109*($E109-$D109)),IF(AND($E109<>0,$I109<>0),IF($F109=0,COUNTRY_INFO!O109*$I109,COUNTRY_INFO!O109*($I109-$D109)),0)),IF($I109=\"\",COUNTRY_INFO!O109*$E109,COUNTRY_INFO!O109*$I109)))","v":0},{"$f":"MAX(0,IF(OR(COUNTRY_INFO!P109=\"Unknown\",COUNTRY_INFO!P109=\"Surveillance\",COUNTRY_INFO!P109=\"Not required\",COUNTRY_INFO!P109=0),0,IF($E109<>0,IF($D109=0,COUNTRY_INFO!P109*$E109,COUNTRY_INFO!P109*$E109-($F109*COUNTRY_INFO!$P109/(COUNTRY_INFO!$F109+COUNTRY_INFO!$G109)+IF($G109=\" \",0,COUNTRY_INFO!$P109/(COUNTRY_INFO!$F109+COUNTRY_INFO!$G109)*$G109*$H109))),0)))","v":0},null,{"$f":"MAX(0,IF(OR(COUNTRY_INFO!Q109=\"Unknown\",COUNTRY_INFO!Q109=\"Surveillance\",COUNTRY_INFO!Q109=\"Not required\",COUNTRY_INFO!Q109=0),0,IF($E109<>0,IF($D109=0,COUNTRY_INFO!Q109*MIN($E109,$L109),COUNTRY_INFO!Q109*MIN($E109,$L109)-($F109*COUNTRY_INFO!$Q109/(COUNTRY_INFO!$F109+COUNTRY_INFO!$G109)+IF($G109=\" \",0,COUNTRY_INFO!$Q109/(COUNTRY_INFO!$F109+COUNTRY_INFO!$G109)*$G109*$H109))),0)))","v":0},0,0,null,0,0,null,0,0,null,0]
[{"$f":"IF(AND(INTRO!$E$37=\"Non-endemic\",INTRO!$E$41=\"Non-endemic\"),\" \",IF(COUNTRY_INFO!A110=0,\" \",COUNTRY_INFO!A110))","v":"Tchad"},{"$f":"IF(AND(INTRO!$E$37=\"Non-endemic\",INTRO!$E$41=\"Non-endemic\"),\" \",IF(COUNTRY_INFO!B110=0,\" \",COUNTRY_INFO!B110))","v":"N'Djamena"},{"$f":"IF(AND(INTRO!$E$37=\"Non-endemic\",INTRO!$E$41=\"Non-endemic\"),\" \",IF(COUNTRY_INFO!C110=0,\" \",COUNTRY_INFO!C110))","v":"9eme Arrondissement"},{"$f":"IF(AND(INTRO!$E$37=\"Non-endemic\",INTRO!$E$41=\"Non-endemic\"),0,COUNTRY_INFO!W110)","v":0},{"$f":"IF(AND(INTRO!$E$37=\"Non-endemic\",INTRO!$E$41=\"Non-endemic\"),0,COUNTRY_INFO!Y110)","v":0},{"$f":"IF($D110=1,IVM!G110,0)","v":0},{"$f":"IF($D110=0, \" \", IF(COUNTRY_INFO!$H110=1, IF(COUNTRY_INFO!$L110=1, 0,\" \"),\" \"))","v":" "},null,null,{"$f":"IF(OR(COUNTRY_INFO!O110=\"Unknown\",COUNTRY_INFO!O110=\"Surveillance\",COUNTRY_INFO!O110=\"Not required\",COUNTRY_INFO!O110=0),0,IF(INTRO!$E$39=\"Non-endemic\",IF(AND($E110<>0,$I110=\"\"),IF($F110=0,COUNTRY_INFO!O110*$E110,COUNTRY_INFO!O110*($E110-$D110)),IF(AND($E110<>0,$I110<>0),IF($F110=0,COUNTRY_INFO!O110*$I110,COUNTRY_INFO!O110*($I110-$D110)),0)),IF($I110=\"\",COUNTRY_INFO!O110*$E110,COUNTRY_INFO!O110*$I110)))","v":0},{"$f":"MAX(0,IF(OR(COUNTRY_INFO!P110=\"Unknown\",COUNTRY_INFO!P110=\"Surveillance\",COUNTRY_INFO!P110=\"Not required\",COUNTRY_INFO!P110=0),0,IF($E110<>0,IF($D110=0,COUNTRY_INFO!P110*$E110,COUNTRY_INFO!P110*$E110-($F110*COUNTRY_INFO!$P110/(COUNTRY_INFO!$F110+COUNTRY_INFO!$G110)+IF($G110=\" \",0,COUNTRY_INFO!$P110/(COUNTRY_INFO!$F110+COUNTRY_INFO!$G110)*$G110*$H110))),0)))","v":0},null,{"$f":"MAX(0,IF(OR(COUNTRY_INFO!Q110=\"Unknown\",COUNTRY_INFO!Q110=\"Surveillance\",COUNTRY_INFO!Q110=\"Not required\",COUNTRY_INFO!Q110=0),0,IF($E110<>0,IF($D110=0,COUNTRY_INFO!Q110*MIN($E110,$L110),COUNTRY_INFO!Q110*MIN($E110,$L110)-($F110*COUNTRY_INFO!$Q110/(COUNTRY_INFO!$F110+COUNTRY_INFO!$G110)+IF($G110=\" \",0,COUNTRY_INFO!$Q110/(COUNTRY_INFO!$F110+COUNTRY_INFO!$G110)*$G110*$H110))),0)))","v":0},0,0,null,0,0,null,0,0,null,0]
[{"$f":"IF(AND(INTRO!$E$37=\"Non-endemic\",INTRO!$E$41=\"Non-endemic\"),\" \",IF(COUNTRY_INFO!A111=0,\" \",COUNTRY_INFO!A111))","v":"Tchad"},{"$f":"IF(AND(INTRO!$E$37=\"Non-endemic\",INTRO!$E$41=\"Non-endemic\"),\" \",IF(COUNTRY_INFO!B111=0,\" \",COUNTRY_INFO!B111))","v":"Ouaddai"},{"$f":"IF(AND(INTRO!$E$37=\"Non-endemic\",INTRO!$E$41=\"Non-endemic\"),\" \",IF(COUNTRY_INFO!C111=0,\" \",COUNTRY_INFO!C111))","v":"Abdi"},{"$f":"IF(AND(INTRO!$E$37=\"Non-endemic\",INTRO!$E$41=\"Non-endemic\"),0,COUNTRY_INFO!W111)","v":0},{"$f":"IF(AND(INTRO!$E$37=\"Non-endemic\",INTRO!$E$41=\"Non-endemic\"),0,COUNTRY_INFO!Y111)","v":0},{"$f":"IF($D111=1,IVM!G111,0)","v":0},{"$f":"IF($D111=0, \" \", IF(COUNTRY_INFO!$H111=1, IF(COUNTRY_INFO!$L111=1, 0,\" \"),\" \"))","v":" "},null,null,{"$f":"IF(OR(COUNTRY_INFO!O111=\"Unknown\",COUNTRY_INFO!O111=\"Surveillance\",COUNTRY_INFO!O111=\"Not required\",COUNTRY_INFO!O111=0),0,IF(INTRO!$E$39=\"Non-endemic\",IF(AND($E111<>0,$I111=\"\"),IF($F111=0,COUNTRY_INFO!O111*$E111,COUNTRY_INFO!O111*($E111-$D111)),IF(AND($E111<>0,$I111<>0),IF($F111=0,COUNTRY_INFO!O111*$I111,COUNTRY_INFO!O111*($I111-$D111)),0)),IF($I111=\"\",COUNTRY_INFO!O111*$E111,COUNTRY_INFO!O111*$I111)))","v":0},{"$f":"MAX(0,IF(OR(COUNTRY_INFO!P111=\"Unknown\",COUNTRY_INFO!P111=\"Surveillance\",COUNTRY_INFO!P111=\"Not required\",COUNTRY_INFO!P111=0),0,IF($E111<>0,IF($D111=0,COUNTRY_INFO!P111*$E111,COUNTRY_INFO!P111*$E111-($F111*COUNTRY_INFO!$P111/(COUNTRY_INFO!$F111+COUNTRY_INFO!$G111)+IF($G111=\" \",0,COUNTRY_INFO!$P111/(COUNTRY_INFO!$F111+COUNTRY_INFO!$G111)*$G111*$H111))),0)))","v":0},null,{"$f":"MAX(0,IF(OR(COUNTRY_INFO!Q111=\"Unknown\",COUNTRY_INFO!Q111=\"Surveillance\",COUNTRY_INFO!Q111=\"Not required\",COUNTRY_INFO!Q111=0),0,IF($E111<>0,IF($D111=0,COUNTRY_INFO!Q111*MIN($E111,$L111),COUNTRY_INFO!Q111*MIN($E111,$L111)-($F111*COUNTRY_INFO!$Q111/(COUNTRY_INFO!$F111+COUNTRY_INFO!$G111)+IF($G111=\" \",0,COUNTRY_INFO!$Q111/(COUNTRY_INFO!$F111+COUNTRY_INFO!$G111)*$G111*$H111))),0)))","v":0},0,0,null,0,0,null,0,0,null,0]
[{"$f":"IF(AND(INTRO!$E$37=\"Non-endemic\",INTRO!$E$41=\"Non-endemic\"),\" \",IF(COUNTRY_INFO!A112=0,\" \",COUNTRY_INFO!A112))","v":"Tchad"},{"$f":"IF(AND(INTRO!$E$37=\"Non-endemic\",INTRO!$E$41=\"Non-endemic\"),\" \",IF(COUNTRY_INFO!B112=0,\" \",COUNTRY_INFO!B112))","v":"Ouaddai"},{"$f":"IF(AND(INTRO!$E$37=\"Non-endemic\",INTRO!$E$41=\"Non-endemic\"),\" \",IF(COUNTRY_INFO!C112=0,\" \",COUNTRY_INFO!C112))","v":"Abeche"},{"$f":"IF(AND(INTRO!$E$37=\"Non-endemic\",INTRO!$E$41=\"Non-endemic\"),0,COUNTRY_INFO!W112)","v":0},{"$f":"IF(AND(INTRO!$E$37=\"Non-endemic\",INTRO!$E$41=\"Non-endemic\"),0,COUNTRY_INFO!Y112)","v":0},{"$f":"IF($D112=1,IVM!G112,0)","v":0},{"$f":"IF($D112=0, \" \", IF(COUNTRY_INFO!$H112=1, IF(COUNTRY_INFO!$L112=1, 0,\" \"),\" \"))","v":" "},null,null,{"$f":"IF(OR(COUNTRY_INFO!O112=\"Unknown\",COUNTRY_INFO!O112=\"Surveillance\",COUNTRY_INFO!O112=\"Not required\",COUNTRY_INFO!O112=0),0,IF(INTRO!$E$39=\"Non-endemic\",IF(AND($E112<>0,$I112=\"\"),IF($F112=0,COUNTRY_INFO!O112*$E112,COUNTRY_INFO!O112*($E112-$D112)),IF(AND($E112<>0,$I112<>0),IF($F112=0,COUNTRY_INFO!O112*$I112,COUNTRY_INFO!O112*($I112-$D112)),0)),IF($I112=\"\",COUNTRY_INFO!O112*$E112,COUNTRY_INFO!O112*$I112)))","v":0},{"$f":"MAX(0,IF(OR(COUNTRY_INFO!P112=\"Unknown\",COUNTRY_INFO!P112=\"Surveillance\",COUNTRY_INFO!P112=\"Not required\",COUNTRY_INFO!P112=0),0,IF($E112<>0,IF($D112=0,COUNTRY_INFO!P112*$E112,COUNTRY_INFO!P112*$E112-($F112*COUNTRY_INFO!$P112/(COUNTRY_INFO!$F112+COUNTRY_INFO!$G112)+IF($G112=\" \",0,COUNTRY_INFO!$P112/(COUNTRY_INFO!$F112+COUNTRY_INFO!$G112)*$G112*$H112))),0)))","v":0},null,{"$f":"MAX(0,IF(OR(COUNTRY_INFO!Q112=\"Unknown\",COUNTRY_INFO!Q112=\"Surveillance\",COUNTRY_INFO!Q112=\"Not required\",COUNTRY_INFO!Q112=0),0,IF($E112<>0,IF($D112=0,COUNTRY_INFO!Q112*MIN($E112,$L112),COUNTRY_INFO!Q112*MIN($E112,$L112)-($F112*COUNTRY_INFO!$Q112/(COUNTRY_INFO!$F112+COUNTRY_INFO!$G112)+IF($G112=\" \",0,COUNTRY_INFO!$Q112/(COUNTRY_INFO!$F112+COUNTRY_INFO!$G112)*$G112*$H112))),0)))","v":0},0,0,null,0,0,null,0,0,null,0]
[{"$f":"IF(AND(INTRO!$E$37=\"Non-endemic\",INTRO!$E$41=\"Non-endemic\"),\" \",IF(COUNTRY_INFO!A113=0,\" \",COUNTRY_INFO!A113))","v":"Tchad"},{"$f":"IF(AND(INTRO!$E$37=\"Non-endemic\",INTRO!$E$41=\"Non-endemic\"),\" \",IF(COUNTRY_INFO!B113=0,\" \",COUNTRY_INFO!B113))","v":"Ouaddai"},{"$f":"IF(AND(INTRO!$E$37=\"Non-endemic\",INTRO!$E$41=\"Non-endemic\"),\" \",IF(COUNTRY_INFO!C113=0,\" \",COUNTRY_INFO!C113))","v":"Abougoudam"},{"$f":"IF(AND(INTRO!$E$37=\"Non-endemic\",INTRO!$E$41=\"Non-endemic\"),0,COUNTRY_INFO!W113)","v":0},{"$f":"IF(AND(INTRO!$E$37=\"Non-endemic\",INTRO!$E$41=\"Non-endemic\"),0,COUNTRY_INFO!Y113)","v":0},{"$f":"IF($D113=1,IVM!G113,0)","v":0},{"$f":"IF($D113=0, \" \", IF(COUNTRY_INFO!$H113=1, IF(COUNTRY_INFO!$L113=1, 0,\" \"),\" \"))","v":" "},null,null,{"$f":"IF(OR(COUNTRY_INFO!O113=\"Unknown\",COUNTRY_INFO!O113=\"Surveillance\",COUNTRY_INFO!O113=\"Not required\",COUNTRY_INFO!O113=0),0,IF(INTRO!$E$39=\"Non-endemic\",IF(AND($E113<>0,$I113=\"\"),IF($F113=0,COUNTRY_INFO!O113*$E113,COUNTRY_INFO!O113*($E113-$D113)),IF(AND($E113<>0,$I113<>0),IF($F113=0,COUNTRY_INFO!O113*$I113,COUNTRY_INFO!O113*($I113-$D113)),0)),IF($I113=\"\",COUNTRY_INFO!O113*$E113,COUNTRY_INFO!O113*$I113)))","v":0},{"$f":"MAX(0,IF(OR(COUNTRY_INFO!P113=\"Unknown\",COUNTRY_INFO!P113=\"Surveillance\",COUNTRY_INFO!P113=\"Not required\",COUNTRY_INFO!P113=0),0,IF($E113<>0,IF($D113=0,COUNTRY_INFO!P113*$E113,COUNTRY_INFO!P113*$E113-($F113*COUNTRY_INFO!$P113/(COUNTRY_INFO!$F113+COUNTRY_INFO!$G113)+IF($G113=\" \",0,COUNTRY_INFO!$P113/(COUNTRY_INFO!$F113+COUNTRY_INFO!$G113)*$G113*$H113))),0)))","v":0},null,{"$f":"MAX(0,IF(OR(COUNTRY_INFO!Q113=\"Unknown\",COUNTRY_INFO!Q113=\"Surveillance\",COUNTRY_INFO!Q113=\"Not required\",COUNTRY_INFO!Q113=0),0,IF($E113<>0,IF($D113=0,COUNTRY_INFO!Q113*MIN($E113,$L113),COUNTRY_INFO!Q113*MIN($E113,$L113)-($F113*COUNTRY_INFO!$Q113/(COUNTRY_INFO!$F113+COUNTRY_INFO!$G113)+IF($G113=\" \",0,COUNTRY_INFO!$Q113/(COUNTRY_INFO!$F113+COUNTRY_INFO!$G113)*$G113*$H113))),0)))","v":0},0,0,null,0,0,null,0,0,null,0]
[{"$f":"IF(AND(INTRO!$E$37=\"Non-endemic\",INTRO!$E$41=\"Non-endemic\"),\" \",IF(COUNTRY_INFO!A114=0,\" \",COUNTRY_INFO!A114))","v":"Tchad"},{"$f":"IF(AND(INTRO!$E$37=\"Non-endemic\",INTRO!$E$41=\"Non-endemic\"),\" \",IF(COUNTRY_INFO!B114=0,\" \",COUNTRY_INFO!B114))","v":"Ouaddai"},{"$f":"IF(AND(INTRO!$E$37=\"Non-endemic\",INTRO!$E$41=\"Non-endemic\"),\" \",IF(COUNTRY_INFO!C114=0,\" \",COUNTRY_INFO!C114))","v":"Adré"},{"$f":"IF(AND(INTRO!$E$37=\"Non-endemic\",INTRO!$E$41=\"Non-endemic\"),0,COUNTRY_INFO!W114)","v":0},{"$f":"IF(AND(INTRO!$E$37=\"Non-endemic\",INTRO!$E$41=\"Non-endemic\"),0,COUNTRY_INFO!Y114)","v":0},{"$f":"IF($D114=1,IVM!G114,0)","v":0},{"$f":"IF($D114=0, \" \", IF(COUNTRY_INFO!$H114=1, IF(COUNTRY_INFO!$L114=1, 0,\" \"),\" \"))","v":" "},null,null,{"$f":"IF(OR(COUNTRY_INFO!O114=\"Unknown\",COUNTRY_INFO!O114=\"Surveillance\",COUNTRY_INFO!O114=\"Not required\",COUNTRY_INFO!O114=0),0,IF(INTRO!$E$39=\"Non-endemic\",IF(AND($E114<>0,$I114=\"\"),IF($F114=0,COUNTRY_INFO!O114*$E114,COUNTRY_INFO!O114*($E114-$D114)),IF(AND($E114<>0,$I114<>0),IF($F114=0,COUNTRY_INFO!O114*$I114,COUNTRY_INFO!O114*($I114-$D114)),0)),IF($I114=\"\",COUNTRY_INFO!O114*$E114,COUNTRY_INFO!O114*$I114)))","v":0},{"$f":"MAX(0,IF(OR(COUNTRY_INFO!P114=\"Unknown\",COUNTRY_INFO!P114=\"Surveillance\",COUNTRY_INFO!P114=\"Not required\",COUNTRY_INFO!P114=0),0,IF($E114<>0,IF($D114=0,COUNTRY_INFO!P114*$E114,COUNTRY_INFO!P114*$E114-($F114*COUNTRY_INFO!$P114/(COUNTRY_INFO!$F114+COUNTRY_INFO!$G114)+IF($G114=\" \",0,COUNTRY_INFO!$P114/(COUNTRY_INFO!$F114+COUNTRY_INFO!$G114)*$G114*$H114))),0)))","v":0},null,{"$f":"MAX(0,IF(OR(COUNTRY_INFO!Q114=\"Unknown\",COUNTRY_INFO!Q114=\"Surveillance\",COUNTRY_INFO!Q114=\"Not required\",COUNTRY_INFO!Q114=0),0,IF($E114<>0,IF($D114=0,COUNTRY_INFO!Q114*MIN($E114,$L114),COUNTRY_INFO!Q114*MIN($E114,$L114)-($F114*COUNTRY_INFO!$Q114/(COUNTRY_INFO!$F114+COUNTRY_INFO!$G114)+IF($G114=\" \",0,COUNTRY_INFO!$Q114/(COUNTRY_INFO!$F114+COUNTRY_INFO!$G114)*$G114*$H114))),0)))","v":0},0,0,null,0,0,null,0,0,null,0]
[{"$f":"IF(AND(INTRO!$E$37=\"Non-endemic\",INTRO!$E$41=\"Non-endemic\"),\" \",IF(COUNTRY_INFO!A115=0,\" \",COUNTRY_INFO!A115))","v":"Tchad"},{"$f":"IF(AND(INTRO!$E$37=\"Non-endemic\",INTRO!$E$41=\"Non-endemic\"),\" \",IF(COUNTRY_INFO!B115=0,\" \",COUNTRY_INFO!B115))","v":"Salamat"},{"$f":"IF(AND(INTRO!$E$37=\"Non-endemic\",INTRO!$E$41=\"Non-endemic\"),\" \",IF(COUNTRY_INFO!C115=0,\" \",COUNTRY_INFO!C115))","v":"Aboudeia"},{"$f":"IF(AND(INTRO!$E$37=\"Non-endemic\",INTRO!$E$41=\"Non-endemic\"),0,COUNTRY_INFO!W115)","v":0},{"$f":"IF(AND(INTRO!$E$37=\"Non-endemic\",INTRO!$E$41=\"Non-endemic\"),0,COUNTRY_INFO!Y115)","v":1},{"$f":"IF($D115=1,IVM!G115,0)","v":0},{"$f":"IF($D115=0, \" \", IF(COUNTRY_INFO!$H115=1, IF(COUNTRY_INFO!$L115=1, 0,\" \"),\" \"))","v":" "},null,null,{"$f":"IF(OR(COUNTRY_INFO!O115=\"Unknown\",COUNTRY_INFO!O115=\"Surveillance\",COUNTRY_INFO!O115=\"Not required\",COUNTRY_INFO!O115=0),0,IF(INTRO!$E$39=\"Non-endemic\",IF(AND($E115<>0,$I115=\"\"),IF($F115=0,COUNTRY_INFO!O115*$E115,COUNTRY_INFO!O115*($E115-$D115)),IF(AND($E115<>0,$I115<>0),IF($F115=0,COUNTRY_INFO!O115*$I115,COUNTRY_INFO!O115*($I115-$D115)),0)),IF($I115=\"\",COUNTRY_INFO!O115*$E115,COUNTRY_INFO!O115*$I115)))","v":16702},{"$f":"MAX(0,IF(OR(COUNTRY_INFO!P115=\"Unknown\",COUNTRY_INFO!P115=\"Surveillance\",COUNTRY_INFO!P115=\"Not required\",COUNTRY_INFO!P115=0),0,IF($E115<>0,IF($D115=0,COUNTRY_INFO!P115*$E115,COUNTRY_INFO!P115*$E115-($F115*COUNTRY_INFO!$P115/(COUNTRY_INFO!$F115+COUNTRY_INFO!$G115)+IF($G115=\" \",0,COUNTRY_INFO!$P115/(COUNTRY_INFO!$F115+COUNTRY_INFO!$G115)*$G115*$H115))),0)))","v":32960},null,{"$f":"MAX(0,IF(OR(COUNTRY_INFO!Q115=\"Unknown\",COUNTRY_INFO!Q115=\"Surveillance\",COUNTRY_INFO!Q115=\"Not required\",COUNTRY_INFO!Q115=0),0,IF($E115<>0,IF($D115=0,COUNTRY_INFO!Q115*MIN($E115,$L115),COUNTRY_INFO!Q115*MIN($E115,$L115)-($F115*COUNTRY_INFO!$Q115/(COUNTRY_INFO!$F115+COUNTRY_INFO!$G115)+IF($G115=\" \",0,COUNTRY_INFO!$Q115/(COUNTRY_INFO!$F115+COUNTRY_INFO!$G115)*$G115*$H115))),0)))","v":25279},74941,0,null,0,58239,null,58239,16702,null,16702]
[{"$f":"IF(AND(INTRO!$E$37=\"Non-endemic\",INTRO!$E$41=\"Non-endemic\"),\" \",IF(COUNTRY_INFO!A116=0,\" \",COUNTRY_INFO!A116))","v":"Tchad"},{"$f":"IF(AND(INTRO!$E$37=\"Non-endemic\",INTRO!$E$41=\"Non-endemic\"),\" \",IF(COUNTRY_INFO!B116=0,\" \",COUNTRY_INFO!B116))","v":"Salamat"},{"$f":"IF(AND(INTRO!$E$37=\"Non-endemic\",INTRO!$E$41=\"Non-endemic\"),\" \",IF(COUNTRY_INFO!C116=0,\" \",COUNTRY_INFO!C116))","v":"Am-Timan"},{"$f":"IF(AND(INTRO!$E$37=\"Non-endemic\",INTRO!$E$41=\"Non-endemic\"),0,COUNTRY_INFO!W116)","v":0},{"$f":"IF(AND(INTRO!$E$37=\"Non-endemic\",INTRO!$E$41=\"Non-endemic\"),0,COUNTRY_INFO!Y116)","v":1},{"$f":"IF($D116=1,IVM!G116,0)","v":0},{"$f":"IF($D116=0, \" \", IF(COUNTRY_INFO!$H116=1, IF(COUNTRY_INFO!$L116=1, 0,\" \"),\" \"))","v":" "},null,null,{"$f":"IF(OR(COUNTRY_INFO!O116=\"Unknown\",COUNTRY_INFO!O116=\"Surveillance\",COUNTRY_INFO!O116=\"Not required\",COUNTRY_INFO!O116=0),0,IF(INTRO!$E$39=\"Non-endemic\",IF(AND($E116<>0,$I116=\"\"),IF($F116=0,COUNTRY_INFO!O116*$E116,COUNTRY_INFO!O116*($E116-$D116)),IF(AND($E116<>0,$I116<>0),IF($F116=0,COUNTRY_INFO!O116*$I116,COUNTRY_INFO!O116*($I116-$D116)),0)),IF($I116=\"\",COUNTRY_INFO!O116*$E116,COUNTRY_INFO!O116*$I116)))","v":43241},{"$f":"MAX(0,IF(OR(COUNTRY_INFO!P116=\"Unknown\",COUNTRY_INFO!P116=\"Surveillance\",COUNTRY_INFO!P116=\"Not required\",COUNTRY_INFO!P116=0),0,IF($E116<>0,IF($D116=0,COUNTRY_INFO!P116*$E116,COUNTRY_INFO!P116*$E116-($F116*COUNTRY_INFO!$P116/(COUNTRY_INFO!$F116+COUNTRY_INFO!$G116)+IF($G116=\" \",0,COUNTRY_INFO!$P116/(COUNTRY_INFO!$F116+COUNTRY_INFO!$G116)*$G116*$H116))),0)))","v":85331},null,{"$f":"MAX(0,IF(OR(COUNTRY_INFO!Q116=\"Unknown\",COUNTRY_INFO!Q116=\"Surveillance\",COUNTRY_INFO!Q116=\"Not required\",COUNTRY_INFO!Q116=0),0,IF($E116<>0,IF($D116=0,COUNTRY_INFO!Q116*MIN($E116,$L116),COUNTRY_INFO!Q116*MIN($E116,$L116)-($F116*COUNTRY_INFO!$Q116/(COUNTRY_INFO!$F116+COUNTRY_INFO!$G116)+IF($G116=\" \",0,COUNTRY_INFO!$Q116/(COUNTRY_INFO!$F116+COUNTRY_INFO!$G116)*$G116*$H116))),0)))","v":65447},194019,0,null,0,150778,null,150778,43241,null,43241]
[{"$f":"IF(AND(INTRO!$E$37=\"Non-endemic\",INTRO!$E$41=\"Non-endemic\"),\" \",IF(COUNTRY_INFO!A117=0,\" \",COUNTRY_INFO!A117))","v":"Tchad"},{"$f":"IF(AND(INTRO!$E$37=\"Non-endemic\",INTRO!$E$41=\"Non-endemic\"),\" \",IF(COUNTRY_INFO!B117=0,\" \",COUNTRY_INFO!B117))","v":"Salamat"},{"$f":"IF(AND(INTRO!$E$37=\"Non-endemic\",INTRO!$E$41=\"Non-endemic\"),\" \",IF(COUNTRY_INFO!C117=0,\" \",COUNTRY_INFO!C117))","v":"Haraze"},{"$f":"IF(AND(INTRO!$E$37=\"Non-endemic\",INTRO!$E$41=\"Non-endemic\"),0,COUNTRY_INFO!W117)","v":0},{"$f":"IF(AND(INTRO!$E$37=\"Non-endemic\",INTRO!$E$41=\"Non-endemic\"),0,COUNTRY_INFO!Y117)","v":0},{"$f":"IF($D117=1,IVM!G117,0)","v":0},{"$f":"IF($D117=0, \" \", IF(COUNTRY_INFO!$H117=1, IF(COUNTRY_INFO!$L117=1, 0,\" \"),\" \"))","v":" "},null,null,{"$f":"IF(OR(COUNTRY_INFO!O117=\"Unknown\",COUNTRY_INFO!O117=\"Surveillance\",COUNTRY_INFO!O117=\"Not required\",COUNTRY_INFO!O117=0),0,IF(INTRO!$E$39=\"Non-endemic\",IF(AND($E117<>0,$I117=\"\"),IF($F117=0,COUNTRY_INFO!O117*$E117,COUNTRY_INFO!O117*($E117-$D117)),IF(AND($E117<>0,$I117<>0),IF($F117=0,COUNTRY_INFO!O117*$I117,COUNTRY_INFO!O117*($I117-$D117)),0)),IF($I117=\"\",COUNTRY_INFO!O117*$E117,COUNTRY_INFO!O117*$I117)))","v":0},{"$f":"MAX(0,IF(OR(COUNTRY_INFO!P117=\"Unknown\",COUNTRY_INFO!P117=\"Surveillance\",COUNTRY_INFO!P117=\"Not required\",COUNTRY_INFO!P117=0),0,IF($E117<>0,IF($D117=0,COUNTRY_INFO!P117*$E117,COUNTRY_INFO!P117*$E117-($F117*COUNTRY_INFO!$P117/(COUNTRY_INFO!$F117+COUNTRY_INFO!$G117)+IF($G117=\" \",0,COUNTRY_INFO!$P117/(COUNTRY_INFO!$F117+COUNTRY_INFO!$G117)*$G117*$H117))),0)))","v":0},null,{"$f":"MAX(0,IF(OR(COUNTRY_INFO!Q117=\"Unknown\",COUNTRY_INFO!Q117=\"Surveillance\",COUNTRY_INFO!Q117=\"Not required\",COUNTRY_INFO!Q117=0),0,IF($E117<>0,IF($D117=0,COUNTRY_INFO!Q117*MIN($E117,$L117),COUNTRY_INFO!Q117*MIN($E117,$L117)-($F117*COUNTRY_INFO!$Q117/(COUNTRY_INFO!$F117+COUNTRY_INFO!$G117)+IF($G117=\" \",0,COUNTRY_INFO!$Q117/(COUNTRY_INFO!$F117+COUNTRY_INFO!$G117)*$G117*$H117))),0)))","v":0},0,0,null,0,0,null,0,0,null,0]
[{"$f":"IF(AND(INTRO!$E$37=\"Non-endemic\",INTRO!$E$41=\"Non-endemic\"),\" \",IF(COUNTRY_INFO!A118=0,\" \",COUNTRY_INFO!A118))","v":"Tchad"},{"$f":"IF(AND(INTRO!$E$37=\"Non-endemic\",INTRO!$E$41=\"Non-endemic\"),\" \",IF(COUNTRY_INFO!B118=0,\" \",COUNTRY_INFO!B118))","v":"Sila"},{"$f":"IF(AND(INTRO!$E$37=\"Non-endemic\",INTRO!$E$41=\"Non-endemic\"),\" \",IF(COUNTRY_INFO!C118=0,\" \",COUNTRY_INFO!C118))","v":"Am-dam"},{"$f":"IF(AND(INTRO!$E$37=\"Non-endemic\",INTRO!$E$41=\"Non-endemic\"),0,COUNTRY_INFO!W118)","v":0},{"$f":"IF(AND(INTRO!$E$37=\"Non-endemic\",INTRO!$E$41=\"Non-endemic\"),0,COUNTRY_INFO!Y118)","v":0},{"$f":"IF($D118=1,IVM!G118,0)","v":0},{"$f":"IF($D118=0, \" \", IF(COUNTRY_INFO!$H118=1, IF(COUNTRY_INFO!$L118=1, 0,\" \"),\" \"))","v":" "},null,null,{"$f":"IF(OR(COUNTRY_INFO!O118=\"Unknown\",COUNTRY_INFO!O118=\"Surveillance\",COUNTRY_INFO!O118=\"Not required\",COUNTRY_INFO!O118=0),0,IF(INTRO!$E$39=\"Non-endemic\",IF(AND($E118<>0,$I118=\"\"),IF($F118=0,COUNTRY_INFO!O118*$E118,COUNTRY_INFO!O118*($E118-$D118)),IF(AND($E118<>0,$I118<>0),IF($F118=0,COUNTRY_INFO!O118*$I118,COUNTRY_INFO!O118*($I118-$D118)),0)),IF($I118=\"\",COUNTRY_INFO!O118*$E118,COUNTRY_INFO!O118*$I118)))","v":0},{"$f":"MAX(0,IF(OR(COUNTRY_INFO!P118=\"Unknown\",COUNTRY_INFO!P118=\"Surveillance\",COUNTRY_INFO!P118=\"Not required\",COUNTRY_INFO!P118=0),0,IF($E118<>0,IF($D118=0,COUNTRY_INFO!P118*$E118,COUNTRY_INFO!P118*$E118-($F118*COUNTRY_INFO!$P118/(COUNTRY_INFO!$F118+COUNTRY_INFO!$G118)+IF($G118=\" \",0,COUNTRY_INFO!$P118/(COUNTRY_INFO!$F118+COUNTRY_INFO!$G118)*$G118*$H118))),0)))","v":0},null,{"$f":"MAX(0,IF(OR(COUNTRY_INFO!Q118=\"Unknown\",COUNTRY_INFO!Q118=\"Surveillance\",COUNTRY_INFO!Q118=\"Not required\",COUNTRY_INFO!Q118=0),0,IF($E118<>0,IF($D118=0,COUNTRY_INFO!Q118*MIN($E118,$L118),COUNTRY_INFO!Q118*MIN($E118,$L118)-($F118*COUNTRY_INFO!$Q118/(COUNTRY_INFO!$F118+COUNTRY_INFO!$G118)+IF($G118=\" \",0,COUNTRY_INFO!$Q118/(COUNTRY_INFO!$F118+COUNTRY_INFO!$G118)*$G118*$H118))),0)))","v":0},0,0,null,0,0,null,0,0,null,0]
[{"$f":"IF(AND(INTRO!$E$37=\"Non-endemic\",INTRO!$E$41=\"Non-endemic\"),\" \",IF(COUNTRY_INFO!A119=0,\" \",COUNTRY_INFO!A119))","v":"Tchad"},{"$f":"IF(AND(INTRO!$E$37=\"Non-endemic\",INTRO!$E$41=\"Non-endemic\"),\" \",IF(COUNTRY_INFO!B119=0,\" \",COUNTRY_INFO!B119))","v":"Sila"},{"$f":"IF(AND(INTRO!$E$37=\"Non-endemic\",INTRO!$E$41=\"Non-endemic\"),\" \",IF(COUNTRY_INFO!C119=0,\" \",COUNTRY_INFO!C119))","v":"Goz-beida"},{"$f":"IF(AND(INTRO!$E$37=\"Non-endemic\",INTRO!$E$41=\"Non-endemic\"),0,COUNTRY_INFO!W119)","v":0},{"$f":"IF(AND(INTRO!$E$37=\"Non-endemic\",INTRO!$E$41=\"Non-endemic\"),0,COUNTRY_INFO!Y119)","v":0},{"$f":"IF($D119=1,IVM!G119,0)","v":0},{"$f":"IF($D119=0, \" \", IF(COUNTRY_INFO!$H119=1, IF(COUNTRY_INFO!$L119=1, 0,\" \"),\" \"))","v":" "},null,null,{"$f":"IF(OR(COUNTRY_INFO!O119=\"Unknown\",COUNTRY_INFO!O119=\"Surveillance\",COUNTRY_INFO!O119=\"Not required\",COUNTRY_INFO!O119=0),0,IF(INTRO!$E$39=\"Non-endemic\",IF(AND($E119<>0,$I119=\"\"),IF($F119=0,COUNTRY_INFO!O119*$E119,COUNTRY_INFO!O119*($E119-$D119)),IF(AND($E119<>0,$I119<>0),IF($F119=0,COUNTRY_INFO!O119*$I119,COUNTRY_INFO!O119*($I119-$D119)),0)),IF($I119=\"\",COUNTRY_INFO!O119*$E119,COUNTRY_INFO!O119*$I119)))","v":0},{"$f":"MAX(0,IF(OR(COUNTRY_INFO!P119=\"Unknown\",COUNTRY_INFO!P119=\"Surveillance\",COUNTRY_INFO!P119=\"Not required\",COUNTRY_INFO!P119=0),0,IF($E119<>0,IF($D119=0,COUNTRY_INFO!P119*$E119,COUNTRY_INFO!P119*$E119-($F119*COUNTRY_INFO!$P119/(COUNTRY_INFO!$F119+COUNTRY_INFO!$G119)+IF($G119=\" \",0,COUNTRY_INFO!$P119/(COUNTRY_INFO!$F119+COUNTRY_INFO!$G119)*$G119*$H119))),0)))","v":0},null,{"$f":"MAX(0,IF(OR(COUNTRY_INFO!Q119=\"Unknown\",COUNTRY_INFO!Q119=\"Surveillance\",COUNTRY_INFO!Q119=\"Not required\",COUNTRY_INFO!Q119=0),0,IF($E119<>0,IF($D119=0,COUNTRY_INFO!Q119*MIN($E119,$L119),COUNTRY_INFO!Q119*MIN($E119,$L119)-($F119*COUNTRY_INFO!$Q119/(COUNTRY_INFO!$F119+COUNTRY_INFO!$G119)+IF($G119=\" \",0,COUNTRY_INFO!$Q119/(COUNTRY_INFO!$F119+COUNTRY_INFO!$G119)*$G119*$H119))),0)))","v":0},0,0,null,0,0,null,0,0,null,0]
[{"$f":"IF(AND(INTRO!$E$37=\"Non-endemic\",INTRO!$E$41=\"Non-endemic\"),\" \",IF(COUNTRY_INFO!A120=0,\" \",COUNTRY_INFO!A120))","v":"Tchad"},{"$f":"IF(AND(INTRO!$E$37=\"Non-endemic\",INTRO!$E$41=\"Non-endemic\"),\" \",IF(COUNTRY_INFO!B120=0,\" \",COUNTRY_INFO!B120))","v":"Sila"},{"$f":"IF(AND(INTRO!$E$37=\"Non-endemic\",INTRO!$E$41=\"Non-endemic\"),\" \",IF(COUNTRY_INFO!C120=0,\" \",COUNTRY_INFO!C120))","v":"Koukou"},{"$f":"IF(AND(INTRO!$E$37=\"Non-endemic\",INTRO!$E$41=\"Non-endemic\"),0,COUNTRY_INFO!W120)","v":0},{"$f":"IF(AND(INTRO!$E$37=\"Non-endemic\",INTRO!$E$41=\"Non-endemic\"),0,COUNTRY_INFO!Y120)","v":0},{"$f":"IF($D120=1,IVM!G120,0)","v":0},{"$f":"IF($D120=0, \" \", IF(COUNTRY_INFO!$H120=1, IF(COUNTRY_INFO!$L120=1, 0,\" \"),\" \"))","v":" "},null,null,{"$f":"IF(OR(COUNTRY_INFO!O120=\"Unknown\",COUNTRY_INFO!O120=\"Surveillance\",COUNTRY_INFO!O120=\"Not required\",COUNTRY_INFO!O120=0),0,IF(INTRO!$E$39=\"Non-endemic\",IF(AND($E120<>0,$I120=\"\"),IF($F120=0,COUNTRY_INFO!O120*$E120,COUNTRY_INFO!O120*($E120-$D120)),IF(AND($E120<>0,$I120<>0),IF($F120=0,COUNTRY_INFO!O120*$I120,COUNTRY_INFO!O120*($I120-$D120)),0)),IF($I120=\"\",COUNTRY_INFO!O120*$E120,COUNTRY_INFO!O120*$I120)))","v":0},{"$f":"MAX(0,IF(OR(COUNTRY_INFO!P120=\"Unknown\",COUNTRY_INFO!P120=\"Surveillance\",COUNTRY_INFO!P120=\"Not required\",COUNTRY_INFO!P120=0),0,IF($E120<>0,IF($D120=0,COUNTRY_INFO!P120*$E120,COUNTRY_INFO!P120*$E120-($F120*COUNTRY_INFO!$P120/(COUNTRY_INFO!$F120+COUNTRY_INFO!$G120)+IF($G120=\" \",0,COUNTRY_INFO!$P120/(COUNTRY_INFO!$F120+COUNTRY_INFO!$G120)*$G120*$H120))),0)))","v":0},null,{"$f":"MAX(0,IF(OR(COUNTRY_INFO!Q120=\"Unknown\",COUNTRY_INFO!Q120=\"Surveillance\",COUNTRY_INFO!Q120=\"Not required\",COUNTRY_INFO!Q120=0),0,IF($E120<>0,IF($D120=0,COUNTRY_INFO!Q120*MIN($E120,$L120),COUNTRY_INFO!Q120*MIN($E120,$L120)-($F120*COUNTRY_INFO!$Q120/(COUNTRY_INFO!$F120+COUNTRY_INFO!$G120)+IF($G120=\" \",0,COUNTRY_INFO!$Q120/(COUNTRY_INFO!$F120+COUNTRY_INFO!$G120)*$G120*$H120))),0)))","v":0},0,0,null,0,0,null,0,0,null,0]
[{"$f":"IF(AND(INTRO!$E$37=\"Non-endemic\",INTRO!$E$41=\"Non-endemic\"),\" \",IF(COUNTRY_INFO!A121=0,\" \",COUNTRY_INFO!A121))","v":"Tchad"},{"$f":"IF(AND(INTRO!$E$37=\"Non-endemic\",INTRO!$E$41=\"Non-endemic\"),\" \",IF(COUNTRY_INFO!B121=0,\" \",COUNTRY_INFO!B121))","v":"Sila"},{"$f":"IF(AND(INTRO!$E$37=\"Non-endemic\",INTRO!$E$41=\"Non-endemic\"),\" \",IF(COUNTRY_INFO!C121=0,\" \",COUNTRY_INFO!C121))","v":"Tissi"},{"$f":"IF(AND(INTRO!$E$37=\"Non-endemic\",INTRO!$E$41=\"Non-endemic\"),0,COUNTRY_INFO!W121)","v":0},{"$f":"IF(AND(INTRO!$E$37=\"Non-endemic\",INTRO!$E$41=\"Non-endemic\"),0,COUNTRY_INFO!Y121)","v":0},{"$f":"IF($D121=1,IVM!G121,0)","v":0},{"$f":"IF($D121=0, \" \", IF(COUNTRY_INFO!$H121=1, IF(COUNTRY_INFO!$L121=1, 0,\" \"),\" \"))","v":" "},null,null,{"$f":"IF(OR(COUNTRY_INFO!O121=\"Unknown\",COUNTRY_INFO!O121=\"Surveillance\",COUNTRY_INFO!O121=\"Not required\",COUNTRY_INFO!O121=0),0,IF(INTRO!$E$39=\"Non-endemic\",IF(AND($E121<>0,$I121=\"\"),IF($F121=0,COUNTRY_INFO!O121*$E121,COUNTRY_INFO!O121*($E121-$D121)),IF(AND($E121<>0,$I121<>0),IF($F121=0,COUNTRY_INFO!O121*$I121,COUNTRY_INFO!O121*($I121-$D121)),0)),IF($I121=\"\",COUNTRY_INFO!O121*$E121,COUNTRY_INFO!O121*$I121)))","v":0},{"$f":"MAX(0,IF(OR(COUNTRY_INFO!P121=\"Unknown\",COUNTRY_INFO!P121=\"Surveillance\",COUNTRY_INFO!P121=\"Not required\",COUNTRY_INFO!P121=0),0,IF($E121<>0,IF($D121=0,COUNTRY_INFO!P121*$E121,COUNTRY_INFO!P121*$E121-($F121*COUNTRY_INFO!$P121/(COUNTRY_INFO!$F121+COUNTRY_INFO!$G121)+IF($G121=\" \",0,COUNTRY_INFO!$P121/(COUNTRY_INFO!$F121+COUNTRY_INFO!$G121)*$G121*$H121))),0)))","v":0},null,{"$f":"MAX(0,IF(OR(COUNTRY_INFO!Q121=\"Unknown\",COUNTRY_INFO!Q121=\"Surveillance\",COUNTRY_INFO!Q121=\"Not required\",COUNTRY_INFO!Q121=0),0,IF($E121<>0,IF($D121=0,COUNTRY_INFO!Q121*MIN($E121,$L121),COUNTRY_INFO!Q121*MIN($E121,$L121)-($F121*COUNTRY_INFO!$Q121/(COUNTRY_INFO!$F121+COUNTRY_INFO!$G121)+IF($G121=\" \",0,COUNTRY_INFO!$Q121/(COUNTRY_INFO!$F121+COUNTRY_INFO!$G121)*$G121*$H121))),0)))","v":0},0,0,null,0,0,null,0,0,null,0]
[{"$f":"IF(AND(INTRO!$E$37=\"Non-endemic\",INTRO!$E$41=\"Non-endemic\"),\" \",IF(COUNTRY_INFO!A122=0,\" \",COUNTRY_INFO!A122))","v":"Tchad"},{"$f":"IF(AND(INTRO!$E$37=\"Non-endemic\",INTRO!$E$41=\"Non-endemic\"),\" \",IF(COUNTRY_INFO!B122=0,\" \",COUNTRY_INFO!B122))","v":"Tandjile"},{"$f":"IF(AND(INTRO!$E$37=\"Non-endemic\",INTRO!$E$41=\"Non-endemic\"),\" \",IF(COUNTRY_INFO!C122=0,\" \",COUNTRY_INFO!C122))","v":"Batchoro"},{"$f":"IF(AND(INTRO!$E$37=\"Non-endemic\",INTRO!$E$41=\"Non-endemic\"),0,COUNTRY_INFO!W122)","v":1},{"$f":"IF(AND(INTRO!$E$37=\"Non-endemic\",INTRO!$E$41=\"Non-endemic\"),0,COUNTRY_INFO!Y122)","v":0},{"$f":"IF($D122=1,IVM!G122,0)","v":90970},{"$f":"IF($D122=0, \" \", IF(COUNTRY_INFO!$H122=1, IF(COUNTRY_INFO!$L122=1, 0,\" \"),\" \"))","v":" "},null,null,{"$f":"IF(OR(COUNTRY_INFO!O122=\"Unknown\",COUNTRY_INFO!O122=\"Surveillance\",COUNTRY_INFO!O122=\"Not required\",COUNTRY_INFO!O122=0),0,IF(INTRO!$E$39=\"Non-endemic\",IF(AND($E122<>0,$I122=\"\"),IF($F122=0,COUNTRY_INFO!O122*$E122,COUNTRY_INFO!O122*($E122-$D122)),IF(AND($E122<>0,$I122<>0),IF($F122=0,COUNTRY_INFO!O122*$I122,COUNTRY_INFO!O122*($I122-$D122)),0)),IF($I122=\"\",COUNTRY_INFO!O122*$E122,COUNTRY_INFO!O122*$I122)))","v":0},{"$f":"MAX(0,IF(OR(COUNTRY_INFO!P122=\"Unknown\",COUNTRY_INFO!P122=\"Surveillance\",COUNTRY_INFO!P122=\"Not required\",COUNTRY_INFO!P122=0),0,IF($E122<>0,IF($D122=0,COUNTRY_INFO!P122*$E122,COUNTRY_INFO!P122*$E122-($F122*COUNTRY_INFO!$P122/(COUNTRY_INFO!$F122+COUNTRY_INFO!$G122)+IF($G122=\" \",0,COUNTRY_INFO!$P122/(COUNTRY_INFO!$F122+COUNTRY_INFO!$G122)*$G122*$H122))),0)))","v":0},null,{"$f":"MAX(0,IF(OR(COUNTRY_INFO!Q122=\"Unknown\",COUNTRY_INFO!Q122=\"Surveillance\",COUNTRY_INFO!Q122=\"Not required\",COUNTRY_INFO!Q122=0),0,IF($E122<>0,IF($D122=0,COUNTRY_INFO!Q122*MIN($E122,$L122),COUNTRY_INFO!Q122*MIN($E122,$L122)-($F122*COUNTRY_INFO!$Q122/(COUNTRY_INFO!$F122+COUNTRY_INFO!$G122)+IF($G122=\" \",0,COUNTRY_INFO!$Q122/(COUNTRY_INFO!$F122+COUNTRY_INFO!$G122)*$G122*$H122))),0)))","v":0},0,90970,null,90970,0,null,0,0,null,0]
[{"$f":"IF(AND(INTRO!$E$37=\"Non-endemic\",INTRO!$E$41=\"Non-endemic\"),\" \",IF(COUNTRY_INFO!A123=0,\" \",COUNTRY_INFO!A123))","v":"Tchad"},{"$f":"IF(AND(INTRO!$E$37=\"Non-endemic\",INTRO!$E$41=\"Non-endemic\"),\" \",IF(COUNTRY_INFO!B123=0,\" \",COUNTRY_INFO!B123))","v":"Tandjile"},{"$f":"IF(AND(INTRO!$E$37=\"Non-endemic\",INTRO!$E$41=\"Non-endemic\"),\" \",IF(COUNTRY_INFO!C123=0,\" \",COUNTRY_INFO!C123))","v":"Bere"},{"$f":"IF(AND(INTRO!$E$37=\"Non-endemic\",INTRO!$E$41=\"Non-endemic\"),0,COUNTRY_INFO!W123)","v":1},{"$f":"IF(AND(INTRO!$E$37=\"Non-endemic\",INTRO!$E$41=\"Non-endemic\"),0,COUNTRY_INFO!Y123)","v":0},{"$f":"IF($D123=1,IVM!G123,0)","v":107924},{"$f":"IF($D123=0, \" \", IF(COUNTRY_INFO!$H123=1, IF(COUNTRY_INFO!$L123=1, 0,\" \"),\" \"))","v":" "},null,null,{"$f":"IF(OR(COUNTRY_INFO!O123=\"Unknown\",COUNTRY_INFO!O123=\"Surveillance\",COUNTRY_INFO!O123=\"Not required\",COUNTRY_INFO!O123=0),0,IF(INTRO!$E$39=\"Non-endemic\",IF(AND($E123<>0,$I123=\"\"),IF($F123=0,COUNTRY_INFO!O123*$E123,COUNTRY_INFO!O123*($E123-$D123)),IF(AND($E123<>0,$I123<>0),IF($F123=0,COUNTRY_INFO!O123*$I123,COUNTRY_INFO!O123*($I123-$D123)),0)),IF($I123=\"\",COUNTRY_INFO!O123*$E123,COUNTRY_INFO!O123*$I123)))","v":0},{"$f":"MAX(0,IF(OR(COUNTRY_INFO!P123=\"Unknown\",COUNTRY_INFO!P123=\"Surveillance\",COUNTRY_INFO!P123=\"Not required\",COUNTRY_INFO!P123=0),0,IF($E123<>0,IF($D123=0,COUNTRY_INFO!P123*$E123,COUNTRY_INFO!P123*$E123-($F123*COUNTRY_INFO!$P123/(COUNTRY_INFO!$F123+COUNTRY_INFO!$G123)+IF($G123=\" \",0,COUNTRY_INFO!$P123/(COUNTRY_INFO!$F123+COUNTRY_INFO!$G123)*$G123*$H123))),0)))","v":0},null,{"$f":"MAX(0,IF(OR(COUNTRY_INFO!Q123=\"Unknown\",COUNTRY_INFO!Q123=\"Surveillance\",COUNTRY_INFO!Q123=\"Not required\",COUNTRY_INFO!Q123=0),0,IF($E123<>0,IF($D123=0,COUNTRY_INFO!Q123*MIN($E123,$L123),COUNTRY_INFO!Q123*MIN($E123,$L123)-($F123*COUNTRY_INFO!$Q123/(COUNTRY_INFO!$F123+COUNTRY_INFO!$G123)+IF($G123=\" \",0,COUNTRY_INFO!$Q123/(COUNTRY_INFO!$F123+COUNTRY_INFO!$G123)*$G123*$H123))),0)))","v":0},0,107924,null,107924,0,null,0,0,null,0]
[{"$f":"IF(AND(INTRO!$E$37=\"Non-endemic\",INTRO!$E$41=\"Non-endemic\"),\" \",IF(COUNTRY_INFO!A124=0,\" \",COUNTRY_INFO!A124))","v":"Tchad"},{"$f":"IF(AND(INTRO!$E$37=\"Non-endemic\",INTRO!$E$41=\"Non-endemic\"),\" \",IF(COUNTRY_INFO!B124=0,\" \",COUNTRY_INFO!B124))","v":"Tandjile"},{"$f":"IF(AND(INTRO!$E$37=\"Non-endemic\",INTRO!$E$41=\"Non-endemic\"),\" \",IF(COUNTRY_INFO!C124=0,\" \",COUNTRY_INFO!C124))","v":"Bologo"},{"$f":"IF(AND(INTRO!$E$37=\"Non-endemic\",INTRO!$E$41=\"Non-endemic\"),0,COUNTRY_INFO!W124)","v":1},{"$f":"IF(AND(INTRO!$E$37=\"Non-endemic\",INTRO!$E$41=\"Non-endemic\"),0,COUNTRY_INFO!Y124)","v":0},{"$f":"IF($D124=1,IVM!G124,0)","v":63465},{"$f":"IF($D124=0, \" \", IF(COUNTRY_INFO!$H124=1, IF(COUNTRY_INFO!$L124=1, 0,\" \"),\" \"))","v":" "},null,null,{"$f":"IF(OR(COUNTRY_INFO!O124=\"Unknown\",COUNTRY_INFO!O124=\"Surveillance\",COUNTRY_INFO!O124=\"Not required\",COUNTRY_INFO!O124=0),0,IF(INTRO!$E$39=\"Non-endemic\",IF(AND($E124<>0,$I124=\"\"),IF($F124=0,COUNTRY_INFO!O124*$E124,COUNTRY_INFO!O124*($E124-$D124)),IF(AND($E124<>0,$I124<>0),IF($F124=0,COUNTRY_INFO!O124*$I124,COUNTRY_INFO!O124*($I124-$D124)),0)),IF($I124=\"\",COUNTRY_INFO!O124*$E124,COUNTRY_INFO!O124*$I124)))","v":0},{"$f":"MAX(0,IF(OR(COUNTRY_INFO!P124=\"Unknown\",COUNTRY_INFO!P124=\"Surveillance\",COUNTRY_INFO!P124=\"Not required\",COUNTRY_INFO!P124=0),0,IF($E124<>0,IF($D124=0,COUNTRY_INFO!P124*$E124,COUNTRY_INFO!P124*$E124-($F124*COUNTRY_INFO!$P124/(COUNTRY_INFO!$F124+COUNTRY_INFO!$G124)+IF($G124=\" \",0,COUNTRY_INFO!$P124/(COUNTRY_INFO!$F124+COUNTRY_INFO!$G124)*$G124*$H124))),0)))","v":0},null,{"$f":"MAX(0,IF(OR(COUNTRY_INFO!Q124=\"Unknown\",COUNTRY_INFO!Q124=\"Surveillance\",COUNTRY_INFO!Q124=\"Not required\",COUNTRY_INFO!Q124=0),0,IF($E124<>0,IF($D124=0,COUNTRY_INFO!Q124*MIN($E124,$L124),COUNTRY_INFO!Q124*MIN($E124,$L124)-($F124*COUNTRY_INFO!$Q124/(COUNTRY_INFO!$F124+COUNTRY_INFO!$G124)+IF($G124=\" \",0,COUNTRY_INFO!$Q124/(COUNTRY_INFO!$F124+COUNTRY_INFO!$G124)*$G124*$H124))),0)))","v":0},0,63465,null,63465,0,null,0,0,null,0]
[{"$f":"IF(AND(INTRO!$E$37=\"Non-endemic\",INTRO!$E$41=\"Non-endemic\"),\" \",IF(COUNTRY_INFO!A125=0,\" \",COUNTRY_INFO!A125))","v":"Tchad"},{"$f":"IF(AND(INTRO!$E$37=\"Non-endemic\",INTRO!$E$41=\"Non-endemic\"),\" \",IF(COUNTRY_INFO!B125=0,\" \",COUNTRY_INFO!B125))","v":"Tandjile"},{"$f":"IF(AND(INTRO!$E$37=\"Non-endemic\",INTRO!$E$41=\"Non-endemic\"),\" \",IF(COUNTRY_INFO!C125=0,\" \",COUNTRY_INFO!C125))","v":"Dafra"},{"$f":"IF(AND(INTRO!$E$37=\"Non-endemic\",INTRO!$E$41=\"Non-endemic\"),0,COUNTRY_INFO!W125)","v":1},{"$f":"IF(AND(INTRO!$E$37=\"Non-endemic\",INTRO!$E$41=\"Non-endemic\"),0,COUNTRY_INFO!Y125)","v":0},{"$f":"IF($D125=1,IVM!G125,0)","v":57120},{"$f":"IF($D125=0, \" \", IF(COUNTRY_INFO!$H125=1, IF(COUNTRY_INFO!$L125=1, 0,\" \"),\" \"))","v":" "},null,null,{"$f":"IF(OR(COUNTRY_INFO!O125=\"Unknown\",COUNTRY_INFO!O125=\"Surveillance\",COUNTRY_INFO!O125=\"Not required\",COUNTRY_INFO!O125=0),0,IF(INTRO!$E$39=\"Non-endemic\",IF(AND($E125<>0,$I125=\"\"),IF($F125=0,COUNTRY_INFO!O125*$E125,COUNTRY_INFO!O125*($E125-$D125)),IF(AND($E125<>0,$I125<>0),IF($F125=0,COUNTRY_INFO!O125*$I125,COUNTRY_INFO!O125*($I125-$D125)),0)),IF($I125=\"\",COUNTRY_INFO!O125*$E125,COUNTRY_INFO!O125*$I125)))","v":0},{"$f":"MAX(0,IF(OR(COUNTRY_INFO!P125=\"Unknown\",COUNTRY_INFO!P125=\"Surveillance\",COUNTRY_INFO!P125=\"Not required\",COUNTRY_INFO!P125=0),0,IF($E125<>0,IF($D125=0,COUNTRY_INFO!P125*$E125,COUNTRY_INFO!P125*$E125-($F125*COUNTRY_INFO!$P125/(COUNTRY_INFO!$F125+COUNTRY_INFO!$G125)+IF($G125=\" \",0,COUNTRY_INFO!$P125/(COUNTRY_INFO!$F125+COUNTRY_INFO!$G125)*$G125*$H125))),0)))","v":0},null,{"$f":"MAX(0,IF(OR(COUNTRY_INFO!Q125=\"Unknown\",COUNTRY_INFO!Q125=\"Surveillance\",COUNTRY_INFO!Q125=\"Not required\",COUNTRY_INFO!Q125=0),0,IF($E125<>0,IF($D125=0,COUNTRY_INFO!Q125*MIN($E125,$L125),COUNTRY_INFO!Q125*MIN($E125,$L125)-($F125*COUNTRY_INFO!$Q125/(COUNTRY_INFO!$F125+COUNTRY_INFO!$G125)+IF($G125=\" \",0,COUNTRY_INFO!$Q125/(COUNTRY_INFO!$F125+COUNTRY_INFO!$G125)*$G125*$H125))),0)))","v":0},0,57120,null,57120,0,null,0,0,null,0]
[{"$f":"IF(AND(INTRO!$E$37=\"Non-endemic\",INTRO!$E$41=\"Non-endemic\"),\" \",IF(COUNTRY_INFO!A126=0,\" \",COUNTRY_INFO!A126))","v":"Tchad"},{"$f":"IF(AND(INTRO!$E$37=\"Non-endemic\",INTRO!$E$41=\"Non-endemic\"),\" \",IF(COUNTRY_INFO!B126=0,\" \",COUNTRY_INFO!B126))","v":"Tandjile"},{"$f":"IF(AND(INTRO!$E$37=\"Non-endemic\",INTRO!$E$41=\"Non-endemic\"),\" \",IF(COUNTRY_INFO!C126=0,\" \",COUNTRY_INFO!C126))","v":"Deressia"},{"$f":"IF(AND(INTRO!$E$37=\"Non-endemic\",INTRO!$E$41=\"Non-endemic\"),0,COUNTRY_INFO!W126)","v":1},{"$f":"IF(AND(INTRO!$E$37=\"Non-endemic\",INTRO!$E$41=\"Non-endemic\"),0,COUNTRY_INFO!Y126)","v":0},{"$f":"IF($D126=1,IVM!G126,0)","v":69107},{"$f":"IF($D126=0, \" \", IF(COUNTRY_INFO!$H126=1, IF(COUNTRY_INFO!$L126=1, 0,\" \"),\" \"))","v":" "},null,null,{"$f":"IF(OR(COUNTRY_INFO!O126=\"Unknown\",COUNTRY_INFO!O126=\"Surveillance\",COUNTRY_INFO!O126=\"Not required\",COUNTRY_INFO!O126=0),0,IF(INTRO!$E$39=\"Non-endemic\",IF(AND($E126<>0,$I126=\"\"),IF($F126=0,COUNTRY_INFO!O126*$E126,COUNTRY_INFO!O126*($E126-$D126)),IF(AND($E126<>0,$I126<>0),IF($F126=0,COUNTRY_INFO!O126*$I126,COUNTRY_INFO!O126*($I126-$D126)),0)),IF($I126=\"\",COUNTRY_INFO!O126*$E126,COUNTRY_INFO!O126*$I126)))","v":0},{"$f":"MAX(0,IF(OR(COUNTRY_INFO!P126=\"Unknown\",COUNTRY_INFO!P126=\"Surveillance\",COUNTRY_INFO!P126=\"Not required\",COUNTRY_INFO!P126=0),0,IF($E126<>0,IF($D126=0,COUNTRY_INFO!P126*$E126,COUNTRY_INFO!P126*$E126-($F126*COUNTRY_INFO!$P126/(COUNTRY_INFO!$F126+COUNTRY_INFO!$G126)+IF($G126=\" \",0,COUNTRY_INFO!$P126/(COUNTRY_INFO!$F126+COUNTRY_INFO!$G126)*$G126*$H126))),0)))","v":0},null,{"$f":"MAX(0,IF(OR(COUNTRY_INFO!Q126=\"Unknown\",COUNTRY_INFO!Q126=\"Surveillance\",COUNTRY_INFO!Q126=\"Not required\",COUNTRY_INFO!Q126=0),0,IF($E126<>0,IF($D126=0,COUNTRY_INFO!Q126*MIN($E126,$L126),COUNTRY_INFO!Q126*MIN($E126,$L126)-($F126*COUNTRY_INFO!$Q126/(COUNTRY_INFO!$F126+COUNTRY_INFO!$G126)+IF($G126=\" \",0,COUNTRY_INFO!$Q126/(COUNTRY_INFO!$F126+COUNTRY_INFO!$G126)*$G126*$H126))),0)))","v":0},0,69107,null,69107,0,null,0,0,null,0]
[{"$f":"IF(AND(INTRO!$E$37=\"Non-endemic\",INTRO!$E$41=\"Non-endemic\"),\" \",IF(COUNTRY_INFO!A127=0,\" \",COUNTRY_INFO!A127))","v":"Tchad"},{"$f":"IF(AND(INTRO!$E$37=\"Non-endemic\",INTRO!$E$41=\"Non-endemic\"),\" \",IF(COUNTRY_INFO!B127=0,\" \",COUNTRY_INFO!B127))","v":"Tandjile"},{"$f":"IF(AND(INTRO!$E$37=\"Non-endemic\",INTRO!$E$41=\"Non-endemic\"),\" \",IF(COUNTRY_INFO!C127=0,\" \",COUNTRY_INFO!C127))","v":"Donamanga"},{"$f":"IF(AND(INTRO!$E$37=\"Non-endemic\",INTRO!$E$41=\"Non-endemic\"),0,COUNTRY_INFO!W127)","v":1},{"$f":"IF(AND(INTRO!$E$37=\"Non-endemic\",INTRO!$E$41=\"Non-endemic\"),0,COUNTRY_INFO!Y127)","v":0},{"$f":"IF($D127=1,IVM!G127,0)","v":96350},{"$f":"IF($D127=0, \" \", IF(COUNTRY_INFO!$H127=1, IF(COUNTRY_INFO!$L127=1, 0,\" \"),\" \"))","v":" "},null,null,{"$f":"IF(OR(COUNTRY_INFO!O127=\"Unknown\",COUNTRY_INFO!O127=\"Surveillance\",COUNTRY_INFO!O127=\"Not required\",COUNTRY_INFO!O127=0),0,IF(INTRO!$E$39=\"Non-endemic\",IF(AND($E127<>0,$I127=\"\"),IF($F127=0,COUNTRY_INFO!O127*$E127,COUNTRY_INFO!O127*($E127-$D127)),IF(AND($E127<>0,$I127<>0),IF($F127=0,COUNTRY_INFO!O127*$I127,COUNTRY_INFO!O127*($I127-$D127)),0)),IF($I127=\"\",COUNTRY_INFO!O127*$E127,COUNTRY_INFO!O127*$I127)))","v":0},{"$f":"MAX(0,IF(OR(COUNTRY_INFO!P127=\"Unknown\",COUNTRY_INFO!P127=\"Surveillance\",COUNTRY_INFO!P127=\"Not required\",COUNTRY_INFO!P127=0),0,IF($E127<>0,IF($D127=0,COUNTRY_INFO!P127*$E127,COUNTRY_INFO!P127*$E127-($F127*COUNTRY_INFO!$P127/(COUNTRY_INFO!$F127+COUNTRY_INFO!$G127)+IF($G127=\" \",0,COUNTRY_INFO!$P127/(COUNTRY_INFO!$F127+COUNTRY_INFO!$G127)*$G127*$H127))),0)))","v":0},null,{"$f":"MAX(0,IF(OR(COUNTRY_INFO!Q127=\"Unknown\",COUNTRY_INFO!Q127=\"Surveillance\",COUNTRY_INFO!Q127=\"Not required\",COUNTRY_INFO!Q127=0),0,IF($E127<>0,IF($D127=0,COUNTRY_INFO!Q127*MIN($E127,$L127),COUNTRY_INFO!Q127*MIN($E127,$L127)-($F127*COUNTRY_INFO!$Q127/(COUNTRY_INFO!$F127+COUNTRY_INFO!$G127)+IF($G127=\" \",0,COUNTRY_INFO!$Q127/(COUNTRY_INFO!$F127+COUNTRY_INFO!$G127)*$G127*$H127))),0)))","v":0},0,96350,null,96350,0,null,0,0,null,0]
[{"$f":"IF(AND(INTRO!$E$37=\"Non-endemic\",INTRO!$E$41=\"Non-endemic\"),\" \",IF(COUNTRY_INFO!A128=0,\" \",COUNTRY_INFO!A128))","v":"Tchad"},{"$f":"IF(AND(INTRO!$E$37=\"Non-endemic\",INTRO!$E$41=\"Non-endemic\"),\" \",IF(COUNTRY_INFO!B128=0,\" \",COUNTRY_INFO!B128))","v":"Tandjile"},{"$f":"IF(AND(INTRO!$E$37=\"Non-endemic\",INTRO!$E$41=\"Non-endemic\"),\" \",IF(COUNTRY_INFO!C128=0,\" \",COUNTRY_INFO!C128))","v":"Guidari"},{"$f":"IF(AND(INTRO!$E$37=\"Non-endemic\",INTRO!$E$41=\"Non-endemic\"),0,COUNTRY_INFO!W128)","v":1},{"$f":"IF(AND(INTRO!$E$37=\"Non-endemic\",INTRO!$E$41=\"Non-endemic\"),0,COUNTRY_INFO!Y128)","v":0},{"$f":"IF($D128=1,IVM!G128,0)","v":45307},{"$f":"IF($D128=0, \" \", IF(COUNTRY_INFO!$H128=1, IF(COUNTRY_INFO!$L128=1, 0,\" \"),\" \"))","v":" "},null,null,{"$f":"IF(OR(COUNTRY_INFO!O128=\"Unknown\",COUNTRY_INFO!O128=\"Surveillance\",COUNTRY_INFO!O128=\"Not required\",COUNTRY_INFO!O128=0),0,IF(INTRO!$E$39=\"Non-endemic\",IF(AND($E128<>0,$I128=\"\"),IF($F128=0,COUNTRY_INFO!O128*$E128,COUNTRY_INFO!O128*($E128-$D128)),IF(AND($E128<>0,$I128<>0),IF($F128=0,COUNTRY_INFO!O128*$I128,COUNTRY_INFO!O128*($I128-$D128)),0)),IF($I128=\"\",COUNTRY_INFO!O128*$E128,COUNTRY_INFO!O128*$I128)))","v":0},{"$f":"MAX(0,IF(OR(COUNTRY_INFO!P128=\"Unknown\",COUNTRY_INFO!P128=\"Surveillance\",COUNTRY_INFO!P128=\"Not required\",COUNTRY_INFO!P128=0),0,IF($E128<>0,IF($D128=0,COUNTRY_INFO!P128*$E128,COUNTRY_INFO!P128*$E128-($F128*COUNTRY_INFO!$P128/(COUNTRY_INFO!$F128+COUNTRY_INFO!$G128)+IF($G128=\" \",0,COUNTRY_INFO!$P128/(COUNTRY_INFO!$F128+COUNTRY_INFO!$G128)*$G128*$H128))),0)))","v":0},null,{"$f":"MAX(0,IF(OR(COUNTRY_INFO!Q128=\"Unknown\",COUNTRY_INFO!Q128=\"Surveillance\",COUNTRY_INFO!Q128=\"Not required\",COUNTRY_INFO!Q128=0),0,IF($E128<>0,IF($D128=0,COUNTRY_INFO!Q128*MIN($E128,$L128),COUNTRY_INFO!Q128*MIN($E128,$L128)-($F128*COUNTRY_INFO!$Q128/(COUNTRY_INFO!$F128+COUNTRY_INFO!$G128)+IF($G128=\" \",0,COUNTRY_INFO!$Q128/(COUNTRY_INFO!$F128+COUNTRY_INFO!$G128)*$G128*$H128))),0)))","v":0},0,45307,null,45307,0,null,0,0,null,0]
[{"$f":"IF(AND(INTRO!$E$37=\"Non-endemic\",INTRO!$E$41=\"Non-endemic\"),\" \",IF(COUNTRY_INFO!A129=0,\" \",COUNTRY_INFO!A129))","v":"Tchad"},{"$f":"IF(AND(INTRO!$E$37=\"Non-endemic\",INTRO!$E$41=\"Non-endemic\"),\" \",IF(COUNTRY_INFO!B129=0,\" \",COUNTRY_INFO!B129))","v":"Tandjile"},{"$f":"IF(AND(INTRO!$E$37=\"Non-endemic\",INTRO!$E$41=\"Non-endemic\"),\" \",IF(COUNTRY_INFO!C129=0,\" \",COUNTRY_INFO!C129))","v":"Kelo"},{"$f":"IF(AND(INTRO!$E$37=\"Non-endemic\",INTRO!$E$41=\"Non-endemic\"),0,COUNTRY_INFO!W129)","v":1},{"$f":"IF(AND(INTRO!$E$37=\"Non-endemic\",INTRO!$E$41=\"Non-endemic\"),0,COUNTRY_INFO!Y129)","v":0},{"$f":"IF($D129=1,IVM!G129,0)","v":185530},{"$f":"IF($D129=0, \" \", IF(COUNTRY_INFO!$H129=1, IF(COUNTRY_INFO!$L129=1, 0,\" \"),\" \"))","v":" "},null,null,{"$f":"IF(OR(COUNTRY_INFO!O129=\"Unknown\",COUNTRY_INFO!O129=\"Surveillance\",COUNTRY_INFO!O129=\"Not required\",COUNTRY_INFO!O129=0),0,IF(INTRO!$E$39=\"Non-endemic\",IF(AND($E129<>0,$I129=\"\"),IF($F129=0,COUNTRY_INFO!O129*$E129,COUNTRY_INFO!O129*($E129-$D129)),IF(AND($E129<>0,$I129<>0),IF($F129=0,COUNTRY_INFO!O129*$I129,COUNTRY_INFO!O129*($I129-$D129)),0)),IF($I129=\"\",COUNTRY_INFO!O129*$E129,COUNTRY_INFO!O129*$I129)))","v":0},{"$f":"MAX(0,IF(OR(COUNTRY_INFO!P129=\"Unknown\",COUNTRY_INFO!P129=\"Surveillance\",COUNTRY_INFO!P129=\"Not required\",COUNTRY_INFO!P129=0),0,IF($E129<>0,IF($D129=0,COUNTRY_INFO!P129*$E129,COUNTRY_INFO!P129*$E129-($F129*COUNTRY_INFO!$P129/(COUNTRY_INFO!$F129+COUNTRY_INFO!$G129)+IF($G129=\" \",0,COUNTRY_INFO!$P129/(COUNTRY_INFO!$F129+COUNTRY_INFO!$G129)*$G129*$H129))),0)))","v":0},null,{"$f":"MAX(0,IF(OR(COUNTRY_INFO!Q129=\"Unknown\",COUNTRY_INFO!Q129=\"Surveillance\",COUNTRY_INFO!Q129=\"Not required\",COUNTRY_INFO!Q129=0),0,IF($E129<>0,IF($D129=0,COUNTRY_INFO!Q129*MIN($E129,$L129),COUNTRY_INFO!Q129*MIN($E129,$L129)-($F129*COUNTRY_INFO!$Q129/(COUNTRY_INFO!$F129+COUNTRY_INFO!$G129)+IF($G129=\" \",0,COUNTRY_INFO!$Q129/(COUNTRY_INFO!$F129+COUNTRY_INFO!$G129)*$G129*$H129))),0)))","v":0},0,185530,null,185530,0,null,0,0,null,0]
[{"$f":"IF(AND(INTRO!$E$37=\"Non-endemic\",INTRO!$E$41=\"Non-endemic\"),\" \",IF(COUNTRY_INFO!A130=0,\" \",COUNTRY_INFO!A130))","v":"Tchad"},{"$f":"IF(AND(INTRO!$E$37=\"Non-endemic\",INTRO!$E$41=\"Non-endemic\"),\" \",IF(COUNTRY_INFO!B130=0,\" \",COUNTRY_INFO!B130))","v":"Tandjile"},{"$f":"IF(AND(INTRO!$E$37=\"Non-endemic\",INTRO!$E$41=\"Non-endemic\"),\" \",IF(COUNTRY_INFO!C130=0,\" \",COUNTRY_INFO!C130))","v":"Kolon"},{"$f":"IF(AND(INTRO!$E$37=\"Non-endemic\",INTRO!$E$41=\"Non-endemic\"),0,COUNTRY_INFO!W130)","v":1},{"$f":"IF(AND(INTRO!$E$37=\"Non-endemic\",INTRO!$E$41=\"Non-endemic\"),0,COUNTRY_INFO!Y130)","v":0},{"$f":"IF($D130=1,IVM!G130,0)","v":71491},{"$f":"IF($D130=0, \" \", IF(COUNTRY_INFO!$H130=1, IF(COUNTRY_INFO!$L130=1, 0,\" \"),\" \"))","v":" "},null,null,{"$f":"IF(OR(COUNTRY_INFO!O130=\"Unknown\",COUNTRY_INFO!O130=\"Surveillance\",COUNTRY_INFO!O130=\"Not required\",COUNTRY_INFO!O130=0),0,IF(INTRO!$E$39=\"Non-endemic\",IF(AND($E130<>0,$I130=\"\"),IF($F130=0,COUNTRY_INFO!O130*$E130,COUNTRY_INFO!O130*($E130-$D130)),IF(AND($E130<>0,$I130<>0),IF($F130=0,COUNTRY_INFO!O130*$I130,COUNTRY_INFO!O130*($I130-$D130)),0)),IF($I130=\"\",COUNTRY_INFO!O130*$E130,COUNTRY_INFO!O130*$I130)))","v":0},{"$f":"MAX(0,IF(OR(COUNTRY_INFO!P130=\"Unknown\",COUNTRY_INFO!P130=\"Surveillance\",COUNTRY_INFO!P130=\"Not required\",COUNTRY_INFO!P130=0),0,IF($E130<>0,IF($D130=0,COUNTRY_INFO!P130*$E130,COUNTRY_INFO!P130*$E130-($F130*COUNTRY_INFO!$P130/(COUNTRY_INFO!$F130+COUNTRY_INFO!$G130)+IF($G130=\" \",0,COUNTRY_INFO!$P130/(COUNTRY_INFO!$F130+COUNTRY_INFO!$G130)*$G130*$H130))),0)))","v":0},null,{"$f":"MAX(0,IF(OR(COUNTRY_INFO!Q130=\"Unknown\",COUNTRY_INFO!Q130=\"Surveillance\",COUNTRY_INFO!Q130=\"Not required\",COUNTRY_INFO!Q130=0),0,IF($E130<>0,IF($D130=0,COUNTRY_INFO!Q130*MIN($E130,$L130),COUNTRY_INFO!Q130*MIN($E130,$L130)-($F130*COUNTRY_INFO!$Q130/(COUNTRY_INFO!$F130+COUNTRY_INFO!$G130)+IF($G130=\" \",0,COUNTRY_INFO!$Q130/(COUNTRY_INFO!$F130+COUNTRY_INFO!$G130)*$G130*$H130))),0)))","v":0},0,71491,null,71491,0,null,0,0,null,0]
[{"$f":"IF(AND(INTRO!$E$37=\"Non-endemic\",INTRO!$E$41=\"Non-endemic\"),\" \",IF(COUNTRY_INFO!A131=0,\" \",COUNTRY_INFO!A131))","v":"Tchad"},{"$f":"IF(AND(INTRO!$E$37=\"Non-endemic\",INTRO!$E$41=\"Non-endemic\"),\" \",IF(COUNTRY_INFO!B131=0,\" \",COUNTRY_INFO!B131))","v":"Tandjile"},{"$f":"IF(AND(INTRO!$E$37=\"Non-endemic\",INTRO!$E$41=\"Non-endemic\"),\" \",IF(COUNTRY_INFO!C131=0,\" \",COUNTRY_INFO!C131))","v":"Lai"},{"$f":"IF(AND(INTRO!$E$37=\"Non-endemic\",INTRO!$E$41=\"Non-endemic\"),0,COUNTRY_INFO!W131)","v":0},{"$f":"IF(AND(INTRO!$E$37=\"Non-endemic\",INTRO!$E$41=\"Non-endemic\"),0,COUNTRY_INFO!Y131)","v":0},{"$f":"IF($D131=1,IVM!G131,0)","v":0},{"$f":"IF($D131=0, \" \", IF(COUNTRY_INFO!$H131=1, IF(COUNTRY_INFO!$L131=1, 0,\" \"),\" \"))","v":" "},null,null,{"$f":"IF(OR(COUNTRY_INFO!O131=\"Unknown\",COUNTRY_INFO!O131=\"Surveillance\",COUNTRY_INFO!O131=\"Not required\",COUNTRY_INFO!O131=0),0,IF(INTRO!$E$39=\"Non-endemic\",IF(AND($E131<>0,$I131=\"\"),IF($F131=0,COUNTRY_INFO!O131*$E131,COUNTRY_INFO!O131*($E131-$D131)),IF(AND($E131<>0,$I131<>0),IF($F131=0,COUNTRY_INFO!O131*$I131,COUNTRY_INFO!O131*($I131-$D131)),0)),IF($I131=\"\",COUNTRY_INFO!O131*$E131,COUNTRY_INFO!O131*$I131)))","v":0},{"$f":"MAX(0,IF(OR(COUNTRY_INFO!P131=\"Unknown\",COUNTRY_INFO!P131=\"Surveillance\",COUNTRY_INFO!P131=\"Not required\",COUNTRY_INFO!P131=0),0,IF($E131<>0,IF($D131=0,COUNTRY_INFO!P131*$E131,COUNTRY_INFO!P131*$E131-($F131*COUNTRY_INFO!$P131/(COUNTRY_INFO!$F131+COUNTRY_INFO!$G131)+IF($G131=\" \",0,COUNTRY_INFO!$P131/(COUNTRY_INFO!$F131+COUNTRY_INFO!$G131)*$G131*$H131))),0)))","v":0},null,{"$f":"MAX(0,IF(OR(COUNTRY_INFO!Q131=\"Unknown\",COUNTRY_INFO!Q131=\"Surveillance\",COUNTRY_INFO!Q131=\"Not required\",COUNTRY_INFO!Q131=0),0,IF($E131<>0,IF($D131=0,COUNTRY_INFO!Q131*MIN($E131,$L131),COUNTRY_INFO!Q131*MIN($E131,$L131)-($F131*COUNTRY_INFO!$Q131/(COUNTRY_INFO!$F131+COUNTRY_INFO!$G131)+IF($G131=\" \",0,COUNTRY_INFO!$Q131/(COUNTRY_INFO!$F131+COUNTRY_INFO!$G131)*$G131*$H131))),0)))","v":0},0,0,null,0,0,null,0,0,null,0]
[{"$f":"IF(AND(INTRO!$E$37=\"Non-endemic\",INTRO!$E$41=\"Non-endemic\"),\" \",IF(COUNTRY_INFO!A132=0,\" \",COUNTRY_INFO!A132))","v":"Tchad"},{"$f":"IF(AND(INTRO!$E$37=\"Non-endemic\",INTRO!$E$41=\"Non-endemic\"),\" \",IF(COUNTRY_INFO!B132=0,\" \",COUNTRY_INFO!B132))","v":"Tibesti"},{"$f":"IF(AND(INTRO!$E$37=\"Non-endemic\",INTRO!$E$41=\"Non-endemic\"),\" \",IF(COUNTRY_INFO!C132=0,\" \",COUNTRY_INFO!C132))","v":"Bardaï"},{"$f":"IF(AND(INTRO!$E$37=\"Non-endemic\",INTRO!$E$41=\"Non-endemic\"),0,COUNTRY_INFO!W132)","v":0},{"$f":"IF(AND(INTRO!$E$37=\"Non-endemic\",INTRO!$E$41=\"Non-endemic\"),0,COUNTRY_INFO!Y132)","v":0},{"$f":"IF($D132=1,IVM!G132,0)","v":0},{"$f":"IF($D132=0, \" \", IF(COUNTRY_INFO!$H132=1, IF(COUNTRY_INFO!$L132=1, 0,\" \"),\" \"))","v":" "},null,null,{"$f":"IF(OR(COUNTRY_INFO!O132=\"Unknown\",COUNTRY_INFO!O132=\"Surveillance\",COUNTRY_INFO!O132=\"Not required\",COUNTRY_INFO!O132=0),0,IF(INTRO!$E$39=\"Non-endemic\",IF(AND($E132<>0,$I132=\"\"),IF($F132=0,COUNTRY_INFO!O132*$E132,COUNTRY_INFO!O132*($E132-$D132)),IF(AND($E132<>0,$I132<>0),IF($F132=0,COUNTRY_INFO!O132*$I132,COUNTRY_INFO!O132*($I132-$D132)),0)),IF($I132=\"\",COUNTRY_INFO!O132*$E132,COUNTRY_INFO!O132*$I132)))","v":0},{"$f":"MAX(0,IF(OR(COUNTRY_INFO!P132=\"Unknown\",COUNTRY_INFO!P132=\"Surveillance\",COUNTRY_INFO!P132=\"Not required\",COUNTRY_INFO!P132=0),0,IF($E132<>0,IF($D132=0,COUNTRY_INFO!P132*$E132,COUNTRY_INFO!P132*$E132-($F132*COUNTRY_INFO!$P132/(COUNTRY_INFO!$F132+COUNTRY_INFO!$G132)+IF($G132=\" \",0,COUNTRY_INFO!$P132/(COUNTRY_INFO!$F132+COUNTRY_INFO!$G132)*$G132*$H132))),0)))","v":0},null,{"$f":"MAX(0,IF(OR(COUNTRY_INFO!Q132=\"Unknown\",COUNTRY_INFO!Q132=\"Surveillance\",COUNTRY_INFO!Q132=\"Not required\",COUNTRY_INFO!Q132=0),0,IF($E132<>0,IF($D132=0,COUNTRY_INFO!Q132*MIN($E132,$L132),COUNTRY_INFO!Q132*MIN($E132,$L132)-($F132*COUNTRY_INFO!$Q132/(COUNTRY_INFO!$F132+COUNTRY_INFO!$G132)+IF($G132=\" \",0,COUNTRY_INFO!$Q132/(COUNTRY_INFO!$F132+COUNTRY_INFO!$G132)*$G132*$H132))),0)))","v":0},0,0,null,0,0,null,0,0,null,0]
[{"$f":"IF(AND(INTRO!$E$37=\"Non-endemic\",INTRO!$E$41=\"Non-endemic\"),\" \",IF(COUNTRY_INFO!A133=0,\" \",COUNTRY_INFO!A133))","v":"Tchad"},{"$f":"IF(AND(INTRO!$E$37=\"Non-endemic\",INTRO!$E$41=\"Non-endemic\"),\" \",IF(COUNTRY_INFO!B133=0,\" \",COUNTRY_INFO!B133))","v":"Tibesti"},{"$f":"IF(AND(INTRO!$E$37=\"Non-endemic\",INTRO!$E$41=\"Non-endemic\"),\" \",IF(COUNTRY_INFO!C133=0,\" \",COUNTRY_INFO!C133))","v":"Zouar"},{"$f":"IF(AND(INTRO!$E$37=\"Non-endemic\",INTRO!$E$41=\"Non-endemic\"),0,COUNTRY_INFO!W133)","v":0},{"$f":"IF(AND(INTRO!$E$37=\"Non-endemic\",INTRO!$E$41=\"Non-endemic\"),0,COUNTRY_INFO!Y133)","v":0},{"$f":"IF($D133=1,IVM!G133,0)","v":0},{"$f":"IF($D133=0, \" \", IF(COUNTRY_INFO!$H133=1, IF(COUNTRY_INFO!$L133=1, 0,\" \"),\" \"))","v":" "},null,null,{"$f":"IF(OR(COUNTRY_INFO!O133=\"Unknown\",COUNTRY_INFO!O133=\"Surveillance\",COUNTRY_INFO!O133=\"Not required\",COUNTRY_INFO!O133=0),0,IF(INTRO!$E$39=\"Non-endemic\",IF(AND($E133<>0,$I133=\"\"),IF($F133=0,COUNTRY_INFO!O133*$E133,COUNTRY_INFO!O133*($E133-$D133)),IF(AND($E133<>0,$I133<>0),IF($F133=0,COUNTRY_INFO!O133*$I133,COUNTRY_INFO!O133*($I133-$D133)),0)),IF($I133=\"\",COUNTRY_INFO!O133*$E133,COUNTRY_INFO!O133*$I133)))","v":0},{"$f":"MAX(0,IF(OR(COUNTRY_INFO!P133=\"Unknown\",COUNTRY_INFO!P133=\"Surveillance\",COUNTRY_INFO!P133=\"Not required\",COUNTRY_INFO!P133=0),0,IF($E133<>0,IF($D133=0,COUNTRY_INFO!P133*$E133,COUNTRY_INFO!P133*$E133-($F133*COUNTRY_INFO!$P133/(COUNTRY_INFO!$F133+COUNTRY_INFO!$G133)+IF($G133=\" \",0,COUNTRY_INFO!$P133/(COUNTRY_INFO!$F133+COUNTRY_INFO!$G133)*$G133*$H133))),0)))","v":0},null,{"$f":"MAX(0,IF(OR(COUNTRY_INFO!Q133=\"Unknown\",COUNTRY_INFO!Q133=\"Surveillance\",COUNTRY_INFO!Q133=\"Not required\",COUNTRY_INFO!Q133=0),0,IF($E133<>0,IF($D133=0,COUNTRY_INFO!Q133*MIN($E133,$L133),COUNTRY_INFO!Q133*MIN($E133,$L133)-($F133*COUNTRY_INFO!$Q133/(COUNTRY_INFO!$F133+COUNTRY_INFO!$G133)+IF($G133=\" \",0,COUNTRY_INFO!$Q133/(COUNTRY_INFO!$F133+COUNTRY_INFO!$G133)*$G133*$H133))),0)))","v":0},0,0,null,0,0,null,0,0,null,0]
[{"$f":"IF(AND(INTRO!$E$37=\"Non-endemic\",INTRO!$E$41=\"Non-endemic\"),\" \",IF(COUNTRY_INFO!A134=0,\" \",COUNTRY_INFO!A134))","v":"Tchad"},{"$f":"IF(AND(INTRO!$E$37=\"Non-endemic\",INTRO!$E$41=\"Non-endemic\"),\" \",IF(COUNTRY_INFO!B134=0,\" \",COUNTRY_INFO!B134))","v":"Wadi Fira"},{"$f":"IF(AND(INTRO!$E$37=\"Non-endemic\",INTRO!$E$41=\"Non-endemic\"),\" \",IF(COUNTRY_INFO!C134=0,\" \",COUNTRY_INFO!C134))","v":"amzoer"},{"$f":"IF(AND(INTRO!$E$37=\"Non-endemic\",INTRO!$E$41=\"Non-endemic\"),0,COUNTRY_INFO!W134)","v":0},{"$f":"IF(AND(INTRO!$E$37=\"Non-endemic\",INTRO!$E$41=\"Non-endemic\"),0,COUNTRY_INFO!Y134)","v":0},{"$f":"IF($D134=1,IVM!G134,0)","v":0},{"$f":"IF($D134=0, \" \", IF(COUNTRY_INFO!$H134=1, IF(COUNTRY_INFO!$L134=1, 0,\" \"),\" \"))","v":" "},null,null,{"$f":"IF(OR(COUNTRY_INFO!O134=\"Unknown\",COUNTRY_INFO!O134=\"Surveillance\",COUNTRY_INFO!O134=\"Not required\",COUNTRY_INFO!O134=0),0,IF(INTRO!$E$39=\"Non-endemic\",IF(AND($E134<>0,$I134=\"\"),IF($F134=0,COUNTRY_INFO!O134*$E134,COUNTRY_INFO!O134*($E134-$D134)),IF(AND($E134<>0,$I134<>0),IF($F134=0,COUNTRY_INFO!O134*$I134,COUNTRY_INFO!O134*($I134-$D134)),0)),IF($I134=\"\",COUNTRY_INFO!O134*$E134,COUNTRY_INFO!O134*$I134)))","v":0},{"$f":"MAX(0,IF(OR(COUNTRY_INFO!P134=\"Unknown\",COUNTRY_INFO!P134=\"Surveillance\",COUNTRY_INFO!P134=\"Not required\",COUNTRY_INFO!P134=0),0,IF($E134<>0,IF($D134=0,COUNTRY_INFO!P134*$E134,COUNTRY_INFO!P134*$E134-($F134*COUNTRY_INFO!$P134/(COUNTRY_INFO!$F134+COUNTRY_INFO!$G134)+IF($G134=\" \",0,COUNTRY_INFO!$P134/(COUNTRY_INFO!$F134+COUNTRY_INFO!$G134)*$G134*$H134))),0)))","v":0},null,{"$f":"MAX(0,IF(OR(COUNTRY_INFO!Q134=\"Unknown\",COUNTRY_INFO!Q134=\"Surveillance\",COUNTRY_INFO!Q134=\"Not required\",COUNTRY_INFO!Q134=0),0,IF($E134<>0,IF($D134=0,COUNTRY_INFO!Q134*MIN($E134,$L134),COUNTRY_INFO!Q134*MIN($E134,$L134)-($F134*COUNTRY_INFO!$Q134/(COUNTRY_INFO!$F134+COUNTRY_INFO!$G134)+IF($G134=\" \",0,COUNTRY_INFO!$Q134/(COUNTRY_INFO!$F134+COUNTRY_INFO!$G134)*$G134*$H134))),0)))","v":0},0,0,null,0,0,null,0,0,null,0]
[{"$f":"IF(AND(INTRO!$E$37=\"Non-endemic\",INTRO!$E$41=\"Non-endemic\"),\" \",IF(COUNTRY_INFO!A135=0,\" \",COUNTRY_INFO!A135))","v":"Tchad"},{"$f":"IF(AND(INTRO!$E$37=\"Non-endemic\",INTRO!$E$41=\"Non-endemic\"),\" \",IF(COUNTRY_INFO!B135=0,\" \",COUNTRY_INFO!B135))","v":"Wadi Fira"},{"$f":"IF(AND(INTRO!$E$37=\"Non-endemic\",INTRO!$E$41=\"Non-endemic\"),\" \",IF(COUNTRY_INFO!C135=0,\" \",COUNTRY_INFO!C135))","v":"Arada"},{"$f":"IF(AND(INTRO!$E$37=\"Non-endemic\",INTRO!$E$41=\"Non-endemic\"),0,COUNTRY_INFO!W135)","v":0},{"$f":"IF(AND(INTRO!$E$37=\"Non-endemic\",INTRO!$E$41=\"Non-endemic\"),0,COUNTRY_INFO!Y135)","v":0},{"$f":"IF($D135=1,IVM!G135,0)","v":0},{"$f":"IF($D135=0, \" \", IF(COUNTRY_INFO!$H135=1, IF(COUNTRY_INFO!$L135=1, 0,\" \"),\" \"))","v":" "},null,null,{"$f":"IF(OR(COUNTRY_INFO!O135=\"Unknown\",COUNTRY_INFO!O135=\"Surveillance\",COUNTRY_INFO!O135=\"Not required\",COUNTRY_INFO!O135=0),0,IF(INTRO!$E$39=\"Non-endemic\",IF(AND($E135<>0,$I135=\"\"),IF($F135=0,COUNTRY_INFO!O135*$E135,COUNTRY_INFO!O135*($E135-$D135)),IF(AND($E135<>0,$I135<>0),IF($F135=0,COUNTRY_INFO!O135*$I135,COUNTRY_INFO!O135*($I135-$D135)),0)),IF($I135=\"\",COUNTRY_INFO!O135*$E135,COUNTRY_INFO!O135*$I135)))","v":0},{"$f":"MAX(0,IF(OR(COUNTRY_INFO!P135=\"Unknown\",COUNTRY_INFO!P135=\"Surveillance\",COUNTRY_INFO!P135=\"Not required\",COUNTRY_INFO!P135=0),0,IF($E135<>0,IF($D135=0,COUNTRY_INFO!P135*$E135,COUNTRY_INFO!P135*$E135-($F135*COUNTRY_INFO!$P135/(COUNTRY_INFO!$F135+COUNTRY_INFO!$G135)+IF($G135=\" \",0,COUNTRY_INFO!$P135/(COUNTRY_INFO!$F135+COUNTRY_INFO!$G135)*$G135*$H135))),0)))","v":0},null,{"$f":"MAX(0,IF(OR(COUNTRY_INFO!Q135=\"Unknown\",COUNTRY_INFO!Q135=\"Surveillance\",COUNTRY_INFO!Q135=\"Not required\",COUNTRY_INFO!Q135=0),0,IF($E135<>0,IF($D135=0,COUNTRY_INFO!Q135*MIN($E135,$L135),COUNTRY_INFO!Q135*MIN($E135,$L135)-($F135*COUNTRY_INFO!$Q135/(COUNTRY_INFO!$F135+COUNTRY_INFO!$G135)+IF($G135=\" \",0,COUNTRY_INFO!$Q135/(COUNTRY_INFO!$F135+COUNTRY_INFO!$G135)*$G135*$H135))),0)))","v":0},0,0,null,0,0,null,0,0,null,0]
[{"$f":"IF(AND(INTRO!$E$37=\"Non-endemic\",INTRO!$E$41=\"Non-endemic\"),\" \",IF(COUNTRY_INFO!A136=0,\" \",COUNTRY_INFO!A136))","v":"Tchad"},{"$f":"IF(AND(INTRO!$E$37=\"Non-endemic\",INTRO!$E$41=\"Non-endemic\"),\" \",IF(COUNTRY_INFO!B136=0,\" \",COUNTRY_INFO!B136))","v":"Wadi Fira"},{"$f":"IF(AND(INTRO!$E$37=\"Non-endemic\",INTRO!$E$41=\"Non-endemic\"),\" \",IF(COUNTRY_INFO!C136=0,\" \",COUNTRY_INFO!C136))","v":"Biltine"},{"$f":"IF(AND(INTRO!$E$37=\"Non-endemic\",INTRO!$E$41=\"Non-endemic\"),0,COUNTRY_INFO!W136)","v":0},{"$f":"IF(AND(INTRO!$E$37=\"Non-endemic\",INTRO!$E$41=\"Non-endemic\"),0,COUNTRY_INFO!Y136)","v":0},{"$f":"IF($D136=1,IVM!G136,0)","v":0},{"$f":"IF($D136=0, \" \", IF(COUNTRY_INFO!$H136=1, IF(COUNTRY_INFO!$L136=1, 0,\" \"),\" \"))","v":" "},null,null,{"$f":"IF(OR(COUNTRY_INFO!O136=\"Unknown\",COUNTRY_INFO!O136=\"Surveillance\",COUNTRY_INFO!O136=\"Not required\",COUNTRY_INFO!O136=0),0,IF(INTRO!$E$39=\"Non-endemic\",IF(AND($E136<>0,$I136=\"\"),IF($F136=0,COUNTRY_INFO!O136*$E136,COUNTRY_INFO!O136*($E136-$D136)),IF(AND($E136<>0,$I136<>0),IF($F136=0,COUNTRY_INFO!O136*$I136,COUNTRY_INFO!O136*($I136-$D136)),0)),IF($I136=\"\",COUNTRY_INFO!O136*$E136,COUNTRY_INFO!O136*$I136)))","v":0},{"$f":"MAX(0,IF(OR(COUNTRY_INFO!P136=\"Unknown\",COUNTRY_INFO!P136=\"Surveillance\",COUNTRY_INFO!P136=\"Not required\",COUNTRY_INFO!P136=0),0,IF($E136<>0,IF($D136=0,COUNTRY_INFO!P136*$E136,COUNTRY_INFO!P136*$E136-($F136*COUNTRY_INFO!$P136/(COUNTRY_INFO!$F136+COUNTRY_INFO!$G136)+IF($G136=\" \",0,COUNTRY_INFO!$P136/(COUNTRY_INFO!$F136+COUNTRY_INFO!$G136)*$G136*$H136))),0)))","v":0},null,{"$f":"MAX(0,IF(OR(COUNTRY_INFO!Q136=\"Unknown\",COUNTRY_INFO!Q136=\"Surveillance\",COUNTRY_INFO!Q136=\"Not required\",COUNTRY_INFO!Q136=0),0,IF($E136<>0,IF($D136=0,COUNTRY_INFO!Q136*MIN($E136,$L136),COUNTRY_INFO!Q136*MIN($E136,$L136)-($F136*COUNTRY_INFO!$Q136/(COUNTRY_INFO!$F136+COUNTRY_INFO!$G136)+IF($G136=\" \",0,COUNTRY_INFO!$Q136/(COUNTRY_INFO!$F136+COUNTRY_INFO!$G136)*$G136*$H136))),0)))","v":0},0,0,null,0,0,null,0,0,null,0]
[{"$f":"IF(AND(INTRO!$E$37=\"Non-endemic\",INTRO!$E$41=\"Non-endemic\"),\" \",IF(COUNTRY_INFO!A137=0,\" \",COUNTRY_INFO!A137))","v":"Tchad"},{"$f":"IF(AND(INTRO!$E$37=\"Non-endemic\",INTRO!$E$41=\"Non-endemic\"),\" \",IF(COUNTRY_INFO!B137=0,\" \",COUNTRY_INFO!B137))","v":"Wadi Fira"},{"$f":"IF(AND(INTRO!$E$37=\"Non-endemic\",INTRO!$E$41=\"Non-endemic\"),\" \",IF(COUNTRY_INFO!C137=0,\" \",COUNTRY_INFO!C137))","v":"Guéréda"},{"$f":"IF(AND(INTRO!$E$37=\"Non-endemic\",INTRO!$E$41=\"Non-endemic\"),0,COUNTRY_INFO!W137)","v":0},{"$f":"IF(AND(INTRO!$E$37=\"Non-endemic\",INTRO!$E$41=\"Non-endemic\"),0,COUNTRY_INFO!Y137)","v":0},{"$f":"IF($D137=1,IVM!G137,0)","v":0},{"$f":"IF($D137=0, \" \", IF(COUNTRY_INFO!$H137=1, IF(COUNTRY_INFO!$L137=1, 0,\" \"),\" \"))","v":" "},null,null,{"$f":"IF(OR(COUNTRY_INFO!O137=\"Unknown\",COUNTRY_INFO!O137=\"Surveillance\",COUNTRY_INFO!O137=\"Not required\",COUNTRY_INFO!O137=0),0,IF(INTRO!$E$39=\"Non-endemic\",IF(AND($E137<>0,$I137=\"\"),IF($F137=0,COUNTRY_INFO!O137*$E137,COUNTRY_INFO!O137*($E137-$D137)),IF(AND($E137<>0,$I137<>0),IF($F137=0,COUNTRY_INFO!O137*$I137,COUNTRY_INFO!O137*($I137-$D137)),0)),IF($I137=\"\",COUNTRY_INFO!O137*$E137,COUNTRY_INFO!O137*$I137)))","v":0},{"$f":"MAX(0,IF(OR(COUNTRY_INFO!P137=\"Unknown\",COUNTRY_INFO!P137=\"Surveillance\",COUNTRY_INFO!P137=\"Not required\",COUNTRY_INFO!P137=0),0,IF($E137<>0,IF($D137=0,COUNTRY_INFO!P137*$E137,COUNTRY_INFO!P137*$E137-($F137*COUNTRY_INFO!$P137/(COUNTRY_INFO!$F137+COUNTRY_INFO!$G137)+IF($G137=\" \",0,COUNTRY_INFO!$P137/(COUNTRY_INFO!$F137+COUNTRY_INFO!$G137)*$G137*$H137))),0)))","v":0},null,{"$f":"MAX(0,IF(OR(COUNTRY_INFO!Q137=\"Unknown\",COUNTRY_INFO!Q137=\"Surveillance\",COUNTRY_INFO!Q137=\"Not required\",COUNTRY_INFO!Q137=0),0,IF($E137<>0,IF($D137=0,COUNTRY_INFO!Q137*MIN($E137,$L137),COUNTRY_INFO!Q137*MIN($E137,$L137)-($F137*COUNTRY_INFO!$Q137/(COUNTRY_INFO!$F137+COUNTRY_INFO!$G137)+IF($G137=\" \",0,COUNTRY_INFO!$Q137/(COUNTRY_INFO!$F137+COUNTRY_INFO!$G137)*$G137*$H137))),0)))","v":0},0,0,null,0,0,null,0,0,null,0]
[{"$f":"IF(AND(INTRO!$E$37=\"Non-endemic\",INTRO!$E$41=\"Non-endemic\"),\" \",IF(COUNTRY_INFO!A138=0,\" \",COUNTRY_INFO!A138))","v":"Tchad"},{"$f":"IF(AND(INTRO!$E$37=\"Non-endemic\",INTRO!$E$41=\"Non-endemic\"),\" \",IF(COUNTRY_INFO!B138=0,\" \",COUNTRY_INFO!B138))","v":"Wadi Fira"},{"$f":"IF(AND(INTRO!$E$37=\"Non-endemic\",INTRO!$E$41=\"Non-endemic\"),\" \",IF(COUNTRY_INFO!C138=0,\" \",COUNTRY_INFO!C138))","v":"Iriba"},{"$f":"IF(AND(INTRO!$E$37=\"Non-endemic\",INTRO!$E$41=\"Non-endemic\"),0,COUNTRY_INFO!W138)","v":0},{"$f":"IF(AND(INTRO!$E$37=\"Non-endemic\",INTRO!$E$41=\"Non-endemic\"),0,COUNTRY_INFO!Y138)","v":0},{"$f":"IF($D138=1,IVM!G138,0)","v":0},{"$f":"IF($D138=0, \" \", IF(COUNTRY_INFO!$H138=1, IF(COUNTRY_INFO!$L138=1, 0,\" \"),\" \"))","v":" "},null,null,{"$f":"IF(OR(COUNTRY_INFO!O138=\"Unknown\",COUNTRY_INFO!O138=\"Surveillance\",COUNTRY_INFO!O138=\"Not required\",COUNTRY_INFO!O138=0),0,IF(INTRO!$E$39=\"Non-endemic\",IF(AND($E138<>0,$I138=\"\"),IF($F138=0,COUNTRY_INFO!O138*$E138,COUNTRY_INFO!O138*($E138-$D138)),IF(AND($E138<>0,$I138<>0),IF($F138=0,COUNTRY_INFO!O138*$I138,COUNTRY_INFO!O138*($I138-$D138)),0)),IF($I138=\"\",COUNTRY_INFO!O138*$E138,COUNTRY_INFO!O138*$I138)))","v":0},{"$f":"MAX(0,IF(OR(COUNTRY_INFO!P138=\"Unknown\",COUNTRY_INFO!P138=\"Surveillance\",COUNTRY_INFO!P138=\"Not required\",COUNTRY_INFO!P138=0),0,IF($E138<>0,IF($D138=0,COUNTRY_INFO!P138*$E138,COUNTRY_INFO!P138*$E138-($F138*COUNTRY_INFO!$P138/(COUNTRY_INFO!$F138+COUNTRY_INFO!$G138)+IF($G138=\" \",0,COUNTRY_INFO!$P138/(COUNTRY_INFO!$F138+COUNTRY_INFO!$G138)*$G138*$H138))),0)))","v":0},null,{"$f":"MAX(0,IF(OR(COUNTRY_INFO!Q138=\"Unknown\",COUNTRY_INFO!Q138=\"Surveillance\",COUNTRY_INFO!Q138=\"Not required\",COUNTRY_INFO!Q138=0),0,IF($E138<>0,IF($D138=0,COUNTRY_INFO!Q138*MIN($E138,$L138),COUNTRY_INFO!Q138*MIN($E138,$L138)-($F138*COUNTRY_INFO!$Q138/(COUNTRY_INFO!$F138+COUNTRY_INFO!$G138)+IF($G138=\" \",0,COUNTRY_INFO!$Q138/(COUNTRY_INFO!$F138+COUNTRY_INFO!$G138)*$G138*$H138))),0)))","v":0},0,0,null,0,0,null,0,0,null,0]
[{"$f":"IF(AND(INTRO!$E$37=\"Non-endemic\",INTRO!$E$41=\"Non-endemic\"),\" \",IF(COUNTRY_INFO!A139=0,\" \",COUNTRY_INFO!A139))","v":"Tchad"},{"$f":"IF(AND(INTRO!$E$37=\"Non-endemic\",INTRO!$E$41=\"Non-endemic\"),\" \",IF(COUNTRY_INFO!B139=0,\" \",COUNTRY_INFO!B139))","v":"Wadi Fira"},{"$f":"IF(AND(INTRO!$E$37=\"Non-endemic\",INTRO!$E$41=\"Non-endemic\"),\" \",IF(COUNTRY_INFO!C139=0,\" \",COUNTRY_INFO!C139))","v":"Matadjana"},{"$f":"IF(AND(INTRO!$E$37=\"Non-endemic\",INTRO!$E$41=\"Non-endemic\"),0,COUNTRY_INFO!W139)","v":0},{"$f":"IF(AND(INTRO!$E$37=\"Non-endemic\",INTRO!$E$41=\"Non-endemic\"),0,COUNTRY_INFO!Y139)","v":0},{"$f":"IF($D139=1,IVM!G139,0)","v":0},{"$f":"IF($D139=0, \" \", IF(COUNTRY_INFO!$H139=1, IF(COUNTRY_INFO!$L139=1, 0,\" \"),\" \"))","v":" "},null,null,{"$f":"IF(OR(COUNTRY_INFO!O139=\"Unknown\",COUNTRY_INFO!O139=\"Surveillance\",COUNTRY_INFO!O139=\"Not required\",COUNTRY_INFO!O139=0),0,IF(INTRO!$E$39=\"Non-endemic\",IF(AND($E139<>0,$I139=\"\"),IF($F139=0,COUNTRY_INFO!O139*$E139,COUNTRY_INFO!O139*($E139-$D139)),IF(AND($E139<>0,$I139<>0),IF($F139=0,COUNTRY_INFO!O139*$I139,COUNTRY_INFO!O139*($I139-$D139)),0)),IF($I139=\"\",COUNTRY_INFO!O139*$E139,COUNTRY_INFO!O139*$I139)))","v":0},{"$f":"MAX(0,IF(OR(COUNTRY_INFO!P139=\"Unknown\",COUNTRY_INFO!P139=\"Surveillance\",COUNTRY_INFO!P139=\"Not required\",COUNTRY_INFO!P139=0),0,IF($E139<>0,IF($D139=0,COUNTRY_INFO!P139*$E139,COUNTRY_INFO!P139*$E139-($F139*COUNTRY_INFO!$P139/(COUNTRY_INFO!$F139+COUNTRY_INFO!$G139)+IF($G139=\" \",0,COUNTRY_INFO!$P139/(COUNTRY_INFO!$F139+COUNTRY_INFO!$G139)*$G139*$H139))),0)))","v":0},null,{"$f":"MAX(0,IF(OR(COUNTRY_INFO!Q139=\"Unknown\",COUNTRY_INFO!Q139=\"Surveillance\",COUNTRY_INFO!Q139=\"Not required\",COUNTRY_INFO!Q139=0),0,IF($E139<>0,IF($D139=0,COUNTRY_INFO!Q139*MIN($E139,$L139),COUNTRY_INFO!Q139*MIN($E139,$L139)-($F139*COUNTRY_INFO!$Q139/(COUNTRY_INFO!$F139+COUNTRY_INFO!$G139)+IF($G139=\" \",0,COUNTRY_INFO!$Q139/(COUNTRY_INFO!$F139+COUNTRY_INFO!$G139)*$G139*$H139))),0)))","v":0},0,{"$f":"$F139+IF(OR(G139=0,G139=\" \"),0,G139*H139)","v":0},null,0,0,null,0,0,null,0]

{"sheet":"PZQ","index":3,"n_rows":139,"n_cols":18,"rows_kept":139,"cut":false,"hidden":false,"merged":[[3,0,3,2],[5,0,5,2],[5,4,5,7],[5,8,5,9],[6,17,7,17],[6,6,7,6],[6,7,7,7],[6,9,7,9],[6,0,7,0],[6,1,7,1],[6,2,7,2],[6,4,7,4],[5,3,7,3],[6,5,7,5],[6,8,7,8],[6,12,7,12],[5,12,5,17],[5,10,5,11],[6,10,7,10],[6,14,7,14],[6,15,7,15],[6,16,7,16],[6,13,7,13],[6,11,7,11]]}
["Praziquantel (PZQ)"]
["Administrative structure, eligible population by age group, treatment plan and information about tablets"]
[]
["TOTAL",null,null,null,{"$f":"SUBTOTAL(9,E$10:E$1010)","v":232356},623821,1128642,1984819,null,0,null,null,{"$f":"SUBTOTAL(9,M$10:M$1010)","v":0},1247642,3385926,4633568,0,4633568]
[]
["Country administrative structure",null,null,"Treatment plan\nSCH","Target population for SCH",null,null,null,"Hot spots",null,"Previous year MDA",null,"Praziquantel (PZQ)"]
["Country","Province/State","District",null,"PreSAC","SAC","Adults","Total","Planned","Population","Rounds","Age groups","PreSAC","SAC","Adults","Total required","Remaining in stock","Tablets to be procured"]
[]
[]
[{"$f":"IF(INTRO!$E$43=\"Non-endemic\",\" \", IF(COUNTRY_INFO!A10=0,\" \",COUNTRY_INFO!A10))","v":"Tchad"},{"$f":"IF(INTRO!$E$43=\"Non-endemic\",\" \", IF(COUNTRY_INFO!B10=0,\" \",COUNTRY_INFO!B10))","v":"Bahr El Gazel"},{"$f":"IF(INTRO!$E$43=\"Non-endemic\",\" \", IF(COUNTRY_INFO!C10=0,\" \",COUNTRY_INFO!C10))","v":"Chadra"},{"$f":"IF(INTRO!$E$43=\"Non-endemic\", \"Not required\", COUNTRY_INFO!Z10)","v":1},{"$f":"IF(OR(COUNTRY_INFO!S10=\"Unknown\",COUNTRY_INFO!S10=\"Surveillance\",COUNTRY_INFO!S10=\"Not required\",COUNTRY_INFO!S10=0),0,IF($D10<>0, COUNTRY_INFO!S10,0))","v":4468},{"$f":"IF(OR(COUNTRY_INFO!T10=\"Unknown\",COUNTRY_INFO!T10=\"Surveillance\",COUNTRY_INFO!T10=\"Not required\",COUNTRY_INFO!T10=0),0,IF($D10<>0, COUNTRY_INFO!T10,0))","v":11995},{"$f":"IF(OR(COUNTRY_INFO!U10=\"Unknown\",COUNTRY_INFO!U10=\"Surveillance\",COUNTRY_INFO!U10=\"Not required\",COUNTRY_INFO!U10=0),0,IF($D10<>0, COUNTRY_INFO!U10,0))","v":21702},{"$f":"SUM(E10:G10)","v":38165},null,null,1,"SAC",null,{"$f":"IF($I10<>\"Yes\",$F10*2,($F10+ROUND(J10*$F10/SUM(COUNTRY_INFO!$E10:$G10),0))*2)","v":23990},{"$f":"IF($I10<>\"Yes\",$G10*3,($G10+ROUND(J10*$G10/SUM(COUNTRY_INFO!$E10:$G10),0))*3)","v":65106},{"$f":"SUM(M10:O10)","v":89096},null,{"$f":"IF($P10>$Q10,P10-Q10,0)","v":89096}]
[{"$f":"IF(INTRO!$E$43=\"Non-endemic\",\" \", IF(COUNTRY_INFO!A11=0,\" \",COUNTRY_INFO!A11))","v":"Tchad"},{"$f":"IF(INTRO!$E$43=\"Non-endemic\",\" \", IF(COUNTRY_INFO!B11=0,\" \",COUNTRY_INFO!B11))","v":"Bahr El Gazel"},{"$f":"IF(INTRO!$E$43=\"Non-endemic\",\" \", IF(COUNTRY_INFO!C11=0,\" \",COUNTRY_INFO!C11))","v":"Michemire"},{"$f":"IF(INTRO!$E$43=\"Non-endemic\", \"Not required\", COUNTRY_INFO!Z11)","v":0},{"$f":"IF(OR(COUNTRY_INFO!S11=\"Unknown\",COUNTRY_INFO!S11=\"Surveillance\",COUNTRY_INFO!S11=\"Not required\",COUNTRY_INFO!S11=0),0,IF($D11<>0, COUNTRY_INFO!S11,0))","v":0},{"$f":"IF(OR(COUNTRY_INFO!T11=\"Unknown\",COUNTRY_INFO!T11=\"Surveillance\",COUNTRY_INFO!T11=\"Not required\",COUNTRY_INFO!T11=0),0,IF($D11<>0, COUNTRY_INFO!T11,0))","v":0},{"$f":"IF(OR(COUNTRY_INFO!U11=\"Unknown\",COUNTRY_INFO!U11=\"Surveillance\",COUNTRY_INFO!U11=\"Not required\",COUNTRY_INFO!U11=0),0,IF($D11<>0, COUNTRY_INFO!U11,0))","v":0},{"$f":"SUM(E11:G11)","v":0},null,null,1,"SAC",null,{"$f":"IF($I11<>\"Yes\",$F11*2,($F11+ROUND(J11*$F11/SUM(COUNTRY_INFO!$E11:$G11),0))*2)","v":0},{"$f":"IF($I11<>\"Yes\",$G11*3,($G11+ROUND(J11*$G11/SUM(COUNTRY_INFO!$E11:$G11),0))*3)","v":0},{"$f":"SUM(M11:O11)","v":0},null,{"$f":"IF($P11>$Q11,P11-Q11,0)","v":0}]
[{"$f":"IF(INTRO!$E$43=\"Non-endemic\",\" \", IF(COUNTRY_INFO!A12=0,\" \",COUNTRY_INFO!A12))","v":"Tchad"},{"$f":"IF(INTRO!$E$43=\"Non-endemic\",\" \", IF(COUNTRY_INFO!B12=0,\" \",COUNTRY_INFO!B12))","v":"Bahr El Gazel"},{"$f":"IF(INTRO!$E$43=\"Non-endemic\",\" \", IF(COUNTRY_INFO!C12=0,\" \",COUNTRY_INFO!C12))","v":"Moussoro"},{"$f":"IF(INTRO!$E$43=\"Non-endemic\", \"Not required\", COUNTRY_INFO!Z12)","v":1},{"$f":"IF(OR(COUNTRY_INFO!S12=\"Unknown\",COUNTRY_INFO!S12=\"Surveillance\",COUNTRY_INFO!S12=\"Not required\",COUNTRY_INFO!S12=0),0,IF($D12<>0, COUNTRY_INFO!S12,0))","v":2823},{"$f":"IF(OR(COUNTRY_INFO!T12=\"Unknown\",COUNTRY_INFO!T12=\"Surveillance\",COUNTRY_INFO!T12=\"Not required\",COUNTRY_INFO!T12=0),0,IF($D12<>0, COUNTRY_INFO!T12,0))","v":7579},{"$f":"IF(OR(COUNTRY_INFO!U12=\"Unknown\",COUNTRY_INFO!U12=\"Surveillance\",COUNTRY_INFO!U12=\"Not required\",COUNTRY_INFO!U12=0),0,IF($D12<>0, COUNTRY_INFO!U12,0))","v":13713},24115,null,null,0,null,null,{"$f":"IF($I12<>\"Yes\",$F12*2,($F12+ROUND(J12*$F12/SUM(COUNTRY_INFO!$E12:$G12),0))*2)","v":15158},{"$f":"IF($I12<>\"Yes\",$G12*3,($G12+ROUND(J12*$G12/SUM(COUNTRY_INFO!$E12:$G12),0))*3)","v":41139},56297,null,56297]
[{"$f":"IF(INTRO!$E$43=\"Non-endemic\",\" \", IF(COUNTRY_INFO!A13=0,\" \",COUNTRY_INFO!A13))","v":"Tchad"},{"$f":"IF(INTRO!$E$43=\"Non-endemic\",\" \", IF(COUNTRY_INFO!B13=0,\" \",COUNTRY_INFO!B13))","v":"Bahr El Gazel"},{"$f":"IF(INTRO!$E$43=\"Non-endemic\",\" \", IF(COUNTRY_INFO!C13=0,\" \",COUNTRY_INFO!C13))","v":"Salal"},{"$f":"IF(INTRO!$E$43=\"Non-endemic\", \"Not required\", COUNTRY_INFO!Z13)","v":0},{"$f":"IF(OR(COUNTRY_INFO!S13=\"Unknown\",COUNTRY_INFO!S13=\"Surveillance\",COUNTRY_INFO!S13=\"Not required\",COUNTRY_INFO!S13=0),0,IF($D13<>0, COUNTRY_INFO!S13,0))","v":0},{"$f":"IF(OR(COUNTRY_INFO!T13=\"Unknown\",COUNTRY_INFO!T13=\"Surveillance\",COUNTRY_INFO!T13=\"Not required\",COUNTRY_INFO!T13=0),0,IF($D13<>0, COUNTRY_INFO!T13,0))","v":0},{"$f":"IF(OR(COUNTRY_INFO!U13=\"Unknown\",COUNTRY_INFO!U13=\"Surveillance\",COUNTRY_INFO!U13=\"Not required\",COUNTRY_INFO!U13=0),0,IF($D13<>0, COUNTRY_INFO!U13,0))","v":0},0,null,null,0,null,null,{"$f":"IF($I13<>\"Yes\",$F13*2,($F13+ROUND(J13*$F13/SUM(COUNTRY_INFO!$E13:$G13),0))*2)","v":0},{"$f":"IF($I13<>\"Yes\",$G13*3,($G13+ROUND(J13*$G13/SUM(COUNTRY_INFO!$E13:$G13),0))*3)","v":0},0,null,0]
[{"$f":"IF(INTRO!$E$43=\"Non-endemic\",\" \", IF(COUNTRY_INFO!A14=0,\" \",COUNTRY_INFO!A14))","v":"Tchad"},{"$f":"IF(INTRO!$E$43=\"Non-endemic\",\" \", IF(COUNTRY_INFO!B14=0,\" \",COUNTRY_INFO!B14))","v":"Batha"},{"$f":"IF(INTRO!$E$43=\"Non-endemic\",\" \", IF(COUNTRY_INFO!C14=0,\" \",COUNTRY_INFO!C14))","v":"Alifa"},{"$f":"IF(INTRO!$E$43=\"Non-endemic\", \"Not required\", COUNTRY_INFO!Z14)","v":0},{"$f":"IF(OR(COUNTRY_INFO!S14=\"Unknown\",COUNTRY_INFO!S14=\"Surveillance\",COUNTRY_INFO!S14=\"Not required\",COUNTRY_INFO!S14=0),0,IF($D14<>0, COUNTRY_INFO!S14,0))","v":0},{"$f":"IF(OR(COUNTRY_INFO!T14=\"Unknown\",COUNTRY_INFO!T14=\"Surveillance\",COUNTRY_INFO!T14=\"Not required\",COUNTRY_INFO!T14=0),0,IF($D14<>0, COUNTRY_INFO!T14,0))","v":0},{"$f":"IF(OR(COUNTRY_INFO!U14=\"Unknown\",COUNTRY_INFO!U14=\"Surveillance\",COUNTRY_INFO!U14=\"Not required\",COUNTRY_INFO!U14=0),0,IF($D14<>0, COUNTRY_INFO!U14,0))","v":0},0,null,null,0,null,null,{"$f":"IF($I14<>\"Yes\",$F14*2,($F14+ROUND(J14*$F14/SUM(COUNTRY_INFO!$E14:$G14),0))*2)","v":0},{"$f":"IF($I14<>\"Yes\",$G14*3,($G14+ROUND(J14*$G14/SUM(COUNTRY_INFO!$E14:$G14),0))*3)","v":0},0,null,0]
[{"$f":"IF(INTRO!$E$43=\"Non-endemic\",\" \", IF(COUNTRY_INFO!A15=0,\" \",COUNTRY_INFO!A15))","v":"Tchad"},{"$f":"IF(INTRO!$E$43=\"Non-endemic\",\" \", IF(COUNTRY_INFO!B15=0,\" \",COUNTRY_INFO!B15))","v":"Batha"},{"$f":"IF(INTRO!$E$43=\"Non-endemic\",\" \", IF(COUNTRY_INFO!C15=0,\" \",COUNTRY_INFO!C15))","v":"Assinet"},{"$f":"IF(INTRO!$E$43=\"Non-endemic\", \"Not required\", COUNTRY_INFO!Z15)","v":0},{"$f":"IF(OR(COUNTRY_INFO!S15=\"Unknown\",COUNTRY_INFO!S15=\"Surveillance\",COUNTRY_INFO!S15=\"Not required\",COUNTRY_INFO!S15=0),0,IF($D15<>0, COUNTRY_INFO!S15,0))","v":0},{"$f":"IF(OR(COUNTRY_INFO!T15=\"Unknown\",COUNTRY_INFO!T15=\"Surveillance\",COUNTRY_INFO!T15=\"Not required\",COUNTRY_INFO!T15=0),0,IF($D15<>0, COUNTRY_INFO!T15,0))","v":0},{"$f":"IF(OR(COUNTRY_INFO!U15=\"Unknown\",COUNTRY_INFO!U15=\"Surveillance\",COUNTRY_INFO!U15=\"Not required\",COUNTRY_INFO!U15=0),0,IF($D15<>0, COUNTRY_INFO!U15,0))","v":0},0,null,null,0,null,null,{"$f":"IF($I15<>\"Yes\",$F15*2,($F15+ROUND(J15*$F15/SUM(COUNTRY_INFO!$E15:$G15),0))*2)","v":0},{"$f":"IF($I15<>\"Yes\",$G15*3,($G15+ROUND(J15*$G15/SUM(COUNTRY_INFO!$E15:$G15),0))*3)","v":0},0,null,0]
[{"$f":"IF(INTRO!$E$43=\"Non-endemic\",\" \", IF(COUNTRY_INFO!A16=0,\" \",COUNTRY_INFO!A16))","v":"Tchad"},{"$f":"IF(INTRO!$E$43=\"Non-endemic\",\" \", IF(COUNTRY_INFO!B16=0,\" \",COUNTRY_INFO!B16))","v":"Batha"},{"$f":"IF(INTRO!$E$43=\"Non-endemic\",\" \", IF(COUNTRY_INFO!C16=0,\" \",COUNTRY_INFO!C16))","v":"Ati"},{"$f":"IF(INTRO!$E$43=\"Non-endemic\", \"Not required\", COUNTRY_INFO!Z16)","v":1},{"$f":"IF(OR(COUNTRY_INFO!S16=\"Unknown\",COUNTRY_INFO!S16=\"Surveillance\",COUNTRY_INFO!S16=\"Not required\",COUNTRY_INFO!S16=0),0,IF($D16<>0, COUNTRY_INFO!S16,0))","v":3580},{"$f":"IF(OR(COUNTRY_INFO!T16=\"Unknown\",COUNTRY_INFO!T16=\"Surveillance\",COUNTRY_INFO!T16=\"Not required\",COUNTRY_INFO!T16=0),0,IF($D16<>0, COUNTRY_INFO!T16,0))","v":9611},{"$f":"IF(OR(COUNTRY_INFO!U16=\"Unknown\",COUNTRY_INFO!U16=\"Surveillance\",COUNTRY_INFO!U16=\"Not required\",COUNTRY_INFO!U16=0),0,IF($D16<>0, COUNTRY_INFO!U16,0))","v":17388},30579,null,null,0,null,null,{"$f":"IF($I16<>\"Yes\",$F16*2,($F16+ROUND(J16*$F16/SUM(COUNTRY_INFO!$E16:$G16),0))*2)","v":19222},{"$f":"IF($I16<>\"Yes\",$G16*3,($G16+ROUND(J16*$G16/SUM(COUNTRY_INFO!$E16:$G16),0))*3)","v":52164},71386,null,71386]
[{"$f":"IF(INTRO!$E$43=\"Non-endemic\",\" \", IF(COUNTRY_INFO!A17=0,\" \",COUNTRY_INFO!A17))","v":"Tchad"},{"$f":"IF(INTRO!$E$43=\"Non-endemic\",\" \", IF(COUNTRY_INFO!B17=0,\" \",COUNTRY_INFO!B17))","v":"Batha"},{"$f":"IF(INTRO!$E$43=\"Non-endemic\",\" \", IF(COUNTRY_INFO!C17=0,\" \",COUNTRY_INFO!C17))","v":"Djedda"},{"$f":"IF(INTRO!$E$43=\"Non-endemic\", \"Not required\", COUNTRY_INFO!Z17)","v":0},{"$f":"IF(OR(COUNTRY_INFO!S17=\"Unknown\",COUNTRY_INFO!S17=\"Surveillance\",COUNTRY_INFO!S17=\"Not required\",COUNTRY_INFO!S17=0),0,IF($D17<>0, COUNTRY_INFO!S17,0))","v":0},{"$f":"IF(OR(COUNTRY_INFO!T17=\"Unknown\",COUNTRY_INFO!T17=\"Surveillance\",COUNTRY_INFO!T17=\"Not required\",COUNTRY_INFO!T17=0),0,IF($D17<>0, COUNTRY_INFO!T17,0))","v":0},{"$f":"IF(OR(COUNTRY_INFO!U17=\"Unknown\",COUNTRY_INFO!U17=\"Surveillance\",COUNTRY_INFO!U17=\"Not required\",COUNTRY_INFO!U17=0),0,IF($D17<>0, COUNTRY_INFO!U17,0))","v":0},0,null,null,0,null,null,{"$f":"IF($I17<>\"Yes\",$F17*2,($F17+ROUND(J17*$F17/SUM(COUNTRY_INFO!$E17:$G17),0))*2)","v":0},{"$f":"IF($I17<>\"Yes\",$G17*3,($G17+ROUND(J17*$G17/SUM(COUNTRY_INFO!$E17:$G17),0))*3)","v":0},0,null,0]
[{"$f":"IF(INTRO!$E$43=\"Non-endemic\",\" \", IF(COUNTRY_INFO!A18=0,\" \",COUNTRY_INFO!A18))","v":"Tchad"},{"$f":"IF(INTRO!$E$43=\"Non-endemic\",\" \", IF(COUNTRY_INFO!B18=0,\" \",COUNTRY_INFO!B18))","v":"Batha"},{"$f":"IF(INTRO!$E$43=\"Non-endemic\",\" \", IF(COUNTRY_INFO!C18=0,\" \",COUNTRY_INFO!C18))","v":"Koundjourou"},{"$f":"IF(INTRO!$E$43=\"Non-endemic\", \"Not required\", COUNTRY_INFO!Z18)","v":0},{"$f":"IF(OR(COUNTRY_INFO!S18=\"Unknown\",COUNTRY_INFO!S18=\"Surveillance\",COUNTRY_INFO!S18=\"Not required\",COUNTRY_INFO!S18=0),0,IF($D18<>0, COUNTRY_INFO!S18,0))","v":0},{"$f":"IF(OR(COUNTRY_INFO!T18=\"Unknown\",COUNTRY_INFO!T18=\"Surveillance\",COUNTRY_INFO!T18=\"Not required\",COUNTRY_INFO!T18=0),0,IF($D18<>0, COUNTRY_INFO!T18,0))","v":0},{"$f":"IF(OR(COUNTRY_INFO!U18=\"Unknown\",COUNTRY_INFO!U18=\"Surveillance\",COUNTRY_INFO!U18=\"Not required\",COUNTRY_INFO!U18=0),0,IF($D18<>0, COUNTRY_INFO!U18,0))","v":0},0,null,null,0,null,null,{"$f":"IF($I18<>\"Yes\",$F18*2,($F18+ROUND(J18*$F18/SUM(COUNTRY_INFO!$E18:$G18),0))*2)","v":0},{"$f":"IF($I18<>\"Yes\",$G18*3,($G18+ROUND(J18*$G18/SUM(COUNTRY_INFO!$E18:$G18),0))*3)","v":0},0,null,0]
[{"$f":"IF(INTRO!$E$43=\"Non-endemic\",\" \", IF(COUNTRY_INFO!A19=0,\" \",COUNTRY_INFO!A19))","v":"Tchad"},{"$f":"IF(INTRO!$E$43=\"Non-endemic\",\" \", IF(COUNTRY_INFO!B19=0,\" \",COUNTRY_INFO!B19))","v":"Batha"},{"$f":"IF(INTRO!$E$43=\"Non-endemic\",\" \", IF(COUNTRY_INFO!C19=0,\" \",COUNTRY_INFO!C19))","v":"Oum-Hadjer"},{"$f":"IF(INTRO!$E$43=\"Non-endemic\", \"Not required\", COUNTRY_INFO!Z19)","v":1},{"$f":"IF(OR(COUNTRY_INFO!S19=\"Unknown\",COUNTRY_INFO!S19=\"Surveillance\",COUNTRY_INFO!S19=\"Not required\",COUNTRY_INFO!S19=0),0,IF($D19<>0, COUNTRY_INFO!S19,0))","v":8159},{"$f":"IF(OR(COUNTRY_INFO!T19=\"Unknown\",COUNTRY_INFO!T19=\"Surveillance\",COUNTRY_INFO!T19=\"Not required\",COUNTRY_INFO!T19=0),0,IF($D19<>0, COUNTRY_INFO!T19,0))","v":21904},{"$f":"IF(OR(COUNTRY_INFO!U19=\"Unknown\",COUNTRY_INFO!U19=\"Surveillance\",COUNTRY_INFO!U19=\"Not required\",COUNTRY_INFO!U19=0),0,IF($D19<>0, COUNTRY_INFO!U19,0))","v":39631},69694,null,null,0,null,null,{"$f":"IF($I19<>\"Yes\",$F19*2,($F19+ROUND(J19*$F19/SUM(COUNTRY_INFO!$E19:$G19),0))*2)","v":43808},{"$f":"IF($I19<>\"Yes\",$G19*3,($G19+ROUND(J19*$G19/SUM(COUNTRY_INFO!$E19:$G19),0))*3)","v":118893},162701,null,162701]
[{"$f":"IF(INTRO!$E$43=\"Non-endemic\",\" \", IF(COUNTRY_INFO!A20=0,\" \",COUNTRY_INFO!A20))","v":"Tchad"},{"$f":"IF(INTRO!$E$43=\"Non-endemic\",\" \", IF(COUNTRY_INFO!B20=0,\" \",COUNTRY_INFO!B20))","v":"Batha"},{"$f":"IF(INTRO!$E$43=\"Non-endemic\",\" \", IF(COUNTRY_INFO!C20=0,\" \",COUNTRY_INFO!C20))","v":"Yao"},{"$f":"IF(INTRO!$E$43=\"Non-endemic\", \"Not required\", COUNTRY_INFO!Z20)","v":1},{"$f":"IF(OR(COUNTRY_INFO!S20=\"Unknown\",COUNTRY_INFO!S20=\"Surveillance\",COUNTRY_INFO!S20=\"Not required\",COUNTRY_INFO!S20=0),0,IF($D20<>0, COUNTRY_INFO!S20,0))","v":4367},{"$f":"IF(OR(COUNTRY_INFO!T20=\"Unknown\",COUNTRY_INFO!T20=\"Surveillance\",COUNTRY_INFO!T20=\"Not required\",COUNTRY_INFO!T20=0),0,IF($D20<>0, COUNTRY_INFO!T20,0))","v":11726},{"$f":"IF(OR(COUNTRY_INFO!U20=\"Unknown\",COUNTRY_INFO!U20=\"Surveillance\",COUNTRY_INFO!U20=\"Not required\",COUNTRY_INFO!U20=0),0,IF($D20<>0, COUNTRY_INFO!U20,0))","v":21215},37308,null,null,0,null,null,{"$f":"IF($I20<>\"Yes\",$F20*2,($F20+ROUND(J20*$F20/SUM(COUNTRY_INFO!$E20:$G20),0))*2)","v":23452},{"$f":"IF($I20<>\"Yes\",$G20*3,($G20+ROUND(J20*$G20/SUM(COUNTRY_INFO!$E20:$G20),0))*3)","v":63645},87097,null,87097]
[{"$f":"IF(INTRO!$E$43=\"Non-endemic\",\" \", IF(COUNTRY_INFO!A21=0,\" \",COUNTRY_INFO!A21))","v":"Tchad"},{"$f":"IF(INTRO!$E$43=\"Non-endemic\",\" \", IF(COUNTRY_INFO!B21=0,\" \",COUNTRY_INFO!B21))","v":"Borkou"},{"$f":"IF(INTRO!$E$43=\"Non-endemic\",\" \", IF(COUNTRY_INFO!C21=0,\" \",COUNTRY_INFO!C21))","v":"Faya"},{"$f":"IF(INTRO!$E$43=\"Non-endemic\", \"Not required\", COUNTRY_INFO!Z21)","v":0},{"$f":"IF(OR(COUNTRY_INFO!S21=\"Unknown\",COUNTRY_INFO!S21=\"Surveillance\",COUNTRY_INFO!S21=\"Not required\",COUNTRY_INFO!S21=0),0,IF($D21<>0, COUNTRY_INFO!S21,0))","v":0},{"$f":"IF(OR(COUNTRY_INFO!T21=\"Unknown\",COUNTRY_INFO!T21=\"Surveillance\",COUNTRY_INFO!T21=\"Not required\",COUNTRY_INFO!T21=0),0,IF($D21<>0, COUNTRY_INFO!T21,0))","v":0},{"$f":"IF(OR(COUNTRY_INFO!U21=\"Unknown\",COUNTRY_INFO!U21=\"Surveillance\",COUNTRY_INFO!U21=\"Not required\",COUNTRY_INFO!U21=0),0,IF($D21<>0, COUNTRY_INFO!U21,0))","v":0},0,null,null,0,null,null,{"$f":"IF($I21<>\"Yes\",$F21*2,($F21+ROUND(J21*$F21/SUM(COUNTRY_INFO!$E21:$G21),0))*2)","v":0},{"$f":"IF($I21<>\"Yes\",$G21*3,($G21+ROUND(J21*$G21/SUM(COUNTRY_INFO!$E21:$G21),0))*3)","v":0},0,null,0]
[{"$f":"IF(INTRO!$E$43=\"Non-endemic\",\" \", IF(COUNTRY_INFO!A22=0,\" \",COUNTRY_INFO!A22))","v":"Tchad"},{"$f":"IF(INTRO!$E$43=\"Non-endemic\",\" \", IF(COUNTRY_INFO!B22=0,\" \",COUNTRY_INFO!B22))","v":"Borkou"},{"$f":"IF(INTRO!$E$43=\"Non-endemic\",\" \", IF(COUNTRY_INFO!C22=0,\" \",COUNTRY_INFO!C22))","v":"Kirdimi"},{"$f":"IF(INTRO!$E$43=\"Non-endemic\", \"Not required\", COUNTRY_INFO!Z22)","v":0},{"$f":"IF(OR(COUNTRY_INFO!S22=\"Unknown\",COUNTRY_INFO!S22=\"Surveillance\",COUNTRY_INFO!S22=\"Not required\",COUNTRY_INFO!S22=0),0,IF($D22<>0, COUNTRY_INFO!S22,0))","v":0},{"$f":"IF(OR(COUNTRY_INFO!T22=\"Unknown\",COUNTRY_INFO!T22=\"Surveillance\",COUNTRY_INFO!T22=\"Not required\",COUNTRY_INFO!T22=0),0,IF($D22<>0, COUNTRY_INFO!T22,0))","v":0},{"$f":"IF(OR(COUNTRY_INFO!U22=\"Unknown\",COUNTRY_INFO!U22=\"Surveillance\",COUNTRY_INFO!U22=\"Not required\",COUNTRY_INFO!U22=0),0,IF($D22<>0, COUNTRY_INFO!U22,0))","v":0},0,null,null,0,null,null,{"$f":"IF($I22<>\"Yes\",$F22*2,($F22+ROUND(J22*$F22/SUM(COUNTRY_INFO!$E22:$G22),0))*2)","v":0},{"$f":"IF($I22<>\"Yes\",$G22*3,($G22+ROUND(J22*$G22/SUM(COUNTRY_INFO!$E22:$G22),0))*3)","v":0},0,null,0]
[{"$f":"IF(INTRO!$E$43=\"Non-endemic\",\" \", IF(COUNTRY_INFO!A23=0,\" \",COUNTRY_INFO!A23))","v":"Tchad"},{"$f":"IF(INTRO!$E$43=\"Non-endemic\",\" \", IF(COUNTRY_INFO!B23=0,\" \",COUNTRY_INFO!B23))","v":"Borkou"},{"$f":"IF(INTRO!$E$43=\"Non-endemic\",\" \", IF(COUNTRY_INFO!C23=0,\" \",COUNTRY_INFO!C23))","v":"Kouba Olanga"},{"$f":"IF(INTRO!$E$43=\"Non-endemic\", \"Not required\", COUNTRY_INFO!Z23)","v":0},{"$f":"IF(OR(COUNTRY_INFO!S23=\"Unknown\",COUNTRY_INFO!S23=\"Surveillance\",COUNTRY_INFO!S23=\"Not required\",COUNTRY_INFO!S23=0),0,IF($D23<>0, COUNTRY_INFO!S23,0))","v":0},{"$f":"IF(OR(COUNTRY_INFO!T23=\"Unknown\",COUNTRY_INFO!T23=\"Surveillance\",COUNTRY_INFO!T23=\"Not required\",COUNTRY_INFO!T23=0),0,IF($D23<>0, COUNTRY_INFO!T23,0))","v":0},{"$f":"IF(OR(COUNTRY_INFO!U23=\"Unknown\",COUNTRY_INFO!U23=\"Surveillance\",COUNTRY_INFO!U23=\"Not required\",COUNTRY_INFO!U23=0),0,IF($D23<>0, COUNTRY_INFO!U23,0))","v":0},0,null,null,0,null,null,{"$f":"IF($I23<>\"Yes\",$F23*2,($F23+ROUND(J23*$F23/SUM(COUNTRY_INFO!$E23:$G23),0))*2)","v":0},{"$f":"IF($I23<>\"Yes\",$G23*3,($G23+ROUND(J23*$G23/SUM(COUNTRY_INFO!$E23:$G23),0))*3)","v":0},0,null,0]
[{"$f":"IF(INTRO!$E$43=\"Non-endemic\",\" \", IF(COUNTRY_INFO!A24=0,\" \",COUNTRY_INFO!A24))","v":"Tchad"},{"$f":"IF(INTRO!$E$43=\"Non-endemic\",\" \", IF(COUNTRY_INFO!B24=0,\" \",COUNTRY_INFO!B24))","v":"Chari  Baguirmi"},{"$f":"IF(INTRO!$E$43=\"Non-endemic\",\" \", IF(COUNTRY_INFO!C24=0,\" \",COUNTRY_INFO!C24))","v":"Ba-Illi"},{"$f":"IF(INTRO!$E$43=\"Non-endemic\", \"Not required\", COUNTRY_INFO!Z24)","v":1},{"$f":"IF(OR(COUNTRY_INFO!S24=\"Unknown\",COUNTRY_INFO!S24=\"Surveillance\",COUNTRY_INFO!S24=\"Not required\",COUNTRY_INFO!S24=0),0,IF($D24<>0, COUNTRY_INFO!S24,0))","v":3132},{"$f":"IF(OR(COUNTRY_INFO!T24=\"Unknown\",COUNTRY_INFO!T24=\"Surveillance\",COUNTRY_INFO!T24=\"Not required\",COUNTRY_INFO!T24=0),0,IF($D24<>0, COUNTRY_INFO!T24,0))","v":8410},{"$f":"IF(OR(COUNTRY_INFO!U24=\"Unknown\",COUNTRY_INFO!U24=\"Surveillance\",COUNTRY_INFO!U24=\"Not required\",COUNTRY_INFO!U24=0),0,IF($D24<>0, COUNTRY_INFO!U24,0))","v":15216},26758,null,null,1,"SAC",null,{"$f":"IF($I24<>\"Yes\",$F24*2,($F24+ROUND(J24*$F24/SUM(COUNTRY_INFO!$E24:$G24),0))*2)","v":16820},{"$f":"IF($I24<>\"Yes\",$G24*3,($G24+ROUND(J24*$G24/SUM(COUNTRY_INFO!$E24:$G24),0))*3)","v":45648},62468,null,62468]
[{"$f":"IF(INTRO!$E$43=\"Non-endemic\",\" \", IF(COUNTRY_INFO!A25=0,\" \",COUNTRY_INFO!A25))","v":"Tchad"},{"$f":"IF(INTRO!$E$43=\"Non-endemic\",\" \", IF(COUNTRY_INFO!B25=0,\" \",COUNTRY_INFO!B25))","v":"Chari  Baguirmi"},{"$f":"IF(INTRO!$E$43=\"Non-endemic\",\" \", IF(COUNTRY_INFO!C25=0,\" \",COUNTRY_INFO!C25))","v":"Bousso"},{"$f":"IF(INTRO!$E$43=\"Non-endemic\", \"Not required\", COUNTRY_INFO!Z25)","v":1},{"$f":"IF(OR(COUNTRY_INFO!S25=\"Unknown\",COUNTRY_INFO!S25=\"Surveillance\",COUNTRY_INFO!S25=\"Not required\",COUNTRY_INFO!S25=0),0,IF($D25<>0, COUNTRY_INFO!S25,0))","v":6271},{"$f":"IF(OR(COUNTRY_INFO!T25=\"Unknown\",COUNTRY_INFO!T25=\"Surveillance\",COUNTRY_INFO!T25=\"Not required\",COUNTRY_INFO!T25=0),0,IF($D25<>0, COUNTRY_INFO!T25,0))","v":16834},{"$f":"IF(OR(COUNTRY_INFO!U25=\"Unknown\",COUNTRY_INFO!U25=\"Surveillance\",COUNTRY_INFO!U25=\"Not required\",COUNTRY_INFO!U25=0),0,IF($D25<>0, COUNTRY_INFO!U25,0))","v":30457},53562,null,null,1,"SAC",null,{"$f":"IF($I25<>\"Yes\",$F25*2,($F25+ROUND(J25*$F25/SUM(COUNTRY_INFO!$E25:$G25),0))*2)","v":33668},{"$f":"IF($I25<>\"Yes\",$G25*3,($G25+ROUND(J25*$G25/SUM(COUNTRY_INFO!$E25:$G25),0))*3)","v":91371},125039,null,125039]
[{"$f":"IF(INTRO!$E$43=\"Non-endemic\",\" \", IF(COUNTRY_INFO!A26=0,\" \",COUNTRY_INFO!A26))","v":"Tchad"},{"$f":"IF(INTRO!$E$43=\"Non-endemic\",\" \", IF(COUNTRY_INFO!B26=0,\" \",COUNTRY_INFO!B26))","v":"Chari  Baguirmi"},{"$f":"IF(INTRO!$E$43=\"Non-endemic\",\" \", IF(COUNTRY_INFO!C26=0,\" \",COUNTRY_INFO!C26))","v":"Dourbali"},{"$f":"IF(INTRO!$E$43=\"Non-endemic\", \"Not required\", COUNTRY_INFO!Z26)","v":1},{"$f":"IF(OR(COUNTRY_INFO!S26=\"Unknown\",COUNTRY_INFO!S26=\"Surveillance\",COUNTRY_INFO!S26=\"Not required\",COUNTRY_INFO!S26=0),0,IF($D26<>0, COUNTRY_INFO!S26,0))","v":4364},{"$f":"IF(OR(COUNTRY_INFO!T26=\"Unknown\",COUNTRY_INFO!T26=\"Surveillance\",COUNTRY_INFO!T26=\"Not required\",COUNTRY_INFO!T26=0),0,IF($D26<>0, COUNTRY_INFO!T26,0))","v":11716},{"$f":"IF(OR(COUNTRY_INFO!U26=\"Unknown\",COUNTRY_INFO!U26=\"Surveillance\",COUNTRY_INFO!U26=\"Not required\",COUNTRY_INFO!U26=0),0,IF($D26<>0, COUNTRY_INFO!U26,0))","v":21196},37276,null,null,1,"SAC",null,{"$f":"IF($I26<>\"Yes\",$F26*2,($F26+ROUND(J26*$F26/SUM(COUNTRY_INFO!$E26:$G26),0))*2)","v":23432},{"$f":"IF($I26<>\"Yes\",$G26*3,($G26+ROUND(J26*$G26/SUM(COUNTRY_INFO!$E26:$G26),0))*3)","v":63588},87020,null,87020]
[{"$f":"IF(INTRO!$E$43=\"Non-endemic\",\" \", IF(COUNTRY_INFO!A27=0,\" \",COUNTRY_INFO!A27))","v":"Tchad"},{"$f":"IF(INTRO!$E$43=\"Non-endemic\",\" \", IF(COUNTRY_INFO!B27=0,\" \",COUNTRY_INFO!B27))","v":"Chari  Baguirmi"},{"$f":"IF(INTRO!$E$43=\"Non-endemic\",\" \", IF(COUNTRY_INFO!C27=0,\" \",COUNTRY_INFO!C27))","v":"Koulno"},{"$f":"IF(INTRO!$E$43=\"Non-endemic\", \"Not required\", COUNTRY_INFO!Z27)","v":0},{"$f":"IF(OR(COUNTRY_INFO!S27=\"Unknown\",COUNTRY_INFO!S27=\"Surveillance\",COUNTRY_INFO!S27=\"Not required\",COUNTRY_INFO!S27=0),0,IF($D27<>0, COUNTRY_INFO!S27,0))","v":0},{"$f":"IF(OR(COUNTRY_INFO!T27=\"Unknown\",COUNTRY_INFO!T27=\"Surveillance\",COUNTRY_INFO!T27=\"Not required\",COUNTRY_INFO!T27=0),0,IF($D27<>0, COUNTRY_INFO!T27,0))","v":0},{"$f":"IF(OR(COUNTRY_INFO!U27=\"Unknown\",COUNTRY_INFO!U27=\"Surveillance\",COUNTRY_INFO!U27=\"Not required\",COUNTRY_INFO!U27=0),0,IF($D27<>0, COUNTRY_INFO!U27,0))","v":0},0,null,null,0,null,null,{"$f":"IF($I27<>\"Yes\",$F27*2,($F27+ROUND(J27*$F27/SUM(COUNTRY_INFO!$E27:$G27),0))*2)","v":0},{"$f":"IF($I27<>\"Yes\",$G27*3,($G27+ROUND(J27*$G27/SUM(COUNTRY_INFO!$E27:$G27),0))*3)","v":0},0,null,0]
[{"$f":"IF(INTRO!$E$43=\"Non-endemic\",\" \", IF(COUNTRY_INFO!A28=0,\" \",COUNTRY_INFO!A28))","v":"Tchad"},{"$f":"IF(INTRO!$E$43=\"Non-endemic\",\" \", IF(COUNTRY_INFO!B28=0,\" \",COUNTRY_INFO!B28))","v":"Chari  Baguirmi"},{"$f":"IF(INTRO!$E$43=\"Non-endemic\",\" \", IF(COUNTRY_INFO!C28=0,\" \",COUNTRY_INFO!C28))","v":"Mandélia"},{"$f":"IF(INTRO!$E$43=\"Non-endemic\", \"Not required\", COUNTRY_INFO!Z28)","v":1},{"$f":"IF(OR(COUNTRY_INFO!S28=\"Unknown\",COUNTRY_INFO!S28=\"Surveillance\",COUNTRY_INFO!S28=\"Not required\",COUNTRY_INFO!S28=0),0,IF($D28<>0, COUNTRY_INFO!S28,0))","v":5204},{"$f":"IF(OR(COUNTRY_INFO!T28=\"Unknown\",COUNTRY_INFO!T28=\"Surveillance\",COUNTRY_INFO!T28=\"Not required\",COUNTRY_INFO!T28=0),0,IF($D28<>0, COUNTRY_INFO!T28,0))","v":13971},{"$f":"IF(OR(COUNTRY_INFO!U28=\"Unknown\",COUNTRY_INFO!U28=\"Surveillance\",COUNTRY_INFO!U28=\"Not required\",COUNTRY_INFO!U28=0),0,IF($D28<>0, COUNTRY_INFO!U28,0))","v":25277},44452,null,null,0,null,null,{"$f":"IF($I28<>\"Yes\",$F28*2,($F28+ROUND(J28*$F28/SUM(COUNTRY_INFO!$E28:$G28),0))*2)","v":27942},{"$f":"IF($I28<>\"Yes\",$G28*3,($G28+ROUND(J28*$G28/SUM(COUNTRY_INFO!$E28:$G28),0))*3)","v":75831},103773,null,103773]
[{"$f":"IF(INTRO!$E$43=\"Non-endemic\",\" \", IF(COUNTRY_INFO!A29=0,\" \",COUNTRY_INFO!A29))","v":"Tchad"},{"$f":"IF(INTRO!$E$43=\"Non-endemic\",\" \", IF(COUNTRY_INFO!B29=0,\" \",COUNTRY_INFO!B29))","v":"Chari  Baguirmi"},{"$f":"IF(INTRO!$E$43=\"Non-endemic\",\" \", IF(COUNTRY_INFO!C29=0,\" \",COUNTRY_INFO!C29))","v":"Massenya"},{"$f":"IF(INTRO!$E$43=\"Non-endemic\", \"Not required\", COUNTRY_INFO!Z29)","v":1},{"$f":"IF(OR(COUNTRY_INFO!S29=\"Unknown\",COUNTRY_INFO!S29=\"Surveillance\",COUNTRY_INFO!S29=\"Not required\",COUNTRY_INFO!S29=0),0,IF($D29<>0, COUNTRY_INFO!S29,0))","v":4241},{"$f":"IF(OR(COUNTRY_INFO!T29=\"Unknown\",COUNTRY_INFO!T29=\"Surveillance\",COUNTRY_INFO!T29=\"Not required\",COUNTRY_INFO!T29=0),0,IF($D29<>0, COUNTRY_INFO!T29,0))","v":11388},{"$f":"IF(OR(COUNTRY_INFO!U29=\"Unknown\",COUNTRY_INFO!U29=\"Surveillance\",COUNTRY_INFO!U29=\"Not required\",COUNTRY_INFO!U29=0),0,IF($D29<>0, COUNTRY_INFO!U29,0))","v":20602},36231,null,null,1,"SAC",null,{"$f":"IF($I29<>\"Yes\",$F29*2,($F29+ROUND(J29*$F29/SUM(COUNTRY_INFO!$E29:$G29),0))*2)","v":22776},{"$f":"IF($I29<>\"Yes\",$G29*3,($G29+ROUND(J29*$G29/SUM(COUNTRY_INFO!$E29:$G29),0))*3)","v":61806},84582,null,84582]
[{"$f":"IF(INTRO!$E$43=\"Non-endemic\",\" \", IF(COUNTRY_INFO!A30=0,\" \",COUNTRY_INFO!A30))","v":"Tchad"},{"$f":"IF(INTRO!$E$43=\"Non-endemic\",\" \", IF(COUNTRY_INFO!B30=0,\" \",COUNTRY_INFO!B30))","v":"Ennedi Est"},{"$f":"IF(INTRO!$E$43=\"Non-endemic\",\" \", IF(COUNTRY_INFO!C30=0,\" \",COUNTRY_INFO!C30))","v":"Amdjarass"},{"$f":"IF(INTRO!$E$43=\"Non-endemic\", \"Not required\", COUNTRY_INFO!Z30)","v":0},{"$f":"IF(OR(COUNTRY_INFO!S30=\"Unknown\",COUNTRY_INFO!S30=\"Surveillance\",COUNTRY_INFO!S30=\"Not required\",COUNTRY_INFO!S30=0),0,IF($D30<>0, COUNTRY_INFO!S30,0))","v":0},{"$f":"IF(OR(COUNTRY_INFO!T30=\"Unknown\",COUNTRY_INFO!T30=\"Surveillance\",COUNTRY_INFO!T30=\"Not required\",COUNTRY_INFO!T30=0),0,IF($D30<>0, COUNTRY_INFO!T30,0))","v":0},{"$f":"IF(OR(COUNTRY_INFO!U30=\"Unknown\",COUNTRY_INFO!U30=\"Surveillance\",COUNTRY_INFO!U30=\"Not required\",COUNTRY_INFO!U30=0),0,IF($D30<>0, COUNTRY_INFO!U30,0))","v":0},0,null,null,0,null,null,{"$f":"IF($I30<>\"Yes\",$F30*2,($F30+ROUND(J30*$F30/SUM(COUNTRY_INFO!$E30:$G30),0))*2)","v":0},{"$f":"IF($I30<>\"Yes\",$G30*3,($G30+ROUND(J30*$G30/SUM(COUNTRY_INFO!$E30:$G30),0))*3)","v":0},0,null,0]
[{"$f":"IF(INTRO!$E$43=\"Non-endemic\",\" \", IF(COUNTRY_INFO!A31=0,\" \",COUNTRY_INFO!A31))","v":"Tchad"},{"$f":"IF(INTRO!$E$43=\"Non-endemic\",\" \", IF(COUNTRY_INFO!B31=0,\" \",COUNTRY_INFO!B31))","v":"Ennedi Est"},{"$f":"IF(INTRO!$E$43=\"Non-endemic\",\" \", IF(COUNTRY_INFO!C31=0,\" \",COUNTRY_INFO!C31))","v":"Bahaï"},{"$f":"IF(INTRO!$E$43=\"Non-endemic\", \"Not required\", COUNTRY_INFO!Z31)","v":0},{"$f":"IF(OR(COUNTRY_INFO!S31=\"Unknown\",COUNTRY_INFO!S31=\"Surveillance\",COUNTRY_INFO!S31=\"Not required\",COUNTRY_INFO!S31=0),0,IF($D31<>0, COUNTRY_INFO!S31,0))","v":0},{"$f":"IF(OR(COUNTRY_INFO!T31=\"Unknown\",COUNTRY_INFO!T31=\"Surveillance\",COUNTRY_INFO!T31=\"Not required\",COUNTRY_INFO!T31=0),0,IF($D31<>0, COUNTRY_INFO!T31,0))","v":0},{"$f":"IF(OR(COUNTRY_INFO!U31=\"Unknown\",COUNTRY_INFO!U31=\"Surveillance\",COUNTRY_INFO!U31=\"Not required\",COUNTRY_INFO!U31=0),0,IF($D31<>0, COUNTRY_INFO!U31,0))","v":0},0,null,null,0,null,null,{"$f":"IF($I31<>\"Yes\",$F31*2,($F31+ROUND(J31*$F31/SUM(COUNTRY_INFO!$E31:$G31),0))*2)","v":0},{"$f":"IF($I31<>\"Yes\",$G31*3,($G31+ROUND(J31*$G31/SUM(COUNTRY_INFO!$E31:$G31),0))*3)","v":0},0,null,0]
[{"$f":"IF(INTRO!$E$43=\"Non-endemic\",\" \", IF(COUNTRY_INFO!A32=0,\" \",COUNTRY_INFO!A32))","v":"Tchad"},{"$f":"IF(INTRO!$E$43=\"Non-endemic\",\" \", IF(COUNTRY_INFO!B32=0,\" \",COUNTRY_INFO!B32))","v":"Ennedi Est"},{"$f":"IF(INTRO!$E$43=\"Non-endemic\",\" \", IF(COUNTRY_INFO!C32=0,\" \",COUNTRY_INFO!C32))","v":"Kaoura"},{"$f":"IF(INTRO!$E$43=\"Non-endemic\", \"Not required\", COUNTRY_INFO!Z32)","v":0},{"$f":"IF(OR(COUNTRY_INFO!S32=\"Unknown\",COUNTRY_INFO!S32=\"Surveillance\",COUNTRY_INFO!S32=\"Not required\",COUNTRY_INFO!S32=0),0,IF($D32<>0, COUNTRY_INFO!S32,0))","v":0},{"$f":"IF(OR(COUNTRY_INFO!T32=\"Unknown\",COUNTRY_INFO!T32=\"Surveillance\",COUNTRY_INFO!T32=\"Not required\",COUNTRY_INFO!T32=0),0,IF($D32<>0, COUNTRY_INFO!T32,0))","v":0},{"$f":"IF(OR(COUNTRY_INFO!U32=\"Unknown\",COUNTRY_INFO!U32=\"Surveillance\",COUNTRY_INFO!U32=\"Not required\",COUNTRY_INFO!U32=0),0,IF($D32<>0, COUNTRY_INFO!U32,0))","v":0},0,null,null,0,null,null,{"$f":"IF($I32<>\"Yes\",$F32*2,($F32+ROUND(J32*$F32/SUM(COUNTRY_INFO!$E32:$G32),0))*2)","v":0},{"$f":"IF($I32<>\"Yes\",$G32*3,($G32+ROUND(J32*$G32/SUM(COUNTRY_INFO!$E32:$G32),0))*3)","v":0},0,null,0]
[{"$f":"IF(INTRO!$E$43=\"Non-endemic\",\" \", IF(COUNTRY_INFO!A33=0,\" \",COUNTRY_INFO!A33))","v":"Tchad"},{"$f":"IF(INTRO!$E$43=\"Non-endemic\",\" \", IF(COUNTRY_INFO!B33=0,\" \",COUNTRY_INFO!B33))","v":"Ennedi Est"},{"$f":"IF(INTRO!$E$43=\"Non-endemic\",\" \", IF(COUNTRY_INFO!C33=0,\" \",COUNTRY_INFO!C33))","v":"Mourdi"},{"$f":"IF(INTRO!$E$43=\"Non-endemic\", \"Not required\", COUNTRY_INFO!Z33)","v":0},{"$f":"IF(OR(COUNTRY_INFO!S33=\"Unknown\",COUNTRY_INFO!S33=\"Surveillance\",COUNTRY_INFO!S33=\"Not required\",COUNTRY_INFO!S33=0),0,IF($D33<>0, COUNTRY_INFO!S33,0))","v":0},{"$f":"IF(OR(COUNTRY_INFO!T33=\"Unknown\",COUNTRY_INFO!T33=\"Surveillance\",COUNTRY_INFO!T33=\"Not required\",COUNTRY_INFO!T33=0),0,IF($D33<>0, COUNTRY_INFO!T33,0))","v":0},{"$f":"IF(OR(COUNTRY_INFO!U33=\"Unknown\",COUNTRY_INFO!U33=\"Surveillance\",COUNTRY_INFO!U33=\"Not required\",COUNTRY_INFO!U33=0),0,IF($D33<>0, COUNTRY_INFO!U33,0))","v":0},0,null,null,0,null,null,{"$f":"IF($I33<>\"Yes\",$F33*2,($F33+ROUND(J33*$F33/SUM(COUNTRY_INFO!$E33:$G33),0))*2)","v":0},{"$f":"IF($I33<>\"Yes\",$G33*3,($G33+ROUND(J33*$G33/SUM(COUNTRY_INFO!$E33:$G33),0))*3)","v":0},0,null,0]
[{"$f":"IF(INTRO!$E$43=\"Non-endemic\",\" \", IF(COUNTRY_INFO!A34=0,\" \",COUNTRY_INFO!A34))","v":"Tchad"},{"$f":"IF(INTRO!$E$43=\"Non-endemic\",\" \", IF(COUNTRY_INFO!B34=0,\" \",COUNTRY_INFO!B34))","v":"Ennedi Ouest"},{"$f":"IF(INTRO!$E$43=\"Non-endemic\",\" \", IF(COUNTRY_INFO!C34=0,\" \",COUNTRY_INFO!C34))","v":"Fada"},{"$f":"IF(INTRO!$E$43=\"Non-endemic\", \"Not required\", COUNTRY_INFO!Z34)","v":0},{"$f":"IF(OR(COUNTRY_INFO!S34=\"Unknown\",COUNTRY_INFO!S34=\"Surveillance\",COUNTRY_INFO!S34=\"Not required\",COUNTRY_INFO!S34=0),0,IF($D34<>0, COUNTRY_INFO!S34,0))","v":0},{"$f":"IF(OR(COUNTRY_INFO!T34=\"Unknown\",COUNTRY_INFO!T34=\"Surveillance\",COUNTRY_INFO!T34=\"Not required\",COUNTRY_INFO!T34=0),0,IF($D34<>0, COUNTRY_INFO!T34,0))","v":0},{"$f":"IF(OR(COUNTRY_INFO!U34=\"Unknown\",COUNTRY_INFO!U34=\"Surveillance\",COUNTRY_INFO!U34=\"Not required\",COUNTRY_INFO!U34=0),0,IF($D34<>0, COUNTRY_INFO!U34,0))","v":0},0,null,null,0,null,null,{"$f":"IF($I34<>\"Yes\",$F34*2,($F34+ROUND(J34*$F34/SUM(COUNTRY_INFO!$E34:$G34),0))*2)","v":0},{"$f":"IF($I34<>\"Yes\",$G34*3,($G34+ROUND(J34*$G34/SUM(COUNTRY_INFO!$E34:$G34),0))*3)","v":0},0,null,0]
[{"$f":"IF(INTRO!$E$43=\"Non-endemic\",\" \", IF(COUNTRY_INFO!A35=0,\" \",COUNTRY_INFO!A35))","v":"Tchad"},{"$f":"IF(INTRO!$E$43=\"Non-endemic\",\" \", IF(COUNTRY_INFO!B35=0,\" \",COUNTRY_INFO!B35))","v":"Ennedi Ouest"},{"$f":"IF(INTRO!$E$43=\"Non-endemic\",\" \", IF(COUNTRY_INFO!C35=0,\" \",COUNTRY_INFO!C35))","v":"Kalaït"},{"$f":"IF(INTRO!$E$43=\"Non-endemic\", \"Not required\", COUNTRY_INFO!Z35)","v":0},{"$f":"IF(OR(COUNTRY_INFO!S35=\"Unknown\",COUNTRY_INFO!S35=\"Surveillance\",COUNTRY_INFO!S35=\"Not required\",COUNTRY_INFO!S35=0),0,IF($D35<>0, COUNTRY_INFO!S35,0))","v":0},{"$f":"IF(OR(COUNTRY_INFO!T35=\"Unknown\",COUNTRY_INFO!T35=\"Surveillance\",COUNTRY_INFO!T35=\"Not required\",COUNTRY_INFO!T35=0),0,IF($D35<>0, COUNTRY_INFO!T35,0))","v":0},{"$f":"IF(OR(COUNTRY_INFO!U35=\"Unknown\",COUNTRY_INFO!U35=\"Surveillance\",COUNTRY_INFO!U35=\"Not required\",COUNTRY_INFO!U35=0),0,IF($D35<>0, COUNTRY_INFO!U35,0))","v":0},0,null,null,0,null,null,{"$f":"IF($I35<>\"Yes\",$F35*2,($F35+ROUND(J35*$F35/SUM(COUNTRY_INFO!$E35:$G35),0))*2)","v":0},{"$f":"IF($I35<>\"Yes\",$G35*3,($G35+ROUND(J35*$G35/SUM(COUNTRY_INFO!$E35:$G35),0))*3)","v":0},0,null,0]
[{"$f":"IF(INTRO!$E$43=\"Non-endemic\",\" \", IF(COUNTRY_INFO!A36=0,\" \",COUNTRY_INFO!A36))","v":"Tchad"},{"$f":"IF(INTRO!$E$43=\"Non-endemic\",\" \", IF(COUNTRY_INFO!B36=0,\" \",COUNTRY_INFO!B36))","v":"Ennedi Ouest"},{"$f":"IF(INTRO!$E$43=\"Non-endemic\",\" \", IF(COUNTRY_INFO!C36=0,\" \",COUNTRY_INFO!C36))","v":"Ounianga Kebbir"},{"$f":"IF(INTRO!$E$43=\"Non-endemic\", \"Not required\", COUNTRY_INFO!Z36)","v":1},{"$f":"IF(OR(COUNTRY_INFO!S36=\"Unknown\",COUNTRY_INFO!S36=\"Surveillance\",COUNTRY_INFO!S36=\"Not required\",COUNTRY_INFO!S36=0),0,IF($D36<>0, COUNTRY_INFO!S36,0))","v":1281},{"$f":"IF(OR(COUNTRY_INFO!T36=\"Unknown\",COUNTRY_INFO!T36=\"Surveillance\",COUNTRY_INFO!T36=\"Not required\",COUNTRY_INFO!T36=0),0,IF($D36<>0, COUNTRY_INFO!T36,0))","v":3439},{"$f":"IF(OR(COUNTRY_INFO!U36=\"Unknown\",COUNTRY_INFO!U36=\"Surveillance\",COUNTRY_INFO!U36=\"Not required\",COUNTRY_INFO!U36=0),0,IF($D36<>0, COUNTRY_INFO!U36,0))","v":6221},10941,null,null,0,null,null,{"$f":"IF($I36<>\"Yes\",$F36*2,($F36+ROUND(J36*$F36/SUM(COUNTRY_INFO!$E36:$G36),0))*2)","v":6878},{"$f":"IF($I36<>\"Yes\",$G36*3,($G36+ROUND(J36*$G36/SUM(COUNTRY_INFO!$E36:$G36),0))*3)","v":18663},25541,null,25541]
[{"$f":"IF(INTRO!$E$43=\"Non-endemic\",\" \", IF(COUNTRY_INFO!A37=0,\" \",COUNTRY_INFO!A37))","v":"Tchad"},{"$f":"IF(INTRO!$E$43=\"Non-endemic\",\" \", IF(COUNTRY_INFO!B37=0,\" \",COUNTRY_INFO!B37))","v":"Guéra"},{"$f":"IF(INTRO!$E$43=\"Non-endemic\",\" \", IF(COUNTRY_INFO!C37=0,\" \",COUNTRY_INFO!C37))","v":"Barou"},{"$f":"IF(INTRO!$E$43=\"Non-endemic\", \"Not required\", COUNTRY_INFO!Z37)","v":0},{"$f":"IF(OR(COUNTRY_INFO!S37=\"Unknown\",COUNTRY_INFO!S37=\"Surveillance\",COUNTRY_INFO!S37=\"Not required\",COUNTRY_INFO!S37=0),0,IF($D37<>0, COUNTRY_INFO!S37,0))","v":0},{"$f":"IF(OR(COUNTRY_INFO!T37=\"Unknown\",COUNTRY_INFO!T37=\"Surveillance\",COUNTRY_INFO!T37=\"Not required\",COUNTRY_INFO!T37=0),0,IF($D37<>0, COUNTRY_INFO!T37,0))","v":0},{"$f":"IF(OR(COUNTRY_INFO!U37=\"Unknown\",COUNTRY_INFO!U37=\"Surveillance\",COUNTRY_INFO!U37=\"Not required\",COUNTRY_INFO!U37=0),0,IF($D37<>0, COUNTRY_INFO!U37,0))","v":0},0,null,null,1,"SAC",null,{"$f":"IF($I37<>\"Yes\",$F37*2,($F37+ROUND(J37*$F37/SUM(COUNTRY_INFO!$E37:$G37),0))*2)","v":0},{"$f":"IF($I37<>\"Yes\",$G37*3,($G37+ROUND(J37*$G37/SUM(COUNTRY_INFO!$E37:$G37),0))*3)","v":0},0,null,0]
[{"$f":"IF(INTRO!$E$43=\"Non-endemic\",\" \", IF(COUNTRY_INFO!A38=0,\" \",COUNTRY_INFO!A38))","v":"Tchad"},{"$f":"IF(INTRO!$E$43=\"Non-endemic\",\" \", IF(COUNTRY_INFO!B38=0,\" \",COUNTRY_INFO!B38))","v":"Guéra"},{"$f":"IF(INTRO!$E$43=\"Non-endemic\",\" \", IF(COUNTRY_INFO!C38=0,\" \",COUNTRY_INFO!C38))","v":"Bitkine"},{"$f":"IF(INTRO!$E$43=\"Non-endemic\", \"Not required\", COUNTRY_INFO!Z38)","v":1},{"$f":"IF(OR(COUNTRY_INFO!S38=\"Unknown\",COUNTRY_INFO!S38=\"Surveillance\",COUNTRY_INFO!S38=\"Not required\",COUNTRY_INFO!S38=0),0,IF($D38<>0, COUNTRY_INFO!S38,0))","v":8110},{"$f":"IF(OR(COUNTRY_INFO!T38=\"Unknown\",COUNTRY_INFO!T38=\"Surveillance\",COUNTRY_INFO!T38=\"Not required\",COUNTRY_INFO!T38=0),0,IF($D38<>0, COUNTRY_INFO!T38,0))","v":21775},{"$f":"IF(OR(COUNTRY_INFO!U38=\"Unknown\",COUNTRY_INFO!U38=\"Surveillance\",COUNTRY_INFO!U38=\"Not required\",COUNTRY_INFO!U38=0),0,IF($D38<>0, COUNTRY_INFO!U38,0))","v":39396},69281,null,null,1,"SAC",null,{"$f":"IF($I38<>\"Yes\",$F38*2,($F38+ROUND(J38*$F38/SUM(COUNTRY_INFO!$E38:$G38),0))*2)","v":43550},{"$f":"IF($I38<>\"Yes\",$G38*3,($G38+ROUND(J38*$G38/SUM(COUNTRY_INFO!$E38:$G38),0))*3)","v":118188},161738,null,161738]
[{"$f":"IF(INTRO!$E$43=\"Non-endemic\",\" \", IF(COUNTRY_INFO!A39=0,\" \",COUNTRY_INFO!A39))","v":"Tchad"},{"$f":"IF(INTRO!$E$43=\"Non-endemic\",\" \", IF(COUNTRY_INFO!B39=0,\" \",COUNTRY_INFO!B39))","v":"Guéra"},{"$f":"IF(INTRO!$E$43=\"Non-endemic\",\" \", IF(COUNTRY_INFO!C39=0,\" \",COUNTRY_INFO!C39))","v":"Mangalmé"},{"$f":"IF(INTRO!$E$43=\"Non-endemic\", \"Not required\", COUNTRY_INFO!Z39)","v":1},{"$f":"IF(OR(COUNTRY_INFO!S39=\"Unknown\",COUNTRY_INFO!S39=\"Surveillance\",COUNTRY_INFO!S39=\"Not required\",COUNTRY_INFO!S39=0),0,IF($D39<>0, COUNTRY_INFO!S39,0))","v":6820},{"$f":"IF(OR(COUNTRY_INFO!T39=\"Unknown\",COUNTRY_INFO!T39=\"Surveillance\",COUNTRY_INFO!T39=\"Not required\",COUNTRY_INFO!T39=0),0,IF($D39<>0, COUNTRY_INFO!T39,0))","v":18312},{"$f":"IF(OR(COUNTRY_INFO!U39=\"Unknown\",COUNTRY_INFO!U39=\"Surveillance\",COUNTRY_INFO!U39=\"Not required\",COUNTRY_INFO!U39=0),0,IF($D39<>0, COUNTRY_INFO!U39,0))","v":33131},58263,null,null,1,"SAC",null,{"$f":"IF($I39<>\"Yes\",$F39*2,($F39+ROUND(J39*$F39/SUM(COUNTRY_INFO!$E39:$G39),0))*2)","v":36624},{"$f":"IF($I39<>\"Yes\",$G39*3,($G39+ROUND(J39*$G39/SUM(COUNTRY_INFO!$E39:$G39),0))*3)","v":99393},136017,null,136017]
[{"$f":"IF(INTRO!$E$43=\"Non-endemic\",\" \", IF(COUNTRY_INFO!A40=0,\" \",COUNTRY_INFO!A40))","v":"Tchad"},{"$f":"IF(INTRO!$E$43=\"Non-endemic\",\" \", IF(COUNTRY_INFO!B40=0,\" \",COUNTRY_INFO!B40))","v":"Guéra"},{"$f":"IF(INTRO!$E$43=\"Non-endemic\",\" \", IF(COUNTRY_INFO!C40=0,\" \",COUNTRY_INFO!C40))","v":"Melfi"},{"$f":"IF(INTRO!$E$43=\"Non-endemic\", \"Not required\", COUNTRY_INFO!Z40)","v":1},{"$f":"IF(OR(COUNTRY_INFO!S40=\"Unknown\",COUNTRY_INFO!S40=\"Surveillance\",COUNTRY_INFO!S40=\"Not required\",COUNTRY_INFO!S40=0),0,IF($D40<>0, COUNTRY_INFO!S40,0))","v":2171},{"$f":"IF(OR(COUNTRY_INFO!T40=\"Unknown\",COUNTRY_INFO!T40=\"Surveillance\",COUNTRY_INFO!T40=\"Not required\",COUNTRY_INFO!T40=0),0,IF($D40<>0, COUNTRY_INFO!T40,0))","v":5829},{"$f":"IF(OR(COUNTRY_INFO!U40=\"Unknown\",COUNTRY_INFO!U40=\"Surveillance\",COUNTRY_INFO!U40=\"Not required\",COUNTRY_INFO!U40=0),0,IF($D40<>0, COUNTRY_INFO!U40,0))","v":10546},18546,null,null,1,"SAC",null,{"$f":"IF($I40<>\"Yes\",$F40*2,($F40+ROUND(J40*$F40/SUM(COUNTRY_INFO!$E40:$G40),0))*2)","v":11658},{"$f":"IF($I40<>\"Yes\",$G40*3,($G40+ROUND(J40*$G40/SUM(COUNTRY_INFO!$E40:$G40),0))*3)","v":31638},43296,null,43296]
[{"$f":"IF(INTRO!$E$43=\"Non-endemic\",\" \", IF(COUNTRY_INFO!A41=0,\" \",COUNTRY_INFO!A41))","v":"Tchad"},{"$f":"IF(INTRO!$E$43=\"Non-endemic\",\" \", IF(COUNTRY_INFO!B41=0,\" \",COUNTRY_INFO!B41))","v":"Guéra"},{"$f":"IF(INTRO!$E$43=\"Non-endemic\",\" \", IF(COUNTRY_INFO!C41=0,\" \",COUNTRY_INFO!C41))","v":"Mongo"},{"$f":"IF(INTRO!$E$43=\"Non-endemic\", \"Not required\", COUNTRY_INFO!Z41)","v":1},{"$f":"IF(OR(COUNTRY_INFO!S41=\"Unknown\",COUNTRY_INFO!S41=\"Surveillance\",COUNTRY_INFO!S41=\"Not required\",COUNTRY_INFO!S41=0),0,IF($D41<>0, COUNTRY_INFO!S41,0))","v":3237},{"$f":"IF(OR(COUNTRY_INFO!T41=\"Unknown\",COUNTRY_INFO!T41=\"Surveillance\",COUNTRY_INFO!T41=\"Not required\",COUNTRY_INFO!T41=0),0,IF($D41<>0, COUNTRY_INFO!T41,0))","v":8690},{"$f":"IF(OR(COUNTRY_INFO!U41=\"Unknown\",COUNTRY_INFO!U41=\"Surveillance\",COUNTRY_INFO!U41=\"Not required\",COUNTRY_INFO!U41=0),0,IF($D41<>0, COUNTRY_INFO!U41,0))","v":15722},27649,null,null,0,null,null,{"$f":"IF($I41<>\"Yes\",$F41*2,($F41+ROUND(J41*$F41/SUM(COUNTRY_INFO!$E41:$G41),0))*2)","v":17380},{"$f":"IF($I41<>\"Yes\",$G41*3,($G41+ROUND(J41*$G41/SUM(COUNTRY_INFO!$E41:$G41),0))*3)","v":47166},64546,null,64546]
[{"$f":"IF(INTRO!$E$43=\"Non-endemic\",\" \", IF(COUNTRY_INFO!A42=0,\" \",COUNTRY_INFO!A42))","v":"Tchad"},{"$f":"IF(INTRO!$E$43=\"Non-endemic\",\" \", IF(COUNTRY_INFO!B42=0,\" \",COUNTRY_INFO!B42))","v":"Hadjer Lamis"},{"$f":"IF(INTRO!$E$43=\"Non-endemic\",\" \", IF(COUNTRY_INFO!C42=0,\" \",COUNTRY_INFO!C42))","v":"Bokoro"},{"$f":"IF(INTRO!$E$43=\"Non-endemic\", \"Not required\", COUNTRY_INFO!Z42)","v":1},{"$f":"IF(OR(COUNTRY_INFO!S42=\"Unknown\",COUNTRY_INFO!S42=\"Surveillance\",COUNTRY_INFO!S42=\"Not required\",COUNTRY_INFO!S42=0),0,IF($D42<>0, COUNTRY_INFO!S42,0))","v":8750},{"$f":"IF(OR(COUNTRY_INFO!T42=\"Unknown\",COUNTRY_INFO!T42=\"Surveillance\",COUNTRY_INFO!T42=\"Not required\",COUNTRY_INFO!T42=0),0,IF($D42<>0, COUNTRY_INFO!T42,0))","v":23493},{"$f":"IF(OR(COUNTRY_INFO!U42=\"Unknown\",COUNTRY_INFO!U42=\"Surveillance\",COUNTRY_INFO!U42=\"Not required\",COUNTRY_INFO!U42=0),0,IF($D42<>0, COUNTRY_INFO!U42,0))","v":42507},74750,null,null,1,"SAC",null,{"$f":"IF($I42<>\"Yes\",$F42*2,($F42+ROUND(J42*$F42/SUM(COUNTRY_INFO!$E42:$G42),0))*2)","v":46986},{"$f":"IF($I42<>\"Yes\",$G42*3,($G42+ROUND(J42*$G42/SUM(COUNTRY_INFO!$E42:$G42),0))*3)","v":127521},174507,null,174507]
[{"$f":"IF(INTRO!$E$43=\"Non-endemic\",\" \", IF(COUNTRY_INFO!A43=0,\" \",COUNTRY_INFO!A43))","v":"Tchad"},{"$f":"IF(INTRO!$E$43=\"Non-endemic\",\" \", IF(COUNTRY_INFO!B43=0,\" \",COUNTRY_INFO!B43))","v":"Hadjer Lamis"},{"$f":"IF(INTRO!$E$43=\"Non-endemic\",\" \", IF(COUNTRY_INFO!C43=0,\" \",COUNTRY_INFO!C43))","v":"Gama"},{"$f":"IF(INTRO!$E$43=\"Non-endemic\", \"Not required\", COUNTRY_INFO!Z43)","v":0},{"$f":"IF(OR(COUNTRY_INFO!S43=\"Unknown\",COUNTRY_INFO!S43=\"Surveillance\",COUNTRY_INFO!S43=\"Not required\",COUNTRY_INFO!S43=0),0,IF($D43<>0, COUNTRY_INFO!S43,0))","v":0},{"$f":"IF(OR(COUNTRY_INFO!T43=\"Unknown\",COUNTRY_INFO!T43=\"Surveillance\",COUNTRY_INFO!T43=\"Not required\",COUNTRY_INFO!T43=0),0,IF($D43<>0, COUNTRY_INFO!T43,0))","v":0},{"$f":"IF(OR(COUNTRY_INFO!U43=\"Unknown\",COUNTRY_INFO!U43=\"Surveillance\",COUNTRY_INFO!U43=\"Not required\",COUNTRY_INFO!U43=0),0,IF($D43<>0, COUNTRY_INFO!U43,0))","v":0},0,null,null,1,"SAC",null,{"$f":"IF($I43<>\"Yes\",$F43*2,($F43+ROUND(J43*$F43/SUM(COUNTRY_INFO!$E43:$G43),0))*2)","v":0},{"$f":"IF($I43<>\"Yes\",$G43*3,($G43+ROUND(J43*$G43/SUM(COUNTRY_INFO!$E43:$G43),0))*3)","v":0},0,null,0]
[{"$f":"IF(INTRO!$E$43=\"Non-endemic\",\" \", IF(COUNTRY_INFO!A44=0,\" \",COUNTRY_INFO!A44))","v":"Tchad"},{"$f":"IF(INTRO!$E$43=\"Non-endemic\",\" \", IF(COUNTRY_INFO!B44=0,\" \",COUNTRY_INFO!B44))","v":"Hadjar Lamis"},{"$f":"IF(INTRO!$E$43=\"Non-endemic\",\" \", IF(COUNTRY_INFO!C44=0,\" \",COUNTRY_INFO!C44))","v":"Karal"},{"$f":"IF(INTRO!$E$43=\"Non-endemic\", \"Not required\", COUNTRY_INFO!Z44)","v":0},{"$f":"IF(OR(COUNTRY_INFO!S44=\"Unknown\",COUNTRY_INFO!S44=\"Surveillance\",COUNTRY_INFO!S44=\"Not required\",COUNTRY_INFO!S44=0),0,IF($D44<>0, COUNTRY_INFO!S44,0))","v":0},{"$f":"IF(OR(COUNTRY_INFO!T44=\"Unknown\",COUNTRY_INFO!T44=\"Surveillance\",COUNTRY_INFO!T44=\"Not required\",COUNTRY_INFO!T44=0),0,IF($D44<>0, COUNTRY_INFO!T44,0))","v":0},{"$f":"IF(OR(COUNTRY_INFO!U44=\"Unknown\",COUNTRY_INFO!U44=\"Surveillance\",COUNTRY_INFO!U44=\"Not required\",COUNTRY_INFO!U44=0),0,IF($D44<>0, COUNTRY_INFO!U44,0))","v":0},0,null,null,1,"SAC",null,{"$f":"IF($I44<>\"Yes\",$F44*2,($F44+ROUND(J44*$F44/SUM(COUNTRY_INFO!$E44:$G44),0))*2)","v":0},{"$f":"IF($I44<>\"Yes\",$G44*3,($G44+ROUND(J44*$G44/SUM(COUNTRY_INFO!$E44:$G44),0))*3)","v":0},0,null,0]
[{"$f":"IF(INTRO!$E$43=\"Non-endemic\",\" \", IF(COUNTRY_INFO!A45=0,\" \",COUNTRY_INFO!A45))","v":"Tchad"},{"$f":"IF(INTRO!$E$43=\"Non-endemic\",\" \", IF(COUNTRY_INFO!B45=0,\" \",COUNTRY_INFO!B45))","v":"Hadjer Lamis"},{"$f":"IF(INTRO!$E$43=\"Non-endemic\",\" \", IF(COUNTRY_INFO!C45=0,\" \",COUNTRY_INFO!C45))","v":"Mani"},{"$f":"IF(INTRO!$E$43=\"Non-endemic\", \"Not required\", COUNTRY_INFO!Z45)","v":1},{"$f":"IF(OR(COUNTRY_INFO!S45=\"Unknown\",COUNTRY_INFO!S45=\"Surveillance\",COUNTRY_INFO!S45=\"Not required\",COUNTRY_INFO!S45=0),0,IF($D45<>0, COUNTRY_INFO!S45,0))","v":4394},{"$f":"IF(OR(COUNTRY_INFO!T45=\"Unknown\",COUNTRY_INFO!T45=\"Surveillance\",COUNTRY_INFO!T45=\"Not required\",COUNTRY_INFO!T45=0),0,IF($D45<>0, COUNTRY_INFO!T45,0))","v":11797},{"$f":"IF(OR(COUNTRY_INFO!U45=\"Unknown\",COUNTRY_INFO!U45=\"Surveillance\",COUNTRY_INFO!U45=\"Not required\",COUNTRY_INFO!U45=0),0,IF($D45<>0, COUNTRY_INFO!U45,0))","v":21343},37534,null,null,1,"SAC",null,{"$f":"IF($I45<>\"Yes\",$F45*2,($F45+ROUND(J45*$F45/SUM(COUNTRY_INFO!$E45:$G45),0))*2)","v":23594},{"$f":"IF($I45<>\"Yes\",$G45*3,($G45+ROUND(J45*$G45/SUM(COUNTRY_INFO!$E45:$G45),0))*3)","v":64029},87623,null,87623]
[{"$f":"IF(INTRO!$E$43=\"Non-endemic\",\" \", IF(COUNTRY_INFO!A46=0,\" \",COUNTRY_INFO!A46))","v":"Tchad"},{"$f":"IF(INTRO!$E$43=\"Non-endemic\",\" \", IF(COUNTRY_INFO!B46=0,\" \",COUNTRY_INFO!B46))","v":"Hadjer Lamis"},{"$f":"IF(INTRO!$E$43=\"Non-endemic\",\" \", IF(COUNTRY_INFO!C46=0,\" \",COUNTRY_INFO!C46))","v":"Massaguet"},{"$f":"IF(INTRO!$E$43=\"Non-endemic\", \"Not required\", COUNTRY_INFO!Z46)","v":1},{"$f":"IF(OR(COUNTRY_INFO!S46=\"Unknown\",COUNTRY_INFO!S46=\"Surveillance\",COUNTRY_INFO!S46=\"Not required\",COUNTRY_INFO!S46=0),0,IF($D46<>0, COUNTRY_INFO!S46,0))","v":7508},{"$f":"IF(OR(COUNTRY_INFO!T46=\"Unknown\",COUNTRY_INFO!T46=\"Surveillance\",COUNTRY_INFO!T46=\"Not required\",COUNTRY_INFO!T46=0),0,IF($D46<>0, COUNTRY_INFO!T46,0))","v":20159},{"$f":"IF(OR(COUNTRY_INFO!U46=\"Unknown\",COUNTRY_INFO!U46=\"Surveillance\",COUNTRY_INFO!U46=\"Not required\",COUNTRY_INFO!U46=0),0,IF($D46<>0, COUNTRY_INFO!U46,0))","v":36472},64139,null,null,1,"SAC",null,{"$f":"IF($I46<>\"Yes\",$F46*2,($F46+ROUND(J46*$F46/SUM(COUNTRY_INFO!$E46:$G46),0))*2)","v":40318},{"$f":"IF($I46<>\"Yes\",$G46*3,($G46+ROUND(J46*$G46/SUM(COUNTRY_INFO!$E46:$G46),0))*3)","v":109416},149734,null,149734]
[{"$f":"IF(INTRO!$E$43=\"Non-endemic\",\" \", IF(COUNTRY_INFO!A47=0,\" \",COUNTRY_INFO!A47))","v":"Tchad"},{"$f":"IF(INTRO!$E$43=\"Non-endemic\",\" \", IF(COUNTRY_INFO!B47=0,\" \",COUNTRY_INFO!B47))","v":"Hadjer Lamis"},{"$f":"IF(INTRO!$E$43=\"Non-endemic\",\" \", IF(COUNTRY_INFO!C47=0,\" \",COUNTRY_INFO!C47))","v":"Massakory"},{"$f":"IF(INTRO!$E$43=\"Non-endemic\", \"Not required\", COUNTRY_INFO!Z47)","v":1},{"$f":"IF(OR(COUNTRY_INFO!S47=\"Unknown\",COUNTRY_INFO!S47=\"Surveillance\",COUNTRY_INFO!S47=\"Not required\",COUNTRY_INFO!S47=0),0,IF($D47<>0, COUNTRY_INFO!S47,0))","v":3287},{"$f":"IF(OR(COUNTRY_INFO!T47=\"Unknown\",COUNTRY_INFO!T47=\"Surveillance\",COUNTRY_INFO!T47=\"Not required\",COUNTRY_INFO!T47=0),0,IF($D47<>0, COUNTRY_INFO!T47,0))","v":8825},{"$f":"IF(OR(COUNTRY_INFO!U47=\"Unknown\",COUNTRY_INFO!U47=\"Surveillance\",COUNTRY_INFO!U47=\"Not required\",COUNTRY_INFO!U47=0),0,IF($D47<>0, COUNTRY_INFO!U47,0))","v":15966},28078,null,null,1,"SAC",null,{"$f":"IF($I47<>\"Yes\",$F47*2,($F47+ROUND(J47*$F47/SUM(COUNTRY_INFO!$E47:$G47),0))*2)","v":17650},{"$f":"IF($I47<>\"Yes\",$G47*3,($G47+ROUND(J47*$G47/SUM(COUNTRY_INFO!$E47:$G47),0))*3)","v":47898},65548,null,65548]
[{"$f":"IF(INTRO!$E$43=\"Non-endemic\",\" \", IF(COUNTRY_INFO!A48=0,\" \",COUNTRY_INFO!A48))","v":"Tchad"},{"$f":"IF(INTRO!$E$43=\"Non-endemic\",\" \", IF(COUNTRY_INFO!B48=0,\" \",COUNTRY_INFO!B48))","v":"Kanem"},{"$f":"IF(INTRO!$E$43=\"Non-endemic\",\" \", IF(COUNTRY_INFO!C48=0,\" \",COUNTRY_INFO!C48))","v":"Amdoback"},{"$f":"IF(INTRO!$E$43=\"Non-endemic\", \"Not required\", COUNTRY_INFO!Z48)","v":0},{"$f":"IF(OR(COUNTRY_INFO!S48=\"Unknown\",COUNTRY_INFO!S48=\"Surveillance\",COUNTRY_INFO!S48=\"Not required\",COUNTRY_INFO!S48=0),0,IF($D48<>0, COUNTRY_INFO!S48,0))","v":0},{"$f":"IF(OR(COUNTRY_INFO!T48=\"Unknown\",COUNTRY_INFO!T48=\"Surveillance\",COUNTRY_INFO!T48=\"Not required\",COUNTRY_INFO!T48=0),0,IF($D48<>0, COUNTRY_INFO!T48,0))","v":0},{"$f":"IF(OR(COUNTRY_INFO!U48=\"Unknown\",COUNTRY_INFO!U48=\"Surveillance\",COUNTRY_INFO!U48=\"Not required\",COUNTRY_INFO!U48=0),0,IF($D48<>0, COUNTRY_INFO!U48,0))","v":0},0,null,null,0,null,null,{"$f":"IF($I48<>\"Yes\",$F48*2,($F48+ROUND(J48*$F48/SUM(COUNTRY_INFO!$E48:$G48),0))*2)","v":0},{"$f":"IF($I48<>\"Yes\",$G48*3,($G48+ROUND(J48*$G48/SUM(COUNTRY_INFO!$E48:$G48),0))*3)","v":0},0,null,0]
[{"$f":"IF(INTRO!$E$43=\"Non-endemic\",\" \", IF(COUNTRY_INFO!A49=0,\" \",COUNTRY_INFO!A49))","v":"Tchad"},{"$f":"IF(INTRO!$E$43=\"Non-endemic\",\" \", IF(COUNTRY_INFO!B49=0,\" \",COUNTRY_INFO!B49))","v":"Kanem"},{"$f":"IF(INTRO!$E$43=\"Non-endemic\",\" \", IF(COUNTRY_INFO!C49=0,\" \",COUNTRY_INFO!C49))","v":"Kekedina"},{"$f":"IF(INTRO!$E$43=\"Non-endemic\", \"Not required\", COUNTRY_INFO!Z49)","v":0},{"$f":"IF(OR(COUNTRY_INFO!S49=\"Unknown\",COUNTRY_INFO!S49=\"Surveillance\",COUNTRY_INFO!S49=\"Not required\",COUNTRY_INFO!S49=0),0,IF($D49<>0, COUNTRY_INFO!S49,0))","v":0},{"$f":"IF(OR(COUNTRY_INFO!T49=\"Unknown\",COUNTRY_INFO!T49=\"Surveillance\",COUNTRY_INFO!T49=\"Not required\",COUNTRY_INFO!T49=0),0,IF($D49<>0, COUNTRY_INFO!T49,0))","v":0},{"$f":"IF(OR(COUNTRY_INFO!U49=\"Unknown\",COUNTRY_INFO!U49=\"Surveillance\",COUNTRY_INFO!U49=\"Not required\",COUNTRY_INFO!U49=0),0,IF($D49<>0, COUNTRY_INFO!U49,0))","v":0},0,null,null,0,null,null,{"$f":"IF($I49<>\"Yes\",$F49*2,($F49+ROUND(J49*$F49/SUM(COUNTRY_INFO!$E49:$G49),0))*2)","v":0},{"$f":"IF($I49<>\"Yes\",$G49*3,($G49+ROUND(J49*$G49/SUM(COUNTRY_INFO!$E49:$G49),0))*3)","v":0},0,null,0]
[{"$f":"IF(INTRO!$E$43=\"Non-endemic\",\" \", IF(COUNTRY_INFO!A50=0,\" \",COUNTRY_INFO!A50))","v":"Tchad"},{"$f":"IF(INTRO!$E$43=\"Non-endemic\",\" \", IF(COUNTRY_INFO!B50=0,\" \",COUNTRY_INFO!B50))","v":"Kanem"},{"$f":"IF(INTRO!$E$43=\"Non-endemic\",\" \", IF(COUNTRY_INFO!C50=0,\" \",COUNTRY_INFO!C50))","v":"Mao"},{"$f":"IF(INTRO!$E$43=\"Non-endemic\", \"Not required\", COUNTRY_INFO!Z50)","v":0},{"$f":"IF(OR(COUNTRY_INFO!S50=\"Unknown\",COUNTRY_INFO!S50=\"Surveillance\",COUNTRY_INFO!S50=\"Not required\",COUNTRY_INFO!S50=0),0,IF($D50<>0, COUNTRY_INFO!S50,0))","v":0},{"$f":"IF(OR(COUNTRY_INFO!T50=\"Unknown\",COUNTRY_INFO!T50=\"Surveillance\",COUNTRY_INFO!T50=\"Not required\",COUNTRY_INFO!T50=0),0,IF($D50<>0, COUNTRY_INFO!T50,0))","v":0},{"$f":"IF(OR(COUNTRY_INFO!U50=\"Unknown\",COUNTRY_INFO!U50=\"Surveillance\",COUNTRY_INFO!U50=\"Not required\",COUNTRY_INFO!U50=0),0,IF($D50<>0, COUNTRY_INFO!U50,0))","v":0},0,null,null,0,null,null,{"$f":"IF($I50<>\"Yes\",$F50*2,($F50+ROUND(J50*$F50/SUM(COUNTRY_INFO!$E50:$G50),0))*2)","v":0},{"$f":"IF($I50<>\"Yes\",$G50*3,($G50+ROUND(J50*$G50/SUM(COUNTRY_INFO!$E50:$G50),0))*3)","v":0},0,null,0]
[{"$f":"IF(INTRO!$E$43=\"Non-endemic\",\" \", IF(COUNTRY_INFO!A51=0,\" \",COUNTRY_INFO!A51))","v":"Tchad"},{"$f":"IF(INTRO!$E$43=\"Non-endemic\",\" \", IF(COUNTRY_INFO!B51=0,\" \",COUNTRY_INFO!B51))","v":"Kanem"},{"$f":"IF(INTRO!$E$43=\"Non-endemic\",\" \", IF(COUNTRY_INFO!C51=0,\" \",COUNTRY_INFO!C51))","v":"Mondo"},{"$f":"IF(INTRO!$E$43=\"Non-endemic\", \"Not required\", COUNTRY_INFO!Z51)","v":0},{"$f":"IF(OR(COUNTRY_INFO!S51=\"Unknown\",COUNTRY_INFO!S51=\"Surveillance\",COUNTRY_INFO!S51=\"Not required\",COUNTRY_INFO!S51=0),0,IF($D51<>0, COUNTRY_INFO!S51,0))","v":0},{"$f":"IF(OR(COUNTRY_INFO!T51=\"Unknown\",COUNTRY_INFO!T51=\"Surveillance\",COUNTRY_INFO!T51=\"Not required\",COUNTRY_INFO!T51=0),0,IF($D51<>0, COUNTRY_INFO!T51,0))","v":0},{"$f":"IF(OR(COUNTRY_INFO!U51=\"Unknown\",COUNTRY_INFO!U51=\"Surveillance\",COUNTRY_INFO!U51=\"Not required\",COUNTRY_INFO!U51=0),0,IF($D51<>0, COUNTRY_INFO!U51,0))","v":0},0,null,null,0,null,null,{"$f":"IF($I51<>\"Yes\",$F51*2,($F51+ROUND(J51*$F51/SUM(COUNTRY_INFO!$E51:$G51),0))*2)","v":0},{"$f":"IF($I51<>\"Yes\",$G51*3,($G51+ROUND(J51*$G51/SUM(COUNTRY_INFO!$E51:$G51),0))*3)","v":0},0,null,0]
[{"$f":"IF(INTRO!$E$43=\"Non-endemic\",\" \", IF(COUNTRY_INFO!A52=0,\" \",COUNTRY_INFO!A52))","v":"Tchad"},{"$f":"IF(INTRO!$E$43=\"Non-endemic\",\" \", IF(COUNTRY_INFO!B52=0,\" \",COUNTRY_INFO!B52))","v":"Kanem"},{"$f":"IF(INTRO!$E$43=\"Non-endemic\",\" \", IF(COUNTRY_INFO!C52=0,\" \",COUNTRY_INFO!C52))","v":"Nokou"},{"$f":"IF(INTRO!$E$43=\"Non-endemic\", \"Not required\", COUNTRY_INFO!Z52)","v":0},{"$f":"IF(OR(COUNTRY_INFO!S52=\"Unknown\",COUNTRY_INFO!S52=\"Surveillance\",COUNTRY_INFO!S52=\"Not required\",COUNTRY_INFO!S52=0),0,IF($D52<>0, COUNTRY_INFO!S52,0))","v":0},{"$f":"IF(OR(COUNTRY_INFO!T52=\"Unknown\",COUNTRY_INFO!T52=\"Surveillance\",COUNTRY_INFO!T52=\"Not required\",COUNTRY_INFO!T52=0),0,IF($D52<>0, COUNTRY_INFO!T52,0))","v":0},{"$f":"IF(OR(COUNTRY_INFO!U52=\"Unknown\",COUNTRY_INFO!U52=\"Surveillance\",COUNTRY_INFO!U52=\"Not required\",COUNTRY_INFO!U52=0),0,IF($D52<>0, COUNTRY_INFO!U52,0))","v":0},0,null,null,0,null,null,{"$f":"IF($I52<>\"Yes\",$F52*2,($F52+ROUND(J52*$F52/SUM(COUNTRY_INFO!$E52:$G52),0))*2)","v":0},{"$f":"IF($I52<>\"Yes\",$G52*3,($G52+ROUND(J52*$G52/SUM(COUNTRY_INFO!$E52:$G52),0))*3)","v":0},0,null,0]
[{"$f":"IF(INTRO!$E$43=\"Non-endemic\",\" \", IF(COUNTRY_INFO!A53=0,\" \",COUNTRY_INFO!A53))","v":"Tchad"},{"$f":"IF(INTRO!$E$43=\"Non-endemic\",\" \", IF(COUNTRY_INFO!B53=0,\" \",COUNTRY_INFO!B53))","v":"Kanem"},{"$f":"IF(INTRO!$E$43=\"Non-endemic\",\" \", IF(COUNTRY_INFO!C53=0,\" \",COUNTRY_INFO!C53))","v":"Ntiona"},{"$f":"IF(INTRO!$E$43=\"Non-endemic\", \"Not required\", COUNTRY_INFO!Z53)","v":0},{"$f":"IF(OR(COUNTRY_INFO!S53=\"Unknown\",COUNTRY_INFO!S53=\"Surveillance\",COUNTRY_INFO!S53=\"Not required\",COUNTRY_INFO!S53=0),0,IF($D53<>0, COUNTRY_INFO!S53,0))","v":0},{"$f":"IF(OR(COUNTRY_INFO!T53=\"Unknown\",COUNTRY_INFO!T53=\"Surveillance\",COUNTRY_INFO!T53=\"Not required\",COUNTRY_INFO!T53=0),0,IF($D53<>0, COUNTRY_INFO!T53,0))","v":0},{"$f":"IF(OR(COUNTRY_INFO!U53=\"Unknown\",COUNTRY_INFO!U53=\"Surveillance\",COUNTRY_INFO!U53=\"Not required\",COUNTRY_INFO!U53=0),0,IF($D53<>0, COUNTRY_INFO!U53,0))","v":0},0,null,null,0,null,null,{"$f":"IF($I53<>\"Yes\",$F53*2,($F53+ROUND(J53*$F53/SUM(COUNTRY_INFO!$E53:$G53),0))*2)","v":0},{"$f":"IF($I53<>\"Yes\",$G53*3,($G53+ROUND(J53*$G53/SUM(COUNTRY_INFO!$E53:$G53),0))*3)","v":0},0,null,0]
[{"$f":"IF(INTRO!$E$43=\"Non-endemic\",\" \", IF(COUNTRY_INFO!A54=0,\" \",COUNTRY_INFO!A54))","v":"Tchad"},{"$f":"IF(INTRO!$E$43=\"Non-endemic\",\" \", IF(COUNTRY_INFO!B54=0,\" \",COUNTRY_INFO!B54))","v":"Kanem"},{"$f":"IF(INTRO!$E$43=\"Non-endemic\",\" \", IF(COUNTRY_INFO!C54=0,\" \",COUNTRY_INFO!C54))","v":"Rig-Rig"},{"$f":"IF(INTRO!$E$43=\"Non-endemic\", \"Not required\", COUNTRY_INFO!Z54)","v":0},{"$f":"IF(OR(COUNTRY_INFO!S54=\"Unknown\",COUNTRY_INFO!S54=\"Surveillance\",COUNTRY_INFO!S54=\"Not required\",COUNTRY_INFO!S54=0),0,IF($D54<>0, COUNTRY_INFO!S54,0))","v":0},{"$f":"IF(OR(COUNTRY_INFO!T54=\"Unknown\",COUNTRY_INFO!T54=\"Surveillance\",COUNTRY_INFO!T54=\"Not required\",COUNTRY_INFO!T54=0),0,IF($D54<>0, COUNTRY_INFO!T54,0))","v":0},{"$f":"IF(OR(COUNTRY_INFO!U54=\"Unknown\",COUNTRY_INFO!U54=\"Surveillance\",COUNTRY_INFO!U54=\"Not required\",COUNTRY_INFO!U54=0),0,IF($D54<>0, COUNTRY_INFO!U54,0))","v":0},0,null,null,0,null,null,{"$f":"IF($I54<>\"Yes\",$F54*2,($F54+ROUND(J54*$F54/SUM(COUNTRY_INFO!$E54:$G54),0))*2)","v":0},{"$f":"IF($I54<>\"Yes\",$G54*3,($G54+ROUND(J54*$G54/SUM(COUNTRY_INFO!$E54:$G54),0))*3)","v":0},0,null,0]
[{"$f":"IF(INTRO!$E$43=\"Non-endemic\",\" \", IF(COUNTRY_INFO!A55=0,\" \",COUNTRY_INFO!A55))","v":"Tchad"},{"$f":"IF(INTRO!$E$43=\"Non-endemic\",\" \", IF(COUNTRY_INFO!B55=0,\" \",COUNTRY_INFO!B55))","v":"Lac"},{"$f":"IF(INTRO!$E$43=\"Non-endemic\",\" \", IF(COUNTRY_INFO!C55=0,\" \",COUNTRY_INFO!C55))","v":"Bagassola"},{"$f":"IF(INTRO!$E$43=\"Non-endemic\", \"Not required\", COUNTRY_INFO!Z55)","v":0},{"$f":"IF(OR(COUNTRY_INFO!S55=\"Unknown\",COUNTRY_INFO!S55=\"Surveillance\",COUNTRY_INFO!S55=\"Not required\",COUNTRY_INFO!S55=0),0,IF($D55<>0, COUNTRY_INFO!S55,0))","v":0},{"$f":"IF(OR(COUNTRY_INFO!T55=\"Unknown\",COUNTRY_INFO!T55=\"Surveillance\",COUNTRY_INFO!T55=\"Not required\",COUNTRY_INFO!T55=0),0,IF($D55<>0, COUNTRY_INFO!T55,0))","v":0},{"$f":"IF(OR(COUNTRY_INFO!U55=\"Unknown\",COUNTRY_INFO!U55=\"Surveillance\",COUNTRY_INFO!U55=\"Not required\",COUNTRY_INFO!U55=0),0,IF($D55<>0, COUNTRY_INFO!U55,0))","v":0},0,null,null,0,null,null,{"$f":"IF($I55<>\"Yes\",$F55*2,($F55+ROUND(J55*$F55/SUM(COUNTRY_INFO!$E55:$G55),0))*2)","v":0},{"$f":"IF($I55<>\"Yes\",$G55*3,($G55+ROUND(J55*$G55/SUM(COUNTRY_INFO!$E55:$G55),0))*3)","v":0},0,null,0]
[{"$f":"IF(INTRO!$E$43=\"Non-endemic\",\" \", IF(COUNTRY_INFO!A56=0,\" \",COUNTRY_INFO!A56))","v":"Tchad"},{"$f":"IF(INTRO!$E$43=\"Non-endemic\",\" \", IF(COUNTRY_INFO!B56=0,\" \",COUNTRY_INFO!B56))","v":"Lac"},{"$f":"IF(INTRO!$E$43=\"Non-endemic\",\" \", IF(COUNTRY_INFO!C56=0,\" \",COUNTRY_INFO!C56))","v":"Bol"},{"$f":"IF(INTRO!$E$43=\"Non-endemic\", \"Not required\", COUNTRY_INFO!Z56)","v":1},{"$f":"IF(OR(COUNTRY_INFO!S56=\"Unknown\",COUNTRY_INFO!S56=\"Surveillance\",COUNTRY_INFO!S56=\"Not required\",COUNTRY_INFO!S56=0),0,IF($D56<>0, COUNTRY_INFO!S56,0))","v":5098},{"$f":"IF(OR(COUNTRY_INFO!T56=\"Unknown\",COUNTRY_INFO!T56=\"Surveillance\",COUNTRY_INFO!T56=\"Not required\",COUNTRY_INFO!T56=0),0,IF($D56<>0, COUNTRY_INFO!T56,0))","v":13687},{"$f":"IF(OR(COUNTRY_INFO!U56=\"Unknown\",COUNTRY_INFO!U56=\"Surveillance\",COUNTRY_INFO!U56=\"Not required\",COUNTRY_INFO!U56=0),0,IF($D56<>0, COUNTRY_INFO!U56,0))","v":24762},43547,null,null,1,"SAC",null,{"$f":"IF($I56<>\"Yes\",$F56*2,($F56+ROUND(J56*$F56/SUM(COUNTRY_INFO!$E56:$G56),0))*2)","v":27374},{"$f":"IF($I56<>\"Yes\",$G56*3,($G56+ROUND(J56*$G56/SUM(COUNTRY_INFO!$E56:$G56),0))*3)","v":74286},101660,null,101660]
[{"$f":"IF(INTRO!$E$43=\"Non-endemic\",\" \", IF(COUNTRY_INFO!A57=0,\" \",COUNTRY_INFO!A57))","v":"Tchad"},{"$f":"IF(INTRO!$E$43=\"Non-endemic\",\" \", IF(COUNTRY_INFO!B57=0,\" \",COUNTRY_INFO!B57))","v":"Lac"},{"$f":"IF(INTRO!$E$43=\"Non-endemic\",\" \", IF(COUNTRY_INFO!C57=0,\" \",COUNTRY_INFO!C57))","v":"Isserom"},{"$f":"IF(INTRO!$E$43=\"Non-endemic\", \"Not required\", COUNTRY_INFO!Z57)","v":0},{"$f":"IF(OR(COUNTRY_INFO!S57=\"Unknown\",COUNTRY_INFO!S57=\"Surveillance\",COUNTRY_INFO!S57=\"Not required\",COUNTRY_INFO!S57=0),0,IF($D57<>0, COUNTRY_INFO!S57,0))","v":0},{"$f":"IF(OR(COUNTRY_INFO!T57=\"Unknown\",COUNTRY_INFO!T57=\"Surveillance\",COUNTRY_INFO!T57=\"Not required\",COUNTRY_INFO!T57=0),0,IF($D57<>0, COUNTRY_INFO!T57,0))","v":0},{"$f":"IF(OR(COUNTRY_INFO!U57=\"Unknown\",COUNTRY_INFO!U57=\"Surveillance\",COUNTRY_INFO!U57=\"Not required\",COUNTRY_INFO!U57=0),0,IF($D57<>0, COUNTRY_INFO!U57,0))","v":0},0,null,null,0,null,null,{"$f":"IF($I57<>\"Yes\",$F57*2,($F57+ROUND(J57*$F57/SUM(COUNTRY_INFO!$E57:$G57),0))*2)","v":0},{"$f":"IF($I57<>\"Yes\",$G57*3,($G57+ROUND(J57*$G57/SUM(COUNTRY_INFO!$E57:$G57),0))*3)","v":0},0,null,0]
[{"$f":"IF(INTRO!$E$43=\"Non-endemic\",\" \", IF(COUNTRY_INFO!A58=0,\" \",COUNTRY_INFO!A58))","v":"Tchad"},{"$f":"IF(INTRO!$E$43=\"Non-endemic\",\" \", IF(COUNTRY_INFO!B58=0,\" \",COUNTRY_INFO!B58))","v":"Lac"},{"$f":"IF(INTRO!$E$43=\"Non-endemic\",\" \", IF(COUNTRY_INFO!C58=0,\" \",COUNTRY_INFO!C58))","v":"Kouloudia"},{"$f":"IF(INTRO!$E$43=\"Non-endemic\", \"Not required\", COUNTRY_INFO!Z58)","v":1},{"$f":"IF(OR(COUNTRY_INFO!S58=\"Unknown\",COUNTRY_INFO!S58=\"Surveillance\",COUNTRY_INFO!S58=\"Not required\",COUNTRY_INFO!S58=0),0,IF($D58<>0, COUNTRY_INFO!S58,0))","v":1179},{"$f":"IF(OR(COUNTRY_INFO!T58=\"Unknown\",COUNTRY_INFO!T58=\"Surveillance\",COUNTRY_INFO!T58=\"Not required\",COUNTRY_INFO!T58=0),0,IF($D58<>0, COUNTRY_INFO!T58,0))","v":3165},{"$f":"IF(OR(COUNTRY_INFO!U58=\"Unknown\",COUNTRY_INFO!U58=\"Surveillance\",COUNTRY_INFO!U58=\"Not required\",COUNTRY_INFO!U58=0),0,IF($D58<>0, COUNTRY_INFO!U58,0))","v":5726},10070,null,null,1,"SAC",null,{"$f":"IF($I58<>\"Yes\",$F58*2,($F58+ROUND(J58*$F58/SUM(COUNTRY_INFO!$E58:$G58),0))*2)","v":6330},{"$f":"IF($I58<>\"Yes\",$G58*3,($G58+ROUND(J58*$G58/SUM(COUNTRY_INFO!$E58:$G58),0))*3)","v":17178},23508,null,23508]
[{"$f":"IF(INTRO!$E$43=\"Non-endemic\",\" \", IF(COUNTRY_INFO!A59=0,\" \",COUNTRY_INFO!A59))","v":"Tchad"},{"$f":"IF(INTRO!$E$43=\"Non-endemic\",\" \", IF(COUNTRY_INFO!B59=0,\" \",COUNTRY_INFO!B59))","v":"Lac"},{"$f":"IF(INTRO!$E$43=\"Non-endemic\",\" \", IF(COUNTRY_INFO!C59=0,\" \",COUNTRY_INFO!C59))","v":"Liwa"},{"$f":"IF(INTRO!$E$43=\"Non-endemic\", \"Not required\", COUNTRY_INFO!Z59)","v":1},{"$f":"IF(OR(COUNTRY_INFO!S59=\"Unknown\",COUNTRY_INFO!S59=\"Surveillance\",COUNTRY_INFO!S59=\"Not required\",COUNTRY_INFO!S59=0),0,IF($D59<>0, COUNTRY_INFO!S59,0))","v":899},{"$f":"IF(OR(COUNTRY_INFO!T59=\"Unknown\",COUNTRY_INFO!T59=\"Surveillance\",COUNTRY_INFO!T59=\"Not required\",COUNTRY_INFO!T59=0),0,IF($D59<>0, COUNTRY_INFO!T59,0))","v":2414},{"$f":"IF(OR(COUNTRY_INFO!U59=\"Unknown\",COUNTRY_INFO!U59=\"Surveillance\",COUNTRY_INFO!U59=\"Not required\",COUNTRY_INFO!U59=0),0,IF($D59<>0, COUNTRY_INFO!U59,0))","v":4367},7680,null,null,0,null,null,{"$f":"IF($I59<>\"Yes\",$F59*2,($F59+ROUND(J59*$F59/SUM(COUNTRY_INFO!$E59:$G59),0))*2)","v":4828},{"$f":"IF($I59<>\"Yes\",$G59*3,($G59+ROUND(J59*$G59/SUM(COUNTRY_INFO!$E59:$G59),0))*3)","v":13101},17929,null,17929]
[{"$f":"IF(INTRO!$E$43=\"Non-endemic\",\" \", IF(COUNTRY_INFO!A60=0,\" \",COUNTRY_INFO!A60))","v":"Tchad"},{"$f":"IF(INTRO!$E$43=\"Non-endemic\",\" \", IF(COUNTRY_INFO!B60=0,\" \",COUNTRY_INFO!B60))","v":"Lac"},{"$f":"IF(INTRO!$E$43=\"Non-endemic\",\" \", IF(COUNTRY_INFO!C60=0,\" \",COUNTRY_INFO!C60))","v":"Ngouri"},{"$f":"IF(INTRO!$E$43=\"Non-endemic\", \"Not required\", COUNTRY_INFO!Z60)","v":1},{"$f":"IF(OR(COUNTRY_INFO!S60=\"Unknown\",COUNTRY_INFO!S60=\"Surveillance\",COUNTRY_INFO!S60=\"Not required\",COUNTRY_INFO!S60=0),0,IF($D60<>0, COUNTRY_INFO!S60,0))","v":582},{"$f":"IF(OR(COUNTRY_INFO!T60=\"Unknown\",COUNTRY_INFO!T60=\"Surveillance\",COUNTRY_INFO!T60=\"Not required\",COUNTRY_INFO!T60=0),0,IF($D60<>0, COUNTRY_INFO!T60,0))","v":1563},{"$f":"IF(OR(COUNTRY_INFO!U60=\"Unknown\",COUNTRY_INFO!U60=\"Surveillance\",COUNTRY_INFO!U60=\"Not required\",COUNTRY_INFO!U60=0),0,IF($D60<>0, COUNTRY_INFO!U60,0))","v":2828},4973,null,null,0,null,null,{"$f":"IF($I60<>\"Yes\",$F60*2,($F60+ROUND(J60*$F60/SUM(COUNTRY_INFO!$E60:$G60),0))*2)","v":3126},{"$f":"IF($I60<>\"Yes\",$G60*3,($G60+ROUND(J60*$G60/SUM(COUNTRY_INFO!$E60:$G60),0))*3)","v":8484},11610,null,11610]
[{"$f":"IF(INTRO!$E$43=\"Non-endemic\",\" \", IF(COUNTRY_INFO!A61=0,\" \",COUNTRY_INFO!A61))","v":"Tchad"},{"$f":"IF(INTRO!$E$43=\"Non-endemic\",\" \", IF(COUNTRY_INFO!B61=0,\" \",COUNTRY_INFO!B61))","v":"Logone Occidental"},{"$f":"IF(INTRO!$E$43=\"Non-endemic\",\" \", IF(COUNTRY_INFO!C61=0,\" \",COUNTRY_INFO!C61))","v":"Benamar"},{"$f":"IF(INTRO!$E$43=\"Non-endemic\", \"Not required\", COUNTRY_INFO!Z61)","v":0},{"$f":"IF(OR(COUNTRY_INFO!S61=\"Unknown\",COUNTRY_INFO!S61=\"Surveillance\",COUNTRY_INFO!S61=\"Not required\",COUNTRY_INFO!S61=0),0,IF($D61<>0, COUNTRY_INFO!S61,0))","v":0},{"$f":"IF(OR(COUNTRY_INFO!T61=\"Unknown\",COUNTRY_INFO!T61=\"Surveillance\",COUNTRY_INFO!T61=\"Not required\",COUNTRY_INFO!T61=0),0,IF($D61<>0, COUNTRY_INFO!T61,0))","v":0},{"$f":"IF(OR(COUNTRY_INFO!U61=\"Unknown\",COUNTRY_INFO!U61=\"Surveillance\",COUNTRY_INFO!U61=\"Not required\",COUNTRY_INFO!U61=0),0,IF($D61<>0, COUNTRY_INFO!U61,0))","v":0},0,null,null,1,"SAC",null,{"$f":"IF($I61<>\"Yes\",$F61*2,($F61+ROUND(J61*$F61/SUM(COUNTRY_INFO!$E61:$G61),0))*2)","v":0},{"$f":"IF($I61<>\"Yes\",$G61*3,($G61+ROUND(J61*$G61/SUM(COUNTRY_INFO!$E61:$G61),0))*3)","v":0},0,null,0]
[{"$f":"IF(INTRO!$E$43=\"Non-endemic\",\" \", IF(COUNTRY_INFO!A62=0,\" \",COUNTRY_INFO!A62))","v":"Tchad"},{"$f":"IF(INTRO!$E$43=\"Non-endemic\",\" \", IF(COUNTRY_INFO!B62=0,\" \",COUNTRY_INFO!B62))","v":"Logone Occidental"},{"$f":"IF(INTRO!$E$43=\"Non-endemic\",\" \", IF(COUNTRY_INFO!C62=0,\" \",COUNTRY_INFO!C62))","v":"Benoye"},{"$f":"IF(INTRO!$E$43=\"Non-endemic\", \"Not required\", COUNTRY_INFO!Z62)","v":1},{"$f":"IF(OR(COUNTRY_INFO!S62=\"Unknown\",COUNTRY_INFO!S62=\"Surveillance\",COUNTRY_INFO!S62=\"Not required\",COUNTRY_INFO!S62=0),0,IF($D62<>0, COUNTRY_INFO!S62,0))","v":7663},{"$f":"IF(OR(COUNTRY_INFO!T62=\"Unknown\",COUNTRY_INFO!T62=\"Surveillance\",COUNTRY_INFO!T62=\"Not required\",COUNTRY_INFO!T62=0),0,IF($D62<>0, COUNTRY_INFO!T62,0))","v":20571},{"$f":"IF(OR(COUNTRY_INFO!U62=\"Unknown\",COUNTRY_INFO!U62=\"Surveillance\",COUNTRY_INFO!U62=\"Not required\",COUNTRY_INFO!U62=0),0,IF($D62<>0, COUNTRY_INFO!U62,0))","v":37216},65450,null,null,0,null,null,{"$f":"IF($I62<>\"Yes\",$F62*2,($F62+ROUND(J62*$F62/SUM(COUNTRY_INFO!$E62:$G62),0))*2)","v":41142},{"$f":"IF($I62<>\"Yes\",$G62*3,($G62+ROUND(J62*$G62/SUM(COUNTRY_INFO!$E62:$G62),0))*3)","v":111648},152790,null,152790]
[{"$f":"IF(INTRO!$E$43=\"Non-endemic\",\" \", IF(COUNTRY_INFO!A63=0,\" \",COUNTRY_INFO!A63))","v":"Tchad"},{"$f":"IF(INTRO!$E$43=\"Non-endemic\",\" \", IF(COUNTRY_INFO!B63=0,\" \",COUNTRY_INFO!B63))","v":"Logone Occidental"},{"$f":"IF(INTRO!$E$43=\"Non-endemic\",\" \", IF(COUNTRY_INFO!C63=0,\" \",COUNTRY_INFO!C63))","v":"Laokassy"},{"$f":"IF(INTRO!$E$43=\"Non-endemic\", \"Not required\", COUNTRY_INFO!Z63)","v":1},{"$f":"IF(OR(COUNTRY_INFO!S63=\"Unknown\",COUNTRY_INFO!S63=\"Surveillance\",COUNTRY_INFO!S63=\"Not required\",COUNTRY_INFO!S63=0),0,IF($D63<>0, COUNTRY_INFO!S63,0))","v":7746},{"$f":"IF(OR(COUNTRY_INFO!T63=\"Unknown\",COUNTRY_INFO!T63=\"Surveillance\",COUNTRY_INFO!T63=\"Not required\",COUNTRY_INFO!T63=0),0,IF($D63<>0, COUNTRY_INFO!T63,0))","v":20795},{"$f":"IF(OR(COUNTRY_INFO!U63=\"Unknown\",COUNTRY_INFO!U63=\"Surveillance\",COUNTRY_INFO!U63=\"Not required\",COUNTRY_INFO!U63=0),0,IF($D63<>0, COUNTRY_INFO!U63,0))","v":37624},66165,null,null,0,null,null,{"$f":"IF($I63<>\"Yes\",$F63*2,($F63+ROUND(J63*$F63/SUM(COUNTRY_INFO!$E63:$G63),0))*2)","v":41590},{"$f":"IF($I63<>\"Yes\",$G63*3,($G63+ROUND(J63*$G63/SUM(COUNTRY_INFO!$E63:$G63),0))*3)","v":112872},154462,null,154462]
[{"$f":"IF(INTRO!$E$43=\"Non-endemic\",\" \", IF(COUNTRY_INFO!A64=0,\" \",COUNTRY_INFO!A64))","v":"Tchad"},{"$f":"IF(INTRO!$E$43=\"Non-endemic\",\" \", IF(COUNTRY_INFO!B64=0,\" \",COUNTRY_INFO!B64))","v":"Logone Occidental"},{"$f":"IF(INTRO!$E$43=\"Non-endemic\",\" \", IF(COUNTRY_INFO!C64=0,\" \",COUNTRY_INFO!C64))","v":"Moundou"},{"$f":"IF(INTRO!$E$43=\"Non-endemic\", \"Not required\", COUNTRY_INFO!Z64)","v":0},{"$f":"IF(OR(COUNTRY_INFO!S64=\"Unknown\",COUNTRY_INFO!S64=\"Surveillance\",COUNTRY_INFO!S64=\"Not required\",COUNTRY_INFO!S64=0),0,IF($D64<>0, COUNTRY_INFO!S64,0))","v":0},{"$f":"IF(OR(COUNTRY_INFO!T64=\"Unknown\",COUNTRY_INFO!T64=\"Surveillance\",COUNTRY_INFO!T64=\"Not required\",COUNTRY_INFO!T64=0),0,IF($D64<>0, COUNTRY_INFO!T64,0))","v":0},{"$f":"IF(OR(COUNTRY_INFO!U64=\"Unknown\",COUNTRY_INFO!U64=\"Surveillance\",COUNTRY_INFO!U64=\"Not required\",COUNTRY_INFO!U64=0),0,IF($D64<>0, COUNTRY_INFO!U64,0))","v":0},0,null,null,0,null,null,{"$f":"IF($I64<>\"Yes\",$F64*2,($F64+ROUND(J64*$F64/SUM(COUNTRY_INFO!$E64:$G64),0))*2)","v":0},{"$f":"IF($I64<>\"Yes\",$G64*3,($G64+ROUND(J64*$G64/SUM(COUNTRY_INFO!$E64:$G64),0))*3)","v":0},0,null,0]
[{"$f":"IF(INTRO!$E$43=\"Non-endemic\",\" \", IF(COUNTRY_INFO!A65=0,\" \",COUNTRY_INFO!A65))","v":"Tchad"},{"$f":"IF(INTRO!$E$43=\"Non-endemic\",\" \", IF(COUNTRY_INFO!B65=0,\" \",COUNTRY_INFO!B65))","v":"Logone Orientlal"},{"$f":"IF(INTRO!$E$43=\"Non-endemic\",\" \", IF(COUNTRY_INFO!C65=0,\" \",COUNTRY_INFO!C65))","v":"Baibokoum"},{"$f":"IF(INTRO!$E$43=\"Non-endemic\", \"Not required\", COUNTRY_INFO!Z65)","v":0},{"$f":"IF(OR(COUNTRY_INFO!S65=\"Unknown\",COUNTRY_INFO!S65=\"Surveillance\",COUNTRY_INFO!S65=\"Not required\",COUNTRY_INFO!S65=0),0,IF($D65<>0, COUNTRY_INFO!S65,0))","v":0},{"$f":"IF(OR(COUNTRY_INFO!T65=\"Unknown\",COUNTRY_INFO!T65=\"Surveillance\",COUNTRY_INFO!T65=\"Not required\",COUNTRY_INFO!T65=0),0,IF($D65<>0, COUNTRY_INFO!T65,0))","v":0},{"$f":"IF(OR(COUNTRY_INFO!U65=\"Unknown\",COUNTRY_INFO!U65=\"Surveillance\",COUNTRY_INFO!U65=\"Not required\",COUNTRY_INFO!U65=0),0,IF($D65<>0, COUNTRY_INFO!U65,0))","v":0},0,null,null,1,"SAC",null,{"$f":"IF($I65<>\"Yes\",$F65*2,($F65+ROUND(J65*$F65/SUM(COUNTRY_INFO!$E65:$G65),0))*2)","v":0},{"$f":"IF($I65<>\"Yes\",$G65*3,($G65+ROUND(J65*$G65/SUM(COUNTRY_INFO!$E65:$G65),0))*3)","v":0},0,null,0]
[{"$f":"IF(INTRO!$E$43=\"Non-endemic\",\" \", IF(COUNTRY_INFO!A66=0,\" \",COUNTRY_INFO!A66))","v":"Tchad"},{"$f":"IF(INTRO!$E$43=\"Non-endemic\",\" \", IF(COUNTRY_INFO!B66=0,\" \",COUNTRY_INFO!B66))","v":"Logone Orientlal"},{"$f":"IF(INTRO!$E$43=\"Non-endemic\",\" \", IF(COUNTRY_INFO!C66=0,\" \",COUNTRY_INFO!C66))","v":"Bebedja"},{"$f":"IF(INTRO!$E$43=\"Non-endemic\", \"Not required\", COUNTRY_INFO!Z66)","v":1},{"$f":"IF(OR(COUNTRY_INFO!S66=\"Unknown\",COUNTRY_INFO!S66=\"Surveillance\",COUNTRY_INFO!S66=\"Not required\",COUNTRY_INFO!S66=0),0,IF($D66<>0, COUNTRY_INFO!S66,0))","v":4296},{"$f":"IF(OR(COUNTRY_INFO!T66=\"Unknown\",COUNTRY_INFO!T66=\"Surveillance\",COUNTRY_INFO!T66=\"Not required\",COUNTRY_INFO!T66=0),0,IF($D66<>0, COUNTRY_INFO!T66,0))","v":11533},{"$f":"IF(OR(COUNTRY_INFO!U66=\"Unknown\",COUNTRY_INFO!U66=\"Surveillance\",COUNTRY_INFO!U66=\"Not required\",COUNTRY_INFO!U66=0),0,IF($D66<>0, COUNTRY_INFO!U66,0))","v":20866},36695,null,null,0,null,null,{"$f":"IF($I66<>\"Yes\",$F66*2,($F66+ROUND(J66*$F66/SUM(COUNTRY_INFO!$E66:$G66),0))*2)","v":23066},{"$f":"IF($I66<>\"Yes\",$G66*3,($G66+ROUND(J66*$G66/SUM(COUNTRY_INFO!$E66:$G66),0))*3)","v":62598},85664,null,85664]
[{"$f":"IF(INTRO!$E$43=\"Non-endemic\",\" \", IF(COUNTRY_INFO!A67=0,\" \",COUNTRY_INFO!A67))","v":"Tchad"},{"$f":"IF(INTRO!$E$43=\"Non-endemic\",\" \", IF(COUNTRY_INFO!B67=0,\" \",COUNTRY_INFO!B67))","v":"Logone Orientlal"},{"$f":"IF(INTRO!$E$43=\"Non-endemic\",\" \", IF(COUNTRY_INFO!C67=0,\" \",COUNTRY_INFO!C67))","v":"Beboto"},{"$f":"IF(INTRO!$E$43=\"Non-endemic\", \"Not required\", COUNTRY_INFO!Z67)","v":1},{"$f":"IF(OR(COUNTRY_INFO!S67=\"Unknown\",COUNTRY_INFO!S67=\"Surveillance\",COUNTRY_INFO!S67=\"Not required\",COUNTRY_INFO!S67=0),0,IF($D67<>0, COUNTRY_INFO!S67,0))","v":833},{"$f":"IF(OR(COUNTRY_INFO!T67=\"Unknown\",COUNTRY_INFO!T67=\"Surveillance\",COUNTRY_INFO!T67=\"Not required\",COUNTRY_INFO!T67=0),0,IF($D67<>0, COUNTRY_INFO!T67,0))","v":2237},{"$f":"IF(OR(COUNTRY_INFO!U67=\"Unknown\",COUNTRY_INFO!U67=\"Surveillance\",COUNTRY_INFO!U67=\"Not required\",COUNTRY_INFO!U67=0),0,IF($D67<>0, COUNTRY_INFO!U67,0))","v":4049},7119,null,null,0,null,null,{"$f":"IF($I67<>\"Yes\",$F67*2,($F67+ROUND(J67*$F67/SUM(COUNTRY_INFO!$E67:$G67),0))*2)","v":4474},{"$f":"IF($I67<>\"Yes\",$G67*3,($G67+ROUND(J67*$G67/SUM(COUNTRY_INFO!$E67:$G67),0))*3)","v":12147},16621,null,16621]
[{"$f":"IF(INTRO!$E$43=\"Non-endemic\",\" \", IF(COUNTRY_INFO!A68=0,\" \",COUNTRY_INFO!A68))","v":"Tchad"},{"$f":"IF(INTRO!$E$43=\"Non-endemic\",\" \", IF(COUNTRY_INFO!B68=0,\" \",COUNTRY_INFO!B68))","v":"Logone Orientlal"},{"$f":"IF(INTRO!$E$43=\"Non-endemic\",\" \", IF(COUNTRY_INFO!C68=0,\" \",COUNTRY_INFO!C68))","v":"Bessao"},{"$f":"IF(INTRO!$E$43=\"Non-endemic\", \"Not required\", COUNTRY_INFO!Z68)","v":1},{"$f":"IF(OR(COUNTRY_INFO!S68=\"Unknown\",COUNTRY_INFO!S68=\"Surveillance\",COUNTRY_INFO!S68=\"Not required\",COUNTRY_INFO!S68=0),0,IF($D68<>0, COUNTRY_INFO!S68,0))","v":5387},{"$f":"IF(OR(COUNTRY_INFO!T68=\"Unknown\",COUNTRY_INFO!T68=\"Surveillance\",COUNTRY_INFO!T68=\"Not required\",COUNTRY_INFO!T68=0),0,IF($D68<>0, COUNTRY_INFO!T68,0))","v":14461},{"$f":"IF(OR(COUNTRY_INFO!U68=\"Unknown\",COUNTRY_INFO!U68=\"Surveillance\",COUNTRY_INFO!U68=\"Not required\",COUNTRY_INFO!U68=0),0,IF($D68<>0, COUNTRY_INFO!U68,0))","v":26164},46012,null,null,1,"SAC",null,{"$f":"IF($I68<>\"Yes\",$F68*2,($F68+ROUND(J68*$F68/SUM(COUNTRY_INFO!$E68:$G68),0))*2)","v":28922},{"$f":"IF($I68<>\"Yes\",$G68*3,($G68+ROUND(J68*$G68/SUM(COUNTRY_INFO!$E68:$G68),0))*3)","v":78492},107414,null,107414]
[{"$f":"IF(INTRO!$E$43=\"Non-endemic\",\" \", IF(COUNTRY_INFO!A69=0,\" \",COUNTRY_INFO!A69))","v":"Tchad"},{"$f":"IF(INTRO!$E$43=\"Non-endemic\",\" \", IF(COUNTRY_INFO!B69=0,\" \",COUNTRY_INFO!B69))","v":"Logone Orientlal"},{"$f":"IF(INTRO!$E$43=\"Non-endemic\",\" \", IF(COUNTRY_INFO!C69=0,\" \",COUNTRY_INFO!C69))","v":"Bodo"},{"$f":"IF(INTRO!$E$43=\"Non-endemic\", \"Not required\", COUNTRY_INFO!Z69)","v":1},{"$f":"IF(OR(COUNTRY_INFO!S69=\"Unknown\",COUNTRY_INFO!S69=\"Surveillance\",COUNTRY_INFO!S69=\"Not required\",COUNTRY_INFO!S69=0),0,IF($D69<>0, COUNTRY_INFO!S69,0))","v":1315},{"$f":"IF(OR(COUNTRY_INFO!T69=\"Unknown\",COUNTRY_INFO!T69=\"Surveillance\",COUNTRY_INFO!T69=\"Not required\",COUNTRY_INFO!T69=0),0,IF($D69<>0, COUNTRY_INFO!T69,0))","v":3528},{"$f":"IF(OR(COUNTRY_INFO!U69=\"Unknown\",COUNTRY_INFO!U69=\"Surveillance\",COUNTRY_INFO!U69=\"Not required\",COUNTRY_INFO!U69=0),0,IF($D69<>0, COUNTRY_INFO!U69,0))","v":6384},11227,null,null,1,"SAC",null,{"$f":"IF($I69<>\"Yes\",$F69*2,($F69+ROUND(J69*$F69/SUM(COUNTRY_INFO!$E69:$G69),0))*2)","v":7056},{"$f":"IF($I69<>\"Yes\",$G69*3,($G69+ROUND(J69*$G69/SUM(COUNTRY_INFO!$E69:$G69),0))*3)","v":19152},26208,null,26208]
[{"$f":"IF(INTRO!$E$43=\"Non-endemic\",\" \", IF(COUNTRY_INFO!A70=0,\" \",COUNTRY_INFO!A70))","v":"Tchad"},{"$f":"IF(INTRO!$E$43=\"Non-endemic\",\" \", IF(COUNTRY_INFO!B70=0,\" \",COUNTRY_INFO!B70))","v":"Logone Orientlal"},{"$f":"IF(INTRO!$E$43=\"Non-endemic\",\" \", IF(COUNTRY_INFO!C70=0,\" \",COUNTRY_INFO!C70))","v":"Doba"},{"$f":"IF(INTRO!$E$43=\"Non-endemic\", \"Not required\", COUNTRY_INFO!Z70)","v":1},{"$f":"IF(OR(COUNTRY_INFO!S70=\"Unknown\",COUNTRY_INFO!S70=\"Surveillance\",COUNTRY_INFO!S70=\"Not required\",COUNTRY_INFO!S70=0),0,IF($D70<>0, COUNTRY_INFO!S70,0))","v":1893},{"$f":"IF(OR(COUNTRY_INFO!T70=\"Unknown\",COUNTRY_INFO!T70=\"Surveillance\",COUNTRY_INFO!T70=\"Not required\",COUNTRY_INFO!T70=0),0,IF($D70<>0, COUNTRY_INFO!T70,0))","v":5082},{"$f":"IF(OR(COUNTRY_INFO!U70=\"Unknown\",COUNTRY_INFO!U70=\"Surveillance\",COUNTRY_INFO!U70=\"Not required\",COUNTRY_INFO!U70=0),0,IF($D70<>0, COUNTRY_INFO!U70,0))","v":9194},16169,null,null,0,null,null,{"$f":"IF($I70<>\"Yes\",$F70*2,($F70+ROUND(J70*$F70/SUM(COUNTRY_INFO!$E70:$G70),0))*2)","v":10164},{"$f":"IF($I70<>\"Yes\",$G70*3,($G70+ROUND(J70*$G70/SUM(COUNTRY_INFO!$E70:$G70),0))*3)","v":27582},37746,null,37746]
[{"$f":"IF(INTRO!$E$43=\"Non-endemic\",\" \", IF(COUNTRY_INFO!A71=0,\" \",COUNTRY_INFO!A71))","v":"Tchad"},{"$f":"IF(INTRO!$E$43=\"Non-endemic\",\" \", IF(COUNTRY_INFO!B71=0,\" \",COUNTRY_INFO!B71))","v":"Logone Orientlal"},{"$f":"IF(INTRO!$E$43=\"Non-endemic\",\" \", IF(COUNTRY_INFO!C71=0,\" \",COUNTRY_INFO!C71))","v":"DONIA"},{"$f":"IF(INTRO!$E$43=\"Non-endemic\", \"Not required\", COUNTRY_INFO!Z71)","v":0},{"$f":"IF(OR(COUNTRY_INFO!S71=\"Unknown\",COUNTRY_INFO!S71=\"Surveillance\",COUNTRY_INFO!S71=\"Not required\",COUNTRY_INFO!S71=0),0,IF($D71<>0, COUNTRY_INFO!S71,0))","v":0},{"$f":"IF(OR(COUNTRY_INFO!T71=\"Unknown\",COUNTRY_INFO!T71=\"Surveillance\",COUNTRY_INFO!T71=\"Not required\",COUNTRY_INFO!T71=0),0,IF($D71<>0, COUNTRY_INFO!T71,0))","v":0},{"$f":"IF(OR(COUNTRY_INFO!U71=\"Unknown\",COUNTRY_INFO!U71=\"Surveillance\",COUNTRY_INFO!U71=\"Not required\",COUNTRY_INFO!U71=0),0,IF($D71<>0, COUNTRY_INFO!U71,0))","v":0},0,null,null,1,"SAC",null,{"$f":"IF($I71<>\"Yes\",$F71*2,($F71+ROUND(J71*$F71/SUM(COUNTRY_INFO!$E71:$G71),0))*2)","v":0},{"$f":"IF($I71<>\"Yes\",$G71*3,($G71+ROUND(J71*$G71/SUM(COUNTRY_INFO!$E71:$G71),0))*3)","v":0},0,null,0]
[{"$f":"IF(INTRO!$E$43=\"Non-endemic\",\" \", IF(COUNTRY_INFO!A72=0,\" \",COUNTRY_INFO!A72))","v":"Tchad"},{"$f":"IF(INTRO!$E$43=\"Non-endemic\",\" \", IF(COUNTRY_INFO!B72=0,\" \",COUNTRY_INFO!B72))","v":"Logone Orientlal"},{"$f":"IF(INTRO!$E$43=\"Non-endemic\",\" \", IF(COUNTRY_INFO!C72=0,\" \",COUNTRY_INFO!C72))","v":"Goré"},{"$f":"IF(INTRO!$E$43=\"Non-endemic\", \"Not required\", COUNTRY_INFO!Z72)","v":1},{"$f":"IF(OR(COUNTRY_INFO!S72=\"Unknown\",COUNTRY_INFO!S72=\"Surveillance\",COUNTRY_INFO!S72=\"Not required\",COUNTRY_INFO!S72=0),0,IF($D72<>0, COUNTRY_INFO!S72,0))","v":3147},{"$f":"IF(OR(COUNTRY_INFO!T72=\"Unknown\",COUNTRY_INFO!T72=\"Surveillance\",COUNTRY_INFO!T72=\"Not required\",COUNTRY_INFO!T72=0),0,IF($D72<>0, COUNTRY_INFO!T72,0))","v":8447},{"$f":"IF(OR(COUNTRY_INFO!U72=\"Unknown\",COUNTRY_INFO!U72=\"Surveillance\",COUNTRY_INFO!U72=\"Not required\",COUNTRY_INFO!U72=0),0,IF($D72<>0, COUNTRY_INFO!U72,0))","v":15284},26878,null,null,1,"SAC",null,{"$f":"IF($I72<>\"Yes\",$F72*2,($F72+ROUND(J72*$F72/SUM(COUNTRY_INFO!$E72:$G72),0))*2)","v":16894},{"$f":"IF($I72<>\"Yes\",$G72*3,($G72+ROUND(J72*$G72/SUM(COUNTRY_INFO!$E72:$G72),0))*3)","v":45852},62746,null,62746]
[{"$f":"IF(INTRO!$E$43=\"Non-endemic\",\" \", IF(COUNTRY_INFO!A73=0,\" \",COUNTRY_INFO!A73))","v":"Tchad"},{"$f":"IF(INTRO!$E$43=\"Non-endemic\",\" \", IF(COUNTRY_INFO!B73=0,\" \",COUNTRY_INFO!B73))","v":"Logone Orientlal"},{"$f":"IF(INTRO!$E$43=\"Non-endemic\",\" \", IF(COUNTRY_INFO!C73=0,\" \",COUNTRY_INFO!C73))","v":"Kara"},{"$f":"IF(INTRO!$E$43=\"Non-endemic\", \"Not required\", COUNTRY_INFO!Z73)","v":0},{"$f":"IF(OR(COUNTRY_INFO!S73=\"Unknown\",COUNTRY_INFO!S73=\"Surveillance\",COUNTRY_INFO!S73=\"Not required\",COUNTRY_INFO!S73=0),0,IF($D73<>0, COUNTRY_INFO!S73,0))","v":0},{"$f":"IF(OR(COUNTRY_INFO!T73=\"Unknown\",COUNTRY_INFO!T73=\"Surveillance\",COUNTRY_INFO!T73=\"Not required\",COUNTRY_INFO!T73=0),0,IF($D73<>0, COUNTRY_INFO!T73,0))","v":0},{"$f":"IF(OR(COUNTRY_INFO!U73=\"Unknown\",COUNTRY_INFO!U73=\"Surveillance\",COUNTRY_INFO!U73=\"Not required\",COUNTRY_INFO!U73=0),0,IF($D73<>0, COUNTRY_INFO!U73,0))","v":0},0,null,null,0,null,null,{"$f":"IF($I73<>\"Yes\",$F73*2,($F73+ROUND(J73*$F73/SUM(COUNTRY_INFO!$E73:$G73),0))*2)","v":0},{"$f":"IF($I73<>\"Yes\",$G73*3,($G73+ROUND(J73*$G73/SUM(COUNTRY_INFO!$E73:$G73),0))*3)","v":0},0,null,0]
[{"$f":"IF(INTRO!$E$43=\"Non-endemic\",\" \", IF(COUNTRY_INFO!A74=0,\" \",COUNTRY_INFO!A74))","v":"Tchad"},{"$f":"IF(INTRO!$E$43=\"Non-endemic\",\" \", IF(COUNTRY_INFO!B74=0,\" \",COUNTRY_INFO!B74))","v":"Logone Orientlal"},{"$f":"IF(INTRO!$E$43=\"Non-endemic\",\" \", IF(COUNTRY_INFO!C74=0,\" \",COUNTRY_INFO!C74))","v":"Larmanaye"},{"$f":"IF(INTRO!$E$43=\"Non-endemic\", \"Not required\", COUNTRY_INFO!Z74)","v":1},{"$f":"IF(OR(COUNTRY_INFO!S74=\"Unknown\",COUNTRY_INFO!S74=\"Surveillance\",COUNTRY_INFO!S74=\"Not required\",COUNTRY_INFO!S74=0),0,IF($D74<>0, COUNTRY_INFO!S74,0))","v":5292},{"$f":"IF(OR(COUNTRY_INFO!T74=\"Unknown\",COUNTRY_INFO!T74=\"Surveillance\",COUNTRY_INFO!T74=\"Not required\",COUNTRY_INFO!T74=0),0,IF($D74<>0, COUNTRY_INFO!T74,0))","v":14206},{"$f":"IF(OR(COUNTRY_INFO!U74=\"Unknown\",COUNTRY_INFO!U74=\"Surveillance\",COUNTRY_INFO!U74=\"Not required\",COUNTRY_INFO!U74=0),0,IF($D74<>0, COUNTRY_INFO!U74,0))","v":25703},45201,null,null,0,null,null,{"$f":"IF($I74<>\"Yes\",$F74*2,($F74+ROUND(J74*$F74/SUM(COUNTRY_INFO!$E74:$G74),0))*2)","v":28412},{"$f":"IF($I74<>\"Yes\",$G74*3,($G74+ROUND(J74*$G74/SUM(COUNTRY_INFO!$E74:$G74),0))*3)","v":77109},105521,null,105521]
[{"$f":"IF(INTRO!$E$43=\"Non-endemic\",\" \", IF(COUNTRY_INFO!A75=0,\" \",COUNTRY_INFO!A75))","v":"Tchad"},{"$f":"IF(INTRO!$E$43=\"Non-endemic\",\" \", IF(COUNTRY_INFO!B75=0,\" \",COUNTRY_INFO!B75))","v":"Mandoul"},{"$f":"IF(INTRO!$E$43=\"Non-endemic\",\" \", IF(COUNTRY_INFO!C75=0,\" \",COUNTRY_INFO!C75))","v":"Bedaya"},{"$f":"IF(INTRO!$E$43=\"Non-endemic\", \"Not required\", COUNTRY_INFO!Z75)","v":0},{"$f":"IF(OR(COUNTRY_INFO!S75=\"Unknown\",COUNTRY_INFO!S75=\"Surveillance\",COUNTRY_INFO!S75=\"Not required\",COUNTRY_INFO!S75=0),0,IF($D75<>0, COUNTRY_INFO!S75,0))","v":0},{"$f":"IF(OR(COUNTRY_INFO!T75=\"Unknown\",COUNTRY_INFO!T75=\"Surveillance\",COUNTRY_INFO!T75=\"Not required\",COUNTRY_INFO!T75=0),0,IF($D75<>0, COUNTRY_INFO!T75,0))","v":0},{"$f":"IF(OR(COUNTRY_INFO!U75=\"Unknown\",COUNTRY_INFO!U75=\"Surveillance\",COUNTRY_INFO!U75=\"Not required\",COUNTRY_INFO!U75=0),0,IF($D75<>0, COUNTRY_INFO!U75,0))","v":0},{"$f":"SUM(E75:G75)","v":0},null,null,0,null,null,{"$f":"IF($I75<>\"Yes\",$F75*2,($F75+ROUND(J75*$F75/SUM(COUNTRY_INFO!$E75:$G75),0))*2)","v":0},{"$f":"IF($I75<>\"Yes\",$G75*3,($G75+ROUND(J75*$G75/SUM(COUNTRY_INFO!$E75:$G75),0))*3)","v":0},{"$f":"SUM(M75:O75)","v":0},null,{"$f":"IF($P75>$Q75,P75-Q75,0)","v":0}]
[{"$f":"IF(INTRO!$E$43=\"Non-endemic\",\" \", IF(COUNTRY_INFO!A76=0,\" \",COUNTRY_INFO!A76))","v":"Tchad"},{"$f":"IF(INTRO!$E$43=\"Non-endemic\",\" \", IF(COUNTRY_INFO!B76=0,\" \",COUNTRY_INFO!B76))","v":"Mandoul"},{"$f":"IF(INTRO!$E$43=\"Non-endemic\",\" \", IF(COUNTRY_INFO!C76=0,\" \",COUNTRY_INFO!C76))","v":"Bedjondo"},{"$f":"IF(INTRO!$E$43=\"Non-endemic\", \"Not required\", COUNTRY_INFO!Z76)","v":1},{"$f":"IF(OR(COUNTRY_INFO!S76=\"Unknown\",COUNTRY_INFO!S76=\"Surveillance\",COUNTRY_INFO!S76=\"Not required\",COUNTRY_INFO!S76=0),0,IF($D76<>0, COUNTRY_INFO!S76,0))","v":2580},{"$f":"IF(OR(COUNTRY_INFO!T76=\"Unknown\",COUNTRY_INFO!T76=\"Surveillance\",COUNTRY_INFO!T76=\"Not required\",COUNTRY_INFO!T76=0),0,IF($D76<>0, COUNTRY_INFO!T76,0))","v":6926},{"$f":"IF(OR(COUNTRY_INFO!U76=\"Unknown\",COUNTRY_INFO!U76=\"Surveillance\",COUNTRY_INFO!U76=\"Not required\",COUNTRY_INFO!U76=0),0,IF($D76<>0, COUNTRY_INFO!U76,0))","v":12531},22037,null,null,0,null,null,{"$f":"IF($I76<>\"Yes\",$F76*2,($F76+ROUND(J76*$F76/SUM(COUNTRY_INFO!$E76:$G76),0))*2)","v":13852},{"$f":"IF($I76<>\"Yes\",$G76*3,($G76+ROUND(J76*$G76/SUM(COUNTRY_INFO!$E76:$G76),0))*3)","v":37593},51445,null,51445]
[{"$f":"IF(INTRO!$E$43=\"Non-endemic\",\" \", IF(COUNTRY_INFO!A77=0,\" \",COUNTRY_INFO!A77))","v":"Tchad"},{"$f":"IF(INTRO!$E$43=\"Non-endemic\",\" \", IF(COUNTRY_INFO!B77=0,\" \",COUNTRY_INFO!B77))","v":"Mandoul"},{"$f":"IF(INTRO!$E$43=\"Non-endemic\",\" \", IF(COUNTRY_INFO!C77=0,\" \",COUNTRY_INFO!C77))","v":"Bekourou"},{"$f":"IF(INTRO!$E$43=\"Non-endemic\", \"Not required\", COUNTRY_INFO!Z77)","v":0},{"$f":"IF(OR(COUNTRY_INFO!S77=\"Unknown\",COUNTRY_INFO!S77=\"Surveillance\",COUNTRY_INFO!S77=\"Not required\",COUNTRY_INFO!S77=0),0,IF($D77<>0, COUNTRY_INFO!S77,0))","v":0},{"$f":"IF(OR(COUNTRY_INFO!T77=\"Unknown\",COUNTRY_INFO!T77=\"Surveillance\",COUNTRY_INFO!T77=\"Not required\",COUNTRY_INFO!T77=0),0,IF($D77<>0, COUNTRY_INFO!T77,0))","v":0},{"$f":"IF(OR(COUNTRY_INFO!U77=\"Unknown\",COUNTRY_INFO!U77=\"Surveillance\",COUNTRY_INFO!U77=\"Not required\",COUNTRY_INFO!U77=0),0,IF($D77<>0, COUNTRY_INFO!U77,0))","v":0},0,null,null,0,null,null,{"$f":"IF($I77<>\"Yes\",$F77*2,($F77+ROUND(J77*$F77/SUM(COUNTRY_INFO!$E77:$G77),0))*2)","v":0},{"$f":"IF($I77<>\"Yes\",$G77*3,($G77+ROUND(J77*$G77/SUM(COUNTRY_INFO!$E77:$G77),0))*3)","v":0},0,null,0]
[{"$f":"IF(INTRO!$E$43=\"Non-endemic\",\" \", IF(COUNTRY_INFO!A78=0,\" \",COUNTRY_INFO!A78))","v":"Tchad"},{"$f":"IF(INTRO!$E$43=\"Non-endemic\",\" \", IF(COUNTRY_INFO!B78=0,\" \",COUNTRY_INFO!B78))","v":"Mandoul"},{"$f":"IF(INTRO!$E$43=\"Non-endemic\",\" \", IF(COUNTRY_INFO!C78=0,\" \",COUNTRY_INFO!C78))","v":"Bouna"},{"$f":"IF(INTRO!$E$43=\"Non-endemic\", \"Not required\", COUNTRY_INFO!Z78)","v":0},{"$f":"IF(OR(COUNTRY_INFO!S78=\"Unknown\",COUNTRY_INFO!S78=\"Surveillance\",COUNTRY_INFO!S78=\"Not required\",COUNTRY_INFO!S78=0),0,IF($D78<>0, COUNTRY_INFO!S78,0))","v":0},{"$f":"IF(OR(COUNTRY_INFO!T78=\"Unknown\",COUNTRY_INFO!T78=\"Surveillance\",COUNTRY_INFO!T78=\"Not required\",COUNTRY_INFO!T78=0),0,IF($D78<>0, COUNTRY_INFO!T78,0))","v":0},{"$f":"IF(OR(COUNTRY_INFO!U78=\"Unknown\",COUNTRY_INFO!U78=\"Surveillance\",COUNTRY_INFO!U78=\"Not required\",COUNTRY_INFO!U78=0),0,IF($D78<>0, COUNTRY_INFO!U78,0))","v":0},0,null,null,1,"SAC",null,{"$f":"IF($I78<>\"Yes\",$F78*2,($F78+ROUND(J78*$F78/SUM(COUNTRY_INFO!$E78:$G78),0))*2)","v":0},{"$f":"IF($I78<>\"Yes\",$G78*3,($G78+ROUND(J78*$G78/SUM(COUNTRY_INFO!$E78:$G78),0))*3)","v":0},0,null,0]
[{"$f":"IF(INTRO!$E$43=\"Non-endemic\",\" \", IF(COUNTRY_INFO!A79=0,\" \",COUNTRY_INFO!A79))","v":"Tchad"},{"$f":"IF(INTRO!$E$43=\"Non-endemic\",\" \", IF(COUNTRY_INFO!B79=0,\" \",COUNTRY_INFO!B79))","v":"Mandoul"},{"$f":"IF(INTRO!$E$43=\"Non-endemic\",\" \", IF(COUNTRY_INFO!C79=0,\" \",COUNTRY_INFO!C79))","v":"Goundi"},{"$f":"IF(INTRO!$E$43=\"Non-endemic\", \"Not required\", COUNTRY_INFO!Z79)","v":0},{"$f":"IF(OR(COUNTRY_INFO!S79=\"Unknown\",COUNTRY_INFO!S79=\"Surveillance\",COUNTRY_INFO!S79=\"Not required\",COUNTRY_INFO!S79=0),0,IF($D79<>0, COUNTRY_INFO!S79,0))","v":0},{"$f":"IF(OR(COUNTRY_INFO!T79=\"Unknown\",COUNTRY_INFO!T79=\"Surveillance\",COUNTRY_INFO!T79=\"Not required\",COUNTRY_INFO!T79=0),0,IF($D79<>0, COUNTRY_INFO!T79,0))","v":0},{"$f":"IF(OR(COUNTRY_INFO!U79=\"Unknown\",COUNTRY_INFO!U79=\"Surveillance\",COUNTRY_INFO!U79=\"Not required\",COUNTRY_INFO!U79=0),0,IF($D79<>0, COUNTRY_INFO!U79,0))","v":0},0,null,null,1,"SAC",null,{"$f":"IF($I79<>\"Yes\",$F79*2,($F79+ROUND(J79*$F79/SUM(COUNTRY_INFO!$E79:$G79),0))*2)","v":0},{"$f":"IF($I79<>\"Yes\",$G79*3,($G79+ROUND(J79*$G79/SUM(COUNTRY_INFO!$E79:$G79),0))*3)","v":0},0,null,0]
[{"$f":"IF(INTRO!$E$43=\"Non-endemic\",\" \", IF(COUNTRY_INFO!A80=0,\" \",COUNTRY_INFO!A80))","v":"Tchad"},{"$f":"IF(INTRO!$E$43=\"Non-endemic\",\" \", IF(COUNTRY_INFO!B80=0,\" \",COUNTRY_INFO!B80))","v":"Mandoul"},{"$f":"IF(INTRO!$E$43=\"Non-endemic\",\" \", IF(COUNTRY_INFO!C80=0,\" \",COUNTRY_INFO!C80))","v":"Koumra"},{"$f":"IF(INTRO!$E$43=\"Non-endemic\", \"Not required\", COUNTRY_INFO!Z80)","v":0},{"$f":"IF(OR(COUNTRY_INFO!S80=\"Unknown\",COUNTRY_INFO!S80=\"Surveillance\",COUNTRY_INFO!S80=\"Not required\",COUNTRY_INFO!S80=0),0,IF($D80<>0, COUNTRY_INFO!S80,0))","v":0},{"$f":"IF(OR(COUNTRY_INFO!T80=\"Unknown\",COUNTRY_INFO!T80=\"Surveillance\",COUNTRY_INFO!T80=\"Not required\",COUNTRY_INFO!T80=0),0,IF($D80<>0, COUNTRY_INFO!T80,0))","v":0},{"$f":"IF(OR(COUNTRY_INFO!U80=\"Unknown\",COUNTRY_INFO!U80=\"Surveillance\",COUNTRY_INFO!U80=\"Not required\",COUNTRY_INFO!U80=0),0,IF($D80<>0, COUNTRY_INFO!U80,0))","v":0},0,null,null,1,"SAC",null,{"$f":"IF($I80<>\"Yes\",$F80*2,($F80+ROUND(J80*$F80/SUM(COUNTRY_INFO!$E80:$G80),0))*2)","v":0},{"$f":"IF($I80<>\"Yes\",$G80*3,($G80+ROUND(J80*$G80/SUM(COUNTRY_INFO!$E80:$G80),0))*3)","v":0},0,null,0]
[{"$f":"IF(INTRO!$E$43=\"Non-endemic\",\" \", IF(COUNTRY_INFO!A81=0,\" \",COUNTRY_INFO!A81))","v":"Tchad"},{"$f":"IF(INTRO!$E$43=\"Non-endemic\",\" \", IF(COUNTRY_INFO!B81=0,\" \",COUNTRY_INFO!B81))","v":"Mandoul"},{"$f":"IF(INTRO!$E$43=\"Non-endemic\",\" \", IF(COUNTRY_INFO!C81=0,\" \",COUNTRY_INFO!C81))","v":"Moissala"},{"$f":"IF(INTRO!$E$43=\"Non-endemic\", \"Not required\", COUNTRY_INFO!Z81)","v":0},{"$f":"IF(OR(COUNTRY_INFO!S81=\"Unknown\",COUNTRY_INFO!S81=\"Surveillance\",COUNTRY_INFO!S81=\"Not required\",COUNTRY_INFO!S81=0),0,IF($D81<>0, COUNTRY_INFO!S81,0))","v":0},{"$f":"IF(OR(COUNTRY_INFO!T81=\"Unknown\",COUNTRY_INFO!T81=\"Surveillance\",COUNTRY_INFO!T81=\"Not required\",COUNTRY_INFO!T81=0),0,IF($D81<>0, COUNTRY_INFO!T81,0))","v":0},{"$f":"IF(OR(COUNTRY_INFO!U81=\"Unknown\",COUNTRY_INFO!U81=\"Surveillance\",COUNTRY_INFO!U81=\"Not required\",COUNTRY_INFO!U81=0),0,IF($D81<>0, COUNTRY_INFO!U81,0))","v":0},0,null,null,1,"SAC",null,{"$f":"IF($I81<>\"Yes\",$F81*2,($F81+ROUND(J81*$F81/SUM(COUNTRY_INFO!$E81:$G81),0))*2)","v":0},{"$f":"IF($I81<>\"Yes\",$G81*3,($G81+ROUND(J81*$G81/SUM(COUNTRY_INFO!$E81:$G81),0))*3)","v":0},0,null,0]
[{"$f":"IF(INTRO!$E$43=\"Non-endemic\",\" \", IF(COUNTRY_INFO!A82=0,\" \",COUNTRY_INFO!A82))","v":"Tchad"},{"$f":"IF(INTRO!$E$43=\"Non-endemic\",\" \", IF(COUNTRY_INFO!B82=0,\" \",COUNTRY_INFO!B82))","v":"Mayo Kebbi Est"},{"$f":"IF(INTRO!$E$43=\"Non-endemic\",\" \", IF(COUNTRY_INFO!C82=0,\" \",COUNTRY_INFO!C82))","v":"Bongor"},{"$f":"IF(INTRO!$E$43=\"Non-endemic\", \"Not required\", COUNTRY_INFO!Z82)","v":1},{"$f":"IF(OR(COUNTRY_INFO!S82=\"Unknown\",COUNTRY_INFO!S82=\"Surveillance\",COUNTRY_INFO!S82=\"Not required\",COUNTRY_INFO!S82=0),0,IF($D82<>0, COUNTRY_INFO!S82,0))","v":7114},{"$f":"IF(OR(COUNTRY_INFO!T82=\"Unknown\",COUNTRY_INFO!T82=\"Surveillance\",COUNTRY_INFO!T82=\"Not required\",COUNTRY_INFO!T82=0),0,IF($D82<>0, COUNTRY_INFO!T82,0))","v":19097},{"$f":"IF(OR(COUNTRY_INFO!U82=\"Unknown\",COUNTRY_INFO!U82=\"Surveillance\",COUNTRY_INFO!U82=\"Not required\",COUNTRY_INFO!U82=0),0,IF($D82<>0, COUNTRY_INFO!U82,0))","v":34554},60765,null,null,1,"SAC",null,{"$f":"IF($I82<>\"Yes\",$F82*2,($F82+ROUND(J82*$F82/SUM(COUNTRY_INFO!$E82:$G82),0))*2)","v":38194},{"$f":"IF($I82<>\"Yes\",$G82*3,($G82+ROUND(J82*$G82/SUM(COUNTRY_INFO!$E82:$G82),0))*3)","v":103662},141856,null,141856]
[{"$f":"IF(INTRO!$E$43=\"Non-endemic\",\" \", IF(COUNTRY_INFO!A83=0,\" \",COUNTRY_INFO!A83))","v":"Tchad"},{"$f":"IF(INTRO!$E$43=\"Non-endemic\",\" \", IF(COUNTRY_INFO!B83=0,\" \",COUNTRY_INFO!B83))","v":"Mayo Kebbi Est"},{"$f":"IF(INTRO!$E$43=\"Non-endemic\",\" \", IF(COUNTRY_INFO!C83=0,\" \",COUNTRY_INFO!C83))","v":"Fianga"},{"$f":"IF(INTRO!$E$43=\"Non-endemic\", \"Not required\", COUNTRY_INFO!Z83)","v":1},{"$f":"IF(OR(COUNTRY_INFO!S83=\"Unknown\",COUNTRY_INFO!S83=\"Surveillance\",COUNTRY_INFO!S83=\"Not required\",COUNTRY_INFO!S83=0),0,IF($D83<>0, COUNTRY_INFO!S83,0))","v":7131},{"$f":"IF(OR(COUNTRY_INFO!T83=\"Unknown\",COUNTRY_INFO!T83=\"Surveillance\",COUNTRY_INFO!T83=\"Not required\",COUNTRY_INFO!T83=0),0,IF($D83<>0, COUNTRY_INFO!T83,0))","v":19148},{"$f":"IF(OR(COUNTRY_INFO!U83=\"Unknown\",COUNTRY_INFO!U83=\"Surveillance\",COUNTRY_INFO!U83=\"Not required\",COUNTRY_INFO!U83=0),0,IF($D83<>0, COUNTRY_INFO!U83,0))","v":34643},60922,null,null,1,"SAC",null,{"$f":"IF($I83<>\"Yes\",$F83*2,($F83+ROUND(J83*$F83/SUM(COUNTRY_INFO!$E83:$G83),0))*2)","v":38296},{"$f":"IF($I83<>\"Yes\",$G83*3,($G83+ROUND(J83*$G83/SUM(COUNTRY_INFO!$E83:$G83),0))*3)","v":103929},142225,null,142225]
[{"$f":"IF(INTRO!$E$43=\"Non-endemic\",\" \", IF(COUNTRY_INFO!A84=0,\" \",COUNTRY_INFO!A84))","v":"Tchad"},{"$f":"IF(INTRO!$E$43=\"Non-endemic\",\" \", IF(COUNTRY_INFO!B84=0,\" \",COUNTRY_INFO!B84))","v":"Mayo Kebbi Est"},{"$f":"IF(INTRO!$E$43=\"Non-endemic\",\" \", IF(COUNTRY_INFO!C84=0,\" \",COUNTRY_INFO!C84))","v":"Gounou Gaya"},{"$f":"IF(INTRO!$E$43=\"Non-endemic\", \"Not required\", COUNTRY_INFO!Z84)","v":1},{"$f":"IF(OR(COUNTRY_INFO!S84=\"Unknown\",COUNTRY_INFO!S84=\"Surveillance\",COUNTRY_INFO!S84=\"Not required\",COUNTRY_INFO!S84=0),0,IF($D84<>0, COUNTRY_INFO!S84,0))","v":4840},{"$f":"IF(OR(COUNTRY_INFO!T84=\"Unknown\",COUNTRY_INFO!T84=\"Surveillance\",COUNTRY_INFO!T84=\"Not required\",COUNTRY_INFO!T84=0),0,IF($D84<>0, COUNTRY_INFO!T84,0))","v":12996},{"$f":"IF(OR(COUNTRY_INFO!U84=\"Unknown\",COUNTRY_INFO!U84=\"Surveillance\",COUNTRY_INFO!U84=\"Not required\",COUNTRY_INFO!U84=0),0,IF($D84<>0, COUNTRY_INFO!U84,0))","v":23512},41348,null,null,0,null,null,{"$f":"IF($I84<>\"Yes\",$F84*2,($F84+ROUND(J84*$F84/SUM(COUNTRY_INFO!$E84:$G84),0))*2)","v":25992},{"$f":"IF($I84<>\"Yes\",$G84*3,($G84+ROUND(J84*$G84/SUM(COUNTRY_INFO!$E84:$G84),0))*3)","v":70536},96528,null,96528]
[{"$f":"IF(INTRO!$E$43=\"Non-endemic\",\" \", IF(COUNTRY_INFO!A85=0,\" \",COUNTRY_INFO!A85))","v":"Tchad"},{"$f":"IF(INTRO!$E$43=\"Non-endemic\",\" \", IF(COUNTRY_INFO!B85=0,\" \",COUNTRY_INFO!B85))","v":"Mayo Kebbi Est"},{"$f":"IF(INTRO!$E$43=\"Non-endemic\",\" \", IF(COUNTRY_INFO!C85=0,\" \",COUNTRY_INFO!C85))","v":"Guelinding"},{"$f":"IF(INTRO!$E$43=\"Non-endemic\", \"Not required\", COUNTRY_INFO!Z85)","v":1},{"$f":"IF(OR(COUNTRY_INFO!S85=\"Unknown\",COUNTRY_INFO!S85=\"Surveillance\",COUNTRY_INFO!S85=\"Not required\",COUNTRY_INFO!S85=0),0,IF($D85<>0, COUNTRY_INFO!S85,0))","v":1435},{"$f":"IF(OR(COUNTRY_INFO!T85=\"Unknown\",COUNTRY_INFO!T85=\"Surveillance\",COUNTRY_INFO!T85=\"Not required\",COUNTRY_INFO!T85=0),0,IF($D85<>0, COUNTRY_INFO!T85,0))","v":3853},{"$f":"IF(OR(COUNTRY_INFO!U85=\"Unknown\",COUNTRY_INFO!U85=\"Surveillance\",COUNTRY_INFO!U85=\"Not required\",COUNTRY_INFO!U85=0),0,IF($D85<>0, COUNTRY_INFO!U85,0))","v":6971},12259,null,null,1,"SAC",null,{"$f":"IF($I85<>\"Yes\",$F85*2,($F85+ROUND(J85*$F85/SUM(COUNTRY_INFO!$E85:$G85),0))*2)","v":7706},{"$f":"IF($I85<>\"Yes\",$G85*3,($G85+ROUND(J85*$G85/SUM(COUNTRY_INFO!$E85:$G85),0))*3)","v":20913},28619,null,28619]
[{"$f":"IF(INTRO!$E$43=\"Non-endemic\",\" \", IF(COUNTRY_INFO!A86=0,\" \",COUNTRY_INFO!A86))","v":"Tchad"},{"$f":"IF(INTRO!$E$43=\"Non-endemic\",\" \", IF(COUNTRY_INFO!B86=0,\" \",COUNTRY_INFO!B86))","v":"Mayo Kebbi Est"},{"$f":"IF(INTRO!$E$43=\"Non-endemic\",\" \", IF(COUNTRY_INFO!C86=0,\" \",COUNTRY_INFO!C86))","v":"Moulkou"},{"$f":"IF(INTRO!$E$43=\"Non-endemic\", \"Not required\", COUNTRY_INFO!Z86)","v":0},{"$f":"IF(OR(COUNTRY_INFO!S86=\"Unknown\",COUNTRY_INFO!S86=\"Surveillance\",COUNTRY_INFO!S86=\"Not required\",COUNTRY_INFO!S86=0),0,IF($D86<>0, COUNTRY_INFO!S86,0))","v":0},{"$f":"IF(OR(COUNTRY_INFO!T86=\"Unknown\",COUNTRY_INFO!T86=\"Surveillance\",COUNTRY_INFO!T86=\"Not required\",COUNTRY_INFO!T86=0),0,IF($D86<>0, COUNTRY_INFO!T86,0))","v":0},{"$f":"IF(OR(COUNTRY_INFO!U86=\"Unknown\",COUNTRY_INFO!U86=\"Surveillance\",COUNTRY_INFO!U86=\"Not required\",COUNTRY_INFO!U86=0),0,IF($D86<>0, COUNTRY_INFO!U86,0))","v":0},0,null,null,1,"SAC",null,{"$f":"IF($I86<>\"Yes\",$F86*2,($F86+ROUND(J86*$F86/SUM(COUNTRY_INFO!$E86:$G86),0))*2)","v":0},{"$f":"IF($I86<>\"Yes\",$G86*3,($G86+ROUND(J86*$G86/SUM(COUNTRY_INFO!$E86:$G86),0))*3)","v":0},0,null,0]
[{"$f":"IF(INTRO!$E$43=\"Non-endemic\",\" \", IF(COUNTRY_INFO!A87=0,\" \",COUNTRY_INFO!A87))","v":"Tchad"},{"$f":"IF(INTRO!$E$43=\"Non-endemic\",\" \", IF(COUNTRY_INFO!B87=0,\" \",COUNTRY_INFO!B87))","v":"Mayo Kebbi Est"},{"$f":"IF(INTRO!$E$43=\"Non-endemic\",\" \", IF(COUNTRY_INFO!C87=0,\" \",COUNTRY_INFO!C87))","v":"Pont Carol"},{"$f":"IF(INTRO!$E$43=\"Non-endemic\", \"Not required\", COUNTRY_INFO!Z87)","v":0},{"$f":"IF(OR(COUNTRY_INFO!S87=\"Unknown\",COUNTRY_INFO!S87=\"Surveillance\",COUNTRY_INFO!S87=\"Not required\",COUNTRY_INFO!S87=0),0,IF($D87<>0, COUNTRY_INFO!S87,0))","v":0},{"$f":"IF(OR(COUNTRY_INFO!T87=\"Unknown\",COUNTRY_INFO!T87=\"Surveillance\",COUNTRY_INFO!T87=\"Not required\",COUNTRY_INFO!T87=0),0,IF($D87<>0, COUNTRY_INFO!T87,0))","v":0},{"$f":"IF(OR(COUNTRY_INFO!U87=\"Unknown\",COUNTRY_INFO!U87=\"Surveillance\",COUNTRY_INFO!U87=\"Not required\",COUNTRY_INFO!U87=0),0,IF($D87<>0, COUNTRY_INFO!U87,0))","v":0},0,null,null,0,null,null,{"$f":"IF($I87<>\"Yes\",$F87*2,($F87+ROUND(J87*$F87/SUM(COUNTRY_INFO!$E87:$G87),0))*2)","v":0},{"$f":"IF($I87<>\"Yes\",$G87*3,($G87+ROUND(J87*$G87/SUM(COUNTRY_INFO!$E87:$G87),0))*3)","v":0},0,null,0]
[{"$f":"IF(INTRO!$E$43=\"Non-endemic\",\" \", IF(COUNTRY_INFO!A88=0,\" \",COUNTRY_INFO!A88))","v":"Tchad"},{"$f":"IF(INTRO!$E$43=\"Non-endemic\",\" \", IF(COUNTRY_INFO!B88=0,\" \",COUNTRY_INFO!B88))","v":"Mayo Kebbi Est"},{"$f":"IF(INTRO!$E$43=\"Non-endemic\",\" \", IF(COUNTRY_INFO!C88=0,\" \",COUNTRY_INFO!C88))","v":"Youé"},{"$f":"IF(INTRO!$E$43=\"Non-endemic\", \"Not required\", COUNTRY_INFO!Z88)","v":0},{"$f":"IF(OR(COUNTRY_INFO!S88=\"Unknown\",COUNTRY_INFO!S88=\"Surveillance\",COUNTRY_INFO!S88=\"Not required\",COUNTRY_INFO!S88=0),0,IF($D88<>0, COUNTRY_INFO!S88,0))","v":0},{"$f":"IF(OR(COUNTRY_INFO!T88=\"Unknown\",COUNTRY_INFO!T88=\"Surveillance\",COUNTRY_INFO!T88=\"Not required\",COUNTRY_INFO!T88=0),0,IF($D88<>0, COUNTRY_INFO!T88,0))","v":0},{"$f":"IF(OR(COUNTRY_INFO!U88=\"Unknown\",COUNTRY_INFO!U88=\"Surveillance\",COUNTRY_INFO!U88=\"Not required\",COUNTRY_INFO!U88=0),0,IF($D88<>0, COUNTRY_INFO!U88,0))","v":0},0,null,null,1,"SAC",null,{"$f":"IF($I88<>\"Yes\",$F88*2,($F88+ROUND(J88*$F88/SUM(COUNTRY_INFO!$E88:$G88),0))*2)","v":0},{"$f":"IF($I88<>\"Yes\",$G88*3,($G88+ROUND(J88*$G88/SUM(COUNTRY_INFO!$E88:$G88),0))*3)","v":0},0,null,0]
[{"$f":"IF(INTRO!$E$43=\"Non-endemic\",\" \", IF(COUNTRY_INFO!A89=0,\" \",COUNTRY_INFO!A89))","v":"Tchad"},{"$f":"IF(INTRO!$E$43=\"Non-endemic\",\" \", IF(COUNTRY_INFO!B89=0,\" \",COUNTRY_INFO!B89))","v":"Mayo Kebbi Ouest"},{"$f":"IF(INTRO!$E$43=\"Non-endemic\",\" \", IF(COUNTRY_INFO!C89=0,\" \",COUNTRY_INFO!C89))","v":"Binder"},{"$f":"IF(INTRO!$E$43=\"Non-endemic\", \"Not required\", COUNTRY_INFO!Z89)","v":0},{"$f":"IF(OR(COUNTRY_INFO!S89=\"Unknown\",COUNTRY_INFO!S89=\"Surveillance\",COUNTRY_INFO!S89=\"Not required\",COUNTRY_INFO!S89=0),0,IF($D89<>0, COUNTRY_INFO!S89,0))","v":0},{"$f":"IF(OR(COUNTRY_INFO!T89=\"Unknown\",COUNTRY_INFO!T89=\"Surveillance\",COUNTRY_INFO!T89=\"Not required\",COUNTRY_INFO!T89=0),0,IF($D89<>0, COUNTRY_INFO!T89,0))","v":0},{"$f":"IF(OR(COUNTRY_INFO!U89=\"Unknown\",COUNTRY_INFO!U89=\"Surveillance\",COUNTRY_INFO!U89=\"Not required\",COUNTRY_INFO!U89=0),0,IF($D89<>0, COUNTRY_INFO!U89,0))","v":0},0,null,null,1,"SAC",null,{"$f":"IF($I89<>\"Yes\",$F89*2,($F89+ROUND(J89*$F89/SUM(COUNTRY_INFO!$E89:$G89),0))*2)","v":0},{"$f":"IF($I89<>\"Yes\",$G89*3,($G89+ROUND(J89*$G89/SUM(COUNTRY_INFO!$E89:$G89),0))*3)","v":0},0,null,0]
[{"$f":"IF(INTRO!$E$43=\"Non-endemic\",\" \", IF(COUNTRY_INFO!A90=0,\" \",COUNTRY_INFO!A90))","v":"Tchad"},{"$f":"IF(INTRO!$E$43=\"Non-endemic\",\" \", IF(COUNTRY_INFO!B90=0,\" \",COUNTRY_INFO!B90))","v":"Mayo Kebbi Ouest"},{"$f":"IF(INTRO!$E$43=\"Non-endemic\",\" \", IF(COUNTRY_INFO!C90=0,\" \",COUNTRY_INFO!C90))","v":"Gagal"},{"$f":"IF(INTRO!$E$43=\"Non-endemic\", \"Not required\", COUNTRY_INFO!Z90)","v":0},{"$f":"IF(OR(COUNTRY_INFO!S90=\"Unknown\",COUNTRY_INFO!S90=\"Surveillance\",COUNTRY_INFO!S90=\"Not required\",COUNTRY_INFO!S90=0),0,IF($D90<>0, COUNTRY_INFO!S90,0))","v":0},{"$f":"IF(OR(COUNTRY_INFO!T90=\"Unknown\",COUNTRY_INFO!T90=\"Surveillance\",COUNTRY_INFO!T90=\"Not required\",COUNTRY_INFO!T90=0),0,IF($D90<>0, COUNTRY_INFO!T90,0))","v":0},{"$f":"IF(OR(COUNTRY_INFO!U90=\"Unknown\",COUNTRY_INFO!U90=\"Surveillance\",COUNTRY_INFO!U90=\"Not required\",COUNTRY_INFO!U90=0),0,IF($D90<>0, COUNTRY_INFO!U90,0))","v":0},0,null,null,0,null,null,{"$f":"IF($I90<>\"Yes\",$F90*2,($F90+ROUND(J90*$F90/SUM(COUNTRY_INFO!$E90:$G90),0))*2)","v":0},{"$f":"IF($I90<>\"Yes\",$G90*3,($G90+ROUND(J90*$G90/SUM(COUNTRY_INFO!$E90:$G90),0))*3)","v":0},0,null,0]
[{"$f":"IF(INTRO!$E$43=\"Non-endemic\",\" \", IF(COUNTRY_INFO!A91=0,\" \",COUNTRY_INFO!A91))","v":"Tchad"},{"$f":"IF(INTRO!$E$43=\"Non-endemic\",\" \", IF(COUNTRY_INFO!B91=0,\" \",COUNTRY_INFO!B91))","v":"Mayo Kebbi Ouest"},{"$f":"IF(INTRO!$E$43=\"Non-endemic\",\" \", IF(COUNTRY_INFO!C91=0,\" \",COUNTRY_INFO!C91))","v":"Guegou"},{"$f":"IF(INTRO!$E$43=\"Non-endemic\", \"Not required\", COUNTRY_INFO!Z91)","v":0},{"$f":"IF(OR(COUNTRY_INFO!S91=\"Unknown\",COUNTRY_INFO!S91=\"Surveillance\",COUNTRY_INFO!S91=\"Not required\",COUNTRY_INFO!S91=0),0,IF($D91<>0, COUNTRY_INFO!S91,0))","v":0},{"$f":"IF(OR(COUNTRY_INFO!T91=\"Unknown\",COUNTRY_INFO!T91=\"Surveillance\",COUNTRY_INFO!T91=\"Not required\",COUNTRY_INFO!T91=0),0,IF($D91<>0, COUNTRY_INFO!T91,0))","v":0},{"$f":"IF(OR(COUNTRY_INFO!U91=\"Unknown\",COUNTRY_INFO!U91=\"Surveillance\",COUNTRY_INFO!U91=\"Not required\",COUNTRY_INFO!U91=0),0,IF($D91<>0, COUNTRY_INFO!U91,0))","v":0},0,null,null,1,"SAC",null,{"$f":"IF($I91<>\"Yes\",$F91*2,($F91+ROUND(J91*$F91/SUM(COUNTRY_INFO!$E91:$G91),0))*2)","v":0},{"$f":"IF($I91<>\"Yes\",$G91*3,($G91+ROUND(J91*$G91/SUM(COUNTRY_INFO!$E91:$G91),0))*3)","v":0},0,null,0]
[{"$f":"IF(INTRO!$E$43=\"Non-endemic\",\" \", IF(COUNTRY_INFO!A92=0,\" \",COUNTRY_INFO!A92))","v":"Tchad"},{"$f":"IF(INTRO!$E$43=\"Non-endemic\",\" \", IF(COUNTRY_INFO!B92=0,\" \",COUNTRY_INFO!B92))","v":"Mayo Kebbi Ouest"},{"$f":"IF(INTRO!$E$43=\"Non-endemic\",\" \", IF(COUNTRY_INFO!C92=0,\" \",COUNTRY_INFO!C92))","v":"GUELO"},{"$f":"IF(INTRO!$E$43=\"Non-endemic\", \"Not required\", COUNTRY_INFO!Z92)","v":0},{"$f":"IF(OR(COUNTRY_INFO!S92=\"Unknown\",COUNTRY_INFO!S92=\"Surveillance\",COUNTRY_INFO!S92=\"Not required\",COUNTRY_INFO!S92=0),0,IF($D92<>0, COUNTRY_INFO!S92,0))","v":0},{"$f":"IF(OR(COUNTRY_INFO!T92=\"Unknown\",COUNTRY_INFO!T92=\"Surveillance\",COUNTRY_INFO!T92=\"Not required\",COUNTRY_INFO!T92=0),0,IF($D92<>0, COUNTRY_INFO!T92,0))","v":0},{"$f":"IF(OR(COUNTRY_INFO!U92=\"Unknown\",COUNTRY_INFO!U92=\"Surveillance\",COUNTRY_INFO!U92=\"Not required\",COUNTRY_INFO!U92=0),0,IF($D92<>0, COUNTRY_INFO!U92,0))","v":0},0,null,null,1,"SAC",null,{"$f":"IF($I92<>\"Yes\",$F92*2,($F92+ROUND(J92*$F92/SUM(COUNTRY_INFO!$E92:$G92),0))*2)","v":0},{"$f":"IF($I92<>\"Yes\",$G92*3,($G92+ROUND(J92*$G92/SUM(COUNTRY_INFO!$E92:$G92),0))*3)","v":0},0,null,0]
[{"$f":"IF(INTRO!$E$43=\"Non-endemic\",\" \", IF(COUNTRY_INFO!A93=0,\" \",COUNTRY_INFO!A93))","v":"Tchad"},{"$f":"IF(INTRO!$E$43=\"Non-endemic\",\" \", IF(COUNTRY_INFO!B93=0,\" \",COUNTRY_INFO!B93))","v":"Mayo Kebbi Ouest"},{"$f":"IF(INTRO!$E$43=\"Non-endemic\",\" \", IF(COUNTRY_INFO!C93=0,\" \",COUNTRY_INFO!C93))","v":"Lagon"},{"$f":"IF(INTRO!$E$43=\"Non-endemic\", \"Not required\", COUNTRY_INFO!Z93)","v":0},{"$f":"IF(OR(COUNTRY_INFO!S93=\"Unknown\",COUNTRY_INFO!S93=\"Surveillance\",COUNTRY_INFO!S93=\"Not required\",COUNTRY_INFO!S93=0),0,IF($D93<>0, COUNTRY_INFO!S93,0))","v":0},{"$f":"IF(OR(COUNTRY_INFO!T93=\"Unknown\",COUNTRY_INFO!T93=\"Surveillance\",COUNTRY_INFO!T93=\"Not required\",COUNTRY_INFO!T93=0),0,IF($D93<>0, COUNTRY_INFO!T93,0))","v":0},{"$f":"IF(OR(COUNTRY_INFO!U93=\"Unknown\",COUNTRY_INFO!U93=\"Surveillance\",COUNTRY_INFO!U93=\"Not required\",COUNTRY_INFO!U93=0),0,IF($D93<>0, COUNTRY_INFO!U93,0))","v":0},0,null,null,1,"SAC",null,{"$f":"IF($I93<>\"Yes\",$F93*2,($F93+ROUND(J93*$F93/SUM(COUNTRY_INFO!$E93:$G93),0))*2)","v":0},{"$f":"IF($I93<>\"Yes\",$G93*3,($G93+ROUND(J93*$G93/SUM(COUNTRY_INFO!$E93:$G93),0))*3)","v":0},0,null,0]
[{"$f":"IF(INTRO!$E$43=\"Non-endemic\",\" \", IF(COUNTRY_INFO!A94=0,\" \",COUNTRY_INFO!A94))","v":"Tchad"},{"$f":"IF(INTRO!$E$43=\"Non-endemic\",\" \", IF(COUNTRY_INFO!B94=0,\" \",COUNTRY_INFO!B94))","v":"Mayo Kebbi Ouest"},{"$f":"IF(INTRO!$E$43=\"Non-endemic\",\" \", IF(COUNTRY_INFO!C94=0,\" \",COUNTRY_INFO!C94))","v":"Lamé"},{"$f":"IF(INTRO!$E$43=\"Non-endemic\", \"Not required\", COUNTRY_INFO!Z94)","v":0},{"$f":"IF(OR(COUNTRY_INFO!S94=\"Unknown\",COUNTRY_INFO!S94=\"Surveillance\",COUNTRY_INFO!S94=\"Not required\",COUNTRY_INFO!S94=0),0,IF($D94<>0, COUNTRY_INFO!S94,0))","v":0},{"$f":"IF(OR(COUNTRY_INFO!T94=\"Unknown\",COUNTRY_INFO!T94=\"Surveillance\",COUNTRY_INFO!T94=\"Not required\",COUNTRY_INFO!T94=0),0,IF($D94<>0, COUNTRY_INFO!T94,0))","v":0},{"$f":"IF(OR(COUNTRY_INFO!U94=\"Unknown\",COUNTRY_INFO!U94=\"Surveillance\",COUNTRY_INFO!U94=\"Not required\",COUNTRY_INFO!U94=0),0,IF($D94<>0, COUNTRY_INFO!U94,0))","v":0},0,null,null,0,null,null,{"$f":"IF($I94<>\"Yes\",$F94*2,($F94+ROUND(J94*$F94/SUM(COUNTRY_INFO!$E94:$G94),0))*2)","v":0},{"$f":"IF($I94<>\"Yes\",$G94*3,($G94+ROUND(J94*$G94/SUM(COUNTRY_INFO!$E94:$G94),0))*3)","v":0},0,null,0]
[{"$f":"IF(INTRO!$E$43=\"Non-endemic\",\" \", IF(COUNTRY_INFO!A95=0,\" \",COUNTRY_INFO!A95))","v":"Tchad"},{"$f":"IF(INTRO!$E$43=\"Non-endemic\",\" \", IF(COUNTRY_INFO!B95=0,\" \",COUNTRY_INFO!B95))","v":"Mayo Kebbi Ouest"},{"$f":"IF(INTRO!$E$43=\"Non-endemic\",\" \", IF(COUNTRY_INFO!C95=0,\" \",COUNTRY_INFO!C95))","v":"Lere"},{"$f":"IF(INTRO!$E$43=\"Non-endemic\", \"Not required\", COUNTRY_INFO!Z95)","v":1},{"$f":"IF(OR(COUNTRY_INFO!S95=\"Unknown\",COUNTRY_INFO!S95=\"Surveillance\",COUNTRY_INFO!S95=\"Not required\",COUNTRY_INFO!S95=0),0,IF($D95<>0, COUNTRY_INFO!S95,0))","v":4368},{"$f":"IF(OR(COUNTRY_INFO!T95=\"Unknown\",COUNTRY_INFO!T95=\"Surveillance\",COUNTRY_INFO!T95=\"Not required\",COUNTRY_INFO!T95=0),0,IF($D95<>0, COUNTRY_INFO!T95,0))","v":11729},{"$f":"IF(OR(COUNTRY_INFO!U95=\"Unknown\",COUNTRY_INFO!U95=\"Surveillance\",COUNTRY_INFO!U95=\"Not required\",COUNTRY_INFO!U95=0),0,IF($D95<>0, COUNTRY_INFO!U95,0))","v":21220},37317,null,null,1,"SAC",null,{"$f":"IF($I95<>\"Yes\",$F95*2,($F95+ROUND(J95*$F95/SUM(COUNTRY_INFO!$E95:$G95),0))*2)","v":23458},{"$f":"IF($I95<>\"Yes\",$G95*3,($G95+ROUND(J95*$G95/SUM(COUNTRY_INFO!$E95:$G95),0))*3)","v":63660},87118,null,87118]
[{"$f":"IF(INTRO!$E$43=\"Non-endemic\",\" \", IF(COUNTRY_INFO!A96=0,\" \",COUNTRY_INFO!A96))","v":"Tchad"},{"$f":"IF(INTRO!$E$43=\"Non-endemic\",\" \", IF(COUNTRY_INFO!B96=0,\" \",COUNTRY_INFO!B96))","v":"Mayo Kebbi Ouest"},{"$f":"IF(INTRO!$E$43=\"Non-endemic\",\" \", IF(COUNTRY_INFO!C96=0,\" \",COUNTRY_INFO!C96))","v":"Pala"},{"$f":"IF(INTRO!$E$43=\"Non-endemic\", \"Not required\", COUNTRY_INFO!Z96)","v":1},{"$f":"IF(OR(COUNTRY_INFO!S96=\"Unknown\",COUNTRY_INFO!S96=\"Surveillance\",COUNTRY_INFO!S96=\"Not required\",COUNTRY_INFO!S96=0),0,IF($D96<>0, COUNTRY_INFO!S96,0))","v":5786},{"$f":"IF(OR(COUNTRY_INFO!T96=\"Unknown\",COUNTRY_INFO!T96=\"Surveillance\",COUNTRY_INFO!T96=\"Not required\",COUNTRY_INFO!T96=0),0,IF($D96<>0, COUNTRY_INFO!T96,0))","v":15535},{"$f":"IF(OR(COUNTRY_INFO!U96=\"Unknown\",COUNTRY_INFO!U96=\"Surveillance\",COUNTRY_INFO!U96=\"Not required\",COUNTRY_INFO!U96=0),0,IF($D96<>0, COUNTRY_INFO!U96,0))","v":28106},49427,null,null,1,"SAC",null,{"$f":"IF($I96<>\"Yes\",$F96*2,($F96+ROUND(J96*$F96/SUM(COUNTRY_INFO!$E96:$G96),0))*2)","v":31070},{"$f":"IF($I96<>\"Yes\",$G96*3,($G96+ROUND(J96*$G96/SUM(COUNTRY_INFO!$E96:$G96),0))*3)","v":84318},115388,null,115388]
[{"$f":"IF(INTRO!$E$43=\"Non-endemic\",\" \", IF(COUNTRY_INFO!A97=0,\" \",COUNTRY_INFO!A97))","v":"Tchad"},{"$f":"IF(INTRO!$E$43=\"Non-endemic\",\" \", IF(COUNTRY_INFO!B97=0,\" \",COUNTRY_INFO!B97))","v":"Mayo Kebbi Ouest"},{"$f":"IF(INTRO!$E$43=\"Non-endemic\",\" \", IF(COUNTRY_INFO!C97=0,\" \",COUNTRY_INFO!C97))","v":"Torrock"},{"$f":"IF(INTRO!$E$43=\"Non-endemic\", \"Not required\", COUNTRY_INFO!Z97)","v":0},{"$f":"IF(OR(COUNTRY_INFO!S97=\"Unknown\",COUNTRY_INFO!S97=\"Surveillance\",COUNTRY_INFO!S97=\"Not required\",COUNTRY_INFO!S97=0),0,IF($D97<>0, COUNTRY_INFO!S97,0))","v":0},{"$f":"IF(OR(COUNTRY_INFO!T97=\"Unknown\",COUNTRY_INFO!T97=\"Surveillance\",COUNTRY_INFO!T97=\"Not required\",COUNTRY_INFO!T97=0),0,IF($D97<>0, COUNTRY_INFO!T97,0))","v":0},{"$f":"IF(OR(COUNTRY_INFO!U97=\"Unknown\",COUNTRY_INFO!U97=\"Surveillance\",COUNTRY_INFO!U97=\"Not required\",COUNTRY_INFO!U97=0),0,IF($D97<>0, COUNTRY_INFO!U97,0))","v":0},0,null,null,0,null,null,{"$f":"IF($I97<>\"Yes\",$F97*2,($F97+ROUND(J97*$F97/SUM(COUNTRY_INFO!$E97:$G97),0))*2)","v":0},{"$f":"IF($I97<>\"Yes\",$G97*3,($G97+ROUND(J97*$G97/SUM(COUNTRY_INFO!$E97:$G97),0))*3)","v":0},0,null,0]
[{"$f":"IF(INTRO!$E$43=\"Non-endemic\",\" \", IF(COUNTRY_INFO!A98=0,\" \",COUNTRY_INFO!A98))","v":"Tchad"},{"$f":"IF(INTRO!$E$43=\"Non-endemic\",\" \", IF(COUNTRY_INFO!B98=0,\" \",COUNTRY_INFO!B98))","v":"Moyen Chari"},{"$f":"IF(INTRO!$E$43=\"Non-endemic\",\" \", IF(COUNTRY_INFO!C98=0,\" \",COUNTRY_INFO!C98))","v":"Balimba"},{"$f":"IF(INTRO!$E$43=\"Non-endemic\", \"Not required\", COUNTRY_INFO!Z98)","v":0},{"$f":"IF(OR(COUNTRY_INFO!S98=\"Unknown\",COUNTRY_INFO!S98=\"Surveillance\",COUNTRY_INFO!S98=\"Not required\",COUNTRY_INFO!S98=0),0,IF($D98<>0, COUNTRY_INFO!S98,0))","v":0},{"$f":"IF(OR(COUNTRY_INFO!T98=\"Unknown\",COUNTRY_INFO!T98=\"Surveillance\",COUNTRY_INFO!T98=\"Not required\",COUNTRY_INFO!T98=0),0,IF($D98<>0, COUNTRY_INFO!T98,0))","v":0},{"$f":"IF(OR(COUNTRY_INFO!U98=\"Unknown\",COUNTRY_INFO!U98=\"Surveillance\",COUNTRY_INFO!U98=\"Not required\",COUNTRY_INFO!U98=0),0,IF($D98<>0, COUNTRY_INFO!U98,0))","v":0},0,null,null,1,"SAC",null,{"$f":"IF($I98<>\"Yes\",$F98*2,($F98+ROUND(J98*$F98/SUM(COUNTRY_INFO!$E98:$G98),0))*2)","v":0},{"$f":"IF($I98<>\"Yes\",$G98*3,($G98+ROUND(J98*$G98/SUM(COUNTRY_INFO!$E98:$G98),0))*3)","v":0},0,null,0]
[{"$f":"IF(INTRO!$E$43=\"Non-endemic\",\" \", IF(COUNTRY_INFO!A99=0,\" \",COUNTRY_INFO!A99))","v":"Tchad"},{"$f":"IF(INTRO!$E$43=\"Non-endemic\",\" \", IF(COUNTRY_INFO!B99=0,\" \",COUNTRY_INFO!B99))","v":"Moyen Chari"},{"$f":"IF(INTRO!$E$43=\"Non-endemic\",\" \", IF(COUNTRY_INFO!C99=0,\" \",COUNTRY_INFO!C99))","v":"Biobe Singako"},{"$f":"IF(INTRO!$E$43=\"Non-endemic\", \"Not required\", COUNTRY_INFO!Z99)","v":1},{"$f":"IF(OR(COUNTRY_INFO!S99=\"Unknown\",COUNTRY_INFO!S99=\"Surveillance\",COUNTRY_INFO!S99=\"Not required\",COUNTRY_INFO!S99=0),0,IF($D99<>0, COUNTRY_INFO!S99,0))","v":1940},{"$f":"IF(OR(COUNTRY_INFO!T99=\"Unknown\",COUNTRY_INFO!T99=\"Surveillance\",COUNTRY_INFO!T99=\"Not required\",COUNTRY_INFO!T99=0),0,IF($D99<>0, COUNTRY_INFO!T99,0))","v":5207},{"$f":"IF(OR(COUNTRY_INFO!U99=\"Unknown\",COUNTRY_INFO!U99=\"Surveillance\",COUNTRY_INFO!U99=\"Not required\",COUNTRY_INFO!U99=0),0,IF($D99<>0, COUNTRY_INFO!U99,0))","v":9422},16569,null,null,1,"SAC",null,{"$f":"IF($I99<>\"Yes\",$F99*2,($F99+ROUND(J99*$F99/SUM(COUNTRY_INFO!$E99:$G99),0))*2)","v":10414},{"$f":"IF($I99<>\"Yes\",$G99*3,($G99+ROUND(J99*$G99/SUM(COUNTRY_INFO!$E99:$G99),0))*3)","v":28266},38680,null,38680]
[{"$f":"IF(INTRO!$E$43=\"Non-endemic\",\" \", IF(COUNTRY_INFO!A100=0,\" \",COUNTRY_INFO!A100))","v":"Tchad"},{"$f":"IF(INTRO!$E$43=\"Non-endemic\",\" \", IF(COUNTRY_INFO!B100=0,\" \",COUNTRY_INFO!B100))","v":"Moyen Chari"},{"$f":"IF(INTRO!$E$43=\"Non-endemic\",\" \", IF(COUNTRY_INFO!C100=0,\" \",COUNTRY_INFO!C100))","v":"Danamadji"},{"$f":"IF(INTRO!$E$43=\"Non-endemic\", \"Not required\", COUNTRY_INFO!Z100)","v":1},{"$f":"IF(OR(COUNTRY_INFO!S100=\"Unknown\",COUNTRY_INFO!S100=\"Surveillance\",COUNTRY_INFO!S100=\"Not required\",COUNTRY_INFO!S100=0),0,IF($D100<>0, COUNTRY_INFO!S100,0))","v":3012},{"$f":"IF(OR(COUNTRY_INFO!T100=\"Unknown\",COUNTRY_INFO!T100=\"Surveillance\",COUNTRY_INFO!T100=\"Not required\",COUNTRY_INFO!T100=0),0,IF($D100<>0, COUNTRY_INFO!T100,0))","v":8086},{"$f":"IF(OR(COUNTRY_INFO!U100=\"Unknown\",COUNTRY_INFO!U100=\"Surveillance\",COUNTRY_INFO!U100=\"Not required\",COUNTRY_INFO!U100=0),0,IF($D100<>0, COUNTRY_INFO!U100,0))","v":14630},25728,null,null,1,"SAC",null,{"$f":"IF($I100<>\"Yes\",$F100*2,($F100+ROUND(J100*$F100/SUM(COUNTRY_INFO!$E100:$G100),0))*2)","v":16172},{"$f":"IF($I100<>\"Yes\",$G100*3,($G100+ROUND(J100*$G100/SUM(COUNTRY_INFO!$E100:$G100),0))*3)","v":43890},60062,null,60062]
[{"$f":"IF(INTRO!$E$43=\"Non-endemic\",\" \", IF(COUNTRY_INFO!A101=0,\" \",COUNTRY_INFO!A101))","v":"Tchad"},{"$f":"IF(INTRO!$E$43=\"Non-endemic\",\" \", IF(COUNTRY_INFO!B101=0,\" \",COUNTRY_INFO!B101))","v":"Moyen Chari"},{"$f":"IF(INTRO!$E$43=\"Non-endemic\",\" \", IF(COUNTRY_INFO!C101=0,\" \",COUNTRY_INFO!C101))","v":"Korbol"},{"$f":"IF(INTRO!$E$43=\"Non-endemic\", \"Not required\", COUNTRY_INFO!Z101)","v":0},{"$f":"IF(OR(COUNTRY_INFO!S101=\"Unknown\",COUNTRY_INFO!S101=\"Surveillance\",COUNTRY_INFO!S101=\"Not required\",COUNTRY_INFO!S101=0),0,IF($D101<>0, COUNTRY_INFO!S101,0))","v":0},{"$f":"IF(OR(COUNTRY_INFO!T101=\"Unknown\",COUNTRY_INFO!T101=\"Surveillance\",COUNTRY_INFO!T101=\"Not required\",COUNTRY_INFO!T101=0),0,IF($D101<>0, COUNTRY_INFO!T101,0))","v":0},{"$f":"IF(OR(COUNTRY_INFO!U101=\"Unknown\",COUNTRY_INFO!U101=\"Surveillance\",COUNTRY_INFO!U101=\"Not required\",COUNTRY_INFO!U101=0),0,IF($D101<>0, COUNTRY_INFO!U101,0))","v":0},0,null,null,1,"SAC",null,{"$f":"IF($I101<>\"Yes\",$F101*2,($F101+ROUND(J101*$F101/SUM(COUNTRY_INFO!$E101:$G101),0))*2)","v":0},{"$f":"IF($I101<>\"Yes\",$G101*3,($G101+ROUND(J101*$G101/SUM(COUNTRY_INFO!$E101:$G101),0))*3)","v":0},0,null,0]
[{"$f":"IF(INTRO!$E$43=\"Non-endemic\",\" \", IF(COUNTRY_INFO!A102=0,\" \",COUNTRY_INFO!A102))","v":"Tchad"},{"$f":"IF(INTRO!$E$43=\"Non-endemic\",\" \", IF(COUNTRY_INFO!B102=0,\" \",COUNTRY_INFO!B102))","v":"Moyen Chari"},{"$f":"IF(INTRO!$E$43=\"Non-endemic\",\" \", IF(COUNTRY_INFO!C102=0,\" \",COUNTRY_INFO!C102))","v":"Koumogo"},{"$f":"IF(INTRO!$E$43=\"Non-endemic\", \"Not required\", COUNTRY_INFO!Z102)","v":0},{"$f":"IF(OR(COUNTRY_INFO!S102=\"Unknown\",COUNTRY_INFO!S102=\"Surveillance\",COUNTRY_INFO!S102=\"Not required\",COUNTRY_INFO!S102=0),0,IF($D102<>0, COUNTRY_INFO!S102,0))","v":0},{"$f":"IF(OR(COUNTRY_INFO!T102=\"Unknown\",COUNTRY_INFO!T102=\"Surveillance\",COUNTRY_INFO!T102=\"Not required\",COUNTRY_INFO!T102=0),0,IF($D102<>0, COUNTRY_INFO!T102,0))","v":0},{"$f":"IF(OR(COUNTRY_INFO!U102=\"Unknown\",COUNTRY_INFO!U102=\"Surveillance\",COUNTRY_INFO!U102=\"Not required\",COUNTRY_INFO!U102=0),0,IF($D102<>0, COUNTRY_INFO!U102,0))","v":0},0,null,null,1,"SAC",null,{"$f":"IF($I102<>\"Yes\",$F102*2,($F102+ROUND(J102*$F102/SUM(COUNTRY_INFO!$E102:$G102),0))*2)","v":0},{"$f":"IF($I102<>\"Yes\",$G102*3,($G102+ROUND(J102*$G102/SUM(COUNTRY_INFO!$E102:$G102),0))*3)","v":0},0,null,0]
[{"$f":"IF(INTRO!$E$43=\"Non-endemic\",\" \", IF(COUNTRY_INFO!A103=0,\" \",COUNTRY_INFO!A103))","v":"Tchad"},{"$f":"IF(INTRO!$E$43=\"Non-endemic\",\" \", IF(COUNTRY_INFO!B103=0,\" \",COUNTRY_INFO!B103))","v":"Moyen Chari"},{"$f":"IF(INTRO!$E$43=\"Non-endemic\",\" \", IF(COUNTRY_INFO!C103=0,\" \",COUNTRY_INFO!C103))","v":"Kyabe"},{"$f":"IF(INTRO!$E$43=\"Non-endemic\", \"Not required\", COUNTRY_INFO!Z103)","v":1},{"$f":"IF(OR(COUNTRY_INFO!S103=\"Unknown\",COUNTRY_INFO!S103=\"Surveillance\",COUNTRY_INFO!S103=\"Not required\",COUNTRY_INFO!S103=0),0,IF($D103<>0, COUNTRY_INFO!S103,0))","v":1806},{"$f":"IF(OR(COUNTRY_INFO!T103=\"Unknown\",COUNTRY_INFO!T103=\"Surveillance\",COUNTRY_INFO!T103=\"Not required\",COUNTRY_INFO!T103=0),0,IF($D103<>0, COUNTRY_INFO!T103,0))","v":4848},{"$f":"IF(OR(COUNTRY_INFO!U103=\"Unknown\",COUNTRY_INFO!U103=\"Surveillance\",COUNTRY_INFO!U103=\"Not required\",COUNTRY_INFO!U103=0),0,IF($D103<>0, COUNTRY_INFO!U103,0))","v":8771},15425,null,null,0,null,null,{"$f":"IF($I103<>\"Yes\",$F103*2,($F103+ROUND(J103*$F103/SUM(COUNTRY_INFO!$E103:$G103),0))*2)","v":9696},{"$f":"IF($I103<>\"Yes\",$G103*3,($G103+ROUND(J103*$G103/SUM(COUNTRY_INFO!$E103:$G103),0))*3)","v":26313},36009,null,36009]
[{"$f":"IF(INTRO!$E$43=\"Non-endemic\",\" \", IF(COUNTRY_INFO!A104=0,\" \",COUNTRY_INFO!A104))","v":"Tchad"},{"$f":"IF(INTRO!$E$43=\"Non-endemic\",\" \", IF(COUNTRY_INFO!B104=0,\" \",COUNTRY_INFO!B104))","v":"Moyen Chari"},{"$f":"IF(INTRO!$E$43=\"Non-endemic\",\" \", IF(COUNTRY_INFO!C104=0,\" \",COUNTRY_INFO!C104))","v":"Maro"},{"$f":"IF(INTRO!$E$43=\"Non-endemic\", \"Not required\", COUNTRY_INFO!Z104)","v":0},{"$f":"IF(OR(COUNTRY_INFO!S104=\"Unknown\",COUNTRY_INFO!S104=\"Surveillance\",COUNTRY_INFO!S104=\"Not required\",COUNTRY_INFO!S104=0),0,IF($D104<>0, COUNTRY_INFO!S104,0))","v":0},{"$f":"IF(OR(COUNTRY_INFO!T104=\"Unknown\",COUNTRY_INFO!T104=\"Surveillance\",COUNTRY_INFO!T104=\"Not required\",COUNTRY_INFO!T104=0),0,IF($D104<>0, COUNTRY_INFO!T104,0))","v":0},{"$f":"IF(OR(COUNTRY_INFO!U104=\"Unknown\",COUNTRY_INFO!U104=\"Surveillance\",COUNTRY_INFO!U104=\"Not required\",COUNTRY_INFO!U104=0),0,IF($D104<>0, COUNTRY_INFO!U104,0))","v":0},0,null,null,1,"SAC",null,{"$f":"IF($I104<>\"Yes\",$F104*2,($F104+ROUND(J104*$F104/SUM(COUNTRY_INFO!$E104:$G104),0))*2)","v":0},{"$f":"IF($I104<>\"Yes\",$G104*3,($G104+ROUND(J104*$G104/SUM(COUNTRY_INFO!$E104:$G104),0))*3)","v":0},0,null,0]
[{"$f":"IF(INTRO!$E$43=\"Non-endemic\",\" \", IF(COUNTRY_INFO!A105=0,\" \",COUNTRY_INFO!A105))","v":"Tchad"},{"$f":"IF(INTRO!$E$43=\"Non-endemic\",\" \", IF(COUNTRY_INFO!B105=0,\" \",COUNTRY_INFO!B105))","v":"Moyen Chari"},{"$f":"IF(INTRO!$E$43=\"Non-endemic\",\" \", IF(COUNTRY_INFO!C105=0,\" \",COUNTRY_INFO!C105))","v":"Sarh"},{"$f":"IF(INTRO!$E$43=\"Non-endemic\", \"Not required\", COUNTRY_INFO!Z105)","v":1},{"$f":"IF(OR(COUNTRY_INFO!S105=\"Unknown\",COUNTRY_INFO!S105=\"Surveillance\",COUNTRY_INFO!S105=\"Not required\",COUNTRY_INFO!S105=0),0,IF($D105<>0, COUNTRY_INFO!S105,0))","v":4311},{"$f":"IF(OR(COUNTRY_INFO!T105=\"Unknown\",COUNTRY_INFO!T105=\"Surveillance\",COUNTRY_INFO!T105=\"Not required\",COUNTRY_INFO!T105=0),0,IF($D105<>0, COUNTRY_INFO!T105,0))","v":11572},{"$f":"IF(OR(COUNTRY_INFO!U105=\"Unknown\",COUNTRY_INFO!U105=\"Surveillance\",COUNTRY_INFO!U105=\"Not required\",COUNTRY_INFO!U105=0),0,IF($D105<>0, COUNTRY_INFO!U105,0))","v":20937},36820,null,null,1,"SAC",null,{"$f":"IF($I105<>\"Yes\",$F105*2,($F105+ROUND(J105*$F105/SUM(COUNTRY_INFO!$E105:$G105),0))*2)","v":23144},{"$f":"IF($I105<>\"Yes\",$G105*3,($G105+ROUND(J105*$G105/SUM(COUNTRY_INFO!$E105:$G105),0))*3)","v":62811},85955,null,85955]
[{"$f":"IF(INTRO!$E$43=\"Non-endemic\",\" \", IF(COUNTRY_INFO!A106=0,\" \",COUNTRY_INFO!A106))","v":"Tchad"},{"$f":"IF(INTRO!$E$43=\"Non-endemic\",\" \", IF(COUNTRY_INFO!B106=0,\" \",COUNTRY_INFO!B106))","v":"N'Djaména"},{"$f":"IF(INTRO!$E$43=\"Non-endemic\",\" \", IF(COUNTRY_INFO!C106=0,\" \",COUNTRY_INFO!C106))","v":"N'Djaména Centre"},{"$f":"IF(INTRO!$E$43=\"Non-endemic\", \"Not required\", COUNTRY_INFO!Z106)","v":0},{"$f":"IF(OR(COUNTRY_INFO!S106=\"Unknown\",COUNTRY_INFO!S106=\"Surveillance\",COUNTRY_INFO!S106=\"Not required\",COUNTRY_INFO!S106=0),0,IF($D106<>0, COUNTRY_INFO!S106,0))","v":0},{"$f":"IF(OR(COUNTRY_INFO!T106=\"Unknown\",COUNTRY_INFO!T106=\"Surveillance\",COUNTRY_INFO!T106=\"Not required\",COUNTRY_INFO!T106=0),0,IF($D106<>0, COUNTRY_INFO!T106,0))","v":0},{"$f":"IF(OR(COUNTRY_INFO!U106=\"Unknown\",COUNTRY_INFO!U106=\"Surveillance\",COUNTRY_INFO!U106=\"Not required\",COUNTRY_INFO!U106=0),0,IF($D106<>0, COUNTRY_INFO!U106,0))","v":0},0,null,null,0,null,null,{"$f":"IF($I106<>\"Yes\",$F106*2,($F106+ROUND(J106*$F106/SUM(COUNTRY_INFO!$E106:$G106),0))*2)","v":0},{"$f":"IF($I106<>\"Yes\",$G106*3,($G106+ROUND(J106*$G106/SUM(COUNTRY_INFO!$E106:$G106),0))*3)","v":0},0,null,0]
[{"$f":"IF(INTRO!$E$43=\"Non-endemic\",\" \", IF(COUNTRY_INFO!A107=0,\" \",COUNTRY_INFO!A107))","v":"Tchad"},{"$f":"IF(INTRO!$E$43=\"Non-endemic\",\" \", IF(COUNTRY_INFO!B107=0,\" \",COUNTRY_INFO!B107))","v":"N'Djaména"},{"$f":"IF(INTRO!$E$43=\"Non-endemic\",\" \", IF(COUNTRY_INFO!C107=0,\" \",COUNTRY_INFO!C107))","v":"N'Djaména Est"},{"$f":"IF(INTRO!$E$43=\"Non-endemic\", \"Not required\", COUNTRY_INFO!Z107)","v":1},{"$f":"IF(OR(COUNTRY_INFO!S107=\"Unknown\",COUNTRY_INFO!S107=\"Surveillance\",COUNTRY_INFO!S107=\"Not required\",COUNTRY_INFO!S107=0),0,IF($D107<>0, COUNTRY_INFO!S107,0))","v":3049},{"$f":"IF(OR(COUNTRY_INFO!T107=\"Unknown\",COUNTRY_INFO!T107=\"Surveillance\",COUNTRY_INFO!T107=\"Not required\",COUNTRY_INFO!T107=0),0,IF($D107<>0, COUNTRY_INFO!T107,0))","v":8185},{"$f":"IF(OR(COUNTRY_INFO!U107=\"Unknown\",COUNTRY_INFO!U107=\"Surveillance\",COUNTRY_INFO!U107=\"Not required\",COUNTRY_INFO!U107=0),0,IF($D107<>0, COUNTRY_INFO!U107,0))","v":14809},26043,null,null,0,null,null,{"$f":"IF($I107<>\"Yes\",$F107*2,($F107+ROUND(J107*$F107/SUM(COUNTRY_INFO!$E107:$G107),0))*2)","v":16370},{"$f":"IF($I107<>\"Yes\",$G107*3,($G107+ROUND(J107*$G107/SUM(COUNTRY_INFO!$E107:$G107),0))*3)","v":44427},60797,null,60797]
[{"$f":"IF(INTRO!$E$43=\"Non-endemic\",\" \", IF(COUNTRY_INFO!A108=0,\" \",COUNTRY_INFO!A108))","v":"Tchad"},{"$f":"IF(INTRO!$E$43=\"Non-endemic\",\" \", IF(COUNTRY_INFO!B108=0,\" \",COUNTRY_INFO!B108))","v":"N'Djaména"},{"$f":"IF(INTRO!$E$43=\"Non-endemic\",\" \", IF(COUNTRY_INFO!C108=0,\" \",COUNTRY_INFO!C108))","v":"N'Djaména Nord"},{"$f":"IF(INTRO!$E$43=\"Non-endemic\", \"Not required\", COUNTRY_INFO!Z108)","v":0},{"$f":"IF(OR(COUNTRY_INFO!S108=\"Unknown\",COUNTRY_INFO!S108=\"Surveillance\",COUNTRY_INFO!S108=\"Not required\",COUNTRY_INFO!S108=0),0,IF($D108<>0, COUNTRY_INFO!S108,0))","v":0},{"$f":"IF(OR(COUNTRY_INFO!T108=\"Unknown\",COUNTRY_INFO!T108=\"Surveillance\",COUNTRY_INFO!T108=\"Not required\",COUNTRY_INFO!T108=0),0,IF($D108<>0, COUNTRY_INFO!T108,0))","v":0},{"$f":"IF(OR(COUNTRY_INFO!U108=\"Unknown\",COUNTRY_INFO!U108=\"Surveillance\",COUNTRY_INFO!U108=\"Not required\",COUNTRY_INFO!U108=0),0,IF($D108<>0, COUNTRY_INFO!U108,0))","v":0},0,null,null,0,null,null,{"$f":"IF($I108<>\"Yes\",$F108*2,($F108+ROUND(J108*$F108/SUM(COUNTRY_INFO!$E108:$G108),0))*2)","v":0},{"$f":"IF($I108<>\"Yes\",$G108*3,($G108+ROUND(J108*$G108/SUM(COUNTRY_INFO!$E108:$G108),0))*3)","v":0},0,null,0]
[{"$f":"IF(INTRO!$E$43=\"Non-endemic\",\" \", IF(COUNTRY_INFO!A109=0,\" \",COUNTRY_INFO!A109))","v":"Tchad"},{"$f":"IF(INTRO!$E$43=\"Non-endemic\",\" \", IF(COUNTRY_INFO!B109=0,\" \",COUNTRY_INFO!B109))","v":"N'Djaména"},{"$f":"IF(INTRO!$E$43=\"Non-endemic\",\" \", IF(COUNTRY_INFO!C109=0,\" \",COUNTRY_INFO!C109))","v":"N'Djaména Sud"},{"$f":"IF(INTRO!$E$43=\"Non-endemic\", \"Not required\", COUNTRY_INFO!Z109)","v":0},{"$f":"IF(OR(COUNTRY_INFO!S109=\"Unknown\",COUNTRY_INFO!S109=\"Surveillance\",COUNTRY_INFO!S109=\"Not required\",COUNTRY_INFO!S109=0),0,IF($D109<>0, COUNTRY_INFO!S109,0))","v":0},{"$f":"IF(OR(COUNTRY_INFO!T109=\"Unknown\",COUNTRY_INFO!T109=\"Surveillance\",COUNTRY_INFO!T109=\"Not required\",COUNTRY_INFO!T109=0),0,IF($D109<>0, COUNTRY_INFO!T109,0))","v":0},{"$f":"IF(OR(COUNTRY_INFO!U109=\"Unknown\",COUNTRY_INFO!U109=\"Surveillance\",COUNTRY_INFO!U109=\"Not required\",COUNTRY_INFO!U109=0),0,IF($D109<>0, COUNTRY_INFO!U109,0))","v":0},0,null,null,0,null,null,{"$f":"IF($I109<>\"Yes\",$F109*2,($F109+ROUND(J109*$F109/SUM(COUNTRY_INFO!$E109:$G109),0))*2)","v":0},{"$f":"IF($I109<>\"Yes\",$G109*3,($G109+ROUND(J109*$G109/SUM(COUNTRY_INFO!$E109:$G109),0))*3)","v":0},0,null,0]
[{"$f":"IF(INTRO!$E$43=\"Non-endemic\",\" \", IF(COUNTRY_INFO!A110=0,\" \",COUNTRY_INFO!A110))","v":"Tchad"},{"$f":"IF(INTRO!$E$43=\"Non-endemic\",\" \", IF(COUNTRY_INFO!B110=0,\" \",COUNTRY_INFO!B110))","v":"N'Djamena"},{"$f":"IF(INTRO!$E$43=\"Non-endemic\",\" \", IF(COUNTRY_INFO!C110=0,\" \",COUNTRY_INFO!C110))","v":"9eme Arrondissement"},{"$f":"IF(INTRO!$E$43=\"Non-endemic\", \"Not required\", COUNTRY_INFO!Z110)","v":0},{"$f":"IF(OR(COUNTRY_INFO!S110=\"Unknown\",COUNTRY_INFO!S110=\"Surveillance\",COUNTRY_INFO!S110=\"Not required\",COUNTRY_INFO!S110=0),0,IF($D110<>0, COUNTRY_INFO!S110,0))","v":0},{"$f":"IF(OR(COUNTRY_INFO!T110=\"Unknown\",COUNTRY_INFO!T110=\"Surveillance\",COUNTRY_INFO!T110=\"Not required\",COUNTRY_INFO!T110=0),0,IF($D110<>0, COUNTRY_INFO!T110,0))","v":0},{"$f":"IF(OR(COUNTRY_INFO!U110=\"Unknown\",COUNTRY_INFO!U110=\"Surveillance\",COUNTRY_INFO!U110=\"Not required\",COUNTRY_INFO!U110=0),0,IF($D110<>0, COUNTRY_INFO!U110,0))","v":0},0,null,null,0,null,null,{"$f":"IF($I110<>\"Yes\",$F110*2,($F110+ROUND(J110*$F110/SUM(COUNTRY_INFO!$E110:$G110),0))*2)","v":0},{"$f":"IF($I110<>\"Yes\",$G110*3,($G110+ROUND(J110*$G110/SUM(COUNTRY_INFO!$E110:$G110),0))*3)","v":0},0,null,0]
[{"$f":"IF(INTRO!$E$43=\"Non-endemic\",\" \", IF(COUNTRY_INFO!A111=0,\" \",COUNTRY_INFO!A111))","v":"Tchad"},{"$f":"IF(INTRO!$E$43=\"Non-endemic\",\" \", IF(COUNTRY_INFO!B111=0,\" \",COUNTRY_INFO!B111))","v":"Ouaddai"},{"$f":"IF(INTRO!$E$43=\"Non-endemic\",\" \", IF(COUNTRY_INFO!C111=0,\" \",COUNTRY_INFO!C111))","v":"Abdi"},{"$f":"IF(INTRO!$E$43=\"Non-endemic\", \"Not required\", COUNTRY_INFO!Z111)","v":1},{"$f":"IF(OR(COUNTRY_INFO!S111=\"Unknown\",COUNTRY_INFO!S111=\"Surveillance\",COUNTRY_INFO!S111=\"Not required\",COUNTRY_INFO!S111=0),0,IF($D111<>0, COUNTRY_INFO!S111,0))","v":3204},{"$f":"IF(OR(COUNTRY_INFO!T111=\"Unknown\",COUNTRY_INFO!T111=\"Surveillance\",COUNTRY_INFO!T111=\"Not required\",COUNTRY_INFO!T111=0),0,IF($D111<>0, COUNTRY_INFO!T111,0))","v":8603},{"$f":"IF(OR(COUNTRY_INFO!U111=\"Unknown\",COUNTRY_INFO!U111=\"Surveillance\",COUNTRY_INFO!U111=\"Not required\",COUNTRY_INFO!U111=0),0,IF($D111<>0, COUNTRY_INFO!U111,0))","v":15564},27371,null,null,1,"SAC",null,{"$f":"IF($I111<>\"Yes\",$F111*2,($F111+ROUND(J111*$F111/SUM(COUNTRY_INFO!$E111:$G111),0))*2)","v":17206},{"$f":"IF($I111<>\"Yes\",$G111*3,($G111+ROUND(J111*$G111/SUM(COUNTRY_INFO!$E111:$G111),0))*3)","v":46692},63898,null,63898]
[{"$f":"IF(INTRO!$E$43=\"Non-endemic\",\" \", IF(COUNTRY_INFO!A112=0,\" \",COUNTRY_INFO!A112))","v":"Tchad"},{"$f":"IF(INTRO!$E$43=\"Non-endemic\",\" \", IF(COUNTRY_INFO!B112=0,\" \",COUNTRY_INFO!B112))","v":"Ouaddai"},{"$f":"IF(INTRO!$E$43=\"Non-endemic\",\" \", IF(COUNTRY_INFO!C112=0,\" \",COUNTRY_INFO!C112))","v":"Abeche"},{"$f":"IF(INTRO!$E$43=\"Non-endemic\", \"Not required\", COUNTRY_INFO!Z112)","v":1},{"$f":"IF(OR(COUNTRY_INFO!S112=\"Unknown\",COUNTRY_INFO!S112=\"Surveillance\",COUNTRY_INFO!S112=\"Not required\",COUNTRY_INFO!S112=0),0,IF($D112<>0, COUNTRY_INFO!S112,0))","v":5325},{"$f":"IF(OR(COUNTRY_INFO!T112=\"Unknown\",COUNTRY_INFO!T112=\"Surveillance\",COUNTRY_INFO!T112=\"Not required\",COUNTRY_INFO!T112=0),0,IF($D112<>0, COUNTRY_INFO!T112,0))","v":14298},{"$f":"IF(OR(COUNTRY_INFO!U112=\"Unknown\",COUNTRY_INFO!U112=\"Surveillance\",COUNTRY_INFO!U112=\"Not required\",COUNTRY_INFO!U112=0),0,IF($D112<>0, COUNTRY_INFO!U112,0))","v":25867},45490,null,null,1,"SAC",null,{"$f":"IF($I112<>\"Yes\",$F112*2,($F112+ROUND(J112*$F112/SUM(COUNTRY_INFO!$E112:$G112),0))*2)","v":28596},{"$f":"IF($I112<>\"Yes\",$G112*3,($G112+ROUND(J112*$G112/SUM(COUNTRY_INFO!$E112:$G112),0))*3)","v":77601},106197,null,106197]
[{"$f":"IF(INTRO!$E$43=\"Non-endemic\",\" \", IF(COUNTRY_INFO!A113=0,\" \",COUNTRY_INFO!A113))","v":"Tchad"},{"$f":"IF(INTRO!$E$43=\"Non-endemic\",\" \", IF(COUNTRY_INFO!B113=0,\" \",COUNTRY_INFO!B113))","v":"Ouaddai"},{"$f":"IF(INTRO!$E$43=\"Non-endemic\",\" \", IF(COUNTRY_INFO!C113=0,\" \",COUNTRY_INFO!C113))","v":"Abougoudam"},{"$f":"IF(INTRO!$E$43=\"Non-endemic\", \"Not required\", COUNTRY_INFO!Z113)","v":0},{"$f":"IF(OR(COUNTRY_INFO!S113=\"Unknown\",COUNTRY_INFO!S113=\"Surveillance\",COUNTRY_INFO!S113=\"Not required\",COUNTRY_INFO!S113=0),0,IF($D113<>0, COUNTRY_INFO!S113,0))","v":0},{"$f":"IF(OR(COUNTRY_INFO!T113=\"Unknown\",COUNTRY_INFO!T113=\"Surveillance\",COUNTRY_INFO!T113=\"Not required\",COUNTRY_INFO!T113=0),0,IF($D113<>0, COUNTRY_INFO!T113,0))","v":0},{"$f":"IF(OR(COUNTRY_INFO!U113=\"Unknown\",COUNTRY_INFO!U113=\"Surveillance\",COUNTRY_INFO!U113=\"Not required\",COUNTRY_INFO!U113=0),0,IF($D113<>0, COUNTRY_INFO!U113,0))","v":0},0,null,null,1,"SAC",null,{"$f":"IF($I113<>\"Yes\",$F113*2,($F113+ROUND(J113*$F113/SUM(COUNTRY_INFO!$E113:$G113),0))*2)","v":0},{"$f":"IF($I113<>\"Yes\",$G113*3,($G113+ROUND(J113*$G113/SUM(COUNTRY_INFO!$E113:$G113),0))*3)","v":0},0,null,0]
[{"$f":"IF(INTRO!$E$43=\"Non-endemic\",\" \", IF(COUNTRY_INFO!A114=0,\" \",COUNTRY_INFO!A114))","v":"Tchad"},{"$f":"IF(INTRO!$E$43=\"Non-endemic\",\" \", IF(COUNTRY_INFO!B114=0,\" \",COUNTRY_INFO!B114))","v":"Ouaddai"},{"$f":"IF(INTRO!$E$43=\"Non-endemic\",\" \", IF(COUNTRY_INFO!C114=0,\" \",COUNTRY_INFO!C114))","v":"Adré"},{"$f":"IF(INTRO!$E$43=\"Non-endemic\", \"Not required\", COUNTRY_INFO!Z114)","v":1},{"$f":"IF(OR(COUNTRY_INFO!S114=\"Unknown\",COUNTRY_INFO!S114=\"Surveillance\",COUNTRY_INFO!S114=\"Not required\",COUNTRY_INFO!S114=0),0,IF($D114<>0, COUNTRY_INFO!S114,0))","v":4631},{"$f":"IF(OR(COUNTRY_INFO!T114=\"Unknown\",COUNTRY_INFO!T114=\"Surveillance\",COUNTRY_INFO!T114=\"Not required\",COUNTRY_INFO!T114=0),0,IF($D114<>0, COUNTRY_INFO!T114,0))","v":12433},{"$f":"IF(OR(COUNTRY_INFO!U114=\"Unknown\",COUNTRY_INFO!U114=\"Surveillance\",COUNTRY_INFO!U114=\"Not required\",COUNTRY_INFO!U114=0),0,IF($D114<>0, COUNTRY_INFO!U114,0))","v":22493},39557,null,null,1,"SAC",null,{"$f":"IF($I114<>\"Yes\",$F114*2,($F114+ROUND(J114*$F114/SUM(COUNTRY_INFO!$E114:$G114),0))*2)","v":24866},{"$f":"IF($I114<>\"Yes\",$G114*3,($G114+ROUND(J114*$G114/SUM(COUNTRY_INFO!$E114:$G114),0))*3)","v":67479},92345,null,92345]
[{"$f":"IF(INTRO!$E$43=\"Non-endemic\",\" \", IF(COUNTRY_INFO!A115=0,\" \",COUNTRY_INFO!A115))","v":"Tchad"},{"$f":"IF(INTRO!$E$43=\"Non-endemic\",\" \", IF(COUNTRY_INFO!B115=0,\" \",COUNTRY_INFO!B115))","v":"Salamat"},{"$f":"IF(INTRO!$E$43=\"Non-endemic\",\" \", IF(COUNTRY_INFO!C115=0,\" \",COUNTRY_INFO!C115))","v":"Aboudeia"},{"$f":"IF(INTRO!$E$43=\"Non-endemic\", \"Not required\", COUNTRY_INFO!Z115)","v":1},{"$f":"IF(OR(COUNTRY_INFO!S115=\"Unknown\",COUNTRY_INFO!S115=\"Surveillance\",COUNTRY_INFO!S115=\"Not required\",COUNTRY_INFO!S115=0),0,IF($D115<>0, COUNTRY_INFO!S115,0))","v":4259},{"$f":"IF(OR(COUNTRY_INFO!T115=\"Unknown\",COUNTRY_INFO!T115=\"Surveillance\",COUNTRY_INFO!T115=\"Not required\",COUNTRY_INFO!T115=0),0,IF($D115<>0, COUNTRY_INFO!T115,0))","v":11434},{"$f":"IF(OR(COUNTRY_INFO!U115=\"Unknown\",COUNTRY_INFO!U115=\"Surveillance\",COUNTRY_INFO!U115=\"Not required\",COUNTRY_INFO!U115=0),0,IF($D115<>0, COUNTRY_INFO!U115,0))","v":20685},36378,null,null,1,"SAC",null,{"$f":"IF($I115<>\"Yes\",$F115*2,($F115+ROUND(J115*$F115/SUM(COUNTRY_INFO!$E115:$G115),0))*2)","v":22868},{"$f":"IF($I115<>\"Yes\",$G115*3,($G115+ROUND(J115*$G115/SUM(COUNTRY_INFO!$E115:$G115),0))*3)","v":62055},84923,null,84923]
[{"$f":"IF(INTRO!$E$43=\"Non-endemic\",\" \", IF(COUNTRY_INFO!A116=0,\" \",COUNTRY_INFO!A116))","v":"Tchad"},{"$f":"IF(INTRO!$E$43=\"Non-endemic\",\" \", IF(COUNTRY_INFO!B116=0,\" \",COUNTRY_INFO!B116))","v":"Salamat"},{"$f":"IF(INTRO!$E$43=\"Non-endemic\",\" \", IF(COUNTRY_INFO!C116=0,\" \",COUNTRY_INFO!C116))","v":"Am-Timan"},{"$f":"IF(INTRO!$E$43=\"Non-endemic\", \"Not required\", COUNTRY_INFO!Z116)","v":1},{"$f":"IF(OR(COUNTRY_INFO!S116=\"Unknown\",COUNTRY_INFO!S116=\"Surveillance\",COUNTRY_INFO!S116=\"Not required\",COUNTRY_INFO!S116=0),0,IF($D116<>0, COUNTRY_INFO!S116,0))","v":1855},{"$f":"IF(OR(COUNTRY_INFO!T116=\"Unknown\",COUNTRY_INFO!T116=\"Surveillance\",COUNTRY_INFO!T116=\"Not required\",COUNTRY_INFO!T116=0),0,IF($D116<>0, COUNTRY_INFO!T116,0))","v":4980},{"$f":"IF(OR(COUNTRY_INFO!U116=\"Unknown\",COUNTRY_INFO!U116=\"Surveillance\",COUNTRY_INFO!U116=\"Not required\",COUNTRY_INFO!U116=0),0,IF($D116<>0, COUNTRY_INFO!U116,0))","v":9009},15844,null,null,1,"SAC",null,{"$f":"IF($I116<>\"Yes\",$F116*2,($F116+ROUND(J116*$F116/SUM(COUNTRY_INFO!$E116:$G116),0))*2)","v":9960},{"$f":"IF($I116<>\"Yes\",$G116*3,($G116+ROUND(J116*$G116/SUM(COUNTRY_INFO!$E116:$G116),0))*3)","v":27027},36987,null,36987]
[{"$f":"IF(INTRO!$E$43=\"Non-endemic\",\" \", IF(COUNTRY_INFO!A117=0,\" \",COUNTRY_INFO!A117))","v":"Tchad"},{"$f":"IF(INTRO!$E$43=\"Non-endemic\",\" \", IF(COUNTRY_INFO!B117=0,\" \",COUNTRY_INFO!B117))","v":"Salamat"},{"$f":"IF(INTRO!$E$43=\"Non-endemic\",\" \", IF(COUNTRY_INFO!C117=0,\" \",COUNTRY_INFO!C117))","v":"Haraze"},{"$f":"IF(INTRO!$E$43=\"Non-endemic\", \"Not required\", COUNTRY_INFO!Z117)","v":1},{"$f":"IF(OR(COUNTRY_INFO!S117=\"Unknown\",COUNTRY_INFO!S117=\"Surveillance\",COUNTRY_INFO!S117=\"Not required\",COUNTRY_INFO!S117=0),0,IF($D117<>0, COUNTRY_INFO!S117,0))","v":3954},{"$f":"IF(OR(COUNTRY_INFO!T117=\"Unknown\",COUNTRY_INFO!T117=\"Surveillance\",COUNTRY_INFO!T117=\"Not required\",COUNTRY_INFO!T117=0),0,IF($D117<>0, COUNTRY_INFO!T117,0))","v":10614},{"$f":"IF(OR(COUNTRY_INFO!U117=\"Unknown\",COUNTRY_INFO!U117=\"Surveillance\",COUNTRY_INFO!U117=\"Not required\",COUNTRY_INFO!U117=0),0,IF($D117<>0, COUNTRY_INFO!U117,0))","v":19204},33772,null,null,0,null,null,{"$f":"IF($I117<>\"Yes\",$F117*2,($F117+ROUND(J117*$F117/SUM(COUNTRY_INFO!$E117:$G117),0))*2)","v":21228},{"$f":"IF($I117<>\"Yes\",$G117*3,($G117+ROUND(J117*$G117/SUM(COUNTRY_INFO!$E117:$G117),0))*3)","v":57612},78840,null,78840]
[{"$f":"IF(INTRO!$E$43=\"Non-endemic\",\" \", IF(COUNTRY_INFO!A118=0,\" \",COUNTRY_INFO!A118))","v":"Tchad"},{"$f":"IF(INTRO!$E$43=\"Non-endemic\",\" \", IF(COUNTRY_INFO!B118=0,\" \",COUNTRY_INFO!B118))","v":"Sila"},{"$f":"IF(INTRO!$E$43=\"Non-endemic\",\" \", IF(COUNTRY_INFO!C118=0,\" \",COUNTRY_INFO!C118))","v":"Am-dam"},{"$f":"IF(INTRO!$E$43=\"Non-endemic\", \"Not required\", COUNTRY_INFO!Z118)","v":1},{"$f":"IF(OR(COUNTRY_INFO!S118=\"Unknown\",COUNTRY_INFO!S118=\"Surveillance\",COUNTRY_INFO!S118=\"Not required\",COUNTRY_INFO!S118=0),0,IF($D118<>0, COUNTRY_INFO!S118,0))","v":1947},{"$f":"IF(OR(COUNTRY_INFO!T118=\"Unknown\",COUNTRY_INFO!T118=\"Surveillance\",COUNTRY_INFO!T118=\"Not required\",COUNTRY_INFO!T118=0),0,IF($D118<>0, COUNTRY_INFO!T118,0))","v":5227},{"$f":"IF(OR(COUNTRY_INFO!U118=\"Unknown\",COUNTRY_INFO!U118=\"Surveillance\",COUNTRY_INFO!U118=\"Not required\",COUNTRY_INFO!U118=0),0,IF($D118<>0, COUNTRY_INFO!U118,0))","v":9459},16633,null,null,1,"SAC",null,{"$f":"IF($I118<>\"Yes\",$F118*2,($F118+ROUND(J118*$F118/SUM(COUNTRY_INFO!$E118:$G118),0))*2)","v":10454},{"$f":"IF($I118<>\"Yes\",$G118*3,($G118+ROUND(J118*$G118/SUM(COUNTRY_INFO!$E118:$G118),0))*3)","v":28377},38831,null,38831]
[{"$f":"IF(INTRO!$E$43=\"Non-endemic\",\" \", IF(COUNTRY_INFO!A119=0,\" \",COUNTRY_INFO!A119))","v":"Tchad"},{"$f":"IF(INTRO!$E$43=\"Non-endemic\",\" \", IF(COUNTRY_INFO!B119=0,\" \",COUNTRY_INFO!B119))","v":"Sila"},{"$f":"IF(INTRO!$E$43=\"Non-endemic\",\" \", IF(COUNTRY_INFO!C119=0,\" \",COUNTRY_INFO!C119))","v":"Goz-beida"},{"$f":"IF(INTRO!$E$43=\"Non-endemic\", \"Not required\", COUNTRY_INFO!Z119)","v":1},{"$f":"IF(OR(COUNTRY_INFO!S119=\"Unknown\",COUNTRY_INFO!S119=\"Surveillance\",COUNTRY_INFO!S119=\"Not required\",COUNTRY_INFO!S119=0),0,IF($D119<>0, COUNTRY_INFO!S119,0))","v":1851},{"$f":"IF(OR(COUNTRY_INFO!T119=\"Unknown\",COUNTRY_INFO!T119=\"Surveillance\",COUNTRY_INFO!T119=\"Not required\",COUNTRY_INFO!T119=0),0,IF($D119<>0, COUNTRY_INFO!T119,0))","v":4969},{"$f":"IF(OR(COUNTRY_INFO!U119=\"Unknown\",COUNTRY_INFO!U119=\"Surveillance\",COUNTRY_INFO!U119=\"Not required\",COUNTRY_INFO!U119=0),0,IF($D119<>0, COUNTRY_INFO!U119,0))","v":8991},15811,null,null,0,null,null,{"$f":"IF($I119<>\"Yes\",$F119*2,($F119+ROUND(J119*$F119/SUM(COUNTRY_INFO!$E119:$G119),0))*2)","v":9938},{"$f":"IF($I119<>\"Yes\",$G119*3,($G119+ROUND(J119*$G119/SUM(COUNTRY_INFO!$E119:$G119),0))*3)","v":26973},36911,null,36911]
[{"$f":"IF(INTRO!$E$43=\"Non-endemic\",\" \", IF(COUNTRY_INFO!A120=0,\" \",COUNTRY_INFO!A120))","v":"Tchad"},{"$f":"IF(INTRO!$E$43=\"Non-endemic\",\" \", IF(COUNTRY_INFO!B120=0,\" \",COUNTRY_INFO!B120))","v":"Sila"},{"$f":"IF(INTRO!$E$43=\"Non-endemic\",\" \", IF(COUNTRY_INFO!C120=0,\" \",COUNTRY_INFO!C120))","v":"Koukou"},{"$f":"IF(INTRO!$E$43=\"Non-endemic\", \"Not required\", COUNTRY_INFO!Z120)","v":1},{"$f":"IF(OR(COUNTRY_INFO!S120=\"Unknown\",COUNTRY_INFO!S120=\"Surveillance\",COUNTRY_INFO!S120=\"Not required\",COUNTRY_INFO!S120=0),0,IF($D120<>0, COUNTRY_INFO!S120,0))","v":5429},{"$f":"IF(OR(COUNTRY_INFO!T120=\"Unknown\",COUNTRY_INFO!T120=\"Surveillance\",COUNTRY_INFO!T120=\"Not required\",COUNTRY_INFO!T120=0),0,IF($D120<>0, COUNTRY_INFO!T120,0))","v":14576},{"$f":"IF(OR(COUNTRY_INFO!U120=\"Unknown\",COUNTRY_INFO!U120=\"Surveillance\",COUNTRY_INFO!U120=\"Not required\",COUNTRY_INFO!U120=0),0,IF($D120<>0, COUNTRY_INFO!U120,0))","v":26370},46375,null,null,0,null,null,{"$f":"IF($I120<>\"Yes\",$F120*2,($F120+ROUND(J120*$F120/SUM(COUNTRY_INFO!$E120:$G120),0))*2)","v":29152},{"$f":"IF($I120<>\"Yes\",$G120*3,($G120+ROUND(J120*$G120/SUM(COUNTRY_INFO!$E120:$G120),0))*3)","v":79110},108262,null,108262]
[{"$f":"IF(INTRO!$E$43=\"Non-endemic\",\" \", IF(COUNTRY_INFO!A121=0,\" \",COUNTRY_INFO!A121))","v":"Tchad"},{"$f":"IF(INTRO!$E$43=\"Non-endemic\",\" \", IF(COUNTRY_INFO!B121=0,\" \",COUNTRY_INFO!B121))","v":"Sila"},{"$f":"IF(INTRO!$E$43=\"Non-endemic\",\" \", IF(COUNTRY_INFO!C121=0,\" \",COUNTRY_INFO!C121))","v":"Tissi"},{"$f":"IF(INTRO!$E$43=\"Non-endemic\", \"Not required\", COUNTRY_INFO!Z121)","v":0},{"$f":"IF(OR(COUNTRY_INFO!S121=\"Unknown\",COUNTRY_INFO!S121=\"Surveillance\",COUNTRY_INFO!S121=\"Not required\",COUNTRY_INFO!S121=0),0,IF($D121<>0, COUNTRY_INFO!S121,0))","v":0},{"$f":"IF(OR(COUNTRY_INFO!T121=\"Unknown\",COUNTRY_INFO!T121=\"Surveillance\",COUNTRY_INFO!T121=\"Not required\",COUNTRY_INFO!T121=0),0,IF($D121<>0, COUNTRY_INFO!T121,0))","v":0},{"$f":"IF(OR(COUNTRY_INFO!U121=\"Unknown\",COUNTRY_INFO!U121=\"Surveillance\",COUNTRY_INFO!U121=\"Not required\",COUNTRY_INFO!U121=0),0,IF($D121<>0, COUNTRY_INFO!U121,0))","v":0},0,null,null,0,null,null,{"$f":"IF($I121<>\"Yes\",$F121*2,($F121+ROUND(J121*$F121/SUM(COUNTRY_INFO!$E121:$G121),0))*2)","v":0},{"$f":"IF($I121<>\"Yes\",$G121*3,($G121+ROUND(J121*$G121/SUM(COUNTRY_INFO!$E121:$G121),0))*3)","v":0},0,null,0]
[{"$f":"IF(INTRO!$E$43=\"Non-endemic\",\" \", IF(COUNTRY_INFO!A122=0,\" \",COUNTRY_INFO!A122))","v":"Tchad"},{"$f":"IF(INTRO!$E$43=\"Non-endemic\",\" \", IF(COUNTRY_INFO!B122=0,\" \",COUNTRY_INFO!B122))","v":"Tandjile"},{"$f":"IF(INTRO!$E$43=\"Non-endemic\",\" \", IF(COUNTRY_INFO!C122=0,\" \",COUNTRY_INFO!C122))","v":"Batchoro"},{"$f":"IF(INTRO!$E$43=\"Non-endemic\", \"Not required\", COUNTRY_INFO!Z122)","v":0},{"$f":"IF(OR(COUNTRY_INFO!S122=\"Unknown\",COUNTRY_INFO!S122=\"Surveillance\",COUNTRY_INFO!S122=\"Not required\",COUNTRY_INFO!S122=0),0,IF($D122<>0, COUNTRY_INFO!S122,0))","v":0},{"$f":"IF(OR(COUNTRY_INFO!T122=\"Unknown\",COUNTRY_INFO!T122=\"Surveillance\",COUNTRY_INFO!T122=\"Not required\",COUNTRY_INFO!T122=0),0,IF($D122<>0, COUNTRY_INFO!T122,0))","v":0},{"$f":"IF(OR(COUNTRY_INFO!U122=\"Unknown\",COUNTRY_INFO!U122=\"Surveillance\",COUNTRY_INFO!U122=\"Not required\",COUNTRY_INFO!U122=0),0,IF($D122<>0, COUNTRY_INFO!U122,0))","v":0},0,null,null,1,"SAC",null,{"$f":"IF($I122<>\"Yes\",$F122*2,($F122+ROUND(J122*$F122/SUM(COUNTRY_INFO!$E122:$G122),0))*2)","v":0},{"$f":"IF($I122<>\"Yes\",$G122*3,($G122+ROUND(J122*$G122/SUM(COUNTRY_INFO!$E122:$G122),0))*3)","v":0},0,null,0]
[{"$f":"IF(INTRO!$E$43=\"Non-endemic\",\" \", IF(COUNTRY_INFO!A123=0,\" \",COUNTRY_INFO!A123))","v":"Tchad"},{"$f":"IF(INTRO!$E$43=\"Non-endemic\",\" \", IF(COUNTRY_INFO!B123=0,\" \",COUNTRY_INFO!B123))","v":"Tandjile"},{"$f":"IF(INTRO!$E$43=\"Non-endemic\",\" \", IF(COUNTRY_INFO!C123=0,\" \",COUNTRY_INFO!C123))","v":"Bere"},{"$f":"IF(INTRO!$E$43=\"Non-endemic\", \"Not required\", COUNTRY_INFO!Z123)","v":1},{"$f":"IF(OR(COUNTRY_INFO!S123=\"Unknown\",COUNTRY_INFO!S123=\"Surveillance\",COUNTRY_INFO!S123=\"Not required\",COUNTRY_INFO!S123=0),0,IF($D123<>0, COUNTRY_INFO!S123,0))","v":2234},{"$f":"IF(OR(COUNTRY_INFO!T123=\"Unknown\",COUNTRY_INFO!T123=\"Surveillance\",COUNTRY_INFO!T123=\"Not required\",COUNTRY_INFO!T123=0),0,IF($D123<>0, COUNTRY_INFO!T123,0))","v":6001},{"$f":"IF(OR(COUNTRY_INFO!U123=\"Unknown\",COUNTRY_INFO!U123=\"Surveillance\",COUNTRY_INFO!U123=\"Not required\",COUNTRY_INFO!U123=0),0,IF($D123<>0, COUNTRY_INFO!U123,0))","v":10858},19093,null,null,1,"SAC",null,{"$f":"IF($I123<>\"Yes\",$F123*2,($F123+ROUND(J123*$F123/SUM(COUNTRY_INFO!$E123:$G123),0))*2)","v":12002},{"$f":"IF($I123<>\"Yes\",$G123*3,($G123+ROUND(J123*$G123/SUM(COUNTRY_INFO!$E123:$G123),0))*3)","v":32574},44576,null,44576]
[{"$f":"IF(INTRO!$E$43=\"Non-endemic\",\" \", IF(COUNTRY_INFO!A124=0,\" \",COUNTRY_INFO!A124))","v":"Tchad"},{"$f":"IF(INTRO!$E$43=\"Non-endemic\",\" \", IF(COUNTRY_INFO!B124=0,\" \",COUNTRY_INFO!B124))","v":"Tandjile"},{"$f":"IF(INTRO!$E$43=\"Non-endemic\",\" \", IF(COUNTRY_INFO!C124=0,\" \",COUNTRY_INFO!C124))","v":"Bologo"},{"$f":"IF(INTRO!$E$43=\"Non-endemic\", \"Not required\", COUNTRY_INFO!Z124)","v":1},{"$f":"IF(OR(COUNTRY_INFO!S124=\"Unknown\",COUNTRY_INFO!S124=\"Surveillance\",COUNTRY_INFO!S124=\"Not required\",COUNTRY_INFO!S124=0),0,IF($D124<>0, COUNTRY_INFO!S124,0))","v":3283},{"$f":"IF(OR(COUNTRY_INFO!T124=\"Unknown\",COUNTRY_INFO!T124=\"Surveillance\",COUNTRY_INFO!T124=\"Not required\",COUNTRY_INFO!T124=0),0,IF($D124<>0, COUNTRY_INFO!T124,0))","v":8816},{"$f":"IF(OR(COUNTRY_INFO!U124=\"Unknown\",COUNTRY_INFO!U124=\"Surveillance\",COUNTRY_INFO!U124=\"Not required\",COUNTRY_INFO!U124=0),0,IF($D124<>0, COUNTRY_INFO!U124,0))","v":15950},28049,null,null,1,"SAC",null,{"$f":"IF($I124<>\"Yes\",$F124*2,($F124+ROUND(J124*$F124/SUM(COUNTRY_INFO!$E124:$G124),0))*2)","v":17632},{"$f":"IF($I124<>\"Yes\",$G124*3,($G124+ROUND(J124*$G124/SUM(COUNTRY_INFO!$E124:$G124),0))*3)","v":47850},65482,null,65482]
[{"$f":"IF(INTRO!$E$43=\"Non-endemic\",\" \", IF(COUNTRY_INFO!A125=0,\" \",COUNTRY_INFO!A125))","v":"Tchad"},{"$f":"IF(INTRO!$E$43=\"Non-endemic\",\" \", IF(COUNTRY_INFO!B125=0,\" \",COUNTRY_INFO!B125))","v":"Tandjile"},{"$f":"IF(INTRO!$E$43=\"Non-endemic\",\" \", IF(COUNTRY_INFO!C125=0,\" \",COUNTRY_INFO!C125))","v":"Dafra"},{"$f":"IF(INTRO!$E$43=\"Non-endemic\", \"Not required\", COUNTRY_INFO!Z125)","v":0},{"$f":"IF(OR(COUNTRY_INFO!S125=\"Unknown\",COUNTRY_INFO!S125=\"Surveillance\",COUNTRY_INFO!S125=\"Not required\",COUNTRY_INFO!S125=0),0,IF($D125<>0, COUNTRY_INFO!S125,0))","v":0},{"$f":"IF(OR(COUNTRY_INFO!T125=\"Unknown\",COUNTRY_INFO!T125=\"Surveillance\",COUNTRY_INFO!T125=\"Not required\",COUNTRY_INFO!T125=0),0,IF($D125<>0, COUNTRY_INFO!T125,0))","v":0},{"$f":"IF(OR(COUNTRY_INFO!U125=\"Unknown\",COUNTRY_INFO!U125=\"Surveillance\",COUNTRY_INFO!U125=\"Not required\",COUNTRY_INFO!U125=0),0,IF($D125<>0, COUNTRY_INFO!U125,0))","v":0},0,null,null,0,null,null,{"$f":"IF($I125<>\"Yes\",$F125*2,($F125+ROUND(J125*$F125/SUM(COUNTRY_INFO!$E125:$G125),0))*2)","v":0},{"$f":"IF($I125<>\"Yes\",$G125*3,($G125+ROUND(J125*$G125/SUM(COUNTRY_INFO!$E125:$G125),0))*3)","v":0},0,null,0]
[{"$f":"IF(INTRO!$E$43=\"Non-endemic\",\" \", IF(COUNTRY_INFO!A126=0,\" \",COUNTRY_INFO!A126))","v":"Tchad"},{"$f":"IF(INTRO!$E$43=\"Non-endemic\",\" \", IF(COUNTRY_INFO!B126=0,\" \",COUNTRY_INFO!B126))","v":"Tandjile"},{"$f":"IF(INTRO!$E$43=\"Non-endemic\",\" \", IF(COUNTRY_INFO!C126=0,\" \",COUNTRY_INFO!C126))","v":"Deressia"},{"$f":"IF(INTRO!$E$43=\"Non-endemic\", \"Not required\", COUNTRY_INFO!Z126)","v":0},{"$f":"IF(OR(COUNTRY_INFO!S126=\"Unknown\",COUNTRY_INFO!S126=\"Surveillance\",COUNTRY_INFO!S126=\"Not required\",COUNTRY_INFO!S126=0),0,IF($D126<>0, COUNTRY_INFO!S126,0))","v":0},{"$f":"IF(OR(COUNTRY_INFO!T126=\"Unknown\",COUNTRY_INFO!T126=\"Surveillance\",COUNTRY_INFO!T126=\"Not required\",COUNTRY_INFO!T126=0),0,IF($D126<>0, COUNTRY_INFO!T126,0))","v":0},{"$f":"IF(OR(COUNTRY_INFO!U126=\"Unknown\",COUNTRY_INFO!U126=\"Surveillance\",COUNTRY_INFO!U126=\"Not required\",COUNTRY_INFO!U126=0),0,IF($D126<>0, COUNTRY_INFO!U126,0))","v":0},0,null,null,1,"SAC",null,{"$f":"IF($I126<>\"Yes\",$F126*2,($F126+ROUND(J126*$F126/SUM(COUNTRY_INFO!$E126:$G126),0))*2)","v":0},{"$f":"IF($I126<>\"Yes\",$G126*3,($G126+ROUND(J126*$G126/SUM(COUNTRY_INFO!$E126:$G126),0))*3)","v":0},0,null,0]
[{"$f":"IF(INTRO!$E$43=\"Non-endemic\",\" \", IF(COUNTRY_INFO!A127=0,\" \",COUNTRY_INFO!A127))","v":"Tchad"},{"$f":"IF(INTRO!$E$43=\"Non-endemic\",\" \", IF(COUNTRY_INFO!B127=0,\" \",COUNTRY_INFO!B127))","v":"Tandjile"},{"$f":"IF(INTRO!$E$43=\"Non-endemic\",\" \", IF(COUNTRY_INFO!C127=0,\" \",COUNTRY_INFO!C127))","v":"Donamanga"},{"$f":"IF(INTRO!$E$43=\"Non-endemic\", \"Not required\", COUNTRY_INFO!Z127)","v":1},{"$f":"IF(OR(COUNTRY_INFO!S127=\"Unknown\",COUNTRY_INFO!S127=\"Surveillance\",COUNTRY_INFO!S127=\"Not required\",COUNTRY_INFO!S127=0),0,IF($D127<>0, COUNTRY_INFO!S127,0))","v":3432},{"$f":"IF(OR(COUNTRY_INFO!T127=\"Unknown\",COUNTRY_INFO!T127=\"Surveillance\",COUNTRY_INFO!T127=\"Not required\",COUNTRY_INFO!T127=0),0,IF($D127<>0, COUNTRY_INFO!T127,0))","v":9214},{"$f":"IF(OR(COUNTRY_INFO!U127=\"Unknown\",COUNTRY_INFO!U127=\"Surveillance\",COUNTRY_INFO!U127=\"Not required\",COUNTRY_INFO!U127=0),0,IF($D127<>0, COUNTRY_INFO!U127,0))","v":16669},29315,null,null,1,"SAC",null,{"$f":"IF($I127<>\"Yes\",$F127*2,($F127+ROUND(J127*$F127/SUM(COUNTRY_INFO!$E127:$G127),0))*2)","v":18428},{"$f":"IF($I127<>\"Yes\",$G127*3,($G127+ROUND(J127*$G127/SUM(COUNTRY_INFO!$E127:$G127),0))*3)","v":50007},68435,null,68435]
[{"$f":"IF(INTRO!$E$43=\"Non-endemic\",\" \", IF(COUNTRY_INFO!A128=0,\" \",COUNTRY_INFO!A128))","v":"Tchad"},{"$f":"IF(INTRO!$E$43=\"Non-endemic\",\" \", IF(COUNTRY_INFO!B128=0,\" \",COUNTRY_INFO!B128))","v":"Tandjile"},{"$f":"IF(INTRO!$E$43=\"Non-endemic\",\" \", IF(COUNTRY_INFO!C128=0,\" \",COUNTRY_INFO!C128))","v":"Guidari"},{"$f":"IF(INTRO!$E$43=\"Non-endemic\", \"Not required\", COUNTRY_INFO!Z128)","v":0},{"$f":"IF(OR(COUNTRY_INFO!S128=\"Unknown\",COUNTRY_INFO!S128=\"Surveillance\",COUNTRY_INFO!S128=\"Not required\",COUNTRY_INFO!S128=0),0,IF($D128<>0, COUNTRY_INFO!S128,0))","v":0},{"$f":"IF(OR(COUNTRY_INFO!T128=\"Unknown\",COUNTRY_INFO!T128=\"Surveillance\",COUNTRY_INFO!T128=\"Not required\",COUNTRY_INFO!T128=0),0,IF($D128<>0, COUNTRY_INFO!T128,0))","v":0},{"$f":"IF(OR(COUNTRY_INFO!U128=\"Unknown\",COUNTRY_INFO!U128=\"Surveillance\",COUNTRY_INFO!U128=\"Not required\",COUNTRY_INFO!U128=0),0,IF($D128<>0, COUNTRY_INFO!U128,0))","v":0},0,null,null,0,null,null,{"$f":"IF($I128<>\"Yes\",$F128*2,($F128+ROUND(J128*$F128/SUM(COUNTRY_INFO!$E128:$G128),0))*2)","v":0},{"$f":"IF($I128<>\"Yes\",$G128*3,($G128+ROUND(J128*$G128/SUM(COUNTRY_INFO!$E128:$G128),0))*3)","v":0},0,null,0]
[{"$f":"IF(INTRO!$E$43=\"Non-endemic\",\" \", IF(COUNTRY_INFO!A129=0,\" \",COUNTRY_INFO!A129))","v":"Tchad"},{"$f":"IF(INTRO!$E$43=\"Non-endemic\",\" \", IF(COUNTRY_INFO!B129=0,\" \",COUNTRY_INFO!B129))","v":"Tandjile"},{"$f":"IF(INTRO!$E$43=\"Non-endemic\",\" \", IF(COUNTRY_INFO!C129=0,\" \",COUNTRY_INFO!C129))","v":"Kelo"},{"$f":"IF(INTRO!$E$43=\"Non-endemic\", \"Not required\", COUNTRY_INFO!Z129)","v":1},{"$f":"IF(OR(COUNTRY_INFO!S129=\"Unknown\",COUNTRY_INFO!S129=\"Surveillance\",COUNTRY_INFO!S129=\"Not required\",COUNTRY_INFO!S129=0),0,IF($D129<>0, COUNTRY_INFO!S129,0))","v":1705},{"$f":"IF(OR(COUNTRY_INFO!T129=\"Unknown\",COUNTRY_INFO!T129=\"Surveillance\",COUNTRY_INFO!T129=\"Not required\",COUNTRY_INFO!T129=0),0,IF($D129<>0, COUNTRY_INFO!T129,0))","v":4577},{"$f":"IF(OR(COUNTRY_INFO!U129=\"Unknown\",COUNTRY_INFO!U129=\"Surveillance\",COUNTRY_INFO!U129=\"Not required\",COUNTRY_INFO!U129=0),0,IF($D129<>0, COUNTRY_INFO!U129,0))","v":8282},14564,null,null,1,"SAC",null,{"$f":"IF($I129<>\"Yes\",$F129*2,($F129+ROUND(J129*$F129/SUM(COUNTRY_INFO!$E129:$G129),0))*2)","v":9154},{"$f":"IF($I129<>\"Yes\",$G129*3,($G129+ROUND(J129*$G129/SUM(COUNTRY_INFO!$E129:$G129),0))*3)","v":24846},34000,null,34000]
[{"$f":"IF(INTRO!$E$43=\"Non-endemic\",\" \", IF(COUNTRY_INFO!A130=0,\" \",COUNTRY_INFO!A130))","v":"Tchad"},{"$f":"IF(INTRO!$E$43=\"Non-endemic\",\" \", IF(COUNTRY_INFO!B130=0,\" \",COUNTRY_INFO!B130))","v":"Tandjile"},{"$f":"IF(INTRO!$E$43=\"Non-endemic\",\" \", IF(COUNTRY_INFO!C130=0,\" \",COUNTRY_INFO!C130))","v":"Kolon"},{"$f":"IF(INTRO!$E$43=\"Non-endemic\", \"Not required\", COUNTRY_INFO!Z130)","v":0},{"$f":"IF(OR(COUNTRY_INFO!S130=\"Unknown\",COUNTRY_INFO!S130=\"Surveillance\",COUNTRY_INFO!S130=\"Not required\",COUNTRY_INFO!S130=0),0,IF($D130<>0, COUNTRY_INFO!S130,0))","v":0},{"$f":"IF(OR(COUNTRY_INFO!T130=\"Unknown\",COUNTRY_INFO!T130=\"Surveillance\",COUNTRY_INFO!T130=\"Not required\",COUNTRY_INFO!T130=0),0,IF($D130<>0, COUNTRY_INFO!T130,0))","v":0},{"$f":"IF(OR(COUNTRY_INFO!U130=\"Unknown\",COUNTRY_INFO!U130=\"Surveillance\",COUNTRY_INFO!U130=\"Not required\",COUNTRY_INFO!U130=0),0,IF($D130<>0, COUNTRY_INFO!U130,0))","v":0},0,null,null,1,"SAC",null,{"$f":"IF($I130<>\"Yes\",$F130*2,($F130+ROUND(J130*$F130/SUM(COUNTRY_INFO!$E130:$G130),0))*2)","v":0},{"$f":"IF($I130<>\"Yes\",$G130*3,($G130+ROUND(J130*$G130/SUM(COUNTRY_INFO!$E130:$G130),0))*3)","v":0},0,null,0]
[{"$f":"IF(INTRO!$E$43=\"Non-endemic\",\" \", IF(COUNTRY_INFO!A131=0,\" \",COUNTRY_INFO!A131))","v":"Tchad"},{"$f":"IF(INTRO!$E$43=\"Non-endemic\",\" \", IF(COUNTRY_INFO!B131=0,\" \",COUNTRY_INFO!B131))","v":"Tandjile"},{"$f":"IF(INTRO!$E$43=\"Non-endemic\",\" \", IF(COUNTRY_INFO!C131=0,\" \",COUNTRY_INFO!C131))","v":"Lai"},{"$f":"IF(INTRO!$E$43=\"Non-endemic\", \"Not required\", COUNTRY_INFO!Z131)","v":1},{"$f":"IF(OR(COUNTRY_INFO!S131=\"Unknown\",COUNTRY_INFO!S131=\"Surveillance\",COUNTRY_INFO!S131=\"Not required\",COUNTRY_INFO!S131=0),0,IF($D131<>0, COUNTRY_INFO!S131,0))","v":4378},{"$f":"IF(OR(COUNTRY_INFO!T131=\"Unknown\",COUNTRY_INFO!T131=\"Surveillance\",COUNTRY_INFO!T131=\"Not required\",COUNTRY_INFO!T131=0),0,IF($D131<>0, COUNTRY_INFO!T131,0))","v":11755},{"$f":"IF(OR(COUNTRY_INFO!U131=\"Unknown\",COUNTRY_INFO!U131=\"Surveillance\",COUNTRY_INFO!U131=\"Not required\",COUNTRY_INFO!U131=0),0,IF($D131<>0, COUNTRY_INFO!U131,0))","v":21267},37400,null,null,1,"SAC",null,{"$f":"IF($I131<>\"Yes\",$F131*2,($F131+ROUND(J131*$F131/SUM(COUNTRY_INFO!$E131:$G131),0))*2)","v":23510},{"$f":"IF($I131<>\"Yes\",$G131*3,($G131+ROUND(J131*$G131/SUM(COUNTRY_INFO!$E131:$G131),0))*3)","v":63801},87311,null,87311]
[{"$f":"IF(INTRO!$E$43=\"Non-endemic\",\" \", IF(COUNTRY_INFO!A132=0,\" \",COUNTRY_INFO!A132))","v":"Tchad"},{"$f":"IF(INTRO!$E$43=\"Non-endemic\",\" \", IF(COUNTRY_INFO!B132=0,\" \",COUNTRY_INFO!B132))","v":"Tibesti"},{"$f":"IF(INTRO!$E$43=\"Non-endemic\",\" \", IF(COUNTRY_INFO!C132=0,\" \",COUNTRY_INFO!C132))","v":"Bardaï"},{"$f":"IF(INTRO!$E$43=\"Non-endemic\", \"Not required\", COUNTRY_INFO!Z132)","v":0},{"$f":"IF(OR(COUNTRY_INFO!S132=\"Unknown\",COUNTRY_INFO!S132=\"Surveillance\",COUNTRY_INFO!S132=\"Not required\",COUNTRY_INFO!S132=0),0,IF($D132<>0, COUNTRY_INFO!S132,0))","v":0},{"$f":"IF(OR(COUNTRY_INFO!T132=\"Unknown\",COUNTRY_INFO!T132=\"Surveillance\",COUNTRY_INFO!T132=\"Not required\",COUNTRY_INFO!T132=0),0,IF($D132<>0, COUNTRY_INFO!T132,0))","v":0},{"$f":"IF(OR(COUNTRY_INFO!U132=\"Unknown\",COUNTRY_INFO!U132=\"Surveillance\",COUNTRY_INFO!U132=\"Not required\",COUNTRY_INFO!U132=0),0,IF($D132<>0, COUNTRY_INFO!U132,0))","v":0},0,null,null,0,null,null,{"$f":"IF($I132<>\"Yes\",$F132*2,($F132+ROUND(J132*$F132/SUM(COUNTRY_INFO!$E132:$G132),0))*2)","v":0},{"$f":"IF($I132<>\"Yes\",$G132*3,($G132+ROUND(J132*$G132/SUM(COUNTRY_INFO!$E132:$G132),0))*3)","v":0},0,null,0]
[{"$f":"IF(INTRO!$E$43=\"Non-endemic\",\" \", IF(COUNTRY_INFO!A133=0,\" \",COUNTRY_INFO!A133))","v":"Tchad"},{"$f":"IF(INTRO!$E$43=\"Non-endemic\",\" \", IF(COUNTRY_INFO!B133=0,\" \",COUNTRY_INFO!B133))","v":"Tibesti"},{"$f":"IF(INTRO!$E$43=\"Non-endemic\",\" \", IF(COUNTRY_INFO!C133=0,\" \",COUNTRY_INFO!C133))","v":"Zouar"},{"$f":"IF(INTRO!$E$43=\"Non-endemic\", \"Not required\", COUNTRY_INFO!Z133)","v":0},{"$f":"IF(OR(COUNTRY_INFO!S133=\"Unknown\",COUNTRY_INFO!S133=\"Surveillance\",COUNTRY_INFO!S133=\"Not required\",COUNTRY_INFO!S133=0),0,IF($D133<>0, COUNTRY_INFO!S133,0))","v":0},{"$f":"IF(OR(COUNTRY_INFO!T133=\"Unknown\",COUNTRY_INFO!T133=\"Surveillance\",COUNTRY_INFO!T133=\"Not required\",COUNTRY_INFO!T133=0),0,IF($D133<>0, COUNTRY_INFO!T133,0))","v":0},{"$f":"IF(OR(COUNTRY_INFO!U133=\"Unknown\",COUNTRY_INFO!U133=\"Surveillance\",COUNTRY_INFO!U133=\"Not required\",COUNTRY_INFO!U133=0),0,IF($D133<>0, COUNTRY_INFO!U133,0))","v":0},0,null,null,0,null,null,{"$f":"IF($I133<>\"Yes\",$F133*2,($F133+ROUND(J133*$F133/SUM(COUNTRY_INFO!$E133:$G133),0))*2)","v":0},{"$f":"IF($I133<>\"Yes\",$G133*3,($G133+ROUND(J133*$G133/SUM(COUNTRY_INFO!$E133:$G133),0))*3)","v":0},0,null,0]
[{"$f":"IF(INTRO!$E$43=\"Non-endemic\",\" \", IF(COUNTRY_INFO!A134=0,\" \",COUNTRY_INFO!A134))","v":"Tchad"},{"$f":"IF(INTRO!$E$43=\"Non-endemic\",\" \", IF(COUNTRY_INFO!B134=0,\" \",COUNTRY_INFO!B134))","v":"Wadi Fira"},{"$f":"IF(INTRO!$E$43=\"Non-endemic\",\" \", IF(COUNTRY_INFO!C134=0,\" \",COUNTRY_INFO!C134))","v":"amzoer"},{"$f":"IF(INTRO!$E$43=\"Non-endemic\", \"Not required\", COUNTRY_INFO!Z134)","v":0},{"$f":"IF(OR(COUNTRY_INFO!S134=\"Unknown\",COUNTRY_INFO!S134=\"Surveillance\",COUNTRY_INFO!S134=\"Not required\",COUNTRY_INFO!S134=0),0,IF($D134<>0, COUNTRY_INFO!S134,0))","v":0},{"$f":"IF(OR(COUNTRY_INFO!T134=\"Unknown\",COUNTRY_INFO!T134=\"Surveillance\",COUNTRY_INFO!T134=\"Not required\",COUNTRY_INFO!T134=0),0,IF($D134<>0, COUNTRY_INFO!T134,0))","v":0},{"$f":"IF(OR(COUNTRY_INFO!U134=\"Unknown\",COUNTRY_INFO!U134=\"Surveillance\",COUNTRY_INFO!U134=\"Not required\",COUNTRY_INFO!U134=0),0,IF($D134<>0, COUNTRY_INFO!U134,0))","v":0},0,null,null,0,null,null,{"$f":"IF($I134<>\"Yes\",$F134*2,($F134+ROUND(J134*$F134/SUM(COUNTRY_INFO!$E134:$G134),0))*2)","v":0},{"$f":"IF($I134<>\"Yes\",$G134*3,($G134+ROUND(J134*$G134/SUM(COUNTRY_INFO!$E134:$G134),0))*3)","v":0},0,null,0]
[{"$f":"IF(INTRO!$E$43=\"Non-endemic\",\" \", IF(COUNTRY_INFO!A135=0,\" \",COUNTRY_INFO!A135))","v":"Tchad"},{"$f":"IF(INTRO!$E$43=\"Non-endemic\",\" \", IF(COUNTRY_INFO!B135=0,\" \",COUNTRY_INFO!B135))","v":"Wadi Fira"},{"$f":"IF(INTRO!$E$43=\"Non-endemic\",\" \", IF(COUNTRY_INFO!C135=0,\" \",COUNTRY_INFO!C135))","v":"Arada"},{"$f":"IF(INTRO!$E$43=\"Non-endemic\", \"Not required\", COUNTRY_INFO!Z135)","v":0},{"$f":"IF(OR(COUNTRY_INFO!S135=\"Unknown\",COUNTRY_INFO!S135=\"Surveillance\",COUNTRY_INFO!S135=\"Not required\",COUNTRY_INFO!S135=0),0,IF($D135<>0, COUNTRY_INFO!S135,0))","v":0},{"$f":"IF(OR(COUNTRY_INFO!T135=\"Unknown\",COUNTRY_INFO!T135=\"Surveillance\",COUNTRY_INFO!T135=\"Not required\",COUNTRY_INFO!T135=0),0,IF($D135<>0, COUNTRY_INFO!T135,0))","v":0},{"$f":"IF(OR(COUNTRY_INFO!U135=\"Unknown\",COUNTRY_INFO!U135=\"Surveillance\",COUNTRY_INFO!U135=\"Not required\",COUNTRY_INFO!U135=0),0,IF($D135<>0, COUNTRY_INFO!U135,0))","v":0},0,null,null,0,null,null,{"$f":"IF($I135<>\"Yes\",$F135*2,($F135+ROUND(J135*$F135/SUM(COUNTRY_INFO!$E135:$G135),0))*2)","v":0},{"$f":"IF($I135<>\"Yes\",$G135*3,($G135+ROUND(J135*$G135/SUM(COUNTRY_INFO!$E135:$G135),0))*3)","v":0},0,null,0]
[{"$f":"IF(INTRO!$E$43=\"Non-endemic\",\" \", IF(COUNTRY_INFO!A136=0,\" \",COUNTRY_INFO!A136))","v":"Tchad"},{"$f":"IF(INTRO!$E$43=\"Non-endemic\",\" \", IF(COUNTRY_INFO!B136=0,\" \",COUNTRY_INFO!B136))","v":"Wadi Fira"},{"$f":"IF(INTRO!$E$43=\"Non-endemic\",\" \", IF(COUNTRY_INFO!C136=0,\" \",COUNTRY_INFO!C136))","v":"Biltine"},{"$f":"IF(INTRO!$E$43=\"Non-endemic\", \"Not required\", COUNTRY_INFO!Z136)","v":0},{"$f":"IF(OR(COUNTRY_INFO!S136=\"Unknown\",COUNTRY_INFO!S136=\"Surveillance\",COUNTRY_INFO!S136=\"Not required\",COUNTRY_INFO!S136=0),0,IF($D136<>0, COUNTRY_INFO!S136,0))","v":0},{"$f":"IF(OR(COUNTRY_INFO!T136=\"Unknown\",COUNTRY_INFO!T136=\"Surveillance\",COUNTRY_INFO!T136=\"Not required\",COUNTRY_INFO!T136=0),0,IF($D136<>0, COUNTRY_INFO!T136,0))","v":0},{"$f":"IF(OR(COUNTRY_INFO!U136=\"Unknown\",COUNTRY_INFO!U136=\"Surveillance\",COUNTRY_INFO!U136=\"Not required\",COUNTRY_INFO!U136=0),0,IF($D136<>0, COUNTRY_INFO!U136,0))","v":0},0,null,null,0,null,null,{"$f":"IF($I136<>\"Yes\",$F136*2,($F136+ROUND(J136*$F136/SUM(COUNTRY_INFO!$E136:$G136),0))*2)","v":0},{"$f":"IF($I136<>\"Yes\",$G136*3,($G136+ROUND(J136*$G136/SUM(COUNTRY_INFO!$E136:$G136),0))*3)","v":0},0,null,0]
[{"$f":"IF(INTRO!$E$43=\"Non-endemic\",\" \", IF(COUNTRY_INFO!A137=0,\" \",COUNTRY_INFO!A137))","v":"Tchad"},{"$f":"IF(INTRO!$E$43=\"Non-endemic\",\" \", IF(COUNTRY_INFO!B137=0,\" \",COUNTRY_INFO!B137))","v":"Wadi Fira"},{"$f":"IF(INTRO!$E$43=\"Non-endemic\",\" \", IF(COUNTRY_INFO!C137=0,\" \",COUNTRY_INFO!C137))","v":"Guéréda"},{"$f":"IF(INTRO!$E$43=\"Non-endemic\", \"Not required\", COUNTRY_INFO!Z137)","v":0},{"$f":"IF(OR(COUNTRY_INFO!S137=\"Unknown\",COUNTRY_INFO!S137=\"Surveillance\",COUNTRY_INFO!S137=\"Not required\",COUNTRY_INFO!S137=0),0,IF($D137<>0, COUNTRY_INFO!S137,0))","v":0},{"$f":"IF(OR(COUNTRY_INFO!T137=\"Unknown\",COUNTRY_INFO!T137=\"Surveillance\",COUNTRY_INFO!T137=\"Not required\",COUNTRY_INFO!T137=0),0,IF($D137<>0, COUNTRY_INFO!T137,0))","v":0},{"$f":"IF(OR(COUNTRY_INFO!U137=\"Unknown\",COUNTRY_INFO!U137=\"Surveillance\",COUNTRY_INFO!U137=\"Not required\",COUNTRY_INFO!U137=0),0,IF($D137<>0, COUNTRY_INFO!U137,0))","v":0},0,null,null,0,null,null,{"$f":"IF($I137<>\"Yes\",$F137*2,($F137+ROUND(J137*$F137/SUM(COUNTRY_INFO!$E137:$G137),0))*2)","v":0},{"$f":"IF($I137<>\"Yes\",$G137*3,($G137+ROUND(J137*$G137/SUM(COUNTRY_INFO!$E137:$G137),0))*3)","v":0},0,null,0]
[{"$f":"IF(INTRO!$E$43=\"Non-endemic\",\" \", IF(COUNTRY_INFO!A138=0,\" \",COUNTRY_INFO!A138))","v":"Tchad"},{"$f":"IF(INTRO!$E$43=\"Non-endemic\",\" \", IF(COUNTRY_INFO!B138=0,\" \",COUNTRY_INFO!B138))","v":"Wadi Fira"},{"$f":"IF(INTRO!$E$43=\"Non-endemic\",\" \", IF(COUNTRY_INFO!C138=0,\" \",COUNTRY_INFO!C138))","v":"Iriba"},{"$f":"IF(INTRO!$E$43=\"Non-endemic\", \"Not required\", COUNTRY_INFO!Z138)","v":0},{"$f":"IF(OR(COUNTRY_INFO!S138=\"Unknown\",COUNTRY_INFO!S138=\"Surveillance\",COUNTRY_INFO!S138=\"Not required\",COUNTRY_INFO!S138=0),0,IF($D138<>0, COUNTRY_INFO!S138,0))","v":0},{"$f":"IF(OR(COUNTRY_INFO!T138=\"Unknown\",COUNTRY_INFO!T138=\"Surveillance\",COUNTRY_INFO!T138=\"Not required\",COUNTRY_INFO!T138=0),0,IF($D138<>0, COUNTRY_INFO!T138,0))","v":0},{"$f":"IF(OR(COUNTRY_INFO!U138=\"Unknown\",COUNTRY_INFO!U138=\"Surveillance\",COUNTRY_INFO!U138=\"Not required\",COUNTRY_INFO!U138=0),0,IF($D138<>0, COUNTRY_INFO!U138,0))","v":0},0,null,null,0,null,null,{"$f":"IF($I138<>\"Yes\",$F138*2,($F138+ROUND(J138*$F138/SUM(COUNTRY_INFO!$E138:$G138),0))*2)","v":0},{"$f":"IF($I138<>\"Yes\",$G138*3,($G138+ROUND(J138*$G138/SUM(COUNTRY_INFO!$E138:$G138),0))*3)","v":0},0,null,0]
[{"$f":"IF(INTRO!$E$43=\"Non-endemic\",\" \", IF(COUNTRY_INFO!A139=0,\" \",COUNTRY_INFO!A139))","v":"Tchad"},{"$f":"IF(INTRO!$E$43=\"Non-endemic\",\" \", IF(COUNTRY_INFO!B139=0,\" \",COUNTRY_INFO!B139))","v":"Wadi Fira"},{"$f":"IF(INTRO!$E$43=\"Non-endemic\",\" \", IF(COUNTRY_INFO!C139=0,\" \",COUNTRY_INFO!C139))","v":"Matadjana"},{"$f":"IF(INTRO!$E$43=\"Non-endemic\", \"Not required\", COUNTRY_INFO!Z139)","v":0},{"$f":"IF(OR(COUNTRY_INFO!S139=\"Unknown\",COUNTRY_INFO!S139=\"Surveillance\",COUNTRY_INFO!S139=\"Not required\",COUNTRY_INFO!S139=0),0,IF($D139<>0, COUNTRY_INFO!S139,0))","v":0},{"$f":"IF(OR(COUNTRY_INFO!T139=\"Unknown\",COUNTRY_INFO!T139=\"Surveillance\",COUNTRY_INFO!T139=\"Not required\",COUNTRY_INFO!T139=0),0,IF($D139<>0, COUNTRY_INFO!T139,0))","v":0},{"$f":"IF(OR(COUNTRY_INFO!U139=\"Unknown\",COUNTRY_INFO!U139=\"Surveillance\",COUNTRY_INFO!U139=\"Not required\",COUNTRY_INFO!U139=0),0,IF($D139<>0, COUNTRY_INFO!U139,0))","v":0},{"$f":"SUM(E139:G139)","v":0},null,null,0,null,null,{"$f":"IF($I139<>\"Yes\",$F139*2,($F139+ROUND(J139*$F139/SUM(COUNTRY_INFO!$E139:$G139),0))*2)","v":0},{"$f":"IF($I139<>\"Yes\",$G139*3,($G139+ROUND(J139*$G139/SUM(COUNTRY_INFO!$E139:$G139),0))*3)","v":0},{"$f":"SUM(M139:O139)","v":0},null,{"$f":"IF($P139>$Q139,P139-Q139,0)","v":0}]

{"sheet":"IVM","index":4,"n_rows":139,"n_cols":14,"rows_kept":139,"cut":false,"hidden":false,"merged":[[6,7,7,7],[6,9,7,9],[6,10,7,10],[6,11,7,11],[3,0,3,2],[3,4,3,5],[6,4,7,4],[6,5,7,5],[5,8,5,13],[6,0,7,0],[6,1,7,1],[6,2,7,2],[5,0,5,2],[5,4,5,5],[5,6,5,7],[6,12,7,12],[5,3,7,3],[6,13,7,13],[6,8,7,8],[6,6,7,6]]}
["Ivermectin (IVM)"]
["Administrative structure, eligible population by age group, treatment plan and information about tablets"]
[]
["TOTAL",null,null,{"$f":"SUBTOTAL(9,D$10:D$1010)","v":5748098},null,null,{"$f":"SUBTOTAL(9,G$10:G$1010)","v":2654318},5181754,1585763.2,8662583.9999999981,5846327.1999999993,16094674.399999999,0,16094674.399999999]
[]
["Country administrative structure",null,null,"Population requiring treatment with IVM","Treatment plan",null,"Target population",null,"Ivermectin (IVM)"]
["Country","Province/State","District",null,"LF","Oncho","LF","Oncho","LF only","Oncho only","LF+Oncho","Total required","Remaining in stock","Tablets to be procured"]
[]
[]
[{"$f":"IF(INTRO!$E$39=\"Non-endemic\",\" \",IF(COUNTRY_INFO!A10=0,\" \",COUNTRY_INFO!A10))","v":"Tchad"},{"$f":"IF(INTRO!$E$39=\"Non-endemic\",\" \",IF(COUNTRY_INFO!B10=0,\" \",COUNTRY_INFO!B10))","v":"Bahr El Gazel"},{"$f":"IF(INTRO!$E$39=\"Non-endemic\",\" \",IF(COUNTRY_INFO!C10=0,\" \",COUNTRY_INFO!C10))","v":"Chadra"},{"$f":"IF(INTRO!$E$39=\"Non-endemic\",0,IF(INTRO!$E$39=\"Endemic but PC is not required\",IF(COUNTRY_INFO!$H10=1,COUNTRY_INFO!F10+COUNTRY_INFO!G10,0),IF(COUNTRY_INFO!$H10=1,COUNTRY_INFO!F10+COUNTRY_INFO!G10,IF(COUNTRY_INFO!$I10=1,IF(COUNTRY_INFO!N10>=(COUNTRY_INFO!F10+COUNTRY_INFO!G10),COUNTRY_INFO!F10+COUNTRY_INFO!G10,COUNTRY_INFO!$N10),0))))","v":0},{"$f":"IF(AND(INTRO!$E$39=\"Non-endemic\",INTRO!$E$37=\"Non-endemic\"),\"Not required\",IF(INTRO!$E$39=\"Non-endemic\",\"Treat with DEC\",COUNTRY_INFO!W10))","v":0},{"$f":"IF(INTRO!$E$39<>\"Non-endemic\",COUNTRY_INFO!X10,\"Not required\")","v":0},{"$f":"IF(COUNTRY_INFO!H10=1, IF($E10=1,IF(ALB_MBD!$G10<>\" \",COUNTRY_INFO!F10+COUNTRY_INFO!G10-ALB_MBD!$G10,COUNTRY_INFO!F10+COUNTRY_INFO!G10), 0),0)","v":0},{"$f":"IF(INTRO!$E$39<>\"Endemic\",0, IF(AND(COUNTRY_INFO!$I10=1,$F10<>0),IF(COUNTRY_INFO!N10>=(COUNTRY_INFO!F10+COUNTRY_INFO!G10),COUNTRY_INFO!F10+COUNTRY_INFO!G10,COUNTRY_INFO!$N10), 0))","v":0},{"$f":"IF(G10<H10,0,IF($E10=1, (G10-H10)*2.8, 0))","v":0},{"$f":"IF($E10<$F10, H10*(F10-E10)*2.8, 0)","v":0},{"$f":"IF(AND($E10=1, $F10<>0), H10*2.8, 0)","v":0},{"$f":"SUM(I10:K10)","v":0},null,{"$f":"IF($L10>$M10,$L10-$M10,0)","v":0}]
[{"$f":"IF(INTRO!$E$39=\"Non-endemic\",\" \",IF(COUNTRY_INFO!A11=0,\" \",COUNTRY_INFO!A11))","v":"Tchad"},{"$f":"IF(INTRO!$E$39=\"Non-endemic\",\" \",IF(COUNTRY_INFO!B11=0,\" \",COUNTRY_INFO!B11))","v":"Bahr El Gazel"},{"$f":"IF(INTRO!$E$39=\"Non-endemic\",\" \",IF(COUNTRY_INFO!C11=0,\" \",COUNTRY_INFO!C11))","v":"Michemire"},{"$f":"IF(INTRO!$E$39=\"Non-endemic\",0,IF(INTRO!$E$39=\"Endemic but PC is not required\",IF(COUNTRY_INFO!$H11=1,COUNTRY_INFO!F11+COUNTRY_INFO!G11,0),IF(COUNTRY_INFO!$H11=1,COUNTRY_INFO!F11+COUNTRY_INFO!G11,IF(COUNTRY_INFO!$I11=1,IF(COUNTRY_INFO!N11>=(COUNTRY_INFO!F11+COUNTRY_INFO!G11),COUNTRY_INFO!F11+COUNTRY_INFO!G11,COUNTRY_INFO!$N11),0))))","v":0},{"$f":"IF(AND(INTRO!$E$39=\"Non-endemic\",INTRO!$E$37=\"Non-endemic\"),\"Not required\",IF(INTRO!$E$39=\"Non-endemic\",\"Treat with DEC\",COUNTRY_INFO!W11))","v":0},{"$f":"IF(INTRO!$E$39<>\"Non-endemic\",COUNTRY_INFO!X11,\"Not required\")","v":0},{"$f":"IF(COUNTRY_INFO!H11=1, IF($E11=1,IF(ALB_MBD!$G11<>\" \",COUNTRY_INFO!F11+COUNTRY_INFO!G11-ALB_MBD!$G11,COUNTRY_INFO!F11+COUNTRY_INFO!G11), 0),0)","v":0},{"$f":"IF(INTRO!$E$39<>\"Endemic\",0, IF(AND(COUNTRY_INFO!$I11=1,$F11<>0),IF(COUNTRY_INFO!N11>=(COUNTRY_INFO!F11+COUNTRY_INFO!G11),COUNTRY_INFO!F11+COUNTRY_INFO!G11,COUNTRY_INFO!$N11), 0))","v":0},{"$f":"IF(G11<H11,0,IF($E11=1, (G11-H11)*2.8, 0))","v":0},{"$f":"IF($E11<$F11, H11*(F11-E11)*2.8, 0)","v":0},{"$f":"IF(AND($E11=1, $F11<>0), H11*2.8, 0)","v":0},{"$f":"SUM(I11:K11)","v":0},null,0]
[{"$f":"IF(INTRO!$E$39=\"Non-endemic\",\" \",IF(COUNTRY_INFO!A12=0,\" \",COUNTRY_INFO!A12))","v":"Tchad"},{"$f":"IF(INTRO!$E$39=\"Non-endemic\",\" \",IF(COUNTRY_INFO!B12=0,\" \",COUNTRY_INFO!B12))","v":"Bahr El Gazel"},{"$f":"IF(INTRO!$E$39=\"Non-endemic\",\" \",IF(COUNTRY_INFO!C12=0,\" \",COUNTRY_INFO!C12))","v":"Moussoro"},{"$f":"IF(INTRO!$E$39=\"Non-endemic\",0,IF(INTRO!$E$39=\"Endemic but PC is not required\",IF(COUNTRY_INFO!$H12=1,COUNTRY_INFO!F12+COUNTRY_INFO!G12,0),IF(COUNTRY_INFO!$H12=1,COUNTRY_INFO!F12+COUNTRY_INFO!G12,IF(COUNTRY_INFO!$I12=1,IF(COUNTRY_INFO!N12>=(COUNTRY_INFO!F12+COUNTRY_INFO!G12),COUNTRY_INFO!F12+COUNTRY_INFO!G12,COUNTRY_INFO!$N12),0))))","v":0},{"$f":"IF(AND(INTRO!$E$39=\"Non-endemic\",INTRO!$E$37=\"Non-endemic\"),\"Not required\",IF(INTRO!$E$39=\"Non-endemic\",\"Treat with DEC\",COUNTRY_INFO!W12))","v":0},{"$f":"IF(INTRO!$E$39<>\"Non-endemic\",COUNTRY_INFO!X12,\"Not required\")","v":0},{"$f":"IF(COUNTRY_INFO!H12=1, IF($E12=1,IF(ALB_MBD!$G12<>\" \",COUNTRY_INFO!F12+COUNTRY_INFO!G12-ALB_MBD!$G12,COUNTRY_INFO!F12+COUNTRY_INFO!G12), 0),0)","v":0},{"$f":"IF(INTRO!$E$39<>\"Endemic\",0, IF(AND(COUNTRY_INFO!$I12=1,$F12<>0),IF(COUNTRY_INFO!N12>=(COUNTRY_INFO!F12+COUNTRY_INFO!G12),COUNTRY_INFO!F12+COUNTRY_INFO!G12,COUNTRY_INFO!$N12), 0))","v":0},0,0,0,0,null,0]
[{"$f":"IF(INTRO!$E$39=\"Non-endemic\",\" \",IF(COUNTRY_INFO!A13=0,\" \",COUNTRY_INFO!A13))","v":"Tchad"},{"$f":"IF(INTRO!$E$39=\"Non-endemic\",\" \",IF(COUNTRY_INFO!B13=0,\" \",COUNTRY_INFO!B13))","v":"Bahr El Gazel"},{"$f":"IF(INTRO!$E$39=\"Non-endemic\",\" \",IF(COUNTRY_INFO!C13=0,\" \",COUNTRY_INFO!C13))","v":"Salal"},{"$f":"IF(INTRO!$E$39=\"Non-endemic\",0,IF(INTRO!$E$39=\"Endemic but PC is not required\",IF(COUNTRY_INFO!$H13=1,COUNTRY_INFO!F13+COUNTRY_INFO!G13,0),IF(COUNTRY_INFO!$H13=1,COUNTRY_INFO!F13+COUNTRY_INFO!G13,IF(COUNTRY_INFO!$I13=1,IF(COUNTRY_INFO!N13>=(COUNTRY_INFO!F13+COUNTRY_INFO!G13),COUNTRY_INFO!F13+COUNTRY_INFO!G13,COUNTRY_INFO!$N13),0))))","v":0},{"$f":"IF(AND(INTRO!$E$39=\"Non-endemic\",INTRO!$E$37=\"Non-endemic\"),\"Not required\",IF(INTRO!$E$39=\"Non-endemic\",\"Treat with DEC\",COUNTRY_INFO!W13))","v":0},{"$f":"IF(INTRO!$E$39<>\"Non-endemic\",COUNTRY_INFO!X13,\"Not required\")","v":0},{"$f":"IF(COUNTRY_INFO!H13=1, IF($E13=1,IF(ALB_MBD!$G13<>\" \",COUNTRY_INFO!F13+COUNTRY_INFO!G13-ALB_MBD!$G13,COUNTRY_INFO!F13+COUNTRY_INFO!G13), 0),0)","v":0},{"$f":"IF(INTRO!$E$39<>\"Endemic\",0, IF(AND(COUNTRY_INFO!$I13=1,$F13<>0),IF(COUNTRY_INFO!N13>=(COUNTRY_INFO!F13+COUNTRY_INFO!G13),COUNTRY_INFO!F13+COUNTRY_INFO!G13,COUNTRY_INFO!$N13), 0))","v":0},0,0,0,0,null,0]
[{"$f":"IF(INTRO!$E$39=\"Non-endemic\",\" \",IF(COUNTRY_INFO!A14=0,\" \",COUNTRY_INFO!A14))","v":"Tchad"},{"$f":"IF(INTRO!$E$39=\"Non-endemic\",\" \",IF(COUNTRY_INFO!B14=0,\" \",COUNTRY_INFO!B14))","v":"Batha"},{"$f":"IF(INTRO!$E$39=\"Non-endemic\",\" \",IF(COUNTRY_INFO!C14=0,\" \",COUNTRY_INFO!C14))","v":"Alifa"},{"$f":"IF(INTRO!$E$39=\"Non-endemic\",0,IF(INTRO!$E$39=\"Endemic but PC is not required\",IF(COUNTRY_INFO!$H14=1,COUNTRY_INFO!F14+COUNTRY_INFO!G14,0),IF(COUNTRY_INFO!$H14=1,COUNTRY_INFO!F14+COUNTRY_INFO!G14,IF(COUNTRY_INFO!$I14=1,IF(COUNTRY_INFO!N14>=(COUNTRY_INFO!F14+COUNTRY_INFO!G14),COUNTRY_INFO!F14+COUNTRY_INFO!G14,COUNTRY_INFO!$N14),0))))","v":0},{"$f":"IF(AND(INTRO!$E$39=\"Non-endemic\",INTRO!$E$37=\"Non-endemic\"),\"Not required\",IF(INTRO!$E$39=\"Non-endemic\",\"Treat with DEC\",COUNTRY_INFO!W14))","v":0},{"$f":"IF(INTRO!$E$39<>\"Non-endemic\",COUNTRY_INFO!X14,\"Not required\")","v":0},{"$f":"IF(COUNTRY_INFO!H14=1, IF($E14=1,IF(ALB_MBD!$G14<>\" \",COUNTRY_INFO!F14+COUNTRY_INFO!G14-ALB_MBD!$G14,COUNTRY_INFO!F14+COUNTRY_INFO!G14), 0),0)","v":0},{"$f":"IF(INTRO!$E$39<>\"Endemic\",0, IF(AND(COUNTRY_INFO!$I14=1,$F14<>0),IF(COUNTRY_INFO!N14>=(COUNTRY_INFO!F14+COUNTRY_INFO!G14),COUNTRY_INFO!F14+COUNTRY_INFO!G14,COUNTRY_INFO!$N14), 0))","v":0},0,0,0,0,null,0]
[{"$f":"IF(INTRO!$E$39=\"Non-endemic\",\" \",IF(COUNTRY_INFO!A15=0,\" \",COUNTRY_INFO!A15))","v":"Tchad"},{"$f":"IF(INTRO!$E$39=\"Non-endemic\",\" \",IF(COUNTRY_INFO!B15=0,\" \",COUNTRY_INFO!B15))","v":"Batha"},{"$f":"IF(INTRO!$E$39=\"Non-endemic\",\" \",IF(COUNTRY_INFO!C15=0,\" \",COUNTRY_INFO!C15))","v":"Assinet"},{"$f":"IF(INTRO!$E$39=\"Non-endemic\",0,IF(INTRO!$E$39=\"Endemic but PC is not required\",IF(COUNTRY_INFO!$H15=1,COUNTRY_INFO!F15+COUNTRY_INFO!G15,0),IF(COUNTRY_INFO!$H15=1,COUNTRY_INFO!F15+COUNTRY_INFO!G15,IF(COUNTRY_INFO!$I15=1,IF(COUNTRY_INFO!N15>=(COUNTRY_INFO!F15+COUNTRY_INFO!G15),COUNTRY_INFO!F15+COUNTRY_INFO!G15,COUNTRY_INFO!$N15),0))))","v":0},{"$f":"IF(AND(INTRO!$E$39=\"Non-endemic\",INTRO!$E$37=\"Non-endemic\"),\"Not required\",IF(INTRO!$E$39=\"Non-endemic\",\"Treat with DEC\",COUNTRY_INFO!W15))","v":0},{"$f":"IF(INTRO!$E$39<>\"Non-endemic\",COUNTRY_INFO!X15,\"Not required\")","v":0},{"$f":"IF(COUNTRY_INFO!H15=1, IF($E15=1,IF(ALB_MBD!$G15<>\" \",COUNTRY_INFO!F15+COUNTRY_INFO!G15-ALB_MBD!$G15,COUNTRY_INFO!F15+COUNTRY_INFO!G15), 0),0)","v":0},{"$f":"IF(INTRO!$E$39<>\"Endemic\",0, IF(AND(COUNTRY_INFO!$I15=1,$F15<>0),IF(COUNTRY_INFO!N15>=(COUNTRY_INFO!F15+COUNTRY_INFO!G15),COUNTRY_INFO!F15+COUNTRY_INFO!G15,COUNTRY_INFO!$N15), 0))","v":0},0,0,0,0,null,0]
[{"$f":"IF(INTRO!$E$39=\"Non-endemic\",\" \",IF(COUNTRY_INFO!A16=0,\" \",COUNTRY_INFO!A16))","v":"Tchad"},{"$f":"IF(INTRO!$E$39=\"Non-endemic\",\" \",IF(COUNTRY_INFO!B16=0,\" \",COUNTRY_INFO!B16))","v":"Batha"},{"$f":"IF(INTRO!$E$39=\"Non-endemic\",\" \",IF(COUNTRY_INFO!C16=0,\" \",COUNTRY_INFO!C16))","v":"Ati"},{"$f":"IF(INTRO!$E$39=\"Non-endemic\",0,IF(INTRO!$E$39=\"Endemic but PC is not required\",IF(COUNTRY_INFO!$H16=1,COUNTRY_INFO!F16+COUNTRY_INFO!G16,0),IF(COUNTRY_INFO!$H16=1,COUNTRY_INFO!F16+COUNTRY_INFO!G16,IF(COUNTRY_INFO!$I16=1,IF(COUNTRY_INFO!N16>=(COUNTRY_INFO!F16+COUNTRY_INFO!G16),COUNTRY_INFO!F16+COUNTRY_INFO!G16,COUNTRY_INFO!$N16),0))))","v":0},{"$f":"IF(AND(INTRO!$E$39=\"Non-endemic\",INTRO!$E$37=\"Non-endemic\"),\"Not required\",IF(INTRO!$E$39=\"Non-endemic\",\"Treat with DEC\",COUNTRY_INFO!W16))","v":0},{"$f":"IF(INTRO!$E$39<>\"Non-endemic\",COUNTRY_INFO!X16,\"Not required\")","v":0},{"$f":"IF(COUNTRY_INFO!H16=1, IF($E16=1,IF(ALB_MBD!$G16<>\" \",COUNTRY_INFO!F16+COUNTRY_INFO!G16-ALB_MBD!$G16,COUNTRY_INFO!F16+COUNTRY_INFO!G16), 0),0)","v":0},{"$f":"IF(INTRO!$E$39<>\"Endemic\",0, IF(AND(COUNTRY_INFO!$I16=1,$F16<>0),IF(COUNTRY_INFO!N16>=(COUNTRY_INFO!F16+COUNTRY_INFO!G16),COUNTRY_INFO!F16+COUNTRY_INFO!G16,COUNTRY_INFO!$N16), 0))","v":0},0,0,0,0,null,0]
[{"$f":"IF(INTRO!$E$39=\"Non-endemic\",\" \",IF(COUNTRY_INFO!A17=0,\" \",COUNTRY_INFO!A17))","v":"Tchad"},{"$f":"IF(INTRO!$E$39=\"Non-endemic\",\" \",IF(COUNTRY_INFO!B17=0,\" \",COUNTRY_INFO!B17))","v":"Batha"},{"$f":"IF(INTRO!$E$39=\"Non-endemic\",\" \",IF(COUNTRY_INFO!C17=0,\" \",COUNTRY_INFO!C17))","v":"Djedda"},{"$f":"IF(INTRO!$E$39=\"Non-endemic\",0,IF(INTRO!$E$39=\"Endemic but PC is not required\",IF(COUNTRY_INFO!$H17=1,COUNTRY_INFO!F17+COUNTRY_INFO!G17,0),IF(COUNTRY_INFO!$H17=1,COUNTRY_INFO!F17+COUNTRY_INFO!G17,IF(COUNTRY_INFO!$I17=1,IF(COUNTRY_INFO!N17>=(COUNTRY_INFO!F17+COUNTRY_INFO!G17),COUNTRY_INFO!F17+COUNTRY_INFO!G17,COUNTRY_INFO!$N17),0))))","v":0},{"$f":"IF(AND(INTRO!$E$39=\"Non-endemic\",INTRO!$E$37=\"Non-endemic\"),\"Not required\",IF(INTRO!$E$39=\"Non-endemic\",\"Treat with DEC\",COUNTRY_INFO!W17))","v":0},{"$f":"IF(INTRO!$E$39<>\"Non-endemic\",COUNTRY_INFO!X17,\"Not required\")","v":0},{"$f":"IF(COUNTRY_INFO!H17=1, IF($E17=1,IF(ALB_MBD!$G17<>\" \",COUNTRY_INFO!F17+COUNTRY_INFO!G17-ALB_MBD!$G17,COUNTRY_INFO!F17+COUNTRY_INFO!G17), 0),0)","v":0},{"$f":"IF(INTRO!$E$39<>\"Endemic\",0, IF(AND(COUNTRY_INFO!$I17=1,$F17<>0),IF(COUNTRY_INFO!N17>=(COUNTRY_INFO!F17+COUNTRY_INFO!G17),COUNTRY_INFO!F17+COUNTRY_INFO!G17,COUNTRY_INFO!$N17), 0))","v":0},0,0,0,0,null,0]
[{"$f":"IF(INTRO!$E$39=\"Non-endemic\",\" \",IF(COUNTRY_INFO!A18=0,\" \",COUNTRY_INFO!A18))","v":"Tchad"},{"$f":"IF(INTRO!$E$39=\"Non-endemic\",\" \",IF(COUNTRY_INFO!B18=0,\" \",COUNTRY_INFO!B18))","v":"Batha"},{"$f":"IF(INTRO!$E$39=\"Non-endemic\",\" \",IF(COUNTRY_INFO!C18=0,\" \",COUNTRY_INFO!C18))","v":"Koundjourou"},{"$f":"IF(INTRO!$E$39=\"Non-endemic\",0,IF(INTRO!$E$39=\"Endemic but PC is not required\",IF(COUNTRY_INFO!$H18=1,COUNTRY_INFO!F18+COUNTRY_INFO!G18,0),IF(COUNTRY_INFO!$H18=1,COUNTRY_INFO!F18+COUNTRY_INFO!G18,IF(COUNTRY_INFO!$I18=1,IF(COUNTRY_INFO!N18>=(COUNTRY_INFO!F18+COUNTRY_INFO!G18),COUNTRY_INFO!F18+COUNTRY_INFO!G18,COUNTRY_INFO!$N18),0))))","v":0},{"$f":"IF(AND(INTRO!$E$39=\"Non-endemic\",INTRO!$E$37=\"Non-endemic\"),\"Not required\",IF(INTRO!$E$39=\"Non-endemic\",\"Treat with DEC\",COUNTRY_INFO!W18))","v":0},{"$f":"IF(INTRO!$E$39<>\"Non-endemic\",COUNTRY_INFO!X18,\"Not required\")","v":0},{"$f":"IF(COUNTRY_INFO!H18=1, IF($E18=1,IF(ALB_MBD!$G18<>\" \",COUNTRY_INFO!F18+COUNTRY_INFO!G18-ALB_MBD!$G18,COUNTRY_INFO!F18+COUNTRY_INFO!G18), 0),0)","v":0},{"$f":"IF(INTRO!$E$39<>\"Endemic\",0, IF(AND(COUNTRY_INFO!$I18=1,$F18<>0),IF(COUNTRY_INFO!N18>=(COUNTRY_INFO!F18+COUNTRY_INFO!G18),COUNTRY_INFO!F18+COUNTRY_INFO!G18,COUNTRY_INFO!$N18), 0))","v":0},0,0,0,0,null,0]
[{"$f":"IF(INTRO!$E$39=\"Non-endemic\",\" \",IF(COUNTRY_INFO!A19=0,\" \",COUNTRY_INFO!A19))","v":"Tchad"},{"$f":"IF(INTRO!$E$39=\"Non-endemic\",\" \",IF(COUNTRY_INFO!B19=0,\" \",COUNTRY_INFO!B19))","v":"Batha"},{"$f":"IF(INTRO!$E$39=\"Non-endemic\",\" \",IF(COUNTRY_INFO!C19=0,\" \",COUNTRY_INFO!C19))","v":"Oum-Hadjer"},{"$f":"IF(INTRO!$E$39=\"Non-endemic\",0,IF(INTRO!$E$39=\"Endemic but PC is not required\",IF(COUNTRY_INFO!$H19=1,COUNTRY_INFO!F19+COUNTRY_INFO!G19,0),IF(COUNTRY_INFO!$H19=1,COUNTRY_INFO!F19+COUNTRY_INFO!G19,IF(COUNTRY_INFO!$I19=1,IF(COUNTRY_INFO!N19>=(COUNTRY_INFO!F19+COUNTRY_INFO!G19),COUNTRY_INFO!F19+COUNTRY_INFO!G19,COUNTRY_INFO!$N19),0))))","v":0},{"$f":"IF(AND(INTRO!$E$39=\"Non-endemic\",INTRO!$E$37=\"Non-endemic\"),\"Not required\",IF(INTRO!$E$39=\"Non-endemic\",\"Treat with DEC\",COUNTRY_INFO!W19))","v":0},{"$f":"IF(INTRO!$E$39<>\"Non-endemic\",COUNTRY_INFO!X19,\"Not required\")","v":0},{"$f":"IF(COUNTRY_INFO!H19=1, IF($E19=1,IF(ALB_MBD!$G19<>\" \",COUNTRY_INFO!F19+COUNTRY_INFO!G19-ALB_MBD!$G19,COUNTRY_INFO!F19+COUNTRY_INFO!G19), 0),0)","v":0},{"$f":"IF(INTRO!$E$39<>\"Endemic\",0, IF(AND(COUNTRY_INFO!$I19=1,$F19<>0),IF(COUNTRY_INFO!N19>=(COUNTRY_INFO!F19+COUNTRY_INFO!G19),COUNTRY_INFO!F19+COUNTRY_INFO!G19,COUNTRY_INFO!$N19), 0))","v":0},0,0,0,0,null,0]
[{"$f":"IF(INTRO!$E$39=\"Non-endemic\",\" \",IF(COUNTRY_INFO!A20=0,\" \",COUNTRY_INFO!A20))","v":"Tchad"},{"$f":"IF(INTRO!$E$39=\"Non-endemic\",\" \",IF(COUNTRY_INFO!B20=0,\" \",COUNTRY_INFO!B20))","v":"Batha"},{"$f":"IF(INTRO!$E$39=\"Non-endemic\",\" \",IF(COUNTRY_INFO!C20=0,\" \",COUNTRY_INFO!C20))","v":"Yao"},{"$f":"IF(INTRO!$E$39=\"Non-endemic\",0,IF(INTRO!$E$39=\"Endemic but PC is not required\",IF(COUNTRY_INFO!$H20=1,COUNTRY_INFO!F20+COUNTRY_INFO!G20,0),IF(COUNTRY_INFO!$H20=1,COUNTRY_INFO!F20+COUNTRY_INFO!G20,IF(COUNTRY_INFO!$I20=1,IF(COUNTRY_INFO!N20>=(COUNTRY_INFO!F20+COUNTRY_INFO!G20),COUNTRY_INFO!F20+COUNTRY_INFO!G20,COUNTRY_INFO!$N20),0))))","v":0},{"$f":"IF(AND(INTRO!$E$39=\"Non-endemic\",INTRO!$E$37=\"Non-endemic\"),\"Not required\",IF(INTRO!$E$39=\"Non-endemic\",\"Treat with DEC\",COUNTRY_INFO!W20))","v":0},{"$f":"IF(INTRO!$E$39<>\"Non-endemic\",COUNTRY_INFO!X20,\"Not required\")","v":0},{"$f":"IF(COUNTRY_INFO!H20=1, IF($E20=1,IF(ALB_MBD!$G20<>\" \",COUNTRY_INFO!F20+COUNTRY_INFO!G20-ALB_MBD!$G20,COUNTRY_INFO!F20+COUNTRY_INFO!G20), 0),0)","v":0},{"$f":"IF(INTRO!$E$39<>\"Endemic\",0, IF(AND(COUNTRY_INFO!$I20=1,$F20<>0),IF(COUNTRY_INFO!N20>=(COUNTRY_INFO!F20+COUNTRY_INFO!G20),COUNTRY_INFO!F20+COUNTRY_INFO!G20,COUNTRY_INFO!$N20), 0))","v":0},0,0,0,0,null,0]
[{"$f":"IF(INTRO!$E$39=\"Non-endemic\",\" \",IF(COUNTRY_INFO!A21=0,\" \",COUNTRY_INFO!A21))","v":"Tchad"},{"$f":"IF(INTRO!$E$39=\"Non-endemic\",\" \",IF(COUNTRY_INFO!B21=0,\" \",COUNTRY_INFO!B21))","v":"Borkou"},{"$f":"IF(INTRO!$E$39=\"Non-endemic\",\" \",IF(COUNTRY_INFO!C21=0,\" \",COUNTRY_INFO!C21))","v":"Faya"},{"$f":"IF(INTRO!$E$39=\"Non-endemic\",0,IF(INTRO!$E$39=\"Endemic but PC is not required\",IF(COUNTRY_INFO!$H21=1,COUNTRY_INFO!F21+COUNTRY_INFO!G21,0),IF(COUNTRY_INFO!$H21=1,COUNTRY_INFO!F21+COUNTRY_INFO!G21,IF(COUNTRY_INFO!$I21=1,IF(COUNTRY_INFO!N21>=(COUNTRY_INFO!F21+COUNTRY_INFO!G21),COUNTRY_INFO!F21+COUNTRY_INFO!G21,COUNTRY_INFO!$N21),0))))","v":0},{"$f":"IF(AND(INTRO!$E$39=\"Non-endemic\",INTRO!$E$37=\"Non-endemic\"),\"Not required\",IF(INTRO!$E$39=\"Non-endemic\",\"Treat with DEC\",COUNTRY_INFO!W21))","v":0},{"$f":"IF(INTRO!$E$39<>\"Non-endemic\",COUNTRY_INFO!X21,\"Not required\")","v":0},{"$f":"IF(COUNTRY_INFO!H21=1, IF($E21=1,IF(ALB_MBD!$G21<>\" \",COUNTRY_INFO!F21+COUNTRY_INFO!G21-ALB_MBD!$G21,COUNTRY_INFO!F21+COUNTRY_INFO!G21), 0),0)","v":0},{"$f":"IF(INTRO!$E$39<>\"Endemic\",0, IF(AND(COUNTRY_INFO!$I21=1,$F21<>0),IF(COUNTRY_INFO!N21>=(COUNTRY_INFO!F21+COUNTRY_INFO!G21),COUNTRY_INFO!F21+COUNTRY_INFO!G21,COUNTRY_INFO!$N21), 0))","v":0},0,0,0,0,null,0]
[{"$f":"IF(INTRO!$E$39=\"Non-endemic\",\" \",IF(COUNTRY_INFO!A22=0,\" \",COUNTRY_INFO!A22))","v":"Tchad"},{"$f":"IF(INTRO!$E$39=\"Non-endemic\",\" \",IF(COUNTRY_INFO!B22=0,\" \",COUNTRY_INFO!B22))","v":"Borkou"},{"$f":"IF(INTRO!$E$39=\"Non-endemic\",\" \",IF(COUNTRY_INFO!C22=0,\" \",COUNTRY_INFO!C22))","v":"Kirdimi"},{"$f":"IF(INTRO!$E$39=\"Non-endemic\",0,IF(INTRO!$E$39=\"Endemic but PC is not required\",IF(COUNTRY_INFO!$H22=1,COUNTRY_INFO!F22+COUNTRY_INFO!G22,0),IF(COUNTRY_INFO!$H22=1,COUNTRY_INFO!F22+COUNTRY_INFO!G22,IF(COUNTRY_INFO!$I22=1,IF(COUNTRY_INFO!N22>=(COUNTRY_INFO!F22+COUNTRY_INFO!G22),COUNTRY_INFO!F22+COUNTRY_INFO!G22,COUNTRY_INFO!$N22),0))))","v":0},{"$f":"IF(AND(INTRO!$E$39=\"Non-endemic\",INTRO!$E$37=\"Non-endemic\"),\"Not required\",IF(INTRO!$E$39=\"Non-endemic\",\"Treat with DEC\",COUNTRY_INFO!W22))","v":0},{"$f":"IF(INTRO!$E$39<>\"Non-endemic\",COUNTRY_INFO!X22,\"Not required\")","v":0},{"$f":"IF(COUNTRY_INFO!H22=1, IF($E22=1,IF(ALB_MBD!$G22<>\" \",COUNTRY_INFO!F22+COUNTRY_INFO!G22-ALB_MBD!$G22,COUNTRY_INFO!F22+COUNTRY_INFO!G22), 0),0)","v":0},{"$f":"IF(INTRO!$E$39<>\"Endemic\",0, IF(AND(COUNTRY_INFO!$I22=1,$F22<>0),IF(COUNTRY_INFO!N22>=(COUNTRY_INFO!F22+COUNTRY_INFO!G22),COUNTRY_INFO!F22+COUNTRY_INFO!G22,COUNTRY_INFO!$N22), 0))","v":0},0,0,0,0,null,0]
[{"$f":"IF(INTRO!$E$39=\"Non-endemic\",\" \",IF(COUNTRY_INFO!A23=0,\" \",COUNTRY_INFO!A23))","v":"Tchad"},{"$f":"IF(INTRO!$E$39=\"Non-endemic\",\" \",IF(COUNTRY_INFO!B23=0,\" \",COUNTRY_INFO!B23))","v":"Borkou"},{"$f":"IF(INTRO!$E$39=\"Non-endemic\",\" \",IF(COUNTRY_INFO!C23=0,\" \",COUNTRY_INFO!C23))","v":"Kouba Olanga"},{"$f":"IF(INTRO!$E$39=\"Non-endemic\",0,IF(INTRO!$E$39=\"Endemic but PC is not required\",IF(COUNTRY_INFO!$H23=1,COUNTRY_INFO!F23+COUNTRY_INFO!G23,0),IF(COUNTRY_INFO!$H23=1,COUNTRY_INFO!F23+COUNTRY_INFO!G23,IF(COUNTRY_INFO!$I23=1,IF(COUNTRY_INFO!N23>=(COUNTRY_INFO!F23+COUNTRY_INFO!G23),COUNTRY_INFO!F23+COUNTRY_INFO!G23,COUNTRY_INFO!$N23),0))))","v":0},{"$f":"IF(AND(INTRO!$E$39=\"Non-endemic\",INTRO!$E$37=\"Non-endemic\"),\"Not required\",IF(INTRO!$E$39=\"Non-endemic\",\"Treat with DEC\",COUNTRY_INFO!W23))","v":0},{"$f":"IF(INTRO!$E$39<>\"Non-endemic\",COUNTRY_INFO!X23,\"Not required\")","v":0},{"$f":"IF(COUNTRY_INFO!H23=1, IF($E23=1,IF(ALB_MBD!$G23<>\" \",COUNTRY_INFO!F23+COUNTRY_INFO!G23-ALB_MBD!$G23,COUNTRY_INFO!F23+COUNTRY_INFO!G23), 0),0)","v":0},{"$f":"IF(INTRO!$E$39<>\"Endemic\",0, IF(AND(COUNTRY_INFO!$I23=1,$F23<>0),IF(COUNTRY_INFO!N23>=(COUNTRY_INFO!F23+COUNTRY_INFO!G23),COUNTRY_INFO!F23+COUNTRY_INFO!G23,COUNTRY_INFO!$N23), 0))","v":0},0,0,0,0,null,0]
[{"$f":"IF(INTRO!$E$39=\"Non-endemic\",\" \",IF(COUNTRY_INFO!A24=0,\" \",COUNTRY_INFO!A24))","v":"Tchad"},{"$f":"IF(INTRO!$E$39=\"Non-endemic\",\" \",IF(COUNTRY_INFO!B24=0,\" \",COUNTRY_INFO!B24))","v":"Chari  Baguirmi"},{"$f":"IF(INTRO!$E$39=\"Non-endemic\",\" \",IF(COUNTRY_INFO!C24=0,\" \",COUNTRY_INFO!C24))","v":"Ba-Illi"},{"$f":"IF(INTRO!$E$39=\"Non-endemic\",0,IF(INTRO!$E$39=\"Endemic but PC is not required\",IF(COUNTRY_INFO!$H24=1,COUNTRY_INFO!F24+COUNTRY_INFO!G24,0),IF(COUNTRY_INFO!$H24=1,COUNTRY_INFO!F24+COUNTRY_INFO!G24,IF(COUNTRY_INFO!$I24=1,IF(COUNTRY_INFO!N24>=(COUNTRY_INFO!F24+COUNTRY_INFO!G24),COUNTRY_INFO!F24+COUNTRY_INFO!G24,COUNTRY_INFO!$N24),0))))","v":0},{"$f":"IF(AND(INTRO!$E$39=\"Non-endemic\",INTRO!$E$37=\"Non-endemic\"),\"Not required\",IF(INTRO!$E$39=\"Non-endemic\",\"Treat with DEC\",COUNTRY_INFO!W24))","v":0},{"$f":"IF(INTRO!$E$39<>\"Non-endemic\",COUNTRY_INFO!X24,\"Not required\")","v":0},{"$f":"IF(COUNTRY_INFO!H24=1, IF($E24=1,IF(ALB_MBD!$G24<>\" \",COUNTRY_INFO!F24+COUNTRY_INFO!G24-ALB_MBD!$G24,COUNTRY_INFO!F24+COUNTRY_INFO!G24), 0),0)","v":0},{"$f":"IF(INTRO!$E$39<>\"Endemic\",0, IF(AND(COUNTRY_INFO!$I24=1,$F24<>0),IF(COUNTRY_INFO!N24>=(COUNTRY_INFO!F24+COUNTRY_INFO!G24),COUNTRY_INFO!F24+COUNTRY_INFO!G24,COUNTRY_INFO!$N24), 0))","v":0},0,0,0,0,null,0]
[{"$f":"IF(INTRO!$E$39=\"Non-endemic\",\" \",IF(COUNTRY_INFO!A25=0,\" \",COUNTRY_INFO!A25))","v":"Tchad"},{"$f":"IF(INTRO!$E$39=\"Non-endemic\",\" \",IF(COUNTRY_INFO!B25=0,\" \",COUNTRY_INFO!B25))","v":"Chari  Baguirmi"},{"$f":"IF(INTRO!$E$39=\"Non-endemic\",\" \",IF(COUNTRY_INFO!C25=0,\" \",COUNTRY_INFO!C25))","v":"Bousso"},{"$f":"IF(INTRO!$E$39=\"Non-endemic\",0,IF(INTRO!$E$39=\"Endemic but PC is not required\",IF(COUNTRY_INFO!$H25=1,COUNTRY_INFO!F25+COUNTRY_INFO!G25,0),IF(COUNTRY_INFO!$H25=1,COUNTRY_INFO!F25+COUNTRY_INFO!G25,IF(COUNTRY_INFO!$I25=1,IF(COUNTRY_INFO!N25>=(COUNTRY_INFO!F25+COUNTRY_INFO!G25),COUNTRY_INFO!F25+COUNTRY_INFO!G25,COUNTRY_INFO!$N25),0))))","v":0},{"$f":"IF(AND(INTRO!$E$39=\"Non-endemic\",INTRO!$E$37=\"Non-endemic\"),\"Not required\",IF(INTRO!$E$39=\"Non-endemic\",\"Treat with DEC\",COUNTRY_INFO!W25))","v":0},{"$f":"IF(INTRO!$E$39<>\"Non-endemic\",COUNTRY_INFO!X25,\"Not required\")","v":0},{"$f":"IF(COUNTRY_INFO!H25=1, IF($E25=1,IF(ALB_MBD!$G25<>\" \",COUNTRY_INFO!F25+COUNTRY_INFO!G25-ALB_MBD!$G25,COUNTRY_INFO!F25+COUNTRY_INFO!G25), 0),0)","v":0},{"$f":"IF(INTRO!$E$39<>\"Endemic\",0, IF(AND(COUNTRY_INFO!$I25=1,$F25<>0),IF(COUNTRY_INFO!N25>=(COUNTRY_INFO!F25+COUNTRY_INFO!G25),COUNTRY_INFO!F25+COUNTRY_INFO!G25,COUNTRY_INFO!$N25), 0))","v":0},0,0,0,0,null,0]
[{"$f":"IF(INTRO!$E$39=\"Non-endemic\",\" \",IF(COUNTRY_INFO!A26=0,\" \",COUNTRY_INFO!A26))","v":"Tchad"},{"$f":"IF(INTRO!$E$39=\"Non-endemic\",\" \",IF(COUNTRY_INFO!B26=0,\" \",COUNTRY_INFO!B26))","v":"Chari  Baguirmi"},{"$f":"IF(INTRO!$E$39=\"Non-endemic\",\" \",IF(COUNTRY_INFO!C26=0,\" \",COUNTRY_INFO!C26))","v":"Dourbali"},{"$f":"IF(INTRO!$E$39=\"Non-endemic\",0,IF(INTRO!$E$39=\"Endemic but PC is not required\",IF(COUNTRY_INFO!$H26=1,COUNTRY_INFO!F26+COUNTRY_INFO!G26,0),IF(COUNTRY_INFO!$H26=1,COUNTRY_INFO!F26+COUNTRY_INFO!G26,IF(COUNTRY_INFO!$I26=1,IF(COUNTRY_INFO!N26>=(COUNTRY_INFO!F26+COUNTRY_INFO!G26),COUNTRY_INFO!F26+COUNTRY_INFO!G26,COUNTRY_INFO!$N26),0))))","v":0},{"$f":"IF(AND(INTRO!$E$39=\"Non-endemic\",INTRO!$E$37=\"Non-endemic\"),\"Not required\",IF(INTRO!$E$39=\"Non-endemic\",\"Treat with DEC\",COUNTRY_INFO!W26))","v":0},{"$f":"IF(INTRO!$E$39<>\"Non-endemic\",COUNTRY_INFO!X26,\"Not required\")","v":0},{"$f":"IF(COUNTRY_INFO!H26=1, IF($E26=1,IF(ALB_MBD!$G26<>\" \",COUNTRY_INFO!F26+COUNTRY_INFO!G26-ALB_MBD!$G26,COUNTRY_INFO!F26+COUNTRY_INFO!G26), 0),0)","v":0},{"$f":"IF(INTRO!$E$39<>\"Endemic\",0, IF(AND(COUNTRY_INFO!$I26=1,$F26<>0),IF(COUNTRY_INFO!N26>=(COUNTRY_INFO!F26+COUNTRY_INFO!G26),COUNTRY_INFO!F26+COUNTRY_INFO!G26,COUNTRY_INFO!$N26), 0))","v":0},0,0,0,0,null,0]
[{"$f":"IF(INTRO!$E$39=\"Non-endemic\",\" \",IF(COUNTRY_INFO!A27=0,\" \",COUNTRY_INFO!A27))","v":"Tchad"},{"$f":"IF(INTRO!$E$39=\"Non-endemic\",\" \",IF(COUNTRY_INFO!B27=0,\" \",COUNTRY_INFO!B27))","v":"Chari  Baguirmi"},{"$f":"IF(INTRO!$E$39=\"Non-endemic\",\" \",IF(COUNTRY_INFO!C27=0,\" \",COUNTRY_INFO!C27))","v":"Koulno"},{"$f":"IF(INTRO!$E$39=\"Non-endemic\",0,IF(INTRO!$E$39=\"Endemic but PC is not required\",IF(COUNTRY_INFO!$H27=1,COUNTRY_INFO!F27+COUNTRY_INFO!G27,0),IF(COUNTRY_INFO!$H27=1,COUNTRY_INFO!F27+COUNTRY_INFO!G27,IF(COUNTRY_INFO!$I27=1,IF(COUNTRY_INFO!N27>=(COUNTRY_INFO!F27+COUNTRY_INFO!G27),COUNTRY_INFO!F27+COUNTRY_INFO!G27,COUNTRY_INFO!$N27),0))))","v":0},{"$f":"IF(AND(INTRO!$E$39=\"Non-endemic\",INTRO!$E$37=\"Non-endemic\"),\"Not required\",IF(INTRO!$E$39=\"Non-endemic\",\"Treat with DEC\",COUNTRY_INFO!W27))","v":0},{"$f":"IF(INTRO!$E$39<>\"Non-endemic\",COUNTRY_INFO!X27,\"Not required\")","v":0},{"$f":"IF(COUNTRY_INFO!H27=1, IF($E27=1,IF(ALB_MBD!$G27<>\" \",COUNTRY_INFO!F27+COUNTRY_INFO!G27-ALB_MBD!$G27,COUNTRY_INFO!F27+COUNTRY_INFO!G27), 0),0)","v":0},{"$f":"IF(INTRO!$E$39<>\"Endemic\",0, IF(AND(COUNTRY_INFO!$I27=1,$F27<>0),IF(COUNTRY_INFO!N27>=(COUNTRY_INFO!F27+COUNTRY_INFO!G27),COUNTRY_INFO!F27+COUNTRY_INFO!G27,COUNTRY_INFO!$N27), 0))","v":0},0,0,0,0,null,0]
[{"$f":"IF(INTRO!$E$39=\"Non-endemic\",\" \",IF(COUNTRY_INFO!A28=0,\" \",COUNTRY_INFO!A28))","v":"Tchad"},{"$f":"IF(INTRO!$E$39=\"Non-endemic\",\" \",IF(COUNTRY_INFO!B28=0,\" \",COUNTRY_INFO!B28))","v":"Chari  Baguirmi"},{"$f":"IF(INTRO!$E$39=\"Non-endemic\",\" \",IF(COUNTRY_INFO!C28=0,\" \",COUNTRY_INFO!C28))","v":"Mandélia"},{"$f":"IF(INTRO!$E$39=\"Non-endemic\",0,IF(INTRO!$E$39=\"Endemic but PC is not required\",IF(COUNTRY_INFO!$H28=1,COUNTRY_INFO!F28+COUNTRY_INFO!G28,0),IF(COUNTRY_INFO!$H28=1,COUNTRY_INFO!F28+COUNTRY_INFO!G28,IF(COUNTRY_INFO!$I28=1,IF(COUNTRY_INFO!N28>=(COUNTRY_INFO!F28+COUNTRY_INFO!G28),COUNTRY_INFO!F28+COUNTRY_INFO!G28,COUNTRY_INFO!$N28),0))))","v":0},{"$f":"IF(AND(INTRO!$E$39=\"Non-endemic\",INTRO!$E$37=\"Non-endemic\"),\"Not required\",IF(INTRO!$E$39=\"Non-endemic\",\"Treat with DEC\",COUNTRY_INFO!W28))","v":0},{"$f":"IF(INTRO!$E$39<>\"Non-endemic\",COUNTRY_INFO!X28,\"Not required\")","v":0},{"$f":"IF(COUNTRY_INFO!H28=1, IF($E28=1,IF(ALB_MBD!$G28<>\" \",COUNTRY_INFO!F28+COUNTRY_INFO!G28-ALB_MBD!$G28,COUNTRY_INFO!F28+COUNTRY_INFO!G28), 0),0)","v":0},{"$f":"IF(INTRO!$E$39<>\"Endemic\",0, IF(AND(COUNTRY_INFO!$I28=1,$F28<>0),IF(COUNTRY_INFO!N28>=(COUNTRY_INFO!F28+COUNTRY_INFO!G28),COUNTRY_INFO!F28+COUNTRY_INFO!G28,COUNTRY_INFO!$N28), 0))","v":0},0,0,0,0,null,0]
[{"$f":"IF(INTRO!$E$39=\"Non-endemic\",\" \",IF(COUNTRY_INFO!A29=0,\" \",COUNTRY_INFO!A29))","v":"Tchad"},{"$f":"IF(INTRO!$E$39=\"Non-endemic\",\" \",IF(COUNTRY_INFO!B29=0,\" \",COUNTRY_INFO!B29))","v":"Chari  Baguirmi"},{"$f":"IF(INTRO!$E$39=\"Non-endemic\",\" \",IF(COUNTRY_INFO!C29=0,\" \",COUNTRY_INFO!C29))","v":"Massenya"},{"$f":"IF(INTRO!$E$39=\"Non-endemic\",0,IF(INTRO!$E$39=\"Endemic but PC is not required\",IF(COUNTRY_INFO!$H29=1,COUNTRY_INFO!F29+COUNTRY_INFO!G29,0),IF(COUNTRY_INFO!$H29=1,COUNTRY_INFO!F29+COUNTRY_INFO!G29,IF(COUNTRY_INFO!$I29=1,IF(COUNTRY_INFO!N29>=(COUNTRY_INFO!F29+COUNTRY_INFO!G29),COUNTRY_INFO!F29+COUNTRY_INFO!G29,COUNTRY_INFO!$N29),0))))","v":0},{"$f":"IF(AND(INTRO!$E$39=\"Non-endemic\",INTRO!$E$37=\"Non-endemic\"),\"Not required\",IF(INTRO!$E$39=\"Non-endemic\",\"Treat with DEC\",COUNTRY_INFO!W29))","v":0},{"$f":"IF(INTRO!$E$39<>\"Non-endemic\",COUNTRY_INFO!X29,\"Not required\")","v":0},{"$f":"IF(COUNTRY_INFO!H29=1, IF($E29=1,IF(ALB_MBD!$G29<>\" \",COUNTRY_INFO!F29+COUNTRY_INFO!G29-ALB_MBD!$G29,COUNTRY_INFO!F29+COUNTRY_INFO!G29), 0),0)","v":0},{"$f":"IF(INTRO!$E$39<>\"Endemic\",0, IF(AND(COUNTRY_INFO!$I29=1,$F29<>0),IF(COUNTRY_INFO!N29>=(COUNTRY_INFO!F29+COUNTRY_INFO!G29),COUNTRY_INFO!F29+COUNTRY_INFO!G29,COUNTRY_INFO!$N29), 0))","v":0},0,0,0,0,null,0]
[{"$f":"IF(INTRO!$E$39=\"Non-endemic\",\" \",IF(COUNTRY_INFO!A30=0,\" \",COUNTRY_INFO!A30))","v":"Tchad"},{"$f":"IF(INTRO!$E$39=\"Non-endemic\",\" \",IF(COUNTRY_INFO!B30=0,\" \",COUNTRY_INFO!B30))","v":"Ennedi Est"},{"$f":"IF(INTRO!$E$39=\"Non-endemic\",\" \",IF(COUNTRY_INFO!C30=0,\" \",COUNTRY_INFO!C30))","v":"Amdjarass"},{"$f":"IF(INTRO!$E$39=\"Non-endemic\",0,IF(INTRO!$E$39=\"Endemic but PC is not required\",IF(COUNTRY_INFO!$H30=1,COUNTRY_INFO!F30+COUNTRY_INFO!G30,0),IF(COUNTRY_INFO!$H30=1,COUNTRY_INFO!F30+COUNTRY_INFO!G30,IF(COUNTRY_INFO!$I30=1,IF(COUNTRY_INFO!N30>=(COUNTRY_INFO!F30+COUNTRY_INFO!G30),COUNTRY_INFO!F30+COUNTRY_INFO!G30,COUNTRY_INFO!$N30),0))))","v":0},{"$f":"IF(AND(INTRO!$E$39=\"Non-endemic\",INTRO!$E$37=\"Non-endemic\"),\"Not required\",IF(INTRO!$E$39=\"Non-endemic\",\"Treat with DEC\",COUNTRY_INFO!W30))","v":0},{"$f":"IF(INTRO!$E$39<>\"Non-endemic\",COUNTRY_INFO!X30,\"Not required\")","v":0},{"$f":"IF(COUNTRY_INFO!H30=1, IF($E30=1,IF(ALB_MBD!$G30<>\" \",COUNTRY_INFO!F30+COUNTRY_INFO!G30-ALB_MBD!$G30,COUNTRY_INFO!F30+COUNTRY_INFO!G30), 0),0)","v":0},{"$f":"IF(INTRO!$E$39<>\"Endemic\",0, IF(AND(COUNTRY_INFO!$I30=1,$F30<>0),IF(COUNTRY_INFO!N30>=(COUNTRY_INFO!F30+COUNTRY_INFO!G30),COUNTRY_INFO!F30+COUNTRY_INFO!G30,COUNTRY_INFO!$N30), 0))","v":0},0,0,0,0,null,0]
[{"$f":"IF(INTRO!$E$39=\"Non-endemic\",\" \",IF(COUNTRY_INFO!A31=0,\" \",COUNTRY_INFO!A31))","v":"Tchad"},{"$f":"IF(INTRO!$E$39=\"Non-endemic\",\" \",IF(COUNTRY_INFO!B31=0,\" \",COUNTRY_INFO!B31))","v":"Ennedi Est"},{"$f":"IF(INTRO!$E$39=\"Non-endemic\",\" \",IF(COUNTRY_INFO!C31=0,\" \",COUNTRY_INFO!C31))","v":"Bahaï"},{"$f":"IF(INTRO!$E$39=\"Non-endemic\",0,IF(INTRO!$E$39=\"Endemic but PC is not required\",IF(COUNTRY_INFO!$H31=1,COUNTRY_INFO!F31+COUNTRY_INFO!G31,0),IF(COUNTRY_INFO!$H31=1,COUNTRY_INFO!F31+COUNTRY_INFO!G31,IF(COUNTRY_INFO!$I31=1,IF(COUNTRY_INFO!N31>=(COUNTRY_INFO!F31+COUNTRY_INFO!G31),COUNTRY_INFO!F31+COUNTRY_INFO!G31,COUNTRY_INFO!$N31),0))))","v":0},{"$f":"IF(AND(INTRO!$E$39=\"Non-endemic\",INTRO!$E$37=\"Non-endemic\"),\"Not required\",IF(INTRO!$E$39=\"Non-endemic\",\"Treat with DEC\",COUNTRY_INFO!W31))","v":0},{"$f":"IF(INTRO!$E$39<>\"Non-endemic\",COUNTRY_INFO!X31,\"Not required\")","v":0},{"$f":"IF(COUNTRY_INFO!H31=1, IF($E31=1,IF(ALB_MBD!$G31<>\" \",COUNTRY_INFO!F31+COUNTRY_INFO!G31-ALB_MBD!$G31,COUNTRY_INFO!F31+COUNTRY_INFO!G31), 0),0)","v":0},{"$f":"IF(INTRO!$E$39<>\"Endemic\",0, IF(AND(COUNTRY_INFO!$I31=1,$F31<>0),IF(COUNTRY_INFO!N31>=(COUNTRY_INFO!F31+COUNTRY_INFO!G31),COUNTRY_INFO!F31+COUNTRY_INFO!G31,COUNTRY_INFO!$N31), 0))","v":0},0,0,0,0,null,0]
[{"$f":"IF(INTRO!$E$39=\"Non-endemic\",\" \",IF(COUNTRY_INFO!A32=0,\" \",COUNTRY_INFO!A32))","v":"Tchad"},{"$f":"IF(INTRO!$E$39=\"Non-endemic\",\" \",IF(COUNTRY_INFO!B32=0,\" \",COUNTRY_INFO!B32))","v":"Ennedi Est"},{"$f":"IF(INTRO!$E$39=\"Non-endemic\",\" \",IF(COUNTRY_INFO!C32=0,\" \",COUNTRY_INFO!C32))","v":"Kaoura"},{"$f":"IF(INTRO!$E$39=\"Non-endemic\",0,IF(INTRO!$E$39=\"Endemic but PC is not required\",IF(COUNTRY_INFO!$H32=1,COUNTRY_INFO!F32+COUNTRY_INFO!G32,0),IF(COUNTRY_INFO!$H32=1,COUNTRY_INFO!F32+COUNTRY_INFO!G32,IF(COUNTRY_INFO!$I32=1,IF(COUNTRY_INFO!N32>=(COUNTRY_INFO!F32+COUNTRY_INFO!G32),COUNTRY_INFO!F32+COUNTRY_INFO!G32,COUNTRY_INFO!$N32),0))))","v":0},{"$f":"IF(AND(INTRO!$E$39=\"Non-endemic\",INTRO!$E$37=\"Non-endemic\"),\"Not required\",IF(INTRO!$E$39=\"Non-endemic\",\"Treat with DEC\",COUNTRY_INFO!W32))","v":0},{"$f":"IF(INTRO!$E$39<>\"Non-endemic\",COUNTRY_INFO!X32,\"Not required\")","v":0},{"$f":"IF(COUNTRY_INFO!H32=1, IF($E32=1,IF(ALB_MBD!$G32<>\" \",COUNTRY_INFO!F32+COUNTRY_INFO!G32-ALB_MBD!$G32,COUNTRY_INFO!F32+COUNTRY_INFO!G32), 0),0)","v":0},{"$f":"IF(INTRO!$E$39<>\"Endemic\",0, IF(AND(COUNTRY_INFO!$I32=1,$F32<>0),IF(COUNTRY_INFO!N32>=(COUNTRY_INFO!F32+COUNTRY_INFO!G32),COUNTRY_INFO!F32+COUNTRY_INFO!G32,COUNTRY_INFO!$N32), 0))","v":0},0,0,0,0,null,0]
[{"$f":"IF(INTRO!$E$39=\"Non-endemic\",\" \",IF(COUNTRY_INFO!A33=0,\" \",COUNTRY_INFO!A33))","v":"Tchad"},{"$f":"IF(INTRO!$E$39=\"Non-endemic\",\" \",IF(COUNTRY_INFO!B33=0,\" \",COUNTRY_INFO!B33))","v":"Ennedi Est"},{"$f":"IF(INTRO!$E$39=\"Non-endemic\",\" \",IF(COUNTRY_INFO!C33=0,\" \",COUNTRY_INFO!C33))","v":"Mourdi"},{"$f":"IF(INTRO!$E$39=\"Non-endemic\",0,IF(INTRO!$E$39=\"Endemic but PC is not required\",IF(COUNTRY_INFO!$H33=1,COUNTRY_INFO!F33+COUNTRY_INFO!G33,0),IF(COUNTRY_INFO!$H33=1,COUNTRY_INFO!F33+COUNTRY_INFO!G33,IF(COUNTRY_INFO!$I33=1,IF(COUNTRY_INFO!N33>=(COUNTRY_INFO!F33+COUNTRY_INFO!G33),COUNTRY_INFO!F33+COUNTRY_INFO!G33,COUNTRY_INFO!$N33),0))))","v":0},{"$f":"IF(AND(INTRO!$E$39=\"Non-endemic\",INTRO!$E$37=\"Non-endemic\"),\"Not required\",IF(INTRO!$E$39=\"Non-endemic\",\"Treat with DEC\",COUNTRY_INFO!W33))","v":0},{"$f":"IF(INTRO!$E$39<>\"Non-endemic\",COUNTRY_INFO!X33,\"Not required\")","v":0},{"$f":"IF(COUNTRY_INFO!H33=1, IF($E33=1,IF(ALB_MBD!$G33<>\" \",COUNTRY_INFO!F33+COUNTRY_INFO!G33-ALB_MBD!$G33,COUNTRY_INFO!F33+COUNTRY_INFO!G33), 0),0)","v":0},{"$f":"IF(INTRO!$E$39<>\"Endemic\",0, IF(AND(COUNTRY_INFO!$I33=1,$F33<>0),IF(COUNTRY_INFO!N33>=(COUNTRY_INFO!F33+COUNTRY_INFO!G33),COUNTRY_INFO!F33+COUNTRY_INFO!G33,COUNTRY_INFO!$N33), 0))","v":0},0,0,0,0,null,0]
[{"$f":"IF(INTRO!$E$39=\"Non-endemic\",\" \",IF(COUNTRY_INFO!A34=0,\" \",COUNTRY_INFO!A34))","v":"Tchad"},{"$f":"IF(INTRO!$E$39=\"Non-endemic\",\" \",IF(COUNTRY_INFO!B34=0,\" \",COUNTRY_INFO!B34))","v":"Ennedi Ouest"},{"$f":"IF(INTRO!$E$39=\"Non-endemic\",\" \",IF(COUNTRY_INFO!C34=0,\" \",COUNTRY_INFO!C34))","v":"Fada"},{"$f":"IF(INTRO!$E$39=\"Non-endemic\",0,IF(INTRO!$E$39=\"Endemic but PC is not required\",IF(COUNTRY_INFO!$H34=1,COUNTRY_INFO!F34+COUNTRY_INFO!G34,0),IF(COUNTRY_INFO!$H34=1,COUNTRY_INFO!F34+COUNTRY_INFO!G34,IF(COUNTRY_INFO!$I34=1,IF(COUNTRY_INFO!N34>=(COUNTRY_INFO!F34+COUNTRY_INFO!G34),COUNTRY_INFO!F34+COUNTRY_INFO!G34,COUNTRY_INFO!$N34),0))))","v":0},{"$f":"IF(AND(INTRO!$E$39=\"Non-endemic\",INTRO!$E$37=\"Non-endemic\"),\"Not required\",IF(INTRO!$E$39=\"Non-endemic\",\"Treat with DEC\",COUNTRY_INFO!W34))","v":0},{"$f":"IF(INTRO!$E$39<>\"Non-endemic\",COUNTRY_INFO!X34,\"Not required\")","v":0},{"$f":"IF(COUNTRY_INFO!H34=1, IF($E34=1,IF(ALB_MBD!$G34<>\" \",COUNTRY_INFO!F34+COUNTRY_INFO!G34-ALB_MBD!$G34,COUNTRY_INFO!F34+COUNTRY_INFO!G34), 0),0)","v":0},{"$f":"IF(INTRO!$E$39<>\"Endemic\",0, IF(AND(COUNTRY_INFO!$I34=1,$F34<>0),IF(COUNTRY_INFO!N34>=(COUNTRY_INFO!F34+COUNTRY_INFO!G34),COUNTRY_INFO!F34+COUNTRY_INFO!G34,COUNTRY_INFO!$N34), 0))","v":0},0,0,0,0,null,0]
[{"$f":"IF(INTRO!$E$39=\"Non-endemic\",\" \",IF(COUNTRY_INFO!A35=0,\" \",COUNTRY_INFO!A35))","v":"Tchad"},{"$f":"IF(INTRO!$E$39=\"Non-endemic\",\" \",IF(COUNTRY_INFO!B35=0,\" \",COUNTRY_INFO!B35))","v":"Ennedi Ouest"},{"$f":"IF(INTRO!$E$39=\"Non-endemic\",\" \",IF(COUNTRY_INFO!C35=0,\" \",COUNTRY_INFO!C35))","v":"Kalaït"},{"$f":"IF(INTRO!$E$39=\"Non-endemic\",0,IF(INTRO!$E$39=\"Endemic but PC is not required\",IF(COUNTRY_INFO!$H35=1,COUNTRY_INFO!F35+COUNTRY_INFO!G35,0),IF(COUNTRY_INFO!$H35=1,COUNTRY_INFO!F35+COUNTRY_INFO!G35,IF(COUNTRY_INFO!$I35=1,IF(COUNTRY_INFO!N35>=(COUNTRY_INFO!F35+COUNTRY_INFO!G35),COUNTRY_INFO!F35+COUNTRY_INFO!G35,COUNTRY_INFO!$N35),0))))","v":0},{"$f":"IF(AND(INTRO!$E$39=\"Non-endemic\",INTRO!$E$37=\"Non-endemic\"),\"Not required\",IF(INTRO!$E$39=\"Non-endemic\",\"Treat with DEC\",COUNTRY_INFO!W35))","v":0},{"$f":"IF(INTRO!$E$39<>\"Non-endemic\",COUNTRY_INFO!X35,\"Not required\")","v":0},{"$f":"IF(COUNTRY_INFO!H35=1, IF($E35=1,IF(ALB_MBD!$G35<>\" \",COUNTRY_INFO!F35+COUNTRY_INFO!G35-ALB_MBD!$G35,COUNTRY_INFO!F35+COUNTRY_INFO!G35), 0),0)","v":0},{"$f":"IF(INTRO!$E$39<>\"Endemic\",0, IF(AND(COUNTRY_INFO!$I35=1,$F35<>0),IF(COUNTRY_INFO!N35>=(COUNTRY_INFO!F35+COUNTRY_INFO!G35),COUNTRY_INFO!F35+COUNTRY_INFO!G35,COUNTRY_INFO!$N35), 0))","v":0},0,0,0,0,null,0]
[{"$f":"IF(INTRO!$E$39=\"Non-endemic\",\" \",IF(COUNTRY_INFO!A36=0,\" \",COUNTRY_INFO!A36))","v":"Tchad"},{"$f":"IF(INTRO!$E$39=\"Non-endemic\",\" \",IF(COUNTRY_INFO!B36=0,\" \",COUNTRY_INFO!B36))","v":"Ennedi Ouest"},{"$f":"IF(INTRO!$E$39=\"Non-endemic\",\" \",IF(COUNTRY_INFO!C36=0,\" \",COUNTRY_INFO!C36))","v":"Ounianga Kebbir"},{"$f":"IF(INTRO!$E$39=\"Non-endemic\",0,IF(INTRO!$E$39=\"Endemic but PC is not required\",IF(COUNTRY_INFO!$H36=1,COUNTRY_INFO!F36+COUNTRY_INFO!G36,0),IF(COUNTRY_INFO!$H36=1,COUNTRY_INFO!F36+COUNTRY_INFO!G36,IF(COUNTRY_INFO!$I36=1,IF(COUNTRY_INFO!N36>=(COUNTRY_INFO!F36+COUNTRY_INFO!G36),COUNTRY_INFO!F36+COUNTRY_INFO!G36,COUNTRY_INFO!$N36),0))))","v":0},{"$f":"IF(AND(INTRO!$E$39=\"Non-endemic\",INTRO!$E$37=\"Non-endemic\"),\"Not required\",IF(INTRO!$E$39=\"Non-endemic\",\"Treat with DEC\",COUNTRY_INFO!W36))","v":0},{"$f":"IF(INTRO!$E$39<>\"Non-endemic\",COUNTRY_INFO!X36,\"Not required\")","v":0},{"$f":"IF(COUNTRY_INFO!H36=1, IF($E36=1,IF(ALB_MBD!$G36<>\" \",COUNTRY_INFO!F36+COUNTRY_INFO!G36-ALB_MBD!$G36,COUNTRY_INFO!F36+COUNTRY_INFO!G36), 0),0)","v":0},{"$f":"IF(INTRO!$E$39<>\"Endemic\",0, IF(AND(COUNTRY_INFO!$I36=1,$F36<>0),IF(COUNTRY_INFO!N36>=(COUNTRY_INFO!F36+COUNTRY_INFO!G36),COUNTRY_INFO!F36+COUNTRY_INFO!G36,COUNTRY_INFO!$N36), 0))","v":0},0,0,0,0,null,0]
[{"$f":"IF(INTRO!$E$39=\"Non-endemic\",\" \",IF(COUNTRY_INFO!A37=0,\" \",COUNTRY_INFO!A37))","v":"Tchad"},{"$f":"IF(INTRO!$E$39=\"Non-endemic\",\" \",IF(COUNTRY_INFO!B37=0,\" \",COUNTRY_INFO!B37))","v":"Guéra"},{"$f":"IF(INTRO!$E$39=\"Non-endemic\",\" \",IF(COUNTRY_INFO!C37=0,\" \",COUNTRY_INFO!C37))","v":"Barou"},{"$f":"IF(INTRO!$E$39=\"Non-endemic\",0,IF(INTRO!$E$39=\"Endemic but PC is not required\",IF(COUNTRY_INFO!$H37=1,COUNTRY_INFO!F37+COUNTRY_INFO!G37,0),IF(COUNTRY_INFO!$H37=1,COUNTRY_INFO!F37+COUNTRY_INFO!G37,IF(COUNTRY_INFO!$I37=1,IF(COUNTRY_INFO!N37>=(COUNTRY_INFO!F37+COUNTRY_INFO!G37),COUNTRY_INFO!F37+COUNTRY_INFO!G37,COUNTRY_INFO!$N37),0))))","v":0},{"$f":"IF(AND(INTRO!$E$39=\"Non-endemic\",INTRO!$E$37=\"Non-endemic\"),\"Not required\",IF(INTRO!$E$39=\"Non-endemic\",\"Treat with DEC\",COUNTRY_INFO!W37))","v":0},{"$f":"IF(INTRO!$E$39<>\"Non-endemic\",COUNTRY_INFO!X37,\"Not required\")","v":0},{"$f":"IF(COUNTRY_INFO!H37=1, IF($E37=1,IF(ALB_MBD!$G37<>\" \",COUNTRY_INFO!F37+COUNTRY_INFO!G37-ALB_MBD!$G37,COUNTRY_INFO!F37+COUNTRY_INFO!G37), 0),0)","v":0},{"$f":"IF(INTRO!$E$39<>\"Endemic\",0, IF(AND(COUNTRY_INFO!$I37=1,$F37<>0),IF(COUNTRY_INFO!N37>=(COUNTRY_INFO!F37+COUNTRY_INFO!G37),COUNTRY_INFO!F37+COUNTRY_INFO!G37,COUNTRY_INFO!$N37), 0))","v":0},0,0,0,0,null,0]
[{"$f":"IF(INTRO!$E$39=\"Non-endemic\",\" \",IF(COUNTRY_INFO!A38=0,\" \",COUNTRY_INFO!A38))","v":"Tchad"},{"$f":"IF(INTRO!$E$39=\"Non-endemic\",\" \",IF(COUNTRY_INFO!B38=0,\" \",COUNTRY_INFO!B38))","v":"Guéra"},{"$f":"IF(INTRO!$E$39=\"Non-endemic\",\" \",IF(COUNTRY_INFO!C38=0,\" \",COUNTRY_INFO!C38))","v":"Bitkine"},{"$f":"IF(INTRO!$E$39=\"Non-endemic\",0,IF(INTRO!$E$39=\"Endemic but PC is not required\",IF(COUNTRY_INFO!$H38=1,COUNTRY_INFO!F38+COUNTRY_INFO!G38,0),IF(COUNTRY_INFO!$H38=1,COUNTRY_INFO!F38+COUNTRY_INFO!G38,IF(COUNTRY_INFO!$I38=1,IF(COUNTRY_INFO!N38>=(COUNTRY_INFO!F38+COUNTRY_INFO!G38),COUNTRY_INFO!F38+COUNTRY_INFO!G38,COUNTRY_INFO!$N38),0))))","v":0},{"$f":"IF(AND(INTRO!$E$39=\"Non-endemic\",INTRO!$E$37=\"Non-endemic\"),\"Not required\",IF(INTRO!$E$39=\"Non-endemic\",\"Treat with DEC\",COUNTRY_INFO!W38))","v":0},{"$f":"IF(INTRO!$E$39<>\"Non-endemic\",COUNTRY_INFO!X38,\"Not required\")","v":0},{"$f":"IF(COUNTRY_INFO!H38=1, IF($E38=1,IF(ALB_MBD!$G38<>\" \",COUNTRY_INFO!F38+COUNTRY_INFO!G38-ALB_MBD!$G38,COUNTRY_INFO!F38+COUNTRY_INFO!G38), 0),0)","v":0},{"$f":"IF(INTRO!$E$39<>\"Endemic\",0, IF(AND(COUNTRY_INFO!$I38=1,$F38<>0),IF(COUNTRY_INFO!N38>=(COUNTRY_INFO!F38+COUNTRY_INFO!G38),COUNTRY_INFO!F38+COUNTRY_INFO!G38,COUNTRY_INFO!$N38), 0))","v":0},0,0,0,0,null,0]
[{"$f":"IF(INTRO!$E$39=\"Non-endemic\",\" \",IF(COUNTRY_INFO!A39=0,\" \",COUNTRY_INFO!A39))","v":"Tchad"},{"$f":"IF(INTRO!$E$39=\"Non-endemic\",\" \",IF(COUNTRY_INFO!B39=0,\" \",COUNTRY_INFO!B39))","v":"Guéra"},{"$f":"IF(INTRO!$E$39=\"Non-endemic\",\" \",IF(COUNTRY_INFO!C39=0,\" \",COUNTRY_INFO!C39))","v":"Mangalmé"},{"$f":"IF(INTRO!$E$39=\"Non-endemic\",0,IF(INTRO!$E$39=\"Endemic but PC is not required\",IF(COUNTRY_INFO!$H39=1,COUNTRY_INFO!F39+COUNTRY_INFO!G39,0),IF(COUNTRY_INFO!$H39=1,COUNTRY_INFO!F39+COUNTRY_INFO!G39,IF(COUNTRY_INFO!$I39=1,IF(COUNTRY_INFO!N39>=(COUNTRY_INFO!F39+COUNTRY_INFO!G39),COUNTRY_INFO!F39+COUNTRY_INFO!G39,COUNTRY_INFO!$N39),0))))","v":0},{"$f":"IF(AND(INTRO!$E$39=\"Non-endemic\",INTRO!$E$37=\"Non-endemic\"),\"Not required\",IF(INTRO!$E$39=\"Non-endemic\",\"Treat with DEC\",COUNTRY_INFO!W39))","v":0},{"$f":"IF(INTRO!$E$39<>\"Non-endemic\",COUNTRY_INFO!X39,\"Not required\")","v":0},{"$f":"IF(COUNTRY_INFO!H39=1, IF($E39=1,IF(ALB_MBD!$G39<>\" \",COUNTRY_INFO!F39+COUNTRY_INFO!G39-ALB_MBD!$G39,COUNTRY_INFO!F39+COUNTRY_INFO!G39), 0),0)","v":0},{"$f":"IF(INTRO!$E$39<>\"Endemic\",0, IF(AND(COUNTRY_INFO!$I39=1,$F39<>0),IF(COUNTRY_INFO!N39>=(COUNTRY_INFO!F39+COUNTRY_INFO!G39),COUNTRY_INFO!F39+COUNTRY_INFO!G39,COUNTRY_INFO!$N39), 0))","v":0},0,0,0,0,null,0]
[{"$f":"IF(INTRO!$E$39=\"Non-endemic\",\" \",IF(COUNTRY_INFO!A40=0,\" \",COUNTRY_INFO!A40))","v":"Tchad"},{"$f":"IF(INTRO!$E$39=\"Non-endemic\",\" \",IF(COUNTRY_INFO!B40=0,\" \",COUNTRY_INFO!B40))","v":"Guéra"},{"$f":"IF(INTRO!$E$39=\"Non-endemic\",\" \",IF(COUNTRY_INFO!C40=0,\" \",COUNTRY_INFO!C40))","v":"Melfi"},{"$f":"IF(INTRO!$E$39=\"Non-endemic\",0,IF(INTRO!$E$39=\"Endemic but PC is not required\",IF(COUNTRY_INFO!$H40=1,COUNTRY_INFO!F40+COUNTRY_INFO!G40,0),IF(COUNTRY_INFO!$H40=1,COUNTRY_INFO!F40+COUNTRY_INFO!G40,IF(COUNTRY_INFO!$I40=1,IF(COUNTRY_INFO!N40>=(COUNTRY_INFO!F40+COUNTRY_INFO!G40),COUNTRY_INFO!F40+COUNTRY_INFO!G40,COUNTRY_INFO!$N40),0))))","v":0},{"$f":"IF(AND(INTRO!$E$39=\"Non-endemic\",INTRO!$E$37=\"Non-endemic\"),\"Not required\",IF(INTRO!$E$39=\"Non-endemic\",\"Treat with DEC\",COUNTRY_INFO!W40))","v":0},{"$f":"IF(INTRO!$E$39<>\"Non-endemic\",COUNTRY_INFO!X40,\"Not required\")","v":0},{"$f":"IF(COUNTRY_INFO!H40=1, IF($E40=1,IF(ALB_MBD!$G40<>\" \",COUNTRY_INFO!F40+COUNTRY_INFO!G40-ALB_MBD!$G40,COUNTRY_INFO!F40+COUNTRY_INFO!G40), 0),0)","v":0},{"$f":"IF(INTRO!$E$39<>\"Endemic\",0, IF(AND(COUNTRY_INFO!$I40=1,$F40<>0),IF(COUNTRY_INFO!N40>=(COUNTRY_INFO!F40+COUNTRY_INFO!G40),COUNTRY_INFO!F40+COUNTRY_INFO!G40,COUNTRY_INFO!$N40), 0))","v":0},0,0,0,0,null,0]
[{"$f":"IF(INTRO!$E$39=\"Non-endemic\",\" \",IF(COUNTRY_INFO!A41=0,\" \",COUNTRY_INFO!A41))","v":"Tchad"},{"$f":"IF(INTRO!$E$39=\"Non-endemic\",\" \",IF(COUNTRY_INFO!B41=0,\" \",COUNTRY_INFO!B41))","v":"Guéra"},{"$f":"IF(INTRO!$E$39=\"Non-endemic\",\" \",IF(COUNTRY_INFO!C41=0,\" \",COUNTRY_INFO!C41))","v":"Mongo"},{"$f":"IF(INTRO!$E$39=\"Non-endemic\",0,IF(INTRO!$E$39=\"Endemic but PC is not required\",IF(COUNTRY_INFO!$H41=1,COUNTRY_INFO!F41+COUNTRY_INFO!G41,0),IF(COUNTRY_INFO!$H41=1,COUNTRY_INFO!F41+COUNTRY_INFO!G41,IF(COUNTRY_INFO!$I41=1,IF(COUNTRY_INFO!N41>=(COUNTRY_INFO!F41+COUNTRY_INFO!G41),COUNTRY_INFO!F41+COUNTRY_INFO!G41,COUNTRY_INFO!$N41),0))))","v":0},{"$f":"IF(AND(INTRO!$E$39=\"Non-endemic\",INTRO!$E$37=\"Non-endemic\"),\"Not required\",IF(INTRO!$E$39=\"Non-endemic\",\"Treat with DEC\",COUNTRY_INFO!W41))","v":0},{"$f":"IF(INTRO!$E$39<>\"Non-endemic\",COUNTRY_INFO!X41,\"Not required\")","v":0},{"$f":"IF(COUNTRY_INFO!H41=1, IF($E41=1,IF(ALB_MBD!$G41<>\" \",COUNTRY_INFO!F41+COUNTRY_INFO!G41-ALB_MBD!$G41,COUNTRY_INFO!F41+COUNTRY_INFO!G41), 0),0)","v":0},{"$f":"IF(INTRO!$E$39<>\"Endemic\",0, IF(AND(COUNTRY_INFO!$I41=1,$F41<>0),IF(COUNTRY_INFO!N41>=(COUNTRY_INFO!F41+COUNTRY_INFO!G41),COUNTRY_INFO!F41+COUNTRY_INFO!G41,COUNTRY_INFO!$N41), 0))","v":0},0,0,0,0,null,0]
[{"$f":"IF(INTRO!$E$39=\"Non-endemic\",\" \",IF(COUNTRY_INFO!A42=0,\" \",COUNTRY_INFO!A42))","v":"Tchad"},{"$f":"IF(INTRO!$E$39=\"Non-endemic\",\" \",IF(COUNTRY_INFO!B42=0,\" \",COUNTRY_INFO!B42))","v":"Hadjer Lamis"},{"$f":"IF(INTRO!$E$39=\"Non-endemic\",\" \",IF(COUNTRY_INFO!C42=0,\" \",COUNTRY_INFO!C42))","v":"Bokoro"},{"$f":"IF(INTRO!$E$39=\"Non-endemic\",0,IF(INTRO!$E$39=\"Endemic but PC is not required\",IF(COUNTRY_INFO!$H42=1,COUNTRY_INFO!F42+COUNTRY_INFO!G42,0),IF(COUNTRY_INFO!$H42=1,COUNTRY_INFO!F42+COUNTRY_INFO!G42,IF(COUNTRY_INFO!$I42=1,IF(COUNTRY_INFO!N42>=(COUNTRY_INFO!F42+COUNTRY_INFO!G42),COUNTRY_INFO!F42+COUNTRY_INFO!G42,COUNTRY_INFO!$N42),0))))","v":0},{"$f":"IF(AND(INTRO!$E$39=\"Non-endemic\",INTRO!$E$37=\"Non-endemic\"),\"Not required\",IF(INTRO!$E$39=\"Non-endemic\",\"Treat with DEC\",COUNTRY_INFO!W42))","v":0},{"$f":"IF(INTRO!$E$39<>\"Non-endemic\",COUNTRY_INFO!X42,\"Not required\")","v":0},{"$f":"IF(COUNTRY_INFO!H42=1, IF($E42=1,IF(ALB_MBD!$G42<>\" \",COUNTRY_INFO!F42+COUNTRY_INFO!G42-ALB_MBD!$G42,COUNTRY_INFO!F42+COUNTRY_INFO!G42), 0),0)","v":0},{"$f":"IF(INTRO!$E$39<>\"Endemic\",0, IF(AND(COUNTRY_INFO!$I42=1,$F42<>0),IF(COUNTRY_INFO!N42>=(COUNTRY_INFO!F42+COUNTRY_INFO!G42),COUNTRY_INFO!F42+COUNTRY_INFO!G42,COUNTRY_INFO!$N42), 0))","v":0},0,0,0,0,null,0]
[{"$f":"IF(INTRO!$E$39=\"Non-endemic\",\" \",IF(COUNTRY_INFO!A43=0,\" \",COUNTRY_INFO!A43))","v":"Tchad"},{"$f":"IF(INTRO!$E$39=\"Non-endemic\",\" \",IF(COUNTRY_INFO!B43=0,\" \",COUNTRY_INFO!B43))","v":"Hadjer Lamis"},{"$f":"IF(INTRO!$E$39=\"Non-endemic\",\" \",IF(COUNTRY_INFO!C43=0,\" \",COUNTRY_INFO!C43))","v":"Gama"},{"$f":"IF(INTRO!$E$39=\"Non-endemic\",0,IF(INTRO!$E$39=\"Endemic but PC is not required\",IF(COUNTRY_INFO!$H43=1,COUNTRY_INFO!F43+COUNTRY_INFO!G43,0),IF(COUNTRY_INFO!$H43=1,COUNTRY_INFO!F43+COUNTRY_INFO!G43,IF(COUNTRY_INFO!$I43=1,IF(COUNTRY_INFO!N43>=(COUNTRY_INFO!F43+COUNTRY_INFO!G43),COUNTRY_INFO!F43+COUNTRY_INFO!G43,COUNTRY_INFO!$N43),0))))","v":0},{"$f":"IF(AND(INTRO!$E$39=\"Non-endemic\",INTRO!$E$37=\"Non-endemic\"),\"Not required\",IF(INTRO!$E$39=\"Non-endemic\",\"Treat with DEC\",COUNTRY_INFO!W43))","v":0},{"$f":"IF(INTRO!$E$39<>\"Non-endemic\",COUNTRY_INFO!X43,\"Not required\")","v":0},{"$f":"IF(COUNTRY_INFO!H43=1, IF($E43=1,IF(ALB_MBD!$G43<>\" \",COUNTRY_INFO!F43+COUNTRY_INFO!G43-ALB_MBD!$G43,COUNTRY_INFO!F43+COUNTRY_INFO!G43), 0),0)","v":0},{"$f":"IF(INTRO!$E$39<>\"Endemic\",0, IF(AND(COUNTRY_INFO!$I43=1,$F43<>0),IF(COUNTRY_INFO!N43>=(COUNTRY_INFO!F43+COUNTRY_INFO!G43),COUNTRY_INFO!F43+COUNTRY_INFO!G43,COUNTRY_INFO!$N43), 0))","v":0},0,0,0,0,null,0]
[{"$f":"IF(INTRO!$E$39=\"Non-endemic\",\" \",IF(COUNTRY_INFO!A44=0,\" \",COUNTRY_INFO!A44))","v":"Tchad"},{"$f":"IF(INTRO!$E$39=\"Non-endemic\",\" \",IF(COUNTRY_INFO!B44=0,\" \",COUNTRY_INFO!B44))","v":"Hadjar Lamis"},{"$f":"IF(INTRO!$E$39=\"Non-endemic\",\" \",IF(COUNTRY_INFO!C44=0,\" \",COUNTRY_INFO!C44))","v":"Karal"},{"$f":"IF(INTRO!$E$39=\"Non-endemic\",0,IF(INTRO!$E$39=\"Endemic but PC is not required\",IF(COUNTRY_INFO!$H44=1,COUNTRY_INFO!F44+COUNTRY_INFO!G44,0),IF(COUNTRY_INFO!$H44=1,COUNTRY_INFO!F44+COUNTRY_INFO!G44,IF(COUNTRY_INFO!$I44=1,IF(COUNTRY_INFO!N44>=(COUNTRY_INFO!F44+COUNTRY_INFO!G44),COUNTRY_INFO!F44+COUNTRY_INFO!G44,COUNTRY_INFO!$N44),0))))","v":0},{"$f":"IF(AND(INTRO!$E$39=\"Non-endemic\",INTRO!$E$37=\"Non-endemic\"),\"Not required\",IF(INTRO!$E$39=\"Non-endemic\",\"Treat with DEC\",COUNTRY_INFO!W44))","v":0},{"$f":"IF(INTRO!$E$39<>\"Non-endemic\",COUNTRY_INFO!X44,\"Not required\")","v":0},{"$f":"IF(COUNTRY_INFO!H44=1, IF($E44=1,IF(ALB_MBD!$G44<>\" \",COUNTRY_INFO!F44+COUNTRY_INFO!G44-ALB_MBD!$G44,COUNTRY_INFO!F44+COUNTRY_INFO!G44), 0),0)","v":0},{"$f":"IF(INTRO!$E$39<>\"Endemic\",0, IF(AND(COUNTRY_INFO!$I44=1,$F44<>0),IF(COUNTRY_INFO!N44>=(COUNTRY_INFO!F44+COUNTRY_INFO!G44),COUNTRY_INFO!F44+COUNTRY_INFO!G44,COUNTRY_INFO!$N44), 0))","v":0},0,0,0,0,null,0]
[{"$f":"IF(INTRO!$E$39=\"Non-endemic\",\" \",IF(COUNTRY_INFO!A45=0,\" \",COUNTRY_INFO!A45))","v":"Tchad"},{"$f":"IF(INTRO!$E$39=\"Non-endemic\",\" \",IF(COUNTRY_INFO!B45=0,\" \",COUNTRY_INFO!B45))","v":"Hadjer Lamis"},{"$f":"IF(INTRO!$E$39=\"Non-endemic\",\" \",IF(COUNTRY_INFO!C45=0,\" \",COUNTRY_INFO!C45))","v":"Mani"},{"$f":"IF(INTRO!$E$39=\"Non-endemic\",0,IF(INTRO!$E$39=\"Endemic but PC is not required\",IF(COUNTRY_INFO!$H45=1,COUNTRY_INFO!F45+COUNTRY_INFO!G45,0),IF(COUNTRY_INFO!$H45=1,COUNTRY_INFO!F45+COUNTRY_INFO!G45,IF(COUNTRY_INFO!$I45=1,IF(COUNTRY_INFO!N45>=(COUNTRY_INFO!F45+COUNTRY_INFO!G45),COUNTRY_INFO!F45+COUNTRY_INFO!G45,COUNTRY_INFO!$N45),0))))","v":0},{"$f":"IF(AND(INTRO!$E$39=\"Non-endemic\",INTRO!$E$37=\"Non-endemic\"),\"Not required\",IF(INTRO!$E$39=\"Non-endemic\",\"Treat with DEC\",COUNTRY_INFO!W45))","v":0},{"$f":"IF(INTRO!$E$39<>\"Non-endemic\",COUNTRY_INFO!X45,\"Not required\")","v":0},{"$f":"IF(COUNTRY_INFO!H45=1, IF($E45=1,IF(ALB_MBD!$G45<>\" \",COUNTRY_INFO!F45+COUNTRY_INFO!G45-ALB_MBD!$G45,COUNTRY_INFO!F45+COUNTRY_INFO!G45), 0),0)","v":0},{"$f":"IF(INTRO!$E$39<>\"Endemic\",0, IF(AND(COUNTRY_INFO!$I45=1,$F45<>0),IF(COUNTRY_INFO!N45>=(COUNTRY_INFO!F45+COUNTRY_INFO!G45),COUNTRY_INFO!F45+COUNTRY_INFO!G45,COUNTRY_INFO!$N45), 0))","v":0},0,0,0,0,null,0]
[{"$f":"IF(INTRO!$E$39=\"Non-endemic\",\" \",IF(COUNTRY_INFO!A46=0,\" \",COUNTRY_INFO!A46))","v":"Tchad"},{"$f":"IF(INTRO!$E$39=\"Non-endemic\",\" \",IF(COUNTRY_INFO!B46=0,\" \",COUNTRY_INFO!B46))","v":"Hadjer Lamis"},{"$f":"IF(INTRO!$E$39=\"Non-endemic\",\" \",IF(COUNTRY_INFO!C46=0,\" \",COUNTRY_INFO!C46))","v":"Massaguet"},{"$f":"IF(INTRO!$E$39=\"Non-endemic\",0,IF(INTRO!$E$39=\"Endemic but PC is not required\",IF(COUNTRY_INFO!$H46=1,COUNTRY_INFO!F46+COUNTRY_INFO!G46,0),IF(COUNTRY_INFO!$H46=1,COUNTRY_INFO!F46+COUNTRY_INFO!G46,IF(COUNTRY_INFO!$I46=1,IF(COUNTRY_INFO!N46>=(COUNTRY_INFO!F46+COUNTRY_INFO!G46),COUNTRY_INFO!F46+COUNTRY_INFO!G46,COUNTRY_INFO!$N46),0))))","v":0},{"$f":"IF(AND(INTRO!$E$39=\"Non-endemic\",INTRO!$E$37=\"Non-endemic\"),\"Not required\",IF(INTRO!$E$39=\"Non-endemic\",\"Treat with DEC\",COUNTRY_INFO!W46))","v":0},{"$f":"IF(INTRO!$E$39<>\"Non-endemic\",COUNTRY_INFO!X46,\"Not required\")","v":0},{"$f":"IF(COUNTRY_INFO!H46=1, IF($E46=1,IF(ALB_MBD!$G46<>\" \",COUNTRY_INFO!F46+COUNTRY_INFO!G46-ALB_MBD!$G46,COUNTRY_INFO!F46+COUNTRY_INFO!G46), 0),0)","v":0},{"$f":"IF(INTRO!$E$39<>\"Endemic\",0, IF(AND(COUNTRY_INFO!$I46=1,$F46<>0),IF(COUNTRY_INFO!N46>=(COUNTRY_INFO!F46+COUNTRY_INFO!G46),COUNTRY_INFO!F46+COUNTRY_INFO!G46,COUNTRY_INFO!$N46), 0))","v":0},0,0,0,0,null,0]
[{"$f":"IF(INTRO!$E$39=\"Non-endemic\",\" \",IF(COUNTRY_INFO!A47=0,\" \",COUNTRY_INFO!A47))","v":"Tchad"},{"$f":"IF(INTRO!$E$39=\"Non-endemic\",\" \",IF(COUNTRY_INFO!B47=0,\" \",COUNTRY_INFO!B47))","v":"Hadjer Lamis"},{"$f":"IF(INTRO!$E$39=\"Non-endemic\",\" \",IF(COUNTRY_INFO!C47=0,\" \",COUNTRY_INFO!C47))","v":"Massakory"},{"$f":"IF(INTRO!$E$39=\"Non-endemic\",0,IF(INTRO!$E$39=\"Endemic but PC is not required\",IF(COUNTRY_INFO!$H47=1,COUNTRY_INFO!F47+COUNTRY_INFO!G47,0),IF(COUNTRY_INFO!$H47=1,COUNTRY_INFO!F47+COUNTRY_INFO!G47,IF(COUNTRY_INFO!$I47=1,IF(COUNTRY_INFO!N47>=(COUNTRY_INFO!F47+COUNTRY_INFO!G47),COUNTRY_INFO!F47+COUNTRY_INFO!G47,COUNTRY_INFO!$N47),0))))","v":0},{"$f":"IF(AND(INTRO!$E$39=\"Non-endemic\",INTRO!$E$37=\"Non-endemic\"),\"Not required\",IF(INTRO!$E$39=\"Non-endemic\",\"Treat with DEC\",COUNTRY_INFO!W47))","v":0},{"$f":"IF(INTRO!$E$39<>\"Non-endemic\",COUNTRY_INFO!X47,\"Not required\")","v":0},{"$f":"IF(COUNTRY_INFO!H47=1, IF($E47=1,IF(ALB_MBD!$G47<>\" \",COUNTRY_INFO!F47+COUNTRY_INFO!G47-ALB_MBD!$G47,COUNTRY_INFO!F47+COUNTRY_INFO!G47), 0),0)","v":0},{"$f":"IF(INTRO!$E$39<>\"Endemic\",0, IF(AND(COUNTRY_INFO!$I47=1,$F47<>0),IF(COUNTRY_INFO!N47>=(COUNTRY_INFO!F47+COUNTRY_INFO!G47),COUNTRY_INFO!F47+COUNTRY_INFO!G47,COUNTRY_INFO!$N47), 0))","v":0},0,0,0,0,null,0]
[{"$f":"IF(INTRO!$E$39=\"Non-endemic\",\" \",IF(COUNTRY_INFO!A48=0,\" \",COUNTRY_INFO!A48))","v":"Tchad"},{"$f":"IF(INTRO!$E$39=\"Non-endemic\",\" \",IF(COUNTRY_INFO!B48=0,\" \",COUNTRY_INFO!B48))","v":"Kanem"},{"$f":"IF(INTRO!$E$39=\"Non-endemic\",\" \",IF(COUNTRY_INFO!C48=0,\" \",COUNTRY_INFO!C48))","v":"Amdoback"},{"$f":"IF(INTRO!$E$39=\"Non-endemic\",0,IF(INTRO!$E$39=\"Endemic but PC is not required\",IF(COUNTRY_INFO!$H48=1,COUNTRY_INFO!F48+COUNTRY_INFO!G48,0),IF(COUNTRY_INFO!$H48=1,COUNTRY_INFO!F48+COUNTRY_INFO!G48,IF(COUNTRY_INFO!$I48=1,IF(COUNTRY_INFO!N48>=(COUNTRY_INFO!F48+COUNTRY_INFO!G48),COUNTRY_INFO!F48+COUNTRY_INFO!G48,COUNTRY_INFO!$N48),0))))","v":0},{"$f":"IF(AND(INTRO!$E$39=\"Non-endemic\",INTRO!$E$37=\"Non-endemic\"),\"Not required\",IF(INTRO!$E$39=\"Non-endemic\",\"Treat with DEC\",COUNTRY_INFO!W48))","v":0},{"$f":"IF(INTRO!$E$39<>\"Non-endemic\",COUNTRY_INFO!X48,\"Not required\")","v":0},{"$f":"IF(COUNTRY_INFO!H48=1, IF($E48=1,IF(ALB_MBD!$G48<>\" \",COUNTRY_INFO!F48+COUNTRY_INFO!G48-ALB_MBD!$G48,COUNTRY_INFO!F48+COUNTRY_INFO!G48), 0),0)","v":0},{"$f":"IF(INTRO!$E$39<>\"Endemic\",0, IF(AND(COUNTRY_INFO!$I48=1,$F48<>0),IF(COUNTRY_INFO!N48>=(COUNTRY_INFO!F48+COUNTRY_INFO!G48),COUNTRY_INFO!F48+COUNTRY_INFO!G48,COUNTRY_INFO!$N48), 0))","v":0},0,0,0,0,null,0]
[{"$f":"IF(INTRO!$E$39=\"Non-endemic\",\" \",IF(COUNTRY_INFO!A49=0,\" \",COUNTRY_INFO!A49))","v":"Tchad"},{"$f":"IF(INTRO!$E$39=\"Non-endemic\",\" \",IF(COUNTRY_INFO!B49=0,\" \",COUNTRY_INFO!B49))","v":"Kanem"},{"$f":"IF(INTRO!$E$39=\"Non-endemic\",\" \",IF(COUNTRY_INFO!C49=0,\" \",COUNTRY_INFO!C49))","v":"Kekedina"},{"$f":"IF(INTRO!$E$39=\"Non-endemic\",0,IF(INTRO!$E$39=\"Endemic but PC is not required\",IF(COUNTRY_INFO!$H49=1,COUNTRY_INFO!F49+COUNTRY_INFO!G49,0),IF(COUNTRY_INFO!$H49=1,COUNTRY_INFO!F49+COUNTRY_INFO!G49,IF(COUNTRY_INFO!$I49=1,IF(COUNTRY_INFO!N49>=(COUNTRY_INFO!F49+COUNTRY_INFO!G49),COUNTRY_INFO!F49+COUNTRY_INFO!G49,COUNTRY_INFO!$N49),0))))","v":0},{"$f":"IF(AND(INTRO!$E$39=\"Non-endemic\",INTRO!$E$37=\"Non-endemic\"),\"Not required\",IF(INTRO!$E$39=\"Non-endemic\",\"Treat with DEC\",COUNTRY_INFO!W49))","v":0},{"$f":"IF(INTRO!$E$39<>\"Non-endemic\",COUNTRY_INFO!X49,\"Not required\")","v":0},{"$f":"IF(COUNTRY_INFO!H49=1, IF($E49=1,IF(ALB_MBD!$G49<>\" \",COUNTRY_INFO!F49+COUNTRY_INFO!G49-ALB_MBD!$G49,COUNTRY_INFO!F49+COUNTRY_INFO!G49), 0),0)","v":0},{"$f":"IF(INTRO!$E$39<>\"Endemic\",0, IF(AND(COUNTRY_INFO!$I49=1,$F49<>0),IF(COUNTRY_INFO!N49>=(COUNTRY_INFO!F49+COUNTRY_INFO!G49),COUNTRY_INFO!F49+COUNTRY_INFO!G49,COUNTRY_INFO!$N49), 0))","v":0},0,0,0,0,null,0]
[{"$f":"IF(INTRO!$E$39=\"Non-endemic\",\" \",IF(COUNTRY_INFO!A50=0,\" \",COUNTRY_INFO!A50))","v":"Tchad"},{"$f":"IF(INTRO!$E$39=\"Non-endemic\",\" \",IF(COUNTRY_INFO!B50=0,\" \",COUNTRY_INFO!B50))","v":"Kanem"},{"$f":"IF(INTRO!$E$39=\"Non-endemic\",\" \",IF(COUNTRY_INFO!C50=0,\" \",COUNTRY_INFO!C50))","v":"Mao"},{"$f":"IF(INTRO!$E$39=\"Non-endemic\",0,IF(INTRO!$E$39=\"Endemic but PC is not required\",IF(COUNTRY_INFO!$H50=1,COUNTRY_INFO!F50+COUNTRY_INFO!G50,0),IF(COUNTRY_INFO!$H50=1,COUNTRY_INFO!F50+COUNTRY_INFO!G50,IF(COUNTRY_INFO!$I50=1,IF(COUNTRY_INFO!N50>=(COUNTRY_INFO!F50+COUNTRY_INFO!G50),COUNTRY_INFO!F50+COUNTRY_INFO!G50,COUNTRY_INFO!$N50),0))))","v":0},{"$f":"IF(AND(INTRO!$E$39=\"Non-endemic\",INTRO!$E$37=\"Non-endemic\"),\"Not required\",IF(INTRO!$E$39=\"Non-endemic\",\"Treat with DEC\",COUNTRY_INFO!W50))","v":0},{"$f":"IF(INTRO!$E$39<>\"Non-endemic\",COUNTRY_INFO!X50,\"Not required\")","v":0},{"$f":"IF(COUNTRY_INFO!H50=1, IF($E50=1,IF(ALB_MBD!$G50<>\" \",COUNTRY_INFO!F50+COUNTRY_INFO!G50-ALB_MBD!$G50,COUNTRY_INFO!F50+COUNTRY_INFO!G50), 0),0)","v":0},{"$f":"IF(INTRO!$E$39<>\"Endemic\",0, IF(AND(COUNTRY_INFO!$I50=1,$F50<>0),IF(COUNTRY_INFO!N50>=(COUNTRY_INFO!F50+COUNTRY_INFO!G50),COUNTRY_INFO!F50+COUNTRY_INFO!G50,COUNTRY_INFO!$N50), 0))","v":0},0,0,0,0,null,0]
[{"$f":"IF(INTRO!$E$39=\"Non-endemic\",\" \",IF(COUNTRY_INFO!A51=0,\" \",COUNTRY_INFO!A51))","v":"Tchad"},{"$f":"IF(INTRO!$E$39=\"Non-endemic\",\" \",IF(COUNTRY_INFO!B51=0,\" \",COUNTRY_INFO!B51))","v":"Kanem"},{"$f":"IF(INTRO!$E$39=\"Non-endemic\",\" \",IF(COUNTRY_INFO!C51=0,\" \",COUNTRY_INFO!C51))","v":"Mondo"},{"$f":"IF(INTRO!$E$39=\"Non-endemic\",0,IF(INTRO!$E$39=\"Endemic but PC is not required\",IF(COUNTRY_INFO!$H51=1,COUNTRY_INFO!F51+COUNTRY_INFO!G51,0),IF(COUNTRY_INFO!$H51=1,COUNTRY_INFO!F51+COUNTRY_INFO!G51,IF(COUNTRY_INFO!$I51=1,IF(COUNTRY_INFO!N51>=(COUNTRY_INFO!F51+COUNTRY_INFO!G51),COUNTRY_INFO!F51+COUNTRY_INFO!G51,COUNTRY_INFO!$N51),0))))","v":0},{"$f":"IF(AND(INTRO!$E$39=\"Non-endemic\",INTRO!$E$37=\"Non-endemic\"),\"Not required\",IF(INTRO!$E$39=\"Non-endemic\",\"Treat with DEC\",COUNTRY_INFO!W51))","v":0},{"$f":"IF(INTRO!$E$39<>\"Non-endemic\",COUNTRY_INFO!X51,\"Not required\")","v":0},{"$f":"IF(COUNTRY_INFO!H51=1, IF($E51=1,IF(ALB_MBD!$G51<>\" \",COUNTRY_INFO!F51+COUNTRY_INFO!G51-ALB_MBD!$G51,COUNTRY_INFO!F51+COUNTRY_INFO!G51), 0),0)","v":0},{"$f":"IF(INTRO!$E$39<>\"Endemic\",0, IF(AND(COUNTRY_INFO!$I51=1,$F51<>0),IF(COUNTRY_INFO!N51>=(COUNTRY_INFO!F51+COUNTRY_INFO!G51),COUNTRY_INFO!F51+COUNTRY_INFO!G51,COUNTRY_INFO!$N51), 0))","v":0},0,0,0,0,null,0]
[{"$f":"IF(INTRO!$E$39=\"Non-endemic\",\" \",IF(COUNTRY_INFO!A52=0,\" \",COUNTRY_INFO!A52))","v":"Tchad"},{"$f":"IF(INTRO!$E$39=\"Non-endemic\",\" \",IF(COUNTRY_INFO!B52=0,\" \",COUNTRY_INFO!B52))","v":"Kanem"},{"$f":"IF(INTRO!$E$39=\"Non-endemic\",\" \",IF(COUNTRY_INFO!C52=0,\" \",COUNTRY_INFO!C52))","v":"Nokou"},{"$f":"IF(INTRO!$E$39=\"Non-endemic\",0,IF(INTRO!$E$39=\"Endemic but PC is not required\",IF(COUNTRY_INFO!$H52=1,COUNTRY_INFO!F52+COUNTRY_INFO!G52,0),IF(COUNTRY_INFO!$H52=1,COUNTRY_INFO!F52+COUNTRY_INFO!G52,IF(COUNTRY_INFO!$I52=1,IF(COUNTRY_INFO!N52>=(COUNTRY_INFO!F52+COUNTRY_INFO!G52),COUNTRY_INFO!F52+COUNTRY_INFO!G52,COUNTRY_INFO!$N52),0))))","v":0},{"$f":"IF(AND(INTRO!$E$39=\"Non-endemic\",INTRO!$E$37=\"Non-endemic\"),\"Not required\",IF(INTRO!$E$39=\"Non-endemic\",\"Treat with DEC\",COUNTRY_INFO!W52))","v":0},{"$f":"IF(INTRO!$E$39<>\"Non-endemic\",COUNTRY_INFO!X52,\"Not required\")","v":0},{"$f":"IF(COUNTRY_INFO!H52=1, IF($E52=1,IF(ALB_MBD!$G52<>\" \",COUNTRY_INFO!F52+COUNTRY_INFO!G52-ALB_MBD!$G52,COUNTRY_INFO!F52+COUNTRY_INFO!G52), 0),0)","v":0},{"$f":"IF(INTRO!$E$39<>\"Endemic\",0, IF(AND(COUNTRY_INFO!$I52=1,$F52<>0),IF(COUNTRY_INFO!N52>=(COUNTRY_INFO!F52+COUNTRY_INFO!G52),COUNTRY_INFO!F52+COUNTRY_INFO!G52,COUNTRY_INFO!$N52), 0))","v":0},0,0,0,0,null,0]
[{"$f":"IF(INTRO!$E$39=\"Non-endemic\",\" \",IF(COUNTRY_INFO!A53=0,\" \",COUNTRY_INFO!A53))","v":"Tchad"},{"$f":"IF(INTRO!$E$39=\"Non-endemic\",\" \",IF(COUNTRY_INFO!B53=0,\" \",COUNTRY_INFO!B53))","v":"Kanem"},{"$f":"IF(INTRO!$E$39=\"Non-endemic\",\" \",IF(COUNTRY_INFO!C53=0,\" \",COUNTRY_INFO!C53))","v":"Ntiona"},{"$f":"IF(INTRO!$E$39=\"Non-endemic\",0,IF(INTRO!$E$39=\"Endemic but PC is not required\",IF(COUNTRY_INFO!$H53=1,COUNTRY_INFO!F53+COUNTRY_INFO!G53,0),IF(COUNTRY_INFO!$H53=1,COUNTRY_INFO!F53+COUNTRY_INFO!G53,IF(COUNTRY_INFO!$I53=1,IF(COUNTRY_INFO!N53>=(COUNTRY_INFO!F53+COUNTRY_INFO!G53),COUNTRY_INFO!F53+COUNTRY_INFO!G53,COUNTRY_INFO!$N53),0))))","v":0},{"$f":"IF(AND(INTRO!$E$39=\"Non-endemic\",INTRO!$E$37=\"Non-endemic\"),\"Not required\",IF(INTRO!$E$39=\"Non-endemic\",\"Treat with DEC\",COUNTRY_INFO!W53))","v":0},{"$f":"IF(INTRO!$E$39<>\"Non-endemic\",COUNTRY_INFO!X53,\"Not required\")","v":0},{"$f":"IF(COUNTRY_INFO!H53=1, IF($E53=1,IF(ALB_MBD!$G53<>\" \",COUNTRY_INFO!F53+COUNTRY_INFO!G53-ALB_MBD!$G53,COUNTRY_INFO!F53+COUNTRY_INFO!G53), 0),0)","v":0},{"$f":"IF(INTRO!$E$39<>\"Endemic\",0, IF(AND(COUNTRY_INFO!$I53=1,$F53<>0),IF(COUNTRY_INFO!N53>=(COUNTRY_INFO!F53+COUNTRY_INFO!G53),COUNTRY_INFO!F53+COUNTRY_INFO!G53,COUNTRY_INFO!$N53), 0))","v":0},0,0,0,0,null,0]
[{"$f":"IF(INTRO!$E$39=\"Non-endemic\",\" \",IF(COUNTRY_INFO!A54=0,\" \",COUNTRY_INFO!A54))","v":"Tchad"},{"$f":"IF(INTRO!$E$39=\"Non-endemic\",\" \",IF(COUNTRY_INFO!B54=0,\" \",COUNTRY_INFO!B54))","v":"Kanem"},{"$f":"IF(INTRO!$E$39=\"Non-endemic\",\" \",IF(COUNTRY_INFO!C54=0,\" \",COUNTRY_INFO!C54))","v":"Rig-Rig"},{"$f":"IF(INTRO!$E$39=\"Non-endemic\",0,IF(INTRO!$E$39=\"Endemic but PC is not required\",IF(COUNTRY_INFO!$H54=1,COUNTRY_INFO!F54+COUNTRY_INFO!G54,0),IF(COUNTRY_INFO!$H54=1,COUNTRY_INFO!F54+COUNTRY_INFO!G54,IF(COUNTRY_INFO!$I54=1,IF(COUNTRY_INFO!N54>=(COUNTRY_INFO!F54+COUNTRY_INFO!G54),COUNTRY_INFO!F54+COUNTRY_INFO!G54,COUNTRY_INFO!$N54),0))))","v":0},{"$f":"IF(AND(INTRO!$E$39=\"Non-endemic\",INTRO!$E$37=\"Non-endemic\"),\"Not required\",IF(INTRO!$E$39=\"Non-endemic\",\"Treat with DEC\",COUNTRY_INFO!W54))","v":0},{"$f":"IF(INTRO!$E$39<>\"Non-endemic\",COUNTRY_INFO!X54,\"Not required\")","v":0},{"$f":"IF(COUNTRY_INFO!H54=1, IF($E54=1,IF(ALB_MBD!$G54<>\" \",COUNTRY_INFO!F54+COUNTRY_INFO!G54-ALB_MBD!$G54,COUNTRY_INFO!F54+COUNTRY_INFO!G54), 0),0)","v":0},{"$f":"IF(INTRO!$E$39<>\"Endemic\",0, IF(AND(COUNTRY_INFO!$I54=1,$F54<>0),IF(COUNTRY_INFO!N54>=(COUNTRY_INFO!F54+COUNTRY_INFO!G54),COUNTRY_INFO!F54+COUNTRY_INFO!G54,COUNTRY_INFO!$N54), 0))","v":0},0,0,0,0,null,0]
[{"$f":"IF(INTRO!$E$39=\"Non-endemic\",\" \",IF(COUNTRY_INFO!A55=0,\" \",COUNTRY_INFO!A55))","v":"Tchad"},{"$f":"IF(INTRO!$E$39=\"Non-endemic\",\" \",IF(COUNTRY_INFO!B55=0,\" \",COUNTRY_INFO!B55))","v":"Lac"},{"$f":"IF(INTRO!$E$39=\"Non-endemic\",\" \",IF(COUNTRY_INFO!C55=0,\" \",COUNTRY_INFO!C55))","v":"Bagassola"},{"$f":"IF(INTRO!$E$39=\"Non-endemic\",0,IF(INTRO!$E$39=\"Endemic but PC is not required\",IF(COUNTRY_INFO!$H55=1,COUNTRY_INFO!F55+COUNTRY_INFO!G55,0),IF(COUNTRY_INFO!$H55=1,COUNTRY_INFO!F55+COUNTRY_INFO!G55,IF(COUNTRY_INFO!$I55=1,IF(COUNTRY_INFO!N55>=(COUNTRY_INFO!F55+COUNTRY_INFO!G55),COUNTRY_INFO!F55+COUNTRY_INFO!G55,COUNTRY_INFO!$N55),0))))","v":0},{"$f":"IF(AND(INTRO!$E$39=\"Non-endemic\",INTRO!$E$37=\"Non-endemic\"),\"Not required\",IF(INTRO!$E$39=\"Non-endemic\",\"Treat with DEC\",COUNTRY_INFO!W55))","v":0},{"$f":"IF(INTRO!$E$39<>\"Non-endemic\",COUNTRY_INFO!X55,\"Not required\")","v":0},{"$f":"IF(COUNTRY_INFO!H55=1, IF($E55=1,IF(ALB_MBD!$G55<>\" \",COUNTRY_INFO!F55+COUNTRY_INFO!G55-ALB_MBD!$G55,COUNTRY_INFO!F55+COUNTRY_INFO!G55), 0),0)","v":0},{"$f":"IF(INTRO!$E$39<>\"Endemic\",0, IF(AND(COUNTRY_INFO!$I55=1,$F55<>0),IF(COUNTRY_INFO!N55>=(COUNTRY_INFO!F55+COUNTRY_INFO!G55),COUNTRY_INFO!F55+COUNTRY_INFO!G55,COUNTRY_INFO!$N55), 0))","v":0},0,0,0,0,null,0]
[{"$f":"IF(INTRO!$E$39=\"Non-endemic\",\" \",IF(COUNTRY_INFO!A56=0,\" \",COUNTRY_INFO!A56))","v":"Tchad"},{"$f":"IF(INTRO!$E$39=\"Non-endemic\",\" \",IF(COUNTRY_INFO!B56=0,\" \",COUNTRY_INFO!B56))","v":"Lac"},{"$f":"IF(INTRO!$E$39=\"Non-endemic\",\" \",IF(COUNTRY_INFO!C56=0,\" \",COUNTRY_INFO!C56))","v":"Bol"},{"$f":"IF(INTRO!$E$39=\"Non-endemic\",0,IF(INTRO!$E$39=\"Endemic but PC is not required\",IF(COUNTRY_INFO!$H56=1,COUNTRY_INFO!F56+COUNTRY_INFO!G56,0),IF(COUNTRY_INFO!$H56=1,COUNTRY_INFO!F56+COUNTRY_INFO!G56,IF(COUNTRY_INFO!$I56=1,IF(COUNTRY_INFO!N56>=(COUNTRY_INFO!F56+COUNTRY_INFO!G56),COUNTRY_INFO!F56+COUNTRY_INFO!G56,COUNTRY_INFO!$N56),0))))","v":0},{"$f":"IF(AND(INTRO!$E$39=\"Non-endemic\",INTRO!$E$37=\"Non-endemic\"),\"Not required\",IF(INTRO!$E$39=\"Non-endemic\",\"Treat with DEC\",COUNTRY_INFO!W56))","v":0},{"$f":"IF(INTRO!$E$39<>\"Non-endemic\",COUNTRY_INFO!X56,\"Not required\")","v":0},{"$f":"IF(COUNTRY_INFO!H56=1, IF($E56=1,IF(ALB_MBD!$G56<>\" \",COUNTRY_INFO!F56+COUNTRY_INFO!G56-ALB_MBD!$G56,COUNTRY_INFO!F56+COUNTRY_INFO!G56), 0),0)","v":0},{"$f":"IF(INTRO!$E$39<>\"Endemic\",0, IF(AND(COUNTRY_INFO!$I56=1,$F56<>0),IF(COUNTRY_INFO!N56>=(COUNTRY_INFO!F56+COUNTRY_INFO!G56),COUNTRY_INFO!F56+COUNTRY_INFO!G56,COUNTRY_INFO!$N56), 0))","v":0},0,0,0,0,null,0]
[{"$f":"IF(INTRO!$E$39=\"Non-endemic\",\" \",IF(COUNTRY_INFO!A57=0,\" \",COUNTRY_INFO!A57))","v":"Tchad"},{"$f":"IF(INTRO!$E$39=\"Non-endemic\",\" \",IF(COUNTRY_INFO!B57=0,\" \",COUNTRY_INFO!B57))","v":"Lac"},{"$f":"IF(INTRO!$E$39=\"Non-endemic\",\" \",IF(COUNTRY_INFO!C57=0,\" \",COUNTRY_INFO!C57))","v":"Isserom"},{"$f":"IF(INTRO!$E$39=\"Non-endemic\",0,IF(INTRO!$E$39=\"Endemic but PC is not required\",IF(COUNTRY_INFO!$H57=1,COUNTRY_INFO!F57+COUNTRY_INFO!G57,0),IF(COUNTRY_INFO!$H57=1,COUNTRY_INFO!F57+COUNTRY_INFO!G57,IF(COUNTRY_INFO!$I57=1,IF(COUNTRY_INFO!N57>=(COUNTRY_INFO!F57+COUNTRY_INFO!G57),COUNTRY_INFO!F57+COUNTRY_INFO!G57,COUNTRY_INFO!$N57),0))))","v":0},{"$f":"IF(AND(INTRO!$E$39=\"Non-endemic\",INTRO!$E$37=\"Non-endemic\"),\"Not required\",IF(INTRO!$E$39=\"Non-endemic\",\"Treat with DEC\",COUNTRY_INFO!W57))","v":0},{"$f":"IF(INTRO!$E$39<>\"Non-endemic\",COUNTRY_INFO!X57,\"Not required\")","v":0},{"$f":"IF(COUNTRY_INFO!H57=1, IF($E57=1,IF(ALB_MBD!$G57<>\" \",COUNTRY_INFO!F57+COUNTRY_INFO!G57-ALB_MBD!$G57,COUNTRY_INFO!F57+COUNTRY_INFO!G57), 0),0)","v":0},{"$f":"IF(INTRO!$E$39<>\"Endemic\",0, IF(AND(COUNTRY_INFO!$I57=1,$F57<>0),IF(COUNTRY_INFO!N57>=(COUNTRY_INFO!F57+COUNTRY_INFO!G57),COUNTRY_INFO!F57+COUNTRY_INFO!G57,COUNTRY_INFO!$N57), 0))","v":0},0,0,0,0,null,0]
[{"$f":"IF(INTRO!$E$39=\"Non-endemic\",\" \",IF(COUNTRY_INFO!A58=0,\" \",COUNTRY_INFO!A58))","v":"Tchad"},{"$f":"IF(INTRO!$E$39=\"Non-endemic\",\" \",IF(COUNTRY_INFO!B58=0,\" \",COUNTRY_INFO!B58))","v":"Lac"},{"$f":"IF(INTRO!$E$39=\"Non-endemic\",\" \",IF(COUNTRY_INFO!C58=0,\" \",COUNTRY_INFO!C58))","v":"Kouloudia"},{"$f":"IF(INTRO!$E$39=\"Non-endemic\",0,IF(INTRO!$E$39=\"Endemic but PC is not required\",IF(COUNTRY_INFO!$H58=1,COUNTRY_INFO!F58+COUNTRY_INFO!G58,0),IF(COUNTRY_INFO!$H58=1,COUNTRY_INFO!F58+COUNTRY_INFO!G58,IF(COUNTRY_INFO!$I58=1,IF(COUNTRY_INFO!N58>=(COUNTRY_INFO!F58+COUNTRY_INFO!G58),COUNTRY_INFO!F58+COUNTRY_INFO!G58,COUNTRY_INFO!$N58),0))))","v":0},{"$f":"IF(AND(INTRO!$E$39=\"Non-endemic\",INTRO!$E$37=\"Non-endemic\"),\"Not required\",IF(INTRO!$E$39=\"Non-endemic\",\"Treat with DEC\",COUNTRY_INFO!W58))","v":0},{"$f":"IF(INTRO!$E$39<>\"Non-endemic\",COUNTRY_INFO!X58,\"Not required\")","v":0},{"$f":"IF(COUNTRY_INFO!H58=1, IF($E58=1,IF(ALB_MBD!$G58<>\" \",COUNTRY_INFO!F58+COUNTRY_INFO!G58-ALB_MBD!$G58,COUNTRY_INFO!F58+COUNTRY_INFO!G58), 0),0)","v":0},{"$f":"IF(INTRO!$E$39<>\"Endemic\",0, IF(AND(COUNTRY_INFO!$I58=1,$F58<>0),IF(COUNTRY_INFO!N58>=(COUNTRY_INFO!F58+COUNTRY_INFO!G58),COUNTRY_INFO!F58+COUNTRY_INFO!G58,COUNTRY_INFO!$N58), 0))","v":0},0,0,0,0,null,0]
[{"$f":"IF(INTRO!$E$39=\"Non-endemic\",\" \",IF(COUNTRY_INFO!A59=0,\" \",COUNTRY_INFO!A59))","v":"Tchad"},{"$f":"IF(INTRO!$E$39=\"Non-endemic\",\" \",IF(COUNTRY_INFO!B59=0,\" \",COUNTRY_INFO!B59))","v":"Lac"},{"$f":"IF(INTRO!$E$39=\"Non-endemic\",\" \",IF(COUNTRY_INFO!C59=0,\" \",COUNTRY_INFO!C59))","v":"Liwa"},{"$f":"IF(INTRO!$E$39=\"Non-endemic\",0,IF(INTRO!$E$39=\"Endemic but PC is not required\",IF(COUNTRY_INFO!$H59=1,COUNTRY_INFO!F59+COUNTRY_INFO!G59,0),IF(COUNTRY_INFO!$H59=1,COUNTRY_INFO!F59+COUNTRY_INFO!G59,IF(COUNTRY_INFO!$I59=1,IF(COUNTRY_INFO!N59>=(COUNTRY_INFO!F59+COUNTRY_INFO!G59),COUNTRY_INFO!F59+COUNTRY_INFO!G59,COUNTRY_INFO!$N59),0))))","v":0},{"$f":"IF(AND(INTRO!$E$39=\"Non-endemic\",INTRO!$E$37=\"Non-endemic\"),\"Not required\",IF(INTRO!$E$39=\"Non-endemic\",\"Treat with DEC\",COUNTRY_INFO!W59))","v":0},{"$f":"IF(INTRO!$E$39<>\"Non-endemic\",COUNTRY_INFO!X59,\"Not required\")","v":0},{"$f":"IF(COUNTRY_INFO!H59=1, IF($E59=1,IF(ALB_MBD!$G59<>\" \",COUNTRY_INFO!F59+COUNTRY_INFO!G59-ALB_MBD!$G59,COUNTRY_INFO!F59+COUNTRY_INFO!G59), 0),0)","v":0},{"$f":"IF(INTRO!$E$39<>\"Endemic\",0, IF(AND(COUNTRY_INFO!$I59=1,$F59<>0),IF(COUNTRY_INFO!N59>=(COUNTRY_INFO!F59+COUNTRY_INFO!G59),COUNTRY_INFO!F59+COUNTRY_INFO!G59,COUNTRY_INFO!$N59), 0))","v":0},0,0,0,0,null,0]
[{"$f":"IF(INTRO!$E$39=\"Non-endemic\",\" \",IF(COUNTRY_INFO!A60=0,\" \",COUNTRY_INFO!A60))","v":"Tchad"},{"$f":"IF(INTRO!$E$39=\"Non-endemic\",\" \",IF(COUNTRY_INFO!B60=0,\" \",COUNTRY_INFO!B60))","v":"Lac"},{"$f":"IF(INTRO!$E$39=\"Non-endemic\",\" \",IF(COUNTRY_INFO!C60=0,\" \",COUNTRY_INFO!C60))","v":"Ngouri"},{"$f":"IF(INTRO!$E$39=\"Non-endemic\",0,IF(INTRO!$E$39=\"Endemic but PC is not required\",IF(COUNTRY_INFO!$H60=1,COUNTRY_INFO!F60+COUNTRY_INFO!G60,0),IF(COUNTRY_INFO!$H60=1,COUNTRY_INFO!F60+COUNTRY_INFO!G60,IF(COUNTRY_INFO!$I60=1,IF(COUNTRY_INFO!N60>=(COUNTRY_INFO!F60+COUNTRY_INFO!G60),COUNTRY_INFO!F60+COUNTRY_INFO!G60,COUNTRY_INFO!$N60),0))))","v":0},{"$f":"IF(AND(INTRO!$E$39=\"Non-endemic\",INTRO!$E$37=\"Non-endemic\"),\"Not required\",IF(INTRO!$E$39=\"Non-endemic\",\"Treat with DEC\",COUNTRY_INFO!W60))","v":0},{"$f":"IF(INTRO!$E$39<>\"Non-endemic\",COUNTRY_INFO!X60,\"Not required\")","v":0},{"$f":"IF(COUNTRY_INFO!H60=1, IF($E60=1,IF(ALB_MBD!$G60<>\" \",COUNTRY_INFO!F60+COUNTRY_INFO!G60-ALB_MBD!$G60,COUNTRY_INFO!F60+COUNTRY_INFO!G60), 0),0)","v":0},{"$f":"IF(INTRO!$E$39<>\"Endemic\",0, IF(AND(COUNTRY_INFO!$I60=1,$F60<>0),IF(COUNTRY_INFO!N60>=(COUNTRY_INFO!F60+COUNTRY_INFO!G60),COUNTRY_INFO!F60+COUNTRY_INFO!G60,COUNTRY_INFO!$N60), 0))","v":0},0,0,0,0,null,0]
[{"$f":"IF(INTRO!$E$39=\"Non-endemic\",\" \",IF(COUNTRY_INFO!A61=0,\" \",COUNTRY_INFO!A61))","v":"Tchad"},{"$f":"IF(INTRO!$E$39=\"Non-endemic\",\" \",IF(COUNTRY_INFO!B61=0,\" \",COUNTRY_INFO!B61))","v":"Logone Occidental"},{"$f":"IF(INTRO!$E$39=\"Non-endemic\",\" \",IF(COUNTRY_INFO!C61=0,\" \",COUNTRY_INFO!C61))","v":"Benamar"},{"$f":"IF(INTRO!$E$39=\"Non-endemic\",0,IF(INTRO!$E$39=\"Endemic but PC is not required\",IF(COUNTRY_INFO!$H61=1,COUNTRY_INFO!F61+COUNTRY_INFO!G61,0),IF(COUNTRY_INFO!$H61=1,COUNTRY_INFO!F61+COUNTRY_INFO!G61,IF(COUNTRY_INFO!$I61=1,IF(COUNTRY_INFO!N61>=(COUNTRY_INFO!F61+COUNTRY_INFO!G61),COUNTRY_INFO!F61+COUNTRY_INFO!G61,COUNTRY_INFO!$N61),0))))","v":89049},{"$f":"IF(AND(INTRO!$E$39=\"Non-endemic\",INTRO!$E$37=\"Non-endemic\"),\"Not required\",IF(INTRO!$E$39=\"Non-endemic\",\"Treat with DEC\",COUNTRY_INFO!W61))","v":1},{"$f":"IF(INTRO!$E$39<>\"Non-endemic\",COUNTRY_INFO!X61,\"Not required\")","v":1},{"$f":"IF(COUNTRY_INFO!H61=1, IF($E61=1,IF(ALB_MBD!$G61<>\" \",COUNTRY_INFO!F61+COUNTRY_INFO!G61-ALB_MBD!$G61,COUNTRY_INFO!F61+COUNTRY_INFO!G61), 0),0)","v":89049},{"$f":"IF(INTRO!$E$39<>\"Endemic\",0, IF(AND(COUNTRY_INFO!$I61=1,$F61<>0),IF(COUNTRY_INFO!N61>=(COUNTRY_INFO!F61+COUNTRY_INFO!G61),COUNTRY_INFO!F61+COUNTRY_INFO!G61,COUNTRY_INFO!$N61), 0))","v":89049},0,0,249337.19999999998,249337.19999999998,null,249337.19999999998]
[{"$f":"IF(INTRO!$E$39=\"Non-endemic\",\" \",IF(COUNTRY_INFO!A62=0,\" \",COUNTRY_INFO!A62))","v":"Tchad"},{"$f":"IF(INTRO!$E$39=\"Non-endemic\",\" \",IF(COUNTRY_INFO!B62=0,\" \",COUNTRY_INFO!B62))","v":"Logone Occidental"},{"$f":"IF(INTRO!$E$39=\"Non-endemic\",\" \",IF(COUNTRY_INFO!C62=0,\" \",COUNTRY_INFO!C62))","v":"Benoye"},{"$f":"IF(INTRO!$E$39=\"Non-endemic\",0,IF(INTRO!$E$39=\"Endemic but PC is not required\",IF(COUNTRY_INFO!$H62=1,COUNTRY_INFO!F62+COUNTRY_INFO!G62,0),IF(COUNTRY_INFO!$H62=1,COUNTRY_INFO!F62+COUNTRY_INFO!G62,IF(COUNTRY_INFO!$I62=1,IF(COUNTRY_INFO!N62>=(COUNTRY_INFO!F62+COUNTRY_INFO!G62),COUNTRY_INFO!F62+COUNTRY_INFO!G62,COUNTRY_INFO!$N62),0))))","v":0},{"$f":"IF(AND(INTRO!$E$39=\"Non-endemic\",INTRO!$E$37=\"Non-endemic\"),\"Not required\",IF(INTRO!$E$39=\"Non-endemic\",\"Treat with DEC\",COUNTRY_INFO!W62))","v":0},{"$f":"IF(INTRO!$E$39<>\"Non-endemic\",COUNTRY_INFO!X62,\"Not required\")","v":0},{"$f":"IF(COUNTRY_INFO!H62=1, IF($E62=1,IF(ALB_MBD!$G62<>\" \",COUNTRY_INFO!F62+COUNTRY_INFO!G62-ALB_MBD!$G62,COUNTRY_INFO!F62+COUNTRY_INFO!G62), 0),0)","v":0},{"$f":"IF(INTRO!$E$39<>\"Endemic\",0, IF(AND(COUNTRY_INFO!$I62=1,$F62<>0),IF(COUNTRY_INFO!N62>=(COUNTRY_INFO!F62+COUNTRY_INFO!G62),COUNTRY_INFO!F62+COUNTRY_INFO!G62,COUNTRY_INFO!$N62), 0))","v":0},0,0,0,0,null,0]
[{"$f":"IF(INTRO!$E$39=\"Non-endemic\",\" \",IF(COUNTRY_INFO!A63=0,\" \",COUNTRY_INFO!A63))","v":"Tchad"},{"$f":"IF(INTRO!$E$39=\"Non-endemic\",\" \",IF(COUNTRY_INFO!B63=0,\" \",COUNTRY_INFO!B63))","v":"Logone Occidental"},{"$f":"IF(INTRO!$E$39=\"Non-endemic\",\" \",IF(COUNTRY_INFO!C63=0,\" \",COUNTRY_INFO!C63))","v":"Laokassy"},{"$f":"IF(INTRO!$E$39=\"Non-endemic\",0,IF(INTRO!$E$39=\"Endemic but PC is not required\",IF(COUNTRY_INFO!$H63=1,COUNTRY_INFO!F63+COUNTRY_INFO!G63,0),IF(COUNTRY_INFO!$H63=1,COUNTRY_INFO!F63+COUNTRY_INFO!G63,IF(COUNTRY_INFO!$I63=1,IF(COUNTRY_INFO!N63>=(COUNTRY_INFO!F63+COUNTRY_INFO!G63),COUNTRY_INFO!F63+COUNTRY_INFO!G63,COUNTRY_INFO!$N63),0))))","v":171122},{"$f":"IF(AND(INTRO!$E$39=\"Non-endemic\",INTRO!$E$37=\"Non-endemic\"),\"Not required\",IF(INTRO!$E$39=\"Non-endemic\",\"Treat with DEC\",COUNTRY_INFO!W63))","v":0},{"$f":"IF(INTRO!$E$39<>\"Non-endemic\",COUNTRY_INFO!X63,\"Not required\")","v":1},{"$f":"IF(COUNTRY_INFO!H63=1, IF($E63=1,IF(ALB_MBD!$G63<>\" \",COUNTRY_INFO!F63+COUNTRY_INFO!G63-ALB_MBD!$G63,COUNTRY_INFO!F63+COUNTRY_INFO!G63), 0),0)","v":0},{"$f":"IF(INTRO!$E$39<>\"Endemic\",0, IF(AND(COUNTRY_INFO!$I63=1,$F63<>0),IF(COUNTRY_INFO!N63>=(COUNTRY_INFO!F63+COUNTRY_INFO!G63),COUNTRY_INFO!F63+COUNTRY_INFO!G63,COUNTRY_INFO!$N63), 0))","v":171122},0,479141.6,0,479141.6,null,479141.6]
[{"$f":"IF(INTRO!$E$39=\"Non-endemic\",\" \",IF(COUNTRY_INFO!A64=0,\" \",COUNTRY_INFO!A64))","v":"Tchad"},{"$f":"IF(INTRO!$E$39=\"Non-endemic\",\" \",IF(COUNTRY_INFO!B64=0,\" \",COUNTRY_INFO!B64))","v":"Logone Occidental"},{"$f":"IF(INTRO!$E$39=\"Non-endemic\",\" \",IF(COUNTRY_INFO!C64=0,\" \",COUNTRY_INFO!C64))","v":"Moundou"},{"$f":"IF(INTRO!$E$39=\"Non-endemic\",0,IF(INTRO!$E$39=\"Endemic but PC is not required\",IF(COUNTRY_INFO!$H64=1,COUNTRY_INFO!F64+COUNTRY_INFO!G64,0),IF(COUNTRY_INFO!$H64=1,COUNTRY_INFO!F64+COUNTRY_INFO!G64,IF(COUNTRY_INFO!$I64=1,IF(COUNTRY_INFO!N64>=(COUNTRY_INFO!F64+COUNTRY_INFO!G64),COUNTRY_INFO!F64+COUNTRY_INFO!G64,COUNTRY_INFO!$N64),0))))","v":429865},{"$f":"IF(AND(INTRO!$E$39=\"Non-endemic\",INTRO!$E$37=\"Non-endemic\"),\"Not required\",IF(INTRO!$E$39=\"Non-endemic\",\"Treat with DEC\",COUNTRY_INFO!W64))","v":1},{"$f":"IF(INTRO!$E$39<>\"Non-endemic\",COUNTRY_INFO!X64,\"Not required\")","v":1},{"$f":"IF(COUNTRY_INFO!H64=1, IF($E64=1,IF(ALB_MBD!$G64<>\" \",COUNTRY_INFO!F64+COUNTRY_INFO!G64-ALB_MBD!$G64,COUNTRY_INFO!F64+COUNTRY_INFO!G64), 0),0)","v":429865},{"$f":"IF(INTRO!$E$39<>\"Endemic\",0, IF(AND(COUNTRY_INFO!$I64=1,$F64<>0),IF(COUNTRY_INFO!N64>=(COUNTRY_INFO!F64+COUNTRY_INFO!G64),COUNTRY_INFO!F64+COUNTRY_INFO!G64,COUNTRY_INFO!$N64), 0))","v":429865},0,0,1203622,1203622,null,1203622]
[{"$f":"IF(INTRO!$E$39=\"Non-endemic\",\" \",IF(COUNTRY_INFO!A65=0,\" \",COUNTRY_INFO!A65))","v":"Tchad"},{"$f":"IF(INTRO!$E$39=\"Non-endemic\",\" \",IF(COUNTRY_INFO!B65=0,\" \",COUNTRY_INFO!B65))","v":"Logone Orientlal"},{"$f":"IF(INTRO!$E$39=\"Non-endemic\",\" \",IF(COUNTRY_INFO!C65=0,\" \",COUNTRY_INFO!C65))","v":"Baibokoum"},{"$f":"IF(INTRO!$E$39=\"Non-endemic\",0,IF(INTRO!$E$39=\"Endemic but PC is not required\",IF(COUNTRY_INFO!$H65=1,COUNTRY_INFO!F65+COUNTRY_INFO!G65,0),IF(COUNTRY_INFO!$H65=1,COUNTRY_INFO!F65+COUNTRY_INFO!G65,IF(COUNTRY_INFO!$I65=1,IF(COUNTRY_INFO!N65>=(COUNTRY_INFO!F65+COUNTRY_INFO!G65),COUNTRY_INFO!F65+COUNTRY_INFO!G65,COUNTRY_INFO!$N65),0))))","v":68022},{"$f":"IF(AND(INTRO!$E$39=\"Non-endemic\",INTRO!$E$37=\"Non-endemic\"),\"Not required\",IF(INTRO!$E$39=\"Non-endemic\",\"Treat with DEC\",COUNTRY_INFO!W65))","v":1},{"$f":"IF(INTRO!$E$39<>\"Non-endemic\",COUNTRY_INFO!X65,\"Not required\")","v":1},{"$f":"IF(COUNTRY_INFO!H65=1, IF($E65=1,IF(ALB_MBD!$G65<>\" \",COUNTRY_INFO!F65+COUNTRY_INFO!G65-ALB_MBD!$G65,COUNTRY_INFO!F65+COUNTRY_INFO!G65), 0),0)","v":68022},{"$f":"IF(INTRO!$E$39<>\"Endemic\",0, IF(AND(COUNTRY_INFO!$I65=1,$F65<>0),IF(COUNTRY_INFO!N65>=(COUNTRY_INFO!F65+COUNTRY_INFO!G65),COUNTRY_INFO!F65+COUNTRY_INFO!G65,COUNTRY_INFO!$N65), 0))","v":68022},0,0,190461.59999999998,190461.59999999998,null,190461.59999999998]
[{"$f":"IF(INTRO!$E$39=\"Non-endemic\",\" \",IF(COUNTRY_INFO!A66=0,\" \",COUNTRY_INFO!A66))","v":"Tchad"},{"$f":"IF(INTRO!$E$39=\"Non-endemic\",\" \",IF(COUNTRY_INFO!B66=0,\" \",COUNTRY_INFO!B66))","v":"Logone Orientlal"},{"$f":"IF(INTRO!$E$39=\"Non-endemic\",\" \",IF(COUNTRY_INFO!C66=0,\" \",COUNTRY_INFO!C66))","v":"Bebedja"},{"$f":"IF(INTRO!$E$39=\"Non-endemic\",0,IF(INTRO!$E$39=\"Endemic but PC is not required\",IF(COUNTRY_INFO!$H66=1,COUNTRY_INFO!F66+COUNTRY_INFO!G66,0),IF(COUNTRY_INFO!$H66=1,COUNTRY_INFO!F66+COUNTRY_INFO!G66,IF(COUNTRY_INFO!$I66=1,IF(COUNTRY_INFO!N66>=(COUNTRY_INFO!F66+COUNTRY_INFO!G66),COUNTRY_INFO!F66+COUNTRY_INFO!G66,COUNTRY_INFO!$N66),0))))","v":169787},{"$f":"IF(AND(INTRO!$E$39=\"Non-endemic\",INTRO!$E$37=\"Non-endemic\"),\"Not required\",IF(INTRO!$E$39=\"Non-endemic\",\"Treat with DEC\",COUNTRY_INFO!W66))","v":1},{"$f":"IF(INTRO!$E$39<>\"Non-endemic\",COUNTRY_INFO!X66,\"Not required\")","v":1},{"$f":"IF(COUNTRY_INFO!H66=1, IF($E66=1,IF(ALB_MBD!$G66<>\" \",COUNTRY_INFO!F66+COUNTRY_INFO!G66-ALB_MBD!$G66,COUNTRY_INFO!F66+COUNTRY_INFO!G66), 0),0)","v":169787},{"$f":"IF(INTRO!$E$39<>\"Endemic\",0, IF(AND(COUNTRY_INFO!$I66=1,$F66<>0),IF(COUNTRY_INFO!N66>=(COUNTRY_INFO!F66+COUNTRY_INFO!G66),COUNTRY_INFO!F66+COUNTRY_INFO!G66,COUNTRY_INFO!$N66), 0))","v":169787},0,0,475403.6,475403.6,null,475403.6]
[{"$f":"IF(INTRO!$E$39=\"Non-endemic\",\" \",IF(COUNTRY_INFO!A67=0,\" \",COUNTRY_INFO!A67))","v":"Tchad"},{"$f":"IF(INTRO!$E$39=\"Non-endemic\",\" \",IF(COUNTRY_INFO!B67=0,\" \",COUNTRY_INFO!B67))","v":"Logone Orientlal"},{"$f":"IF(INTRO!$E$39=\"Non-endemic\",\" \",IF(COUNTRY_INFO!C67=0,\" \",COUNTRY_INFO!C67))","v":"Beboto"},{"$f":"IF(INTRO!$E$39=\"Non-endemic\",0,IF(INTRO!$E$39=\"Endemic but PC is not required\",IF(COUNTRY_INFO!$H67=1,COUNTRY_INFO!F67+COUNTRY_INFO!G67,0),IF(COUNTRY_INFO!$H67=1,COUNTRY_INFO!F67+COUNTRY_INFO!G67,IF(COUNTRY_INFO!$I67=1,IF(COUNTRY_INFO!N67>=(COUNTRY_INFO!F67+COUNTRY_INFO!G67),COUNTRY_INFO!F67+COUNTRY_INFO!G67,COUNTRY_INFO!$N67),0))))","v":63188},{"$f":"IF(AND(INTRO!$E$39=\"Non-endemic\",INTRO!$E$37=\"Non-endemic\"),\"Not required\",IF(INTRO!$E$39=\"Non-endemic\",\"Treat with DEC\",COUNTRY_INFO!W67))","v":0},{"$f":"IF(INTRO!$E$39<>\"Non-endemic\",COUNTRY_INFO!X67,\"Not required\")","v":1},{"$f":"IF(COUNTRY_INFO!H67=1, IF($E67=1,IF(ALB_MBD!$G67<>\" \",COUNTRY_INFO!F67+COUNTRY_INFO!G67-ALB_MBD!$G67,COUNTRY_INFO!F67+COUNTRY_INFO!G67), 0),0)","v":0},{"$f":"IF(INTRO!$E$39<>\"Endemic\",0, IF(AND(COUNTRY_INFO!$I67=1,$F67<>0),IF(COUNTRY_INFO!N67>=(COUNTRY_INFO!F67+COUNTRY_INFO!G67),COUNTRY_INFO!F67+COUNTRY_INFO!G67,COUNTRY_INFO!$N67), 0))","v":63188},0,176926.4,0,176926.4,null,176926.4]
[{"$f":"IF(INTRO!$E$39=\"Non-endemic\",\" \",IF(COUNTRY_INFO!A68=0,\" \",COUNTRY_INFO!A68))","v":"Tchad"},{"$f":"IF(INTRO!$E$39=\"Non-endemic\",\" \",IF(COUNTRY_INFO!B68=0,\" \",COUNTRY_INFO!B68))","v":"Logone Orientlal"},{"$f":"IF(INTRO!$E$39=\"Non-endemic\",\" \",IF(COUNTRY_INFO!C68=0,\" \",COUNTRY_INFO!C68))","v":"Bessao"},{"$f":"IF(INTRO!$E$39=\"Non-endemic\",0,IF(INTRO!$E$39=\"Endemic but PC is not required\",IF(COUNTRY_INFO!$H68=1,COUNTRY_INFO!F68+COUNTRY_INFO!G68,0),IF(COUNTRY_INFO!$H68=1,COUNTRY_INFO!F68+COUNTRY_INFO!G68,IF(COUNTRY_INFO!$I68=1,IF(COUNTRY_INFO!N68>=(COUNTRY_INFO!F68+COUNTRY_INFO!G68),COUNTRY_INFO!F68+COUNTRY_INFO!G68,COUNTRY_INFO!$N68),0))))","v":165830},{"$f":"IF(AND(INTRO!$E$39=\"Non-endemic\",INTRO!$E$37=\"Non-endemic\"),\"Not required\",IF(INTRO!$E$39=\"Non-endemic\",\"Treat with DEC\",COUNTRY_INFO!W68))","v":0},{"$f":"IF(INTRO!$E$39<>\"Non-endemic\",COUNTRY_INFO!X68,\"Not required\")","v":1},{"$f":"IF(COUNTRY_INFO!H68=1, IF($E68=1,IF(ALB_MBD!$G68<>\" \",COUNTRY_INFO!F68+COUNTRY_INFO!G68-ALB_MBD!$G68,COUNTRY_INFO!F68+COUNTRY_INFO!G68), 0),0)","v":0},{"$f":"IF(INTRO!$E$39<>\"Endemic\",0, IF(AND(COUNTRY_INFO!$I68=1,$F68<>0),IF(COUNTRY_INFO!N68>=(COUNTRY_INFO!F68+COUNTRY_INFO!G68),COUNTRY_INFO!F68+COUNTRY_INFO!G68,COUNTRY_INFO!$N68), 0))","v":165830},0,464323.99999999994,0,464323.99999999994,null,464323.99999999994]
[{"$f":"IF(INTRO!$E$39=\"Non-endemic\",\" \",IF(COUNTRY_INFO!A69=0,\" \",COUNTRY_INFO!A69))","v":"Tchad"},{"$f":"IF(INTRO!$E$39=\"Non-endemic\",\" \",IF(COUNTRY_INFO!B69=0,\" \",COUNTRY_INFO!B69))","v":"Logone Orientlal"},{"$f":"IF(INTRO!$E$39=\"Non-endemic\",\" \",IF(COUNTRY_INFO!C69=0,\" \",COUNTRY_INFO!C69))","v":"Bodo"},{"$f":"IF(INTRO!$E$39=\"Non-endemic\",0,IF(INTRO!$E$39=\"Endemic but PC is not required\",IF(COUNTRY_INFO!$H69=1,COUNTRY_INFO!F69+COUNTRY_INFO!G69,0),IF(COUNTRY_INFO!$H69=1,COUNTRY_INFO!F69+COUNTRY_INFO!G69,IF(COUNTRY_INFO!$I69=1,IF(COUNTRY_INFO!N69>=(COUNTRY_INFO!F69+COUNTRY_INFO!G69),COUNTRY_INFO!F69+COUNTRY_INFO!G69,COUNTRY_INFO!$N69),0))))","v":130224},{"$f":"IF(AND(INTRO!$E$39=\"Non-endemic\",INTRO!$E$37=\"Non-endemic\"),\"Not required\",IF(INTRO!$E$39=\"Non-endemic\",\"Treat with DEC\",COUNTRY_INFO!W69))","v":1},{"$f":"IF(INTRO!$E$39<>\"Non-endemic\",COUNTRY_INFO!X69,\"Not required\")","v":0},{"$f":"IF(COUNTRY_INFO!H69=1, IF($E69=1,IF(ALB_MBD!$G69<>\" \",COUNTRY_INFO!F69+COUNTRY_INFO!G69-ALB_MBD!$G69,COUNTRY_INFO!F69+COUNTRY_INFO!G69), 0),0)","v":130224},{"$f":"IF(INTRO!$E$39<>\"Endemic\",0, IF(AND(COUNTRY_INFO!$I69=1,$F69<>0),IF(COUNTRY_INFO!N69>=(COUNTRY_INFO!F69+COUNTRY_INFO!G69),COUNTRY_INFO!F69+COUNTRY_INFO!G69,COUNTRY_INFO!$N69), 0))","v":0},364627.19999999995,0,0,364627.19999999995,null,364627.19999999995]
[{"$f":"IF(INTRO!$E$39=\"Non-endemic\",\" \",IF(COUNTRY_INFO!A70=0,\" \",COUNTRY_INFO!A70))","v":"Tchad"},{"$f":"IF(INTRO!$E$39=\"Non-endemic\",\" \",IF(COUNTRY_INFO!B70=0,\" \",COUNTRY_INFO!B70))","v":"Logone Orientlal"},{"$f":"IF(INTRO!$E$39=\"Non-endemic\",\" \",IF(COUNTRY_INFO!C70=0,\" \",COUNTRY_INFO!C70))","v":"Doba"},{"$f":"IF(INTRO!$E$39=\"Non-endemic\",0,IF(INTRO!$E$39=\"Endemic but PC is not required\",IF(COUNTRY_INFO!$H70=1,COUNTRY_INFO!F70+COUNTRY_INFO!G70,0),IF(COUNTRY_INFO!$H70=1,COUNTRY_INFO!F70+COUNTRY_INFO!G70,IF(COUNTRY_INFO!$I70=1,IF(COUNTRY_INFO!N70>=(COUNTRY_INFO!F70+COUNTRY_INFO!G70),COUNTRY_INFO!F70+COUNTRY_INFO!G70,COUNTRY_INFO!$N70),0))))","v":154290},{"$f":"IF(AND(INTRO!$E$39=\"Non-endemic\",INTRO!$E$37=\"Non-endemic\"),\"Not required\",IF(INTRO!$E$39=\"Non-endemic\",\"Treat with DEC\",COUNTRY_INFO!W70))","v":0},{"$f":"IF(INTRO!$E$39<>\"Non-endemic\",COUNTRY_INFO!X70,\"Not required\")","v":1},{"$f":"IF(COUNTRY_INFO!H70=1, IF($E70=1,IF(ALB_MBD!$G70<>\" \",COUNTRY_INFO!F70+COUNTRY_INFO!G70-ALB_MBD!$G70,COUNTRY_INFO!F70+COUNTRY_INFO!G70), 0),0)","v":0},{"$f":"IF(INTRO!$E$39<>\"Endemic\",0, IF(AND(COUNTRY_INFO!$I70=1,$F70<>0),IF(COUNTRY_INFO!N70>=(COUNTRY_INFO!F70+COUNTRY_INFO!G70),COUNTRY_INFO!F70+COUNTRY_INFO!G70,COUNTRY_INFO!$N70), 0))","v":154290},0,432012,0,432012,null,432012]
[{"$f":"IF(INTRO!$E$39=\"Non-endemic\",\" \",IF(COUNTRY_INFO!A71=0,\" \",COUNTRY_INFO!A71))","v":"Tchad"},{"$f":"IF(INTRO!$E$39=\"Non-endemic\",\" \",IF(COUNTRY_INFO!B71=0,\" \",COUNTRY_INFO!B71))","v":"Logone Orientlal"},{"$f":"IF(INTRO!$E$39=\"Non-endemic\",\" \",IF(COUNTRY_INFO!C71=0,\" \",COUNTRY_INFO!C71))","v":"DONIA"},{"$f":"IF(INTRO!$E$39=\"Non-endemic\",0,IF(INTRO!$E$39=\"Endemic but PC is not required\",IF(COUNTRY_INFO!$H71=1,COUNTRY_INFO!F71+COUNTRY_INFO!G71,0),IF(COUNTRY_INFO!$H71=1,COUNTRY_INFO!F71+COUNTRY_INFO!G71,IF(COUNTRY_INFO!$I71=1,IF(COUNTRY_INFO!N71>=(COUNTRY_INFO!F71+COUNTRY_INFO!G71),COUNTRY_INFO!F71+COUNTRY_INFO!G71,COUNTRY_INFO!$N71),0))))","v":80000},{"$f":"IF(AND(INTRO!$E$39=\"Non-endemic\",INTRO!$E$37=\"Non-endemic\"),\"Not required\",IF(INTRO!$E$39=\"Non-endemic\",\"Treat with DEC\",COUNTRY_INFO!W71))","v":1},{"$f":"IF(INTRO!$E$39<>\"Non-endemic\",COUNTRY_INFO!X71,\"Not required\")","v":1},{"$f":"IF(COUNTRY_INFO!H71=1, IF($E71=1,IF(ALB_MBD!$G71<>\" \",COUNTRY_INFO!F71+COUNTRY_INFO!G71-ALB_MBD!$G71,COUNTRY_INFO!F71+COUNTRY_INFO!G71), 0),0)","v":80000},{"$f":"IF(INTRO!$E$39<>\"Endemic\",0, IF(AND(COUNTRY_INFO!$I71=1,$F71<>0),IF(COUNTRY_INFO!N71>=(COUNTRY_INFO!F71+COUNTRY_INFO!G71),COUNTRY_INFO!F71+COUNTRY_INFO!G71,COUNTRY_INFO!$N71), 0))","v":80000},0,0,224000,224000,null,224000]
[{"$f":"IF(INTRO!$E$39=\"Non-endemic\",\" \",IF(COUNTRY_INFO!A72=0,\" \",COUNTRY_INFO!A72))","v":"Tchad"},{"$f":"IF(INTRO!$E$39=\"Non-endemic\",\" \",IF(COUNTRY_INFO!B72=0,\" \",COUNTRY_INFO!B72))","v":"Logone Orientlal"},{"$f":"IF(INTRO!$E$39=\"Non-endemic\",\" \",IF(COUNTRY_INFO!C72=0,\" \",COUNTRY_INFO!C72))","v":"Goré"},{"$f":"IF(INTRO!$E$39=\"Non-endemic\",0,IF(INTRO!$E$39=\"Endemic but PC is not required\",IF(COUNTRY_INFO!$H72=1,COUNTRY_INFO!F72+COUNTRY_INFO!G72,0),IF(COUNTRY_INFO!$H72=1,COUNTRY_INFO!F72+COUNTRY_INFO!G72,IF(COUNTRY_INFO!$I72=1,IF(COUNTRY_INFO!N72>=(COUNTRY_INFO!F72+COUNTRY_INFO!G72),COUNTRY_INFO!F72+COUNTRY_INFO!G72,COUNTRY_INFO!$N72),0))))","v":146378},{"$f":"IF(AND(INTRO!$E$39=\"Non-endemic\",INTRO!$E$37=\"Non-endemic\"),\"Not required\",IF(INTRO!$E$39=\"Non-endemic\",\"Treat with DEC\",COUNTRY_INFO!W72))","v":0},{"$f":"IF(INTRO!$E$39<>\"Non-endemic\",COUNTRY_INFO!X72,\"Not required\")","v":1},{"$f":"IF(COUNTRY_INFO!H72=1, IF($E72=1,IF(ALB_MBD!$G72<>\" \",COUNTRY_INFO!F72+COUNTRY_INFO!G72-ALB_MBD!$G72,COUNTRY_INFO!F72+COUNTRY_INFO!G72), 0),0)","v":0},{"$f":"IF(INTRO!$E$39<>\"Endemic\",0, IF(AND(COUNTRY_INFO!$I72=1,$F72<>0),IF(COUNTRY_INFO!N72>=(COUNTRY_INFO!F72+COUNTRY_INFO!G72),COUNTRY_INFO!F72+COUNTRY_INFO!G72,COUNTRY_INFO!$N72), 0))","v":146378},0,409858.39999999997,0,409858.39999999997,null,409858.39999999997]
[{"$f":"IF(INTRO!$E$39=\"Non-endemic\",\" \",IF(COUNTRY_INFO!A73=0,\" \",COUNTRY_INFO!A73))","v":"Tchad"},{"$f":"IF(INTRO!$E$39=\"Non-endemic\",\" \",IF(COUNTRY_INFO!B73=0,\" \",COUNTRY_INFO!B73))","v":"Logone Orientlal"},{"$f":"IF(INTRO!$E$39=\"Non-endemic\",\" \",IF(COUNTRY_INFO!C73=0,\" \",COUNTRY_INFO!C73))","v":"Kara"},{"$f":"IF(INTRO!$E$39=\"Non-endemic\",0,IF(INTRO!$E$39=\"Endemic but PC is not required\",IF(COUNTRY_INFO!$H73=1,COUNTRY_INFO!F73+COUNTRY_INFO!G73,0),IF(COUNTRY_INFO!$H73=1,COUNTRY_INFO!F73+COUNTRY_INFO!G73,IF(COUNTRY_INFO!$I73=1,IF(COUNTRY_INFO!N73>=(COUNTRY_INFO!F73+COUNTRY_INFO!G73),COUNTRY_INFO!F73+COUNTRY_INFO!G73,COUNTRY_INFO!$N73),0))))","v":60001},{"$f":"IF(AND(INTRO!$E$39=\"Non-endemic\",INTRO!$E$37=\"Non-endemic\"),\"Not required\",IF(INTRO!$E$39=\"Non-endemic\",\"Treat with DEC\",COUNTRY_INFO!W73))","v":1},{"$f":"IF(INTRO!$E$39<>\"Non-endemic\",COUNTRY_INFO!X73,\"Not required\")","v":1},{"$f":"IF(COUNTRY_INFO!H73=1, IF($E73=1,IF(ALB_MBD!$G73<>\" \",COUNTRY_INFO!F73+COUNTRY_INFO!G73-ALB_MBD!$G73,COUNTRY_INFO!F73+COUNTRY_INFO!G73), 0),0)","v":60001},{"$f":"IF(INTRO!$E$39<>\"Endemic\",0, IF(AND(COUNTRY_INFO!$I73=1,$F73<>0),IF(COUNTRY_INFO!N73>=(COUNTRY_INFO!F73+COUNTRY_INFO!G73),COUNTRY_INFO!F73+COUNTRY_INFO!G73,COUNTRY_INFO!$N73), 0))","v":60001},0,0,168002.8,168002.8,null,168002.8]
[{"$f":"IF(INTRO!$E$39=\"Non-endemic\",\" \",IF(COUNTRY_INFO!A74=0,\" \",COUNTRY_INFO!A74))","v":"Tchad"},{"$f":"IF(INTRO!$E$39=\"Non-endemic\",\" \",IF(COUNTRY_INFO!B74=0,\" \",COUNTRY_INFO!B74))","v":"Logone Orientlal"},{"$f":"IF(INTRO!$E$39=\"Non-endemic\",\" \",IF(COUNTRY_INFO!C74=0,\" \",COUNTRY_INFO!C74))","v":"Larmanaye"},{"$f":"IF(INTRO!$E$39=\"Non-endemic\",0,IF(INTRO!$E$39=\"Endemic but PC is not required\",IF(COUNTRY_INFO!$H74=1,COUNTRY_INFO!F74+COUNTRY_INFO!G74,0),IF(COUNTRY_INFO!$H74=1,COUNTRY_INFO!F74+COUNTRY_INFO!G74,IF(COUNTRY_INFO!$I74=1,IF(COUNTRY_INFO!N74>=(COUNTRY_INFO!F74+COUNTRY_INFO!G74),COUNTRY_INFO!F74+COUNTRY_INFO!G74,COUNTRY_INFO!$N74),0))))","v":61210},{"$f":"IF(AND(INTRO!$E$39=\"Non-endemic\",INTRO!$E$37=\"Non-endemic\"),\"Not required\",IF(INTRO!$E$39=\"Non-endemic\",\"Treat with DEC\",COUNTRY_INFO!W74))","v":0},{"$f":"IF(INTRO!$E$39<>\"Non-endemic\",COUNTRY_INFO!X74,\"Not required\")","v":1},{"$f":"IF(COUNTRY_INFO!H74=1, IF($E74=1,IF(ALB_MBD!$G74<>\" \",COUNTRY_INFO!F74+COUNTRY_INFO!G74-ALB_MBD!$G74,COUNTRY_INFO!F74+COUNTRY_INFO!G74), 0),0)","v":0},{"$f":"IF(INTRO!$E$39<>\"Endemic\",0, IF(AND(COUNTRY_INFO!$I74=1,$F74<>0),IF(COUNTRY_INFO!N74>=(COUNTRY_INFO!F74+COUNTRY_INFO!G74),COUNTRY_INFO!F74+COUNTRY_INFO!G74,COUNTRY_INFO!$N74), 0))","v":61210},0,171388,0,171388,null,171388]
[{"$f":"IF(INTRO!$E$39=\"Non-endemic\",\" \",IF(COUNTRY_INFO!A75=0,\" \",COUNTRY_INFO!A75))","v":"Tchad"},{"$f":"IF(INTRO!$E$39=\"Non-endemic\",\" \",IF(COUNTRY_INFO!B75=0,\" \",COUNTRY_INFO!B75))","v":"Mandoul"},{"$f":"IF(INTRO!$E$39=\"Non-endemic\",\" \",IF(COUNTRY_INFO!C75=0,\" \",COUNTRY_INFO!C75))","v":"Bedaya"},{"$f":"IF(INTRO!$E$39=\"Non-endemic\",0,IF(INTRO!$E$39=\"Endemic but PC is not required\",IF(COUNTRY_INFO!$H75=1,COUNTRY_INFO!F75+COUNTRY_INFO!G75,0),IF(COUNTRY_INFO!$H75=1,COUNTRY_INFO!F75+COUNTRY_INFO!G75,IF(COUNTRY_INFO!$I75=1,IF(COUNTRY_INFO!N75>=(COUNTRY_INFO!F75+COUNTRY_INFO!G75),COUNTRY_INFO!F75+COUNTRY_INFO!G75,COUNTRY_INFO!$N75),0))))","v":65199},{"$f":"IF(AND(INTRO!$E$39=\"Non-endemic\",INTRO!$E$37=\"Non-endemic\"),\"Not required\",IF(INTRO!$E$39=\"Non-endemic\",\"Treat with DEC\",COUNTRY_INFO!W75))","v":1},{"$f":"IF(INTRO!$E$39<>\"Non-endemic\",COUNTRY_INFO!X75,\"Not required\")","v":1},{"$f":"IF(COUNTRY_INFO!H75=1, IF($E75=1,IF(ALB_MBD!$G75<>\" \",COUNTRY_INFO!F75+COUNTRY_INFO!G75-ALB_MBD!$G75,COUNTRY_INFO!F75+COUNTRY_INFO!G75), 0),0)","v":65199},{"$f":"IF(INTRO!$E$39<>\"Endemic\",0, IF(AND(COUNTRY_INFO!$I75=1,$F75<>0),IF(COUNTRY_INFO!N75>=(COUNTRY_INFO!F75+COUNTRY_INFO!G75),COUNTRY_INFO!F75+COUNTRY_INFO!G75,COUNTRY_INFO!$N75), 0))","v":65199},{"$f":"IF(G75<H75,0,IF($E75=1, (G75-H75)*2.8, 0))","v":0},{"$f":"IF($E75<$F75, H75*(F75-E75)*2.8, 0)","v":0},{"$f":"IF(AND($E75=1, $F75<>0), H75*2.8, 0)","v":182557.19999999998},{"$f":"SUM(I75:K75)","v":182557.19999999998},null,182557.19999999998]
[{"$f":"IF(INTRO!$E$39=\"Non-endemic\",\" \",IF(COUNTRY_INFO!A76=0,\" \",COUNTRY_INFO!A76))","v":"Tchad"},{"$f":"IF(INTRO!$E$39=\"Non-endemic\",\" \",IF(COUNTRY_INFO!B76=0,\" \",COUNTRY_INFO!B76))","v":"Mandoul"},{"$f":"IF(INTRO!$E$39=\"Non-endemic\",\" \",IF(COUNTRY_INFO!C76=0,\" \",COUNTRY_INFO!C76))","v":"Bedjondo"},{"$f":"IF(INTRO!$E$39=\"Non-endemic\",0,IF(INTRO!$E$39=\"Endemic but PC is not required\",IF(COUNTRY_INFO!$H76=1,COUNTRY_INFO!F76+COUNTRY_INFO!G76,0),IF(COUNTRY_INFO!$H76=1,COUNTRY_INFO!F76+COUNTRY_INFO!G76,IF(COUNTRY_INFO!$I76=1,IF(COUNTRY_INFO!N76>=(COUNTRY_INFO!F76+COUNTRY_INFO!G76),COUNTRY_INFO!F76+COUNTRY_INFO!G76,COUNTRY_INFO!$N76),0))))","v":224536},{"$f":"IF(AND(INTRO!$E$39=\"Non-endemic\",INTRO!$E$37=\"Non-endemic\"),\"Not required\",IF(INTRO!$E$39=\"Non-endemic\",\"Treat with DEC\",COUNTRY_INFO!W76))","v":0},{"$f":"IF(INTRO!$E$39<>\"Non-endemic\",COUNTRY_INFO!X76,\"Not required\")","v":1},{"$f":"IF(COUNTRY_INFO!H76=1, IF($E76=1,IF(ALB_MBD!$G76<>\" \",COUNTRY_INFO!F76+COUNTRY_INFO!G76-ALB_MBD!$G76,COUNTRY_INFO!F76+COUNTRY_INFO!G76), 0),0)","v":0},{"$f":"IF(INTRO!$E$39<>\"Endemic\",0, IF(AND(COUNTRY_INFO!$I76=1,$F76<>0),IF(COUNTRY_INFO!N76>=(COUNTRY_INFO!F76+COUNTRY_INFO!G76),COUNTRY_INFO!F76+COUNTRY_INFO!G76,COUNTRY_INFO!$N76), 0))","v":224536},0,628700.79999999993,0,628700.79999999993,null,628700.79999999993]
[{"$f":"IF(INTRO!$E$39=\"Non-endemic\",\" \",IF(COUNTRY_INFO!A77=0,\" \",COUNTRY_INFO!A77))","v":"Tchad"},{"$f":"IF(INTRO!$E$39=\"Non-endemic\",\" \",IF(COUNTRY_INFO!B77=0,\" \",COUNTRY_INFO!B77))","v":"Mandoul"},{"$f":"IF(INTRO!$E$39=\"Non-endemic\",\" \",IF(COUNTRY_INFO!C77=0,\" \",COUNTRY_INFO!C77))","v":"Bekourou"},{"$f":"IF(INTRO!$E$39=\"Non-endemic\",0,IF(INTRO!$E$39=\"Endemic but PC is not required\",IF(COUNTRY_INFO!$H77=1,COUNTRY_INFO!F77+COUNTRY_INFO!G77,0),IF(COUNTRY_INFO!$H77=1,COUNTRY_INFO!F77+COUNTRY_INFO!G77,IF(COUNTRY_INFO!$I77=1,IF(COUNTRY_INFO!N77>=(COUNTRY_INFO!F77+COUNTRY_INFO!G77),COUNTRY_INFO!F77+COUNTRY_INFO!G77,COUNTRY_INFO!$N77),0))))","v":48993},{"$f":"IF(AND(INTRO!$E$39=\"Non-endemic\",INTRO!$E$37=\"Non-endemic\"),\"Not required\",IF(INTRO!$E$39=\"Non-endemic\",\"Treat with DEC\",COUNTRY_INFO!W77))","v":0},{"$f":"IF(INTRO!$E$39<>\"Non-endemic\",COUNTRY_INFO!X77,\"Not required\")","v":1},{"$f":"IF(COUNTRY_INFO!H77=1, IF($E77=1,IF(ALB_MBD!$G77<>\" \",COUNTRY_INFO!F77+COUNTRY_INFO!G77-ALB_MBD!$G77,COUNTRY_INFO!F77+COUNTRY_INFO!G77), 0),0)","v":0},{"$f":"IF(INTRO!$E$39<>\"Endemic\",0, IF(AND(COUNTRY_INFO!$I77=1,$F77<>0),IF(COUNTRY_INFO!N77>=(COUNTRY_INFO!F77+COUNTRY_INFO!G77),COUNTRY_INFO!F77+COUNTRY_INFO!G77,COUNTRY_INFO!$N77), 0))","v":48993},0,137180.4,0,137180.4,null,137180.4]
[{"$f":"IF(INTRO!$E$39=\"Non-endemic\",\" \",IF(COUNTRY_INFO!A78=0,\" \",COUNTRY_INFO!A78))","v":"Tchad"},{"$f":"IF(INTRO!$E$39=\"Non-endemic\",\" \",IF(COUNTRY_INFO!B78=0,\" \",COUNTRY_INFO!B78))","v":"Mandoul"},{"$f":"IF(INTRO!$E$39=\"Non-endemic\",\" \",IF(COUNTRY_INFO!C78=0,\" \",COUNTRY_INFO!C78))","v":"Bouna"},{"$f":"IF(INTRO!$E$39=\"Non-endemic\",0,IF(INTRO!$E$39=\"Endemic but PC is not required\",IF(COUNTRY_INFO!$H78=1,COUNTRY_INFO!F78+COUNTRY_INFO!G78,0),IF(COUNTRY_INFO!$H78=1,COUNTRY_INFO!F78+COUNTRY_INFO!G78,IF(COUNTRY_INFO!$I78=1,IF(COUNTRY_INFO!N78>=(COUNTRY_INFO!F78+COUNTRY_INFO!G78),COUNTRY_INFO!F78+COUNTRY_INFO!G78,COUNTRY_INFO!$N78),0))))","v":96952},{"$f":"IF(AND(INTRO!$E$39=\"Non-endemic\",INTRO!$E$37=\"Non-endemic\"),\"Not required\",IF(INTRO!$E$39=\"Non-endemic\",\"Treat with DEC\",COUNTRY_INFO!W78))","v":0},{"$f":"IF(INTRO!$E$39<>\"Non-endemic\",COUNTRY_INFO!X78,\"Not required\")","v":1},{"$f":"IF(COUNTRY_INFO!H78=1, IF($E78=1,IF(ALB_MBD!$G78<>\" \",COUNTRY_INFO!F78+COUNTRY_INFO!G78-ALB_MBD!$G78,COUNTRY_INFO!F78+COUNTRY_INFO!G78), 0),0)","v":0},{"$f":"IF(INTRO!$E$39<>\"Endemic\",0, IF(AND(COUNTRY_INFO!$I78=1,$F78<>0),IF(COUNTRY_INFO!N78>=(COUNTRY_INFO!F78+COUNTRY_INFO!G78),COUNTRY_INFO!F78+COUNTRY_INFO!G78,COUNTRY_INFO!$N78), 0))","v":96952},0,271465.59999999998,0,271465.59999999998,null,271465.59999999998]
[{"$f":"IF(INTRO!$E$39=\"Non-endemic\",\" \",IF(COUNTRY_INFO!A79=0,\" \",COUNTRY_INFO!A79))","v":"Tchad"},{"$f":"IF(INTRO!$E$39=\"Non-endemic\",\" \",IF(COUNTRY_INFO!B79=0,\" \",COUNTRY_INFO!B79))","v":"Mandoul"},{"$f":"IF(INTRO!$E$39=\"Non-endemic\",\" \",IF(COUNTRY_INFO!C79=0,\" \",COUNTRY_INFO!C79))","v":"Goundi"},{"$f":"IF(INTRO!$E$39=\"Non-endemic\",0,IF(INTRO!$E$39=\"Endemic but PC is not required\",IF(COUNTRY_INFO!$H79=1,COUNTRY_INFO!F79+COUNTRY_INFO!G79,0),IF(COUNTRY_INFO!$H79=1,COUNTRY_INFO!F79+COUNTRY_INFO!G79,IF(COUNTRY_INFO!$I79=1,IF(COUNTRY_INFO!N79>=(COUNTRY_INFO!F79+COUNTRY_INFO!G79),COUNTRY_INFO!F79+COUNTRY_INFO!G79,COUNTRY_INFO!$N79),0))))","v":0},{"$f":"IF(AND(INTRO!$E$39=\"Non-endemic\",INTRO!$E$37=\"Non-endemic\"),\"Not required\",IF(INTRO!$E$39=\"Non-endemic\",\"Treat with DEC\",COUNTRY_INFO!W79))","v":0},{"$f":"IF(INTRO!$E$39<>\"Non-endemic\",COUNTRY_INFO!X79,\"Not required\")","v":0},{"$f":"IF(COUNTRY_INFO!H79=1, IF($E79=1,IF(ALB_MBD!$G79<>\" \",COUNTRY_INFO!F79+COUNTRY_INFO!G79-ALB_MBD!$G79,COUNTRY_INFO!F79+COUNTRY_INFO!G79), 0),0)","v":0},{"$f":"IF(INTRO!$E$39<>\"Endemic\",0, IF(AND(COUNTRY_INFO!$I79=1,$F79<>0),IF(COUNTRY_INFO!N79>=(COUNTRY_INFO!F79+COUNTRY_INFO!G79),COUNTRY_INFO!F79+COUNTRY_INFO!G79,COUNTRY_INFO!$N79), 0))","v":0},0,0,0,0,null,0]
[{"$f":"IF(INTRO!$E$39=\"Non-endemic\",\" \",IF(COUNTRY_INFO!A80=0,\" \",COUNTRY_INFO!A80))","v":"Tchad"},{"$f":"IF(INTRO!$E$39=\"Non-endemic\",\" \",IF(COUNTRY_INFO!B80=0,\" \",COUNTRY_INFO!B80))","v":"Mandoul"},{"$f":"IF(INTRO!$E$39=\"Non-endemic\",\" \",IF(COUNTRY_INFO!C80=0,\" \",COUNTRY_INFO!C80))","v":"Koumra"},{"$f":"IF(INTRO!$E$39=\"Non-endemic\",0,IF(INTRO!$E$39=\"Endemic but PC is not required\",IF(COUNTRY_INFO!$H80=1,COUNTRY_INFO!F80+COUNTRY_INFO!G80,0),IF(COUNTRY_INFO!$H80=1,COUNTRY_INFO!F80+COUNTRY_INFO!G80,IF(COUNTRY_INFO!$I80=1,IF(COUNTRY_INFO!N80>=(COUNTRY_INFO!F80+COUNTRY_INFO!G80),COUNTRY_INFO!F80+COUNTRY_INFO!G80,COUNTRY_INFO!$N80),0))))","v":154989},{"$f":"IF(AND(INTRO!$E$39=\"Non-endemic\",INTRO!$E$37=\"Non-endemic\"),\"Not required\",IF(INTRO!$E$39=\"Non-endemic\",\"Treat with DEC\",COUNTRY_INFO!W80))","v":1},{"$f":"IF(INTRO!$E$39<>\"Non-endemic\",COUNTRY_INFO!X80,\"Not required\")","v":1},{"$f":"IF(COUNTRY_INFO!H80=1, IF($E80=1,IF(ALB_MBD!$G80<>\" \",COUNTRY_INFO!F80+COUNTRY_INFO!G80-ALB_MBD!$G80,COUNTRY_INFO!F80+COUNTRY_INFO!G80), 0),0)","v":154989},{"$f":"IF(INTRO!$E$39<>\"Endemic\",0, IF(AND(COUNTRY_INFO!$I80=1,$F80<>0),IF(COUNTRY_INFO!N80>=(COUNTRY_INFO!F80+COUNTRY_INFO!G80),COUNTRY_INFO!F80+COUNTRY_INFO!G80,COUNTRY_INFO!$N80), 0))","v":154989},0,0,433969.19999999995,433969.19999999995,null,433969.19999999995]
[{"$f":"IF(INTRO!$E$39=\"Non-endemic\",\" \",IF(COUNTRY_INFO!A81=0,\" \",COUNTRY_INFO!A81))","v":"Tchad"},{"$f":"IF(INTRO!$E$39=\"Non-endemic\",\" \",IF(COUNTRY_INFO!B81=0,\" \",COUNTRY_INFO!B81))","v":"Mandoul"},{"$f":"IF(INTRO!$E$39=\"Non-endemic\",\" \",IF(COUNTRY_INFO!C81=0,\" \",COUNTRY_INFO!C81))","v":"Moissala"},{"$f":"IF(INTRO!$E$39=\"Non-endemic\",0,IF(INTRO!$E$39=\"Endemic but PC is not required\",IF(COUNTRY_INFO!$H81=1,COUNTRY_INFO!F81+COUNTRY_INFO!G81,0),IF(COUNTRY_INFO!$H81=1,COUNTRY_INFO!F81+COUNTRY_INFO!G81,IF(COUNTRY_INFO!$I81=1,IF(COUNTRY_INFO!N81>=(COUNTRY_INFO!F81+COUNTRY_INFO!G81),COUNTRY_INFO!F81+COUNTRY_INFO!G81,COUNTRY_INFO!$N81),0))))","v":164618},{"$f":"IF(AND(INTRO!$E$39=\"Non-endemic\",INTRO!$E$37=\"Non-endemic\"),\"Not required\",IF(INTRO!$E$39=\"Non-endemic\",\"Treat with DEC\",COUNTRY_INFO!W81))","v":0},{"$f":"IF(INTRO!$E$39<>\"Non-endemic\",COUNTRY_INFO!X81,\"Not required\")","v":1},{"$f":"IF(COUNTRY_INFO!H81=1, IF($E81=1,IF(ALB_MBD!$G81<>\" \",COUNTRY_INFO!F81+COUNTRY_INFO!G81-ALB_MBD!$G81,COUNTRY_INFO!F81+COUNTRY_INFO!G81), 0),0)","v":0},{"$f":"IF(INTRO!$E$39<>\"Endemic\",0, IF(AND(COUNTRY_INFO!$I81=1,$F81<>0),IF(COUNTRY_INFO!N81>=(COUNTRY_INFO!F81+COUNTRY_INFO!G81),COUNTRY_INFO!F81+COUNTRY_INFO!G81,COUNTRY_INFO!$N81), 0))","v":164618},0,460930.39999999997,0,460930.39999999997,null,460930.39999999997]
[{"$f":"IF(INTRO!$E$39=\"Non-endemic\",\" \",IF(COUNTRY_INFO!A82=0,\" \",COUNTRY_INFO!A82))","v":"Tchad"},{"$f":"IF(INTRO!$E$39=\"Non-endemic\",\" \",IF(COUNTRY_INFO!B82=0,\" \",COUNTRY_INFO!B82))","v":"Mayo Kebbi Est"},{"$f":"IF(INTRO!$E$39=\"Non-endemic\",\" \",IF(COUNTRY_INFO!C82=0,\" \",COUNTRY_INFO!C82))","v":"Bongor"},{"$f":"IF(INTRO!$E$39=\"Non-endemic\",0,IF(INTRO!$E$39=\"Endemic but PC is not required\",IF(COUNTRY_INFO!$H82=1,COUNTRY_INFO!F82+COUNTRY_INFO!G82,0),IF(COUNTRY_INFO!$H82=1,COUNTRY_INFO!F82+COUNTRY_INFO!G82,IF(COUNTRY_INFO!$I82=1,IF(COUNTRY_INFO!N82>=(COUNTRY_INFO!F82+COUNTRY_INFO!G82),COUNTRY_INFO!F82+COUNTRY_INFO!G82,COUNTRY_INFO!$N82),0))))","v":0},{"$f":"IF(AND(INTRO!$E$39=\"Non-endemic\",INTRO!$E$37=\"Non-endemic\"),\"Not required\",IF(INTRO!$E$39=\"Non-endemic\",\"Treat with DEC\",COUNTRY_INFO!W82))","v":0},{"$f":"IF(INTRO!$E$39<>\"Non-endemic\",COUNTRY_INFO!X82,\"Not required\")","v":0},{"$f":"IF(COUNTRY_INFO!H82=1, IF($E82=1,IF(ALB_MBD!$G82<>\" \",COUNTRY_INFO!F82+COUNTRY_INFO!G82-ALB_MBD!$G82,COUNTRY_INFO!F82+COUNTRY_INFO!G82), 0),0)","v":0},{"$f":"IF(INTRO!$E$39<>\"Endemic\",0, IF(AND(COUNTRY_INFO!$I82=1,$F82<>0),IF(COUNTRY_INFO!N82>=(COUNTRY_INFO!F82+COUNTRY_INFO!G82),COUNTRY_INFO!F82+COUNTRY_INFO!G82,COUNTRY_INFO!$N82), 0))","v":0},0,0,0,0,null,0]
[{"$f":"IF(INTRO!$E$39=\"Non-endemic\",\" \",IF(COUNTRY_INFO!A83=0,\" \",COUNTRY_INFO!A83))","v":"Tchad"},{"$f":"IF(INTRO!$E$39=\"Non-endemic\",\" \",IF(COUNTRY_INFO!B83=0,\" \",COUNTRY_INFO!B83))","v":"Mayo Kebbi Est"},{"$f":"IF(INTRO!$E$39=\"Non-endemic\",\" \",IF(COUNTRY_INFO!C83=0,\" \",COUNTRY_INFO!C83))","v":"Fianga"},{"$f":"IF(INTRO!$E$39=\"Non-endemic\",0,IF(INTRO!$E$39=\"Endemic but PC is not required\",IF(COUNTRY_INFO!$H83=1,COUNTRY_INFO!F83+COUNTRY_INFO!G83,0),IF(COUNTRY_INFO!$H83=1,COUNTRY_INFO!F83+COUNTRY_INFO!G83,IF(COUNTRY_INFO!$I83=1,IF(COUNTRY_INFO!N83>=(COUNTRY_INFO!F83+COUNTRY_INFO!G83),COUNTRY_INFO!F83+COUNTRY_INFO!G83,COUNTRY_INFO!$N83),0))))","v":199883},{"$f":"IF(AND(INTRO!$E$39=\"Non-endemic\",INTRO!$E$37=\"Non-endemic\"),\"Not required\",IF(INTRO!$E$39=\"Non-endemic\",\"Treat with DEC\",COUNTRY_INFO!W83))","v":0},{"$f":"IF(INTRO!$E$39<>\"Non-endemic\",COUNTRY_INFO!X83,\"Not required\")","v":1},{"$f":"IF(COUNTRY_INFO!H83=1, IF($E83=1,IF(ALB_MBD!$G83<>\" \",COUNTRY_INFO!F83+COUNTRY_INFO!G83-ALB_MBD!$G83,COUNTRY_INFO!F83+COUNTRY_INFO!G83), 0),0)","v":0},{"$f":"IF(INTRO!$E$39<>\"Endemic\",0, IF(AND(COUNTRY_INFO!$I83=1,$F83<>0),IF(COUNTRY_INFO!N83>=(COUNTRY_INFO!F83+COUNTRY_INFO!G83),COUNTRY_INFO!F83+COUNTRY_INFO!G83,COUNTRY_INFO!$N83), 0))","v":199883},0,559672.39999999991,0,559672.39999999991,null,559672.39999999991]
[{"$f":"IF(INTRO!$E$39=\"Non-endemic\",\" \",IF(COUNTRY_INFO!A84=0,\" \",COUNTRY_INFO!A84))","v":"Tchad"},{"$f":"IF(INTRO!$E$39=\"Non-endemic\",\" \",IF(COUNTRY_INFO!B84=0,\" \",COUNTRY_INFO!B84))","v":"Mayo Kebbi Est"},{"$f":"IF(INTRO!$E$39=\"Non-endemic\",\" \",IF(COUNTRY_INFO!C84=0,\" \",COUNTRY_INFO!C84))","v":"Gounou Gaya"},{"$f":"IF(INTRO!$E$39=\"Non-endemic\",0,IF(INTRO!$E$39=\"Endemic but PC is not required\",IF(COUNTRY_INFO!$H84=1,COUNTRY_INFO!F84+COUNTRY_INFO!G84,0),IF(COUNTRY_INFO!$H84=1,COUNTRY_INFO!F84+COUNTRY_INFO!G84,IF(COUNTRY_INFO!$I84=1,IF(COUNTRY_INFO!N84>=(COUNTRY_INFO!F84+COUNTRY_INFO!G84),COUNTRY_INFO!F84+COUNTRY_INFO!G84,COUNTRY_INFO!$N84),0))))","v":205431},{"$f":"IF(AND(INTRO!$E$39=\"Non-endemic\",INTRO!$E$37=\"Non-endemic\"),\"Not required\",IF(INTRO!$E$39=\"Non-endemic\",\"Treat with DEC\",COUNTRY_INFO!W84))","v":0},{"$f":"IF(INTRO!$E$39<>\"Non-endemic\",COUNTRY_INFO!X84,\"Not required\")","v":1},{"$f":"IF(COUNTRY_INFO!H84=1, IF($E84=1,IF(ALB_MBD!$G84<>\" \",COUNTRY_INFO!F84+COUNTRY_INFO!G84-ALB_MBD!$G84,COUNTRY_INFO!F84+COUNTRY_INFO!G84), 0),0)","v":0},{"$f":"IF(INTRO!$E$39<>\"Endemic\",0, IF(AND(COUNTRY_INFO!$I84=1,$F84<>0),IF(COUNTRY_INFO!N84>=(COUNTRY_INFO!F84+COUNTRY_INFO!G84),COUNTRY_INFO!F84+COUNTRY_INFO!G84,COUNTRY_INFO!$N84), 0))","v":205431},0,575206.79999999993,0,575206.79999999993,null,575206.79999999993]
[{"$f":"IF(INTRO!$E$39=\"Non-endemic\",\" \",IF(COUNTRY_INFO!A85=0,\" \",COUNTRY_INFO!A85))","v":"Tchad"},{"$f":"IF(INTRO!$E$39=\"Non-endemic\",\" \",IF(COUNTRY_INFO!B85=0,\" \",COUNTRY_INFO!B85))","v":"Mayo Kebbi Est"},{"$f":"IF(INTRO!$E$39=\"Non-endemic\",\" \",IF(COUNTRY_INFO!C85=0,\" \",COUNTRY_INFO!C85))","v":"Guelinding"},{"$f":"IF(INTRO!$E$39=\"Non-endemic\",0,IF(INTRO!$E$39=\"Endemic but PC is not required\",IF(COUNTRY_INFO!$H85=1,COUNTRY_INFO!F85+COUNTRY_INFO!G85,0),IF(COUNTRY_INFO!$H85=1,COUNTRY_INFO!F85+COUNTRY_INFO!G85,IF(COUNTRY_INFO!$I85=1,IF(COUNTRY_INFO!N85>=(COUNTRY_INFO!F85+COUNTRY_INFO!G85),COUNTRY_INFO!F85+COUNTRY_INFO!G85,COUNTRY_INFO!$N85),0))))","v":107347},{"$f":"IF(AND(INTRO!$E$39=\"Non-endemic\",INTRO!$E$37=\"Non-endemic\"),\"Not required\",IF(INTRO!$E$39=\"Non-endemic\",\"Treat with DEC\",COUNTRY_INFO!W85))","v":1},{"$f":"IF(INTRO!$E$39<>\"Non-endemic\",COUNTRY_INFO!X85,\"Not required\")","v":0},{"$f":"IF(COUNTRY_INFO!H85=1, IF($E85=1,IF(ALB_MBD!$G85<>\" \",COUNTRY_INFO!F85+COUNTRY_INFO!G85-ALB_MBD!$G85,COUNTRY_INFO!F85+COUNTRY_INFO!G85), 0),0)","v":107347},{"$f":"IF(INTRO!$E$39<>\"Endemic\",0, IF(AND(COUNTRY_INFO!$I85=1,$F85<>0),IF(COUNTRY_INFO!N85>=(COUNTRY_INFO!F85+COUNTRY_INFO!G85),COUNTRY_INFO!F85+COUNTRY_INFO!G85,COUNTRY_INFO!$N85), 0))","v":0},300571.59999999998,0,0,300571.59999999998,null,300571.59999999998]
[{"$f":"IF(INTRO!$E$39=\"Non-endemic\",\" \",IF(COUNTRY_INFO!A86=0,\" \",COUNTRY_INFO!A86))","v":"Tchad"},{"$f":"IF(INTRO!$E$39=\"Non-endemic\",\" \",IF(COUNTRY_INFO!B86=0,\" \",COUNTRY_INFO!B86))","v":"Mayo Kebbi Est"},{"$f":"IF(INTRO!$E$39=\"Non-endemic\",\" \",IF(COUNTRY_INFO!C86=0,\" \",COUNTRY_INFO!C86))","v":"Moulkou"},{"$f":"IF(INTRO!$E$39=\"Non-endemic\",0,IF(INTRO!$E$39=\"Endemic but PC is not required\",IF(COUNTRY_INFO!$H86=1,COUNTRY_INFO!F86+COUNTRY_INFO!G86,0),IF(COUNTRY_INFO!$H86=1,COUNTRY_INFO!F86+COUNTRY_INFO!G86,IF(COUNTRY_INFO!$I86=1,IF(COUNTRY_INFO!N86>=(COUNTRY_INFO!F86+COUNTRY_INFO!G86),COUNTRY_INFO!F86+COUNTRY_INFO!G86,COUNTRY_INFO!$N86),0))))","v":118009},{"$f":"IF(AND(INTRO!$E$39=\"Non-endemic\",INTRO!$E$37=\"Non-endemic\"),\"Not required\",IF(INTRO!$E$39=\"Non-endemic\",\"Treat with DEC\",COUNTRY_INFO!W86))","v":1},{"$f":"IF(INTRO!$E$39<>\"Non-endemic\",COUNTRY_INFO!X86,\"Not required\")","v":0},{"$f":"IF(COUNTRY_INFO!H86=1, IF($E86=1,IF(ALB_MBD!$G86<>\" \",COUNTRY_INFO!F86+COUNTRY_INFO!G86-ALB_MBD!$G86,COUNTRY_INFO!F86+COUNTRY_INFO!G86), 0),0)","v":118009},{"$f":"IF(INTRO!$E$39<>\"Endemic\",0, IF(AND(COUNTRY_INFO!$I86=1,$F86<>0),IF(COUNTRY_INFO!N86>=(COUNTRY_INFO!F86+COUNTRY_INFO!G86),COUNTRY_INFO!F86+COUNTRY_INFO!G86,COUNTRY_INFO!$N86), 0))","v":0},330425.19999999995,0,0,330425.19999999995,null,330425.19999999995]
[{"$f":"IF(INTRO!$E$39=\"Non-endemic\",\" \",IF(COUNTRY_INFO!A87=0,\" \",COUNTRY_INFO!A87))","v":"Tchad"},{"$f":"IF(INTRO!$E$39=\"Non-endemic\",\" \",IF(COUNTRY_INFO!B87=0,\" \",COUNTRY_INFO!B87))","v":"Mayo Kebbi Est"},{"$f":"IF(INTRO!$E$39=\"Non-endemic\",\" \",IF(COUNTRY_INFO!C87=0,\" \",COUNTRY_INFO!C87))","v":"Pont Carol"},{"$f":"IF(INTRO!$E$39=\"Non-endemic\",0,IF(INTRO!$E$39=\"Endemic but PC is not required\",IF(COUNTRY_INFO!$H87=1,COUNTRY_INFO!F87+COUNTRY_INFO!G87,0),IF(COUNTRY_INFO!$H87=1,COUNTRY_INFO!F87+COUNTRY_INFO!G87,IF(COUNTRY_INFO!$I87=1,IF(COUNTRY_INFO!N87>=(COUNTRY_INFO!F87+COUNTRY_INFO!G87),COUNTRY_INFO!F87+COUNTRY_INFO!G87,COUNTRY_INFO!$N87),0))))","v":94133},{"$f":"IF(AND(INTRO!$E$39=\"Non-endemic\",INTRO!$E$37=\"Non-endemic\"),\"Not required\",IF(INTRO!$E$39=\"Non-endemic\",\"Treat with DEC\",COUNTRY_INFO!W87))","v":0},{"$f":"IF(INTRO!$E$39<>\"Non-endemic\",COUNTRY_INFO!X87,\"Not required\")","v":1},{"$f":"IF(COUNTRY_INFO!H87=1, IF($E87=1,IF(ALB_MBD!$G87<>\" \",COUNTRY_INFO!F87+COUNTRY_INFO!G87-ALB_MBD!$G87,COUNTRY_INFO!F87+COUNTRY_INFO!G87), 0),0)","v":0},{"$f":"IF(INTRO!$E$39<>\"Endemic\",0, IF(AND(COUNTRY_INFO!$I87=1,$F87<>0),IF(COUNTRY_INFO!N87>=(COUNTRY_INFO!F87+COUNTRY_INFO!G87),COUNTRY_INFO!F87+COUNTRY_INFO!G87,COUNTRY_INFO!$N87), 0))","v":94133},0,263572.39999999997,0,263572.39999999997,null,263572.39999999997]
[{"$f":"IF(INTRO!$E$39=\"Non-endemic\",\" \",IF(COUNTRY_INFO!A88=0,\" \",COUNTRY_INFO!A88))","v":"Tchad"},{"$f":"IF(INTRO!$E$39=\"Non-endemic\",\" \",IF(COUNTRY_INFO!B88=0,\" \",COUNTRY_INFO!B88))","v":"Mayo Kebbi Est"},{"$f":"IF(INTRO!$E$39=\"Non-endemic\",\" \",IF(COUNTRY_INFO!C88=0,\" \",COUNTRY_INFO!C88))","v":"Youé"},{"$f":"IF(INTRO!$E$39=\"Non-endemic\",0,IF(INTRO!$E$39=\"Endemic but PC is not required\",IF(COUNTRY_INFO!$H88=1,COUNTRY_INFO!F88+COUNTRY_INFO!G88,0),IF(COUNTRY_INFO!$H88=1,COUNTRY_INFO!F88+COUNTRY_INFO!G88,IF(COUNTRY_INFO!$I88=1,IF(COUNTRY_INFO!N88>=(COUNTRY_INFO!F88+COUNTRY_INFO!G88),COUNTRY_INFO!F88+COUNTRY_INFO!G88,COUNTRY_INFO!$N88),0))))","v":98502},{"$f":"IF(AND(INTRO!$E$39=\"Non-endemic\",INTRO!$E$37=\"Non-endemic\"),\"Not required\",IF(INTRO!$E$39=\"Non-endemic\",\"Treat with DEC\",COUNTRY_INFO!W88))","v":0},{"$f":"IF(INTRO!$E$39<>\"Non-endemic\",COUNTRY_INFO!X88,\"Not required\")","v":1},{"$f":"IF(COUNTRY_INFO!H88=1, IF($E88=1,IF(ALB_MBD!$G88<>\" \",COUNTRY_INFO!F88+COUNTRY_INFO!G88-ALB_MBD!$G88,COUNTRY_INFO!F88+COUNTRY_INFO!G88), 0),0)","v":0},{"$f":"IF(INTRO!$E$39<>\"Endemic\",0, IF(AND(COUNTRY_INFO!$I88=1,$F88<>0),IF(COUNTRY_INFO!N88>=(COUNTRY_INFO!F88+COUNTRY_INFO!G88),COUNTRY_INFO!F88+COUNTRY_INFO!G88,COUNTRY_INFO!$N88), 0))","v":98502},0,275805.59999999998,0,275805.59999999998,null,275805.59999999998]
[{"$f":"IF(INTRO!$E$39=\"Non-endemic\",\" \",IF(COUNTRY_INFO!A89=0,\" \",COUNTRY_INFO!A89))","v":"Tchad"},{"$f":"IF(INTRO!$E$39=\"Non-endemic\",\" \",IF(COUNTRY_INFO!B89=0,\" \",COUNTRY_INFO!B89))","v":"Mayo Kebbi Ouest"},{"$f":"IF(INTRO!$E$39=\"Non-endemic\",\" \",IF(COUNTRY_INFO!C89=0,\" \",COUNTRY_INFO!C89))","v":"Binder"},{"$f":"IF(INTRO!$E$39=\"Non-endemic\",0,IF(INTRO!$E$39=\"Endemic but PC is not required\",IF(COUNTRY_INFO!$H89=1,COUNTRY_INFO!F89+COUNTRY_INFO!G89,0),IF(COUNTRY_INFO!$H89=1,COUNTRY_INFO!F89+COUNTRY_INFO!G89,IF(COUNTRY_INFO!$I89=1,IF(COUNTRY_INFO!N89>=(COUNTRY_INFO!F89+COUNTRY_INFO!G89),COUNTRY_INFO!F89+COUNTRY_INFO!G89,COUNTRY_INFO!$N89),0))))","v":74809},{"$f":"IF(AND(INTRO!$E$39=\"Non-endemic\",INTRO!$E$37=\"Non-endemic\"),\"Not required\",IF(INTRO!$E$39=\"Non-endemic\",\"Treat with DEC\",COUNTRY_INFO!W89))","v":0},{"$f":"IF(INTRO!$E$39<>\"Non-endemic\",COUNTRY_INFO!X89,\"Not required\")","v":1},{"$f":"IF(COUNTRY_INFO!H89=1, IF($E89=1,IF(ALB_MBD!$G89<>\" \",COUNTRY_INFO!F89+COUNTRY_INFO!G89-ALB_MBD!$G89,COUNTRY_INFO!F89+COUNTRY_INFO!G89), 0),0)","v":0},{"$f":"IF(INTRO!$E$39<>\"Endemic\",0, IF(AND(COUNTRY_INFO!$I89=1,$F89<>0),IF(COUNTRY_INFO!N89>=(COUNTRY_INFO!F89+COUNTRY_INFO!G89),COUNTRY_INFO!F89+COUNTRY_INFO!G89,COUNTRY_INFO!$N89), 0))","v":74809},0,209465.19999999998,0,209465.19999999998,null,209465.19999999998]
[{"$f":"IF(INTRO!$E$39=\"Non-endemic\",\" \",IF(COUNTRY_INFO!A90=0,\" \",COUNTRY_INFO!A90))","v":"Tchad"},{"$f":"IF(INTRO!$E$39=\"Non-endemic\",\" \",IF(COUNTRY_INFO!B90=0,\" \",COUNTRY_INFO!B90))","v":"Mayo Kebbi Ouest"},{"$f":"IF(INTRO!$E$39=\"Non-endemic\",\" \",IF(COUNTRY_INFO!C90=0,\" \",COUNTRY_INFO!C90))","v":"Gagal"},{"$f":"IF(INTRO!$E$39=\"Non-endemic\",0,IF(INTRO!$E$39=\"Endemic but PC is not required\",IF(COUNTRY_INFO!$H90=1,COUNTRY_INFO!F90+COUNTRY_INFO!G90,0),IF(COUNTRY_INFO!$H90=1,COUNTRY_INFO!F90+COUNTRY_INFO!G90,IF(COUNTRY_INFO!$I90=1,IF(COUNTRY_INFO!N90>=(COUNTRY_INFO!F90+COUNTRY_INFO!G90),COUNTRY_INFO!F90+COUNTRY_INFO!G90,COUNTRY_INFO!$N90),0))))","v":128387},{"$f":"IF(AND(INTRO!$E$39=\"Non-endemic\",INTRO!$E$37=\"Non-endemic\"),\"Not required\",IF(INTRO!$E$39=\"Non-endemic\",\"Treat with DEC\",COUNTRY_INFO!W90))","v":0},{"$f":"IF(INTRO!$E$39<>\"Non-endemic\",COUNTRY_INFO!X90,\"Not required\")","v":1},{"$f":"IF(COUNTRY_INFO!H90=1, IF($E90=1,IF(ALB_MBD!$G90<>\" \",COUNTRY_INFO!F90+COUNTRY_INFO!G90-ALB_MBD!$G90,COUNTRY_INFO!F90+COUNTRY_INFO!G90), 0),0)","v":0},{"$f":"IF(INTRO!$E$39<>\"Endemic\",0, IF(AND(COUNTRY_INFO!$I90=1,$F90<>0),IF(COUNTRY_INFO!N90>=(COUNTRY_INFO!F90+COUNTRY_INFO!G90),COUNTRY_INFO!F90+COUNTRY_INFO!G90,COUNTRY_INFO!$N90), 0))","v":128387},0,359483.6,0,359483.6,null,359483.6]
[{"$f":"IF(INTRO!$E$39=\"Non-endemic\",\" \",IF(COUNTRY_INFO!A91=0,\" \",COUNTRY_INFO!A91))","v":"Tchad"},{"$f":"IF(INTRO!$E$39=\"Non-endemic\",\" \",IF(COUNTRY_INFO!B91=0,\" \",COUNTRY_INFO!B91))","v":"Mayo Kebbi Ouest"},{"$f":"IF(INTRO!$E$39=\"Non-endemic\",\" \",IF(COUNTRY_INFO!C91=0,\" \",COUNTRY_INFO!C91))","v":"Guegou"},{"$f":"IF(INTRO!$E$39=\"Non-endemic\",0,IF(INTRO!$E$39=\"Endemic but PC is not required\",IF(COUNTRY_INFO!$H91=1,COUNTRY_INFO!F91+COUNTRY_INFO!G91,0),IF(COUNTRY_INFO!$H91=1,COUNTRY_INFO!F91+COUNTRY_INFO!G91,IF(COUNTRY_INFO!$I91=1,IF(COUNTRY_INFO!N91>=(COUNTRY_INFO!F91+COUNTRY_INFO!G91),COUNTRY_INFO!F91+COUNTRY_INFO!G91,COUNTRY_INFO!$N91),0))))","v":37501},{"$f":"IF(AND(INTRO!$E$39=\"Non-endemic\",INTRO!$E$37=\"Non-endemic\"),\"Not required\",IF(INTRO!$E$39=\"Non-endemic\",\"Treat with DEC\",COUNTRY_INFO!W91))","v":0},{"$f":"IF(INTRO!$E$39<>\"Non-endemic\",COUNTRY_INFO!X91,\"Not required\")","v":1},{"$f":"IF(COUNTRY_INFO!H91=1, IF($E91=1,IF(ALB_MBD!$G91<>\" \",COUNTRY_INFO!F91+COUNTRY_INFO!G91-ALB_MBD!$G91,COUNTRY_INFO!F91+COUNTRY_INFO!G91), 0),0)","v":0},{"$f":"IF(INTRO!$E$39<>\"Endemic\",0, IF(AND(COUNTRY_INFO!$I91=1,$F91<>0),IF(COUNTRY_INFO!N91>=(COUNTRY_INFO!F91+COUNTRY_INFO!G91),COUNTRY_INFO!F91+COUNTRY_INFO!G91,COUNTRY_INFO!$N91), 0))","v":37501},0,105002.79999999999,0,105002.79999999999,null,105002.79999999999]
[{"$f":"IF(INTRO!$E$39=\"Non-endemic\",\" \",IF(COUNTRY_INFO!A92=0,\" \",COUNTRY_INFO!A92))","v":"Tchad"},{"$f":"IF(INTRO!$E$39=\"Non-endemic\",\" \",IF(COUNTRY_INFO!B92=0,\" \",COUNTRY_INFO!B92))","v":"Mayo Kebbi Ouest"},{"$f":"IF(INTRO!$E$39=\"Non-endemic\",\" \",IF(COUNTRY_INFO!C92=0,\" \",COUNTRY_INFO!C92))","v":"GUELO"},{"$f":"IF(INTRO!$E$39=\"Non-endemic\",0,IF(INTRO!$E$39=\"Endemic but PC is not required\",IF(COUNTRY_INFO!$H92=1,COUNTRY_INFO!F92+COUNTRY_INFO!G92,0),IF(COUNTRY_INFO!$H92=1,COUNTRY_INFO!F92+COUNTRY_INFO!G92,IF(COUNTRY_INFO!$I92=1,IF(COUNTRY_INFO!N92>=(COUNTRY_INFO!F92+COUNTRY_INFO!G92),COUNTRY_INFO!F92+COUNTRY_INFO!G92,COUNTRY_INFO!$N92),0))))","v":47360},{"$f":"IF(AND(INTRO!$E$39=\"Non-endemic\",INTRO!$E$37=\"Non-endemic\"),\"Not required\",IF(INTRO!$E$39=\"Non-endemic\",\"Treat with DEC\",COUNTRY_INFO!W92))","v":0},{"$f":"IF(INTRO!$E$39<>\"Non-endemic\",COUNTRY_INFO!X92,\"Not required\")","v":1},{"$f":"IF(COUNTRY_INFO!H92=1, IF($E92=1,IF(ALB_MBD!$G92<>\" \",COUNTRY_INFO!F92+COUNTRY_INFO!G92-ALB_MBD!$G92,COUNTRY_INFO!F92+COUNTRY_INFO!G92), 0),0)","v":0},{"$f":"IF(INTRO!$E$39<>\"Endemic\",0, IF(AND(COUNTRY_INFO!$I92=1,$F92<>0),IF(COUNTRY_INFO!N92>=(COUNTRY_INFO!F92+COUNTRY_INFO!G92),COUNTRY_INFO!F92+COUNTRY_INFO!G92,COUNTRY_INFO!$N92), 0))","v":47360},0,132608,0,132608,null,132608]
[{"$f":"IF(INTRO!$E$39=\"Non-endemic\",\" \",IF(COUNTRY_INFO!A93=0,\" \",COUNTRY_INFO!A93))","v":"Tchad"},{"$f":"IF(INTRO!$E$39=\"Non-endemic\",\" \",IF(COUNTRY_INFO!B93=0,\" \",COUNTRY_INFO!B93))","v":"Mayo Kebbi Ouest"},{"$f":"IF(INTRO!$E$39=\"Non-endemic\",\" \",IF(COUNTRY_INFO!C93=0,\" \",COUNTRY_INFO!C93))","v":"Lagon"},{"$f":"IF(INTRO!$E$39=\"Non-endemic\",0,IF(INTRO!$E$39=\"Endemic but PC is not required\",IF(COUNTRY_INFO!$H93=1,COUNTRY_INFO!F93+COUNTRY_INFO!G93,0),IF(COUNTRY_INFO!$H93=1,COUNTRY_INFO!F93+COUNTRY_INFO!G93,IF(COUNTRY_INFO!$I93=1,IF(COUNTRY_INFO!N93>=(COUNTRY_INFO!F93+COUNTRY_INFO!G93),COUNTRY_INFO!F93+COUNTRY_INFO!G93,COUNTRY_INFO!$N93),0))))","v":87337},{"$f":"IF(AND(INTRO!$E$39=\"Non-endemic\",INTRO!$E$37=\"Non-endemic\"),\"Not required\",IF(INTRO!$E$39=\"Non-endemic\",\"Treat with DEC\",COUNTRY_INFO!W93))","v":0},{"$f":"IF(INTRO!$E$39<>\"Non-endemic\",COUNTRY_INFO!X93,\"Not required\")","v":1},{"$f":"IF(COUNTRY_INFO!H93=1, IF($E93=1,IF(ALB_MBD!$G93<>\" \",COUNTRY_INFO!F93+COUNTRY_INFO!G93-ALB_MBD!$G93,COUNTRY_INFO!F93+COUNTRY_INFO!G93), 0),0)","v":0},{"$f":"IF(INTRO!$E$39<>\"Endemic\",0, IF(AND(COUNTRY_INFO!$I93=1,$F93<>0),IF(COUNTRY_INFO!N93>=(COUNTRY_INFO!F93+COUNTRY_INFO!G93),COUNTRY_INFO!F93+COUNTRY_INFO!G93,COUNTRY_INFO!$N93), 0))","v":87337},0,244543.59999999998,0,244543.59999999998,null,244543.59999999998]
[{"$f":"IF(INTRO!$E$39=\"Non-endemic\",\" \",IF(COUNTRY_INFO!A94=0,\" \",COUNTRY_INFO!A94))","v":"Tchad"},{"$f":"IF(INTRO!$E$39=\"Non-endemic\",\" \",IF(COUNTRY_INFO!B94=0,\" \",COUNTRY_INFO!B94))","v":"Mayo Kebbi Ouest"},{"$f":"IF(INTRO!$E$39=\"Non-endemic\",\" \",IF(COUNTRY_INFO!C94=0,\" \",COUNTRY_INFO!C94))","v":"Lamé"},{"$f":"IF(INTRO!$E$39=\"Non-endemic\",0,IF(INTRO!$E$39=\"Endemic but PC is not required\",IF(COUNTRY_INFO!$H94=1,COUNTRY_INFO!F94+COUNTRY_INFO!G94,0),IF(COUNTRY_INFO!$H94=1,COUNTRY_INFO!F94+COUNTRY_INFO!G94,IF(COUNTRY_INFO!$I94=1,IF(COUNTRY_INFO!N94>=(COUNTRY_INFO!F94+COUNTRY_INFO!G94),COUNTRY_INFO!F94+COUNTRY_INFO!G94,COUNTRY_INFO!$N94),0))))","v":91495},{"$f":"IF(AND(INTRO!$E$39=\"Non-endemic\",INTRO!$E$37=\"Non-endemic\"),\"Not required\",IF(INTRO!$E$39=\"Non-endemic\",\"Treat with DEC\",COUNTRY_INFO!W94))","v":0},{"$f":"IF(INTRO!$E$39<>\"Non-endemic\",COUNTRY_INFO!X94,\"Not required\")","v":1},{"$f":"IF(COUNTRY_INFO!H94=1, IF($E94=1,IF(ALB_MBD!$G94<>\" \",COUNTRY_INFO!F94+COUNTRY_INFO!G94-ALB_MBD!$G94,COUNTRY_INFO!F94+COUNTRY_INFO!G94), 0),0)","v":0},{"$f":"IF(INTRO!$E$39<>\"Endemic\",0, IF(AND(COUNTRY_INFO!$I94=1,$F94<>0),IF(COUNTRY_INFO!N94>=(COUNTRY_INFO!F94+COUNTRY_INFO!G94),COUNTRY_INFO!F94+COUNTRY_INFO!G94,COUNTRY_INFO!$N94), 0))","v":91495},0,256185.99999999997,0,256185.99999999997,null,256185.99999999997]
[{"$f":"IF(INTRO!$E$39=\"Non-endemic\",\" \",IF(COUNTRY_INFO!A95=0,\" \",COUNTRY_INFO!A95))","v":"Tchad"},{"$f":"IF(INTRO!$E$39=\"Non-endemic\",\" \",IF(COUNTRY_INFO!B95=0,\" \",COUNTRY_INFO!B95))","v":"Mayo Kebbi Ouest"},{"$f":"IF(INTRO!$E$39=\"Non-endemic\",\" \",IF(COUNTRY_INFO!C95=0,\" \",COUNTRY_INFO!C95))","v":"Lere"},{"$f":"IF(INTRO!$E$39=\"Non-endemic\",0,IF(INTRO!$E$39=\"Endemic but PC is not required\",IF(COUNTRY_INFO!$H95=1,COUNTRY_INFO!F95+COUNTRY_INFO!G95,0),IF(COUNTRY_INFO!$H95=1,COUNTRY_INFO!F95+COUNTRY_INFO!G95,IF(COUNTRY_INFO!$I95=1,IF(COUNTRY_INFO!N95>=(COUNTRY_INFO!F95+COUNTRY_INFO!G95),COUNTRY_INFO!F95+COUNTRY_INFO!G95,COUNTRY_INFO!$N95),0))))","v":96635},{"$f":"IF(AND(INTRO!$E$39=\"Non-endemic\",INTRO!$E$37=\"Non-endemic\"),\"Not required\",IF(INTRO!$E$39=\"Non-endemic\",\"Treat with DEC\",COUNTRY_INFO!W95))","v":0},{"$f":"IF(INTRO!$E$39<>\"Non-endemic\",COUNTRY_INFO!X95,\"Not required\")","v":1},{"$f":"IF(COUNTRY_INFO!H95=1, IF($E95=1,IF(ALB_MBD!$G95<>\" \",COUNTRY_INFO!F95+COUNTRY_INFO!G95-ALB_MBD!$G95,COUNTRY_INFO!F95+COUNTRY_INFO!G95), 0),0)","v":0},{"$f":"IF(INTRO!$E$39<>\"Endemic\",0, IF(AND(COUNTRY_INFO!$I95=1,$F95<>0),IF(COUNTRY_INFO!N95>=(COUNTRY_INFO!F95+COUNTRY_INFO!G95),COUNTRY_INFO!F95+COUNTRY_INFO!G95,COUNTRY_INFO!$N95), 0))","v":96635},0,270578,0,270578,null,270578]
[{"$f":"IF(INTRO!$E$39=\"Non-endemic\",\" \",IF(COUNTRY_INFO!A96=0,\" \",COUNTRY_INFO!A96))","v":"Tchad"},{"$f":"IF(INTRO!$E$39=\"Non-endemic\",\" \",IF(COUNTRY_INFO!B96=0,\" \",COUNTRY_INFO!B96))","v":"Mayo Kebbi Ouest"},{"$f":"IF(INTRO!$E$39=\"Non-endemic\",\" \",IF(COUNTRY_INFO!C96=0,\" \",COUNTRY_INFO!C96))","v":"Pala"},{"$f":"IF(INTRO!$E$39=\"Non-endemic\",0,IF(INTRO!$E$39=\"Endemic but PC is not required\",IF(COUNTRY_INFO!$H96=1,COUNTRY_INFO!F96+COUNTRY_INFO!G96,0),IF(COUNTRY_INFO!$H96=1,COUNTRY_INFO!F96+COUNTRY_INFO!G96,IF(COUNTRY_INFO!$I96=1,IF(COUNTRY_INFO!N96>=(COUNTRY_INFO!F96+COUNTRY_INFO!G96),COUNTRY_INFO!F96+COUNTRY_INFO!G96,COUNTRY_INFO!$N96),0))))","v":147819},{"$f":"IF(AND(INTRO!$E$39=\"Non-endemic\",INTRO!$E$37=\"Non-endemic\"),\"Not required\",IF(INTRO!$E$39=\"Non-endemic\",\"Treat with DEC\",COUNTRY_INFO!W96))","v":0},{"$f":"IF(INTRO!$E$39<>\"Non-endemic\",COUNTRY_INFO!X96,\"Not required\")","v":1},{"$f":"IF(COUNTRY_INFO!H96=1, IF($E96=1,IF(ALB_MBD!$G96<>\" \",COUNTRY_INFO!F96+COUNTRY_INFO!G96-ALB_MBD!$G96,COUNTRY_INFO!F96+COUNTRY_INFO!G96), 0),0)","v":0},{"$f":"IF(INTRO!$E$39<>\"Endemic\",0, IF(AND(COUNTRY_INFO!$I96=1,$F96<>0),IF(COUNTRY_INFO!N96>=(COUNTRY_INFO!F96+COUNTRY_INFO!G96),COUNTRY_INFO!F96+COUNTRY_INFO!G96,COUNTRY_INFO!$N96), 0))","v":147819},0,413893.19999999995,0,413893.19999999995,null,413893.19999999995]
[{"$f":"IF(INTRO!$E$39=\"Non-endemic\",\" \",IF(COUNTRY_INFO!A97=0,\" \",COUNTRY_INFO!A97))","v":"Tchad"},{"$f":"IF(INTRO!$E$39=\"Non-endemic\",\" \",IF(COUNTRY_INFO!B97=0,\" \",COUNTRY_INFO!B97))","v":"Mayo Kebbi Ouest"},{"$f":"IF(INTRO!$E$39=\"Non-endemic\",\" \",IF(COUNTRY_INFO!C97=0,\" \",COUNTRY_INFO!C97))","v":"Torrock"},{"$f":"IF(INTRO!$E$39=\"Non-endemic\",0,IF(INTRO!$E$39=\"Endemic but PC is not required\",IF(COUNTRY_INFO!$H97=1,COUNTRY_INFO!F97+COUNTRY_INFO!G97,0),IF(COUNTRY_INFO!$H97=1,COUNTRY_INFO!F97+COUNTRY_INFO!G97,IF(COUNTRY_INFO!$I97=1,IF(COUNTRY_INFO!N97>=(COUNTRY_INFO!F97+COUNTRY_INFO!G97),COUNTRY_INFO!F97+COUNTRY_INFO!G97,COUNTRY_INFO!$N97),0))))","v":69702},{"$f":"IF(AND(INTRO!$E$39=\"Non-endemic\",INTRO!$E$37=\"Non-endemic\"),\"Not required\",IF(INTRO!$E$39=\"Non-endemic\",\"Treat with DEC\",COUNTRY_INFO!W97))","v":0},{"$f":"IF(INTRO!$E$39<>\"Non-endemic\",COUNTRY_INFO!X97,\"Not required\")","v":1},{"$f":"IF(COUNTRY_INFO!H97=1, IF($E97=1,IF(ALB_MBD!$G97<>\" \",COUNTRY_INFO!F97+COUNTRY_INFO!G97-ALB_MBD!$G97,COUNTRY_INFO!F97+COUNTRY_INFO!G97), 0),0)","v":0},{"$f":"IF(INTRO!$E$39<>\"Endemic\",0, IF(AND(COUNTRY_INFO!$I97=1,$F97<>0),IF(COUNTRY_INFO!N97>=(COUNTRY_INFO!F97+COUNTRY_INFO!G97),COUNTRY_INFO!F97+COUNTRY_INFO!G97,COUNTRY_INFO!$N97), 0))","v":69702},0,195165.59999999998,0,195165.59999999998,null,195165.59999999998]
[{"$f":"IF(INTRO!$E$39=\"Non-endemic\",\" \",IF(COUNTRY_INFO!A98=0,\" \",COUNTRY_INFO!A98))","v":"Tchad"},{"$f":"IF(INTRO!$E$39=\"Non-endemic\",\" \",IF(COUNTRY_INFO!B98=0,\" \",COUNTRY_INFO!B98))","v":"Moyen Chari"},{"$f":"IF(INTRO!$E$39=\"Non-endemic\",\" \",IF(COUNTRY_INFO!C98=0,\" \",COUNTRY_INFO!C98))","v":"Balimba"},{"$f":"IF(INTRO!$E$39=\"Non-endemic\",0,IF(INTRO!$E$39=\"Endemic but PC is not required\",IF(COUNTRY_INFO!$H98=1,COUNTRY_INFO!F98+COUNTRY_INFO!G98,0),IF(COUNTRY_INFO!$H98=1,COUNTRY_INFO!F98+COUNTRY_INFO!G98,IF(COUNTRY_INFO!$I98=1,IF(COUNTRY_INFO!N98>=(COUNTRY_INFO!F98+COUNTRY_INFO!G98),COUNTRY_INFO!F98+COUNTRY_INFO!G98,COUNTRY_INFO!$N98),0))))","v":55884},{"$f":"IF(AND(INTRO!$E$39=\"Non-endemic\",INTRO!$E$37=\"Non-endemic\"),\"Not required\",IF(INTRO!$E$39=\"Non-endemic\",\"Treat with DEC\",COUNTRY_INFO!W98))","v":1},{"$f":"IF(INTRO!$E$39<>\"Non-endemic\",COUNTRY_INFO!X98,\"Not required\")","v":1},{"$f":"IF(COUNTRY_INFO!H98=1, IF($E98=1,IF(ALB_MBD!$G98<>\" \",COUNTRY_INFO!F98+COUNTRY_INFO!G98-ALB_MBD!$G98,COUNTRY_INFO!F98+COUNTRY_INFO!G98), 0),0)","v":55884},{"$f":"IF(INTRO!$E$39<>\"Endemic\",0, IF(AND(COUNTRY_INFO!$I98=1,$F98<>0),IF(COUNTRY_INFO!N98>=(COUNTRY_INFO!F98+COUNTRY_INFO!G98),COUNTRY_INFO!F98+COUNTRY_INFO!G98,COUNTRY_INFO!$N98), 0))","v":55884},0,0,156475.19999999998,156475.19999999998,null,156475.19999999998]
[{"$f":"IF(INTRO!$E$39=\"Non-endemic\",\" \",IF(COUNTRY_INFO!A99=0,\" \",COUNTRY_INFO!A99))","v":"Tchad"},{"$f":"IF(INTRO!$E$39=\"Non-endemic\",\" \",IF(COUNTRY_INFO!B99=0,\" \",COUNTRY_INFO!B99))","v":"Moyen Chari"},{"$f":"IF(INTRO!$E$39=\"Non-endemic\",\" \",IF(COUNTRY_INFO!C99=0,\" \",COUNTRY_INFO!C99))","v":"Biobe Singako"},{"$f":"IF(INTRO!$E$39=\"Non-endemic\",0,IF(INTRO!$E$39=\"Endemic but PC is not required\",IF(COUNTRY_INFO!$H99=1,COUNTRY_INFO!F99+COUNTRY_INFO!G99,0),IF(COUNTRY_INFO!$H99=1,COUNTRY_INFO!F99+COUNTRY_INFO!G99,IF(COUNTRY_INFO!$I99=1,IF(COUNTRY_INFO!N99>=(COUNTRY_INFO!F99+COUNTRY_INFO!G99),COUNTRY_INFO!F99+COUNTRY_INFO!G99,COUNTRY_INFO!$N99),0))))","v":88874},{"$f":"IF(AND(INTRO!$E$39=\"Non-endemic\",INTRO!$E$37=\"Non-endemic\"),\"Not required\",IF(INTRO!$E$39=\"Non-endemic\",\"Treat with DEC\",COUNTRY_INFO!W99))","v":0},{"$f":"IF(INTRO!$E$39<>\"Non-endemic\",COUNTRY_INFO!X99,\"Not required\")","v":1},{"$f":"IF(COUNTRY_INFO!H99=1, IF($E99=1,IF(ALB_MBD!$G99<>\" \",COUNTRY_INFO!F99+COUNTRY_INFO!G99-ALB_MBD!$G99,COUNTRY_INFO!F99+COUNTRY_INFO!G99), 0),0)","v":0},{"$f":"IF(INTRO!$E$39<>\"Endemic\",0, IF(AND(COUNTRY_INFO!$I99=1,$F99<>0),IF(COUNTRY_INFO!N99>=(COUNTRY_INFO!F99+COUNTRY_INFO!G99),COUNTRY_INFO!F99+COUNTRY_INFO!G99,COUNTRY_INFO!$N99), 0))","v":88874},0,248847.19999999998,0,248847.19999999998,null,248847.19999999998]
[{"$f":"IF(INTRO!$E$39=\"Non-endemic\",\" \",IF(COUNTRY_INFO!A100=0,\" \",COUNTRY_INFO!A100))","v":"Tchad"},{"$f":"IF(INTRO!$E$39=\"Non-endemic\",\" \",IF(COUNTRY_INFO!B100=0,\" \",COUNTRY_INFO!B100))","v":"Moyen Chari"},{"$f":"IF(INTRO!$E$39=\"Non-endemic\",\" \",IF(COUNTRY_INFO!C100=0,\" \",COUNTRY_INFO!C100))","v":"Danamadji"},{"$f":"IF(INTRO!$E$39=\"Non-endemic\",0,IF(INTRO!$E$39=\"Endemic but PC is not required\",IF(COUNTRY_INFO!$H100=1,COUNTRY_INFO!F100+COUNTRY_INFO!G100,0),IF(COUNTRY_INFO!$H100=1,COUNTRY_INFO!F100+COUNTRY_INFO!G100,IF(COUNTRY_INFO!$I100=1,IF(COUNTRY_INFO!N100>=(COUNTRY_INFO!F100+COUNTRY_INFO!G100),COUNTRY_INFO!F100+COUNTRY_INFO!G100,COUNTRY_INFO!$N100),0))))","v":108691},{"$f":"IF(AND(INTRO!$E$39=\"Non-endemic\",INTRO!$E$37=\"Non-endemic\"),\"Not required\",IF(INTRO!$E$39=\"Non-endemic\",\"Treat with DEC\",COUNTRY_INFO!W100))","v":1},{"$f":"IF(INTRO!$E$39<>\"Non-endemic\",COUNTRY_INFO!X100,\"Not required\")","v":1},{"$f":"IF(COUNTRY_INFO!H100=1, IF($E100=1,IF(ALB_MBD!$G100<>\" \",COUNTRY_INFO!F100+COUNTRY_INFO!G100-ALB_MBD!$G100,COUNTRY_INFO!F100+COUNTRY_INFO!G100), 0),0)","v":108691},{"$f":"IF(INTRO!$E$39<>\"Endemic\",0, IF(AND(COUNTRY_INFO!$I100=1,$F100<>0),IF(COUNTRY_INFO!N100>=(COUNTRY_INFO!F100+COUNTRY_INFO!G100),COUNTRY_INFO!F100+COUNTRY_INFO!G100,COUNTRY_INFO!$N100), 0))","v":108691},0,0,304334.8,304334.8,null,304334.8]
[{"$f":"IF(INTRO!$E$39=\"Non-endemic\",\" \",IF(COUNTRY_INFO!A101=0,\" \",COUNTRY_INFO!A101))","v":"Tchad"},{"$f":"IF(INTRO!$E$39=\"Non-endemic\",\" \",IF(COUNTRY_INFO!B101=0,\" \",COUNTRY_INFO!B101))","v":"Moyen Chari"},{"$f":"IF(INTRO!$E$39=\"Non-endemic\",\" \",IF(COUNTRY_INFO!C101=0,\" \",COUNTRY_INFO!C101))","v":"Korbol"},{"$f":"IF(INTRO!$E$39=\"Non-endemic\",0,IF(INTRO!$E$39=\"Endemic but PC is not required\",IF(COUNTRY_INFO!$H101=1,COUNTRY_INFO!F101+COUNTRY_INFO!G101,0),IF(COUNTRY_INFO!$H101=1,COUNTRY_INFO!F101+COUNTRY_INFO!G101,IF(COUNTRY_INFO!$I101=1,IF(COUNTRY_INFO!N101>=(COUNTRY_INFO!F101+COUNTRY_INFO!G101),COUNTRY_INFO!F101+COUNTRY_INFO!G101,COUNTRY_INFO!$N101),0))))","v":44933},{"$f":"IF(AND(INTRO!$E$39=\"Non-endemic\",INTRO!$E$37=\"Non-endemic\"),\"Not required\",IF(INTRO!$E$39=\"Non-endemic\",\"Treat with DEC\",COUNTRY_INFO!W101))","v":1},{"$f":"IF(INTRO!$E$39<>\"Non-endemic\",COUNTRY_INFO!X101,\"Not required\")","v":1},{"$f":"IF(COUNTRY_INFO!H101=1, IF($E101=1,IF(ALB_MBD!$G101<>\" \",COUNTRY_INFO!F101+COUNTRY_INFO!G101-ALB_MBD!$G101,COUNTRY_INFO!F101+COUNTRY_INFO!G101), 0),0)","v":44933},{"$f":"IF(INTRO!$E$39<>\"Endemic\",0, IF(AND(COUNTRY_INFO!$I101=1,$F101<>0),IF(COUNTRY_INFO!N101>=(COUNTRY_INFO!F101+COUNTRY_INFO!G101),COUNTRY_INFO!F101+COUNTRY_INFO!G101,COUNTRY_INFO!$N101), 0))","v":44933},0,0,125812.4,125812.4,null,125812.4]
[{"$f":"IF(INTRO!$E$39=\"Non-endemic\",\" \",IF(COUNTRY_INFO!A102=0,\" \",COUNTRY_INFO!A102))","v":"Tchad"},{"$f":"IF(INTRO!$E$39=\"Non-endemic\",\" \",IF(COUNTRY_INFO!B102=0,\" \",COUNTRY_INFO!B102))","v":"Moyen Chari"},{"$f":"IF(INTRO!$E$39=\"Non-endemic\",\" \",IF(COUNTRY_INFO!C102=0,\" \",COUNTRY_INFO!C102))","v":"Koumogo"},{"$f":"IF(INTRO!$E$39=\"Non-endemic\",0,IF(INTRO!$E$39=\"Endemic but PC is not required\",IF(COUNTRY_INFO!$H102=1,COUNTRY_INFO!F102+COUNTRY_INFO!G102,0),IF(COUNTRY_INFO!$H102=1,COUNTRY_INFO!F102+COUNTRY_INFO!G102,IF(COUNTRY_INFO!$I102=1,IF(COUNTRY_INFO!N102>=(COUNTRY_INFO!F102+COUNTRY_INFO!G102),COUNTRY_INFO!F102+COUNTRY_INFO!G102,COUNTRY_INFO!$N102),0))))","v":79206},{"$f":"IF(AND(INTRO!$E$39=\"Non-endemic\",INTRO!$E$37=\"Non-endemic\"),\"Not required\",IF(INTRO!$E$39=\"Non-endemic\",\"Treat with DEC\",COUNTRY_INFO!W102))","v":1},{"$f":"IF(INTRO!$E$39<>\"Non-endemic\",COUNTRY_INFO!X102,\"Not required\")","v":1},{"$f":"IF(COUNTRY_INFO!H102=1, IF($E102=1,IF(ALB_MBD!$G102<>\" \",COUNTRY_INFO!F102+COUNTRY_INFO!G102-ALB_MBD!$G102,COUNTRY_INFO!F102+COUNTRY_INFO!G102), 0),0)","v":79206},{"$f":"IF(INTRO!$E$39<>\"Endemic\",0, IF(AND(COUNTRY_INFO!$I102=1,$F102<>0),IF(COUNTRY_INFO!N102>=(COUNTRY_INFO!F102+COUNTRY_INFO!G102),COUNTRY_INFO!F102+COUNTRY_INFO!G102,COUNTRY_INFO!$N102), 0))","v":79206},0,0,221776.8,221776.8,null,221776.8]
[{"$f":"IF(INTRO!$E$39=\"Non-endemic\",\" \",IF(COUNTRY_INFO!A103=0,\" \",COUNTRY_INFO!A103))","v":"Tchad"},{"$f":"IF(INTRO!$E$39=\"Non-endemic\",\" \",IF(COUNTRY_INFO!B103=0,\" \",COUNTRY_INFO!B103))","v":"Moyen Chari"},{"$f":"IF(INTRO!$E$39=\"Non-endemic\",\" \",IF(COUNTRY_INFO!C103=0,\" \",COUNTRY_INFO!C103))","v":"Kyabe"},{"$f":"IF(INTRO!$E$39=\"Non-endemic\",0,IF(INTRO!$E$39=\"Endemic but PC is not required\",IF(COUNTRY_INFO!$H103=1,COUNTRY_INFO!F103+COUNTRY_INFO!G103,0),IF(COUNTRY_INFO!$H103=1,COUNTRY_INFO!F103+COUNTRY_INFO!G103,IF(COUNTRY_INFO!$I103=1,IF(COUNTRY_INFO!N103>=(COUNTRY_INFO!F103+COUNTRY_INFO!G103),COUNTRY_INFO!F103+COUNTRY_INFO!G103,COUNTRY_INFO!$N103),0))))","v":144061},{"$f":"IF(AND(INTRO!$E$39=\"Non-endemic\",INTRO!$E$37=\"Non-endemic\"),\"Not required\",IF(INTRO!$E$39=\"Non-endemic\",\"Treat with DEC\",COUNTRY_INFO!W103))","v":0},{"$f":"IF(INTRO!$E$39<>\"Non-endemic\",COUNTRY_INFO!X103,\"Not required\")","v":1},{"$f":"IF(COUNTRY_INFO!H103=1, IF($E103=1,IF(ALB_MBD!$G103<>\" \",COUNTRY_INFO!F103+COUNTRY_INFO!G103-ALB_MBD!$G103,COUNTRY_INFO!F103+COUNTRY_INFO!G103), 0),0)","v":0},{"$f":"IF(INTRO!$E$39<>\"Endemic\",0, IF(AND(COUNTRY_INFO!$I103=1,$F103<>0),IF(COUNTRY_INFO!N103>=(COUNTRY_INFO!F103+COUNTRY_INFO!G103),COUNTRY_INFO!F103+COUNTRY_INFO!G103,COUNTRY_INFO!$N103), 0))","v":144061},0,403370.8,0,403370.8,null,403370.8]
[{"$f":"IF(INTRO!$E$39=\"Non-endemic\",\" \",IF(COUNTRY_INFO!A104=0,\" \",COUNTRY_INFO!A104))","v":"Tchad"},{"$f":"IF(INTRO!$E$39=\"Non-endemic\",\" \",IF(COUNTRY_INFO!B104=0,\" \",COUNTRY_INFO!B104))","v":"Moyen Chari"},{"$f":"IF(INTRO!$E$39=\"Non-endemic\",\" \",IF(COUNTRY_INFO!C104=0,\" \",COUNTRY_INFO!C104))","v":"Maro"},{"$f":"IF(INTRO!$E$39=\"Non-endemic\",0,IF(INTRO!$E$39=\"Endemic but PC is not required\",IF(COUNTRY_INFO!$H104=1,COUNTRY_INFO!F104+COUNTRY_INFO!G104,0),IF(COUNTRY_INFO!$H104=1,COUNTRY_INFO!F104+COUNTRY_INFO!G104,IF(COUNTRY_INFO!$I104=1,IF(COUNTRY_INFO!N104>=(COUNTRY_INFO!F104+COUNTRY_INFO!G104),COUNTRY_INFO!F104+COUNTRY_INFO!G104,COUNTRY_INFO!$N104),0))))","v":105848},{"$f":"IF(AND(INTRO!$E$39=\"Non-endemic\",INTRO!$E$37=\"Non-endemic\"),\"Not required\",IF(INTRO!$E$39=\"Non-endemic\",\"Treat with DEC\",COUNTRY_INFO!W104))","v":1},{"$f":"IF(INTRO!$E$39<>\"Non-endemic\",COUNTRY_INFO!X104,\"Not required\")","v":1},{"$f":"IF(COUNTRY_INFO!H104=1, IF($E104=1,IF(ALB_MBD!$G104<>\" \",COUNTRY_INFO!F104+COUNTRY_INFO!G104-ALB_MBD!$G104,COUNTRY_INFO!F104+COUNTRY_INFO!G104), 0),0)","v":105848},{"$f":"IF(INTRO!$E$39<>\"Endemic\",0, IF(AND(COUNTRY_INFO!$I104=1,$F104<>0),IF(COUNTRY_INFO!N104>=(COUNTRY_INFO!F104+COUNTRY_INFO!G104),COUNTRY_INFO!F104+COUNTRY_INFO!G104,COUNTRY_INFO!$N104), 0))","v":105848},0,0,296374.39999999997,296374.39999999997,null,296374.39999999997]
[{"$f":"IF(INTRO!$E$39=\"Non-endemic\",\" \",IF(COUNTRY_INFO!A105=0,\" \",COUNTRY_INFO!A105))","v":"Tchad"},{"$f":"IF(INTRO!$E$39=\"Non-endemic\",\" \",IF(COUNTRY_INFO!B105=0,\" \",COUNTRY_INFO!B105))","v":"Moyen Chari"},{"$f":"IF(INTRO!$E$39=\"Non-endemic\",\" \",IF(COUNTRY_INFO!C105=0,\" \",COUNTRY_INFO!C105))","v":"Sarh"},{"$f":"IF(INTRO!$E$39=\"Non-endemic\",0,IF(INTRO!$E$39=\"Endemic but PC is not required\",IF(COUNTRY_INFO!$H105=1,COUNTRY_INFO!F105+COUNTRY_INFO!G105,0),IF(COUNTRY_INFO!$H105=1,COUNTRY_INFO!F105+COUNTRY_INFO!G105,IF(COUNTRY_INFO!$I105=1,IF(COUNTRY_INFO!N105>=(COUNTRY_INFO!F105+COUNTRY_INFO!G105),COUNTRY_INFO!F105+COUNTRY_INFO!G105,COUNTRY_INFO!$N105),0))))","v":184734},{"$f":"IF(AND(INTRO!$E$39=\"Non-endemic\",INTRO!$E$37=\"Non-endemic\"),\"Not required\",IF(INTRO!$E$39=\"Non-endemic\",\"Treat with DEC\",COUNTRY_INFO!W105))","v":0},{"$f":"IF(INTRO!$E$39<>\"Non-endemic\",COUNTRY_INFO!X105,\"Not required\")","v":1},{"$f":"IF(COUNTRY_INFO!H105=1, IF($E105=1,IF(ALB_MBD!$G105<>\" \",COUNTRY_INFO!F105+COUNTRY_INFO!G105-ALB_MBD!$G105,COUNTRY_INFO!F105+COUNTRY_INFO!G105), 0),0)","v":0},{"$f":"IF(INTRO!$E$39<>\"Endemic\",0, IF(AND(COUNTRY_INFO!$I105=1,$F105<>0),IF(COUNTRY_INFO!N105>=(COUNTRY_INFO!F105+COUNTRY_INFO!G105),COUNTRY_INFO!F105+COUNTRY_INFO!G105,COUNTRY_INFO!$N105), 0))","v":184734},0,517255.19999999995,0,517255.19999999995,null,517255.19999999995]
[{"$f":"IF(INTRO!$E$39=\"Non-endemic\",\" \",IF(COUNTRY_INFO!A106=0,\" \",COUNTRY_INFO!A106))","v":"Tchad"},{"$f":"IF(INTRO!$E$39=\"Non-endemic\",\" \",IF(COUNTRY_INFO!B106=0,\" \",COUNTRY_INFO!B106))","v":"N'Djaména"},{"$f":"IF(INTRO!$E$39=\"Non-endemic\",\" \",IF(COUNTRY_INFO!C106=0,\" \",COUNTRY_INFO!C106))","v":"N'Djaména Centre"},{"$f":"IF(INTRO!$E$39=\"Non-endemic\",0,IF(INTRO!$E$39=\"Endemic but PC is not required\",IF(COUNTRY_INFO!$H106=1,COUNTRY_INFO!F106+COUNTRY_INFO!G106,0),IF(COUNTRY_INFO!$H106=1,COUNTRY_INFO!F106+COUNTRY_INFO!G106,IF(COUNTRY_INFO!$I106=1,IF(COUNTRY_INFO!N106>=(COUNTRY_INFO!F106+COUNTRY_INFO!G106),COUNTRY_INFO!F106+COUNTRY_INFO!G106,COUNTRY_INFO!$N106),0))))","v":0},{"$f":"IF(AND(INTRO!$E$39=\"Non-endemic\",INTRO!$E$37=\"Non-endemic\"),\"Not required\",IF(INTRO!$E$39=\"Non-endemic\",\"Treat with DEC\",COUNTRY_INFO!W106))","v":0},{"$f":"IF(INTRO!$E$39<>\"Non-endemic\",COUNTRY_INFO!X106,\"Not required\")","v":0},{"$f":"IF(COUNTRY_INFO!H106=1, IF($E106=1,IF(ALB_MBD!$G106<>\" \",COUNTRY_INFO!F106+COUNTRY_INFO!G106-ALB_MBD!$G106,COUNTRY_INFO!F106+COUNTRY_INFO!G106), 0),0)","v":0},{"$f":"IF(INTRO!$E$39<>\"Endemic\",0, IF(AND(COUNTRY_INFO!$I106=1,$F106<>0),IF(COUNTRY_INFO!N106>=(COUNTRY_INFO!F106+COUNTRY_INFO!G106),COUNTRY_INFO!F106+COUNTRY_INFO!G106,COUNTRY_INFO!$N106), 0))","v":0},0,0,0,0,null,0]
[{"$f":"IF(INTRO!$E$39=\"Non-endemic\",\" \",IF(COUNTRY_INFO!A107=0,\" \",COUNTRY_INFO!A107))","v":"Tchad"},{"$f":"IF(INTRO!$E$39=\"Non-endemic\",\" \",IF(COUNTRY_INFO!B107=0,\" \",COUNTRY_INFO!B107))","v":"N'Djaména"},{"$f":"IF(INTRO!$E$39=\"Non-endemic\",\" \",IF(COUNTRY_INFO!C107=0,\" \",COUNTRY_INFO!C107))","v":"N'Djaména Est"},{"$f":"IF(INTRO!$E$39=\"Non-endemic\",0,IF(INTRO!$E$39=\"Endemic but PC is not required\",IF(COUNTRY_INFO!$H107=1,COUNTRY_INFO!F107+COUNTRY_INFO!G107,0),IF(COUNTRY_INFO!$H107=1,COUNTRY_INFO!F107+COUNTRY_INFO!G107,IF(COUNTRY_INFO!$I107=1,IF(COUNTRY_INFO!N107>=(COUNTRY_INFO!F107+COUNTRY_INFO!G107),COUNTRY_INFO!F107+COUNTRY_INFO!G107,COUNTRY_INFO!$N107),0))))","v":0},{"$f":"IF(AND(INTRO!$E$39=\"Non-endemic\",INTRO!$E$37=\"Non-endemic\"),\"Not required\",IF(INTRO!$E$39=\"Non-endemic\",\"Treat with DEC\",COUNTRY_INFO!W107))","v":0},{"$f":"IF(INTRO!$E$39<>\"Non-endemic\",COUNTRY_INFO!X107,\"Not required\")","v":0},{"$f":"IF(COUNTRY_INFO!H107=1, IF($E107=1,IF(ALB_MBD!$G107<>\" \",COUNTRY_INFO!F107+COUNTRY_INFO!G107-ALB_MBD!$G107,COUNTRY_INFO!F107+COUNTRY_INFO!G107), 0),0)","v":0},{"$f":"IF(INTRO!$E$39<>\"Endemic\",0, IF(AND(COUNTRY_INFO!$I107=1,$F107<>0),IF(COUNTRY_INFO!N107>=(COUNTRY_INFO!F107+COUNTRY_INFO!G107),COUNTRY_INFO!F107+COUNTRY_INFO!G107,COUNTRY_INFO!$N107), 0))","v":0},0,0,0,0,null,0]
[{"$f":"IF(INTRO!$E$39=\"Non-endemic\",\" \",IF(COUNTRY_INFO!A108=0,\" \",COUNTRY_INFO!A108))","v":"Tchad"},{"$f":"IF(INTRO!$E$39=\"Non-endemic\",\" \",IF(COUNTRY_INFO!B108=0,\" \",COUNTRY_INFO!B108))","v":"N'Djaména"},{"$f":"IF(INTRO!$E$39=\"Non-endemic\",\" \",IF(COUNTRY_INFO!C108=0,\" \",COUNTRY_INFO!C108))","v":"N'Djaména Nord"},{"$f":"IF(INTRO!$E$39=\"Non-endemic\",0,IF(INTRO!$E$39=\"Endemic but PC is not required\",IF(COUNTRY_INFO!$H108=1,COUNTRY_INFO!F108+COUNTRY_INFO!G108,0),IF(COUNTRY_INFO!$H108=1,COUNTRY_INFO!F108+COUNTRY_INFO!G108,IF(COUNTRY_INFO!$I108=1,IF(COUNTRY_INFO!N108>=(COUNTRY_INFO!F108+COUNTRY_INFO!G108),COUNTRY_INFO!F108+COUNTRY_INFO!G108,COUNTRY_INFO!$N108),0))))","v":0},{"$f":"IF(AND(INTRO!$E$39=\"Non-endemic\",INTRO!$E$37=\"Non-endemic\"),\"Not required\",IF(INTRO!$E$39=\"Non-endemic\",\"Treat with DEC\",COUNTRY_INFO!W108))","v":0},{"$f":"IF(INTRO!$E$39<>\"Non-endemic\",COUNTRY_INFO!X108,\"Not required\")","v":0},{"$f":"IF(COUNTRY_INFO!H108=1, IF($E108=1,IF(ALB_MBD!$G108<>\" \",COUNTRY_INFO!F108+COUNTRY_INFO!G108-ALB_MBD!$G108,COUNTRY_INFO!F108+COUNTRY_INFO!G108), 0),0)","v":0},{"$f":"IF(INTRO!$E$39<>\"Endemic\",0, IF(AND(COUNTRY_INFO!$I108=1,$F108<>0),IF(COUNTRY_INFO!N108>=(COUNTRY_INFO!F108+COUNTRY_INFO!G108),COUNTRY_INFO!F108+COUNTRY_INFO!G108,COUNTRY_INFO!$N108), 0))","v":0},0,0,0,0,null,0]
[{"$f":"IF(INTRO!$E$39=\"Non-endemic\",\" \",IF(COUNTRY_INFO!A109=0,\" \",COUNTRY_INFO!A109))","v":"Tchad"},{"$f":"IF(INTRO!$E$39=\"Non-endemic\",\" \",IF(COUNTRY_INFO!B109=0,\" \",COUNTRY_INFO!B109))","v":"N'Djaména"},{"$f":"IF(INTRO!$E$39=\"Non-endemic\",\" \",IF(COUNTRY_INFO!C109=0,\" \",COUNTRY_INFO!C109))","v":"N'Djaména Sud"},{"$f":"IF(INTRO!$E$39=\"Non-endemic\",0,IF(INTRO!$E$39=\"Endemic but PC is not required\",IF(COUNTRY_INFO!$H109=1,COUNTRY_INFO!F109+COUNTRY_INFO!G109,0),IF(COUNTRY_INFO!$H109=1,COUNTRY_INFO!F109+COUNTRY_INFO!G109,IF(COUNTRY_INFO!$I109=1,IF(COUNTRY_INFO!N109>=(COUNTRY_INFO!F109+COUNTRY_INFO!G109),COUNTRY_INFO!F109+COUNTRY_INFO!G109,COUNTRY_INFO!$N109),0))))","v":0},{"$f":"IF(AND(INTRO!$E$39=\"Non-endemic\",INTRO!$E$37=\"Non-endemic\"),\"Not required\",IF(INTRO!$E$39=\"Non-endemic\",\"Treat with DEC\",COUNTRY_INFO!W109))","v":0},{"$f":"IF(INTRO!$E$39<>\"Non-endemic\",COUNTRY_INFO!X109,\"Not required\")","v":0},{"$f":"IF(COUNTRY_INFO!H109=1, IF($E109=1,IF(ALB_MBD!$G109<>\" \",COUNTRY_INFO!F109+COUNTRY_INFO!G109-ALB_MBD!$G109,COUNTRY_INFO!F109+COUNTRY_INFO!G109), 0),0)","v":0},{"$f":"IF(INTRO!$E$39<>\"Endemic\",0, IF(AND(COUNTRY_INFO!$I109=1,$F109<>0),IF(COUNTRY_INFO!N109>=(COUNTRY_INFO!F109+COUNTRY_INFO!G109),COUNTRY_INFO!F109+COUNTRY_INFO!G109,COUNTRY_INFO!$N109), 0))","v":0},0,0,0,0,null,0]
[{"$f":"IF(INTRO!$E$39=\"Non-endemic\",\" \",IF(COUNTRY_INFO!A110=0,\" \",COUNTRY_INFO!A110))","v":"Tchad"},{"$f":"IF(INTRO!$E$39=\"Non-endemic\",\" \",IF(COUNTRY_INFO!B110=0,\" \",COUNTRY_INFO!B110))","v":"N'Djamena"},{"$f":"IF(INTRO!$E$39=\"Non-endemic\",\" \",IF(COUNTRY_INFO!C110=0,\" \",COUNTRY_INFO!C110))","v":"9eme Arrondissement"},{"$f":"IF(INTRO!$E$39=\"Non-endemic\",0,IF(INTRO!$E$39=\"Endemic but PC is not required\",IF(COUNTRY_INFO!$H110=1,COUNTRY_INFO!F110+COUNTRY_INFO!G110,0),IF(COUNTRY_INFO!$H110=1,COUNTRY_INFO!F110+COUNTRY_INFO!G110,IF(COUNTRY_INFO!$I110=1,IF(COUNTRY_INFO!N110>=(COUNTRY_INFO!F110+COUNTRY_INFO!G110),COUNTRY_INFO!F110+COUNTRY_INFO!G110,COUNTRY_INFO!$N110),0))))","v":0},{"$f":"IF(AND(INTRO!$E$39=\"Non-endemic\",INTRO!$E$37=\"Non-endemic\"),\"Not required\",IF(INTRO!$E$39=\"Non-endemic\",\"Treat with DEC\",COUNTRY_INFO!W110))","v":0},{"$f":"IF(INTRO!$E$39<>\"Non-endemic\",COUNTRY_INFO!X110,\"Not required\")","v":0},{"$f":"IF(COUNTRY_INFO!H110=1, IF($E110=1,IF(ALB_MBD!$G110<>\" \",COUNTRY_INFO!F110+COUNTRY_INFO!G110-ALB_MBD!$G110,COUNTRY_INFO!F110+COUNTRY_INFO!G110), 0),0)","v":0},{"$f":"IF(INTRO!$E$39<>\"Endemic\",0, IF(AND(COUNTRY_INFO!$I110=1,$F110<>0),IF(COUNTRY_INFO!N110>=(COUNTRY_INFO!F110+COUNTRY_INFO!G110),COUNTRY_INFO!F110+COUNTRY_INFO!G110,COUNTRY_INFO!$N110), 0))","v":0},0,0,0,0,null,0]
[{"$f":"IF(INTRO!$E$39=\"Non-endemic\",\" \",IF(COUNTRY_INFO!A111=0,\" \",COUNTRY_INFO!A111))","v":"Tchad"},{"$f":"IF(INTRO!$E$39=\"Non-endemic\",\" \",IF(COUNTRY_INFO!B111=0,\" \",COUNTRY_INFO!B111))","v":"Ouaddai"},{"$f":"IF(INTRO!$E$39=\"Non-endemic\",\" \",IF(COUNTRY_INFO!C111=0,\" \",COUNTRY_INFO!C111))","v":"Abdi"},{"$f":"IF(INTRO!$E$39=\"Non-endemic\",0,IF(INTRO!$E$39=\"Endemic but PC is not required\",IF(COUNTRY_INFO!$H111=1,COUNTRY_INFO!F111+COUNTRY_INFO!G111,0),IF(COUNTRY_INFO!$H111=1,COUNTRY_INFO!F111+COUNTRY_INFO!G111,IF(COUNTRY_INFO!$I111=1,IF(COUNTRY_INFO!N111>=(COUNTRY_INFO!F111+COUNTRY_INFO!G111),COUNTRY_INFO!F111+COUNTRY_INFO!G111,COUNTRY_INFO!$N111),0))))","v":0},{"$f":"IF(AND(INTRO!$E$39=\"Non-endemic\",INTRO!$E$37=\"Non-endemic\"),\"Not required\",IF(INTRO!$E$39=\"Non-endemic\",\"Treat with DEC\",COUNTRY_INFO!W111))","v":0},{"$f":"IF(INTRO!$E$39<>\"Non-endemic\",COUNTRY_INFO!X111,\"Not required\")","v":0},{"$f":"IF(COUNTRY_INFO!H111=1, IF($E111=1,IF(ALB_MBD!$G111<>\" \",COUNTRY_INFO!F111+COUNTRY_INFO!G111-ALB_MBD!$G111,COUNTRY_INFO!F111+COUNTRY_INFO!G111), 0),0)","v":0},{"$f":"IF(INTRO!$E$39<>\"Endemic\",0, IF(AND(COUNTRY_INFO!$I111=1,$F111<>0),IF(COUNTRY_INFO!N111>=(COUNTRY_INFO!F111+COUNTRY_INFO!G111),COUNTRY_INFO!F111+COUNTRY_INFO!G111,COUNTRY_INFO!$N111), 0))","v":0},0,0,0,0,null,0]
[{"$f":"IF(INTRO!$E$39=\"Non-endemic\",\" \",IF(COUNTRY_INFO!A112=0,\" \",COUNTRY_INFO!A112))","v":"Tchad"},{"$f":"IF(INTRO!$E$39=\"Non-endemic\",\" \",IF(COUNTRY_INFO!B112=0,\" \",COUNTRY_INFO!B112))","v":"Ouaddai"},{"$f":"IF(INTRO!$E$39=\"Non-endemic\",\" \",IF(COUNTRY_INFO!C112=0,\" \",COUNTRY_INFO!C112))","v":"Abeche"},{"$f":"IF(INTRO!$E$39=\"Non-endemic\",0,IF(INTRO!$E$39=\"Endemic but PC is not required\",IF(COUNTRY_INFO!$H112=1,COUNTRY_INFO!F112+COUNTRY_INFO!G112,0),IF(COUNTRY_INFO!$H112=1,COUNTRY_INFO!F112+COUNTRY_INFO!G112,IF(COUNTRY_INFO!$I112=1,IF(COUNTRY_INFO!N112>=(COUNTRY_INFO!F112+COUNTRY_INFO!G112),COUNTRY_INFO!F112+COUNTRY_INFO!G112,COUNTRY_INFO!$N112),0))))","v":0},{"$f":"IF(AND(INTRO!$E$39=\"Non-endemic\",INTRO!$E$37=\"Non-endemic\"),\"Not required\",IF(INTRO!$E$39=\"Non-endemic\",\"Treat with DEC\",COUNTRY_INFO!W112))","v":0},{"$f":"IF(INTRO!$E$39<>\"Non-endemic\",COUNTRY_INFO!X112,\"Not required\")","v":0},{"$f":"IF(COUNTRY_INFO!H112=1, IF($E112=1,IF(ALB_MBD!$G112<>\" \",COUNTRY_INFO!F112+COUNTRY_INFO!G112-ALB_MBD!$G112,COUNTRY_INFO!F112+COUNTRY_INFO!G112), 0),0)","v":0},{"$f":"IF(INTRO!$E$39<>\"Endemic\",0, IF(AND(COUNTRY_INFO!$I112=1,$F112<>0),IF(COUNTRY_INFO!N112>=(COUNTRY_INFO!F112+COUNTRY_INFO!G112),COUNTRY_INFO!F112+COUNTRY_INFO!G112,COUNTRY_INFO!$N112), 0))","v":0},0,0,0,0,null,0]
[{"$f":"IF(INTRO!$E$39=\"Non-endemic\",\" \",IF(COUNTRY_INFO!A113=0,\" \",COUNTRY_INFO!A113))","v":"Tchad"},{"$f":"IF(INTRO!$E$39=\"Non-endemic\",\" \",IF(COUNTRY_INFO!B113=0,\" \",COUNTRY_INFO!B113))","v":"Ouaddai"},{"$f":"IF(INTRO!$E$39=\"Non-endemic\",\" \",IF(COUNTRY_INFO!C113=0,\" \",COUNTRY_INFO!C113))","v":"Abougoudam"},{"$f":"IF(INTRO!$E$39=\"Non-endemic\",0,IF(INTRO!$E$39=\"Endemic but PC is not required\",IF(COUNTRY_INFO!$H113=1,COUNTRY_INFO!F113+COUNTRY_INFO!G113,0),IF(COUNTRY_INFO!$H113=1,COUNTRY_INFO!F113+COUNTRY_INFO!G113,IF(COUNTRY_INFO!$I113=1,IF(COUNTRY_INFO!N113>=(COUNTRY_INFO!F113+COUNTRY_INFO!G113),COUNTRY_INFO!F113+COUNTRY_INFO!G113,COUNTRY_INFO!$N113),0))))","v":0},{"$f":"IF(AND(INTRO!$E$39=\"Non-endemic\",INTRO!$E$37=\"Non-endemic\"),\"Not required\",IF(INTRO!$E$39=\"Non-endemic\",\"Treat with DEC\",COUNTRY_INFO!W113))","v":0},{"$f":"IF(INTRO!$E$39<>\"Non-endemic\",COUNTRY_INFO!X113,\"Not required\")","v":0},{"$f":"IF(COUNTRY_INFO!H113=1, IF($E113=1,IF(ALB_MBD!$G113<>\" \",COUNTRY_INFO!F113+COUNTRY_INFO!G113-ALB_MBD!$G113,COUNTRY_INFO!F113+COUNTRY_INFO!G113), 0),0)","v":0},{"$f":"IF(INTRO!$E$39<>\"Endemic\",0, IF(AND(COUNTRY_INFO!$I113=1,$F113<>0),IF(COUNTRY_INFO!N113>=(COUNTRY_INFO!F113+COUNTRY_INFO!G113),COUNTRY_INFO!F113+COUNTRY_INFO!G113,COUNTRY_INFO!$N113), 0))","v":0},0,0,0,0,null,0]
[{"$f":"IF(INTRO!$E$39=\"Non-endemic\",\" \",IF(COUNTRY_INFO!A114=0,\" \",COUNTRY_INFO!A114))","v":"Tchad"},{"$f":"IF(INTRO!$E$39=\"Non-endemic\",\" \",IF(COUNTRY_INFO!B114=0,\" \",COUNTRY_INFO!B114))","v":"Ouaddai"},{"$f":"IF(INTRO!$E$39=\"Non-endemic\",\" \",IF(COUNTRY_INFO!C114=0,\" \",COUNTRY_INFO!C114))","v":"Adré"},{"$f":"IF(INTRO!$E$39=\"Non-endemic\",0,IF(INTRO!$E$39=\"Endemic but PC is not required\",IF(COUNTRY_INFO!$H114=1,COUNTRY_INFO!F114+COUNTRY_INFO!G114,0),IF(COUNTRY_INFO!$H114=1,COUNTRY_INFO!F114+COUNTRY_INFO!G114,IF(COUNTRY_INFO!$I114=1,IF(COUNTRY_INFO!N114>=(COUNTRY_INFO!F114+COUNTRY_INFO!G114),COUNTRY_INFO!F114+COUNTRY_INFO!G114,COUNTRY_INFO!$N114),0))))","v":0},{"$f":"IF(AND(INTRO!$E$39=\"Non-endemic\",INTRO!$E$37=\"Non-endemic\"),\"Not required\",IF(INTRO!$E$39=\"Non-endemic\",\"Treat with DEC\",COUNTRY_INFO!W114))","v":0},{"$f":"IF(INTRO!$E$39<>\"Non-endemic\",COUNTRY_INFO!X114,\"Not required\")","v":0},{"$f":"IF(COUNTRY_INFO!H114=1, IF($E114=1,IF(ALB_MBD!$G114<>\" \",COUNTRY_INFO!F114+COUNTRY_INFO!G114-ALB_MBD!$G114,COUNTRY_INFO!F114+COUNTRY_INFO!G114), 0),0)","v":0},{"$f":"IF(INTRO!$E$39<>\"Endemic\",0, IF(AND(COUNTRY_INFO!$I114=1,$F114<>0),IF(COUNTRY_INFO!N114>=(COUNTRY_INFO!F114+COUNTRY_INFO!G114),COUNTRY_INFO!F114+COUNTRY_INFO!G114,COUNTRY_INFO!$N114), 0))","v":0},0,0,0,0,null,0]
[{"$f":"IF(INTRO!$E$39=\"Non-endemic\",\" \",IF(COUNTRY_INFO!A115=0,\" \",COUNTRY_INFO!A115))","v":"Tchad"},{"$f":"IF(INTRO!$E$39=\"Non-endemic\",\" \",IF(COUNTRY_INFO!B115=0,\" \",COUNTRY_INFO!B115))","v":"Salamat"},{"$f":"IF(INTRO!$E$39=\"Non-endemic\",\" \",IF(COUNTRY_INFO!C115=0,\" \",COUNTRY_INFO!C115))","v":"Aboudeia"},{"$f":"IF(INTRO!$E$39=\"Non-endemic\",0,IF(INTRO!$E$39=\"Endemic but PC is not required\",IF(COUNTRY_INFO!$H115=1,COUNTRY_INFO!F115+COUNTRY_INFO!G115,0),IF(COUNTRY_INFO!$H115=1,COUNTRY_INFO!F115+COUNTRY_INFO!G115,IF(COUNTRY_INFO!$I115=1,IF(COUNTRY_INFO!N115>=(COUNTRY_INFO!F115+COUNTRY_INFO!G115),COUNTRY_INFO!F115+COUNTRY_INFO!G115,COUNTRY_INFO!$N115),0))))","v":0},{"$f":"IF(AND(INTRO!$E$39=\"Non-endemic\",INTRO!$E$37=\"Non-endemic\"),\"Not required\",IF(INTRO!$E$39=\"Non-endemic\",\"Treat with DEC\",COUNTRY_INFO!W115))","v":0},{"$f":"IF(INTRO!$E$39<>\"Non-endemic\",COUNTRY_INFO!X115,\"Not required\")","v":0},{"$f":"IF(COUNTRY_INFO!H115=1, IF($E115=1,IF(ALB_MBD!$G115<>\" \",COUNTRY_INFO!F115+COUNTRY_INFO!G115-ALB_MBD!$G115,COUNTRY_INFO!F115+COUNTRY_INFO!G115), 0),0)","v":0},{"$f":"IF(INTRO!$E$39<>\"Endemic\",0, IF(AND(COUNTRY_INFO!$I115=1,$F115<>0),IF(COUNTRY_INFO!N115>=(COUNTRY_INFO!F115+COUNTRY_INFO!G115),COUNTRY_INFO!F115+COUNTRY_INFO!G115,COUNTRY_INFO!$N115), 0))","v":0},0,0,0,0,null,0]
[{"$f":"IF(INTRO!$E$39=\"Non-endemic\",\" \",IF(COUNTRY_INFO!A116=0,\" \",COUNTRY_INFO!A116))","v":"Tchad"},{"$f":"IF(INTRO!$E$39=\"Non-endemic\",\" \",IF(COUNTRY_INFO!B116=0,\" \",COUNTRY_INFO!B116))","v":"Salamat"},{"$f":"IF(INTRO!$E$39=\"Non-endemic\",\" \",IF(COUNTRY_INFO!C116=0,\" \",COUNTRY_INFO!C116))","v":"Am-Timan"},{"$f":"IF(INTRO!$E$39=\"Non-endemic\",0,IF(INTRO!$E$39=\"Endemic but PC is not required\",IF(COUNTRY_INFO!$H116=1,COUNTRY_INFO!F116+COUNTRY_INFO!G116,0),IF(COUNTRY_INFO!$H116=1,COUNTRY_INFO!F116+COUNTRY_INFO!G116,IF(COUNTRY_INFO!$I116=1,IF(COUNTRY_INFO!N116>=(COUNTRY_INFO!F116+COUNTRY_INFO!G116),COUNTRY_INFO!F116+COUNTRY_INFO!G116,COUNTRY_INFO!$N116),0))))","v":0},{"$f":"IF(AND(INTRO!$E$39=\"Non-endemic\",INTRO!$E$37=\"Non-endemic\"),\"Not required\",IF(INTRO!$E$39=\"Non-endemic\",\"Treat with DEC\",COUNTRY_INFO!W116))","v":0},{"$f":"IF(INTRO!$E$39<>\"Non-endemic\",COUNTRY_INFO!X116,\"Not required\")","v":0},{"$f":"IF(COUNTRY_INFO!H116=1, IF($E116=1,IF(ALB_MBD!$G116<>\" \",COUNTRY_INFO!F116+COUNTRY_INFO!G116-ALB_MBD!$G116,COUNTRY_INFO!F116+COUNTRY_INFO!G116), 0),0)","v":0},{"$f":"IF(INTRO!$E$39<>\"Endemic\",0, IF(AND(COUNTRY_INFO!$I116=1,$F116<>0),IF(COUNTRY_INFO!N116>=(COUNTRY_INFO!F116+COUNTRY_INFO!G116),COUNTRY_INFO!F116+COUNTRY_INFO!G116,COUNTRY_INFO!$N116), 0))","v":0},0,0,0,0,null,0]
[{"$f":"IF(INTRO!$E$39=\"Non-endemic\",\" \",IF(COUNTRY_INFO!A117=0,\" \",COUNTRY_INFO!A117))","v":"Tchad"},{"$f":"IF(INTRO!$E$39=\"Non-endemic\",\" \",IF(COUNTRY_INFO!B117=0,\" \",COUNTRY_INFO!B117))","v":"Salamat"},{"$f":"IF(INTRO!$E$39=\"Non-endemic\",\" \",IF(COUNTRY_INFO!C117=0,\" \",COUNTRY_INFO!C117))","v":"Haraze"},{"$f":"IF(INTRO!$E$39=\"Non-endemic\",0,IF(INTRO!$E$39=\"Endemic but PC is not required\",IF(COUNTRY_INFO!$H117=1,COUNTRY_INFO!F117+COUNTRY_INFO!G117,0),IF(COUNTRY_INFO!$H117=1,COUNTRY_INFO!F117+COUNTRY_INFO!G117,IF(COUNTRY_INFO!$I117=1,IF(COUNTRY_INFO!N117>=(COUNTRY_INFO!F117+COUNTRY_INFO!G117),COUNTRY_INFO!F117+COUNTRY_INFO!G117,COUNTRY_INFO!$N117),0))))","v":0},{"$f":"IF(AND(INTRO!$E$39=\"Non-endemic\",INTRO!$E$37=\"Non-endemic\"),\"Not required\",IF(INTRO!$E$39=\"Non-endemic\",\"Treat with DEC\",COUNTRY_INFO!W117))","v":0},{"$f":"IF(INTRO!$E$39<>\"Non-endemic\",COUNTRY_INFO!X117,\"Not required\")","v":0},{"$f":"IF(COUNTRY_INFO!H117=1, IF($E117=1,IF(ALB_MBD!$G117<>\" \",COUNTRY_INFO!F117+COUNTRY_INFO!G117-ALB_MBD!$G117,COUNTRY_INFO!F117+COUNTRY_INFO!G117), 0),0)","v":0},{"$f":"IF(INTRO!$E$39<>\"Endemic\",0, IF(AND(COUNTRY_INFO!$I117=1,$F117<>0),IF(COUNTRY_INFO!N117>=(COUNTRY_INFO!F117+COUNTRY_INFO!G117),COUNTRY_INFO!F117+COUNTRY_INFO!G117,COUNTRY_INFO!$N117), 0))","v":0},0,0,0,0,null,0]
[{"$f":"IF(INTRO!$E$39=\"Non-endemic\",\" \",IF(COUNTRY_INFO!A118=0,\" \",COUNTRY_INFO!A118))","v":"Tchad"},{"$f":"IF(INTRO!$E$39=\"Non-endemic\",\" \",IF(COUNTRY_INFO!B118=0,\" \",COUNTRY_INFO!B118))","v":"Sila"},{"$f":"IF(INTRO!$E$39=\"Non-endemic\",\" \",IF(COUNTRY_INFO!C118=0,\" \",COUNTRY_INFO!C118))","v":"Am-dam"},{"$f":"IF(INTRO!$E$39=\"Non-endemic\",0,IF(INTRO!$E$39=\"Endemic but PC is not required\",IF(COUNTRY_INFO!$H118=1,COUNTRY_INFO!F118+COUNTRY_INFO!G118,0),IF(COUNTRY_INFO!$H118=1,COUNTRY_INFO!F118+COUNTRY_INFO!G118,IF(COUNTRY_INFO!$I118=1,IF(COUNTRY_INFO!N118>=(COUNTRY_INFO!F118+COUNTRY_INFO!G118),COUNTRY_INFO!F118+COUNTRY_INFO!G118,COUNTRY_INFO!$N118),0))))","v":0},{"$f":"IF(AND(INTRO!$E$39=\"Non-endemic\",INTRO!$E$37=\"Non-endemic\"),\"Not required\",IF(INTRO!$E$39=\"Non-endemic\",\"Treat with DEC\",COUNTRY_INFO!W118))","v":0},{"$f":"IF(INTRO!$E$39<>\"Non-endemic\",COUNTRY_INFO!X118,\"Not required\")","v":0},{"$f":"IF(COUNTRY_INFO!H118=1, IF($E118=1,IF(ALB_MBD!$G118<>\" \",COUNTRY_INFO!F118+COUNTRY_INFO!G118-ALB_MBD!$G118,COUNTRY_INFO!F118+COUNTRY_INFO!G118), 0),0)","v":0},{"$f":"IF(INTRO!$E$39<>\"Endemic\",0, IF(AND(COUNTRY_INFO!$I118=1,$F118<>0),IF(COUNTRY_INFO!N118>=(COUNTRY_INFO!F118+COUNTRY_INFO!G118),COUNTRY_INFO!F118+COUNTRY_INFO!G118,COUNTRY_INFO!$N118), 0))","v":0},0,0,0,0,null,0]
[{"$f":"IF(INTRO!$E$39=\"Non-endemic\",\" \",IF(COUNTRY_INFO!A119=0,\" \",COUNTRY_INFO!A119))","v":"Tchad"},{"$f":"IF(INTRO!$E$39=\"Non-endemic\",\" \",IF(COUNTRY_INFO!B119=0,\" \",COUNTRY_INFO!B119))","v":"Sila"},{"$f":"IF(INTRO!$E$39=\"Non-endemic\",\" \",IF(COUNTRY_INFO!C119=0,\" \",COUNTRY_INFO!C119))","v":"Goz-beida"},{"$f":"IF(INTRO!$E$39=\"Non-endemic\",0,IF(INTRO!$E$39=\"Endemic but PC is not required\",IF(COUNTRY_INFO!$H119=1,COUNTRY_INFO!F119+COUNTRY_INFO!G119,0),IF(COUNTRY_INFO!$H119=1,COUNTRY_INFO!F119+COUNTRY_INFO!G119,IF(COUNTRY_INFO!$I119=1,IF(COUNTRY_INFO!N119>=(COUNTRY_INFO!F119+COUNTRY_INFO!G119),COUNTRY_INFO!F119+COUNTRY_INFO!G119,COUNTRY_INFO!$N119),0))))","v":0},{"$f":"IF(AND(INTRO!$E$39=\"Non-endemic\",INTRO!$E$37=\"Non-endemic\"),\"Not required\",IF(INTRO!$E$39=\"Non-endemic\",\"Treat with DEC\",COUNTRY_INFO!W119))","v":0},{"$f":"IF(INTRO!$E$39<>\"Non-endemic\",COUNTRY_INFO!X119,\"Not required\")","v":0},{"$f":"IF(COUNTRY_INFO!H119=1, IF($E119=1,IF(ALB_MBD!$G119<>\" \",COUNTRY_INFO!F119+COUNTRY_INFO!G119-ALB_MBD!$G119,COUNTRY_INFO!F119+COUNTRY_INFO!G119), 0),0)","v":0},{"$f":"IF(INTRO!$E$39<>\"Endemic\",0, IF(AND(COUNTRY_INFO!$I119=1,$F119<>0),IF(COUNTRY_INFO!N119>=(COUNTRY_INFO!F119+COUNTRY_INFO!G119),COUNTRY_INFO!F119+COUNTRY_INFO!G119,COUNTRY_INFO!$N119), 0))","v":0},0,0,0,0,null,0]
[{"$f":"IF(INTRO!$E$39=\"Non-endemic\",\" \",IF(COUNTRY_INFO!A120=0,\" \",COUNTRY_INFO!A120))","v":"Tchad"},{"$f":"IF(INTRO!$E$39=\"Non-endemic\",\" \",IF(COUNTRY_INFO!B120=0,\" \",COUNTRY_INFO!B120))","v":"Sila"},{"$f":"IF(INTRO!$E$39=\"Non-endemic\",\" \",IF(COUNTRY_INFO!C120=0,\" \",COUNTRY_INFO!C120))","v":"Koukou"},{"$f":"IF(INTRO!$E$39=\"Non-endemic\",0,IF(INTRO!$E$39=\"Endemic but PC is not required\",IF(COUNTRY_INFO!$H120=1,COUNTRY_INFO!F120+COUNTRY_INFO!G120,0),IF(COUNTRY_INFO!$H120=1,COUNTRY_INFO!F120+COUNTRY_INFO!G120,IF(COUNTRY_INFO!$I120=1,IF(COUNTRY_INFO!N120>=(COUNTRY_INFO!F120+COUNTRY_INFO!G120),COUNTRY_INFO!F120+COUNTRY_INFO!G120,COUNTRY_INFO!$N120),0))))","v":0},{"$f":"IF(AND(INTRO!$E$39=\"Non-endemic\",INTRO!$E$37=\"Non-endemic\"),\"Not required\",IF(INTRO!$E$39=\"Non-endemic\",\"Treat with DEC\",COUNTRY_INFO!W120))","v":0},{"$f":"IF(INTRO!$E$39<>\"Non-endemic\",COUNTRY_INFO!X120,\"Not required\")","v":0},{"$f":"IF(COUNTRY_INFO!H120=1, IF($E120=1,IF(ALB_MBD!$G120<>\" \",COUNTRY_INFO!F120+COUNTRY_INFO!G120-ALB_MBD!$G120,COUNTRY_INFO!F120+COUNTRY_INFO!G120), 0),0)","v":0},{"$f":"IF(INTRO!$E$39<>\"Endemic\",0, IF(AND(COUNTRY_INFO!$I120=1,$F120<>0),IF(COUNTRY_INFO!N120>=(COUNTRY_INFO!F120+COUNTRY_INFO!G120),COUNTRY_INFO!F120+COUNTRY_INFO!G120,COUNTRY_INFO!$N120), 0))","v":0},0,0,0,0,null,0]
[{"$f":"IF(INTRO!$E$39=\"Non-endemic\",\" \",IF(COUNTRY_INFO!A121=0,\" \",COUNTRY_INFO!A121))","v":"Tchad"},{"$f":"IF(INTRO!$E$39=\"Non-endemic\",\" \",IF(COUNTRY_INFO!B121=0,\" \",COUNTRY_INFO!B121))","v":"Sila"},{"$f":"IF(INTRO!$E$39=\"Non-endemic\",\" \",IF(COUNTRY_INFO!C121=0,\" \",COUNTRY_INFO!C121))","v":"Tissi"},{"$f":"IF(INTRO!$E$39=\"Non-endemic\",0,IF(INTRO!$E$39=\"Endemic but PC is not required\",IF(COUNTRY_INFO!$H121=1,COUNTRY_INFO!F121+COUNTRY_INFO!G121,0),IF(COUNTRY_INFO!$H121=1,COUNTRY_INFO!F121+COUNTRY_INFO!G121,IF(COUNTRY_INFO!$I121=1,IF(COUNTRY_INFO!N121>=(COUNTRY_INFO!F121+COUNTRY_INFO!G121),COUNTRY_INFO!F121+COUNTRY_INFO!G121,COUNTRY_INFO!$N121),0))))","v":0},{"$f":"IF(AND(INTRO!$E$39=\"Non-endemic\",INTRO!$E$37=\"Non-endemic\"),\"Not required\",IF(INTRO!$E$39=\"Non-endemic\",\"Treat with DEC\",COUNTRY_INFO!W121))","v":0},{"$f":"IF(INTRO!$E$39<>\"Non-endemic\",COUNTRY_INFO!X121,\"Not required\")","v":0},{"$f":"IF(COUNTRY_INFO!H121=1, IF($E121=1,IF(ALB_MBD!$G121<>\" \",COUNTRY_INFO!F121+COUNTRY_INFO!G121-ALB_MBD!$G121,COUNTRY_INFO!F121+COUNTRY_INFO!G121), 0),0)","v":0},{"$f":"IF(INTRO!$E$39<>\"Endemic\",0, IF(AND(COUNTRY_INFO!$I121=1,$F121<>0),IF(COUNTRY_INFO!N121>=(COUNTRY_INFO!F121+COUNTRY_INFO!G121),COUNTRY_INFO!F121+COUNTRY_INFO!G121,COUNTRY_INFO!$N121), 0))","v":0},0,0,0,0,null,0]
[{"$f":"IF(INTRO!$E$39=\"Non-endemic\",\" \",IF(COUNTRY_INFO!A122=0,\" \",COUNTRY_INFO!A122))","v":"Tchad"},{"$f":"IF(INTRO!$E$39=\"Non-endemic\",\" \",IF(COUNTRY_INFO!B122=0,\" \",COUNTRY_INFO!B122))","v":"Tandjile"},{"$f":"IF(INTRO!$E$39=\"Non-endemic\",\" \",IF(COUNTRY_INFO!C122=0,\" \",COUNTRY_INFO!C122))","v":"Batchoro"},{"$f":"IF(INTRO!$E$39=\"Non-endemic\",0,IF(INTRO!$E$39=\"Endemic but PC is not required\",IF(COUNTRY_INFO!$H122=1,COUNTRY_INFO!F122+COUNTRY_INFO!G122,0),IF(COUNTRY_INFO!$H122=1,COUNTRY_INFO!F122+COUNTRY_INFO!G122,IF(COUNTRY_INFO!$I122=1,IF(COUNTRY_INFO!N122>=(COUNTRY_INFO!F122+COUNTRY_INFO!G122),COUNTRY_INFO!F122+COUNTRY_INFO!G122,COUNTRY_INFO!$N122),0))))","v":90970},{"$f":"IF(AND(INTRO!$E$39=\"Non-endemic\",INTRO!$E$37=\"Non-endemic\"),\"Not required\",IF(INTRO!$E$39=\"Non-endemic\",\"Treat with DEC\",COUNTRY_INFO!W122))","v":1},{"$f":"IF(INTRO!$E$39<>\"Non-endemic\",COUNTRY_INFO!X122,\"Not required\")","v":1},{"$f":"IF(COUNTRY_INFO!H122=1, IF($E122=1,IF(ALB_MBD!$G122<>\" \",COUNTRY_INFO!F122+COUNTRY_INFO!G122-ALB_MBD!$G122,COUNTRY_INFO!F122+COUNTRY_INFO!G122), 0),0)","v":90970},{"$f":"IF(INTRO!$E$39<>\"Endemic\",0, IF(AND(COUNTRY_INFO!$I122=1,$F122<>0),IF(COUNTRY_INFO!N122>=(COUNTRY_INFO!F122+COUNTRY_INFO!G122),COUNTRY_INFO!F122+COUNTRY_INFO!G122,COUNTRY_INFO!$N122), 0))","v":90970},0,0,254715.99999999997,254715.99999999997,null,254715.99999999997]
[{"$f":"IF(INTRO!$E$39=\"Non-endemic\",\" \",IF(COUNTRY_INFO!A123=0,\" \",COUNTRY_INFO!A123))","v":"Tchad"},{"$f":"IF(INTRO!$E$39=\"Non-endemic\",\" \",IF(COUNTRY_INFO!B123=0,\" \",COUNTRY_INFO!B123))","v":"Tandjile"},{"$f":"IF(INTRO!$E$39=\"Non-endemic\",\" \",IF(COUNTRY_INFO!C123=0,\" \",COUNTRY_INFO!C123))","v":"Bere"},{"$f":"IF(INTRO!$E$39=\"Non-endemic\",0,IF(INTRO!$E$39=\"Endemic but PC is not required\",IF(COUNTRY_INFO!$H123=1,COUNTRY_INFO!F123+COUNTRY_INFO!G123,0),IF(COUNTRY_INFO!$H123=1,COUNTRY_INFO!F123+COUNTRY_INFO!G123,IF(COUNTRY_INFO!$I123=1,IF(COUNTRY_INFO!N123>=(COUNTRY_INFO!F123+COUNTRY_INFO!G123),COUNTRY_INFO!F123+COUNTRY_INFO!G123,COUNTRY_INFO!$N123),0))))","v":107924},{"$f":"IF(AND(INTRO!$E$39=\"Non-endemic\",INTRO!$E$37=\"Non-endemic\"),\"Not required\",IF(INTRO!$E$39=\"Non-endemic\",\"Treat with DEC\",COUNTRY_INFO!W123))","v":1},{"$f":"IF(INTRO!$E$39<>\"Non-endemic\",COUNTRY_INFO!X123,\"Not required\")","v":1},{"$f":"IF(COUNTRY_INFO!H123=1, IF($E123=1,IF(ALB_MBD!$G123<>\" \",COUNTRY_INFO!F123+COUNTRY_INFO!G123-ALB_MBD!$G123,COUNTRY_INFO!F123+COUNTRY_INFO!G123), 0),0)","v":107924},{"$f":"IF(INTRO!$E$39<>\"Endemic\",0, IF(AND(COUNTRY_INFO!$I123=1,$F123<>0),IF(COUNTRY_INFO!N123>=(COUNTRY_INFO!F123+COUNTRY_INFO!G123),COUNTRY_INFO!F123+COUNTRY_INFO!G123,COUNTRY_INFO!$N123), 0))","v":107924},0,0,302187.19999999995,302187.19999999995,null,302187.19999999995]
[{"$f":"IF(INTRO!$E$39=\"Non-endemic\",\" \",IF(COUNTRY_INFO!A124=0,\" \",COUNTRY_INFO!A124))","v":"Tchad"},{"$f":"IF(INTRO!$E$39=\"Non-endemic\",\" \",IF(COUNTRY_INFO!B124=0,\" \",COUNTRY_INFO!B124))","v":"Tandjile"},{"$f":"IF(INTRO!$E$39=\"Non-endemic\",\" \",IF(COUNTRY_INFO!C124=0,\" \",COUNTRY_INFO!C124))","v":"Bologo"},{"$f":"IF(INTRO!$E$39=\"Non-endemic\",0,IF(INTRO!$E$39=\"Endemic but PC is not required\",IF(COUNTRY_INFO!$H124=1,COUNTRY_INFO!F124+COUNTRY_INFO!G124,0),IF(COUNTRY_INFO!$H124=1,COUNTRY_INFO!F124+COUNTRY_INFO!G124,IF(COUNTRY_INFO!$I124=1,IF(COUNTRY_INFO!N124>=(COUNTRY_INFO!F124+COUNTRY_INFO!G124),COUNTRY_INFO!F124+COUNTRY_INFO!G124,COUNTRY_INFO!$N124),0))))","v":63465},{"$f":"IF(AND(INTRO!$E$39=\"Non-endemic\",INTRO!$E$37=\"Non-endemic\"),\"Not required\",IF(INTRO!$E$39=\"Non-endemic\",\"Treat with DEC\",COUNTRY_INFO!W124))","v":1},{"$f":"IF(INTRO!$E$39<>\"Non-endemic\",COUNTRY_INFO!X124,\"Not required\")","v":1},{"$f":"IF(COUNTRY_INFO!H124=1, IF($E124=1,IF(ALB_MBD!$G124<>\" \",COUNTRY_INFO!F124+COUNTRY_INFO!G124-ALB_MBD!$G124,COUNTRY_INFO!F124+COUNTRY_INFO!G124), 0),0)","v":63465},{"$f":"IF(INTRO!$E$39<>\"Endemic\",0, IF(AND(COUNTRY_INFO!$I124=1,$F124<>0),IF(COUNTRY_INFO!N124>=(COUNTRY_INFO!F124+COUNTRY_INFO!G124),COUNTRY_INFO!F124+COUNTRY_INFO!G124,COUNTRY_INFO!$N124), 0))","v":63465},0,0,177702,177702,null,177702]
[{"$f":"IF(INTRO!$E$39=\"Non-endemic\",\" \",IF(COUNTRY_INFO!A125=0,\" \",COUNTRY_INFO!A125))","v":"Tchad"},{"$f":"IF(INTRO!$E$39=\"Non-endemic\",\" \",IF(COUNTRY_INFO!B125=0,\" \",COUNTRY_INFO!B125))","v":"Tandjile"},{"$f":"IF(INTRO!$E$39=\"Non-endemic\",\" \",IF(COUNTRY_INFO!C125=0,\" \",COUNTRY_INFO!C125))","v":"Dafra"},{"$f":"IF(INTRO!$E$39=\"Non-endemic\",0,IF(INTRO!$E$39=\"Endemic but PC is not required\",IF(COUNTRY_INFO!$H125=1,COUNTRY_INFO!F125+COUNTRY_INFO!G125,0),IF(COUNTRY_INFO!$H125=1,COUNTRY_INFO!F125+COUNTRY_INFO!G125,IF(COUNTRY_INFO!$I125=1,IF(COUNTRY_INFO!N125>=(COUNTRY_INFO!F125+COUNTRY_INFO!G125),COUNTRY_INFO!F125+COUNTRY_INFO!G125,COUNTRY_INFO!$N125),0))))","v":57120},{"$f":"IF(AND(INTRO!$E$39=\"Non-endemic\",INTRO!$E$37=\"Non-endemic\"),\"Not required\",IF(INTRO!$E$39=\"Non-endemic\",\"Treat with DEC\",COUNTRY_INFO!W125))","v":1},{"$f":"IF(INTRO!$E$39<>\"Non-endemic\",COUNTRY_INFO!X125,\"Not required\")","v":1},{"$f":"IF(COUNTRY_INFO!H125=1, IF($E125=1,IF(ALB_MBD!$G125<>\" \",COUNTRY_INFO!F125+COUNTRY_INFO!G125-ALB_MBD!$G125,COUNTRY_INFO!F125+COUNTRY_INFO!G125), 0),0)","v":57120},{"$f":"IF(INTRO!$E$39<>\"Endemic\",0, IF(AND(COUNTRY_INFO!$I125=1,$F125<>0),IF(COUNTRY_INFO!N125>=(COUNTRY_INFO!F125+COUNTRY_INFO!G125),COUNTRY_INFO!F125+COUNTRY_INFO!G125,COUNTRY_INFO!$N125), 0))","v":57120},0,0,159936,159936,null,159936]
[{"$f":"IF(INTRO!$E$39=\"Non-endemic\",\" \",IF(COUNTRY_INFO!A126=0,\" \",COUNTRY_INFO!A126))","v":"Tchad"},{"$f":"IF(INTRO!$E$39=\"Non-endemic\",\" \",IF(COUNTRY_INFO!B126=0,\" \",COUNTRY_INFO!B126))","v":"Tandjile"},{"$f":"IF(INTRO!$E$39=\"Non-endemic\",\" \",IF(COUNTRY_INFO!C126=0,\" \",COUNTRY_INFO!C126))","v":"Deressia"},{"$f":"IF(INTRO!$E$39=\"Non-endemic\",0,IF(INTRO!$E$39=\"Endemic but PC is not required\",IF(COUNTRY_INFO!$H126=1,COUNTRY_INFO!F126+COUNTRY_INFO!G126,0),IF(COUNTRY_INFO!$H126=1,COUNTRY_INFO!F126+COUNTRY_INFO!G126,IF(COUNTRY_INFO!$I126=1,IF(COUNTRY_INFO!N126>=(COUNTRY_INFO!F126+COUNTRY_INFO!G126),COUNTRY_INFO!F126+COUNTRY_INFO!G126,COUNTRY_INFO!$N126),0))))","v":69107},{"$f":"IF(AND(INTRO!$E$39=\"Non-endemic\",INTRO!$E$37=\"Non-endemic\"),\"Not required\",IF(INTRO!$E$39=\"Non-endemic\",\"Treat with DEC\",COUNTRY_INFO!W126))","v":1},{"$f":"IF(INTRO!$E$39<>\"Non-endemic\",COUNTRY_INFO!X126,\"Not required\")","v":0},{"$f":"IF(COUNTRY_INFO!H126=1, IF($E126=1,IF(ALB_MBD!$G126<>\" \",COUNTRY_INFO!F126+COUNTRY_INFO!G126-ALB_MBD!$G126,COUNTRY_INFO!F126+COUNTRY_INFO!G126), 0),0)","v":69107},{"$f":"IF(INTRO!$E$39<>\"Endemic\",0, IF(AND(COUNTRY_INFO!$I126=1,$F126<>0),IF(COUNTRY_INFO!N126>=(COUNTRY_INFO!F126+COUNTRY_INFO!G126),COUNTRY_INFO!F126+COUNTRY_INFO!G126,COUNTRY_INFO!$N126), 0))","v":0},193499.59999999998,0,0,193499.59999999998,null,193499.59999999998]
[{"$f":"IF(INTRO!$E$39=\"Non-endemic\",\" \",IF(COUNTRY_INFO!A127=0,\" \",COUNTRY_INFO!A127))","v":"Tchad"},{"$f":"IF(INTRO!$E$39=\"Non-endemic\",\" \",IF(COUNTRY_INFO!B127=0,\" \",COUNTRY_INFO!B127))","v":"Tandjile"},{"$f":"IF(INTRO!$E$39=\"Non-endemic\",\" \",IF(COUNTRY_INFO!C127=0,\" \",COUNTRY_INFO!C127))","v":"Donamanga"},{"$f":"IF(INTRO!$E$39=\"Non-endemic\",0,IF(INTRO!$E$39=\"Endemic but PC is not required\",IF(COUNTRY_INFO!$H127=1,COUNTRY_INFO!F127+COUNTRY_INFO!G127,0),IF(COUNTRY_INFO!$H127=1,COUNTRY_INFO!F127+COUNTRY_INFO!G127,IF(COUNTRY_INFO!$I127=1,IF(COUNTRY_INFO!N127>=(COUNTRY_INFO!F127+COUNTRY_INFO!G127),COUNTRY_INFO!F127+COUNTRY_INFO!G127,COUNTRY_INFO!$N127),0))))","v":96350},{"$f":"IF(AND(INTRO!$E$39=\"Non-endemic\",INTRO!$E$37=\"Non-endemic\"),\"Not required\",IF(INTRO!$E$39=\"Non-endemic\",\"Treat with DEC\",COUNTRY_INFO!W127))","v":1},{"$f":"IF(INTRO!$E$39<>\"Non-endemic\",COUNTRY_INFO!X127,\"Not required\")","v":0},{"$f":"IF(COUNTRY_INFO!H127=1, IF($E127=1,IF(ALB_MBD!$G127<>\" \",COUNTRY_INFO!F127+COUNTRY_INFO!G127-ALB_MBD!$G127,COUNTRY_INFO!F127+COUNTRY_INFO!G127), 0),0)","v":96350},{"$f":"IF(INTRO!$E$39<>\"Endemic\",0, IF(AND(COUNTRY_INFO!$I127=1,$F127<>0),IF(COUNTRY_INFO!N127>=(COUNTRY_INFO!F127+COUNTRY_INFO!G127),COUNTRY_INFO!F127+COUNTRY_INFO!G127,COUNTRY_INFO!$N127), 0))","v":0},269780,0,0,269780,null,269780]
[{"$f":"IF(INTRO!$E$39=\"Non-endemic\",\" \",IF(COUNTRY_INFO!A128=0,\" \",COUNTRY_INFO!A128))","v":"Tchad"},{"$f":"IF(INTRO!$E$39=\"Non-endemic\",\" \",IF(COUNTRY_INFO!B128=0,\" \",COUNTRY_INFO!B128))","v":"Tandjile"},{"$f":"IF(INTRO!$E$39=\"Non-endemic\",\" \",IF(COUNTRY_INFO!C128=0,\" \",COUNTRY_INFO!C128))","v":"Guidari"},{"$f":"IF(INTRO!$E$39=\"Non-endemic\",0,IF(INTRO!$E$39=\"Endemic but PC is not required\",IF(COUNTRY_INFO!$H128=1,COUNTRY_INFO!F128+COUNTRY_INFO!G128,0),IF(COUNTRY_INFO!$H128=1,COUNTRY_INFO!F128+COUNTRY_INFO!G128,IF(COUNTRY_INFO!$I128=1,IF(COUNTRY_INFO!N128>=(COUNTRY_INFO!F128+COUNTRY_INFO!G128),COUNTRY_INFO!F128+COUNTRY_INFO!G128,COUNTRY_INFO!$N128),0))))","v":45307},{"$f":"IF(AND(INTRO!$E$39=\"Non-endemic\",INTRO!$E$37=\"Non-endemic\"),\"Not required\",IF(INTRO!$E$39=\"Non-endemic\",\"Treat with DEC\",COUNTRY_INFO!W128))","v":1},{"$f":"IF(INTRO!$E$39<>\"Non-endemic\",COUNTRY_INFO!X128,\"Not required\")","v":0},{"$f":"IF(COUNTRY_INFO!H128=1, IF($E128=1,IF(ALB_MBD!$G128<>\" \",COUNTRY_INFO!F128+COUNTRY_INFO!G128-ALB_MBD!$G128,COUNTRY_INFO!F128+COUNTRY_INFO!G128), 0),0)","v":45307},{"$f":"IF(INTRO!$E$39<>\"Endemic\",0, IF(AND(COUNTRY_INFO!$I128=1,$F128<>0),IF(COUNTRY_INFO!N128>=(COUNTRY_INFO!F128+COUNTRY_INFO!G128),COUNTRY_INFO!F128+COUNTRY_INFO!G128,COUNTRY_INFO!$N128), 0))","v":0},126859.59999999999,0,0,126859.59999999999,null,126859.59999999999]
[{"$f":"IF(INTRO!$E$39=\"Non-endemic\",\" \",IF(COUNTRY_INFO!A129=0,\" \",COUNTRY_INFO!A129))","v":"Tchad"},{"$f":"IF(INTRO!$E$39=\"Non-endemic\",\" \",IF(COUNTRY_INFO!B129=0,\" \",COUNTRY_INFO!B129))","v":"Tandjile"},{"$f":"IF(INTRO!$E$39=\"Non-endemic\",\" \",IF(COUNTRY_INFO!C129=0,\" \",COUNTRY_INFO!C129))","v":"Kelo"},{"$f":"IF(INTRO!$E$39=\"Non-endemic\",0,IF(INTRO!$E$39=\"Endemic but PC is not required\",IF(COUNTRY_INFO!$H129=1,COUNTRY_INFO!F129+COUNTRY_INFO!G129,0),IF(COUNTRY_INFO!$H129=1,COUNTRY_INFO!F129+COUNTRY_INFO!G129,IF(COUNTRY_INFO!$I129=1,IF(COUNTRY_INFO!N129>=(COUNTRY_INFO!F129+COUNTRY_INFO!G129),COUNTRY_INFO!F129+COUNTRY_INFO!G129,COUNTRY_INFO!$N129),0))))","v":185530},{"$f":"IF(AND(INTRO!$E$39=\"Non-endemic\",INTRO!$E$37=\"Non-endemic\"),\"Not required\",IF(INTRO!$E$39=\"Non-endemic\",\"Treat with DEC\",COUNTRY_INFO!W129))","v":1},{"$f":"IF(INTRO!$E$39<>\"Non-endemic\",COUNTRY_INFO!X129,\"Not required\")","v":1},{"$f":"IF(COUNTRY_INFO!H129=1, IF($E129=1,IF(ALB_MBD!$G129<>\" \",COUNTRY_INFO!F129+COUNTRY_INFO!G129-ALB_MBD!$G129,COUNTRY_INFO!F129+COUNTRY_INFO!G129), 0),0)","v":185530},{"$f":"IF(INTRO!$E$39<>\"Endemic\",0, IF(AND(COUNTRY_INFO!$I129=1,$F129<>0),IF(COUNTRY_INFO!N129>=(COUNTRY_INFO!F129+COUNTRY_INFO!G129),COUNTRY_INFO!F129+COUNTRY_INFO!G129,COUNTRY_INFO!$N129), 0))","v":185530},0,0,519483.99999999994,519483.99999999994,null,519483.99999999994]
[{"$f":"IF(INTRO!$E$39=\"Non-endemic\",\" \",IF(COUNTRY_INFO!A130=0,\" \",COUNTRY_INFO!A130))","v":"Tchad"},{"$f":"IF(INTRO!$E$39=\"Non-endemic\",\" \",IF(COUNTRY_INFO!B130=0,\" \",COUNTRY_INFO!B130))","v":"Tandjile"},{"$f":"IF(INTRO!$E$39=\"Non-endemic\",\" \",IF(COUNTRY_INFO!C130=0,\" \",COUNTRY_INFO!C130))","v":"Kolon"},{"$f":"IF(INTRO!$E$39=\"Non-endemic\",0,IF(INTRO!$E$39=\"Endemic but PC is not required\",IF(COUNTRY_INFO!$H130=1,COUNTRY_INFO!F130+COUNTRY_INFO!G130,0),IF(COUNTRY_INFO!$H130=1,COUNTRY_INFO!F130+COUNTRY_INFO!G130,IF(COUNTRY_INFO!$I130=1,IF(COUNTRY_INFO!N130>=(COUNTRY_INFO!F130+COUNTRY_INFO!G130),COUNTRY_INFO!F130+COUNTRY_INFO!G130,COUNTRY_INFO!$N130),0))))","v":71491},{"$f":"IF(AND(INTRO!$E$39=\"Non-endemic\",INTRO!$E$37=\"Non-endemic\"),\"Not required\",IF(INTRO!$E$39=\"Non-endemic\",\"Treat with DEC\",COUNTRY_INFO!W130))","v":1},{"$f":"IF(INTRO!$E$39<>\"Non-endemic\",COUNTRY_INFO!X130,\"Not required\")","v":1},{"$f":"IF(COUNTRY_INFO!H130=1, IF($E130=1,IF(ALB_MBD!$G130<>\" \",COUNTRY_INFO!F130+COUNTRY_INFO!G130-ALB_MBD!$G130,COUNTRY_INFO!F130+COUNTRY_INFO!G130), 0),0)","v":71491},{"$f":"IF(INTRO!$E$39<>\"Endemic\",0, IF(AND(COUNTRY_INFO!$I130=1,$F130<>0),IF(COUNTRY_INFO!N130>=(COUNTRY_INFO!F130+COUNTRY_INFO!G130),COUNTRY_INFO!F130+COUNTRY_INFO!G130,COUNTRY_INFO!$N130), 0))","v":71491},0,0,200174.8,200174.8,null,200174.8]
[{"$f":"IF(INTRO!$E$39=\"Non-endemic\",\" \",IF(COUNTRY_INFO!A131=0,\" \",COUNTRY_INFO!A131))","v":"Tchad"},{"$f":"IF(INTRO!$E$39=\"Non-endemic\",\" \",IF(COUNTRY_INFO!B131=0,\" \",COUNTRY_INFO!B131))","v":"Tandjile"},{"$f":"IF(INTRO!$E$39=\"Non-endemic\",\" \",IF(COUNTRY_INFO!C131=0,\" \",COUNTRY_INFO!C131))","v":"Lai"},{"$f":"IF(INTRO!$E$39=\"Non-endemic\",0,IF(INTRO!$E$39=\"Endemic but PC is not required\",IF(COUNTRY_INFO!$H131=1,COUNTRY_INFO!F131+COUNTRY_INFO!G131,0),IF(COUNTRY_INFO!$H131=1,COUNTRY_INFO!F131+COUNTRY_INFO!G131,IF(COUNTRY_INFO!$I131=1,IF(COUNTRY_INFO!N131>=(COUNTRY_INFO!F131+COUNTRY_INFO!G131),COUNTRY_INFO!F131+COUNTRY_INFO!G131,COUNTRY_INFO!$N131),0))))","v":0},{"$f":"IF(AND(INTRO!$E$39=\"Non-endemic\",INTRO!$E$37=\"Non-endemic\"),\"Not required\",IF(INTRO!$E$39=\"Non-endemic\",\"Treat with DEC\",COUNTRY_INFO!W131))","v":0},{"$f":"IF(INTRO!$E$39<>\"Non-endemic\",COUNTRY_INFO!X131,\"Not required\")","v":0},{"$f":"IF(COUNTRY_INFO!H131=1, IF($E131=1,IF(ALB_MBD!$G131<>\" \",COUNTRY_INFO!F131+COUNTRY_INFO!G131-ALB_MBD!$G131,COUNTRY_INFO!F131+COUNTRY_INFO!G131), 0),0)","v":0},{"$f":"IF(INTRO!$E$39<>\"Endemic\",0, IF(AND(COUNTRY_INFO!$I131=1,$F131<>0),IF(COUNTRY_INFO!N131>=(COUNTRY_INFO!F131+COUNTRY_INFO!G131),COUNTRY_INFO!F131+COUNTRY_INFO!G131,COUNTRY_INFO!$N131), 0))","v":0},0,0,0,0,null,0]
[{"$f":"IF(INTRO!$E$39=\"Non-endemic\",\" \",IF(COUNTRY_INFO!A132=0,\" \",COUNTRY_INFO!A132))","v":"Tchad"},{"$f":"IF(INTRO!$E$39=\"Non-endemic\",\" \",IF(COUNTRY_INFO!B132=0,\" \",COUNTRY_INFO!B132))","v":"Tibesti"},{"$f":"IF(INTRO!$E$39=\"Non-endemic\",\" \",IF(COUNTRY_INFO!C132=0,\" \",COUNTRY_INFO!C132))","v":"Bardaï"},{"$f":"IF(INTRO!$E$39=\"Non-endemic\",0,IF(INTRO!$E$39=\"Endemic but PC is not required\",IF(COUNTRY_INFO!$H132=1,COUNTRY_INFO!F132+COUNTRY_INFO!G132,0),IF(COUNTRY_INFO!$H132=1,COUNTRY_INFO!F132+COUNTRY_INFO!G132,IF(COUNTRY_INFO!$I132=1,IF(COUNTRY_INFO!N132>=(COUNTRY_INFO!F132+COUNTRY_INFO!G132),COUNTRY_INFO!F132+COUNTRY_INFO!G132,COUNTRY_INFO!$N132),0))))","v":0},{"$f":"IF(AND(INTRO!$E$39=\"Non-endemic\",INTRO!$E$37=\"Non-endemic\"),\"Not required\",IF(INTRO!$E$39=\"Non-endemic\",\"Treat with DEC\",COUNTRY_INFO!W132))","v":0},{"$f":"IF(INTRO!$E$39<>\"Non-endemic\",COUNTRY_INFO!X132,\"Not required\")","v":0},{"$f":"IF(COUNTRY_INFO!H132=1, IF($E132=1,IF(ALB_MBD!$G132<>\" \",COUNTRY_INFO!F132+COUNTRY_INFO!G132-ALB_MBD!$G132,COUNTRY_INFO!F132+COUNTRY_INFO!G132), 0),0)","v":0},{"$f":"IF(INTRO!$E$39<>\"Endemic\",0, IF(AND(COUNTRY_INFO!$I132=1,$F132<>0),IF(COUNTRY_INFO!N132>=(COUNTRY_INFO!F132+COUNTRY_INFO!G132),COUNTRY_INFO!F132+COUNTRY_INFO!G132,COUNTRY_INFO!$N132), 0))","v":0},0,0,0,0,null,0]
[{"$f":"IF(INTRO!$E$39=\"Non-endemic\",\" \",IF(COUNTRY_INFO!A133=0,\" \",COUNTRY_INFO!A133))","v":"Tchad"},{"$f":"IF(INTRO!$E$39=\"Non-endemic\",\" \",IF(COUNTRY_INFO!B133=0,\" \",COUNTRY_INFO!B133))","v":"Tibesti"},{"$f":"IF(INTRO!$E$39=\"Non-endemic\",\" \",IF(COUNTRY_INFO!C133=0,\" \",COUNTRY_INFO!C133))","v":"Zouar"},{"$f":"IF(INTRO!$E$39=\"Non-endemic\",0,IF(INTRO!$E$39=\"Endemic but PC is not required\",IF(COUNTRY_INFO!$H133=1,COUNTRY_INFO!F133+COUNTRY_INFO!G133,0),IF(COUNTRY_INFO!$H133=1,COUNTRY_INFO!F133+COUNTRY_INFO!G133,IF(COUNTRY_INFO!$I133=1,IF(COUNTRY_INFO!N133>=(COUNTRY_INFO!F133+COUNTRY_INFO!G133),COUNTRY_INFO!F133+COUNTRY_INFO!G133,COUNTRY_INFO!$N133),0))))","v":0},{"$f":"IF(AND(INTRO!$E$39=\"Non-endemic\",INTRO!$E$37=\"Non-endemic\"),\"Not required\",IF(INTRO!$E$39=\"Non-endemic\",\"Treat with DEC\",COUNTRY_INFO!W133))","v":0},{"$f":"IF(INTRO!$E$39<>\"Non-endemic\",COUNTRY_INFO!X133,\"Not required\")","v":0},{"$f":"IF(COUNTRY_INFO!H133=1, IF($E133=1,IF(ALB_MBD!$G133<>\" \",COUNTRY_INFO!F133+COUNTRY_INFO!G133-ALB_MBD!$G133,COUNTRY_INFO!F133+COUNTRY_INFO!G133), 0),0)","v":0},{"$f":"IF(INTRO!$E$39<>\"Endemic\",0, IF(AND(COUNTRY_INFO!$I133=1,$F133<>0),IF(COUNTRY_INFO!N133>=(COUNTRY_INFO!F133+COUNTRY_INFO!G133),COUNTRY_INFO!F133+COUNTRY_INFO!G133,COUNTRY_INFO!$N133), 0))","v":0},0,0,0,0,null,0]
[{"$f":"IF(INTRO!$E$39=\"Non-endemic\",\" \",IF(COUNTRY_INFO!A134=0,\" \",COUNTRY_INFO!A134))","v":"Tchad"},{"$f":"IF(INTRO!$E$39=\"Non-endemic\",\" \",IF(COUNTRY_INFO!B134=0,\" \",COUNTRY_INFO!B134))","v":"Wadi Fira"},{"$f":"IF(INTRO!$E$39=\"Non-endemic\",\" \",IF(COUNTRY_INFO!C134=0,\" \",COUNTRY_INFO!C134))","v":"amzoer"},{"$f":"IF(INTRO!$E$39=\"Non-endemic\",0,IF(INTRO!$E$39=\"Endemic but PC is not required\",IF(COUNTRY_INFO!$H134=1,COUNTRY_INFO!F134+COUNTRY_INFO!G134,0),IF(COUNTRY_INFO!$H134=1,COUNTRY_INFO!F134+COUNTRY_INFO!G134,IF(COUNTRY_INFO!$I134=1,IF(COUNTRY_INFO!N134>=(COUNTRY_INFO!F134+COUNTRY_INFO!G134),COUNTRY_INFO!F134+COUNTRY_INFO!G134,COUNTRY_INFO!$N134),0))))","v":0},{"$f":"IF(AND(INTRO!$E$39=\"Non-endemic\",INTRO!$E$37=\"Non-endemic\"),\"Not required\",IF(INTRO!$E$39=\"Non-endemic\",\"Treat with DEC\",COUNTRY_INFO!W134))","v":0},{"$f":"IF(INTRO!$E$39<>\"Non-endemic\",COUNTRY_INFO!X134,\"Not required\")","v":0},{"$f":"IF(COUNTRY_INFO!H134=1, IF($E134=1,IF(ALB_MBD!$G134<>\" \",COUNTRY_INFO!F134+COUNTRY_INFO!G134-ALB_MBD!$G134,COUNTRY_INFO!F134+COUNTRY_INFO!G134), 0),0)","v":0},{"$f":"IF(INTRO!$E$39<>\"Endemic\",0, IF(AND(COUNTRY_INFO!$I134=1,$F134<>0),IF(COUNTRY_INFO!N134>=(COUNTRY_INFO!F134+COUNTRY_INFO!G134),COUNTRY_INFO!F134+COUNTRY_INFO!G134,COUNTRY_INFO!$N134), 0))","v":0},0,0,0,0,null,0]
[{"$f":"IF(INTRO!$E$39=\"Non-endemic\",\" \",IF(COUNTRY_INFO!A135=0,\" \",COUNTRY_INFO!A135))","v":"Tchad"},{"$f":"IF(INTRO!$E$39=\"Non-endemic\",\" \",IF(COUNTRY_INFO!B135=0,\" \",COUNTRY_INFO!B135))","v":"Wadi Fira"},{"$f":"IF(INTRO!$E$39=\"Non-endemic\",\" \",IF(COUNTRY_INFO!C135=0,\" \",COUNTRY_INFO!C135))","v":"Arada"},{"$f":"IF(INTRO!$E$39=\"Non-endemic\",0,IF(INTRO!$E$39=\"Endemic but PC is not required\",IF(COUNTRY_INFO!$H135=1,COUNTRY_INFO!F135+COUNTRY_INFO!G135,0),IF(COUNTRY_INFO!$H135=1,COUNTRY_INFO!F135+COUNTRY_INFO!G135,IF(COUNTRY_INFO!$I135=1,IF(COUNTRY_INFO!N135>=(COUNTRY_INFO!F135+COUNTRY_INFO!G135),COUNTRY_INFO!F135+COUNTRY_INFO!G135,COUNTRY_INFO!$N135),0))))","v":0},{"$f":"IF(AND(INTRO!$E$39=\"Non-endemic\",INTRO!$E$37=\"Non-endemic\"),\"Not required\",IF(INTRO!$E$39=\"Non-endemic\",\"Treat with DEC\",COUNTRY_INFO!W135))","v":0},{"$f":"IF(INTRO!$E$39<>\"Non-endemic\",COUNTRY_INFO!X135,\"Not required\")","v":0},{"$f":"IF(COUNTRY_INFO!H135=1, IF($E135=1,IF(ALB_MBD!$G135<>\" \",COUNTRY_INFO!F135+COUNTRY_INFO!G135-ALB_MBD!$G135,COUNTRY_INFO!F135+COUNTRY_INFO!G135), 0),0)","v":0},{"$f":"IF(INTRO!$E$39<>\"Endemic\",0, IF(AND(COUNTRY_INFO!$I135=1,$F135<>0),IF(COUNTRY_INFO!N135>=(COUNTRY_INFO!F135+COUNTRY_INFO!G135),COUNTRY_INFO!F135+COUNTRY_INFO!G135,COUNTRY_INFO!$N135), 0))","v":0},0,0,0,0,null,0]
[{"$f":"IF(INTRO!$E$39=\"Non-endemic\",\" \",IF(COUNTRY_INFO!A136=0,\" \",COUNTRY_INFO!A136))","v":"Tchad"},{"$f":"IF(INTRO!$E$39=\"Non-endemic\",\" \",IF(COUNTRY_INFO!B136=0,\" \",COUNTRY_INFO!B136))","v":"Wadi Fira"},{"$f":"IF(INTRO!$E$39=\"Non-endemic\",\" \",IF(COUNTRY_INFO!C136=0,\" \",COUNTRY_INFO!C136))","v":"Biltine"},{"$f":"IF(INTRO!$E$39=\"Non-endemic\",0,IF(INTRO!$E$39=\"Endemic but PC is not required\",IF(COUNTRY_INFO!$H136=1,COUNTRY_INFO!F136+COUNTRY_INFO!G136,0),IF(COUNTRY_INFO!$H136=1,COUNTRY_INFO!F136+COUNTRY_INFO!G136,IF(COUNTRY_INFO!$I136=1,IF(COUNTRY_INFO!N136>=(COUNTRY_INFO!F136+COUNTRY_INFO!G136),COUNTRY_INFO!F136+COUNTRY_INFO!G136,COUNTRY_INFO!$N136),0))))","v":0},{"$f":"IF(AND(INTRO!$E$39=\"Non-endemic\",INTRO!$E$37=\"Non-endemic\"),\"Not required\",IF(INTRO!$E$39=\"Non-endemic\",\"Treat with DEC\",COUNTRY_INFO!W136))","v":0},{"$f":"IF(INTRO!$E$39<>\"Non-endemic\",COUNTRY_INFO!X136,\"Not required\")","v":0},{"$f":"IF(COUNTRY_INFO!H136=1, IF($E136=1,IF(ALB_MBD!$G136<>\" \",COUNTRY_INFO!F136+COUNTRY_INFO!G136-ALB_MBD!$G136,COUNTRY_INFO!F136+COUNTRY_INFO!G136), 0),0)","v":0},{"$f":"IF(INTRO!$E$39<>\"Endemic\",0, IF(AND(COUNTRY_INFO!$I136=1,$F136<>0),IF(COUNTRY_INFO!N136>=(COUNTRY_INFO!F136+COUNTRY_INFO!G136),COUNTRY_INFO!F136+COUNTRY_INFO!G136,COUNTRY_INFO!$N136), 0))","v":0},0,0,0,0,null,0]
[{"$f":"IF(INTRO!$E$39=\"Non-endemic\",\" \",IF(COUNTRY_INFO!A137=0,\" \",COUNTRY_INFO!A137))","v":"Tchad"},{"$f":"IF(INTRO!$E$39=\"Non-endemic\",\" \",IF(COUNTRY_INFO!B137=0,\" \",COUNTRY_INFO!B137))","v":"Wadi Fira"},{"$f":"IF(INTRO!$E$39=\"Non-endemic\",\" \",IF(COUNTRY_INFO!C137=0,\" \",COUNTRY_INFO!C137))","v":"Guéréda"},{"$f":"IF(INTRO!$E$39=\"Non-endemic\",0,IF(INTRO!$E$39=\"Endemic but PC is not required\",IF(COUNTRY_INFO!$H137=1,COUNTRY_INFO!F137+COUNTRY_INFO!G137,0),IF(COUNTRY_INFO!$H137=1,COUNTRY_INFO!F137+COUNTRY_INFO!G137,IF(COUNTRY_INFO!$I137=1,IF(COUNTRY_INFO!N137>=(COUNTRY_INFO!F137+COUNTRY_INFO!G137),COUNTRY_INFO!F137+COUNTRY_INFO!G137,COUNTRY_INFO!$N137),0))))","v":0},{"$f":"IF(AND(INTRO!$E$39=\"Non-endemic\",INTRO!$E$37=\"Non-endemic\"),\"Not required\",IF(INTRO!$E$39=\"Non-endemic\",\"Treat with DEC\",COUNTRY_INFO!W137))","v":0},{"$f":"IF(INTRO!$E$39<>\"Non-endemic\",COUNTRY_INFO!X137,\"Not required\")","v":0},{"$f":"IF(COUNTRY_INFO!H137=1, IF($E137=1,IF(ALB_MBD!$G137<>\" \",COUNTRY_INFO!F137+COUNTRY_INFO!G137-ALB_MBD!$G137,COUNTRY_INFO!F137+COUNTRY_INFO!G137), 0),0)","v":0},{"$f":"IF(INTRO!$E$39<>\"Endemic\",0, IF(AND(COUNTRY_INFO!$I137=1,$F137<>0),IF(COUNTRY_INFO!N137>=(COUNTRY_INFO!F137+COUNTRY_INFO!G137),COUNTRY_INFO!F137+COUNTRY_INFO!G137,COUNTRY_INFO!$N137), 0))","v":0},0,0,0,0,null,0]
[{"$f":"IF(INTRO!$E$39=\"Non-endemic\",\" \",IF(COUNTRY_INFO!A138=0,\" \",COUNTRY_INFO!A138))","v":"Tchad"},{"$f":"IF(INTRO!$E$39=\"Non-endemic\",\" \",IF(COUNTRY_INFO!B138=0,\" \",COUNTRY_INFO!B138))","v":"Wadi Fira"},{"$f":"IF(INTRO!$E$39=\"Non-endemic\",\" \",IF(COUNTRY_INFO!C138=0,\" \",COUNTRY_INFO!C138))","v":"Iriba"},{"$f":"IF(INTRO!$E$39=\"Non-endemic\",0,IF(INTRO!$E$39=\"Endemic but PC is not required\",IF(COUNTRY_INFO!$H138=1,COUNTRY_INFO!F138+COUNTRY_INFO!G138,0),IF(COUNTRY_INFO!$H138=1,COUNTRY_INFO!F138+COUNTRY_INFO!G138,IF(COUNTRY_INFO!$I138=1,IF(COUNTRY_INFO!N138>=(COUNTRY_INFO!F138+COUNTRY_INFO!G138),COUNTRY_INFO!F138+COUNTRY_INFO!G138,COUNTRY_INFO!$N138),0))))","v":0},{"$f":"IF(AND(INTRO!$E$39=\"Non-endemic\",INTRO!$E$37=\"Non-endemic\"),\"Not required\",IF(INTRO!$E$39=\"Non-endemic\",\"Treat with DEC\",COUNTRY_INFO!W138))","v":0},{"$f":"IF(INTRO!$E$39<>\"Non-endemic\",COUNTRY_INFO!X138,\"Not required\")","v":0},{"$f":"IF(COUNTRY_INFO!H138=1, IF($E138=1,IF(ALB_MBD!$G138<>\" \",COUNTRY_INFO!F138+COUNTRY_INFO!G138-ALB_MBD!$G138,COUNTRY_INFO!F138+COUNTRY_INFO!G138), 0),0)","v":0},{"$f":"IF(INTRO!$E$39<>\"Endemic\",0, IF(AND(COUNTRY_INFO!$I138=1,$F138<>0),IF(COUNTRY_INFO!N138>=(COUNTRY_INFO!F138+COUNTRY_INFO!G138),COUNTRY_INFO!F138+COUNTRY_INFO!G138,COUNTRY_INFO!$N138), 0))","v":0},0,0,0,0,null,0]
[{"$f":"IF(INTRO!$E$39=\"Non-endemic\",\" \",IF(COUNTRY_INFO!A139=0,\" \",COUNTRY_INFO!A139))","v":"Tchad"},{"$f":"IF(INTRO!$E$39=\"Non-endemic\",\" \",IF(COUNTRY_INFO!B139=0,\" \",COUNTRY_INFO!B139))","v":"Wadi Fira"},{"$f":"IF(INTRO!$E$39=\"Non-endemic\",\" \",IF(COUNTRY_INFO!C139=0,\" \",COUNTRY_INFO!C139))","v":"Matadjana"},{"$f":"IF(INTRO!$E$39=\"Non-endemic\",0,IF(INTRO!$E$39=\"Endemic but PC is not required\",IF(COUNTRY_INFO!$H139=1,COUNTRY_INFO!F139+COUNTRY_INFO!G139,0),IF(COUNTRY_INFO!$H139=1,COUNTRY_INFO!F139+COUNTRY_INFO!G139,IF(COUNTRY_INFO!$I139=1,IF(COUNTRY_INFO!N139>=(COUNTRY_INFO!F139+COUNTRY_INFO!G139),COUNTRY_INFO!F139+COUNTRY_INFO!G139,COUNTRY_INFO!$N139),0))))","v":0},{"$f":"IF(AND(INTRO!$E$39=\"Non-endemic\",INTRO!$E$37=\"Non-endemic\"),\"Not required\",IF(INTRO!$E$39=\"Non-endemic\",\"Treat with DEC\",COUNTRY_INFO!W139))","v":0},{"$f":"IF(INTRO!$E$39<>\"Non-endemic\",COUNTRY_INFO!X139,\"Not required\")","v":0},{"$f":"IF(COUNTRY_INFO!H139=1, IF($E139=1,IF(ALB_MBD!$G139<>\" \",COUNTRY_INFO!F139+COUNTRY_INFO!G139-ALB_MBD!$G139,COUNTRY_INFO!F139+COUNTRY_INFO!G139), 0),0)","v":0},{"$f":"IF(INTRO!$E$39<>\"Endemic\",0, IF(AND(COUNTRY_INFO!$I139=1,$F139<>0),IF(COUNTRY_INFO!N139>=(COUNTRY_INFO!F139+COUNTRY_INFO!G139),COUNTRY_INFO!F139+COUNTRY_INFO!G139,COUNTRY_INFO!$N139), 0))","v":0},{"$f":"IF(G139<H139,0,IF($E139=1, (G139-H139)*2.8, 0))","v":0},{"$f":"IF($E139<$F139, H139*(F139-E139)*2.8, 0)","v":0},{"$f":"IF(AND($E139=1, $F139<>0), H139*2.8, 0)","v":0},{"$f":"SUM(I139:K139)","v":0},null,0]

{"sheet":"SUMMARY","index":5,"n_rows":93,"n_cols":8,"rows_kept":93,"cut":false,"hidden":false,"merged":[[74,2,74,3],[74,4,74,5],[73,2,73,3],[73,4,73,5],[60,4,60,6],[61,4,61,6],[62,4,62,6],[72,2,72,3],[72,4,72,5],[25,1,27,1],[9,7,10,7],[32,2,35,4],[81,2,81,7],[83,3,83,7],[59,4,59,6],[50,1,50,7],[56,1,56,7],[51,1,51,7],[52,1,52,7],[80,1,80,7],[58,1,58,7],[78,1,78,7],[79,1,79,7],[66,1,66,7],[76,2,76,3],[9,1,10,1],[9,3,9,6],[9,2,10,2],[17,1,19,1],[21,1,23,1],[83,1,83,2],[0,1,0,7],[1,1,1,7],[2,1,2,5],[3,1,3,7],[4,1,4,7],[6,1,6,7],[5,2,5,5],[65,1,65,7],[54,1,54,7],[53,1,53,7],[36,1,36,7],[41,2,41,3],[41,4,41,5],[41,6,41,7],[55,1,55,7],[82,2,82,6],[63,4,63,6],[75,2,75,3],[97,1,97,7],[75,4,75,5],[70,4,70,5],[71,4,71,5],[70,2,70,3],[71,2,71,3],[92,1,92,7],[76,4,76,5],[87,1,87,7],[91,1,91,7],[86,1,86,7],[84,1,84,2],[84,3,84,7]]}
[]
[null,"Joint request for selected PC medicines v.4.2 (Loa)"]
[]
[null,"This form constitutes an official government request to WHO for the supply of the PC medicines. To ensure the medicines are delivered on time, the request for PC medicines should be submitted at least 9 months before the first date of MDA planned in the calendar year of the request. "]
[]
[null,"Country",{"$f":"IF(INTRO!$E$33<>0,INTRO!$E$33,\" \")","v":"Tchad"},null,null,null,"Year",{"$f":"IF(INTRO!$E$35<>0,INTRO!$E$35,\" \")","v":2024}]
[]
[null,"Information on PC medicines requested to WHO"]
[]
[null,"PC medicine","Target group","Number of tablets",null,null,null,"Specify \nsource"]
[null,null,null,"Required","In stock","In pipeline","Requested"]
[null,"Diethylcarbamazine citrate","ALL",null,null,null,{"$f":"IF(D12>(E12+F12),D12-E12-F12, 0)","v":0}]
[null,null,null,null,null,null,0]
[null,"Ivermectin","ALL",16094674.399999999,0,null,16094674.399999999]
[]
[null,"Albendazole for LF","ALL",2654318,3863349,null,0]
[null,null,null,null,null,null,0]
[null,"Albendazole for STH","PreSAC",null,null,null,0]
[null,null,"SAC",343696,343696,null,0]
[null,null,"WRA",263605,263605,null,0]
[]
[null,"Mebendazole","PreSAC",192350,192350,null,0]
[null,null,"SAC",null,null,null,0]
[null,null,"WRA",null,null,null,0]
[]
[null,"Praziquantel","PreSAC",0,null,null,0]
[null,null,"SAC",1247642,null,4572000,0]
[null,null,"Adults",3385926,null,null,{"$f":"IF(D28>(E28+F28),D28-E28-F28, 0)","v":3385926}]
[]
[null,"Number of people to be treated with donated medicine ( see User Guide for details )"]
[]
[null,"Disease",null,null,null,"Round 1","Round 2","Round 3"]
[null,"Lymphatic filariasis","These figures are estimated only \nfor targeted age groups to be treated \nwith donated medicines in areas \nwhere treatment for \na specific disease is planned",null,null,2654318,0]
[null,"Onchocerciasis",null,null,null,5181754,0]
[null,"Schistosomiasis",null,null,null,1752463,0]
[null,"Soil-transmitted helminthiases",null,null,null,844878,192350,0]
[]
[]
[]
[null,"Information on planned PC interventions"]
[]
[null,"PC medicine","Planned date of the \n1st round of PC",null,"Planned date of the \n2nd round of PC",null,"Date by which the medicine should arrive to the national warehouse"]
[null,"Diethylcarbamazine citrate"]
[null,"Ivermectin","November",2024,null,null,"June",2024]
[null,"Albendazole for LF","November",2024,null,null,"June",2024]
[null,"Albendazole for STH","November",2024,null,null,"June",2024]
[null,"Mebendazole","November",2024,null,null,"June",2024]
[null,"Praziquantel","November",2024,null,null,"June",2024]
[]
[null,"Checklist"]
[null,"Submission"]
[null,"What should be submitted?"]
[null,"The supply of the requested medicines should be based on up-to-date epidemiological data, specific usage plans, and capacity for implementation. The following checklist ensures that all necessary forms and information are provided to WHO (in electronic format). "]
[null,"Joint request for selected PC medicines"]
[null,"Joint reporting form"]
[null,"PC epidemiological data reporting form"]
[]
[null,"Availability of funding for implementation in the year for which the medicines are requested"]
[]
[null,"Diseases \ntargeted for implementation","Total treatments","Funding secured for","Source",null,null,"Amount"]
[null,{"$f":"B33","v":"Lymphatic filariasis"},{"$f":"SUM(F33:H33)","v":2654318},null,"ENFUND"]
[null,{"$f":"B34","v":"Onchocerciasis"},{"$f":"SUM(F34:H34)","v":5181754},null,"ENFUND"]
[null,{"$f":"B35","v":"Schistosomiasis"},{"$f":"SUM(F35:H35)","v":1752463},null,"SIGHTSAVERS"]
[null,{"$f":"B36","v":"Soil-transmitted helminthiases"},{"$f":"SUM(F36:H36)","v":1037228},null,"SIGHTSAVERS"]
[]
[null,"Who should fill in the form? "]
[null,"National NTD coordinator should compile all required information needed to complete the request form. In the absence of such a coordinator, specific programme managers should coordinate their respective part. The final single request must be approved by the Ministry of Health."]
[]
[null,"Information on person(s) who has filled in the form"]
[]
[null,"Title ","Name",null,"Phone",null,"Email","Date"]
[null,"NTD/PC Coordinator","Dr Hamit Chidi Djorkodei",null,23566212710,null,"chididj44@gmail.com"]
[null,"NTD/PC Coordinator Adj","Dr Dogo Yabana",null,23599819211,null,"yabanadogo@gmail.com"]
[null,"Data Manager","Bopabé Jonas",null,23566109428,null,"bopabejonas@yahoo.fr"]
[null,"Other","Dr Ibrahim DJEOMBORO",null,23565107325,null,"djeomboroi@who.int"]
[]
[]
[]
[null,"The WHO recommends that all serious adverse events suspected to be associated with use of PC medicines should be reported in accordance with national Pharmacovigilance guidelines. In the absence of a national Pharmacovigilance system, contact the WHO Neglected Tropical Disease department for guidance."]
[null,"The WHO is committed to facilitate PC medicines donation with a free-of-charge supply of a) albendazole, mebendazole and praziquantel to the MoH’s national warehouse; and b) diethylcarbamazine citrate to the entry port/airport of recipient countries."]
[null,"The institution submitting the present request is responsible for a) arranging the offloading of the medicines from the truck and storing it in the national warehouse and subsequent shipment to the final distribution centres; b) for registering the donated medicine, if required, by the relevant national regulatory authorities; and c) for informing about any changes of their PC campaigns (e.g. postpone of the planned MDA date, replacement of NTD coordinator, etc.)."]
[null,null,"I have read and accept WHO Data Sharing Policy"]
[null,null,"I confirm that all information provided in this form is complete and correct"]
[null,"Name and signature of NTD coordinator \nor Ministry of Health representative",null,"Dr Hamit Chidi Djorkodei"]
[null,"Date:",null,"2023-03-10"]
[]
[null,"Please complete information on shipment and consignee in the worksheet SHIPMENT. Any additional details related to this Request should be provided in the \"Additional information\" box in the worksheet SHIPMENT."]
[null,"Please send the national request (signed and in electronic format) to the concerned WR with copy to:"]
[null,"WHO headquarters","PC_JointForms@who.int"]
[null,"WHO Regional Office","Regional Advisor for NTD"]
[null,"Mectizan donation program","Dr Yao Sodahlon, email: ysodahlon@taskforce.org"]
[]
[null,"Please note that your request will be reviewed by an independent panel before approval. The information in this form, joint reporting form and PC epidemiological data reporting form are essential for WHO to ensure efficient usage of medicines. As part of its ongoing monitoring and evaluation activities, and to meet its contractual obligations to donors and other partners, WHO and its appointed agents reserve the right to periodically inspect stocks of the medicines at country level."]

{"sheet":"SHIPMENT","index":6,"n_rows":46,"n_cols":8,"rows_kept":46,"cut":false,"hidden":false,"merged":[[34,1,34,7],[36,1,36,7],[0,1,0,7],[1,1,1,7],[2,1,2,5],[17,5,17,7],[18,5,18,7],[19,2,19,4],[19,5,19,7],[21,2,21,4],[3,2,3,5],[4,1,4,7],[22,2,22,4],[22,5,22,7],[15,2,15,4],[20,5,20,7],[15,5,15,7],[20,2,20,4],[18,2,18,4],[16,2,16,4],[47,1,56,7],[45,1,45,7],[37,1,37,6],[38,1,38,5],[40,1,40,7],[41,1,41,6],[39,1,39,6],[42,1,42,6],[43,1,43,7],[25,2,25,4],[25,5,25,7],[24,1,24,7],[6,1,6,7],[7,2,7,4],[7,5,7,7],[8,2,8,4],[8,5,8,7],[9,2,9,4],[9,5,9,7],[10,2,10,4],[10,5,10,7],[11,2,11,4],[11,5,11,7],[12,2,12,4],[12,5,12,7],[13,2,13,4],[13,5,13,7],[14,2,14,4],[14,5,14,7],[23,2,23,4],[23,5,23,7],[21,5,21,7],[16,5,16,7],[17,2,17,4],[26,2,26,4],[26,5,26,7],[27,2,27,4],[27,5,27,7],[28,2,28,4],[28,5,28,7],[32,2,32,4],[32,5,32,7],[29,2,29,4],[29,5,29,7],[30,2,30,4],[30,5,30,7],[31,2,31,4],[31,5,31,7]]}
[]
[null,"Joint request for selected PC medicines v.4.2 (Loa)"]
[]
[null,"Country",{"$f":"IF(INTRO!$E$33<>0,INTRO!$E$33,\" \")","v":"Tchad"},null,null,null,"Year",{"$f":"IF(INTRO!$E$35<>0,INTRO!$E$35,\" \")","v":2024}]
[]
[null,"Information on shipment and consignee "]
[]
[null,"ALB for LF","Consignee",null,null,"Delivery point / Final recipient\nif different from the consignee"]
[null,"Name","Dr NDIHOKUBWAYO  Jean Bosco",null,null,"Dr Hamit Chidi Djorkodei"]
[null,"Department/Unit","N'Djamena",null,null,"Coordination ONCHO/FL"]
[null,"Organization","OMS",null,null,"Ministère de la Santé Publique"]
[null,"Phone",23562935108,null,null,23566212710]
[null,"Fax"]
[null,"E-mail","ndihokubwayoj@who.int",null,null,"chididj44@gmail.com"]
[null,"Mailing address",152]
[]
[null,"PZQ","Consignee",null,null,"Delivery point / Final recipient\nif different from the consignee"]
[null,"Name","Dr NDIHOKUBWAYO  Jean Bosco",null,null,"Dr Hamit Chidi Djorkodei"]
[null,"Department/Unit","N'Djamena",null,null,"Coordination ONCHO/FL"]
[null,"Organization","OMS",null,null,"Ministère de la Santé Publique"]
[null,"Phone",23562935108,null,null,23566212710]
[null,"Fax"]
[null,"E-mail","ndihokubwayoj@who.int",null,null,"chididj44@gmail.com"]
[null,"Mailing address",152]
[]
[null,"IVM","Consignee",null,null,"Delivery point / Final recipient\nif different from the consignee"]
[null,"Name","Dr NDIHOKUBWAYO  Jean Bosco",null,null,"Dr Hamit Chidi Djorkodei"]
[null,"Department/Unit","N'Djamena",null,null,"Coordination ONCHO/FL"]
[null,"Organization","OMS",null,null,"Ministère de la Santé Publique"]
[null,"Phone",23562935108,null,null,23566212710]
[null,"Fax"]
[null,"E-mail","ndihokubwayoj@who.int",null,null,"chididj44@gmail.com"]
[null,"Mailing address",152]
[]
[]
[null,"Information on import requirements"]
[]
[null,"Is the Import Permit required?",null,null,null,null,null,"Yes"]
[null,"How long does it take to obtain the Import Permit?",null,null,null,null,null,"Days"]
[null,"Do you require any documents to be submitted together with the Import Permit application?",null,null,null,null,null,"No"]
[]
[null,"Does the consignee have to get customs clearance before the shipment can proceed?",null,null,null,null,null,"No"]
[null,"Is there any additional information may be helpful in ensuring timely clearance and delivery of medicines to your country? ",null,null,null,null,null,"No"]
[]
[]
[null,"Additional information"]

{"sheet":"DATA_POLICY","index":7,"n_rows":39,"n_cols":8,"rows_kept":39,"cut":false,"hidden":true,"merged":[[55,1,55,2],[0,1,0,5],[1,1,1,7],[3,3,3,5],[6,1,6,7],[8,1,12,7],[13,1,16,7],[17,1,21,7],[22,1,25,7],[26,2,36,7],[38,1,45,7]]}
[]
[null,"Joint request for selected PC medicines v.4.2 (Loa)"]
[]
[null,"Country",null,{"$f":"IF(INTRO!$E$33<>0,INTRO!$E$33,\" \")","v":"Tchad"},null,null,"Year",{"$f":"IF(INTRO!$E$35<>0,INTRO!$E$35,\" \")","v":2024}]
[]
[]
[null,"WHO Data Sharing Policy statement"]
[]
[null,"Data are the basis for all sound public health actions and the benefits of data sharing are widely recognized, including scientific and public health benefits. Whenever possible, WHO wishes to promote the sharing of health data, including but not restricted to surveillance and epidemiological data.  "]
[]
[]
[]
[]
[null,{"$f":"\"In this connection, and without prejudice to information sharing and publication pursuant to legally binding instruments, by providing data to WHO, the Ministry of Health of \" & D4 & \":\"","v":"In this connection, and without prejudice to information sharing and publication pursuant to legally binding instruments, by providing data to WHO, the Ministry of Health of Tchad:"}]
[]
[]
[]
[null,"Confirms that all data to be supplied to WHO hereunder have been collected in accordance with applicable national laws, including data protection laws aimed at protecting the confidentiality of identifiable persons;"]
[]
[]
[]
[]
[null,{"$f":"\"Agrees that WHO shall be entitled, subject always to measures to ensure the ethical and secure use of the data, and subject always to an appropriate acknowledgement of \"&D4&\":\"","v":"Agrees that WHO shall be entitled, subject always to measures to ensure the ethical and secure use of the data, and subject always to an appropriate acknowledgement of Tchad:"}]
[]
[]
[]
[null,null,"to publish the data, stripped of any personal identifiers and make the Data available to any interested party on request (to the extent they have not, or not yet, been published by WHO) on terms that allow non-commercial, not-for-profit use of the Data for public health purposes (provided always that publication of the Data shall remain under the control of WHO); \nto use, compile, aggregate, evaluate and analyse the Data and publish and disseminate the results thereof in conjunction with WHO’s work and in accordance with the Organization’s policies and practices."]
[]
[]
[]
[]
[]
[]
[]
[]
[]
[]
[]
[null,{"$f":"CONCATENATE(\"Except where data sharing and publication is required under legally binding instruments (IHR, WHO Nomenclature Regulations 1967, etc.), the Ministry of Health of \", D4,\" may in respect of certain data opt out of (any part of) the above,\" & \" by notifying WHO thereof in writing at the following address, provided that any such notification shall clearly identify the data in question and clearly indicate the scope of the opt-out (in reference to the  above), \" & \"and provided that specific reasons shall be given for the opt out.\")","v":"Except where data sharing and publication is required under legally binding instruments (IHR, WHO Nomenclature Regulations 1967, etc.), the Ministry of Health of Tchad may in respect of certain data opt out of (any part of) the above, by notifying WHO thereof in writing at the following address, provided that any such notification shall clearly identify the data in question and clearly indicate the scope of the opt-out (in reference to the  above), and provided that specific reasons shall be given for the opt out."}]